{"text_format":"1","workbook":"xlsx","n_sheets":4,"sheets":["APPEL ","TIU","TNN","Validation de données"],"not_rendered":{"charts":0,"images":0,"macros":0,"external_links":0,"defined_names":0,"comments":0,"pivot_tables":0},"unopened":[],"bounds":{"document_bytes":16777216,"sheet_cells":100000,"rows_first":2000,"rows_last":500,"rows_between":2000,"halvings":0,"cell_chars":16384,"cell_head_chars":4096},"cells_cut":0,"cells_raw":0,"read":"whole","date_system":"1900"}

{"sheet":"APPEL ","index":0,"n_rows":1656,"n_cols":65,"rows_kept":1125,"cut":true,"hidden":false,"merged":[],"bounds":{"rows_first":500,"rows_last":125,"rows_between":500,"halvings":2}}
["année","N°","date de l'appel","SF","DOSSIER ASSOCIE","HEURE D'APPEL","nom du transféré","prénom du transféré","date de naissance","MOTIF","NOM CONJOINT SI TIU","NOM MERE SI TNN","NOM PÈRE SI TNN","DEMANDEUR CODE IGN","niveau demandeur","Si demendeur hors RA ou INTERNATIONAL, nom en clair","RECEVEUR CODE IGN","niveau receveur","Si receveur      hors RA ou INTERNATIONAL, nom en clair","Si TNN recev. III : type d'unité où se fait l'admission","NOM APPELANT","Qualité","y a-t-il un MDC sur place ?","si non pourquoi ?\n (en clair)","Semaine","Jour ","Age gestationnel corrigé ","poids du NN (stratification)\n mettre NAP en cas de TIU","SINGLETON GEMELLAIRE OU TRIPLE ","type de gémellaire ou de triplette","Type de suivi :\ngénér, SF, gynec ville, gynec hop… \n","APPEL REG SAMU","APPEL\n O.DUPUIS","APPEL MDC RESEAU ou spe reseau","conf tel demandeur/ samu","si NON cause ","conf tel demandeur / receveur","si NON cause ","Conférence tél.","T réalisé ?","si T non réalisé à remplir","cause de non réalisation en clair","CRTP contactée après place trouvée ?","NOM HOP SOLLICTE SANS SUCCES / préciser SERV PATHO G ou REA NN","nbr hop sollicités sans succès","horaire auquel Cellule a trouvé place ?","temps entre appel CRTP et place trouvée","stratif délai H appel /H place trouvée","horaire contac vecteur","type vect. théor. souhaitable selon procédure Cellule si transf réalisé","nom vect. qui effectue le transp.","n° 1er SAMU sollicité","n° 2ème SAMU sollicité","n° SAMU qui fait le transport","mode de transport air/ terre","EVA si T réalisé type","CAUSE EXTRA RESEAU","EVA réseau demandeur","EVA réseau receveur","EVA vecteur","Délai appel CRTPR / arrivée en hh:mm","H arrivée du transféré chez receveur","stratif délai \nH appel Cellule / H arrivée du transféré","motif du délai si délai > 3 heures","COMMENTAIRES pour tout cas particulier, procédures hors cellus, explications sur apparents contradictions, item non prévus, etc."]
[18,null,null,null,null,null,null,null,null,null,null,null,null,null,null,null,null,null,null,null,null,null,null,null,null,null,{"$f":"Y2+(Z2/7)","v":0},null,null,null,null,null,null,null,null,null,null,null,null,null,null,null,null,null,null,null,"",null,null,null,null,null,null,null,null,null,null,null,null,null,""]
[18,null,null,null,null,null,null,null,null,null,null,null,null,null,null,null,null,null,null,null,null,null,null,null,null,null,{"$f":"Y3+(Z3/7)","v":0},null,null,null,null,null,null,null,null,null,null,null,null,null,null,null,null,null,null,null,"",null,null,null,null,null,null,null,null,null,null,null,null,null,""]
[18,null,null,null,null,null,null,null,null,null,null,null,null,null,null,null,null,null,null,null,null,null,null,null,null,null,0,null,null,null,null,null,null,null,null,null,null,null,null,null,null,null,null,null,null,null,"",null,null,null,null,null,null,null,null,null,null,null,null,null,""]
[18,null,null,null,null,null,null,null,null,null,null,null,null,null,null,null,null,null,null,null,null,null,null,null,null,null,0,null,null,null,null,null,null,null,null,null,null,null,null,null,null,null,null,null,null,null,"",null,null,null,null,null,null,null,null,null,null,null,null,null,""]
[18,null,null,null,null,null,null,null,null,null,null,null,null,null,null,null,null,null,null,null,null,null,null,null,null,null,0,null,null,null,null,null,null,null,null,null,null,null,null,null,null,null,null,null,null,null,"",null,null,null,null,null,null,null,null,null,null,null,null,null,""]
[18,null,null,null,null,null,null,null,null,null,null,null,null,null,null,null,null,null,null,null,null,null,null,null,null,null,0,null,null,null,null,null,null,null,null,null,null,null,null,null,null,null,null,null,null,null,"",null,null,null,null,null,null,null,null,null,null,null,null,null,""]
[18,null,null,null,null,null,null,null,null,null,null,null,null,null,null,null,null,null,null,null,null,null,null,null,null,null,0,null,null,null,null,null,null,null,null,null,null,null,null,null,null,null,null,null,null,null,"",null,null,null,null,null,null,null,null,null,null,null,null,null,""]
[18,null,null,null,null,null,null,null,null,null,null,null,null,null,null,null,null,null,null,null,null,null,null,null,null,null,0,null,null,null,null,null,null,null,null,null,null,null,null,null,null,null,null,null,null,null,"",null,null,null,null,null,null,null,null,null,null,null,null,null,""]
[18,null,null,null,null,null,null,null,null,null,null,null,null,null,null,null,null,null,null,null,null,null,null,null,null,null,0,null,null,null,null,null,null,null,null,null,null,null,null,null,null,null,null,null,null,null,"",null,null,null,null,null,null,null,null,null,null,null,null,null,""]
[18,null,null,null,null,null,null,null,null,null,null,null,null,null,null,null,null,null,null,null,null,null,null,null,null,null,0,null,null,null,null,null,null,null,null,null,null,null,null,null,null,null,null,null,null,null,"",null,null,null,null,null,null,null,null,null,null,null,null,null,""]
[18,null,null,null,null,null,null,null,null,null,null,null,null,null,null,null,null,null,null,null,null,null,null,null,null,null,0,null,null,null,null,null,null,null,null,null,null,null,null,null,null,null,null,null,null,null,"",null,null,null,null,null,null,null,null,null,null,null,null,null,""]
[18,null,null,null,null,null,null,null,null,null,null,null,null,null,null,null,null,null,null,null,null,null,null,null,null,null,0,null,null,null,null,null,null,null,null,null,null,null,null,null,null,null,null,null,null,null,"",null,null,null,null,null,null,null,null,null,null,null,null,null,""]
[18,null,null,null,null,null,null,null,null,null,null,null,null,null,null,null,null,null,null,null,null,null,null,null,null,null,0,null,null,null,null,null,null,null,null,null,null,null,null,null,null,null,null,null,null,null,"",null,null,null,null,null,null,null,null,null,null,null,null,null,""]
[18,null,null,null,null,null,null,null,null,null,null,null,null,null,null,null,null,null,null,null,null,null,null,null,null,null,0,null,null,null,null,null,null,null,null,null,null,null,null,null,null,null,null,null,null,null,"",null,null,null,null,null,null,null,null,null,null,null,null,null,""]
[18,null,null,null,null,null,null,null,null,null,null,null,null,null,null,null,null,null,null,null,null,null,null,null,null,null,0,null,null,null,null,null,null,null,null,null,null,null,null,null,null,null,null,null,null,null,"",null,null,null,null,null,null,null,null,null,null,null,null,null,""]
[18,null,null,null,null,null,null,null,null,null,null,null,null,null,null,null,null,null,null,null,null,null,null,null,null,null,0,null,null,null,null,null,null,null,null,null,null,null,null,null,null,null,null,null,null,null,"",null,null,null,null,null,null,null,null,null,null,null,null,null,""]
[18,null,null,null,null,null,null,null,null,null,null,null,null,null,null,null,null,null,null,null,null,null,null,null,null,null,0,null,null,null,null,null,null,null,null,null,null,null,null,null,null,null,null,null,null,null,"",null,null,null,null,null,null,null,null,null,null,null,null,null,""]
[18,null,null,null,null,null,null,null,null,null,null,null,null,null,null,null,null,null,null,null,null,null,null,null,null,null,0,null,null,null,null,null,null,null,null,null,null,null,null,null,null,null,null,null,null,null,"",null,null,null,null,null,null,null,null,null,null,null,null,null,""]
[18,null,null,null,null,null,null,null,null,null,null,null,null,null,null,null,null,null,null,null,null,null,null,null,null,null,0,null,null,null,null,null,null,null,null,null,null,null,null,null,null,null,null,null,null,null,"",null,null,null,null,null,null,null,null,null,null,null,null,null,""]
[18,null,null,null,null,null,null,null,null,null,null,null,null,null,null,null,null,null,null,null,null,null,null,null,null,null,0,null,null,null,null,null,null,null,null,null,null,null,null,null,null,null,null,null,null,null,"",null,null,null,null,null,null,null,null,null,null,null,null,null,""]
[18,null,null,null,null,null,null,null,null,null,null,null,null,null,null,null,null,null,null,null,null,null,null,null,null,null,0,null,null,null,null,null,null,null,null,null,null,null,null,null,null,null,null,null,null,null,"",null,null,null,null,null,null,null,null,null,null,null,null,null,""]
[18,null,null,null,null,null,null,null,null,null,null,null,null,null,null,null,null,null,null,null,null,null,null,null,null,null,0,null,null,null,null,null,null,null,null,null,null,null,null,null,null,null,null,null,null,null,"",null,null,null,null,null,null,null,null,null,null,null,null,null,""]
[18,null,null,null,null,null,null,null,null,null,null,null,null,null,null,null,null,null,null,null,null,null,null,null,null,null,0,null,null,null,null,null,null,null,null,null,null,null,null,null,null,null,null,null,null,null,"",null,null,null,null,null,null,null,null,null,null,null,null,null,""]
[18,null,null,null,null,null,null,null,null,null,null,null,null,null,null,null,null,null,null,null,null,null,null,null,null,null,0,null,null,null,null,null,null,null,null,null,null,null,null,null,null,null,null,null,null,null,"",null,null,null,null,null,null,null,null,null,null,null,null,null,""]
[18,null,null,null,null,null,null,null,null,null,null,null,null,null,null,null,null,null,null,null,null,null,null,null,null,null,0,null,null,null,null,null,null,null,null,null,null,null,null,null,null,null,null,null,null,null,"",null,null,null,null,null,null,null,null,null,null,null,null,null,""]
[18,null,null,null,null,null,null,null,null,null,null,null,null,null,null,null,null,null,null,null,null,null,null,null,null,null,0,null,null,null,null,null,null,null,null,null,null,null,null,null,null,null,null,null,null,null,"",null,null,null,null,null,null,null,null,null,null,null,null,null,""]
[18,null,null,null,null,null,null,null,null,null,null,null,null,null,null,null,null,null,null,null,null,null,null,null,null,null,0,null,null,null,null,null,null,null,null,null,null,null,null,null,null,null,null,null,null,null,"",null,null,null,null,null,null,null,null,null,null,null,null,null,""]
[18,null,null,null,null,null,null,null,null,null,null,null,null,null,null,null,null,null,null,null,null,null,null,null,null,null,0,null,null,null,null,null,null,null,null,null,null,null,null,null,null,null,null,null,null,null,"",null,null,null,null,null,null,null,null,null,null,null,null,null,""]
[18,null,null,null,null,null,null,null,null,null,null,null,null,null,null,null,null,null,null,null,null,null,null,null,null,null,0,null,null,null,null,null,null,null,null,null,null,null,null,null,null,null,null,null,null,null,"",null,null,null,null,null,null,null,null,null,null,null,null,null,""]
[18,null,null,null,null,null,null,null,null,null,null,null,null,null,null,null,null,null,null,null,null,null,null,null,null,null,0,null,null,null,null,null,null,null,null,null,null,null,null,null,null,null,null,null,null,null,"",null,null,null,null,null,null,null,null,null,null,null,null,null,""]
[18,null,null,null,null,null,null,null,null,null,null,null,null,null,null,null,null,null,null,null,null,null,null,null,null,null,0,null,null,null,null,null,null,null,null,null,null,null,null,null,null,null,null,null,null,null,"",null,null,null,null,null,null,null,null,null,null,null,null,null,""]
[18,null,null,null,null,null,null,null,null,null,null,null,null,null,null,null,null,null,null,null,null,null,null,null,null,null,0,null,null,null,null,null,null,null,null,null,null,null,null,null,null,null,null,null,null,null,"",null,null,null,null,null,null,null,null,null,null,null,null,null,""]
[18,null,null,null,null,null,null,null,null,null,null,null,null,null,null,null,null,null,null,null,null,null,null,null,null,null,0,null,null,null,null,null,null,null,null,null,null,null,null,null,null,null,null,null,null,null,"",null,null,null,null,null,null,null,null,null,null,null,null,null,""]
[18,null,null,null,null,null,null,null,null,null,null,null,null,null,null,null,null,null,null,null,null,null,null,null,null,null,0,null,null,null,null,null,null,null,null,null,null,null,null,null,null,null,null,null,null,null,"",null,null,null,null,null,null,null,null,null,null,null,null,null,""]
[18,null,null,null,null,null,null,null,null,null,null,null,null,null,null,null,null,null,null,null,null,null,null,null,null,null,0,null,null,null,null,null,null,null,null,null,null,null,null,null,null,null,null,null,null,null,"",null,null,null,null,null,null,null,null,null,null,null,null,null,""]
[18,null,null,null,null,null,null,null,null,null,null,null,null,null,null,null,null,null,null,null,null,null,null,null,null,null,0,null,null,null,null,null,null,null,null,null,null,null,null,null,null,null,null,null,null,null,"",null,null,null,null,null,null,null,null,null,null,null,null,null,""]
[18,null,null,null,null,null,null,null,null,null,null,null,null,null,null,null,null,null,null,null,null,null,null,null,null,null,0,null,null,null,null,null,null,null,null,null,null,null,null,null,null,null,null,null,null,null,"",null,null,null,null,null,null,null,null,null,null,null,null,null,""]
[18,null,null,null,null,null,null,null,null,null,null,null,null,null,null,null,null,null,null,null,null,null,null,null,null,null,0,null,null,null,null,null,null,null,null,null,null,null,null,null,null,null,null,null,null,null,"",null,null,null,null,null,null,null,null,null,null,null,null,null,""]
[18,null,null,null,null,null,null,null,null,null,null,null,null,null,null,null,null,null,null,null,null,null,null,null,null,null,0,null,null,null,null,null,null,null,null,null,null,null,null,null,null,null,null,null,null,null,"",null,null,null,null,null,null,null,null,null,null,null,null,null,""]
[18,null,null,null,null,null,null,null,null,null,null,null,null,null,null,null,null,null,null,null,null,null,null,null,null,null,0,null,null,null,null,null,null,null,null,null,null,null,null,null,null,null,null,null,null,null,"",null,null,null,null,null,null,null,null,null,null,null,null,null,""]
[18,null,null,null,null,null,null,null,null,null,null,null,null,null,null,null,null,null,null,null,null,null,null,null,null,null,0,null,null,null,null,null,null,null,null,null,null,null,null,null,null,null,null,null,null,null,"",null,null,null,null,null,null,null,null,null,null,null,null,null,""]
[18,null,null,null,null,null,null,null,null,null,null,null,null,null,null,null,null,null,null,null,null,null,null,null,null,null,0,null,null,null,null,null,null,null,null,null,null,null,null,null,null,null,null,null,null,null,"",null,null,null,null,null,null,null,null,null,null,null,null,null,""]
[18,null,null,null,null,null,null,null,null,null,null,null,null,null,null,null,null,null,null,null,null,null,null,null,null,null,0,null,null,null,null,null,null,null,null,null,null,null,null,null,null,null,null,null,null,null,"",null,null,null,null,null,null,null,null,null,null,null,null,null,""]
[18,null,null,null,null,null,null,null,null,null,null,null,null,null,null,null,null,null,null,null,null,null,null,null,null,null,0,null,null,null,null,null,null,null,null,null,null,null,null,null,null,null,null,null,null,null,"",null,null,null,null,null,null,null,null,null,null,null,null,null,""]
[18,null,null,null,null,null,null,null,null,null,null,null,null,null,null,null,null,null,null,null,null,null,null,null,null,null,0,null,null,null,null,null,null,null,null,null,null,null,null,null,null,null,null,null,null,null,"",null,null,null,null,null,null,null,null,null,null,null,null,null,""]
[18,null,null,null,null,null,null,null,null,null,null,null,null,null,null,null,null,null,null,null,null,null,null,null,null,null,0,null,null,null,null,null,null,null,null,null,null,null,null,null,null,null,null,null,null,null,"",null,null,null,null,null,null,null,null,null,null,null,null,null,""]
[18,null,null,null,null,null,null,null,null,null,null,null,null,null,null,null,null,null,null,null,null,null,null,null,null,null,0,null,null,null,null,null,null,null,null,null,null,null,null,null,null,null,null,null,null,null,"",null,null,null,null,null,null,null,null,null,null,null,null,null,""]
[18,null,null,null,null,null,null,null,null,null,null,null,null,null,null,null,null,null,null,null,null,null,null,null,null,null,0,null,null,null,null,null,null,null,null,null,null,null,null,null,null,null,null,null,null,null,"",null,null,null,null,null,null,null,null,null,null,null,null,null,""]
[18,null,null,null,null,null,null,null,null,null,null,null,null,null,null,null,null,null,null,null,null,null,null,null,null,null,0,null,null,null,null,null,null,null,null,null,null,null,null,null,null,null,null,null,null,null,"",null,null,null,null,null,null,null,null,null,null,null,null,null,""]
[18,null,null,null,null,null,null,null,null,null,null,null,null,null,null,null,null,null,null,null,null,null,null,null,null,null,0,null,null,null,null,null,null,null,null,null,null,null,null,null,null,null,null,null,null,null,"",null,null,null,null,null,null,null,null,null,null,null,null,null,""]
[18,null,null,null,null,null,null,null,null,null,null,null,null,null,null,null,null,null,null,null,null,null,null,null,null,null,0,null,null,null,null,null,null,null,null,null,null,null,null,null,null,null,null,null,null,null,"",null,null,null,null,null,null,null,null,null,null,null,null,null,""]
[18,null,null,null,null,null,null,null,null,null,null,null,null,null,null,null,null,null,null,null,null,null,null,null,null,null,0,null,null,null,null,null,null,null,null,null,null,null,null,null,null,null,null,null,null,null,"",null,null,null,null,null,null,null,null,null,null,null,null,null,""]
[18,null,null,null,null,null,null,null,null,null,null,null,null,null,null,null,null,null,null,null,null,null,null,null,null,null,0,null,null,null,null,null,null,null,null,null,null,null,null,null,null,null,null,null,null,null,"",null,null,null,null,null,null,null,null,null,null,null,null,null,""]
[18,null,null,null,null,null,null,null,null,null,null,null,null,null,null,null,null,null,null,null,null,null,null,null,null,null,0,null,null,null,null,null,null,null,null,null,null,null,null,null,null,null,null,null,null,null,"",null,null,null,null,null,null,null,null,null,null,null,null,null,""]
[18,null,null,null,null,null,null,null,null,null,null,null,null,null,null,null,null,null,null,null,null,null,null,null,null,null,0,null,null,null,null,null,null,null,null,null,null,null,null,null,null,null,null,null,null,null,"",null,null,null,null,null,null,null,null,null,null,null,null,null,""]
[18,null,null,null,null,null,null,null,null,null,null,null,null,null,null,null,null,null,null,null,null,null,null,null,null,null,0,null,null,null,null,null,null,null,null,null,null,null,null,null,null,null,null,null,null,null,"",null,null,null,null,null,null,null,null,null,null,null,null,null,""]
[18,null,null,null,null,null,null,null,null,null,null,null,null,null,null,null,null,null,null,null,null,null,null,null,null,null,0,null,null,null,null,null,null,null,null,null,null,null,null,null,null,null,null,null,null,null,"",null,null,null,null,null,null,null,null,null,null,null,null,null,""]
[18,null,null,null,null,null,null,null,null,null,null,null,null,null,null,null,null,null,null,null,null,null,null,null,null,null,0,null,null,null,null,null,null,null,null,null,null,null,null,null,null,null,null,null,null,null,"",null,null,null,null,null,null,null,null,null,null,null,null,null,""]
[18,null,null,null,null,null,null,null,null,null,null,null,null,null,null,null,null,null,null,null,null,null,null,null,null,null,0,null,null,null,null,null,null,null,null,null,null,null,null,null,null,null,null,null,null,null,"",null,null,null,null,null,null,null,null,null,null,null,null,null,""]
[18,null,null,null,null,null,null,null,null,null,null,null,null,null,null,null,null,null,null,null,null,null,null,null,null,null,0,null,null,null,null,null,null,null,null,null,null,null,null,null,null,null,null,null,null,null,"",null,null,null,null,null,null,null,null,null,null,null,null,null,""]
[18,null,null,null,null,null,null,null,null,null,null,null,null,null,null,null,null,null,null,null,null,null,null,null,null,null,0,null,null,null,null,null,null,null,null,null,null,null,null,null,null,null,null,null,null,null,"",null,null,null,null,null,null,null,null,null,null,null,null,null,""]
[18,null,null,null,null,null,null,null,null,null,null,null,null,null,null,null,null,null,null,null,null,null,null,null,null,null,0,null,null,null,null,null,null,null,null,null,null,null,null,null,null,null,null,null,null,null,"",null,null,null,null,null,null,null,null,null,null,null,null,null,""]
[18,null,null,null,null,null,null,null,null,null,null,null,null,null,null,null,null,null,null,null,null,null,null,null,null,null,0,null,null,null,null,null,null,null,null,null,null,null,null,null,null,null,null,null,null,null,"",null,null,null,null,null,null,null,null,null,null,null,null,null,""]
[18,null,null,null,null,null,null,null,null,null,null,null,null,null,null,null,null,null,null,null,null,null,null,null,null,null,0,null,null,null,null,null,null,null,null,null,null,null,null,null,null,null,null,null,null,null,"",null,null,null,null,null,null,null,null,null,null,null,null,null,""]
[18,null,null,null,null,null,null,null,null,null,null,null,null,null,null,null,null,null,null,null,null,null,null,null,null,null,0,null,null,null,null,null,null,null,null,null,null,null,null,null,null,null,null,null,null,null,"",null,null,null,null,null,null,null,null,null,null,null,null,null,""]
[18,null,null,null,null,null,null,null,null,null,null,null,null,null,null,null,null,null,null,null,null,null,null,null,null,null,{"$f":"Y67+(Z67/7)","v":0},null,null,null,null,null,null,null,null,null,null,null,null,null,null,null,null,null,null,null,"",null,null,null,null,null,null,null,null,null,null,null,null,null,""]
[18,null,null,null,null,null,null,null,null,null,null,null,null,null,null,null,null,null,null,null,null,null,null,null,null,null,0,null,null,null,null,null,null,null,null,null,null,null,null,null,null,null,null,null,null,null,"",null,null,null,null,null,null,null,null,null,null,null,null,null,""]
[18,null,null,null,null,null,null,null,null,null,null,null,null,null,null,null,null,null,null,null,null,null,null,null,null,null,0,null,null,null,null,null,null,null,null,null,null,null,null,null,null,null,null,null,null,null,"",null,null,null,null,null,null,null,null,null,null,null,null,null,""]
[18,null,null,null,null,null,null,null,null,null,null,null,null,null,null,null,null,null,null,null,null,null,null,null,null,null,0,null,null,null,null,null,null,null,null,null,null,null,null,null,null,null,null,null,null,null,"",null,null,null,null,null,null,null,null,null,null,null,null,null,""]
[18,null,null,null,null,null,null,null,null,null,null,null,null,null,null,null,null,null,null,null,null,null,null,null,null,null,0,null,null,null,null,null,null,null,null,null,null,null,null,null,null,null,null,null,null,null,"",null,null,null,null,null,null,null,null,null,null,null,null,null,""]
[18,null,null,null,null,null,null,null,null,null,null,null,null,null,null,null,null,null,null,null,null,null,null,null,null,null,0,null,null,null,null,null,null,null,null,null,null,null,null,null,null,null,null,null,null,null,"",null,null,null,null,null,null,null,null,null,null,null,null,null,""]
[18,null,null,null,null,null,null,null,null,null,null,null,null,null,null,null,null,null,null,null,null,null,null,null,null,null,0,null,null,null,null,null,null,null,null,null,null,null,null,null,null,null,null,null,null,null,"",null,null,null,null,null,null,null,null,null,null,null,null,null,""]
[18,null,null,null,null,null,null,null,null,null,null,null,null,null,null,null,null,null,null,null,null,null,null,null,null,null,0,null,null,null,null,null,null,null,null,null,null,null,null,null,null,null,null,null,null,null,"",null,null,null,null,null,null,null,null,null,null,null,null,null,""]
[18,null,null,null,null,null,null,null,null,null,null,null,null,null,null,null,null,null,null,null,null,null,null,null,null,null,0,null,null,null,null,null,null,null,null,null,null,null,null,null,null,null,null,null,null,null,"",null,null,null,null,null,null,null,null,null,null,null,null,null,""]
[18,null,null,null,null,null,null,null,null,null,null,null,null,null,null,null,null,null,null,null,null,null,null,null,null,null,0,null,null,null,null,null,null,null,null,null,null,null,null,null,null,null,null,null,null,null,"",null,null,null,null,null,null,null,null,null,null,null,null,null,""]
[18,null,null,null,null,null,null,null,null,null,null,null,null,null,null,null,null,null,null,null,null,null,null,null,null,null,0,null,null,null,null,null,null,null,null,null,null,null,null,null,null,null,null,null,null,null,"",null,null,null,null,null,null,null,null,null,null,null,null,null,""]
[18,null,null,null,null,null,null,null,null,null,null,null,null,null,null,null,null,null,null,null,null,null,null,null,null,null,0,null,null,null,null,null,null,null,null,null,null,null,null,null,null,null,null,null,null,null,"",null,null,null,null,null,null,null,null,null,null,null,null,null,""]
[18,null,null,null,null,null,null,null,null,null,null,null,null,null,null,null,null,null,null,null,null,null,null,null,null,null,0,null,null,null,null,null,null,null,null,null,null,null,null,null,null,null,null,null,null,null,"",null,null,null,null,null,null,null,null,null,null,null,null,null,""]
[18,null,null,null,null,null,null,null,null,null,null,null,null,null,null,null,null,null,null,null,null,null,null,null,null,null,0,null,null,null,null,null,null,null,null,null,null,null,null,null,null,null,null,null,null,null,"",null,null,null,null,null,null,null,null,null,null,null,null,null,""]
[18,null,null,null,null,null,null,null,null,null,null,null,null,null,null,null,null,null,null,null,null,null,null,null,null,null,0,null,null,null,null,null,null,null,null,null,null,null,null,null,null,null,null,null,null,null,"",null,null,null,null,null,null,null,null,null,null,null,null,null,""]
[18,null,null,null,null,null,null,null,null,null,null,null,null,null,null,null,null,null,null,null,null,null,null,null,null,null,0,null,null,null,null,null,null,null,null,null,null,null,null,null,null,null,null,null,null,null,"",null,null,null,null,null,null,null,null,null,null,null,null,null,""]
[18,null,null,null,null,null,null,null,null,null,null,null,null,null,null,null,null,null,null,null,null,null,null,null,null,null,0,null,null,null,null,null,null,null,null,null,null,null,null,null,null,null,null,null,null,null,"",null,null,null,null,null,null,null,null,null,null,null,null,null,""]
[18,null,null,null,null,null,null,null,null,null,null,null,null,null,null,null,null,null,null,null,null,null,null,null,null,null,0,null,null,null,null,null,null,null,null,null,null,null,null,null,null,null,null,null,null,null,"",null,null,null,null,null,null,null,null,null,null,null,null,null,""]
[18,null,null,null,null,null,null,null,null,null,null,null,null,null,null,null,null,null,null,null,null,null,null,null,null,null,0,null,null,null,null,null,null,null,null,null,null,null,null,null,null,null,null,null,null,null,"",null,null,null,null,null,null,null,null,null,null,null,null,null,""]
[18,null,null,null,null,null,null,null,null,null,null,null,null,null,null,null,null,null,null,null,null,null,null,null,null,null,0,null,null,null,null,null,null,null,null,null,null,null,null,null,null,null,null,null,null,null,"",null,null,null,null,null,null,null,null,null,null,null,null,null,""]
[18,null,null,null,null,null,null,null,null,null,null,null,null,null,null,null,null,null,null,null,null,null,null,null,null,null,0,null,null,null,null,null,null,null,null,null,null,null,null,null,null,null,null,null,null,null,"",null,null,null,null,null,null,null,null,null,null,null,null,null,""]
[18,null,null,null,null,null,null,null,null,null,null,null,null,null,null,null,null,null,null,null,null,null,null,null,null,null,0,null,null,null,null,null,null,null,null,null,null,null,null,null,null,null,null,null,null,null,"",null,null,null,null,null,null,null,null,null,null,null,null,null,""]
[18,null,null,null,null,null,null,null,null,null,null,null,null,null,null,null,null,null,null,null,null,null,null,null,null,null,0,null,null,null,null,null,null,null,null,null,null,null,null,null,null,null,null,null,null,null,"",null,null,null,null,null,null,null,null,null,null,null,null,null,""]
[18,null,null,null,null,null,null,null,null,null,null,null,null,null,null,null,null,null,null,null,null,null,null,null,null,null,0,null,null,null,null,null,null,null,null,null,null,null,null,null,null,null,null,null,null,null,"",null,null,null,null,null,null,null,null,null,null,null,null,null,""]
[18,null,null,null,null,null,null,null,null,null,null,null,null,null,null,null,null,null,null,null,null,null,null,null,null,null,0,null,null,null,null,null,null,null,null,null,null,null,null,null,null,null,null,null,null,null,"",null,null,null,null,null,null,null,null,null,null,null,null,null,""]
[18,null,null,null,null,null,null,null,null,null,null,null,null,null,null,null,null,null,null,null,null,null,null,null,null,null,0,null,null,null,null,null,null,null,null,null,null,null,null,null,null,null,null,null,null,null,"",null,null,null,null,null,null,null,null,null,null,null,null,null,""]
[18,null,null,null,null,null,null,null,null,null,null,null,null,null,null,null,null,null,null,null,null,null,null,null,null,null,0,null,null,null,null,null,null,null,null,null,null,null,null,null,null,null,null,null,null,null,"",null,null,null,null,null,null,null,null,null,null,null,null,null,""]
[18,null,null,null,null,null,null,null,null,null,null,null,null,null,null,null,null,null,null,null,null,null,null,null,null,null,0,null,null,null,null,null,null,null,null,null,null,null,null,null,null,null,null,null,null,null,"",null,null,null,null,null,null,null,null,null,null,null,null,null,""]
[18,null,null,null,null,null,null,null,null,null,null,null,null,null,null,null,null,null,null,null,null,null,null,null,null,null,0,null,null,null,null,null,null,null,null,null,null,null,null,null,null,null,null,null,null,null,"",null,null,null,null,null,null,null,null,null,null,null,null,null,""]
[18,null,null,null,null,null,null,null,null,null,null,null,null,null,null,null,null,null,null,null,null,null,null,null,null,null,0,null,null,null,null,null,null,null,null,null,null,null,null,null,null,null,null,null,null,null,"",null,null,null,null,null,null,null,null,null,null,null,null,null,""]
[18,null,null,null,null,null,null,null,null,null,null,null,null,null,null,null,null,null,null,null,null,null,null,null,null,null,0,null,null,null,null,null,null,null,null,null,null,null,null,null,null,null,null,null,null,null,"",null,null,null,null,null,null,null,null,null,null,null,null,null,""]
[18,null,null,null,null,null,null,null,null,null,null,null,null,null,null,null,null,null,null,null,null,null,null,null,null,null,0,null,null,null,null,null,null,null,null,null,null,null,null,null,null,null,null,null,null,null,"",null,null,null,null,null,null,null,null,null,null,null,null,null,""]
[18,null,null,null,null,null,null,null,null,null,null,null,null,null,null,null,null,null,null,null,null,null,null,null,null,null,0,null,null,null,null,null,null,null,null,null,null,null,null,null,null,null,null,null,null,null,"",null,null,null,null,null,null,null,null,null,null,null,null,null,""]
[18,null,null,null,null,null,null,null,null,null,null,null,null,null,null,null,null,null,null,null,null,null,null,null,null,null,0,null,null,null,null,null,null,null,null,null,null,null,null,null,null,null,null,null,null,null,"",null,null,null,null,null,null,null,null,null,null,null,null,null,""]
[18,null,null,null,null,null,null,null,null,null,null,null,null,null,null,null,null,null,null,null,null,null,null,null,null,null,0,null,null,null,null,null,null,null,null,null,null,null,null,null,null,null,null,null,null,null,"",null,null,null,null,null,null,null,null,null,null,null,null,null,""]
[18,null,null,null,null,null,null,null,null,null,null,null,null,null,null,null,null,null,null,null,null,null,null,null,null,null,0,null,null,null,null,null,null,null,null,null,null,null,null,null,null,null,null,null,null,null,"",null,null,null,null,null,null,null,null,null,null,null,null,null,""]
[18,null,null,null,null,null,null,null,null,null,null,null,null,null,null,null,null,null,null,null,null,null,null,null,null,null,0,null,null,null,null,null,null,null,null,null,null,null,null,null,null,null,null,null,null,null,"",null,null,null,null,null,null,null,null,null,null,null,null,null,""]
[18,null,null,null,null,null,null,null,null,null,null,null,null,null,null,null,null,null,null,null,null,null,null,null,null,null,0,null,null,null,null,null,null,null,null,null,null,null,null,null,null,null,null,null,null,null,"",null,null,null,null,null,null,null,null,null,null,null,null,null,""]
[18,null,null,null,null,null,null,null,null,null,null,null,null,null,null,null,null,null,null,null,null,null,null,null,null,null,0,null,null,null,null,null,null,null,null,null,null,null,null,null,null,null,null,null,null,null,"",null,null,null,null,null,null,null,null,null,null,null,null,null,""]
[18,null,null,null,null,null,null,null,null,null,null,null,null,null,null,null,null,null,null,null,null,null,null,null,null,null,0,null,null,null,null,null,null,null,null,null,null,null,null,null,null,null,null,null,null,null,"",null,null,null,null,null,null,null,null,null,null,null,null,null,""]
[18,null,null,null,null,null,null,null,null,null,null,null,null,null,null,null,null,null,null,null,null,null,null,null,null,null,0,null,null,null,null,null,null,null,null,null,null,null,null,null,null,null,null,null,null,null,"",null,null,null,null,null,null,null,null,null,null,null,null,null,""]
[18,null,null,null,null,null,null,null,null,null,null,null,null,null,null,null,null,null,null,null,null,null,null,null,null,null,0,null,null,null,null,null,null,null,null,null,null,null,null,null,null,null,null,null,null,null,"",null,null,null,null,null,null,null,null,null,null,null,null,null,""]
[18,null,null,null,null,null,null,null,null,null,null,null,null,null,null,null,null,null,null,null,null,null,null,null,null,null,0,null,null,null,null,null,null,null,null,null,null,null,null,null,null,null,null,null,null,null,"",null,null,null,null,null,null,null,null,null,null,null,null,null,""]
[18,null,null,null,null,null,null,null,null,null,null,null,null,null,null,null,null,null,null,null,null,null,null,null,null,null,0,null,null,null,null,null,null,null,null,null,null,null,null,null,null,null,null,null,null,null,"",null,null,null,null,null,null,null,null,null,null,null,null,null,""]
[18,null,null,null,null,null,null,null,null,null,null,null,null,null,null,null,null,null,null,null,null,null,null,null,null,null,0,null,null,null,null,null,null,null,null,null,null,null,null,null,null,null,null,null,null,null,"",null,null,null,null,null,null,null,null,null,null,null,null,null,""]
[18,null,null,null,null,null,null,null,null,null,null,null,null,null,null,null,null,null,null,null,null,null,null,null,null,null,0,null,null,null,null,null,null,null,null,null,null,null,null,null,null,null,null,null,null,null,"",null,null,null,null,null,null,null,null,null,null,null,null,null,""]
[18,null,null,null,null,null,null,null,null,null,null,null,null,null,null,null,null,null,null,null,null,null,null,null,null,null,0,null,null,null,null,null,null,null,null,null,null,null,null,null,null,null,null,null,null,null,"",null,null,null,null,null,null,null,null,null,null,null,null,null,""]
[18,null,null,null,null,null,null,null,null,null,null,null,null,null,null,null,null,null,null,null,null,null,null,null,null,null,0,null,null,null,null,null,null,null,null,null,null,null,null,null,null,null,null,null,null,null,"",null,null,null,null,null,null,null,null,null,null,null,null,null,""]
[18,null,null,null,null,null,null,null,null,null,null,null,null,null,null,null,null,null,null,null,null,null,null,null,null,null,0,null,null,null,null,null,null,null,null,null,null,null,null,null,null,null,null,null,null,null,"",null,null,null,null,null,null,null,null,null,null,null,null,null,""]
[18,null,null,null,null,null,null,null,null,null,null,null,null,null,null,null,null,null,null,null,null,null,null,null,null,null,0,null,null,null,null,null,null,null,null,null,null,null,null,null,null,null,null,null,null,null,"",null,null,null,null,null,null,null,null,null,null,null,null,null,""]
[18,null,null,null,null,null,null,null,null,null,null,null,null,null,null,null,null,null,null,null,null,null,null,null,null,null,0,null,null,null,null,null,null,null,null,null,null,null,null,null,null,null,null,null,null,null,"",null,null,null,null,null,null,null,null,null,null,null,null,null,""]
[18,null,null,null,null,null,null,null,null,null,null,null,null,null,null,null,null,null,null,null,null,null,null,null,null,null,0,null,null,null,null,null,null,null,null,null,null,null,null,null,null,null,null,null,null,null,"",null,null,null,null,null,null,null,null,null,null,null,null,null,""]
[18,null,null,null,null,null,null,null,null,null,null,null,null,null,null,null,null,null,null,null,null,null,null,null,null,null,0,null,null,null,null,null,null,null,null,null,null,null,null,null,null,null,null,null,null,null,"",null,null,null,null,null,null,null,null,null,null,null,null,null,""]
[18,null,null,null,null,null,null,null,null,null,null,null,null,null,null,null,null,null,null,null,null,null,null,null,null,null,0,null,null,null,null,null,null,null,null,null,null,null,null,null,null,null,null,null,null,null,"",null,null,null,null,null,null,null,null,null,null,null,null,null,""]
[18,null,null,null,null,null,null,null,null,null,null,null,null,null,null,null,null,null,null,null,null,null,null,null,null,null,0,null,null,null,null,null,null,null,null,null,null,null,null,null,null,null,null,null,null,null,"",null,null,null,null,null,null,null,null,null,null,null,null,null,""]
[18,null,null,null,null,null,null,null,null,null,null,null,null,null,null,null,null,null,null,null,null,null,null,null,null,null,0,null,null,null,null,null,null,null,null,null,null,null,null,null,null,null,null,null,null,null,"",null,null,null,null,null,null,null,null,null,null,null,null,null,""]
[18,null,null,null,null,null,null,null,null,null,null,null,null,null,null,null,null,null,null,null,null,null,null,null,null,null,0,null,null,null,null,null,null,null,null,null,null,null,null,null,null,null,null,null,null,null,"",null,null,null,null,null,null,null,null,null,null,null,null,null,""]
[18,null,null,null,null,null,null,null,null,null,null,null,null,null,null,null,null,null,null,null,null,null,null,null,null,null,0,null,null,null,null,null,null,null,null,null,null,null,null,null,null,null,null,null,null,null,"",null,null,null,null,null,null,null,null,null,null,null,null,null,""]
[18,null,null,null,null,null,null,null,null,null,null,null,null,null,null,null,null,null,null,null,null,null,null,null,null,null,0,null,null,null,null,null,null,null,null,null,null,null,null,null,null,null,null,null,null,null,"",null,null,null,null,null,null,null,null,null,null,null,null,null,""]
[18,null,null,null,null,null,null,null,null,null,null,null,null,null,null,null,null,null,null,null,null,null,null,null,null,null,0,null,null,null,null,null,null,null,null,null,null,null,null,null,null,null,null,null,null,null,"",null,null,null,null,null,null,null,null,null,null,null,null,null,""]
[18,null,null,null,null,null,null,null,null,null,null,null,null,null,null,null,null,null,null,null,null,null,null,null,null,null,0,null,null,null,null,null,null,null,null,null,null,null,null,null,null,null,null,null,null,null,"",null,null,null,null,null,null,null,null,null,null,null,null,null,""]
[18,null,null,null,null,null,null,null,null,null,null,null,null,null,null,null,null,null,null,null,null,null,null,null,null,null,0,null,null,null,null,null,null,null,null,null,null,null,null,null,null,null,null,null,null,null,"",null,null,null,null,null,null,null,null,null,null,null,null,null,""]
[18,null,null,null,null,null,null,null,null,null,null,null,null,null,null,null,null,null,null,null,null,null,null,null,null,null,0,null,null,null,null,null,null,null,null,null,null,null,null,null,null,null,null,null,null,null,"",null,null,null,null,null,null,null,null,null,null,null,null,null,""]
[18,null,null,null,null,null,null,null,null,null,null,null,null,null,null,null,null,null,null,null,null,null,null,null,null,null,0,null,null,null,null,null,null,null,null,null,null,null,null,null,null,null,null,null,null,null,"",null,null,null,null,null,null,null,null,null,null,null,null,null,""]
[18,null,null,null,null,null,null,null,null,null,null,null,null,null,null,null,null,null,null,null,null,null,null,null,null,null,{"$f":"Y131+(Z131/7)","v":0},null,null,null,null,null,null,null,null,null,null,null,null,null,null,null,null,null,null,null,"",null,null,null,null,null,null,null,null,null,null,null,null,null,""]
[18,null,null,null,null,null,null,null,null,null,null,null,null,null,null,null,null,null,null,null,null,null,null,null,null,null,0,null,null,null,null,null,null,null,null,null,null,null,null,null,null,null,null,null,null,null,"",null,null,null,null,null,null,null,null,null,null,null,null,null,""]
[18,null,null,null,null,null,null,null,null,null,null,null,null,null,null,null,null,null,null,null,null,null,null,null,null,null,0,null,null,null,null,null,null,null,null,null,null,null,null,null,null,null,null,null,null,null,"",null,null,null,null,null,null,null,null,null,null,null,null,null,""]
[18,null,null,null,null,null,null,null,null,null,null,null,null,null,null,null,null,null,null,null,null,null,null,null,null,null,0,null,null,null,null,null,null,null,null,null,null,null,null,null,null,null,null,null,null,null,"",null,null,null,null,null,null,null,null,null,null,null,null,null,""]
[18,null,null,null,null,null,null,null,null,null,null,null,null,null,null,null,null,null,null,null,null,null,null,null,null,null,0,null,null,null,null,null,null,null,null,null,null,null,null,null,null,null,null,null,null,null,"",null,null,null,null,null,null,null,null,null,null,null,null,null,""]
[18,null,null,null,null,null,null,null,null,null,null,null,null,null,null,null,null,null,null,null,null,null,null,null,null,null,0,null,null,null,null,null,null,null,null,null,null,null,null,null,null,null,null,null,null,null,"",null,null,null,null,null,null,null,null,null,null,null,null,null,""]
[18,null,null,null,null,null,null,null,null,null,null,null,null,null,null,null,null,null,null,null,null,null,null,null,null,null,0,null,null,null,null,null,null,null,null,null,null,null,null,null,null,null,null,null,null,null,"",null,null,null,null,null,null,null,null,null,null,null,null,null,""]
[18,null,null,null,null,null,null,null,null,null,null,null,null,null,null,null,null,null,null,null,null,null,null,null,null,null,0,null,null,null,null,null,null,null,null,null,null,null,null,null,null,null,null,null,null,null,"",null,null,null,null,null,null,null,null,null,null,null,null,null,""]
[18,null,null,null,null,null,null,null,null,null,null,null,null,null,null,null,null,null,null,null,null,null,null,null,null,null,0,null,null,null,null,null,null,null,null,null,null,null,null,null,null,null,null,null,null,null,"",null,null,null,null,null,null,null,null,null,null,null,null,null,""]
[18,null,null,null,null,null,null,null,null,null,null,null,null,null,null,null,null,null,null,null,null,null,null,null,null,null,0,null,null,null,null,null,null,null,null,null,null,null,null,null,null,null,null,null,null,null,"",null,null,null,null,null,null,null,null,null,null,null,null,null,""]
[18,null,null,null,null,null,null,null,null,null,null,null,null,null,null,null,null,null,null,null,null,null,null,null,null,null,0,null,null,null,null,null,null,null,null,null,null,null,null,null,null,null,null,null,null,null,"",null,null,null,null,null,null,null,null,null,null,null,null,null,""]
[18,null,null,null,null,null,null,null,null,null,null,null,null,null,null,null,null,null,null,null,null,null,null,null,null,null,0,null,null,null,null,null,null,null,null,null,null,null,null,null,null,null,null,null,null,null,"",null,null,null,null,null,null,null,null,null,null,null,null,null,""]
[18,null,null,null,null,null,null,null,null,null,null,null,null,null,null,null,null,null,null,null,null,null,null,null,null,null,0,null,null,null,null,null,null,null,null,null,null,null,null,null,null,null,null,null,null,null,"",null,null,null,null,null,null,null,null,null,null,null,null,null,""]
[18,null,null,null,null,null,null,null,null,null,null,null,null,null,null,null,null,null,null,null,null,null,null,null,null,null,0,null,null,null,null,null,null,null,null,null,null,null,null,null,null,null,null,null,null,null,"",null,null,null,null,null,null,null,null,null,null,null,null,null,""]
[18,null,null,null,null,null,null,null,null,null,null,null,null,null,null,null,null,null,null,null,null,null,null,null,null,null,0,null,null,null,null,null,null,null,null,null,null,null,null,null,null,null,null,null,null,null,"",null,null,null,null,null,null,null,null,null,null,null,null,null,""]
[18,null,null,null,null,null,null,null,null,null,null,null,null,null,null,null,null,null,null,null,null,null,null,null,null,null,0,null,null,null,null,null,null,null,null,null,null,null,null,null,null,null,null,null,null,null,"",null,null,null,null,null,null,null,null,null,null,null,null,null,""]
[18,null,null,null,null,null,null,null,null,null,null,null,null,null,null,null,null,null,null,null,null,null,null,null,null,null,0,null,null,null,null,null,null,null,null,null,null,null,null,null,null,null,null,null,null,null,"",null,null,null,null,null,null,null,null,null,null,null,null,null,""]
[18,null,null,null,null,null,null,null,null,null,null,null,null,null,null,null,null,null,null,null,null,null,null,null,null,null,0,null,null,null,null,null,null,null,null,null,null,null,null,null,null,null,null,null,null,null,"",null,null,null,null,null,null,null,null,null,null,null,null,null,""]
[18,null,null,null,null,null,null,null,null,null,null,null,null,null,null,null,null,null,null,null,null,null,null,null,null,null,0,null,null,null,null,null,null,null,null,null,null,null,null,null,null,null,null,null,null,null,"",null,null,null,null,null,null,null,null,null,null,null,null,null,""]
[18,null,null,null,null,null,null,null,null,null,null,null,null,null,null,null,null,null,null,null,null,null,null,null,null,null,0,null,null,null,null,null,null,null,null,null,null,null,null,null,null,null,null,null,null,null,"",null,null,null,null,null,null,null,null,null,null,null,null,null,""]
[18,null,null,null,null,null,null,null,null,null,null,null,null,null,null,null,null,null,null,null,null,null,null,null,null,null,0,null,null,null,null,null,null,null,null,null,null,null,null,null,null,null,null,null,null,null,"",null,null,null,null,null,null,null,null,null,null,null,null,null,""]
[18,null,null,null,null,null,null,null,null,null,null,null,null,null,null,null,null,null,null,null,null,null,null,null,null,null,0,null,null,null,null,null,null,null,null,null,null,null,null,null,null,null,null,null,null,null,"",null,null,null,null,null,null,null,null,null,null,null,null,null,""]
[18,null,null,null,null,null,null,null,null,null,null,null,null,null,null,null,null,null,null,null,null,null,null,null,null,null,0,null,null,null,null,null,null,null,null,null,null,null,null,null,null,null,null,null,null,null,"",null,null,null,null,null,null,null,null,null,null,null,null,null,""]
[18,null,null,null,null,null,null,null,null,null,null,null,null,null,null,null,null,null,null,null,null,null,null,null,null,null,0,null,null,null,null,null,null,null,null,null,null,null,null,null,null,null,null,null,null,null,"",null,null,null,null,null,null,null,null,null,null,null,null,null,""]
[18,null,null,null,null,null,null,null,null,null,null,null,null,null,null,null,null,null,null,null,null,null,null,null,null,null,0,null,null,null,null,null,null,null,null,null,null,null,null,null,null,null,null,null,null,null,"",null,null,null,null,null,null,null,null,null,null,null,null,null,""]
[18,null,null,null,null,null,null,null,null,null,null,null,null,null,null,null,null,null,null,null,null,null,null,null,null,null,0,null,null,null,null,null,null,null,null,null,null,null,null,null,null,null,null,null,null,null,"",null,null,null,null,null,null,null,null,null,null,null,null,null,""]
[18,null,null,null,null,null,null,null,null,null,null,null,null,null,null,null,null,null,null,null,null,null,null,null,null,null,0,null,null,null,null,null,null,null,null,null,null,null,null,null,null,null,null,null,null,null,"",null,null,null,null,null,null,null,null,null,null,null,null,null,""]
[18,null,null,null,null,null,null,null,null,null,null,null,null,null,null,null,null,null,null,null,null,null,null,null,null,null,0,null,null,null,null,null,null,null,null,null,null,null,null,null,null,null,null,null,null,null,"",null,null,null,null,null,null,null,null,null,null,null,null,null,""]
[18,null,null,null,null,null,null,null,null,null,null,null,null,null,null,null,null,null,null,null,null,null,null,null,null,null,0,null,null,null,null,null,null,null,null,null,null,null,null,null,null,null,null,null,null,null,"",null,null,null,null,null,null,null,null,null,null,null,null,null,""]
[18,null,null,null,null,null,null,null,null,null,null,null,null,null,null,null,null,null,null,null,null,null,null,null,null,null,0,null,null,null,null,null,null,null,null,null,null,null,null,null,null,null,null,null,null,null,"",null,null,null,null,null,null,null,null,null,null,null,null,null,""]
[18,null,null,null,null,null,null,null,null,null,null,null,null,null,null,null,null,null,null,null,null,null,null,null,null,null,0,null,null,null,null,null,null,null,null,null,null,null,null,null,null,null,null,null,null,null,"",null,null,null,null,null,null,null,null,null,null,null,null,null,""]
[18,null,null,null,null,null,null,null,null,null,null,null,null,null,null,null,null,null,null,null,null,null,null,null,null,null,0,null,null,null,null,null,null,null,null,null,null,null,null,null,null,null,null,null,null,null,"",null,null,null,null,null,null,null,null,null,null,null,null,null,""]
[18,null,null,null,null,null,null,null,null,null,null,null,null,null,null,null,null,null,null,null,null,null,null,null,null,null,0,null,null,null,null,null,null,null,null,null,null,null,null,null,null,null,null,null,null,null,"",null,null,null,null,null,null,null,null,null,null,null,null,null,""]
[18,null,null,null,null,null,null,null,null,null,null,null,null,null,null,null,null,null,null,null,null,null,null,null,null,null,0,null,null,null,null,null,null,null,null,null,null,null,null,null,null,null,null,null,null,null,"",null,null,null,null,null,null,null,null,null,null,null,null,null,""]
[18,null,null,null,null,null,null,null,null,null,null,null,null,null,null,null,null,null,null,null,null,null,null,null,null,null,0,null,null,null,null,null,null,null,null,null,null,null,null,null,null,null,null,null,null,null,"",null,null,null,null,null,null,null,null,null,null,null,null,null,""]
[18,null,null,null,null,null,null,null,null,null,null,null,null,null,null,null,null,null,null,null,null,null,null,null,null,null,0,null,null,null,null,null,null,null,null,null,null,null,null,null,null,null,null,null,null,null,"",null,null,null,null,null,null,null,null,null,null,null,null,null,""]
[18,null,null,null,null,null,null,null,null,null,null,null,null,null,null,null,null,null,null,null,null,null,null,null,null,null,0,null,null,null,null,null,null,null,null,null,null,null,null,null,null,null,null,null,null,null,"",null,null,null,null,null,null,null,null,null,null,null,null,null,""]
[18,null,null,null,null,null,null,null,null,null,null,null,null,null,null,null,null,null,null,null,null,null,null,null,null,null,0,null,null,null,null,null,null,null,null,null,null,null,null,null,null,null,null,null,null,null,"",null,null,null,null,null,null,null,null,null,null,null,null,null,""]
[18,null,null,null,null,null,null,null,null,null,null,null,null,null,null,null,null,null,null,null,null,null,null,null,null,null,0,null,null,null,null,null,null,null,null,null,null,null,null,null,null,null,null,null,null,null,"",null,null,null,null,null,null,null,null,null,null,null,null,null,""]
[18,null,null,null,null,null,null,null,null,null,null,null,null,null,null,null,null,null,null,null,null,null,null,null,null,null,0,null,null,null,null,null,null,null,null,null,null,null,null,null,null,null,null,null,null,null,"",null,null,null,null,null,null,null,null,null,null,null,null,null,""]
[18,null,null,null,null,null,null,null,null,null,null,null,null,null,null,null,null,null,null,null,null,null,null,null,null,null,0,null,null,null,null,null,null,null,null,null,null,null,null,null,null,null,null,null,null,null,"",null,null,null,null,null,null,null,null,null,null,null,null,null,""]
[18,null,null,null,null,null,null,null,null,null,null,null,null,null,null,null,null,null,null,null,null,null,null,null,null,null,0,null,null,null,null,null,null,null,null,null,null,null,null,null,null,null,null,null,null,null,"",null,null,null,null,null,null,null,null,null,null,null,null,null,""]
[18,null,null,null,null,null,null,null,null,null,null,null,null,null,null,null,null,null,null,null,null,null,null,null,null,null,0,null,null,null,null,null,null,null,null,null,null,null,null,null,null,null,null,null,null,null,"",null,null,null,null,null,null,null,null,null,null,null,null,null,""]
[18,null,null,null,null,null,null,null,null,null,null,null,null,null,null,null,null,null,null,null,null,null,null,null,null,null,0,null,null,null,null,null,null,null,null,null,null,null,null,null,null,null,null,null,null,null,"",null,null,null,null,null,null,null,null,null,null,null,null,null,""]
[18,null,null,null,null,null,null,null,null,null,null,null,null,null,null,null,null,null,null,null,null,null,null,null,null,null,0,null,null,null,null,null,null,null,null,null,null,null,null,null,null,null,null,null,null,null,"",null,null,null,null,null,null,null,null,null,null,null,null,null,""]
[18,null,null,null,null,null,null,null,null,null,null,null,null,null,null,null,null,null,null,null,null,null,null,null,null,null,0,null,null,null,null,null,null,null,null,null,null,null,null,null,null,null,null,null,null,null,"",null,null,null,null,null,null,null,null,null,null,null,null,null,""]
[18,null,null,null,null,null,null,null,null,null,null,null,null,null,null,null,null,null,null,null,null,null,null,null,null,null,0,null,null,null,null,null,null,null,null,null,null,null,null,null,null,null,null,null,null,null,"",null,null,null,null,null,null,null,null,null,null,null,null,null,""]
[18,null,null,null,null,null,null,null,null,null,null,null,null,null,null,null,null,null,null,null,null,null,null,null,null,null,0,null,null,null,null,null,null,null,null,null,null,null,null,null,null,null,null,null,null,null,"",null,null,null,null,null,null,null,null,null,null,null,null,null,""]
[18,null,null,null,null,null,null,null,null,null,null,null,null,null,null,null,null,null,null,null,null,null,null,null,null,null,0,null,null,null,null,null,null,null,null,null,null,null,null,null,null,null,null,null,null,null,"",null,null,null,null,null,null,null,null,null,null,null,null,null,""]
[18,null,null,null,null,null,null,null,null,null,null,null,null,null,null,null,null,null,null,null,null,null,null,null,null,null,0,null,null,null,null,null,null,null,null,null,null,null,null,null,null,null,null,null,null,null,"",null,null,null,null,null,null,null,null,null,null,null,null,null,""]
[18,null,null,null,null,null,null,null,null,null,null,null,null,null,null,null,null,null,null,null,null,null,null,null,null,null,0,null,null,null,null,null,null,null,null,null,null,null,null,null,null,null,null,null,null,null,"",null,null,null,null,null,null,null,null,null,null,null,null,null,""]
[18,null,null,null,null,null,null,null,null,null,null,null,null,null,null,null,null,null,null,null,null,null,null,null,null,null,0,null,null,null,null,null,null,null,null,null,null,null,null,null,null,null,null,null,null,null,"",null,null,null,null,null,null,null,null,null,null,null,null,null,""]
[18,null,null,null,null,null,null,null,null,null,null,null,null,null,null,null,null,null,null,null,null,null,null,null,null,null,0,null,null,null,null,null,null,null,null,null,null,null,null,null,null,null,null,null,null,null,"",null,null,null,null,null,null,null,null,null,null,null,null,null,""]
[18,null,null,null,null,null,null,null,null,null,null,null,null,null,null,null,null,null,null,null,null,null,null,null,null,null,0,null,null,null,null,null,null,null,null,null,null,null,null,null,null,null,null,null,null,null,"",null,null,null,null,null,null,null,null,null,null,null,null,null,""]
[18,null,null,null,null,null,null,null,null,null,null,null,null,null,null,null,null,null,null,null,null,null,null,null,null,null,0,null,null,null,null,null,null,null,null,null,null,null,null,null,null,null,null,null,null,null,"",null,null,null,null,null,null,null,null,null,null,null,null,null,""]
[18,null,null,null,null,null,null,null,null,null,null,null,null,null,null,null,null,null,null,null,null,null,null,null,null,null,0,null,null,null,null,null,null,null,null,null,null,null,null,null,null,null,null,null,null,null,"",null,null,null,null,null,null,null,null,null,null,null,null,null,""]
[18,null,null,null,null,null,null,null,null,null,null,null,null,null,null,null,null,null,null,null,null,null,null,null,null,null,0,null,null,null,null,null,null,null,null,null,null,null,null,null,null,null,null,null,null,null,"",null,null,null,null,null,null,null,null,null,null,null,null,null,""]
[18,null,null,null,null,null,null,null,null,null,null,null,null,null,null,null,null,null,null,null,null,null,null,null,null,null,0,null,null,null,null,null,null,null,null,null,null,null,null,null,null,null,null,null,null,null,"",null,null,null,null,null,null,null,null,null,null,null,null,null,""]
[18,null,null,null,null,null,null,null,null,null,null,null,null,null,null,null,null,null,null,null,null,null,null,null,null,null,0,null,null,null,null,null,null,null,null,null,null,null,null,null,null,null,null,null,null,null,"",null,null,null,null,null,null,null,null,null,null,null,null,null,""]
[18,null,null,null,null,null,null,null,null,null,null,null,null,null,null,null,null,null,null,null,null,null,null,null,null,null,0,null,null,null,null,null,null,null,null,null,null,null,null,null,null,null,null,null,null,null,"",null,null,null,null,null,null,null,null,null,null,null,null,null,""]
[18,null,null,null,null,null,null,null,null,null,null,null,null,null,null,null,null,null,null,null,null,null,null,null,null,null,0,null,null,null,null,null,null,null,null,null,null,null,null,null,null,null,null,null,null,null,"",null,null,null,null,null,null,null,null,null,null,null,null,null,""]
[18,null,null,null,null,null,null,null,null,null,null,null,null,null,null,null,null,null,null,null,null,null,null,null,null,null,0,null,null,null,null,null,null,null,null,null,null,null,null,null,null,null,null,null,null,null,"",null,null,null,null,null,null,null,null,null,null,null,null,null,""]
[18,null,null,null,null,null,null,null,null,null,null,null,null,null,null,null,null,null,null,null,null,null,null,null,null,null,0,null,null,null,null,null,null,null,null,null,null,null,null,null,null,null,null,null,null,null,"",null,null,null,null,null,null,null,null,null,null,null,null,null,""]
[18,null,null,null,null,null,null,null,null,null,null,null,null,null,null,null,null,null,null,null,null,null,null,null,null,null,0,null,null,null,null,null,null,null,null,null,null,null,null,null,null,null,null,null,null,null,"",null,null,null,null,null,null,null,null,null,null,null,null,null,""]
[18,null,null,null,null,null,null,null,null,null,null,null,null,null,null,null,null,null,null,null,null,null,null,null,null,null,{"$f":"Y195+(Z195/7)","v":0},null,null,null,null,null,null,null,null,null,null,null,null,null,null,null,null,null,null,null,"",null,null,null,null,null,null,null,null,null,null,null,null,null,""]
[18,null,null,null,null,null,null,null,null,null,null,null,null,null,null,null,null,null,null,null,null,null,null,null,null,null,0,null,null,null,null,null,null,null,null,null,null,null,null,null,null,null,null,null,null,null,"",null,null,null,null,null,null,null,null,null,null,null,null,null,""]
[18,null,null,null,null,null,null,null,null,null,null,null,null,null,null,null,null,null,null,null,null,null,null,null,null,null,0,null,null,null,null,null,null,null,null,null,null,null,null,null,null,null,null,null,null,null,"",null,null,null,null,null,null,null,null,null,null,null,null,null,""]
[18,null,null,null,null,null,null,null,null,null,null,null,null,null,null,null,null,null,null,null,null,null,null,null,null,null,0,null,null,null,null,null,null,null,null,null,null,null,null,null,null,null,null,null,null,null,"",null,null,null,null,null,null,null,null,null,null,null,null,null,""]
[18,null,null,null,null,null,null,null,null,null,null,null,null,null,null,null,null,null,null,null,null,null,null,null,null,null,0,null,null,null,null,null,null,null,null,null,null,null,null,null,null,null,null,null,null,null,"",null,null,null,null,null,null,null,null,null,null,null,null,null,""]
[18,null,null,null,null,null,null,null,null,null,null,null,null,null,null,null,null,null,null,null,null,null,null,null,null,null,0,null,null,null,null,null,null,null,null,null,null,null,null,null,null,null,null,null,null,null,"",null,null,null,null,null,null,null,null,null,null,null,null,null,""]
[18,null,null,null,null,null,null,null,null,null,null,null,null,null,null,null,null,null,null,null,null,null,null,null,null,null,0,null,null,null,null,null,null,null,null,null,null,null,null,null,null,null,null,null,null,null,"",null,null,null,null,null,null,null,null,null,null,null,null,null,""]
[18,null,null,null,null,null,null,null,null,null,null,null,null,null,null,null,null,null,null,null,null,null,null,null,null,null,0,null,null,null,null,null,null,null,null,null,null,null,null,null,null,null,null,null,null,null,"",null,null,null,null,null,null,null,null,null,null,null,null,null,""]
[18,null,null,null,null,null,null,null,null,null,null,null,null,null,null,null,null,null,null,null,null,null,null,null,null,null,0,null,null,null,null,null,null,null,null,null,null,null,null,null,null,null,null,null,null,null,"",null,null,null,null,null,null,null,null,null,null,null,null,null,""]
[18,null,null,null,null,null,null,null,null,null,null,null,null,null,null,null,null,null,null,null,null,null,null,null,null,null,0,null,null,null,null,null,null,null,null,null,null,null,null,null,null,null,null,null,null,null,"",null,null,null,null,null,null,null,null,null,null,null,null,null,""]
[18,null,null,null,null,null,null,null,null,null,null,null,null,null,null,null,null,null,null,null,null,null,null,null,null,null,0,null,null,null,null,null,null,null,null,null,null,null,null,null,null,null,null,null,null,null,"",null,null,null,null,null,null,null,null,null,null,null,null,null,""]
[18,null,null,null,null,null,null,null,null,null,null,null,null,null,null,null,null,null,null,null,null,null,null,null,null,null,0,null,null,null,null,null,null,null,null,null,null,null,null,null,null,null,null,null,null,null,"",null,null,null,null,null,null,null,null,null,null,null,null,null,""]
[18,null,null,null,null,null,null,null,null,null,null,null,null,null,null,null,null,null,null,null,null,null,null,null,null,null,0,null,null,null,null,null,null,null,null,null,null,null,null,null,null,null,null,null,null,null,"",null,null,null,null,null,null,null,null,null,null,null,null,null,""]
[18,null,null,null,null,null,null,null,null,null,null,null,null,null,null,null,null,null,null,null,null,null,null,null,null,null,0,null,null,null,null,null,null,null,null,null,null,null,null,null,null,null,null,null,null,null,"",null,null,null,null,null,null,null,null,null,null,null,null,null,""]
[18,null,null,null,null,null,null,null,null,null,null,null,null,null,null,null,null,null,null,null,null,null,null,null,null,null,0,null,null,null,null,null,null,null,null,null,null,null,null,null,null,null,null,null,null,null,"",null,null,null,null,null,null,null,null,null,null,null,null,null,""]
[18,null,null,null,null,null,null,null,null,null,null,null,null,null,null,null,null,null,null,null,null,null,null,null,null,null,0,null,null,null,null,null,null,null,null,null,null,null,null,null,null,null,null,null,null,null,"",null,null,null,null,null,null,null,null,null,null,null,null,null,""]
[18,null,null,null,null,null,null,null,null,null,null,null,null,null,null,null,null,null,null,null,null,null,null,null,null,null,0,null,null,null,null,null,null,null,null,null,null,null,null,null,null,null,null,null,null,null,"",null,null,null,null,null,null,null,null,null,null,null,null,null,""]
[18,null,null,null,null,null,null,null,null,null,null,null,null,null,null,null,null,null,null,null,null,null,null,null,null,null,0,null,null,null,null,null,null,null,null,null,null,null,null,null,null,null,null,null,null,null,"",null,null,null,null,null,null,null,null,null,null,null,null,null,""]
[18,null,null,null,null,null,null,null,null,null,null,null,null,null,null,null,null,null,null,null,null,null,null,null,null,null,0,null,null,null,null,null,null,null,null,null,null,null,null,null,null,null,null,null,null,null,"",null,null,null,null,null,null,null,null,null,null,null,null,null,""]
[18,null,null,null,null,null,null,null,null,null,null,null,null,null,null,null,null,null,null,null,null,null,null,null,null,null,0,null,null,null,null,null,null,null,null,null,null,null,null,null,null,null,null,null,null,null,"",null,null,null,null,null,null,null,null,null,null,null,null,null,""]
[18,null,null,null,null,null,null,null,null,null,null,null,null,null,null,null,null,null,null,null,null,null,null,null,null,null,0,null,null,null,null,null,null,null,null,null,null,null,null,null,null,null,null,null,null,null,"",null,null,null,null,null,null,null,null,null,null,null,null,null,""]
[18,null,null,null,null,null,null,null,null,null,null,null,null,null,null,null,null,null,null,null,null,null,null,null,null,null,0,null,null,null,null,null,null,null,null,null,null,null,null,null,null,null,null,null,null,null,"",null,null,null,null,null,null,null,null,null,null,null,null,null,""]
[18,null,null,null,null,null,null,null,null,null,null,null,null,null,null,null,null,null,null,null,null,null,null,null,null,null,0,null,null,null,null,null,null,null,null,null,null,null,null,null,null,null,null,null,null,null,"",null,null,null,null,null,null,null,null,null,null,null,null,null,""]
[18,null,null,null,null,null,null,null,null,null,null,null,null,null,null,null,null,null,null,null,null,null,null,null,null,null,0,null,null,null,null,null,null,null,null,null,null,null,null,null,null,null,null,null,null,null,"",null,null,null,null,null,null,null,null,null,null,null,null,null,""]
[18,null,null,null,null,null,null,null,null,null,null,null,null,null,null,null,null,null,null,null,null,null,null,null,null,null,0,null,null,null,null,null,null,null,null,null,null,null,null,null,null,null,null,null,null,null,"",null,null,null,null,null,null,null,null,null,null,null,null,null,""]
[18,null,null,null,null,null,null,null,null,null,null,null,null,null,null,null,null,null,null,null,null,null,null,null,null,null,0,null,null,null,null,null,null,null,null,null,null,null,null,null,null,null,null,null,null,null,"",null,null,null,null,null,null,null,null,null,null,null,null,null,""]
[18,null,null,null,null,null,null,null,null,null,null,null,null,null,null,null,null,null,null,null,null,null,null,null,null,null,0,null,null,null,null,null,null,null,null,null,null,null,null,null,null,null,null,null,null,null,"",null,null,null,null,null,null,null,null,null,null,null,null,null,""]
[18,null,null,null,null,null,null,null,null,null,null,null,null,null,null,null,null,null,null,null,null,null,null,null,null,null,0,null,null,null,null,null,null,null,null,null,null,null,null,null,null,null,null,null,null,null,"",null,null,null,null,null,null,null,null,null,null,null,null,null,""]
[18,null,null,null,null,null,null,null,null,null,null,null,null,null,null,null,null,null,null,null,null,null,null,null,null,null,0,null,null,null,null,null,null,null,null,null,null,null,null,null,null,null,null,null,null,null,"",null,null,null,null,null,null,null,null,null,null,null,null,null,""]
[18,null,null,null,null,null,null,null,null,null,null,null,null,null,null,null,null,null,null,null,null,null,null,null,null,null,0,null,null,null,null,null,null,null,null,null,null,null,null,null,null,null,null,null,null,null,"",null,null,null,null,null,null,null,null,null,null,null,null,null,""]
[18,null,null,null,null,null,null,null,null,null,null,null,null,null,null,null,null,null,null,null,null,null,null,null,null,null,0,null,null,null,null,null,null,null,null,null,null,null,null,null,null,null,null,null,null,null,"",null,null,null,null,null,null,null,null,null,null,null,null,null,""]
[18,null,null,null,null,null,null,null,null,null,null,null,null,null,null,null,null,null,null,null,null,null,null,null,null,null,0,null,null,null,null,null,null,null,null,null,null,null,null,null,null,null,null,null,null,null,"",null,null,null,null,null,null,null,null,null,null,null,null,null,""]
[18,null,null,null,null,null,null,null,null,null,null,null,null,null,null,null,null,null,null,null,null,null,null,null,null,null,0,null,null,null,null,null,null,null,null,null,null,null,null,null,null,null,null,null,null,null,"",null,null,null,null,null,null,null,null,null,null,null,null,null,""]
[18,null,null,null,null,null,null,null,null,null,null,null,null,null,null,null,null,null,null,null,null,null,null,null,null,null,0,null,null,null,null,null,null,null,null,null,null,null,null,null,null,null,null,null,null,null,"",null,null,null,null,null,null,null,null,null,null,null,null,null,""]
[18,null,null,null,null,null,null,null,null,null,null,null,null,null,null,null,null,null,null,null,null,null,null,null,null,null,0,null,null,null,null,null,null,null,null,null,null,null,null,null,null,null,null,null,null,null,"",null,null,null,null,null,null,null,null,null,null,null,null,null,""]
[18,null,null,null,null,null,null,null,null,null,null,null,null,null,null,null,null,null,null,null,null,null,null,null,null,null,0,null,null,null,null,null,null,null,null,null,null,null,null,null,null,null,null,null,null,null,"",null,null,null,null,null,null,null,null,null,null,null,null,null,""]
[18,null,null,null,null,null,null,null,null,null,null,null,null,null,null,null,null,null,null,null,null,null,null,null,null,null,0,null,null,null,null,null,null,null,null,null,null,null,null,null,null,null,null,null,null,null,"",null,null,null,null,null,null,null,null,null,null,null,null,null,""]
[18,null,null,null,null,null,null,null,null,null,null,null,null,null,null,null,null,null,null,null,null,null,null,null,null,null,0,null,null,null,null,null,null,null,null,null,null,null,null,null,null,null,null,null,null,null,"",null,null,null,null,null,null,null,null,null,null,null,null,null,""]
[18,null,null,null,null,null,null,null,null,null,null,null,null,null,null,null,null,null,null,null,null,null,null,null,null,null,0,null,null,null,null,null,null,null,null,null,null,null,null,null,null,null,null,null,null,null,"",null,null,null,null,null,null,null,null,null,null,null,null,null,""]
[18,null,null,null,null,null,null,null,null,null,null,null,null,null,null,null,null,null,null,null,null,null,null,null,null,null,0,null,null,null,null,null,null,null,null,null,null,null,null,null,null,null,null,null,null,null,"",null,null,null,null,null,null,null,null,null,null,null,null,null,""]
[18,null,null,null,null,null,null,null,null,null,null,null,null,null,null,null,null,null,null,null,null,null,null,null,null,null,0,null,null,null,null,null,null,null,null,null,null,null,null,null,null,null,null,null,null,null,"",null,null,null,null,null,null,null,null,null,null,null,null,null,""]
[18,null,null,null,null,null,null,null,null,null,null,null,null,null,null,null,null,null,null,null,null,null,null,null,null,null,0,null,null,null,null,null,null,null,null,null,null,null,null,null,null,null,null,null,null,null,"",null,null,null,null,null,null,null,null,null,null,null,null,null,""]
[18,null,null,null,null,null,null,null,null,null,null,null,null,null,null,null,null,null,null,null,null,null,null,null,null,null,0,null,null,null,null,null,null,null,null,null,null,null,null,null,null,null,null,null,null,null,"",null,null,null,null,null,null,null,null,null,null,null,null,null,""]
[18,null,null,null,null,null,null,null,null,null,null,null,null,null,null,null,null,null,null,null,null,null,null,null,null,null,0,null,null,null,null,null,null,null,null,null,null,null,null,null,null,null,null,null,null,null,"",null,null,null,null,null,null,null,null,null,null,null,null,null,""]
[18,null,null,null,null,null,null,null,null,null,null,null,null,null,null,null,null,null,null,null,null,null,null,null,null,null,0,null,null,null,null,null,null,null,null,null,null,null,null,null,null,null,null,null,null,null,"",null,null,null,null,null,null,null,null,null,null,null,null,null,""]
[18,null,null,null,null,null,null,null,null,null,null,null,null,null,null,null,null,null,null,null,null,null,null,null,null,null,0,null,null,null,null,null,null,null,null,null,null,null,null,null,null,null,null,null,null,null,"",null,null,null,null,null,null,null,null,null,null,null,null,null,""]
[18,null,null,null,null,null,null,null,null,null,null,null,null,null,null,null,null,null,null,null,null,null,null,null,null,null,0,null,null,null,null,null,null,null,null,null,null,null,null,null,null,null,null,null,null,null,"",null,null,null,null,null,null,null,null,null,null,null,null,null,""]
[18,null,null,null,null,null,null,null,null,null,null,null,null,null,null,null,null,null,null,null,null,null,null,null,null,null,0,null,null,null,null,null,null,null,null,null,null,null,null,null,null,null,null,null,null,null,"",null,null,null,null,null,null,null,null,null,null,null,null,null,""]
[18,null,null,null,null,null,null,null,null,null,null,null,null,null,null,null,null,null,null,null,null,null,null,null,null,null,0,null,null,null,null,null,null,null,null,null,null,null,null,null,null,null,null,null,null,null,"",null,null,null,null,null,null,null,null,null,null,null,null,null,""]
[18,null,null,null,null,null,null,null,null,null,null,null,null,null,null,null,null,null,null,null,null,null,null,null,null,null,0,null,null,null,null,null,null,null,null,null,null,null,null,null,null,null,null,null,null,null,"",null,null,null,null,null,null,null,null,null,null,null,null,null,""]
[18,null,null,null,null,null,null,null,null,null,null,null,null,null,null,null,null,null,null,null,null,null,null,null,null,null,0,null,null,null,null,null,null,null,null,null,null,null,null,null,null,null,null,null,null,null,"",null,null,null,null,null,null,null,null,null,null,null,null,null,""]
[18,null,null,null,null,null,null,null,null,null,null,null,null,null,null,null,null,null,null,null,null,null,null,null,null,null,0,null,null,null,null,null,null,null,null,null,null,null,null,null,null,null,null,null,null,null,"",null,null,null,null,null,null,null,null,null,null,null,null,null,""]
[18,null,null,null,null,null,null,null,null,null,null,null,null,null,null,null,null,null,null,null,null,null,null,null,null,null,0,null,null,null,null,null,null,null,null,null,null,null,null,null,null,null,null,null,null,null,"",null,null,null,null,null,null,null,null,null,null,null,null,null,""]
[18,null,null,null,null,null,null,null,null,null,null,null,null,null,null,null,null,null,null,null,null,null,null,null,null,null,0,null,null,null,null,null,null,null,null,null,null,null,null,null,null,null,null,null,null,null,"",null,null,null,null,null,null,null,null,null,null,null,null,null,""]
[18,null,null,null,null,null,null,null,null,null,null,null,null,null,null,null,null,null,null,null,null,null,null,null,null,null,0,null,null,null,null,null,null,null,null,null,null,null,null,null,null,null,null,null,null,null,"",null,null,null,null,null,null,null,null,null,null,null,null,null,""]
[18,null,null,null,null,null,null,null,null,null,null,null,null,null,null,null,null,null,null,null,null,null,null,null,null,null,0,null,null,null,null,null,null,null,null,null,null,null,null,null,null,null,null,null,null,null,"",null,null,null,null,null,null,null,null,null,null,null,null,null,""]
[18,null,null,null,null,null,null,null,null,null,null,null,null,null,null,null,null,null,null,null,null,null,null,null,null,null,0,null,null,null,null,null,null,null,null,null,null,null,null,null,null,null,null,null,null,null,"",null,null,null,null,null,null,null,null,null,null,null,null,null,""]
[18,null,null,null,null,null,null,null,null,null,null,null,null,null,null,null,null,null,null,null,null,null,null,null,null,null,0,null,null,null,null,null,null,null,null,null,null,null,null,null,null,null,null,null,null,null,"",null,null,null,null,null,null,null,null,null,null,null,null,null,""]
[18,null,null,null,null,null,null,null,null,null,null,null,null,null,null,null,null,null,null,null,null,null,null,null,null,null,0,null,null,null,null,null,null,null,null,null,null,null,null,null,null,null,null,null,null,null,"",null,null,null,null,null,null,null,null,null,null,null,null,null,""]
[18,null,null,null,null,null,null,null,null,null,null,null,null,null,null,null,null,null,null,null,null,null,null,null,null,null,0,null,null,null,null,null,null,null,null,null,null,null,null,null,null,null,null,null,null,null,"",null,null,null,null,null,null,null,null,null,null,null,null,null,""]
[18,null,null,null,null,null,null,null,null,null,null,null,null,null,null,null,null,null,null,null,null,null,null,null,null,null,0,null,null,null,null,null,null,null,null,null,null,null,null,null,null,null,null,null,null,null,"",null,null,null,null,null,null,null,null,null,null,null,null,null,""]
[18,null,null,null,null,null,null,null,null,null,null,null,null,null,null,null,null,null,null,null,null,null,null,null,null,null,0,null,null,null,null,null,null,null,null,null,null,null,null,null,null,null,null,null,null,null,"",null,null,null,null,null,null,null,null,null,null,null,null,null,""]
[18,null,null,null,null,null,null,null,null,null,null,null,null,null,null,null,null,null,null,null,null,null,null,null,null,null,0,null,null,null,null,null,null,null,null,null,null,null,null,null,null,null,null,null,null,null,"",null,null,null,null,null,null,null,null,null,null,null,null,null,""]
[18,null,null,null,null,null,null,null,null,null,null,null,null,null,null,null,null,null,null,null,null,null,null,null,null,null,0,null,null,null,null,null,null,null,null,null,null,null,null,null,null,null,null,null,null,null,"",null,null,null,null,null,null,null,null,null,null,null,null,null,""]
[18,null,null,null,null,null,null,null,null,null,null,null,null,null,null,null,null,null,null,null,null,null,null,null,null,null,{"$f":"Y259+(Z259/7)","v":0},null,null,null,null,null,null,null,null,null,null,null,null,null,null,null,null,null,null,null,"",null,null,null,null,null,null,null,null,null,null,null,null,null,""]
[18,null,null,null,null,null,null,null,null,null,null,null,null,null,null,null,null,null,null,null,null,null,null,null,null,null,0,null,null,null,null,null,null,null,null,null,null,null,null,null,null,null,null,null,null,null,"",null,null,null,null,null,null,null,null,null,null,null,null,null,""]
[18,null,null,null,null,null,null,null,null,null,null,null,null,null,null,null,null,null,null,null,null,null,null,null,null,null,0,null,null,null,null,null,null,null,null,null,null,null,null,null,null,null,null,null,null,null,"",null,null,null,null,null,null,null,null,null,null,null,null,null,""]
[18,null,null,null,null,null,null,null,null,null,null,null,null,null,null,null,null,null,null,null,null,null,null,null,null,null,0,null,null,null,null,null,null,null,null,null,null,null,null,null,null,null,null,null,null,null,"",null,null,null,null,null,null,null,null,null,null,null,null,null,""]
[18,null,null,null,null,null,null,null,null,null,null,null,null,null,null,null,null,null,null,null,null,null,null,null,null,null,0,null,null,null,null,null,null,null,null,null,null,null,null,null,null,null,null,null,null,null,"",null,null,null,null,null,null,null,null,null,null,null,null,null,""]
[18,null,null,null,null,null,null,null,null,null,null,null,null,null,null,null,null,null,null,null,null,null,null,null,null,null,0,null,null,null,null,null,null,null,null,null,null,null,null,null,null,null,null,null,null,null,"",null,null,null,null,null,null,null,null,null,null,null,null,null,""]
[18,null,null,null,null,null,null,null,null,null,null,null,null,null,null,null,null,null,null,null,null,null,null,null,null,null,0,null,null,null,null,null,null,null,null,null,null,null,null,null,null,null,null,null,null,null,"",null,null,null,null,null,null,null,null,null,null,null,null,null,""]
[18,null,null,null,null,null,null,null,null,null,null,null,null,null,null,null,null,null,null,null,null,null,null,null,null,null,0,null,null,null,null,null,null,null,null,null,null,null,null,null,null,null,null,null,null,null,"",null,null,null,null,null,null,null,null,null,null,null,null,null,""]
[18,null,null,null,null,null,null,null,null,null,null,null,null,null,null,null,null,null,null,null,null,null,null,null,null,null,0,null,null,null,null,null,null,null,null,null,null,null,null,null,null,null,null,null,null,null,"",null,null,null,null,null,null,null,null,null,null,null,null,null,""]
[18,null,null,null,null,null,null,null,null,null,null,null,null,null,null,null,null,null,null,null,null,null,null,null,null,null,0,null,null,null,null,null,null,null,null,null,null,null,null,null,null,null,null,null,null,null,"",null,null,null,null,null,null,null,null,null,null,null,null,null,""]
[18,null,null,null,null,null,null,null,null,null,null,null,null,null,null,null,null,null,null,null,null,null,null,null,null,null,0,null,null,null,null,null,null,null,null,null,null,null,null,null,null,null,null,null,null,null,"",null,null,null,null,null,null,null,null,null,null,null,null,null,""]
[18,null,null,null,null,null,null,null,null,null,null,null,null,null,null,null,null,null,null,null,null,null,null,null,null,null,0,null,null,null,null,null,null,null,null,null,null,null,null,null,null,null,null,null,null,null,"",null,null,null,null,null,null,null,null,null,null,null,null,null,""]
[18,null,null,null,null,null,null,null,null,null,null,null,null,null,null,null,null,null,null,null,null,null,null,null,null,null,0,null,null,null,null,null,null,null,null,null,null,null,null,null,null,null,null,null,null,null,"",null,null,null,null,null,null,null,null,null,null,null,null,null,""]
[18,null,null,null,null,null,null,null,null,null,null,null,null,null,null,null,null,null,null,null,null,null,null,null,null,null,0,null,null,null,null,null,null,null,null,null,null,null,null,null,null,null,null,null,null,null,"",null,null,null,null,null,null,null,null,null,null,null,null,null,""]
[18,null,null,null,null,null,null,null,null,null,null,null,null,null,null,null,null,null,null,null,null,null,null,null,null,null,0,null,null,null,null,null,null,null,null,null,null,null,null,null,null,null,null,null,null,null,"",null,null,null,null,null,null,null,null,null,null,null,null,null,""]
[18,null,null,null,null,null,null,null,null,null,null,null,null,null,null,null,null,null,null,null,null,null,null,null,null,null,0,null,null,null,null,null,null,null,null,null,null,null,null,null,null,null,null,null,null,null,"",null,null,null,null,null,null,null,null,null,null,null,null,null,""]
[18,null,null,null,null,null,null,null,null,null,null,null,null,null,null,null,null,null,null,null,null,null,null,null,null,null,0,null,null,null,null,null,null,null,null,null,null,null,null,null,null,null,null,null,null,null,"",null,null,null,null,null,null,null,null,null,null,null,null,null,""]
[18,null,null,null,null,null,null,null,null,null,null,null,null,null,null,null,null,null,null,null,null,null,null,null,null,null,0,null,null,null,null,null,null,null,null,null,null,null,null,null,null,null,null,null,null,null,"",null,null,null,null,null,null,null,null,null,null,null,null,null,""]
[18,null,null,null,null,null,null,null,null,null,null,null,null,null,null,null,null,null,null,null,null,null,null,null,null,null,0,null,null,null,null,null,null,null,null,null,null,null,null,null,null,null,null,null,null,null,"",null,null,null,null,null,null,null,null,null,null,null,null,null,""]
[18,null,null,null,null,null,null,null,null,null,null,null,null,null,null,null,null,null,null,null,null,null,null,null,null,null,0,null,null,null,null,null,null,null,null,null,null,null,null,null,null,null,null,null,null,null,"",null,null,null,null,null,null,null,null,null,null,null,null,null,""]
[18,null,null,null,null,null,null,null,null,null,null,null,null,null,null,null,null,null,null,null,null,null,null,null,null,null,0,null,null,null,null,null,null,null,null,null,null,null,null,null,null,null,null,null,null,null,"",null,null,null,null,null,null,null,null,null,null,null,null,null,""]
[18,null,null,null,null,null,null,null,null,null,null,null,null,null,null,null,null,null,null,null,null,null,null,null,null,null,0,null,null,null,null,null,null,null,null,null,null,null,null,null,null,null,null,null,null,null,"",null,null,null,null,null,null,null,null,null,null,null,null,null,""]
[18,null,null,null,null,null,null,null,null,null,null,null,null,null,null,null,null,null,null,null,null,null,null,null,null,null,0,null,null,null,null,null,null,null,null,null,null,null,null,null,null,null,null,null,null,null,"",null,null,null,null,null,null,null,null,null,null,null,null,null,""]
[18,null,null,null,null,null,null,null,null,null,null,null,null,null,null,null,null,null,null,null,null,null,null,null,null,null,0,null,null,null,null,null,null,null,null,null,null,null,null,null,null,null,null,null,null,null,"",null,null,null,null,null,null,null,null,null,null,null,null,null,""]
[18,null,null,null,null,null,null,null,null,null,null,null,null,null,null,null,null,null,null,null,null,null,null,null,null,null,0,null,null,null,null,null,null,null,null,null,null,null,null,null,null,null,null,null,null,null,"",null,null,null,null,null,null,null,null,null,null,null,null,null,""]
[18,null,null,null,null,null,null,null,null,null,null,null,null,null,null,null,null,null,null,null,null,null,null,null,null,null,0,null,null,null,null,null,null,null,null,null,null,null,null,null,null,null,null,null,null,null,"",null,null,null,null,null,null,null,null,null,null,null,null,null,""]
[18,null,null,null,null,null,null,null,null,null,null,null,null,null,null,null,null,null,null,null,null,null,null,null,null,null,0,null,null,null,null,null,null,null,null,null,null,null,null,null,null,null,null,null,null,null,"",null,null,null,null,null,null,null,null,null,null,null,null,null,""]
[18,null,null,null,null,null,null,null,null,null,null,null,null,null,null,null,null,null,null,null,null,null,null,null,null,null,0,null,null,null,null,null,null,null,null,null,null,null,null,null,null,null,null,null,null,null,"",null,null,null,null,null,null,null,null,null,null,null,null,null,""]
[18,null,null,null,null,null,null,null,null,null,null,null,null,null,null,null,null,null,null,null,null,null,null,null,null,null,0,null,null,null,null,null,null,null,null,null,null,null,null,null,null,null,null,null,null,null,"",null,null,null,null,null,null,null,null,null,null,null,null,null,""]
[18,null,null,null,null,null,null,null,null,null,null,null,null,null,null,null,null,null,null,null,null,null,null,null,null,null,0,null,null,null,null,null,null,null,null,null,null,null,null,null,null,null,null,null,null,null,"",null,null,null,null,null,null,null,null,null,null,null,null,null,""]
[18,null,null,null,null,null,null,null,null,null,null,null,null,null,null,null,null,null,null,null,null,null,null,null,null,null,0,null,null,null,null,null,null,null,null,null,null,null,null,null,null,null,null,null,null,null,"",null,null,null,null,null,null,null,null,null,null,null,null,null,""]
[18,null,null,null,null,null,null,null,null,null,null,null,null,null,null,null,null,null,null,null,null,null,null,null,null,null,0,null,null,null,null,null,null,null,null,null,null,null,null,null,null,null,null,null,null,null,"",null,null,null,null,null,null,null,null,null,null,null,null,null,""]
[18,null,null,null,null,null,null,null,null,null,null,null,null,null,null,null,null,null,null,null,null,null,null,null,null,null,0,null,null,null,null,null,null,null,null,null,null,null,null,null,null,null,null,null,null,null,"",null,null,null,null,null,null,null,null,null,null,null,null,null,""]
[18,null,null,null,null,null,null,null,null,null,null,null,null,null,null,null,null,null,null,null,null,null,null,null,null,null,0,null,null,null,null,null,null,null,null,null,null,null,null,null,null,null,null,null,null,null,"",null,null,null,null,null,null,null,null,null,null,null,null,null,""]
[18,null,null,null,null,null,null,null,null,null,null,null,null,null,null,null,null,null,null,null,null,null,null,null,null,null,0,null,null,null,null,null,null,null,null,null,null,null,null,null,null,null,null,null,null,null,"",null,null,null,null,null,null,null,null,null,null,null,null,null,""]
[18,null,null,null,null,null,null,null,null,null,null,null,null,null,null,null,null,null,null,null,null,null,null,null,null,null,0,null,null,null,null,null,null,null,null,null,null,null,null,null,null,null,null,null,null,null,"",null,null,null,null,null,null,null,null,null,null,null,null,null,""]
[18,null,null,null,null,null,null,null,null,null,null,null,null,null,null,null,null,null,null,null,null,null,null,null,null,null,0,null,null,null,null,null,null,null,null,null,null,null,null,null,null,null,null,null,null,null,"",null,null,null,null,null,null,null,null,null,null,null,null,null,""]
[18,null,null,null,null,null,null,null,null,null,null,null,null,null,null,null,null,null,null,null,null,null,null,null,null,null,0,null,null,null,null,null,null,null,null,null,null,null,null,null,null,null,null,null,null,null,"",null,null,null,null,null,null,null,null,null,null,null,null,null,""]
[18,null,null,null,null,null,null,null,null,null,null,null,null,null,null,null,null,null,null,null,null,null,null,null,null,null,0,null,null,null,null,null,null,null,null,null,null,null,null,null,null,null,null,null,null,null,"",null,null,null,null,null,null,null,null,null,null,null,null,null,""]
[18,null,null,null,null,null,null,null,null,null,null,null,null,null,null,null,null,null,null,null,null,null,null,null,null,null,0,null,null,null,null,null,null,null,null,null,null,null,null,null,null,null,null,null,null,null,"",null,null,null,null,null,null,null,null,null,null,null,null,null,""]
[18,null,null,null,null,null,null,null,null,null,null,null,null,null,null,null,null,null,null,null,null,null,null,null,null,null,0,null,null,null,null,null,null,null,null,null,null,null,null,null,null,null,null,null,null,null,"",null,null,null,null,null,null,null,null,null,null,null,null,null,""]
[18,null,null,null,null,null,null,null,null,null,null,null,null,null,null,null,null,null,null,null,null,null,null,null,null,null,0,null,null,null,null,null,null,null,null,null,null,null,null,null,null,null,null,null,null,null,"",null,null,null,null,null,null,null,null,null,null,null,null,null,""]
[18,null,null,null,null,null,null,null,null,null,null,null,null,null,null,null,null,null,null,null,null,null,null,null,null,null,0,null,null,null,null,null,null,null,null,null,null,null,null,null,null,null,null,null,null,null,"",null,null,null,null,null,null,null,null,null,null,null,null,null,""]
[18,null,null,null,null,null,null,null,null,null,null,null,null,null,null,null,null,null,null,null,null,null,null,null,null,null,0,null,null,null,null,null,null,null,null,null,null,null,null,null,null,null,null,null,null,null,"",null,null,null,null,null,null,null,null,null,null,null,null,null,""]
[18,null,null,null,null,null,null,null,null,null,null,null,null,null,null,null,null,null,null,null,null,null,null,null,null,null,0,null,null,null,null,null,null,null,null,null,null,null,null,null,null,null,null,null,null,null,"",null,null,null,null,null,null,null,null,null,null,null,null,null,""]
[18,null,null,null,null,null,null,null,null,null,null,null,null,null,null,null,null,null,null,null,null,null,null,null,null,null,0,null,null,null,null,null,null,null,null,null,null,null,null,null,null,null,null,null,null,null,"",null,null,null,null,null,null,null,null,null,null,null,null,null,""]
[18,null,null,null,null,null,null,null,null,null,null,null,null,null,null,null,null,null,null,null,null,null,null,null,null,null,0,null,null,null,null,null,null,null,null,null,null,null,null,null,null,null,null,null,null,null,"",null,null,null,null,null,null,null,null,null,null,null,null,null,""]
[18,null,null,null,null,null,null,null,null,null,null,null,null,null,null,null,null,null,null,null,null,null,null,null,null,null,0,null,null,null,null,null,null,null,null,null,null,null,null,null,null,null,null,null,null,null,"",null,null,null,null,null,null,null,null,null,null,null,null,null,""]
[18,null,null,null,null,null,null,null,null,null,null,null,null,null,null,null,null,null,null,null,null,null,null,null,null,null,0,null,null,null,null,null,null,null,null,null,null,null,null,null,null,null,null,null,null,null,"",null,null,null,null,null,null,null,null,null,null,null,null,null,""]
[18,null,null,null,null,null,null,null,null,null,null,null,null,null,null,null,null,null,null,null,null,null,null,null,null,null,0,null,null,null,null,null,null,null,null,null,null,null,null,null,null,null,null,null,null,null,"",null,null,null,null,null,null,null,null,null,null,null,null,null,""]
[18,null,null,null,null,null,null,null,null,null,null,null,null,null,null,null,null,null,null,null,null,null,null,null,null,null,0,null,null,null,null,null,null,null,null,null,null,null,null,null,null,null,null,null,null,null,"",null,null,null,null,null,null,null,null,null,null,null,null,null,""]
[18,null,null,null,null,null,null,null,null,null,null,null,null,null,null,null,null,null,null,null,null,null,null,null,null,null,0,null,null,null,null,null,null,null,null,null,null,null,null,null,null,null,null,null,null,null,"",null,null,null,null,null,null,null,null,null,null,null,null,null,""]
[18,null,null,null,null,null,null,null,null,null,null,null,null,null,null,null,null,null,null,null,null,null,null,null,null,null,0,null,null,null,null,null,null,null,null,null,null,null,null,null,null,null,null,null,null,null,"",null,null,null,null,null,null,null,null,null,null,null,null,null,""]
[18,null,null,null,null,null,null,null,null,null,null,null,null,null,null,null,null,null,null,null,null,null,null,null,null,null,0,null,null,null,null,null,null,null,null,null,null,null,null,null,null,null,null,null,null,null,"",null,null,null,null,null,null,null,null,null,null,null,null,null,""]
[18,null,null,null,null,null,null,null,null,null,null,null,null,null,null,null,null,null,null,null,null,null,null,null,null,null,0,null,null,null,null,null,null,null,null,null,null,null,null,null,null,null,null,null,null,null,"",null,null,null,null,null,null,null,null,null,null,null,null,null,""]
[18,null,null,null,null,null,null,null,null,null,null,null,null,null,null,null,null,null,null,null,null,null,null,null,null,null,0,null,null,null,null,null,null,null,null,null,null,null,null,null,null,null,null,null,null,null,"",null,null,null,null,null,null,null,null,null,null,null,null,null,""]
[18,null,null,null,null,null,null,null,null,null,null,null,null,null,null,null,null,null,null,null,null,null,null,null,null,null,0,null,null,null,null,null,null,null,null,null,null,null,null,null,null,null,null,null,null,null,"",null,null,null,null,null,null,null,null,null,null,null,null,null,""]
[18,null,null,null,null,null,null,null,null,null,null,null,null,null,null,null,null,null,null,null,null,null,null,null,null,null,0,null,null,null,null,null,null,null,null,null,null,null,null,null,null,null,null,null,null,null,"",null,null,null,null,null,null,null,null,null,null,null,null,null,""]
[18,null,null,null,null,null,null,null,null,null,null,null,null,null,null,null,null,null,null,null,null,null,null,null,null,null,0,null,null,null,null,null,null,null,null,null,null,null,null,null,null,null,null,null,null,null,"",null,null,null,null,null,null,null,null,null,null,null,null,null,""]
[18,null,null,null,null,null,null,null,null,null,null,null,null,null,null,null,null,null,null,null,null,null,null,null,null,null,0,null,null,null,null,null,null,null,null,null,null,null,null,null,null,null,null,null,null,null,"",null,null,null,null,null,null,null,null,null,null,null,null,null,""]
[18,null,null,null,null,null,null,null,null,null,null,null,null,null,null,null,null,null,null,null,null,null,null,null,null,null,0,null,null,null,null,null,null,null,null,null,null,null,null,null,null,null,null,null,null,null,"",null,null,null,null,null,null,null,null,null,null,null,null,null,""]
[18,null,null,null,null,null,null,null,null,null,null,null,null,null,null,null,null,null,null,null,null,null,null,null,null,null,0,null,null,null,null,null,null,null,null,null,null,null,null,null,null,null,null,null,null,null,"",null,null,null,null,null,null,null,null,null,null,null,null,null,""]
[18,null,null,null,null,null,null,null,null,null,null,null,null,null,null,null,null,null,null,null,null,null,null,null,null,null,0,null,null,null,null,null,null,null,null,null,null,null,null,null,null,null,null,null,null,null,"",null,null,null,null,null,null,null,null,null,null,null,null,null,""]
[18,null,null,null,null,null,null,null,null,null,null,null,null,null,null,null,null,null,null,null,null,null,null,null,null,null,0,null,null,null,null,null,null,null,null,null,null,null,null,null,null,null,null,null,null,null,"",null,null,null,null,null,null,null,null,null,null,null,null,null,""]
[18,null,null,null,null,null,null,null,null,null,null,null,null,null,null,null,null,null,null,null,null,null,null,null,null,null,{"$f":"Y323+(Z323/7)","v":0},null,null,null,null,null,null,null,null,null,null,null,null,null,null,null,null,null,null,null,"",null,null,null,null,null,null,null,null,null,null,null,null,null,""]
[18,null,null,null,null,null,null,null,null,null,null,null,null,null,null,null,null,null,null,null,null,null,null,null,null,null,0,null,null,null,null,null,null,null,null,null,null,null,null,null,null,null,null,null,null,null,"",null,null,null,null,null,null,null,null,null,null,null,null,null,""]
[18,null,null,null,null,null,null,null,null,null,null,null,null,null,null,null,null,null,null,null,null,null,null,null,null,null,0,null,null,null,null,null,null,null,null,null,null,null,null,null,null,null,null,null,null,null,"",null,null,null,null,null,null,null,null,null,null,null,null,null,""]
[18,null,null,null,null,null,null,null,null,null,null,null,null,null,null,null,null,null,null,null,null,null,null,null,null,null,0,null,null,null,null,null,null,null,null,null,null,null,null,null,null,null,null,null,null,null,"",null,null,null,null,null,null,null,null,null,null,null,null,null,""]
[18,null,null,null,null,null,null,null,null,null,null,null,null,null,null,null,null,null,null,null,null,null,null,null,null,null,0,null,null,null,null,null,null,null,null,null,null,null,null,null,null,null,null,null,null,null,"",null,null,null,null,null,null,null,null,null,null,null,null,null,""]
[18,null,null,null,null,null,null,null,null,null,null,null,null,null,null,null,null,null,null,null,null,null,null,null,null,null,0,null,null,null,null,null,null,null,null,null,null,null,null,null,null,null,null,null,null,null,"",null,null,null,null,null,null,null,null,null,null,null,null,null,""]
[18,null,null,null,null,null,null,null,null,null,null,null,null,null,null,null,null,null,null,null,null,null,null,null,null,null,0,null,null,null,null,null,null,null,null,null,null,null,null,null,null,null,null,null,null,null,"",null,null,null,null,null,null,null,null,null,null,null,null,null,""]
[18,null,null,null,null,null,null,null,null,null,null,null,null,null,null,null,null,null,null,null,null,null,null,null,null,null,0,null,null,null,null,null,null,null,null,null,null,null,null,null,null,null,null,null,null,null,"",null,null,null,null,null,null,null,null,null,null,null,null,null,""]
[18,null,null,null,null,null,null,null,null,null,null,null,null,null,null,null,null,null,null,null,null,null,null,null,null,null,0,null,null,null,null,null,null,null,null,null,null,null,null,null,null,null,null,null,null,null,"",null,null,null,null,null,null,null,null,null,null,null,null,null,""]
[18,null,null,null,null,null,null,null,null,null,null,null,null,null,null,null,null,null,null,null,null,null,null,null,null,null,0,null,null,null,null,null,null,null,null,null,null,null,null,null,null,null,null,null,null,null,"",null,null,null,null,null,null,null,null,null,null,null,null,null,""]
[18,null,null,null,null,null,null,null,null,null,null,null,null,null,null,null,null,null,null,null,null,null,null,null,null,null,0,null,null,null,null,null,null,null,null,null,null,null,null,null,null,null,null,null,null,null,"",null,null,null,null,null,null,null,null,null,null,null,null,null,""]
[18,null,null,null,null,null,null,null,null,null,null,null,null,null,null,null,null,null,null,null,null,null,null,null,null,null,0,null,null,null,null,null,null,null,null,null,null,null,null,null,null,null,null,null,null,null,"",null,null,null,null,null,null,null,null,null,null,null,null,null,""]
[18,null,null,null,null,null,null,null,null,null,null,null,null,null,null,null,null,null,null,null,null,null,null,null,null,null,0,null,null,null,null,null,null,null,null,null,null,null,null,null,null,null,null,null,null,null,"",null,null,null,null,null,null,null,null,null,null,null,null,null,""]
[18,null,null,null,null,null,null,null,null,null,null,null,null,null,null,null,null,null,null,null,null,null,null,null,null,null,0,null,null,null,null,null,null,null,null,null,null,null,null,null,null,null,null,null,null,null,"",null,null,null,null,null,null,null,null,null,null,null,null,null,""]
[18,null,null,null,null,null,null,null,null,null,null,null,null,null,null,null,null,null,null,null,null,null,null,null,null,null,0,null,null,null,null,null,null,null,null,null,null,null,null,null,null,null,null,null,null,null,"",null,null,null,null,null,null,null,null,null,null,null,null,null,""]
[18,null,null,null,null,null,null,null,null,null,null,null,null,null,null,null,null,null,null,null,null,null,null,null,null,null,0,null,null,null,null,null,null,null,null,null,null,null,null,null,null,null,null,null,null,null,"",null,null,null,null,null,null,null,null,null,null,null,null,null,""]
[18,null,null,null,null,null,null,null,null,null,null,null,null,null,null,null,null,null,null,null,null,null,null,null,null,null,0,null,null,null,null,null,null,null,null,null,null,null,null,null,null,null,null,null,null,null,"",null,null,null,null,null,null,null,null,null,null,null,null,null,""]
[18,null,null,null,null,null,null,null,null,null,null,null,null,null,null,null,null,null,null,null,null,null,null,null,null,null,0,null,null,null,null,null,null,null,null,null,null,null,null,null,null,null,null,null,null,null,"",null,null,null,null,null,null,null,null,null,null,null,null,null,""]
[18,null,null,null,null,null,null,null,null,null,null,null,null,null,null,null,null,null,null,null,null,null,null,null,null,null,0,null,null,null,null,null,null,null,null,null,null,null,null,null,null,null,null,null,null,null,"",null,null,null,null,null,null,null,null,null,null,null,null,null,""]
[18,null,null,null,null,null,null,null,null,null,null,null,null,null,null,null,null,null,null,null,null,null,null,null,null,null,0,null,null,null,null,null,null,null,null,null,null,null,null,null,null,null,null,null,null,null,"",null,null,null,null,null,null,null,null,null,null,null,null,null,""]
[18,null,null,null,null,null,null,null,null,null,null,null,null,null,null,null,null,null,null,null,null,null,null,null,null,null,0,null,null,null,null,null,null,null,null,null,null,null,null,null,null,null,null,null,null,null,"",null,null,null,null,null,null,null,null,null,null,null,null,null,""]
[18,null,null,null,null,null,null,null,null,null,null,null,null,null,null,null,null,null,null,null,null,null,null,null,null,null,0,null,null,null,null,null,null,null,null,null,null,null,null,null,null,null,null,null,null,null,"",null,null,null,null,null,null,null,null,null,null,null,null,null,""]
[18,null,null,null,null,null,null,null,null,null,null,null,null,null,null,null,null,null,null,null,null,null,null,null,null,null,0,null,null,null,null,null,null,null,null,null,null,null,null,null,null,null,null,null,null,null,"",null,null,null,null,null,null,null,null,null,null,null,null,null,""]
[18,null,null,null,null,null,null,null,null,null,null,null,null,null,null,null,null,null,null,null,null,null,null,null,null,null,0,null,null,null,null,null,null,null,null,null,null,null,null,null,null,null,null,null,null,null,"",null,null,null,null,null,null,null,null,null,null,null,null,null,""]
[18,null,null,null,null,null,null,null,null,null,null,null,null,null,null,null,null,null,null,null,null,null,null,null,null,null,0,null,null,null,null,null,null,null,null,null,null,null,null,null,null,null,null,null,null,null,"",null,null,null,null,null,null,null,null,null,null,null,null,null,""]
[18,null,null,null,null,null,null,null,null,null,null,null,null,null,null,null,null,null,null,null,null,null,null,null,null,null,0,null,null,null,null,null,null,null,null,null,null,null,null,null,null,null,null,null,null,null,"",null,null,null,null,null,null,null,null,null,null,null,null,null,""]
[18,null,null,null,null,null,null,null,null,null,null,null,null,null,null,null,null,null,null,null,null,null,null,null,null,null,0,null,null,null,null,null,null,null,null,null,null,null,null,null,null,null,null,null,null,null,"",null,null,null,null,null,null,null,null,null,null,null,null,null,""]
[18,null,null,null,null,null,null,null,null,null,null,null,null,null,null,null,null,null,null,null,null,null,null,null,null,null,0,null,null,null,null,null,null,null,null,null,null,null,null,null,null,null,null,null,null,null,"",null,null,null,null,null,null,null,null,null,null,null,null,null,""]
[18,null,null,null,null,null,null,null,null,null,null,null,null,null,null,null,null,null,null,null,null,null,null,null,null,null,0,null,null,null,null,null,null,null,null,null,null,null,null,null,null,null,null,null,null,null,"",null,null,null,null,null,null,null,null,null,null,null,null,null,""]
[18,null,null,null,null,null,null,null,null,null,null,null,null,null,null,null,null,null,null,null,null,null,null,null,null,null,0,null,null,null,null,null,null,null,null,null,null,null,null,null,null,null,null,null,null,null,"",null,null,null,null,null,null,null,null,null,null,null,null,null,""]
[18,null,null,null,null,null,null,null,null,null,null,null,null,null,null,null,null,null,null,null,null,null,null,null,null,null,0,null,null,null,null,null,null,null,null,null,null,null,null,null,null,null,null,null,null,null,"",null,null,null,null,null,null,null,null,null,null,null,null,null,""]
[18,null,null,null,null,null,null,null,null,null,null,null,null,null,null,null,null,null,null,null,null,null,null,null,null,null,0,null,null,null,null,null,null,null,null,null,null,null,null,null,null,null,null,null,null,null,"",null,null,null,null,null,null,null,null,null,null,null,null,null,""]
[18,null,null,null,null,null,null,null,null,null,null,null,null,null,null,null,null,null,null,null,null,null,null,null,null,null,0,null,null,null,null,null,null,null,null,null,null,null,null,null,null,null,null,null,null,null,"",null,null,null,null,null,null,null,null,null,null,null,null,null,""]
[18,null,null,null,null,null,null,null,null,null,null,null,null,null,null,null,null,null,null,null,null,null,null,null,null,null,0,null,null,null,null,null,null,null,null,null,null,null,null,null,null,null,null,null,null,null,"",null,null,null,null,null,null,null,null,null,null,null,null,null,""]
[18,null,null,null,null,null,null,null,null,null,null,null,null,null,null,null,null,null,null,null,null,null,null,null,null,null,0,null,null,null,null,null,null,null,null,null,null,null,null,null,null,null,null,null,null,null,"",null,null,null,null,null,null,null,null,null,null,null,null,null,""]
[18,null,null,null,null,null,null,null,null,null,null,null,null,null,null,null,null,null,null,null,null,null,null,null,null,null,0,null,null,null,null,null,null,null,null,null,null,null,null,null,null,null,null,null,null,null,"",null,null,null,null,null,null,null,null,null,null,null,null,null,""]
[18,null,null,null,null,null,null,null,null,null,null,null,null,null,null,null,null,null,null,null,null,null,null,null,null,null,0,null,null,null,null,null,null,null,null,null,null,null,null,null,null,null,null,null,null,null,"",null,null,null,null,null,null,null,null,null,null,null,null,null,""]
[18,null,null,null,null,null,null,null,null,null,null,null,null,null,null,null,null,null,null,null,null,null,null,null,null,null,0,null,null,null,null,null,null,null,null,null,null,null,null,null,null,null,null,null,null,null,"",null,null,null,null,null,null,null,null,null,null,null,null,null,""]
[18,null,null,null,null,null,null,null,null,null,null,null,null,null,null,null,null,null,null,null,null,null,null,null,null,null,0,null,null,null,null,null,null,null,null,null,null,null,null,null,null,null,null,null,null,null,"",null,null,null,null,null,null,null,null,null,null,null,null,null,""]
[18,null,null,null,null,null,null,null,null,null,null,null,null,null,null,null,null,null,null,null,null,null,null,null,null,null,0,null,null,null,null,null,null,null,null,null,null,null,null,null,null,null,null,null,null,null,"",null,null,null,null,null,null,null,null,null,null,null,null,null,""]
[18,null,null,null,null,null,null,null,null,null,null,null,null,null,null,null,null,null,null,null,null,null,null,null,null,null,0,null,null,null,null,null,null,null,null,null,null,null,null,null,null,null,null,null,null,null,"",null,null,null,null,null,null,null,null,null,null,null,null,null,""]
[18,null,null,null,null,null,null,null,null,null,null,null,null,null,null,null,null,null,null,null,null,null,null,null,null,null,0,null,null,null,null,null,null,null,null,null,null,null,null,null,null,null,null,null,null,null,"",null,null,null,null,null,null,null,null,null,null,null,null,null,""]
[18,null,null,null,null,null,null,null,null,null,null,null,null,null,null,null,null,null,null,null,null,null,null,null,null,null,0,null,null,null,null,null,null,null,null,null,null,null,null,null,null,null,null,null,null,null,"",null,null,null,null,null,null,null,null,null,null,null,null,null,""]
[18,null,null,null,null,null,null,null,null,null,null,null,null,null,null,null,null,null,null,null,null,null,null,null,null,null,0,null,null,null,null,null,null,null,null,null,null,null,null,null,null,null,null,null,null,null,"",null,null,null,null,null,null,null,null,null,null,null,null,null,""]
[18,null,null,null,null,null,null,null,null,null,null,null,null,null,null,null,null,null,null,null,null,null,null,null,null,null,0,null,null,null,null,null,null,null,null,null,null,null,null,null,null,null,null,null,null,null,"",null,null,null,null,null,null,null,null,null,null,null,null,null,""]
[18,null,null,null,null,null,null,null,null,null,null,null,null,null,null,null,null,null,null,null,null,null,null,null,null,null,0,null,null,null,null,null,null,null,null,null,null,null,null,null,null,null,null,null,null,null,"",null,null,null,null,null,null,null,null,null,null,null,null,null,""]
[18,null,null,null,null,null,null,null,null,null,null,null,null,null,null,null,null,null,null,null,null,null,null,null,null,null,0,null,null,null,null,null,null,null,null,null,null,null,null,null,null,null,null,null,null,null,"",null,null,null,null,null,null,null,null,null,null,null,null,null,""]
[18,null,null,null,null,null,null,null,null,null,null,null,null,null,null,null,null,null,null,null,null,null,null,null,null,null,0,null,null,null,null,null,null,null,null,null,null,null,null,null,null,null,null,null,null,null,"",null,null,null,null,null,null,null,null,null,null,null,null,null,""]
[18,null,null,null,null,null,null,null,null,null,null,null,null,null,null,null,null,null,null,null,null,null,null,null,null,null,0,null,null,null,null,null,null,null,null,null,null,null,null,null,null,null,null,null,null,null,"",null,null,null,null,null,null,null,null,null,null,null,null,null,""]
[18,null,null,null,null,null,null,null,null,null,null,null,null,null,null,null,null,null,null,null,null,null,null,null,null,null,0,null,null,null,null,null,null,null,null,null,null,null,null,null,null,null,null,null,null,null,"",null,null,null,null,null,null,null,null,null,null,null,null,null,""]
[18,null,null,null,null,null,null,null,null,null,null,null,null,null,null,null,null,null,null,null,null,null,null,null,null,null,0,null,null,null,null,null,null,null,null,null,null,null,null,null,null,null,null,null,null,null,"",null,null,null,null,null,null,null,null,null,null,null,null,null,""]
[18,null,null,null,null,null,null,null,null,null,null,null,null,null,null,null,null,null,null,null,null,null,null,null,null,null,0,null,null,null,null,null,null,null,null,null,null,null,null,null,null,null,null,null,null,null,"",null,null,null,null,null,null,null,null,null,null,null,null,null,""]
[18,null,null,null,null,null,null,null,null,null,null,null,null,null,null,null,null,null,null,null,null,null,null,null,null,null,0,null,null,null,null,null,null,null,null,null,null,null,null,null,null,null,null,null,null,null,"",null,null,null,null,null,null,null,null,null,null,null,null,null,""]
[18,null,null,null,null,null,null,null,null,null,null,null,null,null,null,null,null,null,null,null,null,null,null,null,null,null,0,null,null,null,null,null,null,null,null,null,null,null,null,null,null,null,null,null,null,null,"",null,null,null,null,null,null,null,null,null,null,null,null,null,""]
[18,null,null,null,null,null,null,null,null,null,null,null,null,null,null,null,null,null,null,null,null,null,null,null,null,null,0,null,null,null,null,null,null,null,null,null,null,null,null,null,null,null,null,null,null,null,"",null,null,null,null,null,null,null,null,null,null,null,null,null,""]
[18,null,null,null,null,null,null,null,null,null,null,null,null,null,null,null,null,null,null,null,null,null,null,null,null,null,0,null,null,null,null,null,null,null,null,null,null,null,null,null,null,null,null,null,null,null,"",null,null,null,null,null,null,null,null,null,null,null,null,null,""]
[18,null,null,null,null,null,null,null,null,null,null,null,null,null,null,null,null,null,null,null,null,null,null,null,null,null,0,null,null,null,null,null,null,null,null,null,null,null,null,null,null,null,null,null,null,null,"",null,null,null,null,null,null,null,null,null,null,null,null,null,""]
[18,null,null,null,null,null,null,null,null,null,null,null,null,null,null,null,null,null,null,null,null,null,null,null,null,null,0,null,null,null,null,null,null,null,null,null,null,null,null,null,null,null,null,null,null,null,"",null,null,null,null,null,null,null,null,null,null,null,null,null,""]
[18,null,null,null,null,null,null,null,null,null,null,null,null,null,null,null,null,null,null,null,null,null,null,null,null,null,0,null,null,null,null,null,null,null,null,null,null,null,null,null,null,null,null,null,null,null,"",null,null,null,null,null,null,null,null,null,null,null,null,null,""]
[18,null,null,null,null,null,null,null,null,null,null,null,null,null,null,null,null,null,null,null,null,null,null,null,null,null,0,null,null,null,null,null,null,null,null,null,null,null,null,null,null,null,null,null,null,null,"",null,null,null,null,null,null,null,null,null,null,null,null,null,""]
[18,null,null,null,null,null,null,null,null,null,null,null,null,null,null,null,null,null,null,null,null,null,null,null,null,null,0,null,null,null,null,null,null,null,null,null,null,null,null,null,null,null,null,null,null,null,"",null,null,null,null,null,null,null,null,null,null,null,null,null,""]
[18,null,null,null,null,null,null,null,null,null,null,null,null,null,null,null,null,null,null,null,null,null,null,null,null,null,0,null,null,null,null,null,null,null,null,null,null,null,null,null,null,null,null,null,null,null,"",null,null,null,null,null,null,null,null,null,null,null,null,null,""]
[18,null,null,null,null,null,null,null,null,null,null,null,null,null,null,null,null,null,null,null,null,null,null,null,null,null,0,null,null,null,null,null,null,null,null,null,null,null,null,null,null,null,null,null,null,null,"",null,null,null,null,null,null,null,null,null,null,null,null,null,""]
[18,null,null,null,null,null,null,null,null,null,null,null,null,null,null,null,null,null,null,null,null,null,null,null,null,null,0,null,null,null,null,null,null,null,null,null,null,null,null,null,null,null,null,null,null,null,"",null,null,null,null,null,null,null,null,null,null,null,null,null,""]
[18,null,null,null,null,null,null,null,null,null,null,null,null,null,null,null,null,null,null,null,null,null,null,null,null,null,{"$f":"Y387+(Z387/7)","v":0},null,null,null,null,null,null,null,null,null,null,null,null,null,null,null,null,null,null,null,"",null,null,null,null,null,null,null,null,null,null,null,null,null,""]
[18,null,null,null,null,null,null,null,null,null,null,null,null,null,null,null,null,null,null,null,null,null,null,null,null,null,0,null,null,null,null,null,null,null,null,null,null,null,null,null,null,null,null,null,null,null,"",null,null,null,null,null,null,null,null,null,null,null,null,null,""]
[18,null,null,null,null,null,null,null,null,null,null,null,null,null,null,null,null,null,null,null,null,null,null,null,null,null,0,null,null,null,null,null,null,null,null,null,null,null,null,null,null,null,null,null,null,null,"",null,null,null,null,null,null,null,null,null,null,null,null,null,""]
[18,null,null,null,null,null,null,null,null,null,null,null,null,null,null,null,null,null,null,null,null,null,null,null,null,null,0,null,null,null,null,null,null,null,null,null,null,null,null,null,null,null,null,null,null,null,"",null,null,null,null,null,null,null,null,null,null,null,null,null,""]
[18,null,null,null,null,null,null,null,null,null,null,null,null,null,null,null,null,null,null,null,null,null,null,null,null,null,0,null,null,null,null,null,null,null,null,null,null,null,null,null,null,null,null,null,null,null,"",null,null,null,null,null,null,null,null,null,null,null,null,null,""]
[18,null,null,null,null,null,null,null,null,null,null,null,null,null,null,null,null,null,null,null,null,null,null,null,null,null,0,null,null,null,null,null,null,null,null,null,null,null,null,null,null,null,null,null,null,null,"",null,null,null,null,null,null,null,null,null,null,null,null,null,""]
[18,null,null,null,null,null,null,null,null,null,null,null,null,null,null,null,null,null,null,null,null,null,null,null,null,null,0,null,null,null,null,null,null,null,null,null,null,null,null,null,null,null,null,null,null,null,"",null,null,null,null,null,null,null,null,null,null,null,null,null,""]
[18,null,null,null,null,null,null,null,null,null,null,null,null,null,null,null,null,null,null,null,null,null,null,null,null,null,0,null,null,null,null,null,null,null,null,null,null,null,null,null,null,null,null,null,null,null,"",null,null,null,null,null,null,null,null,null,null,null,null,null,""]
[18,null,null,null,null,null,null,null,null,null,null,null,null,null,null,null,null,null,null,null,null,null,null,null,null,null,0,null,null,null,null,null,null,null,null,null,null,null,null,null,null,null,null,null,null,null,"",null,null,null,null,null,null,null,null,null,null,null,null,null,""]
[18,null,null,null,null,null,null,null,null,null,null,null,null,null,null,null,null,null,null,null,null,null,null,null,null,null,0,null,null,null,null,null,null,null,null,null,null,null,null,null,null,null,null,null,null,null,"",null,null,null,null,null,null,null,null,null,null,null,null,null,""]
[18,null,null,null,null,null,null,null,null,null,null,null,null,null,null,null,null,null,null,null,null,null,null,null,null,null,0,null,null,null,null,null,null,null,null,null,null,null,null,null,null,null,null,null,null,null,"",null,null,null,null,null,null,null,null,null,null,null,null,null,""]
[18,null,null,null,null,null,null,null,null,null,null,null,null,null,null,null,null,null,null,null,null,null,null,null,null,null,0,null,null,null,null,null,null,null,null,null,null,null,null,null,null,null,null,null,null,null,"",null,null,null,null,null,null,null,null,null,null,null,null,null,""]
[18,null,null,null,null,null,null,null,null,null,null,null,null,null,null,null,null,null,null,null,null,null,null,null,null,null,0,null,null,null,null,null,null,null,null,null,null,null,null,null,null,null,null,null,null,null,"",null,null,null,null,null,null,null,null,null,null,null,null,null,""]
[18,null,null,null,null,null,null,null,null,null,null,null,null,null,null,null,null,null,null,null,null,null,null,null,null,null,0,null,null,null,null,null,null,null,null,null,null,null,null,null,null,null,null,null,null,null,"",null,null,null,null,null,null,null,null,null,null,null,null,null,""]
[18,null,null,null,null,null,null,null,null,null,null,null,null,null,null,null,null,null,null,null,null,null,null,null,null,null,0,null,null,null,null,null,null,null,null,null,null,null,null,null,null,null,null,null,null,null,"",null,null,null,null,null,null,null,null,null,null,null,null,null,""]
[18,null,null,null,null,null,null,null,null,null,null,null,null,null,null,null,null,null,null,null,null,null,null,null,null,null,0,null,null,null,null,null,null,null,null,null,null,null,null,null,null,null,null,null,null,null,"",null,null,null,null,null,null,null,null,null,null,null,null,null,""]
[18,null,null,null,null,null,null,null,null,null,null,null,null,null,null,null,null,null,null,null,null,null,null,null,null,null,0,null,null,null,null,null,null,null,null,null,null,null,null,null,null,null,null,null,null,null,"",null,null,null,null,null,null,null,null,null,null,null,null,null,""]
[18,null,null,null,null,null,null,null,null,null,null,null,null,null,null,null,null,null,null,null,null,null,null,null,null,null,0,null,null,null,null,null,null,null,null,null,null,null,null,null,null,null,null,null,null,null,"",null,null,null,null,null,null,null,null,null,null,null,null,null,""]
[18,null,null,null,null,null,null,null,null,null,null,null,null,null,null,null,null,null,null,null,null,null,null,null,null,null,0,null,null,null,null,null,null,null,null,null,null,null,null,null,null,null,null,null,null,null,"",null,null,null,null,null,null,null,null,null,null,null,null,null,""]
[18,null,null,null,null,null,null,null,null,null,null,null,null,null,null,null,null,null,null,null,null,null,null,null,null,null,0,null,null,null,null,null,null,null,null,null,null,null,null,null,null,null,null,null,null,null,"",null,null,null,null,null,null,null,null,null,null,null,null,null,""]
[18,null,null,null,null,null,null,null,null,null,null,null,null,null,null,null,null,null,null,null,null,null,null,null,null,null,0,null,null,null,null,null,null,null,null,null,null,null,null,null,null,null,null,null,null,null,"",null,null,null,null,null,null,null,null,null,null,null,null,null,""]
[18,null,null,null,null,null,null,null,null,null,null,null,null,null,null,null,null,null,null,null,null,null,null,null,null,null,0,null,null,null,null,null,null,null,null,null,null,null,null,null,null,null,null,null,null,null,"",null,null,null,null,null,null,null,null,null,null,null,null,null,""]
[18,null,null,null,null,null,null,null,null,null,null,null,null,null,null,null,null,null,null,null,null,null,null,null,null,null,0,null,null,null,null,null,null,null,null,null,null,null,null,null,null,null,null,null,null,null,"",null,null,null,null,null,null,null,null,null,null,null,null,null,""]
[18,null,null,null,null,null,null,null,null,null,null,null,null,null,null,null,null,null,null,null,null,null,null,null,null,null,0,null,null,null,null,null,null,null,null,null,null,null,null,null,null,null,null,null,null,null,"",null,null,null,null,null,null,null,null,null,null,null,null,null,""]
[18,null,null,null,null,null,null,null,null,null,null,null,null,null,null,null,null,null,null,null,null,null,null,null,null,null,0,null,null,null,null,null,null,null,null,null,null,null,null,null,null,null,null,null,null,null,"",null,null,null,null,null,null,null,null,null,null,null,null,null,""]
[18,null,null,null,null,null,null,null,null,null,null,null,null,null,null,null,null,null,null,null,null,null,null,null,null,null,0,null,null,null,null,null,null,null,null,null,null,null,null,null,null,null,null,null,null,null,"",null,null,null,null,null,null,null,null,null,null,null,null,null,""]
[18,null,null,null,null,null,null,null,null,null,null,null,null,null,null,null,null,null,null,null,null,null,null,null,null,null,0,null,null,null,null,null,null,null,null,null,null,null,null,null,null,null,null,null,null,null,"",null,null,null,null,null,null,null,null,null,null,null,null,null,""]
[18,null,null,null,null,null,null,null,null,null,null,null,null,null,null,null,null,null,null,null,null,null,null,null,null,null,0,null,null,null,null,null,null,null,null,null,null,null,null,null,null,null,null,null,null,null,"",null,null,null,null,null,null,null,null,null,null,null,null,null,""]
[18,null,null,null,null,null,null,null,null,null,null,null,null,null,null,null,null,null,null,null,null,null,null,null,null,null,0,null,null,null,null,null,null,null,null,null,null,null,null,null,null,null,null,null,null,null,"",null,null,null,null,null,null,null,null,null,null,null,null,null,""]
[18,null,null,null,null,null,null,null,null,null,null,null,null,null,null,null,null,null,null,null,null,null,null,null,null,null,0,null,null,null,null,null,null,null,null,null,null,null,null,null,null,null,null,null,null,null,"",null,null,null,null,null,null,null,null,null,null,null,null,null,""]
[18,null,null,null,null,null,null,null,null,null,null,null,null,null,null,null,null,null,null,null,null,null,null,null,null,null,0,null,null,null,null,null,null,null,null,null,null,null,null,null,null,null,null,null,null,null,"",null,null,null,null,null,null,null,null,null,null,null,null,null,""]
[18,null,null,null,null,null,null,null,null,null,null,null,null,null,null,null,null,null,null,null,null,null,null,null,null,null,0,null,null,null,null,null,null,null,null,null,null,null,null,null,null,null,null,null,null,null,"",null,null,null,null,null,null,null,null,null,null,null,null,null,""]
[18,null,null,null,null,null,null,null,null,null,null,null,null,null,null,null,null,null,null,null,null,null,null,null,null,null,0,null,null,null,null,null,null,null,null,null,null,null,null,null,null,null,null,null,null,null,"",null,null,null,null,null,null,null,null,null,null,null,null,null,""]
[18,null,null,null,null,null,null,null,null,null,null,null,null,null,null,null,null,null,null,null,null,null,null,null,null,null,0,null,null,null,null,null,null,null,null,null,null,null,null,null,null,null,null,null,null,null,"",null,null,null,null,null,null,null,null,null,null,null,null,null,""]
[18,null,null,null,null,null,null,null,null,null,null,null,null,null,null,null,null,null,null,null,null,null,null,null,null,null,0,null,null,null,null,null,null,null,null,null,null,null,null,null,null,null,null,null,null,null,"",null,null,null,null,null,null,null,null,null,null,null,null,null,""]
[18,null,null,null,null,null,null,null,null,null,null,null,null,null,null,null,null,null,null,null,null,null,null,null,null,null,0,null,null,null,null,null,null,null,null,null,null,null,null,null,null,null,null,null,null,null,"",null,null,null,null,null,null,null,null,null,null,null,null,null,""]
[18,null,null,null,null,null,null,null,null,null,null,null,null,null,null,null,null,null,null,null,null,null,null,null,null,null,0,null,null,null,null,null,null,null,null,null,null,null,null,null,null,null,null,null,null,null,"",null,null,null,null,null,null,null,null,null,null,null,null,null,""]
[18,null,null,null,null,null,null,null,null,null,null,null,null,null,null,null,null,null,null,null,null,null,null,null,null,null,0,null,null,null,null,null,null,null,null,null,null,null,null,null,null,null,null,null,null,null,"",null,null,null,null,null,null,null,null,null,null,null,null,null,""]
[18,null,null,null,null,null,null,null,null,null,null,null,null,null,null,null,null,null,null,null,null,null,null,null,null,null,0,null,null,null,null,null,null,null,null,null,null,null,null,null,null,null,null,null,null,null,"",null,null,null,null,null,null,null,null,null,null,null,null,null,""]
[18,null,null,null,null,null,null,null,null,null,null,null,null,null,null,null,null,null,null,null,null,null,null,null,null,null,0,null,null,null,null,null,null,null,null,null,null,null,null,null,null,null,null,null,null,null,"",null,null,null,null,null,null,null,null,null,null,null,null,null,""]
[18,null,null,null,null,null,null,null,null,null,null,null,null,null,null,null,null,null,null,null,null,null,null,null,null,null,0,null,null,null,null,null,null,null,null,null,null,null,null,null,null,null,null,null,null,null,"",null,null,null,null,null,null,null,null,null,null,null,null,null,""]
[18,null,null,null,null,null,null,null,null,null,null,null,null,null,null,null,null,null,null,null,null,null,null,null,null,null,0,null,null,null,null,null,null,null,null,null,null,null,null,null,null,null,null,null,null,null,"",null,null,null,null,null,null,null,null,null,null,null,null,null,""]
[18,null,null,null,null,null,null,null,null,null,null,null,null,null,null,null,null,null,null,null,null,null,null,null,null,null,0,null,null,null,null,null,null,null,null,null,null,null,null,null,null,null,null,null,null,null,"",null,null,null,null,null,null,null,null,null,null,null,null,null,""]
[18,null,null,null,null,null,null,null,null,null,null,null,null,null,null,null,null,null,null,null,null,null,null,null,null,null,0,null,null,null,null,null,null,null,null,null,null,null,null,null,null,null,null,null,null,null,"",null,null,null,null,null,null,null,null,null,null,null,null,null,""]
[18,null,null,null,null,null,null,null,null,null,null,null,null,null,null,null,null,null,null,null,null,null,null,null,null,null,0,null,null,null,null,null,null,null,null,null,null,null,null,null,null,null,null,null,null,null,"",null,null,null,null,null,null,null,null,null,null,null,null,null,""]
[18,null,null,null,null,null,null,null,null,null,null,null,null,null,null,null,null,null,null,null,null,null,null,null,null,null,0,null,null,null,null,null,null,null,null,null,null,null,null,null,null,null,null,null,null,null,"",null,null,null,null,null,null,null,null,null,null,null,null,null,""]
[18,null,null,null,null,null,null,null,null,null,null,null,null,null,null,null,null,null,null,null,null,null,null,null,null,null,0,null,null,null,null,null,null,null,null,null,null,null,null,null,null,null,null,null,null,null,"",null,null,null,null,null,null,null,null,null,null,null,null,null,""]
[18,null,null,null,null,null,null,null,null,null,null,null,null,null,null,null,null,null,null,null,null,null,null,null,null,null,0,null,null,null,null,null,null,null,null,null,null,null,null,null,null,null,null,null,null,null,"",null,null,null,null,null,null,null,null,null,null,null,null,null,""]
[18,null,null,null,null,null,null,null,null,null,null,null,null,null,null,null,null,null,null,null,null,null,null,null,null,null,0,null,null,null,null,null,null,null,null,null,null,null,null,null,null,null,null,null,null,null,"",null,null,null,null,null,null,null,null,null,null,null,null,null,""]
[18,null,null,null,null,null,null,null,null,null,null,null,null,null,null,null,null,null,null,null,null,null,null,null,null,null,0,null,null,null,null,null,null,null,null,null,null,null,null,null,null,null,null,null,null,null,"",null,null,null,null,null,null,null,null,null,null,null,null,null,""]
[18,null,null,null,null,null,null,null,null,null,null,null,null,null,null,null,null,null,null,null,null,null,null,null,null,null,0,null,null,null,null,null,null,null,null,null,null,null,null,null,null,null,null,null,null,null,"",null,null,null,null,null,null,null,null,null,null,null,null,null,""]
[18,null,null,null,null,null,null,null,null,null,null,null,null,null,null,null,null,null,null,null,null,null,null,null,null,null,0,null,null,null,null,null,null,null,null,null,null,null,null,null,null,null,null,null,null,null,"",null,null,null,null,null,null,null,null,null,null,null,null,null,""]
[18,null,null,null,null,null,null,null,null,null,null,null,null,null,null,null,null,null,null,null,null,null,null,null,null,null,0,null,null,null,null,null,null,null,null,null,null,null,null,null,null,null,null,null,null,null,"",null,null,null,null,null,null,null,null,null,null,null,null,null,""]
[18,null,null,null,null,null,null,null,null,null,null,null,null,null,null,null,null,null,null,null,null,null,null,null,null,null,0,null,null,null,null,null,null,null,null,null,null,null,null,null,null,null,null,null,null,null,"",null,null,null,null,null,null,null,null,null,null,null,null,null,""]
[18,null,null,null,null,null,null,null,null,null,null,null,null,null,null,null,null,null,null,null,null,null,null,null,null,null,0,null,null,null,null,null,null,null,null,null,null,null,null,null,null,null,null,null,null,null,"",null,null,null,null,null,null,null,null,null,null,null,null,null,""]
[18,null,null,null,null,null,null,null,null,null,null,null,null,null,null,null,null,null,null,null,null,null,null,null,null,null,0,null,null,null,null,null,null,null,null,null,null,null,null,null,null,null,null,null,null,null,"",null,null,null,null,null,null,null,null,null,null,null,null,null,""]
[18,null,null,null,null,null,null,null,null,null,null,null,null,null,null,null,null,null,null,null,null,null,null,null,null,null,0,null,null,null,null,null,null,null,null,null,null,null,null,null,null,null,null,null,null,null,"",null,null,null,null,null,null,null,null,null,null,null,null,null,""]
[18,null,null,null,null,null,null,null,null,null,null,null,null,null,null,null,null,null,null,null,null,null,null,null,null,null,0,null,null,null,null,null,null,null,null,null,null,null,null,null,null,null,null,null,null,null,"",null,null,null,null,null,null,null,null,null,null,null,null,null,""]
[18,null,null,null,null,null,null,null,null,null,null,null,null,null,null,null,null,null,null,null,null,null,null,null,null,null,0,null,null,null,null,null,null,null,null,null,null,null,null,null,null,null,null,null,null,null,"",null,null,null,null,null,null,null,null,null,null,null,null,null,""]
[18,null,null,null,null,null,null,null,null,null,null,null,null,null,null,null,null,null,null,null,null,null,null,null,null,null,0,null,null,null,null,null,null,null,null,null,null,null,null,null,null,null,null,null,null,null,"",null,null,null,null,null,null,null,null,null,null,null,null,null,""]
[18,null,null,null,null,null,null,null,null,null,null,null,null,null,null,null,null,null,null,null,null,null,null,null,null,null,0,null,null,null,null,null,null,null,null,null,null,null,null,null,null,null,null,null,null,null,"",null,null,null,null,null,null,null,null,null,null,null,null,null,""]
[18,null,null,null,null,null,null,null,null,null,null,null,null,null,null,null,null,null,null,null,null,null,null,null,null,null,0,null,null,null,null,null,null,null,null,null,null,null,null,null,null,null,null,null,null,null,"",null,null,null,null,null,null,null,null,null,null,null,null,null,""]
[18,null,null,null,null,null,null,null,null,null,null,null,null,null,null,null,null,null,null,null,null,null,null,null,null,null,0,null,null,null,null,null,null,null,null,null,null,null,null,null,null,null,null,null,null,null,"",null,null,null,null,null,null,null,null,null,null,null,null,null,""]
[18,null,null,null,null,null,null,null,null,null,null,null,null,null,null,null,null,null,null,null,null,null,null,null,null,null,0,null,null,null,null,null,null,null,null,null,null,null,null,null,null,null,null,null,null,null,"",null,null,null,null,null,null,null,null,null,null,null,null,null,""]
[18,null,null,null,null,null,null,null,null,null,null,null,null,null,null,null,null,null,null,null,null,null,null,null,null,null,{"$f":"Y451+(Z451/7)","v":0},null,null,null,null,null,null,null,null,null,null,null,null,null,null,null,null,null,null,null,"",null,null,null,null,null,null,null,null,null,null,null,null,null,""]
[18,null,null,null,null,null,null,null,null,null,null,null,null,null,null,null,null,null,null,null,null,null,null,null,null,null,0,null,null,null,null,null,null,null,null,null,null,null,null,null,null,null,null,null,null,null,"",null,null,null,null,null,null,null,null,null,null,null,null,null,""]
[18,null,null,null,null,null,null,null,null,null,null,null,null,null,null,null,null,null,null,null,null,null,null,null,null,null,0,null,null,null,null,null,null,null,null,null,null,null,null,null,null,null,null,null,null,null,"",null,null,null,null,null,null,null,null,null,null,null,null,null,""]
[18,null,null,null,null,null,null,null,null,null,null,null,null,null,null,null,null,null,null,null,null,null,null,null,null,null,0,null,null,null,null,null,null,null,null,null,null,null,null,null,null,null,null,null,null,null,"",null,null,null,null,null,null,null,null,null,null,null,null,null,""]
[18,null,null,null,null,null,null,null,null,null,null,null,null,null,null,null,null,null,null,null,null,null,null,null,null,null,0,null,null,null,null,null,null,null,null,null,null,null,null,null,null,null,null,null,null,null,"",null,null,null,null,null,null,null,null,null,null,null,null,null,""]
[18,null,null,null,null,null,null,null,null,null,null,null,null,null,null,null,null,null,null,null,null,null,null,null,null,null,0,null,null,null,null,null,null,null,null,null,null,null,null,null,null,null,null,null,null,null,"",null,null,null,null,null,null,null,null,null,null,null,null,null,""]
[18,null,null,null,null,null,null,null,null,null,null,null,null,null,null,null,null,null,null,null,null,null,null,null,null,null,0,null,null,null,null,null,null,null,null,null,null,null,null,null,null,null,null,null,null,null,"",null,null,null,null,null,null,null,null,null,null,null,null,null,""]
[18,null,null,null,null,null,null,null,null,null,null,null,null,null,null,null,null,null,null,null,null,null,null,null,null,null,0,null,null,null,null,null,null,null,null,null,null,null,null,null,null,null,null,null,null,null,"",null,null,null,null,null,null,null,null,null,null,null,null,null,""]
[18,null,null,null,null,null,null,null,null,null,null,null,null,null,null,null,null,null,null,null,null,null,null,null,null,null,0,null,null,null,null,null,null,null,null,null,null,null,null,null,null,null,null,null,null,null,"",null,null,null,null,null,null,null,null,null,null,null,null,null,""]
[18,null,null,null,null,null,null,null,null,null,null,null,null,null,null,null,null,null,null,null,null,null,null,null,null,null,0,null,null,null,null,null,null,null,null,null,null,null,null,null,null,null,null,null,null,null,"",null,null,null,null,null,null,null,null,null,null,null,null,null,""]
[18,null,null,null,null,null,null,null,null,null,null,null,null,null,null,null,null,null,null,null,null,null,null,null,null,null,0,null,null,null,null,null,null,null,null,null,null,null,null,null,null,null,null,null,null,null,"",null,null,null,null,null,null,null,null,null,null,null,null,null,""]
[18,null,null,null,null,null,null,null,null,null,null,null,null,null,null,null,null,null,null,null,null,null,null,null,null,null,0,null,null,null,null,null,null,null,null,null,null,null,null,null,null,null,null,null,null,null,"",null,null,null,null,null,null,null,null,null,null,null,null,null,""]
[18,null,null,null,null,null,null,null,null,null,null,null,null,null,null,null,null,null,null,null,null,null,null,null,null,null,0,null,null,null,null,null,null,null,null,null,null,null,null,null,null,null,null,null,null,null,"",null,null,null,null,null,null,null,null,null,null,null,null,null,""]
[18,null,null,null,null,null,null,null,null,null,null,null,null,null,null,null,null,null,null,null,null,null,null,null,null,null,0,null,null,null,null,null,null,null,null,null,null,null,null,null,null,null,null,null,null,null,"",null,null,null,null,null,null,null,null,null,null,null,null,null,""]
[18,null,null,null,null,null,null,null,null,null,null,null,null,null,null,null,null,null,null,null,null,null,null,null,null,null,0,null,null,null,null,null,null,null,null,null,null,null,null,null,null,null,null,null,null,null,"",null,null,null,null,null,null,null,null,null,null,null,null,null,""]
[18,null,null,null,null,null,null,null,null,null,null,null,null,null,null,null,null,null,null,null,null,null,null,null,null,null,0,null,null,null,null,null,null,null,null,null,null,null,null,null,null,null,null,null,null,null,"",null,null,null,null,null,null,null,null,null,null,null,null,null,""]
[18,null,null,null,null,null,null,null,null,null,null,null,null,null,null,null,null,null,null,null,null,null,null,null,null,null,0,null,null,null,null,null,null,null,null,null,null,null,null,null,null,null,null,null,null,null,"",null,null,null,null,null,null,null,null,null,null,null,null,null,""]
[18,null,null,null,null,null,null,null,null,null,null,null,null,null,null,null,null,null,null,null,null,null,null,null,null,null,0,null,null,null,null,null,null,null,null,null,null,null,null,null,null,null,null,null,null,null,"",null,null,null,null,null,null,null,null,null,null,null,null,null,""]
[18,null,null,null,null,null,null,null,null,null,null,null,null,null,null,null,null,null,null,null,null,null,null,null,null,null,0,null,null,null,null,null,null,null,null,null,null,null,null,null,null,null,null,null,null,null,"",null,null,null,null,null,null,null,null,null,null,null,null,null,""]
[18,null,null,null,null,null,null,null,null,null,null,null,null,null,null,null,null,null,null,null,null,null,null,null,null,null,0,null,null,null,null,null,null,null,null,null,null,null,null,null,null,null,null,null,null,null,"",null,null,null,null,null,null,null,null,null,null,null,null,null,""]
[18,null,null,null,null,null,null,null,null,null,null,null,null,null,null,null,null,null,null,null,null,null,null,null,null,null,0,null,null,null,null,null,null,null,null,null,null,null,null,null,null,null,null,null,null,null,"",null,null,null,null,null,null,null,null,null,null,null,null,null,""]
[18,null,null,null,null,null,null,null,null,null,null,null,null,null,null,null,null,null,null,null,null,null,null,null,null,null,0,null,null,null,null,null,null,null,null,null,null,null,null,null,null,null,null,null,null,null,"",null,null,null,null,null,null,null,null,null,null,null,null,null,""]
[18,null,null,null,null,null,null,null,null,null,null,null,null,null,null,null,null,null,null,null,null,null,null,null,null,null,0,null,null,null,null,null,null,null,null,null,null,null,null,null,null,null,null,null,null,null,"",null,null,null,null,null,null,null,null,null,null,null,null,null,""]
[18,null,null,null,null,null,null,null,null,null,null,null,null,null,null,null,null,null,null,null,null,null,null,null,null,null,0,null,null,null,null,null,null,null,null,null,null,null,null,null,null,null,null,null,null,null,"",null,null,null,null,null,null,null,null,null,null,null,null,null,""]
[18,null,null,null,null,null,null,null,null,null,null,null,null,null,null,null,null,null,null,null,null,null,null,null,null,null,0,null,null,null,null,null,null,null,null,null,null,null,null,null,null,null,null,null,null,null,"",null,null,null,null,null,null,null,null,null,null,null,null,null,""]
[18,null,null,null,null,null,null,null,null,null,null,null,null,null,null,null,null,null,null,null,null,null,null,null,null,null,0,null,null,null,null,null,null,null,null,null,null,null,null,null,null,null,null,null,null,null,"",null,null,null,null,null,null,null,null,null,null,null,null,null,""]
[18,null,null,null,null,null,null,null,null,null,null,null,null,null,null,null,null,null,null,null,null,null,null,null,null,null,0,null,null,null,null,null,null,null,null,null,null,null,null,null,null,null,null,null,null,null,"",null,null,null,null,null,null,null,null,null,null,null,null,null,""]
[18,null,null,null,null,null,null,null,null,null,null,null,null,null,null,null,null,null,null,null,null,null,null,null,null,null,0,null,null,null,null,null,null,null,null,null,null,null,null,null,null,null,null,null,null,null,"",null,null,null,null,null,null,null,null,null,null,null,null,null,""]
[18,null,null,null,null,null,null,null,null,null,null,null,null,null,null,null,null,null,null,null,null,null,null,null,null,null,0,null,null,null,null,null,null,null,null,null,null,null,null,null,null,null,null,null,null,null,"",null,null,null,null,null,null,null,null,null,null,null,null,null,""]
[18,null,null,null,null,null,null,null,null,null,null,null,null,null,null,null,null,null,null,null,null,null,null,null,null,null,0,null,null,null,null,null,null,null,null,null,null,null,null,null,null,null,null,null,null,null,"",null,null,null,null,null,null,null,null,null,null,null,null,null,""]
[18,null,null,null,null,null,null,null,null,null,null,null,null,null,null,null,null,null,null,null,null,null,null,null,null,null,0,null,null,null,null,null,null,null,null,null,null,null,null,null,null,null,null,null,null,null,"",null,null,null,null,null,null,null,null,null,null,null,null,null,""]
[18,null,null,null,null,null,null,null,null,null,null,null,null,null,null,null,null,null,null,null,null,null,null,null,null,null,0,null,null,null,null,null,null,null,null,null,null,null,null,null,null,null,null,null,null,null,"",null,null,null,null,null,null,null,null,null,null,null,null,null,""]
[18,null,null,null,null,null,null,null,null,null,null,null,null,null,null,null,null,null,null,null,null,null,null,null,null,null,0,null,null,null,null,null,null,null,null,null,null,null,null,null,null,null,null,null,null,null,"",null,null,null,null,null,null,null,null,null,null,null,null,null,""]
[18,null,null,null,null,null,null,null,null,null,null,null,null,null,null,null,null,null,null,null,null,null,null,null,null,null,0,null,null,null,null,null,null,null,null,null,null,null,null,null,null,null,null,null,null,null,"",null,null,null,null,null,null,null,null,null,null,null,null,null,""]
[18,null,null,null,null,null,null,null,null,null,null,null,null,null,null,null,null,null,null,null,null,null,null,null,null,null,0,null,null,null,null,null,null,null,null,null,null,null,null,null,null,null,null,null,null,null,"",null,null,null,null,null,null,null,null,null,null,null,null,null,""]
[18,null,null,null,null,null,null,null,null,null,null,null,null,null,null,null,null,null,null,null,null,null,null,null,null,null,0,null,null,null,null,null,null,null,null,null,null,null,null,null,null,null,null,null,null,null,"",null,null,null,null,null,null,null,null,null,null,null,null,null,""]
[18,null,null,null,null,null,null,null,null,null,null,null,null,null,null,null,null,null,null,null,null,null,null,null,null,null,0,null,null,null,null,null,null,null,null,null,null,null,null,null,null,null,null,null,null,null,"",null,null,null,null,null,null,null,null,null,null,null,null,null,""]
[18,null,null,null,null,null,null,null,null,null,null,null,null,null,null,null,null,null,null,null,null,null,null,null,null,null,0,null,null,null,null,null,null,null,null,null,null,null,null,null,null,null,null,null,null,null,"",null,null,null,null,null,null,null,null,null,null,null,null,null,""]
[18,null,null,null,null,null,null,null,null,null,null,null,null,null,null,null,null,null,null,null,null,null,null,null,null,null,0,null,null,null,null,null,null,null,null,null,null,null,null,null,null,null,null,null,null,null,"",null,null,null,null,null,null,null,null,null,null,null,null,null,""]
[18,null,null,null,null,null,null,null,null,null,null,null,null,null,null,null,null,null,null,null,null,null,null,null,null,null,0,null,null,null,null,null,null,null,null,null,null,null,null,null,null,null,null,null,null,null,"",null,null,null,null,null,null,null,null,null,null,null,null,null,""]
[18,null,null,null,null,null,null,null,null,null,null,null,null,null,null,null,null,null,null,null,null,null,null,null,null,null,0,null,null,null,null,null,null,null,null,null,null,null,null,null,null,null,null,null,null,null,"",null,null,null,null,null,null,null,null,null,null,null,null,null,""]
[18,null,null,null,null,null,null,null,null,null,null,null,null,null,null,null,null,null,null,null,null,null,null,null,null,null,0,null,null,null,null,null,null,null,null,null,null,null,null,null,null,null,null,null,null,null,"",null,null,null,null,null,null,null,null,null,null,null,null,null,""]
[18,null,null,null,null,null,null,null,null,null,null,null,null,null,null,null,null,null,null,null,null,null,null,null,null,null,0,null,null,null,null,null,null,null,null,null,null,null,null,null,null,null,null,null,null,null,"",null,null,null,null,null,null,null,null,null,null,null,null,null,""]
[18,null,null,null,null,null,null,null,null,null,null,null,null,null,null,null,null,null,null,null,null,null,null,null,null,null,0,null,null,null,null,null,null,null,null,null,null,null,null,null,null,null,null,null,null,null,"",null,null,null,null,null,null,null,null,null,null,null,null,null,""]
[18,null,null,null,null,null,null,null,null,null,null,null,null,null,null,null,null,null,null,null,null,null,null,null,null,null,0,null,null,null,null,null,null,null,null,null,null,null,null,null,null,null,null,null,null,null,"",null,null,null,null,null,null,null,null,null,null,null,null,null,""]
[18,null,null,null,null,null,null,null,null,null,null,null,null,null,null,null,null,null,null,null,null,null,null,null,null,null,0,null,null,null,null,null,null,null,null,null,null,null,null,null,null,null,null,null,null,null,"",null,null,null,null,null,null,null,null,null,null,null,null,null,""]
[18,null,null,null,null,null,null,null,null,null,null,null,null,null,null,null,null,null,null,null,null,null,null,null,null,null,0,null,null,null,null,null,null,null,null,null,null,null,null,null,null,null,null,null,null,null,"",null,null,null,null,null,null,null,null,null,null,null,null,null,""]
[18,null,null,null,null,null,null,null,null,null,null,null,null,null,null,null,null,null,null,null,null,null,null,null,null,null,0,null,null,null,null,null,null,null,null,null,null,null,null,null,null,null,null,null,null,null,"",null,null,null,null,null,null,null,null,null,null,null,null,null,""]
[18,null,null,null,null,null,null,null,null,null,null,null,null,null,null,null,null,null,null,null,null,null,null,null,null,null,0,null,null,null,null,null,null,null,null,null,null,null,null,null,null,null,null,null,null,null,"",null,null,null,null,null,null,null,null,null,null,null,null,null,""]
[18,null,null,null,null,null,null,null,null,null,null,null,null,null,null,null,null,null,null,null,null,null,null,null,null,null,0,null,null,null,null,null,null,null,null,null,null,null,null,null,null,null,null,null,null,null,"",null,null,null,null,null,null,null,null,null,null,null,null,null,""]
[18,null,null,null,null,null,null,null,null,null,null,null,null,null,null,null,null,null,null,null,null,null,null,null,null,null,0,null,null,null,null,null,null,null,null,null,null,null,null,null,null,null,null,null,null,null,"",null,null,null,null,null,null,null,null,null,null,null,null,null,""]
[18,null,null,null,null,null,null,null,null,null,null,null,null,null,null,null,null,null,null,null,null,null,null,null,null,null,0,null,null,null,null,null,null,null,null,null,null,null,null,null,null,null,null,null,null,null,"",null,null,null,null,null,null,null,null,null,null,null,null,null,""]
[18,null,null,null,null,null,null,null,null,null,null,null,null,null,null,null,null,null,null,null,null,null,null,null,null,null,0,null,null,null,null,null,null,null,null,null,null,null,null,null,null,null,null,null,null,null,"",null,null,null,null,null,null,null,null,null,null,null,null,null,""]
[18,null,null,null,null,null,null,null,null,null,null,null,null,null,null,null,null,null,null,null,null,null,null,null,null,null,0,null,null,null,null,null,null,null,null,null,null,null,null,null,null,null,null,null,null,null,"",null,null,null,null,null,null,null,null,null,null,null,null,null,""]
[18,null,null,null,null,null,null,null,null,null,null,null,null,null,null,null,null,null,null,null,null,null,null,null,null,null,0,null,null,null,null,null,null,null,null,null,null,null,null,null,null,null,null,null,null,null,"",null,null,null,null,null,null,null,null,null,null,null,null,null,""]
[18,null,null,null,null,null,null,null,null,null,null,null,null,null,null,null,null,null,null,null,null,null,null,null,null,null,0,null,null,null,null,null,null,null,null,null,null,null,null,null,null,null,null,null,null,null,"",null,null,null,null,null,null,null,null,null,null,null,null,null,""]
[18,null,null,null,null,null,null,null,null,null,null,null,null,null,null,null,null,null,null,null,null,null,null,null,null,null,0,null,null,null,null,null,null,null,null,null,null,null,null,null,null,null,null,null,null,null,"",null,null,null,null,null,null,null,null,null,null,null,null,null,""]
[18,null,null,null,null,null,null,null,null,null,null,null,null,null,null,null,null,null,null,null,null,null,null,null,null,null,{"$f":"Y515+(Z515/7)","v":0},null,null,null,null,null,null,null,null,null,null,null,null,null,null,null,null,null,null,null,"",null,null,null,null,null,null,null,null,null,null,null,null,null,""]
[18,null,null,null,null,null,null,null,null,null,null,null,null,null,null,null,null,null,null,null,null,null,null,null,null,null,0,null,null,null,null,null,null,null,null,null,null,null,null,null,null,null,null,null,null,null,"",null,null,null,null,null,null,null,null,null,null,null,null,null,""]
[18,null,null,null,null,null,null,null,null,null,null,null,null,null,null,null,null,null,null,null,null,null,null,null,null,null,0,null,null,null,null,null,null,null,null,null,null,null,null,null,null,null,null,null,null,null,"",null,null,null,null,null,null,null,null,null,null,null,null,null,""]
[18,null,null,null,null,null,null,null,null,null,null,null,null,null,null,null,null,null,null,null,null,null,null,null,null,null,0,null,null,null,null,null,null,null,null,null,null,null,null,null,null,null,null,null,null,null,"",null,null,null,null,null,null,null,null,null,null,null,null,null,""]
[18,null,null,null,null,null,null,null,null,null,null,null,null,null,null,null,null,null,null,null,null,null,null,null,null,null,0,null,null,null,null,null,null,null,null,null,null,null,null,null,null,null,null,null,null,null,"",null,null,null,null,null,null,null,null,null,null,null,null,null,""]
[18,null,null,null,null,null,null,null,null,null,null,null,null,null,null,null,null,null,null,null,null,null,null,null,null,null,0,null,null,null,null,null,null,null,null,null,null,null,null,null,null,null,null,null,null,null,"",null,null,null,null,null,null,null,null,null,null,null,null,null,""]
[18,null,null,null,null,null,null,null,null,null,null,null,null,null,null,null,null,null,null,null,null,null,null,null,null,null,0,null,null,null,null,null,null,null,null,null,null,null,null,null,null,null,null,null,null,null,"",null,null,null,null,null,null,null,null,null,null,null,null,null,""]
[18,null,null,null,null,null,null,null,null,null,null,null,null,null,null,null,null,null,null,null,null,null,null,null,null,null,0,null,null,null,null,null,null,null,null,null,null,null,null,null,null,null,null,null,null,null,"",null,null,null,null,null,null,null,null,null,null,null,null,null,""]
[18,null,null,null,null,null,null,null,null,null,null,null,null,null,null,null,null,null,null,null,null,null,null,null,null,null,0,null,null,null,null,null,null,null,null,null,null,null,null,null,null,null,null,null,null,null,"",null,null,null,null,null,null,null,null,null,null,null,null,null,""]
[18,null,null,null,null,null,null,null,null,null,null,null,null,null,null,null,null,null,null,null,null,null,null,null,null,null,0,null,null,null,null,null,null,null,null,null,null,null,null,null,null,null,null,null,null,null,"",null,null,null,null,null,null,null,null,null,null,null,null,null,""]
[18,null,null,null,null,null,null,null,null,null,null,null,null,null,null,null,null,null,null,null,null,null,null,null,null,null,0,null,null,null,null,null,null,null,null,null,null,null,null,null,null,null,null,null,null,null,"",null,null,null,null,null,null,null,null,null,null,null,null,null,""]
[18,null,null,null,null,null,null,null,null,null,null,null,null,null,null,null,null,null,null,null,null,null,null,null,null,null,0,null,null,null,null,null,null,null,null,null,null,null,null,null,null,null,null,null,null,null,"",null,null,null,null,null,null,null,null,null,null,null,null,null,""]
[18,null,null,null,null,null,null,null,null,null,null,null,null,null,null,null,null,null,null,null,null,null,null,null,null,null,0,null,null,null,null,null,null,null,null,null,null,null,null,null,null,null,null,null,null,null,"",null,null,null,null,null,null,null,null,null,null,null,null,null,""]
[18,null,null,null,null,null,null,null,null,null,null,null,null,null,null,null,null,null,null,null,null,null,null,null,null,null,0,null,null,null,null,null,null,null,null,null,null,null,null,null,null,null,null,null,null,null,"",null,null,null,null,null,null,null,null,null,null,null,null,null,""]
[18,null,null,null,null,null,null,null,null,null,null,null,null,null,null,null,null,null,null,null,null,null,null,null,null,null,0,null,null,null,null,null,null,null,null,null,null,null,null,null,null,null,null,null,null,null,"",null,null,null,null,null,null,null,null,null,null,null,null,null,""]
[18,null,null,null,null,null,null,null,null,null,null,null,null,null,null,null,null,null,null,null,null,null,null,null,null,null,0,null,null,null,null,null,null,null,null,null,null,null,null,null,null,null,null,null,null,null,"",null,null,null,null,null,null,null,null,null,null,null,null,null,""]
[18,null,null,null,null,null,null,null,null,null,null,null,null,null,null,null,null,null,null,null,null,null,null,null,null,null,0,null,null,null,null,null,null,null,null,null,null,null,null,null,null,null,null,null,null,null,"",null,null,null,null,null,null,null,null,null,null,null,null,null,""]
[18,null,null,null,null,null,null,null,null,null,null,null,null,null,null,null,null,null,null,null,null,null,null,null,null,null,0,null,null,null,null,null,null,null,null,null,null,null,null,null,null,null,null,null,null,null,"",null,null,null,null,null,null,null,null,null,null,null,null,null,""]
[18,null,null,null,null,null,null,null,null,null,null,null,null,null,null,null,null,null,null,null,null,null,null,null,null,null,0,null,null,null,null,null,null,null,null,null,null,null,null,null,null,null,null,null,null,null,"",null,null,null,null,null,null,null,null,null,null,null,null,null,""]
[18,null,null,null,null,null,null,null,null,null,null,null,null,null,null,null,null,null,null,null,null,null,null,null,null,null,0,null,null,null,null,null,null,null,null,null,null,null,null,null,null,null,null,null,null,null,"",null,null,null,null,null,null,null,null,null,null,null,null,null,""]
[18,null,null,null,null,null,null,null,null,null,null,null,null,null,null,null,null,null,null,null,null,null,null,null,null,null,0,null,null,null,null,null,null,null,null,null,null,null,null,null,null,null,null,null,null,null,"",null,null,null,null,null,null,null,null,null,null,null,null,null,""]
[18,null,null,null,null,null,null,null,null,null,null,null,null,null,null,null,null,null,null,null,null,null,null,null,null,null,0,null,null,null,null,null,null,null,null,null,null,null,null,null,null,null,null,null,null,null,"",null,null,null,null,null,null,null,null,null,null,null,null,null,""]
[18,null,null,null,null,null,null,null,null,null,null,null,null,null,null,null,null,null,null,null,null,null,null,null,null,null,0,null,null,null,null,null,null,null,null,null,null,null,null,null,null,null,null,null,null,null,"",null,null,null,null,null,null,null,null,null,null,null,null,null,""]
[18,null,null,null,null,null,null,null,null,null,null,null,null,null,null,null,null,null,null,null,null,null,null,null,null,null,0,null,null,null,null,null,null,null,null,null,null,null,null,null,null,null,null,null,null,null,"",null,null,null,null,null,null,null,null,null,null,null,null,null,""]
[18,null,null,null,null,null,null,null,null,null,null,null,null,null,null,null,null,null,null,null,null,null,null,null,null,null,0,null,null,null,null,null,null,null,null,null,null,null,null,null,null,null,null,null,null,null,"",null,null,null,null,null,null,null,null,null,null,null,null,null,""]
[18,null,null,null,null,null,null,null,null,null,null,null,null,null,null,null,null,null,null,null,null,null,null,null,null,null,0,null,null,null,null,null,null,null,null,null,null,null,null,null,null,null,null,null,null,null,"",null,null,null,null,null,null,null,null,null,null,null,null,null,""]
[18,null,null,null,null,null,null,null,null,null,null,null,null,null,null,null,null,null,null,null,null,null,null,null,null,null,0,null,null,null,null,null,null,null,null,null,null,null,null,null,null,null,null,null,null,null,"",null,null,null,null,null,null,null,null,null,null,null,null,null,""]
[18,null,null,null,null,null,null,null,null,null,null,null,null,null,null,null,null,null,null,null,null,null,null,null,null,null,0,null,null,null,null,null,null,null,null,null,null,null,null,null,null,null,null,null,null,null,"",null,null,null,null,null,null,null,null,null,null,null,null,null,""]
[18,null,null,null,null,null,null,null,null,null,null,null,null,null,null,null,null,null,null,null,null,null,null,null,null,null,0,null,null,null,null,null,null,null,null,null,null,null,null,null,null,null,null,null,null,null,"",null,null,null,null,null,null,null,null,null,null,null,null,null,""]
[18,null,null,null,null,null,null,null,null,null,null,null,null,null,null,null,null,null,null,null,null,null,null,null,null,null,0,null,null,null,null,null,null,null,null,null,null,null,null,null,null,null,null,null,null,null,"",null,null,null,null,null,null,null,null,null,null,null,null,null,""]
[18,null,null,null,null,null,null,null,null,null,null,null,null,null,null,null,null,null,null,null,null,null,null,null,null,null,0,null,null,null,null,null,null,null,null,null,null,null,null,null,null,null,null,null,null,null,"",null,null,null,null,null,null,null,null,null,null,null,null,null,""]
[18,null,null,null,null,null,null,null,null,null,null,null,null,null,null,null,null,null,null,null,null,null,null,null,null,null,0,null,null,null,null,null,null,null,null,null,null,null,null,null,null,null,null,null,null,null,"",null,null,null,null,null,null,null,null,null,null,null,null,null,""]
[18,null,null,null,null,null,null,null,null,null,null,null,null,null,null,null,null,null,null,null,null,null,null,null,null,null,0,null,null,null,null,null,null,null,null,null,null,null,null,null,null,null,null,null,null,null,"",null,null,null,null,null,null,null,null,null,null,null,null,null,""]
[18,null,null,null,null,null,null,null,null,null,null,null,null,null,null,null,null,null,null,null,null,null,null,null,null,null,0,null,null,null,null,null,null,null,null,null,null,null,null,null,null,null,null,null,null,null,"",null,null,null,null,null,null,null,null,null,null,null,null,null,""]
[18,null,null,null,null,null,null,null,null,null,null,null,null,null,null,null,null,null,null,null,null,null,null,null,null,null,0,null,null,null,null,null,null,null,null,null,null,null,null,null,null,null,null,null,null,null,"",null,null,null,null,null,null,null,null,null,null,null,null,null,""]
[18,null,null,null,null,null,null,null,null,null,null,null,null,null,null,null,null,null,null,null,null,null,null,null,null,null,0,null,null,null,null,null,null,null,null,null,null,null,null,null,null,null,null,null,null,null,"",null,null,null,null,null,null,null,null,null,null,null,null,null,""]
[18,null,null,null,null,null,null,null,null,null,null,null,null,null,null,null,null,null,null,null,null,null,null,null,null,null,0,null,null,null,null,null,null,null,null,null,null,null,null,null,null,null,null,null,null,null,"",null,null,null,null,null,null,null,null,null,null,null,null,null,""]
[18,null,null,null,null,null,null,null,null,null,null,null,null,null,null,null,null,null,null,null,null,null,null,null,null,null,0,null,null,null,null,null,null,null,null,null,null,null,null,null,null,null,null,null,null,null,"",null,null,null,null,null,null,null,null,null,null,null,null,null,""]
[18,null,null,null,null,null,null,null,null,null,null,null,null,null,null,null,null,null,null,null,null,null,null,null,null,null,0,null,null,null,null,null,null,null,null,null,null,null,null,null,null,null,null,null,null,null,"",null,null,null,null,null,null,null,null,null,null,null,null,null,""]
[18,null,null,null,null,null,null,null,null,null,null,null,null,null,null,null,null,null,null,null,null,null,null,null,null,null,0,null,null,null,null,null,null,null,null,null,null,null,null,null,null,null,null,null,null,null,"",null,null,null,null,null,null,null,null,null,null,null,null,null,""]
[18,null,null,null,null,null,null,null,null,null,null,null,null,null,null,null,null,null,null,null,null,null,null,null,null,null,0,null,null,null,null,null,null,null,null,null,null,null,null,null,null,null,null,null,null,null,"",null,null,null,null,null,null,null,null,null,null,null,null,null,""]
[18,null,null,null,null,null,null,null,null,null,null,null,null,null,null,null,null,null,null,null,null,null,null,null,null,null,0,null,null,null,null,null,null,null,null,null,null,null,null,null,null,null,null,null,null,null,"",null,null,null,null,null,null,null,null,null,null,null,null,null,""]
[18,null,null,null,null,null,null,null,null,null,null,null,null,null,null,null,null,null,null,null,null,null,null,null,null,null,0,null,null,null,null,null,null,null,null,null,null,null,null,null,null,null,null,null,null,null,"",null,null,null,null,null,null,null,null,null,null,null,null,null,""]
[18,null,null,null,null,null,null,null,null,null,null,null,null,null,null,null,null,null,null,null,null,null,null,null,null,null,0,null,null,null,null,null,null,null,null,null,null,null,null,null,null,null,null,null,null,null,"",null,null,null,null,null,null,null,null,null,null,null,null,null,""]
[18,null,null,null,null,null,null,null,null,null,null,null,null,null,null,null,null,null,null,null,null,null,null,null,null,null,0,null,null,null,null,null,null,null,null,null,null,null,null,null,null,null,null,null,null,null,"",null,null,null,null,null,null,null,null,null,null,null,null,null,""]
[18,null,null,null,null,null,null,null,null,null,null,null,null,null,null,null,null,null,null,null,null,null,null,null,null,null,0,null,null,null,null,null,null,null,null,null,null,null,null,null,null,null,null,null,null,null,"",null,null,null,null,null,null,null,null,null,null,null,null,null,""]
[18,null,null,null,null,null,null,null,null,null,null,null,null,null,null,null,null,null,null,null,null,null,null,null,null,null,0,null,null,null,null,null,null,null,null,null,null,null,null,null,null,null,null,null,null,null,"",null,null,null,null,null,null,null,null,null,null,null,null,null,""]
[18,null,null,null,null,null,null,null,null,null,null,null,null,null,null,null,null,null,null,null,null,null,null,null,null,null,0,null,null,null,null,null,null,null,null,null,null,null,null,null,null,null,null,null,null,null,"",null,null,null,null,null,null,null,null,null,null,null,null,null,""]
[18,null,null,null,null,null,null,null,null,null,null,null,null,null,null,null,null,null,null,null,null,null,null,null,null,null,0,null,null,null,null,null,null,null,null,null,null,null,null,null,null,null,null,null,null,null,"",null,null,null,null,null,null,null,null,null,null,null,null,null,""]
[18,null,null,null,null,null,null,null,null,null,null,null,null,null,null,null,null,null,null,null,null,null,null,null,null,null,0,null,null,null,null,null,null,null,null,null,null,null,null,null,null,null,null,null,null,null,"",null,null,null,null,null,null,null,null,null,null,null,null,null,""]
[18,null,null,null,null,null,null,null,null,null,null,null,null,null,null,null,null,null,null,null,null,null,null,null,null,null,0,null,null,null,null,null,null,null,null,null,null,null,null,null,null,null,null,null,null,null,"",null,null,null,null,null,null,null,null,null,null,null,null,null,""]
[18,null,null,null,null,null,null,null,null,null,null,null,null,null,null,null,null,null,null,null,null,null,null,null,null,null,0,null,null,null,null,null,null,null,null,null,null,null,null,null,null,null,null,null,null,null,"",null,null,null,null,null,null,null,null,null,null,null,null,null,""]
[18,null,null,null,null,null,null,null,null,null,null,null,null,null,null,null,null,null,null,null,null,null,null,null,null,null,0,null,null,null,null,null,null,null,null,null,null,null,null,null,null,null,null,null,null,null,"",null,null,null,null,null,null,null,null,null,null,null,null,null,""]
[18,null,null,null,null,null,null,null,null,null,null,null,null,null,null,null,null,null,null,null,null,null,null,null,null,null,0,null,null,null,null,null,null,null,null,null,null,null,null,null,null,null,null,null,null,null,"",null,null,null,null,null,null,null,null,null,null,null,null,null,""]
[18,null,null,null,null,null,null,null,null,null,null,null,null,null,null,null,null,null,null,null,null,null,null,null,null,null,0,null,null,null,null,null,null,null,null,null,null,null,null,null,null,null,null,null,null,null,"",null,null,null,null,null,null,null,null,null,null,null,null,null,""]
[18,null,null,null,null,null,null,null,null,null,null,null,null,null,null,null,null,null,null,null,null,null,null,null,null,null,0,null,null,null,null,null,null,null,null,null,null,null,null,null,null,null,null,null,null,null,"",null,null,null,null,null,null,null,null,null,null,null,null,null,""]
[18,null,null,null,null,null,null,null,null,null,null,null,null,null,null,null,null,null,null,null,null,null,null,null,null,null,0,null,null,null,null,null,null,null,null,null,null,null,null,null,null,null,null,null,null,null,"",null,null,null,null,null,null,null,null,null,null,null,null,null,""]
[18,null,null,null,null,null,null,null,null,null,null,null,null,null,null,null,null,null,null,null,null,null,null,null,null,null,0,null,null,null,null,null,null,null,null,null,null,null,null,null,null,null,null,null,null,null,"",null,null,null,null,null,null,null,null,null,null,null,null,null,""]
[18,null,null,null,null,null,null,null,null,null,null,null,null,null,null,null,null,null,null,null,null,null,null,null,null,null,0,null,null,null,null,null,null,null,null,null,null,null,null,null,null,null,null,null,null,null,"",null,null,null,null,null,null,null,null,null,null,null,null,null,""]
[18,null,null,null,null,null,null,null,null,null,null,null,null,null,null,null,null,null,null,null,null,null,null,null,null,null,0,null,null,null,null,null,null,null,null,null,null,null,null,null,null,null,null,null,null,null,"",null,null,null,null,null,null,null,null,null,null,null,null,null,""]
[18,null,null,null,null,null,null,null,null,null,null,null,null,null,null,null,null,null,null,null,null,null,null,null,null,null,0,null,null,null,null,null,null,null,null,null,null,null,null,null,null,null,null,null,null,null,"",null,null,null,null,null,null,null,null,null,null,null,null,null,""]
[18,null,null,null,null,null,null,null,null,null,null,null,null,null,null,null,null,null,null,null,null,null,null,null,null,null,0,null,null,null,null,null,null,null,null,null,null,null,null,null,null,null,null,null,null,null,"",null,null,null,null,null,null,null,null,null,null,null,null,null,""]
[18,null,null,null,null,null,null,null,null,null,null,null,null,null,null,null,null,null,null,null,null,null,null,null,null,null,{"$f":"Y643+(Z643/7)","v":0},null,null,null,null,null,null,null,null,null,null,null,null,null,null,null,null,null,null,null,"",null,null,null,null,null,null,null,null,null,null,null,null,null,""]
[18,null,null,null,null,null,null,null,null,null,null,null,null,null,null,null,null,null,null,null,null,null,null,null,null,null,0,null,null,null,null,null,null,null,null,null,null,null,null,null,null,null,null,null,null,null,"",null,null,null,null,null,null,null,null,null,null,null,null,null,""]
[18,null,null,null,null,null,null,null,null,null,null,null,null,null,null,null,null,null,null,null,null,null,null,null,null,null,0,null,null,null,null,null,null,null,null,null,null,null,null,null,null,null,null,null,null,null,"",null,null,null,null,null,null,null,null,null,null,null,null,null,""]
[18,null,null,null,null,null,null,null,null,null,null,null,null,null,null,null,null,null,null,null,null,null,null,null,null,null,0,null,null,null,null,null,null,null,null,null,null,null,null,null,null,null,null,null,null,null,"",null,null,null,null,null,null,null,null,null,null,null,null,null,""]
[18,null,null,null,null,null,null,null,null,null,null,null,null,null,null,null,null,null,null,null,null,null,null,null,null,null,0,null,null,null,null,null,null,null,null,null,null,null,null,null,null,null,null,null,null,null,"",null,null,null,null,null,null,null,null,null,null,null,null,null,""]
[18,null,null,null,null,null,null,null,null,null,null,null,null,null,null,null,null,null,null,null,null,null,null,null,null,null,0,null,null,null,null,null,null,null,null,null,null,null,null,null,null,null,null,null,null,null,"",null,null,null,null,null,null,null,null,null,null,null,null,null,""]
[18,null,null,null,null,null,null,null,null,null,null,null,null,null,null,null,null,null,null,null,null,null,null,null,null,null,0,null,null,null,null,null,null,null,null,null,null,null,null,null,null,null,null,null,null,null,"",null,null,null,null,null,null,null,null,null,null,null,null,null,""]
[18,null,null,null,null,null,null,null,null,null,null,null,null,null,null,null,null,null,null,null,null,null,null,null,null,null,0,null,null,null,null,null,null,null,null,null,null,null,null,null,null,null,null,null,null,null,"",null,null,null,null,null,null,null,null,null,null,null,null,null,""]
[18,null,null,null,null,null,null,null,null,null,null,null,null,null,null,null,null,null,null,null,null,null,null,null,null,null,0,null,null,null,null,null,null,null,null,null,null,null,null,null,null,null,null,null,null,null,"",null,null,null,null,null,null,null,null,null,null,null,null,null,""]
[18,null,null,null,null,null,null,null,null,null,null,null,null,null,null,null,null,null,null,null,null,null,null,null,null,null,0,null,null,null,null,null,null,null,null,null,null,null,null,null,null,null,null,null,null,null,"",null,null,null,null,null,null,null,null,null,null,null,null,null,""]
[18,null,null,null,null,null,null,null,null,null,null,null,null,null,null,null,null,null,null,null,null,null,null,null,null,null,0,null,null,null,null,null,null,null,null,null,null,null,null,null,null,null,null,null,null,null,"",null,null,null,null,null,null,null,null,null,null,null,null,null,""]
[18,null,null,null,null,null,null,null,null,null,null,null,null,null,null,null,null,null,null,null,null,null,null,null,null,null,0,null,null,null,null,null,null,null,null,null,null,null,null,null,null,null,null,null,null,null,"",null,null,null,null,null,null,null,null,null,null,null,null,null,""]
[18,null,null,null,null,null,null,null,null,null,null,null,null,null,null,null,null,null,null,null,null,null,null,null,null,null,0,null,null,null,null,null,null,null,null,null,null,null,null,null,null,null,null,null,null,null,"",null,null,null,null,null,null,null,null,null,null,null,null,null,""]
[18,null,null,null,null,null,null,null,null,null,null,null,null,null,null,null,null,null,null,null,null,null,null,null,null,null,0,null,null,null,null,null,null,null,null,null,null,null,null,null,null,null,null,null,null,null,"",null,null,null,null,null,null,null,null,null,null,null,null,null,""]
[18,null,null,null,null,null,null,null,null,null,null,null,null,null,null,null,null,null,null,null,null,null,null,null,null,null,0,null,null,null,null,null,null,null,null,null,null,null,null,null,null,null,null,null,null,null,"",null,null,null,null,null,null,null,null,null,null,null,null,null,""]
[18,null,null,null,null,null,null,null,null,null,null,null,null,null,null,null,null,null,null,null,null,null,null,null,null,null,0,null,null,null,null,null,null,null,null,null,null,null,null,null,null,null,null,null,null,null,"",null,null,null,null,null,null,null,null,null,null,null,null,null,""]
[18,null,null,null,null,null,null,null,null,null,null,null,null,null,null,null,null,null,null,null,null,null,null,null,null,null,0,null,null,null,null,null,null,null,null,null,null,null,null,null,null,null,null,null,null,null,"",null,null,null,null,null,null,null,null,null,null,null,null,null,""]
[18,null,null,null,null,null,null,null,null,null,null,null,null,null,null,null,null,null,null,null,null,null,null,null,null,null,0,null,null,null,null,null,null,null,null,null,null,null,null,null,null,null,null,null,null,null,"",null,null,null,null,null,null,null,null,null,null,null,null,null,""]
[18,null,null,null,null,null,null,null,null,null,null,null,null,null,null,null,null,null,null,null,null,null,null,null,null,null,0,null,null,null,null,null,null,null,null,null,null,null,null,null,null,null,null,null,null,null,"",null,null,null,null,null,null,null,null,null,null,null,null,null,""]
[18,null,null,null,null,null,null,null,null,null,null,null,null,null,null,null,null,null,null,null,null,null,null,null,null,null,0,null,null,null,null,null,null,null,null,null,null,null,null,null,null,null,null,null,null,null,"",null,null,null,null,null,null,null,null,null,null,null,null,null,""]
[18,null,null,null,null,null,null,null,null,null,null,null,null,null,null,null,null,null,null,null,null,null,null,null,null,null,0,null,null,null,null,null,null,null,null,null,null,null,null,null,null,null,null,null,null,null,"",null,null,null,null,null,null,null,null,null,null,null,null,null,""]
[18,null,null,null,null,null,null,null,null,null,null,null,null,null,null,null,null,null,null,null,null,null,null,null,null,null,0,null,null,null,null,null,null,null,null,null,null,null,null,null,null,null,null,null,null,null,"",null,null,null,null,null,null,null,null,null,null,null,null,null,""]
[18,null,null,null,null,null,null,null,null,null,null,null,null,null,null,null,null,null,null,null,null,null,null,null,null,null,0,null,null,null,null,null,null,null,null,null,null,null,null,null,null,null,null,null,null,null,"",null,null,null,null,null,null,null,null,null,null,null,null,null,""]
[18,null,null,null,null,null,null,null,null,null,null,null,null,null,null,null,null,null,null,null,null,null,null,null,null,null,0,null,null,null,null,null,null,null,null,null,null,null,null,null,null,null,null,null,null,null,"",null,null,null,null,null,null,null,null,null,null,null,null,null,""]
[18,null,null,null,null,null,null,null,null,null,null,null,null,null,null,null,null,null,null,null,null,null,null,null,null,null,0,null,null,null,null,null,null,null,null,null,null,null,null,null,null,null,null,null,null,null,"",null,null,null,null,null,null,null,null,null,null,null,null,null,""]
[18,null,null,null,null,null,null,null,null,null,null,null,null,null,null,null,null,null,null,null,null,null,null,null,null,null,0,null,null,null,null,null,null,null,null,null,null,null,null,null,null,null,null,null,null,null,"",null,null,null,null,null,null,null,null,null,null,null,null,null,""]
[18,null,null,null,null,null,null,null,null,null,null,null,null,null,null,null,null,null,null,null,null,null,null,null,null,null,0,null,null,null,null,null,null,null,null,null,null,null,null,null,null,null,null,null,null,null,"",null,null,null,null,null,null,null,null,null,null,null,null,null,""]
[18,null,null,null,null,null,null,null,null,null,null,null,null,null,null,null,null,null,null,null,null,null,null,null,null,null,0,null,null,null,null,null,null,null,null,null,null,null,null,null,null,null,null,null,null,null,"",null,null,null,null,null,null,null,null,null,null,null,null,null,""]
[18,null,null,null,null,null,null,null,null,null,null,null,null,null,null,null,null,null,null,null,null,null,null,null,null,null,0,null,null,null,null,null,null,null,null,null,null,null,null,null,null,null,null,null,null,null,"",null,null,null,null,null,null,null,null,null,null,null,null,null,""]
[18,null,null,null,null,null,null,null,null,null,null,null,null,null,null,null,null,null,null,null,null,null,null,null,null,null,0,null,null,null,null,null,null,null,null,null,null,null,null,null,null,null,null,null,null,null,"",null,null,null,null,null,null,null,null,null,null,null,null,null,""]
[18,null,null,null,null,null,null,null,null,null,null,null,null,null,null,null,null,null,null,null,null,null,null,null,null,null,0,null,null,null,null,null,null,null,null,null,null,null,null,null,null,null,null,null,null,null,"",null,null,null,null,null,null,null,null,null,null,null,null,null,""]
[18,null,null,null,null,null,null,null,null,null,null,null,null,null,null,null,null,null,null,null,null,null,null,null,null,null,0,null,null,null,null,null,null,null,null,null,null,null,null,null,null,null,null,null,null,null,"",null,null,null,null,null,null,null,null,null,null,null,null,null,""]
[18,null,null,null,null,null,null,null,null,null,null,null,null,null,null,null,null,null,null,null,null,null,null,null,null,null,0,null,null,null,null,null,null,null,null,null,null,null,null,null,null,null,null,null,null,null,"",null,null,null,null,null,null,null,null,null,null,null,null,null,""]
[18,null,null,null,null,null,null,null,null,null,null,null,null,null,null,null,null,null,null,null,null,null,null,null,null,null,0,null,null,null,null,null,null,null,null,null,null,null,null,null,null,null,null,null,null,null,"",null,null,null,null,null,null,null,null,null,null,null,null,null,""]
[18,null,null,null,null,null,null,null,null,null,null,null,null,null,null,null,null,null,null,null,null,null,null,null,null,null,0,null,null,null,null,null,null,null,null,null,null,null,null,null,null,null,null,null,null,null,"",null,null,null,null,null,null,null,null,null,null,null,null,null,""]
[18,null,null,null,null,null,null,null,null,null,null,null,null,null,null,null,null,null,null,null,null,null,null,null,null,null,0,null,null,null,null,null,null,null,null,null,null,null,null,null,null,null,null,null,null,null,"",null,null,null,null,null,null,null,null,null,null,null,null,null,""]
[18,null,null,null,null,null,null,null,null,null,null,null,null,null,null,null,null,null,null,null,null,null,null,null,null,null,0,null,null,null,null,null,null,null,null,null,null,null,null,null,null,null,null,null,null,null,"",null,null,null,null,null,null,null,null,null,null,null,null,null,""]
[18,null,null,null,null,null,null,null,null,null,null,null,null,null,null,null,null,null,null,null,null,null,null,null,null,null,0,null,null,null,null,null,null,null,null,null,null,null,null,null,null,null,null,null,null,null,"",null,null,null,null,null,null,null,null,null,null,null,null,null,""]
[18,null,null,null,null,null,null,null,null,null,null,null,null,null,null,null,null,null,null,null,null,null,null,null,null,null,0,null,null,null,null,null,null,null,null,null,null,null,null,null,null,null,null,null,null,null,"",null,null,null,null,null,null,null,null,null,null,null,null,null,""]
[18,null,null,null,null,null,null,null,null,null,null,null,null,null,null,null,null,null,null,null,null,null,null,null,null,null,0,null,null,null,null,null,null,null,null,null,null,null,null,null,null,null,null,null,null,null,"",null,null,null,null,null,null,null,null,null,null,null,null,null,""]
[18,null,null,null,null,null,null,null,null,null,null,null,null,null,null,null,null,null,null,null,null,null,null,null,null,null,0,null,null,null,null,null,null,null,null,null,null,null,null,null,null,null,null,null,null,null,"",null,null,null,null,null,null,null,null,null,null,null,null,null,""]
[18,null,null,null,null,null,null,null,null,null,null,null,null,null,null,null,null,null,null,null,null,null,null,null,null,null,0,null,null,null,null,null,null,null,null,null,null,null,null,null,null,null,null,null,null,null,"",null,null,null,null,null,null,null,null,null,null,null,null,null,""]
[18,null,null,null,null,null,null,null,null,null,null,null,null,null,null,null,null,null,null,null,null,null,null,null,null,null,0,null,null,null,null,null,null,null,null,null,null,null,null,null,null,null,null,null,null,null,"",null,null,null,null,null,null,null,null,null,null,null,null,null,""]
[18,null,null,null,null,null,null,null,null,null,null,null,null,null,null,null,null,null,null,null,null,null,null,null,null,null,0,null,null,null,null,null,null,null,null,null,null,null,null,null,null,null,null,null,null,null,"",null,null,null,null,null,null,null,null,null,null,null,null,null,""]
[18,null,null,null,null,null,null,null,null,null,null,null,null,null,null,null,null,null,null,null,null,null,null,null,null,null,0,null,null,null,null,null,null,null,null,null,null,null,null,null,null,null,null,null,null,null,"",null,null,null,null,null,null,null,null,null,null,null,null,null,""]
[18,null,null,null,null,null,null,null,null,null,null,null,null,null,null,null,null,null,null,null,null,null,null,null,null,null,0,null,null,null,null,null,null,null,null,null,null,null,null,null,null,null,null,null,null,null,"",null,null,null,null,null,null,null,null,null,null,null,null,null,""]
[18,null,null,null,null,null,null,null,null,null,null,null,null,null,null,null,null,null,null,null,null,null,null,null,null,null,0,null,null,null,null,null,null,null,null,null,null,null,null,null,null,null,null,null,null,null,"",null,null,null,null,null,null,null,null,null,null,null,null,null,""]
[18,null,null,null,null,null,null,null,null,null,null,null,null,null,null,null,null,null,null,null,null,null,null,null,null,null,0,null,null,null,null,null,null,null,null,null,null,null,null,null,null,null,null,null,null,null,"",null,null,null,null,null,null,null,null,null,null,null,null,null,""]
[18,null,null,null,null,null,null,null,null,null,null,null,null,null,null,null,null,null,null,null,null,null,null,null,null,null,0,null,null,null,null,null,null,null,null,null,null,null,null,null,null,null,null,null,null,null,"",null,null,null,null,null,null,null,null,null,null,null,null,null,""]
[18,null,null,null,null,null,null,null,null,null,null,null,null,null,null,null,null,null,null,null,null,null,null,null,null,null,0,null,null,null,null,null,null,null,null,null,null,null,null,null,null,null,null,null,null,null,"",null,null,null,null,null,null,null,null,null,null,null,null,null,""]
[18,null,null,null,null,null,null,null,null,null,null,null,null,null,null,null,null,null,null,null,null,null,null,null,null,null,0,null,null,null,null,null,null,null,null,null,null,null,null,null,null,null,null,null,null,null,"",null,null,null,null,null,null,null,null,null,null,null,null,null,""]
[18,null,null,null,null,null,null,null,null,null,null,null,null,null,null,null,null,null,null,null,null,null,null,null,null,null,0,null,null,null,null,null,null,null,null,null,null,null,null,null,null,null,null,null,null,null,"",null,null,null,null,null,null,null,null,null,null,null,null,null,""]
[18,null,null,null,null,null,null,null,null,null,null,null,null,null,null,null,null,null,null,null,null,null,null,null,null,null,0,null,null,null,null,null,null,null,null,null,null,null,null,null,null,null,null,null,null,null,"",null,null,null,null,null,null,null,null,null,null,null,null,null,""]
[18,null,null,null,null,null,null,null,null,null,null,null,null,null,null,null,null,null,null,null,null,null,null,null,null,null,0,null,null,null,null,null,null,null,null,null,null,null,null,null,null,null,null,null,null,null,"",null,null,null,null,null,null,null,null,null,null,null,null,null,""]
[18,null,null,null,null,null,null,null,null,null,null,null,null,null,null,null,null,null,null,null,null,null,null,null,null,null,0,null,null,null,null,null,null,null,null,null,null,null,null,null,null,null,null,null,null,null,"",null,null,null,null,null,null,null,null,null,null,null,null,null,""]
[18,null,null,null,null,null,null,null,null,null,null,null,null,null,null,null,null,null,null,null,null,null,null,null,null,null,0,null,null,null,null,null,null,null,null,null,null,null,null,null,null,null,null,null,null,null,"",null,null,null,null,null,null,null,null,null,null,null,null,null,""]
[18,null,null,null,null,null,null,null,null,null,null,null,null,null,null,null,null,null,null,null,null,null,null,null,null,null,0,null,null,null,null,null,null,null,null,null,null,null,null,null,null,null,null,null,null,null,"",null,null,null,null,null,null,null,null,null,null,null,null,null,""]
[18,null,null,null,null,null,null,null,null,null,null,null,null,null,null,null,null,null,null,null,null,null,null,null,null,null,0,null,null,null,null,null,null,null,null,null,null,null,null,null,null,null,null,null,null,null,"",null,null,null,null,null,null,null,null,null,null,null,null,null,""]
[18,null,null,null,null,null,null,null,null,null,null,null,null,null,null,null,null,null,null,null,null,null,null,null,null,null,0,null,null,null,null,null,null,null,null,null,null,null,null,null,null,null,null,null,null,null,"",null,null,null,null,null,null,null,null,null,null,null,null,null,""]
[18,null,null,null,null,null,null,null,null,null,null,null,null,null,null,null,null,null,null,null,null,null,null,null,null,null,0,null,null,null,null,null,null,null,null,null,null,null,null,null,null,null,null,null,null,null,"",null,null,null,null,null,null,null,null,null,null,null,null,null,""]
[18,null,null,null,null,null,null,null,null,null,null,null,null,null,null,null,null,null,null,null,null,null,null,null,null,null,0,null,null,null,null,null,null,null,null,null,null,null,null,null,null,null,null,null,null,null,"",null,null,null,null,null,null,null,null,null,null,null,null,null,""]
[18,null,null,null,null,null,null,null,null,null,null,null,null,null,null,null,null,null,null,null,null,null,null,null,null,null,0,null,null,null,null,null,null,null,null,null,null,null,null,null,null,null,null,null,null,null,"",null,null,null,null,null,null,null,null,null,null,null,null,null,""]
[18,null,null,null,null,null,null,null,null,null,null,null,null,null,null,null,null,null,null,null,null,null,null,null,null,null,{"$f":"Y771+(Z771/7)","v":0},null,null,null,null,null,null,null,null,null,null,null,null,null,null,null,null,null,null,null,"",null,null,null,null,null,null,null,null,null,null,null,null,null,""]
[18,null,null,null,null,null,null,null,null,null,null,null,null,null,null,null,null,null,null,null,null,null,null,null,null,null,0,null,null,null,null,null,null,null,null,null,null,null,null,null,null,null,null,null,null,null,"",null,null,null,null,null,null,null,null,null,null,null,null,null,""]
[18,null,null,null,null,null,null,null,null,null,null,null,null,null,null,null,null,null,null,null,null,null,null,null,null,null,0,null,null,null,null,null,null,null,null,null,null,null,null,null,null,null,null,null,null,null,"",null,null,null,null,null,null,null,null,null,null,null,null,null,""]
[18,null,null,null,null,null,null,null,null,null,null,null,null,null,null,null,null,null,null,null,null,null,null,null,null,null,0,null,null,null,null,null,null,null,null,null,null,null,null,null,null,null,null,null,null,null,"",null,null,null,null,null,null,null,null,null,null,null,null,null,""]
[18,null,null,null,null,null,null,null,null,null,null,null,null,null,null,null,null,null,null,null,null,null,null,null,null,null,0,null,null,null,null,null,null,null,null,null,null,null,null,null,null,null,null,null,null,null,"",null,null,null,null,null,null,null,null,null,null,null,null,null,""]
[18,null,null,null,null,null,null,null,null,null,null,null,null,null,null,null,null,null,null,null,null,null,null,null,null,null,0,null,null,null,null,null,null,null,null,null,null,null,null,null,null,null,null,null,null,null,"",null,null,null,null,null,null,null,null,null,null,null,null,null,""]
[18,null,null,null,null,null,null,null,null,null,null,null,null,null,null,null,null,null,null,null,null,null,null,null,null,null,0,null,null,null,null,null,null,null,null,null,null,null,null,null,null,null,null,null,null,null,"",null,null,null,null,null,null,null,null,null,null,null,null,null,""]
[18,null,null,null,null,null,null,null,null,null,null,null,null,null,null,null,null,null,null,null,null,null,null,null,null,null,0,null,null,null,null,null,null,null,null,null,null,null,null,null,null,null,null,null,null,null,"",null,null,null,null,null,null,null,null,null,null,null,null,null,""]
[18,null,null,null,null,null,null,null,null,null,null,null,null,null,null,null,null,null,null,null,null,null,null,null,null,null,0,null,null,null,null,null,null,null,null,null,null,null,null,null,null,null,null,null,null,null,"",null,null,null,null,null,null,null,null,null,null,null,null,null,""]
[18,null,null,null,null,null,null,null,null,null,null,null,null,null,null,null,null,null,null,null,null,null,null,null,null,null,0,null,null,null,null,null,null,null,null,null,null,null,null,null,null,null,null,null,null,null,"",null,null,null,null,null,null,null,null,null,null,null,null,null,""]
[18,null,null,null,null,null,null,null,null,null,null,null,null,null,null,null,null,null,null,null,null,null,null,null,null,null,0,null,null,null,null,null,null,null,null,null,null,null,null,null,null,null,null,null,null,null,"",null,null,null,null,null,null,null,null,null,null,null,null,null,""]
[18,null,null,null,null,null,null,null,null,null,null,null,null,null,null,null,null,null,null,null,null,null,null,null,null,null,0,null,null,null,null,null,null,null,null,null,null,null,null,null,null,null,null,null,null,null,"",null,null,null,null,null,null,null,null,null,null,null,null,null,""]
[18,null,null,null,null,null,null,null,null,null,null,null,null,null,null,null,null,null,null,null,null,null,null,null,null,null,0,null,null,null,null,null,null,null,null,null,null,null,null,null,null,null,null,null,null,null,"",null,null,null,null,null,null,null,null,null,null,null,null,null,""]
[18,null,null,null,null,null,null,null,null,null,null,null,null,null,null,null,null,null,null,null,null,null,null,null,null,null,0,null,null,null,null,null,null,null,null,null,null,null,null,null,null,null,null,null,null,null,"",null,null,null,null,null,null,null,null,null,null,null,null,null,""]
[18,null,null,null,null,null,null,null,null,null,null,null,null,null,null,null,null,null,null,null,null,null,null,null,null,null,0,null,null,null,null,null,null,null,null,null,null,null,null,null,null,null,null,null,null,null,"",null,null,null,null,null,null,null,null,null,null,null,null,null,""]
[18,null,null,null,null,null,null,null,null,null,null,null,null,null,null,null,null,null,null,null,null,null,null,null,null,null,0,null,null,null,null,null,null,null,null,null,null,null,null,null,null,null,null,null,null,null,"",null,null,null,null,null,null,null,null,null,null,null,null,null,""]
[18,null,null,null,null,null,null,null,null,null,null,null,null,null,null,null,null,null,null,null,null,null,null,null,null,null,0,null,null,null,null,null,null,null,null,null,null,null,null,null,null,null,null,null,null,null,"",null,null,null,null,null,null,null,null,null,null,null,null,null,""]
[18,null,null,null,null,null,null,null,null,null,null,null,null,null,null,null,null,null,null,null,null,null,null,null,null,null,0,null,null,null,null,null,null,null,null,null,null,null,null,null,null,null,null,null,null,null,"",null,null,null,null,null,null,null,null,null,null,null,null,null,""]
[18,null,null,null,null,null,null,null,null,null,null,null,null,null,null,null,null,null,null,null,null,null,null,null,null,null,0,null,null,null,null,null,null,null,null,null,null,null,null,null,null,null,null,null,null,null,"",null,null,null,null,null,null,null,null,null,null,null,null,null,""]
[18,null,null,null,null,null,null,null,null,null,null,null,null,null,null,null,null,null,null,null,null,null,null,null,null,null,0,null,null,null,null,null,null,null,null,null,null,null,null,null,null,null,null,null,null,null,"",null,null,null,null,null,null,null,null,null,null,null,null,null,""]
[18,null,null,null,null,null,null,null,null,null,null,null,null,null,null,null,null,null,null,null,null,null,null,null,null,null,0,null,null,null,null,null,null,null,null,null,null,null,null,null,null,null,null,null,null,null,"",null,null,null,null,null,null,null,null,null,null,null,null,null,""]
[18,null,null,null,null,null,null,null,null,null,null,null,null,null,null,null,null,null,null,null,null,null,null,null,null,null,0,null,null,null,null,null,null,null,null,null,null,null,null,null,null,null,null,null,null,null,"",null,null,null,null,null,null,null,null,null,null,null,null,null,""]
[18,null,null,null,null,null,null,null,null,null,null,null,null,null,null,null,null,null,null,null,null,null,null,null,null,null,0,null,null,null,null,null,null,null,null,null,null,null,null,null,null,null,null,null,null,null,"",null,null,null,null,null,null,null,null,null,null,null,null,null,""]
[18,null,null,null,null,null,null,null,null,null,null,null,null,null,null,null,null,null,null,null,null,null,null,null,null,null,0,null,null,null,null,null,null,null,null,null,null,null,null,null,null,null,null,null,null,null,"",null,null,null,null,null,null,null,null,null,null,null,null,null,""]
[18,null,null,null,null,null,null,null,null,null,null,null,null,null,null,null,null,null,null,null,null,null,null,null,null,null,0,null,null,null,null,null,null,null,null,null,null,null,null,null,null,null,null,null,null,null,"",null,null,null,null,null,null,null,null,null,null,null,null,null,""]
[18,null,null,null,null,null,null,null,null,null,null,null,null,null,null,null,null,null,null,null,null,null,null,null,null,null,0,null,null,null,null,null,null,null,null,null,null,null,null,null,null,null,null,null,null,null,"",null,null,null,null,null,null,null,null,null,null,null,null,null,""]
[18,null,null,null,null,null,null,null,null,null,null,null,null,null,null,null,null,null,null,null,null,null,null,null,null,null,0,null,null,null,null,null,null,null,null,null,null,null,null,null,null,null,null,null,null,null,"",null,null,null,null,null,null,null,null,null,null,null,null,null,""]
[18,null,null,null,null,null,null,null,null,null,null,null,null,null,null,null,null,null,null,null,null,null,null,null,null,null,0,null,null,null,null,null,null,null,null,null,null,null,null,null,null,null,null,null,null,null,"",null,null,null,null,null,null,null,null,null,null,null,null,null,""]
[18,null,null,null,null,null,null,null,null,null,null,null,null,null,null,null,null,null,null,null,null,null,null,null,null,null,0,null,null,null,null,null,null,null,null,null,null,null,null,null,null,null,null,null,null,null,"",null,null,null,null,null,null,null,null,null,null,null,null,null,""]
[18,null,null,null,null,null,null,null,null,null,null,null,null,null,null,null,null,null,null,null,null,null,null,null,null,null,0,null,null,null,null,null,null,null,null,null,null,null,null,null,null,null,null,null,null,null,"",null,null,null,null,null,null,null,null,null,null,null,null,null,""]
[18,null,null,null,null,null,null,null,null,null,null,null,null,null,null,null,null,null,null,null,null,null,null,null,null,null,0,null,null,null,null,null,null,null,null,null,null,null,null,null,null,null,null,null,null,null,"",null,null,null,null,null,null,null,null,null,null,null,null,null,""]
[18,null,null,null,null,null,null,null,null,null,null,null,null,null,null,null,null,null,null,null,null,null,null,null,null,null,0,null,null,null,null,null,null,null,null,null,null,null,null,null,null,null,null,null,null,null,"",null,null,null,null,null,null,null,null,null,null,null,null,null,""]
[18,null,null,null,null,null,null,null,null,null,null,null,null,null,null,null,null,null,null,null,null,null,null,null,null,null,0,null,null,null,null,null,null,null,null,null,null,null,null,null,null,null,null,null,null,null,"",null,null,null,null,null,null,null,null,null,null,null,null,null,""]
[18,null,null,null,null,null,null,null,null,null,null,null,null,null,null,null,null,null,null,null,null,null,null,null,null,null,0,null,null,null,null,null,null,null,null,null,null,null,null,null,null,null,null,null,null,null,"",null,null,null,null,null,null,null,null,null,null,null,null,null,""]
[18,null,null,null,null,null,null,null,null,null,null,null,null,null,null,null,null,null,null,null,null,null,null,null,null,null,0,null,null,null,null,null,null,null,null,null,null,null,null,null,null,null,null,null,null,null,"",null,null,null,null,null,null,null,null,null,null,null,null,null,""]
[18,null,null,null,null,null,null,null,null,null,null,null,null,null,null,null,null,null,null,null,null,null,null,null,null,null,0,null,null,null,null,null,null,null,null,null,null,null,null,null,null,null,null,null,null,null,"",null,null,null,null,null,null,null,null,null,null,null,null,null,""]
[18,null,null,null,null,null,null,null,null,null,null,null,null,null,null,null,null,null,null,null,null,null,null,null,null,null,0,null,null,null,null,null,null,null,null,null,null,null,null,null,null,null,null,null,null,null,"",null,null,null,null,null,null,null,null,null,null,null,null,null,""]
[18,null,null,null,null,null,null,null,null,null,null,null,null,null,null,null,null,null,null,null,null,null,null,null,null,null,0,null,null,null,null,null,null,null,null,null,null,null,null,null,null,null,null,null,null,null,"",null,null,null,null,null,null,null,null,null,null,null,null,null,""]
[18,null,null,null,null,null,null,null,null,null,null,null,null,null,null,null,null,null,null,null,null,null,null,null,null,null,0,null,null,null,null,null,null,null,null,null,null,null,null,null,null,null,null,null,null,null,"",null,null,null,null,null,null,null,null,null,null,null,null,null,""]
[18,null,null,null,null,null,null,null,null,null,null,null,null,null,null,null,null,null,null,null,null,null,null,null,null,null,0,null,null,null,null,null,null,null,null,null,null,null,null,null,null,null,null,null,null,null,"",null,null,null,null,null,null,null,null,null,null,null,null,null,""]
[18,null,null,null,null,null,null,null,null,null,null,null,null,null,null,null,null,null,null,null,null,null,null,null,null,null,0,null,null,null,null,null,null,null,null,null,null,null,null,null,null,null,null,null,null,null,"",null,null,null,null,null,null,null,null,null,null,null,null,null,""]
[18,null,null,null,null,null,null,null,null,null,null,null,null,null,null,null,null,null,null,null,null,null,null,null,null,null,0,null,null,null,null,null,null,null,null,null,null,null,null,null,null,null,null,null,null,null,"",null,null,null,null,null,null,null,null,null,null,null,null,null,""]
[18,null,null,null,null,null,null,null,null,null,null,null,null,null,null,null,null,null,null,null,null,null,null,null,null,null,0,null,null,null,null,null,null,null,null,null,null,null,null,null,null,null,null,null,null,null,"",null,null,null,null,null,null,null,null,null,null,null,null,null,""]
[18,null,null,null,null,null,null,null,null,null,null,null,null,null,null,null,null,null,null,null,null,null,null,null,null,null,0,null,null,null,null,null,null,null,null,null,null,null,null,null,null,null,null,null,null,null,"",null,null,null,null,null,null,null,null,null,null,null,null,null,""]
[18,null,null,null,null,null,null,null,null,null,null,null,null,null,null,null,null,null,null,null,null,null,null,null,null,null,0,null,null,null,null,null,null,null,null,null,null,null,null,null,null,null,null,null,null,null,"",null,null,null,null,null,null,null,null,null,null,null,null,null,""]
[18,null,null,null,null,null,null,null,null,null,null,null,null,null,null,null,null,null,null,null,null,null,null,null,null,null,0,null,null,null,null,null,null,null,null,null,null,null,null,null,null,null,null,null,null,null,"",null,null,null,null,null,null,null,null,null,null,null,null,null,""]
[18,null,null,null,null,null,null,null,null,null,null,null,null,null,null,null,null,null,null,null,null,null,null,null,null,null,0,null,null,null,null,null,null,null,null,null,null,null,null,null,null,null,null,null,null,null,"",null,null,null,null,null,null,null,null,null,null,null,null,null,""]
[18,null,null,null,null,null,null,null,null,null,null,null,null,null,null,null,null,null,null,null,null,null,null,null,null,null,0,null,null,null,null,null,null,null,null,null,null,null,null,null,null,null,null,null,null,null,"",null,null,null,null,null,null,null,null,null,null,null,null,null,""]
[18,null,null,null,null,null,null,null,null,null,null,null,null,null,null,null,null,null,null,null,null,null,null,null,null,null,0,null,null,null,null,null,null,null,null,null,null,null,null,null,null,null,null,null,null,null,"",null,null,null,null,null,null,null,null,null,null,null,null,null,""]
[18,null,null,null,null,null,null,null,null,null,null,null,null,null,null,null,null,null,null,null,null,null,null,null,null,null,0,null,null,null,null,null,null,null,null,null,null,null,null,null,null,null,null,null,null,null,"",null,null,null,null,null,null,null,null,null,null,null,null,null,""]
[18,null,null,null,null,null,null,null,null,null,null,null,null,null,null,null,null,null,null,null,null,null,null,null,null,null,0,null,null,null,null,null,null,null,null,null,null,null,null,null,null,null,null,null,null,null,"",null,null,null,null,null,null,null,null,null,null,null,null,null,""]
[18,null,null,null,null,null,null,null,null,null,null,null,null,null,null,null,null,null,null,null,null,null,null,null,null,null,0,null,null,null,null,null,null,null,null,null,null,null,null,null,null,null,null,null,null,null,"",null,null,null,null,null,null,null,null,null,null,null,null,null,""]
[18,null,null,null,null,null,null,null,null,null,null,null,null,null,null,null,null,null,null,null,null,null,null,null,null,null,0,null,null,null,null,null,null,null,null,null,null,null,null,null,null,null,null,null,null,null,"",null,null,null,null,null,null,null,null,null,null,null,null,null,""]
[18,null,null,null,null,null,null,null,null,null,null,null,null,null,null,null,null,null,null,null,null,null,null,null,null,null,0,null,null,null,null,null,null,null,null,null,null,null,null,null,null,null,null,null,null,null,"",null,null,null,null,null,null,null,null,null,null,null,null,null,""]
[18,null,null,null,null,null,null,null,null,null,null,null,null,null,null,null,null,null,null,null,null,null,null,null,null,null,0,null,null,null,null,null,null,null,null,null,null,null,null,null,null,null,null,null,null,null,"",null,null,null,null,null,null,null,null,null,null,null,null,null,""]
[18,null,null,null,null,null,null,null,null,null,null,null,null,null,null,null,null,null,null,null,null,null,null,null,null,null,0,null,null,null,null,null,null,null,null,null,null,null,null,null,null,null,null,null,null,null,"",null,null,null,null,null,null,null,null,null,null,null,null,null,""]
[18,null,null,null,null,null,null,null,null,null,null,null,null,null,null,null,null,null,null,null,null,null,null,null,null,null,0,null,null,null,null,null,null,null,null,null,null,null,null,null,null,null,null,null,null,null,"",null,null,null,null,null,null,null,null,null,null,null,null,null,""]
[18,null,null,null,null,null,null,null,null,null,null,null,null,null,null,null,null,null,null,null,null,null,null,null,null,null,0,null,null,null,null,null,null,null,null,null,null,null,null,null,null,null,null,null,null,null,"",null,null,null,null,null,null,null,null,null,null,null,null,null,""]
[18,null,null,null,null,null,null,null,null,null,null,null,null,null,null,null,null,null,null,null,null,null,null,null,null,null,0,null,null,null,null,null,null,null,null,null,null,null,null,null,null,null,null,null,null,null,"",null,null,null,null,null,null,null,null,null,null,null,null,null,""]
[18,null,null,null,null,null,null,null,null,null,null,null,null,null,null,null,null,null,null,null,null,null,null,null,null,null,0,null,null,null,null,null,null,null,null,null,null,null,null,null,null,null,null,null,null,null,"",null,null,null,null,null,null,null,null,null,null,null,null,null,""]
[18,null,null,null,null,null,null,null,null,null,null,null,null,null,null,null,null,null,null,null,null,null,null,null,null,null,0,null,null,null,null,null,null,null,null,null,null,null,null,null,null,null,null,null,null,null,"",null,null,null,null,null,null,null,null,null,null,null,null,null,""]
[18,null,null,null,null,null,null,null,null,null,null,null,null,null,null,null,null,null,null,null,null,null,null,null,null,null,0,null,null,null,null,null,null,null,null,null,null,null,null,null,null,null,null,null,null,null,"",null,null,null,null,null,null,null,null,null,null,null,null,null,""]
[18,null,null,null,null,null,null,null,null,null,null,null,null,null,null,null,null,null,null,null,null,null,null,null,null,null,0,null,null,null,null,null,null,null,null,null,null,null,null,null,null,null,null,null,null,null,"",null,null,null,null,null,null,null,null,null,null,null,null,null,""]
[18,null,null,null,null,null,null,null,null,null,null,null,null,null,null,null,null,null,null,null,null,null,null,null,null,null,0,null,null,null,null,null,null,null,null,null,null,null,null,null,null,null,null,null,null,null,"",null,null,null,null,null,null,null,null,null,null,null,null,null,""]
[18,null,null,null,null,null,null,null,null,null,null,null,null,null,null,null,null,null,null,null,null,null,null,null,null,null,0,null,null,null,null,null,null,null,null,null,null,null,null,null,null,null,null,null,null,null,"",null,null,null,null,null,null,null,null,null,null,null,null,null,""]
[18,null,null,null,null,null,null,null,null,null,null,null,null,null,null,null,null,null,null,null,null,null,null,null,null,null,0,null,null,null,null,null,null,null,null,null,null,null,null,null,null,null,null,null,null,null,"",null,null,null,null,null,null,null,null,null,null,null,null,null,""]
[18,null,null,null,null,null,null,null,null,null,null,null,null,null,null,null,null,null,null,null,null,null,null,null,null,null,0,null,null,null,null,null,null,null,null,null,null,null,null,null,null,null,null,null,null,null,"",null,null,null,null,null,null,null,null,null,null,null,null,null,""]
[18,null,null,null,null,null,null,null,null,null,null,null,null,null,null,null,null,null,null,null,null,null,null,null,null,null,0,null,null,null,null,null,null,null,null,null,null,null,null,null,null,null,null,null,null,null,"",null,null,null,null,null,null,null,null,null,null,null,null,null,""]
[18,null,null,null,null,null,null,null,null,null,null,null,null,null,null,null,null,null,null,null,null,null,null,null,null,null,0,null,null,null,null,null,null,null,null,null,null,null,null,null,null,null,null,null,null,null,"",null,null,null,null,null,null,null,null,null,null,null,null,null,""]
[18,null,null,null,null,null,null,null,null,null,null,null,null,null,null,null,null,null,null,null,null,null,null,null,null,null,0,null,null,null,null,null,null,null,null,null,null,null,null,null,null,null,null,null,null,null,"",null,null,null,null,null,null,null,null,null,null,null,null,null,""]
[18,null,null,null,null,null,null,null,null,null,null,null,null,null,null,null,null,null,null,null,null,null,null,null,null,null,0,null,null,null,null,null,null,null,null,null,null,null,null,null,null,null,null,null,null,null,"",null,null,null,null,null,null,null,null,null,null,null,null,null,""]
[18,null,null,null,null,null,null,null,null,null,null,null,null,null,null,null,null,null,null,null,null,null,null,null,null,null,0,null,null,null,null,null,null,null,null,null,null,null,null,null,null,null,null,null,null,null,"",null,null,null,null,null,null,null,null,null,null,null,null,null,""]
[18,null,null,null,null,null,null,null,null,null,null,null,null,null,null,null,null,null,null,null,null,null,null,null,null,null,0,null,null,null,null,null,null,null,null,null,null,null,null,null,null,null,null,null,null,null,"",null,null,null,null,null,null,null,null,null,null,null,null,null,""]
[18,null,null,null,null,null,null,null,null,null,null,null,null,null,null,null,null,null,null,null,null,null,null,null,null,null,0,null,null,null,null,null,null,null,null,null,null,null,null,null,null,null,null,null,null,null,"",null,null,null,null,null,null,null,null,null,null,null,null,null,""]
[18,null,null,null,null,null,null,null,null,null,null,null,null,null,null,null,null,null,null,null,null,null,null,null,null,null,0,null,null,null,null,null,null,null,null,null,null,null,null,null,null,null,null,null,null,null,"",null,null,null,null,null,null,null,null,null,null,null,null,null,""]
[18,null,null,null,null,null,null,null,null,null,null,null,null,null,null,null,null,null,null,null,null,null,null,null,null,null,0,null,null,null,null,null,null,null,null,null,null,null,null,null,null,null,null,null,null,null,"",null,null,null,null,null,null,null,null,null,null,null,null,null,""]
[18,null,null,null,null,null,null,null,null,null,null,null,null,null,null,null,null,null,null,null,null,null,null,null,null,null,0,null,null,null,null,null,null,null,null,null,null,null,null,null,null,null,null,null,null,null,"",null,null,null,null,null,null,null,null,null,null,null,null,null,""]
[18,null,null,null,null,null,null,null,null,null,null,null,null,null,null,null,null,null,null,null,null,null,null,null,null,null,0,null,null,null,null,null,null,null,null,null,null,null,null,null,null,null,null,null,null,null,"",null,null,null,null,null,null,null,null,null,null,null,null,null,""]
[18,null,null,null,null,null,null,null,null,null,null,null,null,null,null,null,null,null,null,null,null,null,null,null,null,null,0,null,null,null,null,null,null,null,null,null,null,null,null,null,null,null,null,null,null,null,"",null,null,null,null,null,null,null,null,null,null,null,null,null,""]
[18,null,null,null,null,null,null,null,null,null,null,null,null,null,null,null,null,null,null,null,null,null,null,null,null,null,0,null,null,null,null,null,null,null,null,null,null,null,null,null,null,null,null,null,null,null,"",null,null,null,null,null,null,null,null,null,null,null,null,null,""]
[18,null,null,null,null,null,null,null,null,null,null,null,null,null,null,null,null,null,null,null,null,null,null,null,null,null,0,null,null,null,null,null,null,null,null,null,null,null,null,null,null,null,null,null,null,null,"",null,null,null,null,null,null,null,null,null,null,null,null,null,""]
[18,null,null,null,null,null,null,null,null,null,null,null,null,null,null,null,null,null,null,null,null,null,null,null,null,null,0,null,null,null,null,null,null,null,null,null,null,null,null,null,null,null,null,null,null,null,"",null,null,null,null,null,null,null,null,null,null,null,null,null,""]
[18,null,null,null,null,null,null,null,null,null,null,null,null,null,null,null,null,null,null,null,null,null,null,null,null,null,0,null,null,null,null,null,null,null,null,null,null,null,null,null,null,null,null,null,null,null,"",null,null,null,null,null,null,null,null,null,null,null,null,null,""]
[18,null,null,null,null,null,null,null,null,null,null,null,null,null,null,null,null,null,null,null,null,null,null,null,null,null,0,null,null,null,null,null,null,null,null,null,null,null,null,null,null,null,null,null,null,null,"",null,null,null,null,null,null,null,null,null,null,null,null,null,""]
[18,null,null,null,null,null,null,null,null,null,null,null,null,null,null,null,null,null,null,null,null,null,null,null,null,null,0,null,null,null,null,null,null,null,null,null,null,null,null,null,null,null,null,null,null,null,"",null,null,null,null,null,null,null,null,null,null,null,null,null,""]
[18,null,null,null,null,null,null,null,null,null,null,null,null,null,null,null,null,null,null,null,null,null,null,null,null,null,0,null,null,null,null,null,null,null,null,null,null,null,null,null,null,null,null,null,null,null,"",null,null,null,null,null,null,null,null,null,null,null,null,null,""]
[18,null,null,null,null,null,null,null,null,null,null,null,null,null,null,null,null,null,null,null,null,null,null,null,null,null,0,null,null,null,null,null,null,null,null,null,null,null,null,null,null,null,null,null,null,null,"",null,null,null,null,null,null,null,null,null,null,null,null,null,""]
[18,null,null,null,null,null,null,null,null,null,null,null,null,null,null,null,null,null,null,null,null,null,null,null,null,null,0,null,null,null,null,null,null,null,null,null,null,null,null,null,null,null,null,null,null,null,"",null,null,null,null,null,null,null,null,null,null,null,null,null,""]
[18,null,null,null,null,null,null,null,null,null,null,null,null,null,null,null,null,null,null,null,null,null,null,null,null,null,0,null,null,null,null,null,null,null,null,null,null,null,null,null,null,null,null,null,null,null,"",null,null,null,null,null,null,null,null,null,null,null,null,null,""]
[18,null,null,null,null,null,null,null,null,null,null,null,null,null,null,null,null,null,null,null,null,null,null,null,null,null,0,null,null,null,null,null,null,null,null,null,null,null,null,null,null,null,null,null,null,null,"",null,null,null,null,null,null,null,null,null,null,null,null,null,""]
[18,null,null,null,null,null,null,null,null,null,null,null,null,null,null,null,null,null,null,null,null,null,null,null,null,null,0,null,null,null,null,null,null,null,null,null,null,null,null,null,null,null,null,null,null,null,"",null,null,null,null,null,null,null,null,null,null,null,null,null,""]
[18,null,null,null,null,null,null,null,null,null,null,null,null,null,null,null,null,null,null,null,null,null,null,null,null,null,0,null,null,null,null,null,null,null,null,null,null,null,null,null,null,null,null,null,null,null,"",null,null,null,null,null,null,null,null,null,null,null,null,null,""]
[18,null,null,null,null,null,null,null,null,null,null,null,null,null,null,null,null,null,null,null,null,null,null,null,null,null,0,null,null,null,null,null,null,null,null,null,null,null,null,null,null,null,null,null,null,null,"",null,null,null,null,null,null,null,null,null,null,null,null,null,""]
[18,null,null,null,null,null,null,null,null,null,null,null,null,null,null,null,null,null,null,null,null,null,null,null,null,null,{"$f":"Y963+(Z963/7)","v":0},null,null,null,null,null,null,null,null,null,null,null,null,null,null,null,null,null,null,null,"",null,null,null,null,null,null,null,null,null,null,null,null,null,""]
[18,null,null,null,null,null,null,null,null,null,null,null,null,null,null,null,null,null,null,null,null,null,null,null,null,null,0,null,null,null,null,null,null,null,null,null,null,null,null,null,null,null,null,null,null,null,"",null,null,null,null,null,null,null,null,null,null,null,null,null,""]
[18,null,null,null,null,null,null,null,null,null,null,null,null,null,null,null,null,null,null,null,null,null,null,null,null,null,0,null,null,null,null,null,null,null,null,null,null,null,null,null,null,null,null,null,null,null,"",null,null,null,null,null,null,null,null,null,null,null,null,null,""]
[18,null,null,null,null,null,null,null,null,null,null,null,null,null,null,null,null,null,null,null,null,null,null,null,null,null,0,null,null,null,null,null,null,null,null,null,null,null,null,null,null,null,null,null,null,null,"",null,null,null,null,null,null,null,null,null,null,null,null,null,""]
[18,null,null,null,null,null,null,null,null,null,null,null,null,null,null,null,null,null,null,null,null,null,null,null,null,null,0,null,null,null,null,null,null,null,null,null,null,null,null,null,null,null,null,null,null,null,"",null,null,null,null,null,null,null,null,null,null,null,null,null,""]
[18,null,null,null,null,null,null,null,null,null,null,null,null,null,null,null,null,null,null,null,null,null,null,null,null,null,0,null,null,null,null,null,null,null,null,null,null,null,null,null,null,null,null,null,null,null,"",null,null,null,null,null,null,null,null,null,null,null,null,null,""]
[18,null,null,null,null,null,null,null,null,null,null,null,null,null,null,null,null,null,null,null,null,null,null,null,null,null,0,null,null,null,null,null,null,null,null,null,null,null,null,null,null,null,null,null,null,null,"",null,null,null,null,null,null,null,null,null,null,null,null,null,""]
[18,null,null,null,null,null,null,null,null,null,null,null,null,null,null,null,null,null,null,null,null,null,null,null,null,null,0,null,null,null,null,null,null,null,null,null,null,null,null,null,null,null,null,null,null,null,"",null,null,null,null,null,null,null,null,null,null,null,null,null,""]
[18,null,null,null,null,null,null,null,null,null,null,null,null,null,null,null,null,null,null,null,null,null,null,null,null,null,0,null,null,null,null,null,null,null,null,null,null,null,null,null,null,null,null,null,null,null,"",null,null,null,null,null,null,null,null,null,null,null,null,null,""]
[18,null,null,null,null,null,null,null,null,null,null,null,null,null,null,null,null,null,null,null,null,null,null,null,null,null,0,null,null,null,null,null,null,null,null,null,null,null,null,null,null,null,null,null,null,null,"",null,null,null,null,null,null,null,null,null,null,null,null,null,""]
[18,null,null,null,null,null,null,null,null,null,null,null,null,null,null,null,null,null,null,null,null,null,null,null,null,null,0,null,null,null,null,null,null,null,null,null,null,null,null,null,null,null,null,null,null,null,"",null,null,null,null,null,null,null,null,null,null,null,null,null,""]
[18,null,null,null,null,null,null,null,null,null,null,null,null,null,null,null,null,null,null,null,null,null,null,null,null,null,0,null,null,null,null,null,null,null,null,null,null,null,null,null,null,null,null,null,null,null,"",null,null,null,null,null,null,null,null,null,null,null,null,null,""]
[18,null,null,null,null,null,null,null,null,null,null,null,null,null,null,null,null,null,null,null,null,null,null,null,null,null,0,null,null,null,null,null,null,null,null,null,null,null,null,null,null,null,null,null,null,null,"",null,null,null,null,null,null,null,null,null,null,null,null,null,""]
[18,null,null,null,null,null,null,null,null,null,null,null,null,null,null,null,null,null,null,null,null,null,null,null,null,null,0,null,null,null,null,null,null,null,null,null,null,null,null,null,null,null,null,null,null,null,"",null,null,null,null,null,null,null,null,null,null,null,null,null,""]
[18,null,null,null,null,null,null,null,null,null,null,null,null,null,null,null,null,null,null,null,null,null,null,null,null,null,0,null,null,null,null,null,null,null,null,null,null,null,null,null,null,null,null,null,null,null,"",null,null,null,null,null,null,null,null,null,null,null,null,null,""]
[18,null,null,null,null,null,null,null,null,null,null,null,null,null,null,null,null,null,null,null,null,null,null,null,null,null,0,null,null,null,null,null,null,null,null,null,null,null,null,null,null,null,null,null,null,null,"",null,null,null,null,null,null,null,null,null,null,null,null,null,""]
[18,null,null,null,null,null,null,null,null,null,null,null,null,null,null,null,null,null,null,null,null,null,null,null,null,null,0,null,null,null,null,null,null,null,null,null,null,null,null,null,null,null,null,null,null,null,"",null,null,null,null,null,null,null,null,null,null,null,null,null,""]
[18,null,null,null,null,null,null,null,null,null,null,null,null,null,null,null,null,null,null,null,null,null,null,null,null,null,0,null,null,null,null,null,null,null,null,null,null,null,null,null,null,null,null,null,null,null,"",null,null,null,null,null,null,null,null,null,null,null,null,null,""]
[18,null,null,null,null,null,null,null,null,null,null,null,null,null,null,null,null,null,null,null,null,null,null,null,null,null,0,null,null,null,null,null,null,null,null,null,null,null,null,null,null,null,null,null,null,null,"",null,null,null,null,null,null,null,null,null,null,null,null,null,""]
[18,null,null,null,null,null,null,null,null,null,null,null,null,null,null,null,null,null,null,null,null,null,null,null,null,null,0,null,null,null,null,null,null,null,null,null,null,null,null,null,null,null,null,null,null,null,"",null,null,null,null,null,null,null,null,null,null,null,null,null,""]
[18,null,null,null,null,null,null,null,null,null,null,null,null,null,null,null,null,null,null,null,null,null,null,null,null,null,0,null,null,null,null,null,null,null,null,null,null,null,null,null,null,null,null,null,null,null,"",null,null,null,null,null,null,null,null,null,null,null,null,null,""]
[18,null,null,null,null,null,null,null,null,null,null,null,null,null,null,null,null,null,null,null,null,null,null,null,null,null,0,null,null,null,null,null,null,null,null,null,null,null,null,null,null,null,null,null,null,null,"",null,null,null,null,null,null,null,null,null,null,null,null,null,""]
[18,null,null,null,null,null,null,null,null,null,null,null,null,null,null,null,null,null,null,null,null,null,null,null,null,null,0,null,null,null,null,null,null,null,null,null,null,null,null,null,null,null,null,null,null,null,"",null,null,null,null,null,null,null,null,null,null,null,null,null,""]
[18,null,null,null,null,null,null,null,null,null,null,null,null,null,null,null,null,null,null,null,null,null,null,null,null,null,0,null,null,null,null,null,null,null,null,null,null,null,null,null,null,null,null,null,null,null,"",null,null,null,null,null,null,null,null,null,null,null,null,null,""]
[18,null,null,null,null,null,null,null,null,null,null,null,null,null,null,null,null,null,null,null,null,null,null,null,null,null,0,null,null,null,null,null,null,null,null,null,null,null,null,null,null,null,null,null,null,null,"",null,null,null,null,null,null,null,null,null,null,null,null,null,""]
[18,null,null,null,null,null,null,null,null,null,null,null,null,null,null,null,null,null,null,null,null,null,null,null,null,null,0,null,null,null,null,null,null,null,null,null,null,null,null,null,null,null,null,null,null,null,"",null,null,null,null,null,null,null,null,null,null,null,null,null,""]
[18,null,null,null,null,null,null,null,null,null,null,null,null,null,null,null,null,null,null,null,null,null,null,null,null,null,0,null,null,null,null,null,null,null,null,null,null,null,null,null,null,null,null,null,null,null,"",null,null,null,null,null,null,null,null,null,null,null,null,null,""]
[18,null,null,null,null,null,null,null,null,null,null,null,null,null,null,null,null,null,null,null,null,null,null,null,null,null,0,null,null,null,null,null,null,null,null,null,null,null,null,null,null,null,null,null,null,null,"",null,null,null,null,null,null,null,null,null,null,null,null,null,""]
[18,null,null,null,null,null,null,null,null,null,null,null,null,null,null,null,null,null,null,null,null,null,null,null,null,null,0,null,null,null,null,null,null,null,null,null,null,null,null,null,null,null,null,null,null,null,"",null,null,null,null,null,null,null,null,null,null,null,null,null,""]
[18,null,null,null,null,null,null,null,null,null,null,null,null,null,null,null,null,null,null,null,null,null,null,null,null,null,0,null,null,null,null,null,null,null,null,null,null,null,null,null,null,null,null,null,null,null,"",null,null,null,null,null,null,null,null,null,null,null,null,null,""]
[18,null,null,null,null,null,null,null,null,null,null,null,null,null,null,null,null,null,null,null,null,null,null,null,null,null,0,null,null,null,null,null,null,null,null,null,null,null,null,null,null,null,null,null,null,null,"",null,null,null,null,null,null,null,null,null,null,null,null,null,""]
[18,null,null,null,null,null,null,null,null,null,null,null,null,null,null,null,null,null,null,null,null,null,null,null,null,null,0,null,null,null,null,null,null,null,null,null,null,null,null,null,null,null,null,null,null,null,"",null,null,null,null,null,null,null,null,null,null,null,null,null,""]
[18,null,null,null,null,null,null,null,null,null,null,null,null,null,null,null,null,null,null,null,null,null,null,null,null,null,0,null,null,null,null,null,null,null,null,null,null,null,null,null,null,null,null,null,null,null,"",null,null,null,null,null,null,null,null,null,null,null,null,null,""]
[18,null,null,null,null,null,null,null,null,null,null,null,null,null,null,null,null,null,null,null,null,null,null,null,null,null,0,null,null,null,null,null,null,null,null,null,null,null,null,null,null,null,null,null,null,null,"",null,null,null,null,null,null,null,null,null,null,null,null,null,""]
[18,null,null,null,null,null,null,null,null,null,null,null,null,null,null,null,null,null,null,null,null,null,null,null,null,null,0,null,null,null,null,null,null,null,null,null,null,null,null,null,null,null,null,null,null,null,"",null,null,null,null,null,null,null,null,null,null,null,null,null,""]
[18,null,null,null,null,null,null,null,null,null,null,null,null,null,null,null,null,null,null,null,null,null,null,null,null,null,0,null,null,null,null,null,null,null,null,null,null,null,null,null,null,null,null,null,null,null,"",null,null,null,null,null,null,null,null,null,null,null,null,null,""]
[18,null,null,null,null,null,null,null,null,null,null,null,null,null,null,null,null,null,null,null,null,null,null,null,null,null,0,null,null,null,null,null,null,null,null,null,null,null,null,null,null,null,null,null,null,null,"",null,null,null,null,null,null,null,null,null,null,null,null,null,""]
[18,null,null,null,null,null,null,null,null,null,null,null,null,null,null,null,null,null,null,null,null,null,null,null,null,null,0,null,null,null,null,null,null,null,null,null,null,null,null,null,null,null,null,null,null,null,"",null,null,null,null,null,null,null,null,null,null,null,null,null,""]
[18,null,null,null,null,null,null,null,null,null,null,null,null,null,null,null,null,null,null,null,null,null,null,null,null,null,0,null,null,null,null,null,null,null,null,null,null,null,null,null,null,null,null,null,null,null,"",null,null,null,null,null,null,null,null,null,null,null,null,null,""]
[18,null,null,null,null,null,null,null,null,null,null,null,null,null,null,null,null,null,null,null,null,null,null,null,null,null,0,null,null,null,null,null,null,null,null,null,null,null,null,null,null,null,null,null,null,null,"",null,null,null,null,null,null,null,null,null,null,null,null,null,""]
[18,null,null,null,null,null,null,null,null,null,null,null,null,null,null,null,null,null,null,null,null,null,null,null,null,null,0,null,null,null,null,null,null,null,null,null,null,null,null,null,null,null,null,null,null,null,"",null,null,null,null,null,null,null,null,null,null,null,null,null,""]
[18,null,null,null,null,null,null,null,null,null,null,null,null,null,null,null,null,null,null,null,null,null,null,null,null,null,0,null,null,null,null,null,null,null,null,null,null,null,null,null,null,null,null,null,null,null,"",null,null,null,null,null,null,null,null,null,null,null,null,null,""]
[18,null,null,null,null,null,null,null,null,null,null,null,null,null,null,null,null,null,null,null,null,null,null,null,null,null,0,null,null,null,null,null,null,null,null,null,null,null,null,null,null,null,null,null,null,null,"",null,null,null,null,null,null,null,null,null,null,null,null,null,""]
[18,null,null,null,null,null,null,null,null,null,null,null,null,null,null,null,null,null,null,null,null,null,null,null,null,null,0,null,null,null,null,null,null,null,null,null,null,null,null,null,null,null,null,null,null,null,"",null,null,null,null,null,null,null,null,null,null,null,null,null,""]
[18,null,null,null,null,null,null,null,null,null,null,null,null,null,null,null,null,null,null,null,null,null,null,null,null,null,0,null,null,null,null,null,null,null,null,null,null,null,null,null,null,null,null,null,null,null,"",null,null,null,null,null,null,null,null,null,null,null,null,null,""]
[18,null,null,null,null,null,null,null,null,null,null,null,null,null,null,null,null,null,null,null,null,null,null,null,null,null,0,null,null,null,null,null,null,null,null,null,null,null,null,null,null,null,null,null,null,null,"",null,null,null,null,null,null,null,null,null,null,null,null,null,""]
[18,null,null,null,null,null,null,null,null,null,null,null,null,null,null,null,null,null,null,null,null,null,null,null,null,null,0,null,null,null,null,null,null,null,null,null,null,null,null,null,null,null,null,null,null,null,"",null,null,null,null,null,null,null,null,null,null,null,null,null,""]
[18,null,null,null,null,null,null,null,null,null,null,null,null,null,null,null,null,null,null,null,null,null,null,null,null,null,0,null,null,null,null,null,null,null,null,null,null,null,null,null,null,null,null,null,null,null,"",null,null,null,null,null,null,null,null,null,null,null,null,null,""]
[18,null,null,null,null,null,null,null,null,null,null,null,null,null,null,null,null,null,null,null,null,null,null,null,null,null,0,null,null,null,null,null,null,null,null,null,null,null,null,null,null,null,null,null,null,null,"",null,null,null,null,null,null,null,null,null,null,null,null,null,""]
[18,null,null,null,null,null,null,null,null,null,null,null,null,null,null,null,null,null,null,null,null,null,null,null,null,null,0,null,null,null,null,null,null,null,null,null,null,null,null,null,null,null,null,null,null,null,"",null,null,null,null,null,null,null,null,null,null,null,null,null,""]
[18,null,null,null,null,null,null,null,null,null,null,null,null,null,null,null,null,null,null,null,null,null,null,null,null,null,0,null,null,null,null,null,null,null,null,null,null,null,null,null,null,null,null,null,null,null,"",null,null,null,null,null,null,null,null,null,null,null,null,null,""]
[18,null,null,null,null,null,null,null,null,null,null,null,null,null,null,null,null,null,null,null,null,null,null,null,null,null,0,null,null,null,null,null,null,null,null,null,null,null,null,null,null,null,null,null,null,null,"",null,null,null,null,null,null,null,null,null,null,null,null,null,""]
[18,null,null,null,null,null,null,null,null,null,null,null,null,null,null,null,null,null,null,null,null,null,null,null,null,null,0,null,null,null,null,null,null,null,null,null,null,null,null,null,null,null,null,null,null,null,"",null,null,null,null,null,null,null,null,null,null,null,null,null,""]
[18,null,null,null,null,null,null,null,null,null,null,null,null,null,null,null,null,null,null,null,null,null,null,null,null,null,0,null,null,null,null,null,null,null,null,null,null,null,null,null,null,null,null,null,null,null,"",null,null,null,null,null,null,null,null,null,null,null,null,null,""]
[18,null,null,null,null,null,null,null,null,null,null,null,null,null,null,null,null,null,null,null,null,null,null,null,null,null,0,null,null,null,null,null,null,null,null,null,null,null,null,null,null,null,null,null,null,null,"",null,null,null,null,null,null,null,null,null,null,null,null,null,""]
[18,null,null,null,null,null,null,null,null,null,null,null,null,null,null,null,null,null,null,null,null,null,null,null,null,null,0,null,null,null,null,null,null,null,null,null,null,null,null,null,null,null,null,null,null,null,"",null,null,null,null,null,null,null,null,null,null,null,null,null,""]
[18,null,null,null,null,null,null,null,null,null,null,null,null,null,null,null,null,null,null,null,null,null,null,null,null,null,0,null,null,null,null,null,null,null,null,null,null,null,null,null,null,null,null,null,null,null,"",null,null,null,null,null,null,null,null,null,null,null,null,null,""]
[18,null,null,null,null,null,null,null,null,null,null,null,null,null,null,null,null,null,null,null,null,null,null,null,null,null,0,null,null,null,null,null,null,null,null,null,null,null,null,null,null,null,null,null,null,null,"",null,null,null,null,null,null,null,null,null,null,null,null,null,""]
[18,null,null,null,null,null,null,null,null,null,null,null,null,null,null,null,null,null,null,null,null,null,null,null,null,null,0,null,null,null,null,null,null,null,null,null,null,null,null,null,null,null,null,null,null,null,"",null,null,null,null,null,null,null,null,null,null,null,null,null,""]
[18,null,null,null,null,null,null,null,null,null,null,null,null,null,null,null,null,null,null,null,null,null,null,null,null,null,0,null,null,null,null,null,null,null,null,null,null,null,null,null,null,null,null,null,null,null,"",null,null,null,null,null,null,null,null,null,null,null,null,null,""]
[18,null,null,null,null,null,null,null,null,null,null,null,null,null,null,null,null,null,null,null,null,null,null,null,null,null,0,null,null,null,null,null,null,null,null,null,null,null,null,null,null,null,null,null,null,null,"",null,null,null,null,null,null,null,null,null,null,null,null,null,""]
[18,null,null,null,null,null,null,null,null,null,null,null,null,null,null,null,null,null,null,null,null,null,null,null,null,null,0,null,null,null,null,null,null,null,null,null,null,null,null,null,null,null,null,null,null,null,"",null,null,null,null,null,null,null,null,null,null,null,null,null,""]
[18,null,null,null,null,null,null,null,null,null,null,null,null,null,null,null,null,null,null,null,null,null,null,null,null,null,{"$f":"Y1091+(Z1091/7)","v":0},null,null,null,null,null,null,null,null,null,null,null,null,null,null,null,null,null,null,null,"",null,null,null,null,null,null,null,null,null,null,null,null,null,""]
[18,null,null,null,null,null,null,null,null,null,null,null,null,null,null,null,null,null,null,null,null,null,null,null,null,null,0,null,null,null,null,null,null,null,null,null,null,null,null,null,null,null,null,null,null,null,"",null,null,null,null,null,null,null,null,null,null,null,null,null,""]
[18,null,null,null,null,null,null,null,null,null,null,null,null,null,null,null,null,null,null,null,null,null,null,null,null,null,0,null,null,null,null,null,null,null,null,null,null,null,null,null,null,null,null,null,null,null,"",null,null,null,null,null,null,null,null,null,null,null,null,null,""]
[18,null,null,null,null,null,null,null,null,null,null,null,null,null,null,null,null,null,null,null,null,null,null,null,null,null,0,null,null,null,null,null,null,null,null,null,null,null,null,null,null,null,null,null,null,null,"",null,null,null,null,null,null,null,null,null,null,null,null,null,""]
[18,null,null,null,null,null,null,null,null,null,null,null,null,null,null,null,null,null,null,null,null,null,null,null,null,null,0,null,null,null,null,null,null,null,null,null,null,null,null,null,null,null,null,null,null,null,"",null,null,null,null,null,null,null,null,null,null,null,null,null,""]
[18,null,null,null,null,null,null,null,null,null,null,null,null,null,null,null,null,null,null,null,null,null,null,null,null,null,0,null,null,null,null,null,null,null,null,null,null,null,null,null,null,null,null,null,null,null,"",null,null,null,null,null,null,null,null,null,null,null,null,null,""]
[18,null,null,null,null,null,null,null,null,null,null,null,null,null,null,null,null,null,null,null,null,null,null,null,null,null,0,null,null,null,null,null,null,null,null,null,null,null,null,null,null,null,null,null,null,null,"",null,null,null,null,null,null,null,null,null,null,null,null,null,""]
[18,null,null,null,null,null,null,null,null,null,null,null,null,null,null,null,null,null,null,null,null,null,null,null,null,null,0,null,null,null,null,null,null,null,null,null,null,null,null,null,null,null,null,null,null,null,"",null,null,null,null,null,null,null,null,null,null,null,null,null,""]
[18,null,null,null,null,null,null,null,null,null,null,null,null,null,null,null,null,null,null,null,null,null,null,null,null,null,0,null,null,null,null,null,null,null,null,null,null,null,null,null,null,null,null,null,null,null,"",null,null,null,null,null,null,null,null,null,null,null,null,null,""]
[18,null,null,null,null,null,null,null,null,null,null,null,null,null,null,null,null,null,null,null,null,null,null,null,null,null,0,null,null,null,null,null,null,null,null,null,null,null,null,null,null,null,null,null,null,null,"",null,null,null,null,null,null,null,null,null,null,null,null,null,""]
[18,null,null,null,null,null,null,null,null,null,null,null,null,null,null,null,null,null,null,null,null,null,null,null,null,null,0,null,null,null,null,null,null,null,null,null,null,null,null,null,null,null,null,null,null,null,"",null,null,null,null,null,null,null,null,null,null,null,null,null,""]
[18,null,null,null,null,null,null,null,null,null,null,null,null,null,null,null,null,null,null,null,null,null,null,null,null,null,0,null,null,null,null,null,null,null,null,null,null,null,null,null,null,null,null,null,null,null,"",null,null,null,null,null,null,null,null,null,null,null,null,null,""]
[18,null,null,null,null,null,null,null,null,null,null,null,null,null,null,null,null,null,null,null,null,null,null,null,null,null,0,null,null,null,null,null,null,null,null,null,null,null,null,null,null,null,null,null,null,null,"",null,null,null,null,null,null,null,null,null,null,null,null,null,""]
[18,null,null,null,null,null,null,null,null,null,null,null,null,null,null,null,null,null,null,null,null,null,null,null,null,null,0,null,null,null,null,null,null,null,null,null,null,null,null,null,null,null,null,null,null,null,"",null,null,null,null,null,null,null,null,null,null,null,null,null,""]
[18,null,null,null,null,null,null,null,null,null,null,null,null,null,null,null,null,null,null,null,null,null,null,null,null,null,0,null,null,null,null,null,null,null,null,null,null,null,null,null,null,null,null,null,null,null,"",null,null,null,null,null,null,null,null,null,null,null,null,null,""]
[18,null,null,null,null,null,null,null,null,null,null,null,null,null,null,null,null,null,null,null,null,null,null,null,null,null,0,null,null,null,null,null,null,null,null,null,null,null,null,null,null,null,null,null,null,null,"",null,null,null,null,null,null,null,null,null,null,null,null,null,""]
[18,null,null,null,null,null,null,null,null,null,null,null,null,null,null,null,null,null,null,null,null,null,null,null,null,null,0,null,null,null,null,null,null,null,null,null,null,null,null,null,null,null,null,null,null,null,"",null,null,null,null,null,null,null,null,null,null,null,null,null,""]
[18,null,null,null,null,null,null,null,null,null,null,null,null,null,null,null,null,null,null,null,null,null,null,null,null,null,0,null,null,null,null,null,null,null,null,null,null,null,null,null,null,null,null,null,null,null,"",null,null,null,null,null,null,null,null,null,null,null,null,null,""]
[18,null,null,null,null,null,null,null,null,null,null,null,null,null,null,null,null,null,null,null,null,null,null,null,null,null,0,null,null,null,null,null,null,null,null,null,null,null,null,null,null,null,null,null,null,null,"",null,null,null,null,null,null,null,null,null,null,null,null,null,""]
[18,null,null,null,null,null,null,null,null,null,null,null,null,null,null,null,null,null,null,null,null,null,null,null,null,null,0,null,null,null,null,null,null,null,null,null,null,null,null,null,null,null,null,null,null,null,"",null,null,null,null,null,null,null,null,null,null,null,null,null,""]
[18,null,null,null,null,null,null,null,null,null,null,null,null,null,null,null,null,null,null,null,null,null,null,null,null,null,0,null,null,null,null,null,null,null,null,null,null,null,null,null,null,null,null,null,null,null,"",null,null,null,null,null,null,null,null,null,null,null,null,null,""]
[18,null,null,null,null,null,null,null,null,null,null,null,null,null,null,null,null,null,null,null,null,null,null,null,null,null,0,null,null,null,null,null,null,null,null,null,null,null,null,null,null,null,null,null,null,null,"",null,null,null,null,null,null,null,null,null,null,null,null,null,""]
[18,null,null,null,null,null,null,null,null,null,null,null,null,null,null,null,null,null,null,null,null,null,null,null,null,null,0,null,null,null,null,null,null,null,null,null,null,null,null,null,null,null,null,null,null,null,"",null,null,null,null,null,null,null,null,null,null,null,null,null,""]
[18,null,null,null,null,null,null,null,null,null,null,null,null,null,null,null,null,null,null,null,null,null,null,null,null,null,0,null,null,null,null,null,null,null,null,null,null,null,null,null,null,null,null,null,null,null,"",null,null,null,null,null,null,null,null,null,null,null,null,null,""]
[18,null,null,null,null,null,null,null,null,null,null,null,null,null,null,null,null,null,null,null,null,null,null,null,null,null,0,null,null,null,null,null,null,null,null,null,null,null,null,null,null,null,null,null,null,null,"",null,null,null,null,null,null,null,null,null,null,null,null,null,""]
[18,null,null,null,null,null,null,null,null,null,null,null,null,null,null,null,null,null,null,null,null,null,null,null,null,null,0,null,null,null,null,null,null,null,null,null,null,null,null,null,null,null,null,null,null,null,"",null,null,null,null,null,null,null,null,null,null,null,null,null,""]
[18,null,null,null,null,null,null,null,null,null,null,null,null,null,null,null,null,null,null,null,null,null,null,null,null,null,0,null,null,null,null,null,null,null,null,null,null,null,null,null,null,null,null,null,null,null,"",null,null,null,null,null,null,null,null,null,null,null,null,null,""]
[18,null,null,null,null,null,null,null,null,null,null,null,null,null,null,null,null,null,null,null,null,null,null,null,null,null,0,null,null,null,null,null,null,null,null,null,null,null,null,null,null,null,null,null,null,null,"",null,null,null,null,null,null,null,null,null,null,null,null,null,""]
[18,null,null,null,null,null,null,null,null,null,null,null,null,null,null,null,null,null,null,null,null,null,null,null,null,null,0,null,null,null,null,null,null,null,null,null,null,null,null,null,null,null,null,null,null,null,"",null,null,null,null,null,null,null,null,null,null,null,null,null,""]
[18,null,null,null,null,null,null,null,null,null,null,null,null,null,null,null,null,null,null,null,null,null,null,null,null,null,0,null,null,null,null,null,null,null,null,null,null,null,null,null,null,null,null,null,null,null,"",null,null,null,null,null,null,null,null,null,null,null,null,null,""]
[18,null,null,null,null,null,null,null,null,null,null,null,null,null,null,null,null,null,null,null,null,null,null,null,null,null,0,null,null,null,null,null,null,null,null,null,null,null,null,null,null,null,null,null,null,null,"",null,null,null,null,null,null,null,null,null,null,null,null,null,""]
[18,null,null,null,null,null,null,null,null,null,null,null,null,null,null,null,null,null,null,null,null,null,null,null,null,null,0,null,null,null,null,null,null,null,null,null,null,null,null,null,null,null,null,null,null,null,"",null,null,null,null,null,null,null,null,null,null,null,null,null,""]
[18,null,null,null,null,null,null,null,null,null,null,null,null,null,null,null,null,null,null,null,null,null,null,null,null,null,0,null,null,null,null,null,null,null,null,null,null,null,null,null,null,null,null,null,null,null,"",null,null,null,null,null,null,null,null,null,null,null,null,null,""]
[18,null,null,null,null,null,null,null,null,null,null,null,null,null,null,null,null,null,null,null,null,null,null,null,null,null,0,null,null,null,null,null,null,null,null,null,null,null,null,null,null,null,null,null,null,null,"",null,null,null,null,null,null,null,null,null,null,null,null,null,""]
[18,null,null,null,null,null,null,null,null,null,null,null,null,null,null,null,null,null,null,null,null,null,null,null,null,null,0,null,null,null,null,null,null,null,null,null,null,null,null,null,null,null,null,null,null,null,"",null,null,null,null,null,null,null,null,null,null,null,null,null,""]
[18,null,null,null,null,null,null,null,null,null,null,null,null,null,null,null,null,null,null,null,null,null,null,null,null,null,0,null,null,null,null,null,null,null,null,null,null,null,null,null,null,null,null,null,null,null,"",null,null,null,null,null,null,null,null,null,null,null,null,null,""]
[18,null,null,null,null,null,null,null,null,null,null,null,null,null,null,null,null,null,null,null,null,null,null,null,null,null,0,null,null,null,null,null,null,null,null,null,null,null,null,null,null,null,null,null,null,null,"",null,null,null,null,null,null,null,null,null,null,null,null,null,""]
[18,null,null,null,null,null,null,null,null,null,null,null,null,null,null,null,null,null,null,null,null,null,null,null,null,null,0,null,null,null,null,null,null,null,null,null,null,null,null,null,null,null,null,null,null,null,"",null,null,null,null,null,null,null,null,null,null,null,null,null,""]
[18,null,null,null,null,null,null,null,null,null,null,null,null,null,null,null,null,null,null,null,null,null,null,null,null,null,0,null,null,null,null,null,null,null,null,null,null,null,null,null,null,null,null,null,null,null,"",null,null,null,null,null,null,null,null,null,null,null,null,null,""]
[18,null,null,null,null,null,null,null,null,null,null,null,null,null,null,null,null,null,null,null,null,null,null,null,null,null,0,null,null,null,null,null,null,null,null,null,null,null,null,null,null,null,null,null,null,null,"",null,null,null,null,null,null,null,null,null,null,null,null,null,""]
[18,null,null,null,null,null,null,null,null,null,null,null,null,null,null,null,null,null,null,null,null,null,null,null,null,null,0,null,null,null,null,null,null,null,null,null,null,null,null,null,null,null,null,null,null,null,"",null,null,null,null,null,null,null,null,null,null,null,null,null,""]
[18,null,null,null,null,null,null,null,null,null,null,null,null,null,null,null,null,null,null,null,null,null,null,null,null,null,0,null,null,null,null,null,null,null,null,null,null,null,null,null,null,null,null,null,null,null,"",null,null,null,null,null,null,null,null,null,null,null,null,null,""]
[18,null,null,null,null,null,null,null,null,null,null,null,null,null,null,null,null,null,null,null,null,null,null,null,null,null,0,null,null,null,null,null,null,null,null,null,null,null,null,null,null,null,null,null,null,null,"",null,null,null,null,null,null,null,null,null,null,null,null,null,""]
[18,null,null,null,null,null,null,null,null,null,null,null,null,null,null,null,null,null,null,null,null,null,null,null,null,null,0,null,null,null,null,null,null,null,null,null,null,null,null,null,null,null,null,null,null,null,"",null,null,null,null,null,null,null,null,null,null,null,null,null,""]
[18,null,null,null,null,null,null,null,null,null,null,null,null,null,null,null,null,null,null,null,null,null,null,null,null,null,0,null,null,null,null,null,null,null,null,null,null,null,null,null,null,null,null,null,null,null,"",null,null,null,null,null,null,null,null,null,null,null,null,null,""]
[18,null,null,null,null,null,null,null,null,null,null,null,null,null,null,null,null,null,null,null,null,null,null,null,null,null,0,null,null,null,null,null,null,null,null,null,null,null,null,null,null,null,null,null,null,null,"",null,null,null,null,null,null,null,null,null,null,null,null,null,""]
[18,null,null,null,null,null,null,null,null,null,null,null,null,null,null,null,null,null,null,null,null,null,null,null,null,null,0,null,null,null,null,null,null,null,null,null,null,null,null,null,null,null,null,null,null,null,"",null,null,null,null,null,null,null,null,null,null,null,null,null,""]
[18,null,null,null,null,null,null,null,null,null,null,null,null,null,null,null,null,null,null,null,null,null,null,null,null,null,0,null,null,null,null,null,null,null,null,null,null,null,null,null,null,null,null,null,null,null,"",null,null,null,null,null,null,null,null,null,null,null,null,null,""]
[18,null,null,null,null,null,null,null,null,null,null,null,null,null,null,null,null,null,null,null,null,null,null,null,null,null,0,null,null,null,null,null,null,null,null,null,null,null,null,null,null,null,null,null,null,null,"",null,null,null,null,null,null,null,null,null,null,null,null,null,""]
[18,null,null,null,null,null,null,null,null,null,null,null,null,null,null,null,null,null,null,null,null,null,null,null,null,null,0,null,null,null,null,null,null,null,null,null,null,null,null,null,null,null,null,null,null,null,"",null,null,null,null,null,null,null,null,null,null,null,null,null,""]
[18,null,null,null,null,null,null,null,null,null,null,null,null,null,null,null,null,null,null,null,null,null,null,null,null,null,0,null,null,null,null,null,null,null,null,null,null,null,null,null,null,null,null,null,null,null,"",null,null,null,null,null,null,null,null,null,null,null,null,null,""]
[18,null,null,null,null,null,null,null,null,null,null,null,null,null,null,null,null,null,null,null,null,null,null,null,null,null,0,null,null,null,null,null,null,null,null,null,null,null,null,null,null,null,null,null,null,null,"",null,null,null,null,null,null,null,null,null,null,null,null,null,""]
[18,null,null,null,null,null,null,null,null,null,null,null,null,null,null,null,null,null,null,null,null,null,null,null,null,null,0,null,null,null,null,null,null,null,null,null,null,null,null,null,null,null,null,null,null,null,"",null,null,null,null,null,null,null,null,null,null,null,null,null,""]
[18,null,null,null,null,null,null,null,null,null,null,null,null,null,null,null,null,null,null,null,null,null,null,null,null,null,0,null,null,null,null,null,null,null,null,null,null,null,null,null,null,null,null,null,null,null,"",null,null,null,null,null,null,null,null,null,null,null,null,null,""]
[18,null,null,null,null,null,null,null,null,null,null,null,null,null,null,null,null,null,null,null,null,null,null,null,null,null,0,null,null,null,null,null,null,null,null,null,null,null,null,null,null,null,null,null,null,null,"",null,null,null,null,null,null,null,null,null,null,null,null,null,""]
[18,null,null,null,null,null,null,null,null,null,null,null,null,null,null,null,null,null,null,null,null,null,null,null,null,null,0,null,null,null,null,null,null,null,null,null,null,null,null,null,null,null,null,null,null,null,"",null,null,null,null,null,null,null,null,null,null,null,null,null,""]
[18,null,null,null,null,null,null,null,null,null,null,null,null,null,null,null,null,null,null,null,null,null,null,null,null,null,0,null,null,null,null,null,null,null,null,null,null,null,null,null,null,null,null,null,null,null,"",null,null,null,null,null,null,null,null,null,null,null,null,null,""]
[18,null,null,null,null,null,null,null,null,null,null,null,null,null,null,null,null,null,null,null,null,null,null,null,null,null,0,null,null,null,null,null,null,null,null,null,null,null,null,null,null,null,null,null,null,null,"",null,null,null,null,null,null,null,null,null,null,null,null,null,""]
[18,null,null,null,null,null,null,null,null,null,null,null,null,null,null,null,null,null,null,null,null,null,null,null,null,null,0,null,null,null,null,null,null,null,null,null,null,null,null,null,null,null,null,null,null,null,"",null,null,null,null,null,null,null,null,null,null,null,null,null,""]
[18,null,null,null,null,null,null,null,null,null,null,null,null,null,null,null,null,null,null,null,null,null,null,null,null,null,0,null,null,null,null,null,null,null,null,null,null,null,null,null,null,null,null,null,null,null,"",null,null,null,null,null,null,null,null,null,null,null,null,null,""]
[18,null,null,null,null,null,null,null,null,null,null,null,null,null,null,null,null,null,null,null,null,null,null,null,null,null,0,null,null,null,null,null,null,null,null,null,null,null,null,null,null,null,null,null,null,null,"",null,null,null,null,null,null,null,null,null,null,null,null,null,""]
[18,null,null,null,null,null,null,null,null,null,null,null,null,null,null,null,null,null,null,null,null,null,null,null,null,null,0,null,null,null,null,null,null,null,null,null,null,null,null,null,null,null,null,null,null,null,"",null,null,null,null,null,null,null,null,null,null,null,null,null,""]
[18,null,null,null,null,null,null,null,null,null,null,null,null,null,null,null,null,null,null,null,null,null,null,null,null,null,{"$f":"Y1219+(Z1219/7)","v":0},null,null,null,null,null,null,null,null,null,null,null,null,null,null,null,null,null,null,null,"",null,null,null,null,null,null,null,null,null,null,null,null,null,""]
[18,null,null,null,null,null,null,null,null,null,null,null,null,null,null,null,null,null,null,null,null,null,null,null,null,null,0,null,null,null,null,null,null,null,null,null,null,null,null,null,null,null,null,null,null,null,"",null,null,null,null,null,null,null,null,null,null,null,null,null,""]
[18,null,null,null,null,null,null,null,null,null,null,null,null,null,null,null,null,null,null,null,null,null,null,null,null,null,0,null,null,null,null,null,null,null,null,null,null,null,null,null,null,null,null,null,null,null,"",null,null,null,null,null,null,null,null,null,null,null,null,null,""]
[18,null,null,null,null,null,null,null,null,null,null,null,null,null,null,null,null,null,null,null,null,null,null,null,null,null,0,null,null,null,null,null,null,null,null,null,null,null,null,null,null,null,null,null,null,null,"",null,null,null,null,null,null,null,null,null,null,null,null,null,""]
[18,null,null,null,null,null,null,null,null,null,null,null,null,null,null,null,null,null,null,null,null,null,null,null,null,null,0,null,null,null,null,null,null,null,null,null,null,null,null,null,null,null,null,null,null,null,"",null,null,null,null,null,null,null,null,null,null,null,null,null,""]
[18,null,null,null,null,null,null,null,null,null,null,null,null,null,null,null,null,null,null,null,null,null,null,null,null,null,0,null,null,null,null,null,null,null,null,null,null,null,null,null,null,null,null,null,null,null,"",null,null,null,null,null,null,null,null,null,null,null,null,null,""]
[18,null,null,null,null,null,null,null,null,null,null,null,null,null,null,null,null,null,null,null,null,null,null,null,null,null,0,null,null,null,null,null,null,null,null,null,null,null,null,null,null,null,null,null,null,null,"",null,null,null,null,null,null,null,null,null,null,null,null,null,""]
[18,null,null,null,null,null,null,null,null,null,null,null,null,null,null,null,null,null,null,null,null,null,null,null,null,null,0,null,null,null,null,null,null,null,null,null,null,null,null,null,null,null,null,null,null,null,"",null,null,null,null,null,null,null,null,null,null,null,null,null,""]
[18,null,null,null,null,null,null,null,null,null,null,null,null,null,null,null,null,null,null,null,null,null,null,null,null,null,0,null,null,null,null,null,null,null,null,null,null,null,null,null,null,null,null,null,null,null,"",null,null,null,null,null,null,null,null,null,null,null,null,null,""]
[18,null,null,null,null,null,null,null,null,null,null,null,null,null,null,null,null,null,null,null,null,null,null,null,null,null,0,null,null,null,null,null,null,null,null,null,null,null,null,null,null,null,null,null,null,null,"",null,null,null,null,null,null,null,null,null,null,null,null,null,""]
[18,null,null,null,null,null,null,null,null,null,null,null,null,null,null,null,null,null,null,null,null,null,null,null,null,null,0,null,null,null,null,null,null,null,null,null,null,null,null,null,null,null,null,null,null,null,"",null,null,null,null,null,null,null,null,null,null,null,null,null,""]
[18,null,null,null,null,null,null,null,null,null,null,null,null,null,null,null,null,null,null,null,null,null,null,null,null,null,0,null,null,null,null,null,null,null,null,null,null,null,null,null,null,null,null,null,null,null,"",null,null,null,null,null,null,null,null,null,null,null,null,null,""]
[18,null,null,null,null,null,null,null,null,null,null,null,null,null,null,null,null,null,null,null,null,null,null,null,null,null,0,null,null,null,null,null,null,null,null,null,null,null,null,null,null,null,null,null,null,null,"",null,null,null,null,null,null,null,null,null,null,null,null,null,""]
[18,null,null,null,null,null,null,null,null,null,null,null,null,null,null,null,null,null,null,null,null,null,null,null,null,null,0,null,null,null,null,null,null,null,null,null,null,null,null,null,null,null,null,null,null,null,"",null,null,null,null,null,null,null,null,null,null,null,null,null,""]
[18,null,null,null,null,null,null,null,null,null,null,null,null,null,null,null,null,null,null,null,null,null,null,null,null,null,0,null,null,null,null,null,null,null,null,null,null,null,null,null,null,null,null,null,null,null,"",null,null,null,null,null,null,null,null,null,null,null,null,null,""]
[18,null,null,null,null,null,null,null,null,null,null,null,null,null,null,null,null,null,null,null,null,null,null,null,null,null,0,null,null,null,null,null,null,null,null,null,null,null,null,null,null,null,null,null,null,null,"",null,null,null,null,null,null,null,null,null,null,null,null,null,""]
[18,null,null,null,null,null,null,null,null,null,null,null,null,null,null,null,null,null,null,null,null,null,null,null,null,null,0,null,null,null,null,null,null,null,null,null,null,null,null,null,null,null,null,null,null,null,"",null,null,null,null,null,null,null,null,null,null,null,null,null,""]
[18,null,null,null,null,null,null,null,null,null,null,null,null,null,null,null,null,null,null,null,null,null,null,null,null,null,0,null,null,null,null,null,null,null,null,null,null,null,null,null,null,null,null,null,null,null,"",null,null,null,null,null,null,null,null,null,null,null,null,null,""]
[18,null,null,null,null,null,null,null,null,null,null,null,null,null,null,null,null,null,null,null,null,null,null,null,null,null,0,null,null,null,null,null,null,null,null,null,null,null,null,null,null,null,null,null,null,null,"",null,null,null,null,null,null,null,null,null,null,null,null,null,""]
[18,null,null,null,null,null,null,null,null,null,null,null,null,null,null,null,null,null,null,null,null,null,null,null,null,null,0,null,null,null,null,null,null,null,null,null,null,null,null,null,null,null,null,null,null,null,"",null,null,null,null,null,null,null,null,null,null,null,null,null,""]
[18,null,null,null,null,null,null,null,null,null,null,null,null,null,null,null,null,null,null,null,null,null,null,null,null,null,0,null,null,null,null,null,null,null,null,null,null,null,null,null,null,null,null,null,null,null,"",null,null,null,null,null,null,null,null,null,null,null,null,null,""]
[18,null,null,null,null,null,null,null,null,null,null,null,null,null,null,null,null,null,null,null,null,null,null,null,null,null,0,null,null,null,null,null,null,null,null,null,null,null,null,null,null,null,null,null,null,null,"",null,null,null,null,null,null,null,null,null,null,null,null,null,""]
[18,null,null,null,null,null,null,null,null,null,null,null,null,null,null,null,null,null,null,null,null,null,null,null,null,null,0,null,null,null,null,null,null,null,null,null,null,null,null,null,null,null,null,null,null,null,"",null,null,null,null,null,null,null,null,null,null,null,null,null,""]
[18,null,null,null,null,null,null,null,null,null,null,null,null,null,null,null,null,null,null,null,null,null,null,null,null,null,0,null,null,null,null,null,null,null,null,null,null,null,null,null,null,null,null,null,null,null,"",null,null,null,null,null,null,null,null,null,null,null,null,null,""]
[18,null,null,null,null,null,null,null,null,null,null,null,null,null,null,null,null,null,null,null,null,null,null,null,null,null,0,null,null,null,null,null,null,null,null,null,null,null,null,null,null,null,null,null,null,null,"",null,null,null,null,null,null,null,null,null,null,null,null,null,""]
[18,null,null,null,null,null,null,null,null,null,null,null,null,null,null,null,null,null,null,null,null,null,null,null,null,null,0,null,null,null,null,null,null,null,null,null,null,null,null,null,null,null,null,null,null,null,"",null,null,null,null,null,null,null,null,null,null,null,null,null,""]
[18,null,null,null,null,null,null,null,null,null,null,null,null,null,null,null,null,null,null,null,null,null,null,null,null,null,0,null,null,null,null,null,null,null,null,null,null,null,null,null,null,null,null,null,null,null,"",null,null,null,null,null,null,null,null,null,null,null,null,null,""]
[18,null,null,null,null,null,null,null,null,null,null,null,null,null,null,null,null,null,null,null,null,null,null,null,null,null,0,null,null,null,null,null,null,null,null,null,null,null,null,null,null,null,null,null,null,null,"",null,null,null,null,null,null,null,null,null,null,null,null,null,""]
[18,null,null,null,null,null,null,null,null,null,null,null,null,null,null,null,null,null,null,null,null,null,null,null,null,null,0,null,null,null,null,null,null,null,null,null,null,null,null,null,null,null,null,null,null,null,"",null,null,null,null,null,null,null,null,null,null,null,null,null,""]
[18,null,null,null,null,null,null,null,null,null,null,null,null,null,null,null,null,null,null,null,null,null,null,null,null,null,0,null,null,null,null,null,null,null,null,null,null,null,null,null,null,null,null,null,null,null,"",null,null,null,null,null,null,null,null,null,null,null,null,null,""]
[18,null,null,null,null,null,null,null,null,null,null,null,null,null,null,null,null,null,null,null,null,null,null,null,null,null,0,null,null,null,null,null,null,null,null,null,null,null,null,null,null,null,null,null,null,null,"",null,null,null,null,null,null,null,null,null,null,null,null,null,""]
[18,null,null,null,null,null,null,null,null,null,null,null,null,null,null,null,null,null,null,null,null,null,null,null,null,null,0,null,null,null,null,null,null,null,null,null,null,null,null,null,null,null,null,null,null,null,"",null,null,null,null,null,null,null,null,null,null,null,null,null,""]
[18,null,null,null,null,null,null,null,null,null,null,null,null,null,null,null,null,null,null,null,null,null,null,null,null,null,0,null,null,null,null,null,null,null,null,null,null,null,null,null,null,null,null,null,null,null,"",null,null,null,null,null,null,null,null,null,null,null,null,null,""]
[18,null,null,null,null,null,null,null,null,null,null,null,null,null,null,null,null,null,null,null,null,null,null,null,null,null,0,null,null,null,null,null,null,null,null,null,null,null,null,null,null,null,null,null,null,null,"",null,null,null,null,null,null,null,null,null,null,null,null,null,""]
[18,null,null,null,null,null,null,null,null,null,null,null,null,null,null,null,null,null,null,null,null,null,null,null,null,null,0,null,null,null,null,null,null,null,null,null,null,null,null,null,null,null,null,null,null,null,"",null,null,null,null,null,null,null,null,null,null,null,null,null,""]
[18,null,null,null,null,null,null,null,null,null,null,null,null,null,null,null,null,null,null,null,null,null,null,null,null,null,0,null,null,null,null,null,null,null,null,null,null,null,null,null,null,null,null,null,null,null,"",null,null,null,null,null,null,null,null,null,null,null,null,null,""]
[18,null,null,null,null,null,null,null,null,null,null,null,null,null,null,null,null,null,null,null,null,null,null,null,null,null,0,null,null,null,null,null,null,null,null,null,null,null,null,null,null,null,null,null,null,null,"",null,null,null,null,null,null,null,null,null,null,null,null,null,""]
[18,null,null,null,null,null,null,null,null,null,null,null,null,null,null,null,null,null,null,null,null,null,null,null,null,null,0,null,null,null,null,null,null,null,null,null,null,null,null,null,null,null,null,null,null,null,"",null,null,null,null,null,null,null,null,null,null,null,null,null,""]
[18,null,null,null,null,null,null,null,null,null,null,null,null,null,null,null,null,null,null,null,null,null,null,null,null,null,0,null,null,null,null,null,null,null,null,null,null,null,null,null,null,null,null,null,null,null,"",null,null,null,null,null,null,null,null,null,null,null,null,null,""]
[18,null,null,null,null,null,null,null,null,null,null,null,null,null,null,null,null,null,null,null,null,null,null,null,null,null,0,null,null,null,null,null,null,null,null,null,null,null,null,null,null,null,null,null,null,null,"",null,null,null,null,null,null,null,null,null,null,null,null,null,""]
[18,null,null,null,null,null,null,null,null,null,null,null,null,null,null,null,null,null,null,null,null,null,null,null,null,null,0,null,null,null,null,null,null,null,null,null,null,null,null,null,null,null,null,null,null,null,"",null,null,null,null,null,null,null,null,null,null,null,null,null,""]
[18,null,null,null,null,null,null,null,null,null,null,null,null,null,null,null,null,null,null,null,null,null,null,null,null,null,0,null,null,null,null,null,null,null,null,null,null,null,null,null,null,null,null,null,null,null,"",null,null,null,null,null,null,null,null,null,null,null,null,null,""]
[18,null,null,null,null,null,null,null,null,null,null,null,null,null,null,null,null,null,null,null,null,null,null,null,null,null,0,null,null,null,null,null,null,null,null,null,null,null,null,null,null,null,null,null,null,null,"",null,null,null,null,null,null,null,null,null,null,null,null,null,""]
[18,null,null,null,null,null,null,null,null,null,null,null,null,null,null,null,null,null,null,null,null,null,null,null,null,null,0,null,null,null,null,null,null,null,null,null,null,null,null,null,null,null,null,null,null,null,"",null,null,null,null,null,null,null,null,null,null,null,null,null,""]
[18,null,null,null,null,null,null,null,null,null,null,null,null,null,null,null,null,null,null,null,null,null,null,null,null,null,0,null,null,null,null,null,null,null,null,null,null,null,null,null,null,null,null,null,null,null,"",null,null,null,null,null,null,null,null,null,null,null,null,null,""]
[18,null,null,null,null,null,null,null,null,null,null,null,null,null,null,null,null,null,null,null,null,null,null,null,null,null,0,null,null,null,null,null,null,null,null,null,null,null,null,null,null,null,null,null,null,null,"",null,null,null,null,null,null,null,null,null,null,null,null,null,""]
[18,null,null,null,null,null,null,null,null,null,null,null,null,null,null,null,null,null,null,null,null,null,null,null,null,null,0,null,null,null,null,null,null,null,null,null,null,null,null,null,null,null,null,null,null,null,"",null,null,null,null,null,null,null,null,null,null,null,null,null,""]
[18,null,null,null,null,null,null,null,null,null,null,null,null,null,null,null,null,null,null,null,null,null,null,null,null,null,0,null,null,null,null,null,null,null,null,null,null,null,null,null,null,null,null,null,null,null,"",null,null,null,null,null,null,null,null,null,null,null,null,null,""]
[18,null,null,null,null,null,null,null,null,null,null,null,null,null,null,null,null,null,null,null,null,null,null,null,null,null,0,null,null,null,null,null,null,null,null,null,null,null,null,null,null,null,null,null,null,null,"",null,null,null,null,null,null,null,null,null,null,null,null,null,""]
[18,null,null,null,null,null,null,null,null,null,null,null,null,null,null,null,null,null,null,null,null,null,null,null,null,null,0,null,null,null,null,null,null,null,null,null,null,null,null,null,null,null,null,null,null,null,"",null,null,null,null,null,null,null,null,null,null,null,null,null,""]
[18,null,null,null,null,null,null,null,null,null,null,null,null,null,null,null,null,null,null,null,null,null,null,null,null,null,0,null,null,null,null,null,null,null,null,null,null,null,null,null,null,null,null,null,null,null,"",null,null,null,null,null,null,null,null,null,null,null,null,null,""]
[18,null,null,null,null,null,null,null,null,null,null,null,null,null,null,null,null,null,null,null,null,null,null,null,null,null,0,null,null,null,null,null,null,null,null,null,null,null,null,null,null,null,null,null,null,null,"",null,null,null,null,null,null,null,null,null,null,null,null,null,""]
[18,null,null,null,null,null,null,null,null,null,null,null,null,null,null,null,null,null,null,null,null,null,null,null,null,null,0,null,null,null,null,null,null,null,null,null,null,null,null,null,null,null,null,null,null,null,"",null,null,null,null,null,null,null,null,null,null,null,null,null,""]
[18,null,null,null,null,null,null,null,null,null,null,null,null,null,null,null,null,null,null,null,null,null,null,null,null,null,0,null,null,null,null,null,null,null,null,null,null,null,null,null,null,null,null,null,null,null,"",null,null,null,null,null,null,null,null,null,null,null,null,null,""]
[18,null,null,null,null,null,null,null,null,null,null,null,null,null,null,null,null,null,null,null,null,null,null,null,null,null,0,null,null,null,null,null,null,null,null,null,null,null,null,null,null,null,null,null,null,null,"",null,null,null,null,null,null,null,null,null,null,null,null,null,""]
[18,null,null,null,null,null,null,null,null,null,null,null,null,null,null,null,null,null,null,null,null,null,null,null,null,null,0,null,null,null,null,null,null,null,null,null,null,null,null,null,null,null,null,null,null,null,"",null,null,null,null,null,null,null,null,null,null,null,null,null,""]
[18,null,null,null,null,null,null,null,null,null,null,null,null,null,null,null,null,null,null,null,null,null,null,null,null,null,0,null,null,null,null,null,null,null,null,null,null,null,null,null,null,null,null,null,null,null,"",null,null,null,null,null,null,null,null,null,null,null,null,null,""]
[18,null,null,null,null,null,null,null,null,null,null,null,null,null,null,null,null,null,null,null,null,null,null,null,null,null,0,null,null,null,null,null,null,null,null,null,null,null,null,null,null,null,null,null,null,null,"",null,null,null,null,null,null,null,null,null,null,null,null,null,""]
[18,null,null,null,null,null,null,null,null,null,null,null,null,null,null,null,null,null,null,null,null,null,null,null,null,null,0,null,null,null,null,null,null,null,null,null,null,null,null,null,null,null,null,null,null,null,"",null,null,null,null,null,null,null,null,null,null,null,null,null,""]
[18,null,null,null,null,null,null,null,null,null,null,null,null,null,null,null,null,null,null,null,null,null,null,null,null,null,0,null,null,null,null,null,null,null,null,null,null,null,null,null,null,null,null,null,null,null,"",null,null,null,null,null,null,null,null,null,null,null,null,null,""]
[18,null,null,null,null,null,null,null,null,null,null,null,null,null,null,null,null,null,null,null,null,null,null,null,null,null,0,null,null,null,null,null,null,null,null,null,null,null,null,null,null,null,null,null,null,null,"",null,null,null,null,null,null,null,null,null,null,null,null,null,""]
[18,null,null,null,null,null,null,null,null,null,null,null,null,null,null,null,null,null,null,null,null,null,null,null,null,null,0,null,null,null,null,null,null,null,null,null,null,null,null,null,null,null,null,null,null,null,"",null,null,null,null,null,null,null,null,null,null,null,null,null,""]
[18,null,null,null,null,null,null,null,null,null,null,null,null,null,null,null,null,null,null,null,null,null,null,null,null,null,{"$f":"Y1347+(Z1347/7)","v":0},null,null,null,null,null,null,null,null,null,null,null,null,null,null,null,null,null,null,null,"",null,null,null,null,null,null,null,null,null,null,null,null,null,""]
[18,null,null,null,null,null,null,null,null,null,null,null,null,null,null,null,null,null,null,null,null,null,null,null,null,null,0,null,null,null,null,null,null,null,null,null,null,null,null,null,null,null,null,null,null,null,"",null,null,null,null,null,null,null,null,null,null,null,null,null,""]
[18,null,null,null,null,null,null,null,null,null,null,null,null,null,null,null,null,null,null,null,null,null,null,null,null,null,0,null,null,null,null,null,null,null,null,null,null,null,null,null,null,null,null,null,null,null,"",null,null,null,null,null,null,null,null,null,null,null,null,null,""]
[18,null,null,null,null,null,null,null,null,null,null,null,null,null,null,null,null,null,null,null,null,null,null,null,null,null,0,null,null,null,null,null,null,null,null,null,null,null,null,null,null,null,null,null,null,null,"",null,null,null,null,null,null,null,null,null,null,null,null,null,""]
[18,null,null,null,null,null,null,null,null,null,null,null,null,null,null,null,null,null,null,null,null,null,null,null,null,null,0,null,null,null,null,null,null,null,null,null,null,null,null,null,null,null,null,null,null,null,"",null,null,null,null,null,null,null,null,null,null,null,null,null,""]
[18,null,null,null,null,null,null,null,null,null,null,null,null,null,null,null,null,null,null,null,null,null,null,null,null,null,0,null,null,null,null,null,null,null,null,null,null,null,null,null,null,null,null,null,null,null,"",null,null,null,null,null,null,null,null,null,null,null,null,null,""]
[18,null,null,null,null,null,null,null,null,null,null,null,null,null,null,null,null,null,null,null,null,null,null,null,null,null,0,null,null,null,null,null,null,null,null,null,null,null,null,null,null,null,null,null,null,null,"",null,null,null,null,null,null,null,null,null,null,null,null,null,""]
[18,null,null,null,null,null,null,null,null,null,null,null,null,null,null,null,null,null,null,null,null,null,null,null,null,null,0,null,null,null,null,null,null,null,null,null,null,null,null,null,null,null,null,null,null,null,"",null,null,null,null,null,null,null,null,null,null,null,null,null,""]
[18,null,null,null,null,null,null,null,null,null,null,null,null,null,null,null,null,null,null,null,null,null,null,null,null,null,0,null,null,null,null,null,null,null,null,null,null,null,null,null,null,null,null,null,null,null,"",null,null,null,null,null,null,null,null,null,null,null,null,null,""]
[18,null,null,null,null,null,null,null,null,null,null,null,null,null,null,null,null,null,null,null,null,null,null,null,null,null,0,null,null,null,null,null,null,null,null,null,null,null,null,null,null,null,null,null,null,null,"",null,null,null,null,null,null,null,null,null,null,null,null,null,""]
[18,null,null,null,null,null,null,null,null,null,null,null,null,null,null,null,null,null,null,null,null,null,null,null,null,null,0,null,null,null,null,null,null,null,null,null,null,null,null,null,null,null,null,null,null,null,"",null,null,null,null,null,null,null,null,null,null,null,null,null,""]
[18,null,null,null,null,null,null,null,null,null,null,null,null,null,null,null,null,null,null,null,null,null,null,null,null,null,0,null,null,null,null,null,null,null,null,null,null,null,null,null,null,null,null,null,null,null,"",null,null,null,null,null,null,null,null,null,null,null,null,null,""]
[18,null,null,null,null,null,null,null,null,null,null,null,null,null,null,null,null,null,null,null,null,null,null,null,null,null,0,null,null,null,null,null,null,null,null,null,null,null,null,null,null,null,null,null,null,null,"",null,null,null,null,null,null,null,null,null,null,null,null,null,""]
[18,null,null,null,null,null,null,null,null,null,null,null,null,null,null,null,null,null,null,null,null,null,null,null,null,null,0,null,null,null,null,null,null,null,null,null,null,null,null,null,null,null,null,null,null,null,"",null,null,null,null,null,null,null,null,null,null,null,null,null,""]
[18,null,null,null,null,null,null,null,null,null,null,null,null,null,null,null,null,null,null,null,null,null,null,null,null,null,0,null,null,null,null,null,null,null,null,null,null,null,null,null,null,null,null,null,null,null,"",null,null,null,null,null,null,null,null,null,null,null,null,null,""]
[18,null,null,null,null,null,null,null,null,null,null,null,null,null,null,null,null,null,null,null,null,null,null,null,null,null,0,null,null,null,null,null,null,null,null,null,null,null,null,null,null,null,null,null,null,null,"",null,null,null,null,null,null,null,null,null,null,null,null,null,""]
[18,null,null,null,null,null,null,null,null,null,null,null,null,null,null,null,null,null,null,null,null,null,null,null,null,null,0,null,null,null,null,null,null,null,null,null,null,null,null,null,null,null,null,null,null,null,"",null,null,null,null,null,null,null,null,null,null,null,null,null,""]
[18,null,null,null,null,null,null,null,null,null,null,null,null,null,null,null,null,null,null,null,null,null,null,null,null,null,0,null,null,null,null,null,null,null,null,null,null,null,null,null,null,null,null,null,null,null,"",null,null,null,null,null,null,null,null,null,null,null,null,null,""]
[18,null,null,null,null,null,null,null,null,null,null,null,null,null,null,null,null,null,null,null,null,null,null,null,null,null,0,null,null,null,null,null,null,null,null,null,null,null,null,null,null,null,null,null,null,null,"",null,null,null,null,null,null,null,null,null,null,null,null,null,""]
[18,null,null,null,null,null,null,null,null,null,null,null,null,null,null,null,null,null,null,null,null,null,null,null,null,null,0,null,null,null,null,null,null,null,null,null,null,null,null,null,null,null,null,null,null,null,"",null,null,null,null,null,null,null,null,null,null,null,null,null,""]
[18,null,null,null,null,null,null,null,null,null,null,null,null,null,null,null,null,null,null,null,null,null,null,null,null,null,0,null,null,null,null,null,null,null,null,null,null,null,null,null,null,null,null,null,null,null,"",null,null,null,null,null,null,null,null,null,null,null,null,null,""]
[18,null,null,null,null,null,null,null,null,null,null,null,null,null,null,null,null,null,null,null,null,null,null,null,null,null,0,null,null,null,null,null,null,null,null,null,null,null,null,null,null,null,null,null,null,null,"",null,null,null,null,null,null,null,null,null,null,null,null,null,""]
[18,null,null,null,null,null,null,null,null,null,null,null,null,null,null,null,null,null,null,null,null,null,null,null,null,null,0,null,null,null,null,null,null,null,null,null,null,null,null,null,null,null,null,null,null,null,"",null,null,null,null,null,null,null,null,null,null,null,null,null,""]
[18,null,null,null,null,null,null,null,null,null,null,null,null,null,null,null,null,null,null,null,null,null,null,null,null,null,0,null,null,null,null,null,null,null,null,null,null,null,null,null,null,null,null,null,null,null,"",null,null,null,null,null,null,null,null,null,null,null,null,null,""]
[18,null,null,null,null,null,null,null,null,null,null,null,null,null,null,null,null,null,null,null,null,null,null,null,null,null,0,null,null,null,null,null,null,null,null,null,null,null,null,null,null,null,null,null,null,null,"",null,null,null,null,null,null,null,null,null,null,null,null,null,""]
[18,null,null,null,null,null,null,null,null,null,null,null,null,null,null,null,null,null,null,null,null,null,null,null,null,null,0,null,null,null,null,null,null,null,null,null,null,null,null,null,null,null,null,null,null,null,"",null,null,null,null,null,null,null,null,null,null,null,null,null,""]
[18,null,null,null,null,null,null,null,null,null,null,null,null,null,null,null,null,null,null,null,null,null,null,null,null,null,0,null,null,null,null,null,null,null,null,null,null,null,null,null,null,null,null,null,null,null,"",null,null,null,null,null,null,null,null,null,null,null,null,null,""]
[18,null,null,null,null,null,null,null,null,null,null,null,null,null,null,null,null,null,null,null,null,null,null,null,null,null,0,null,null,null,null,null,null,null,null,null,null,null,null,null,null,null,null,null,null,null,"",null,null,null,null,null,null,null,null,null,null,null,null,null,""]
[18,null,null,null,null,null,null,null,null,null,null,null,null,null,null,null,null,null,null,null,null,null,null,null,null,null,0,null,null,null,null,null,null,null,null,null,null,null,null,null,null,null,null,null,null,null,"",null,null,null,null,null,null,null,null,null,null,null,null,null,""]
[18,null,null,null,null,null,null,null,null,null,null,null,null,null,null,null,null,null,null,null,null,null,null,null,null,null,0,null,null,null,null,null,null,null,null,null,null,null,null,null,null,null,null,null,null,null,"",null,null,null,null,null,null,null,null,null,null,null,null,null,""]
[18,null,null,null,null,null,null,null,null,null,null,null,null,null,null,null,null,null,null,null,null,null,null,null,null,null,0,null,null,null,null,null,null,null,null,null,null,null,null,null,null,null,null,null,null,null,"",null,null,null,null,null,null,null,null,null,null,null,null,null,""]
[18,null,null,null,null,null,null,null,null,null,null,null,null,null,null,null,null,null,null,null,null,null,null,null,null,null,0,null,null,null,null,null,null,null,null,null,null,null,null,null,null,null,null,null,null,null,"",null,null,null,null,null,null,null,null,null,null,null,null,null,""]
[18,null,null,null,null,null,null,null,null,null,null,null,null,null,null,null,null,null,null,null,null,null,null,null,null,null,0,null,null,null,null,null,null,null,null,null,null,null,null,null,null,null,null,null,null,null,"",null,null,null,null,null,null,null,null,null,null,null,null,null,""]
[18,null,null,null,null,null,null,null,null,null,null,null,null,null,null,null,null,null,null,null,null,null,null,null,null,null,0,null,null,null,null,null,null,null,null,null,null,null,null,null,null,null,null,null,null,null,"",null,null,null,null,null,null,null,null,null,null,null,null,null,""]
[18,null,null,null,null,null,null,null,null,null,null,null,null,null,null,null,null,null,null,null,null,null,null,null,null,null,0,null,null,null,null,null,null,null,null,null,null,null,null,null,null,null,null,null,null,null,"",null,null,null,null,null,null,null,null,null,null,null,null,null,""]
[18,null,null,null,null,null,null,null,null,null,null,null,null,null,null,null,null,null,null,null,null,null,null,null,null,null,0,null,null,null,null,null,null,null,null,null,null,null,null,null,null,null,null,null,null,null,"",null,null,null,null,null,null,null,null,null,null,null,null,null,""]
[18,null,null,null,null,null,null,null,null,null,null,null,null,null,null,null,null,null,null,null,null,null,null,null,null,null,0,null,null,null,null,null,null,null,null,null,null,null,null,null,null,null,null,null,null,null,"",null,null,null,null,null,null,null,null,null,null,null,null,null,""]
[18,null,null,null,null,null,null,null,null,null,null,null,null,null,null,null,null,null,null,null,null,null,null,null,null,null,0,null,null,null,null,null,null,null,null,null,null,null,null,null,null,null,null,null,null,null,"",null,null,null,null,null,null,null,null,null,null,null,null,null,""]
[18,null,null,null,null,null,null,null,null,null,null,null,null,null,null,null,null,null,null,null,null,null,null,null,null,null,0,null,null,null,null,null,null,null,null,null,null,null,null,null,null,null,null,null,null,null,"",null,null,null,null,null,null,null,null,null,null,null,null,null,""]
[18,null,null,null,null,null,null,null,null,null,null,null,null,null,null,null,null,null,null,null,null,null,null,null,null,null,0,null,null,null,null,null,null,null,null,null,null,null,null,null,null,null,null,null,null,null,"",null,null,null,null,null,null,null,null,null,null,null,null,null,""]
[18,null,null,null,null,null,null,null,null,null,null,null,null,null,null,null,null,null,null,null,null,null,null,null,null,null,0,null,null,null,null,null,null,null,null,null,null,null,null,null,null,null,null,null,null,null,"",null,null,null,null,null,null,null,null,null,null,null,null,null,""]
[18,null,null,null,null,null,null,null,null,null,null,null,null,null,null,null,null,null,null,null,null,null,null,null,null,null,0,null,null,null,null,null,null,null,null,null,null,null,null,null,null,null,null,null,null,null,"",null,null,null,null,null,null,null,null,null,null,null,null,null,""]
[18,null,null,null,null,null,null,null,null,null,null,null,null,null,null,null,null,null,null,null,null,null,null,null,null,null,0,null,null,null,null,null,null,null,null,null,null,null,null,null,null,null,null,null,null,null,"",null,null,null,null,null,null,null,null,null,null,null,null,null,""]
[18,null,null,null,null,null,null,null,null,null,null,null,null,null,null,null,null,null,null,null,null,null,null,null,null,null,0,null,null,null,null,null,null,null,null,null,null,null,null,null,null,null,null,null,null,null,"",null,null,null,null,null,null,null,null,null,null,null,null,null,""]
[18,null,null,null,null,null,null,null,null,null,null,null,null,null,null,null,null,null,null,null,null,null,null,null,null,null,0,null,null,null,null,null,null,null,null,null,null,null,null,null,null,null,null,null,null,null,"",null,null,null,null,null,null,null,null,null,null,null,null,null,""]
[18,null,null,null,null,null,null,null,null,null,null,null,null,null,null,null,null,null,null,null,null,null,null,null,null,null,0,null,null,null,null,null,null,null,null,null,null,null,null,null,null,null,null,null,null,null,"",null,null,null,null,null,null,null,null,null,null,null,null,null,""]
[18,null,null,null,null,null,null,null,null,null,null,null,null,null,null,null,null,null,null,null,null,null,null,null,null,null,0,null,null,null,null,null,null,null,null,null,null,null,null,null,null,null,null,null,null,null,"",null,null,null,null,null,null,null,null,null,null,null,null,null,""]
[18,null,null,null,null,null,null,null,null,null,null,null,null,null,null,null,null,null,null,null,null,null,null,null,null,null,0,null,null,null,null,null,null,null,null,null,null,null,null,null,null,null,null,null,null,null,"",null,null,null,null,null,null,null,null,null,null,null,null,null,""]
[18,null,null,null,null,null,null,null,null,null,null,null,null,null,null,null,null,null,null,null,null,null,null,null,null,null,0,null,null,null,null,null,null,null,null,null,null,null,null,null,null,null,null,null,null,null,"",null,null,null,null,null,null,null,null,null,null,null,null,null,""]
[18,null,null,null,null,null,null,null,null,null,null,null,null,null,null,null,null,null,null,null,null,null,null,null,null,null,0,null,null,null,null,null,null,null,null,null,null,null,null,null,null,null,null,null,null,null,"",null,null,null,null,null,null,null,null,null,null,null,null,null,""]
[18,null,null,null,null,null,null,null,null,null,null,null,null,null,null,null,null,null,null,null,null,null,null,null,null,null,0,null,null,null,null,null,null,null,null,null,null,null,null,null,null,null,null,null,null,null,"",null,null,null,null,null,null,null,null,null,null,null,null,null,""]
[18,null,null,null,null,null,null,null,null,null,null,null,null,null,null,null,null,null,null,null,null,null,null,null,null,null,0,null,null,null,null,null,null,null,null,null,null,null,null,null,null,null,null,null,null,null,"",null,null,null,null,null,null,null,null,null,null,null,null,null,""]
[18,null,null,null,null,null,null,null,null,null,null,null,null,null,null,null,null,null,null,null,null,null,null,null,null,null,0,null,null,null,null,null,null,null,null,null,null,null,null,null,null,null,null,null,null,null,"",null,null,null,null,null,null,null,null,null,null,null,null,null,""]
[18,null,null,null,null,null,null,null,null,null,null,null,null,null,null,null,null,null,null,null,null,null,null,null,null,null,0,null,null,null,null,null,null,null,null,null,null,null,null,null,null,null,null,null,null,null,"",null,null,null,null,null,null,null,null,null,null,null,null,null,""]
[18,null,null,null,null,null,null,null,null,null,null,null,null,null,null,null,null,null,null,null,null,null,null,null,null,null,0,null,null,null,null,null,null,null,null,null,null,null,null,null,null,null,null,null,null,null,"",null,null,null,null,null,null,null,null,null,null,null,null,null,""]
[18,null,null,null,null,null,null,null,null,null,null,null,null,null,null,null,null,null,null,null,null,null,null,null,null,null,0,null,null,null,null,null,null,null,null,null,null,null,null,null,null,null,null,null,null,null,"",null,null,null,null,null,null,null,null,null,null,null,null,null,""]
[18,null,null,null,null,null,null,null,null,null,null,null,null,null,null,null,null,null,null,null,null,null,null,null,null,null,0,null,null,null,null,null,null,null,null,null,null,null,null,null,null,null,null,null,null,null,"",null,null,null,null,null,null,null,null,null,null,null,null,null,""]
[18,null,null,null,null,null,null,null,null,null,null,null,null,null,null,null,null,null,null,null,null,null,null,null,null,null,0,null,null,null,null,null,null,null,null,null,null,null,null,null,null,null,null,null,null,null,"",null,null,null,null,null,null,null,null,null,null,null,null,null,""]
[18,null,null,null,null,null,null,null,null,null,null,null,null,null,null,null,null,null,null,null,null,null,null,null,null,null,0,null,null,null,null,null,null,null,null,null,null,null,null,null,null,null,null,null,null,null,"",null,null,null,null,null,null,null,null,null,null,null,null,null,""]
[18,null,null,null,null,null,null,null,null,null,null,null,null,null,null,null,null,null,null,null,null,null,null,null,null,null,0,null,null,null,null,null,null,null,null,null,null,null,null,null,null,null,null,null,null,null,"",null,null,null,null,null,null,null,null,null,null,null,null,null,""]
[18,null,null,null,null,null,null,null,null,null,null,null,null,null,null,null,null,null,null,null,null,null,null,null,null,null,0,null,null,null,null,null,null,null,null,null,null,null,null,null,null,null,null,null,null,null,"",null,null,null,null,null,null,null,null,null,null,null,null,null,""]
[18,null,null,null,null,null,null,null,null,null,null,null,null,null,null,null,null,null,null,null,null,null,null,null,null,null,0,null,null,null,null,null,null,null,null,null,null,null,null,null,null,null,null,null,null,null,"",null,null,null,null,null,null,null,null,null,null,null,null,null,""]
[18,null,null,null,null,null,null,null,null,null,null,null,null,null,null,null,null,null,null,null,null,null,null,null,null,null,{"$f":"Y1475+(Z1475/7)","v":0},null,null,null,null,null,null,null,null,null,null,null,null,null,null,null,null,null,null,null,"",null,null,null,null,null,null,null,null,null,null,null,null,null,""]
[18,null,null,null,null,null,null,null,null,null,null,null,null,null,null,null,null,null,null,null,null,null,null,null,null,null,0,null,null,null,null,null,null,null,null,null,null,null,null,null,null,null,null,null,null,null,"",null,null,null,null,null,null,null,null,null,null,null,null,null,""]
[18,null,null,null,null,null,null,null,null,null,null,null,null,null,null,null,null,null,null,null,null,null,null,null,null,null,0,null,null,null,null,null,null,null,null,null,null,null,null,null,null,null,null,null,null,null,"",null,null,null,null,null,null,null,null,null,null,null,null,null,""]
[18,null,null,null,null,null,null,null,null,null,null,null,null,null,null,null,null,null,null,null,null,null,null,null,null,null,0,null,null,null,null,null,null,null,null,null,null,null,null,null,null,null,null,null,null,null,"",null,null,null,null,null,null,null,null,null,null,null,null,null,""]
[18,null,null,null,null,null,null,null,null,null,null,null,null,null,null,null,null,null,null,null,null,null,null,null,null,null,0,null,null,null,null,null,null,null,null,null,null,null,null,null,null,null,null,null,null,null,"",null,null,null,null,null,null,null,null,null,null,null,null,null,""]
[18,null,null,null,null,null,null,null,null,null,null,null,null,null,null,null,null,null,null,null,null,null,null,null,null,null,0,null,null,null,null,null,null,null,null,null,null,null,null,null,null,null,null,null,null,null,"",null,null,null,null,null,null,null,null,null,null,null,null,null,""]
[18,null,null,null,null,null,null,null,null,null,null,null,null,null,null,null,null,null,null,null,null,null,null,null,null,null,0,null,null,null,null,null,null,null,null,null,null,null,null,null,null,null,null,null,null,null,"",null,null,null,null,null,null,null,null,null,null,null,null,null,""]
[18,null,null,null,null,null,null,null,null,null,null,null,null,null,null,null,null,null,null,null,null,null,null,null,null,null,0,null,null,null,null,null,null,null,null,null,null,null,null,null,null,null,null,null,null,null,"",null,null,null,null,null,null,null,null,null,null,null,null,null,""]
[18,null,null,null,null,null,null,null,null,null,null,null,null,null,null,null,null,null,null,null,null,null,null,null,null,null,0,null,null,null,null,null,null,null,null,null,null,null,null,null,null,null,null,null,null,null,"",null,null,null,null,null,null,null,null,null,null,null,null,null,""]
[18,null,null,null,null,null,null,null,null,null,null,null,null,null,null,null,null,null,null,null,null,null,null,null,null,null,0,null,null,null,null,null,null,null,null,null,null,null,null,null,null,null,null,null,null,null,"",null,null,null,null,null,null,null,null,null,null,null,null,null,""]
[18,null,null,null,null,null,null,null,null,null,null,null,null,null,null,null,null,null,null,null,null,null,null,null,null,null,0,null,null,null,null,null,null,null,null,null,null,null,null,null,null,null,null,null,null,null,"",null,null,null,null,null,null,null,null,null,null,null,null,null,""]
[18,null,null,null,null,null,null,null,null,null,null,null,null,null,null,null,null,null,null,null,null,null,null,null,null,null,0,null,null,null,null,null,null,null,null,null,null,null,null,null,null,null,null,null,null,null,"",null,null,null,null,null,null,null,null,null,null,null,null,null,""]
[18,null,null,null,null,null,null,null,null,null,null,null,null,null,null,null,null,null,null,null,null,null,null,null,null,null,0,null,null,null,null,null,null,null,null,null,null,null,null,null,null,null,null,null,null,null,"",null,null,null,null,null,null,null,null,null,null,null,null,null,""]
[18,null,null,null,null,null,null,null,null,null,null,null,null,null,null,null,null,null,null,null,null,null,null,null,null,null,0,null,null,null,null,null,null,null,null,null,null,null,null,null,null,null,null,null,null,null,"",null,null,null,null,null,null,null,null,null,null,null,null,null,""]
[18,null,null,null,null,null,null,null,null,null,null,null,null,null,null,null,null,null,null,null,null,null,null,null,null,null,0,null,null,null,null,null,null,null,null,null,null,null,null,null,null,null,null,null,null,null,"",null,null,null,null,null,null,null,null,null,null,null,null,null,""]
[18,null,null,null,null,null,null,null,null,null,null,null,null,null,null,null,null,null,null,null,null,null,null,null,null,null,0,null,null,null,null,null,null,null,null,null,null,null,null,null,null,null,null,null,null,null,"",null,null,null,null,null,null,null,null,null,null,null,null,null,""]
[18,null,null,null,null,null,null,null,null,null,null,null,null,null,null,null,null,null,null,null,null,null,null,null,null,null,0,null,null,null,null,null,null,null,null,null,null,null,null,null,null,null,null,null,null,null,"",null,null,null,null,null,null,null,null,null,null,null,null,null,""]
[18,null,null,null,null,null,null,null,null,null,null,null,null,null,null,null,null,null,null,null,null,null,null,null,null,null,0,null,null,null,null,null,null,null,null,null,null,null,null,null,null,null,null,null,null,null,"",null,null,null,null,null,null,null,null,null,null,null,null,null,""]
[18,null,null,null,null,null,null,null,null,null,null,null,null,null,null,null,null,null,null,null,null,null,null,null,null,null,0,null,null,null,null,null,null,null,null,null,null,null,null,null,null,null,null,null,null,null,"",null,null,null,null,null,null,null,null,null,null,null,null,null,""]
[18,null,null,null,null,null,null,null,null,null,null,null,null,null,null,null,null,null,null,null,null,null,null,null,null,null,0,null,null,null,null,null,null,null,null,null,null,null,null,null,null,null,null,null,null,null,"",null,null,null,null,null,null,null,null,null,null,null,null,null,""]
[18,null,null,null,null,null,null,null,null,null,null,null,null,null,null,null,null,null,null,null,null,null,null,null,null,null,0,null,null,null,null,null,null,null,null,null,null,null,null,null,null,null,null,null,null,null,"",null,null,null,null,null,null,null,null,null,null,null,null,null,""]
[18,null,null,null,null,null,null,null,null,null,null,null,null,null,null,null,null,null,null,null,null,null,null,null,null,null,0,null,null,null,null,null,null,null,null,null,null,null,null,null,null,null,null,null,null,null,"",null,null,null,null,null,null,null,null,null,null,null,null,null,""]
[18,null,null,null,null,null,null,null,null,null,null,null,null,null,null,null,null,null,null,null,null,null,null,null,null,null,0,null,null,null,null,null,null,null,null,null,null,null,null,null,null,null,null,null,null,null,"",null,null,null,null,null,null,null,null,null,null,null,null,null,""]
[18,null,null,null,null,null,null,null,null,null,null,null,null,null,null,null,null,null,null,null,null,null,null,null,null,null,0,null,null,null,null,null,null,null,null,null,null,null,null,null,null,null,null,null,null,null,"",null,null,null,null,null,null,null,null,null,null,null,null,null,""]
[18,null,null,null,null,null,null,null,null,null,null,null,null,null,null,null,null,null,null,null,null,null,null,null,null,null,0,null,null,null,null,null,null,null,null,null,null,null,null,null,null,null,null,null,null,null,"",null,null,null,null,null,null,null,null,null,null,null,null,null,""]
[18,null,null,null,null,null,null,null,null,null,null,null,null,null,null,null,null,null,null,null,null,null,null,null,null,null,0,null,null,null,null,null,null,null,null,null,null,null,null,null,null,null,null,null,null,null,"",null,null,null,null,null,null,null,null,null,null,null,null,null,""]
[18,null,null,null,null,null,null,null,null,null,null,null,null,null,null,null,null,null,null,null,null,null,null,null,null,null,0,null,null,null,null,null,null,null,null,null,null,null,null,null,null,null,null,null,null,null,"",null,null,null,null,null,null,null,null,null,null,null,null,null,""]
[18,null,null,null,null,null,null,null,null,null,null,null,null,null,null,null,null,null,null,null,null,null,null,null,null,null,0,null,null,null,null,null,null,null,null,null,null,null,null,null,null,null,null,null,null,null,"",null,null,null,null,null,null,null,null,null,null,null,null,null,""]
[18,null,null,null,null,null,null,null,null,null,null,null,null,null,null,null,null,null,null,null,null,null,null,null,null,null,0,null,null,null,null,null,null,null,null,null,null,null,null,null,null,null,null,null,null,null,"",null,null,null,null,null,null,null,null,null,null,null,null,null,""]
[18,null,null,null,null,null,null,null,null,null,null,null,null,null,null,null,null,null,null,null,null,null,null,null,null,null,0,null,null,null,null,null,null,null,null,null,null,null,null,null,null,null,null,null,null,null,"",null,null,null,null,null,null,null,null,null,null,null,null,null,""]
[18,null,null,null,null,null,null,null,null,null,null,null,null,null,null,null,null,null,null,null,null,null,null,null,null,null,0,null,null,null,null,null,null,null,null,null,null,null,null,null,null,null,null,null,null,null,"",null,null,null,null,null,null,null,null,null,null,null,null,null,""]
[18,null,null,null,null,null,null,null,null,null,null,null,null,null,null,null,null,null,null,null,null,null,null,null,null,null,0,null,null,null,null,null,null,null,null,null,null,null,null,null,null,null,null,null,null,null,"",null,null,null,null,null,null,null,null,null,null,null,null,null,""]
[18,null,null,null,null,null,null,null,null,null,null,null,null,null,null,null,null,null,null,null,null,null,null,null,null,null,0,null,null,null,null,null,null,null,null,null,null,null,null,null,null,null,null,null,null,null,"",null,null,null,null,null,null,null,null,null,null,null,null,null,""]
[18,null,null,null,null,null,null,null,null,null,null,null,null,null,null,null,null,null,null,null,null,null,null,null,null,null,0,null,null,null,null,null,null,null,null,null,null,null,null,null,null,null,null,null,null,null,"",null,null,null,null,null,null,null,null,null,null,null,null,null,""]
[18,null,null,null,null,null,null,null,null,null,null,null,null,null,null,null,null,null,null,null,null,null,null,null,null,null,0,null,null,null,null,null,null,null,null,null,null,null,null,null,null,null,null,null,null,null,"",null,null,null,null,null,null,null,null,null,null,null,null,null,""]
[18,null,null,null,null,null,null,null,null,null,null,null,null,null,null,null,null,null,null,null,null,null,null,null,null,null,{"$f":"Y1539+(Z1539/7)","v":0},null,null,null,null,null,null,null,null,null,null,null,null,null,null,null,null,null,null,null,"",null,null,null,null,null,null,null,null,null,null,null,null,null,""]
[18,null,null,null,null,null,null,null,null,null,null,null,null,null,null,null,null,null,null,null,null,null,null,null,null,null,0,null,null,null,null,null,null,null,null,null,null,null,null,null,null,null,null,null,null,null,"",null,null,null,null,null,null,null,null,null,null,null,null,null,""]
[18,null,null,null,null,null,null,null,null,null,null,null,null,null,null,null,null,null,null,null,null,null,null,null,null,null,0,null,null,null,null,null,null,null,null,null,null,null,null,null,null,null,null,null,null,null,"",null,null,null,null,null,null,null,null,null,null,null,null,null,""]
[18,null,null,null,null,null,null,null,null,null,null,null,null,null,null,null,null,null,null,null,null,null,null,null,null,null,0,null,null,null,null,null,null,null,null,null,null,null,null,null,null,null,null,null,null,null,"",null,null,null,null,null,null,null,null,null,null,null,null,null,""]
[18,null,null,null,null,null,null,null,null,null,null,null,null,null,null,null,null,null,null,null,null,null,null,null,null,null,0,null,null,null,null,null,null,null,null,null,null,null,null,null,null,null,null,null,null,null,"",null,null,null,null,null,null,null,null,null,null,null,null,null,""]
[18,null,null,null,null,null,null,null,null,null,null,null,null,null,null,null,null,null,null,null,null,null,null,null,null,null,0,null,null,null,null,null,null,null,null,null,null,null,null,null,null,null,null,null,null,null,"",null,null,null,null,null,null,null,null,null,null,null,null,null,""]
[18,null,null,null,null,null,null,null,null,null,null,null,null,null,null,null,null,null,null,null,null,null,null,null,null,null,0,null,null,null,null,null,null,null,null,null,null,null,null,null,null,null,null,null,null,null,"",null,null,null,null,null,null,null,null,null,null,null,null,null,""]
[18,null,null,null,null,null,null,null,null,null,null,null,null,null,null,null,null,null,null,null,null,null,null,null,null,null,0,null,null,null,null,null,null,null,null,null,null,null,null,null,null,null,null,null,null,null,"",null,null,null,null,null,null,null,null,null,null,null,null,null,""]
[18,null,null,null,null,null,null,null,null,null,null,null,null,null,null,null,null,null,null,null,null,null,null,null,null,null,0,null,null,null,null,null,null,null,null,null,null,null,null,null,null,null,null,null,null,null,"",null,null,null,null,null,null,null,null,null,null,null,null,null,""]
[18,null,null,null,null,null,null,null,null,null,null,null,null,null,null,null,null,null,null,null,null,null,null,null,null,null,0,null,null,null,null,null,null,null,null,null,null,null,null,null,null,null,null,null,null,null,"",null,null,null,null,null,null,null,null,null,null,null,null,null,""]
[18,null,null,null,null,null,null,null,null,null,null,null,null,null,null,null,null,null,null,null,null,null,null,null,null,null,0,null,null,null,null,null,null,null,null,null,null,null,null,null,null,null,null,null,null,null,"",null,null,null,null,null,null,null,null,null,null,null,null,null,""]
[18,null,null,null,null,null,null,null,null,null,null,null,null,null,null,null,null,null,null,null,null,null,null,null,null,null,0,null,null,null,null,null,null,null,null,null,null,null,null,null,null,null,null,null,null,null,"",null,null,null,null,null,null,null,null,null,null,null,null,null,""]
[18,null,null,null,null,null,null,null,null,null,null,null,null,null,null,null,null,null,null,null,null,null,null,null,null,null,0,null,null,null,null,null,null,null,null,null,null,null,null,null,null,null,null,null,null,null,"",null,null,null,null,null,null,null,null,null,null,null,null,null,""]
[18,null,null,null,null,null,null,null,null,null,null,null,null,null,null,null,null,null,null,null,null,null,null,null,null,null,0,null,null,null,null,null,null,null,null,null,null,null,null,null,null,null,null,null,null,null,"",null,null,null,null,null,null,null,null,null,null,null,null,null,""]
[18,null,null,null,null,null,null,null,null,null,null,null,null,null,null,null,null,null,null,null,null,null,null,null,null,null,0,null,null,null,null,null,null,null,null,null,null,null,null,null,null,null,null,null,null,null,"",null,null,null,null,null,null,null,null,null,null,null,null,null,""]
[18,null,null,null,null,null,null,null,null,null,null,null,null,null,null,null,null,null,null,null,null,null,null,null,null,null,0,null,null,null,null,null,null,null,null,null,null,null,null,null,null,null,null,null,null,null,"",null,null,null,null,null,null,null,null,null,null,null,null,null,""]
[18,null,null,null,null,null,null,null,null,null,null,null,null,null,null,null,null,null,null,null,null,null,null,null,null,null,0,null,null,null,null,null,null,null,null,null,null,null,null,null,null,null,null,null,null,null,"",null,null,null,null,null,null,null,null,null,null,null,null,null,""]
[18,null,null,null,null,null,null,null,null,null,null,null,null,null,null,null,null,null,null,null,null,null,null,null,null,null,0,null,null,null,null,null,null,null,null,null,null,null,null,null,null,null,null,null,null,null,"",null,null,null,null,null,null,null,null,null,null,null,null,null,""]
[18,null,null,null,null,null,null,null,null,null,null,null,null,null,null,null,null,null,null,null,null,null,null,null,null,null,0,null,null,null,null,null,null,null,null,null,null,null,null,null,null,null,null,null,null,null,"",null,null,null,null,null,null,null,null,null,null,null,null,null,""]
[18,null,null,null,null,null,null,null,null,null,null,null,null,null,null,null,null,null,null,null,null,null,null,null,null,null,0,null,null,null,null,null,null,null,null,null,null,null,null,null,null,null,null,null,null,null,"",null,null,null,null,null,null,null,null,null,null,null,null,null,""]
[18,null,null,null,null,null,null,null,null,null,null,null,null,null,null,null,null,null,null,null,null,null,null,null,null,null,0,null,null,null,null,null,null,null,null,null,null,null,null,null,null,null,null,null,null,null,"",null,null,null,null,null,null,null,null,null,null,null,null,null,""]
[18,null,null,null,null,null,null,null,null,null,null,null,null,null,null,null,null,null,null,null,null,null,null,null,null,null,0,null,null,null,null,null,null,null,null,null,null,null,null,null,null,null,null,null,null,null,"",null,null,null,null,null,null,null,null,null,null,null,null,null,""]
[18,null,null,null,null,null,null,null,null,null,null,null,null,null,null,null,null,null,null,null,null,null,null,null,null,null,0,null,null,null,null,null,null,null,null,null,null,null,null,null,null,null,null,null,null,null,"",null,null,null,null,null,null,null,null,null,null,null,null,null,""]
[18,null,null,null,null,null,null,null,null,null,null,null,null,null,null,null,null,null,null,null,null,null,null,null,null,null,0,null,null,null,null,null,null,null,null,null,null,null,null,null,null,null,null,null,null,null,"",null,null,null,null,null,null,null,null,null,null,null,null,null,""]
[18,null,null,null,null,null,null,null,null,null,null,null,null,null,null,null,null,null,null,null,null,null,null,null,null,null,0,null,null,null,null,null,null,null,null,null,null,null,null,null,null,null,null,null,null,null,"",null,null,null,null,null,null,null,null,null,null,null,null,null,""]
[18,null,null,null,null,null,null,null,null,null,null,null,null,null,null,null,null,null,null,null,null,null,null,null,null,null,0,null,null,null,null,null,null,null,null,null,null,null,null,null,null,null,null,null,null,null,"",null,null,null,null,null,null,null,null,null,null,null,null,null,""]
[18,null,null,null,null,null,null,null,null,null,null,null,null,null,null,null,null,null,null,null,null,null,null,null,null,null,0,null,null,null,null,null,null,null,null,null,null,null,null,null,null,null,null,null,null,null,"",null,null,null,null,null,null,null,null,null,null,null,null,null,""]
[18,null,null,null,null,null,null,null,null,null,null,null,null,null,null,null,null,null,null,null,null,null,null,null,null,null,0,null,null,null,null,null,null,null,null,null,null,null,null,null,null,null,null,null,null,null,"",null,null,null,null,null,null,null,null,null,null,null,null,null,""]
[18,null,null,null,null,null,null,null,null,null,null,null,null,null,null,null,null,null,null,null,null,null,null,null,null,null,0,null,null,null,null,null,null,null,null,null,null,null,null,null,null,null,null,null,null,null,"",null,null,null,null,null,null,null,null,null,null,null,null,null,""]
[18,null,null,null,null,null,null,null,null,null,null,null,null,null,null,null,null,null,null,null,null,null,null,null,null,null,0,null,null,null,null,null,null,null,null,null,null,null,null,null,null,null,null,null,null,null,"",null,null,null,null,null,null,null,null,null,null,null,null,null,""]
[18,null,null,null,null,null,null,null,null,null,null,null,null,null,null,null,null,null,null,null,null,null,null,null,null,null,0,null,null,null,null,null,null,null,null,null,null,null,null,null,null,null,null,null,null,null,"",null,null,null,null,null,null,null,null,null,null,null,null,null,""]
[18,null,null,null,null,null,null,null,null,null,null,null,null,null,null,null,null,null,null,null,null,null,null,null,null,null,0,null,null,null,null,null,null,null,null,null,null,null,null,null,null,null,null,null,null,null,"",null,null,null,null,null,null,null,null,null,null,null,null,null,""]
[18,null,null,null,null,null,null,null,null,null,null,null,null,null,null,null,null,null,null,null,null,null,null,null,null,null,0,null,null,null,null,null,null,null,null,null,null,null,null,null,null,null,null,null,null,null,"",null,null,null,null,null,null,null,null,null,null,null,null,null,""]
[18,null,null,null,null,null,null,null,null,null,null,null,null,null,null,null,null,null,null,null,null,null,null,null,null,null,0,null,null,null,null,null,null,null,null,null,null,null,null,null,null,null,null,null,null,null,"",null,null,null,null,null,null,null,null,null,null,null,null,null,""]
[18,null,null,null,null,null,null,null,null,null,null,null,null,null,null,null,null,null,null,null,null,null,null,null,null,null,0,null,null,null,null,null,null,null,null,null,null,null,null,null,null,null,null,null,null,null,"",null,null,null,null,null,null,null,null,null,null,null,null,null,""]
[18,null,null,null,null,null,null,null,null,null,null,null,null,null,null,null,null,null,null,null,null,null,null,null,null,null,0,null,null,null,null,null,null,null,null,null,null,null,null,null,null,null,null,null,null,null,"",null,null,null,null,null,null,null,null,null,null,null,null,null,""]
[18,null,null,null,null,null,null,null,null,null,null,null,null,null,null,null,null,null,null,null,null,null,null,null,null,null,0,null,null,null,null,null,null,null,null,null,null,null,null,null,null,null,null,null,null,null,"",null,null,null,null,null,null,null,null,null,null,null,null,null,""]
[18,null,null,null,null,null,null,null,null,null,null,null,null,null,null,null,null,null,null,null,null,null,null,null,null,null,0,null,null,null,null,null,null,null,null,null,null,null,null,null,null,null,null,null,null,null,"",null,null,null,null,null,null,null,null,null,null,null,null,null,""]
[18,null,null,null,null,null,null,null,null,null,null,null,null,null,null,null,null,null,null,null,null,null,null,null,null,null,0,null,null,null,null,null,null,null,null,null,null,null,null,null,null,null,null,null,null,null,"",null,null,null,null,null,null,null,null,null,null,null,null,null,""]
[18,null,null,null,null,null,null,null,null,null,null,null,null,null,null,null,null,null,null,null,null,null,null,null,null,null,0,null,null,null,null,null,null,null,null,null,null,null,null,null,null,null,null,null,null,null,"",null,null,null,null,null,null,null,null,null,null,null,null,null,""]
[18,null,null,null,null,null,null,null,null,null,null,null,null,null,null,null,null,null,null,null,null,null,null,null,null,null,0,null,null,null,null,null,null,null,null,null,null,null,null,null,null,null,null,null,null,null,"",null,null,null,null,null,null,null,null,null,null,null,null,null,""]
[18,null,null,null,null,null,null,null,null,null,null,null,null,null,null,null,null,null,null,null,null,null,null,null,null,null,0,null,null,null,null,null,null,null,null,null,null,null,null,null,null,null,null,null,null,null,"",null,null,null,null,null,null,null,null,null,null,null,null,null,""]
[18,null,null,null,null,null,null,null,null,null,null,null,null,null,null,null,null,null,null,null,null,null,null,null,null,null,0,null,null,null,null,null,null,null,null,null,null,null,null,null,null,null,null,null,null,null,"",null,null,null,null,null,null,null,null,null,null,null,null,null,""]
[18,null,null,null,null,null,null,null,null,null,null,null,null,null,null,null,null,null,null,null,null,null,null,null,null,null,0,null,null,null,null,null,null,null,null,null,null,null,null,null,null,null,null,null,null,null,"",null,null,null,null,null,null,null,null,null,null,null,null,null,""]
[18,null,null,null,null,null,null,null,null,null,null,null,null,null,null,null,null,null,null,null,null,null,null,null,null,null,0,null,null,null,null,null,null,null,null,null,null,null,null,null,null,null,null,null,null,null,"",null,null,null,null,null,null,null,null,null,null,null,null,null,""]
[18,null,null,null,null,null,null,null,null,null,null,null,null,null,null,null,null,null,null,null,null,null,null,null,null,null,0,null,null,null,null,null,null,null,null,null,null,null,null,null,null,null,null,null,null,null,"",null,null,null,null,null,null,null,null,null,null,null,null,null,""]
[18,null,null,null,null,null,null,null,null,null,null,null,null,null,null,null,null,null,null,null,null,null,null,null,null,null,0,null,null,null,null,null,null,null,null,null,null,null,null,null,null,null,null,null,null,null,"",null,null,null,null,null,null,null,null,null,null,null,null,null,""]
[18,null,null,null,null,null,null,null,null,null,null,null,null,null,null,null,null,null,null,null,null,null,null,null,null,null,0,null,null,null,null,null,null,null,null,null,null,null,null,null,null,null,null,null,null,null,"",null,null,null,null,null,null,null,null,null,null,null,null,null,""]
[18,null,null,null,null,null,null,null,null,null,null,null,null,null,null,null,null,null,null,null,null,null,null,null,null,null,0,null,null,null,null,null,null,null,null,null,null,null,null,null,null,null,null,null,null,null,"",null,null,null,null,null,null,null,null,null,null,null,null,null,""]
[18,null,null,null,null,null,null,null,null,null,null,null,null,null,null,null,null,null,null,null,null,null,null,null,null,null,0,null,null,null,null,null,null,null,null,null,null,null,null,null,null,null,null,null,null,null,"",null,null,null,null,null,null,null,null,null,null,null,null,null,""]
[18,null,null,null,null,null,null,null,null,null,null,null,null,null,null,null,null,null,null,null,null,null,null,null,null,null,0,null,null,null,null,null,null,null,null,null,null,null,null,null,null,null,null,null,null,null,"",null,null,null,null,null,null,null,null,null,null,null,null,null,""]
[18,null,null,null,null,null,null,null,null,null,null,null,null,null,null,null,null,null,null,null,null,null,null,null,null,null,0,null,null,null,null,null,null,null,null,null,null,null,null,null,null,null,null,null,null,null,"",null,null,null,null,null,null,null,null,null,null,null,null,null,""]
[18,null,null,null,null,null,null,null,null,null,null,null,null,null,null,null,null,null,null,null,null,null,null,null,null,null,0,null,null,null,null,null,null,null,null,null,null,null,null,null,null,null,null,null,null,null,"",null,null,null,null,null,null,null,null,null,null,null,null,null,""]
[18,null,null,null,null,null,null,null,null,null,null,null,null,null,null,null,null,null,null,null,null,null,null,null,null,null,0,null,null,null,null,null,null,null,null,null,null,null,null,null,null,null,null,null,null,null,"",null,null,null,null,null,null,null,null,null,null,null,null,null,""]
[18,null,null,null,null,null,null,null,null,null,null,null,null,null,null,null,null,null,null,null,null,null,null,null,null,null,0,null,null,null,null,null,null,null,null,null,null,null,null,null,null,null,null,null,null,null,"",null,null,null,null,null,null,null,null,null,null,null,null,null,""]
[18,null,null,null,null,null,null,null,null,null,null,null,null,null,null,null,null,null,null,null,null,null,null,null,null,null,0,null,null,null,null,null,null,null,null,null,null,null,null,null,null,null,null,null,null,null,"",null,null,null,null,null,null,null,null,null,null,null,null,null,""]
[18,null,null,null,null,null,null,null,null,null,null,null,null,null,null,null,null,null,null,null,null,null,null,null,null,null,0,null,null,null,null,null,null,null,null,null,null,null,null,null,null,null,null,null,null,null,"",null,null,null,null,null,null,null,null,null,null,null,null,null,""]
[18,null,null,null,null,null,null,null,null,null,null,null,null,null,null,null,null,null,null,null,null,null,null,null,null,null,0,null,null,null,null,null,null,null,null,null,null,null,null,null,null,null,null,null,null,null,"",null,null,null,null,null,null,null,null,null,null,null,null,null,""]
[18,null,null,null,null,null,null,null,null,null,null,null,null,null,null,null,null,null,null,null,null,null,null,null,null,null,0,null,null,null,null,null,null,null,null,null,null,null,null,null,null,null,null,null,null,null,"",null,null,null,null,null,null,null,null,null,null,null,null,null,""]
[18,null,null,null,null,null,null,null,null,null,null,null,null,null,null,null,null,null,null,null,null,null,null,null,null,null,0,null,null,null,null,null,null,null,null,null,null,null,null,null,null,null,null,null,null,null,"",null,null,null,null,null,null,null,null,null,null,null,null,null,""]
[18,null,null,null,null,null,null,null,null,null,null,null,null,null,null,null,null,null,null,null,null,null,null,null,null,null,0,null,null,null,null,null,null,null,null,null,null,null,null,null,null,null,null,null,null,null,"",null,null,null,null,null,null,null,null,null,null,null,null,null,""]
[18,null,null,null,null,null,null,null,null,null,null,null,null,null,null,null,null,null,null,null,null,null,null,null,null,null,0,null,null,null,null,null,null,null,null,null,null,null,null,null,null,null,null,null,null,null,"",null,null,null,null,null,null,null,null,null,null,null,null,null,""]
[18,null,null,null,null,null,null,null,null,null,null,null,null,null,null,null,null,null,null,null,null,null,null,null,null,null,0,null,null,null,null,null,null,null,null,null,null,null,null,null,null,null,null,null,null,null,"",null,null,null,null,null,null,null,null,null,null,null,null,null,""]
[18,null,null,null,null,null,null,null,null,null,null,null,null,null,null,null,null,null,null,null,null,null,null,null,null,null,0,null,null,null,null,null,null,null,null,null,null,null,null,null,null,null,null,null,null,null,"",null,null,null,null,null,null,null,null,null,null,null,null,null,""]
[18,null,null,null,null,null,null,null,null,null,null,null,null,null,null,null,null,null,null,null,null,null,null,null,null,null,{"$f":"Y1603+(Z1603/7)","v":0},null,null,null,null,null,null,null,null,null,null,null,null,null,null,null,null,null,null,null,"",null,null,null,null,null,null,null,null,null,null,null,null,null,""]
[18,null,null,null,null,null,null,null,null,null,null,null,null,null,null,null,null,null,null,null,null,null,null,null,null,null,0,null,null,null,null,null,null,null,null,null,null,null,null,null,null,null,null,null,null,null,"",null,null,null,null,null,null,null,null,null,null,null,null,null,""]
[18,null,null,null,null,null,null,null,null,null,null,null,null,null,null,null,null,null,null,null,null,null,null,null,null,null,0,null,null,null,null,null,null,null,null,null,null,null,null,null,null,null,null,null,null,null,"",null,null,null,null,null,null,null,null,null,null,null,null,null,""]
[18,null,null,null,null,null,null,null,null,null,null,null,null,null,null,null,null,null,null,null,null,null,null,null,null,null,0,null,null,null,null,null,null,null,null,null,null,null,null,null,null,null,null,null,null,null,"",null,null,null,null,null,null,null,null,null,null,null,null,null,""]
[18,null,null,null,null,null,null,null,null,null,null,null,null,null,null,null,null,null,null,null,null,null,null,null,null,null,0,null,null,null,null,null,null,null,null,null,null,null,null,null,null,null,null,null,null,null,"",null,null,null,null,null,null,null,null,null,null,null,null,null,""]
[18,null,null,null,null,null,null,null,null,null,null,null,null,null,null,null,null,null,null,null,null,null,null,null,null,null,0,null,null,null,null,null,null,null,null,null,null,null,null,null,null,null,null,null,null,null,"",null,null,null,null,null,null,null,null,null,null,null,null,null,""]
[18,null,null,null,null,null,null,null,null,null,null,null,null,null,null,null,null,null,null,null,null,null,null,null,null,null,0,null,null,null,null,null,null,null,null,null,null,null,null,null,null,null,null,null,null,null,"",null,null,null,null,null,null,null,null,null,null,null,null,null,""]
[18,null,null,null,null,null,null,null,null,null,null,null,null,null,null,null,null,null,null,null,null,null,null,null,null,null,0,null,null,null,null,null,null,null,null,null,null,null,null,null,null,null,null,null,null,null,"",null,null,null,null,null,null,null,null,null,null,null,null,null,""]
[18,null,null,null,null,null,null,null,null,null,null,null,null,null,null,null,null,null,null,null,null,null,null,null,null,null,0,null,null,null,null,null,null,null,null,null,null,null,null,null,null,null,null,null,null,null,"",null,null,null,null,null,null,null,null,null,null,null,null,null,""]
[18,null,null,null,null,null,null,null,null,null,null,null,null,null,null,null,null,null,null,null,null,null,null,null,null,null,0,null,null,null,null,null,null,null,null,null,null,null,null,null,null,null,null,null,null,null,"",null,null,null,null,null,null,null,null,null,null,null,null,null,""]
[18,null,null,null,null,null,null,null,null,null,null,null,null,null,null,null,null,null,null,null,null,null,null,null,null,null,0,null,null,null,null,null,null,null,null,null,null,null,null,null,null,null,null,null,null,null,"",null,null,null,null,null,null,null,null,null,null,null,null,null,""]
[18,null,null,null,null,null,null,null,null,null,null,null,null,null,null,null,null,null,null,null,null,null,null,null,null,null,0,null,null,null,null,null,null,null,null,null,null,null,null,null,null,null,null,null,null,null,"",null,null,null,null,null,null,null,null,null,null,null,null,null,""]
[18,null,null,null,null,null,null,null,null,null,null,null,null,null,null,null,null,null,null,null,null,null,null,null,null,null,0,null,null,null,null,null,null,null,null,null,null,null,null,null,null,null,null,null,null,null,"",null,null,null,null,null,null,null,null,null,null,null,null,null,""]
[18,null,null,null,null,null,null,null,null,null,null,null,null,null,null,null,null,null,null,null,null,null,null,null,null,null,0,null,null,null,null,null,null,null,null,null,null,null,null,null,null,null,null,null,null,null,"",null,null,null,null,null,null,null,null,null,null,null,null,null,""]
[18,null,null,null,null,null,null,null,null,null,null,null,null,null,null,null,null,null,null,null,null,null,null,null,null,null,0,null,null,null,null,null,null,null,null,null,null,null,null,null,null,null,null,null,null,null,"",null,null,null,null,null,null,null,null,null,null,null,null,null,""]
[18,null,null,null,null,null,null,null,null,null,null,null,null,null,null,null,null,null,null,null,null,null,null,null,null,null,0,null,null,null,null,null,null,null,null,null,null,null,null,null,null,null,null,null,null,null,"",null,null,null,null,null,null,null,null,null,null,null,null,null,""]
[18,null,null,null,null,null,null,null,null,null,null,null,null,null,null,null,null,null,null,null,null,null,null,null,null,null,0,null,null,null,null,null,null,null,null,null,null,null,null,null,null,null,null,null,null,null,"",null,null,null,null,null,null,null,null,null,null,null,null,null,""]
[18,null,null,null,null,null,null,null,null,null,null,null,null,null,null,null,null,null,null,null,null,null,null,null,null,null,0,null,null,null,null,null,null,null,null,null,null,null,null,null,null,null,null,null,null,null,"",null,null,null,null,null,null,null,null,null,null,null,null,null,""]
[18,null,null,null,null,null,null,null,null,null,null,null,null,null,null,null,null,null,null,null,null,null,null,null,null,null,0,null,null,null,null,null,null,null,null,null,null,null,null,null,null,null,null,null,null,null,"",null,null,null,null,null,null,null,null,null,null,null,null,null,""]
[18,null,null,null,null,null,null,null,null,null,null,null,null,null,null,null,null,null,null,null,null,null,null,null,null,null,0,null,null,null,null,null,null,null,null,null,null,null,null,null,null,null,null,null,null,null,"",null,null,null,null,null,null,null,null,null,null,null,null,null,""]
[18,null,null,null,null,null,null,null,null,null,null,null,null,null,null,null,null,null,null,null,null,null,null,null,null,null,0,null,null,null,null,null,null,null,null,null,null,null,null,null,null,null,null,null,null,null,"",null,null,null,null,null,null,null,null,null,null,null,null,null,""]
[18,null,null,null,null,null,null,null,null,null,null,null,null,null,null,null,null,null,null,null,null,null,null,null,null,null,0,null,null,null,null,null,null,null,null,null,null,null,null,null,null,null,null,null,null,null,"",null,null,null,null,null,null,null,null,null,null,null,null,null,""]
[18,null,null,null,null,null,null,null,null,null,null,null,null,null,null,null,null,null,null,null,null,null,null,null,null,null,0,null,null,null,null,null,null,null,null,null,null,null,null,null,null,null,null,null,null,null,"",null,null,null,null,null,null,null,null,null,null,null,null,null,""]
[18,null,null,null,null,null,null,null,null,null,null,null,null,null,null,null,null,null,null,null,null,null,null,null,null,null,0,null,null,null,null,null,null,null,null,null,null,null,null,null,null,null,null,null,null,null,"",null,null,null,null,null,null,null,null,null,null,null,null,null,""]
[18,null,null,null,null,null,null,null,null,null,null,null,null,null,null,null,null,null,null,null,null,null,null,null,null,null,0,null,null,null,null,null,null,null,null,null,null,null,null,null,null,null,null,null,null,null,"",null,null,null,null,null,null,null,null,null,null,null,null,null,""]
[18,null,null,null,null,null,null,null,null,null,null,null,null,null,null,null,null,null,null,null,null,null,null,null,null,null,0,null,null,null,null,null,null,null,null,null,null,null,null,null,null,null,null,null,null,null,"",null,null,null,null,null,null,null,null,null,null,null,null,null,""]
[18,null,null,null,null,null,null,null,null,null,null,null,null,null,null,null,null,null,null,null,null,null,null,null,null,null,0,null,null,null,null,null,null,null,null,null,null,null,null,null,null,null,null,null,null,null,"",null,null,null,null,null,null,null,null,null,null,null,null,null,""]
[18,null,null,null,null,null,null,null,null,null,null,null,null,null,null,null,null,null,null,null,null,null,null,null,null,null,0,null,null,null,null,null,null,null,null,null,null,null,null,null,null,null,null,null,null,null,"",null,null,null,null,null,null,null,null,null,null,null,null,null,""]
[18,null,null,null,null,null,null,null,null,null,null,null,null,null,null,null,null,null,null,null,null,null,null,null,null,null,0,null,null,null,null,null,null,null,null,null,null,null,null,null,null,null,null,null,null,null,"",null,null,null,null,null,null,null,null,null,null,null,null,null,""]
[18,null,null,null,null,null,null,null,null,null,null,null,null,null,null,null,null,null,null,null,null,null,null,null,null,null,0,null,null,null,null,null,null,null,null,null,null,null,null,null,null,null,null,null,null,null,"",null,null,null,null,null,null,null,null,null,null,null,null,null,""]
[18,null,null,null,null,null,null,null,null,null,null,null,null,null,null,null,null,null,null,null,null,null,null,null,null,null,0,null,null,null,null,null,null,null,null,null,null,null,null,null,null,null,null,null,null,null,"",null,null,null,null,null,null,null,null,null,null,null,null,null,""]
[18,null,null,null,null,null,null,null,null,null,null,null,null,null,null,null,null,null,null,null,null,null,null,null,null,null,0,null,null,null,null,null,null,null,null,null,null,null,null,null,null,null,null,null,null,null,"",null,null,null,null,null,null,null,null,null,null,null,null,null,""]
[18,null,null,null,null,null,null,null,null,null,null,null,null,null,null,null,null,null,null,null,null,null,null,null,null,null,0,null,null,null,null,null,null,null,null,null,null,null,null,null,null,null,null,null,null,null,"",null,null,null,null,null,null,null,null,null,null,null,null,null,""]
[18,null,null,null,null,null,null,null,null,null,null,null,null,null,null,null,null,null,null,null,null,null,null,null,null,null,0,null,null,null,null,null,null,null,null,null,null,null,null,null,null,null,null,null,null,null,"",null,null,null,null,null,null,null,null,null,null,null,null,null,""]
[18,null,null,null,null,null,null,null,null,null,null,null,null,null,null,null,null,null,null,null,null,null,null,null,null,null,0,null,null,null,null,null,null,null,null,null,null,null,null,null,null,null,null,null,null,null,"",null,null,null,null,null,null,null,null,null,null,null,null,null,""]
[18,null,null,null,null,null,null,null,null,null,null,null,null,null,null,null,null,null,null,null,null,null,null,null,null,null,0,null,null,null,null,null,null,null,null,null,null,null,null,null,null,null,null,null,null,null,"",null,null,null,null,null,null,null,null,null,null,null,null,null,""]
[18,null,null,null,null,null,null,null,null,null,null,null,null,null,null,null,null,null,null,null,null,null,null,null,null,null,0,null,null,null,null,null,null,null,null,null,null,null,null,null,null,null,null,null,null,null,"",null,null,null,null,null,null,null,null,null,null,null,null,null,""]
[18,null,null,null,null,null,null,null,null,null,null,null,null,null,null,null,null,null,null,null,null,null,null,null,null,null,0,null,null,null,null,null,null,null,null,null,null,null,null,null,null,null,null,null,null,null,"",null,null,null,null,null,null,null,null,null,null,null,null,null,""]
[18,null,null,null,null,null,null,null,null,null,null,null,null,null,null,null,null,null,null,null,null,null,null,null,null,null,0,null,null,null,null,null,null,null,null,null,null,null,null,null,null,null,null,null,null,null,"",null,null,null,null,null,null,null,null,null,null,null,null,null,""]
[18,null,null,null,null,null,null,null,null,null,null,null,null,null,null,null,null,null,null,null,null,null,null,null,null,null,0,null,null,null,null,null,null,null,null,null,null,null,null,null,null,null,null,null,null,null,"",null,null,null,null,null,null,null,null,null,null,null,null,null,""]
[18,null,null,null,null,null,null,null,null,null,null,null,null,null,null,null,null,null,null,null,null,null,null,null,null,null,0,null,null,null,null,null,null,null,null,null,null,null,null,null,null,null,null,null,null,null,"",null,null,null,null,null,null,null,null,null,null,null,null,null,""]
[18,null,null,null,null,null,null,null,null,null,null,null,null,null,null,null,null,null,null,null,null,null,null,null,null,null,0,null,null,null,null,null,null,null,null,null,null,null,null,null,null,null,null,null,null,null,"",null,null,null,null,null,null,null,null,null,null,null,null,null,""]
[18,null,null,null,null,null,null,null,null,null,null,null,null,null,null,null,null,null,null,null,null,null,null,null,null,null,0,null,null,null,null,null,null,null,null,null,null,null,null,null,null,null,null,null,null,null,"",null,null,null,null,null,null,null,null,null,null,null,null,null,""]
[18,null,null,null,null,null,null,null,null,null,null,null,null,null,null,null,null,null,null,null,null,null,null,null,null,null,0,null,null,null,null,null,null,null,null,null,null,null,null,null,null,null,null,null,null,null,"",null,null,null,null,null,null,null,null,null,null,null,null,null,""]
[18,null,null,null,null,null,null,null,null,null,null,null,null,null,null,null,null,null,null,null,null,null,null,null,null,null,0,null,null,null,null,null,null,null,null,null,null,null,null,null,null,null,null,null,null,null,"",null,null,null,null,null,null,null,null,null,null,null,null,null,""]
[18,null,null,null,null,null,null,null,null,null,null,null,null,null,null,null,null,null,null,null,null,null,null,null,null,null,0,null,null,null,null,null,null,null,null,null,null,null,null,null,null,null,null,null,null,null,"",null,null,null,null,null,null,null,null,null,null,null,null,null,""]
[18,null,null,null,null,null,null,null,null,null,null,null,null,null,null,null,null,null,null,null,null,null,null,null,null,null,0,null,null,null,null,null,null,null,null,null,null,null,null,null,null,null,null,null,null,null,"",null,null,null,null,null,null,null,null,null,null,null,null,null,""]
[18,null,null,null,null,null,null,null,null,null,null,null,null,null,null,null,null,null,null,null,null,null,null,null,null,null,0,null,null,null,null,null,null,null,null,null,null,null,null,null,null,null,null,null,null,null,"",null,null,null,null,null,null,null,null,null,null,null,null,null,""]
[18,null,"30/06/…",null,null,"23:59:00",null,null,null,null,null,null,null,null,null,null,null,null,null,null,null,null,null,null,null,null,0,null,null,null,null,null,null,null,null,null,null,null,null,null,null,null,null,null,null,null,23.000694444444445,null,null,null,null,null,null,null,null,null,null,null,null,null,23.000694444444445]
[]
[null,null,"Faire un deuxième fichier pour le semestre 2, le commencer au 01/07/…."]
[null,null,"ET REPRENDRE LA NUMEROTATION à partir du dernier numero utilisé le 30 juin"]
[]
[null,null,"ATTENTION  : en cas de changement de sages-femmes penser à actualiser la colonne de validation \"CA\""]

{"sheet":"TIU","index":1,"n_rows":1612,"n_cols":189,"rows_kept":562,"cut":true,"hidden":false,"merged":[[0,0,0,1]],"bounds":{"rows_first":250,"rows_last":62,"rows_between":250,"halvings":3}}
["N° dossier",null,"Dossier associé","Si compte-rendu reçu : dossier complet ou partiel ?","RESEAU DEMANDEUR ","RESEAU RECEVEUR","niveau demandeur ","niveau receveur","Type TIU/DTIU/ RETIU/autre","CONTRE INDICATION ","TIU malgre CI par autre MDC et destination ","DEPLACEMENT DU MEDECIN CHEZ LE DEMANDEUR","DEGRE d'URGENCE","vecteur qui a fait le TIU","\nMOTIF TRANSFERT \n                                                       ","Detail indication en clair ….","MOTIF SECONDAIRE ?","TERME EN SEMAINE ","TERME EN JOUR","TERME CORRIGE","Terme stratifié complexe","terme stratifié simple","terme stratifié suivi","Hospitalisé chez le demandeur depuis ……… jours ","n'a jamais eu de FCS tardive            ","CERCLAGE","elle a déja accouché par voie basse                           ","elle a déjà eu des césar                            ","PAS D' ANTCDT DE GROSSESSE PATHO…","…. NI D'ANTCD MEDICAL GRAVE….","…NI PDT CETTE GROS(HTA,DIABETE,AMNIOCENTESE,MAP…)","Singleton…","\n..obtenu spont...\n  ","Parité         y compris    celle ci ? ","dilatation du COL  EN CM ","TA systolique","TA diastolique","Pouls","Temp ","Conscience : normale      anormale    ","Proteine bandelette :    négative/    +/        ++/       +++","Portage strepto B  :  \noui                          non                         inconnu              ","RCF","si autre anomalie du RCF  en clair ","Demande de fax du rcf ","ECHOGRAPHIE<15jours: Biometrie nle          RCIU           Macrosome inconnue","ECHOGRAPHIE SI GEMELLAIRE RESULTAT J2","Doppler ombilical <15jrs","DOPPLER OMBILICAL SI GEMELLAIRE RESULTAT J 2","Doppler cérébral <15 jrs ","DOPPLER CEREBRAL SI GEMELLAIRE RESULTAT J2","le placenta est normalement inséré..                             ","le liquide  amniotique est en quantite normal ..","la CorticoT préventive a déjà été faite ?                   ","DATE DE DERNIERE CORTICOT ? ","TOCOLYSE ","ANTIBIOTIQUE          ","ANTIHTA","ANTI COAGULANT ","ASPIRINE","est ce une MAP?  ","MAP      \ncol au TV ","MAP Echo col longeur mm","MAP    Echo col OI mm","MAP Fibronect","MAP Tocolyse","molecule    type ","T réalisé ","N°tel et nom du service receveur si t realise et demandeur si t non réalise","type de MAP selon algorithme ","EVA MAP           date et heure initiale d'appel de la cellule ","EVA MAP          date et heure d'accouchement ","EVA MAP          delai > 48 (oui /non)","EVA delai appel /acc","Terme en SA de l'acc ","est ce une TOXEMIE ? (HTA+PROT)","TOX prot /24h si >4gr= severe","TOX SFHTA","TOX Diurese (GQ) ","TOX    Hb ","TOX         plaquette","TOX ASAT /ALAT","TOX  creat","TOX        type de ttmt","TOX molecule antiHTA","TOX    efficacite ttmt","TOX                ttmt preventif anti-convuls","TOX     molecule anti convulsivant","Est ce une RPM  (<37SA)","RPM type ","DAO PROMTEST AMNICATOR ","Index LA en cm ","temp maternelle","liquide malodor","RCF","CRP","GB","CU","Appel referent et ou au coordinateur (oui/non)","attention remplir le suivi uniquement si il y a eu un appel au référent ou au coordinateur OU SI AG < 28","duree du sejour en service de gross. Patho. (en jours)","devenir de la mére à l'issue de son hospit en patho ","date accouchement ","Séjour mère réanimation            oui/non (HL)","Délai arrivée maternité/ accouchmnt ","Décès maternel      oui/non  (HN)                 ","Si DC cause ","Travail :        Spontané   Déclenchement  cesar avant travail  ","Présentation :  céphalique           siège               transverse","RCF pdt le travail : normal      \nanormal","CorticoT avant la naissance :          \noui/non                ","Conditions     d'accouchement : eutocique, ventouse, forceps, spatule, forceps et ventouse, cesar avant travail, cesar pdt le travail  ","Anesthésie    APD     Rachi       AG         Proto         Aucune        ","Poids nné","Age gesta.","Respiration   spontanée     masque         hood FiO2    intubation  ","Circulation   MCE +/-        Adrenaline +/-","Décès nouveau né :      oui/ non   (HR)","Si DC cause ","Date sortie du service de néonat ","Lieu où se fait la sortie :  \ndomicile                           service de pédiatrie  retour à la maternité  (FW)   ","Etat n né à la sortie : normal              anormal       ","Si anormal cause ","Oxygenodépendance : OUI/NON","y a-t-il eu un retransfert vers CPII ou CPI ? : OUI/NON","Adéquation réseau : oui/non (HV)","Adéquation risque maternel CP \ninitial :\noui/non (HW)","Confirmation raison transfert : oui/non (HX)",null,null,"si enregistrement reçu : dossier complet ou partiel ?","niveau demandeur","niveau receveur","OUI NON","MAP col au TV","MAP Echo col OI mm","molécule type","TOX type de ttmt","MAP Fibronect","MAP Echo col longueur mm","MOTI TRANSFERT","Singleton..",": normale  anormale","Protéine bandelette : négative  +/   ++/   +++","Portage strpto B : oui  non  inconnu","ECHOGRAPHIE<15jours : Biométrie nle   RCIU   Macrosome inconnue","Dopller ombilical <15jrs","le liquide amniotique est en quantité normale…","la CorticoT préventive a été faite ?","T réalisé","présentation","condition d'accouchement","anesthésie","NE PAS SUPPRIMER","NE PAS SUPPRIMER","lieu où se fait la sortie","RCF","choix nmérique","choix numérique","n'a jamais eu de FCS tardive","Type TIU /DTIU /RETIU /autre","CONTRE INDICATION","TOCOLYSE","…obtenue spont..","le placenta est normalement inséré","DEGRE d'URGENCE","déplacement du médecin chez le demandeur","TOX SFHTA","TOX Diurese (GQ)","TOX Hb","TOX plaquette","TOX ASAT /ALAT","TOX creat","TOX efficacité ttmt","RPM type","DAD PROMTEST AMNICATOR","Index LA en cm","temp maternelle","RCF","CRP","GB","CU","Doppler cérébral <15jrs","MAP tocolyse","Travail : Spontané\nDéclenchement\ncesar avant travail","demande de fax du RCF","Terme stratifié complexe","Terme stratifié simple","Terme stratifié suivi"]
[{"$f":"'APPEL '!A2","v":18},{"$f":"'APPEL '!B2","v":0},{"$f":"'APPEL '!E2","v":0},null,null,null,{"$f":"'APPEL '!O2","v":0},{"$f":"'APPEL '!R2","v":0},{"$f":"'APPEL '!J2","v":0},null,null,null,null,{"$f":"'APPEL '!BH2","v":0},null,null,null,null,null,{"$f":"R2+(S2/7)","v":0},{"$f":"IF(T2<25.9,\"23-25,9\",IF(T2<27.9,\"26-27,9\",IF(T2<31.9,\"28-31,9\",IF(T2<34.9,\"32-34,9\",IF(T2<36.9,\"35-36,9\",IF(T2<40.2,\"37-40,2\",IF(T2<42,\"40,3-42\",IF(T2>42,\">42\"))))))))","v":"23-25,9"},{"$f":"IF(T2<31.9,\"24-31,9\",IF(T2<42,\"32-42\",IF(T2>=42,\">42\")))","v":"24-31,9"},{"$f":"IF(T2<27.9,\"24-27,9\",IF(T2<42,\"28-42\",IF(T2>=42,\">42\")))","v":"24-27,9"},null,null,null,null,null,null,null,null,{"$f":"'APPEL '!AC2","v":0},null,null,null,null,null,null,null,null,null,null,null,null,null,null,null,null,null,null,null,null,null,null,null,null,null,null,null,null,null,null,null,null,null,null,null,null,null,null,null,null,null,null,null,null,null,null,null,null,null,null,null,null,null,null,null,null,null,null,null,null,null,null,null,null,null,null,{"$f":"'APPEL '!AH2","v":0},null,null,null,null,null,null,null,null,null,null,null,null,null,null,null,null,null,null,null,null,null,null,null,null,null,null,null,null,null,"ne pas supprimer ni intercaler de lignes sur les 25 premières lignes",null,"complet","I","I","oui","non modifie","<7mm","Calcium","monoT orale","positive","0-10","Anasarque fœtal","unique","normal","négative","oui","Normale","inconnu","normal","jamais fait ","Réalisé","Céphalique","Eutocique","Anesthésie","Respiration   spontanée","Bon","Domicile","normal",0,0,"jamais eu de FCT","TIU","COL>4cm au départ du transport ","en cours depuis plus de 48h","spontanée","recouvrant cerv","URGENT ","OUI","cephalees","normale",">11gr/dl",">100 000","<30UI/l","<100","stabilisé","cliniqmt evidente","positif ","<5cm","<38","<160bpm","<20mg/dl","<15 000/mm3","pas de cu ","normal","pas de tocolyse en cours ","spontané","fax demande et reçu","23-25,9","24-31,9","24-27,9"]
[{"$f":"'APPEL '!A3","v":18},{"$f":"'APPEL '!B3","v":0},{"$f":"'APPEL '!E3","v":0},null,null,null,{"$f":"'APPEL '!O3","v":0},{"$f":"'APPEL '!R3","v":0},{"$f":"'APPEL '!J3","v":0},null,null,null,null,{"$f":"'APPEL '!BH3","v":0},null,null,null,null,null,{"$f":"R3+(S3/7)","v":0},"23-25,9",{"$f":"IF(T3<31.9,\"24-31,9\",IF(T3<42,\"32-42\",IF(T3>=42,\">42\")))","v":"24-31,9"},{"$f":"IF(T3<27.9,\"24-27,9\",IF(T3<42,\"28-42\",IF(T3>=42,\">42\")))","v":"24-27,9"},null,null,null,null,null,null,null,null,{"$f":"'APPEL '!AC3","v":0},null,null,null,null,null,null,null,null,null,null,null,null,null,null,null,null,null,null,null,null,null,null,null,null,null,null,null,null,null,null,null,null,null,null,null,null,null,null,null,null,null,null,null,null,null,null,null,null,null,null,null,null,null,null,null,null,null,null,null,null,null,null,null,null,null,null,{"$f":"'APPEL '!AH3","v":0},null,null,null,null,null,null,null,null,null,null,null,null,null,null,null,null,null,null,null,null,null,null,null,null,null,null,null,null,null,"ne pas supprimer ni intercaler de lignes sur les 25 premières lignes",null,"incomplet","IIA","IIA","non","peu modifie",">7mm","Beta deux","bi T orale","negative","11-20","Anomalie du doppler foetal ","gemellaire ","anormal","p","non","RCIU","normal","anamnios ","fait il y a plus de 15 jrs ","Non réalisé","Siège","Ventouse","APD","Masque","Réservé","Service de pédiatrie","DIPI",1,1,"a eu au moins une FCT","DTIU","HRP suspecte ou evident","en cours depuis moins de 48h","PMA","recouvrant hystero","NON URGENT ","NON","signes visuels","<400ml/24h","<11gr/dl","< 100 000",">30UI/l",">100","non contrôle","douteuse","negatif",">5cm",">38",">160bpm",">20mg/dl",">15 000 /mm3","cu","anormal ","stable ss tocolyse","déclenché","fax demandé et non reçu ","26-27,9","32-42","28-42"]
[{"$f":"'APPEL '!A4","v":18},{"$f":"'APPEL '!B4","v":0},{"$f":"'APPEL '!E4","v":0},null,null,null,{"$f":"'APPEL '!O4","v":0},{"$f":"'APPEL '!R4","v":0},{"$f":"'APPEL '!J4","v":0},null,null,null,null,{"$f":"'APPEL '!BH4","v":0},null,null,null,null,null,0,"23-25,9","24-31,9","24-27,9",null,null,null,null,null,null,null,null,{"$f":"'APPEL '!AC4","v":0},null,null,null,null,null,null,null,null,null,null,null,null,null,null,null,null,null,null,null,null,null,null,null,null,null,null,null,null,null,null,null,null,null,null,null,null,null,null,null,null,null,null,null,null,null,null,null,null,null,null,null,null,null,null,null,null,null,null,null,null,null,null,null,null,null,null,{"$f":"'APPEL '!AH4","v":0},null,null,null,null,null,null,null,null,null,null,null,null,null,null,null,null,null,null,null,null,null,null,null,null,null,null,null,null,null,"ne pas supprimer ni intercaler de lignes sur les 25 premières lignes",null,"pas de CR","IIB","IIB",null,"modifie","non fait","Atosiban","monoT IV","non fait ","21-27","Anomalie du RCF ","triple",null,"pp","inconnu","Macrosomie ","elevé","oligoamnios","fait ds les 15 jrs precedent",null,"Transverse","Forceps","Rachi ","Hood FiO2 ","Mauvais","Retour à la maternité ","DIPII",2,2,null,"RETIU","eclampsie","debuté au moment du transfert ",null,"recouvrant mixte ","SEMI URGENT ","INUTILE MDC/PLACE","signes auditifs","anurie","non fait ","non fait ","non fait ","non fait ","pas de ttmt",null,"douteux ","non fait ",null,null,"non fait ","non fait ",null,"pas de doppler recent <15jrs","CU ss tocolyse sans modif cervicales","césar avant travail","fax non demande","28-31,9","NAP","NAP"]
[{"$f":"'APPEL '!A5","v":18},{"$f":"'APPEL '!B5","v":0},{"$f":"'APPEL '!E5","v":0},null,null,null,{"$f":"'APPEL '!O5","v":0},{"$f":"'APPEL '!R5","v":0},{"$f":"'APPEL '!J5","v":0},null,null,null,null,{"$f":"'APPEL '!BH5","v":0},null,null,null,null,null,0,"23-25,9","24-31,9","24-27,9",null,null,null,null,null,null,null,null,{"$f":"'APPEL '!AC5","v":0},null,null,null,null,null,null,null,null,null,null,null,null,null,null,null,null,null,null,null,null,null,null,null,null,null,null,null,null,null,null,null,null,null,null,null,null,null,null,null,null,null,null,null,null,null,null,null,null,null,null,null,null,null,null,null,null,null,null,null,null,null,null,null,null,null,null,{"$f":"'APPEL '!AH5","v":0},null,null,null,null,null,null,null,null,null,null,null,null,null,null,null,null,null,null,null,null,null,null,null,null,null,null,null,null,null,"ne pas supprimer ni intercaler de lignes sur les 25 premières lignes",null,null,"III","III",null,"tres modifie",null,"AINS","bi T IV",null,">27","AUTRE ","autre",null,"ppp",null,"Inconnue","diastole nulle","Excès","inutile car > 34 SA",null,null,"Spatule","AG","Intubation",null,null,"Bradyc",3,3,null,"autre","hgie non maitrisée","pas de tocolyse ",null,"bas insere non recouvrant","DOUTEUX ",null,"barre épigastrique","non communiquée",null,null,null,null,null,null,"non fait ",null,null,null,null,null,null,null,"CU ss tocolyse avec  modif cervicales",null,"autre ","32-34,9"]
[{"$f":"'APPEL '!A6","v":18},{"$f":"'APPEL '!B6","v":0},{"$f":"'APPEL '!E6","v":0},null,null,null,{"$f":"'APPEL '!O6","v":0},{"$f":"'APPEL '!R6","v":0},{"$f":"'APPEL '!J6","v":0},null,null,null,null,{"$f":"'APPEL '!BH6","v":0},null,null,null,null,null,0,"23-25,9","24-31,9","24-27,9",null,null,null,null,null,null,null,null,{"$f":"'APPEL '!AC6","v":0},null,null,null,null,null,null,null,null,null,null,null,null,null,null,null,null,null,null,null,null,null,null,null,null,null,null,null,null,null,null,null,null,null,null,null,null,null,null,null,null,null,null,null,null,null,null,null,null,null,null,null,null,null,null,null,null,null,null,null,null,null,null,null,null,null,null,{"$f":"'APPEL '!AH6","v":0},null,null,null,null,null,null,null,null,null,null,null,null,null,null,null,null,null,null,null,null,null,null,null,null,null,null,null,null,null,"ne pas supprimer ni intercaler de lignes sur les 25 premières lignes",null,null,"IV (rea adulte/neurochir/U41)","IV (rea adulte/neurochir/U41)",null,null,null,"pas de ttmt","pas de ttmt",null,"non fait ","Cardiopathie  maternelle ",null,null,"Non encore réalisé",null,"pas d'écho recente (<15j)","reverse flow","Hydramnios","inutile car autre raison ",null,null,"Forceps et ventouse","Proto","CPAP",null,null,"Tachyc",4,4,null,null,"instabilité maternelle",null,null,"normalement insere",null,null,"association de plusieurs ",null,null,null,null,null,null,null,null,null,null,null,null,null,null,null,null,null,null,"35-36,9"]
[{"$f":"'APPEL '!A7","v":18},{"$f":"'APPEL '!B7","v":0},{"$f":"'APPEL '!E7","v":0},null,null,null,{"$f":"'APPEL '!O7","v":0},{"$f":"'APPEL '!R7","v":0},{"$f":"'APPEL '!J7","v":0},null,null,null,null,{"$f":"'APPEL '!BH7","v":0},null,null,null,null,null,0,"23-25,9","24-31,9","24-27,9",null,null,null,null,null,null,null,null,{"$f":"'APPEL '!AC7","v":0},null,null,null,null,null,null,null,null,null,null,null,null,null,null,null,null,null,null,null,null,null,null,null,null,null,null,null,null,null,null,null,null,null,null,null,null,null,null,null,null,null,null,null,null,null,null,null,null,null,null,null,null,null,null,null,null,null,null,null,null,null,null,null,null,null,null,{"$f":"'APPEL '!AH7","v":0},null,null,null,null,null,null,null,null,null,null,null,null,null,null,null,null,null,null,null,null,null,null,null,null,null,null,null,null,null,"ne pas supprimer ni intercaler de lignes sur les 25 premières lignes",null,null,"CP","CP",null,null,null,null,null,null,null,"Cholestase gravidique",null,null,"refus de réalisation",null,null,"pas de doppler recent (<15jrs)","pas d'écho recente","cortico en cours",null,null,"césar avant travail","Aucune",null,null,null,"minioscille",5,5,null,null,"anomalie RCF",null,null,"pas d'echo de moins de 15 jours ",null,null,"aucun SF ",null,null,null,null,null,null,null,null,null,null,null,null,null,null,null,null,null,null,"37-40,2"]
[{"$f":"'APPEL '!A8","v":18},{"$f":"'APPEL '!B8","v":0},{"$f":"'APPEL '!E8","v":0},null,null,null,{"$f":"'APPEL '!O8","v":0},{"$f":"'APPEL '!R8","v":0},{"$f":"'APPEL '!J8","v":0},null,null,null,null,{"$f":"'APPEL '!BH8","v":0},null,null,null,null,null,0,"23-25,9","24-31,9","24-27,9",null,null,null,null,null,null,null,null,{"$f":"'APPEL '!AC8","v":0},null,null,null,null,null,null,null,null,null,null,null,null,null,null,null,null,null,null,null,null,null,null,null,null,null,null,null,null,null,null,null,null,null,null,null,null,null,null,null,null,null,null,null,null,null,null,null,null,null,null,null,null,null,null,null,null,null,null,null,null,null,null,null,null,null,null,{"$f":"'APPEL '!AH8","v":0},null,null,null,null,null,null,null,null,null,null,null,null,null,null,null,null,null,null,null,null,null,null,null,null,null,null,null,null,null,"ne pas supprimer ni intercaler de lignes sur les 25 premières lignes",null,null,"NAP","non réalisé",null,null,null,null,null,null,null,"Diabète maternel",null,null,null,null,null,null,null,null,null,null,"césar pdt travail",null,null,null,null,"suspect",6,6,null,null,"autre",null,null,null,null,null,"oedemes",null,null,null,null,null,null,null,null,null,null,null,null,null,null,null,null,null,null,"40,3-42"]
[{"$f":"'APPEL '!A9","v":18},{"$f":"'APPEL '!B9","v":0},{"$f":"'APPEL '!E9","v":0},null,null,null,{"$f":"'APPEL '!O9","v":0},{"$f":"'APPEL '!R9","v":0},{"$f":"'APPEL '!J9","v":0},null,null,null,null,{"$f":"'APPEL '!BH9","v":0},null,null,null,null,null,0,"23-25,9","24-31,9","24-27,9",null,null,null,null,null,null,null,null,{"$f":"'APPEL '!AC9","v":0},null,null,null,null,null,null,null,null,null,null,null,null,null,null,null,null,null,null,null,null,null,null,null,null,null,null,null,null,null,null,null,null,null,null,null,null,null,null,null,null,null,null,null,null,null,null,null,null,null,null,null,null,null,null,null,null,null,null,null,null,null,null,null,null,null,null,{"$f":"'APPEL '!AH9","v":0},null,null,null,null,null,null,null,null,null,null,null,null,null,null,null,null,null,null,null,null,null,null,null,null,null,null,null,null,null,"ne pas supprimer ni intercaler de lignes sur les 25 premières lignes",null,null,null,null,null,null,null,null,null,null,null,"G gémellaire avec delta>15%",null,null,null,null,null,null,null,null,null,null,null,null,null,null,null,"BDC+",7,7,null,null,null,null,null,null,null,null,null,null,null,null,null,null,null,null,null,null,null,null,null,null,null,null,null,null,null,">42"]
[{"$f":"'APPEL '!A10","v":18},{"$f":"'APPEL '!B10","v":0},{"$f":"'APPEL '!E10","v":0},null,null,null,{"$f":"'APPEL '!O10","v":0},{"$f":"'APPEL '!R10","v":0},{"$f":"'APPEL '!J10","v":0},null,null,null,null,{"$f":"'APPEL '!BH10","v":0},null,null,null,null,null,0,"23-25,9","24-31,9","24-27,9",null,null,null,null,null,null,null,null,{"$f":"'APPEL '!AC10","v":0},null,null,null,null,null,null,null,null,null,null,null,null,null,null,null,null,null,null,null,null,null,null,null,null,null,null,null,null,null,null,null,null,null,null,null,null,null,null,null,null,null,null,null,null,null,null,null,null,null,null,null,null,null,null,null,null,null,null,null,null,null,null,null,null,null,null,{"$f":"'APPEL '!AH10","v":0},null,null,null,null,null,null,null,null,null,null,null,null,null,null,null,null,null,null,null,null,null,null,null,null,null,null,null,null,null,"ne pas supprimer ni intercaler de lignes sur les 25 premières lignes",null,null,null,null,null,null,null,null,null,null,null,"Grossesse triple",null,null,null,null,null,null,null,null,null,null,null,null,null,null,null,null,8,8]
[{"$f":"'APPEL '!A11","v":18},{"$f":"'APPEL '!B11","v":0},{"$f":"'APPEL '!E11","v":0},null,null,null,{"$f":"'APPEL '!O11","v":0},{"$f":"'APPEL '!R11","v":0},{"$f":"'APPEL '!J11","v":0},null,null,null,null,{"$f":"'APPEL '!BH11","v":0},null,null,null,null,null,0,"23-25,9","24-31,9","24-27,9",null,null,null,null,null,null,null,null,{"$f":"'APPEL '!AC11","v":0},null,null,null,null,null,null,null,null,null,null,null,null,null,null,null,null,null,null,null,null,null,null,null,null,null,null,null,null,null,null,null,null,null,null,null,null,null,null,null,null,null,null,null,null,null,null,null,null,null,null,null,null,null,null,null,null,null,null,null,null,null,null,null,null,null,null,{"$f":"'APPEL '!AH11","v":0},null,null,null,null,null,null,null,null,null,null,null,null,null,null,null,null,null,null,null,null,null,null,null,null,null,null,null,null,null,"ne pas supprimer ni intercaler de lignes sur les 25 premières lignes",null,null,null,null,null,null,null,null,null,null,null,"Hellp sd ",null,null,null,null,null,null,null,null,null,null,null,null,null,null,null,null,9,9,null,null,null,null,null,null,null,null,null,null,null,null,null,null,null,null,null,null,null,null,null,null,null,null,null,null,null,"NAP"]
[{"$f":"'APPEL '!A12","v":18},{"$f":"'APPEL '!B12","v":0},{"$f":"'APPEL '!E12","v":0},null,null,null,{"$f":"'APPEL '!O12","v":0},{"$f":"'APPEL '!R12","v":0},{"$f":"'APPEL '!J12","v":0},null,null,null,null,{"$f":"'APPEL '!BH12","v":0},null,null,null,null,null,0,"23-25,9","24-31,9","24-27,9",null,null,null,null,null,null,null,null,{"$f":"'APPEL '!AC12","v":0},null,null,null,null,null,null,null,null,null,null,null,null,null,null,null,null,null,null,null,null,null,null,null,null,null,null,null,null,null,null,null,null,null,null,null,null,null,null,null,null,null,null,null,null,null,null,null,null,null,null,null,null,null,null,null,null,null,null,null,null,null,null,null,null,null,null,{"$f":"'APPEL '!AH12","v":0},null,null,null,null,null,null,null,null,null,null,null,null,null,null,null,null,null,null,null,null,null,null,null,null,null,null,null,null,null,"ne pas supprimer ni intercaler de lignes sur les 25 premières lignes",null,null,null,null,null,null,null,null,null,null,null,"HTA gravidique",null,null,null,null,null,null,null,null,null,null,null,null,null,null,null,null,10,10]
[{"$f":"'APPEL '!A13","v":18},{"$f":"'APPEL '!B13","v":0},{"$f":"'APPEL '!E13","v":0},null,null,null,{"$f":"'APPEL '!O13","v":0},{"$f":"'APPEL '!R13","v":0},{"$f":"'APPEL '!J13","v":0},null,null,null,null,{"$f":"'APPEL '!BH13","v":0},null,null,null,null,null,0,"23-25,9","24-31,9","24-27,9",null,null,null,null,null,null,null,null,{"$f":"'APPEL '!AC13","v":0},null,null,null,null,null,null,null,null,null,null,null,null,null,null,null,null,null,null,null,null,null,null,null,null,null,null,null,null,null,null,null,null,null,null,null,null,null,null,null,null,null,null,null,null,null,null,null,null,null,null,null,null,null,null,null,null,null,null,null,null,null,null,null,null,null,null,{"$f":"'APPEL '!AH13","v":0},null,null,null,null,null,null,null,null,null,null,null,null,null,null,null,null,null,null,null,null,null,null,null,null,null,null,null,null,null,"ne pas supprimer ni intercaler de lignes sur les 25 premières lignes",null,null,null,null,null,null,null,null,null,null,null,"Hydramnios ou oligoamnios sévère ",null,null,null,null,null,null,null,null,null,null,null,null,null,null,null,null,"autre"]
[{"$f":"'APPEL '!A14","v":18},{"$f":"'APPEL '!B14","v":0},{"$f":"'APPEL '!E14","v":0},null,null,null,{"$f":"'APPEL '!O14","v":0},{"$f":"'APPEL '!R14","v":0},{"$f":"'APPEL '!J14","v":0},null,null,null,null,{"$f":"'APPEL '!BH14","v":0},null,null,null,null,null,0,"23-25,9","24-31,9","24-27,9",null,null,null,null,null,null,null,null,{"$f":"'APPEL '!AC14","v":0},null,null,null,null,null,null,null,null,null,null,null,null,null,null,null,null,null,null,null,null,null,null,null,null,null,null,null,null,null,null,null,null,null,null,null,null,null,null,null,null,null,null,null,null,null,null,null,null,null,null,null,null,null,null,null,null,null,null,null,null,null,null,null,null,null,null,{"$f":"'APPEL '!AH14","v":0},null,null,null,null,null,null,null,null,null,null,null,null,null,null,null,null,null,null,null,null,null,null,null,null,null,null,null,null,null,"ne pas supprimer ni intercaler de lignes sur les 25 premières lignes",null,null,null,null,null,null,null,null,null,null,null,"Infection maternelle grave  "]
[{"$f":"'APPEL '!A15","v":18},{"$f":"'APPEL '!B15","v":0},{"$f":"'APPEL '!E15","v":0},null,null,null,{"$f":"'APPEL '!O15","v":0},{"$f":"'APPEL '!R15","v":0},{"$f":"'APPEL '!J15","v":0},null,null,null,null,{"$f":"'APPEL '!BH15","v":0},null,null,null,null,null,0,"23-25,9","24-31,9","24-27,9",null,null,null,null,null,null,null,null,{"$f":"'APPEL '!AC15","v":0},null,null,null,null,null,null,null,null,null,null,null,null,null,null,null,null,null,null,null,null,null,null,null,null,null,null,null,null,null,null,null,null,null,null,null,null,null,null,null,null,null,null,null,null,null,null,null,null,null,null,null,null,null,null,null,null,null,null,null,null,null,null,null,null,null,null,{"$f":"'APPEL '!AH15","v":0},null,null,null,null,null,null,null,null,null,null,null,null,null,null,null,null,null,null,null,null,null,null,null,null,null,null,null,null,null,"ne pas supprimer ni intercaler de lignes sur les 25 premières lignes",null,null,null,null,null,null,null,null,null,null,null,"Isoimmunisation rhésus"]
[{"$f":"'APPEL '!A16","v":18},{"$f":"'APPEL '!B16","v":0},{"$f":"'APPEL '!E16","v":0},null,null,null,{"$f":"'APPEL '!O16","v":0},{"$f":"'APPEL '!R16","v":0},{"$f":"'APPEL '!J16","v":0},null,null,null,null,{"$f":"'APPEL '!BH16","v":0},null,null,null,null,null,0,"23-25,9","24-31,9","24-27,9",null,null,null,null,null,null,null,null,{"$f":"'APPEL '!AC16","v":0},null,null,null,null,null,null,null,null,null,null,null,null,null,null,null,null,null,null,null,null,null,null,null,null,null,null,null,null,null,null,null,null,null,null,null,null,null,null,null,null,null,null,null,null,null,null,null,null,null,null,null,null,null,null,null,null,null,null,null,null,null,null,null,null,null,null,{"$f":"'APPEL '!AH16","v":0},null,null,null,null,null,null,null,null,null,null,null,null,null,null,null,null,null,null,null,null,null,null,null,null,null,null,null,null,null,"ne pas supprimer ni intercaler de lignes sur les 25 premières lignes",null,null,null,null,null,null,null,null,null,null,null,"Maladie de systeme mater "]
[{"$f":"'APPEL '!A17","v":18},{"$f":"'APPEL '!B17","v":0},{"$f":"'APPEL '!E17","v":0},null,null,null,{"$f":"'APPEL '!O17","v":0},{"$f":"'APPEL '!R17","v":0},{"$f":"'APPEL '!J17","v":0},null,null,null,null,{"$f":"'APPEL '!BH17","v":0},null,null,null,null,null,0,"23-25,9","24-31,9","24-27,9",null,null,null,null,null,null,null,null,{"$f":"'APPEL '!AC17","v":0},null,null,null,null,null,null,null,null,null,null,null,null,null,null,null,null,null,null,null,null,null,null,null,null,null,null,null,null,null,null,null,null,null,null,null,null,null,null,null,null,null,null,null,null,null,null,null,null,null,null,null,null,null,null,null,null,null,null,null,null,null,null,null,null,null,null,{"$f":"'APPEL '!AH17","v":0},null,null,null,null,null,null,null,null,null,null,null,null,null,null,null,null,null,null,null,null,null,null,null,null,null,null,null,null,null,"ne pas supprimer ni intercaler de lignes sur les 25 premières lignes",null,null,null,null,null,null,null,null,null,null,null,"Malfo congénitale "]
[{"$f":"'APPEL '!A18","v":18},{"$f":"'APPEL '!B18","v":0},{"$f":"'APPEL '!E18","v":0},null,null,null,{"$f":"'APPEL '!O18","v":0},{"$f":"'APPEL '!R18","v":0},{"$f":"'APPEL '!J18","v":0},null,null,null,null,{"$f":"'APPEL '!BH18","v":0},null,null,null,null,null,0,"23-25,9","24-31,9","24-27,9",null,null,null,null,null,null,null,null,{"$f":"'APPEL '!AC18","v":0},null,null,null,null,null,null,null,null,null,null,null,null,null,null,null,null,null,null,null,null,null,null,null,null,null,null,null,null,null,null,null,null,null,null,null,null,null,null,null,null,null,null,null,null,null,null,null,null,null,null,null,null,null,null,null,null,null,null,null,null,null,null,null,null,null,null,{"$f":"'APPEL '!AH18","v":0},null,null,null,null,null,null,null,null,null,null,null,null,null,null,null,null,null,null,null,null,null,null,null,null,null,null,null,null,null,"ne pas supprimer ni intercaler de lignes sur les 25 premières lignes",null,null,null,null,null,null,null,null,null,null,null,"MAP  "]
[{"$f":"'APPEL '!A19","v":18},{"$f":"'APPEL '!B19","v":0},{"$f":"'APPEL '!E19","v":0},null,null,null,{"$f":"'APPEL '!O19","v":0},{"$f":"'APPEL '!R19","v":0},{"$f":"'APPEL '!J19","v":0},null,null,null,null,{"$f":"'APPEL '!BH19","v":0},null,null,null,null,null,0,"23-25,9","24-31,9","24-27,9",null,null,null,null,null,null,null,null,{"$f":"'APPEL '!AC19","v":0},null,null,null,null,null,null,null,null,null,null,null,null,null,null,null,null,null,null,null,null,null,null,null,null,null,null,null,null,null,null,null,null,null,null,null,null,null,null,null,null,null,null,null,null,null,null,null,null,null,null,null,null,null,null,null,null,null,null,null,null,null,null,null,null,null,null,{"$f":"'APPEL '!AH19","v":0},null,null,null,null,null,null,null,null,null,null,null,null,null,null,null,null,null,null,null,null,null,null,null,null,null,null,null,null,null,"ne pas supprimer ni intercaler de lignes sur les 25 premières lignes",null,null,null,null,null,null,null,null,null,null,null,"Néphropathie maternelle    "]
[{"$f":"'APPEL '!A20","v":18},{"$f":"'APPEL '!B20","v":0},{"$f":"'APPEL '!E20","v":0},null,null,null,{"$f":"'APPEL '!O20","v":0},{"$f":"'APPEL '!R20","v":0},{"$f":"'APPEL '!J20","v":0},null,null,null,null,{"$f":"'APPEL '!BH20","v":0},null,null,null,null,null,0,"23-25,9","24-31,9","24-27,9",null,null,null,null,null,null,null,null,{"$f":"'APPEL '!AC20","v":0},null,null,null,null,null,null,null,null,null,null,null,null,null,null,null,null,null,null,null,null,null,null,null,null,null,null,null,null,null,null,null,null,null,null,null,null,null,null,null,null,null,null,null,null,null,null,null,null,null,null,null,null,null,null,null,null,null,null,null,null,null,null,null,null,null,null,{"$f":"'APPEL '!AH20","v":0},null,null,null,null,null,null,null,null,null,null,null,null,null,null,null,null,null,null,null,null,null,null,null,null,null,null,null,null,null,"ne pas supprimer ni intercaler de lignes sur les 25 premières lignes",null,null,null,null,null,null,null,null,null,null,null,"Placenta praevia hgique / Hgie"]
[{"$f":"'APPEL '!A21","v":18},{"$f":"'APPEL '!B21","v":0},{"$f":"'APPEL '!E21","v":0},null,null,null,{"$f":"'APPEL '!O21","v":0},{"$f":"'APPEL '!R21","v":0},{"$f":"'APPEL '!J21","v":0},null,null,null,null,{"$f":"'APPEL '!BH21","v":0},null,null,null,null,null,0,"23-25,9","24-31,9","24-27,9",null,null,null,null,null,null,null,null,{"$f":"'APPEL '!AC21","v":0},null,null,null,null,null,null,null,null,null,null,null,null,null,null,null,null,null,null,null,null,null,null,null,null,null,null,null,null,null,null,null,null,null,null,null,null,null,null,null,null,null,null,null,null,null,null,null,null,null,null,null,null,null,null,null,null,null,null,null,null,null,null,null,null,null,null,{"$f":"'APPEL '!AH21","v":0},null,null,null,null,null,null,null,null,null,null,null,null,null,null,null,null,null,null,null,null,null,null,null,null,null,null,null,null,null,"ne pas supprimer ni intercaler de lignes sur les 25 premières lignes",null,null,null,null,null,null,null,null,null,null,null,"RCIU "]
[{"$f":"'APPEL '!A22","v":18},{"$f":"'APPEL '!B22","v":0},{"$f":"'APPEL '!E22","v":0},null,null,null,{"$f":"'APPEL '!O22","v":0},{"$f":"'APPEL '!R22","v":0},{"$f":"'APPEL '!J22","v":0},null,null,null,null,{"$f":"'APPEL '!BH22","v":0},null,null,null,null,null,0,"23-25,9","24-31,9","24-27,9",null,null,null,null,null,null,null,null,{"$f":"'APPEL '!AC22","v":0},null,null,null,null,null,null,null,null,null,null,null,null,null,null,null,null,null,null,null,null,null,null,null,null,null,null,null,null,null,null,null,null,null,null,null,null,null,null,null,null,null,null,null,null,null,null,null,null,null,null,null,null,null,null,null,null,null,null,null,null,null,null,null,null,null,null,{"$f":"'APPEL '!AH22","v":0},null,null,null,null,null,null,null,null,null,null,null,null,null,null,null,null,null,null,null,null,null,null,null,null,null,null,null,null,null,"ne pas supprimer ni intercaler de lignes sur les 25 premières lignes",null,null,null,null,null,null,null,null,null,null,null,"Retransfert"]
[{"$f":"'APPEL '!A23","v":18},{"$f":"'APPEL '!B23","v":0},{"$f":"'APPEL '!E23","v":0},null,null,null,{"$f":"'APPEL '!O23","v":0},{"$f":"'APPEL '!R23","v":0},{"$f":"'APPEL '!J23","v":0},null,null,null,null,{"$f":"'APPEL '!BH23","v":0},null,null,null,null,null,0,"23-25,9","24-31,9","24-27,9",null,null,null,null,null,null,null,null,{"$f":"'APPEL '!AC23","v":0},null,null,null,null,null,null,null,null,null,null,null,null,null,null,null,null,null,null,null,null,null,null,null,null,null,null,null,null,null,null,null,null,null,null,null,null,null,null,null,null,null,null,null,null,null,null,null,null,null,null,null,null,null,null,null,null,null,null,null,null,null,null,null,null,null,null,{"$f":"'APPEL '!AH23","v":0},null,null,null,null,null,null,null,null,null,null,null,null,null,null,null,null,null,null,null,null,null,null,null,null,null,null,null,null,null,"ne pas supprimer ni intercaler de lignes sur les 25 premières lignes",null,null,null,null,null,null,null,null,null,null,null,"RPM "]
[{"$f":"'APPEL '!A24","v":18},{"$f":"'APPEL '!B24","v":0},{"$f":"'APPEL '!E24","v":0},null,null,null,{"$f":"'APPEL '!O24","v":0},{"$f":"'APPEL '!R24","v":0},{"$f":"'APPEL '!J24","v":0},null,null,null,null,{"$f":"'APPEL '!BH24","v":0},null,null,null,null,null,0,"23-25,9","24-31,9","24-27,9",null,null,null,null,null,null,null,null,{"$f":"'APPEL '!AC24","v":0},null,null,null,null,null,null,null,null,null,null,null,null,null,null,null,null,null,null,null,null,null,null,null,null,null,null,null,null,null,null,null,null,null,null,null,null,null,null,null,null,null,null,null,null,null,null,null,null,null,null,null,null,null,null,null,null,null,null,null,null,null,null,null,null,null,null,{"$f":"'APPEL '!AH24","v":0},null,null,null,null,null,null,null,null,null,null,null,null,null,null,null,null,null,null,null,null,null,null,null,null,null,null,null,null,null,"ne pas supprimer ni intercaler de lignes sur les 25 premières lignes",null,null,null,null,null,null,null,null,null,null,null,"Toxemie"]
[{"$f":"'APPEL '!A25","v":18},{"$f":"'APPEL '!B25","v":0},{"$f":"'APPEL '!E25","v":0},null,null,null,{"$f":"'APPEL '!O25","v":0},{"$f":"'APPEL '!R25","v":0},{"$f":"'APPEL '!J25","v":0},null,null,null,null,{"$f":"'APPEL '!BH25","v":0},null,null,null,null,null,0,"23-25,9","24-31,9","24-27,9",null,null,null,null,null,null,null,null,{"$f":"'APPEL '!AC25","v":0},null,null,null,null,null,null,null,null,null,null,null,null,null,null,null,null,null,null,null,null,null,null,null,null,null,null,null,null,null,null,null,null,null,null,null,null,null,null,null,null,null,null,null,null,null,null,null,null,null,null,null,null,null,null,null,null,null,null,null,null,null,null,null,null,null,null,{"$f":"'APPEL '!AH25","v":0},null,null,null,null,null,null,null,null,null,null,null,null,null,null,null,null,null,null,null,null,null,null,null,null,null,null,null,null,null,"ne pas supprimer ni intercaler de lignes sur les 25 premières lignes"]
[{"$f":"'APPEL '!A26","v":18},{"$f":"'APPEL '!B26","v":0},{"$f":"'APPEL '!E26","v":0},null,null,null,{"$f":"'APPEL '!O26","v":0},{"$f":"'APPEL '!R26","v":0},{"$f":"'APPEL '!J26","v":0},null,null,null,null,{"$f":"'APPEL '!BH26","v":0},null,null,null,null,null,0,"23-25,9","24-31,9","24-27,9",null,null,null,null,null,null,null,null,{"$f":"'APPEL '!AC26","v":0},null,null,null,null,null,null,null,null,null,null,null,null,null,null,null,null,null,null,null,null,null,null,null,null,null,null,null,null,null,null,null,null,null,null,null,null,null,null,null,null,null,null,null,null,null,null,null,null,null,null,null,null,null,null,null,null,null,null,null,null,null,null,null,null,null,null,{"$f":"'APPEL '!AH26","v":0},null,null,null,null,null,null,null,null,null,null,null,null,null,null,null,null,null,null,null,null,null,null,null,null,null,null,null,null,null,"ne pas supprimer ni intercaler de lignes sur les 25 premières lignes"]
[{"$f":"'APPEL '!A27","v":18},{"$f":"'APPEL '!B27","v":0},{"$f":"'APPEL '!E27","v":0},null,null,null,{"$f":"'APPEL '!O27","v":0},{"$f":"'APPEL '!R27","v":0},{"$f":"'APPEL '!J27","v":0},null,null,null,null,{"$f":"'APPEL '!BH27","v":0},null,null,null,null,null,0,"23-25,9","24-31,9","24-27,9",null,null,null,null,null,null,null,null,{"$f":"'APPEL '!AC27","v":0},null,null,null,null,null,null,null,null,null,null,null,null,null,null,null,null,null,null,null,null,null,null,null,null,null,null,null,null,null,null,null,null,null,null,null,null,null,null,null,null,null,null,null,null,null,null,null,null,null,null,null,null,null,null,null,null,null,null,null,null,null,null,null,null,null,null,{"$f":"'APPEL '!AH27","v":0}]
[{"$f":"'APPEL '!A28","v":18},{"$f":"'APPEL '!B28","v":0},{"$f":"'APPEL '!E28","v":0},null,null,null,{"$f":"'APPEL '!O28","v":0},{"$f":"'APPEL '!R28","v":0},{"$f":"'APPEL '!J28","v":0},null,null,null,null,{"$f":"'APPEL '!BH28","v":0},null,null,null,null,null,0,"23-25,9","24-31,9","24-27,9",null,null,null,null,null,null,null,null,{"$f":"'APPEL '!AC28","v":0},null,null,null,null,null,null,null,null,null,null,null,null,null,null,null,null,null,null,null,null,null,null,null,null,null,null,null,null,null,null,null,null,null,null,null,null,null,null,null,null,null,null,null,null,null,null,null,null,null,null,null,null,null,null,null,null,null,null,null,null,null,null,null,null,null,null,{"$f":"'APPEL '!AH28","v":0}]
[{"$f":"'APPEL '!A29","v":18},{"$f":"'APPEL '!B29","v":0},{"$f":"'APPEL '!E29","v":0},null,null,null,{"$f":"'APPEL '!O29","v":0},{"$f":"'APPEL '!R29","v":0},{"$f":"'APPEL '!J29","v":0},null,null,null,null,{"$f":"'APPEL '!BH29","v":0},null,null,null,null,null,0,"23-25,9","24-31,9","24-27,9",null,null,null,null,null,null,null,null,{"$f":"'APPEL '!AC29","v":0},null,null,null,null,null,null,null,null,null,null,null,null,null,null,null,null,null,null,null,null,null,null,null,null,null,null,null,null,null,null,null,null,null,null,null,null,null,null,null,null,null,null,null,null,null,null,null,null,null,null,null,null,null,null,null,null,null,null,null,null,null,null,null,null,null,null,{"$f":"'APPEL '!AH29","v":0}]
[{"$f":"'APPEL '!A30","v":18},{"$f":"'APPEL '!B30","v":0},{"$f":"'APPEL '!E30","v":0},null,null,null,{"$f":"'APPEL '!O30","v":0},{"$f":"'APPEL '!R30","v":0},{"$f":"'APPEL '!J30","v":0},null,null,null,null,{"$f":"'APPEL '!BH30","v":0},null,null,null,null,null,0,"23-25,9","24-31,9","24-27,9",null,null,null,null,null,null,null,null,{"$f":"'APPEL '!AC30","v":0},null,null,null,null,null,null,null,null,null,null,null,null,null,null,null,null,null,null,null,null,null,null,null,null,null,null,null,null,null,null,null,null,null,null,null,null,null,null,null,null,null,null,null,null,null,null,null,null,null,null,null,null,null,null,null,null,null,null,null,null,null,null,null,null,null,null,{"$f":"'APPEL '!AH30","v":0}]
[{"$f":"'APPEL '!A31","v":18},{"$f":"'APPEL '!B31","v":0},{"$f":"'APPEL '!E31","v":0},null,null,null,{"$f":"'APPEL '!O31","v":0},{"$f":"'APPEL '!R31","v":0},{"$f":"'APPEL '!J31","v":0},null,null,null,null,{"$f":"'APPEL '!BH31","v":0},null,null,null,null,null,0,"23-25,9","24-31,9","24-27,9",null,null,null,null,null,null,null,null,{"$f":"'APPEL '!AC31","v":0},null,null,null,null,null,null,null,null,null,null,null,null,null,null,null,null,null,null,null,null,null,null,null,null,null,null,null,null,null,null,null,null,null,null,null,null,null,null,null,null,null,null,null,null,null,null,null,null,null,null,null,null,null,null,null,null,null,null,null,null,null,null,null,null,null,null,{"$f":"'APPEL '!AH31","v":0}]
[{"$f":"'APPEL '!A32","v":18},{"$f":"'APPEL '!B32","v":0},{"$f":"'APPEL '!E32","v":0},null,null,null,{"$f":"'APPEL '!O32","v":0},{"$f":"'APPEL '!R32","v":0},{"$f":"'APPEL '!J32","v":0},null,null,null,null,{"$f":"'APPEL '!BH32","v":0},null,null,null,null,null,0,"23-25,9","24-31,9","24-27,9",null,null,null,null,null,null,null,null,{"$f":"'APPEL '!AC32","v":0},null,null,null,null,null,null,null,null,null,null,null,null,null,null,null,null,null,null,null,null,null,null,null,null,null,null,null,null,null,null,null,null,null,null,null,null,null,null,null,null,null,null,null,null,null,null,null,null,null,null,null,null,null,null,null,null,null,null,null,null,null,null,null,null,null,null,{"$f":"'APPEL '!AH32","v":0}]
[{"$f":"'APPEL '!A33","v":18},{"$f":"'APPEL '!B33","v":0},{"$f":"'APPEL '!E33","v":0},null,null,null,{"$f":"'APPEL '!O33","v":0},{"$f":"'APPEL '!R33","v":0},{"$f":"'APPEL '!J33","v":0},null,null,null,null,{"$f":"'APPEL '!BH33","v":0},null,null,null,null,null,0,"23-25,9","24-31,9","24-27,9",null,null,null,null,null,null,null,null,{"$f":"'APPEL '!AC33","v":0},null,null,null,null,null,null,null,null,null,null,null,null,null,null,null,null,null,null,null,null,null,null,null,null,null,null,null,null,null,null,null,null,null,null,null,null,null,null,null,null,null,null,null,null,null,null,null,null,null,null,null,null,null,null,null,null,null,null,null,null,null,null,null,null,null,null,{"$f":"'APPEL '!AH33","v":0}]
[{"$f":"'APPEL '!A34","v":18},{"$f":"'APPEL '!B34","v":0},{"$f":"'APPEL '!E34","v":0},null,null,null,{"$f":"'APPEL '!O34","v":0},{"$f":"'APPEL '!R34","v":0},{"$f":"'APPEL '!J34","v":0},null,null,null,null,{"$f":"'APPEL '!BH34","v":0},null,null,null,null,null,0,"23-25,9","24-31,9","24-27,9",null,null,null,null,null,null,null,null,{"$f":"'APPEL '!AC34","v":0},null,null,null,null,null,null,null,null,null,null,null,null,null,null,null,null,null,null,null,null,null,null,null,null,null,null,null,null,null,null,null,null,null,null,null,null,null,null,null,null,null,null,null,null,null,null,null,null,null,null,null,null,null,null,null,null,null,null,null,null,null,null,null,null,null,null,{"$f":"'APPEL '!AH34","v":0}]
[{"$f":"'APPEL '!A35","v":18},{"$f":"'APPEL '!B35","v":0},{"$f":"'APPEL '!E35","v":0},null,null,null,{"$f":"'APPEL '!O35","v":0},{"$f":"'APPEL '!R35","v":0},{"$f":"'APPEL '!J35","v":0},null,null,null,null,{"$f":"'APPEL '!BH35","v":0},null,null,null,null,null,0,"23-25,9","24-31,9","24-27,9",null,null,null,null,null,null,null,null,{"$f":"'APPEL '!AC35","v":0},null,null,null,null,null,null,null,null,null,null,null,null,null,null,null,null,null,null,null,null,null,null,null,null,null,null,null,null,null,null,null,null,null,null,null,null,null,null,null,null,null,null,null,null,null,null,null,null,null,null,null,null,null,null,null,null,null,null,null,null,null,null,null,null,null,null,{"$f":"'APPEL '!AH35","v":0}]
[{"$f":"'APPEL '!A36","v":18},{"$f":"'APPEL '!B36","v":0},{"$f":"'APPEL '!E36","v":0},null,null,null,{"$f":"'APPEL '!O36","v":0},{"$f":"'APPEL '!R36","v":0},{"$f":"'APPEL '!J36","v":0},null,null,null,null,{"$f":"'APPEL '!BH36","v":0},null,null,null,null,null,0,"23-25,9","24-31,9","24-27,9",null,null,null,null,null,null,null,null,{"$f":"'APPEL '!AC36","v":0},null,null,null,null,null,null,null,null,null,null,null,null,null,null,null,null,null,null,null,null,null,null,null,null,null,null,null,null,null,null,null,null,null,null,null,null,null,null,null,null,null,null,null,null,null,null,null,null,null,null,null,null,null,null,null,null,null,null,null,null,null,null,null,null,null,null,{"$f":"'APPEL '!AH36","v":0}]
[{"$f":"'APPEL '!A37","v":18},{"$f":"'APPEL '!B37","v":0},{"$f":"'APPEL '!E37","v":0},null,null,null,{"$f":"'APPEL '!O37","v":0},{"$f":"'APPEL '!R37","v":0},{"$f":"'APPEL '!J37","v":0},null,null,null,null,{"$f":"'APPEL '!BH37","v":0},null,null,null,null,null,0,"23-25,9","24-31,9","24-27,9",null,null,null,null,null,null,null,null,{"$f":"'APPEL '!AC37","v":0},null,null,null,null,null,null,null,null,null,null,null,null,null,null,null,null,null,null,null,null,null,null,null,null,null,null,null,null,null,null,null,null,null,null,null,null,null,null,null,null,null,null,null,null,null,null,null,null,null,null,null,null,null,null,null,null,null,null,null,null,null,null,null,null,null,null,{"$f":"'APPEL '!AH37","v":0}]
[{"$f":"'APPEL '!A38","v":18},{"$f":"'APPEL '!B38","v":0},{"$f":"'APPEL '!E38","v":0},null,null,null,{"$f":"'APPEL '!O38","v":0},{"$f":"'APPEL '!R38","v":0},{"$f":"'APPEL '!J38","v":0},null,null,null,null,{"$f":"'APPEL '!BH38","v":0},null,null,null,null,null,0,"23-25,9","24-31,9","24-27,9",null,null,null,null,null,null,null,null,{"$f":"'APPEL '!AC38","v":0},null,null,null,null,null,null,null,null,null,null,null,null,null,null,null,null,null,null,null,null,null,null,null,null,null,null,null,null,null,null,null,null,null,null,null,null,null,null,null,null,null,null,null,null,null,null,null,null,null,null,null,null,null,null,null,null,null,null,null,null,null,null,null,null,null,null,{"$f":"'APPEL '!AH38","v":0}]
[{"$f":"'APPEL '!A39","v":18},{"$f":"'APPEL '!B39","v":0},{"$f":"'APPEL '!E39","v":0},null,null,null,{"$f":"'APPEL '!O39","v":0},{"$f":"'APPEL '!R39","v":0},{"$f":"'APPEL '!J39","v":0},null,null,null,null,{"$f":"'APPEL '!BH39","v":0},null,null,null,null,null,0,"23-25,9","24-31,9","24-27,9",null,null,null,null,null,null,null,null,{"$f":"'APPEL '!AC39","v":0},null,null,null,null,null,null,null,null,null,null,null,null,null,null,null,null,null,null,null,null,null,null,null,null,null,null,null,null,null,null,null,null,null,null,null,null,null,null,null,null,null,null,null,null,null,null,null,null,null,null,null,null,null,null,null,null,null,null,null,null,null,null,null,null,null,null,{"$f":"'APPEL '!AH39","v":0}]
[{"$f":"'APPEL '!A40","v":18},{"$f":"'APPEL '!B40","v":0},{"$f":"'APPEL '!E40","v":0},null,null,null,{"$f":"'APPEL '!O40","v":0},{"$f":"'APPEL '!R40","v":0},{"$f":"'APPEL '!J40","v":0},null,null,null,null,{"$f":"'APPEL '!BH40","v":0},null,null,null,null,null,0,"23-25,9","24-31,9","24-27,9",null,null,null,null,null,null,null,null,{"$f":"'APPEL '!AC40","v":0},null,null,null,null,null,null,null,null,null,null,null,null,null,null,null,null,null,null,null,null,null,null,null,null,null,null,null,null,null,null,null,null,null,null,null,null,null,null,null,null,null,null,null,null,null,null,null,null,null,null,null,null,null,null,null,null,null,null,null,null,null,null,null,null,null,null,{"$f":"'APPEL '!AH40","v":0}]
[{"$f":"'APPEL '!A41","v":18},{"$f":"'APPEL '!B41","v":0},{"$f":"'APPEL '!E41","v":0},null,null,null,{"$f":"'APPEL '!O41","v":0},{"$f":"'APPEL '!R41","v":0},{"$f":"'APPEL '!J41","v":0},null,null,null,null,{"$f":"'APPEL '!BH41","v":0},null,null,null,null,null,0,"23-25,9","24-31,9","24-27,9",null,null,null,null,null,null,null,null,{"$f":"'APPEL '!AC41","v":0},null,null,null,null,null,null,null,null,null,null,null,null,null,null,null,null,null,null,null,null,null,null,null,null,null,null,null,null,null,null,null,null,null,null,null,null,null,null,null,null,null,null,null,null,null,null,null,null,null,null,null,null,null,null,null,null,null,null,null,null,null,null,null,null,null,null,{"$f":"'APPEL '!AH41","v":0},null,null,null,null,null,null,null,null,null,null,null,null,null,null,null,null,null,null,null,null,null,null,null,null,null,null,null,null,null,","]
[{"$f":"'APPEL '!A42","v":18},{"$f":"'APPEL '!B42","v":0},{"$f":"'APPEL '!E42","v":0},null,null,null,{"$f":"'APPEL '!O42","v":0},{"$f":"'APPEL '!R42","v":0},{"$f":"'APPEL '!J42","v":0},null,null,null,null,{"$f":"'APPEL '!BH42","v":0},null,null,null,null,null,0,"23-25,9","24-31,9","24-27,9",null,null,null,null,null,null,null,null,{"$f":"'APPEL '!AC42","v":0},null,null,null,null,null,null,null,null,null,null,null,null,null,null,null,null,null,null,null,null,null,null,null,null,null,null,null,null,null,null,null,null,null,null,null,null,null,null,null,null,null,null,null,null,null,null,null,null,null,null,null,null,null,null,null,null,null,null,null,null,null,null,null,null,null,null,{"$f":"'APPEL '!AH42","v":0}]
[{"$f":"'APPEL '!A43","v":18},{"$f":"'APPEL '!B43","v":0},{"$f":"'APPEL '!E43","v":0},null,null,null,{"$f":"'APPEL '!O43","v":0},{"$f":"'APPEL '!R43","v":0},{"$f":"'APPEL '!J43","v":0},null,null,null,null,{"$f":"'APPEL '!BH43","v":0},null,null,null,null,null,0,"23-25,9","24-31,9","24-27,9",null,null,null,null,null,null,null,null,{"$f":"'APPEL '!AC43","v":0},null,null,null,null,null,null,null,null,null,null,null,null,null,null,null,null,null,null,null,null,null,null,null,null,null,null,null,null,null,null,null,null,null,null,null,null,null,null,null,null,null,null,null,null,null,null,null,null,null,null,null,null,null,null,null,null,null,null,null,null,null,null,null,null,null,null,{"$f":"'APPEL '!AH43","v":0}]
[{"$f":"'APPEL '!A44","v":18},{"$f":"'APPEL '!B44","v":0},{"$f":"'APPEL '!E44","v":0},null,null,null,{"$f":"'APPEL '!O44","v":0},{"$f":"'APPEL '!R44","v":0},{"$f":"'APPEL '!J44","v":0},null,null,null,null,{"$f":"'APPEL '!BH44","v":0},null,null,null,null,null,0,"23-25,9","24-31,9","24-27,9",null,null,null,null,null,null,null,null,{"$f":"'APPEL '!AC44","v":0},null,null,null,null,null,null,null,null,null,null,null,null,null,null,null,null,null,null,null,null,null,null,null,null,null,null,null,null,null,null,null,null,null,null,null,null,null,null,null,null,null,null,null,null,null,null,null,null,null,null,null,null,null,null,null,null,null,null,null,null,null,null,null,null,null,null,{"$f":"'APPEL '!AH44","v":0}]
[{"$f":"'APPEL '!A45","v":18},{"$f":"'APPEL '!B45","v":0},{"$f":"'APPEL '!E45","v":0},null,null,null,{"$f":"'APPEL '!O45","v":0},{"$f":"'APPEL '!R45","v":0},{"$f":"'APPEL '!J45","v":0},null,null,null,null,{"$f":"'APPEL '!BH45","v":0},null,null,null,null,null,0,"23-25,9","24-31,9","24-27,9",null,null,null,null,null,null,null,null,{"$f":"'APPEL '!AC45","v":0},null,null,null,null,null,null,null,null,null,null,null,null,null,null,null,null,null,null,null,null,null,null,null,null,null,null,null,null,null,null,null,null,null,null,null,null,null,null,null,null,null,null,null,null,null,null,null,null,null,null,null,null,null,null,null,null,null,null,null,null,null,null,null,null,null,null,{"$f":"'APPEL '!AH45","v":0}]
[{"$f":"'APPEL '!A46","v":18},{"$f":"'APPEL '!B46","v":0},{"$f":"'APPEL '!E46","v":0},null,null,null,{"$f":"'APPEL '!O46","v":0},{"$f":"'APPEL '!R46","v":0},{"$f":"'APPEL '!J46","v":0},null,null,null,null,{"$f":"'APPEL '!BH46","v":0},null,null,null,null,null,0,"23-25,9","24-31,9","24-27,9",null,null,null,null,null,null,null,null,{"$f":"'APPEL '!AC46","v":0},null,null,null,null,null,null,null,null,null,null,null,null,null,null,null,null,null,null,null,null,null,null,null,null,null,null,null,null,null,null,null,null,null,null,null,null,null,null,null,null,null,null,null,null,null,null,null,null,null,null,null,null,null,null,null,null,null,null,null,null,null,null,null,null,null,null,{"$f":"'APPEL '!AH46","v":0}]
[{"$f":"'APPEL '!A47","v":18},{"$f":"'APPEL '!B47","v":0},{"$f":"'APPEL '!E47","v":0},null,null,null,{"$f":"'APPEL '!O47","v":0},{"$f":"'APPEL '!R47","v":0},{"$f":"'APPEL '!J47","v":0},null,null,null,null,{"$f":"'APPEL '!BH47","v":0},null,null,null,null,null,0,"23-25,9","24-31,9","24-27,9",null,null,null,null,null,null,null,null,{"$f":"'APPEL '!AC47","v":0},null,null,null,null,null,null,null,null,null,null,null,null,null,null,null,null,null,null,null,null,null,null,null,null,null,null,null,null,null,null,null,null,null,null,null,null,null,null,null,null,null,null,null,null,null,null,null,null,null,null,null,null,null,null,null,null,null,null,null,null,null,null,null,null,null,null,{"$f":"'APPEL '!AH47","v":0}]
[{"$f":"'APPEL '!A48","v":18},{"$f":"'APPEL '!B48","v":0},{"$f":"'APPEL '!E48","v":0},null,null,null,{"$f":"'APPEL '!O48","v":0},{"$f":"'APPEL '!R48","v":0},{"$f":"'APPEL '!J48","v":0},null,null,null,null,{"$f":"'APPEL '!BH48","v":0},null,null,null,null,null,0,"23-25,9","24-31,9","24-27,9",null,null,null,null,null,null,null,null,{"$f":"'APPEL '!AC48","v":0},null,null,null,null,null,null,null,null,null,null,null,null,null,null,null,null,null,null,null,null,null,null,null,null,null,null,null,null,null,null,null,null,null,null,null,null,null,null,null,null,null,null,null,null,null,null,null,null,null,null,null,null,null,null,null,null,null,null,null,null,null,null,null,null,null,null,{"$f":"'APPEL '!AH48","v":0}]
[{"$f":"'APPEL '!A49","v":18},{"$f":"'APPEL '!B49","v":0},{"$f":"'APPEL '!E49","v":0},null,null,null,{"$f":"'APPEL '!O49","v":0},{"$f":"'APPEL '!R49","v":0},{"$f":"'APPEL '!J49","v":0},null,null,null,null,{"$f":"'APPEL '!BH49","v":0},null,null,null,null,null,0,"23-25,9","24-31,9","24-27,9",null,null,null,null,null,null,null,null,{"$f":"'APPEL '!AC49","v":0},null,null,null,null,null,null,null,null,null,null,null,null,null,null,null,null,null,null,null,null,null,null,null,null,null,null,null,null,null,null,null,null,null,null,null,null,null,null,null,null,null,null,null,null,null,null,null,null,null,null,null,null,null,null,null,null,null,null,null,null,null,null,null,null,null,null,{"$f":"'APPEL '!AH49","v":0}]
[{"$f":"'APPEL '!A50","v":18},{"$f":"'APPEL '!B50","v":0},{"$f":"'APPEL '!E50","v":0},null,null,null,{"$f":"'APPEL '!O50","v":0},{"$f":"'APPEL '!R50","v":0},{"$f":"'APPEL '!J50","v":0},null,null,null,null,{"$f":"'APPEL '!BH50","v":0},null,null,null,null,null,0,"23-25,9","24-31,9","24-27,9",null,null,null,null,null,null,null,null,{"$f":"'APPEL '!AC50","v":0},null,null,null,null,null,null,null,null,null,null,null,null,null,null,null,null,null,null,null,null,null,null,null,null,null,null,null,null,null,null,null,null,null,null,null,null,null,null,null,null,null,null,null,null,null,null,null,null,null,null,null,null,null,null,null,null,null,null,null,null,null,null,null,null,null,null,{"$f":"'APPEL '!AH50","v":0}]
[{"$f":"'APPEL '!A51","v":18},{"$f":"'APPEL '!B51","v":0},{"$f":"'APPEL '!E51","v":0},null,null,null,{"$f":"'APPEL '!O51","v":0},{"$f":"'APPEL '!R51","v":0},{"$f":"'APPEL '!J51","v":0},null,null,null,null,{"$f":"'APPEL '!BH51","v":0},null,null,null,null,null,0,"23-25,9","24-31,9","24-27,9",null,null,null,null,null,null,null,null,{"$f":"'APPEL '!AC51","v":0},null,null,null,null,null,null,null,null,null,null,null,null,null,null,null,null,null,null,null,null,null,null,null,null,null,null,null,null,null,null,null,null,null,null,null,null,null,null,null,null,null,null,null,null,null,null,null,null,null,null,null,null,null,null,null,null,null,null,null,null,null,null,null,null,null,null,{"$f":"'APPEL '!AH51","v":0}]
[{"$f":"'APPEL '!A52","v":18},{"$f":"'APPEL '!B52","v":0},{"$f":"'APPEL '!E52","v":0},null,null,null,{"$f":"'APPEL '!O52","v":0},{"$f":"'APPEL '!R52","v":0},{"$f":"'APPEL '!J52","v":0},null,null,null,null,{"$f":"'APPEL '!BH52","v":0},null,null,null,null,null,0,"23-25,9","24-31,9","24-27,9",null,null,null,null,null,null,null,null,{"$f":"'APPEL '!AC52","v":0},null,null,null,null,null,null,null,null,null,null,null,null,null,null,null,null,null,null,null,null,null,null,null,null,null,null,null,null,null,null,null,null,null,null,null,null,null,null,null,null,null,null,null,null,null,null,null,null,null,null,null,null,null,null,null,null,null,null,null,null,null,null,null,null,null,null,{"$f":"'APPEL '!AH52","v":0}]
[{"$f":"'APPEL '!A53","v":18},{"$f":"'APPEL '!B53","v":0},{"$f":"'APPEL '!E53","v":0},null,null,null,{"$f":"'APPEL '!O53","v":0},{"$f":"'APPEL '!R53","v":0},{"$f":"'APPEL '!J53","v":0},null,null,null,null,{"$f":"'APPEL '!BH53","v":0},null,null,null,null,null,0,"23-25,9","24-31,9","24-27,9",null,null,null,null,null,null,null,null,{"$f":"'APPEL '!AC53","v":0},null,null,null,null,null,null,null,null,null,null,null,null,null,null,null,null,null,null,null,null,null,null,null,null,null,null,null,null,null,null,null,null,null,null,null,null,null,null,null,null,null,null,null,null,null,null,null,null,null,null,null,null,null,null,null,null,null,null,null,null,null,null,null,null,null,null,{"$f":"'APPEL '!AH53","v":0}]
[{"$f":"'APPEL '!A54","v":18},{"$f":"'APPEL '!B54","v":0},{"$f":"'APPEL '!E54","v":0},null,null,null,{"$f":"'APPEL '!O54","v":0},{"$f":"'APPEL '!R54","v":0},{"$f":"'APPEL '!J54","v":0},null,null,null,null,{"$f":"'APPEL '!BH54","v":0},null,null,null,null,null,0,"23-25,9","24-31,9","24-27,9",null,null,null,null,null,null,null,null,{"$f":"'APPEL '!AC54","v":0},null,null,null,null,null,null,null,null,null,null,null,null,null,null,null,null,null,null,null,null,null,null,null,null,null,null,null,null,null,null,null,null,null,null,null,null,null,null,null,null,null,null,null,null,null,null,null,null,null,null,null,null,null,null,null,null,null,null,null,null,null,null,null,null,null,null,{"$f":"'APPEL '!AH54","v":0}]
[{"$f":"'APPEL '!A55","v":18},{"$f":"'APPEL '!B55","v":0},{"$f":"'APPEL '!E55","v":0},null,null,null,{"$f":"'APPEL '!O55","v":0},{"$f":"'APPEL '!R55","v":0},{"$f":"'APPEL '!J55","v":0},null,null,null,null,{"$f":"'APPEL '!BH55","v":0},null,null,null,null,null,0,"23-25,9","24-31,9","24-27,9",null,null,null,null,null,null,null,null,{"$f":"'APPEL '!AC55","v":0},null,null,null,null,null,null,null,null,null,null,null,null,null,null,null,null,null,null,null,null,null,null,null,null,null,null,null,null,null,null,null,null,null,null,null,null,null,null,null,null,null,null,null,null,null,null,null,null,null,null,null,null,null,null,null,null,null,null,null,null,null,null,null,null,null,null,{"$f":"'APPEL '!AH55","v":0}]
[{"$f":"'APPEL '!A56","v":18},{"$f":"'APPEL '!B56","v":0},{"$f":"'APPEL '!E56","v":0},null,null,null,{"$f":"'APPEL '!O56","v":0},{"$f":"'APPEL '!R56","v":0},{"$f":"'APPEL '!J56","v":0},null,null,null,null,{"$f":"'APPEL '!BH56","v":0},null,null,null,null,null,0,"23-25,9","24-31,9","24-27,9",null,null,null,null,null,null,null,null,{"$f":"'APPEL '!AC56","v":0},null,null,null,null,null,null,null,null,null,null,null,null,null,null,null,null,null,null,null,null,null,null,null,null,null,null,null,null,null,null,null,null,null,null,null,null,null,null,null,null,null,null,null,null,null,null,null,null,null,null,null,null,null,null,null,null,null,null,null,null,null,null,null,null,null,null,{"$f":"'APPEL '!AH56","v":0}]
[{"$f":"'APPEL '!A57","v":18},{"$f":"'APPEL '!B57","v":0},{"$f":"'APPEL '!E57","v":0},null,null,null,{"$f":"'APPEL '!O57","v":0},{"$f":"'APPEL '!R57","v":0},{"$f":"'APPEL '!J57","v":0},null,null,null,null,{"$f":"'APPEL '!BH57","v":0},null,null,null,null,null,0,"23-25,9","24-31,9","24-27,9",null,null,null,null,null,null,null,null,{"$f":"'APPEL '!AC57","v":0},null,null,null,null,null,null,null,null,null,null,null,null,null,null,null,null,null,null,null,null,null,null,null,null,null,null,null,null,null,null,null,null,null,null,null,null,null,null,null,null,null,null,null,null,null,null,null,null,null,null,null,null,null,null,null,null,null,null,null,null,null,null,null,null,null,null,{"$f":"'APPEL '!AH57","v":0}]
[{"$f":"'APPEL '!A58","v":18},{"$f":"'APPEL '!B58","v":0},{"$f":"'APPEL '!E58","v":0},null,null,null,{"$f":"'APPEL '!O58","v":0},{"$f":"'APPEL '!R58","v":0},{"$f":"'APPEL '!J58","v":0},null,null,null,null,{"$f":"'APPEL '!BH58","v":0},null,null,null,null,null,0,"23-25,9","24-31,9","24-27,9",null,null,null,null,null,null,null,null,{"$f":"'APPEL '!AC58","v":0},null,null,null,null,null,null,null,null,null,null,null,null,null,null,null,null,null,null,null,null,null,null,null,null,null,null,null,null,null,null,null,null,null,null,null,null,null,null,null,null,null,null,null,null,null,null,null,null,null,null,null,null,null,null,null,null,null,null,null,null,null,null,null,null,null,null,{"$f":"'APPEL '!AH58","v":0}]
[{"$f":"'APPEL '!A59","v":18},{"$f":"'APPEL '!B59","v":0},{"$f":"'APPEL '!E59","v":0},null,null,null,{"$f":"'APPEL '!O59","v":0},{"$f":"'APPEL '!R59","v":0},{"$f":"'APPEL '!J59","v":0},null,null,null,null,{"$f":"'APPEL '!BH59","v":0},null,null,null,null,null,0,"23-25,9","24-31,9","24-27,9",null,null,null,null,null,null,null,null,{"$f":"'APPEL '!AC59","v":0},null,null,null,null,null,null,null,null,null,null,null,null,null,null,null,null,null,null,null,null,null,null,null,null,null,null,null,null,null,null,null,null,null,null,null,null,null,null,null,null,null,null,null,null,null,null,null,null,null,null,null,null,null,null,null,null,null,null,null,null,null,null,null,null,null,null,{"$f":"'APPEL '!AH59","v":0}]
[{"$f":"'APPEL '!A60","v":18},{"$f":"'APPEL '!B60","v":0},{"$f":"'APPEL '!E60","v":0},null,null,null,{"$f":"'APPEL '!O60","v":0},{"$f":"'APPEL '!R60","v":0},{"$f":"'APPEL '!J60","v":0},null,null,null,null,{"$f":"'APPEL '!BH60","v":0},null,null,null,null,null,0,"23-25,9","24-31,9","24-27,9",null,null,null,null,null,null,null,null,{"$f":"'APPEL '!AC60","v":0},null,null,null,null,null,null,null,null,null,null,null,null,null,null,null,null,null,null,null,null,null,null,null,null,null,null,null,null,null,null,null,null,null,null,null,null,null,null,null,null,null,null,null,null,null,null,null,null,null,null,null,null,null,null,null,null,null,null,null,null,null,null,null,null,null,null,{"$f":"'APPEL '!AH60","v":0}]
[{"$f":"'APPEL '!A61","v":18},{"$f":"'APPEL '!B61","v":0},{"$f":"'APPEL '!E61","v":0},null,null,null,{"$f":"'APPEL '!O61","v":0},{"$f":"'APPEL '!R61","v":0},{"$f":"'APPEL '!J61","v":0},null,null,null,null,{"$f":"'APPEL '!BH61","v":0},null,null,null,null,null,0,"23-25,9","24-31,9","24-27,9",null,null,null,null,null,null,null,null,{"$f":"'APPEL '!AC61","v":0},null,null,null,null,null,null,null,null,null,null,null,null,null,null,null,null,null,null,null,null,null,null,null,null,null,null,null,null,null,null,null,null,null,null,null,null,null,null,null,null,null,null,null,null,null,null,null,null,null,null,null,null,null,null,null,null,null,null,null,null,null,null,null,null,null,null,{"$f":"'APPEL '!AH61","v":0}]
[{"$f":"'APPEL '!A62","v":18},{"$f":"'APPEL '!B62","v":0},{"$f":"'APPEL '!E62","v":0},null,null,null,{"$f":"'APPEL '!O62","v":0},{"$f":"'APPEL '!R62","v":0},{"$f":"'APPEL '!J62","v":0},null,null,null,null,{"$f":"'APPEL '!BH62","v":0},null,null,null,null,null,0,"23-25,9","24-31,9","24-27,9",null,null,null,null,null,null,null,null,{"$f":"'APPEL '!AC62","v":0},null,null,null,null,null,null,null,null,null,null,null,null,null,null,null,null,null,null,null,null,null,null,null,null,null,null,null,null,null,null,null,null,null,null,null,null,null,null,null,null,null,null,null,null,null,null,null,null,null,null,null,null,null,null,null,null,null,null,null,null,null,null,null,null,null,null,{"$f":"'APPEL '!AH62","v":0}]
[{"$f":"'APPEL '!A63","v":18},{"$f":"'APPEL '!B63","v":0},{"$f":"'APPEL '!E63","v":0},null,null,null,{"$f":"'APPEL '!O63","v":0},{"$f":"'APPEL '!R63","v":0},{"$f":"'APPEL '!J63","v":0},null,null,null,null,{"$f":"'APPEL '!BH63","v":0},null,null,null,null,null,0,"23-25,9","24-31,9","24-27,9",null,null,null,null,null,null,null,null,{"$f":"'APPEL '!AC63","v":0},null,null,null,null,null,null,null,null,null,null,null,null,null,null,null,null,null,null,null,null,null,null,null,null,null,null,null,null,null,null,null,null,null,null,null,null,null,null,null,null,null,null,null,null,null,null,null,null,null,null,null,null,null,null,null,null,null,null,null,null,null,null,null,null,null,null,{"$f":"'APPEL '!AH63","v":0}]
[{"$f":"'APPEL '!A64","v":18},{"$f":"'APPEL '!B64","v":0},{"$f":"'APPEL '!E64","v":0},null,null,null,{"$f":"'APPEL '!O64","v":0},{"$f":"'APPEL '!R64","v":0},{"$f":"'APPEL '!J64","v":0},null,null,null,null,{"$f":"'APPEL '!BH64","v":0},null,null,null,null,null,0,"23-25,9","24-31,9","24-27,9",null,null,null,null,null,null,null,null,{"$f":"'APPEL '!AC64","v":0},null,null,null,null,null,null,null,null,null,null,null,null,null,null,null,null,null,null,null,null,null,null,null,null,null,null,null,null,null,null,null,null,null,null,null,null,null,null,null,null,null,null,null,null,null,null,null,null,null,null,null,null,null,null,null,null,null,null,null,null,null,null,null,null,null,null,{"$f":"'APPEL '!AH64","v":0}]
[{"$f":"'APPEL '!A65","v":18},{"$f":"'APPEL '!B65","v":0},{"$f":"'APPEL '!E65","v":0},null,null,null,{"$f":"'APPEL '!O65","v":0},{"$f":"'APPEL '!R65","v":0},{"$f":"'APPEL '!J65","v":0},null,null,null,null,{"$f":"'APPEL '!BH65","v":0},null,null,null,null,null,0,"23-25,9","24-31,9","24-27,9",null,null,null,null,null,null,null,null,{"$f":"'APPEL '!AC65","v":0},null,null,null,null,null,null,null,null,null,null,null,null,null,null,null,null,null,null,null,null,null,null,null,null,null,null,null,null,null,null,null,null,null,null,null,null,null,null,null,null,null,null,null,null,null,null,null,null,null,null,null,null,null,null,null,null,null,null,null,null,null,null,null,null,null,null,{"$f":"'APPEL '!AH65","v":0}]
[{"$f":"'APPEL '!A66","v":18},{"$f":"'APPEL '!B66","v":0},{"$f":"'APPEL '!E66","v":0},null,null,null,{"$f":"'APPEL '!O66","v":0},{"$f":"'APPEL '!R66","v":0},{"$f":"'APPEL '!J66","v":0},null,null,null,null,{"$f":"'APPEL '!BH66","v":0},null,null,null,null,null,0,"23-25,9","24-31,9","24-27,9",null,null,null,null,null,null,null,null,{"$f":"'APPEL '!AC66","v":0},null,null,null,null,null,null,null,null,null,null,null,null,null,null,null,null,null,null,null,null,null,null,null,null,null,null,null,null,null,null,null,null,null,null,null,null,null,null,null,null,null,null,null,null,null,null,null,null,null,null,null,null,null,null,null,null,null,null,null,null,null,null,null,null,null,null,{"$f":"'APPEL '!AH66","v":0}]
[{"$f":"'APPEL '!A67","v":18},{"$f":"'APPEL '!B67","v":0},{"$f":"'APPEL '!E67","v":0},null,null,null,{"$f":"'APPEL '!O67","v":0},{"$f":"'APPEL '!R67","v":0},{"$f":"'APPEL '!J67","v":0},null,null,null,null,{"$f":"'APPEL '!BH67","v":0},null,null,null,null,null,{"$f":"R67+(S67/7)","v":0},{"$f":"IF(T67<25.9,\"23-25,9\",IF(T67<27.9,\"26-27,9\",IF(T67<31.9,\"28-31,9\",IF(T67<34.9,\"32-34,9\",IF(T67<36.9,\"35-36,9\",IF(T67<40.2,\"37-40,2\",IF(T67<42,\"40,3-42\",IF(T67>42,\">42\"))))))))","v":"23-25,9"},{"$f":"IF(T67<31.9,\"24-31,9\",IF(T67<42,\"32-42\",IF(T67>=42,\">42\")))","v":"24-31,9"},{"$f":"IF(T67<27.9,\"24-27,9\",IF(T67<42,\"28-42\",IF(T67>=42,\">42\")))","v":"24-27,9"},null,null,null,null,null,null,null,null,{"$f":"'APPEL '!AC67","v":0},null,null,null,null,null,null,null,null,null,null,null,null,null,null,null,null,null,null,null,null,null,null,null,null,null,null,null,null,null,null,null,null,null,null,null,null,null,null,null,null,null,null,null,null,null,null,null,null,null,null,null,null,null,null,null,null,null,null,null,null,null,null,null,null,null,null,{"$f":"'APPEL '!AH67","v":0}]
[{"$f":"'APPEL '!A68","v":18},{"$f":"'APPEL '!B68","v":0},{"$f":"'APPEL '!E68","v":0},null,null,null,{"$f":"'APPEL '!O68","v":0},{"$f":"'APPEL '!R68","v":0},{"$f":"'APPEL '!J68","v":0},null,null,null,null,{"$f":"'APPEL '!BH68","v":0},null,null,null,null,null,0,"23-25,9","24-31,9","24-27,9",null,null,null,null,null,null,null,null,{"$f":"'APPEL '!AC68","v":0},null,null,null,null,null,null,null,null,null,null,null,null,null,null,null,null,null,null,null,null,null,null,null,null,null,null,null,null,null,null,null,null,null,null,null,null,null,null,null,null,null,null,null,null,null,null,null,null,null,null,null,null,null,null,null,null,null,null,null,null,null,null,null,null,null,null,{"$f":"'APPEL '!AH68","v":0}]
[{"$f":"'APPEL '!A69","v":18},{"$f":"'APPEL '!B69","v":0},{"$f":"'APPEL '!E69","v":0},null,null,null,{"$f":"'APPEL '!O69","v":0},{"$f":"'APPEL '!R69","v":0},{"$f":"'APPEL '!J69","v":0},null,null,null,null,{"$f":"'APPEL '!BH69","v":0},null,null,null,null,null,0,"23-25,9","24-31,9","24-27,9",null,null,null,null,null,null,null,null,{"$f":"'APPEL '!AC69","v":0},null,null,null,null,null,null,null,null,null,null,null,null,null,null,null,null,null,null,null,null,null,null,null,null,null,null,null,null,null,null,null,null,null,null,null,null,null,null,null,null,null,null,null,null,null,null,null,null,null,null,null,null,null,null,null,null,null,null,null,null,null,null,null,null,null,null,{"$f":"'APPEL '!AH69","v":0}]
[{"$f":"'APPEL '!A70","v":18},{"$f":"'APPEL '!B70","v":0},{"$f":"'APPEL '!E70","v":0},null,null,null,{"$f":"'APPEL '!O70","v":0},{"$f":"'APPEL '!R70","v":0},{"$f":"'APPEL '!J70","v":0},null,null,null,null,{"$f":"'APPEL '!BH70","v":0},null,null,null,null,null,0,"23-25,9","24-31,9","24-27,9",null,null,null,null,null,null,null,null,{"$f":"'APPEL '!AC70","v":0},null,null,null,null,null,null,null,null,null,null,null,null,null,null,null,null,null,null,null,null,null,null,null,null,null,null,null,null,null,null,null,null,null,null,null,null,null,null,null,null,null,null,null,null,null,null,null,null,null,null,null,null,null,null,null,null,null,null,null,null,null,null,null,null,null,null,{"$f":"'APPEL '!AH70","v":0}]
[{"$f":"'APPEL '!A71","v":18},{"$f":"'APPEL '!B71","v":0},{"$f":"'APPEL '!E71","v":0},null,null,null,{"$f":"'APPEL '!O71","v":0},{"$f":"'APPEL '!R71","v":0},{"$f":"'APPEL '!J71","v":0},null,null,null,null,{"$f":"'APPEL '!BH71","v":0},null,null,null,null,null,0,"23-25,9","24-31,9","24-27,9",null,null,null,null,null,null,null,null,{"$f":"'APPEL '!AC71","v":0},null,null,null,null,null,null,null,null,null,null,null,null,null,null,null,null,null,null,null,null,null,null,null,null,null,null,null,null,null,null,null,null,null,null,null,null,null,null,null,null,null,null,null,null,null,null,null,null,null,null,null,null,null,null,null,null,null,null,null,null,null,null,null,null,null,null,{"$f":"'APPEL '!AH71","v":0}]
[{"$f":"'APPEL '!A72","v":18},{"$f":"'APPEL '!B72","v":0},{"$f":"'APPEL '!E72","v":0},null,null,null,{"$f":"'APPEL '!O72","v":0},{"$f":"'APPEL '!R72","v":0},{"$f":"'APPEL '!J72","v":0},null,null,null,null,{"$f":"'APPEL '!BH72","v":0},null,null,null,null,null,0,"23-25,9","24-31,9","24-27,9",null,null,null,null,null,null,null,null,{"$f":"'APPEL '!AC72","v":0},null,null,null,null,null,null,null,null,null,null,null,null,null,null,null,null,null,null,null,null,null,null,null,null,null,null,null,null,null,null,null,null,null,null,null,null,null,null,null,null,null,null,null,null,null,null,null,null,null,null,null,null,null,null,null,null,null,null,null,null,null,null,null,null,null,null,{"$f":"'APPEL '!AH72","v":0}]
[{"$f":"'APPEL '!A73","v":18},{"$f":"'APPEL '!B73","v":0},{"$f":"'APPEL '!E73","v":0},null,null,null,{"$f":"'APPEL '!O73","v":0},{"$f":"'APPEL '!R73","v":0},{"$f":"'APPEL '!J73","v":0},null,null,null,null,{"$f":"'APPEL '!BH73","v":0},null,null,null,null,null,0,"23-25,9","24-31,9","24-27,9",null,null,null,null,null,null,null,null,{"$f":"'APPEL '!AC73","v":0},null,null,null,null,null,null,null,null,null,null,null,null,null,null,null,null,null,null,null,null,null,null,null,null,null,null,null,null,null,null,null,null,null,null,null,null,null,null,null,null,null,null,null,null,null,null,null,null,null,null,null,null,null,null,null,null,null,null,null,null,null,null,null,null,null,null,{"$f":"'APPEL '!AH73","v":0}]
[{"$f":"'APPEL '!A74","v":18},{"$f":"'APPEL '!B74","v":0},{"$f":"'APPEL '!E74","v":0},null,null,null,{"$f":"'APPEL '!O74","v":0},{"$f":"'APPEL '!R74","v":0},{"$f":"'APPEL '!J74","v":0},null,null,null,null,{"$f":"'APPEL '!BH74","v":0},null,null,null,null,null,0,"23-25,9","24-31,9","24-27,9",null,null,null,null,null,null,null,null,{"$f":"'APPEL '!AC74","v":0},null,null,null,null,null,null,null,null,null,null,null,null,null,null,null,null,null,null,null,null,null,null,null,null,null,null,null,null,null,null,null,null,null,null,null,null,null,null,null,null,null,null,null,null,null,null,null,null,null,null,null,null,null,null,null,null,null,null,null,null,null,null,null,null,null,null,{"$f":"'APPEL '!AH74","v":0}]
[{"$f":"'APPEL '!A75","v":18},{"$f":"'APPEL '!B75","v":0},{"$f":"'APPEL '!E75","v":0},null,null,null,{"$f":"'APPEL '!O75","v":0},{"$f":"'APPEL '!R75","v":0},{"$f":"'APPEL '!J75","v":0},null,null,null,null,{"$f":"'APPEL '!BH75","v":0},null,null,null,null,null,0,"23-25,9","24-31,9","24-27,9",null,null,null,null,null,null,null,null,{"$f":"'APPEL '!AC75","v":0},null,null,null,null,null,null,null,null,null,null,null,null,null,null,null,null,null,null,null,null,null,null,null,null,null,null,null,null,null,null,null,null,null,null,null,null,null,null,null,null,null,null,null,null,null,null,null,null,null,null,null,null,null,null,null,null,null,null,null,null,null,null,null,null,null,null,{"$f":"'APPEL '!AH75","v":0}]
[{"$f":"'APPEL '!A76","v":18},{"$f":"'APPEL '!B76","v":0},{"$f":"'APPEL '!E76","v":0},null,null,null,{"$f":"'APPEL '!O76","v":0},{"$f":"'APPEL '!R76","v":0},{"$f":"'APPEL '!J76","v":0},null,null,null,null,{"$f":"'APPEL '!BH76","v":0},null,null,null,null,null,0,"23-25,9","24-31,9","24-27,9",null,null,null,null,null,null,null,null,{"$f":"'APPEL '!AC76","v":0},null,null,null,null,null,null,null,null,null,null,null,null,null,null,null,null,null,null,null,null,null,null,null,null,null,null,null,null,null,null,null,null,null,null,null,null,null,null,null,null,null,null,null,null,null,null,null,null,null,null,null,null,null,null,null,null,null,null,null,null,null,null,null,null,null,null,{"$f":"'APPEL '!AH76","v":0}]
[{"$f":"'APPEL '!A77","v":18},{"$f":"'APPEL '!B77","v":0},{"$f":"'APPEL '!E77","v":0},null,null,null,{"$f":"'APPEL '!O77","v":0},{"$f":"'APPEL '!R77","v":0},{"$f":"'APPEL '!J77","v":0},null,null,null,null,{"$f":"'APPEL '!BH77","v":0},null,null,null,null,null,0,"23-25,9","24-31,9","24-27,9",null,null,null,null,null,null,null,null,{"$f":"'APPEL '!AC77","v":0},null,null,null,null,null,null,null,null,null,null,null,null,null,null,null,null,null,null,null,null,null,null,null,null,null,null,null,null,null,null,null,null,null,null,null,null,null,null,null,null,null,null,null,null,null,null,null,null,null,null,null,null,null,null,null,null,null,null,null,null,null,null,null,null,null,null,{"$f":"'APPEL '!AH77","v":0}]
[{"$f":"'APPEL '!A78","v":18},{"$f":"'APPEL '!B78","v":0},{"$f":"'APPEL '!E78","v":0},null,null,null,{"$f":"'APPEL '!O78","v":0},{"$f":"'APPEL '!R78","v":0},{"$f":"'APPEL '!J78","v":0},null,null,null,null,{"$f":"'APPEL '!BH78","v":0},null,null,null,null,null,0,"23-25,9","24-31,9","24-27,9",null,null,null,null,null,null,null,null,{"$f":"'APPEL '!AC78","v":0},null,null,null,null,null,null,null,null,null,null,null,null,null,null,null,null,null,null,null,null,null,null,null,null,null,null,null,null,null,null,null,null,null,null,null,null,null,null,null,null,null,null,null,null,null,null,null,null,null,null,null,null,null,null,null,null,null,null,null,null,null,null,null,null,null,null,{"$f":"'APPEL '!AH78","v":0}]
[{"$f":"'APPEL '!A79","v":18},{"$f":"'APPEL '!B79","v":0},{"$f":"'APPEL '!E79","v":0},null,null,null,{"$f":"'APPEL '!O79","v":0},{"$f":"'APPEL '!R79","v":0},{"$f":"'APPEL '!J79","v":0},null,null,null,null,{"$f":"'APPEL '!BH79","v":0},null,null,null,null,null,0,"23-25,9","24-31,9","24-27,9",null,null,null,null,null,null,null,null,{"$f":"'APPEL '!AC79","v":0},null,null,null,null,null,null,null,null,null,null,null,null,null,null,null,null,null,null,null,null,null,null,null,null,null,null,null,null,null,null,null,null,null,null,null,null,null,null,null,null,null,null,null,null,null,null,null,null,null,null,null,null,null,null,null,null,null,null,null,null,null,null,null,null,null,null,{"$f":"'APPEL '!AH79","v":0}]
[{"$f":"'APPEL '!A80","v":18},{"$f":"'APPEL '!B80","v":0},{"$f":"'APPEL '!E80","v":0},null,null,null,{"$f":"'APPEL '!O80","v":0},{"$f":"'APPEL '!R80","v":0},{"$f":"'APPEL '!J80","v":0},null,null,null,null,{"$f":"'APPEL '!BH80","v":0},null,null,null,null,null,0,"23-25,9","24-31,9","24-27,9",null,null,null,null,null,null,null,null,{"$f":"'APPEL '!AC80","v":0},null,null,null,null,null,null,null,null,null,null,null,null,null,null,null,null,null,null,null,null,null,null,null,null,null,null,null,null,null,null,null,null,null,null,null,null,null,null,null,null,null,null,null,null,null,null,null,null,null,null,null,null,null,null,null,null,null,null,null,null,null,null,null,null,null,null,{"$f":"'APPEL '!AH80","v":0}]
[{"$f":"'APPEL '!A81","v":18},{"$f":"'APPEL '!B81","v":0},{"$f":"'APPEL '!E81","v":0},null,null,null,{"$f":"'APPEL '!O81","v":0},{"$f":"'APPEL '!R81","v":0},{"$f":"'APPEL '!J81","v":0},null,null,null,null,{"$f":"'APPEL '!BH81","v":0},null,null,null,null,null,0,"23-25,9","24-31,9","24-27,9",null,null,null,null,null,null,null,null,{"$f":"'APPEL '!AC81","v":0},null,null,null,null,null,null,null,null,null,null,null,null,null,null,null,null,null,null,null,null,null,null,null,null,null,null,null,null,null,null,null,null,null,null,null,null,null,null,null,null,null,null,null,null,null,null,null,null,null,null,null,null,null,null,null,null,null,null,null,null,null,null,null,null,null,null,{"$f":"'APPEL '!AH81","v":0}]
[{"$f":"'APPEL '!A82","v":18},{"$f":"'APPEL '!B82","v":0},{"$f":"'APPEL '!E82","v":0},null,null,null,{"$f":"'APPEL '!O82","v":0},{"$f":"'APPEL '!R82","v":0},{"$f":"'APPEL '!J82","v":0},null,null,null,null,{"$f":"'APPEL '!BH82","v":0},null,null,null,null,null,0,"23-25,9","24-31,9","24-27,9",null,null,null,null,null,null,null,null,{"$f":"'APPEL '!AC82","v":0},null,null,null,null,null,null,null,null,null,null,null,null,null,null,null,null,null,null,null,null,null,null,null,null,null,null,null,null,null,null,null,null,null,null,null,null,null,null,null,null,null,null,null,null,null,null,null,null,null,null,null,null,null,null,null,null,null,null,null,null,null,null,null,null,null,null,{"$f":"'APPEL '!AH82","v":0}]
[{"$f":"'APPEL '!A83","v":18},{"$f":"'APPEL '!B83","v":0},{"$f":"'APPEL '!E83","v":0},null,null,null,{"$f":"'APPEL '!O83","v":0},{"$f":"'APPEL '!R83","v":0},{"$f":"'APPEL '!J83","v":0},null,null,null,null,{"$f":"'APPEL '!BH83","v":0},null,null,null,null,null,0,"23-25,9","24-31,9","24-27,9",null,null,null,null,null,null,null,null,{"$f":"'APPEL '!AC83","v":0},null,null,null,null,null,null,null,null,null,null,null,null,null,null,null,null,null,null,null,null,null,null,null,null,null,null,null,null,null,null,null,null,null,null,null,null,null,null,null,null,null,null,null,null,null,null,null,null,null,null,null,null,null,null,null,null,null,null,null,null,null,null,null,null,null,null,{"$f":"'APPEL '!AH83","v":0}]
[{"$f":"'APPEL '!A84","v":18},{"$f":"'APPEL '!B84","v":0},{"$f":"'APPEL '!E84","v":0},null,null,null,{"$f":"'APPEL '!O84","v":0},{"$f":"'APPEL '!R84","v":0},{"$f":"'APPEL '!J84","v":0},null,null,null,null,{"$f":"'APPEL '!BH84","v":0},null,null,null,null,null,0,"23-25,9","24-31,9","24-27,9",null,null,null,null,null,null,null,null,{"$f":"'APPEL '!AC84","v":0},null,null,null,null,null,null,null,null,null,null,null,null,null,null,null,null,null,null,null,null,null,null,null,null,null,null,null,null,null,null,null,null,null,null,null,null,null,null,null,null,null,null,null,null,null,null,null,null,null,null,null,null,null,null,null,null,null,null,null,null,null,null,null,null,null,null,{"$f":"'APPEL '!AH84","v":0}]
[{"$f":"'APPEL '!A85","v":18},{"$f":"'APPEL '!B85","v":0},{"$f":"'APPEL '!E85","v":0},null,null,null,{"$f":"'APPEL '!O85","v":0},{"$f":"'APPEL '!R85","v":0},{"$f":"'APPEL '!J85","v":0},null,null,null,null,{"$f":"'APPEL '!BH85","v":0},null,null,null,null,null,0,"23-25,9","24-31,9","24-27,9",null,null,null,null,null,null,null,null,{"$f":"'APPEL '!AC85","v":0},null,null,null,null,null,null,null,null,null,null,null,null,null,null,null,null,null,null,null,null,null,null,null,null,null,null,null,null,null,null,null,null,null,null,null,null,null,null,null,null,null,null,null,null,null,null,null,null,null,null,null,null,null,null,null,null,null,null,null,null,null,null,null,null,null,null,{"$f":"'APPEL '!AH85","v":0}]
[{"$f":"'APPEL '!A86","v":18},{"$f":"'APPEL '!B86","v":0},{"$f":"'APPEL '!E86","v":0},null,null,null,{"$f":"'APPEL '!O86","v":0},{"$f":"'APPEL '!R86","v":0},{"$f":"'APPEL '!J86","v":0},null,null,null,null,{"$f":"'APPEL '!BH86","v":0},null,null,null,null,null,0,"23-25,9","24-31,9","24-27,9",null,null,null,null,null,null,null,null,{"$f":"'APPEL '!AC86","v":0},null,null,null,null,null,null,null,null,null,null,null,null,null,null,null,null,null,null,null,null,null,null,null,null,null,null,null,null,null,null,null,null,null,null,null,null,null,null,null,null,null,null,null,null,null,null,null,null,null,null,null,null,null,null,null,null,null,null,null,null,null,null,null,null,null,null,{"$f":"'APPEL '!AH86","v":0}]
[{"$f":"'APPEL '!A87","v":18},{"$f":"'APPEL '!B87","v":0},{"$f":"'APPEL '!E87","v":0},null,null,null,{"$f":"'APPEL '!O87","v":0},{"$f":"'APPEL '!R87","v":0},{"$f":"'APPEL '!J87","v":0},null,null,null,null,{"$f":"'APPEL '!BH87","v":0},null,null,null,null,null,0,"23-25,9","24-31,9","24-27,9",null,null,null,null,null,null,null,null,{"$f":"'APPEL '!AC87","v":0},null,null,null,null,null,null,null,null,null,null,null,null,null,null,null,null,null,null,null,null,null,null,null,null,null,null,null,null,null,null,null,null,null,null,null,null,null,null,null,null,null,null,null,null,null,null,null,null,null,null,null,null,null,null,null,null,null,null,null,null,null,null,null,null,null,null,{"$f":"'APPEL '!AH87","v":0}]
[{"$f":"'APPEL '!A88","v":18},{"$f":"'APPEL '!B88","v":0},{"$f":"'APPEL '!E88","v":0},null,null,null,{"$f":"'APPEL '!O88","v":0},{"$f":"'APPEL '!R88","v":0},{"$f":"'APPEL '!J88","v":0},null,null,null,null,{"$f":"'APPEL '!BH88","v":0},null,null,null,null,null,0,"23-25,9","24-31,9","24-27,9",null,null,null,null,null,null,null,null,{"$f":"'APPEL '!AC88","v":0},null,null,null,null,null,null,null,null,null,null,null,null,null,null,null,null,null,null,null,null,null,null,null,null,null,null,null,null,null,null,null,null,null,null,null,null,null,null,null,null,null,null,null,null,null,null,null,null,null,null,null,null,null,null,null,null,null,null,null,null,null,null,null,null,null,null,{"$f":"'APPEL '!AH88","v":0}]
[{"$f":"'APPEL '!A89","v":18},{"$f":"'APPEL '!B89","v":0},{"$f":"'APPEL '!E89","v":0},null,null,null,{"$f":"'APPEL '!O89","v":0},{"$f":"'APPEL '!R89","v":0},{"$f":"'APPEL '!J89","v":0},null,null,null,null,{"$f":"'APPEL '!BH89","v":0},null,null,null,null,null,0,"23-25,9","24-31,9","24-27,9",null,null,null,null,null,null,null,null,{"$f":"'APPEL '!AC89","v":0},null,null,null,null,null,null,null,null,null,null,null,null,null,null,null,null,null,null,null,null,null,null,null,null,null,null,null,null,null,null,null,null,null,null,null,null,null,null,null,null,null,null,null,null,null,null,null,null,null,null,null,null,null,null,null,null,null,null,null,null,null,null,null,null,null,null,{"$f":"'APPEL '!AH89","v":0}]
[{"$f":"'APPEL '!A90","v":18},{"$f":"'APPEL '!B90","v":0},{"$f":"'APPEL '!E90","v":0},null,null,null,{"$f":"'APPEL '!O90","v":0},{"$f":"'APPEL '!R90","v":0},{"$f":"'APPEL '!J90","v":0},null,null,null,null,{"$f":"'APPEL '!BH90","v":0},null,null,null,null,null,0,"23-25,9","24-31,9","24-27,9",null,null,null,null,null,null,null,null,{"$f":"'APPEL '!AC90","v":0},null,null,null,null,null,null,null,null,null,null,null,null,null,null,null,null,null,null,null,null,null,null,null,null,null,null,null,null,null,null,null,null,null,null,null,null,null,null,null,null,null,null,null,null,null,null,null,null,null,null,null,null,null,null,null,null,null,null,null,null,null,null,null,null,null,null,{"$f":"'APPEL '!AH90","v":0}]
[{"$f":"'APPEL '!A91","v":18},{"$f":"'APPEL '!B91","v":0},{"$f":"'APPEL '!E91","v":0},null,null,null,{"$f":"'APPEL '!O91","v":0},{"$f":"'APPEL '!R91","v":0},{"$f":"'APPEL '!J91","v":0},null,null,null,null,{"$f":"'APPEL '!BH91","v":0},null,null,null,null,null,0,"23-25,9","24-31,9","24-27,9",null,null,null,null,null,null,null,null,{"$f":"'APPEL '!AC91","v":0},null,null,null,null,null,null,null,null,null,null,null,null,null,null,null,null,null,null,null,null,null,null,null,null,null,null,null,null,null,null,null,null,null,null,null,null,null,null,null,null,null,null,null,null,null,null,null,null,null,null,null,null,null,null,null,null,null,null,null,null,null,null,null,null,null,null,{"$f":"'APPEL '!AH91","v":0}]
[{"$f":"'APPEL '!A92","v":18},{"$f":"'APPEL '!B92","v":0},{"$f":"'APPEL '!E92","v":0},null,null,null,{"$f":"'APPEL '!O92","v":0},{"$f":"'APPEL '!R92","v":0},{"$f":"'APPEL '!J92","v":0},null,null,null,null,{"$f":"'APPEL '!BH92","v":0},null,null,null,null,null,0,"23-25,9","24-31,9","24-27,9",null,null,null,null,null,null,null,null,{"$f":"'APPEL '!AC92","v":0},null,null,null,null,null,null,null,null,null,null,null,null,null,null,null,null,null,null,null,null,null,null,null,null,null,null,null,null,null,null,null,null,null,null,null,null,null,null,null,null,null,null,null,null,null,null,null,null,null,null,null,null,null,null,null,null,null,null,null,null,null,null,null,null,null,null,{"$f":"'APPEL '!AH92","v":0}]
[{"$f":"'APPEL '!A93","v":18},{"$f":"'APPEL '!B93","v":0},{"$f":"'APPEL '!E93","v":0},null,null,null,{"$f":"'APPEL '!O93","v":0},{"$f":"'APPEL '!R93","v":0},{"$f":"'APPEL '!J93","v":0},null,null,null,null,{"$f":"'APPEL '!BH93","v":0},null,null,null,null,null,0,"23-25,9","24-31,9","24-27,9",null,null,null,null,null,null,null,null,{"$f":"'APPEL '!AC93","v":0},null,null,null,null,null,null,null,null,null,null,null,null,null,null,null,null,null,null,null,null,null,null,null,null,null,null,null,null,null,null,null,null,null,null,null,null,null,null,null,null,null,null,null,null,null,null,null,null,null,null,null,null,null,null,null,null,null,null,null,null,null,null,null,null,null,null,{"$f":"'APPEL '!AH93","v":0}]
[{"$f":"'APPEL '!A94","v":18},{"$f":"'APPEL '!B94","v":0},{"$f":"'APPEL '!E94","v":0},null,null,null,{"$f":"'APPEL '!O94","v":0},{"$f":"'APPEL '!R94","v":0},{"$f":"'APPEL '!J94","v":0},null,null,null,null,{"$f":"'APPEL '!BH94","v":0},null,null,null,null,null,0,"23-25,9","24-31,9","24-27,9",null,null,null,null,null,null,null,null,{"$f":"'APPEL '!AC94","v":0},null,null,null,null,null,null,null,null,null,null,null,null,null,null,null,null,null,null,null,null,null,null,null,null,null,null,null,null,null,null,null,null,null,null,null,null,null,null,null,null,null,null,null,null,null,null,null,null,null,null,null,null,null,null,null,null,null,null,null,null,null,null,null,null,null,null,{"$f":"'APPEL '!AH94","v":0}]
[{"$f":"'APPEL '!A95","v":18},{"$f":"'APPEL '!B95","v":0},{"$f":"'APPEL '!E95","v":0},null,null,null,{"$f":"'APPEL '!O95","v":0},{"$f":"'APPEL '!R95","v":0},{"$f":"'APPEL '!J95","v":0},null,null,null,null,{"$f":"'APPEL '!BH95","v":0},null,null,null,null,null,0,"23-25,9","24-31,9","24-27,9",null,null,null,null,null,null,null,null,{"$f":"'APPEL '!AC95","v":0},null,null,null,null,null,null,null,null,null,null,null,null,null,null,null,null,null,null,null,null,null,null,null,null,null,null,null,null,null,null,null,null,null,null,null,null,null,null,null,null,null,null,null,null,null,null,null,null,null,null,null,null,null,null,null,null,null,null,null,null,null,null,null,null,null,null,{"$f":"'APPEL '!AH95","v":0}]
[{"$f":"'APPEL '!A96","v":18},{"$f":"'APPEL '!B96","v":0},{"$f":"'APPEL '!E96","v":0},null,null,null,{"$f":"'APPEL '!O96","v":0},{"$f":"'APPEL '!R96","v":0},{"$f":"'APPEL '!J96","v":0},null,null,null,null,{"$f":"'APPEL '!BH96","v":0},null,null,null,null,null,0,"23-25,9","24-31,9","24-27,9",null,null,null,null,null,null,null,null,{"$f":"'APPEL '!AC96","v":0},null,null,null,null,null,null,null,null,null,null,null,null,null,null,null,null,null,null,null,null,null,null,null,null,null,null,null,null,null,null,null,null,null,null,null,null,null,null,null,null,null,null,null,null,null,null,null,null,null,null,null,null,null,null,null,null,null,null,null,null,null,null,null,null,null,null,{"$f":"'APPEL '!AH96","v":0}]
[{"$f":"'APPEL '!A97","v":18},{"$f":"'APPEL '!B97","v":0},{"$f":"'APPEL '!E97","v":0},null,null,null,{"$f":"'APPEL '!O97","v":0},{"$f":"'APPEL '!R97","v":0},{"$f":"'APPEL '!J97","v":0},null,null,null,null,{"$f":"'APPEL '!BH97","v":0},null,null,null,null,null,0,"23-25,9","24-31,9","24-27,9",null,null,null,null,null,null,null,null,{"$f":"'APPEL '!AC97","v":0},null,null,null,null,null,null,null,null,null,null,null,null,null,null,null,null,null,null,null,null,null,null,null,null,null,null,null,null,null,null,null,null,null,null,null,null,null,null,null,null,null,null,null,null,null,null,null,null,null,null,null,null,null,null,null,null,null,null,null,null,null,null,null,null,null,null,{"$f":"'APPEL '!AH97","v":0}]
[{"$f":"'APPEL '!A98","v":18},{"$f":"'APPEL '!B98","v":0},{"$f":"'APPEL '!E98","v":0},null,null,null,{"$f":"'APPEL '!O98","v":0},{"$f":"'APPEL '!R98","v":0},{"$f":"'APPEL '!J98","v":0},null,null,null,null,{"$f":"'APPEL '!BH98","v":0},null,null,null,null,null,0,"23-25,9","24-31,9","24-27,9",null,null,null,null,null,null,null,null,{"$f":"'APPEL '!AC98","v":0},null,null,null,null,null,null,null,null,null,null,null,null,null,null,null,null,null,null,null,null,null,null,null,null,null,null,null,null,null,null,null,null,null,null,null,null,null,null,null,null,null,null,null,null,null,null,null,null,null,null,null,null,null,null,null,null,null,null,null,null,null,null,null,null,null,null,{"$f":"'APPEL '!AH98","v":0}]
[{"$f":"'APPEL '!A99","v":18},{"$f":"'APPEL '!B99","v":0},{"$f":"'APPEL '!E99","v":0},null,null,null,{"$f":"'APPEL '!O99","v":0},{"$f":"'APPEL '!R99","v":0},{"$f":"'APPEL '!J99","v":0},null,null,null,null,{"$f":"'APPEL '!BH99","v":0},null,null,null,null,null,0,"23-25,9","24-31,9","24-27,9",null,null,null,null,null,null,null,null,{"$f":"'APPEL '!AC99","v":0},null,null,null,null,null,null,null,null,null,null,null,null,null,null,null,null,null,null,null,null,null,null,null,null,null,null,null,null,null,null,null,null,null,null,null,null,null,null,null,null,null,null,null,null,null,null,null,null,null,null,null,null,null,null,null,null,null,null,null,null,null,null,null,null,null,null,{"$f":"'APPEL '!AH99","v":0}]
[{"$f":"'APPEL '!A100","v":18},{"$f":"'APPEL '!B100","v":0},{"$f":"'APPEL '!E100","v":0},null,null,null,{"$f":"'APPEL '!O100","v":0},{"$f":"'APPEL '!R100","v":0},{"$f":"'APPEL '!J100","v":0},null,null,null,null,{"$f":"'APPEL '!BH100","v":0},null,null,null,null,null,0,"23-25,9","24-31,9","24-27,9",null,null,null,null,null,null,null,null,{"$f":"'APPEL '!AC100","v":0},null,null,null,null,null,null,null,null,null,null,null,null,null,null,null,null,null,null,null,null,null,null,null,null,null,null,null,null,null,null,null,null,null,null,null,null,null,null,null,null,null,null,null,null,null,null,null,null,null,null,null,null,null,null,null,null,null,null,null,null,null,null,null,null,null,null,{"$f":"'APPEL '!AH100","v":0}]
[{"$f":"'APPEL '!A101","v":18},{"$f":"'APPEL '!B101","v":0},{"$f":"'APPEL '!E101","v":0},null,null,null,{"$f":"'APPEL '!O101","v":0},{"$f":"'APPEL '!R101","v":0},{"$f":"'APPEL '!J101","v":0},null,null,null,null,{"$f":"'APPEL '!BH101","v":0},null,null,null,null,null,0,"23-25,9","24-31,9","24-27,9",null,null,null,null,null,null,null,null,{"$f":"'APPEL '!AC101","v":0},null,null,null,null,null,null,null,null,null,null,null,null,null,null,null,null,null,null,null,null,null,null,null,null,null,null,null,null,null,null,null,null,null,null,null,null,null,null,null,null,null,null,null,null,null,null,null,null,null,null,null,null,null,null,null,null,null,null,null,null,null,null,null,null,null,null,{"$f":"'APPEL '!AH101","v":0}]
[{"$f":"'APPEL '!A102","v":18},{"$f":"'APPEL '!B102","v":0},{"$f":"'APPEL '!E102","v":0},null,null,null,{"$f":"'APPEL '!O102","v":0},{"$f":"'APPEL '!R102","v":0},{"$f":"'APPEL '!J102","v":0},null,null,null,null,{"$f":"'APPEL '!BH102","v":0},null,null,null,null,null,0,"23-25,9","24-31,9","24-27,9",null,null,null,null,null,null,null,null,{"$f":"'APPEL '!AC102","v":0},null,null,null,null,null,null,null,null,null,null,null,null,null,null,null,null,null,null,null,null,null,null,null,null,null,null,null,null,null,null,null,null,null,null,null,null,null,null,null,null,null,null,null,null,null,null,null,null,null,null,null,null,null,null,null,null,null,null,null,null,null,null,null,null,null,null,{"$f":"'APPEL '!AH102","v":0}]
[{"$f":"'APPEL '!A103","v":18},{"$f":"'APPEL '!B103","v":0},{"$f":"'APPEL '!E103","v":0},null,null,null,{"$f":"'APPEL '!O103","v":0},{"$f":"'APPEL '!R103","v":0},{"$f":"'APPEL '!J103","v":0},null,null,null,null,{"$f":"'APPEL '!BH103","v":0},null,null,null,null,null,0,"23-25,9","24-31,9","24-27,9",null,null,null,null,null,null,null,null,{"$f":"'APPEL '!AC103","v":0},null,null,null,null,null,null,null,null,null,null,null,null,null,null,null,null,null,null,null,null,null,null,null,null,null,null,null,null,null,null,null,null,null,null,null,null,null,null,null,null,null,null,null,null,null,null,null,null,null,null,null,null,null,null,null,null,null,null,null,null,null,null,null,null,null,null,{"$f":"'APPEL '!AH103","v":0}]
[{"$f":"'APPEL '!A104","v":18},{"$f":"'APPEL '!B104","v":0},{"$f":"'APPEL '!E104","v":0},null,null,null,{"$f":"'APPEL '!O104","v":0},{"$f":"'APPEL '!R104","v":0},{"$f":"'APPEL '!J104","v":0},null,null,null,null,{"$f":"'APPEL '!BH104","v":0},null,null,null,null,null,0,"23-25,9","24-31,9","24-27,9",null,null,null,null,null,null,null,null,{"$f":"'APPEL '!AC104","v":0},null,null,null,null,null,null,null,null,null,null,null,null,null,null,null,null,null,null,null,null,null,null,null,null,null,null,null,null,null,null,null,null,null,null,null,null,null,null,null,null,null,null,null,null,null,null,null,null,null,null,null,null,null,null,null,null,null,null,null,null,null,null,null,null,null,null,{"$f":"'APPEL '!AH104","v":0}]
[{"$f":"'APPEL '!A105","v":18},{"$f":"'APPEL '!B105","v":0},{"$f":"'APPEL '!E105","v":0},null,null,null,{"$f":"'APPEL '!O105","v":0},{"$f":"'APPEL '!R105","v":0},{"$f":"'APPEL '!J105","v":0},null,null,null,null,{"$f":"'APPEL '!BH105","v":0},null,null,null,null,null,0,"23-25,9","24-31,9","24-27,9",null,null,null,null,null,null,null,null,{"$f":"'APPEL '!AC105","v":0},null,null,null,null,null,null,null,null,null,null,null,null,null,null,null,null,null,null,null,null,null,null,null,null,null,null,null,null,null,null,null,null,null,null,null,null,null,null,null,null,null,null,null,null,null,null,null,null,null,null,null,null,null,null,null,null,null,null,null,null,null,null,null,null,null,null,{"$f":"'APPEL '!AH105","v":0}]
[{"$f":"'APPEL '!A106","v":18},{"$f":"'APPEL '!B106","v":0},{"$f":"'APPEL '!E106","v":0},null,null,null,{"$f":"'APPEL '!O106","v":0},{"$f":"'APPEL '!R106","v":0},{"$f":"'APPEL '!J106","v":0},null,null,null,null,{"$f":"'APPEL '!BH106","v":0},null,null,null,null,null,0,"23-25,9","24-31,9","24-27,9",null,null,null,null,null,null,null,null,{"$f":"'APPEL '!AC106","v":0},null,null,null,null,null,null,null,null,null,null,null,null,null,null,null,null,null,null,null,null,null,null,null,null,null,null,null,null,null,null,null,null,null,null,null,null,null,null,null,null,null,null,null,null,null,null,null,null,null,null,null,null,null,null,null,null,null,null,null,null,null,null,null,null,null,null,{"$f":"'APPEL '!AH106","v":0}]
[{"$f":"'APPEL '!A107","v":18},{"$f":"'APPEL '!B107","v":0},{"$f":"'APPEL '!E107","v":0},null,null,null,{"$f":"'APPEL '!O107","v":0},{"$f":"'APPEL '!R107","v":0},{"$f":"'APPEL '!J107","v":0},null,null,null,null,{"$f":"'APPEL '!BH107","v":0},null,null,null,null,null,0,"23-25,9","24-31,9","24-27,9",null,null,null,null,null,null,null,null,{"$f":"'APPEL '!AC107","v":0},null,null,null,null,null,null,null,null,null,null,null,null,null,null,null,null,null,null,null,null,null,null,null,null,null,null,null,null,null,null,null,null,null,null,null,null,null,null,null,null,null,null,null,null,null,null,null,null,null,null,null,null,null,null,null,null,null,null,null,null,null,null,null,null,null,null,{"$f":"'APPEL '!AH107","v":0}]
[{"$f":"'APPEL '!A108","v":18},{"$f":"'APPEL '!B108","v":0},{"$f":"'APPEL '!E108","v":0},null,null,null,{"$f":"'APPEL '!O108","v":0},{"$f":"'APPEL '!R108","v":0},{"$f":"'APPEL '!J108","v":0},null,null,null,null,{"$f":"'APPEL '!BH108","v":0},null,null,null,null,null,0,"23-25,9","24-31,9","24-27,9",null,null,null,null,null,null,null,null,{"$f":"'APPEL '!AC108","v":0},null,null,null,null,null,null,null,null,null,null,null,null,null,null,null,null,null,null,null,null,null,null,null,null,null,null,null,null,null,null,null,null,null,null,null,null,null,null,null,null,null,null,null,null,null,null,null,null,null,null,null,null,null,null,null,null,null,null,null,null,null,null,null,null,null,null,{"$f":"'APPEL '!AH108","v":0}]
[{"$f":"'APPEL '!A109","v":18},{"$f":"'APPEL '!B109","v":0},{"$f":"'APPEL '!E109","v":0},null,null,null,{"$f":"'APPEL '!O109","v":0},{"$f":"'APPEL '!R109","v":0},{"$f":"'APPEL '!J109","v":0},null,null,null,null,{"$f":"'APPEL '!BH109","v":0},null,null,null,null,null,0,"23-25,9","24-31,9","24-27,9",null,null,null,null,null,null,null,null,{"$f":"'APPEL '!AC109","v":0},null,null,null,null,null,null,null,null,null,null,null,null,null,null,null,null,null,null,null,null,null,null,null,null,null,null,null,null,null,null,null,null,null,null,null,null,null,null,null,null,null,null,null,null,null,null,null,null,null,null,null,null,null,null,null,null,null,null,null,null,null,null,null,null,null,null,{"$f":"'APPEL '!AH109","v":0}]
[{"$f":"'APPEL '!A110","v":18},{"$f":"'APPEL '!B110","v":0},{"$f":"'APPEL '!E110","v":0},null,null,null,{"$f":"'APPEL '!O110","v":0},{"$f":"'APPEL '!R110","v":0},{"$f":"'APPEL '!J110","v":0},null,null,null,null,{"$f":"'APPEL '!BH110","v":0},null,null,null,null,null,0,"23-25,9","24-31,9","24-27,9",null,null,null,null,null,null,null,null,{"$f":"'APPEL '!AC110","v":0},null,null,null,null,null,null,null,null,null,null,null,null,null,null,null,null,null,null,null,null,null,null,null,null,null,null,null,null,null,null,null,null,null,null,null,null,null,null,null,null,null,null,null,null,null,null,null,null,null,null,null,null,null,null,null,null,null,null,null,null,null,null,null,null,null,null,{"$f":"'APPEL '!AH110","v":0}]
[{"$f":"'APPEL '!A111","v":18},{"$f":"'APPEL '!B111","v":0},{"$f":"'APPEL '!E111","v":0},null,null,null,{"$f":"'APPEL '!O111","v":0},{"$f":"'APPEL '!R111","v":0},{"$f":"'APPEL '!J111","v":0},null,null,null,null,{"$f":"'APPEL '!BH111","v":0},null,null,null,null,null,0,"23-25,9","24-31,9","24-27,9",null,null,null,null,null,null,null,null,{"$f":"'APPEL '!AC111","v":0},null,null,null,null,null,null,null,null,null,null,null,null,null,null,null,null,null,null,null,null,null,null,null,null,null,null,null,null,null,null,null,null,null,null,null,null,null,null,null,null,null,null,null,null,null,null,null,null,null,null,null,null,null,null,null,null,null,null,null,null,null,null,null,null,null,null,{"$f":"'APPEL '!AH111","v":0}]
[{"$f":"'APPEL '!A112","v":18},{"$f":"'APPEL '!B112","v":0},{"$f":"'APPEL '!E112","v":0},null,null,null,{"$f":"'APPEL '!O112","v":0},{"$f":"'APPEL '!R112","v":0},{"$f":"'APPEL '!J112","v":0},null,null,null,null,{"$f":"'APPEL '!BH112","v":0},null,null,null,null,null,0,"23-25,9","24-31,9","24-27,9",null,null,null,null,null,null,null,null,{"$f":"'APPEL '!AC112","v":0},null,null,null,null,null,null,null,null,null,null,null,null,null,null,null,null,null,null,null,null,null,null,null,null,null,null,null,null,null,null,null,null,null,null,null,null,null,null,null,null,null,null,null,null,null,null,null,null,null,null,null,null,null,null,null,null,null,null,null,null,null,null,null,null,null,null,{"$f":"'APPEL '!AH112","v":0}]
[{"$f":"'APPEL '!A113","v":18},{"$f":"'APPEL '!B113","v":0},{"$f":"'APPEL '!E113","v":0},null,null,null,{"$f":"'APPEL '!O113","v":0},{"$f":"'APPEL '!R113","v":0},{"$f":"'APPEL '!J113","v":0},null,null,null,null,{"$f":"'APPEL '!BH113","v":0},null,null,null,null,null,0,"23-25,9","24-31,9","24-27,9",null,null,null,null,null,null,null,null,{"$f":"'APPEL '!AC113","v":0},null,null,null,null,null,null,null,null,null,null,null,null,null,null,null,null,null,null,null,null,null,null,null,null,null,null,null,null,null,null,null,null,null,null,null,null,null,null,null,null,null,null,null,null,null,null,null,null,null,null,null,null,null,null,null,null,null,null,null,null,null,null,null,null,null,null,{"$f":"'APPEL '!AH113","v":0}]
[{"$f":"'APPEL '!A114","v":18},{"$f":"'APPEL '!B114","v":0},{"$f":"'APPEL '!E114","v":0},null,null,null,{"$f":"'APPEL '!O114","v":0},{"$f":"'APPEL '!R114","v":0},{"$f":"'APPEL '!J114","v":0},null,null,null,null,{"$f":"'APPEL '!BH114","v":0},null,null,null,null,null,0,"23-25,9","24-31,9","24-27,9",null,null,null,null,null,null,null,null,{"$f":"'APPEL '!AC114","v":0},null,null,null,null,null,null,null,null,null,null,null,null,null,null,null,null,null,null,null,null,null,null,null,null,null,null,null,null,null,null,null,null,null,null,null,null,null,null,null,null,null,null,null,null,null,null,null,null,null,null,null,null,null,null,null,null,null,null,null,null,null,null,null,null,null,null,{"$f":"'APPEL '!AH114","v":0}]
[{"$f":"'APPEL '!A115","v":18},{"$f":"'APPEL '!B115","v":0},{"$f":"'APPEL '!E115","v":0},null,null,null,{"$f":"'APPEL '!O115","v":0},{"$f":"'APPEL '!R115","v":0},{"$f":"'APPEL '!J115","v":0},null,null,null,null,{"$f":"'APPEL '!BH115","v":0},null,null,null,null,null,0,"23-25,9","24-31,9","24-27,9",null,null,null,null,null,null,null,null,{"$f":"'APPEL '!AC115","v":0},null,null,null,null,null,null,null,null,null,null,null,null,null,null,null,null,null,null,null,null,null,null,null,null,null,null,null,null,null,null,null,null,null,null,null,null,null,null,null,null,null,null,null,null,null,null,null,null,null,null,null,null,null,null,null,null,null,null,null,null,null,null,null,null,null,null,{"$f":"'APPEL '!AH115","v":0}]
[{"$f":"'APPEL '!A116","v":18},{"$f":"'APPEL '!B116","v":0},{"$f":"'APPEL '!E116","v":0},null,null,null,{"$f":"'APPEL '!O116","v":0},{"$f":"'APPEL '!R116","v":0},{"$f":"'APPEL '!J116","v":0},null,null,null,null,{"$f":"'APPEL '!BH116","v":0},null,null,null,null,null,0,"23-25,9","24-31,9","24-27,9",null,null,null,null,null,null,null,null,{"$f":"'APPEL '!AC116","v":0},null,null,null,null,null,null,null,null,null,null,null,null,null,null,null,null,null,null,null,null,null,null,null,null,null,null,null,null,null,null,null,null,null,null,null,null,null,null,null,null,null,null,null,null,null,null,null,null,null,null,null,null,null,null,null,null,null,null,null,null,null,null,null,null,null,null,{"$f":"'APPEL '!AH116","v":0}]
[{"$f":"'APPEL '!A117","v":18},{"$f":"'APPEL '!B117","v":0},{"$f":"'APPEL '!E117","v":0},null,null,null,{"$f":"'APPEL '!O117","v":0},{"$f":"'APPEL '!R117","v":0},{"$f":"'APPEL '!J117","v":0},null,null,null,null,{"$f":"'APPEL '!BH117","v":0},null,null,null,null,null,0,"23-25,9","24-31,9","24-27,9",null,null,null,null,null,null,null,null,{"$f":"'APPEL '!AC117","v":0},null,null,null,null,null,null,null,null,null,null,null,null,null,null,null,null,null,null,null,null,null,null,null,null,null,null,null,null,null,null,null,null,null,null,null,null,null,null,null,null,null,null,null,null,null,null,null,null,null,null,null,null,null,null,null,null,null,null,null,null,null,null,null,null,null,null,{"$f":"'APPEL '!AH117","v":0}]
[{"$f":"'APPEL '!A118","v":18},{"$f":"'APPEL '!B118","v":0},{"$f":"'APPEL '!E118","v":0},null,null,null,{"$f":"'APPEL '!O118","v":0},{"$f":"'APPEL '!R118","v":0},{"$f":"'APPEL '!J118","v":0},null,null,null,null,{"$f":"'APPEL '!BH118","v":0},null,null,null,null,null,0,"23-25,9","24-31,9","24-27,9",null,null,null,null,null,null,null,null,{"$f":"'APPEL '!AC118","v":0},null,null,null,null,null,null,null,null,null,null,null,null,null,null,null,null,null,null,null,null,null,null,null,null,null,null,null,null,null,null,null,null,null,null,null,null,null,null,null,null,null,null,null,null,null,null,null,null,null,null,null,null,null,null,null,null,null,null,null,null,null,null,null,null,null,null,{"$f":"'APPEL '!AH118","v":0}]
[{"$f":"'APPEL '!A119","v":18},{"$f":"'APPEL '!B119","v":0},{"$f":"'APPEL '!E119","v":0},null,null,null,{"$f":"'APPEL '!O119","v":0},{"$f":"'APPEL '!R119","v":0},{"$f":"'APPEL '!J119","v":0},null,null,null,null,{"$f":"'APPEL '!BH119","v":0},null,null,null,null,null,0,"23-25,9","24-31,9","24-27,9",null,null,null,null,null,null,null,null,{"$f":"'APPEL '!AC119","v":0},null,null,null,null,null,null,null,null,null,null,null,null,null,null,null,null,null,null,null,null,null,null,null,null,null,null,null,null,null,null,null,null,null,null,null,null,null,null,null,null,null,null,null,null,null,null,null,null,null,null,null,null,null,null,null,null,null,null,null,null,null,null,null,null,null,null,{"$f":"'APPEL '!AH119","v":0}]
[{"$f":"'APPEL '!A120","v":18},{"$f":"'APPEL '!B120","v":0},{"$f":"'APPEL '!E120","v":0},null,null,null,{"$f":"'APPEL '!O120","v":0},{"$f":"'APPEL '!R120","v":0},{"$f":"'APPEL '!J120","v":0},null,null,null,null,{"$f":"'APPEL '!BH120","v":0},null,null,null,null,null,0,"23-25,9","24-31,9","24-27,9",null,null,null,null,null,null,null,null,{"$f":"'APPEL '!AC120","v":0},null,null,null,null,null,null,null,null,null,null,null,null,null,null,null,null,null,null,null,null,null,null,null,null,null,null,null,null,null,null,null,null,null,null,null,null,null,null,null,null,null,null,null,null,null,null,null,null,null,null,null,null,null,null,null,null,null,null,null,null,null,null,null,null,null,null,{"$f":"'APPEL '!AH120","v":0}]
[{"$f":"'APPEL '!A121","v":18},{"$f":"'APPEL '!B121","v":0},{"$f":"'APPEL '!E121","v":0},null,null,null,{"$f":"'APPEL '!O121","v":0},{"$f":"'APPEL '!R121","v":0},{"$f":"'APPEL '!J121","v":0},null,null,null,null,{"$f":"'APPEL '!BH121","v":0},null,null,null,null,null,0,"23-25,9","24-31,9","24-27,9",null,null,null,null,null,null,null,null,{"$f":"'APPEL '!AC121","v":0},null,null,null,null,null,null,null,null,null,null,null,null,null,null,null,null,null,null,null,null,null,null,null,null,null,null,null,null,null,null,null,null,null,null,null,null,null,null,null,null,null,null,null,null,null,null,null,null,null,null,null,null,null,null,null,null,null,null,null,null,null,null,null,null,null,null,{"$f":"'APPEL '!AH121","v":0}]
[{"$f":"'APPEL '!A122","v":18},{"$f":"'APPEL '!B122","v":0},{"$f":"'APPEL '!E122","v":0},null,null,null,{"$f":"'APPEL '!O122","v":0},{"$f":"'APPEL '!R122","v":0},{"$f":"'APPEL '!J122","v":0},null,null,null,null,{"$f":"'APPEL '!BH122","v":0},null,null,null,null,null,0,"23-25,9","24-31,9","24-27,9",null,null,null,null,null,null,null,null,{"$f":"'APPEL '!AC122","v":0},null,null,null,null,null,null,null,null,null,null,null,null,null,null,null,null,null,null,null,null,null,null,null,null,null,null,null,null,null,null,null,null,null,null,null,null,null,null,null,null,null,null,null,null,null,null,null,null,null,null,null,null,null,null,null,null,null,null,null,null,null,null,null,null,null,null,{"$f":"'APPEL '!AH122","v":0}]
[{"$f":"'APPEL '!A123","v":18},{"$f":"'APPEL '!B123","v":0},{"$f":"'APPEL '!E123","v":0},null,null,null,{"$f":"'APPEL '!O123","v":0},{"$f":"'APPEL '!R123","v":0},{"$f":"'APPEL '!J123","v":0},null,null,null,null,{"$f":"'APPEL '!BH123","v":0},null,null,null,null,null,0,"23-25,9","24-31,9","24-27,9",null,null,null,null,null,null,null,null,{"$f":"'APPEL '!AC123","v":0},null,null,null,null,null,null,null,null,null,null,null,null,null,null,null,null,null,null,null,null,null,null,null,null,null,null,null,null,null,null,null,null,null,null,null,null,null,null,null,null,null,null,null,null,null,null,null,null,null,null,null,null,null,null,null,null,null,null,null,null,null,null,null,null,null,null,{"$f":"'APPEL '!AH123","v":0}]
[{"$f":"'APPEL '!A124","v":18},{"$f":"'APPEL '!B124","v":0},{"$f":"'APPEL '!E124","v":0},null,null,null,{"$f":"'APPEL '!O124","v":0},{"$f":"'APPEL '!R124","v":0},{"$f":"'APPEL '!J124","v":0},null,null,null,null,{"$f":"'APPEL '!BH124","v":0},null,null,null,null,null,0,"23-25,9","24-31,9","24-27,9",null,null,null,null,null,null,null,null,{"$f":"'APPEL '!AC124","v":0},null,null,null,null,null,null,null,null,null,null,null,null,null,null,null,null,null,null,null,null,null,null,null,null,null,null,null,null,null,null,null,null,null,null,null,null,null,null,null,null,null,null,null,null,null,null,null,null,null,null,null,null,null,null,null,null,null,null,null,null,null,null,null,null,null,null,{"$f":"'APPEL '!AH124","v":0}]
[{"$f":"'APPEL '!A125","v":18},{"$f":"'APPEL '!B125","v":0},{"$f":"'APPEL '!E125","v":0},null,null,null,{"$f":"'APPEL '!O125","v":0},{"$f":"'APPEL '!R125","v":0},{"$f":"'APPEL '!J125","v":0},null,null,null,null,{"$f":"'APPEL '!BH125","v":0},null,null,null,null,null,0,"23-25,9","24-31,9","24-27,9",null,null,null,null,null,null,null,null,{"$f":"'APPEL '!AC125","v":0},null,null,null,null,null,null,null,null,null,null,null,null,null,null,null,null,null,null,null,null,null,null,null,null,null,null,null,null,null,null,null,null,null,null,null,null,null,null,null,null,null,null,null,null,null,null,null,null,null,null,null,null,null,null,null,null,null,null,null,null,null,null,null,null,null,null,{"$f":"'APPEL '!AH125","v":0}]
[{"$f":"'APPEL '!A126","v":18},{"$f":"'APPEL '!B126","v":0},{"$f":"'APPEL '!E126","v":0},null,null,null,{"$f":"'APPEL '!O126","v":0},{"$f":"'APPEL '!R126","v":0},{"$f":"'APPEL '!J126","v":0},null,null,null,null,{"$f":"'APPEL '!BH126","v":0},null,null,null,null,null,0,"23-25,9","24-31,9","24-27,9",null,null,null,null,null,null,null,null,{"$f":"'APPEL '!AC126","v":0},null,null,null,null,null,null,null,null,null,null,null,null,null,null,null,null,null,null,null,null,null,null,null,null,null,null,null,null,null,null,null,null,null,null,null,null,null,null,null,null,null,null,null,null,null,null,null,null,null,null,null,null,null,null,null,null,null,null,null,null,null,null,null,null,null,null,{"$f":"'APPEL '!AH126","v":0}]
[{"$f":"'APPEL '!A127","v":18},{"$f":"'APPEL '!B127","v":0},{"$f":"'APPEL '!E127","v":0},null,null,null,{"$f":"'APPEL '!O127","v":0},{"$f":"'APPEL '!R127","v":0},{"$f":"'APPEL '!J127","v":0},null,null,null,null,{"$f":"'APPEL '!BH127","v":0},null,null,null,null,null,0,"23-25,9","24-31,9","24-27,9",null,null,null,null,null,null,null,null,{"$f":"'APPEL '!AC127","v":0},null,null,null,null,null,null,null,null,null,null,null,null,null,null,null,null,null,null,null,null,null,null,null,null,null,null,null,null,null,null,null,null,null,null,null,null,null,null,null,null,null,null,null,null,null,null,null,null,null,null,null,null,null,null,null,null,null,null,null,null,null,null,null,null,null,null,{"$f":"'APPEL '!AH127","v":0}]
[{"$f":"'APPEL '!A128","v":18},{"$f":"'APPEL '!B128","v":0},{"$f":"'APPEL '!E128","v":0},null,null,null,{"$f":"'APPEL '!O128","v":0},{"$f":"'APPEL '!R128","v":0},{"$f":"'APPEL '!J128","v":0},null,null,null,null,{"$f":"'APPEL '!BH128","v":0},null,null,null,null,null,0,"23-25,9","24-31,9","24-27,9",null,null,null,null,null,null,null,null,{"$f":"'APPEL '!AC128","v":0},null,null,null,null,null,null,null,null,null,null,null,null,null,null,null,null,null,null,null,null,null,null,null,null,null,null,null,null,null,null,null,null,null,null,null,null,null,null,null,null,null,null,null,null,null,null,null,null,null,null,null,null,null,null,null,null,null,null,null,null,null,null,null,null,null,null,{"$f":"'APPEL '!AH128","v":0}]
[{"$f":"'APPEL '!A129","v":18},{"$f":"'APPEL '!B129","v":0},{"$f":"'APPEL '!E129","v":0},null,null,null,{"$f":"'APPEL '!O129","v":0},{"$f":"'APPEL '!R129","v":0},{"$f":"'APPEL '!J129","v":0},null,null,null,null,{"$f":"'APPEL '!BH129","v":0},null,null,null,null,null,0,"23-25,9","24-31,9","24-27,9",null,null,null,null,null,null,null,null,{"$f":"'APPEL '!AC129","v":0},null,null,null,null,null,null,null,null,null,null,null,null,null,null,null,null,null,null,null,null,null,null,null,null,null,null,null,null,null,null,null,null,null,null,null,null,null,null,null,null,null,null,null,null,null,null,null,null,null,null,null,null,null,null,null,null,null,null,null,null,null,null,null,null,null,null,{"$f":"'APPEL '!AH129","v":0}]
[{"$f":"'APPEL '!A130","v":18},{"$f":"'APPEL '!B130","v":0},{"$f":"'APPEL '!E130","v":0},null,null,null,{"$f":"'APPEL '!O130","v":0},{"$f":"'APPEL '!R130","v":0},{"$f":"'APPEL '!J130","v":0},null,null,null,null,{"$f":"'APPEL '!BH130","v":0},null,null,null,null,null,0,"23-25,9","24-31,9","24-27,9",null,null,null,null,null,null,null,null,{"$f":"'APPEL '!AC130","v":0},null,null,null,null,null,null,null,null,null,null,null,null,null,null,null,null,null,null,null,null,null,null,null,null,null,null,null,null,null,null,null,null,null,null,null,null,null,null,null,null,null,null,null,null,null,null,null,null,null,null,null,null,null,null,null,null,null,null,null,null,null,null,null,null,null,null,{"$f":"'APPEL '!AH130","v":0}]
[{"$f":"'APPEL '!A131","v":18},{"$f":"'APPEL '!B131","v":0},{"$f":"'APPEL '!E131","v":0},null,null,null,{"$f":"'APPEL '!O131","v":0},{"$f":"'APPEL '!R131","v":0},{"$f":"'APPEL '!J131","v":0},null,null,null,null,{"$f":"'APPEL '!BH131","v":0},null,null,null,null,null,{"$f":"R131+(S131/7)","v":0},{"$f":"IF(T131<25.9,\"23-25,9\",IF(T131<27.9,\"26-27,9\",IF(T131<31.9,\"28-31,9\",IF(T131<34.9,\"32-34,9\",IF(T131<36.9,\"35-36,9\",IF(T131<40.2,\"37-40,2\",IF(T131<42,\"40,3-42\",IF(T131>42,\">42\"))))))))","v":"23-25,9"},{"$f":"IF(T131<31.9,\"24-31,9\",IF(T131<42,\"32-42\",IF(T131>=42,\">42\")))","v":"24-31,9"},{"$f":"IF(T131<27.9,\"24-27,9\",IF(T131<42,\"28-42\",IF(T131>=42,\">42\")))","v":"24-27,9"},null,null,null,null,null,null,null,null,{"$f":"'APPEL '!AC131","v":0},null,null,null,null,null,null,null,null,null,null,null,null,null,null,null,null,null,null,null,null,null,null,null,null,null,null,null,null,null,null,null,null,null,null,null,null,null,null,null,null,null,null,null,null,null,null,null,null,null,null,null,null,null,null,null,null,null,null,null,null,null,null,null,null,null,null,{"$f":"'APPEL '!AH131","v":0}]
[{"$f":"'APPEL '!A132","v":18},{"$f":"'APPEL '!B132","v":0},{"$f":"'APPEL '!E132","v":0},null,null,null,{"$f":"'APPEL '!O132","v":0},{"$f":"'APPEL '!R132","v":0},{"$f":"'APPEL '!J132","v":0},null,null,null,null,{"$f":"'APPEL '!BH132","v":0},null,null,null,null,null,0,"23-25,9","24-31,9","24-27,9",null,null,null,null,null,null,null,null,{"$f":"'APPEL '!AC132","v":0},null,null,null,null,null,null,null,null,null,null,null,null,null,null,null,null,null,null,null,null,null,null,null,null,null,null,null,null,null,null,null,null,null,null,null,null,null,null,null,null,null,null,null,null,null,null,null,null,null,null,null,null,null,null,null,null,null,null,null,null,null,null,null,null,null,null,{"$f":"'APPEL '!AH132","v":0}]
[{"$f":"'APPEL '!A133","v":18},{"$f":"'APPEL '!B133","v":0},{"$f":"'APPEL '!E133","v":0},null,null,null,{"$f":"'APPEL '!O133","v":0},{"$f":"'APPEL '!R133","v":0},{"$f":"'APPEL '!J133","v":0},null,null,null,null,{"$f":"'APPEL '!BH133","v":0},null,null,null,null,null,0,"23-25,9","24-31,9","24-27,9",null,null,null,null,null,null,null,null,{"$f":"'APPEL '!AC133","v":0},null,null,null,null,null,null,null,null,null,null,null,null,null,null,null,null,null,null,null,null,null,null,null,null,null,null,null,null,null,null,null,null,null,null,null,null,null,null,null,null,null,null,null,null,null,null,null,null,null,null,null,null,null,null,null,null,null,null,null,null,null,null,null,null,null,null,{"$f":"'APPEL '!AH133","v":0}]
[{"$f":"'APPEL '!A134","v":18},{"$f":"'APPEL '!B134","v":0},{"$f":"'APPEL '!E134","v":0},null,null,null,{"$f":"'APPEL '!O134","v":0},{"$f":"'APPEL '!R134","v":0},{"$f":"'APPEL '!J134","v":0},null,null,null,null,{"$f":"'APPEL '!BH134","v":0},null,null,null,null,null,0,"23-25,9","24-31,9","24-27,9",null,null,null,null,null,null,null,null,{"$f":"'APPEL '!AC134","v":0},null,null,null,null,null,null,null,null,null,null,null,null,null,null,null,null,null,null,null,null,null,null,null,null,null,null,null,null,null,null,null,null,null,null,null,null,null,null,null,null,null,null,null,null,null,null,null,null,null,null,null,null,null,null,null,null,null,null,null,null,null,null,null,null,null,null,{"$f":"'APPEL '!AH134","v":0}]
[{"$f":"'APPEL '!A135","v":18},{"$f":"'APPEL '!B135","v":0},{"$f":"'APPEL '!E135","v":0},null,null,null,{"$f":"'APPEL '!O135","v":0},{"$f":"'APPEL '!R135","v":0},{"$f":"'APPEL '!J135","v":0},null,null,null,null,{"$f":"'APPEL '!BH135","v":0},null,null,null,null,null,0,"23-25,9","24-31,9","24-27,9",null,null,null,null,null,null,null,null,{"$f":"'APPEL '!AC135","v":0},null,null,null,null,null,null,null,null,null,null,null,null,null,null,null,null,null,null,null,null,null,null,null,null,null,null,null,null,null,null,null,null,null,null,null,null,null,null,null,null,null,null,null,null,null,null,null,null,null,null,null,null,null,null,null,null,null,null,null,null,null,null,null,null,null,null,{"$f":"'APPEL '!AH135","v":0}]
[{"$f":"'APPEL '!A136","v":18},{"$f":"'APPEL '!B136","v":0},{"$f":"'APPEL '!E136","v":0},null,null,null,{"$f":"'APPEL '!O136","v":0},{"$f":"'APPEL '!R136","v":0},{"$f":"'APPEL '!J136","v":0},null,null,null,null,{"$f":"'APPEL '!BH136","v":0},null,null,null,null,null,0,"23-25,9","24-31,9","24-27,9",null,null,null,null,null,null,null,null,{"$f":"'APPEL '!AC136","v":0},null,null,null,null,null,null,null,null,null,null,null,null,null,null,null,null,null,null,null,null,null,null,null,null,null,null,null,null,null,null,null,null,null,null,null,null,null,null,null,null,null,null,null,null,null,null,null,null,null,null,null,null,null,null,null,null,null,null,null,null,null,null,null,null,null,null,{"$f":"'APPEL '!AH136","v":0}]
[{"$f":"'APPEL '!A137","v":18},{"$f":"'APPEL '!B137","v":0},{"$f":"'APPEL '!E137","v":0},null,null,null,{"$f":"'APPEL '!O137","v":0},{"$f":"'APPEL '!R137","v":0},{"$f":"'APPEL '!J137","v":0},null,null,null,null,{"$f":"'APPEL '!BH137","v":0},null,null,null,null,null,0,"23-25,9","24-31,9","24-27,9",null,null,null,null,null,null,null,null,{"$f":"'APPEL '!AC137","v":0},null,null,null,null,null,null,null,null,null,null,null,null,null,null,null,null,null,null,null,null,null,null,null,null,null,null,null,null,null,null,null,null,null,null,null,null,null,null,null,null,null,null,null,null,null,null,null,null,null,null,null,null,null,null,null,null,null,null,null,null,null,null,null,null,null,null,{"$f":"'APPEL '!AH137","v":0}]
[{"$f":"'APPEL '!A138","v":18},{"$f":"'APPEL '!B138","v":0},{"$f":"'APPEL '!E138","v":0},null,null,null,{"$f":"'APPEL '!O138","v":0},{"$f":"'APPEL '!R138","v":0},{"$f":"'APPEL '!J138","v":0},null,null,null,null,{"$f":"'APPEL '!BH138","v":0},null,null,null,null,null,0,"23-25,9","24-31,9","24-27,9",null,null,null,null,null,null,null,null,{"$f":"'APPEL '!AC138","v":0},null,null,null,null,null,null,null,null,null,null,null,null,null,null,null,null,null,null,null,null,null,null,null,null,null,null,null,null,null,null,null,null,null,null,null,null,null,null,null,null,null,null,null,null,null,null,null,null,null,null,null,null,null,null,null,null,null,null,null,null,null,null,null,null,null,null,{"$f":"'APPEL '!AH138","v":0}]
[{"$f":"'APPEL '!A139","v":18},{"$f":"'APPEL '!B139","v":0},{"$f":"'APPEL '!E139","v":0},null,null,null,{"$f":"'APPEL '!O139","v":0},{"$f":"'APPEL '!R139","v":0},{"$f":"'APPEL '!J139","v":0},null,null,null,null,{"$f":"'APPEL '!BH139","v":0},null,null,null,null,null,0,"23-25,9","24-31,9","24-27,9",null,null,null,null,null,null,null,null,{"$f":"'APPEL '!AC139","v":0},null,null,null,null,null,null,null,null,null,null,null,null,null,null,null,null,null,null,null,null,null,null,null,null,null,null,null,null,null,null,null,null,null,null,null,null,null,null,null,null,null,null,null,null,null,null,null,null,null,null,null,null,null,null,null,null,null,null,null,null,null,null,null,null,null,null,{"$f":"'APPEL '!AH139","v":0}]
[{"$f":"'APPEL '!A140","v":18},{"$f":"'APPEL '!B140","v":0},{"$f":"'APPEL '!E140","v":0},null,null,null,{"$f":"'APPEL '!O140","v":0},{"$f":"'APPEL '!R140","v":0},{"$f":"'APPEL '!J140","v":0},null,null,null,null,{"$f":"'APPEL '!BH140","v":0},null,null,null,null,null,0,"23-25,9","24-31,9","24-27,9",null,null,null,null,null,null,null,null,{"$f":"'APPEL '!AC140","v":0},null,null,null,null,null,null,null,null,null,null,null,null,null,null,null,null,null,null,null,null,null,null,null,null,null,null,null,null,null,null,null,null,null,null,null,null,null,null,null,null,null,null,null,null,null,null,null,null,null,null,null,null,null,null,null,null,null,null,null,null,null,null,null,null,null,null,{"$f":"'APPEL '!AH140","v":0}]
[{"$f":"'APPEL '!A141","v":18},{"$f":"'APPEL '!B141","v":0},{"$f":"'APPEL '!E141","v":0},null,null,null,{"$f":"'APPEL '!O141","v":0},{"$f":"'APPEL '!R141","v":0},{"$f":"'APPEL '!J141","v":0},null,null,null,null,{"$f":"'APPEL '!BH141","v":0},null,null,null,null,null,0,"23-25,9","24-31,9","24-27,9",null,null,null,null,null,null,null,null,{"$f":"'APPEL '!AC141","v":0},null,null,null,null,null,null,null,null,null,null,null,null,null,null,null,null,null,null,null,null,null,null,null,null,null,null,null,null,null,null,null,null,null,null,null,null,null,null,null,null,null,null,null,null,null,null,null,null,null,null,null,null,null,null,null,null,null,null,null,null,null,null,null,null,null,null,{"$f":"'APPEL '!AH141","v":0}]
[{"$f":"'APPEL '!A142","v":18},{"$f":"'APPEL '!B142","v":0},{"$f":"'APPEL '!E142","v":0},null,null,null,{"$f":"'APPEL '!O142","v":0},{"$f":"'APPEL '!R142","v":0},{"$f":"'APPEL '!J142","v":0},null,null,null,null,{"$f":"'APPEL '!BH142","v":0},null,null,null,null,null,0,"23-25,9","24-31,9","24-27,9",null,null,null,null,null,null,null,null,{"$f":"'APPEL '!AC142","v":0},null,null,null,null,null,null,null,null,null,null,null,null,null,null,null,null,null,null,null,null,null,null,null,null,null,null,null,null,null,null,null,null,null,null,null,null,null,null,null,null,null,null,null,null,null,null,null,null,null,null,null,null,null,null,null,null,null,null,null,null,null,null,null,null,null,null,{"$f":"'APPEL '!AH142","v":0}]
[{"$f":"'APPEL '!A143","v":18},{"$f":"'APPEL '!B143","v":0},{"$f":"'APPEL '!E143","v":0},null,null,null,{"$f":"'APPEL '!O143","v":0},{"$f":"'APPEL '!R143","v":0},{"$f":"'APPEL '!J143","v":0},null,null,null,null,{"$f":"'APPEL '!BH143","v":0},null,null,null,null,null,0,"23-25,9","24-31,9","24-27,9",null,null,null,null,null,null,null,null,{"$f":"'APPEL '!AC143","v":0},null,null,null,null,null,null,null,null,null,null,null,null,null,null,null,null,null,null,null,null,null,null,null,null,null,null,null,null,null,null,null,null,null,null,null,null,null,null,null,null,null,null,null,null,null,null,null,null,null,null,null,null,null,null,null,null,null,null,null,null,null,null,null,null,null,null,{"$f":"'APPEL '!AH143","v":0}]
[{"$f":"'APPEL '!A144","v":18},{"$f":"'APPEL '!B144","v":0},{"$f":"'APPEL '!E144","v":0},null,null,null,{"$f":"'APPEL '!O144","v":0},{"$f":"'APPEL '!R144","v":0},{"$f":"'APPEL '!J144","v":0},null,null,null,null,{"$f":"'APPEL '!BH144","v":0},null,null,null,null,null,0,"23-25,9","24-31,9","24-27,9",null,null,null,null,null,null,null,null,{"$f":"'APPEL '!AC144","v":0},null,null,null,null,null,null,null,null,null,null,null,null,null,null,null,null,null,null,null,null,null,null,null,null,null,null,null,null,null,null,null,null,null,null,null,null,null,null,null,null,null,null,null,null,null,null,null,null,null,null,null,null,null,null,null,null,null,null,null,null,null,null,null,null,null,null,{"$f":"'APPEL '!AH144","v":0}]
[{"$f":"'APPEL '!A145","v":18},{"$f":"'APPEL '!B145","v":0},{"$f":"'APPEL '!E145","v":0},null,null,null,{"$f":"'APPEL '!O145","v":0},{"$f":"'APPEL '!R145","v":0},{"$f":"'APPEL '!J145","v":0},null,null,null,null,{"$f":"'APPEL '!BH145","v":0},null,null,null,null,null,0,"23-25,9","24-31,9","24-27,9",null,null,null,null,null,null,null,null,{"$f":"'APPEL '!AC145","v":0},null,null,null,null,null,null,null,null,null,null,null,null,null,null,null,null,null,null,null,null,null,null,null,null,null,null,null,null,null,null,null,null,null,null,null,null,null,null,null,null,null,null,null,null,null,null,null,null,null,null,null,null,null,null,null,null,null,null,null,null,null,null,null,null,null,null,{"$f":"'APPEL '!AH145","v":0}]
[{"$f":"'APPEL '!A146","v":18},{"$f":"'APPEL '!B146","v":0},{"$f":"'APPEL '!E146","v":0},null,null,null,{"$f":"'APPEL '!O146","v":0},{"$f":"'APPEL '!R146","v":0},{"$f":"'APPEL '!J146","v":0},null,null,null,null,{"$f":"'APPEL '!BH146","v":0},null,null,null,null,null,0,"23-25,9","24-31,9","24-27,9",null,null,null,null,null,null,null,null,{"$f":"'APPEL '!AC146","v":0},null,null,null,null,null,null,null,null,null,null,null,null,null,null,null,null,null,null,null,null,null,null,null,null,null,null,null,null,null,null,null,null,null,null,null,null,null,null,null,null,null,null,null,null,null,null,null,null,null,null,null,null,null,null,null,null,null,null,null,null,null,null,null,null,null,null,{"$f":"'APPEL '!AH146","v":0}]
[{"$f":"'APPEL '!A147","v":18},{"$f":"'APPEL '!B147","v":0},{"$f":"'APPEL '!E147","v":0},null,null,null,{"$f":"'APPEL '!O147","v":0},{"$f":"'APPEL '!R147","v":0},{"$f":"'APPEL '!J147","v":0},null,null,null,null,{"$f":"'APPEL '!BH147","v":0},null,null,null,null,null,0,"23-25,9","24-31,9","24-27,9",null,null,null,null,null,null,null,null,{"$f":"'APPEL '!AC147","v":0},null,null,null,null,null,null,null,null,null,null,null,null,null,null,null,null,null,null,null,null,null,null,null,null,null,null,null,null,null,null,null,null,null,null,null,null,null,null,null,null,null,null,null,null,null,null,null,null,null,null,null,null,null,null,null,null,null,null,null,null,null,null,null,null,null,null,{"$f":"'APPEL '!AH147","v":0}]
[{"$f":"'APPEL '!A148","v":18},{"$f":"'APPEL '!B148","v":0},{"$f":"'APPEL '!E148","v":0},null,null,null,{"$f":"'APPEL '!O148","v":0},{"$f":"'APPEL '!R148","v":0},{"$f":"'APPEL '!J148","v":0},null,null,null,null,{"$f":"'APPEL '!BH148","v":0},null,null,null,null,null,0,"23-25,9","24-31,9","24-27,9",null,null,null,null,null,null,null,null,{"$f":"'APPEL '!AC148","v":0},null,null,null,null,null,null,null,null,null,null,null,null,null,null,null,null,null,null,null,null,null,null,null,null,null,null,null,null,null,null,null,null,null,null,null,null,null,null,null,null,null,null,null,null,null,null,null,null,null,null,null,null,null,null,null,null,null,null,null,null,null,null,null,null,null,null,{"$f":"'APPEL '!AH148","v":0}]
[{"$f":"'APPEL '!A149","v":18},{"$f":"'APPEL '!B149","v":0},{"$f":"'APPEL '!E149","v":0},null,null,null,{"$f":"'APPEL '!O149","v":0},{"$f":"'APPEL '!R149","v":0},{"$f":"'APPEL '!J149","v":0},null,null,null,null,{"$f":"'APPEL '!BH149","v":0},null,null,null,null,null,0,"23-25,9","24-31,9","24-27,9",null,null,null,null,null,null,null,null,{"$f":"'APPEL '!AC149","v":0},null,null,null,null,null,null,null,null,null,null,null,null,null,null,null,null,null,null,null,null,null,null,null,null,null,null,null,null,null,null,null,null,null,null,null,null,null,null,null,null,null,null,null,null,null,null,null,null,null,null,null,null,null,null,null,null,null,null,null,null,null,null,null,null,null,null,{"$f":"'APPEL '!AH149","v":0}]
[{"$f":"'APPEL '!A150","v":18},{"$f":"'APPEL '!B150","v":0},{"$f":"'APPEL '!E150","v":0},null,null,null,{"$f":"'APPEL '!O150","v":0},{"$f":"'APPEL '!R150","v":0},{"$f":"'APPEL '!J150","v":0},null,null,null,null,{"$f":"'APPEL '!BH150","v":0},null,null,null,null,null,0,"23-25,9","24-31,9","24-27,9",null,null,null,null,null,null,null,null,{"$f":"'APPEL '!AC150","v":0},null,null,null,null,null,null,null,null,null,null,null,null,null,null,null,null,null,null,null,null,null,null,null,null,null,null,null,null,null,null,null,null,null,null,null,null,null,null,null,null,null,null,null,null,null,null,null,null,null,null,null,null,null,null,null,null,null,null,null,null,null,null,null,null,null,null,{"$f":"'APPEL '!AH150","v":0}]
[{"$f":"'APPEL '!A151","v":18},{"$f":"'APPEL '!B151","v":0},{"$f":"'APPEL '!E151","v":0},null,null,null,{"$f":"'APPEL '!O151","v":0},{"$f":"'APPEL '!R151","v":0},{"$f":"'APPEL '!J151","v":0},null,null,null,null,{"$f":"'APPEL '!BH151","v":0},null,null,null,null,null,0,"23-25,9","24-31,9","24-27,9",null,null,null,null,null,null,null,null,{"$f":"'APPEL '!AC151","v":0},null,null,null,null,null,null,null,null,null,null,null,null,null,null,null,null,null,null,null,null,null,null,null,null,null,null,null,null,null,null,null,null,null,null,null,null,null,null,null,null,null,null,null,null,null,null,null,null,null,null,null,null,null,null,null,null,null,null,null,null,null,null,null,null,null,null,{"$f":"'APPEL '!AH151","v":0}]
[{"$f":"'APPEL '!A152","v":18},{"$f":"'APPEL '!B152","v":0},{"$f":"'APPEL '!E152","v":0},null,null,null,{"$f":"'APPEL '!O152","v":0},{"$f":"'APPEL '!R152","v":0},{"$f":"'APPEL '!J152","v":0},null,null,null,null,{"$f":"'APPEL '!BH152","v":0},null,null,null,null,null,0,"23-25,9","24-31,9","24-27,9",null,null,null,null,null,null,null,null,{"$f":"'APPEL '!AC152","v":0},null,null,null,null,null,null,null,null,null,null,null,null,null,null,null,null,null,null,null,null,null,null,null,null,null,null,null,null,null,null,null,null,null,null,null,null,null,null,null,null,null,null,null,null,null,null,null,null,null,null,null,null,null,null,null,null,null,null,null,null,null,null,null,null,null,null,{"$f":"'APPEL '!AH152","v":0}]
[{"$f":"'APPEL '!A153","v":18},{"$f":"'APPEL '!B153","v":0},{"$f":"'APPEL '!E153","v":0},null,null,null,{"$f":"'APPEL '!O153","v":0},{"$f":"'APPEL '!R153","v":0},{"$f":"'APPEL '!J153","v":0},null,null,null,null,{"$f":"'APPEL '!BH153","v":0},null,null,null,null,null,0,"23-25,9","24-31,9","24-27,9",null,null,null,null,null,null,null,null,{"$f":"'APPEL '!AC153","v":0},null,null,null,null,null,null,null,null,null,null,null,null,null,null,null,null,null,null,null,null,null,null,null,null,null,null,null,null,null,null,null,null,null,null,null,null,null,null,null,null,null,null,null,null,null,null,null,null,null,null,null,null,null,null,null,null,null,null,null,null,null,null,null,null,null,null,{"$f":"'APPEL '!AH153","v":0}]
[{"$f":"'APPEL '!A154","v":18},{"$f":"'APPEL '!B154","v":0},{"$f":"'APPEL '!E154","v":0},null,null,null,{"$f":"'APPEL '!O154","v":0},{"$f":"'APPEL '!R154","v":0},{"$f":"'APPEL '!J154","v":0},null,null,null,null,{"$f":"'APPEL '!BH154","v":0},null,null,null,null,null,0,"23-25,9","24-31,9","24-27,9",null,null,null,null,null,null,null,null,{"$f":"'APPEL '!AC154","v":0},null,null,null,null,null,null,null,null,null,null,null,null,null,null,null,null,null,null,null,null,null,null,null,null,null,null,null,null,null,null,null,null,null,null,null,null,null,null,null,null,null,null,null,null,null,null,null,null,null,null,null,null,null,null,null,null,null,null,null,null,null,null,null,null,null,null,{"$f":"'APPEL '!AH154","v":0}]
[{"$f":"'APPEL '!A155","v":18},{"$f":"'APPEL '!B155","v":0},{"$f":"'APPEL '!E155","v":0},null,null,null,{"$f":"'APPEL '!O155","v":0},{"$f":"'APPEL '!R155","v":0},{"$f":"'APPEL '!J155","v":0},null,null,null,null,{"$f":"'APPEL '!BH155","v":0},null,null,null,null,null,0,"23-25,9","24-31,9","24-27,9",null,null,null,null,null,null,null,null,{"$f":"'APPEL '!AC155","v":0},null,null,null,null,null,null,null,null,null,null,null,null,null,null,null,null,null,null,null,null,null,null,null,null,null,null,null,null,null,null,null,null,null,null,null,null,null,null,null,null,null,null,null,null,null,null,null,null,null,null,null,null,null,null,null,null,null,null,null,null,null,null,null,null,null,null,{"$f":"'APPEL '!AH155","v":0}]
[{"$f":"'APPEL '!A156","v":18},{"$f":"'APPEL '!B156","v":0},{"$f":"'APPEL '!E156","v":0},null,null,null,{"$f":"'APPEL '!O156","v":0},{"$f":"'APPEL '!R156","v":0},{"$f":"'APPEL '!J156","v":0},null,null,null,null,{"$f":"'APPEL '!BH156","v":0},null,null,null,null,null,0,"23-25,9","24-31,9","24-27,9",null,null,null,null,null,null,null,null,{"$f":"'APPEL '!AC156","v":0},null,null,null,null,null,null,null,null,null,null,null,null,null,null,null,null,null,null,null,null,null,null,null,null,null,null,null,null,null,null,null,null,null,null,null,null,null,null,null,null,null,null,null,null,null,null,null,null,null,null,null,null,null,null,null,null,null,null,null,null,null,null,null,null,null,null,{"$f":"'APPEL '!AH156","v":0}]
[{"$f":"'APPEL '!A157","v":18},{"$f":"'APPEL '!B157","v":0},{"$f":"'APPEL '!E157","v":0},null,null,null,{"$f":"'APPEL '!O157","v":0},{"$f":"'APPEL '!R157","v":0},{"$f":"'APPEL '!J157","v":0},null,null,null,null,{"$f":"'APPEL '!BH157","v":0},null,null,null,null,null,0,"23-25,9","24-31,9","24-27,9",null,null,null,null,null,null,null,null,{"$f":"'APPEL '!AC157","v":0},null,null,null,null,null,null,null,null,null,null,null,null,null,null,null,null,null,null,null,null,null,null,null,null,null,null,null,null,null,null,null,null,null,null,null,null,null,null,null,null,null,null,null,null,null,null,null,null,null,null,null,null,null,null,null,null,null,null,null,null,null,null,null,null,null,null,{"$f":"'APPEL '!AH157","v":0}]
[{"$f":"'APPEL '!A158","v":18},{"$f":"'APPEL '!B158","v":0},{"$f":"'APPEL '!E158","v":0},null,null,null,{"$f":"'APPEL '!O158","v":0},{"$f":"'APPEL '!R158","v":0},{"$f":"'APPEL '!J158","v":0},null,null,null,null,{"$f":"'APPEL '!BH158","v":0},null,null,null,null,null,0,"23-25,9","24-31,9","24-27,9",null,null,null,null,null,null,null,null,{"$f":"'APPEL '!AC158","v":0},null,null,null,null,null,null,null,null,null,null,null,null,null,null,null,null,null,null,null,null,null,null,null,null,null,null,null,null,null,null,null,null,null,null,null,null,null,null,null,null,null,null,null,null,null,null,null,null,null,null,null,null,null,null,null,null,null,null,null,null,null,null,null,null,null,null,{"$f":"'APPEL '!AH158","v":0}]
[{"$f":"'APPEL '!A159","v":18},{"$f":"'APPEL '!B159","v":0},{"$f":"'APPEL '!E159","v":0},null,null,null,{"$f":"'APPEL '!O159","v":0},{"$f":"'APPEL '!R159","v":0},{"$f":"'APPEL '!J159","v":0},null,null,null,null,{"$f":"'APPEL '!BH159","v":0},null,null,null,null,null,0,"23-25,9","24-31,9","24-27,9",null,null,null,null,null,null,null,null,{"$f":"'APPEL '!AC159","v":0},null,null,null,null,null,null,null,null,null,null,null,null,null,null,null,null,null,null,null,null,null,null,null,null,null,null,null,null,null,null,null,null,null,null,null,null,null,null,null,null,null,null,null,null,null,null,null,null,null,null,null,null,null,null,null,null,null,null,null,null,null,null,null,null,null,null,{"$f":"'APPEL '!AH159","v":0}]
[{"$f":"'APPEL '!A160","v":18},{"$f":"'APPEL '!B160","v":0},{"$f":"'APPEL '!E160","v":0},null,null,null,{"$f":"'APPEL '!O160","v":0},{"$f":"'APPEL '!R160","v":0},{"$f":"'APPEL '!J160","v":0},null,null,null,null,{"$f":"'APPEL '!BH160","v":0},null,null,null,null,null,0,"23-25,9","24-31,9","24-27,9",null,null,null,null,null,null,null,null,{"$f":"'APPEL '!AC160","v":0},null,null,null,null,null,null,null,null,null,null,null,null,null,null,null,null,null,null,null,null,null,null,null,null,null,null,null,null,null,null,null,null,null,null,null,null,null,null,null,null,null,null,null,null,null,null,null,null,null,null,null,null,null,null,null,null,null,null,null,null,null,null,null,null,null,null,{"$f":"'APPEL '!AH160","v":0}]
[{"$f":"'APPEL '!A161","v":18},{"$f":"'APPEL '!B161","v":0},{"$f":"'APPEL '!E161","v":0},null,null,null,{"$f":"'APPEL '!O161","v":0},{"$f":"'APPEL '!R161","v":0},{"$f":"'APPEL '!J161","v":0},null,null,null,null,{"$f":"'APPEL '!BH161","v":0},null,null,null,null,null,0,"23-25,9","24-31,9","24-27,9",null,null,null,null,null,null,null,null,{"$f":"'APPEL '!AC161","v":0},null,null,null,null,null,null,null,null,null,null,null,null,null,null,null,null,null,null,null,null,null,null,null,null,null,null,null,null,null,null,null,null,null,null,null,null,null,null,null,null,null,null,null,null,null,null,null,null,null,null,null,null,null,null,null,null,null,null,null,null,null,null,null,null,null,null,{"$f":"'APPEL '!AH161","v":0}]
[{"$f":"'APPEL '!A162","v":18},{"$f":"'APPEL '!B162","v":0},{"$f":"'APPEL '!E162","v":0},null,null,null,{"$f":"'APPEL '!O162","v":0},{"$f":"'APPEL '!R162","v":0},{"$f":"'APPEL '!J162","v":0},null,null,null,null,{"$f":"'APPEL '!BH162","v":0},null,null,null,null,null,0,"23-25,9","24-31,9","24-27,9",null,null,null,null,null,null,null,null,{"$f":"'APPEL '!AC162","v":0},null,null,null,null,null,null,null,null,null,null,null,null,null,null,null,null,null,null,null,null,null,null,null,null,null,null,null,null,null,null,null,null,null,null,null,null,null,null,null,null,null,null,null,null,null,null,null,null,null,null,null,null,null,null,null,null,null,null,null,null,null,null,null,null,null,null,{"$f":"'APPEL '!AH162","v":0}]
[{"$f":"'APPEL '!A163","v":18},{"$f":"'APPEL '!B163","v":0},{"$f":"'APPEL '!E163","v":0},null,null,null,{"$f":"'APPEL '!O163","v":0},{"$f":"'APPEL '!R163","v":0},{"$f":"'APPEL '!J163","v":0},null,null,null,null,{"$f":"'APPEL '!BH163","v":0},null,null,null,null,null,0,"23-25,9","24-31,9","24-27,9",null,null,null,null,null,null,null,null,{"$f":"'APPEL '!AC163","v":0},null,null,null,null,null,null,null,null,null,null,null,null,null,null,null,null,null,null,null,null,null,null,null,null,null,null,null,null,null,null,null,null,null,null,null,null,null,null,null,null,null,null,null,null,null,null,null,null,null,null,null,null,null,null,null,null,null,null,null,null,null,null,null,null,null,null,{"$f":"'APPEL '!AH163","v":0}]
[{"$f":"'APPEL '!A164","v":18},{"$f":"'APPEL '!B164","v":0},{"$f":"'APPEL '!E164","v":0},null,null,null,{"$f":"'APPEL '!O164","v":0},{"$f":"'APPEL '!R164","v":0},{"$f":"'APPEL '!J164","v":0},null,null,null,null,{"$f":"'APPEL '!BH164","v":0},null,null,null,null,null,0,"23-25,9","24-31,9","24-27,9",null,null,null,null,null,null,null,null,{"$f":"'APPEL '!AC164","v":0},null,null,null,null,null,null,null,null,null,null,null,null,null,null,null,null,null,null,null,null,null,null,null,null,null,null,null,null,null,null,null,null,null,null,null,null,null,null,null,null,null,null,null,null,null,null,null,null,null,null,null,null,null,null,null,null,null,null,null,null,null,null,null,null,null,null,{"$f":"'APPEL '!AH164","v":0}]
[{"$f":"'APPEL '!A165","v":18},{"$f":"'APPEL '!B165","v":0},{"$f":"'APPEL '!E165","v":0},null,null,null,{"$f":"'APPEL '!O165","v":0},{"$f":"'APPEL '!R165","v":0},{"$f":"'APPEL '!J165","v":0},null,null,null,null,{"$f":"'APPEL '!BH165","v":0},null,null,null,null,null,0,"23-25,9","24-31,9","24-27,9",null,null,null,null,null,null,null,null,{"$f":"'APPEL '!AC165","v":0},null,null,null,null,null,null,null,null,null,null,null,null,null,null,null,null,null,null,null,null,null,null,null,null,null,null,null,null,null,null,null,null,null,null,null,null,null,null,null,null,null,null,null,null,null,null,null,null,null,null,null,null,null,null,null,null,null,null,null,null,null,null,null,null,null,null,{"$f":"'APPEL '!AH165","v":0}]
[{"$f":"'APPEL '!A166","v":18},{"$f":"'APPEL '!B166","v":0},{"$f":"'APPEL '!E166","v":0},null,null,null,{"$f":"'APPEL '!O166","v":0},{"$f":"'APPEL '!R166","v":0},{"$f":"'APPEL '!J166","v":0},null,null,null,null,{"$f":"'APPEL '!BH166","v":0},null,null,null,null,null,0,"23-25,9","24-31,9","24-27,9",null,null,null,null,null,null,null,null,{"$f":"'APPEL '!AC166","v":0},null,null,null,null,null,null,null,null,null,null,null,null,null,null,null,null,null,null,null,null,null,null,null,null,null,null,null,null,null,null,null,null,null,null,null,null,null,null,null,null,null,null,null,null,null,null,null,null,null,null,null,null,null,null,null,null,null,null,null,null,null,null,null,null,null,null,{"$f":"'APPEL '!AH166","v":0}]
[{"$f":"'APPEL '!A167","v":18},{"$f":"'APPEL '!B167","v":0},{"$f":"'APPEL '!E167","v":0},null,null,null,{"$f":"'APPEL '!O167","v":0},{"$f":"'APPEL '!R167","v":0},{"$f":"'APPEL '!J167","v":0},null,null,null,null,{"$f":"'APPEL '!BH167","v":0},null,null,null,null,null,0,"23-25,9","24-31,9","24-27,9",null,null,null,null,null,null,null,null,{"$f":"'APPEL '!AC167","v":0},null,null,null,null,null,null,null,null,null,null,null,null,null,null,null,null,null,null,null,null,null,null,null,null,null,null,null,null,null,null,null,null,null,null,null,null,null,null,null,null,null,null,null,null,null,null,null,null,null,null,null,null,null,null,null,null,null,null,null,null,null,null,null,null,null,null,{"$f":"'APPEL '!AH167","v":0}]
[{"$f":"'APPEL '!A168","v":18},{"$f":"'APPEL '!B168","v":0},{"$f":"'APPEL '!E168","v":0},null,null,null,{"$f":"'APPEL '!O168","v":0},{"$f":"'APPEL '!R168","v":0},{"$f":"'APPEL '!J168","v":0},null,null,null,null,{"$f":"'APPEL '!BH168","v":0},null,null,null,null,null,0,"23-25,9","24-31,9","24-27,9",null,null,null,null,null,null,null,null,{"$f":"'APPEL '!AC168","v":0},null,null,null,null,null,null,null,null,null,null,null,null,null,null,null,null,null,null,null,null,null,null,null,null,null,null,null,null,null,null,null,null,null,null,null,null,null,null,null,null,null,null,null,null,null,null,null,null,null,null,null,null,null,null,null,null,null,null,null,null,null,null,null,null,null,null,{"$f":"'APPEL '!AH168","v":0}]
[{"$f":"'APPEL '!A169","v":18},{"$f":"'APPEL '!B169","v":0},{"$f":"'APPEL '!E169","v":0},null,null,null,{"$f":"'APPEL '!O169","v":0},{"$f":"'APPEL '!R169","v":0},{"$f":"'APPEL '!J169","v":0},null,null,null,null,{"$f":"'APPEL '!BH169","v":0},null,null,null,null,null,0,"23-25,9","24-31,9","24-27,9",null,null,null,null,null,null,null,null,{"$f":"'APPEL '!AC169","v":0},null,null,null,null,null,null,null,null,null,null,null,null,null,null,null,null,null,null,null,null,null,null,null,null,null,null,null,null,null,null,null,null,null,null,null,null,null,null,null,null,null,null,null,null,null,null,null,null,null,null,null,null,null,null,null,null,null,null,null,null,null,null,null,null,null,null,{"$f":"'APPEL '!AH169","v":0}]
[{"$f":"'APPEL '!A170","v":18},{"$f":"'APPEL '!B170","v":0},{"$f":"'APPEL '!E170","v":0},null,null,null,{"$f":"'APPEL '!O170","v":0},{"$f":"'APPEL '!R170","v":0},{"$f":"'APPEL '!J170","v":0},null,null,null,null,{"$f":"'APPEL '!BH170","v":0},null,null,null,null,null,0,"23-25,9","24-31,9","24-27,9",null,null,null,null,null,null,null,null,{"$f":"'APPEL '!AC170","v":0},null,null,null,null,null,null,null,null,null,null,null,null,null,null,null,null,null,null,null,null,null,null,null,null,null,null,null,null,null,null,null,null,null,null,null,null,null,null,null,null,null,null,null,null,null,null,null,null,null,null,null,null,null,null,null,null,null,null,null,null,null,null,null,null,null,null,{"$f":"'APPEL '!AH170","v":0}]
[{"$f":"'APPEL '!A171","v":18},{"$f":"'APPEL '!B171","v":0},{"$f":"'APPEL '!E171","v":0},null,null,null,{"$f":"'APPEL '!O171","v":0},{"$f":"'APPEL '!R171","v":0},{"$f":"'APPEL '!J171","v":0},null,null,null,null,{"$f":"'APPEL '!BH171","v":0},null,null,null,null,null,0,"23-25,9","24-31,9","24-27,9",null,null,null,null,null,null,null,null,{"$f":"'APPEL '!AC171","v":0},null,null,null,null,null,null,null,null,null,null,null,null,null,null,null,null,null,null,null,null,null,null,null,null,null,null,null,null,null,null,null,null,null,null,null,null,null,null,null,null,null,null,null,null,null,null,null,null,null,null,null,null,null,null,null,null,null,null,null,null,null,null,null,null,null,null,{"$f":"'APPEL '!AH171","v":0}]
[{"$f":"'APPEL '!A172","v":18},{"$f":"'APPEL '!B172","v":0},{"$f":"'APPEL '!E172","v":0},null,null,null,{"$f":"'APPEL '!O172","v":0},{"$f":"'APPEL '!R172","v":0},{"$f":"'APPEL '!J172","v":0},null,null,null,null,{"$f":"'APPEL '!BH172","v":0},null,null,null,null,null,0,"23-25,9","24-31,9","24-27,9",null,null,null,null,null,null,null,null,{"$f":"'APPEL '!AC172","v":0},null,null,null,null,null,null,null,null,null,null,null,null,null,null,null,null,null,null,null,null,null,null,null,null,null,null,null,null,null,null,null,null,null,null,null,null,null,null,null,null,null,null,null,null,null,null,null,null,null,null,null,null,null,null,null,null,null,null,null,null,null,null,null,null,null,null,{"$f":"'APPEL '!AH172","v":0}]
[{"$f":"'APPEL '!A173","v":18},{"$f":"'APPEL '!B173","v":0},{"$f":"'APPEL '!E173","v":0},null,null,null,{"$f":"'APPEL '!O173","v":0},{"$f":"'APPEL '!R173","v":0},{"$f":"'APPEL '!J173","v":0},null,null,null,null,{"$f":"'APPEL '!BH173","v":0},null,null,null,null,null,0,"23-25,9","24-31,9","24-27,9",null,null,null,null,null,null,null,null,{"$f":"'APPEL '!AC173","v":0},null,null,null,null,null,null,null,null,null,null,null,null,null,null,null,null,null,null,null,null,null,null,null,null,null,null,null,null,null,null,null,null,null,null,null,null,null,null,null,null,null,null,null,null,null,null,null,null,null,null,null,null,null,null,null,null,null,null,null,null,null,null,null,null,null,null,{"$f":"'APPEL '!AH173","v":0}]
[{"$f":"'APPEL '!A174","v":18},{"$f":"'APPEL '!B174","v":0},{"$f":"'APPEL '!E174","v":0},null,null,null,{"$f":"'APPEL '!O174","v":0},{"$f":"'APPEL '!R174","v":0},{"$f":"'APPEL '!J174","v":0},null,null,null,null,{"$f":"'APPEL '!BH174","v":0},null,null,null,null,null,0,"23-25,9","24-31,9","24-27,9",null,null,null,null,null,null,null,null,{"$f":"'APPEL '!AC174","v":0},null,null,null,null,null,null,null,null,null,null,null,null,null,null,null,null,null,null,null,null,null,null,null,null,null,null,null,null,null,null,null,null,null,null,null,null,null,null,null,null,null,null,null,null,null,null,null,null,null,null,null,null,null,null,null,null,null,null,null,null,null,null,null,null,null,null,{"$f":"'APPEL '!AH174","v":0}]
[{"$f":"'APPEL '!A175","v":18},{"$f":"'APPEL '!B175","v":0},{"$f":"'APPEL '!E175","v":0},null,null,null,{"$f":"'APPEL '!O175","v":0},{"$f":"'APPEL '!R175","v":0},{"$f":"'APPEL '!J175","v":0},null,null,null,null,{"$f":"'APPEL '!BH175","v":0},null,null,null,null,null,0,"23-25,9","24-31,9","24-27,9",null,null,null,null,null,null,null,null,{"$f":"'APPEL '!AC175","v":0},null,null,null,null,null,null,null,null,null,null,null,null,null,null,null,null,null,null,null,null,null,null,null,null,null,null,null,null,null,null,null,null,null,null,null,null,null,null,null,null,null,null,null,null,null,null,null,null,null,null,null,null,null,null,null,null,null,null,null,null,null,null,null,null,null,null,{"$f":"'APPEL '!AH175","v":0}]
[{"$f":"'APPEL '!A176","v":18},{"$f":"'APPEL '!B176","v":0},{"$f":"'APPEL '!E176","v":0},null,null,null,{"$f":"'APPEL '!O176","v":0},{"$f":"'APPEL '!R176","v":0},{"$f":"'APPEL '!J176","v":0},null,null,null,null,{"$f":"'APPEL '!BH176","v":0},null,null,null,null,null,0,"23-25,9","24-31,9","24-27,9",null,null,null,null,null,null,null,null,{"$f":"'APPEL '!AC176","v":0},null,null,null,null,null,null,null,null,null,null,null,null,null,null,null,null,null,null,null,null,null,null,null,null,null,null,null,null,null,null,null,null,null,null,null,null,null,null,null,null,null,null,null,null,null,null,null,null,null,null,null,null,null,null,null,null,null,null,null,null,null,null,null,null,null,null,{"$f":"'APPEL '!AH176","v":0}]
[{"$f":"'APPEL '!A177","v":18},{"$f":"'APPEL '!B177","v":0},{"$f":"'APPEL '!E177","v":0},null,null,null,{"$f":"'APPEL '!O177","v":0},{"$f":"'APPEL '!R177","v":0},{"$f":"'APPEL '!J177","v":0},null,null,null,null,{"$f":"'APPEL '!BH177","v":0},null,null,null,null,null,0,"23-25,9","24-31,9","24-27,9",null,null,null,null,null,null,null,null,{"$f":"'APPEL '!AC177","v":0},null,null,null,null,null,null,null,null,null,null,null,null,null,null,null,null,null,null,null,null,null,null,null,null,null,null,null,null,null,null,null,null,null,null,null,null,null,null,null,null,null,null,null,null,null,null,null,null,null,null,null,null,null,null,null,null,null,null,null,null,null,null,null,null,null,null,{"$f":"'APPEL '!AH177","v":0}]
[{"$f":"'APPEL '!A178","v":18},{"$f":"'APPEL '!B178","v":0},{"$f":"'APPEL '!E178","v":0},null,null,null,{"$f":"'APPEL '!O178","v":0},{"$f":"'APPEL '!R178","v":0},{"$f":"'APPEL '!J178","v":0},null,null,null,null,{"$f":"'APPEL '!BH178","v":0},null,null,null,null,null,0,"23-25,9","24-31,9","24-27,9",null,null,null,null,null,null,null,null,{"$f":"'APPEL '!AC178","v":0},null,null,null,null,null,null,null,null,null,null,null,null,null,null,null,null,null,null,null,null,null,null,null,null,null,null,null,null,null,null,null,null,null,null,null,null,null,null,null,null,null,null,null,null,null,null,null,null,null,null,null,null,null,null,null,null,null,null,null,null,null,null,null,null,null,null,{"$f":"'APPEL '!AH178","v":0}]
[{"$f":"'APPEL '!A179","v":18},{"$f":"'APPEL '!B179","v":0},{"$f":"'APPEL '!E179","v":0},null,null,null,{"$f":"'APPEL '!O179","v":0},{"$f":"'APPEL '!R179","v":0},{"$f":"'APPEL '!J179","v":0},null,null,null,null,{"$f":"'APPEL '!BH179","v":0},null,null,null,null,null,0,"23-25,9","24-31,9","24-27,9",null,null,null,null,null,null,null,null,{"$f":"'APPEL '!AC179","v":0},null,null,null,null,null,null,null,null,null,null,null,null,null,null,null,null,null,null,null,null,null,null,null,null,null,null,null,null,null,null,null,null,null,null,null,null,null,null,null,null,null,null,null,null,null,null,null,null,null,null,null,null,null,null,null,null,null,null,null,null,null,null,null,null,null,null,{"$f":"'APPEL '!AH179","v":0}]
[{"$f":"'APPEL '!A180","v":18},{"$f":"'APPEL '!B180","v":0},{"$f":"'APPEL '!E180","v":0},null,null,null,{"$f":"'APPEL '!O180","v":0},{"$f":"'APPEL '!R180","v":0},{"$f":"'APPEL '!J180","v":0},null,null,null,null,{"$f":"'APPEL '!BH180","v":0},null,null,null,null,null,0,"23-25,9","24-31,9","24-27,9",null,null,null,null,null,null,null,null,{"$f":"'APPEL '!AC180","v":0},null,null,null,null,null,null,null,null,null,null,null,null,null,null,null,null,null,null,null,null,null,null,null,null,null,null,null,null,null,null,null,null,null,null,null,null,null,null,null,null,null,null,null,null,null,null,null,null,null,null,null,null,null,null,null,null,null,null,null,null,null,null,null,null,null,null,{"$f":"'APPEL '!AH180","v":0}]
[{"$f":"'APPEL '!A181","v":18},{"$f":"'APPEL '!B181","v":0},{"$f":"'APPEL '!E181","v":0},null,null,null,{"$f":"'APPEL '!O181","v":0},{"$f":"'APPEL '!R181","v":0},{"$f":"'APPEL '!J181","v":0},null,null,null,null,{"$f":"'APPEL '!BH181","v":0},null,null,null,null,null,0,"23-25,9","24-31,9","24-27,9",null,null,null,null,null,null,null,null,{"$f":"'APPEL '!AC181","v":0},null,null,null,null,null,null,null,null,null,null,null,null,null,null,null,null,null,null,null,null,null,null,null,null,null,null,null,null,null,null,null,null,null,null,null,null,null,null,null,null,null,null,null,null,null,null,null,null,null,null,null,null,null,null,null,null,null,null,null,null,null,null,null,null,null,null,{"$f":"'APPEL '!AH181","v":0}]
[{"$f":"'APPEL '!A182","v":18},{"$f":"'APPEL '!B182","v":0},{"$f":"'APPEL '!E182","v":0},null,null,null,{"$f":"'APPEL '!O182","v":0},{"$f":"'APPEL '!R182","v":0},{"$f":"'APPEL '!J182","v":0},null,null,null,null,{"$f":"'APPEL '!BH182","v":0},null,null,null,null,null,0,"23-25,9","24-31,9","24-27,9",null,null,null,null,null,null,null,null,{"$f":"'APPEL '!AC182","v":0},null,null,null,null,null,null,null,null,null,null,null,null,null,null,null,null,null,null,null,null,null,null,null,null,null,null,null,null,null,null,null,null,null,null,null,null,null,null,null,null,null,null,null,null,null,null,null,null,null,null,null,null,null,null,null,null,null,null,null,null,null,null,null,null,null,null,{"$f":"'APPEL '!AH182","v":0}]
[{"$f":"'APPEL '!A183","v":18},{"$f":"'APPEL '!B183","v":0},{"$f":"'APPEL '!E183","v":0},null,null,null,{"$f":"'APPEL '!O183","v":0},{"$f":"'APPEL '!R183","v":0},{"$f":"'APPEL '!J183","v":0},null,null,null,null,{"$f":"'APPEL '!BH183","v":0},null,null,null,null,null,0,"23-25,9","24-31,9","24-27,9",null,null,null,null,null,null,null,null,{"$f":"'APPEL '!AC183","v":0},null,null,null,null,null,null,null,null,null,null,null,null,null,null,null,null,null,null,null,null,null,null,null,null,null,null,null,null,null,null,null,null,null,null,null,null,null,null,null,null,null,null,null,null,null,null,null,null,null,null,null,null,null,null,null,null,null,null,null,null,null,null,null,null,null,null,{"$f":"'APPEL '!AH183","v":0}]
[{"$f":"'APPEL '!A184","v":18},{"$f":"'APPEL '!B184","v":0},{"$f":"'APPEL '!E184","v":0},null,null,null,{"$f":"'APPEL '!O184","v":0},{"$f":"'APPEL '!R184","v":0},{"$f":"'APPEL '!J184","v":0},null,null,null,null,{"$f":"'APPEL '!BH184","v":0},null,null,null,null,null,0,"23-25,9","24-31,9","24-27,9",null,null,null,null,null,null,null,null,{"$f":"'APPEL '!AC184","v":0},null,null,null,null,null,null,null,null,null,null,null,null,null,null,null,null,null,null,null,null,null,null,null,null,null,null,null,null,null,null,null,null,null,null,null,null,null,null,null,null,null,null,null,null,null,null,null,null,null,null,null,null,null,null,null,null,null,null,null,null,null,null,null,null,null,null,{"$f":"'APPEL '!AH184","v":0}]
[{"$f":"'APPEL '!A185","v":18},{"$f":"'APPEL '!B185","v":0},{"$f":"'APPEL '!E185","v":0},null,null,null,{"$f":"'APPEL '!O185","v":0},{"$f":"'APPEL '!R185","v":0},{"$f":"'APPEL '!J185","v":0},null,null,null,null,{"$f":"'APPEL '!BH185","v":0},null,null,null,null,null,0,"23-25,9","24-31,9","24-27,9",null,null,null,null,null,null,null,null,{"$f":"'APPEL '!AC185","v":0},null,null,null,null,null,null,null,null,null,null,null,null,null,null,null,null,null,null,null,null,null,null,null,null,null,null,null,null,null,null,null,null,null,null,null,null,null,null,null,null,null,null,null,null,null,null,null,null,null,null,null,null,null,null,null,null,null,null,null,null,null,null,null,null,null,null,{"$f":"'APPEL '!AH185","v":0}]
[{"$f":"'APPEL '!A186","v":18},{"$f":"'APPEL '!B186","v":0},{"$f":"'APPEL '!E186","v":0},null,null,null,{"$f":"'APPEL '!O186","v":0},{"$f":"'APPEL '!R186","v":0},{"$f":"'APPEL '!J186","v":0},null,null,null,null,{"$f":"'APPEL '!BH186","v":0},null,null,null,null,null,0,"23-25,9","24-31,9","24-27,9",null,null,null,null,null,null,null,null,{"$f":"'APPEL '!AC186","v":0},null,null,null,null,null,null,null,null,null,null,null,null,null,null,null,null,null,null,null,null,null,null,null,null,null,null,null,null,null,null,null,null,null,null,null,null,null,null,null,null,null,null,null,null,null,null,null,null,null,null,null,null,null,null,null,null,null,null,null,null,null,null,null,null,null,null,{"$f":"'APPEL '!AH186","v":0}]
[{"$f":"'APPEL '!A187","v":18},{"$f":"'APPEL '!B187","v":0},{"$f":"'APPEL '!E187","v":0},null,null,null,{"$f":"'APPEL '!O187","v":0},{"$f":"'APPEL '!R187","v":0},{"$f":"'APPEL '!J187","v":0},null,null,null,null,{"$f":"'APPEL '!BH187","v":0},null,null,null,null,null,0,"23-25,9","24-31,9","24-27,9",null,null,null,null,null,null,null,null,{"$f":"'APPEL '!AC187","v":0},null,null,null,null,null,null,null,null,null,null,null,null,null,null,null,null,null,null,null,null,null,null,null,null,null,null,null,null,null,null,null,null,null,null,null,null,null,null,null,null,null,null,null,null,null,null,null,null,null,null,null,null,null,null,null,null,null,null,null,null,null,null,null,null,null,null,{"$f":"'APPEL '!AH187","v":0}]
[{"$f":"'APPEL '!A188","v":18},{"$f":"'APPEL '!B188","v":0},{"$f":"'APPEL '!E188","v":0},null,null,null,{"$f":"'APPEL '!O188","v":0},{"$f":"'APPEL '!R188","v":0},{"$f":"'APPEL '!J188","v":0},null,null,null,null,{"$f":"'APPEL '!BH188","v":0},null,null,null,null,null,0,"23-25,9","24-31,9","24-27,9",null,null,null,null,null,null,null,null,{"$f":"'APPEL '!AC188","v":0},null,null,null,null,null,null,null,null,null,null,null,null,null,null,null,null,null,null,null,null,null,null,null,null,null,null,null,null,null,null,null,null,null,null,null,null,null,null,null,null,null,null,null,null,null,null,null,null,null,null,null,null,null,null,null,null,null,null,null,null,null,null,null,null,null,null,{"$f":"'APPEL '!AH188","v":0}]
[{"$f":"'APPEL '!A189","v":18},{"$f":"'APPEL '!B189","v":0},{"$f":"'APPEL '!E189","v":0},null,null,null,{"$f":"'APPEL '!O189","v":0},{"$f":"'APPEL '!R189","v":0},{"$f":"'APPEL '!J189","v":0},null,null,null,null,{"$f":"'APPEL '!BH189","v":0},null,null,null,null,null,0,"23-25,9","24-31,9","24-27,9",null,null,null,null,null,null,null,null,{"$f":"'APPEL '!AC189","v":0},null,null,null,null,null,null,null,null,null,null,null,null,null,null,null,null,null,null,null,null,null,null,null,null,null,null,null,null,null,null,null,null,null,null,null,null,null,null,null,null,null,null,null,null,null,null,null,null,null,null,null,null,null,null,null,null,null,null,null,null,null,null,null,null,null,null,{"$f":"'APPEL '!AH189","v":0}]
[{"$f":"'APPEL '!A190","v":18},{"$f":"'APPEL '!B190","v":0},{"$f":"'APPEL '!E190","v":0},null,null,null,{"$f":"'APPEL '!O190","v":0},{"$f":"'APPEL '!R190","v":0},{"$f":"'APPEL '!J190","v":0},null,null,null,null,{"$f":"'APPEL '!BH190","v":0},null,null,null,null,null,0,"23-25,9","24-31,9","24-27,9",null,null,null,null,null,null,null,null,{"$f":"'APPEL '!AC190","v":0},null,null,null,null,null,null,null,null,null,null,null,null,null,null,null,null,null,null,null,null,null,null,null,null,null,null,null,null,null,null,null,null,null,null,null,null,null,null,null,null,null,null,null,null,null,null,null,null,null,null,null,null,null,null,null,null,null,null,null,null,null,null,null,null,null,null,{"$f":"'APPEL '!AH190","v":0}]
[{"$f":"'APPEL '!A191","v":18},{"$f":"'APPEL '!B191","v":0},{"$f":"'APPEL '!E191","v":0},null,null,null,{"$f":"'APPEL '!O191","v":0},{"$f":"'APPEL '!R191","v":0},{"$f":"'APPEL '!J191","v":0},null,null,null,null,{"$f":"'APPEL '!BH191","v":0},null,null,null,null,null,0,"23-25,9","24-31,9","24-27,9",null,null,null,null,null,null,null,null,{"$f":"'APPEL '!AC191","v":0},null,null,null,null,null,null,null,null,null,null,null,null,null,null,null,null,null,null,null,null,null,null,null,null,null,null,null,null,null,null,null,null,null,null,null,null,null,null,null,null,null,null,null,null,null,null,null,null,null,null,null,null,null,null,null,null,null,null,null,null,null,null,null,null,null,null,{"$f":"'APPEL '!AH191","v":0}]
[{"$f":"'APPEL '!A192","v":18},{"$f":"'APPEL '!B192","v":0},{"$f":"'APPEL '!E192","v":0},null,null,null,{"$f":"'APPEL '!O192","v":0},{"$f":"'APPEL '!R192","v":0},{"$f":"'APPEL '!J192","v":0},null,null,null,null,{"$f":"'APPEL '!BH192","v":0},null,null,null,null,null,0,"23-25,9","24-31,9","24-27,9",null,null,null,null,null,null,null,null,{"$f":"'APPEL '!AC192","v":0},null,null,null,null,null,null,null,null,null,null,null,null,null,null,null,null,null,null,null,null,null,null,null,null,null,null,null,null,null,null,null,null,null,null,null,null,null,null,null,null,null,null,null,null,null,null,null,null,null,null,null,null,null,null,null,null,null,null,null,null,null,null,null,null,null,null,{"$f":"'APPEL '!AH192","v":0}]
[{"$f":"'APPEL '!A193","v":18},{"$f":"'APPEL '!B193","v":0},{"$f":"'APPEL '!E193","v":0},null,null,null,{"$f":"'APPEL '!O193","v":0},{"$f":"'APPEL '!R193","v":0},{"$f":"'APPEL '!J193","v":0},null,null,null,null,{"$f":"'APPEL '!BH193","v":0},null,null,null,null,null,0,"23-25,9","24-31,9","24-27,9",null,null,null,null,null,null,null,null,{"$f":"'APPEL '!AC193","v":0},null,null,null,null,null,null,null,null,null,null,null,null,null,null,null,null,null,null,null,null,null,null,null,null,null,null,null,null,null,null,null,null,null,null,null,null,null,null,null,null,null,null,null,null,null,null,null,null,null,null,null,null,null,null,null,null,null,null,null,null,null,null,null,null,null,null,{"$f":"'APPEL '!AH193","v":0}]
[{"$f":"'APPEL '!A194","v":18},{"$f":"'APPEL '!B194","v":0},{"$f":"'APPEL '!E194","v":0},null,null,null,{"$f":"'APPEL '!O194","v":0},{"$f":"'APPEL '!R194","v":0},{"$f":"'APPEL '!J194","v":0},null,null,null,null,{"$f":"'APPEL '!BH194","v":0},null,null,null,null,null,0,"23-25,9","24-31,9","24-27,9",null,null,null,null,null,null,null,null,{"$f":"'APPEL '!AC194","v":0},null,null,null,null,null,null,null,null,null,null,null,null,null,null,null,null,null,null,null,null,null,null,null,null,null,null,null,null,null,null,null,null,null,null,null,null,null,null,null,null,null,null,null,null,null,null,null,null,null,null,null,null,null,null,null,null,null,null,null,null,null,null,null,null,null,null,{"$f":"'APPEL '!AH194","v":0}]
[{"$f":"'APPEL '!A195","v":18},{"$f":"'APPEL '!B195","v":0},{"$f":"'APPEL '!E195","v":0},null,null,null,{"$f":"'APPEL '!O195","v":0},{"$f":"'APPEL '!R195","v":0},{"$f":"'APPEL '!J195","v":0},null,null,null,null,{"$f":"'APPEL '!BH195","v":0},null,null,null,null,null,{"$f":"R195+(S195/7)","v":0},{"$f":"IF(T195<25.9,\"23-25,9\",IF(T195<27.9,\"26-27,9\",IF(T195<31.9,\"28-31,9\",IF(T195<34.9,\"32-34,9\",IF(T195<36.9,\"35-36,9\",IF(T195<40.2,\"37-40,2\",IF(T195<42,\"40,3-42\",IF(T195>42,\">42\"))))))))","v":"23-25,9"},{"$f":"IF(T195<31.9,\"24-31,9\",IF(T195<42,\"32-42\",IF(T195>=42,\">42\")))","v":"24-31,9"},{"$f":"IF(T195<27.9,\"24-27,9\",IF(T195<42,\"28-42\",IF(T195>=42,\">42\")))","v":"24-27,9"},null,null,null,null,null,null,null,null,{"$f":"'APPEL '!AC195","v":0},null,null,null,null,null,null,null,null,null,null,null,null,null,null,null,null,null,null,null,null,null,null,null,null,null,null,null,null,null,null,null,null,null,null,null,null,null,null,null,null,null,null,null,null,null,null,null,null,null,null,null,null,null,null,null,null,null,null,null,null,null,null,null,null,null,null,{"$f":"'APPEL '!AH195","v":0}]
[{"$f":"'APPEL '!A196","v":18},{"$f":"'APPEL '!B196","v":0},{"$f":"'APPEL '!E196","v":0},null,null,null,{"$f":"'APPEL '!O196","v":0},{"$f":"'APPEL '!R196","v":0},{"$f":"'APPEL '!J196","v":0},null,null,null,null,{"$f":"'APPEL '!BH196","v":0},null,null,null,null,null,0,"23-25,9","24-31,9","24-27,9",null,null,null,null,null,null,null,null,{"$f":"'APPEL '!AC196","v":0},null,null,null,null,null,null,null,null,null,null,null,null,null,null,null,null,null,null,null,null,null,null,null,null,null,null,null,null,null,null,null,null,null,null,null,null,null,null,null,null,null,null,null,null,null,null,null,null,null,null,null,null,null,null,null,null,null,null,null,null,null,null,null,null,null,null,{"$f":"'APPEL '!AH196","v":0}]
[{"$f":"'APPEL '!A197","v":18},{"$f":"'APPEL '!B197","v":0},{"$f":"'APPEL '!E197","v":0},null,null,null,{"$f":"'APPEL '!O197","v":0},{"$f":"'APPEL '!R197","v":0},{"$f":"'APPEL '!J197","v":0},null,null,null,null,{"$f":"'APPEL '!BH197","v":0},null,null,null,null,null,0,"23-25,9","24-31,9","24-27,9",null,null,null,null,null,null,null,null,{"$f":"'APPEL '!AC197","v":0},null,null,null,null,null,null,null,null,null,null,null,null,null,null,null,null,null,null,null,null,null,null,null,null,null,null,null,null,null,null,null,null,null,null,null,null,null,null,null,null,null,null,null,null,null,null,null,null,null,null,null,null,null,null,null,null,null,null,null,null,null,null,null,null,null,null,{"$f":"'APPEL '!AH197","v":0}]
[{"$f":"'APPEL '!A198","v":18},{"$f":"'APPEL '!B198","v":0},{"$f":"'APPEL '!E198","v":0},null,null,null,{"$f":"'APPEL '!O198","v":0},{"$f":"'APPEL '!R198","v":0},{"$f":"'APPEL '!J198","v":0},null,null,null,null,{"$f":"'APPEL '!BH198","v":0},null,null,null,null,null,0,"23-25,9","24-31,9","24-27,9",null,null,null,null,null,null,null,null,{"$f":"'APPEL '!AC198","v":0},null,null,null,null,null,null,null,null,null,null,null,null,null,null,null,null,null,null,null,null,null,null,null,null,null,null,null,null,null,null,null,null,null,null,null,null,null,null,null,null,null,null,null,null,null,null,null,null,null,null,null,null,null,null,null,null,null,null,null,null,null,null,null,null,null,null,{"$f":"'APPEL '!AH198","v":0}]
[{"$f":"'APPEL '!A199","v":18},{"$f":"'APPEL '!B199","v":0},{"$f":"'APPEL '!E199","v":0},null,null,null,{"$f":"'APPEL '!O199","v":0},{"$f":"'APPEL '!R199","v":0},{"$f":"'APPEL '!J199","v":0},null,null,null,null,{"$f":"'APPEL '!BH199","v":0},null,null,null,null,null,0,"23-25,9","24-31,9","24-27,9",null,null,null,null,null,null,null,null,{"$f":"'APPEL '!AC199","v":0},null,null,null,null,null,null,null,null,null,null,null,null,null,null,null,null,null,null,null,null,null,null,null,null,null,null,null,null,null,null,null,null,null,null,null,null,null,null,null,null,null,null,null,null,null,null,null,null,null,null,null,null,null,null,null,null,null,null,null,null,null,null,null,null,null,null,{"$f":"'APPEL '!AH199","v":0}]
[{"$f":"'APPEL '!A200","v":18},{"$f":"'APPEL '!B200","v":0},{"$f":"'APPEL '!E200","v":0},null,null,null,{"$f":"'APPEL '!O200","v":0},{"$f":"'APPEL '!R200","v":0},{"$f":"'APPEL '!J200","v":0},null,null,null,null,{"$f":"'APPEL '!BH200","v":0},null,null,null,null,null,0,"23-25,9","24-31,9","24-27,9",null,null,null,null,null,null,null,null,{"$f":"'APPEL '!AC200","v":0},null,null,null,null,null,null,null,null,null,null,null,null,null,null,null,null,null,null,null,null,null,null,null,null,null,null,null,null,null,null,null,null,null,null,null,null,null,null,null,null,null,null,null,null,null,null,null,null,null,null,null,null,null,null,null,null,null,null,null,null,null,null,null,null,null,null,{"$f":"'APPEL '!AH200","v":0}]
[{"$f":"'APPEL '!A201","v":18},{"$f":"'APPEL '!B201","v":0},{"$f":"'APPEL '!E201","v":0},null,null,null,{"$f":"'APPEL '!O201","v":0},{"$f":"'APPEL '!R201","v":0},{"$f":"'APPEL '!J201","v":0},null,null,null,null,{"$f":"'APPEL '!BH201","v":0},null,null,null,null,null,0,"23-25,9","24-31,9","24-27,9",null,null,null,null,null,null,null,null,{"$f":"'APPEL '!AC201","v":0},null,null,null,null,null,null,null,null,null,null,null,null,null,null,null,null,null,null,null,null,null,null,null,null,null,null,null,null,null,null,null,null,null,null,null,null,null,null,null,null,null,null,null,null,null,null,null,null,null,null,null,null,null,null,null,null,null,null,null,null,null,null,null,null,null,null,{"$f":"'APPEL '!AH201","v":0}]
[{"$f":"'APPEL '!A202","v":18},{"$f":"'APPEL '!B202","v":0},{"$f":"'APPEL '!E202","v":0},null,null,null,{"$f":"'APPEL '!O202","v":0},{"$f":"'APPEL '!R202","v":0},{"$f":"'APPEL '!J202","v":0},null,null,null,null,{"$f":"'APPEL '!BH202","v":0},null,null,null,null,null,0,"23-25,9","24-31,9","24-27,9",null,null,null,null,null,null,null,null,{"$f":"'APPEL '!AC202","v":0},null,null,null,null,null,null,null,null,null,null,null,null,null,null,null,null,null,null,null,null,null,null,null,null,null,null,null,null,null,null,null,null,null,null,null,null,null,null,null,null,null,null,null,null,null,null,null,null,null,null,null,null,null,null,null,null,null,null,null,null,null,null,null,null,null,null,{"$f":"'APPEL '!AH202","v":0}]
[{"$f":"'APPEL '!A203","v":18},{"$f":"'APPEL '!B203","v":0},{"$f":"'APPEL '!E203","v":0},null,null,null,{"$f":"'APPEL '!O203","v":0},{"$f":"'APPEL '!R203","v":0},{"$f":"'APPEL '!J203","v":0},null,null,null,null,{"$f":"'APPEL '!BH203","v":0},null,null,null,null,null,0,"23-25,9","24-31,9","24-27,9",null,null,null,null,null,null,null,null,{"$f":"'APPEL '!AC203","v":0},null,null,null,null,null,null,null,null,null,null,null,null,null,null,null,null,null,null,null,null,null,null,null,null,null,null,null,null,null,null,null,null,null,null,null,null,null,null,null,null,null,null,null,null,null,null,null,null,null,null,null,null,null,null,null,null,null,null,null,null,null,null,null,null,null,null,{"$f":"'APPEL '!AH203","v":0}]
[{"$f":"'APPEL '!A204","v":18},{"$f":"'APPEL '!B204","v":0},{"$f":"'APPEL '!E204","v":0},null,null,null,{"$f":"'APPEL '!O204","v":0},{"$f":"'APPEL '!R204","v":0},{"$f":"'APPEL '!J204","v":0},null,null,null,null,{"$f":"'APPEL '!BH204","v":0},null,null,null,null,null,0,"23-25,9","24-31,9","24-27,9",null,null,null,null,null,null,null,null,{"$f":"'APPEL '!AC204","v":0},null,null,null,null,null,null,null,null,null,null,null,null,null,null,null,null,null,null,null,null,null,null,null,null,null,null,null,null,null,null,null,null,null,null,null,null,null,null,null,null,null,null,null,null,null,null,null,null,null,null,null,null,null,null,null,null,null,null,null,null,null,null,null,null,null,null,{"$f":"'APPEL '!AH204","v":0}]
[{"$f":"'APPEL '!A205","v":18},{"$f":"'APPEL '!B205","v":0},{"$f":"'APPEL '!E205","v":0},null,null,null,{"$f":"'APPEL '!O205","v":0},{"$f":"'APPEL '!R205","v":0},{"$f":"'APPEL '!J205","v":0},null,null,null,null,{"$f":"'APPEL '!BH205","v":0},null,null,null,null,null,0,"23-25,9","24-31,9","24-27,9",null,null,null,null,null,null,null,null,{"$f":"'APPEL '!AC205","v":0},null,null,null,null,null,null,null,null,null,null,null,null,null,null,null,null,null,null,null,null,null,null,null,null,null,null,null,null,null,null,null,null,null,null,null,null,null,null,null,null,null,null,null,null,null,null,null,null,null,null,null,null,null,null,null,null,null,null,null,null,null,null,null,null,null,null,{"$f":"'APPEL '!AH205","v":0}]
[{"$f":"'APPEL '!A206","v":18},{"$f":"'APPEL '!B206","v":0},{"$f":"'APPEL '!E206","v":0},null,null,null,{"$f":"'APPEL '!O206","v":0},{"$f":"'APPEL '!R206","v":0},{"$f":"'APPEL '!J206","v":0},null,null,null,null,{"$f":"'APPEL '!BH206","v":0},null,null,null,null,null,0,"23-25,9","24-31,9","24-27,9",null,null,null,null,null,null,null,null,{"$f":"'APPEL '!AC206","v":0},null,null,null,null,null,null,null,null,null,null,null,null,null,null,null,null,null,null,null,null,null,null,null,null,null,null,null,null,null,null,null,null,null,null,null,null,null,null,null,null,null,null,null,null,null,null,null,null,null,null,null,null,null,null,null,null,null,null,null,null,null,null,null,null,null,null,{"$f":"'APPEL '!AH206","v":0}]
[{"$f":"'APPEL '!A207","v":18},{"$f":"'APPEL '!B207","v":0},{"$f":"'APPEL '!E207","v":0},null,null,null,{"$f":"'APPEL '!O207","v":0},{"$f":"'APPEL '!R207","v":0},{"$f":"'APPEL '!J207","v":0},null,null,null,null,{"$f":"'APPEL '!BH207","v":0},null,null,null,null,null,0,"23-25,9","24-31,9","24-27,9",null,null,null,null,null,null,null,null,{"$f":"'APPEL '!AC207","v":0},null,null,null,null,null,null,null,null,null,null,null,null,null,null,null,null,null,null,null,null,null,null,null,null,null,null,null,null,null,null,null,null,null,null,null,null,null,null,null,null,null,null,null,null,null,null,null,null,null,null,null,null,null,null,null,null,null,null,null,null,null,null,null,null,null,null,{"$f":"'APPEL '!AH207","v":0}]
[{"$f":"'APPEL '!A208","v":18},{"$f":"'APPEL '!B208","v":0},{"$f":"'APPEL '!E208","v":0},null,null,null,{"$f":"'APPEL '!O208","v":0},{"$f":"'APPEL '!R208","v":0},{"$f":"'APPEL '!J208","v":0},null,null,null,null,{"$f":"'APPEL '!BH208","v":0},null,null,null,null,null,0,"23-25,9","24-31,9","24-27,9",null,null,null,null,null,null,null,null,{"$f":"'APPEL '!AC208","v":0},null,null,null,null,null,null,null,null,null,null,null,null,null,null,null,null,null,null,null,null,null,null,null,null,null,null,null,null,null,null,null,null,null,null,null,null,null,null,null,null,null,null,null,null,null,null,null,null,null,null,null,null,null,null,null,null,null,null,null,null,null,null,null,null,null,null,{"$f":"'APPEL '!AH208","v":0}]
[{"$f":"'APPEL '!A209","v":18},{"$f":"'APPEL '!B209","v":0},{"$f":"'APPEL '!E209","v":0},null,null,null,{"$f":"'APPEL '!O209","v":0},{"$f":"'APPEL '!R209","v":0},{"$f":"'APPEL '!J209","v":0},null,null,null,null,{"$f":"'APPEL '!BH209","v":0},null,null,null,null,null,0,"23-25,9","24-31,9","24-27,9",null,null,null,null,null,null,null,null,{"$f":"'APPEL '!AC209","v":0},null,null,null,null,null,null,null,null,null,null,null,null,null,null,null,null,null,null,null,null,null,null,null,null,null,null,null,null,null,null,null,null,null,null,null,null,null,null,null,null,null,null,null,null,null,null,null,null,null,null,null,null,null,null,null,null,null,null,null,null,null,null,null,null,null,null,{"$f":"'APPEL '!AH209","v":0}]
[{"$f":"'APPEL '!A210","v":18},{"$f":"'APPEL '!B210","v":0},{"$f":"'APPEL '!E210","v":0},null,null,null,{"$f":"'APPEL '!O210","v":0},{"$f":"'APPEL '!R210","v":0},{"$f":"'APPEL '!J210","v":0},null,null,null,null,{"$f":"'APPEL '!BH210","v":0},null,null,null,null,null,0,"23-25,9","24-31,9","24-27,9",null,null,null,null,null,null,null,null,{"$f":"'APPEL '!AC210","v":0},null,null,null,null,null,null,null,null,null,null,null,null,null,null,null,null,null,null,null,null,null,null,null,null,null,null,null,null,null,null,null,null,null,null,null,null,null,null,null,null,null,null,null,null,null,null,null,null,null,null,null,null,null,null,null,null,null,null,null,null,null,null,null,null,null,null,{"$f":"'APPEL '!AH210","v":0}]
[{"$f":"'APPEL '!A211","v":18},{"$f":"'APPEL '!B211","v":0},{"$f":"'APPEL '!E211","v":0},null,null,null,{"$f":"'APPEL '!O211","v":0},{"$f":"'APPEL '!R211","v":0},{"$f":"'APPEL '!J211","v":0},null,null,null,null,{"$f":"'APPEL '!BH211","v":0},null,null,null,null,null,0,"23-25,9","24-31,9","24-27,9",null,null,null,null,null,null,null,null,{"$f":"'APPEL '!AC211","v":0},null,null,null,null,null,null,null,null,null,null,null,null,null,null,null,null,null,null,null,null,null,null,null,null,null,null,null,null,null,null,null,null,null,null,null,null,null,null,null,null,null,null,null,null,null,null,null,null,null,null,null,null,null,null,null,null,null,null,null,null,null,null,null,null,null,null,{"$f":"'APPEL '!AH211","v":0}]
[{"$f":"'APPEL '!A212","v":18},{"$f":"'APPEL '!B212","v":0},{"$f":"'APPEL '!E212","v":0},null,null,null,{"$f":"'APPEL '!O212","v":0},{"$f":"'APPEL '!R212","v":0},{"$f":"'APPEL '!J212","v":0},null,null,null,null,{"$f":"'APPEL '!BH212","v":0},null,null,null,null,null,0,"23-25,9","24-31,9","24-27,9",null,null,null,null,null,null,null,null,{"$f":"'APPEL '!AC212","v":0},null,null,null,null,null,null,null,null,null,null,null,null,null,null,null,null,null,null,null,null,null,null,null,null,null,null,null,null,null,null,null,null,null,null,null,null,null,null,null,null,null,null,null,null,null,null,null,null,null,null,null,null,null,null,null,null,null,null,null,null,null,null,null,null,null,null,{"$f":"'APPEL '!AH212","v":0}]
[{"$f":"'APPEL '!A213","v":18},{"$f":"'APPEL '!B213","v":0},{"$f":"'APPEL '!E213","v":0},null,null,null,{"$f":"'APPEL '!O213","v":0},{"$f":"'APPEL '!R213","v":0},{"$f":"'APPEL '!J213","v":0},null,null,null,null,{"$f":"'APPEL '!BH213","v":0},null,null,null,null,null,0,"23-25,9","24-31,9","24-27,9",null,null,null,null,null,null,null,null,{"$f":"'APPEL '!AC213","v":0},null,null,null,null,null,null,null,null,null,null,null,null,null,null,null,null,null,null,null,null,null,null,null,null,null,null,null,null,null,null,null,null,null,null,null,null,null,null,null,null,null,null,null,null,null,null,null,null,null,null,null,null,null,null,null,null,null,null,null,null,null,null,null,null,null,null,{"$f":"'APPEL '!AH213","v":0}]
[{"$f":"'APPEL '!A214","v":18},{"$f":"'APPEL '!B214","v":0},{"$f":"'APPEL '!E214","v":0},null,null,null,{"$f":"'APPEL '!O214","v":0},{"$f":"'APPEL '!R214","v":0},{"$f":"'APPEL '!J214","v":0},null,null,null,null,{"$f":"'APPEL '!BH214","v":0},null,null,null,null,null,0,"23-25,9","24-31,9","24-27,9",null,null,null,null,null,null,null,null,{"$f":"'APPEL '!AC214","v":0},null,null,null,null,null,null,null,null,null,null,null,null,null,null,null,null,null,null,null,null,null,null,null,null,null,null,null,null,null,null,null,null,null,null,null,null,null,null,null,null,null,null,null,null,null,null,null,null,null,null,null,null,null,null,null,null,null,null,null,null,null,null,null,null,null,null,{"$f":"'APPEL '!AH214","v":0}]
[{"$f":"'APPEL '!A215","v":18},{"$f":"'APPEL '!B215","v":0},{"$f":"'APPEL '!E215","v":0},null,null,null,{"$f":"'APPEL '!O215","v":0},{"$f":"'APPEL '!R215","v":0},{"$f":"'APPEL '!J215","v":0},null,null,null,null,{"$f":"'APPEL '!BH215","v":0},null,null,null,null,null,0,"23-25,9","24-31,9","24-27,9",null,null,null,null,null,null,null,null,{"$f":"'APPEL '!AC215","v":0},null,null,null,null,null,null,null,null,null,null,null,null,null,null,null,null,null,null,null,null,null,null,null,null,null,null,null,null,null,null,null,null,null,null,null,null,null,null,null,null,null,null,null,null,null,null,null,null,null,null,null,null,null,null,null,null,null,null,null,null,null,null,null,null,null,null,{"$f":"'APPEL '!AH215","v":0}]
[{"$f":"'APPEL '!A216","v":18},{"$f":"'APPEL '!B216","v":0},{"$f":"'APPEL '!E216","v":0},null,null,null,{"$f":"'APPEL '!O216","v":0},{"$f":"'APPEL '!R216","v":0},{"$f":"'APPEL '!J216","v":0},null,null,null,null,{"$f":"'APPEL '!BH216","v":0},null,null,null,null,null,0,"23-25,9","24-31,9","24-27,9",null,null,null,null,null,null,null,null,{"$f":"'APPEL '!AC216","v":0},null,null,null,null,null,null,null,null,null,null,null,null,null,null,null,null,null,null,null,null,null,null,null,null,null,null,null,null,null,null,null,null,null,null,null,null,null,null,null,null,null,null,null,null,null,null,null,null,null,null,null,null,null,null,null,null,null,null,null,null,null,null,null,null,null,null,{"$f":"'APPEL '!AH216","v":0}]
[{"$f":"'APPEL '!A217","v":18},{"$f":"'APPEL '!B217","v":0},{"$f":"'APPEL '!E217","v":0},null,null,null,{"$f":"'APPEL '!O217","v":0},{"$f":"'APPEL '!R217","v":0},{"$f":"'APPEL '!J217","v":0},null,null,null,null,{"$f":"'APPEL '!BH217","v":0},null,null,null,null,null,0,"23-25,9","24-31,9","24-27,9",null,null,null,null,null,null,null,null,{"$f":"'APPEL '!AC217","v":0},null,null,null,null,null,null,null,null,null,null,null,null,null,null,null,null,null,null,null,null,null,null,null,null,null,null,null,null,null,null,null,null,null,null,null,null,null,null,null,null,null,null,null,null,null,null,null,null,null,null,null,null,null,null,null,null,null,null,null,null,null,null,null,null,null,null,{"$f":"'APPEL '!AH217","v":0}]
[{"$f":"'APPEL '!A218","v":18},{"$f":"'APPEL '!B218","v":0},{"$f":"'APPEL '!E218","v":0},null,null,null,{"$f":"'APPEL '!O218","v":0},{"$f":"'APPEL '!R218","v":0},{"$f":"'APPEL '!J218","v":0},null,null,null,null,{"$f":"'APPEL '!BH218","v":0},null,null,null,null,null,0,"23-25,9","24-31,9","24-27,9",null,null,null,null,null,null,null,null,{"$f":"'APPEL '!AC218","v":0},null,null,null,null,null,null,null,null,null,null,null,null,null,null,null,null,null,null,null,null,null,null,null,null,null,null,null,null,null,null,null,null,null,null,null,null,null,null,null,null,null,null,null,null,null,null,null,null,null,null,null,null,null,null,null,null,null,null,null,null,null,null,null,null,null,null,{"$f":"'APPEL '!AH218","v":0}]
[{"$f":"'APPEL '!A219","v":18},{"$f":"'APPEL '!B219","v":0},{"$f":"'APPEL '!E219","v":0},null,null,null,{"$f":"'APPEL '!O219","v":0},{"$f":"'APPEL '!R219","v":0},{"$f":"'APPEL '!J219","v":0},null,null,null,null,{"$f":"'APPEL '!BH219","v":0},null,null,null,null,null,0,"23-25,9","24-31,9","24-27,9",null,null,null,null,null,null,null,null,{"$f":"'APPEL '!AC219","v":0},null,null,null,null,null,null,null,null,null,null,null,null,null,null,null,null,null,null,null,null,null,null,null,null,null,null,null,null,null,null,null,null,null,null,null,null,null,null,null,null,null,null,null,null,null,null,null,null,null,null,null,null,null,null,null,null,null,null,null,null,null,null,null,null,null,null,{"$f":"'APPEL '!AH219","v":0}]
[{"$f":"'APPEL '!A220","v":18},{"$f":"'APPEL '!B220","v":0},{"$f":"'APPEL '!E220","v":0},null,null,null,{"$f":"'APPEL '!O220","v":0},{"$f":"'APPEL '!R220","v":0},{"$f":"'APPEL '!J220","v":0},null,null,null,null,{"$f":"'APPEL '!BH220","v":0},null,null,null,null,null,0,"23-25,9","24-31,9","24-27,9",null,null,null,null,null,null,null,null,{"$f":"'APPEL '!AC220","v":0},null,null,null,null,null,null,null,null,null,null,null,null,null,null,null,null,null,null,null,null,null,null,null,null,null,null,null,null,null,null,null,null,null,null,null,null,null,null,null,null,null,null,null,null,null,null,null,null,null,null,null,null,null,null,null,null,null,null,null,null,null,null,null,null,null,null,{"$f":"'APPEL '!AH220","v":0}]
[{"$f":"'APPEL '!A221","v":18},{"$f":"'APPEL '!B221","v":0},{"$f":"'APPEL '!E221","v":0},null,null,null,{"$f":"'APPEL '!O221","v":0},{"$f":"'APPEL '!R221","v":0},{"$f":"'APPEL '!J221","v":0},null,null,null,null,{"$f":"'APPEL '!BH221","v":0},null,null,null,null,null,0,"23-25,9","24-31,9","24-27,9",null,null,null,null,null,null,null,null,{"$f":"'APPEL '!AC221","v":0},null,null,null,null,null,null,null,null,null,null,null,null,null,null,null,null,null,null,null,null,null,null,null,null,null,null,null,null,null,null,null,null,null,null,null,null,null,null,null,null,null,null,null,null,null,null,null,null,null,null,null,null,null,null,null,null,null,null,null,null,null,null,null,null,null,null,{"$f":"'APPEL '!AH221","v":0}]
[{"$f":"'APPEL '!A222","v":18},{"$f":"'APPEL '!B222","v":0},{"$f":"'APPEL '!E222","v":0},null,null,null,{"$f":"'APPEL '!O222","v":0},{"$f":"'APPEL '!R222","v":0},{"$f":"'APPEL '!J222","v":0},null,null,null,null,{"$f":"'APPEL '!BH222","v":0},null,null,null,null,null,0,"23-25,9","24-31,9","24-27,9",null,null,null,null,null,null,null,null,{"$f":"'APPEL '!AC222","v":0},null,null,null,null,null,null,null,null,null,null,null,null,null,null,null,null,null,null,null,null,null,null,null,null,null,null,null,null,null,null,null,null,null,null,null,null,null,null,null,null,null,null,null,null,null,null,null,null,null,null,null,null,null,null,null,null,null,null,null,null,null,null,null,null,null,null,{"$f":"'APPEL '!AH222","v":0}]
[{"$f":"'APPEL '!A223","v":18},{"$f":"'APPEL '!B223","v":0},{"$f":"'APPEL '!E223","v":0},null,null,null,{"$f":"'APPEL '!O223","v":0},{"$f":"'APPEL '!R223","v":0},{"$f":"'APPEL '!J223","v":0},null,null,null,null,{"$f":"'APPEL '!BH223","v":0},null,null,null,null,null,0,"23-25,9","24-31,9","24-27,9",null,null,null,null,null,null,null,null,{"$f":"'APPEL '!AC223","v":0},null,null,null,null,null,null,null,null,null,null,null,null,null,null,null,null,null,null,null,null,null,null,null,null,null,null,null,null,null,null,null,null,null,null,null,null,null,null,null,null,null,null,null,null,null,null,null,null,null,null,null,null,null,null,null,null,null,null,null,null,null,null,null,null,null,null,{"$f":"'APPEL '!AH223","v":0}]
[{"$f":"'APPEL '!A224","v":18},{"$f":"'APPEL '!B224","v":0},{"$f":"'APPEL '!E224","v":0},null,null,null,{"$f":"'APPEL '!O224","v":0},{"$f":"'APPEL '!R224","v":0},{"$f":"'APPEL '!J224","v":0},null,null,null,null,{"$f":"'APPEL '!BH224","v":0},null,null,null,null,null,0,"23-25,9","24-31,9","24-27,9",null,null,null,null,null,null,null,null,{"$f":"'APPEL '!AC224","v":0},null,null,null,null,null,null,null,null,null,null,null,null,null,null,null,null,null,null,null,null,null,null,null,null,null,null,null,null,null,null,null,null,null,null,null,null,null,null,null,null,null,null,null,null,null,null,null,null,null,null,null,null,null,null,null,null,null,null,null,null,null,null,null,null,null,null,{"$f":"'APPEL '!AH224","v":0}]
[{"$f":"'APPEL '!A225","v":18},{"$f":"'APPEL '!B225","v":0},{"$f":"'APPEL '!E225","v":0},null,null,null,{"$f":"'APPEL '!O225","v":0},{"$f":"'APPEL '!R225","v":0},{"$f":"'APPEL '!J225","v":0},null,null,null,null,{"$f":"'APPEL '!BH225","v":0},null,null,null,null,null,0,"23-25,9","24-31,9","24-27,9",null,null,null,null,null,null,null,null,{"$f":"'APPEL '!AC225","v":0},null,null,null,null,null,null,null,null,null,null,null,null,null,null,null,null,null,null,null,null,null,null,null,null,null,null,null,null,null,null,null,null,null,null,null,null,null,null,null,null,null,null,null,null,null,null,null,null,null,null,null,null,null,null,null,null,null,null,null,null,null,null,null,null,null,null,{"$f":"'APPEL '!AH225","v":0}]
[{"$f":"'APPEL '!A226","v":18},{"$f":"'APPEL '!B226","v":0},{"$f":"'APPEL '!E226","v":0},null,null,null,{"$f":"'APPEL '!O226","v":0},{"$f":"'APPEL '!R226","v":0},{"$f":"'APPEL '!J226","v":0},null,null,null,null,{"$f":"'APPEL '!BH226","v":0},null,null,null,null,null,0,"23-25,9","24-31,9","24-27,9",null,null,null,null,null,null,null,null,{"$f":"'APPEL '!AC226","v":0},null,null,null,null,null,null,null,null,null,null,null,null,null,null,null,null,null,null,null,null,null,null,null,null,null,null,null,null,null,null,null,null,null,null,null,null,null,null,null,null,null,null,null,null,null,null,null,null,null,null,null,null,null,null,null,null,null,null,null,null,null,null,null,null,null,null,{"$f":"'APPEL '!AH226","v":0}]
[{"$f":"'APPEL '!A227","v":18},{"$f":"'APPEL '!B227","v":0},{"$f":"'APPEL '!E227","v":0},null,null,null,{"$f":"'APPEL '!O227","v":0},{"$f":"'APPEL '!R227","v":0},{"$f":"'APPEL '!J227","v":0},null,null,null,null,{"$f":"'APPEL '!BH227","v":0},null,null,null,null,null,0,"23-25,9","24-31,9","24-27,9",null,null,null,null,null,null,null,null,{"$f":"'APPEL '!AC227","v":0},null,null,null,null,null,null,null,null,null,null,null,null,null,null,null,null,null,null,null,null,null,null,null,null,null,null,null,null,null,null,null,null,null,null,null,null,null,null,null,null,null,null,null,null,null,null,null,null,null,null,null,null,null,null,null,null,null,null,null,null,null,null,null,null,null,null,{"$f":"'APPEL '!AH227","v":0}]
[{"$f":"'APPEL '!A228","v":18},{"$f":"'APPEL '!B228","v":0},{"$f":"'APPEL '!E228","v":0},null,null,null,{"$f":"'APPEL '!O228","v":0},{"$f":"'APPEL '!R228","v":0},{"$f":"'APPEL '!J228","v":0},null,null,null,null,{"$f":"'APPEL '!BH228","v":0},null,null,null,null,null,0,"23-25,9","24-31,9","24-27,9",null,null,null,null,null,null,null,null,{"$f":"'APPEL '!AC228","v":0},null,null,null,null,null,null,null,null,null,null,null,null,null,null,null,null,null,null,null,null,null,null,null,null,null,null,null,null,null,null,null,null,null,null,null,null,null,null,null,null,null,null,null,null,null,null,null,null,null,null,null,null,null,null,null,null,null,null,null,null,null,null,null,null,null,null,{"$f":"'APPEL '!AH228","v":0}]
[{"$f":"'APPEL '!A229","v":18},{"$f":"'APPEL '!B229","v":0},{"$f":"'APPEL '!E229","v":0},null,null,null,{"$f":"'APPEL '!O229","v":0},{"$f":"'APPEL '!R229","v":0},{"$f":"'APPEL '!J229","v":0},null,null,null,null,{"$f":"'APPEL '!BH229","v":0},null,null,null,null,null,0,"23-25,9","24-31,9","24-27,9",null,null,null,null,null,null,null,null,{"$f":"'APPEL '!AC229","v":0},null,null,null,null,null,null,null,null,null,null,null,null,null,null,null,null,null,null,null,null,null,null,null,null,null,null,null,null,null,null,null,null,null,null,null,null,null,null,null,null,null,null,null,null,null,null,null,null,null,null,null,null,null,null,null,null,null,null,null,null,null,null,null,null,null,null,{"$f":"'APPEL '!AH229","v":0}]
[{"$f":"'APPEL '!A230","v":18},{"$f":"'APPEL '!B230","v":0},{"$f":"'APPEL '!E230","v":0},null,null,null,{"$f":"'APPEL '!O230","v":0},{"$f":"'APPEL '!R230","v":0},{"$f":"'APPEL '!J230","v":0},null,null,null,null,{"$f":"'APPEL '!BH230","v":0},null,null,null,null,null,0,"23-25,9","24-31,9","24-27,9",null,null,null,null,null,null,null,null,{"$f":"'APPEL '!AC230","v":0},null,null,null,null,null,null,null,null,null,null,null,null,null,null,null,null,null,null,null,null,null,null,null,null,null,null,null,null,null,null,null,null,null,null,null,null,null,null,null,null,null,null,null,null,null,null,null,null,null,null,null,null,null,null,null,null,null,null,null,null,null,null,null,null,null,null,{"$f":"'APPEL '!AH230","v":0}]
[{"$f":"'APPEL '!A231","v":18},{"$f":"'APPEL '!B231","v":0},{"$f":"'APPEL '!E231","v":0},null,null,null,{"$f":"'APPEL '!O231","v":0},{"$f":"'APPEL '!R231","v":0},{"$f":"'APPEL '!J231","v":0},null,null,null,null,{"$f":"'APPEL '!BH231","v":0},null,null,null,null,null,0,"23-25,9","24-31,9","24-27,9",null,null,null,null,null,null,null,null,{"$f":"'APPEL '!AC231","v":0},null,null,null,null,null,null,null,null,null,null,null,null,null,null,null,null,null,null,null,null,null,null,null,null,null,null,null,null,null,null,null,null,null,null,null,null,null,null,null,null,null,null,null,null,null,null,null,null,null,null,null,null,null,null,null,null,null,null,null,null,null,null,null,null,null,null,{"$f":"'APPEL '!AH231","v":0}]
[{"$f":"'APPEL '!A232","v":18},{"$f":"'APPEL '!B232","v":0},{"$f":"'APPEL '!E232","v":0},null,null,null,{"$f":"'APPEL '!O232","v":0},{"$f":"'APPEL '!R232","v":0},{"$f":"'APPEL '!J232","v":0},null,null,null,null,{"$f":"'APPEL '!BH232","v":0},null,null,null,null,null,0,"23-25,9","24-31,9","24-27,9",null,null,null,null,null,null,null,null,{"$f":"'APPEL '!AC232","v":0},null,null,null,null,null,null,null,null,null,null,null,null,null,null,null,null,null,null,null,null,null,null,null,null,null,null,null,null,null,null,null,null,null,null,null,null,null,null,null,null,null,null,null,null,null,null,null,null,null,null,null,null,null,null,null,null,null,null,null,null,null,null,null,null,null,null,{"$f":"'APPEL '!AH232","v":0}]
[{"$f":"'APPEL '!A233","v":18},{"$f":"'APPEL '!B233","v":0},{"$f":"'APPEL '!E233","v":0},null,null,null,{"$f":"'APPEL '!O233","v":0},{"$f":"'APPEL '!R233","v":0},{"$f":"'APPEL '!J233","v":0},null,null,null,null,{"$f":"'APPEL '!BH233","v":0},null,null,null,null,null,0,"23-25,9","24-31,9","24-27,9",null,null,null,null,null,null,null,null,{"$f":"'APPEL '!AC233","v":0},null,null,null,null,null,null,null,null,null,null,null,null,null,null,null,null,null,null,null,null,null,null,null,null,null,null,null,null,null,null,null,null,null,null,null,null,null,null,null,null,null,null,null,null,null,null,null,null,null,null,null,null,null,null,null,null,null,null,null,null,null,null,null,null,null,null,{"$f":"'APPEL '!AH233","v":0}]
[{"$f":"'APPEL '!A234","v":18},{"$f":"'APPEL '!B234","v":0},{"$f":"'APPEL '!E234","v":0},null,null,null,{"$f":"'APPEL '!O234","v":0},{"$f":"'APPEL '!R234","v":0},{"$f":"'APPEL '!J234","v":0},null,null,null,null,{"$f":"'APPEL '!BH234","v":0},null,null,null,null,null,0,"23-25,9","24-31,9","24-27,9",null,null,null,null,null,null,null,null,{"$f":"'APPEL '!AC234","v":0},null,null,null,null,null,null,null,null,null,null,null,null,null,null,null,null,null,null,null,null,null,null,null,null,null,null,null,null,null,null,null,null,null,null,null,null,null,null,null,null,null,null,null,null,null,null,null,null,null,null,null,null,null,null,null,null,null,null,null,null,null,null,null,null,null,null,{"$f":"'APPEL '!AH234","v":0}]
[{"$f":"'APPEL '!A235","v":18},{"$f":"'APPEL '!B235","v":0},{"$f":"'APPEL '!E235","v":0},null,null,null,{"$f":"'APPEL '!O235","v":0},{"$f":"'APPEL '!R235","v":0},{"$f":"'APPEL '!J235","v":0},null,null,null,null,{"$f":"'APPEL '!BH235","v":0},null,null,null,null,null,0,"23-25,9","24-31,9","24-27,9",null,null,null,null,null,null,null,null,{"$f":"'APPEL '!AC235","v":0},null,null,null,null,null,null,null,null,null,null,null,null,null,null,null,null,null,null,null,null,null,null,null,null,null,null,null,null,null,null,null,null,null,null,null,null,null,null,null,null,null,null,null,null,null,null,null,null,null,null,null,null,null,null,null,null,null,null,null,null,null,null,null,null,null,null,{"$f":"'APPEL '!AH235","v":0}]
[{"$f":"'APPEL '!A236","v":18},{"$f":"'APPEL '!B236","v":0},{"$f":"'APPEL '!E236","v":0},null,null,null,{"$f":"'APPEL '!O236","v":0},{"$f":"'APPEL '!R236","v":0},{"$f":"'APPEL '!J236","v":0},null,null,null,null,{"$f":"'APPEL '!BH236","v":0},null,null,null,null,null,0,"23-25,9","24-31,9","24-27,9",null,null,null,null,null,null,null,null,{"$f":"'APPEL '!AC236","v":0},null,null,null,null,null,null,null,null,null,null,null,null,null,null,null,null,null,null,null,null,null,null,null,null,null,null,null,null,null,null,null,null,null,null,null,null,null,null,null,null,null,null,null,null,null,null,null,null,null,null,null,null,null,null,null,null,null,null,null,null,null,null,null,null,null,null,{"$f":"'APPEL '!AH236","v":0}]
[{"$f":"'APPEL '!A237","v":18},{"$f":"'APPEL '!B237","v":0},{"$f":"'APPEL '!E237","v":0},null,null,null,{"$f":"'APPEL '!O237","v":0},{"$f":"'APPEL '!R237","v":0},{"$f":"'APPEL '!J237","v":0},null,null,null,null,{"$f":"'APPEL '!BH237","v":0},null,null,null,null,null,0,"23-25,9","24-31,9","24-27,9",null,null,null,null,null,null,null,null,{"$f":"'APPEL '!AC237","v":0},null,null,null,null,null,null,null,null,null,null,null,null,null,null,null,null,null,null,null,null,null,null,null,null,null,null,null,null,null,null,null,null,null,null,null,null,null,null,null,null,null,null,null,null,null,null,null,null,null,null,null,null,null,null,null,null,null,null,null,null,null,null,null,null,null,null,{"$f":"'APPEL '!AH237","v":0}]
[{"$f":"'APPEL '!A238","v":18},{"$f":"'APPEL '!B238","v":0},{"$f":"'APPEL '!E238","v":0},null,null,null,{"$f":"'APPEL '!O238","v":0},{"$f":"'APPEL '!R238","v":0},{"$f":"'APPEL '!J238","v":0},null,null,null,null,{"$f":"'APPEL '!BH238","v":0},null,null,null,null,null,0,"23-25,9","24-31,9","24-27,9",null,null,null,null,null,null,null,null,{"$f":"'APPEL '!AC238","v":0},null,null,null,null,null,null,null,null,null,null,null,null,null,null,null,null,null,null,null,null,null,null,null,null,null,null,null,null,null,null,null,null,null,null,null,null,null,null,null,null,null,null,null,null,null,null,null,null,null,null,null,null,null,null,null,null,null,null,null,null,null,null,null,null,null,null,{"$f":"'APPEL '!AH238","v":0}]
[{"$f":"'APPEL '!A239","v":18},{"$f":"'APPEL '!B239","v":0},{"$f":"'APPEL '!E239","v":0},null,null,null,{"$f":"'APPEL '!O239","v":0},{"$f":"'APPEL '!R239","v":0},{"$f":"'APPEL '!J239","v":0},null,null,null,null,{"$f":"'APPEL '!BH239","v":0},null,null,null,null,null,0,"23-25,9","24-31,9","24-27,9",null,null,null,null,null,null,null,null,{"$f":"'APPEL '!AC239","v":0},null,null,null,null,null,null,null,null,null,null,null,null,null,null,null,null,null,null,null,null,null,null,null,null,null,null,null,null,null,null,null,null,null,null,null,null,null,null,null,null,null,null,null,null,null,null,null,null,null,null,null,null,null,null,null,null,null,null,null,null,null,null,null,null,null,null,{"$f":"'APPEL '!AH239","v":0}]
[{"$f":"'APPEL '!A240","v":18},{"$f":"'APPEL '!B240","v":0},{"$f":"'APPEL '!E240","v":0},null,null,null,{"$f":"'APPEL '!O240","v":0},{"$f":"'APPEL '!R240","v":0},{"$f":"'APPEL '!J240","v":0},null,null,null,null,{"$f":"'APPEL '!BH240","v":0},null,null,null,null,null,0,"23-25,9","24-31,9","24-27,9",null,null,null,null,null,null,null,null,{"$f":"'APPEL '!AC240","v":0},null,null,null,null,null,null,null,null,null,null,null,null,null,null,null,null,null,null,null,null,null,null,null,null,null,null,null,null,null,null,null,null,null,null,null,null,null,null,null,null,null,null,null,null,null,null,null,null,null,null,null,null,null,null,null,null,null,null,null,null,null,null,null,null,null,null,{"$f":"'APPEL '!AH240","v":0}]
[{"$f":"'APPEL '!A241","v":18},{"$f":"'APPEL '!B241","v":0},{"$f":"'APPEL '!E241","v":0},null,null,null,{"$f":"'APPEL '!O241","v":0},{"$f":"'APPEL '!R241","v":0},{"$f":"'APPEL '!J241","v":0},null,null,null,null,{"$f":"'APPEL '!BH241","v":0},null,null,null,null,null,0,"23-25,9","24-31,9","24-27,9",null,null,null,null,null,null,null,null,{"$f":"'APPEL '!AC241","v":0},null,null,null,null,null,null,null,null,null,null,null,null,null,null,null,null,null,null,null,null,null,null,null,null,null,null,null,null,null,null,null,null,null,null,null,null,null,null,null,null,null,null,null,null,null,null,null,null,null,null,null,null,null,null,null,null,null,null,null,null,null,null,null,null,null,null,{"$f":"'APPEL '!AH241","v":0}]
[{"$f":"'APPEL '!A242","v":18},{"$f":"'APPEL '!B242","v":0},{"$f":"'APPEL '!E242","v":0},null,null,null,{"$f":"'APPEL '!O242","v":0},{"$f":"'APPEL '!R242","v":0},{"$f":"'APPEL '!J242","v":0},null,null,null,null,{"$f":"'APPEL '!BH242","v":0},null,null,null,null,null,0,"23-25,9","24-31,9","24-27,9",null,null,null,null,null,null,null,null,{"$f":"'APPEL '!AC242","v":0},null,null,null,null,null,null,null,null,null,null,null,null,null,null,null,null,null,null,null,null,null,null,null,null,null,null,null,null,null,null,null,null,null,null,null,null,null,null,null,null,null,null,null,null,null,null,null,null,null,null,null,null,null,null,null,null,null,null,null,null,null,null,null,null,null,null,{"$f":"'APPEL '!AH242","v":0}]
[{"$f":"'APPEL '!A243","v":18},{"$f":"'APPEL '!B243","v":0},{"$f":"'APPEL '!E243","v":0},null,null,null,{"$f":"'APPEL '!O243","v":0},{"$f":"'APPEL '!R243","v":0},{"$f":"'APPEL '!J243","v":0},null,null,null,null,{"$f":"'APPEL '!BH243","v":0},null,null,null,null,null,0,"23-25,9","24-31,9","24-27,9",null,null,null,null,null,null,null,null,{"$f":"'APPEL '!AC243","v":0},null,null,null,null,null,null,null,null,null,null,null,null,null,null,null,null,null,null,null,null,null,null,null,null,null,null,null,null,null,null,null,null,null,null,null,null,null,null,null,null,null,null,null,null,null,null,null,null,null,null,null,null,null,null,null,null,null,null,null,null,null,null,null,null,null,null,{"$f":"'APPEL '!AH243","v":0}]
[{"$f":"'APPEL '!A244","v":18},{"$f":"'APPEL '!B244","v":0},{"$f":"'APPEL '!E244","v":0},null,null,null,{"$f":"'APPEL '!O244","v":0},{"$f":"'APPEL '!R244","v":0},{"$f":"'APPEL '!J244","v":0},null,null,null,null,{"$f":"'APPEL '!BH244","v":0},null,null,null,null,null,0,"23-25,9","24-31,9","24-27,9",null,null,null,null,null,null,null,null,{"$f":"'APPEL '!AC244","v":0},null,null,null,null,null,null,null,null,null,null,null,null,null,null,null,null,null,null,null,null,null,null,null,null,null,null,null,null,null,null,null,null,null,null,null,null,null,null,null,null,null,null,null,null,null,null,null,null,null,null,null,null,null,null,null,null,null,null,null,null,null,null,null,null,null,null,{"$f":"'APPEL '!AH244","v":0}]
[{"$f":"'APPEL '!A245","v":18},{"$f":"'APPEL '!B245","v":0},{"$f":"'APPEL '!E245","v":0},null,null,null,{"$f":"'APPEL '!O245","v":0},{"$f":"'APPEL '!R245","v":0},{"$f":"'APPEL '!J245","v":0},null,null,null,null,{"$f":"'APPEL '!BH245","v":0},null,null,null,null,null,0,"23-25,9","24-31,9","24-27,9",null,null,null,null,null,null,null,null,{"$f":"'APPEL '!AC245","v":0},null,null,null,null,null,null,null,null,null,null,null,null,null,null,null,null,null,null,null,null,null,null,null,null,null,null,null,null,null,null,null,null,null,null,null,null,null,null,null,null,null,null,null,null,null,null,null,null,null,null,null,null,null,null,null,null,null,null,null,null,null,null,null,null,null,null,{"$f":"'APPEL '!AH245","v":0}]
[{"$f":"'APPEL '!A246","v":18},{"$f":"'APPEL '!B246","v":0},{"$f":"'APPEL '!E246","v":0},null,null,null,{"$f":"'APPEL '!O246","v":0},{"$f":"'APPEL '!R246","v":0},{"$f":"'APPEL '!J246","v":0},null,null,null,null,{"$f":"'APPEL '!BH246","v":0},null,null,null,null,null,0,"23-25,9","24-31,9","24-27,9",null,null,null,null,null,null,null,null,{"$f":"'APPEL '!AC246","v":0},null,null,null,null,null,null,null,null,null,null,null,null,null,null,null,null,null,null,null,null,null,null,null,null,null,null,null,null,null,null,null,null,null,null,null,null,null,null,null,null,null,null,null,null,null,null,null,null,null,null,null,null,null,null,null,null,null,null,null,null,null,null,null,null,null,null,{"$f":"'APPEL '!AH246","v":0}]
[{"$f":"'APPEL '!A247","v":18},{"$f":"'APPEL '!B247","v":0},{"$f":"'APPEL '!E247","v":0},null,null,null,{"$f":"'APPEL '!O247","v":0},{"$f":"'APPEL '!R247","v":0},{"$f":"'APPEL '!J247","v":0},null,null,null,null,{"$f":"'APPEL '!BH247","v":0},null,null,null,null,null,0,"23-25,9","24-31,9","24-27,9",null,null,null,null,null,null,null,null,{"$f":"'APPEL '!AC247","v":0},null,null,null,null,null,null,null,null,null,null,null,null,null,null,null,null,null,null,null,null,null,null,null,null,null,null,null,null,null,null,null,null,null,null,null,null,null,null,null,null,null,null,null,null,null,null,null,null,null,null,null,null,null,null,null,null,null,null,null,null,null,null,null,null,null,null,{"$f":"'APPEL '!AH247","v":0}]
[{"$f":"'APPEL '!A248","v":18},{"$f":"'APPEL '!B248","v":0},{"$f":"'APPEL '!E248","v":0},null,null,null,{"$f":"'APPEL '!O248","v":0},{"$f":"'APPEL '!R248","v":0},{"$f":"'APPEL '!J248","v":0},null,null,null,null,{"$f":"'APPEL '!BH248","v":0},null,null,null,null,null,0,"23-25,9","24-31,9","24-27,9",null,null,null,null,null,null,null,null,{"$f":"'APPEL '!AC248","v":0},null,null,null,null,null,null,null,null,null,null,null,null,null,null,null,null,null,null,null,null,null,null,null,null,null,null,null,null,null,null,null,null,null,null,null,null,null,null,null,null,null,null,null,null,null,null,null,null,null,null,null,null,null,null,null,null,null,null,null,null,null,null,null,null,null,null,{"$f":"'APPEL '!AH248","v":0}]
[{"$f":"'APPEL '!A249","v":18},{"$f":"'APPEL '!B249","v":0},{"$f":"'APPEL '!E249","v":0},null,null,null,{"$f":"'APPEL '!O249","v":0},{"$f":"'APPEL '!R249","v":0},{"$f":"'APPEL '!J249","v":0},null,null,null,null,{"$f":"'APPEL '!BH249","v":0},null,null,null,null,null,0,"23-25,9","24-31,9","24-27,9",null,null,null,null,null,null,null,null,{"$f":"'APPEL '!AC249","v":0},null,null,null,null,null,null,null,null,null,null,null,null,null,null,null,null,null,null,null,null,null,null,null,null,null,null,null,null,null,null,null,null,null,null,null,null,null,null,null,null,null,null,null,null,null,null,null,null,null,null,null,null,null,null,null,null,null,null,null,null,null,null,null,null,null,null,{"$f":"'APPEL '!AH249","v":0}]
[{"$f":"'APPEL '!A250","v":18},{"$f":"'APPEL '!B250","v":0},{"$f":"'APPEL '!E250","v":0},null,null,null,{"$f":"'APPEL '!O250","v":0},{"$f":"'APPEL '!R250","v":0},{"$f":"'APPEL '!J250","v":0},null,null,null,null,{"$f":"'APPEL '!BH250","v":0},null,null,null,null,null,0,"23-25,9","24-31,9","24-27,9",null,null,null,null,null,null,null,null,{"$f":"'APPEL '!AC250","v":0},null,null,null,null,null,null,null,null,null,null,null,null,null,null,null,null,null,null,null,null,null,null,null,null,null,null,null,null,null,null,null,null,null,null,null,null,null,null,null,null,null,null,null,null,null,null,null,null,null,null,null,null,null,null,null,null,null,null,null,null,null,null,null,null,null,null,{"$f":"'APPEL '!AH250","v":0}]
[{"$f":"'APPEL '!A251","v":18},{"$f":"'APPEL '!B251","v":0},{"$f":"'APPEL '!E251","v":0},null,null,null,{"$f":"'APPEL '!O251","v":0},{"$f":"'APPEL '!R251","v":0},{"$f":"'APPEL '!J251","v":0},null,null,null,null,{"$f":"'APPEL '!BH251","v":0},null,null,null,null,null,0,"23-25,9","24-31,9","24-27,9",null,null,null,null,null,null,null,null,{"$f":"'APPEL '!AC251","v":0},null,null,null,null,null,null,null,null,null,null,null,null,null,null,null,null,null,null,null,null,null,null,null,null,null,null,null,null,null,null,null,null,null,null,null,null,null,null,null,null,null,null,null,null,null,null,null,null,null,null,null,null,null,null,null,null,null,null,null,null,null,null,null,null,null,null,{"$f":"'APPEL '!AH251","v":0}]
[{"$f":"'APPEL '!A257","v":18},{"$f":"'APPEL '!B257","v":0},{"$f":"'APPEL '!E257","v":0},null,null,null,{"$f":"'APPEL '!O257","v":0},{"$f":"'APPEL '!R257","v":0},{"$f":"'APPEL '!J257","v":0},null,null,null,null,{"$f":"'APPEL '!BH257","v":0},null,null,null,null,null,0,"23-25,9","24-31,9","24-27,9",null,null,null,null,null,null,null,null,{"$f":"'APPEL '!AC257","v":0},null,null,null,null,null,null,null,null,null,null,null,null,null,null,null,null,null,null,null,null,null,null,null,null,null,null,null,null,null,null,null,null,null,null,null,null,null,null,null,null,null,null,null,null,null,null,null,null,null,null,null,null,null,null,null,null,null,null,null,null,null,null,null,null,null,null,{"$f":"'APPEL '!AH257","v":0}]
[{"$f":"'APPEL '!A262","v":18},{"$f":"'APPEL '!B262","v":0},{"$f":"'APPEL '!E262","v":0},null,null,null,{"$f":"'APPEL '!O262","v":0},{"$f":"'APPEL '!R262","v":0},{"$f":"'APPEL '!J262","v":0},null,null,null,null,{"$f":"'APPEL '!BH262","v":0},null,null,null,null,null,0,"23-25,9","24-31,9","24-27,9",null,null,null,null,null,null,null,null,{"$f":"'APPEL '!AC262","v":0},null,null,null,null,null,null,null,null,null,null,null,null,null,null,null,null,null,null,null,null,null,null,null,null,null,null,null,null,null,null,null,null,null,null,null,null,null,null,null,null,null,null,null,null,null,null,null,null,null,null,null,null,null,null,null,null,null,null,null,null,null,null,null,null,null,null,{"$f":"'APPEL '!AH262","v":0}]
[{"$f":"'APPEL '!A268","v":18},{"$f":"'APPEL '!B268","v":0},{"$f":"'APPEL '!E268","v":0},null,null,null,{"$f":"'APPEL '!O268","v":0},{"$f":"'APPEL '!R268","v":0},{"$f":"'APPEL '!J268","v":0},null,null,null,null,{"$f":"'APPEL '!BH268","v":0},null,null,null,null,null,0,"23-25,9","24-31,9","24-27,9",null,null,null,null,null,null,null,null,{"$f":"'APPEL '!AC268","v":0},null,null,null,null,null,null,null,null,null,null,null,null,null,null,null,null,null,null,null,null,null,null,null,null,null,null,null,null,null,null,null,null,null,null,null,null,null,null,null,null,null,null,null,null,null,null,null,null,null,null,null,null,null,null,null,null,null,null,null,null,null,null,null,null,null,null,{"$f":"'APPEL '!AH268","v":0}]
[{"$f":"'APPEL '!A276","v":18},{"$f":"'APPEL '!B276","v":0},{"$f":"'APPEL '!E276","v":0},null,null,null,{"$f":"'APPEL '!O276","v":0},{"$f":"'APPEL '!R276","v":0},{"$f":"'APPEL '!J276","v":0},null,null,null,null,{"$f":"'APPEL '!BH276","v":0},null,null,null,null,null,0,"23-25,9","24-31,9","24-27,9",null,null,null,null,null,null,null,null,{"$f":"'APPEL '!AC276","v":0},null,null,null,null,null,null,null,null,null,null,null,null,null,null,null,null,null,null,null,null,null,null,null,null,null,null,null,null,null,null,null,null,null,null,null,null,null,null,null,null,null,null,null,null,null,null,null,null,null,null,null,null,null,null,null,null,null,null,null,null,null,null,null,null,null,null,{"$f":"'APPEL '!AH276","v":0}]
[{"$f":"'APPEL '!A279","v":18},{"$f":"'APPEL '!B279","v":0},{"$f":"'APPEL '!E279","v":0},null,null,null,{"$f":"'APPEL '!O279","v":0},{"$f":"'APPEL '!R279","v":0},{"$f":"'APPEL '!J279","v":0},null,null,null,null,{"$f":"'APPEL '!BH279","v":0},null,null,null,null,null,0,"23-25,9","24-31,9","24-27,9",null,null,null,null,null,null,null,null,{"$f":"'APPEL '!AC279","v":0},null,null,null,null,null,null,null,null,null,null,null,null,null,null,null,null,null,null,null,null,null,null,null,null,null,null,null,null,null,null,null,null,null,null,null,null,null,null,null,null,null,null,null,null,null,null,null,null,null,null,null,null,null,null,null,null,null,null,null,null,null,null,null,null,null,null,{"$f":"'APPEL '!AH279","v":0}]
[{"$f":"'APPEL '!A285","v":18},{"$f":"'APPEL '!B285","v":0},{"$f":"'APPEL '!E285","v":0},null,null,null,{"$f":"'APPEL '!O285","v":0},{"$f":"'APPEL '!R285","v":0},{"$f":"'APPEL '!J285","v":0},null,null,null,null,{"$f":"'APPEL '!BH285","v":0},null,null,null,null,null,0,"23-25,9","24-31,9","24-27,9",null,null,null,null,null,null,null,null,{"$f":"'APPEL '!AC285","v":0},null,null,null,null,null,null,null,null,null,null,null,null,null,null,null,null,null,null,null,null,null,null,null,null,null,null,null,null,null,null,null,null,null,null,null,null,null,null,null,null,null,null,null,null,null,null,null,null,null,null,null,null,null,null,null,null,null,null,null,null,null,null,null,null,null,null,{"$f":"'APPEL '!AH285","v":0}]
[{"$f":"'APPEL '!A290","v":18},{"$f":"'APPEL '!B290","v":0},{"$f":"'APPEL '!E290","v":0},null,null,null,{"$f":"'APPEL '!O290","v":0},{"$f":"'APPEL '!R290","v":0},{"$f":"'APPEL '!J290","v":0},null,null,null,null,{"$f":"'APPEL '!BH290","v":0},null,null,null,null,null,0,"23-25,9","24-31,9","24-27,9",null,null,null,null,null,null,null,null,{"$f":"'APPEL '!AC290","v":0},null,null,null,null,null,null,null,null,null,null,null,null,null,null,null,null,null,null,null,null,null,null,null,null,null,null,null,null,null,null,null,null,null,null,null,null,null,null,null,null,null,null,null,null,null,null,null,null,null,null,null,null,null,null,null,null,null,null,null,null,null,null,null,null,null,null,{"$f":"'APPEL '!AH290","v":0}]
[{"$f":"'APPEL '!A296","v":18},{"$f":"'APPEL '!B296","v":0},{"$f":"'APPEL '!E296","v":0},null,null,null,{"$f":"'APPEL '!O296","v":0},{"$f":"'APPEL '!R296","v":0},{"$f":"'APPEL '!J296","v":0},null,null,null,null,{"$f":"'APPEL '!BH296","v":0},null,null,null,null,null,0,"23-25,9","24-31,9","24-27,9",null,null,null,null,null,null,null,null,{"$f":"'APPEL '!AC296","v":0},null,null,null,null,null,null,null,null,null,null,null,null,null,null,null,null,null,null,null,null,null,null,null,null,null,null,null,null,null,null,null,null,null,null,null,null,null,null,null,null,null,null,null,null,null,null,null,null,null,null,null,null,null,null,null,null,null,null,null,null,null,null,null,null,null,null,{"$f":"'APPEL '!AH296","v":0}]
[{"$f":"'APPEL '!A301","v":18},{"$f":"'APPEL '!B301","v":0},{"$f":"'APPEL '!E301","v":0},null,null,null,{"$f":"'APPEL '!O301","v":0},{"$f":"'APPEL '!R301","v":0},{"$f":"'APPEL '!J301","v":0},null,null,null,null,{"$f":"'APPEL '!BH301","v":0},null,null,null,null,null,0,"23-25,9","24-31,9","24-27,9",null,null,null,null,null,null,null,null,{"$f":"'APPEL '!AC301","v":0},null,null,null,null,null,null,null,null,null,null,null,null,null,null,null,null,null,null,null,null,null,null,null,null,null,null,null,null,null,null,null,null,null,null,null,null,null,null,null,null,null,null,null,null,null,null,null,null,null,null,null,null,null,null,null,null,null,null,null,null,null,null,null,null,null,null,{"$f":"'APPEL '!AH301","v":0}]
[{"$f":"'APPEL '!A307","v":18},{"$f":"'APPEL '!B307","v":0},{"$f":"'APPEL '!E307","v":0},null,null,null,{"$f":"'APPEL '!O307","v":0},{"$f":"'APPEL '!R307","v":0},{"$f":"'APPEL '!J307","v":0},null,null,null,null,{"$f":"'APPEL '!BH307","v":0},null,null,null,null,null,0,"23-25,9","24-31,9","24-27,9",null,null,null,null,null,null,null,null,{"$f":"'APPEL '!AC307","v":0},null,null,null,null,null,null,null,null,null,null,null,null,null,null,null,null,null,null,null,null,null,null,null,null,null,null,null,null,null,null,null,null,null,null,null,null,null,null,null,null,null,null,null,null,null,null,null,null,null,null,null,null,null,null,null,null,null,null,null,null,null,null,null,null,null,null,{"$f":"'APPEL '!AH307","v":0}]
[{"$f":"'APPEL '!A308","v":18},{"$f":"'APPEL '!B308","v":0},{"$f":"'APPEL '!E308","v":0},null,null,null,{"$f":"'APPEL '!O308","v":0},{"$f":"'APPEL '!R308","v":0},{"$f":"'APPEL '!J308","v":0},null,null,null,null,{"$f":"'APPEL '!BH308","v":0},null,null,null,null,null,0,"23-25,9","24-31,9","24-27,9",null,null,null,null,null,null,null,null,{"$f":"'APPEL '!AC308","v":0},null,null,null,null,null,null,null,null,null,null,null,null,null,null,null,null,null,null,null,null,null,null,null,null,null,null,null,null,null,null,null,null,null,null,null,null,null,null,null,null,null,null,null,null,null,null,null,null,null,null,null,null,null,null,null,null,null,null,null,null,null,null,null,null,null,null,{"$f":"'APPEL '!AH308","v":0}]
[{"$f":"'APPEL '!A313","v":18},{"$f":"'APPEL '!B313","v":0},{"$f":"'APPEL '!E313","v":0},null,null,null,{"$f":"'APPEL '!O313","v":0},{"$f":"'APPEL '!R313","v":0},{"$f":"'APPEL '!J313","v":0},null,null,null,null,{"$f":"'APPEL '!BH313","v":0},null,null,null,null,null,0,"23-25,9","24-31,9","24-27,9",null,null,null,null,null,null,null,null,{"$f":"'APPEL '!AC313","v":0},null,null,null,null,null,null,null,null,null,null,null,null,null,null,null,null,null,null,null,null,null,null,null,null,null,null,null,null,null,null,null,null,null,null,null,null,null,null,null,null,null,null,null,null,null,null,null,null,null,null,null,null,null,null,null,null,null,null,null,null,null,null,null,null,null,null,{"$f":"'APPEL '!AH313","v":0}]
[{"$f":"'APPEL '!A318","v":18},{"$f":"'APPEL '!B318","v":0},{"$f":"'APPEL '!E318","v":0},null,null,null,{"$f":"'APPEL '!O318","v":0},{"$f":"'APPEL '!R318","v":0},{"$f":"'APPEL '!J318","v":0},null,null,null,null,{"$f":"'APPEL '!BH318","v":0},null,null,null,null,null,0,"23-25,9","24-31,9","24-27,9",null,null,null,null,null,null,null,null,{"$f":"'APPEL '!AC318","v":0},null,null,null,null,null,null,null,null,null,null,null,null,null,null,null,null,null,null,null,null,null,null,null,null,null,null,null,null,null,null,null,null,null,null,null,null,null,null,null,null,null,null,null,null,null,null,null,null,null,null,null,null,null,null,null,null,null,null,null,null,null,null,null,null,null,null,{"$f":"'APPEL '!AH318","v":0}]
[{"$f":"'APPEL '!A326","v":18},{"$f":"'APPEL '!B326","v":0},{"$f":"'APPEL '!E326","v":0},null,null,null,{"$f":"'APPEL '!O326","v":0},{"$f":"'APPEL '!R326","v":0},{"$f":"'APPEL '!J326","v":0},null,null,null,null,{"$f":"'APPEL '!BH326","v":0},null,null,null,null,null,0,"23-25,9","24-31,9","24-27,9",null,null,null,null,null,null,null,null,{"$f":"'APPEL '!AC326","v":0},null,null,null,null,null,null,null,null,null,null,null,null,null,null,null,null,null,null,null,null,null,null,null,null,null,null,null,null,null,null,null,null,null,null,null,null,null,null,null,null,null,null,null,null,null,null,null,null,null,null,null,null,null,null,null,null,null,null,null,null,null,null,null,null,null,null,{"$f":"'APPEL '!AH326","v":0}]
[{"$f":"'APPEL '!A330","v":18},{"$f":"'APPEL '!B330","v":0},{"$f":"'APPEL '!E330","v":0},null,null,null,{"$f":"'APPEL '!O330","v":0},{"$f":"'APPEL '!R330","v":0},{"$f":"'APPEL '!J330","v":0},null,null,null,null,{"$f":"'APPEL '!BH330","v":0},null,null,null,null,null,0,"23-25,9","24-31,9","24-27,9",null,null,null,null,null,null,null,null,{"$f":"'APPEL '!AC330","v":0},null,null,null,null,null,null,null,null,null,null,null,null,null,null,null,null,null,null,null,null,null,null,null,null,null,null,null,null,null,null,null,null,null,null,null,null,null,null,null,null,null,null,null,null,null,null,null,null,null,null,null,null,null,null,null,null,null,null,null,null,null,null,null,null,null,null,{"$f":"'APPEL '!AH330","v":0}]
[{"$f":"'APPEL '!A336","v":18},{"$f":"'APPEL '!B336","v":0},{"$f":"'APPEL '!E336","v":0},null,null,null,{"$f":"'APPEL '!O336","v":0},{"$f":"'APPEL '!R336","v":0},{"$f":"'APPEL '!J336","v":0},null,null,null,null,{"$f":"'APPEL '!BH336","v":0},null,null,null,null,null,0,"23-25,9","24-31,9","24-27,9",null,null,null,null,null,null,null,null,{"$f":"'APPEL '!AC336","v":0},null,null,null,null,null,null,null,null,null,null,null,null,null,null,null,null,null,null,null,null,null,null,null,null,null,null,null,null,null,null,null,null,null,null,null,null,null,null,null,null,null,null,null,null,null,null,null,null,null,null,null,null,null,null,null,null,null,null,null,null,null,null,null,null,null,null,{"$f":"'APPEL '!AH336","v":0}]
[{"$f":"'APPEL '!A341","v":18},{"$f":"'APPEL '!B341","v":0},{"$f":"'APPEL '!E341","v":0},null,null,null,{"$f":"'APPEL '!O341","v":0},{"$f":"'APPEL '!R341","v":0},{"$f":"'APPEL '!J341","v":0},null,null,null,null,{"$f":"'APPEL '!BH341","v":0},null,null,null,null,null,0,"23-25,9","24-31,9","24-27,9",null,null,null,null,null,null,null,null,{"$f":"'APPEL '!AC341","v":0},null,null,null,null,null,null,null,null,null,null,null,null,null,null,null,null,null,null,null,null,null,null,null,null,null,null,null,null,null,null,null,null,null,null,null,null,null,null,null,null,null,null,null,null,null,null,null,null,null,null,null,null,null,null,null,null,null,null,null,null,null,null,null,null,null,null,{"$f":"'APPEL '!AH341","v":0}]
[{"$f":"'APPEL '!A346","v":18},{"$f":"'APPEL '!B346","v":0},{"$f":"'APPEL '!E346","v":0},null,null,null,{"$f":"'APPEL '!O346","v":0},{"$f":"'APPEL '!R346","v":0},{"$f":"'APPEL '!J346","v":0},null,null,null,null,{"$f":"'APPEL '!BH346","v":0},null,null,null,null,null,0,"23-25,9","24-31,9","24-27,9",null,null,null,null,null,null,null,null,{"$f":"'APPEL '!AC346","v":0},null,null,null,null,null,null,null,null,null,null,null,null,null,null,null,null,null,null,null,null,null,null,null,null,null,null,null,null,null,null,null,null,null,null,null,null,null,null,null,null,null,null,null,null,null,null,null,null,null,null,null,null,null,null,null,null,null,null,null,null,null,null,null,null,null,null,{"$f":"'APPEL '!AH346","v":0}]
[{"$f":"'APPEL '!A351","v":18},{"$f":"'APPEL '!B351","v":0},{"$f":"'APPEL '!E351","v":0},null,null,null,{"$f":"'APPEL '!O351","v":0},{"$f":"'APPEL '!R351","v":0},{"$f":"'APPEL '!J351","v":0},null,null,null,null,{"$f":"'APPEL '!BH351","v":0},null,null,null,null,null,0,"23-25,9","24-31,9","24-27,9",null,null,null,null,null,null,null,null,{"$f":"'APPEL '!AC351","v":0},null,null,null,null,null,null,null,null,null,null,null,null,null,null,null,null,null,null,null,null,null,null,null,null,null,null,null,null,null,null,null,null,null,null,null,null,null,null,null,null,null,null,null,null,null,null,null,null,null,null,null,null,null,null,null,null,null,null,null,null,null,null,null,null,null,null,{"$f":"'APPEL '!AH351","v":0}]
[{"$f":"'APPEL '!A358","v":18},{"$f":"'APPEL '!B358","v":0},{"$f":"'APPEL '!E358","v":0},null,null,null,{"$f":"'APPEL '!O358","v":0},{"$f":"'APPEL '!R358","v":0},{"$f":"'APPEL '!J358","v":0},null,null,null,null,{"$f":"'APPEL '!BH358","v":0},null,null,null,null,null,0,"23-25,9","24-31,9","24-27,9",null,null,null,null,null,null,null,null,{"$f":"'APPEL '!AC358","v":0},null,null,null,null,null,null,null,null,null,null,null,null,null,null,null,null,null,null,null,null,null,null,null,null,null,null,null,null,null,null,null,null,null,null,null,null,null,null,null,null,null,null,null,null,null,null,null,null,null,null,null,null,null,null,null,null,null,null,null,null,null,null,null,null,null,null,{"$f":"'APPEL '!AH358","v":0}]
[{"$f":"'APPEL '!A364","v":18},{"$f":"'APPEL '!B364","v":0},{"$f":"'APPEL '!E364","v":0},null,null,null,{"$f":"'APPEL '!O364","v":0},{"$f":"'APPEL '!R364","v":0},{"$f":"'APPEL '!J364","v":0},null,null,null,null,{"$f":"'APPEL '!BH364","v":0},null,null,null,null,null,0,"23-25,9","24-31,9","24-27,9",null,null,null,null,null,null,null,null,{"$f":"'APPEL '!AC364","v":0},null,null,null,null,null,null,null,null,null,null,null,null,null,null,null,null,null,null,null,null,null,null,null,null,null,null,null,null,null,null,null,null,null,null,null,null,null,null,null,null,null,null,null,null,null,null,null,null,null,null,null,null,null,null,null,null,null,null,null,null,null,null,null,null,null,null,{"$f":"'APPEL '!AH364","v":0}]
[{"$f":"'APPEL '!A369","v":18},{"$f":"'APPEL '!B369","v":0},{"$f":"'APPEL '!E369","v":0},null,null,null,{"$f":"'APPEL '!O369","v":0},{"$f":"'APPEL '!R369","v":0},{"$f":"'APPEL '!J369","v":0},null,null,null,null,{"$f":"'APPEL '!BH369","v":0},null,null,null,null,null,0,"23-25,9","24-31,9","24-27,9",null,null,null,null,null,null,null,null,{"$f":"'APPEL '!AC369","v":0},null,null,null,null,null,null,null,null,null,null,null,null,null,null,null,null,null,null,null,null,null,null,null,null,null,null,null,null,null,null,null,null,null,null,null,null,null,null,null,null,null,null,null,null,null,null,null,null,null,null,null,null,null,null,null,null,null,null,null,null,null,null,null,null,null,null,{"$f":"'APPEL '!AH369","v":0}]
[{"$f":"'APPEL '!A374","v":18},{"$f":"'APPEL '!B374","v":0},{"$f":"'APPEL '!E374","v":0},null,null,null,{"$f":"'APPEL '!O374","v":0},{"$f":"'APPEL '!R374","v":0},{"$f":"'APPEL '!J374","v":0},null,null,null,null,{"$f":"'APPEL '!BH374","v":0},null,null,null,null,null,0,"23-25,9","24-31,9","24-27,9",null,null,null,null,null,null,null,null,{"$f":"'APPEL '!AC374","v":0},null,null,null,null,null,null,null,null,null,null,null,null,null,null,null,null,null,null,null,null,null,null,null,null,null,null,null,null,null,null,null,null,null,null,null,null,null,null,null,null,null,null,null,null,null,null,null,null,null,null,null,null,null,null,null,null,null,null,null,null,null,null,null,null,null,null,{"$f":"'APPEL '!AH374","v":0}]
[{"$f":"'APPEL '!A376","v":18},{"$f":"'APPEL '!B376","v":0},{"$f":"'APPEL '!E376","v":0},null,null,null,{"$f":"'APPEL '!O376","v":0},{"$f":"'APPEL '!R376","v":0},{"$f":"'APPEL '!J376","v":0},null,null,null,null,{"$f":"'APPEL '!BH376","v":0},null,null,null,null,null,0,"23-25,9","24-31,9","24-27,9",null,null,null,null,null,null,null,null,{"$f":"'APPEL '!AC376","v":0},null,null,null,null,null,null,null,null,null,null,null,null,null,null,null,null,null,null,null,null,null,null,null,null,null,null,null,null,null,null,null,null,null,null,null,null,null,null,null,null,null,null,null,null,null,null,null,null,null,null,null,null,null,null,null,null,null,null,null,null,null,null,null,null,null,null,{"$f":"'APPEL '!AH376","v":0}]
[{"$f":"'APPEL '!A381","v":18},{"$f":"'APPEL '!B381","v":0},{"$f":"'APPEL '!E381","v":0},null,null,null,{"$f":"'APPEL '!O381","v":0},{"$f":"'APPEL '!R381","v":0},{"$f":"'APPEL '!J381","v":0},null,null,null,null,{"$f":"'APPEL '!BH381","v":0},null,null,null,null,null,0,"23-25,9","24-31,9","24-27,9",null,null,null,null,null,null,null,null,{"$f":"'APPEL '!AC381","v":0},null,null,null,null,null,null,null,null,null,null,null,null,null,null,null,null,null,null,null,null,null,null,null,null,null,null,null,null,null,null,null,null,null,null,null,null,null,null,null,null,null,null,null,null,null,null,null,null,null,null,null,null,null,null,null,null,null,null,null,null,null,null,null,null,null,null,{"$f":"'APPEL '!AH381","v":0}]
[{"$f":"'APPEL '!A386","v":18},{"$f":"'APPEL '!B386","v":0},{"$f":"'APPEL '!E386","v":0},null,null,null,{"$f":"'APPEL '!O386","v":0},{"$f":"'APPEL '!R386","v":0},{"$f":"'APPEL '!J386","v":0},null,null,null,null,{"$f":"'APPEL '!BH386","v":0},null,null,null,null,null,0,"23-25,9","24-31,9","24-27,9",null,null,null,null,null,null,null,null,{"$f":"'APPEL '!AC386","v":0},null,null,null,null,null,null,null,null,null,null,null,null,null,null,null,null,null,null,null,null,null,null,null,null,null,null,null,null,null,null,null,null,null,null,null,null,null,null,null,null,null,null,null,null,null,null,null,null,null,null,null,null,null,null,null,null,null,null,null,null,null,null,null,null,null,null,{"$f":"'APPEL '!AH386","v":0}]
[{"$f":"'APPEL '!A392","v":18},{"$f":"'APPEL '!B392","v":0},{"$f":"'APPEL '!E392","v":0},null,null,null,{"$f":"'APPEL '!O392","v":0},{"$f":"'APPEL '!R392","v":0},{"$f":"'APPEL '!J392","v":0},null,null,null,null,{"$f":"'APPEL '!BH392","v":0},null,null,null,null,null,0,"23-25,9","24-31,9","24-27,9",null,null,null,null,null,null,null,null,{"$f":"'APPEL '!AC392","v":0},null,null,null,null,null,null,null,null,null,null,null,null,null,null,null,null,null,null,null,null,null,null,null,null,null,null,null,null,null,null,null,null,null,null,null,null,null,null,null,null,null,null,null,null,null,null,null,null,null,null,null,null,null,null,null,null,null,null,null,null,null,null,null,null,null,null,{"$f":"'APPEL '!AH392","v":0}]
[{"$f":"'APPEL '!A397","v":18},{"$f":"'APPEL '!B397","v":0},{"$f":"'APPEL '!E397","v":0},null,null,null,{"$f":"'APPEL '!O397","v":0},{"$f":"'APPEL '!R397","v":0},{"$f":"'APPEL '!J397","v":0},null,null,null,null,{"$f":"'APPEL '!BH397","v":0},null,null,null,null,null,0,"23-25,9","24-31,9","24-27,9",null,null,null,null,null,null,null,null,{"$f":"'APPEL '!AC397","v":0},null,null,null,null,null,null,null,null,null,null,null,null,null,null,null,null,null,null,null,null,null,null,null,null,null,null,null,null,null,null,null,null,null,null,null,null,null,null,null,null,null,null,null,null,null,null,null,null,null,null,null,null,null,null,null,null,null,null,null,null,null,null,null,null,null,null,{"$f":"'APPEL '!AH397","v":0}]
[{"$f":"'APPEL '!A401","v":18},{"$f":"'APPEL '!B401","v":0},{"$f":"'APPEL '!E401","v":0},null,null,null,{"$f":"'APPEL '!O401","v":0},{"$f":"'APPEL '!R401","v":0},{"$f":"'APPEL '!J401","v":0},null,null,null,null,{"$f":"'APPEL '!BH401","v":0},null,null,null,null,null,0,"23-25,9","24-31,9","24-27,9",null,null,null,null,null,null,null,null,{"$f":"'APPEL '!AC401","v":0},null,null,null,null,null,null,null,null,null,null,null,null,null,null,null,null,null,null,null,null,null,null,null,null,null,null,null,null,null,null,null,null,null,null,null,null,null,null,null,null,null,null,null,null,null,null,null,null,null,null,null,null,null,null,null,null,null,null,null,null,null,null,null,null,null,null,{"$f":"'APPEL '!AH401","v":0}]
[{"$f":"'APPEL '!A409","v":18},{"$f":"'APPEL '!B409","v":0},{"$f":"'APPEL '!E409","v":0},null,null,null,{"$f":"'APPEL '!O409","v":0},{"$f":"'APPEL '!R409","v":0},{"$f":"'APPEL '!J409","v":0},null,null,null,null,{"$f":"'APPEL '!BH409","v":0},null,null,null,null,null,0,"23-25,9","24-31,9","24-27,9",null,null,null,null,null,null,null,null,{"$f":"'APPEL '!AC409","v":0},null,null,null,null,null,null,null,null,null,null,null,null,null,null,null,null,null,null,null,null,null,null,null,null,null,null,null,null,null,null,null,null,null,null,null,null,null,null,null,null,null,null,null,null,null,null,null,null,null,null,null,null,null,null,null,null,null,null,null,null,null,null,null,null,null,null,{"$f":"'APPEL '!AH409","v":0}]
[{"$f":"'APPEL '!A414","v":18},{"$f":"'APPEL '!B414","v":0},{"$f":"'APPEL '!E414","v":0},null,null,null,{"$f":"'APPEL '!O414","v":0},{"$f":"'APPEL '!R414","v":0},{"$f":"'APPEL '!J414","v":0},null,null,null,null,{"$f":"'APPEL '!BH414","v":0},null,null,null,null,null,0,"23-25,9","24-31,9","24-27,9",null,null,null,null,null,null,null,null,{"$f":"'APPEL '!AC414","v":0},null,null,null,null,null,null,null,null,null,null,null,null,null,null,null,null,null,null,null,null,null,null,null,null,null,null,null,null,null,null,null,null,null,null,null,null,null,null,null,null,null,null,null,null,null,null,null,null,null,null,null,null,null,null,null,null,null,null,null,null,null,null,null,null,null,null,{"$f":"'APPEL '!AH414","v":0}]
[{"$f":"'APPEL '!A420","v":18},{"$f":"'APPEL '!B420","v":0},{"$f":"'APPEL '!E420","v":0},null,null,null,{"$f":"'APPEL '!O420","v":0},{"$f":"'APPEL '!R420","v":0},{"$f":"'APPEL '!J420","v":0},null,null,null,null,{"$f":"'APPEL '!BH420","v":0},null,null,null,null,null,0,"23-25,9","24-31,9","24-27,9",null,null,null,null,null,null,null,null,{"$f":"'APPEL '!AC420","v":0},null,null,null,null,null,null,null,null,null,null,null,null,null,null,null,null,null,null,null,null,null,null,null,null,null,null,null,null,null,null,null,null,null,null,null,null,null,null,null,null,null,null,null,null,null,null,null,null,null,null,null,null,null,null,null,null,null,null,null,null,null,null,null,null,null,null,{"$f":"'APPEL '!AH420","v":0}]
[{"$f":"'APPEL '!A425","v":18},{"$f":"'APPEL '!B425","v":0},{"$f":"'APPEL '!E425","v":0},null,null,null,{"$f":"'APPEL '!O425","v":0},{"$f":"'APPEL '!R425","v":0},{"$f":"'APPEL '!J425","v":0},null,null,null,null,{"$f":"'APPEL '!BH425","v":0},null,null,null,null,null,0,"23-25,9","24-31,9","24-27,9",null,null,null,null,null,null,null,null,{"$f":"'APPEL '!AC425","v":0},null,null,null,null,null,null,null,null,null,null,null,null,null,null,null,null,null,null,null,null,null,null,null,null,null,null,null,null,null,null,null,null,null,null,null,null,null,null,null,null,null,null,null,null,null,null,null,null,null,null,null,null,null,null,null,null,null,null,null,null,null,null,null,null,null,null,{"$f":"'APPEL '!AH425","v":0}]
[{"$f":"'APPEL '!A428","v":18},{"$f":"'APPEL '!B428","v":0},{"$f":"'APPEL '!E428","v":0},null,null,null,{"$f":"'APPEL '!O428","v":0},{"$f":"'APPEL '!R428","v":0},{"$f":"'APPEL '!J428","v":0},null,null,null,null,{"$f":"'APPEL '!BH428","v":0},null,null,null,null,null,0,"23-25,9","24-31,9","24-27,9",null,null,null,null,null,null,null,null,{"$f":"'APPEL '!AC428","v":0},null,null,null,null,null,null,null,null,null,null,null,null,null,null,null,null,null,null,null,null,null,null,null,null,null,null,null,null,null,null,null,null,null,null,null,null,null,null,null,null,null,null,null,null,null,null,null,null,null,null,null,null,null,null,null,null,null,null,null,null,null,null,null,null,null,null,{"$f":"'APPEL '!AH428","v":0}]
[{"$f":"'APPEL '!A437","v":18},{"$f":"'APPEL '!B437","v":0},{"$f":"'APPEL '!E437","v":0},null,null,null,{"$f":"'APPEL '!O437","v":0},{"$f":"'APPEL '!R437","v":0},{"$f":"'APPEL '!J437","v":0},null,null,null,null,{"$f":"'APPEL '!BH437","v":0},null,null,null,null,null,0,"23-25,9","24-31,9","24-27,9",null,null,null,null,null,null,null,null,{"$f":"'APPEL '!AC437","v":0},null,null,null,null,null,null,null,null,null,null,null,null,null,null,null,null,null,null,null,null,null,null,null,null,null,null,null,null,null,null,null,null,null,null,null,null,null,null,null,null,null,null,null,null,null,null,null,null,null,null,null,null,null,null,null,null,null,null,null,null,null,null,null,null,null,null,{"$f":"'APPEL '!AH437","v":0}]
[{"$f":"'APPEL '!A442","v":18},{"$f":"'APPEL '!B442","v":0},{"$f":"'APPEL '!E442","v":0},null,null,null,{"$f":"'APPEL '!O442","v":0},{"$f":"'APPEL '!R442","v":0},{"$f":"'APPEL '!J442","v":0},null,null,null,null,{"$f":"'APPEL '!BH442","v":0},null,null,null,null,null,0,"23-25,9","24-31,9","24-27,9",null,null,null,null,null,null,null,null,{"$f":"'APPEL '!AC442","v":0},null,null,null,null,null,null,null,null,null,null,null,null,null,null,null,null,null,null,null,null,null,null,null,null,null,null,null,null,null,null,null,null,null,null,null,null,null,null,null,null,null,null,null,null,null,null,null,null,null,null,null,null,null,null,null,null,null,null,null,null,null,null,null,null,null,null,{"$f":"'APPEL '!AH442","v":0}]
[{"$f":"'APPEL '!A443","v":18},{"$f":"'APPEL '!B443","v":0},{"$f":"'APPEL '!E443","v":0},null,null,null,{"$f":"'APPEL '!O443","v":0},{"$f":"'APPEL '!R443","v":0},{"$f":"'APPEL '!J443","v":0},null,null,null,null,{"$f":"'APPEL '!BH443","v":0},null,null,null,null,null,0,"23-25,9","24-31,9","24-27,9",null,null,null,null,null,null,null,null,{"$f":"'APPEL '!AC443","v":0},null,null,null,null,null,null,null,null,null,null,null,null,null,null,null,null,null,null,null,null,null,null,null,null,null,null,null,null,null,null,null,null,null,null,null,null,null,null,null,null,null,null,null,null,null,null,null,null,null,null,null,null,null,null,null,null,null,null,null,null,null,null,null,null,null,null,{"$f":"'APPEL '!AH443","v":0}]
[{"$f":"'APPEL '!A448","v":18},{"$f":"'APPEL '!B448","v":0},{"$f":"'APPEL '!E448","v":0},null,null,null,{"$f":"'APPEL '!O448","v":0},{"$f":"'APPEL '!R448","v":0},{"$f":"'APPEL '!J448","v":0},null,null,null,null,{"$f":"'APPEL '!BH448","v":0},null,null,null,null,null,0,"23-25,9","24-31,9","24-27,9",null,null,null,null,null,null,null,null,{"$f":"'APPEL '!AC448","v":0},null,null,null,null,null,null,null,null,null,null,null,null,null,null,null,null,null,null,null,null,null,null,null,null,null,null,null,null,null,null,null,null,null,null,null,null,null,null,null,null,null,null,null,null,null,null,null,null,null,null,null,null,null,null,null,null,null,null,null,null,null,null,null,null,null,null,{"$f":"'APPEL '!AH448","v":0}]
[{"$f":"'APPEL '!A453","v":18},{"$f":"'APPEL '!B453","v":0},{"$f":"'APPEL '!E453","v":0},null,null,null,{"$f":"'APPEL '!O453","v":0},{"$f":"'APPEL '!R453","v":0},{"$f":"'APPEL '!J453","v":0},null,null,null,null,{"$f":"'APPEL '!BH453","v":0},null,null,null,null,null,0,"23-25,9","24-31,9","24-27,9",null,null,null,null,null,null,null,null,{"$f":"'APPEL '!AC453","v":0},null,null,null,null,null,null,null,null,null,null,null,null,null,null,null,null,null,null,null,null,null,null,null,null,null,null,null,null,null,null,null,null,null,null,null,null,null,null,null,null,null,null,null,null,null,null,null,null,null,null,null,null,null,null,null,null,null,null,null,null,null,null,null,null,null,null,{"$f":"'APPEL '!AH453","v":0}]
[{"$f":"'APPEL '!A460","v":18},{"$f":"'APPEL '!B460","v":0},{"$f":"'APPEL '!E460","v":0},null,null,null,{"$f":"'APPEL '!O460","v":0},{"$f":"'APPEL '!R460","v":0},{"$f":"'APPEL '!J460","v":0},null,null,null,null,{"$f":"'APPEL '!BH460","v":0},null,null,null,null,null,0,"23-25,9","24-31,9","24-27,9",null,null,null,null,null,null,null,null,{"$f":"'APPEL '!AC460","v":0},null,null,null,null,null,null,null,null,null,null,null,null,null,null,null,null,null,null,null,null,null,null,null,null,null,null,null,null,null,null,null,null,null,null,null,null,null,null,null,null,null,null,null,null,null,null,null,null,null,null,null,null,null,null,null,null,null,null,null,null,null,null,null,null,null,null,{"$f":"'APPEL '!AH460","v":0}]
[{"$f":"'APPEL '!A465","v":18},{"$f":"'APPEL '!B465","v":0},{"$f":"'APPEL '!E465","v":0},null,null,null,{"$f":"'APPEL '!O465","v":0},{"$f":"'APPEL '!R465","v":0},{"$f":"'APPEL '!J465","v":0},null,null,null,null,{"$f":"'APPEL '!BH465","v":0},null,null,null,null,null,0,"23-25,9","24-31,9","24-27,9",null,null,null,null,null,null,null,null,{"$f":"'APPEL '!AC465","v":0},null,null,null,null,null,null,null,null,null,null,null,null,null,null,null,null,null,null,null,null,null,null,null,null,null,null,null,null,null,null,null,null,null,null,null,null,null,null,null,null,null,null,null,null,null,null,null,null,null,null,null,null,null,null,null,null,null,null,null,null,null,null,null,null,null,null,{"$f":"'APPEL '!AH465","v":0}]
[{"$f":"'APPEL '!A471","v":18},{"$f":"'APPEL '!B471","v":0},{"$f":"'APPEL '!E471","v":0},null,null,null,{"$f":"'APPEL '!O471","v":0},{"$f":"'APPEL '!R471","v":0},{"$f":"'APPEL '!J471","v":0},null,null,null,null,{"$f":"'APPEL '!BH471","v":0},null,null,null,null,null,0,"23-25,9","24-31,9","24-27,9",null,null,null,null,null,null,null,null,{"$f":"'APPEL '!AC471","v":0},null,null,null,null,null,null,null,null,null,null,null,null,null,null,null,null,null,null,null,null,null,null,null,null,null,null,null,null,null,null,null,null,null,null,null,null,null,null,null,null,null,null,null,null,null,null,null,null,null,null,null,null,null,null,null,null,null,null,null,null,null,null,null,null,null,null,{"$f":"'APPEL '!AH471","v":0}]
[{"$f":"'APPEL '!A476","v":18},{"$f":"'APPEL '!B476","v":0},{"$f":"'APPEL '!E476","v":0},null,null,null,{"$f":"'APPEL '!O476","v":0},{"$f":"'APPEL '!R476","v":0},{"$f":"'APPEL '!J476","v":0},null,null,null,null,{"$f":"'APPEL '!BH476","v":0},null,null,null,null,null,0,"23-25,9","24-31,9","24-27,9",null,null,null,null,null,null,null,null,{"$f":"'APPEL '!AC476","v":0},null,null,null,null,null,null,null,null,null,null,null,null,null,null,null,null,null,null,null,null,null,null,null,null,null,null,null,null,null,null,null,null,null,null,null,null,null,null,null,null,null,null,null,null,null,null,null,null,null,null,null,null,null,null,null,null,null,null,null,null,null,null,null,null,null,null,{"$f":"'APPEL '!AH476","v":0}]
[{"$f":"'APPEL '!A484","v":18},{"$f":"'APPEL '!B484","v":0},{"$f":"'APPEL '!E484","v":0},null,null,null,{"$f":"'APPEL '!O484","v":0},{"$f":"'APPEL '!R484","v":0},{"$f":"'APPEL '!J484","v":0},null,null,null,null,{"$f":"'APPEL '!BH484","v":0},null,null,null,null,null,0,"23-25,9","24-31,9","24-27,9",null,null,null,null,null,null,null,null,{"$f":"'APPEL '!AC484","v":0},null,null,null,null,null,null,null,null,null,null,null,null,null,null,null,null,null,null,null,null,null,null,null,null,null,null,null,null,null,null,null,null,null,null,null,null,null,null,null,null,null,null,null,null,null,null,null,null,null,null,null,null,null,null,null,null,null,null,null,null,null,null,null,null,null,null,{"$f":"'APPEL '!AH484","v":0}]
[{"$f":"'APPEL '!A488","v":18},{"$f":"'APPEL '!B488","v":0},{"$f":"'APPEL '!E488","v":0},null,null,null,{"$f":"'APPEL '!O488","v":0},{"$f":"'APPEL '!R488","v":0},{"$f":"'APPEL '!J488","v":0},null,null,null,null,{"$f":"'APPEL '!BH488","v":0},null,null,null,null,null,0,"23-25,9","24-31,9","24-27,9",null,null,null,null,null,null,null,null,{"$f":"'APPEL '!AC488","v":0},null,null,null,null,null,null,null,null,null,null,null,null,null,null,null,null,null,null,null,null,null,null,null,null,null,null,null,null,null,null,null,null,null,null,null,null,null,null,null,null,null,null,null,null,null,null,null,null,null,null,null,null,null,null,null,null,null,null,null,null,null,null,null,null,null,null,{"$f":"'APPEL '!AH488","v":0}]
[{"$f":"'APPEL '!A493","v":18},{"$f":"'APPEL '!B493","v":0},{"$f":"'APPEL '!E493","v":0},null,null,null,{"$f":"'APPEL '!O493","v":0},{"$f":"'APPEL '!R493","v":0},{"$f":"'APPEL '!J493","v":0},null,null,null,null,{"$f":"'APPEL '!BH493","v":0},null,null,null,null,null,0,"23-25,9","24-31,9","24-27,9",null,null,null,null,null,null,null,null,{"$f":"'APPEL '!AC493","v":0},null,null,null,null,null,null,null,null,null,null,null,null,null,null,null,null,null,null,null,null,null,null,null,null,null,null,null,null,null,null,null,null,null,null,null,null,null,null,null,null,null,null,null,null,null,null,null,null,null,null,null,null,null,null,null,null,null,null,null,null,null,null,null,null,null,null,{"$f":"'APPEL '!AH493","v":0}]
[{"$f":"'APPEL '!A498","v":18},{"$f":"'APPEL '!B498","v":0},{"$f":"'APPEL '!E498","v":0},null,null,null,{"$f":"'APPEL '!O498","v":0},{"$f":"'APPEL '!R498","v":0},{"$f":"'APPEL '!J498","v":0},null,null,null,null,{"$f":"'APPEL '!BH498","v":0},null,null,null,null,null,0,"23-25,9","24-31,9","24-27,9",null,null,null,null,null,null,null,null,{"$f":"'APPEL '!AC498","v":0},null,null,null,null,null,null,null,null,null,null,null,null,null,null,null,null,null,null,null,null,null,null,null,null,null,null,null,null,null,null,null,null,null,null,null,null,null,null,null,null,null,null,null,null,null,null,null,null,null,null,null,null,null,null,null,null,null,null,null,null,null,null,null,null,null,null,{"$f":"'APPEL '!AH498","v":0}]
[{"$f":"'APPEL '!A504","v":18},{"$f":"'APPEL '!B504","v":0},{"$f":"'APPEL '!E504","v":0},null,null,null,{"$f":"'APPEL '!O504","v":0},{"$f":"'APPEL '!R504","v":0},{"$f":"'APPEL '!J504","v":0},null,null,null,null,{"$f":"'APPEL '!BH504","v":0},null,null,null,null,null,0,"23-25,9","24-31,9","24-27,9",null,null,null,null,null,null,null,null,{"$f":"'APPEL '!AC504","v":0},null,null,null,null,null,null,null,null,null,null,null,null,null,null,null,null,null,null,null,null,null,null,null,null,null,null,null,null,null,null,null,null,null,null,null,null,null,null,null,null,null,null,null,null,null,null,null,null,null,null,null,null,null,null,null,null,null,null,null,null,null,null,null,null,null,null,{"$f":"'APPEL '!AH504","v":0}]
[{"$f":"'APPEL '!A509","v":18},{"$f":"'APPEL '!B509","v":0},{"$f":"'APPEL '!E509","v":0},null,null,null,{"$f":"'APPEL '!O509","v":0},{"$f":"'APPEL '!R509","v":0},{"$f":"'APPEL '!J509","v":0},null,null,null,null,{"$f":"'APPEL '!BH509","v":0},null,null,null,null,null,0,"23-25,9","24-31,9","24-27,9",null,null,null,null,null,null,null,null,{"$f":"'APPEL '!AC509","v":0},null,null,null,null,null,null,null,null,null,null,null,null,null,null,null,null,null,null,null,null,null,null,null,null,null,null,null,null,null,null,null,null,null,null,null,null,null,null,null,null,null,null,null,null,null,null,null,null,null,null,null,null,null,null,null,null,null,null,null,null,null,null,null,null,null,null,{"$f":"'APPEL '!AH509","v":0}]
[{"$f":"'APPEL '!A511","v":18},{"$f":"'APPEL '!B511","v":0},{"$f":"'APPEL '!E511","v":0},null,null,null,{"$f":"'APPEL '!O511","v":0},{"$f":"'APPEL '!R511","v":0},{"$f":"'APPEL '!J511","v":0},null,null,null,null,{"$f":"'APPEL '!BH511","v":0},null,null,null,null,null,0,"23-25,9","24-31,9","24-27,9",null,null,null,null,null,null,null,null,{"$f":"'APPEL '!AC511","v":0},null,null,null,null,null,null,null,null,null,null,null,null,null,null,null,null,null,null,null,null,null,null,null,null,null,null,null,null,null,null,null,null,null,null,null,null,null,null,null,null,null,null,null,null,null,null,null,null,null,null,null,null,null,null,null,null,null,null,null,null,null,null,null,null,null,null,{"$f":"'APPEL '!AH511","v":0}]
[{"$f":"'APPEL '!A516","v":18},{"$f":"'APPEL '!B516","v":0},{"$f":"'APPEL '!E516","v":0},null,null,null,{"$f":"'APPEL '!O516","v":0},{"$f":"'APPEL '!R516","v":0},{"$f":"'APPEL '!J516","v":0},null,null,null,null,{"$f":"'APPEL '!BH516","v":0},null,null,null,null,null,0,"23-25,9","24-31,9","24-27,9",null,null,null,null,null,null,null,null,{"$f":"'APPEL '!AC516","v":0},null,null,null,null,null,null,null,null,null,null,null,null,null,null,null,null,null,null,null,null,null,null,null,null,null,null,null,null,null,null,null,null,null,null,null,null,null,null,null,null,null,null,null,null,null,null,null,null,null,null,null,null,null,null,null,null,null,null,null,null,null,null,null,null,null,null,{"$f":"'APPEL '!AH516","v":0}]
[{"$f":"'APPEL '!A521","v":18},{"$f":"'APPEL '!B521","v":0},{"$f":"'APPEL '!E521","v":0},null,null,null,{"$f":"'APPEL '!O521","v":0},{"$f":"'APPEL '!R521","v":0},{"$f":"'APPEL '!J521","v":0},null,null,null,null,{"$f":"'APPEL '!BH521","v":0},null,null,null,null,null,0,"23-25,9","24-31,9","24-27,9",null,null,null,null,null,null,null,null,{"$f":"'APPEL '!AC521","v":0},null,null,null,null,null,null,null,null,null,null,null,null,null,null,null,null,null,null,null,null,null,null,null,null,null,null,null,null,null,null,null,null,null,null,null,null,null,null,null,null,null,null,null,null,null,null,null,null,null,null,null,null,null,null,null,null,null,null,null,null,null,null,null,null,null,null,{"$f":"'APPEL '!AH521","v":0}]
[{"$f":"'APPEL '!A527","v":18},{"$f":"'APPEL '!B527","v":0},{"$f":"'APPEL '!E527","v":0},null,null,null,{"$f":"'APPEL '!O527","v":0},{"$f":"'APPEL '!R527","v":0},{"$f":"'APPEL '!J527","v":0},null,null,null,null,{"$f":"'APPEL '!BH527","v":0},null,null,null,null,null,0,"23-25,9","24-31,9","24-27,9",null,null,null,null,null,null,null,null,{"$f":"'APPEL '!AC527","v":0},null,null,null,null,null,null,null,null,null,null,null,null,null,null,null,null,null,null,null,null,null,null,null,null,null,null,null,null,null,null,null,null,null,null,null,null,null,null,null,null,null,null,null,null,null,null,null,null,null,null,null,null,null,null,null,null,null,null,null,null,null,null,null,null,null,null,{"$f":"'APPEL '!AH527","v":0}]
[{"$f":"'APPEL '!A534","v":18},{"$f":"'APPEL '!B534","v":0},{"$f":"'APPEL '!E534","v":0},null,null,null,{"$f":"'APPEL '!O534","v":0},{"$f":"'APPEL '!R534","v":0},{"$f":"'APPEL '!J534","v":0},null,null,null,null,{"$f":"'APPEL '!BH534","v":0},null,null,null,null,null,0,"23-25,9","24-31,9","24-27,9",null,null,null,null,null,null,null,null,{"$f":"'APPEL '!AC534","v":0},null,null,null,null,null,null,null,null,null,null,null,null,null,null,null,null,null,null,null,null,null,null,null,null,null,null,null,null,null,null,null,null,null,null,null,null,null,null,null,null,null,null,null,null,null,null,null,null,null,null,null,null,null,null,null,null,null,null,null,null,null,null,null,null,null,null,{"$f":"'APPEL '!AH534","v":0}]
[{"$f":"'APPEL '!A539","v":18},{"$f":"'APPEL '!B539","v":0},{"$f":"'APPEL '!E539","v":0},null,null,null,{"$f":"'APPEL '!O539","v":0},{"$f":"'APPEL '!R539","v":0},{"$f":"'APPEL '!J539","v":0},null,null,null,null,{"$f":"'APPEL '!BH539","v":0},null,null,null,null,null,0,"23-25,9","24-31,9","24-27,9",null,null,null,null,null,null,null,null,{"$f":"'APPEL '!AC539","v":0},null,null,null,null,null,null,null,null,null,null,null,null,null,null,null,null,null,null,null,null,null,null,null,null,null,null,null,null,null,null,null,null,null,null,null,null,null,null,null,null,null,null,null,null,null,null,null,null,null,null,null,null,null,null,null,null,null,null,null,null,null,null,null,null,null,null,{"$f":"'APPEL '!AH539","v":0}]
[{"$f":"'APPEL '!A544","v":18},{"$f":"'APPEL '!B544","v":0},{"$f":"'APPEL '!E544","v":0},null,null,null,{"$f":"'APPEL '!O544","v":0},{"$f":"'APPEL '!R544","v":0},{"$f":"'APPEL '!J544","v":0},null,null,null,null,{"$f":"'APPEL '!BH544","v":0},null,null,null,null,null,0,"23-25,9","24-31,9","24-27,9",null,null,null,null,null,null,null,null,{"$f":"'APPEL '!AC544","v":0},null,null,null,null,null,null,null,null,null,null,null,null,null,null,null,null,null,null,null,null,null,null,null,null,null,null,null,null,null,null,null,null,null,null,null,null,null,null,null,null,null,null,null,null,null,null,null,null,null,null,null,null,null,null,null,null,null,null,null,null,null,null,null,null,null,null,{"$f":"'APPEL '!AH544","v":0}]
[{"$f":"'APPEL '!A549","v":18},{"$f":"'APPEL '!B549","v":0},{"$f":"'APPEL '!E549","v":0},null,null,null,{"$f":"'APPEL '!O549","v":0},{"$f":"'APPEL '!R549","v":0},{"$f":"'APPEL '!J549","v":0},null,null,null,null,{"$f":"'APPEL '!BH549","v":0},null,null,null,null,null,0,"23-25,9","24-31,9","24-27,9",null,null,null,null,null,null,null,null,{"$f":"'APPEL '!AC549","v":0},null,null,null,null,null,null,null,null,null,null,null,null,null,null,null,null,null,null,null,null,null,null,null,null,null,null,null,null,null,null,null,null,null,null,null,null,null,null,null,null,null,null,null,null,null,null,null,null,null,null,null,null,null,null,null,null,null,null,null,null,null,null,null,null,null,null,{"$f":"'APPEL '!AH549","v":0}]
[{"$f":"'APPEL '!A555","v":18},{"$f":"'APPEL '!B555","v":0},{"$f":"'APPEL '!E555","v":0},null,null,null,{"$f":"'APPEL '!O555","v":0},{"$f":"'APPEL '!R555","v":0},{"$f":"'APPEL '!J555","v":0},null,null,null,null,{"$f":"'APPEL '!BH555","v":0},null,null,null,null,null,0,"23-25,9","24-31,9","24-27,9",null,null,null,null,null,null,null,null,{"$f":"'APPEL '!AC555","v":0},null,null,null,null,null,null,null,null,null,null,null,null,null,null,null,null,null,null,null,null,null,null,null,null,null,null,null,null,null,null,null,null,null,null,null,null,null,null,null,null,null,null,null,null,null,null,null,null,null,null,null,null,null,null,null,null,null,null,null,null,null,null,null,null,null,null,{"$f":"'APPEL '!AH555","v":0}]
[{"$f":"'APPEL '!A559","v":18},{"$f":"'APPEL '!B559","v":0},{"$f":"'APPEL '!E559","v":0},null,null,null,{"$f":"'APPEL '!O559","v":0},{"$f":"'APPEL '!R559","v":0},{"$f":"'APPEL '!J559","v":0},null,null,null,null,{"$f":"'APPEL '!BH559","v":0},null,null,null,null,null,0,"23-25,9","24-31,9","24-27,9",null,null,null,null,null,null,null,null,{"$f":"'APPEL '!AC559","v":0},null,null,null,null,null,null,null,null,null,null,null,null,null,null,null,null,null,null,null,null,null,null,null,null,null,null,null,null,null,null,null,null,null,null,null,null,null,null,null,null,null,null,null,null,null,null,null,null,null,null,null,null,null,null,null,null,null,null,null,null,null,null,null,null,null,null,{"$f":"'APPEL '!AH559","v":0}]
[{"$f":"'APPEL '!A566","v":18},{"$f":"'APPEL '!B566","v":0},{"$f":"'APPEL '!E566","v":0},null,null,null,{"$f":"'APPEL '!O566","v":0},{"$f":"'APPEL '!R566","v":0},{"$f":"'APPEL '!J566","v":0},null,null,null,null,{"$f":"'APPEL '!BH566","v":0},null,null,null,null,null,0,"23-25,9","24-31,9","24-27,9",null,null,null,null,null,null,null,null,{"$f":"'APPEL '!AC566","v":0},null,null,null,null,null,null,null,null,null,null,null,null,null,null,null,null,null,null,null,null,null,null,null,null,null,null,null,null,null,null,null,null,null,null,null,null,null,null,null,null,null,null,null,null,null,null,null,null,null,null,null,null,null,null,null,null,null,null,null,null,null,null,null,null,null,null,{"$f":"'APPEL '!AH566","v":0}]
[{"$f":"'APPEL '!A572","v":18},{"$f":"'APPEL '!B572","v":0},{"$f":"'APPEL '!E572","v":0},null,null,null,{"$f":"'APPEL '!O572","v":0},{"$f":"'APPEL '!R572","v":0},{"$f":"'APPEL '!J572","v":0},null,null,null,null,{"$f":"'APPEL '!BH572","v":0},null,null,null,null,null,0,"23-25,9","24-31,9","24-27,9",null,null,null,null,null,null,null,null,{"$f":"'APPEL '!AC572","v":0},null,null,null,null,null,null,null,null,null,null,null,null,null,null,null,null,null,null,null,null,null,null,null,null,null,null,null,null,null,null,null,null,null,null,null,null,null,null,null,null,null,null,null,null,null,null,null,null,null,null,null,null,null,null,null,null,null,null,null,null,null,null,null,null,null,null,{"$f":"'APPEL '!AH572","v":0}]
[{"$f":"'APPEL '!A577","v":18},{"$f":"'APPEL '!B577","v":0},{"$f":"'APPEL '!E577","v":0},null,null,null,{"$f":"'APPEL '!O577","v":0},{"$f":"'APPEL '!R577","v":0},{"$f":"'APPEL '!J577","v":0},null,null,null,null,{"$f":"'APPEL '!BH577","v":0},null,null,null,null,null,0,"23-25,9","24-31,9","24-27,9",null,null,null,null,null,null,null,null,{"$f":"'APPEL '!AC577","v":0},null,null,null,null,null,null,null,null,null,null,null,null,null,null,null,null,null,null,null,null,null,null,null,null,null,null,null,null,null,null,null,null,null,null,null,null,null,null,null,null,null,null,null,null,null,null,null,null,null,null,null,null,null,null,null,null,null,null,null,null,null,null,null,null,null,null,{"$f":"'APPEL '!AH577","v":0}]
[{"$f":"'APPEL '!A578","v":18},{"$f":"'APPEL '!B578","v":0},{"$f":"'APPEL '!E578","v":0},null,null,null,{"$f":"'APPEL '!O578","v":0},{"$f":"'APPEL '!R578","v":0},{"$f":"'APPEL '!J578","v":0},null,null,null,null,{"$f":"'APPEL '!BH578","v":0},null,null,null,null,null,0,"23-25,9","24-31,9","24-27,9",null,null,null,null,null,null,null,null,{"$f":"'APPEL '!AC578","v":0},null,null,null,null,null,null,null,null,null,null,null,null,null,null,null,null,null,null,null,null,null,null,null,null,null,null,null,null,null,null,null,null,null,null,null,null,null,null,null,null,null,null,null,null,null,null,null,null,null,null,null,null,null,null,null,null,null,null,null,null,null,null,null,null,null,null,{"$f":"'APPEL '!AH578","v":0}]
[{"$f":"'APPEL '!A584","v":18},{"$f":"'APPEL '!B584","v":0},{"$f":"'APPEL '!E584","v":0},null,null,null,{"$f":"'APPEL '!O584","v":0},{"$f":"'APPEL '!R584","v":0},{"$f":"'APPEL '!J584","v":0},null,null,null,null,{"$f":"'APPEL '!BH584","v":0},null,null,null,null,null,0,"23-25,9","24-31,9","24-27,9",null,null,null,null,null,null,null,null,{"$f":"'APPEL '!AC584","v":0},null,null,null,null,null,null,null,null,null,null,null,null,null,null,null,null,null,null,null,null,null,null,null,null,null,null,null,null,null,null,null,null,null,null,null,null,null,null,null,null,null,null,null,null,null,null,null,null,null,null,null,null,null,null,null,null,null,null,null,null,null,null,null,null,null,null,{"$f":"'APPEL '!AH584","v":0}]
[{"$f":"'APPEL '!A589","v":18},{"$f":"'APPEL '!B589","v":0},{"$f":"'APPEL '!E589","v":0},null,null,null,{"$f":"'APPEL '!O589","v":0},{"$f":"'APPEL '!R589","v":0},{"$f":"'APPEL '!J589","v":0},null,null,null,null,{"$f":"'APPEL '!BH589","v":0},null,null,null,null,null,0,"23-25,9","24-31,9","24-27,9",null,null,null,null,null,null,null,null,{"$f":"'APPEL '!AC589","v":0},null,null,null,null,null,null,null,null,null,null,null,null,null,null,null,null,null,null,null,null,null,null,null,null,null,null,null,null,null,null,null,null,null,null,null,null,null,null,null,null,null,null,null,null,null,null,null,null,null,null,null,null,null,null,null,null,null,null,null,null,null,null,null,null,null,null,{"$f":"'APPEL '!AH589","v":0}]
[{"$f":"'APPEL '!A595","v":18},{"$f":"'APPEL '!B595","v":0},{"$f":"'APPEL '!E595","v":0},null,null,null,{"$f":"'APPEL '!O595","v":0},{"$f":"'APPEL '!R595","v":0},{"$f":"'APPEL '!J595","v":0},null,null,null,null,{"$f":"'APPEL '!BH595","v":0},null,null,null,null,null,0,"23-25,9","24-31,9","24-27,9",null,null,null,null,null,null,null,null,{"$f":"'APPEL '!AC595","v":0},null,null,null,null,null,null,null,null,null,null,null,null,null,null,null,null,null,null,null,null,null,null,null,null,null,null,null,null,null,null,null,null,null,null,null,null,null,null,null,null,null,null,null,null,null,null,null,null,null,null,null,null,null,null,null,null,null,null,null,null,null,null,null,null,null,null,{"$f":"'APPEL '!AH595","v":0}]
[{"$f":"'APPEL '!A600","v":18},{"$f":"'APPEL '!B600","v":0},{"$f":"'APPEL '!E600","v":0},null,null,null,{"$f":"'APPEL '!O600","v":0},{"$f":"'APPEL '!R600","v":0},{"$f":"'APPEL '!J600","v":0},null,null,null,null,{"$f":"'APPEL '!BH600","v":0},null,null,null,null,null,0,"23-25,9","24-31,9","24-27,9",null,null,null,null,null,null,null,null,{"$f":"'APPEL '!AC600","v":0},null,null,null,null,null,null,null,null,null,null,null,null,null,null,null,null,null,null,null,null,null,null,null,null,null,null,null,null,null,null,null,null,null,null,null,null,null,null,null,null,null,null,null,null,null,null,null,null,null,null,null,null,null,null,null,null,null,null,null,null,null,null,null,null,null,null,{"$f":"'APPEL '!AH600","v":0}]
[{"$f":"'APPEL '!A605","v":18},{"$f":"'APPEL '!B605","v":0},{"$f":"'APPEL '!E605","v":0},null,null,null,{"$f":"'APPEL '!O605","v":0},{"$f":"'APPEL '!R605","v":0},{"$f":"'APPEL '!J605","v":0},null,null,null,null,{"$f":"'APPEL '!BH605","v":0},null,null,null,null,null,0,"23-25,9","24-31,9","24-27,9",null,null,null,null,null,null,null,null,{"$f":"'APPEL '!AC605","v":0},null,null,null,null,null,null,null,null,null,null,null,null,null,null,null,null,null,null,null,null,null,null,null,null,null,null,null,null,null,null,null,null,null,null,null,null,null,null,null,null,null,null,null,null,null,null,null,null,null,null,null,null,null,null,null,null,null,null,null,null,null,null,null,null,null,null,{"$f":"'APPEL '!AH605","v":0}]
[{"$f":"'APPEL '!A609","v":18},{"$f":"'APPEL '!B609","v":0},{"$f":"'APPEL '!E609","v":0},null,null,null,{"$f":"'APPEL '!O609","v":0},{"$f":"'APPEL '!R609","v":0},{"$f":"'APPEL '!J609","v":0},null,null,null,null,{"$f":"'APPEL '!BH609","v":0},null,null,null,null,null,0,"23-25,9","24-31,9","24-27,9",null,null,null,null,null,null,null,null,{"$f":"'APPEL '!AC609","v":0},null,null,null,null,null,null,null,null,null,null,null,null,null,null,null,null,null,null,null,null,null,null,null,null,null,null,null,null,null,null,null,null,null,null,null,null,null,null,null,null,null,null,null,null,null,null,null,null,null,null,null,null,null,null,null,null,null,null,null,null,null,null,null,null,null,null,{"$f":"'APPEL '!AH609","v":0}]
[{"$f":"'APPEL '!A617","v":18},{"$f":"'APPEL '!B617","v":0},{"$f":"'APPEL '!E617","v":0},null,null,null,{"$f":"'APPEL '!O617","v":0},{"$f":"'APPEL '!R617","v":0},{"$f":"'APPEL '!J617","v":0},null,null,null,null,{"$f":"'APPEL '!BH617","v":0},null,null,null,null,null,0,"23-25,9","24-31,9","24-27,9",null,null,null,null,null,null,null,null,{"$f":"'APPEL '!AC617","v":0},null,null,null,null,null,null,null,null,null,null,null,null,null,null,null,null,null,null,null,null,null,null,null,null,null,null,null,null,null,null,null,null,null,null,null,null,null,null,null,null,null,null,null,null,null,null,null,null,null,null,null,null,null,null,null,null,null,null,null,null,null,null,null,null,null,null,{"$f":"'APPEL '!AH617","v":0}]
[{"$f":"'APPEL '!A623","v":18},{"$f":"'APPEL '!B623","v":0},{"$f":"'APPEL '!E623","v":0},null,null,null,{"$f":"'APPEL '!O623","v":0},{"$f":"'APPEL '!R623","v":0},{"$f":"'APPEL '!J623","v":0},null,null,null,null,{"$f":"'APPEL '!BH623","v":0},null,null,null,null,null,0,"23-25,9","24-31,9","24-27,9",null,null,null,null,null,null,null,null,{"$f":"'APPEL '!AC623","v":0},null,null,null,null,null,null,null,null,null,null,null,null,null,null,null,null,null,null,null,null,null,null,null,null,null,null,null,null,null,null,null,null,null,null,null,null,null,null,null,null,null,null,null,null,null,null,null,null,null,null,null,null,null,null,null,null,null,null,null,null,null,null,null,null,null,null,{"$f":"'APPEL '!AH623","v":0}]
[{"$f":"'APPEL '!A628","v":18},{"$f":"'APPEL '!B628","v":0},{"$f":"'APPEL '!E628","v":0},null,null,null,{"$f":"'APPEL '!O628","v":0},{"$f":"'APPEL '!R628","v":0},{"$f":"'APPEL '!J628","v":0},null,null,null,null,{"$f":"'APPEL '!BH628","v":0},null,null,null,null,null,0,"23-25,9","24-31,9","24-27,9",null,null,null,null,null,null,null,null,{"$f":"'APPEL '!AC628","v":0},null,null,null,null,null,null,null,null,null,null,null,null,null,null,null,null,null,null,null,null,null,null,null,null,null,null,null,null,null,null,null,null,null,null,null,null,null,null,null,null,null,null,null,null,null,null,null,null,null,null,null,null,null,null,null,null,null,null,null,null,null,null,null,null,null,null,{"$f":"'APPEL '!AH628","v":0}]
[{"$f":"'APPEL '!A633","v":18},{"$f":"'APPEL '!B633","v":0},{"$f":"'APPEL '!E633","v":0},null,null,null,{"$f":"'APPEL '!O633","v":0},{"$f":"'APPEL '!R633","v":0},{"$f":"'APPEL '!J633","v":0},null,null,null,null,{"$f":"'APPEL '!BH633","v":0},null,null,null,null,null,0,"23-25,9","24-31,9","24-27,9",null,null,null,null,null,null,null,null,{"$f":"'APPEL '!AC633","v":0},null,null,null,null,null,null,null,null,null,null,null,null,null,null,null,null,null,null,null,null,null,null,null,null,null,null,null,null,null,null,null,null,null,null,null,null,null,null,null,null,null,null,null,null,null,null,null,null,null,null,null,null,null,null,null,null,null,null,null,null,null,null,null,null,null,null,{"$f":"'APPEL '!AH633","v":0}]
[{"$f":"'APPEL '!A640","v":18},{"$f":"'APPEL '!B640","v":0},{"$f":"'APPEL '!E640","v":0},null,null,null,{"$f":"'APPEL '!O640","v":0},{"$f":"'APPEL '!R640","v":0},{"$f":"'APPEL '!J640","v":0},null,null,null,null,{"$f":"'APPEL '!BH640","v":0},null,null,null,null,null,0,"23-25,9","24-31,9","24-27,9",null,null,null,null,null,null,null,null,{"$f":"'APPEL '!AC640","v":0},null,null,null,null,null,null,null,null,null,null,null,null,null,null,null,null,null,null,null,null,null,null,null,null,null,null,null,null,null,null,null,null,null,null,null,null,null,null,null,null,null,null,null,null,null,null,null,null,null,null,null,null,null,null,null,null,null,null,null,null,null,null,null,null,null,null,{"$f":"'APPEL '!AH640","v":0}]
[{"$f":"'APPEL '!A645","v":18},{"$f":"'APPEL '!B645","v":0},{"$f":"'APPEL '!E645","v":0},null,null,null,{"$f":"'APPEL '!O645","v":0},{"$f":"'APPEL '!R645","v":0},{"$f":"'APPEL '!J645","v":0},null,null,null,null,{"$f":"'APPEL '!BH645","v":0},null,null,null,null,null,0,"23-25,9","24-31,9","24-27,9",null,null,null,null,null,null,null,null,{"$f":"'APPEL '!AC645","v":0},null,null,null,null,null,null,null,null,null,null,null,null,null,null,null,null,null,null,null,null,null,null,null,null,null,null,null,null,null,null,null,null,null,null,null,null,null,null,null,null,null,null,null,null,null,null,null,null,null,null,null,null,null,null,null,null,null,null,null,null,null,null,null,null,null,null,{"$f":"'APPEL '!AH645","v":0}]
[{"$f":"'APPEL '!A646","v":18},{"$f":"'APPEL '!B646","v":0},{"$f":"'APPEL '!E646","v":0},null,null,null,{"$f":"'APPEL '!O646","v":0},{"$f":"'APPEL '!R646","v":0},{"$f":"'APPEL '!J646","v":0},null,null,null,null,{"$f":"'APPEL '!BH646","v":0},null,null,null,null,null,0,"23-25,9","24-31,9","24-27,9",null,null,null,null,null,null,null,null,{"$f":"'APPEL '!AC646","v":0},null,null,null,null,null,null,null,null,null,null,null,null,null,null,null,null,null,null,null,null,null,null,null,null,null,null,null,null,null,null,null,null,null,null,null,null,null,null,null,null,null,null,null,null,null,null,null,null,null,null,null,null,null,null,null,null,null,null,null,null,null,null,null,null,null,null,{"$f":"'APPEL '!AH646","v":0}]
[{"$f":"'APPEL '!A651","v":18},{"$f":"'APPEL '!B651","v":0},{"$f":"'APPEL '!E651","v":0},null,null,null,{"$f":"'APPEL '!O651","v":0},{"$f":"'APPEL '!R651","v":0},{"$f":"'APPEL '!J651","v":0},null,null,null,null,{"$f":"'APPEL '!BH651","v":0},null,null,null,null,null,0,"23-25,9","24-31,9","24-27,9",null,null,null,null,null,null,null,null,{"$f":"'APPEL '!AC651","v":0},null,null,null,null,null,null,null,null,null,null,null,null,null,null,null,null,null,null,null,null,null,null,null,null,null,null,null,null,null,null,null,null,null,null,null,null,null,null,null,null,null,null,null,null,null,null,null,null,null,null,null,null,null,null,null,null,null,null,null,null,null,null,null,null,null,null,{"$f":"'APPEL '!AH651","v":0}]
[{"$f":"'APPEL '!A656","v":18},{"$f":"'APPEL '!B656","v":0},{"$f":"'APPEL '!E656","v":0},null,null,null,{"$f":"'APPEL '!O656","v":0},{"$f":"'APPEL '!R656","v":0},{"$f":"'APPEL '!J656","v":0},null,null,null,null,{"$f":"'APPEL '!BH656","v":0},null,null,null,null,null,0,"23-25,9","24-31,9","24-27,9",null,null,null,null,null,null,null,null,{"$f":"'APPEL '!AC656","v":0},null,null,null,null,null,null,null,null,null,null,null,null,null,null,null,null,null,null,null,null,null,null,null,null,null,null,null,null,null,null,null,null,null,null,null,null,null,null,null,null,null,null,null,null,null,null,null,null,null,null,null,null,null,null,null,null,null,null,null,null,null,null,null,null,null,null,{"$f":"'APPEL '!AH656","v":0}]
[{"$f":"'APPEL '!A665","v":18},{"$f":"'APPEL '!B665","v":0},{"$f":"'APPEL '!E665","v":0},null,null,null,{"$f":"'APPEL '!O665","v":0},{"$f":"'APPEL '!R665","v":0},{"$f":"'APPEL '!J665","v":0},null,null,null,null,{"$f":"'APPEL '!BH665","v":0},null,null,null,null,null,0,"23-25,9","24-31,9","24-27,9",null,null,null,null,null,null,null,null,{"$f":"'APPEL '!AC665","v":0},null,null,null,null,null,null,null,null,null,null,null,null,null,null,null,null,null,null,null,null,null,null,null,null,null,null,null,null,null,null,null,null,null,null,null,null,null,null,null,null,null,null,null,null,null,null,null,null,null,null,null,null,null,null,null,null,null,null,null,null,null,null,null,null,null,null,{"$f":"'APPEL '!AH665","v":0}]
[{"$f":"'APPEL '!A668","v":18},{"$f":"'APPEL '!B668","v":0},{"$f":"'APPEL '!E668","v":0},null,null,null,{"$f":"'APPEL '!O668","v":0},{"$f":"'APPEL '!R668","v":0},{"$f":"'APPEL '!J668","v":0},null,null,null,null,{"$f":"'APPEL '!BH668","v":0},null,null,null,null,null,0,"23-25,9","24-31,9","24-27,9",null,null,null,null,null,null,null,null,{"$f":"'APPEL '!AC668","v":0},null,null,null,null,null,null,null,null,null,null,null,null,null,null,null,null,null,null,null,null,null,null,null,null,null,null,null,null,null,null,null,null,null,null,null,null,null,null,null,null,null,null,null,null,null,null,null,null,null,null,null,null,null,null,null,null,null,null,null,null,null,null,null,null,null,null,{"$f":"'APPEL '!AH668","v":0}]
[{"$f":"'APPEL '!A673","v":18},{"$f":"'APPEL '!B673","v":0},{"$f":"'APPEL '!E673","v":0},null,null,null,{"$f":"'APPEL '!O673","v":0},{"$f":"'APPEL '!R673","v":0},{"$f":"'APPEL '!J673","v":0},null,null,null,null,{"$f":"'APPEL '!BH673","v":0},null,null,null,null,null,0,"23-25,9","24-31,9","24-27,9",null,null,null,null,null,null,null,null,{"$f":"'APPEL '!AC673","v":0},null,null,null,null,null,null,null,null,null,null,null,null,null,null,null,null,null,null,null,null,null,null,null,null,null,null,null,null,null,null,null,null,null,null,null,null,null,null,null,null,null,null,null,null,null,null,null,null,null,null,null,null,null,null,null,null,null,null,null,null,null,null,null,null,null,null,{"$f":"'APPEL '!AH673","v":0}]
[{"$f":"'APPEL '!A679","v":18},{"$f":"'APPEL '!B679","v":0},{"$f":"'APPEL '!E679","v":0},null,null,null,{"$f":"'APPEL '!O679","v":0},{"$f":"'APPEL '!R679","v":0},{"$f":"'APPEL '!J679","v":0},null,null,null,null,{"$f":"'APPEL '!BH679","v":0},null,null,null,null,null,0,"23-25,9","24-31,9","24-27,9",null,null,null,null,null,null,null,null,{"$f":"'APPEL '!AC679","v":0},null,null,null,null,null,null,null,null,null,null,null,null,null,null,null,null,null,null,null,null,null,null,null,null,null,null,null,null,null,null,null,null,null,null,null,null,null,null,null,null,null,null,null,null,null,null,null,null,null,null,null,null,null,null,null,null,null,null,null,null,null,null,null,null,null,null,{"$f":"'APPEL '!AH679","v":0}]
[{"$f":"'APPEL '!A684","v":18},{"$f":"'APPEL '!B684","v":0},{"$f":"'APPEL '!E684","v":0},null,null,null,{"$f":"'APPEL '!O684","v":0},{"$f":"'APPEL '!R684","v":0},{"$f":"'APPEL '!J684","v":0},null,null,null,null,{"$f":"'APPEL '!BH684","v":0},null,null,null,null,null,0,"23-25,9","24-31,9","24-27,9",null,null,null,null,null,null,null,null,{"$f":"'APPEL '!AC684","v":0},null,null,null,null,null,null,null,null,null,null,null,null,null,null,null,null,null,null,null,null,null,null,null,null,null,null,null,null,null,null,null,null,null,null,null,null,null,null,null,null,null,null,null,null,null,null,null,null,null,null,null,null,null,null,null,null,null,null,null,null,null,null,null,null,null,null,{"$f":"'APPEL '!AH684","v":0}]
[{"$f":"'APPEL '!A690","v":18},{"$f":"'APPEL '!B690","v":0},{"$f":"'APPEL '!E690","v":0},null,null,null,{"$f":"'APPEL '!O690","v":0},{"$f":"'APPEL '!R690","v":0},{"$f":"'APPEL '!J690","v":0},null,null,null,null,{"$f":"'APPEL '!BH690","v":0},null,null,null,null,null,0,"23-25,9","24-31,9","24-27,9",null,null,null,null,null,null,null,null,{"$f":"'APPEL '!AC690","v":0},null,null,null,null,null,null,null,null,null,null,null,null,null,null,null,null,null,null,null,null,null,null,null,null,null,null,null,null,null,null,null,null,null,null,null,null,null,null,null,null,null,null,null,null,null,null,null,null,null,null,null,null,null,null,null,null,null,null,null,null,null,null,null,null,null,null,{"$f":"'APPEL '!AH690","v":0}]
[{"$f":"'APPEL '!A696","v":18},{"$f":"'APPEL '!B696","v":0},{"$f":"'APPEL '!E696","v":0},null,null,null,{"$f":"'APPEL '!O696","v":0},{"$f":"'APPEL '!R696","v":0},{"$f":"'APPEL '!J696","v":0},null,null,null,null,{"$f":"'APPEL '!BH696","v":0},null,null,null,null,null,0,"23-25,9","24-31,9","24-27,9",null,null,null,null,null,null,null,null,{"$f":"'APPEL '!AC696","v":0},null,null,null,null,null,null,null,null,null,null,null,null,null,null,null,null,null,null,null,null,null,null,null,null,null,null,null,null,null,null,null,null,null,null,null,null,null,null,null,null,null,null,null,null,null,null,null,null,null,null,null,null,null,null,null,null,null,null,null,null,null,null,null,null,null,null,{"$f":"'APPEL '!AH696","v":0}]
[{"$f":"'APPEL '!A701","v":18},{"$f":"'APPEL '!B701","v":0},{"$f":"'APPEL '!E701","v":0},null,null,null,{"$f":"'APPEL '!O701","v":0},{"$f":"'APPEL '!R701","v":0},{"$f":"'APPEL '!J701","v":0},null,null,null,null,{"$f":"'APPEL '!BH701","v":0},null,null,null,null,null,0,"23-25,9","24-31,9","24-27,9",null,null,null,null,null,null,null,null,{"$f":"'APPEL '!AC701","v":0},null,null,null,null,null,null,null,null,null,null,null,null,null,null,null,null,null,null,null,null,null,null,null,null,null,null,null,null,null,null,null,null,null,null,null,null,null,null,null,null,null,null,null,null,null,null,null,null,null,null,null,null,null,null,null,null,null,null,null,null,null,null,null,null,null,null,{"$f":"'APPEL '!AH701","v":0}]
[{"$f":"'APPEL '!A707","v":18},{"$f":"'APPEL '!B707","v":0},{"$f":"'APPEL '!E707","v":0},null,null,null,{"$f":"'APPEL '!O707","v":0},{"$f":"'APPEL '!R707","v":0},{"$f":"'APPEL '!J707","v":0},null,null,null,null,{"$f":"'APPEL '!BH707","v":0},null,null,null,null,null,{"$f":"R707+(S707/7)","v":0},{"$f":"IF(T707<25.9,\"23-25,9\",IF(T707<27.9,\"26-27,9\",IF(T707<31.9,\"28-31,9\",IF(T707<34.9,\"32-34,9\",IF(T707<36.9,\"35-36,9\",IF(T707<40.2,\"37-40,2\",IF(T707<42,\"40,3-42\",IF(T707>42,\">42\"))))))))","v":"23-25,9"},{"$f":"IF(T707<31.9,\"24-31,9\",IF(T707<42,\"32-42\",IF(T707>=42,\">42\")))","v":"24-31,9"},{"$f":"IF(T707<27.9,\"24-27,9\",IF(T707<42,\"28-42\",IF(T707>=42,\">42\")))","v":"24-27,9"},null,null,null,null,null,null,null,null,{"$f":"'APPEL '!AC707","v":0},null,null,null,null,null,null,null,null,null,null,null,null,null,null,null,null,null,null,null,null,null,null,null,null,null,null,null,null,null,null,null,null,null,null,null,null,null,null,null,null,null,null,null,null,null,null,null,null,null,null,null,null,null,null,null,null,null,null,null,null,null,null,null,null,null,null,{"$f":"'APPEL '!AH707","v":0}]
[{"$f":"'APPEL '!A712","v":18},{"$f":"'APPEL '!B712","v":0},{"$f":"'APPEL '!E712","v":0},null,null,null,{"$f":"'APPEL '!O712","v":0},{"$f":"'APPEL '!R712","v":0},{"$f":"'APPEL '!J712","v":0},null,null,null,null,{"$f":"'APPEL '!BH712","v":0},null,null,null,null,null,0,"23-25,9","24-31,9","24-27,9",null,null,null,null,null,null,null,null,{"$f":"'APPEL '!AC712","v":0},null,null,null,null,null,null,null,null,null,null,null,null,null,null,null,null,null,null,null,null,null,null,null,null,null,null,null,null,null,null,null,null,null,null,null,null,null,null,null,null,null,null,null,null,null,null,null,null,null,null,null,null,null,null,null,null,null,null,null,null,null,null,null,null,null,null,{"$f":"'APPEL '!AH712","v":0}]
[{"$f":"'APPEL '!A717","v":18},{"$f":"'APPEL '!B717","v":0},{"$f":"'APPEL '!E717","v":0},null,null,null,{"$f":"'APPEL '!O717","v":0},{"$f":"'APPEL '!R717","v":0},{"$f":"'APPEL '!J717","v":0},null,null,null,null,{"$f":"'APPEL '!BH717","v":0},null,null,null,null,null,0,"23-25,9","24-31,9","24-27,9",null,null,null,null,null,null,null,null,{"$f":"'APPEL '!AC717","v":0},null,null,null,null,null,null,null,null,null,null,null,null,null,null,null,null,null,null,null,null,null,null,null,null,null,null,null,null,null,null,null,null,null,null,null,null,null,null,null,null,null,null,null,null,null,null,null,null,null,null,null,null,null,null,null,null,null,null,null,null,null,null,null,null,null,null,{"$f":"'APPEL '!AH717","v":0}]
[{"$f":"'APPEL '!A719","v":18},{"$f":"'APPEL '!B719","v":0},{"$f":"'APPEL '!E719","v":0},null,null,null,{"$f":"'APPEL '!O719","v":0},{"$f":"'APPEL '!R719","v":0},{"$f":"'APPEL '!J719","v":0},null,null,null,null,{"$f":"'APPEL '!BH719","v":0},null,null,null,null,null,0,"23-25,9","24-31,9","24-27,9",null,null,null,null,null,null,null,null,{"$f":"'APPEL '!AC719","v":0},null,null,null,null,null,null,null,null,null,null,null,null,null,null,null,null,null,null,null,null,null,null,null,null,null,null,null,null,null,null,null,null,null,null,null,null,null,null,null,null,null,null,null,null,null,null,null,null,null,null,null,null,null,null,null,null,null,null,null,null,null,null,null,null,null,null,{"$f":"'APPEL '!AH719","v":0}]
[{"$f":"'APPEL '!A724","v":18},{"$f":"'APPEL '!B724","v":0},{"$f":"'APPEL '!E724","v":0},null,null,null,{"$f":"'APPEL '!O724","v":0},{"$f":"'APPEL '!R724","v":0},{"$f":"'APPEL '!J724","v":0},null,null,null,null,{"$f":"'APPEL '!BH724","v":0},null,null,null,null,null,0,"23-25,9","24-31,9","24-27,9",null,null,null,null,null,null,null,null,{"$f":"'APPEL '!AC724","v":0},null,null,null,null,null,null,null,null,null,null,null,null,null,null,null,null,null,null,null,null,null,null,null,null,null,null,null,null,null,null,null,null,null,null,null,null,null,null,null,null,null,null,null,null,null,null,null,null,null,null,null,null,null,null,null,null,null,null,null,null,null,null,null,null,null,null,{"$f":"'APPEL '!AH724","v":0}]
[{"$f":"'APPEL '!A730","v":18},{"$f":"'APPEL '!B730","v":0},{"$f":"'APPEL '!E730","v":0},null,null,null,{"$f":"'APPEL '!O730","v":0},{"$f":"'APPEL '!R730","v":0},{"$f":"'APPEL '!J730","v":0},null,null,null,null,{"$f":"'APPEL '!BH730","v":0},null,null,null,null,null,0,"23-25,9","24-31,9","24-27,9",null,null,null,null,null,null,null,null,{"$f":"'APPEL '!AC730","v":0},null,null,null,null,null,null,null,null,null,null,null,null,null,null,null,null,null,null,null,null,null,null,null,null,null,null,null,null,null,null,null,null,null,null,null,null,null,null,null,null,null,null,null,null,null,null,null,null,null,null,null,null,null,null,null,null,null,null,null,null,null,null,null,null,null,null,{"$f":"'APPEL '!AH730","v":0}]
[{"$f":"'APPEL '!A735","v":18},{"$f":"'APPEL '!B735","v":0},{"$f":"'APPEL '!E735","v":0},null,null,null,{"$f":"'APPEL '!O735","v":0},{"$f":"'APPEL '!R735","v":0},{"$f":"'APPEL '!J735","v":0},null,null,null,null,{"$f":"'APPEL '!BH735","v":0},null,null,null,null,null,0,"23-25,9","24-31,9","24-27,9",null,null,null,null,null,null,null,null,{"$f":"'APPEL '!AC735","v":0},null,null,null,null,null,null,null,null,null,null,null,null,null,null,null,null,null,null,null,null,null,null,null,null,null,null,null,null,null,null,null,null,null,null,null,null,null,null,null,null,null,null,null,null,null,null,null,null,null,null,null,null,null,null,null,null,null,null,null,null,null,null,null,null,null,null,{"$f":"'APPEL '!AH735","v":0}]
[{"$f":"'APPEL '!A742","v":18},{"$f":"'APPEL '!B742","v":0},{"$f":"'APPEL '!E742","v":0},null,null,null,{"$f":"'APPEL '!O742","v":0},{"$f":"'APPEL '!R742","v":0},{"$f":"'APPEL '!J742","v":0},null,null,null,null,{"$f":"'APPEL '!BH742","v":0},null,null,null,null,null,0,"23-25,9","24-31,9","24-27,9",null,null,null,null,null,null,null,null,{"$f":"'APPEL '!AC742","v":0},null,null,null,null,null,null,null,null,null,null,null,null,null,null,null,null,null,null,null,null,null,null,null,null,null,null,null,null,null,null,null,null,null,null,null,null,null,null,null,null,null,null,null,null,null,null,null,null,null,null,null,null,null,null,null,null,null,null,null,null,null,null,null,null,null,null,{"$f":"'APPEL '!AH742","v":0}]
[{"$f":"'APPEL '!A747","v":18},{"$f":"'APPEL '!B747","v":0},{"$f":"'APPEL '!E747","v":0},null,null,null,{"$f":"'APPEL '!O747","v":0},{"$f":"'APPEL '!R747","v":0},{"$f":"'APPEL '!J747","v":0},null,null,null,null,{"$f":"'APPEL '!BH747","v":0},null,null,null,null,null,0,"23-25,9","24-31,9","24-27,9",null,null,null,null,null,null,null,null,{"$f":"'APPEL '!AC747","v":0},null,null,null,null,null,null,null,null,null,null,null,null,null,null,null,null,null,null,null,null,null,null,null,null,null,null,null,null,null,null,null,null,null,null,null,null,null,null,null,null,null,null,null,null,null,null,null,null,null,null,null,null,null,null,null,null,null,null,null,null,null,null,null,null,null,null,{"$f":"'APPEL '!AH747","v":0}]
[{"$f":"'APPEL '!A752","v":18},{"$f":"'APPEL '!B752","v":0},{"$f":"'APPEL '!E752","v":0},null,null,null,{"$f":"'APPEL '!O752","v":0},{"$f":"'APPEL '!R752","v":0},{"$f":"'APPEL '!J752","v":0},null,null,null,null,{"$f":"'APPEL '!BH752","v":0},null,null,null,null,null,0,"23-25,9","24-31,9","24-27,9",null,null,null,null,null,null,null,null,{"$f":"'APPEL '!AC752","v":0},null,null,null,null,null,null,null,null,null,null,null,null,null,null,null,null,null,null,null,null,null,null,null,null,null,null,null,null,null,null,null,null,null,null,null,null,null,null,null,null,null,null,null,null,null,null,null,null,null,null,null,null,null,null,null,null,null,null,null,null,null,null,null,null,null,null,{"$f":"'APPEL '!AH752","v":0}]
[{"$f":"'APPEL '!A758","v":18},{"$f":"'APPEL '!B758","v":0},{"$f":"'APPEL '!E758","v":0},null,null,null,{"$f":"'APPEL '!O758","v":0},{"$f":"'APPEL '!R758","v":0},{"$f":"'APPEL '!J758","v":0},null,null,null,null,{"$f":"'APPEL '!BH758","v":0},null,null,null,null,null,0,"23-25,9","24-31,9","24-27,9",null,null,null,null,null,null,null,null,{"$f":"'APPEL '!AC758","v":0},null,null,null,null,null,null,null,null,null,null,null,null,null,null,null,null,null,null,null,null,null,null,null,null,null,null,null,null,null,null,null,null,null,null,null,null,null,null,null,null,null,null,null,null,null,null,null,null,null,null,null,null,null,null,null,null,null,null,null,null,null,null,null,null,null,null,{"$f":"'APPEL '!AH758","v":0}]
[{"$f":"'APPEL '!A763","v":18},{"$f":"'APPEL '!B763","v":0},{"$f":"'APPEL '!E763","v":0},null,null,null,{"$f":"'APPEL '!O763","v":0},{"$f":"'APPEL '!R763","v":0},{"$f":"'APPEL '!J763","v":0},null,null,null,null,{"$f":"'APPEL '!BH763","v":0},null,null,null,null,null,0,"23-25,9","24-31,9","24-27,9",null,null,null,null,null,null,null,null,{"$f":"'APPEL '!AC763","v":0},null,null,null,null,null,null,null,null,null,null,null,null,null,null,null,null,null,null,null,null,null,null,null,null,null,null,null,null,null,null,null,null,null,null,null,null,null,null,null,null,null,null,null,null,null,null,null,null,null,null,null,null,null,null,null,null,null,null,null,null,null,null,null,null,null,null,{"$f":"'APPEL '!AH763","v":0}]
[{"$f":"'APPEL '!A767","v":18},{"$f":"'APPEL '!B767","v":0},{"$f":"'APPEL '!E767","v":0},null,null,null,{"$f":"'APPEL '!O767","v":0},{"$f":"'APPEL '!R767","v":0},{"$f":"'APPEL '!J767","v":0},null,null,null,null,{"$f":"'APPEL '!BH767","v":0},null,null,null,null,null,0,"23-25,9","24-31,9","24-27,9",null,null,null,null,null,null,null,null,{"$f":"'APPEL '!AC767","v":0},null,null,null,null,null,null,null,null,null,null,null,null,null,null,null,null,null,null,null,null,null,null,null,null,null,null,null,null,null,null,null,null,null,null,null,null,null,null,null,null,null,null,null,null,null,null,null,null,null,null,null,null,null,null,null,null,null,null,null,null,null,null,null,null,null,null,{"$f":"'APPEL '!AH767","v":0}]
[{"$f":"'APPEL '!A775","v":18},{"$f":"'APPEL '!B775","v":0},{"$f":"'APPEL '!E775","v":0},null,null,null,{"$f":"'APPEL '!O775","v":0},{"$f":"'APPEL '!R775","v":0},{"$f":"'APPEL '!J775","v":0},null,null,null,null,{"$f":"'APPEL '!BH775","v":0},null,null,null,null,null,0,"23-25,9","24-31,9","24-27,9",null,null,null,null,null,null,null,null,{"$f":"'APPEL '!AC775","v":0},null,null,null,null,null,null,null,null,null,null,null,null,null,null,null,null,null,null,null,null,null,null,null,null,null,null,null,null,null,null,null,null,null,null,null,null,null,null,null,null,null,null,null,null,null,null,null,null,null,null,null,null,null,null,null,null,null,null,null,null,null,null,null,null,null,null,{"$f":"'APPEL '!AH775","v":0}]
[{"$f":"'APPEL '!A780","v":18},{"$f":"'APPEL '!B780","v":0},{"$f":"'APPEL '!E780","v":0},null,null,null,{"$f":"'APPEL '!O780","v":0},{"$f":"'APPEL '!R780","v":0},{"$f":"'APPEL '!J780","v":0},null,null,null,null,{"$f":"'APPEL '!BH780","v":0},null,null,null,null,null,0,"23-25,9","24-31,9","24-27,9",null,null,null,null,null,null,null,null,{"$f":"'APPEL '!AC780","v":0},null,null,null,null,null,null,null,null,null,null,null,null,null,null,null,null,null,null,null,null,null,null,null,null,null,null,null,null,null,null,null,null,null,null,null,null,null,null,null,null,null,null,null,null,null,null,null,null,null,null,null,null,null,null,null,null,null,null,null,null,null,null,null,null,null,null,{"$f":"'APPEL '!AH780","v":0}]
[{"$f":"'APPEL '!A785","v":18},{"$f":"'APPEL '!B785","v":0},{"$f":"'APPEL '!E785","v":0},null,null,null,{"$f":"'APPEL '!O785","v":0},{"$f":"'APPEL '!R785","v":0},{"$f":"'APPEL '!J785","v":0},null,null,null,null,{"$f":"'APPEL '!BH785","v":0},null,null,null,null,null,0,"23-25,9","24-31,9","24-27,9",null,null,null,null,null,null,null,null,{"$f":"'APPEL '!AC785","v":0},null,null,null,null,null,null,null,null,null,null,null,null,null,null,null,null,null,null,null,null,null,null,null,null,null,null,null,null,null,null,null,null,null,null,null,null,null,null,null,null,null,null,null,null,null,null,null,null,null,null,null,null,null,null,null,null,null,null,null,null,null,null,null,null,null,null,{"$f":"'APPEL '!AH785","v":0}]
[{"$f":"'APPEL '!A786","v":18},{"$f":"'APPEL '!B786","v":0},{"$f":"'APPEL '!E786","v":0},null,null,null,{"$f":"'APPEL '!O786","v":0},{"$f":"'APPEL '!R786","v":0},{"$f":"'APPEL '!J786","v":0},null,null,null,null,{"$f":"'APPEL '!BH786","v":0},null,null,null,null,null,0,"23-25,9","24-31,9","24-27,9",null,null,null,null,null,null,null,null,{"$f":"'APPEL '!AC786","v":0},null,null,null,null,null,null,null,null,null,null,null,null,null,null,null,null,null,null,null,null,null,null,null,null,null,null,null,null,null,null,null,null,null,null,null,null,null,null,null,null,null,null,null,null,null,null,null,null,null,null,null,null,null,null,null,null,null,null,null,null,null,null,null,null,null,null,{"$f":"'APPEL '!AH786","v":0}]
[{"$f":"'APPEL '!A792","v":18},{"$f":"'APPEL '!B792","v":0},{"$f":"'APPEL '!E792","v":0},null,null,null,{"$f":"'APPEL '!O792","v":0},{"$f":"'APPEL '!R792","v":0},{"$f":"'APPEL '!J792","v":0},null,null,null,null,{"$f":"'APPEL '!BH792","v":0},null,null,null,null,null,0,"23-25,9","24-31,9","24-27,9",null,null,null,null,null,null,null,null,{"$f":"'APPEL '!AC792","v":0},null,null,null,null,null,null,null,null,null,null,null,null,null,null,null,null,null,null,null,null,null,null,null,null,null,null,null,null,null,null,null,null,null,null,null,null,null,null,null,null,null,null,null,null,null,null,null,null,null,null,null,null,null,null,null,null,null,null,null,null,null,null,null,null,null,null,{"$f":"'APPEL '!AH792","v":0}]
[{"$f":"'APPEL '!A798","v":18},{"$f":"'APPEL '!B798","v":0},{"$f":"'APPEL '!E798","v":0},null,null,null,{"$f":"'APPEL '!O798","v":0},{"$f":"'APPEL '!R798","v":0},{"$f":"'APPEL '!J798","v":0},null,null,null,null,{"$f":"'APPEL '!BH798","v":0},null,null,null,null,null,0,"23-25,9","24-31,9","24-27,9",null,null,null,null,null,null,null,null,{"$f":"'APPEL '!AC798","v":0},null,null,null,null,null,null,null,null,null,null,null,null,null,null,null,null,null,null,null,null,null,null,null,null,null,null,null,null,null,null,null,null,null,null,null,null,null,null,null,null,null,null,null,null,null,null,null,null,null,null,null,null,null,null,null,null,null,null,null,null,null,null,null,null,null,null,{"$f":"'APPEL '!AH798","v":0}]
[{"$f":"'APPEL '!A803","v":18},{"$f":"'APPEL '!B803","v":0},{"$f":"'APPEL '!E803","v":0},null,null,null,{"$f":"'APPEL '!O803","v":0},{"$f":"'APPEL '!R803","v":0},{"$f":"'APPEL '!J803","v":0},null,null,null,null,{"$f":"'APPEL '!BH803","v":0},null,null,null,null,null,0,"23-25,9","24-31,9","24-27,9",null,null,null,null,null,null,null,null,{"$f":"'APPEL '!AC803","v":0},null,null,null,null,null,null,null,null,null,null,null,null,null,null,null,null,null,null,null,null,null,null,null,null,null,null,null,null,null,null,null,null,null,null,null,null,null,null,null,null,null,null,null,null,null,null,null,null,null,null,null,null,null,null,null,null,null,null,null,null,null,null,null,null,null,null,{"$f":"'APPEL '!AH803","v":0}]
[{"$f":"'APPEL '!A808","v":18},{"$f":"'APPEL '!B808","v":0},{"$f":"'APPEL '!E808","v":0},null,null,null,{"$f":"'APPEL '!O808","v":0},{"$f":"'APPEL '!R808","v":0},{"$f":"'APPEL '!J808","v":0},null,null,null,null,{"$f":"'APPEL '!BH808","v":0},null,null,null,null,null,0,"23-25,9","24-31,9","24-27,9",null,null,null,null,null,null,null,null,{"$f":"'APPEL '!AC808","v":0},null,null,null,null,null,null,null,null,null,null,null,null,null,null,null,null,null,null,null,null,null,null,null,null,null,null,null,null,null,null,null,null,null,null,null,null,null,null,null,null,null,null,null,null,null,null,null,null,null,null,null,null,null,null,null,null,null,null,null,null,null,null,null,null,null,null,{"$f":"'APPEL '!AH808","v":0}]
[{"$f":"'APPEL '!A814","v":18},{"$f":"'APPEL '!B814","v":0},{"$f":"'APPEL '!E814","v":0},null,null,null,{"$f":"'APPEL '!O814","v":0},{"$f":"'APPEL '!R814","v":0},{"$f":"'APPEL '!J814","v":0},null,null,null,null,{"$f":"'APPEL '!BH814","v":0},null,null,null,null,null,0,"23-25,9","24-31,9","24-27,9",null,null,null,null,null,null,null,null,{"$f":"'APPEL '!AC814","v":0},null,null,null,null,null,null,null,null,null,null,null,null,null,null,null,null,null,null,null,null,null,null,null,null,null,null,null,null,null,null,null,null,null,null,null,null,null,null,null,null,null,null,null,null,null,null,null,null,null,null,null,null,null,null,null,null,null,null,null,null,null,null,null,null,null,null,{"$f":"'APPEL '!AH814","v":0}]
[{"$f":"'APPEL '!A817","v":18},{"$f":"'APPEL '!B817","v":0},{"$f":"'APPEL '!E817","v":0},null,null,null,{"$f":"'APPEL '!O817","v":0},{"$f":"'APPEL '!R817","v":0},{"$f":"'APPEL '!J817","v":0},null,null,null,null,{"$f":"'APPEL '!BH817","v":0},null,null,null,null,null,0,"23-25,9","24-31,9","24-27,9",null,null,null,null,null,null,null,null,{"$f":"'APPEL '!AC817","v":0},null,null,null,null,null,null,null,null,null,null,null,null,null,null,null,null,null,null,null,null,null,null,null,null,null,null,null,null,null,null,null,null,null,null,null,null,null,null,null,null,null,null,null,null,null,null,null,null,null,null,null,null,null,null,null,null,null,null,null,null,null,null,null,null,null,null,{"$f":"'APPEL '!AH817","v":0}]
[{"$f":"'APPEL '!A826","v":18},{"$f":"'APPEL '!B826","v":0},{"$f":"'APPEL '!E826","v":0},null,null,null,{"$f":"'APPEL '!O826","v":0},{"$f":"'APPEL '!R826","v":0},{"$f":"'APPEL '!J826","v":0},null,null,null,null,{"$f":"'APPEL '!BH826","v":0},null,null,null,null,null,0,"23-25,9","24-31,9","24-27,9",null,null,null,null,null,null,null,null,{"$f":"'APPEL '!AC826","v":0},null,null,null,null,null,null,null,null,null,null,null,null,null,null,null,null,null,null,null,null,null,null,null,null,null,null,null,null,null,null,null,null,null,null,null,null,null,null,null,null,null,null,null,null,null,null,null,null,null,null,null,null,null,null,null,null,null,null,null,null,null,null,null,null,null,null,{"$f":"'APPEL '!AH826","v":0}]
[{"$f":"'APPEL '!A831","v":18},{"$f":"'APPEL '!B831","v":0},{"$f":"'APPEL '!E831","v":0},null,null,null,{"$f":"'APPEL '!O831","v":0},{"$f":"'APPEL '!R831","v":0},{"$f":"'APPEL '!J831","v":0},null,null,null,null,{"$f":"'APPEL '!BH831","v":0},null,null,null,null,null,0,"23-25,9","24-31,9","24-27,9",null,null,null,null,null,null,null,null,{"$f":"'APPEL '!AC831","v":0},null,null,null,null,null,null,null,null,null,null,null,null,null,null,null,null,null,null,null,null,null,null,null,null,null,null,null,null,null,null,null,null,null,null,null,null,null,null,null,null,null,null,null,null,null,null,null,null,null,null,null,null,null,null,null,null,null,null,null,null,null,null,null,null,null,null,{"$f":"'APPEL '!AH831","v":0}]
[{"$f":"'APPEL '!A836","v":18},{"$f":"'APPEL '!B836","v":0},{"$f":"'APPEL '!E836","v":0},null,null,null,{"$f":"'APPEL '!O836","v":0},{"$f":"'APPEL '!R836","v":0},{"$f":"'APPEL '!J836","v":0},null,null,null,null,{"$f":"'APPEL '!BH836","v":0},null,null,null,null,null,0,"23-25,9","24-31,9","24-27,9",null,null,null,null,null,null,null,null,{"$f":"'APPEL '!AC836","v":0},null,null,null,null,null,null,null,null,null,null,null,null,null,null,null,null,null,null,null,null,null,null,null,null,null,null,null,null,null,null,null,null,null,null,null,null,null,null,null,null,null,null,null,null,null,null,null,null,null,null,null,null,null,null,null,null,null,null,null,null,null,null,null,null,null,null,{"$f":"'APPEL '!AH836","v":0}]
[{"$f":"'APPEL '!A842","v":18},{"$f":"'APPEL '!B842","v":0},{"$f":"'APPEL '!E842","v":0},null,null,null,{"$f":"'APPEL '!O842","v":0},{"$f":"'APPEL '!R842","v":0},{"$f":"'APPEL '!J842","v":0},null,null,null,null,{"$f":"'APPEL '!BH842","v":0},null,null,null,null,null,0,"23-25,9","24-31,9","24-27,9",null,null,null,null,null,null,null,null,{"$f":"'APPEL '!AC842","v":0},null,null,null,null,null,null,null,null,null,null,null,null,null,null,null,null,null,null,null,null,null,null,null,null,null,null,null,null,null,null,null,null,null,null,null,null,null,null,null,null,null,null,null,null,null,null,null,null,null,null,null,null,null,null,null,null,null,null,null,null,null,null,null,null,null,null,{"$f":"'APPEL '!AH842","v":0}]
[{"$f":"'APPEL '!A848","v":18},{"$f":"'APPEL '!B848","v":0},{"$f":"'APPEL '!E848","v":0},null,null,null,{"$f":"'APPEL '!O848","v":0},{"$f":"'APPEL '!R848","v":0},{"$f":"'APPEL '!J848","v":0},null,null,null,null,{"$f":"'APPEL '!BH848","v":0},null,null,null,null,null,0,"23-25,9","24-31,9","24-27,9",null,null,null,null,null,null,null,null,{"$f":"'APPEL '!AC848","v":0},null,null,null,null,null,null,null,null,null,null,null,null,null,null,null,null,null,null,null,null,null,null,null,null,null,null,null,null,null,null,null,null,null,null,null,null,null,null,null,null,null,null,null,null,null,null,null,null,null,null,null,null,null,null,null,null,null,null,null,null,null,null,null,null,null,null,{"$f":"'APPEL '!AH848","v":0}]
[{"$f":"'APPEL '!A853","v":18},{"$f":"'APPEL '!B853","v":0},{"$f":"'APPEL '!E853","v":0},null,null,null,{"$f":"'APPEL '!O853","v":0},{"$f":"'APPEL '!R853","v":0},{"$f":"'APPEL '!J853","v":0},null,null,null,null,{"$f":"'APPEL '!BH853","v":0},null,null,null,null,null,0,"23-25,9","24-31,9","24-27,9",null,null,null,null,null,null,null,null,{"$f":"'APPEL '!AC853","v":0},null,null,null,null,null,null,null,null,null,null,null,null,null,null,null,null,null,null,null,null,null,null,null,null,null,null,null,null,null,null,null,null,null,null,null,null,null,null,null,null,null,null,null,null,null,null,null,null,null,null,null,null,null,null,null,null,null,null,null,null,null,null,null,null,null,null,{"$f":"'APPEL '!AH853","v":0}]
[{"$f":"'APPEL '!A854","v":18},{"$f":"'APPEL '!B854","v":0},{"$f":"'APPEL '!E854","v":0},null,null,null,{"$f":"'APPEL '!O854","v":0},{"$f":"'APPEL '!R854","v":0},{"$f":"'APPEL '!J854","v":0},null,null,null,null,{"$f":"'APPEL '!BH854","v":0},null,null,null,null,null,0,"23-25,9","24-31,9","24-27,9",null,null,null,null,null,null,null,null,{"$f":"'APPEL '!AC854","v":0},null,null,null,null,null,null,null,null,null,null,null,null,null,null,null,null,null,null,null,null,null,null,null,null,null,null,null,null,null,null,null,null,null,null,null,null,null,null,null,null,null,null,null,null,null,null,null,null,null,null,null,null,null,null,null,null,null,null,null,null,null,null,null,null,null,null,{"$f":"'APPEL '!AH854","v":0}]
[{"$f":"'APPEL '!A859","v":18},{"$f":"'APPEL '!B859","v":0},{"$f":"'APPEL '!E859","v":0},null,null,null,{"$f":"'APPEL '!O859","v":0},{"$f":"'APPEL '!R859","v":0},{"$f":"'APPEL '!J859","v":0},null,null,null,null,{"$f":"'APPEL '!BH859","v":0},null,null,null,null,null,0,"23-25,9","24-31,9","24-27,9",null,null,null,null,null,null,null,null,{"$f":"'APPEL '!AC859","v":0},null,null,null,null,null,null,null,null,null,null,null,null,null,null,null,null,null,null,null,null,null,null,null,null,null,null,null,null,null,null,null,null,null,null,null,null,null,null,null,null,null,null,null,null,null,null,null,null,null,null,null,null,null,null,null,null,null,null,null,null,null,null,null,null,null,null,{"$f":"'APPEL '!AH859","v":0}]
[{"$f":"'APPEL '!A865","v":18},{"$f":"'APPEL '!B865","v":0},{"$f":"'APPEL '!E865","v":0},null,null,null,{"$f":"'APPEL '!O865","v":0},{"$f":"'APPEL '!R865","v":0},{"$f":"'APPEL '!J865","v":0},null,null,null,null,{"$f":"'APPEL '!BH865","v":0},null,null,null,null,null,0,"23-25,9","24-31,9","24-27,9",null,null,null,null,null,null,null,null,{"$f":"'APPEL '!AC865","v":0},null,null,null,null,null,null,null,null,null,null,null,null,null,null,null,null,null,null,null,null,null,null,null,null,null,null,null,null,null,null,null,null,null,null,null,null,null,null,null,null,null,null,null,null,null,null,null,null,null,null,null,null,null,null,null,null,null,null,null,null,null,null,null,null,null,null,{"$f":"'APPEL '!AH865","v":0}]
[{"$f":"'APPEL '!A873","v":18},{"$f":"'APPEL '!B873","v":0},{"$f":"'APPEL '!E873","v":0},null,null,null,{"$f":"'APPEL '!O873","v":0},{"$f":"'APPEL '!R873","v":0},{"$f":"'APPEL '!J873","v":0},null,null,null,null,{"$f":"'APPEL '!BH873","v":0},null,null,null,null,null,0,"23-25,9","24-31,9","24-27,9",null,null,null,null,null,null,null,null,{"$f":"'APPEL '!AC873","v":0},null,null,null,null,null,null,null,null,null,null,null,null,null,null,null,null,null,null,null,null,null,null,null,null,null,null,null,null,null,null,null,null,null,null,null,null,null,null,null,null,null,null,null,null,null,null,null,null,null,null,null,null,null,null,null,null,null,null,null,null,null,null,null,null,null,null,{"$f":"'APPEL '!AH873","v":0}]
[{"$f":"'APPEL '!A876","v":18},{"$f":"'APPEL '!B876","v":0},{"$f":"'APPEL '!E876","v":0},null,null,null,{"$f":"'APPEL '!O876","v":0},{"$f":"'APPEL '!R876","v":0},{"$f":"'APPEL '!J876","v":0},null,null,null,null,{"$f":"'APPEL '!BH876","v":0},null,null,null,null,null,0,"23-25,9","24-31,9","24-27,9",null,null,null,null,null,null,null,null,{"$f":"'APPEL '!AC876","v":0},null,null,null,null,null,null,null,null,null,null,null,null,null,null,null,null,null,null,null,null,null,null,null,null,null,null,null,null,null,null,null,null,null,null,null,null,null,null,null,null,null,null,null,null,null,null,null,null,null,null,null,null,null,null,null,null,null,null,null,null,null,null,null,null,null,null,{"$f":"'APPEL '!AH876","v":0}]
[{"$f":"'APPEL '!A882","v":18},{"$f":"'APPEL '!B882","v":0},{"$f":"'APPEL '!E882","v":0},null,null,null,{"$f":"'APPEL '!O882","v":0},{"$f":"'APPEL '!R882","v":0},{"$f":"'APPEL '!J882","v":0},null,null,null,null,{"$f":"'APPEL '!BH882","v":0},null,null,null,null,null,0,"23-25,9","24-31,9","24-27,9",null,null,null,null,null,null,null,null,{"$f":"'APPEL '!AC882","v":0},null,null,null,null,null,null,null,null,null,null,null,null,null,null,null,null,null,null,null,null,null,null,null,null,null,null,null,null,null,null,null,null,null,null,null,null,null,null,null,null,null,null,null,null,null,null,null,null,null,null,null,null,null,null,null,null,null,null,null,null,null,null,null,null,null,null,{"$f":"'APPEL '!AH882","v":0}]
[{"$f":"'APPEL '!A887","v":18},{"$f":"'APPEL '!B887","v":0},{"$f":"'APPEL '!E887","v":0},null,null,null,{"$f":"'APPEL '!O887","v":0},{"$f":"'APPEL '!R887","v":0},{"$f":"'APPEL '!J887","v":0},null,null,null,null,{"$f":"'APPEL '!BH887","v":0},null,null,null,null,null,0,"23-25,9","24-31,9","24-27,9",null,null,null,null,null,null,null,null,{"$f":"'APPEL '!AC887","v":0},null,null,null,null,null,null,null,null,null,null,null,null,null,null,null,null,null,null,null,null,null,null,null,null,null,null,null,null,null,null,null,null,null,null,null,null,null,null,null,null,null,null,null,null,null,null,null,null,null,null,null,null,null,null,null,null,null,null,null,null,null,null,null,null,null,null,{"$f":"'APPEL '!AH887","v":0}]
[{"$f":"'APPEL '!A892","v":18},{"$f":"'APPEL '!B892","v":0},{"$f":"'APPEL '!E892","v":0},null,null,null,{"$f":"'APPEL '!O892","v":0},{"$f":"'APPEL '!R892","v":0},{"$f":"'APPEL '!J892","v":0},null,null,null,null,{"$f":"'APPEL '!BH892","v":0},null,null,null,null,null,0,"23-25,9","24-31,9","24-27,9",null,null,null,null,null,null,null,null,{"$f":"'APPEL '!AC892","v":0},null,null,null,null,null,null,null,null,null,null,null,null,null,null,null,null,null,null,null,null,null,null,null,null,null,null,null,null,null,null,null,null,null,null,null,null,null,null,null,null,null,null,null,null,null,null,null,null,null,null,null,null,null,null,null,null,null,null,null,null,null,null,null,null,null,null,{"$f":"'APPEL '!AH892","v":0}]
[{"$f":"'APPEL '!A898","v":18},{"$f":"'APPEL '!B898","v":0},{"$f":"'APPEL '!E898","v":0},null,null,null,{"$f":"'APPEL '!O898","v":0},{"$f":"'APPEL '!R898","v":0},{"$f":"'APPEL '!J898","v":0},null,null,null,null,{"$f":"'APPEL '!BH898","v":0},null,null,null,null,null,0,"23-25,9","24-31,9","24-27,9",null,null,null,null,null,null,null,null,{"$f":"'APPEL '!AC898","v":0},null,null,null,null,null,null,null,null,null,null,null,null,null,null,null,null,null,null,null,null,null,null,null,null,null,null,null,null,null,null,null,null,null,null,null,null,null,null,null,null,null,null,null,null,null,null,null,null,null,null,null,null,null,null,null,null,null,null,null,null,null,null,null,null,null,null,{"$f":"'APPEL '!AH898","v":0}]
[{"$f":"'APPEL '!A904","v":18},{"$f":"'APPEL '!B904","v":0},{"$f":"'APPEL '!E904","v":0},null,null,null,{"$f":"'APPEL '!O904","v":0},{"$f":"'APPEL '!R904","v":0},{"$f":"'APPEL '!J904","v":0},null,null,null,null,{"$f":"'APPEL '!BH904","v":0},null,null,null,null,null,0,"23-25,9","24-31,9","24-27,9",null,null,null,null,null,null,null,null,{"$f":"'APPEL '!AC904","v":0},null,null,null,null,null,null,null,null,null,null,null,null,null,null,null,null,null,null,null,null,null,null,null,null,null,null,null,null,null,null,null,null,null,null,null,null,null,null,null,null,null,null,null,null,null,null,null,null,null,null,null,null,null,null,null,null,null,null,null,null,null,null,null,null,null,null,{"$f":"'APPEL '!AH904","v":0}]
[{"$f":"'APPEL '!A910","v":18},{"$f":"'APPEL '!B910","v":0},{"$f":"'APPEL '!E910","v":0},null,null,null,{"$f":"'APPEL '!O910","v":0},{"$f":"'APPEL '!R910","v":0},{"$f":"'APPEL '!J910","v":0},null,null,null,null,{"$f":"'APPEL '!BH910","v":0},null,null,null,null,null,0,"23-25,9","24-31,9","24-27,9",null,null,null,null,null,null,null,null,{"$f":"'APPEL '!AC910","v":0},null,null,null,null,null,null,null,null,null,null,null,null,null,null,null,null,null,null,null,null,null,null,null,null,null,null,null,null,null,null,null,null,null,null,null,null,null,null,null,null,null,null,null,null,null,null,null,null,null,null,null,null,null,null,null,null,null,null,null,null,null,null,null,null,null,null,{"$f":"'APPEL '!AH910","v":0}]
[{"$f":"'APPEL '!A915","v":18},{"$f":"'APPEL '!B915","v":0},{"$f":"'APPEL '!E915","v":0},null,null,null,{"$f":"'APPEL '!O915","v":0},{"$f":"'APPEL '!R915","v":0},{"$f":"'APPEL '!J915","v":0},null,null,null,null,{"$f":"'APPEL '!BH915","v":0},null,null,null,null,null,0,"23-25,9","24-31,9","24-27,9",null,null,null,null,null,null,null,null,{"$f":"'APPEL '!AC915","v":0},null,null,null,null,null,null,null,null,null,null,null,null,null,null,null,null,null,null,null,null,null,null,null,null,null,null,null,null,null,null,null,null,null,null,null,null,null,null,null,null,null,null,null,null,null,null,null,null,null,null,null,null,null,null,null,null,null,null,null,null,null,null,null,null,null,null,{"$f":"'APPEL '!AH915","v":0}]
[{"$f":"'APPEL '!A920","v":18},{"$f":"'APPEL '!B920","v":0},{"$f":"'APPEL '!E920","v":0},null,null,null,{"$f":"'APPEL '!O920","v":0},{"$f":"'APPEL '!R920","v":0},{"$f":"'APPEL '!J920","v":0},null,null,null,null,{"$f":"'APPEL '!BH920","v":0},null,null,null,null,null,0,"23-25,9","24-31,9","24-27,9",null,null,null,null,null,null,null,null,{"$f":"'APPEL '!AC920","v":0},null,null,null,null,null,null,null,null,null,null,null,null,null,null,null,null,null,null,null,null,null,null,null,null,null,null,null,null,null,null,null,null,null,null,null,null,null,null,null,null,null,null,null,null,null,null,null,null,null,null,null,null,null,null,null,null,null,null,null,null,null,null,null,null,null,null,{"$f":"'APPEL '!AH920","v":0}]
[{"$f":"'APPEL '!A923","v":18},{"$f":"'APPEL '!B923","v":0},{"$f":"'APPEL '!E923","v":0},null,null,null,{"$f":"'APPEL '!O923","v":0},{"$f":"'APPEL '!R923","v":0},{"$f":"'APPEL '!J923","v":0},null,null,null,null,{"$f":"'APPEL '!BH923","v":0},null,null,null,null,null,0,"23-25,9","24-31,9","24-27,9",null,null,null,null,null,null,null,null,{"$f":"'APPEL '!AC923","v":0},null,null,null,null,null,null,null,null,null,null,null,null,null,null,null,null,null,null,null,null,null,null,null,null,null,null,null,null,null,null,null,null,null,null,null,null,null,null,null,null,null,null,null,null,null,null,null,null,null,null,null,null,null,null,null,null,null,null,null,null,null,null,null,null,null,null,{"$f":"'APPEL '!AH923","v":0}]
[{"$f":"'APPEL '!A927","v":18},{"$f":"'APPEL '!B927","v":0},{"$f":"'APPEL '!E927","v":0},null,null,null,{"$f":"'APPEL '!O927","v":0},{"$f":"'APPEL '!R927","v":0},{"$f":"'APPEL '!J927","v":0},null,null,null,null,{"$f":"'APPEL '!BH927","v":0},null,null,null,null,null,0,"23-25,9","24-31,9","24-27,9",null,null,null,null,null,null,null,null,{"$f":"'APPEL '!AC927","v":0},null,null,null,null,null,null,null,null,null,null,null,null,null,null,null,null,null,null,null,null,null,null,null,null,null,null,null,null,null,null,null,null,null,null,null,null,null,null,null,null,null,null,null,null,null,null,null,null,null,null,null,null,null,null,null,null,null,null,null,null,null,null,null,null,null,null,{"$f":"'APPEL '!AH927","v":0}]
[{"$f":"'APPEL '!A933","v":18},{"$f":"'APPEL '!B933","v":0},{"$f":"'APPEL '!E933","v":0},null,null,null,{"$f":"'APPEL '!O933","v":0},{"$f":"'APPEL '!R933","v":0},{"$f":"'APPEL '!J933","v":0},null,null,null,null,{"$f":"'APPEL '!BH933","v":0},null,null,null,null,null,0,"23-25,9","24-31,9","24-27,9",null,null,null,null,null,null,null,null,{"$f":"'APPEL '!AC933","v":0},null,null,null,null,null,null,null,null,null,null,null,null,null,null,null,null,null,null,null,null,null,null,null,null,null,null,null,null,null,null,null,null,null,null,null,null,null,null,null,null,null,null,null,null,null,null,null,null,null,null,null,null,null,null,null,null,null,null,null,null,null,null,null,null,null,null,{"$f":"'APPEL '!AH933","v":0}]
[{"$f":"'APPEL '!A938","v":18},{"$f":"'APPEL '!B938","v":0},{"$f":"'APPEL '!E938","v":0},null,null,null,{"$f":"'APPEL '!O938","v":0},{"$f":"'APPEL '!R938","v":0},{"$f":"'APPEL '!J938","v":0},null,null,null,null,{"$f":"'APPEL '!BH938","v":0},null,null,null,null,null,0,"23-25,9","24-31,9","24-27,9",null,null,null,null,null,null,null,null,{"$f":"'APPEL '!AC938","v":0},null,null,null,null,null,null,null,null,null,null,null,null,null,null,null,null,null,null,null,null,null,null,null,null,null,null,null,null,null,null,null,null,null,null,null,null,null,null,null,null,null,null,null,null,null,null,null,null,null,null,null,null,null,null,null,null,null,null,null,null,null,null,null,null,null,null,{"$f":"'APPEL '!AH938","v":0}]
[{"$f":"'APPEL '!A943","v":18},{"$f":"'APPEL '!B943","v":0},{"$f":"'APPEL '!E943","v":0},null,null,null,{"$f":"'APPEL '!O943","v":0},{"$f":"'APPEL '!R943","v":0},{"$f":"'APPEL '!J943","v":0},null,null,null,null,{"$f":"'APPEL '!BH943","v":0},null,null,null,null,null,0,"23-25,9","24-31,9","24-27,9",null,null,null,null,null,null,null,null,{"$f":"'APPEL '!AC943","v":0},null,null,null,null,null,null,null,null,null,null,null,null,null,null,null,null,null,null,null,null,null,null,null,null,null,null,null,null,null,null,null,null,null,null,null,null,null,null,null,null,null,null,null,null,null,null,null,null,null,null,null,null,null,null,null,null,null,null,null,null,null,null,null,null,null,null,{"$f":"'APPEL '!AH943","v":0}]
[{"$f":"'APPEL '!A948","v":18},{"$f":"'APPEL '!B948","v":0},{"$f":"'APPEL '!E948","v":0},null,null,null,{"$f":"'APPEL '!O948","v":0},{"$f":"'APPEL '!R948","v":0},{"$f":"'APPEL '!J948","v":0},null,null,null,null,{"$f":"'APPEL '!BH948","v":0},null,null,null,null,null,0,"23-25,9","24-31,9","24-27,9",null,null,null,null,null,null,null,null,{"$f":"'APPEL '!AC948","v":0},null,null,null,null,null,null,null,null,null,null,null,null,null,null,null,null,null,null,null,null,null,null,null,null,null,null,null,null,null,null,null,null,null,null,null,null,null,null,null,null,null,null,null,null,null,null,null,null,null,null,null,null,null,null,null,null,null,null,null,null,null,null,null,null,null,null,{"$f":"'APPEL '!AH948","v":0}]
[{"$f":"'APPEL '!A955","v":18},{"$f":"'APPEL '!B955","v":0},{"$f":"'APPEL '!E955","v":0},null,null,null,{"$f":"'APPEL '!O955","v":0},{"$f":"'APPEL '!R955","v":0},{"$f":"'APPEL '!J955","v":0},null,null,null,null,{"$f":"'APPEL '!BH955","v":0},null,null,null,null,null,0,"23-25,9","24-31,9","24-27,9",null,null,null,null,null,null,null,null,{"$f":"'APPEL '!AC955","v":0},null,null,null,null,null,null,null,null,null,null,null,null,null,null,null,null,null,null,null,null,null,null,null,null,null,null,null,null,null,null,null,null,null,null,null,null,null,null,null,null,null,null,null,null,null,null,null,null,null,null,null,null,null,null,null,null,null,null,null,null,null,null,null,null,null,null,{"$f":"'APPEL '!AH955","v":0}]
[{"$f":"'APPEL '!A960","v":18},{"$f":"'APPEL '!B960","v":0},{"$f":"'APPEL '!E960","v":0},null,null,null,{"$f":"'APPEL '!O960","v":0},{"$f":"'APPEL '!R960","v":0},{"$f":"'APPEL '!J960","v":0},null,null,null,null,{"$f":"'APPEL '!BH960","v":0},null,null,null,null,null,0,"23-25,9","24-31,9","24-27,9",null,null,null,null,null,null,null,null,{"$f":"'APPEL '!AC960","v":0},null,null,null,null,null,null,null,null,null,null,null,null,null,null,null,null,null,null,null,null,null,null,null,null,null,null,null,null,null,null,null,null,null,null,null,null,null,null,null,null,null,null,null,null,null,null,null,null,null,null,null,null,null,null,null,null,null,null,null,null,null,null,null,null,null,null,{"$f":"'APPEL '!AH960","v":0}]
[{"$f":"'APPEL '!A966","v":18},{"$f":"'APPEL '!B966","v":0},{"$f":"'APPEL '!E966","v":0},null,null,null,{"$f":"'APPEL '!O966","v":0},{"$f":"'APPEL '!R966","v":0},{"$f":"'APPEL '!J966","v":0},null,null,null,null,{"$f":"'APPEL '!BH966","v":0},null,null,null,null,null,0,"23-25,9","24-31,9","24-27,9",null,null,null,null,null,null,null,null,{"$f":"'APPEL '!AC966","v":0},null,null,null,null,null,null,null,null,null,null,null,null,null,null,null,null,null,null,null,null,null,null,null,null,null,null,null,null,null,null,null,null,null,null,null,null,null,null,null,null,null,null,null,null,null,null,null,null,null,null,null,null,null,null,null,null,null,null,null,null,null,null,null,null,null,null,{"$f":"'APPEL '!AH966","v":0}]
[{"$f":"'APPEL '!A971","v":18},{"$f":"'APPEL '!B971","v":0},{"$f":"'APPEL '!E971","v":0},null,null,null,{"$f":"'APPEL '!O971","v":0},{"$f":"'APPEL '!R971","v":0},{"$f":"'APPEL '!J971","v":0},null,null,null,null,{"$f":"'APPEL '!BH971","v":0},null,null,null,null,null,0,"23-25,9","24-31,9","24-27,9",null,null,null,null,null,null,null,null,{"$f":"'APPEL '!AC971","v":0},null,null,null,null,null,null,null,null,null,null,null,null,null,null,null,null,null,null,null,null,null,null,null,null,null,null,null,null,null,null,null,null,null,null,null,null,null,null,null,null,null,null,null,null,null,null,null,null,null,null,null,null,null,null,null,null,null,null,null,null,null,null,null,null,null,null,{"$f":"'APPEL '!AH971","v":0}]
[{"$f":"'APPEL '!A973","v":18},{"$f":"'APPEL '!B973","v":0},{"$f":"'APPEL '!E973","v":0},null,null,null,{"$f":"'APPEL '!O973","v":0},{"$f":"'APPEL '!R973","v":0},{"$f":"'APPEL '!J973","v":0},null,null,null,null,{"$f":"'APPEL '!BH973","v":0},null,null,null,null,null,0,"23-25,9","24-31,9","24-27,9",null,null,null,null,null,null,null,null,{"$f":"'APPEL '!AC973","v":0},null,null,null,null,null,null,null,null,null,null,null,null,null,null,null,null,null,null,null,null,null,null,null,null,null,null,null,null,null,null,null,null,null,null,null,null,null,null,null,null,null,null,null,null,null,null,null,null,null,null,null,null,null,null,null,null,null,null,null,null,null,null,null,null,null,null,{"$f":"'APPEL '!AH973","v":0}]
[{"$f":"'APPEL '!A983","v":18},{"$f":"'APPEL '!B983","v":0},{"$f":"'APPEL '!E983","v":0},null,null,null,{"$f":"'APPEL '!O983","v":0},{"$f":"'APPEL '!R983","v":0},{"$f":"'APPEL '!J983","v":0},null,null,null,null,{"$f":"'APPEL '!BH983","v":0},null,null,null,null,null,0,"23-25,9","24-31,9","24-27,9",null,null,null,null,null,null,null,null,{"$f":"'APPEL '!AC983","v":0},null,null,null,null,null,null,null,null,null,null,null,null,null,null,null,null,null,null,null,null,null,null,null,null,null,null,null,null,null,null,null,null,null,null,null,null,null,null,null,null,null,null,null,null,null,null,null,null,null,null,null,null,null,null,null,null,null,null,null,null,null,null,null,null,null,null,{"$f":"'APPEL '!AH983","v":0}]
[{"$f":"'APPEL '!A988","v":18},{"$f":"'APPEL '!B988","v":0},{"$f":"'APPEL '!E988","v":0},null,null,null,{"$f":"'APPEL '!O988","v":0},{"$f":"'APPEL '!R988","v":0},{"$f":"'APPEL '!J988","v":0},null,null,null,null,{"$f":"'APPEL '!BH988","v":0},null,null,null,null,null,0,"23-25,9","24-31,9","24-27,9",null,null,null,null,null,null,null,null,{"$f":"'APPEL '!AC988","v":0},null,null,null,null,null,null,null,null,null,null,null,null,null,null,null,null,null,null,null,null,null,null,null,null,null,null,null,null,null,null,null,null,null,null,null,null,null,null,null,null,null,null,null,null,null,null,null,null,null,null,null,null,null,null,null,null,null,null,null,null,null,null,null,null,null,null,{"$f":"'APPEL '!AH988","v":0}]
[{"$f":"'APPEL '!A989","v":18},{"$f":"'APPEL '!B989","v":0},{"$f":"'APPEL '!E989","v":0},null,null,null,{"$f":"'APPEL '!O989","v":0},{"$f":"'APPEL '!R989","v":0},{"$f":"'APPEL '!J989","v":0},null,null,null,null,{"$f":"'APPEL '!BH989","v":0},null,null,null,null,null,0,"23-25,9","24-31,9","24-27,9",null,null,null,null,null,null,null,null,{"$f":"'APPEL '!AC989","v":0},null,null,null,null,null,null,null,null,null,null,null,null,null,null,null,null,null,null,null,null,null,null,null,null,null,null,null,null,null,null,null,null,null,null,null,null,null,null,null,null,null,null,null,null,null,null,null,null,null,null,null,null,null,null,null,null,null,null,null,null,null,null,null,null,null,null,{"$f":"'APPEL '!AH989","v":0}]
[{"$f":"'APPEL '!A994","v":18},{"$f":"'APPEL '!B994","v":0},{"$f":"'APPEL '!E994","v":0},null,null,null,{"$f":"'APPEL '!O994","v":0},{"$f":"'APPEL '!R994","v":0},{"$f":"'APPEL '!J994","v":0},null,null,null,null,{"$f":"'APPEL '!BH994","v":0},null,null,null,null,null,0,"23-25,9","24-31,9","24-27,9",null,null,null,null,null,null,null,null,{"$f":"'APPEL '!AC994","v":0},null,null,null,null,null,null,null,null,null,null,null,null,null,null,null,null,null,null,null,null,null,null,null,null,null,null,null,null,null,null,null,null,null,null,null,null,null,null,null,null,null,null,null,null,null,null,null,null,null,null,null,null,null,null,null,null,null,null,null,null,null,null,null,null,null,null,{"$f":"'APPEL '!AH994","v":0}]
[{"$f":"'APPEL '!A1004","v":18},{"$f":"'APPEL '!B1004","v":0},{"$f":"'APPEL '!E1004","v":0},null,null,null,{"$f":"'APPEL '!O1004","v":0},{"$f":"'APPEL '!R1004","v":0},{"$f":"'APPEL '!J1004","v":0},null,null,null,null,{"$f":"'APPEL '!BH1004","v":0},null,null,null,null,null,0,"23-25,9","24-31,9","24-27,9",null,null,null,null,null,null,null,null,{"$f":"'APPEL '!AC1004","v":0},null,null,null,null,null,null,null,null,null,null,null,null,null,null,null,null,null,null,null,null,null,null,null,null,null,null,null,null,null,null,null,null,null,null,null,null,null,null,null,null,null,null,null,null,null,null,null,null,null,null,null,null,null,null,null,null,null,null,null,null,null,null,null,null,null,null,{"$f":"'APPEL '!AH1004","v":0}]
[{"$f":"'APPEL '!A1006","v":18},{"$f":"'APPEL '!B1006","v":0},{"$f":"'APPEL '!E1006","v":0},null,null,null,{"$f":"'APPEL '!O1006","v":0},{"$f":"'APPEL '!R1006","v":0},{"$f":"'APPEL '!J1006","v":0},null,null,null,null,{"$f":"'APPEL '!BH1006","v":0},null,null,null,null,null,0,"23-25,9","24-31,9","24-27,9",null,null,null,null,null,null,null,null,{"$f":"'APPEL '!AC1006","v":0},null,null,null,null,null,null,null,null,null,null,null,null,null,null,null,null,null,null,null,null,null,null,null,null,null,null,null,null,null,null,null,null,null,null,null,null,null,null,null,null,null,null,null,null,null,null,null,null,null,null,null,null,null,null,null,null,null,null,null,null,null,null,null,null,null,null,{"$f":"'APPEL '!AH1006","v":0}]
[{"$f":"'APPEL '!A1011","v":18},{"$f":"'APPEL '!B1011","v":0},{"$f":"'APPEL '!E1011","v":0},null,null,null,{"$f":"'APPEL '!O1011","v":0},{"$f":"'APPEL '!R1011","v":0},{"$f":"'APPEL '!J1011","v":0},null,null,null,null,{"$f":"'APPEL '!BH1011","v":0},null,null,null,null,null,0,"23-25,9","24-31,9","24-27,9",null,null,null,null,null,null,null,null,{"$f":"'APPEL '!AC1011","v":0},null,null,null,null,null,null,null,null,null,null,null,null,null,null,null,null,null,null,null,null,null,null,null,null,null,null,null,null,null,null,null,null,null,null,null,null,null,null,null,null,null,null,null,null,null,null,null,null,null,null,null,null,null,null,null,null,null,null,null,null,null,null,null,null,null,null,{"$f":"'APPEL '!AH1011","v":0}]
[{"$f":"'APPEL '!A1017","v":18},{"$f":"'APPEL '!B1017","v":0},{"$f":"'APPEL '!E1017","v":0},null,null,null,{"$f":"'APPEL '!O1017","v":0},{"$f":"'APPEL '!R1017","v":0},{"$f":"'APPEL '!J1017","v":0},null,null,null,null,{"$f":"'APPEL '!BH1017","v":0},null,null,null,null,null,0,"23-25,9","24-31,9","24-27,9",null,null,null,null,null,null,null,null,{"$f":"'APPEL '!AC1017","v":0},null,null,null,null,null,null,null,null,null,null,null,null,null,null,null,null,null,null,null,null,null,null,null,null,null,null,null,null,null,null,null,null,null,null,null,null,null,null,null,null,null,null,null,null,null,null,null,null,null,null,null,null,null,null,null,null,null,null,null,null,null,null,null,null,null,null,{"$f":"'APPEL '!AH1017","v":0}]
[{"$f":"'APPEL '!A1022","v":18},{"$f":"'APPEL '!B1022","v":0},{"$f":"'APPEL '!E1022","v":0},null,null,null,{"$f":"'APPEL '!O1022","v":0},{"$f":"'APPEL '!R1022","v":0},{"$f":"'APPEL '!J1022","v":0},null,null,null,null,{"$f":"'APPEL '!BH1022","v":0},null,null,null,null,null,0,"23-25,9","24-31,9","24-27,9",null,null,null,null,null,null,null,null,{"$f":"'APPEL '!AC1022","v":0},null,null,null,null,null,null,null,null,null,null,null,null,null,null,null,null,null,null,null,null,null,null,null,null,null,null,null,null,null,null,null,null,null,null,null,null,null,null,null,null,null,null,null,null,null,null,null,null,null,null,null,null,null,null,null,null,null,null,null,null,null,null,null,null,null,null,{"$f":"'APPEL '!AH1022","v":0}]
[{"$f":"'APPEL '!A1025","v":18},{"$f":"'APPEL '!B1025","v":0},{"$f":"'APPEL '!E1025","v":0},null,null,null,{"$f":"'APPEL '!O1025","v":0},{"$f":"'APPEL '!R1025","v":0},{"$f":"'APPEL '!J1025","v":0},null,null,null,null,{"$f":"'APPEL '!BH1025","v":0},null,null,null,null,null,0,"23-25,9","24-31,9","24-27,9",null,null,null,null,null,null,null,null,{"$f":"'APPEL '!AC1025","v":0},null,null,null,null,null,null,null,null,null,null,null,null,null,null,null,null,null,null,null,null,null,null,null,null,null,null,null,null,null,null,null,null,null,null,null,null,null,null,null,null,null,null,null,null,null,null,null,null,null,null,null,null,null,null,null,null,null,null,null,null,null,null,null,null,null,null,{"$f":"'APPEL '!AH1025","v":0}]
[{"$f":"'APPEL '!A1034","v":18},{"$f":"'APPEL '!B1034","v":0},{"$f":"'APPEL '!E1034","v":0},null,null,null,{"$f":"'APPEL '!O1034","v":0},{"$f":"'APPEL '!R1034","v":0},{"$f":"'APPEL '!J1034","v":0},null,null,null,null,{"$f":"'APPEL '!BH1034","v":0},null,null,null,null,null,0,"23-25,9","24-31,9","24-27,9",null,null,null,null,null,null,null,null,{"$f":"'APPEL '!AC1034","v":0},null,null,null,null,null,null,null,null,null,null,null,null,null,null,null,null,null,null,null,null,null,null,null,null,null,null,null,null,null,null,null,null,null,null,null,null,null,null,null,null,null,null,null,null,null,null,null,null,null,null,null,null,null,null,null,null,null,null,null,null,null,null,null,null,null,null,{"$f":"'APPEL '!AH1034","v":0}]
[{"$f":"'APPEL '!A1039","v":18},{"$f":"'APPEL '!B1039","v":0},{"$f":"'APPEL '!E1039","v":0},null,null,null,{"$f":"'APPEL '!O1039","v":0},{"$f":"'APPEL '!R1039","v":0},{"$f":"'APPEL '!J1039","v":0},null,null,null,null,{"$f":"'APPEL '!BH1039","v":0},null,null,null,null,null,0,"23-25,9","24-31,9","24-27,9",null,null,null,null,null,null,null,null,{"$f":"'APPEL '!AC1039","v":0},null,null,null,null,null,null,null,null,null,null,null,null,null,null,null,null,null,null,null,null,null,null,null,null,null,null,null,null,null,null,null,null,null,null,null,null,null,null,null,null,null,null,null,null,null,null,null,null,null,null,null,null,null,null,null,null,null,null,null,null,null,null,null,null,null,null,{"$f":"'APPEL '!AH1039","v":0}]
[{"$f":"'APPEL '!A1045","v":18},{"$f":"'APPEL '!B1045","v":0},{"$f":"'APPEL '!E1045","v":0},null,null,null,{"$f":"'APPEL '!O1045","v":0},{"$f":"'APPEL '!R1045","v":0},{"$f":"'APPEL '!J1045","v":0},null,null,null,null,{"$f":"'APPEL '!BH1045","v":0},null,null,null,null,null,0,"23-25,9","24-31,9","24-27,9",null,null,null,null,null,null,null,null,{"$f":"'APPEL '!AC1045","v":0},null,null,null,null,null,null,null,null,null,null,null,null,null,null,null,null,null,null,null,null,null,null,null,null,null,null,null,null,null,null,null,null,null,null,null,null,null,null,null,null,null,null,null,null,null,null,null,null,null,null,null,null,null,null,null,null,null,null,null,null,null,null,null,null,null,null,{"$f":"'APPEL '!AH1045","v":0}]
[{"$f":"'APPEL '!A1050","v":18},{"$f":"'APPEL '!B1050","v":0},{"$f":"'APPEL '!E1050","v":0},null,null,null,{"$f":"'APPEL '!O1050","v":0},{"$f":"'APPEL '!R1050","v":0},{"$f":"'APPEL '!J1050","v":0},null,null,null,null,{"$f":"'APPEL '!BH1050","v":0},null,null,null,null,null,0,"23-25,9","24-31,9","24-27,9",null,null,null,null,null,null,null,null,{"$f":"'APPEL '!AC1050","v":0},null,null,null,null,null,null,null,null,null,null,null,null,null,null,null,null,null,null,null,null,null,null,null,null,null,null,null,null,null,null,null,null,null,null,null,null,null,null,null,null,null,null,null,null,null,null,null,null,null,null,null,null,null,null,null,null,null,null,null,null,null,null,null,null,null,null,{"$f":"'APPEL '!AH1050","v":0}]
[{"$f":"'APPEL '!A1056","v":18},{"$f":"'APPEL '!B1056","v":0},{"$f":"'APPEL '!E1056","v":0},null,null,null,{"$f":"'APPEL '!O1056","v":0},{"$f":"'APPEL '!R1056","v":0},{"$f":"'APPEL '!J1056","v":0},null,null,null,null,{"$f":"'APPEL '!BH1056","v":0},null,null,null,null,null,0,"23-25,9","24-31,9","24-27,9",null,null,null,null,null,null,null,null,{"$f":"'APPEL '!AC1056","v":0},null,null,null,null,null,null,null,null,null,null,null,null,null,null,null,null,null,null,null,null,null,null,null,null,null,null,null,null,null,null,null,null,null,null,null,null,null,null,null,null,null,null,null,null,null,null,null,null,null,null,null,null,null,null,null,null,null,null,null,null,null,null,null,null,null,null,{"$f":"'APPEL '!AH1056","v":0}]
[{"$f":"'APPEL '!A1057","v":18},{"$f":"'APPEL '!B1057","v":0},{"$f":"'APPEL '!E1057","v":0},null,null,null,{"$f":"'APPEL '!O1057","v":0},{"$f":"'APPEL '!R1057","v":0},{"$f":"'APPEL '!J1057","v":0},null,null,null,null,{"$f":"'APPEL '!BH1057","v":0},null,null,null,null,null,0,"23-25,9","24-31,9","24-27,9",null,null,null,null,null,null,null,null,{"$f":"'APPEL '!AC1057","v":0},null,null,null,null,null,null,null,null,null,null,null,null,null,null,null,null,null,null,null,null,null,null,null,null,null,null,null,null,null,null,null,null,null,null,null,null,null,null,null,null,null,null,null,null,null,null,null,null,null,null,null,null,null,null,null,null,null,null,null,null,null,null,null,null,null,null,{"$f":"'APPEL '!AH1057","v":0}]
[{"$f":"'APPEL '!A1062","v":18},{"$f":"'APPEL '!B1062","v":0},{"$f":"'APPEL '!E1062","v":0},null,null,null,{"$f":"'APPEL '!O1062","v":0},{"$f":"'APPEL '!R1062","v":0},{"$f":"'APPEL '!J1062","v":0},null,null,null,null,{"$f":"'APPEL '!BH1062","v":0},null,null,null,null,null,0,"23-25,9","24-31,9","24-27,9",null,null,null,null,null,null,null,null,{"$f":"'APPEL '!AC1062","v":0},null,null,null,null,null,null,null,null,null,null,null,null,null,null,null,null,null,null,null,null,null,null,null,null,null,null,null,null,null,null,null,null,null,null,null,null,null,null,null,null,null,null,null,null,null,null,null,null,null,null,null,null,null,null,null,null,null,null,null,null,null,null,null,null,null,null,{"$f":"'APPEL '!AH1062","v":0}]
[{"$f":"'APPEL '!A1067","v":18},{"$f":"'APPEL '!B1067","v":0},{"$f":"'APPEL '!E1067","v":0},null,null,null,{"$f":"'APPEL '!O1067","v":0},{"$f":"'APPEL '!R1067","v":0},{"$f":"'APPEL '!J1067","v":0},null,null,null,null,{"$f":"'APPEL '!BH1067","v":0},null,null,null,null,null,0,"23-25,9","24-31,9","24-27,9",null,null,null,null,null,null,null,null,{"$f":"'APPEL '!AC1067","v":0},null,null,null,null,null,null,null,null,null,null,null,null,null,null,null,null,null,null,null,null,null,null,null,null,null,null,null,null,null,null,null,null,null,null,null,null,null,null,null,null,null,null,null,null,null,null,null,null,null,null,null,null,null,null,null,null,null,null,null,null,null,null,null,null,null,null,{"$f":"'APPEL '!AH1067","v":0}]
[{"$f":"'APPEL '!A1073","v":18},{"$f":"'APPEL '!B1073","v":0},{"$f":"'APPEL '!E1073","v":0},null,null,null,{"$f":"'APPEL '!O1073","v":0},{"$f":"'APPEL '!R1073","v":0},{"$f":"'APPEL '!J1073","v":0},null,null,null,null,{"$f":"'APPEL '!BH1073","v":0},null,null,null,null,null,0,"23-25,9","24-31,9","24-27,9",null,null,null,null,null,null,null,null,{"$f":"'APPEL '!AC1073","v":0},null,null,null,null,null,null,null,null,null,null,null,null,null,null,null,null,null,null,null,null,null,null,null,null,null,null,null,null,null,null,null,null,null,null,null,null,null,null,null,null,null,null,null,null,null,null,null,null,null,null,null,null,null,null,null,null,null,null,null,null,null,null,null,null,null,null,{"$f":"'APPEL '!AH1073","v":0}]
[{"$f":"'APPEL '!A1081","v":18},{"$f":"'APPEL '!B1081","v":0},{"$f":"'APPEL '!E1081","v":0},null,null,null,{"$f":"'APPEL '!O1081","v":0},{"$f":"'APPEL '!R1081","v":0},{"$f":"'APPEL '!J1081","v":0},null,null,null,null,{"$f":"'APPEL '!BH1081","v":0},null,null,null,null,null,0,"23-25,9","24-31,9","24-27,9",null,null,null,null,null,null,null,null,{"$f":"'APPEL '!AC1081","v":0},null,null,null,null,null,null,null,null,null,null,null,null,null,null,null,null,null,null,null,null,null,null,null,null,null,null,null,null,null,null,null,null,null,null,null,null,null,null,null,null,null,null,null,null,null,null,null,null,null,null,null,null,null,null,null,null,null,null,null,null,null,null,null,null,null,null,{"$f":"'APPEL '!AH1081","v":0}]
[{"$f":"'APPEL '!A1085","v":18},{"$f":"'APPEL '!B1085","v":0},{"$f":"'APPEL '!E1085","v":0},null,null,null,{"$f":"'APPEL '!O1085","v":0},{"$f":"'APPEL '!R1085","v":0},{"$f":"'APPEL '!J1085","v":0},null,null,null,null,{"$f":"'APPEL '!BH1085","v":0},null,null,null,null,null,0,"23-25,9","24-31,9","24-27,9",null,null,null,null,null,null,null,null,{"$f":"'APPEL '!AC1085","v":0},null,null,null,null,null,null,null,null,null,null,null,null,null,null,null,null,null,null,null,null,null,null,null,null,null,null,null,null,null,null,null,null,null,null,null,null,null,null,null,null,null,null,null,null,null,null,null,null,null,null,null,null,null,null,null,null,null,null,null,null,null,null,null,null,null,null,{"$f":"'APPEL '!AH1085","v":0}]
[{"$f":"'APPEL '!A1090","v":18},{"$f":"'APPEL '!B1090","v":0},{"$f":"'APPEL '!E1090","v":0},null,null,null,{"$f":"'APPEL '!O1090","v":0},{"$f":"'APPEL '!R1090","v":0},{"$f":"'APPEL '!J1090","v":0},null,null,null,null,{"$f":"'APPEL '!BH1090","v":0},null,null,null,null,null,0,"23-25,9","24-31,9","24-27,9",null,null,null,null,null,null,null,null,{"$f":"'APPEL '!AC1090","v":0},null,null,null,null,null,null,null,null,null,null,null,null,null,null,null,null,null,null,null,null,null,null,null,null,null,null,null,null,null,null,null,null,null,null,null,null,null,null,null,null,null,null,null,null,null,null,null,null,null,null,null,null,null,null,null,null,null,null,null,null,null,null,null,null,null,null,{"$f":"'APPEL '!AH1090","v":0}]
[{"$f":"'APPEL '!A1095","v":18},{"$f":"'APPEL '!B1095","v":0},{"$f":"'APPEL '!E1095","v":0},null,null,null,{"$f":"'APPEL '!O1095","v":0},{"$f":"'APPEL '!R1095","v":0},{"$f":"'APPEL '!J1095","v":0},null,null,null,null,{"$f":"'APPEL '!BH1095","v":0},null,null,null,null,null,0,"23-25,9","24-31,9","24-27,9",null,null,null,null,null,null,null,null,{"$f":"'APPEL '!AC1095","v":0},null,null,null,null,null,null,null,null,null,null,null,null,null,null,null,null,null,null,null,null,null,null,null,null,null,null,null,null,null,null,null,null,null,null,null,null,null,null,null,null,null,null,null,null,null,null,null,null,null,null,null,null,null,null,null,null,null,null,null,null,null,null,null,null,null,null,{"$f":"'APPEL '!AH1095","v":0}]
[{"$f":"'APPEL '!A1101","v":18},{"$f":"'APPEL '!B1101","v":0},{"$f":"'APPEL '!E1101","v":0},null,null,null,{"$f":"'APPEL '!O1101","v":0},{"$f":"'APPEL '!R1101","v":0},{"$f":"'APPEL '!J1101","v":0},null,null,null,null,{"$f":"'APPEL '!BH1101","v":0},null,null,null,null,null,0,"23-25,9","24-31,9","24-27,9",null,null,null,null,null,null,null,null,{"$f":"'APPEL '!AC1101","v":0},null,null,null,null,null,null,null,null,null,null,null,null,null,null,null,null,null,null,null,null,null,null,null,null,null,null,null,null,null,null,null,null,null,null,null,null,null,null,null,null,null,null,null,null,null,null,null,null,null,null,null,null,null,null,null,null,null,null,null,null,null,null,null,null,null,null,{"$f":"'APPEL '!AH1101","v":0}]
[{"$f":"'APPEL '!A1106","v":18},{"$f":"'APPEL '!B1106","v":0},{"$f":"'APPEL '!E1106","v":0},null,null,null,{"$f":"'APPEL '!O1106","v":0},{"$f":"'APPEL '!R1106","v":0},{"$f":"'APPEL '!J1106","v":0},null,null,null,null,{"$f":"'APPEL '!BH1106","v":0},null,null,null,null,null,0,"23-25,9","24-31,9","24-27,9",null,null,null,null,null,null,null,null,{"$f":"'APPEL '!AC1106","v":0},null,null,null,null,null,null,null,null,null,null,null,null,null,null,null,null,null,null,null,null,null,null,null,null,null,null,null,null,null,null,null,null,null,null,null,null,null,null,null,null,null,null,null,null,null,null,null,null,null,null,null,null,null,null,null,null,null,null,null,null,null,null,null,null,null,null,{"$f":"'APPEL '!AH1106","v":0}]
[{"$f":"'APPEL '!A1113","v":18},{"$f":"'APPEL '!B1113","v":0},{"$f":"'APPEL '!E1113","v":0},null,null,null,{"$f":"'APPEL '!O1113","v":0},{"$f":"'APPEL '!R1113","v":0},{"$f":"'APPEL '!J1113","v":0},null,null,null,null,{"$f":"'APPEL '!BH1113","v":0},null,null,null,null,null,0,"23-25,9","24-31,9","24-27,9",null,null,null,null,null,null,null,null,{"$f":"'APPEL '!AC1113","v":0},null,null,null,null,null,null,null,null,null,null,null,null,null,null,null,null,null,null,null,null,null,null,null,null,null,null,null,null,null,null,null,null,null,null,null,null,null,null,null,null,null,null,null,null,null,null,null,null,null,null,null,null,null,null,null,null,null,null,null,null,null,null,null,null,null,null,{"$f":"'APPEL '!AH1113","v":0}]
[{"$f":"'APPEL '!A1118","v":18},{"$f":"'APPEL '!B1118","v":0},{"$f":"'APPEL '!E1118","v":0},null,null,null,{"$f":"'APPEL '!O1118","v":0},{"$f":"'APPEL '!R1118","v":0},{"$f":"'APPEL '!J1118","v":0},null,null,null,null,{"$f":"'APPEL '!BH1118","v":0},null,null,null,null,null,0,"23-25,9","24-31,9","24-27,9",null,null,null,null,null,null,null,null,{"$f":"'APPEL '!AC1118","v":0},null,null,null,null,null,null,null,null,null,null,null,null,null,null,null,null,null,null,null,null,null,null,null,null,null,null,null,null,null,null,null,null,null,null,null,null,null,null,null,null,null,null,null,null,null,null,null,null,null,null,null,null,null,null,null,null,null,null,null,null,null,null,null,null,null,null,{"$f":"'APPEL '!AH1118","v":0}]
[{"$f":"'APPEL '!A1123","v":18},{"$f":"'APPEL '!B1123","v":0},{"$f":"'APPEL '!E1123","v":0},null,null,null,{"$f":"'APPEL '!O1123","v":0},{"$f":"'APPEL '!R1123","v":0},{"$f":"'APPEL '!J1123","v":0},null,null,null,null,{"$f":"'APPEL '!BH1123","v":0},null,null,null,null,null,0,"23-25,9","24-31,9","24-27,9",null,null,null,null,null,null,null,null,{"$f":"'APPEL '!AC1123","v":0},null,null,null,null,null,null,null,null,null,null,null,null,null,null,null,null,null,null,null,null,null,null,null,null,null,null,null,null,null,null,null,null,null,null,null,null,null,null,null,null,null,null,null,null,null,null,null,null,null,null,null,null,null,null,null,null,null,null,null,null,null,null,null,null,null,null,{"$f":"'APPEL '!AH1123","v":0}]
[{"$f":"'APPEL '!A1124","v":18},{"$f":"'APPEL '!B1124","v":0},{"$f":"'APPEL '!E1124","v":0},null,null,null,{"$f":"'APPEL '!O1124","v":0},{"$f":"'APPEL '!R1124","v":0},{"$f":"'APPEL '!J1124","v":0},null,null,null,null,{"$f":"'APPEL '!BH1124","v":0},null,null,null,null,null,0,"23-25,9","24-31,9","24-27,9",null,null,null,null,null,null,null,null,{"$f":"'APPEL '!AC1124","v":0},null,null,null,null,null,null,null,null,null,null,null,null,null,null,null,null,null,null,null,null,null,null,null,null,null,null,null,null,null,null,null,null,null,null,null,null,null,null,null,null,null,null,null,null,null,null,null,null,null,null,null,null,null,null,null,null,null,null,null,null,null,null,null,null,null,null,{"$f":"'APPEL '!AH1124","v":0}]
[{"$f":"'APPEL '!A1131","v":18},{"$f":"'APPEL '!B1131","v":0},{"$f":"'APPEL '!E1131","v":0},null,null,null,{"$f":"'APPEL '!O1131","v":0},{"$f":"'APPEL '!R1131","v":0},{"$f":"'APPEL '!J1131","v":0},null,null,null,null,{"$f":"'APPEL '!BH1131","v":0},null,null,null,null,null,0,"23-25,9","24-31,9","24-27,9",null,null,null,null,null,null,null,null,{"$f":"'APPEL '!AC1131","v":0},null,null,null,null,null,null,null,null,null,null,null,null,null,null,null,null,null,null,null,null,null,null,null,null,null,null,null,null,null,null,null,null,null,null,null,null,null,null,null,null,null,null,null,null,null,null,null,null,null,null,null,null,null,null,null,null,null,null,null,null,null,null,null,null,null,null,{"$f":"'APPEL '!AH1131","v":0}]
[{"$f":"'APPEL '!A1135","v":18},{"$f":"'APPEL '!B1135","v":0},{"$f":"'APPEL '!E1135","v":0},null,null,null,{"$f":"'APPEL '!O1135","v":0},{"$f":"'APPEL '!R1135","v":0},{"$f":"'APPEL '!J1135","v":0},null,null,null,null,{"$f":"'APPEL '!BH1135","v":0},null,null,null,null,null,0,"23-25,9","24-31,9","24-27,9",null,null,null,null,null,null,null,null,{"$f":"'APPEL '!AC1135","v":0},null,null,null,null,null,null,null,null,null,null,null,null,null,null,null,null,null,null,null,null,null,null,null,null,null,null,null,null,null,null,null,null,null,null,null,null,null,null,null,null,null,null,null,null,null,null,null,null,null,null,null,null,null,null,null,null,null,null,null,null,null,null,null,null,null,null,{"$f":"'APPEL '!AH1135","v":0}]
[{"$f":"'APPEL '!A1141","v":18},{"$f":"'APPEL '!B1141","v":0},{"$f":"'APPEL '!E1141","v":0},null,null,null,{"$f":"'APPEL '!O1141","v":0},{"$f":"'APPEL '!R1141","v":0},{"$f":"'APPEL '!J1141","v":0},null,null,null,null,{"$f":"'APPEL '!BH1141","v":0},null,null,null,null,null,0,"23-25,9","24-31,9","24-27,9",null,null,null,null,null,null,null,null,{"$f":"'APPEL '!AC1141","v":0},null,null,null,null,null,null,null,null,null,null,null,null,null,null,null,null,null,null,null,null,null,null,null,null,null,null,null,null,null,null,null,null,null,null,null,null,null,null,null,null,null,null,null,null,null,null,null,null,null,null,null,null,null,null,null,null,null,null,null,null,null,null,null,null,null,null,{"$f":"'APPEL '!AH1141","v":0}]
[{"$f":"'APPEL '!A1146","v":18},{"$f":"'APPEL '!B1146","v":0},{"$f":"'APPEL '!E1146","v":0},null,null,null,{"$f":"'APPEL '!O1146","v":0},{"$f":"'APPEL '!R1146","v":0},{"$f":"'APPEL '!J1146","v":0},null,null,null,null,{"$f":"'APPEL '!BH1146","v":0},null,null,null,null,null,0,"23-25,9","24-31,9","24-27,9",null,null,null,null,null,null,null,null,{"$f":"'APPEL '!AC1146","v":0},null,null,null,null,null,null,null,null,null,null,null,null,null,null,null,null,null,null,null,null,null,null,null,null,null,null,null,null,null,null,null,null,null,null,null,null,null,null,null,null,null,null,null,null,null,null,null,null,null,null,null,null,null,null,null,null,null,null,null,null,null,null,null,null,null,null,{"$f":"'APPEL '!AH1146","v":0}]
[{"$f":"'APPEL '!A1152","v":18},{"$f":"'APPEL '!B1152","v":0},{"$f":"'APPEL '!E1152","v":0},null,null,null,{"$f":"'APPEL '!O1152","v":0},{"$f":"'APPEL '!R1152","v":0},{"$f":"'APPEL '!J1152","v":0},null,null,null,null,{"$f":"'APPEL '!BH1152","v":0},null,null,null,null,null,0,"23-25,9","24-31,9","24-27,9",null,null,null,null,null,null,null,null,{"$f":"'APPEL '!AC1152","v":0},null,null,null,null,null,null,null,null,null,null,null,null,null,null,null,null,null,null,null,null,null,null,null,null,null,null,null,null,null,null,null,null,null,null,null,null,null,null,null,null,null,null,null,null,null,null,null,null,null,null,null,null,null,null,null,null,null,null,null,null,null,null,null,null,null,null,{"$f":"'APPEL '!AH1152","v":0}]
[{"$f":"'APPEL '!A1156","v":18},{"$f":"'APPEL '!B1156","v":0},{"$f":"'APPEL '!E1156","v":0},null,null,null,{"$f":"'APPEL '!O1156","v":0},{"$f":"'APPEL '!R1156","v":0},{"$f":"'APPEL '!J1156","v":0},null,null,null,null,{"$f":"'APPEL '!BH1156","v":0},null,null,null,null,null,0,"23-25,9","24-31,9","24-27,9",null,null,null,null,null,null,null,null,{"$f":"'APPEL '!AC1156","v":0},null,null,null,null,null,null,null,null,null,null,null,null,null,null,null,null,null,null,null,null,null,null,null,null,null,null,null,null,null,null,null,null,null,null,null,null,null,null,null,null,null,null,null,null,null,null,null,null,null,null,null,null,null,null,null,null,null,null,null,null,null,null,null,null,null,null,{"$f":"'APPEL '!AH1156","v":0}]
[{"$f":"'APPEL '!A1163","v":18},{"$f":"'APPEL '!B1163","v":0},{"$f":"'APPEL '!E1163","v":0},null,null,null,{"$f":"'APPEL '!O1163","v":0},{"$f":"'APPEL '!R1163","v":0},{"$f":"'APPEL '!J1163","v":0},null,null,null,null,{"$f":"'APPEL '!BH1163","v":0},null,null,null,null,null,0,"23-25,9","24-31,9","24-27,9",null,null,null,null,null,null,null,null,{"$f":"'APPEL '!AC1163","v":0},null,null,null,null,null,null,null,null,null,null,null,null,null,null,null,null,null,null,null,null,null,null,null,null,null,null,null,null,null,null,null,null,null,null,null,null,null,null,null,null,null,null,null,null,null,null,null,null,null,null,null,null,null,null,null,null,null,null,null,null,null,null,null,null,null,null,{"$f":"'APPEL '!AH1163","v":0}]
[{"$f":"'APPEL '!A1169","v":18},{"$f":"'APPEL '!B1169","v":0},{"$f":"'APPEL '!E1169","v":0},null,null,null,{"$f":"'APPEL '!O1169","v":0},{"$f":"'APPEL '!R1169","v":0},{"$f":"'APPEL '!J1169","v":0},null,null,null,null,{"$f":"'APPEL '!BH1169","v":0},null,null,null,null,null,0,"23-25,9","24-31,9","24-27,9",null,null,null,null,null,null,null,null,{"$f":"'APPEL '!AC1169","v":0},null,null,null,null,null,null,null,null,null,null,null,null,null,null,null,null,null,null,null,null,null,null,null,null,null,null,null,null,null,null,null,null,null,null,null,null,null,null,null,null,null,null,null,null,null,null,null,null,null,null,null,null,null,null,null,null,null,null,null,null,null,null,null,null,null,null,{"$f":"'APPEL '!AH1169","v":0}]
[{"$f":"'APPEL '!A1174","v":18},{"$f":"'APPEL '!B1174","v":0},{"$f":"'APPEL '!E1174","v":0},null,null,null,{"$f":"'APPEL '!O1174","v":0},{"$f":"'APPEL '!R1174","v":0},{"$f":"'APPEL '!J1174","v":0},null,null,null,null,{"$f":"'APPEL '!BH1174","v":0},null,null,null,null,null,0,"23-25,9","24-31,9","24-27,9",null,null,null,null,null,null,null,null,{"$f":"'APPEL '!AC1174","v":0},null,null,null,null,null,null,null,null,null,null,null,null,null,null,null,null,null,null,null,null,null,null,null,null,null,null,null,null,null,null,null,null,null,null,null,null,null,null,null,null,null,null,null,null,null,null,null,null,null,null,null,null,null,null,null,null,null,null,null,null,null,null,null,null,null,null,{"$f":"'APPEL '!AH1174","v":0}]
[{"$f":"'APPEL '!A1179","v":18},{"$f":"'APPEL '!B1179","v":0},{"$f":"'APPEL '!E1179","v":0},null,null,null,{"$f":"'APPEL '!O1179","v":0},{"$f":"'APPEL '!R1179","v":0},{"$f":"'APPEL '!J1179","v":0},null,null,null,null,{"$f":"'APPEL '!BH1179","v":0},null,null,null,null,null,0,"23-25,9","24-31,9","24-27,9",null,null,null,null,null,null,null,null,{"$f":"'APPEL '!AC1179","v":0},null,null,null,null,null,null,null,null,null,null,null,null,null,null,null,null,null,null,null,null,null,null,null,null,null,null,null,null,null,null,null,null,null,null,null,null,null,null,null,null,null,null,null,null,null,null,null,null,null,null,null,null,null,null,null,null,null,null,null,null,null,null,null,null,null,null,{"$f":"'APPEL '!AH1179","v":0}]
[{"$f":"'APPEL '!A1181","v":18},{"$f":"'APPEL '!B1181","v":0},{"$f":"'APPEL '!E1181","v":0},null,null,null,{"$f":"'APPEL '!O1181","v":0},{"$f":"'APPEL '!R1181","v":0},{"$f":"'APPEL '!J1181","v":0},null,null,null,null,{"$f":"'APPEL '!BH1181","v":0},null,null,null,null,null,0,"23-25,9","24-31,9","24-27,9",null,null,null,null,null,null,null,null,{"$f":"'APPEL '!AC1181","v":0},null,null,null,null,null,null,null,null,null,null,null,null,null,null,null,null,null,null,null,null,null,null,null,null,null,null,null,null,null,null,null,null,null,null,null,null,null,null,null,null,null,null,null,null,null,null,null,null,null,null,null,null,null,null,null,null,null,null,null,null,null,null,null,null,null,null,{"$f":"'APPEL '!AH1181","v":0}]
[{"$f":"'APPEL '!A1191","v":18},{"$f":"'APPEL '!B1191","v":0},{"$f":"'APPEL '!E1191","v":0},null,null,null,{"$f":"'APPEL '!O1191","v":0},{"$f":"'APPEL '!R1191","v":0},{"$f":"'APPEL '!J1191","v":0},null,null,null,null,{"$f":"'APPEL '!BH1191","v":0},null,null,null,null,null,0,"23-25,9","24-31,9","24-27,9",null,null,null,null,null,null,null,null,{"$f":"'APPEL '!AC1191","v":0},null,null,null,null,null,null,null,null,null,null,null,null,null,null,null,null,null,null,null,null,null,null,null,null,null,null,null,null,null,null,null,null,null,null,null,null,null,null,null,null,null,null,null,null,null,null,null,null,null,null,null,null,null,null,null,null,null,null,null,null,null,null,null,null,null,null,{"$f":"'APPEL '!AH1191","v":0}]
[{"$f":"'APPEL '!A1192","v":18},{"$f":"'APPEL '!B1192","v":0},{"$f":"'APPEL '!E1192","v":0},null,null,null,{"$f":"'APPEL '!O1192","v":0},{"$f":"'APPEL '!R1192","v":0},{"$f":"'APPEL '!J1192","v":0},null,null,null,null,{"$f":"'APPEL '!BH1192","v":0},null,null,null,null,null,0,"23-25,9","24-31,9","24-27,9",null,null,null,null,null,null,null,null,{"$f":"'APPEL '!AC1192","v":0},null,null,null,null,null,null,null,null,null,null,null,null,null,null,null,null,null,null,null,null,null,null,null,null,null,null,null,null,null,null,null,null,null,null,null,null,null,null,null,null,null,null,null,null,null,null,null,null,null,null,null,null,null,null,null,null,null,null,null,null,null,null,null,null,null,null,{"$f":"'APPEL '!AH1192","v":0}]
[{"$f":"'APPEL '!A1197","v":18},{"$f":"'APPEL '!B1197","v":0},{"$f":"'APPEL '!E1197","v":0},null,null,null,{"$f":"'APPEL '!O1197","v":0},{"$f":"'APPEL '!R1197","v":0},{"$f":"'APPEL '!J1197","v":0},null,null,null,null,{"$f":"'APPEL '!BH1197","v":0},null,null,null,null,null,0,"23-25,9","24-31,9","24-27,9",null,null,null,null,null,null,null,null,{"$f":"'APPEL '!AC1197","v":0},null,null,null,null,null,null,null,null,null,null,null,null,null,null,null,null,null,null,null,null,null,null,null,null,null,null,null,null,null,null,null,null,null,null,null,null,null,null,null,null,null,null,null,null,null,null,null,null,null,null,null,null,null,null,null,null,null,null,null,null,null,null,null,null,null,null,{"$f":"'APPEL '!AH1197","v":0}]
[{"$f":"'APPEL '!A1202","v":18},{"$f":"'APPEL '!B1202","v":0},{"$f":"'APPEL '!E1202","v":0},null,null,null,{"$f":"'APPEL '!O1202","v":0},{"$f":"'APPEL '!R1202","v":0},{"$f":"'APPEL '!J1202","v":0},null,null,null,null,{"$f":"'APPEL '!BH1202","v":0},null,null,null,null,null,0,"23-25,9","24-31,9","24-27,9",null,null,null,null,null,null,null,null,{"$f":"'APPEL '!AC1202","v":0},null,null,null,null,null,null,null,null,null,null,null,null,null,null,null,null,null,null,null,null,null,null,null,null,null,null,null,null,null,null,null,null,null,null,null,null,null,null,null,null,null,null,null,null,null,null,null,null,null,null,null,null,null,null,null,null,null,null,null,null,null,null,null,null,null,null,{"$f":"'APPEL '!AH1202","v":0}]
[{"$f":"'APPEL '!A1212","v":18},{"$f":"'APPEL '!B1212","v":0},{"$f":"'APPEL '!E1212","v":0},null,null,null,{"$f":"'APPEL '!O1212","v":0},{"$f":"'APPEL '!R1212","v":0},{"$f":"'APPEL '!J1212","v":0},null,null,null,null,{"$f":"'APPEL '!BH1212","v":0},null,null,null,null,null,0,"23-25,9","24-31,9","24-27,9",null,null,null,null,null,null,null,null,{"$f":"'APPEL '!AC1212","v":0},null,null,null,null,null,null,null,null,null,null,null,null,null,null,null,null,null,null,null,null,null,null,null,null,null,null,null,null,null,null,null,null,null,null,null,null,null,null,null,null,null,null,null,null,null,null,null,null,null,null,null,null,null,null,null,null,null,null,null,null,null,null,null,null,null,null,{"$f":"'APPEL '!AH1212","v":0}]
[{"$f":"'APPEL '!A1214","v":18},{"$f":"'APPEL '!B1214","v":0},{"$f":"'APPEL '!E1214","v":0},null,null,null,{"$f":"'APPEL '!O1214","v":0},{"$f":"'APPEL '!R1214","v":0},{"$f":"'APPEL '!J1214","v":0},null,null,null,null,{"$f":"'APPEL '!BH1214","v":0},null,null,null,null,null,0,"23-25,9","24-31,9","24-27,9",null,null,null,null,null,null,null,null,{"$f":"'APPEL '!AC1214","v":0},null,null,null,null,null,null,null,null,null,null,null,null,null,null,null,null,null,null,null,null,null,null,null,null,null,null,null,null,null,null,null,null,null,null,null,null,null,null,null,null,null,null,null,null,null,null,null,null,null,null,null,null,null,null,null,null,null,null,null,null,null,null,null,null,null,null,{"$f":"'APPEL '!AH1214","v":0}]
[{"$f":"'APPEL '!A1220","v":18},{"$f":"'APPEL '!B1220","v":0},{"$f":"'APPEL '!E1220","v":0},null,null,null,{"$f":"'APPEL '!O1220","v":0},{"$f":"'APPEL '!R1220","v":0},{"$f":"'APPEL '!J1220","v":0},null,null,null,null,{"$f":"'APPEL '!BH1220","v":0},null,null,null,null,null,0,"23-25,9","24-31,9","24-27,9",null,null,null,null,null,null,null,null,{"$f":"'APPEL '!AC1220","v":0},null,null,null,null,null,null,null,null,null,null,null,null,null,null,null,null,null,null,null,null,null,null,null,null,null,null,null,null,null,null,null,null,null,null,null,null,null,null,null,null,null,null,null,null,null,null,null,null,null,null,null,null,null,null,null,null,null,null,null,null,null,null,null,null,null,null,{"$f":"'APPEL '!AH1220","v":0}]
[{"$f":"'APPEL '!A1225","v":18},{"$f":"'APPEL '!B1225","v":0},{"$f":"'APPEL '!E1225","v":0},null,null,null,{"$f":"'APPEL '!O1225","v":0},{"$f":"'APPEL '!R1225","v":0},{"$f":"'APPEL '!J1225","v":0},null,null,null,null,{"$f":"'APPEL '!BH1225","v":0},null,null,null,null,null,0,"23-25,9","24-31,9","24-27,9",null,null,null,null,null,null,null,null,{"$f":"'APPEL '!AC1225","v":0},null,null,null,null,null,null,null,null,null,null,null,null,null,null,null,null,null,null,null,null,null,null,null,null,null,null,null,null,null,null,null,null,null,null,null,null,null,null,null,null,null,null,null,null,null,null,null,null,null,null,null,null,null,null,null,null,null,null,null,null,null,null,null,null,null,null,{"$f":"'APPEL '!AH1225","v":0}]
[{"$f":"'APPEL '!A1230","v":18},{"$f":"'APPEL '!B1230","v":0},{"$f":"'APPEL '!E1230","v":0},null,null,null,{"$f":"'APPEL '!O1230","v":0},{"$f":"'APPEL '!R1230","v":0},{"$f":"'APPEL '!J1230","v":0},null,null,null,null,{"$f":"'APPEL '!BH1230","v":0},null,null,null,null,null,0,"23-25,9","24-31,9","24-27,9",null,null,null,null,null,null,null,null,{"$f":"'APPEL '!AC1230","v":0},null,null,null,null,null,null,null,null,null,null,null,null,null,null,null,null,null,null,null,null,null,null,null,null,null,null,null,null,null,null,null,null,null,null,null,null,null,null,null,null,null,null,null,null,null,null,null,null,null,null,null,null,null,null,null,null,null,null,null,null,null,null,null,null,null,null,{"$f":"'APPEL '!AH1230","v":0}]
[{"$f":"'APPEL '!A1237","v":18},{"$f":"'APPEL '!B1237","v":0},{"$f":"'APPEL '!E1237","v":0},null,null,null,{"$f":"'APPEL '!O1237","v":0},{"$f":"'APPEL '!R1237","v":0},{"$f":"'APPEL '!J1237","v":0},null,null,null,null,{"$f":"'APPEL '!BH1237","v":0},null,null,null,null,null,0,"23-25,9","24-31,9","24-27,9",null,null,null,null,null,null,null,null,{"$f":"'APPEL '!AC1237","v":0},null,null,null,null,null,null,null,null,null,null,null,null,null,null,null,null,null,null,null,null,null,null,null,null,null,null,null,null,null,null,null,null,null,null,null,null,null,null,null,null,null,null,null,null,null,null,null,null,null,null,null,null,null,null,null,null,null,null,null,null,null,null,null,null,null,null,{"$f":"'APPEL '!AH1237","v":0}]
[{"$f":"'APPEL '!A1242","v":18},{"$f":"'APPEL '!B1242","v":0},{"$f":"'APPEL '!E1242","v":0},null,null,null,{"$f":"'APPEL '!O1242","v":0},{"$f":"'APPEL '!R1242","v":0},{"$f":"'APPEL '!J1242","v":0},null,null,null,null,{"$f":"'APPEL '!BH1242","v":0},null,null,null,null,null,0,"23-25,9","24-31,9","24-27,9",null,null,null,null,null,null,null,null,{"$f":"'APPEL '!AC1242","v":0},null,null,null,null,null,null,null,null,null,null,null,null,null,null,null,null,null,null,null,null,null,null,null,null,null,null,null,null,null,null,null,null,null,null,null,null,null,null,null,null,null,null,null,null,null,null,null,null,null,null,null,null,null,null,null,null,null,null,null,null,null,null,null,null,null,null,{"$f":"'APPEL '!AH1242","v":0}]
[{"$f":"'APPEL '!A1247","v":18},{"$f":"'APPEL '!B1247","v":0},{"$f":"'APPEL '!E1247","v":0},null,null,null,{"$f":"'APPEL '!O1247","v":0},{"$f":"'APPEL '!R1247","v":0},{"$f":"'APPEL '!J1247","v":0},null,null,null,null,{"$f":"'APPEL '!BH1247","v":0},null,null,null,null,null,0,"23-25,9","24-31,9","24-27,9",null,null,null,null,null,null,null,null,{"$f":"'APPEL '!AC1247","v":0},null,null,null,null,null,null,null,null,null,null,null,null,null,null,null,null,null,null,null,null,null,null,null,null,null,null,null,null,null,null,null,null,null,null,null,null,null,null,null,null,null,null,null,null,null,null,null,null,null,null,null,null,null,null,null,null,null,null,null,null,null,null,null,null,null,null,{"$f":"'APPEL '!AH1247","v":0}]
[{"$f":"'APPEL '!A1253","v":18},{"$f":"'APPEL '!B1253","v":0},{"$f":"'APPEL '!E1253","v":0},null,null,null,{"$f":"'APPEL '!O1253","v":0},{"$f":"'APPEL '!R1253","v":0},{"$f":"'APPEL '!J1253","v":0},null,null,null,null,{"$f":"'APPEL '!BH1253","v":0},null,null,null,null,null,0,"23-25,9","24-31,9","24-27,9",null,null,null,null,null,null,null,null,{"$f":"'APPEL '!AC1253","v":0},null,null,null,null,null,null,null,null,null,null,null,null,null,null,null,null,null,null,null,null,null,null,null,null,null,null,null,null,null,null,null,null,null,null,null,null,null,null,null,null,null,null,null,null,null,null,null,null,null,null,null,null,null,null,null,null,null,null,null,null,null,null,null,null,null,null,{"$f":"'APPEL '!AH1253","v":0}]
[{"$f":"'APPEL '!A1258","v":18},{"$f":"'APPEL '!B1258","v":0},{"$f":"'APPEL '!E1258","v":0},null,null,null,{"$f":"'APPEL '!O1258","v":0},{"$f":"'APPEL '!R1258","v":0},{"$f":"'APPEL '!J1258","v":0},null,null,null,null,{"$f":"'APPEL '!BH1258","v":0},null,null,null,null,null,0,"23-25,9","24-31,9","24-27,9",null,null,null,null,null,null,null,null,{"$f":"'APPEL '!AC1258","v":0},null,null,null,null,null,null,null,null,null,null,null,null,null,null,null,null,null,null,null,null,null,null,null,null,null,null,null,null,null,null,null,null,null,null,null,null,null,null,null,null,null,null,null,null,null,null,null,null,null,null,null,null,null,null,null,null,null,null,null,null,null,null,null,null,null,null,{"$f":"'APPEL '!AH1258","v":0}]
[{"$f":"'APPEL '!A1262","v":18},{"$f":"'APPEL '!B1262","v":0},{"$f":"'APPEL '!E1262","v":0},null,null,null,{"$f":"'APPEL '!O1262","v":0},{"$f":"'APPEL '!R1262","v":0},{"$f":"'APPEL '!J1262","v":0},null,null,null,null,{"$f":"'APPEL '!BH1262","v":0},null,null,null,null,null,0,"23-25,9","24-31,9","24-27,9",null,null,null,null,null,null,null,null,{"$f":"'APPEL '!AC1262","v":0},null,null,null,null,null,null,null,null,null,null,null,null,null,null,null,null,null,null,null,null,null,null,null,null,null,null,null,null,null,null,null,null,null,null,null,null,null,null,null,null,null,null,null,null,null,null,null,null,null,null,null,null,null,null,null,null,null,null,null,null,null,null,null,null,null,null,{"$f":"'APPEL '!AH1262","v":0}]
[{"$f":"'APPEL '!A1265","v":18},{"$f":"'APPEL '!B1265","v":0},{"$f":"'APPEL '!E1265","v":0},null,null,null,{"$f":"'APPEL '!O1265","v":0},{"$f":"'APPEL '!R1265","v":0},{"$f":"'APPEL '!J1265","v":0},null,null,null,null,{"$f":"'APPEL '!BH1265","v":0},null,null,null,null,null,0,"23-25,9","24-31,9","24-27,9",null,null,null,null,null,null,null,null,{"$f":"'APPEL '!AC1265","v":0},null,null,null,null,null,null,null,null,null,null,null,null,null,null,null,null,null,null,null,null,null,null,null,null,null,null,null,null,null,null,null,null,null,null,null,null,null,null,null,null,null,null,null,null,null,null,null,null,null,null,null,null,null,null,null,null,null,null,null,null,null,null,null,null,null,null,{"$f":"'APPEL '!AH1265","v":0}]
[{"$f":"'APPEL '!A1270","v":18},{"$f":"'APPEL '!B1270","v":0},{"$f":"'APPEL '!E1270","v":0},null,null,null,{"$f":"'APPEL '!O1270","v":0},{"$f":"'APPEL '!R1270","v":0},{"$f":"'APPEL '!J1270","v":0},null,null,null,null,{"$f":"'APPEL '!BH1270","v":0},null,null,null,null,null,0,"23-25,9","24-31,9","24-27,9",null,null,null,null,null,null,null,null,{"$f":"'APPEL '!AC1270","v":0},null,null,null,null,null,null,null,null,null,null,null,null,null,null,null,null,null,null,null,null,null,null,null,null,null,null,null,null,null,null,null,null,null,null,null,null,null,null,null,null,null,null,null,null,null,null,null,null,null,null,null,null,null,null,null,null,null,null,null,null,null,null,null,null,null,null,{"$f":"'APPEL '!AH1270","v":0}]
[{"$f":"'APPEL '!A1276","v":18},{"$f":"'APPEL '!B1276","v":0},{"$f":"'APPEL '!E1276","v":0},null,null,null,{"$f":"'APPEL '!O1276","v":0},{"$f":"'APPEL '!R1276","v":0},{"$f":"'APPEL '!J1276","v":0},null,null,null,null,{"$f":"'APPEL '!BH1276","v":0},null,null,null,null,null,0,"23-25,9","24-31,9","24-27,9",null,null,null,null,null,null,null,null,{"$f":"'APPEL '!AC1276","v":0},null,null,null,null,null,null,null,null,null,null,null,null,null,null,null,null,null,null,null,null,null,null,null,null,null,null,null,null,null,null,null,null,null,null,null,null,null,null,null,null,null,null,null,null,null,null,null,null,null,null,null,null,null,null,null,null,null,null,null,null,null,null,null,null,null,null,{"$f":"'APPEL '!AH1276","v":0}]
[{"$f":"'APPEL '!A1281","v":18},{"$f":"'APPEL '!B1281","v":0},{"$f":"'APPEL '!E1281","v":0},null,null,null,{"$f":"'APPEL '!O1281","v":0},{"$f":"'APPEL '!R1281","v":0},{"$f":"'APPEL '!J1281","v":0},null,null,null,null,{"$f":"'APPEL '!BH1281","v":0},null,null,null,null,null,0,"23-25,9","24-31,9","24-27,9",null,null,null,null,null,null,null,null,{"$f":"'APPEL '!AC1281","v":0},null,null,null,null,null,null,null,null,null,null,null,null,null,null,null,null,null,null,null,null,null,null,null,null,null,null,null,null,null,null,null,null,null,null,null,null,null,null,null,null,null,null,null,null,null,null,null,null,null,null,null,null,null,null,null,null,null,null,null,null,null,null,null,null,null,null,{"$f":"'APPEL '!AH1281","v":0}]
[{"$f":"'APPEL '!A1287","v":18},{"$f":"'APPEL '!B1287","v":0},{"$f":"'APPEL '!E1287","v":0},null,null,null,{"$f":"'APPEL '!O1287","v":0},{"$f":"'APPEL '!R1287","v":0},{"$f":"'APPEL '!J1287","v":0},null,null,null,null,{"$f":"'APPEL '!BH1287","v":0},null,null,null,null,null,0,"23-25,9","24-31,9","24-27,9",null,null,null,null,null,null,null,null,{"$f":"'APPEL '!AC1287","v":0},null,null,null,null,null,null,null,null,null,null,null,null,null,null,null,null,null,null,null,null,null,null,null,null,null,null,null,null,null,null,null,null,null,null,null,null,null,null,null,null,null,null,null,null,null,null,null,null,null,null,null,null,null,null,null,null,null,null,null,null,null,null,null,null,null,null,{"$f":"'APPEL '!AH1287","v":0}]
[{"$f":"'APPEL '!A1293","v":18},{"$f":"'APPEL '!B1293","v":0},{"$f":"'APPEL '!E1293","v":0},null,null,null,{"$f":"'APPEL '!O1293","v":0},{"$f":"'APPEL '!R1293","v":0},{"$f":"'APPEL '!J1293","v":0},null,null,null,null,{"$f":"'APPEL '!BH1293","v":0},null,null,null,null,null,0,"23-25,9","24-31,9","24-27,9",null,null,null,null,null,null,null,null,{"$f":"'APPEL '!AC1293","v":0},null,null,null,null,null,null,null,null,null,null,null,null,null,null,null,null,null,null,null,null,null,null,null,null,null,null,null,null,null,null,null,null,null,null,null,null,null,null,null,null,null,null,null,null,null,null,null,null,null,null,null,null,null,null,null,null,null,null,null,null,null,null,null,null,null,null,{"$f":"'APPEL '!AH1293","v":0}]
[{"$f":"'APPEL '!A1298","v":18},{"$f":"'APPEL '!B1298","v":0},{"$f":"'APPEL '!E1298","v":0},null,null,null,{"$f":"'APPEL '!O1298","v":0},{"$f":"'APPEL '!R1298","v":0},{"$f":"'APPEL '!J1298","v":0},null,null,null,null,{"$f":"'APPEL '!BH1298","v":0},null,null,null,null,null,0,"23-25,9","24-31,9","24-27,9",null,null,null,null,null,null,null,null,{"$f":"'APPEL '!AC1298","v":0},null,null,null,null,null,null,null,null,null,null,null,null,null,null,null,null,null,null,null,null,null,null,null,null,null,null,null,null,null,null,null,null,null,null,null,null,null,null,null,null,null,null,null,null,null,null,null,null,null,null,null,null,null,null,null,null,null,null,null,null,null,null,null,null,null,null,{"$f":"'APPEL '!AH1298","v":0}]
[{"$f":"'APPEL '!A1304","v":18},{"$f":"'APPEL '!B1304","v":0},{"$f":"'APPEL '!E1304","v":0},null,null,null,{"$f":"'APPEL '!O1304","v":0},{"$f":"'APPEL '!R1304","v":0},{"$f":"'APPEL '!J1304","v":0},null,null,null,null,{"$f":"'APPEL '!BH1304","v":0},null,null,null,null,null,0,"23-25,9","24-31,9","24-27,9",null,null,null,null,null,null,null,null,{"$f":"'APPEL '!AC1304","v":0},null,null,null,null,null,null,null,null,null,null,null,null,null,null,null,null,null,null,null,null,null,null,null,null,null,null,null,null,null,null,null,null,null,null,null,null,null,null,null,null,null,null,null,null,null,null,null,null,null,null,null,null,null,null,null,null,null,null,null,null,null,null,null,null,null,null,{"$f":"'APPEL '!AH1304","v":0}]
[{"$f":"'APPEL '!A1309","v":18},{"$f":"'APPEL '!B1309","v":0},{"$f":"'APPEL '!E1309","v":0},null,null,null,{"$f":"'APPEL '!O1309","v":0},{"$f":"'APPEL '!R1309","v":0},{"$f":"'APPEL '!J1309","v":0},null,null,null,null,{"$f":"'APPEL '!BH1309","v":0},null,null,null,null,null,0,"23-25,9","24-31,9","24-27,9",null,null,null,null,null,null,null,null,{"$f":"'APPEL '!AC1309","v":0},null,null,null,null,null,null,null,null,null,null,null,null,null,null,null,null,null,null,null,null,null,null,null,null,null,null,null,null,null,null,null,null,null,null,null,null,null,null,null,null,null,null,null,null,null,null,null,null,null,null,null,null,null,null,null,null,null,null,null,null,null,null,null,null,null,null,{"$f":"'APPEL '!AH1309","v":0}]
[{"$f":"'APPEL '!A1314","v":18},{"$f":"'APPEL '!B1314","v":0},{"$f":"'APPEL '!E1314","v":0},null,null,null,{"$f":"'APPEL '!O1314","v":0},{"$f":"'APPEL '!R1314","v":0},{"$f":"'APPEL '!J1314","v":0},null,null,null,null,{"$f":"'APPEL '!BH1314","v":0},null,null,null,null,null,0,"23-25,9","24-31,9","24-27,9",null,null,null,null,null,null,null,null,{"$f":"'APPEL '!AC1314","v":0},null,null,null,null,null,null,null,null,null,null,null,null,null,null,null,null,null,null,null,null,null,null,null,null,null,null,null,null,null,null,null,null,null,null,null,null,null,null,null,null,null,null,null,null,null,null,null,null,null,null,null,null,null,null,null,null,null,null,null,null,null,null,null,null,null,null,{"$f":"'APPEL '!AH1314","v":0}]
[{"$f":"'APPEL '!A1321","v":18},{"$f":"'APPEL '!B1321","v":0},{"$f":"'APPEL '!E1321","v":0},null,null,null,{"$f":"'APPEL '!O1321","v":0},{"$f":"'APPEL '!R1321","v":0},{"$f":"'APPEL '!J1321","v":0},null,null,null,null,{"$f":"'APPEL '!BH1321","v":0},null,null,null,null,null,0,"23-25,9","24-31,9","24-27,9",null,null,null,null,null,null,null,null,{"$f":"'APPEL '!AC1321","v":0},null,null,null,null,null,null,null,null,null,null,null,null,null,null,null,null,null,null,null,null,null,null,null,null,null,null,null,null,null,null,null,null,null,null,null,null,null,null,null,null,null,null,null,null,null,null,null,null,null,null,null,null,null,null,null,null,null,null,null,null,null,null,null,null,null,null,{"$f":"'APPEL '!AH1321","v":0}]
[{"$f":"'APPEL '!A1326","v":18},{"$f":"'APPEL '!B1326","v":0},{"$f":"'APPEL '!E1326","v":0},null,null,null,{"$f":"'APPEL '!O1326","v":0},{"$f":"'APPEL '!R1326","v":0},{"$f":"'APPEL '!J1326","v":0},null,null,null,null,{"$f":"'APPEL '!BH1326","v":0},null,null,null,null,null,0,"23-25,9","24-31,9","24-27,9",null,null,null,null,null,null,null,null,{"$f":"'APPEL '!AC1326","v":0},null,null,null,null,null,null,null,null,null,null,null,null,null,null,null,null,null,null,null,null,null,null,null,null,null,null,null,null,null,null,null,null,null,null,null,null,null,null,null,null,null,null,null,null,null,null,null,null,null,null,null,null,null,null,null,null,null,null,null,null,null,null,null,null,null,null,{"$f":"'APPEL '!AH1326","v":0}]
[{"$f":"'APPEL '!A1327","v":18},{"$f":"'APPEL '!B1327","v":0},{"$f":"'APPEL '!E1327","v":0},null,null,null,{"$f":"'APPEL '!O1327","v":0},{"$f":"'APPEL '!R1327","v":0},{"$f":"'APPEL '!J1327","v":0},null,null,null,null,{"$f":"'APPEL '!BH1327","v":0},null,null,null,null,null,0,"23-25,9","24-31,9","24-27,9",null,null,null,null,null,null,null,null,{"$f":"'APPEL '!AC1327","v":0},null,null,null,null,null,null,null,null,null,null,null,null,null,null,null,null,null,null,null,null,null,null,null,null,null,null,null,null,null,null,null,null,null,null,null,null,null,null,null,null,null,null,null,null,null,null,null,null,null,null,null,null,null,null,null,null,null,null,null,null,null,null,null,null,null,null,{"$f":"'APPEL '!AH1327","v":0}]
[{"$f":"'APPEL '!A1332","v":18},{"$f":"'APPEL '!B1332","v":0},{"$f":"'APPEL '!E1332","v":0},null,null,null,{"$f":"'APPEL '!O1332","v":0},{"$f":"'APPEL '!R1332","v":0},{"$f":"'APPEL '!J1332","v":0},null,null,null,null,{"$f":"'APPEL '!BH1332","v":0},null,null,null,null,null,0,"23-25,9","24-31,9","24-27,9",null,null,null,null,null,null,null,null,{"$f":"'APPEL '!AC1332","v":0},null,null,null,null,null,null,null,null,null,null,null,null,null,null,null,null,null,null,null,null,null,null,null,null,null,null,null,null,null,null,null,null,null,null,null,null,null,null,null,null,null,null,null,null,null,null,null,null,null,null,null,null,null,null,null,null,null,null,null,null,null,null,null,null,null,null,{"$f":"'APPEL '!AH1332","v":0}]
[{"$f":"'APPEL '!A1339","v":18},{"$f":"'APPEL '!B1339","v":0},{"$f":"'APPEL '!E1339","v":0},null,null,null,{"$f":"'APPEL '!O1339","v":0},{"$f":"'APPEL '!R1339","v":0},{"$f":"'APPEL '!J1339","v":0},null,null,null,null,{"$f":"'APPEL '!BH1339","v":0},null,null,null,null,null,0,"23-25,9","24-31,9","24-27,9",null,null,null,null,null,null,null,null,{"$f":"'APPEL '!AC1339","v":0},null,null,null,null,null,null,null,null,null,null,null,null,null,null,null,null,null,null,null,null,null,null,null,null,null,null,null,null,null,null,null,null,null,null,null,null,null,null,null,null,null,null,null,null,null,null,null,null,null,null,null,null,null,null,null,null,null,null,null,null,null,null,null,null,null,null,{"$f":"'APPEL '!AH1339","v":0}]
[{"$f":"'APPEL '!A1344","v":18},{"$f":"'APPEL '!B1344","v":0},{"$f":"'APPEL '!E1344","v":0},null,null,null,{"$f":"'APPEL '!O1344","v":0},{"$f":"'APPEL '!R1344","v":0},{"$f":"'APPEL '!J1344","v":0},null,null,null,null,{"$f":"'APPEL '!BH1344","v":0},null,null,null,null,null,0,"23-25,9","24-31,9","24-27,9",null,null,null,null,null,null,null,null,{"$f":"'APPEL '!AC1344","v":0},null,null,null,null,null,null,null,null,null,null,null,null,null,null,null,null,null,null,null,null,null,null,null,null,null,null,null,null,null,null,null,null,null,null,null,null,null,null,null,null,null,null,null,null,null,null,null,null,null,null,null,null,null,null,null,null,null,null,null,null,null,null,null,null,null,null,{"$f":"'APPEL '!AH1344","v":0}]
[{"$f":"'APPEL '!A1349","v":18},{"$f":"'APPEL '!B1349","v":0},{"$f":"'APPEL '!E1349","v":0},null,null,null,{"$f":"'APPEL '!O1349","v":0},{"$f":"'APPEL '!R1349","v":0},{"$f":"'APPEL '!J1349","v":0},null,null,null,null,{"$f":"'APPEL '!BH1349","v":0},null,null,null,null,null,0,"23-25,9","24-31,9","24-27,9",null,null,null,null,null,null,null,null,{"$f":"'APPEL '!AC1349","v":0},null,null,null,null,null,null,null,null,null,null,null,null,null,null,null,null,null,null,null,null,null,null,null,null,null,null,null,null,null,null,null,null,null,null,null,null,null,null,null,null,null,null,null,null,null,null,null,null,null,null,null,null,null,null,null,null,null,null,null,null,null,null,null,null,null,null,{"$f":"'APPEL '!AH1349","v":0}]
[{"$f":"'APPEL '!A1354","v":18},{"$f":"'APPEL '!B1354","v":0},{"$f":"'APPEL '!E1354","v":0},null,null,null,{"$f":"'APPEL '!O1354","v":0},{"$f":"'APPEL '!R1354","v":0},{"$f":"'APPEL '!J1354","v":0},null,null,null,null,{"$f":"'APPEL '!BH1354","v":0},null,null,null,null,null,0,"23-25,9","24-31,9","24-27,9",null,null,null,null,null,null,null,null,{"$f":"'APPEL '!AC1354","v":0},null,null,null,null,null,null,null,null,null,null,null,null,null,null,null,null,null,null,null,null,null,null,null,null,null,null,null,null,null,null,null,null,null,null,null,null,null,null,null,null,null,null,null,null,null,null,null,null,null,null,null,null,null,null,null,null,null,null,null,null,null,null,null,null,null,null,{"$f":"'APPEL '!AH1354","v":0}]
[{"$f":"'APPEL '!A1360","v":18},{"$f":"'APPEL '!B1360","v":0},{"$f":"'APPEL '!E1360","v":0},null,null,null,{"$f":"'APPEL '!O1360","v":0},{"$f":"'APPEL '!R1360","v":0},{"$f":"'APPEL '!J1360","v":0},null,null,null,null,{"$f":"'APPEL '!BH1360","v":0},null,null,null,null,null,0,"23-25,9","24-31,9","24-27,9",null,null,null,null,null,null,null,null,{"$f":"'APPEL '!AC1360","v":0},null,null,null,null,null,null,null,null,null,null,null,null,null,null,null,null,null,null,null,null,null,null,null,null,null,null,null,null,null,null,null,null,null,null,null,null,null,null,null,null,null,null,null,null,null,null,null,null,null,null,null,null,null,null,null,null,null,null,null,null,null,null,null,null,null,null,{"$f":"'APPEL '!AH1360","v":0}]
[{"$f":"'APPEL '!A1364","v":18},{"$f":"'APPEL '!B1364","v":0},{"$f":"'APPEL '!E1364","v":0},null,null,null,{"$f":"'APPEL '!O1364","v":0},{"$f":"'APPEL '!R1364","v":0},{"$f":"'APPEL '!J1364","v":0},null,null,null,null,{"$f":"'APPEL '!BH1364","v":0},null,null,null,null,null,0,"23-25,9","24-31,9","24-27,9",null,null,null,null,null,null,null,null,{"$f":"'APPEL '!AC1364","v":0},null,null,null,null,null,null,null,null,null,null,null,null,null,null,null,null,null,null,null,null,null,null,null,null,null,null,null,null,null,null,null,null,null,null,null,null,null,null,null,null,null,null,null,null,null,null,null,null,null,null,null,null,null,null,null,null,null,null,null,null,null,null,null,null,null,null,{"$f":"'APPEL '!AH1364","v":0}]
[{"$f":"'APPEL '!A1372","v":18},{"$f":"'APPEL '!B1372","v":0},{"$f":"'APPEL '!E1372","v":0},null,null,null,{"$f":"'APPEL '!O1372","v":0},{"$f":"'APPEL '!R1372","v":0},{"$f":"'APPEL '!J1372","v":0},null,null,null,null,{"$f":"'APPEL '!BH1372","v":0},null,null,null,null,null,0,"23-25,9","24-31,9","24-27,9",null,null,null,null,null,null,null,null,{"$f":"'APPEL '!AC1372","v":0},null,null,null,null,null,null,null,null,null,null,null,null,null,null,null,null,null,null,null,null,null,null,null,null,null,null,null,null,null,null,null,null,null,null,null,null,null,null,null,null,null,null,null,null,null,null,null,null,null,null,null,null,null,null,null,null,null,null,null,null,null,null,null,null,null,null,{"$f":"'APPEL '!AH1372","v":0}]
[{"$f":"'APPEL '!A1377","v":18},{"$f":"'APPEL '!B1377","v":0},{"$f":"'APPEL '!E1377","v":0},null,null,null,{"$f":"'APPEL '!O1377","v":0},{"$f":"'APPEL '!R1377","v":0},{"$f":"'APPEL '!J1377","v":0},null,null,null,null,{"$f":"'APPEL '!BH1377","v":0},null,null,null,null,null,0,"23-25,9","24-31,9","24-27,9",null,null,null,null,null,null,null,null,{"$f":"'APPEL '!AC1377","v":0},null,null,null,null,null,null,null,null,null,null,null,null,null,null,null,null,null,null,null,null,null,null,null,null,null,null,null,null,null,null,null,null,null,null,null,null,null,null,null,null,null,null,null,null,null,null,null,null,null,null,null,null,null,null,null,null,null,null,null,null,null,null,null,null,null,null,{"$f":"'APPEL '!AH1377","v":0}]
[{"$f":"'APPEL '!A1382","v":18},{"$f":"'APPEL '!B1382","v":0},{"$f":"'APPEL '!E1382","v":0},null,null,null,{"$f":"'APPEL '!O1382","v":0},{"$f":"'APPEL '!R1382","v":0},{"$f":"'APPEL '!J1382","v":0},null,null,null,null,{"$f":"'APPEL '!BH1382","v":0},null,null,null,null,null,0,"23-25,9","24-31,9","24-27,9",null,null,null,null,null,null,null,null,{"$f":"'APPEL '!AC1382","v":0},null,null,null,null,null,null,null,null,null,null,null,null,null,null,null,null,null,null,null,null,null,null,null,null,null,null,null,null,null,null,null,null,null,null,null,null,null,null,null,null,null,null,null,null,null,null,null,null,null,null,null,null,null,null,null,null,null,null,null,null,null,null,null,null,null,null,{"$f":"'APPEL '!AH1382","v":0}]
[{"$f":"'APPEL '!A1388","v":18},{"$f":"'APPEL '!B1388","v":0},{"$f":"'APPEL '!E1388","v":0},null,null,null,{"$f":"'APPEL '!O1388","v":0},{"$f":"'APPEL '!R1388","v":0},{"$f":"'APPEL '!J1388","v":0},null,null,null,null,{"$f":"'APPEL '!BH1388","v":0},null,null,null,null,null,0,"23-25,9","24-31,9","24-27,9",null,null,null,null,null,null,null,null,{"$f":"'APPEL '!AC1388","v":0},null,null,null,null,null,null,null,null,null,null,null,null,null,null,null,null,null,null,null,null,null,null,null,null,null,null,null,null,null,null,null,null,null,null,null,null,null,null,null,null,null,null,null,null,null,null,null,null,null,null,null,null,null,null,null,null,null,null,null,null,null,null,null,null,null,null,{"$f":"'APPEL '!AH1388","v":0}]
[{"$f":"'APPEL '!A1389","v":18},{"$f":"'APPEL '!B1389","v":0},{"$f":"'APPEL '!E1389","v":0},null,null,null,{"$f":"'APPEL '!O1389","v":0},{"$f":"'APPEL '!R1389","v":0},{"$f":"'APPEL '!J1389","v":0},null,null,null,null,{"$f":"'APPEL '!BH1389","v":0},null,null,null,null,null,0,"23-25,9","24-31,9","24-27,9",null,null,null,null,null,null,null,null,{"$f":"'APPEL '!AC1389","v":0},null,null,null,null,null,null,null,null,null,null,null,null,null,null,null,null,null,null,null,null,null,null,null,null,null,null,null,null,null,null,null,null,null,null,null,null,null,null,null,null,null,null,null,null,null,null,null,null,null,null,null,null,null,null,null,null,null,null,null,null,null,null,null,null,null,null,{"$f":"'APPEL '!AH1389","v":0}]
[{"$f":"'APPEL '!A1395","v":18},{"$f":"'APPEL '!B1395","v":0},{"$f":"'APPEL '!E1395","v":0},null,null,null,{"$f":"'APPEL '!O1395","v":0},{"$f":"'APPEL '!R1395","v":0},{"$f":"'APPEL '!J1395","v":0},null,null,null,null,{"$f":"'APPEL '!BH1395","v":0},null,null,null,null,null,0,"23-25,9","24-31,9","24-27,9",null,null,null,null,null,null,null,null,{"$f":"'APPEL '!AC1395","v":0},null,null,null,null,null,null,null,null,null,null,null,null,null,null,null,null,null,null,null,null,null,null,null,null,null,null,null,null,null,null,null,null,null,null,null,null,null,null,null,null,null,null,null,null,null,null,null,null,null,null,null,null,null,null,null,null,null,null,null,null,null,null,null,null,null,null,{"$f":"'APPEL '!AH1395","v":0}]
[{"$f":"'APPEL '!A1400","v":18},{"$f":"'APPEL '!B1400","v":0},{"$f":"'APPEL '!E1400","v":0},null,null,null,{"$f":"'APPEL '!O1400","v":0},{"$f":"'APPEL '!R1400","v":0},{"$f":"'APPEL '!J1400","v":0},null,null,null,null,{"$f":"'APPEL '!BH1400","v":0},null,null,null,null,null,0,"23-25,9","24-31,9","24-27,9",null,null,null,null,null,null,null,null,{"$f":"'APPEL '!AC1400","v":0},null,null,null,null,null,null,null,null,null,null,null,null,null,null,null,null,null,null,null,null,null,null,null,null,null,null,null,null,null,null,null,null,null,null,null,null,null,null,null,null,null,null,null,null,null,null,null,null,null,null,null,null,null,null,null,null,null,null,null,null,null,null,null,null,null,null,{"$f":"'APPEL '!AH1400","v":0}]
[{"$f":"'APPEL '!A1405","v":18},{"$f":"'APPEL '!B1405","v":0},{"$f":"'APPEL '!E1405","v":0},null,null,null,{"$f":"'APPEL '!O1405","v":0},{"$f":"'APPEL '!R1405","v":0},{"$f":"'APPEL '!J1405","v":0},null,null,null,null,{"$f":"'APPEL '!BH1405","v":0},null,null,null,null,null,0,"23-25,9","24-31,9","24-27,9",null,null,null,null,null,null,null,null,{"$f":"'APPEL '!AC1405","v":0},null,null,null,null,null,null,null,null,null,null,null,null,null,null,null,null,null,null,null,null,null,null,null,null,null,null,null,null,null,null,null,null,null,null,null,null,null,null,null,null,null,null,null,null,null,null,null,null,null,null,null,null,null,null,null,null,null,null,null,null,null,null,null,null,null,null,{"$f":"'APPEL '!AH1405","v":0}]
[{"$f":"'APPEL '!A1411","v":18},{"$f":"'APPEL '!B1411","v":0},{"$f":"'APPEL '!E1411","v":0},null,null,null,{"$f":"'APPEL '!O1411","v":0},{"$f":"'APPEL '!R1411","v":0},{"$f":"'APPEL '!J1411","v":0},null,null,null,null,{"$f":"'APPEL '!BH1411","v":0},null,null,null,null,null,{"$f":"R1411+(S1411/7)","v":0},{"$f":"IF(T1411<25.9,\"23-25,9\",IF(T1411<27.9,\"26-27,9\",IF(T1411<31.9,\"28-31,9\",IF(T1411<34.9,\"32-34,9\",IF(T1411<36.9,\"35-36,9\",IF(T1411<40.2,\"37-40,2\",IF(T1411<42,\"40,3-42\",IF(T1411>42,\">42\"))))))))","v":"23-25,9"},{"$f":"IF(T1411<31.9,\"24-31,9\",IF(T1411<42,\"32-42\",IF(T1411>=42,\">42\")))","v":"24-31,9"},{"$f":"IF(T1411<27.9,\"24-27,9\",IF(T1411<42,\"28-42\",IF(T1411>=42,\">42\")))","v":"24-27,9"},null,null,null,null,null,null,null,null,{"$f":"'APPEL '!AC1411","v":0},null,null,null,null,null,null,null,null,null,null,null,null,null,null,null,null,null,null,null,null,null,null,null,null,null,null,null,null,null,null,null,null,null,null,null,null,null,null,null,null,null,null,null,null,null,null,null,null,null,null,null,null,null,null,null,null,null,null,null,null,null,null,null,null,null,null,{"$f":"'APPEL '!AH1411","v":0}]
[{"$f":"'APPEL '!A1420","v":18},{"$f":"'APPEL '!B1420","v":0},{"$f":"'APPEL '!E1420","v":0},null,null,null,{"$f":"'APPEL '!O1420","v":0},{"$f":"'APPEL '!R1420","v":0},{"$f":"'APPEL '!J1420","v":0},null,null,null,null,{"$f":"'APPEL '!BH1420","v":0},null,null,null,null,null,0,"23-25,9","24-31,9","24-27,9",null,null,null,null,null,null,null,null,{"$f":"'APPEL '!AC1420","v":0},null,null,null,null,null,null,null,null,null,null,null,null,null,null,null,null,null,null,null,null,null,null,null,null,null,null,null,null,null,null,null,null,null,null,null,null,null,null,null,null,null,null,null,null,null,null,null,null,null,null,null,null,null,null,null,null,null,null,null,null,null,null,null,null,null,null,{"$f":"'APPEL '!AH1420","v":0}]
[{"$f":"'APPEL '!A1422","v":18},{"$f":"'APPEL '!B1422","v":0},{"$f":"'APPEL '!E1422","v":0},null,null,null,{"$f":"'APPEL '!O1422","v":0},{"$f":"'APPEL '!R1422","v":0},{"$f":"'APPEL '!J1422","v":0},null,null,null,null,{"$f":"'APPEL '!BH1422","v":0},null,null,null,null,null,0,"23-25,9","24-31,9","24-27,9",null,null,null,null,null,null,null,null,{"$f":"'APPEL '!AC1422","v":0},null,null,null,null,null,null,null,null,null,null,null,null,null,null,null,null,null,null,null,null,null,null,null,null,null,null,null,null,null,null,null,null,null,null,null,null,null,null,null,null,null,null,null,null,null,null,null,null,null,null,null,null,null,null,null,null,null,null,null,null,null,null,null,null,null,null,{"$f":"'APPEL '!AH1422","v":0}]
[{"$f":"'APPEL '!A1428","v":18},{"$f":"'APPEL '!B1428","v":0},{"$f":"'APPEL '!E1428","v":0},null,null,null,{"$f":"'APPEL '!O1428","v":0},{"$f":"'APPEL '!R1428","v":0},{"$f":"'APPEL '!J1428","v":0},null,null,null,null,{"$f":"'APPEL '!BH1428","v":0},null,null,null,null,null,0,"23-25,9","24-31,9","24-27,9",null,null,null,null,null,null,null,null,{"$f":"'APPEL '!AC1428","v":0},null,null,null,null,null,null,null,null,null,null,null,null,null,null,null,null,null,null,null,null,null,null,null,null,null,null,null,null,null,null,null,null,null,null,null,null,null,null,null,null,null,null,null,null,null,null,null,null,null,null,null,null,null,null,null,null,null,null,null,null,null,null,null,null,null,null,{"$f":"'APPEL '!AH1428","v":0}]
[{"$f":"'APPEL '!A1433","v":18},{"$f":"'APPEL '!B1433","v":0},{"$f":"'APPEL '!E1433","v":0},null,null,null,{"$f":"'APPEL '!O1433","v":0},{"$f":"'APPEL '!R1433","v":0},{"$f":"'APPEL '!J1433","v":0},null,null,null,null,{"$f":"'APPEL '!BH1433","v":0},null,null,null,null,null,0,"23-25,9","24-31,9","24-27,9",null,null,null,null,null,null,null,null,{"$f":"'APPEL '!AC1433","v":0},null,null,null,null,null,null,null,null,null,null,null,null,null,null,null,null,null,null,null,null,null,null,null,null,null,null,null,null,null,null,null,null,null,null,null,null,null,null,null,null,null,null,null,null,null,null,null,null,null,null,null,null,null,null,null,null,null,null,null,null,null,null,null,null,null,null,{"$f":"'APPEL '!AH1433","v":0}]
[{"$f":"'APPEL '!A1439","v":18},{"$f":"'APPEL '!B1439","v":0},{"$f":"'APPEL '!E1439","v":0},null,null,null,{"$f":"'APPEL '!O1439","v":0},{"$f":"'APPEL '!R1439","v":0},{"$f":"'APPEL '!J1439","v":0},null,null,null,null,{"$f":"'APPEL '!BH1439","v":0},null,null,null,null,null,0,"23-25,9","24-31,9","24-27,9",null,null,null,null,null,null,null,null,{"$f":"'APPEL '!AC1439","v":0},null,null,null,null,null,null,null,null,null,null,null,null,null,null,null,null,null,null,null,null,null,null,null,null,null,null,null,null,null,null,null,null,null,null,null,null,null,null,null,null,null,null,null,null,null,null,null,null,null,null,null,null,null,null,null,null,null,null,null,null,null,null,null,null,null,null,{"$f":"'APPEL '!AH1439","v":0}]
[{"$f":"'APPEL '!A1445","v":18},{"$f":"'APPEL '!B1445","v":0},{"$f":"'APPEL '!E1445","v":0},null,null,null,{"$f":"'APPEL '!O1445","v":0},{"$f":"'APPEL '!R1445","v":0},{"$f":"'APPEL '!J1445","v":0},null,null,null,null,{"$f":"'APPEL '!BH1445","v":0},null,null,null,null,null,0,"23-25,9","24-31,9","24-27,9",null,null,null,null,null,null,null,null,{"$f":"'APPEL '!AC1445","v":0},null,null,null,null,null,null,null,null,null,null,null,null,null,null,null,null,null,null,null,null,null,null,null,null,null,null,null,null,null,null,null,null,null,null,null,null,null,null,null,null,null,null,null,null,null,null,null,null,null,null,null,null,null,null,null,null,null,null,null,null,null,null,null,null,null,null,{"$f":"'APPEL '!AH1445","v":0}]
[{"$f":"'APPEL '!A1450","v":18},{"$f":"'APPEL '!B1450","v":0},{"$f":"'APPEL '!E1450","v":0},null,null,null,{"$f":"'APPEL '!O1450","v":0},{"$f":"'APPEL '!R1450","v":0},{"$f":"'APPEL '!J1450","v":0},null,null,null,null,{"$f":"'APPEL '!BH1450","v":0},null,null,null,null,null,0,"23-25,9","24-31,9","24-27,9",null,null,null,null,null,null,null,null,{"$f":"'APPEL '!AC1450","v":0},null,null,null,null,null,null,null,null,null,null,null,null,null,null,null,null,null,null,null,null,null,null,null,null,null,null,null,null,null,null,null,null,null,null,null,null,null,null,null,null,null,null,null,null,null,null,null,null,null,null,null,null,null,null,null,null,null,null,null,null,null,null,null,null,null,null,{"$f":"'APPEL '!AH1450","v":0}]
[{"$f":"'APPEL '!A1456","v":18},{"$f":"'APPEL '!B1456","v":0},{"$f":"'APPEL '!E1456","v":0},null,null,null,{"$f":"'APPEL '!O1456","v":0},{"$f":"'APPEL '!R1456","v":0},{"$f":"'APPEL '!J1456","v":0},null,null,null,null,{"$f":"'APPEL '!BH1456","v":0},null,null,null,null,null,0,"23-25,9","24-31,9","24-27,9",null,null,null,null,null,null,null,null,{"$f":"'APPEL '!AC1456","v":0},null,null,null,null,null,null,null,null,null,null,null,null,null,null,null,null,null,null,null,null,null,null,null,null,null,null,null,null,null,null,null,null,null,null,null,null,null,null,null,null,null,null,null,null,null,null,null,null,null,null,null,null,null,null,null,null,null,null,null,null,null,null,null,null,null,null,{"$f":"'APPEL '!AH1456","v":0}]
[{"$f":"'APPEL '!A1461","v":18},{"$f":"'APPEL '!B1461","v":0},{"$f":"'APPEL '!E1461","v":0},null,null,null,{"$f":"'APPEL '!O1461","v":0},{"$f":"'APPEL '!R1461","v":0},{"$f":"'APPEL '!J1461","v":0},null,null,null,null,{"$f":"'APPEL '!BH1461","v":0},null,null,null,null,null,0,"23-25,9","24-31,9","24-27,9",null,null,null,null,null,null,null,null,{"$f":"'APPEL '!AC1461","v":0},null,null,null,null,null,null,null,null,null,null,null,null,null,null,null,null,null,null,null,null,null,null,null,null,null,null,null,null,null,null,null,null,null,null,null,null,null,null,null,null,null,null,null,null,null,null,null,null,null,null,null,null,null,null,null,null,null,null,null,null,null,null,null,null,null,null,{"$f":"'APPEL '!AH1461","v":0}]
[{"$f":"'APPEL '!A1466","v":18},{"$f":"'APPEL '!B1466","v":0},{"$f":"'APPEL '!E1466","v":0},null,null,null,{"$f":"'APPEL '!O1466","v":0},{"$f":"'APPEL '!R1466","v":0},{"$f":"'APPEL '!J1466","v":0},null,null,null,null,{"$f":"'APPEL '!BH1466","v":0},null,null,null,null,null,0,"23-25,9","24-31,9","24-27,9",null,null,null,null,null,null,null,null,{"$f":"'APPEL '!AC1466","v":0},null,null,null,null,null,null,null,null,null,null,null,null,null,null,null,null,null,null,null,null,null,null,null,null,null,null,null,null,null,null,null,null,null,null,null,null,null,null,null,null,null,null,null,null,null,null,null,null,null,null,null,null,null,null,null,null,null,null,null,null,null,null,null,null,null,null,{"$f":"'APPEL '!AH1466","v":0}]
[{"$f":"'APPEL '!A1470","v":18},{"$f":"'APPEL '!B1470","v":0},{"$f":"'APPEL '!E1470","v":0},null,null,null,{"$f":"'APPEL '!O1470","v":0},{"$f":"'APPEL '!R1470","v":0},{"$f":"'APPEL '!J1470","v":0},null,null,null,null,{"$f":"'APPEL '!BH1470","v":0},null,null,null,null,null,0,"23-25,9","24-31,9","24-27,9",null,null,null,null,null,null,null,null,{"$f":"'APPEL '!AC1470","v":0},null,null,null,null,null,null,null,null,null,null,null,null,null,null,null,null,null,null,null,null,null,null,null,null,null,null,null,null,null,null,null,null,null,null,null,null,null,null,null,null,null,null,null,null,null,null,null,null,null,null,null,null,null,null,null,null,null,null,null,null,null,null,null,null,null,null,{"$f":"'APPEL '!AH1470","v":0}]
[{"$f":"'APPEL '!A1473","v":18},{"$f":"'APPEL '!B1473","v":0},{"$f":"'APPEL '!E1473","v":0},null,null,null,{"$f":"'APPEL '!O1473","v":0},{"$f":"'APPEL '!R1473","v":0},{"$f":"'APPEL '!J1473","v":0},null,null,null,null,{"$f":"'APPEL '!BH1473","v":0},null,null,null,null,null,0,"23-25,9","24-31,9","24-27,9",null,null,null,null,null,null,null,null,{"$f":"'APPEL '!AC1473","v":0},null,null,null,null,null,null,null,null,null,null,null,null,null,null,null,null,null,null,null,null,null,null,null,null,null,null,null,null,null,null,null,null,null,null,null,null,null,null,null,null,null,null,null,null,null,null,null,null,null,null,null,null,null,null,null,null,null,null,null,null,null,null,null,null,null,null,{"$f":"'APPEL '!AH1473","v":0}]
[{"$f":"'APPEL '!A1479","v":18},{"$f":"'APPEL '!B1479","v":0},{"$f":"'APPEL '!E1479","v":0},null,null,null,{"$f":"'APPEL '!O1479","v":0},{"$f":"'APPEL '!R1479","v":0},{"$f":"'APPEL '!J1479","v":0},null,null,null,null,{"$f":"'APPEL '!BH1479","v":0},null,null,null,null,null,0,"23-25,9","24-31,9","24-27,9",null,null,null,null,null,null,null,null,{"$f":"'APPEL '!AC1479","v":0},null,null,null,null,null,null,null,null,null,null,null,null,null,null,null,null,null,null,null,null,null,null,null,null,null,null,null,null,null,null,null,null,null,null,null,null,null,null,null,null,null,null,null,null,null,null,null,null,null,null,null,null,null,null,null,null,null,null,null,null,null,null,null,null,null,null,{"$f":"'APPEL '!AH1479","v":0}]
[{"$f":"'APPEL '!A1484","v":18},{"$f":"'APPEL '!B1484","v":0},{"$f":"'APPEL '!E1484","v":0},null,null,null,{"$f":"'APPEL '!O1484","v":0},{"$f":"'APPEL '!R1484","v":0},{"$f":"'APPEL '!J1484","v":0},null,null,null,null,{"$f":"'APPEL '!BH1484","v":0},null,null,null,null,null,0,"23-25,9","24-31,9","24-27,9",null,null,null,null,null,null,null,null,{"$f":"'APPEL '!AC1484","v":0},null,null,null,null,null,null,null,null,null,null,null,null,null,null,null,null,null,null,null,null,null,null,null,null,null,null,null,null,null,null,null,null,null,null,null,null,null,null,null,null,null,null,null,null,null,null,null,null,null,null,null,null,null,null,null,null,null,null,null,null,null,null,null,null,null,null,{"$f":"'APPEL '!AH1484","v":0}]
[{"$f":"'APPEL '!A1489","v":18},{"$f":"'APPEL '!B1489","v":0},{"$f":"'APPEL '!E1489","v":0},null,null,null,{"$f":"'APPEL '!O1489","v":0},{"$f":"'APPEL '!R1489","v":0},{"$f":"'APPEL '!J1489","v":0},null,null,null,null,{"$f":"'APPEL '!BH1489","v":0},null,null,null,null,null,0,"23-25,9","24-31,9","24-27,9",null,null,null,null,null,null,null,null,{"$f":"'APPEL '!AC1489","v":0},null,null,null,null,null,null,null,null,null,null,null,null,null,null,null,null,null,null,null,null,null,null,null,null,null,null,null,null,null,null,null,null,null,null,null,null,null,null,null,null,null,null,null,null,null,null,null,null,null,null,null,null,null,null,null,null,null,null,null,null,null,null,null,null,null,null,{"$f":"'APPEL '!AH1489","v":0}]
[{"$f":"'APPEL '!A1495","v":18},{"$f":"'APPEL '!B1495","v":0},{"$f":"'APPEL '!E1495","v":0},null,null,null,{"$f":"'APPEL '!O1495","v":0},{"$f":"'APPEL '!R1495","v":0},{"$f":"'APPEL '!J1495","v":0},null,null,null,null,{"$f":"'APPEL '!BH1495","v":0},null,null,null,null,null,0,"23-25,9","24-31,9","24-27,9",null,null,null,null,null,null,null,null,{"$f":"'APPEL '!AC1495","v":0},null,null,null,null,null,null,null,null,null,null,null,null,null,null,null,null,null,null,null,null,null,null,null,null,null,null,null,null,null,null,null,null,null,null,null,null,null,null,null,null,null,null,null,null,null,null,null,null,null,null,null,null,null,null,null,null,null,null,null,null,null,null,null,null,null,null,{"$f":"'APPEL '!AH1495","v":0}]
[{"$f":"'APPEL '!A1501","v":18},{"$f":"'APPEL '!B1501","v":0},{"$f":"'APPEL '!E1501","v":0},null,null,null,{"$f":"'APPEL '!O1501","v":0},{"$f":"'APPEL '!R1501","v":0},{"$f":"'APPEL '!J1501","v":0},null,null,null,null,{"$f":"'APPEL '!BH1501","v":0},null,null,null,null,null,0,"23-25,9","24-31,9","24-27,9",null,null,null,null,null,null,null,null,{"$f":"'APPEL '!AC1501","v":0},null,null,null,null,null,null,null,null,null,null,null,null,null,null,null,null,null,null,null,null,null,null,null,null,null,null,null,null,null,null,null,null,null,null,null,null,null,null,null,null,null,null,null,null,null,null,null,null,null,null,null,null,null,null,null,null,null,null,null,null,null,null,null,null,null,null,{"$f":"'APPEL '!AH1501","v":0}]
[{"$f":"'APPEL '!A1507","v":18},{"$f":"'APPEL '!B1507","v":0},{"$f":"'APPEL '!E1507","v":0},null,null,null,{"$f":"'APPEL '!O1507","v":0},{"$f":"'APPEL '!R1507","v":0},{"$f":"'APPEL '!J1507","v":0},null,null,null,null,{"$f":"'APPEL '!BH1507","v":0},null,null,null,null,null,0,"23-25,9","24-31,9","24-27,9",null,null,null,null,null,null,null,null,{"$f":"'APPEL '!AC1507","v":0},null,null,null,null,null,null,null,null,null,null,null,null,null,null,null,null,null,null,null,null,null,null,null,null,null,null,null,null,null,null,null,null,null,null,null,null,null,null,null,null,null,null,null,null,null,null,null,null,null,null,null,null,null,null,null,null,null,null,null,null,null,null,null,null,null,null,{"$f":"'APPEL '!AH1507","v":0}]
[{"$f":"'APPEL '!A1512","v":18},{"$f":"'APPEL '!B1512","v":0},{"$f":"'APPEL '!E1512","v":0},null,null,null,{"$f":"'APPEL '!O1512","v":0},{"$f":"'APPEL '!R1512","v":0},{"$f":"'APPEL '!J1512","v":0},null,null,null,null,{"$f":"'APPEL '!BH1512","v":0},null,null,null,null,null,0,"23-25,9","24-31,9","24-27,9",null,null,null,null,null,null,null,null,{"$f":"'APPEL '!AC1512","v":0},null,null,null,null,null,null,null,null,null,null,null,null,null,null,null,null,null,null,null,null,null,null,null,null,null,null,null,null,null,null,null,null,null,null,null,null,null,null,null,null,null,null,null,null,null,null,null,null,null,null,null,null,null,null,null,null,null,null,null,null,null,null,null,null,null,null,{"$f":"'APPEL '!AH1512","v":0}]
[{"$f":"'APPEL '!A1517","v":18},{"$f":"'APPEL '!B1517","v":0},{"$f":"'APPEL '!E1517","v":0},null,null,null,{"$f":"'APPEL '!O1517","v":0},{"$f":"'APPEL '!R1517","v":0},{"$f":"'APPEL '!J1517","v":0},null,null,null,null,{"$f":"'APPEL '!BH1517","v":0},null,null,null,null,null,0,"23-25,9","24-31,9","24-27,9",null,null,null,null,null,null,null,null,{"$f":"'APPEL '!AC1517","v":0},null,null,null,null,null,null,null,null,null,null,null,null,null,null,null,null,null,null,null,null,null,null,null,null,null,null,null,null,null,null,null,null,null,null,null,null,null,null,null,null,null,null,null,null,null,null,null,null,null,null,null,null,null,null,null,null,null,null,null,null,null,null,null,null,null,null,{"$f":"'APPEL '!AH1517","v":0}]
[{"$f":"'APPEL '!A1520","v":18},{"$f":"'APPEL '!B1520","v":0},{"$f":"'APPEL '!E1520","v":0},null,null,null,{"$f":"'APPEL '!O1520","v":0},{"$f":"'APPEL '!R1520","v":0},{"$f":"'APPEL '!J1520","v":0},null,null,null,null,{"$f":"'APPEL '!BH1520","v":0},null,null,null,null,null,0,"23-25,9","24-31,9","24-27,9",null,null,null,null,null,null,null,null,{"$f":"'APPEL '!AC1520","v":0},null,null,null,null,null,null,null,null,null,null,null,null,null,null,null,null,null,null,null,null,null,null,null,null,null,null,null,null,null,null,null,null,null,null,null,null,null,null,null,null,null,null,null,null,null,null,null,null,null,null,null,null,null,null,null,null,null,null,null,null,null,null,null,null,null,null,{"$f":"'APPEL '!AH1520","v":0}]
[{"$f":"'APPEL '!A1529","v":18},{"$f":"'APPEL '!B1529","v":0},{"$f":"'APPEL '!E1529","v":0},null,null,null,{"$f":"'APPEL '!O1529","v":0},{"$f":"'APPEL '!R1529","v":0},{"$f":"'APPEL '!J1529","v":0},null,null,null,null,{"$f":"'APPEL '!BH1529","v":0},null,null,null,null,null,0,"23-25,9","24-31,9","24-27,9",null,null,null,null,null,null,null,null,{"$f":"'APPEL '!AC1529","v":0},null,null,null,null,null,null,null,null,null,null,null,null,null,null,null,null,null,null,null,null,null,null,null,null,null,null,null,null,null,null,null,null,null,null,null,null,null,null,null,null,null,null,null,null,null,null,null,null,null,null,null,null,null,null,null,null,null,null,null,null,null,null,null,null,null,null,{"$f":"'APPEL '!AH1529","v":0}]
[{"$f":"'APPEL '!A1534","v":18},{"$f":"'APPEL '!B1534","v":0},{"$f":"'APPEL '!E1534","v":0},null,null,null,{"$f":"'APPEL '!O1534","v":0},{"$f":"'APPEL '!R1534","v":0},{"$f":"'APPEL '!J1534","v":0},null,null,null,null,{"$f":"'APPEL '!BH1534","v":0},null,null,null,null,null,0,"23-25,9","24-31,9","24-27,9",null,null,null,null,null,null,null,null,{"$f":"'APPEL '!AC1534","v":0},null,null,null,null,null,null,null,null,null,null,null,null,null,null,null,null,null,null,null,null,null,null,null,null,null,null,null,null,null,null,null,null,null,null,null,null,null,null,null,null,null,null,null,null,null,null,null,null,null,null,null,null,null,null,null,null,null,null,null,null,null,null,null,null,null,null,{"$f":"'APPEL '!AH1534","v":0}]
[{"$f":"'APPEL '!A1535","v":18},{"$f":"'APPEL '!B1535","v":0},{"$f":"'APPEL '!E1535","v":0},null,null,null,{"$f":"'APPEL '!O1535","v":0},{"$f":"'APPEL '!R1535","v":0},{"$f":"'APPEL '!J1535","v":0},null,null,null,null,{"$f":"'APPEL '!BH1535","v":0},null,null,null,null,null,0,"23-25,9","24-31,9","24-27,9",null,null,null,null,null,null,null,null,{"$f":"'APPEL '!AC1535","v":0},null,null,null,null,null,null,null,null,null,null,null,null,null,null,null,null,null,null,null,null,null,null,null,null,null,null,null,null,null,null,null,null,null,null,null,null,null,null,null,null,null,null,null,null,null,null,null,null,null,null,null,null,null,null,null,null,null,null,null,null,null,null,null,null,null,null,{"$f":"'APPEL '!AH1535","v":0}]
[{"$f":"'APPEL '!A1540","v":18},{"$f":"'APPEL '!B1540","v":0},{"$f":"'APPEL '!E1540","v":0},null,null,null,{"$f":"'APPEL '!O1540","v":0},{"$f":"'APPEL '!R1540","v":0},{"$f":"'APPEL '!J1540","v":0},null,null,null,null,{"$f":"'APPEL '!BH1540","v":0},null,null,null,null,null,0,"23-25,9","24-31,9","24-27,9",null,null,null,null,null,null,null,null,{"$f":"'APPEL '!AC1540","v":0},null,null,null,null,null,null,null,null,null,null,null,null,null,null,null,null,null,null,null,null,null,null,null,null,null,null,null,null,null,null,null,null,null,null,null,null,null,null,null,null,null,null,null,null,null,null,null,null,null,null,null,null,null,null,null,null,null,null,null,null,null,null,null,null,null,null,{"$f":"'APPEL '!AH1540","v":0}]
[{"$f":"'APPEL '!A1545","v":18},{"$f":"'APPEL '!B1545","v":0},{"$f":"'APPEL '!E1545","v":0},null,null,null,{"$f":"'APPEL '!O1545","v":0},{"$f":"'APPEL '!R1545","v":0},{"$f":"'APPEL '!J1545","v":0},null,null,null,null,{"$f":"'APPEL '!BH1545","v":0},null,null,null,null,null,0,"23-25,9","24-31,9","24-27,9",null,null,null,null,null,null,null,null,{"$f":"'APPEL '!AC1545","v":0},null,null,null,null,null,null,null,null,null,null,null,null,null,null,null,null,null,null,null,null,null,null,null,null,null,null,null,null,null,null,null,null,null,null,null,null,null,null,null,null,null,null,null,null,null,null,null,null,null,null,null,null,null,null,null,null,null,null,null,null,null,null,null,null,null,null,{"$f":"'APPEL '!AH1545","v":0}]
[{"$f":"'APPEL '!A1551","v":18},{"$f":"'APPEL '!B1551","v":0},{"$f":"'APPEL '!E1551","v":0},null,null,null,{"$f":"'APPEL '!O1551","v":0},{"$f":"'APPEL '!R1551","v":0},{"$f":"'APPEL '!J1551","v":0},null,null,null,null,{"$f":"'APPEL '!BH1551","v":0},null,null,null,null,null,0,"23-25,9","24-31,9","24-27,9",null,null,null,null,null,null,null,null,{"$f":"'APPEL '!AC1551","v":0},null,null,null,null,null,null,null,null,null,null,null,null,null,null,null,null,null,null,null,null,null,null,null,null,null,null,null,null,null,null,null,null,null,null,null,null,null,null,null,null,null,null,null,null,null,null,null,null,null,null,null,null,null,null,null,null,null,null,null,null,null,null,null,null,null,null,{"$f":"'APPEL '!AH1551","v":0}]
[{"$f":"'APPEL '!A1552","v":18},{"$f":"'APPEL '!B1552","v":0},{"$f":"'APPEL '!E1552","v":0},null,null,null,{"$f":"'APPEL '!O1552","v":0},{"$f":"'APPEL '!R1552","v":0},{"$f":"'APPEL '!J1552","v":0},null,null,null,null,{"$f":"'APPEL '!BH1552","v":0},null,null,null,null,null,0,"23-25,9","24-31,9","24-27,9",null,null,null,null,null,null,null,null,{"$f":"'APPEL '!AC1552","v":0},null,null,null,null,null,null,null,null,null,null,null,null,null,null,null,null,null,null,null,null,null,null,null,null,null,null,null,null,null,null,null,null,null,null,null,null,null,null,null,null,null,null,null,null,null,null,null,null,null,null,null,null,null,null,null,null,null,null,null,null,null,null,null,null,null,null,{"$f":"'APPEL '!AH1552","v":0}]
[{"$f":"'APPEL '!A1553","v":18},{"$f":"'APPEL '!B1553","v":0},{"$f":"'APPEL '!E1553","v":0},null,null,null,{"$f":"'APPEL '!O1553","v":0},{"$f":"'APPEL '!R1553","v":0},{"$f":"'APPEL '!J1553","v":0},null,null,null,null,{"$f":"'APPEL '!BH1553","v":0},null,null,null,null,null,0,"23-25,9","24-31,9","24-27,9",null,null,null,null,null,null,null,null,{"$f":"'APPEL '!AC1553","v":0},null,null,null,null,null,null,null,null,null,null,null,null,null,null,null,null,null,null,null,null,null,null,null,null,null,null,null,null,null,null,null,null,null,null,null,null,null,null,null,null,null,null,null,null,null,null,null,null,null,null,null,null,null,null,null,null,null,null,null,null,null,null,null,null,null,null,{"$f":"'APPEL '!AH1553","v":0}]
[{"$f":"'APPEL '!A1554","v":18},{"$f":"'APPEL '!B1554","v":0},{"$f":"'APPEL '!E1554","v":0},null,null,null,{"$f":"'APPEL '!O1554","v":0},{"$f":"'APPEL '!R1554","v":0},{"$f":"'APPEL '!J1554","v":0},null,null,null,null,{"$f":"'APPEL '!BH1554","v":0},null,null,null,null,null,0,"23-25,9","24-31,9","24-27,9",null,null,null,null,null,null,null,null,{"$f":"'APPEL '!AC1554","v":0},null,null,null,null,null,null,null,null,null,null,null,null,null,null,null,null,null,null,null,null,null,null,null,null,null,null,null,null,null,null,null,null,null,null,null,null,null,null,null,null,null,null,null,null,null,null,null,null,null,null,null,null,null,null,null,null,null,null,null,null,null,null,null,null,null,null,{"$f":"'APPEL '!AH1554","v":0}]
[{"$f":"'APPEL '!A1555","v":18},{"$f":"'APPEL '!B1555","v":0},{"$f":"'APPEL '!E1555","v":0},null,null,null,{"$f":"'APPEL '!O1555","v":0},{"$f":"'APPEL '!R1555","v":0},{"$f":"'APPEL '!J1555","v":0},null,null,null,null,{"$f":"'APPEL '!BH1555","v":0},null,null,null,null,null,0,"23-25,9","24-31,9","24-27,9",null,null,null,null,null,null,null,null,{"$f":"'APPEL '!AC1555","v":0},null,null,null,null,null,null,null,null,null,null,null,null,null,null,null,null,null,null,null,null,null,null,null,null,null,null,null,null,null,null,null,null,null,null,null,null,null,null,null,null,null,null,null,null,null,null,null,null,null,null,null,null,null,null,null,null,null,null,null,null,null,null,null,null,null,null,{"$f":"'APPEL '!AH1555","v":0}]
[{"$f":"'APPEL '!A1556","v":18},{"$f":"'APPEL '!B1556","v":0},{"$f":"'APPEL '!E1556","v":0},null,null,null,{"$f":"'APPEL '!O1556","v":0},{"$f":"'APPEL '!R1556","v":0},{"$f":"'APPEL '!J1556","v":0},null,null,null,null,{"$f":"'APPEL '!BH1556","v":0},null,null,null,null,null,0,"23-25,9","24-31,9","24-27,9",null,null,null,null,null,null,null,null,{"$f":"'APPEL '!AC1556","v":0},null,null,null,null,null,null,null,null,null,null,null,null,null,null,null,null,null,null,null,null,null,null,null,null,null,null,null,null,null,null,null,null,null,null,null,null,null,null,null,null,null,null,null,null,null,null,null,null,null,null,null,null,null,null,null,null,null,null,null,null,null,null,null,null,null,null,{"$f":"'APPEL '!AH1556","v":0}]
[{"$f":"'APPEL '!A1557","v":18},{"$f":"'APPEL '!B1557","v":0},{"$f":"'APPEL '!E1557","v":0},null,null,null,{"$f":"'APPEL '!O1557","v":0},{"$f":"'APPEL '!R1557","v":0},{"$f":"'APPEL '!J1557","v":0},null,null,null,null,{"$f":"'APPEL '!BH1557","v":0},null,null,null,null,null,0,"23-25,9","24-31,9","24-27,9",null,null,null,null,null,null,null,null,{"$f":"'APPEL '!AC1557","v":0},null,null,null,null,null,null,null,null,null,null,null,null,null,null,null,null,null,null,null,null,null,null,null,null,null,null,null,null,null,null,null,null,null,null,null,null,null,null,null,null,null,null,null,null,null,null,null,null,null,null,null,null,null,null,null,null,null,null,null,null,null,null,null,null,null,null,{"$f":"'APPEL '!AH1557","v":0}]
[{"$f":"'APPEL '!A1558","v":18},{"$f":"'APPEL '!B1558","v":0},{"$f":"'APPEL '!E1558","v":0},null,null,null,{"$f":"'APPEL '!O1558","v":0},{"$f":"'APPEL '!R1558","v":0},{"$f":"'APPEL '!J1558","v":0},null,null,null,null,{"$f":"'APPEL '!BH1558","v":0},null,null,null,null,null,0,"23-25,9","24-31,9","24-27,9",null,null,null,null,null,null,null,null,{"$f":"'APPEL '!AC1558","v":0},null,null,null,null,null,null,null,null,null,null,null,null,null,null,null,null,null,null,null,null,null,null,null,null,null,null,null,null,null,null,null,null,null,null,null,null,null,null,null,null,null,null,null,null,null,null,null,null,null,null,null,null,null,null,null,null,null,null,null,null,null,null,null,null,null,null,{"$f":"'APPEL '!AH1558","v":0}]
[{"$f":"'APPEL '!A1559","v":18},{"$f":"'APPEL '!B1559","v":0},{"$f":"'APPEL '!E1559","v":0},null,null,null,{"$f":"'APPEL '!O1559","v":0},{"$f":"'APPEL '!R1559","v":0},{"$f":"'APPEL '!J1559","v":0},null,null,null,null,{"$f":"'APPEL '!BH1559","v":0},null,null,null,null,null,0,"23-25,9","24-31,9","24-27,9",null,null,null,null,null,null,null,null,{"$f":"'APPEL '!AC1559","v":0},null,null,null,null,null,null,null,null,null,null,null,null,null,null,null,null,null,null,null,null,null,null,null,null,null,null,null,null,null,null,null,null,null,null,null,null,null,null,null,null,null,null,null,null,null,null,null,null,null,null,null,null,null,null,null,null,null,null,null,null,null,null,null,null,null,null,{"$f":"'APPEL '!AH1559","v":0}]
[{"$f":"'APPEL '!A1560","v":18},{"$f":"'APPEL '!B1560","v":0},{"$f":"'APPEL '!E1560","v":0},null,null,null,{"$f":"'APPEL '!O1560","v":0},{"$f":"'APPEL '!R1560","v":0},{"$f":"'APPEL '!J1560","v":0},null,null,null,null,{"$f":"'APPEL '!BH1560","v":0},null,null,null,null,null,0,"23-25,9","24-31,9","24-27,9",null,null,null,null,null,null,null,null,{"$f":"'APPEL '!AC1560","v":0},null,null,null,null,null,null,null,null,null,null,null,null,null,null,null,null,null,null,null,null,null,null,null,null,null,null,null,null,null,null,null,null,null,null,null,null,null,null,null,null,null,null,null,null,null,null,null,null,null,null,null,null,null,null,null,null,null,null,null,null,null,null,null,null,null,null,{"$f":"'APPEL '!AH1560","v":0}]
[{"$f":"'APPEL '!A1561","v":18},{"$f":"'APPEL '!B1561","v":0},{"$f":"'APPEL '!E1561","v":0},null,null,null,{"$f":"'APPEL '!O1561","v":0},{"$f":"'APPEL '!R1561","v":0},{"$f":"'APPEL '!J1561","v":0},null,null,null,null,{"$f":"'APPEL '!BH1561","v":0},null,null,null,null,null,0,"23-25,9","24-31,9","24-27,9",null,null,null,null,null,null,null,null,{"$f":"'APPEL '!AC1561","v":0},null,null,null,null,null,null,null,null,null,null,null,null,null,null,null,null,null,null,null,null,null,null,null,null,null,null,null,null,null,null,null,null,null,null,null,null,null,null,null,null,null,null,null,null,null,null,null,null,null,null,null,null,null,null,null,null,null,null,null,null,null,null,null,null,null,null,{"$f":"'APPEL '!AH1561","v":0}]
[{"$f":"'APPEL '!A1562","v":18},{"$f":"'APPEL '!B1562","v":0},{"$f":"'APPEL '!E1562","v":0},null,null,null,{"$f":"'APPEL '!O1562","v":0},{"$f":"'APPEL '!R1562","v":0},{"$f":"'APPEL '!J1562","v":0},null,null,null,null,{"$f":"'APPEL '!BH1562","v":0},null,null,null,null,null,0,"23-25,9","24-31,9","24-27,9",null,null,null,null,null,null,null,null,{"$f":"'APPEL '!AC1562","v":0},null,null,null,null,null,null,null,null,null,null,null,null,null,null,null,null,null,null,null,null,null,null,null,null,null,null,null,null,null,null,null,null,null,null,null,null,null,null,null,null,null,null,null,null,null,null,null,null,null,null,null,null,null,null,null,null,null,null,null,null,null,null,null,null,null,null,{"$f":"'APPEL '!AH1562","v":0}]
[{"$f":"'APPEL '!A1563","v":18},{"$f":"'APPEL '!B1563","v":0},{"$f":"'APPEL '!E1563","v":0},null,null,null,{"$f":"'APPEL '!O1563","v":0},{"$f":"'APPEL '!R1563","v":0},{"$f":"'APPEL '!J1563","v":0},null,null,null,null,{"$f":"'APPEL '!BH1563","v":0},null,null,null,null,null,0,"23-25,9","24-31,9","24-27,9",null,null,null,null,null,null,null,null,{"$f":"'APPEL '!AC1563","v":0},null,null,null,null,null,null,null,null,null,null,null,null,null,null,null,null,null,null,null,null,null,null,null,null,null,null,null,null,null,null,null,null,null,null,null,null,null,null,null,null,null,null,null,null,null,null,null,null,null,null,null,null,null,null,null,null,null,null,null,null,null,null,null,null,null,null,{"$f":"'APPEL '!AH1563","v":0}]
[{"$f":"'APPEL '!A1564","v":18},{"$f":"'APPEL '!B1564","v":0},{"$f":"'APPEL '!E1564","v":0},null,null,null,{"$f":"'APPEL '!O1564","v":0},{"$f":"'APPEL '!R1564","v":0},{"$f":"'APPEL '!J1564","v":0},null,null,null,null,{"$f":"'APPEL '!BH1564","v":0},null,null,null,null,null,0,"23-25,9","24-31,9","24-27,9",null,null,null,null,null,null,null,null,{"$f":"'APPEL '!AC1564","v":0},null,null,null,null,null,null,null,null,null,null,null,null,null,null,null,null,null,null,null,null,null,null,null,null,null,null,null,null,null,null,null,null,null,null,null,null,null,null,null,null,null,null,null,null,null,null,null,null,null,null,null,null,null,null,null,null,null,null,null,null,null,null,null,null,null,null,{"$f":"'APPEL '!AH1564","v":0}]
[{"$f":"'APPEL '!A1565","v":18},{"$f":"'APPEL '!B1565","v":0},{"$f":"'APPEL '!E1565","v":0},null,null,null,{"$f":"'APPEL '!O1565","v":0},{"$f":"'APPEL '!R1565","v":0},{"$f":"'APPEL '!J1565","v":0},null,null,null,null,{"$f":"'APPEL '!BH1565","v":0},null,null,null,null,null,0,"23-25,9","24-31,9","24-27,9",null,null,null,null,null,null,null,null,{"$f":"'APPEL '!AC1565","v":0},null,null,null,null,null,null,null,null,null,null,null,null,null,null,null,null,null,null,null,null,null,null,null,null,null,null,null,null,null,null,null,null,null,null,null,null,null,null,null,null,null,null,null,null,null,null,null,null,null,null,null,null,null,null,null,null,null,null,null,null,null,null,null,null,null,null,{"$f":"'APPEL '!AH1565","v":0}]
[{"$f":"'APPEL '!A1566","v":18},{"$f":"'APPEL '!B1566","v":0},{"$f":"'APPEL '!E1566","v":0},null,null,null,{"$f":"'APPEL '!O1566","v":0},{"$f":"'APPEL '!R1566","v":0},{"$f":"'APPEL '!J1566","v":0},null,null,null,null,{"$f":"'APPEL '!BH1566","v":0},null,null,null,null,null,0,"23-25,9","24-31,9","24-27,9",null,null,null,null,null,null,null,null,{"$f":"'APPEL '!AC1566","v":0},null,null,null,null,null,null,null,null,null,null,null,null,null,null,null,null,null,null,null,null,null,null,null,null,null,null,null,null,null,null,null,null,null,null,null,null,null,null,null,null,null,null,null,null,null,null,null,null,null,null,null,null,null,null,null,null,null,null,null,null,null,null,null,null,null,null,{"$f":"'APPEL '!AH1566","v":0}]
[{"$f":"'APPEL '!A1567","v":18},{"$f":"'APPEL '!B1567","v":0},{"$f":"'APPEL '!E1567","v":0},null,null,null,{"$f":"'APPEL '!O1567","v":0},{"$f":"'APPEL '!R1567","v":0},{"$f":"'APPEL '!J1567","v":0},null,null,null,null,{"$f":"'APPEL '!BH1567","v":0},null,null,null,null,null,0,"23-25,9","24-31,9","24-27,9",null,null,null,null,null,null,null,null,{"$f":"'APPEL '!AC1567","v":0},null,null,null,null,null,null,null,null,null,null,null,null,null,null,null,null,null,null,null,null,null,null,null,null,null,null,null,null,null,null,null,null,null,null,null,null,null,null,null,null,null,null,null,null,null,null,null,null,null,null,null,null,null,null,null,null,null,null,null,null,null,null,null,null,null,null,{"$f":"'APPEL '!AH1567","v":0}]
[{"$f":"'APPEL '!A1568","v":18},{"$f":"'APPEL '!B1568","v":0},{"$f":"'APPEL '!E1568","v":0},null,null,null,{"$f":"'APPEL '!O1568","v":0},{"$f":"'APPEL '!R1568","v":0},{"$f":"'APPEL '!J1568","v":0},null,null,null,null,{"$f":"'APPEL '!BH1568","v":0},null,null,null,null,null,0,"23-25,9","24-31,9","24-27,9",null,null,null,null,null,null,null,null,{"$f":"'APPEL '!AC1568","v":0},null,null,null,null,null,null,null,null,null,null,null,null,null,null,null,null,null,null,null,null,null,null,null,null,null,null,null,null,null,null,null,null,null,null,null,null,null,null,null,null,null,null,null,null,null,null,null,null,null,null,null,null,null,null,null,null,null,null,null,null,null,null,null,null,null,null,{"$f":"'APPEL '!AH1568","v":0}]
[{"$f":"'APPEL '!A1569","v":18},{"$f":"'APPEL '!B1569","v":0},{"$f":"'APPEL '!E1569","v":0},null,null,null,{"$f":"'APPEL '!O1569","v":0},{"$f":"'APPEL '!R1569","v":0},{"$f":"'APPEL '!J1569","v":0},null,null,null,null,{"$f":"'APPEL '!BH1569","v":0},null,null,null,null,null,0,"23-25,9","24-31,9","24-27,9",null,null,null,null,null,null,null,null,{"$f":"'APPEL '!AC1569","v":0},null,null,null,null,null,null,null,null,null,null,null,null,null,null,null,null,null,null,null,null,null,null,null,null,null,null,null,null,null,null,null,null,null,null,null,null,null,null,null,null,null,null,null,null,null,null,null,null,null,null,null,null,null,null,null,null,null,null,null,null,null,null,null,null,null,null,{"$f":"'APPEL '!AH1569","v":0}]
[{"$f":"'APPEL '!A1570","v":18},{"$f":"'APPEL '!B1570","v":0},{"$f":"'APPEL '!E1570","v":0},null,null,null,{"$f":"'APPEL '!O1570","v":0},{"$f":"'APPEL '!R1570","v":0},{"$f":"'APPEL '!J1570","v":0},null,null,null,null,{"$f":"'APPEL '!BH1570","v":0},null,null,null,null,null,0,"23-25,9","24-31,9","24-27,9",null,null,null,null,null,null,null,null,{"$f":"'APPEL '!AC1570","v":0},null,null,null,null,null,null,null,null,null,null,null,null,null,null,null,null,null,null,null,null,null,null,null,null,null,null,null,null,null,null,null,null,null,null,null,null,null,null,null,null,null,null,null,null,null,null,null,null,null,null,null,null,null,null,null,null,null,null,null,null,null,null,null,null,null,null,{"$f":"'APPEL '!AH1570","v":0}]
[{"$f":"'APPEL '!A1571","v":18},{"$f":"'APPEL '!B1571","v":0},{"$f":"'APPEL '!E1571","v":0},null,null,null,{"$f":"'APPEL '!O1571","v":0},{"$f":"'APPEL '!R1571","v":0},{"$f":"'APPEL '!J1571","v":0},null,null,null,null,{"$f":"'APPEL '!BH1571","v":0},null,null,null,null,null,0,"23-25,9","24-31,9","24-27,9",null,null,null,null,null,null,null,null,{"$f":"'APPEL '!AC1571","v":0},null,null,null,null,null,null,null,null,null,null,null,null,null,null,null,null,null,null,null,null,null,null,null,null,null,null,null,null,null,null,null,null,null,null,null,null,null,null,null,null,null,null,null,null,null,null,null,null,null,null,null,null,null,null,null,null,null,null,null,null,null,null,null,null,null,null,{"$f":"'APPEL '!AH1571","v":0}]
[{"$f":"'APPEL '!A1572","v":18},{"$f":"'APPEL '!B1572","v":0},{"$f":"'APPEL '!E1572","v":0},null,null,null,{"$f":"'APPEL '!O1572","v":0},{"$f":"'APPEL '!R1572","v":0},{"$f":"'APPEL '!J1572","v":0},null,null,null,null,{"$f":"'APPEL '!BH1572","v":0},null,null,null,null,null,0,"23-25,9","24-31,9","24-27,9",null,null,null,null,null,null,null,null,{"$f":"'APPEL '!AC1572","v":0},null,null,null,null,null,null,null,null,null,null,null,null,null,null,null,null,null,null,null,null,null,null,null,null,null,null,null,null,null,null,null,null,null,null,null,null,null,null,null,null,null,null,null,null,null,null,null,null,null,null,null,null,null,null,null,null,null,null,null,null,null,null,null,null,null,null,{"$f":"'APPEL '!AH1572","v":0}]
[{"$f":"'APPEL '!A1573","v":18},{"$f":"'APPEL '!B1573","v":0},{"$f":"'APPEL '!E1573","v":0},null,null,null,{"$f":"'APPEL '!O1573","v":0},{"$f":"'APPEL '!R1573","v":0},{"$f":"'APPEL '!J1573","v":0},null,null,null,null,{"$f":"'APPEL '!BH1573","v":0},null,null,null,null,null,0,"23-25,9","24-31,9","24-27,9",null,null,null,null,null,null,null,null,{"$f":"'APPEL '!AC1573","v":0},null,null,null,null,null,null,null,null,null,null,null,null,null,null,null,null,null,null,null,null,null,null,null,null,null,null,null,null,null,null,null,null,null,null,null,null,null,null,null,null,null,null,null,null,null,null,null,null,null,null,null,null,null,null,null,null,null,null,null,null,null,null,null,null,null,null,{"$f":"'APPEL '!AH1573","v":0}]
[{"$f":"'APPEL '!A1574","v":18},{"$f":"'APPEL '!B1574","v":0},{"$f":"'APPEL '!E1574","v":0},null,null,null,{"$f":"'APPEL '!O1574","v":0},{"$f":"'APPEL '!R1574","v":0},{"$f":"'APPEL '!J1574","v":0},null,null,null,null,{"$f":"'APPEL '!BH1574","v":0},null,null,null,null,null,0,"23-25,9","24-31,9","24-27,9",null,null,null,null,null,null,null,null,{"$f":"'APPEL '!AC1574","v":0},null,null,null,null,null,null,null,null,null,null,null,null,null,null,null,null,null,null,null,null,null,null,null,null,null,null,null,null,null,null,null,null,null,null,null,null,null,null,null,null,null,null,null,null,null,null,null,null,null,null,null,null,null,null,null,null,null,null,null,null,null,null,null,null,null,null,{"$f":"'APPEL '!AH1574","v":0}]
[{"$f":"'APPEL '!A1575","v":18},{"$f":"'APPEL '!B1575","v":0},{"$f":"'APPEL '!E1575","v":0},null,null,null,{"$f":"'APPEL '!O1575","v":0},{"$f":"'APPEL '!R1575","v":0},{"$f":"'APPEL '!J1575","v":0},null,null,null,null,{"$f":"'APPEL '!BH1575","v":0},null,null,null,null,null,0,"23-25,9","24-31,9","24-27,9",null,null,null,null,null,null,null,null,{"$f":"'APPEL '!AC1575","v":0},null,null,null,null,null,null,null,null,null,null,null,null,null,null,null,null,null,null,null,null,null,null,null,null,null,null,null,null,null,null,null,null,null,null,null,null,null,null,null,null,null,null,null,null,null,null,null,null,null,null,null,null,null,null,null,null,null,null,null,null,null,null,null,null,null,null,{"$f":"'APPEL '!AH1575","v":0}]
[{"$f":"'APPEL '!A1576","v":18},{"$f":"'APPEL '!B1576","v":0},{"$f":"'APPEL '!E1576","v":0},null,null,null,{"$f":"'APPEL '!O1576","v":0},{"$f":"'APPEL '!R1576","v":0},{"$f":"'APPEL '!J1576","v":0},null,null,null,null,{"$f":"'APPEL '!BH1576","v":0},null,null,null,null,null,0,"23-25,9","24-31,9","24-27,9",null,null,null,null,null,null,null,null,{"$f":"'APPEL '!AC1576","v":0},null,null,null,null,null,null,null,null,null,null,null,null,null,null,null,null,null,null,null,null,null,null,null,null,null,null,null,null,null,null,null,null,null,null,null,null,null,null,null,null,null,null,null,null,null,null,null,null,null,null,null,null,null,null,null,null,null,null,null,null,null,null,null,null,null,null,{"$f":"'APPEL '!AH1576","v":0}]
[{"$f":"'APPEL '!A1577","v":18},{"$f":"'APPEL '!B1577","v":0},{"$f":"'APPEL '!E1577","v":0},null,null,null,{"$f":"'APPEL '!O1577","v":0},{"$f":"'APPEL '!R1577","v":0},{"$f":"'APPEL '!J1577","v":0},null,null,null,null,{"$f":"'APPEL '!BH1577","v":0},null,null,null,null,null,0,"23-25,9","24-31,9","24-27,9",null,null,null,null,null,null,null,null,{"$f":"'APPEL '!AC1577","v":0},null,null,null,null,null,null,null,null,null,null,null,null,null,null,null,null,null,null,null,null,null,null,null,null,null,null,null,null,null,null,null,null,null,null,null,null,null,null,null,null,null,null,null,null,null,null,null,null,null,null,null,null,null,null,null,null,null,null,null,null,null,null,null,null,null,null,{"$f":"'APPEL '!AH1577","v":0}]
[{"$f":"'APPEL '!A1578","v":18},{"$f":"'APPEL '!B1578","v":0},{"$f":"'APPEL '!E1578","v":0},null,null,null,{"$f":"'APPEL '!O1578","v":0},{"$f":"'APPEL '!R1578","v":0},{"$f":"'APPEL '!J1578","v":0},null,null,null,null,{"$f":"'APPEL '!BH1578","v":0},null,null,null,null,null,0,"23-25,9","24-31,9","24-27,9",null,null,null,null,null,null,null,null,{"$f":"'APPEL '!AC1578","v":0},null,null,null,null,null,null,null,null,null,null,null,null,null,null,null,null,null,null,null,null,null,null,null,null,null,null,null,null,null,null,null,null,null,null,null,null,null,null,null,null,null,null,null,null,null,null,null,null,null,null,null,null,null,null,null,null,null,null,null,null,null,null,null,null,null,null,{"$f":"'APPEL '!AH1578","v":0}]
[{"$f":"'APPEL '!A1579","v":18},{"$f":"'APPEL '!B1579","v":0},{"$f":"'APPEL '!E1579","v":0},null,null,null,{"$f":"'APPEL '!O1579","v":0},{"$f":"'APPEL '!R1579","v":0},{"$f":"'APPEL '!J1579","v":0},null,null,null,null,{"$f":"'APPEL '!BH1579","v":0},null,null,null,null,null,0,"23-25,9","24-31,9","24-27,9",null,null,null,null,null,null,null,null,{"$f":"'APPEL '!AC1579","v":0},null,null,null,null,null,null,null,null,null,null,null,null,null,null,null,null,null,null,null,null,null,null,null,null,null,null,null,null,null,null,null,null,null,null,null,null,null,null,null,null,null,null,null,null,null,null,null,null,null,null,null,null,null,null,null,null,null,null,null,null,null,null,null,null,null,null,{"$f":"'APPEL '!AH1579","v":0}]
[{"$f":"'APPEL '!A1580","v":18},{"$f":"'APPEL '!B1580","v":0},{"$f":"'APPEL '!E1580","v":0},null,null,null,{"$f":"'APPEL '!O1580","v":0},{"$f":"'APPEL '!R1580","v":0},{"$f":"'APPEL '!J1580","v":0},null,null,null,null,{"$f":"'APPEL '!BH1580","v":0},null,null,null,null,null,0,"23-25,9","24-31,9","24-27,9",null,null,null,null,null,null,null,null,{"$f":"'APPEL '!AC1580","v":0},null,null,null,null,null,null,null,null,null,null,null,null,null,null,null,null,null,null,null,null,null,null,null,null,null,null,null,null,null,null,null,null,null,null,null,null,null,null,null,null,null,null,null,null,null,null,null,null,null,null,null,null,null,null,null,null,null,null,null,null,null,null,null,null,null,null,{"$f":"'APPEL '!AH1580","v":0}]
[{"$f":"'APPEL '!A1581","v":18},{"$f":"'APPEL '!B1581","v":0},{"$f":"'APPEL '!E1581","v":0},null,null,null,{"$f":"'APPEL '!O1581","v":0},{"$f":"'APPEL '!R1581","v":0},{"$f":"'APPEL '!J1581","v":0},null,null,null,null,{"$f":"'APPEL '!BH1581","v":0},null,null,null,null,null,0,"23-25,9","24-31,9","24-27,9",null,null,null,null,null,null,null,null,{"$f":"'APPEL '!AC1581","v":0},null,null,null,null,null,null,null,null,null,null,null,null,null,null,null,null,null,null,null,null,null,null,null,null,null,null,null,null,null,null,null,null,null,null,null,null,null,null,null,null,null,null,null,null,null,null,null,null,null,null,null,null,null,null,null,null,null,null,null,null,null,null,null,null,null,null,{"$f":"'APPEL '!AH1581","v":0}]
[{"$f":"'APPEL '!A1582","v":18},{"$f":"'APPEL '!B1582","v":0},{"$f":"'APPEL '!E1582","v":0},null,null,null,{"$f":"'APPEL '!O1582","v":0},{"$f":"'APPEL '!R1582","v":0},{"$f":"'APPEL '!J1582","v":0},null,null,null,null,{"$f":"'APPEL '!BH1582","v":0},null,null,null,null,null,0,"23-25,9","24-31,9","24-27,9",null,null,null,null,null,null,null,null,{"$f":"'APPEL '!AC1582","v":0},null,null,null,null,null,null,null,null,null,null,null,null,null,null,null,null,null,null,null,null,null,null,null,null,null,null,null,null,null,null,null,null,null,null,null,null,null,null,null,null,null,null,null,null,null,null,null,null,null,null,null,null,null,null,null,null,null,null,null,null,null,null,null,null,null,null,{"$f":"'APPEL '!AH1582","v":0}]
[{"$f":"'APPEL '!A1583","v":18},{"$f":"'APPEL '!B1583","v":0},{"$f":"'APPEL '!E1583","v":0},null,null,null,{"$f":"'APPEL '!O1583","v":0},{"$f":"'APPEL '!R1583","v":0},{"$f":"'APPEL '!J1583","v":0},null,null,null,null,{"$f":"'APPEL '!BH1583","v":0},null,null,null,null,null,0,"23-25,9","24-31,9","24-27,9",null,null,null,null,null,null,null,null,{"$f":"'APPEL '!AC1583","v":0},null,null,null,null,null,null,null,null,null,null,null,null,null,null,null,null,null,null,null,null,null,null,null,null,null,null,null,null,null,null,null,null,null,null,null,null,null,null,null,null,null,null,null,null,null,null,null,null,null,null,null,null,null,null,null,null,null,null,null,null,null,null,null,null,null,null,{"$f":"'APPEL '!AH1583","v":0}]
[{"$f":"'APPEL '!A1584","v":18},{"$f":"'APPEL '!B1584","v":0},{"$f":"'APPEL '!E1584","v":0},null,null,null,{"$f":"'APPEL '!O1584","v":0},{"$f":"'APPEL '!R1584","v":0},{"$f":"'APPEL '!J1584","v":0},null,null,null,null,{"$f":"'APPEL '!BH1584","v":0},null,null,null,null,null,0,"23-25,9","24-31,9","24-27,9",null,null,null,null,null,null,null,null,{"$f":"'APPEL '!AC1584","v":0},null,null,null,null,null,null,null,null,null,null,null,null,null,null,null,null,null,null,null,null,null,null,null,null,null,null,null,null,null,null,null,null,null,null,null,null,null,null,null,null,null,null,null,null,null,null,null,null,null,null,null,null,null,null,null,null,null,null,null,null,null,null,null,null,null,null,{"$f":"'APPEL '!AH1584","v":0}]
[{"$f":"'APPEL '!A1585","v":18},{"$f":"'APPEL '!B1585","v":0},{"$f":"'APPEL '!E1585","v":0},null,null,null,{"$f":"'APPEL '!O1585","v":0},{"$f":"'APPEL '!R1585","v":0},{"$f":"'APPEL '!J1585","v":0},null,null,null,null,{"$f":"'APPEL '!BH1585","v":0},null,null,null,null,null,0,"23-25,9","24-31,9","24-27,9",null,null,null,null,null,null,null,null,{"$f":"'APPEL '!AC1585","v":0},null,null,null,null,null,null,null,null,null,null,null,null,null,null,null,null,null,null,null,null,null,null,null,null,null,null,null,null,null,null,null,null,null,null,null,null,null,null,null,null,null,null,null,null,null,null,null,null,null,null,null,null,null,null,null,null,null,null,null,null,null,null,null,null,null,null,{"$f":"'APPEL '!AH1585","v":0}]
[{"$f":"'APPEL '!A1586","v":18},{"$f":"'APPEL '!B1586","v":0},{"$f":"'APPEL '!E1586","v":0},null,null,null,{"$f":"'APPEL '!O1586","v":0},{"$f":"'APPEL '!R1586","v":0},{"$f":"'APPEL '!J1586","v":0},null,null,null,null,{"$f":"'APPEL '!BH1586","v":0},null,null,null,null,null,0,"23-25,9","24-31,9","24-27,9",null,null,null,null,null,null,null,null,{"$f":"'APPEL '!AC1586","v":0},null,null,null,null,null,null,null,null,null,null,null,null,null,null,null,null,null,null,null,null,null,null,null,null,null,null,null,null,null,null,null,null,null,null,null,null,null,null,null,null,null,null,null,null,null,null,null,null,null,null,null,null,null,null,null,null,null,null,null,null,null,null,null,null,null,null,{"$f":"'APPEL '!AH1586","v":0}]
[{"$f":"'APPEL '!A1587","v":18},{"$f":"'APPEL '!B1587","v":0},{"$f":"'APPEL '!E1587","v":0},null,null,null,{"$f":"'APPEL '!O1587","v":0},{"$f":"'APPEL '!R1587","v":0},{"$f":"'APPEL '!J1587","v":0},null,null,null,null,{"$f":"'APPEL '!BH1587","v":0},null,null,null,null,null,0,"23-25,9","24-31,9","24-27,9",null,null,null,null,null,null,null,null,{"$f":"'APPEL '!AC1587","v":0},null,null,null,null,null,null,null,null,null,null,null,null,null,null,null,null,null,null,null,null,null,null,null,null,null,null,null,null,null,null,null,null,null,null,null,null,null,null,null,null,null,null,null,null,null,null,null,null,null,null,null,null,null,null,null,null,null,null,null,null,null,null,null,null,null,null,{"$f":"'APPEL '!AH1587","v":0}]
[{"$f":"'APPEL '!A1588","v":18},{"$f":"'APPEL '!B1588","v":0},{"$f":"'APPEL '!E1588","v":0},null,null,null,{"$f":"'APPEL '!O1588","v":0},{"$f":"'APPEL '!R1588","v":0},{"$f":"'APPEL '!J1588","v":0},null,null,null,null,{"$f":"'APPEL '!BH1588","v":0},null,null,null,null,null,0,"23-25,9","24-31,9","24-27,9",null,null,null,null,null,null,null,null,{"$f":"'APPEL '!AC1588","v":0},null,null,null,null,null,null,null,null,null,null,null,null,null,null,null,null,null,null,null,null,null,null,null,null,null,null,null,null,null,null,null,null,null,null,null,null,null,null,null,null,null,null,null,null,null,null,null,null,null,null,null,null,null,null,null,null,null,null,null,null,null,null,null,null,null,null,{"$f":"'APPEL '!AH1588","v":0}]
[{"$f":"'APPEL '!A1589","v":18},{"$f":"'APPEL '!B1589","v":0},{"$f":"'APPEL '!E1589","v":0},null,null,null,{"$f":"'APPEL '!O1589","v":0},{"$f":"'APPEL '!R1589","v":0},{"$f":"'APPEL '!J1589","v":0},null,null,null,null,{"$f":"'APPEL '!BH1589","v":0},null,null,null,null,null,0,"23-25,9","24-31,9","24-27,9",null,null,null,null,null,null,null,null,{"$f":"'APPEL '!AC1589","v":0},null,null,null,null,null,null,null,null,null,null,null,null,null,null,null,null,null,null,null,null,null,null,null,null,null,null,null,null,null,null,null,null,null,null,null,null,null,null,null,null,null,null,null,null,null,null,null,null,null,null,null,null,null,null,null,null,null,null,null,null,null,null,null,null,null,null,{"$f":"'APPEL '!AH1589","v":0}]
[{"$f":"'APPEL '!A1590","v":18},{"$f":"'APPEL '!B1590","v":0},{"$f":"'APPEL '!E1590","v":0},null,null,null,{"$f":"'APPEL '!O1590","v":0},{"$f":"'APPEL '!R1590","v":0},{"$f":"'APPEL '!J1590","v":0},null,null,null,null,{"$f":"'APPEL '!BH1590","v":0},null,null,null,null,null,0,"23-25,9","24-31,9","24-27,9",null,null,null,null,null,null,null,null,{"$f":"'APPEL '!AC1590","v":0},null,null,null,null,null,null,null,null,null,null,null,null,null,null,null,null,null,null,null,null,null,null,null,null,null,null,null,null,null,null,null,null,null,null,null,null,null,null,null,null,null,null,null,null,null,null,null,null,null,null,null,null,null,null,null,null,null,null,null,null,null,null,null,null,null,null,{"$f":"'APPEL '!AH1590","v":0}]
[{"$f":"'APPEL '!A1591","v":18},{"$f":"'APPEL '!B1591","v":0},{"$f":"'APPEL '!E1591","v":0},null,null,null,{"$f":"'APPEL '!O1591","v":0},{"$f":"'APPEL '!R1591","v":0},{"$f":"'APPEL '!J1591","v":0},null,null,null,null,{"$f":"'APPEL '!BH1591","v":0},null,null,null,null,null,0,"23-25,9","24-31,9","24-27,9",null,null,null,null,null,null,null,null,{"$f":"'APPEL '!AC1591","v":0},null,null,null,null,null,null,null,null,null,null,null,null,null,null,null,null,null,null,null,null,null,null,null,null,null,null,null,null,null,null,null,null,null,null,null,null,null,null,null,null,null,null,null,null,null,null,null,null,null,null,null,null,null,null,null,null,null,null,null,null,null,null,null,null,null,null,{"$f":"'APPEL '!AH1591","v":0}]
[{"$f":"'APPEL '!A1592","v":18},{"$f":"'APPEL '!B1592","v":0},{"$f":"'APPEL '!E1592","v":0},null,null,null,{"$f":"'APPEL '!O1592","v":0},{"$f":"'APPEL '!R1592","v":0},{"$f":"'APPEL '!J1592","v":0},null,null,null,null,{"$f":"'APPEL '!BH1592","v":0},null,null,null,null,null,0,"23-25,9","24-31,9","24-27,9",null,null,null,null,null,null,null,null,{"$f":"'APPEL '!AC1592","v":0},null,null,null,null,null,null,null,null,null,null,null,null,null,null,null,null,null,null,null,null,null,null,null,null,null,null,null,null,null,null,null,null,null,null,null,null,null,null,null,null,null,null,null,null,null,null,null,null,null,null,null,null,null,null,null,null,null,null,null,null,null,null,null,null,null,null,{"$f":"'APPEL '!AH1592","v":0}]
[{"$f":"'APPEL '!A1593","v":18},{"$f":"'APPEL '!B1593","v":0},{"$f":"'APPEL '!E1593","v":0},null,null,null,{"$f":"'APPEL '!O1593","v":0},{"$f":"'APPEL '!R1593","v":0},{"$f":"'APPEL '!J1593","v":0},null,null,null,null,{"$f":"'APPEL '!BH1593","v":0},null,null,null,null,null,0,"23-25,9","24-31,9","24-27,9",null,null,null,null,null,null,null,null,{"$f":"'APPEL '!AC1593","v":0},null,null,null,null,null,null,null,null,null,null,null,null,null,null,null,null,null,null,null,null,null,null,null,null,null,null,null,null,null,null,null,null,null,null,null,null,null,null,null,null,null,null,null,null,null,null,null,null,null,null,null,null,null,null,null,null,null,null,null,null,null,null,null,null,null,null,{"$f":"'APPEL '!AH1593","v":0}]
[{"$f":"'APPEL '!A1594","v":18},{"$f":"'APPEL '!B1594","v":0},{"$f":"'APPEL '!E1594","v":0},null,null,null,{"$f":"'APPEL '!O1594","v":0},{"$f":"'APPEL '!R1594","v":0},{"$f":"'APPEL '!J1594","v":0},null,null,null,null,{"$f":"'APPEL '!BH1594","v":0},null,null,null,null,null,0,"23-25,9","24-31,9","24-27,9",null,null,null,null,null,null,null,null,{"$f":"'APPEL '!AC1594","v":0},null,null,null,null,null,null,null,null,null,null,null,null,null,null,null,null,null,null,null,null,null,null,null,null,null,null,null,null,null,null,null,null,null,null,null,null,null,null,null,null,null,null,null,null,null,null,null,null,null,null,null,null,null,null,null,null,null,null,null,null,null,null,null,null,null,null,{"$f":"'APPEL '!AH1594","v":0}]
[{"$f":"'APPEL '!A1595","v":18},{"$f":"'APPEL '!B1595","v":0},{"$f":"'APPEL '!E1595","v":0},null,null,null,{"$f":"'APPEL '!O1595","v":0},{"$f":"'APPEL '!R1595","v":0},{"$f":"'APPEL '!J1595","v":0},null,null,null,null,{"$f":"'APPEL '!BH1595","v":0},null,null,null,null,null,0,"23-25,9","24-31,9","24-27,9",null,null,null,null,null,null,null,null,{"$f":"'APPEL '!AC1595","v":0},null,null,null,null,null,null,null,null,null,null,null,null,null,null,null,null,null,null,null,null,null,null,null,null,null,null,null,null,null,null,null,null,null,null,null,null,null,null,null,null,null,null,null,null,null,null,null,null,null,null,null,null,null,null,null,null,null,null,null,null,null,null,null,null,null,null,{"$f":"'APPEL '!AH1595","v":0}]
[{"$f":"'APPEL '!A1596","v":18},{"$f":"'APPEL '!B1596","v":0},{"$f":"'APPEL '!E1596","v":0},null,null,null,{"$f":"'APPEL '!O1596","v":0},{"$f":"'APPEL '!R1596","v":0},{"$f":"'APPEL '!J1596","v":0},null,null,null,null,{"$f":"'APPEL '!BH1596","v":0},null,null,null,null,null,0,"23-25,9","24-31,9","24-27,9",null,null,null,null,null,null,null,null,{"$f":"'APPEL '!AC1596","v":0},null,null,null,null,null,null,null,null,null,null,null,null,null,null,null,null,null,null,null,null,null,null,null,null,null,null,null,null,null,null,null,null,null,null,null,null,null,null,null,null,null,null,null,null,null,null,null,null,null,null,null,null,null,null,null,null,null,null,null,null,null,null,null,null,null,null,{"$f":"'APPEL '!AH1596","v":0}]
[{"$f":"'APPEL '!A1597","v":18},{"$f":"'APPEL '!B1597","v":0},{"$f":"'APPEL '!E1597","v":0},null,null,null,{"$f":"'APPEL '!O1597","v":0},{"$f":"'APPEL '!R1597","v":0},{"$f":"'APPEL '!J1597","v":0},null,null,null,null,{"$f":"'APPEL '!BH1597","v":0},null,null,null,null,null,0,"23-25,9","24-31,9","24-27,9",null,null,null,null,null,null,null,null,{"$f":"'APPEL '!AC1597","v":0},null,null,null,null,null,null,null,null,null,null,null,null,null,null,null,null,null,null,null,null,null,null,null,null,null,null,null,null,null,null,null,null,null,null,null,null,null,null,null,null,null,null,null,null,null,null,null,null,null,null,null,null,null,null,null,null,null,null,null,null,null,null,null,null,null,null,{"$f":"'APPEL '!AH1597","v":0}]
[{"$f":"'APPEL '!A1598","v":18},{"$f":"'APPEL '!B1598","v":0},{"$f":"'APPEL '!E1598","v":0},null,null,null,{"$f":"'APPEL '!O1598","v":0},{"$f":"'APPEL '!R1598","v":0},{"$f":"'APPEL '!J1598","v":0},null,null,null,null,{"$f":"'APPEL '!BH1598","v":0},null,null,null,null,null,0,"23-25,9","24-31,9","24-27,9",null,null,null,null,null,null,null,null,{"$f":"'APPEL '!AC1598","v":0},null,null,null,null,null,null,null,null,null,null,null,null,null,null,null,null,null,null,null,null,null,null,null,null,null,null,null,null,null,null,null,null,null,null,null,null,null,null,null,null,null,null,null,null,null,null,null,null,null,null,null,null,null,null,null,null,null,null,null,null,null,null,null,null,null,null,{"$f":"'APPEL '!AH1598","v":0}]
[{"$f":"'APPEL '!A1599","v":18},{"$f":"'APPEL '!B1599","v":0},{"$f":"'APPEL '!E1599","v":0},null,null,null,{"$f":"'APPEL '!O1599","v":0},{"$f":"'APPEL '!R1599","v":0},{"$f":"'APPEL '!J1599","v":0},null,null,null,null,{"$f":"'APPEL '!BH1599","v":0},null,null,null,null,null,0,"23-25,9","24-31,9","24-27,9",null,null,null,null,null,null,null,null,{"$f":"'APPEL '!AC1599","v":0},null,null,null,null,null,null,null,null,null,null,null,null,null,null,null,null,null,null,null,null,null,null,null,null,null,null,null,null,null,null,null,null,null,null,null,null,null,null,null,null,null,null,null,null,null,null,null,null,null,null,null,null,null,null,null,null,null,null,null,null,null,null,null,null,null,null,{"$f":"'APPEL '!AH1599","v":0}]
[{"$f":"'APPEL '!A1600","v":18},{"$f":"'APPEL '!B1600","v":0},{"$f":"'APPEL '!E1600","v":0},null,null,null,{"$f":"'APPEL '!O1600","v":0},{"$f":"'APPEL '!R1600","v":0},{"$f":"'APPEL '!J1600","v":0},null,null,null,null,{"$f":"'APPEL '!BH1600","v":0},null,null,null,null,null,0,"23-25,9","24-31,9","24-27,9",null,null,null,null,null,null,null,null,{"$f":"'APPEL '!AC1600","v":0},null,null,null,null,null,null,null,null,null,null,null,null,null,null,null,null,null,null,null,null,null,null,null,null,null,null,null,null,null,null,null,null,null,null,null,null,null,null,null,null,null,null,null,null,null,null,null,null,null,null,null,null,null,null,null,null,null,null,null,null,null,null,null,null,null,null,{"$f":"'APPEL '!AH1600","v":0}]
[{"$f":"'APPEL '!A1601","v":18},{"$f":"'APPEL '!B1601","v":0},{"$f":"'APPEL '!E1601","v":0},null,null,null,{"$f":"'APPEL '!O1601","v":0},{"$f":"'APPEL '!R1601","v":0},{"$f":"'APPEL '!J1601","v":0},null,null,null,null,{"$f":"'APPEL '!BH1601","v":0},null,null,null,null,null,0,"23-25,9","24-31,9","24-27,9",null,null,null,null,null,null,null,null,{"$f":"'APPEL '!AC1601","v":0},null,null,null,null,null,null,null,null,null,null,null,null,null,null,null,null,null,null,null,null,null,null,null,null,null,null,null,null,null,null,null,null,null,null,null,null,null,null,null,null,null,null,null,null,null,null,null,null,null,null,null,null,null,null,null,null,null,null,null,null,null,null,null,null,null,null,{"$f":"'APPEL '!AH1601","v":0}]
[{"$f":"'APPEL '!A1602","v":18},{"$f":"'APPEL '!B1602","v":0},{"$f":"'APPEL '!E1602","v":0},null,null,null,{"$f":"'APPEL '!O1602","v":0},{"$f":"'APPEL '!R1602","v":0},{"$f":"'APPEL '!J1602","v":0},null,null,null,null,{"$f":"'APPEL '!BH1602","v":0},null,null,null,null,null,0,"23-25,9","24-31,9","24-27,9",null,null,null,null,null,null,null,null,{"$f":"'APPEL '!AC1602","v":0},null,null,null,null,null,null,null,null,null,null,null,null,null,null,null,null,null,null,null,null,null,null,null,null,null,null,null,null,null,null,null,null,null,null,null,null,null,null,null,null,null,null,null,null,null,null,null,null,null,null,null,null,null,null,null,null,null,null,null,null,null,null,null,null,null,null,{"$f":"'APPEL '!AH1602","v":0}]
[{"$f":"'APPEL '!A1603","v":18},{"$f":"'APPEL '!B1603","v":0},{"$f":"'APPEL '!E1603","v":0},null,null,null,{"$f":"'APPEL '!O1603","v":0},{"$f":"'APPEL '!R1603","v":0},{"$f":"'APPEL '!J1603","v":0},null,null,null,null,{"$f":"'APPEL '!BH1603","v":0},null,null,null,null,null,{"$f":"R1603+(S1603/7)","v":0},{"$f":"IF(T1603<25.9,\"23-25,9\",IF(T1603<27.9,\"26-27,9\",IF(T1603<31.9,\"28-31,9\",IF(T1603<34.9,\"32-34,9\",IF(T1603<36.9,\"35-36,9\",IF(T1603<40.2,\"37-40,2\",IF(T1603<42,\"40,3-42\",IF(T1603>42,\">42\"))))))))","v":"23-25,9"},{"$f":"IF(T1603<31.9,\"24-31,9\",IF(T1603<42,\"32-42\",IF(T1603>=42,\">42\")))","v":"24-31,9"},{"$f":"IF(T1603<27.9,\"24-27,9\",IF(T1603<42,\"28-42\",IF(T1603>=42,\">42\")))","v":"24-27,9"},null,null,null,null,null,null,null,null,{"$f":"'APPEL '!AC1603","v":0},null,null,null,null,null,null,null,null,null,null,null,null,null,null,null,null,null,null,null,null,null,null,null,null,null,null,null,null,null,null,null,null,null,null,null,null,null,null,null,null,null,null,null,null,null,null,null,null,null,null,null,null,null,null,null,null,null,null,null,null,null,null,null,null,null,null,{"$f":"'APPEL '!AH1603","v":0}]
[{"$f":"'APPEL '!A1604","v":18},{"$f":"'APPEL '!B1604","v":0},{"$f":"'APPEL '!E1604","v":0},null,null,null,{"$f":"'APPEL '!O1604","v":0},{"$f":"'APPEL '!R1604","v":0},{"$f":"'APPEL '!J1604","v":0},null,null,null,null,{"$f":"'APPEL '!BH1604","v":0},null,null,null,null,null,0,"23-25,9","24-31,9","24-27,9",null,null,null,null,null,null,null,null,{"$f":"'APPEL '!AC1604","v":0},null,null,null,null,null,null,null,null,null,null,null,null,null,null,null,null,null,null,null,null,null,null,null,null,null,null,null,null,null,null,null,null,null,null,null,null,null,null,null,null,null,null,null,null,null,null,null,null,null,null,null,null,null,null,null,null,null,null,null,null,null,null,null,null,null,null,{"$f":"'APPEL '!AH1604","v":0}]
[{"$f":"'APPEL '!A1605","v":18},{"$f":"'APPEL '!B1605","v":0},{"$f":"'APPEL '!E1605","v":0},null,null,null,{"$f":"'APPEL '!O1605","v":0},{"$f":"'APPEL '!R1605","v":0},{"$f":"'APPEL '!J1605","v":0},null,null,null,null,{"$f":"'APPEL '!BH1605","v":0},null,null,null,null,null,0,"23-25,9","24-31,9","24-27,9",null,null,null,null,null,null,null,null,{"$f":"'APPEL '!AC1605","v":0},null,null,null,null,null,null,null,null,null,null,null,null,null,null,null,null,null,null,null,null,null,null,null,null,null,null,null,null,null,null,null,null,null,null,null,null,null,null,null,null,null,null,null,null,null,null,null,null,null,null,null,null,null,null,null,null,null,null,null,null,null,null,null,null,null,null,{"$f":"'APPEL '!AH1605","v":0}]
[{"$f":"'APPEL '!A1606","v":18},{"$f":"'APPEL '!B1606","v":0},{"$f":"'APPEL '!E1606","v":0},null,null,null,{"$f":"'APPEL '!O1606","v":0},{"$f":"'APPEL '!R1606","v":0},{"$f":"'APPEL '!J1606","v":0},null,null,null,null,{"$f":"'APPEL '!BH1606","v":0},null,null,null,null,null,0,"23-25,9","24-31,9","24-27,9",null,null,null,null,null,null,null,null,{"$f":"'APPEL '!AC1606","v":0},null,null,null,null,null,null,null,null,null,null,null,null,null,null,null,null,null,null,null,null,null,null,null,null,null,null,null,null,null,null,null,null,null,null,null,null,null,null,null,null,null,null,null,null,null,null,null,null,null,null,null,null,null,null,null,null,null,null,null,null,null,null,null,null,null,null,{"$f":"'APPEL '!AH1606","v":0}]
[{"$f":"'APPEL '!A1607","v":18},{"$f":"'APPEL '!B1607","v":0},{"$f":"'APPEL '!E1607","v":0},null,null,null,{"$f":"'APPEL '!O1607","v":0},{"$f":"'APPEL '!R1607","v":0},{"$f":"'APPEL '!J1607","v":0},null,null,null,null,{"$f":"'APPEL '!BH1607","v":0},null,null,null,null,null,0,"23-25,9","24-31,9","24-27,9",null,null,null,null,null,null,null,null,{"$f":"'APPEL '!AC1607","v":0},null,null,null,null,null,null,null,null,null,null,null,null,null,null,null,null,null,null,null,null,null,null,null,null,null,null,null,null,null,null,null,null,null,null,null,null,null,null,null,null,null,null,null,null,null,null,null,null,null,null,null,null,null,null,null,null,null,null,null,null,null,null,null,null,null,null,{"$f":"'APPEL '!AH1607","v":0}]
[{"$f":"'APPEL '!A1608","v":18},{"$f":"'APPEL '!B1608","v":0},{"$f":"'APPEL '!E1608","v":0},null,null,null,{"$f":"'APPEL '!O1608","v":0},{"$f":"'APPEL '!R1608","v":0},{"$f":"'APPEL '!J1608","v":0},null,null,null,null,{"$f":"'APPEL '!BH1608","v":0},null,null,null,null,null,0,"23-25,9","24-31,9","24-27,9",null,null,null,null,null,null,null,null,{"$f":"'APPEL '!AC1608","v":0},null,null,null,null,null,null,null,null,null,null,null,null,null,null,null,null,null,null,null,null,null,null,null,null,null,null,null,null,null,null,null,null,null,null,null,null,null,null,null,null,null,null,null,null,null,null,null,null,null,null,null,null,null,null,null,null,null,null,null,null,null,null,null,null,null,null,{"$f":"'APPEL '!AH1608","v":0}]
[{"$f":"'APPEL '!A1609","v":18},{"$f":"'APPEL '!B1609","v":0},{"$f":"'APPEL '!E1609","v":0},null,null,null,{"$f":"'APPEL '!O1609","v":0},{"$f":"'APPEL '!R1609","v":0},{"$f":"'APPEL '!J1609","v":0},null,null,null,null,{"$f":"'APPEL '!BH1609","v":0},null,null,null,null,null,0,"23-25,9","24-31,9","24-27,9",null,null,null,null,null,null,null,null,{"$f":"'APPEL '!AC1609","v":0},null,null,null,null,null,null,null,null,null,null,null,null,null,null,null,null,null,null,null,null,null,null,null,null,null,null,null,null,null,null,null,null,null,null,null,null,null,null,null,null,null,null,null,null,null,null,null,null,null,null,null,null,null,null,null,null,null,null,null,null,null,null,null,null,null,null,{"$f":"'APPEL '!AH1609","v":0}]
[{"$f":"'APPEL '!A1610","v":18},{"$f":"'APPEL '!B1610","v":0},{"$f":"'APPEL '!E1610","v":0},null,null,null,{"$f":"'APPEL '!O1610","v":0},{"$f":"'APPEL '!R1610","v":0},{"$f":"'APPEL '!J1610","v":0},null,null,null,null,{"$f":"'APPEL '!BH1610","v":0},null,null,null,null,null,0,"23-25,9","24-31,9","24-27,9",null,null,null,null,null,null,null,null,{"$f":"'APPEL '!AC1610","v":0},null,null,null,null,null,null,null,null,null,null,null,null,null,null,null,null,null,null,null,null,null,null,null,null,null,null,null,null,null,null,null,null,null,null,null,null,null,null,null,null,null,null,null,null,null,null,null,null,null,null,null,null,null,null,null,null,null,null,null,null,null,null,null,null,null,null,{"$f":"'APPEL '!AH1610","v":0}]
[{"$f":"'APPEL '!A1611","v":18},{"$f":"'APPEL '!B1611","v":0},{"$f":"'APPEL '!E1611","v":0},null,null,null,{"$f":"'APPEL '!O1611","v":0},{"$f":"'APPEL '!R1611","v":0},{"$f":"'APPEL '!J1611","v":0},null,null,null,null,{"$f":"'APPEL '!BH1611","v":0},null,null,null,null,null,0,"23-25,9","24-31,9","24-27,9",null,null,null,null,null,null,null,null,{"$f":"'APPEL '!AC1611","v":0},null,null,null,null,null,null,null,null,null,null,null,null,null,null,null,null,null,null,null,null,null,null,null,null,null,null,null,null,null,null,null,null,null,null,null,null,null,null,null,null,null,null,null,null,null,null,null,null,null,null,null,null,null,null,null,null,null,null,null,null,null,null,null,null,null,null,{"$f":"'APPEL '!AH1611","v":0}]
[{"$f":"'APPEL '!A1612","v":18},{"$f":"'APPEL '!B1612","v":0},{"$f":"'APPEL '!E1612","v":0},null,null,null,{"$f":"'APPEL '!O1612","v":0},{"$f":"'APPEL '!R1612","v":0},{"$f":"'APPEL '!J1612","v":0},null,null,null,null,{"$f":"'APPEL '!BH1612","v":0},null,null,null,null,null,0,"23-25,9","24-31,9","24-27,9",null,null,null,null,null,null,null,null,{"$f":"'APPEL '!AC1612","v":0},null,null,null,null,null,null,null,null,null,null,null,null,null,null,null,null,null,null,null,null,null,null,null,null,null,null,null,null,null,null,null,null,null,null,null,null,null,null,null,null,null,null,null,null,null,null,null,null,null,null,null,null,null,null,null,null,null,null,null,null,null,null,null,null,null,null,{"$f":"'APPEL '!AH1612","v":0}]

{"sheet":"TNN","index":2,"n_rows":2003,"n_cols":167,"rows_kept":2003,"cut":false,"hidden":false,"merged":[]}
["année","N°","n° de dossier associé","Dossier complet ","RESEAU DEMANDEUR ","RESEAU RECEVEUR","Niveau du demandeur ","Niveau du receveur","type de transfert ","URGENCE","Déplacement du mdc sollicité par la sage-femme de la cellule","Date naissance n-né ( Date du jour = CTRL et ;)","Heure naissance n-né (0-23h59)","Semaine à la Naissance ","Jour à la naissance ","AG Corrigé ","EVA TNN Terme stratifié en SA","terme stratitié simplifié","terme straifié suivi","EVA TNN Duree hosp mere avant accouchement","Age en jours lors du transfert (J majuscule + chiffre sans espace)","Stratific. Age en jr lors TNN","circonstance du tnn","MOTIF TRANSFERT ?                           ","A remplir +++++++++++++++++Detail indication en clair …..","MOTIF SECONDAIRE ? ","Mère n'a pas eu de pathologie pdt la grossesse ","Si patho laquelle ? ","patho maternelle avt cette grossesse","la CORTICOTHERAPIE ANTENAT a été  FAITE ? ","SINGLETON ou GEM ou TRIPLE","..Travail       Spontané..","Durée ouverture de l'oeuf","le LA était clair …","et le RCF était \nnormal  ...","Médicaments pdt le W    ","la mére a eu de la fièvre pdt le W  :                        ","Durée du W ","Anesthésie : APD           Rachi\nAG            Proto         Aucune        ","..Présentation ?          ","Conditions     d'accouchement ","Indication de l'extraction :","Personnel present lors de l'accouchement ","Poids nné en gr(J1/J2)","APGAR 1mn","APGAR 3mn","APGAR\n5mn","APGAR 10mn","VALEUR SILVERMAN ","PH cordon ","VALEUR PHAO/ PHVO/ LACTATES","VALEUR TEMP (cut ou rectale)","Horaire dextro% naisssance","Valeur Dextro et unité G=gr et M=mmom/L","FC/mn","Aspiration :    pharyngée      trachéale        aucune","REA NN","MASSAGE CARDIAQUE","VENTIL AU MASQUE","ADRE","BICAR ","gavage SG 10%","surfactant administré ","TYPE DE VENTILATION SPONT/ HOOD/ CPAP/ VARTIF A REMPLIR AUSSI SI RETNN ","Horaire de début de la détresse respiratoire par rapport à la naissance","SaO2","FiO2 en %","Heure intubation","Stratification Heure d'intubation","N°sonde","Repere racine nez cm ","SI INTUBATION FR ","voie veineuse ","ABTIQUE ou AUTRES ","drain thoracique ","Est ce un RE TRANSFERT?","RET             date de naissance","RET       Age gesta. à la naissance","RET       Age en jours lors du reT ","RET     Poids de naissance","RET    Poids du jour  ","Alimentation ","Est ce un TNN pour risque infectieux","La mère a t'elle eu des Abtiques pdt le travail ","de quel type de risque infectieux s'agit-il","Existence de signes cliniques","CRP N-NE <25","TRANSFERT REALISE OU NON","Etat du n-né à l'arrivée","Appel referent et ou au coordinateur","attention remplir le suivi uniquement si il y a eu appel au référent ou au coordinateur","durée totale d'hospitalisation en jours  ","nbr de jr rea","nbr de jr SI","nbr de jr NN","Décès enfant :  oui                    non   ","Si DC, cause ","MMH ","Administration de surfactant ","Une intubation ventil a-t-elle été réalisée :\noui\nnon   ","Si une intubation ventil a été réalisée, durée en jours ","CAUSE DETRESSE RESPIRATOIRE ","Oxygenodépendance : apres J 28 ou 36SA      ","Complication neuro ","Hgie intraventric III ou IV : oui                                     non","Leucomalacie periventric :\n oui      non","Pronostic neuro à la sortie: bon                        réservé                 mauvais                 ","enterocolite ","Complication IATROGENE pdt SEJOUR EN NEONAT en clair ","Infection nosocomiale (septicemie, infect urin, infect pulm)","Date de sortie du service receveur ","Lieu où se fait la sortie                    ","Confirmation raison transfert : \noui                                           \nnon ","y a-t-il eu un retransfert vers CP II ou CPI :\noui                                                                 non","Separation mère enfant :    mère et nné dans 2 hoptx distincts                     oui /non","durée séparation","Adéquation reseau : oui/non","Adéquation risque maternel / CP initial :\noui                                                          non",null,null,"VALIDATION \nne pas supprimer colonnes DO à FJ","hospit mère","oui/non","motif médical","présentation","conditions acc","anesthésie","aspiration","Pronostic neuro ?","PH ?","ventilation","type voie veineuse","S GG TTT","SILVERMAN","racine nez","dextro hor","état liquide","état RCF","patho mère","sonde","Température","cortico mère","médicaments","fièvre","type de transf","degré d'urgence","déplacement","W spontané","mode d'alimentation","sortie vers ?","strat détail","strat âge J","niveau","Cause détr resp.","H détut DR","état santé NN à l'arrivée","Strat H intubation","risque infectieux","Complicationneurologique","type risque infectieux","mère antibio","CRP nouveau-né","signes cliniques","circonstances","motif medic secondaire","strat simple","strat suivi"]
[null,null,null,null,null,null,null,null,null,null,null,null,null,null,null,{"$f":"N2+(O2/7)","v":0},{"$f":"IF(P2<25.9,\"23-25,9\",IF(P2<27.9,\"26-27,9\",IF(P2<31.9,\"28-31,9\",IF(P2<34.9,\"32-34,9\",IF(P2<36.9,\"35-36,9\",IF(P2<40.2,\"37-40,2\",IF(P2<42,\"40,3-42\",IF(P2>=42,\">42\"))))))))","v":"23-25,9"},{"$f":"IF(P2<31.9,\"24-31,9\",IF(P2<42,\"32-42\",IF(P2>=42,\">42\")))","v":"24-31,9"},{"$f":"IF(P2<27.9,\"24-27,9\",IF(P2<42,\"28-42\",IF(P2>=42,\">42\")))","v":"24-27,9"},null,null,null,null,null,null,null,null,null,null,null,null,null,null,null,null,null,null,null,null,null,null,null,null,null,null,null,null,null,null,null,null,null,null,null,null,null,null,null,null,null,null,null,null,null,null,null,null,null,null,null,null,null,null,null,null,null,null,null,null,null,null,null,null,null,null,null,null,null,null,null,null,null,null,null,null,null,null,null,null,null,null,null,null,null,null,null,null,null,null,null,null,null,null,null,null,null,null,null,null,null,"NE PAS SUPPRIMER LA LIGNE","0-23","OUI","Prématurité sans detresse respiratoire ni RCIU ","céphalique","Eutocique","APD","Pharyngée","Bon","FAIT ","SPONT","AUCUNE","SINGLETON",0,7,"0-30","clair","RCF NL","PAS de Patho",2,33,"corticotherapie fait<15jrs","NAP","temperature>38°C","TNN","URGENT","OUI","spontané","sonde nasale","service de neonat d'un II ou III ","23-25,9","J0","I","MMH","H0-H2","aggravation","0-15","oui isole","oui","Hyper thermie maternelle","oui","oui","oui","appel pour tnn ","détresse respiratoire","24-31,9","24-27,9"]
[null,null,null,null,null,null,null,null,null,null,null,null,null,null,null,{"$f":"N3+(O3/7)","v":0},{"$f":"IF(P3<25.9,\"23-25,9\",IF(P3<27.9,\"26-27,9\",IF(P3<31.9,\"28-31,9\",IF(P3<34.9,\"32-34,9\",IF(P3<36.9,\"35-36,9\",IF(P3<40.2,\"37-40,2\",IF(P3<42,\"40,3-42\",IF(P3>=42,\">42\"))))))))","v":"23-25,9"},{"$f":"IF(P3<31.9,\"24-31,9\",IF(P3<42,\"32-42\",IF(P3>=42,\">42\")))","v":"24-31,9"},{"$f":"IF(P3<27.9,\"24-27,9\",IF(P3<42,\"28-42\",IF(P3>=42,\">42\")))","v":"24-27,9"},null,null,null,null,null,null,null,null,null,null,null,null,null,null,null,null,null,null,null,null,null,null,null,null,null,null,null,null,null,null,null,null,null,null,null,null,null,null,null,null,null,null,null,null,null,null,null,null,null,null,null,null,null,null,null,null,null,null,null,null,null,null,null,null,null,null,null,null,null,null,null,null,null,null,null,null,null,null,null,null,null,null,null,null,null,null,null,null,null,null,null,null,null,null,null,null,null,null,null,null,null,"NE PAS SUPPRIMER LA LIGNE","24-48","NON","Detresse respiratoire","siège","Ventouse","Rachi","Trachéale","Réservé","NON FAIT ","HOOD","PERIPH","GEM",1,7.5,"31-60","meconial ","RCF ANL","Patho ",2.5,33.5,"corticot >15 jrs","pas de medicament ","pas de fievre ","RETNN","SEMI URGENT","NON","déclenché","sonde orogast","maternite type I ","26-27,9","J1","IIA","DRT","H3-H24","stable","16-30","oui associe","non","Hyperthermie néonat","non","non","non","appel pour demande de samu en ANTENATAL","RCIU","32-42","28-42"]
[null,null,null,null,null,null,null,null,null,null,null,null,null,null,null,0,"23-25,9","24-31,9","24-27,9",null,null,null,null,null,null,null,null,null,null,null,null,null,null,null,null,null,null,null,null,null,null,null,null,null,null,null,null,null,null,null,null,null,null,null,null,null,null,null,null,null,null,null,null,null,null,null,null,null,null,null,null,null,null,null,null,null,null,null,null,null,null,null,null,null,null,null,null,null,null,null,null,null,null,null,null,null,null,null,null,null,null,null,null,null,null,null,null,null,null,null,null,null,null,null,null,null,null,null,null,null,"NE PAS SUPPRIMER LA LIGNE",">48",null,"Detresse circulatoire","transverse","Forceps","AG","Aucune","Mauvais",null,"CPAP","KTVO","TRIPLE",2,8,"61-120","sanglant ",null,"G non suivie",3,34,"corticot non fait ","ocytocique",null,"DTNN","NON URGENT ","INUTILE MDC/PLAC","césar avt travail","parent","domicile","28-31,9","J2-J7","IIB","INHAL LIQ CLAIR (ILAC)",">H24","amélioration","31-60","non","ne sait pas","RPM>12h","ne sait pas","non fait ","ne sait pas","appel pour tiu et en fait extraction sur place ","Suspicion infection fœtale","nap","nap"]
[null,null,null,null,null,null,null,null,null,null,null,null,null,null,null,0,"23-25,9","24-31,9","24-27,9",null,null,null,null,null,null,null,null,null,null,null,null,null,null,null,null,null,null,null,null,null,null,null,null,null,null,null,null,null,null,null,null,null,null,null,null,null,null,null,null,null,null,null,null,null,null,null,null,null,null,null,null,null,null,null,null,null,null,null,null,null,null,null,null,null,null,null,null,null,null,null,null,null,null,null,null,null,null,null,null,null,null,null,null,null,null,null,null,null,null,null,null,null,null,null,null,null,null,null,null,null,"NE PAS SUPPRIMER LA LIGNE","non communiqué",null,"Suspicion Infection fœtale",null,"Spatules","Proto",null,null,null,"VENTARTIF","PERIPH+KTVO","AUTRE",3,8.5,">120","teinté",null,null,3.5,34.5,"cortic lors du transfert ","antibiotique",null,"TER",null,null,null,"bib","DCD","32-34,9",">J7","III","INHAL LIQ MEC (ILAM)","autre ","inconnu","61-120",null,null,"LA méconial",null,null,null,"autre ","PREMA AVEC DETRESSE RESPIRATOIRE"]
[null,null,null,null,null,null,null,null,null,null,null,null,null,null,null,0,"23-25,9","24-31,9","24-27,9",null,null,null,null,null,null,null,null,null,null,null,null,null,null,null,null,null,null,null,null,null,null,null,null,null,null,null,null,null,null,null,null,null,null,null,null,null,null,null,null,null,null,null,null,null,null,null,null,null,null,null,null,null,null,null,null,null,null,null,null,null,null,null,null,null,null,null,null,null,null,null,null,null,null,null,null,null,null,null,null,null,null,null,null,null,null,null,null,null,null,null,null,null,null,null,null,null,null,null,null,null,"NE PAS SUPPRIMER LA LIGNE",null,null,"RCIU",null,"Forceps et ventouse","Aucune",null,null,null,"LUNETTE","VOIE CENTRALE",null,4,9,"non fait ","autre",null,null,null,35,"cortic incomplète","psychotrope",null,"autre",null,null,null,"tetee","autre","35-36,9","NAP","IV (rea adulte/neurochir/U41)","Sd apné",null,"DCD",">120",null,null,"LA teinté",null,null,null,null,"Prématurité sans détresse respiratoire ni RCU"]
[null,null,null,null,null,null,null,null,null,null,null,null,null,null,null,0,"23-25,9","24-31,9","24-27,9",null,null,null,null,null,null,null,null,null,null,null,null,null,null,null,null,null,null,null,null,null,null,null,null,null,null,null,null,null,null,null,null,null,null,null,null,null,null,null,null,null,null,null,null,null,null,null,null,null,null,null,null,null,null,null,null,null,null,null,null,null,null,null,null,null,null,null,null,null,null,null,null,null,null,null,null,null,null,null,null,null,null,null,null,null,null,null,null,null,null,null,null,null,null,null,null,null,null,null,null,null,"NE PAS SUPPRIMER LA LIGNE",null,null,"ICTERE",null,"César avant travail",null,null,null,null,null,null,null,5,9.5,null,null,null,null,null,35.5,"ne s'applique pas car >34SA","ocytocique et antibio",null,null,null,null,null,null,null,"37-40,2",null,"V","souf neuro",null,null,"inconnu",null,null,"Strepto B maternel",null,null,null,null,"Détresse circulatoire"]
[null,null,null,null,null,null,null,null,null,null,null,null,null,null,null,0,"23-25,9","24-31,9","24-27,9",null,null,null,null,null,null,null,null,null,null,null,null,null,null,null,null,null,null,null,null,null,null,null,null,null,null,null,null,null,null,null,null,null,null,null,null,null,null,null,null,null,null,null,null,null,null,null,null,null,null,null,null,null,null,null,null,null,null,null,null,null,null,null,null,null,null,null,null,null,null,null,null,null,null,null,null,null,null,null,null,null,null,null,null,null,null,null,null,null,null,null,null,null,null,null,null,null,null,null,null,null,"NE PAS SUPPRIMER LA LIGNE",null,null,"Souf neuro",null,"César pdt travail",null,null,null,null,null,null,null,6,10,null,null,null,null,null,36,null,"ocytocique et psychotrope",null,null,null,null,null,null,null,"40,3-42",null,"non réalisé","Pneumo-thorax",null,null,null,null,null,"Tachycardie inexpliqué",null,null,null,null,"Manque de place "]
[null,null,null,null,null,null,null,null,null,null,null,null,null,null,null,0,"23-25,9","24-31,9","24-27,9",null,null,null,null,null,null,null,null,null,null,null,null,null,null,null,null,null,null,null,null,null,null,null,null,null,null,null,null,null,null,null,null,null,null,null,null,null,null,null,null,null,null,null,null,null,null,null,null,null,null,null,null,null,null,null,null,null,null,null,null,null,null,null,null,null,null,null,null,null,null,null,null,null,null,null,null,null,null,null,null,null,null,null,null,null,null,null,null,null,null,null,null,null,null,null,null,null,null,null,null,null,"NE PAS SUPPRIMER LA LIGNE",null,null,"Malfo",null,null,null,null,null,null,null,null,null,7,10.5,null,null,null,null,null,36.5,null,"antibio et psychotrope",null,null,null,null,null,null,null,">42",null,"CP","autre ",null,null,null,null,null,"SB inconnu",null,null,null,null,"AUTRE "]
[null,null,null,null,null,null,null,null,null,null,null,null,null,null,null,0,"23-25,9","24-31,9","24-27,9",null,null,null,null,null,null,null,null,null,null,null,null,null,null,null,null,null,null,null,null,null,null,null,null,null,null,null,null,null,null,null,null,null,null,null,null,null,null,null,null,null,null,null,null,null,null,null,null,null,null,null,null,null,null,null,null,null,null,null,null,null,null,null,null,null,null,null,null,null,null,null,null,null,null,null,null,null,null,null,null,null,null,null,null,null,null,null,null,null,null,null,null,null,null,null,null,null,null,null,null,null,"NE PAS SUPPRIMER LA LIGNE",null,null,"TROUBLE HEMATOLOGIQUE (thrombopenie, anemie)",null,null,null,null,null,null,null,null,null,8,11,null,null,null,null,null,37,null,"ocytocique/antibio/psycho",null,null,null,null,null,null,null,"NAP",null,"autre",null,null,null,null,null,null,"autre"]
[null,null,null,null,null,null,null,null,null,null,null,null,null,null,null,0,"23-25,9","24-31,9","24-27,9",null,null,null,null,null,null,null,null,null,null,null,null,null,null,null,null,null,null,null,null,null,null,null,null,null,null,null,null,null,null,null,null,null,null,null,null,null,null,null,null,null,null,null,null,null,null,null,null,null,null,null,null,null,null,null,null,null,null,null,null,null,null,null,null,null,null,null,null,null,null,null,null,null,null,null,null,null,null,null,null,null,null,null,null,null,null,null,null,null,null,null,null,null,null,null,null,null,null,null,null,null,"NE PAS SUPPRIMER LA LIGNE",null,null,"LA meco isole",null,null,null,null,null,null,null,null,null,9,11.5,null,null,null,null,null,37.5,null,"autre"]
[null,null,null,null,null,null,null,null,null,null,null,null,null,null,null,0,"23-25,9","24-31,9","24-27,9",null,null,null,null,null,null,null,null,null,null,null,null,null,null,null,null,null,null,null,null,null,null,null,null,null,null,null,null,null,null,null,null,null,null,null,null,null,null,null,null,null,null,null,null,null,null,null,null,null,null,null,null,null,null,null,null,null,null,null,null,null,null,null,null,null,null,null,null,null,null,null,null,null,null,null,null,null,null,null,null,null,null,null,null,null,null,null,null,null,null,null,null,null,null,null,null,null,null,null,null,null,"NE PAS SUPPRIMER LA LIGNE",null,null,"Retransfert",null,null,null,null,null,null,null,null,null,10,12,null,null,null,null,null,38,null,"antihypertenseur"]
[null,null,null,null,null,null,null,null,null,null,null,null,null,null,null,0,"23-25,9","24-31,9","24-27,9",null,null,null,null,null,null,null,null,null,null,null,null,null,null,null,null,null,null,null,null,null,null,null,null,null,null,null,null,null,null,null,null,null,null,null,null,null,null,null,null,null,null,null,null,null,null,null,null,null,null,null,null,null,null,null,null,null,null,null,null,null,null,null,null,null,null,null,null,null,null,null,null,null,null,null,null,null,null,null,null,null,null,null,null,null,null,null,null,null,null,null,null,null,null,null,null,null,null,null,null,null,"NE PAS SUPPRIMER LA LIGNE",null,null,"n-né mère diabetique   hypoglycemie hyperglycemie",null,null,null,null,null,null,null,null,null,null,12.5,null,null,null,null,null,38.5]
[null,null,null,null,null,null,null,null,null,null,null,null,null,null,null,0,"23-25,9","24-31,9","24-27,9",null,null,null,null,null,null,null,null,null,null,null,null,null,null,null,null,null,null,null,null,null,null,null,null,null,null,null,null,null,null,null,null,null,null,null,null,null,null,null,null,null,null,null,null,null,null,null,null,null,null,null,null,null,null,null,null,null,null,null,null,null,null,null,null,null,null,null,null,null,null,null,null,null,null,null,null,null,null,null,null,null,null,null,null,null,null,null,null,null,null,null,null,null,null,null,null,null,null,null,null,null,"NE PAS SUPPRIMER LA LIGNE",null,null,"pathologie digestive",null,null,null,null,null,null,null,null,null,null,13,null,null,null,null,null,39]
[null,null,null,null,null,null,null,null,null,null,null,null,null,null,null,0,"23-25,9","24-31,9","24-27,9",null,null,null,null,null,null,null,null,null,null,null,null,null,null,null,null,null,null,null,null,null,null,null,null,null,null,null,null,null,null,null,null,null,null,null,null,null,null,null,null,null,null,null,null,null,null,null,null,null,null,null,null,null,null,null,null,null,null,null,null,null,null,null,null,null,null,null,null,null,null,null,null,null,null,null,null,null,null,null,null,null,null,null,null,null,null,null,null,null,null,null,null,null,null,null,null,null,null,null,null,null,"NE PAS SUPPRIMER LA LIGNE",null,null,"autre ",null,null,null,null,null,null,null,null,null,null,"NAP",null,null,null,null,null,39.5]
[null,null,null,null,null,null,null,null,null,null,null,null,null,null,null,0,"23-25,9","24-31,9","24-27,9"]
[null,null,null,null,null,null,null,null,null,null,null,null,null,null,null,0,"23-25,9","24-31,9","24-27,9"]
[null,null,null,null,null,null,null,null,null,null,null,null,null,null,null,0,"23-25,9","24-31,9","24-27,9"]
[null,null,null,null,null,null,null,null,null,null,null,null,null,null,null,0,"23-25,9","24-31,9","24-27,9"]
[null,null,null,null,null,null,null,null,null,null,null,null,null,null,null,0,"23-25,9","24-31,9","24-27,9"]
[null,null,null,null,null,null,null,null,null,null,null,null,null,null,null,0,"23-25,9","24-31,9","24-27,9"]
[null,null,null,null,null,null,null,null,null,null,null,null,null,null,null,0,"23-25,9","24-31,9","24-27,9"]
[null,null,null,null,null,null,null,null,null,null,null,null,null,null,null,0,"23-25,9","24-31,9","24-27,9"]
[null,null,null,null,null,null,null,null,null,null,null,null,null,null,null,0,"23-25,9","24-31,9","24-27,9"]
[null,null,null,null,null,null,null,null,null,null,null,null,null,null,null,0,"23-25,9","24-31,9","24-27,9"]
[null,null,null,null,null,null,null,null,null,null,null,null,null,null,null,0,"23-25,9","24-31,9","24-27,9"]
[null,null,null,null,null,null,null,null,null,null,null,null,null,null,null,0,"23-25,9","24-31,9","24-27,9"]
[null,null,null,null,null,null,null,null,null,null,null,null,null,null,null,0,"23-25,9","24-31,9","24-27,9"]
[null,null,null,null,null,null,null,null,null,null,null,null,null,null,null,0,"23-25,9","24-31,9","24-27,9"]
[null,null,null,null,null,null,null,null,null,null,null,null,null,null,null,0,"23-25,9","24-31,9","24-27,9"]
[null,null,null,null,null,null,null,null,null,null,null,null,null,null,null,0,"23-25,9","24-31,9","24-27,9"]
[null,null,null,null,null,null,null,null,null,null,null,null,null,null,null,0,"23-25,9","24-31,9","24-27,9"]
[null,null,null,null,null,null,null,null,null,null,null,null,null,null,null,0,"23-25,9","24-31,9","24-27,9"]
[null,null,null,null,null,null,null,null,null,null,null,null,null,null,null,0,"23-25,9","24-31,9","24-27,9"]
[null,null,null,null,null,null,null,null,null,null,null,null,null,null,null,0,"23-25,9","24-31,9","24-27,9"]
[null,null,null,null,null,null,null,null,null,null,null,null,null,null,null,0,"23-25,9","24-31,9","24-27,9"]
[null,null,null,null,null,null,null,null,null,null,null,null,null,null,null,0,"23-25,9","24-31,9","24-27,9"]
[null,null,null,null,null,null,null,null,null,null,null,null,null,null,null,0,"23-25,9","24-31,9","24-27,9"]
[null,null,null,null,null,null,null,null,null,null,null,null,null,null,null,0,"23-25,9","24-31,9","24-27,9"]
[null,null,null,null,null,null,null,null,null,null,null,null,null,null,null,0,"23-25,9","24-31,9","24-27,9"]
[null,null,null,null,null,null,null,null,null,null,null,null,null,null,null,0,"23-25,9","24-31,9","24-27,9"]
[null,null,null,null,null,null,null,null,null,null,null,null,null,null,null,0,"23-25,9","24-31,9","24-27,9"]
[null,null,null,null,null,null,null,null,null,null,null,null,null,null,null,0,"23-25,9","24-31,9","24-27,9"]
[null,null,null,null,null,null,null,null,null,null,null,null,null,null,null,0,"23-25,9","24-31,9","24-27,9"]
[null,null,null,null,null,null,null,null,null,null,null,null,null,null,null,0,"23-25,9","24-31,9","24-27,9"]
[null,null,null,null,null,null,null,null,null,null,null,null,null,null,null,0,"23-25,9","24-31,9","24-27,9"]
[null,null,null,null,null,null,null,null,null,null,null,null,null,null,null,0,"23-25,9","24-31,9","24-27,9"]
[null,null,null,null,null,null,null,null,null,null,null,null,null,null,null,0,"23-25,9","24-31,9","24-27,9"]
[null,null,null,null,null,null,null,null,null,null,null,null,null,null,null,0,"23-25,9","24-31,9","24-27,9"]
[null,null,null,null,null,null,null,null,null,null,null,null,null,null,null,0,"23-25,9","24-31,9","24-27,9"]
[null,null,null,null,null,null,null,null,null,null,null,null,null,null,null,0,"23-25,9","24-31,9","24-27,9"]
[null,null,null,null,null,null,null,null,null,null,null,null,null,null,null,0,"23-25,9","24-31,9","24-27,9"]
[null,null,null,null,null,null,null,null,null,null,null,null,null,null,null,0,"23-25,9","24-31,9","24-27,9"]
[null,null,null,null,null,null,null,null,null,null,null,null,null,null,null,0,"23-25,9","24-31,9","24-27,9"]
[null,null,null,null,null,null,null,null,null,null,null,null,null,null,null,0,"23-25,9","24-31,9","24-27,9"]
[null,null,null,null,null,null,null,null,null,null,null,null,null,null,null,0,"23-25,9","24-31,9","24-27,9"]
[null,null,null,null,null,null,null,null,null,null,null,null,null,null,null,0,"23-25,9","24-31,9","24-27,9"]
[null,null,null,null,null,null,null,null,null,null,null,null,null,null,null,0,"23-25,9","24-31,9","24-27,9"]
[null,null,null,null,null,null,null,null,null,null,null,null,null,null,null,0,"23-25,9","24-31,9","24-27,9"]
[null,null,null,null,null,null,null,null,null,null,null,null,null,null,null,0,"23-25,9","24-31,9","24-27,9"]
[null,null,null,null,null,null,null,null,null,null,null,null,null,null,null,0,"23-25,9","24-31,9","24-27,9"]
[null,null,null,null,null,null,null,null,null,null,null,null,null,null,null,0,"23-25,9","24-31,9","24-27,9"]
[null,null,null,null,null,null,null,null,null,null,null,null,null,null,null,0,"23-25,9","24-31,9","24-27,9"]
[null,null,null,null,null,null,null,null,null,null,null,null,null,null,null,0,"23-25,9","24-31,9","24-27,9"]
[null,null,null,null,null,null,null,null,null,null,null,null,null,null,null,0,"23-25,9","24-31,9","24-27,9"]
[null,null,null,null,null,null,null,null,null,null,null,null,null,null,null,0,"23-25,9","24-31,9","24-27,9"]
[null,null,null,null,null,null,null,null,null,null,null,null,null,null,null,{"$f":"N67+(O67/7)","v":0},{"$f":"IF(P67<25.9,\"23-25,9\",IF(P67<27.9,\"26-27,9\",IF(P67<31.9,\"28-31,9\",IF(P67<34.9,\"32-34,9\",IF(P67<36.9,\"35-36,9\",IF(P67<40.2,\"37-40,2\",IF(P67<42,\"40,3-42\",IF(P67>=42,\">42\"))))))))","v":"23-25,9"},{"$f":"IF(P67<31.9,\"24-31,9\",IF(P67<42,\"32-42\",IF(P67>=42,\">42\")))","v":"24-31,9"},{"$f":"IF(P67<27.9,\"24-27,9\",IF(P67<42,\"28-42\",IF(P67>=42,\">42\")))","v":"24-27,9"}]
[null,null,null,null,null,null,null,null,null,null,null,null,null,null,null,0,"23-25,9","24-31,9","24-27,9"]
[null,null,null,null,null,null,null,null,null,null,null,null,null,null,null,0,"23-25,9","24-31,9","24-27,9"]
[null,null,null,null,null,null,null,null,null,null,null,null,null,null,null,0,"23-25,9","24-31,9","24-27,9"]
[null,null,null,null,null,null,null,null,null,null,null,null,null,null,null,0,"23-25,9","24-31,9","24-27,9"]
[null,null,null,null,null,null,null,null,null,null,null,null,null,null,null,0,"23-25,9","24-31,9","24-27,9"]
[null,null,null,null,null,null,null,null,null,null,null,null,null,null,null,0,"23-25,9","24-31,9","24-27,9"]
[null,null,null,null,null,null,null,null,null,null,null,null,null,null,null,0,"23-25,9","24-31,9","24-27,9"]
[null,null,null,null,null,null,null,null,null,null,null,null,null,null,null,0,"23-25,9","24-31,9","24-27,9"]
[null,null,null,null,null,null,null,null,null,null,null,null,null,null,null,0,"23-25,9","24-31,9","24-27,9"]
[null,null,null,null,null,null,null,null,null,null,null,null,null,null,null,0,"23-25,9","24-31,9","24-27,9"]
[null,null,null,null,null,null,null,null,null,null,null,null,null,null,null,0,"23-25,9","24-31,9","24-27,9"]
[null,null,null,null,null,null,null,null,null,null,null,null,null,null,null,0,"23-25,9","24-31,9","24-27,9"]
[null,null,null,null,null,null,null,null,null,null,null,null,null,null,null,0,"23-25,9","24-31,9","24-27,9"]
[null,null,null,null,null,null,null,null,null,null,null,null,null,null,null,0,"23-25,9","24-31,9","24-27,9"]
[null,null,null,null,null,null,null,null,null,null,null,null,null,null,null,0,"23-25,9","24-31,9","24-27,9"]
[null,null,null,null,null,null,null,null,null,null,null,null,null,null,null,0,"23-25,9","24-31,9","24-27,9"]
[null,null,null,null,null,null,null,null,null,null,null,null,null,null,null,0,"23-25,9","24-31,9","24-27,9"]
[null,null,null,null,null,null,null,null,null,null,null,null,null,null,null,0,"23-25,9","24-31,9","24-27,9"]
[null,null,null,null,null,null,null,null,null,null,null,null,null,null,null,0,"23-25,9","24-31,9","24-27,9"]
[null,null,null,null,null,null,null,null,null,null,null,null,null,null,null,0,"23-25,9","24-31,9","24-27,9"]
[null,null,null,null,null,null,null,null,null,null,null,null,null,null,null,0,"23-25,9","24-31,9","24-27,9"]
[null,null,null,null,null,null,null,null,null,null,null,null,null,null,null,0,"23-25,9","24-31,9","24-27,9"]
[null,null,null,null,null,null,null,null,null,null,null,null,null,null,null,0,"23-25,9","24-31,9","24-27,9"]
[null,null,null,null,null,null,null,null,null,null,null,null,null,null,null,0,"23-25,9","24-31,9","24-27,9"]
[null,null,null,null,null,null,null,null,null,null,null,null,null,null,null,0,"23-25,9","24-31,9","24-27,9"]
[null,null,null,null,null,null,null,null,null,null,null,null,null,null,null,0,"23-25,9","24-31,9","24-27,9"]
[null,null,null,null,null,null,null,null,null,null,null,null,null,null,null,0,"23-25,9","24-31,9","24-27,9"]
[null,null,null,null,null,null,null,null,null,null,null,null,null,null,null,0,"23-25,9","24-31,9","24-27,9"]
[null,null,null,null,null,null,null,null,null,null,null,null,null,null,null,0,"23-25,9","24-31,9","24-27,9"]
[null,null,null,null,null,null,null,null,null,null,null,null,null,null,null,0,"23-25,9","24-31,9","24-27,9"]
[null,null,null,null,null,null,null,null,null,null,null,null,null,null,null,0,"23-25,9","24-31,9","24-27,9"]
[null,null,null,null,null,null,null,null,null,null,null,null,null,null,null,0,"23-25,9","24-31,9","24-27,9"]
[null,null,null,null,null,null,null,null,null,null,null,null,null,null,null,0,"23-25,9","24-31,9","24-27,9"]
[null,null,null,null,null,null,null,null,null,null,null,null,null,null,null,0,"23-25,9","24-31,9","24-27,9"]
[null,null,null,null,null,null,null,null,null,null,null,null,null,null,null,0,"23-25,9","24-31,9","24-27,9"]
[null,null,null,null,null,null,null,null,null,null,null,null,null,null,null,0,"23-25,9","24-31,9","24-27,9"]
[null,null,null,null,null,null,null,null,null,null,null,null,null,null,null,0,"23-25,9","24-31,9","24-27,9"]
[null,null,null,null,null,null,null,null,null,null,null,null,null,null,null,0,"23-25,9","24-31,9","24-27,9"]
[null,null,null,null,null,null,null,null,null,null,null,null,null,null,null,0,"23-25,9","24-31,9","24-27,9"]
[null,null,null,null,null,null,null,null,null,null,null,null,null,null,null,0,"23-25,9","24-31,9","24-27,9"]
[null,null,null,null,null,null,null,null,null,null,null,null,null,null,null,0,"23-25,9","24-31,9","24-27,9"]
[null,null,null,null,null,null,null,null,null,null,null,null,null,null,null,0,"23-25,9","24-31,9","24-27,9"]
[null,null,null,null,null,null,null,null,null,null,null,null,null,null,null,0,"23-25,9","24-31,9","24-27,9"]
[null,null,null,null,null,null,null,null,null,null,null,null,null,null,null,0,"23-25,9","24-31,9","24-27,9"]
[null,null,null,null,null,null,null,null,null,null,null,null,null,null,null,0,"23-25,9","24-31,9","24-27,9"]
[null,null,null,null,null,null,null,null,null,null,null,null,null,null,null,0,"23-25,9","24-31,9","24-27,9"]
[null,null,null,null,null,null,null,null,null,null,null,null,null,null,null,0,"23-25,9","24-31,9","24-27,9"]
[null,null,null,null,null,null,null,null,null,null,null,null,null,null,null,0,"23-25,9","24-31,9","24-27,9"]
[null,null,null,null,null,null,null,null,null,null,null,null,null,null,null,0,"23-25,9","24-31,9","24-27,9"]
[null,null,null,null,null,null,null,null,null,null,null,null,null,null,null,0,"23-25,9","24-31,9","24-27,9"]
[null,null,null,null,null,null,null,null,null,null,null,null,null,null,null,0,"23-25,9","24-31,9","24-27,9"]
[null,null,null,null,null,null,null,null,null,null,null,null,null,null,null,0,"23-25,9","24-31,9","24-27,9"]
[null,null,null,null,null,null,null,null,null,null,null,null,null,null,null,0,"23-25,9","24-31,9","24-27,9"]
[null,null,null,null,null,null,null,null,null,null,null,null,null,null,null,0,"23-25,9","24-31,9","24-27,9"]
[null,null,null,null,null,null,null,null,null,null,null,null,null,null,null,0,"23-25,9","24-31,9","24-27,9"]
[null,null,null,null,null,null,null,null,null,null,null,null,null,null,null,0,"23-25,9","24-31,9","24-27,9"]
[null,null,null,null,null,null,null,null,null,null,null,null,null,null,null,0,"23-25,9","24-31,9","24-27,9"]
[null,null,null,null,null,null,null,null,null,null,null,null,null,null,null,0,"23-25,9","24-31,9","24-27,9"]
[null,null,null,null,null,null,null,null,null,null,null,null,null,null,null,0,"23-25,9","24-31,9","24-27,9"]
[null,null,null,null,null,null,null,null,null,null,null,null,null,null,null,0,"23-25,9","24-31,9","24-27,9"]
[null,null,null,null,null,null,null,null,null,null,null,null,null,null,null,0,"23-25,9","24-31,9","24-27,9"]
[null,null,null,null,null,null,null,null,null,null,null,null,null,null,null,0,"23-25,9","24-31,9","24-27,9"]
[null,null,null,null,null,null,null,null,null,null,null,null,null,null,null,0,"23-25,9","24-31,9","24-27,9"]
[null,null,null,null,null,null,null,null,null,null,null,null,null,null,null,{"$f":"N131+(O131/7)","v":0},{"$f":"IF(P131<25.9,\"23-25,9\",IF(P131<27.9,\"26-27,9\",IF(P131<31.9,\"28-31,9\",IF(P131<34.9,\"32-34,9\",IF(P131<36.9,\"35-36,9\",IF(P131<40.2,\"37-40,2\",IF(P131<42,\"40,3-42\",IF(P131>=42,\">42\"))))))))","v":"23-25,9"},{"$f":"IF(P131<31.9,\"24-31,9\",IF(P131<42,\"32-42\",IF(P131>=42,\">42\")))","v":"24-31,9"},{"$f":"IF(P131<27.9,\"24-27,9\",IF(P131<42,\"28-42\",IF(P131>=42,\">42\")))","v":"24-27,9"}]
[null,null,null,null,null,null,null,null,null,null,null,null,null,null,null,0,"23-25,9","24-31,9","24-27,9"]
[null,null,null,null,null,null,null,null,null,null,null,null,null,null,null,0,"23-25,9","24-31,9","24-27,9"]
[null,null,null,null,null,null,null,null,null,null,null,null,null,null,null,0,"23-25,9","24-31,9","24-27,9"]
[null,null,null,null,null,null,null,null,null,null,null,null,null,null,null,0,"23-25,9","24-31,9","24-27,9"]
[null,null,null,null,null,null,null,null,null,null,null,null,null,null,null,0,"23-25,9","24-31,9","24-27,9"]
[null,null,null,null,null,null,null,null,null,null,null,null,null,null,null,0,"23-25,9","24-31,9","24-27,9"]
[null,null,null,null,null,null,null,null,null,null,null,null,null,null,null,0,"23-25,9","24-31,9","24-27,9"]
[null,null,null,null,null,null,null,null,null,null,null,null,null,null,null,0,"23-25,9","24-31,9","24-27,9"]
[null,null,null,null,null,null,null,null,null,null,null,null,null,null,null,0,"23-25,9","24-31,9","24-27,9"]
[null,null,null,null,null,null,null,null,null,null,null,null,null,null,null,0,"23-25,9","24-31,9","24-27,9"]
[null,null,null,null,null,null,null,null,null,null,null,null,null,null,null,0,"23-25,9","24-31,9","24-27,9"]
[null,null,null,null,null,null,null,null,null,null,null,null,null,null,null,0,"23-25,9","24-31,9","24-27,9"]
[null,null,null,null,null,null,null,null,null,null,null,null,null,null,null,0,"23-25,9","24-31,9","24-27,9"]
[null,null,null,null,null,null,null,null,null,null,null,null,null,null,null,0,"23-25,9","24-31,9","24-27,9"]
[null,null,null,null,null,null,null,null,null,null,null,null,null,null,null,0,"23-25,9","24-31,9","24-27,9"]
[null,null,null,null,null,null,null,null,null,null,null,null,null,null,null,0,"23-25,9","24-31,9","24-27,9"]
[null,null,null,null,null,null,null,null,null,null,null,null,null,null,null,0,"23-25,9","24-31,9","24-27,9"]
[null,null,null,null,null,null,null,null,null,null,null,null,null,null,null,0,"23-25,9","24-31,9","24-27,9"]
[null,null,null,null,null,null,null,null,null,null,null,null,null,null,null,0,"23-25,9","24-31,9","24-27,9"]
[null,null,null,null,null,null,null,null,null,null,null,null,null,null,null,0,"23-25,9","24-31,9","24-27,9"]
[null,null,null,null,null,null,null,null,null,null,null,null,null,null,null,0,"23-25,9","24-31,9","24-27,9"]
[null,null,null,null,null,null,null,null,null,null,null,null,null,null,null,0,"23-25,9","24-31,9","24-27,9"]
[null,null,null,null,null,null,null,null,null,null,null,null,null,null,null,0,"23-25,9","24-31,9","24-27,9"]
[null,null,null,null,null,null,null,null,null,null,null,null,null,null,null,0,"23-25,9","24-31,9","24-27,9"]
[null,null,null,null,null,null,null,null,null,null,null,null,null,null,null,0,"23-25,9","24-31,9","24-27,9"]
[null,null,null,null,null,null,null,null,null,null,null,null,null,null,null,0,"23-25,9","24-31,9","24-27,9"]
[null,null,null,null,null,null,null,null,null,null,null,null,null,null,null,0,"23-25,9","24-31,9","24-27,9"]
[null,null,null,null,null,null,null,null,null,null,null,null,null,null,null,0,"23-25,9","24-31,9","24-27,9"]
[null,null,null,null,null,null,null,null,null,null,null,null,null,null,null,0,"23-25,9","24-31,9","24-27,9"]
[null,null,null,null,null,null,null,null,null,null,null,null,null,null,null,0,"23-25,9","24-31,9","24-27,9"]
[null,null,null,null,null,null,null,null,null,null,null,null,null,null,null,0,"23-25,9","24-31,9","24-27,9"]
[null,null,null,null,null,null,null,null,null,null,null,null,null,null,null,0,"23-25,9","24-31,9","24-27,9"]
[null,null,null,null,null,null,null,null,null,null,null,null,null,null,null,0,"23-25,9","24-31,9","24-27,9"]
[null,null,null,null,null,null,null,null,null,null,null,null,null,null,null,0,"23-25,9","24-31,9","24-27,9"]
[null,null,null,null,null,null,null,null,null,null,null,null,null,null,null,0,"23-25,9","24-31,9","24-27,9"]
[null,null,null,null,null,null,null,null,null,null,null,null,null,null,null,0,"23-25,9","24-31,9","24-27,9"]
[null,null,null,null,null,null,null,null,null,null,null,null,null,null,null,0,"23-25,9","24-31,9","24-27,9"]
[null,null,null,null,null,null,null,null,null,null,null,null,null,null,null,0,"23-25,9","24-31,9","24-27,9"]
[null,null,null,null,null,null,null,null,null,null,null,null,null,null,null,0,"23-25,9","24-31,9","24-27,9"]
[null,null,null,null,null,null,null,null,null,null,null,null,null,null,null,0,"23-25,9","24-31,9","24-27,9"]
[null,null,null,null,null,null,null,null,null,null,null,null,null,null,null,0,"23-25,9","24-31,9","24-27,9"]
[null,null,null,null,null,null,null,null,null,null,null,null,null,null,null,0,"23-25,9","24-31,9","24-27,9"]
[null,null,null,null,null,null,null,null,null,null,null,null,null,null,null,0,"23-25,9","24-31,9","24-27,9"]
[null,null,null,null,null,null,null,null,null,null,null,null,null,null,null,0,"23-25,9","24-31,9","24-27,9"]
[null,null,null,null,null,null,null,null,null,null,null,null,null,null,null,0,"23-25,9","24-31,9","24-27,9"]
[null,null,null,null,null,null,null,null,null,null,null,null,null,null,null,0,"23-25,9","24-31,9","24-27,9"]
[null,null,null,null,null,null,null,null,null,null,null,null,null,null,null,0,"23-25,9","24-31,9","24-27,9"]
[null,null,null,null,null,null,null,null,null,null,null,null,null,null,null,0,"23-25,9","24-31,9","24-27,9"]
[null,null,null,null,null,null,null,null,null,null,null,null,null,null,null,0,"23-25,9","24-31,9","24-27,9"]
[null,null,null,null,null,null,null,null,null,null,null,null,null,null,null,0,"23-25,9","24-31,9","24-27,9"]
[null,null,null,null,null,null,null,null,null,null,null,null,null,null,null,0,"23-25,9","24-31,9","24-27,9"]
[null,null,null,null,null,null,null,null,null,null,null,null,null,null,null,0,"23-25,9","24-31,9","24-27,9"]
[null,null,null,null,null,null,null,null,null,null,null,null,null,null,null,0,"23-25,9","24-31,9","24-27,9"]
[null,null,null,null,null,null,null,null,null,null,null,null,null,null,null,0,"23-25,9","24-31,9","24-27,9"]
[null,null,null,null,null,null,null,null,null,null,null,null,null,null,null,0,"23-25,9","24-31,9","24-27,9"]
[null,null,null,null,null,null,null,null,null,null,null,null,null,null,null,0,"23-25,9","24-31,9","24-27,9"]
[null,null,null,null,null,null,null,null,null,null,null,null,null,null,null,0,"23-25,9","24-31,9","24-27,9"]
[null,null,null,null,null,null,null,null,null,null,null,null,null,null,null,0,"23-25,9","24-31,9","24-27,9"]
[null,null,null,null,null,null,null,null,null,null,null,null,null,null,null,0,"23-25,9","24-31,9","24-27,9"]
[null,null,null,null,null,null,null,null,null,null,null,null,null,null,null,0,"23-25,9","24-31,9","24-27,9"]
[null,null,null,null,null,null,null,null,null,null,null,null,null,null,null,0,"23-25,9","24-31,9","24-27,9"]
[null,null,null,null,null,null,null,null,null,null,null,null,null,null,null,0,"23-25,9","24-31,9","24-27,9"]
[null,null,null,null,null,null,null,null,null,null,null,null,null,null,null,0,"23-25,9","24-31,9","24-27,9"]
[null,null,null,null,null,null,null,null,null,null,null,null,null,null,null,{"$f":"N195+(O195/7)","v":0},{"$f":"IF(P195<25.9,\"23-25,9\",IF(P195<27.9,\"26-27,9\",IF(P195<31.9,\"28-31,9\",IF(P195<34.9,\"32-34,9\",IF(P195<36.9,\"35-36,9\",IF(P195<40.2,\"37-40,2\",IF(P195<42,\"40,3-42\",IF(P195>=42,\">42\"))))))))","v":"23-25,9"},{"$f":"IF(P195<31.9,\"24-31,9\",IF(P195<42,\"32-42\",IF(P195>=42,\">42\")))","v":"24-31,9"},{"$f":"IF(P195<27.9,\"24-27,9\",IF(P195<42,\"28-42\",IF(P195>=42,\">42\")))","v":"24-27,9"}]
[null,null,null,null,null,null,null,null,null,null,null,null,null,null,null,0,"23-25,9","24-31,9","24-27,9"]
[null,null,null,null,null,null,null,null,null,null,null,null,null,null,null,0,"23-25,9","24-31,9","24-27,9"]
[null,null,null,null,null,null,null,null,null,null,null,null,null,null,null,0,"23-25,9","24-31,9","24-27,9"]
[null,null,null,null,null,null,null,null,null,null,null,null,null,null,null,0,"23-25,9","24-31,9","24-27,9"]
[null,null,null,null,null,null,null,null,null,null,null,null,null,null,null,0,"23-25,9","24-31,9","24-27,9"]
[null,null,null,null,null,null,null,null,null,null,null,null,null,null,null,0,"23-25,9","24-31,9","24-27,9"]
[null,null,null,null,null,null,null,null,null,null,null,null,null,null,null,0,"23-25,9","24-31,9","24-27,9"]
[null,null,null,null,null,null,null,null,null,null,null,null,null,null,null,0,"23-25,9","24-31,9","24-27,9"]
[null,null,null,null,null,null,null,null,null,null,null,null,null,null,null,0,"23-25,9","24-31,9","24-27,9"]
[null,null,null,null,null,null,null,null,null,null,null,null,null,null,null,0,"23-25,9","24-31,9","24-27,9"]
[null,null,null,null,null,null,null,null,null,null,null,null,null,null,null,0,"23-25,9","24-31,9","24-27,9"]
[null,null,null,null,null,null,null,null,null,null,null,null,null,null,null,0,"23-25,9","24-31,9","24-27,9"]
[null,null,null,null,null,null,null,null,null,null,null,null,null,null,null,0,"23-25,9","24-31,9","24-27,9"]
[null,null,null,null,null,null,null,null,null,null,null,null,null,null,null,0,"23-25,9","24-31,9","24-27,9"]
[null,null,null,null,null,null,null,null,null,null,null,null,null,null,null,0,"23-25,9","24-31,9","24-27,9"]
[null,null,null,null,null,null,null,null,null,null,null,null,null,null,null,0,"23-25,9","24-31,9","24-27,9"]
[null,null,null,null,null,null,null,null,null,null,null,null,null,null,null,0,"23-25,9","24-31,9","24-27,9"]
[null,null,null,null,null,null,null,null,null,null,null,null,null,null,null,0,"23-25,9","24-31,9","24-27,9"]
[null,null,null,null,null,null,null,null,null,null,null,null,null,null,null,0,"23-25,9","24-31,9","24-27,9"]
[null,null,null,null,null,null,null,null,null,null,null,null,null,null,null,0,"23-25,9","24-31,9","24-27,9"]
[null,null,null,null,null,null,null,null,null,null,null,null,null,null,null,0,"23-25,9","24-31,9","24-27,9"]
[null,null,null,null,null,null,null,null,null,null,null,null,null,null,null,0,"23-25,9","24-31,9","24-27,9"]
[null,null,null,null,null,null,null,null,null,null,null,null,null,null,null,0,"23-25,9","24-31,9","24-27,9"]
[null,null,null,null,null,null,null,null,null,null,null,null,null,null,null,0,"23-25,9","24-31,9","24-27,9"]
[null,null,null,null,null,null,null,null,null,null,null,null,null,null,null,0,"23-25,9","24-31,9","24-27,9"]
[null,null,null,null,null,null,null,null,null,null,null,null,null,null,null,0,"23-25,9","24-31,9","24-27,9"]
[null,null,null,null,null,null,null,null,null,null,null,null,null,null,null,0,"23-25,9","24-31,9","24-27,9"]
[null,null,null,null,null,null,null,null,null,null,null,null,null,null,null,0,"23-25,9","24-31,9","24-27,9"]
[null,null,null,null,null,null,null,null,null,null,null,null,null,null,null,0,"23-25,9","24-31,9","24-27,9"]
[null,null,null,null,null,null,null,null,null,null,null,null,null,null,null,0,"23-25,9","24-31,9","24-27,9"]
[null,null,null,null,null,null,null,null,null,null,null,null,null,null,null,0,"23-25,9","24-31,9","24-27,9"]
[null,null,null,null,null,null,null,null,null,null,null,null,null,null,null,0,"23-25,9","24-31,9","24-27,9"]
[null,null,null,null,null,null,null,null,null,null,null,null,null,null,null,0,"23-25,9","24-31,9","24-27,9"]
[null,null,null,null,null,null,null,null,null,null,null,null,null,null,null,0,"23-25,9","24-31,9","24-27,9"]
[null,null,null,null,null,null,null,null,null,null,null,null,null,null,null,0,"23-25,9","24-31,9","24-27,9"]
[null,null,null,null,null,null,null,null,null,null,null,null,null,null,null,0,"23-25,9","24-31,9","24-27,9"]
[null,null,null,null,null,null,null,null,null,null,null,null,null,null,null,0,"23-25,9","24-31,9","24-27,9"]
[null,null,null,null,null,null,null,null,null,null,null,null,null,null,null,0,"23-25,9","24-31,9","24-27,9"]
[null,null,null,null,null,null,null,null,null,null,null,null,null,null,null,0,"23-25,9","24-31,9","24-27,9"]
[null,null,null,null,null,null,null,null,null,null,null,null,null,null,null,0,"23-25,9","24-31,9","24-27,9"]
[null,null,null,null,null,null,null,null,null,null,null,null,null,null,null,0,"23-25,9","24-31,9","24-27,9"]
[null,null,null,null,null,null,null,null,null,null,null,null,null,null,null,0,"23-25,9","24-31,9","24-27,9"]
[null,null,null,null,null,null,null,null,null,null,null,null,null,null,null,0,"23-25,9","24-31,9","24-27,9"]
[null,null,null,null,null,null,null,null,null,null,null,null,null,null,null,0,"23-25,9","24-31,9","24-27,9"]
[null,null,null,null,null,null,null,null,null,null,null,null,null,null,null,0,"23-25,9","24-31,9","24-27,9"]
[null,null,null,null,null,null,null,null,null,null,null,null,null,null,null,0,"23-25,9","24-31,9","24-27,9"]
[null,null,null,null,null,null,null,null,null,null,null,null,null,null,null,0,"23-25,9","24-31,9","24-27,9"]
[null,null,null,null,null,null,null,null,null,null,null,null,null,null,null,0,"23-25,9","24-31,9","24-27,9"]
[null,null,null,null,null,null,null,null,null,null,null,null,null,null,null,0,"23-25,9","24-31,9","24-27,9"]
[null,null,null,null,null,null,null,null,null,null,null,null,null,null,null,0,"23-25,9","24-31,9","24-27,9"]
[null,null,null,null,null,null,null,null,null,null,null,null,null,null,null,0,"23-25,9","24-31,9","24-27,9"]
[null,null,null,null,null,null,null,null,null,null,null,null,null,null,null,0,"23-25,9","24-31,9","24-27,9"]
[null,null,null,null,null,null,null,null,null,null,null,null,null,null,null,0,"23-25,9","24-31,9","24-27,9"]
[null,null,null,null,null,null,null,null,null,null,null,null,null,null,null,0,"23-25,9","24-31,9","24-27,9"]
[null,null,null,null,null,null,null,null,null,null,null,null,null,null,null,0,"23-25,9","24-31,9","24-27,9"]
[null,null,null,null,null,null,null,null,null,null,null,null,null,null,null,0,"23-25,9","24-31,9","24-27,9"]
[null,null,null,null,null,null,null,null,null,null,null,null,null,null,null,0,"23-25,9","24-31,9","24-27,9"]
[null,null,null,null,null,null,null,null,null,null,null,null,null,null,null,0,"23-25,9","24-31,9","24-27,9"]
[null,null,null,null,null,null,null,null,null,null,null,null,null,null,null,0,"23-25,9","24-31,9","24-27,9"]
[null,null,null,null,null,null,null,null,null,null,null,null,null,null,null,0,"23-25,9","24-31,9","24-27,9"]
[null,null,null,null,null,null,null,null,null,null,null,null,null,null,null,0,"23-25,9","24-31,9","24-27,9"]
[null,null,null,null,null,null,null,null,null,null,null,null,null,null,null,0,"23-25,9","24-31,9","24-27,9"]
[null,null,null,null,null,null,null,null,null,null,null,null,null,null,null,0,"23-25,9","24-31,9","24-27,9"]
[null,null,null,null,null,null,null,null,null,null,null,null,null,null,null,{"$f":"N259+(O259/7)","v":0},{"$f":"IF(P259<25.9,\"23-25,9\",IF(P259<27.9,\"26-27,9\",IF(P259<31.9,\"28-31,9\",IF(P259<34.9,\"32-34,9\",IF(P259<36.9,\"35-36,9\",IF(P259<40.2,\"37-40,2\",IF(P259<42,\"40,3-42\",IF(P259>=42,\">42\"))))))))","v":"23-25,9"},{"$f":"IF(P259<31.9,\"24-31,9\",IF(P259<42,\"32-42\",IF(P259>=42,\">42\")))","v":"24-31,9"},{"$f":"IF(P259<27.9,\"24-27,9\",IF(P259<42,\"28-42\",IF(P259>=42,\">42\")))","v":"24-27,9"}]
[null,null,null,null,null,null,null,null,null,null,null,null,null,null,null,0,"23-25,9","24-31,9","24-27,9"]
[null,null,null,null,null,null,null,null,null,null,null,null,null,null,null,0,"23-25,9","24-31,9","24-27,9"]
[null,null,null,null,null,null,null,null,null,null,null,null,null,null,null,0,"23-25,9","24-31,9","24-27,9"]
[null,null,null,null,null,null,null,null,null,null,null,null,null,null,null,0,"23-25,9","24-31,9","24-27,9"]
[null,null,null,null,null,null,null,null,null,null,null,null,null,null,null,0,"23-25,9","24-31,9","24-27,9"]
[null,null,null,null,null,null,null,null,null,null,null,null,null,null,null,0,"23-25,9","24-31,9","24-27,9"]
[null,null,null,null,null,null,null,null,null,null,null,null,null,null,null,0,"23-25,9","24-31,9","24-27,9"]
[null,null,null,null,null,null,null,null,null,null,null,null,null,null,null,0,"23-25,9","24-31,9","24-27,9"]
[null,null,null,null,null,null,null,null,null,null,null,null,null,null,null,0,"23-25,9","24-31,9","24-27,9"]
[null,null,null,null,null,null,null,null,null,null,null,null,null,null,null,0,"23-25,9","24-31,9","24-27,9"]
[null,null,null,null,null,null,null,null,null,null,null,null,null,null,null,0,"23-25,9","24-31,9","24-27,9"]
[null,null,null,null,null,null,null,null,null,null,null,null,null,null,null,0,"23-25,9","24-31,9","24-27,9"]
[null,null,null,null,null,null,null,null,null,null,null,null,null,null,null,0,"23-25,9","24-31,9","24-27,9"]
[null,null,null,null,null,null,null,null,null,null,null,null,null,null,null,0,"23-25,9","24-31,9","24-27,9"]
[null,null,null,null,null,null,null,null,null,null,null,null,null,null,null,0,"23-25,9","24-31,9","24-27,9"]
[null,null,null,null,null,null,null,null,null,null,null,null,null,null,null,0,"23-25,9","24-31,9","24-27,9"]
[null,null,null,null,null,null,null,null,null,null,null,null,null,null,null,0,"23-25,9","24-31,9","24-27,9"]
[null,null,null,null,null,null,null,null,null,null,null,null,null,null,null,0,"23-25,9","24-31,9","24-27,9"]
[null,null,null,null,null,null,null,null,null,null,null,null,null,null,null,0,"23-25,9","24-31,9","24-27,9"]
[null,null,null,null,null,null,null,null,null,null,null,null,null,null,null,0,"23-25,9","24-31,9","24-27,9"]
[null,null,null,null,null,null,null,null,null,null,null,null,null,null,null,0,"23-25,9","24-31,9","24-27,9"]
[null,null,null,null,null,null,null,null,null,null,null,null,null,null,null,0,"23-25,9","24-31,9","24-27,9"]
[null,null,null,null,null,null,null,null,null,null,null,null,null,null,null,0,"23-25,9","24-31,9","24-27,9"]
[null,null,null,null,null,null,null,null,null,null,null,null,null,null,null,0,"23-25,9","24-31,9","24-27,9"]
[null,null,null,null,null,null,null,null,null,null,null,null,null,null,null,0,"23-25,9","24-31,9","24-27,9"]
[null,null,null,null,null,null,null,null,null,null,null,null,null,null,null,0,"23-25,9","24-31,9","24-27,9"]
[null,null,null,null,null,null,null,null,null,null,null,null,null,null,null,0,"23-25,9","24-31,9","24-27,9"]
[null,null,null,null,null,null,null,null,null,null,null,null,null,null,null,0,"23-25,9","24-31,9","24-27,9"]
[null,null,null,null,null,null,null,null,null,null,null,null,null,null,null,0,"23-25,9","24-31,9","24-27,9"]
[null,null,null,null,null,null,null,null,null,null,null,null,null,null,null,0,"23-25,9","24-31,9","24-27,9"]
[null,null,null,null,null,null,null,null,null,null,null,null,null,null,null,0,"23-25,9","24-31,9","24-27,9"]
[null,null,null,null,null,null,null,null,null,null,null,null,null,null,null,0,"23-25,9","24-31,9","24-27,9"]
[null,null,null,null,null,null,null,null,null,null,null,null,null,null,null,0,"23-25,9","24-31,9","24-27,9"]
[null,null,null,null,null,null,null,null,null,null,null,null,null,null,null,0,"23-25,9","24-31,9","24-27,9"]
[null,null,null,null,null,null,null,null,null,null,null,null,null,null,null,0,"23-25,9","24-31,9","24-27,9"]
[null,null,null,null,null,null,null,null,null,null,null,null,null,null,null,0,"23-25,9","24-31,9","24-27,9"]
[null,null,null,null,null,null,null,null,null,null,null,null,null,null,null,0,"23-25,9","24-31,9","24-27,9"]
[null,null,null,null,null,null,null,null,null,null,null,null,null,null,null,0,"23-25,9","24-31,9","24-27,9"]
[null,null,null,null,null,null,null,null,null,null,null,null,null,null,null,0,"23-25,9","24-31,9","24-27,9"]
[null,null,null,null,null,null,null,null,null,null,null,null,null,null,null,0,"23-25,9","24-31,9","24-27,9"]
[null,null,null,null,null,null,null,null,null,null,null,null,null,null,null,0,"23-25,9","24-31,9","24-27,9"]
[null,null,null,null,null,null,null,null,null,null,null,null,null,null,null,0,"23-25,9","24-31,9","24-27,9"]
[null,null,null,null,null,null,null,null,null,null,null,null,null,null,null,0,"23-25,9","24-31,9","24-27,9"]
[null,null,null,null,null,null,null,null,null,null,null,null,null,null,null,0,"23-25,9","24-31,9","24-27,9"]
[null,null,null,null,null,null,null,null,null,null,null,null,null,null,null,0,"23-25,9","24-31,9","24-27,9"]
[null,null,null,null,null,null,null,null,null,null,null,null,null,null,null,0,"23-25,9","24-31,9","24-27,9"]
[null,null,null,null,null,null,null,null,null,null,null,null,null,null,null,0,"23-25,9","24-31,9","24-27,9"]
[null,null,null,null,null,null,null,null,null,null,null,null,null,null,null,0,"23-25,9","24-31,9","24-27,9"]
[null,null,null,null,null,null,null,null,null,null,null,null,null,null,null,0,"23-25,9","24-31,9","24-27,9"]
[null,null,null,null,null,null,null,null,null,null,null,null,null,null,null,0,"23-25,9","24-31,9","24-27,9"]
[null,null,null,null,null,null,null,null,null,null,null,null,null,null,null,0,"23-25,9","24-31,9","24-27,9"]
[null,null,null,null,null,null,null,null,null,null,null,null,null,null,null,0,"23-25,9","24-31,9","24-27,9"]
[null,null,null,null,null,null,null,null,null,null,null,null,null,null,null,0,"23-25,9","24-31,9","24-27,9"]
[null,null,null,null,null,null,null,null,null,null,null,null,null,null,null,0,"23-25,9","24-31,9","24-27,9"]
[null,null,null,null,null,null,null,null,null,null,null,null,null,null,null,0,"23-25,9","24-31,9","24-27,9"]
[null,null,null,null,null,null,null,null,null,null,null,null,null,null,null,0,"23-25,9","24-31,9","24-27,9"]
[null,null,null,null,null,null,null,null,null,null,null,null,null,null,null,0,"23-25,9","24-31,9","24-27,9"]
[null,null,null,null,null,null,null,null,null,null,null,null,null,null,null,0,"23-25,9","24-31,9","24-27,9"]
[null,null,null,null,null,null,null,null,null,null,null,null,null,null,null,0,"23-25,9","24-31,9","24-27,9"]
[null,null,null,null,null,null,null,null,null,null,null,null,null,null,null,0,"23-25,9","24-31,9","24-27,9"]
[null,null,null,null,null,null,null,null,null,null,null,null,null,null,null,0,"23-25,9","24-31,9","24-27,9"]
[null,null,null,null,null,null,null,null,null,null,null,null,null,null,null,0,"23-25,9","24-31,9","24-27,9"]
[null,null,null,null,null,null,null,null,null,null,null,null,null,null,null,0,"23-25,9","24-31,9","24-27,9"]
[null,null,null,null,null,null,null,null,null,null,null,null,null,null,null,{"$f":"N323+(O323/7)","v":0},{"$f":"IF(P323<25.9,\"23-25,9\",IF(P323<27.9,\"26-27,9\",IF(P323<31.9,\"28-31,9\",IF(P323<34.9,\"32-34,9\",IF(P323<36.9,\"35-36,9\",IF(P323<40.2,\"37-40,2\",IF(P323<42,\"40,3-42\",IF(P323>=42,\">42\"))))))))","v":"23-25,9"},{"$f":"IF(P323<31.9,\"24-31,9\",IF(P323<42,\"32-42\",IF(P323>=42,\">42\")))","v":"24-31,9"},{"$f":"IF(P323<27.9,\"24-27,9\",IF(P323<42,\"28-42\",IF(P323>=42,\">42\")))","v":"24-27,9"}]
[null,null,null,null,null,null,null,null,null,null,null,null,null,null,null,0,"23-25,9","24-31,9","24-27,9"]
[null,null,null,null,null,null,null,null,null,null,null,null,null,null,null,0,"23-25,9","24-31,9","24-27,9"]
[null,null,null,null,null,null,null,null,null,null,null,null,null,null,null,0,"23-25,9","24-31,9","24-27,9"]
[null,null,null,null,null,null,null,null,null,null,null,null,null,null,null,0,"23-25,9","24-31,9","24-27,9"]
[null,null,null,null,null,null,null,null,null,null,null,null,null,null,null,0,"23-25,9","24-31,9","24-27,9"]
[null,null,null,null,null,null,null,null,null,null,null,null,null,null,null,0,"23-25,9","24-31,9","24-27,9"]
[null,null,null,null,null,null,null,null,null,null,null,null,null,null,null,0,"23-25,9","24-31,9","24-27,9"]
[null,null,null,null,null,null,null,null,null,null,null,null,null,null,null,0,"23-25,9","24-31,9","24-27,9"]
[null,null,null,null,null,null,null,null,null,null,null,null,null,null,null,0,"23-25,9","24-31,9","24-27,9"]
[null,null,null,null,null,null,null,null,null,null,null,null,null,null,null,0,"23-25,9","24-31,9","24-27,9"]
[null,null,null,null,null,null,null,null,null,null,null,null,null,null,null,0,"23-25,9","24-31,9","24-27,9"]
[null,null,null,null,null,null,null,null,null,null,null,null,null,null,null,0,"23-25,9","24-31,9","24-27,9"]
[null,null,null,null,null,null,null,null,null,null,null,null,null,null,null,0,"23-25,9","24-31,9","24-27,9"]
[null,null,null,null,null,null,null,null,null,null,null,null,null,null,null,0,"23-25,9","24-31,9","24-27,9"]
[null,null,null,null,null,null,null,null,null,null,null,null,null,null,null,0,"23-25,9","24-31,9","24-27,9"]
[null,null,null,null,null,null,null,null,null,null,null,null,null,null,null,0,"23-25,9","24-31,9","24-27,9"]
[null,null,null,null,null,null,null,null,null,null,null,null,null,null,null,0,"23-25,9","24-31,9","24-27,9"]
[null,null,null,null,null,null,null,null,null,null,null,null,null,null,null,0,"23-25,9","24-31,9","24-27,9"]
[null,null,null,null,null,null,null,null,null,null,null,null,null,null,null,0,"23-25,9","24-31,9","24-27,9"]
[null,null,null,null,null,null,null,null,null,null,null,null,null,null,null,0,"23-25,9","24-31,9","24-27,9"]
[null,null,null,null,null,null,null,null,null,null,null,null,null,null,null,0,"23-25,9","24-31,9","24-27,9"]
[null,null,null,null,null,null,null,null,null,null,null,null,null,null,null,0,"23-25,9","24-31,9","24-27,9"]
[null,null,null,null,null,null,null,null,null,null,null,null,null,null,null,0,"23-25,9","24-31,9","24-27,9"]
[null,null,null,null,null,null,null,null,null,null,null,null,null,null,null,0,"23-25,9","24-31,9","24-27,9"]
[null,null,null,null,null,null,null,null,null,null,null,null,null,null,null,0,"23-25,9","24-31,9","24-27,9"]
[null,null,null,null,null,null,null,null,null,null,null,null,null,null,null,0,"23-25,9","24-31,9","24-27,9"]
[null,null,null,null,null,null,null,null,null,null,null,null,null,null,null,0,"23-25,9","24-31,9","24-27,9"]
[null,null,null,null,null,null,null,null,null,null,null,null,null,null,null,0,"23-25,9","24-31,9","24-27,9"]
[null,null,null,null,null,null,null,null,null,null,null,null,null,null,null,0,"23-25,9","24-31,9","24-27,9"]
[null,null,null,null,null,null,null,null,null,null,null,null,null,null,null,0,"23-25,9","24-31,9","24-27,9"]
[null,null,null,null,null,null,null,null,null,null,null,null,null,null,null,0,"23-25,9","24-31,9","24-27,9"]
[null,null,null,null,null,null,null,null,null,null,null,null,null,null,null,0,"23-25,9","24-31,9","24-27,9"]
[null,null,null,null,null,null,null,null,null,null,null,null,null,null,null,0,"23-25,9","24-31,9","24-27,9"]
[null,null,null,null,null,null,null,null,null,null,null,null,null,null,null,0,"23-25,9","24-31,9","24-27,9"]
[null,null,null,null,null,null,null,null,null,null,null,null,null,null,null,0,"23-25,9","24-31,9","24-27,9"]
[null,null,null,null,null,null,null,null,null,null,null,null,null,null,null,0,"23-25,9","24-31,9","24-27,9"]
[null,null,null,null,null,null,null,null,null,null,null,null,null,null,null,0,"23-25,9","24-31,9","24-27,9"]
[null,null,null,null,null,null,null,null,null,null,null,null,null,null,null,0,"23-25,9","24-31,9","24-27,9"]
[null,null,null,null,null,null,null,null,null,null,null,null,null,null,null,0,"23-25,9","24-31,9","24-27,9"]
[null,null,null,null,null,null,null,null,null,null,null,null,null,null,null,0,"23-25,9","24-31,9","24-27,9"]
[null,null,null,null,null,null,null,null,null,null,null,null,null,null,null,0,"23-25,9","24-31,9","24-27,9"]
[null,null,null,null,null,null,null,null,null,null,null,null,null,null,null,0,"23-25,9","24-31,9","24-27,9"]
[null,null,null,null,null,null,null,null,null,null,null,null,null,null,null,0,"23-25,9","24-31,9","24-27,9"]
[null,null,null,null,null,null,null,null,null,null,null,null,null,null,null,0,"23-25,9","24-31,9","24-27,9"]
[null,null,null,null,null,null,null,null,null,null,null,null,null,null,null,0,"23-25,9","24-31,9","24-27,9"]
[null,null,null,null,null,null,null,null,null,null,null,null,null,null,null,0,"23-25,9","24-31,9","24-27,9"]
[null,null,null,null,null,null,null,null,null,null,null,null,null,null,null,0,"23-25,9","24-31,9","24-27,9"]
[null,null,null,null,null,null,null,null,null,null,null,null,null,null,null,0,"23-25,9","24-31,9","24-27,9"]
[null,null,null,null,null,null,null,null,null,null,null,null,null,null,null,0,"23-25,9","24-31,9","24-27,9"]
[null,null,null,null,null,null,null,null,null,null,null,null,null,null,null,0,"23-25,9","24-31,9","24-27,9"]
[null,null,null,null,null,null,null,null,null,null,null,null,null,null,null,0,"23-25,9","24-31,9","24-27,9"]
[null,null,null,null,null,null,null,null,null,null,null,null,null,null,null,0,"23-25,9","24-31,9","24-27,9"]
[null,null,null,null,null,null,null,null,null,null,null,null,null,null,null,0,"23-25,9","24-31,9","24-27,9"]
[null,null,null,null,null,null,null,null,null,null,null,null,null,null,null,0,"23-25,9","24-31,9","24-27,9"]
[null,null,null,null,null,null,null,null,null,null,null,null,null,null,null,0,"23-25,9","24-31,9","24-27,9"]
[null,null,null,null,null,null,null,null,null,null,null,null,null,null,null,0,"23-25,9","24-31,9","24-27,9"]
[null,null,null,null,null,null,null,null,null,null,null,null,null,null,null,0,"23-25,9","24-31,9","24-27,9"]
[null,null,null,null,null,null,null,null,null,null,null,null,null,null,null,0,"23-25,9","24-31,9","24-27,9"]
[null,null,null,null,null,null,null,null,null,null,null,null,null,null,null,0,"23-25,9","24-31,9","24-27,9"]
[null,null,null,null,null,null,null,null,null,null,null,null,null,null,null,0,"23-25,9","24-31,9","24-27,9"]
[null,null,null,null,null,null,null,null,null,null,null,null,null,null,null,0,"23-25,9","24-31,9","24-27,9"]
[null,null,null,null,null,null,null,null,null,null,null,null,null,null,null,0,"23-25,9","24-31,9","24-27,9"]
[null,null,null,null,null,null,null,null,null,null,null,null,null,null,null,0,"23-25,9","24-31,9","24-27,9"]
[null,null,null,null,null,null,null,null,null,null,null,null,null,null,null,{"$f":"N387+(O387/7)","v":0},{"$f":"IF(P387<25.9,\"23-25,9\",IF(P387<27.9,\"26-27,9\",IF(P387<31.9,\"28-31,9\",IF(P387<34.9,\"32-34,9\",IF(P387<36.9,\"35-36,9\",IF(P387<40.2,\"37-40,2\",IF(P387<42,\"40,3-42\",IF(P387>=42,\">42\"))))))))","v":"23-25,9"},{"$f":"IF(P387<31.9,\"24-31,9\",IF(P387<42,\"32-42\",IF(P387>=42,\">42\")))","v":"24-31,9"},{"$f":"IF(P387<27.9,\"24-27,9\",IF(P387<42,\"28-42\",IF(P387>=42,\">42\")))","v":"24-27,9"}]
[null,null,null,null,null,null,null,null,null,null,null,null,null,null,null,0,"23-25,9","24-31,9","24-27,9"]
[null,null,null,null,null,null,null,null,null,null,null,null,null,null,null,0,"23-25,9","24-31,9","24-27,9"]
[null,null,null,null,null,null,null,null,null,null,null,null,null,null,null,0,"23-25,9","24-31,9","24-27,9"]
[null,null,null,null,null,null,null,null,null,null,null,null,null,null,null,0,"23-25,9","24-31,9","24-27,9"]
[null,null,null,null,null,null,null,null,null,null,null,null,null,null,null,0,"23-25,9","24-31,9","24-27,9"]
[null,null,null,null,null,null,null,null,null,null,null,null,null,null,null,0,"23-25,9","24-31,9","24-27,9"]
[null,null,null,null,null,null,null,null,null,null,null,null,null,null,null,0,"23-25,9","24-31,9","24-27,9"]
[null,null,null,null,null,null,null,null,null,null,null,null,null,null,null,0,"23-25,9","24-31,9","24-27,9"]
[null,null,null,null,null,null,null,null,null,null,null,null,null,null,null,0,"23-25,9","24-31,9","24-27,9"]
[null,null,null,null,null,null,null,null,null,null,null,null,null,null,null,0,"23-25,9","24-31,9","24-27,9"]
[null,null,null,null,null,null,null,null,null,null,null,null,null,null,null,0,"23-25,9","24-31,9","24-27,9"]
[null,null,null,null,null,null,null,null,null,null,null,null,null,null,null,0,"23-25,9","24-31,9","24-27,9"]
[null,null,null,null,null,null,null,null,null,null,null,null,null,null,null,0,"23-25,9","24-31,9","24-27,9"]
[null,null,null,null,null,null,null,null,null,null,null,null,null,null,null,0,"23-25,9","24-31,9","24-27,9"]
[null,null,null,null,null,null,null,null,null,null,null,null,null,null,null,0,"23-25,9","24-31,9","24-27,9"]
[null,null,null,null,null,null,null,null,null,null,null,null,null,null,null,0,"23-25,9","24-31,9","24-27,9"]
[null,null,null,null,null,null,null,null,null,null,null,null,null,null,null,0,"23-25,9","24-31,9","24-27,9"]
[null,null,null,null,null,null,null,null,null,null,null,null,null,null,null,0,"23-25,9","24-31,9","24-27,9"]
[null,null,null,null,null,null,null,null,null,null,null,null,null,null,null,0,"23-25,9","24-31,9","24-27,9"]
[null,null,null,null,null,null,null,null,null,null,null,null,null,null,null,0,"23-25,9","24-31,9","24-27,9"]
[null,null,null,null,null,null,null,null,null,null,null,null,null,null,null,0,"23-25,9","24-31,9","24-27,9"]
[null,null,null,null,null,null,null,null,null,null,null,null,null,null,null,0,"23-25,9","24-31,9","24-27,9"]
[null,null,null,null,null,null,null,null,null,null,null,null,null,null,null,0,"23-25,9","24-31,9","24-27,9"]
[null,null,null,null,null,null,null,null,null,null,null,null,null,null,null,0,"23-25,9","24-31,9","24-27,9"]
[null,null,null,null,null,null,null,null,null,null,null,null,null,null,null,0,"23-25,9","24-31,9","24-27,9"]
[null,null,null,null,null,null,null,null,null,null,null,null,null,null,null,0,"23-25,9","24-31,9","24-27,9"]
[null,null,null,null,null,null,null,null,null,null,null,null,null,null,null,0,"23-25,9","24-31,9","24-27,9"]
[null,null,null,null,null,null,null,null,null,null,null,null,null,null,null,0,"23-25,9","24-31,9","24-27,9"]
[null,null,null,null,null,null,null,null,null,null,null,null,null,null,null,0,"23-25,9","24-31,9","24-27,9"]
[null,null,null,null,null,null,null,null,null,null,null,null,null,null,null,0,"23-25,9","24-31,9","24-27,9"]
[null,null,null,null,null,null,null,null,null,null,null,null,null,null,null,0,"23-25,9","24-31,9","24-27,9"]
[null,null,null,null,null,null,null,null,null,null,null,null,null,null,null,0,"23-25,9","24-31,9","24-27,9"]
[null,null,null,null,null,null,null,null,null,null,null,null,null,null,null,0,"23-25,9","24-31,9","24-27,9"]
[null,null,null,null,null,null,null,null,null,null,null,null,null,null,null,0,"23-25,9","24-31,9","24-27,9"]
[null,null,null,null,null,null,null,null,null,null,null,null,null,null,null,0,"23-25,9","24-31,9","24-27,9"]
[null,null,null,null,null,null,null,null,null,null,null,null,null,null,null,0,"23-25,9","24-31,9","24-27,9"]
[null,null,null,null,null,null,null,null,null,null,null,null,null,null,null,0,"23-25,9","24-31,9","24-27,9"]
[null,null,null,null,null,null,null,null,null,null,null,null,null,null,null,0,"23-25,9","24-31,9","24-27,9"]
[null,null,null,null,null,null,null,null,null,null,null,null,null,null,null,0,"23-25,9","24-31,9","24-27,9"]
[null,null,null,null,null,null,null,null,null,null,null,null,null,null,null,0,"23-25,9","24-31,9","24-27,9"]
[null,null,null,null,null,null,null,null,null,null,null,null,null,null,null,0,"23-25,9","24-31,9","24-27,9"]
[null,null,null,null,null,null,null,null,null,null,null,null,null,null,null,0,"23-25,9","24-31,9","24-27,9"]
[null,null,null,null,null,null,null,null,null,null,null,null,null,null,null,0,"23-25,9","24-31,9","24-27,9"]
[null,null,null,null,null,null,null,null,null,null,null,null,null,null,null,0,"23-25,9","24-31,9","24-27,9"]
[null,null,null,null,null,null,null,null,null,null,null,null,null,null,null,0,"23-25,9","24-31,9","24-27,9"]
[null,null,null,null,null,null,null,null,null,null,null,null,null,null,null,0,"23-25,9","24-31,9","24-27,9"]
[null,null,null,null,null,null,null,null,null,null,null,null,null,null,null,0,"23-25,9","24-31,9","24-27,9"]
[null,null,null,null,null,null,null,null,null,null,null,null,null,null,null,0,"23-25,9","24-31,9","24-27,9"]
[null,null,null,null,null,null,null,null,null,null,null,null,null,null,null,0,"23-25,9","24-31,9","24-27,9"]
[null,null,null,null,null,null,null,null,null,null,null,null,null,null,null,0,"23-25,9","24-31,9","24-27,9"]
[null,null,null,null,null,null,null,null,null,null,null,null,null,null,null,0,"23-25,9","24-31,9","24-27,9"]
[null,null,null,null,null,null,null,null,null,null,null,null,null,null,null,0,"23-25,9","24-31,9","24-27,9"]
[null,null,null,null,null,null,null,null,null,null,null,null,null,null,null,0,"23-25,9","24-31,9","24-27,9"]
[null,null,null,null,null,null,null,null,null,null,null,null,null,null,null,0,"23-25,9","24-31,9","24-27,9"]
[null,null,null,null,null,null,null,null,null,null,null,null,null,null,null,0,"23-25,9","24-31,9","24-27,9"]
[null,null,null,null,null,null,null,null,null,null,null,null,null,null,null,0,"23-25,9","24-31,9","24-27,9"]
[null,null,null,null,null,null,null,null,null,null,null,null,null,null,null,0,"23-25,9","24-31,9","24-27,9"]
[null,null,null,null,null,null,null,null,null,null,null,null,null,null,null,0,"23-25,9","24-31,9","24-27,9"]
[null,null,null,null,null,null,null,null,null,null,null,null,null,null,null,0,"23-25,9","24-31,9","24-27,9"]
[null,null,null,null,null,null,null,null,null,null,null,null,null,null,null,0,"23-25,9","24-31,9","24-27,9"]
[null,null,null,null,null,null,null,null,null,null,null,null,null,null,null,0,"23-25,9","24-31,9","24-27,9"]
[null,null,null,null,null,null,null,null,null,null,null,null,null,null,null,0,"23-25,9","24-31,9","24-27,9"]
[null,null,null,null,null,null,null,null,null,null,null,null,null,null,null,0,"23-25,9","24-31,9","24-27,9"]
[null,null,null,null,null,null,null,null,null,null,null,null,null,null,null,{"$f":"N451+(O451/7)","v":0},{"$f":"IF(P451<25.9,\"23-25,9\",IF(P451<27.9,\"26-27,9\",IF(P451<31.9,\"28-31,9\",IF(P451<34.9,\"32-34,9\",IF(P451<36.9,\"35-36,9\",IF(P451<40.2,\"37-40,2\",IF(P451<42,\"40,3-42\",IF(P451>=42,\">42\"))))))))","v":"23-25,9"},{"$f":"IF(P451<31.9,\"24-31,9\",IF(P451<42,\"32-42\",IF(P451>=42,\">42\")))","v":"24-31,9"},{"$f":"IF(P451<27.9,\"24-27,9\",IF(P451<42,\"28-42\",IF(P451>=42,\">42\")))","v":"24-27,9"}]
[null,null,null,null,null,null,null,null,null,null,null,null,null,null,null,0,"23-25,9","24-31,9","24-27,9"]
[null,null,null,null,null,null,null,null,null,null,null,null,null,null,null,0,"23-25,9","24-31,9","24-27,9"]
[null,null,null,null,null,null,null,null,null,null,null,null,null,null,null,0,"23-25,9","24-31,9","24-27,9"]
[null,null,null,null,null,null,null,null,null,null,null,null,null,null,null,0,"23-25,9","24-31,9","24-27,9"]
[null,null,null,null,null,null,null,null,null,null,null,null,null,null,null,0,"23-25,9","24-31,9","24-27,9"]
[null,null,null,null,null,null,null,null,null,null,null,null,null,null,null,0,"23-25,9","24-31,9","24-27,9"]
[null,null,null,null,null,null,null,null,null,null,null,null,null,null,null,0,"23-25,9","24-31,9","24-27,9"]
[null,null,null,null,null,null,null,null,null,null,null,null,null,null,null,0,"23-25,9","24-31,9","24-27,9"]
[null,null,null,null,null,null,null,null,null,null,null,null,null,null,null,0,"23-25,9","24-31,9","24-27,9"]
[null,null,null,null,null,null,null,null,null,null,null,null,null,null,null,0,"23-25,9","24-31,9","24-27,9"]
[null,null,null,null,null,null,null,null,null,null,null,null,null,null,null,0,"23-25,9","24-31,9","24-27,9"]
[null,null,null,null,null,null,null,null,null,null,null,null,null,null,null,0,"23-25,9","24-31,9","24-27,9"]
[null,null,null,null,null,null,null,null,null,null,null,null,null,null,null,0,"23-25,9","24-31,9","24-27,9"]
[null,null,null,null,null,null,null,null,null,null,null,null,null,null,null,0,"23-25,9","24-31,9","24-27,9"]
[null,null,null,null,null,null,null,null,null,null,null,null,null,null,null,0,"23-25,9","24-31,9","24-27,9"]
[null,null,null,null,null,null,null,null,null,null,null,null,null,null,null,0,"23-25,9","24-31,9","24-27,9"]
[null,null,null,null,null,null,null,null,null,null,null,null,null,null,null,0,"23-25,9","24-31,9","24-27,9"]
[null,null,null,null,null,null,null,null,null,null,null,null,null,null,null,0,"23-25,9","24-31,9","24-27,9"]
[null,null,null,null,null,null,null,null,null,null,null,null,null,null,null,0,"23-25,9","24-31,9","24-27,9"]
[null,null,null,null,null,null,null,null,null,null,null,null,null,null,null,0,"23-25,9","24-31,9","24-27,9"]
[null,null,null,null,null,null,null,null,null,null,null,null,null,null,null,0,"23-25,9","24-31,9","24-27,9"]
[null,null,null,null,null,null,null,null,null,null,null,null,null,null,null,0,"23-25,9","24-31,9","24-27,9"]
[null,null,null,null,null,null,null,null,null,null,null,null,null,null,null,0,"23-25,9","24-31,9","24-27,9"]
[null,null,null,null,null,null,null,null,null,null,null,null,null,null,null,0,"23-25,9","24-31,9","24-27,9"]
[null,null,null,null,null,null,null,null,null,null,null,null,null,null,null,0,"23-25,9","24-31,9","24-27,9"]
[null,null,null,null,null,null,null,null,null,null,null,null,null,null,null,0,"23-25,9","24-31,9","24-27,9"]
[null,null,null,null,null,null,null,null,null,null,null,null,null,null,null,0,"23-25,9","24-31,9","24-27,9"]
[null,null,null,null,null,null,null,null,null,null,null,null,null,null,null,0,"23-25,9","24-31,9","24-27,9"]
[null,null,null,null,null,null,null,null,null,null,null,null,null,null,null,0,"23-25,9","24-31,9","24-27,9"]
[null,null,null,null,null,null,null,null,null,null,null,null,null,null,null,0,"23-25,9","24-31,9","24-27,9"]
[null,null,null,null,null,null,null,null,null,null,null,null,null,null,null,0,"23-25,9","24-31,9","24-27,9"]
[null,null,null,null,null,null,null,null,null,null,null,null,null,null,null,0,"23-25,9","24-31,9","24-27,9"]
[null,null,null,null,null,null,null,null,null,null,null,null,null,null,null,0,"23-25,9","24-31,9","24-27,9"]
[null,null,null,null,null,null,null,null,null,null,null,null,null,null,null,0,"23-25,9","24-31,9","24-27,9"]
[null,null,null,null,null,null,null,null,null,null,null,null,null,null,null,0,"23-25,9","24-31,9","24-27,9"]
[null,null,null,null,null,null,null,null,null,null,null,null,null,null,null,0,"23-25,9","24-31,9","24-27,9"]
[null,null,null,null,null,null,null,null,null,null,null,null,null,null,null,0,"23-25,9","24-31,9","24-27,9"]
[null,null,null,null,null,null,null,null,null,null,null,null,null,null,null,0,"23-25,9","24-31,9","24-27,9"]
[null,null,null,null,null,null,null,null,null,null,null,null,null,null,null,0,"23-25,9","24-31,9","24-27,9"]
[null,null,null,null,null,null,null,null,null,null,null,null,null,null,null,0,"23-25,9","24-31,9","24-27,9"]
[null,null,null,null,null,null,null,null,null,null,null,null,null,null,null,0,"23-25,9","24-31,9","24-27,9"]
[null,null,null,null,null,null,null,null,null,null,null,null,null,null,null,0,"23-25,9","24-31,9","24-27,9"]
[null,null,null,null,null,null,null,null,null,null,null,null,null,null,null,0,"23-25,9","24-31,9","24-27,9"]
[null,null,null,null,null,null,null,null,null,null,null,null,null,null,null,0,"23-25,9","24-31,9","24-27,9"]
[null,null,null,null,null,null,null,null,null,null,null,null,null,null,null,0,"23-25,9","24-31,9","24-27,9"]
[null,null,null,null,null,null,null,null,null,null,null,null,null,null,null,0,"23-25,9","24-31,9","24-27,9"]
[null,null,null,null,null,null,null,null,null,null,null,null,null,null,null,0,"23-25,9","24-31,9","24-27,9"]
[null,null,null,null,null,null,null,null,null,null,null,null,null,null,null,0,"23-25,9","24-31,9","24-27,9"]
[null,null,null,null,null,null,null,null,null,null,null,null,null,null,null,0,"23-25,9","24-31,9","24-27,9"]
[null,null,null,null,null,null,null,null,null,null,null,null,null,null,null,0,"23-25,9","24-31,9","24-27,9"]
[null,null,null,null,null,null,null,null,null,null,null,null,null,null,null,0,"23-25,9","24-31,9","24-27,9"]
[null,null,null,null,null,null,null,null,null,null,null,null,null,null,null,0,"23-25,9","24-31,9","24-27,9"]
[null,null,null,null,null,null,null,null,null,null,null,null,null,null,null,0,"23-25,9","24-31,9","24-27,9"]
[null,null,null,null,null,null,null,null,null,null,null,null,null,null,null,0,"23-25,9","24-31,9","24-27,9"]
[null,null,null,null,null,null,null,null,null,null,null,null,null,null,null,0,"23-25,9","24-31,9","24-27,9"]
[null,null,null,null,null,null,null,null,null,null,null,null,null,null,null,0,"23-25,9","24-31,9","24-27,9"]
[null,null,null,null,null,null,null,null,null,null,null,null,null,null,null,0,"23-25,9","24-31,9","24-27,9"]
[null,null,null,null,null,null,null,null,null,null,null,null,null,null,null,0,"23-25,9","24-31,9","24-27,9"]
[null,null,null,null,null,null,null,null,null,null,null,null,null,null,null,0,"23-25,9","24-31,9","24-27,9"]
[null,null,null,null,null,null,null,null,null,null,null,null,null,null,null,0,"23-25,9","24-31,9","24-27,9"]
[null,null,null,null,null,null,null,null,null,null,null,null,null,null,null,0,"23-25,9","24-31,9","24-27,9"]
[null,null,null,null,null,null,null,null,null,null,null,null,null,null,null,0,"23-25,9","24-31,9","24-27,9"]
[null,null,null,null,null,null,null,null,null,null,null,null,null,null,null,0,"23-25,9","24-31,9","24-27,9"]
[null,null,null,null,null,null,null,null,null,null,null,null,null,null,null,{"$f":"N515+(O515/7)","v":0},{"$f":"IF(P515<25.9,\"23-25,9\",IF(P515<27.9,\"26-27,9\",IF(P515<31.9,\"28-31,9\",IF(P515<34.9,\"32-34,9\",IF(P515<36.9,\"35-36,9\",IF(P515<40.2,\"37-40,2\",IF(P515<42,\"40,3-42\",IF(P515>=42,\">42\"))))))))","v":"23-25,9"},{"$f":"IF(P515<31.9,\"24-31,9\",IF(P515<42,\"32-42\",IF(P515>=42,\">42\")))","v":"24-31,9"},{"$f":"IF(P515<27.9,\"24-27,9\",IF(P515<42,\"28-42\",IF(P515>=42,\">42\")))","v":"24-27,9"}]
[null,null,null,null,null,null,null,null,null,null,null,null,null,null,null,0,"23-25,9","24-31,9","24-27,9"]
[null,null,null,null,null,null,null,null,null,null,null,null,null,null,null,0,"23-25,9","24-31,9","24-27,9"]
[null,null,null,null,null,null,null,null,null,null,null,null,null,null,null,0,"23-25,9","24-31,9","24-27,9"]
[null,null,null,null,null,null,null,null,null,null,null,null,null,null,null,0,"23-25,9","24-31,9","24-27,9"]
[null,null,null,null,null,null,null,null,null,null,null,null,null,null,null,0,"23-25,9","24-31,9","24-27,9"]
[null,null,null,null,null,null,null,null,null,null,null,null,null,null,null,0,"23-25,9","24-31,9","24-27,9"]
[null,null,null,null,null,null,null,null,null,null,null,null,null,null,null,0,"23-25,9","24-31,9","24-27,9"]
[null,null,null,null,null,null,null,null,null,null,null,null,null,null,null,0,"23-25,9","24-31,9","24-27,9"]
[null,null,null,null,null,null,null,null,null,null,null,null,null,null,null,0,"23-25,9","24-31,9","24-27,9"]
[null,null,null,null,null,null,null,null,null,null,null,null,null,null,null,0,"23-25,9","24-31,9","24-27,9"]
[null,null,null,null,null,null,null,null,null,null,null,null,null,null,null,0,"23-25,9","24-31,9","24-27,9"]
[null,null,null,null,null,null,null,null,null,null,null,null,null,null,null,0,"23-25,9","24-31,9","24-27,9"]
[null,null,null,null,null,null,null,null,null,null,null,null,null,null,null,0,"23-25,9","24-31,9","24-27,9"]
[null,null,null,null,null,null,null,null,null,null,null,null,null,null,null,0,"23-25,9","24-31,9","24-27,9"]
[null,null,null,null,null,null,null,null,null,null,null,null,null,null,null,0,"23-25,9","24-31,9","24-27,9"]
[null,null,null,null,null,null,null,null,null,null,null,null,null,null,null,0,"23-25,9","24-31,9","24-27,9"]
[null,null,null,null,null,null,null,null,null,null,null,null,null,null,null,0,"23-25,9","24-31,9","24-27,9"]
[null,null,null,null,null,null,null,null,null,null,null,null,null,null,null,0,"23-25,9","24-31,9","24-27,9"]
[null,null,null,null,null,null,null,null,null,null,null,null,null,null,null,0,"23-25,9","24-31,9","24-27,9"]
[null,null,null,null,null,null,null,null,null,null,null,null,null,null,null,0,"23-25,9","24-31,9","24-27,9"]
[null,null,null,null,null,null,null,null,null,null,null,null,null,null,null,0,"23-25,9","24-31,9","24-27,9"]
[null,null,null,null,null,null,null,null,null,null,null,null,null,null,null,0,"23-25,9","24-31,9","24-27,9"]
[null,null,null,null,null,null,null,null,null,null,null,null,null,null,null,0,"23-25,9","24-31,9","24-27,9"]
[null,null,null,null,null,null,null,null,null,null,null,null,null,null,null,0,"23-25,9","24-31,9","24-27,9"]
[null,null,null,null,null,null,null,null,null,null,null,null,null,null,null,0,"23-25,9","24-31,9","24-27,9"]
[null,null,null,null,null,null,null,null,null,null,null,null,null,null,null,0,"23-25,9","24-31,9","24-27,9"]
[null,null,null,null,null,null,null,null,null,null,null,null,null,null,null,0,"23-25,9","24-31,9","24-27,9"]
[null,null,null,null,null,null,null,null,null,null,null,null,null,null,null,0,"23-25,9","24-31,9","24-27,9"]
[null,null,null,null,null,null,null,null,null,null,null,null,null,null,null,0,"23-25,9","24-31,9","24-27,9"]
[null,null,null,null,null,null,null,null,null,null,null,null,null,null,null,0,"23-25,9","24-31,9","24-27,9"]
[null,null,null,null,null,null,null,null,null,null,null,null,null,null,null,0,"23-25,9","24-31,9","24-27,9"]
[null,null,null,null,null,null,null,null,null,null,null,null,null,null,null,0,"23-25,9","24-31,9","24-27,9"]
[null,null,null,null,null,null,null,null,null,null,null,null,null,null,null,0,"23-25,9","24-31,9","24-27,9"]
[null,null,null,null,null,null,null,null,null,null,null,null,null,null,null,0,"23-25,9","24-31,9","24-27,9"]
[null,null,null,null,null,null,null,null,null,null,null,null,null,null,null,0,"23-25,9","24-31,9","24-27,9"]
[null,null,null,null,null,null,null,null,null,null,null,null,null,null,null,0,"23-25,9","24-31,9","24-27,9"]
[null,null,null,null,null,null,null,null,null,null,null,null,null,null,null,0,"23-25,9","24-31,9","24-27,9"]
[null,null,null,null,null,null,null,null,null,null,null,null,null,null,null,0,"23-25,9","24-31,9","24-27,9"]
[null,null,null,null,null,null,null,null,null,null,null,null,null,null,null,0,"23-25,9","24-31,9","24-27,9"]
[null,null,null,null,null,null,null,null,null,null,null,null,null,null,null,0,"23-25,9","24-31,9","24-27,9"]
[null,null,null,null,null,null,null,null,null,null,null,null,null,null,null,0,"23-25,9","24-31,9","24-27,9"]
[null,null,null,null,null,null,null,null,null,null,null,null,null,null,null,0,"23-25,9","24-31,9","24-27,9"]
[null,null,null,null,null,null,null,null,null,null,null,null,null,null,null,0,"23-25,9","24-31,9","24-27,9"]
[null,null,null,null,null,null,null,null,null,null,null,null,null,null,null,0,"23-25,9","24-31,9","24-27,9"]
[null,null,null,null,null,null,null,null,null,null,null,null,null,null,null,0,"23-25,9","24-31,9","24-27,9"]
[null,null,null,null,null,null,null,null,null,null,null,null,null,null,null,0,"23-25,9","24-31,9","24-27,9"]
[null,null,null,null,null,null,null,null,null,null,null,null,null,null,null,0,"23-25,9","24-31,9","24-27,9"]
[null,null,null,null,null,null,null,null,null,null,null,null,null,null,null,0,"23-25,9","24-31,9","24-27,9"]
[null,null,null,null,null,null,null,null,null,null,null,null,null,null,null,0,"23-25,9","24-31,9","24-27,9"]
[null,null,null,null,null,null,null,null,null,null,null,null,null,null,null,0,"23-25,9","24-31,9","24-27,9"]
[null,null,null,null,null,null,null,null,null,null,null,null,null,null,null,0,"23-25,9","24-31,9","24-27,9"]
[null,null,null,null,null,null,null,null,null,null,null,null,null,null,null,0,"23-25,9","24-31,9","24-27,9"]
[null,null,null,null,null,null,null,null,null,null,null,null,null,null,null,0,"23-25,9","24-31,9","24-27,9"]
[null,null,null,null,null,null,null,null,null,null,null,null,null,null,null,0,"23-25,9","24-31,9","24-27,9"]
[null,null,null,null,null,null,null,null,null,null,null,null,null,null,null,0,"23-25,9","24-31,9","24-27,9"]
[null,null,null,null,null,null,null,null,null,null,null,null,null,null,null,0,"23-25,9","24-31,9","24-27,9"]
[null,null,null,null,null,null,null,null,null,null,null,null,null,null,null,0,"23-25,9","24-31,9","24-27,9"]
[null,null,null,null,null,null,null,null,null,null,null,null,null,null,null,0,"23-25,9","24-31,9","24-27,9"]
[null,null,null,null,null,null,null,null,null,null,null,null,null,null,null,0,"23-25,9","24-31,9","24-27,9"]
[null,null,null,null,null,null,null,null,null,null,null,null,null,null,null,0,"23-25,9","24-31,9","24-27,9"]
[null,null,null,null,null,null,null,null,null,null,null,null,null,null,null,0,"23-25,9","24-31,9","24-27,9"]
[null,null,null,null,null,null,null,null,null,null,null,null,null,null,null,0,"23-25,9","24-31,9","24-27,9"]
[null,null,null,null,null,null,null,null,null,null,null,null,null,null,null,0,"23-25,9","24-31,9","24-27,9"]
[null,null,null,null,null,null,null,null,null,null,null,null,null,null,null,{"$f":"N579+(O579/7)","v":0},{"$f":"IF(P579<25.9,\"23-25,9\",IF(P579<27.9,\"26-27,9\",IF(P579<31.9,\"28-31,9\",IF(P579<34.9,\"32-34,9\",IF(P579<36.9,\"35-36,9\",IF(P579<40.2,\"37-40,2\",IF(P579<42,\"40,3-42\",IF(P579>=42,\">42\"))))))))","v":"23-25,9"},{"$f":"IF(P579<31.9,\"24-31,9\",IF(P579<42,\"32-42\",IF(P579>=42,\">42\")))","v":"24-31,9"},{"$f":"IF(P579<27.9,\"24-27,9\",IF(P579<42,\"28-42\",IF(P579>=42,\">42\")))","v":"24-27,9"}]
[null,null,null,null,null,null,null,null,null,null,null,null,null,null,null,0,"23-25,9","24-31,9","24-27,9"]
[null,null,null,null,null,null,null,null,null,null,null,null,null,null,null,0,"23-25,9","24-31,9","24-27,9"]
[null,null,null,null,null,null,null,null,null,null,null,null,null,null,null,0,"23-25,9","24-31,9","24-27,9"]
[null,null,null,null,null,null,null,null,null,null,null,null,null,null,null,0,"23-25,9","24-31,9","24-27,9"]
[null,null,null,null,null,null,null,null,null,null,null,null,null,null,null,0,"23-25,9","24-31,9","24-27,9"]
[null,null,null,null,null,null,null,null,null,null,null,null,null,null,null,0,"23-25,9","24-31,9","24-27,9"]
[null,null,null,null,null,null,null,null,null,null,null,null,null,null,null,0,"23-25,9","24-31,9","24-27,9"]
[null,null,null,null,null,null,null,null,null,null,null,null,null,null,null,0,"23-25,9","24-31,9","24-27,9"]
[null,null,null,null,null,null,null,null,null,null,null,null,null,null,null,0,"23-25,9","24-31,9","24-27,9"]
[null,null,null,null,null,null,null,null,null,null,null,null,null,null,null,0,"23-25,9","24-31,9","24-27,9"]
[null,null,null,null,null,null,null,null,null,null,null,null,null,null,null,0,"23-25,9","24-31,9","24-27,9"]
[null,null,null,null,null,null,null,null,null,null,null,null,null,null,null,0,"23-25,9","24-31,9","24-27,9"]
[null,null,null,null,null,null,null,null,null,null,null,null,null,null,null,0,"23-25,9","24-31,9","24-27,9"]
[null,null,null,null,null,null,null,null,null,null,null,null,null,null,null,0,"23-25,9","24-31,9","24-27,9"]
[null,null,null,null,null,null,null,null,null,null,null,null,null,null,null,0,"23-25,9","24-31,9","24-27,9"]
[null,null,null,null,null,null,null,null,null,null,null,null,null,null,null,0,"23-25,9","24-31,9","24-27,9"]
[null,null,null,null,null,null,null,null,null,null,null,null,null,null,null,0,"23-25,9","24-31,9","24-27,9"]
[null,null,null,null,null,null,null,null,null,null,null,null,null,null,null,0,"23-25,9","24-31,9","24-27,9"]
[null,null,null,null,null,null,null,null,null,null,null,null,null,null,null,0,"23-25,9","24-31,9","24-27,9"]
[null,null,null,null,null,null,null,null,null,null,null,null,null,null,null,0,"23-25,9","24-31,9","24-27,9"]
[null,null,null,null,null,null,null,null,null,null,null,null,null,null,null,0,"23-25,9","24-31,9","24-27,9"]
[null,null,null,null,null,null,null,null,null,null,null,null,null,null,null,0,"23-25,9","24-31,9","24-27,9"]
[null,null,null,null,null,null,null,null,null,null,null,null,null,null,null,0,"23-25,9","24-31,9","24-27,9"]
[null,null,null,null,null,null,null,null,null,null,null,null,null,null,null,0,"23-25,9","24-31,9","24-27,9"]
[null,null,null,null,null,null,null,null,null,null,null,null,null,null,null,0,"23-25,9","24-31,9","24-27,9"]
[null,null,null,null,null,null,null,null,null,null,null,null,null,null,null,0,"23-25,9","24-31,9","24-27,9"]
[null,null,null,null,null,null,null,null,null,null,null,null,null,null,null,0,"23-25,9","24-31,9","24-27,9"]
[null,null,null,null,null,null,null,null,null,null,null,null,null,null,null,0,"23-25,9","24-31,9","24-27,9"]
[null,null,null,null,null,null,null,null,null,null,null,null,null,null,null,0,"23-25,9","24-31,9","24-27,9"]
[null,null,null,null,null,null,null,null,null,null,null,null,null,null,null,0,"23-25,9","24-31,9","24-27,9"]
[null,null,null,null,null,null,null,null,null,null,null,null,null,null,null,0,"23-25,9","24-31,9","24-27,9"]
[null,null,null,null,null,null,null,null,null,null,null,null,null,null,null,0,"23-25,9","24-31,9","24-27,9"]
[null,null,null,null,null,null,null,null,null,null,null,null,null,null,null,0,"23-25,9","24-31,9","24-27,9"]
[null,null,null,null,null,null,null,null,null,null,null,null,null,null,null,0,"23-25,9","24-31,9","24-27,9"]
[null,null,null,null,null,null,null,null,null,null,null,null,null,null,null,0,"23-25,9","24-31,9","24-27,9"]
[null,null,null,null,null,null,null,null,null,null,null,null,null,null,null,0,"23-25,9","24-31,9","24-27,9"]
[null,null,null,null,null,null,null,null,null,null,null,null,null,null,null,0,"23-25,9","24-31,9","24-27,9"]
[null,null,null,null,null,null,null,null,null,null,null,null,null,null,null,0,"23-25,9","24-31,9","24-27,9"]
[null,null,null,null,null,null,null,null,null,null,null,null,null,null,null,0,"23-25,9","24-31,9","24-27,9"]
[null,null,null,null,null,null,null,null,null,null,null,null,null,null,null,0,"23-25,9","24-31,9","24-27,9"]
[null,null,null,null,null,null,null,null,null,null,null,null,null,null,null,0,"23-25,9","24-31,9","24-27,9"]
[null,null,null,null,null,null,null,null,null,null,null,null,null,null,null,0,"23-25,9","24-31,9","24-27,9"]
[null,null,null,null,null,null,null,null,null,null,null,null,null,null,null,0,"23-25,9","24-31,9","24-27,9"]
[null,null,null,null,null,null,null,null,null,null,null,null,null,null,null,0,"23-25,9","24-31,9","24-27,9"]
[null,null,null,null,null,null,null,null,null,null,null,null,null,null,null,0,"23-25,9","24-31,9","24-27,9"]
[null,null,null,null,null,null,null,null,null,null,null,null,null,null,null,0,"23-25,9","24-31,9","24-27,9"]
[null,null,null,null,null,null,null,null,null,null,null,null,null,null,null,0,"23-25,9","24-31,9","24-27,9"]
[null,null,null,null,null,null,null,null,null,null,null,null,null,null,null,0,"23-25,9","24-31,9","24-27,9"]
[null,null,null,null,null,null,null,null,null,null,null,null,null,null,null,0,"23-25,9","24-31,9","24-27,9"]
[null,null,null,null,null,null,null,null,null,null,null,null,null,null,null,0,"23-25,9","24-31,9","24-27,9"]
[null,null,null,null,null,null,null,null,null,null,null,null,null,null,null,0,"23-25,9","24-31,9","24-27,9"]
[null,null,null,null,null,null,null,null,null,null,null,null,null,null,null,0,"23-25,9","24-31,9","24-27,9"]
[null,null,null,null,null,null,null,null,null,null,null,null,null,null,null,0,"23-25,9","24-31,9","24-27,9"]
[null,null,null,null,null,null,null,null,null,null,null,null,null,null,null,0,"23-25,9","24-31,9","24-27,9"]
[null,null,null,null,null,null,null,null,null,null,null,null,null,null,null,0,"23-25,9","24-31,9","24-27,9"]
[null,null,null,null,null,null,null,null,null,null,null,null,null,null,null,0,"23-25,9","24-31,9","24-27,9"]
[null,null,null,null,null,null,null,null,null,null,null,null,null,null,null,0,"23-25,9","24-31,9","24-27,9"]
[null,null,null,null,null,null,null,null,null,null,null,null,null,null,null,0,"23-25,9","24-31,9","24-27,9"]
[null,null,null,null,null,null,null,null,null,null,null,null,null,null,null,0,"23-25,9","24-31,9","24-27,9"]
[null,null,null,null,null,null,null,null,null,null,null,null,null,null,null,0,"23-25,9","24-31,9","24-27,9"]
[null,null,null,null,null,null,null,null,null,null,null,null,null,null,null,0,"23-25,9","24-31,9","24-27,9"]
[null,null,null,null,null,null,null,null,null,null,null,null,null,null,null,0,"23-25,9","24-31,9","24-27,9"]
[null,null,null,null,null,null,null,null,null,null,null,null,null,null,null,0,"23-25,9","24-31,9","24-27,9"]
[null,null,null,null,null,null,null,null,null,null,null,null,null,null,null,{"$f":"N643+(O643/7)","v":0},{"$f":"IF(P643<25.9,\"23-25,9\",IF(P643<27.9,\"26-27,9\",IF(P643<31.9,\"28-31,9\",IF(P643<34.9,\"32-34,9\",IF(P643<36.9,\"35-36,9\",IF(P643<40.2,\"37-40,2\",IF(P643<42,\"40,3-42\",IF(P643>=42,\">42\"))))))))","v":"23-25,9"},{"$f":"IF(P643<31.9,\"24-31,9\",IF(P643<42,\"32-42\",IF(P643>=42,\">42\")))","v":"24-31,9"},{"$f":"IF(P643<27.9,\"24-27,9\",IF(P643<42,\"28-42\",IF(P643>=42,\">42\")))","v":"24-27,9"}]
[null,null,null,null,null,null,null,null,null,null,null,null,null,null,null,0,"23-25,9","24-31,9","24-27,9"]
[null,null,null,null,null,null,null,null,null,null,null,null,null,null,null,0,"23-25,9","24-31,9","24-27,9"]
[null,null,null,null,null,null,null,null,null,null,null,null,null,null,null,0,"23-25,9","24-31,9","24-27,9"]
[null,null,null,null,null,null,null,null,null,null,null,null,null,null,null,0,"23-25,9","24-31,9","24-27,9"]
[null,null,null,null,null,null,null,null,null,null,null,null,null,null,null,0,"23-25,9","24-31,9","24-27,9"]
[null,null,null,null,null,null,null,null,null,null,null,null,null,null,null,0,"23-25,9","24-31,9","24-27,9"]
[null,null,null,null,null,null,null,null,null,null,null,null,null,null,null,0,"23-25,9","24-31,9","24-27,9"]
[null,null,null,null,null,null,null,null,null,null,null,null,null,null,null,0,"23-25,9","24-31,9","24-27,9"]
[null,null,null,null,null,null,null,null,null,null,null,null,null,null,null,0,"23-25,9","24-31,9","24-27,9"]
[null,null,null,null,null,null,null,null,null,null,null,null,null,null,null,0,"23-25,9","24-31,9","24-27,9"]
[null,null,null,null,null,null,null,null,null,null,null,null,null,null,null,0,"23-25,9","24-31,9","24-27,9"]
[null,null,null,null,null,null,null,null,null,null,null,null,null,null,null,0,"23-25,9","24-31,9","24-27,9"]
[null,null,null,null,null,null,null,null,null,null,null,null,null,null,null,0,"23-25,9","24-31,9","24-27,9"]
[null,null,null,null,null,null,null,null,null,null,null,null,null,null,null,0,"23-25,9","24-31,9","24-27,9"]
[null,null,null,null,null,null,null,null,null,null,null,null,null,null,null,0,"23-25,9","24-31,9","24-27,9"]
[null,null,null,null,null,null,null,null,null,null,null,null,null,null,null,0,"23-25,9","24-31,9","24-27,9"]
[null,null,null,null,null,null,null,null,null,null,null,null,null,null,null,0,"23-25,9","24-31,9","24-27,9"]
[null,null,null,null,null,null,null,null,null,null,null,null,null,null,null,0,"23-25,9","24-31,9","24-27,9"]
[null,null,null,null,null,null,null,null,null,null,null,null,null,null,null,0,"23-25,9","24-31,9","24-27,9"]
[null,null,null,null,null,null,null,null,null,null,null,null,null,null,null,0,"23-25,9","24-31,9","24-27,9"]
[null,null,null,null,null,null,null,null,null,null,null,null,null,null,null,0,"23-25,9","24-31,9","24-27,9"]
[null,null,null,null,null,null,null,null,null,null,null,null,null,null,null,0,"23-25,9","24-31,9","24-27,9"]
[null,null,null,null,null,null,null,null,null,null,null,null,null,null,null,0,"23-25,9","24-31,9","24-27,9"]
[null,null,null,null,null,null,null,null,null,null,null,null,null,null,null,0,"23-25,9","24-31,9","24-27,9"]
[null,null,null,null,null,null,null,null,null,null,null,null,null,null,null,0,"23-25,9","24-31,9","24-27,9"]
[null,null,null,null,null,null,null,null,null,null,null,null,null,null,null,0,"23-25,9","24-31,9","24-27,9"]
[null,null,null,null,null,null,null,null,null,null,null,null,null,null,null,0,"23-25,9","24-31,9","24-27,9"]
[null,null,null,null,null,null,null,null,null,null,null,null,null,null,null,0,"23-25,9","24-31,9","24-27,9"]
[null,null,null,null,null,null,null,null,null,null,null,null,null,null,null,0,"23-25,9","24-31,9","24-27,9"]
[null,null,null,null,null,null,null,null,null,null,null,null,null,null,null,0,"23-25,9","24-31,9","24-27,9"]
[null,null,null,null,null,null,null,null,null,null,null,null,null,null,null,0,"23-25,9","24-31,9","24-27,9"]
[null,null,null,null,null,null,null,null,null,null,null,null,null,null,null,0,"23-25,9","24-31,9","24-27,9"]
[null,null,null,null,null,null,null,null,null,null,null,null,null,null,null,0,"23-25,9","24-31,9","24-27,9"]
[null,null,null,null,null,null,null,null,null,null,null,null,null,null,null,0,"23-25,9","24-31,9","24-27,9"]
[null,null,null,null,null,null,null,null,null,null,null,null,null,null,null,0,"23-25,9","24-31,9","24-27,9"]
[null,null,null,null,null,null,null,null,null,null,null,null,null,null,null,0,"23-25,9","24-31,9","24-27,9"]
[null,null,null,null,null,null,null,null,null,null,null,null,null,null,null,0,"23-25,9","24-31,9","24-27,9"]
[null,null,null,null,null,null,null,null,null,null,null,null,null,null,null,0,"23-25,9","24-31,9","24-27,9"]
[null,null,null,null,null,null,null,null,null,null,null,null,null,null,null,0,"23-25,9","24-31,9","24-27,9"]
[null,null,null,null,null,null,null,null,null,null,null,null,null,null,null,0,"23-25,9","24-31,9","24-27,9"]
[null,null,null,null,null,null,null,null,null,null,null,null,null,null,null,0,"23-25,9","24-31,9","24-27,9"]
[null,null,null,null,null,null,null,null,null,null,null,null,null,null,null,0,"23-25,9","24-31,9","24-27,9"]
[null,null,null,null,null,null,null,null,null,null,null,null,null,null,null,0,"23-25,9","24-31,9","24-27,9"]
[null,null,null,null,null,null,null,null,null,null,null,null,null,null,null,0,"23-25,9","24-31,9","24-27,9"]
[null,null,null,null,null,null,null,null,null,null,null,null,null,null,null,0,"23-25,9","24-31,9","24-27,9"]
[null,null,null,null,null,null,null,null,null,null,null,null,null,null,null,0,"23-25,9","24-31,9","24-27,9"]
[null,null,null,null,null,null,null,null,null,null,null,null,null,null,null,0,"23-25,9","24-31,9","24-27,9"]
[null,null,null,null,null,null,null,null,null,null,null,null,null,null,null,0,"23-25,9","24-31,9","24-27,9"]
[null,null,null,null,null,null,null,null,null,null,null,null,null,null,null,0,"23-25,9","24-31,9","24-27,9"]
[null,null,null,null,null,null,null,null,null,null,null,null,null,null,null,0,"23-25,9","24-31,9","24-27,9"]
[null,null,null,null,null,null,null,null,null,null,null,null,null,null,null,0,"23-25,9","24-31,9","24-27,9"]
[null,null,null,null,null,null,null,null,null,null,null,null,null,null,null,0,"23-25,9","24-31,9","24-27,9"]
[null,null,null,null,null,null,null,null,null,null,null,null,null,null,null,0,"23-25,9","24-31,9","24-27,9"]
[null,null,null,null,null,null,null,null,null,null,null,null,null,null,null,0,"23-25,9","24-31,9","24-27,9"]
[null,null,null,null,null,null,null,null,null,null,null,null,null,null,null,0,"23-25,9","24-31,9","24-27,9"]
[null,null,null,null,null,null,null,null,null,null,null,null,null,null,null,0,"23-25,9","24-31,9","24-27,9"]
[null,null,null,null,null,null,null,null,null,null,null,null,null,null,null,0,"23-25,9","24-31,9","24-27,9"]
[null,null,null,null,null,null,null,null,null,null,null,null,null,null,null,0,"23-25,9","24-31,9","24-27,9"]
[null,null,null,null,null,null,null,null,null,null,null,null,null,null,null,0,"23-25,9","24-31,9","24-27,9"]
[null,null,null,null,null,null,null,null,null,null,null,null,null,null,null,0,"23-25,9","24-31,9","24-27,9"]
[null,null,null,null,null,null,null,null,null,null,null,null,null,null,null,0,"23-25,9","24-31,9","24-27,9"]
[null,null,null,null,null,null,null,null,null,null,null,null,null,null,null,0,"23-25,9","24-31,9","24-27,9"]
[null,null,null,null,null,null,null,null,null,null,null,null,null,null,null,0,"23-25,9","24-31,9","24-27,9"]
[null,null,null,null,null,null,null,null,null,null,null,null,null,null,null,{"$f":"N707+(O707/7)","v":0},{"$f":"IF(P707<25.9,\"23-25,9\",IF(P707<27.9,\"26-27,9\",IF(P707<31.9,\"28-31,9\",IF(P707<34.9,\"32-34,9\",IF(P707<36.9,\"35-36,9\",IF(P707<40.2,\"37-40,2\",IF(P707<42,\"40,3-42\",IF(P707>=42,\">42\"))))))))","v":"23-25,9"},{"$f":"IF(P707<31.9,\"24-31,9\",IF(P707<42,\"32-42\",IF(P707>=42,\">42\")))","v":"24-31,9"},{"$f":"IF(P707<27.9,\"24-27,9\",IF(P707<42,\"28-42\",IF(P707>=42,\">42\")))","v":"24-27,9"}]
[null,null,null,null,null,null,null,null,null,null,null,null,null,null,null,0,"23-25,9","24-31,9","24-27,9"]
[null,null,null,null,null,null,null,null,null,null,null,null,null,null,null,0,"23-25,9","24-31,9","24-27,9"]
[null,null,null,null,null,null,null,null,null,null,null,null,null,null,null,0,"23-25,9","24-31,9","24-27,9"]
[null,null,null,null,null,null,null,null,null,null,null,null,null,null,null,0,"23-25,9","24-31,9","24-27,9"]
[null,null,null,null,null,null,null,null,null,null,null,null,null,null,null,0,"23-25,9","24-31,9","24-27,9"]
[null,null,null,null,null,null,null,null,null,null,null,null,null,null,null,0,"23-25,9","24-31,9","24-27,9"]
[null,null,null,null,null,null,null,null,null,null,null,null,null,null,null,0,"23-25,9","24-31,9","24-27,9"]
[null,null,null,null,null,null,null,null,null,null,null,null,null,null,null,0,"23-25,9","24-31,9","24-27,9"]
[null,null,null,null,null,null,null,null,null,null,null,null,null,null,null,0,"23-25,9","24-31,9","24-27,9"]
[null,null,null,null,null,null,null,null,null,null,null,null,null,null,null,0,"23-25,9","24-31,9","24-27,9"]
[null,null,null,null,null,null,null,null,null,null,null,null,null,null,null,0,"23-25,9","24-31,9","24-27,9"]
[null,null,null,null,null,null,null,null,null,null,null,null,null,null,null,0,"23-25,9","24-31,9","24-27,9"]
[null,null,null,null,null,null,null,null,null,null,null,null,null,null,null,0,"23-25,9","24-31,9","24-27,9"]
[null,null,null,null,null,null,null,null,null,null,null,null,null,null,null,0,"23-25,9","24-31,9","24-27,9"]
[null,null,null,null,null,null,null,null,null,null,null,null,null,null,null,0,"23-25,9","24-31,9","24-27,9"]
[null,null,null,null,null,null,null,null,null,null,null,null,null,null,null,0,"23-25,9","24-31,9","24-27,9"]
[null,null,null,null,null,null,null,null,null,null,null,null,null,null,null,0,"23-25,9","24-31,9","24-27,9"]
[null,null,null,null,null,null,null,null,null,null,null,null,null,null,null,0,"23-25,9","24-31,9","24-27,9"]
[null,null,null,null,null,null,null,null,null,null,null,null,null,null,null,0,"23-25,9","24-31,9","24-27,9"]
[null,null,null,null,null,null,null,null,null,null,null,null,null,null,null,0,"23-25,9","24-31,9","24-27,9"]
[null,null,null,null,null,null,null,null,null,null,null,null,null,null,null,0,"23-25,9","24-31,9","24-27,9"]
[null,null,null,null,null,null,null,null,null,null,null,null,null,null,null,0,"23-25,9","24-31,9","24-27,9"]
[null,null,null,null,null,null,null,null,null,null,null,null,null,null,null,0,"23-25,9","24-31,9","24-27,9"]
[null,null,null,null,null,null,null,null,null,null,null,null,null,null,null,0,"23-25,9","24-31,9","24-27,9"]
[null,null,null,null,null,null,null,null,null,null,null,null,null,null,null,0,"23-25,9","24-31,9","24-27,9"]
[null,null,null,null,null,null,null,null,null,null,null,null,null,null,null,0,"23-25,9","24-31,9","24-27,9"]
[null,null,null,null,null,null,null,null,null,null,null,null,null,null,null,0,"23-25,9","24-31,9","24-27,9"]
[null,null,null,null,null,null,null,null,null,null,null,null,null,null,null,0,"23-25,9","24-31,9","24-27,9"]
[null,null,null,null,null,null,null,null,null,null,null,null,null,null,null,0,"23-25,9","24-31,9","24-27,9"]
[null,null,null,null,null,null,null,null,null,null,null,null,null,null,null,0,"23-25,9","24-31,9","24-27,9"]
[null,null,null,null,null,null,null,null,null,null,null,null,null,null,null,0,"23-25,9","24-31,9","24-27,9"]
[null,null,null,null,null,null,null,null,null,null,null,null,null,null,null,0,"23-25,9","24-31,9","24-27,9"]
[null,null,null,null,null,null,null,null,null,null,null,null,null,null,null,0,"23-25,9","24-31,9","24-27,9"]
[null,null,null,null,null,null,null,null,null,null,null,null,null,null,null,0,"23-25,9","24-31,9","24-27,9"]
[null,null,null,null,null,null,null,null,null,null,null,null,null,null,null,0,"23-25,9","24-31,9","24-27,9"]
[null,null,null,null,null,null,null,null,null,null,null,null,null,null,null,0,"23-25,9","24-31,9","24-27,9"]
[null,null,null,null,null,null,null,null,null,null,null,null,null,null,null,0,"23-25,9","24-31,9","24-27,9"]
[null,null,null,null,null,null,null,null,null,null,null,null,null,null,null,0,"23-25,9","24-31,9","24-27,9"]
[null,null,null,null,null,null,null,null,null,null,null,null,null,null,null,0,"23-25,9","24-31,9","24-27,9"]
[null,null,null,null,null,null,null,null,null,null,null,null,null,null,null,0,"23-25,9","24-31,9","24-27,9"]
[null,null,null,null,null,null,null,null,null,null,null,null,null,null,null,0,"23-25,9","24-31,9","24-27,9"]
[null,null,null,null,null,null,null,null,null,null,null,null,null,null,null,0,"23-25,9","24-31,9","24-27,9"]
[null,null,null,null,null,null,null,null,null,null,null,null,null,null,null,0,"23-25,9","24-31,9","24-27,9"]
[null,null,null,null,null,null,null,null,null,null,null,null,null,null,null,0,"23-25,9","24-31,9","24-27,9"]
[null,null,null,null,null,null,null,null,null,null,null,null,null,null,null,0,"23-25,9","24-31,9","24-27,9"]
[null,null,null,null,null,null,null,null,null,null,null,null,null,null,null,0,"23-25,9","24-31,9","24-27,9"]
[null,null,null,null,null,null,null,null,null,null,null,null,null,null,null,0,"23-25,9","24-31,9","24-27,9"]
[null,null,null,null,null,null,null,null,null,null,null,null,null,null,null,0,"23-25,9","24-31,9","24-27,9"]
[null,null,null,null,null,null,null,null,null,null,null,null,null,null,null,0,"23-25,9","24-31,9","24-27,9"]
[null,null,null,null,null,null,null,null,null,null,null,null,null,null,null,0,"23-25,9","24-31,9","24-27,9"]
[null,null,null,null,null,null,null,null,null,null,null,null,null,null,null,0,"23-25,9","24-31,9","24-27,9"]
[null,null,null,null,null,null,null,null,null,null,null,null,null,null,null,0,"23-25,9","24-31,9","24-27,9"]
[null,null,null,null,null,null,null,null,null,null,null,null,null,null,null,0,"23-25,9","24-31,9","24-27,9"]
[null,null,null,null,null,null,null,null,null,null,null,null,null,null,null,0,"23-25,9","24-31,9","24-27,9"]
[null,null,null,null,null,null,null,null,null,null,null,null,null,null,null,0,"23-25,9","24-31,9","24-27,9"]
[null,null,null,null,null,null,null,null,null,null,null,null,null,null,null,0,"23-25,9","24-31,9","24-27,9"]
[null,null,null,null,null,null,null,null,null,null,null,null,null,null,null,0,"23-25,9","24-31,9","24-27,9"]
[null,null,null,null,null,null,null,null,null,null,null,null,null,null,null,0,"23-25,9","24-31,9","24-27,9"]
[null,null,null,null,null,null,null,null,null,null,null,null,null,null,null,0,"23-25,9","24-31,9","24-27,9"]
[null,null,null,null,null,null,null,null,null,null,null,null,null,null,null,0,"23-25,9","24-31,9","24-27,9"]
[null,null,null,null,null,null,null,null,null,null,null,null,null,null,null,0,"23-25,9","24-31,9","24-27,9"]
[null,null,null,null,null,null,null,null,null,null,null,null,null,null,null,0,"23-25,9","24-31,9","24-27,9"]
[null,null,null,null,null,null,null,null,null,null,null,null,null,null,null,0,"23-25,9","24-31,9","24-27,9"]
[null,null,null,null,null,null,null,null,null,null,null,null,null,null,null,{"$f":"N771+(O771/7)","v":0},{"$f":"IF(P771<25.9,\"23-25,9\",IF(P771<27.9,\"26-27,9\",IF(P771<31.9,\"28-31,9\",IF(P771<34.9,\"32-34,9\",IF(P771<36.9,\"35-36,9\",IF(P771<40.2,\"37-40,2\",IF(P771<42,\"40,3-42\",IF(P771>=42,\">42\"))))))))","v":"23-25,9"},{"$f":"IF(P771<31.9,\"24-31,9\",IF(P771<42,\"32-42\",IF(P771>=42,\">42\")))","v":"24-31,9"},{"$f":"IF(P771<27.9,\"24-27,9\",IF(P771<42,\"28-42\",IF(P771>=42,\">42\")))","v":"24-27,9"}]
[null,null,null,null,null,null,null,null,null,null,null,null,null,null,null,0,"23-25,9","24-31,9","24-27,9"]
[null,null,null,null,null,null,null,null,null,null,null,null,null,null,null,0,"23-25,9","24-31,9","24-27,9"]
[null,null,null,null,null,null,null,null,null,null,null,null,null,null,null,0,"23-25,9","24-31,9","24-27,9"]
[null,null,null,null,null,null,null,null,null,null,null,null,null,null,null,0,"23-25,9","24-31,9","24-27,9"]
[null,null,null,null,null,null,null,null,null,null,null,null,null,null,null,0,"23-25,9","24-31,9","24-27,9"]
[null,null,null,null,null,null,null,null,null,null,null,null,null,null,null,0,"23-25,9","24-31,9","24-27,9"]
[null,null,null,null,null,null,null,null,null,null,null,null,null,null,null,0,"23-25,9","24-31,9","24-27,9"]
[null,null,null,null,null,null,null,null,null,null,null,null,null,null,null,0,"23-25,9","24-31,9","24-27,9"]
[null,null,null,null,null,null,null,null,null,null,null,null,null,null,null,0,"23-25,9","24-31,9","24-27,9"]
[null,null,null,null,null,null,null,null,null,null,null,null,null,null,null,0,"23-25,9","24-31,9","24-27,9"]
[null,null,null,null,null,null,null,null,null,null,null,null,null,null,null,0,"23-25,9","24-31,9","24-27,9"]
[null,null,null,null,null,null,null,null,null,null,null,null,null,null,null,0,"23-25,9","24-31,9","24-27,9"]
[null,null,null,null,null,null,null,null,null,null,null,null,null,null,null,0,"23-25,9","24-31,9","24-27,9"]
[null,null,null,null,null,null,null,null,null,null,null,null,null,null,null,0,"23-25,9","24-31,9","24-27,9"]
[null,null,null,null,null,null,null,null,null,null,null,null,null,null,null,0,"23-25,9","24-31,9","24-27,9"]
[null,null,null,null,null,null,null,null,null,null,null,null,null,null,null,0,"23-25,9","24-31,9","24-27,9"]
[null,null,null,null,null,null,null,null,null,null,null,null,null,null,null,0,"23-25,9","24-31,9","24-27,9"]
[null,null,null,null,null,null,null,null,null,null,null,null,null,null,null,0,"23-25,9","24-31,9","24-27,9"]
[null,null,null,null,null,null,null,null,null,null,null,null,null,null,null,0,"23-25,9","24-31,9","24-27,9"]
[null,null,null,null,null,null,null,null,null,null,null,null,null,null,null,0,"23-25,9","24-31,9","24-27,9"]
[null,null,null,null,null,null,null,null,null,null,null,null,null,null,null,0,"23-25,9","24-31,9","24-27,9"]
[null,null,null,null,null,null,null,null,null,null,null,null,null,null,null,0,"23-25,9","24-31,9","24-27,9"]
[null,null,null,null,null,null,null,null,null,null,null,null,null,null,null,0,"23-25,9","24-31,9","24-27,9"]
[null,null,null,null,null,null,null,null,null,null,null,null,null,null,null,0,"23-25,9","24-31,9","24-27,9"]
[null,null,null,null,null,null,null,null,null,null,null,null,null,null,null,0,"23-25,9","24-31,9","24-27,9"]
[null,null,null,null,null,null,null,null,null,null,null,null,null,null,null,0,"23-25,9","24-31,9","24-27,9"]
[null,null,null,null,null,null,null,null,null,null,null,null,null,null,null,0,"23-25,9","24-31,9","24-27,9"]
[null,null,null,null,null,null,null,null,null,null,null,null,null,null,null,0,"23-25,9","24-31,9","24-27,9"]
[null,null,null,null,null,null,null,null,null,null,null,null,null,null,null,0,"23-25,9","24-31,9","24-27,9"]
[null,null,null,null,null,null,null,null,null,null,null,null,null,null,null,0,"23-25,9","24-31,9","24-27,9"]
[null,null,null,null,null,null,null,null,null,null,null,null,null,null,null,0,"23-25,9","24-31,9","24-27,9"]
[null,null,null,null,null,null,null,null,null,null,null,null,null,null,null,0,"23-25,9","24-31,9","24-27,9"]
[null,null,null,null,null,null,null,null,null,null,null,null,null,null,null,0,"23-25,9","24-31,9","24-27,9"]
[null,null,null,null,null,null,null,null,null,null,null,null,null,null,null,0,"23-25,9","24-31,9","24-27,9"]
[null,null,null,null,null,null,null,null,null,null,null,null,null,null,null,0,"23-25,9","24-31,9","24-27,9"]
[null,null,null,null,null,null,null,null,null,null,null,null,null,null,null,0,"23-25,9","24-31,9","24-27,9"]
[null,null,null,null,null,null,null,null,null,null,null,null,null,null,null,0,"23-25,9","24-31,9","24-27,9"]
[null,null,null,null,null,null,null,null,null,null,null,null,null,null,null,0,"23-25,9","24-31,9","24-27,9"]
[null,null,null,null,null,null,null,null,null,null,null,null,null,null,null,0,"23-25,9","24-31,9","24-27,9"]
[null,null,null,null,null,null,null,null,null,null,null,null,null,null,null,0,"23-25,9","24-31,9","24-27,9"]
[null,null,null,null,null,null,null,null,null,null,null,null,null,null,null,0,"23-25,9","24-31,9","24-27,9"]
[null,null,null,null,null,null,null,null,null,null,null,null,null,null,null,0,"23-25,9","24-31,9","24-27,9"]
[null,null,null,null,null,null,null,null,null,null,null,null,null,null,null,0,"23-25,9","24-31,9","24-27,9"]
[null,null,null,null,null,null,null,null,null,null,null,null,null,null,null,0,"23-25,9","24-31,9","24-27,9"]
[null,null,null,null,null,null,null,null,null,null,null,null,null,null,null,0,"23-25,9","24-31,9","24-27,9"]
[null,null,null,null,null,null,null,null,null,null,null,null,null,null,null,0,"23-25,9","24-31,9","24-27,9"]
[null,null,null,null,null,null,null,null,null,null,null,null,null,null,null,0,"23-25,9","24-31,9","24-27,9"]
[null,null,null,null,null,null,null,null,null,null,null,null,null,null,null,0,"23-25,9","24-31,9","24-27,9"]
[null,null,null,null,null,null,null,null,null,null,null,null,null,null,null,0,"23-25,9","24-31,9","24-27,9"]
[null,null,null,null,null,null,null,null,null,null,null,null,null,null,null,0,"23-25,9","24-31,9","24-27,9"]
[null,null,null,null,null,null,null,null,null,null,null,null,null,null,null,0,"23-25,9","24-31,9","24-27,9"]
[null,null,null,null,null,null,null,null,null,null,null,null,null,null,null,0,"23-25,9","24-31,9","24-27,9"]
[null,null,null,null,null,null,null,null,null,null,null,null,null,null,null,0,"23-25,9","24-31,9","24-27,9"]
[null,null,null,null,null,null,null,null,null,null,null,null,null,null,null,0,"23-25,9","24-31,9","24-27,9"]
[null,null,null,null,null,null,null,null,null,null,null,null,null,null,null,0,"23-25,9","24-31,9","24-27,9"]
[null,null,null,null,null,null,null,null,null,null,null,null,null,null,null,0,"23-25,9","24-31,9","24-27,9"]
[null,null,null,null,null,null,null,null,null,null,null,null,null,null,null,0,"23-25,9","24-31,9","24-27,9"]
[null,null,null,null,null,null,null,null,null,null,null,null,null,null,null,0,"23-25,9","24-31,9","24-27,9"]
[null,null,null,null,null,null,null,null,null,null,null,null,null,null,null,0,"23-25,9","24-31,9","24-27,9"]
[null,null,null,null,null,null,null,null,null,null,null,null,null,null,null,0,"23-25,9","24-31,9","24-27,9"]
[null,null,null,null,null,null,null,null,null,null,null,null,null,null,null,0,"23-25,9","24-31,9","24-27,9"]
[null,null,null,null,null,null,null,null,null,null,null,null,null,null,null,0,"23-25,9","24-31,9","24-27,9"]
[null,null,null,null,null,null,null,null,null,null,null,null,null,null,null,0,"23-25,9","24-31,9","24-27,9"]
[null,null,null,null,null,null,null,null,null,null,null,null,null,null,null,{"$f":"N835+(O835/7)","v":0},{"$f":"IF(P835<25.9,\"23-25,9\",IF(P835<27.9,\"26-27,9\",IF(P835<31.9,\"28-31,9\",IF(P835<34.9,\"32-34,9\",IF(P835<36.9,\"35-36,9\",IF(P835<40.2,\"37-40,2\",IF(P835<42,\"40,3-42\",IF(P835>=42,\">42\"))))))))","v":"23-25,9"},{"$f":"IF(P835<31.9,\"24-31,9\",IF(P835<42,\"32-42\",IF(P835>=42,\">42\")))","v":"24-31,9"},{"$f":"IF(P835<27.9,\"24-27,9\",IF(P835<42,\"28-42\",IF(P835>=42,\">42\")))","v":"24-27,9"}]
[null,null,null,null,null,null,null,null,null,null,null,null,null,null,null,0,"23-25,9","24-31,9","24-27,9"]
[null,null,null,null,null,null,null,null,null,null,null,null,null,null,null,0,"23-25,9","24-31,9","24-27,9"]
[null,null,null,null,null,null,null,null,null,null,null,null,null,null,null,0,"23-25,9","24-31,9","24-27,9"]
[null,null,null,null,null,null,null,null,null,null,null,null,null,null,null,0,"23-25,9","24-31,9","24-27,9"]
[null,null,null,null,null,null,null,null,null,null,null,null,null,null,null,0,"23-25,9","24-31,9","24-27,9"]
[null,null,null,null,null,null,null,null,null,null,null,null,null,null,null,0,"23-25,9","24-31,9","24-27,9"]
[null,null,null,null,null,null,null,null,null,null,null,null,null,null,null,0,"23-25,9","24-31,9","24-27,9"]
[null,null,null,null,null,null,null,null,null,null,null,null,null,null,null,0,"23-25,9","24-31,9","24-27,9"]
[null,null,null,null,null,null,null,null,null,null,null,null,null,null,null,0,"23-25,9","24-31,9","24-27,9"]
[null,null,null,null,null,null,null,null,null,null,null,null,null,null,null,0,"23-25,9","24-31,9","24-27,9"]
[null,null,null,null,null,null,null,null,null,null,null,null,null,null,null,0,"23-25,9","24-31,9","24-27,9"]
[null,null,null,null,null,null,null,null,null,null,null,null,null,null,null,0,"23-25,9","24-31,9","24-27,9"]
[null,null,null,null,null,null,null,null,null,null,null,null,null,null,null,0,"23-25,9","24-31,9","24-27,9"]
[null,null,null,null,null,null,null,null,null,null,null,null,null,null,null,0,"23-25,9","24-31,9","24-27,9"]
[null,null,null,null,null,null,null,null,null,null,null,null,null,null,null,0,"23-25,9","24-31,9","24-27,9"]
[null,null,null,null,null,null,null,null,null,null,null,null,null,null,null,0,"23-25,9","24-31,9","24-27,9"]
[null,null,null,null,null,null,null,null,null,null,null,null,null,null,null,0,"23-25,9","24-31,9","24-27,9"]
[null,null,null,null,null,null,null,null,null,null,null,null,null,null,null,0,"23-25,9","24-31,9","24-27,9"]
[null,null,null,null,null,null,null,null,null,null,null,null,null,null,null,0,"23-25,9","24-31,9","24-27,9"]
[null,null,null,null,null,null,null,null,null,null,null,null,null,null,null,0,"23-25,9","24-31,9","24-27,9"]
[null,null,null,null,null,null,null,null,null,null,null,null,null,null,null,0,"23-25,9","24-31,9","24-27,9"]
[null,null,null,null,null,null,null,null,null,null,null,null,null,null,null,0,"23-25,9","24-31,9","24-27,9"]
[null,null,null,null,null,null,null,null,null,null,null,null,null,null,null,0,"23-25,9","24-31,9","24-27,9"]
[null,null,null,null,null,null,null,null,null,null,null,null,null,null,null,0,"23-25,9","24-31,9","24-27,9"]
[null,null,null,null,null,null,null,null,null,null,null,null,null,null,null,0,"23-25,9","24-31,9","24-27,9"]
[null,null,null,null,null,null,null,null,null,null,null,null,null,null,null,0,"23-25,9","24-31,9","24-27,9"]
[null,null,null,null,null,null,null,null,null,null,null,null,null,null,null,0,"23-25,9","24-31,9","24-27,9"]
[null,null,null,null,null,null,null,null,null,null,null,null,null,null,null,0,"23-25,9","24-31,9","24-27,9"]
[null,null,null,null,null,null,null,null,null,null,null,null,null,null,null,0,"23-25,9","24-31,9","24-27,9"]
[null,null,null,null,null,null,null,null,null,null,null,null,null,null,null,0,"23-25,9","24-31,9","24-27,9"]
[null,null,null,null,null,null,null,null,null,null,null,null,null,null,null,0,"23-25,9","24-31,9","24-27,9"]
[null,null,null,null,null,null,null,null,null,null,null,null,null,null,null,0,"23-25,9","24-31,9","24-27,9"]
[null,null,null,null,null,null,null,null,null,null,null,null,null,null,null,0,"23-25,9","24-31,9","24-27,9"]
[null,null,null,null,null,null,null,null,null,null,null,null,null,null,null,0,"23-25,9","24-31,9","24-27,9"]
[null,null,null,null,null,null,null,null,null,null,null,null,null,null,null,0,"23-25,9","24-31,9","24-27,9"]
[null,null,null,null,null,null,null,null,null,null,null,null,null,null,null,0,"23-25,9","24-31,9","24-27,9"]
[null,null,null,null,null,null,null,null,null,null,null,null,null,null,null,0,"23-25,9","24-31,9","24-27,9"]
[null,null,null,null,null,null,null,null,null,null,null,null,null,null,null,0,"23-25,9","24-31,9","24-27,9"]
[null,null,null,null,null,null,null,null,null,null,null,null,null,null,null,0,"23-25,9","24-31,9","24-27,9"]
[null,null,null,null,null,null,null,null,null,null,null,null,null,null,null,0,"23-25,9","24-31,9","24-27,9"]
[null,null,null,null,null,null,null,null,null,null,null,null,null,null,null,0,"23-25,9","24-31,9","24-27,9"]
[null,null,null,null,null,null,null,null,null,null,null,null,null,null,null,0,"23-25,9","24-31,9","24-27,9"]
[null,null,null,null,null,null,null,null,null,null,null,null,null,null,null,0,"23-25,9","24-31,9","24-27,9"]
[null,null,null,null,null,null,null,null,null,null,null,null,null,null,null,0,"23-25,9","24-31,9","24-27,9"]
[null,null,null,null,null,null,null,null,null,null,null,null,null,null,null,0,"23-25,9","24-31,9","24-27,9"]
[null,null,null,null,null,null,null,null,null,null,null,null,null,null,null,0,"23-25,9","24-31,9","24-27,9"]
[null,null,null,null,null,null,null,null,null,null,null,null,null,null,null,0,"23-25,9","24-31,9","24-27,9"]
[null,null,null,null,null,null,null,null,null,null,null,null,null,null,null,0,"23-25,9","24-31,9","24-27,9"]
[null,null,null,null,null,null,null,null,null,null,null,null,null,null,null,0,"23-25,9","24-31,9","24-27,9"]
[null,null,null,null,null,null,null,null,null,null,null,null,null,null,null,0,"23-25,9","24-31,9","24-27,9"]
[null,null,null,null,null,null,null,null,null,null,null,null,null,null,null,0,"23-25,9","24-31,9","24-27,9"]
[null,null,null,null,null,null,null,null,null,null,null,null,null,null,null,0,"23-25,9","24-31,9","24-27,9"]
[null,null,null,null,null,null,null,null,null,null,null,null,null,null,null,0,"23-25,9","24-31,9","24-27,9"]
[null,null,null,null,null,null,null,null,null,null,null,null,null,null,null,0,"23-25,9","24-31,9","24-27,9"]
[null,null,null,null,null,null,null,null,null,null,null,null,null,null,null,0,"23-25,9","24-31,9","24-27,9"]
[null,null,null,null,null,null,null,null,null,null,null,null,null,null,null,0,"23-25,9","24-31,9","24-27,9"]
[null,null,null,null,null,null,null,null,null,null,null,null,null,null,null,0,"23-25,9","24-31,9","24-27,9"]
[null,null,null,null,null,null,null,null,null,null,null,null,null,null,null,0,"23-25,9","24-31,9","24-27,9"]
[null,null,null,null,null,null,null,null,null,null,null,null,null,null,null,0,"23-25,9","24-31,9","24-27,9"]
[null,null,null,null,null,null,null,null,null,null,null,null,null,null,null,0,"23-25,9","24-31,9","24-27,9"]
[null,null,null,null,null,null,null,null,null,null,null,null,null,null,null,0,"23-25,9","24-31,9","24-27,9"]
[null,null,null,null,null,null,null,null,null,null,null,null,null,null,null,0,"23-25,9","24-31,9","24-27,9"]
[null,null,null,null,null,null,null,null,null,null,null,null,null,null,null,0,"23-25,9","24-31,9","24-27,9"]
[null,null,null,null,null,null,null,null,null,null,null,null,null,null,null,{"$f":"N899+(O899/7)","v":0},{"$f":"IF(P899<25.9,\"23-25,9\",IF(P899<27.9,\"26-27,9\",IF(P899<31.9,\"28-31,9\",IF(P899<34.9,\"32-34,9\",IF(P899<36.9,\"35-36,9\",IF(P899<40.2,\"37-40,2\",IF(P899<42,\"40,3-42\",IF(P899>=42,\">42\"))))))))","v":"23-25,9"},{"$f":"IF(P899<31.9,\"24-31,9\",IF(P899<42,\"32-42\",IF(P899>=42,\">42\")))","v":"24-31,9"},{"$f":"IF(P899<27.9,\"24-27,9\",IF(P899<42,\"28-42\",IF(P899>=42,\">42\")))","v":"24-27,9"}]
[null,null,null,null,null,null,null,null,null,null,null,null,null,null,null,0,"23-25,9","24-31,9","24-27,9"]
[null,null,null,null,null,null,null,null,null,null,null,null,null,null,null,0,"23-25,9","24-31,9","24-27,9"]
[null,null,null,null,null,null,null,null,null,null,null,null,null,null,null,0,"23-25,9","24-31,9","24-27,9"]
[null,null,null,null,null,null,null,null,null,null,null,null,null,null,null,0,"23-25,9","24-31,9","24-27,9"]
[null,null,null,null,null,null,null,null,null,null,null,null,null,null,null,0,"23-25,9","24-31,9","24-27,9"]
[null,null,null,null,null,null,null,null,null,null,null,null,null,null,null,0,"23-25,9","24-31,9","24-27,9"]
[null,null,null,null,null,null,null,null,null,null,null,null,null,null,null,0,"23-25,9","24-31,9","24-27,9"]
[null,null,null,null,null,null,null,null,null,null,null,null,null,null,null,0,"23-25,9","24-31,9","24-27,9"]
[null,null,null,null,null,null,null,null,null,null,null,null,null,null,null,0,"23-25,9","24-31,9","24-27,9"]
[null,null,null,null,null,null,null,null,null,null,null,null,null,null,null,0,"23-25,9","24-31,9","24-27,9"]
[null,null,null,null,null,null,null,null,null,null,null,null,null,null,null,0,"23-25,9","24-31,9","24-27,9"]
[null,null,null,null,null,null,null,null,null,null,null,null,null,null,null,0,"23-25,9","24-31,9","24-27,9"]
[null,null,null,null,null,null,null,null,null,null,null,null,null,null,null,0,"23-25,9","24-31,9","24-27,9"]
[null,null,null,null,null,null,null,null,null,null,null,null,null,null,null,0,"23-25,9","24-31,9","24-27,9"]
[null,null,null,null,null,null,null,null,null,null,null,null,null,null,null,0,"23-25,9","24-31,9","24-27,9"]
[null,null,null,null,null,null,null,null,null,null,null,null,null,null,null,0,"23-25,9","24-31,9","24-27,9"]
[null,null,null,null,null,null,null,null,null,null,null,null,null,null,null,0,"23-25,9","24-31,9","24-27,9"]
[null,null,null,null,null,null,null,null,null,null,null,null,null,null,null,0,"23-25,9","24-31,9","24-27,9"]
[null,null,null,null,null,null,null,null,null,null,null,null,null,null,null,0,"23-25,9","24-31,9","24-27,9"]
[null,null,null,null,null,null,null,null,null,null,null,null,null,null,null,0,"23-25,9","24-31,9","24-27,9"]
[null,null,null,null,null,null,null,null,null,null,null,null,null,null,null,0,"23-25,9","24-31,9","24-27,9"]
[null,null,null,null,null,null,null,null,null,null,null,null,null,null,null,0,"23-25,9","24-31,9","24-27,9"]
[null,null,null,null,null,null,null,null,null,null,null,null,null,null,null,0,"23-25,9","24-31,9","24-27,9"]
[null,null,null,null,null,null,null,null,null,null,null,null,null,null,null,0,"23-25,9","24-31,9","24-27,9"]
[null,null,null,null,null,null,null,null,null,null,null,null,null,null,null,0,"23-25,9","24-31,9","24-27,9"]
[null,null,null,null,null,null,null,null,null,null,null,null,null,null,null,0,"23-25,9","24-31,9","24-27,9"]
[null,null,null,null,null,null,null,null,null,null,null,null,null,null,null,0,"23-25,9","24-31,9","24-27,9"]
[null,null,null,null,null,null,null,null,null,null,null,null,null,null,null,0,"23-25,9","24-31,9","24-27,9"]
[null,null,null,null,null,null,null,null,null,null,null,null,null,null,null,0,"23-25,9","24-31,9","24-27,9"]
[null,null,null,null,null,null,null,null,null,null,null,null,null,null,null,0,"23-25,9","24-31,9","24-27,9"]
[null,null,null,null,null,null,null,null,null,null,null,null,null,null,null,0,"23-25,9","24-31,9","24-27,9"]
[null,null,null,null,null,null,null,null,null,null,null,null,null,null,null,0,"23-25,9","24-31,9","24-27,9"]
[null,null,null,null,null,null,null,null,null,null,null,null,null,null,null,0,"23-25,9","24-31,9","24-27,9"]
[null,null,null,null,null,null,null,null,null,null,null,null,null,null,null,0,"23-25,9","24-31,9","24-27,9"]
[null,null,null,null,null,null,null,null,null,null,null,null,null,null,null,0,"23-25,9","24-31,9","24-27,9"]
[null,null,null,null,null,null,null,null,null,null,null,null,null,null,null,0,"23-25,9","24-31,9","24-27,9"]
[null,null,null,null,null,null,null,null,null,null,null,null,null,null,null,0,"23-25,9","24-31,9","24-27,9"]
[null,null,null,null,null,null,null,null,null,null,null,null,null,null,null,0,"23-25,9","24-31,9","24-27,9"]
[null,null,null,null,null,null,null,null,null,null,null,null,null,null,null,0,"23-25,9","24-31,9","24-27,9"]
[null,null,null,null,null,null,null,null,null,null,null,null,null,null,null,0,"23-25,9","24-31,9","24-27,9"]
[null,null,null,null,null,null,null,null,null,null,null,null,null,null,null,0,"23-25,9","24-31,9","24-27,9"]
[null,null,null,null,null,null,null,null,null,null,null,null,null,null,null,0,"23-25,9","24-31,9","24-27,9"]
[null,null,null,null,null,null,null,null,null,null,null,null,null,null,null,0,"23-25,9","24-31,9","24-27,9"]
[null,null,null,null,null,null,null,null,null,null,null,null,null,null,null,0,"23-25,9","24-31,9","24-27,9"]
[null,null,null,null,null,null,null,null,null,null,null,null,null,null,null,0,"23-25,9","24-31,9","24-27,9"]
[null,null,null,null,null,null,null,null,null,null,null,null,null,null,null,0,"23-25,9","24-31,9","24-27,9"]
[null,null,null,null,null,null,null,null,null,null,null,null,null,null,null,0,"23-25,9","24-31,9","24-27,9"]
[null,null,null,null,null,null,null,null,null,null,null,null,null,null,null,0,"23-25,9","24-31,9","24-27,9"]
[null,null,null,null,null,null,null,null,null,null,null,null,null,null,null,0,"23-25,9","24-31,9","24-27,9"]
[null,null,null,null,null,null,null,null,null,null,null,null,null,null,null,0,"23-25,9","24-31,9","24-27,9"]
[null,null,null,null,null,null,null,null,null,null,null,null,null,null,null,0,"23-25,9","24-31,9","24-27,9"]
[null,null,null,null,null,null,null,null,null,null,null,null,null,null,null,0,"23-25,9","24-31,9","24-27,9"]
[null,null,null,null,null,null,null,null,null,null,null,null,null,null,null,0,"23-25,9","24-31,9","24-27,9"]
[null,null,null,null,null,null,null,null,null,null,null,null,null,null,null,0,"23-25,9","24-31,9","24-27,9"]
[null,null,null,null,null,null,null,null,null,null,null,null,null,null,null,0,"23-25,9","24-31,9","24-27,9"]
[null,null,null,null,null,null,null,null,null,null,null,null,null,null,null,0,"23-25,9","24-31,9","24-27,9"]
[null,null,null,null,null,null,null,null,null,null,null,null,null,null,null,0,"23-25,9","24-31,9","24-27,9"]
[null,null,null,null,null,null,null,null,null,null,null,null,null,null,null,0,"23-25,9","24-31,9","24-27,9"]
[null,null,null,null,null,null,null,null,null,null,null,null,null,null,null,0,"23-25,9","24-31,9","24-27,9"]
[null,null,null,null,null,null,null,null,null,null,null,null,null,null,null,0,"23-25,9","24-31,9","24-27,9"]
[null,null,null,null,null,null,null,null,null,null,null,null,null,null,null,0,"23-25,9","24-31,9","24-27,9"]
[null,null,null,null,null,null,null,null,null,null,null,null,null,null,null,0,"23-25,9","24-31,9","24-27,9"]
[null,null,null,null,null,null,null,null,null,null,null,null,null,null,null,0,"23-25,9","24-31,9","24-27,9"]
[null,null,null,null,null,null,null,null,null,null,null,null,null,null,null,{"$f":"N963+(O963/7)","v":0},{"$f":"IF(P963<25.9,\"23-25,9\",IF(P963<27.9,\"26-27,9\",IF(P963<31.9,\"28-31,9\",IF(P963<34.9,\"32-34,9\",IF(P963<36.9,\"35-36,9\",IF(P963<40.2,\"37-40,2\",IF(P963<42,\"40,3-42\",IF(P963>=42,\">42\"))))))))","v":"23-25,9"},{"$f":"IF(P963<31.9,\"24-31,9\",IF(P963<42,\"32-42\",IF(P963>=42,\">42\")))","v":"24-31,9"},{"$f":"IF(P963<27.9,\"24-27,9\",IF(P963<42,\"28-42\",IF(P963>=42,\">42\")))","v":"24-27,9"}]
[null,null,null,null,null,null,null,null,null,null,null,null,null,null,null,0,"23-25,9","24-31,9","24-27,9"]
[null,null,null,null,null,null,null,null,null,null,null,null,null,null,null,0,"23-25,9","24-31,9","24-27,9"]
[null,null,null,null,null,null,null,null,null,null,null,null,null,null,null,0,"23-25,9","24-31,9","24-27,9"]
[null,null,null,null,null,null,null,null,null,null,null,null,null,null,null,0,"23-25,9","24-31,9","24-27,9"]
[null,null,null,null,null,null,null,null,null,null,null,null,null,null,null,0,"23-25,9","24-31,9","24-27,9"]
[null,null,null,null,null,null,null,null,null,null,null,null,null,null,null,0,"23-25,9","24-31,9","24-27,9"]
[null,null,null,null,null,null,null,null,null,null,null,null,null,null,null,0,"23-25,9","24-31,9","24-27,9"]
[null,null,null,null,null,null,null,null,null,null,null,null,null,null,null,0,"23-25,9","24-31,9","24-27,9"]
[null,null,null,null,null,null,null,null,null,null,null,null,null,null,null,0,"23-25,9","24-31,9","24-27,9"]
[null,null,null,null,null,null,null,null,null,null,null,null,null,null,null,0,"23-25,9","24-31,9","24-27,9"]
[null,null,null,null,null,null,null,null,null,null,null,null,null,null,null,0,"23-25,9","24-31,9","24-27,9"]
[null,null,null,null,null,null,null,null,null,null,null,null,null,null,null,0,"23-25,9","24-31,9","24-27,9"]
[null,null,null,null,null,null,null,null,null,null,null,null,null,null,null,0,"23-25,9","24-31,9","24-27,9"]
[null,null,null,null,null,null,null,null,null,null,null,null,null,null,null,0,"23-25,9","24-31,9","24-27,9"]
[null,null,null,null,null,null,null,null,null,null,null,null,null,null,null,0,"23-25,9","24-31,9","24-27,9"]
[null,null,null,null,null,null,null,null,null,null,null,null,null,null,null,0,"23-25,9","24-31,9","24-27,9"]
[null,null,null,null,null,null,null,null,null,null,null,null,null,null,null,0,"23-25,9","24-31,9","24-27,9"]
[null,null,null,null,null,null,null,null,null,null,null,null,null,null,null,0,"23-25,9","24-31,9","24-27,9"]
[null,null,null,null,null,null,null,null,null,null,null,null,null,null,null,0,"23-25,9","24-31,9","24-27,9"]
[null,null,null,null,null,null,null,null,null,null,null,null,null,null,null,0,"23-25,9","24-31,9","24-27,9"]
[null,null,null,null,null,null,null,null,null,null,null,null,null,null,null,0,"23-25,9","24-31,9","24-27,9"]
[null,null,null,null,null,null,null,null,null,null,null,null,null,null,null,0,"23-25,9","24-31,9","24-27,9"]
[null,null,null,null,null,null,null,null,null,null,null,null,null,null,null,0,"23-25,9","24-31,9","24-27,9"]
[null,null,null,null,null,null,null,null,null,null,null,null,null,null,null,0,"23-25,9","24-31,9","24-27,9"]
[null,null,null,null,null,null,null,null,null,null,null,null,null,null,null,0,"23-25,9","24-31,9","24-27,9"]
[null,null,null,null,null,null,null,null,null,null,null,null,null,null,null,0,"23-25,9","24-31,9","24-27,9"]
[null,null,null,null,null,null,null,null,null,null,null,null,null,null,null,0,"23-25,9","24-31,9","24-27,9"]
[null,null,null,null,null,null,null,null,null,null,null,null,null,null,null,0,"23-25,9","24-31,9","24-27,9"]
[null,null,null,null,null,null,null,null,null,null,null,null,null,null,null,0,"23-25,9","24-31,9","24-27,9"]
[null,null,null,null,null,null,null,null,null,null,null,null,null,null,null,0,"23-25,9","24-31,9","24-27,9"]
[null,null,null,null,null,null,null,null,null,null,null,null,null,null,null,0,"23-25,9","24-31,9","24-27,9"]
[null,null,null,null,null,null,null,null,null,null,null,null,null,null,null,0,"23-25,9","24-31,9","24-27,9"]
[null,null,null,null,null,null,null,null,null,null,null,null,null,null,null,0,"23-25,9","24-31,9","24-27,9"]
[null,null,null,null,null,null,null,null,null,null,null,null,null,null,null,0,"23-25,9","24-31,9","24-27,9"]
[null,null,null,null,null,null,null,null,null,null,null,null,null,null,null,0,"23-25,9","24-31,9","24-27,9"]
[null,null,null,null,null,null,null,null,null,null,null,null,null,null,null,0,"23-25,9","24-31,9","24-27,9"]
[null,null,null,null,null,null,null,null,null,null,null,null,null,null,null,0,"23-25,9","24-31,9","24-27,9"]
[null,null,null,null,null,null,null,null,null,null,null,null,null,null,null,0,"23-25,9","24-31,9","24-27,9"]
[null,null,null,null,null,null,null,null,null,null,null,null,null,null,null,0,"23-25,9","24-31,9","24-27,9"]
[null,null,null,null,null,null,null,null,null,null,null,null,null,null,null,0,"23-25,9","24-31,9","24-27,9"]
[null,null,null,null,null,null,null,null,null,null,null,null,null,null,null,0,"23-25,9","24-31,9","24-27,9"]
[null,null,null,null,null,null,null,null,null,null,null,null,null,null,null,0,"23-25,9","24-31,9","24-27,9"]
[null,null,null,null,null,null,null,null,null,null,null,null,null,null,null,0,"23-25,9","24-31,9","24-27,9"]
[null,null,null,null,null,null,null,null,null,null,null,null,null,null,null,0,"23-25,9","24-31,9","24-27,9"]
[null,null,null,null,null,null,null,null,null,null,null,null,null,null,null,0,"23-25,9","24-31,9","24-27,9"]
[null,null,null,null,null,null,null,null,null,null,null,null,null,null,null,0,"23-25,9","24-31,9","24-27,9"]
[null,null,null,null,null,null,null,null,null,null,null,null,null,null,null,0,"23-25,9","24-31,9","24-27,9"]
[null,null,null,null,null,null,null,null,null,null,null,null,null,null,null,0,"23-25,9","24-31,9","24-27,9"]
[null,null,null,null,null,null,null,null,null,null,null,null,null,null,null,0,"23-25,9","24-31,9","24-27,9"]
[null,null,null,null,null,null,null,null,null,null,null,null,null,null,null,0,"23-25,9","24-31,9","24-27,9"]
[null,null,null,null,null,null,null,null,null,null,null,null,null,null,null,0,"23-25,9","24-31,9","24-27,9"]
[null,null,null,null,null,null,null,null,null,null,null,null,null,null,null,0,"23-25,9","24-31,9","24-27,9"]
[null,null,null,null,null,null,null,null,null,null,null,null,null,null,null,0,"23-25,9","24-31,9","24-27,9"]
[null,null,null,null,null,null,null,null,null,null,null,null,null,null,null,0,"23-25,9","24-31,9","24-27,9"]
[null,null,null,null,null,null,null,null,null,null,null,null,null,null,null,0,"23-25,9","24-31,9","24-27,9"]
[null,null,null,null,null,null,null,null,null,null,null,null,null,null,null,0,"23-25,9","24-31,9","24-27,9"]
[null,null,null,null,null,null,null,null,null,null,null,null,null,null,null,0,"23-25,9","24-31,9","24-27,9"]
[null,null,null,null,null,null,null,null,null,null,null,null,null,null,null,0,"23-25,9","24-31,9","24-27,9"]
[null,null,null,null,null,null,null,null,null,null,null,null,null,null,null,0,"23-25,9","24-31,9","24-27,9"]
[null,null,null,null,null,null,null,null,null,null,null,null,null,null,null,0,"23-25,9","24-31,9","24-27,9"]
[null,null,null,null,null,null,null,null,null,null,null,null,null,null,null,0,"23-25,9","24-31,9","24-27,9"]
[null,null,null,null,null,null,null,null,null,null,null,null,null,null,null,0,"23-25,9","24-31,9","24-27,9"]
[null,null,null,null,null,null,null,null,null,null,null,null,null,null,null,0,"23-25,9","24-31,9","24-27,9"]
[null,null,null,null,null,null,null,null,null,null,null,null,null,null,null,{"$f":"N1027+(O1027/7)","v":0},{"$f":"IF(P1027<25.9,\"23-25,9\",IF(P1027<27.9,\"26-27,9\",IF(P1027<31.9,\"28-31,9\",IF(P1027<34.9,\"32-34,9\",IF(P1027<36.9,\"35-36,9\",IF(P1027<40.2,\"37-40,2\",IF(P1027<42,\"40,3-42\",IF(P1027>=42,\">42\"))))))))","v":"23-25,9"},{"$f":"IF(P1027<31.9,\"24-31,9\",IF(P1027<42,\"32-42\",IF(P1027>=42,\">42\")))","v":"24-31,9"},{"$f":"IF(P1027<27.9,\"24-27,9\",IF(P1027<42,\"28-42\",IF(P1027>=42,\">42\")))","v":"24-27,9"}]
[null,null,null,null,null,null,null,null,null,null,null,null,null,null,null,0,"23-25,9","24-31,9","24-27,9"]
[null,null,null,null,null,null,null,null,null,null,null,null,null,null,null,0,"23-25,9","24-31,9","24-27,9"]
[null,null,null,null,null,null,null,null,null,null,null,null,null,null,null,0,"23-25,9","24-31,9","24-27,9"]
[null,null,null,null,null,null,null,null,null,null,null,null,null,null,null,0,"23-25,9","24-31,9","24-27,9"]
[null,null,null,null,null,null,null,null,null,null,null,null,null,null,null,0,"23-25,9","24-31,9","24-27,9"]
[null,null,null,null,null,null,null,null,null,null,null,null,null,null,null,0,"23-25,9","24-31,9","24-27,9"]
[null,null,null,null,null,null,null,null,null,null,null,null,null,null,null,0,"23-25,9","24-31,9","24-27,9"]
[null,null,null,null,null,null,null,null,null,null,null,null,null,null,null,0,"23-25,9","24-31,9","24-27,9"]
[null,null,null,null,null,null,null,null,null,null,null,null,null,null,null,0,"23-25,9","24-31,9","24-27,9"]
[null,null,null,null,null,null,null,null,null,null,null,null,null,null,null,0,"23-25,9","24-31,9","24-27,9"]
[null,null,null,null,null,null,null,null,null,null,null,null,null,null,null,0,"23-25,9","24-31,9","24-27,9"]
[null,null,null,null,null,null,null,null,null,null,null,null,null,null,null,0,"23-25,9","24-31,9","24-27,9"]
[null,null,null,null,null,null,null,null,null,null,null,null,null,null,null,0,"23-25,9","24-31,9","24-27,9"]
[null,null,null,null,null,null,null,null,null,null,null,null,null,null,null,0,"23-25,9","24-31,9","24-27,9"]
[null,null,null,null,null,null,null,null,null,null,null,null,null,null,null,0,"23-25,9","24-31,9","24-27,9"]
[null,null,null,null,null,null,null,null,null,null,null,null,null,null,null,0,"23-25,9","24-31,9","24-27,9"]
[null,null,null,null,null,null,null,null,null,null,null,null,null,null,null,0,"23-25,9","24-31,9","24-27,9"]
[null,null,null,null,null,null,null,null,null,null,null,null,null,null,null,0,"23-25,9","24-31,9","24-27,9"]
[null,null,null,null,null,null,null,null,null,null,null,null,null,null,null,0,"23-25,9","24-31,9","24-27,9"]
[null,null,null,null,null,null,null,null,null,null,null,null,null,null,null,0,"23-25,9","24-31,9","24-27,9"]
[null,null,null,null,null,null,null,null,null,null,null,null,null,null,null,0,"23-25,9","24-31,9","24-27,9"]
[null,null,null,null,null,null,null,null,null,null,null,null,null,null,null,0,"23-25,9","24-31,9","24-27,9"]
[null,null,null,null,null,null,null,null,null,null,null,null,null,null,null,0,"23-25,9","24-31,9","24-27,9"]
[null,null,null,null,null,null,null,null,null,null,null,null,null,null,null,0,"23-25,9","24-31,9","24-27,9"]
[null,null,null,null,null,null,null,null,null,null,null,null,null,null,null,0,"23-25,9","24-31,9","24-27,9"]
[null,null,null,null,null,null,null,null,null,null,null,null,null,null,null,0,"23-25,9","24-31,9","24-27,9"]
[null,null,null,null,null,null,null,null,null,null,null,null,null,null,null,0,"23-25,9","24-31,9","24-27,9"]
[null,null,null,null,null,null,null,null,null,null,null,null,null,null,null,0,"23-25,9","24-31,9","24-27,9"]
[null,null,null,null,null,null,null,null,null,null,null,null,null,null,null,0,"23-25,9","24-31,9","24-27,9"]
[null,null,null,null,null,null,null,null,null,null,null,null,null,null,null,0,"23-25,9","24-31,9","24-27,9"]
[null,null,null,null,null,null,null,null,null,null,null,null,null,null,null,0,"23-25,9","24-31,9","24-27,9"]
[null,null,null,null,null,null,null,null,null,null,null,null,null,null,null,0,"23-25,9","24-31,9","24-27,9"]
[null,null,null,null,null,null,null,null,null,null,null,null,null,null,null,0,"23-25,9","24-31,9","24-27,9"]
[null,null,null,null,null,null,null,null,null,null,null,null,null,null,null,0,"23-25,9","24-31,9","24-27,9"]
[null,null,null,null,null,null,null,null,null,null,null,null,null,null,null,0,"23-25,9","24-31,9","24-27,9"]
[null,null,null,null,null,null,null,null,null,null,null,null,null,null,null,0,"23-25,9","24-31,9","24-27,9"]
[null,null,null,null,null,null,null,null,null,null,null,null,null,null,null,0,"23-25,9","24-31,9","24-27,9"]
[null,null,null,null,null,null,null,null,null,null,null,null,null,null,null,0,"23-25,9","24-31,9","24-27,9"]
[null,null,null,null,null,null,null,null,null,null,null,null,null,null,null,0,"23-25,9","24-31,9","24-27,9"]
[null,null,null,null,null,null,null,null,null,null,null,null,null,null,null,0,"23-25,9","24-31,9","24-27,9"]
[null,null,null,null,null,null,null,null,null,null,null,null,null,null,null,0,"23-25,9","24-31,9","24-27,9"]
[null,null,null,null,null,null,null,null,null,null,null,null,null,null,null,0,"23-25,9","24-31,9","24-27,9"]
[null,null,null,null,null,null,null,null,null,null,null,null,null,null,null,0,"23-25,9","24-31,9","24-27,9"]
[null,null,null,null,null,null,null,null,null,null,null,null,null,null,null,0,"23-25,9","24-31,9","24-27,9"]
[null,null,null,null,null,null,null,null,null,null,null,null,null,null,null,0,"23-25,9","24-31,9","24-27,9"]
[null,null,null,null,null,null,null,null,null,null,null,null,null,null,null,0,"23-25,9","24-31,9","24-27,9"]
[null,null,null,null,null,null,null,null,null,null,null,null,null,null,null,0,"23-25,9","24-31,9","24-27,9"]
[null,null,null,null,null,null,null,null,null,null,null,null,null,null,null,0,"23-25,9","24-31,9","24-27,9"]
[null,null,null,null,null,null,null,null,null,null,null,null,null,null,null,0,"23-25,9","24-31,9","24-27,9"]
[null,null,null,null,null,null,null,null,null,null,null,null,null,null,null,0,"23-25,9","24-31,9","24-27,9"]
[null,null,null,null,null,null,null,null,null,null,null,null,null,null,null,0,"23-25,9","24-31,9","24-27,9"]
[null,null,null,null,null,null,null,null,null,null,null,null,null,null,null,0,"23-25,9","24-31,9","24-27,9"]
[null,null,null,null,null,null,null,null,null,null,null,null,null,null,null,0,"23-25,9","24-31,9","24-27,9"]
[null,null,null,null,null,null,null,null,null,null,null,null,null,null,null,0,"23-25,9","24-31,9","24-27,9"]
[null,null,null,null,null,null,null,null,null,null,null,null,null,null,null,0,"23-25,9","24-31,9","24-27,9"]
[null,null,null,null,null,null,null,null,null,null,null,null,null,null,null,0,"23-25,9","24-31,9","24-27,9"]
[null,null,null,null,null,null,null,null,null,null,null,null,null,null,null,0,"23-25,9","24-31,9","24-27,9"]
[null,null,null,null,null,null,null,null,null,null,null,null,null,null,null,0,"23-25,9","24-31,9","24-27,9"]
[null,null,null,null,null,null,null,null,null,null,null,null,null,null,null,0,"23-25,9","24-31,9","24-27,9"]
[null,null,null,null,null,null,null,null,null,null,null,null,null,null,null,0,"23-25,9","24-31,9","24-27,9"]
[null,null,null,null,null,null,null,null,null,null,null,null,null,null,null,0,"23-25,9","24-31,9","24-27,9"]
[null,null,null,null,null,null,null,null,null,null,null,null,null,null,null,0,"23-25,9","24-31,9","24-27,9"]
[null,null,null,null,null,null,null,null,null,null,null,null,null,null,null,0,"23-25,9","24-31,9","24-27,9"]
[null,null,null,null,null,null,null,null,null,null,null,null,null,null,null,{"$f":"N1091+(O1091/7)","v":0},{"$f":"IF(P1091<25.9,\"23-25,9\",IF(P1091<27.9,\"26-27,9\",IF(P1091<31.9,\"28-31,9\",IF(P1091<34.9,\"32-34,9\",IF(P1091<36.9,\"35-36,9\",IF(P1091<40.2,\"37-40,2\",IF(P1091<42,\"40,3-42\",IF(P1091>=42,\">42\"))))))))","v":"23-25,9"},{"$f":"IF(P1091<31.9,\"24-31,9\",IF(P1091<42,\"32-42\",IF(P1091>=42,\">42\")))","v":"24-31,9"},{"$f":"IF(P1091<27.9,\"24-27,9\",IF(P1091<42,\"28-42\",IF(P1091>=42,\">42\")))","v":"24-27,9"}]
[null,null,null,null,null,null,null,null,null,null,null,null,null,null,null,0,"23-25,9","24-31,9","24-27,9"]
[null,null,null,null,null,null,null,null,null,null,null,null,null,null,null,0,"23-25,9","24-31,9","24-27,9"]
[null,null,null,null,null,null,null,null,null,null,null,null,null,null,null,0,"23-25,9","24-31,9","24-27,9"]
[null,null,null,null,null,null,null,null,null,null,null,null,null,null,null,0,"23-25,9","24-31,9","24-27,9"]
[null,null,null,null,null,null,null,null,null,null,null,null,null,null,null,0,"23-25,9","24-31,9","24-27,9"]
[null,null,null,null,null,null,null,null,null,null,null,null,null,null,null,0,"23-25,9","24-31,9","24-27,9"]
[null,null,null,null,null,null,null,null,null,null,null,null,null,null,null,0,"23-25,9","24-31,9","24-27,9"]
[null,null,null,null,null,null,null,null,null,null,null,null,null,null,null,0,"23-25,9","24-31,9","24-27,9"]
[null,null,null,null,null,null,null,null,null,null,null,null,null,null,null,0,"23-25,9","24-31,9","24-27,9"]
[null,null,null,null,null,null,null,null,null,null,null,null,null,null,null,0,"23-25,9","24-31,9","24-27,9"]
[null,null,null,null,null,null,null,null,null,null,null,null,null,null,null,0,"23-25,9","24-31,9","24-27,9"]
[null,null,null,null,null,null,null,null,null,null,null,null,null,null,null,0,"23-25,9","24-31,9","24-27,9"]
[null,null,null,null,null,null,null,null,null,null,null,null,null,null,null,0,"23-25,9","24-31,9","24-27,9"]
[null,null,null,null,null,null,null,null,null,null,null,null,null,null,null,0,"23-25,9","24-31,9","24-27,9"]
[null,null,null,null,null,null,null,null,null,null,null,null,null,null,null,0,"23-25,9","24-31,9","24-27,9"]
[null,null,null,null,null,null,null,null,null,null,null,null,null,null,null,0,"23-25,9","24-31,9","24-27,9"]
[null,null,null,null,null,null,null,null,null,null,null,null,null,null,null,0,"23-25,9","24-31,9","24-27,9"]
[null,null,null,null,null,null,null,null,null,null,null,null,null,null,null,0,"23-25,9","24-31,9","24-27,9"]
[null,null,null,null,null,null,null,null,null,null,null,null,null,null,null,0,"23-25,9","24-31,9","24-27,9"]
[null,null,null,null,null,null,null,null,null,null,null,null,null,null,null,0,"23-25,9","24-31,9","24-27,9"]
[null,null,null,null,null,null,null,null,null,null,null,null,null,null,null,0,"23-25,9","24-31,9","24-27,9"]
[null,null,null,null,null,null,null,null,null,null,null,null,null,null,null,0,"23-25,9","24-31,9","24-27,9"]
[null,null,null,null,null,null,null,null,null,null,null,null,null,null,null,0,"23-25,9","24-31,9","24-27,9"]
[null,null,null,null,null,null,null,null,null,null,null,null,null,null,null,0,"23-25,9","24-31,9","24-27,9"]
[null,null,null,null,null,null,null,null,null,null,null,null,null,null,null,0,"23-25,9","24-31,9","24-27,9"]
[null,null,null,null,null,null,null,null,null,null,null,null,null,null,null,0,"23-25,9","24-31,9","24-27,9"]
[null,null,null,null,null,null,null,null,null,null,null,null,null,null,null,0,"23-25,9","24-31,9","24-27,9"]
[null,null,null,null,null,null,null,null,null,null,null,null,null,null,null,0,"23-25,9","24-31,9","24-27,9"]
[null,null,null,null,null,null,null,null,null,null,null,null,null,null,null,0,"23-25,9","24-31,9","24-27,9"]
[null,null,null,null,null,null,null,null,null,null,null,null,null,null,null,0,"23-25,9","24-31,9","24-27,9"]
[null,null,null,null,null,null,null,null,null,null,null,null,null,null,null,0,"23-25,9","24-31,9","24-27,9"]
[null,null,null,null,null,null,null,null,null,null,null,null,null,null,null,0,"23-25,9","24-31,9","24-27,9"]
[null,null,null,null,null,null,null,null,null,null,null,null,null,null,null,0,"23-25,9","24-31,9","24-27,9"]
[null,null,null,null,null,null,null,null,null,null,null,null,null,null,null,0,"23-25,9","24-31,9","24-27,9"]
[null,null,null,null,null,null,null,null,null,null,null,null,null,null,null,0,"23-25,9","24-31,9","24-27,9"]
[null,null,null,null,null,null,null,null,null,null,null,null,null,null,null,0,"23-25,9","24-31,9","24-27,9"]
[null,null,null,null,null,null,null,null,null,null,null,null,null,null,null,0,"23-25,9","24-31,9","24-27,9"]
[null,null,null,null,null,null,null,null,null,null,null,null,null,null,null,0,"23-25,9","24-31,9","24-27,9"]
[null,null,null,null,null,null,null,null,null,null,null,null,null,null,null,0,"23-25,9","24-31,9","24-27,9"]
[null,null,null,null,null,null,null,null,null,null,null,null,null,null,null,0,"23-25,9","24-31,9","24-27,9"]
[null,null,null,null,null,null,null,null,null,null,null,null,null,null,null,0,"23-25,9","24-31,9","24-27,9"]
[null,null,null,null,null,null,null,null,null,null,null,null,null,null,null,0,"23-25,9","24-31,9","24-27,9"]
[null,null,null,null,null,null,null,null,null,null,null,null,null,null,null,0,"23-25,9","24-31,9","24-27,9"]
[null,null,null,null,null,null,null,null,null,null,null,null,null,null,null,0,"23-25,9","24-31,9","24-27,9"]
[null,null,null,null,null,null,null,null,null,null,null,null,null,null,null,0,"23-25,9","24-31,9","24-27,9"]
[null,null,null,null,null,null,null,null,null,null,null,null,null,null,null,0,"23-25,9","24-31,9","24-27,9"]
[null,null,null,null,null,null,null,null,null,null,null,null,null,null,null,0,"23-25,9","24-31,9","24-27,9"]
[null,null,null,null,null,null,null,null,null,null,null,null,null,null,null,0,"23-25,9","24-31,9","24-27,9"]
[null,null,null,null,null,null,null,null,null,null,null,null,null,null,null,0,"23-25,9","24-31,9","24-27,9"]
[null,null,null,null,null,null,null,null,null,null,null,null,null,null,null,0,"23-25,9","24-31,9","24-27,9"]
[null,null,null,null,null,null,null,null,null,null,null,null,null,null,null,0,"23-25,9","24-31,9","24-27,9"]
[null,null,null,null,null,null,null,null,null,null,null,null,null,null,null,0,"23-25,9","24-31,9","24-27,9"]
[null,null,null,null,null,null,null,null,null,null,null,null,null,null,null,0,"23-25,9","24-31,9","24-27,9"]
[null,null,null,null,null,null,null,null,null,null,null,null,null,null,null,0,"23-25,9","24-31,9","24-27,9"]
[null,null,null,null,null,null,null,null,null,null,null,null,null,null,null,0,"23-25,9","24-31,9","24-27,9"]
[null,null,null,null,null,null,null,null,null,null,null,null,null,null,null,0,"23-25,9","24-31,9","24-27,9"]
[null,null,null,null,null,null,null,null,null,null,null,null,null,null,null,0,"23-25,9","24-31,9","24-27,9"]
[null,null,null,null,null,null,null,null,null,null,null,null,null,null,null,0,"23-25,9","24-31,9","24-27,9"]
[null,null,null,null,null,null,null,null,null,null,null,null,null,null,null,0,"23-25,9","24-31,9","24-27,9"]
[null,null,null,null,null,null,null,null,null,null,null,null,null,null,null,0,"23-25,9","24-31,9","24-27,9"]
[null,null,null,null,null,null,null,null,null,null,null,null,null,null,null,0,"23-25,9","24-31,9","24-27,9"]
[null,null,null,null,null,null,null,null,null,null,null,null,null,null,null,0,"23-25,9","24-31,9","24-27,9"]
[null,null,null,null,null,null,null,null,null,null,null,null,null,null,null,0,"23-25,9","24-31,9","24-27,9"]
[null,null,null,null,null,null,null,null,null,null,null,null,null,null,null,{"$f":"N1155+(O1155/7)","v":0},{"$f":"IF(P1155<25.9,\"23-25,9\",IF(P1155<27.9,\"26-27,9\",IF(P1155<31.9,\"28-31,9\",IF(P1155<34.9,\"32-34,9\",IF(P1155<36.9,\"35-36,9\",IF(P1155<40.2,\"37-40,2\",IF(P1155<42,\"40,3-42\",IF(P1155>=42,\">42\"))))))))","v":"23-25,9"},{"$f":"IF(P1155<31.9,\"24-31,9\",IF(P1155<42,\"32-42\",IF(P1155>=42,\">42\")))","v":"24-31,9"},{"$f":"IF(P1155<27.9,\"24-27,9\",IF(P1155<42,\"28-42\",IF(P1155>=42,\">42\")))","v":"24-27,9"}]
[null,null,null,null,null,null,null,null,null,null,null,null,null,null,null,0,"23-25,9","24-31,9","24-27,9"]
[null,null,null,null,null,null,null,null,null,null,null,null,null,null,null,0,"23-25,9","24-31,9","24-27,9"]
[null,null,null,null,null,null,null,null,null,null,null,null,null,null,null,0,"23-25,9","24-31,9","24-27,9"]
[null,null,null,null,null,null,null,null,null,null,null,null,null,null,null,0,"23-25,9","24-31,9","24-27,9"]
[null,null,null,null,null,null,null,null,null,null,null,null,null,null,null,0,"23-25,9","24-31,9","24-27,9"]
[null,null,null,null,null,null,null,null,null,null,null,null,null,null,null,0,"23-25,9","24-31,9","24-27,9"]
[null,null,null,null,null,null,null,null,null,null,null,null,null,null,null,0,"23-25,9","24-31,9","24-27,9"]
[null,null,null,null,null,null,null,null,null,null,null,null,null,null,null,0,"23-25,9","24-31,9","24-27,9"]
[null,null,null,null,null,null,null,null,null,null,null,null,null,null,null,0,"23-25,9","24-31,9","24-27,9"]
[null,null,null,null,null,null,null,null,null,null,null,null,null,null,null,0,"23-25,9","24-31,9","24-27,9"]
[null,null,null,null,null,null,null,null,null,null,null,null,null,null,null,0,"23-25,9","24-31,9","24-27,9"]
[null,null,null,null,null,null,null,null,null,null,null,null,null,null,null,0,"23-25,9","24-31,9","24-27,9"]
[null,null,null,null,null,null,null,null,null,null,null,null,null,null,null,0,"23-25,9","24-31,9","24-27,9"]
[null,null,null,null,null,null,null,null,null,null,null,null,null,null,null,0,"23-25,9","24-31,9","24-27,9"]
[null,null,null,null,null,null,null,null,null,null,null,null,null,null,null,0,"23-25,9","24-31,9","24-27,9"]
[null,null,null,null,null,null,null,null,null,null,null,null,null,null,null,0,"23-25,9","24-31,9","24-27,9"]
[null,null,null,null,null,null,null,null,null,null,null,null,null,null,null,0,"23-25,9","24-31,9","24-27,9"]
[null,null,null,null,null,null,null,null,null,null,null,null,null,null,null,0,"23-25,9","24-31,9","24-27,9"]
[null,null,null,null,null,null,null,null,null,null,null,null,null,null,null,0,"23-25,9","24-31,9","24-27,9"]
[null,null,null,null,null,null,null,null,null,null,null,null,null,null,null,0,"23-25,9","24-31,9","24-27,9"]
[null,null,null,null,null,null,null,null,null,null,null,null,null,null,null,0,"23-25,9","24-31,9","24-27,9"]
[null,null,null,null,null,null,null,null,null,null,null,null,null,null,null,0,"23-25,9","24-31,9","24-27,9"]
[null,null,null,null,null,null,null,null,null,null,null,null,null,null,null,0,"23-25,9","24-31,9","24-27,9"]
[null,null,null,null,null,null,null,null,null,null,null,null,null,null,null,0,"23-25,9","24-31,9","24-27,9"]
[null,null,null,null,null,null,null,null,null,null,null,null,null,null,null,0,"23-25,9","24-31,9","24-27,9"]
[null,null,null,null,null,null,null,null,null,null,null,null,null,null,null,0,"23-25,9","24-31,9","24-27,9"]
[null,null,null,null,null,null,null,null,null,null,null,null,null,null,null,0,"23-25,9","24-31,9","24-27,9"]
[null,null,null,null,null,null,null,null,null,null,null,null,null,null,null,0,"23-25,9","24-31,9","24-27,9"]
[null,null,null,null,null,null,null,null,null,null,null,null,null,null,null,0,"23-25,9","24-31,9","24-27,9"]
[null,null,null,null,null,null,null,null,null,null,null,null,null,null,null,0,"23-25,9","24-31,9","24-27,9"]
[null,null,null,null,null,null,null,null,null,null,null,null,null,null,null,0,"23-25,9","24-31,9","24-27,9"]
[null,null,null,null,null,null,null,null,null,null,null,null,null,null,null,0,"23-25,9","24-31,9","24-27,9"]
[null,null,null,null,null,null,null,null,null,null,null,null,null,null,null,0,"23-25,9","24-31,9","24-27,9"]
[null,null,null,null,null,null,null,null,null,null,null,null,null,null,null,0,"23-25,9","24-31,9","24-27,9"]
[null,null,null,null,null,null,null,null,null,null,null,null,null,null,null,0,"23-25,9","24-31,9","24-27,9"]
[null,null,null,null,null,null,null,null,null,null,null,null,null,null,null,0,"23-25,9","24-31,9","24-27,9"]
[null,null,null,null,null,null,null,null,null,null,null,null,null,null,null,0,"23-25,9","24-31,9","24-27,9"]
[null,null,null,null,null,null,null,null,null,null,null,null,null,null,null,0,"23-25,9","24-31,9","24-27,9"]
[null,null,null,null,null,null,null,null,null,null,null,null,null,null,null,0,"23-25,9","24-31,9","24-27,9"]
[null,null,null,null,null,null,null,null,null,null,null,null,null,null,null,0,"23-25,9","24-31,9","24-27,9"]
[null,null,null,null,null,null,null,null,null,null,null,null,null,null,null,0,"23-25,9","24-31,9","24-27,9"]
[null,null,null,null,null,null,null,null,null,null,null,null,null,null,null,0,"23-25,9","24-31,9","24-27,9"]
[null,null,null,null,null,null,null,null,null,null,null,null,null,null,null,0,"23-25,9","24-31,9","24-27,9"]
[null,null,null,null,null,null,null,null,null,null,null,null,null,null,null,0,"23-25,9","24-31,9","24-27,9"]
[null,null,null,null,null,null,null,null,null,null,null,null,null,null,null,0,"23-25,9","24-31,9","24-27,9"]
[null,null,null,null,null,null,null,null,null,null,null,null,null,null,null,0,"23-25,9","24-31,9","24-27,9"]
[null,null,null,null,null,null,null,null,null,null,null,null,null,null,null,0,"23-25,9","24-31,9","24-27,9"]
[null,null,null,null,null,null,null,null,null,null,null,null,null,null,null,0,"23-25,9","24-31,9","24-27,9"]
[null,null,null,null,null,null,null,null,null,null,null,null,null,null,null,0,"23-25,9","24-31,9","24-27,9"]
[null,null,null,null,null,null,null,null,null,null,null,null,null,null,null,0,"23-25,9","24-31,9","24-27,9"]
[null,null,null,null,null,null,null,null,null,null,null,null,null,null,null,0,"23-25,9","24-31,9","24-27,9"]
[null,null,null,null,null,null,null,null,null,null,null,null,null,null,null,0,"23-25,9","24-31,9","24-27,9"]
[null,null,null,null,null,null,null,null,null,null,null,null,null,null,null,0,"23-25,9","24-31,9","24-27,9"]
[null,null,null,null,null,null,null,null,null,null,null,null,null,null,null,0,"23-25,9","24-31,9","24-27,9"]
[null,null,null,null,null,null,null,null,null,null,null,null,null,null,null,0,"23-25,9","24-31,9","24-27,9"]
[null,null,null,null,null,null,null,null,null,null,null,null,null,null,null,0,"23-25,9","24-31,9","24-27,9"]
[null,null,null,null,null,null,null,null,null,null,null,null,null,null,null,0,"23-25,9","24-31,9","24-27,9"]
[null,null,null,null,null,null,null,null,null,null,null,null,null,null,null,0,"23-25,9","24-31,9","24-27,9"]
[null,null,null,null,null,null,null,null,null,null,null,null,null,null,null,0,"23-25,9","24-31,9","24-27,9"]
[null,null,null,null,null,null,null,null,null,null,null,null,null,null,null,0,"23-25,9","24-31,9","24-27,9"]
[null,null,null,null,null,null,null,null,null,null,null,null,null,null,null,0,"23-25,9","24-31,9","24-27,9"]
[null,null,null,null,null,null,null,null,null,null,null,null,null,null,null,0,"23-25,9","24-31,9","24-27,9"]
[null,null,null,null,null,null,null,null,null,null,null,null,null,null,null,0,"23-25,9","24-31,9","24-27,9"]
[null,null,null,null,null,null,null,null,null,null,null,null,null,null,null,{"$f":"N1219+(O1219/7)","v":0},{"$f":"IF(P1219<25.9,\"23-25,9\",IF(P1219<27.9,\"26-27,9\",IF(P1219<31.9,\"28-31,9\",IF(P1219<34.9,\"32-34,9\",IF(P1219<36.9,\"35-36,9\",IF(P1219<40.2,\"37-40,2\",IF(P1219<42,\"40,3-42\",IF(P1219>=42,\">42\"))))))))","v":"23-25,9"},{"$f":"IF(P1219<31.9,\"24-31,9\",IF(P1219<42,\"32-42\",IF(P1219>=42,\">42\")))","v":"24-31,9"},{"$f":"IF(P1219<27.9,\"24-27,9\",IF(P1219<42,\"28-42\",IF(P1219>=42,\">42\")))","v":"24-27,9"}]
[null,null,null,null,null,null,null,null,null,null,null,null,null,null,null,0,"23-25,9","24-31,9","24-27,9"]
[null,null,null,null,null,null,null,null,null,null,null,null,null,null,null,0,"23-25,9","24-31,9","24-27,9"]
[null,null,null,null,null,null,null,null,null,null,null,null,null,null,null,0,"23-25,9","24-31,9","24-27,9"]
[null,null,null,null,null,null,null,null,null,null,null,null,null,null,null,0,"23-25,9","24-31,9","24-27,9"]
[null,null,null,null,null,null,null,null,null,null,null,null,null,null,null,0,"23-25,9","24-31,9","24-27,9"]
[null,null,null,null,null,null,null,null,null,null,null,null,null,null,null,0,"23-25,9","24-31,9","24-27,9"]
[null,null,null,null,null,null,null,null,null,null,null,null,null,null,null,0,"23-25,9","24-31,9","24-27,9"]
[null,null,null,null,null,null,null,null,null,null,null,null,null,null,null,0,"23-25,9","24-31,9","24-27,9"]
[null,null,null,null,null,null,null,null,null,null,null,null,null,null,null,0,"23-25,9","24-31,9","24-27,9"]
[null,null,null,null,null,null,null,null,null,null,null,null,null,null,null,0,"23-25,9","24-31,9","24-27,9"]
[null,null,null,null,null,null,null,null,null,null,null,null,null,null,null,0,"23-25,9","24-31,9","24-27,9"]
[null,null,null,null,null,null,null,null,null,null,null,null,null,null,null,0,"23-25,9","24-31,9","24-27,9"]
[null,null,null,null,null,null,null,null,null,null,null,null,null,null,null,0,"23-25,9","24-31,9","24-27,9"]
[null,null,null,null,null,null,null,null,null,null,null,null,null,null,null,0,"23-25,9","24-31,9","24-27,9"]
[null,null,null,null,null,null,null,null,null,null,null,null,null,null,null,0,"23-25,9","24-31,9","24-27,9"]
[null,null,null,null,null,null,null,null,null,null,null,null,null,null,null,0,"23-25,9","24-31,9","24-27,9"]
[null,null,null,null,null,null,null,null,null,null,null,null,null,null,null,0,"23-25,9","24-31,9","24-27,9"]
[null,null,null,null,null,null,null,null,null,null,null,null,null,null,null,0,"23-25,9","24-31,9","24-27,9"]
[null,null,null,null,null,null,null,null,null,null,null,null,null,null,null,0,"23-25,9","24-31,9","24-27,9"]
[null,null,null,null,null,null,null,null,null,null,null,null,null,null,null,0,"23-25,9","24-31,9","24-27,9"]
[null,null,null,null,null,null,null,null,null,null,null,null,null,null,null,0,"23-25,9","24-31,9","24-27,9"]
[null,null,null,null,null,null,null,null,null,null,null,null,null,null,null,0,"23-25,9","24-31,9","24-27,9"]
[null,null,null,null,null,null,null,null,null,null,null,null,null,null,null,0,"23-25,9","24-31,9","24-27,9"]
[null,null,null,null,null,null,null,null,null,null,null,null,null,null,null,0,"23-25,9","24-31,9","24-27,9"]
[null,null,null,null,null,null,null,null,null,null,null,null,null,null,null,0,"23-25,9","24-31,9","24-27,9"]
[null,null,null,null,null,null,null,null,null,null,null,null,null,null,null,0,"23-25,9","24-31,9","24-27,9"]
[null,null,null,null,null,null,null,null,null,null,null,null,null,null,null,0,"23-25,9","24-31,9","24-27,9"]
[null,null,null,null,null,null,null,null,null,null,null,null,null,null,null,0,"23-25,9","24-31,9","24-27,9"]
[null,null,null,null,null,null,null,null,null,null,null,null,null,null,null,0,"23-25,9","24-31,9","24-27,9"]
[null,null,null,null,null,null,null,null,null,null,null,null,null,null,null,0,"23-25,9","24-31,9","24-27,9"]
[null,null,null,null,null,null,null,null,null,null,null,null,null,null,null,0,"23-25,9","24-31,9","24-27,9"]
[null,null,null,null,null,null,null,null,null,null,null,null,null,null,null,0,"23-25,9","24-31,9","24-27,9"]
[null,null,null,null,null,null,null,null,null,null,null,null,null,null,null,0,"23-25,9","24-31,9","24-27,9"]
[null,null,null,null,null,null,null,null,null,null,null,null,null,null,null,0,"23-25,9","24-31,9","24-27,9"]
[null,null,null,null,null,null,null,null,null,null,null,null,null,null,null,0,"23-25,9","24-31,9","24-27,9"]
[null,null,null,null,null,null,null,null,null,null,null,null,null,null,null,0,"23-25,9","24-31,9","24-27,9"]
[null,null,null,null,null,null,null,null,null,null,null,null,null,null,null,0,"23-25,9","24-31,9","24-27,9"]
[null,null,null,null,null,null,null,null,null,null,null,null,null,null,null,0,"23-25,9","24-31,9","24-27,9"]
[null,null,null,null,null,null,null,null,null,null,null,null,null,null,null,0,"23-25,9","24-31,9","24-27,9"]
[null,null,null,null,null,null,null,null,null,null,null,null,null,null,null,0,"23-25,9","24-31,9","24-27,9"]
[null,null,null,null,null,null,null,null,null,null,null,null,null,null,null,0,"23-25,9","24-31,9","24-27,9"]
[null,null,null,null,null,null,null,null,null,null,null,null,null,null,null,0,"23-25,9","24-31,9","24-27,9"]
[null,null,null,null,null,null,null,null,null,null,null,null,null,null,null,0,"23-25,9","24-31,9","24-27,9"]
[null,null,null,null,null,null,null,null,null,null,null,null,null,null,null,0,"23-25,9","24-31,9","24-27,9"]
[null,null,null,null,null,null,null,null,null,null,null,null,null,null,null,0,"23-25,9","24-31,9","24-27,9"]
[null,null,null,null,null,null,null,null,null,null,null,null,null,null,null,0,"23-25,9","24-31,9","24-27,9"]
[null,null,null,null,null,null,null,null,null,null,null,null,null,null,null,0,"23-25,9","24-31,9","24-27,9"]
[null,null,null,null,null,null,null,null,null,null,null,null,null,null,null,0,"23-25,9","24-31,9","24-27,9"]
[null,null,null,null,null,null,null,null,null,null,null,null,null,null,null,0,"23-25,9","24-31,9","24-27,9"]
[null,null,null,null,null,null,null,null,null,null,null,null,null,null,null,0,"23-25,9","24-31,9","24-27,9"]
[null,null,null,null,null,null,null,null,null,null,null,null,null,null,null,0,"23-25,9","24-31,9","24-27,9"]
[null,null,null,null,null,null,null,null,null,null,null,null,null,null,null,0,"23-25,9","24-31,9","24-27,9"]
[null,null,null,null,null,null,null,null,null,null,null,null,null,null,null,0,"23-25,9","24-31,9","24-27,9"]
[null,null,null,null,null,null,null,null,null,null,null,null,null,null,null,0,"23-25,9","24-31,9","24-27,9"]
[null,null,null,null,null,null,null,null,null,null,null,null,null,null,null,0,"23-25,9","24-31,9","24-27,9"]
[null,null,null,null,null,null,null,null,null,null,null,null,null,null,null,0,"23-25,9","24-31,9","24-27,9"]
[null,null,null,null,null,null,null,null,null,null,null,null,null,null,null,0,"23-25,9","24-31,9","24-27,9"]
[null,null,null,null,null,null,null,null,null,null,null,null,null,null,null,0,"23-25,9","24-31,9","24-27,9"]
[null,null,null,null,null,null,null,null,null,null,null,null,null,null,null,0,"23-25,9","24-31,9","24-27,9"]
[null,null,null,null,null,null,null,null,null,null,null,null,null,null,null,0,"23-25,9","24-31,9","24-27,9"]
[null,null,null,null,null,null,null,null,null,null,null,null,null,null,null,0,"23-25,9","24-31,9","24-27,9"]
[null,null,null,null,null,null,null,null,null,null,null,null,null,null,null,0,"23-25,9","24-31,9","24-27,9"]
[null,null,null,null,null,null,null,null,null,null,null,null,null,null,null,0,"23-25,9","24-31,9","24-27,9"]
[null,null,null,null,null,null,null,null,null,null,null,null,null,null,null,{"$f":"N1283+(O1283/7)","v":0},{"$f":"IF(P1283<25.9,\"23-25,9\",IF(P1283<27.9,\"26-27,9\",IF(P1283<31.9,\"28-31,9\",IF(P1283<34.9,\"32-34,9\",IF(P1283<36.9,\"35-36,9\",IF(P1283<40.2,\"37-40,2\",IF(P1283<42,\"40,3-42\",IF(P1283>=42,\">42\"))))))))","v":"23-25,9"},{"$f":"IF(P1283<31.9,\"24-31,9\",IF(P1283<42,\"32-42\",IF(P1283>=42,\">42\")))","v":"24-31,9"},{"$f":"IF(P1283<27.9,\"24-27,9\",IF(P1283<42,\"28-42\",IF(P1283>=42,\">42\")))","v":"24-27,9"}]
[null,null,null,null,null,null,null,null,null,null,null,null,null,null,null,0,"23-25,9","24-31,9","24-27,9"]
[null,null,null,null,null,null,null,null,null,null,null,null,null,null,null,0,"23-25,9","24-31,9","24-27,9"]
[null,null,null,null,null,null,null,null,null,null,null,null,null,null,null,0,"23-25,9","24-31,9","24-27,9"]
[null,null,null,null,null,null,null,null,null,null,null,null,null,null,null,0,"23-25,9","24-31,9","24-27,9"]
[null,null,null,null,null,null,null,null,null,null,null,null,null,null,null,0,"23-25,9","24-31,9","24-27,9"]
[null,null,null,null,null,null,null,null,null,null,null,null,null,null,null,0,"23-25,9","24-31,9","24-27,9"]
[null,null,null,null,null,null,null,null,null,null,null,null,null,null,null,0,"23-25,9","24-31,9","24-27,9"]
[null,null,null,null,null,null,null,null,null,null,null,null,null,null,null,0,"23-25,9","24-31,9","24-27,9"]
[null,null,null,null,null,null,null,null,null,null,null,null,null,null,null,0,"23-25,9","24-31,9","24-27,9"]
[null,null,null,null,null,null,null,null,null,null,null,null,null,null,null,0,"23-25,9","24-31,9","24-27,9"]
[null,null,null,null,null,null,null,null,null,null,null,null,null,null,null,0,"23-25,9","24-31,9","24-27,9"]
[null,null,null,null,null,null,null,null,null,null,null,null,null,null,null,0,"23-25,9","24-31,9","24-27,9"]
[null,null,null,null,null,null,null,null,null,null,null,null,null,null,null,0,"23-25,9","24-31,9","24-27,9"]
[null,null,null,null,null,null,null,null,null,null,null,null,null,null,null,0,"23-25,9","24-31,9","24-27,9"]
[null,null,null,null,null,null,null,null,null,null,null,null,null,null,null,0,"23-25,9","24-31,9","24-27,9"]
[null,null,null,null,null,null,null,null,null,null,null,null,null,null,null,0,"23-25,9","24-31,9","24-27,9"]
[null,null,null,null,null,null,null,null,null,null,null,null,null,null,null,0,"23-25,9","24-31,9","24-27,9"]
[null,null,null,null,null,null,null,null,null,null,null,null,null,null,null,0,"23-25,9","24-31,9","24-27,9"]
[null,null,null,null,null,null,null,null,null,null,null,null,null,null,null,0,"23-25,9","24-31,9","24-27,9"]
[null,null,null,null,null,null,null,null,null,null,null,null,null,null,null,0,"23-25,9","24-31,9","24-27,9"]
[null,null,null,null,null,null,null,null,null,null,null,null,null,null,null,0,"23-25,9","24-31,9","24-27,9"]
[null,null,null,null,null,null,null,null,null,null,null,null,null,null,null,0,"23-25,9","24-31,9","24-27,9"]
[null,null,null,null,null,null,null,null,null,null,null,null,null,null,null,0,"23-25,9","24-31,9","24-27,9"]
[null,null,null,null,null,null,null,null,null,null,null,null,null,null,null,0,"23-25,9","24-31,9","24-27,9"]
[null,null,null,null,null,null,null,null,null,null,null,null,null,null,null,0,"23-25,9","24-31,9","24-27,9"]
[null,null,null,null,null,null,null,null,null,null,null,null,null,null,null,0,"23-25,9","24-31,9","24-27,9"]
[null,null,null,null,null,null,null,null,null,null,null,null,null,null,null,0,"23-25,9","24-31,9","24-27,9"]
[null,null,null,null,null,null,null,null,null,null,null,null,null,null,null,0,"23-25,9","24-31,9","24-27,9"]
[null,null,null,null,null,null,null,null,null,null,null,null,null,null,null,0,"23-25,9","24-31,9","24-27,9"]
[null,null,null,null,null,null,null,null,null,null,null,null,null,null,null,0,"23-25,9","24-31,9","24-27,9"]
[null,null,null,null,null,null,null,null,null,null,null,null,null,null,null,0,"23-25,9","24-31,9","24-27,9"]
[null,null,null,null,null,null,null,null,null,null,null,null,null,null,null,0,"23-25,9","24-31,9","24-27,9"]
[null,null,null,null,null,null,null,null,null,null,null,null,null,null,null,0,"23-25,9","24-31,9","24-27,9"]
[null,null,null,null,null,null,null,null,null,null,null,null,null,null,null,0,"23-25,9","24-31,9","24-27,9"]
[null,null,null,null,null,null,null,null,null,null,null,null,null,null,null,0,"23-25,9","24-31,9","24-27,9"]
[null,null,null,null,null,null,null,null,null,null,null,null,null,null,null,0,"23-25,9","24-31,9","24-27,9"]
[null,null,null,null,null,null,null,null,null,null,null,null,null,null,null,0,"23-25,9","24-31,9","24-27,9"]
[null,null,null,null,null,null,null,null,null,null,null,null,null,null,null,0,"23-25,9","24-31,9","24-27,9"]
[null,null,null,null,null,null,null,null,null,null,null,null,null,null,null,0,"23-25,9","24-31,9","24-27,9"]
[null,null,null,null,null,null,null,null,null,null,null,null,null,null,null,0,"23-25,9","24-31,9","24-27,9"]
[null,null,null,null,null,null,null,null,null,null,null,null,null,null,null,0,"23-25,9","24-31,9","24-27,9"]
[null,null,null,null,null,null,null,null,null,null,null,null,null,null,null,0,"23-25,9","24-31,9","24-27,9"]
[null,null,null,null,null,null,null,null,null,null,null,null,null,null,null,0,"23-25,9","24-31,9","24-27,9"]
[null,null,null,null,null,null,null,null,null,null,null,null,null,null,null,0,"23-25,9","24-31,9","24-27,9"]
[null,null,null,null,null,null,null,null,null,null,null,null,null,null,null,0,"23-25,9","24-31,9","24-27,9"]
[null,null,null,null,null,null,null,null,null,null,null,null,null,null,null,0,"23-25,9","24-31,9","24-27,9"]
[null,null,null,null,null,null,null,null,null,null,null,null,null,null,null,0,"23-25,9","24-31,9","24-27,9"]
[null,null,null,null,null,null,null,null,null,null,null,null,null,null,null,0,"23-25,9","24-31,9","24-27,9"]
[null,null,null,null,null,null,null,null,null,null,null,null,null,null,null,0,"23-25,9","24-31,9","24-27,9"]
[null,null,null,null,null,null,null,null,null,null,null,null,null,null,null,0,"23-25,9","24-31,9","24-27,9"]
[null,null,null,null,null,null,null,null,null,null,null,null,null,null,null,0,"23-25,9","24-31,9","24-27,9"]
[null,null,null,null,null,null,null,null,null,null,null,null,null,null,null,0,"23-25,9","24-31,9","24-27,9"]
[null,null,null,null,null,null,null,null,null,null,null,null,null,null,null,0,"23-25,9","24-31,9","24-27,9"]
[null,null,null,null,null,null,null,null,null,null,null,null,null,null,null,0,"23-25,9","24-31,9","24-27,9"]
[null,null,null,null,null,null,null,null,null,null,null,null,null,null,null,0,"23-25,9","24-31,9","24-27,9"]
[null,null,null,null,null,null,null,null,null,null,null,null,null,null,null,0,"23-25,9","24-31,9","24-27,9"]
[null,null,null,null,null,null,null,null,null,null,null,null,null,null,null,0,"23-25,9","24-31,9","24-27,9"]
[null,null,null,null,null,null,null,null,null,null,null,null,null,null,null,0,"23-25,9","24-31,9","24-27,9"]
[null,null,null,null,null,null,null,null,null,null,null,null,null,null,null,0,"23-25,9","24-31,9","24-27,9"]
[null,null,null,null,null,null,null,null,null,null,null,null,null,null,null,0,"23-25,9","24-31,9","24-27,9"]
[null,null,null,null,null,null,null,null,null,null,null,null,null,null,null,0,"23-25,9","24-31,9","24-27,9"]
[null,null,null,null,null,null,null,null,null,null,null,null,null,null,null,0,"23-25,9","24-31,9","24-27,9"]
[null,null,null,null,null,null,null,null,null,null,null,null,null,null,null,0,"23-25,9","24-31,9","24-27,9"]
[null,null,null,null,null,null,null,null,null,null,null,null,null,null,null,{"$f":"N1347+(O1347/7)","v":0},{"$f":"IF(P1347<25.9,\"23-25,9\",IF(P1347<27.9,\"26-27,9\",IF(P1347<31.9,\"28-31,9\",IF(P1347<34.9,\"32-34,9\",IF(P1347<36.9,\"35-36,9\",IF(P1347<40.2,\"37-40,2\",IF(P1347<42,\"40,3-42\",IF(P1347>=42,\">42\"))))))))","v":"23-25,9"},{"$f":"IF(P1347<31.9,\"24-31,9\",IF(P1347<42,\"32-42\",IF(P1347>=42,\">42\")))","v":"24-31,9"},{"$f":"IF(P1347<27.9,\"24-27,9\",IF(P1347<42,\"28-42\",IF(P1347>=42,\">42\")))","v":"24-27,9"}]
[null,null,null,null,null,null,null,null,null,null,null,null,null,null,null,0,"23-25,9","24-31,9","24-27,9"]
[null,null,null,null,null,null,null,null,null,null,null,null,null,null,null,0,"23-25,9","24-31,9","24-27,9"]
[null,null,null,null,null,null,null,null,null,null,null,null,null,null,null,0,"23-25,9","24-31,9","24-27,9"]
[null,null,null,null,null,null,null,null,null,null,null,null,null,null,null,0,"23-25,9","24-31,9","24-27,9"]
[null,null,null,null,null,null,null,null,null,null,null,null,null,null,null,0,"23-25,9","24-31,9","24-27,9"]
[null,null,null,null,null,null,null,null,null,null,null,null,null,null,null,0,"23-25,9","24-31,9","24-27,9"]
[null,null,null,null,null,null,null,null,null,null,null,null,null,null,null,0,"23-25,9","24-31,9","24-27,9"]
[null,null,null,null,null,null,null,null,null,null,null,null,null,null,null,0,"23-25,9","24-31,9","24-27,9"]
[null,null,null,null,null,null,null,null,null,null,null,null,null,null,null,0,"23-25,9","24-31,9","24-27,9"]
[null,null,null,null,null,null,null,null,null,null,null,null,null,null,null,0,"23-25,9","24-31,9","24-27,9"]
[null,null,null,null,null,null,null,null,null,null,null,null,null,null,null,0,"23-25,9","24-31,9","24-27,9"]
[null,null,null,null,null,null,null,null,null,null,null,null,null,null,null,0,"23-25,9","24-31,9","24-27,9"]
[null,null,null,null,null,null,null,null,null,null,null,null,null,null,null,0,"23-25,9","24-31,9","24-27,9"]
[null,null,null,null,null,null,null,null,null,null,null,null,null,null,null,0,"23-25,9","24-31,9","24-27,9"]
[null,null,null,null,null,null,null,null,null,null,null,null,null,null,null,0,"23-25,9","24-31,9","24-27,9"]
[null,null,null,null,null,null,null,null,null,null,null,null,null,null,null,0,"23-25,9","24-31,9","24-27,9"]
[null,null,null,null,null,null,null,null,null,null,null,null,null,null,null,0,"23-25,9","24-31,9","24-27,9"]
[null,null,null,null,null,null,null,null,null,null,null,null,null,null,null,0,"23-25,9","24-31,9","24-27,9"]
[null,null,null,null,null,null,null,null,null,null,null,null,null,null,null,0,"23-25,9","24-31,9","24-27,9"]
[null,null,null,null,null,null,null,null,null,null,null,null,null,null,null,0,"23-25,9","24-31,9","24-27,9"]
[null,null,null,null,null,null,null,null,null,null,null,null,null,null,null,0,"23-25,9","24-31,9","24-27,9"]
[null,null,null,null,null,null,null,null,null,null,null,null,null,null,null,0,"23-25,9","24-31,9","24-27,9"]
[null,null,null,null,null,null,null,null,null,null,null,null,null,null,null,0,"23-25,9","24-31,9","24-27,9"]
[null,null,null,null,null,null,null,null,null,null,null,null,null,null,null,0,"23-25,9","24-31,9","24-27,9"]
[null,null,null,null,null,null,null,null,null,null,null,null,null,null,null,0,"23-25,9","24-31,9","24-27,9"]
[null,null,null,null,null,null,null,null,null,null,null,null,null,null,null,0,"23-25,9","24-31,9","24-27,9"]
[null,null,null,null,null,null,null,null,null,null,null,null,null,null,null,0,"23-25,9","24-31,9","24-27,9"]
[null,null,null,null,null,null,null,null,null,null,null,null,null,null,null,0,"23-25,9","24-31,9","24-27,9"]
[null,null,null,null,null,null,null,null,null,null,null,null,null,null,null,0,"23-25,9","24-31,9","24-27,9"]
[null,null,null,null,null,null,null,null,null,null,null,null,null,null,null,0,"23-25,9","24-31,9","24-27,9"]
[null,null,null,null,null,null,null,null,null,null,null,null,null,null,null,0,"23-25,9","24-31,9","24-27,9"]
[null,null,null,null,null,null,null,null,null,null,null,null,null,null,null,0,"23-25,9","24-31,9","24-27,9"]
[null,null,null,null,null,null,null,null,null,null,null,null,null,null,null,0,"23-25,9","24-31,9","24-27,9"]
[null,null,null,null,null,null,null,null,null,null,null,null,null,null,null,0,"23-25,9","24-31,9","24-27,9"]
[null,null,null,null,null,null,null,null,null,null,null,null,null,null,null,0,"23-25,9","24-31,9","24-27,9"]
[null,null,null,null,null,null,null,null,null,null,null,null,null,null,null,0,"23-25,9","24-31,9","24-27,9"]
[null,null,null,null,null,null,null,null,null,null,null,null,null,null,null,0,"23-25,9","24-31,9","24-27,9"]
[null,null,null,null,null,null,null,null,null,null,null,null,null,null,null,0,"23-25,9","24-31,9","24-27,9"]
[null,null,null,null,null,null,null,null,null,null,null,null,null,null,null,0,"23-25,9","24-31,9","24-27,9"]
[null,null,null,null,null,null,null,null,null,null,null,null,null,null,null,0,"23-25,9","24-31,9","24-27,9"]
[null,null,null,null,null,null,null,null,null,null,null,null,null,null,null,0,"23-25,9","24-31,9","24-27,9"]
[null,null,null,null,null,null,null,null,null,null,null,null,null,null,null,0,"23-25,9","24-31,9","24-27,9"]
[null,null,null,null,null,null,null,null,null,null,null,null,null,null,null,0,"23-25,9","24-31,9","24-27,9"]
[null,null,null,null,null,null,null,null,null,null,null,null,null,null,null,0,"23-25,9","24-31,9","24-27,9"]
[null,null,null,null,null,null,null,null,null,null,null,null,null,null,null,0,"23-25,9","24-31,9","24-27,9"]
[null,null,null,null,null,null,null,null,null,null,null,null,null,null,null,0,"23-25,9","24-31,9","24-27,9"]
[null,null,null,null,null,null,null,null,null,null,null,null,null,null,null,0,"23-25,9","24-31,9","24-27,9"]
[null,null,null,null,null,null,null,null,null,null,null,null,null,null,null,0,"23-25,9","24-31,9","24-27,9"]
[null,null,null,null,null,null,null,null,null,null,null,null,null,null,null,0,"23-25,9","24-31,9","24-27,9"]
[null,null,null,null,null,null,null,null,null,null,null,null,null,null,null,0,"23-25,9","24-31,9","24-27,9"]
[null,null,null,null,null,null,null,null,null,null,null,null,null,null,null,0,"23-25,9","24-31,9","24-27,9"]
[null,null,null,null,null,null,null,null,null,null,null,null,null,null,null,0,"23-25,9","24-31,9","24-27,9"]
[null,null,null,null,null,null,null,null,null,null,null,null,null,null,null,0,"23-25,9","24-31,9","24-27,9"]
[null,null,null,null,null,null,null,null,null,null,null,null,null,null,null,0,"23-25,9","24-31,9","24-27,9"]
[null,null,null,null,null,null,null,null,null,null,null,null,null,null,null,0,"23-25,9","24-31,9","24-27,9"]
[null,null,null,null,null,null,null,null,null,null,null,null,null,null,null,0,"23-25,9","24-31,9","24-27,9"]
[null,null,null,null,null,null,null,null,null,null,null,null,null,null,null,0,"23-25,9","24-31,9","24-27,9"]
[null,null,null,null,null,null,null,null,null,null,null,null,null,null,null,0,"23-25,9","24-31,9","24-27,9"]
[null,null,null,null,null,null,null,null,null,null,null,null,null,null,null,0,"23-25,9","24-31,9","24-27,9"]
[null,null,null,null,null,null,null,null,null,null,null,null,null,null,null,0,"23-25,9","24-31,9","24-27,9"]
[null,null,null,null,null,null,null,null,null,null,null,null,null,null,null,0,"23-25,9","24-31,9","24-27,9"]
[null,null,null,null,null,null,null,null,null,null,null,null,null,null,null,0,"23-25,9","24-31,9","24-27,9"]
[null,null,null,null,null,null,null,null,null,null,null,null,null,null,null,0,"23-25,9","24-31,9","24-27,9"]
[null,null,null,null,null,null,null,null,null,null,null,null,null,null,null,{"$f":"N1411+(O1411/7)","v":0},{"$f":"IF(P1411<25.9,\"23-25,9\",IF(P1411<27.9,\"26-27,9\",IF(P1411<31.9,\"28-31,9\",IF(P1411<34.9,\"32-34,9\",IF(P1411<36.9,\"35-36,9\",IF(P1411<40.2,\"37-40,2\",IF(P1411<42,\"40,3-42\",IF(P1411>=42,\">42\"))))))))","v":"23-25,9"},{"$f":"IF(P1411<31.9,\"24-31,9\",IF(P1411<42,\"32-42\",IF(P1411>=42,\">42\")))","v":"24-31,9"},{"$f":"IF(P1411<27.9,\"24-27,9\",IF(P1411<42,\"28-42\",IF(P1411>=42,\">42\")))","v":"24-27,9"}]
[null,null,null,null,null,null,null,null,null,null,null,null,null,null,null,0,"23-25,9","24-31,9","24-27,9"]
[null,null,null,null,null,null,null,null,null,null,null,null,null,null,null,0,"23-25,9","24-31,9","24-27,9"]
[null,null,null,null,null,null,null,null,null,null,null,null,null,null,null,0,"23-25,9","24-31,9","24-27,9"]
[null,null,null,null,null,null,null,null,null,null,null,null,null,null,null,0,"23-25,9","24-31,9","24-27,9"]
[null,null,null,null,null,null,null,null,null,null,null,null,null,null,null,0,"23-25,9","24-31,9","24-27,9"]
[null,null,null,null,null,null,null,null,null,null,null,null,null,null,null,0,"23-25,9","24-31,9","24-27,9"]
[null,null,null,null,null,null,null,null,null,null,null,null,null,null,null,0,"23-25,9","24-31,9","24-27,9"]
[null,null,null,null,null,null,null,null,null,null,null,null,null,null,null,0,"23-25,9","24-31,9","24-27,9"]
[null,null,null,null,null,null,null,null,null,null,null,null,null,null,null,0,"23-25,9","24-31,9","24-27,9"]
[null,null,null,null,null,null,null,null,null,null,null,null,null,null,null,0,"23-25,9","24-31,9","24-27,9"]
[null,null,null,null,null,null,null,null,null,null,null,null,null,null,null,0,"23-25,9","24-31,9","24-27,9"]
[null,null,null,null,null,null,null,null,null,null,null,null,null,null,null,0,"23-25,9","24-31,9","24-27,9"]
[null,null,null,null,null,null,null,null,null,null,null,null,null,null,null,0,"23-25,9","24-31,9","24-27,9"]
[null,null,null,null,null,null,null,null,null,null,null,null,null,null,null,0,"23-25,9","24-31,9","24-27,9"]
[null,null,null,null,null,null,null,null,null,null,null,null,null,null,null,0,"23-25,9","24-31,9","24-27,9"]
[null,null,null,null,null,null,null,null,null,null,null,null,null,null,null,0,"23-25,9","24-31,9","24-27,9"]
[null,null,null,null,null,null,null,null,null,null,null,null,null,null,null,0,"23-25,9","24-31,9","24-27,9"]
[null,null,null,null,null,null,null,null,null,null,null,null,null,null,null,0,"23-25,9","24-31,9","24-27,9"]
[null,null,null,null,null,null,null,null,null,null,null,null,null,null,null,0,"23-25,9","24-31,9","24-27,9"]
[null,null,null,null,null,null,null,null,null,null,null,null,null,null,null,0,"23-25,9","24-31,9","24-27,9"]
[null,null,null,null,null,null,null,null,null,null,null,null,null,null,null,0,"23-25,9","24-31,9","24-27,9"]
[null,null,null,null,null,null,null,null,null,null,null,null,null,null,null,0,"23-25,9","24-31,9","24-27,9"]
[null,null,null,null,null,null,null,null,null,null,null,null,null,null,null,0,"23-25,9","24-31,9","24-27,9"]
[null,null,null,null,null,null,null,null,null,null,null,null,null,null,null,0,"23-25,9","24-31,9","24-27,9"]
[null,null,null,null,null,null,null,null,null,null,null,null,null,null,null,0,"23-25,9","24-31,9","24-27,9"]
[null,null,null,null,null,null,null,null,null,null,null,null,null,null,null,0,"23-25,9","24-31,9","24-27,9"]
[null,null,null,null,null,null,null,null,null,null,null,null,null,null,null,0,"23-25,9","24-31,9","24-27,9"]
[null,null,null,null,null,null,null,null,null,null,null,null,null,null,null,0,"23-25,9","24-31,9","24-27,9"]
[null,null,null,null,null,null,null,null,null,null,null,null,null,null,null,0,"23-25,9","24-31,9","24-27,9"]
[null,null,null,null,null,null,null,null,null,null,null,null,null,null,null,0,"23-25,9","24-31,9","24-27,9"]
[null,null,null,null,null,null,null,null,null,null,null,null,null,null,null,0,"23-25,9","24-31,9","24-27,9"]
[null,null,null,null,null,null,null,null,null,null,null,null,null,null,null,0,"23-25,9","24-31,9","24-27,9"]
[null,null,null,null,null,null,null,null,null,null,null,null,null,null,null,0,"23-25,9","24-31,9","24-27,9"]
[null,null,null,null,null,null,null,null,null,null,null,null,null,null,null,0,"23-25,9","24-31,9","24-27,9"]
[null,null,null,null,null,null,null,null,null,null,null,null,null,null,null,0,"23-25,9","24-31,9","24-27,9"]
[null,null,null,null,null,null,null,null,null,null,null,null,null,null,null,0,"23-25,9","24-31,9","24-27,9"]
[null,null,null,null,null,null,null,null,null,null,null,null,null,null,null,0,"23-25,9","24-31,9","24-27,9"]
[null,null,null,null,null,null,null,null,null,null,null,null,null,null,null,0,"23-25,9","24-31,9","24-27,9"]
[null,null,null,null,null,null,null,null,null,null,null,null,null,null,null,0,"23-25,9","24-31,9","24-27,9"]
[null,null,null,null,null,null,null,null,null,null,null,null,null,null,null,0,"23-25,9","24-31,9","24-27,9"]
[null,null,null,null,null,null,null,null,null,null,null,null,null,null,null,0,"23-25,9","24-31,9","24-27,9"]
[null,null,null,null,null,null,null,null,null,null,null,null,null,null,null,0,"23-25,9","24-31,9","24-27,9"]
[null,null,null,null,null,null,null,null,null,null,null,null,null,null,null,0,"23-25,9","24-31,9","24-27,9"]
[null,null,null,null,null,null,null,null,null,null,null,null,null,null,null,0,"23-25,9","24-31,9","24-27,9"]
[null,null,null,null,null,null,null,null,null,null,null,null,null,null,null,0,"23-25,9","24-31,9","24-27,9"]
[null,null,null,null,null,null,null,null,null,null,null,null,null,null,null,0,"23-25,9","24-31,9","24-27,9"]
[null,null,null,null,null,null,null,null,null,null,null,null,null,null,null,0,"23-25,9","24-31,9","24-27,9"]
[null,null,null,null,null,null,null,null,null,null,null,null,null,null,null,0,"23-25,9","24-31,9","24-27,9"]
[null,null,null,null,null,null,null,null,null,null,null,null,null,null,null,0,"23-25,9","24-31,9","24-27,9"]
[null,null,null,null,null,null,null,null,null,null,null,null,null,null,null,0,"23-25,9","24-31,9","24-27,9"]
[null,null,null,null,null,null,null,null,null,null,null,null,null,null,null,0,"23-25,9","24-31,9","24-27,9"]
[null,null,null,null,null,null,null,null,null,null,null,null,null,null,null,0,"23-25,9","24-31,9","24-27,9"]
[null,null,null,null,null,null,null,null,null,null,null,null,null,null,null,0,"23-25,9","24-31,9","24-27,9"]
[null,null,null,null,null,null,null,null,null,null,null,null,null,null,null,0,"23-25,9","24-31,9","24-27,9"]
[null,null,null,null,null,null,null,null,null,null,null,null,null,null,null,0,"23-25,9","24-31,9","24-27,9"]
[null,null,null,null,null,null,null,null,null,null,null,null,null,null,null,0,"23-25,9","24-31,9","24-27,9"]
[null,null,null,null,null,null,null,null,null,null,null,null,null,null,null,0,"23-25,9","24-31,9","24-27,9"]
[null,null,null,null,null,null,null,null,null,null,null,null,null,null,null,0,"23-25,9","24-31,9","24-27,9"]
[null,null,null,null,null,null,null,null,null,null,null,null,null,null,null,0,"23-25,9","24-31,9","24-27,9"]
[null,null,null,null,null,null,null,null,null,null,null,null,null,null,null,0,"23-25,9","24-31,9","24-27,9"]
[null,null,null,null,null,null,null,null,null,null,null,null,null,null,null,0,"23-25,9","24-31,9","24-27,9"]
[null,null,null,null,null,null,null,null,null,null,null,null,null,null,null,0,"23-25,9","24-31,9","24-27,9"]
[null,null,null,null,null,null,null,null,null,null,null,null,null,null,null,0,"23-25,9","24-31,9","24-27,9"]
[null,null,null,null,null,null,null,null,null,null,null,null,null,null,null,{"$f":"N1475+(O1475/7)","v":0},{"$f":"IF(P1475<25.9,\"23-25,9\",IF(P1475<27.9,\"26-27,9\",IF(P1475<31.9,\"28-31,9\",IF(P1475<34.9,\"32-34,9\",IF(P1475<36.9,\"35-36,9\",IF(P1475<40.2,\"37-40,2\",IF(P1475<42,\"40,3-42\",IF(P1475>=42,\">42\"))))))))","v":"23-25,9"},{"$f":"IF(P1475<31.9,\"24-31,9\",IF(P1475<42,\"32-42\",IF(P1475>=42,\">42\")))","v":"24-31,9"},{"$f":"IF(P1475<27.9,\"24-27,9\",IF(P1475<42,\"28-42\",IF(P1475>=42,\">42\")))","v":"24-27,9"}]
[null,null,null,null,null,null,null,null,null,null,null,null,null,null,null,0,"23-25,9","24-31,9","24-27,9"]
[null,null,null,null,null,null,null,null,null,null,null,null,null,null,null,0,"23-25,9","24-31,9","24-27,9"]
[null,null,null,null,null,null,null,null,null,null,null,null,null,null,null,0,"23-25,9","24-31,9","24-27,9"]
[null,null,null,null,null,null,null,null,null,null,null,null,null,null,null,0,"23-25,9","24-31,9","24-27,9"]
[null,null,null,null,null,null,null,null,null,null,null,null,null,null,null,0,"23-25,9","24-31,9","24-27,9"]
[null,null,null,null,null,null,null,null,null,null,null,null,null,null,null,0,"23-25,9","24-31,9","24-27,9"]
[null,null,null,null,null,null,null,null,null,null,null,null,null,null,null,0,"23-25,9","24-31,9","24-27,9"]
[null,null,null,null,null,null,null,null,null,null,null,null,null,null,null,0,"23-25,9","24-31,9","24-27,9"]
[null,null,null,null,null,null,null,null,null,null,null,null,null,null,null,0,"23-25,9","24-31,9","24-27,9"]
[null,null,null,null,null,null,null,null,null,null,null,null,null,null,null,0,"23-25,9","24-31,9","24-27,9"]
[null,null,null,null,null,null,null,null,null,null,null,null,null,null,null,0,"23-25,9","24-31,9","24-27,9"]
[null,null,null,null,null,null,null,null,null,null,null,null,null,null,null,0,"23-25,9","24-31,9","24-27,9"]
[null,null,null,null,null,null,null,null,null,null,null,null,null,null,null,0,"23-25,9","24-31,9","24-27,9"]
[null,null,null,null,null,null,null,null,null,null,null,null,null,null,null,0,"23-25,9","24-31,9","24-27,9"]
[null,null,null,null,null,null,null,null,null,null,null,null,null,null,null,0,"23-25,9","24-31,9","24-27,9"]
[null,null,null,null,null,null,null,null,null,null,null,null,null,null,null,0,"23-25,9","24-31,9","24-27,9"]
[null,null,null,null,null,null,null,null,null,null,null,null,null,null,null,0,"23-25,9","24-31,9","24-27,9"]
[null,null,null,null,null,null,null,null,null,null,null,null,null,null,null,0,"23-25,9","24-31,9","24-27,9"]
[null,null,null,null,null,null,null,null,null,null,null,null,null,null,null,0,"23-25,9","24-31,9","24-27,9"]
[null,null,null,null,null,null,null,null,null,null,null,null,null,null,null,0,"23-25,9","24-31,9","24-27,9"]
[null,null,null,null,null,null,null,null,null,null,null,null,null,null,null,0,"23-25,9","24-31,9","24-27,9"]
[null,null,null,null,null,null,null,null,null,null,null,null,null,null,null,0,"23-25,9","24-31,9","24-27,9"]
[null,null,null,null,null,null,null,null,null,null,null,null,null,null,null,0,"23-25,9","24-31,9","24-27,9"]
[null,null,null,null,null,null,null,null,null,null,null,null,null,null,null,0,"23-25,9","24-31,9","24-27,9"]
[null,null,null,null,null,null,null,null,null,null,null,null,null,null,null,0,"23-25,9","24-31,9","24-27,9"]
[null,null,null,null,null,null,null,null,null,null,null,null,null,null,null,0,"23-25,9","24-31,9","24-27,9"]
[null,null,null,null,null,null,null,null,null,null,null,null,null,null,null,0,"23-25,9","24-31,9","24-27,9"]
[null,null,null,null,null,null,null,null,null,null,null,null,null,null,null,0,"23-25,9","24-31,9","24-27,9"]
[null,null,null,null,null,null,null,null,null,null,null,null,null,null,null,0,"23-25,9","24-31,9","24-27,9"]
[null,null,null,null,null,null,null,null,null,null,null,null,null,null,null,0,"23-25,9","24-31,9","24-27,9"]
[null,null,null,null,null,null,null,null,null,null,null,null,null,null,null,0,"23-25,9","24-31,9","24-27,9"]
[null,null,null,null,null,null,null,null,null,null,null,null,null,null,null,0,"23-25,9","24-31,9","24-27,9"]
[null,null,null,null,null,null,null,null,null,null,null,null,null,null,null,0,"23-25,9","24-31,9","24-27,9"]
[null,null,null,null,null,null,null,null,null,null,null,null,null,null,null,0,"23-25,9","24-31,9","24-27,9"]
[null,null,null,null,null,null,null,null,null,null,null,null,null,null,null,0,"23-25,9","24-31,9","24-27,9"]
[null,null,null,null,null,null,null,null,null,null,null,null,null,null,null,0,"23-25,9","24-31,9","24-27,9"]
[null,null,null,null,null,null,null,null,null,null,null,null,null,null,null,0,"23-25,9","24-31,9","24-27,9"]
[null,null,null,null,null,null,null,null,null,null,null,null,null,null,null,0,"23-25,9","24-31,9","24-27,9"]
[null,null,null,null,null,null,null,null,null,null,null,null,null,null,null,0,"23-25,9","24-31,9","24-27,9"]
[null,null,null,null,null,null,null,null,null,null,null,null,null,null,null,0,"23-25,9","24-31,9","24-27,9"]
[null,null,null,null,null,null,null,null,null,null,null,null,null,null,null,0,"23-25,9","24-31,9","24-27,9"]
[null,null,null,null,null,null,null,null,null,null,null,null,null,null,null,0,"23-25,9","24-31,9","24-27,9"]
[null,null,null,null,null,null,null,null,null,null,null,null,null,null,null,0,"23-25,9","24-31,9","24-27,9"]
[null,null,null,null,null,null,null,null,null,null,null,null,null,null,null,0,"23-25,9","24-31,9","24-27,9"]
[null,null,null,null,null,null,null,null,null,null,null,null,null,null,null,0,"23-25,9","24-31,9","24-27,9"]
[null,null,null,null,null,null,null,null,null,null,null,null,null,null,null,0,"23-25,9","24-31,9","24-27,9"]
[null,null,null,null,null,null,null,null,null,null,null,null,null,null,null,0,"23-25,9","24-31,9","24-27,9"]
[null,null,null,null,null,null,null,null,null,null,null,null,null,null,null,0,"23-25,9","24-31,9","24-27,9"]
[null,null,null,null,null,null,null,null,null,null,null,null,null,null,null,0,"23-25,9","24-31,9","24-27,9"]
[null,null,null,null,null,null,null,null,null,null,null,null,null,null,null,0,"23-25,9","24-31,9","24-27,9"]
[null,null,null,null,null,null,null,null,null,null,null,null,null,null,null,0,"23-25,9","24-31,9","24-27,9"]
[null,null,null,null,null,null,null,null,null,null,null,null,null,null,null,0,"23-25,9","24-31,9","24-27,9"]
[null,null,null,null,null,null,null,null,null,null,null,null,null,null,null,0,"23-25,9","24-31,9","24-27,9"]
[null,null,null,null,null,null,null,null,null,null,null,null,null,null,null,0,"23-25,9","24-31,9","24-27,9"]
[null,null,null,null,null,null,null,null,null,null,null,null,null,null,null,0,"23-25,9","24-31,9","24-27,9"]
[null,null,null,null,null,null,null,null,null,null,null,null,null,null,null,0,"23-25,9","24-31,9","24-27,9"]
[null,null,null,null,null,null,null,null,null,null,null,null,null,null,null,0,"23-25,9","24-31,9","24-27,9"]
[null,null,null,null,null,null,null,null,null,null,null,null,null,null,null,0,"23-25,9","24-31,9","24-27,9"]
[null,null,null,null,null,null,null,null,null,null,null,null,null,null,null,0,"23-25,9","24-31,9","24-27,9"]
[null,null,null,null,null,null,null,null,null,null,null,null,null,null,null,0,"23-25,9","24-31,9","24-27,9"]
[null,null,null,null,null,null,null,null,null,null,null,null,null,null,null,0,"23-25,9","24-31,9","24-27,9"]
[null,null,null,null,null,null,null,null,null,null,null,null,null,null,null,0,"23-25,9","24-31,9","24-27,9"]
[null,null,null,null,null,null,null,null,null,null,null,null,null,null,null,0,"23-25,9","24-31,9","24-27,9"]
[null,null,null,null,null,null,null,null,null,null,null,null,null,null,null,{"$f":"N1539+(O1539/7)","v":0},{"$f":"IF(P1539<25.9,\"23-25,9\",IF(P1539<27.9,\"26-27,9\",IF(P1539<31.9,\"28-31,9\",IF(P1539<34.9,\"32-34,9\",IF(P1539<36.9,\"35-36,9\",IF(P1539<40.2,\"37-40,2\",IF(P1539<42,\"40,3-42\",IF(P1539>=42,\">42\"))))))))","v":"23-25,9"},{"$f":"IF(P1539<31.9,\"24-31,9\",IF(P1539<42,\"32-42\",IF(P1539>=42,\">42\")))","v":"24-31,9"},{"$f":"IF(P1539<27.9,\"24-27,9\",IF(P1539<42,\"28-42\",IF(P1539>=42,\">42\")))","v":"24-27,9"}]
[null,null,null,null,null,null,null,null,null,null,null,null,null,null,null,0,"23-25,9","24-31,9","24-27,9"]
[null,null,null,null,null,null,null,null,null,null,null,null,null,null,null,0,"23-25,9","24-31,9","24-27,9"]
[null,null,null,null,null,null,null,null,null,null,null,null,null,null,null,0,"23-25,9","24-31,9","24-27,9"]
[null,null,null,null,null,null,null,null,null,null,null,null,null,null,null,0,"23-25,9","24-31,9","24-27,9"]
[null,null,null,null,null,null,null,null,null,null,null,null,null,null,null,0,"23-25,9","24-31,9","24-27,9"]
[null,null,null,null,null,null,null,null,null,null,null,null,null,null,null,0,"23-25,9","24-31,9","24-27,9"]
[null,null,null,null,null,null,null,null,null,null,null,null,null,null,null,0,"23-25,9","24-31,9","24-27,9"]
[null,null,null,null,null,null,null,null,null,null,null,null,null,null,null,0,"23-25,9","24-31,9","24-27,9"]
[null,null,null,null,null,null,null,null,null,null,null,null,null,null,null,0,"23-25,9","24-31,9","24-27,9"]
[null,null,null,null,null,null,null,null,null,null,null,null,null,null,null,0,"23-25,9","24-31,9","24-27,9"]
[null,null,null,null,null,null,null,null,null,null,null,null,null,null,null,0,"23-25,9","24-31,9","24-27,9"]
[null,null,null,null,null,null,null,null,null,null,null,null,null,null,null,0,"23-25,9","24-31,9","24-27,9"]
[null,null,null,null,null,null,null,null,null,null,null,null,null,null,null,0,"23-25,9","24-31,9","24-27,9"]
[null,null,null,null,null,null,null,null,null,null,null,null,null,null,null,0,"23-25,9","24-31,9","24-27,9"]
[null,null,null,null,null,null,null,null,null,null,null,null,null,null,null,0,"23-25,9","24-31,9","24-27,9"]
[null,null,null,null,null,null,null,null,null,null,null,null,null,null,null,0,"23-25,9","24-31,9","24-27,9"]
[null,null,null,null,null,null,null,null,null,null,null,null,null,null,null,0,"23-25,9","24-31,9","24-27,9"]
[null,null,null,null,null,null,null,null,null,null,null,null,null,null,null,0,"23-25,9","24-31,9","24-27,9"]
[null,null,null,null,null,null,null,null,null,null,null,null,null,null,null,0,"23-25,9","24-31,9","24-27,9"]
[null,null,null,null,null,null,null,null,null,null,null,null,null,null,null,0,"23-25,9","24-31,9","24-27,9"]
[null,null,null,null,null,null,null,null,null,null,null,null,null,null,null,0,"23-25,9","24-31,9","24-27,9"]
[null,null,null,null,null,null,null,null,null,null,null,null,null,null,null,0,"23-25,9","24-31,9","24-27,9"]
[null,null,null,null,null,null,null,null,null,null,null,null,null,null,null,0,"23-25,9","24-31,9","24-27,9"]
[null,null,null,null,null,null,null,null,null,null,null,null,null,null,null,0,"23-25,9","24-31,9","24-27,9"]
[null,null,null,null,null,null,null,null,null,null,null,null,null,null,null,0,"23-25,9","24-31,9","24-27,9"]
[null,null,null,null,null,null,null,null,null,null,null,null,null,null,null,0,"23-25,9","24-31,9","24-27,9"]
[null,null,null,null,null,null,null,null,null,null,null,null,null,null,null,0,"23-25,9","24-31,9","24-27,9"]
[null,null,null,null,null,null,null,null,null,null,null,null,null,null,null,0,"23-25,9","24-31,9","24-27,9"]
[null,null,null,null,null,null,null,null,null,null,null,null,null,null,null,0,"23-25,9","24-31,9","24-27,9"]
[null,null,null,null,null,null,null,null,null,null,null,null,null,null,null,0,"23-25,9","24-31,9","24-27,9"]
[null,null,null,null,null,null,null,null,null,null,null,null,null,null,null,0,"23-25,9","24-31,9","24-27,9"]
[null,null,null,null,null,null,null,null,null,null,null,null,null,null,null,0,"23-25,9","24-31,9","24-27,9"]
[null,null,null,null,null,null,null,null,null,null,null,null,null,null,null,0,"23-25,9","24-31,9","24-27,9"]
[null,null,null,null,null,null,null,null,null,null,null,null,null,null,null,0,"23-25,9","24-31,9","24-27,9"]
[null,null,null,null,null,null,null,null,null,null,null,null,null,null,null,0,"23-25,9","24-31,9","24-27,9"]
[null,null,null,null,null,null,null,null,null,null,null,null,null,null,null,0,"23-25,9","24-31,9","24-27,9"]
[null,null,null,null,null,null,null,null,null,null,null,null,null,null,null,0,"23-25,9","24-31,9","24-27,9"]
[null,null,null,null,null,null,null,null,null,null,null,null,null,null,null,0,"23-25,9","24-31,9","24-27,9"]
[null,null,null,null,null,null,null,null,null,null,null,null,null,null,null,0,"23-25,9","24-31,9","24-27,9"]
[null,null,null,null,null,null,null,null,null,null,null,null,null,null,null,0,"23-25,9","24-31,9","24-27,9"]
[null,null,null,null,null,null,null,null,null,null,null,null,null,null,null,0,"23-25,9","24-31,9","24-27,9"]
[null,null,null,null,null,null,null,null,null,null,null,null,null,null,null,0,"23-25,9","24-31,9","24-27,9"]
[null,null,null,null,null,null,null,null,null,null,null,null,null,null,null,0,"23-25,9","24-31,9","24-27,9"]
[null,null,null,null,null,null,null,null,null,null,null,null,null,null,null,0,"23-25,9","24-31,9","24-27,9"]
[null,null,null,null,null,null,null,null,null,null,null,null,null,null,null,0,"23-25,9","24-31,9","24-27,9"]
[null,null,null,null,null,null,null,null,null,null,null,null,null,null,null,0,"23-25,9","24-31,9","24-27,9"]
[null,null,null,null,null,null,null,null,null,null,null,null,null,null,null,0,"23-25,9","24-31,9","24-27,9"]
[null,null,null,null,null,null,null,null,null,null,null,null,null,null,null,0,"23-25,9","24-31,9","24-27,9"]
[null,null,null,null,null,null,null,null,null,null,null,null,null,null,null,0,"23-25,9","24-31,9","24-27,9"]
[null,null,null,null,null,null,null,null,null,null,null,null,null,null,null,0,"23-25,9","24-31,9","24-27,9"]
[null,null,null,null,null,null,null,null,null,null,null,null,null,null,null,0,"23-25,9","24-31,9","24-27,9"]
[null,null,null,null,null,null,null,null,null,null,null,null,null,null,null,0,"23-25,9","24-31,9","24-27,9"]
[null,null,null,null,null,null,null,null,null,null,null,null,null,null,null,0,"23-25,9","24-31,9","24-27,9"]
[null,null,null,null,null,null,null,null,null,null,null,null,null,null,null,0,"23-25,9","24-31,9","24-27,9"]
[null,null,null,null,null,null,null,null,null,null,null,null,null,null,null,0,"23-25,9","24-31,9","24-27,9"]
[null,null,null,null,null,null,null,null,null,null,null,null,null,null,null,0,"23-25,9","24-31,9","24-27,9"]
[null,null,null,null,null,null,null,null,null,null,null,null,null,null,null,0,"23-25,9","24-31,9","24-27,9"]
[null,null,null,null,null,null,null,null,null,null,null,null,null,null,null,0,"23-25,9","24-31,9","24-27,9"]
[null,null,null,null,null,null,null,null,null,null,null,null,null,null,null,0,"23-25,9","24-31,9","24-27,9"]
[null,null,null,null,null,null,null,null,null,null,null,null,null,null,null,0,"23-25,9","24-31,9","24-27,9"]
[null,null,null,null,null,null,null,null,null,null,null,null,null,null,null,0,"23-25,9","24-31,9","24-27,9"]
[null,null,null,null,null,null,null,null,null,null,null,null,null,null,null,0,"23-25,9","24-31,9","24-27,9"]
[null,null,null,null,null,null,null,null,null,null,null,null,null,null,null,0,"23-25,9","24-31,9","24-27,9"]
[null,null,null,null,null,null,null,null,null,null,null,null,null,null,null,{"$f":"N1603+(O1603/7)","v":0},{"$f":"IF(P1603<25.9,\"23-25,9\",IF(P1603<27.9,\"26-27,9\",IF(P1603<31.9,\"28-31,9\",IF(P1603<34.9,\"32-34,9\",IF(P1603<36.9,\"35-36,9\",IF(P1603<40.2,\"37-40,2\",IF(P1603<42,\"40,3-42\",IF(P1603>=42,\">42\"))))))))","v":"23-25,9"},{"$f":"IF(P1603<31.9,\"24-31,9\",IF(P1603<42,\"32-42\",IF(P1603>=42,\">42\")))","v":"24-31,9"},{"$f":"IF(P1603<27.9,\"24-27,9\",IF(P1603<42,\"28-42\",IF(P1603>=42,\">42\")))","v":"24-27,9"}]
[null,null,null,null,null,null,null,null,null,null,null,null,null,null,null,0,"23-25,9","24-31,9","24-27,9"]
[null,null,null,null,null,null,null,null,null,null,null,null,null,null,null,0,"23-25,9","24-31,9","24-27,9"]
[null,null,null,null,null,null,null,null,null,null,null,null,null,null,null,0,"23-25,9","24-31,9","24-27,9"]
[null,null,null,null,null,null,null,null,null,null,null,null,null,null,null,0,"23-25,9","24-31,9","24-27,9"]
[null,null,null,null,null,null,null,null,null,null,null,null,null,null,null,0,"23-25,9","24-31,9","24-27,9"]
[null,null,null,null,null,null,null,null,null,null,null,null,null,null,null,0,"23-25,9","24-31,9","24-27,9"]
[null,null,null,null,null,null,null,null,null,null,null,null,null,null,null,0,"23-25,9","24-31,9","24-27,9"]
[null,null,null,null,null,null,null,null,null,null,null,null,null,null,null,0,"23-25,9","24-31,9","24-27,9"]
[null,null,null,null,null,null,null,null,null,null,null,null,null,null,null,0,"23-25,9","24-31,9","24-27,9"]
[null,null,null,null,null,null,null,null,null,null,null,null,null,null,null,0,"23-25,9","24-31,9","24-27,9"]
[null,null,null,null,null,null,null,null,null,null,null,null,null,null,null,0,"23-25,9","24-31,9","24-27,9"]
[null,null,null,null,null,null,null,null,null,null,null,null,null,null,null,0,"23-25,9","24-31,9","24-27,9"]
[null,null,null,null,null,null,null,null,null,null,null,null,null,null,null,0,"23-25,9","24-31,9","24-27,9"]
[null,null,null,null,null,null,null,null,null,null,null,null,null,null,null,0,"23-25,9","24-31,9","24-27,9"]
[null,null,null,null,null,null,null,null,null,null,null,null,null,null,null,0,"23-25,9","24-31,9","24-27,9"]
[null,null,null,null,null,null,null,null,null,null,null,null,null,null,null,0,"23-25,9","24-31,9","24-27,9"]
[null,null,null,null,null,null,null,null,null,null,null,null,null,null,null,0,"23-25,9","24-31,9","24-27,9"]
[null,null,null,null,null,null,null,null,null,null,null,null,null,null,null,0,"23-25,9","24-31,9","24-27,9"]
[null,null,null,null,null,null,null,null,null,null,null,null,null,null,null,0,"23-25,9","24-31,9","24-27,9"]
[null,null,null,null,null,null,null,null,null,null,null,null,null,null,null,0,"23-25,9","24-31,9","24-27,9"]
[null,null,null,null,null,null,null,null,null,null,null,null,null,null,null,0,"23-25,9","24-31,9","24-27,9"]
[null,null,null,null,null,null,null,null,null,null,null,null,null,null,null,0,"23-25,9","24-31,9","24-27,9"]
[null,null,null,null,null,null,null,null,null,null,null,null,null,null,null,0,"23-25,9","24-31,9","24-27,9"]
[null,null,null,null,null,null,null,null,null,null,null,null,null,null,null,0,"23-25,9","24-31,9","24-27,9"]
[null,null,null,null,null,null,null,null,null,null,null,null,null,null,null,0,"23-25,9","24-31,9","24-27,9"]
[null,null,null,null,null,null,null,null,null,null,null,null,null,null,null,0,"23-25,9","24-31,9","24-27,9"]
[null,null,null,null,null,null,null,null,null,null,null,null,null,null,null,0,"23-25,9","24-31,9","24-27,9"]
[null,null,null,null,null,null,null,null,null,null,null,null,null,null,null,0,"23-25,9","24-31,9","24-27,9"]
[null,null,null,null,null,null,null,null,null,null,null,null,null,null,null,0,"23-25,9","24-31,9","24-27,9"]
[null,null,null,null,null,null,null,null,null,null,null,null,null,null,null,0,"23-25,9","24-31,9","24-27,9"]
[null,null,null,null,null,null,null,null,null,null,null,null,null,null,null,0,"23-25,9","24-31,9","24-27,9"]
[null,null,null,null,null,null,null,null,null,null,null,null,null,null,null,0,"23-25,9","24-31,9","24-27,9"]
[null,null,null,null,null,null,null,null,null,null,null,null,null,null,null,0,"23-25,9","24-31,9","24-27,9"]
[null,null,null,null,null,null,null,null,null,null,null,null,null,null,null,0,"23-25,9","24-31,9","24-27,9"]
[null,null,null,null,null,null,null,null,null,null,null,null,null,null,null,0,"23-25,9","24-31,9","24-27,9"]
[null,null,null,null,null,null,null,null,null,null,null,null,null,null,null,0,"23-25,9","24-31,9","24-27,9"]
[null,null,null,null,null,null,null,null,null,null,null,null,null,null,null,0,"23-25,9","24-31,9","24-27,9"]
[null,null,null,null,null,null,null,null,null,null,null,null,null,null,null,0,"23-25,9","24-31,9","24-27,9"]
[null,null,null,null,null,null,null,null,null,null,null,null,null,null,null,0,"23-25,9","24-31,9","24-27,9"]
[null,null,null,null,null,null,null,null,null,null,null,null,null,null,null,0,"23-25,9","24-31,9","24-27,9"]
[null,null,null,null,null,null,null,null,null,null,null,null,null,null,null,0,"23-25,9","24-31,9","24-27,9"]
[null,null,null,null,null,null,null,null,null,null,null,null,null,null,null,0,"23-25,9","24-31,9","24-27,9"]
[null,null,null,null,null,null,null,null,null,null,null,null,null,null,null,0,"23-25,9","24-31,9","24-27,9"]
[null,null,null,null,null,null,null,null,null,null,null,null,null,null,null,0,"23-25,9","24-31,9","24-27,9"]
[null,null,null,null,null,null,null,null,null,null,null,null,null,null,null,0,"23-25,9","24-31,9","24-27,9"]
[null,null,null,null,null,null,null,null,null,null,null,null,null,null,null,0,"23-25,9","24-31,9","24-27,9"]
[null,null,null,null,null,null,null,null,null,null,null,null,null,null,null,0,"23-25,9","24-31,9","24-27,9"]
[null,null,null,null,null,null,null,null,null,null,null,null,null,null,null,0,"23-25,9","24-31,9","24-27,9"]
[null,null,null,null,null,null,null,null,null,null,null,null,null,null,null,0,"23-25,9","24-31,9","24-27,9"]
[null,null,null,null,null,null,null,null,null,null,null,null,null,null,null,0,"23-25,9","24-31,9","24-27,9"]
[null,null,null,null,null,null,null,null,null,null,null,null,null,null,null,0,"23-25,9","24-31,9","24-27,9"]
[null,null,null,null,null,null,null,null,null,null,null,null,null,null,null,0,"23-25,9","24-31,9","24-27,9"]
[null,null,null,null,null,null,null,null,null,null,null,null,null,null,null,0,"23-25,9","24-31,9","24-27,9"]
[null,null,null,null,null,null,null,null,null,null,null,null,null,null,null,0,"23-25,9","24-31,9","24-27,9"]
[null,null,null,null,null,null,null,null,null,null,null,null,null,null,null,0,"23-25,9","24-31,9","24-27,9"]
[null,null,null,null,null,null,null,null,null,null,null,null,null,null,null,0,"23-25,9","24-31,9","24-27,9"]
[null,null,null,null,null,null,null,null,null,null,null,null,null,null,null,0,"23-25,9","24-31,9","24-27,9"]
[null,null,null,null,null,null,null,null,null,null,null,null,null,null,null,0,"23-25,9","24-31,9","24-27,9"]
[null,null,null,null,null,null,null,null,null,null,null,null,null,null,null,0,"23-25,9","24-31,9","24-27,9"]
[null,null,null,null,null,null,null,null,null,null,null,null,null,null,null,0,"23-25,9","24-31,9","24-27,9"]
[null,null,null,null,null,null,null,null,null,null,null,null,null,null,null,0,"23-25,9","24-31,9","24-27,9"]
[null,null,null,null,null,null,null,null,null,null,null,null,null,null,null,0,"23-25,9","24-31,9","24-27,9"]
[null,null,null,null,null,null,null,null,null,null,null,null,null,null,null,0,"23-25,9","24-31,9","24-27,9"]
[null,null,null,null,null,null,null,null,null,null,null,null,null,null,null,{"$f":"N1667+(O1667/7)","v":0},{"$f":"IF(P1667<25.9,\"23-25,9\",IF(P1667<27.9,\"26-27,9\",IF(P1667<31.9,\"28-31,9\",IF(P1667<34.9,\"32-34,9\",IF(P1667<36.9,\"35-36,9\",IF(P1667<40.2,\"37-40,2\",IF(P1667<42,\"40,3-42\",IF(P1667>=42,\">42\"))))))))","v":"23-25,9"},{"$f":"IF(P1667<31.9,\"24-31,9\",IF(P1667<42,\"32-42\",IF(P1667>=42,\">42\")))","v":"24-31,9"},{"$f":"IF(P1667<27.9,\"24-27,9\",IF(P1667<42,\"28-42\",IF(P1667>=42,\">42\")))","v":"24-27,9"}]
[null,null,null,null,null,null,null,null,null,null,null,null,null,null,null,0,"23-25,9","24-31,9","24-27,9"]
[null,null,null,null,null,null,null,null,null,null,null,null,null,null,null,0,"23-25,9","24-31,9","24-27,9"]
[null,null,null,null,null,null,null,null,null,null,null,null,null,null,null,0,"23-25,9","24-31,9","24-27,9"]
[null,null,null,null,null,null,null,null,null,null,null,null,null,null,null,0,"23-25,9","24-31,9","24-27,9"]
[null,null,null,null,null,null,null,null,null,null,null,null,null,null,null,0,"23-25,9","24-31,9","24-27,9"]
[null,null,null,null,null,null,null,null,null,null,null,null,null,null,null,0,"23-25,9","24-31,9","24-27,9"]
[null,null,null,null,null,null,null,null,null,null,null,null,null,null,null,0,"23-25,9","24-31,9","24-27,9"]
[null,null,null,null,null,null,null,null,null,null,null,null,null,null,null,0,"23-25,9","24-31,9","24-27,9"]
[null,null,null,null,null,null,null,null,null,null,null,null,null,null,null,0,"23-25,9","24-31,9","24-27,9"]
[null,null,null,null,null,null,null,null,null,null,null,null,null,null,null,0,"23-25,9","24-31,9","24-27,9"]
[null,null,null,null,null,null,null,null,null,null,null,null,null,null,null,0,"23-25,9","24-31,9","24-27,9"]
[null,null,null,null,null,null,null,null,null,null,null,null,null,null,null,0,"23-25,9","24-31,9","24-27,9"]
[null,null,null,null,null,null,null,null,null,null,null,null,null,null,null,0,"23-25,9","24-31,9","24-27,9"]
[null,null,null,null,null,null,null,null,null,null,null,null,null,null,null,0,"23-25,9","24-31,9","24-27,9"]
[null,null,null,null,null,null,null,null,null,null,null,null,null,null,null,0,"23-25,9","24-31,9","24-27,9"]
[null,null,null,null,null,null,null,null,null,null,null,null,null,null,null,0,"23-25,9","24-31,9","24-27,9"]
[null,null,null,null,null,null,null,null,null,null,null,null,null,null,null,0,"23-25,9","24-31,9","24-27,9"]
[null,null,null,null,null,null,null,null,null,null,null,null,null,null,null,0,"23-25,9","24-31,9","24-27,9"]
[null,null,null,null,null,null,null,null,null,null,null,null,null,null,null,0,"23-25,9","24-31,9","24-27,9"]
[null,null,null,null,null,null,null,null,null,null,null,null,null,null,null,0,"23-25,9","24-31,9","24-27,9"]
[null,null,null,null,null,null,null,null,null,null,null,null,null,null,null,0,"23-25,9","24-31,9","24-27,9"]
[null,null,null,null,null,null,null,null,null,null,null,null,null,null,null,0,"23-25,9","24-31,9","24-27,9"]
[null,null,null,null,null,null,null,null,null,null,null,null,null,null,null,0,"23-25,9","24-31,9","24-27,9"]
[null,null,null,null,null,null,null,null,null,null,null,null,null,null,null,0,"23-25,9","24-31,9","24-27,9"]
[null,null,null,null,null,null,null,null,null,null,null,null,null,null,null,0,"23-25,9","24-31,9","24-27,9"]
[null,null,null,null,null,null,null,null,null,null,null,null,null,null,null,0,"23-25,9","24-31,9","24-27,9"]
[null,null,null,null,null,null,null,null,null,null,null,null,null,null,null,0,"23-25,9","24-31,9","24-27,9"]
[null,null,null,null,null,null,null,null,null,null,null,null,null,null,null,0,"23-25,9","24-31,9","24-27,9"]
[null,null,null,null,null,null,null,null,null,null,null,null,null,null,null,0,"23-25,9","24-31,9","24-27,9"]
[null,null,null,null,null,null,null,null,null,null,null,null,null,null,null,0,"23-25,9","24-31,9","24-27,9"]
[null,null,null,null,null,null,null,null,null,null,null,null,null,null,null,0,"23-25,9","24-31,9","24-27,9"]
[null,null,null,null,null,null,null,null,null,null,null,null,null,null,null,0,"23-25,9","24-31,9","24-27,9"]
[null,null,null,null,null,null,null,null,null,null,null,null,null,null,null,0,"23-25,9","24-31,9","24-27,9"]
[null,null,null,null,null,null,null,null,null,null,null,null,null,null,null,0,"23-25,9","24-31,9","24-27,9"]
[null,null,null,null,null,null,null,null,null,null,null,null,null,null,null,0,"23-25,9","24-31,9","24-27,9"]
[null,null,null,null,null,null,null,null,null,null,null,null,null,null,null,0,"23-25,9","24-31,9","24-27,9"]
[null,null,null,null,null,null,null,null,null,null,null,null,null,null,null,0,"23-25,9","24-31,9","24-27,9"]
[null,null,null,null,null,null,null,null,null,null,null,null,null,null,null,0,"23-25,9","24-31,9","24-27,9"]
[null,null,null,null,null,null,null,null,null,null,null,null,null,null,null,0,"23-25,9","24-31,9","24-27,9"]
[null,null,null,null,null,null,null,null,null,null,null,null,null,null,null,0,"23-25,9","24-31,9","24-27,9"]
[null,null,null,null,null,null,null,null,null,null,null,null,null,null,null,0,"23-25,9","24-31,9","24-27,9"]
[null,null,null,null,null,null,null,null,null,null,null,null,null,null,null,0,"23-25,9","24-31,9","24-27,9"]
[null,null,null,null,null,null,null,null,null,null,null,null,null,null,null,0,"23-25,9","24-31,9","24-27,9"]
[null,null,null,null,null,null,null,null,null,null,null,null,null,null,null,0,"23-25,9","24-31,9","24-27,9"]
[null,null,null,null,null,null,null,null,null,null,null,null,null,null,null,0,"23-25,9","24-31,9","24-27,9"]
[null,null,null,null,null,null,null,null,null,null,null,null,null,null,null,0,"23-25,9","24-31,9","24-27,9"]
[null,null,null,null,null,null,null,null,null,null,null,null,null,null,null,0,"23-25,9","24-31,9","24-27,9"]
[null,null,null,null,null,null,null,null,null,null,null,null,null,null,null,0,"23-25,9","24-31,9","24-27,9"]
[null,null,null,null,null,null,null,null,null,null,null,null,null,null,null,0,"23-25,9","24-31,9","24-27,9"]
[null,null,null,null,null,null,null,null,null,null,null,null,null,null,null,0,"23-25,9","24-31,9","24-27,9"]
[null,null,null,null,null,null,null,null,null,null,null,null,null,null,null,0,"23-25,9","24-31,9","24-27,9"]
[null,null,null,null,null,null,null,null,null,null,null,null,null,null,null,0,"23-25,9","24-31,9","24-27,9"]
[null,null,null,null,null,null,null,null,null,null,null,null,null,null,null,0,"23-25,9","24-31,9","24-27,9"]
[null,null,null,null,null,null,null,null,null,null,null,null,null,null,null,0,"23-25,9","24-31,9","24-27,9"]
[null,null,null,null,null,null,null,null,null,null,null,null,null,null,null,0,"23-25,9","24-31,9","24-27,9"]
[null,null,null,null,null,null,null,null,null,null,null,null,null,null,null,0,"23-25,9","24-31,9","24-27,9"]
[null,null,null,null,null,null,null,null,null,null,null,null,null,null,null,0,"23-25,9","24-31,9","24-27,9"]
[null,null,null,null,null,null,null,null,null,null,null,null,null,null,null,0,"23-25,9","24-31,9","24-27,9"]
[null,null,null,null,null,null,null,null,null,null,null,null,null,null,null,0,"23-25,9","24-31,9","24-27,9"]
[null,null,null,null,null,null,null,null,null,null,null,null,null,null,null,0,"23-25,9","24-31,9","24-27,9"]
[null,null,null,null,null,null,null,null,null,null,null,null,null,null,null,0,"23-25,9","24-31,9","24-27,9"]
[null,null,null,null,null,null,null,null,null,null,null,null,null,null,null,0,"23-25,9","24-31,9","24-27,9"]
[null,null,null,null,null,null,null,null,null,null,null,null,null,null,null,0,"23-25,9","24-31,9","24-27,9"]
[null,null,null,null,null,null,null,null,null,null,null,null,null,null,null,{"$f":"N1731+(O1731/7)","v":0},{"$f":"IF(P1731<25.9,\"23-25,9\",IF(P1731<27.9,\"26-27,9\",IF(P1731<31.9,\"28-31,9\",IF(P1731<34.9,\"32-34,9\",IF(P1731<36.9,\"35-36,9\",IF(P1731<40.2,\"37-40,2\",IF(P1731<42,\"40,3-42\",IF(P1731>=42,\">42\"))))))))","v":"23-25,9"},{"$f":"IF(P1731<31.9,\"24-31,9\",IF(P1731<42,\"32-42\",IF(P1731>=42,\">42\")))","v":"24-31,9"},{"$f":"IF(P1731<27.9,\"24-27,9\",IF(P1731<42,\"28-42\",IF(P1731>=42,\">42\")))","v":"24-27,9"}]
[null,null,null,null,null,null,null,null,null,null,null,null,null,null,null,0,"23-25,9","24-31,9","24-27,9"]
[null,null,null,null,null,null,null,null,null,null,null,null,null,null,null,0,"23-25,9","24-31,9","24-27,9"]
[null,null,null,null,null,null,null,null,null,null,null,null,null,null,null,0,"23-25,9","24-31,9","24-27,9"]
[null,null,null,null,null,null,null,null,null,null,null,null,null,null,null,0,"23-25,9","24-31,9","24-27,9"]
[null,null,null,null,null,null,null,null,null,null,null,null,null,null,null,0,"23-25,9","24-31,9","24-27,9"]
[null,null,null,null,null,null,null,null,null,null,null,null,null,null,null,0,"23-25,9","24-31,9","24-27,9"]
[null,null,null,null,null,null,null,null,null,null,null,null,null,null,null,0,"23-25,9","24-31,9","24-27,9"]
[null,null,null,null,null,null,null,null,null,null,null,null,null,null,null,0,"23-25,9","24-31,9","24-27,9"]
[null,null,null,null,null,null,null,null,null,null,null,null,null,null,null,0,"23-25,9","24-31,9","24-27,9"]
[null,null,null,null,null,null,null,null,null,null,null,null,null,null,null,0,"23-25,9","24-31,9","24-27,9"]
[null,null,null,null,null,null,null,null,null,null,null,null,null,null,null,0,"23-25,9","24-31,9","24-27,9"]
[null,null,null,null,null,null,null,null,null,null,null,null,null,null,null,0,"23-25,9","24-31,9","24-27,9"]
[null,null,null,null,null,null,null,null,null,null,null,null,null,null,null,0,"23-25,9","24-31,9","24-27,9"]
[null,null,null,null,null,null,null,null,null,null,null,null,null,null,null,0,"23-25,9","24-31,9","24-27,9"]
[null,null,null,null,null,null,null,null,null,null,null,null,null,null,null,0,"23-25,9","24-31,9","24-27,9"]
[null,null,null,null,null,null,null,null,null,null,null,null,null,null,null,0,"23-25,9","24-31,9","24-27,9"]
[null,null,null,null,null,null,null,null,null,null,null,null,null,null,null,0,"23-25,9","24-31,9","24-27,9"]
[null,null,null,null,null,null,null,null,null,null,null,null,null,null,null,0,"23-25,9","24-31,9","24-27,9"]
[null,null,null,null,null,null,null,null,null,null,null,null,null,null,null,0,"23-25,9","24-31,9","24-27,9"]
[null,null,null,null,null,null,null,null,null,null,null,null,null,null,null,0,"23-25,9","24-31,9","24-27,9"]
[null,null,null,null,null,null,null,null,null,null,null,null,null,null,null,0,"23-25,9","24-31,9","24-27,9"]
[null,null,null,null,null,null,null,null,null,null,null,null,null,null,null,0,"23-25,9","24-31,9","24-27,9"]
[null,null,null,null,null,null,null,null,null,null,null,null,null,null,null,0,"23-25,9","24-31,9","24-27,9"]
[null,null,null,null,null,null,null,null,null,null,null,null,null,null,null,0,"23-25,9","24-31,9","24-27,9"]
[null,null,null,null,null,null,null,null,null,null,null,null,null,null,null,0,"23-25,9","24-31,9","24-27,9"]
[null,null,null,null,null,null,null,null,null,null,null,null,null,null,null,0,"23-25,9","24-31,9","24-27,9"]
[null,null,null,null,null,null,null,null,null,null,null,null,null,null,null,0,"23-25,9","24-31,9","24-27,9"]
[null,null,null,null,null,null,null,null,null,null,null,null,null,null,null,0,"23-25,9","24-31,9","24-27,9"]
[null,null,null,null,null,null,null,null,null,null,null,null,null,null,null,0,"23-25,9","24-31,9","24-27,9"]
[null,null,null,null,null,null,null,null,null,null,null,null,null,null,null,0,"23-25,9","24-31,9","24-27,9"]
[null,null,null,null,null,null,null,null,null,null,null,null,null,null,null,0,"23-25,9","24-31,9","24-27,9"]
[null,null,null,null,null,null,null,null,null,null,null,null,null,null,null,0,"23-25,9","24-31,9","24-27,9"]
[null,null,null,null,null,null,null,null,null,null,null,null,null,null,null,0,"23-25,9","24-31,9","24-27,9"]
[null,null,null,null,null,null,null,null,null,null,null,null,null,null,null,0,"23-25,9","24-31,9","24-27,9"]
[null,null,null,null,null,null,null,null,null,null,null,null,null,null,null,0,"23-25,9","24-31,9","24-27,9"]
[null,null,null,null,null,null,null,null,null,null,null,null,null,null,null,0,"23-25,9","24-31,9","24-27,9"]
[null,null,null,null,null,null,null,null,null,null,null,null,null,null,null,0,"23-25,9","24-31,9","24-27,9"]
[null,null,null,null,null,null,null,null,null,null,null,null,null,null,null,0,"23-25,9","24-31,9","24-27,9"]
[null,null,null,null,null,null,null,null,null,null,null,null,null,null,null,0,"23-25,9","24-31,9","24-27,9"]
[null,null,null,null,null,null,null,null,null,null,null,null,null,null,null,0,"23-25,9","24-31,9","24-27,9"]
[null,null,null,null,null,null,null,null,null,null,null,null,null,null,null,0,"23-25,9","24-31,9","24-27,9"]
[null,null,null,null,null,null,null,null,null,null,null,null,null,null,null,0,"23-25,9","24-31,9","24-27,9"]
[null,null,null,null,null,null,null,null,null,null,null,null,null,null,null,0,"23-25,9","24-31,9","24-27,9"]
[null,null,null,null,null,null,null,null,null,null,null,null,null,null,null,0,"23-25,9","24-31,9","24-27,9"]
[null,null,null,null,null,null,null,null,null,null,null,null,null,null,null,0,"23-25,9","24-31,9","24-27,9"]
[null,null,null,null,null,null,null,null,null,null,null,null,null,null,null,0,"23-25,9","24-31,9","24-27,9"]
[null,null,null,null,null,null,null,null,null,null,null,null,null,null,null,0,"23-25,9","24-31,9","24-27,9"]
[null,null,null,null,null,null,null,null,null,null,null,null,null,null,null,0,"23-25,9","24-31,9","24-27,9"]
[null,null,null,null,null,null,null,null,null,null,null,null,null,null,null,0,"23-25,9","24-31,9","24-27,9"]
[null,null,null,null,null,null,null,null,null,null,null,null,null,null,null,0,"23-25,9","24-31,9","24-27,9"]
[null,null,null,null,null,null,null,null,null,null,null,null,null,null,null,0,"23-25,9","24-31,9","24-27,9"]
[null,null,null,null,null,null,null,null,null,null,null,null,null,null,null,0,"23-25,9","24-31,9","24-27,9"]
[null,null,null,null,null,null,null,null,null,null,null,null,null,null,null,0,"23-25,9","24-31,9","24-27,9"]
[null,null,null,null,null,null,null,null,null,null,null,null,null,null,null,0,"23-25,9","24-31,9","24-27,9"]
[null,null,null,null,null,null,null,null,null,null,null,null,null,null,null,0,"23-25,9","24-31,9","24-27,9"]
[null,null,null,null,null,null,null,null,null,null,null,null,null,null,null,0,"23-25,9","24-31,9","24-27,9"]
[null,null,null,null,null,null,null,null,null,null,null,null,null,null,null,0,"23-25,9","24-31,9","24-27,9"]
[null,null,null,null,null,null,null,null,null,null,null,null,null,null,null,0,"23-25,9","24-31,9","24-27,9"]
[null,null,null,null,null,null,null,null,null,null,null,null,null,null,null,0,"23-25,9","24-31,9","24-27,9"]
[null,null,null,null,null,null,null,null,null,null,null,null,null,null,null,0,"23-25,9","24-31,9","24-27,9"]
[null,null,null,null,null,null,null,null,null,null,null,null,null,null,null,0,"23-25,9","24-31,9","24-27,9"]
[null,null,null,null,null,null,null,null,null,null,null,null,null,null,null,0,"23-25,9","24-31,9","24-27,9"]
[null,null,null,null,null,null,null,null,null,null,null,null,null,null,null,0,"23-25,9","24-31,9","24-27,9"]
[null,null,null,null,null,null,null,null,null,null,null,null,null,null,null,{"$f":"N1795+(O1795/7)","v":0},{"$f":"IF(P1795<25.9,\"23-25,9\",IF(P1795<27.9,\"26-27,9\",IF(P1795<31.9,\"28-31,9\",IF(P1795<34.9,\"32-34,9\",IF(P1795<36.9,\"35-36,9\",IF(P1795<40.2,\"37-40,2\",IF(P1795<42,\"40,3-42\",IF(P1795>=42,\">42\"))))))))","v":"23-25,9"},{"$f":"IF(P1795<31.9,\"24-31,9\",IF(P1795<42,\"32-42\",IF(P1795>=42,\">42\")))","v":"24-31,9"},{"$f":"IF(P1795<27.9,\"24-27,9\",IF(P1795<42,\"28-42\",IF(P1795>=42,\">42\")))","v":"24-27,9"}]
[null,null,null,null,null,null,null,null,null,null,null,null,null,null,null,0,"23-25,9","24-31,9","24-27,9"]
[null,null,null,null,null,null,null,null,null,null,null,null,null,null,null,0,"23-25,9","24-31,9","24-27,9"]
[null,null,null,null,null,null,null,null,null,null,null,null,null,null,null,0,"23-25,9","24-31,9","24-27,9"]
[null,null,null,null,null,null,null,null,null,null,null,null,null,null,null,0,"23-25,9","24-31,9","24-27,9"]
[null,null,null,null,null,null,null,null,null,null,null,null,null,null,null,0,"23-25,9","24-31,9","24-27,9"]
[null,null,null,null,null,null,null,null,null,null,null,null,null,null,null,0,"23-25,9","24-31,9","24-27,9"]
[null,null,null,null,null,null,null,null,null,null,null,null,null,null,null,0,"23-25,9","24-31,9","24-27,9"]
[null,null,null,null,null,null,null,null,null,null,null,null,null,null,null,0,"23-25,9","24-31,9","24-27,9"]
[null,null,null,null,null,null,null,null,null,null,null,null,null,null,null,0,"23-25,9","24-31,9","24-27,9"]
[null,null,null,null,null,null,null,null,null,null,null,null,null,null,null,0,"23-25,9","24-31,9","24-27,9"]
[null,null,null,null,null,null,null,null,null,null,null,null,null,null,null,0,"23-25,9","24-31,9","24-27,9"]
[null,null,null,null,null,null,null,null,null,null,null,null,null,null,null,0,"23-25,9","24-31,9","24-27,9"]
[null,null,null,null,null,null,null,null,null,null,null,null,null,null,null,0,"23-25,9","24-31,9","24-27,9"]
[null,null,null,null,null,null,null,null,null,null,null,null,null,null,null,0,"23-25,9","24-31,9","24-27,9"]
[null,null,null,null,null,null,null,null,null,null,null,null,null,null,null,0,"23-25,9","24-31,9","24-27,9"]
[null,null,null,null,null,null,null,null,null,null,null,null,null,null,null,0,"23-25,9","24-31,9","24-27,9"]
[null,null,null,null,null,null,null,null,null,null,null,null,null,null,null,0,"23-25,9","24-31,9","24-27,9"]
[null,null,null,null,null,null,null,null,null,null,null,null,null,null,null,0,"23-25,9","24-31,9","24-27,9"]
[null,null,null,null,null,null,null,null,null,null,null,null,null,null,null,0,"23-25,9","24-31,9","24-27,9"]
[null,null,null,null,null,null,null,null,null,null,null,null,null,null,null,0,"23-25,9","24-31,9","24-27,9"]
[null,null,null,null,null,null,null,null,null,null,null,null,null,null,null,0,"23-25,9","24-31,9","24-27,9"]
[null,null,null,null,null,null,null,null,null,null,null,null,null,null,null,0,"23-25,9","24-31,9","24-27,9"]
[null,null,null,null,null,null,null,null,null,null,null,null,null,null,null,0,"23-25,9","24-31,9","24-27,9"]
[null,null,null,null,null,null,null,null,null,null,null,null,null,null,null,0,"23-25,9","24-31,9","24-27,9"]
[null,null,null,null,null,null,null,null,null,null,null,null,null,null,null,0,"23-25,9","24-31,9","24-27,9"]
[null,null,null,null,null,null,null,null,null,null,null,null,null,null,null,0,"23-25,9","24-31,9","24-27,9"]
[null,null,null,null,null,null,null,null,null,null,null,null,null,null,null,0,"23-25,9","24-31,9","24-27,9"]
[null,null,null,null,null,null,null,null,null,null,null,null,null,null,null,0,"23-25,9","24-31,9","24-27,9"]
[null,null,null,null,null,null,null,null,null,null,null,null,null,null,null,0,"23-25,9","24-31,9","24-27,9"]
[null,null,null,null,null,null,null,null,null,null,null,null,null,null,null,0,"23-25,9","24-31,9","24-27,9"]
[null,null,null,null,null,null,null,null,null,null,null,null,null,null,null,0,"23-25,9","24-31,9","24-27,9"]
[null,null,null,null,null,null,null,null,null,null,null,null,null,null,null,0,"23-25,9","24-31,9","24-27,9"]
[null,null,null,null,null,null,null,null,null,null,null,null,null,null,null,0,"23-25,9","24-31,9","24-27,9"]
[null,null,null,null,null,null,null,null,null,null,null,null,null,null,null,0,"23-25,9","24-31,9","24-27,9"]
[null,null,null,null,null,null,null,null,null,null,null,null,null,null,null,0,"23-25,9","24-31,9","24-27,9"]
[null,null,null,null,null,null,null,null,null,null,null,null,null,null,null,0,"23-25,9","24-31,9","24-27,9"]
[null,null,null,null,null,null,null,null,null,null,null,null,null,null,null,0,"23-25,9","24-31,9","24-27,9"]
[null,null,null,null,null,null,null,null,null,null,null,null,null,null,null,0,"23-25,9","24-31,9","24-27,9"]
[null,null,null,null,null,null,null,null,null,null,null,null,null,null,null,0,"23-25,9","24-31,9","24-27,9"]
[null,null,null,null,null,null,null,null,null,null,null,null,null,null,null,0,"23-25,9","24-31,9","24-27,9"]
[null,null,null,null,null,null,null,null,null,null,null,null,null,null,null,0,"23-25,9","24-31,9","24-27,9"]
[null,null,null,null,null,null,null,null,null,null,null,null,null,null,null,0,"23-25,9","24-31,9","24-27,9"]
[null,null,null,null,null,null,null,null,null,null,null,null,null,null,null,0,"23-25,9","24-31,9","24-27,9"]
[null,null,null,null,null,null,null,null,null,null,null,null,null,null,null,0,"23-25,9","24-31,9","24-27,9"]
[null,null,null,null,null,null,null,null,null,null,null,null,null,null,null,0,"23-25,9","24-31,9","24-27,9"]
[null,null,null,null,null,null,null,null,null,null,null,null,null,null,null,0,"23-25,9","24-31,9","24-27,9"]
[null,null,null,null,null,null,null,null,null,null,null,null,null,null,null,0,"23-25,9","24-31,9","24-27,9"]
[null,null,null,null,null,null,null,null,null,null,null,null,null,null,null,0,"23-25,9","24-31,9","24-27,9"]
[null,null,null,null,null,null,null,null,null,null,null,null,null,null,null,0,"23-25,9","24-31,9","24-27,9"]
[null,null,null,null,null,null,null,null,null,null,null,null,null,null,null,0,"23-25,9","24-31,9","24-27,9"]
[null,null,null,null,null,null,null,null,null,null,null,null,null,null,null,0,"23-25,9","24-31,9","24-27,9"]
[null,null,null,null,null,null,null,null,null,null,null,null,null,null,null,0,"23-25,9","24-31,9","24-27,9"]
[null,null,null,null,null,null,null,null,null,null,null,null,null,null,null,0,"23-25,9","24-31,9","24-27,9"]
[null,null,null,null,null,null,null,null,null,null,null,null,null,null,null,0,"23-25,9","24-31,9","24-27,9"]
[null,null,null,null,null,null,null,null,null,null,null,null,null,null,null,0,"23-25,9","24-31,9","24-27,9"]
[null,null,null,null,null,null,null,null,null,null,null,null,null,null,null,0,"23-25,9","24-31,9","24-27,9"]
[null,null,null,null,null,null,null,null,null,null,null,null,null,null,null,0,"23-25,9","24-31,9","24-27,9"]
[null,null,null,null,null,null,null,null,null,null,null,null,null,null,null,0,"23-25,9","24-31,9","24-27,9"]
[null,null,null,null,null,null,null,null,null,null,null,null,null,null,null,0,"23-25,9","24-31,9","24-27,9"]
[null,null,null,null,null,null,null,null,null,null,null,null,null,null,null,0,"23-25,9","24-31,9","24-27,9"]
[null,null,null,null,null,null,null,null,null,null,null,null,null,null,null,0,"23-25,9","24-31,9","24-27,9"]
[null,null,null,null,null,null,null,null,null,null,null,null,null,null,null,0,"23-25,9","24-31,9","24-27,9"]
[null,null,null,null,null,null,null,null,null,null,null,null,null,null,null,0,"23-25,9","24-31,9","24-27,9"]
[null,null,null,null,null,null,null,null,null,null,null,null,null,null,null,{"$f":"N1859+(O1859/7)","v":0},{"$f":"IF(P1859<25.9,\"23-25,9\",IF(P1859<27.9,\"26-27,9\",IF(P1859<31.9,\"28-31,9\",IF(P1859<34.9,\"32-34,9\",IF(P1859<36.9,\"35-36,9\",IF(P1859<40.2,\"37-40,2\",IF(P1859<42,\"40,3-42\",IF(P1859>=42,\">42\"))))))))","v":"23-25,9"},{"$f":"IF(P1859<31.9,\"24-31,9\",IF(P1859<42,\"32-42\",IF(P1859>=42,\">42\")))","v":"24-31,9"},{"$f":"IF(P1859<27.9,\"24-27,9\",IF(P1859<42,\"28-42\",IF(P1859>=42,\">42\")))","v":"24-27,9"}]
[null,null,null,null,null,null,null,null,null,null,null,null,null,null,null,0,"23-25,9","24-31,9","24-27,9"]
[null,null,null,null,null,null,null,null,null,null,null,null,null,null,null,0,"23-25,9","24-31,9","24-27,9"]
[null,null,null,null,null,null,null,null,null,null,null,null,null,null,null,0,"23-25,9","24-31,9","24-27,9"]
[null,null,null,null,null,null,null,null,null,null,null,null,null,null,null,0,"23-25,9","24-31,9","24-27,9"]
[null,null,null,null,null,null,null,null,null,null,null,null,null,null,null,0,"23-25,9","24-31,9","24-27,9"]
[null,null,null,null,null,null,null,null,null,null,null,null,null,null,null,0,"23-25,9","24-31,9","24-27,9"]
[null,null,null,null,null,null,null,null,null,null,null,null,null,null,null,0,"23-25,9","24-31,9","24-27,9"]
[null,null,null,null,null,null,null,null,null,null,null,null,null,null,null,0,"23-25,9","24-31,9","24-27,9"]
[null,null,null,null,null,null,null,null,null,null,null,null,null,null,null,0,"23-25,9","24-31,9","24-27,9"]
[null,null,null,null,null,null,null,null,null,null,null,null,null,null,null,0,"23-25,9","24-31,9","24-27,9"]
[null,null,null,null,null,null,null,null,null,null,null,null,null,null,null,0,"23-25,9","24-31,9","24-27,9"]
[null,null,null,null,null,null,null,null,null,null,null,null,null,null,null,0,"23-25,9","24-31,9","24-27,9"]
[null,null,null,null,null,null,null,null,null,null,null,null,null,null,null,0,"23-25,9","24-31,9","24-27,9"]
[null,null,null,null,null,null,null,null,null,null,null,null,null,null,null,0,"23-25,9","24-31,9","24-27,9"]
[null,null,null,null,null,null,null,null,null,null,null,null,null,null,null,0,"23-25,9","24-31,9","24-27,9"]
[null,null,null,null,null,null,null,null,null,null,null,null,null,null,null,0,"23-25,9","24-31,9","24-27,9"]
[null,null,null,null,null,null,null,null,null,null,null,null,null,null,null,0,"23-25,9","24-31,9","24-27,9"]
[null,null,null,null,null,null,null,null,null,null,null,null,null,null,null,0,"23-25,9","24-31,9","24-27,9"]
[null,null,null,null,null,null,null,null,null,null,null,null,null,null,null,0,"23-25,9","24-31,9","24-27,9"]
[null,null,null,null,null,null,null,null,null,null,null,null,null,null,null,0,"23-25,9","24-31,9","24-27,9"]
[null,null,null,null,null,null,null,null,null,null,null,null,null,null,null,0,"23-25,9","24-31,9","24-27,9"]
[null,null,null,null,null,null,null,null,null,null,null,null,null,null,null,0,"23-25,9","24-31,9","24-27,9"]
[null,null,null,null,null,null,null,null,null,null,null,null,null,null,null,0,"23-25,9","24-31,9","24-27,9"]
[null,null,null,null,null,null,null,null,null,null,null,null,null,null,null,0,"23-25,9","24-31,9","24-27,9"]
[null,null,null,null,null,null,null,null,null,null,null,null,null,null,null,0,"23-25,9","24-31,9","24-27,9"]
[null,null,null,null,null,null,null,null,null,null,null,null,null,null,null,0,"23-25,9","24-31,9","24-27,9"]
[null,null,null,null,null,null,null,null,null,null,null,null,null,null,null,0,"23-25,9","24-31,9","24-27,9"]
[null,null,null,null,null,null,null,null,null,null,null,null,null,null,null,0,"23-25,9","24-31,9","24-27,9"]
[null,null,null,null,null,null,null,null,null,null,null,null,null,null,null,0,"23-25,9","24-31,9","24-27,9"]
[null,null,null,null,null,null,null,null,null,null,null,null,null,null,null,0,"23-25,9","24-31,9","24-27,9"]
[null,null,null,null,null,null,null,null,null,null,null,null,null,null,null,0,"23-25,9","24-31,9","24-27,9"]
[null,null,null,null,null,null,null,null,null,null,null,null,null,null,null,0,"23-25,9","24-31,9","24-27,9"]
[null,null,null,null,null,null,null,null,null,null,null,null,null,null,null,0,"23-25,9","24-31,9","24-27,9"]
[null,null,null,null,null,null,null,null,null,null,null,null,null,null,null,0,"23-25,9","24-31,9","24-27,9"]
[null,null,null,null,null,null,null,null,null,null,null,null,null,null,null,0,"23-25,9","24-31,9","24-27,9"]
[null,null,null,null,null,null,null,null,null,null,null,null,null,null,null,0,"23-25,9","24-31,9","24-27,9"]
[null,null,null,null,null,null,null,null,null,null,null,null,null,null,null,0,"23-25,9","24-31,9","24-27,9"]
[null,null,null,null,null,null,null,null,null,null,null,null,null,null,null,0,"23-25,9","24-31,9","24-27,9"]
[null,null,null,null,null,null,null,null,null,null,null,null,null,null,null,0,"23-25,9","24-31,9","24-27,9"]
[null,null,null,null,null,null,null,null,null,null,null,null,null,null,null,0,"23-25,9","24-31,9","24-27,9"]
[null,null,null,null,null,null,null,null,null,null,null,null,null,null,null,0,"23-25,9","24-31,9","24-27,9"]
[null,null,null,null,null,null,null,null,null,null,null,null,null,null,null,0,"23-25,9","24-31,9","24-27,9"]
[null,null,null,null,null,null,null,null,null,null,null,null,null,null,null,0,"23-25,9","24-31,9","24-27,9"]
[null,null,null,null,null,null,null,null,null,null,null,null,null,null,null,0,"23-25,9","24-31,9","24-27,9"]
[null,null,null,null,null,null,null,null,null,null,null,null,null,null,null,0,"23-25,9","24-31,9","24-27,9"]
[null,null,null,null,null,null,null,null,null,null,null,null,null,null,null,0,"23-25,9","24-31,9","24-27,9"]
[null,null,null,null,null,null,null,null,null,null,null,null,null,null,null,0,"23-25,9","24-31,9","24-27,9"]
[null,null,null,null,null,null,null,null,null,null,null,null,null,null,null,0,"23-25,9","24-31,9","24-27,9"]
[null,null,null,null,null,null,null,null,null,null,null,null,null,null,null,0,"23-25,9","24-31,9","24-27,9"]
[null,null,null,null,null,null,null,null,null,null,null,null,null,null,null,0,"23-25,9","24-31,9","24-27,9"]
[null,null,null,null,null,null,null,null,null,null,null,null,null,null,null,0,"23-25,9","24-31,9","24-27,9"]
[null,null,null,null,null,null,null,null,null,null,null,null,null,null,null,0,"23-25,9","24-31,9","24-27,9"]
[null,null,null,null,null,null,null,null,null,null,null,null,null,null,null,0,"23-25,9","24-31,9","24-27,9"]
[null,null,null,null,null,null,null,null,null,null,null,null,null,null,null,0,"23-25,9","24-31,9","24-27,9"]
[null,null,null,null,null,null,null,null,null,null,null,null,null,null,null,0,"23-25,9","24-31,9","24-27,9"]
[null,null,null,null,null,null,null,null,null,null,null,null,null,null,null,0,"23-25,9","24-31,9","24-27,9"]
[null,null,null,null,null,null,null,null,null,null,null,null,null,null,null,0,"23-25,9","24-31,9","24-27,9"]
[null,null,null,null,null,null,null,null,null,null,null,null,null,null,null,0,"23-25,9","24-31,9","24-27,9"]
[null,null,null,null,null,null,null,null,null,null,null,null,null,null,null,0,"23-25,9","24-31,9","24-27,9"]
[null,null,null,null,null,null,null,null,null,null,null,null,null,null,null,0,"23-25,9","24-31,9","24-27,9"]
[null,null,null,null,null,null,null,null,null,null,null,null,null,null,null,0,"23-25,9","24-31,9","24-27,9"]
[null,null,null,null,null,null,null,null,null,null,null,null,null,null,null,0,"23-25,9","24-31,9","24-27,9"]
[null,null,null,null,null,null,null,null,null,null,null,null,null,null,null,0,"23-25,9","24-31,9","24-27,9"]
[null,null,null,null,null,null,null,null,null,null,null,null,null,null,null,{"$f":"N1923+(O1923/7)","v":0},{"$f":"IF(P1923<25.9,\"23-25,9\",IF(P1923<27.9,\"26-27,9\",IF(P1923<31.9,\"28-31,9\",IF(P1923<34.9,\"32-34,9\",IF(P1923<36.9,\"35-36,9\",IF(P1923<40.2,\"37-40,2\",IF(P1923<42,\"40,3-42\",IF(P1923>=42,\">42\"))))))))","v":"23-25,9"},{"$f":"IF(P1923<31.9,\"24-31,9\",IF(P1923<42,\"32-42\",IF(P1923>=42,\">42\")))","v":"24-31,9"},{"$f":"IF(P1923<27.9,\"24-27,9\",IF(P1923<42,\"28-42\",IF(P1923>=42,\">42\")))","v":"24-27,9"}]
[null,null,null,null,null,null,null,null,null,null,null,null,null,null,null,0,"23-25,9","24-31,9","24-27,9"]
[null,null,null,null,null,null,null,null,null,null,null,null,null,null,null,0,"23-25,9","24-31,9","24-27,9"]
[null,null,null,null,null,null,null,null,null,null,null,null,null,null,null,0,"23-25,9","24-31,9","24-27,9"]
[null,null,null,null,null,null,null,null,null,null,null,null,null,null,null,0,"23-25,9","24-31,9","24-27,9"]
[null,null,null,null,null,null,null,null,null,null,null,null,null,null,null,0,"23-25,9","24-31,9","24-27,9"]
[null,null,null,null,null,null,null,null,null,null,null,null,null,null,null,0,"23-25,9","24-31,9","24-27,9"]
[null,null,null,null,null,null,null,null,null,null,null,null,null,null,null,0,"23-25,9","24-31,9","24-27,9"]
[null,null,null,null,null,null,null,null,null,null,null,null,null,null,null,0,"23-25,9","24-31,9","24-27,9"]
[null,null,null,null,null,null,null,null,null,null,null,null,null,null,null,0,"23-25,9","24-31,9","24-27,9"]
[null,null,null,null,null,null,null,null,null,null,null,null,null,null,null,0,"23-25,9","24-31,9","24-27,9"]
[null,null,null,null,null,null,null,null,null,null,null,null,null,null,null,0,"23-25,9","24-31,9","24-27,9"]
[null,null,null,null,null,null,null,null,null,null,null,null,null,null,null,0,"23-25,9","24-31,9","24-27,9"]
[null,null,null,null,null,null,null,null,null,null,null,null,null,null,null,0,"23-25,9","24-31,9","24-27,9"]
[null,null,null,null,null,null,null,null,null,null,null,null,null,null,null,0,"23-25,9","24-31,9","24-27,9"]
[null,null,null,null,null,null,null,null,null,null,null,null,null,null,null,0,"23-25,9","24-31,9","24-27,9"]
[null,null,null,null,null,null,null,null,null,null,null,null,null,null,null,0,"23-25,9","24-31,9","24-27,9"]
[null,null,null,null,null,null,null,null,null,null,null,null,null,null,null,0,"23-25,9","24-31,9","24-27,9"]
[null,null,null,null,null,null,null,null,null,null,null,null,null,null,null,0,"23-25,9","24-31,9","24-27,9"]
[null,null,null,null,null,null,null,null,null,null,null,null,null,null,null,0,"23-25,9","24-31,9","24-27,9"]
[null,null,null,null,null,null,null,null,null,null,null,null,null,null,null,0,"23-25,9","24-31,9","24-27,9"]
[null,null,null,null,null,null,null,null,null,null,null,null,null,null,null,0,"23-25,9","24-31,9","24-27,9"]
[null,null,null,null,null,null,null,null,null,null,null,null,null,null,null,0,"23-25,9","24-31,9","24-27,9"]
[null,null,null,null,null,null,null,null,null,null,null,null,null,null,null,0,"23-25,9","24-31,9","24-27,9"]
[null,null,null,null,null,null,null,null,null,null,null,null,null,null,null,0,"23-25,9","24-31,9","24-27,9"]
[null,null,null,null,null,null,null,null,null,null,null,null,null,null,null,0,"23-25,9","24-31,9","24-27,9"]
[null,null,null,null,null,null,null,null,null,null,null,null,null,null,null,0,"23-25,9","24-31,9","24-27,9"]
[null,null,null,null,null,null,null,null,null,null,null,null,null,null,null,0,"23-25,9","24-31,9","24-27,9"]
[null,null,null,null,null,null,null,null,null,null,null,null,null,null,null,0,"23-25,9","24-31,9","24-27,9"]
[null,null,null,null,null,null,null,null,null,null,null,null,null,null,null,0,"23-25,9","24-31,9","24-27,9"]
[null,null,null,null,null,null,null,null,null,null,null,null,null,null,null,0,"23-25,9","24-31,9","24-27,9"]
[null,null,null,null,null,null,null,null,null,null,null,null,null,null,null,0,"23-25,9","24-31,9","24-27,9"]
[null,null,null,null,null,null,null,null,null,null,null,null,null,null,null,0,"23-25,9","24-31,9","24-27,9"]
[null,null,null,null,null,null,null,null,null,null,null,null,null,null,null,0,"23-25,9","24-31,9","24-27,9"]
[null,null,null,null,null,null,null,null,null,null,null,null,null,null,null,0,"23-25,9","24-31,9","24-27,9"]
[null,null,null,null,null,null,null,null,null,null,null,null,null,null,null,0,"23-25,9","24-31,9","24-27,9"]
[null,null,null,null,null,null,null,null,null,null,null,null,null,null,null,0,"23-25,9","24-31,9","24-27,9"]
[null,null,null,null,null,null,null,null,null,null,null,null,null,null,null,0,"23-25,9","24-31,9","24-27,9"]
[null,null,null,null,null,null,null,null,null,null,null,null,null,null,null,0,"23-25,9","24-31,9","24-27,9"]
[null,null,null,null,null,null,null,null,null,null,null,null,null,null,null,0,"23-25,9","24-31,9","24-27,9"]
[null,null,null,null,null,null,null,null,null,null,null,null,null,null,null,0,"23-25,9","24-31,9","24-27,9"]
[null,null,null,null,null,null,null,null,null,null,null,null,null,null,null,0,"23-25,9","24-31,9","24-27,9"]
[null,null,null,null,null,null,null,null,null,null,null,null,null,null,null,0,"23-25,9","24-31,9","24-27,9"]
[null,null,null,null,null,null,null,null,null,null,null,null,null,null,null,0,"23-25,9","24-31,9","24-27,9"]
[null,null,null,null,null,null,null,null,null,null,null,null,null,null,null,0,"23-25,9","24-31,9","24-27,9"]
[null,null,null,null,null,null,null,null,null,null,null,null,null,null,null,0,"23-25,9","24-31,9","24-27,9"]
[null,null,null,null,null,null,null,null,null,null,null,null,null,null,null,0,"23-25,9","24-31,9","24-27,9"]
[null,null,null,null,null,null,null,null,null,null,null,null,null,null,null,0,"23-25,9","24-31,9","24-27,9"]
[null,null,null,null,null,null,null,null,null,null,null,null,null,null,null,0,"23-25,9","24-31,9","24-27,9"]
[null,null,null,null,null,null,null,null,null,null,null,null,null,null,null,0,"23-25,9","24-31,9","24-27,9"]
[null,null,null,null,null,null,null,null,null,null,null,null,null,null,null,0,"23-25,9","24-31,9","24-27,9"]
[null,null,null,null,null,null,null,null,null,null,null,null,null,null,null,0,"23-25,9","24-31,9","24-27,9"]
[null,null,null,null,null,null,null,null,null,null,null,null,null,null,null,0,"23-25,9","24-31,9","24-27,9"]
[null,null,null,null,null,null,null,null,null,null,null,null,null,null,null,0,"23-25,9","24-31,9","24-27,9"]
[null,null,null,null,null,null,null,null,null,null,null,null,null,null,null,0,"23-25,9","24-31,9","24-27,9"]
[null,null,null,null,null,null,null,null,null,null,null,null,null,null,null,0,"23-25,9","24-31,9","24-27,9"]
[null,null,null,null,null,null,null,null,null,null,null,null,null,null,null,0,"23-25,9","24-31,9","24-27,9"]
[null,null,null,null,null,null,null,null,null,null,null,null,null,null,null,0,"23-25,9","24-31,9","24-27,9"]
[null,null,null,null,null,null,null,null,null,null,null,null,null,null,null,0,"23-25,9","24-31,9","24-27,9"]
[null,null,null,null,null,null,null,null,null,null,null,null,null,null,null,0,"23-25,9","24-31,9","24-27,9"]
[null,null,null,null,null,null,null,null,null,null,null,null,null,null,null,0,"23-25,9","24-31,9","24-27,9"]
[null,null,null,null,null,null,null,null,null,null,null,null,null,null,null,0,"23-25,9","24-31,9","24-27,9"]
[null,null,null,null,null,null,null,null,null,null,null,null,null,null,null,0,"23-25,9","24-31,9","24-27,9"]
[null,null,null,null,null,null,null,null,null,null,null,null,null,null,null,0,"23-25,9","24-31,9","24-27,9"]
[null,null,null,null,null,null,null,null,null,null,null,null,null,null,null,{"$f":"N1987+(O1987/7)","v":0},{"$f":"IF(P1987<25.9,\"23-25,9\",IF(P1987<27.9,\"26-27,9\",IF(P1987<31.9,\"28-31,9\",IF(P1987<34.9,\"32-34,9\",IF(P1987<36.9,\"35-36,9\",IF(P1987<40.2,\"37-40,2\",IF(P1987<42,\"40,3-42\",IF(P1987>=42,\">42\"))))))))","v":"23-25,9"},{"$f":"IF(P1987<31.9,\"24-31,9\",IF(P1987<42,\"32-42\",IF(P1987>=42,\">42\")))","v":"24-31,9"},{"$f":"IF(P1987<27.9,\"24-27,9\",IF(P1987<42,\"28-42\",IF(P1987>=42,\">42\")))","v":"24-27,9"}]
[null,null,null,null,null,null,null,null,null,null,null,null,null,null,null,0,"23-25,9","24-31,9","24-27,9"]
[null,null,null,null,null,null,null,null,null,null,null,null,null,null,null,0,"23-25,9","24-31,9","24-27,9"]
[null,null,null,null,null,null,null,null,null,null,null,null,null,null,null,0,"23-25,9","24-31,9","24-27,9"]
[null,null,null,null,null,null,null,null,null,null,null,null,null,null,null,0,"23-25,9","24-31,9","24-27,9"]
[null,null,null,null,null,null,null,null,null,null,null,null,null,null,null,0,"23-25,9","24-31,9","24-27,9"]
[null,null,null,null,null,null,null,null,null,null,null,null,null,null,null,0,"23-25,9","24-31,9","24-27,9"]
[null,null,null,null,null,null,null,null,null,null,null,null,null,null,null,0,"23-25,9","24-31,9","24-27,9"]
[null,null,null,null,null,null,null,null,null,null,null,null,null,null,null,0,"23-25,9","24-31,9","24-27,9"]
[null,null,null,null,null,null,null,null,null,null,null,null,null,null,null,0,"23-25,9","24-31,9","24-27,9"]
[null,null,null,null,null,null,null,null,null,null,null,null,null,null,null,0,"23-25,9","24-31,9","24-27,9"]
[null,null,null,null,null,null,null,null,null,null,null,null,null,null,null,0,"23-25,9","24-31,9","24-27,9"]
[null,null,null,null,null,null,null,null,null,null,null,null,null,null,null,0,"23-25,9","24-31,9","24-27,9"]
[null,null,null,null,null,null,null,null,null,null,null,null,null,null,null,0,"23-25,9","24-31,9","24-27,9"]
[null,null,null,null,null,null,null,null,null,null,null,null,null,null,null,0,"23-25,9","24-31,9","24-27,9"]
[null,null,null,null,null,null,null,null,null,null,null,null,null,null,null,0,"23-25,9","24-31,9","24-27,9"]
[null,null,null,null,null,null,null,null,null,null,null,null,null,null,null,0,"23-25,9","24-31,9","24-27,9"]

{"sheet":"Validation de données","index":3,"n_rows":124,"n_cols":42,"rows_kept":124,"cut":false,"hidden":false,"merged":[[0,0,0,6],[74,0,74,6],[82,33,83,33],[107,0,107,6]]}
["APPELS"]
["SF","Motif ","Demandeur/receveur ","Niveau ","Si TNN III ","OUI/NON ","Poids NN","Type GG ou T ","Type de suivi ","Si T non réalisé ","Type de vecteur ","Nom du vecteur ","n° SAMU sollicité ","T Réalisé Type ","Cause Extra Réseau ","Motif si délai >3H "]
["EH","TIU","NAP","I","Néonat ","OUI","< 500g","GG MC MA","Méd Gé","Non indiqué ",1,"SAMU","01","T.INTRA.RES","Demande la patiente ou de la famille ","Vecteur non disponible "]
["MC","TNN","AEB","IIA","Soins Intensifs ","NON ","500-999g","GG BC MA","Gynec vill","Contre indiqué ",2,"AMBU ","03","T.EXTRA.RES INTRA RA","Proximité géograhique du domicile ","Transfert de plus de 200 Km aller retour "]
["AC","TPN","ALBE","IIB","Réa Néonat",null,"1000-1499g","GG BC BA","Gynec hop","Annulé amélioration ",3,"AMBU PARA","05","dem intra.ra/REC EXTRA.RA.NAT","Transfert en service hautement spécialisé (cardio,chir..) ","Délai de mise en condition n-né ou mère "]
["SA","TER","ANNEC CLIN","III","Réa Ped ",null,"1500-1999g","GG MC BA","Gynec clin ","Annulé aggravation ","NAP ","Autre ","07","DEM EXTRA.RA.NAT/rec intra.ra","Rapprochement mère enfant ou rapprochement jumeaux ","Conditions météos exceptionelles "]
["CD","DTNN","ANNEC HOP","IV","Non Précisé",null,"≥ 2000g","T MC MA","0 Suivi ","Refus demandeur ",null,"NAP ",13,"T.EXTRA.RA.NAT","Accord demandeur/receveur hors cellule ","T diféré à la demande du receveur "]
["CC","DTIU","ANNEM CLIN","CP","Autre ",null,"Non Communiqué ","T TC MA","Autre ","Refus patient ",null,null,"15","T.INTERNAT","Manque de place dans réseau demandeur à niveau équivalent ","T non urgent, diféré aux heures ouvrables "]
["JB","RETIU","ANNEM HOP","AUTRE",null,null,"NAP","T BC BA",null,"Transfert différé faute de place ",null,null,21,"T. NON REALISE ","Manque de place en RA à niveau équivalent ","Nécessité d'un renfort SAMU "]
["AB","RETNN","ANNO","NAP ",null,null,null,"T BC TA",null,"Autre ",null,null,25,null,"Rappatriment sannitaire ","Dysfonction vecteur (panne,dysrégulation)"]
["NL","Autre ","AUBE",null,null,null,null,"Non Communiqué ",null,null,null,null,26,null,"Retour réseau d'origine ","Oubli de l'appel du vecteur par le demandeur "]
["PG",null,"AUV AUR",null,null,"OUI",null,null,null,null,null,null,30,null,"Patiente suivie au DAN dans ce réseau ","Délai pour trouver une place "]
[null,null,"AUV CHAT",null,null,"NON ",null,null,null,null,null,null,38,null,"Autre ","NAP "]
[null,null,"AUV ISSO",null,null,"T.HORS CELLULE ",null,null,null,null,null,null,39,null,null,"Autre "]
[null,null,"AUV MONTLU",null,null,null,null,null,null,null,null,null,42]
[null,null,"AUV MOUL",null,null,null,null,"Singleton",null,"Temps Place trouvée ","Stratif délai ",null,43]
[null,null,"AUV ST FLO",null,null,null,null,"Unique",null,"0-15","0-60",null,63]
[null,null,"AUV AUR",null,null,null,null,"Gemellaire ",null,"16-30","1h01 - 2h",null,30]
[null,null,"AUV VICH",null,null,null,null,"Triple",null,"31-60","2h01 - 3h",null,69]
[null,null,"BEB",null,null,null,null,"Autre",null,">60","3h01 - 4h",null,71]
[null,null,"BELL",null,null,null,null,null,null,"NAP",">4h",null,73]
[null,null,"BJ CLIN",null,null,null,null,null,null,null,null,null,74]
[null,null,"BJ HOP",null,null,null,null,null,null,null,null,null,"GENEVE"]
[null,null,"BSM",null,null,null,null,null,null,null,null,null,"NAP"]
[null,null,"CHAM HOP "]
[null,null,"CF CHU"]
[null,null,"FIRM"]
[null,null,"GIVO"]
[null,null,"GREN BELL"]
[null,null,"GREN CEDR"]
[null,null,"GREN CHU"]
[null,null,"GREN CLAI"]
[null,null,"LPEV"]
[null,null,"LYON CHLS"]
[null,null,"LYON CR"]
[null,null,"LYON HFME"]
[null,null,"LYON NATE "]
[null,null,"LYON PDSUD"]
[null,null,"LYON RILL"]
[null,null,"LYON SLSJ"]
[null,null,"LYON ST FOY "]
[null,null,"LYON TONKIN "]
[null,null,"LYON UNIO"]
[null,null,"LYON VAL"]
[null,null,"MONTBRISON"]
[null,null,"MONTELIMAR"]
[null,null,"OYON"]
[null,null,"PRIVAS"]
[null,null,"ROAN"]
[null,null,"RSI"]
[null,null,"SALL"]
[null,null,"SC"]
[null,null,"SE CLIN"]
[null,null,"SE HOP "]
[null,null,"SJDM"]
[null,null,"SJEG"]
[null,null,"TLB"]
[null,null,"VALE HOP "]
[null,null,"VALE PASTE"]
[null,null,"VIEN HOP"]
[null,null,"VOIR"]
[null,null,"VSS CLIN "]
[null,null,"VSS HOP"]
[null,null,"CARDIO U41"]
[null,null,"LYON NEUROCHIR"]
[null,null,"EXTRA RA"]
[null,null,"REA NOUVEAU NE"]
[null,null,"REA MATERNELLE "]
[null,null,"CHIRURGIE NEONAT (SAUF NEURO)"]
[null,null,"CENTRE PERINATAL "]
[null,null,"AUTRE"]
[]
[]
[]
["TIU"]
[]
["Niveau ","Type ","Contre indication ","OUI/NON","Degré d'urgence ","Motif de transfert ","FCS ","VB / CESAR ","Singleton","Spont ","Conscience","Protéines, bandelettes","RCF","FAX","Echographie","Doppler Ombillical ","Doppler Cérébral ","Placenta","Liquide Amniotique","Cortico","Tocolyse","MAP col au TV","MAP Echo col longueur mm","MAP Echo col OI mm","MAP Fibronect","MAP tocolyse","molécule type","T Réalisé","TOX SFHTA","TOX Diurese (GQ)","TOX Hb","TOX plaquette","TOX ASAT /ALAT","TOX creat","TOX efficacité ttmt","RPM type","DAD PROMTEST AMNICATOR","Index LA en cm","temp maternelle","RCF","CRP","GB"]
["I","TIU ","Col >4cm au départ du transport","OUI","URGENT ","Anasarque fœtal","Jamais eu de FCT ",0,"Unique","Spontanée ","Normale","Négative","Normal","Fax demande et reçu","Normale","Inconnu","Normal","Recouvrant cerv","Normal","Jamais fait ","En cours depuis plus de 48h","Non modifie","0-10","<7mm","Positive","Pas de tocolyse en cours ","Calcium","Réalisé","Cephalees","Normale",">11gr/dl",">100 000","<30UI/l","<100","stabilisé","cliniqmt evidente","positif ","<5cm","<38","<160bpm","<20mg/dl","<15 000/mm3"]
["II","DTIU ","HRP suspecte ou évidente ","NON ","SEMI URGENT ","Anomalie du doppler foetal ","A au moins eu une FCT ",1,"Gemellaire ","PMA ","Anormale","P","DIPI","Fax demandé et non reçu ","RCIU","Normal","Anormal ","Recouvrant hystero","Anamnios ","Fait il y a plus de 15 jrs ","En cours depuis moins de 48h","Peu modifie","11-20",">7mm","Negative","Stable ss tocolyse","Beta deux","Non réalisé","Signes visuels","<400ml/24h","<11gr/dl","< 100 000",">30UI/l",">100","non contrôle","douteuse","negatif",">5cm",">38",">160bpm",">20mg/dl",">15 000 /mm3"]
["IIB","RETIU","Eclampsie ",null,"NON URGENT ","Anomalie du RCF ",null,2,"Triple",null,null,"PP","DIPII","Fax non demande","Macrosomie ","Elevé","Pas de doppler recent <15jrs","Recouvrant mixte ","Oligoamnios","Fait ds les 15 jrs precedent","Debuté au moment du transfert ","Modifie","21-27","non fait","Non fait ","CU ss tocolyse sans modif cervicales","Atosiban",null,"Signes auditifs","Anurie","non fait ","non fait ","non fait ","non fait ","pas de ttmt",null,"douteux ","non fait ",null,null,"non fait ","non fait "]
["III","Autre ","Hgi non maitrisée ",null,"DOUTEUX ","AUTRE ",null,3,"Autre",null,null,"PPP","Bradyc","Autre ","Inconnue","Diastole nulle",null,"Bas insere non recouvrant","Excès","Inutile car > 34 SA","Pas de tocolyse ","Tres modifie",">27",null,null,"CU ss tocolyse avec  modif cervicales","AINS",null,"Barre épigastrique","Non communiquée",null,null,null,null,null,null,"non fait "]
["IV ( réa adulte, neuro chir, u41)",null,"Instabilité maternelle ","OUI",null,"Cardiopathie  maternelle ",null,4,null,null,null,"Non encore réalisé","Tachyc",null,"Pas d'écho recente (<15j)","Reverse flow",null,"Normalement insere","Hydramnios","Inutile car autre raison ",null,null,"non fait ",null,null,null,"Pas de ttmt",null,"Association de plusieurs "]
["CP",null,"Anomalie RCF ","NON ",null,"Cholestase gravidique",null,5,null,null,null,"Refus de réalisation","Minioscille",null,null,"Pas de doppler recent (<15jrs)",null,"Pas d'echo de moins de 15 jours ","Pas d'écho recente","Cortico en cours",null,null,null,null,null,null,null,null,"Aucun SF ",null,null,null,null,"TOX type de ttmt"]
["NAP ",null,"Autre ","INUTILE MDC/PLACE",null,"Diabète maternel",null,6,null,null,null,null,"Suspect",null,null,null,null,null,null,null,null,null,null,null,null,null,null,null,"Oedemes"]
["Non réalisé ",null,null,null,null,"G gémellaire avec delta>15%",null,7,null,null,null,null,"BDC+",null,null,null,null,null,null,null,null,null,null,null,null,null,null,null,null,null,null,null,null,"monoT orale"]
[null,null,null,"OUI",null,"Grossesse triple",null,8,null,null,null,null,null,null,null,null,null,null,null,null,null,null,null,null,null,null,null,null,null,null,null,null,null,"bi T orale"]
[null,null,null,"NON",null,"Hellp sd ",null,9,null,null,null,null,null,null,null,null,null,null,null,null,null,null,null,null,null,null,null,null,null,null,null,null,null,"monoT IV"]
[null,null,null,"Inconnu ",null,"HTA gravidique",null,"Autre ",null,null,null,null,null,null,null,null,null,null,null,null,null,null,null,null,null,null,null,null,null,null,null,null,null,"bi T IV"]
[null,null,null,null,null,"Hydramnios ou oligoamnios sévère ",null,null,null,null,null,null,null,null,null,null,null,null,null,null,null,null,null,null,null,null,null,null,null,null,null,null,null,"pas de ttmt"]
[null,null,null,null,null,"Infection maternelle grave  "]
[null,null,null,null,null,"Isoimmunisation rhésus"]
[null,null,null,null,null,"Maladie de systeme mater "]
[null,null,null,null,null,"Malfo congénitale "]
[null,null,null,null,null,"MAP  "]
[null,null,null,null,null,"Néphropathie maternelle    "]
[null,null,null,null,null,"Placenta praevia hgique / Hgie"]
[null,null,null,null,null,"RCIU "]
[null,null,null,null,null,"Retransfert"]
[null,null,null,null,null,"RPM "]
[null,null,null,null,null,"Toxemie"]
[]
[]
[]
[]
[]
[]
[]
["TNN"]
[]
["Niveau ","Type ","Degré d'urgence ","OUI/NON","hospit mère","strat âge J","circonstances","motif médical"]
["I","TNN","URGENT ","OUI","0-23","J0","appel pour tnn ","Prématurité sans detresse respiratoire ni RCIU "]
["II","RETNN","SEMI URGENT ","NON ","24-48","J1","appel pour demande de samu en ANTENATAL","Detresse respiratoire"]
["IIB","DTNN","NON URGENT ",null,">48","J2-J7","appel pour tiu et en fait extraction sur place ","Detresse circulatoire"]
["III","TER","DOUTEUX ","OUI","non communiqué",">J7","autre ","Suspicion Infection fœtale"]
["IV ( réa adulte, neuro chir, u41)","autre",null,"NON ",null,"NAP",null,"RCIU"]
["CP",null,null,"INUTILE MDC/PLACE",null,null,null,"ICTERE"]
["NAP ",null,null,null,null,null,null,"Souf neuro"]
["Non réalisé ",null,null,"OUI",null,null,null,"Malfo"]
[null,null,null,"NON",null,null,null,"TROUBLE HEMATOLOGIQUE (thrombopenie, anemie)"]
[null,null,null,"Inconnu ",null,null,null,"LA meco isole"]
[null,null,null,null,null,null,null,"Retransfert"]
[null,null,null,null,null,null,null,"n-né mère diabetique   hypoglycemie hyperglycemie"]
[null,null,null,null,null,null,null,"pathologie digestive"]
[null,null,null,null,null,null,null,"autre "]