{"text_format":"1","workbook":"xlsx","n_sheets":18,"sheets":["Explications","Classement auteurs","Classement clubs","Défi-1","Défi-2","Défi-3","Défi-4","Défi-5","Défi-6","Défi-7","xDéfi-8","xDéfi-9","xDéfi-10","xDéfi-11","xDéfi-12","Comparaison auteurs","Liste des adhérents","Liste des clubs"],"not_rendered":{"charts":0,"images":0,"macros":1,"external_links":0,"defined_names":5,"comments":2,"pivot_tables":0},"unopened":[],"bounds":{"document_bytes":16777216,"sheet_cells":100000,"rows_first":2000,"rows_last":500,"rows_between":2000,"halvings":0,"cell_chars":16384,"cell_head_chars":4096},"cells_cut":0,"cells_raw":0,"read":"whole","date_system":"1900"}

{"sheet":"Explications","index":0,"n_rows":28,"n_cols":2,"rows_kept":28,"cut":false,"hidden":false,"merged":[[15,1,21,8],[27,1,33,8],[8,1,13,8],[23,1,25,8],[1,1,2,8],[3,1,4,8],[5,1,6,8]]}
[]
[null,"Je suis le gestionnaire d'un concours photo, composé de 7 défis. Les défis s'étalent de Novembre à Mai pour une durée d'un mois."]
[]
[null,"Chaque auteur ne peut participar qu'avec une seule photo dans un même défi. Les photos sont jugées par 3 juges. Après chaque jugement je récupère un fichier de notation."]
[]
[null,"Les fichiers de notations sont insérées dans ce classeur manuellement dans des onglets nommés de Défi-1 à Défi-7."]
[]
[]
[null,"Chaque  auteur est identifié par le un numéro, de 12 chiffres, qui se trouve dans la colonne \"fichier\". Il a la forme suivante 131353000101. il se décomose de la manière suivante :\n- Les deux premiers chiffres 13 corresponds au N° de l'UR.\n- Les quatre suivantes 1353 correspondent au N° du club.\n- les quatres suivante 0001 correspondent au N° d'adhérent.\n- Les deux derniers 01 correspondent au N° d'ordre."]
[]
[]
[]
[]
[]
[]
[null,"Deux classement sont effectués après chaque défi.\n- Un classement auteur qui s'obtient par totalisation des notes obtenues par un auteur dans chacun des défis auquel il a participé. Ce classement se fait sur la totalité du N° de fichier.La participation à tous les défis n'est pas obligatoire.\n- Un classement club obtenu par addition des trois meilleures photos d'un même club dans un défi. Ce classement doit se faire sur les quatre chiffres vert. On ne classe que les club ayant au moins trois auteurs. Avec 1 ou 2 auteur le club n'est pas classé."]
[]
[]
[]
[]
[]
[]
[]
[null,"Ce que je souhaiterais faire, c'est qu'après chaque défi et après avoir inséré le fichier de notation, dans l'onglet correspondant à un défi, soit effectué automatiquement le classement auteur et le classement club."]
[]
[]
[]
[null,"J'arrive à le faire manuellement, mais je suis incapable d'écrire les macros permettant d'effectuer automatiquement ces deux classements.\n\nJe suis à votre disposition pour toutes autres précisions.\n\nMerci d'avance pour votre aide."]

{"sheet":"Classement auteurs","index":1,"n_rows":302,"n_cols":12,"rows_kept":302,"cut":false,"hidden":false,"merged":[]}
[]
["Place","Fichier","Nom du Club","Nom de l'auteur","Défi-1","Défi-2","Défi-3","Défi-4","Défi-5","Défi-6","Défi-7","Total"]
[16,131824001901,{"$f":"IFERROR(VLOOKUP($B3,'Liste des adhérents'!$B$2:$D$2000,2,FALSE),\"\")","v":"Photo Club IBM La Gaude"},{"$f":"IFERROR(VLOOKUP($B3,'Liste des adhérents'!$B$2:$D$2000,3,FALSE),\"\")","v":"Prénom&Nom1217"},52,40,45,48,44,52,45,{"$f":"SUM($E3:K3)","v":326}]
[19,131110000901,{"$f":"IFERROR(VLOOKUP($B4,'Liste des adhérents'!$B$2:$D$2000,2,FALSE),\"\")","v":"Ciné Photo Club de Peymeinade"},{"$f":"IFERROR(VLOOKUP($B4,'Liste des adhérents'!$B$2:$D$2000,3,FALSE),\"\")","v":"Prénom&Nom606"},51,45,56,43,41,43,36,{"$f":"SUM($E4:K4)","v":315}]
[67,130987024201,{"$f":"IFERROR(VLOOKUP($B5,'Liste des adhérents'!$B$2:$D$2000,2,FALSE),\"\")","v":"Cl, Phot'Azur  Six Fours les plages"},{"$f":"IFERROR(VLOOKUP($B5,'Liste des adhérents'!$B$2:$D$2000,3,FALSE),\"\")","v":"Prénom&Nom504"},46,43,48,45,39,48,43,{"$f":"SUM($E5:K5)","v":312}]
[42,131683006301,{"$f":"IFERROR(VLOOKUP($B6,'Liste des adhérents'!$B$2:$D$2000,2,FALSE),\"\")","v":"Marius St Mitre Les Remparts"},{"$f":"IFERROR(VLOOKUP($B6,'Liste des adhérents'!$B$2:$D$2000,3,FALSE),\"\")","v":"Prénom&Nom1086"},57,36,34,47,45,57,36,{"$f":"SUM($E6:K6)","v":312}]
[39,132193000301,{"$f":"IFERROR(VLOOKUP($B7,'Liste des adhérents'!$B$2:$D$2000,2,FALSE),\"\")","v":"Antibes Photo Club"},{"$f":"IFERROR(VLOOKUP($B7,'Liste des adhérents'!$B$2:$D$2000,3,FALSE),\"\")","v":"Prénom&Nom1800"},48,37,40,45,38,48,55,{"$f":"SUM($E7:K7)","v":311}]
[36,130987015701,{"$f":"IFERROR(VLOOKUP($B8,'Liste des adhérents'!$B$2:$D$2000,2,FALSE),\"\")","v":"Cl. Phot'Azur Six Fours Plages"},{"$f":"IFERROR(VLOOKUP($B8,'Liste des adhérents'!$B$2:$D$2000,3,FALSE),\"\")","v":"Prénom&Nom425"},48,39,34,41,46,48,52,{"$f":"SUM($E8:K8)","v":308}]
[4,131376018301,{"$f":"IFERROR(VLOOKUP($B9,'Liste des adhérents'!$B$2:$D$2000,2,FALSE),\"\")","v":"PHOCAL "},{"$f":"IFERROR(VLOOKUP($B9,'Liste des adhérents'!$B$2:$D$2000,3,FALSE),\"\")","v":"Prénom&Nom753"},31,34,57,41,44,57,42,{"$f":"SUM($E9:K9)","v":306}]
[110,130527009401,{"$f":"IFERROR(VLOOKUP($B10,'Liste des adhérents'!$B$2:$D$2000,2,FALSE),\"\")","v":"Photo Club de Martigues"},{"$f":"IFERROR(VLOOKUP($B10,'Liste des adhérents'!$B$2:$D$2000,3,FALSE),\"\")","v":"Prénom&Nom164"},50,53,46,50,51,null,49,{"$f":"SUM($E10:K10)","v":299}]
[46,131499006801,{"$f":"IFERROR(VLOOKUP($B11,'Liste des adhérents'!$B$2:$D$2000,2,FALSE),\"\")","v":"Images Expressions - Cagnes sur Mer"},{"$f":"IFERROR(VLOOKUP($B11,'Liste des adhérents'!$B$2:$D$2000,3,FALSE),\"\")","v":"Prénom&Nom938"},35,39,48,52,42,42,36,{"$f":"SUM($E11:K11)","v":294}]
[73,130987019701,{"$f":"IFERROR(VLOOKUP($B12,'Liste des adhérents'!$B$2:$D$2000,2,FALSE),\"\")","v":"Cl. Phot'Azur Six Fours Plages"},{"$f":"IFERROR(VLOOKUP($B12,'Liste des adhérents'!$B$2:$D$2000,3,FALSE),\"\")","v":"Prénom&Nom465"},51,40,40,39,37,51,33,{"$f":"SUM($E12:K12)","v":291}]
[56,131353000101,{"$f":"IFERROR(VLOOKUP($B13,'Liste des adhérents'!$B$2:$D$2000,2,FALSE),\"\")","v":"Photo Club de La Crau"},{"$f":"IFERROR(VLOOKUP($B13,'Liste des adhérents'!$B$2:$D$2000,3,FALSE),\"\")","v":"Prénom&Nom657"},45,36,46,47,57,null,56,{"$f":"SUM($E13:K13)","v":287}]
[47,131879000801,{"$f":"IFERROR(VLOOKUP($B14,'Liste des adhérents'!$B$2:$D$2000,2,FALSE),\"\")","v":"Association Sportive Berroise"},{"$f":"IFERROR(VLOOKUP($B14,'Liste des adhérents'!$B$2:$D$2000,3,FALSE),\"\")","v":"Prénom&Nom1419"},50,null,58,40,36,58,44,{"$f":"SUM($E14:K14)","v":286}]
[94,131683005101,{"$f":"IFERROR(VLOOKUP($B15,'Liste des adhérents'!$B$2:$D$2000,2,FALSE),\"\")","v":"Marius St Mitre Les Remparts"},{"$f":"IFERROR(VLOOKUP($B15,'Liste des adhérents'!$B$2:$D$2000,3,FALSE),\"\")","v":"Prénom&Nom1074"},36,33,41,44,49,44,38,{"$f":"SUM($E15:K15)","v":285}]
[146,131683007901,{"$f":"IFERROR(VLOOKUP($B16,'Liste des adhérents'!$B$2:$D$2000,2,FALSE),\"\")","v":"Marius St Mitre Les Remparts"},{"$f":"IFERROR(VLOOKUP($B16,'Liste des adhérents'!$B$2:$D$2000,3,FALSE),\"\")","v":"Prénom&Nom1093"},54,39,38,51,58,null,42,{"$f":"SUM($E16:K16)","v":282}]
[107,131823004901,{"$f":"IFERROR(VLOOKUP($B17,'Liste des adhérents'!$B$2:$D$2000,2,FALSE),\"\")","v":"Photo Club Mouansois"},{"$f":"IFERROR(VLOOKUP($B17,'Liste des adhérents'!$B$2:$D$2000,3,FALSE),\"\")","v":"Prénom&Nom1178"},44,25,43,39,41,43,43,{"$f":"SUM($E17:K17)","v":278}]
[127,131619004501,{"$f":"IFERROR(VLOOKUP($B18,'Liste des adhérents'!$B$2:$D$2000,2,FALSE),\"\")","v":"Optique Diaporama Marseille"},{"$f":"IFERROR(VLOOKUP($B18,'Liste des adhérents'!$B$2:$D$2000,3,FALSE),\"\")","v":"Prénom&Nom1033"},51,48,48,46,37,null,47,{"$f":"SUM($E18:K18)","v":277}]
[71,130925007701,{"$f":"IFERROR(VLOOKUP($B19,'Liste des adhérents'!$B$2:$D$2000,2,FALSE),\"\")","v":"A.S.L.P.S. Photo Fos-sur-Mer"},{"$f":"IFERROR(VLOOKUP($B19,'Liste des adhérents'!$B$2:$D$2000,3,FALSE),\"\")","v":"Prénom&Nom333"},46,50,48,44,37,50,null,{"$f":"SUM($E19:K19)","v":275}]
[116,131862002201,{"$f":"IFERROR(VLOOKUP($B20,'Liste des adhérents'!$B$2:$D$2000,2,FALSE),\"\")","v":"Déclic et des Claps - Roquefort les Pins"},{"$f":"IFERROR(VLOOKUP($B20,'Liste des adhérents'!$B$2:$D$2000,3,FALSE),\"\")","v":"Prénom&Nom1360"},41,35,44,27,43,44,37,{"$f":"SUM($E20:K20)","v":271}]
[135,132060001701,{"$f":"IFERROR(VLOOKUP($B21,'Liste des adhérents'!$B$2:$D$2000,2,FALSE),\"\")","v":"Image Club Gardéen"},{"$f":"IFERROR(VLOOKUP($B21,'Liste des adhérents'!$B$2:$D$2000,3,FALSE),\"\")","v":"Prénom&Nom1711"},37,45,33,37,37,45,35,{"$f":"SUM($E21:K21)","v":269}]
[81,130878014101,{"$f":"IFERROR(VLOOKUP($B22,'Liste des adhérents'!$B$2:$D$2000,2,FALSE),\"\")","v":"PC Antoine Santoru-Port de Bouc"},{"$f":"IFERROR(VLOOKUP($B22,'Liste des adhérents'!$B$2:$D$2000,3,FALSE),\"\")","v":"Prénom&Nom268"},36,37,44,18,56,44,33,{"$f":"SUM($E22:K22)","v":268}]
[177,131353000701,{"$f":"IFERROR(VLOOKUP($B23,'Liste des adhérents'!$B$2:$D$2000,2,FALSE),\"\")","v":"Photo Club de La Crau"},{"$f":"IFERROR(VLOOKUP($B23,'Liste des adhérents'!$B$2:$D$2000,3,FALSE),\"\")","v":"Prénom&Nom659"},48,42,39,57,41,null,41,{"$f":"SUM($E23:K23)","v":268}]
[184,131956004501,{"$f":"IFERROR(VLOOKUP($B24,'Liste des adhérents'!$B$2:$D$2000,2,FALSE),\"\")","v":"Photo Contact Puyricard"},{"$f":"IFERROR(VLOOKUP($B24,'Liste des adhérents'!$B$2:$D$2000,3,FALSE),\"\")","v":"Prénom&Nom1521"},38,38,35,37,39,38,42,{"$f":"SUM($E24:K24)","v":267}]
[69,131376014701,{"$f":"IFERROR(VLOOKUP($B25,'Liste des adhérents'!$B$2:$D$2000,2,FALSE),\"\")","v":"PHOCAL "},{"$f":"IFERROR(VLOOKUP($B25,'Liste des adhérents'!$B$2:$D$2000,3,FALSE),\"\")","v":"Prénom&Nom721"},43,23,39,41,44,43,33,{"$f":"SUM($E25:K25)","v":266}]
[51,131499005201,{"$f":"IFERROR(VLOOKUP($B26,'Liste des adhérents'!$B$2:$D$2000,2,FALSE),\"\")","v":"Images Expressions - Cagnes sur Mer"},{"$f":"IFERROR(VLOOKUP($B26,'Liste des adhérents'!$B$2:$D$2000,3,FALSE),\"\")","v":"Prénom&Nom922"},44,31,49,37,39,31,34,{"$f":"SUM($E26:K26)","v":265}]
[155,131956004601,{"$f":"IFERROR(VLOOKUP($B27,'Liste des adhérents'!$B$2:$D$2000,2,FALSE),\"\")","v":"Photo Contact Puyricard"},{"$f":"IFERROR(VLOOKUP($B27,'Liste des adhérents'!$B$2:$D$2000,3,FALSE),\"\")","v":"Prénom&Nom1522"},null,47,50,38,27,47,52,{"$f":"SUM($E27:K27)","v":261}]
[70,130987013801,{"$f":"IFERROR(VLOOKUP($B28,'Liste des adhérents'!$B$2:$D$2000,2,FALSE),\"\")","v":"Cl. Phot'Azur Six Fours Plages"},{"$f":"IFERROR(VLOOKUP($B28,'Liste des adhérents'!$B$2:$D$2000,3,FALSE),\"\")","v":"Prénom&Nom406"},38,null,45,42,42,42,51,{"$f":"SUM($E28:K28)","v":260}]
[199,130000020401,{"$f":"IFERROR(VLOOKUP($B29,'Liste des adhérents'!$B$2:$D$2000,2,FALSE),\"\")","v":"Individuel"},{"$f":"IFERROR(VLOOKUP($B29,'Liste des adhérents'!$B$2:$D$2000,3,FALSE),\"\")","v":"Prénom&Nom70A"},31,37,35,35,43,37,41,{"$f":"SUM($E29:K29)","v":259}]
[17,130987019601,{"$f":"IFERROR(VLOOKUP($B30,'Liste des adhérents'!$B$2:$D$2000,2,FALSE),\"\")","v":"Cl. Phot'Azur Six Fours Plages"},{"$f":"IFERROR(VLOOKUP($B30,'Liste des adhérents'!$B$2:$D$2000,3,FALSE),\"\")","v":"Prénom&Nom464"},39,37,36,44,34,39,29,{"$f":"SUM($E30:K30)","v":258}]
[26,131499008701,{"$f":"IFERROR(VLOOKUP($B31,'Liste des adhérents'!$B$2:$D$2000,2,FALSE),\"\")","v":""},{"$f":"IFERROR(VLOOKUP($B31,'Liste des adhérents'!$B$2:$D$2000,3,FALSE),\"\")","v":""},44,29,39,33,34,44,34,{"$f":"SUM($E31:K31)","v":257}]
[40,130000019901,{"$f":"IFERROR(VLOOKUP($B32,'Liste des adhérents'!$B$2:$D$2000,2,FALSE),\"\")","v":""},{"$f":"IFERROR(VLOOKUP($B32,'Liste des adhérents'!$B$2:$D$2000,3,FALSE),\"\")","v":""},32,41,44,24,37,41,37,{"$f":"SUM($E32:K32)","v":256}]
[132,131110001001,{"$f":"IFERROR(VLOOKUP($B33,'Liste des adhérents'!$B$2:$D$2000,2,FALSE),\"\")","v":""},{"$f":"IFERROR(VLOOKUP($B33,'Liste des adhérents'!$B$2:$D$2000,3,FALSE),\"\")","v":""},41,41,40,47,35,47,null,{"$f":"SUM($E33:K33)","v":251}]
[32,130987024101,{"$f":"IFERROR(VLOOKUP($B34,'Liste des adhérents'!$B$2:$D$2000,2,FALSE),\"\")","v":"Cl. Phot'Azur Six Fours Plages"},{"$f":"IFERROR(VLOOKUP($B34,'Liste des adhérents'!$B$2:$D$2000,3,FALSE),\"\")","v":"Prénom&Nom503"},40,39,36,46,44,null,39,{"$f":"SUM($E34:K34)","v":244}]
[171,131845001401,{"$f":"IFERROR(VLOOKUP($B35,'Liste des adhérents'!$B$2:$D$2000,2,FALSE),\"\")","v":"Photo Club Carqueirannais"},{"$f":"IFERROR(VLOOKUP($B35,'Liste des adhérents'!$B$2:$D$2000,3,FALSE),\"\")","v":"Prénom&Nom1238"},41,34,48,39,43,null,37,{"$f":"SUM($E35:K35)","v":242}]
[37,131956002601,{"$f":"IFERROR(VLOOKUP($B36,'Liste des adhérents'!$B$2:$D$2000,2,FALSE),\"\")","v":"Photo Contact Puyricard"},{"$f":"IFERROR(VLOOKUP($B36,'Liste des adhérents'!$B$2:$D$2000,3,FALSE),\"\")","v":"Prénom&Nom1504"},null,44,44,34,30,44,43,{"$f":"SUM($E36:K36)","v":239}]
[156,131353000201,{"$f":"IFERROR(VLOOKUP($B37,'Liste des adhérents'!$B$2:$D$2000,2,FALSE),\"\")","v":"Photo Club de La Crau"},{"$f":"IFERROR(VLOOKUP($B37,'Liste des adhérents'!$B$2:$D$2000,3,FALSE),\"\")","v":"Prénom&Nom658"},33,37,25,36,37,36,34,{"$f":"SUM($E37:K37)","v":238}]
[55,131879000501,{"$f":"IFERROR(VLOOKUP($B38,'Liste des adhérents'!$B$2:$D$2000,2,FALSE),\"\")","v":"Association Sportive Berroise"},{"$f":"IFERROR(VLOOKUP($B38,'Liste des adhérents'!$B$2:$D$2000,3,FALSE),\"\")","v":"Prénom&Nom1416"},38,39,40,41,39,41,null,{"$f":"SUM($E38:K38)","v":238}]
[38,132084001701,{"$f":"IFERROR(VLOOKUP($B39,'Liste des adhérents'!$B$2:$D$2000,2,FALSE),\"\")","v":"Azur Photo Passion"},{"$f":"IFERROR(VLOOKUP($B39,'Liste des adhérents'!$B$2:$D$2000,3,FALSE),\"\")","v":"Prénom&Nom1742"},45,36,40,null,41,45,31,{"$f":"SUM($E39:K39)","v":238}]
[15,132086002301,{"$f":"IFERROR(VLOOKUP($B40,'Liste des adhérents'!$B$2:$D$2000,2,FALSE),\"\")","v":""},{"$f":"IFERROR(VLOOKUP($B40,'Liste des adhérents'!$B$2:$D$2000,3,FALSE),\"\")","v":""},36,31,35,35,32,36,33,{"$f":"SUM($E40:K40)","v":238}]
[41,131353004301,{"$f":"IFERROR(VLOOKUP($B41,'Liste des adhérents'!$B$2:$D$2000,2,FALSE),\"\")","v":"Photo Club de La Crau"},{"$f":"IFERROR(VLOOKUP($B41,'Liste des adhérents'!$B$2:$D$2000,3,FALSE),\"\")","v":"Prénom&Nom666"},18,28,35,47,24,47,38,{"$f":"SUM($E41:K41)","v":237}]
[129,131845000101,{"$f":"IFERROR(VLOOKUP($B42,'Liste des adhérents'!$B$2:$D$2000,2,FALSE),\"\")","v":"Photo Club Carqueirannais"},{"$f":"IFERROR(VLOOKUP($B42,'Liste des adhérents'!$B$2:$D$2000,3,FALSE),\"\")","v":"Prénom&Nom1225"},42,null,41,18,41,42,50,{"$f":"SUM($E42:K42)","v":234}]
[118,131683008001,{"$f":"IFERROR(VLOOKUP($B43,'Liste des adhérents'!$B$2:$D$2000,2,FALSE),\"\")","v":"Marius St Mitre Les Remparts"},{"$f":"IFERROR(VLOOKUP($B43,'Liste des adhérents'!$B$2:$D$2000,3,FALSE),\"\")","v":"Prénom&Nom1094"},48,47,47,39,52,null,null,{"$f":"SUM($E43:K43)","v":233}]
[123,132084004001,{"$f":"IFERROR(VLOOKUP($B44,'Liste des adhérents'!$B$2:$D$2000,2,FALSE),\"\")","v":""},{"$f":"IFERROR(VLOOKUP($B44,'Liste des adhérents'!$B$2:$D$2000,3,FALSE),\"\")","v":""},null,40,32,40,42,42,36,{"$f":"SUM($E44:K44)","v":232}]
[134,130925009801,{"$f":"IFERROR(VLOOKUP($B45,'Liste des adhérents'!$B$2:$D$2000,2,FALSE),\"\")","v":"A.S.L.P.S. Photo Fos-sur-Mer"},{"$f":"IFERROR(VLOOKUP($B45,'Liste des adhérents'!$B$2:$D$2000,3,FALSE),\"\")","v":"Prénom&Nom351"},44,36,41,34,40,36,null,{"$f":"SUM($E45:K45)","v":231}]
[101,131879000601,{"$f":"IFERROR(VLOOKUP($B46,'Liste des adhérents'!$B$2:$D$2000,2,FALSE),\"\")","v":"Association Sportive Berroise"},{"$f":"IFERROR(VLOOKUP($B46,'Liste des adhérents'!$B$2:$D$2000,3,FALSE),\"\")","v":"Prénom&Nom1417"},47,37,34,31,null,47,35,{"$f":"SUM($E46:K46)","v":231}]
[162,131879001301,{"$f":"IFERROR(VLOOKUP($B47,'Liste des adhérents'!$B$2:$D$2000,2,FALSE),\"\")","v":"Association Sportive Berroise"},{"$f":"IFERROR(VLOOKUP($B47,'Liste des adhérents'!$B$2:$D$2000,3,FALSE),\"\")","v":"Prénom&Nom1424"},42,30,46,null,42,42,29,{"$f":"SUM($E47:K47)","v":231}]
[57,131879000101,{"$f":"IFERROR(VLOOKUP($B48,'Liste des adhérents'!$B$2:$D$2000,2,FALSE),\"\")","v":"Association Sportive Berroise"},{"$f":"IFERROR(VLOOKUP($B48,'Liste des adhérents'!$B$2:$D$2000,3,FALSE),\"\")","v":"Prénom&Nom1412"},41,41,38,null,28,41,40,{"$f":"SUM($E48:K48)","v":229}]
[75,131845004001,{"$f":"IFERROR(VLOOKUP($B49,'Liste des adhérents'!$B$2:$D$2000,2,FALSE),\"\")","v":""},{"$f":"IFERROR(VLOOKUP($B49,'Liste des adhérents'!$B$2:$D$2000,3,FALSE),\"\")","v":""},40,33,42,39,41,33,null,{"$f":"SUM($E49:K49)","v":228}]
[8,130527012401,{"$f":"IFERROR(VLOOKUP($B50,'Liste des adhérents'!$B$2:$D$2000,2,FALSE),\"\")","v":"Photo Club de Martigues"},{"$f":"IFERROR(VLOOKUP($B50,'Liste des adhérents'!$B$2:$D$2000,3,FALSE),\"\")","v":"Prénom&Nom192"},41,36,18,47,null,47,38,{"$f":"SUM($E50:K50)","v":227}]
[60,130878013001,{"$f":"IFERROR(VLOOKUP($B51,'Liste des adhérents'!$B$2:$D$2000,2,FALSE),\"\")","v":"PC Antoine Santoru-Port de Bouc"},{"$f":"IFERROR(VLOOKUP($B51,'Liste des adhérents'!$B$2:$D$2000,3,FALSE),\"\")","v":"Prénom&Nom259"},41,null,39,40,26,41,39,{"$f":"SUM($E51:K51)","v":226}]
[102,132060000701,{"$f":"IFERROR(VLOOKUP($B52,'Liste des adhérents'!$B$2:$D$2000,2,FALSE),\"\")","v":"Image Club Gardéen"},{"$f":"IFERROR(VLOOKUP($B52,'Liste des adhérents'!$B$2:$D$2000,3,FALSE),\"\")","v":"Prénom&Nom1706"},38,29,31,25,36,38,28,{"$f":"SUM($E52:K52)","v":225}]
[131,131956002401,{"$f":"IFERROR(VLOOKUP($B53,'Liste des adhérents'!$B$2:$D$2000,2,FALSE),\"\")","v":"Photo Contact Puyricard"},{"$f":"IFERROR(VLOOKUP($B53,'Liste des adhérents'!$B$2:$D$2000,3,FALSE),\"\")","v":"Prénom&Nom1502"},28,36,40,35,43,null,42,{"$f":"SUM($E53:K53)","v":224}]
[269,131353006101,{"$f":"IFERROR(VLOOKUP($B54,'Liste des adhérents'!$B$2:$D$2000,2,FALSE),\"\")","v":"Photo Club de La Crau"},{"$f":"IFERROR(VLOOKUP($B54,'Liste des adhérents'!$B$2:$D$2000,3,FALSE),\"\")","v":"Prénom&Nom681"},null,41,36,38,36,36,35,{"$f":"SUM($E54:K54)","v":222}]
[27,131494000201,{"$f":"IFERROR(VLOOKUP($B55,'Liste des adhérents'!$B$2:$D$2000,2,FALSE),\"\")","v":"Photo-Club du Brianconnais"},{"$f":"IFERROR(VLOOKUP($B55,'Liste des adhérents'!$B$2:$D$2000,3,FALSE),\"\")","v":"Prénom&Nom861"},39,34,42,35,37,35,null,{"$f":"SUM($E55:K55)","v":222}]
[44,130878007201,{"$f":"IFERROR(VLOOKUP($B56,'Liste des adhérents'!$B$2:$D$2000,2,FALSE),\"\")","v":"PC Antoine Santoru-Port de Bouc"},{"$f":"IFERROR(VLOOKUP($B56,'Liste des adhérents'!$B$2:$D$2000,3,FALSE),\"\")","v":"Prénom&Nom254"},36,null,37,32,35,36,44,{"$f":"SUM($E56:K56)","v":220}]
[140,132060001801,{"$f":"IFERROR(VLOOKUP($B57,'Liste des adhérents'!$B$2:$D$2000,2,FALSE),\"\")","v":""},{"$f":"IFERROR(VLOOKUP($B57,'Liste des adhérents'!$B$2:$D$2000,3,FALSE),\"\")","v":""},38,38,40,22,47,null,35,{"$f":"SUM($E57:K57)","v":220}]
[58,130987024001,{"$f":"IFERROR(VLOOKUP($B58,'Liste des adhérents'!$B$2:$D$2000,2,FALSE),\"\")","v":""},{"$f":"IFERROR(VLOOKUP($B58,'Liste des adhérents'!$B$2:$D$2000,3,FALSE),\"\")","v":""},46,44,44,null,null,46,37,{"$f":"SUM($E58:K58)","v":217}]
[96,131110001101,{"$f":"IFERROR(VLOOKUP($B59,'Liste des adhérents'!$B$2:$D$2000,2,FALSE),\"\")","v":""},{"$f":"IFERROR(VLOOKUP($B59,'Liste des adhérents'!$B$2:$D$2000,3,FALSE),\"\")","v":""},36,24,38,36,45,36,null,{"$f":"SUM($E59:K59)","v":215}]
[178,131499006901,{"$f":"IFERROR(VLOOKUP($B60,'Liste des adhérents'!$B$2:$D$2000,2,FALSE),\"\")","v":"Images Expressions - Cagnes sur Mer"},{"$f":"IFERROR(VLOOKUP($B60,'Liste des adhérents'!$B$2:$D$2000,3,FALSE),\"\")","v":"Prénom&Nom939"},42,45,43,39,46,null,null,{"$f":"SUM($E60:K60)","v":215}]
[253,131823008301,{"$f":"IFERROR(VLOOKUP($B61,'Liste des adhérents'!$B$2:$D$2000,2,FALSE),\"\")","v":"Photo Club Mouansois"},{"$f":"IFERROR(VLOOKUP($B61,'Liste des adhérents'!$B$2:$D$2000,3,FALSE),\"\")","v":"Prénom&Nom1202"},null,40,48,null,42,48,36,{"$f":"SUM($E61:K61)","v":214}]
[12,131353003001,{"$f":"IFERROR(VLOOKUP($B62,'Liste des adhérents'!$B$2:$D$2000,2,FALSE),\"\")","v":"Photo Club de La Crau"},{"$f":"IFERROR(VLOOKUP($B62,'Liste des adhérents'!$B$2:$D$2000,3,FALSE),\"\")","v":"Prénom&Nom662"},45,30,37,null,35,30,36,{"$f":"SUM($E62:K62)","v":213}]
[260,130925007601,{"$f":"IFERROR(VLOOKUP($B63,'Liste des adhérents'!$B$2:$D$2000,2,FALSE),\"\")","v":"A.S.L.P.S. Photo Fos-sur-Mer"},{"$f":"IFERROR(VLOOKUP($B63,'Liste des adhérents'!$B$2:$D$2000,3,FALSE),\"\")","v":"Prénom&Nom332"},null,44,43,39,41,44,null,{"$f":"SUM($E63:K63)","v":211}]
[125,131499010001,{"$f":"IFERROR(VLOOKUP($B64,'Liste des adhérents'!$B$2:$D$2000,2,FALSE),\"\")","v":""},{"$f":"IFERROR(VLOOKUP($B64,'Liste des adhérents'!$B$2:$D$2000,3,FALSE),\"\")","v":""},42,42,43,42,42,null,null,{"$f":"SUM($E64:K64)","v":211}]
[53,130987023901,{"$f":"IFERROR(VLOOKUP($B65,'Liste des adhérents'!$B$2:$D$2000,2,FALSE),\"\")","v":""},{"$f":"IFERROR(VLOOKUP($B65,'Liste des adhérents'!$B$2:$D$2000,3,FALSE),\"\")","v":""},40,30,40,35,30,null,34,{"$f":"SUM($E65:K65)","v":209}]
[23,131992000301,{"$f":"IFERROR(VLOOKUP($B66,'Liste des adhérents'!$B$2:$D$2000,2,FALSE),\"\")","v":"Photo Club Velauxien - Clin d'Œil"},{"$f":"IFERROR(VLOOKUP($B66,'Liste des adhérents'!$B$2:$D$2000,3,FALSE),\"\")","v":"Prénom&Nom1616"},40,33,32,null,31,40,33,{"$f":"SUM($E66:K66)","v":209}]
[180,131499009801,{"$f":"IFERROR(VLOOKUP($B67,'Liste des adhérents'!$B$2:$D$2000,2,FALSE),\"\")","v":"Images Expressions - Cagnes sur Mer"},{"$f":"IFERROR(VLOOKUP($B67,'Liste des adhérents'!$B$2:$D$2000,3,FALSE),\"\")","v":"Prénom&Nom955"},42,null,35,54,42,35,null,{"$f":"SUM($E67:K67)","v":208}]
[80,130527002501,{"$f":"IFERROR(VLOOKUP($B68,'Liste des adhérents'!$B$2:$D$2000,2,FALSE),\"\")","v":"Photo Club de Martigues"},{"$f":"IFERROR(VLOOKUP($B68,'Liste des adhérents'!$B$2:$D$2000,3,FALSE),\"\")","v":"Prénom&Nom155"},41,37,38,30,32,null,29,{"$f":"SUM($E68:K68)","v":207}]
[252,130527017001,{"$f":"IFERROR(VLOOKUP($B69,'Liste des adhérents'!$B$2:$D$2000,2,FALSE),\"\")","v":"Photo Club de Martigues"},{"$f":"IFERROR(VLOOKUP($B69,'Liste des adhérents'!$B$2:$D$2000,3,FALSE),\"\")","v":"Prénom&Nom238"},55,40,31,29,51,null,null,{"$f":"SUM($E69:K69)","v":206}]
[77,130925010201,{"$f":"IFERROR(VLOOKUP($B70,'Liste des adhérents'!$B$2:$D$2000,2,FALSE),\"\")","v":"A.S.L.P.S. Photo Fos-sur-Mer"},{"$f":"IFERROR(VLOOKUP($B70,'Liste des adhérents'!$B$2:$D$2000,3,FALSE),\"\")","v":"Prénom&Nom355"},46,30,31,33,null,31,35,{"$f":"SUM($E70:K70)","v":206}]
[254,131879002001,{"$f":"IFERROR(VLOOKUP($B71,'Liste des adhérents'!$B$2:$D$2000,2,FALSE),\"\")","v":"Association Sportive Berroise"},{"$f":"IFERROR(VLOOKUP($B71,'Liste des adhérents'!$B$2:$D$2000,3,FALSE),\"\")","v":"Prénom&Nom1426"},null,47,42,41,38,38,null,{"$f":"SUM($E71:K71)","v":206}]
[20,130987007401,{"$f":"IFERROR(VLOOKUP($B72,'Liste des adhérents'!$B$2:$D$2000,2,FALSE),\"\")","v":"Cl. Phot'Azur Six Fours Plages"},{"$f":"IFERROR(VLOOKUP($B72,'Liste des adhérents'!$B$2:$D$2000,3,FALSE),\"\")","v":"Prénom&Nom373"},31,32,28,38,37,37,null,{"$f":"SUM($E72:K72)","v":203}]
[161,131376012601,{"$f":"IFERROR(VLOOKUP($B73,'Liste des adhérents'!$B$2:$D$2000,2,FALSE),\"\")","v":"PHOCAL "},{"$f":"IFERROR(VLOOKUP($B73,'Liste des adhérents'!$B$2:$D$2000,3,FALSE),\"\")","v":"Prénom&Nom712"},31,29,40,null,34,34,33,{"$f":"SUM($E73:K73)","v":201}]
[170,131499010501,{"$f":"IFERROR(VLOOKUP($B74,'Liste des adhérents'!$B$2:$D$2000,2,FALSE),\"\")","v":""},{"$f":"IFERROR(VLOOKUP($B74,'Liste des adhérents'!$B$2:$D$2000,3,FALSE),\"\")","v":""},35,41,47,41,36,null,null,{"$f":"SUM($E74:K74)","v":200}]
[35,130878014301,{"$f":"IFERROR(VLOOKUP($B75,'Liste des adhérents'!$B$2:$D$2000,2,FALSE),\"\")","v":"PC Antoine Santoru-Port de Bouc"},{"$f":"IFERROR(VLOOKUP($B75,'Liste des adhérents'!$B$2:$D$2000,3,FALSE),\"\")","v":"Prénom&Nom270"},38,23,52,18,29,38,null,{"$f":"SUM($E75:K75)","v":198}]
[114,131499003901,{"$f":"IFERROR(VLOOKUP($B76,'Liste des adhérents'!$B$2:$D$2000,2,FALSE),\"\")","v":"Images Expressions - Cagnes sur Mer"},{"$f":"IFERROR(VLOOKUP($B76,'Liste des adhérents'!$B$2:$D$2000,3,FALSE),\"\")","v":"Prénom&Nom909"},42,null,40,45,39,null,32,{"$f":"SUM($E76:K76)","v":198}]
[145,131683006601,{"$f":"IFERROR(VLOOKUP($B77,'Liste des adhérents'!$B$2:$D$2000,2,FALSE),\"\")","v":"Marius St Mitre Les Remparts"},{"$f":"IFERROR(VLOOKUP($B77,'Liste des adhérents'!$B$2:$D$2000,3,FALSE),\"\")","v":"Prénom&Nom1089"},40,26,42,null,49,null,41,{"$f":"SUM($E77:K77)","v":198}]
[152,132060001201,{"$f":"IFERROR(VLOOKUP($B78,'Liste des adhérents'!$B$2:$D$2000,2,FALSE),\"\")","v":""},{"$f":"IFERROR(VLOOKUP($B78,'Liste des adhérents'!$B$2:$D$2000,3,FALSE),\"\")","v":""},46,null,39,40,39,null,33,{"$f":"SUM($E78:K78)","v":197}]
[24,130987028401,{"$f":"IFERROR(VLOOKUP($B79,'Liste des adhérents'!$B$2:$D$2000,2,FALSE),\"\")","v":""},{"$f":"IFERROR(VLOOKUP($B79,'Liste des adhérents'!$B$2:$D$2000,3,FALSE),\"\")","v":""},32,38,27,27,36,36,null,{"$f":"SUM($E79:K79)","v":196}]
[28,131499008201,{"$f":"IFERROR(VLOOKUP($B80,'Liste des adhérents'!$B$2:$D$2000,2,FALSE),\"\")","v":"Images Expressions - Cagnes sur Mer"},{"$f":"IFERROR(VLOOKUP($B80,'Liste des adhérents'!$B$2:$D$2000,3,FALSE),\"\")","v":"Prénom&Nom952"},45,41,null,41,49,null,20,{"$f":"SUM($E80:K80)","v":196}]
[144,131499010601,{"$f":"IFERROR(VLOOKUP($B81,'Liste des adhérents'!$B$2:$D$2000,2,FALSE),\"\")","v":""},{"$f":"IFERROR(VLOOKUP($B81,'Liste des adhérents'!$B$2:$D$2000,3,FALSE),\"\")","v":""},46,40,37,32,39,null,null,{"$f":"SUM($E81:K81)","v":194}]
[52,131956005701,{"$f":"IFERROR(VLOOKUP($B82,'Liste des adhérents'!$B$2:$D$2000,2,FALSE),\"\")","v":""},{"$f":"IFERROR(VLOOKUP($B82,'Liste des adhérents'!$B$2:$D$2000,3,FALSE),\"\")","v":""},36,31,34,28,38,null,27,{"$f":"SUM($E82:K82)","v":194}]
[273,131227008601,{"$f":"IFERROR(VLOOKUP($B83,'Liste des adhérents'!$B$2:$D$2000,2,FALSE),\"\")","v":"Photo Ciné Club Courthezonnais"},{"$f":"IFERROR(VLOOKUP($B83,'Liste des adhérents'!$B$2:$D$2000,3,FALSE),\"\")","v":"Prénom&Nom656"},null,null,53,44,42,53,null,{"$f":"SUM($E83:K83)","v":192}]
[183,131992000401,{"$f":"IFERROR(VLOOKUP($B84,'Liste des adhérents'!$B$2:$D$2000,2,FALSE),\"\")","v":"Photo Club Velauxien - Clin d'Œil"},{"$f":"IFERROR(VLOOKUP($B84,'Liste des adhérents'!$B$2:$D$2000,3,FALSE),\"\")","v":"Prénom&Nom1617"},null,39,32,20,45,32,24,{"$f":"SUM($E84:K84)","v":192}]
[65,132086001401,{"$f":"IFERROR(VLOOKUP($B85,'Liste des adhérents'!$B$2:$D$2000,2,FALSE),\"\")","v":"Objectif Image Nice"},{"$f":"IFERROR(VLOOKUP($B85,'Liste des adhérents'!$B$2:$D$2000,3,FALSE),\"\")","v":"Prénom&Nom1773"},33,41,37,46,34,null,null,{"$f":"SUM($E85:K85)","v":191}]
[115,130878013401,{"$f":"IFERROR(VLOOKUP($B86,'Liste des adhérents'!$B$2:$D$2000,2,FALSE),\"\")","v":"PC Antoine Santoru-Port de Bouc"},{"$f":"IFERROR(VLOOKUP($B86,'Liste des adhérents'!$B$2:$D$2000,3,FALSE),\"\")","v":"Prénom&Nom261"},null,30,36,35,30,30,28,{"$f":"SUM($E86:K86)","v":189}]
[225,131499003601,{"$f":"IFERROR(VLOOKUP($B87,'Liste des adhérents'!$B$2:$D$2000,2,FALSE),\"\")","v":"Images Expressions - Cagnes sur Mer"},{"$f":"IFERROR(VLOOKUP($B87,'Liste des adhérents'!$B$2:$D$2000,3,FALSE),\"\")","v":"Prénom&Nom906"},34,33,35,null,50,null,36,{"$f":"SUM($E87:K87)","v":188}]
[50,132084002301,{"$f":"IFERROR(VLOOKUP($B88,'Liste des adhérents'!$B$2:$D$2000,2,FALSE),\"\")","v":"Azur Photo Passion"},{"$f":"IFERROR(VLOOKUP($B88,'Liste des adhérents'!$B$2:$D$2000,3,FALSE),\"\")","v":"Prénom&Nom1748"},null,37,54,43,null,54,null,{"$f":"SUM($E88:K88)","v":188}]
[97,130527015501,{"$f":"IFERROR(VLOOKUP($B89,'Liste des adhérents'!$B$2:$D$2000,2,FALSE),\"\")","v":"Photo Club de Martigues"},{"$f":"IFERROR(VLOOKUP($B89,'Liste des adhérents'!$B$2:$D$2000,3,FALSE),\"\")","v":"Prénom&Nom223"},46,null,45,31,32,null,32,{"$f":"SUM($E89:K89)","v":186}]
[261,131956001401,{"$f":"IFERROR(VLOOKUP($B90,'Liste des adhérents'!$B$2:$D$2000,2,FALSE),\"\")","v":"Photo Contact Puyricard"},{"$f":"IFERROR(VLOOKUP($B90,'Liste des adhérents'!$B$2:$D$2000,3,FALSE),\"\")","v":"Prénom&Nom1492"},null,32,38,18,35,32,31,{"$f":"SUM($E90:K90)","v":186}]
[45,132193000401,{"$f":"IFERROR(VLOOKUP($B91,'Liste des adhérents'!$B$2:$D$2000,2,FALSE),\"\")","v":""},{"$f":"IFERROR(VLOOKUP($B91,'Liste des adhérents'!$B$2:$D$2000,3,FALSE),\"\")","v":""},41,37,null,null,33,37,37,{"$f":"SUM($E91:K91)","v":185}]
[54,131376017701,{"$f":"IFERROR(VLOOKUP($B92,'Liste des adhérents'!$B$2:$D$2000,2,FALSE),\"\")","v":"PHOCAL "},{"$f":"IFERROR(VLOOKUP($B92,'Liste des adhérents'!$B$2:$D$2000,3,FALSE),\"\")","v":"Prénom&Nom750"},51,null,48,18,null,18,47,{"$f":"SUM($E92:K92)","v":182}]
[106,130925008401,{"$f":"IFERROR(VLOOKUP($B93,'Liste des adhérents'!$B$2:$D$2000,2,FALSE),\"\")","v":"A.S.L.P.S. Photo Fos-sur-Mer"},{"$f":"IFERROR(VLOOKUP($B93,'Liste des adhérents'!$B$2:$D$2000,3,FALSE),\"\")","v":"Prénom&Nom337"},51,39,40,null,51,null,null,{"$f":"SUM($E93:K93)","v":181}]
[258,132084003601,{"$f":"IFERROR(VLOOKUP($B94,'Liste des adhérents'!$B$2:$D$2000,2,FALSE),\"\")","v":"Azur Photo Passion"},{"$f":"IFERROR(VLOOKUP($B94,'Liste des adhérents'!$B$2:$D$2000,3,FALSE),\"\")","v":"Prénom&Nom1758"},null,33,null,55,35,55,null,{"$f":"SUM($E94:K94)","v":178}]
[211,131683007601,{"$f":"IFERROR(VLOOKUP($B95,'Liste des adhérents'!$B$2:$D$2000,2,FALSE),\"\")","v":""},{"$f":"IFERROR(VLOOKUP($B95,'Liste des adhérents'!$B$2:$D$2000,3,FALSE),\"\")","v":""},null,42,31,42,32,null,29,{"$f":"SUM($E95:K95)","v":176}]
[251,132060000401,{"$f":"IFERROR(VLOOKUP($B96,'Liste des adhérents'!$B$2:$D$2000,2,FALSE),\"\")","v":"Image Club Gardéen"},{"$f":"IFERROR(VLOOKUP($B96,'Liste des adhérents'!$B$2:$D$2000,3,FALSE),\"\")","v":"Prénom&Nom1703"},18,null,43,36,40,null,39,{"$f":"SUM($E96:K96)","v":176}]
[93,130987001601,{"$f":"IFERROR(VLOOKUP($B97,'Liste des adhérents'!$B$2:$D$2000,2,FALSE),\"\")","v":"Cl. Phot'Azur Six Fours Plages"},{"$f":"IFERROR(VLOOKUP($B97,'Liste des adhérents'!$B$2:$D$2000,3,FALSE),\"\")","v":"Prénom&Nom363"},35,36,35,32,37,null,null,{"$f":"SUM($E97:K97)","v":175}]
[164,131353006201,{"$f":"IFERROR(VLOOKUP($B98,'Liste des adhérents'!$B$2:$D$2000,2,FALSE),\"\")","v":"Photo Club de La Crau"},{"$f":"IFERROR(VLOOKUP($B98,'Liste des adhérents'!$B$2:$D$2000,3,FALSE),\"\")","v":"Prénom&Nom682"},null,31,39,35,37,null,31,{"$f":"SUM($E98:K98)","v":173}]
[196,130462001101,{"$f":"IFERROR(VLOOKUP($B99,'Liste des adhérents'!$B$2:$D$2000,2,FALSE),\"\")","v":"Eurocopter Image 2000"},{"$f":"IFERROR(VLOOKUP($B99,'Liste des adhérents'!$B$2:$D$2000,3,FALSE),\"\")","v":"Prénom&Nom81"},null,null,38,45,43,45,null,{"$f":"SUM($E99:K99)","v":171}]
[91,130925009901,{"$f":"IFERROR(VLOOKUP($B100,'Liste des adhérents'!$B$2:$D$2000,2,FALSE),\"\")","v":"A.S.L.P.S. Photo Fos-sur-Mer"},{"$f":"IFERROR(VLOOKUP($B100,'Liste des adhérents'!$B$2:$D$2000,3,FALSE),\"\")","v":"Prénom&Nom352"},30,38,34,32,37,null,null,{"$f":"SUM($E100:K100)","v":171}]
[181,131683008101,{"$f":"IFERROR(VLOOKUP($B101,'Liste des adhérents'!$B$2:$D$2000,2,FALSE),\"\")","v":"Marius St Mitre Les Remparts"},{"$f":"IFERROR(VLOOKUP($B101,'Liste des adhérents'!$B$2:$D$2000,3,FALSE),\"\")","v":"Prénom&Nom1095"},null,null,37,null,43,43,48,{"$f":"SUM($E101:K101)","v":171}]
[264,131956000201,{"$f":"IFERROR(VLOOKUP($B102,'Liste des adhérents'!$B$2:$D$2000,2,FALSE),\"\")","v":"Photo Contact Puyricard"},{"$f":"IFERROR(VLOOKUP($B102,'Liste des adhérents'!$B$2:$D$2000,3,FALSE),\"\")","v":"Prénom&Nom1480"},null,47,44,41,39,null,null,{"$f":"SUM($E102:K102)","v":171}]
[104,130527013301,{"$f":"IFERROR(VLOOKUP($B103,'Liste des adhérents'!$B$2:$D$2000,2,FALSE),\"\")","v":"Photo Club de Martigues"},{"$f":"IFERROR(VLOOKUP($B103,'Liste des adhérents'!$B$2:$D$2000,3,FALSE),\"\")","v":"Prénom&Nom201"},47,39,40,44,null,null,null,{"$f":"SUM($E103:K103)","v":170}]
[126,131956002901,{"$f":"IFERROR(VLOOKUP($B104,'Liste des adhérents'!$B$2:$D$2000,2,FALSE),\"\")","v":"Photo Contact Puyricard"},{"$f":"IFERROR(VLOOKUP($B104,'Liste des adhérents'!$B$2:$D$2000,3,FALSE),\"\")","v":"Prénom&Nom1507"},43,null,40,28,28,28,null,{"$f":"SUM($E104:K104)","v":167}]
[256,132084003501,{"$f":"IFERROR(VLOOKUP($B105,'Liste des adhérents'!$B$2:$D$2000,2,FALSE),\"\")","v":""},{"$f":"IFERROR(VLOOKUP($B105,'Liste des adhérents'!$B$2:$D$2000,3,FALSE),\"\")","v":""},null,43,null,40,38,43,null,{"$f":"SUM($E105:K105)","v":164}]
[133,132103002301,{"$f":"IFERROR(VLOOKUP($B106,'Liste des adhérents'!$B$2:$D$2000,2,FALSE),\"\")","v":""},{"$f":"IFERROR(VLOOKUP($B106,'Liste des adhérents'!$B$2:$D$2000,3,FALSE),\"\")","v":""},46,43,43,null,null,null,31,{"$f":"SUM($E106:K106)","v":163}]
[151,132193001201,{"$f":"IFERROR(VLOOKUP($B107,'Liste des adhérents'!$B$2:$D$2000,2,FALSE),\"\")","v":""},{"$f":"IFERROR(VLOOKUP($B107,'Liste des adhérents'!$B$2:$D$2000,3,FALSE),\"\")","v":""},null,34,null,37,37,37,18,{"$f":"SUM($E107:K107)","v":163}]
[79,131499010401,{"$f":"IFERROR(VLOOKUP($B108,'Liste des adhérents'!$B$2:$D$2000,2,FALSE),\"\")","v":""},{"$f":"IFERROR(VLOOKUP($B108,'Liste des adhérents'!$B$2:$D$2000,3,FALSE),\"\")","v":""},37,null,43,41,41,null,null,{"$f":"SUM($E108:K108)","v":162}]
[62,130878015201,{"$f":"IFERROR(VLOOKUP($B109,'Liste des adhérents'!$B$2:$D$2000,2,FALSE),\"\")","v":"PC Antoine Santoru-Port de Bouc"},{"$f":"IFERROR(VLOOKUP($B109,'Liste des adhérents'!$B$2:$D$2000,3,FALSE),\"\")","v":"Prénom&Nom279"},43,null,null,18,42,18,39,{"$f":"SUM($E109:K109)","v":160}]
[3,131619004601,{"$f":"IFERROR(VLOOKUP($B110,'Liste des adhérents'!$B$2:$D$2000,2,FALSE),\"\")","v":"Optique Diaporama Marseille"},{"$f":"IFERROR(VLOOKUP($B110,'Liste des adhérents'!$B$2:$D$2000,3,FALSE),\"\")","v":"Prénom&Nom1034"},35,null,39,null,43,null,43,{"$f":"SUM($E110:K110)","v":160}]
[124,132060000901,{"$f":"IFERROR(VLOOKUP($B111,'Liste des adhérents'!$B$2:$D$2000,2,FALSE),\"\")","v":"Image Club Gardéen"},{"$f":"IFERROR(VLOOKUP($B111,'Liste des adhérents'!$B$2:$D$2000,3,FALSE),\"\")","v":"Prénom&Nom1708"},35,28,null,38,30,null,29,{"$f":"SUM($E111:K111)","v":160}]
[10,131845004101,{"$f":"IFERROR(VLOOKUP($B112,'Liste des adhérents'!$B$2:$D$2000,2,FALSE),\"\")","v":""},{"$f":"IFERROR(VLOOKUP($B112,'Liste des adhérents'!$B$2:$D$2000,3,FALSE),\"\")","v":""},29,34,34,26,36,null,null,{"$f":"SUM($E112:K112)","v":159}]
[11,132060000101,{"$f":"IFERROR(VLOOKUP($B113,'Liste des adhérents'!$B$2:$D$2000,2,FALSE),\"\")","v":"Image Club Gardéen"},{"$f":"IFERROR(VLOOKUP($B113,'Liste des adhérents'!$B$2:$D$2000,3,FALSE),\"\")","v":"Prénom&Nom1699"},29,null,33,null,34,34,29,{"$f":"SUM($E113:K113)","v":159}]
[83,131376011801,{"$f":"IFERROR(VLOOKUP($B114,'Liste des adhérents'!$B$2:$D$2000,2,FALSE),\"\")","v":"PHOCAL "},{"$f":"IFERROR(VLOOKUP($B114,'Liste des adhérents'!$B$2:$D$2000,3,FALSE),\"\")","v":"Prénom&Nom708"},48,null,null,18,46,46,null,{"$f":"SUM($E114:K114)","v":158}]
[14,131683000701,{"$f":"IFERROR(VLOOKUP($B115,'Liste des adhérents'!$B$2:$D$2000,2,FALSE),\"\")","v":"Marius St Mitre Les Remparts"},{"$f":"IFERROR(VLOOKUP($B115,'Liste des adhérents'!$B$2:$D$2000,3,FALSE),\"\")","v":"Prénom&Nom1039"},32,30,48,null,null,48,null,{"$f":"SUM($E115:K115)","v":158}]
[64,131824003101,{"$f":"IFERROR(VLOOKUP($B116,'Liste des adhérents'!$B$2:$D$2000,2,FALSE),\"\")","v":""},{"$f":"IFERROR(VLOOKUP($B116,'Liste des adhérents'!$B$2:$D$2000,3,FALSE),\"\")","v":""},42,33,41,null,null,42,null,{"$f":"SUM($E116:K116)","v":158}]
[59,131845002101,{"$f":"IFERROR(VLOOKUP($B117,'Liste des adhérents'!$B$2:$D$2000,2,FALSE),\"\")","v":"Photo Club Carqueirannais"},{"$f":"IFERROR(VLOOKUP($B117,'Liste des adhérents'!$B$2:$D$2000,3,FALSE),\"\")","v":"Prénom&Nom1245"},38,34,42,null,44,null,null,{"$f":"SUM($E117:K117)","v":158}]
[263,130987002301,{"$f":"IFERROR(VLOOKUP($B118,'Liste des adhérents'!$B$2:$D$2000,2,FALSE),\"\")","v":"Cl. Phot'Azur Six Fours Plages"},{"$f":"IFERROR(VLOOKUP($B118,'Liste des adhérents'!$B$2:$D$2000,3,FALSE),\"\")","v":"Prénom&Nom364"},null,44,40,39,34,null,null,{"$f":"SUM($E118:K118)","v":157}]
[9,130987014001,{"$f":"IFERROR(VLOOKUP($B119,'Liste des adhérents'!$B$2:$D$2000,2,FALSE),\"\")","v":"Cl. Phot'Azur Six Fours Plages"},{"$f":"IFERROR(VLOOKUP($B119,'Liste des adhérents'!$B$2:$D$2000,3,FALSE),\"\")","v":"Prénom&Nom408"},48,37,23,null,null,48,null,{"$f":"SUM($E119:K119)","v":156}]
[257,131353007301,{"$f":"IFERROR(VLOOKUP($B120,'Liste des adhérents'!$B$2:$D$2000,2,FALSE),\"\")","v":""},{"$f":"IFERROR(VLOOKUP($B120,'Liste des adhérents'!$B$2:$D$2000,3,FALSE),\"\")","v":""},null,40,38,null,38,40,null,{"$f":"SUM($E120:K120)","v":156}]
[112,131956003401,{"$f":"IFERROR(VLOOKUP($B121,'Liste des adhérents'!$B$2:$D$2000,2,FALSE),\"\")","v":"Photo Contact Puyricard"},{"$f":"IFERROR(VLOOKUP($B121,'Liste des adhérents'!$B$2:$D$2000,3,FALSE),\"\")","v":"Prénom&Nom1512"},37,24,34,null,33,24,null,{"$f":"SUM($E121:K121)","v":152}]
[268,131823006401,{"$f":"IFERROR(VLOOKUP($B122,'Liste des adhérents'!$B$2:$D$2000,2,FALSE),\"\")","v":"Photo Club Mouansois"},{"$f":"IFERROR(VLOOKUP($B122,'Liste des adhérents'!$B$2:$D$2000,3,FALSE),\"\")","v":"Prénom&Nom1193"},null,38,39,37,37,null,null,{"$f":"SUM($E122:K122)","v":151}]
[174,131823007601,{"$f":"IFERROR(VLOOKUP($B123,'Liste des adhérents'!$B$2:$D$2000,2,FALSE),\"\")","v":""},{"$f":"IFERROR(VLOOKUP($B123,'Liste des adhérents'!$B$2:$D$2000,3,FALSE),\"\")","v":""},33,null,40,null,30,null,43,{"$f":"SUM($E123:K123)","v":146}]
[186,132147000101,{"$f":"IFERROR(VLOOKUP($B124,'Liste des adhérents'!$B$2:$D$2000,2,FALSE),\"\")","v":""},{"$f":"IFERROR(VLOOKUP($B124,'Liste des adhérents'!$B$2:$D$2000,3,FALSE),\"\")","v":""},null,null,null,38,36,36,35,{"$f":"SUM($E124:K124)","v":145}]
[78,132084000301,{"$f":"IFERROR(VLOOKUP($B125,'Liste des adhérents'!$B$2:$D$2000,2,FALSE),\"\")","v":"Azur Photo Passion"},{"$f":"IFERROR(VLOOKUP($B125,'Liste des adhérents'!$B$2:$D$2000,3,FALSE),\"\")","v":"Prénom&Nom1728"},null,39,40,24,null,39,null,{"$f":"SUM($E125:K125)","v":142}]
[108,132193000501,{"$f":"IFERROR(VLOOKUP($B126,'Liste des adhérents'!$B$2:$D$2000,2,FALSE),\"\")","v":""},{"$f":"IFERROR(VLOOKUP($B126,'Liste des adhérents'!$B$2:$D$2000,3,FALSE),\"\")","v":""},null,25,null,21,41,25,30,{"$f":"SUM($E126:K126)","v":142}]
[2,131845000801,{"$f":"IFERROR(VLOOKUP($B127,'Liste des adhérents'!$B$2:$D$2000,2,FALSE),\"\")","v":"Photo Club Carqueirannais"},{"$f":"IFERROR(VLOOKUP($B127,'Liste des adhérents'!$B$2:$D$2000,3,FALSE),\"\")","v":"Prénom&Nom1232"},36,null,null,null,34,36,34,{"$f":"SUM($E127:K127)","v":140}]
[166,132086002501,{"$f":"IFERROR(VLOOKUP($B128,'Liste des adhérents'!$B$2:$D$2000,2,FALSE),\"\")","v":""},{"$f":"IFERROR(VLOOKUP($B128,'Liste des adhérents'!$B$2:$D$2000,3,FALSE),\"\")","v":""},38,32,38,null,null,32,null,{"$f":"SUM($E128:K128)","v":140}]
[98,130925008601,{"$f":"IFERROR(VLOOKUP($B129,'Liste des adhérents'!$B$2:$D$2000,2,FALSE),\"\")","v":"A.S.L.P.S. Photo Fos-sur-Mer"},{"$f":"IFERROR(VLOOKUP($B129,'Liste des adhérents'!$B$2:$D$2000,3,FALSE),\"\")","v":"Prénom&Nom339"},33,36,34,null,null,36,null,{"$f":"SUM($E129:K129)","v":139}]
[6,131845002501,{"$f":"IFERROR(VLOOKUP($B130,'Liste des adhérents'!$B$2:$D$2000,2,FALSE),\"\")","v":"Photo Club Carqueirannais"},{"$f":"IFERROR(VLOOKUP($B130,'Liste des adhérents'!$B$2:$D$2000,3,FALSE),\"\")","v":"Prénom&Nom1249"},30,41,32,null,null,null,36,{"$f":"SUM($E130:K130)","v":139}]
[87,131499009301,{"$f":"IFERROR(VLOOKUP($B131,'Liste des adhérents'!$B$2:$D$2000,2,FALSE),\"\")","v":""},{"$f":"IFERROR(VLOOKUP($B131,'Liste des adhérents'!$B$2:$D$2000,3,FALSE),\"\")","v":""},29,null,35,null,null,35,39,{"$f":"SUM($E131:K131)","v":138}]
[29,131823005701,{"$f":"IFERROR(VLOOKUP($B132,'Liste des adhérents'!$B$2:$D$2000,2,FALSE),\"\")","v":"Photo Club Mouansois"},{"$f":"IFERROR(VLOOKUP($B132,'Liste des adhérents'!$B$2:$D$2000,3,FALSE),\"\")","v":"Prénom&Nom1186"},36,28,37,null,null,null,37,{"$f":"SUM($E132:K132)","v":138}]
[142,131353007101,{"$f":"IFERROR(VLOOKUP($B133,'Liste des adhérents'!$B$2:$D$2000,2,FALSE),\"\")","v":""},{"$f":"IFERROR(VLOOKUP($B133,'Liste des adhérents'!$B$2:$D$2000,3,FALSE),\"\")","v":""},37,30,33,null,37,null,null,{"$f":"SUM($E133:K133)","v":137}]
[49,132086002601,{"$f":"IFERROR(VLOOKUP($B134,'Liste des adhérents'!$B$2:$D$2000,2,FALSE),\"\")","v":""},{"$f":"IFERROR(VLOOKUP($B134,'Liste des adhérents'!$B$2:$D$2000,3,FALSE),\"\")","v":""},32,26,null,39,40,null,null,{"$f":"SUM($E134:K134)","v":137}]
[259,130878013601,{"$f":"IFERROR(VLOOKUP($B135,'Liste des adhérents'!$B$2:$D$2000,2,FALSE),\"\")","v":"PC Antoine Santoru-Port de Bouc"},{"$f":"IFERROR(VLOOKUP($B135,'Liste des adhérents'!$B$2:$D$2000,3,FALSE),\"\")","v":"Prénom&Nom263"},null,34,null,null,34,34,33,{"$f":"SUM($E135:K135)","v":135}]
[169,131862000801,{"$f":"IFERROR(VLOOKUP($B136,'Liste des adhérents'!$B$2:$D$2000,2,FALSE),\"\")","v":"Déclic et des Claps - Roquefort les Pins"},{"$f":"IFERROR(VLOOKUP($B136,'Liste des adhérents'!$B$2:$D$2000,3,FALSE),\"\")","v":"Prénom&Nom1346"},51,24,36,null,null,24,null,{"$f":"SUM($E136:K136)","v":135}]
[31,132089000101,{"$f":"IFERROR(VLOOKUP($B137,'Liste des adhérents'!$B$2:$D$2000,2,FALSE),\"\")","v":"La Farledo Objectif Club"},{"$f":"IFERROR(VLOOKUP($B137,'Liste des adhérents'!$B$2:$D$2000,3,FALSE),\"\")","v":"Prénom&Nom1775"},36,29,null,null,36,null,34,{"$f":"SUM($E137:K137)","v":135}]
[30,132060002201,{"$f":"IFERROR(VLOOKUP($B138,'Liste des adhérents'!$B$2:$D$2000,2,FALSE),\"\")","v":""},{"$f":"IFERROR(VLOOKUP($B138,'Liste des adhérents'!$B$2:$D$2000,3,FALSE),\"\")","v":""},41,29,36,null,null,null,27,{"$f":"SUM($E138:K138)","v":133}]
[179,132103000101,{"$f":"IFERROR(VLOOKUP($B139,'Liste des adhérents'!$B$2:$D$2000,2,FALSE),\"\")","v":"Club Photo St Laurent du Var"},{"$f":"IFERROR(VLOOKUP($B139,'Liste des adhérents'!$B$2:$D$2000,3,FALSE),\"\")","v":"Prénom&Nom1786"},null,23,55,null,null,55,null,{"$f":"SUM($E139:K139)","v":133}]
[66,132023000101,{"$f":"IFERROR(VLOOKUP($B140,'Liste des adhérents'!$B$2:$D$2000,2,FALSE),\"\")","v":"Club Art Déclic de l' Argens"},{"$f":"IFERROR(VLOOKUP($B140,'Liste des adhérents'!$B$2:$D$2000,3,FALSE),\"\")","v":"Prénom&Nom1654"},null,18,38,null,36,38,null,{"$f":"SUM($E140:K140)","v":130}]
[63,132089000201,{"$f":"IFERROR(VLOOKUP($B141,'Liste des adhérents'!$B$2:$D$2000,2,FALSE),\"\")","v":"La Farledo Objectif Club"},{"$f":"IFERROR(VLOOKUP($B141,'Liste des adhérents'!$B$2:$D$2000,3,FALSE),\"\")","v":"Prénom&Nom1777"},24,31,43,null,null,31,null,{"$f":"SUM($E141:K141)","v":129}]
[34,132060000801,{"$f":"IFERROR(VLOOKUP($B142,'Liste des adhérents'!$B$2:$D$2000,2,FALSE),\"\")","v":"Image Club Gardéen"},{"$f":"IFERROR(VLOOKUP($B142,'Liste des adhérents'!$B$2:$D$2000,3,FALSE),\"\")","v":"Prénom&Nom1707"},30,32,33,33,null,null,null,{"$f":"SUM($E142:K142)","v":128}]
[159,131376017601,{"$f":"IFERROR(VLOOKUP($B143,'Liste des adhérents'!$B$2:$D$2000,2,FALSE),\"\")","v":"PHOCAL "},{"$f":"IFERROR(VLOOKUP($B143,'Liste des adhérents'!$B$2:$D$2000,3,FALSE),\"\")","v":"Prénom&Nom749"},32,24,null,35,null,35,null,{"$f":"SUM($E143:K143)","v":126}]
[160,130987012601,{"$f":"IFERROR(VLOOKUP($B144,'Liste des adhérents'!$B$2:$D$2000,2,FALSE),\"\")","v":"Cl. Phot'Azur Six Fours Plages"},{"$f":"IFERROR(VLOOKUP($B144,'Liste des adhérents'!$B$2:$D$2000,3,FALSE),\"\")","v":"Prénom&Nom394"},null,41,42,null,null,42,null,{"$f":"SUM($E144:K144)","v":125}]
[278,132203000701,{"$f":"IFERROR(VLOOKUP($B145,'Liste des adhérents'!$B$2:$D$2000,2,FALSE),\"\")","v":""},{"$f":"IFERROR(VLOOKUP($B145,'Liste des adhérents'!$B$2:$D$2000,3,FALSE),\"\")","v":""},null,null,40,45,40,null,null,{"$f":"SUM($E145:K145)","v":125}]
[191,131619005001,{"$f":"IFERROR(VLOOKUP($B146,'Liste des adhérents'!$B$2:$D$2000,2,FALSE),\"\")","v":""},{"$f":"IFERROR(VLOOKUP($B146,'Liste des adhérents'!$B$2:$D$2000,3,FALSE),\"\")","v":""},null,39,null,null,45,39,null,{"$f":"SUM($E146:K146)","v":123}]
[25,131845003401,{"$f":"IFERROR(VLOOKUP($B147,'Liste des adhérents'!$B$2:$D$2000,2,FALSE),\"\")","v":"Photo Club Carqueirannais"},{"$f":"IFERROR(VLOOKUP($B147,'Liste des adhérents'!$B$2:$D$2000,3,FALSE),\"\")","v":"Prénom&Nom1258"},28,27,null,null,40,28,null,{"$f":"SUM($E147:K147)","v":123}]
[206,130993012301,{"$f":"IFERROR(VLOOKUP($B148,'Liste des adhérents'!$B$2:$D$2000,2,FALSE),\"\")","v":"P.C. La Garde - Marseille"},{"$f":"IFERROR(VLOOKUP($B148,'Liste des adhérents'!$B$2:$D$2000,3,FALSE),\"\")","v":"Prénom&Nom560"},null,null,null,40,41,41,null,{"$f":"SUM($E148:K148)","v":122}]
[204,131499008601,{"$f":"IFERROR(VLOOKUP($B149,'Liste des adhérents'!$B$2:$D$2000,2,FALSE),\"\")","v":""},{"$f":"IFERROR(VLOOKUP($B149,'Liste des adhérents'!$B$2:$D$2000,3,FALSE),\"\")","v":""},null,null,40,null,41,40,null,{"$f":"SUM($E149:K149)","v":121}]
[173,131353007401,{"$f":"IFERROR(VLOOKUP($B150,'Liste des adhérents'!$B$2:$D$2000,2,FALSE),\"\")","v":""},{"$f":"IFERROR(VLOOKUP($B150,'Liste des adhérents'!$B$2:$D$2000,3,FALSE),\"\")","v":""},null,38,40,null,41,null,null,{"$f":"SUM($E150:K150)","v":119}]
[147,130527009201,{"$f":"IFERROR(VLOOKUP($B151,'Liste des adhérents'!$B$2:$D$2000,2,FALSE),\"\")","v":"Photo Club de Martigues"},{"$f":"IFERROR(VLOOKUP($B151,'Liste des adhérents'!$B$2:$D$2000,3,FALSE),\"\")","v":"Prénom&Nom163"},null,35,null,40,null,40,null,{"$f":"SUM($E151:K151)","v":115}]
[137,130987028201,{"$f":"IFERROR(VLOOKUP($B152,'Liste des adhérents'!$B$2:$D$2000,2,FALSE),\"\")","v":""},{"$f":"IFERROR(VLOOKUP($B152,'Liste des adhérents'!$B$2:$D$2000,3,FALSE),\"\")","v":""},42,null,null,31,null,42,null,{"$f":"SUM($E152:K152)","v":115}]
[1,131862001001,{"$f":"IFERROR(VLOOKUP($B153,'Liste des adhérents'!$B$2:$D$2000,2,FALSE),\"\")","v":"Déclic et des Claps - Roquefort les Pins"},{"$f":"IFERROR(VLOOKUP($B153,'Liste des adhérents'!$B$2:$D$2000,3,FALSE),\"\")","v":"Prénom&Nom1348"},null,39,36,null,null,39,null,{"$f":"SUM($E153:K153)","v":114}]
[68,131956005901,{"$f":"IFERROR(VLOOKUP($B154,'Liste des adhérents'!$B$2:$D$2000,2,FALSE),\"\")","v":""},{"$f":"IFERROR(VLOOKUP($B154,'Liste des adhérents'!$B$2:$D$2000,3,FALSE),\"\")","v":""},43,null,null,33,37,null,null,{"$f":"SUM($E154:K154)","v":113}]
[43,130925008701,{"$f":"IFERROR(VLOOKUP($B155,'Liste des adhérents'!$B$2:$D$2000,2,FALSE),\"\")","v":"A.S.L.P.S. Photo Fos-sur-Mer"},{"$f":"IFERROR(VLOOKUP($B155,'Liste des adhérents'!$B$2:$D$2000,3,FALSE),\"\")","v":"Prénom&Nom340"},null,34,39,37,null,null,null,{"$f":"SUM($E155:K155)","v":110}]
[149,131823008701,{"$f":"IFERROR(VLOOKUP($B156,'Liste des adhérents'!$B$2:$D$2000,2,FALSE),\"\")","v":""},{"$f":"IFERROR(VLOOKUP($B156,'Liste des adhérents'!$B$2:$D$2000,3,FALSE),\"\")","v":""},null,41,28,null,null,41,null,{"$f":"SUM($E156:K156)","v":110}]
[185,130987025001,{"$f":"IFERROR(VLOOKUP($B157,'Liste des adhérents'!$B$2:$D$2000,2,FALSE),\"\")","v":""},{"$f":"IFERROR(VLOOKUP($B157,'Liste des adhérents'!$B$2:$D$2000,3,FALSE),\"\")","v":""},null,39,null,30,40,null,null,{"$f":"SUM($E157:K157)","v":109}]
[192,130987026701,{"$f":"IFERROR(VLOOKUP($B158,'Liste des adhérents'!$B$2:$D$2000,2,FALSE),\"\")","v":""},{"$f":"IFERROR(VLOOKUP($B158,'Liste des adhérents'!$B$2:$D$2000,3,FALSE),\"\")","v":""},null,null,32,37,40,null,null,{"$f":"SUM($E158:K158)","v":109}]
[5,131494002301,{"$f":"IFERROR(VLOOKUP($B159,'Liste des adhérents'!$B$2:$D$2000,2,FALSE),\"\")","v":"Photo-Club du Brianconnais"},{"$f":"IFERROR(VLOOKUP($B159,'Liste des adhérents'!$B$2:$D$2000,3,FALSE),\"\")","v":"Prénom&Nom864"},null,35,32,null,42,null,null,{"$f":"SUM($E159:K159)","v":109}]
[276,131956006501,{"$f":"IFERROR(VLOOKUP($B160,'Liste des adhérents'!$B$2:$D$2000,2,FALSE),\"\")","v":""},{"$f":"IFERROR(VLOOKUP($B160,'Liste des adhérents'!$B$2:$D$2000,3,FALSE),\"\")","v":""},null,null,34,39,36,null,null,{"$f":"SUM($E160:K160)","v":109}]
[157,131956006201,{"$f":"IFERROR(VLOOKUP($B161,'Liste des adhérents'!$B$2:$D$2000,2,FALSE),\"\")","v":""},{"$f":"IFERROR(VLOOKUP($B161,'Liste des adhérents'!$B$2:$D$2000,3,FALSE),\"\")","v":""},null,25,39,null,null,null,44,{"$f":"SUM($E161:K161)","v":108}]
[109,130527011601,{"$f":"IFERROR(VLOOKUP($B162,'Liste des adhérents'!$B$2:$D$2000,2,FALSE),\"\")","v":"Photo Club de Martigues"},{"$f":"IFERROR(VLOOKUP($B162,'Liste des adhérents'!$B$2:$D$2000,3,FALSE),\"\")","v":"Prénom&Nom184"},39,null,37,null,null,null,31,{"$f":"SUM($E162:K162)","v":107}]
[270,131494003201,{"$f":"IFERROR(VLOOKUP($B163,'Liste des adhérents'!$B$2:$D$2000,2,FALSE),\"\")","v":"Photo-Club du Brianconnais"},{"$f":"IFERROR(VLOOKUP($B163,'Liste des adhérents'!$B$2:$D$2000,3,FALSE),\"\")","v":"Prénom&Nom869"},null,null,39,29,null,39,null,{"$f":"SUM($E163:K163)","v":107}]
[167,130987016601,{"$f":"IFERROR(VLOOKUP($B164,'Liste des adhérents'!$B$2:$D$2000,2,FALSE),\"\")","v":"Cl. Phot'Azur Six Fours Plages"},{"$f":"IFERROR(VLOOKUP($B164,'Liste des adhérents'!$B$2:$D$2000,3,FALSE),\"\")","v":"Prénom&Nom434"},null,null,null,38,30,38,null,{"$f":"SUM($E164:K164)","v":106}]
[208,131879001101,{"$f":"IFERROR(VLOOKUP($B165,'Liste des adhérents'!$B$2:$D$2000,2,FALSE),\"\")","v":"Association Sportive Berroise"},{"$f":"IFERROR(VLOOKUP($B165,'Liste des adhérents'!$B$2:$D$2000,3,FALSE),\"\")","v":"Prénom&Nom1422"},null,null,null,29,38,38,null,{"$f":"SUM($E165:K165)","v":105}]
[136,130993015101,{"$f":"IFERROR(VLOOKUP($B166,'Liste des adhérents'!$B$2:$D$2000,2,FALSE),\"\")","v":"P.C. La Garde - Marseille"},{"$f":"IFERROR(VLOOKUP($B166,'Liste des adhérents'!$B$2:$D$2000,3,FALSE),\"\")","v":"Prénom&Nom588"},18,null,null,43,null,43,null,{"$f":"SUM($E166:K166)","v":104}]
[85,130993015401,{"$f":"IFERROR(VLOOKUP($B167,'Liste des adhérents'!$B$2:$D$2000,2,FALSE),\"\")","v":""},{"$f":"IFERROR(VLOOKUP($B167,'Liste des adhérents'!$B$2:$D$2000,3,FALSE),\"\")","v":""},42,null,null,null,31,31,null,{"$f":"SUM($E167:K167)","v":104}]
[92,131499010101,{"$f":"IFERROR(VLOOKUP($B168,'Liste des adhérents'!$B$2:$D$2000,2,FALSE),\"\")","v":""},{"$f":"IFERROR(VLOOKUP($B168,'Liste des adhérents'!$B$2:$D$2000,3,FALSE),\"\")","v":""},37,null,null,31,34,null,null,{"$f":"SUM($E168:K168)","v":102}]
[130,131956005101,{"$f":"IFERROR(VLOOKUP($B169,'Liste des adhérents'!$B$2:$D$2000,2,FALSE),\"\")","v":""},{"$f":"IFERROR(VLOOKUP($B169,'Liste des adhérents'!$B$2:$D$2000,3,FALSE),\"\")","v":""},34,34,null,null,null,34,null,{"$f":"SUM($E169:K169)","v":102}]
[84,131862005801,{"$f":"IFERROR(VLOOKUP($B170,'Liste des adhérents'!$B$2:$D$2000,2,FALSE),\"\")","v":"Déclic et des Claps - Roquefort les Pins"},{"$f":"IFERROR(VLOOKUP($B170,'Liste des adhérents'!$B$2:$D$2000,3,FALSE),\"\")","v":"Prénom&Nom1391"},null,34,33,null,null,34,null,{"$f":"SUM($E170:K170)","v":101}]
[121,131862001101,{"$f":"IFERROR(VLOOKUP($B171,'Liste des adhérents'!$B$2:$D$2000,2,FALSE),\"\")","v":"Déclic et des Claps - Roquefort les Pins"},{"$f":"IFERROR(VLOOKUP($B171,'Liste des adhérents'!$B$2:$D$2000,3,FALSE),\"\")","v":"Prénom&Nom1349"},29,30,41,null,null,null,null,{"$f":"SUM($E171:K171)","v":100}]
[172,130878015801,{"$f":"IFERROR(VLOOKUP($B172,'Liste des adhérents'!$B$2:$D$2000,2,FALSE),\"\")","v":"PC Antoine Santoru-Port de Bouc"},{"$f":"IFERROR(VLOOKUP($B172,'Liste des adhérents'!$B$2:$D$2000,3,FALSE),\"\")","v":"Prénom&Nom285"},null,null,null,null,49,49,null,{"$f":"SUM($E172:K172)","v":98}]
[120,132060002401,{"$f":"IFERROR(VLOOKUP($B173,'Liste des adhérents'!$B$2:$D$2000,2,FALSE),\"\")","v":""},{"$f":"IFERROR(VLOOKUP($B173,'Liste des adhérents'!$B$2:$D$2000,3,FALSE),\"\")","v":""},35,31,32,null,null,null,null,{"$f":"SUM($E173:K173)","v":98}]
[117,131823004201,{"$f":"IFERROR(VLOOKUP($B174,'Liste des adhérents'!$B$2:$D$2000,2,FALSE),\"\")","v":"Photo Club Mouansois"},{"$f":"IFERROR(VLOOKUP($B174,'Liste des adhérents'!$B$2:$D$2000,3,FALSE),\"\")","v":"Prénom&Nom1171"},null,null,34,29,34,null,null,{"$f":"SUM($E174:K174)","v":97}]
[279,130993013301,{"$f":"IFERROR(VLOOKUP($B175,'Liste des adhérents'!$B$2:$D$2000,2,FALSE),\"\")","v":"P.C. La Garde - Marseille"},{"$f":"IFERROR(VLOOKUP($B175,'Liste des adhérents'!$B$2:$D$2000,3,FALSE),\"\")","v":"Prénom&Nom570"},null,null,null,47,null,47,null,{"$f":"SUM($E175:K175)","v":94}]
[90,131499011001,{"$f":"IFERROR(VLOOKUP($B176,'Liste des adhérents'!$B$2:$D$2000,2,FALSE),\"\")","v":"Images Expressions - Cagnes sur Mer"},{"$f":"IFERROR(VLOOKUP($B176,'Liste des adhérents'!$B$2:$D$2000,3,FALSE),\"\")","v":"Prénom&Nom957"},null,null,null,42,51,null,null,{"$f":"SUM($E176:K176)","v":93}]
[266,131683002601,{"$f":"IFERROR(VLOOKUP($B177,'Liste des adhérents'!$B$2:$D$2000,2,FALSE),\"\")","v":"Marius St Mitre Les Remparts"},{"$f":"IFERROR(VLOOKUP($B177,'Liste des adhérents'!$B$2:$D$2000,3,FALSE),\"\")","v":"Prénom&Nom1050"},null,37,null,56,null,null,null,{"$f":"SUM($E177:K177)","v":93}]
[267,131683006501,{"$f":"IFERROR(VLOOKUP($B178,'Liste des adhérents'!$B$2:$D$2000,2,FALSE),\"\")","v":"Marius St Mitre Les Remparts"},{"$f":"IFERROR(VLOOKUP($B178,'Liste des adhérents'!$B$2:$D$2000,3,FALSE),\"\")","v":"Prénom&Nom1088"},null,28,34,30,null,null,null,{"$f":"SUM($E178:K178)","v":92}]
[33,131683006901,{"$f":"IFERROR(VLOOKUP($B179,'Liste des adhérents'!$B$2:$D$2000,2,FALSE),\"\")","v":"Marius St Mitre Les Remparts"},{"$f":"IFERROR(VLOOKUP($B179,'Liste des adhérents'!$B$2:$D$2000,3,FALSE),\"\")","v":"Prénom&Nom1092"},null,null,51,null,41,null,null,{"$f":"SUM($E179:K179)","v":92}]
[203,132023002201,{"$f":"IFERROR(VLOOKUP($B180,'Liste des adhérents'!$B$2:$D$2000,2,FALSE),\"\")","v":"Club Art Déclic de l' Argens"},{"$f":"IFERROR(VLOOKUP($B180,'Liste des adhérents'!$B$2:$D$2000,3,FALSE),\"\")","v":"Prénom&Nom1670"},null,null,null,49,43,null,null,{"$f":"SUM($E180:K180)","v":92}]
[88,132089000301,{"$f":"IFERROR(VLOOKUP($B181,'Liste des adhérents'!$B$2:$D$2000,2,FALSE),\"\")","v":"La Farledo Objectif Club"},{"$f":"IFERROR(VLOOKUP($B181,'Liste des adhérents'!$B$2:$D$2000,3,FALSE),\"\")","v":"Prénom&Nom1778"},31,null,31,30,null,null,null,{"$f":"SUM($E181:K181)","v":92}]
[103,131956006001,{"$f":"IFERROR(VLOOKUP($B182,'Liste des adhérents'!$B$2:$D$2000,2,FALSE),\"\")","v":"Photo Contact Puyricard"},{"$f":"IFERROR(VLOOKUP($B182,'Liste des adhérents'!$B$2:$D$2000,3,FALSE),\"\")","v":"Prénom&Nom1523"},50,null,null,null,null,null,39,{"$f":"SUM($E182:K182)","v":89}]
[271,132193000601,{"$f":"IFERROR(VLOOKUP($B183,'Liste des adhérents'!$B$2:$D$2000,2,FALSE),\"\")","v":""},{"$f":"IFERROR(VLOOKUP($B183,'Liste des adhérents'!$B$2:$D$2000,3,FALSE),\"\")","v":""},null,null,44,null,null,44,null,{"$f":"SUM($E183:K183)","v":88}]
[128,130925010501,{"$f":"IFERROR(VLOOKUP($B184,'Liste des adhérents'!$B$2:$D$2000,2,FALSE),\"\")","v":""},{"$f":"IFERROR(VLOOKUP($B184,'Liste des adhérents'!$B$2:$D$2000,3,FALSE),\"\")","v":""},null,null,46,41,null,null,null,{"$f":"SUM($E184:K184)","v":87}]
[193,131494002101,{"$f":"IFERROR(VLOOKUP($B185,'Liste des adhérents'!$B$2:$D$2000,2,FALSE),\"\")","v":"Photo-Club du Brianconnais"},{"$f":"IFERROR(VLOOKUP($B185,'Liste des adhérents'!$B$2:$D$2000,3,FALSE),\"\")","v":"Prénom&Nom862"},null,29,null,25,null,25,null,{"$f":"SUM($E185:K185)","v":79}]
[233,130993013801,{"$f":"IFERROR(VLOOKUP($B186,'Liste des adhérents'!$B$2:$D$2000,2,FALSE),\"\")","v":"P.C. La Garde - Marseille"},{"$f":"IFERROR(VLOOKUP($B186,'Liste des adhérents'!$B$2:$D$2000,3,FALSE),\"\")","v":"Prénom&Nom575"},null,null,null,null,38,38,null,{"$f":"SUM($E186:K186)","v":76}]
[48,131376018001,{"$f":"IFERROR(VLOOKUP($B187,'Liste des adhérents'!$B$2:$D$2000,2,FALSE),\"\")","v":""},{"$f":"IFERROR(VLOOKUP($B187,'Liste des adhérents'!$B$2:$D$2000,3,FALSE),\"\")","v":""},38,38,null,null,null,null,null,{"$f":"SUM($E187:K187)","v":76}]
[232,131845000201,{"$f":"IFERROR(VLOOKUP($B188,'Liste des adhérents'!$B$2:$D$2000,2,FALSE),\"\")","v":"Photo Club Carqueirannais"},{"$f":"IFERROR(VLOOKUP($B188,'Liste des adhérents'!$B$2:$D$2000,3,FALSE),\"\")","v":"Prénom&Nom1226"},null,null,null,18,40,18,null,{"$f":"SUM($E188:K188)","v":76}]
[200,132084000201,{"$f":"IFERROR(VLOOKUP($B189,'Liste des adhérents'!$B$2:$D$2000,2,FALSE),\"\")","v":"Azur Photo Passion"},{"$f":"IFERROR(VLOOKUP($B189,'Liste des adhérents'!$B$2:$D$2000,3,FALSE),\"\")","v":"Prénom&Nom1727"},null,null,null,null,38,38,null,{"$f":"SUM($E189:K189)","v":76}]
[89,131956000401,{"$f":"IFERROR(VLOOKUP($B190,'Liste des adhérents'!$B$2:$D$2000,2,FALSE),\"\")","v":"Photo Contact Puyricard"},{"$f":"IFERROR(VLOOKUP($B190,'Liste des adhérents'!$B$2:$D$2000,3,FALSE),\"\")","v":"Prénom&Nom1482"},33,null,null,null,null,null,41,{"$f":"SUM($E190:K190)","v":74}]
[187,131956005401,{"$f":"IFERROR(VLOOKUP($B191,'Liste des adhérents'!$B$2:$D$2000,2,FALSE),\"\")","v":""},{"$f":"IFERROR(VLOOKUP($B191,'Liste des adhérents'!$B$2:$D$2000,3,FALSE),\"\")","v":""},null,null,34,null,null,null,40,{"$f":"SUM($E191:K191)","v":74}]
[21,131376015801,{"$f":"IFERROR(VLOOKUP($B192,'Liste des adhérents'!$B$2:$D$2000,2,FALSE),\"\")","v":"PHOCAL "},{"$f":"IFERROR(VLOOKUP($B192,'Liste des adhérents'!$B$2:$D$2000,3,FALSE),\"\")","v":"Prénom&Nom731"},36,null,null,37,null,null,null,{"$f":"SUM($E192:K192)","v":73}]
[153,131845001101,{"$f":"IFERROR(VLOOKUP($B193,'Liste des adhérents'!$B$2:$D$2000,2,FALSE),\"\")","v":"Photo Club Carqueirannais"},{"$f":"IFERROR(VLOOKUP($B193,'Liste des adhérents'!$B$2:$D$2000,3,FALSE),\"\")","v":"Prénom&Nom1235"},41,null,null,null,32,null,null,{"$f":"SUM($E193:K193)","v":73}]
[274,131879000901,{"$f":"IFERROR(VLOOKUP($B194,'Liste des adhérents'!$B$2:$D$2000,2,FALSE),\"\")","v":"Association Sportive Berroise"},{"$f":"IFERROR(VLOOKUP($B194,'Liste des adhérents'!$B$2:$D$2000,3,FALSE),\"\")","v":"Prénom&Nom1420"},null,null,44,null,29,null,null,{"$f":"SUM($E194:K194)","v":73}]
[216,130878013301,{"$f":"IFERROR(VLOOKUP($B195,'Liste des adhérents'!$B$2:$D$2000,2,FALSE),\"\")","v":"PC Antoine Santoru-Port de Bouc"},{"$f":"IFERROR(VLOOKUP($B195,'Liste des adhérents'!$B$2:$D$2000,3,FALSE),\"\")","v":"Prénom&Nom260"},null,null,null,36,null,36,null,{"$f":"SUM($E195:K195)","v":72}]
[22,130987028801,{"$f":"IFERROR(VLOOKUP($B196,'Liste des adhérents'!$B$2:$D$2000,2,FALSE),\"\")","v":""},{"$f":"IFERROR(VLOOKUP($B196,'Liste des adhérents'!$B$2:$D$2000,3,FALSE),\"\")","v":""},36,null,null,null,null,36,null,{"$f":"SUM($E196:K196)","v":72}]
[61,131845000301,{"$f":"IFERROR(VLOOKUP($B197,'Liste des adhérents'!$B$2:$D$2000,2,FALSE),\"\")","v":"Photo Club Carqueirannais"},{"$f":"IFERROR(VLOOKUP($B197,'Liste des adhérents'!$B$2:$D$2000,3,FALSE),\"\")","v":"Prénom&Nom1227"},36,null,null,null,null,36,null,{"$f":"SUM($E197:K197)","v":72}]
[215,131227008301,{"$f":"IFERROR(VLOOKUP($B198,'Liste des adhérents'!$B$2:$D$2000,2,FALSE),\"\")","v":""},{"$f":"IFERROR(VLOOKUP($B198,'Liste des adhérents'!$B$2:$D$2000,3,FALSE),\"\")","v":""},null,null,null,37,34,null,null,{"$f":"SUM($E198:K198)","v":71}]
[119,131499010801,{"$f":"IFERROR(VLOOKUP($B199,'Liste des adhérents'!$B$2:$D$2000,2,FALSE),\"\")","v":""},{"$f":"IFERROR(VLOOKUP($B199,'Liste des adhérents'!$B$2:$D$2000,3,FALSE),\"\")","v":""},null,30,null,41,null,null,null,{"$f":"SUM($E199:K199)","v":71}]
[255,130993016501,{"$f":"IFERROR(VLOOKUP($B200,'Liste des adhérents'!$B$2:$D$2000,2,FALSE),\"\")","v":""},{"$f":"IFERROR(VLOOKUP($B200,'Liste des adhérents'!$B$2:$D$2000,3,FALSE),\"\")","v":""},null,35,null,null,null,35,null,{"$f":"SUM($E200:K200)","v":70}]
[262,131956005501,{"$f":"IFERROR(VLOOKUP($B201,'Liste des adhérents'!$B$2:$D$2000,2,FALSE),\"\")","v":""},{"$f":"IFERROR(VLOOKUP($B201,'Liste des adhérents'!$B$2:$D$2000,3,FALSE),\"\")","v":""},null,33,null,null,null,null,37,{"$f":"SUM($E201:K201)","v":70}]
[100,132060002001,{"$f":"IFERROR(VLOOKUP($B202,'Liste des adhérents'!$B$2:$D$2000,2,FALSE),\"\")","v":""},{"$f":"IFERROR(VLOOKUP($B202,'Liste des adhérents'!$B$2:$D$2000,3,FALSE),\"\")","v":""},43,null,null,null,null,null,26,{"$f":"SUM($E202:K202)","v":69}]
[7,131956000601,{"$f":"IFERROR(VLOOKUP($B203,'Liste des adhérents'!$B$2:$D$2000,2,FALSE),\"\")","v":"Photo Contact Puyricard"},{"$f":"IFERROR(VLOOKUP($B203,'Liste des adhérents'!$B$2:$D$2000,3,FALSE),\"\")","v":"Prénom&Nom1484"},null,null,41,null,27,null,null,{"$f":"SUM($E203:K203)","v":68}]
[111,132217000101,{"$f":"IFERROR(VLOOKUP($B204,'Liste des adhérents'!$B$2:$D$2000,2,FALSE),\"\")","v":""},{"$f":"IFERROR(VLOOKUP($B204,'Liste des adhérents'!$B$2:$D$2000,3,FALSE),\"\")","v":""},null,null,30,37,null,null,null,{"$f":"SUM($E204:K204)","v":67}]
[76,131683007001,{"$f":"IFERROR(VLOOKUP($B205,'Liste des adhérents'!$B$2:$D$2000,2,FALSE),\"\")","v":""},{"$f":"IFERROR(VLOOKUP($B205,'Liste des adhérents'!$B$2:$D$2000,3,FALSE),\"\")","v":""},null,null,null,null,33,33,null,{"$f":"SUM($E205:K205)","v":66}]
[272,130987029901,{"$f":"IFERROR(VLOOKUP($B206,'Liste des adhérents'!$B$2:$D$2000,2,FALSE),\"\")","v":""},{"$f":"IFERROR(VLOOKUP($B206,'Liste des adhérents'!$B$2:$D$2000,3,FALSE),\"\")","v":""},null,null,31,null,null,31,null,{"$f":"SUM($E206:K206)","v":62}]
[86,132060001501,{"$f":"IFERROR(VLOOKUP($B207,'Liste des adhérents'!$B$2:$D$2000,2,FALSE),\"\")","v":""},{"$f":"IFERROR(VLOOKUP($B207,'Liste des adhérents'!$B$2:$D$2000,3,FALSE),\"\")","v":""},35,null,null,27,null,null,null,{"$f":"SUM($E207:K207)","v":62}]
[212,132217000601,{"$f":"IFERROR(VLOOKUP($B208,'Liste des adhérents'!$B$2:$D$2000,2,FALSE),\"\")","v":""},{"$f":"IFERROR(VLOOKUP($B208,'Liste des adhérents'!$B$2:$D$2000,3,FALSE),\"\")","v":""},null,null,null,null,29,29,null,{"$f":"SUM($E208:K208)","v":58}]
[227,131683008201,{"$f":"IFERROR(VLOOKUP($B209,'Liste des adhérents'!$B$2:$D$2000,2,FALSE),\"\")","v":"Marius St Mitre Les Remparts"},{"$f":"IFERROR(VLOOKUP($B209,'Liste des adhérents'!$B$2:$D$2000,3,FALSE),\"\")","v":"Prénom&Nom1096"},null,null,null,null,null,null,57,{"$f":"SUM($E209:K209)","v":57}]
[221,132203000601,{"$f":"IFERROR(VLOOKUP($B210,'Liste des adhérents'!$B$2:$D$2000,2,FALSE),\"\")","v":""},{"$f":"IFERROR(VLOOKUP($B210,'Liste des adhérents'!$B$2:$D$2000,3,FALSE),\"\")","v":""},null,null,null,null,28,28,null,{"$f":"SUM($E210:K210)","v":56}]
[213,131985003401,{"$f":"IFERROR(VLOOKUP($B211,'Liste des adhérents'!$B$2:$D$2000,2,FALSE),\"\")","v":"Rognonas Image Regard Espace"},{"$f":"IFERROR(VLOOKUP($B211,'Liste des adhérents'!$B$2:$D$2000,3,FALSE),\"\")","v":"Prénom&Nom1606"},null,null,null,null,null,null,54,{"$f":"SUM($E211:K211)","v":54}]
[223,132147001701,{"$f":"IFERROR(VLOOKUP($B212,'Liste des adhérents'!$B$2:$D$2000,2,FALSE),\"\")","v":""},{"$f":"IFERROR(VLOOKUP($B212,'Liste des adhérents'!$B$2:$D$2000,3,FALSE),\"\")","v":""},null,null,null,27,null,27,null,{"$f":"SUM($E212:K212)","v":54}]
[13,130527019601,{"$f":"IFERROR(VLOOKUP($B213,'Liste des adhérents'!$B$2:$D$2000,2,FALSE),\"\")","v":""},{"$f":"IFERROR(VLOOKUP($B213,'Liste des adhérents'!$B$2:$D$2000,3,FALSE),\"\")","v":""},null,null,29,null,null,null,24,{"$f":"SUM($E213:K213)","v":53}]
[139,131683003301,{"$f":"IFERROR(VLOOKUP($B214,'Liste des adhérents'!$B$2:$D$2000,2,FALSE),\"\")","v":"Marius St Mitre Les Remparts"},{"$f":"IFERROR(VLOOKUP($B214,'Liste des adhérents'!$B$2:$D$2000,3,FALSE),\"\")","v":"Prénom&Nom1056"},null,null,null,53,null,null,null,{"$f":"SUM($E214:K214)","v":53}]
[95,132203001001,{"$f":"IFERROR(VLOOKUP($B215,'Liste des adhérents'!$B$2:$D$2000,2,FALSE),\"\")","v":""},{"$f":"IFERROR(VLOOKUP($B215,'Liste des adhérents'!$B$2:$D$2000,3,FALSE),\"\")","v":""},null,null,null,18,35,null,null,{"$f":"SUM($E215:K215)","v":53}]
[150,130987030301,{"$f":"IFERROR(VLOOKUP($B216,'Liste des adhérents'!$B$2:$D$2000,2,FALSE),\"\")","v":""},{"$f":"IFERROR(VLOOKUP($B216,'Liste des adhérents'!$B$2:$D$2000,3,FALSE),\"\")","v":""},null,null,null,26,null,26,null,{"$f":"SUM($E216:K216)","v":52}]
[18,131619004201,{"$f":"IFERROR(VLOOKUP($B217,'Liste des adhérents'!$B$2:$D$2000,2,FALSE),\"\")","v":"Optique Diaporama Marseille"},{"$f":"IFERROR(VLOOKUP($B217,'Liste des adhérents'!$B$2:$D$2000,3,FALSE),\"\")","v":"Prénom&Nom1030"},18,null,null,null,34,null,null,{"$f":"SUM($E217:K217)","v":52}]
[234,131499010301,{"$f":"IFERROR(VLOOKUP($B218,'Liste des adhérents'!$B$2:$D$2000,2,FALSE),\"\")","v":"Images Expressions - Cagnes sur Mer"},{"$f":"IFERROR(VLOOKUP($B218,'Liste des adhérents'!$B$2:$D$2000,3,FALSE),\"\")","v":"Prénom&Nom956"},null,null,null,null,50,null,null,{"$f":"SUM($E218:K218)","v":50}]
[220,131353002601,{"$f":"IFERROR(VLOOKUP($B219,'Liste des adhérents'!$B$2:$D$2000,2,FALSE),\"\")","v":"Photo Club de La Crau"},{"$f":"IFERROR(VLOOKUP($B219,'Liste des adhérents'!$B$2:$D$2000,3,FALSE),\"\")","v":"Prénom&Nom660"},null,null,null,null,null,48,null,{"$f":"SUM($E219:K219)","v":48}]
[217,131494003001,{"$f":"IFERROR(VLOOKUP($B220,'Liste des adhérents'!$B$2:$D$2000,2,FALSE),\"\")","v":"Photo-Club du Brianconnais"},{"$f":"IFERROR(VLOOKUP($B220,'Liste des adhérents'!$B$2:$D$2000,3,FALSE),\"\")","v":"Prénom&Nom867"},null,null,null,null,24,24,null,{"$f":"SUM($E220:K220)","v":48}]
[122,132203000901,{"$f":"IFERROR(VLOOKUP($B221,'Liste des adhérents'!$B$2:$D$2000,2,FALSE),\"\")","v":"Club Photo de Saignon"},{"$f":"IFERROR(VLOOKUP($B221,'Liste des adhérents'!$B$2:$D$2000,3,FALSE),\"\")","v":"Prénom&Nom1801"},null,48,null,null,null,null,null,{"$f":"SUM($E221:K221)","v":48}]
[250,132003002201,{"$f":"IFERROR(VLOOKUP($B222,'Liste des adhérents'!$B$2:$D$2000,2,FALSE),\"\")","v":"Photo Club Moriérois"},{"$f":"IFERROR(VLOOKUP($B222,'Liste des adhérents'!$B$2:$D$2000,3,FALSE),\"\")","v":"Prénom&Nom1653"},null,null,null,null,null,null,47,{"$f":"SUM($E222:K222)","v":47}]
[240,132103000401,{"$f":"IFERROR(VLOOKUP($B223,'Liste des adhérents'!$B$2:$D$2000,2,FALSE),\"\")","v":"Club Photo St Laurent du Var"},{"$f":"IFERROR(VLOOKUP($B223,'Liste des adhérents'!$B$2:$D$2000,3,FALSE),\"\")","v":"Prénom&Nom1789"},null,null,null,null,null,null,47,{"$f":"SUM($E223:K223)","v":47}]
[230,131845000901,{"$f":"IFERROR(VLOOKUP($B224,'Liste des adhérents'!$B$2:$D$2000,2,FALSE),\"\")","v":"Photo Club Carqueirannais"},{"$f":"IFERROR(VLOOKUP($B224,'Liste des adhérents'!$B$2:$D$2000,3,FALSE),\"\")","v":"Prénom&Nom1233"},null,null,null,null,null,null,45,{"$f":"SUM($E224:K224)","v":45}]
[195,132084004801,{"$f":"IFERROR(VLOOKUP($B225,'Liste des adhérents'!$B$2:$D$2000,2,FALSE),\"\")","v":""},{"$f":"IFERROR(VLOOKUP($B225,'Liste des adhérents'!$B$2:$D$2000,3,FALSE),\"\")","v":""},null,null,null,null,null,null,44,{"$f":"SUM($E225:K225)","v":44}]
[218,132103000201,{"$f":"IFERROR(VLOOKUP($B226,'Liste des adhérents'!$B$2:$D$2000,2,FALSE),\"\")","v":"Club Photo St Laurent du Var"},{"$f":"IFERROR(VLOOKUP($B226,'Liste des adhérents'!$B$2:$D$2000,3,FALSE),\"\")","v":"Prénom&Nom1787"},null,null,44,null,null,null,null,{"$f":"SUM($E226:K226)","v":44}]
[202,132203001101,{"$f":"IFERROR(VLOOKUP($B227,'Liste des adhérents'!$B$2:$D$2000,2,FALSE),\"\")","v":""},{"$f":"IFERROR(VLOOKUP($B227,'Liste des adhérents'!$B$2:$D$2000,3,FALSE),\"\")","v":""},null,null,44,null,null,null,null,{"$f":"SUM($E227:K227)","v":44}]
[143,131619005301,{"$f":"IFERROR(VLOOKUP($B228,'Liste des adhérents'!$B$2:$D$2000,2,FALSE),\"\")","v":""},{"$f":"IFERROR(VLOOKUP($B228,'Liste des adhérents'!$B$2:$D$2000,3,FALSE),\"\")","v":""},null,null,null,null,43,null,null,{"$f":"SUM($E228:K228)","v":43}]
[245,131862001601,{"$f":"IFERROR(VLOOKUP($B229,'Liste des adhérents'!$B$2:$D$2000,2,FALSE),\"\")","v":"Déclic et des Claps - Roquefort les Pins"},{"$f":"IFERROR(VLOOKUP($B229,'Liste des adhérents'!$B$2:$D$2000,3,FALSE),\"\")","v":"Prénom&Nom1354"},null,null,null,null,null,null,43,{"$f":"SUM($E229:K229)","v":43}]
[207,131985003601,{"$f":"IFERROR(VLOOKUP($B230,'Liste des adhérents'!$B$2:$D$2000,2,FALSE),\"\")","v":""},{"$f":"IFERROR(VLOOKUP($B230,'Liste des adhérents'!$B$2:$D$2000,3,FALSE),\"\")","v":""},null,null,null,null,null,null,43,{"$f":"SUM($E230:K230)","v":43}]
[163,130000021001,{"$f":"IFERROR(VLOOKUP($B231,'Liste des adhérents'!$B$2:$D$2000,2,FALSE),\"\")","v":""},{"$f":"IFERROR(VLOOKUP($B231,'Liste des adhérents'!$B$2:$D$2000,3,FALSE),\"\")","v":""},null,null,21,null,null,21,null,{"$f":"SUM($E231:K231)","v":42}]
[226,130993016601,{"$f":"IFERROR(VLOOKUP($B232,'Liste des adhérents'!$B$2:$D$2000,2,FALSE),\"\")","v":""},{"$f":"IFERROR(VLOOKUP($B232,'Liste des adhérents'!$B$2:$D$2000,3,FALSE),\"\")","v":""},null,null,null,42,null,null,null,{"$f":"SUM($E232:K232)","v":42}]
[138,131956006101,{"$f":"IFERROR(VLOOKUP($B233,'Liste des adhérents'!$B$2:$D$2000,2,FALSE),\"\")","v":""},{"$f":"IFERROR(VLOOKUP($B233,'Liste des adhérents'!$B$2:$D$2000,3,FALSE),\"\")","v":""},null,null,null,null,42,null,null,{"$f":"SUM($E233:K233)","v":42}]
[188,130000015001,{"$f":"IFERROR(VLOOKUP($B234,'Liste des adhérents'!$B$2:$D$2000,2,FALSE),\"\")","v":"Individuel"},{"$f":"IFERROR(VLOOKUP($B234,'Liste des adhérents'!$B$2:$D$2000,3,FALSE),\"\")","v":"Prénom&Nom39"},null,null,null,null,null,null,41,{"$f":"SUM($E234:K234)","v":41}]
[165,130993010201,{"$f":"IFERROR(VLOOKUP($B235,'Liste des adhérents'!$B$2:$D$2000,2,FALSE),\"\")","v":"P.C. La Garde - Marseille"},{"$f":"IFERROR(VLOOKUP($B235,'Liste des adhérents'!$B$2:$D$2000,3,FALSE),\"\")","v":"Prénom&Nom539"},null,null,null,41,null,null,null,{"$f":"SUM($E235:K235)","v":41}]
[210,131899000801,{"$f":"IFERROR(VLOOKUP($B236,'Liste des adhérents'!$B$2:$D$2000,2,FALSE),\"\")","v":"Club de l'Image "},{"$f":"IFERROR(VLOOKUP($B236,'Liste des adhérents'!$B$2:$D$2000,3,FALSE),\"\")","v":"Prénom&Nom1439"},null,null,null,null,41,null,null,{"$f":"SUM($E236:K236)","v":41}]
[224,132060002101,{"$f":"IFERROR(VLOOKUP($B237,'Liste des adhérents'!$B$2:$D$2000,2,FALSE),\"\")","v":""},{"$f":"IFERROR(VLOOKUP($B237,'Liste des adhérents'!$B$2:$D$2000,3,FALSE),\"\")","v":""},null,null,null,null,null,null,41,{"$f":"SUM($E237:K237)","v":41}]
[82,130000020801,{"$f":"IFERROR(VLOOKUP($B238,'Liste des adhérents'!$B$2:$D$2000,2,FALSE),\"\")","v":""},{"$f":"IFERROR(VLOOKUP($B238,'Liste des adhérents'!$B$2:$D$2000,3,FALSE),\"\")","v":""},40,null,null,null,null,null,null,{"$f":"SUM($E238:K238)","v":40}]
[242,131992000901,{"$f":"IFERROR(VLOOKUP($B239,'Liste des adhérents'!$B$2:$D$2000,2,FALSE),\"\")","v":"Photo Club Velauxien - Clin d'Œil"},{"$f":"IFERROR(VLOOKUP($B239,'Liste des adhérents'!$B$2:$D$2000,3,FALSE),\"\")","v":"Prénom&Nom1622"},null,null,null,null,null,null,40,{"$f":"SUM($E239:K239)","v":40}]
[228,130878015701,{"$f":"IFERROR(VLOOKUP($B240,'Liste des adhérents'!$B$2:$D$2000,2,FALSE),\"\")","v":"PC Antoine Santoru-Port de Bouc"},{"$f":"IFERROR(VLOOKUP($B240,'Liste des adhérents'!$B$2:$D$2000,3,FALSE),\"\")","v":"Prénom&Nom284"},null,null,null,null,null,null,39,{"$f":"SUM($E240:K240)","v":39}]
[182,131683005001,{"$f":"IFERROR(VLOOKUP($B241,'Liste des adhérents'!$B$2:$D$2000,2,FALSE),\"\")","v":"Marius St Mitre Les Remparts"},{"$f":"IFERROR(VLOOKUP($B241,'Liste des adhérents'!$B$2:$D$2000,3,FALSE),\"\")","v":"Prénom&Nom1073"},null,null,39,null,null,null,null,{"$f":"SUM($E241:K241)","v":39}]
[277,132084005001,{"$f":"IFERROR(VLOOKUP($B242,'Liste des adhérents'!$B$2:$D$2000,2,FALSE),\"\")","v":""},{"$f":"IFERROR(VLOOKUP($B242,'Liste des adhérents'!$B$2:$D$2000,3,FALSE),\"\")","v":""},null,null,39,null,null,null,null,{"$f":"SUM($E242:K242)","v":39}]
[168,132089000501,{"$f":"IFERROR(VLOOKUP($B243,'Liste des adhérents'!$B$2:$D$2000,2,FALSE),\"\")","v":"La Farledo Objectif Club"},{"$f":"IFERROR(VLOOKUP($B243,'Liste des adhérents'!$B$2:$D$2000,3,FALSE),\"\")","v":"Prénom&Nom1780"},null,39,null,null,null,null,null,{"$f":"SUM($E243:K243)","v":39}]
[74,132193001901,{"$f":"IFERROR(VLOOKUP($B244,'Liste des adhérents'!$B$2:$D$2000,2,FALSE),\"\")","v":""},{"$f":"IFERROR(VLOOKUP($B244,'Liste des adhérents'!$B$2:$D$2000,3,FALSE),\"\")","v":""},null,null,null,null,39,null,null,{"$f":"SUM($E244:K244)","v":39}]
[194,132023001701,{"$f":"IFERROR(VLOOKUP($B245,'Liste des adhérents'!$B$2:$D$2000,2,FALSE),\"\")","v":""},{"$f":"IFERROR(VLOOKUP($B245,'Liste des adhérents'!$B$2:$D$2000,3,FALSE),\"\")","v":""},null,null,null,null,38,null,null,{"$f":"SUM($E245:K245)","v":38}]
[176,130527012601,{"$f":"IFERROR(VLOOKUP($B246,'Liste des adhérents'!$B$2:$D$2000,2,FALSE),\"\")","v":"Photo Club de Martigues"},{"$f":"IFERROR(VLOOKUP($B246,'Liste des adhérents'!$B$2:$D$2000,3,FALSE),\"\")","v":"Prénom&Nom194"},null,37,null,null,null,null,null,{"$f":"SUM($E246:K246)","v":37}]
[236,131376000101,{"$f":"IFERROR(VLOOKUP($B247,'Liste des adhérents'!$B$2:$D$2000,2,FALSE),\"\")","v":"PHOCAL "},{"$f":"IFERROR(VLOOKUP($B247,'Liste des adhérents'!$B$2:$D$2000,3,FALSE),\"\")","v":"Prénom&Nom690"},null,null,null,null,37,null,null,{"$f":"SUM($E247:K247)","v":37}]
[190,131824000201,{"$f":"IFERROR(VLOOKUP($B248,'Liste des adhérents'!$B$2:$D$2000,2,FALSE),\"\")","v":"Photo Club IBM La Gaude"},{"$f":"IFERROR(VLOOKUP($B248,'Liste des adhérents'!$B$2:$D$2000,3,FALSE),\"\")","v":"Prénom&Nom1204"},null,null,null,null,null,null,37,{"$f":"SUM($E248:K248)","v":37}]
[235,131899003801,{"$f":"IFERROR(VLOOKUP($B249,'Liste des adhérents'!$B$2:$D$2000,2,FALSE),\"\")","v":""},{"$f":"IFERROR(VLOOKUP($B249,'Liste des adhérents'!$B$2:$D$2000,3,FALSE),\"\")","v":""},null,null,null,null,37,null,null,{"$f":"SUM($E249:K249)","v":37}]
[201,131956005601,{"$f":"IFERROR(VLOOKUP($B250,'Liste des adhérents'!$B$2:$D$2000,2,FALSE),\"\")","v":""},{"$f":"IFERROR(VLOOKUP($B250,'Liste des adhérents'!$B$2:$D$2000,3,FALSE),\"\")","v":""},null,null,null,null,null,null,37,{"$f":"SUM($E250:K250)","v":37}]
[197,132103000501,{"$f":"IFERROR(VLOOKUP($B251,'Liste des adhérents'!$B$2:$D$2000,2,FALSE),\"\")","v":"Club Photo St Laurent du Var"},{"$f":"IFERROR(VLOOKUP($B251,'Liste des adhérents'!$B$2:$D$2000,3,FALSE),\"\")","v":"Prénom&Nom1790"},null,null,37,null,null,null,null,{"$f":"SUM($E251:K251)","v":37}]
[238,132193000801,{"$f":"IFERROR(VLOOKUP($B252,'Liste des adhérents'!$B$2:$D$2000,2,FALSE),\"\")","v":""},{"$f":"IFERROR(VLOOKUP($B252,'Liste des adhérents'!$B$2:$D$2000,3,FALSE),\"\")","v":""},null,null,null,null,null,null,37,{"$f":"SUM($E252:K252)","v":37}]
[113,130527006401,{"$f":"IFERROR(VLOOKUP($B253,'Liste des adhérents'!$B$2:$D$2000,2,FALSE),\"\")","v":"Photo Club de Martigues"},{"$f":"IFERROR(VLOOKUP($B253,'Liste des adhérents'!$B$2:$D$2000,3,FALSE),\"\")","v":"Prénom&Nom158"},36,null,null,null,null,null,null,{"$f":"SUM($E253:K253)","v":36}]
[239,131823002301,{"$f":"IFERROR(VLOOKUP($B254,'Liste des adhérents'!$B$2:$D$2000,2,FALSE),\"\")","v":"Photo Club Mouansois"},{"$f":"IFERROR(VLOOKUP($B254,'Liste des adhérents'!$B$2:$D$2000,3,FALSE),\"\")","v":"Prénom&Nom1152"},null,null,null,null,null,null,36,{"$f":"SUM($E254:K254)","v":36}]
[237,131862001501,{"$f":"IFERROR(VLOOKUP($B255,'Liste des adhérents'!$B$2:$D$2000,2,FALSE),\"\")","v":"Déclic et des Claps - Roquefort les Pins"},{"$f":"IFERROR(VLOOKUP($B255,'Liste des adhérents'!$B$2:$D$2000,3,FALSE),\"\")","v":"Prénom&Nom1353"},null,null,null,null,null,null,36,{"$f":"SUM($E255:K255)","v":36}]
[247,131956004901,{"$f":"IFERROR(VLOOKUP($B256,'Liste des adhérents'!$B$2:$D$2000,2,FALSE),\"\")","v":""},{"$f":"IFERROR(VLOOKUP($B256,'Liste des adhérents'!$B$2:$D$2000,3,FALSE),\"\")","v":""},null,null,null,null,null,null,36,{"$f":"SUM($E256:K256)","v":36}]
[99,130462009601,{"$f":"IFERROR(VLOOKUP($B257,'Liste des adhérents'!$B$2:$D$2000,2,FALSE),\"\")","v":"Eurocopter Image 2000"},{"$f":"IFERROR(VLOOKUP($B257,'Liste des adhérents'!$B$2:$D$2000,3,FALSE),\"\")","v":"Prénom&Nom117"},null,null,null,null,35,null,null,{"$f":"SUM($E257:K257)","v":35}]
[141,132060001401,{"$f":"IFERROR(VLOOKUP($B258,'Liste des adhérents'!$B$2:$D$2000,2,FALSE),\"\")","v":""},{"$f":"IFERROR(VLOOKUP($B258,'Liste des adhérents'!$B$2:$D$2000,3,FALSE),\"\")","v":""},null,null,35,null,null,null,null,{"$f":"SUM($E258:K258)","v":35}]
[244,132193000701,{"$f":"IFERROR(VLOOKUP($B259,'Liste des adhérents'!$B$2:$D$2000,2,FALSE),\"\")","v":""},{"$f":"IFERROR(VLOOKUP($B259,'Liste des adhérents'!$B$2:$D$2000,3,FALSE),\"\")","v":""},null,null,null,null,null,null,35,{"$f":"SUM($E259:K259)","v":35}]
[231,130921006401,{"$f":"IFERROR(VLOOKUP($B260,'Liste des adhérents'!$B$2:$D$2000,2,FALSE),\"\")","v":""},{"$f":"IFERROR(VLOOKUP($B260,'Liste des adhérents'!$B$2:$D$2000,3,FALSE),\"\")","v":""},null,null,null,34,null,null,null,{"$f":"SUM($E260:K260)","v":34}]
[243,131619002601,{"$f":"IFERROR(VLOOKUP($B261,'Liste des adhérents'!$B$2:$D$2000,2,FALSE),\"\")","v":"Optique Diaporama Marseille"},{"$f":"IFERROR(VLOOKUP($B261,'Liste des adhérents'!$B$2:$D$2000,3,FALSE),\"\")","v":"Prénom&Nom1015"},null,null,null,null,null,null,34,{"$f":"SUM($E261:K261)","v":34}]
[214,131619004801,{"$f":"IFERROR(VLOOKUP($B262,'Liste des adhérents'!$B$2:$D$2000,2,FALSE),\"\")","v":""},{"$f":"IFERROR(VLOOKUP($B262,'Liste des adhérents'!$B$2:$D$2000,3,FALSE),\"\")","v":""},null,null,null,null,34,null,null,{"$f":"SUM($E262:K262)","v":34}]
[205,131823009001,{"$f":"IFERROR(VLOOKUP($B263,'Liste des adhérents'!$B$2:$D$2000,2,FALSE),\"\")","v":""},{"$f":"IFERROR(VLOOKUP($B263,'Liste des adhérents'!$B$2:$D$2000,3,FALSE),\"\")","v":""},null,null,null,null,null,null,34,{"$f":"SUM($E263:K263)","v":34}]
[219,131879001901,{"$f":"IFERROR(VLOOKUP($B264,'Liste des adhérents'!$B$2:$D$2000,2,FALSE),\"\")","v":""},{"$f":"IFERROR(VLOOKUP($B264,'Liste des adhérents'!$B$2:$D$2000,3,FALSE),\"\")","v":""},null,null,null,34,null,null,null,{"$f":"SUM($E264:K264)","v":34}]
[175,131499010701,{"$f":"IFERROR(VLOOKUP($B265,'Liste des adhérents'!$B$2:$D$2000,2,FALSE),\"\")","v":""},{"$f":"IFERROR(VLOOKUP($B265,'Liste des adhérents'!$B$2:$D$2000,3,FALSE),\"\")","v":""},null,null,null,null,33,null,null,{"$f":"SUM($E265:K265)","v":33}]
[209,131823007701,{"$f":"IFERROR(VLOOKUP($B266,'Liste des adhérents'!$B$2:$D$2000,2,FALSE),\"\")","v":"Photo Club Mouansois"},{"$f":"IFERROR(VLOOKUP($B266,'Liste des adhérents'!$B$2:$D$2000,3,FALSE),\"\")","v":"Prénom&Nom1201"},null,null,null,null,null,null,33,{"$f":"SUM($E266:K266)","v":33}]
[105,131956005301,{"$f":"IFERROR(VLOOKUP($B267,'Liste des adhérents'!$B$2:$D$2000,2,FALSE),\"\")","v":""},{"$f":"IFERROR(VLOOKUP($B267,'Liste des adhérents'!$B$2:$D$2000,3,FALSE),\"\")","v":""},null,null,null,null,32,null,null,{"$f":"SUM($E267:K267)","v":32}]
[189,130993014001,{"$f":"IFERROR(VLOOKUP($B268,'Liste des adhérents'!$B$2:$D$2000,2,FALSE),\"\")","v":"P.C. La Garde - Marseille"},{"$f":"IFERROR(VLOOKUP($B268,'Liste des adhérents'!$B$2:$D$2000,3,FALSE),\"\")","v":"Prénom&Nom577"},null,null,null,null,31,null,null,{"$f":"SUM($E268:K268)","v":31}]
[229,131862003801,{"$f":"IFERROR(VLOOKUP($B269,'Liste des adhérents'!$B$2:$D$2000,2,FALSE),\"\")","v":"Déclic et des Claps - Roquefort les Pins"},{"$f":"IFERROR(VLOOKUP($B269,'Liste des adhérents'!$B$2:$D$2000,3,FALSE),\"\")","v":"Prénom&Nom1376"},null,null,null,null,null,null,31,{"$f":"SUM($E269:K269)","v":31}]
[222,130987023201,{"$f":"IFERROR(VLOOKUP($B270,'Liste des adhérents'!$B$2:$D$2000,2,FALSE),\"\")","v":"Cl. Phot'Azur Six Fours Plages"},{"$f":"IFERROR(VLOOKUP($B270,'Liste des adhérents'!$B$2:$D$2000,3,FALSE),\"\")","v":"Prénom&Nom500"},null,null,null,null,null,null,30,{"$f":"SUM($E270:K270)","v":30}]
[154,131499010201,{"$f":"IFERROR(VLOOKUP($B271,'Liste des adhérents'!$B$2:$D$2000,2,FALSE),\"\")","v":""},{"$f":"IFERROR(VLOOKUP($B271,'Liste des adhérents'!$B$2:$D$2000,3,FALSE),\"\")","v":""},null,30,null,null,null,null,null,{"$f":"SUM($E271:K271)","v":30}]
[158,131823007801,{"$f":"IFERROR(VLOOKUP($B272,'Liste des adhérents'!$B$2:$D$2000,2,FALSE),\"\")","v":""},{"$f":"IFERROR(VLOOKUP($B272,'Liste des adhérents'!$B$2:$D$2000,3,FALSE),\"\")","v":""},30,null,null,null,null,null,null,{"$f":"SUM($E272:K272)","v":30}]
[249,132147000601,{"$f":"IFERROR(VLOOKUP($B273,'Liste des adhérents'!$B$2:$D$2000,2,FALSE),\"\")","v":""},{"$f":"IFERROR(VLOOKUP($B273,'Liste des adhérents'!$B$2:$D$2000,3,FALSE),\"\")","v":""},null,null,null,null,null,null,30,{"$f":"SUM($E273:K273)","v":30}]
[275,132203000501,{"$f":"IFERROR(VLOOKUP($B274,'Liste des adhérents'!$B$2:$D$2000,2,FALSE),\"\")","v":""},{"$f":"IFERROR(VLOOKUP($B274,'Liste des adhérents'!$B$2:$D$2000,3,FALSE),\"\")","v":""},null,null,30,null,null,null,null,{"$f":"SUM($E274:K274)","v":30}]
[246,131683007101,{"$f":"IFERROR(VLOOKUP($B275,'Liste des adhérents'!$B$2:$D$2000,2,FALSE),\"\")","v":""},{"$f":"IFERROR(VLOOKUP($B275,'Liste des adhérents'!$B$2:$D$2000,3,FALSE),\"\")","v":""},null,null,null,null,null,null,29,{"$f":"SUM($E275:K275)","v":29}]
[248,131956004301,{"$f":"IFERROR(VLOOKUP($B276,'Liste des adhérents'!$B$2:$D$2000,2,FALSE),\"\")","v":""},{"$f":"IFERROR(VLOOKUP($B276,'Liste des adhérents'!$B$2:$D$2000,3,FALSE),\"\")","v":""},null,null,null,null,null,null,29,{"$f":"SUM($E276:K276)","v":29}]
[72,131823008801,{"$f":"IFERROR(VLOOKUP($B277,'Liste des adhérents'!$B$2:$D$2000,2,FALSE),\"\")","v":""},{"$f":"IFERROR(VLOOKUP($B277,'Liste des adhérents'!$B$2:$D$2000,3,FALSE),\"\")","v":""},null,28,null,null,null,null,null,{"$f":"SUM($E277:K277)","v":28}]
[241,131845003501,{"$f":"IFERROR(VLOOKUP($B278,'Liste des adhérents'!$B$2:$D$2000,2,FALSE),\"\")","v":"Photo Club Carqueirannais"},{"$f":"IFERROR(VLOOKUP($B278,'Liste des adhérents'!$B$2:$D$2000,3,FALSE),\"\")","v":"Prénom&Nom1259"},null,null,null,null,null,null,28,{"$f":"SUM($E278:K278)","v":28}]
[148,132060003301,{"$f":"IFERROR(VLOOKUP($B279,'Liste des adhérents'!$B$2:$D$2000,2,FALSE),\"\")","v":""},{"$f":"IFERROR(VLOOKUP($B279,'Liste des adhérents'!$B$2:$D$2000,3,FALSE),\"\")","v":""},28,null,null,null,null,null,null,{"$f":"SUM($E279:K279)","v":28}]
[265,131862001401,{"$f":"IFERROR(VLOOKUP($B280,'Liste des adhérents'!$B$2:$D$2000,2,FALSE),\"\")","v":"Déclic et des Claps - Roquefort les Pins"},{"$f":"IFERROR(VLOOKUP($B280,'Liste des adhérents'!$B$2:$D$2000,3,FALSE),\"\")","v":"Prénom&Nom1352"},null,27,null,null,null,null,null,{"$f":"SUM($E280:K280)","v":27}]
[198,132060002801,{"$f":"IFERROR(VLOOKUP($B281,'Liste des adhérents'!$B$2:$D$2000,2,FALSE),\"\")","v":""},{"$f":"IFERROR(VLOOKUP($B281,'Liste des adhérents'!$B$2:$D$2000,3,FALSE),\"\")","v":""},null,null,null,null,null,null,26,{"$f":"SUM($E281:K281)","v":26}]
[280,null,{"$f":"IFERROR(VLOOKUP($B282,'Liste des adhérents'!$B$2:$D$2000,2,FALSE),\"\")","v":""},{"$f":"IFERROR(VLOOKUP($B282,'Liste des adhérents'!$B$2:$D$2000,3,FALSE),\"\")","v":""}]
[281,null,{"$f":"IFERROR(VLOOKUP($B283,'Liste des adhérents'!$B$2:$D$2000,2,FALSE),\"\")","v":""},{"$f":"IFERROR(VLOOKUP($B283,'Liste des adhérents'!$B$2:$D$2000,3,FALSE),\"\")","v":""},{"$f":"IFERROR(VLOOKUP($B283,'Liste des adhérents'!$B$2:$D$1804,2,FALSE),\"\")","v":""},{"$f":"IFERROR(VLOOKUP($B283,'Liste des adhérents'!$B$2:$D$1804,3,FALSE),\"\")","v":""}]
[282,null,{"$f":"IFERROR(VLOOKUP($B284,'Liste des adhérents'!$B$2:$D$2000,2,FALSE),\"\")","v":""},{"$f":"IFERROR(VLOOKUP($B284,'Liste des adhérents'!$B$2:$D$2000,3,FALSE),\"\")","v":""},{"$f":"IFERROR(VLOOKUP($B284,'Liste des adhérents'!$B$2:$D$1804,2,FALSE),\"\")","v":""},{"$f":"IFERROR(VLOOKUP($B284,'Liste des adhérents'!$B$2:$D$1804,3,FALSE),\"\")","v":""}]
[283,null,{"$f":"IFERROR(VLOOKUP($B285,'Liste des adhérents'!$B$2:$D$2000,2,FALSE),\"\")","v":""},{"$f":"IFERROR(VLOOKUP($B285,'Liste des adhérents'!$B$2:$D$2000,3,FALSE),\"\")","v":""},{"$f":"IFERROR(VLOOKUP($B285,'Liste des adhérents'!$B$2:$D$1804,2,FALSE),\"\")","v":""},{"$f":"IFERROR(VLOOKUP($B285,'Liste des adhérents'!$B$2:$D$1804,3,FALSE),\"\")","v":""}]
[284,null,{"$f":"IFERROR(VLOOKUP($B286,'Liste des adhérents'!$B$2:$D$2000,2,FALSE),\"\")","v":""},{"$f":"IFERROR(VLOOKUP($B286,'Liste des adhérents'!$B$2:$D$2000,3,FALSE),\"\")","v":""},{"$f":"IFERROR(VLOOKUP($B286,'Liste des adhérents'!$B$2:$D$1804,2,FALSE),\"\")","v":""},{"$f":"IFERROR(VLOOKUP($B286,'Liste des adhérents'!$B$2:$D$1804,3,FALSE),\"\")","v":""}]
[285,null,{"$f":"IFERROR(VLOOKUP($B287,'Liste des adhérents'!$B$2:$D$2000,2,FALSE),\"\")","v":""},{"$f":"IFERROR(VLOOKUP($B287,'Liste des adhérents'!$B$2:$D$2000,3,FALSE),\"\")","v":""},{"$f":"IFERROR(VLOOKUP($B287,'Liste des adhérents'!$B$2:$D$1804,2,FALSE),\"\")","v":""},{"$f":"IFERROR(VLOOKUP($B287,'Liste des adhérents'!$B$2:$D$1804,3,FALSE),\"\")","v":""}]
[286,null,{"$f":"IFERROR(VLOOKUP($B288,'Liste des adhérents'!$B$2:$D$2000,2,FALSE),\"\")","v":""},{"$f":"IFERROR(VLOOKUP($B288,'Liste des adhérents'!$B$2:$D$2000,3,FALSE),\"\")","v":""},{"$f":"IFERROR(VLOOKUP($B288,'Liste des adhérents'!$B$2:$D$1804,2,FALSE),\"\")","v":""},{"$f":"IFERROR(VLOOKUP($B288,'Liste des adhérents'!$B$2:$D$1804,3,FALSE),\"\")","v":""}]
[287,null,{"$f":"IFERROR(VLOOKUP($B289,'Liste des adhérents'!$B$2:$D$2000,2,FALSE),\"\")","v":""},{"$f":"IFERROR(VLOOKUP($B289,'Liste des adhérents'!$B$2:$D$2000,3,FALSE),\"\")","v":""},{"$f":"IFERROR(VLOOKUP($B289,'Liste des adhérents'!$B$2:$D$1804,2,FALSE),\"\")","v":""},{"$f":"IFERROR(VLOOKUP($B289,'Liste des adhérents'!$B$2:$D$1804,3,FALSE),\"\")","v":""}]
[288,null,{"$f":"IFERROR(VLOOKUP($B290,'Liste des adhérents'!$B$2:$D$2000,2,FALSE),\"\")","v":""},{"$f":"IFERROR(VLOOKUP($B290,'Liste des adhérents'!$B$2:$D$2000,3,FALSE),\"\")","v":""},{"$f":"IFERROR(VLOOKUP($B290,'Liste des adhérents'!$B$2:$D$1804,2,FALSE),\"\")","v":""},{"$f":"IFERROR(VLOOKUP($B290,'Liste des adhérents'!$B$2:$D$1804,3,FALSE),\"\")","v":""}]
[289,null,{"$f":"IFERROR(VLOOKUP($B291,'Liste des adhérents'!$B$2:$D$2000,2,FALSE),\"\")","v":""},{"$f":"IFERROR(VLOOKUP($B291,'Liste des adhérents'!$B$2:$D$2000,3,FALSE),\"\")","v":""},{"$f":"IFERROR(VLOOKUP($B291,'Liste des adhérents'!$B$2:$D$1804,2,FALSE),\"\")","v":""},{"$f":"IFERROR(VLOOKUP($B291,'Liste des adhérents'!$B$2:$D$1804,3,FALSE),\"\")","v":""}]
[290,null,{"$f":"IFERROR(VLOOKUP($B292,'Liste des adhérents'!$B$2:$D$2000,2,FALSE),\"\")","v":""},{"$f":"IFERROR(VLOOKUP($B292,'Liste des adhérents'!$B$2:$D$2000,3,FALSE),\"\")","v":""},{"$f":"IFERROR(VLOOKUP($B292,'Liste des adhérents'!$B$2:$D$1804,2,FALSE),\"\")","v":""},{"$f":"IFERROR(VLOOKUP($B292,'Liste des adhérents'!$B$2:$D$1804,3,FALSE),\"\")","v":""}]
[291,null,{"$f":"IFERROR(VLOOKUP($B293,'Liste des adhérents'!$B$2:$D$2000,2,FALSE),\"\")","v":""},{"$f":"IFERROR(VLOOKUP($B293,'Liste des adhérents'!$B$2:$D$2000,3,FALSE),\"\")","v":""},{"$f":"IFERROR(VLOOKUP($B293,'Liste des adhérents'!$B$2:$D$1804,2,FALSE),\"\")","v":""},{"$f":"IFERROR(VLOOKUP($B293,'Liste des adhérents'!$B$2:$D$1804,3,FALSE),\"\")","v":""}]
[292,null,{"$f":"IFERROR(VLOOKUP($B294,'Liste des adhérents'!$B$2:$D$2000,2,FALSE),\"\")","v":""},{"$f":"IFERROR(VLOOKUP($B294,'Liste des adhérents'!$B$2:$D$2000,3,FALSE),\"\")","v":""},{"$f":"IFERROR(VLOOKUP($B294,'Liste des adhérents'!$B$2:$D$1804,2,FALSE),\"\")","v":""},{"$f":"IFERROR(VLOOKUP($B294,'Liste des adhérents'!$B$2:$D$1804,3,FALSE),\"\")","v":""}]
[293,null,{"$f":"IFERROR(VLOOKUP($B295,'Liste des adhérents'!$B$2:$D$2000,2,FALSE),\"\")","v":""},{"$f":"IFERROR(VLOOKUP($B295,'Liste des adhérents'!$B$2:$D$2000,3,FALSE),\"\")","v":""},{"$f":"IFERROR(VLOOKUP($B295,'Liste des adhérents'!$B$2:$D$1804,2,FALSE),\"\")","v":""},{"$f":"IFERROR(VLOOKUP($B295,'Liste des adhérents'!$B$2:$D$1804,3,FALSE),\"\")","v":""}]
[294,null,{"$f":"IFERROR(VLOOKUP($B296,'Liste des adhérents'!$B$2:$D$2000,2,FALSE),\"\")","v":""},{"$f":"IFERROR(VLOOKUP($B296,'Liste des adhérents'!$B$2:$D$2000,3,FALSE),\"\")","v":""},{"$f":"IFERROR(VLOOKUP($B296,'Liste des adhérents'!$B$2:$D$1804,2,FALSE),\"\")","v":""},{"$f":"IFERROR(VLOOKUP($B296,'Liste des adhérents'!$B$2:$D$1804,3,FALSE),\"\")","v":""}]
[295,null,{"$f":"IFERROR(VLOOKUP($B297,'Liste des adhérents'!$B$2:$D$2000,2,FALSE),\"\")","v":""},{"$f":"IFERROR(VLOOKUP($B297,'Liste des adhérents'!$B$2:$D$2000,3,FALSE),\"\")","v":""},{"$f":"IFERROR(VLOOKUP($B297,'Liste des adhérents'!$B$2:$D$1804,2,FALSE),\"\")","v":""},{"$f":"IFERROR(VLOOKUP($B297,'Liste des adhérents'!$B$2:$D$1804,3,FALSE),\"\")","v":""}]
[296,null,{"$f":"IFERROR(VLOOKUP($B298,'Liste des adhérents'!$B$2:$D$2000,2,FALSE),\"\")","v":""},{"$f":"IFERROR(VLOOKUP($B298,'Liste des adhérents'!$B$2:$D$2000,3,FALSE),\"\")","v":""},{"$f":"IFERROR(VLOOKUP($B298,'Liste des adhérents'!$B$2:$D$1804,2,FALSE),\"\")","v":""},{"$f":"IFERROR(VLOOKUP($B298,'Liste des adhérents'!$B$2:$D$1804,3,FALSE),\"\")","v":""}]
[297,null,{"$f":"IFERROR(VLOOKUP($B299,'Liste des adhérents'!$B$2:$D$2000,2,FALSE),\"\")","v":""},{"$f":"IFERROR(VLOOKUP($B299,'Liste des adhérents'!$B$2:$D$2000,3,FALSE),\"\")","v":""},{"$f":"IFERROR(VLOOKUP($B299,'Liste des adhérents'!$B$2:$D$1804,2,FALSE),\"\")","v":""},{"$f":"IFERROR(VLOOKUP($B299,'Liste des adhérents'!$B$2:$D$1804,3,FALSE),\"\")","v":""}]
[298,null,{"$f":"IFERROR(VLOOKUP($B300,'Liste des adhérents'!$B$2:$D$2000,2,FALSE),\"\")","v":""},{"$f":"IFERROR(VLOOKUP($B300,'Liste des adhérents'!$B$2:$D$2000,3,FALSE),\"\")","v":""},{"$f":"IFERROR(VLOOKUP($B300,'Liste des adhérents'!$B$2:$D$1804,2,FALSE),\"\")","v":""},{"$f":"IFERROR(VLOOKUP($B300,'Liste des adhérents'!$B$2:$D$1804,3,FALSE),\"\")","v":""}]
[299,null,{"$f":"IFERROR(VLOOKUP($B301,'Liste des adhérents'!$B$2:$D$2000,2,FALSE),\"\")","v":""},{"$f":"IFERROR(VLOOKUP($B301,'Liste des adhérents'!$B$2:$D$2000,3,FALSE),\"\")","v":""},{"$f":"IFERROR(VLOOKUP($B301,'Liste des adhérents'!$B$2:$D$1804,2,FALSE),\"\")","v":""},{"$f":"IFERROR(VLOOKUP($B301,'Liste des adhérents'!$B$2:$D$1804,3,FALSE),\"\")","v":""}]
[300,null,null,null,{"$f":"IFERROR(VLOOKUP($B302,'Liste des adhérents'!$B$2:$D$1804,2,FALSE),\"\")","v":""},{"$f":"IFERROR(VLOOKUP($B302,'Liste des adhérents'!$B$2:$D$1804,3,FALSE),\"\")","v":""}]

{"sheet":"Classement clubs","index":2,"n_rows":62,"n_cols":11,"rows_kept":62,"cut":false,"hidden":false,"merged":[]}
[]
["Place","N° de club","Nom","Défi-1","Défi-2","Défi-3","Défi-4","Défi-5","Défi-6","Défi-7","Total"]
[{"$f":"ROW()-2","v":1},1683,"Marius Saint-Mitre-les-Remparts",159,128,146,160,159,149,147,{"$f":"SUM($D3:J3)","v":1048}]
[2,987,"Cl. Phot’Azur Six-Fours-les-Plages",147,131,137,135,132,147,146,{"$f":"SUM($D4:J4)","v":975}]
[3,1353,"Photo Club de La Crau",138,123,125,151,139,135,135,{"$f":"SUM($D5:J5)","v":946}]
[4,1499,"Images Expressions – Cagnes sur Mer",135,128,144,151,151,126,111,{"$f":"SUM($D6:J6)","v":946}]
[5,1956,"Photo Contact Puyricard",136,138,138,118,124,129,139,{"$f":"SUM($D7:J7)","v":922}]
[6,1879,"Association Sportive de Berre",139,127,148,122,119,147,119,{"$f":"SUM($D8:J8)","v":921}]
[7,1376,"PHOCAL",142,101,145,119,134,146,122,{"$f":"SUM($D9:J9)","v":909}]
[8,878,"PC Antoine Santoru-Port de Bouc",122,101,135,111,147,134,122,{"$f":"SUM($D10:J10)","v":872}]
[9,1823,"Photo Club Mouansois",113,119,131,105,120,132,123,{"$f":"SUM($D11:J11)","v":843}]
[10,1845,"Photo Club Carqueirannais",124,109,132,104,128,114,132,{"$f":"SUM($D12:J12)","v":843}]
[11,2060,"Image Club Gardéen",130,115,122,115,126,117,115,{"$f":"SUM($D13:J13)","v":840}]
[12,527,"Photo Club de Martigues",152,132,131,141,134,null,119,{"$f":"SUM($D14:J14)","v":809}]
[13,925,"A.S.L.P.S. Photo Fos-sur-Mer",143,133,137,124,132,130,null,{"$f":"SUM($D15:J15)","v":799}]
[14,2084,"Azur Photo Passion",null,122,134,138,121,154,111,{"$f":"SUM($D16:J16)","v":780}]
[15,1110,"Ciné Photo Club de Peymeinade",128,110,134,126,121,126,null,{"$f":"SUM($D17:J17)","v":745}]
[16,2193,"Antibes Photo Club",null,108,null,103,118,129,129,{"$f":"SUM($D18:J18)","v":587}]
[17,1862,"Déclic et des Claps – Roquefort les Pins",121,108,121,null,null,117,116,{"$f":"SUM($D19:J19)","v":583}]
[18,2086,"Objectif Image Nice",107,104,110,120,106,null,null,{"$f":"SUM($D20:J20)","v":547}]
[19,1494,"Photo-Club du Brianconnais",null,98,113,89,103,99,null,{"$f":"SUM($D21:J21)","v":502}]
[20,993,"P.C. La Garde – Marseille",null,null,null,132,110,131,null,{"$f":"SUM($D22:J22)","v":373}]
[21,1619,"Optique Diaporama Marseille",104,null,null,null,131,null,124,{"$f":"SUM($D23:J23)","v":359}]
[22,2203,"Club Photo de Saignon",null,null,114,null,103,null,null,{"$f":"SUM($D24:J24)","v":217}]
[23,2089,"La Farledo Objectif Club",91,99,null,null,null,null,null,{"$f":"SUM($D25:J25)","v":190}]
[24,2103,"Club Photo St Laurent du Var",null,null,142,null,null,null,null,{"$f":"SUM($D26:J26)","v":142}]
[25,2023,"Club Art Déclic de l’ Argens",null,null,null,null,117,null,null,{"$f":"SUM($D27:J27)","v":117}]
[26,1992,"Photo Club Velauxien – Clin d’Œil",null,null,null,null,null,null,97,{"$f":"SUM($D28:J28)","v":97}]
[27,435,"Beausoleil Ciné Photo Club",null,null,null,null,null,null,null,{"$f":"SUM($D29:J29)","v":0}]
[28,462,"Image 2000",null,null,null,null,null,null,null,{"$f":"SUM($D30:J30)","v":0}]
[29,921,"Photo Club M.P.T. Vitrolles",null,null,null,null,null,null,null,{"$f":"SUM($D31:J31)","v":0}]
[30,1227,"Photo Ciné Club Courthezonnais",null,null,null,null,null,null,null,{"$f":"SUM($D32:J32)","v":0}]
[31,1426,"Diaphragme et Lumière Var – Ollioules",null,null,null,null,null,null,null,{"$f":"SUM($D33:J33)","v":0}]
[32,1441,"Club mage Monaco",null,null,null,null,null,null,null,{"$f":"SUM($D34:J34)","v":0}]
[{"$f":"ROW()-2","v":33},1450,"Arc Images- Rousset",null,null,null,null,null,null,null,{"$f":"SUM($D35:J35)","v":0}]
[34,1601,"Club Pugetois de L’image",null,null,null,null,null,null,null,{"$f":"SUM($D36:J36)","v":0}]
[35,1777,"Club Photo et Vidéo Plan de La Tour",null,null,null,null,null,null,null,{"$f":"SUM($D37:J37)","v":0}]
[36,1796,"Ciné Caméra Club de Cannes",null,null,null,null,null,null,null,{"$f":"SUM($D38:J38)","v":0}]
[37,1824,"Photo Club IBM Cote d’Azur",null,null,null,null,null,null,null,{"$f":"SUM($D39:J39)","v":0}]
[38,1867,"PhotoMenton",null,null,null,null,null,null,null,{"$f":"SUM($D40:J40)","v":0}]
[39,1899,"Club de l’Image",null,null,null,null,null,null,null,{"$f":"SUM($D41:J41)","v":0}]
[40,1969,"Mission Photo – Cannes la Bocca",null,null,null,null,null,null,null,{"$f":"SUM($D42:J42)","v":0}]
[41,1985,"Rognonas Image Regard Espace",null,null,null,null,null,null,null,{"$f":"SUM($D43:J43)","v":0}]
[42,2003,"Photo Club Moriérois",null,null,null,null,null,null,null,{"$f":"SUM($D44:J44)","v":0}]
[43,2028,"Association Regards du Sud",null,null,null,null,null,null,null,{"$f":"SUM($D45:J45)","v":0}]
[44,2147,"Club Photo Saint Savournin",null,null,null,null,null,null,null,{"$f":"SUM($D46:J46)","v":0}]
[45,2158,"Café Photo Marseille",null,null,null,null,null,null,null,{"$f":"SUM($D47:J47)","v":0}]
[46,2180,"Photo Club Carry Côte Bleue",null,null,null,null,null,null,null,{"$f":"SUM($D48:J48)","v":0}]
[47,2211,"Club Photo UAICF de Gap",null,null,null,null,null,null,null,{"$f":"SUM($D49:J49)","v":0}]
[48,2217,"ADSB – Club Photo Bouc Bel Air",null,null,null,null,null,null,null,{"$f":"SUM($D50:J50)","v":0}]
[49,2222,"Association Culturelle Photo Club de Neffes",null,null,null,null,null,null,null,{"$f":"SUM($D51:J51)","v":0}]
[50]
[{"$f":"ROW()-2","v":51}]
[{"$f":"ROW()-2","v":52}]
[{"$f":"ROW()-2","v":53}]
[{"$f":"ROW()-2","v":54}]
[{"$f":"ROW()-2","v":55}]
[{"$f":"ROW()-2","v":56}]
[{"$f":"ROW()-2","v":57}]
[{"$f":"ROW()-2","v":58}]
[{"$f":"ROW()-2","v":59}]
[{"$f":"ROW()-2","v":60}]

{"sheet":"Défi-1","index":3,"n_rows":138,"n_cols":50,"rows_kept":138,"cut":false,"hidden":false,"merged":[[6,25,6,29],[4,25,4,29],[8,25,9,29]]}
["colis","photologic","fichier","titre","note1","note2","note3","note4","note5","total","place","passage","statut","medaille","retenue",null,"0=absent\n1=présent",null,"fichier","total",null,null,null,null,null,null,null,null,null,null,null,null,null,null,null,"colis","photologic","fichier","titre","note1","note2","note3","note4","note5","total","place","passage","statut","medaille","retenue"]
[13,1,131845003401,"Avant la régate         ",9,7,12,0,0,{"$f":"SUM(E2:I2)","v":28},0,31,0,null,0,null,{"$f":"COUNTIF('Classement auteurs'!B:B,C2)","v":1},null,130527017001,{"$f":"(MID(S2,3,4)*1)","v":527},152,{"$f":"IF(U2=VLOOKUP($T2,'Classement clubs'!$B$2:$K$52,3,FALSE),\"OK\",\"KO\")","v":"OK"},null,null,null,null,null,null,null,null,null,null,null,null,13,48,130000019901,"La vie en rose           ",10,10,12,0,0,{"$f":"SUM(AM2:AQ2)","v":32},0,99,6,null,0]
[13,4,130987015701,"Rêve de Mérous       ",14,17,17,0,0,{"$f":"SUM(E3:I3)","v":48},0,109,0,null,0,null,{"$f":"COUNTIF('Classement auteurs'!B:B,C3)","v":1},null,130878015201,878,122,{"$f":"IF(U3=VLOOKUP($T3,'Classement clubs'!$B$2:$K$52,3,FALSE),\"OK\",\"KO\")","v":"OK"},null,null,null,null,null,null,null,null,null,null,null,null,13,86,130000020401,"Je t'ai à l'oeil        ",8,11,12,0,0,31,0,13,6,null,0]
[13,5,131845000801,"Le soleil se lève       ",13,12,11,0,0,36,0,136,0,null,0,null,{"$f":"COUNTIF('Classement auteurs'!B:B,C4)","v":1},null,130925008401,925,143,{"$f":"IF(U4=VLOOKUP($T4,'Classement clubs'!$B$2:$K$52,3,FALSE),\"OK\",\"KO\")","v":"OK"},null,null,null,"ATTENTION :",null,null,null,null,null,null,null,null,13,110,130000020801,"Un soir sur la Saône    ",13,13,14,0,0,40,0,34,6,null,0]
[13,6,131845000101,"Skate Park               ",12,12,18,0,0,42,0,132,0,null,0,null,{"$f":"COUNTIF('Classement auteurs'!B:B,C5)","v":1},null,130987019701,987,147,{"$f":"IF(U5=VLOOKUP($T5,'Classement clubs'!$B$2:$K$52,3,FALSE),\"OK\",\"KO\")","v":"OK"},null,null,null,"Le total des notes est fait sur chaque onglet après insertion.",null,null,null,null,null,null,null,null,13,93,130527002501,"Parapluies               ",14,15,12,0,0,41,0,63,0,null,0]
[13,7,130987028201,"Water selfie             ",13,14,15,0,0,42,0,117,0,null,0,null,{"$f":"COUNTIF('Classement auteurs'!B:B,C6)","v":1},null,131110000901,1110,128,{"$f":"IF(U6=VLOOKUP($T6,'Classement clubs'!$B$2:$K$52,3,FALSE),\"OK\",\"KO\")","v":"OK"},null,null,null,null,null,null,null,null,null,null,null,null,13,90,130527006401,"Bleu, blanc, noir        ",6,16,14,0,0,36,0,71,0,null,0]
[13,9,130987007401,"Adrien                   ",10,11,10,0,0,31,0,79,0,null,0,null,{"$f":"COUNTIF('Classement auteurs'!B:B,C7)","v":1},null,131353000701,1353,138,{"$f":"IF(U7=VLOOKUP($T7,'Classement clubs'!$B$2:$K$52,3,FALSE),\"OK\",\"KO\")","v":"OK"},null,null,null,"L'architecture du fichier notation est toujours la même.",null,null,null,null,null,null,null,null,13,150,130527009401,"Chez l'artiste ...       ",16,18,16,0,0,50,0,50,0,null,0]
[13,10,131845000301,"Variation d'ocres        ",9,13,14,0,0,36,0,53,0,null,0,null,{"$f":"COUNTIF('Classement auteurs'!B:B,C8)","v":1},null,131376017701,1376,142,{"$f":"IF(U8=VLOOKUP($T8,'Classement clubs'!$B$2:$K$52,3,FALSE),\"OK\",\"KO\")","v":"OK"},null,null,null,null,null,null,null,null,null,null,null,null,13,60,130527011601,"Repos                    ",11,14,14,0,0,39,0,55,0,null,0]
[13,12,131683008001,"Transparences            ",19,13,16,0,0,48,0,59,0,null,0,null,{"$f":"COUNTIF('Classement auteurs'!B:B,C9)","v":1},null,131499010601,1499,135,{"$f":"IF(U9=VLOOKUP($T9,'Classement clubs'!$B$2:$K$52,3,FALSE),\"OK\",\"KO\")","v":"OK"},null,null,null,"La colonne Q permet de verifier laprésence de l'auteur dans le classement auteur.",null,null,null,null,null,null,null,null,13,82,130527012401,"Mistral                  ",12,12,17,0,0,41,0,12,0,null,0]
[13,14,131499008701,"Geisha                   ",15,14,15,0,0,44,0,43,0,null,0,null,{"$f":"COUNTIF('Classement auteurs'!B:B,C10)","v":1},null,131619004201,1619,104,{"$f":"IF(U10=VLOOKUP($T10,'Classement clubs'!$B$2:$K$52,3,FALSE),\"OK\",\"KO\")","v":"OK"},null,null,null,null,null,null,null,null,null,null,null,null,13,89,130527013301,"Rue de Cuba              ",13,14,20,0,0,47,0,97,0,null,0]
[13,15,130878013001,"Perle de rose            ",11,15,15,0,0,41,0,83,0,null,0,null,{"$f":"COUNTIF('Classement auteurs'!B:B,C11)","v":1},null,131683006301,1683,159,{"$f":"IF(U11=VLOOKUP($T11,'Classement clubs'!$B$2:$K$52,3,FALSE),\"OK\",\"KO\")","v":"OK"},null,null,null,null,null,null,null,null,null,null,null,null,13,104,130527015501,"Roses                    ",14,19,13,0,0,46,0,32,0,null,0]
[13,18,130987024101,"L'Andine                 ",12,12,16,0,0,40,0,114,0,null,0,null,{"$f":"COUNTIF('Classement auteurs'!B:B,C12)","v":1},null,131823004901,{"$f":"(MID(S12,3,4)*1)","v":1823},113,{"$f":"IF(U12=VLOOKUP($T12,'Classement clubs'!$B$2:$K$52,3,FALSE),\"OK\",\"KO\")","v":"OK"},null,null,null,null,null,null,null,null,null,null,null,null,13,144,130527017001,"Les mots envolés.       ",20,15,20,0,0,55,0,6,0,null,0]
[13,19,131992000301,"Le tatoueur de Madurai.  ",12,12,16,0,0,40,0,25,0,null,0,null,{"$f":"COUNTIF('Classement auteurs'!B:B,C13)","v":1},null,131845000101,{"$f":"(MID(S13,3,4)*1)","v":1845},124,{"$f":"IF(U13=VLOOKUP($T13,'Classement clubs'!$B$2:$K$52,3,FALSE),\"OK\",\"KO\")","v":"OK"},null,null,null,null,null,null,null,null,null,null,null,null,13,33,130878007201,"Abri multicolore         ",13,8,15,0,0,36,0,57,0,null,0]
[13,20,130993015101,"Criquet vert             ",6,6,6,0,0,18,0,125,0,null,0,null,{"$f":"COUNTIF('Classement auteurs'!B:B,C14)","v":1},null,131862000801,{"$f":"(MID(S14,3,4)*1)","v":1862},121,{"$f":"IF(U14=VLOOKUP($T14,'Classement clubs'!$B$2:$K$52,3,FALSE),\"OK\",\"KO\")","v":"OK"},null,null,null,null,null,null,null,null,null,null,null,null,13,15,130878013001,"Perle de rose            ",11,15,15,0,0,41,0,83,0,null,0]
[13,21,131879000601,"Hong Kong la nuit        ",15,17,15,0,0,47,0,4,0,null,0,null,{"$f":"COUNTIF('Classement auteurs'!B:B,C15)","v":1},null,131879000801,{"$f":"(MID(S15,3,4)*1)","v":1879},139,{"$f":"IF(U15=VLOOKUP($T15,'Classement clubs'!$B$2:$K$52,3,FALSE),\"OK\",\"KO\")","v":"OK"},null,null,null,null,null,null,null,null,null,null,null,null,13,53,130878014101,"Tag                      ",12,14,10,0,0,36,0,92,0,null,0]
[13,22,131879000101,"Tangueros                ",12,16,13,0,0,41,0,67,0,null,0,null,{"$f":"COUNTIF('Classement auteurs'!B:B,C16)","v":1},null,131956006001,{"$f":"(MID(S16,3,4)*1)","v":1956},136,{"$f":"IF(U16=VLOOKUP($T16,'Classement clubs'!$B$2:$K$52,3,FALSE),\"OK\",\"KO\")","v":"OK"},null,null,null,null,null,null,null,null,null,null,null,null,13,38,130878014301,"La souffreuse            ",12,12,14,0,0,38,0,131,0,null,0]
[13,24,130987024001,"Dorures d'autonne        ",16,15,15,0,0,46,0,42,0,null,0,null,{"$f":"COUNTIF('Classement auteurs'!B:B,C17)","v":1},null,132060001201,{"$f":"(MID(S17,3,4)*1)","v":2060},130,{"$f":"IF(U17=VLOOKUP($T17,'Classement clubs'!$B$2:$K$52,3,FALSE),\"OK\",\"KO\")","v":"OK"},null,null,null,null,null,null,null,null,null,null,null,null,13,119,130878015201,"Magie des lumières      ",13,14,16,0,0,43,0,122,0,null,0]
[13,25,130987013801,"Maréchal-ferrant        ",12,12,14,0,0,38,0,58,0,null,0,null,{"$f":"COUNTIF('Classement auteurs'!B:B,C18)","v":1},null,132086002501,{"$f":"(MID(S18,3,4)*1)","v":2086},107,{"$f":"IF(U18=VLOOKUP($T18,'Classement clubs'!$B$2:$K$52,3,FALSE),\"OK\",\"KO\")","v":"OK"},null,null,null,null,null,null,null,null,null,null,null,null,13,123,130925007701,"Arbres pétrifiés       ",15,13,18,0,0,46,0,37,0,null,0]
[13,27,131879000501,"Barques                  ",12,12,14,0,0,38,0,127,0,null,0,null,{"$f":"COUNTIF('Classement auteurs'!B:B,C19)","v":1},null,132089000101,{"$f":"(MID(S19,3,4)*1)","v":2089},91,{"$f":"IF(U19=VLOOKUP($T19,'Classement clubs'!$B$2:$K$52,3,FALSE),\"OK\",\"KO\")","v":"OK"},null,null,null,null,null,null,null,null,null,null,null,null,13,101,130925008401,"Chorégraphie            ",16,16,19,0,0,51,0,76,0,null,0]
[13,28,131376012601,"Utopie                   ",11,12,8,0,0,31,0,60,0,null,0,null,{"$f":"COUNTIF('Classement auteurs'!B:B,C20)","v":1},null,null,null,null,null,null,null,null,null,null,null,null,null,null,null,null,null,null,13,106,130925008601,"Rouge                    ",13,7,13,0,0,{"$f":"SUM(AN20:AR20)","v":33},0,66,0,null,0]
[13,29,130987024201,"Planet Caraïbes         ",14,13,19,0,0,46,0,7,0,null,0,null,{"$f":"COUNTIF('Classement auteurs'!B:B,C21)","v":1},null,null,null,null,null,null,null,null,null,null,null,null,null,null,null,null,null,null,13,130,130925009801,"Vite !                   ",14,14,16,0,0,44,0,18,0,null,0]
[13,30,131824003101,"Ice attack               ",12,13,17,0,0,42,0,89,0,null,0,null,{"$f":"COUNTIF('Classement auteurs'!B:B,C22)","v":1},null,null,null,null,null,null,null,null,null,null,null,null,null,null,null,null,null,null,13,153,130925009901,"Belles coiffes           ",10,9,11,0,0,30,0,119,0,null,0]
[13,31,130987019601,"Fraîcheur               ",12,14,13,0,0,39,0,1,0,null,0,null,{"$f":"COUNTIF('Classement auteurs'!B:B,C23)","v":1},null,null,null,null,null,null,null,null,null,null,null,null,null,null,null,null,null,null,13,57,130925010201,"Mae                      ",12,15,19,0,0,46,0,91,0,null,0]
[13,32,130987019701,"Sommet                   ",15,16,20,0,0,51,0,54,0,null,0,null,{"$f":"COUNTIF('Classement auteurs'!B:B,C24)","v":1},null,null,null,null,null,null,null,null,null,null,null,null,null,null,null,null,null,null,13,155,130987001601,"Envol                    ",11,11,13,0,0,35,0,106,0,null,0]
[13,33,130878007201,"Abri multicolore         ",13,8,15,0,0,36,0,57,0,null,0,null,{"$f":"COUNTIF('Classement auteurs'!B:B,C25)","v":1},null,null,null,null,null,null,null,null,null,null,null,null,null,null,null,null,null,null,13,9,130987007401,"Adrien                   ",10,11,10,0,0,31,0,79,0,null,0]
[13,34,132193000301,"Ambiance New York        ",12,18,18,0,0,48,0,69,0,null,0,null,{"$f":"COUNTIF('Classement auteurs'!B:B,C26)","v":1},null,null,null,null,null,null,null,null,null,null,null,null,null,null,null,null,null,null,13,25,130987013801,"Maréchal-ferrant        ",12,12,14,0,0,38,0,58,0,null,0]
[13,35,131683006301,"Avant l'orage            ",18,19,20,0,0,57,0,93,0,null,0,null,{"$f":"COUNTIF('Classement auteurs'!B:B,C27)","v":1},null,null,null,null,null,null,null,null,null,null,null,null,null,null,null,null,null,null,13,37,130987014001,"Le coeur dans les nuages ",14,15,19,0,0,48,0,61,0,null,0]
[13,36,132060000101,"Signature artistique     ",6,16,7,0,0,29,0,26,0,null,0,null,{"$f":"COUNTIF('Classement auteurs'!B:B,C28)","v":1},null,null,null,null,null,null,null,null,null,null,null,null,null,null,null,null,null,null,13,4,130987015701,"Rêve de Mérous       ",14,17,17,0,0,48,0,109,0,null,0]
[13,37,130987014001,"Le coeur dans les nuages ",14,15,19,0,0,48,0,61,0,null,0,null,{"$f":"COUNTIF('Classement auteurs'!B:B,C29)","v":1},null,null,null,null,null,null,null,null,null,null,null,null,null,null,null,null,null,null,13,31,130987019601,"Fraîcheur               ",12,14,13,0,0,39,0,1,0,null,0]
[13,38,130878014301,"La souffreuse            ",12,12,14,0,0,38,0,131,0,null,0,null,{"$f":"COUNTIF('Classement auteurs'!B:B,C30)","v":1},null,null,null,null,null,null,null,null,null,null,null,null,null,null,null,null,null,null,13,32,130987019701,"Sommet                   ",15,16,20,0,0,51,0,54,0,null,0]
[13,39,132086002301,"Parade en rose           ",11,13,12,0,0,36,0,29,0,null,0,null,{"$f":"COUNTIF('Classement auteurs'!B:B,C31)","v":1},null,null,null,null,null,null,null,null,null,null,null,null,null,null,null,null,null,null,13,99,130987023901,"Street Painting          ",10,15,15,0,0,40,0,27,0,null,0]
[13,40,132060000701,"Paris La Défense        ",13,11,14,0,0,38,0,73,0,null,0,null,{"$f":"COUNTIF('Classement auteurs'!B:B,C32)","v":1},null,null,null,null,null,null,null,null,null,null,null,null,null,null,null,null,null,null,13,24,130987024001,"Dorures d'autonne        ",16,15,15,0,0,46,0,42,0,null,0]
[13,41,131376018301,"Rêve d'Orient           ",12,9,10,0,0,31,0,111,0,null,0,null,{"$f":"COUNTIF('Classement auteurs'!B:B,C33)","v":1},null,null,null,null,null,null,null,null,null,null,null,null,null,null,null,null,null,null,13,18,130987024101,"L'Andine                 ",12,12,16,0,0,40,0,114,0,null,0]
[13,42,130987028801,"Feu Art                  ",11,10,15,0,0,36,0,113,0,null,0,null,{"$f":"COUNTIF('Classement auteurs'!B:B,C34)","v":1},null,null,null,null,null,null,null,null,null,null,null,null,null,null,null,null,null,null,13,29,130987024201,"Planet Caraïbes         ",14,13,19,0,0,46,0,7,0,null,0]
[13,43,131683000701,"SAYONARA                 ",10,11,11,0,0,32,0,2,0,null,0,null,{"$f":"COUNTIF('Classement auteurs'!B:B,C35)","v":1},null,null,null,null,null,null,null,null,null,null,null,null,null,null,null,null,null,null,13,7,130987028201,"Water selfie             ",13,14,15,0,0,42,0,117,0,null,0]
[13,44,131376014701,"Enfant sous la pluie     ",14,13,16,0,0,43,0,75,0,null,0,null,{"$f":"COUNTIF('Classement auteurs'!B:B,C36)","v":1},null,null,null,null,null,null,null,null,null,null,null,null,null,null,null,null,null,null,13,58,130987028401,"Marée verte             ",6,12,14,0,0,32,0,22,0,null,0]
[13,45,131824001901,"Juste une éclaircie     ",20,14,18,0,0,52,0,126,0,null,0,null,{"$f":"COUNTIF('Classement auteurs'!B:B,C37)","v":1},null,null,null,null,null,null,null,null,null,null,null,null,null,null,null,null,null,null,13,42,130987028801,"Feu Art                  ",11,10,15,0,0,36,0,113,0,null,0]
[13,46,131956005101,"Litter Litter            ",9,8,17,0,0,34,0,15,0,null,0,null,{"$f":"COUNTIF('Classement auteurs'!B:B,C38)","v":1},null,null,null,null,null,null,null,null,null,null,null,null,null,null,null,null,null,null,13,20,130993015101,"Criquet vert             ",6,6,6,0,0,18,0,125,0,null,0]
[13,47,131353000201,"Fleur                    ",9,11,13,0,0,33,0,41,0,null,0,null,{"$f":"COUNTIF('Classement auteurs'!B:B,C39)","v":1},null,null,null,null,null,null,null,null,null,null,null,null,null,null,null,null,null,null,13,62,130993015401,"J'étais la plus belle   ",13,15,14,0,0,42,0,33,0,null,0]
[13,48,130000019901,"La vie en rose           ",10,10,12,0,0,32,0,99,6,null,0,null,{"$f":"COUNTIF('Classement auteurs'!B:B,C40)","v":1},null,null,null,null,null,null,null,null,null,null,null,null,null,null,null,null,null,null,13,73,131110000901,"Dune                     ",16,17,18,0,0,51,0,130,0,null,0]
[13,50,132084001701,"Champs d'ail             ",11,18,16,0,0,45,0,129,0,null,0,null,{"$f":"COUNTIF('Classement auteurs'!B:B,C41)","v":1},null,null,null,null,null,null,null,null,null,null,null,null,null,null,null,null,null,null,13,134,131110001001,"Transhumance             ",13,14,14,0,0,41,0,77,0,null,0]
[13,51,132060002201,"Collégiennes à Londres ",14,11,16,0,0,41,0,88,0,null,0,null,{"$f":"COUNTIF('Classement auteurs'!B:B,C42)","v":1},null,null,null,null,null,null,null,null,null,null,null,null,null,null,null,null,null,null,13,111,131110001101,"Lotus au petit matin     ",11,12,13,0,0,36,0,134,0,null,0]
[13,53,130878014101,"Tag                      ",12,14,10,0,0,36,0,92,0,null,0,null,{"$f":"COUNTIF('Classement auteurs'!B:B,C43)","v":1},null,null,null,null,null,null,null,null,null,null,null,null,null,null,null,null,null,null,13,159,131353000101,"Ambiance automnale       ",14,14,17,0,0,45,0,110,0,null,0]
[13,55,131499010101,"Tout l'océan est à eux ",8,10,19,0,0,37,0,108,0,null,0,null,{"$f":"COUNTIF('Classement auteurs'!B:B,C44)","v":1},null,null,null,null,null,null,null,null,null,null,null,null,null,null,null,null,null,null,13,47,131353000201,"Fleur                    ",9,11,13,0,0,33,0,41,0,null,0]
[13,56,131499005201,"Rèverie                 ",13,16,15,0,0,44,0,39,0,null,0,null,{"$f":"COUNTIF('Classement auteurs'!B:B,C45)","v":1},null,null,null,null,null,null,null,null,null,null,null,null,null,null,null,null,null,null,13,158,131353000701,"Cellulose du Rhône      ",14,20,14,0,0,48,0,24,0,null,0]
[13,57,130925010201,"Mae                      ",12,15,19,0,0,46,0,91,0,null,0,null,{"$f":"COUNTIF('Classement auteurs'!B:B,C46)","v":1},null,null,null,null,null,null,null,null,null,null,null,null,null,null,null,null,null,null,13,63,131353003001,"Pas facile               ",17,11,17,0,0,45,0,105,0,null,0]
[13,58,130987028401,"Marée verte             ",6,12,14,0,0,32,0,22,0,null,0,null,{"$f":"COUNTIF('Classement auteurs'!B:B,C47)","v":1},null,null,null,null,null,null,null,null,null,null,null,null,null,null,null,null,null,null,13,107,131353004301,"Vert et rouge            ",6,6,6,0,0,18,0,90,0,null,0]
[13,59,132193000401,"Multicolore              ",12,14,15,0,0,41,0,82,0,null,0,null,{"$f":"COUNTIF('Classement auteurs'!B:B,C48)","v":1},null,null,null,null,null,null,null,null,null,null,null,null,null,null,null,null,null,null,13,64,131353007101,"Street art               ",11,13,13,0,0,37,0,116,0,null,0]
[13,60,130527011601,"Repos                    ",11,14,14,0,0,39,0,55,0,null,0,null,{"$f":"COUNTIF('Classement auteurs'!B:B,C49)","v":1},null,null,null,null,null,null,null,null,null,null,null,null,null,null,null,null,null,null,13,108,131376011801,"BAMBINS HIMBAS           ",14,16,18,0,0,48,0,85,7,null,0]
[13,61,131845004101,"Clair et foncé          ",7,13,9,0,0,29,0,38,0,null,0,null,{"$f":"COUNTIF('Classement auteurs'!B:B,C50)","v":1},null,null,null,null,null,null,null,null,null,null,null,null,null,null,null,null,null,null,13,28,131376012601,"Utopie                   ",11,12,8,0,0,31,0,60,0,null,0]
[13,62,130993015401,"J'étais la plus belle   ",13,15,14,0,0,42,0,33,0,null,0,null,{"$f":"COUNTIF('Classement auteurs'!B:B,C51)","v":1},null,null,null,null,null,null,null,null,null,null,null,null,null,null,null,null,null,null,13,44,131376014701,"Enfant sous la pluie     ",14,13,16,0,0,43,0,75,0,null,0]
[13,63,131353003001,"Pas facile               ",17,11,17,0,0,45,0,105,0,null,0,null,{"$f":"COUNTIF('Classement auteurs'!B:B,C52)","v":1},null,null,null,null,null,null,null,null,null,null,null,null,null,null,null,null,null,null,13,136,131376015801,"Quiétude                ",13,12,11,0,0,{"$f":"SUM(AN52:AR52)","v":36},0,49,0,null,0]
[13,64,131353007101,"Street art               ",11,13,13,0,0,37,0,116,0,null,0,null,{"$f":"COUNTIF('Classement auteurs'!B:B,C53)","v":1},null,null,null,null,null,null,null,null,null,null,null,null,null,null,null,null,null,null,13,124,131376017601,"Au fond de mon verre     ",11,9,12,0,0,32,0,120,0,null,0]
[13,65,132089000101,"Les Cinq Terres          ",11,13,12,0,0,36,0,94,0,null,0,null,{"$f":"COUNTIF('Classement auteurs'!B:B,C54)","v":1},null,null,null,null,null,null,null,null,null,null,null,null,null,null,null,null,null,null,13,66,131376017701,"Dragster                 ",17,16,18,0,0,51,0,20,0,null,0]
[13,66,131376017701,"Dragster                 ",17,16,18,0,0,51,0,20,0,null,0,null,{"$f":"COUNTIF('Classement auteurs'!B:B,C55)","v":1},null,null,null,null,null,null,null,null,null,null,null,null,null,null,null,null,null,null,13,132,131376018001,"DemonstrationTimesSquare ",11,13,14,0,0,38,0,9,0,null,0]
[13,67,131879000801,"La fille au chapeau      ",17,16,17,0,0,50,0,115,0,null,0,null,{"$f":"COUNTIF('Classement auteurs'!B:B,C56)","v":1},null,null,null,null,null,null,null,null,null,null,null,null,null,null,null,null,null,null,13,41,131376018301,"Rêve d'Orient           ",12,9,10,0,0,31,0,111,0,null,0]
[13,68,131499010401,"En course                ",11,12,14,0,0,37,0,56,0,null,0,null,{"$f":"COUNTIF('Classement auteurs'!B:B,C57)","v":1},null,null,null,null,null,null,null,null,null,null,null,null,null,null,null,null,null,null,13,113,131494000201,"Vélo d'enfer            ",13,10,16,0,0,39,0,78,0,null,0]
[13,69,131823004901,"Flamenco à Gorbio       ",16,14,14,0,0,44,0,64,0,null,0,null,{"$f":"COUNTIF('Classement auteurs'!B:B,C58)","v":1},null,null,null,null,null,null,null,null,null,null,null,null,null,null,null,null,null,null,13,129,131499003601,"Casquettes               ",9,10,15,0,0,34,0,102,0,null,0]
[13,70,131956004501,"Paganello                ",13,14,11,0,0,38,0,3,0,null,0,null,{"$f":"COUNTIF('Classement auteurs'!B:B,C59)","v":1},null,null,null,null,null,null,null,null,null,null,null,null,null,null,null,null,null,null,13,75,131499003901,"Ablution                 ",15,14,13,0,0,42,0,107,0,null,0]
[13,71,131956003401,"Feerie                   ",11,15,11,0,0,37,0,68,0,null,0,null,{"$f":"COUNTIF('Classement auteurs'!B:B,C60)","v":1},null,null,null,null,null,null,null,null,null,null,null,null,null,null,null,null,null,null,13,56,131499005201,"Rèverie                 ",13,16,15,0,0,44,0,39,0,null,0]
[13,72,131683007901,"Regard perçant          ",18,16,20,0,0,54,0,70,0,null,0,null,{"$f":"COUNTIF('Classement auteurs'!B:B,C61)","v":1},null,null,null,null,null,null,null,null,null,null,null,null,null,null,null,null,null,null,13,117,131499006801,"Reflets sur St Honorat   ",13,8,14,0,0,35,0,45,0,null,0]
[13,73,131110000901,"Dune                     ",16,17,18,0,0,51,0,130,0,null,0,null,{"$f":"COUNTIF('Classement auteurs'!B:B,C62)","v":1},null,null,null,null,null,null,null,null,null,null,null,null,null,null,null,null,null,null,13,140,131499006901,"Florence                 ",10,16,16,0,0,42,0,81,0,null,0]
[13,74,132086001401,"TEMPS DE PAUSE           ",10,12,11,0,0,33,0,121,0,null,0,null,{"$f":"COUNTIF('Classement auteurs'!B:B,C63)","v":1},null,null,null,null,null,null,null,null,null,null,null,null,null,null,null,null,null,null,13,131,131499008201,"Champ jaune et vert      ",12,17,16,0,0,45,0,35,0,null,0]
[13,75,131499003901,"Ablution                 ",15,14,13,0,0,42,0,107,0,null,0,null,{"$f":"COUNTIF('Classement auteurs'!B:B,C64)","v":1},null,null,null,null,null,null,null,null,null,null,null,null,null,null,null,null,null,null,13,14,131499008701,"Geisha                   ",15,14,15,0,0,44,0,43,0,null,0]
[13,76,132060001701,"Luminaires               ",11,14,12,0,0,37,0,101,0,null,0,null,{"$f":"COUNTIF('Classement auteurs'!B:B,C65)","v":1},null,null,null,null,null,null,null,null,null,null,null,null,null,null,null,null,null,null,13,114,131499009301,"Lights                   ",8,14,7,0,0,29,0,80,0,null,0]
[13,77,132103002301,"Couleurs du Japon        ",12,16,18,0,0,46,0,17,0,null,0,null,{"$f":"COUNTIF('Classement auteurs'!B:B,C66)","v":1},null,null,null,null,null,null,null,null,null,null,null,null,null,null,null,null,null,null,13,102,131499009801,"Mystère                 ",10,15,17,0,0,42,0,10,0,null,0]
[13,78,132089000201,"CD en MACRO              ",7,8,9,0,0,{"$f":"SUM(E67:I67)","v":24},0,23,0,null,0,null,{"$f":"COUNTIF('Classement auteurs'!B:B,C67)","v":1},null,null,null,null,null,null,null,null,null,null,null,null,null,null,null,null,null,null,13,100,131499010001,"Une jolie voix de Cassel ",11,15,16,0,0,42,0,100,0,null,0]
[13,79,131862002201,"Automne                  ",15,13,13,0,0,41,0,135,0,null,0,null,{"$f":"COUNTIF('Classement auteurs'!B:B,C68)","v":1},null,null,null,null,null,null,null,null,null,null,null,null,null,null,null,null,null,null,13,55,131499010101,"Tout l'océan est à eux ",8,10,19,0,0,37,0,108,0,null,0]
[13,81,131956000401,"Gourmandise              ",12,9,12,0,0,33,0,112,0,null,0,null,{"$f":"COUNTIF('Classement auteurs'!B:B,C69)","v":1},null,null,null,null,null,null,null,null,null,null,null,null,null,null,null,null,null,null,13,68,131499010401,"En course                ",11,12,14,0,0,37,0,56,0,null,0]
[13,82,130527012401,"Mistral                  ",12,12,17,0,0,41,0,12,0,null,0,null,{"$f":"COUNTIF('Classement auteurs'!B:B,C70)","v":1},null,null,null,null,null,null,null,null,null,null,null,null,null,null,null,null,null,null,13,96,131499010501,"Au musée                ",9,13,13,0,0,35,0,95,0,null,0]
[13,83,131683005101,"La Crau un autre désert ",9,12,15,0,0,36,0,84,0,null,0,null,{"$f":"COUNTIF('Classement auteurs'!B:B,C71)","v":1},null,null,null,null,null,null,null,null,null,null,null,null,null,null,null,null,null,null,13,97,131499010601,"Petits navires ...       ",14,15,17,0,0,46,0,47,0,null,0]
[13,84,131956006001,"Light under the milky way",16,17,17,0,0,50,0,104,0,null,0,null,{"$f":"COUNTIF('Classement auteurs'!B:B,C72)","v":1},null,null,null,null,null,null,null,null,null,null,null,null,null,null,null,null,null,null,13,88,131619004201,"DEMOISELLE               ",6,6,6,0,0,18,0,86,0,null,0]
[13,85,132060002001,"Bleu, blanc, rouge       ",12,15,16,0,0,43,0,137,0,null,0,null,{"$f":"COUNTIF('Classement auteurs'!B:B,C73)","v":1},null,null,null,null,null,null,null,null,null,null,null,null,null,null,null,null,null,null,13,137,131619004501,"Foncouverte              ",19,14,18,0,0,51,0,133,0,null,0]
[13,86,130000020401,"Je t'ai à l'oeil        ",8,11,12,0,0,31,0,13,6,null,0,null,{"$f":"COUNTIF('Classement auteurs'!B:B,C74)","v":1},null,null,null,null,null,null,null,null,null,null,null,null,null,null,null,null,null,null,13,109,131619004601,"Balle au nez             ",9,12,14,0,0,35,0,44,0,null,0]
[13,88,131619004201,"DEMOISELLE               ",6,6,6,0,0,18,0,86,0,null,0,null,{"$f":"COUNTIF('Classement auteurs'!B:B,C75)","v":1},null,null,null,null,null,null,null,null,null,null,null,null,null,null,null,null,null,null,13,43,131683000701,"SAYONARA                 ",10,11,11,0,0,32,0,2,0,null,0]
[13,89,130527013301,"Rue de Cuba              ",13,14,20,0,0,47,0,97,0,null,0,null,{"$f":"COUNTIF('Classement auteurs'!B:B,C76)","v":1},null,null,null,null,null,null,null,null,null,null,null,null,null,null,null,null,null,null,13,83,131683005101,"La Crau un autre désert ",9,12,15,0,0,36,0,84,0,null,0]
[13,90,130527006401,"Bleu, blanc, noir        ",6,16,14,0,0,36,0,71,0,null,0,null,{"$f":"COUNTIF('Classement auteurs'!B:B,C77)","v":1},null,null,null,null,null,null,null,null,null,null,null,null,null,null,null,null,null,null,13,35,131683006301,"Avant l'orage            ",18,19,20,0,0,57,0,93,0,null,0]
[13,91,131879001301,"Le chat                  ",12,15,15,0,0,42,0,118,0,null,0,null,{"$f":"COUNTIF('Classement auteurs'!B:B,C78)","v":1},null,null,null,null,null,null,null,null,null,null,null,null,null,null,null,null,null,null,13,126,131683006601,"La fillette et sa glace  ",13,11,16,0,0,40,0,21,0,null,0]
[13,92,132060002401,"Orchidées incandescents ",7,14,14,0,0,35,0,51,0,null,0,null,{"$f":"COUNTIF('Classement auteurs'!B:B,C79)","v":1},null,null,null,null,null,null,null,null,null,null,null,null,null,null,null,null,null,null,13,72,131683007901,"Regard perçant          ",18,16,20,0,0,54,0,70,0,null,0]
[13,93,130527002501,"Parapluies               ",14,15,12,0,0,41,0,63,0,null,0,null,{"$f":"COUNTIF('Classement auteurs'!B:B,C80)","v":1},null,null,null,null,null,null,null,null,null,null,null,null,null,null,null,null,null,null,13,12,131683008001,"Transparences            ",19,13,16,0,0,48,0,59,0,null,0]
[13,94,132060000901,"Face au mur              ",13,9,13,0,0,35,0,30,0,null,0,null,{"$f":"COUNTIF('Classement auteurs'!B:B,C81)","v":1},null,null,null,null,null,null,null,null,null,null,null,null,null,null,null,null,null,null,13,69,131823004901,"Flamenco à Gorbio       ",16,14,14,0,0,44,0,64,0,null,0]
[13,95,132060001801,"No limit                 ",10,13,15,0,0,38,0,74,0,null,0,null,{"$f":"COUNTIF('Classement auteurs'!B:B,C82)","v":1},null,null,null,null,null,null,null,null,null,null,null,null,null,null,null,null,null,null,13,120,131823005701,"Cannes régates royales  ",10,11,15,0,0,36,0,124,0,null,0]
[13,96,131499010501,"Au musée                ",9,13,13,0,0,35,0,95,0,null,0,null,{"$f":"COUNTIF('Classement auteurs'!B:B,C83)","v":1},null,null,null,null,null,null,null,null,null,null,null,null,null,null,null,null,null,null,13,143,131823007601,"Orange Grassoise         ",8,11,14,0,0,33,0,46,0,null,0]
[13,97,131499010601,"Petits navires ...       ",14,15,17,0,0,46,0,47,0,null,0,null,{"$f":"COUNTIF('Classement auteurs'!B:B,C84)","v":1},null,null,null,null,null,null,null,null,null,null,null,null,null,null,null,null,null,null,13,115,131823007801,"Eucalyptus               ",8,10,12,0,0,{"$f":"SUM(AN84:AR84)","v":30},0,11,0,null,0]
[13,98,131862001101,"Le guitariste            ",10,9,10,0,0,29,0,72,0,null,0,null,{"$f":"COUNTIF('Classement auteurs'!B:B,C85)","v":1},null,null,null,null,null,null,null,null,null,null,null,null,null,null,null,null,null,null,13,45,131824001901,"Juste une éclaircie     ",20,14,18,0,0,52,0,126,0,null,0]
[13,99,130987023901,"Street Painting          ",10,15,15,0,0,40,0,27,0,null,0,null,{"$f":"COUNTIF('Classement auteurs'!B:B,C86)","v":1},null,null,null,null,null,null,null,null,null,null,null,null,null,null,null,null,null,null,13,30,131824003101,"Ice attack               ",12,13,17,0,0,42,0,89,0,null,0]
[13,100,131499010001,"Une jolie voix de Cassel ",11,15,16,0,0,42,0,100,0,null,0,null,{"$f":"COUNTIF('Classement auteurs'!B:B,C87)","v":1},null,null,null,null,null,null,null,null,null,null,null,null,null,null,null,null,null,null,13,6,131845000101,"Skate Park               ",12,12,18,0,0,42,0,132,0,null,0]
[13,101,130925008401,"Chorégraphie            ",16,16,19,0,0,51,0,76,0,null,0,null,{"$f":"COUNTIF('Classement auteurs'!B:B,C88)","v":1},null,null,null,null,null,null,null,null,null,null,null,null,null,null,null,null,null,null,13,149,131845001101,"...vers la culture       ",14,13,14,0,0,41,0,28,0,null,0]
[13,102,131499009801,"Mystère                 ",10,15,17,0,0,42,0,10,0,null,0,null,{"$f":"COUNTIF('Classement auteurs'!B:B,C89)","v":1},null,null,null,null,null,null,null,null,null,null,null,null,null,null,null,null,null,null,13,118,131845001401,"Seul au monde            ",11,13,17,0,0,41,0,19,0,null,0]
[13,104,130527015501,"Roses                    ",14,19,13,0,0,46,0,32,0,null,0,null,{"$f":"COUNTIF('Classement auteurs'!B:B,C90)","v":1},null,null,null,null,null,null,null,null,null,null,null,null,null,null,null,null,null,null,13,122,131845004001,"Le cheval de cirque      ",7,16,17,0,0,40,0,103,0,null,0]
[13,105,132060001501,"Profitons vite           ",9,12,14,0,0,35,0,96,0,null,0,null,{"$f":"COUNTIF('Classement auteurs'!B:B,C91)","v":1},null,null,null,null,null,null,null,null,null,null,null,null,null,null,null,null,null,null,13,148,131845002101,"Abandon                  ",9,13,16,0,0,38,0,87,0,null,0]
[13,106,130925008601,"Rouge                    ",13,7,13,0,0,33,0,66,0,null,0,null,{"$f":"COUNTIF('Classement auteurs'!B:B,C92)","v":1},null,null,null,null,null,null,null,null,null,null,null,null,null,null,null,null,null,null,13,10,131845000301,"Variation d'ocres        ",9,13,14,0,0,36,0,53,0,null,0]
[13,107,131353004301,"Vert et rouge            ",6,6,6,0,0,18,0,90,0,null,0,null,{"$f":"COUNTIF('Classement auteurs'!B:B,C93)","v":1},null,null,null,null,null,null,null,null,null,null,null,null,null,null,null,null,null,null,13,5,131845000801,"Le soleil se lève       ",13,12,11,0,0,36,0,136,0,null,0]
[13,108,131376011801,"BAMBINS HIMBAS           ",14,16,18,0,0,48,0,85,7,null,0,null,{"$f":"COUNTIF('Classement auteurs'!B:B,C94)","v":1},null,null,null,null,null,null,null,null,null,null,null,null,null,null,null,null,null,null,13,116,131845002501,"Avenue de Tayac          ",7,13,10,0,0,30,0,98,0,null,0]
[13,109,131619004601,"Balle au nez             ",9,12,14,0,0,35,0,44,0,null,0,null,{"$f":"COUNTIF('Classement auteurs'!B:B,C95)","v":1},null,null,null,null,null,null,null,null,null,null,null,null,null,null,null,null,null,null,13,61,131845004101,"Clair et foncé          ",7,13,9,0,0,29,0,38,0,null,0]
[13,110,130000020801,"Un soir sur la Saône    ",13,13,14,0,0,40,0,34,6,null,0,null,{"$f":"COUNTIF('Classement auteurs'!B:B,C96)","v":1},null,null,null,null,null,null,null,null,null,null,null,null,null,null,null,null,null,null,13,1,131845003401,"Avant la régate         ",9,7,12,0,0,28,0,31,0,null,0]
[13,111,131110001101,"Lotus au petit matin     ",11,12,13,0,0,36,0,134,0,null,0,null,{"$f":"COUNTIF('Classement auteurs'!B:B,C97)","v":1},null,null,null,null,null,null,null,null,null,null,null,null,null,null,null,null,null,null,13,127,131862000801,"Bleu de nice             ",15,17,19,0,0,51,0,8,0,null,0]
[13,113,131494000201,"Vélo d'enfer            ",13,10,16,0,0,39,0,78,0,null,0,null,{"$f":"COUNTIF('Classement auteurs'!B:B,C98)","v":1},null,null,null,null,null,null,null,null,null,null,null,null,null,null,null,null,null,null,13,98,131862001101,"Le guitariste            ",10,9,10,0,0,29,0,72,0,null,0]
[13,114,131499009301,"Lights                   ",8,14,7,0,0,29,0,80,0,null,0,null,{"$f":"COUNTIF('Classement auteurs'!B:B,C99)","v":1},null,null,null,null,null,null,null,null,null,null,null,null,null,null,null,null,null,null,13,79,131862002201,"Automne                  ",15,13,13,0,0,41,0,135,0,null,0]
[13,115,131823007801,"Eucalyptus               ",8,10,12,0,0,30,0,11,0,null,0,null,{"$f":"COUNTIF('Classement auteurs'!B:B,C100)","v":1},null,null,null,null,null,null,null,null,null,null,null,null,null,null,null,null,null,null,13,22,131879000101,"Tangueros                ",12,16,13,0,0,41,0,67,0,null,0]
[13,116,131845002501,"Avenue de Tayac          ",7,13,10,0,0,30,0,98,0,null,0,null,{"$f":"COUNTIF('Classement auteurs'!B:B,C101)","v":1},null,null,null,null,null,null,null,null,null,null,null,null,null,null,null,null,null,null,13,27,131879000501,"Barques                  ",12,12,14,0,0,38,0,127,0,null,0]
[13,117,131499006801,"Reflets sur St Honorat   ",13,8,14,0,0,35,0,45,0,null,0,null,{"$f":"COUNTIF('Classement auteurs'!B:B,C102)","v":1},null,null,null,null,null,null,null,null,null,null,null,null,null,null,null,null,null,null,13,21,131879000601,"Hong Kong la nuit        ",15,17,15,0,0,47,0,4,0,null,0]
[13,118,131845001401,"Seul au monde            ",11,13,17,0,0,41,0,19,0,null,0,null,{"$f":"COUNTIF('Classement auteurs'!B:B,C103)","v":1},null,null,null,null,null,null,null,null,null,null,null,null,null,null,null,null,null,null,13,67,131879000801,"La fille au chapeau      ",17,16,17,0,0,50,0,115,0,null,0]
[13,119,130878015201,"Magie des lumières      ",13,14,16,0,0,43,0,122,0,null,0,null,{"$f":"COUNTIF('Classement auteurs'!B:B,C104)","v":1},null,null,null,null,null,null,null,null,null,null,null,null,null,null,null,null,null,null,13,91,131879001301,"Le chat                  ",12,15,15,0,0,42,0,118,0,null,0]
[13,120,131823005701,"Cannes régates royales  ",10,11,15,0,0,36,0,124,0,null,0,null,{"$f":"COUNTIF('Classement auteurs'!B:B,C105)","v":1},null,null,null,null,null,null,null,null,null,null,null,null,null,null,null,null,null,null,13,81,131956000401,"Gourmandise              ",12,9,12,0,0,33,0,112,0,null,0]
[13,121,132060003301,"Floraison                ",7,11,10,0,0,28,0,128,7,null,0,null,{"$f":"COUNTIF('Classement auteurs'!B:B,C106)","v":1},null,null,null,null,null,null,null,null,null,null,null,null,null,null,null,null,null,null,13,151,131956002401,"Chut Silence             ",8,11,9,0,0,28,0,16,0,null,0]
[13,122,131845004001,"Le cheval de cirque      ",7,16,17,0,0,40,0,103,0,null,0,null,{"$f":"COUNTIF('Classement auteurs'!B:B,C107)","v":1},null,null,null,null,null,null,null,null,null,null,null,null,null,null,null,null,null,null,13,152,131956002901,"Rouge salant             ",14,14,15,0,0,43,0,5,0,null,0]
[13,123,130925007701,"Arbres pétrifiés       ",15,13,18,0,0,46,0,37,0,null,0,null,{"$f":"COUNTIF('Classement auteurs'!B:B,C108)","v":1},null,null,null,null,null,null,null,null,null,null,null,null,null,null,null,null,null,null,13,71,131956003401,"Feerie                   ",11,15,11,0,0,37,0,68,0,null,0]
[13,124,131376017601,"Au fond de mon verre     ",11,9,12,0,0,32,0,120,0,null,0,null,{"$f":"COUNTIF('Classement auteurs'!B:B,C109)","v":1},null,null,null,null,null,null,null,null,null,null,null,null,null,null,null,null,null,null,13,70,131956004501,"Paganello                ",13,14,11,0,0,38,0,3,0,null,0]
[13,126,131683006601,"La fillette et sa glace  ",13,11,16,0,0,40,0,21,0,null,0,null,{"$f":"COUNTIF('Classement auteurs'!B:B,C110)","v":1},null,null,null,null,null,null,null,null,null,null,null,null,null,null,null,null,null,null,13,46,131956005101,"Litter Litter            ",9,8,17,0,0,34,0,15,0,null,0]
[13,127,131862000801,"Bleu de nice             ",15,17,19,0,0,51,0,8,0,null,0,null,{"$f":"COUNTIF('Classement auteurs'!B:B,C111)","v":1},null,null,null,null,null,null,null,null,null,null,null,null,null,null,null,null,null,null,13,156,131956005701,"Solitudes                ",11,12,13,0,0,36,0,62,0,null,0]
[13,128,132089000301,"Festirun                 ",10,10,11,0,0,31,0,40,0,null,0,null,{"$f":"COUNTIF('Classement auteurs'!B:B,C112)","v":1},null,null,null,null,null,null,null,null,null,null,null,null,null,null,null,null,null,null,13,138,131956005901,"Couleurs de Montréal    ",10,15,18,0,0,43,0,52,0,null,0]
[13,129,131499003601,"Casquettes               ",9,10,15,0,0,34,0,102,0,null,0,null,{"$f":"COUNTIF('Classement auteurs'!B:B,C113)","v":1},null,null,null,null,null,null,null,null,null,null,null,null,null,null,null,null,null,null,13,84,131956006001,"Light under the milky way",16,17,17,0,0,50,0,104,0,null,0]
[13,130,130925009801,"Vite !                   ",14,14,16,0,0,44,0,18,0,null,0,null,{"$f":"COUNTIF('Classement auteurs'!B:B,C114)","v":1},null,null,null,null,null,null,null,null,null,null,null,null,null,null,null,null,null,null,13,19,131992000301,"Le tatoueur de Madurai.  ",12,12,16,0,0,40,0,25,0,null,0]
[13,131,131499008201,"Champ jaune et vert      ",12,17,16,0,0,45,0,35,0,null,0,null,{"$f":"COUNTIF('Classement auteurs'!B:B,C115)","v":1},null,null,null,null,null,null,null,null,null,null,null,null,null,null,null,null,null,null,13,36,132060000101,"Signature artistique     ",6,16,7,0,0,29,0,26,0,null,0]
[13,132,131376018001,"DemonstrationTimesSquare ",11,13,14,0,0,38,0,9,0,null,0,null,{"$f":"COUNTIF('Classement auteurs'!B:B,C116)","v":1},null,null,null,null,null,null,null,null,null,null,null,null,null,null,null,null,null,null,13,139,132060000401,"Butineuse au travail     ",6,6,6,0,0,{"$f":"SUM(AN116:AR116)","v":18},0,65,0,null,0]
[13,134,131110001001,"Transhumance             ",13,14,14,0,0,41,0,77,0,null,0,null,{"$f":"COUNTIF('Classement auteurs'!B:B,C117)","v":1},null,null,null,null,null,null,null,null,null,null,null,null,null,null,null,null,null,null,13,40,132060000701,"Paris La Défense        ",13,11,14,0,0,38,0,73,0,null,0]
[13,136,131376015801,"Quiétude                ",13,12,11,0,0,36,0,49,0,null,0,null,{"$f":"COUNTIF('Classement auteurs'!B:B,C118)","v":1},null,null,null,null,null,null,null,null,null,null,null,null,null,null,null,null,null,null,13,142,132060000801,"Entre ciel et terre      ",7,10,13,0,0,30,0,14,0,null,0]
[13,137,131619004501,"Foncouverte              ",19,14,18,0,0,51,0,133,0,null,0,null,{"$f":"COUNTIF('Classement auteurs'!B:B,C119)","v":1},null,null,null,null,null,null,null,null,null,null,null,null,null,null,null,null,null,null,13,94,132060000901,"Face au mur              ",13,9,13,0,0,35,0,30,0,null,0]
[13,138,131956005901,"Couleurs de Montréal    ",10,15,18,0,0,43,0,52,0,null,0,null,{"$f":"COUNTIF('Classement auteurs'!B:B,C120)","v":1},null,null,null,null,null,null,null,null,null,null,null,null,null,null,null,null,null,null,13,154,132060001201,"Atomes                   ",15,16,15,0,0,46,0,36,0,null,0]
[13,139,132060000401,"Butineuse au travail     ",6,6,6,0,0,18,0,65,0,null,0,null,{"$f":"COUNTIF('Classement auteurs'!B:B,C121)","v":1},null,null,null,null,null,null,null,null,null,null,null,null,null,null,null,null,null,null,13,105,132060001501,"Profitons vite           ",9,12,14,0,0,35,0,96,0,null,0]
[13,140,131499006901,"Florence                 ",10,16,16,0,0,42,0,81,0,null,0,null,{"$f":"COUNTIF('Classement auteurs'!B:B,C122)","v":1},null,null,null,null,null,null,null,null,null,null,null,null,null,null,null,null,null,null,13,76,132060001701,"Luminaires               ",11,14,12,0,0,37,0,101,0,null,0]
[13,141,132086002601,"Fluidité arborescente   ",8,15,9,0,0,32,0,48,0,null,0,null,{"$f":"COUNTIF('Classement auteurs'!B:B,C123)","v":1},null,null,null,null,null,null,null,null,null,null,null,null,null,null,null,null,null,null,13,95,132060001801,"No limit                 ",10,13,15,0,0,38,0,74,0,null,0]
[13,142,132060000801,"Entre ciel et terre      ",7,10,13,0,0,30,0,14,0,null,0,null,{"$f":"COUNTIF('Classement auteurs'!B:B,C124)","v":1},null,null,null,null,null,null,null,null,null,null,null,null,null,null,null,null,null,null,13,85,132060002001,"Bleu, blanc, rouge       ",12,15,16,0,0,43,0,137,0,null,0]
[13,143,131823007601,"Orange Grassoise         ",8,11,14,0,0,33,0,46,0,null,0,null,{"$f":"COUNTIF('Classement auteurs'!B:B,C125)","v":1},null,null,null,null,null,null,null,null,null,null,null,null,null,null,null,null,null,null,13,51,132060002201,"Collégiennes à Londres ",14,11,16,0,0,41,0,88,0,null,0]
[13,144,130527017001,"Les mots envolés.       ",20,15,20,0,0,55,0,6,0,null,0,null,{"$f":"COUNTIF('Classement auteurs'!B:B,C126)","v":1},null,null,null,null,null,null,null,null,null,null,null,null,null,null,null,null,null,null,13,92,132060002401,"Orchidées incandescents ",7,14,14,0,0,35,0,51,0,null,0]
[13,146,132086002501,"Retour du marché        ",8,13,17,0,0,38,0,123,0,null,0,null,{"$f":"COUNTIF('Classement auteurs'!B:B,C127)","v":1},null,null,null,null,null,null,null,null,null,null,null,null,null,null,null,null,null,null,13,121,132060003301,"Floraison                ",7,11,10,0,0,28,0,128,7,null,0]
[13,148,131845002101,"Abandon                  ",9,13,16,0,0,38,0,87,0,null,0,null,{"$f":"COUNTIF('Classement auteurs'!B:B,C128)","v":1},null,null,null,null,null,null,null,null,null,null,null,null,null,null,null,null,null,null,13,50,132084001701,"Champs d'ail             ",11,18,16,0,0,45,0,129,0,null,0]
[13,149,131845001101,"...vers la culture       ",14,13,14,0,0,41,0,28,0,null,0,null,{"$f":"COUNTIF('Classement auteurs'!B:B,C129)","v":1},null,null,null,null,null,null,null,null,null,null,null,null,null,null,null,null,null,null,13,74,132086001401,"TEMPS DE PAUSE           ",10,12,11,0,0,33,0,121,0,null,0]
[13,150,130527009401,"Chez l'artiste ...       ",16,18,16,0,0,50,0,50,0,null,0,null,{"$f":"COUNTIF('Classement auteurs'!B:B,C130)","v":1},null,null,null,null,null,null,null,null,null,null,null,null,null,null,null,null,null,null,13,39,132086002301,"Parade en rose           ",11,13,12,0,0,36,0,29,0,null,0]
[13,151,131956002401,"Chut Silence             ",8,11,9,0,0,{"$f":"SUM(E131:I131)","v":28},0,16,0,null,0,null,{"$f":"COUNTIF('Classement auteurs'!B:B,C131)","v":1},null,null,null,null,null,null,null,null,null,null,null,null,null,null,null,null,null,null,13,146,132086002501,"Retour du marché        ",8,13,17,0,0,38,0,123,0,null,0]
[13,152,131956002901,"Rouge salant             ",14,14,15,0,0,43,0,5,0,null,0,null,{"$f":"COUNTIF('Classement auteurs'!B:B,C132)","v":1},null,null,null,null,null,null,null,null,null,null,null,null,null,null,null,null,null,null,13,141,132086002601,"Fluidité arborescente   ",8,15,9,0,0,32,0,48,0,null,0]
[13,153,130925009901,"Belles coiffes           ",10,9,11,0,0,30,0,119,0,null,0,null,{"$f":"COUNTIF('Classement auteurs'!B:B,C133)","v":1},null,null,null,null,null,null,null,null,null,null,null,null,null,null,null,null,null,null,13,65,132089000101,"Les Cinq Terres          ",11,13,12,0,0,36,0,94,0,null,0]
[13,154,132060001201,"Atomes                   ",15,16,15,0,0,46,0,36,0,null,0,null,{"$f":"COUNTIF('Classement auteurs'!B:B,C134)","v":1},null,null,null,null,null,null,null,null,null,null,null,null,null,null,null,null,null,null,13,78,132089000201,"CD en MACRO              ",7,8,9,0,0,24,0,23,0,null,0]
[13,155,130987001601,"Envol                    ",11,11,13,0,0,35,0,106,0,null,0,null,{"$f":"COUNTIF('Classement auteurs'!B:B,C135)","v":1},null,null,null,null,null,null,null,null,null,null,null,null,null,null,null,null,null,null,13,128,132089000301,"Festirun                 ",10,10,11,0,0,31,0,40,0,null,0]
[13,156,131956005701,"Solitudes                ",11,12,13,0,0,36,0,62,0,null,0,null,{"$f":"COUNTIF('Classement auteurs'!B:B,C136)","v":1},null,null,null,null,null,null,null,null,null,null,null,null,null,null,null,null,null,null,13,77,132103002301,"Couleurs du Japon        ",12,16,18,0,0,46,0,17,0,null,0]
[13,158,131353000701,"Cellulose du Rhône      ",14,20,14,0,0,48,0,24,0,null,0,null,{"$f":"COUNTIF('Classement auteurs'!B:B,C137)","v":1},null,null,null,null,null,null,null,null,null,null,null,null,null,null,null,null,null,null,13,34,132193000301,"Ambiance New York        ",12,18,18,0,0,48,0,69,0,null,0]
[13,159,131353000101,"Ambiance automnale       ",14,14,17,0,0,45,0,110,0,null,0,null,{"$f":"COUNTIF('Classement auteurs'!B:B,C138)","v":1},null,null,null,null,null,null,null,null,null,null,null,null,null,null,null,null,null,null,13,59,132193000401,"Multicolore              ",12,14,15,0,0,41,0,82,0,null,0]

{"sheet":"Défi-2","index":4,"n_rows":146,"n_cols":22,"rows_kept":146,"cut":false,"hidden":false,"merged":[]}
["colis","photologic","fichier","titre","note1","note2","note3","note4","note5","total","place","passage","statut","medaille","retenue",null,"0=absent\n1=présent",null,"fichier",null,"total"]
[13,1,131499010201,"Edsel 1958 Cuba          ",12,10,8,0,0,{"$f":"SUM(E2:I2)","v":30},0,132,0,null,0,null,{"$f":"COUNTIF('Classement auteurs'!B:B,C2)","v":1},null,130527009401,{"$f":"(MID($S2,3,4)*1)","v":527},132,{"$f":"IF(U2=VLOOKUP($T2,'Classement clubs'!$B$2:$K$52,4,FALSE),\"OK\",\"KO\")","v":"OK"}]
[13,2,131862001101,"Le V                     ",11,10,9,0,0,{"$f":"SUM(E3:I3)","v":30},0,57,0,null,0,null,{"$f":"COUNTIF('Classement auteurs'!B:B,C3)","v":1},null,130878013401,{"$f":"(MID($S3,3,4)*1)","v":878},101,{"$f":"IF(U3=VLOOKUP($T3,'Classement clubs'!$B$2:$K$52,4,FALSE),\"OK\",\"KO\")","v":"OK"}]
[13,4,131683000701,"L'ARBRE DE VIE           ",12,10,8,0,0,30,0,35,0,null,0,null,{"$f":"COUNTIF('Classement auteurs'!B:B,C4)","v":1},null,130925007701,925,133,{"$f":"IF(U4=VLOOKUP($T4,'Classement clubs'!$B$2:$K$52,4,FALSE),\"OK\",\"KO\")","v":"OK"}]
[13,5,132193000301,"Peuple Uros lac Titicaca ",12,12,13,0,0,37,0,101,7,null,0,null,{"$f":"COUNTIF('Classement auteurs'!B:B,C5)","v":1},null,130987002301,987,131,{"$f":"IF(U5=VLOOKUP($T5,'Classement clubs'!$B$2:$K$52,4,FALSE),\"OK\",\"KO\")","v":"OK"}]
[13,6,130987024201,"La nuit des Sans         ",15,12,16,0,0,43,0,141,0,null,0,null,{"$f":"COUNTIF('Classement auteurs'!B:B,C6)","v":1},null,131110000901,1110,110,{"$f":"IF(U6=VLOOKUP($T6,'Classement clubs'!$B$2:$K$52,4,FALSE),\"OK\",\"KO\")","v":"OK"}]
[13,7,130987024101,"Ado Himba                ",12,12,15,0,0,39,0,87,0,null,0,null,{"$f":"COUNTIF('Classement auteurs'!B:B,C7)","v":1},null,131353000701,1353,123,{"$f":"IF(U7=VLOOKUP($T7,'Classement clubs'!$B$2:$K$52,4,FALSE),\"OK\",\"KO\")","v":"OK"}]
[13,8,132203000901,"Femme Ousbèque          ",14,16,18,0,0,48,0,5,0,null,0,null,{"$f":"COUNTIF('Classement auteurs'!B:B,C8)","v":1},null,131376018001,1376,101,{"$f":"IF(U8=VLOOKUP($T8,'Classement clubs'!$B$2:$K$52,4,FALSE),\"OK\",\"KO\")","v":"OK"}]
[13,9,131879000101,"Fille Akha               ",14,10,17,0,0,41,0,95,0,null,0,null,{"$f":"COUNTIF('Classement auteurs'!B:B,C9)","v":1},null,131494000201,1494,98,{"$f":"IF(U9=VLOOKUP($T9,'Classement clubs'!$B$2:$K$52,4,FALSE),\"OK\",\"KO\")","v":"OK"}]
[13,10,131376018301,"Holi                     ",11,11,12,0,0,34,0,38,0,null,0,null,{"$f":"COUNTIF('Classement auteurs'!B:B,C10)","v":1},null,131499006901,1499,128,{"$f":"IF(U10=VLOOKUP($T10,'Classement clubs'!$B$2:$K$52,4,FALSE),\"OK\",\"KO\")","v":"OK"}]
[13,11,131992000301,"Famille Tamoul.          ",11,10,12,0,0,33,0,91,0,null,0,null,{"$f":"COUNTIF('Classement auteurs'!B:B,C11)","v":1},null,131683008001,1683,128,{"$f":"IF(U11=VLOOKUP($T11,'Classement clubs'!$B$2:$K$52,4,FALSE),\"OK\",\"KO\")","v":"OK"}]
[13,12,131683007601,"Don sacré               ",13,14,15,0,0,42,0,13,0,null,0,null,{"$f":"COUNTIF('Classement auteurs'!B:B,C12)","v":1},null,131823008701,1823,119,{"$f":"IF(U12=VLOOKUP($T12,'Classement clubs'!$B$2:$K$52,4,FALSE),\"OK\",\"KO\")","v":"OK"}]
[13,13,130527013301,"New york 1               ",13,11,15,0,0,39,0,18,0,null,0,null,{"$f":"COUNTIF('Classement auteurs'!B:B,C13)","v":1},null,131845002501,1845,109,{"$f":"IF(U13=VLOOKUP($T13,'Classement clubs'!$B$2:$K$52,4,FALSE),\"OK\",\"KO\")","v":"OK"}]
[13,14,131823004901,"Pas de doute             ",11,6,8,0,0,25,0,74,0,null,0,null,{"$f":"COUNTIF('Classement auteurs'!B:B,C14)","v":1},null,131862001001,1862,108,{"$f":"IF(U14=VLOOKUP($T14,'Classement clubs'!$B$2:$K$52,4,FALSE),\"OK\",\"KO\")","v":"OK"}]
[13,15,131494002101,"Retour à la bergerie    ",11,9,9,0,0,29,0,1,0,null,0,null,{"$f":"COUNTIF('Classement auteurs'!B:B,C15)","v":1},null,131879002001,1879,127,{"$f":"IF(U15=VLOOKUP($T15,'Classement clubs'!$B$2:$K$52,4,FALSE),\"OK\",\"KO\")","v":"OK"}]
[13,17,130925010201,"Tempête sur l'Angleterre",11,11,8,0,0,30,0,82,0,null,0,null,{"$f":"COUNTIF('Classement auteurs'!B:B,C16)","v":1},null,131956000201,1956,138,{"$f":"IF(U16=VLOOKUP($T16,'Classement clubs'!$B$2:$K$52,4,FALSE),\"OK\",\"KO\")","v":"OK"}]
[13,18,130987024001,"Tre Cime                 ",13,12,19,0,0,44,0,129,0,null,0,null,{"$f":"COUNTIF('Classement auteurs'!B:B,C17)","v":1},null,132060001701,2060,115,{"$f":"IF(U17=VLOOKUP($T17,'Classement clubs'!$B$2:$K$52,4,FALSE),\"OK\",\"KO\")","v":"OK"}]
[13,19,131110001001,"étudiant birman         ",12,11,18,0,0,41,0,86,0,null,0,null,{"$f":"COUNTIF('Classement auteurs'!B:B,C18)","v":1},null,132084003501,2084,122,{"$f":"IF(U18=VLOOKUP($T18,'Classement clubs'!$B$2:$K$52,4,FALSE),\"OK\",\"KO\")","v":"OK"}]
[13,20,131376012601,"Festival des cultures    ",12,9,8,0,0,29,0,17,0,null,0,null,{"$f":"COUNTIF('Classement auteurs'!B:B,C19)","v":1},null,132086001401,2086,104,{"$f":"IF(U19=VLOOKUP($T19,'Classement clubs'!$B$2:$K$52,4,FALSE),\"OK\",\"KO\")","v":"OK"}]
[13,21,131683008001,"Les tanneurs de Fes      ",12,16,19,0,0,47,0,135,0,null,0,null,{"$f":"COUNTIF('Classement auteurs'!B:B,C20)","v":1},null,132089000101,2089,99,{"$f":"IF(U20=VLOOKUP($T20,'Classement clubs'!$B$2:$K$52,4,FALSE),\"OK\",\"KO\")","v":"OK"}]
[13,22,130987028401,"Pêche traditionnelle    ",13,13,12,0,0,38,0,133,0,null,0,null,{"$f":"COUNTIF('Classement auteurs'!B:B,C21)","v":1},null,132193000301,2193,108,{"$f":"IF(U21=VLOOKUP($T21,'Classement clubs'!$B$2:$K$52,4,FALSE),\"OK\",\"KO\")","v":"OK"}]
[13,23,131353000201,"Arc en ciel              ",13,13,11,0,0,37,0,84,0,null,0,null,{"$f":"COUNTIF('Classement auteurs'!B:B,C22)","v":1}]
[13,24,131879001301,"Inde                     ",11,12,7,0,0,30,0,36,0,null,0,null,{"$f":"COUNTIF('Classement auteurs'!B:B,C23)","v":1}]
[13,25,131499008701,"Si vaste et si fragile...",10,7,12,0,0,29,0,112,0,null,0,null,{"$f":"COUNTIF('Classement auteurs'!B:B,C24)","v":1}]
[13,27,132084004001,"La vache et le soldat    ",12,10,18,0,0,40,0,106,0,null,0,null,{"$f":"COUNTIF('Classement auteurs'!B:B,C25)","v":1}]
[13,28,131823008801,"Mais pourquoi ?          ",11,8,9,0,0,28,0,61,0,null,0,null,{"$f":"COUNTIF('Classement auteurs'!B:B,C26)","v":1}]
[13,29,130987019701,"Venezia                  ",13,11,16,0,0,40,0,69,0,null,0,null,{"$f":"COUNTIF('Classement auteurs'!B:B,C27)","v":1}]
[13,30,130987019601,"Padaung Karen            ",12,10,15,0,0,37,0,40,0,null,0,null,{"$f":"COUNTIF('Classement auteurs'!B:B,C28)","v":1}]
[13,31,131845004101,"Regard réprobateur      ",11,8,15,0,0,34,0,24,0,null,0,null,{"$f":"COUNTIF('Classement auteurs'!B:B,C29)","v":1}]
[13,32,131992000401,"Regard envoutant         ",13,10,16,0,0,39,0,21,0,null,0,null,{"$f":"COUNTIF('Classement auteurs'!B:B,C30)","v":1}]
[13,33,131879002001,"La faiseuse de briques   ",14,13,20,0,0,47,0,26,0,null,0,null,{"$f":"COUNTIF('Classement auteurs'!B:B,C31)","v":1}]
[13,35,131353004301,"Mucem 2016               ",11,7,10,0,0,28,0,32,0,null,0,null,{"$f":"COUNTIF('Classement auteurs'!B:B,C32)","v":1}]
[13,36,130987007401,"Florence                 ",11,13,8,0,0,32,0,105,0,null,0,null,{"$f":"COUNTIF('Classement auteurs'!B:B,C33)","v":1}]
[13,37,131956005101,"L'Égypte à Madrid      ",12,11,11,0,0,34,0,16,0,null,0,null,{"$f":"COUNTIF('Classement auteurs'!B:B,C34)","v":1}]
[13,38,130987014001,"Sourire de Bahia         ",12,10,15,0,0,37,0,47,0,null,0,null,{"$f":"COUNTIF('Classement auteurs'!B:B,C35)","v":1}]
[13,39,132084001701,"Venise                   ",12,11,13,0,0,36,0,73,0,null,0,null,{"$f":"COUNTIF('Classement auteurs'!B:B,C36)","v":1}]
[13,40,132086001401,"Il neige sur Venise      ",13,13,15,0,0,41,0,102,0,null,0,null,{"$f":"COUNTIF('Classement auteurs'!B:B,C37)","v":1}]
[13,41,131823008301,"Afrique                  ",12,10,18,0,0,40,0,92,0,null,0,null,{"$f":"COUNTIF('Classement auteurs'!B:B,C38)","v":1}]
[13,42,131824003101,"Croisement de regard     ",11,13,9,0,0,33,0,131,0,null,0,null,{"$f":"COUNTIF('Classement auteurs'!B:B,C39)","v":1}]
[13,43,131499010001,"Dans la cour de l'école ",13,15,14,0,0,42,0,44,0,null,0,null,{"$f":"COUNTIF('Classement auteurs'!B:B,C40)","v":1}]
[13,44,132023000101,"Mésange à la lune      ",6,6,6,0,0,18,0,55,0,null,0,null,{"$f":"COUNTIF('Classement auteurs'!B:B,C41)","v":1}]
[13,45,131499005201,"Pizzaiolo                ",11,7,13,0,0,31,0,46,0,null,0,null,{"$f":"COUNTIF('Classement auteurs'!B:B,C42)","v":1}]
[13,46,131376017601,"Les touristes            ",9,6,9,0,0,24,0,64,0,null,0,null,{"$f":"COUNTIF('Classement auteurs'!B:B,C43)","v":1}]
[13,47,131683006301,"Regards indiens          ",12,15,9,0,0,36,0,127,0,null,0,null,{"$f":"COUNTIF('Classement auteurs'!B:B,C44)","v":1}]
[13,48,131824001901,"Auprès de mon arbre.... ",13,9,18,0,0,40,0,62,0,null,0,null,{"$f":"COUNTIF('Classement auteurs'!B:B,C45)","v":1}]
[13,49,130925009801,"Shanghai                 ",12,10,14,0,0,36,0,11,0,null,0,null,{"$f":"COUNTIF('Classement auteurs'!B:B,C46)","v":1}]
[13,50,130000020401,"Khiva - La Roue          ",13,11,13,0,0,37,0,123,6,null,0,null,{"$f":"COUNTIF('Classement auteurs'!B:B,C47)","v":1}]
[13,51,132193000501,"Guerrier irlandais       ",11,7,7,0,0,25,0,41,7,null,0,null,{"$f":"COUNTIF('Classement auteurs'!B:B,C48)","v":1}]
[13,52,131956003401,"Regard de la foret       ",11,6,7,0,0,24,0,56,0,null,0,null,{"$f":"COUNTIF('Classement auteurs'!B:B,C49)","v":1}]
[13,53,132086002501,"Le Chianti moderne       ",14,7,11,0,0,32,0,29,0,null,0,null,{"$f":"COUNTIF('Classement auteurs'!B:B,C50)","v":1}]
[13,54,131683005101,"Clarisse                 ",15,6,12,0,0,33,0,126,0,null,0,null,{"$f":"COUNTIF('Classement auteurs'!B:B,C51)","v":1}]
[13,55,130987012601,"Taxi à Tokyo.           ",12,12,17,0,0,41,0,136,0,null,0,null,{"$f":"COUNTIF('Classement auteurs'!B:B,C52)","v":1}]
[13,56,130993016501,"Reflet_Asie              ",13,12,10,0,0,35,0,31,0,null,0,null,{"$f":"COUNTIF('Classement auteurs'!B:B,C53)","v":1}]
[13,57,131862001001,"Petite Vietnamienne      ",12,12,15,0,0,39,0,139,0,null,0,null,{"$f":"COUNTIF('Classement auteurs'!B:B,C54)","v":1}]
[13,58,132084003501,"Coiffes Himbas           ",14,12,17,0,0,43,0,34,0,null,0,null,{"$f":"COUNTIF('Classement auteurs'!B:B,C55)","v":1}]
[13,59,132084003601,"Kaokoland airport        ",11,12,10,0,0,33,0,98,0,null,0,null,{"$f":"COUNTIF('Classement auteurs'!B:B,C56)","v":1}]
[13,60,131353007301,"LAGUNA COLORADA BOLIVIE  ",14,11,15,0,0,40,0,37,0,null,0,null,{"$f":"COUNTIF('Classement auteurs'!B:B,C57)","v":1}]
[13,61,130878014301,"L’œil de la terre     ",10,6,7,0,0,23,0,7,0,null,0,null,{"$f":"COUNTIF('Classement auteurs'!B:B,C58)","v":1}]
[13,62,131353003001,"Regard de l'inconnue     ",12,6,12,0,0,30,0,48,0,null,0,null,{"$f":"COUNTIF('Classement auteurs'!B:B,C59)","v":1}]
[13,63,130878014101,"Orientation              ",11,7,19,0,0,37,0,76,0,null,0,null,{"$f":"COUNTIF('Classement auteurs'!B:B,C60)","v":1}]
[13,64,131619005001,"Regard sur le haut atlas ",11,15,13,0,0,39,0,77,0,null,0,null,{"$f":"COUNTIF('Classement auteurs'!B:B,C61)","v":1}]
[13,65,131879000501,"Tromso                   ",14,14,11,0,0,39,0,142,0,null,0,null,{"$f":"COUNTIF('Classement auteurs'!B:B,C62)","v":1}]
[13,66,131956002601,"Berlin                   ",14,14,16,0,0,44,0,68,0,null,0,null,{"$f":"COUNTIF('Classement auteurs'!B:B,C63)","v":1}]
[13,67,131823008701,"école en Sulawesi       ",12,13,16,0,0,41,0,97,0,null,0,null,{"$f":"COUNTIF('Classement auteurs'!B:B,C64)","v":1}]
[13,68,130925008601,"Amerique                 ",13,7,16,0,0,36,0,85,0,null,0,null,{"$f":"COUNTIF('Classement auteurs'!B:B,C65)","v":1}]
[13,69,130878013601,"L'enfant et le torri     ",12,9,13,0,0,34,0,72,0,null,0,null,{"$f":"COUNTIF('Classement auteurs'!B:B,C66)","v":1}]
[13,70,131845004001,"VIETAMIENNE              ",11,9,13,0,0,{"$f":"SUM(E67:I67)","v":33},0,66,0,null,0,null,{"$f":"COUNTIF('Classement auteurs'!B:B,C67)","v":1}]
[13,71,130925007601,"Famille Himba            ",14,13,17,0,0,44,0,45,0,null,0,null,{"$f":"COUNTIF('Classement auteurs'!B:B,C68)","v":1}]
[13,72,130925007701,"Regards d'enfants        ",14,17,19,0,0,50,0,119,0,null,0,null,{"$f":"COUNTIF('Classement auteurs'!B:B,C69)","v":1}]
[13,73,132060001701,"Enfant gitan de la mer   ",14,14,17,0,0,45,0,42,0,null,0,null,{"$f":"COUNTIF('Classement auteurs'!B:B,C70)","v":1}]
[13,74,131862000801,"Le Chat du Rabin         ",11,6,7,0,0,24,0,78,0,null,0,null,{"$f":"COUNTIF('Classement auteurs'!B:B,C71)","v":1}]
[13,75,132084000301,"Croisère à Kotor       ",14,11,14,0,0,39,0,120,0,null,0,null,{"$f":"COUNTIF('Classement auteurs'!B:B,C72)","v":1}]
[13,76,130000019901,"Recueillement            ",13,13,15,0,0,41,0,115,6,null,0,null,{"$f":"COUNTIF('Classement auteurs'!B:B,C73)","v":1}]
[13,77,132193000401,"Un pont entre 2 mondes   ",12,12,13,0,0,37,0,93,7,null,0,null,{"$f":"COUNTIF('Classement auteurs'!B:B,C74)","v":1}]
[13,78,131956004601,"Regards sur notre galaxie",13,19,15,0,0,47,0,20,0,null,0,null,{"$f":"COUNTIF('Classement auteurs'!B:B,C75)","v":1}]
[13,79,130987015701,"Les Falaises de Moher    ",14,9,16,0,0,39,0,111,0,null,0,null,{"$f":"COUNTIF('Classement auteurs'!B:B,C76)","v":1}]
[13,80,131956001401,"Regard Colombien         ",11,10,11,0,0,32,0,134,0,null,0,null,{"$f":"COUNTIF('Classement auteurs'!B:B,C77)","v":1}]
[13,81,131862002201,"Matsumoto. Japon         ",12,11,12,0,0,35,0,50,0,null,0,null,{"$f":"COUNTIF('Classement auteurs'!B:B,C78)","v":1}]
[13,82,132089000201,"Au Radjastan             ",10,11,10,0,0,31,0,6,0,null,0,null,{"$f":"COUNTIF('Classement auteurs'!B:B,C79)","v":1}]
[13,83,131862005801,"Suivez mon regard        ",11,11,12,0,0,34,0,52,0,null,0,null,{"$f":"COUNTIF('Classement auteurs'!B:B,C80)","v":1}]
[13,84,131956004501,"Aquarius                 ",12,14,12,0,0,38,0,54,0,null,0,null,{"$f":"COUNTIF('Classement auteurs'!B:B,C81)","v":1}]
[13,85,131110001101,"Le petit guitariste      ",11,6,7,0,0,24,0,108,0,null,0,null,{"$f":"COUNTIF('Classement auteurs'!B:B,C82)","v":1}]
[13,86,132060000701,"Flamenco andalou         ",12,10,7,0,0,29,0,30,0,null,0,null,{"$f":"COUNTIF('Classement auteurs'!B:B,C83)","v":1}]
[13,87,131494002301,"Gondoles                 ",11,10,14,0,0,35,0,113,0,null,0,null,{"$f":"COUNTIF('Classement auteurs'!B:B,C84)","v":1}]
[13,88,131494000201,"Enfants Masaï           ",14,11,9,0,0,34,0,121,0,null,0,null,{"$f":"COUNTIF('Classement auteurs'!B:B,C85)","v":1}]
[13,89,131845003401,"Flotte internationale    ",11,6,10,0,0,27,0,96,0,null,0,null,{"$f":"COUNTIF('Classement auteurs'!B:B,C86)","v":1}]
[13,91,132089000501,"Ma Thaïlande            ",12,14,13,0,0,39,0,125,0,null,0,null,{"$f":"COUNTIF('Classement auteurs'!B:B,C87)","v":1}]
[13,92,131845002101,"Baigneuse coréenne      ",11,10,13,0,0,34,0,117,0,null,0,null,{"$f":"COUNTIF('Classement auteurs'!B:B,C88)","v":1}]
[13,93,131956005501,"European flags           ",10,14,9,0,0,33,0,81,0,null,0,null,{"$f":"COUNTIF('Classement auteurs'!B:B,C89)","v":1}]
[13,94,131376014701,"Le cri                   ",9,7,7,0,0,23,0,118,0,null,0,null,{"$f":"COUNTIF('Classement auteurs'!B:B,C90)","v":1}]
[13,95,131845002501,"Séville. Place d'Espagne.",14,14,13,0,0,41,0,99,0,null,0,null,{"$f":"COUNTIF('Classement auteurs'!B:B,C91)","v":1}]
[13,96,131110000901,"Marcher sur l'eau        ",13,12,20,0,0,45,0,103,0,null,0,null,{"$f":"COUNTIF('Classement auteurs'!B:B,C92)","v":1}]
[13,97,131683006601,"Un kilt assumé          ",11,8,7,0,0,26,0,39,0,null,0,null,{"$f":"COUNTIF('Classement auteurs'!B:B,C93)","v":1}]
[13,98,131499010801,"Hommage de New York      ",12,9,9,0,0,30,0,51,0,null,0,null,{"$f":"COUNTIF('Classement auteurs'!B:B,C94)","v":1}]
[13,99,131353007401,"Regards de Bolivie       ",14,12,12,0,0,38,0,4,0,null,0,null,{"$f":"COUNTIF('Classement auteurs'!B:B,C95)","v":1}]
[13,100,132193001201,"La potion magique        ",12,12,10,0,0,34,0,130,7,null,0,null,{"$f":"COUNTIF('Classement auteurs'!B:B,C96)","v":1}]
[13,101,130878013401,"01 Globe terreste        ",11,11,8,0,0,30,0,63,0,null,0,null,{"$f":"COUNTIF('Classement auteurs'!B:B,C97)","v":1}]
[13,102,130987023901,"Love in the air          ",11,8,11,0,0,30,0,8,0,null,0,null,{"$f":"COUNTIF('Classement auteurs'!B:B,C98)","v":1}]
[13,103,131956006201,"Larmes de sang           ",12,6,7,0,0,25,0,109,0,null,0,null,{"$f":"COUNTIF('Classement auteurs'!B:B,C99)","v":1}]
[13,104,130527002501,"Internation              ",12,11,14,0,0,37,0,144,0,null,0,null,{"$f":"COUNTIF('Classement auteurs'!B:B,C100)","v":1}]
[13,105,130527012601,"Transport                ",12,10,15,0,0,37,0,143,0,null,0,null,{"$f":"COUNTIF('Classement auteurs'!B:B,C101)","v":1}]
[13,106,132060000801,"Vision cubaine           ",11,10,11,0,0,32,0,122,0,null,0,null,{"$f":"COUNTIF('Classement auteurs'!B:B,C102)","v":1}]
[13,107,132103000101,"Quel vol déja           ",8,7,8,0,0,23,0,124,0,null,0,null,{"$f":"COUNTIF('Classement auteurs'!B:B,C103)","v":1}]
[13,108,132086002301,"Le poids des traditions  ",10,11,10,0,0,31,0,14,0,null,0,null,{"$f":"COUNTIF('Classement auteurs'!B:B,C104)","v":1}]
[13,109,131956000201,"Femme lepcha sikkim inde ",11,18,18,0,0,47,0,60,0,null,0,null,{"$f":"COUNTIF('Classement auteurs'!B:B,C105)","v":1}]
[13,110,131879000601,"Magique Islande          ",12,10,15,0,0,37,0,107,0,null,0,null,{"$f":"COUNTIF('Classement auteurs'!B:B,C106)","v":1}]
[13,111,131683007901,"Lueur D'espoir           ",12,7,20,0,0,39,0,128,0,null,0,null,{"$f":"COUNTIF('Classement auteurs'!B:B,C107)","v":1}]
[13,112,131862001401,"Vahine                   ",11,9,7,0,0,27,0,49,0,null,0,null,{"$f":"COUNTIF('Classement auteurs'!B:B,C108)","v":1}]
[13,113,132086002601,"Regards partagés        ",12,6,8,0,0,26,0,27,0,null,0,null,{"$f":"COUNTIF('Classement auteurs'!B:B,C109)","v":1}]
[13,114,132060002201,"Festival du rire Montréal",11,10,8,0,0,29,0,58,0,null,0,null,{"$f":"COUNTIF('Classement auteurs'!B:B,C110)","v":1}]
[13,115,131353007101,"Regads de l'étranger    ",11,9,10,0,0,30,0,67,0,null,0,null,{"$f":"COUNTIF('Classement auteurs'!B:B,C111)","v":1}]
[13,116,131823005701,"Lever-soleil-Suède      ",9,12,7,0,0,28,0,83,0,null,0,null,{"$f":"COUNTIF('Classement auteurs'!B:B,C112)","v":1}]
[13,117,131956005701,"Bancroft way Berkeley    ",10,12,9,0,0,31,0,116,0,null,0,null,{"$f":"COUNTIF('Classement auteurs'!B:B,C113)","v":1}]
[13,118,132060001801,"Jiwa et la femme au betel",12,12,14,0,0,38,0,94,0,null,0,null,{"$f":"COUNTIF('Classement auteurs'!B:B,C114)","v":1}]
[13,119,130527009201,"Aki Matsuri              ",12,12,11,0,0,35,0,2,0,null,0,null,{"$f":"COUNTIF('Classement auteurs'!B:B,C115)","v":1}]
[13,120,130987001601,"Marché Gabonais         ",10,10,16,0,0,36,0,114,0,null,0,null,{"$f":"COUNTIF('Classement auteurs'!B:B,C116)","v":1}]
[13,121,132060002401,"Voyage familial          ",12,12,7,0,0,31,0,75,0,null,0,null,{"$f":"COUNTIF('Classement auteurs'!B:B,C117)","v":1}]
[13,122,130527009401,"Bella ciao               ",13,20,20,0,0,53,0,43,0,null,0,null,{"$f":"COUNTIF('Classement auteurs'!B:B,C118)","v":1}]
[13,123,131499006801,"Retour des troupeaux     ",13,14,12,0,0,39,0,33,0,null,0,null,{"$f":"COUNTIF('Classement auteurs'!B:B,C119)","v":1}]
[13,124,130527017001,"Un monde curieux.        ",15,13,12,0,0,40,0,12,0,null,0,null,{"$f":"COUNTIF('Classement auteurs'!B:B,C120)","v":1}]
[13,125,131376018001,"Immigration              ",11,15,12,0,0,38,0,104,0,null,0,null,{"$f":"COUNTIF('Classement auteurs'!B:B,C121)","v":1}]
[13,127,131499008201,"Train à Madagascar      ",15,11,15,0,0,41,0,138,0,null,0,null,{"$f":"COUNTIF('Classement auteurs'!B:B,C122)","v":1}]
[13,128,131845001401,"Voyage                   ",12,6,16,0,0,34,0,70,0,null,0,null,{"$f":"COUNTIF('Classement auteurs'!B:B,C123)","v":1}]
[13,129,131499003601,"Gargote japonaise        ",11,14,8,0,0,33,0,19,0,null,0,null,{"$f":"COUNTIF('Classement auteurs'!B:B,C124)","v":1}]
[13,130,130987002301,"Entrez sans frapper      ",13,13,18,0,0,44,0,88,0,null,0,null,{"$f":"COUNTIF('Classement auteurs'!B:B,C125)","v":1}]
[13,131,132089000101,"Milan 2015               ",11,10,8,0,0,29,0,100,0,null,0,null,{"$f":"COUNTIF('Classement auteurs'!B:B,C126)","v":1}]
[13,132,131499006901,"Les tanneurs de Fès     ",14,12,19,0,0,45,0,9,0,null,0,null,{"$f":"COUNTIF('Classement auteurs'!B:B,C127)","v":1}]
[13,133,130925009901,"Tatouage                 ",12,9,17,0,0,38,0,89,0,null,0,null,{"$f":"COUNTIF('Classement auteurs'!B:B,C128)","v":1}]
[13,134,131619004501,"Colisé                  ",14,15,19,0,0,48,0,10,0,null,0,null,{"$f":"COUNTIF('Classement auteurs'!B:B,C129)","v":1}]
[13,135,132084002301,"Moaïs                   ",13,9,15,0,0,37,0,137,0,null,0,null,{"$f":"COUNTIF('Classement auteurs'!B:B,C130)","v":1}]
[13,136,130925008401,"Temps passé             ",15,7,17,0,0,{"$f":"SUM(E131:I131)","v":39},0,140,0,null,0,null,{"$f":"COUNTIF('Classement auteurs'!B:B,C131)","v":1}]
[13,137,130987025001,"Repos du pêcheur        ",13,14,12,0,0,39,0,80,0,null,0,null,{"$f":"COUNTIF('Classement auteurs'!B:B,C132)","v":1}]
[13,138,131499010601,"Journal birman           ",12,11,17,0,0,40,0,71,0,null,0,null,{"$f":"COUNTIF('Classement auteurs'!B:B,C133)","v":1}]
[13,139,131499010501,"Retour de marché        ",12,13,16,0,0,41,0,59,0,null,0,null,{"$f":"COUNTIF('Classement auteurs'!B:B,C134)","v":1}]
[13,140,130527012401,"Allée de baobabs        ",13,10,13,0,0,36,0,22,0,null,0,null,{"$f":"COUNTIF('Classement auteurs'!B:B,C135)","v":1}]
[13,141,131353006201,"La tour olympique        ",11,11,9,0,0,31,0,3,0,null,0,null,{"$f":"COUNTIF('Classement auteurs'!B:B,C136)","v":1}]
[13,142,131683006501,"A la croix del condor    ",11,9,8,0,0,28,0,110,0,null,0,null,{"$f":"COUNTIF('Classement auteurs'!B:B,C137)","v":1}]
[13,143,131683002601,"Lumière sublime d'Afrique",14,11,12,0,0,37,0,65,0,null,0,null,{"$f":"COUNTIF('Classement auteurs'!B:B,C138)","v":1}]
[13,144,131823006401,"Flash sur l'artiste      ",12,7,19,0,0,38,0,53,0,null,0]
[13,145,131353006101,"Santorin                 ",13,11,17,0,0,41,0,15,0,null,0]
[13,146,132060000901,"Lever de soleil africain ",12,9,7,0,0,28,0,28,7,null,0]
[13,147,130925008701,"Derviche tourneur        ",13,10,11,0,0,34,0,145,0,null,0]
[13,148,132103002301,"Les yeux de l'Inde       ",13,13,17,0,0,43,0,79,0,null,0]
[13,149,131956002401,"Réunion au sommet - lima",12,12,12,0,0,36,0,23,0,null,0]
[13,150,131353000101,"Travail des rizières    ",13,11,12,0,0,36,0,25,0,null,0]
[13,151,131353000701,"Vietnamese little girls  ",12,12,18,0,0,42,0,90,0,null,0]

{"sheet":"Défi-3","index":5,"n_rows":163,"n_cols":23,"rows_kept":163,"cut":false,"hidden":false,"merged":[]}
["colis","photologic","fichier","titre","note1","note2","note3","note4","note5","total","place","passage","statut","medaille","retenue",null,"0=absent\n1=présent",null,"fichier","total"]
[13,1,130987024201,"Cracheur de Feu          ",17,18,13,0,0,{"$f":"SUM(E2:I2)","v":48},0,50,0,null,0,null,{"$f":"COUNTIF('Classement auteurs'!B:B,C2)","v":1},null,130527009401,46,{"$f":"(MID(S2,3,4)*1)","v":527},131,{"$f":"IF($V2=VLOOKUP($U2,'Classement clubs'!$B$2:$K$52,5,FALSE),\"OK\",\"KO\")","v":"OK"}]
[13,2,130987024101,"A l'affut                ",15,11,10,0,0,{"$f":"SUM(E3:I3)","v":36},0,65,0,null,0,null,{"$f":"COUNTIF('Classement auteurs'!B:B,C3)","v":1},null,130878014301,52,{"$f":"(MID(S3,3,4)*1)","v":878},135,{"$f":"IF($V3=VLOOKUP($U3,'Classement clubs'!$B$2:$K$52,5,FALSE),\"OK\",\"KO\")","v":"OK"}]
[13,4,130987012601,"Répétition.            ",14,15,13,0,0,42,0,149,0,null,0,null,{"$f":"COUNTIF('Classement auteurs'!B:B,C4)","v":1},null,130925007701,48,{"$f":"(MID(S4,3,4)*1)","v":925},137,{"$f":"IF($V4=VLOOKUP($U4,'Classement clubs'!$B$2:$K$52,5,FALSE),\"OK\",\"KO\")","v":"OK"}]
[13,5,131376018301,"La poursuite             ",19,18,20,0,0,57,0,132,0,null,0,null,{"$f":"COUNTIF('Classement auteurs'!B:B,C5)","v":1},null,130987024201,48,{"$f":"(MID(S5,3,4)*1)","v":987},137,{"$f":"IF($V5=VLOOKUP($U5,'Classement clubs'!$B$2:$K$52,5,FALSE),\"OK\",\"KO\")","v":"OK"}]
[13,6,132193000601,"Proue inversée          ",17,14,13,0,0,44,0,26,0,null,0,null,{"$f":"COUNTIF('Classement auteurs'!B:B,C6)","v":1},null,131110000901,56,{"$f":"(MID(S6,3,4)*1)","v":1110},134,{"$f":"IF($V6=VLOOKUP($U6,'Classement clubs'!$B$2:$K$52,5,FALSE),\"OK\",\"KO\")","v":"OK"}]
[13,7,131683008001,"Espiègle                ",16,19,12,0,0,47,0,153,0,null,0,null,{"$f":"COUNTIF('Classement auteurs'!B:B,C7)","v":1},null,131353000101,46,{"$f":"(MID(S7,3,4)*1)","v":1353},125,{"$f":"IF($V7=VLOOKUP($U7,'Classement clubs'!$B$2:$K$52,5,FALSE),\"OK\",\"KO\")","v":"OK"}]
[13,8,131823008301,"Portrait de rue          ",16,18,14,0,0,48,0,12,0,null,0,null,{"$f":"COUNTIF('Classement auteurs'!B:B,C8)","v":1},null,131376018301,57,{"$f":"(MID(S8,3,4)*1)","v":1376},145,{"$f":"IF($V8=VLOOKUP($U8,'Classement clubs'!$B$2:$K$52,5,FALSE),\"OK\",\"KO\")","v":"OK"}]
[13,9,132103000101,"Prendre de le temps      ",19,19,17,0,0,55,0,152,0,null,0,null,{"$f":"COUNTIF('Classement auteurs'!B:B,C9)","v":1},null,131494000201,42,{"$f":"(MID(S9,3,4)*1)","v":1494},113,{"$f":"IF($V9=VLOOKUP($U9,'Classement clubs'!$B$2:$K$52,5,FALSE),\"OK\",\"KO\")","v":"OK"}]
[13,10,131494003201,"Jeans                    ",15,13,11,0,0,39,0,64,0,null,0,null,{"$f":"COUNTIF('Classement auteurs'!B:B,C10)","v":1},null,131499003601,35,{"$f":"(MID(S10,3,4)*1)","v":1499},144,{"$f":"IF($V10=VLOOKUP($U10,'Classement clubs'!$B$2:$K$52,5,FALSE),\"OK\",\"KO\")","v":"OK"}]
[13,11,130000021001," Un voyage à LONDRES    ",7,6,8,0,0,21,0,137,6,null,0,null,{"$f":"COUNTIF('Classement auteurs'!B:B,C11)","v":1},null,131683006901,51,{"$f":"(MID(S11,3,4)*1)","v":1683},146,{"$f":"IF($V11=VLOOKUP($U11,'Classement clubs'!$B$2:$K$52,5,FALSE),\"OK\",\"KO\")","v":"OK"}]
[13,12,130987029901,"Rodin.jpg                ",9,11,11,0,0,31,0,113,0,null,0,null,{"$f":"COUNTIF('Classement auteurs'!B:B,C12)","v":1},null,131823008301,48,{"$f":"(MID(S12,3,4)*1)","v":1823},131,{"$f":"IF($V12=VLOOKUP($U12,'Classement clubs'!$B$2:$K$52,5,FALSE),\"OK\",\"KO\")","v":"OK"}]
[13,13,131683007601,"Maillot jaune            ",11,10,10,0,0,31,0,20,0,null,0,null,{"$f":"COUNTIF('Classement auteurs'!B:B,C13)","v":1},null,131845001401,48,{"$f":"(MID(S13,3,4)*1)","v":1845},132,{"$f":"IF($V13=VLOOKUP($U13,'Classement clubs'!$B$2:$K$52,5,FALSE),\"OK\",\"KO\")","v":"OK"}]
[13,14,131823004901,"Ça chauffe              ",14,16,13,0,0,43,0,48,0,null,0,null,{"$f":"COUNTIF('Classement auteurs'!B:B,C14)","v":1},null,131862002201,44,{"$f":"(MID(S14,3,4)*1)","v":1862},121,{"$f":"IF($V14=VLOOKUP($U14,'Classement clubs'!$B$2:$K$52,5,FALSE),\"OK\",\"KO\")","v":"OK"}]
[13,15,131683005001,"Rêverie                 ",14,13,12,0,0,39,0,31,0,null,0,null,{"$f":"COUNTIF('Classement auteurs'!B:B,C15)","v":1},null,131879000801,58,{"$f":"(MID(S15,3,4)*1)","v":1879},148,{"$f":"IF($V15=VLOOKUP($U15,'Classement clubs'!$B$2:$K$52,5,FALSE),\"OK\",\"KO\")","v":"OK"}]
[13,16,131499008701,"Suivre notre chemin...   ",13,14,12,0,0,39,0,158,0,null,0,null,{"$f":"COUNTIF('Classement auteurs'!B:B,C16)","v":1},null,131956004601,50,{"$f":"(MID(S16,3,4)*1)","v":1956},138,{"$f":"IF($V16=VLOOKUP($U16,'Classement clubs'!$B$2:$K$52,5,FALSE),\"OK\",\"KO\")","v":"OK"}]
[13,17,132193000301,"Salsa                    ",20,7,13,0,0,40,0,4,0,null,0,null,{"$f":"COUNTIF('Classement auteurs'!B:B,C17)","v":1},null,132060000401,43,{"$f":"(MID(S17,3,4)*1)","v":2060},122,{"$f":"IF($V17=VLOOKUP($U17,'Classement clubs'!$B$2:$K$52,5,FALSE),\"OK\",\"KO\")","v":"OK"}]
[13,18,131823008701,"Jusqu'au ciel            ",8,10,10,0,0,28,0,115,0,null,0,null,{"$f":"COUNTIF('Classement auteurs'!B:B,C18)","v":1},null,132084002301,54,{"$f":"(MID(S18,3,4)*1)","v":2084},134,{"$f":"IF($V18=VLOOKUP($U18,'Classement clubs'!$B$2:$K$52,5,FALSE),\"OK\",\"KO\")","v":"OK"}]
[13,20,130987028401,"Sensibilité de Granit   ",11,7,9,0,0,27,0,93,0,null,0,null,{"$f":"COUNTIF('Classement auteurs'!B:B,C19)","v":1},null,132086001401,37,{"$f":"(MID(S19,3,4)*1)","v":2086},110,{"$f":"IF($V19=VLOOKUP($U19,'Classement clubs'!$B$2:$K$52,5,FALSE),\"OK\",\"KO\")","v":"OK"}]
[13,21,131824001901,"Terre Secrete Mâconnaise",17,14,14,0,0,45,0,66,0,null,0,null,{"$f":"COUNTIF('Classement auteurs'!B:B,C20)","v":1},null,132103000101,55,{"$f":"(MID(S20,3,4)*1)","v":2103},142,{"$f":"IF($V20=VLOOKUP($U20,'Classement clubs'!$B$2:$K$52,5,FALSE),\"OK\",\"KO\")","v":"OK"}]
[13,22,130878013001,"La plage                 ",15,12,12,0,0,39,0,80,0,null,0,null,{"$f":"COUNTIF('Classement auteurs'!B:B,C21)","v":1},null,132203000501,30,{"$f":"(MID(S21,3,4)*1)","v":2203},114,{"$f":"IF($V21=VLOOKUP($U21,'Classement clubs'!$B$2:$K$52,5,FALSE),\"OK\",\"KO\")","v":"OK"}]
[13,23,132084002301,"Les petits hommes        ",19,18,17,0,0,54,0,8,0,null,0,null,{"$f":"COUNTIF('Classement auteurs'!B:B,C22)","v":1}]
[13,24,131683006301,"Graphisme rural          ",11,13,10,0,0,34,0,118,0,null,0,null,{"$f":"COUNTIF('Classement auteurs'!B:B,C23)","v":1}]
[13,25,131862002201,"Les fiancés             ",18,12,14,0,0,44,0,144,0,null,0,null,{"$f":"COUNTIF('Classement auteurs'!B:B,C24)","v":1}]
[13,26,130462001101,"Oeuvre 1-mucem           ",13,11,14,0,0,38,0,161,0,null,0,null,{"$f":"COUNTIF('Classement auteurs'!B:B,C25)","v":1}]
[13,27,130987024001,"Ambiance nordique        ",15,15,14,0,0,44,0,121,0,null,0,null,{"$f":"COUNTIF('Classement auteurs'!B:B,C26)","v":1}]
[13,28,131683000701,"MARIE                    ",18,13,17,0,0,48,0,40,0,null,0,null,{"$f":"COUNTIF('Classement auteurs'!B:B,C27)","v":1}]
[13,29,131879000801,"Harmonie                 ",19,19,20,0,0,58,0,99,0,null,0,null,{"$f":"COUNTIF('Classement auteurs'!B:B,C28)","v":1}]
[13,30,131499009301,"Les parasols             ",11,11,13,0,0,35,0,96,0,null,0,null,{"$f":"COUNTIF('Classement auteurs'!B:B,C29)","v":1}]
[13,31,131879000101,"Shinkansen-japon         ",13,15,10,0,0,38,0,74,0,null,0,null,{"$f":"COUNTIF('Classement auteurs'!B:B,C30)","v":1}]
[13,32,131824003101,"Encre du Japon           ",15,12,14,0,0,41,0,104,0,null,0,null,{"$f":"COUNTIF('Classement auteurs'!B:B,C31)","v":1}]
[13,33,131353006101,"Mains d'Argile           ",15,11,10,0,0,36,0,63,0,null,0,null,{"$f":"COUNTIF('Classement auteurs'!B:B,C32)","v":1}]
[13,34,131499009801,"Bella musica             ",13,10,12,0,0,35,0,82,0,null,0,null,{"$f":"COUNTIF('Classement auteurs'!B:B,C33)","v":1}]
[13,35,132023000101,"L'homme au damier        ",16,8,14,0,0,38,0,92,0,null,0,null,{"$f":"COUNTIF('Classement auteurs'!B:B,C34)","v":1}]
[13,36,130987015701,"Douceur                  ",12,9,13,0,0,34,0,147,0,null,0,null,{"$f":"COUNTIF('Classement auteurs'!B:B,C35)","v":1}]
[13,38,131499008601,"Il potassait...          ",14,11,15,0,0,40,0,159,0,null,0,null,{"$f":"COUNTIF('Classement auteurs'!B:B,C36)","v":1}]
[13,39,131992000401,"Fantôme de Noel         ",12,9,11,0,0,32,0,138,0,null,0,null,{"$f":"COUNTIF('Classement auteurs'!B:B,C37)","v":1}]
[13,40,130925010201,"Arles                    ",10,11,10,0,0,31,0,15,0,null,0,null,{"$f":"COUNTIF('Classement auteurs'!B:B,C38)","v":1}]
[13,41,131227008601,"Après la pluie          ",20,17,16,0,0,53,0,2,0,null,0,null,{"$f":"COUNTIF('Classement auteurs'!B:B,C39)","v":1}]
[13,42,130878014101,"Voilier echoué          ",15,13,16,0,0,44,0,35,0,null,0,null,{"$f":"COUNTIF('Classement auteurs'!B:B,C40)","v":1}]
[13,44,130000020401,"The Camps                ",12,11,12,0,0,35,0,131,6,null,0,null,{"$f":"COUNTIF('Classement auteurs'!B:B,C41)","v":1}]
[13,46,131499005201,"James                    ",18,14,17,0,0,49,0,28,0,null,0,null,{"$f":"COUNTIF('Classement auteurs'!B:B,C42)","v":1}]
[13,47,131376014701,"Trompette                ",13,13,13,0,0,39,0,95,0,null,0,null,{"$f":"COUNTIF('Classement auteurs'!B:B,C43)","v":1}]
[13,48,131956001401,"Escalier Iranien         ",14,9,15,0,0,38,0,105,0,null,0,null,{"$f":"COUNTIF('Classement auteurs'!B:B,C44)","v":1}]
[13,49,131879000501,"Rencontre                ",12,13,15,0,0,40,0,85,0,null,0,null,{"$f":"COUNTIF('Classement auteurs'!B:B,C45)","v":1}]
[13,50,130987013801,"Massilia 2017            ",16,14,15,0,0,45,0,11,0,null,0,null,{"$f":"COUNTIF('Classement auteurs'!B:B,C46)","v":1}]
[13,51,132060000801,"Ramasseurs de coquillages",15,7,11,0,0,33,0,17,0,null,0,null,{"$f":"COUNTIF('Classement auteurs'!B:B,C47)","v":1}]
[13,52,132084000301,"Fuir la cité maudite    ",14,14,12,0,0,40,0,108,0,null,0,null,{"$f":"COUNTIF('Classement auteurs'!B:B,C48)","v":1}]
[13,53,131376012601,"Ecume des mers           ",13,13,14,0,0,40,0,3,0,null,0,null,{"$f":"COUNTIF('Classement auteurs'!B:B,C49)","v":1}]
[13,54,130987019601,"La photographe           ",11,12,13,0,0,36,0,19,0,null,0,null,{"$f":"COUNTIF('Classement auteurs'!B:B,C50)","v":1}]
[13,55,130987019701,"Big Ben                  ",12,16,12,0,0,40,0,33,0,null,0,null,{"$f":"COUNTIF('Classement auteurs'!B:B,C51)","v":1}]
[13,56,130925008601,"Silhouette               ",15,8,11,0,0,34,0,155,0,null,0,null,{"$f":"COUNTIF('Classement auteurs'!B:B,C52)","v":1}]
[13,57,130878007201,"Marlène                 ",13,11,13,0,0,37,0,112,0,null,0,null,{"$f":"COUNTIF('Classement auteurs'!B:B,C53)","v":1}]
[13,58,131845004001,"John peter               ",17,11,14,0,0,42,0,72,0,null,0,null,{"$f":"COUNTIF('Classement auteurs'!B:B,C54)","v":1}]
[13,59,132084001701,"Au bout... la mer        ",14,12,14,0,0,40,0,27,0,null,0,null,{"$f":"COUNTIF('Classement auteurs'!B:B,C55)","v":1}]
[13,60,132060001701,"Artiste dans l'atelier   ",14,8,11,0,0,33,0,55,0,null,0,null,{"$f":"COUNTIF('Classement auteurs'!B:B,C56)","v":1}]
[13,61,131862001001,"Brume et Givre           ",13,10,13,0,0,36,0,49,0,null,0,null,{"$f":"COUNTIF('Classement auteurs'!B:B,C57)","v":1}]
[13,62,132103002301,"Nobody... nowhere        ",13,16,14,0,0,43,0,89,0,null,0,null,{"$f":"COUNTIF('Classement auteurs'!B:B,C58)","v":1}]
[13,63,132217000101,"Dans le vent             ",9,8,13,0,0,30,0,22,0,null,0,null,{"$f":"COUNTIF('Classement auteurs'!B:B,C59)","v":1}]
[13,64,131353006201,"Cairn à Quiberon        ",12,14,13,0,0,39,0,46,0,null,0,null,{"$f":"COUNTIF('Classement auteurs'!B:B,C60)","v":1}]
[13,65,132084004001,"Village Diola            ",13,8,11,0,0,32,0,71,0,null,0,null,{"$f":"COUNTIF('Classement auteurs'!B:B,C61)","v":1}]
[13,66,132103000201,"La femme du village      ",14,18,12,0,0,44,0,51,0,null,0,null,{"$f":"COUNTIF('Classement auteurs'!B:B,C62)","v":1}]
[13,68,130527013301,"New york                 ",12,14,14,0,0,40,0,62,0,null,0,null,{"$f":"COUNTIF('Classement auteurs'!B:B,C63)","v":1}]
[13,69,130527011601,"THE BIG APPLE            ",12,11,14,0,0,37,0,7,0,null,0,null,{"$f":"COUNTIF('Classement auteurs'!B:B,C64)","v":1}]
[13,70,131494002301,"Vagues à l'âme         ",11,9,12,0,0,32,0,116,0,null,0,null,{"$f":"COUNTIF('Classement auteurs'!B:B,C65)","v":1}]
[13,71,130987001601,"Il chante!!!             ",14,7,14,0,0,35,0,111,0,null,0,null,{"$f":"COUNTIF('Classement auteurs'!B:B,C66)","v":1}]
[13,72,131823005701,"L'ange                   ",13,12,12,0,0,{"$f":"SUM(E67:I67)","v":37},0,45,0,null,0,null,{"$f":"COUNTIF('Classement auteurs'!B:B,C67)","v":1}]
[13,73,130987014001,"Prière                  ",8,7,8,0,0,23,0,76,0,null,0,null,{"$f":"COUNTIF('Classement auteurs'!B:B,C68)","v":1}]
[13,74,131845002501,"Spartan à St Tropez     ",11,11,10,0,0,32,0,87,0,null,0,null,{"$f":"COUNTIF('Classement auteurs'!B:B,C69)","v":1}]
[13,75,130878013401,"Prison                   ",14,9,13,0,0,36,0,162,0,null,0,null,{"$f":"COUNTIF('Classement auteurs'!B:B,C70)","v":1}]
[13,76,130878014301,"L'homme                  ",19,16,17,0,0,52,0,107,0,null,0,null,{"$f":"COUNTIF('Classement auteurs'!B:B,C71)","v":1}]
[13,77,131879001301,"Rue                      ",17,16,13,0,0,46,0,14,0,null,0,null,{"$f":"COUNTIF('Classement auteurs'!B:B,C72)","v":1}]
[13,78,130527015501,"Amaryllis                ",14,19,12,0,0,45,0,140,0,null,0,null,{"$f":"COUNTIF('Classement auteurs'!B:B,C73)","v":1}]
[13,79,131823006401,"Solitude                 ",16,10,13,0,0,39,0,23,0,null,0,null,{"$f":"COUNTIF('Classement auteurs'!B:B,C74)","v":1}]
[13,81,131683006601,"Escaliers                ",13,15,14,0,0,42,0,110,0,null,0,null,{"$f":"COUNTIF('Classement auteurs'!B:B,C75)","v":1}]
[13,82,132060001801,"Est-ce la bonne direction ?",17,11,12,0,0,40,0,44,0,null,0,null,{"$f":"COUNTIF('Classement auteurs'!B:B,C76)","v":1}]
[13,83,130527019601,"Flatiron building        ",9,10,10,0,0,29,0,91,0,null,0,null,{"$f":"COUNTIF('Classement auteurs'!B:B,C77)","v":1}]
[13,84,130527012401,"En vallée d'Aspe        ",6,6,6,0,0,18,0,136,0,null,0,null,{"$f":"COUNTIF('Classement auteurs'!B:B,C78)","v":1}]
[13,85,130925008701,"Cimetière               ",18,9,12,0,0,39,0,43,0,null,0,null,{"$f":"COUNTIF('Classement auteurs'!B:B,C79)","v":1}]
[13,86,131823007601,"Cha NB                   ",14,13,13,0,0,40,0,67,0,null,0,null,{"$f":"COUNTIF('Classement auteurs'!B:B,C80)","v":1}]
[13,87,130987026701,"Tamaris Le Matin_ St Mandrier _26.08.17",12,12,8,0,0,32,0,84,0,null,0,null,{"$f":"COUNTIF('Classement auteurs'!B:B,C81)","v":1}]
[13,88,132086001401,"Rêverie                 ",15,10,12,0,0,37,0,37,0,null,0,null,{"$f":"COUNTIF('Classement auteurs'!B:B,C82)","v":1}]
[13,89,130527002501,"Méfiance                ",17,11,10,0,0,38,0,25,0,null,0,null,{"$f":"COUNTIF('Classement auteurs'!B:B,C83)","v":1}]
[13,90,132203000501,"L'embarras du choix      ",10,9,11,0,0,30,0,117,0,null,0,null,{"$f":"COUNTIF('Classement auteurs'!B:B,C84)","v":1}]
[13,91,131992000301,"Petit matin dans la mare ",10,12,10,0,0,32,0,160,0,null,0,null,{"$f":"COUNTIF('Classement auteurs'!B:B,C85)","v":1}]
[13,92,132086002301,"Elle part                ",17,7,11,0,0,35,0,54,0,null,0,null,{"$f":"COUNTIF('Classement auteurs'!B:B,C86)","v":1}]
[13,93,131499010401,"Salins                   ",18,11,14,0,0,43,0,109,0,null,0,null,{"$f":"COUNTIF('Classement auteurs'!B:B,C87)","v":1}]
[13,94,131683005101,"Regard sur la rue        ",13,15,13,0,0,41,0,39,0,null,0,null,{"$f":"COUNTIF('Classement auteurs'!B:B,C88)","v":1}]
[13,95,130987023901,"Infiniment petit dans l'infiniment grand",12,14,14,0,0,40,0,129,0,null,0,null,{"$f":"COUNTIF('Classement auteurs'!B:B,C89)","v":1}]
[13,96,130000019901,"Arles                    ",17,12,15,0,0,44,0,34,6,null,0,null,{"$f":"COUNTIF('Classement auteurs'!B:B,C90)","v":1}]
[13,97,132060002401,"La force Polynésienne   ",13,8,11,0,0,32,0,47,0,null,0,null,{"$f":"COUNTIF('Classement auteurs'!B:B,C91)","v":1}]
[13,98,130925008401,"Exploration              ",16,13,11,0,0,40,0,42,0,null,0,null,{"$f":"COUNTIF('Classement auteurs'!B:B,C92)","v":1}]
[13,99,131862001101,"Fabrice Bistoni à Opio  ",13,13,15,0,0,41,0,24,0,null,0,null,{"$f":"COUNTIF('Classement auteurs'!B:B,C93)","v":1}]
[13,100,131879002001,"Brume hivernale          ",17,12,13,0,0,42,0,16,0,null,0,null,{"$f":"COUNTIF('Classement auteurs'!B:B,C94)","v":1}]
[13,101,131110001101,"Jeu d'ombres             ",12,10,16,0,0,38,0,101,0,null,0,null,{"$f":"COUNTIF('Classement auteurs'!B:B,C95)","v":1}]
[13,102,131683008101,"L'alchimiste             ",13,12,12,0,0,37,0,146,0,null,0,null,{"$f":"COUNTIF('Classement auteurs'!B:B,C96)","v":1}]
[13,103,131499010001,"Continue !               ",16,13,14,0,0,43,0,139,0,null,0,null,{"$f":"COUNTIF('Classement auteurs'!B:B,C97)","v":1}]
[13,104,131683007901,"Caresse de lumière      ",13,12,13,0,0,38,0,88,0,null,0,null,{"$f":"COUNTIF('Classement auteurs'!B:B,C98)","v":1}]
[13,105,130925009801,"Le signe                 ",15,9,17,0,0,41,0,32,0,null,0,null,{"$f":"COUNTIF('Classement auteurs'!B:B,C99)","v":1}]
[13,107,131879000901,"Clip                     ",14,16,14,0,0,44,0,143,0,null,0,null,{"$f":"COUNTIF('Classement auteurs'!B:B,C100)","v":1}]
[13,108,131110000901,"Pecheur Intha            ",18,20,18,0,0,56,0,83,0,null,0,null,{"$f":"COUNTIF('Classement auteurs'!B:B,C101)","v":1}]
[13,109,130925009901,"Tchatche                 ",15,7,12,0,0,34,0,97,0,null,0,null,{"$f":"COUNTIF('Classement auteurs'!B:B,C102)","v":1}]
[13,110,131110001001,"Le chemin                ",13,15,12,0,0,40,0,122,0,null,0,null,{"$f":"COUNTIF('Classement auteurs'!B:B,C103)","v":1}]
[13,111,131956002401,"Haut alpin bienveillant  ",14,15,11,0,0,40,0,150,0,null,0,null,{"$f":"COUNTIF('Classement auteurs'!B:B,C104)","v":1}]
[13,112,131845000101,"Tempête du 11 décembre 2017",14,14,13,0,0,41,0,120,0,null,0,null,{"$f":"COUNTIF('Classement auteurs'!B:B,C105)","v":1}]
[13,113,131494000201,"Lucy                     ",14,13,15,0,0,42,0,18,0,null,0,null,{"$f":"COUNTIF('Classement auteurs'!B:B,C106)","v":1}]
[13,114,131956004501,"Sète                    ",16,9,10,0,0,35,0,77,0,null,0,null,{"$f":"COUNTIF('Classement auteurs'!B:B,C107)","v":1}]
[13,115,130987007401,"Venise                   ",10,7,11,0,0,28,0,145,0,null,0,null,{"$f":"COUNTIF('Classement auteurs'!B:B,C108)","v":1}]
[13,116,132084005001,"Quand vient la fin de l'été",15,11,13,0,0,39,0,128,0,null,0,null,{"$f":"COUNTIF('Classement auteurs'!B:B,C109)","v":1}]
[13,117,131956006501,"LA SOUPE DE BOGOTA       ",13,10,11,0,0,34,0,124,0,null,0,null,{"$f":"COUNTIF('Classement auteurs'!B:B,C110)","v":1}]
[13,118,130925010501,"Nathalie                 ",18,10,18,0,0,46,0,103,0,null,0,null,{"$f":"COUNTIF('Classement auteurs'!B:B,C111)","v":1}]
[13,119,132089000301,"Vieux Cabanon            ",12,10,9,0,0,31,0,36,0,null,0,null,{"$f":"COUNTIF('Classement auteurs'!B:B,C112)","v":1}]
[13,120,132089000201,"Demoiselle d'Honneur     ",14,16,13,0,0,43,0,81,0,null,0,null,{"$f":"COUNTIF('Classement auteurs'!B:B,C113)","v":1}]
[13,121,132203000701,"Sortir de l'ombre        ",18,10,12,0,0,40,0,141,0,null,0,null,{"$f":"COUNTIF('Classement auteurs'!B:B,C114)","v":1}]
[13,122,132103000501,"Arrosage Municipal       ",13,10,14,0,0,37,0,1,0,null,0,null,{"$f":"COUNTIF('Classement auteurs'!B:B,C115)","v":1}]
[13,123,131353004301,"Rencontre                ",12,13,10,0,0,35,0,100,0,null,0,null,{"$f":"COUNTIF('Classement auteurs'!B:B,C116)","v":1}]
[13,124,132060000701,"Vertige                  ",11,9,11,0,0,31,0,90,0,null,0,null,{"$f":"COUNTIF('Classement auteurs'!B:B,C117)","v":1}]
[13,125,131353003001,"Sur le chemin de Saint-Jacques",12,13,12,0,0,37,0,5,0,null,0,null,{"$f":"COUNTIF('Classement auteurs'!B:B,C118)","v":1}]
[13,126,131353007101,"Du blanc ou du rouge?    ",13,7,13,0,0,33,0,102,0,null,0,null,{"$f":"COUNTIF('Classement auteurs'!B:B,C119)","v":1}]
[13,127,131376017701,"Echec et Mat?            ",19,15,14,0,0,48,0,114,0,null,0,null,{"$f":"COUNTIF('Classement auteurs'!B:B,C120)","v":1}]
[13,128,131845004101,"Petite fille au parapluie",11,10,13,0,0,34,0,134,0,null,0,null,{"$f":"COUNTIF('Classement auteurs'!B:B,C121)","v":1}]
[13,129,131862000801,"Cosmos 1999              ",12,11,13,0,0,36,0,79,0,null,0,null,{"$f":"COUNTIF('Classement auteurs'!B:B,C122)","v":1}]
[13,130,131862005801,"Dentelle métallique     ",13,9,11,0,0,33,0,148,0,null,0,null,{"$f":"COUNTIF('Classement auteurs'!B:B,C123)","v":1}]
[13,131,131823004201,"Nature orfèvre          ",16,10,8,0,0,34,0,69,0,null,0,null,{"$f":"COUNTIF('Classement auteurs'!B:B,C124)","v":1}]
[13,132,132203001101,"Bouton de tournesol      ",15,16,13,0,0,44,0,127,0,null,0,null,{"$f":"COUNTIF('Classement auteurs'!B:B,C125)","v":1}]
[13,133,132060002201,"Feu d'artifice           ",13,11,12,0,0,36,0,135,0,null,0,null,{"$f":"COUNTIF('Classement auteurs'!B:B,C126)","v":1}]
[13,134,131499006801,"Complicité              ",18,16,14,0,0,48,0,156,0,null,0,null,{"$f":"COUNTIF('Classement auteurs'!B:B,C127)","v":1}]
[13,135,132060000101,"Bien à l'Ombre          ",11,11,11,0,0,33,0,70,0,null,0,null,{"$f":"COUNTIF('Classement auteurs'!B:B,C128)","v":1}]
[13,136,131956000201,"Solitude urbaine         ",16,14,14,0,0,44,0,9,0,null,0,null,{"$f":"COUNTIF('Classement auteurs'!B:B,C129)","v":1}]
[13,137,131619004501,"Suivez la digue          ",15,18,15,0,0,48,0,78,0,null,0,null,{"$f":"COUNTIF('Classement auteurs'!B:B,C130)","v":1}]
[13,138,131683006901,"Trois hommes et un goret ",19,16,16,0,0,{"$f":"SUM(E131:I131)","v":51},0,126,0,null,0,null,{"$f":"COUNTIF('Classement auteurs'!B:B,C131)","v":1}]
[13,139,132060000401,"L'estacade               ",15,15,13,0,0,43,0,125,0,null,0,null,{"$f":"COUNTIF('Classement auteurs'!B:B,C132)","v":1}]
[13,140,132060001401,"Scène de vie            ",13,8,14,0,0,35,0,86,0,null,0,null,{"$f":"COUNTIF('Classement auteurs'!B:B,C133)","v":1}]
[13,141,131499003901,"Plage d'hiver            ",15,11,14,0,0,40,0,59,0,null,0,null,{"$f":"COUNTIF('Classement auteurs'!B:B,C134)","v":1}]
[13,142,131845001401,"Sous le cône            ",13,17,18,0,0,48,0,123,0,null,0,null,{"$f":"COUNTIF('Classement auteurs'!B:B,C135)","v":1}]
[13,143,131956004601,"Le Mont chauve, Géant de Provence",18,17,15,0,0,50,0,10,0,null,0,null,{"$f":"COUNTIF('Classement auteurs'!B:B,C136)","v":1}]
[13,144,131499010601,"Sur les marches          ",13,12,12,0,0,37,0,106,0,null,0,null,{"$f":"COUNTIF('Classement auteurs'!B:B,C137)","v":1}]
[13,145,131956003401,"Influence                ",13,10,11,0,0,34,0,75,0,null,0,null,{"$f":"COUNTIF('Classement auteurs'!B:B,C138)","v":1}]
[13,146,131499010501,"Spirituals               ",14,16,17,0,0,47,0,38,0,null,0]
[13,147,132060001201,"Vis-à-Vis               ",12,14,13,0,0,39,0,119,0,null,0]
[13,148,130925007601,"Femme hmong              ",15,14,14,0,0,43,0,30,0,null,0]
[13,149,130925007701,"Le Vélo                 ",18,16,14,0,0,48,0,57,0,null,0]
[13,150,131956002901,"Victoire de la beauté   ",15,10,15,0,0,40,0,157,0,null,0]
[13,151,131499006901,"Là haut                 ",16,16,11,0,0,43,0,142,0,null,0]
[13,152,131353007401,"Marché d'Arequipa Pérou",12,15,13,0,0,40,0,56,0,null,0]
[13,153,130527017001,"L'envol...               ",15,7,9,0,0,31,0,94,0,null,0]
[13,154,131353007301,"Marché d'Ampato Equateur",14,12,12,0,0,38,0,151,0,null,0]
[13,155,130527009401,"Matinale...              ",16,14,16,0,0,46,0,73,0,null,0]
[13,156,131956005701,"L'attente                ",11,13,10,0,0,34,0,21,0,null,0]
[13,157,131956000601,"Tour CMA-CGM             ",12,16,13,0,0,41,0,41,0,null,0]
[13,158,131845002101,"Vertige                  ",13,13,16,0,0,42,0,13,0,null,0]
[13,159,131879000601,"Albi                     ",13,10,11,0,0,34,0,68,0,null,0]
[13,160,131956006201,"Le maître de la horde   ",14,14,11,0,0,39,0,29,0,null,0]
[13,161,131683006501,"Au travers               ",17,7,10,0,0,34,0,60,0,null,0]
[13,162,132086002501,"Petit Gitan              ",12,13,13,0,0,38,0,154,0,null,0]
[13,163,131956005401,"La dame en noir          ",12,10,12,0,0,34,0,58,0,null,0]
[13,164,130987002301,"Clic                     ",15,14,11,0,0,40,0,6,0,null,0]
[13,165,131499003601,"Préfouns                ",14,10,11,0,0,35,0,133,0,null,0]
[13,166,131956002601,"Soupir                   ",13,17,14,0,0,44,0,98,0,null,0]
[13,167,131619004601,"Axe majeur               ",14,11,14,0,0,39,0,52,0,null,0]
[13,168,131353000101,"Avec maman               ",15,18,13,0,0,46,0,61,0,null,0]
[13,169,131353000701,"Solitaire                ",12,13,14,0,0,39,0,53,0,null,0]
[13,170,131353000201,"Pigeons                  ",9,8,8,0,0,25,0,130,0,null,0]

{"sheet":"Défi-4","index":6,"n_rows":143,"n_cols":23,"rows_kept":143,"cut":false,"hidden":false,"merged":[]}
["colis","photologic","fichier","titre","note1","note2","note3","note4","note5","total","place","passage","statut","medaille","retenue",null,"0=absent\n1=présent",null,"fichier","total"]
[13,1,130878015201,"Je m'amuse               ",6,6,6,0,0,{"$f":"SUM(E2:I2)","v":18},0,37,0,null,0,null,{"$f":"COUNTIF('Classement auteurs'!B:B,C2)","v":1},null,130527009401,50,{"$f":"(MID(S2,3,4)*1)","v":527},141,{"$f":"IF($V2=VLOOKUP($U2,'Classement clubs'!$B$2:$K$52,6,FALSE),\"OK\",\"KO\")","v":"OK"}]
[13,2,130000020401,"La Goutte                ",10,13,12,0,0,{"$f":"SUM(E3:I3)","v":35},0,103,6,null,0,null,{"$f":"COUNTIF('Classement auteurs'!B:B,C3)","v":1},null,130878013001,40,878,111,{"$f":"IF($V3=VLOOKUP($U3,'Classement clubs'!$B$2:$K$52,6,FALSE),\"OK\",\"KO\")","v":"OK"}]
[13,3,131499008701,"Symbiose                 ",12,11,10,0,0,33,0,18,0,null,0,null,{"$f":"COUNTIF('Classement auteurs'!B:B,C4)","v":1},null,130925007701,44,925,124,{"$f":"IF($V4=VLOOKUP($U4,'Classement clubs'!$B$2:$K$52,6,FALSE),\"OK\",\"KO\")","v":"OK"}]
[13,4,131879000501,"Calin                    ",14,13,14,0,0,41,0,89,0,null,0,null,{"$f":"COUNTIF('Classement auteurs'!B:B,C5)","v":1},null,130987024101,46,987,135,{"$f":"IF($V5=VLOOKUP($U5,'Classement clubs'!$B$2:$K$52,6,FALSE),\"OK\",\"KO\")","v":"OK"}]
[13,5,131110001001,"Quietude                 ",15,14,18,0,0,47,0,71,0,null,0,null,{"$f":"COUNTIF('Classement auteurs'!B:B,C6)","v":1},null,130993013301,47,993,132,{"$f":"IF($V6=VLOOKUP($U6,'Classement clubs'!$B$2:$K$52,6,FALSE),\"OK\",\"KO\")","v":"OK"}]
[13,6,130878013301,"Desert                   ",11,11,14,0,0,36,0,142,0,null,0,null,{"$f":"COUNTIF('Classement auteurs'!B:B,C7)","v":1},null,131110000901,43,1110,126,{"$f":"IF($V7=VLOOKUP($U7,'Classement clubs'!$B$2:$K$52,6,FALSE),\"OK\",\"KO\")","v":"OK"}]
[13,7,132193000301,"Survol de la mer de glace",14,15,16,0,0,45,0,140,0,null,0,null,{"$f":"COUNTIF('Classement auteurs'!B:B,C8)","v":1},null,131353000701,57,1353,151,{"$f":"IF($V8=VLOOKUP($U8,'Classement clubs'!$B$2:$K$52,6,FALSE),\"OK\",\"KO\")","v":"OK"}]
[13,8,130987028201,"La sieste du rhino blanc ",11,11,9,0,0,31,0,26,0,null,0,null,{"$f":"COUNTIF('Classement auteurs'!B:B,C9)","v":1},null,131376014701,41,1376,119,{"$f":"IF($V9=VLOOKUP($U9,'Classement clubs'!$B$2:$K$52,6,FALSE),\"OK\",\"KO\")","v":"OK"}]
[13,9,130987024101,"Chevèchette perlée     ",16,16,14,0,0,46,0,28,0,null,0,null,{"$f":"COUNTIF('Classement auteurs'!B:B,C10)","v":1},null,131494000201,35,1494,89,{"$f":"IF($V10=VLOOKUP($U10,'Classement clubs'!$B$2:$K$52,6,FALSE),\"OK\",\"KO\")","v":"OK"}]
[13,10,130987030301,"Coquelicot du Lot        ",10,10,6,0,0,26,0,141,0,null,0,null,{"$f":"COUNTIF('Classement auteurs'!B:B,C11)","v":1},null,131499009801,54,1499,151,{"$f":"IF($V11=VLOOKUP($U11,'Classement clubs'!$B$2:$K$52,6,FALSE),\"OK\",\"KO\")","v":"OK"}]
[13,11,131683008001,"Sentinelle du désert    ",13,13,13,0,0,39,0,58,0,null,0,null,{"$f":"COUNTIF('Classement auteurs'!B:B,C12)","v":1},null,131683002601,56,1683,160,{"$f":"IF($V12=VLOOKUP($U12,'Classement clubs'!$B$2:$K$52,6,FALSE),\"OK\",\"KO\")","v":"OK"}]
[13,12,130987013801,"Lever de soleil après la pluie",14,15,13,0,0,42,0,73,0,null,0,null,{"$f":"COUNTIF('Classement auteurs'!B:B,C13)","v":1},null,131823004201,29,1823,105,{"$f":"IF($V13=VLOOKUP($U13,'Classement clubs'!$B$2:$K$52,6,FALSE),\"OK\",\"KO\")","v":"OK"}]
[13,14,130993015101,"En suspension            ",14,16,13,0,0,43,0,9,0,null,0,null,{"$f":"COUNTIF('Classement auteurs'!B:B,C14)","v":1},null,131845001401,39,1845,104,{"$f":"IF($V14=VLOOKUP($U14,'Classement clubs'!$B$2:$K$52,6,FALSE),\"OK\",\"KO\")","v":"OK"}]
[13,16,132147001701,"L'herbe et le vent...    ",12,8,7,0,0,27,0,101,0,null,0,null,{"$f":"COUNTIF('Classement auteurs'!B:B,C15)","v":1},null,131879000501,41,1879,122,{"$f":"IF($V15=VLOOKUP($U15,'Classement clubs'!$B$2:$K$52,6,FALSE),\"OK\",\"KO\")","v":"OK"}]
[13,17,131376017601,"Ombre chinoise           ",13,10,12,0,0,35,0,107,0,null,0,null,{"$f":"COUNTIF('Classement auteurs'!B:B,C16)","v":1},null,131956000201,41,1956,118,{"$f":"IF($V16=VLOOKUP($U16,'Classement clubs'!$B$2:$K$52,6,FALSE),\"OK\",\"KO\")","v":"OK"}]
[13,18,131494000201,"Envol                    ",10,11,14,0,0,35,0,6,0,null,0,null,{"$f":"COUNTIF('Classement auteurs'!B:B,C17)","v":1},null,132060001201,40,2060,115,{"$f":"IF($V17=VLOOKUP($U17,'Classement clubs'!$B$2:$K$52,6,FALSE),\"OK\",\"KO\")","v":"OK"}]
[13,19,131683006301,"Mésange et chardons     ",15,16,16,0,0,47,0,125,0,null,0,null,{"$f":"COUNTIF('Classement auteurs'!B:B,C18)","v":1},null,132084003601,55,2084,138,{"$f":"IF($V18=VLOOKUP($U18,'Classement clubs'!$B$2:$K$52,6,FALSE),\"OK\",\"KO\")","v":"OK"}]
[13,20,130993013301,"Le repas du Rollier      ",14,17,16,0,0,47,0,34,0,null,0,null,{"$f":"COUNTIF('Classement auteurs'!B:B,C19)","v":1},null,132086001401,46,2086,120,{"$f":"IF($V19=VLOOKUP($U19,'Classement clubs'!$B$2:$K$52,6,FALSE),\"OK\",\"KO\")","v":"OK"}]
[13,21,130987015701,"Thomise                  ",14,14,13,0,0,41,0,3,0,null,0,null,{"$f":"COUNTIF('Classement auteurs'!B:B,C20)","v":1},null,132193000301,45,2193,103,{"$f":"IF($V20=VLOOKUP($U20,'Classement clubs'!$B$2:$K$52,6,FALSE),\"OK\",\"KO\")","v":"OK"}]
[13,22,130527009201,"On partage ?             ",12,13,15,0,0,40,0,123,0,null,0,null,{"$f":"COUNTIF('Classement auteurs'!B:B,C21)","v":1}]
[13,23,130987016601,"Lac guichard             ",13,12,13,0,0,38,0,106,0,null,0,null,{"$f":"COUNTIF('Classement auteurs'!B:B,C22)","v":1}]
[13,24,131683005101,"HERON                    ",15,15,14,0,0,44,0,42,0,null,0,null,{"$f":"COUNTIF('Classement auteurs'!B:B,C23)","v":1}]
[13,25,130987024201,"Jeux interdits           ",14,17,14,0,0,45,0,65,0,null,0,null,{"$f":"COUNTIF('Classement auteurs'!B:B,C24)","v":1}]
[13,26,131956004501,"Campanules               ",12,12,13,0,0,37,0,52,0,null,0,null,{"$f":"COUNTIF('Classement auteurs'!B:B,C25)","v":1}]
[13,27,130527012401,"Milan                    ",15,17,15,0,0,47,0,128,0,null,0,null,{"$f":"COUNTIF('Classement auteurs'!B:B,C26)","v":1}]
[13,28,132193001201,"Mes tourterelles         ",13,9,15,0,0,37,0,82,0,null,0,null,{"$f":"COUNTIF('Classement auteurs'!B:B,C27)","v":1}]
[13,30,131376017701,"Solaire                  ",6,6,6,0,0,18,0,94,0,null,0,null,{"$f":"COUNTIF('Classement auteurs'!B:B,C28)","v":1}]
[13,31,132084003501,"Leopard dans le delta de l'okavango",14,14,12,0,0,40,0,51,0,null,0,null,{"$f":"COUNTIF('Classement auteurs'!B:B,C29)","v":1}]
[13,32,131845000201,"Au vol                   ",6,6,6,0,0,18,0,53,0,null,0,null,{"$f":"COUNTIF('Classement auteurs'!B:B,C30)","v":1}]
[13,33,131845000101,"Surveillance de la marée",6,6,6,0,0,18,0,116,0,null,0,null,{"$f":"COUNTIF('Classement auteurs'!B:B,C31)","v":1}]
[13,34,132084002301,"Mamooth lake             ",16,13,14,0,0,43,0,25,0,null,0,null,{"$f":"COUNTIF('Classement auteurs'!B:B,C32)","v":1}]
[13,35,131353000201,"Butinage                 ",12,13,11,0,0,36,0,1,0,null,0,null,{"$f":"COUNTIF('Classement auteurs'!B:B,C33)","v":1}]
[13,36,132084003601,"Mini la grenouille       ",17,18,20,0,0,55,0,137,0,null,0,null,{"$f":"COUNTIF('Classement auteurs'!B:B,C34)","v":1}]
[13,37,131683007901,"Kiai                     ",16,20,15,0,0,51,0,7,0,null,0,null,{"$f":"COUNTIF('Classement auteurs'!B:B,C35)","v":1}]
[13,38,131110000901,"Rosée                   ",16,12,15,0,0,43,0,22,0,null,0,null,{"$f":"COUNTIF('Classement auteurs'!B:B,C36)","v":1}]
[13,39,131110001101,"Fleur sauvage            ",13,14,9,0,0,36,0,113,0,null,0,null,{"$f":"COUNTIF('Classement auteurs'!B:B,C37)","v":1}]
[13,40,130000019901,"Phacélie                ",6,10,8,0,0,24,0,72,6,null,0,null,{"$f":"COUNTIF('Classement auteurs'!B:B,C38)","v":1}]
[13,41,130462001101,"Apres la pluie           ",18,12,15,0,0,45,0,105,0,null,0,null,{"$f":"COUNTIF('Classement auteurs'!B:B,C39)","v":1}]
[13,42,131494002101,"Atterrissage             ",9,9,7,0,0,25,0,90,0,null,0,null,{"$f":"COUNTIF('Classement auteurs'!B:B,C40)","v":1}]
[13,43,131353004301,"Jeune Cigale             ",16,16,15,0,0,47,0,46,0,null,0,null,{"$f":"COUNTIF('Classement auteurs'!B:B,C41)","v":1}]
[13,44,130878013401,"Sur le nid               ",12,11,12,0,0,35,0,86,0,null,0,null,{"$f":"COUNTIF('Classement auteurs'!B:B,C42)","v":1}]
[13,45,130878007201,"Au sommet                ",12,8,12,0,0,32,0,16,0,null,0,null,{"$f":"COUNTIF('Classement auteurs'!B:B,C43)","v":1}]
[13,46,131992000401,"Nouvelle nature          ",8,6,6,0,0,20,0,84,0,null,0,null,{"$f":"COUNTIF('Classement auteurs'!B:B,C44)","v":1}]
[13,47,131494003201,"Alors, çà mord ?       ",11,8,10,0,0,29,0,131,0,null,0,null,{"$f":"COUNTIF('Classement auteurs'!B:B,C45)","v":1}]
[13,48,130987028401,"Estany de la Comassa     ",8,11,8,0,0,27,0,96,0,null,0,null,{"$f":"COUNTIF('Classement auteurs'!B:B,C46)","v":1}]
[13,49,132086002301,"Sombre-couchant          ",12,12,11,0,0,35,0,41,0,null,0,null,{"$f":"COUNTIF('Classement auteurs'!B:B,C47)","v":1}]
[13,50,130878014301,"Carotte                  ",6,6,6,0,0,18,0,47,0,null,0,null,{"$f":"COUNTIF('Classement auteurs'!B:B,C48)","v":1}]
[13,51,130993012301,"Vautour fauve            ",13,15,12,0,0,40,0,111,0,null,0,null,{"$f":"COUNTIF('Classement auteurs'!B:B,C49)","v":1}]
[13,52,130925010201,"Balanin en balade        ",9,12,12,0,0,33,0,11,0,null,0,null,{"$f":"COUNTIF('Classement auteurs'!B:B,C50)","v":1}]
[13,53,131376011801,"Alcyon                   ",6,6,6,0,0,18,0,130,0,null,0,null,{"$f":"COUNTIF('Classement auteurs'!B:B,C51)","v":1}]
[13,54,131353006101,"Bon appétit             ",14,12,12,0,0,38,0,81,0,null,0,null,{"$f":"COUNTIF('Classement auteurs'!B:B,C52)","v":1}]
[13,55,130527015501,"Fleur                    ",11,11,9,0,0,31,0,49,0,null,0,null,{"$f":"COUNTIF('Classement auteurs'!B:B,C53)","v":1}]
[13,56,131956002601,"Campanule                ",10,10,14,0,0,34,0,62,0,null,0,null,{"$f":"COUNTIF('Classement auteurs'!B:B,C54)","v":1}]
[13,57,131845004001,"Vue du castellet         ",13,9,17,0,0,39,0,121,0,null,0,null,{"$f":"COUNTIF('Classement auteurs'!B:B,C55)","v":1}]
[13,58,131879000801,"Le reflet                ",13,12,15,0,0,40,0,99,0,null,0,null,{"$f":"COUNTIF('Classement auteurs'!B:B,C56)","v":1}]
[13,59,131376018301,"Butineuse                ",13,12,16,0,0,41,0,126,0,null,0,null,{"$f":"COUNTIF('Classement auteurs'!B:B,C57)","v":1}]
[13,60,131499009801,"La becquée              ",18,18,18,0,0,54,0,13,0,null,0,null,{"$f":"COUNTIF('Classement auteurs'!B:B,C58)","v":1}]
[13,61,131499008201,"Portrait buffle oiseau   ",13,12,16,0,0,41,0,5,0,null,0,null,{"$f":"COUNTIF('Classement auteurs'!B:B,C59)","v":1}]
[13,62,131824001901,"Love                     ",19,14,15,0,0,48,0,54,0,null,0,null,{"$f":"COUNTIF('Classement auteurs'!B:B,C60)","v":1}]
[13,63,132084000301,"Face à face             ",7,7,10,0,0,24,0,85,0,null,0,null,{"$f":"COUNTIF('Classement auteurs'!B:B,C61)","v":1}]
[13,64,132089000301,"Giens par grand vent     ",9,11,10,0,0,30,0,127,0,null,0,null,{"$f":"COUNTIF('Classement auteurs'!B:B,C62)","v":1}]
[13,65,130878013001,"Perle de pluie           ",16,9,15,0,0,40,0,43,0,null,0,null,{"$f":"COUNTIF('Classement auteurs'!B:B,C63)","v":1}]
[13,66,130987007401,"La Claree                ",14,11,13,0,0,38,0,134,0,null,0,null,{"$f":"COUNTIF('Classement auteurs'!B:B,C64)","v":1}]
[13,67,130925008701,"Puma                     ",10,14,13,0,0,37,0,8,0,null,0,null,{"$f":"COUNTIF('Classement auteurs'!B:B,C65)","v":1}]
[13,68,131956002901,"Sable d'or               ",10,9,9,0,0,28,0,74,0,null,0,null,{"$f":"COUNTIF('Classement auteurs'!B:B,C66)","v":1}]
[13,69,131499011001,"L'ours blanc et noir     ",14,14,14,0,0,{"$f":"SUM(E67:I67)","v":42},0,133,0,null,0,null,{"$f":"COUNTIF('Classement auteurs'!B:B,C67)","v":1}]
[13,70,132193000501,"Cotton tree              ",6,7,8,0,0,21,0,27,0,null,0,null,{"$f":"COUNTIF('Classement auteurs'!B:B,C68)","v":1}]
[13,71,131376015801,"Butinage                 ",14,13,10,0,0,37,0,15,0,null,0,null,{"$f":"COUNTIF('Classement auteurs'!B:B,C69)","v":1}]
[13,72,131683003301,"Reflets sur la laguna Leija 4340m",17,17,19,0,0,53,0,10,0,null,0,null,{"$f":"COUNTIF('Classement auteurs'!B:B,C70)","v":1}]
[13,73,132203000701,"Tout dans la séduction  ",16,14,15,0,0,45,0,57,0,null,0,null,{"$f":"COUNTIF('Classement auteurs'!B:B,C71)","v":1}]
[13,74,131879002001,"Aras                     ",16,11,14,0,0,41,0,55,0,null,0,null,{"$f":"COUNTIF('Classement auteurs'!B:B,C72)","v":1}]
[13,75,130925007601,"Eléphants du désert    ",12,14,13,0,0,39,0,60,0,null,0,null,{"$f":"COUNTIF('Classement auteurs'!B:B,C73)","v":1}]
[13,76,130925007701,"L'arbre vert             ",15,14,15,0,0,44,0,39,0,null,0,null,{"$f":"COUNTIF('Classement auteurs'!B:B,C74)","v":1}]
[13,77,132086001401,"Butinage                 ",14,17,15,0,0,46,0,77,0,null,0,null,{"$f":"COUNTIF('Classement auteurs'!B:B,C75)","v":1}]
[13,78,130878014101,"Chardon                  ",6,6,6,0,0,18,0,88,0,null,0,null,{"$f":"COUNTIF('Classement auteurs'!B:B,C76)","v":1}]
[13,79,130527013301,"Pelican                  ",15,15,14,0,0,44,0,80,0,null,0,null,{"$f":"COUNTIF('Classement auteurs'!B:B,C77)","v":1}]
[13,80,131499010401,"La vie à deux           ",14,12,15,0,0,41,0,136,0,null,0,null,{"$f":"COUNTIF('Classement auteurs'!B:B,C78)","v":1}]
[13,81,131227008301,"Enlacer                  ",13,13,11,0,0,37,0,17,0,null,0,null,{"$f":"COUNTIF('Classement auteurs'!B:B,C79)","v":1}]
[13,82,130987019601,"Martin-chasseur du Sénégal",15,15,14,0,0,44,0,120,0,null,0,null,{"$f":"COUNTIF('Classement auteurs'!B:B,C80)","v":1}]
[13,83,131862002201,"Scarabé rhino           ",12,8,7,0,0,27,0,124,0,null,0,null,{"$f":"COUNTIF('Classement auteurs'!B:B,C81)","v":1}]
[13,84,130987019701,"Red bishop               ",12,13,14,0,0,39,0,122,0,null,0,null,{"$f":"COUNTIF('Classement auteurs'!B:B,C82)","v":1}]
[13,87,131879001901,"Flamant                  ",13,9,12,0,0,34,0,64,0,null,0,null,{"$f":"COUNTIF('Classement auteurs'!B:B,C83)","v":1}]
[13,88,131956004601,"Neige fraiche au lever du soleil",14,13,11,0,0,38,0,139,0,null,0,null,{"$f":"COUNTIF('Classement auteurs'!B:B,C84)","v":1}]
[13,89,132084004001,"Désert Blanc            ",14,13,13,0,0,40,0,129,0,null,0,null,{"$f":"COUNTIF('Classement auteurs'!B:B,C85)","v":1}]
[13,90,130925009901,"Monstrueuse fracture     ",13,8,11,0,0,32,0,56,0,null,0,null,{"$f":"COUNTIF('Classement auteurs'!B:B,C86)","v":1}]
[13,91,130925009801,"Iguane                   ",12,12,10,0,0,34,0,118,0,null,0,null,{"$f":"COUNTIF('Classement auteurs'!B:B,C87)","v":1}]
[13,92,131956006501,"Butinage                 ",15,12,12,0,0,39,0,114,0,null,0,null,{"$f":"COUNTIF('Classement auteurs'!B:B,C88)","v":1}]
[13,93,131823004901,"Sa trompe énormément   ",15,12,12,0,0,39,0,61,0,null,0,null,{"$f":"COUNTIF('Classement auteurs'!B:B,C89)","v":1}]
[13,94,131376014701,"La mue                   ",14,16,11,0,0,41,0,24,0,null,0,null,{"$f":"COUNTIF('Classement auteurs'!B:B,C90)","v":1}]
[13,95,131683007601,"Hautain                  ",14,15,13,0,0,42,0,33,0,null,0,null,{"$f":"COUNTIF('Classement auteurs'!B:B,C91)","v":1}]
[13,96,131956000201,"Au pied du Viso          ",15,12,14,0,0,41,0,59,0,null,0,null,{"$f":"COUNTIF('Classement auteurs'!B:B,C92)","v":1}]
[13,97,130527009401,"La rivière noire        ",16,18,16,0,0,50,0,87,0,null,0,null,{"$f":"COUNTIF('Classement auteurs'!B:B,C93)","v":1}]
[13,98,132060000701,"Qu'est-ce qu'elle a ma gueule?",12,7,6,0,0,25,0,63,0,null,0,null,{"$f":"COUNTIF('Classement auteurs'!B:B,C94)","v":1}]
[13,99,131879001101,"Envol                    ",13,7,9,0,0,29,0,70,0,null,0,null,{"$f":"COUNTIF('Classement auteurs'!B:B,C95)","v":1}]
[13,100,132060001701,"Lueurs nocturnes         ",12,12,13,0,0,37,0,93,0,null,0,null,{"$f":"COUNTIF('Classement auteurs'!B:B,C96)","v":1}]
[13,101,132060001501,"Quiétude                ",11,8,8,0,0,27,0,4,0,null,0,null,{"$f":"COUNTIF('Classement auteurs'!B:B,C97)","v":1}]
[13,102,130993016601,"Libellule sur Nenuphar   ",15,14,13,0,0,42,0,29,0,null,0,null,{"$f":"COUNTIF('Classement auteurs'!B:B,C98)","v":1}]
[13,103,131499003901,"Les marques du temps     ",13,19,13,0,0,45,0,119,0,null,0,null,{"$f":"COUNTIF('Classement auteurs'!B:B,C99)","v":1}]
[13,104,132086002601,"Renard                   ",14,13,12,0,0,39,0,45,0,null,0,null,{"$f":"COUNTIF('Classement auteurs'!B:B,C100)","v":1}]
[13,105,131499010001,"C'est mon petit          ",14,15,13,0,0,42,0,75,0,null,0,null,{"$f":"COUNTIF('Classement auteurs'!B:B,C101)","v":1}]
[13,106,132060000801,"L'abeille et le nénuphar",13,10,10,0,0,33,0,78,0,null,0,null,{"$f":"COUNTIF('Classement auteurs'!B:B,C102)","v":1}]
[13,107,131499005201,"Mesange                  ",13,12,12,0,0,37,0,12,0,null,0,null,{"$f":"COUNTIF('Classement auteurs'!B:B,C103)","v":1}]
[13,108,131499010801,"Poissons papillon        ",15,10,16,0,0,41,0,66,0,null,0,null,{"$f":"COUNTIF('Classement auteurs'!B:B,C104)","v":1}]
[13,109,132217000101,"Blanc Bleu               ",11,14,12,0,0,37,0,97,0,null,0,null,{"$f":"COUNTIF('Classement auteurs'!B:B,C105)","v":1}]
[13,110,131956005901,"En vol                   ",12,11,10,0,0,33,0,19,0,null,0,null,{"$f":"COUNTIF('Classement auteurs'!B:B,C106)","v":1}]
[13,111,131956002401,"Danseur à cornes        ",12,11,12,0,0,35,0,76,0,null,0,null,{"$f":"COUNTIF('Classement auteurs'!B:B,C107)","v":1}]
[13,112,131227008601,"Lac de monteux           ",13,17,14,0,0,44,0,32,0,null,0,null,{"$f":"COUNTIF('Classement auteurs'!B:B,C108)","v":1}]
[13,113,132147000101,"Cincle plongeur          ",14,13,11,0,0,38,0,38,0,null,0,null,{"$f":"COUNTIF('Classement auteurs'!B:B,C109)","v":1}]
[13,114,132023002201,"La sortie du bain        ",16,16,17,0,0,49,0,109,0,null,0,null,{"$f":"COUNTIF('Classement auteurs'!B:B,C110)","v":1}]
[13,115,131845004101,"Cigognes en Camargue     ",6,9,11,0,0,26,0,135,0,null,0,null,{"$f":"COUNTIF('Classement auteurs'!B:B,C111)","v":1}]
[13,116,131499006901,"Câlin aquatique         ",14,10,15,0,0,39,0,36,0,null,0,null,{"$f":"COUNTIF('Classement auteurs'!B:B,C112)","v":1}]
[13,117,131956001401,"Etang du Vaccarès       ",6,6,6,0,0,18,0,31,0,null,0,null,{"$f":"COUNTIF('Classement auteurs'!B:B,C113)","v":1}]
[13,118,132060001201,"Transparence             ",13,12,15,0,0,40,0,30,0,null,0,null,{"$f":"COUNTIF('Classement auteurs'!B:B,C114)","v":1}]
[13,119,132203001001,"Coucher dans l'herbe     ",6,6,6,0,0,18,0,100,0,null,0,null,{"$f":"COUNTIF('Classement auteurs'!B:B,C115)","v":1}]
[13,120,130987026701,"Miroir et Flamant rose   ",12,12,13,0,0,37,0,110,0,null,0,null,{"$f":"COUNTIF('Classement auteurs'!B:B,C116)","v":1}]
[13,121,131619004501,"Lac Lavoir               ",16,15,15,0,0,46,0,79,0,null,0,null,{"$f":"COUNTIF('Classement auteurs'!B:B,C117)","v":1}]
[13,122,132060000401,"En pêche                ",13,12,11,0,0,36,0,115,0,null,0,null,{"$f":"COUNTIF('Classement auteurs'!B:B,C118)","v":1}]
[13,123,132060000901,"Martin pêcheur à l'affût",11,15,12,0,0,38,0,91,0,null,0,null,{"$f":"COUNTIF('Classement auteurs'!B:B,C119)","v":1}]
[13,124,130527002501,"Sphins                   ",10,11,9,0,0,30,0,40,0,null,0,null,{"$f":"COUNTIF('Classement auteurs'!B:B,C120)","v":1}]
[13,125,130987023901,"Avant l'orage            ",13,13,9,0,0,35,0,132,0,null,0,null,{"$f":"COUNTIF('Classement auteurs'!B:B,C121)","v":1}]
[13,126,130987001601,"Iceland                  ",13,12,7,0,0,32,0,48,0,null,0,null,{"$f":"COUNTIF('Classement auteurs'!B:B,C122)","v":1}]
[13,127,131499006801,"Le Butineur              ",17,18,17,0,0,52,0,68,0,null,0,null,{"$f":"COUNTIF('Classement auteurs'!B:B,C123)","v":1}]
[13,128,130993010201,"Vulpes vulpes            ",15,12,14,0,0,41,0,98,0,null,0,null,{"$f":"COUNTIF('Classement auteurs'!B:B,C124)","v":1}]
[13,129,130921006401,"En attendant le poisson  ",13,11,10,0,0,34,0,117,0,null,0,null,{"$f":"COUNTIF('Classement auteurs'!B:B,C125)","v":1}]
[13,130,131353006201,"Bientôt du miel         ",14,12,9,0,0,35,0,50,0,null,0,null,{"$f":"COUNTIF('Classement auteurs'!B:B,C126)","v":1}]
[13,131,132060001801,"Aurore... presque boréale !",8,8,6,0,0,22,0,108,0,null,0,null,{"$f":"COUNTIF('Classement auteurs'!B:B,C127)","v":1}]
[13,132,131879000601,"Solfatare en Islande     ",10,13,8,0,0,31,0,95,0,null,0,null,{"$f":"COUNTIF('Classement auteurs'!B:B,C128)","v":1}]
[13,133,130987002301,"Sapajous Brun            ",11,14,14,0,0,39,0,102,0,null,0,null,{"$f":"COUNTIF('Classement auteurs'!B:B,C129)","v":1}]
[13,134,131683002601,"Chouette de Tengmalm     ",20,18,18,0,0,56,0,14,0,null,0,null,{"$f":"COUNTIF('Classement auteurs'!B:B,C130)","v":1}]
[13,135,131499010501,"Saut de bonite           ",15,13,13,0,0,{"$f":"SUM(E131:I131)","v":41},0,2,0,null,0,null,{"$f":"COUNTIF('Classement auteurs'!B:B,C131)","v":1}]
[13,136,131499010601,"Goutte de bec            ",8,13,11,0,0,32,0,23,0,null,0,null,{"$f":"COUNTIF('Classement auteurs'!B:B,C132)","v":1}]
[13,137,130925010501,"Le temps des amours      ",15,13,13,0,0,41,0,67,0,null,0,null,{"$f":"COUNTIF('Classement auteurs'!B:B,C133)","v":1}]
[13,138,131956005701,"Rencontre par surprise   ",11,10,7,0,0,28,0,69,0,null,0,null,{"$f":"COUNTIF('Classement auteurs'!B:B,C134)","v":1}]
[13,139,131845001401,"Affût                   ",14,11,14,0,0,39,0,35,0,null,0,null,{"$f":"COUNTIF('Classement auteurs'!B:B,C135)","v":1}]
[13,140,131683006501,"Jonquille                ",12,10,8,0,0,30,0,138,0,null,0,null,{"$f":"COUNTIF('Classement auteurs'!B:B,C136)","v":1}]
[13,141,131499010101,"En retard                ",16,7,8,0,0,31,0,104,0,null,0,null,{"$f":"COUNTIF('Classement auteurs'!B:B,C137)","v":1}]
[13,142,130527017001,"A chacun sa chevelure ...",12,11,6,0,0,29,0,112,0,null,0,null,{"$f":"COUNTIF('Classement auteurs'!B:B,C138)","v":1}]
[13,143,130987025001,"Caillou sur la plage     ",13,10,7,0,0,30,0,44,0,null,0]
[13,144,131823006401,"Fusion                   ",13,12,12,0,0,37,0,83,0,null,0]
[13,145,131823004201,"Ourlé de blanc          ",13,9,7,0,0,29,0,21,0,null,0]
[13,146,131353000101,"Criquet                  ",13,19,15,0,0,47,0,20,0,null,0]
[13,147,131353000701,"Mante religieuse         ",20,20,17,0,0,57,0,92,0,null,0]

{"sheet":"Défi-5","index":7,"n_rows":165,"n_cols":23,"rows_kept":165,"cut":false,"hidden":false,"merged":[]}
["colis","photologic","fichier","titre","note1","note2","note3","note4","note5","total","place","passage","statut","medaille","retenue",null,"0=absent\n1=présent",null,"fichier","total"]
[13,1,131494003001,"Reflet nocturne          ",10,7,7,0,0,{"$f":"SUM(E2:I2)","v":24},0,120,0,null,0,null,{"$f":"COUNTIF('Classement auteurs'!B:B,C2)","v":1},null,130527009401,51,{"$f":"(MID(S2,3,4)*1)","v":527},134,{"$f":"IF($V2=VLOOKUP($U2,'Classement clubs'!$B$2:$K$52,7,FALSE),\"OK\",\"KO\")","v":"OK"}]
[13,2,131823008301,"Promenade                ",14,15,13,0,0,{"$f":"SUM(E3:I3)","v":42},0,143,0,null,0,null,{"$f":"COUNTIF('Classement auteurs'!B:B,C3)","v":1},null,130878014101,56,878,147,{"$f":"IF($V3=VLOOKUP($U3,'Classement clubs'!$B$2:$K$52,7,FALSE),\"OK\",\"KO\")","v":"OK"}]
[13,3,132147000101,"Reflet Vénitien         ",11,15,10,0,0,36,0,33,0,null,0,null,{"$f":"COUNTIF('Classement auteurs'!B:B,C4)","v":1},null,130925008401,51,925,132,{"$f":"IF($V4=VLOOKUP($U4,'Classement clubs'!$B$2:$K$52,7,FALSE),\"OK\",\"KO\")","v":"OK"}]
[13,4,130987024101,"La caravane              ",11,19,14,0,0,44,0,149,0,null,0,null,{"$f":"COUNTIF('Classement auteurs'!B:B,C5)","v":1},null,130987015701,46,987,132,{"$f":"IF($V5=VLOOKUP($U5,'Classement clubs'!$B$2:$K$52,7,FALSE),\"OK\",\"KO\")","v":"OK"}]
[13,6,130527002501,"Tacle                    ",7,11,14,0,0,32,0,164,0,null,0,null,{"$f":"COUNTIF('Classement auteurs'!B:B,C6)","v":1},null,130993012301,41,993,110,{"$f":"IF($V6=VLOOKUP($U6,'Classement clubs'!$B$2:$K$52,7,FALSE),\"OK\",\"KO\")","v":"OK"}]
[13,7,132023000101,"Cabanes de pêcheurs     ",11,10,15,0,0,36,0,4,0,null,0,null,{"$f":"COUNTIF('Classement auteurs'!B:B,C7)","v":1},null,131110000901,41,1110,121,{"$f":"IF($V7=VLOOKUP($U7,'Classement clubs'!$B$2:$K$52,7,FALSE),\"OK\",\"KO\")","v":"OK"}]
[13,8,132084004001,"La négociation          ",11,18,13,0,0,42,0,96,0,null,0,null,{"$f":"COUNTIF('Classement auteurs'!B:B,C8)","v":1},null,131353000101,57,1353,139,{"$f":"IF($V8=VLOOKUP($U8,'Classement clubs'!$B$2:$K$52,7,FALSE),\"OK\",\"KO\")","v":"OK"}]
[13,9,131683008101,"Lola                     ",14,14,15,0,0,43,0,69,0,null,0,null,{"$f":"COUNTIF('Classement auteurs'!B:B,C9)","v":1},null,131376011801,46,1376,134,{"$f":"IF($V9=VLOOKUP($U9,'Classement clubs'!$B$2:$K$52,7,FALSE),\"OK\",\"KO\")","v":"OK"}]
[13,10,130987019701,"Face à face             ",14,10,13,0,0,37,0,86,0,null,0,null,{"$f":"COUNTIF('Classement auteurs'!B:B,C10)","v":1},null,131494000201,37,1494,103,{"$f":"IF($V10=VLOOKUP($U10,'Classement clubs'!$B$2:$K$52,7,FALSE),\"OK\",\"KO\")","v":"OK"}]
[13,11,130987019601,"Les pénitents           ",10,7,17,0,0,34,0,88,0,null,0,null,{"$f":"COUNTIF('Classement auteurs'!B:B,C11)","v":1},null,131499011001,51,1499,151,{"$f":"IF($V11=VLOOKUP($U11,'Classement clubs'!$B$2:$K$52,7,FALSE),\"OK\",\"KO\")","v":"OK"}]
[13,13,130878013601,"En attente               ",8,12,14,0,0,34,0,18,0,null,0,null,{"$f":"COUNTIF('Classement auteurs'!B:B,C12)","v":1},null,131619005001,45,1619,131,{"$f":"IF($V12=VLOOKUP($U12,'Classement clubs'!$B$2:$K$52,7,FALSE),\"OK\",\"KO\")","v":"OK"}]
[13,14,130993012301,"Flamenco                 ",13,13,15,0,0,41,0,106,0,null,0,null,{"$f":"COUNTIF('Classement auteurs'!B:B,C13)","v":1},null,131683007901,58,1683,159,{"$f":"IF($V13=VLOOKUP($U13,'Classement clubs'!$B$2:$K$52,7,FALSE),\"OK\",\"KO\")","v":"OK"}]
[13,15,132086002301,"Tourbillon d'or          ",12,8,12,0,0,32,0,25,0,null,0,null,{"$f":"COUNTIF('Classement auteurs'!B:B,C14)","v":1},null,131823008301,42,1823,120,{"$f":"IF($V14=VLOOKUP($U14,'Classement clubs'!$B$2:$K$52,7,FALSE),\"OK\",\"KO\")","v":"OK"}]
[13,16,130987028401,"Au bout... de la Presqu'île",11,14,11,0,0,36,0,65,0,null,0,null,{"$f":"COUNTIF('Classement auteurs'!B:B,C15)","v":1},null,131845000101,41,1845,128,{"$f":"IF($V15=VLOOKUP($U15,'Classement clubs'!$B$2:$K$52,7,FALSE),\"OK\",\"KO\")","v":"OK"}]
[13,17,130987013801,"Gymnaste en compétition ",11,18,13,0,0,42,0,153,0,null,0,null,{"$f":"COUNTIF('Classement auteurs'!B:B,C16)","v":1},null,131879001301,42,1879,119,{"$f":"IF($V16=VLOOKUP($U16,'Classement clubs'!$B$2:$K$52,7,FALSE),\"OK\",\"KO\")","v":"OK"}]
[13,18,131376012601,"Jour de neige            ",14,14,6,0,0,34,0,22,0,null,0,null,{"$f":"COUNTIF('Classement auteurs'!B:B,C17)","v":1},null,131956002401,43,1956,124,{"$f":"IF($V17=VLOOKUP($U17,'Classement clubs'!$B$2:$K$52,7,FALSE),\"OK\",\"KO\")","v":"OK"}]
[13,19,131956002901,"Regard                   ",7,10,11,0,0,28,0,61,0,null,0,null,{"$f":"COUNTIF('Classement auteurs'!B:B,C18)","v":1},null,132023000101,36,2023,117,{"$f":"IF($V18=VLOOKUP($U18,'Classement clubs'!$B$2:$K$52,7,FALSE),\"OK\",\"KO\")","v":"OK"}]
[13,20,132084001701,"Eglise                   ",14,15,12,0,0,41,0,78,0,null,0,null,{"$f":"COUNTIF('Classement auteurs'!B:B,C19)","v":1},null,132060001801,47,2060,126,{"$f":"IF($V19=VLOOKUP($U19,'Classement clubs'!$B$2:$K$52,7,FALSE),\"OK\",\"KO\")","v":"OK"}]
[13,21,131376011801,"Moines du Djokang        ",13,18,15,0,0,46,0,111,0,null,0,null,{"$f":"COUNTIF('Classement auteurs'!B:B,C20)","v":1},null,132084004001,42,2084,121,{"$f":"IF($V20=VLOOKUP($U20,'Classement clubs'!$B$2:$K$52,7,FALSE),\"OK\",\"KO\")","v":"OK"}]
[13,22,130993013801,"Promeneur du soir        ",13,14,11,0,0,38,0,110,0,null,0,null,{"$f":"COUNTIF('Classement auteurs'!B:B,C21)","v":1},null,132086001401,34,2086,106,{"$f":"IF($V21=VLOOKUP($U21,'Classement clubs'!$B$2:$K$52,7,FALSE),\"OK\",\"KO\")","v":"OK"}]
[13,23,132060000101,"FETE AU CHATEAU          ",9,16,9,0,0,34,0,115,0,null,0,null,{"$f":"COUNTIF('Classement auteurs'!B:B,C22)","v":1},null,132193000501,41,2193,118,{"$f":"IF($V22=VLOOKUP($U22,'Classement clubs'!$B$2:$K$52,7,FALSE),\"OK\",\"KO\")","v":"OK"}]
[13,24,131823004901,"Dans les bras de Morphée",11,15,15,0,0,41,0,35,0,null,0,null,{"$f":"COUNTIF('Classement auteurs'!B:B,C23)","v":1},null,132203000601,28,2203,103,{"$f":"IF($V23=VLOOKUP($U23,'Classement clubs'!$B$2:$K$52,7,FALSE),\"OK\",\"KO\")","v":"OK"}]
[13,25,131824001901,"Un matin sur ma planète ",16,15,13,0,0,44,0,107,0,null,0,null,{"$f":"COUNTIF('Classement auteurs'!B:B,C24)","v":1}]
[13,26,130878015801,"Laveur d'Affiche         ",18,13,18,0,0,49,0,32,0,null,0,null,{"$f":"COUNTIF('Classement auteurs'!B:B,C25)","v":1}]
[13,28,131499006801,"Fauteuil Rouge           ",8,15,19,0,0,42,0,67,0,null,0,null,{"$f":"COUNTIF('Classement auteurs'!B:B,C26)","v":1}]
[13,29,131879000101,"Cerisiers en fleurs      ",8,12,8,0,0,28,0,77,0,null,0,null,{"$f":"COUNTIF('Classement auteurs'!B:B,C27)","v":1}]
[13,30,132084000201,"Tristesse                ",13,15,10,0,0,38,0,104,0,null,0,null,{"$f":"COUNTIF('Classement auteurs'!B:B,C28)","v":1}]
[13,31,131879001101,"Couleurs d'automne       ",13,13,12,0,0,38,0,128,0,null,0,null,{"$f":"COUNTIF('Classement auteurs'!B:B,C29)","v":1}]
[13,32,130878013401,"Lady                     ",8,11,11,0,0,30,0,47,0,null,0,null,{"$f":"COUNTIF('Classement auteurs'!B:B,C30)","v":1}]
[13,33,131683006901,"Un p'tit coin de parapluie",17,13,11,0,0,41,0,75,0,null,0,null,{"$f":"COUNTIF('Classement auteurs'!B:B,C31)","v":1}]
[13,34,131683007001,"Ordre décroissant       ",9,14,10,0,0,33,0,157,0,null,0,null,{"$f":"COUNTIF('Classement auteurs'!B:B,C32)","v":1}]
[13,35,130993015401,"La cabanne du peuchère  ",9,11,11,0,0,31,0,63,0,null,0,null,{"$f":"COUNTIF('Classement auteurs'!B:B,C33)","v":1}]
[13,36,130987007401,"Orage imminent           ",10,15,12,0,0,37,0,41,0,null,0,null,{"$f":"COUNTIF('Classement auteurs'!B:B,C34)","v":1}]
[13,37,132217000601,"Ancienne taverne crétoise",8,10,11,0,0,29,0,7,0,null,0,null,{"$f":"COUNTIF('Classement auteurs'!B:B,C35)","v":1}]
[13,38,132193000301,"Solfar                   ",13,13,12,0,0,38,0,159,0,null,0,null,{"$f":"COUNTIF('Classement auteurs'!B:B,C36)","v":1}]
[13,39,131879002001,"Procession               ",12,13,13,0,0,38,0,20,0,null,0,null,{"$f":"COUNTIF('Classement auteurs'!B:B,C37)","v":1}]
[13,40,131879001301,"Regard                   ",18,14,10,0,0,42,0,38,0,null,0,null,{"$f":"COUNTIF('Classement auteurs'!B:B,C38)","v":1}]
[13,41,132203000601,"Soir                     ",11,7,10,0,0,28,0,72,0,null,0,null,{"$f":"COUNTIF('Classement auteurs'!B:B,C39)","v":1}]
[13,42,130878014301,"Bulle colorée           ",10,9,10,0,0,29,0,100,0,null,0,null,{"$f":"COUNTIF('Classement auteurs'!B:B,C40)","v":1}]
[13,43,131879000501,"Contemplation            ",13,10,16,0,0,39,0,68,0,null,0,null,{"$f":"COUNTIF('Classement auteurs'!B:B,C41)","v":1}]
[13,44,131683007901,"M à Venise              ",19,20,19,0,0,58,0,5,0,null,0,null,{"$f":"COUNTIF('Classement auteurs'!B:B,C42)","v":1}]
[13,46,131499008701,"Harmonie                 ",9,14,11,0,0,34,0,112,0,null,0,null,{"$f":"COUNTIF('Classement auteurs'!B:B,C43)","v":1}]
[13,47,130987015701,"Beauté voilée          ",12,16,18,0,0,46,0,21,0,null,0,null,{"$f":"COUNTIF('Classement auteurs'!B:B,C44)","v":1}]
[13,48,130000020401,"LUMA - Architecture de Demain",12,19,12,0,0,43,0,155,6,null,0,null,{"$f":"COUNTIF('Classement auteurs'!B:B,C45)","v":1}]
[13,49,130878007201,"Photosphore              ",12,13,10,0,0,35,0,73,0,null,0,null,{"$f":"COUNTIF('Classement auteurs'!B:B,C46)","v":1}]
[13,51,131376018301,"Marché de nuit          ",9,18,17,0,0,44,0,14,0,null,0,null,{"$f":"COUNTIF('Classement auteurs'!B:B,C47)","v":1}]
[13,52,132193001901,"Flamboyant ciel          ",14,12,13,0,0,39,0,133,0,null,0,null,{"$f":"COUNTIF('Classement auteurs'!B:B,C48)","v":1}]
[13,53,131956003401,"Bise                     ",9,12,12,0,0,33,0,139,0,null,0,null,{"$f":"COUNTIF('Classement auteurs'!B:B,C49)","v":1}]
[13,54,131353000201,"Petit garçon au chapeau ",10,15,12,0,0,37,0,151,0,null,0,null,{"$f":"COUNTIF('Classement auteurs'!B:B,C50)","v":1}]
[13,55,131227008301,"Bord du Rhône           ",14,9,11,0,0,34,0,98,0,null,0,null,{"$f":"COUNTIF('Classement auteurs'!B:B,C51)","v":1}]
[13,56,131992000401,"J'aime l'école          ",12,18,15,0,0,45,0,44,0,null,0,null,{"$f":"COUNTIF('Classement auteurs'!B:B,C52)","v":1}]
[13,57,131899000801,"Furtive                  ",19,9,13,0,0,41,0,11,0,null,0,null,{"$f":"COUNTIF('Classement auteurs'!B:B,C53)","v":1}]
[13,58,131992000301,"Contournement.           ",12,9,10,0,0,31,0,40,0,null,0,null,{"$f":"COUNTIF('Classement auteurs'!B:B,C54)","v":1}]
[13,59,132023002201,"La porte de l'ecole      ",12,18,13,0,0,43,0,31,0,null,0,null,{"$f":"COUNTIF('Classement auteurs'!B:B,C55)","v":1}]
[13,60,131683007601,"Sous terre               ",9,11,12,0,0,32,0,156,0,null,0,null,{"$f":"COUNTIF('Classement auteurs'!B:B,C56)","v":1}]
[13,61,131823007601,"Gardian                  ",11,8,11,0,0,30,0,137,0,null,0,null,{"$f":"COUNTIF('Classement auteurs'!B:B,C57)","v":1}]
[13,62,132060001801,"Sérénité              ",14,16,17,0,0,47,0,144,0,null,0,null,{"$f":"COUNTIF('Classement auteurs'!B:B,C58)","v":1}]
[13,64,131499011001,"Le C                     ",18,16,17,0,0,51,0,54,0,null,0,null,{"$f":"COUNTIF('Classement auteurs'!B:B,C59)","v":1}]
[13,65,130987024201,"Danse des esprits        ",9,14,16,0,0,39,0,101,0,null,0,null,{"$f":"COUNTIF('Classement auteurs'!B:B,C60)","v":1}]
[13,66,131110001101,"Chanteur de blues        ",17,17,11,0,0,45,0,79,0,null,0,null,{"$f":"COUNTIF('Classement auteurs'!B:B,C61)","v":1}]
[13,67,132193000401,"Promenade dans les ocres ",9,15,9,0,0,33,0,82,0,null,0,null,{"$f":"COUNTIF('Classement auteurs'!B:B,C62)","v":1}]
[13,68,132060001701,"Pause café              ",11,12,14,0,0,37,0,87,0,null,0,null,{"$f":"COUNTIF('Classement auteurs'!B:B,C63)","v":1}]
[13,69,130878014101,"Echoué                  ",17,20,19,0,0,56,0,26,0,null,0,null,{"$f":"COUNTIF('Classement auteurs'!B:B,C64)","v":1}]
[13,71,131499009801,"Mon beau miroir          ",13,16,13,0,0,42,0,39,0,null,0,null,{"$f":"COUNTIF('Classement auteurs'!B:B,C65)","v":1}]
[13,72,131499010401,"Filets du petit matin    ",12,15,14,0,0,41,0,76,0,null,0,null,{"$f":"COUNTIF('Classement auteurs'!B:B,C66)","v":1}]
[13,73,132084003501,"Le chemin des couleurs   ",11,14,13,0,0,{"$f":"SUM(E67:I67)","v":38},0,113,0,null,0,null,{"$f":"COUNTIF('Classement auteurs'!B:B,C67)","v":1}]
[13,74,131956001401,"Virage Gondole           ",9,14,12,0,0,35,0,9,0,null,0,null,{"$f":"COUNTIF('Classement auteurs'!B:B,C68)","v":1}]
[13,75,131879000801,"La fille au masque       ",11,12,13,0,0,36,0,74,0,null,0,null,{"$f":"COUNTIF('Classement auteurs'!B:B,C69)","v":1}]
[13,76,132023001701,"Mongolfière             ",11,14,13,0,0,38,0,141,0,null,0,null,{"$f":"COUNTIF('Classement auteurs'!B:B,C70)","v":1}]
[13,77,131619004601,"Pêche en Brenne         ",13,17,13,0,0,43,0,146,0,null,0,null,{"$f":"COUNTIF('Classement auteurs'!B:B,C71)","v":1}]
[13,78,132193000501,"La Nuit du carrefour     ",13,15,13,0,0,41,0,90,0,null,0,null,{"$f":"COUNTIF('Classement auteurs'!B:B,C72)","v":1}]
[13,79,130000019901,"Paris                    ",9,13,15,0,0,37,0,81,6,null,0,null,{"$f":"COUNTIF('Classement auteurs'!B:B,C73)","v":1}]
[13,80,131499010101,"Aurore                   ",10,12,12,0,0,34,0,136,0,null,0,null,{"$f":"COUNTIF('Classement auteurs'!B:B,C74)","v":1}]
[13,81,132084003601,"Voie en couleur          ",9,14,12,0,0,35,0,119,0,null,0,null,{"$f":"COUNTIF('Classement auteurs'!B:B,C75)","v":1}]
[13,82,131499010301,"Face au large            ",19,16,15,0,0,50,0,114,0,null,0,null,{"$f":"COUNTIF('Classement auteurs'!B:B,C76)","v":1}]
[13,83,132193001201,"Meton au lever de soleil ",10,13,14,0,0,37,0,129,0,null,0,null,{"$f":"COUNTIF('Classement auteurs'!B:B,C77)","v":1}]
[13,84,131499010001,"Olivia Ruiz aux Nuits du Sud",11,15,16,0,0,42,0,48,0,null,0,null,{"$f":"COUNTIF('Classement auteurs'!B:B,C78)","v":1}]
[13,86,130527015501,"Couleurs                 ",9,12,11,0,0,32,0,162,0,null,0,null,{"$f":"COUNTIF('Classement auteurs'!B:B,C79)","v":1}]
[13,87,130993014001,"Le passage               ",11,8,12,0,0,31,0,66,0,null,0,null,{"$f":"COUNTIF('Classement auteurs'!B:B,C80)","v":1}]
[13,88,131353006101,"Regard bleu              ",10,14,12,0,0,36,0,15,0,null,0,null,{"$f":"COUNTIF('Classement auteurs'!B:B,C81)","v":1}]
[13,89,131499008201,"L'arrêt de bus          ",13,17,19,0,0,49,0,140,0,null,0,null,{"$f":"COUNTIF('Classement auteurs'!B:B,C82)","v":1}]
[13,90,131683006301,"Blanc                    ",16,17,12,0,0,45,0,138,0,null,0,null,{"$f":"COUNTIF('Classement auteurs'!B:B,C83)","v":1}]
[13,91,131353003001,"Femme Nature             ",9,16,10,0,0,35,0,28,0,null,0,null,{"$f":"COUNTIF('Classement auteurs'!B:B,C84)","v":1}]
[13,92,131353007101,"Bravo!                   ",9,15,13,0,0,37,0,2,0,null,0,null,{"$f":"COUNTIF('Classement auteurs'!B:B,C85)","v":1}]
[13,93,131110000901,"Le cycliste              ",16,14,11,0,0,41,0,58,0,null,0,null,{"$f":"COUNTIF('Classement auteurs'!B:B,C86)","v":1}]
[13,94,131499005201,"Femme au chapeau         ",9,17,13,0,0,39,0,94,0,null,0,null,{"$f":"COUNTIF('Classement auteurs'!B:B,C87)","v":1}]
[13,95,131499003901,"Campagne beaujolaise     ",19,12,8,0,0,39,0,109,0,null,0,null,{"$f":"COUNTIF('Classement auteurs'!B:B,C88)","v":1}]
[13,96,131879000901,"Corvette                 ",9,8,12,0,0,29,0,126,0,null,0,null,{"$f":"COUNTIF('Classement auteurs'!B:B,C89)","v":1}]
[13,97,131494000201,"Voile  7                 ",16,9,12,0,0,37,0,80,0,null,0,null,{"$f":"COUNTIF('Classement auteurs'!B:B,C90)","v":1}]
[13,98,131683006601,"Balade nocturne          ",14,18,17,0,0,49,0,49,0,null,0,null,{"$f":"COUNTIF('Classement auteurs'!B:B,C91)","v":1}]
[13,99,131353004301,"Eventail                 ",10,7,7,0,0,24,0,59,0,null,0,null,{"$f":"COUNTIF('Classement auteurs'!B:B,C92)","v":1}]
[13,100,131494002301,"Dans le sable.           ",10,16,16,0,0,42,0,13,0,null,0,null,{"$f":"COUNTIF('Classement auteurs'!B:B,C93)","v":1}]
[13,101,132203000701,"Le p'tit café! place Garibaldi.....",11,15,14,0,0,40,0,45,0,null,0,null,{"$f":"COUNTIF('Classement auteurs'!B:B,C94)","v":1}]
[13,103,130925009901,"Exposition Universelle Milan",9,15,13,0,0,37,0,56,0,null,0,null,{"$f":"COUNTIF('Classement auteurs'!B:B,C95)","v":1}]
[13,105,131845003401,"Et danse la peinture     ",11,16,13,0,0,40,0,37,0,null,0,null,{"$f":"COUNTIF('Classement auteurs'!B:B,C96)","v":1}]
[13,106,131376014701,"Le père et l'enfant     ",14,17,13,0,0,44,0,158,0,null,0,null,{"$f":"COUNTIF('Classement auteurs'!B:B,C97)","v":1}]
[13,107,131956004601,"Graphismes camarguais    ",10,9,8,0,0,27,0,10,0,null,0,null,{"$f":"COUNTIF('Classement auteurs'!B:B,C98)","v":1}]
[13,108,131956006101,"Dans les nuages          ",14,14,14,0,0,42,0,62,0,null,0,null,{"$f":"COUNTIF('Classement auteurs'!B:B,C99)","v":1}]
[13,109,130462009601,"Sticky Boys              ",13,10,12,0,0,35,0,116,0,null,0,null,{"$f":"COUNTIF('Classement auteurs'!B:B,C100)","v":1}]
[13,110,131899003801,"Bord de mer              ",11,13,13,0,0,37,0,53,0,null,0,null,{"$f":"COUNTIF('Classement auteurs'!B:B,C101)","v":1}]
[13,111,131956006501,"éclosion                ",11,14,11,0,0,36,0,42,0,null,0,null,{"$f":"COUNTIF('Classement auteurs'!B:B,C102)","v":1}]
[13,112,131683008001,"Dans la chaleur des moteurs",16,17,19,0,0,52,0,57,0,null,0,null,{"$f":"COUNTIF('Classement auteurs'!B:B,C103)","v":1}]
[13,113,131845001101,"L'insolite               ",11,13,8,0,0,32,0,130,0,null,0,null,{"$f":"COUNTIF('Classement auteurs'!B:B,C104)","v":1}]
[13,114,131619005001,"Antilope Canyon          ",16,17,12,0,0,45,0,89,0,null,0,null,{"$f":"COUNTIF('Classement auteurs'!B:B,C105)","v":1}]
[13,115,132060000701,"Beaubourg                ",11,11,14,0,0,36,0,148,0,null,0,null,{"$f":"COUNTIF('Classement auteurs'!B:B,C106)","v":1}]
[13,116,131683005101,"Sérénité              ",19,17,13,0,0,49,0,105,0,null,0,null,{"$f":"COUNTIF('Classement auteurs'!B:B,C107)","v":1}]
[13,117,132060001201,"Au delà du mur          ",9,16,14,0,0,39,0,160,0,null,0,null,{"$f":"COUNTIF('Classement auteurs'!B:B,C108)","v":1}]
[13,118,132086002601,"Urban city               ",9,15,16,0,0,40,0,142,0,null,0,null,{"$f":"COUNTIF('Classement auteurs'!B:B,C109)","v":1}]
[13,119,131862002201,"Randonnée               ",10,15,18,0,0,43,0,83,0,null,0,null,{"$f":"COUNTIF('Classement auteurs'!B:B,C110)","v":1}]
[13,120,130925009801,"Prédicateur             ",10,17,13,0,0,40,0,27,0,null,0,null,{"$f":"COUNTIF('Classement auteurs'!B:B,C111)","v":1}]
[13,121,131956002401,"Reflet du lac            ",17,12,14,0,0,43,0,8,0,null,0,null,{"$f":"COUNTIF('Classement auteurs'!B:B,C112)","v":1}]
[13,122,131845001401,"St Cast en feu           ",12,16,15,0,0,43,0,131,0,null,0,null,{"$f":"COUNTIF('Classement auteurs'!B:B,C113)","v":1}]
[13,123,131956005901,"Vers la tour             ",10,15,12,0,0,37,0,55,0,null,0,null,{"$f":"COUNTIF('Classement auteurs'!B:B,C114)","v":1}]
[13,124,131227008601,"Le phare de Cassis       ",17,14,11,0,0,42,0,23,0,null,0,null,{"$f":"COUNTIF('Classement auteurs'!B:B,C115)","v":1}]
[13,125,131353006201,"Plein champ              ",9,16,12,0,0,37,0,132,0,null,0,null,{"$f":"COUNTIF('Classement auteurs'!B:B,C116)","v":1}]
[13,126,131956004501,"Le pont routier          ",13,16,10,0,0,39,0,64,0,null,0,null,{"$f":"COUNTIF('Classement auteurs'!B:B,C117)","v":1}]
[13,127,131353007401,"74_MG_Malecon Cuba.jpg   ",9,16,16,0,0,41,0,36,0,null,0,null,{"$f":"COUNTIF('Classement auteurs'!B:B,C118)","v":1}]
[13,128,130878013001,"Voyage                   ",9,8,9,0,0,26,0,12,0,null,0,null,{"$f":"COUNTIF('Classement auteurs'!B:B,C119)","v":1}]
[13,129,132086001401,"Géometrie               ",10,14,10,0,0,34,0,147,0,null,0,null,{"$f":"COUNTIF('Classement auteurs'!B:B,C120)","v":1}]
[13,130,131353007301,"73_PG_Musicien Des Rues La Havane.jpg",10,16,12,0,0,38,0,127,0,null,0,null,{"$f":"COUNTIF('Classement auteurs'!B:B,C121)","v":1}]
[13,131,130987025001,"Buren en couleur         ",12,16,12,0,0,40,0,95,0,null,0,null,{"$f":"COUNTIF('Classement auteurs'!B:B,C122)","v":1}]
[13,132,131956002601,"Erosion                  ",9,13,8,0,0,30,0,34,0,null,0,null,{"$f":"COUNTIF('Classement auteurs'!B:B,C123)","v":1}]
[13,133,130987023901,"\"Dream\"                  ",10,9,11,0,0,30,0,6,0,null,0,null,{"$f":"COUNTIF('Classement auteurs'!B:B,C124)","v":1}]
[13,134,130462001101,"Etang du Lavalduc        ",14,16,13,0,0,43,0,135,0,null,0,null,{"$f":"COUNTIF('Classement auteurs'!B:B,C125)","v":1}]
[13,135,132089000101,"Il va neiger dans le Var ",10,14,12,0,0,36,0,16,0,null,0,null,{"$f":"COUNTIF('Classement auteurs'!B:B,C126)","v":1}]
[13,136,131845004001,"Chantiers de la Seyne    ",16,13,12,0,0,41,0,46,0,null,0,null,{"$f":"COUNTIF('Classement auteurs'!B:B,C127)","v":1}]
[13,137,131619005301,"Princess Street          ",16,13,14,0,0,43,0,145,0,null,0,null,{"$f":"COUNTIF('Classement auteurs'!B:B,C128)","v":1}]
[13,138,131956000201,"Camaieu Camarguais       ",18,10,11,0,0,39,0,108,0,null,0,null,{"$f":"COUNTIF('Classement auteurs'!B:B,C129)","v":1}]
[13,139,130925008401,"Spleen                   ",14,19,18,0,0,51,0,161,0,null,0,null,{"$f":"COUNTIF('Classement auteurs'!B:B,C130)","v":1}]
[13,140,130925007701,"Dans la brume            ",10,13,14,0,0,{"$f":"SUM(E131:I131)","v":37},0,123,0,null,0,null,{"$f":"COUNTIF('Classement auteurs'!B:B,C131)","v":1}]
[13,141,130987016601,"Carla                    ",10,11,9,0,0,30,0,99,0,null,0,null,{"$f":"COUNTIF('Classement auteurs'!B:B,C132)","v":1}]
[13,142,131845004101,"Londres                  ",9,12,15,0,0,36,0,3,0,null,0,null,{"$f":"COUNTIF('Classement auteurs'!B:B,C133)","v":1}]
[13,143,131499010601,"Ocres                    ",13,12,14,0,0,39,0,125,0,null,0,null,{"$f":"COUNTIF('Classement auteurs'!B:B,C134)","v":1}]
[13,144,131499010501,"Selfie dans les lavandes ",10,13,13,0,0,36,0,50,0,null,0,null,{"$f":"COUNTIF('Classement auteurs'!B:B,C135)","v":1}]
[13,146,131823004201,"La fanfare               ",10,13,11,0,0,34,0,93,0,null,0,null,{"$f":"COUNTIF('Classement auteurs'!B:B,C136)","v":1}]
[13,147,131956005301,"Bo-Kaap Maison au palmier",9,14,9,0,0,32,0,84,0,null,0,null,{"$f":"COUNTIF('Classement auteurs'!B:B,C137)","v":1}]
[13,148,131823006401,"Le petit port            ",10,13,14,0,0,37,0,121,0,null,0,null,{"$f":"COUNTIF('Classement auteurs'!B:B,C138)","v":1}]
[13,149,131845000801,"Sama Danse des Derviches Tourneurs",7,15,12,0,0,34,0,24,0,null,0]
[13,150,131956000601,"En cuisine!              ",12,7,8,0,0,27,0,118,0,null,0]
[13,151,131845000101,"Façade provençale      ",14,15,12,0,0,41,0,51,0,null,0]
[13,152,131845000201,"Dans le Panier           ",13,13,14,0,0,40,0,60,0,null,0]
[13,153,131376000101,"Précautions!            ",8,15,14,0,0,37,0,43,0,null,0]
[13,154,131956005701,"Matin calme à Pokhara   ",10,15,13,0,0,38,0,19,0,null,0]
[13,155,131619004501,"Sant' Angelo             ",12,14,11,0,0,37,0,124,0,null,0]
[13,156,130987001601,"Gerbera                  ",14,13,10,0,0,37,0,92,0,null,0]
[13,157,130925007601,"Birmane                  ",9,20,12,0,0,41,0,85,0,null,0]
[13,158,131845002101,"Mariage de l'eau et du feu",14,18,12,0,0,44,0,52,0,null,0]
[13,159,132060000901,"Un air de Noël          ",9,10,11,0,0,30,0,163,0,null,0]
[13,160,130527009401,"Terre de Sienne          ",18,19,14,0,0,51,0,30,0,null,0]
[13,161,130527017001,"L'art solitaire...       ",14,17,20,0,0,51,0,29,0,null,0]
[13,162,130987002301,"Moulin Sicilien          ",10,11,13,0,0,34,0,122,0,null,0]
[13,163,132060000401,"Solitaire                ",11,16,13,0,0,40,0,102,0,null,0]
[13,164,131499003601,"Les fruits du marché    ",16,19,15,0,0,50,0,91,0,null,0]
[13,165,131499006901,"Design                   ",18,14,14,0,0,46,0,1,0,null,0]
[13,166,131499010701,"Vapeur d'arc en ciel     ",14,7,12,0,0,33,0,103,0,null,0]
[13,167,131619004201,"Les Goudes               ",12,7,15,0,0,34,0,70,0,null,0]
[13,168,131619004801,"La Lune                  ",12,8,14,0,0,34,0,117,0,null,0]
[13,169,130878015201,"Du blanc à la couleur   ",14,15,13,0,0,42,0,71,0,null,0]
[13,170,131499008601,"Peint ta rue             ",12,17,12,0,0,41,0,154,0,null,0]
[13,171,130987026701,"Cabanons de Cabasson     ",10,12,18,0,0,40,0,17,0,null,0]
[13,172,131110001001,"Selfie                   ",9,14,12,0,0,35,0,152,0,null,0]
[13,173,132203001001,"L'ocre en provence       ",13,13,9,0,0,35,0,134,0,null,0]
[13,174,131353000701,"Pierrot à la rose       ",11,17,13,0,0,41,0,150,0,null,0]
[13,175,131353000101,"Riomaggiore              ",18,19,20,0,0,57,0,97,0,null,0]

{"sheet":"Défi-6","index":8,"n_rows":129,"n_cols":23,"rows_kept":129,"cut":false,"hidden":false,"merged":[]}
["colis","photologic","fichier","titre","note1","note2","note3","note4","note5","total","place","passage","statut","medaille","retenue",null,"0=absent\n1=présent",null,"fichier","total"]
[13,76,130000019901,"Recueillement            ",13,13,15,0,0,41,0,115,6,null,0,null,{"$f":"COUNTIF('Classement auteurs'!B:B,C2)","v":1},null,130878015801,49,{"$f":"(MID(S2,3,4)*1)","v":878},134,{"$f":"IF($V2=VLOOKUP($U2,'Classement clubs'!$B$2:$K$52,8,FALSE),\"OK\",\"KO\")","v":"OK"}]
[13,50,130000020401,"Khiva - La Roue          ",13,11,13,0,0,37,0,123,6,null,0,null,{"$f":"COUNTIF('Classement auteurs'!B:B,C3)","v":1},null,130925007601,44,925,130,{"$f":"IF($V3=VLOOKUP($U3,'Classement clubs'!$B$2:$K$52,8,FALSE),\"OK\",\"KO\")","v":"OK"}]
[13,11,130000021001," Un voyage à LONDRES    ",7,6,8,0,0,21,0,137,6,null,0,null,{"$f":"COUNTIF('Classement auteurs'!B:B,C4)","v":1},null,130987019701,51,987,147,{"$f":"IF($V4=VLOOKUP($U4,'Classement clubs'!$B$2:$K$52,8,FALSE),\"OK\",\"KO\")","v":"OK"}]
[13,41,130462001101,"Apres la pluie           ",18,12,15,0,0,45,0,105,0,null,0,null,{"$f":"COUNTIF('Classement auteurs'!B:B,C5)","v":1},null,130993013301,47,993,131,{"$f":"IF($V5=VLOOKUP($U5,'Classement clubs'!$B$2:$K$52,8,FALSE),\"OK\",\"KO\")","v":"OK"}]
[13,22,130527009201,"On partage ?             ",12,13,15,0,0,40,0,123,0,null,0,null,{"$f":"COUNTIF('Classement auteurs'!B:B,C6)","v":1},null,131110000901,43,1110,126,{"$f":"IF($V6=VLOOKUP($U6,'Classement clubs'!$B$2:$K$52,8,FALSE),\"OK\",\"KO\")","v":"OK"}]
[13,27,130527012401,"Milan                    ",15,17,15,0,0,47,0,128,0,null,0,null,{"$f":"COUNTIF('Classement auteurs'!B:B,C7)","v":1},null,131353002601,48,1353,135,{"$f":"IF($V7=VLOOKUP($U7,'Classement clubs'!$B$2:$K$52,8,FALSE),\"OK\",\"KO\")","v":"OK"}]
[13,33,130878007201,"Abri multicolore         ",13,8,15,0,0,36,0,57,0,null,0,null,{"$f":"COUNTIF('Classement auteurs'!B:B,C8)","v":1},null,131376018301,57,1376,146,{"$f":"IF($V8=VLOOKUP($U8,'Classement clubs'!$B$2:$K$52,8,FALSE),\"OK\",\"KO\")","v":"OK"}]
[13,15,130878013001,"Perle de rose            ",11,15,15,0,0,41,0,83,0,null,0,null,{"$f":"COUNTIF('Classement auteurs'!B:B,C9)","v":1},null,131494003201,39,1494,99,{"$f":"IF($V9=VLOOKUP($U9,'Classement clubs'!$B$2:$K$52,8,FALSE),\"OK\",\"KO\")","v":"OK"}]
[13,6,130878013301,"Desert                   ",11,11,14,0,0,36,0,142,0,null,0,null,{"$f":"COUNTIF('Classement auteurs'!B:B,C10)","v":1},null,131499008701,44,1499,126,{"$f":"IF($V10=VLOOKUP($U10,'Classement clubs'!$B$2:$K$52,8,FALSE),\"OK\",\"KO\")","v":"OK"}]
[13,32,130878013401,"Lady                     ",8,11,11,0,0,30,0,47,0,null,0,null,{"$f":"COUNTIF('Classement auteurs'!B:B,C11)","v":1},null,131683006301,57,1683,149,{"$f":"IF($V11=VLOOKUP($U11,'Classement clubs'!$B$2:$K$52,8,FALSE),\"OK\",\"KO\")","v":"OK"}]
[13,69,130878013601,"L'enfant et le torri     ",12,9,13,0,0,34,0,72,0,null,0,null,{"$f":"COUNTIF('Classement auteurs'!B:B,C12)","v":1},null,131823004901,43,1823,132,{"$f":"IF($V12=VLOOKUP($U12,'Classement clubs'!$B$2:$K$52,8,FALSE),\"OK\",\"KO\")","v":"OK"}]
[13,42,130878014101,"Voilier echoué          ",15,13,16,0,0,44,0,35,0,null,0,null,{"$f":"COUNTIF('Classement auteurs'!B:B,C13)","v":1},null,131845000101,42,1845,114,{"$f":"IF($V13=VLOOKUP($U13,'Classement clubs'!$B$2:$K$52,8,FALSE),\"OK\",\"KO\")","v":"OK"}]
[13,38,130878014301,"La souffreuse            ",12,12,14,0,0,38,0,131,0,null,0,null,{"$f":"COUNTIF('Classement auteurs'!B:B,C14)","v":1},null,131862002201,44,1862,117,{"$f":"IF($V14=VLOOKUP($U14,'Classement clubs'!$B$2:$K$52,8,FALSE),\"OK\",\"KO\")","v":"OK"}]
[13,1,130878015201,"Je m'amuse               ",6,6,6,0,0,18,0,37,0,null,0,null,{"$f":"COUNTIF('Classement auteurs'!B:B,C15)","v":1},null,131879000801,58,1879,147,{"$f":"IF($V15=VLOOKUP($U15,'Classement clubs'!$B$2:$K$52,8,FALSE),\"OK\",\"KO\")","v":"OK"}]
[13,26,130878015801,"Laveur d'Affiche         ",18,13,18,0,0,49,0,32,0,null,0,null,{"$f":"COUNTIF('Classement auteurs'!B:B,C16)","v":1},null,131956004601,47,1956,129,{"$f":"IF($V16=VLOOKUP($U16,'Classement clubs'!$B$2:$K$52,8,FALSE),\"OK\",\"KO\")","v":"OK"}]
[13,71,130925007601,"Famille Himba            ",14,13,17,0,0,44,0,45,0,null,0,null,{"$f":"COUNTIF('Classement auteurs'!B:B,C17)","v":1},null,132060000101,34,2060,117,{"$f":"IF($V17=VLOOKUP($U17,'Classement clubs'!$B$2:$K$52,8,FALSE),\"OK\",\"KO\")","v":"OK"}]
[13,72,130925007701,"Regards d'enfants        ",14,17,19,0,0,50,0,119,0,null,0,null,{"$f":"COUNTIF('Classement auteurs'!B:B,C18)","v":1},null,132084003601,55,2084,154,{"$f":"IF($V18=VLOOKUP($U18,'Classement clubs'!$B$2:$K$52,8,FALSE),\"OK\",\"KO\")","v":"OK"}]
[13,68,130925008601,"Amerique                 ",13,7,16,0,0,36,0,85,0,null,0,null,{"$f":"COUNTIF('Classement auteurs'!B:B,C19)","v":1},null,132193000301,48,2193,129,{"$f":"IF($V19=VLOOKUP($U19,'Classement clubs'!$B$2:$K$52,8,FALSE),\"OK\",\"KO\")","v":"OK"}]
[13,49,130925009801,"Shanghai                 ",12,10,14,0,0,36,0,11,0,null,0,null,{"$f":"COUNTIF('Classement auteurs'!B:B,C20)","v":1}]
[13,40,130925010201,"Arles                    ",10,11,10,0,0,31,0,15,0,null,0,null,{"$f":"COUNTIF('Classement auteurs'!B:B,C21)","v":1}]
[13,36,130987007401,"Orage imminent           ",10,15,12,0,0,37,0,41,0,null,0,null,{"$f":"COUNTIF('Classement auteurs'!B:B,C22)","v":1}]
[13,4,130987012601,"Répétition.            ",14,15,13,0,0,42,0,149,0,null,0,null,{"$f":"COUNTIF('Classement auteurs'!B:B,C23)","v":1}]
[13,12,130987013801,"Lever de soleil après la pluie",14,15,13,0,0,42,0,73,0,null,0,null,{"$f":"COUNTIF('Classement auteurs'!B:B,C24)","v":1}]
[13,37,130987014001,"Le coeur dans les nuages ",14,15,19,0,0,48,0,61,0,null,0,null,{"$f":"COUNTIF('Classement auteurs'!B:B,C25)","v":1}]
[13,4,130987015701,"Rêve de Mérous       ",14,17,17,0,0,48,0,109,0,null,0,null,{"$f":"COUNTIF('Classement auteurs'!B:B,C26)","v":1}]
[13,23,130987016601,"Lac guichard             ",13,12,13,0,0,38,0,106,0,null,0,null,{"$f":"COUNTIF('Classement auteurs'!B:B,C27)","v":1}]
[13,31,130987019601,"Fraîcheur               ",12,14,13,0,0,39,0,1,0,null,0,null,{"$f":"COUNTIF('Classement auteurs'!B:B,C28)","v":1}]
[13,32,130987019701,"Sommet                   ",15,16,20,0,0,51,0,54,0,null,0,null,{"$f":"COUNTIF('Classement auteurs'!B:B,C29)","v":1}]
[13,24,130987024001,"Dorures d'autonne        ",16,15,15,0,0,46,0,42,0,null,0,null,{"$f":"COUNTIF('Classement auteurs'!B:B,C30)","v":1}]
[13,1,130987024201,"Cracheur de Feu          ",17,18,13,0,0,48,0,50,0,null,0,null,{"$f":"COUNTIF('Classement auteurs'!B:B,C31)","v":1}]
[13,7,130987028201,"Water selfie             ",13,14,15,0,0,42,0,117,0,null,0,null,{"$f":"COUNTIF('Classement auteurs'!B:B,C32)","v":1}]
[13,16,130987028401,"Au bout... de la Presqu'île",11,14,11,0,0,36,0,65,0,null,0,null,{"$f":"COUNTIF('Classement auteurs'!B:B,C33)","v":1}]
[13,42,130987028801,"Feu Art                  ",11,10,15,0,0,36,0,113,0,null,0,null,{"$f":"COUNTIF('Classement auteurs'!B:B,C34)","v":1}]
[13,12,130987029901,"Rodin.jpg                ",9,11,11,0,0,31,0,113,0,null,0,null,{"$f":"COUNTIF('Classement auteurs'!B:B,C35)","v":1}]
[13,10,130987030301,"Coquelicot du Lot        ",10,10,6,0,0,26,0,141,0,null,0,null,{"$f":"COUNTIF('Classement auteurs'!B:B,C36)","v":1}]
[13,14,130993012301,"Flamenco                 ",13,13,15,0,0,41,0,106,0,null,0,null,{"$f":"COUNTIF('Classement auteurs'!B:B,C37)","v":1}]
[13,20,130993013301,"Le repas du Rollier      ",14,17,16,0,0,47,0,34,0,null,0,null,{"$f":"COUNTIF('Classement auteurs'!B:B,C38)","v":1}]
[13,22,130993013801,"Promeneur du soir        ",13,14,11,0,0,38,0,110,0,null,0,null,{"$f":"COUNTIF('Classement auteurs'!B:B,C39)","v":1}]
[13,14,130993015101,"En suspension            ",14,16,13,0,0,43,0,9,0,null,0,null,{"$f":"COUNTIF('Classement auteurs'!B:B,C40)","v":1}]
[13,35,130993015401,"La cabanne du peuchère  ",9,11,11,0,0,31,0,63,0,null,0,null,{"$f":"COUNTIF('Classement auteurs'!B:B,C41)","v":1}]
[13,56,130993016501,"Reflet_Asie              ",13,12,10,0,0,35,0,31,0,null,0,null,{"$f":"COUNTIF('Classement auteurs'!B:B,C42)","v":1}]
[13,38,131110000901,"Rosée                   ",16,12,15,0,0,43,0,22,0,null,0,null,{"$f":"COUNTIF('Classement auteurs'!B:B,C43)","v":1}]
[13,5,131110001001,"Quietude                 ",15,14,18,0,0,47,0,71,0,null,0,null,{"$f":"COUNTIF('Classement auteurs'!B:B,C44)","v":1}]
[13,39,131110001101,"Fleur sauvage            ",13,14,9,0,0,36,0,113,0,null,0,null,{"$f":"COUNTIF('Classement auteurs'!B:B,C45)","v":1}]
[13,41,131227008601,"Après la pluie          ",20,17,16,0,0,53,0,2,0,null,0,null,{"$f":"COUNTIF('Classement auteurs'!B:B,C46)","v":1}]
[13,35,131353000201,"Butinage                 ",12,13,11,0,0,36,0,1,0,null,0,null,{"$f":"COUNTIF('Classement auteurs'!B:B,C47)","v":1}]
[13,33,131353002601,"Chambley 1",15,16,17,0,0,48,0,116,0,null,0,null,{"$f":"COUNTIF('Classement auteurs'!B:B,C48)","v":1}]
[13,62,131353003001,"Regard de l'inconnue     ",12,6,12,0,0,30,0,48,0,null,0,null,{"$f":"COUNTIF('Classement auteurs'!B:B,C49)","v":1}]
[13,43,131353004301,"Jeune Cigale             ",16,16,15,0,0,47,0,46,0,null,0,null,{"$f":"COUNTIF('Classement auteurs'!B:B,C50)","v":1}]
[13,33,131353006101,"Mains d'Argile           ",15,11,10,0,0,36,0,63,0,null,0,null,{"$f":"COUNTIF('Classement auteurs'!B:B,C51)","v":1}]
[13,60,131353007301,"LAGUNA COLORADA BOLIVIE  ",14,11,15,0,0,40,0,37,0,null,0,null,{"$f":"COUNTIF('Classement auteurs'!B:B,C52)","v":1}]
[13,21,131376011801,"Moines du Djokang        ",13,18,15,0,0,46,0,111,0,null,0,null,{"$f":"COUNTIF('Classement auteurs'!B:B,C53)","v":1}]
[13,18,131376012601,"Jour de neige            ",14,14,6,0,0,34,0,22,0,null,0,null,{"$f":"COUNTIF('Classement auteurs'!B:B,C54)","v":1}]
[13,44,131376014701,"Enfant sous la pluie     ",14,13,16,0,0,43,0,75,0,null,0,null,{"$f":"COUNTIF('Classement auteurs'!B:B,C55)","v":1}]
[13,17,131376017601,"Ombre chinoise           ",13,10,12,0,0,35,0,107,0,null,0,null,{"$f":"COUNTIF('Classement auteurs'!B:B,C56)","v":1}]
[13,30,131376017701,"Solaire                  ",6,6,6,0,0,18,0,94,0,null,0,null,{"$f":"COUNTIF('Classement auteurs'!B:B,C57)","v":1}]
[13,5,131376018301,"La poursuite             ",19,18,20,0,0,57,0,132,0,null,0,null,{"$f":"COUNTIF('Classement auteurs'!B:B,C58)","v":1}]
[13,18,131494000201,"Envol                    ",10,11,14,0,0,35,0,6,0,null,0,null,{"$f":"COUNTIF('Classement auteurs'!B:B,C59)","v":1}]
[13,42,131494002101,"Atterrissage             ",9,9,7,0,0,25,0,90,0,null,0,null,{"$f":"COUNTIF('Classement auteurs'!B:B,C60)","v":1}]
[13,1,131494003001,"Reflet nocturne          ",10,7,7,0,0,24,0,120,0,null,0,null,{"$f":"COUNTIF('Classement auteurs'!B:B,C61)","v":1}]
[13,10,131494003201,"Jeans                    ",15,13,11,0,0,39,0,64,0,null,0,null,{"$f":"COUNTIF('Classement auteurs'!B:B,C62)","v":1}]
[13,45,131499005201,"Pizzaiolo                ",11,7,13,0,0,31,0,46,0,null,0,null,{"$f":"COUNTIF('Classement auteurs'!B:B,C63)","v":1}]
[13,28,131499006801,"Fauteuil Rouge           ",8,15,19,0,0,42,0,67,0,null,0,null,{"$f":"COUNTIF('Classement auteurs'!B:B,C64)","v":1}]
[13,38,131499008601,"Il potassait...          ",14,11,15,0,0,40,0,159,0,null,0,null,{"$f":"COUNTIF('Classement auteurs'!B:B,C65)","v":1}]
[13,14,131499008701,"Geisha                   ",15,14,15,0,0,44,0,43,0,null,0,null,{"$f":"COUNTIF('Classement auteurs'!B:B,C66)","v":1}]
[13,30,131499009301,"Les parasols             ",11,11,13,0,0,35,0,96,0,null,0,null,{"$f":"COUNTIF('Classement auteurs'!B:B,C67)","v":1}]
[13,34,131499009801,"Bella musica             ",13,10,12,0,0,35,0,82,0,null,0,null,{"$f":"COUNTIF('Classement auteurs'!B:B,C68)","v":1}]
[13,64,131619005001,"Regard sur le haut atlas ",11,15,13,0,0,39,0,77,0,null,0,null,{"$f":"COUNTIF('Classement auteurs'!B:B,C69)","v":1}]
[13,28,131683000701,"MARIE                    ",18,13,17,0,0,48,0,40,0,null,0,null,{"$f":"COUNTIF('Classement auteurs'!B:B,C70)","v":1}]
[13,24,131683005101,"HERON                    ",15,15,14,0,0,44,0,42,0,null,0,null,{"$f":"COUNTIF('Classement auteurs'!B:B,C71)","v":1}]
[13,35,131683006301,"Avant l'orage            ",18,19,20,0,0,57,0,93,0,null,0,null,{"$f":"COUNTIF('Classement auteurs'!B:B,C72)","v":1}]
[13,34,131683007001,"Ordre décroissant       ",9,14,10,0,0,33,0,157,0,null,0,null,{"$f":"COUNTIF('Classement auteurs'!B:B,C73)","v":1}]
[13,9,131683008101,"Lola                     ",14,14,15,0,0,43,0,69,0,null,0,null,{"$f":"COUNTIF('Classement auteurs'!B:B,C74)","v":1}]
[13,14,131823004901,"Ça chauffe              ",14,16,13,0,0,43,0,48,0,null,0,null,{"$f":"COUNTIF('Classement auteurs'!B:B,C75)","v":1}]
[13,8,131823008301,"Portrait de rue          ",16,18,14,0,0,48,0,12,0,null,0,null,{"$f":"COUNTIF('Classement auteurs'!B:B,C76)","v":1}]
[13,67,131823008701,"école en Sulawesi       ",12,13,16,0,0,41,0,97,0,null,0,null,{"$f":"COUNTIF('Classement auteurs'!B:B,C77)","v":1}]
[13,45,131824001901,"Juste une éclaircie     ",20,14,18,0,0,52,0,126,0,null,0,null,{"$f":"COUNTIF('Classement auteurs'!B:B,C78)","v":1}]
[13,30,131824003101,"Ice attack               ",12,13,17,0,0,42,0,89,0,null,0,null,{"$f":"COUNTIF('Classement auteurs'!B:B,C79)","v":1}]
[13,6,131845000101,"Skate Park               ",12,12,18,0,0,42,0,132,0,null,0,null,{"$f":"COUNTIF('Classement auteurs'!B:B,C80)","v":1}]
[13,32,131845000201,"Au vol                   ",6,6,6,0,0,18,0,53,0,null,0,null,{"$f":"COUNTIF('Classement auteurs'!B:B,C81)","v":1}]
[13,10,131845000301,"Variation d'ocres        ",9,13,14,0,0,36,0,53,0,null,0,null,{"$f":"COUNTIF('Classement auteurs'!B:B,C82)","v":1}]
[13,5,131845000801,"Le soleil se lève       ",13,12,11,0,0,36,0,136,0,null,0,null,{"$f":"COUNTIF('Classement auteurs'!B:B,C83)","v":1}]
[13,1,131845003401,"Avant la régate         ",9,7,12,0,0,28,0,31,0,null,0,null,{"$f":"COUNTIF('Classement auteurs'!B:B,C84)","v":1}]
[13,70,131845004001,"VIETAMIENNE              ",11,9,13,0,0,33,0,66,0,null,0,null,{"$f":"COUNTIF('Classement auteurs'!B:B,C85)","v":1}]
[13,74,131862000801,"Le Chat du Rabin         ",11,6,7,0,0,24,0,78,0,null,0,null,{"$f":"COUNTIF('Classement auteurs'!B:B,C86)","v":1}]
[13,57,131862001001,"Petite Vietnamienne      ",12,12,15,0,0,39,0,139,0,null,0,null,{"$f":"COUNTIF('Classement auteurs'!B:B,C87)","v":1}]
[13,25,131862002201,"Les fiancés             ",18,12,14,0,0,44,0,144,0,null,0,null,{"$f":"COUNTIF('Classement auteurs'!B:B,C88)","v":1}]
[13,83,131862005801,"Suivez mon regard        ",11,11,12,0,0,34,0,52,0,null,0,null,{"$f":"COUNTIF('Classement auteurs'!B:B,C89)","v":1}]
[13,22,131879000101,"Tangueros                ",12,16,13,0,0,41,0,67,0,null,0,null,{"$f":"COUNTIF('Classement auteurs'!B:B,C90)","v":1}]
[13,4,131879000501,"Calin                    ",14,13,14,0,0,41,0,89,0,null,0,null,{"$f":"COUNTIF('Classement auteurs'!B:B,C91)","v":1}]
[13,21,131879000601,"Hong Kong la nuit        ",15,17,15,0,0,47,0,4,0,null,0,null,{"$f":"COUNTIF('Classement auteurs'!B:B,C92)","v":1}]
[13,29,131879000801,"Harmonie                 ",19,19,20,0,0,58,0,99,0,null,0,null,{"$f":"COUNTIF('Classement auteurs'!B:B,C93)","v":1}]
[13,31,131879001101,"Couleurs d'automne       ",13,13,12,0,0,38,0,128,0,null,0,null,{"$f":"COUNTIF('Classement auteurs'!B:B,C94)","v":1}]
[13,40,131879001301,"Regard                   ",18,14,10,0,0,42,0,38,0,null,0,null,{"$f":"COUNTIF('Classement auteurs'!B:B,C95)","v":1}]
[13,39,131879002001,"Procession               ",12,13,13,0,0,38,0,20,0,null,0,null,{"$f":"COUNTIF('Classement auteurs'!B:B,C96)","v":1}]
[13,80,131956001401,"Regard Colombien         ",11,10,11,0,0,32,0,134,0,null,0,null,{"$f":"COUNTIF('Classement auteurs'!B:B,C97)","v":1}]
[13,66,131956002601,"Berlin                   ",14,14,16,0,0,44,0,68,0,null,0,null,{"$f":"COUNTIF('Classement auteurs'!B:B,C98)","v":1}]
[13,19,131956002901,"Regard                   ",7,10,11,0,0,28,0,61,0,null,0,null,{"$f":"COUNTIF('Classement auteurs'!B:B,C99)","v":1}]
[13,52,131956003401,"Regard de la foret       ",11,6,7,0,0,24,0,56,0,null,0,null,{"$f":"COUNTIF('Classement auteurs'!B:B,C100)","v":1}]
[13,84,131956004501,"Aquarius                 ",12,14,12,0,0,38,0,54,0,null,0,null,{"$f":"COUNTIF('Classement auteurs'!B:B,C101)","v":1}]
[13,78,131956004601,"Regards sur notre galaxie",13,19,15,0,0,47,0,20,0,null,0,null,{"$f":"COUNTIF('Classement auteurs'!B:B,C102)","v":1}]
[13,46,131956005101,"Litter Litter            ",9,8,17,0,0,34,0,15,0,null,0,null,{"$f":"COUNTIF('Classement auteurs'!B:B,C103)","v":1}]
[13,19,131992000301,"Le tatoueur de Madurai.  ",12,12,16,0,0,40,0,25,0,null,0,null,{"$f":"COUNTIF('Classement auteurs'!B:B,C104)","v":1}]
[13,39,131992000401,"Fantôme de Noel         ",12,9,11,0,0,32,0,138,0,null,0,null,{"$f":"COUNTIF('Classement auteurs'!B:B,C105)","v":1}]
[13,35,132023000101,"L'homme au damier        ",16,8,14,0,0,38,0,92,0,null,0,null,{"$f":"COUNTIF('Classement auteurs'!B:B,C106)","v":1}]
[13,23,132060000101,"FETE AU CHATEAU          ",9,16,9,0,0,34,0,115,0,null,0,null,{"$f":"COUNTIF('Classement auteurs'!B:B,C107)","v":1}]
[13,40,132060000701,"Paris La Défense        ",13,11,14,0,0,38,0,73,0,null,0,null,{"$f":"COUNTIF('Classement auteurs'!B:B,C108)","v":1}]
[13,73,132060001701,"Enfant gitan de la mer   ",14,14,17,0,0,45,0,42,0,null,0,null,{"$f":"COUNTIF('Classement auteurs'!B:B,C109)","v":1}]
[13,30,132084000201,"Tristesse                ",13,15,10,0,0,38,0,104,0,null,0,null,{"$f":"COUNTIF('Classement auteurs'!B:B,C110)","v":1}]
[13,75,132084000301,"Croisère à Kotor       ",14,11,14,0,0,39,0,120,0,null,0,null,{"$f":"COUNTIF('Classement auteurs'!B:B,C111)","v":1}]
[13,50,132084001701,"Champs d'ail             ",11,18,16,0,0,45,0,129,0,null,0,null,{"$f":"COUNTIF('Classement auteurs'!B:B,C112)","v":1}]
[13,23,132084002301,"Les petits hommes        ",19,18,17,0,0,54,0,8,0,null,0,null,{"$f":"COUNTIF('Classement auteurs'!B:B,C113)","v":1}]
[13,58,132084003501,"Coiffes Himbas           ",14,12,17,0,0,43,0,34,0,null,0,null,{"$f":"COUNTIF('Classement auteurs'!B:B,C114)","v":1}]
[13,36,132084003601,"Mini la grenouille       ",17,18,20,0,0,55,0,137,0,null,0,null,{"$f":"COUNTIF('Classement auteurs'!B:B,C115)","v":1}]
[13,8,132084004001,"La négociation          ",11,18,13,0,0,42,0,96,0,null,0,null,{"$f":"COUNTIF('Classement auteurs'!B:B,C116)","v":1}]
[13,39,132086002301,"Parade en rose           ",11,13,12,0,0,36,0,29,0,null,0,null,{"$f":"COUNTIF('Classement auteurs'!B:B,C117)","v":1}]
[13,53,132086002501,"Le Chianti moderne       ",14,7,11,0,0,32,0,29,0,null,0,null,{"$f":"COUNTIF('Classement auteurs'!B:B,C118)","v":1}]
[13,82,132089000201,"Au Radjastan             ",10,11,10,0,0,31,0,6,0,null,0,null,{"$f":"COUNTIF('Classement auteurs'!B:B,C119)","v":1}]
[13,9,132103000101,"Prendre de le temps      ",19,19,17,0,0,55,0,152,0,null,0,null,{"$f":"COUNTIF('Classement auteurs'!B:B,C120)","v":1}]
[13,3,132147000101,"Reflet Vénitien         ",11,15,10,0,0,36,0,33,0,null,0,null,{"$f":"COUNTIF('Classement auteurs'!B:B,C121)","v":1}]
[13,16,132147001701,"L'herbe et le vent...    ",12,8,7,0,0,27,0,101,0,null,0,null,{"$f":"COUNTIF('Classement auteurs'!B:B,C122)","v":1}]
[13,34,132193000301,"Ambiance New York        ",12,18,18,0,0,48,0,69,0,null,0,null,{"$f":"COUNTIF('Classement auteurs'!B:B,C123)","v":1}]
[13,77,132193000401,"Un pont entre 2 mondes   ",12,12,13,0,0,37,0,93,7,null,0,null,{"$f":"COUNTIF('Classement auteurs'!B:B,C124)","v":1}]
[13,51,132193000501,"Guerrier irlandais       ",11,7,7,0,0,25,0,41,7,null,0,null,{"$f":"COUNTIF('Classement auteurs'!B:B,C125)","v":1}]
[13,6,132193000601,"Proue inversée          ",17,14,13,0,0,44,0,26,0,null,0,null,{"$f":"COUNTIF('Classement auteurs'!B:B,C126)","v":1}]
[13,28,132193001201,"Mes tourterelles         ",13,9,15,0,0,37,0,82,0,null,0,null,{"$f":"COUNTIF('Classement auteurs'!B:B,C127)","v":1}]
[13,41,132203000601,"Soir                     ",11,7,10,0,0,28,0,72,0,null,0,null,{"$f":"COUNTIF('Classement auteurs'!B:B,C128)","v":1}]
[13,37,132217000601,"Ancienne taverne crétoise",8,10,11,0,0,29,0,7,0,null,0,null,{"$f":"COUNTIF('Classement auteurs'!B:B,C129)","v":1}]

{"sheet":"Défi-7","index":9,"n_rows":138,"n_cols":23,"rows_kept":138,"cut":false,"hidden":false,"merged":[]}
["colis","photologic","fichier","titre","note1","note2","note3","note4","note5","total","place","passage","statut","medaille","retenue",null,"0=absent\n1=présent",null,"fichier","total"]
[13,122,131683008201,"Alysée                  ",19,19,19,0,0,57,0,20," ",null,null,null,{"$f":"COUNTIF('Classement auteurs'!B:B,C2)","v":1},null,130527009401,49,{"$f":"(MID(S2,3,4)*1)","v":527},119,{"$f":"IF($V2=VLOOKUP($U2,'Classement clubs'!$B$2:$K$52,9,FALSE),\"OK\",\"KO\")","v":"OK"}]
[13,85,131353000101,"La chapelle              ",17,20,19,0,0,56,0,67," ",null,null,null,{"$f":"COUNTIF('Classement auteurs'!B:B,C3)","v":1},null,130878007201,44,878,122,{"$f":"IF($V3=VLOOKUP($U3,'Classement clubs'!$B$2:$K$52,9,FALSE),\"OK\",\"KO\")","v":"OK"}]
[13,7,132193000301,"Invitation au voyage     ",19,18,18,0,0,55,0,94," ",null,null,null,{"$f":"COUNTIF('Classement auteurs'!B:B,C4)","v":1},null,131353000101,56,1353,135,{"$f":"IF($V4=VLOOKUP($U4,'Classement clubs'!$B$2:$K$52,9,FALSE),\"OK\",\"KO\")","v":"OK"}]
[13,11,131985003401,"Jeune fille himbas       ",20,16,18,0,0,54,0,118," ",null,null,null,{"$f":"COUNTIF('Classement auteurs'!B:B,C5)","v":1},null,131376017701,47,1376,122,{"$f":"IF($V5=VLOOKUP($U5,'Classement clubs'!$B$2:$K$52,9,FALSE),\"OK\",\"KO\")","v":"OK"}]
[13,6,130987015701,"Orage                    ",19,16,17,0,0,52,0,23," ",null,null,null,{"$f":"COUNTIF('Classement auteurs'!B:B,C6)","v":1},null,131499009301,39,1499,111,{"$f":"IF($V6=VLOOKUP($U6,'Classement clubs'!$B$2:$K$52,9,FALSE),\"OK\",\"KO\")","v":"OK"}]
[13,107,131956004601,"L'homme de pierre        ",17,17,18,0,0,52,0,76," ",null,null,null,{"$f":"COUNTIF('Classement auteurs'!B:B,C7)","v":1},null,131619002601,34,1619,124,{"$f":"IF($V7=VLOOKUP($U7,'Classement clubs'!$B$2:$K$52,9,FALSE),\"OK\",\"KO\")","v":"OK"}]
[13,26,130987013801,"Championnat de France de ",18,17,16,0,0,51,0,122," ",null,null,null,{"$f":"COUNTIF('Classement auteurs'!B:B,C8)","v":1},null,131683008201,57,1683,147,{"$f":"IF($V8=VLOOKUP($U8,'Classement clubs'!$B$2:$K$52,9,FALSE),\"OK\",\"KO\")","v":"OK"}]
[13,53,131845000101,"Ponton                   ",17,17,16,0,0,50,0,39," ",null,null,null,{"$f":"COUNTIF('Classement auteurs'!B:B,C9)","v":1},null,131823004901,43,1823,123,{"$f":"IF($V9=VLOOKUP($U9,'Classement clubs'!$B$2:$K$52,9,FALSE),\"OK\",\"KO\")","v":"OK"}]
[13,100,130527009401,"La route                 ",14,16,19,0,0,49,0,28," ",null,null,null,{"$f":"COUNTIF('Classement auteurs'!B:B,C10)","v":1},null,131845000101,50,1845,132,{"$f":"IF($V10=VLOOKUP($U10,'Classement clubs'!$B$2:$K$52,9,FALSE),\"OK\",\"KO\")","v":"OK"}]
[13,115,131683008101,"La cascade du roy        ",16,15,17,0,0,48,0,88," ",null,null,null,{"$f":"COUNTIF('Classement auteurs'!B:B,C11)","v":1},null,131862001601,43,1862,116,{"$f":"IF($V11=VLOOKUP($U11,'Classement clubs'!$B$2:$K$52,9,FALSE),\"OK\",\"KO\")","v":"OK"}]
[13,3,132103000401,"Sort-tu es toujours atten",18,15,14,0,0,47,0,40," ",null,null,null,{"$f":"COUNTIF('Classement auteurs'!B:B,C12)","v":1},null,131879000801,44,1879,119,{"$f":"IF($V12=VLOOKUP($U12,'Classement clubs'!$B$2:$K$52,9,FALSE),\"OK\",\"KO\")","v":"OK"}]
[13,5,132003002201,"Ubiquité.               ",20,10,17,0,0,47,0,47," ",null,null,null,{"$f":"COUNTIF('Classement auteurs'!B:B,C13)","v":1},null,131956004601,52,1956,139,{"$f":"IF($V13=VLOOKUP($U13,'Classement clubs'!$B$2:$K$52,9,FALSE),\"OK\",\"KO\")","v":"OK"}]
[13,15,131376017701,"Sprint final             ",15,19,13,0,0,47,0,103," ",null,null,null,{"$f":"COUNTIF('Classement auteurs'!B:B,C14)","v":1},null,131992000301,33,1992,97,{"$f":"IF($V14=VLOOKUP($U14,'Classement clubs'!$B$2:$K$52,9,FALSE),\"OK\",\"KO\")","v":"OK"}]
[13,125,131619004501,"L'echelle                ",13,14,20,0,0,47,0,58," ",null,null,null,{"$f":"COUNTIF('Classement auteurs'!B:B,C15)","v":1},null,132060002101,41,2060,115,{"$f":"IF($V15=VLOOKUP($U15,'Classement clubs'!$B$2:$K$52,9,FALSE),\"OK\",\"KO\")","v":"OK"}]
[13,37,131824001901,"Mini'Home                ",14,14,17,0,0,45,0,83," ",null,null,null,{"$f":"COUNTIF('Classement auteurs'!B:B,C16)","v":1},null,132084001701,31,2084,111,{"$f":"IF($V16=VLOOKUP($U16,'Classement clubs'!$B$2:$K$52,9,FALSE),\"OK\",\"KO\")","v":"OK"}]
[13,46,131845000901,"Concert acrobatique      ",18,14,13,0,0,45,0,1," ",null,null,null,{"$f":"COUNTIF('Classement auteurs'!B:B,C17)","v":1},null,132193000301,55,2193,129,{"$f":"IF($V17=VLOOKUP($U17,'Classement clubs'!$B$2:$K$52,9,FALSE),\"OK\",\"KO\")","v":"OK"}]
[13,56,130878007201,"Ibrahima                 ",17,13,14,0,0,44,0,73," ",null,null,null,{"$f":"COUNTIF('Classement auteurs'!B:B,C18)","v":1}]
[13,63,132084004801,"Père & Fils             ",14,11,19,0,0,44,0,82," ",null,null,null,{"$f":"COUNTIF('Classement auteurs'!B:B,C19)","v":1}]
[13,82,131879000801,"Madone                   ",14,14,16,0,0,44,0,41," ",null,null,null,{"$f":"COUNTIF('Classement auteurs'!B:B,C20)","v":1}]
[13,112,131956006201,"Promenade en terrasse    ",12,16,16,0,0,44,0,75," ",null,null,null,{"$f":"COUNTIF('Classement auteurs'!B:B,C21)","v":1}]
[13,27,130987024201,"Back in black            ",16,12,15,0,0,43,0,119," ",null,null,null,{"$f":"COUNTIF('Classement auteurs'!B:B,C22)","v":1}]
[13,44,131823007601,"Spirale                  ",15,13,15,0,0,43,0,114," ",null,null,null,{"$f":"COUNTIF('Classement auteurs'!B:B,C23)","v":1}]
[13,51,131823004901,"Evanescence              ",12,16,15,0,0,43,0,93," ",null,null,null,{"$f":"COUNTIF('Classement auteurs'!B:B,C24)","v":1}]
[13,58,131985003601,"Vino                     ",14,12,17,0,0,43,0,55," ",null,null,null,{"$f":"COUNTIF('Classement auteurs'!B:B,C25)","v":1}]
[13,64,131619004601,"Marche à l'ombre        ",12,15,16,0,0,43,0,81," ",null,null,null,{"$f":"COUNTIF('Classement auteurs'!B:B,C26)","v":1}]
[13,119,131956002601,"Trace                    ",11,15,17,0,0,43,0,99," ",null,null,null,{"$f":"COUNTIF('Classement auteurs'!B:B,C27)","v":1}]
[13,127,131862001601,"Vers l'orage             ",17,9,17,0,0,43,0,102," ",null,null,null,{"$f":"COUNTIF('Classement auteurs'!B:B,C28)","v":1}]
[13,10,131956004501,"La souche                ",10,14,18,0,0,42,0,62," ",null,null,null,{"$f":"COUNTIF('Classement auteurs'!B:B,C29)","v":1}]
[13,12,131376018301,"La penseuse !            ",12,14,16,0,0,42,0,42," ",null,null,null,{"$f":"COUNTIF('Classement auteurs'!B:B,C30)","v":1}]
[13,97,131683007901,"Tête d'oeuf             ",13,11,18,0,0,42,0,117," ",null,null,null,{"$f":"COUNTIF('Classement auteurs'!B:B,C31)","v":1}]
[13,114,131956002401,"Grand Mère              ",13,15,14,0,0,42,0,24," ",null,null,null,{"$f":"COUNTIF('Classement auteurs'!B:B,C32)","v":1}]
[13,9,130000015001,"Vu                       ",15,14,12,0,0,41,0,53," ",null,null,null,{"$f":"COUNTIF('Classement auteurs'!B:B,C33)","v":1}]
[13,40,130000020401,"Alcôve                  ",13,13,15,0,0,41,0,51," ",null,null,null,{"$f":"COUNTIF('Classement auteurs'!B:B,C34)","v":1}]
[13,86,131353000701,"Sous la pluie            ",14,12,15,0,0,41,0,3," ",null,null,null,{"$f":"COUNTIF('Classement auteurs'!B:B,C35)","v":1}]
[13,89,132060002101,"Pont araignée sur le Rhon",14,12,15,0,0,41,0,107," ",null,null,null,{"$f":"COUNTIF('Classement auteurs'!B:B,C36)","v":1}]
[13,105,131683006601,"Comme un génie          ",14,13,14,0,0,41,0,78," ",null,null,null,{"$f":"COUNTIF('Classement auteurs'!B:B,C37)","v":1}]
[13,111,131956000401,"Westminster              ",14,12,15,0,0,41,0,86," ",null,null,null,{"$f":"COUNTIF('Classement auteurs'!B:B,C38)","v":1}]
[13,32,131879000101,"Vite!                    ",12,12,16,0,0,40,0,77," ",null,null,null,{"$f":"COUNTIF('Classement auteurs'!B:B,C39)","v":1}]
[13,38,131992000901,"Le passage               ",13,15,12,0,0,40,0,85," ",null,null,null,{"$f":"COUNTIF('Classement auteurs'!B:B,C40)","v":1}]
[13,130,131956005401,"Graphisme urbain         ",16,12,12,0,0,40,0,90," ",null,null,null,{"$f":"COUNTIF('Classement auteurs'!B:B,C41)","v":1}]
[13,24,130878015201,"Rêverie                 ",15,13,11,0,0,39,0,125," ",null,null,null,{"$f":"COUNTIF('Classement auteurs'!B:B,C42)","v":1}]
[13,28,130987024101,"Peu ou proue...          ",13,15,11,0,0,39,0,36," ",null,null,null,{"$f":"COUNTIF('Classement auteurs'!B:B,C43)","v":1}]
[13,33,131499009301,"Chemin de traverse       ",12,14,13,0,0,39,0,113," ",null,null,null,{"$f":"COUNTIF('Classement auteurs'!B:B,C44)","v":1}]
[13,49,130878013001,"Complices                ",13,15,11,0,0,39,0,110," ",null,null,null,{"$f":"COUNTIF('Classement auteurs'!B:B,C45)","v":1}]
[13,57,130878015701,"Damien                   ",12,14,13,0,0,39,0,61," ",null,null,null,{"$f":"COUNTIF('Classement auteurs'!B:B,C46)","v":1}]
[13,77,131956006001,"Le vieux port en mouvemen",10,13,16,0,0,39,0,98," ",null,null,null,{"$f":"COUNTIF('Classement auteurs'!B:B,C47)","v":1}]
[13,118,132060000401,"Pont de dentelle         ",11,12,16,0,0,39,0,84," ",null,null,null,{"$f":"COUNTIF('Classement auteurs'!B:B,C48)","v":1}]
[13,50,131683005101,"Le buron oublié         ",11,14,13,0,0,38,0,87," ",null,null,null,{"$f":"COUNTIF('Classement auteurs'!B:B,C49)","v":1}]
[13,61,130527012401,"Fillette avec ses poisson",12,12,14,0,0,38,0,106," ",null,null,null,{"$f":"COUNTIF('Classement auteurs'!B:B,C50)","v":1}]
[13,84,131353004301,"Tombes de sable          ",15,7,16,0,0,38,0,17," ",null,null,null,{"$f":"COUNTIF('Classement auteurs'!B:B,C51)","v":1}]
[13,25,132193000801,"Au marché provencale    ",12,12,13,0,0,37,0,5," ",null,null,null,{"$f":"COUNTIF('Classement auteurs'!B:B,C52)","v":1}]
[13,43,131956005501,"En montant à notre Dame d",13,10,14,0,0,37,0,97," ",null,null,null,{"$f":"COUNTIF('Classement auteurs'!B:B,C53)","v":1}]
[13,47,130000019901,"Barques                  ",12,13,12,0,0,37,0,92," ",null,null,null,{"$f":"COUNTIF('Classement auteurs'!B:B,C54)","v":1}]
[13,52,131824000201,"Cubissime                ",14,12,11,0,0,37,0,18," ",null,null,null,{"$f":"COUNTIF('Classement auteurs'!B:B,C55)","v":1}]
[13,59,131862002201,"Imploration              ",16,11,10,0,0,37,0,64," ",null,null,null,{"$f":"COUNTIF('Classement auteurs'!B:B,C56)","v":1}]
[13,78,130987024001,"L'orage arrive           ",12,11,14,0,0,37,0,32," ",null,null,null,{"$f":"COUNTIF('Classement auteurs'!B:B,C57)","v":1}]
[13,102,131823005701,"Voile                    ",13,10,14,0,0,37,0,109," ",null,null,null,{"$f":"COUNTIF('Classement auteurs'!B:B,C58)","v":1}]
[13,103,132193000401,"Le damier                ",12,13,12,0,0,37,0,49," ",null,null,null,{"$f":"COUNTIF('Classement auteurs'!B:B,C59)","v":1}]
[13,113,131845001401,"L'arbre et la lune       ",12,7,18,0,0,37,0,46," ",null,null,null,{"$f":"COUNTIF('Classement auteurs'!B:B,C60)","v":1}]
[13,120,131956005601,"Saxo                     ",11,14,12,0,0,37,0,16," ",null,null,null,{"$f":"COUNTIF('Classement auteurs'!B:B,C61)","v":1}]
[13,22,131683006301,"La jetée                ",14,9,13,0,0,36,0,71," ",null,null,null,{"$f":"COUNTIF('Classement auteurs'!B:B,C62)","v":1}]
[13,30,132084004001,"La guerre des mondes     ",11,11,14,0,0,36,0,35," ",null,null,null,{"$f":"COUNTIF('Classement auteurs'!B:B,C63)","v":1}]
[13,39,131862001501,"Le solitaire             ",11,10,15,0,0,36,0,116," ",null,null,null,{"$f":"COUNTIF('Classement auteurs'!B:B,C64)","v":1}]
[13,54,131823008301,"Liberté surveillée     ",12,14,10,0,0,36,0,45," ",null,null,null,{"$f":"COUNTIF('Classement auteurs'!B:B,C65)","v":1}]
[13,60,131499003601,"Dans la rue              ",11,12,13,0,0,36,0,37," ",null,null,null,{"$f":"COUNTIF('Classement auteurs'!B:B,C66)","v":1}]
[13,81,131110000901,"Blues man                ",12,14,10,0,0,36,0,65," ",null,null,null,{"$f":"COUNTIF('Classement auteurs'!B:B,C67)","v":1}]
[13,101,131823002301,"Bord de mer              ",10,12,14,0,0,36,0,66," ",null,null,null,{"$f":"COUNTIF('Classement auteurs'!B:B,C68)","v":1}]
[13,108,131353003001,"Chômage technique.      ",13,12,11,0,0,36,0,121," ",null,null,null,{"$f":"COUNTIF('Classement auteurs'!B:B,C69)","v":1}]
[13,109,131845002501,"Canal du centre          ",11,13,12,0,0,36,0,96," ",null,null,null,{"$f":"COUNTIF('Classement auteurs'!B:B,C70)","v":1}]
[13,110,131956004901,"Imploration              ",13,9,14,0,0,36,0,15," ",null,null,null,{"$f":"COUNTIF('Classement auteurs'!B:B,C71)","v":1}]
[13,121,131499006801,"Potier à l'ouvrage      ",10,15,11,0,0,36,0,105," ",null,null,null,{"$f":"COUNTIF('Classement auteurs'!B:B,C72)","v":1}]
[13,14,130925010201,"La chevelure             ",12,12,11,0,0,35,0,56," ",null,null,null,{"$f":"COUNTIF('Classement auteurs'!B:B,C73)","v":1}]
[13,16,132193000701,"Contemplation            ",15,11,9,0,0,35,0,50," ",null,null,null,{"$f":"COUNTIF('Classement auteurs'!B:B,C74)","v":1}]
[13,62,132147000101,"Musique                  ",11,16,8,0,0,35,0,9," ",null,null,null,{"$f":"COUNTIF('Classement auteurs'!B:B,C75)","v":1}]
[13,76,132060001701,"Rêveries                ",9,12,14,0,0,35,0,111," ",null,null,null,{"$f":"COUNTIF('Classement auteurs'!B:B,C76)","v":1}]
[13,83,131879000601,"Urbain le matin          ",11,11,13,0,0,35,0,100," ",null,null,null,{"$f":"COUNTIF('Classement auteurs'!B:B,C77)","v":1}]
[13,123,132060001801,"Timidité...             ",14,13,8,0,0,35,0,12," ",null,null,null,{"$f":"COUNTIF('Classement auteurs'!B:B,C78)","v":1}]
[13,124,131353006101,"Les yeux d'Athéna       ",14,9,12,0,0,35,0,44," ",null,null,null,{"$f":"COUNTIF('Classement auteurs'!B:B,C79)","v":1}]
[13,1,131845000801,"Au fond de l'eau         ",12,8,14,0,0,34,0,29," ",null,null,null,{"$f":"COUNTIF('Classement auteurs'!B:B,C80)","v":1}]
[13,29,131499008701,"Rencontre ...            ",11,10,13,0,0,34,0,19," ",null,null,null,{"$f":"COUNTIF('Classement auteurs'!B:B,C81)","v":1}]
[13,31,131353000201,"Cité des vins à Bordeaux",11,10,13,0,0,34,0,33," ",null,null,null,{"$f":"COUNTIF('Classement auteurs'!B:B,C82)","v":1}]
[13,34,131499005201,"Jumping                  ",12,12,10,0,0,34,0,6," ",null,null,null,{"$f":"COUNTIF('Classement auteurs'!B:B,C83)","v":1}]
[13,48,131823009001,"Feria carmaguaise        ",10,14,10,0,0,34,0,13," ",null,null,null,{"$f":"COUNTIF('Classement auteurs'!B:B,C84)","v":1}]
[13,80,130987023901,"Paradoxe                 ",13,11,10,0,0,34,0,57," ",null,null,null,{"$f":"COUNTIF('Classement auteurs'!B:B,C85)","v":1}]
[13,92,132089000101,"C'est la pause ...       ",13,13,8,0,0,34,0,60," ",null,null,null,{"$f":"COUNTIF('Classement auteurs'!B:B,C86)","v":1}]
[13,95,131619002601,"Sortie en ville          ",10,12,12,0,0,34,0,34," ",null,null,null,{"$f":"COUNTIF('Classement auteurs'!B:B,C87)","v":1}]
[13,13,131376014701,"Souffrance               ",9,11,13,0,0,33,0,7," ",null,null,null,{"$f":"COUNTIF('Classement auteurs'!B:B,C88)","v":1}]
[13,20,131376012601,"Prophétic               ",9,10,14,0,0,33,0,91," ",null,null,null,{"$f":"COUNTIF('Classement auteurs'!B:B,C89)","v":1}]
[13,23,131992000301,"Champ d'échalotes       ",11,9,13,0,0,33,0,4," ",null,null,null,{"$f":"COUNTIF('Classement auteurs'!B:B,C90)","v":1}]
[13,35,130878014101,"Pin-up                   ",14,9,10,0,0,33,0,112," ",null,null,null,{"$f":"COUNTIF('Classement auteurs'!B:B,C91)","v":1}]
[13,42,132086002301,"J'espionne               ",10,10,13,0,0,33,0,31," ",null,null,null,{"$f":"COUNTIF('Classement auteurs'!B:B,C92)","v":1}]
[13,55,131823007701,"Pétrolette              ",12,9,12,0,0,33,0,43," ",null,null,null,{"$f":"COUNTIF('Classement auteurs'!B:B,C93)","v":1}]
[13,70,130878013601,"Reflet dans une tasse de ",10,8,15,0,0,33,0,72," ",null,null,null,{"$f":"COUNTIF('Classement auteurs'!B:B,C94)","v":1}]
[13,88,130987019701,"Coaching                 ",11,14,8,0,0,33,0,123," ",null,null,null,{"$f":"COUNTIF('Classement auteurs'!B:B,C95)","v":1}]
[13,93,132060001201,"Nocturne à la Défense  ",10,11,12,0,0,33,0,70," ",null,null,null,{"$f":"COUNTIF('Classement auteurs'!B:B,C96)","v":1}]
[13,45,131499003901,"La cavalière            ",11,9,12,0,0,32,0,68," ",null,null,null,{"$f":"COUNTIF('Classement auteurs'!B:B,C97)","v":1}]
[13,67,130527015501,"Contre jour2             ",8,9,15,0,0,32,0,80," ",null,null,null,{"$f":"COUNTIF('Classement auteurs'!B:B,C98)","v":1}]
[13,4,132084001701,"Pavés                   ",10,10,11,0,0,31,0,69," ",null,null,null,{"$f":"COUNTIF('Classement auteurs'!B:B,C99)","v":1}]
[13,41,131862003801,"Plage de Piemanson       ",11,9,11,0,0,31,0,48," ",null,null,null,{"$f":"COUNTIF('Classement auteurs'!B:B,C100)","v":1}]
[13,65,132103002301,"Napoli g'ART             ",13,9,9,0,0,31,0,8," ",null,null,null,{"$f":"COUNTIF('Classement auteurs'!B:B,C101)","v":1}]
[13,104,130527011601,"Amour de pierre          ",10,11,10,0,0,31,0,30," ",null,null,null,{"$f":"COUNTIF('Classement auteurs'!B:B,C102)","v":1}]
[13,106,131956001401,"St Pétersbourg l'hiver  ",10,8,13,0,0,31,0,26," ",null,null,null,{"$f":"COUNTIF('Classement auteurs'!B:B,C103)","v":1}]
[13,126,131353006201,"Descente aux flambeaux   ",8,12,11,0,0,31,0,14," ",null,null,null,{"$f":"COUNTIF('Classement auteurs'!B:B,C104)","v":1}]
[13,2,132147000601,"Ours                     ",13,6,11,0,0,30,0,104," ",null,null,null,{"$f":"COUNTIF('Classement auteurs'!B:B,C105)","v":1}]
[13,8,132193000501,"Alphabet                 ",9,10,11,0,0,30,0,2," ",null,null,null,{"$f":"COUNTIF('Classement auteurs'!B:B,C106)","v":1}]
[13,99,130987023201,"Felleng                  ",11,7,12,0,0,30,0,22," ",null,null,null,{"$f":"COUNTIF('Classement auteurs'!B:B,C107)","v":1}]
[13,36,131879001301,"Noir et blanc            ",11,10,8,0,0,29,0,10," ",null,null,null,{"$f":"COUNTIF('Classement auteurs'!B:B,C108)","v":1}]
[13,66,130527002501,"Percheron                ",7,11,11,0,0,29,0,21," ",null,null,null,{"$f":"COUNTIF('Classement auteurs'!B:B,C109)","v":1}]
[13,87,130987019601,"Les yeux d'une mère     ",11,9,9,0,0,29,0,25," ",null,null,null,{"$f":"COUNTIF('Classement auteurs'!B:B,C110)","v":1}]
[13,90,132060000101,"Cimetière Marin         ",8,7,14,0,0,29,0,38," ",null,null,null,{"$f":"COUNTIF('Classement auteurs'!B:B,C111)","v":1}]
[13,91,131956004301,"L'heure de la prière    ",11,7,11,0,0,29,0,54," ",null,null,null,{"$f":"COUNTIF('Classement auteurs'!B:B,C112)","v":1}]
[13,96,131683007601,"Dans l'attente           ",9,8,12,0,0,29,0,95," ",null,null,null,{"$f":"COUNTIF('Classement auteurs'!B:B,C113)","v":1}]
[13,116,132060000901,"La force de la nature    ",10,7,12,0,0,29,0,52," ",null,null,null,{"$f":"COUNTIF('Classement auteurs'!B:B,C114)","v":1}]
[13,117,131683007101,"Les biquettes de jouques ",9,7,13,0,0,29,0,108," ",null,null,null,{"$f":"COUNTIF('Classement auteurs'!B:B,C115)","v":1}]
[13,21,131845003501,"Le voisin nous a quitté ",10,8,10,0,0,28,0,101," ",null,null,null,{"$f":"COUNTIF('Classement auteurs'!B:B,C116)","v":1}]
[13,68,130878013401,"La visite                ",9,9,10,0,0,28,0,79," ",null,null,null,{"$f":"COUNTIF('Classement auteurs'!B:B,C117)","v":1}]
[13,74,132060000701,"Défense d'entrer        ",9,10,9,0,0,28,0,120," ",null,null,null,{"$f":"COUNTIF('Classement auteurs'!B:B,C118)","v":1}]
[13,75,132060002201,"Petite sieste            ",12,9,6,0,0,27,0,11," ",null,null,null,{"$f":"COUNTIF('Classement auteurs'!B:B,C119)","v":1}]
[13,129,131956005701,"Solitude                 ",10,8,9,0,0,27,0,115," ",null,null,null,{"$f":"COUNTIF('Classement auteurs'!B:B,C120)","v":1}]
[13,98,132060002801,"Marabout kaouki          ",12,7,7,0,0,26,0,124," ",null,null,null,{"$f":"COUNTIF('Classement auteurs'!B:B,C121)","v":1}]
[13,128,132060002001,"Suivez les flèches !    ",7,7,12,0,0,26,0,89," ",null,null,null,{"$f":"COUNTIF('Classement auteurs'!B:B,C122)","v":1}]
[13,17,130527019601,"Ile de Goré: les adieux ",8,9,7,0,0,24,0,27," ",null,null,null,{"$f":"COUNTIF('Classement auteurs'!B:B,C123)","v":1}]
[13,72,131992000401,"Jeux de lumière         ",8,7,9,0,0,24,0,74," ",null,null,null,{"$f":"COUNTIF('Classement auteurs'!B:B,C124)","v":1}]
[13,69,131499008201,"Bateau échoué          ",14,6,0,0,0,20,0,63," ",null,null,null,{"$f":"COUNTIF('Classement auteurs'!B:B,C125)","v":1}]
[13,94,132193001201,"Le pied                  ",6,6,6,0,0,18,0,59," ",null,null,null,{"$f":"COUNTIF('Classement auteurs'!B:B,C126)","v":1}]
[null,null,null,null,null,null,null,null,null,null,null,null,null,null,null,null,{"$f":"COUNTIF('Classement auteurs'!B:B,C127)","v":0}]
[null,null,null,null,null,null,null,null,null,null,null,null,null,null,null,null,{"$f":"COUNTIF('Classement auteurs'!B:B,C128)","v":0}]
[null,null,null,null,null,null,null,null,null,null,null,null,null,null,null,null,{"$f":"COUNTIF('Classement auteurs'!B:B,C129)","v":0}]
[null,null,null,null,null,null,null,null,null,null,null,null,null,null,null,null,{"$f":"COUNTIF('Classement auteurs'!B:B,C130)","v":0}]
[null,null,null,null,null,null,null,null,null,null,null,null,null,null,null,null,{"$f":"COUNTIF('Classement auteurs'!B:B,C131)","v":0}]
[null,null,null,null,null,null,null,null,null,null,null,null,null,null,null,null,{"$f":"COUNTIF('Classement auteurs'!B:B,C132)","v":0}]
[null,null,null,null,null,null,null,null,null,null,null,null,null,null,null,null,{"$f":"COUNTIF('Classement auteurs'!B:B,C133)","v":0}]
[null,null,null,null,null,null,null,null,null,null,null,null,null,null,null,null,{"$f":"COUNTIF('Classement auteurs'!B:B,C134)","v":0}]
[null,null,null,null,null,null,null,null,null,null,null,null,null,null,null,null,{"$f":"COUNTIF('Classement auteurs'!B:B,C135)","v":0}]
[null,null,null,null,null,null,null,null,null,null,null,null,null,null,null,null,{"$f":"COUNTIF('Classement auteurs'!B:B,C136)","v":0}]
[null,null,null,null,null,null,null,null,null,null,null,null,null,null,null,null,{"$f":"COUNTIF('Classement auteurs'!B:B,C137)","v":0}]
[null,null,null,null,null,null,null,null,null,null,null,null,null,null,null,null,{"$f":"COUNTIF('Classement auteurs'!B:B,C138)","v":0}]

{"sheet":"xDéfi-8","index":10,"n_rows":138,"n_cols":23,"rows_kept":138,"cut":false,"hidden":false,"merged":[]}
["colis","photologic","fichier","titre","note1","note2","note3","note4","note5","total","place","passage","statut","medaille","retenue",null,"0=absent\n1=présent",null,"fichier","total"]
[13,122,131683008201,"Alysée                  ",19,19,19,0,0,57,0,20," ",null,null,null,{"$f":"COUNTIF('Classement auteurs'!B:B,C2)","v":1},null,130527009401,49,{"$f":"(MID(S2,3,4)*1)","v":527},119,{"$f":"IF($V2=VLOOKUP($U2,'Classement clubs'!$B$2:$K$52,9,FALSE),\"OK\",\"KO\")","v":"OK"}]
[13,85,131353000101,"La chapelle              ",17,20,19,0,0,56,0,67," ",null,null,null,{"$f":"COUNTIF('Classement auteurs'!B:B,C3)","v":1},null,130878007201,44,878,122,{"$f":"IF($V3=VLOOKUP($U3,'Classement clubs'!$B$2:$K$52,9,FALSE),\"OK\",\"KO\")","v":"OK"}]
[13,7,132193000301,"Invitation au voyage     ",19,18,18,0,0,55,0,94," ",null,null,null,{"$f":"COUNTIF('Classement auteurs'!B:B,C4)","v":1},null,131353000101,56,1353,135,{"$f":"IF($V4=VLOOKUP($U4,'Classement clubs'!$B$2:$K$52,9,FALSE),\"OK\",\"KO\")","v":"OK"}]
[13,11,131985003401,"Jeune fille himbas       ",20,16,18,0,0,54,0,118," ",null,null,null,{"$f":"COUNTIF('Classement auteurs'!B:B,C5)","v":1},null,131376017701,47,1376,122,{"$f":"IF($V5=VLOOKUP($U5,'Classement clubs'!$B$2:$K$52,9,FALSE),\"OK\",\"KO\")","v":"OK"}]
[13,6,130987015701,"Orage                    ",19,16,17,0,0,52,0,23," ",null,null,null,{"$f":"COUNTIF('Classement auteurs'!B:B,C6)","v":1},null,131499009301,39,1499,111,{"$f":"IF($V6=VLOOKUP($U6,'Classement clubs'!$B$2:$K$52,9,FALSE),\"OK\",\"KO\")","v":"OK"}]
[13,107,131956004601,"L'homme de pierre        ",17,17,18,0,0,52,0,76," ",null,null,null,{"$f":"COUNTIF('Classement auteurs'!B:B,C7)","v":1},null,131619002601,34,1619,124,{"$f":"IF($V7=VLOOKUP($U7,'Classement clubs'!$B$2:$K$52,9,FALSE),\"OK\",\"KO\")","v":"OK"}]
[13,26,130987013801,"Championnat de France de ",18,17,16,0,0,51,0,122," ",null,null,null,{"$f":"COUNTIF('Classement auteurs'!B:B,C8)","v":1},null,131683008201,57,1683,147,{"$f":"IF($V8=VLOOKUP($U8,'Classement clubs'!$B$2:$K$52,9,FALSE),\"OK\",\"KO\")","v":"OK"}]
[13,53,131845000101,"Ponton                   ",17,17,16,0,0,50,0,39," ",null,null,null,{"$f":"COUNTIF('Classement auteurs'!B:B,C9)","v":1},null,131823004901,43,1823,123,{"$f":"IF($V9=VLOOKUP($U9,'Classement clubs'!$B$2:$K$52,9,FALSE),\"OK\",\"KO\")","v":"OK"}]
[13,100,130527009401,"La route                 ",14,16,19,0,0,49,0,28," ",null,null,null,{"$f":"COUNTIF('Classement auteurs'!B:B,C10)","v":1},null,131845000101,50,1845,132,{"$f":"IF($V10=VLOOKUP($U10,'Classement clubs'!$B$2:$K$52,9,FALSE),\"OK\",\"KO\")","v":"OK"}]
[13,115,131683008101,"La cascade du roy        ",16,15,17,0,0,48,0,88," ",null,null,null,{"$f":"COUNTIF('Classement auteurs'!B:B,C11)","v":1},null,131862001601,43,1862,116,{"$f":"IF($V11=VLOOKUP($U11,'Classement clubs'!$B$2:$K$52,9,FALSE),\"OK\",\"KO\")","v":"OK"}]
[13,3,132103000401,"Sort-tu es toujours atten",18,15,14,0,0,47,0,40," ",null,null,null,{"$f":"COUNTIF('Classement auteurs'!B:B,C12)","v":1},null,131879000801,44,1879,119,{"$f":"IF($V12=VLOOKUP($U12,'Classement clubs'!$B$2:$K$52,9,FALSE),\"OK\",\"KO\")","v":"OK"}]
[13,5,132003002201,"Ubiquité.               ",20,10,17,0,0,47,0,47," ",null,null,null,{"$f":"COUNTIF('Classement auteurs'!B:B,C13)","v":1},null,131956004601,52,1956,139,{"$f":"IF($V13=VLOOKUP($U13,'Classement clubs'!$B$2:$K$52,9,FALSE),\"OK\",\"KO\")","v":"OK"}]
[13,15,131376017701,"Sprint final             ",15,19,13,0,0,47,0,103," ",null,null,null,{"$f":"COUNTIF('Classement auteurs'!B:B,C14)","v":1},null,131992000301,33,1992,97,{"$f":"IF($V14=VLOOKUP($U14,'Classement clubs'!$B$2:$K$52,9,FALSE),\"OK\",\"KO\")","v":"OK"}]
[13,125,131619004501,"L'echelle                ",13,14,20,0,0,47,0,58," ",null,null,null,{"$f":"COUNTIF('Classement auteurs'!B:B,C15)","v":1},null,132060002101,41,2060,115,{"$f":"IF($V15=VLOOKUP($U15,'Classement clubs'!$B$2:$K$52,9,FALSE),\"OK\",\"KO\")","v":"OK"}]
[13,37,131824001901,"Mini'Home                ",14,14,17,0,0,45,0,83," ",null,null,null,{"$f":"COUNTIF('Classement auteurs'!B:B,C16)","v":1},null,132084001701,31,2084,111,{"$f":"IF($V16=VLOOKUP($U16,'Classement clubs'!$B$2:$K$52,9,FALSE),\"OK\",\"KO\")","v":"OK"}]
[13,46,131845000901,"Concert acrobatique      ",18,14,13,0,0,45,0,1," ",null,null,null,{"$f":"COUNTIF('Classement auteurs'!B:B,C17)","v":1},null,132193000301,55,2193,129,{"$f":"IF($V17=VLOOKUP($U17,'Classement clubs'!$B$2:$K$52,9,FALSE),\"OK\",\"KO\")","v":"OK"}]
[13,56,130878007201,"Ibrahima                 ",17,13,14,0,0,44,0,73," ",null,null,null,{"$f":"COUNTIF('Classement auteurs'!B:B,C18)","v":1}]
[13,63,132084004801,"Père & Fils             ",14,11,19,0,0,44,0,82," ",null,null,null,{"$f":"COUNTIF('Classement auteurs'!B:B,C19)","v":1}]
[13,82,131879000801,"Madone                   ",14,14,16,0,0,44,0,41," ",null,null,null,{"$f":"COUNTIF('Classement auteurs'!B:B,C20)","v":1}]
[13,112,131956006201,"Promenade en terrasse    ",12,16,16,0,0,44,0,75," ",null,null,null,{"$f":"COUNTIF('Classement auteurs'!B:B,C21)","v":1}]
[13,27,130987024201,"Back in black            ",16,12,15,0,0,43,0,119," ",null,null,null,{"$f":"COUNTIF('Classement auteurs'!B:B,C22)","v":1}]
[13,44,131823007601,"Spirale                  ",15,13,15,0,0,43,0,114," ",null,null,null,{"$f":"COUNTIF('Classement auteurs'!B:B,C23)","v":1}]
[13,51,131823004901,"Evanescence              ",12,16,15,0,0,43,0,93," ",null,null,null,{"$f":"COUNTIF('Classement auteurs'!B:B,C24)","v":1}]
[13,58,131985003601,"Vino                     ",14,12,17,0,0,43,0,55," ",null,null,null,{"$f":"COUNTIF('Classement auteurs'!B:B,C25)","v":1}]
[13,64,131619004601,"Marche à l'ombre        ",12,15,16,0,0,43,0,81," ",null,null,null,{"$f":"COUNTIF('Classement auteurs'!B:B,C26)","v":1}]
[13,119,131956002601,"Trace                    ",11,15,17,0,0,43,0,99," ",null,null,null,{"$f":"COUNTIF('Classement auteurs'!B:B,C27)","v":1}]
[13,127,131862001601,"Vers l'orage             ",17,9,17,0,0,43,0,102," ",null,null,null,{"$f":"COUNTIF('Classement auteurs'!B:B,C28)","v":1}]
[13,10,131956004501,"La souche                ",10,14,18,0,0,42,0,62," ",null,null,null,{"$f":"COUNTIF('Classement auteurs'!B:B,C29)","v":1}]
[13,12,131376018301,"La penseuse !            ",12,14,16,0,0,42,0,42," ",null,null,null,{"$f":"COUNTIF('Classement auteurs'!B:B,C30)","v":1}]
[13,97,131683007901,"Tête d'oeuf             ",13,11,18,0,0,42,0,117," ",null,null,null,{"$f":"COUNTIF('Classement auteurs'!B:B,C31)","v":1}]
[13,114,131956002401,"Grand Mère              ",13,15,14,0,0,42,0,24," ",null,null,null,{"$f":"COUNTIF('Classement auteurs'!B:B,C32)","v":1}]
[13,9,130000015001,"Vu                       ",15,14,12,0,0,41,0,53," ",null,null,null,{"$f":"COUNTIF('Classement auteurs'!B:B,C33)","v":1}]
[13,40,130000020401,"Alcôve                  ",13,13,15,0,0,41,0,51," ",null,null,null,{"$f":"COUNTIF('Classement auteurs'!B:B,C34)","v":1}]
[13,86,131353000701,"Sous la pluie            ",14,12,15,0,0,41,0,3," ",null,null,null,{"$f":"COUNTIF('Classement auteurs'!B:B,C35)","v":1}]
[13,89,132060002101,"Pont araignée sur le Rhon",14,12,15,0,0,41,0,107," ",null,null,null,{"$f":"COUNTIF('Classement auteurs'!B:B,C36)","v":1}]
[13,105,131683006601,"Comme un génie          ",14,13,14,0,0,41,0,78," ",null,null,null,{"$f":"COUNTIF('Classement auteurs'!B:B,C37)","v":1}]
[13,111,131956000401,"Westminster              ",14,12,15,0,0,41,0,86," ",null,null,null,{"$f":"COUNTIF('Classement auteurs'!B:B,C38)","v":1}]
[13,32,131879000101,"Vite!                    ",12,12,16,0,0,40,0,77," ",null,null,null,{"$f":"COUNTIF('Classement auteurs'!B:B,C39)","v":1}]
[13,38,131992000901,"Le passage               ",13,15,12,0,0,40,0,85," ",null,null,null,{"$f":"COUNTIF('Classement auteurs'!B:B,C40)","v":1}]
[13,130,131956005401,"Graphisme urbain         ",16,12,12,0,0,40,0,90," ",null,null,null,{"$f":"COUNTIF('Classement auteurs'!B:B,C41)","v":1}]
[13,24,130878015201,"Rêverie                 ",15,13,11,0,0,39,0,125," ",null,null,null,{"$f":"COUNTIF('Classement auteurs'!B:B,C42)","v":1}]
[13,28,130987024101,"Peu ou proue...          ",13,15,11,0,0,39,0,36," ",null,null,null,{"$f":"COUNTIF('Classement auteurs'!B:B,C43)","v":1}]
[13,33,131499009301,"Chemin de traverse       ",12,14,13,0,0,39,0,113," ",null,null,null,{"$f":"COUNTIF('Classement auteurs'!B:B,C44)","v":1}]
[13,49,130878013001,"Complices                ",13,15,11,0,0,39,0,110," ",null,null,null,{"$f":"COUNTIF('Classement auteurs'!B:B,C45)","v":1}]
[13,57,130878015701,"Damien                   ",12,14,13,0,0,39,0,61," ",null,null,null,{"$f":"COUNTIF('Classement auteurs'!B:B,C46)","v":1}]
[13,77,131956006001,"Le vieux port en mouvemen",10,13,16,0,0,39,0,98," ",null,null,null,{"$f":"COUNTIF('Classement auteurs'!B:B,C47)","v":1}]
[13,118,132060000401,"Pont de dentelle         ",11,12,16,0,0,39,0,84," ",null,null,null,{"$f":"COUNTIF('Classement auteurs'!B:B,C48)","v":1}]
[13,50,131683005101,"Le buron oublié         ",11,14,13,0,0,38,0,87," ",null,null,null,{"$f":"COUNTIF('Classement auteurs'!B:B,C49)","v":1}]
[13,61,130527012401,"Fillette avec ses poisson",12,12,14,0,0,38,0,106," ",null,null,null,{"$f":"COUNTIF('Classement auteurs'!B:B,C50)","v":1}]
[13,84,131353004301,"Tombes de sable          ",15,7,16,0,0,38,0,17," ",null,null,null,{"$f":"COUNTIF('Classement auteurs'!B:B,C51)","v":1}]
[13,25,132193000801,"Au marché provencale    ",12,12,13,0,0,37,0,5," ",null,null,null,{"$f":"COUNTIF('Classement auteurs'!B:B,C52)","v":1}]
[13,43,131956005501,"En montant à notre Dame d",13,10,14,0,0,37,0,97," ",null,null,null,{"$f":"COUNTIF('Classement auteurs'!B:B,C53)","v":1}]
[13,47,130000019901,"Barques                  ",12,13,12,0,0,37,0,92," ",null,null,null,{"$f":"COUNTIF('Classement auteurs'!B:B,C54)","v":1}]
[13,52,131824000201,"Cubissime                ",14,12,11,0,0,37,0,18," ",null,null,null,{"$f":"COUNTIF('Classement auteurs'!B:B,C55)","v":1}]
[13,59,131862002201,"Imploration              ",16,11,10,0,0,37,0,64," ",null,null,null,{"$f":"COUNTIF('Classement auteurs'!B:B,C56)","v":1}]
[13,78,130987024001,"L'orage arrive           ",12,11,14,0,0,37,0,32," ",null,null,null,{"$f":"COUNTIF('Classement auteurs'!B:B,C57)","v":1}]
[13,102,131823005701,"Voile                    ",13,10,14,0,0,37,0,109," ",null,null,null,{"$f":"COUNTIF('Classement auteurs'!B:B,C58)","v":1}]
[13,103,132193000401,"Le damier                ",12,13,12,0,0,37,0,49," ",null,null,null,{"$f":"COUNTIF('Classement auteurs'!B:B,C59)","v":1}]
[13,113,131845001401,"L'arbre et la lune       ",12,7,18,0,0,37,0,46," ",null,null,null,{"$f":"COUNTIF('Classement auteurs'!B:B,C60)","v":1}]
[13,120,131956005601,"Saxo                     ",11,14,12,0,0,37,0,16," ",null,null,null,{"$f":"COUNTIF('Classement auteurs'!B:B,C61)","v":1}]
[13,22,131683006301,"La jetée                ",14,9,13,0,0,36,0,71," ",null,null,null,{"$f":"COUNTIF('Classement auteurs'!B:B,C62)","v":1}]
[13,30,132084004001,"La guerre des mondes     ",11,11,14,0,0,36,0,35," ",null,null,null,{"$f":"COUNTIF('Classement auteurs'!B:B,C63)","v":1}]
[13,39,131862001501,"Le solitaire             ",11,10,15,0,0,36,0,116," ",null,null,null,{"$f":"COUNTIF('Classement auteurs'!B:B,C64)","v":1}]
[13,54,131823008301,"Liberté surveillée     ",12,14,10,0,0,36,0,45," ",null,null,null,{"$f":"COUNTIF('Classement auteurs'!B:B,C65)","v":1}]
[13,60,131499003601,"Dans la rue              ",11,12,13,0,0,36,0,37," ",null,null,null,{"$f":"COUNTIF('Classement auteurs'!B:B,C66)","v":1}]
[13,81,131110000901,"Blues man                ",12,14,10,0,0,36,0,65," ",null,null,null,{"$f":"COUNTIF('Classement auteurs'!B:B,C67)","v":1}]
[13,101,131823002301,"Bord de mer              ",10,12,14,0,0,36,0,66," ",null,null,null,{"$f":"COUNTIF('Classement auteurs'!B:B,C68)","v":1}]
[13,108,131353003001,"Chômage technique.      ",13,12,11,0,0,36,0,121," ",null,null,null,{"$f":"COUNTIF('Classement auteurs'!B:B,C69)","v":1}]
[13,109,131845002501,"Canal du centre          ",11,13,12,0,0,36,0,96," ",null,null,null,{"$f":"COUNTIF('Classement auteurs'!B:B,C70)","v":1}]
[13,110,131956004901,"Imploration              ",13,9,14,0,0,36,0,15," ",null,null,null,{"$f":"COUNTIF('Classement auteurs'!B:B,C71)","v":1}]
[13,121,131499006801,"Potier à l'ouvrage      ",10,15,11,0,0,36,0,105," ",null,null,null,{"$f":"COUNTIF('Classement auteurs'!B:B,C72)","v":1}]
[13,14,130925010201,"La chevelure             ",12,12,11,0,0,35,0,56," ",null,null,null,{"$f":"COUNTIF('Classement auteurs'!B:B,C73)","v":1}]
[13,16,132193000701,"Contemplation            ",15,11,9,0,0,35,0,50," ",null,null,null,{"$f":"COUNTIF('Classement auteurs'!B:B,C74)","v":1}]
[13,62,132147000101,"Musique                  ",11,16,8,0,0,35,0,9," ",null,null,null,{"$f":"COUNTIF('Classement auteurs'!B:B,C75)","v":1}]
[13,76,132060001701,"Rêveries                ",9,12,14,0,0,35,0,111," ",null,null,null,{"$f":"COUNTIF('Classement auteurs'!B:B,C76)","v":1}]
[13,83,131879000601,"Urbain le matin          ",11,11,13,0,0,35,0,100," ",null,null,null,{"$f":"COUNTIF('Classement auteurs'!B:B,C77)","v":1}]
[13,123,132060001801,"Timidité...             ",14,13,8,0,0,35,0,12," ",null,null,null,{"$f":"COUNTIF('Classement auteurs'!B:B,C78)","v":1}]
[13,124,131353006101,"Les yeux d'Athéna       ",14,9,12,0,0,35,0,44," ",null,null,null,{"$f":"COUNTIF('Classement auteurs'!B:B,C79)","v":1}]
[13,1,131845000801,"Au fond de l'eau         ",12,8,14,0,0,34,0,29," ",null,null,null,{"$f":"COUNTIF('Classement auteurs'!B:B,C80)","v":1}]
[13,29,131499008701,"Rencontre ...            ",11,10,13,0,0,34,0,19," ",null,null,null,{"$f":"COUNTIF('Classement auteurs'!B:B,C81)","v":1}]
[13,31,131353000201,"Cité des vins à Bordeaux",11,10,13,0,0,34,0,33," ",null,null,null,{"$f":"COUNTIF('Classement auteurs'!B:B,C82)","v":1}]
[13,34,131499005201,"Jumping                  ",12,12,10,0,0,34,0,6," ",null,null,null,{"$f":"COUNTIF('Classement auteurs'!B:B,C83)","v":1}]
[13,48,131823009001,"Feria carmaguaise        ",10,14,10,0,0,34,0,13," ",null,null,null,{"$f":"COUNTIF('Classement auteurs'!B:B,C84)","v":1}]
[13,80,130987023901,"Paradoxe                 ",13,11,10,0,0,34,0,57," ",null,null,null,{"$f":"COUNTIF('Classement auteurs'!B:B,C85)","v":1}]
[13,92,132089000101,"C'est la pause ...       ",13,13,8,0,0,34,0,60," ",null,null,null,{"$f":"COUNTIF('Classement auteurs'!B:B,C86)","v":1}]
[13,95,131619002601,"Sortie en ville          ",10,12,12,0,0,34,0,34," ",null,null,null,{"$f":"COUNTIF('Classement auteurs'!B:B,C87)","v":1}]
[13,13,131376014701,"Souffrance               ",9,11,13,0,0,33,0,7," ",null,null,null,{"$f":"COUNTIF('Classement auteurs'!B:B,C88)","v":1}]
[13,20,131376012601,"Prophétic               ",9,10,14,0,0,33,0,91," ",null,null,null,{"$f":"COUNTIF('Classement auteurs'!B:B,C89)","v":1}]
[13,23,131992000301,"Champ d'échalotes       ",11,9,13,0,0,33,0,4," ",null,null,null,{"$f":"COUNTIF('Classement auteurs'!B:B,C90)","v":1}]
[13,35,130878014101,"Pin-up                   ",14,9,10,0,0,33,0,112," ",null,null,null,{"$f":"COUNTIF('Classement auteurs'!B:B,C91)","v":1}]
[13,42,132086002301,"J'espionne               ",10,10,13,0,0,33,0,31," ",null,null,null,{"$f":"COUNTIF('Classement auteurs'!B:B,C92)","v":1}]
[13,55,131823007701,"Pétrolette              ",12,9,12,0,0,33,0,43," ",null,null,null,{"$f":"COUNTIF('Classement auteurs'!B:B,C93)","v":1}]
[13,70,130878013601,"Reflet dans une tasse de ",10,8,15,0,0,33,0,72," ",null,null,null,{"$f":"COUNTIF('Classement auteurs'!B:B,C94)","v":1}]
[13,88,130987019701,"Coaching                 ",11,14,8,0,0,33,0,123," ",null,null,null,{"$f":"COUNTIF('Classement auteurs'!B:B,C95)","v":1}]
[13,93,132060001201,"Nocturne à la Défense  ",10,11,12,0,0,33,0,70," ",null,null,null,{"$f":"COUNTIF('Classement auteurs'!B:B,C96)","v":1}]
[13,45,131499003901,"La cavalière            ",11,9,12,0,0,32,0,68," ",null,null,null,{"$f":"COUNTIF('Classement auteurs'!B:B,C97)","v":1}]
[13,67,130527015501,"Contre jour2             ",8,9,15,0,0,32,0,80," ",null,null,null,{"$f":"COUNTIF('Classement auteurs'!B:B,C98)","v":1}]
[13,4,132084001701,"Pavés                   ",10,10,11,0,0,31,0,69," ",null,null,null,{"$f":"COUNTIF('Classement auteurs'!B:B,C99)","v":1}]
[13,41,131862003801,"Plage de Piemanson       ",11,9,11,0,0,31,0,48," ",null,null,null,{"$f":"COUNTIF('Classement auteurs'!B:B,C100)","v":1}]
[13,65,132103002301,"Napoli g'ART             ",13,9,9,0,0,31,0,8," ",null,null,null,{"$f":"COUNTIF('Classement auteurs'!B:B,C101)","v":1}]
[13,104,130527011601,"Amour de pierre          ",10,11,10,0,0,31,0,30," ",null,null,null,{"$f":"COUNTIF('Classement auteurs'!B:B,C102)","v":1}]
[13,106,131956001401,"St Pétersbourg l'hiver  ",10,8,13,0,0,31,0,26," ",null,null,null,{"$f":"COUNTIF('Classement auteurs'!B:B,C103)","v":1}]
[13,126,131353006201,"Descente aux flambeaux   ",8,12,11,0,0,31,0,14," ",null,null,null,{"$f":"COUNTIF('Classement auteurs'!B:B,C104)","v":1}]
[13,2,132147000601,"Ours                     ",13,6,11,0,0,30,0,104," ",null,null,null,{"$f":"COUNTIF('Classement auteurs'!B:B,C105)","v":1}]
[13,8,132193000501,"Alphabet                 ",9,10,11,0,0,30,0,2," ",null,null,null,{"$f":"COUNTIF('Classement auteurs'!B:B,C106)","v":1}]
[13,99,130987023201,"Felleng                  ",11,7,12,0,0,30,0,22," ",null,null,null,{"$f":"COUNTIF('Classement auteurs'!B:B,C107)","v":1}]
[13,36,131879001301,"Noir et blanc            ",11,10,8,0,0,29,0,10," ",null,null,null,{"$f":"COUNTIF('Classement auteurs'!B:B,C108)","v":1}]
[13,66,130527002501,"Percheron                ",7,11,11,0,0,29,0,21," ",null,null,null,{"$f":"COUNTIF('Classement auteurs'!B:B,C109)","v":1}]
[13,87,130987019601,"Les yeux d'une mère     ",11,9,9,0,0,29,0,25," ",null,null,null,{"$f":"COUNTIF('Classement auteurs'!B:B,C110)","v":1}]
[13,90,132060000101,"Cimetière Marin         ",8,7,14,0,0,29,0,38," ",null,null,null,{"$f":"COUNTIF('Classement auteurs'!B:B,C111)","v":1}]
[13,91,131956004301,"L'heure de la prière    ",11,7,11,0,0,29,0,54," ",null,null,null,{"$f":"COUNTIF('Classement auteurs'!B:B,C112)","v":1}]
[13,96,131683007601,"Dans l'attente           ",9,8,12,0,0,29,0,95," ",null,null,null,{"$f":"COUNTIF('Classement auteurs'!B:B,C113)","v":1}]
[13,116,132060000901,"La force de la nature    ",10,7,12,0,0,29,0,52," ",null,null,null,{"$f":"COUNTIF('Classement auteurs'!B:B,C114)","v":1}]
[13,117,131683007101,"Les biquettes de jouques ",9,7,13,0,0,29,0,108," ",null,null,null,{"$f":"COUNTIF('Classement auteurs'!B:B,C115)","v":1}]
[13,21,131845003501,"Le voisin nous a quitté ",10,8,10,0,0,28,0,101," ",null,null,null,{"$f":"COUNTIF('Classement auteurs'!B:B,C116)","v":1}]
[13,68,130878013401,"La visite                ",9,9,10,0,0,28,0,79," ",null,null,null,{"$f":"COUNTIF('Classement auteurs'!B:B,C117)","v":1}]
[13,74,132060000701,"Défense d'entrer        ",9,10,9,0,0,28,0,120," ",null,null,null,{"$f":"COUNTIF('Classement auteurs'!B:B,C118)","v":1}]
[13,75,132060002201,"Petite sieste            ",12,9,6,0,0,27,0,11," ",null,null,null,{"$f":"COUNTIF('Classement auteurs'!B:B,C119)","v":1}]
[13,129,131956005701,"Solitude                 ",10,8,9,0,0,27,0,115," ",null,null,null,{"$f":"COUNTIF('Classement auteurs'!B:B,C120)","v":1}]
[13,98,132060002801,"Marabout kaouki          ",12,7,7,0,0,26,0,124," ",null,null,null,{"$f":"COUNTIF('Classement auteurs'!B:B,C121)","v":1}]
[13,128,132060002001,"Suivez les flèches !    ",7,7,12,0,0,26,0,89," ",null,null,null,{"$f":"COUNTIF('Classement auteurs'!B:B,C122)","v":1}]
[13,17,130527019601,"Ile de Goré: les adieux ",8,9,7,0,0,24,0,27," ",null,null,null,{"$f":"COUNTIF('Classement auteurs'!B:B,C123)","v":1}]
[13,72,131992000401,"Jeux de lumière         ",8,7,9,0,0,24,0,74," ",null,null,null,{"$f":"COUNTIF('Classement auteurs'!B:B,C124)","v":1}]
[13,69,131499008201,"Bateau échoué          ",14,6,0,0,0,20,0,63," ",null,null,null,{"$f":"COUNTIF('Classement auteurs'!B:B,C125)","v":1}]
[13,94,132193001201,"Le pied                  ",6,6,6,0,0,18,0,59," ",null,null,null,{"$f":"COUNTIF('Classement auteurs'!B:B,C126)","v":1}]
[null,null,null,null,null,null,null,null,null,null,null,null,null,null,null,null,{"$f":"COUNTIF('Classement auteurs'!B:B,C127)","v":0}]
[null,null,null,null,null,null,null,null,null,null,null,null,null,null,null,null,{"$f":"COUNTIF('Classement auteurs'!B:B,C128)","v":0}]
[null,null,null,null,null,null,null,null,null,null,null,null,null,null,null,null,{"$f":"COUNTIF('Classement auteurs'!B:B,C129)","v":0}]
[null,null,null,null,null,null,null,null,null,null,null,null,null,null,null,null,{"$f":"COUNTIF('Classement auteurs'!B:B,C130)","v":0}]
[null,null,null,null,null,null,null,null,null,null,null,null,null,null,null,null,{"$f":"COUNTIF('Classement auteurs'!B:B,C131)","v":0}]
[null,null,null,null,null,null,null,null,null,null,null,null,null,null,null,null,{"$f":"COUNTIF('Classement auteurs'!B:B,C132)","v":0}]
[null,null,null,null,null,null,null,null,null,null,null,null,null,null,null,null,{"$f":"COUNTIF('Classement auteurs'!B:B,C133)","v":0}]
[null,null,null,null,null,null,null,null,null,null,null,null,null,null,null,null,{"$f":"COUNTIF('Classement auteurs'!B:B,C134)","v":0}]
[null,null,null,null,null,null,null,null,null,null,null,null,null,null,null,null,{"$f":"COUNTIF('Classement auteurs'!B:B,C135)","v":0}]
[null,null,null,null,null,null,null,null,null,null,null,null,null,null,null,null,{"$f":"COUNTIF('Classement auteurs'!B:B,C136)","v":0}]
[null,null,null,null,null,null,null,null,null,null,null,null,null,null,null,null,{"$f":"COUNTIF('Classement auteurs'!B:B,C137)","v":0}]
[null,null,null,null,null,null,null,null,null,null,null,null,null,null,null,null,{"$f":"COUNTIF('Classement auteurs'!B:B,C138)","v":0}]

{"sheet":"xDéfi-9","index":11,"n_rows":138,"n_cols":23,"rows_kept":138,"cut":false,"hidden":false,"merged":[]}
["colis","photologic","fichier","titre","note1","note2","note3","note4","note5","total","place","passage","statut","medaille","retenue",null,"0=absent\n1=présent",null,"fichier","total"]
[13,122,131683008201,"Alysée                  ",19,19,19,0,0,57,0,20," ",null,null,null,{"$f":"COUNTIF('Classement auteurs'!B:B,C2)","v":1},null,130527009401,49,{"$f":"(MID(S2,3,4)*1)","v":527},119,{"$f":"IF($V2=VLOOKUP($U2,'Classement clubs'!$B$2:$K$52,9,FALSE),\"OK\",\"KO\")","v":"OK"}]
[13,85,131353000101,"La chapelle              ",17,20,19,0,0,56,0,67," ",null,null,null,{"$f":"COUNTIF('Classement auteurs'!B:B,C3)","v":1},null,130878007201,44,878,122,{"$f":"IF($V3=VLOOKUP($U3,'Classement clubs'!$B$2:$K$52,9,FALSE),\"OK\",\"KO\")","v":"OK"}]
[13,7,132193000301,"Invitation au voyage     ",19,18,18,0,0,55,0,94," ",null,null,null,{"$f":"COUNTIF('Classement auteurs'!B:B,C4)","v":1},null,131353000101,56,1353,135,{"$f":"IF($V4=VLOOKUP($U4,'Classement clubs'!$B$2:$K$52,9,FALSE),\"OK\",\"KO\")","v":"OK"}]
[13,11,131985003401,"Jeune fille himbas       ",20,16,18,0,0,54,0,118," ",null,null,null,{"$f":"COUNTIF('Classement auteurs'!B:B,C5)","v":1},null,131376017701,47,1376,122,{"$f":"IF($V5=VLOOKUP($U5,'Classement clubs'!$B$2:$K$52,9,FALSE),\"OK\",\"KO\")","v":"OK"}]
[13,6,130987015701,"Orage                    ",19,16,17,0,0,52,0,23," ",null,null,null,{"$f":"COUNTIF('Classement auteurs'!B:B,C6)","v":1},null,131499009301,39,1499,111,{"$f":"IF($V6=VLOOKUP($U6,'Classement clubs'!$B$2:$K$52,9,FALSE),\"OK\",\"KO\")","v":"OK"}]
[13,107,131956004601,"L'homme de pierre        ",17,17,18,0,0,52,0,76," ",null,null,null,{"$f":"COUNTIF('Classement auteurs'!B:B,C7)","v":1},null,131619002601,34,1619,124,{"$f":"IF($V7=VLOOKUP($U7,'Classement clubs'!$B$2:$K$52,9,FALSE),\"OK\",\"KO\")","v":"OK"}]
[13,26,130987013801,"Championnat de France de ",18,17,16,0,0,51,0,122," ",null,null,null,{"$f":"COUNTIF('Classement auteurs'!B:B,C8)","v":1},null,131683008201,57,1683,147,{"$f":"IF($V8=VLOOKUP($U8,'Classement clubs'!$B$2:$K$52,9,FALSE),\"OK\",\"KO\")","v":"OK"}]
[13,53,131845000101,"Ponton                   ",17,17,16,0,0,50,0,39," ",null,null,null,{"$f":"COUNTIF('Classement auteurs'!B:B,C9)","v":1},null,131823004901,43,1823,123,{"$f":"IF($V9=VLOOKUP($U9,'Classement clubs'!$B$2:$K$52,9,FALSE),\"OK\",\"KO\")","v":"OK"}]
[13,100,130527009401,"La route                 ",14,16,19,0,0,49,0,28," ",null,null,null,{"$f":"COUNTIF('Classement auteurs'!B:B,C10)","v":1},null,131845000101,50,1845,132,{"$f":"IF($V10=VLOOKUP($U10,'Classement clubs'!$B$2:$K$52,9,FALSE),\"OK\",\"KO\")","v":"OK"}]
[13,115,131683008101,"La cascade du roy        ",16,15,17,0,0,48,0,88," ",null,null,null,{"$f":"COUNTIF('Classement auteurs'!B:B,C11)","v":1},null,131862001601,43,1862,116,{"$f":"IF($V11=VLOOKUP($U11,'Classement clubs'!$B$2:$K$52,9,FALSE),\"OK\",\"KO\")","v":"OK"}]
[13,3,132103000401,"Sort-tu es toujours atten",18,15,14,0,0,47,0,40," ",null,null,null,{"$f":"COUNTIF('Classement auteurs'!B:B,C12)","v":1},null,131879000801,44,1879,119,{"$f":"IF($V12=VLOOKUP($U12,'Classement clubs'!$B$2:$K$52,9,FALSE),\"OK\",\"KO\")","v":"OK"}]
[13,5,132003002201,"Ubiquité.               ",20,10,17,0,0,47,0,47," ",null,null,null,{"$f":"COUNTIF('Classement auteurs'!B:B,C13)","v":1},null,131956004601,52,1956,139,{"$f":"IF($V13=VLOOKUP($U13,'Classement clubs'!$B$2:$K$52,9,FALSE),\"OK\",\"KO\")","v":"OK"}]
[13,15,131376017701,"Sprint final             ",15,19,13,0,0,47,0,103," ",null,null,null,{"$f":"COUNTIF('Classement auteurs'!B:B,C14)","v":1},null,131992000301,33,1992,97,{"$f":"IF($V14=VLOOKUP($U14,'Classement clubs'!$B$2:$K$52,9,FALSE),\"OK\",\"KO\")","v":"OK"}]
[13,125,131619004501,"L'echelle                ",13,14,20,0,0,47,0,58," ",null,null,null,{"$f":"COUNTIF('Classement auteurs'!B:B,C15)","v":1},null,132060002101,41,2060,115,{"$f":"IF($V15=VLOOKUP($U15,'Classement clubs'!$B$2:$K$52,9,FALSE),\"OK\",\"KO\")","v":"OK"}]
[13,37,131824001901,"Mini'Home                ",14,14,17,0,0,45,0,83," ",null,null,null,{"$f":"COUNTIF('Classement auteurs'!B:B,C16)","v":1},null,132084001701,31,2084,111,{"$f":"IF($V16=VLOOKUP($U16,'Classement clubs'!$B$2:$K$52,9,FALSE),\"OK\",\"KO\")","v":"OK"}]
[13,46,131845000901,"Concert acrobatique      ",18,14,13,0,0,45,0,1," ",null,null,null,{"$f":"COUNTIF('Classement auteurs'!B:B,C17)","v":1},null,132193000301,55,2193,129,{"$f":"IF($V17=VLOOKUP($U17,'Classement clubs'!$B$2:$K$52,9,FALSE),\"OK\",\"KO\")","v":"OK"}]
[13,56,130878007201,"Ibrahima                 ",17,13,14,0,0,44,0,73," ",null,null,null,{"$f":"COUNTIF('Classement auteurs'!B:B,C18)","v":1}]
[13,63,132084004801,"Père & Fils             ",14,11,19,0,0,44,0,82," ",null,null,null,{"$f":"COUNTIF('Classement auteurs'!B:B,C19)","v":1}]
[13,82,131879000801,"Madone                   ",14,14,16,0,0,44,0,41," ",null,null,null,{"$f":"COUNTIF('Classement auteurs'!B:B,C20)","v":1}]
[13,112,131956006201,"Promenade en terrasse    ",12,16,16,0,0,44,0,75," ",null,null,null,{"$f":"COUNTIF('Classement auteurs'!B:B,C21)","v":1}]
[13,27,130987024201,"Back in black            ",16,12,15,0,0,43,0,119," ",null,null,null,{"$f":"COUNTIF('Classement auteurs'!B:B,C22)","v":1}]
[13,44,131823007601,"Spirale                  ",15,13,15,0,0,43,0,114," ",null,null,null,{"$f":"COUNTIF('Classement auteurs'!B:B,C23)","v":1}]
[13,51,131823004901,"Evanescence              ",12,16,15,0,0,43,0,93," ",null,null,null,{"$f":"COUNTIF('Classement auteurs'!B:B,C24)","v":1}]
[13,58,131985003601,"Vino                     ",14,12,17,0,0,43,0,55," ",null,null,null,{"$f":"COUNTIF('Classement auteurs'!B:B,C25)","v":1}]
[13,64,131619004601,"Marche à l'ombre        ",12,15,16,0,0,43,0,81," ",null,null,null,{"$f":"COUNTIF('Classement auteurs'!B:B,C26)","v":1}]
[13,119,131956002601,"Trace                    ",11,15,17,0,0,43,0,99," ",null,null,null,{"$f":"COUNTIF('Classement auteurs'!B:B,C27)","v":1}]
[13,127,131862001601,"Vers l'orage             ",17,9,17,0,0,43,0,102," ",null,null,null,{"$f":"COUNTIF('Classement auteurs'!B:B,C28)","v":1}]
[13,10,131956004501,"La souche                ",10,14,18,0,0,42,0,62," ",null,null,null,{"$f":"COUNTIF('Classement auteurs'!B:B,C29)","v":1}]
[13,12,131376018301,"La penseuse !            ",12,14,16,0,0,42,0,42," ",null,null,null,{"$f":"COUNTIF('Classement auteurs'!B:B,C30)","v":1}]
[13,97,131683007901,"Tête d'oeuf             ",13,11,18,0,0,42,0,117," ",null,null,null,{"$f":"COUNTIF('Classement auteurs'!B:B,C31)","v":1}]
[13,114,131956002401,"Grand Mère              ",13,15,14,0,0,42,0,24," ",null,null,null,{"$f":"COUNTIF('Classement auteurs'!B:B,C32)","v":1}]
[13,9,130000015001,"Vu                       ",15,14,12,0,0,41,0,53," ",null,null,null,{"$f":"COUNTIF('Classement auteurs'!B:B,C33)","v":1}]
[13,40,130000020401,"Alcôve                  ",13,13,15,0,0,41,0,51," ",null,null,null,{"$f":"COUNTIF('Classement auteurs'!B:B,C34)","v":1}]
[13,86,131353000701,"Sous la pluie            ",14,12,15,0,0,41,0,3," ",null,null,null,{"$f":"COUNTIF('Classement auteurs'!B:B,C35)","v":1}]
[13,89,132060002101,"Pont araignée sur le Rhon",14,12,15,0,0,41,0,107," ",null,null,null,{"$f":"COUNTIF('Classement auteurs'!B:B,C36)","v":1}]
[13,105,131683006601,"Comme un génie          ",14,13,14,0,0,41,0,78," ",null,null,null,{"$f":"COUNTIF('Classement auteurs'!B:B,C37)","v":1}]
[13,111,131956000401,"Westminster              ",14,12,15,0,0,41,0,86," ",null,null,null,{"$f":"COUNTIF('Classement auteurs'!B:B,C38)","v":1}]
[13,32,131879000101,"Vite!                    ",12,12,16,0,0,40,0,77," ",null,null,null,{"$f":"COUNTIF('Classement auteurs'!B:B,C39)","v":1}]
[13,38,131992000901,"Le passage               ",13,15,12,0,0,40,0,85," ",null,null,null,{"$f":"COUNTIF('Classement auteurs'!B:B,C40)","v":1}]
[13,130,131956005401,"Graphisme urbain         ",16,12,12,0,0,40,0,90," ",null,null,null,{"$f":"COUNTIF('Classement auteurs'!B:B,C41)","v":1}]
[13,24,130878015201,"Rêverie                 ",15,13,11,0,0,39,0,125," ",null,null,null,{"$f":"COUNTIF('Classement auteurs'!B:B,C42)","v":1}]
[13,28,130987024101,"Peu ou proue...          ",13,15,11,0,0,39,0,36," ",null,null,null,{"$f":"COUNTIF('Classement auteurs'!B:B,C43)","v":1}]
[13,33,131499009301,"Chemin de traverse       ",12,14,13,0,0,39,0,113," ",null,null,null,{"$f":"COUNTIF('Classement auteurs'!B:B,C44)","v":1}]
[13,49,130878013001,"Complices                ",13,15,11,0,0,39,0,110," ",null,null,null,{"$f":"COUNTIF('Classement auteurs'!B:B,C45)","v":1}]
[13,57,130878015701,"Damien                   ",12,14,13,0,0,39,0,61," ",null,null,null,{"$f":"COUNTIF('Classement auteurs'!B:B,C46)","v":1}]
[13,77,131956006001,"Le vieux port en mouvemen",10,13,16,0,0,39,0,98," ",null,null,null,{"$f":"COUNTIF('Classement auteurs'!B:B,C47)","v":1}]
[13,118,132060000401,"Pont de dentelle         ",11,12,16,0,0,39,0,84," ",null,null,null,{"$f":"COUNTIF('Classement auteurs'!B:B,C48)","v":1}]
[13,50,131683005101,"Le buron oublié         ",11,14,13,0,0,38,0,87," ",null,null,null,{"$f":"COUNTIF('Classement auteurs'!B:B,C49)","v":1}]
[13,61,130527012401,"Fillette avec ses poisson",12,12,14,0,0,38,0,106," ",null,null,null,{"$f":"COUNTIF('Classement auteurs'!B:B,C50)","v":1}]
[13,84,131353004301,"Tombes de sable          ",15,7,16,0,0,38,0,17," ",null,null,null,{"$f":"COUNTIF('Classement auteurs'!B:B,C51)","v":1}]
[13,25,132193000801,"Au marché provencale    ",12,12,13,0,0,37,0,5," ",null,null,null,{"$f":"COUNTIF('Classement auteurs'!B:B,C52)","v":1}]
[13,43,131956005501,"En montant à notre Dame d",13,10,14,0,0,37,0,97," ",null,null,null,{"$f":"COUNTIF('Classement auteurs'!B:B,C53)","v":1}]
[13,47,130000019901,"Barques                  ",12,13,12,0,0,37,0,92," ",null,null,null,{"$f":"COUNTIF('Classement auteurs'!B:B,C54)","v":1}]
[13,52,131824000201,"Cubissime                ",14,12,11,0,0,37,0,18," ",null,null,null,{"$f":"COUNTIF('Classement auteurs'!B:B,C55)","v":1}]
[13,59,131862002201,"Imploration              ",16,11,10,0,0,37,0,64," ",null,null,null,{"$f":"COUNTIF('Classement auteurs'!B:B,C56)","v":1}]
[13,78,130987024001,"L'orage arrive           ",12,11,14,0,0,37,0,32," ",null,null,null,{"$f":"COUNTIF('Classement auteurs'!B:B,C57)","v":1}]
[13,102,131823005701,"Voile                    ",13,10,14,0,0,37,0,109," ",null,null,null,{"$f":"COUNTIF('Classement auteurs'!B:B,C58)","v":1}]
[13,103,132193000401,"Le damier                ",12,13,12,0,0,37,0,49," ",null,null,null,{"$f":"COUNTIF('Classement auteurs'!B:B,C59)","v":1}]
[13,113,131845001401,"L'arbre et la lune       ",12,7,18,0,0,37,0,46," ",null,null,null,{"$f":"COUNTIF('Classement auteurs'!B:B,C60)","v":1}]
[13,120,131956005601,"Saxo                     ",11,14,12,0,0,37,0,16," ",null,null,null,{"$f":"COUNTIF('Classement auteurs'!B:B,C61)","v":1}]
[13,22,131683006301,"La jetée                ",14,9,13,0,0,36,0,71," ",null,null,null,{"$f":"COUNTIF('Classement auteurs'!B:B,C62)","v":1}]
[13,30,132084004001,"La guerre des mondes     ",11,11,14,0,0,36,0,35," ",null,null,null,{"$f":"COUNTIF('Classement auteurs'!B:B,C63)","v":1}]
[13,39,131862001501,"Le solitaire             ",11,10,15,0,0,36,0,116," ",null,null,null,{"$f":"COUNTIF('Classement auteurs'!B:B,C64)","v":1}]
[13,54,131823008301,"Liberté surveillée     ",12,14,10,0,0,36,0,45," ",null,null,null,{"$f":"COUNTIF('Classement auteurs'!B:B,C65)","v":1}]
[13,60,131499003601,"Dans la rue              ",11,12,13,0,0,36,0,37," ",null,null,null,{"$f":"COUNTIF('Classement auteurs'!B:B,C66)","v":1}]
[13,81,131110000901,"Blues man                ",12,14,10,0,0,36,0,65," ",null,null,null,{"$f":"COUNTIF('Classement auteurs'!B:B,C67)","v":1}]
[13,101,131823002301,"Bord de mer              ",10,12,14,0,0,36,0,66," ",null,null,null,{"$f":"COUNTIF('Classement auteurs'!B:B,C68)","v":1}]
[13,108,131353003001,"Chômage technique.      ",13,12,11,0,0,36,0,121," ",null,null,null,{"$f":"COUNTIF('Classement auteurs'!B:B,C69)","v":1}]
[13,109,131845002501,"Canal du centre          ",11,13,12,0,0,36,0,96," ",null,null,null,{"$f":"COUNTIF('Classement auteurs'!B:B,C70)","v":1}]
[13,110,131956004901,"Imploration              ",13,9,14,0,0,36,0,15," ",null,null,null,{"$f":"COUNTIF('Classement auteurs'!B:B,C71)","v":1}]
[13,121,131499006801,"Potier à l'ouvrage      ",10,15,11,0,0,36,0,105," ",null,null,null,{"$f":"COUNTIF('Classement auteurs'!B:B,C72)","v":1}]
[13,14,130925010201,"La chevelure             ",12,12,11,0,0,35,0,56," ",null,null,null,{"$f":"COUNTIF('Classement auteurs'!B:B,C73)","v":1}]
[13,16,132193000701,"Contemplation            ",15,11,9,0,0,35,0,50," ",null,null,null,{"$f":"COUNTIF('Classement auteurs'!B:B,C74)","v":1}]
[13,62,132147000101,"Musique                  ",11,16,8,0,0,35,0,9," ",null,null,null,{"$f":"COUNTIF('Classement auteurs'!B:B,C75)","v":1}]
[13,76,132060001701,"Rêveries                ",9,12,14,0,0,35,0,111," ",null,null,null,{"$f":"COUNTIF('Classement auteurs'!B:B,C76)","v":1}]
[13,83,131879000601,"Urbain le matin          ",11,11,13,0,0,35,0,100," ",null,null,null,{"$f":"COUNTIF('Classement auteurs'!B:B,C77)","v":1}]
[13,123,132060001801,"Timidité...             ",14,13,8,0,0,35,0,12," ",null,null,null,{"$f":"COUNTIF('Classement auteurs'!B:B,C78)","v":1}]
[13,124,131353006101,"Les yeux d'Athéna       ",14,9,12,0,0,35,0,44," ",null,null,null,{"$f":"COUNTIF('Classement auteurs'!B:B,C79)","v":1}]
[13,1,131845000801,"Au fond de l'eau         ",12,8,14,0,0,34,0,29," ",null,null,null,{"$f":"COUNTIF('Classement auteurs'!B:B,C80)","v":1}]
[13,29,131499008701,"Rencontre ...            ",11,10,13,0,0,34,0,19," ",null,null,null,{"$f":"COUNTIF('Classement auteurs'!B:B,C81)","v":1}]
[13,31,131353000201,"Cité des vins à Bordeaux",11,10,13,0,0,34,0,33," ",null,null,null,{"$f":"COUNTIF('Classement auteurs'!B:B,C82)","v":1}]
[13,34,131499005201,"Jumping                  ",12,12,10,0,0,34,0,6," ",null,null,null,{"$f":"COUNTIF('Classement auteurs'!B:B,C83)","v":1}]
[13,48,131823009001,"Feria carmaguaise        ",10,14,10,0,0,34,0,13," ",null,null,null,{"$f":"COUNTIF('Classement auteurs'!B:B,C84)","v":1}]
[13,80,130987023901,"Paradoxe                 ",13,11,10,0,0,34,0,57," ",null,null,null,{"$f":"COUNTIF('Classement auteurs'!B:B,C85)","v":1}]
[13,92,132089000101,"C'est la pause ...       ",13,13,8,0,0,34,0,60," ",null,null,null,{"$f":"COUNTIF('Classement auteurs'!B:B,C86)","v":1}]
[13,95,131619002601,"Sortie en ville          ",10,12,12,0,0,34,0,34," ",null,null,null,{"$f":"COUNTIF('Classement auteurs'!B:B,C87)","v":1}]
[13,13,131376014701,"Souffrance               ",9,11,13,0,0,33,0,7," ",null,null,null,{"$f":"COUNTIF('Classement auteurs'!B:B,C88)","v":1}]
[13,20,131376012601,"Prophétic               ",9,10,14,0,0,33,0,91," ",null,null,null,{"$f":"COUNTIF('Classement auteurs'!B:B,C89)","v":1}]
[13,23,131992000301,"Champ d'échalotes       ",11,9,13,0,0,33,0,4," ",null,null,null,{"$f":"COUNTIF('Classement auteurs'!B:B,C90)","v":1}]
[13,35,130878014101,"Pin-up                   ",14,9,10,0,0,33,0,112," ",null,null,null,{"$f":"COUNTIF('Classement auteurs'!B:B,C91)","v":1}]
[13,42,132086002301,"J'espionne               ",10,10,13,0,0,33,0,31," ",null,null,null,{"$f":"COUNTIF('Classement auteurs'!B:B,C92)","v":1}]
[13,55,131823007701,"Pétrolette              ",12,9,12,0,0,33,0,43," ",null,null,null,{"$f":"COUNTIF('Classement auteurs'!B:B,C93)","v":1}]
[13,70,130878013601,"Reflet dans une tasse de ",10,8,15,0,0,33,0,72," ",null,null,null,{"$f":"COUNTIF('Classement auteurs'!B:B,C94)","v":1}]
[13,88,130987019701,"Coaching                 ",11,14,8,0,0,33,0,123," ",null,null,null,{"$f":"COUNTIF('Classement auteurs'!B:B,C95)","v":1}]
[13,93,132060001201,"Nocturne à la Défense  ",10,11,12,0,0,33,0,70," ",null,null,null,{"$f":"COUNTIF('Classement auteurs'!B:B,C96)","v":1}]
[13,45,131499003901,"La cavalière            ",11,9,12,0,0,32,0,68," ",null,null,null,{"$f":"COUNTIF('Classement auteurs'!B:B,C97)","v":1}]
[13,67,130527015501,"Contre jour2             ",8,9,15,0,0,32,0,80," ",null,null,null,{"$f":"COUNTIF('Classement auteurs'!B:B,C98)","v":1}]
[13,4,132084001701,"Pavés                   ",10,10,11,0,0,31,0,69," ",null,null,null,{"$f":"COUNTIF('Classement auteurs'!B:B,C99)","v":1}]
[13,41,131862003801,"Plage de Piemanson       ",11,9,11,0,0,31,0,48," ",null,null,null,{"$f":"COUNTIF('Classement auteurs'!B:B,C100)","v":1}]
[13,65,132103002301,"Napoli g'ART             ",13,9,9,0,0,31,0,8," ",null,null,null,{"$f":"COUNTIF('Classement auteurs'!B:B,C101)","v":1}]
[13,104,130527011601,"Amour de pierre          ",10,11,10,0,0,31,0,30," ",null,null,null,{"$f":"COUNTIF('Classement auteurs'!B:B,C102)","v":1}]
[13,106,131956001401,"St Pétersbourg l'hiver  ",10,8,13,0,0,31,0,26," ",null,null,null,{"$f":"COUNTIF('Classement auteurs'!B:B,C103)","v":1}]
[13,126,131353006201,"Descente aux flambeaux   ",8,12,11,0,0,31,0,14," ",null,null,null,{"$f":"COUNTIF('Classement auteurs'!B:B,C104)","v":1}]
[13,2,132147000601,"Ours                     ",13,6,11,0,0,30,0,104," ",null,null,null,{"$f":"COUNTIF('Classement auteurs'!B:B,C105)","v":1}]
[13,8,132193000501,"Alphabet                 ",9,10,11,0,0,30,0,2," ",null,null,null,{"$f":"COUNTIF('Classement auteurs'!B:B,C106)","v":1}]
[13,99,130987023201,"Felleng                  ",11,7,12,0,0,30,0,22," ",null,null,null,{"$f":"COUNTIF('Classement auteurs'!B:B,C107)","v":1}]
[13,36,131879001301,"Noir et blanc            ",11,10,8,0,0,29,0,10," ",null,null,null,{"$f":"COUNTIF('Classement auteurs'!B:B,C108)","v":1}]
[13,66,130527002501,"Percheron                ",7,11,11,0,0,29,0,21," ",null,null,null,{"$f":"COUNTIF('Classement auteurs'!B:B,C109)","v":1}]
[13,87,130987019601,"Les yeux d'une mère     ",11,9,9,0,0,29,0,25," ",null,null,null,{"$f":"COUNTIF('Classement auteurs'!B:B,C110)","v":1}]
[13,90,132060000101,"Cimetière Marin         ",8,7,14,0,0,29,0,38," ",null,null,null,{"$f":"COUNTIF('Classement auteurs'!B:B,C111)","v":1}]
[13,91,131956004301,"L'heure de la prière    ",11,7,11,0,0,29,0,54," ",null,null,null,{"$f":"COUNTIF('Classement auteurs'!B:B,C112)","v":1}]
[13,96,131683007601,"Dans l'attente           ",9,8,12,0,0,29,0,95," ",null,null,null,{"$f":"COUNTIF('Classement auteurs'!B:B,C113)","v":1}]
[13,116,132060000901,"La force de la nature    ",10,7,12,0,0,29,0,52," ",null,null,null,{"$f":"COUNTIF('Classement auteurs'!B:B,C114)","v":1}]
[13,117,131683007101,"Les biquettes de jouques ",9,7,13,0,0,29,0,108," ",null,null,null,{"$f":"COUNTIF('Classement auteurs'!B:B,C115)","v":1}]
[13,21,131845003501,"Le voisin nous a quitté ",10,8,10,0,0,28,0,101," ",null,null,null,{"$f":"COUNTIF('Classement auteurs'!B:B,C116)","v":1}]
[13,68,130878013401,"La visite                ",9,9,10,0,0,28,0,79," ",null,null,null,{"$f":"COUNTIF('Classement auteurs'!B:B,C117)","v":1}]
[13,74,132060000701,"Défense d'entrer        ",9,10,9,0,0,28,0,120," ",null,null,null,{"$f":"COUNTIF('Classement auteurs'!B:B,C118)","v":1}]
[13,75,132060002201,"Petite sieste            ",12,9,6,0,0,27,0,11," ",null,null,null,{"$f":"COUNTIF('Classement auteurs'!B:B,C119)","v":1}]
[13,129,131956005701,"Solitude                 ",10,8,9,0,0,27,0,115," ",null,null,null,{"$f":"COUNTIF('Classement auteurs'!B:B,C120)","v":1}]
[13,98,132060002801,"Marabout kaouki          ",12,7,7,0,0,26,0,124," ",null,null,null,{"$f":"COUNTIF('Classement auteurs'!B:B,C121)","v":1}]
[13,128,132060002001,"Suivez les flèches !    ",7,7,12,0,0,26,0,89," ",null,null,null,{"$f":"COUNTIF('Classement auteurs'!B:B,C122)","v":1}]
[13,17,130527019601,"Ile de Goré: les adieux ",8,9,7,0,0,24,0,27," ",null,null,null,{"$f":"COUNTIF('Classement auteurs'!B:B,C123)","v":1}]
[13,72,131992000401,"Jeux de lumière         ",8,7,9,0,0,24,0,74," ",null,null,null,{"$f":"COUNTIF('Classement auteurs'!B:B,C124)","v":1}]
[13,69,131499008201,"Bateau échoué          ",14,6,0,0,0,20,0,63," ",null,null,null,{"$f":"COUNTIF('Classement auteurs'!B:B,C125)","v":1}]
[13,94,132193001201,"Le pied                  ",6,6,6,0,0,18,0,59," ",null,null,null,{"$f":"COUNTIF('Classement auteurs'!B:B,C126)","v":1}]
[null,null,null,null,null,null,null,null,null,null,null,null,null,null,null,null,{"$f":"COUNTIF('Classement auteurs'!B:B,C127)","v":0}]
[null,null,null,null,null,null,null,null,null,null,null,null,null,null,null,null,{"$f":"COUNTIF('Classement auteurs'!B:B,C128)","v":0}]
[null,null,null,null,null,null,null,null,null,null,null,null,null,null,null,null,{"$f":"COUNTIF('Classement auteurs'!B:B,C129)","v":0}]
[null,null,null,null,null,null,null,null,null,null,null,null,null,null,null,null,{"$f":"COUNTIF('Classement auteurs'!B:B,C130)","v":0}]
[null,null,null,null,null,null,null,null,null,null,null,null,null,null,null,null,{"$f":"COUNTIF('Classement auteurs'!B:B,C131)","v":0}]
[null,null,null,null,null,null,null,null,null,null,null,null,null,null,null,null,{"$f":"COUNTIF('Classement auteurs'!B:B,C132)","v":0}]
[null,null,null,null,null,null,null,null,null,null,null,null,null,null,null,null,{"$f":"COUNTIF('Classement auteurs'!B:B,C133)","v":0}]
[null,null,null,null,null,null,null,null,null,null,null,null,null,null,null,null,{"$f":"COUNTIF('Classement auteurs'!B:B,C134)","v":0}]
[null,null,null,null,null,null,null,null,null,null,null,null,null,null,null,null,{"$f":"COUNTIF('Classement auteurs'!B:B,C135)","v":0}]
[null,null,null,null,null,null,null,null,null,null,null,null,null,null,null,null,{"$f":"COUNTIF('Classement auteurs'!B:B,C136)","v":0}]
[null,null,null,null,null,null,null,null,null,null,null,null,null,null,null,null,{"$f":"COUNTIF('Classement auteurs'!B:B,C137)","v":0}]
[null,null,null,null,null,null,null,null,null,null,null,null,null,null,null,null,{"$f":"COUNTIF('Classement auteurs'!B:B,C138)","v":0}]

{"sheet":"xDéfi-10","index":12,"n_rows":138,"n_cols":23,"rows_kept":138,"cut":false,"hidden":false,"merged":[]}
["colis","photologic","fichier","titre","note1","note2","note3","note4","note5","total","place","passage","statut","medaille","retenue",null,"0=absent\n1=présent",null,"fichier","total"]
[13,122,131683008201,"Alysée                  ",19,19,19,0,0,57,0,20," ",null,null,null,{"$f":"COUNTIF('Classement auteurs'!B:B,C2)","v":1},null,130527009401,49,{"$f":"(MID(S2,3,4)*1)","v":527},119,{"$f":"IF($V2=VLOOKUP($U2,'Classement clubs'!$B$2:$K$52,9,FALSE),\"OK\",\"KO\")","v":"OK"}]
[13,85,131353000101,"La chapelle              ",17,20,19,0,0,56,0,67," ",null,null,null,{"$f":"COUNTIF('Classement auteurs'!B:B,C3)","v":1},null,130878007201,44,878,122,{"$f":"IF($V3=VLOOKUP($U3,'Classement clubs'!$B$2:$K$52,9,FALSE),\"OK\",\"KO\")","v":"OK"}]
[13,7,132193000301,"Invitation au voyage     ",19,18,18,0,0,55,0,94," ",null,null,null,{"$f":"COUNTIF('Classement auteurs'!B:B,C4)","v":1},null,131353000101,56,1353,135,{"$f":"IF($V4=VLOOKUP($U4,'Classement clubs'!$B$2:$K$52,9,FALSE),\"OK\",\"KO\")","v":"OK"}]
[13,11,131985003401,"Jeune fille himbas       ",20,16,18,0,0,54,0,118," ",null,null,null,{"$f":"COUNTIF('Classement auteurs'!B:B,C5)","v":1},null,131376017701,47,1376,122,{"$f":"IF($V5=VLOOKUP($U5,'Classement clubs'!$B$2:$K$52,9,FALSE),\"OK\",\"KO\")","v":"OK"}]
[13,6,130987015701,"Orage                    ",19,16,17,0,0,52,0,23," ",null,null,null,{"$f":"COUNTIF('Classement auteurs'!B:B,C6)","v":1},null,131499009301,39,1499,111,{"$f":"IF($V6=VLOOKUP($U6,'Classement clubs'!$B$2:$K$52,9,FALSE),\"OK\",\"KO\")","v":"OK"}]
[13,107,131956004601,"L'homme de pierre        ",17,17,18,0,0,52,0,76," ",null,null,null,{"$f":"COUNTIF('Classement auteurs'!B:B,C7)","v":1},null,131619002601,34,1619,124,{"$f":"IF($V7=VLOOKUP($U7,'Classement clubs'!$B$2:$K$52,9,FALSE),\"OK\",\"KO\")","v":"OK"}]
[13,26,130987013801,"Championnat de France de ",18,17,16,0,0,51,0,122," ",null,null,null,{"$f":"COUNTIF('Classement auteurs'!B:B,C8)","v":1},null,131683008201,57,1683,147,{"$f":"IF($V8=VLOOKUP($U8,'Classement clubs'!$B$2:$K$52,9,FALSE),\"OK\",\"KO\")","v":"OK"}]
[13,53,131845000101,"Ponton                   ",17,17,16,0,0,50,0,39," ",null,null,null,{"$f":"COUNTIF('Classement auteurs'!B:B,C9)","v":1},null,131823004901,43,1823,123,{"$f":"IF($V9=VLOOKUP($U9,'Classement clubs'!$B$2:$K$52,9,FALSE),\"OK\",\"KO\")","v":"OK"}]
[13,100,130527009401,"La route                 ",14,16,19,0,0,49,0,28," ",null,null,null,{"$f":"COUNTIF('Classement auteurs'!B:B,C10)","v":1},null,131845000101,50,1845,132,{"$f":"IF($V10=VLOOKUP($U10,'Classement clubs'!$B$2:$K$52,9,FALSE),\"OK\",\"KO\")","v":"OK"}]
[13,115,131683008101,"La cascade du roy        ",16,15,17,0,0,48,0,88," ",null,null,null,{"$f":"COUNTIF('Classement auteurs'!B:B,C11)","v":1},null,131862001601,43,1862,116,{"$f":"IF($V11=VLOOKUP($U11,'Classement clubs'!$B$2:$K$52,9,FALSE),\"OK\",\"KO\")","v":"OK"}]
[13,3,132103000401,"Sort-tu es toujours atten",18,15,14,0,0,47,0,40," ",null,null,null,{"$f":"COUNTIF('Classement auteurs'!B:B,C12)","v":1},null,131879000801,44,1879,119,{"$f":"IF($V12=VLOOKUP($U12,'Classement clubs'!$B$2:$K$52,9,FALSE),\"OK\",\"KO\")","v":"OK"}]
[13,5,132003002201,"Ubiquité.               ",20,10,17,0,0,47,0,47," ",null,null,null,{"$f":"COUNTIF('Classement auteurs'!B:B,C13)","v":1},null,131956004601,52,1956,139,{"$f":"IF($V13=VLOOKUP($U13,'Classement clubs'!$B$2:$K$52,9,FALSE),\"OK\",\"KO\")","v":"OK"}]
[13,15,131376017701,"Sprint final             ",15,19,13,0,0,47,0,103," ",null,null,null,{"$f":"COUNTIF('Classement auteurs'!B:B,C14)","v":1},null,131992000301,33,1992,97,{"$f":"IF($V14=VLOOKUP($U14,'Classement clubs'!$B$2:$K$52,9,FALSE),\"OK\",\"KO\")","v":"OK"}]
[13,125,131619004501,"L'echelle                ",13,14,20,0,0,47,0,58," ",null,null,null,{"$f":"COUNTIF('Classement auteurs'!B:B,C15)","v":1},null,132060002101,41,2060,115,{"$f":"IF($V15=VLOOKUP($U15,'Classement clubs'!$B$2:$K$52,9,FALSE),\"OK\",\"KO\")","v":"OK"}]
[13,37,131824001901,"Mini'Home                ",14,14,17,0,0,45,0,83," ",null,null,null,{"$f":"COUNTIF('Classement auteurs'!B:B,C16)","v":1},null,132084001701,31,2084,111,{"$f":"IF($V16=VLOOKUP($U16,'Classement clubs'!$B$2:$K$52,9,FALSE),\"OK\",\"KO\")","v":"OK"}]
[13,46,131845000901,"Concert acrobatique      ",18,14,13,0,0,45,0,1," ",null,null,null,{"$f":"COUNTIF('Classement auteurs'!B:B,C17)","v":1},null,132193000301,55,2193,129,{"$f":"IF($V17=VLOOKUP($U17,'Classement clubs'!$B$2:$K$52,9,FALSE),\"OK\",\"KO\")","v":"OK"}]
[13,56,130878007201,"Ibrahima                 ",17,13,14,0,0,44,0,73," ",null,null,null,{"$f":"COUNTIF('Classement auteurs'!B:B,C18)","v":1}]
[13,63,132084004801,"Père & Fils             ",14,11,19,0,0,44,0,82," ",null,null,null,{"$f":"COUNTIF('Classement auteurs'!B:B,C19)","v":1}]
[13,82,131879000801,"Madone                   ",14,14,16,0,0,44,0,41," ",null,null,null,{"$f":"COUNTIF('Classement auteurs'!B:B,C20)","v":1}]
[13,112,131956006201,"Promenade en terrasse    ",12,16,16,0,0,44,0,75," ",null,null,null,{"$f":"COUNTIF('Classement auteurs'!B:B,C21)","v":1}]
[13,27,130987024201,"Back in black            ",16,12,15,0,0,43,0,119," ",null,null,null,{"$f":"COUNTIF('Classement auteurs'!B:B,C22)","v":1}]
[13,44,131823007601,"Spirale                  ",15,13,15,0,0,43,0,114," ",null,null,null,{"$f":"COUNTIF('Classement auteurs'!B:B,C23)","v":1}]
[13,51,131823004901,"Evanescence              ",12,16,15,0,0,43,0,93," ",null,null,null,{"$f":"COUNTIF('Classement auteurs'!B:B,C24)","v":1}]
[13,58,131985003601,"Vino                     ",14,12,17,0,0,43,0,55," ",null,null,null,{"$f":"COUNTIF('Classement auteurs'!B:B,C25)","v":1}]
[13,64,131619004601,"Marche à l'ombre        ",12,15,16,0,0,43,0,81," ",null,null,null,{"$f":"COUNTIF('Classement auteurs'!B:B,C26)","v":1}]
[13,119,131956002601,"Trace                    ",11,15,17,0,0,43,0,99," ",null,null,null,{"$f":"COUNTIF('Classement auteurs'!B:B,C27)","v":1}]
[13,127,131862001601,"Vers l'orage             ",17,9,17,0,0,43,0,102," ",null,null,null,{"$f":"COUNTIF('Classement auteurs'!B:B,C28)","v":1}]
[13,10,131956004501,"La souche                ",10,14,18,0,0,42,0,62," ",null,null,null,{"$f":"COUNTIF('Classement auteurs'!B:B,C29)","v":1}]
[13,12,131376018301,"La penseuse !            ",12,14,16,0,0,42,0,42," ",null,null,null,{"$f":"COUNTIF('Classement auteurs'!B:B,C30)","v":1}]
[13,97,131683007901,"Tête d'oeuf             ",13,11,18,0,0,42,0,117," ",null,null,null,{"$f":"COUNTIF('Classement auteurs'!B:B,C31)","v":1}]
[13,114,131956002401,"Grand Mère              ",13,15,14,0,0,42,0,24," ",null,null,null,{"$f":"COUNTIF('Classement auteurs'!B:B,C32)","v":1}]
[13,9,130000015001,"Vu                       ",15,14,12,0,0,41,0,53," ",null,null,null,{"$f":"COUNTIF('Classement auteurs'!B:B,C33)","v":1}]
[13,40,130000020401,"Alcôve                  ",13,13,15,0,0,41,0,51," ",null,null,null,{"$f":"COUNTIF('Classement auteurs'!B:B,C34)","v":1}]
[13,86,131353000701,"Sous la pluie            ",14,12,15,0,0,41,0,3," ",null,null,null,{"$f":"COUNTIF('Classement auteurs'!B:B,C35)","v":1}]
[13,89,132060002101,"Pont araignée sur le Rhon",14,12,15,0,0,41,0,107," ",null,null,null,{"$f":"COUNTIF('Classement auteurs'!B:B,C36)","v":1}]
[13,105,131683006601,"Comme un génie          ",14,13,14,0,0,41,0,78," ",null,null,null,{"$f":"COUNTIF('Classement auteurs'!B:B,C37)","v":1}]
[13,111,131956000401,"Westminster              ",14,12,15,0,0,41,0,86," ",null,null,null,{"$f":"COUNTIF('Classement auteurs'!B:B,C38)","v":1}]
[13,32,131879000101,"Vite!                    ",12,12,16,0,0,40,0,77," ",null,null,null,{"$f":"COUNTIF('Classement auteurs'!B:B,C39)","v":1}]
[13,38,131992000901,"Le passage               ",13,15,12,0,0,40,0,85," ",null,null,null,{"$f":"COUNTIF('Classement auteurs'!B:B,C40)","v":1}]
[13,130,131956005401,"Graphisme urbain         ",16,12,12,0,0,40,0,90," ",null,null,null,{"$f":"COUNTIF('Classement auteurs'!B:B,C41)","v":1}]
[13,24,130878015201,"Rêverie                 ",15,13,11,0,0,39,0,125," ",null,null,null,{"$f":"COUNTIF('Classement auteurs'!B:B,C42)","v":1}]
[13,28,130987024101,"Peu ou proue...          ",13,15,11,0,0,39,0,36," ",null,null,null,{"$f":"COUNTIF('Classement auteurs'!B:B,C43)","v":1}]
[13,33,131499009301,"Chemin de traverse       ",12,14,13,0,0,39,0,113," ",null,null,null,{"$f":"COUNTIF('Classement auteurs'!B:B,C44)","v":1}]
[13,49,130878013001,"Complices                ",13,15,11,0,0,39,0,110," ",null,null,null,{"$f":"COUNTIF('Classement auteurs'!B:B,C45)","v":1}]
[13,57,130878015701,"Damien                   ",12,14,13,0,0,39,0,61," ",null,null,null,{"$f":"COUNTIF('Classement auteurs'!B:B,C46)","v":1}]
[13,77,131956006001,"Le vieux port en mouvemen",10,13,16,0,0,39,0,98," ",null,null,null,{"$f":"COUNTIF('Classement auteurs'!B:B,C47)","v":1}]
[13,118,132060000401,"Pont de dentelle         ",11,12,16,0,0,39,0,84," ",null,null,null,{"$f":"COUNTIF('Classement auteurs'!B:B,C48)","v":1}]
[13,50,131683005101,"Le buron oublié         ",11,14,13,0,0,38,0,87," ",null,null,null,{"$f":"COUNTIF('Classement auteurs'!B:B,C49)","v":1}]
[13,61,130527012401,"Fillette avec ses poisson",12,12,14,0,0,38,0,106," ",null,null,null,{"$f":"COUNTIF('Classement auteurs'!B:B,C50)","v":1}]
[13,84,131353004301,"Tombes de sable          ",15,7,16,0,0,38,0,17," ",null,null,null,{"$f":"COUNTIF('Classement auteurs'!B:B,C51)","v":1}]
[13,25,132193000801,"Au marché provencale    ",12,12,13,0,0,37,0,5," ",null,null,null,{"$f":"COUNTIF('Classement auteurs'!B:B,C52)","v":1}]
[13,43,131956005501,"En montant à notre Dame d",13,10,14,0,0,37,0,97," ",null,null,null,{"$f":"COUNTIF('Classement auteurs'!B:B,C53)","v":1}]
[13,47,130000019901,"Barques                  ",12,13,12,0,0,37,0,92," ",null,null,null,{"$f":"COUNTIF('Classement auteurs'!B:B,C54)","v":1}]
[13,52,131824000201,"Cubissime                ",14,12,11,0,0,37,0,18," ",null,null,null,{"$f":"COUNTIF('Classement auteurs'!B:B,C55)","v":1}]
[13,59,131862002201,"Imploration              ",16,11,10,0,0,37,0,64," ",null,null,null,{"$f":"COUNTIF('Classement auteurs'!B:B,C56)","v":1}]
[13,78,130987024001,"L'orage arrive           ",12,11,14,0,0,37,0,32," ",null,null,null,{"$f":"COUNTIF('Classement auteurs'!B:B,C57)","v":1}]
[13,102,131823005701,"Voile                    ",13,10,14,0,0,37,0,109," ",null,null,null,{"$f":"COUNTIF('Classement auteurs'!B:B,C58)","v":1}]
[13,103,132193000401,"Le damier                ",12,13,12,0,0,37,0,49," ",null,null,null,{"$f":"COUNTIF('Classement auteurs'!B:B,C59)","v":1}]
[13,113,131845001401,"L'arbre et la lune       ",12,7,18,0,0,37,0,46," ",null,null,null,{"$f":"COUNTIF('Classement auteurs'!B:B,C60)","v":1}]
[13,120,131956005601,"Saxo                     ",11,14,12,0,0,37,0,16," ",null,null,null,{"$f":"COUNTIF('Classement auteurs'!B:B,C61)","v":1}]
[13,22,131683006301,"La jetée                ",14,9,13,0,0,36,0,71," ",null,null,null,{"$f":"COUNTIF('Classement auteurs'!B:B,C62)","v":1}]
[13,30,132084004001,"La guerre des mondes     ",11,11,14,0,0,36,0,35," ",null,null,null,{"$f":"COUNTIF('Classement auteurs'!B:B,C63)","v":1}]
[13,39,131862001501,"Le solitaire             ",11,10,15,0,0,36,0,116," ",null,null,null,{"$f":"COUNTIF('Classement auteurs'!B:B,C64)","v":1}]
[13,54,131823008301,"Liberté surveillée     ",12,14,10,0,0,36,0,45," ",null,null,null,{"$f":"COUNTIF('Classement auteurs'!B:B,C65)","v":1}]
[13,60,131499003601,"Dans la rue              ",11,12,13,0,0,36,0,37," ",null,null,null,{"$f":"COUNTIF('Classement auteurs'!B:B,C66)","v":1}]
[13,81,131110000901,"Blues man                ",12,14,10,0,0,36,0,65," ",null,null,null,{"$f":"COUNTIF('Classement auteurs'!B:B,C67)","v":1}]
[13,101,131823002301,"Bord de mer              ",10,12,14,0,0,36,0,66," ",null,null,null,{"$f":"COUNTIF('Classement auteurs'!B:B,C68)","v":1}]
[13,108,131353003001,"Chômage technique.      ",13,12,11,0,0,36,0,121," ",null,null,null,{"$f":"COUNTIF('Classement auteurs'!B:B,C69)","v":1}]
[13,109,131845002501,"Canal du centre          ",11,13,12,0,0,36,0,96," ",null,null,null,{"$f":"COUNTIF('Classement auteurs'!B:B,C70)","v":1}]
[13,110,131956004901,"Imploration              ",13,9,14,0,0,36,0,15," ",null,null,null,{"$f":"COUNTIF('Classement auteurs'!B:B,C71)","v":1}]
[13,121,131499006801,"Potier à l'ouvrage      ",10,15,11,0,0,36,0,105," ",null,null,null,{"$f":"COUNTIF('Classement auteurs'!B:B,C72)","v":1}]
[13,14,130925010201,"La chevelure             ",12,12,11,0,0,35,0,56," ",null,null,null,{"$f":"COUNTIF('Classement auteurs'!B:B,C73)","v":1}]
[13,16,132193000701,"Contemplation            ",15,11,9,0,0,35,0,50," ",null,null,null,{"$f":"COUNTIF('Classement auteurs'!B:B,C74)","v":1}]
[13,62,132147000101,"Musique                  ",11,16,8,0,0,35,0,9," ",null,null,null,{"$f":"COUNTIF('Classement auteurs'!B:B,C75)","v":1}]
[13,76,132060001701,"Rêveries                ",9,12,14,0,0,35,0,111," ",null,null,null,{"$f":"COUNTIF('Classement auteurs'!B:B,C76)","v":1}]
[13,83,131879000601,"Urbain le matin          ",11,11,13,0,0,35,0,100," ",null,null,null,{"$f":"COUNTIF('Classement auteurs'!B:B,C77)","v":1}]
[13,123,132060001801,"Timidité...             ",14,13,8,0,0,35,0,12," ",null,null,null,{"$f":"COUNTIF('Classement auteurs'!B:B,C78)","v":1}]
[13,124,131353006101,"Les yeux d'Athéna       ",14,9,12,0,0,35,0,44," ",null,null,null,{"$f":"COUNTIF('Classement auteurs'!B:B,C79)","v":1}]
[13,1,131845000801,"Au fond de l'eau         ",12,8,14,0,0,34,0,29," ",null,null,null,{"$f":"COUNTIF('Classement auteurs'!B:B,C80)","v":1}]
[13,29,131499008701,"Rencontre ...            ",11,10,13,0,0,34,0,19," ",null,null,null,{"$f":"COUNTIF('Classement auteurs'!B:B,C81)","v":1}]
[13,31,131353000201,"Cité des vins à Bordeaux",11,10,13,0,0,34,0,33," ",null,null,null,{"$f":"COUNTIF('Classement auteurs'!B:B,C82)","v":1}]
[13,34,131499005201,"Jumping                  ",12,12,10,0,0,34,0,6," ",null,null,null,{"$f":"COUNTIF('Classement auteurs'!B:B,C83)","v":1}]
[13,48,131823009001,"Feria carmaguaise        ",10,14,10,0,0,34,0,13," ",null,null,null,{"$f":"COUNTIF('Classement auteurs'!B:B,C84)","v":1}]
[13,80,130987023901,"Paradoxe                 ",13,11,10,0,0,34,0,57," ",null,null,null,{"$f":"COUNTIF('Classement auteurs'!B:B,C85)","v":1}]
[13,92,132089000101,"C'est la pause ...       ",13,13,8,0,0,34,0,60," ",null,null,null,{"$f":"COUNTIF('Classement auteurs'!B:B,C86)","v":1}]
[13,95,131619002601,"Sortie en ville          ",10,12,12,0,0,34,0,34," ",null,null,null,{"$f":"COUNTIF('Classement auteurs'!B:B,C87)","v":1}]
[13,13,131376014701,"Souffrance               ",9,11,13,0,0,33,0,7," ",null,null,null,{"$f":"COUNTIF('Classement auteurs'!B:B,C88)","v":1}]
[13,20,131376012601,"Prophétic               ",9,10,14,0,0,33,0,91," ",null,null,null,{"$f":"COUNTIF('Classement auteurs'!B:B,C89)","v":1}]
[13,23,131992000301,"Champ d'échalotes       ",11,9,13,0,0,33,0,4," ",null,null,null,{"$f":"COUNTIF('Classement auteurs'!B:B,C90)","v":1}]
[13,35,130878014101,"Pin-up                   ",14,9,10,0,0,33,0,112," ",null,null,null,{"$f":"COUNTIF('Classement auteurs'!B:B,C91)","v":1}]
[13,42,132086002301,"J'espionne               ",10,10,13,0,0,33,0,31," ",null,null,null,{"$f":"COUNTIF('Classement auteurs'!B:B,C92)","v":1}]
[13,55,131823007701,"Pétrolette              ",12,9,12,0,0,33,0,43," ",null,null,null,{"$f":"COUNTIF('Classement auteurs'!B:B,C93)","v":1}]
[13,70,130878013601,"Reflet dans une tasse de ",10,8,15,0,0,33,0,72," ",null,null,null,{"$f":"COUNTIF('Classement auteurs'!B:B,C94)","v":1}]
[13,88,130987019701,"Coaching                 ",11,14,8,0,0,33,0,123," ",null,null,null,{"$f":"COUNTIF('Classement auteurs'!B:B,C95)","v":1}]
[13,93,132060001201,"Nocturne à la Défense  ",10,11,12,0,0,33,0,70," ",null,null,null,{"$f":"COUNTIF('Classement auteurs'!B:B,C96)","v":1}]
[13,45,131499003901,"La cavalière            ",11,9,12,0,0,32,0,68," ",null,null,null,{"$f":"COUNTIF('Classement auteurs'!B:B,C97)","v":1}]
[13,67,130527015501,"Contre jour2             ",8,9,15,0,0,32,0,80," ",null,null,null,{"$f":"COUNTIF('Classement auteurs'!B:B,C98)","v":1}]
[13,4,132084001701,"Pavés                   ",10,10,11,0,0,31,0,69," ",null,null,null,{"$f":"COUNTIF('Classement auteurs'!B:B,C99)","v":1}]
[13,41,131862003801,"Plage de Piemanson       ",11,9,11,0,0,31,0,48," ",null,null,null,{"$f":"COUNTIF('Classement auteurs'!B:B,C100)","v":1}]
[13,65,132103002301,"Napoli g'ART             ",13,9,9,0,0,31,0,8," ",null,null,null,{"$f":"COUNTIF('Classement auteurs'!B:B,C101)","v":1}]
[13,104,130527011601,"Amour de pierre          ",10,11,10,0,0,31,0,30," ",null,null,null,{"$f":"COUNTIF('Classement auteurs'!B:B,C102)","v":1}]
[13,106,131956001401,"St Pétersbourg l'hiver  ",10,8,13,0,0,31,0,26," ",null,null,null,{"$f":"COUNTIF('Classement auteurs'!B:B,C103)","v":1}]
[13,126,131353006201,"Descente aux flambeaux   ",8,12,11,0,0,31,0,14," ",null,null,null,{"$f":"COUNTIF('Classement auteurs'!B:B,C104)","v":1}]
[13,2,132147000601,"Ours                     ",13,6,11,0,0,30,0,104," ",null,null,null,{"$f":"COUNTIF('Classement auteurs'!B:B,C105)","v":1}]
[13,8,132193000501,"Alphabet                 ",9,10,11,0,0,30,0,2," ",null,null,null,{"$f":"COUNTIF('Classement auteurs'!B:B,C106)","v":1}]
[13,99,130987023201,"Felleng                  ",11,7,12,0,0,30,0,22," ",null,null,null,{"$f":"COUNTIF('Classement auteurs'!B:B,C107)","v":1}]
[13,36,131879001301,"Noir et blanc            ",11,10,8,0,0,29,0,10," ",null,null,null,{"$f":"COUNTIF('Classement auteurs'!B:B,C108)","v":1}]
[13,66,130527002501,"Percheron                ",7,11,11,0,0,29,0,21," ",null,null,null,{"$f":"COUNTIF('Classement auteurs'!B:B,C109)","v":1}]
[13,87,130987019601,"Les yeux d'une mère     ",11,9,9,0,0,29,0,25," ",null,null,null,{"$f":"COUNTIF('Classement auteurs'!B:B,C110)","v":1}]
[13,90,132060000101,"Cimetière Marin         ",8,7,14,0,0,29,0,38," ",null,null,null,{"$f":"COUNTIF('Classement auteurs'!B:B,C111)","v":1}]
[13,91,131956004301,"L'heure de la prière    ",11,7,11,0,0,29,0,54," ",null,null,null,{"$f":"COUNTIF('Classement auteurs'!B:B,C112)","v":1}]
[13,96,131683007601,"Dans l'attente           ",9,8,12,0,0,29,0,95," ",null,null,null,{"$f":"COUNTIF('Classement auteurs'!B:B,C113)","v":1}]
[13,116,132060000901,"La force de la nature    ",10,7,12,0,0,29,0,52," ",null,null,null,{"$f":"COUNTIF('Classement auteurs'!B:B,C114)","v":1}]
[13,117,131683007101,"Les biquettes de jouques ",9,7,13,0,0,29,0,108," ",null,null,null,{"$f":"COUNTIF('Classement auteurs'!B:B,C115)","v":1}]
[13,21,131845003501,"Le voisin nous a quitté ",10,8,10,0,0,28,0,101," ",null,null,null,{"$f":"COUNTIF('Classement auteurs'!B:B,C116)","v":1}]
[13,68,130878013401,"La visite                ",9,9,10,0,0,28,0,79," ",null,null,null,{"$f":"COUNTIF('Classement auteurs'!B:B,C117)","v":1}]
[13,74,132060000701,"Défense d'entrer        ",9,10,9,0,0,28,0,120," ",null,null,null,{"$f":"COUNTIF('Classement auteurs'!B:B,C118)","v":1}]
[13,75,132060002201,"Petite sieste            ",12,9,6,0,0,27,0,11," ",null,null,null,{"$f":"COUNTIF('Classement auteurs'!B:B,C119)","v":1}]
[13,129,131956005701,"Solitude                 ",10,8,9,0,0,27,0,115," ",null,null,null,{"$f":"COUNTIF('Classement auteurs'!B:B,C120)","v":1}]
[13,98,132060002801,"Marabout kaouki          ",12,7,7,0,0,26,0,124," ",null,null,null,{"$f":"COUNTIF('Classement auteurs'!B:B,C121)","v":1}]
[13,128,132060002001,"Suivez les flèches !    ",7,7,12,0,0,26,0,89," ",null,null,null,{"$f":"COUNTIF('Classement auteurs'!B:B,C122)","v":1}]
[13,17,130527019601,"Ile de Goré: les adieux ",8,9,7,0,0,24,0,27," ",null,null,null,{"$f":"COUNTIF('Classement auteurs'!B:B,C123)","v":1}]
[13,72,131992000401,"Jeux de lumière         ",8,7,9,0,0,24,0,74," ",null,null,null,{"$f":"COUNTIF('Classement auteurs'!B:B,C124)","v":1}]
[13,69,131499008201,"Bateau échoué          ",14,6,0,0,0,20,0,63," ",null,null,null,{"$f":"COUNTIF('Classement auteurs'!B:B,C125)","v":1}]
[13,94,132193001201,"Le pied                  ",6,6,6,0,0,18,0,59," ",null,null,null,{"$f":"COUNTIF('Classement auteurs'!B:B,C126)","v":1}]
[null,null,null,null,null,null,null,null,null,null,null,null,null,null,null,null,{"$f":"COUNTIF('Classement auteurs'!B:B,C127)","v":0}]
[null,null,null,null,null,null,null,null,null,null,null,null,null,null,null,null,{"$f":"COUNTIF('Classement auteurs'!B:B,C128)","v":0}]
[null,null,null,null,null,null,null,null,null,null,null,null,null,null,null,null,{"$f":"COUNTIF('Classement auteurs'!B:B,C129)","v":0}]
[null,null,null,null,null,null,null,null,null,null,null,null,null,null,null,null,{"$f":"COUNTIF('Classement auteurs'!B:B,C130)","v":0}]
[null,null,null,null,null,null,null,null,null,null,null,null,null,null,null,null,{"$f":"COUNTIF('Classement auteurs'!B:B,C131)","v":0}]
[null,null,null,null,null,null,null,null,null,null,null,null,null,null,null,null,{"$f":"COUNTIF('Classement auteurs'!B:B,C132)","v":0}]
[null,null,null,null,null,null,null,null,null,null,null,null,null,null,null,null,{"$f":"COUNTIF('Classement auteurs'!B:B,C133)","v":0}]
[null,null,null,null,null,null,null,null,null,null,null,null,null,null,null,null,{"$f":"COUNTIF('Classement auteurs'!B:B,C134)","v":0}]
[null,null,null,null,null,null,null,null,null,null,null,null,null,null,null,null,{"$f":"COUNTIF('Classement auteurs'!B:B,C135)","v":0}]
[null,null,null,null,null,null,null,null,null,null,null,null,null,null,null,null,{"$f":"COUNTIF('Classement auteurs'!B:B,C136)","v":0}]
[null,null,null,null,null,null,null,null,null,null,null,null,null,null,null,null,{"$f":"COUNTIF('Classement auteurs'!B:B,C137)","v":0}]
[null,null,null,null,null,null,null,null,null,null,null,null,null,null,null,null,{"$f":"COUNTIF('Classement auteurs'!B:B,C138)","v":0}]

{"sheet":"xDéfi-11","index":13,"n_rows":138,"n_cols":50,"rows_kept":138,"cut":false,"hidden":false,"merged":[[4,25,4,29],[6,25,6,29],[8,25,9,29]]}
["colis","photologic","fichier","titre","note1","note2","note3","note4","note5","total","place","passage","statut","medaille","retenue",null,"0=absent\n1=présent",null,"fichier","total",null,null,null,null,null,null,null,null,null,null,null,null,null,null,null,"colis","photologic","fichier","titre","note1","note2","note3","note4","note5","total","place","passage","statut","medaille","retenue"]
[13,1,131845003401,"Avant la régate         ",9,7,12,0,0,{"$f":"SUM(E2:I2)","v":28},0,31,0,null,0,null,{"$f":"COUNTIF('Classement auteurs'!B:B,C2)","v":1},null,130527017001,{"$f":"(MID(S2,3,4)*1)","v":527},152,{"$f":"IF(U2=VLOOKUP($T2,'Classement clubs'!$B$2:$K$52,3,FALSE),\"OK\",\"KO\")","v":"OK"},null,null,null,null,null,null,null,null,null,null,null,null,13,48,130000019901,"La vie en rose           ",10,10,12,0,0,{"$f":"SUM(AM2:AQ2)","v":32},0,99,6,null,0]
[13,4,130987015701,"Rêve de Mérous       ",14,17,17,0,0,{"$f":"SUM(E3:I3)","v":48},0,109,0,null,0,null,{"$f":"COUNTIF('Classement auteurs'!B:B,C3)","v":1},null,130878015201,878,122,{"$f":"IF(U3=VLOOKUP($T3,'Classement clubs'!$B$2:$K$52,3,FALSE),\"OK\",\"KO\")","v":"OK"},null,null,null,null,null,null,null,null,null,null,null,null,13,86,130000020401,"Je t'ai à l'oeil        ",8,11,12,0,0,31,0,13,6,null,0]
[13,5,131845000801,"Le soleil se lève       ",13,12,11,0,0,36,0,136,0,null,0,null,{"$f":"COUNTIF('Classement auteurs'!B:B,C4)","v":1},null,130925008401,925,143,{"$f":"IF(U4=VLOOKUP($T4,'Classement clubs'!$B$2:$K$52,3,FALSE),\"OK\",\"KO\")","v":"OK"},null,null,null,"ATTENTION :",null,null,null,null,null,null,null,null,13,110,130000020801,"Un soir sur la Saône    ",13,13,14,0,0,40,0,34,6,null,0]
[13,6,131845000101,"Skate Park               ",12,12,18,0,0,42,0,132,0,null,0,null,{"$f":"COUNTIF('Classement auteurs'!B:B,C5)","v":1},null,130987019701,987,147,{"$f":"IF(U5=VLOOKUP($T5,'Classement clubs'!$B$2:$K$52,3,FALSE),\"OK\",\"KO\")","v":"OK"},null,null,null,"Le total des notes est fait sur chaque onglet après insertion.",null,null,null,null,null,null,null,null,13,93,130527002501,"Parapluies               ",14,15,12,0,0,41,0,63,0,null,0]
[13,7,130987028201,"Water selfie             ",13,14,15,0,0,42,0,117,0,null,0,null,{"$f":"COUNTIF('Classement auteurs'!B:B,C6)","v":1},null,131110000901,1110,128,{"$f":"IF(U6=VLOOKUP($T6,'Classement clubs'!$B$2:$K$52,3,FALSE),\"OK\",\"KO\")","v":"OK"},null,null,null,null,null,null,null,null,null,null,null,null,13,90,130527006401,"Bleu, blanc, noir        ",6,16,14,0,0,36,0,71,0,null,0]
[13,9,130987007401,"Adrien                   ",10,11,10,0,0,31,0,79,0,null,0,null,{"$f":"COUNTIF('Classement auteurs'!B:B,C7)","v":1},null,131353000701,1353,138,{"$f":"IF(U7=VLOOKUP($T7,'Classement clubs'!$B$2:$K$52,3,FALSE),\"OK\",\"KO\")","v":"OK"},null,null,null,"L'architecture du fichier notation est toujours la même.",null,null,null,null,null,null,null,null,13,150,130527009401,"Chez l'artiste ...       ",16,18,16,0,0,50,0,50,0,null,0]
[13,10,131845000301,"Variation d'ocres        ",9,13,14,0,0,36,0,53,0,null,0,null,{"$f":"COUNTIF('Classement auteurs'!B:B,C8)","v":1},null,131376017701,1376,142,{"$f":"IF(U8=VLOOKUP($T8,'Classement clubs'!$B$2:$K$52,3,FALSE),\"OK\",\"KO\")","v":"OK"},null,null,null,null,null,null,null,null,null,null,null,null,13,60,130527011601,"Repos                    ",11,14,14,0,0,39,0,55,0,null,0]
[13,12,131683008001,"Transparences            ",19,13,16,0,0,48,0,59,0,null,0,null,{"$f":"COUNTIF('Classement auteurs'!B:B,C9)","v":1},null,131499010601,1499,135,{"$f":"IF(U9=VLOOKUP($T9,'Classement clubs'!$B$2:$K$52,3,FALSE),\"OK\",\"KO\")","v":"OK"},null,null,null,"La colonne Q permet de verifier laprésence de l'auteur dans le classement auteur.",null,null,null,null,null,null,null,null,13,82,130527012401,"Mistral                  ",12,12,17,0,0,41,0,12,0,null,0]
[13,14,131499008701,"Geisha                   ",15,14,15,0,0,44,0,43,0,null,0,null,{"$f":"COUNTIF('Classement auteurs'!B:B,C10)","v":1},null,131619004201,1619,104,{"$f":"IF(U10=VLOOKUP($T10,'Classement clubs'!$B$2:$K$52,3,FALSE),\"OK\",\"KO\")","v":"OK"},null,null,null,null,null,null,null,null,null,null,null,null,13,89,130527013301,"Rue de Cuba              ",13,14,20,0,0,47,0,97,0,null,0]
[13,15,130878013001,"Perle de rose            ",11,15,15,0,0,41,0,83,0,null,0,null,{"$f":"COUNTIF('Classement auteurs'!B:B,C11)","v":1},null,131683006301,1683,159,{"$f":"IF(U11=VLOOKUP($T11,'Classement clubs'!$B$2:$K$52,3,FALSE),\"OK\",\"KO\")","v":"OK"},null,null,null,null,null,null,null,null,null,null,null,null,13,104,130527015501,"Roses                    ",14,19,13,0,0,46,0,32,0,null,0]
[13,18,130987024101,"L'Andine                 ",12,12,16,0,0,40,0,114,0,null,0,null,{"$f":"COUNTIF('Classement auteurs'!B:B,C12)","v":1},null,131823004901,1823,113,{"$f":"IF(U12=VLOOKUP($T12,'Classement clubs'!$B$2:$K$52,3,FALSE),\"OK\",\"KO\")","v":"OK"},null,null,null,null,null,null,null,null,null,null,null,null,13,144,130527017001,"Les mots envolés.       ",20,15,20,0,0,55,0,6,0,null,0]
[13,19,131992000301,"Le tatoueur de Madurai.  ",12,12,16,0,0,40,0,25,0,null,0,null,{"$f":"COUNTIF('Classement auteurs'!B:B,C13)","v":1},null,131845000101,1845,124,{"$f":"IF(U13=VLOOKUP($T13,'Classement clubs'!$B$2:$K$52,3,FALSE),\"OK\",\"KO\")","v":"OK"},null,null,null,null,null,null,null,null,null,null,null,null,13,33,130878007201,"Abri multicolore         ",13,8,15,0,0,36,0,57,0,null,0]
[13,20,130993015101,"Criquet vert             ",6,6,6,0,0,18,0,125,0,null,0,null,{"$f":"COUNTIF('Classement auteurs'!B:B,C14)","v":1},null,131862000801,1862,121,{"$f":"IF(U14=VLOOKUP($T14,'Classement clubs'!$B$2:$K$52,3,FALSE),\"OK\",\"KO\")","v":"OK"},null,null,null,null,null,null,null,null,null,null,null,null,13,15,130878013001,"Perle de rose            ",11,15,15,0,0,41,0,83,0,null,0]
[13,21,131879000601,"Hong Kong la nuit        ",15,17,15,0,0,47,0,4,0,null,0,null,{"$f":"COUNTIF('Classement auteurs'!B:B,C15)","v":1},null,131879000801,1879,139,{"$f":"IF(U15=VLOOKUP($T15,'Classement clubs'!$B$2:$K$52,3,FALSE),\"OK\",\"KO\")","v":"OK"},null,null,null,null,null,null,null,null,null,null,null,null,13,53,130878014101,"Tag                      ",12,14,10,0,0,36,0,92,0,null,0]
[13,22,131879000101,"Tangueros                ",12,16,13,0,0,41,0,67,0,null,0,null,{"$f":"COUNTIF('Classement auteurs'!B:B,C16)","v":1},null,131956006001,1956,136,{"$f":"IF(U16=VLOOKUP($T16,'Classement clubs'!$B$2:$K$52,3,FALSE),\"OK\",\"KO\")","v":"OK"},null,null,null,null,null,null,null,null,null,null,null,null,13,38,130878014301,"La souffreuse            ",12,12,14,0,0,38,0,131,0,null,0]
[13,24,130987024001,"Dorures d'autonne        ",16,15,15,0,0,46,0,42,0,null,0,null,{"$f":"COUNTIF('Classement auteurs'!B:B,C17)","v":1},null,132060001201,2060,130,{"$f":"IF(U17=VLOOKUP($T17,'Classement clubs'!$B$2:$K$52,3,FALSE),\"OK\",\"KO\")","v":"OK"},null,null,null,null,null,null,null,null,null,null,null,null,13,119,130878015201,"Magie des lumières      ",13,14,16,0,0,43,0,122,0,null,0]
[13,25,130987013801,"Maréchal-ferrant        ",12,12,14,0,0,38,0,58,0,null,0,null,{"$f":"COUNTIF('Classement auteurs'!B:B,C18)","v":1},null,132086002501,2086,107,{"$f":"IF(U18=VLOOKUP($T18,'Classement clubs'!$B$2:$K$52,3,FALSE),\"OK\",\"KO\")","v":"OK"},null,null,null,null,null,null,null,null,null,null,null,null,13,123,130925007701,"Arbres pétrifiés       ",15,13,18,0,0,46,0,37,0,null,0]
[13,27,131879000501,"Barques                  ",12,12,14,0,0,38,0,127,0,null,0,null,{"$f":"COUNTIF('Classement auteurs'!B:B,C19)","v":1},null,132089000101,2089,91,{"$f":"IF(U19=VLOOKUP($T19,'Classement clubs'!$B$2:$K$52,3,FALSE),\"OK\",\"KO\")","v":"OK"},null,null,null,null,null,null,null,null,null,null,null,null,13,101,130925008401,"Chorégraphie            ",16,16,19,0,0,51,0,76,0,null,0]
[13,28,131376012601,"Utopie                   ",11,12,8,0,0,31,0,60,0,null,0,null,{"$f":"COUNTIF('Classement auteurs'!B:B,C20)","v":1},null,null,null,null,null,null,null,null,null,null,null,null,null,null,null,null,null,null,13,106,130925008601,"Rouge                    ",13,7,13,0,0,{"$f":"SUM(AN20:AR20)","v":33},0,66,0,null,0]
[13,29,130987024201,"Planet Caraïbes         ",14,13,19,0,0,46,0,7,0,null,0,null,{"$f":"COUNTIF('Classement auteurs'!B:B,C21)","v":1},null,null,null,null,null,null,null,null,null,null,null,null,null,null,null,null,null,null,13,130,130925009801,"Vite !                   ",14,14,16,0,0,44,0,18,0,null,0]
[13,30,131824003101,"Ice attack               ",12,13,17,0,0,42,0,89,0,null,0,null,{"$f":"COUNTIF('Classement auteurs'!B:B,C22)","v":1},null,null,null,null,null,null,null,null,null,null,null,null,null,null,null,null,null,null,13,153,130925009901,"Belles coiffes           ",10,9,11,0,0,30,0,119,0,null,0]
[13,31,130987019601,"Fraîcheur               ",12,14,13,0,0,39,0,1,0,null,0,null,{"$f":"COUNTIF('Classement auteurs'!B:B,C23)","v":1},null,null,null,null,null,null,null,null,null,null,null,null,null,null,null,null,null,null,13,57,130925010201,"Mae                      ",12,15,19,0,0,46,0,91,0,null,0]
[13,32,130987019701,"Sommet                   ",15,16,20,0,0,51,0,54,0,null,0,null,{"$f":"COUNTIF('Classement auteurs'!B:B,C24)","v":1},null,null,null,null,null,null,null,null,null,null,null,null,null,null,null,null,null,null,13,155,130987001601,"Envol                    ",11,11,13,0,0,35,0,106,0,null,0]
[13,33,130878007201,"Abri multicolore         ",13,8,15,0,0,36,0,57,0,null,0,null,{"$f":"COUNTIF('Classement auteurs'!B:B,C25)","v":1},null,null,null,null,null,null,null,null,null,null,null,null,null,null,null,null,null,null,13,9,130987007401,"Adrien                   ",10,11,10,0,0,31,0,79,0,null,0]
[13,34,132193000301,"Ambiance New York        ",12,18,18,0,0,48,0,69,0,null,0,null,{"$f":"COUNTIF('Classement auteurs'!B:B,C26)","v":1},null,null,null,null,null,null,null,null,null,null,null,null,null,null,null,null,null,null,13,25,130987013801,"Maréchal-ferrant        ",12,12,14,0,0,38,0,58,0,null,0]
[13,35,131683006301,"Avant l'orage            ",18,19,20,0,0,57,0,93,0,null,0,null,{"$f":"COUNTIF('Classement auteurs'!B:B,C27)","v":1},null,null,null,null,null,null,null,null,null,null,null,null,null,null,null,null,null,null,13,37,130987014001,"Le coeur dans les nuages ",14,15,19,0,0,48,0,61,0,null,0]
[13,36,132060000101,"Signature artistique     ",6,16,7,0,0,29,0,26,0,null,0,null,{"$f":"COUNTIF('Classement auteurs'!B:B,C28)","v":1},null,null,null,null,null,null,null,null,null,null,null,null,null,null,null,null,null,null,13,4,130987015701,"Rêve de Mérous       ",14,17,17,0,0,48,0,109,0,null,0]
[13,37,130987014001,"Le coeur dans les nuages ",14,15,19,0,0,48,0,61,0,null,0,null,{"$f":"COUNTIF('Classement auteurs'!B:B,C29)","v":1},null,null,null,null,null,null,null,null,null,null,null,null,null,null,null,null,null,null,13,31,130987019601,"Fraîcheur               ",12,14,13,0,0,39,0,1,0,null,0]
[13,38,130878014301,"La souffreuse            ",12,12,14,0,0,38,0,131,0,null,0,null,{"$f":"COUNTIF('Classement auteurs'!B:B,C30)","v":1},null,null,null,null,null,null,null,null,null,null,null,null,null,null,null,null,null,null,13,32,130987019701,"Sommet                   ",15,16,20,0,0,51,0,54,0,null,0]
[13,39,132086002301,"Parade en rose           ",11,13,12,0,0,36,0,29,0,null,0,null,{"$f":"COUNTIF('Classement auteurs'!B:B,C31)","v":1},null,null,null,null,null,null,null,null,null,null,null,null,null,null,null,null,null,null,13,99,130987023901,"Street Painting          ",10,15,15,0,0,40,0,27,0,null,0]
[13,40,132060000701,"Paris La Défense        ",13,11,14,0,0,38,0,73,0,null,0,null,{"$f":"COUNTIF('Classement auteurs'!B:B,C32)","v":1},null,null,null,null,null,null,null,null,null,null,null,null,null,null,null,null,null,null,13,24,130987024001,"Dorures d'autonne        ",16,15,15,0,0,46,0,42,0,null,0]
[13,41,131376018301,"Rêve d'Orient           ",12,9,10,0,0,31,0,111,0,null,0,null,{"$f":"COUNTIF('Classement auteurs'!B:B,C33)","v":1},null,null,null,null,null,null,null,null,null,null,null,null,null,null,null,null,null,null,13,18,130987024101,"L'Andine                 ",12,12,16,0,0,40,0,114,0,null,0]
[13,42,130987028801,"Feu Art                  ",11,10,15,0,0,36,0,113,0,null,0,null,{"$f":"COUNTIF('Classement auteurs'!B:B,C34)","v":1},null,null,null,null,null,null,null,null,null,null,null,null,null,null,null,null,null,null,13,29,130987024201,"Planet Caraïbes         ",14,13,19,0,0,46,0,7,0,null,0]
[13,43,131683000701,"SAYONARA                 ",10,11,11,0,0,32,0,2,0,null,0,null,{"$f":"COUNTIF('Classement auteurs'!B:B,C35)","v":1},null,null,null,null,null,null,null,null,null,null,null,null,null,null,null,null,null,null,13,7,130987028201,"Water selfie             ",13,14,15,0,0,42,0,117,0,null,0]
[13,44,131376014701,"Enfant sous la pluie     ",14,13,16,0,0,43,0,75,0,null,0,null,{"$f":"COUNTIF('Classement auteurs'!B:B,C36)","v":1},null,null,null,null,null,null,null,null,null,null,null,null,null,null,null,null,null,null,13,58,130987028401,"Marée verte             ",6,12,14,0,0,32,0,22,0,null,0]
[13,45,131824001901,"Juste une éclaircie     ",20,14,18,0,0,52,0,126,0,null,0,null,{"$f":"COUNTIF('Classement auteurs'!B:B,C37)","v":1},null,null,null,null,null,null,null,null,null,null,null,null,null,null,null,null,null,null,13,42,130987028801,"Feu Art                  ",11,10,15,0,0,36,0,113,0,null,0]
[13,46,131956005101,"Litter Litter            ",9,8,17,0,0,34,0,15,0,null,0,null,{"$f":"COUNTIF('Classement auteurs'!B:B,C38)","v":1},null,null,null,null,null,null,null,null,null,null,null,null,null,null,null,null,null,null,13,20,130993015101,"Criquet vert             ",6,6,6,0,0,18,0,125,0,null,0]
[13,47,131353000201,"Fleur                    ",9,11,13,0,0,33,0,41,0,null,0,null,{"$f":"COUNTIF('Classement auteurs'!B:B,C39)","v":1},null,null,null,null,null,null,null,null,null,null,null,null,null,null,null,null,null,null,13,62,130993015401,"J'étais la plus belle   ",13,15,14,0,0,42,0,33,0,null,0]
[13,48,130000019901,"La vie en rose           ",10,10,12,0,0,32,0,99,6,null,0,null,{"$f":"COUNTIF('Classement auteurs'!B:B,C40)","v":1},null,null,null,null,null,null,null,null,null,null,null,null,null,null,null,null,null,null,13,73,131110000901,"Dune                     ",16,17,18,0,0,51,0,130,0,null,0]
[13,50,132084001701,"Champs d'ail             ",11,18,16,0,0,45,0,129,0,null,0,null,{"$f":"COUNTIF('Classement auteurs'!B:B,C41)","v":1},null,null,null,null,null,null,null,null,null,null,null,null,null,null,null,null,null,null,13,134,131110001001,"Transhumance             ",13,14,14,0,0,41,0,77,0,null,0]
[13,51,132060002201,"Collégiennes à Londres ",14,11,16,0,0,41,0,88,0,null,0,null,{"$f":"COUNTIF('Classement auteurs'!B:B,C42)","v":1},null,null,null,null,null,null,null,null,null,null,null,null,null,null,null,null,null,null,13,111,131110001101,"Lotus au petit matin     ",11,12,13,0,0,36,0,134,0,null,0]
[13,53,130878014101,"Tag                      ",12,14,10,0,0,36,0,92,0,null,0,null,{"$f":"COUNTIF('Classement auteurs'!B:B,C43)","v":1},null,null,null,null,null,null,null,null,null,null,null,null,null,null,null,null,null,null,13,159,131353000101,"Ambiance automnale       ",14,14,17,0,0,45,0,110,0,null,0]
[13,55,131499010101,"Tout l'océan est à eux ",8,10,19,0,0,37,0,108,0,null,0,null,{"$f":"COUNTIF('Classement auteurs'!B:B,C44)","v":1},null,null,null,null,null,null,null,null,null,null,null,null,null,null,null,null,null,null,13,47,131353000201,"Fleur                    ",9,11,13,0,0,33,0,41,0,null,0]
[13,56,131499005201,"Rèverie                 ",13,16,15,0,0,44,0,39,0,null,0,null,{"$f":"COUNTIF('Classement auteurs'!B:B,C45)","v":1},null,null,null,null,null,null,null,null,null,null,null,null,null,null,null,null,null,null,13,158,131353000701,"Cellulose du Rhône      ",14,20,14,0,0,48,0,24,0,null,0]
[13,57,130925010201,"Mae                      ",12,15,19,0,0,46,0,91,0,null,0,null,{"$f":"COUNTIF('Classement auteurs'!B:B,C46)","v":1},null,null,null,null,null,null,null,null,null,null,null,null,null,null,null,null,null,null,13,63,131353003001,"Pas facile               ",17,11,17,0,0,45,0,105,0,null,0]
[13,58,130987028401,"Marée verte             ",6,12,14,0,0,32,0,22,0,null,0,null,{"$f":"COUNTIF('Classement auteurs'!B:B,C47)","v":1},null,null,null,null,null,null,null,null,null,null,null,null,null,null,null,null,null,null,13,107,131353004301,"Vert et rouge            ",6,6,6,0,0,18,0,90,0,null,0]
[13,59,132193000401,"Multicolore              ",12,14,15,0,0,41,0,82,0,null,0,null,{"$f":"COUNTIF('Classement auteurs'!B:B,C48)","v":1},null,null,null,null,null,null,null,null,null,null,null,null,null,null,null,null,null,null,13,64,131353007101,"Street art               ",11,13,13,0,0,37,0,116,0,null,0]
[13,60,130527011601,"Repos                    ",11,14,14,0,0,39,0,55,0,null,0,null,{"$f":"COUNTIF('Classement auteurs'!B:B,C49)","v":1},null,null,null,null,null,null,null,null,null,null,null,null,null,null,null,null,null,null,13,108,131376011801,"BAMBINS HIMBAS           ",14,16,18,0,0,48,0,85,7,null,0]
[13,61,131845004101,"Clair et foncé          ",7,13,9,0,0,29,0,38,0,null,0,null,{"$f":"COUNTIF('Classement auteurs'!B:B,C50)","v":1},null,null,null,null,null,null,null,null,null,null,null,null,null,null,null,null,null,null,13,28,131376012601,"Utopie                   ",11,12,8,0,0,31,0,60,0,null,0]
[13,62,130993015401,"J'étais la plus belle   ",13,15,14,0,0,42,0,33,0,null,0,null,{"$f":"COUNTIF('Classement auteurs'!B:B,C51)","v":1},null,null,null,null,null,null,null,null,null,null,null,null,null,null,null,null,null,null,13,44,131376014701,"Enfant sous la pluie     ",14,13,16,0,0,43,0,75,0,null,0]
[13,63,131353003001,"Pas facile               ",17,11,17,0,0,45,0,105,0,null,0,null,{"$f":"COUNTIF('Classement auteurs'!B:B,C52)","v":1},null,null,null,null,null,null,null,null,null,null,null,null,null,null,null,null,null,null,13,136,131376015801,"Quiétude                ",13,12,11,0,0,{"$f":"SUM(AN52:AR52)","v":36},0,49,0,null,0]
[13,64,131353007101,"Street art               ",11,13,13,0,0,37,0,116,0,null,0,null,{"$f":"COUNTIF('Classement auteurs'!B:B,C53)","v":1},null,null,null,null,null,null,null,null,null,null,null,null,null,null,null,null,null,null,13,124,131376017601,"Au fond de mon verre     ",11,9,12,0,0,32,0,120,0,null,0]
[13,65,132089000101,"Les Cinq Terres          ",11,13,12,0,0,36,0,94,0,null,0,null,{"$f":"COUNTIF('Classement auteurs'!B:B,C54)","v":1},null,null,null,null,null,null,null,null,null,null,null,null,null,null,null,null,null,null,13,66,131376017701,"Dragster                 ",17,16,18,0,0,51,0,20,0,null,0]
[13,66,131376017701,"Dragster                 ",17,16,18,0,0,51,0,20,0,null,0,null,{"$f":"COUNTIF('Classement auteurs'!B:B,C55)","v":1},null,null,null,null,null,null,null,null,null,null,null,null,null,null,null,null,null,null,13,132,131376018001,"DemonstrationTimesSquare ",11,13,14,0,0,38,0,9,0,null,0]
[13,67,131879000801,"La fille au chapeau      ",17,16,17,0,0,50,0,115,0,null,0,null,{"$f":"COUNTIF('Classement auteurs'!B:B,C56)","v":1},null,null,null,null,null,null,null,null,null,null,null,null,null,null,null,null,null,null,13,41,131376018301,"Rêve d'Orient           ",12,9,10,0,0,31,0,111,0,null,0]
[13,68,131499010401,"En course                ",11,12,14,0,0,37,0,56,0,null,0,null,{"$f":"COUNTIF('Classement auteurs'!B:B,C57)","v":1},null,null,null,null,null,null,null,null,null,null,null,null,null,null,null,null,null,null,13,113,131494000201,"Vélo d'enfer            ",13,10,16,0,0,39,0,78,0,null,0]
[13,69,131823004901,"Flamenco à Gorbio       ",16,14,14,0,0,44,0,64,0,null,0,null,{"$f":"COUNTIF('Classement auteurs'!B:B,C58)","v":1},null,null,null,null,null,null,null,null,null,null,null,null,null,null,null,null,null,null,13,129,131499003601,"Casquettes               ",9,10,15,0,0,34,0,102,0,null,0]
[13,70,131956004501,"Paganello                ",13,14,11,0,0,38,0,3,0,null,0,null,{"$f":"COUNTIF('Classement auteurs'!B:B,C59)","v":1},null,null,null,null,null,null,null,null,null,null,null,null,null,null,null,null,null,null,13,75,131499003901,"Ablution                 ",15,14,13,0,0,42,0,107,0,null,0]
[13,71,131956003401,"Feerie                   ",11,15,11,0,0,37,0,68,0,null,0,null,{"$f":"COUNTIF('Classement auteurs'!B:B,C60)","v":1},null,null,null,null,null,null,null,null,null,null,null,null,null,null,null,null,null,null,13,56,131499005201,"Rèverie                 ",13,16,15,0,0,44,0,39,0,null,0]
[13,72,131683007901,"Regard perçant          ",18,16,20,0,0,54,0,70,0,null,0,null,{"$f":"COUNTIF('Classement auteurs'!B:B,C61)","v":1},null,null,null,null,null,null,null,null,null,null,null,null,null,null,null,null,null,null,13,117,131499006801,"Reflets sur St Honorat   ",13,8,14,0,0,35,0,45,0,null,0]
[13,73,131110000901,"Dune                     ",16,17,18,0,0,51,0,130,0,null,0,null,{"$f":"COUNTIF('Classement auteurs'!B:B,C62)","v":1},null,null,null,null,null,null,null,null,null,null,null,null,null,null,null,null,null,null,13,140,131499006901,"Florence                 ",10,16,16,0,0,42,0,81,0,null,0]
[13,74,132086001401,"TEMPS DE PAUSE           ",10,12,11,0,0,33,0,121,0,null,0,null,{"$f":"COUNTIF('Classement auteurs'!B:B,C63)","v":1},null,null,null,null,null,null,null,null,null,null,null,null,null,null,null,null,null,null,13,131,131499008201,"Champ jaune et vert      ",12,17,16,0,0,45,0,35,0,null,0]
[13,75,131499003901,"Ablution                 ",15,14,13,0,0,42,0,107,0,null,0,null,{"$f":"COUNTIF('Classement auteurs'!B:B,C64)","v":1},null,null,null,null,null,null,null,null,null,null,null,null,null,null,null,null,null,null,13,14,131499008701,"Geisha                   ",15,14,15,0,0,44,0,43,0,null,0]
[13,76,132060001701,"Luminaires               ",11,14,12,0,0,37,0,101,0,null,0,null,{"$f":"COUNTIF('Classement auteurs'!B:B,C65)","v":1},null,null,null,null,null,null,null,null,null,null,null,null,null,null,null,null,null,null,13,114,131499009301,"Lights                   ",8,14,7,0,0,29,0,80,0,null,0]
[13,77,132103002301,"Couleurs du Japon        ",12,16,18,0,0,46,0,17,0,null,0,null,{"$f":"COUNTIF('Classement auteurs'!B:B,C66)","v":1},null,null,null,null,null,null,null,null,null,null,null,null,null,null,null,null,null,null,13,102,131499009801,"Mystère                 ",10,15,17,0,0,42,0,10,0,null,0]
[13,78,132089000201,"CD en MACRO              ",7,8,9,0,0,{"$f":"SUM(E67:I67)","v":24},0,23,0,null,0,null,{"$f":"COUNTIF('Classement auteurs'!B:B,C67)","v":1},null,null,null,null,null,null,null,null,null,null,null,null,null,null,null,null,null,null,13,100,131499010001,"Une jolie voix de Cassel ",11,15,16,0,0,42,0,100,0,null,0]
[13,79,131862002201,"Automne                  ",15,13,13,0,0,41,0,135,0,null,0,null,{"$f":"COUNTIF('Classement auteurs'!B:B,C68)","v":1},null,null,null,null,null,null,null,null,null,null,null,null,null,null,null,null,null,null,13,55,131499010101,"Tout l'océan est à eux ",8,10,19,0,0,37,0,108,0,null,0]
[13,81,131956000401,"Gourmandise              ",12,9,12,0,0,33,0,112,0,null,0,null,{"$f":"COUNTIF('Classement auteurs'!B:B,C69)","v":1},null,null,null,null,null,null,null,null,null,null,null,null,null,null,null,null,null,null,13,68,131499010401,"En course                ",11,12,14,0,0,37,0,56,0,null,0]
[13,82,130527012401,"Mistral                  ",12,12,17,0,0,41,0,12,0,null,0,null,{"$f":"COUNTIF('Classement auteurs'!B:B,C70)","v":1},null,null,null,null,null,null,null,null,null,null,null,null,null,null,null,null,null,null,13,96,131499010501,"Au musée                ",9,13,13,0,0,35,0,95,0,null,0]
[13,83,131683005101,"La Crau un autre désert ",9,12,15,0,0,36,0,84,0,null,0,null,{"$f":"COUNTIF('Classement auteurs'!B:B,C71)","v":1},null,null,null,null,null,null,null,null,null,null,null,null,null,null,null,null,null,null,13,97,131499010601,"Petits navires ...       ",14,15,17,0,0,46,0,47,0,null,0]
[13,84,131956006001,"Light under the milky way",16,17,17,0,0,50,0,104,0,null,0,null,{"$f":"COUNTIF('Classement auteurs'!B:B,C72)","v":1},null,null,null,null,null,null,null,null,null,null,null,null,null,null,null,null,null,null,13,88,131619004201,"DEMOISELLE               ",6,6,6,0,0,18,0,86,0,null,0]
[13,85,132060002001,"Bleu, blanc, rouge       ",12,15,16,0,0,43,0,137,0,null,0,null,{"$f":"COUNTIF('Classement auteurs'!B:B,C73)","v":1},null,null,null,null,null,null,null,null,null,null,null,null,null,null,null,null,null,null,13,137,131619004501,"Foncouverte              ",19,14,18,0,0,51,0,133,0,null,0]
[13,86,130000020401,"Je t'ai à l'oeil        ",8,11,12,0,0,31,0,13,6,null,0,null,{"$f":"COUNTIF('Classement auteurs'!B:B,C74)","v":1},null,null,null,null,null,null,null,null,null,null,null,null,null,null,null,null,null,null,13,109,131619004601,"Balle au nez             ",9,12,14,0,0,35,0,44,0,null,0]
[13,88,131619004201,"DEMOISELLE               ",6,6,6,0,0,18,0,86,0,null,0,null,{"$f":"COUNTIF('Classement auteurs'!B:B,C75)","v":1},null,null,null,null,null,null,null,null,null,null,null,null,null,null,null,null,null,null,13,43,131683000701,"SAYONARA                 ",10,11,11,0,0,32,0,2,0,null,0]
[13,89,130527013301,"Rue de Cuba              ",13,14,20,0,0,47,0,97,0,null,0,null,{"$f":"COUNTIF('Classement auteurs'!B:B,C76)","v":1},null,null,null,null,null,null,null,null,null,null,null,null,null,null,null,null,null,null,13,83,131683005101,"La Crau un autre désert ",9,12,15,0,0,36,0,84,0,null,0]
[13,90,130527006401,"Bleu, blanc, noir        ",6,16,14,0,0,36,0,71,0,null,0,null,{"$f":"COUNTIF('Classement auteurs'!B:B,C77)","v":1},null,null,null,null,null,null,null,null,null,null,null,null,null,null,null,null,null,null,13,35,131683006301,"Avant l'orage            ",18,19,20,0,0,57,0,93,0,null,0]
[13,91,131879001301,"Le chat                  ",12,15,15,0,0,42,0,118,0,null,0,null,{"$f":"COUNTIF('Classement auteurs'!B:B,C78)","v":1},null,null,null,null,null,null,null,null,null,null,null,null,null,null,null,null,null,null,13,126,131683006601,"La fillette et sa glace  ",13,11,16,0,0,40,0,21,0,null,0]
[13,92,132060002401,"Orchidées incandescents ",7,14,14,0,0,35,0,51,0,null,0,null,{"$f":"COUNTIF('Classement auteurs'!B:B,C79)","v":1},null,null,null,null,null,null,null,null,null,null,null,null,null,null,null,null,null,null,13,72,131683007901,"Regard perçant          ",18,16,20,0,0,54,0,70,0,null,0]
[13,93,130527002501,"Parapluies               ",14,15,12,0,0,41,0,63,0,null,0,null,{"$f":"COUNTIF('Classement auteurs'!B:B,C80)","v":1},null,null,null,null,null,null,null,null,null,null,null,null,null,null,null,null,null,null,13,12,131683008001,"Transparences            ",19,13,16,0,0,48,0,59,0,null,0]
[13,94,132060000901,"Face au mur              ",13,9,13,0,0,35,0,30,0,null,0,null,{"$f":"COUNTIF('Classement auteurs'!B:B,C81)","v":1},null,null,null,null,null,null,null,null,null,null,null,null,null,null,null,null,null,null,13,69,131823004901,"Flamenco à Gorbio       ",16,14,14,0,0,44,0,64,0,null,0]
[13,95,132060001801,"No limit                 ",10,13,15,0,0,38,0,74,0,null,0,null,{"$f":"COUNTIF('Classement auteurs'!B:B,C82)","v":1},null,null,null,null,null,null,null,null,null,null,null,null,null,null,null,null,null,null,13,120,131823005701,"Cannes régates royales  ",10,11,15,0,0,36,0,124,0,null,0]
[13,96,131499010501,"Au musée                ",9,13,13,0,0,35,0,95,0,null,0,null,{"$f":"COUNTIF('Classement auteurs'!B:B,C83)","v":1},null,null,null,null,null,null,null,null,null,null,null,null,null,null,null,null,null,null,13,143,131823007601,"Orange Grassoise         ",8,11,14,0,0,33,0,46,0,null,0]
[13,97,131499010601,"Petits navires ...       ",14,15,17,0,0,46,0,47,0,null,0,null,{"$f":"COUNTIF('Classement auteurs'!B:B,C84)","v":1},null,null,null,null,null,null,null,null,null,null,null,null,null,null,null,null,null,null,13,115,131823007801,"Eucalyptus               ",8,10,12,0,0,{"$f":"SUM(AN84:AR84)","v":30},0,11,0,null,0]
[13,98,131862001101,"Le guitariste            ",10,9,10,0,0,29,0,72,0,null,0,null,{"$f":"COUNTIF('Classement auteurs'!B:B,C85)","v":1},null,null,null,null,null,null,null,null,null,null,null,null,null,null,null,null,null,null,13,45,131824001901,"Juste une éclaircie     ",20,14,18,0,0,52,0,126,0,null,0]
[13,99,130987023901,"Street Painting          ",10,15,15,0,0,40,0,27,0,null,0,null,{"$f":"COUNTIF('Classement auteurs'!B:B,C86)","v":1},null,null,null,null,null,null,null,null,null,null,null,null,null,null,null,null,null,null,13,30,131824003101,"Ice attack               ",12,13,17,0,0,42,0,89,0,null,0]
[13,100,131499010001,"Une jolie voix de Cassel ",11,15,16,0,0,42,0,100,0,null,0,null,{"$f":"COUNTIF('Classement auteurs'!B:B,C87)","v":1},null,null,null,null,null,null,null,null,null,null,null,null,null,null,null,null,null,null,13,6,131845000101,"Skate Park               ",12,12,18,0,0,42,0,132,0,null,0]
[13,101,130925008401,"Chorégraphie            ",16,16,19,0,0,51,0,76,0,null,0,null,{"$f":"COUNTIF('Classement auteurs'!B:B,C88)","v":1},null,null,null,null,null,null,null,null,null,null,null,null,null,null,null,null,null,null,13,149,131845001101,"...vers la culture       ",14,13,14,0,0,41,0,28,0,null,0]
[13,102,131499009801,"Mystère                 ",10,15,17,0,0,42,0,10,0,null,0,null,{"$f":"COUNTIF('Classement auteurs'!B:B,C89)","v":1},null,null,null,null,null,null,null,null,null,null,null,null,null,null,null,null,null,null,13,118,131845001401,"Seul au monde            ",11,13,17,0,0,41,0,19,0,null,0]
[13,104,130527015501,"Roses                    ",14,19,13,0,0,46,0,32,0,null,0,null,{"$f":"COUNTIF('Classement auteurs'!B:B,C90)","v":1},null,null,null,null,null,null,null,null,null,null,null,null,null,null,null,null,null,null,13,122,131845004001,"Le cheval de cirque      ",7,16,17,0,0,40,0,103,0,null,0]
[13,105,132060001501,"Profitons vite           ",9,12,14,0,0,35,0,96,0,null,0,null,{"$f":"COUNTIF('Classement auteurs'!B:B,C91)","v":1},null,null,null,null,null,null,null,null,null,null,null,null,null,null,null,null,null,null,13,148,131845002101,"Abandon                  ",9,13,16,0,0,38,0,87,0,null,0]
[13,106,130925008601,"Rouge                    ",13,7,13,0,0,33,0,66,0,null,0,null,{"$f":"COUNTIF('Classement auteurs'!B:B,C92)","v":1},null,null,null,null,null,null,null,null,null,null,null,null,null,null,null,null,null,null,13,10,131845000301,"Variation d'ocres        ",9,13,14,0,0,36,0,53,0,null,0]
[13,107,131353004301,"Vert et rouge            ",6,6,6,0,0,18,0,90,0,null,0,null,{"$f":"COUNTIF('Classement auteurs'!B:B,C93)","v":1},null,null,null,null,null,null,null,null,null,null,null,null,null,null,null,null,null,null,13,5,131845000801,"Le soleil se lève       ",13,12,11,0,0,36,0,136,0,null,0]
[13,108,131376011801,"BAMBINS HIMBAS           ",14,16,18,0,0,48,0,85,7,null,0,null,{"$f":"COUNTIF('Classement auteurs'!B:B,C94)","v":1},null,null,null,null,null,null,null,null,null,null,null,null,null,null,null,null,null,null,13,116,131845002501,"Avenue de Tayac          ",7,13,10,0,0,30,0,98,0,null,0]
[13,109,131619004601,"Balle au nez             ",9,12,14,0,0,35,0,44,0,null,0,null,{"$f":"COUNTIF('Classement auteurs'!B:B,C95)","v":1},null,null,null,null,null,null,null,null,null,null,null,null,null,null,null,null,null,null,13,61,131845004101,"Clair et foncé          ",7,13,9,0,0,29,0,38,0,null,0]
[13,110,130000020801,"Un soir sur la Saône    ",13,13,14,0,0,40,0,34,6,null,0,null,{"$f":"COUNTIF('Classement auteurs'!B:B,C96)","v":1},null,null,null,null,null,null,null,null,null,null,null,null,null,null,null,null,null,null,13,1,131845003401,"Avant la régate         ",9,7,12,0,0,28,0,31,0,null,0]
[13,111,131110001101,"Lotus au petit matin     ",11,12,13,0,0,36,0,134,0,null,0,null,{"$f":"COUNTIF('Classement auteurs'!B:B,C97)","v":1},null,null,null,null,null,null,null,null,null,null,null,null,null,null,null,null,null,null,13,127,131862000801,"Bleu de nice             ",15,17,19,0,0,51,0,8,0,null,0]
[13,113,131494000201,"Vélo d'enfer            ",13,10,16,0,0,39,0,78,0,null,0,null,{"$f":"COUNTIF('Classement auteurs'!B:B,C98)","v":1},null,null,null,null,null,null,null,null,null,null,null,null,null,null,null,null,null,null,13,98,131862001101,"Le guitariste            ",10,9,10,0,0,29,0,72,0,null,0]
[13,114,131499009301,"Lights                   ",8,14,7,0,0,29,0,80,0,null,0,null,{"$f":"COUNTIF('Classement auteurs'!B:B,C99)","v":1},null,null,null,null,null,null,null,null,null,null,null,null,null,null,null,null,null,null,13,79,131862002201,"Automne                  ",15,13,13,0,0,41,0,135,0,null,0]
[13,115,131823007801,"Eucalyptus               ",8,10,12,0,0,30,0,11,0,null,0,null,{"$f":"COUNTIF('Classement auteurs'!B:B,C100)","v":1},null,null,null,null,null,null,null,null,null,null,null,null,null,null,null,null,null,null,13,22,131879000101,"Tangueros                ",12,16,13,0,0,41,0,67,0,null,0]
[13,116,131845002501,"Avenue de Tayac          ",7,13,10,0,0,30,0,98,0,null,0,null,{"$f":"COUNTIF('Classement auteurs'!B:B,C101)","v":1},null,null,null,null,null,null,null,null,null,null,null,null,null,null,null,null,null,null,13,27,131879000501,"Barques                  ",12,12,14,0,0,38,0,127,0,null,0]
[13,117,131499006801,"Reflets sur St Honorat   ",13,8,14,0,0,35,0,45,0,null,0,null,{"$f":"COUNTIF('Classement auteurs'!B:B,C102)","v":1},null,null,null,null,null,null,null,null,null,null,null,null,null,null,null,null,null,null,13,21,131879000601,"Hong Kong la nuit        ",15,17,15,0,0,47,0,4,0,null,0]
[13,118,131845001401,"Seul au monde            ",11,13,17,0,0,41,0,19,0,null,0,null,{"$f":"COUNTIF('Classement auteurs'!B:B,C103)","v":1},null,null,null,null,null,null,null,null,null,null,null,null,null,null,null,null,null,null,13,67,131879000801,"La fille au chapeau      ",17,16,17,0,0,50,0,115,0,null,0]
[13,119,130878015201,"Magie des lumières      ",13,14,16,0,0,43,0,122,0,null,0,null,{"$f":"COUNTIF('Classement auteurs'!B:B,C104)","v":1},null,null,null,null,null,null,null,null,null,null,null,null,null,null,null,null,null,null,13,91,131879001301,"Le chat                  ",12,15,15,0,0,42,0,118,0,null,0]
[13,120,131823005701,"Cannes régates royales  ",10,11,15,0,0,36,0,124,0,null,0,null,{"$f":"COUNTIF('Classement auteurs'!B:B,C105)","v":1},null,null,null,null,null,null,null,null,null,null,null,null,null,null,null,null,null,null,13,81,131956000401,"Gourmandise              ",12,9,12,0,0,33,0,112,0,null,0]
[13,121,132060003301,"Floraison                ",7,11,10,0,0,28,0,128,7,null,0,null,{"$f":"COUNTIF('Classement auteurs'!B:B,C106)","v":1},null,null,null,null,null,null,null,null,null,null,null,null,null,null,null,null,null,null,13,151,131956002401,"Chut Silence             ",8,11,9,0,0,28,0,16,0,null,0]
[13,122,131845004001,"Le cheval de cirque      ",7,16,17,0,0,40,0,103,0,null,0,null,{"$f":"COUNTIF('Classement auteurs'!B:B,C107)","v":1},null,null,null,null,null,null,null,null,null,null,null,null,null,null,null,null,null,null,13,152,131956002901,"Rouge salant             ",14,14,15,0,0,43,0,5,0,null,0]
[13,123,130925007701,"Arbres pétrifiés       ",15,13,18,0,0,46,0,37,0,null,0,null,{"$f":"COUNTIF('Classement auteurs'!B:B,C108)","v":1},null,null,null,null,null,null,null,null,null,null,null,null,null,null,null,null,null,null,13,71,131956003401,"Feerie                   ",11,15,11,0,0,37,0,68,0,null,0]
[13,124,131376017601,"Au fond de mon verre     ",11,9,12,0,0,32,0,120,0,null,0,null,{"$f":"COUNTIF('Classement auteurs'!B:B,C109)","v":1},null,null,null,null,null,null,null,null,null,null,null,null,null,null,null,null,null,null,13,70,131956004501,"Paganello                ",13,14,11,0,0,38,0,3,0,null,0]
[13,126,131683006601,"La fillette et sa glace  ",13,11,16,0,0,40,0,21,0,null,0,null,{"$f":"COUNTIF('Classement auteurs'!B:B,C110)","v":1},null,null,null,null,null,null,null,null,null,null,null,null,null,null,null,null,null,null,13,46,131956005101,"Litter Litter            ",9,8,17,0,0,34,0,15,0,null,0]
[13,127,131862000801,"Bleu de nice             ",15,17,19,0,0,51,0,8,0,null,0,null,{"$f":"COUNTIF('Classement auteurs'!B:B,C111)","v":1},null,null,null,null,null,null,null,null,null,null,null,null,null,null,null,null,null,null,13,156,131956005701,"Solitudes                ",11,12,13,0,0,36,0,62,0,null,0]
[13,128,132089000301,"Festirun                 ",10,10,11,0,0,31,0,40,0,null,0,null,{"$f":"COUNTIF('Classement auteurs'!B:B,C112)","v":1},null,null,null,null,null,null,null,null,null,null,null,null,null,null,null,null,null,null,13,138,131956005901,"Couleurs de Montréal    ",10,15,18,0,0,43,0,52,0,null,0]
[13,129,131499003601,"Casquettes               ",9,10,15,0,0,34,0,102,0,null,0,null,{"$f":"COUNTIF('Classement auteurs'!B:B,C113)","v":1},null,null,null,null,null,null,null,null,null,null,null,null,null,null,null,null,null,null,13,84,131956006001,"Light under the milky way",16,17,17,0,0,50,0,104,0,null,0]
[13,130,130925009801,"Vite !                   ",14,14,16,0,0,44,0,18,0,null,0,null,{"$f":"COUNTIF('Classement auteurs'!B:B,C114)","v":1},null,null,null,null,null,null,null,null,null,null,null,null,null,null,null,null,null,null,13,19,131992000301,"Le tatoueur de Madurai.  ",12,12,16,0,0,40,0,25,0,null,0]
[13,131,131499008201,"Champ jaune et vert      ",12,17,16,0,0,45,0,35,0,null,0,null,{"$f":"COUNTIF('Classement auteurs'!B:B,C115)","v":1},null,null,null,null,null,null,null,null,null,null,null,null,null,null,null,null,null,null,13,36,132060000101,"Signature artistique     ",6,16,7,0,0,29,0,26,0,null,0]
[13,132,131376018001,"DemonstrationTimesSquare ",11,13,14,0,0,38,0,9,0,null,0,null,{"$f":"COUNTIF('Classement auteurs'!B:B,C116)","v":1},null,null,null,null,null,null,null,null,null,null,null,null,null,null,null,null,null,null,13,139,132060000401,"Butineuse au travail     ",6,6,6,0,0,{"$f":"SUM(AN116:AR116)","v":18},0,65,0,null,0]
[13,134,131110001001,"Transhumance             ",13,14,14,0,0,41,0,77,0,null,0,null,{"$f":"COUNTIF('Classement auteurs'!B:B,C117)","v":1},null,null,null,null,null,null,null,null,null,null,null,null,null,null,null,null,null,null,13,40,132060000701,"Paris La Défense        ",13,11,14,0,0,38,0,73,0,null,0]
[13,136,131376015801,"Quiétude                ",13,12,11,0,0,36,0,49,0,null,0,null,{"$f":"COUNTIF('Classement auteurs'!B:B,C118)","v":1},null,null,null,null,null,null,null,null,null,null,null,null,null,null,null,null,null,null,13,142,132060000801,"Entre ciel et terre      ",7,10,13,0,0,30,0,14,0,null,0]
[13,137,131619004501,"Foncouverte              ",19,14,18,0,0,51,0,133,0,null,0,null,{"$f":"COUNTIF('Classement auteurs'!B:B,C119)","v":1},null,null,null,null,null,null,null,null,null,null,null,null,null,null,null,null,null,null,13,94,132060000901,"Face au mur              ",13,9,13,0,0,35,0,30,0,null,0]
[13,138,131956005901,"Couleurs de Montréal    ",10,15,18,0,0,43,0,52,0,null,0,null,{"$f":"COUNTIF('Classement auteurs'!B:B,C120)","v":1},null,null,null,null,null,null,null,null,null,null,null,null,null,null,null,null,null,null,13,154,132060001201,"Atomes                   ",15,16,15,0,0,46,0,36,0,null,0]
[13,139,132060000401,"Butineuse au travail     ",6,6,6,0,0,18,0,65,0,null,0,null,{"$f":"COUNTIF('Classement auteurs'!B:B,C121)","v":1},null,null,null,null,null,null,null,null,null,null,null,null,null,null,null,null,null,null,13,105,132060001501,"Profitons vite           ",9,12,14,0,0,35,0,96,0,null,0]
[13,140,131499006901,"Florence                 ",10,16,16,0,0,42,0,81,0,null,0,null,{"$f":"COUNTIF('Classement auteurs'!B:B,C122)","v":1},null,null,null,null,null,null,null,null,null,null,null,null,null,null,null,null,null,null,13,76,132060001701,"Luminaires               ",11,14,12,0,0,37,0,101,0,null,0]
[13,141,132086002601,"Fluidité arborescente   ",8,15,9,0,0,32,0,48,0,null,0,null,{"$f":"COUNTIF('Classement auteurs'!B:B,C123)","v":1},null,null,null,null,null,null,null,null,null,null,null,null,null,null,null,null,null,null,13,95,132060001801,"No limit                 ",10,13,15,0,0,38,0,74,0,null,0]
[13,142,132060000801,"Entre ciel et terre      ",7,10,13,0,0,30,0,14,0,null,0,null,{"$f":"COUNTIF('Classement auteurs'!B:B,C124)","v":1},null,null,null,null,null,null,null,null,null,null,null,null,null,null,null,null,null,null,13,85,132060002001,"Bleu, blanc, rouge       ",12,15,16,0,0,43,0,137,0,null,0]
[13,143,131823007601,"Orange Grassoise         ",8,11,14,0,0,33,0,46,0,null,0,null,{"$f":"COUNTIF('Classement auteurs'!B:B,C125)","v":1},null,null,null,null,null,null,null,null,null,null,null,null,null,null,null,null,null,null,13,51,132060002201,"Collégiennes à Londres ",14,11,16,0,0,41,0,88,0,null,0]
[13,144,130527017001,"Les mots envolés.       ",20,15,20,0,0,55,0,6,0,null,0,null,{"$f":"COUNTIF('Classement auteurs'!B:B,C126)","v":1},null,null,null,null,null,null,null,null,null,null,null,null,null,null,null,null,null,null,13,92,132060002401,"Orchidées incandescents ",7,14,14,0,0,35,0,51,0,null,0]
[13,146,132086002501,"Retour du marché        ",8,13,17,0,0,38,0,123,0,null,0,null,{"$f":"COUNTIF('Classement auteurs'!B:B,C127)","v":1},null,null,null,null,null,null,null,null,null,null,null,null,null,null,null,null,null,null,13,121,132060003301,"Floraison                ",7,11,10,0,0,28,0,128,7,null,0]
[13,148,131845002101,"Abandon                  ",9,13,16,0,0,38,0,87,0,null,0,null,{"$f":"COUNTIF('Classement auteurs'!B:B,C128)","v":1},null,null,null,null,null,null,null,null,null,null,null,null,null,null,null,null,null,null,13,50,132084001701,"Champs d'ail             ",11,18,16,0,0,45,0,129,0,null,0]
[13,149,131845001101,"...vers la culture       ",14,13,14,0,0,41,0,28,0,null,0,null,{"$f":"COUNTIF('Classement auteurs'!B:B,C129)","v":1},null,null,null,null,null,null,null,null,null,null,null,null,null,null,null,null,null,null,13,74,132086001401,"TEMPS DE PAUSE           ",10,12,11,0,0,33,0,121,0,null,0]
[13,150,130527009401,"Chez l'artiste ...       ",16,18,16,0,0,50,0,50,0,null,0,null,{"$f":"COUNTIF('Classement auteurs'!B:B,C130)","v":1},null,null,null,null,null,null,null,null,null,null,null,null,null,null,null,null,null,null,13,39,132086002301,"Parade en rose           ",11,13,12,0,0,36,0,29,0,null,0]
[13,151,131956002401,"Chut Silence             ",8,11,9,0,0,{"$f":"SUM(E131:I131)","v":28},0,16,0,null,0,null,{"$f":"COUNTIF('Classement auteurs'!B:B,C131)","v":1},null,null,null,null,null,null,null,null,null,null,null,null,null,null,null,null,null,null,13,146,132086002501,"Retour du marché        ",8,13,17,0,0,38,0,123,0,null,0]
[13,152,131956002901,"Rouge salant             ",14,14,15,0,0,43,0,5,0,null,0,null,{"$f":"COUNTIF('Classement auteurs'!B:B,C132)","v":1},null,null,null,null,null,null,null,null,null,null,null,null,null,null,null,null,null,null,13,141,132086002601,"Fluidité arborescente   ",8,15,9,0,0,32,0,48,0,null,0]
[13,153,130925009901,"Belles coiffes           ",10,9,11,0,0,30,0,119,0,null,0,null,{"$f":"COUNTIF('Classement auteurs'!B:B,C133)","v":1},null,null,null,null,null,null,null,null,null,null,null,null,null,null,null,null,null,null,13,65,132089000101,"Les Cinq Terres          ",11,13,12,0,0,36,0,94,0,null,0]
[13,154,132060001201,"Atomes                   ",15,16,15,0,0,46,0,36,0,null,0,null,{"$f":"COUNTIF('Classement auteurs'!B:B,C134)","v":1},null,null,null,null,null,null,null,null,null,null,null,null,null,null,null,null,null,null,13,78,132089000201,"CD en MACRO              ",7,8,9,0,0,24,0,23,0,null,0]
[13,155,130987001601,"Envol                    ",11,11,13,0,0,35,0,106,0,null,0,null,{"$f":"COUNTIF('Classement auteurs'!B:B,C135)","v":1},null,null,null,null,null,null,null,null,null,null,null,null,null,null,null,null,null,null,13,128,132089000301,"Festirun                 ",10,10,11,0,0,31,0,40,0,null,0]
[13,156,131956005701,"Solitudes                ",11,12,13,0,0,36,0,62,0,null,0,null,{"$f":"COUNTIF('Classement auteurs'!B:B,C136)","v":1},null,null,null,null,null,null,null,null,null,null,null,null,null,null,null,null,null,null,13,77,132103002301,"Couleurs du Japon        ",12,16,18,0,0,46,0,17,0,null,0]
[13,158,131353000701,"Cellulose du Rhône      ",14,20,14,0,0,48,0,24,0,null,0,null,{"$f":"COUNTIF('Classement auteurs'!B:B,C137)","v":1},null,null,null,null,null,null,null,null,null,null,null,null,null,null,null,null,null,null,13,34,132193000301,"Ambiance New York        ",12,18,18,0,0,48,0,69,0,null,0]
[13,159,131353000101,"Ambiance automnale       ",14,14,17,0,0,45,0,110,0,null,0,null,{"$f":"COUNTIF('Classement auteurs'!B:B,C138)","v":1},null,null,null,null,null,null,null,null,null,null,null,null,null,null,null,null,null,null,13,59,132193000401,"Multicolore              ",12,14,15,0,0,41,0,82,0,null,0]

{"sheet":"xDéfi-12","index":14,"n_rows":146,"n_cols":22,"rows_kept":146,"cut":false,"hidden":false,"merged":[]}
["x","photologic","fichier","titre","note1","note2","note3","note4","note5","total","place","passage","statut","medaille","retenue",null,"0=absent\n1=présent",null,"fichier",null,"total"]
[13,1,131499010201,"Edsel 1958 Cuba          ",12,10,8,0,0,{"$f":"SUM(E2:I2)","v":30},0,132,0,null,0,null,{"$f":"COUNTIF('Classement auteurs'!B:B,C2)","v":1},null,130527009401,{"$f":"(MID($S2,3,4)*1)","v":527},132,{"$f":"IF(U2=VLOOKUP($T2,'Classement clubs'!$B$2:$K$52,4,FALSE),\"OK\",\"KO\")","v":"OK"}]
[13,2,131862001101,"Le V                     ",11,10,9,0,0,{"$f":"SUM(E3:I3)","v":30},0,57,0,null,0,null,{"$f":"COUNTIF('Classement auteurs'!B:B,C3)","v":1},null,130878013401,{"$f":"(MID($S3,3,4)*1)","v":878},101,{"$f":"IF(U3=VLOOKUP($T3,'Classement clubs'!$B$2:$K$52,4,FALSE),\"OK\",\"KO\")","v":"OK"}]
[13,4,131683000701,"L'ARBRE DE VIE           ",12,10,8,0,0,30,0,35,0,null,0,null,{"$f":"COUNTIF('Classement auteurs'!B:B,C4)","v":1},null,130925007701,925,133,{"$f":"IF(U4=VLOOKUP($T4,'Classement clubs'!$B$2:$K$52,4,FALSE),\"OK\",\"KO\")","v":"OK"}]
[13,5,132193000301,"Peuple Uros lac Titicaca ",12,12,13,0,0,37,0,101,7,null,0,null,{"$f":"COUNTIF('Classement auteurs'!B:B,C5)","v":1},null,130987002301,987,131,{"$f":"IF(U5=VLOOKUP($T5,'Classement clubs'!$B$2:$K$52,4,FALSE),\"OK\",\"KO\")","v":"OK"}]
[13,6,130987024201,"La nuit des Sans         ",15,12,16,0,0,43,0,141,0,null,0,null,{"$f":"COUNTIF('Classement auteurs'!B:B,C6)","v":1},null,131110000901,1110,110,{"$f":"IF(U6=VLOOKUP($T6,'Classement clubs'!$B$2:$K$52,4,FALSE),\"OK\",\"KO\")","v":"OK"}]
[13,7,130987024101,"Ado Himba                ",12,12,15,0,0,39,0,87,0,null,0,null,{"$f":"COUNTIF('Classement auteurs'!B:B,C7)","v":1},null,131353000701,1353,123,{"$f":"IF(U7=VLOOKUP($T7,'Classement clubs'!$B$2:$K$52,4,FALSE),\"OK\",\"KO\")","v":"OK"}]
[13,8,132203000901,"Femme Ousbèque          ",14,16,18,0,0,48,0,5,0,null,0,null,{"$f":"COUNTIF('Classement auteurs'!B:B,C8)","v":1},null,131376018001,1376,101,{"$f":"IF(U8=VLOOKUP($T8,'Classement clubs'!$B$2:$K$52,4,FALSE),\"OK\",\"KO\")","v":"OK"}]
[13,9,131879000101,"Fille Akha               ",14,10,17,0,0,41,0,95,0,null,0,null,{"$f":"COUNTIF('Classement auteurs'!B:B,C9)","v":1},null,131494000201,1494,98,{"$f":"IF(U9=VLOOKUP($T9,'Classement clubs'!$B$2:$K$52,4,FALSE),\"OK\",\"KO\")","v":"OK"}]
[13,10,131376018301,"Holi                     ",11,11,12,0,0,34,0,38,0,null,0,null,{"$f":"COUNTIF('Classement auteurs'!B:B,C10)","v":1},null,131499006901,1499,128,{"$f":"IF(U10=VLOOKUP($T10,'Classement clubs'!$B$2:$K$52,4,FALSE),\"OK\",\"KO\")","v":"OK"}]
[13,11,131992000301,"Famille Tamoul.          ",11,10,12,0,0,33,0,91,0,null,0,null,{"$f":"COUNTIF('Classement auteurs'!B:B,C11)","v":1},null,131683008001,1683,128,{"$f":"IF(U11=VLOOKUP($T11,'Classement clubs'!$B$2:$K$52,4,FALSE),\"OK\",\"KO\")","v":"OK"}]
[13,12,131683007601,"Don sacré               ",13,14,15,0,0,42,0,13,0,null,0,null,{"$f":"COUNTIF('Classement auteurs'!B:B,C12)","v":1},null,131823008701,1823,119,{"$f":"IF(U12=VLOOKUP($T12,'Classement clubs'!$B$2:$K$52,4,FALSE),\"OK\",\"KO\")","v":"OK"}]
[13,13,130527013301,"New york 1               ",13,11,15,0,0,39,0,18,0,null,0,null,{"$f":"COUNTIF('Classement auteurs'!B:B,C13)","v":1},null,131845002501,1845,109,{"$f":"IF(U13=VLOOKUP($T13,'Classement clubs'!$B$2:$K$52,4,FALSE),\"OK\",\"KO\")","v":"OK"}]
[13,14,131823004901,"Pas de doute             ",11,6,8,0,0,25,0,74,0,null,0,null,{"$f":"COUNTIF('Classement auteurs'!B:B,C14)","v":1},null,131862001001,1862,108,{"$f":"IF(U14=VLOOKUP($T14,'Classement clubs'!$B$2:$K$52,4,FALSE),\"OK\",\"KO\")","v":"OK"}]
[13,15,131494002101,"Retour à la bergerie    ",11,9,9,0,0,29,0,1,0,null,0,null,{"$f":"COUNTIF('Classement auteurs'!B:B,C15)","v":1},null,131879002001,1879,127,{"$f":"IF(U15=VLOOKUP($T15,'Classement clubs'!$B$2:$K$52,4,FALSE),\"OK\",\"KO\")","v":"OK"}]
[13,17,130925010201,"Tempête sur l'Angleterre",11,11,8,0,0,30,0,82,0,null,0,null,{"$f":"COUNTIF('Classement auteurs'!B:B,C16)","v":1},null,131956000201,1956,138,{"$f":"IF(U16=VLOOKUP($T16,'Classement clubs'!$B$2:$K$52,4,FALSE),\"OK\",\"KO\")","v":"OK"}]
[13,18,130987024001,"Tre Cime                 ",13,12,19,0,0,44,0,129,0,null,0,null,{"$f":"COUNTIF('Classement auteurs'!B:B,C17)","v":1},null,132060001701,2060,115,{"$f":"IF(U17=VLOOKUP($T17,'Classement clubs'!$B$2:$K$52,4,FALSE),\"OK\",\"KO\")","v":"OK"}]
[13,19,131110001001,"étudiant birman         ",12,11,18,0,0,41,0,86,0,null,0,null,{"$f":"COUNTIF('Classement auteurs'!B:B,C18)","v":1},null,132084003501,2084,122,{"$f":"IF(U18=VLOOKUP($T18,'Classement clubs'!$B$2:$K$52,4,FALSE),\"OK\",\"KO\")","v":"OK"}]
[13,20,131376012601,"Festival des cultures    ",12,9,8,0,0,29,0,17,0,null,0,null,{"$f":"COUNTIF('Classement auteurs'!B:B,C19)","v":1},null,132086001401,2086,104,{"$f":"IF(U19=VLOOKUP($T19,'Classement clubs'!$B$2:$K$52,4,FALSE),\"OK\",\"KO\")","v":"OK"}]
[13,21,131683008001,"Les tanneurs de Fes      ",12,16,19,0,0,47,0,135,0,null,0,null,{"$f":"COUNTIF('Classement auteurs'!B:B,C20)","v":1},null,132089000101,2089,99,{"$f":"IF(U20=VLOOKUP($T20,'Classement clubs'!$B$2:$K$52,4,FALSE),\"OK\",\"KO\")","v":"OK"}]
[13,22,130987028401,"Pêche traditionnelle    ",13,13,12,0,0,38,0,133,0,null,0,null,{"$f":"COUNTIF('Classement auteurs'!B:B,C21)","v":1},null,132193000301,2193,108,{"$f":"IF(U21=VLOOKUP($T21,'Classement clubs'!$B$2:$K$52,4,FALSE),\"OK\",\"KO\")","v":"OK"}]
[13,23,131353000201,"Arc en ciel              ",13,13,11,0,0,37,0,84,0,null,0,null,{"$f":"COUNTIF('Classement auteurs'!B:B,C22)","v":1}]
[13,24,131879001301,"Inde                     ",11,12,7,0,0,30,0,36,0,null,0,null,{"$f":"COUNTIF('Classement auteurs'!B:B,C23)","v":1}]
[13,25,131499008701,"Si vaste et si fragile...",10,7,12,0,0,29,0,112,0,null,0,null,{"$f":"COUNTIF('Classement auteurs'!B:B,C24)","v":1}]
[13,27,132084004001,"La vache et le soldat    ",12,10,18,0,0,40,0,106,0,null,0,null,{"$f":"COUNTIF('Classement auteurs'!B:B,C25)","v":1}]
[13,28,131823008801,"Mais pourquoi ?          ",11,8,9,0,0,28,0,61,0,null,0,null,{"$f":"COUNTIF('Classement auteurs'!B:B,C26)","v":1}]
[13,29,130987019701,"Venezia                  ",13,11,16,0,0,40,0,69,0,null,0,null,{"$f":"COUNTIF('Classement auteurs'!B:B,C27)","v":1}]
[13,30,130987019601,"Padaung Karen            ",12,10,15,0,0,37,0,40,0,null,0,null,{"$f":"COUNTIF('Classement auteurs'!B:B,C28)","v":1}]
[13,31,131845004101,"Regard réprobateur      ",11,8,15,0,0,34,0,24,0,null,0,null,{"$f":"COUNTIF('Classement auteurs'!B:B,C29)","v":1}]
[13,32,131992000401,"Regard envoutant         ",13,10,16,0,0,39,0,21,0,null,0,null,{"$f":"COUNTIF('Classement auteurs'!B:B,C30)","v":1}]
[13,33,131879002001,"La faiseuse de briques   ",14,13,20,0,0,47,0,26,0,null,0,null,{"$f":"COUNTIF('Classement auteurs'!B:B,C31)","v":1}]
[13,35,131353004301,"Mucem 2016               ",11,7,10,0,0,28,0,32,0,null,0,null,{"$f":"COUNTIF('Classement auteurs'!B:B,C32)","v":1}]
[13,36,130987007401,"Florence                 ",11,13,8,0,0,32,0,105,0,null,0,null,{"$f":"COUNTIF('Classement auteurs'!B:B,C33)","v":1}]
[13,37,131956005101,"L'Égypte à Madrid      ",12,11,11,0,0,34,0,16,0,null,0,null,{"$f":"COUNTIF('Classement auteurs'!B:B,C34)","v":1}]
[13,38,130987014001,"Sourire de Bahia         ",12,10,15,0,0,37,0,47,0,null,0,null,{"$f":"COUNTIF('Classement auteurs'!B:B,C35)","v":1}]
[13,39,132084001701,"Venise                   ",12,11,13,0,0,36,0,73,0,null,0,null,{"$f":"COUNTIF('Classement auteurs'!B:B,C36)","v":1}]
[13,40,132086001401,"Il neige sur Venise      ",13,13,15,0,0,41,0,102,0,null,0,null,{"$f":"COUNTIF('Classement auteurs'!B:B,C37)","v":1}]
[13,41,131823008301,"Afrique                  ",12,10,18,0,0,40,0,92,0,null,0,null,{"$f":"COUNTIF('Classement auteurs'!B:B,C38)","v":1}]
[13,42,131824003101,"Croisement de regard     ",11,13,9,0,0,33,0,131,0,null,0,null,{"$f":"COUNTIF('Classement auteurs'!B:B,C39)","v":1}]
[13,43,131499010001,"Dans la cour de l'école ",13,15,14,0,0,42,0,44,0,null,0,null,{"$f":"COUNTIF('Classement auteurs'!B:B,C40)","v":1}]
[13,44,132023000101,"Mésange à la lune      ",6,6,6,0,0,18,0,55,0,null,0,null,{"$f":"COUNTIF('Classement auteurs'!B:B,C41)","v":1}]
[13,45,131499005201,"Pizzaiolo                ",11,7,13,0,0,31,0,46,0,null,0,null,{"$f":"COUNTIF('Classement auteurs'!B:B,C42)","v":1}]
[13,46,131376017601,"Les touristes            ",9,6,9,0,0,24,0,64,0,null,0,null,{"$f":"COUNTIF('Classement auteurs'!B:B,C43)","v":1}]
[13,47,131683006301,"Regards indiens          ",12,15,9,0,0,36,0,127,0,null,0,null,{"$f":"COUNTIF('Classement auteurs'!B:B,C44)","v":1}]
[13,48,131824001901,"Auprès de mon arbre.... ",13,9,18,0,0,40,0,62,0,null,0,null,{"$f":"COUNTIF('Classement auteurs'!B:B,C45)","v":1}]
[13,49,130925009801,"Shanghai                 ",12,10,14,0,0,36,0,11,0,null,0,null,{"$f":"COUNTIF('Classement auteurs'!B:B,C46)","v":1}]
[13,50,130000020401,"Khiva - La Roue          ",13,11,13,0,0,37,0,123,6,null,0,null,{"$f":"COUNTIF('Classement auteurs'!B:B,C47)","v":1}]
[13,51,132193000501,"Guerrier irlandais       ",11,7,7,0,0,25,0,41,7,null,0,null,{"$f":"COUNTIF('Classement auteurs'!B:B,C48)","v":1}]
[13,52,131956003401,"Regard de la foret       ",11,6,7,0,0,24,0,56,0,null,0,null,{"$f":"COUNTIF('Classement auteurs'!B:B,C49)","v":1}]
[13,53,132086002501,"Le Chianti moderne       ",14,7,11,0,0,32,0,29,0,null,0,null,{"$f":"COUNTIF('Classement auteurs'!B:B,C50)","v":1}]
[13,54,131683005101,"Clarisse                 ",15,6,12,0,0,33,0,126,0,null,0,null,{"$f":"COUNTIF('Classement auteurs'!B:B,C51)","v":1}]
[13,55,130987012601,"Taxi à Tokyo.           ",12,12,17,0,0,41,0,136,0,null,0,null,{"$f":"COUNTIF('Classement auteurs'!B:B,C52)","v":1}]
[13,56,130993016501,"Reflet_Asie              ",13,12,10,0,0,35,0,31,0,null,0,null,{"$f":"COUNTIF('Classement auteurs'!B:B,C53)","v":1}]
[13,57,131862001001,"Petite Vietnamienne      ",12,12,15,0,0,39,0,139,0,null,0,null,{"$f":"COUNTIF('Classement auteurs'!B:B,C54)","v":1}]
[13,58,132084003501,"Coiffes Himbas           ",14,12,17,0,0,43,0,34,0,null,0,null,{"$f":"COUNTIF('Classement auteurs'!B:B,C55)","v":1}]
[13,59,132084003601,"Kaokoland airport        ",11,12,10,0,0,33,0,98,0,null,0,null,{"$f":"COUNTIF('Classement auteurs'!B:B,C56)","v":1}]
[13,60,131353007301,"LAGUNA COLORADA BOLIVIE  ",14,11,15,0,0,40,0,37,0,null,0,null,{"$f":"COUNTIF('Classement auteurs'!B:B,C57)","v":1}]
[13,61,130878014301,"L’œil de la terre     ",10,6,7,0,0,23,0,7,0,null,0,null,{"$f":"COUNTIF('Classement auteurs'!B:B,C58)","v":1}]
[13,62,131353003001,"Regard de l'inconnue     ",12,6,12,0,0,30,0,48,0,null,0,null,{"$f":"COUNTIF('Classement auteurs'!B:B,C59)","v":1}]
[13,63,130878014101,"Orientation              ",11,7,19,0,0,37,0,76,0,null,0,null,{"$f":"COUNTIF('Classement auteurs'!B:B,C60)","v":1}]
[13,64,131619005001,"Regard sur le haut atlas ",11,15,13,0,0,39,0,77,0,null,0,null,{"$f":"COUNTIF('Classement auteurs'!B:B,C61)","v":1}]
[13,65,131879000501,"Tromso                   ",14,14,11,0,0,39,0,142,0,null,0,null,{"$f":"COUNTIF('Classement auteurs'!B:B,C62)","v":1}]
[13,66,131956002601,"Berlin                   ",14,14,16,0,0,44,0,68,0,null,0,null,{"$f":"COUNTIF('Classement auteurs'!B:B,C63)","v":1}]
[13,67,131823008701,"école en Sulawesi       ",12,13,16,0,0,41,0,97,0,null,0,null,{"$f":"COUNTIF('Classement auteurs'!B:B,C64)","v":1}]
[13,68,130925008601,"Amerique                 ",13,7,16,0,0,36,0,85,0,null,0,null,{"$f":"COUNTIF('Classement auteurs'!B:B,C65)","v":1}]
[13,69,130878013601,"L'enfant et le torri     ",12,9,13,0,0,34,0,72,0,null,0,null,{"$f":"COUNTIF('Classement auteurs'!B:B,C66)","v":1}]
[13,70,131845004001,"VIETAMIENNE              ",11,9,13,0,0,{"$f":"SUM(E67:I67)","v":33},0,66,0,null,0,null,{"$f":"COUNTIF('Classement auteurs'!B:B,C67)","v":1}]
[13,71,130925007601,"Famille Himba            ",14,13,17,0,0,44,0,45,0,null,0,null,{"$f":"COUNTIF('Classement auteurs'!B:B,C68)","v":1}]
[13,72,130925007701,"Regards d'enfants        ",14,17,19,0,0,50,0,119,0,null,0,null,{"$f":"COUNTIF('Classement auteurs'!B:B,C69)","v":1}]
[13,73,132060001701,"Enfant gitan de la mer   ",14,14,17,0,0,45,0,42,0,null,0,null,{"$f":"COUNTIF('Classement auteurs'!B:B,C70)","v":1}]
[13,74,131862000801,"Le Chat du Rabin         ",11,6,7,0,0,24,0,78,0,null,0,null,{"$f":"COUNTIF('Classement auteurs'!B:B,C71)","v":1}]
[13,75,132084000301,"Croisère à Kotor       ",14,11,14,0,0,39,0,120,0,null,0,null,{"$f":"COUNTIF('Classement auteurs'!B:B,C72)","v":1}]
[13,76,130000019901,"Recueillement            ",13,13,15,0,0,41,0,115,6,null,0,null,{"$f":"COUNTIF('Classement auteurs'!B:B,C73)","v":1}]
[13,77,132193000401,"Un pont entre 2 mondes   ",12,12,13,0,0,37,0,93,7,null,0,null,{"$f":"COUNTIF('Classement auteurs'!B:B,C74)","v":1}]
[13,78,131956004601,"Regards sur notre galaxie",13,19,15,0,0,47,0,20,0,null,0,null,{"$f":"COUNTIF('Classement auteurs'!B:B,C75)","v":1}]
[13,79,130987015701,"Les Falaises de Moher    ",14,9,16,0,0,39,0,111,0,null,0,null,{"$f":"COUNTIF('Classement auteurs'!B:B,C76)","v":1}]
[13,80,131956001401,"Regard Colombien         ",11,10,11,0,0,32,0,134,0,null,0,null,{"$f":"COUNTIF('Classement auteurs'!B:B,C77)","v":1}]
[13,81,131862002201,"Matsumoto. Japon         ",12,11,12,0,0,35,0,50,0,null,0,null,{"$f":"COUNTIF('Classement auteurs'!B:B,C78)","v":1}]
[13,82,132089000201,"Au Radjastan             ",10,11,10,0,0,31,0,6,0,null,0,null,{"$f":"COUNTIF('Classement auteurs'!B:B,C79)","v":1}]
[13,83,131862005801,"Suivez mon regard        ",11,11,12,0,0,34,0,52,0,null,0,null,{"$f":"COUNTIF('Classement auteurs'!B:B,C80)","v":1}]
[13,84,131956004501,"Aquarius                 ",12,14,12,0,0,38,0,54,0,null,0,null,{"$f":"COUNTIF('Classement auteurs'!B:B,C81)","v":1}]
[13,85,131110001101,"Le petit guitariste      ",11,6,7,0,0,24,0,108,0,null,0,null,{"$f":"COUNTIF('Classement auteurs'!B:B,C82)","v":1}]
[13,86,132060000701,"Flamenco andalou         ",12,10,7,0,0,29,0,30,0,null,0,null,{"$f":"COUNTIF('Classement auteurs'!B:B,C83)","v":1}]
[13,87,131494002301,"Gondoles                 ",11,10,14,0,0,35,0,113,0,null,0,null,{"$f":"COUNTIF('Classement auteurs'!B:B,C84)","v":1}]
[13,88,131494000201,"Enfants Masaï           ",14,11,9,0,0,34,0,121,0,null,0,null,{"$f":"COUNTIF('Classement auteurs'!B:B,C85)","v":1}]
[13,89,131845003401,"Flotte internationale    ",11,6,10,0,0,27,0,96,0,null,0,null,{"$f":"COUNTIF('Classement auteurs'!B:B,C86)","v":1}]
[13,91,132089000501,"Ma Thaïlande            ",12,14,13,0,0,39,0,125,0,null,0,null,{"$f":"COUNTIF('Classement auteurs'!B:B,C87)","v":1}]
[13,92,131845002101,"Baigneuse coréenne      ",11,10,13,0,0,34,0,117,0,null,0,null,{"$f":"COUNTIF('Classement auteurs'!B:B,C88)","v":1}]
[13,93,131956005501,"European flags           ",10,14,9,0,0,33,0,81,0,null,0,null,{"$f":"COUNTIF('Classement auteurs'!B:B,C89)","v":1}]
[13,94,131376014701,"Le cri                   ",9,7,7,0,0,23,0,118,0,null,0,null,{"$f":"COUNTIF('Classement auteurs'!B:B,C90)","v":1}]
[13,95,131845002501,"Séville. Place d'Espagne.",14,14,13,0,0,41,0,99,0,null,0,null,{"$f":"COUNTIF('Classement auteurs'!B:B,C91)","v":1}]
[13,96,131110000901,"Marcher sur l'eau        ",13,12,20,0,0,45,0,103,0,null,0,null,{"$f":"COUNTIF('Classement auteurs'!B:B,C92)","v":1}]
[13,97,131683006601,"Un kilt assumé          ",11,8,7,0,0,26,0,39,0,null,0,null,{"$f":"COUNTIF('Classement auteurs'!B:B,C93)","v":1}]
[13,98,131499010801,"Hommage de New York      ",12,9,9,0,0,30,0,51,0,null,0,null,{"$f":"COUNTIF('Classement auteurs'!B:B,C94)","v":1}]
[13,99,131353007401,"Regards de Bolivie       ",14,12,12,0,0,38,0,4,0,null,0,null,{"$f":"COUNTIF('Classement auteurs'!B:B,C95)","v":1}]
[13,100,132193001201,"La potion magique        ",12,12,10,0,0,34,0,130,7,null,0,null,{"$f":"COUNTIF('Classement auteurs'!B:B,C96)","v":1}]
[13,101,130878013401,"01 Globe terreste        ",11,11,8,0,0,30,0,63,0,null,0,null,{"$f":"COUNTIF('Classement auteurs'!B:B,C97)","v":1}]
[13,102,130987023901,"Love in the air          ",11,8,11,0,0,30,0,8,0,null,0,null,{"$f":"COUNTIF('Classement auteurs'!B:B,C98)","v":1}]
[13,103,131956006201,"Larmes de sang           ",12,6,7,0,0,25,0,109,0,null,0,null,{"$f":"COUNTIF('Classement auteurs'!B:B,C99)","v":1}]
[13,104,130527002501,"Internation              ",12,11,14,0,0,37,0,144,0,null,0,null,{"$f":"COUNTIF('Classement auteurs'!B:B,C100)","v":1}]
[13,105,130527012601,"Transport                ",12,10,15,0,0,37,0,143,0,null,0,null,{"$f":"COUNTIF('Classement auteurs'!B:B,C101)","v":1}]
[13,106,132060000801,"Vision cubaine           ",11,10,11,0,0,32,0,122,0,null,0,null,{"$f":"COUNTIF('Classement auteurs'!B:B,C102)","v":1}]
[13,107,132103000101,"Quel vol déja           ",8,7,8,0,0,23,0,124,0,null,0,null,{"$f":"COUNTIF('Classement auteurs'!B:B,C103)","v":1}]
[13,108,132086002301,"Le poids des traditions  ",10,11,10,0,0,31,0,14,0,null,0,null,{"$f":"COUNTIF('Classement auteurs'!B:B,C104)","v":1}]
[13,109,131956000201,"Femme lepcha sikkim inde ",11,18,18,0,0,47,0,60,0,null,0,null,{"$f":"COUNTIF('Classement auteurs'!B:B,C105)","v":1}]
[13,110,131879000601,"Magique Islande          ",12,10,15,0,0,37,0,107,0,null,0,null,{"$f":"COUNTIF('Classement auteurs'!B:B,C106)","v":1}]
[13,111,131683007901,"Lueur D'espoir           ",12,7,20,0,0,39,0,128,0,null,0,null,{"$f":"COUNTIF('Classement auteurs'!B:B,C107)","v":1}]
[13,112,131862001401,"Vahine                   ",11,9,7,0,0,27,0,49,0,null,0,null,{"$f":"COUNTIF('Classement auteurs'!B:B,C108)","v":1}]
[13,113,132086002601,"Regards partagés        ",12,6,8,0,0,26,0,27,0,null,0,null,{"$f":"COUNTIF('Classement auteurs'!B:B,C109)","v":1}]
[13,114,132060002201,"Festival du rire Montréal",11,10,8,0,0,29,0,58,0,null,0,null,{"$f":"COUNTIF('Classement auteurs'!B:B,C110)","v":1}]
[13,115,131353007101,"Regads de l'étranger    ",11,9,10,0,0,30,0,67,0,null,0,null,{"$f":"COUNTIF('Classement auteurs'!B:B,C111)","v":1}]
[13,116,131823005701,"Lever-soleil-Suède      ",9,12,7,0,0,28,0,83,0,null,0,null,{"$f":"COUNTIF('Classement auteurs'!B:B,C112)","v":1}]
[13,117,131956005701,"Bancroft way Berkeley    ",10,12,9,0,0,31,0,116,0,null,0,null,{"$f":"COUNTIF('Classement auteurs'!B:B,C113)","v":1}]
[13,118,132060001801,"Jiwa et la femme au betel",12,12,14,0,0,38,0,94,0,null,0,null,{"$f":"COUNTIF('Classement auteurs'!B:B,C114)","v":1}]
[13,119,130527009201,"Aki Matsuri              ",12,12,11,0,0,35,0,2,0,null,0,null,{"$f":"COUNTIF('Classement auteurs'!B:B,C115)","v":1}]
[13,120,130987001601,"Marché Gabonais         ",10,10,16,0,0,36,0,114,0,null,0,null,{"$f":"COUNTIF('Classement auteurs'!B:B,C116)","v":1}]
[13,121,132060002401,"Voyage familial          ",12,12,7,0,0,31,0,75,0,null,0,null,{"$f":"COUNTIF('Classement auteurs'!B:B,C117)","v":1}]
[13,122,130527009401,"Bella ciao               ",13,20,20,0,0,53,0,43,0,null,0,null,{"$f":"COUNTIF('Classement auteurs'!B:B,C118)","v":1}]
[13,123,131499006801,"Retour des troupeaux     ",13,14,12,0,0,39,0,33,0,null,0,null,{"$f":"COUNTIF('Classement auteurs'!B:B,C119)","v":1}]
[13,124,130527017001,"Un monde curieux.        ",15,13,12,0,0,40,0,12,0,null,0,null,{"$f":"COUNTIF('Classement auteurs'!B:B,C120)","v":1}]
[13,125,131376018001,"Immigration              ",11,15,12,0,0,38,0,104,0,null,0,null,{"$f":"COUNTIF('Classement auteurs'!B:B,C121)","v":1}]
[13,127,131499008201,"Train à Madagascar      ",15,11,15,0,0,41,0,138,0,null,0,null,{"$f":"COUNTIF('Classement auteurs'!B:B,C122)","v":1}]
[13,128,131845001401,"Voyage                   ",12,6,16,0,0,34,0,70,0,null,0,null,{"$f":"COUNTIF('Classement auteurs'!B:B,C123)","v":1}]
[13,129,131499003601,"Gargote japonaise        ",11,14,8,0,0,33,0,19,0,null,0,null,{"$f":"COUNTIF('Classement auteurs'!B:B,C124)","v":1}]
[13,130,130987002301,"Entrez sans frapper      ",13,13,18,0,0,44,0,88,0,null,0,null,{"$f":"COUNTIF('Classement auteurs'!B:B,C125)","v":1}]
[13,131,132089000101,"Milan 2015               ",11,10,8,0,0,29,0,100,0,null,0,null,{"$f":"COUNTIF('Classement auteurs'!B:B,C126)","v":1}]
[13,132,131499006901,"Les tanneurs de Fès     ",14,12,19,0,0,45,0,9,0,null,0,null,{"$f":"COUNTIF('Classement auteurs'!B:B,C127)","v":1}]
[13,133,130925009901,"Tatouage                 ",12,9,17,0,0,38,0,89,0,null,0,null,{"$f":"COUNTIF('Classement auteurs'!B:B,C128)","v":1}]
[13,134,131619004501,"Colisé                  ",14,15,19,0,0,48,0,10,0,null,0,null,{"$f":"COUNTIF('Classement auteurs'!B:B,C129)","v":1}]
[13,135,132084002301,"Moaïs                   ",13,9,15,0,0,37,0,137,0,null,0,null,{"$f":"COUNTIF('Classement auteurs'!B:B,C130)","v":1}]
[13,136,130925008401,"Temps passé             ",15,7,17,0,0,{"$f":"SUM(E131:I131)","v":39},0,140,0,null,0,null,{"$f":"COUNTIF('Classement auteurs'!B:B,C131)","v":1}]
[13,137,130987025001,"Repos du pêcheur        ",13,14,12,0,0,39,0,80,0,null,0,null,{"$f":"COUNTIF('Classement auteurs'!B:B,C132)","v":1}]
[13,138,131499010601,"Journal birman           ",12,11,17,0,0,40,0,71,0,null,0,null,{"$f":"COUNTIF('Classement auteurs'!B:B,C133)","v":1}]
[13,139,131499010501,"Retour de marché        ",12,13,16,0,0,41,0,59,0,null,0,null,{"$f":"COUNTIF('Classement auteurs'!B:B,C134)","v":1}]
[13,140,130527012401,"Allée de baobabs        ",13,10,13,0,0,36,0,22,0,null,0,null,{"$f":"COUNTIF('Classement auteurs'!B:B,C135)","v":1}]
[13,141,131353006201,"La tour olympique        ",11,11,9,0,0,31,0,3,0,null,0,null,{"$f":"COUNTIF('Classement auteurs'!B:B,C136)","v":1}]
[13,142,131683006501,"A la croix del condor    ",11,9,8,0,0,28,0,110,0,null,0,null,{"$f":"COUNTIF('Classement auteurs'!B:B,C137)","v":1}]
[13,143,131683002601,"Lumière sublime d'Afrique",14,11,12,0,0,37,0,65,0,null,0,null,{"$f":"COUNTIF('Classement auteurs'!B:B,C138)","v":1}]
[13,144,131823006401,"Flash sur l'artiste      ",12,7,19,0,0,38,0,53,0,null,0]
[13,145,131353006101,"Santorin                 ",13,11,17,0,0,41,0,15,0,null,0]
[13,146,132060000901,"Lever de soleil africain ",12,9,7,0,0,28,0,28,7,null,0]
[13,147,130925008701,"Derviche tourneur        ",13,10,11,0,0,34,0,145,0,null,0]
[13,148,132103002301,"Les yeux de l'Inde       ",13,13,17,0,0,43,0,79,0,null,0]
[13,149,131956002401,"Réunion au sommet - lima",12,12,12,0,0,36,0,23,0,null,0]
[13,150,131353000101,"Travail des rizières    ",13,11,12,0,0,36,0,25,0,null,0]
[13,151,131353000701,"Vietnamese little girls  ",12,12,18,0,0,42,0,90,0,null,0]

{"sheet":"Comparaison auteurs","index":15,"n_rows":281,"n_cols":30,"rows_kept":281,"cut":false,"hidden":false,"merged":[[0,1,0,9],[0,21,0,29],[0,11,0,19]]}
[null,"Classement Mistral",null,null,null,null,null,null,null,null,null,"Comparaison",null,null,null,null,null,null,null,null,null,"Classement Gbinforme","Classement Mistral"]
[null,"Fichier","Défi-1","Défi-2","Défi-3","Défi-4","Défi-5","Défi-6","Défi-7","Total",null,"Fichier","Défi-1","Défi-2","Défi-3","Défi-4","Défi-5","Défi-6","Défi-7","Total",null,"Fichier","Défi-1","Défi-2","Défi-3","Défi-4","Défi-5","Défi-6","Défi-7","Total"]
[null,{"$f":"'Classement auteurs'!$B3","v":131824001901},{"$f":"IFERROR(VLOOKUP($B3,'Défi-1'!$C$2:$J$200,8,FALSE),\"\")","v":52},{"$f":"IFERROR(VLOOKUP($B3,'Défi-2'!$C$2:$J$200,8,FALSE),\"\")","v":40},{"$f":"IFERROR(VLOOKUP($B3,'Défi-3'!$C$2:$J$200,8,FALSE),\"\")","v":45},{"$f":"IFERROR(VLOOKUP($B3,'Défi-4'!$C$2:$J$200,8,FALSE),\"\")","v":48},{"$f":"IFERROR(VLOOKUP($B3,'Défi-5'!$C$2:$J$200,8,FALSE),\"\")","v":44},{"$f":"IFERROR(VLOOKUP($B3,'Défi-6'!$C$2:$J$200,8,FALSE),\"\")","v":52},{"$f":"IFERROR(VLOOKUP($B3,'Défi-7'!$C$2:$J$200,8,FALSE),\"\")","v":45},{"$f":"SUM(C3:I3)","v":326},null,{"$f":"IF(B3=V3,\"OK\",\"KO\")","v":"OK"},{"$f":"IF(C3=W3,\"OK\",\"KO\")","v":"KO"},{"$f":"IF(D3=X3,\"OK\",\"KO\")","v":"KO"},{"$f":"IF(E3=Y3,\"OK\",\"KO\")","v":"KO"},{"$f":"IF(F3=Z3,\"OK\",\"KO\")","v":"KO"},{"$f":"IF(G3=AA3,\"OK\",\"KO\")","v":"KO"},{"$f":"IF(H3=AB3,\"OK\",\"KO\")","v":"KO"},{"$f":"IF(I3=AC3,\"OK\",\"KO\")","v":"KO"},{"$f":"IF(J3=AD3,\"OK\",\"KO\")","v":{"$error":"#REF!"}},null,{"$f":"'Classement auteurs'!$B3","v":131824001901},{"$f":"IF('Classement auteurs'!K3=\"\",\"\",'Classement auteurs'!K3)","v":45},{"$f":"IF('Classement auteurs'!L3=\"\",\"\",'Classement auteurs'!L3)","v":326},{"$f":"IF('Classement auteurs'!M3=\"\",\"\",'Classement auteurs'!M3)","v":""},{"$f":"IF('Classement auteurs'!N3=\"\",\"\",'Classement auteurs'!N3)","v":""},{"$f":"IF('Classement auteurs'!O3=\"\",\"\",'Classement auteurs'!O3)","v":""},{"$f":"IF('Classement auteurs'!P3=\"\",\"\",'Classement auteurs'!P3)","v":""},{"$f":"IF('Classement auteurs'!Q3=\"\",\"\",'Classement auteurs'!Q3)","v":""},{"$f":"IF('Classement auteurs'!#REF!=\"\",\"\",'Classement auteurs'!#REF!)","v":{"$error":"#REF!"}}]
[null,{"$f":"'Classement auteurs'!$B4","v":131110000901},{"$f":"IFERROR(VLOOKUP($B4,'Défi-1'!$C$2:$J$200,8,FALSE),\"\")","v":51},{"$f":"IFERROR(VLOOKUP($B4,'Défi-2'!$C$2:$J$200,8,FALSE),\"\")","v":45},{"$f":"IFERROR(VLOOKUP($B4,'Défi-3'!$C$2:$J$200,8,FALSE),\"\")","v":56},{"$f":"IFERROR(VLOOKUP($B4,'Défi-4'!$C$2:$J$200,8,FALSE),\"\")","v":43},{"$f":"IFERROR(VLOOKUP($B4,'Défi-5'!$C$2:$J$200,8,FALSE),\"\")","v":41},{"$f":"IFERROR(VLOOKUP($B4,'Défi-6'!$C$2:$J$200,8,FALSE),\"\")","v":43},{"$f":"IFERROR(VLOOKUP($B4,'Défi-7'!$C$2:$J$200,8,FALSE),\"\")","v":36},315,null,"OK","KO","KO","KO","KO","KO","KO","KO",{"$error":"#REF!"},null,{"$f":"'Classement auteurs'!$B4","v":131110000901},{"$f":"IF('Classement auteurs'!K4=\"\",\"\",'Classement auteurs'!K4)","v":36},{"$f":"IF('Classement auteurs'!L4=\"\",\"\",'Classement auteurs'!L4)","v":315},{"$f":"IF('Classement auteurs'!M4=\"\",\"\",'Classement auteurs'!M4)","v":""},{"$f":"IF('Classement auteurs'!N4=\"\",\"\",'Classement auteurs'!N4)","v":""},{"$f":"IF('Classement auteurs'!O4=\"\",\"\",'Classement auteurs'!O4)","v":""},{"$f":"IF('Classement auteurs'!P4=\"\",\"\",'Classement auteurs'!P4)","v":""},{"$f":"IF('Classement auteurs'!Q4=\"\",\"\",'Classement auteurs'!Q4)","v":""},{"$f":"IF('Classement auteurs'!#REF!=\"\",\"\",'Classement auteurs'!#REF!)","v":{"$error":"#REF!"}}]
[null,{"$f":"'Classement auteurs'!$B5","v":130987024201},{"$f":"IFERROR(VLOOKUP($B5,'Défi-1'!$C$2:$J$200,8,FALSE),\"\")","v":46},{"$f":"IFERROR(VLOOKUP($B5,'Défi-2'!$C$2:$J$200,8,FALSE),\"\")","v":43},{"$f":"IFERROR(VLOOKUP($B5,'Défi-3'!$C$2:$J$200,8,FALSE),\"\")","v":48},{"$f":"IFERROR(VLOOKUP($B5,'Défi-4'!$C$2:$J$200,8,FALSE),\"\")","v":45},{"$f":"IFERROR(VLOOKUP($B5,'Défi-5'!$C$2:$J$200,8,FALSE),\"\")","v":39},{"$f":"IFERROR(VLOOKUP($B5,'Défi-6'!$C$2:$J$200,8,FALSE),\"\")","v":48},{"$f":"IFERROR(VLOOKUP($B5,'Défi-7'!$C$2:$J$200,8,FALSE),\"\")","v":43},312,null,"OK","KO","KO","KO","KO","KO","KO","KO",{"$error":"#REF!"},null,{"$f":"'Classement auteurs'!$B5","v":130987024201},{"$f":"IF('Classement auteurs'!K5=\"\",\"\",'Classement auteurs'!K5)","v":43},{"$f":"IF('Classement auteurs'!L5=\"\",\"\",'Classement auteurs'!L5)","v":312},{"$f":"IF('Classement auteurs'!M5=\"\",\"\",'Classement auteurs'!M5)","v":""},{"$f":"IF('Classement auteurs'!N5=\"\",\"\",'Classement auteurs'!N5)","v":""},{"$f":"IF('Classement auteurs'!O5=\"\",\"\",'Classement auteurs'!O5)","v":""},{"$f":"IF('Classement auteurs'!P5=\"\",\"\",'Classement auteurs'!P5)","v":""},{"$f":"IF('Classement auteurs'!Q5=\"\",\"\",'Classement auteurs'!Q5)","v":""},{"$f":"IF('Classement auteurs'!#REF!=\"\",\"\",'Classement auteurs'!#REF!)","v":{"$error":"#REF!"}}]
[null,{"$f":"'Classement auteurs'!$B6","v":131683006301},{"$f":"IFERROR(VLOOKUP($B6,'Défi-1'!$C$2:$J$200,8,FALSE),\"\")","v":57},{"$f":"IFERROR(VLOOKUP($B6,'Défi-2'!$C$2:$J$200,8,FALSE),\"\")","v":36},{"$f":"IFERROR(VLOOKUP($B6,'Défi-3'!$C$2:$J$200,8,FALSE),\"\")","v":34},{"$f":"IFERROR(VLOOKUP($B6,'Défi-4'!$C$2:$J$200,8,FALSE),\"\")","v":47},{"$f":"IFERROR(VLOOKUP($B6,'Défi-5'!$C$2:$J$200,8,FALSE),\"\")","v":45},{"$f":"IFERROR(VLOOKUP($B6,'Défi-6'!$C$2:$J$200,8,FALSE),\"\")","v":57},{"$f":"IFERROR(VLOOKUP($B6,'Défi-7'!$C$2:$J$200,8,FALSE),\"\")","v":36},312,null,"OK","KO","KO","KO","KO","KO","KO","KO",{"$error":"#REF!"},null,{"$f":"'Classement auteurs'!$B6","v":131683006301},{"$f":"IF('Classement auteurs'!K6=\"\",\"\",'Classement auteurs'!K6)","v":36},{"$f":"IF('Classement auteurs'!L6=\"\",\"\",'Classement auteurs'!L6)","v":312},{"$f":"IF('Classement auteurs'!M6=\"\",\"\",'Classement auteurs'!M6)","v":""},{"$f":"IF('Classement auteurs'!N6=\"\",\"\",'Classement auteurs'!N6)","v":""},{"$f":"IF('Classement auteurs'!O6=\"\",\"\",'Classement auteurs'!O6)","v":""},{"$f":"IF('Classement auteurs'!P6=\"\",\"\",'Classement auteurs'!P6)","v":""},{"$f":"IF('Classement auteurs'!Q6=\"\",\"\",'Classement auteurs'!Q6)","v":""},{"$f":"IF('Classement auteurs'!#REF!=\"\",\"\",'Classement auteurs'!#REF!)","v":{"$error":"#REF!"}}]
[null,{"$f":"'Classement auteurs'!$B7","v":132193000301},{"$f":"IFERROR(VLOOKUP($B7,'Défi-1'!$C$2:$J$200,8,FALSE),\"\")","v":48},{"$f":"IFERROR(VLOOKUP($B7,'Défi-2'!$C$2:$J$200,8,FALSE),\"\")","v":37},{"$f":"IFERROR(VLOOKUP($B7,'Défi-3'!$C$2:$J$200,8,FALSE),\"\")","v":40},{"$f":"IFERROR(VLOOKUP($B7,'Défi-4'!$C$2:$J$200,8,FALSE),\"\")","v":45},{"$f":"IFERROR(VLOOKUP($B7,'Défi-5'!$C$2:$J$200,8,FALSE),\"\")","v":38},{"$f":"IFERROR(VLOOKUP($B7,'Défi-6'!$C$2:$J$200,8,FALSE),\"\")","v":48},{"$f":"IFERROR(VLOOKUP($B7,'Défi-7'!$C$2:$J$200,8,FALSE),\"\")","v":55},311,null,"OK","KO","KO","KO","KO","KO","KO","KO",{"$error":"#REF!"},null,{"$f":"'Classement auteurs'!$B7","v":132193000301},{"$f":"IF('Classement auteurs'!K7=\"\",\"\",'Classement auteurs'!K7)","v":55},{"$f":"IF('Classement auteurs'!L7=\"\",\"\",'Classement auteurs'!L7)","v":311},{"$f":"IF('Classement auteurs'!M7=\"\",\"\",'Classement auteurs'!M7)","v":""},{"$f":"IF('Classement auteurs'!N7=\"\",\"\",'Classement auteurs'!N7)","v":""},{"$f":"IF('Classement auteurs'!O7=\"\",\"\",'Classement auteurs'!O7)","v":""},{"$f":"IF('Classement auteurs'!P7=\"\",\"\",'Classement auteurs'!P7)","v":""},{"$f":"IF('Classement auteurs'!Q7=\"\",\"\",'Classement auteurs'!Q7)","v":""},{"$f":"IF('Classement auteurs'!#REF!=\"\",\"\",'Classement auteurs'!#REF!)","v":{"$error":"#REF!"}}]
[null,{"$f":"'Classement auteurs'!$B8","v":130987015701},{"$f":"IFERROR(VLOOKUP($B8,'Défi-1'!$C$2:$J$200,8,FALSE),\"\")","v":48},{"$f":"IFERROR(VLOOKUP($B8,'Défi-2'!$C$2:$J$200,8,FALSE),\"\")","v":39},{"$f":"IFERROR(VLOOKUP($B8,'Défi-3'!$C$2:$J$200,8,FALSE),\"\")","v":34},{"$f":"IFERROR(VLOOKUP($B8,'Défi-4'!$C$2:$J$200,8,FALSE),\"\")","v":41},{"$f":"IFERROR(VLOOKUP($B8,'Défi-5'!$C$2:$J$200,8,FALSE),\"\")","v":46},{"$f":"IFERROR(VLOOKUP($B8,'Défi-6'!$C$2:$J$200,8,FALSE),\"\")","v":48},{"$f":"IFERROR(VLOOKUP($B8,'Défi-7'!$C$2:$J$200,8,FALSE),\"\")","v":52},308,null,"OK","KO","KO","KO","KO","KO","KO","KO",{"$error":"#REF!"},null,{"$f":"'Classement auteurs'!$B8","v":130987015701},{"$f":"IF('Classement auteurs'!K8=\"\",\"\",'Classement auteurs'!K8)","v":52},{"$f":"IF('Classement auteurs'!L8=\"\",\"\",'Classement auteurs'!L8)","v":308},{"$f":"IF('Classement auteurs'!M8=\"\",\"\",'Classement auteurs'!M8)","v":""},{"$f":"IF('Classement auteurs'!N8=\"\",\"\",'Classement auteurs'!N8)","v":""},{"$f":"IF('Classement auteurs'!O8=\"\",\"\",'Classement auteurs'!O8)","v":""},{"$f":"IF('Classement auteurs'!P8=\"\",\"\",'Classement auteurs'!P8)","v":""},{"$f":"IF('Classement auteurs'!Q8=\"\",\"\",'Classement auteurs'!Q8)","v":""},{"$f":"IF('Classement auteurs'!#REF!=\"\",\"\",'Classement auteurs'!#REF!)","v":{"$error":"#REF!"}}]
[null,{"$f":"'Classement auteurs'!$B9","v":131376018301},{"$f":"IFERROR(VLOOKUP($B9,'Défi-1'!$C$2:$J$200,8,FALSE),\"\")","v":31},{"$f":"IFERROR(VLOOKUP($B9,'Défi-2'!$C$2:$J$200,8,FALSE),\"\")","v":34},{"$f":"IFERROR(VLOOKUP($B9,'Défi-3'!$C$2:$J$200,8,FALSE),\"\")","v":57},{"$f":"IFERROR(VLOOKUP($B9,'Défi-4'!$C$2:$J$200,8,FALSE),\"\")","v":41},{"$f":"IFERROR(VLOOKUP($B9,'Défi-5'!$C$2:$J$200,8,FALSE),\"\")","v":44},{"$f":"IFERROR(VLOOKUP($B9,'Défi-6'!$C$2:$J$200,8,FALSE),\"\")","v":57},{"$f":"IFERROR(VLOOKUP($B9,'Défi-7'!$C$2:$J$200,8,FALSE),\"\")","v":42},306,null,"OK","KO","KO","KO","KO","KO","KO","KO",{"$error":"#REF!"},null,{"$f":"'Classement auteurs'!$B9","v":131376018301},{"$f":"IF('Classement auteurs'!K9=\"\",\"\",'Classement auteurs'!K9)","v":42},{"$f":"IF('Classement auteurs'!L9=\"\",\"\",'Classement auteurs'!L9)","v":306},{"$f":"IF('Classement auteurs'!M9=\"\",\"\",'Classement auteurs'!M9)","v":""},{"$f":"IF('Classement auteurs'!N9=\"\",\"\",'Classement auteurs'!N9)","v":""},{"$f":"IF('Classement auteurs'!O9=\"\",\"\",'Classement auteurs'!O9)","v":""},{"$f":"IF('Classement auteurs'!P9=\"\",\"\",'Classement auteurs'!P9)","v":""},{"$f":"IF('Classement auteurs'!Q9=\"\",\"\",'Classement auteurs'!Q9)","v":""},{"$f":"IF('Classement auteurs'!#REF!=\"\",\"\",'Classement auteurs'!#REF!)","v":{"$error":"#REF!"}}]
[null,{"$f":"'Classement auteurs'!$B10","v":130527009401},{"$f":"IFERROR(VLOOKUP($B10,'Défi-1'!$C$2:$J$200,8,FALSE),\"\")","v":50},{"$f":"IFERROR(VLOOKUP($B10,'Défi-2'!$C$2:$J$200,8,FALSE),\"\")","v":53},{"$f":"IFERROR(VLOOKUP($B10,'Défi-3'!$C$2:$J$200,8,FALSE),\"\")","v":46},{"$f":"IFERROR(VLOOKUP($B10,'Défi-4'!$C$2:$J$200,8,FALSE),\"\")","v":50},{"$f":"IFERROR(VLOOKUP($B10,'Défi-5'!$C$2:$J$200,8,FALSE),\"\")","v":51},{"$f":"IFERROR(VLOOKUP($B10,'Défi-6'!$C$2:$J$200,8,FALSE),\"\")","v":""},{"$f":"IFERROR(VLOOKUP($B10,'Défi-7'!$C$2:$J$200,8,FALSE),\"\")","v":49},299,null,"OK","KO","KO","KO","KO","KO","OK","KO",{"$error":"#REF!"},null,{"$f":"'Classement auteurs'!$B10","v":130527009401},{"$f":"IF('Classement auteurs'!K10=\"\",\"\",'Classement auteurs'!K10)","v":49},{"$f":"IF('Classement auteurs'!L10=\"\",\"\",'Classement auteurs'!L10)","v":299},{"$f":"IF('Classement auteurs'!M10=\"\",\"\",'Classement auteurs'!M10)","v":""},{"$f":"IF('Classement auteurs'!N10=\"\",\"\",'Classement auteurs'!N10)","v":""},{"$f":"IF('Classement auteurs'!O10=\"\",\"\",'Classement auteurs'!O10)","v":""},{"$f":"IF('Classement auteurs'!P10=\"\",\"\",'Classement auteurs'!P10)","v":""},{"$f":"IF('Classement auteurs'!Q10=\"\",\"\",'Classement auteurs'!Q10)","v":""},{"$f":"IF('Classement auteurs'!#REF!=\"\",\"\",'Classement auteurs'!#REF!)","v":{"$error":"#REF!"}}]
[null,{"$f":"'Classement auteurs'!$B11","v":131499006801},{"$f":"IFERROR(VLOOKUP($B11,'Défi-1'!$C$2:$J$200,8,FALSE),\"\")","v":35},{"$f":"IFERROR(VLOOKUP($B11,'Défi-2'!$C$2:$J$200,8,FALSE),\"\")","v":39},{"$f":"IFERROR(VLOOKUP($B11,'Défi-3'!$C$2:$J$200,8,FALSE),\"\")","v":48},{"$f":"IFERROR(VLOOKUP($B11,'Défi-4'!$C$2:$J$200,8,FALSE),\"\")","v":52},{"$f":"IFERROR(VLOOKUP($B11,'Défi-5'!$C$2:$J$200,8,FALSE),\"\")","v":42},{"$f":"IFERROR(VLOOKUP($B11,'Défi-6'!$C$2:$J$200,8,FALSE),\"\")","v":42},{"$f":"IFERROR(VLOOKUP($B11,'Défi-7'!$C$2:$J$200,8,FALSE),\"\")","v":36},294,null,"OK","KO","KO","KO","KO","KO","KO","KO",{"$error":"#REF!"},null,{"$f":"'Classement auteurs'!$B11","v":131499006801},{"$f":"IF('Classement auteurs'!K11=\"\",\"\",'Classement auteurs'!K11)","v":36},{"$f":"IF('Classement auteurs'!L11=\"\",\"\",'Classement auteurs'!L11)","v":294},{"$f":"IF('Classement auteurs'!M11=\"\",\"\",'Classement auteurs'!M11)","v":""},{"$f":"IF('Classement auteurs'!N11=\"\",\"\",'Classement auteurs'!N11)","v":""},{"$f":"IF('Classement auteurs'!O11=\"\",\"\",'Classement auteurs'!O11)","v":""},{"$f":"IF('Classement auteurs'!P11=\"\",\"\",'Classement auteurs'!P11)","v":""},{"$f":"IF('Classement auteurs'!Q11=\"\",\"\",'Classement auteurs'!Q11)","v":""},{"$f":"IF('Classement auteurs'!#REF!=\"\",\"\",'Classement auteurs'!#REF!)","v":{"$error":"#REF!"}}]
[null,{"$f":"'Classement auteurs'!$B12","v":130987019701},{"$f":"IFERROR(VLOOKUP($B12,'Défi-1'!$C$2:$J$200,8,FALSE),\"\")","v":51},{"$f":"IFERROR(VLOOKUP($B12,'Défi-2'!$C$2:$J$200,8,FALSE),\"\")","v":40},{"$f":"IFERROR(VLOOKUP($B12,'Défi-3'!$C$2:$J$200,8,FALSE),\"\")","v":40},{"$f":"IFERROR(VLOOKUP($B12,'Défi-4'!$C$2:$J$200,8,FALSE),\"\")","v":39},{"$f":"IFERROR(VLOOKUP($B12,'Défi-5'!$C$2:$J$200,8,FALSE),\"\")","v":37},{"$f":"IFERROR(VLOOKUP($B12,'Défi-6'!$C$2:$J$200,8,FALSE),\"\")","v":51},{"$f":"IFERROR(VLOOKUP($B12,'Défi-7'!$C$2:$J$200,8,FALSE),\"\")","v":33},291,null,"OK","KO","KO","KO","KO","KO","KO","KO",{"$error":"#REF!"},null,{"$f":"'Classement auteurs'!$B12","v":130987019701},{"$f":"IF('Classement auteurs'!K12=\"\",\"\",'Classement auteurs'!K12)","v":33},{"$f":"IF('Classement auteurs'!L12=\"\",\"\",'Classement auteurs'!L12)","v":291},{"$f":"IF('Classement auteurs'!M12=\"\",\"\",'Classement auteurs'!M12)","v":""},{"$f":"IF('Classement auteurs'!N12=\"\",\"\",'Classement auteurs'!N12)","v":""},{"$f":"IF('Classement auteurs'!O12=\"\",\"\",'Classement auteurs'!O12)","v":""},{"$f":"IF('Classement auteurs'!P12=\"\",\"\",'Classement auteurs'!P12)","v":""},{"$f":"IF('Classement auteurs'!Q12=\"\",\"\",'Classement auteurs'!Q12)","v":""},{"$f":"IF('Classement auteurs'!#REF!=\"\",\"\",'Classement auteurs'!#REF!)","v":{"$error":"#REF!"}}]
[null,{"$f":"'Classement auteurs'!$B13","v":131353000101},{"$f":"IFERROR(VLOOKUP($B13,'Défi-1'!$C$2:$J$200,8,FALSE),\"\")","v":45},{"$f":"IFERROR(VLOOKUP($B13,'Défi-2'!$C$2:$J$200,8,FALSE),\"\")","v":36},{"$f":"IFERROR(VLOOKUP($B13,'Défi-3'!$C$2:$J$200,8,FALSE),\"\")","v":46},{"$f":"IFERROR(VLOOKUP($B13,'Défi-4'!$C$2:$J$200,8,FALSE),\"\")","v":47},{"$f":"IFERROR(VLOOKUP($B13,'Défi-5'!$C$2:$J$200,8,FALSE),\"\")","v":57},{"$f":"IFERROR(VLOOKUP($B13,'Défi-6'!$C$2:$J$200,8,FALSE),\"\")","v":""},{"$f":"IFERROR(VLOOKUP($B13,'Défi-7'!$C$2:$J$200,8,FALSE),\"\")","v":56},287,null,"OK","KO","KO","KO","KO","KO","OK","KO",{"$error":"#REF!"},null,{"$f":"'Classement auteurs'!$B13","v":131353000101},{"$f":"IF('Classement auteurs'!K13=\"\",\"\",'Classement auteurs'!K13)","v":56},{"$f":"IF('Classement auteurs'!L13=\"\",\"\",'Classement auteurs'!L13)","v":287},{"$f":"IF('Classement auteurs'!M13=\"\",\"\",'Classement auteurs'!M13)","v":""},{"$f":"IF('Classement auteurs'!N13=\"\",\"\",'Classement auteurs'!N13)","v":""},{"$f":"IF('Classement auteurs'!O13=\"\",\"\",'Classement auteurs'!O13)","v":""},{"$f":"IF('Classement auteurs'!P13=\"\",\"\",'Classement auteurs'!P13)","v":""},{"$f":"IF('Classement auteurs'!Q13=\"\",\"\",'Classement auteurs'!Q13)","v":""},{"$f":"IF('Classement auteurs'!#REF!=\"\",\"\",'Classement auteurs'!#REF!)","v":{"$error":"#REF!"}}]
[null,{"$f":"'Classement auteurs'!$B14","v":131879000801},{"$f":"IFERROR(VLOOKUP($B14,'Défi-1'!$C$2:$J$200,8,FALSE),\"\")","v":50},{"$f":"IFERROR(VLOOKUP($B14,'Défi-2'!$C$2:$J$200,8,FALSE),\"\")","v":""},{"$f":"IFERROR(VLOOKUP($B14,'Défi-3'!$C$2:$J$200,8,FALSE),\"\")","v":58},{"$f":"IFERROR(VLOOKUP($B14,'Défi-4'!$C$2:$J$200,8,FALSE),\"\")","v":40},{"$f":"IFERROR(VLOOKUP($B14,'Défi-5'!$C$2:$J$200,8,FALSE),\"\")","v":36},{"$f":"IFERROR(VLOOKUP($B14,'Défi-6'!$C$2:$J$200,8,FALSE),\"\")","v":58},{"$f":"IFERROR(VLOOKUP($B14,'Défi-7'!$C$2:$J$200,8,FALSE),\"\")","v":44},286,null,"OK","KO","KO","KO","KO","KO","KO","KO",{"$error":"#REF!"},null,{"$f":"'Classement auteurs'!$B14","v":131879000801},{"$f":"IF('Classement auteurs'!K14=\"\",\"\",'Classement auteurs'!K14)","v":44},{"$f":"IF('Classement auteurs'!L14=\"\",\"\",'Classement auteurs'!L14)","v":286},{"$f":"IF('Classement auteurs'!M14=\"\",\"\",'Classement auteurs'!M14)","v":""},{"$f":"IF('Classement auteurs'!N14=\"\",\"\",'Classement auteurs'!N14)","v":""},{"$f":"IF('Classement auteurs'!O14=\"\",\"\",'Classement auteurs'!O14)","v":""},{"$f":"IF('Classement auteurs'!P14=\"\",\"\",'Classement auteurs'!P14)","v":""},{"$f":"IF('Classement auteurs'!Q14=\"\",\"\",'Classement auteurs'!Q14)","v":""},{"$f":"IF('Classement auteurs'!#REF!=\"\",\"\",'Classement auteurs'!#REF!)","v":{"$error":"#REF!"}}]
[null,{"$f":"'Classement auteurs'!$B15","v":131683005101},{"$f":"IFERROR(VLOOKUP($B15,'Défi-1'!$C$2:$J$200,8,FALSE),\"\")","v":36},{"$f":"IFERROR(VLOOKUP($B15,'Défi-2'!$C$2:$J$200,8,FALSE),\"\")","v":33},{"$f":"IFERROR(VLOOKUP($B15,'Défi-3'!$C$2:$J$200,8,FALSE),\"\")","v":41},{"$f":"IFERROR(VLOOKUP($B15,'Défi-4'!$C$2:$J$200,8,FALSE),\"\")","v":44},{"$f":"IFERROR(VLOOKUP($B15,'Défi-5'!$C$2:$J$200,8,FALSE),\"\")","v":49},{"$f":"IFERROR(VLOOKUP($B15,'Défi-6'!$C$2:$J$200,8,FALSE),\"\")","v":44},{"$f":"IFERROR(VLOOKUP($B15,'Défi-7'!$C$2:$J$200,8,FALSE),\"\")","v":38},285,null,"OK","KO","KO","KO","KO","KO","KO","KO",{"$error":"#REF!"},null,{"$f":"'Classement auteurs'!$B15","v":131683005101},{"$f":"IF('Classement auteurs'!K15=\"\",\"\",'Classement auteurs'!K15)","v":38},{"$f":"IF('Classement auteurs'!L15=\"\",\"\",'Classement auteurs'!L15)","v":285},{"$f":"IF('Classement auteurs'!M15=\"\",\"\",'Classement auteurs'!M15)","v":""},{"$f":"IF('Classement auteurs'!N15=\"\",\"\",'Classement auteurs'!N15)","v":""},{"$f":"IF('Classement auteurs'!O15=\"\",\"\",'Classement auteurs'!O15)","v":""},{"$f":"IF('Classement auteurs'!P15=\"\",\"\",'Classement auteurs'!P15)","v":""},{"$f":"IF('Classement auteurs'!Q15=\"\",\"\",'Classement auteurs'!Q15)","v":""},{"$f":"IF('Classement auteurs'!#REF!=\"\",\"\",'Classement auteurs'!#REF!)","v":{"$error":"#REF!"}}]
[null,{"$f":"'Classement auteurs'!$B16","v":131683007901},{"$f":"IFERROR(VLOOKUP($B16,'Défi-1'!$C$2:$J$200,8,FALSE),\"\")","v":54},{"$f":"IFERROR(VLOOKUP($B16,'Défi-2'!$C$2:$J$200,8,FALSE),\"\")","v":39},{"$f":"IFERROR(VLOOKUP($B16,'Défi-3'!$C$2:$J$200,8,FALSE),\"\")","v":38},{"$f":"IFERROR(VLOOKUP($B16,'Défi-4'!$C$2:$J$200,8,FALSE),\"\")","v":51},{"$f":"IFERROR(VLOOKUP($B16,'Défi-5'!$C$2:$J$200,8,FALSE),\"\")","v":58},{"$f":"IFERROR(VLOOKUP($B16,'Défi-6'!$C$2:$J$200,8,FALSE),\"\")","v":""},{"$f":"IFERROR(VLOOKUP($B16,'Défi-7'!$C$2:$J$200,8,FALSE),\"\")","v":42},282,null,"OK","KO","KO","KO","KO","KO","OK","KO",{"$error":"#REF!"},null,{"$f":"'Classement auteurs'!$B16","v":131683007901},{"$f":"IF('Classement auteurs'!K16=\"\",\"\",'Classement auteurs'!K16)","v":42},{"$f":"IF('Classement auteurs'!L16=\"\",\"\",'Classement auteurs'!L16)","v":282},{"$f":"IF('Classement auteurs'!M16=\"\",\"\",'Classement auteurs'!M16)","v":""},{"$f":"IF('Classement auteurs'!N16=\"\",\"\",'Classement auteurs'!N16)","v":""},{"$f":"IF('Classement auteurs'!O16=\"\",\"\",'Classement auteurs'!O16)","v":""},{"$f":"IF('Classement auteurs'!P16=\"\",\"\",'Classement auteurs'!P16)","v":""},{"$f":"IF('Classement auteurs'!Q16=\"\",\"\",'Classement auteurs'!Q16)","v":""},{"$f":"IF('Classement auteurs'!#REF!=\"\",\"\",'Classement auteurs'!#REF!)","v":{"$error":"#REF!"}}]
[null,{"$f":"'Classement auteurs'!$B17","v":131823004901},{"$f":"IFERROR(VLOOKUP($B17,'Défi-1'!$C$2:$J$200,8,FALSE),\"\")","v":44},{"$f":"IFERROR(VLOOKUP($B17,'Défi-2'!$C$2:$J$200,8,FALSE),\"\")","v":25},{"$f":"IFERROR(VLOOKUP($B17,'Défi-3'!$C$2:$J$200,8,FALSE),\"\")","v":43},{"$f":"IFERROR(VLOOKUP($B17,'Défi-4'!$C$2:$J$200,8,FALSE),\"\")","v":39},{"$f":"IFERROR(VLOOKUP($B17,'Défi-5'!$C$2:$J$200,8,FALSE),\"\")","v":41},{"$f":"IFERROR(VLOOKUP($B17,'Défi-6'!$C$2:$J$200,8,FALSE),\"\")","v":43},{"$f":"IFERROR(VLOOKUP($B17,'Défi-7'!$C$2:$J$200,8,FALSE),\"\")","v":43},278,null,"OK","KO","KO","KO","KO","KO","KO","KO",{"$error":"#REF!"},null,{"$f":"'Classement auteurs'!$B17","v":131823004901},{"$f":"IF('Classement auteurs'!K17=\"\",\"\",'Classement auteurs'!K17)","v":43},{"$f":"IF('Classement auteurs'!L17=\"\",\"\",'Classement auteurs'!L17)","v":278},{"$f":"IF('Classement auteurs'!M17=\"\",\"\",'Classement auteurs'!M17)","v":""},{"$f":"IF('Classement auteurs'!N17=\"\",\"\",'Classement auteurs'!N17)","v":""},{"$f":"IF('Classement auteurs'!O17=\"\",\"\",'Classement auteurs'!O17)","v":""},{"$f":"IF('Classement auteurs'!P17=\"\",\"\",'Classement auteurs'!P17)","v":""},{"$f":"IF('Classement auteurs'!Q17=\"\",\"\",'Classement auteurs'!Q17)","v":""},{"$f":"IF('Classement auteurs'!#REF!=\"\",\"\",'Classement auteurs'!#REF!)","v":{"$error":"#REF!"}}]
[null,{"$f":"'Classement auteurs'!$B18","v":131619004501},{"$f":"IFERROR(VLOOKUP($B18,'Défi-1'!$C$2:$J$200,8,FALSE),\"\")","v":51},{"$f":"IFERROR(VLOOKUP($B18,'Défi-2'!$C$2:$J$200,8,FALSE),\"\")","v":48},{"$f":"IFERROR(VLOOKUP($B18,'Défi-3'!$C$2:$J$200,8,FALSE),\"\")","v":48},{"$f":"IFERROR(VLOOKUP($B18,'Défi-4'!$C$2:$J$200,8,FALSE),\"\")","v":46},{"$f":"IFERROR(VLOOKUP($B18,'Défi-5'!$C$2:$J$200,8,FALSE),\"\")","v":37},{"$f":"IFERROR(VLOOKUP($B18,'Défi-6'!$C$2:$J$200,8,FALSE),\"\")","v":""},{"$f":"IFERROR(VLOOKUP($B18,'Défi-7'!$C$2:$J$200,8,FALSE),\"\")","v":47},277,null,"OK","KO","KO","KO","KO","KO","OK","KO",{"$error":"#REF!"},null,{"$f":"'Classement auteurs'!$B18","v":131619004501},{"$f":"IF('Classement auteurs'!K18=\"\",\"\",'Classement auteurs'!K18)","v":47},{"$f":"IF('Classement auteurs'!L18=\"\",\"\",'Classement auteurs'!L18)","v":277},{"$f":"IF('Classement auteurs'!M18=\"\",\"\",'Classement auteurs'!M18)","v":""},{"$f":"IF('Classement auteurs'!N18=\"\",\"\",'Classement auteurs'!N18)","v":""},{"$f":"IF('Classement auteurs'!O18=\"\",\"\",'Classement auteurs'!O18)","v":""},{"$f":"IF('Classement auteurs'!P18=\"\",\"\",'Classement auteurs'!P18)","v":""},{"$f":"IF('Classement auteurs'!Q18=\"\",\"\",'Classement auteurs'!Q18)","v":""},{"$f":"IF('Classement auteurs'!#REF!=\"\",\"\",'Classement auteurs'!#REF!)","v":{"$error":"#REF!"}}]
[null,{"$f":"'Classement auteurs'!$B19","v":130925007701},{"$f":"IFERROR(VLOOKUP($B19,'Défi-1'!$C$2:$J$200,8,FALSE),\"\")","v":46},{"$f":"IFERROR(VLOOKUP($B19,'Défi-2'!$C$2:$J$200,8,FALSE),\"\")","v":50},{"$f":"IFERROR(VLOOKUP($B19,'Défi-3'!$C$2:$J$200,8,FALSE),\"\")","v":48},{"$f":"IFERROR(VLOOKUP($B19,'Défi-4'!$C$2:$J$200,8,FALSE),\"\")","v":44},{"$f":"IFERROR(VLOOKUP($B19,'Défi-5'!$C$2:$J$200,8,FALSE),\"\")","v":37},{"$f":"IFERROR(VLOOKUP($B19,'Défi-6'!$C$2:$J$200,8,FALSE),\"\")","v":50},{"$f":"IFERROR(VLOOKUP($B19,'Défi-7'!$C$2:$J$200,8,FALSE),\"\")","v":""},275,null,"OK","KO","KO","KO","KO","KO","KO","OK",{"$error":"#REF!"},null,{"$f":"'Classement auteurs'!$B19","v":130925007701},{"$f":"IF('Classement auteurs'!K19=\"\",\"\",'Classement auteurs'!K19)","v":""},{"$f":"IF('Classement auteurs'!L19=\"\",\"\",'Classement auteurs'!L19)","v":275},{"$f":"IF('Classement auteurs'!M19=\"\",\"\",'Classement auteurs'!M19)","v":""},{"$f":"IF('Classement auteurs'!N19=\"\",\"\",'Classement auteurs'!N19)","v":""},{"$f":"IF('Classement auteurs'!O19=\"\",\"\",'Classement auteurs'!O19)","v":""},{"$f":"IF('Classement auteurs'!P19=\"\",\"\",'Classement auteurs'!P19)","v":""},{"$f":"IF('Classement auteurs'!Q19=\"\",\"\",'Classement auteurs'!Q19)","v":""},{"$f":"IF('Classement auteurs'!#REF!=\"\",\"\",'Classement auteurs'!#REF!)","v":{"$error":"#REF!"}}]
[null,{"$f":"'Classement auteurs'!$B20","v":131862002201},{"$f":"IFERROR(VLOOKUP($B20,'Défi-1'!$C$2:$J$200,8,FALSE),\"\")","v":41},{"$f":"IFERROR(VLOOKUP($B20,'Défi-2'!$C$2:$J$200,8,FALSE),\"\")","v":35},{"$f":"IFERROR(VLOOKUP($B20,'Défi-3'!$C$2:$J$200,8,FALSE),\"\")","v":44},{"$f":"IFERROR(VLOOKUP($B20,'Défi-4'!$C$2:$J$200,8,FALSE),\"\")","v":27},{"$f":"IFERROR(VLOOKUP($B20,'Défi-5'!$C$2:$J$200,8,FALSE),\"\")","v":43},{"$f":"IFERROR(VLOOKUP($B20,'Défi-6'!$C$2:$J$200,8,FALSE),\"\")","v":44},{"$f":"IFERROR(VLOOKUP($B20,'Défi-7'!$C$2:$J$200,8,FALSE),\"\")","v":37},271,null,"OK","KO","KO","KO","KO","KO","KO","KO",{"$error":"#REF!"},null,{"$f":"'Classement auteurs'!$B20","v":131862002201},{"$f":"IF('Classement auteurs'!K20=\"\",\"\",'Classement auteurs'!K20)","v":37},{"$f":"IF('Classement auteurs'!L20=\"\",\"\",'Classement auteurs'!L20)","v":271},{"$f":"IF('Classement auteurs'!M20=\"\",\"\",'Classement auteurs'!M20)","v":""},{"$f":"IF('Classement auteurs'!N20=\"\",\"\",'Classement auteurs'!N20)","v":""},{"$f":"IF('Classement auteurs'!O20=\"\",\"\",'Classement auteurs'!O20)","v":""},{"$f":"IF('Classement auteurs'!P20=\"\",\"\",'Classement auteurs'!P20)","v":""},{"$f":"IF('Classement auteurs'!Q20=\"\",\"\",'Classement auteurs'!Q20)","v":""},{"$f":"IF('Classement auteurs'!#REF!=\"\",\"\",'Classement auteurs'!#REF!)","v":{"$error":"#REF!"}}]
[null,{"$f":"'Classement auteurs'!$B21","v":132060001701},{"$f":"IFERROR(VLOOKUP($B21,'Défi-1'!$C$2:$J$200,8,FALSE),\"\")","v":37},{"$f":"IFERROR(VLOOKUP($B21,'Défi-2'!$C$2:$J$200,8,FALSE),\"\")","v":45},{"$f":"IFERROR(VLOOKUP($B21,'Défi-3'!$C$2:$J$200,8,FALSE),\"\")","v":33},{"$f":"IFERROR(VLOOKUP($B21,'Défi-4'!$C$2:$J$200,8,FALSE),\"\")","v":37},{"$f":"IFERROR(VLOOKUP($B21,'Défi-5'!$C$2:$J$200,8,FALSE),\"\")","v":37},{"$f":"IFERROR(VLOOKUP($B21,'Défi-6'!$C$2:$J$200,8,FALSE),\"\")","v":45},{"$f":"IFERROR(VLOOKUP($B21,'Défi-7'!$C$2:$J$200,8,FALSE),\"\")","v":35},269,null,"OK","KO","KO","KO","KO","KO","KO","KO",{"$error":"#REF!"},null,{"$f":"'Classement auteurs'!$B21","v":132060001701},{"$f":"IF('Classement auteurs'!K21=\"\",\"\",'Classement auteurs'!K21)","v":35},{"$f":"IF('Classement auteurs'!L21=\"\",\"\",'Classement auteurs'!L21)","v":269},{"$f":"IF('Classement auteurs'!M21=\"\",\"\",'Classement auteurs'!M21)","v":""},{"$f":"IF('Classement auteurs'!N21=\"\",\"\",'Classement auteurs'!N21)","v":""},{"$f":"IF('Classement auteurs'!O21=\"\",\"\",'Classement auteurs'!O21)","v":""},{"$f":"IF('Classement auteurs'!P21=\"\",\"\",'Classement auteurs'!P21)","v":""},{"$f":"IF('Classement auteurs'!Q21=\"\",\"\",'Classement auteurs'!Q21)","v":""},{"$f":"IF('Classement auteurs'!#REF!=\"\",\"\",'Classement auteurs'!#REF!)","v":{"$error":"#REF!"}}]
[null,{"$f":"'Classement auteurs'!$B22","v":130878014101},{"$f":"IFERROR(VLOOKUP($B22,'Défi-1'!$C$2:$J$200,8,FALSE),\"\")","v":36},{"$f":"IFERROR(VLOOKUP($B22,'Défi-2'!$C$2:$J$200,8,FALSE),\"\")","v":37},{"$f":"IFERROR(VLOOKUP($B22,'Défi-3'!$C$2:$J$200,8,FALSE),\"\")","v":44},{"$f":"IFERROR(VLOOKUP($B22,'Défi-4'!$C$2:$J$200,8,FALSE),\"\")","v":18},{"$f":"IFERROR(VLOOKUP($B22,'Défi-5'!$C$2:$J$200,8,FALSE),\"\")","v":56},{"$f":"IFERROR(VLOOKUP($B22,'Défi-6'!$C$2:$J$200,8,FALSE),\"\")","v":44},{"$f":"IFERROR(VLOOKUP($B22,'Défi-7'!$C$2:$J$200,8,FALSE),\"\")","v":33},268,null,"OK","KO","KO","KO","KO","KO","KO","KO",{"$error":"#REF!"},null,{"$f":"'Classement auteurs'!$B22","v":130878014101},{"$f":"IF('Classement auteurs'!K22=\"\",\"\",'Classement auteurs'!K22)","v":33},{"$f":"IF('Classement auteurs'!L22=\"\",\"\",'Classement auteurs'!L22)","v":268},{"$f":"IF('Classement auteurs'!M22=\"\",\"\",'Classement auteurs'!M22)","v":""},{"$f":"IF('Classement auteurs'!N22=\"\",\"\",'Classement auteurs'!N22)","v":""},{"$f":"IF('Classement auteurs'!O22=\"\",\"\",'Classement auteurs'!O22)","v":""},{"$f":"IF('Classement auteurs'!P22=\"\",\"\",'Classement auteurs'!P22)","v":""},{"$f":"IF('Classement auteurs'!Q22=\"\",\"\",'Classement auteurs'!Q22)","v":""},{"$f":"IF('Classement auteurs'!#REF!=\"\",\"\",'Classement auteurs'!#REF!)","v":{"$error":"#REF!"}}]
[null,{"$f":"'Classement auteurs'!$B23","v":131353000701},{"$f":"IFERROR(VLOOKUP($B23,'Défi-1'!$C$2:$J$200,8,FALSE),\"\")","v":48},{"$f":"IFERROR(VLOOKUP($B23,'Défi-2'!$C$2:$J$200,8,FALSE),\"\")","v":42},{"$f":"IFERROR(VLOOKUP($B23,'Défi-3'!$C$2:$J$200,8,FALSE),\"\")","v":39},{"$f":"IFERROR(VLOOKUP($B23,'Défi-4'!$C$2:$J$200,8,FALSE),\"\")","v":57},{"$f":"IFERROR(VLOOKUP($B23,'Défi-5'!$C$2:$J$200,8,FALSE),\"\")","v":41},{"$f":"IFERROR(VLOOKUP($B23,'Défi-6'!$C$2:$J$200,8,FALSE),\"\")","v":""},{"$f":"IFERROR(VLOOKUP($B23,'Défi-7'!$C$2:$J$200,8,FALSE),\"\")","v":41},268,null,"OK","KO","KO","KO","KO","KO","OK","KO",{"$error":"#REF!"},null,{"$f":"'Classement auteurs'!$B23","v":131353000701},{"$f":"IF('Classement auteurs'!K23=\"\",\"\",'Classement auteurs'!K23)","v":41},{"$f":"IF('Classement auteurs'!L23=\"\",\"\",'Classement auteurs'!L23)","v":268},{"$f":"IF('Classement auteurs'!M23=\"\",\"\",'Classement auteurs'!M23)","v":""},{"$f":"IF('Classement auteurs'!N23=\"\",\"\",'Classement auteurs'!N23)","v":""},{"$f":"IF('Classement auteurs'!O23=\"\",\"\",'Classement auteurs'!O23)","v":""},{"$f":"IF('Classement auteurs'!P23=\"\",\"\",'Classement auteurs'!P23)","v":""},{"$f":"IF('Classement auteurs'!Q23=\"\",\"\",'Classement auteurs'!Q23)","v":""},{"$f":"IF('Classement auteurs'!#REF!=\"\",\"\",'Classement auteurs'!#REF!)","v":{"$error":"#REF!"}}]
[null,{"$f":"'Classement auteurs'!$B24","v":131956004501},{"$f":"IFERROR(VLOOKUP($B24,'Défi-1'!$C$2:$J$200,8,FALSE),\"\")","v":38},{"$f":"IFERROR(VLOOKUP($B24,'Défi-2'!$C$2:$J$200,8,FALSE),\"\")","v":38},{"$f":"IFERROR(VLOOKUP($B24,'Défi-3'!$C$2:$J$200,8,FALSE),\"\")","v":35},{"$f":"IFERROR(VLOOKUP($B24,'Défi-4'!$C$2:$J$200,8,FALSE),\"\")","v":37},{"$f":"IFERROR(VLOOKUP($B24,'Défi-5'!$C$2:$J$200,8,FALSE),\"\")","v":39},{"$f":"IFERROR(VLOOKUP($B24,'Défi-6'!$C$2:$J$200,8,FALSE),\"\")","v":38},{"$f":"IFERROR(VLOOKUP($B24,'Défi-7'!$C$2:$J$200,8,FALSE),\"\")","v":42},267,null,"OK","KO","KO","KO","KO","KO","KO","KO",{"$error":"#REF!"},null,{"$f":"'Classement auteurs'!$B24","v":131956004501},{"$f":"IF('Classement auteurs'!K24=\"\",\"\",'Classement auteurs'!K24)","v":42},{"$f":"IF('Classement auteurs'!L24=\"\",\"\",'Classement auteurs'!L24)","v":267},{"$f":"IF('Classement auteurs'!M24=\"\",\"\",'Classement auteurs'!M24)","v":""},{"$f":"IF('Classement auteurs'!N24=\"\",\"\",'Classement auteurs'!N24)","v":""},{"$f":"IF('Classement auteurs'!O24=\"\",\"\",'Classement auteurs'!O24)","v":""},{"$f":"IF('Classement auteurs'!P24=\"\",\"\",'Classement auteurs'!P24)","v":""},{"$f":"IF('Classement auteurs'!Q24=\"\",\"\",'Classement auteurs'!Q24)","v":""},{"$f":"IF('Classement auteurs'!#REF!=\"\",\"\",'Classement auteurs'!#REF!)","v":{"$error":"#REF!"}}]
[null,{"$f":"'Classement auteurs'!$B25","v":131376014701},{"$f":"IFERROR(VLOOKUP($B25,'Défi-1'!$C$2:$J$200,8,FALSE),\"\")","v":43},{"$f":"IFERROR(VLOOKUP($B25,'Défi-2'!$C$2:$J$200,8,FALSE),\"\")","v":23},{"$f":"IFERROR(VLOOKUP($B25,'Défi-3'!$C$2:$J$200,8,FALSE),\"\")","v":39},{"$f":"IFERROR(VLOOKUP($B25,'Défi-4'!$C$2:$J$200,8,FALSE),\"\")","v":41},{"$f":"IFERROR(VLOOKUP($B25,'Défi-5'!$C$2:$J$200,8,FALSE),\"\")","v":44},{"$f":"IFERROR(VLOOKUP($B25,'Défi-6'!$C$2:$J$200,8,FALSE),\"\")","v":43},{"$f":"IFERROR(VLOOKUP($B25,'Défi-7'!$C$2:$J$200,8,FALSE),\"\")","v":33},266,null,"OK","KO","KO","KO","KO","KO","KO","KO",{"$error":"#REF!"},null,{"$f":"'Classement auteurs'!$B25","v":131376014701},{"$f":"IF('Classement auteurs'!K25=\"\",\"\",'Classement auteurs'!K25)","v":33},{"$f":"IF('Classement auteurs'!L25=\"\",\"\",'Classement auteurs'!L25)","v":266},{"$f":"IF('Classement auteurs'!M25=\"\",\"\",'Classement auteurs'!M25)","v":""},{"$f":"IF('Classement auteurs'!N25=\"\",\"\",'Classement auteurs'!N25)","v":""},{"$f":"IF('Classement auteurs'!O25=\"\",\"\",'Classement auteurs'!O25)","v":""},{"$f":"IF('Classement auteurs'!P25=\"\",\"\",'Classement auteurs'!P25)","v":""},{"$f":"IF('Classement auteurs'!Q25=\"\",\"\",'Classement auteurs'!Q25)","v":""},{"$f":"IF('Classement auteurs'!#REF!=\"\",\"\",'Classement auteurs'!#REF!)","v":{"$error":"#REF!"}}]
[null,{"$f":"'Classement auteurs'!$B26","v":131499005201},{"$f":"IFERROR(VLOOKUP($B26,'Défi-1'!$C$2:$J$200,8,FALSE),\"\")","v":44},{"$f":"IFERROR(VLOOKUP($B26,'Défi-2'!$C$2:$J$200,8,FALSE),\"\")","v":31},{"$f":"IFERROR(VLOOKUP($B26,'Défi-3'!$C$2:$J$200,8,FALSE),\"\")","v":49},{"$f":"IFERROR(VLOOKUP($B26,'Défi-4'!$C$2:$J$200,8,FALSE),\"\")","v":37},{"$f":"IFERROR(VLOOKUP($B26,'Défi-5'!$C$2:$J$200,8,FALSE),\"\")","v":39},{"$f":"IFERROR(VLOOKUP($B26,'Défi-6'!$C$2:$J$200,8,FALSE),\"\")","v":31},{"$f":"IFERROR(VLOOKUP($B26,'Défi-7'!$C$2:$J$200,8,FALSE),\"\")","v":34},265,null,"OK","KO","KO","KO","KO","KO","KO","KO",{"$error":"#REF!"},null,{"$f":"'Classement auteurs'!$B26","v":131499005201},{"$f":"IF('Classement auteurs'!K26=\"\",\"\",'Classement auteurs'!K26)","v":34},{"$f":"IF('Classement auteurs'!L26=\"\",\"\",'Classement auteurs'!L26)","v":265},{"$f":"IF('Classement auteurs'!M26=\"\",\"\",'Classement auteurs'!M26)","v":""},{"$f":"IF('Classement auteurs'!N26=\"\",\"\",'Classement auteurs'!N26)","v":""},{"$f":"IF('Classement auteurs'!O26=\"\",\"\",'Classement auteurs'!O26)","v":""},{"$f":"IF('Classement auteurs'!P26=\"\",\"\",'Classement auteurs'!P26)","v":""},{"$f":"IF('Classement auteurs'!Q26=\"\",\"\",'Classement auteurs'!Q26)","v":""},{"$f":"IF('Classement auteurs'!#REF!=\"\",\"\",'Classement auteurs'!#REF!)","v":{"$error":"#REF!"}}]
[null,{"$f":"'Classement auteurs'!$B27","v":131956004601},{"$f":"IFERROR(VLOOKUP($B27,'Défi-1'!$C$2:$J$200,8,FALSE),\"\")","v":""},{"$f":"IFERROR(VLOOKUP($B27,'Défi-2'!$C$2:$J$200,8,FALSE),\"\")","v":47},{"$f":"IFERROR(VLOOKUP($B27,'Défi-3'!$C$2:$J$200,8,FALSE),\"\")","v":50},{"$f":"IFERROR(VLOOKUP($B27,'Défi-4'!$C$2:$J$200,8,FALSE),\"\")","v":38},{"$f":"IFERROR(VLOOKUP($B27,'Défi-5'!$C$2:$J$200,8,FALSE),\"\")","v":27},{"$f":"IFERROR(VLOOKUP($B27,'Défi-6'!$C$2:$J$200,8,FALSE),\"\")","v":47},{"$f":"IFERROR(VLOOKUP($B27,'Défi-7'!$C$2:$J$200,8,FALSE),\"\")","v":52},261,null,"OK","KO","KO","KO","KO","KO","KO","KO",{"$error":"#REF!"},null,{"$f":"'Classement auteurs'!$B27","v":131956004601},{"$f":"IF('Classement auteurs'!K27=\"\",\"\",'Classement auteurs'!K27)","v":52},{"$f":"IF('Classement auteurs'!L27=\"\",\"\",'Classement auteurs'!L27)","v":261},{"$f":"IF('Classement auteurs'!M27=\"\",\"\",'Classement auteurs'!M27)","v":""},{"$f":"IF('Classement auteurs'!N27=\"\",\"\",'Classement auteurs'!N27)","v":""},{"$f":"IF('Classement auteurs'!O27=\"\",\"\",'Classement auteurs'!O27)","v":""},{"$f":"IF('Classement auteurs'!P27=\"\",\"\",'Classement auteurs'!P27)","v":""},{"$f":"IF('Classement auteurs'!Q27=\"\",\"\",'Classement auteurs'!Q27)","v":""},{"$f":"IF('Classement auteurs'!#REF!=\"\",\"\",'Classement auteurs'!#REF!)","v":{"$error":"#REF!"}}]
[null,{"$f":"'Classement auteurs'!$B28","v":130987013801},{"$f":"IFERROR(VLOOKUP($B28,'Défi-1'!$C$2:$J$200,8,FALSE),\"\")","v":38},{"$f":"IFERROR(VLOOKUP($B28,'Défi-2'!$C$2:$J$200,8,FALSE),\"\")","v":""},{"$f":"IFERROR(VLOOKUP($B28,'Défi-3'!$C$2:$J$200,8,FALSE),\"\")","v":45},{"$f":"IFERROR(VLOOKUP($B28,'Défi-4'!$C$2:$J$200,8,FALSE),\"\")","v":42},{"$f":"IFERROR(VLOOKUP($B28,'Défi-5'!$C$2:$J$200,8,FALSE),\"\")","v":42},{"$f":"IFERROR(VLOOKUP($B28,'Défi-6'!$C$2:$J$200,8,FALSE),\"\")","v":42},{"$f":"IFERROR(VLOOKUP($B28,'Défi-7'!$C$2:$J$200,8,FALSE),\"\")","v":51},260,null,"OK","KO","KO","KO","KO","KO","KO","KO",{"$error":"#REF!"},null,{"$f":"'Classement auteurs'!$B28","v":130987013801},{"$f":"IF('Classement auteurs'!K28=\"\",\"\",'Classement auteurs'!K28)","v":51},{"$f":"IF('Classement auteurs'!L28=\"\",\"\",'Classement auteurs'!L28)","v":260},{"$f":"IF('Classement auteurs'!M28=\"\",\"\",'Classement auteurs'!M28)","v":""},{"$f":"IF('Classement auteurs'!N28=\"\",\"\",'Classement auteurs'!N28)","v":""},{"$f":"IF('Classement auteurs'!O28=\"\",\"\",'Classement auteurs'!O28)","v":""},{"$f":"IF('Classement auteurs'!P28=\"\",\"\",'Classement auteurs'!P28)","v":""},{"$f":"IF('Classement auteurs'!Q28=\"\",\"\",'Classement auteurs'!Q28)","v":""},{"$f":"IF('Classement auteurs'!#REF!=\"\",\"\",'Classement auteurs'!#REF!)","v":{"$error":"#REF!"}}]
[null,{"$f":"'Classement auteurs'!$B29","v":130000020401},{"$f":"IFERROR(VLOOKUP($B29,'Défi-1'!$C$2:$J$200,8,FALSE),\"\")","v":31},{"$f":"IFERROR(VLOOKUP($B29,'Défi-2'!$C$2:$J$200,8,FALSE),\"\")","v":37},{"$f":"IFERROR(VLOOKUP($B29,'Défi-3'!$C$2:$J$200,8,FALSE),\"\")","v":35},{"$f":"IFERROR(VLOOKUP($B29,'Défi-4'!$C$2:$J$200,8,FALSE),\"\")","v":35},{"$f":"IFERROR(VLOOKUP($B29,'Défi-5'!$C$2:$J$200,8,FALSE),\"\")","v":43},{"$f":"IFERROR(VLOOKUP($B29,'Défi-6'!$C$2:$J$200,8,FALSE),\"\")","v":37},{"$f":"IFERROR(VLOOKUP($B29,'Défi-7'!$C$2:$J$200,8,FALSE),\"\")","v":41},259,null,"OK","KO","KO","KO","KO","KO","KO","KO",{"$error":"#REF!"},null,{"$f":"'Classement auteurs'!$B29","v":130000020401},{"$f":"IF('Classement auteurs'!K29=\"\",\"\",'Classement auteurs'!K29)","v":41},{"$f":"IF('Classement auteurs'!L29=\"\",\"\",'Classement auteurs'!L29)","v":259},{"$f":"IF('Classement auteurs'!M29=\"\",\"\",'Classement auteurs'!M29)","v":""},{"$f":"IF('Classement auteurs'!N29=\"\",\"\",'Classement auteurs'!N29)","v":""},{"$f":"IF('Classement auteurs'!O29=\"\",\"\",'Classement auteurs'!O29)","v":""},{"$f":"IF('Classement auteurs'!P29=\"\",\"\",'Classement auteurs'!P29)","v":""},{"$f":"IF('Classement auteurs'!Q29=\"\",\"\",'Classement auteurs'!Q29)","v":""},{"$f":"IF('Classement auteurs'!#REF!=\"\",\"\",'Classement auteurs'!#REF!)","v":{"$error":"#REF!"}}]
[null,{"$f":"'Classement auteurs'!$B30","v":130987019601},{"$f":"IFERROR(VLOOKUP($B30,'Défi-1'!$C$2:$J$200,8,FALSE),\"\")","v":39},{"$f":"IFERROR(VLOOKUP($B30,'Défi-2'!$C$2:$J$200,8,FALSE),\"\")","v":37},{"$f":"IFERROR(VLOOKUP($B30,'Défi-3'!$C$2:$J$200,8,FALSE),\"\")","v":36},{"$f":"IFERROR(VLOOKUP($B30,'Défi-4'!$C$2:$J$200,8,FALSE),\"\")","v":44},{"$f":"IFERROR(VLOOKUP($B30,'Défi-5'!$C$2:$J$200,8,FALSE),\"\")","v":34},{"$f":"IFERROR(VLOOKUP($B30,'Défi-6'!$C$2:$J$200,8,FALSE),\"\")","v":39},{"$f":"IFERROR(VLOOKUP($B30,'Défi-7'!$C$2:$J$200,8,FALSE),\"\")","v":29},258,null,"OK","KO","KO","KO","KO","KO","KO","KO",{"$error":"#REF!"},null,{"$f":"'Classement auteurs'!$B30","v":130987019601},{"$f":"IF('Classement auteurs'!K30=\"\",\"\",'Classement auteurs'!K30)","v":29},{"$f":"IF('Classement auteurs'!L30=\"\",\"\",'Classement auteurs'!L30)","v":258},{"$f":"IF('Classement auteurs'!M30=\"\",\"\",'Classement auteurs'!M30)","v":""},{"$f":"IF('Classement auteurs'!N30=\"\",\"\",'Classement auteurs'!N30)","v":""},{"$f":"IF('Classement auteurs'!O30=\"\",\"\",'Classement auteurs'!O30)","v":""},{"$f":"IF('Classement auteurs'!P30=\"\",\"\",'Classement auteurs'!P30)","v":""},{"$f":"IF('Classement auteurs'!Q30=\"\",\"\",'Classement auteurs'!Q30)","v":""},{"$f":"IF('Classement auteurs'!#REF!=\"\",\"\",'Classement auteurs'!#REF!)","v":{"$error":"#REF!"}}]
[null,{"$f":"'Classement auteurs'!$B31","v":131499008701},{"$f":"IFERROR(VLOOKUP($B31,'Défi-1'!$C$2:$J$200,8,FALSE),\"\")","v":44},{"$f":"IFERROR(VLOOKUP($B31,'Défi-2'!$C$2:$J$200,8,FALSE),\"\")","v":29},{"$f":"IFERROR(VLOOKUP($B31,'Défi-3'!$C$2:$J$200,8,FALSE),\"\")","v":39},{"$f":"IFERROR(VLOOKUP($B31,'Défi-4'!$C$2:$J$200,8,FALSE),\"\")","v":33},{"$f":"IFERROR(VLOOKUP($B31,'Défi-5'!$C$2:$J$200,8,FALSE),\"\")","v":34},{"$f":"IFERROR(VLOOKUP($B31,'Défi-6'!$C$2:$J$200,8,FALSE),\"\")","v":44},{"$f":"IFERROR(VLOOKUP($B31,'Défi-7'!$C$2:$J$200,8,FALSE),\"\")","v":34},257,null,"OK","KO","KO","KO","KO","KO","KO","KO",{"$error":"#REF!"},null,{"$f":"'Classement auteurs'!$B31","v":131499008701},{"$f":"IF('Classement auteurs'!K31=\"\",\"\",'Classement auteurs'!K31)","v":34},{"$f":"IF('Classement auteurs'!L31=\"\",\"\",'Classement auteurs'!L31)","v":257},{"$f":"IF('Classement auteurs'!M31=\"\",\"\",'Classement auteurs'!M31)","v":""},{"$f":"IF('Classement auteurs'!N31=\"\",\"\",'Classement auteurs'!N31)","v":""},{"$f":"IF('Classement auteurs'!O31=\"\",\"\",'Classement auteurs'!O31)","v":""},{"$f":"IF('Classement auteurs'!P31=\"\",\"\",'Classement auteurs'!P31)","v":""},{"$f":"IF('Classement auteurs'!Q31=\"\",\"\",'Classement auteurs'!Q31)","v":""},{"$f":"IF('Classement auteurs'!#REF!=\"\",\"\",'Classement auteurs'!#REF!)","v":{"$error":"#REF!"}}]
[null,{"$f":"'Classement auteurs'!$B32","v":130000019901},{"$f":"IFERROR(VLOOKUP($B32,'Défi-1'!$C$2:$J$200,8,FALSE),\"\")","v":32},{"$f":"IFERROR(VLOOKUP($B32,'Défi-2'!$C$2:$J$200,8,FALSE),\"\")","v":41},{"$f":"IFERROR(VLOOKUP($B32,'Défi-3'!$C$2:$J$200,8,FALSE),\"\")","v":44},{"$f":"IFERROR(VLOOKUP($B32,'Défi-4'!$C$2:$J$200,8,FALSE),\"\")","v":24},{"$f":"IFERROR(VLOOKUP($B32,'Défi-5'!$C$2:$J$200,8,FALSE),\"\")","v":37},{"$f":"IFERROR(VLOOKUP($B32,'Défi-6'!$C$2:$J$200,8,FALSE),\"\")","v":41},{"$f":"IFERROR(VLOOKUP($B32,'Défi-7'!$C$2:$J$200,8,FALSE),\"\")","v":37},256,null,"OK","KO","KO","KO","KO","KO","KO","KO",{"$error":"#REF!"},null,{"$f":"'Classement auteurs'!$B32","v":130000019901},{"$f":"IF('Classement auteurs'!K32=\"\",\"\",'Classement auteurs'!K32)","v":37},{"$f":"IF('Classement auteurs'!L32=\"\",\"\",'Classement auteurs'!L32)","v":256},{"$f":"IF('Classement auteurs'!M32=\"\",\"\",'Classement auteurs'!M32)","v":""},{"$f":"IF('Classement auteurs'!N32=\"\",\"\",'Classement auteurs'!N32)","v":""},{"$f":"IF('Classement auteurs'!O32=\"\",\"\",'Classement auteurs'!O32)","v":""},{"$f":"IF('Classement auteurs'!P32=\"\",\"\",'Classement auteurs'!P32)","v":""},{"$f":"IF('Classement auteurs'!Q32=\"\",\"\",'Classement auteurs'!Q32)","v":""},{"$f":"IF('Classement auteurs'!#REF!=\"\",\"\",'Classement auteurs'!#REF!)","v":{"$error":"#REF!"}}]
[null,{"$f":"'Classement auteurs'!$B33","v":131110001001},{"$f":"IFERROR(VLOOKUP($B33,'Défi-1'!$C$2:$J$200,8,FALSE),\"\")","v":41},{"$f":"IFERROR(VLOOKUP($B33,'Défi-2'!$C$2:$J$200,8,FALSE),\"\")","v":41},{"$f":"IFERROR(VLOOKUP($B33,'Défi-3'!$C$2:$J$200,8,FALSE),\"\")","v":40},{"$f":"IFERROR(VLOOKUP($B33,'Défi-4'!$C$2:$J$200,8,FALSE),\"\")","v":47},{"$f":"IFERROR(VLOOKUP($B33,'Défi-5'!$C$2:$J$200,8,FALSE),\"\")","v":35},{"$f":"IFERROR(VLOOKUP($B33,'Défi-6'!$C$2:$J$200,8,FALSE),\"\")","v":47},{"$f":"IFERROR(VLOOKUP($B33,'Défi-7'!$C$2:$J$200,8,FALSE),\"\")","v":""},251,null,"OK","KO","KO","KO","KO","KO","KO","OK",{"$error":"#REF!"},null,{"$f":"'Classement auteurs'!$B33","v":131110001001},{"$f":"IF('Classement auteurs'!K33=\"\",\"\",'Classement auteurs'!K33)","v":""},{"$f":"IF('Classement auteurs'!L33=\"\",\"\",'Classement auteurs'!L33)","v":251},{"$f":"IF('Classement auteurs'!M33=\"\",\"\",'Classement auteurs'!M33)","v":""},{"$f":"IF('Classement auteurs'!N33=\"\",\"\",'Classement auteurs'!N33)","v":""},{"$f":"IF('Classement auteurs'!O33=\"\",\"\",'Classement auteurs'!O33)","v":""},{"$f":"IF('Classement auteurs'!P33=\"\",\"\",'Classement auteurs'!P33)","v":""},{"$f":"IF('Classement auteurs'!Q33=\"\",\"\",'Classement auteurs'!Q33)","v":""},{"$f":"IF('Classement auteurs'!#REF!=\"\",\"\",'Classement auteurs'!#REF!)","v":{"$error":"#REF!"}}]
[null,{"$f":"'Classement auteurs'!$B34","v":130987024101},{"$f":"IFERROR(VLOOKUP($B34,'Défi-1'!$C$2:$J$200,8,FALSE),\"\")","v":40},{"$f":"IFERROR(VLOOKUP($B34,'Défi-2'!$C$2:$J$200,8,FALSE),\"\")","v":39},{"$f":"IFERROR(VLOOKUP($B34,'Défi-3'!$C$2:$J$200,8,FALSE),\"\")","v":36},{"$f":"IFERROR(VLOOKUP($B34,'Défi-4'!$C$2:$J$200,8,FALSE),\"\")","v":46},{"$f":"IFERROR(VLOOKUP($B34,'Défi-5'!$C$2:$J$200,8,FALSE),\"\")","v":44},{"$f":"IFERROR(VLOOKUP($B34,'Défi-6'!$C$2:$J$200,8,FALSE),\"\")","v":""},{"$f":"IFERROR(VLOOKUP($B34,'Défi-7'!$C$2:$J$200,8,FALSE),\"\")","v":39},244,null,"OK","KO","KO","KO","KO","KO","OK","KO",{"$error":"#REF!"},null,{"$f":"'Classement auteurs'!$B34","v":130987024101},{"$f":"IF('Classement auteurs'!K34=\"\",\"\",'Classement auteurs'!K34)","v":39},{"$f":"IF('Classement auteurs'!L34=\"\",\"\",'Classement auteurs'!L34)","v":244},{"$f":"IF('Classement auteurs'!M34=\"\",\"\",'Classement auteurs'!M34)","v":""},{"$f":"IF('Classement auteurs'!N34=\"\",\"\",'Classement auteurs'!N34)","v":""},{"$f":"IF('Classement auteurs'!O34=\"\",\"\",'Classement auteurs'!O34)","v":""},{"$f":"IF('Classement auteurs'!P34=\"\",\"\",'Classement auteurs'!P34)","v":""},{"$f":"IF('Classement auteurs'!Q34=\"\",\"\",'Classement auteurs'!Q34)","v":""},{"$f":"IF('Classement auteurs'!#REF!=\"\",\"\",'Classement auteurs'!#REF!)","v":{"$error":"#REF!"}}]
[null,{"$f":"'Classement auteurs'!$B35","v":131845001401},{"$f":"IFERROR(VLOOKUP($B35,'Défi-1'!$C$2:$J$200,8,FALSE),\"\")","v":41},{"$f":"IFERROR(VLOOKUP($B35,'Défi-2'!$C$2:$J$200,8,FALSE),\"\")","v":34},{"$f":"IFERROR(VLOOKUP($B35,'Défi-3'!$C$2:$J$200,8,FALSE),\"\")","v":48},{"$f":"IFERROR(VLOOKUP($B35,'Défi-4'!$C$2:$J$200,8,FALSE),\"\")","v":39},{"$f":"IFERROR(VLOOKUP($B35,'Défi-5'!$C$2:$J$200,8,FALSE),\"\")","v":43},{"$f":"IFERROR(VLOOKUP($B35,'Défi-6'!$C$2:$J$200,8,FALSE),\"\")","v":""},{"$f":"IFERROR(VLOOKUP($B35,'Défi-7'!$C$2:$J$200,8,FALSE),\"\")","v":37},242,null,"OK","KO","KO","KO","KO","KO","OK","KO",{"$error":"#REF!"},null,{"$f":"'Classement auteurs'!$B35","v":131845001401},{"$f":"IF('Classement auteurs'!K35=\"\",\"\",'Classement auteurs'!K35)","v":37},{"$f":"IF('Classement auteurs'!L35=\"\",\"\",'Classement auteurs'!L35)","v":242},{"$f":"IF('Classement auteurs'!M35=\"\",\"\",'Classement auteurs'!M35)","v":""},{"$f":"IF('Classement auteurs'!N35=\"\",\"\",'Classement auteurs'!N35)","v":""},{"$f":"IF('Classement auteurs'!O35=\"\",\"\",'Classement auteurs'!O35)","v":""},{"$f":"IF('Classement auteurs'!P35=\"\",\"\",'Classement auteurs'!P35)","v":""},{"$f":"IF('Classement auteurs'!Q35=\"\",\"\",'Classement auteurs'!Q35)","v":""},{"$f":"IF('Classement auteurs'!#REF!=\"\",\"\",'Classement auteurs'!#REF!)","v":{"$error":"#REF!"}}]
[null,{"$f":"'Classement auteurs'!$B36","v":131956002601},{"$f":"IFERROR(VLOOKUP($B36,'Défi-1'!$C$2:$J$200,8,FALSE),\"\")","v":""},{"$f":"IFERROR(VLOOKUP($B36,'Défi-2'!$C$2:$J$200,8,FALSE),\"\")","v":44},{"$f":"IFERROR(VLOOKUP($B36,'Défi-3'!$C$2:$J$200,8,FALSE),\"\")","v":44},{"$f":"IFERROR(VLOOKUP($B36,'Défi-4'!$C$2:$J$200,8,FALSE),\"\")","v":34},{"$f":"IFERROR(VLOOKUP($B36,'Défi-5'!$C$2:$J$200,8,FALSE),\"\")","v":30},{"$f":"IFERROR(VLOOKUP($B36,'Défi-6'!$C$2:$J$200,8,FALSE),\"\")","v":44},{"$f":"IFERROR(VLOOKUP($B36,'Défi-7'!$C$2:$J$200,8,FALSE),\"\")","v":43},239,null,"OK","KO","KO","KO","KO","KO","KO","KO",{"$error":"#REF!"},null,{"$f":"'Classement auteurs'!$B36","v":131956002601},{"$f":"IF('Classement auteurs'!K36=\"\",\"\",'Classement auteurs'!K36)","v":43},{"$f":"IF('Classement auteurs'!L36=\"\",\"\",'Classement auteurs'!L36)","v":239},{"$f":"IF('Classement auteurs'!M36=\"\",\"\",'Classement auteurs'!M36)","v":""},{"$f":"IF('Classement auteurs'!N36=\"\",\"\",'Classement auteurs'!N36)","v":""},{"$f":"IF('Classement auteurs'!O36=\"\",\"\",'Classement auteurs'!O36)","v":""},{"$f":"IF('Classement auteurs'!P36=\"\",\"\",'Classement auteurs'!P36)","v":""},{"$f":"IF('Classement auteurs'!Q36=\"\",\"\",'Classement auteurs'!Q36)","v":""},{"$f":"IF('Classement auteurs'!#REF!=\"\",\"\",'Classement auteurs'!#REF!)","v":{"$error":"#REF!"}}]
[null,{"$f":"'Classement auteurs'!$B37","v":131353000201},{"$f":"IFERROR(VLOOKUP($B37,'Défi-1'!$C$2:$J$200,8,FALSE),\"\")","v":33},{"$f":"IFERROR(VLOOKUP($B37,'Défi-2'!$C$2:$J$200,8,FALSE),\"\")","v":37},{"$f":"IFERROR(VLOOKUP($B37,'Défi-3'!$C$2:$J$200,8,FALSE),\"\")","v":25},{"$f":"IFERROR(VLOOKUP($B37,'Défi-4'!$C$2:$J$200,8,FALSE),\"\")","v":36},{"$f":"IFERROR(VLOOKUP($B37,'Défi-5'!$C$2:$J$200,8,FALSE),\"\")","v":37},{"$f":"IFERROR(VLOOKUP($B37,'Défi-6'!$C$2:$J$200,8,FALSE),\"\")","v":36},{"$f":"IFERROR(VLOOKUP($B37,'Défi-7'!$C$2:$J$200,8,FALSE),\"\")","v":34},238,null,"OK","KO","KO","KO","KO","KO","KO","KO",{"$error":"#REF!"},null,{"$f":"'Classement auteurs'!$B37","v":131353000201},{"$f":"IF('Classement auteurs'!K37=\"\",\"\",'Classement auteurs'!K37)","v":34},{"$f":"IF('Classement auteurs'!L37=\"\",\"\",'Classement auteurs'!L37)","v":238},{"$f":"IF('Classement auteurs'!M37=\"\",\"\",'Classement auteurs'!M37)","v":""},{"$f":"IF('Classement auteurs'!N37=\"\",\"\",'Classement auteurs'!N37)","v":""},{"$f":"IF('Classement auteurs'!O37=\"\",\"\",'Classement auteurs'!O37)","v":""},{"$f":"IF('Classement auteurs'!P37=\"\",\"\",'Classement auteurs'!P37)","v":""},{"$f":"IF('Classement auteurs'!Q37=\"\",\"\",'Classement auteurs'!Q37)","v":""},{"$f":"IF('Classement auteurs'!#REF!=\"\",\"\",'Classement auteurs'!#REF!)","v":{"$error":"#REF!"}}]
[null,{"$f":"'Classement auteurs'!$B38","v":131879000501},{"$f":"IFERROR(VLOOKUP($B38,'Défi-1'!$C$2:$J$200,8,FALSE),\"\")","v":38},{"$f":"IFERROR(VLOOKUP($B38,'Défi-2'!$C$2:$J$200,8,FALSE),\"\")","v":39},{"$f":"IFERROR(VLOOKUP($B38,'Défi-3'!$C$2:$J$200,8,FALSE),\"\")","v":40},{"$f":"IFERROR(VLOOKUP($B38,'Défi-4'!$C$2:$J$200,8,FALSE),\"\")","v":41},{"$f":"IFERROR(VLOOKUP($B38,'Défi-5'!$C$2:$J$200,8,FALSE),\"\")","v":39},{"$f":"IFERROR(VLOOKUP($B38,'Défi-6'!$C$2:$J$200,8,FALSE),\"\")","v":41},{"$f":"IFERROR(VLOOKUP($B38,'Défi-7'!$C$2:$J$200,8,FALSE),\"\")","v":""},238,null,"OK","KO","KO","KO","KO","KO","KO","OK",{"$error":"#REF!"},null,{"$f":"'Classement auteurs'!$B38","v":131879000501},{"$f":"IF('Classement auteurs'!K38=\"\",\"\",'Classement auteurs'!K38)","v":""},{"$f":"IF('Classement auteurs'!L38=\"\",\"\",'Classement auteurs'!L38)","v":238},{"$f":"IF('Classement auteurs'!M38=\"\",\"\",'Classement auteurs'!M38)","v":""},{"$f":"IF('Classement auteurs'!N38=\"\",\"\",'Classement auteurs'!N38)","v":""},{"$f":"IF('Classement auteurs'!O38=\"\",\"\",'Classement auteurs'!O38)","v":""},{"$f":"IF('Classement auteurs'!P38=\"\",\"\",'Classement auteurs'!P38)","v":""},{"$f":"IF('Classement auteurs'!Q38=\"\",\"\",'Classement auteurs'!Q38)","v":""},{"$f":"IF('Classement auteurs'!#REF!=\"\",\"\",'Classement auteurs'!#REF!)","v":{"$error":"#REF!"}}]
[null,{"$f":"'Classement auteurs'!$B39","v":132084001701},{"$f":"IFERROR(VLOOKUP($B39,'Défi-1'!$C$2:$J$200,8,FALSE),\"\")","v":45},{"$f":"IFERROR(VLOOKUP($B39,'Défi-2'!$C$2:$J$200,8,FALSE),\"\")","v":36},{"$f":"IFERROR(VLOOKUP($B39,'Défi-3'!$C$2:$J$200,8,FALSE),\"\")","v":40},{"$f":"IFERROR(VLOOKUP($B39,'Défi-4'!$C$2:$J$200,8,FALSE),\"\")","v":""},{"$f":"IFERROR(VLOOKUP($B39,'Défi-5'!$C$2:$J$200,8,FALSE),\"\")","v":41},{"$f":"IFERROR(VLOOKUP($B39,'Défi-6'!$C$2:$J$200,8,FALSE),\"\")","v":45},{"$f":"IFERROR(VLOOKUP($B39,'Défi-7'!$C$2:$J$200,8,FALSE),\"\")","v":31},238,null,"OK","KO","KO","KO","OK","KO","KO","KO",{"$error":"#REF!"},null,{"$f":"'Classement auteurs'!$B39","v":132084001701},{"$f":"IF('Classement auteurs'!K39=\"\",\"\",'Classement auteurs'!K39)","v":31},{"$f":"IF('Classement auteurs'!L39=\"\",\"\",'Classement auteurs'!L39)","v":238},{"$f":"IF('Classement auteurs'!M39=\"\",\"\",'Classement auteurs'!M39)","v":""},{"$f":"IF('Classement auteurs'!N39=\"\",\"\",'Classement auteurs'!N39)","v":""},{"$f":"IF('Classement auteurs'!O39=\"\",\"\",'Classement auteurs'!O39)","v":""},{"$f":"IF('Classement auteurs'!P39=\"\",\"\",'Classement auteurs'!P39)","v":""},{"$f":"IF('Classement auteurs'!Q39=\"\",\"\",'Classement auteurs'!Q39)","v":""},{"$f":"IF('Classement auteurs'!#REF!=\"\",\"\",'Classement auteurs'!#REF!)","v":{"$error":"#REF!"}}]
[null,{"$f":"'Classement auteurs'!$B40","v":132086002301},{"$f":"IFERROR(VLOOKUP($B40,'Défi-1'!$C$2:$J$200,8,FALSE),\"\")","v":36},{"$f":"IFERROR(VLOOKUP($B40,'Défi-2'!$C$2:$J$200,8,FALSE),\"\")","v":31},{"$f":"IFERROR(VLOOKUP($B40,'Défi-3'!$C$2:$J$200,8,FALSE),\"\")","v":35},{"$f":"IFERROR(VLOOKUP($B40,'Défi-4'!$C$2:$J$200,8,FALSE),\"\")","v":35},{"$f":"IFERROR(VLOOKUP($B40,'Défi-5'!$C$2:$J$200,8,FALSE),\"\")","v":32},{"$f":"IFERROR(VLOOKUP($B40,'Défi-6'!$C$2:$J$200,8,FALSE),\"\")","v":36},{"$f":"IFERROR(VLOOKUP($B40,'Défi-7'!$C$2:$J$200,8,FALSE),\"\")","v":33},238,null,"OK","KO","KO","KO","KO","KO","KO","KO",{"$error":"#REF!"},null,{"$f":"'Classement auteurs'!$B40","v":132086002301},{"$f":"IF('Classement auteurs'!K40=\"\",\"\",'Classement auteurs'!K40)","v":33},{"$f":"IF('Classement auteurs'!L40=\"\",\"\",'Classement auteurs'!L40)","v":238},{"$f":"IF('Classement auteurs'!M40=\"\",\"\",'Classement auteurs'!M40)","v":""},{"$f":"IF('Classement auteurs'!N40=\"\",\"\",'Classement auteurs'!N40)","v":""},{"$f":"IF('Classement auteurs'!O40=\"\",\"\",'Classement auteurs'!O40)","v":""},{"$f":"IF('Classement auteurs'!P40=\"\",\"\",'Classement auteurs'!P40)","v":""},{"$f":"IF('Classement auteurs'!Q40=\"\",\"\",'Classement auteurs'!Q40)","v":""},{"$f":"IF('Classement auteurs'!#REF!=\"\",\"\",'Classement auteurs'!#REF!)","v":{"$error":"#REF!"}}]
[null,{"$f":"'Classement auteurs'!$B41","v":131353004301},{"$f":"IFERROR(VLOOKUP($B41,'Défi-1'!$C$2:$J$200,8,FALSE),\"\")","v":18},{"$f":"IFERROR(VLOOKUP($B41,'Défi-2'!$C$2:$J$200,8,FALSE),\"\")","v":28},{"$f":"IFERROR(VLOOKUP($B41,'Défi-3'!$C$2:$J$200,8,FALSE),\"\")","v":35},{"$f":"IFERROR(VLOOKUP($B41,'Défi-4'!$C$2:$J$200,8,FALSE),\"\")","v":47},{"$f":"IFERROR(VLOOKUP($B41,'Défi-5'!$C$2:$J$200,8,FALSE),\"\")","v":24},{"$f":"IFERROR(VLOOKUP($B41,'Défi-6'!$C$2:$J$200,8,FALSE),\"\")","v":47},{"$f":"IFERROR(VLOOKUP($B41,'Défi-7'!$C$2:$J$200,8,FALSE),\"\")","v":38},237,null,"OK","KO","KO","KO","KO","KO","KO","KO",{"$error":"#REF!"},null,{"$f":"'Classement auteurs'!$B41","v":131353004301},{"$f":"IF('Classement auteurs'!K41=\"\",\"\",'Classement auteurs'!K41)","v":38},{"$f":"IF('Classement auteurs'!L41=\"\",\"\",'Classement auteurs'!L41)","v":237},{"$f":"IF('Classement auteurs'!M41=\"\",\"\",'Classement auteurs'!M41)","v":""},{"$f":"IF('Classement auteurs'!N41=\"\",\"\",'Classement auteurs'!N41)","v":""},{"$f":"IF('Classement auteurs'!O41=\"\",\"\",'Classement auteurs'!O41)","v":""},{"$f":"IF('Classement auteurs'!P41=\"\",\"\",'Classement auteurs'!P41)","v":""},{"$f":"IF('Classement auteurs'!Q41=\"\",\"\",'Classement auteurs'!Q41)","v":""},{"$f":"IF('Classement auteurs'!#REF!=\"\",\"\",'Classement auteurs'!#REF!)","v":{"$error":"#REF!"}}]
[null,{"$f":"'Classement auteurs'!$B42","v":131845000101},{"$f":"IFERROR(VLOOKUP($B42,'Défi-1'!$C$2:$J$200,8,FALSE),\"\")","v":42},{"$f":"IFERROR(VLOOKUP($B42,'Défi-2'!$C$2:$J$200,8,FALSE),\"\")","v":""},{"$f":"IFERROR(VLOOKUP($B42,'Défi-3'!$C$2:$J$200,8,FALSE),\"\")","v":41},{"$f":"IFERROR(VLOOKUP($B42,'Défi-4'!$C$2:$J$200,8,FALSE),\"\")","v":18},{"$f":"IFERROR(VLOOKUP($B42,'Défi-5'!$C$2:$J$200,8,FALSE),\"\")","v":41},{"$f":"IFERROR(VLOOKUP($B42,'Défi-6'!$C$2:$J$200,8,FALSE),\"\")","v":42},{"$f":"IFERROR(VLOOKUP($B42,'Défi-7'!$C$2:$J$200,8,FALSE),\"\")","v":50},234,null,"OK","KO","KO","KO","KO","KO","KO","KO",{"$error":"#REF!"},null,{"$f":"'Classement auteurs'!$B42","v":131845000101},{"$f":"IF('Classement auteurs'!K42=\"\",\"\",'Classement auteurs'!K42)","v":50},{"$f":"IF('Classement auteurs'!L42=\"\",\"\",'Classement auteurs'!L42)","v":234},{"$f":"IF('Classement auteurs'!M42=\"\",\"\",'Classement auteurs'!M42)","v":""},{"$f":"IF('Classement auteurs'!N42=\"\",\"\",'Classement auteurs'!N42)","v":""},{"$f":"IF('Classement auteurs'!O42=\"\",\"\",'Classement auteurs'!O42)","v":""},{"$f":"IF('Classement auteurs'!P42=\"\",\"\",'Classement auteurs'!P42)","v":""},{"$f":"IF('Classement auteurs'!Q42=\"\",\"\",'Classement auteurs'!Q42)","v":""},{"$f":"IF('Classement auteurs'!#REF!=\"\",\"\",'Classement auteurs'!#REF!)","v":{"$error":"#REF!"}}]
[null,{"$f":"'Classement auteurs'!$B43","v":131683008001},{"$f":"IFERROR(VLOOKUP($B43,'Défi-1'!$C$2:$J$200,8,FALSE),\"\")","v":48},{"$f":"IFERROR(VLOOKUP($B43,'Défi-2'!$C$2:$J$200,8,FALSE),\"\")","v":47},{"$f":"IFERROR(VLOOKUP($B43,'Défi-3'!$C$2:$J$200,8,FALSE),\"\")","v":47},{"$f":"IFERROR(VLOOKUP($B43,'Défi-4'!$C$2:$J$200,8,FALSE),\"\")","v":39},{"$f":"IFERROR(VLOOKUP($B43,'Défi-5'!$C$2:$J$200,8,FALSE),\"\")","v":52},{"$f":"IFERROR(VLOOKUP($B43,'Défi-6'!$C$2:$J$200,8,FALSE),\"\")","v":""},{"$f":"IFERROR(VLOOKUP($B43,'Défi-7'!$C$2:$J$200,8,FALSE),\"\")","v":""},233,null,"OK","KO","KO","KO","KO","KO","OK","OK",{"$error":"#REF!"},null,{"$f":"'Classement auteurs'!$B43","v":131683008001},{"$f":"IF('Classement auteurs'!K43=\"\",\"\",'Classement auteurs'!K43)","v":""},{"$f":"IF('Classement auteurs'!L43=\"\",\"\",'Classement auteurs'!L43)","v":233},{"$f":"IF('Classement auteurs'!M43=\"\",\"\",'Classement auteurs'!M43)","v":""},{"$f":"IF('Classement auteurs'!N43=\"\",\"\",'Classement auteurs'!N43)","v":""},{"$f":"IF('Classement auteurs'!O43=\"\",\"\",'Classement auteurs'!O43)","v":""},{"$f":"IF('Classement auteurs'!P43=\"\",\"\",'Classement auteurs'!P43)","v":""},{"$f":"IF('Classement auteurs'!Q43=\"\",\"\",'Classement auteurs'!Q43)","v":""},{"$f":"IF('Classement auteurs'!#REF!=\"\",\"\",'Classement auteurs'!#REF!)","v":{"$error":"#REF!"}}]
[null,{"$f":"'Classement auteurs'!$B44","v":132084004001},{"$f":"IFERROR(VLOOKUP($B44,'Défi-1'!$C$2:$J$200,8,FALSE),\"\")","v":""},{"$f":"IFERROR(VLOOKUP($B44,'Défi-2'!$C$2:$J$200,8,FALSE),\"\")","v":40},{"$f":"IFERROR(VLOOKUP($B44,'Défi-3'!$C$2:$J$200,8,FALSE),\"\")","v":32},{"$f":"IFERROR(VLOOKUP($B44,'Défi-4'!$C$2:$J$200,8,FALSE),\"\")","v":40},{"$f":"IFERROR(VLOOKUP($B44,'Défi-5'!$C$2:$J$200,8,FALSE),\"\")","v":42},{"$f":"IFERROR(VLOOKUP($B44,'Défi-6'!$C$2:$J$200,8,FALSE),\"\")","v":42},{"$f":"IFERROR(VLOOKUP($B44,'Défi-7'!$C$2:$J$200,8,FALSE),\"\")","v":36},232,null,"OK","KO","KO","KO","KO","KO","KO","KO",{"$error":"#REF!"},null,{"$f":"'Classement auteurs'!$B44","v":132084004001},{"$f":"IF('Classement auteurs'!K44=\"\",\"\",'Classement auteurs'!K44)","v":36},{"$f":"IF('Classement auteurs'!L44=\"\",\"\",'Classement auteurs'!L44)","v":232},{"$f":"IF('Classement auteurs'!M44=\"\",\"\",'Classement auteurs'!M44)","v":""},{"$f":"IF('Classement auteurs'!N44=\"\",\"\",'Classement auteurs'!N44)","v":""},{"$f":"IF('Classement auteurs'!O44=\"\",\"\",'Classement auteurs'!O44)","v":""},{"$f":"IF('Classement auteurs'!P44=\"\",\"\",'Classement auteurs'!P44)","v":""},{"$f":"IF('Classement auteurs'!Q44=\"\",\"\",'Classement auteurs'!Q44)","v":""},{"$f":"IF('Classement auteurs'!#REF!=\"\",\"\",'Classement auteurs'!#REF!)","v":{"$error":"#REF!"}}]
[null,{"$f":"'Classement auteurs'!$B45","v":130925009801},{"$f":"IFERROR(VLOOKUP($B45,'Défi-1'!$C$2:$J$200,8,FALSE),\"\")","v":44},{"$f":"IFERROR(VLOOKUP($B45,'Défi-2'!$C$2:$J$200,8,FALSE),\"\")","v":36},{"$f":"IFERROR(VLOOKUP($B45,'Défi-3'!$C$2:$J$200,8,FALSE),\"\")","v":41},{"$f":"IFERROR(VLOOKUP($B45,'Défi-4'!$C$2:$J$200,8,FALSE),\"\")","v":34},{"$f":"IFERROR(VLOOKUP($B45,'Défi-5'!$C$2:$J$200,8,FALSE),\"\")","v":40},{"$f":"IFERROR(VLOOKUP($B45,'Défi-6'!$C$2:$J$200,8,FALSE),\"\")","v":36},{"$f":"IFERROR(VLOOKUP($B45,'Défi-7'!$C$2:$J$200,8,FALSE),\"\")","v":""},231,null,"OK","KO","KO","KO","KO","KO","KO","OK",{"$error":"#REF!"},null,{"$f":"'Classement auteurs'!$B45","v":130925009801},{"$f":"IF('Classement auteurs'!K45=\"\",\"\",'Classement auteurs'!K45)","v":""},{"$f":"IF('Classement auteurs'!L45=\"\",\"\",'Classement auteurs'!L45)","v":231},{"$f":"IF('Classement auteurs'!M45=\"\",\"\",'Classement auteurs'!M45)","v":""},{"$f":"IF('Classement auteurs'!N45=\"\",\"\",'Classement auteurs'!N45)","v":""},{"$f":"IF('Classement auteurs'!O45=\"\",\"\",'Classement auteurs'!O45)","v":""},{"$f":"IF('Classement auteurs'!P45=\"\",\"\",'Classement auteurs'!P45)","v":""},{"$f":"IF('Classement auteurs'!Q45=\"\",\"\",'Classement auteurs'!Q45)","v":""},{"$f":"IF('Classement auteurs'!#REF!=\"\",\"\",'Classement auteurs'!#REF!)","v":{"$error":"#REF!"}}]
[null,{"$f":"'Classement auteurs'!$B46","v":131879000601},{"$f":"IFERROR(VLOOKUP($B46,'Défi-1'!$C$2:$J$200,8,FALSE),\"\")","v":47},{"$f":"IFERROR(VLOOKUP($B46,'Défi-2'!$C$2:$J$200,8,FALSE),\"\")","v":37},{"$f":"IFERROR(VLOOKUP($B46,'Défi-3'!$C$2:$J$200,8,FALSE),\"\")","v":34},{"$f":"IFERROR(VLOOKUP($B46,'Défi-4'!$C$2:$J$200,8,FALSE),\"\")","v":31},{"$f":"IFERROR(VLOOKUP($B46,'Défi-5'!$C$2:$J$200,8,FALSE),\"\")","v":""},{"$f":"IFERROR(VLOOKUP($B46,'Défi-6'!$C$2:$J$200,8,FALSE),\"\")","v":47},{"$f":"IFERROR(VLOOKUP($B46,'Défi-7'!$C$2:$J$200,8,FALSE),\"\")","v":35},231,null,"OK","KO","KO","KO","KO","OK","KO","KO",{"$error":"#REF!"},null,{"$f":"'Classement auteurs'!$B46","v":131879000601},{"$f":"IF('Classement auteurs'!K46=\"\",\"\",'Classement auteurs'!K46)","v":35},{"$f":"IF('Classement auteurs'!L46=\"\",\"\",'Classement auteurs'!L46)","v":231},{"$f":"IF('Classement auteurs'!M46=\"\",\"\",'Classement auteurs'!M46)","v":""},{"$f":"IF('Classement auteurs'!N46=\"\",\"\",'Classement auteurs'!N46)","v":""},{"$f":"IF('Classement auteurs'!O46=\"\",\"\",'Classement auteurs'!O46)","v":""},{"$f":"IF('Classement auteurs'!P46=\"\",\"\",'Classement auteurs'!P46)","v":""},{"$f":"IF('Classement auteurs'!Q46=\"\",\"\",'Classement auteurs'!Q46)","v":""},{"$f":"IF('Classement auteurs'!#REF!=\"\",\"\",'Classement auteurs'!#REF!)","v":{"$error":"#REF!"}}]
[null,{"$f":"'Classement auteurs'!$B47","v":131879001301},{"$f":"IFERROR(VLOOKUP($B47,'Défi-1'!$C$2:$J$200,8,FALSE),\"\")","v":42},{"$f":"IFERROR(VLOOKUP($B47,'Défi-2'!$C$2:$J$200,8,FALSE),\"\")","v":30},{"$f":"IFERROR(VLOOKUP($B47,'Défi-3'!$C$2:$J$200,8,FALSE),\"\")","v":46},{"$f":"IFERROR(VLOOKUP($B47,'Défi-4'!$C$2:$J$200,8,FALSE),\"\")","v":""},{"$f":"IFERROR(VLOOKUP($B47,'Défi-5'!$C$2:$J$200,8,FALSE),\"\")","v":42},{"$f":"IFERROR(VLOOKUP($B47,'Défi-6'!$C$2:$J$200,8,FALSE),\"\")","v":42},{"$f":"IFERROR(VLOOKUP($B47,'Défi-7'!$C$2:$J$200,8,FALSE),\"\")","v":29},231,null,"OK","KO","KO","KO","OK","KO","KO","KO",{"$error":"#REF!"},null,{"$f":"'Classement auteurs'!$B47","v":131879001301},{"$f":"IF('Classement auteurs'!K47=\"\",\"\",'Classement auteurs'!K47)","v":29},{"$f":"IF('Classement auteurs'!L47=\"\",\"\",'Classement auteurs'!L47)","v":231},{"$f":"IF('Classement auteurs'!M47=\"\",\"\",'Classement auteurs'!M47)","v":""},{"$f":"IF('Classement auteurs'!N47=\"\",\"\",'Classement auteurs'!N47)","v":""},{"$f":"IF('Classement auteurs'!O47=\"\",\"\",'Classement auteurs'!O47)","v":""},{"$f":"IF('Classement auteurs'!P47=\"\",\"\",'Classement auteurs'!P47)","v":""},{"$f":"IF('Classement auteurs'!Q47=\"\",\"\",'Classement auteurs'!Q47)","v":""},{"$f":"IF('Classement auteurs'!#REF!=\"\",\"\",'Classement auteurs'!#REF!)","v":{"$error":"#REF!"}}]
[null,{"$f":"'Classement auteurs'!$B48","v":131879000101},{"$f":"IFERROR(VLOOKUP($B48,'Défi-1'!$C$2:$J$200,8,FALSE),\"\")","v":41},{"$f":"IFERROR(VLOOKUP($B48,'Défi-2'!$C$2:$J$200,8,FALSE),\"\")","v":41},{"$f":"IFERROR(VLOOKUP($B48,'Défi-3'!$C$2:$J$200,8,FALSE),\"\")","v":38},{"$f":"IFERROR(VLOOKUP($B48,'Défi-4'!$C$2:$J$200,8,FALSE),\"\")","v":""},{"$f":"IFERROR(VLOOKUP($B48,'Défi-5'!$C$2:$J$200,8,FALSE),\"\")","v":28},{"$f":"IFERROR(VLOOKUP($B48,'Défi-6'!$C$2:$J$200,8,FALSE),\"\")","v":41},{"$f":"IFERROR(VLOOKUP($B48,'Défi-7'!$C$2:$J$200,8,FALSE),\"\")","v":40},229,null,"OK","KO","KO","KO","OK","KO","KO","KO",{"$error":"#REF!"},null,{"$f":"'Classement auteurs'!$B48","v":131879000101},{"$f":"IF('Classement auteurs'!K48=\"\",\"\",'Classement auteurs'!K48)","v":40},{"$f":"IF('Classement auteurs'!L48=\"\",\"\",'Classement auteurs'!L48)","v":229},{"$f":"IF('Classement auteurs'!M48=\"\",\"\",'Classement auteurs'!M48)","v":""},{"$f":"IF('Classement auteurs'!N48=\"\",\"\",'Classement auteurs'!N48)","v":""},{"$f":"IF('Classement auteurs'!O48=\"\",\"\",'Classement auteurs'!O48)","v":""},{"$f":"IF('Classement auteurs'!P48=\"\",\"\",'Classement auteurs'!P48)","v":""},{"$f":"IF('Classement auteurs'!Q48=\"\",\"\",'Classement auteurs'!Q48)","v":""},{"$f":"IF('Classement auteurs'!#REF!=\"\",\"\",'Classement auteurs'!#REF!)","v":{"$error":"#REF!"}}]
[null,{"$f":"'Classement auteurs'!$B49","v":131845004001},{"$f":"IFERROR(VLOOKUP($B49,'Défi-1'!$C$2:$J$200,8,FALSE),\"\")","v":40},{"$f":"IFERROR(VLOOKUP($B49,'Défi-2'!$C$2:$J$200,8,FALSE),\"\")","v":33},{"$f":"IFERROR(VLOOKUP($B49,'Défi-3'!$C$2:$J$200,8,FALSE),\"\")","v":42},{"$f":"IFERROR(VLOOKUP($B49,'Défi-4'!$C$2:$J$200,8,FALSE),\"\")","v":39},{"$f":"IFERROR(VLOOKUP($B49,'Défi-5'!$C$2:$J$200,8,FALSE),\"\")","v":41},{"$f":"IFERROR(VLOOKUP($B49,'Défi-6'!$C$2:$J$200,8,FALSE),\"\")","v":33},{"$f":"IFERROR(VLOOKUP($B49,'Défi-7'!$C$2:$J$200,8,FALSE),\"\")","v":""},228,null,"OK","KO","KO","KO","KO","KO","KO","OK",{"$error":"#REF!"},null,{"$f":"'Classement auteurs'!$B49","v":131845004001},{"$f":"IF('Classement auteurs'!K49=\"\",\"\",'Classement auteurs'!K49)","v":""},{"$f":"IF('Classement auteurs'!L49=\"\",\"\",'Classement auteurs'!L49)","v":228},{"$f":"IF('Classement auteurs'!M49=\"\",\"\",'Classement auteurs'!M49)","v":""},{"$f":"IF('Classement auteurs'!N49=\"\",\"\",'Classement auteurs'!N49)","v":""},{"$f":"IF('Classement auteurs'!O49=\"\",\"\",'Classement auteurs'!O49)","v":""},{"$f":"IF('Classement auteurs'!P49=\"\",\"\",'Classement auteurs'!P49)","v":""},{"$f":"IF('Classement auteurs'!Q49=\"\",\"\",'Classement auteurs'!Q49)","v":""},{"$f":"IF('Classement auteurs'!#REF!=\"\",\"\",'Classement auteurs'!#REF!)","v":{"$error":"#REF!"}}]
[null,{"$f":"'Classement auteurs'!$B50","v":130527012401},{"$f":"IFERROR(VLOOKUP($B50,'Défi-1'!$C$2:$J$200,8,FALSE),\"\")","v":41},{"$f":"IFERROR(VLOOKUP($B50,'Défi-2'!$C$2:$J$200,8,FALSE),\"\")","v":36},{"$f":"IFERROR(VLOOKUP($B50,'Défi-3'!$C$2:$J$200,8,FALSE),\"\")","v":18},{"$f":"IFERROR(VLOOKUP($B50,'Défi-4'!$C$2:$J$200,8,FALSE),\"\")","v":47},{"$f":"IFERROR(VLOOKUP($B50,'Défi-5'!$C$2:$J$200,8,FALSE),\"\")","v":""},{"$f":"IFERROR(VLOOKUP($B50,'Défi-6'!$C$2:$J$200,8,FALSE),\"\")","v":47},{"$f":"IFERROR(VLOOKUP($B50,'Défi-7'!$C$2:$J$200,8,FALSE),\"\")","v":38},227,null,"OK","KO","KO","KO","KO","OK","KO","KO",{"$error":"#REF!"},null,{"$f":"'Classement auteurs'!$B50","v":130527012401},{"$f":"IF('Classement auteurs'!K50=\"\",\"\",'Classement auteurs'!K50)","v":38},{"$f":"IF('Classement auteurs'!L50=\"\",\"\",'Classement auteurs'!L50)","v":227},{"$f":"IF('Classement auteurs'!M50=\"\",\"\",'Classement auteurs'!M50)","v":""},{"$f":"IF('Classement auteurs'!N50=\"\",\"\",'Classement auteurs'!N50)","v":""},{"$f":"IF('Classement auteurs'!O50=\"\",\"\",'Classement auteurs'!O50)","v":""},{"$f":"IF('Classement auteurs'!P50=\"\",\"\",'Classement auteurs'!P50)","v":""},{"$f":"IF('Classement auteurs'!Q50=\"\",\"\",'Classement auteurs'!Q50)","v":""},{"$f":"IF('Classement auteurs'!#REF!=\"\",\"\",'Classement auteurs'!#REF!)","v":{"$error":"#REF!"}}]
[null,{"$f":"'Classement auteurs'!$B51","v":130878013001},{"$f":"IFERROR(VLOOKUP($B51,'Défi-1'!$C$2:$J$200,8,FALSE),\"\")","v":41},{"$f":"IFERROR(VLOOKUP($B51,'Défi-2'!$C$2:$J$200,8,FALSE),\"\")","v":""},{"$f":"IFERROR(VLOOKUP($B51,'Défi-3'!$C$2:$J$200,8,FALSE),\"\")","v":39},{"$f":"IFERROR(VLOOKUP($B51,'Défi-4'!$C$2:$J$200,8,FALSE),\"\")","v":40},{"$f":"IFERROR(VLOOKUP($B51,'Défi-5'!$C$2:$J$200,8,FALSE),\"\")","v":26},{"$f":"IFERROR(VLOOKUP($B51,'Défi-6'!$C$2:$J$200,8,FALSE),\"\")","v":41},{"$f":"IFERROR(VLOOKUP($B51,'Défi-7'!$C$2:$J$200,8,FALSE),\"\")","v":39},226,null,"OK","KO","KO","KO","KO","KO","KO","KO",{"$error":"#REF!"},null,{"$f":"'Classement auteurs'!$B51","v":130878013001},{"$f":"IF('Classement auteurs'!K51=\"\",\"\",'Classement auteurs'!K51)","v":39},{"$f":"IF('Classement auteurs'!L51=\"\",\"\",'Classement auteurs'!L51)","v":226},{"$f":"IF('Classement auteurs'!M51=\"\",\"\",'Classement auteurs'!M51)","v":""},{"$f":"IF('Classement auteurs'!N51=\"\",\"\",'Classement auteurs'!N51)","v":""},{"$f":"IF('Classement auteurs'!O51=\"\",\"\",'Classement auteurs'!O51)","v":""},{"$f":"IF('Classement auteurs'!P51=\"\",\"\",'Classement auteurs'!P51)","v":""},{"$f":"IF('Classement auteurs'!Q51=\"\",\"\",'Classement auteurs'!Q51)","v":""},{"$f":"IF('Classement auteurs'!#REF!=\"\",\"\",'Classement auteurs'!#REF!)","v":{"$error":"#REF!"}}]
[null,{"$f":"'Classement auteurs'!$B52","v":132060000701},{"$f":"IFERROR(VLOOKUP($B52,'Défi-1'!$C$2:$J$200,8,FALSE),\"\")","v":38},{"$f":"IFERROR(VLOOKUP($B52,'Défi-2'!$C$2:$J$200,8,FALSE),\"\")","v":29},{"$f":"IFERROR(VLOOKUP($B52,'Défi-3'!$C$2:$J$200,8,FALSE),\"\")","v":31},{"$f":"IFERROR(VLOOKUP($B52,'Défi-4'!$C$2:$J$200,8,FALSE),\"\")","v":25},{"$f":"IFERROR(VLOOKUP($B52,'Défi-5'!$C$2:$J$200,8,FALSE),\"\")","v":36},{"$f":"IFERROR(VLOOKUP($B52,'Défi-6'!$C$2:$J$200,8,FALSE),\"\")","v":38},{"$f":"IFERROR(VLOOKUP($B52,'Défi-7'!$C$2:$J$200,8,FALSE),\"\")","v":28},225,null,"OK","KO","KO","KO","KO","KO","KO","KO",{"$error":"#REF!"},null,{"$f":"'Classement auteurs'!$B52","v":132060000701},{"$f":"IF('Classement auteurs'!K52=\"\",\"\",'Classement auteurs'!K52)","v":28},{"$f":"IF('Classement auteurs'!L52=\"\",\"\",'Classement auteurs'!L52)","v":225},{"$f":"IF('Classement auteurs'!M52=\"\",\"\",'Classement auteurs'!M52)","v":""},{"$f":"IF('Classement auteurs'!N52=\"\",\"\",'Classement auteurs'!N52)","v":""},{"$f":"IF('Classement auteurs'!O52=\"\",\"\",'Classement auteurs'!O52)","v":""},{"$f":"IF('Classement auteurs'!P52=\"\",\"\",'Classement auteurs'!P52)","v":""},{"$f":"IF('Classement auteurs'!Q52=\"\",\"\",'Classement auteurs'!Q52)","v":""},{"$f":"IF('Classement auteurs'!#REF!=\"\",\"\",'Classement auteurs'!#REF!)","v":{"$error":"#REF!"}}]
[null,{"$f":"'Classement auteurs'!$B53","v":131956002401},{"$f":"IFERROR(VLOOKUP($B53,'Défi-1'!$C$2:$J$200,8,FALSE),\"\")","v":28},{"$f":"IFERROR(VLOOKUP($B53,'Défi-2'!$C$2:$J$200,8,FALSE),\"\")","v":36},{"$f":"IFERROR(VLOOKUP($B53,'Défi-3'!$C$2:$J$200,8,FALSE),\"\")","v":40},{"$f":"IFERROR(VLOOKUP($B53,'Défi-4'!$C$2:$J$200,8,FALSE),\"\")","v":35},{"$f":"IFERROR(VLOOKUP($B53,'Défi-5'!$C$2:$J$200,8,FALSE),\"\")","v":43},{"$f":"IFERROR(VLOOKUP($B53,'Défi-6'!$C$2:$J$200,8,FALSE),\"\")","v":""},{"$f":"IFERROR(VLOOKUP($B53,'Défi-7'!$C$2:$J$200,8,FALSE),\"\")","v":42},224,null,"OK","KO","KO","KO","KO","KO","OK","KO",{"$error":"#REF!"},null,{"$f":"'Classement auteurs'!$B53","v":131956002401},{"$f":"IF('Classement auteurs'!K53=\"\",\"\",'Classement auteurs'!K53)","v":42},{"$f":"IF('Classement auteurs'!L53=\"\",\"\",'Classement auteurs'!L53)","v":224},{"$f":"IF('Classement auteurs'!M53=\"\",\"\",'Classement auteurs'!M53)","v":""},{"$f":"IF('Classement auteurs'!N53=\"\",\"\",'Classement auteurs'!N53)","v":""},{"$f":"IF('Classement auteurs'!O53=\"\",\"\",'Classement auteurs'!O53)","v":""},{"$f":"IF('Classement auteurs'!P53=\"\",\"\",'Classement auteurs'!P53)","v":""},{"$f":"IF('Classement auteurs'!Q53=\"\",\"\",'Classement auteurs'!Q53)","v":""},{"$f":"IF('Classement auteurs'!#REF!=\"\",\"\",'Classement auteurs'!#REF!)","v":{"$error":"#REF!"}}]
[null,{"$f":"'Classement auteurs'!$B54","v":131353006101},{"$f":"IFERROR(VLOOKUP($B54,'Défi-1'!$C$2:$J$200,8,FALSE),\"\")","v":""},{"$f":"IFERROR(VLOOKUP($B54,'Défi-2'!$C$2:$J$200,8,FALSE),\"\")","v":41},{"$f":"IFERROR(VLOOKUP($B54,'Défi-3'!$C$2:$J$200,8,FALSE),\"\")","v":36},{"$f":"IFERROR(VLOOKUP($B54,'Défi-4'!$C$2:$J$200,8,FALSE),\"\")","v":38},{"$f":"IFERROR(VLOOKUP($B54,'Défi-5'!$C$2:$J$200,8,FALSE),\"\")","v":36},{"$f":"IFERROR(VLOOKUP($B54,'Défi-6'!$C$2:$J$200,8,FALSE),\"\")","v":36},{"$f":"IFERROR(VLOOKUP($B54,'Défi-7'!$C$2:$J$200,8,FALSE),\"\")","v":35},222,null,"OK","KO","KO","KO","KO","KO","KO","KO",{"$error":"#REF!"},null,{"$f":"'Classement auteurs'!$B54","v":131353006101},{"$f":"IF('Classement auteurs'!K54=\"\",\"\",'Classement auteurs'!K54)","v":35},{"$f":"IF('Classement auteurs'!L54=\"\",\"\",'Classement auteurs'!L54)","v":222},{"$f":"IF('Classement auteurs'!M54=\"\",\"\",'Classement auteurs'!M54)","v":""},{"$f":"IF('Classement auteurs'!N54=\"\",\"\",'Classement auteurs'!N54)","v":""},{"$f":"IF('Classement auteurs'!O54=\"\",\"\",'Classement auteurs'!O54)","v":""},{"$f":"IF('Classement auteurs'!P54=\"\",\"\",'Classement auteurs'!P54)","v":""},{"$f":"IF('Classement auteurs'!Q54=\"\",\"\",'Classement auteurs'!Q54)","v":""},{"$f":"IF('Classement auteurs'!#REF!=\"\",\"\",'Classement auteurs'!#REF!)","v":{"$error":"#REF!"}}]
[null,{"$f":"'Classement auteurs'!$B55","v":131494000201},{"$f":"IFERROR(VLOOKUP($B55,'Défi-1'!$C$2:$J$200,8,FALSE),\"\")","v":39},{"$f":"IFERROR(VLOOKUP($B55,'Défi-2'!$C$2:$J$200,8,FALSE),\"\")","v":34},{"$f":"IFERROR(VLOOKUP($B55,'Défi-3'!$C$2:$J$200,8,FALSE),\"\")","v":42},{"$f":"IFERROR(VLOOKUP($B55,'Défi-4'!$C$2:$J$200,8,FALSE),\"\")","v":35},{"$f":"IFERROR(VLOOKUP($B55,'Défi-5'!$C$2:$J$200,8,FALSE),\"\")","v":37},{"$f":"IFERROR(VLOOKUP($B55,'Défi-6'!$C$2:$J$200,8,FALSE),\"\")","v":35},{"$f":"IFERROR(VLOOKUP($B55,'Défi-7'!$C$2:$J$200,8,FALSE),\"\")","v":""},222,null,"OK","KO","KO","KO","KO","KO","KO","OK",{"$error":"#REF!"},null,{"$f":"'Classement auteurs'!$B55","v":131494000201},{"$f":"IF('Classement auteurs'!K55=\"\",\"\",'Classement auteurs'!K55)","v":""},{"$f":"IF('Classement auteurs'!L55=\"\",\"\",'Classement auteurs'!L55)","v":222},{"$f":"IF('Classement auteurs'!M55=\"\",\"\",'Classement auteurs'!M55)","v":""},{"$f":"IF('Classement auteurs'!N55=\"\",\"\",'Classement auteurs'!N55)","v":""},{"$f":"IF('Classement auteurs'!O55=\"\",\"\",'Classement auteurs'!O55)","v":""},{"$f":"IF('Classement auteurs'!P55=\"\",\"\",'Classement auteurs'!P55)","v":""},{"$f":"IF('Classement auteurs'!Q55=\"\",\"\",'Classement auteurs'!Q55)","v":""},{"$f":"IF('Classement auteurs'!#REF!=\"\",\"\",'Classement auteurs'!#REF!)","v":{"$error":"#REF!"}}]
[null,{"$f":"'Classement auteurs'!$B56","v":130878007201},{"$f":"IFERROR(VLOOKUP($B56,'Défi-1'!$C$2:$J$200,8,FALSE),\"\")","v":36},{"$f":"IFERROR(VLOOKUP($B56,'Défi-2'!$C$2:$J$200,8,FALSE),\"\")","v":""},{"$f":"IFERROR(VLOOKUP($B56,'Défi-3'!$C$2:$J$200,8,FALSE),\"\")","v":37},{"$f":"IFERROR(VLOOKUP($B56,'Défi-4'!$C$2:$J$200,8,FALSE),\"\")","v":32},{"$f":"IFERROR(VLOOKUP($B56,'Défi-5'!$C$2:$J$200,8,FALSE),\"\")","v":35},{"$f":"IFERROR(VLOOKUP($B56,'Défi-6'!$C$2:$J$200,8,FALSE),\"\")","v":36},{"$f":"IFERROR(VLOOKUP($B56,'Défi-7'!$C$2:$J$200,8,FALSE),\"\")","v":44},220,null,"OK","KO","KO","KO","KO","KO","KO","KO",{"$error":"#REF!"},null,{"$f":"'Classement auteurs'!$B56","v":130878007201},{"$f":"IF('Classement auteurs'!K56=\"\",\"\",'Classement auteurs'!K56)","v":44},{"$f":"IF('Classement auteurs'!L56=\"\",\"\",'Classement auteurs'!L56)","v":220},{"$f":"IF('Classement auteurs'!M56=\"\",\"\",'Classement auteurs'!M56)","v":""},{"$f":"IF('Classement auteurs'!N56=\"\",\"\",'Classement auteurs'!N56)","v":""},{"$f":"IF('Classement auteurs'!O56=\"\",\"\",'Classement auteurs'!O56)","v":""},{"$f":"IF('Classement auteurs'!P56=\"\",\"\",'Classement auteurs'!P56)","v":""},{"$f":"IF('Classement auteurs'!Q56=\"\",\"\",'Classement auteurs'!Q56)","v":""},{"$f":"IF('Classement auteurs'!#REF!=\"\",\"\",'Classement auteurs'!#REF!)","v":{"$error":"#REF!"}}]
[null,{"$f":"'Classement auteurs'!$B57","v":132060001801},{"$f":"IFERROR(VLOOKUP($B57,'Défi-1'!$C$2:$J$200,8,FALSE),\"\")","v":38},{"$f":"IFERROR(VLOOKUP($B57,'Défi-2'!$C$2:$J$200,8,FALSE),\"\")","v":38},{"$f":"IFERROR(VLOOKUP($B57,'Défi-3'!$C$2:$J$200,8,FALSE),\"\")","v":40},{"$f":"IFERROR(VLOOKUP($B57,'Défi-4'!$C$2:$J$200,8,FALSE),\"\")","v":22},{"$f":"IFERROR(VLOOKUP($B57,'Défi-5'!$C$2:$J$200,8,FALSE),\"\")","v":47},{"$f":"IFERROR(VLOOKUP($B57,'Défi-6'!$C$2:$J$200,8,FALSE),\"\")","v":""},{"$f":"IFERROR(VLOOKUP($B57,'Défi-7'!$C$2:$J$200,8,FALSE),\"\")","v":35},220,null,"OK","KO","KO","KO","KO","KO","OK","KO",{"$error":"#REF!"},null,{"$f":"'Classement auteurs'!$B57","v":132060001801},{"$f":"IF('Classement auteurs'!K57=\"\",\"\",'Classement auteurs'!K57)","v":35},{"$f":"IF('Classement auteurs'!L57=\"\",\"\",'Classement auteurs'!L57)","v":220},{"$f":"IF('Classement auteurs'!M57=\"\",\"\",'Classement auteurs'!M57)","v":""},{"$f":"IF('Classement auteurs'!N57=\"\",\"\",'Classement auteurs'!N57)","v":""},{"$f":"IF('Classement auteurs'!O57=\"\",\"\",'Classement auteurs'!O57)","v":""},{"$f":"IF('Classement auteurs'!P57=\"\",\"\",'Classement auteurs'!P57)","v":""},{"$f":"IF('Classement auteurs'!Q57=\"\",\"\",'Classement auteurs'!Q57)","v":""},{"$f":"IF('Classement auteurs'!#REF!=\"\",\"\",'Classement auteurs'!#REF!)","v":{"$error":"#REF!"}}]
[null,{"$f":"'Classement auteurs'!$B58","v":130987024001},{"$f":"IFERROR(VLOOKUP($B58,'Défi-1'!$C$2:$J$200,8,FALSE),\"\")","v":46},{"$f":"IFERROR(VLOOKUP($B58,'Défi-2'!$C$2:$J$200,8,FALSE),\"\")","v":44},{"$f":"IFERROR(VLOOKUP($B58,'Défi-3'!$C$2:$J$200,8,FALSE),\"\")","v":44},{"$f":"IFERROR(VLOOKUP($B58,'Défi-4'!$C$2:$J$200,8,FALSE),\"\")","v":""},{"$f":"IFERROR(VLOOKUP($B58,'Défi-5'!$C$2:$J$200,8,FALSE),\"\")","v":""},{"$f":"IFERROR(VLOOKUP($B58,'Défi-6'!$C$2:$J$200,8,FALSE),\"\")","v":46},{"$f":"IFERROR(VLOOKUP($B58,'Défi-7'!$C$2:$J$200,8,FALSE),\"\")","v":37},217,null,"OK","KO","KO","KO","OK","OK","KO","KO",{"$error":"#REF!"},null,{"$f":"'Classement auteurs'!$B58","v":130987024001},{"$f":"IF('Classement auteurs'!K58=\"\",\"\",'Classement auteurs'!K58)","v":37},{"$f":"IF('Classement auteurs'!L58=\"\",\"\",'Classement auteurs'!L58)","v":217},{"$f":"IF('Classement auteurs'!M58=\"\",\"\",'Classement auteurs'!M58)","v":""},{"$f":"IF('Classement auteurs'!N58=\"\",\"\",'Classement auteurs'!N58)","v":""},{"$f":"IF('Classement auteurs'!O58=\"\",\"\",'Classement auteurs'!O58)","v":""},{"$f":"IF('Classement auteurs'!P58=\"\",\"\",'Classement auteurs'!P58)","v":""},{"$f":"IF('Classement auteurs'!Q58=\"\",\"\",'Classement auteurs'!Q58)","v":""},{"$f":"IF('Classement auteurs'!#REF!=\"\",\"\",'Classement auteurs'!#REF!)","v":{"$error":"#REF!"}}]
[null,{"$f":"'Classement auteurs'!$B59","v":131110001101},{"$f":"IFERROR(VLOOKUP($B59,'Défi-1'!$C$2:$J$200,8,FALSE),\"\")","v":36},{"$f":"IFERROR(VLOOKUP($B59,'Défi-2'!$C$2:$J$200,8,FALSE),\"\")","v":24},{"$f":"IFERROR(VLOOKUP($B59,'Défi-3'!$C$2:$J$200,8,FALSE),\"\")","v":38},{"$f":"IFERROR(VLOOKUP($B59,'Défi-4'!$C$2:$J$200,8,FALSE),\"\")","v":36},{"$f":"IFERROR(VLOOKUP($B59,'Défi-5'!$C$2:$J$200,8,FALSE),\"\")","v":45},{"$f":"IFERROR(VLOOKUP($B59,'Défi-6'!$C$2:$J$200,8,FALSE),\"\")","v":36},{"$f":"IFERROR(VLOOKUP($B59,'Défi-7'!$C$2:$J$200,8,FALSE),\"\")","v":""},215,null,"OK","KO","KO","KO","KO","KO","KO","OK",{"$error":"#REF!"},null,{"$f":"'Classement auteurs'!$B59","v":131110001101},{"$f":"IF('Classement auteurs'!K59=\"\",\"\",'Classement auteurs'!K59)","v":""},{"$f":"IF('Classement auteurs'!L59=\"\",\"\",'Classement auteurs'!L59)","v":215},{"$f":"IF('Classement auteurs'!M59=\"\",\"\",'Classement auteurs'!M59)","v":""},{"$f":"IF('Classement auteurs'!N59=\"\",\"\",'Classement auteurs'!N59)","v":""},{"$f":"IF('Classement auteurs'!O59=\"\",\"\",'Classement auteurs'!O59)","v":""},{"$f":"IF('Classement auteurs'!P59=\"\",\"\",'Classement auteurs'!P59)","v":""},{"$f":"IF('Classement auteurs'!Q59=\"\",\"\",'Classement auteurs'!Q59)","v":""},{"$f":"IF('Classement auteurs'!#REF!=\"\",\"\",'Classement auteurs'!#REF!)","v":{"$error":"#REF!"}}]
[null,{"$f":"'Classement auteurs'!$B60","v":131499006901},{"$f":"IFERROR(VLOOKUP($B60,'Défi-1'!$C$2:$J$200,8,FALSE),\"\")","v":42},{"$f":"IFERROR(VLOOKUP($B60,'Défi-2'!$C$2:$J$200,8,FALSE),\"\")","v":45},{"$f":"IFERROR(VLOOKUP($B60,'Défi-3'!$C$2:$J$200,8,FALSE),\"\")","v":43},{"$f":"IFERROR(VLOOKUP($B60,'Défi-4'!$C$2:$J$200,8,FALSE),\"\")","v":39},{"$f":"IFERROR(VLOOKUP($B60,'Défi-5'!$C$2:$J$200,8,FALSE),\"\")","v":46},{"$f":"IFERROR(VLOOKUP($B60,'Défi-6'!$C$2:$J$200,8,FALSE),\"\")","v":""},{"$f":"IFERROR(VLOOKUP($B60,'Défi-7'!$C$2:$J$200,8,FALSE),\"\")","v":""},215,null,"OK","KO","KO","KO","KO","KO","OK","OK",{"$error":"#REF!"},null,{"$f":"'Classement auteurs'!$B60","v":131499006901},{"$f":"IF('Classement auteurs'!K60=\"\",\"\",'Classement auteurs'!K60)","v":""},{"$f":"IF('Classement auteurs'!L60=\"\",\"\",'Classement auteurs'!L60)","v":215},{"$f":"IF('Classement auteurs'!M60=\"\",\"\",'Classement auteurs'!M60)","v":""},{"$f":"IF('Classement auteurs'!N60=\"\",\"\",'Classement auteurs'!N60)","v":""},{"$f":"IF('Classement auteurs'!O60=\"\",\"\",'Classement auteurs'!O60)","v":""},{"$f":"IF('Classement auteurs'!P60=\"\",\"\",'Classement auteurs'!P60)","v":""},{"$f":"IF('Classement auteurs'!Q60=\"\",\"\",'Classement auteurs'!Q60)","v":""},{"$f":"IF('Classement auteurs'!#REF!=\"\",\"\",'Classement auteurs'!#REF!)","v":{"$error":"#REF!"}}]
[null,{"$f":"'Classement auteurs'!$B61","v":131823008301},{"$f":"IFERROR(VLOOKUP($B61,'Défi-1'!$C$2:$J$200,8,FALSE),\"\")","v":""},{"$f":"IFERROR(VLOOKUP($B61,'Défi-2'!$C$2:$J$200,8,FALSE),\"\")","v":40},{"$f":"IFERROR(VLOOKUP($B61,'Défi-3'!$C$2:$J$200,8,FALSE),\"\")","v":48},{"$f":"IFERROR(VLOOKUP($B61,'Défi-4'!$C$2:$J$200,8,FALSE),\"\")","v":""},{"$f":"IFERROR(VLOOKUP($B61,'Défi-5'!$C$2:$J$200,8,FALSE),\"\")","v":42},{"$f":"IFERROR(VLOOKUP($B61,'Défi-6'!$C$2:$J$200,8,FALSE),\"\")","v":48},{"$f":"IFERROR(VLOOKUP($B61,'Défi-7'!$C$2:$J$200,8,FALSE),\"\")","v":36},214,null,"OK","KO","KO","KO","OK","KO","KO","KO",{"$error":"#REF!"},null,{"$f":"'Classement auteurs'!$B61","v":131823008301},{"$f":"IF('Classement auteurs'!K61=\"\",\"\",'Classement auteurs'!K61)","v":36},{"$f":"IF('Classement auteurs'!L61=\"\",\"\",'Classement auteurs'!L61)","v":214},{"$f":"IF('Classement auteurs'!M61=\"\",\"\",'Classement auteurs'!M61)","v":""},{"$f":"IF('Classement auteurs'!N61=\"\",\"\",'Classement auteurs'!N61)","v":""},{"$f":"IF('Classement auteurs'!O61=\"\",\"\",'Classement auteurs'!O61)","v":""},{"$f":"IF('Classement auteurs'!P61=\"\",\"\",'Classement auteurs'!P61)","v":""},{"$f":"IF('Classement auteurs'!Q61=\"\",\"\",'Classement auteurs'!Q61)","v":""},{"$f":"IF('Classement auteurs'!#REF!=\"\",\"\",'Classement auteurs'!#REF!)","v":{"$error":"#REF!"}}]
[null,{"$f":"'Classement auteurs'!$B62","v":131353003001},{"$f":"IFERROR(VLOOKUP($B62,'Défi-1'!$C$2:$J$200,8,FALSE),\"\")","v":45},{"$f":"IFERROR(VLOOKUP($B62,'Défi-2'!$C$2:$J$200,8,FALSE),\"\")","v":30},{"$f":"IFERROR(VLOOKUP($B62,'Défi-3'!$C$2:$J$200,8,FALSE),\"\")","v":37},{"$f":"IFERROR(VLOOKUP($B62,'Défi-4'!$C$2:$J$200,8,FALSE),\"\")","v":""},{"$f":"IFERROR(VLOOKUP($B62,'Défi-5'!$C$2:$J$200,8,FALSE),\"\")","v":35},{"$f":"IFERROR(VLOOKUP($B62,'Défi-6'!$C$2:$J$200,8,FALSE),\"\")","v":30},{"$f":"IFERROR(VLOOKUP($B62,'Défi-7'!$C$2:$J$200,8,FALSE),\"\")","v":36},213,null,"OK","KO","KO","KO","OK","KO","KO","KO",{"$error":"#REF!"},null,{"$f":"'Classement auteurs'!$B62","v":131353003001},{"$f":"IF('Classement auteurs'!K62=\"\",\"\",'Classement auteurs'!K62)","v":36},{"$f":"IF('Classement auteurs'!L62=\"\",\"\",'Classement auteurs'!L62)","v":213},{"$f":"IF('Classement auteurs'!M62=\"\",\"\",'Classement auteurs'!M62)","v":""},{"$f":"IF('Classement auteurs'!N62=\"\",\"\",'Classement auteurs'!N62)","v":""},{"$f":"IF('Classement auteurs'!O62=\"\",\"\",'Classement auteurs'!O62)","v":""},{"$f":"IF('Classement auteurs'!P62=\"\",\"\",'Classement auteurs'!P62)","v":""},{"$f":"IF('Classement auteurs'!Q62=\"\",\"\",'Classement auteurs'!Q62)","v":""},{"$f":"IF('Classement auteurs'!#REF!=\"\",\"\",'Classement auteurs'!#REF!)","v":{"$error":"#REF!"}}]
[null,{"$f":"'Classement auteurs'!$B63","v":130925007601},{"$f":"IFERROR(VLOOKUP($B63,'Défi-1'!$C$2:$J$200,8,FALSE),\"\")","v":""},{"$f":"IFERROR(VLOOKUP($B63,'Défi-2'!$C$2:$J$200,8,FALSE),\"\")","v":44},{"$f":"IFERROR(VLOOKUP($B63,'Défi-3'!$C$2:$J$200,8,FALSE),\"\")","v":43},{"$f":"IFERROR(VLOOKUP($B63,'Défi-4'!$C$2:$J$200,8,FALSE),\"\")","v":39},{"$f":"IFERROR(VLOOKUP($B63,'Défi-5'!$C$2:$J$200,8,FALSE),\"\")","v":41},{"$f":"IFERROR(VLOOKUP($B63,'Défi-6'!$C$2:$J$200,8,FALSE),\"\")","v":44},{"$f":"IFERROR(VLOOKUP($B63,'Défi-7'!$C$2:$J$200,8,FALSE),\"\")","v":""},211,null,"OK","OK","KO","KO","KO","KO","KO","OK",{"$error":"#REF!"},null,{"$f":"'Classement auteurs'!$B63","v":130925007601},{"$f":"IF('Classement auteurs'!K63=\"\",\"\",'Classement auteurs'!K63)","v":""},{"$f":"IF('Classement auteurs'!L63=\"\",\"\",'Classement auteurs'!L63)","v":211},{"$f":"IF('Classement auteurs'!M63=\"\",\"\",'Classement auteurs'!M63)","v":""},{"$f":"IF('Classement auteurs'!N63=\"\",\"\",'Classement auteurs'!N63)","v":""},{"$f":"IF('Classement auteurs'!O63=\"\",\"\",'Classement auteurs'!O63)","v":""},{"$f":"IF('Classement auteurs'!P63=\"\",\"\",'Classement auteurs'!P63)","v":""},{"$f":"IF('Classement auteurs'!Q63=\"\",\"\",'Classement auteurs'!Q63)","v":""},{"$f":"IF('Classement auteurs'!#REF!=\"\",\"\",'Classement auteurs'!#REF!)","v":{"$error":"#REF!"}}]
[null,{"$f":"'Classement auteurs'!$B64","v":131499010001},{"$f":"IFERROR(VLOOKUP($B64,'Défi-1'!$C$2:$J$200,8,FALSE),\"\")","v":42},{"$f":"IFERROR(VLOOKUP($B64,'Défi-2'!$C$2:$J$200,8,FALSE),\"\")","v":42},{"$f":"IFERROR(VLOOKUP($B64,'Défi-3'!$C$2:$J$200,8,FALSE),\"\")","v":43},{"$f":"IFERROR(VLOOKUP($B64,'Défi-4'!$C$2:$J$200,8,FALSE),\"\")","v":42},{"$f":"IFERROR(VLOOKUP($B64,'Défi-5'!$C$2:$J$200,8,FALSE),\"\")","v":42},{"$f":"IFERROR(VLOOKUP($B64,'Défi-6'!$C$2:$J$200,8,FALSE),\"\")","v":""},{"$f":"IFERROR(VLOOKUP($B64,'Défi-7'!$C$2:$J$200,8,FALSE),\"\")","v":""},211,null,"OK","KO","KO","KO","KO","KO","OK","OK",{"$error":"#REF!"},null,{"$f":"'Classement auteurs'!$B64","v":131499010001},{"$f":"IF('Classement auteurs'!K64=\"\",\"\",'Classement auteurs'!K64)","v":""},{"$f":"IF('Classement auteurs'!L64=\"\",\"\",'Classement auteurs'!L64)","v":211},{"$f":"IF('Classement auteurs'!M64=\"\",\"\",'Classement auteurs'!M64)","v":""},{"$f":"IF('Classement auteurs'!N64=\"\",\"\",'Classement auteurs'!N64)","v":""},{"$f":"IF('Classement auteurs'!O64=\"\",\"\",'Classement auteurs'!O64)","v":""},{"$f":"IF('Classement auteurs'!P64=\"\",\"\",'Classement auteurs'!P64)","v":""},{"$f":"IF('Classement auteurs'!Q64=\"\",\"\",'Classement auteurs'!Q64)","v":""},{"$f":"IF('Classement auteurs'!#REF!=\"\",\"\",'Classement auteurs'!#REF!)","v":{"$error":"#REF!"}}]
[null,{"$f":"'Classement auteurs'!$B65","v":130987023901},{"$f":"IFERROR(VLOOKUP($B65,'Défi-1'!$C$2:$J$200,8,FALSE),\"\")","v":40},{"$f":"IFERROR(VLOOKUP($B65,'Défi-2'!$C$2:$J$200,8,FALSE),\"\")","v":30},{"$f":"IFERROR(VLOOKUP($B65,'Défi-3'!$C$2:$J$200,8,FALSE),\"\")","v":40},{"$f":"IFERROR(VLOOKUP($B65,'Défi-4'!$C$2:$J$200,8,FALSE),\"\")","v":35},{"$f":"IFERROR(VLOOKUP($B65,'Défi-5'!$C$2:$J$200,8,FALSE),\"\")","v":30},{"$f":"IFERROR(VLOOKUP($B65,'Défi-6'!$C$2:$J$200,8,FALSE),\"\")","v":""},{"$f":"IFERROR(VLOOKUP($B65,'Défi-7'!$C$2:$J$200,8,FALSE),\"\")","v":34},209,null,"OK","KO","KO","KO","KO","KO","OK","KO",{"$error":"#REF!"},null,{"$f":"'Classement auteurs'!$B65","v":130987023901},{"$f":"IF('Classement auteurs'!K65=\"\",\"\",'Classement auteurs'!K65)","v":34},{"$f":"IF('Classement auteurs'!L65=\"\",\"\",'Classement auteurs'!L65)","v":209},{"$f":"IF('Classement auteurs'!M65=\"\",\"\",'Classement auteurs'!M65)","v":""},{"$f":"IF('Classement auteurs'!N65=\"\",\"\",'Classement auteurs'!N65)","v":""},{"$f":"IF('Classement auteurs'!O65=\"\",\"\",'Classement auteurs'!O65)","v":""},{"$f":"IF('Classement auteurs'!P65=\"\",\"\",'Classement auteurs'!P65)","v":""},{"$f":"IF('Classement auteurs'!Q65=\"\",\"\",'Classement auteurs'!Q65)","v":""},{"$f":"IF('Classement auteurs'!#REF!=\"\",\"\",'Classement auteurs'!#REF!)","v":{"$error":"#REF!"}}]
[null,{"$f":"'Classement auteurs'!$B66","v":131992000301},{"$f":"IFERROR(VLOOKUP($B66,'Défi-1'!$C$2:$J$200,8,FALSE),\"\")","v":40},{"$f":"IFERROR(VLOOKUP($B66,'Défi-2'!$C$2:$J$200,8,FALSE),\"\")","v":33},{"$f":"IFERROR(VLOOKUP($B66,'Défi-3'!$C$2:$J$200,8,FALSE),\"\")","v":32},{"$f":"IFERROR(VLOOKUP($B66,'Défi-4'!$C$2:$J$200,8,FALSE),\"\")","v":""},{"$f":"IFERROR(VLOOKUP($B66,'Défi-5'!$C$2:$J$200,8,FALSE),\"\")","v":31},{"$f":"IFERROR(VLOOKUP($B66,'Défi-6'!$C$2:$J$200,8,FALSE),\"\")","v":40},{"$f":"IFERROR(VLOOKUP($B66,'Défi-7'!$C$2:$J$200,8,FALSE),\"\")","v":33},209,null,"OK","KO","KO","KO","OK","KO","KO","KO",{"$error":"#REF!"},null,{"$f":"'Classement auteurs'!$B66","v":131992000301},{"$f":"IF('Classement auteurs'!K66=\"\",\"\",'Classement auteurs'!K66)","v":33},{"$f":"IF('Classement auteurs'!L66=\"\",\"\",'Classement auteurs'!L66)","v":209},{"$f":"IF('Classement auteurs'!M66=\"\",\"\",'Classement auteurs'!M66)","v":""},{"$f":"IF('Classement auteurs'!N66=\"\",\"\",'Classement auteurs'!N66)","v":""},{"$f":"IF('Classement auteurs'!O66=\"\",\"\",'Classement auteurs'!O66)","v":""},{"$f":"IF('Classement auteurs'!P66=\"\",\"\",'Classement auteurs'!P66)","v":""},{"$f":"IF('Classement auteurs'!Q66=\"\",\"\",'Classement auteurs'!Q66)","v":""},{"$f":"IF('Classement auteurs'!#REF!=\"\",\"\",'Classement auteurs'!#REF!)","v":{"$error":"#REF!"}}]
[null,{"$f":"'Classement auteurs'!$B67","v":131499009801},{"$f":"IFERROR(VLOOKUP($B67,'Défi-1'!$C$2:$J$200,8,FALSE),\"\")","v":42},{"$f":"IFERROR(VLOOKUP($B67,'Défi-2'!$C$2:$J$200,8,FALSE),\"\")","v":""},{"$f":"IFERROR(VLOOKUP($B67,'Défi-3'!$C$2:$J$200,8,FALSE),\"\")","v":35},{"$f":"IFERROR(VLOOKUP($B67,'Défi-4'!$C$2:$J$200,8,FALSE),\"\")","v":54},{"$f":"IFERROR(VLOOKUP($B67,'Défi-5'!$C$2:$J$200,8,FALSE),\"\")","v":42},{"$f":"IFERROR(VLOOKUP($B67,'Défi-6'!$C$2:$J$200,8,FALSE),\"\")","v":35},{"$f":"IFERROR(VLOOKUP($B67,'Défi-7'!$C$2:$J$200,8,FALSE),\"\")","v":""},{"$f":"SUM(C67:I67)","v":208},null,{"$f":"IF(B67=V67,\"OK\",\"KO\")","v":"OK"},{"$f":"IF(C67=W67,\"OK\",\"KO\")","v":"KO"},{"$f":"IF(D67=X67,\"OK\",\"KO\")","v":"KO"},{"$f":"IF(E67=Y67,\"OK\",\"KO\")","v":"KO"},{"$f":"IF(F67=Z67,\"OK\",\"KO\")","v":"KO"},{"$f":"IF(G67=AA67,\"OK\",\"KO\")","v":"KO"},{"$f":"IF(H67=AB67,\"OK\",\"KO\")","v":"KO"},{"$f":"IF(I67=AC67,\"OK\",\"KO\")","v":"OK"},{"$f":"IF(J67=AD67,\"OK\",\"KO\")","v":{"$error":"#REF!"}},null,{"$f":"'Classement auteurs'!$B67","v":131499009801},{"$f":"IF('Classement auteurs'!K67=\"\",\"\",'Classement auteurs'!K67)","v":""},{"$f":"IF('Classement auteurs'!L67=\"\",\"\",'Classement auteurs'!L67)","v":208},{"$f":"IF('Classement auteurs'!M67=\"\",\"\",'Classement auteurs'!M67)","v":""},{"$f":"IF('Classement auteurs'!N67=\"\",\"\",'Classement auteurs'!N67)","v":""},{"$f":"IF('Classement auteurs'!O67=\"\",\"\",'Classement auteurs'!O67)","v":""},{"$f":"IF('Classement auteurs'!P67=\"\",\"\",'Classement auteurs'!P67)","v":""},{"$f":"IF('Classement auteurs'!Q67=\"\",\"\",'Classement auteurs'!Q67)","v":""},{"$f":"IF('Classement auteurs'!#REF!=\"\",\"\",'Classement auteurs'!#REF!)","v":{"$error":"#REF!"}}]
[null,{"$f":"'Classement auteurs'!$B68","v":130527002501},{"$f":"IFERROR(VLOOKUP($B68,'Défi-1'!$C$2:$J$200,8,FALSE),\"\")","v":41},{"$f":"IFERROR(VLOOKUP($B68,'Défi-2'!$C$2:$J$200,8,FALSE),\"\")","v":37},{"$f":"IFERROR(VLOOKUP($B68,'Défi-3'!$C$2:$J$200,8,FALSE),\"\")","v":38},{"$f":"IFERROR(VLOOKUP($B68,'Défi-4'!$C$2:$J$200,8,FALSE),\"\")","v":30},{"$f":"IFERROR(VLOOKUP($B68,'Défi-5'!$C$2:$J$200,8,FALSE),\"\")","v":32},{"$f":"IFERROR(VLOOKUP($B68,'Défi-6'!$C$2:$J$200,8,FALSE),\"\")","v":""},{"$f":"IFERROR(VLOOKUP($B68,'Défi-7'!$C$2:$J$200,8,FALSE),\"\")","v":29},207,null,"OK","KO","KO","KO","KO","KO","OK","KO",{"$error":"#REF!"},null,{"$f":"'Classement auteurs'!$B68","v":130527002501},{"$f":"IF('Classement auteurs'!K68=\"\",\"\",'Classement auteurs'!K68)","v":29},{"$f":"IF('Classement auteurs'!L68=\"\",\"\",'Classement auteurs'!L68)","v":207},{"$f":"IF('Classement auteurs'!M68=\"\",\"\",'Classement auteurs'!M68)","v":""},{"$f":"IF('Classement auteurs'!N68=\"\",\"\",'Classement auteurs'!N68)","v":""},{"$f":"IF('Classement auteurs'!O68=\"\",\"\",'Classement auteurs'!O68)","v":""},{"$f":"IF('Classement auteurs'!P68=\"\",\"\",'Classement auteurs'!P68)","v":""},{"$f":"IF('Classement auteurs'!Q68=\"\",\"\",'Classement auteurs'!Q68)","v":""},{"$f":"IF('Classement auteurs'!#REF!=\"\",\"\",'Classement auteurs'!#REF!)","v":{"$error":"#REF!"}}]
[null,{"$f":"'Classement auteurs'!$B69","v":130527017001},{"$f":"IFERROR(VLOOKUP($B69,'Défi-1'!$C$2:$J$200,8,FALSE),\"\")","v":55},{"$f":"IFERROR(VLOOKUP($B69,'Défi-2'!$C$2:$J$200,8,FALSE),\"\")","v":40},{"$f":"IFERROR(VLOOKUP($B69,'Défi-3'!$C$2:$J$200,8,FALSE),\"\")","v":31},{"$f":"IFERROR(VLOOKUP($B69,'Défi-4'!$C$2:$J$200,8,FALSE),\"\")","v":29},{"$f":"IFERROR(VLOOKUP($B69,'Défi-5'!$C$2:$J$200,8,FALSE),\"\")","v":51},{"$f":"IFERROR(VLOOKUP($B69,'Défi-6'!$C$2:$J$200,8,FALSE),\"\")","v":""},{"$f":"IFERROR(VLOOKUP($B69,'Défi-7'!$C$2:$J$200,8,FALSE),\"\")","v":""},206,null,"OK","KO","KO","KO","KO","KO","OK","OK",{"$error":"#REF!"},null,{"$f":"'Classement auteurs'!$B69","v":130527017001},{"$f":"IF('Classement auteurs'!K69=\"\",\"\",'Classement auteurs'!K69)","v":""},{"$f":"IF('Classement auteurs'!L69=\"\",\"\",'Classement auteurs'!L69)","v":206},{"$f":"IF('Classement auteurs'!M69=\"\",\"\",'Classement auteurs'!M69)","v":""},{"$f":"IF('Classement auteurs'!N69=\"\",\"\",'Classement auteurs'!N69)","v":""},{"$f":"IF('Classement auteurs'!O69=\"\",\"\",'Classement auteurs'!O69)","v":""},{"$f":"IF('Classement auteurs'!P69=\"\",\"\",'Classement auteurs'!P69)","v":""},{"$f":"IF('Classement auteurs'!Q69=\"\",\"\",'Classement auteurs'!Q69)","v":""},{"$f":"IF('Classement auteurs'!#REF!=\"\",\"\",'Classement auteurs'!#REF!)","v":{"$error":"#REF!"}}]
[null,{"$f":"'Classement auteurs'!$B70","v":130925010201},{"$f":"IFERROR(VLOOKUP($B70,'Défi-1'!$C$2:$J$200,8,FALSE),\"\")","v":46},{"$f":"IFERROR(VLOOKUP($B70,'Défi-2'!$C$2:$J$200,8,FALSE),\"\")","v":30},{"$f":"IFERROR(VLOOKUP($B70,'Défi-3'!$C$2:$J$200,8,FALSE),\"\")","v":31},{"$f":"IFERROR(VLOOKUP($B70,'Défi-4'!$C$2:$J$200,8,FALSE),\"\")","v":33},{"$f":"IFERROR(VLOOKUP($B70,'Défi-5'!$C$2:$J$200,8,FALSE),\"\")","v":""},{"$f":"IFERROR(VLOOKUP($B70,'Défi-6'!$C$2:$J$200,8,FALSE),\"\")","v":31},{"$f":"IFERROR(VLOOKUP($B70,'Défi-7'!$C$2:$J$200,8,FALSE),\"\")","v":35},206,null,"OK","KO","KO","KO","KO","OK","KO","KO",{"$error":"#REF!"},null,{"$f":"'Classement auteurs'!$B70","v":130925010201},{"$f":"IF('Classement auteurs'!K70=\"\",\"\",'Classement auteurs'!K70)","v":35},{"$f":"IF('Classement auteurs'!L70=\"\",\"\",'Classement auteurs'!L70)","v":206},{"$f":"IF('Classement auteurs'!M70=\"\",\"\",'Classement auteurs'!M70)","v":""},{"$f":"IF('Classement auteurs'!N70=\"\",\"\",'Classement auteurs'!N70)","v":""},{"$f":"IF('Classement auteurs'!O70=\"\",\"\",'Classement auteurs'!O70)","v":""},{"$f":"IF('Classement auteurs'!P70=\"\",\"\",'Classement auteurs'!P70)","v":""},{"$f":"IF('Classement auteurs'!Q70=\"\",\"\",'Classement auteurs'!Q70)","v":""},{"$f":"IF('Classement auteurs'!#REF!=\"\",\"\",'Classement auteurs'!#REF!)","v":{"$error":"#REF!"}}]
[null,{"$f":"'Classement auteurs'!$B71","v":131879002001},{"$f":"IFERROR(VLOOKUP($B71,'Défi-1'!$C$2:$J$200,8,FALSE),\"\")","v":""},{"$f":"IFERROR(VLOOKUP($B71,'Défi-2'!$C$2:$J$200,8,FALSE),\"\")","v":47},{"$f":"IFERROR(VLOOKUP($B71,'Défi-3'!$C$2:$J$200,8,FALSE),\"\")","v":42},{"$f":"IFERROR(VLOOKUP($B71,'Défi-4'!$C$2:$J$200,8,FALSE),\"\")","v":41},{"$f":"IFERROR(VLOOKUP($B71,'Défi-5'!$C$2:$J$200,8,FALSE),\"\")","v":38},{"$f":"IFERROR(VLOOKUP($B71,'Défi-6'!$C$2:$J$200,8,FALSE),\"\")","v":38},{"$f":"IFERROR(VLOOKUP($B71,'Défi-7'!$C$2:$J$200,8,FALSE),\"\")","v":""},206,null,"OK","OK","KO","KO","KO","KO","KO","OK",{"$error":"#REF!"},null,{"$f":"'Classement auteurs'!$B71","v":131879002001},{"$f":"IF('Classement auteurs'!K71=\"\",\"\",'Classement auteurs'!K71)","v":""},{"$f":"IF('Classement auteurs'!L71=\"\",\"\",'Classement auteurs'!L71)","v":206},{"$f":"IF('Classement auteurs'!M71=\"\",\"\",'Classement auteurs'!M71)","v":""},{"$f":"IF('Classement auteurs'!N71=\"\",\"\",'Classement auteurs'!N71)","v":""},{"$f":"IF('Classement auteurs'!O71=\"\",\"\",'Classement auteurs'!O71)","v":""},{"$f":"IF('Classement auteurs'!P71=\"\",\"\",'Classement auteurs'!P71)","v":""},{"$f":"IF('Classement auteurs'!Q71=\"\",\"\",'Classement auteurs'!Q71)","v":""},{"$f":"IF('Classement auteurs'!#REF!=\"\",\"\",'Classement auteurs'!#REF!)","v":{"$error":"#REF!"}}]
[null,{"$f":"'Classement auteurs'!$B72","v":130987007401},{"$f":"IFERROR(VLOOKUP($B72,'Défi-1'!$C$2:$J$200,8,FALSE),\"\")","v":31},{"$f":"IFERROR(VLOOKUP($B72,'Défi-2'!$C$2:$J$200,8,FALSE),\"\")","v":32},{"$f":"IFERROR(VLOOKUP($B72,'Défi-3'!$C$2:$J$200,8,FALSE),\"\")","v":28},{"$f":"IFERROR(VLOOKUP($B72,'Défi-4'!$C$2:$J$200,8,FALSE),\"\")","v":38},{"$f":"IFERROR(VLOOKUP($B72,'Défi-5'!$C$2:$J$200,8,FALSE),\"\")","v":37},{"$f":"IFERROR(VLOOKUP($B72,'Défi-6'!$C$2:$J$200,8,FALSE),\"\")","v":37},{"$f":"IFERROR(VLOOKUP($B72,'Défi-7'!$C$2:$J$200,8,FALSE),\"\")","v":""},203,null,"OK","KO","KO","KO","KO","KO","KO","OK",{"$error":"#REF!"},null,{"$f":"'Classement auteurs'!$B72","v":130987007401},{"$f":"IF('Classement auteurs'!K72=\"\",\"\",'Classement auteurs'!K72)","v":""},{"$f":"IF('Classement auteurs'!L72=\"\",\"\",'Classement auteurs'!L72)","v":203},{"$f":"IF('Classement auteurs'!M72=\"\",\"\",'Classement auteurs'!M72)","v":""},{"$f":"IF('Classement auteurs'!N72=\"\",\"\",'Classement auteurs'!N72)","v":""},{"$f":"IF('Classement auteurs'!O72=\"\",\"\",'Classement auteurs'!O72)","v":""},{"$f":"IF('Classement auteurs'!P72=\"\",\"\",'Classement auteurs'!P72)","v":""},{"$f":"IF('Classement auteurs'!Q72=\"\",\"\",'Classement auteurs'!Q72)","v":""},{"$f":"IF('Classement auteurs'!#REF!=\"\",\"\",'Classement auteurs'!#REF!)","v":{"$error":"#REF!"}}]
[null,{"$f":"'Classement auteurs'!$B73","v":131376012601},{"$f":"IFERROR(VLOOKUP($B73,'Défi-1'!$C$2:$J$200,8,FALSE),\"\")","v":31},{"$f":"IFERROR(VLOOKUP($B73,'Défi-2'!$C$2:$J$200,8,FALSE),\"\")","v":29},{"$f":"IFERROR(VLOOKUP($B73,'Défi-3'!$C$2:$J$200,8,FALSE),\"\")","v":40},{"$f":"IFERROR(VLOOKUP($B73,'Défi-4'!$C$2:$J$200,8,FALSE),\"\")","v":""},{"$f":"IFERROR(VLOOKUP($B73,'Défi-5'!$C$2:$J$200,8,FALSE),\"\")","v":34},{"$f":"IFERROR(VLOOKUP($B73,'Défi-6'!$C$2:$J$200,8,FALSE),\"\")","v":34},{"$f":"IFERROR(VLOOKUP($B73,'Défi-7'!$C$2:$J$200,8,FALSE),\"\")","v":33},201,null,"OK","KO","KO","KO","OK","KO","KO","KO",{"$error":"#REF!"},null,{"$f":"'Classement auteurs'!$B73","v":131376012601},{"$f":"IF('Classement auteurs'!K73=\"\",\"\",'Classement auteurs'!K73)","v":33},{"$f":"IF('Classement auteurs'!L73=\"\",\"\",'Classement auteurs'!L73)","v":201},{"$f":"IF('Classement auteurs'!M73=\"\",\"\",'Classement auteurs'!M73)","v":""},{"$f":"IF('Classement auteurs'!N73=\"\",\"\",'Classement auteurs'!N73)","v":""},{"$f":"IF('Classement auteurs'!O73=\"\",\"\",'Classement auteurs'!O73)","v":""},{"$f":"IF('Classement auteurs'!P73=\"\",\"\",'Classement auteurs'!P73)","v":""},{"$f":"IF('Classement auteurs'!Q73=\"\",\"\",'Classement auteurs'!Q73)","v":""},{"$f":"IF('Classement auteurs'!#REF!=\"\",\"\",'Classement auteurs'!#REF!)","v":{"$error":"#REF!"}}]
[null,{"$f":"'Classement auteurs'!$B74","v":131499010501},{"$f":"IFERROR(VLOOKUP($B74,'Défi-1'!$C$2:$J$200,8,FALSE),\"\")","v":35},{"$f":"IFERROR(VLOOKUP($B74,'Défi-2'!$C$2:$J$200,8,FALSE),\"\")","v":41},{"$f":"IFERROR(VLOOKUP($B74,'Défi-3'!$C$2:$J$200,8,FALSE),\"\")","v":47},{"$f":"IFERROR(VLOOKUP($B74,'Défi-4'!$C$2:$J$200,8,FALSE),\"\")","v":41},{"$f":"IFERROR(VLOOKUP($B74,'Défi-5'!$C$2:$J$200,8,FALSE),\"\")","v":36},{"$f":"IFERROR(VLOOKUP($B74,'Défi-6'!$C$2:$J$200,8,FALSE),\"\")","v":""},{"$f":"IFERROR(VLOOKUP($B74,'Défi-7'!$C$2:$J$200,8,FALSE),\"\")","v":""},200,null,"OK","KO","KO","KO","KO","KO","OK","OK",{"$error":"#REF!"},null,{"$f":"'Classement auteurs'!$B74","v":131499010501},{"$f":"IF('Classement auteurs'!K74=\"\",\"\",'Classement auteurs'!K74)","v":""},{"$f":"IF('Classement auteurs'!L74=\"\",\"\",'Classement auteurs'!L74)","v":200},{"$f":"IF('Classement auteurs'!M74=\"\",\"\",'Classement auteurs'!M74)","v":""},{"$f":"IF('Classement auteurs'!N74=\"\",\"\",'Classement auteurs'!N74)","v":""},{"$f":"IF('Classement auteurs'!O74=\"\",\"\",'Classement auteurs'!O74)","v":""},{"$f":"IF('Classement auteurs'!P74=\"\",\"\",'Classement auteurs'!P74)","v":""},{"$f":"IF('Classement auteurs'!Q74=\"\",\"\",'Classement auteurs'!Q74)","v":""},{"$f":"IF('Classement auteurs'!#REF!=\"\",\"\",'Classement auteurs'!#REF!)","v":{"$error":"#REF!"}}]
[null,{"$f":"'Classement auteurs'!$B75","v":130878014301},{"$f":"IFERROR(VLOOKUP($B75,'Défi-1'!$C$2:$J$200,8,FALSE),\"\")","v":38},{"$f":"IFERROR(VLOOKUP($B75,'Défi-2'!$C$2:$J$200,8,FALSE),\"\")","v":23},{"$f":"IFERROR(VLOOKUP($B75,'Défi-3'!$C$2:$J$200,8,FALSE),\"\")","v":52},{"$f":"IFERROR(VLOOKUP($B75,'Défi-4'!$C$2:$J$200,8,FALSE),\"\")","v":18},{"$f":"IFERROR(VLOOKUP($B75,'Défi-5'!$C$2:$J$200,8,FALSE),\"\")","v":29},{"$f":"IFERROR(VLOOKUP($B75,'Défi-6'!$C$2:$J$200,8,FALSE),\"\")","v":38},{"$f":"IFERROR(VLOOKUP($B75,'Défi-7'!$C$2:$J$200,8,FALSE),\"\")","v":""},198,null,"OK","KO","KO","KO","KO","KO","KO","OK",{"$error":"#REF!"},null,{"$f":"'Classement auteurs'!$B75","v":130878014301},{"$f":"IF('Classement auteurs'!K75=\"\",\"\",'Classement auteurs'!K75)","v":""},{"$f":"IF('Classement auteurs'!L75=\"\",\"\",'Classement auteurs'!L75)","v":198},{"$f":"IF('Classement auteurs'!M75=\"\",\"\",'Classement auteurs'!M75)","v":""},{"$f":"IF('Classement auteurs'!N75=\"\",\"\",'Classement auteurs'!N75)","v":""},{"$f":"IF('Classement auteurs'!O75=\"\",\"\",'Classement auteurs'!O75)","v":""},{"$f":"IF('Classement auteurs'!P75=\"\",\"\",'Classement auteurs'!P75)","v":""},{"$f":"IF('Classement auteurs'!Q75=\"\",\"\",'Classement auteurs'!Q75)","v":""},{"$f":"IF('Classement auteurs'!#REF!=\"\",\"\",'Classement auteurs'!#REF!)","v":{"$error":"#REF!"}}]
[null,{"$f":"'Classement auteurs'!$B76","v":131499003901},{"$f":"IFERROR(VLOOKUP($B76,'Défi-1'!$C$2:$J$200,8,FALSE),\"\")","v":42},{"$f":"IFERROR(VLOOKUP($B76,'Défi-2'!$C$2:$J$200,8,FALSE),\"\")","v":""},{"$f":"IFERROR(VLOOKUP($B76,'Défi-3'!$C$2:$J$200,8,FALSE),\"\")","v":40},{"$f":"IFERROR(VLOOKUP($B76,'Défi-4'!$C$2:$J$200,8,FALSE),\"\")","v":45},{"$f":"IFERROR(VLOOKUP($B76,'Défi-5'!$C$2:$J$200,8,FALSE),\"\")","v":39},{"$f":"IFERROR(VLOOKUP($B76,'Défi-6'!$C$2:$J$200,8,FALSE),\"\")","v":""},{"$f":"IFERROR(VLOOKUP($B76,'Défi-7'!$C$2:$J$200,8,FALSE),\"\")","v":32},198,null,"OK","KO","KO","KO","KO","KO","OK","KO",{"$error":"#REF!"},null,{"$f":"'Classement auteurs'!$B76","v":131499003901},{"$f":"IF('Classement auteurs'!K76=\"\",\"\",'Classement auteurs'!K76)","v":32},{"$f":"IF('Classement auteurs'!L76=\"\",\"\",'Classement auteurs'!L76)","v":198},{"$f":"IF('Classement auteurs'!M76=\"\",\"\",'Classement auteurs'!M76)","v":""},{"$f":"IF('Classement auteurs'!N76=\"\",\"\",'Classement auteurs'!N76)","v":""},{"$f":"IF('Classement auteurs'!O76=\"\",\"\",'Classement auteurs'!O76)","v":""},{"$f":"IF('Classement auteurs'!P76=\"\",\"\",'Classement auteurs'!P76)","v":""},{"$f":"IF('Classement auteurs'!Q76=\"\",\"\",'Classement auteurs'!Q76)","v":""},{"$f":"IF('Classement auteurs'!#REF!=\"\",\"\",'Classement auteurs'!#REF!)","v":{"$error":"#REF!"}}]
[null,{"$f":"'Classement auteurs'!$B77","v":131683006601},{"$f":"IFERROR(VLOOKUP($B77,'Défi-1'!$C$2:$J$200,8,FALSE),\"\")","v":40},{"$f":"IFERROR(VLOOKUP($B77,'Défi-2'!$C$2:$J$200,8,FALSE),\"\")","v":26},{"$f":"IFERROR(VLOOKUP($B77,'Défi-3'!$C$2:$J$200,8,FALSE),\"\")","v":42},{"$f":"IFERROR(VLOOKUP($B77,'Défi-4'!$C$2:$J$200,8,FALSE),\"\")","v":""},{"$f":"IFERROR(VLOOKUP($B77,'Défi-5'!$C$2:$J$200,8,FALSE),\"\")","v":49},{"$f":"IFERROR(VLOOKUP($B77,'Défi-6'!$C$2:$J$200,8,FALSE),\"\")","v":""},{"$f":"IFERROR(VLOOKUP($B77,'Défi-7'!$C$2:$J$200,8,FALSE),\"\")","v":41},198,null,"OK","KO","KO","KO","OK","KO","OK","KO",{"$error":"#REF!"},null,{"$f":"'Classement auteurs'!$B77","v":131683006601},{"$f":"IF('Classement auteurs'!K77=\"\",\"\",'Classement auteurs'!K77)","v":41},{"$f":"IF('Classement auteurs'!L77=\"\",\"\",'Classement auteurs'!L77)","v":198},{"$f":"IF('Classement auteurs'!M77=\"\",\"\",'Classement auteurs'!M77)","v":""},{"$f":"IF('Classement auteurs'!N77=\"\",\"\",'Classement auteurs'!N77)","v":""},{"$f":"IF('Classement auteurs'!O77=\"\",\"\",'Classement auteurs'!O77)","v":""},{"$f":"IF('Classement auteurs'!P77=\"\",\"\",'Classement auteurs'!P77)","v":""},{"$f":"IF('Classement auteurs'!Q77=\"\",\"\",'Classement auteurs'!Q77)","v":""},{"$f":"IF('Classement auteurs'!#REF!=\"\",\"\",'Classement auteurs'!#REF!)","v":{"$error":"#REF!"}}]
[null,{"$f":"'Classement auteurs'!$B78","v":132060001201},{"$f":"IFERROR(VLOOKUP($B78,'Défi-1'!$C$2:$J$200,8,FALSE),\"\")","v":46},{"$f":"IFERROR(VLOOKUP($B78,'Défi-2'!$C$2:$J$200,8,FALSE),\"\")","v":""},{"$f":"IFERROR(VLOOKUP($B78,'Défi-3'!$C$2:$J$200,8,FALSE),\"\")","v":39},{"$f":"IFERROR(VLOOKUP($B78,'Défi-4'!$C$2:$J$200,8,FALSE),\"\")","v":40},{"$f":"IFERROR(VLOOKUP($B78,'Défi-5'!$C$2:$J$200,8,FALSE),\"\")","v":39},{"$f":"IFERROR(VLOOKUP($B78,'Défi-6'!$C$2:$J$200,8,FALSE),\"\")","v":""},{"$f":"IFERROR(VLOOKUP($B78,'Défi-7'!$C$2:$J$200,8,FALSE),\"\")","v":33},197,null,"OK","KO","KO","KO","KO","KO","OK","KO",{"$error":"#REF!"},null,{"$f":"'Classement auteurs'!$B78","v":132060001201},{"$f":"IF('Classement auteurs'!K78=\"\",\"\",'Classement auteurs'!K78)","v":33},{"$f":"IF('Classement auteurs'!L78=\"\",\"\",'Classement auteurs'!L78)","v":197},{"$f":"IF('Classement auteurs'!M78=\"\",\"\",'Classement auteurs'!M78)","v":""},{"$f":"IF('Classement auteurs'!N78=\"\",\"\",'Classement auteurs'!N78)","v":""},{"$f":"IF('Classement auteurs'!O78=\"\",\"\",'Classement auteurs'!O78)","v":""},{"$f":"IF('Classement auteurs'!P78=\"\",\"\",'Classement auteurs'!P78)","v":""},{"$f":"IF('Classement auteurs'!Q78=\"\",\"\",'Classement auteurs'!Q78)","v":""},{"$f":"IF('Classement auteurs'!#REF!=\"\",\"\",'Classement auteurs'!#REF!)","v":{"$error":"#REF!"}}]
[null,{"$f":"'Classement auteurs'!$B79","v":130987028401},{"$f":"IFERROR(VLOOKUP($B79,'Défi-1'!$C$2:$J$200,8,FALSE),\"\")","v":32},{"$f":"IFERROR(VLOOKUP($B79,'Défi-2'!$C$2:$J$200,8,FALSE),\"\")","v":38},{"$f":"IFERROR(VLOOKUP($B79,'Défi-3'!$C$2:$J$200,8,FALSE),\"\")","v":27},{"$f":"IFERROR(VLOOKUP($B79,'Défi-4'!$C$2:$J$200,8,FALSE),\"\")","v":27},{"$f":"IFERROR(VLOOKUP($B79,'Défi-5'!$C$2:$J$200,8,FALSE),\"\")","v":36},{"$f":"IFERROR(VLOOKUP($B79,'Défi-6'!$C$2:$J$200,8,FALSE),\"\")","v":36},{"$f":"IFERROR(VLOOKUP($B79,'Défi-7'!$C$2:$J$200,8,FALSE),\"\")","v":""},196,null,"OK","KO","KO","KO","KO","KO","KO","OK",{"$error":"#REF!"},null,{"$f":"'Classement auteurs'!$B79","v":130987028401},{"$f":"IF('Classement auteurs'!K79=\"\",\"\",'Classement auteurs'!K79)","v":""},{"$f":"IF('Classement auteurs'!L79=\"\",\"\",'Classement auteurs'!L79)","v":196},{"$f":"IF('Classement auteurs'!M79=\"\",\"\",'Classement auteurs'!M79)","v":""},{"$f":"IF('Classement auteurs'!N79=\"\",\"\",'Classement auteurs'!N79)","v":""},{"$f":"IF('Classement auteurs'!O79=\"\",\"\",'Classement auteurs'!O79)","v":""},{"$f":"IF('Classement auteurs'!P79=\"\",\"\",'Classement auteurs'!P79)","v":""},{"$f":"IF('Classement auteurs'!Q79=\"\",\"\",'Classement auteurs'!Q79)","v":""},{"$f":"IF('Classement auteurs'!#REF!=\"\",\"\",'Classement auteurs'!#REF!)","v":{"$error":"#REF!"}}]
[null,{"$f":"'Classement auteurs'!$B80","v":131499008201},{"$f":"IFERROR(VLOOKUP($B80,'Défi-1'!$C$2:$J$200,8,FALSE),\"\")","v":45},{"$f":"IFERROR(VLOOKUP($B80,'Défi-2'!$C$2:$J$200,8,FALSE),\"\")","v":41},{"$f":"IFERROR(VLOOKUP($B80,'Défi-3'!$C$2:$J$200,8,FALSE),\"\")","v":""},{"$f":"IFERROR(VLOOKUP($B80,'Défi-4'!$C$2:$J$200,8,FALSE),\"\")","v":41},{"$f":"IFERROR(VLOOKUP($B80,'Défi-5'!$C$2:$J$200,8,FALSE),\"\")","v":49},{"$f":"IFERROR(VLOOKUP($B80,'Défi-6'!$C$2:$J$200,8,FALSE),\"\")","v":""},{"$f":"IFERROR(VLOOKUP($B80,'Défi-7'!$C$2:$J$200,8,FALSE),\"\")","v":20},196,null,"OK","KO","KO","OK","KO","KO","OK","KO",{"$error":"#REF!"},null,{"$f":"'Classement auteurs'!$B80","v":131499008201},{"$f":"IF('Classement auteurs'!K80=\"\",\"\",'Classement auteurs'!K80)","v":20},{"$f":"IF('Classement auteurs'!L80=\"\",\"\",'Classement auteurs'!L80)","v":196},{"$f":"IF('Classement auteurs'!M80=\"\",\"\",'Classement auteurs'!M80)","v":""},{"$f":"IF('Classement auteurs'!N80=\"\",\"\",'Classement auteurs'!N80)","v":""},{"$f":"IF('Classement auteurs'!O80=\"\",\"\",'Classement auteurs'!O80)","v":""},{"$f":"IF('Classement auteurs'!P80=\"\",\"\",'Classement auteurs'!P80)","v":""},{"$f":"IF('Classement auteurs'!Q80=\"\",\"\",'Classement auteurs'!Q80)","v":""},{"$f":"IF('Classement auteurs'!#REF!=\"\",\"\",'Classement auteurs'!#REF!)","v":{"$error":"#REF!"}}]
[null,{"$f":"'Classement auteurs'!$B81","v":131499010601},{"$f":"IFERROR(VLOOKUP($B81,'Défi-1'!$C$2:$J$200,8,FALSE),\"\")","v":46},{"$f":"IFERROR(VLOOKUP($B81,'Défi-2'!$C$2:$J$200,8,FALSE),\"\")","v":40},{"$f":"IFERROR(VLOOKUP($B81,'Défi-3'!$C$2:$J$200,8,FALSE),\"\")","v":37},{"$f":"IFERROR(VLOOKUP($B81,'Défi-4'!$C$2:$J$200,8,FALSE),\"\")","v":32},{"$f":"IFERROR(VLOOKUP($B81,'Défi-5'!$C$2:$J$200,8,FALSE),\"\")","v":39},{"$f":"IFERROR(VLOOKUP($B81,'Défi-6'!$C$2:$J$200,8,FALSE),\"\")","v":""},{"$f":"IFERROR(VLOOKUP($B81,'Défi-7'!$C$2:$J$200,8,FALSE),\"\")","v":""},194,null,"OK","KO","KO","KO","KO","KO","OK","OK",{"$error":"#REF!"},null,{"$f":"'Classement auteurs'!$B81","v":131499010601},{"$f":"IF('Classement auteurs'!K81=\"\",\"\",'Classement auteurs'!K81)","v":""},{"$f":"IF('Classement auteurs'!L81=\"\",\"\",'Classement auteurs'!L81)","v":194},{"$f":"IF('Classement auteurs'!M81=\"\",\"\",'Classement auteurs'!M81)","v":""},{"$f":"IF('Classement auteurs'!N81=\"\",\"\",'Classement auteurs'!N81)","v":""},{"$f":"IF('Classement auteurs'!O81=\"\",\"\",'Classement auteurs'!O81)","v":""},{"$f":"IF('Classement auteurs'!P81=\"\",\"\",'Classement auteurs'!P81)","v":""},{"$f":"IF('Classement auteurs'!Q81=\"\",\"\",'Classement auteurs'!Q81)","v":""},{"$f":"IF('Classement auteurs'!#REF!=\"\",\"\",'Classement auteurs'!#REF!)","v":{"$error":"#REF!"}}]
[null,{"$f":"'Classement auteurs'!$B82","v":131956005701},{"$f":"IFERROR(VLOOKUP($B82,'Défi-1'!$C$2:$J$200,8,FALSE),\"\")","v":36},{"$f":"IFERROR(VLOOKUP($B82,'Défi-2'!$C$2:$J$200,8,FALSE),\"\")","v":31},{"$f":"IFERROR(VLOOKUP($B82,'Défi-3'!$C$2:$J$200,8,FALSE),\"\")","v":34},{"$f":"IFERROR(VLOOKUP($B82,'Défi-4'!$C$2:$J$200,8,FALSE),\"\")","v":28},{"$f":"IFERROR(VLOOKUP($B82,'Défi-5'!$C$2:$J$200,8,FALSE),\"\")","v":38},{"$f":"IFERROR(VLOOKUP($B82,'Défi-6'!$C$2:$J$200,8,FALSE),\"\")","v":""},{"$f":"IFERROR(VLOOKUP($B82,'Défi-7'!$C$2:$J$200,8,FALSE),\"\")","v":27},194,null,"OK","KO","KO","KO","KO","KO","OK","KO",{"$error":"#REF!"},null,{"$f":"'Classement auteurs'!$B82","v":131956005701},{"$f":"IF('Classement auteurs'!K82=\"\",\"\",'Classement auteurs'!K82)","v":27},{"$f":"IF('Classement auteurs'!L82=\"\",\"\",'Classement auteurs'!L82)","v":194},{"$f":"IF('Classement auteurs'!M82=\"\",\"\",'Classement auteurs'!M82)","v":""},{"$f":"IF('Classement auteurs'!N82=\"\",\"\",'Classement auteurs'!N82)","v":""},{"$f":"IF('Classement auteurs'!O82=\"\",\"\",'Classement auteurs'!O82)","v":""},{"$f":"IF('Classement auteurs'!P82=\"\",\"\",'Classement auteurs'!P82)","v":""},{"$f":"IF('Classement auteurs'!Q82=\"\",\"\",'Classement auteurs'!Q82)","v":""},{"$f":"IF('Classement auteurs'!#REF!=\"\",\"\",'Classement auteurs'!#REF!)","v":{"$error":"#REF!"}}]
[null,{"$f":"'Classement auteurs'!$B83","v":131227008601},{"$f":"IFERROR(VLOOKUP($B83,'Défi-1'!$C$2:$J$200,8,FALSE),\"\")","v":""},{"$f":"IFERROR(VLOOKUP($B83,'Défi-2'!$C$2:$J$200,8,FALSE),\"\")","v":""},{"$f":"IFERROR(VLOOKUP($B83,'Défi-3'!$C$2:$J$200,8,FALSE),\"\")","v":53},{"$f":"IFERROR(VLOOKUP($B83,'Défi-4'!$C$2:$J$200,8,FALSE),\"\")","v":44},{"$f":"IFERROR(VLOOKUP($B83,'Défi-5'!$C$2:$J$200,8,FALSE),\"\")","v":42},{"$f":"IFERROR(VLOOKUP($B83,'Défi-6'!$C$2:$J$200,8,FALSE),\"\")","v":53},{"$f":"IFERROR(VLOOKUP($B83,'Défi-7'!$C$2:$J$200,8,FALSE),\"\")","v":""},192,null,"OK","OK","KO","KO","KO","KO","KO","OK",{"$error":"#REF!"},null,{"$f":"'Classement auteurs'!$B83","v":131227008601},{"$f":"IF('Classement auteurs'!K83=\"\",\"\",'Classement auteurs'!K83)","v":""},{"$f":"IF('Classement auteurs'!L83=\"\",\"\",'Classement auteurs'!L83)","v":192},{"$f":"IF('Classement auteurs'!M83=\"\",\"\",'Classement auteurs'!M83)","v":""},{"$f":"IF('Classement auteurs'!N83=\"\",\"\",'Classement auteurs'!N83)","v":""},{"$f":"IF('Classement auteurs'!O83=\"\",\"\",'Classement auteurs'!O83)","v":""},{"$f":"IF('Classement auteurs'!P83=\"\",\"\",'Classement auteurs'!P83)","v":""},{"$f":"IF('Classement auteurs'!Q83=\"\",\"\",'Classement auteurs'!Q83)","v":""},{"$f":"IF('Classement auteurs'!#REF!=\"\",\"\",'Classement auteurs'!#REF!)","v":{"$error":"#REF!"}}]
[null,{"$f":"'Classement auteurs'!$B84","v":131992000401},{"$f":"IFERROR(VLOOKUP($B84,'Défi-1'!$C$2:$J$200,8,FALSE),\"\")","v":""},{"$f":"IFERROR(VLOOKUP($B84,'Défi-2'!$C$2:$J$200,8,FALSE),\"\")","v":39},{"$f":"IFERROR(VLOOKUP($B84,'Défi-3'!$C$2:$J$200,8,FALSE),\"\")","v":32},{"$f":"IFERROR(VLOOKUP($B84,'Défi-4'!$C$2:$J$200,8,FALSE),\"\")","v":20},{"$f":"IFERROR(VLOOKUP($B84,'Défi-5'!$C$2:$J$200,8,FALSE),\"\")","v":45},{"$f":"IFERROR(VLOOKUP($B84,'Défi-6'!$C$2:$J$200,8,FALSE),\"\")","v":32},{"$f":"IFERROR(VLOOKUP($B84,'Défi-7'!$C$2:$J$200,8,FALSE),\"\")","v":24},192,null,"OK","KO","KO","KO","KO","KO","KO","KO",{"$error":"#REF!"},null,{"$f":"'Classement auteurs'!$B84","v":131992000401},{"$f":"IF('Classement auteurs'!K84=\"\",\"\",'Classement auteurs'!K84)","v":24},{"$f":"IF('Classement auteurs'!L84=\"\",\"\",'Classement auteurs'!L84)","v":192},{"$f":"IF('Classement auteurs'!M84=\"\",\"\",'Classement auteurs'!M84)","v":""},{"$f":"IF('Classement auteurs'!N84=\"\",\"\",'Classement auteurs'!N84)","v":""},{"$f":"IF('Classement auteurs'!O84=\"\",\"\",'Classement auteurs'!O84)","v":""},{"$f":"IF('Classement auteurs'!P84=\"\",\"\",'Classement auteurs'!P84)","v":""},{"$f":"IF('Classement auteurs'!Q84=\"\",\"\",'Classement auteurs'!Q84)","v":""},{"$f":"IF('Classement auteurs'!#REF!=\"\",\"\",'Classement auteurs'!#REF!)","v":{"$error":"#REF!"}}]
[null,{"$f":"'Classement auteurs'!$B85","v":132086001401},{"$f":"IFERROR(VLOOKUP($B85,'Défi-1'!$C$2:$J$200,8,FALSE),\"\")","v":33},{"$f":"IFERROR(VLOOKUP($B85,'Défi-2'!$C$2:$J$200,8,FALSE),\"\")","v":41},{"$f":"IFERROR(VLOOKUP($B85,'Défi-3'!$C$2:$J$200,8,FALSE),\"\")","v":37},{"$f":"IFERROR(VLOOKUP($B85,'Défi-4'!$C$2:$J$200,8,FALSE),\"\")","v":46},{"$f":"IFERROR(VLOOKUP($B85,'Défi-5'!$C$2:$J$200,8,FALSE),\"\")","v":34},{"$f":"IFERROR(VLOOKUP($B85,'Défi-6'!$C$2:$J$200,8,FALSE),\"\")","v":""},{"$f":"IFERROR(VLOOKUP($B85,'Défi-7'!$C$2:$J$200,8,FALSE),\"\")","v":""},191,null,"OK","KO","KO","KO","KO","KO","OK","OK",{"$error":"#REF!"},null,{"$f":"'Classement auteurs'!$B85","v":132086001401},{"$f":"IF('Classement auteurs'!K85=\"\",\"\",'Classement auteurs'!K85)","v":""},{"$f":"IF('Classement auteurs'!L85=\"\",\"\",'Classement auteurs'!L85)","v":191},{"$f":"IF('Classement auteurs'!M85=\"\",\"\",'Classement auteurs'!M85)","v":""},{"$f":"IF('Classement auteurs'!N85=\"\",\"\",'Classement auteurs'!N85)","v":""},{"$f":"IF('Classement auteurs'!O85=\"\",\"\",'Classement auteurs'!O85)","v":""},{"$f":"IF('Classement auteurs'!P85=\"\",\"\",'Classement auteurs'!P85)","v":""},{"$f":"IF('Classement auteurs'!Q85=\"\",\"\",'Classement auteurs'!Q85)","v":""},{"$f":"IF('Classement auteurs'!#REF!=\"\",\"\",'Classement auteurs'!#REF!)","v":{"$error":"#REF!"}}]
[null,{"$f":"'Classement auteurs'!$B86","v":130878013401},{"$f":"IFERROR(VLOOKUP($B86,'Défi-1'!$C$2:$J$200,8,FALSE),\"\")","v":""},{"$f":"IFERROR(VLOOKUP($B86,'Défi-2'!$C$2:$J$200,8,FALSE),\"\")","v":30},{"$f":"IFERROR(VLOOKUP($B86,'Défi-3'!$C$2:$J$200,8,FALSE),\"\")","v":36},{"$f":"IFERROR(VLOOKUP($B86,'Défi-4'!$C$2:$J$200,8,FALSE),\"\")","v":35},{"$f":"IFERROR(VLOOKUP($B86,'Défi-5'!$C$2:$J$200,8,FALSE),\"\")","v":30},{"$f":"IFERROR(VLOOKUP($B86,'Défi-6'!$C$2:$J$200,8,FALSE),\"\")","v":30},{"$f":"IFERROR(VLOOKUP($B86,'Défi-7'!$C$2:$J$200,8,FALSE),\"\")","v":28},189,null,"OK","KO","KO","KO","KO","KO","KO","KO",{"$error":"#REF!"},null,{"$f":"'Classement auteurs'!$B86","v":130878013401},{"$f":"IF('Classement auteurs'!K86=\"\",\"\",'Classement auteurs'!K86)","v":28},{"$f":"IF('Classement auteurs'!L86=\"\",\"\",'Classement auteurs'!L86)","v":189},{"$f":"IF('Classement auteurs'!M86=\"\",\"\",'Classement auteurs'!M86)","v":""},{"$f":"IF('Classement auteurs'!N86=\"\",\"\",'Classement auteurs'!N86)","v":""},{"$f":"IF('Classement auteurs'!O86=\"\",\"\",'Classement auteurs'!O86)","v":""},{"$f":"IF('Classement auteurs'!P86=\"\",\"\",'Classement auteurs'!P86)","v":""},{"$f":"IF('Classement auteurs'!Q86=\"\",\"\",'Classement auteurs'!Q86)","v":""},{"$f":"IF('Classement auteurs'!#REF!=\"\",\"\",'Classement auteurs'!#REF!)","v":{"$error":"#REF!"}}]
[null,{"$f":"'Classement auteurs'!$B87","v":131499003601},{"$f":"IFERROR(VLOOKUP($B87,'Défi-1'!$C$2:$J$200,8,FALSE),\"\")","v":34},{"$f":"IFERROR(VLOOKUP($B87,'Défi-2'!$C$2:$J$200,8,FALSE),\"\")","v":33},{"$f":"IFERROR(VLOOKUP($B87,'Défi-3'!$C$2:$J$200,8,FALSE),\"\")","v":35},{"$f":"IFERROR(VLOOKUP($B87,'Défi-4'!$C$2:$J$200,8,FALSE),\"\")","v":""},{"$f":"IFERROR(VLOOKUP($B87,'Défi-5'!$C$2:$J$200,8,FALSE),\"\")","v":50},{"$f":"IFERROR(VLOOKUP($B87,'Défi-6'!$C$2:$J$200,8,FALSE),\"\")","v":""},{"$f":"IFERROR(VLOOKUP($B87,'Défi-7'!$C$2:$J$200,8,FALSE),\"\")","v":36},188,null,"OK","KO","KO","KO","OK","KO","OK","KO",{"$error":"#REF!"},null,{"$f":"'Classement auteurs'!$B87","v":131499003601},{"$f":"IF('Classement auteurs'!K87=\"\",\"\",'Classement auteurs'!K87)","v":36},{"$f":"IF('Classement auteurs'!L87=\"\",\"\",'Classement auteurs'!L87)","v":188},{"$f":"IF('Classement auteurs'!M87=\"\",\"\",'Classement auteurs'!M87)","v":""},{"$f":"IF('Classement auteurs'!N87=\"\",\"\",'Classement auteurs'!N87)","v":""},{"$f":"IF('Classement auteurs'!O87=\"\",\"\",'Classement auteurs'!O87)","v":""},{"$f":"IF('Classement auteurs'!P87=\"\",\"\",'Classement auteurs'!P87)","v":""},{"$f":"IF('Classement auteurs'!Q87=\"\",\"\",'Classement auteurs'!Q87)","v":""},{"$f":"IF('Classement auteurs'!#REF!=\"\",\"\",'Classement auteurs'!#REF!)","v":{"$error":"#REF!"}}]
[null,{"$f":"'Classement auteurs'!$B88","v":132084002301},{"$f":"IFERROR(VLOOKUP($B88,'Défi-1'!$C$2:$J$200,8,FALSE),\"\")","v":""},{"$f":"IFERROR(VLOOKUP($B88,'Défi-2'!$C$2:$J$200,8,FALSE),\"\")","v":37},{"$f":"IFERROR(VLOOKUP($B88,'Défi-3'!$C$2:$J$200,8,FALSE),\"\")","v":54},{"$f":"IFERROR(VLOOKUP($B88,'Défi-4'!$C$2:$J$200,8,FALSE),\"\")","v":43},{"$f":"IFERROR(VLOOKUP($B88,'Défi-5'!$C$2:$J$200,8,FALSE),\"\")","v":""},{"$f":"IFERROR(VLOOKUP($B88,'Défi-6'!$C$2:$J$200,8,FALSE),\"\")","v":54},{"$f":"IFERROR(VLOOKUP($B88,'Défi-7'!$C$2:$J$200,8,FALSE),\"\")","v":""},188,null,"OK","OK","KO","KO","KO","OK","KO","OK",{"$error":"#REF!"},null,{"$f":"'Classement auteurs'!$B88","v":132084002301},{"$f":"IF('Classement auteurs'!K88=\"\",\"\",'Classement auteurs'!K88)","v":""},{"$f":"IF('Classement auteurs'!L88=\"\",\"\",'Classement auteurs'!L88)","v":188},{"$f":"IF('Classement auteurs'!M88=\"\",\"\",'Classement auteurs'!M88)","v":""},{"$f":"IF('Classement auteurs'!N88=\"\",\"\",'Classement auteurs'!N88)","v":""},{"$f":"IF('Classement auteurs'!O88=\"\",\"\",'Classement auteurs'!O88)","v":""},{"$f":"IF('Classement auteurs'!P88=\"\",\"\",'Classement auteurs'!P88)","v":""},{"$f":"IF('Classement auteurs'!Q88=\"\",\"\",'Classement auteurs'!Q88)","v":""},{"$f":"IF('Classement auteurs'!#REF!=\"\",\"\",'Classement auteurs'!#REF!)","v":{"$error":"#REF!"}}]
[null,{"$f":"'Classement auteurs'!$B89","v":130527015501},{"$f":"IFERROR(VLOOKUP($B89,'Défi-1'!$C$2:$J$200,8,FALSE),\"\")","v":46},{"$f":"IFERROR(VLOOKUP($B89,'Défi-2'!$C$2:$J$200,8,FALSE),\"\")","v":""},{"$f":"IFERROR(VLOOKUP($B89,'Défi-3'!$C$2:$J$200,8,FALSE),\"\")","v":45},{"$f":"IFERROR(VLOOKUP($B89,'Défi-4'!$C$2:$J$200,8,FALSE),\"\")","v":31},{"$f":"IFERROR(VLOOKUP($B89,'Défi-5'!$C$2:$J$200,8,FALSE),\"\")","v":32},{"$f":"IFERROR(VLOOKUP($B89,'Défi-6'!$C$2:$J$200,8,FALSE),\"\")","v":""},{"$f":"IFERROR(VLOOKUP($B89,'Défi-7'!$C$2:$J$200,8,FALSE),\"\")","v":32},186,null,"OK","KO","KO","KO","KO","KO","OK","KO",{"$error":"#REF!"},null,{"$f":"'Classement auteurs'!$B89","v":130527015501},{"$f":"IF('Classement auteurs'!K89=\"\",\"\",'Classement auteurs'!K89)","v":32},{"$f":"IF('Classement auteurs'!L89=\"\",\"\",'Classement auteurs'!L89)","v":186},{"$f":"IF('Classement auteurs'!M89=\"\",\"\",'Classement auteurs'!M89)","v":""},{"$f":"IF('Classement auteurs'!N89=\"\",\"\",'Classement auteurs'!N89)","v":""},{"$f":"IF('Classement auteurs'!O89=\"\",\"\",'Classement auteurs'!O89)","v":""},{"$f":"IF('Classement auteurs'!P89=\"\",\"\",'Classement auteurs'!P89)","v":""},{"$f":"IF('Classement auteurs'!Q89=\"\",\"\",'Classement auteurs'!Q89)","v":""},{"$f":"IF('Classement auteurs'!#REF!=\"\",\"\",'Classement auteurs'!#REF!)","v":{"$error":"#REF!"}}]
[null,{"$f":"'Classement auteurs'!$B90","v":131956001401},{"$f":"IFERROR(VLOOKUP($B90,'Défi-1'!$C$2:$J$200,8,FALSE),\"\")","v":""},{"$f":"IFERROR(VLOOKUP($B90,'Défi-2'!$C$2:$J$200,8,FALSE),\"\")","v":32},{"$f":"IFERROR(VLOOKUP($B90,'Défi-3'!$C$2:$J$200,8,FALSE),\"\")","v":38},{"$f":"IFERROR(VLOOKUP($B90,'Défi-4'!$C$2:$J$200,8,FALSE),\"\")","v":18},{"$f":"IFERROR(VLOOKUP($B90,'Défi-5'!$C$2:$J$200,8,FALSE),\"\")","v":35},{"$f":"IFERROR(VLOOKUP($B90,'Défi-6'!$C$2:$J$200,8,FALSE),\"\")","v":32},{"$f":"IFERROR(VLOOKUP($B90,'Défi-7'!$C$2:$J$200,8,FALSE),\"\")","v":31},186,null,"OK","KO","KO","KO","KO","KO","KO","KO",{"$error":"#REF!"},null,{"$f":"'Classement auteurs'!$B90","v":131956001401},{"$f":"IF('Classement auteurs'!K90=\"\",\"\",'Classement auteurs'!K90)","v":31},{"$f":"IF('Classement auteurs'!L90=\"\",\"\",'Classement auteurs'!L90)","v":186},{"$f":"IF('Classement auteurs'!M90=\"\",\"\",'Classement auteurs'!M90)","v":""},{"$f":"IF('Classement auteurs'!N90=\"\",\"\",'Classement auteurs'!N90)","v":""},{"$f":"IF('Classement auteurs'!O90=\"\",\"\",'Classement auteurs'!O90)","v":""},{"$f":"IF('Classement auteurs'!P90=\"\",\"\",'Classement auteurs'!P90)","v":""},{"$f":"IF('Classement auteurs'!Q90=\"\",\"\",'Classement auteurs'!Q90)","v":""},{"$f":"IF('Classement auteurs'!#REF!=\"\",\"\",'Classement auteurs'!#REF!)","v":{"$error":"#REF!"}}]
[null,{"$f":"'Classement auteurs'!$B91","v":132193000401},{"$f":"IFERROR(VLOOKUP($B91,'Défi-1'!$C$2:$J$200,8,FALSE),\"\")","v":41},{"$f":"IFERROR(VLOOKUP($B91,'Défi-2'!$C$2:$J$200,8,FALSE),\"\")","v":37},{"$f":"IFERROR(VLOOKUP($B91,'Défi-3'!$C$2:$J$200,8,FALSE),\"\")","v":""},{"$f":"IFERROR(VLOOKUP($B91,'Défi-4'!$C$2:$J$200,8,FALSE),\"\")","v":""},{"$f":"IFERROR(VLOOKUP($B91,'Défi-5'!$C$2:$J$200,8,FALSE),\"\")","v":33},{"$f":"IFERROR(VLOOKUP($B91,'Défi-6'!$C$2:$J$200,8,FALSE),\"\")","v":37},{"$f":"IFERROR(VLOOKUP($B91,'Défi-7'!$C$2:$J$200,8,FALSE),\"\")","v":37},185,null,"OK","KO","KO","OK","OK","KO","KO","KO",{"$error":"#REF!"},null,{"$f":"'Classement auteurs'!$B91","v":132193000401},{"$f":"IF('Classement auteurs'!K91=\"\",\"\",'Classement auteurs'!K91)","v":37},{"$f":"IF('Classement auteurs'!L91=\"\",\"\",'Classement auteurs'!L91)","v":185},{"$f":"IF('Classement auteurs'!M91=\"\",\"\",'Classement auteurs'!M91)","v":""},{"$f":"IF('Classement auteurs'!N91=\"\",\"\",'Classement auteurs'!N91)","v":""},{"$f":"IF('Classement auteurs'!O91=\"\",\"\",'Classement auteurs'!O91)","v":""},{"$f":"IF('Classement auteurs'!P91=\"\",\"\",'Classement auteurs'!P91)","v":""},{"$f":"IF('Classement auteurs'!Q91=\"\",\"\",'Classement auteurs'!Q91)","v":""},{"$f":"IF('Classement auteurs'!#REF!=\"\",\"\",'Classement auteurs'!#REF!)","v":{"$error":"#REF!"}}]
[null,{"$f":"'Classement auteurs'!$B92","v":131376017701},{"$f":"IFERROR(VLOOKUP($B92,'Défi-1'!$C$2:$J$200,8,FALSE),\"\")","v":51},{"$f":"IFERROR(VLOOKUP($B92,'Défi-2'!$C$2:$J$200,8,FALSE),\"\")","v":""},{"$f":"IFERROR(VLOOKUP($B92,'Défi-3'!$C$2:$J$200,8,FALSE),\"\")","v":48},{"$f":"IFERROR(VLOOKUP($B92,'Défi-4'!$C$2:$J$200,8,FALSE),\"\")","v":18},{"$f":"IFERROR(VLOOKUP($B92,'Défi-5'!$C$2:$J$200,8,FALSE),\"\")","v":""},{"$f":"IFERROR(VLOOKUP($B92,'Défi-6'!$C$2:$J$200,8,FALSE),\"\")","v":18},{"$f":"IFERROR(VLOOKUP($B92,'Défi-7'!$C$2:$J$200,8,FALSE),\"\")","v":47},182,null,"OK","KO","KO","KO","KO","OK","KO","KO",{"$error":"#REF!"},null,{"$f":"'Classement auteurs'!$B92","v":131376017701},{"$f":"IF('Classement auteurs'!K92=\"\",\"\",'Classement auteurs'!K92)","v":47},{"$f":"IF('Classement auteurs'!L92=\"\",\"\",'Classement auteurs'!L92)","v":182},{"$f":"IF('Classement auteurs'!M92=\"\",\"\",'Classement auteurs'!M92)","v":""},{"$f":"IF('Classement auteurs'!N92=\"\",\"\",'Classement auteurs'!N92)","v":""},{"$f":"IF('Classement auteurs'!O92=\"\",\"\",'Classement auteurs'!O92)","v":""},{"$f":"IF('Classement auteurs'!P92=\"\",\"\",'Classement auteurs'!P92)","v":""},{"$f":"IF('Classement auteurs'!Q92=\"\",\"\",'Classement auteurs'!Q92)","v":""},{"$f":"IF('Classement auteurs'!#REF!=\"\",\"\",'Classement auteurs'!#REF!)","v":{"$error":"#REF!"}}]
[null,{"$f":"'Classement auteurs'!$B93","v":130925008401},{"$f":"IFERROR(VLOOKUP($B93,'Défi-1'!$C$2:$J$200,8,FALSE),\"\")","v":51},{"$f":"IFERROR(VLOOKUP($B93,'Défi-2'!$C$2:$J$200,8,FALSE),\"\")","v":39},{"$f":"IFERROR(VLOOKUP($B93,'Défi-3'!$C$2:$J$200,8,FALSE),\"\")","v":40},{"$f":"IFERROR(VLOOKUP($B93,'Défi-4'!$C$2:$J$200,8,FALSE),\"\")","v":""},{"$f":"IFERROR(VLOOKUP($B93,'Défi-5'!$C$2:$J$200,8,FALSE),\"\")","v":51},{"$f":"IFERROR(VLOOKUP($B93,'Défi-6'!$C$2:$J$200,8,FALSE),\"\")","v":""},{"$f":"IFERROR(VLOOKUP($B93,'Défi-7'!$C$2:$J$200,8,FALSE),\"\")","v":""},181,null,"OK","KO","KO","KO","OK","KO","OK","OK",{"$error":"#REF!"},null,{"$f":"'Classement auteurs'!$B93","v":130925008401},{"$f":"IF('Classement auteurs'!K93=\"\",\"\",'Classement auteurs'!K93)","v":""},{"$f":"IF('Classement auteurs'!L93=\"\",\"\",'Classement auteurs'!L93)","v":181},{"$f":"IF('Classement auteurs'!M93=\"\",\"\",'Classement auteurs'!M93)","v":""},{"$f":"IF('Classement auteurs'!N93=\"\",\"\",'Classement auteurs'!N93)","v":""},{"$f":"IF('Classement auteurs'!O93=\"\",\"\",'Classement auteurs'!O93)","v":""},{"$f":"IF('Classement auteurs'!P93=\"\",\"\",'Classement auteurs'!P93)","v":""},{"$f":"IF('Classement auteurs'!Q93=\"\",\"\",'Classement auteurs'!Q93)","v":""},{"$f":"IF('Classement auteurs'!#REF!=\"\",\"\",'Classement auteurs'!#REF!)","v":{"$error":"#REF!"}}]
[null,{"$f":"'Classement auteurs'!$B94","v":132084003601},{"$f":"IFERROR(VLOOKUP($B94,'Défi-1'!$C$2:$J$200,8,FALSE),\"\")","v":""},{"$f":"IFERROR(VLOOKUP($B94,'Défi-2'!$C$2:$J$200,8,FALSE),\"\")","v":33},{"$f":"IFERROR(VLOOKUP($B94,'Défi-3'!$C$2:$J$200,8,FALSE),\"\")","v":""},{"$f":"IFERROR(VLOOKUP($B94,'Défi-4'!$C$2:$J$200,8,FALSE),\"\")","v":55},{"$f":"IFERROR(VLOOKUP($B94,'Défi-5'!$C$2:$J$200,8,FALSE),\"\")","v":35},{"$f":"IFERROR(VLOOKUP($B94,'Défi-6'!$C$2:$J$200,8,FALSE),\"\")","v":55},{"$f":"IFERROR(VLOOKUP($B94,'Défi-7'!$C$2:$J$200,8,FALSE),\"\")","v":""},178,null,"OK","OK","KO","OK","KO","KO","KO","OK",{"$error":"#REF!"},null,{"$f":"'Classement auteurs'!$B94","v":132084003601},{"$f":"IF('Classement auteurs'!K94=\"\",\"\",'Classement auteurs'!K94)","v":""},{"$f":"IF('Classement auteurs'!L94=\"\",\"\",'Classement auteurs'!L94)","v":178},{"$f":"IF('Classement auteurs'!M94=\"\",\"\",'Classement auteurs'!M94)","v":""},{"$f":"IF('Classement auteurs'!N94=\"\",\"\",'Classement auteurs'!N94)","v":""},{"$f":"IF('Classement auteurs'!O94=\"\",\"\",'Classement auteurs'!O94)","v":""},{"$f":"IF('Classement auteurs'!P94=\"\",\"\",'Classement auteurs'!P94)","v":""},{"$f":"IF('Classement auteurs'!Q94=\"\",\"\",'Classement auteurs'!Q94)","v":""},{"$f":"IF('Classement auteurs'!#REF!=\"\",\"\",'Classement auteurs'!#REF!)","v":{"$error":"#REF!"}}]
[null,{"$f":"'Classement auteurs'!$B95","v":131683007601},{"$f":"IFERROR(VLOOKUP($B95,'Défi-1'!$C$2:$J$200,8,FALSE),\"\")","v":""},{"$f":"IFERROR(VLOOKUP($B95,'Défi-2'!$C$2:$J$200,8,FALSE),\"\")","v":42},{"$f":"IFERROR(VLOOKUP($B95,'Défi-3'!$C$2:$J$200,8,FALSE),\"\")","v":31},{"$f":"IFERROR(VLOOKUP($B95,'Défi-4'!$C$2:$J$200,8,FALSE),\"\")","v":42},{"$f":"IFERROR(VLOOKUP($B95,'Défi-5'!$C$2:$J$200,8,FALSE),\"\")","v":32},{"$f":"IFERROR(VLOOKUP($B95,'Défi-6'!$C$2:$J$200,8,FALSE),\"\")","v":""},{"$f":"IFERROR(VLOOKUP($B95,'Défi-7'!$C$2:$J$200,8,FALSE),\"\")","v":29},176,null,"OK","KO","KO","KO","KO","KO","OK","KO",{"$error":"#REF!"},null,{"$f":"'Classement auteurs'!$B95","v":131683007601},{"$f":"IF('Classement auteurs'!K95=\"\",\"\",'Classement auteurs'!K95)","v":29},{"$f":"IF('Classement auteurs'!L95=\"\",\"\",'Classement auteurs'!L95)","v":176},{"$f":"IF('Classement auteurs'!M95=\"\",\"\",'Classement auteurs'!M95)","v":""},{"$f":"IF('Classement auteurs'!N95=\"\",\"\",'Classement auteurs'!N95)","v":""},{"$f":"IF('Classement auteurs'!O95=\"\",\"\",'Classement auteurs'!O95)","v":""},{"$f":"IF('Classement auteurs'!P95=\"\",\"\",'Classement auteurs'!P95)","v":""},{"$f":"IF('Classement auteurs'!Q95=\"\",\"\",'Classement auteurs'!Q95)","v":""},{"$f":"IF('Classement auteurs'!#REF!=\"\",\"\",'Classement auteurs'!#REF!)","v":{"$error":"#REF!"}}]
[null,{"$f":"'Classement auteurs'!$B96","v":132060000401},{"$f":"IFERROR(VLOOKUP($B96,'Défi-1'!$C$2:$J$200,8,FALSE),\"\")","v":18},{"$f":"IFERROR(VLOOKUP($B96,'Défi-2'!$C$2:$J$200,8,FALSE),\"\")","v":""},{"$f":"IFERROR(VLOOKUP($B96,'Défi-3'!$C$2:$J$200,8,FALSE),\"\")","v":43},{"$f":"IFERROR(VLOOKUP($B96,'Défi-4'!$C$2:$J$200,8,FALSE),\"\")","v":36},{"$f":"IFERROR(VLOOKUP($B96,'Défi-5'!$C$2:$J$200,8,FALSE),\"\")","v":40},{"$f":"IFERROR(VLOOKUP($B96,'Défi-6'!$C$2:$J$200,8,FALSE),\"\")","v":""},{"$f":"IFERROR(VLOOKUP($B96,'Défi-7'!$C$2:$J$200,8,FALSE),\"\")","v":39},176,null,"OK","KO","KO","KO","KO","KO","OK","KO",{"$error":"#REF!"},null,{"$f":"'Classement auteurs'!$B96","v":132060000401},{"$f":"IF('Classement auteurs'!K96=\"\",\"\",'Classement auteurs'!K96)","v":39},{"$f":"IF('Classement auteurs'!L96=\"\",\"\",'Classement auteurs'!L96)","v":176},{"$f":"IF('Classement auteurs'!M96=\"\",\"\",'Classement auteurs'!M96)","v":""},{"$f":"IF('Classement auteurs'!N96=\"\",\"\",'Classement auteurs'!N96)","v":""},{"$f":"IF('Classement auteurs'!O96=\"\",\"\",'Classement auteurs'!O96)","v":""},{"$f":"IF('Classement auteurs'!P96=\"\",\"\",'Classement auteurs'!P96)","v":""},{"$f":"IF('Classement auteurs'!Q96=\"\",\"\",'Classement auteurs'!Q96)","v":""},{"$f":"IF('Classement auteurs'!#REF!=\"\",\"\",'Classement auteurs'!#REF!)","v":{"$error":"#REF!"}}]
[null,{"$f":"'Classement auteurs'!$B97","v":130987001601},{"$f":"IFERROR(VLOOKUP($B97,'Défi-1'!$C$2:$J$200,8,FALSE),\"\")","v":35},{"$f":"IFERROR(VLOOKUP($B97,'Défi-2'!$C$2:$J$200,8,FALSE),\"\")","v":36},{"$f":"IFERROR(VLOOKUP($B97,'Défi-3'!$C$2:$J$200,8,FALSE),\"\")","v":35},{"$f":"IFERROR(VLOOKUP($B97,'Défi-4'!$C$2:$J$200,8,FALSE),\"\")","v":32},{"$f":"IFERROR(VLOOKUP($B97,'Défi-5'!$C$2:$J$200,8,FALSE),\"\")","v":37},{"$f":"IFERROR(VLOOKUP($B97,'Défi-6'!$C$2:$J$200,8,FALSE),\"\")","v":""},{"$f":"IFERROR(VLOOKUP($B97,'Défi-7'!$C$2:$J$200,8,FALSE),\"\")","v":""},175,null,"OK","KO","KO","KO","KO","KO","OK","OK",{"$error":"#REF!"},null,{"$f":"'Classement auteurs'!$B97","v":130987001601},{"$f":"IF('Classement auteurs'!K97=\"\",\"\",'Classement auteurs'!K97)","v":""},{"$f":"IF('Classement auteurs'!L97=\"\",\"\",'Classement auteurs'!L97)","v":175},{"$f":"IF('Classement auteurs'!M97=\"\",\"\",'Classement auteurs'!M97)","v":""},{"$f":"IF('Classement auteurs'!N97=\"\",\"\",'Classement auteurs'!N97)","v":""},{"$f":"IF('Classement auteurs'!O97=\"\",\"\",'Classement auteurs'!O97)","v":""},{"$f":"IF('Classement auteurs'!P97=\"\",\"\",'Classement auteurs'!P97)","v":""},{"$f":"IF('Classement auteurs'!Q97=\"\",\"\",'Classement auteurs'!Q97)","v":""},{"$f":"IF('Classement auteurs'!#REF!=\"\",\"\",'Classement auteurs'!#REF!)","v":{"$error":"#REF!"}}]
[null,{"$f":"'Classement auteurs'!$B98","v":131353006201},{"$f":"IFERROR(VLOOKUP($B98,'Défi-1'!$C$2:$J$200,8,FALSE),\"\")","v":""},{"$f":"IFERROR(VLOOKUP($B98,'Défi-2'!$C$2:$J$200,8,FALSE),\"\")","v":31},{"$f":"IFERROR(VLOOKUP($B98,'Défi-3'!$C$2:$J$200,8,FALSE),\"\")","v":39},{"$f":"IFERROR(VLOOKUP($B98,'Défi-4'!$C$2:$J$200,8,FALSE),\"\")","v":35},{"$f":"IFERROR(VLOOKUP($B98,'Défi-5'!$C$2:$J$200,8,FALSE),\"\")","v":37},{"$f":"IFERROR(VLOOKUP($B98,'Défi-6'!$C$2:$J$200,8,FALSE),\"\")","v":""},{"$f":"IFERROR(VLOOKUP($B98,'Défi-7'!$C$2:$J$200,8,FALSE),\"\")","v":31},173,null,"OK","KO","KO","KO","KO","KO","OK","KO",{"$error":"#REF!"},null,{"$f":"'Classement auteurs'!$B98","v":131353006201},{"$f":"IF('Classement auteurs'!K98=\"\",\"\",'Classement auteurs'!K98)","v":31},{"$f":"IF('Classement auteurs'!L98=\"\",\"\",'Classement auteurs'!L98)","v":173},{"$f":"IF('Classement auteurs'!M98=\"\",\"\",'Classement auteurs'!M98)","v":""},{"$f":"IF('Classement auteurs'!N98=\"\",\"\",'Classement auteurs'!N98)","v":""},{"$f":"IF('Classement auteurs'!O98=\"\",\"\",'Classement auteurs'!O98)","v":""},{"$f":"IF('Classement auteurs'!P98=\"\",\"\",'Classement auteurs'!P98)","v":""},{"$f":"IF('Classement auteurs'!Q98=\"\",\"\",'Classement auteurs'!Q98)","v":""},{"$f":"IF('Classement auteurs'!#REF!=\"\",\"\",'Classement auteurs'!#REF!)","v":{"$error":"#REF!"}}]
[null,{"$f":"'Classement auteurs'!$B99","v":130462001101},{"$f":"IFERROR(VLOOKUP($B99,'Défi-1'!$C$2:$J$200,8,FALSE),\"\")","v":""},{"$f":"IFERROR(VLOOKUP($B99,'Défi-2'!$C$2:$J$200,8,FALSE),\"\")","v":""},{"$f":"IFERROR(VLOOKUP($B99,'Défi-3'!$C$2:$J$200,8,FALSE),\"\")","v":38},{"$f":"IFERROR(VLOOKUP($B99,'Défi-4'!$C$2:$J$200,8,FALSE),\"\")","v":45},{"$f":"IFERROR(VLOOKUP($B99,'Défi-5'!$C$2:$J$200,8,FALSE),\"\")","v":43},{"$f":"IFERROR(VLOOKUP($B99,'Défi-6'!$C$2:$J$200,8,FALSE),\"\")","v":45},{"$f":"IFERROR(VLOOKUP($B99,'Défi-7'!$C$2:$J$200,8,FALSE),\"\")","v":""},171,null,"OK","OK","KO","KO","KO","KO","KO","OK",{"$error":"#REF!"},null,{"$f":"'Classement auteurs'!$B99","v":130462001101},{"$f":"IF('Classement auteurs'!K99=\"\",\"\",'Classement auteurs'!K99)","v":""},{"$f":"IF('Classement auteurs'!L99=\"\",\"\",'Classement auteurs'!L99)","v":171},{"$f":"IF('Classement auteurs'!M99=\"\",\"\",'Classement auteurs'!M99)","v":""},{"$f":"IF('Classement auteurs'!N99=\"\",\"\",'Classement auteurs'!N99)","v":""},{"$f":"IF('Classement auteurs'!O99=\"\",\"\",'Classement auteurs'!O99)","v":""},{"$f":"IF('Classement auteurs'!P99=\"\",\"\",'Classement auteurs'!P99)","v":""},{"$f":"IF('Classement auteurs'!Q99=\"\",\"\",'Classement auteurs'!Q99)","v":""},{"$f":"IF('Classement auteurs'!#REF!=\"\",\"\",'Classement auteurs'!#REF!)","v":{"$error":"#REF!"}}]
[null,{"$f":"'Classement auteurs'!$B100","v":130925009901},{"$f":"IFERROR(VLOOKUP($B100,'Défi-1'!$C$2:$J$200,8,FALSE),\"\")","v":30},{"$f":"IFERROR(VLOOKUP($B100,'Défi-2'!$C$2:$J$200,8,FALSE),\"\")","v":38},{"$f":"IFERROR(VLOOKUP($B100,'Défi-3'!$C$2:$J$200,8,FALSE),\"\")","v":34},{"$f":"IFERROR(VLOOKUP($B100,'Défi-4'!$C$2:$J$200,8,FALSE),\"\")","v":32},{"$f":"IFERROR(VLOOKUP($B100,'Défi-5'!$C$2:$J$200,8,FALSE),\"\")","v":37},{"$f":"IFERROR(VLOOKUP($B100,'Défi-6'!$C$2:$J$200,8,FALSE),\"\")","v":""},{"$f":"IFERROR(VLOOKUP($B100,'Défi-7'!$C$2:$J$200,8,FALSE),\"\")","v":""},171,null,"OK","KO","KO","KO","KO","KO","OK","OK",{"$error":"#REF!"},null,{"$f":"'Classement auteurs'!$B100","v":130925009901},{"$f":"IF('Classement auteurs'!K100=\"\",\"\",'Classement auteurs'!K100)","v":""},{"$f":"IF('Classement auteurs'!L100=\"\",\"\",'Classement auteurs'!L100)","v":171},{"$f":"IF('Classement auteurs'!M100=\"\",\"\",'Classement auteurs'!M100)","v":""},{"$f":"IF('Classement auteurs'!N100=\"\",\"\",'Classement auteurs'!N100)","v":""},{"$f":"IF('Classement auteurs'!O100=\"\",\"\",'Classement auteurs'!O100)","v":""},{"$f":"IF('Classement auteurs'!P100=\"\",\"\",'Classement auteurs'!P100)","v":""},{"$f":"IF('Classement auteurs'!Q100=\"\",\"\",'Classement auteurs'!Q100)","v":""},{"$f":"IF('Classement auteurs'!#REF!=\"\",\"\",'Classement auteurs'!#REF!)","v":{"$error":"#REF!"}}]
[null,{"$f":"'Classement auteurs'!$B101","v":131683008101},{"$f":"IFERROR(VLOOKUP($B101,'Défi-1'!$C$2:$J$200,8,FALSE),\"\")","v":""},{"$f":"IFERROR(VLOOKUP($B101,'Défi-2'!$C$2:$J$200,8,FALSE),\"\")","v":""},{"$f":"IFERROR(VLOOKUP($B101,'Défi-3'!$C$2:$J$200,8,FALSE),\"\")","v":37},{"$f":"IFERROR(VLOOKUP($B101,'Défi-4'!$C$2:$J$200,8,FALSE),\"\")","v":""},{"$f":"IFERROR(VLOOKUP($B101,'Défi-5'!$C$2:$J$200,8,FALSE),\"\")","v":43},{"$f":"IFERROR(VLOOKUP($B101,'Défi-6'!$C$2:$J$200,8,FALSE),\"\")","v":43},{"$f":"IFERROR(VLOOKUP($B101,'Défi-7'!$C$2:$J$200,8,FALSE),\"\")","v":48},171,null,"OK","KO","KO","KO","OK","KO","KO","KO",{"$error":"#REF!"},null,{"$f":"'Classement auteurs'!$B101","v":131683008101},{"$f":"IF('Classement auteurs'!K101=\"\",\"\",'Classement auteurs'!K101)","v":48},{"$f":"IF('Classement auteurs'!L101=\"\",\"\",'Classement auteurs'!L101)","v":171},{"$f":"IF('Classement auteurs'!M101=\"\",\"\",'Classement auteurs'!M101)","v":""},{"$f":"IF('Classement auteurs'!N101=\"\",\"\",'Classement auteurs'!N101)","v":""},{"$f":"IF('Classement auteurs'!O101=\"\",\"\",'Classement auteurs'!O101)","v":""},{"$f":"IF('Classement auteurs'!P101=\"\",\"\",'Classement auteurs'!P101)","v":""},{"$f":"IF('Classement auteurs'!Q101=\"\",\"\",'Classement auteurs'!Q101)","v":""},{"$f":"IF('Classement auteurs'!#REF!=\"\",\"\",'Classement auteurs'!#REF!)","v":{"$error":"#REF!"}}]
[null,{"$f":"'Classement auteurs'!$B102","v":131956000201},{"$f":"IFERROR(VLOOKUP($B102,'Défi-1'!$C$2:$J$200,8,FALSE),\"\")","v":""},{"$f":"IFERROR(VLOOKUP($B102,'Défi-2'!$C$2:$J$200,8,FALSE),\"\")","v":47},{"$f":"IFERROR(VLOOKUP($B102,'Défi-3'!$C$2:$J$200,8,FALSE),\"\")","v":44},{"$f":"IFERROR(VLOOKUP($B102,'Défi-4'!$C$2:$J$200,8,FALSE),\"\")","v":41},{"$f":"IFERROR(VLOOKUP($B102,'Défi-5'!$C$2:$J$200,8,FALSE),\"\")","v":39},{"$f":"IFERROR(VLOOKUP($B102,'Défi-6'!$C$2:$J$200,8,FALSE),\"\")","v":""},{"$f":"IFERROR(VLOOKUP($B102,'Défi-7'!$C$2:$J$200,8,FALSE),\"\")","v":""},171,null,"OK","OK","KO","KO","KO","KO","OK","OK",{"$error":"#REF!"},null,{"$f":"'Classement auteurs'!$B102","v":131956000201},{"$f":"IF('Classement auteurs'!K102=\"\",\"\",'Classement auteurs'!K102)","v":""},{"$f":"IF('Classement auteurs'!L102=\"\",\"\",'Classement auteurs'!L102)","v":171},{"$f":"IF('Classement auteurs'!M102=\"\",\"\",'Classement auteurs'!M102)","v":""},{"$f":"IF('Classement auteurs'!N102=\"\",\"\",'Classement auteurs'!N102)","v":""},{"$f":"IF('Classement auteurs'!O102=\"\",\"\",'Classement auteurs'!O102)","v":""},{"$f":"IF('Classement auteurs'!P102=\"\",\"\",'Classement auteurs'!P102)","v":""},{"$f":"IF('Classement auteurs'!Q102=\"\",\"\",'Classement auteurs'!Q102)","v":""},{"$f":"IF('Classement auteurs'!#REF!=\"\",\"\",'Classement auteurs'!#REF!)","v":{"$error":"#REF!"}}]
[null,{"$f":"'Classement auteurs'!$B103","v":130527013301},{"$f":"IFERROR(VLOOKUP($B103,'Défi-1'!$C$2:$J$200,8,FALSE),\"\")","v":47},{"$f":"IFERROR(VLOOKUP($B103,'Défi-2'!$C$2:$J$200,8,FALSE),\"\")","v":39},{"$f":"IFERROR(VLOOKUP($B103,'Défi-3'!$C$2:$J$200,8,FALSE),\"\")","v":40},{"$f":"IFERROR(VLOOKUP($B103,'Défi-4'!$C$2:$J$200,8,FALSE),\"\")","v":44},{"$f":"IFERROR(VLOOKUP($B103,'Défi-5'!$C$2:$J$200,8,FALSE),\"\")","v":""},{"$f":"IFERROR(VLOOKUP($B103,'Défi-6'!$C$2:$J$200,8,FALSE),\"\")","v":""},{"$f":"IFERROR(VLOOKUP($B103,'Défi-7'!$C$2:$J$200,8,FALSE),\"\")","v":""},170,null,"OK","KO","KO","KO","KO","OK","OK","OK",{"$error":"#REF!"},null,{"$f":"'Classement auteurs'!$B103","v":130527013301},{"$f":"IF('Classement auteurs'!K103=\"\",\"\",'Classement auteurs'!K103)","v":""},{"$f":"IF('Classement auteurs'!L103=\"\",\"\",'Classement auteurs'!L103)","v":170},{"$f":"IF('Classement auteurs'!M103=\"\",\"\",'Classement auteurs'!M103)","v":""},{"$f":"IF('Classement auteurs'!N103=\"\",\"\",'Classement auteurs'!N103)","v":""},{"$f":"IF('Classement auteurs'!O103=\"\",\"\",'Classement auteurs'!O103)","v":""},{"$f":"IF('Classement auteurs'!P103=\"\",\"\",'Classement auteurs'!P103)","v":""},{"$f":"IF('Classement auteurs'!Q103=\"\",\"\",'Classement auteurs'!Q103)","v":""},{"$f":"IF('Classement auteurs'!#REF!=\"\",\"\",'Classement auteurs'!#REF!)","v":{"$error":"#REF!"}}]
[null,{"$f":"'Classement auteurs'!$B104","v":131956002901},{"$f":"IFERROR(VLOOKUP($B104,'Défi-1'!$C$2:$J$200,8,FALSE),\"\")","v":43},{"$f":"IFERROR(VLOOKUP($B104,'Défi-2'!$C$2:$J$200,8,FALSE),\"\")","v":""},{"$f":"IFERROR(VLOOKUP($B104,'Défi-3'!$C$2:$J$200,8,FALSE),\"\")","v":40},{"$f":"IFERROR(VLOOKUP($B104,'Défi-4'!$C$2:$J$200,8,FALSE),\"\")","v":28},{"$f":"IFERROR(VLOOKUP($B104,'Défi-5'!$C$2:$J$200,8,FALSE),\"\")","v":28},{"$f":"IFERROR(VLOOKUP($B104,'Défi-6'!$C$2:$J$200,8,FALSE),\"\")","v":28},{"$f":"IFERROR(VLOOKUP($B104,'Défi-7'!$C$2:$J$200,8,FALSE),\"\")","v":""},167,null,"OK","KO","KO","KO","KO","KO","KO","OK",{"$error":"#REF!"},null,{"$f":"'Classement auteurs'!$B104","v":131956002901},{"$f":"IF('Classement auteurs'!K104=\"\",\"\",'Classement auteurs'!K104)","v":""},{"$f":"IF('Classement auteurs'!L104=\"\",\"\",'Classement auteurs'!L104)","v":167},{"$f":"IF('Classement auteurs'!M104=\"\",\"\",'Classement auteurs'!M104)","v":""},{"$f":"IF('Classement auteurs'!N104=\"\",\"\",'Classement auteurs'!N104)","v":""},{"$f":"IF('Classement auteurs'!O104=\"\",\"\",'Classement auteurs'!O104)","v":""},{"$f":"IF('Classement auteurs'!P104=\"\",\"\",'Classement auteurs'!P104)","v":""},{"$f":"IF('Classement auteurs'!Q104=\"\",\"\",'Classement auteurs'!Q104)","v":""},{"$f":"IF('Classement auteurs'!#REF!=\"\",\"\",'Classement auteurs'!#REF!)","v":{"$error":"#REF!"}}]
[null,{"$f":"'Classement auteurs'!$B105","v":132084003501},{"$f":"IFERROR(VLOOKUP($B105,'Défi-1'!$C$2:$J$200,8,FALSE),\"\")","v":""},{"$f":"IFERROR(VLOOKUP($B105,'Défi-2'!$C$2:$J$200,8,FALSE),\"\")","v":43},{"$f":"IFERROR(VLOOKUP($B105,'Défi-3'!$C$2:$J$200,8,FALSE),\"\")","v":""},{"$f":"IFERROR(VLOOKUP($B105,'Défi-4'!$C$2:$J$200,8,FALSE),\"\")","v":40},{"$f":"IFERROR(VLOOKUP($B105,'Défi-5'!$C$2:$J$200,8,FALSE),\"\")","v":38},{"$f":"IFERROR(VLOOKUP($B105,'Défi-6'!$C$2:$J$200,8,FALSE),\"\")","v":43},{"$f":"IFERROR(VLOOKUP($B105,'Défi-7'!$C$2:$J$200,8,FALSE),\"\")","v":""},164,null,"OK","OK","KO","OK","KO","KO","KO","OK",{"$error":"#REF!"},null,{"$f":"'Classement auteurs'!$B105","v":132084003501},{"$f":"IF('Classement auteurs'!K105=\"\",\"\",'Classement auteurs'!K105)","v":""},{"$f":"IF('Classement auteurs'!L105=\"\",\"\",'Classement auteurs'!L105)","v":164},{"$f":"IF('Classement auteurs'!M105=\"\",\"\",'Classement auteurs'!M105)","v":""},{"$f":"IF('Classement auteurs'!N105=\"\",\"\",'Classement auteurs'!N105)","v":""},{"$f":"IF('Classement auteurs'!O105=\"\",\"\",'Classement auteurs'!O105)","v":""},{"$f":"IF('Classement auteurs'!P105=\"\",\"\",'Classement auteurs'!P105)","v":""},{"$f":"IF('Classement auteurs'!Q105=\"\",\"\",'Classement auteurs'!Q105)","v":""},{"$f":"IF('Classement auteurs'!#REF!=\"\",\"\",'Classement auteurs'!#REF!)","v":{"$error":"#REF!"}}]
[null,{"$f":"'Classement auteurs'!$B106","v":132103002301},{"$f":"IFERROR(VLOOKUP($B106,'Défi-1'!$C$2:$J$200,8,FALSE),\"\")","v":46},{"$f":"IFERROR(VLOOKUP($B106,'Défi-2'!$C$2:$J$200,8,FALSE),\"\")","v":43},{"$f":"IFERROR(VLOOKUP($B106,'Défi-3'!$C$2:$J$200,8,FALSE),\"\")","v":43},{"$f":"IFERROR(VLOOKUP($B106,'Défi-4'!$C$2:$J$200,8,FALSE),\"\")","v":""},{"$f":"IFERROR(VLOOKUP($B106,'Défi-5'!$C$2:$J$200,8,FALSE),\"\")","v":""},{"$f":"IFERROR(VLOOKUP($B106,'Défi-6'!$C$2:$J$200,8,FALSE),\"\")","v":""},{"$f":"IFERROR(VLOOKUP($B106,'Défi-7'!$C$2:$J$200,8,FALSE),\"\")","v":31},163,null,"OK","KO","KO","KO","OK","OK","OK","KO",{"$error":"#REF!"},null,{"$f":"'Classement auteurs'!$B106","v":132103002301},{"$f":"IF('Classement auteurs'!K106=\"\",\"\",'Classement auteurs'!K106)","v":31},{"$f":"IF('Classement auteurs'!L106=\"\",\"\",'Classement auteurs'!L106)","v":163},{"$f":"IF('Classement auteurs'!M106=\"\",\"\",'Classement auteurs'!M106)","v":""},{"$f":"IF('Classement auteurs'!N106=\"\",\"\",'Classement auteurs'!N106)","v":""},{"$f":"IF('Classement auteurs'!O106=\"\",\"\",'Classement auteurs'!O106)","v":""},{"$f":"IF('Classement auteurs'!P106=\"\",\"\",'Classement auteurs'!P106)","v":""},{"$f":"IF('Classement auteurs'!Q106=\"\",\"\",'Classement auteurs'!Q106)","v":""},{"$f":"IF('Classement auteurs'!#REF!=\"\",\"\",'Classement auteurs'!#REF!)","v":{"$error":"#REF!"}}]
[null,{"$f":"'Classement auteurs'!$B107","v":132193001201},{"$f":"IFERROR(VLOOKUP($B107,'Défi-1'!$C$2:$J$200,8,FALSE),\"\")","v":""},{"$f":"IFERROR(VLOOKUP($B107,'Défi-2'!$C$2:$J$200,8,FALSE),\"\")","v":34},{"$f":"IFERROR(VLOOKUP($B107,'Défi-3'!$C$2:$J$200,8,FALSE),\"\")","v":""},{"$f":"IFERROR(VLOOKUP($B107,'Défi-4'!$C$2:$J$200,8,FALSE),\"\")","v":37},{"$f":"IFERROR(VLOOKUP($B107,'Défi-5'!$C$2:$J$200,8,FALSE),\"\")","v":37},{"$f":"IFERROR(VLOOKUP($B107,'Défi-6'!$C$2:$J$200,8,FALSE),\"\")","v":37},{"$f":"IFERROR(VLOOKUP($B107,'Défi-7'!$C$2:$J$200,8,FALSE),\"\")","v":18},163,null,"OK","KO","KO","OK","KO","KO","KO","KO",{"$error":"#REF!"},null,{"$f":"'Classement auteurs'!$B107","v":132193001201},{"$f":"IF('Classement auteurs'!K107=\"\",\"\",'Classement auteurs'!K107)","v":18},{"$f":"IF('Classement auteurs'!L107=\"\",\"\",'Classement auteurs'!L107)","v":163},{"$f":"IF('Classement auteurs'!M107=\"\",\"\",'Classement auteurs'!M107)","v":""},{"$f":"IF('Classement auteurs'!N107=\"\",\"\",'Classement auteurs'!N107)","v":""},{"$f":"IF('Classement auteurs'!O107=\"\",\"\",'Classement auteurs'!O107)","v":""},{"$f":"IF('Classement auteurs'!P107=\"\",\"\",'Classement auteurs'!P107)","v":""},{"$f":"IF('Classement auteurs'!Q107=\"\",\"\",'Classement auteurs'!Q107)","v":""},{"$f":"IF('Classement auteurs'!#REF!=\"\",\"\",'Classement auteurs'!#REF!)","v":{"$error":"#REF!"}}]
[null,{"$f":"'Classement auteurs'!$B108","v":131499010401},{"$f":"IFERROR(VLOOKUP($B108,'Défi-1'!$C$2:$J$200,8,FALSE),\"\")","v":37},{"$f":"IFERROR(VLOOKUP($B108,'Défi-2'!$C$2:$J$200,8,FALSE),\"\")","v":""},{"$f":"IFERROR(VLOOKUP($B108,'Défi-3'!$C$2:$J$200,8,FALSE),\"\")","v":43},{"$f":"IFERROR(VLOOKUP($B108,'Défi-4'!$C$2:$J$200,8,FALSE),\"\")","v":41},{"$f":"IFERROR(VLOOKUP($B108,'Défi-5'!$C$2:$J$200,8,FALSE),\"\")","v":41},{"$f":"IFERROR(VLOOKUP($B108,'Défi-6'!$C$2:$J$200,8,FALSE),\"\")","v":""},{"$f":"IFERROR(VLOOKUP($B108,'Défi-7'!$C$2:$J$200,8,FALSE),\"\")","v":""},162,null,"OK","KO","KO","KO","KO","KO","OK","OK",{"$error":"#REF!"},null,{"$f":"'Classement auteurs'!$B108","v":131499010401},{"$f":"IF('Classement auteurs'!K108=\"\",\"\",'Classement auteurs'!K108)","v":""},{"$f":"IF('Classement auteurs'!L108=\"\",\"\",'Classement auteurs'!L108)","v":162},{"$f":"IF('Classement auteurs'!M108=\"\",\"\",'Classement auteurs'!M108)","v":""},{"$f":"IF('Classement auteurs'!N108=\"\",\"\",'Classement auteurs'!N108)","v":""},{"$f":"IF('Classement auteurs'!O108=\"\",\"\",'Classement auteurs'!O108)","v":""},{"$f":"IF('Classement auteurs'!P108=\"\",\"\",'Classement auteurs'!P108)","v":""},{"$f":"IF('Classement auteurs'!Q108=\"\",\"\",'Classement auteurs'!Q108)","v":""},{"$f":"IF('Classement auteurs'!#REF!=\"\",\"\",'Classement auteurs'!#REF!)","v":{"$error":"#REF!"}}]
[null,{"$f":"'Classement auteurs'!$B109","v":130878015201},{"$f":"IFERROR(VLOOKUP($B109,'Défi-1'!$C$2:$J$200,8,FALSE),\"\")","v":43},{"$f":"IFERROR(VLOOKUP($B109,'Défi-2'!$C$2:$J$200,8,FALSE),\"\")","v":""},{"$f":"IFERROR(VLOOKUP($B109,'Défi-3'!$C$2:$J$200,8,FALSE),\"\")","v":""},{"$f":"IFERROR(VLOOKUP($B109,'Défi-4'!$C$2:$J$200,8,FALSE),\"\")","v":18},{"$f":"IFERROR(VLOOKUP($B109,'Défi-5'!$C$2:$J$200,8,FALSE),\"\")","v":42},{"$f":"IFERROR(VLOOKUP($B109,'Défi-6'!$C$2:$J$200,8,FALSE),\"\")","v":18},{"$f":"IFERROR(VLOOKUP($B109,'Défi-7'!$C$2:$J$200,8,FALSE),\"\")","v":39},160,null,"OK","KO","KO","OK","KO","KO","KO","KO",{"$error":"#REF!"},null,{"$f":"'Classement auteurs'!$B109","v":130878015201},{"$f":"IF('Classement auteurs'!K109=\"\",\"\",'Classement auteurs'!K109)","v":39},{"$f":"IF('Classement auteurs'!L109=\"\",\"\",'Classement auteurs'!L109)","v":160},{"$f":"IF('Classement auteurs'!M109=\"\",\"\",'Classement auteurs'!M109)","v":""},{"$f":"IF('Classement auteurs'!N109=\"\",\"\",'Classement auteurs'!N109)","v":""},{"$f":"IF('Classement auteurs'!O109=\"\",\"\",'Classement auteurs'!O109)","v":""},{"$f":"IF('Classement auteurs'!P109=\"\",\"\",'Classement auteurs'!P109)","v":""},{"$f":"IF('Classement auteurs'!Q109=\"\",\"\",'Classement auteurs'!Q109)","v":""},{"$f":"IF('Classement auteurs'!#REF!=\"\",\"\",'Classement auteurs'!#REF!)","v":{"$error":"#REF!"}}]
[null,{"$f":"'Classement auteurs'!$B110","v":131619004601},{"$f":"IFERROR(VLOOKUP($B110,'Défi-1'!$C$2:$J$200,8,FALSE),\"\")","v":35},{"$f":"IFERROR(VLOOKUP($B110,'Défi-2'!$C$2:$J$200,8,FALSE),\"\")","v":""},{"$f":"IFERROR(VLOOKUP($B110,'Défi-3'!$C$2:$J$200,8,FALSE),\"\")","v":39},{"$f":"IFERROR(VLOOKUP($B110,'Défi-4'!$C$2:$J$200,8,FALSE),\"\")","v":""},{"$f":"IFERROR(VLOOKUP($B110,'Défi-5'!$C$2:$J$200,8,FALSE),\"\")","v":43},{"$f":"IFERROR(VLOOKUP($B110,'Défi-6'!$C$2:$J$200,8,FALSE),\"\")","v":""},{"$f":"IFERROR(VLOOKUP($B110,'Défi-7'!$C$2:$J$200,8,FALSE),\"\")","v":43},160,null,"OK","KO","KO","KO","OK","KO","OK","KO",{"$error":"#REF!"},null,{"$f":"'Classement auteurs'!$B110","v":131619004601},{"$f":"IF('Classement auteurs'!K110=\"\",\"\",'Classement auteurs'!K110)","v":43},{"$f":"IF('Classement auteurs'!L110=\"\",\"\",'Classement auteurs'!L110)","v":160},{"$f":"IF('Classement auteurs'!M110=\"\",\"\",'Classement auteurs'!M110)","v":""},{"$f":"IF('Classement auteurs'!N110=\"\",\"\",'Classement auteurs'!N110)","v":""},{"$f":"IF('Classement auteurs'!O110=\"\",\"\",'Classement auteurs'!O110)","v":""},{"$f":"IF('Classement auteurs'!P110=\"\",\"\",'Classement auteurs'!P110)","v":""},{"$f":"IF('Classement auteurs'!Q110=\"\",\"\",'Classement auteurs'!Q110)","v":""},{"$f":"IF('Classement auteurs'!#REF!=\"\",\"\",'Classement auteurs'!#REF!)","v":{"$error":"#REF!"}}]
[null,{"$f":"'Classement auteurs'!$B111","v":132060000901},{"$f":"IFERROR(VLOOKUP($B111,'Défi-1'!$C$2:$J$200,8,FALSE),\"\")","v":35},{"$f":"IFERROR(VLOOKUP($B111,'Défi-2'!$C$2:$J$200,8,FALSE),\"\")","v":28},{"$f":"IFERROR(VLOOKUP($B111,'Défi-3'!$C$2:$J$200,8,FALSE),\"\")","v":""},{"$f":"IFERROR(VLOOKUP($B111,'Défi-4'!$C$2:$J$200,8,FALSE),\"\")","v":38},{"$f":"IFERROR(VLOOKUP($B111,'Défi-5'!$C$2:$J$200,8,FALSE),\"\")","v":30},{"$f":"IFERROR(VLOOKUP($B111,'Défi-6'!$C$2:$J$200,8,FALSE),\"\")","v":""},{"$f":"IFERROR(VLOOKUP($B111,'Défi-7'!$C$2:$J$200,8,FALSE),\"\")","v":29},160,null,"OK","KO","KO","OK","KO","KO","OK","KO",{"$error":"#REF!"},null,{"$f":"'Classement auteurs'!$B111","v":132060000901},{"$f":"IF('Classement auteurs'!K111=\"\",\"\",'Classement auteurs'!K111)","v":29},{"$f":"IF('Classement auteurs'!L111=\"\",\"\",'Classement auteurs'!L111)","v":160},{"$f":"IF('Classement auteurs'!M111=\"\",\"\",'Classement auteurs'!M111)","v":""},{"$f":"IF('Classement auteurs'!N111=\"\",\"\",'Classement auteurs'!N111)","v":""},{"$f":"IF('Classement auteurs'!O111=\"\",\"\",'Classement auteurs'!O111)","v":""},{"$f":"IF('Classement auteurs'!P111=\"\",\"\",'Classement auteurs'!P111)","v":""},{"$f":"IF('Classement auteurs'!Q111=\"\",\"\",'Classement auteurs'!Q111)","v":""},{"$f":"IF('Classement auteurs'!#REF!=\"\",\"\",'Classement auteurs'!#REF!)","v":{"$error":"#REF!"}}]
[null,{"$f":"'Classement auteurs'!$B112","v":131845004101},{"$f":"IFERROR(VLOOKUP($B112,'Défi-1'!$C$2:$J$200,8,FALSE),\"\")","v":29},{"$f":"IFERROR(VLOOKUP($B112,'Défi-2'!$C$2:$J$200,8,FALSE),\"\")","v":34},{"$f":"IFERROR(VLOOKUP($B112,'Défi-3'!$C$2:$J$200,8,FALSE),\"\")","v":34},{"$f":"IFERROR(VLOOKUP($B112,'Défi-4'!$C$2:$J$200,8,FALSE),\"\")","v":26},{"$f":"IFERROR(VLOOKUP($B112,'Défi-5'!$C$2:$J$200,8,FALSE),\"\")","v":36},{"$f":"IFERROR(VLOOKUP($B112,'Défi-6'!$C$2:$J$200,8,FALSE),\"\")","v":""},{"$f":"IFERROR(VLOOKUP($B112,'Défi-7'!$C$2:$J$200,8,FALSE),\"\")","v":""},159,null,"OK","KO","KO","KO","KO","KO","OK","OK",{"$error":"#REF!"},null,{"$f":"'Classement auteurs'!$B112","v":131845004101},{"$f":"IF('Classement auteurs'!K112=\"\",\"\",'Classement auteurs'!K112)","v":""},{"$f":"IF('Classement auteurs'!L112=\"\",\"\",'Classement auteurs'!L112)","v":159},{"$f":"IF('Classement auteurs'!M112=\"\",\"\",'Classement auteurs'!M112)","v":""},{"$f":"IF('Classement auteurs'!N112=\"\",\"\",'Classement auteurs'!N112)","v":""},{"$f":"IF('Classement auteurs'!O112=\"\",\"\",'Classement auteurs'!O112)","v":""},{"$f":"IF('Classement auteurs'!P112=\"\",\"\",'Classement auteurs'!P112)","v":""},{"$f":"IF('Classement auteurs'!Q112=\"\",\"\",'Classement auteurs'!Q112)","v":""},{"$f":"IF('Classement auteurs'!#REF!=\"\",\"\",'Classement auteurs'!#REF!)","v":{"$error":"#REF!"}}]
[null,{"$f":"'Classement auteurs'!$B113","v":132060000101},{"$f":"IFERROR(VLOOKUP($B113,'Défi-1'!$C$2:$J$200,8,FALSE),\"\")","v":29},{"$f":"IFERROR(VLOOKUP($B113,'Défi-2'!$C$2:$J$200,8,FALSE),\"\")","v":""},{"$f":"IFERROR(VLOOKUP($B113,'Défi-3'!$C$2:$J$200,8,FALSE),\"\")","v":33},{"$f":"IFERROR(VLOOKUP($B113,'Défi-4'!$C$2:$J$200,8,FALSE),\"\")","v":""},{"$f":"IFERROR(VLOOKUP($B113,'Défi-5'!$C$2:$J$200,8,FALSE),\"\")","v":34},{"$f":"IFERROR(VLOOKUP($B113,'Défi-6'!$C$2:$J$200,8,FALSE),\"\")","v":34},{"$f":"IFERROR(VLOOKUP($B113,'Défi-7'!$C$2:$J$200,8,FALSE),\"\")","v":29},159,null,"OK","OK","KO","KO","OK","KO","KO","KO",{"$error":"#REF!"},null,{"$f":"'Classement auteurs'!$B113","v":132060000101},{"$f":"IF('Classement auteurs'!K113=\"\",\"\",'Classement auteurs'!K113)","v":29},{"$f":"IF('Classement auteurs'!L113=\"\",\"\",'Classement auteurs'!L113)","v":159},{"$f":"IF('Classement auteurs'!M113=\"\",\"\",'Classement auteurs'!M113)","v":""},{"$f":"IF('Classement auteurs'!N113=\"\",\"\",'Classement auteurs'!N113)","v":""},{"$f":"IF('Classement auteurs'!O113=\"\",\"\",'Classement auteurs'!O113)","v":""},{"$f":"IF('Classement auteurs'!P113=\"\",\"\",'Classement auteurs'!P113)","v":""},{"$f":"IF('Classement auteurs'!Q113=\"\",\"\",'Classement auteurs'!Q113)","v":""},{"$f":"IF('Classement auteurs'!#REF!=\"\",\"\",'Classement auteurs'!#REF!)","v":{"$error":"#REF!"}}]
[null,{"$f":"'Classement auteurs'!$B114","v":131376011801},{"$f":"IFERROR(VLOOKUP($B114,'Défi-1'!$C$2:$J$200,8,FALSE),\"\")","v":48},{"$f":"IFERROR(VLOOKUP($B114,'Défi-2'!$C$2:$J$200,8,FALSE),\"\")","v":""},{"$f":"IFERROR(VLOOKUP($B114,'Défi-3'!$C$2:$J$200,8,FALSE),\"\")","v":""},{"$f":"IFERROR(VLOOKUP($B114,'Défi-4'!$C$2:$J$200,8,FALSE),\"\")","v":18},{"$f":"IFERROR(VLOOKUP($B114,'Défi-5'!$C$2:$J$200,8,FALSE),\"\")","v":46},{"$f":"IFERROR(VLOOKUP($B114,'Défi-6'!$C$2:$J$200,8,FALSE),\"\")","v":46},{"$f":"IFERROR(VLOOKUP($B114,'Défi-7'!$C$2:$J$200,8,FALSE),\"\")","v":""},158,null,"OK","KO","KO","OK","KO","KO","KO","OK",{"$error":"#REF!"},null,{"$f":"'Classement auteurs'!$B114","v":131376011801},{"$f":"IF('Classement auteurs'!K114=\"\",\"\",'Classement auteurs'!K114)","v":""},{"$f":"IF('Classement auteurs'!L114=\"\",\"\",'Classement auteurs'!L114)","v":158},{"$f":"IF('Classement auteurs'!M114=\"\",\"\",'Classement auteurs'!M114)","v":""},{"$f":"IF('Classement auteurs'!N114=\"\",\"\",'Classement auteurs'!N114)","v":""},{"$f":"IF('Classement auteurs'!O114=\"\",\"\",'Classement auteurs'!O114)","v":""},{"$f":"IF('Classement auteurs'!P114=\"\",\"\",'Classement auteurs'!P114)","v":""},{"$f":"IF('Classement auteurs'!Q114=\"\",\"\",'Classement auteurs'!Q114)","v":""},{"$f":"IF('Classement auteurs'!#REF!=\"\",\"\",'Classement auteurs'!#REF!)","v":{"$error":"#REF!"}}]
[null,{"$f":"'Classement auteurs'!$B115","v":131683000701},{"$f":"IFERROR(VLOOKUP($B115,'Défi-1'!$C$2:$J$200,8,FALSE),\"\")","v":32},{"$f":"IFERROR(VLOOKUP($B115,'Défi-2'!$C$2:$J$200,8,FALSE),\"\")","v":30},{"$f":"IFERROR(VLOOKUP($B115,'Défi-3'!$C$2:$J$200,8,FALSE),\"\")","v":48},{"$f":"IFERROR(VLOOKUP($B115,'Défi-4'!$C$2:$J$200,8,FALSE),\"\")","v":""},{"$f":"IFERROR(VLOOKUP($B115,'Défi-5'!$C$2:$J$200,8,FALSE),\"\")","v":""},{"$f":"IFERROR(VLOOKUP($B115,'Défi-6'!$C$2:$J$200,8,FALSE),\"\")","v":48},{"$f":"IFERROR(VLOOKUP($B115,'Défi-7'!$C$2:$J$200,8,FALSE),\"\")","v":""},158,null,"OK","KO","KO","KO","OK","OK","KO","OK",{"$error":"#REF!"},null,{"$f":"'Classement auteurs'!$B115","v":131683000701},{"$f":"IF('Classement auteurs'!K115=\"\",\"\",'Classement auteurs'!K115)","v":""},{"$f":"IF('Classement auteurs'!L115=\"\",\"\",'Classement auteurs'!L115)","v":158},{"$f":"IF('Classement auteurs'!M115=\"\",\"\",'Classement auteurs'!M115)","v":""},{"$f":"IF('Classement auteurs'!N115=\"\",\"\",'Classement auteurs'!N115)","v":""},{"$f":"IF('Classement auteurs'!O115=\"\",\"\",'Classement auteurs'!O115)","v":""},{"$f":"IF('Classement auteurs'!P115=\"\",\"\",'Classement auteurs'!P115)","v":""},{"$f":"IF('Classement auteurs'!Q115=\"\",\"\",'Classement auteurs'!Q115)","v":""},{"$f":"IF('Classement auteurs'!#REF!=\"\",\"\",'Classement auteurs'!#REF!)","v":{"$error":"#REF!"}}]
[null,{"$f":"'Classement auteurs'!$B116","v":131824003101},{"$f":"IFERROR(VLOOKUP($B116,'Défi-1'!$C$2:$J$200,8,FALSE),\"\")","v":42},{"$f":"IFERROR(VLOOKUP($B116,'Défi-2'!$C$2:$J$200,8,FALSE),\"\")","v":33},{"$f":"IFERROR(VLOOKUP($B116,'Défi-3'!$C$2:$J$200,8,FALSE),\"\")","v":41},{"$f":"IFERROR(VLOOKUP($B116,'Défi-4'!$C$2:$J$200,8,FALSE),\"\")","v":""},{"$f":"IFERROR(VLOOKUP($B116,'Défi-5'!$C$2:$J$200,8,FALSE),\"\")","v":""},{"$f":"IFERROR(VLOOKUP($B116,'Défi-6'!$C$2:$J$200,8,FALSE),\"\")","v":42},{"$f":"IFERROR(VLOOKUP($B116,'Défi-7'!$C$2:$J$200,8,FALSE),\"\")","v":""},158,null,"OK","KO","KO","KO","OK","OK","KO","OK",{"$error":"#REF!"},null,{"$f":"'Classement auteurs'!$B116","v":131824003101},{"$f":"IF('Classement auteurs'!K116=\"\",\"\",'Classement auteurs'!K116)","v":""},{"$f":"IF('Classement auteurs'!L116=\"\",\"\",'Classement auteurs'!L116)","v":158},{"$f":"IF('Classement auteurs'!M116=\"\",\"\",'Classement auteurs'!M116)","v":""},{"$f":"IF('Classement auteurs'!N116=\"\",\"\",'Classement auteurs'!N116)","v":""},{"$f":"IF('Classement auteurs'!O116=\"\",\"\",'Classement auteurs'!O116)","v":""},{"$f":"IF('Classement auteurs'!P116=\"\",\"\",'Classement auteurs'!P116)","v":""},{"$f":"IF('Classement auteurs'!Q116=\"\",\"\",'Classement auteurs'!Q116)","v":""},{"$f":"IF('Classement auteurs'!#REF!=\"\",\"\",'Classement auteurs'!#REF!)","v":{"$error":"#REF!"}}]
[null,{"$f":"'Classement auteurs'!$B117","v":131845002101},{"$f":"IFERROR(VLOOKUP($B117,'Défi-1'!$C$2:$J$200,8,FALSE),\"\")","v":38},{"$f":"IFERROR(VLOOKUP($B117,'Défi-2'!$C$2:$J$200,8,FALSE),\"\")","v":34},{"$f":"IFERROR(VLOOKUP($B117,'Défi-3'!$C$2:$J$200,8,FALSE),\"\")","v":42},{"$f":"IFERROR(VLOOKUP($B117,'Défi-4'!$C$2:$J$200,8,FALSE),\"\")","v":""},{"$f":"IFERROR(VLOOKUP($B117,'Défi-5'!$C$2:$J$200,8,FALSE),\"\")","v":44},{"$f":"IFERROR(VLOOKUP($B117,'Défi-6'!$C$2:$J$200,8,FALSE),\"\")","v":""},{"$f":"IFERROR(VLOOKUP($B117,'Défi-7'!$C$2:$J$200,8,FALSE),\"\")","v":""},158,null,"OK","KO","KO","KO","OK","KO","OK","OK",{"$error":"#REF!"},null,{"$f":"'Classement auteurs'!$B117","v":131845002101},{"$f":"IF('Classement auteurs'!K117=\"\",\"\",'Classement auteurs'!K117)","v":""},{"$f":"IF('Classement auteurs'!L117=\"\",\"\",'Classement auteurs'!L117)","v":158},{"$f":"IF('Classement auteurs'!M117=\"\",\"\",'Classement auteurs'!M117)","v":""},{"$f":"IF('Classement auteurs'!N117=\"\",\"\",'Classement auteurs'!N117)","v":""},{"$f":"IF('Classement auteurs'!O117=\"\",\"\",'Classement auteurs'!O117)","v":""},{"$f":"IF('Classement auteurs'!P117=\"\",\"\",'Classement auteurs'!P117)","v":""},{"$f":"IF('Classement auteurs'!Q117=\"\",\"\",'Classement auteurs'!Q117)","v":""},{"$f":"IF('Classement auteurs'!#REF!=\"\",\"\",'Classement auteurs'!#REF!)","v":{"$error":"#REF!"}}]
[null,{"$f":"'Classement auteurs'!$B118","v":130987002301},{"$f":"IFERROR(VLOOKUP($B118,'Défi-1'!$C$2:$J$200,8,FALSE),\"\")","v":""},{"$f":"IFERROR(VLOOKUP($B118,'Défi-2'!$C$2:$J$200,8,FALSE),\"\")","v":44},{"$f":"IFERROR(VLOOKUP($B118,'Défi-3'!$C$2:$J$200,8,FALSE),\"\")","v":40},{"$f":"IFERROR(VLOOKUP($B118,'Défi-4'!$C$2:$J$200,8,FALSE),\"\")","v":39},{"$f":"IFERROR(VLOOKUP($B118,'Défi-5'!$C$2:$J$200,8,FALSE),\"\")","v":34},{"$f":"IFERROR(VLOOKUP($B118,'Défi-6'!$C$2:$J$200,8,FALSE),\"\")","v":""},{"$f":"IFERROR(VLOOKUP($B118,'Défi-7'!$C$2:$J$200,8,FALSE),\"\")","v":""},157,null,"OK","OK","KO","KO","KO","KO","OK","OK",{"$error":"#REF!"},null,{"$f":"'Classement auteurs'!$B118","v":130987002301},{"$f":"IF('Classement auteurs'!K118=\"\",\"\",'Classement auteurs'!K118)","v":""},{"$f":"IF('Classement auteurs'!L118=\"\",\"\",'Classement auteurs'!L118)","v":157},{"$f":"IF('Classement auteurs'!M118=\"\",\"\",'Classement auteurs'!M118)","v":""},{"$f":"IF('Classement auteurs'!N118=\"\",\"\",'Classement auteurs'!N118)","v":""},{"$f":"IF('Classement auteurs'!O118=\"\",\"\",'Classement auteurs'!O118)","v":""},{"$f":"IF('Classement auteurs'!P118=\"\",\"\",'Classement auteurs'!P118)","v":""},{"$f":"IF('Classement auteurs'!Q118=\"\",\"\",'Classement auteurs'!Q118)","v":""},{"$f":"IF('Classement auteurs'!#REF!=\"\",\"\",'Classement auteurs'!#REF!)","v":{"$error":"#REF!"}}]
[null,{"$f":"'Classement auteurs'!$B119","v":130987014001},{"$f":"IFERROR(VLOOKUP($B119,'Défi-1'!$C$2:$J$200,8,FALSE),\"\")","v":48},{"$f":"IFERROR(VLOOKUP($B119,'Défi-2'!$C$2:$J$200,8,FALSE),\"\")","v":37},{"$f":"IFERROR(VLOOKUP($B119,'Défi-3'!$C$2:$J$200,8,FALSE),\"\")","v":23},{"$f":"IFERROR(VLOOKUP($B119,'Défi-4'!$C$2:$J$200,8,FALSE),\"\")","v":""},{"$f":"IFERROR(VLOOKUP($B119,'Défi-5'!$C$2:$J$200,8,FALSE),\"\")","v":""},{"$f":"IFERROR(VLOOKUP($B119,'Défi-6'!$C$2:$J$200,8,FALSE),\"\")","v":48},{"$f":"IFERROR(VLOOKUP($B119,'Défi-7'!$C$2:$J$200,8,FALSE),\"\")","v":""},156,null,"OK","KO","KO","KO","OK","OK","KO","OK",{"$error":"#REF!"},null,{"$f":"'Classement auteurs'!$B119","v":130987014001},{"$f":"IF('Classement auteurs'!K119=\"\",\"\",'Classement auteurs'!K119)","v":""},{"$f":"IF('Classement auteurs'!L119=\"\",\"\",'Classement auteurs'!L119)","v":156},{"$f":"IF('Classement auteurs'!M119=\"\",\"\",'Classement auteurs'!M119)","v":""},{"$f":"IF('Classement auteurs'!N119=\"\",\"\",'Classement auteurs'!N119)","v":""},{"$f":"IF('Classement auteurs'!O119=\"\",\"\",'Classement auteurs'!O119)","v":""},{"$f":"IF('Classement auteurs'!P119=\"\",\"\",'Classement auteurs'!P119)","v":""},{"$f":"IF('Classement auteurs'!Q119=\"\",\"\",'Classement auteurs'!Q119)","v":""},{"$f":"IF('Classement auteurs'!#REF!=\"\",\"\",'Classement auteurs'!#REF!)","v":{"$error":"#REF!"}}]
[null,{"$f":"'Classement auteurs'!$B120","v":131353007301},{"$f":"IFERROR(VLOOKUP($B120,'Défi-1'!$C$2:$J$200,8,FALSE),\"\")","v":""},{"$f":"IFERROR(VLOOKUP($B120,'Défi-2'!$C$2:$J$200,8,FALSE),\"\")","v":40},{"$f":"IFERROR(VLOOKUP($B120,'Défi-3'!$C$2:$J$200,8,FALSE),\"\")","v":38},{"$f":"IFERROR(VLOOKUP($B120,'Défi-4'!$C$2:$J$200,8,FALSE),\"\")","v":""},{"$f":"IFERROR(VLOOKUP($B120,'Défi-5'!$C$2:$J$200,8,FALSE),\"\")","v":38},{"$f":"IFERROR(VLOOKUP($B120,'Défi-6'!$C$2:$J$200,8,FALSE),\"\")","v":40},{"$f":"IFERROR(VLOOKUP($B120,'Défi-7'!$C$2:$J$200,8,FALSE),\"\")","v":""},156,null,"OK","OK","KO","KO","OK","KO","KO","OK",{"$error":"#REF!"},null,{"$f":"'Classement auteurs'!$B120","v":131353007301},{"$f":"IF('Classement auteurs'!K120=\"\",\"\",'Classement auteurs'!K120)","v":""},{"$f":"IF('Classement auteurs'!L120=\"\",\"\",'Classement auteurs'!L120)","v":156},{"$f":"IF('Classement auteurs'!M120=\"\",\"\",'Classement auteurs'!M120)","v":""},{"$f":"IF('Classement auteurs'!N120=\"\",\"\",'Classement auteurs'!N120)","v":""},{"$f":"IF('Classement auteurs'!O120=\"\",\"\",'Classement auteurs'!O120)","v":""},{"$f":"IF('Classement auteurs'!P120=\"\",\"\",'Classement auteurs'!P120)","v":""},{"$f":"IF('Classement auteurs'!Q120=\"\",\"\",'Classement auteurs'!Q120)","v":""},{"$f":"IF('Classement auteurs'!#REF!=\"\",\"\",'Classement auteurs'!#REF!)","v":{"$error":"#REF!"}}]
[null,{"$f":"'Classement auteurs'!$B121","v":131956003401},{"$f":"IFERROR(VLOOKUP($B121,'Défi-1'!$C$2:$J$200,8,FALSE),\"\")","v":37},{"$f":"IFERROR(VLOOKUP($B121,'Défi-2'!$C$2:$J$200,8,FALSE),\"\")","v":24},{"$f":"IFERROR(VLOOKUP($B121,'Défi-3'!$C$2:$J$200,8,FALSE),\"\")","v":34},{"$f":"IFERROR(VLOOKUP($B121,'Défi-4'!$C$2:$J$200,8,FALSE),\"\")","v":""},{"$f":"IFERROR(VLOOKUP($B121,'Défi-5'!$C$2:$J$200,8,FALSE),\"\")","v":33},{"$f":"IFERROR(VLOOKUP($B121,'Défi-6'!$C$2:$J$200,8,FALSE),\"\")","v":24},{"$f":"IFERROR(VLOOKUP($B121,'Défi-7'!$C$2:$J$200,8,FALSE),\"\")","v":""},152,null,"OK","KO","KO","KO","OK","KO","KO","OK",{"$error":"#REF!"},null,{"$f":"'Classement auteurs'!$B121","v":131956003401},{"$f":"IF('Classement auteurs'!K121=\"\",\"\",'Classement auteurs'!K121)","v":""},{"$f":"IF('Classement auteurs'!L121=\"\",\"\",'Classement auteurs'!L121)","v":152},{"$f":"IF('Classement auteurs'!M121=\"\",\"\",'Classement auteurs'!M121)","v":""},{"$f":"IF('Classement auteurs'!N121=\"\",\"\",'Classement auteurs'!N121)","v":""},{"$f":"IF('Classement auteurs'!O121=\"\",\"\",'Classement auteurs'!O121)","v":""},{"$f":"IF('Classement auteurs'!P121=\"\",\"\",'Classement auteurs'!P121)","v":""},{"$f":"IF('Classement auteurs'!Q121=\"\",\"\",'Classement auteurs'!Q121)","v":""},{"$f":"IF('Classement auteurs'!#REF!=\"\",\"\",'Classement auteurs'!#REF!)","v":{"$error":"#REF!"}}]
[null,{"$f":"'Classement auteurs'!$B122","v":131823006401},{"$f":"IFERROR(VLOOKUP($B122,'Défi-1'!$C$2:$J$200,8,FALSE),\"\")","v":""},{"$f":"IFERROR(VLOOKUP($B122,'Défi-2'!$C$2:$J$200,8,FALSE),\"\")","v":38},{"$f":"IFERROR(VLOOKUP($B122,'Défi-3'!$C$2:$J$200,8,FALSE),\"\")","v":39},{"$f":"IFERROR(VLOOKUP($B122,'Défi-4'!$C$2:$J$200,8,FALSE),\"\")","v":37},{"$f":"IFERROR(VLOOKUP($B122,'Défi-5'!$C$2:$J$200,8,FALSE),\"\")","v":37},{"$f":"IFERROR(VLOOKUP($B122,'Défi-6'!$C$2:$J$200,8,FALSE),\"\")","v":""},{"$f":"IFERROR(VLOOKUP($B122,'Défi-7'!$C$2:$J$200,8,FALSE),\"\")","v":""},151,null,"OK","OK","KO","KO","KO","KO","OK","OK",{"$error":"#REF!"},null,{"$f":"'Classement auteurs'!$B122","v":131823006401},{"$f":"IF('Classement auteurs'!K122=\"\",\"\",'Classement auteurs'!K122)","v":""},{"$f":"IF('Classement auteurs'!L122=\"\",\"\",'Classement auteurs'!L122)","v":151},{"$f":"IF('Classement auteurs'!M122=\"\",\"\",'Classement auteurs'!M122)","v":""},{"$f":"IF('Classement auteurs'!N122=\"\",\"\",'Classement auteurs'!N122)","v":""},{"$f":"IF('Classement auteurs'!O122=\"\",\"\",'Classement auteurs'!O122)","v":""},{"$f":"IF('Classement auteurs'!P122=\"\",\"\",'Classement auteurs'!P122)","v":""},{"$f":"IF('Classement auteurs'!Q122=\"\",\"\",'Classement auteurs'!Q122)","v":""},{"$f":"IF('Classement auteurs'!#REF!=\"\",\"\",'Classement auteurs'!#REF!)","v":{"$error":"#REF!"}}]
[null,{"$f":"'Classement auteurs'!$B123","v":131823007601},{"$f":"IFERROR(VLOOKUP($B123,'Défi-1'!$C$2:$J$200,8,FALSE),\"\")","v":33},{"$f":"IFERROR(VLOOKUP($B123,'Défi-2'!$C$2:$J$200,8,FALSE),\"\")","v":""},{"$f":"IFERROR(VLOOKUP($B123,'Défi-3'!$C$2:$J$200,8,FALSE),\"\")","v":40},{"$f":"IFERROR(VLOOKUP($B123,'Défi-4'!$C$2:$J$200,8,FALSE),\"\")","v":""},{"$f":"IFERROR(VLOOKUP($B123,'Défi-5'!$C$2:$J$200,8,FALSE),\"\")","v":30},{"$f":"IFERROR(VLOOKUP($B123,'Défi-6'!$C$2:$J$200,8,FALSE),\"\")","v":""},{"$f":"IFERROR(VLOOKUP($B123,'Défi-7'!$C$2:$J$200,8,FALSE),\"\")","v":43},146,null,"OK","KO","KO","KO","OK","KO","OK","KO",{"$error":"#REF!"},null,{"$f":"'Classement auteurs'!$B123","v":131823007601},{"$f":"IF('Classement auteurs'!K123=\"\",\"\",'Classement auteurs'!K123)","v":43},{"$f":"IF('Classement auteurs'!L123=\"\",\"\",'Classement auteurs'!L123)","v":146},{"$f":"IF('Classement auteurs'!M123=\"\",\"\",'Classement auteurs'!M123)","v":""},{"$f":"IF('Classement auteurs'!N123=\"\",\"\",'Classement auteurs'!N123)","v":""},{"$f":"IF('Classement auteurs'!O123=\"\",\"\",'Classement auteurs'!O123)","v":""},{"$f":"IF('Classement auteurs'!P123=\"\",\"\",'Classement auteurs'!P123)","v":""},{"$f":"IF('Classement auteurs'!Q123=\"\",\"\",'Classement auteurs'!Q123)","v":""},{"$f":"IF('Classement auteurs'!#REF!=\"\",\"\",'Classement auteurs'!#REF!)","v":{"$error":"#REF!"}}]
[null,{"$f":"'Classement auteurs'!$B124","v":132147000101},{"$f":"IFERROR(VLOOKUP($B124,'Défi-1'!$C$2:$J$200,8,FALSE),\"\")","v":""},{"$f":"IFERROR(VLOOKUP($B124,'Défi-2'!$C$2:$J$200,8,FALSE),\"\")","v":""},{"$f":"IFERROR(VLOOKUP($B124,'Défi-3'!$C$2:$J$200,8,FALSE),\"\")","v":""},{"$f":"IFERROR(VLOOKUP($B124,'Défi-4'!$C$2:$J$200,8,FALSE),\"\")","v":38},{"$f":"IFERROR(VLOOKUP($B124,'Défi-5'!$C$2:$J$200,8,FALSE),\"\")","v":36},{"$f":"IFERROR(VLOOKUP($B124,'Défi-6'!$C$2:$J$200,8,FALSE),\"\")","v":36},{"$f":"IFERROR(VLOOKUP($B124,'Défi-7'!$C$2:$J$200,8,FALSE),\"\")","v":35},145,null,"OK","KO","KO","OK","KO","KO","KO","KO",{"$error":"#REF!"},null,{"$f":"'Classement auteurs'!$B124","v":132147000101},{"$f":"IF('Classement auteurs'!K124=\"\",\"\",'Classement auteurs'!K124)","v":35},{"$f":"IF('Classement auteurs'!L124=\"\",\"\",'Classement auteurs'!L124)","v":145},{"$f":"IF('Classement auteurs'!M124=\"\",\"\",'Classement auteurs'!M124)","v":""},{"$f":"IF('Classement auteurs'!N124=\"\",\"\",'Classement auteurs'!N124)","v":""},{"$f":"IF('Classement auteurs'!O124=\"\",\"\",'Classement auteurs'!O124)","v":""},{"$f":"IF('Classement auteurs'!P124=\"\",\"\",'Classement auteurs'!P124)","v":""},{"$f":"IF('Classement auteurs'!Q124=\"\",\"\",'Classement auteurs'!Q124)","v":""},{"$f":"IF('Classement auteurs'!#REF!=\"\",\"\",'Classement auteurs'!#REF!)","v":{"$error":"#REF!"}}]
[null,{"$f":"'Classement auteurs'!$B125","v":132084000301},{"$f":"IFERROR(VLOOKUP($B125,'Défi-1'!$C$2:$J$200,8,FALSE),\"\")","v":""},{"$f":"IFERROR(VLOOKUP($B125,'Défi-2'!$C$2:$J$200,8,FALSE),\"\")","v":39},{"$f":"IFERROR(VLOOKUP($B125,'Défi-3'!$C$2:$J$200,8,FALSE),\"\")","v":40},{"$f":"IFERROR(VLOOKUP($B125,'Défi-4'!$C$2:$J$200,8,FALSE),\"\")","v":24},{"$f":"IFERROR(VLOOKUP($B125,'Défi-5'!$C$2:$J$200,8,FALSE),\"\")","v":""},{"$f":"IFERROR(VLOOKUP($B125,'Défi-6'!$C$2:$J$200,8,FALSE),\"\")","v":39},{"$f":"IFERROR(VLOOKUP($B125,'Défi-7'!$C$2:$J$200,8,FALSE),\"\")","v":""},142,null,"OK","OK","KO","KO","KO","OK","KO","OK",{"$error":"#REF!"},null,{"$f":"'Classement auteurs'!$B125","v":132084000301},{"$f":"IF('Classement auteurs'!K125=\"\",\"\",'Classement auteurs'!K125)","v":""},{"$f":"IF('Classement auteurs'!L125=\"\",\"\",'Classement auteurs'!L125)","v":142},{"$f":"IF('Classement auteurs'!M125=\"\",\"\",'Classement auteurs'!M125)","v":""},{"$f":"IF('Classement auteurs'!N125=\"\",\"\",'Classement auteurs'!N125)","v":""},{"$f":"IF('Classement auteurs'!O125=\"\",\"\",'Classement auteurs'!O125)","v":""},{"$f":"IF('Classement auteurs'!P125=\"\",\"\",'Classement auteurs'!P125)","v":""},{"$f":"IF('Classement auteurs'!Q125=\"\",\"\",'Classement auteurs'!Q125)","v":""},{"$f":"IF('Classement auteurs'!#REF!=\"\",\"\",'Classement auteurs'!#REF!)","v":{"$error":"#REF!"}}]
[null,{"$f":"'Classement auteurs'!$B126","v":132193000501},{"$f":"IFERROR(VLOOKUP($B126,'Défi-1'!$C$2:$J$200,8,FALSE),\"\")","v":""},{"$f":"IFERROR(VLOOKUP($B126,'Défi-2'!$C$2:$J$200,8,FALSE),\"\")","v":25},{"$f":"IFERROR(VLOOKUP($B126,'Défi-3'!$C$2:$J$200,8,FALSE),\"\")","v":""},{"$f":"IFERROR(VLOOKUP($B126,'Défi-4'!$C$2:$J$200,8,FALSE),\"\")","v":21},{"$f":"IFERROR(VLOOKUP($B126,'Défi-5'!$C$2:$J$200,8,FALSE),\"\")","v":41},{"$f":"IFERROR(VLOOKUP($B126,'Défi-6'!$C$2:$J$200,8,FALSE),\"\")","v":25},{"$f":"IFERROR(VLOOKUP($B126,'Défi-7'!$C$2:$J$200,8,FALSE),\"\")","v":30},142,null,"OK","KO","KO","OK","KO","KO","KO","KO",{"$error":"#REF!"},null,{"$f":"'Classement auteurs'!$B126","v":132193000501},{"$f":"IF('Classement auteurs'!K126=\"\",\"\",'Classement auteurs'!K126)","v":30},{"$f":"IF('Classement auteurs'!L126=\"\",\"\",'Classement auteurs'!L126)","v":142},{"$f":"IF('Classement auteurs'!M126=\"\",\"\",'Classement auteurs'!M126)","v":""},{"$f":"IF('Classement auteurs'!N126=\"\",\"\",'Classement auteurs'!N126)","v":""},{"$f":"IF('Classement auteurs'!O126=\"\",\"\",'Classement auteurs'!O126)","v":""},{"$f":"IF('Classement auteurs'!P126=\"\",\"\",'Classement auteurs'!P126)","v":""},{"$f":"IF('Classement auteurs'!Q126=\"\",\"\",'Classement auteurs'!Q126)","v":""},{"$f":"IF('Classement auteurs'!#REF!=\"\",\"\",'Classement auteurs'!#REF!)","v":{"$error":"#REF!"}}]
[null,{"$f":"'Classement auteurs'!$B127","v":131845000801},{"$f":"IFERROR(VLOOKUP($B127,'Défi-1'!$C$2:$J$200,8,FALSE),\"\")","v":36},{"$f":"IFERROR(VLOOKUP($B127,'Défi-2'!$C$2:$J$200,8,FALSE),\"\")","v":""},{"$f":"IFERROR(VLOOKUP($B127,'Défi-3'!$C$2:$J$200,8,FALSE),\"\")","v":""},{"$f":"IFERROR(VLOOKUP($B127,'Défi-4'!$C$2:$J$200,8,FALSE),\"\")","v":""},{"$f":"IFERROR(VLOOKUP($B127,'Défi-5'!$C$2:$J$200,8,FALSE),\"\")","v":34},{"$f":"IFERROR(VLOOKUP($B127,'Défi-6'!$C$2:$J$200,8,FALSE),\"\")","v":36},{"$f":"IFERROR(VLOOKUP($B127,'Défi-7'!$C$2:$J$200,8,FALSE),\"\")","v":34},140,null,"OK","KO","KO","OK","OK","KO","KO","KO",{"$error":"#REF!"},null,{"$f":"'Classement auteurs'!$B127","v":131845000801},{"$f":"IF('Classement auteurs'!K127=\"\",\"\",'Classement auteurs'!K127)","v":34},{"$f":"IF('Classement auteurs'!L127=\"\",\"\",'Classement auteurs'!L127)","v":140},{"$f":"IF('Classement auteurs'!M127=\"\",\"\",'Classement auteurs'!M127)","v":""},{"$f":"IF('Classement auteurs'!N127=\"\",\"\",'Classement auteurs'!N127)","v":""},{"$f":"IF('Classement auteurs'!O127=\"\",\"\",'Classement auteurs'!O127)","v":""},{"$f":"IF('Classement auteurs'!P127=\"\",\"\",'Classement auteurs'!P127)","v":""},{"$f":"IF('Classement auteurs'!Q127=\"\",\"\",'Classement auteurs'!Q127)","v":""},{"$f":"IF('Classement auteurs'!#REF!=\"\",\"\",'Classement auteurs'!#REF!)","v":{"$error":"#REF!"}}]
[null,{"$f":"'Classement auteurs'!$B128","v":132086002501},{"$f":"IFERROR(VLOOKUP($B128,'Défi-1'!$C$2:$J$200,8,FALSE),\"\")","v":38},{"$f":"IFERROR(VLOOKUP($B128,'Défi-2'!$C$2:$J$200,8,FALSE),\"\")","v":32},{"$f":"IFERROR(VLOOKUP($B128,'Défi-3'!$C$2:$J$200,8,FALSE),\"\")","v":38},{"$f":"IFERROR(VLOOKUP($B128,'Défi-4'!$C$2:$J$200,8,FALSE),\"\")","v":""},{"$f":"IFERROR(VLOOKUP($B128,'Défi-5'!$C$2:$J$200,8,FALSE),\"\")","v":""},{"$f":"IFERROR(VLOOKUP($B128,'Défi-6'!$C$2:$J$200,8,FALSE),\"\")","v":32},{"$f":"IFERROR(VLOOKUP($B128,'Défi-7'!$C$2:$J$200,8,FALSE),\"\")","v":""},140,null,"OK","KO","KO","KO","OK","OK","KO","OK",{"$error":"#REF!"},null,{"$f":"'Classement auteurs'!$B128","v":132086002501},{"$f":"IF('Classement auteurs'!K128=\"\",\"\",'Classement auteurs'!K128)","v":""},{"$f":"IF('Classement auteurs'!L128=\"\",\"\",'Classement auteurs'!L128)","v":140},{"$f":"IF('Classement auteurs'!M128=\"\",\"\",'Classement auteurs'!M128)","v":""},{"$f":"IF('Classement auteurs'!N128=\"\",\"\",'Classement auteurs'!N128)","v":""},{"$f":"IF('Classement auteurs'!O128=\"\",\"\",'Classement auteurs'!O128)","v":""},{"$f":"IF('Classement auteurs'!P128=\"\",\"\",'Classement auteurs'!P128)","v":""},{"$f":"IF('Classement auteurs'!Q128=\"\",\"\",'Classement auteurs'!Q128)","v":""},{"$f":"IF('Classement auteurs'!#REF!=\"\",\"\",'Classement auteurs'!#REF!)","v":{"$error":"#REF!"}}]
[null,{"$f":"'Classement auteurs'!$B129","v":130925008601},{"$f":"IFERROR(VLOOKUP($B129,'Défi-1'!$C$2:$J$200,8,FALSE),\"\")","v":33},{"$f":"IFERROR(VLOOKUP($B129,'Défi-2'!$C$2:$J$200,8,FALSE),\"\")","v":36},{"$f":"IFERROR(VLOOKUP($B129,'Défi-3'!$C$2:$J$200,8,FALSE),\"\")","v":34},{"$f":"IFERROR(VLOOKUP($B129,'Défi-4'!$C$2:$J$200,8,FALSE),\"\")","v":""},{"$f":"IFERROR(VLOOKUP($B129,'Défi-5'!$C$2:$J$200,8,FALSE),\"\")","v":""},{"$f":"IFERROR(VLOOKUP($B129,'Défi-6'!$C$2:$J$200,8,FALSE),\"\")","v":36},{"$f":"IFERROR(VLOOKUP($B129,'Défi-7'!$C$2:$J$200,8,FALSE),\"\")","v":""},139,null,"OK","KO","KO","KO","OK","OK","KO","OK",{"$error":"#REF!"},null,{"$f":"'Classement auteurs'!$B129","v":130925008601},{"$f":"IF('Classement auteurs'!K129=\"\",\"\",'Classement auteurs'!K129)","v":""},{"$f":"IF('Classement auteurs'!L129=\"\",\"\",'Classement auteurs'!L129)","v":139},{"$f":"IF('Classement auteurs'!M129=\"\",\"\",'Classement auteurs'!M129)","v":""},{"$f":"IF('Classement auteurs'!N129=\"\",\"\",'Classement auteurs'!N129)","v":""},{"$f":"IF('Classement auteurs'!O129=\"\",\"\",'Classement auteurs'!O129)","v":""},{"$f":"IF('Classement auteurs'!P129=\"\",\"\",'Classement auteurs'!P129)","v":""},{"$f":"IF('Classement auteurs'!Q129=\"\",\"\",'Classement auteurs'!Q129)","v":""},{"$f":"IF('Classement auteurs'!#REF!=\"\",\"\",'Classement auteurs'!#REF!)","v":{"$error":"#REF!"}}]
[null,{"$f":"'Classement auteurs'!$B130","v":131845002501},{"$f":"IFERROR(VLOOKUP($B130,'Défi-1'!$C$2:$J$200,8,FALSE),\"\")","v":30},{"$f":"IFERROR(VLOOKUP($B130,'Défi-2'!$C$2:$J$200,8,FALSE),\"\")","v":41},{"$f":"IFERROR(VLOOKUP($B130,'Défi-3'!$C$2:$J$200,8,FALSE),\"\")","v":32},{"$f":"IFERROR(VLOOKUP($B130,'Défi-4'!$C$2:$J$200,8,FALSE),\"\")","v":""},{"$f":"IFERROR(VLOOKUP($B130,'Défi-5'!$C$2:$J$200,8,FALSE),\"\")","v":""},{"$f":"IFERROR(VLOOKUP($B130,'Défi-6'!$C$2:$J$200,8,FALSE),\"\")","v":""},{"$f":"IFERROR(VLOOKUP($B130,'Défi-7'!$C$2:$J$200,8,FALSE),\"\")","v":36},139,null,"OK","KO","KO","KO","OK","OK","OK","KO",{"$error":"#REF!"},null,{"$f":"'Classement auteurs'!$B130","v":131845002501},{"$f":"IF('Classement auteurs'!K130=\"\",\"\",'Classement auteurs'!K130)","v":36},{"$f":"IF('Classement auteurs'!L130=\"\",\"\",'Classement auteurs'!L130)","v":139},{"$f":"IF('Classement auteurs'!M130=\"\",\"\",'Classement auteurs'!M130)","v":""},{"$f":"IF('Classement auteurs'!N130=\"\",\"\",'Classement auteurs'!N130)","v":""},{"$f":"IF('Classement auteurs'!O130=\"\",\"\",'Classement auteurs'!O130)","v":""},{"$f":"IF('Classement auteurs'!P130=\"\",\"\",'Classement auteurs'!P130)","v":""},{"$f":"IF('Classement auteurs'!Q130=\"\",\"\",'Classement auteurs'!Q130)","v":""},{"$f":"IF('Classement auteurs'!#REF!=\"\",\"\",'Classement auteurs'!#REF!)","v":{"$error":"#REF!"}}]
[null,{"$f":"'Classement auteurs'!$B131","v":131499009301},{"$f":"IFERROR(VLOOKUP($B131,'Défi-1'!$C$2:$J$200,8,FALSE),\"\")","v":29},{"$f":"IFERROR(VLOOKUP($B131,'Défi-2'!$C$2:$J$200,8,FALSE),\"\")","v":""},{"$f":"IFERROR(VLOOKUP($B131,'Défi-3'!$C$2:$J$200,8,FALSE),\"\")","v":35},{"$f":"IFERROR(VLOOKUP($B131,'Défi-4'!$C$2:$J$200,8,FALSE),\"\")","v":""},{"$f":"IFERROR(VLOOKUP($B131,'Défi-5'!$C$2:$J$200,8,FALSE),\"\")","v":""},{"$f":"IFERROR(VLOOKUP($B131,'Défi-6'!$C$2:$J$200,8,FALSE),\"\")","v":35},{"$f":"IFERROR(VLOOKUP($B131,'Défi-7'!$C$2:$J$200,8,FALSE),\"\")","v":39},{"$f":"SUM(C131:I131)","v":138},null,{"$f":"IF(B131=V131,\"OK\",\"KO\")","v":"OK"},{"$f":"IF(C131=W131,\"OK\",\"KO\")","v":"KO"},{"$f":"IF(D131=X131,\"OK\",\"KO\")","v":"KO"},{"$f":"IF(E131=Y131,\"OK\",\"KO\")","v":"KO"},{"$f":"IF(F131=Z131,\"OK\",\"KO\")","v":"OK"},{"$f":"IF(G131=AA131,\"OK\",\"KO\")","v":"OK"},{"$f":"IF(H131=AB131,\"OK\",\"KO\")","v":"KO"},{"$f":"IF(I131=AC131,\"OK\",\"KO\")","v":"KO"},{"$f":"IF(J131=AD131,\"OK\",\"KO\")","v":{"$error":"#REF!"}},null,{"$f":"'Classement auteurs'!$B131","v":131499009301},{"$f":"IF('Classement auteurs'!K131=\"\",\"\",'Classement auteurs'!K131)","v":39},{"$f":"IF('Classement auteurs'!L131=\"\",\"\",'Classement auteurs'!L131)","v":138},{"$f":"IF('Classement auteurs'!M131=\"\",\"\",'Classement auteurs'!M131)","v":""},{"$f":"IF('Classement auteurs'!N131=\"\",\"\",'Classement auteurs'!N131)","v":""},{"$f":"IF('Classement auteurs'!O131=\"\",\"\",'Classement auteurs'!O131)","v":""},{"$f":"IF('Classement auteurs'!P131=\"\",\"\",'Classement auteurs'!P131)","v":""},{"$f":"IF('Classement auteurs'!Q131=\"\",\"\",'Classement auteurs'!Q131)","v":""},{"$f":"IF('Classement auteurs'!#REF!=\"\",\"\",'Classement auteurs'!#REF!)","v":{"$error":"#REF!"}}]
[null,{"$f":"'Classement auteurs'!$B132","v":131823005701},{"$f":"IFERROR(VLOOKUP($B132,'Défi-1'!$C$2:$J$200,8,FALSE),\"\")","v":36},{"$f":"IFERROR(VLOOKUP($B132,'Défi-2'!$C$2:$J$200,8,FALSE),\"\")","v":28},{"$f":"IFERROR(VLOOKUP($B132,'Défi-3'!$C$2:$J$200,8,FALSE),\"\")","v":37},{"$f":"IFERROR(VLOOKUP($B132,'Défi-4'!$C$2:$J$200,8,FALSE),\"\")","v":""},{"$f":"IFERROR(VLOOKUP($B132,'Défi-5'!$C$2:$J$200,8,FALSE),\"\")","v":""},{"$f":"IFERROR(VLOOKUP($B132,'Défi-6'!$C$2:$J$200,8,FALSE),\"\")","v":""},{"$f":"IFERROR(VLOOKUP($B132,'Défi-7'!$C$2:$J$200,8,FALSE),\"\")","v":37},138,null,"OK","KO","KO","KO","OK","OK","OK","KO",{"$error":"#REF!"},null,{"$f":"'Classement auteurs'!$B132","v":131823005701},{"$f":"IF('Classement auteurs'!K132=\"\",\"\",'Classement auteurs'!K132)","v":37},{"$f":"IF('Classement auteurs'!L132=\"\",\"\",'Classement auteurs'!L132)","v":138},{"$f":"IF('Classement auteurs'!M132=\"\",\"\",'Classement auteurs'!M132)","v":""},{"$f":"IF('Classement auteurs'!N132=\"\",\"\",'Classement auteurs'!N132)","v":""},{"$f":"IF('Classement auteurs'!O132=\"\",\"\",'Classement auteurs'!O132)","v":""},{"$f":"IF('Classement auteurs'!P132=\"\",\"\",'Classement auteurs'!P132)","v":""},{"$f":"IF('Classement auteurs'!Q132=\"\",\"\",'Classement auteurs'!Q132)","v":""},{"$f":"IF('Classement auteurs'!#REF!=\"\",\"\",'Classement auteurs'!#REF!)","v":{"$error":"#REF!"}}]
[null,{"$f":"'Classement auteurs'!$B133","v":131353007101},{"$f":"IFERROR(VLOOKUP($B133,'Défi-1'!$C$2:$J$200,8,FALSE),\"\")","v":37},{"$f":"IFERROR(VLOOKUP($B133,'Défi-2'!$C$2:$J$200,8,FALSE),\"\")","v":30},{"$f":"IFERROR(VLOOKUP($B133,'Défi-3'!$C$2:$J$200,8,FALSE),\"\")","v":33},{"$f":"IFERROR(VLOOKUP($B133,'Défi-4'!$C$2:$J$200,8,FALSE),\"\")","v":""},{"$f":"IFERROR(VLOOKUP($B133,'Défi-5'!$C$2:$J$200,8,FALSE),\"\")","v":37},{"$f":"IFERROR(VLOOKUP($B133,'Défi-6'!$C$2:$J$200,8,FALSE),\"\")","v":""},{"$f":"IFERROR(VLOOKUP($B133,'Défi-7'!$C$2:$J$200,8,FALSE),\"\")","v":""},137,null,"OK","KO","KO","KO","OK","KO","OK","OK",{"$error":"#REF!"},null,{"$f":"'Classement auteurs'!$B133","v":131353007101},{"$f":"IF('Classement auteurs'!K133=\"\",\"\",'Classement auteurs'!K133)","v":""},{"$f":"IF('Classement auteurs'!L133=\"\",\"\",'Classement auteurs'!L133)","v":137},{"$f":"IF('Classement auteurs'!M133=\"\",\"\",'Classement auteurs'!M133)","v":""},{"$f":"IF('Classement auteurs'!N133=\"\",\"\",'Classement auteurs'!N133)","v":""},{"$f":"IF('Classement auteurs'!O133=\"\",\"\",'Classement auteurs'!O133)","v":""},{"$f":"IF('Classement auteurs'!P133=\"\",\"\",'Classement auteurs'!P133)","v":""},{"$f":"IF('Classement auteurs'!Q133=\"\",\"\",'Classement auteurs'!Q133)","v":""},{"$f":"IF('Classement auteurs'!#REF!=\"\",\"\",'Classement auteurs'!#REF!)","v":{"$error":"#REF!"}}]
[null,{"$f":"'Classement auteurs'!$B134","v":132086002601},{"$f":"IFERROR(VLOOKUP($B134,'Défi-1'!$C$2:$J$200,8,FALSE),\"\")","v":32},{"$f":"IFERROR(VLOOKUP($B134,'Défi-2'!$C$2:$J$200,8,FALSE),\"\")","v":26},{"$f":"IFERROR(VLOOKUP($B134,'Défi-3'!$C$2:$J$200,8,FALSE),\"\")","v":""},{"$f":"IFERROR(VLOOKUP($B134,'Défi-4'!$C$2:$J$200,8,FALSE),\"\")","v":39},{"$f":"IFERROR(VLOOKUP($B134,'Défi-5'!$C$2:$J$200,8,FALSE),\"\")","v":40},{"$f":"IFERROR(VLOOKUP($B134,'Défi-6'!$C$2:$J$200,8,FALSE),\"\")","v":""},{"$f":"IFERROR(VLOOKUP($B134,'Défi-7'!$C$2:$J$200,8,FALSE),\"\")","v":""},137,null,"OK","KO","KO","OK","KO","KO","OK","OK",{"$error":"#REF!"},null,{"$f":"'Classement auteurs'!$B134","v":132086002601},{"$f":"IF('Classement auteurs'!K134=\"\",\"\",'Classement auteurs'!K134)","v":""},{"$f":"IF('Classement auteurs'!L134=\"\",\"\",'Classement auteurs'!L134)","v":137},{"$f":"IF('Classement auteurs'!M134=\"\",\"\",'Classement auteurs'!M134)","v":""},{"$f":"IF('Classement auteurs'!N134=\"\",\"\",'Classement auteurs'!N134)","v":""},{"$f":"IF('Classement auteurs'!O134=\"\",\"\",'Classement auteurs'!O134)","v":""},{"$f":"IF('Classement auteurs'!P134=\"\",\"\",'Classement auteurs'!P134)","v":""},{"$f":"IF('Classement auteurs'!Q134=\"\",\"\",'Classement auteurs'!Q134)","v":""},{"$f":"IF('Classement auteurs'!#REF!=\"\",\"\",'Classement auteurs'!#REF!)","v":{"$error":"#REF!"}}]
[null,{"$f":"'Classement auteurs'!$B135","v":130878013601},{"$f":"IFERROR(VLOOKUP($B135,'Défi-1'!$C$2:$J$200,8,FALSE),\"\")","v":""},{"$f":"IFERROR(VLOOKUP($B135,'Défi-2'!$C$2:$J$200,8,FALSE),\"\")","v":34},{"$f":"IFERROR(VLOOKUP($B135,'Défi-3'!$C$2:$J$200,8,FALSE),\"\")","v":""},{"$f":"IFERROR(VLOOKUP($B135,'Défi-4'!$C$2:$J$200,8,FALSE),\"\")","v":""},{"$f":"IFERROR(VLOOKUP($B135,'Défi-5'!$C$2:$J$200,8,FALSE),\"\")","v":34},{"$f":"IFERROR(VLOOKUP($B135,'Défi-6'!$C$2:$J$200,8,FALSE),\"\")","v":34},{"$f":"IFERROR(VLOOKUP($B135,'Défi-7'!$C$2:$J$200,8,FALSE),\"\")","v":33},135,null,"OK","KO","KO","OK","OK","KO","KO","KO",{"$error":"#REF!"},null,{"$f":"'Classement auteurs'!$B135","v":130878013601},{"$f":"IF('Classement auteurs'!K135=\"\",\"\",'Classement auteurs'!K135)","v":33},{"$f":"IF('Classement auteurs'!L135=\"\",\"\",'Classement auteurs'!L135)","v":135},{"$f":"IF('Classement auteurs'!M135=\"\",\"\",'Classement auteurs'!M135)","v":""},{"$f":"IF('Classement auteurs'!N135=\"\",\"\",'Classement auteurs'!N135)","v":""},{"$f":"IF('Classement auteurs'!O135=\"\",\"\",'Classement auteurs'!O135)","v":""},{"$f":"IF('Classement auteurs'!P135=\"\",\"\",'Classement auteurs'!P135)","v":""},{"$f":"IF('Classement auteurs'!Q135=\"\",\"\",'Classement auteurs'!Q135)","v":""},{"$f":"IF('Classement auteurs'!#REF!=\"\",\"\",'Classement auteurs'!#REF!)","v":{"$error":"#REF!"}}]
[null,{"$f":"'Classement auteurs'!$B136","v":131862000801},{"$f":"IFERROR(VLOOKUP($B136,'Défi-1'!$C$2:$J$200,8,FALSE),\"\")","v":51},{"$f":"IFERROR(VLOOKUP($B136,'Défi-2'!$C$2:$J$200,8,FALSE),\"\")","v":24},{"$f":"IFERROR(VLOOKUP($B136,'Défi-3'!$C$2:$J$200,8,FALSE),\"\")","v":36},{"$f":"IFERROR(VLOOKUP($B136,'Défi-4'!$C$2:$J$200,8,FALSE),\"\")","v":""},{"$f":"IFERROR(VLOOKUP($B136,'Défi-5'!$C$2:$J$200,8,FALSE),\"\")","v":""},{"$f":"IFERROR(VLOOKUP($B136,'Défi-6'!$C$2:$J$200,8,FALSE),\"\")","v":24},{"$f":"IFERROR(VLOOKUP($B136,'Défi-7'!$C$2:$J$200,8,FALSE),\"\")","v":""},135,null,"OK","KO","KO","KO","OK","OK","KO","OK",{"$error":"#REF!"},null,{"$f":"'Classement auteurs'!$B136","v":131862000801},{"$f":"IF('Classement auteurs'!K136=\"\",\"\",'Classement auteurs'!K136)","v":""},{"$f":"IF('Classement auteurs'!L136=\"\",\"\",'Classement auteurs'!L136)","v":135},{"$f":"IF('Classement auteurs'!M136=\"\",\"\",'Classement auteurs'!M136)","v":""},{"$f":"IF('Classement auteurs'!N136=\"\",\"\",'Classement auteurs'!N136)","v":""},{"$f":"IF('Classement auteurs'!O136=\"\",\"\",'Classement auteurs'!O136)","v":""},{"$f":"IF('Classement auteurs'!P136=\"\",\"\",'Classement auteurs'!P136)","v":""},{"$f":"IF('Classement auteurs'!Q136=\"\",\"\",'Classement auteurs'!Q136)","v":""},{"$f":"IF('Classement auteurs'!#REF!=\"\",\"\",'Classement auteurs'!#REF!)","v":{"$error":"#REF!"}}]
[null,{"$f":"'Classement auteurs'!$B137","v":132089000101},{"$f":"IFERROR(VLOOKUP($B137,'Défi-1'!$C$2:$J$200,8,FALSE),\"\")","v":36},{"$f":"IFERROR(VLOOKUP($B137,'Défi-2'!$C$2:$J$200,8,FALSE),\"\")","v":29},{"$f":"IFERROR(VLOOKUP($B137,'Défi-3'!$C$2:$J$200,8,FALSE),\"\")","v":""},{"$f":"IFERROR(VLOOKUP($B137,'Défi-4'!$C$2:$J$200,8,FALSE),\"\")","v":""},{"$f":"IFERROR(VLOOKUP($B137,'Défi-5'!$C$2:$J$200,8,FALSE),\"\")","v":36},{"$f":"IFERROR(VLOOKUP($B137,'Défi-6'!$C$2:$J$200,8,FALSE),\"\")","v":""},{"$f":"IFERROR(VLOOKUP($B137,'Défi-7'!$C$2:$J$200,8,FALSE),\"\")","v":34},135,null,"OK","KO","KO","OK","OK","KO","OK","KO",{"$error":"#REF!"},null,{"$f":"'Classement auteurs'!$B137","v":132089000101},{"$f":"IF('Classement auteurs'!K137=\"\",\"\",'Classement auteurs'!K137)","v":34},{"$f":"IF('Classement auteurs'!L137=\"\",\"\",'Classement auteurs'!L137)","v":135},{"$f":"IF('Classement auteurs'!M137=\"\",\"\",'Classement auteurs'!M137)","v":""},{"$f":"IF('Classement auteurs'!N137=\"\",\"\",'Classement auteurs'!N137)","v":""},{"$f":"IF('Classement auteurs'!O137=\"\",\"\",'Classement auteurs'!O137)","v":""},{"$f":"IF('Classement auteurs'!P137=\"\",\"\",'Classement auteurs'!P137)","v":""},{"$f":"IF('Classement auteurs'!Q137=\"\",\"\",'Classement auteurs'!Q137)","v":""},{"$f":"IF('Classement auteurs'!#REF!=\"\",\"\",'Classement auteurs'!#REF!)","v":{"$error":"#REF!"}}]
[null,{"$f":"'Classement auteurs'!$B138","v":132060002201},{"$f":"IFERROR(VLOOKUP($B138,'Défi-1'!$C$2:$J$200,8,FALSE),\"\")","v":41},{"$f":"IFERROR(VLOOKUP($B138,'Défi-2'!$C$2:$J$200,8,FALSE),\"\")","v":29},{"$f":"IFERROR(VLOOKUP($B138,'Défi-3'!$C$2:$J$200,8,FALSE),\"\")","v":36},{"$f":"IFERROR(VLOOKUP($B138,'Défi-4'!$C$2:$J$200,8,FALSE),\"\")","v":""},{"$f":"IFERROR(VLOOKUP($B138,'Défi-5'!$C$2:$J$200,8,FALSE),\"\")","v":""},{"$f":"IFERROR(VLOOKUP($B138,'Défi-6'!$C$2:$J$200,8,FALSE),\"\")","v":""},{"$f":"IFERROR(VLOOKUP($B138,'Défi-7'!$C$2:$J$200,8,FALSE),\"\")","v":27},133,null,"OK","KO","KO","KO","OK","OK","OK","KO",{"$error":"#REF!"},null,{"$f":"'Classement auteurs'!$B138","v":132060002201},{"$f":"IF('Classement auteurs'!K138=\"\",\"\",'Classement auteurs'!K138)","v":27},{"$f":"IF('Classement auteurs'!L138=\"\",\"\",'Classement auteurs'!L138)","v":133},{"$f":"IF('Classement auteurs'!M138=\"\",\"\",'Classement auteurs'!M138)","v":""},{"$f":"IF('Classement auteurs'!N138=\"\",\"\",'Classement auteurs'!N138)","v":""},{"$f":"IF('Classement auteurs'!O138=\"\",\"\",'Classement auteurs'!O138)","v":""},{"$f":"IF('Classement auteurs'!P138=\"\",\"\",'Classement auteurs'!P138)","v":""},{"$f":"IF('Classement auteurs'!Q138=\"\",\"\",'Classement auteurs'!Q138)","v":""},{"$f":"IF('Classement auteurs'!#REF!=\"\",\"\",'Classement auteurs'!#REF!)","v":{"$error":"#REF!"}}]
[null,{"$f":"'Classement auteurs'!$B139","v":132103000101},{"$f":"IFERROR(VLOOKUP($B139,'Défi-1'!$C$2:$J$200,8,FALSE),\"\")","v":""},{"$f":"IFERROR(VLOOKUP($B139,'Défi-2'!$C$2:$J$200,8,FALSE),\"\")","v":23},{"$f":"IFERROR(VLOOKUP($B139,'Défi-3'!$C$2:$J$200,8,FALSE),\"\")","v":55},{"$f":"IFERROR(VLOOKUP($B139,'Défi-4'!$C$2:$J$200,8,FALSE),\"\")","v":""},{"$f":"IFERROR(VLOOKUP($B139,'Défi-5'!$C$2:$J$200,8,FALSE),\"\")","v":""},{"$f":"IFERROR(VLOOKUP($B139,'Défi-6'!$C$2:$J$200,8,FALSE),\"\")","v":55},{"$f":"IFERROR(VLOOKUP($B139,'Défi-7'!$C$2:$J$200,8,FALSE),\"\")","v":""},133,null,"OK","OK","KO","KO","OK","OK","KO","OK",{"$error":"#REF!"},null,{"$f":"'Classement auteurs'!$B139","v":132103000101},{"$f":"IF('Classement auteurs'!K139=\"\",\"\",'Classement auteurs'!K139)","v":""},{"$f":"IF('Classement auteurs'!L139=\"\",\"\",'Classement auteurs'!L139)","v":133},{"$f":"IF('Classement auteurs'!M139=\"\",\"\",'Classement auteurs'!M139)","v":""},{"$f":"IF('Classement auteurs'!N139=\"\",\"\",'Classement auteurs'!N139)","v":""},{"$f":"IF('Classement auteurs'!O139=\"\",\"\",'Classement auteurs'!O139)","v":""},{"$f":"IF('Classement auteurs'!P139=\"\",\"\",'Classement auteurs'!P139)","v":""},{"$f":"IF('Classement auteurs'!Q139=\"\",\"\",'Classement auteurs'!Q139)","v":""},{"$f":"IF('Classement auteurs'!#REF!=\"\",\"\",'Classement auteurs'!#REF!)","v":{"$error":"#REF!"}}]
[null,{"$f":"'Classement auteurs'!$B140","v":132023000101},{"$f":"IFERROR(VLOOKUP($B140,'Défi-1'!$C$2:$J$200,8,FALSE),\"\")","v":""},{"$f":"IFERROR(VLOOKUP($B140,'Défi-2'!$C$2:$J$200,8,FALSE),\"\")","v":18},{"$f":"IFERROR(VLOOKUP($B140,'Défi-3'!$C$2:$J$200,8,FALSE),\"\")","v":38},{"$f":"IFERROR(VLOOKUP($B140,'Défi-4'!$C$2:$J$200,8,FALSE),\"\")","v":""},{"$f":"IFERROR(VLOOKUP($B140,'Défi-5'!$C$2:$J$200,8,FALSE),\"\")","v":36},{"$f":"IFERROR(VLOOKUP($B140,'Défi-6'!$C$2:$J$200,8,FALSE),\"\")","v":38},{"$f":"IFERROR(VLOOKUP($B140,'Défi-7'!$C$2:$J$200,8,FALSE),\"\")","v":""},130,null,"OK","OK","KO","KO","OK","KO","KO","OK",{"$error":"#REF!"},null,{"$f":"'Classement auteurs'!$B140","v":132023000101},{"$f":"IF('Classement auteurs'!K140=\"\",\"\",'Classement auteurs'!K140)","v":""},{"$f":"IF('Classement auteurs'!L140=\"\",\"\",'Classement auteurs'!L140)","v":130},{"$f":"IF('Classement auteurs'!M140=\"\",\"\",'Classement auteurs'!M140)","v":""},{"$f":"IF('Classement auteurs'!N140=\"\",\"\",'Classement auteurs'!N140)","v":""},{"$f":"IF('Classement auteurs'!O140=\"\",\"\",'Classement auteurs'!O140)","v":""},{"$f":"IF('Classement auteurs'!P140=\"\",\"\",'Classement auteurs'!P140)","v":""},{"$f":"IF('Classement auteurs'!Q140=\"\",\"\",'Classement auteurs'!Q140)","v":""},{"$f":"IF('Classement auteurs'!#REF!=\"\",\"\",'Classement auteurs'!#REF!)","v":{"$error":"#REF!"}}]
[null,{"$f":"'Classement auteurs'!$B141","v":132089000201},{"$f":"IFERROR(VLOOKUP($B141,'Défi-1'!$C$2:$J$200,8,FALSE),\"\")","v":24},{"$f":"IFERROR(VLOOKUP($B141,'Défi-2'!$C$2:$J$200,8,FALSE),\"\")","v":31},{"$f":"IFERROR(VLOOKUP($B141,'Défi-3'!$C$2:$J$200,8,FALSE),\"\")","v":43},{"$f":"IFERROR(VLOOKUP($B141,'Défi-4'!$C$2:$J$200,8,FALSE),\"\")","v":""},{"$f":"IFERROR(VLOOKUP($B141,'Défi-5'!$C$2:$J$200,8,FALSE),\"\")","v":""},{"$f":"IFERROR(VLOOKUP($B141,'Défi-6'!$C$2:$J$200,8,FALSE),\"\")","v":31},{"$f":"IFERROR(VLOOKUP($B141,'Défi-7'!$C$2:$J$200,8,FALSE),\"\")","v":""},129,null,"OK","KO","KO","KO","OK","OK","KO","OK",{"$error":"#REF!"},null,{"$f":"'Classement auteurs'!$B141","v":132089000201},{"$f":"IF('Classement auteurs'!K141=\"\",\"\",'Classement auteurs'!K141)","v":""},{"$f":"IF('Classement auteurs'!L141=\"\",\"\",'Classement auteurs'!L141)","v":129},{"$f":"IF('Classement auteurs'!M141=\"\",\"\",'Classement auteurs'!M141)","v":""},{"$f":"IF('Classement auteurs'!N141=\"\",\"\",'Classement auteurs'!N141)","v":""},{"$f":"IF('Classement auteurs'!O141=\"\",\"\",'Classement auteurs'!O141)","v":""},{"$f":"IF('Classement auteurs'!P141=\"\",\"\",'Classement auteurs'!P141)","v":""},{"$f":"IF('Classement auteurs'!Q141=\"\",\"\",'Classement auteurs'!Q141)","v":""},{"$f":"IF('Classement auteurs'!#REF!=\"\",\"\",'Classement auteurs'!#REF!)","v":{"$error":"#REF!"}}]
[null,{"$f":"'Classement auteurs'!$B142","v":132060000801},{"$f":"IFERROR(VLOOKUP($B142,'Défi-1'!$C$2:$J$200,8,FALSE),\"\")","v":30},{"$f":"IFERROR(VLOOKUP($B142,'Défi-2'!$C$2:$J$200,8,FALSE),\"\")","v":32},{"$f":"IFERROR(VLOOKUP($B142,'Défi-3'!$C$2:$J$200,8,FALSE),\"\")","v":33},{"$f":"IFERROR(VLOOKUP($B142,'Défi-4'!$C$2:$J$200,8,FALSE),\"\")","v":33},{"$f":"IFERROR(VLOOKUP($B142,'Défi-5'!$C$2:$J$200,8,FALSE),\"\")","v":""},{"$f":"IFERROR(VLOOKUP($B142,'Défi-6'!$C$2:$J$200,8,FALSE),\"\")","v":""},{"$f":"IFERROR(VLOOKUP($B142,'Défi-7'!$C$2:$J$200,8,FALSE),\"\")","v":""},128,null,"OK","KO","KO","KO","KO","OK","OK","OK",{"$error":"#REF!"},null,{"$f":"'Classement auteurs'!$B142","v":132060000801},{"$f":"IF('Classement auteurs'!K142=\"\",\"\",'Classement auteurs'!K142)","v":""},{"$f":"IF('Classement auteurs'!L142=\"\",\"\",'Classement auteurs'!L142)","v":128},{"$f":"IF('Classement auteurs'!M142=\"\",\"\",'Classement auteurs'!M142)","v":""},{"$f":"IF('Classement auteurs'!N142=\"\",\"\",'Classement auteurs'!N142)","v":""},{"$f":"IF('Classement auteurs'!O142=\"\",\"\",'Classement auteurs'!O142)","v":""},{"$f":"IF('Classement auteurs'!P142=\"\",\"\",'Classement auteurs'!P142)","v":""},{"$f":"IF('Classement auteurs'!Q142=\"\",\"\",'Classement auteurs'!Q142)","v":""},{"$f":"IF('Classement auteurs'!#REF!=\"\",\"\",'Classement auteurs'!#REF!)","v":{"$error":"#REF!"}}]
[null,{"$f":"'Classement auteurs'!$B143","v":131376017601},{"$f":"IFERROR(VLOOKUP($B143,'Défi-1'!$C$2:$J$200,8,FALSE),\"\")","v":32},{"$f":"IFERROR(VLOOKUP($B143,'Défi-2'!$C$2:$J$200,8,FALSE),\"\")","v":24},{"$f":"IFERROR(VLOOKUP($B143,'Défi-3'!$C$2:$J$200,8,FALSE),\"\")","v":""},{"$f":"IFERROR(VLOOKUP($B143,'Défi-4'!$C$2:$J$200,8,FALSE),\"\")","v":35},{"$f":"IFERROR(VLOOKUP($B143,'Défi-5'!$C$2:$J$200,8,FALSE),\"\")","v":""},{"$f":"IFERROR(VLOOKUP($B143,'Défi-6'!$C$2:$J$200,8,FALSE),\"\")","v":35},{"$f":"IFERROR(VLOOKUP($B143,'Défi-7'!$C$2:$J$200,8,FALSE),\"\")","v":""},126,null,"OK","KO","KO","OK","KO","OK","KO","OK",{"$error":"#REF!"},null,{"$f":"'Classement auteurs'!$B143","v":131376017601},{"$f":"IF('Classement auteurs'!K143=\"\",\"\",'Classement auteurs'!K143)","v":""},{"$f":"IF('Classement auteurs'!L143=\"\",\"\",'Classement auteurs'!L143)","v":126},{"$f":"IF('Classement auteurs'!M143=\"\",\"\",'Classement auteurs'!M143)","v":""},{"$f":"IF('Classement auteurs'!N143=\"\",\"\",'Classement auteurs'!N143)","v":""},{"$f":"IF('Classement auteurs'!O143=\"\",\"\",'Classement auteurs'!O143)","v":""},{"$f":"IF('Classement auteurs'!P143=\"\",\"\",'Classement auteurs'!P143)","v":""},{"$f":"IF('Classement auteurs'!Q143=\"\",\"\",'Classement auteurs'!Q143)","v":""},{"$f":"IF('Classement auteurs'!#REF!=\"\",\"\",'Classement auteurs'!#REF!)","v":{"$error":"#REF!"}}]
[null,{"$f":"'Classement auteurs'!$B144","v":130987012601},{"$f":"IFERROR(VLOOKUP($B144,'Défi-1'!$C$2:$J$200,8,FALSE),\"\")","v":""},{"$f":"IFERROR(VLOOKUP($B144,'Défi-2'!$C$2:$J$200,8,FALSE),\"\")","v":41},{"$f":"IFERROR(VLOOKUP($B144,'Défi-3'!$C$2:$J$200,8,FALSE),\"\")","v":42},{"$f":"IFERROR(VLOOKUP($B144,'Défi-4'!$C$2:$J$200,8,FALSE),\"\")","v":""},{"$f":"IFERROR(VLOOKUP($B144,'Défi-5'!$C$2:$J$200,8,FALSE),\"\")","v":""},{"$f":"IFERROR(VLOOKUP($B144,'Défi-6'!$C$2:$J$200,8,FALSE),\"\")","v":42},{"$f":"IFERROR(VLOOKUP($B144,'Défi-7'!$C$2:$J$200,8,FALSE),\"\")","v":""},125,null,"OK","OK","KO","KO","OK","OK","KO","OK",{"$error":"#REF!"},null,{"$f":"'Classement auteurs'!$B144","v":130987012601},{"$f":"IF('Classement auteurs'!K144=\"\",\"\",'Classement auteurs'!K144)","v":""},{"$f":"IF('Classement auteurs'!L144=\"\",\"\",'Classement auteurs'!L144)","v":125},{"$f":"IF('Classement auteurs'!M144=\"\",\"\",'Classement auteurs'!M144)","v":""},{"$f":"IF('Classement auteurs'!N144=\"\",\"\",'Classement auteurs'!N144)","v":""},{"$f":"IF('Classement auteurs'!O144=\"\",\"\",'Classement auteurs'!O144)","v":""},{"$f":"IF('Classement auteurs'!P144=\"\",\"\",'Classement auteurs'!P144)","v":""},{"$f":"IF('Classement auteurs'!Q144=\"\",\"\",'Classement auteurs'!Q144)","v":""},{"$f":"IF('Classement auteurs'!#REF!=\"\",\"\",'Classement auteurs'!#REF!)","v":{"$error":"#REF!"}}]
[null,{"$f":"'Classement auteurs'!$B145","v":132203000701},{"$f":"IFERROR(VLOOKUP($B145,'Défi-1'!$C$2:$J$200,8,FALSE),\"\")","v":""},{"$f":"IFERROR(VLOOKUP($B145,'Défi-2'!$C$2:$J$200,8,FALSE),\"\")","v":""},{"$f":"IFERROR(VLOOKUP($B145,'Défi-3'!$C$2:$J$200,8,FALSE),\"\")","v":40},{"$f":"IFERROR(VLOOKUP($B145,'Défi-4'!$C$2:$J$200,8,FALSE),\"\")","v":45},{"$f":"IFERROR(VLOOKUP($B145,'Défi-5'!$C$2:$J$200,8,FALSE),\"\")","v":40},{"$f":"IFERROR(VLOOKUP($B145,'Défi-6'!$C$2:$J$200,8,FALSE),\"\")","v":""},{"$f":"IFERROR(VLOOKUP($B145,'Défi-7'!$C$2:$J$200,8,FALSE),\"\")","v":""},125,null,"OK","OK","KO","KO","KO","KO","OK","OK",{"$error":"#REF!"},null,{"$f":"'Classement auteurs'!$B145","v":132203000701},{"$f":"IF('Classement auteurs'!K145=\"\",\"\",'Classement auteurs'!K145)","v":""},{"$f":"IF('Classement auteurs'!L145=\"\",\"\",'Classement auteurs'!L145)","v":125},{"$f":"IF('Classement auteurs'!M145=\"\",\"\",'Classement auteurs'!M145)","v":""},{"$f":"IF('Classement auteurs'!N145=\"\",\"\",'Classement auteurs'!N145)","v":""},{"$f":"IF('Classement auteurs'!O145=\"\",\"\",'Classement auteurs'!O145)","v":""},{"$f":"IF('Classement auteurs'!P145=\"\",\"\",'Classement auteurs'!P145)","v":""},{"$f":"IF('Classement auteurs'!Q145=\"\",\"\",'Classement auteurs'!Q145)","v":""},{"$f":"IF('Classement auteurs'!#REF!=\"\",\"\",'Classement auteurs'!#REF!)","v":{"$error":"#REF!"}}]
[null,{"$f":"'Classement auteurs'!$B146","v":131619005001},{"$f":"IFERROR(VLOOKUP($B146,'Défi-1'!$C$2:$J$200,8,FALSE),\"\")","v":""},{"$f":"IFERROR(VLOOKUP($B146,'Défi-2'!$C$2:$J$200,8,FALSE),\"\")","v":39},{"$f":"IFERROR(VLOOKUP($B146,'Défi-3'!$C$2:$J$200,8,FALSE),\"\")","v":""},{"$f":"IFERROR(VLOOKUP($B146,'Défi-4'!$C$2:$J$200,8,FALSE),\"\")","v":""},{"$f":"IFERROR(VLOOKUP($B146,'Défi-5'!$C$2:$J$200,8,FALSE),\"\")","v":45},{"$f":"IFERROR(VLOOKUP($B146,'Défi-6'!$C$2:$J$200,8,FALSE),\"\")","v":39},{"$f":"IFERROR(VLOOKUP($B146,'Défi-7'!$C$2:$J$200,8,FALSE),\"\")","v":""},123,null,"OK","OK","KO","OK","OK","KO","KO","OK",{"$error":"#REF!"},null,{"$f":"'Classement auteurs'!$B146","v":131619005001},{"$f":"IF('Classement auteurs'!K146=\"\",\"\",'Classement auteurs'!K146)","v":""},{"$f":"IF('Classement auteurs'!L146=\"\",\"\",'Classement auteurs'!L146)","v":123},{"$f":"IF('Classement auteurs'!M146=\"\",\"\",'Classement auteurs'!M146)","v":""},{"$f":"IF('Classement auteurs'!N146=\"\",\"\",'Classement auteurs'!N146)","v":""},{"$f":"IF('Classement auteurs'!O146=\"\",\"\",'Classement auteurs'!O146)","v":""},{"$f":"IF('Classement auteurs'!P146=\"\",\"\",'Classement auteurs'!P146)","v":""},{"$f":"IF('Classement auteurs'!Q146=\"\",\"\",'Classement auteurs'!Q146)","v":""},{"$f":"IF('Classement auteurs'!#REF!=\"\",\"\",'Classement auteurs'!#REF!)","v":{"$error":"#REF!"}}]
[null,{"$f":"'Classement auteurs'!$B147","v":131845003401},{"$f":"IFERROR(VLOOKUP($B147,'Défi-1'!$C$2:$J$200,8,FALSE),\"\")","v":28},{"$f":"IFERROR(VLOOKUP($B147,'Défi-2'!$C$2:$J$200,8,FALSE),\"\")","v":27},{"$f":"IFERROR(VLOOKUP($B147,'Défi-3'!$C$2:$J$200,8,FALSE),\"\")","v":""},{"$f":"IFERROR(VLOOKUP($B147,'Défi-4'!$C$2:$J$200,8,FALSE),\"\")","v":""},{"$f":"IFERROR(VLOOKUP($B147,'Défi-5'!$C$2:$J$200,8,FALSE),\"\")","v":40},{"$f":"IFERROR(VLOOKUP($B147,'Défi-6'!$C$2:$J$200,8,FALSE),\"\")","v":28},{"$f":"IFERROR(VLOOKUP($B147,'Défi-7'!$C$2:$J$200,8,FALSE),\"\")","v":""},123,null,"OK","KO","KO","OK","OK","KO","KO","OK",{"$error":"#REF!"},null,{"$f":"'Classement auteurs'!$B147","v":131845003401},{"$f":"IF('Classement auteurs'!K147=\"\",\"\",'Classement auteurs'!K147)","v":""},{"$f":"IF('Classement auteurs'!L147=\"\",\"\",'Classement auteurs'!L147)","v":123},{"$f":"IF('Classement auteurs'!M147=\"\",\"\",'Classement auteurs'!M147)","v":""},{"$f":"IF('Classement auteurs'!N147=\"\",\"\",'Classement auteurs'!N147)","v":""},{"$f":"IF('Classement auteurs'!O147=\"\",\"\",'Classement auteurs'!O147)","v":""},{"$f":"IF('Classement auteurs'!P147=\"\",\"\",'Classement auteurs'!P147)","v":""},{"$f":"IF('Classement auteurs'!Q147=\"\",\"\",'Classement auteurs'!Q147)","v":""},{"$f":"IF('Classement auteurs'!#REF!=\"\",\"\",'Classement auteurs'!#REF!)","v":{"$error":"#REF!"}}]
[null,{"$f":"'Classement auteurs'!$B148","v":130993012301},{"$f":"IFERROR(VLOOKUP($B148,'Défi-1'!$C$2:$J$200,8,FALSE),\"\")","v":""},{"$f":"IFERROR(VLOOKUP($B148,'Défi-2'!$C$2:$J$200,8,FALSE),\"\")","v":""},{"$f":"IFERROR(VLOOKUP($B148,'Défi-3'!$C$2:$J$200,8,FALSE),\"\")","v":""},{"$f":"IFERROR(VLOOKUP($B148,'Défi-4'!$C$2:$J$200,8,FALSE),\"\")","v":40},{"$f":"IFERROR(VLOOKUP($B148,'Défi-5'!$C$2:$J$200,8,FALSE),\"\")","v":41},{"$f":"IFERROR(VLOOKUP($B148,'Défi-6'!$C$2:$J$200,8,FALSE),\"\")","v":41},{"$f":"IFERROR(VLOOKUP($B148,'Défi-7'!$C$2:$J$200,8,FALSE),\"\")","v":""},122,null,"OK","OK","KO","OK","KO","KO","KO","OK",{"$error":"#REF!"},null,{"$f":"'Classement auteurs'!$B148","v":130993012301},{"$f":"IF('Classement auteurs'!K148=\"\",\"\",'Classement auteurs'!K148)","v":""},{"$f":"IF('Classement auteurs'!L148=\"\",\"\",'Classement auteurs'!L148)","v":122},{"$f":"IF('Classement auteurs'!M148=\"\",\"\",'Classement auteurs'!M148)","v":""},{"$f":"IF('Classement auteurs'!N148=\"\",\"\",'Classement auteurs'!N148)","v":""},{"$f":"IF('Classement auteurs'!O148=\"\",\"\",'Classement auteurs'!O148)","v":""},{"$f":"IF('Classement auteurs'!P148=\"\",\"\",'Classement auteurs'!P148)","v":""},{"$f":"IF('Classement auteurs'!Q148=\"\",\"\",'Classement auteurs'!Q148)","v":""},{"$f":"IF('Classement auteurs'!#REF!=\"\",\"\",'Classement auteurs'!#REF!)","v":{"$error":"#REF!"}}]
[null,{"$f":"'Classement auteurs'!$B149","v":131499008601},{"$f":"IFERROR(VLOOKUP($B149,'Défi-1'!$C$2:$J$200,8,FALSE),\"\")","v":""},{"$f":"IFERROR(VLOOKUP($B149,'Défi-2'!$C$2:$J$200,8,FALSE),\"\")","v":""},{"$f":"IFERROR(VLOOKUP($B149,'Défi-3'!$C$2:$J$200,8,FALSE),\"\")","v":40},{"$f":"IFERROR(VLOOKUP($B149,'Défi-4'!$C$2:$J$200,8,FALSE),\"\")","v":""},{"$f":"IFERROR(VLOOKUP($B149,'Défi-5'!$C$2:$J$200,8,FALSE),\"\")","v":41},{"$f":"IFERROR(VLOOKUP($B149,'Défi-6'!$C$2:$J$200,8,FALSE),\"\")","v":40},{"$f":"IFERROR(VLOOKUP($B149,'Défi-7'!$C$2:$J$200,8,FALSE),\"\")","v":""},121,null,"OK","OK","KO","KO","OK","KO","KO","OK",{"$error":"#REF!"},null,{"$f":"'Classement auteurs'!$B149","v":131499008601},{"$f":"IF('Classement auteurs'!K149=\"\",\"\",'Classement auteurs'!K149)","v":""},{"$f":"IF('Classement auteurs'!L149=\"\",\"\",'Classement auteurs'!L149)","v":121},{"$f":"IF('Classement auteurs'!M149=\"\",\"\",'Classement auteurs'!M149)","v":""},{"$f":"IF('Classement auteurs'!N149=\"\",\"\",'Classement auteurs'!N149)","v":""},{"$f":"IF('Classement auteurs'!O149=\"\",\"\",'Classement auteurs'!O149)","v":""},{"$f":"IF('Classement auteurs'!P149=\"\",\"\",'Classement auteurs'!P149)","v":""},{"$f":"IF('Classement auteurs'!Q149=\"\",\"\",'Classement auteurs'!Q149)","v":""},{"$f":"IF('Classement auteurs'!#REF!=\"\",\"\",'Classement auteurs'!#REF!)","v":{"$error":"#REF!"}}]
[null,{"$f":"'Classement auteurs'!$B150","v":131353007401},{"$f":"IFERROR(VLOOKUP($B150,'Défi-1'!$C$2:$J$200,8,FALSE),\"\")","v":""},{"$f":"IFERROR(VLOOKUP($B150,'Défi-2'!$C$2:$J$200,8,FALSE),\"\")","v":38},{"$f":"IFERROR(VLOOKUP($B150,'Défi-3'!$C$2:$J$200,8,FALSE),\"\")","v":40},{"$f":"IFERROR(VLOOKUP($B150,'Défi-4'!$C$2:$J$200,8,FALSE),\"\")","v":""},{"$f":"IFERROR(VLOOKUP($B150,'Défi-5'!$C$2:$J$200,8,FALSE),\"\")","v":41},{"$f":"IFERROR(VLOOKUP($B150,'Défi-6'!$C$2:$J$200,8,FALSE),\"\")","v":""},{"$f":"IFERROR(VLOOKUP($B150,'Défi-7'!$C$2:$J$200,8,FALSE),\"\")","v":""},119,null,"OK","OK","KO","KO","OK","KO","OK","OK",{"$error":"#REF!"},null,{"$f":"'Classement auteurs'!$B150","v":131353007401},{"$f":"IF('Classement auteurs'!K150=\"\",\"\",'Classement auteurs'!K150)","v":""},{"$f":"IF('Classement auteurs'!L150=\"\",\"\",'Classement auteurs'!L150)","v":119},{"$f":"IF('Classement auteurs'!M150=\"\",\"\",'Classement auteurs'!M150)","v":""},{"$f":"IF('Classement auteurs'!N150=\"\",\"\",'Classement auteurs'!N150)","v":""},{"$f":"IF('Classement auteurs'!O150=\"\",\"\",'Classement auteurs'!O150)","v":""},{"$f":"IF('Classement auteurs'!P150=\"\",\"\",'Classement auteurs'!P150)","v":""},{"$f":"IF('Classement auteurs'!Q150=\"\",\"\",'Classement auteurs'!Q150)","v":""},{"$f":"IF('Classement auteurs'!#REF!=\"\",\"\",'Classement auteurs'!#REF!)","v":{"$error":"#REF!"}}]
[null,{"$f":"'Classement auteurs'!$B151","v":130527009201},{"$f":"IFERROR(VLOOKUP($B151,'Défi-1'!$C$2:$J$200,8,FALSE),\"\")","v":""},{"$f":"IFERROR(VLOOKUP($B151,'Défi-2'!$C$2:$J$200,8,FALSE),\"\")","v":35},{"$f":"IFERROR(VLOOKUP($B151,'Défi-3'!$C$2:$J$200,8,FALSE),\"\")","v":""},{"$f":"IFERROR(VLOOKUP($B151,'Défi-4'!$C$2:$J$200,8,FALSE),\"\")","v":40},{"$f":"IFERROR(VLOOKUP($B151,'Défi-5'!$C$2:$J$200,8,FALSE),\"\")","v":""},{"$f":"IFERROR(VLOOKUP($B151,'Défi-6'!$C$2:$J$200,8,FALSE),\"\")","v":40},{"$f":"IFERROR(VLOOKUP($B151,'Défi-7'!$C$2:$J$200,8,FALSE),\"\")","v":""},115,null,"OK","OK","KO","OK","KO","OK","KO","OK",{"$error":"#REF!"},null,{"$f":"'Classement auteurs'!$B151","v":130527009201},{"$f":"IF('Classement auteurs'!K151=\"\",\"\",'Classement auteurs'!K151)","v":""},{"$f":"IF('Classement auteurs'!L151=\"\",\"\",'Classement auteurs'!L151)","v":115},{"$f":"IF('Classement auteurs'!M151=\"\",\"\",'Classement auteurs'!M151)","v":""},{"$f":"IF('Classement auteurs'!N151=\"\",\"\",'Classement auteurs'!N151)","v":""},{"$f":"IF('Classement auteurs'!O151=\"\",\"\",'Classement auteurs'!O151)","v":""},{"$f":"IF('Classement auteurs'!P151=\"\",\"\",'Classement auteurs'!P151)","v":""},{"$f":"IF('Classement auteurs'!Q151=\"\",\"\",'Classement auteurs'!Q151)","v":""},{"$f":"IF('Classement auteurs'!#REF!=\"\",\"\",'Classement auteurs'!#REF!)","v":{"$error":"#REF!"}}]
[null,{"$f":"'Classement auteurs'!$B152","v":130987028201},{"$f":"IFERROR(VLOOKUP($B152,'Défi-1'!$C$2:$J$200,8,FALSE),\"\")","v":42},{"$f":"IFERROR(VLOOKUP($B152,'Défi-2'!$C$2:$J$200,8,FALSE),\"\")","v":""},{"$f":"IFERROR(VLOOKUP($B152,'Défi-3'!$C$2:$J$200,8,FALSE),\"\")","v":""},{"$f":"IFERROR(VLOOKUP($B152,'Défi-4'!$C$2:$J$200,8,FALSE),\"\")","v":31},{"$f":"IFERROR(VLOOKUP($B152,'Défi-5'!$C$2:$J$200,8,FALSE),\"\")","v":""},{"$f":"IFERROR(VLOOKUP($B152,'Défi-6'!$C$2:$J$200,8,FALSE),\"\")","v":42},{"$f":"IFERROR(VLOOKUP($B152,'Défi-7'!$C$2:$J$200,8,FALSE),\"\")","v":""},115,null,"OK","KO","KO","OK","KO","OK","KO","OK",{"$error":"#REF!"},null,{"$f":"'Classement auteurs'!$B152","v":130987028201},{"$f":"IF('Classement auteurs'!K152=\"\",\"\",'Classement auteurs'!K152)","v":""},{"$f":"IF('Classement auteurs'!L152=\"\",\"\",'Classement auteurs'!L152)","v":115},{"$f":"IF('Classement auteurs'!M152=\"\",\"\",'Classement auteurs'!M152)","v":""},{"$f":"IF('Classement auteurs'!N152=\"\",\"\",'Classement auteurs'!N152)","v":""},{"$f":"IF('Classement auteurs'!O152=\"\",\"\",'Classement auteurs'!O152)","v":""},{"$f":"IF('Classement auteurs'!P152=\"\",\"\",'Classement auteurs'!P152)","v":""},{"$f":"IF('Classement auteurs'!Q152=\"\",\"\",'Classement auteurs'!Q152)","v":""},{"$f":"IF('Classement auteurs'!#REF!=\"\",\"\",'Classement auteurs'!#REF!)","v":{"$error":"#REF!"}}]
[null,{"$f":"'Classement auteurs'!$B153","v":131862001001},{"$f":"IFERROR(VLOOKUP($B153,'Défi-1'!$C$2:$J$200,8,FALSE),\"\")","v":""},{"$f":"IFERROR(VLOOKUP($B153,'Défi-2'!$C$2:$J$200,8,FALSE),\"\")","v":39},{"$f":"IFERROR(VLOOKUP($B153,'Défi-3'!$C$2:$J$200,8,FALSE),\"\")","v":36},{"$f":"IFERROR(VLOOKUP($B153,'Défi-4'!$C$2:$J$200,8,FALSE),\"\")","v":""},{"$f":"IFERROR(VLOOKUP($B153,'Défi-5'!$C$2:$J$200,8,FALSE),\"\")","v":""},{"$f":"IFERROR(VLOOKUP($B153,'Défi-6'!$C$2:$J$200,8,FALSE),\"\")","v":39},{"$f":"IFERROR(VLOOKUP($B153,'Défi-7'!$C$2:$J$200,8,FALSE),\"\")","v":""},114,null,"OK","OK","KO","KO","OK","OK","KO","OK",{"$error":"#REF!"},null,{"$f":"'Classement auteurs'!$B153","v":131862001001},{"$f":"IF('Classement auteurs'!K153=\"\",\"\",'Classement auteurs'!K153)","v":""},{"$f":"IF('Classement auteurs'!L153=\"\",\"\",'Classement auteurs'!L153)","v":114},{"$f":"IF('Classement auteurs'!M153=\"\",\"\",'Classement auteurs'!M153)","v":""},{"$f":"IF('Classement auteurs'!N153=\"\",\"\",'Classement auteurs'!N153)","v":""},{"$f":"IF('Classement auteurs'!O153=\"\",\"\",'Classement auteurs'!O153)","v":""},{"$f":"IF('Classement auteurs'!P153=\"\",\"\",'Classement auteurs'!P153)","v":""},{"$f":"IF('Classement auteurs'!Q153=\"\",\"\",'Classement auteurs'!Q153)","v":""},{"$f":"IF('Classement auteurs'!#REF!=\"\",\"\",'Classement auteurs'!#REF!)","v":{"$error":"#REF!"}}]
[null,{"$f":"'Classement auteurs'!$B154","v":131956005901},{"$f":"IFERROR(VLOOKUP($B154,'Défi-1'!$C$2:$J$200,8,FALSE),\"\")","v":43},{"$f":"IFERROR(VLOOKUP($B154,'Défi-2'!$C$2:$J$200,8,FALSE),\"\")","v":""},{"$f":"IFERROR(VLOOKUP($B154,'Défi-3'!$C$2:$J$200,8,FALSE),\"\")","v":""},{"$f":"IFERROR(VLOOKUP($B154,'Défi-4'!$C$2:$J$200,8,FALSE),\"\")","v":33},{"$f":"IFERROR(VLOOKUP($B154,'Défi-5'!$C$2:$J$200,8,FALSE),\"\")","v":37},{"$f":"IFERROR(VLOOKUP($B154,'Défi-6'!$C$2:$J$200,8,FALSE),\"\")","v":""},{"$f":"IFERROR(VLOOKUP($B154,'Défi-7'!$C$2:$J$200,8,FALSE),\"\")","v":""},113,null,"OK","KO","KO","OK","KO","KO","OK","OK",{"$error":"#REF!"},null,{"$f":"'Classement auteurs'!$B154","v":131956005901},{"$f":"IF('Classement auteurs'!K154=\"\",\"\",'Classement auteurs'!K154)","v":""},{"$f":"IF('Classement auteurs'!L154=\"\",\"\",'Classement auteurs'!L154)","v":113},{"$f":"IF('Classement auteurs'!M154=\"\",\"\",'Classement auteurs'!M154)","v":""},{"$f":"IF('Classement auteurs'!N154=\"\",\"\",'Classement auteurs'!N154)","v":""},{"$f":"IF('Classement auteurs'!O154=\"\",\"\",'Classement auteurs'!O154)","v":""},{"$f":"IF('Classement auteurs'!P154=\"\",\"\",'Classement auteurs'!P154)","v":""},{"$f":"IF('Classement auteurs'!Q154=\"\",\"\",'Classement auteurs'!Q154)","v":""},{"$f":"IF('Classement auteurs'!#REF!=\"\",\"\",'Classement auteurs'!#REF!)","v":{"$error":"#REF!"}}]
[null,{"$f":"'Classement auteurs'!$B155","v":130925008701},{"$f":"IFERROR(VLOOKUP($B155,'Défi-1'!$C$2:$J$200,8,FALSE),\"\")","v":""},{"$f":"IFERROR(VLOOKUP($B155,'Défi-2'!$C$2:$J$200,8,FALSE),\"\")","v":34},{"$f":"IFERROR(VLOOKUP($B155,'Défi-3'!$C$2:$J$200,8,FALSE),\"\")","v":39},{"$f":"IFERROR(VLOOKUP($B155,'Défi-4'!$C$2:$J$200,8,FALSE),\"\")","v":37},{"$f":"IFERROR(VLOOKUP($B155,'Défi-5'!$C$2:$J$200,8,FALSE),\"\")","v":""},{"$f":"IFERROR(VLOOKUP($B155,'Défi-6'!$C$2:$J$200,8,FALSE),\"\")","v":""},{"$f":"IFERROR(VLOOKUP($B155,'Défi-7'!$C$2:$J$200,8,FALSE),\"\")","v":""},110,null,"OK","OK","KO","KO","KO","OK","OK","OK",{"$error":"#REF!"},null,{"$f":"'Classement auteurs'!$B155","v":130925008701},{"$f":"IF('Classement auteurs'!K155=\"\",\"\",'Classement auteurs'!K155)","v":""},{"$f":"IF('Classement auteurs'!L155=\"\",\"\",'Classement auteurs'!L155)","v":110},{"$f":"IF('Classement auteurs'!M155=\"\",\"\",'Classement auteurs'!M155)","v":""},{"$f":"IF('Classement auteurs'!N155=\"\",\"\",'Classement auteurs'!N155)","v":""},{"$f":"IF('Classement auteurs'!O155=\"\",\"\",'Classement auteurs'!O155)","v":""},{"$f":"IF('Classement auteurs'!P155=\"\",\"\",'Classement auteurs'!P155)","v":""},{"$f":"IF('Classement auteurs'!Q155=\"\",\"\",'Classement auteurs'!Q155)","v":""},{"$f":"IF('Classement auteurs'!#REF!=\"\",\"\",'Classement auteurs'!#REF!)","v":{"$error":"#REF!"}}]
[null,{"$f":"'Classement auteurs'!$B156","v":131823008701},{"$f":"IFERROR(VLOOKUP($B156,'Défi-1'!$C$2:$J$200,8,FALSE),\"\")","v":""},{"$f":"IFERROR(VLOOKUP($B156,'Défi-2'!$C$2:$J$200,8,FALSE),\"\")","v":41},{"$f":"IFERROR(VLOOKUP($B156,'Défi-3'!$C$2:$J$200,8,FALSE),\"\")","v":28},{"$f":"IFERROR(VLOOKUP($B156,'Défi-4'!$C$2:$J$200,8,FALSE),\"\")","v":""},{"$f":"IFERROR(VLOOKUP($B156,'Défi-5'!$C$2:$J$200,8,FALSE),\"\")","v":""},{"$f":"IFERROR(VLOOKUP($B156,'Défi-6'!$C$2:$J$200,8,FALSE),\"\")","v":41},{"$f":"IFERROR(VLOOKUP($B156,'Défi-7'!$C$2:$J$200,8,FALSE),\"\")","v":""},110,null,"OK","OK","KO","KO","OK","OK","KO","OK",{"$error":"#REF!"},null,{"$f":"'Classement auteurs'!$B156","v":131823008701},{"$f":"IF('Classement auteurs'!K156=\"\",\"\",'Classement auteurs'!K156)","v":""},{"$f":"IF('Classement auteurs'!L156=\"\",\"\",'Classement auteurs'!L156)","v":110},{"$f":"IF('Classement auteurs'!M156=\"\",\"\",'Classement auteurs'!M156)","v":""},{"$f":"IF('Classement auteurs'!N156=\"\",\"\",'Classement auteurs'!N156)","v":""},{"$f":"IF('Classement auteurs'!O156=\"\",\"\",'Classement auteurs'!O156)","v":""},{"$f":"IF('Classement auteurs'!P156=\"\",\"\",'Classement auteurs'!P156)","v":""},{"$f":"IF('Classement auteurs'!Q156=\"\",\"\",'Classement auteurs'!Q156)","v":""},{"$f":"IF('Classement auteurs'!#REF!=\"\",\"\",'Classement auteurs'!#REF!)","v":{"$error":"#REF!"}}]
[null,{"$f":"'Classement auteurs'!$B157","v":130987025001},{"$f":"IFERROR(VLOOKUP($B157,'Défi-1'!$C$2:$J$200,8,FALSE),\"\")","v":""},{"$f":"IFERROR(VLOOKUP($B157,'Défi-2'!$C$2:$J$200,8,FALSE),\"\")","v":39},{"$f":"IFERROR(VLOOKUP($B157,'Défi-3'!$C$2:$J$200,8,FALSE),\"\")","v":""},{"$f":"IFERROR(VLOOKUP($B157,'Défi-4'!$C$2:$J$200,8,FALSE),\"\")","v":30},{"$f":"IFERROR(VLOOKUP($B157,'Défi-5'!$C$2:$J$200,8,FALSE),\"\")","v":40},{"$f":"IFERROR(VLOOKUP($B157,'Défi-6'!$C$2:$J$200,8,FALSE),\"\")","v":""},{"$f":"IFERROR(VLOOKUP($B157,'Défi-7'!$C$2:$J$200,8,FALSE),\"\")","v":""},109,null,"OK","OK","KO","OK","KO","KO","OK","OK",{"$error":"#REF!"},null,{"$f":"'Classement auteurs'!$B157","v":130987025001},{"$f":"IF('Classement auteurs'!K157=\"\",\"\",'Classement auteurs'!K157)","v":""},{"$f":"IF('Classement auteurs'!L157=\"\",\"\",'Classement auteurs'!L157)","v":109},{"$f":"IF('Classement auteurs'!M157=\"\",\"\",'Classement auteurs'!M157)","v":""},{"$f":"IF('Classement auteurs'!N157=\"\",\"\",'Classement auteurs'!N157)","v":""},{"$f":"IF('Classement auteurs'!O157=\"\",\"\",'Classement auteurs'!O157)","v":""},{"$f":"IF('Classement auteurs'!P157=\"\",\"\",'Classement auteurs'!P157)","v":""},{"$f":"IF('Classement auteurs'!Q157=\"\",\"\",'Classement auteurs'!Q157)","v":""},{"$f":"IF('Classement auteurs'!#REF!=\"\",\"\",'Classement auteurs'!#REF!)","v":{"$error":"#REF!"}}]
[null,{"$f":"'Classement auteurs'!$B158","v":130987026701},{"$f":"IFERROR(VLOOKUP($B158,'Défi-1'!$C$2:$J$200,8,FALSE),\"\")","v":""},{"$f":"IFERROR(VLOOKUP($B158,'Défi-2'!$C$2:$J$200,8,FALSE),\"\")","v":""},{"$f":"IFERROR(VLOOKUP($B158,'Défi-3'!$C$2:$J$200,8,FALSE),\"\")","v":32},{"$f":"IFERROR(VLOOKUP($B158,'Défi-4'!$C$2:$J$200,8,FALSE),\"\")","v":37},{"$f":"IFERROR(VLOOKUP($B158,'Défi-5'!$C$2:$J$200,8,FALSE),\"\")","v":40},{"$f":"IFERROR(VLOOKUP($B158,'Défi-6'!$C$2:$J$200,8,FALSE),\"\")","v":""},{"$f":"IFERROR(VLOOKUP($B158,'Défi-7'!$C$2:$J$200,8,FALSE),\"\")","v":""},109,null,"OK","OK","KO","KO","KO","KO","OK","OK",{"$error":"#REF!"},null,{"$f":"'Classement auteurs'!$B158","v":130987026701},{"$f":"IF('Classement auteurs'!K158=\"\",\"\",'Classement auteurs'!K158)","v":""},{"$f":"IF('Classement auteurs'!L158=\"\",\"\",'Classement auteurs'!L158)","v":109},{"$f":"IF('Classement auteurs'!M158=\"\",\"\",'Classement auteurs'!M158)","v":""},{"$f":"IF('Classement auteurs'!N158=\"\",\"\",'Classement auteurs'!N158)","v":""},{"$f":"IF('Classement auteurs'!O158=\"\",\"\",'Classement auteurs'!O158)","v":""},{"$f":"IF('Classement auteurs'!P158=\"\",\"\",'Classement auteurs'!P158)","v":""},{"$f":"IF('Classement auteurs'!Q158=\"\",\"\",'Classement auteurs'!Q158)","v":""},{"$f":"IF('Classement auteurs'!#REF!=\"\",\"\",'Classement auteurs'!#REF!)","v":{"$error":"#REF!"}}]
[null,{"$f":"'Classement auteurs'!$B159","v":131494002301},{"$f":"IFERROR(VLOOKUP($B159,'Défi-1'!$C$2:$J$200,8,FALSE),\"\")","v":""},{"$f":"IFERROR(VLOOKUP($B159,'Défi-2'!$C$2:$J$200,8,FALSE),\"\")","v":35},{"$f":"IFERROR(VLOOKUP($B159,'Défi-3'!$C$2:$J$200,8,FALSE),\"\")","v":32},{"$f":"IFERROR(VLOOKUP($B159,'Défi-4'!$C$2:$J$200,8,FALSE),\"\")","v":""},{"$f":"IFERROR(VLOOKUP($B159,'Défi-5'!$C$2:$J$200,8,FALSE),\"\")","v":42},{"$f":"IFERROR(VLOOKUP($B159,'Défi-6'!$C$2:$J$200,8,FALSE),\"\")","v":""},{"$f":"IFERROR(VLOOKUP($B159,'Défi-7'!$C$2:$J$200,8,FALSE),\"\")","v":""},109,null,"OK","OK","KO","KO","OK","KO","OK","OK",{"$error":"#REF!"},null,{"$f":"'Classement auteurs'!$B159","v":131494002301},{"$f":"IF('Classement auteurs'!K159=\"\",\"\",'Classement auteurs'!K159)","v":""},{"$f":"IF('Classement auteurs'!L159=\"\",\"\",'Classement auteurs'!L159)","v":109},{"$f":"IF('Classement auteurs'!M159=\"\",\"\",'Classement auteurs'!M159)","v":""},{"$f":"IF('Classement auteurs'!N159=\"\",\"\",'Classement auteurs'!N159)","v":""},{"$f":"IF('Classement auteurs'!O159=\"\",\"\",'Classement auteurs'!O159)","v":""},{"$f":"IF('Classement auteurs'!P159=\"\",\"\",'Classement auteurs'!P159)","v":""},{"$f":"IF('Classement auteurs'!Q159=\"\",\"\",'Classement auteurs'!Q159)","v":""},{"$f":"IF('Classement auteurs'!#REF!=\"\",\"\",'Classement auteurs'!#REF!)","v":{"$error":"#REF!"}}]
[null,{"$f":"'Classement auteurs'!$B160","v":131956006501},{"$f":"IFERROR(VLOOKUP($B160,'Défi-1'!$C$2:$J$200,8,FALSE),\"\")","v":""},{"$f":"IFERROR(VLOOKUP($B160,'Défi-2'!$C$2:$J$200,8,FALSE),\"\")","v":""},{"$f":"IFERROR(VLOOKUP($B160,'Défi-3'!$C$2:$J$200,8,FALSE),\"\")","v":34},{"$f":"IFERROR(VLOOKUP($B160,'Défi-4'!$C$2:$J$200,8,FALSE),\"\")","v":39},{"$f":"IFERROR(VLOOKUP($B160,'Défi-5'!$C$2:$J$200,8,FALSE),\"\")","v":36},{"$f":"IFERROR(VLOOKUP($B160,'Défi-6'!$C$2:$J$200,8,FALSE),\"\")","v":""},{"$f":"IFERROR(VLOOKUP($B160,'Défi-7'!$C$2:$J$200,8,FALSE),\"\")","v":""},109,null,"OK","OK","KO","KO","KO","KO","OK","OK",{"$error":"#REF!"},null,{"$f":"'Classement auteurs'!$B160","v":131956006501},{"$f":"IF('Classement auteurs'!K160=\"\",\"\",'Classement auteurs'!K160)","v":""},{"$f":"IF('Classement auteurs'!L160=\"\",\"\",'Classement auteurs'!L160)","v":109},{"$f":"IF('Classement auteurs'!M160=\"\",\"\",'Classement auteurs'!M160)","v":""},{"$f":"IF('Classement auteurs'!N160=\"\",\"\",'Classement auteurs'!N160)","v":""},{"$f":"IF('Classement auteurs'!O160=\"\",\"\",'Classement auteurs'!O160)","v":""},{"$f":"IF('Classement auteurs'!P160=\"\",\"\",'Classement auteurs'!P160)","v":""},{"$f":"IF('Classement auteurs'!Q160=\"\",\"\",'Classement auteurs'!Q160)","v":""},{"$f":"IF('Classement auteurs'!#REF!=\"\",\"\",'Classement auteurs'!#REF!)","v":{"$error":"#REF!"}}]
[null,{"$f":"'Classement auteurs'!$B161","v":131956006201},{"$f":"IFERROR(VLOOKUP($B161,'Défi-1'!$C$2:$J$200,8,FALSE),\"\")","v":""},{"$f":"IFERROR(VLOOKUP($B161,'Défi-2'!$C$2:$J$200,8,FALSE),\"\")","v":25},{"$f":"IFERROR(VLOOKUP($B161,'Défi-3'!$C$2:$J$200,8,FALSE),\"\")","v":39},{"$f":"IFERROR(VLOOKUP($B161,'Défi-4'!$C$2:$J$200,8,FALSE),\"\")","v":""},{"$f":"IFERROR(VLOOKUP($B161,'Défi-5'!$C$2:$J$200,8,FALSE),\"\")","v":""},{"$f":"IFERROR(VLOOKUP($B161,'Défi-6'!$C$2:$J$200,8,FALSE),\"\")","v":""},{"$f":"IFERROR(VLOOKUP($B161,'Défi-7'!$C$2:$J$200,8,FALSE),\"\")","v":44},108,null,"OK","KO","KO","KO","OK","OK","OK","KO",{"$error":"#REF!"},null,{"$f":"'Classement auteurs'!$B161","v":131956006201},{"$f":"IF('Classement auteurs'!K161=\"\",\"\",'Classement auteurs'!K161)","v":44},{"$f":"IF('Classement auteurs'!L161=\"\",\"\",'Classement auteurs'!L161)","v":108},{"$f":"IF('Classement auteurs'!M161=\"\",\"\",'Classement auteurs'!M161)","v":""},{"$f":"IF('Classement auteurs'!N161=\"\",\"\",'Classement auteurs'!N161)","v":""},{"$f":"IF('Classement auteurs'!O161=\"\",\"\",'Classement auteurs'!O161)","v":""},{"$f":"IF('Classement auteurs'!P161=\"\",\"\",'Classement auteurs'!P161)","v":""},{"$f":"IF('Classement auteurs'!Q161=\"\",\"\",'Classement auteurs'!Q161)","v":""},{"$f":"IF('Classement auteurs'!#REF!=\"\",\"\",'Classement auteurs'!#REF!)","v":{"$error":"#REF!"}}]
[null,{"$f":"'Classement auteurs'!$B162","v":130527011601},{"$f":"IFERROR(VLOOKUP($B162,'Défi-1'!$C$2:$J$200,8,FALSE),\"\")","v":39},{"$f":"IFERROR(VLOOKUP($B162,'Défi-2'!$C$2:$J$200,8,FALSE),\"\")","v":""},{"$f":"IFERROR(VLOOKUP($B162,'Défi-3'!$C$2:$J$200,8,FALSE),\"\")","v":37},{"$f":"IFERROR(VLOOKUP($B162,'Défi-4'!$C$2:$J$200,8,FALSE),\"\")","v":""},{"$f":"IFERROR(VLOOKUP($B162,'Défi-5'!$C$2:$J$200,8,FALSE),\"\")","v":""},{"$f":"IFERROR(VLOOKUP($B162,'Défi-6'!$C$2:$J$200,8,FALSE),\"\")","v":""},{"$f":"IFERROR(VLOOKUP($B162,'Défi-7'!$C$2:$J$200,8,FALSE),\"\")","v":31},107,null,"OK","KO","KO","KO","OK","OK","OK","KO",{"$error":"#REF!"},null,{"$f":"'Classement auteurs'!$B162","v":130527011601},{"$f":"IF('Classement auteurs'!K162=\"\",\"\",'Classement auteurs'!K162)","v":31},{"$f":"IF('Classement auteurs'!L162=\"\",\"\",'Classement auteurs'!L162)","v":107},{"$f":"IF('Classement auteurs'!M162=\"\",\"\",'Classement auteurs'!M162)","v":""},{"$f":"IF('Classement auteurs'!N162=\"\",\"\",'Classement auteurs'!N162)","v":""},{"$f":"IF('Classement auteurs'!O162=\"\",\"\",'Classement auteurs'!O162)","v":""},{"$f":"IF('Classement auteurs'!P162=\"\",\"\",'Classement auteurs'!P162)","v":""},{"$f":"IF('Classement auteurs'!Q162=\"\",\"\",'Classement auteurs'!Q162)","v":""},{"$f":"IF('Classement auteurs'!#REF!=\"\",\"\",'Classement auteurs'!#REF!)","v":{"$error":"#REF!"}}]
[null,{"$f":"'Classement auteurs'!$B163","v":131494003201},{"$f":"IFERROR(VLOOKUP($B163,'Défi-1'!$C$2:$J$200,8,FALSE),\"\")","v":""},{"$f":"IFERROR(VLOOKUP($B163,'Défi-2'!$C$2:$J$200,8,FALSE),\"\")","v":""},{"$f":"IFERROR(VLOOKUP($B163,'Défi-3'!$C$2:$J$200,8,FALSE),\"\")","v":39},{"$f":"IFERROR(VLOOKUP($B163,'Défi-4'!$C$2:$J$200,8,FALSE),\"\")","v":29},{"$f":"IFERROR(VLOOKUP($B163,'Défi-5'!$C$2:$J$200,8,FALSE),\"\")","v":""},{"$f":"IFERROR(VLOOKUP($B163,'Défi-6'!$C$2:$J$200,8,FALSE),\"\")","v":39},{"$f":"IFERROR(VLOOKUP($B163,'Défi-7'!$C$2:$J$200,8,FALSE),\"\")","v":""},107,null,"OK","OK","KO","KO","KO","OK","KO","OK",{"$error":"#REF!"},null,{"$f":"'Classement auteurs'!$B163","v":131494003201},{"$f":"IF('Classement auteurs'!K163=\"\",\"\",'Classement auteurs'!K163)","v":""},{"$f":"IF('Classement auteurs'!L163=\"\",\"\",'Classement auteurs'!L163)","v":107},{"$f":"IF('Classement auteurs'!M163=\"\",\"\",'Classement auteurs'!M163)","v":""},{"$f":"IF('Classement auteurs'!N163=\"\",\"\",'Classement auteurs'!N163)","v":""},{"$f":"IF('Classement auteurs'!O163=\"\",\"\",'Classement auteurs'!O163)","v":""},{"$f":"IF('Classement auteurs'!P163=\"\",\"\",'Classement auteurs'!P163)","v":""},{"$f":"IF('Classement auteurs'!Q163=\"\",\"\",'Classement auteurs'!Q163)","v":""},{"$f":"IF('Classement auteurs'!#REF!=\"\",\"\",'Classement auteurs'!#REF!)","v":{"$error":"#REF!"}}]
[null,{"$f":"'Classement auteurs'!$B164","v":130987016601},{"$f":"IFERROR(VLOOKUP($B164,'Défi-1'!$C$2:$J$200,8,FALSE),\"\")","v":""},{"$f":"IFERROR(VLOOKUP($B164,'Défi-2'!$C$2:$J$200,8,FALSE),\"\")","v":""},{"$f":"IFERROR(VLOOKUP($B164,'Défi-3'!$C$2:$J$200,8,FALSE),\"\")","v":""},{"$f":"IFERROR(VLOOKUP($B164,'Défi-4'!$C$2:$J$200,8,FALSE),\"\")","v":38},{"$f":"IFERROR(VLOOKUP($B164,'Défi-5'!$C$2:$J$200,8,FALSE),\"\")","v":30},{"$f":"IFERROR(VLOOKUP($B164,'Défi-6'!$C$2:$J$200,8,FALSE),\"\")","v":38},{"$f":"IFERROR(VLOOKUP($B164,'Défi-7'!$C$2:$J$200,8,FALSE),\"\")","v":""},106,null,"OK","OK","KO","OK","KO","KO","KO","OK",{"$error":"#REF!"},null,{"$f":"'Classement auteurs'!$B164","v":130987016601},{"$f":"IF('Classement auteurs'!K164=\"\",\"\",'Classement auteurs'!K164)","v":""},{"$f":"IF('Classement auteurs'!L164=\"\",\"\",'Classement auteurs'!L164)","v":106},{"$f":"IF('Classement auteurs'!M164=\"\",\"\",'Classement auteurs'!M164)","v":""},{"$f":"IF('Classement auteurs'!N164=\"\",\"\",'Classement auteurs'!N164)","v":""},{"$f":"IF('Classement auteurs'!O164=\"\",\"\",'Classement auteurs'!O164)","v":""},{"$f":"IF('Classement auteurs'!P164=\"\",\"\",'Classement auteurs'!P164)","v":""},{"$f":"IF('Classement auteurs'!Q164=\"\",\"\",'Classement auteurs'!Q164)","v":""},{"$f":"IF('Classement auteurs'!#REF!=\"\",\"\",'Classement auteurs'!#REF!)","v":{"$error":"#REF!"}}]
[null,{"$f":"'Classement auteurs'!$B165","v":131879001101},{"$f":"IFERROR(VLOOKUP($B165,'Défi-1'!$C$2:$J$200,8,FALSE),\"\")","v":""},{"$f":"IFERROR(VLOOKUP($B165,'Défi-2'!$C$2:$J$200,8,FALSE),\"\")","v":""},{"$f":"IFERROR(VLOOKUP($B165,'Défi-3'!$C$2:$J$200,8,FALSE),\"\")","v":""},{"$f":"IFERROR(VLOOKUP($B165,'Défi-4'!$C$2:$J$200,8,FALSE),\"\")","v":29},{"$f":"IFERROR(VLOOKUP($B165,'Défi-5'!$C$2:$J$200,8,FALSE),\"\")","v":38},{"$f":"IFERROR(VLOOKUP($B165,'Défi-6'!$C$2:$J$200,8,FALSE),\"\")","v":38},{"$f":"IFERROR(VLOOKUP($B165,'Défi-7'!$C$2:$J$200,8,FALSE),\"\")","v":""},105,null,"OK","OK","KO","OK","KO","KO","KO","OK",{"$error":"#REF!"},null,{"$f":"'Classement auteurs'!$B165","v":131879001101},{"$f":"IF('Classement auteurs'!K165=\"\",\"\",'Classement auteurs'!K165)","v":""},{"$f":"IF('Classement auteurs'!L165=\"\",\"\",'Classement auteurs'!L165)","v":105},{"$f":"IF('Classement auteurs'!M165=\"\",\"\",'Classement auteurs'!M165)","v":""},{"$f":"IF('Classement auteurs'!N165=\"\",\"\",'Classement auteurs'!N165)","v":""},{"$f":"IF('Classement auteurs'!O165=\"\",\"\",'Classement auteurs'!O165)","v":""},{"$f":"IF('Classement auteurs'!P165=\"\",\"\",'Classement auteurs'!P165)","v":""},{"$f":"IF('Classement auteurs'!Q165=\"\",\"\",'Classement auteurs'!Q165)","v":""},{"$f":"IF('Classement auteurs'!#REF!=\"\",\"\",'Classement auteurs'!#REF!)","v":{"$error":"#REF!"}}]
[null,{"$f":"'Classement auteurs'!$B166","v":130993015101},{"$f":"IFERROR(VLOOKUP($B166,'Défi-1'!$C$2:$J$200,8,FALSE),\"\")","v":18},{"$f":"IFERROR(VLOOKUP($B166,'Défi-2'!$C$2:$J$200,8,FALSE),\"\")","v":""},{"$f":"IFERROR(VLOOKUP($B166,'Défi-3'!$C$2:$J$200,8,FALSE),\"\")","v":""},{"$f":"IFERROR(VLOOKUP($B166,'Défi-4'!$C$2:$J$200,8,FALSE),\"\")","v":43},{"$f":"IFERROR(VLOOKUP($B166,'Défi-5'!$C$2:$J$200,8,FALSE),\"\")","v":""},{"$f":"IFERROR(VLOOKUP($B166,'Défi-6'!$C$2:$J$200,8,FALSE),\"\")","v":43},{"$f":"IFERROR(VLOOKUP($B166,'Défi-7'!$C$2:$J$200,8,FALSE),\"\")","v":""},104,null,"OK","KO","KO","OK","KO","OK","KO","OK",{"$error":"#REF!"},null,{"$f":"'Classement auteurs'!$B166","v":130993015101},{"$f":"IF('Classement auteurs'!K166=\"\",\"\",'Classement auteurs'!K166)","v":""},{"$f":"IF('Classement auteurs'!L166=\"\",\"\",'Classement auteurs'!L166)","v":104},{"$f":"IF('Classement auteurs'!M166=\"\",\"\",'Classement auteurs'!M166)","v":""},{"$f":"IF('Classement auteurs'!N166=\"\",\"\",'Classement auteurs'!N166)","v":""},{"$f":"IF('Classement auteurs'!O166=\"\",\"\",'Classement auteurs'!O166)","v":""},{"$f":"IF('Classement auteurs'!P166=\"\",\"\",'Classement auteurs'!P166)","v":""},{"$f":"IF('Classement auteurs'!Q166=\"\",\"\",'Classement auteurs'!Q166)","v":""},{"$f":"IF('Classement auteurs'!#REF!=\"\",\"\",'Classement auteurs'!#REF!)","v":{"$error":"#REF!"}}]
[null,{"$f":"'Classement auteurs'!$B167","v":130993015401},{"$f":"IFERROR(VLOOKUP($B167,'Défi-1'!$C$2:$J$200,8,FALSE),\"\")","v":42},{"$f":"IFERROR(VLOOKUP($B167,'Défi-2'!$C$2:$J$200,8,FALSE),\"\")","v":""},{"$f":"IFERROR(VLOOKUP($B167,'Défi-3'!$C$2:$J$200,8,FALSE),\"\")","v":""},{"$f":"IFERROR(VLOOKUP($B167,'Défi-4'!$C$2:$J$200,8,FALSE),\"\")","v":""},{"$f":"IFERROR(VLOOKUP($B167,'Défi-5'!$C$2:$J$200,8,FALSE),\"\")","v":31},{"$f":"IFERROR(VLOOKUP($B167,'Défi-6'!$C$2:$J$200,8,FALSE),\"\")","v":31},{"$f":"IFERROR(VLOOKUP($B167,'Défi-7'!$C$2:$J$200,8,FALSE),\"\")","v":""},104,null,"OK","KO","KO","OK","OK","KO","KO","OK",{"$error":"#REF!"},null,{"$f":"'Classement auteurs'!$B167","v":130993015401},{"$f":"IF('Classement auteurs'!K167=\"\",\"\",'Classement auteurs'!K167)","v":""},{"$f":"IF('Classement auteurs'!L167=\"\",\"\",'Classement auteurs'!L167)","v":104},{"$f":"IF('Classement auteurs'!M167=\"\",\"\",'Classement auteurs'!M167)","v":""},{"$f":"IF('Classement auteurs'!N167=\"\",\"\",'Classement auteurs'!N167)","v":""},{"$f":"IF('Classement auteurs'!O167=\"\",\"\",'Classement auteurs'!O167)","v":""},{"$f":"IF('Classement auteurs'!P167=\"\",\"\",'Classement auteurs'!P167)","v":""},{"$f":"IF('Classement auteurs'!Q167=\"\",\"\",'Classement auteurs'!Q167)","v":""},{"$f":"IF('Classement auteurs'!#REF!=\"\",\"\",'Classement auteurs'!#REF!)","v":{"$error":"#REF!"}}]
[null,{"$f":"'Classement auteurs'!$B168","v":131499010101},{"$f":"IFERROR(VLOOKUP($B168,'Défi-1'!$C$2:$J$200,8,FALSE),\"\")","v":37},{"$f":"IFERROR(VLOOKUP($B168,'Défi-2'!$C$2:$J$200,8,FALSE),\"\")","v":""},{"$f":"IFERROR(VLOOKUP($B168,'Défi-3'!$C$2:$J$200,8,FALSE),\"\")","v":""},{"$f":"IFERROR(VLOOKUP($B168,'Défi-4'!$C$2:$J$200,8,FALSE),\"\")","v":31},{"$f":"IFERROR(VLOOKUP($B168,'Défi-5'!$C$2:$J$200,8,FALSE),\"\")","v":34},{"$f":"IFERROR(VLOOKUP($B168,'Défi-6'!$C$2:$J$200,8,FALSE),\"\")","v":""},{"$f":"IFERROR(VLOOKUP($B168,'Défi-7'!$C$2:$J$200,8,FALSE),\"\")","v":""},102,null,"OK","KO","KO","OK","KO","KO","OK","OK",{"$error":"#REF!"},null,{"$f":"'Classement auteurs'!$B168","v":131499010101},{"$f":"IF('Classement auteurs'!K168=\"\",\"\",'Classement auteurs'!K168)","v":""},{"$f":"IF('Classement auteurs'!L168=\"\",\"\",'Classement auteurs'!L168)","v":102},{"$f":"IF('Classement auteurs'!M168=\"\",\"\",'Classement auteurs'!M168)","v":""},{"$f":"IF('Classement auteurs'!N168=\"\",\"\",'Classement auteurs'!N168)","v":""},{"$f":"IF('Classement auteurs'!O168=\"\",\"\",'Classement auteurs'!O168)","v":""},{"$f":"IF('Classement auteurs'!P168=\"\",\"\",'Classement auteurs'!P168)","v":""},{"$f":"IF('Classement auteurs'!Q168=\"\",\"\",'Classement auteurs'!Q168)","v":""},{"$f":"IF('Classement auteurs'!#REF!=\"\",\"\",'Classement auteurs'!#REF!)","v":{"$error":"#REF!"}}]
[null,{"$f":"'Classement auteurs'!$B169","v":131956005101},{"$f":"IFERROR(VLOOKUP($B169,'Défi-1'!$C$2:$J$200,8,FALSE),\"\")","v":34},{"$f":"IFERROR(VLOOKUP($B169,'Défi-2'!$C$2:$J$200,8,FALSE),\"\")","v":34},{"$f":"IFERROR(VLOOKUP($B169,'Défi-3'!$C$2:$J$200,8,FALSE),\"\")","v":""},{"$f":"IFERROR(VLOOKUP($B169,'Défi-4'!$C$2:$J$200,8,FALSE),\"\")","v":""},{"$f":"IFERROR(VLOOKUP($B169,'Défi-5'!$C$2:$J$200,8,FALSE),\"\")","v":""},{"$f":"IFERROR(VLOOKUP($B169,'Défi-6'!$C$2:$J$200,8,FALSE),\"\")","v":34},{"$f":"IFERROR(VLOOKUP($B169,'Défi-7'!$C$2:$J$200,8,FALSE),\"\")","v":""},102,null,"OK","KO","KO","OK","OK","OK","KO","OK",{"$error":"#REF!"},null,{"$f":"'Classement auteurs'!$B169","v":131956005101},{"$f":"IF('Classement auteurs'!K169=\"\",\"\",'Classement auteurs'!K169)","v":""},{"$f":"IF('Classement auteurs'!L169=\"\",\"\",'Classement auteurs'!L169)","v":102},{"$f":"IF('Classement auteurs'!M169=\"\",\"\",'Classement auteurs'!M169)","v":""},{"$f":"IF('Classement auteurs'!N169=\"\",\"\",'Classement auteurs'!N169)","v":""},{"$f":"IF('Classement auteurs'!O169=\"\",\"\",'Classement auteurs'!O169)","v":""},{"$f":"IF('Classement auteurs'!P169=\"\",\"\",'Classement auteurs'!P169)","v":""},{"$f":"IF('Classement auteurs'!Q169=\"\",\"\",'Classement auteurs'!Q169)","v":""},{"$f":"IF('Classement auteurs'!#REF!=\"\",\"\",'Classement auteurs'!#REF!)","v":{"$error":"#REF!"}}]
[null,{"$f":"'Classement auteurs'!$B170","v":131862005801},{"$f":"IFERROR(VLOOKUP($B170,'Défi-1'!$C$2:$J$200,8,FALSE),\"\")","v":""},{"$f":"IFERROR(VLOOKUP($B170,'Défi-2'!$C$2:$J$200,8,FALSE),\"\")","v":34},{"$f":"IFERROR(VLOOKUP($B170,'Défi-3'!$C$2:$J$200,8,FALSE),\"\")","v":33},{"$f":"IFERROR(VLOOKUP($B170,'Défi-4'!$C$2:$J$200,8,FALSE),\"\")","v":""},{"$f":"IFERROR(VLOOKUP($B170,'Défi-5'!$C$2:$J$200,8,FALSE),\"\")","v":""},{"$f":"IFERROR(VLOOKUP($B170,'Défi-6'!$C$2:$J$200,8,FALSE),\"\")","v":34},{"$f":"IFERROR(VLOOKUP($B170,'Défi-7'!$C$2:$J$200,8,FALSE),\"\")","v":""},101,null,"OK","OK","KO","KO","OK","OK","KO","OK",{"$error":"#REF!"},null,{"$f":"'Classement auteurs'!$B170","v":131862005801},{"$f":"IF('Classement auteurs'!K170=\"\",\"\",'Classement auteurs'!K170)","v":""},{"$f":"IF('Classement auteurs'!L170=\"\",\"\",'Classement auteurs'!L170)","v":101},{"$f":"IF('Classement auteurs'!M170=\"\",\"\",'Classement auteurs'!M170)","v":""},{"$f":"IF('Classement auteurs'!N170=\"\",\"\",'Classement auteurs'!N170)","v":""},{"$f":"IF('Classement auteurs'!O170=\"\",\"\",'Classement auteurs'!O170)","v":""},{"$f":"IF('Classement auteurs'!P170=\"\",\"\",'Classement auteurs'!P170)","v":""},{"$f":"IF('Classement auteurs'!Q170=\"\",\"\",'Classement auteurs'!Q170)","v":""},{"$f":"IF('Classement auteurs'!#REF!=\"\",\"\",'Classement auteurs'!#REF!)","v":{"$error":"#REF!"}}]
[null,{"$f":"'Classement auteurs'!$B171","v":131862001101},{"$f":"IFERROR(VLOOKUP($B171,'Défi-1'!$C$2:$J$200,8,FALSE),\"\")","v":29},{"$f":"IFERROR(VLOOKUP($B171,'Défi-2'!$C$2:$J$200,8,FALSE),\"\")","v":30},{"$f":"IFERROR(VLOOKUP($B171,'Défi-3'!$C$2:$J$200,8,FALSE),\"\")","v":41},{"$f":"IFERROR(VLOOKUP($B171,'Défi-4'!$C$2:$J$200,8,FALSE),\"\")","v":""},{"$f":"IFERROR(VLOOKUP($B171,'Défi-5'!$C$2:$J$200,8,FALSE),\"\")","v":""},{"$f":"IFERROR(VLOOKUP($B171,'Défi-6'!$C$2:$J$200,8,FALSE),\"\")","v":""},{"$f":"IFERROR(VLOOKUP($B171,'Défi-7'!$C$2:$J$200,8,FALSE),\"\")","v":""},100,null,"OK","KO","KO","KO","OK","OK","OK","OK",{"$error":"#REF!"},null,{"$f":"'Classement auteurs'!$B171","v":131862001101},{"$f":"IF('Classement auteurs'!K171=\"\",\"\",'Classement auteurs'!K171)","v":""},{"$f":"IF('Classement auteurs'!L171=\"\",\"\",'Classement auteurs'!L171)","v":100},{"$f":"IF('Classement auteurs'!M171=\"\",\"\",'Classement auteurs'!M171)","v":""},{"$f":"IF('Classement auteurs'!N171=\"\",\"\",'Classement auteurs'!N171)","v":""},{"$f":"IF('Classement auteurs'!O171=\"\",\"\",'Classement auteurs'!O171)","v":""},{"$f":"IF('Classement auteurs'!P171=\"\",\"\",'Classement auteurs'!P171)","v":""},{"$f":"IF('Classement auteurs'!Q171=\"\",\"\",'Classement auteurs'!Q171)","v":""},{"$f":"IF('Classement auteurs'!#REF!=\"\",\"\",'Classement auteurs'!#REF!)","v":{"$error":"#REF!"}}]
[null,{"$f":"'Classement auteurs'!$B172","v":130878015801},{"$f":"IFERROR(VLOOKUP($B172,'Défi-1'!$C$2:$J$200,8,FALSE),\"\")","v":""},{"$f":"IFERROR(VLOOKUP($B172,'Défi-2'!$C$2:$J$200,8,FALSE),\"\")","v":""},{"$f":"IFERROR(VLOOKUP($B172,'Défi-3'!$C$2:$J$200,8,FALSE),\"\")","v":""},{"$f":"IFERROR(VLOOKUP($B172,'Défi-4'!$C$2:$J$200,8,FALSE),\"\")","v":""},{"$f":"IFERROR(VLOOKUP($B172,'Défi-5'!$C$2:$J$200,8,FALSE),\"\")","v":49},{"$f":"IFERROR(VLOOKUP($B172,'Défi-6'!$C$2:$J$200,8,FALSE),\"\")","v":49},{"$f":"IFERROR(VLOOKUP($B172,'Défi-7'!$C$2:$J$200,8,FALSE),\"\")","v":""},98,null,"OK","OK","KO","OK","OK","KO","KO","OK",{"$error":"#REF!"},null,{"$f":"'Classement auteurs'!$B172","v":130878015801},{"$f":"IF('Classement auteurs'!K172=\"\",\"\",'Classement auteurs'!K172)","v":""},{"$f":"IF('Classement auteurs'!L172=\"\",\"\",'Classement auteurs'!L172)","v":98},{"$f":"IF('Classement auteurs'!M172=\"\",\"\",'Classement auteurs'!M172)","v":""},{"$f":"IF('Classement auteurs'!N172=\"\",\"\",'Classement auteurs'!N172)","v":""},{"$f":"IF('Classement auteurs'!O172=\"\",\"\",'Classement auteurs'!O172)","v":""},{"$f":"IF('Classement auteurs'!P172=\"\",\"\",'Classement auteurs'!P172)","v":""},{"$f":"IF('Classement auteurs'!Q172=\"\",\"\",'Classement auteurs'!Q172)","v":""},{"$f":"IF('Classement auteurs'!#REF!=\"\",\"\",'Classement auteurs'!#REF!)","v":{"$error":"#REF!"}}]
[null,{"$f":"'Classement auteurs'!$B173","v":132060002401},{"$f":"IFERROR(VLOOKUP($B173,'Défi-1'!$C$2:$J$200,8,FALSE),\"\")","v":35},{"$f":"IFERROR(VLOOKUP($B173,'Défi-2'!$C$2:$J$200,8,FALSE),\"\")","v":31},{"$f":"IFERROR(VLOOKUP($B173,'Défi-3'!$C$2:$J$200,8,FALSE),\"\")","v":32},{"$f":"IFERROR(VLOOKUP($B173,'Défi-4'!$C$2:$J$200,8,FALSE),\"\")","v":""},{"$f":"IFERROR(VLOOKUP($B173,'Défi-5'!$C$2:$J$200,8,FALSE),\"\")","v":""},{"$f":"IFERROR(VLOOKUP($B173,'Défi-6'!$C$2:$J$200,8,FALSE),\"\")","v":""},{"$f":"IFERROR(VLOOKUP($B173,'Défi-7'!$C$2:$J$200,8,FALSE),\"\")","v":""},98,null,"OK","KO","KO","KO","OK","OK","OK","OK",{"$error":"#REF!"},null,{"$f":"'Classement auteurs'!$B173","v":132060002401},{"$f":"IF('Classement auteurs'!K173=\"\",\"\",'Classement auteurs'!K173)","v":""},{"$f":"IF('Classement auteurs'!L173=\"\",\"\",'Classement auteurs'!L173)","v":98},{"$f":"IF('Classement auteurs'!M173=\"\",\"\",'Classement auteurs'!M173)","v":""},{"$f":"IF('Classement auteurs'!N173=\"\",\"\",'Classement auteurs'!N173)","v":""},{"$f":"IF('Classement auteurs'!O173=\"\",\"\",'Classement auteurs'!O173)","v":""},{"$f":"IF('Classement auteurs'!P173=\"\",\"\",'Classement auteurs'!P173)","v":""},{"$f":"IF('Classement auteurs'!Q173=\"\",\"\",'Classement auteurs'!Q173)","v":""},{"$f":"IF('Classement auteurs'!#REF!=\"\",\"\",'Classement auteurs'!#REF!)","v":{"$error":"#REF!"}}]
[null,{"$f":"'Classement auteurs'!$B174","v":131823004201},{"$f":"IFERROR(VLOOKUP($B174,'Défi-1'!$C$2:$J$200,8,FALSE),\"\")","v":""},{"$f":"IFERROR(VLOOKUP($B174,'Défi-2'!$C$2:$J$200,8,FALSE),\"\")","v":""},{"$f":"IFERROR(VLOOKUP($B174,'Défi-3'!$C$2:$J$200,8,FALSE),\"\")","v":34},{"$f":"IFERROR(VLOOKUP($B174,'Défi-4'!$C$2:$J$200,8,FALSE),\"\")","v":29},{"$f":"IFERROR(VLOOKUP($B174,'Défi-5'!$C$2:$J$200,8,FALSE),\"\")","v":34},{"$f":"IFERROR(VLOOKUP($B174,'Défi-6'!$C$2:$J$200,8,FALSE),\"\")","v":""},{"$f":"IFERROR(VLOOKUP($B174,'Défi-7'!$C$2:$J$200,8,FALSE),\"\")","v":""},97,null,"OK","OK","KO","KO","KO","KO","OK","OK",{"$error":"#REF!"},null,{"$f":"'Classement auteurs'!$B174","v":131823004201},{"$f":"IF('Classement auteurs'!K174=\"\",\"\",'Classement auteurs'!K174)","v":""},{"$f":"IF('Classement auteurs'!L174=\"\",\"\",'Classement auteurs'!L174)","v":97},{"$f":"IF('Classement auteurs'!M174=\"\",\"\",'Classement auteurs'!M174)","v":""},{"$f":"IF('Classement auteurs'!N174=\"\",\"\",'Classement auteurs'!N174)","v":""},{"$f":"IF('Classement auteurs'!O174=\"\",\"\",'Classement auteurs'!O174)","v":""},{"$f":"IF('Classement auteurs'!P174=\"\",\"\",'Classement auteurs'!P174)","v":""},{"$f":"IF('Classement auteurs'!Q174=\"\",\"\",'Classement auteurs'!Q174)","v":""},{"$f":"IF('Classement auteurs'!#REF!=\"\",\"\",'Classement auteurs'!#REF!)","v":{"$error":"#REF!"}}]
[null,{"$f":"'Classement auteurs'!$B175","v":130993013301},{"$f":"IFERROR(VLOOKUP($B175,'Défi-1'!$C$2:$J$200,8,FALSE),\"\")","v":""},{"$f":"IFERROR(VLOOKUP($B175,'Défi-2'!$C$2:$J$200,8,FALSE),\"\")","v":""},{"$f":"IFERROR(VLOOKUP($B175,'Défi-3'!$C$2:$J$200,8,FALSE),\"\")","v":""},{"$f":"IFERROR(VLOOKUP($B175,'Défi-4'!$C$2:$J$200,8,FALSE),\"\")","v":47},{"$f":"IFERROR(VLOOKUP($B175,'Défi-5'!$C$2:$J$200,8,FALSE),\"\")","v":""},{"$f":"IFERROR(VLOOKUP($B175,'Défi-6'!$C$2:$J$200,8,FALSE),\"\")","v":47},{"$f":"IFERROR(VLOOKUP($B175,'Défi-7'!$C$2:$J$200,8,FALSE),\"\")","v":""},94,null,"OK","OK","KO","OK","KO","OK","KO","OK",{"$error":"#REF!"},null,{"$f":"'Classement auteurs'!$B175","v":130993013301},{"$f":"IF('Classement auteurs'!K175=\"\",\"\",'Classement auteurs'!K175)","v":""},{"$f":"IF('Classement auteurs'!L175=\"\",\"\",'Classement auteurs'!L175)","v":94},{"$f":"IF('Classement auteurs'!M175=\"\",\"\",'Classement auteurs'!M175)","v":""},{"$f":"IF('Classement auteurs'!N175=\"\",\"\",'Classement auteurs'!N175)","v":""},{"$f":"IF('Classement auteurs'!O175=\"\",\"\",'Classement auteurs'!O175)","v":""},{"$f":"IF('Classement auteurs'!P175=\"\",\"\",'Classement auteurs'!P175)","v":""},{"$f":"IF('Classement auteurs'!Q175=\"\",\"\",'Classement auteurs'!Q175)","v":""},{"$f":"IF('Classement auteurs'!#REF!=\"\",\"\",'Classement auteurs'!#REF!)","v":{"$error":"#REF!"}}]
[null,{"$f":"'Classement auteurs'!$B176","v":131499011001},{"$f":"IFERROR(VLOOKUP($B176,'Défi-1'!$C$2:$J$200,8,FALSE),\"\")","v":""},{"$f":"IFERROR(VLOOKUP($B176,'Défi-2'!$C$2:$J$200,8,FALSE),\"\")","v":""},{"$f":"IFERROR(VLOOKUP($B176,'Défi-3'!$C$2:$J$200,8,FALSE),\"\")","v":""},{"$f":"IFERROR(VLOOKUP($B176,'Défi-4'!$C$2:$J$200,8,FALSE),\"\")","v":42},{"$f":"IFERROR(VLOOKUP($B176,'Défi-5'!$C$2:$J$200,8,FALSE),\"\")","v":51},{"$f":"IFERROR(VLOOKUP($B176,'Défi-6'!$C$2:$J$200,8,FALSE),\"\")","v":""},{"$f":"IFERROR(VLOOKUP($B176,'Défi-7'!$C$2:$J$200,8,FALSE),\"\")","v":""},93,null,"OK","OK","KO","OK","KO","KO","OK","OK",{"$error":"#REF!"},null,{"$f":"'Classement auteurs'!$B176","v":131499011001},{"$f":"IF('Classement auteurs'!K176=\"\",\"\",'Classement auteurs'!K176)","v":""},{"$f":"IF('Classement auteurs'!L176=\"\",\"\",'Classement auteurs'!L176)","v":93},{"$f":"IF('Classement auteurs'!M176=\"\",\"\",'Classement auteurs'!M176)","v":""},{"$f":"IF('Classement auteurs'!N176=\"\",\"\",'Classement auteurs'!N176)","v":""},{"$f":"IF('Classement auteurs'!O176=\"\",\"\",'Classement auteurs'!O176)","v":""},{"$f":"IF('Classement auteurs'!P176=\"\",\"\",'Classement auteurs'!P176)","v":""},{"$f":"IF('Classement auteurs'!Q176=\"\",\"\",'Classement auteurs'!Q176)","v":""},{"$f":"IF('Classement auteurs'!#REF!=\"\",\"\",'Classement auteurs'!#REF!)","v":{"$error":"#REF!"}}]
[null,{"$f":"'Classement auteurs'!$B177","v":131683002601},{"$f":"IFERROR(VLOOKUP($B177,'Défi-1'!$C$2:$J$200,8,FALSE),\"\")","v":""},{"$f":"IFERROR(VLOOKUP($B177,'Défi-2'!$C$2:$J$200,8,FALSE),\"\")","v":37},{"$f":"IFERROR(VLOOKUP($B177,'Défi-3'!$C$2:$J$200,8,FALSE),\"\")","v":""},{"$f":"IFERROR(VLOOKUP($B177,'Défi-4'!$C$2:$J$200,8,FALSE),\"\")","v":56},{"$f":"IFERROR(VLOOKUP($B177,'Défi-5'!$C$2:$J$200,8,FALSE),\"\")","v":""},{"$f":"IFERROR(VLOOKUP($B177,'Défi-6'!$C$2:$J$200,8,FALSE),\"\")","v":""},{"$f":"IFERROR(VLOOKUP($B177,'Défi-7'!$C$2:$J$200,8,FALSE),\"\")","v":""},93,null,"OK","OK","KO","OK","KO","OK","OK","OK",{"$error":"#REF!"},null,{"$f":"'Classement auteurs'!$B177","v":131683002601},{"$f":"IF('Classement auteurs'!K177=\"\",\"\",'Classement auteurs'!K177)","v":""},{"$f":"IF('Classement auteurs'!L177=\"\",\"\",'Classement auteurs'!L177)","v":93},{"$f":"IF('Classement auteurs'!M177=\"\",\"\",'Classement auteurs'!M177)","v":""},{"$f":"IF('Classement auteurs'!N177=\"\",\"\",'Classement auteurs'!N177)","v":""},{"$f":"IF('Classement auteurs'!O177=\"\",\"\",'Classement auteurs'!O177)","v":""},{"$f":"IF('Classement auteurs'!P177=\"\",\"\",'Classement auteurs'!P177)","v":""},{"$f":"IF('Classement auteurs'!Q177=\"\",\"\",'Classement auteurs'!Q177)","v":""},{"$f":"IF('Classement auteurs'!#REF!=\"\",\"\",'Classement auteurs'!#REF!)","v":{"$error":"#REF!"}}]
[null,{"$f":"'Classement auteurs'!$B178","v":131683006501},{"$f":"IFERROR(VLOOKUP($B178,'Défi-1'!$C$2:$J$200,8,FALSE),\"\")","v":""},{"$f":"IFERROR(VLOOKUP($B178,'Défi-2'!$C$2:$J$200,8,FALSE),\"\")","v":28},{"$f":"IFERROR(VLOOKUP($B178,'Défi-3'!$C$2:$J$200,8,FALSE),\"\")","v":34},{"$f":"IFERROR(VLOOKUP($B178,'Défi-4'!$C$2:$J$200,8,FALSE),\"\")","v":30},{"$f":"IFERROR(VLOOKUP($B178,'Défi-5'!$C$2:$J$200,8,FALSE),\"\")","v":""},{"$f":"IFERROR(VLOOKUP($B178,'Défi-6'!$C$2:$J$200,8,FALSE),\"\")","v":""},{"$f":"IFERROR(VLOOKUP($B178,'Défi-7'!$C$2:$J$200,8,FALSE),\"\")","v":""},92,null,"OK","OK","KO","KO","KO","OK","OK","OK",{"$error":"#REF!"},null,{"$f":"'Classement auteurs'!$B178","v":131683006501},{"$f":"IF('Classement auteurs'!K178=\"\",\"\",'Classement auteurs'!K178)","v":""},{"$f":"IF('Classement auteurs'!L178=\"\",\"\",'Classement auteurs'!L178)","v":92},{"$f":"IF('Classement auteurs'!M178=\"\",\"\",'Classement auteurs'!M178)","v":""},{"$f":"IF('Classement auteurs'!N178=\"\",\"\",'Classement auteurs'!N178)","v":""},{"$f":"IF('Classement auteurs'!O178=\"\",\"\",'Classement auteurs'!O178)","v":""},{"$f":"IF('Classement auteurs'!P178=\"\",\"\",'Classement auteurs'!P178)","v":""},{"$f":"IF('Classement auteurs'!Q178=\"\",\"\",'Classement auteurs'!Q178)","v":""},{"$f":"IF('Classement auteurs'!#REF!=\"\",\"\",'Classement auteurs'!#REF!)","v":{"$error":"#REF!"}}]
[null,{"$f":"'Classement auteurs'!$B179","v":131683006901},{"$f":"IFERROR(VLOOKUP($B179,'Défi-1'!$C$2:$J$200,8,FALSE),\"\")","v":""},{"$f":"IFERROR(VLOOKUP($B179,'Défi-2'!$C$2:$J$200,8,FALSE),\"\")","v":""},{"$f":"IFERROR(VLOOKUP($B179,'Défi-3'!$C$2:$J$200,8,FALSE),\"\")","v":51},{"$f":"IFERROR(VLOOKUP($B179,'Défi-4'!$C$2:$J$200,8,FALSE),\"\")","v":""},{"$f":"IFERROR(VLOOKUP($B179,'Défi-5'!$C$2:$J$200,8,FALSE),\"\")","v":41},{"$f":"IFERROR(VLOOKUP($B179,'Défi-6'!$C$2:$J$200,8,FALSE),\"\")","v":""},{"$f":"IFERROR(VLOOKUP($B179,'Défi-7'!$C$2:$J$200,8,FALSE),\"\")","v":""},92,null,"OK","OK","KO","KO","OK","KO","OK","OK",{"$error":"#REF!"},null,{"$f":"'Classement auteurs'!$B179","v":131683006901},{"$f":"IF('Classement auteurs'!K179=\"\",\"\",'Classement auteurs'!K179)","v":""},{"$f":"IF('Classement auteurs'!L179=\"\",\"\",'Classement auteurs'!L179)","v":92},{"$f":"IF('Classement auteurs'!M179=\"\",\"\",'Classement auteurs'!M179)","v":""},{"$f":"IF('Classement auteurs'!N179=\"\",\"\",'Classement auteurs'!N179)","v":""},{"$f":"IF('Classement auteurs'!O179=\"\",\"\",'Classement auteurs'!O179)","v":""},{"$f":"IF('Classement auteurs'!P179=\"\",\"\",'Classement auteurs'!P179)","v":""},{"$f":"IF('Classement auteurs'!Q179=\"\",\"\",'Classement auteurs'!Q179)","v":""},{"$f":"IF('Classement auteurs'!#REF!=\"\",\"\",'Classement auteurs'!#REF!)","v":{"$error":"#REF!"}}]
[null,{"$f":"'Classement auteurs'!$B180","v":132023002201},{"$f":"IFERROR(VLOOKUP($B180,'Défi-1'!$C$2:$J$200,8,FALSE),\"\")","v":""},{"$f":"IFERROR(VLOOKUP($B180,'Défi-2'!$C$2:$J$200,8,FALSE),\"\")","v":""},{"$f":"IFERROR(VLOOKUP($B180,'Défi-3'!$C$2:$J$200,8,FALSE),\"\")","v":""},{"$f":"IFERROR(VLOOKUP($B180,'Défi-4'!$C$2:$J$200,8,FALSE),\"\")","v":49},{"$f":"IFERROR(VLOOKUP($B180,'Défi-5'!$C$2:$J$200,8,FALSE),\"\")","v":43},{"$f":"IFERROR(VLOOKUP($B180,'Défi-6'!$C$2:$J$200,8,FALSE),\"\")","v":""},{"$f":"IFERROR(VLOOKUP($B180,'Défi-7'!$C$2:$J$200,8,FALSE),\"\")","v":""},92,null,"OK","OK","KO","OK","KO","KO","OK","OK",{"$error":"#REF!"},null,{"$f":"'Classement auteurs'!$B180","v":132023002201},{"$f":"IF('Classement auteurs'!K180=\"\",\"\",'Classement auteurs'!K180)","v":""},{"$f":"IF('Classement auteurs'!L180=\"\",\"\",'Classement auteurs'!L180)","v":92},{"$f":"IF('Classement auteurs'!M180=\"\",\"\",'Classement auteurs'!M180)","v":""},{"$f":"IF('Classement auteurs'!N180=\"\",\"\",'Classement auteurs'!N180)","v":""},{"$f":"IF('Classement auteurs'!O180=\"\",\"\",'Classement auteurs'!O180)","v":""},{"$f":"IF('Classement auteurs'!P180=\"\",\"\",'Classement auteurs'!P180)","v":""},{"$f":"IF('Classement auteurs'!Q180=\"\",\"\",'Classement auteurs'!Q180)","v":""},{"$f":"IF('Classement auteurs'!#REF!=\"\",\"\",'Classement auteurs'!#REF!)","v":{"$error":"#REF!"}}]
[null,{"$f":"'Classement auteurs'!$B181","v":132089000301},{"$f":"IFERROR(VLOOKUP($B181,'Défi-1'!$C$2:$J$200,8,FALSE),\"\")","v":31},{"$f":"IFERROR(VLOOKUP($B181,'Défi-2'!$C$2:$J$200,8,FALSE),\"\")","v":""},{"$f":"IFERROR(VLOOKUP($B181,'Défi-3'!$C$2:$J$200,8,FALSE),\"\")","v":31},{"$f":"IFERROR(VLOOKUP($B181,'Défi-4'!$C$2:$J$200,8,FALSE),\"\")","v":30},{"$f":"IFERROR(VLOOKUP($B181,'Défi-5'!$C$2:$J$200,8,FALSE),\"\")","v":""},{"$f":"IFERROR(VLOOKUP($B181,'Défi-6'!$C$2:$J$200,8,FALSE),\"\")","v":""},{"$f":"IFERROR(VLOOKUP($B181,'Défi-7'!$C$2:$J$200,8,FALSE),\"\")","v":""},92,null,"OK","KO","KO","KO","KO","OK","OK","OK",{"$error":"#REF!"},null,{"$f":"'Classement auteurs'!$B181","v":132089000301},{"$f":"IF('Classement auteurs'!K181=\"\",\"\",'Classement auteurs'!K181)","v":""},{"$f":"IF('Classement auteurs'!L181=\"\",\"\",'Classement auteurs'!L181)","v":92},{"$f":"IF('Classement auteurs'!M181=\"\",\"\",'Classement auteurs'!M181)","v":""},{"$f":"IF('Classement auteurs'!N181=\"\",\"\",'Classement auteurs'!N181)","v":""},{"$f":"IF('Classement auteurs'!O181=\"\",\"\",'Classement auteurs'!O181)","v":""},{"$f":"IF('Classement auteurs'!P181=\"\",\"\",'Classement auteurs'!P181)","v":""},{"$f":"IF('Classement auteurs'!Q181=\"\",\"\",'Classement auteurs'!Q181)","v":""},{"$f":"IF('Classement auteurs'!#REF!=\"\",\"\",'Classement auteurs'!#REF!)","v":{"$error":"#REF!"}}]
[null,{"$f":"'Classement auteurs'!$B182","v":131956006001},{"$f":"IFERROR(VLOOKUP($B182,'Défi-1'!$C$2:$J$200,8,FALSE),\"\")","v":50},{"$f":"IFERROR(VLOOKUP($B182,'Défi-2'!$C$2:$J$200,8,FALSE),\"\")","v":""},{"$f":"IFERROR(VLOOKUP($B182,'Défi-3'!$C$2:$J$200,8,FALSE),\"\")","v":""},{"$f":"IFERROR(VLOOKUP($B182,'Défi-4'!$C$2:$J$200,8,FALSE),\"\")","v":""},{"$f":"IFERROR(VLOOKUP($B182,'Défi-5'!$C$2:$J$200,8,FALSE),\"\")","v":""},{"$f":"IFERROR(VLOOKUP($B182,'Défi-6'!$C$2:$J$200,8,FALSE),\"\")","v":""},{"$f":"IFERROR(VLOOKUP($B182,'Défi-7'!$C$2:$J$200,8,FALSE),\"\")","v":39},89,null,"OK","KO","KO","OK","OK","OK","OK","KO",{"$error":"#REF!"},null,{"$f":"'Classement auteurs'!$B182","v":131956006001},{"$f":"IF('Classement auteurs'!K182=\"\",\"\",'Classement auteurs'!K182)","v":39},{"$f":"IF('Classement auteurs'!L182=\"\",\"\",'Classement auteurs'!L182)","v":89},{"$f":"IF('Classement auteurs'!M182=\"\",\"\",'Classement auteurs'!M182)","v":""},{"$f":"IF('Classement auteurs'!N182=\"\",\"\",'Classement auteurs'!N182)","v":""},{"$f":"IF('Classement auteurs'!O182=\"\",\"\",'Classement auteurs'!O182)","v":""},{"$f":"IF('Classement auteurs'!P182=\"\",\"\",'Classement auteurs'!P182)","v":""},{"$f":"IF('Classement auteurs'!Q182=\"\",\"\",'Classement auteurs'!Q182)","v":""},{"$f":"IF('Classement auteurs'!#REF!=\"\",\"\",'Classement auteurs'!#REF!)","v":{"$error":"#REF!"}}]
[null,{"$f":"'Classement auteurs'!$B183","v":132193000601},{"$f":"IFERROR(VLOOKUP($B183,'Défi-1'!$C$2:$J$200,8,FALSE),\"\")","v":""},{"$f":"IFERROR(VLOOKUP($B183,'Défi-2'!$C$2:$J$200,8,FALSE),\"\")","v":""},{"$f":"IFERROR(VLOOKUP($B183,'Défi-3'!$C$2:$J$200,8,FALSE),\"\")","v":44},{"$f":"IFERROR(VLOOKUP($B183,'Défi-4'!$C$2:$J$200,8,FALSE),\"\")","v":""},{"$f":"IFERROR(VLOOKUP($B183,'Défi-5'!$C$2:$J$200,8,FALSE),\"\")","v":""},{"$f":"IFERROR(VLOOKUP($B183,'Défi-6'!$C$2:$J$200,8,FALSE),\"\")","v":44},{"$f":"IFERROR(VLOOKUP($B183,'Défi-7'!$C$2:$J$200,8,FALSE),\"\")","v":""},88,null,"OK","OK","KO","KO","OK","OK","KO","OK",{"$error":"#REF!"},null,{"$f":"'Classement auteurs'!$B183","v":132193000601},{"$f":"IF('Classement auteurs'!K183=\"\",\"\",'Classement auteurs'!K183)","v":""},{"$f":"IF('Classement auteurs'!L183=\"\",\"\",'Classement auteurs'!L183)","v":88},{"$f":"IF('Classement auteurs'!M183=\"\",\"\",'Classement auteurs'!M183)","v":""},{"$f":"IF('Classement auteurs'!N183=\"\",\"\",'Classement auteurs'!N183)","v":""},{"$f":"IF('Classement auteurs'!O183=\"\",\"\",'Classement auteurs'!O183)","v":""},{"$f":"IF('Classement auteurs'!P183=\"\",\"\",'Classement auteurs'!P183)","v":""},{"$f":"IF('Classement auteurs'!Q183=\"\",\"\",'Classement auteurs'!Q183)","v":""},{"$f":"IF('Classement auteurs'!#REF!=\"\",\"\",'Classement auteurs'!#REF!)","v":{"$error":"#REF!"}}]
[null,{"$f":"'Classement auteurs'!$B184","v":130925010501},{"$f":"IFERROR(VLOOKUP($B184,'Défi-1'!$C$2:$J$200,8,FALSE),\"\")","v":""},{"$f":"IFERROR(VLOOKUP($B184,'Défi-2'!$C$2:$J$200,8,FALSE),\"\")","v":""},{"$f":"IFERROR(VLOOKUP($B184,'Défi-3'!$C$2:$J$200,8,FALSE),\"\")","v":46},{"$f":"IFERROR(VLOOKUP($B184,'Défi-4'!$C$2:$J$200,8,FALSE),\"\")","v":41},{"$f":"IFERROR(VLOOKUP($B184,'Défi-5'!$C$2:$J$200,8,FALSE),\"\")","v":""},{"$f":"IFERROR(VLOOKUP($B184,'Défi-6'!$C$2:$J$200,8,FALSE),\"\")","v":""},{"$f":"IFERROR(VLOOKUP($B184,'Défi-7'!$C$2:$J$200,8,FALSE),\"\")","v":""},87,null,"OK","OK","KO","KO","KO","OK","OK","OK",{"$error":"#REF!"},null,{"$f":"'Classement auteurs'!$B184","v":130925010501},{"$f":"IF('Classement auteurs'!K184=\"\",\"\",'Classement auteurs'!K184)","v":""},{"$f":"IF('Classement auteurs'!L184=\"\",\"\",'Classement auteurs'!L184)","v":87},{"$f":"IF('Classement auteurs'!M184=\"\",\"\",'Classement auteurs'!M184)","v":""},{"$f":"IF('Classement auteurs'!N184=\"\",\"\",'Classement auteurs'!N184)","v":""},{"$f":"IF('Classement auteurs'!O184=\"\",\"\",'Classement auteurs'!O184)","v":""},{"$f":"IF('Classement auteurs'!P184=\"\",\"\",'Classement auteurs'!P184)","v":""},{"$f":"IF('Classement auteurs'!Q184=\"\",\"\",'Classement auteurs'!Q184)","v":""},{"$f":"IF('Classement auteurs'!#REF!=\"\",\"\",'Classement auteurs'!#REF!)","v":{"$error":"#REF!"}}]
[null,{"$f":"'Classement auteurs'!$B185","v":131494002101},{"$f":"IFERROR(VLOOKUP($B185,'Défi-1'!$C$2:$J$200,8,FALSE),\"\")","v":""},{"$f":"IFERROR(VLOOKUP($B185,'Défi-2'!$C$2:$J$200,8,FALSE),\"\")","v":29},{"$f":"IFERROR(VLOOKUP($B185,'Défi-3'!$C$2:$J$200,8,FALSE),\"\")","v":""},{"$f":"IFERROR(VLOOKUP($B185,'Défi-4'!$C$2:$J$200,8,FALSE),\"\")","v":25},{"$f":"IFERROR(VLOOKUP($B185,'Défi-5'!$C$2:$J$200,8,FALSE),\"\")","v":""},{"$f":"IFERROR(VLOOKUP($B185,'Défi-6'!$C$2:$J$200,8,FALSE),\"\")","v":25},{"$f":"IFERROR(VLOOKUP($B185,'Défi-7'!$C$2:$J$200,8,FALSE),\"\")","v":""},79,null,"OK","OK","KO","OK","KO","OK","KO","OK",{"$error":"#REF!"},null,{"$f":"'Classement auteurs'!$B185","v":131494002101},{"$f":"IF('Classement auteurs'!K185=\"\",\"\",'Classement auteurs'!K185)","v":""},{"$f":"IF('Classement auteurs'!L185=\"\",\"\",'Classement auteurs'!L185)","v":79},{"$f":"IF('Classement auteurs'!M185=\"\",\"\",'Classement auteurs'!M185)","v":""},{"$f":"IF('Classement auteurs'!N185=\"\",\"\",'Classement auteurs'!N185)","v":""},{"$f":"IF('Classement auteurs'!O185=\"\",\"\",'Classement auteurs'!O185)","v":""},{"$f":"IF('Classement auteurs'!P185=\"\",\"\",'Classement auteurs'!P185)","v":""},{"$f":"IF('Classement auteurs'!Q185=\"\",\"\",'Classement auteurs'!Q185)","v":""},{"$f":"IF('Classement auteurs'!#REF!=\"\",\"\",'Classement auteurs'!#REF!)","v":{"$error":"#REF!"}}]
[null,{"$f":"'Classement auteurs'!$B186","v":130993013801},{"$f":"IFERROR(VLOOKUP($B186,'Défi-1'!$C$2:$J$200,8,FALSE),\"\")","v":""},{"$f":"IFERROR(VLOOKUP($B186,'Défi-2'!$C$2:$J$200,8,FALSE),\"\")","v":""},{"$f":"IFERROR(VLOOKUP($B186,'Défi-3'!$C$2:$J$200,8,FALSE),\"\")","v":""},{"$f":"IFERROR(VLOOKUP($B186,'Défi-4'!$C$2:$J$200,8,FALSE),\"\")","v":""},{"$f":"IFERROR(VLOOKUP($B186,'Défi-5'!$C$2:$J$200,8,FALSE),\"\")","v":38},{"$f":"IFERROR(VLOOKUP($B186,'Défi-6'!$C$2:$J$200,8,FALSE),\"\")","v":38},{"$f":"IFERROR(VLOOKUP($B186,'Défi-7'!$C$2:$J$200,8,FALSE),\"\")","v":""},76,null,"OK","OK","KO","OK","OK","KO","KO","OK",{"$error":"#REF!"},null,{"$f":"'Classement auteurs'!$B186","v":130993013801},{"$f":"IF('Classement auteurs'!K186=\"\",\"\",'Classement auteurs'!K186)","v":""},{"$f":"IF('Classement auteurs'!L186=\"\",\"\",'Classement auteurs'!L186)","v":76},{"$f":"IF('Classement auteurs'!M186=\"\",\"\",'Classement auteurs'!M186)","v":""},{"$f":"IF('Classement auteurs'!N186=\"\",\"\",'Classement auteurs'!N186)","v":""},{"$f":"IF('Classement auteurs'!O186=\"\",\"\",'Classement auteurs'!O186)","v":""},{"$f":"IF('Classement auteurs'!P186=\"\",\"\",'Classement auteurs'!P186)","v":""},{"$f":"IF('Classement auteurs'!Q186=\"\",\"\",'Classement auteurs'!Q186)","v":""},{"$f":"IF('Classement auteurs'!#REF!=\"\",\"\",'Classement auteurs'!#REF!)","v":{"$error":"#REF!"}}]
[null,{"$f":"'Classement auteurs'!$B187","v":131376018001},{"$f":"IFERROR(VLOOKUP($B187,'Défi-1'!$C$2:$J$200,8,FALSE),\"\")","v":38},{"$f":"IFERROR(VLOOKUP($B187,'Défi-2'!$C$2:$J$200,8,FALSE),\"\")","v":38},{"$f":"IFERROR(VLOOKUP($B187,'Défi-3'!$C$2:$J$200,8,FALSE),\"\")","v":""},{"$f":"IFERROR(VLOOKUP($B187,'Défi-4'!$C$2:$J$200,8,FALSE),\"\")","v":""},{"$f":"IFERROR(VLOOKUP($B187,'Défi-5'!$C$2:$J$200,8,FALSE),\"\")","v":""},{"$f":"IFERROR(VLOOKUP($B187,'Défi-6'!$C$2:$J$200,8,FALSE),\"\")","v":""},{"$f":"IFERROR(VLOOKUP($B187,'Défi-7'!$C$2:$J$200,8,FALSE),\"\")","v":""},76,null,"OK","KO","KO","OK","OK","OK","OK","OK",{"$error":"#REF!"},null,{"$f":"'Classement auteurs'!$B187","v":131376018001},{"$f":"IF('Classement auteurs'!K187=\"\",\"\",'Classement auteurs'!K187)","v":""},{"$f":"IF('Classement auteurs'!L187=\"\",\"\",'Classement auteurs'!L187)","v":76},{"$f":"IF('Classement auteurs'!M187=\"\",\"\",'Classement auteurs'!M187)","v":""},{"$f":"IF('Classement auteurs'!N187=\"\",\"\",'Classement auteurs'!N187)","v":""},{"$f":"IF('Classement auteurs'!O187=\"\",\"\",'Classement auteurs'!O187)","v":""},{"$f":"IF('Classement auteurs'!P187=\"\",\"\",'Classement auteurs'!P187)","v":""},{"$f":"IF('Classement auteurs'!Q187=\"\",\"\",'Classement auteurs'!Q187)","v":""},{"$f":"IF('Classement auteurs'!#REF!=\"\",\"\",'Classement auteurs'!#REF!)","v":{"$error":"#REF!"}}]
[null,{"$f":"'Classement auteurs'!$B188","v":131845000201},{"$f":"IFERROR(VLOOKUP($B188,'Défi-1'!$C$2:$J$200,8,FALSE),\"\")","v":""},{"$f":"IFERROR(VLOOKUP($B188,'Défi-2'!$C$2:$J$200,8,FALSE),\"\")","v":""},{"$f":"IFERROR(VLOOKUP($B188,'Défi-3'!$C$2:$J$200,8,FALSE),\"\")","v":""},{"$f":"IFERROR(VLOOKUP($B188,'Défi-4'!$C$2:$J$200,8,FALSE),\"\")","v":18},{"$f":"IFERROR(VLOOKUP($B188,'Défi-5'!$C$2:$J$200,8,FALSE),\"\")","v":40},{"$f":"IFERROR(VLOOKUP($B188,'Défi-6'!$C$2:$J$200,8,FALSE),\"\")","v":18},{"$f":"IFERROR(VLOOKUP($B188,'Défi-7'!$C$2:$J$200,8,FALSE),\"\")","v":""},76,null,"OK","OK","KO","OK","KO","KO","KO","OK",{"$error":"#REF!"},null,{"$f":"'Classement auteurs'!$B188","v":131845000201},{"$f":"IF('Classement auteurs'!K188=\"\",\"\",'Classement auteurs'!K188)","v":""},{"$f":"IF('Classement auteurs'!L188=\"\",\"\",'Classement auteurs'!L188)","v":76},{"$f":"IF('Classement auteurs'!M188=\"\",\"\",'Classement auteurs'!M188)","v":""},{"$f":"IF('Classement auteurs'!N188=\"\",\"\",'Classement auteurs'!N188)","v":""},{"$f":"IF('Classement auteurs'!O188=\"\",\"\",'Classement auteurs'!O188)","v":""},{"$f":"IF('Classement auteurs'!P188=\"\",\"\",'Classement auteurs'!P188)","v":""},{"$f":"IF('Classement auteurs'!Q188=\"\",\"\",'Classement auteurs'!Q188)","v":""},{"$f":"IF('Classement auteurs'!#REF!=\"\",\"\",'Classement auteurs'!#REF!)","v":{"$error":"#REF!"}}]
[null,{"$f":"'Classement auteurs'!$B189","v":132084000201},{"$f":"IFERROR(VLOOKUP($B189,'Défi-1'!$C$2:$J$200,8,FALSE),\"\")","v":""},{"$f":"IFERROR(VLOOKUP($B189,'Défi-2'!$C$2:$J$200,8,FALSE),\"\")","v":""},{"$f":"IFERROR(VLOOKUP($B189,'Défi-3'!$C$2:$J$200,8,FALSE),\"\")","v":""},{"$f":"IFERROR(VLOOKUP($B189,'Défi-4'!$C$2:$J$200,8,FALSE),\"\")","v":""},{"$f":"IFERROR(VLOOKUP($B189,'Défi-5'!$C$2:$J$200,8,FALSE),\"\")","v":38},{"$f":"IFERROR(VLOOKUP($B189,'Défi-6'!$C$2:$J$200,8,FALSE),\"\")","v":38},{"$f":"IFERROR(VLOOKUP($B189,'Défi-7'!$C$2:$J$200,8,FALSE),\"\")","v":""},76,null,"OK","OK","KO","OK","OK","KO","KO","OK",{"$error":"#REF!"},null,{"$f":"'Classement auteurs'!$B189","v":132084000201},{"$f":"IF('Classement auteurs'!K189=\"\",\"\",'Classement auteurs'!K189)","v":""},{"$f":"IF('Classement auteurs'!L189=\"\",\"\",'Classement auteurs'!L189)","v":76},{"$f":"IF('Classement auteurs'!M189=\"\",\"\",'Classement auteurs'!M189)","v":""},{"$f":"IF('Classement auteurs'!N189=\"\",\"\",'Classement auteurs'!N189)","v":""},{"$f":"IF('Classement auteurs'!O189=\"\",\"\",'Classement auteurs'!O189)","v":""},{"$f":"IF('Classement auteurs'!P189=\"\",\"\",'Classement auteurs'!P189)","v":""},{"$f":"IF('Classement auteurs'!Q189=\"\",\"\",'Classement auteurs'!Q189)","v":""},{"$f":"IF('Classement auteurs'!#REF!=\"\",\"\",'Classement auteurs'!#REF!)","v":{"$error":"#REF!"}}]
[null,{"$f":"'Classement auteurs'!$B190","v":131956000401},{"$f":"IFERROR(VLOOKUP($B190,'Défi-1'!$C$2:$J$200,8,FALSE),\"\")","v":33},{"$f":"IFERROR(VLOOKUP($B190,'Défi-2'!$C$2:$J$200,8,FALSE),\"\")","v":""},{"$f":"IFERROR(VLOOKUP($B190,'Défi-3'!$C$2:$J$200,8,FALSE),\"\")","v":""},{"$f":"IFERROR(VLOOKUP($B190,'Défi-4'!$C$2:$J$200,8,FALSE),\"\")","v":""},{"$f":"IFERROR(VLOOKUP($B190,'Défi-5'!$C$2:$J$200,8,FALSE),\"\")","v":""},{"$f":"IFERROR(VLOOKUP($B190,'Défi-6'!$C$2:$J$200,8,FALSE),\"\")","v":""},{"$f":"IFERROR(VLOOKUP($B190,'Défi-7'!$C$2:$J$200,8,FALSE),\"\")","v":41},74,null,"OK","KO","KO","OK","OK","OK","OK","KO",{"$error":"#REF!"},null,{"$f":"'Classement auteurs'!$B190","v":131956000401},{"$f":"IF('Classement auteurs'!K190=\"\",\"\",'Classement auteurs'!K190)","v":41},{"$f":"IF('Classement auteurs'!L190=\"\",\"\",'Classement auteurs'!L190)","v":74},{"$f":"IF('Classement auteurs'!M190=\"\",\"\",'Classement auteurs'!M190)","v":""},{"$f":"IF('Classement auteurs'!N190=\"\",\"\",'Classement auteurs'!N190)","v":""},{"$f":"IF('Classement auteurs'!O190=\"\",\"\",'Classement auteurs'!O190)","v":""},{"$f":"IF('Classement auteurs'!P190=\"\",\"\",'Classement auteurs'!P190)","v":""},{"$f":"IF('Classement auteurs'!Q190=\"\",\"\",'Classement auteurs'!Q190)","v":""},{"$f":"IF('Classement auteurs'!#REF!=\"\",\"\",'Classement auteurs'!#REF!)","v":{"$error":"#REF!"}}]
[null,{"$f":"'Classement auteurs'!$B191","v":131956005401},{"$f":"IFERROR(VLOOKUP($B191,'Défi-1'!$C$2:$J$200,8,FALSE),\"\")","v":""},{"$f":"IFERROR(VLOOKUP($B191,'Défi-2'!$C$2:$J$200,8,FALSE),\"\")","v":""},{"$f":"IFERROR(VLOOKUP($B191,'Défi-3'!$C$2:$J$200,8,FALSE),\"\")","v":34},{"$f":"IFERROR(VLOOKUP($B191,'Défi-4'!$C$2:$J$200,8,FALSE),\"\")","v":""},{"$f":"IFERROR(VLOOKUP($B191,'Défi-5'!$C$2:$J$200,8,FALSE),\"\")","v":""},{"$f":"IFERROR(VLOOKUP($B191,'Défi-6'!$C$2:$J$200,8,FALSE),\"\")","v":""},{"$f":"IFERROR(VLOOKUP($B191,'Défi-7'!$C$2:$J$200,8,FALSE),\"\")","v":40},74,null,"OK","KO","KO","KO","OK","OK","OK","KO",{"$error":"#REF!"},null,{"$f":"'Classement auteurs'!$B191","v":131956005401},{"$f":"IF('Classement auteurs'!K191=\"\",\"\",'Classement auteurs'!K191)","v":40},{"$f":"IF('Classement auteurs'!L191=\"\",\"\",'Classement auteurs'!L191)","v":74},{"$f":"IF('Classement auteurs'!M191=\"\",\"\",'Classement auteurs'!M191)","v":""},{"$f":"IF('Classement auteurs'!N191=\"\",\"\",'Classement auteurs'!N191)","v":""},{"$f":"IF('Classement auteurs'!O191=\"\",\"\",'Classement auteurs'!O191)","v":""},{"$f":"IF('Classement auteurs'!P191=\"\",\"\",'Classement auteurs'!P191)","v":""},{"$f":"IF('Classement auteurs'!Q191=\"\",\"\",'Classement auteurs'!Q191)","v":""},{"$f":"IF('Classement auteurs'!#REF!=\"\",\"\",'Classement auteurs'!#REF!)","v":{"$error":"#REF!"}}]
[null,{"$f":"'Classement auteurs'!$B192","v":131376015801},{"$f":"IFERROR(VLOOKUP($B192,'Défi-1'!$C$2:$J$200,8,FALSE),\"\")","v":36},{"$f":"IFERROR(VLOOKUP($B192,'Défi-2'!$C$2:$J$200,8,FALSE),\"\")","v":""},{"$f":"IFERROR(VLOOKUP($B192,'Défi-3'!$C$2:$J$200,8,FALSE),\"\")","v":""},{"$f":"IFERROR(VLOOKUP($B192,'Défi-4'!$C$2:$J$200,8,FALSE),\"\")","v":37},{"$f":"IFERROR(VLOOKUP($B192,'Défi-5'!$C$2:$J$200,8,FALSE),\"\")","v":""},{"$f":"IFERROR(VLOOKUP($B192,'Défi-6'!$C$2:$J$200,8,FALSE),\"\")","v":""},{"$f":"IFERROR(VLOOKUP($B192,'Défi-7'!$C$2:$J$200,8,FALSE),\"\")","v":""},73,null,"OK","KO","KO","OK","KO","OK","OK","OK",{"$error":"#REF!"},null,{"$f":"'Classement auteurs'!$B192","v":131376015801},{"$f":"IF('Classement auteurs'!K192=\"\",\"\",'Classement auteurs'!K192)","v":""},{"$f":"IF('Classement auteurs'!L192=\"\",\"\",'Classement auteurs'!L192)","v":73},{"$f":"IF('Classement auteurs'!M192=\"\",\"\",'Classement auteurs'!M192)","v":""},{"$f":"IF('Classement auteurs'!N192=\"\",\"\",'Classement auteurs'!N192)","v":""},{"$f":"IF('Classement auteurs'!O192=\"\",\"\",'Classement auteurs'!O192)","v":""},{"$f":"IF('Classement auteurs'!P192=\"\",\"\",'Classement auteurs'!P192)","v":""},{"$f":"IF('Classement auteurs'!Q192=\"\",\"\",'Classement auteurs'!Q192)","v":""},{"$f":"IF('Classement auteurs'!#REF!=\"\",\"\",'Classement auteurs'!#REF!)","v":{"$error":"#REF!"}}]
[null,{"$f":"'Classement auteurs'!$B193","v":131845001101},{"$f":"IFERROR(VLOOKUP($B193,'Défi-1'!$C$2:$J$200,8,FALSE),\"\")","v":41},{"$f":"IFERROR(VLOOKUP($B193,'Défi-2'!$C$2:$J$200,8,FALSE),\"\")","v":""},{"$f":"IFERROR(VLOOKUP($B193,'Défi-3'!$C$2:$J$200,8,FALSE),\"\")","v":""},{"$f":"IFERROR(VLOOKUP($B193,'Défi-4'!$C$2:$J$200,8,FALSE),\"\")","v":""},{"$f":"IFERROR(VLOOKUP($B193,'Défi-5'!$C$2:$J$200,8,FALSE),\"\")","v":32},{"$f":"IFERROR(VLOOKUP($B193,'Défi-6'!$C$2:$J$200,8,FALSE),\"\")","v":""},{"$f":"IFERROR(VLOOKUP($B193,'Défi-7'!$C$2:$J$200,8,FALSE),\"\")","v":""},73,null,"OK","KO","KO","OK","OK","KO","OK","OK",{"$error":"#REF!"},null,{"$f":"'Classement auteurs'!$B193","v":131845001101},{"$f":"IF('Classement auteurs'!K193=\"\",\"\",'Classement auteurs'!K193)","v":""},{"$f":"IF('Classement auteurs'!L193=\"\",\"\",'Classement auteurs'!L193)","v":73},{"$f":"IF('Classement auteurs'!M193=\"\",\"\",'Classement auteurs'!M193)","v":""},{"$f":"IF('Classement auteurs'!N193=\"\",\"\",'Classement auteurs'!N193)","v":""},{"$f":"IF('Classement auteurs'!O193=\"\",\"\",'Classement auteurs'!O193)","v":""},{"$f":"IF('Classement auteurs'!P193=\"\",\"\",'Classement auteurs'!P193)","v":""},{"$f":"IF('Classement auteurs'!Q193=\"\",\"\",'Classement auteurs'!Q193)","v":""},{"$f":"IF('Classement auteurs'!#REF!=\"\",\"\",'Classement auteurs'!#REF!)","v":{"$error":"#REF!"}}]
[null,{"$f":"'Classement auteurs'!$B194","v":131879000901},{"$f":"IFERROR(VLOOKUP($B194,'Défi-1'!$C$2:$J$200,8,FALSE),\"\")","v":""},{"$f":"IFERROR(VLOOKUP($B194,'Défi-2'!$C$2:$J$200,8,FALSE),\"\")","v":""},{"$f":"IFERROR(VLOOKUP($B194,'Défi-3'!$C$2:$J$200,8,FALSE),\"\")","v":44},{"$f":"IFERROR(VLOOKUP($B194,'Défi-4'!$C$2:$J$200,8,FALSE),\"\")","v":""},{"$f":"IFERROR(VLOOKUP($B194,'Défi-5'!$C$2:$J$200,8,FALSE),\"\")","v":29},{"$f":"IFERROR(VLOOKUP($B194,'Défi-6'!$C$2:$J$200,8,FALSE),\"\")","v":""},{"$f":"IFERROR(VLOOKUP($B194,'Défi-7'!$C$2:$J$200,8,FALSE),\"\")","v":""},73,null,"OK","OK","KO","KO","OK","KO","OK","OK",{"$error":"#REF!"},null,{"$f":"'Classement auteurs'!$B194","v":131879000901},{"$f":"IF('Classement auteurs'!K194=\"\",\"\",'Classement auteurs'!K194)","v":""},{"$f":"IF('Classement auteurs'!L194=\"\",\"\",'Classement auteurs'!L194)","v":73},{"$f":"IF('Classement auteurs'!M194=\"\",\"\",'Classement auteurs'!M194)","v":""},{"$f":"IF('Classement auteurs'!N194=\"\",\"\",'Classement auteurs'!N194)","v":""},{"$f":"IF('Classement auteurs'!O194=\"\",\"\",'Classement auteurs'!O194)","v":""},{"$f":"IF('Classement auteurs'!P194=\"\",\"\",'Classement auteurs'!P194)","v":""},{"$f":"IF('Classement auteurs'!Q194=\"\",\"\",'Classement auteurs'!Q194)","v":""},{"$f":"IF('Classement auteurs'!#REF!=\"\",\"\",'Classement auteurs'!#REF!)","v":{"$error":"#REF!"}}]
[null,{"$f":"'Classement auteurs'!$B195","v":130878013301},{"$f":"IFERROR(VLOOKUP($B195,'Défi-1'!$C$2:$J$200,8,FALSE),\"\")","v":""},{"$f":"IFERROR(VLOOKUP($B195,'Défi-2'!$C$2:$J$200,8,FALSE),\"\")","v":""},{"$f":"IFERROR(VLOOKUP($B195,'Défi-3'!$C$2:$J$200,8,FALSE),\"\")","v":""},{"$f":"IFERROR(VLOOKUP($B195,'Défi-4'!$C$2:$J$200,8,FALSE),\"\")","v":36},{"$f":"IFERROR(VLOOKUP($B195,'Défi-5'!$C$2:$J$200,8,FALSE),\"\")","v":""},{"$f":"IFERROR(VLOOKUP($B195,'Défi-6'!$C$2:$J$200,8,FALSE),\"\")","v":36},{"$f":"IFERROR(VLOOKUP($B195,'Défi-7'!$C$2:$J$200,8,FALSE),\"\")","v":""},{"$f":"SUM(C195:I195)","v":72},null,{"$f":"IF(B195=V195,\"OK\",\"KO\")","v":"OK"},{"$f":"IF(C195=W195,\"OK\",\"KO\")","v":"OK"},{"$f":"IF(D195=X195,\"OK\",\"KO\")","v":"KO"},{"$f":"IF(E195=Y195,\"OK\",\"KO\")","v":"OK"},{"$f":"IF(F195=Z195,\"OK\",\"KO\")","v":"KO"},{"$f":"IF(G195=AA195,\"OK\",\"KO\")","v":"OK"},{"$f":"IF(H195=AB195,\"OK\",\"KO\")","v":"KO"},{"$f":"IF(I195=AC195,\"OK\",\"KO\")","v":"OK"},{"$f":"IF(J195=AD195,\"OK\",\"KO\")","v":{"$error":"#REF!"}},null,{"$f":"'Classement auteurs'!$B195","v":130878013301},{"$f":"IF('Classement auteurs'!K195=\"\",\"\",'Classement auteurs'!K195)","v":""},{"$f":"IF('Classement auteurs'!L195=\"\",\"\",'Classement auteurs'!L195)","v":72},{"$f":"IF('Classement auteurs'!M195=\"\",\"\",'Classement auteurs'!M195)","v":""},{"$f":"IF('Classement auteurs'!N195=\"\",\"\",'Classement auteurs'!N195)","v":""},{"$f":"IF('Classement auteurs'!O195=\"\",\"\",'Classement auteurs'!O195)","v":""},{"$f":"IF('Classement auteurs'!P195=\"\",\"\",'Classement auteurs'!P195)","v":""},{"$f":"IF('Classement auteurs'!Q195=\"\",\"\",'Classement auteurs'!Q195)","v":""},{"$f":"IF('Classement auteurs'!#REF!=\"\",\"\",'Classement auteurs'!#REF!)","v":{"$error":"#REF!"}}]
[null,{"$f":"'Classement auteurs'!$B196","v":130987028801},{"$f":"IFERROR(VLOOKUP($B196,'Défi-1'!$C$2:$J$200,8,FALSE),\"\")","v":36},{"$f":"IFERROR(VLOOKUP($B196,'Défi-2'!$C$2:$J$200,8,FALSE),\"\")","v":""},{"$f":"IFERROR(VLOOKUP($B196,'Défi-3'!$C$2:$J$200,8,FALSE),\"\")","v":""},{"$f":"IFERROR(VLOOKUP($B196,'Défi-4'!$C$2:$J$200,8,FALSE),\"\")","v":""},{"$f":"IFERROR(VLOOKUP($B196,'Défi-5'!$C$2:$J$200,8,FALSE),\"\")","v":""},{"$f":"IFERROR(VLOOKUP($B196,'Défi-6'!$C$2:$J$200,8,FALSE),\"\")","v":36},{"$f":"IFERROR(VLOOKUP($B196,'Défi-7'!$C$2:$J$200,8,FALSE),\"\")","v":""},72,null,"OK","KO","KO","OK","OK","OK","KO","OK",{"$error":"#REF!"},null,{"$f":"'Classement auteurs'!$B196","v":130987028801},{"$f":"IF('Classement auteurs'!K196=\"\",\"\",'Classement auteurs'!K196)","v":""},{"$f":"IF('Classement auteurs'!L196=\"\",\"\",'Classement auteurs'!L196)","v":72},{"$f":"IF('Classement auteurs'!M196=\"\",\"\",'Classement auteurs'!M196)","v":""},{"$f":"IF('Classement auteurs'!N196=\"\",\"\",'Classement auteurs'!N196)","v":""},{"$f":"IF('Classement auteurs'!O196=\"\",\"\",'Classement auteurs'!O196)","v":""},{"$f":"IF('Classement auteurs'!P196=\"\",\"\",'Classement auteurs'!P196)","v":""},{"$f":"IF('Classement auteurs'!Q196=\"\",\"\",'Classement auteurs'!Q196)","v":""},{"$f":"IF('Classement auteurs'!#REF!=\"\",\"\",'Classement auteurs'!#REF!)","v":{"$error":"#REF!"}}]
[null,{"$f":"'Classement auteurs'!$B197","v":131845000301},{"$f":"IFERROR(VLOOKUP($B197,'Défi-1'!$C$2:$J$200,8,FALSE),\"\")","v":36},{"$f":"IFERROR(VLOOKUP($B197,'Défi-2'!$C$2:$J$200,8,FALSE),\"\")","v":""},{"$f":"IFERROR(VLOOKUP($B197,'Défi-3'!$C$2:$J$200,8,FALSE),\"\")","v":""},{"$f":"IFERROR(VLOOKUP($B197,'Défi-4'!$C$2:$J$200,8,FALSE),\"\")","v":""},{"$f":"IFERROR(VLOOKUP($B197,'Défi-5'!$C$2:$J$200,8,FALSE),\"\")","v":""},{"$f":"IFERROR(VLOOKUP($B197,'Défi-6'!$C$2:$J$200,8,FALSE),\"\")","v":36},{"$f":"IFERROR(VLOOKUP($B197,'Défi-7'!$C$2:$J$200,8,FALSE),\"\")","v":""},72,null,"OK","KO","KO","OK","OK","OK","KO","OK",{"$error":"#REF!"},null,{"$f":"'Classement auteurs'!$B197","v":131845000301},{"$f":"IF('Classement auteurs'!K197=\"\",\"\",'Classement auteurs'!K197)","v":""},{"$f":"IF('Classement auteurs'!L197=\"\",\"\",'Classement auteurs'!L197)","v":72},{"$f":"IF('Classement auteurs'!M197=\"\",\"\",'Classement auteurs'!M197)","v":""},{"$f":"IF('Classement auteurs'!N197=\"\",\"\",'Classement auteurs'!N197)","v":""},{"$f":"IF('Classement auteurs'!O197=\"\",\"\",'Classement auteurs'!O197)","v":""},{"$f":"IF('Classement auteurs'!P197=\"\",\"\",'Classement auteurs'!P197)","v":""},{"$f":"IF('Classement auteurs'!Q197=\"\",\"\",'Classement auteurs'!Q197)","v":""},{"$f":"IF('Classement auteurs'!#REF!=\"\",\"\",'Classement auteurs'!#REF!)","v":{"$error":"#REF!"}}]
[null,{"$f":"'Classement auteurs'!$B198","v":131227008301},{"$f":"IFERROR(VLOOKUP($B198,'Défi-1'!$C$2:$J$200,8,FALSE),\"\")","v":""},{"$f":"IFERROR(VLOOKUP($B198,'Défi-2'!$C$2:$J$200,8,FALSE),\"\")","v":""},{"$f":"IFERROR(VLOOKUP($B198,'Défi-3'!$C$2:$J$200,8,FALSE),\"\")","v":""},{"$f":"IFERROR(VLOOKUP($B198,'Défi-4'!$C$2:$J$200,8,FALSE),\"\")","v":37},{"$f":"IFERROR(VLOOKUP($B198,'Défi-5'!$C$2:$J$200,8,FALSE),\"\")","v":34},{"$f":"IFERROR(VLOOKUP($B198,'Défi-6'!$C$2:$J$200,8,FALSE),\"\")","v":""},{"$f":"IFERROR(VLOOKUP($B198,'Défi-7'!$C$2:$J$200,8,FALSE),\"\")","v":""},71,null,"OK","OK","KO","OK","KO","KO","OK","OK",{"$error":"#REF!"},null,{"$f":"'Classement auteurs'!$B198","v":131227008301},{"$f":"IF('Classement auteurs'!K198=\"\",\"\",'Classement auteurs'!K198)","v":""},{"$f":"IF('Classement auteurs'!L198=\"\",\"\",'Classement auteurs'!L198)","v":71},{"$f":"IF('Classement auteurs'!M198=\"\",\"\",'Classement auteurs'!M198)","v":""},{"$f":"IF('Classement auteurs'!N198=\"\",\"\",'Classement auteurs'!N198)","v":""},{"$f":"IF('Classement auteurs'!O198=\"\",\"\",'Classement auteurs'!O198)","v":""},{"$f":"IF('Classement auteurs'!P198=\"\",\"\",'Classement auteurs'!P198)","v":""},{"$f":"IF('Classement auteurs'!Q198=\"\",\"\",'Classement auteurs'!Q198)","v":""},{"$f":"IF('Classement auteurs'!#REF!=\"\",\"\",'Classement auteurs'!#REF!)","v":{"$error":"#REF!"}}]
[null,{"$f":"'Classement auteurs'!$B199","v":131499010801},{"$f":"IFERROR(VLOOKUP($B199,'Défi-1'!$C$2:$J$200,8,FALSE),\"\")","v":""},{"$f":"IFERROR(VLOOKUP($B199,'Défi-2'!$C$2:$J$200,8,FALSE),\"\")","v":30},{"$f":"IFERROR(VLOOKUP($B199,'Défi-3'!$C$2:$J$200,8,FALSE),\"\")","v":""},{"$f":"IFERROR(VLOOKUP($B199,'Défi-4'!$C$2:$J$200,8,FALSE),\"\")","v":41},{"$f":"IFERROR(VLOOKUP($B199,'Défi-5'!$C$2:$J$200,8,FALSE),\"\")","v":""},{"$f":"IFERROR(VLOOKUP($B199,'Défi-6'!$C$2:$J$200,8,FALSE),\"\")","v":""},{"$f":"IFERROR(VLOOKUP($B199,'Défi-7'!$C$2:$J$200,8,FALSE),\"\")","v":""},71,null,"OK","OK","KO","OK","KO","OK","OK","OK",{"$error":"#REF!"},null,{"$f":"'Classement auteurs'!$B199","v":131499010801},{"$f":"IF('Classement auteurs'!K199=\"\",\"\",'Classement auteurs'!K199)","v":""},{"$f":"IF('Classement auteurs'!L199=\"\",\"\",'Classement auteurs'!L199)","v":71},{"$f":"IF('Classement auteurs'!M199=\"\",\"\",'Classement auteurs'!M199)","v":""},{"$f":"IF('Classement auteurs'!N199=\"\",\"\",'Classement auteurs'!N199)","v":""},{"$f":"IF('Classement auteurs'!O199=\"\",\"\",'Classement auteurs'!O199)","v":""},{"$f":"IF('Classement auteurs'!P199=\"\",\"\",'Classement auteurs'!P199)","v":""},{"$f":"IF('Classement auteurs'!Q199=\"\",\"\",'Classement auteurs'!Q199)","v":""},{"$f":"IF('Classement auteurs'!#REF!=\"\",\"\",'Classement auteurs'!#REF!)","v":{"$error":"#REF!"}}]
[null,{"$f":"'Classement auteurs'!$B200","v":130993016501},{"$f":"IFERROR(VLOOKUP($B200,'Défi-1'!$C$2:$J$200,8,FALSE),\"\")","v":""},{"$f":"IFERROR(VLOOKUP($B200,'Défi-2'!$C$2:$J$200,8,FALSE),\"\")","v":35},{"$f":"IFERROR(VLOOKUP($B200,'Défi-3'!$C$2:$J$200,8,FALSE),\"\")","v":""},{"$f":"IFERROR(VLOOKUP($B200,'Défi-4'!$C$2:$J$200,8,FALSE),\"\")","v":""},{"$f":"IFERROR(VLOOKUP($B200,'Défi-5'!$C$2:$J$200,8,FALSE),\"\")","v":""},{"$f":"IFERROR(VLOOKUP($B200,'Défi-6'!$C$2:$J$200,8,FALSE),\"\")","v":35},{"$f":"IFERROR(VLOOKUP($B200,'Défi-7'!$C$2:$J$200,8,FALSE),\"\")","v":""},70,null,"OK","OK","KO","OK","OK","OK","KO","OK",{"$error":"#REF!"},null,{"$f":"'Classement auteurs'!$B200","v":130993016501},{"$f":"IF('Classement auteurs'!K200=\"\",\"\",'Classement auteurs'!K200)","v":""},{"$f":"IF('Classement auteurs'!L200=\"\",\"\",'Classement auteurs'!L200)","v":70},{"$f":"IF('Classement auteurs'!M200=\"\",\"\",'Classement auteurs'!M200)","v":""},{"$f":"IF('Classement auteurs'!N200=\"\",\"\",'Classement auteurs'!N200)","v":""},{"$f":"IF('Classement auteurs'!O200=\"\",\"\",'Classement auteurs'!O200)","v":""},{"$f":"IF('Classement auteurs'!P200=\"\",\"\",'Classement auteurs'!P200)","v":""},{"$f":"IF('Classement auteurs'!Q200=\"\",\"\",'Classement auteurs'!Q200)","v":""},{"$f":"IF('Classement auteurs'!#REF!=\"\",\"\",'Classement auteurs'!#REF!)","v":{"$error":"#REF!"}}]
[null,{"$f":"'Classement auteurs'!$B201","v":131956005501},{"$f":"IFERROR(VLOOKUP($B201,'Défi-1'!$C$2:$J$200,8,FALSE),\"\")","v":""},{"$f":"IFERROR(VLOOKUP($B201,'Défi-2'!$C$2:$J$200,8,FALSE),\"\")","v":33},{"$f":"IFERROR(VLOOKUP($B201,'Défi-3'!$C$2:$J$200,8,FALSE),\"\")","v":""},{"$f":"IFERROR(VLOOKUP($B201,'Défi-4'!$C$2:$J$200,8,FALSE),\"\")","v":""},{"$f":"IFERROR(VLOOKUP($B201,'Défi-5'!$C$2:$J$200,8,FALSE),\"\")","v":""},{"$f":"IFERROR(VLOOKUP($B201,'Défi-6'!$C$2:$J$200,8,FALSE),\"\")","v":""},{"$f":"IFERROR(VLOOKUP($B201,'Défi-7'!$C$2:$J$200,8,FALSE),\"\")","v":37},70,null,"OK","KO","KO","OK","OK","OK","OK","KO",{"$error":"#REF!"},null,{"$f":"'Classement auteurs'!$B201","v":131956005501},{"$f":"IF('Classement auteurs'!K201=\"\",\"\",'Classement auteurs'!K201)","v":37},{"$f":"IF('Classement auteurs'!L201=\"\",\"\",'Classement auteurs'!L201)","v":70},{"$f":"IF('Classement auteurs'!M201=\"\",\"\",'Classement auteurs'!M201)","v":""},{"$f":"IF('Classement auteurs'!N201=\"\",\"\",'Classement auteurs'!N201)","v":""},{"$f":"IF('Classement auteurs'!O201=\"\",\"\",'Classement auteurs'!O201)","v":""},{"$f":"IF('Classement auteurs'!P201=\"\",\"\",'Classement auteurs'!P201)","v":""},{"$f":"IF('Classement auteurs'!Q201=\"\",\"\",'Classement auteurs'!Q201)","v":""},{"$f":"IF('Classement auteurs'!#REF!=\"\",\"\",'Classement auteurs'!#REF!)","v":{"$error":"#REF!"}}]
[null,{"$f":"'Classement auteurs'!$B202","v":132060002001},{"$f":"IFERROR(VLOOKUP($B202,'Défi-1'!$C$2:$J$200,8,FALSE),\"\")","v":43},{"$f":"IFERROR(VLOOKUP($B202,'Défi-2'!$C$2:$J$200,8,FALSE),\"\")","v":""},{"$f":"IFERROR(VLOOKUP($B202,'Défi-3'!$C$2:$J$200,8,FALSE),\"\")","v":""},{"$f":"IFERROR(VLOOKUP($B202,'Défi-4'!$C$2:$J$200,8,FALSE),\"\")","v":""},{"$f":"IFERROR(VLOOKUP($B202,'Défi-5'!$C$2:$J$200,8,FALSE),\"\")","v":""},{"$f":"IFERROR(VLOOKUP($B202,'Défi-6'!$C$2:$J$200,8,FALSE),\"\")","v":""},{"$f":"IFERROR(VLOOKUP($B202,'Défi-7'!$C$2:$J$200,8,FALSE),\"\")","v":26},69,null,"OK","KO","KO","OK","OK","OK","OK","KO",{"$error":"#REF!"},null,{"$f":"'Classement auteurs'!$B202","v":132060002001},{"$f":"IF('Classement auteurs'!K202=\"\",\"\",'Classement auteurs'!K202)","v":26},{"$f":"IF('Classement auteurs'!L202=\"\",\"\",'Classement auteurs'!L202)","v":69},{"$f":"IF('Classement auteurs'!M202=\"\",\"\",'Classement auteurs'!M202)","v":""},{"$f":"IF('Classement auteurs'!N202=\"\",\"\",'Classement auteurs'!N202)","v":""},{"$f":"IF('Classement auteurs'!O202=\"\",\"\",'Classement auteurs'!O202)","v":""},{"$f":"IF('Classement auteurs'!P202=\"\",\"\",'Classement auteurs'!P202)","v":""},{"$f":"IF('Classement auteurs'!Q202=\"\",\"\",'Classement auteurs'!Q202)","v":""},{"$f":"IF('Classement auteurs'!#REF!=\"\",\"\",'Classement auteurs'!#REF!)","v":{"$error":"#REF!"}}]
[null,{"$f":"'Classement auteurs'!$B203","v":131956000601},{"$f":"IFERROR(VLOOKUP($B203,'Défi-1'!$C$2:$J$200,8,FALSE),\"\")","v":""},{"$f":"IFERROR(VLOOKUP($B203,'Défi-2'!$C$2:$J$200,8,FALSE),\"\")","v":""},{"$f":"IFERROR(VLOOKUP($B203,'Défi-3'!$C$2:$J$200,8,FALSE),\"\")","v":41},{"$f":"IFERROR(VLOOKUP($B203,'Défi-4'!$C$2:$J$200,8,FALSE),\"\")","v":""},{"$f":"IFERROR(VLOOKUP($B203,'Défi-5'!$C$2:$J$200,8,FALSE),\"\")","v":27},{"$f":"IFERROR(VLOOKUP($B203,'Défi-6'!$C$2:$J$200,8,FALSE),\"\")","v":""},{"$f":"IFERROR(VLOOKUP($B203,'Défi-7'!$C$2:$J$200,8,FALSE),\"\")","v":""},68,null,"OK","OK","KO","KO","OK","KO","OK","OK",{"$error":"#REF!"},null,{"$f":"'Classement auteurs'!$B203","v":131956000601},{"$f":"IF('Classement auteurs'!K203=\"\",\"\",'Classement auteurs'!K203)","v":""},{"$f":"IF('Classement auteurs'!L203=\"\",\"\",'Classement auteurs'!L203)","v":68},{"$f":"IF('Classement auteurs'!M203=\"\",\"\",'Classement auteurs'!M203)","v":""},{"$f":"IF('Classement auteurs'!N203=\"\",\"\",'Classement auteurs'!N203)","v":""},{"$f":"IF('Classement auteurs'!O203=\"\",\"\",'Classement auteurs'!O203)","v":""},{"$f":"IF('Classement auteurs'!P203=\"\",\"\",'Classement auteurs'!P203)","v":""},{"$f":"IF('Classement auteurs'!Q203=\"\",\"\",'Classement auteurs'!Q203)","v":""},{"$f":"IF('Classement auteurs'!#REF!=\"\",\"\",'Classement auteurs'!#REF!)","v":{"$error":"#REF!"}}]
[null,{"$f":"'Classement auteurs'!$B204","v":132217000101},{"$f":"IFERROR(VLOOKUP($B204,'Défi-1'!$C$2:$J$200,8,FALSE),\"\")","v":""},{"$f":"IFERROR(VLOOKUP($B204,'Défi-2'!$C$2:$J$200,8,FALSE),\"\")","v":""},{"$f":"IFERROR(VLOOKUP($B204,'Défi-3'!$C$2:$J$200,8,FALSE),\"\")","v":30},{"$f":"IFERROR(VLOOKUP($B204,'Défi-4'!$C$2:$J$200,8,FALSE),\"\")","v":37},{"$f":"IFERROR(VLOOKUP($B204,'Défi-5'!$C$2:$J$200,8,FALSE),\"\")","v":""},{"$f":"IFERROR(VLOOKUP($B204,'Défi-6'!$C$2:$J$200,8,FALSE),\"\")","v":""},{"$f":"IFERROR(VLOOKUP($B204,'Défi-7'!$C$2:$J$200,8,FALSE),\"\")","v":""},67,null,"OK","OK","KO","KO","KO","OK","OK","OK",{"$error":"#REF!"},null,{"$f":"'Classement auteurs'!$B204","v":132217000101},{"$f":"IF('Classement auteurs'!K204=\"\",\"\",'Classement auteurs'!K204)","v":""},{"$f":"IF('Classement auteurs'!L204=\"\",\"\",'Classement auteurs'!L204)","v":67},{"$f":"IF('Classement auteurs'!M204=\"\",\"\",'Classement auteurs'!M204)","v":""},{"$f":"IF('Classement auteurs'!N204=\"\",\"\",'Classement auteurs'!N204)","v":""},{"$f":"IF('Classement auteurs'!O204=\"\",\"\",'Classement auteurs'!O204)","v":""},{"$f":"IF('Classement auteurs'!P204=\"\",\"\",'Classement auteurs'!P204)","v":""},{"$f":"IF('Classement auteurs'!Q204=\"\",\"\",'Classement auteurs'!Q204)","v":""},{"$f":"IF('Classement auteurs'!#REF!=\"\",\"\",'Classement auteurs'!#REF!)","v":{"$error":"#REF!"}}]
[null,{"$f":"'Classement auteurs'!$B205","v":131683007001},{"$f":"IFERROR(VLOOKUP($B205,'Défi-1'!$C$2:$J$200,8,FALSE),\"\")","v":""},{"$f":"IFERROR(VLOOKUP($B205,'Défi-2'!$C$2:$J$200,8,FALSE),\"\")","v":""},{"$f":"IFERROR(VLOOKUP($B205,'Défi-3'!$C$2:$J$200,8,FALSE),\"\")","v":""},{"$f":"IFERROR(VLOOKUP($B205,'Défi-4'!$C$2:$J$200,8,FALSE),\"\")","v":""},{"$f":"IFERROR(VLOOKUP($B205,'Défi-5'!$C$2:$J$200,8,FALSE),\"\")","v":33},{"$f":"IFERROR(VLOOKUP($B205,'Défi-6'!$C$2:$J$200,8,FALSE),\"\")","v":33},{"$f":"IFERROR(VLOOKUP($B205,'Défi-7'!$C$2:$J$200,8,FALSE),\"\")","v":""},66,null,"OK","OK","KO","OK","OK","KO","KO","OK",{"$error":"#REF!"},null,{"$f":"'Classement auteurs'!$B205","v":131683007001},{"$f":"IF('Classement auteurs'!K205=\"\",\"\",'Classement auteurs'!K205)","v":""},{"$f":"IF('Classement auteurs'!L205=\"\",\"\",'Classement auteurs'!L205)","v":66},{"$f":"IF('Classement auteurs'!M205=\"\",\"\",'Classement auteurs'!M205)","v":""},{"$f":"IF('Classement auteurs'!N205=\"\",\"\",'Classement auteurs'!N205)","v":""},{"$f":"IF('Classement auteurs'!O205=\"\",\"\",'Classement auteurs'!O205)","v":""},{"$f":"IF('Classement auteurs'!P205=\"\",\"\",'Classement auteurs'!P205)","v":""},{"$f":"IF('Classement auteurs'!Q205=\"\",\"\",'Classement auteurs'!Q205)","v":""},{"$f":"IF('Classement auteurs'!#REF!=\"\",\"\",'Classement auteurs'!#REF!)","v":{"$error":"#REF!"}}]
[null,{"$f":"'Classement auteurs'!$B206","v":130987029901},{"$f":"IFERROR(VLOOKUP($B206,'Défi-1'!$C$2:$J$200,8,FALSE),\"\")","v":""},{"$f":"IFERROR(VLOOKUP($B206,'Défi-2'!$C$2:$J$200,8,FALSE),\"\")","v":""},{"$f":"IFERROR(VLOOKUP($B206,'Défi-3'!$C$2:$J$200,8,FALSE),\"\")","v":31},{"$f":"IFERROR(VLOOKUP($B206,'Défi-4'!$C$2:$J$200,8,FALSE),\"\")","v":""},{"$f":"IFERROR(VLOOKUP($B206,'Défi-5'!$C$2:$J$200,8,FALSE),\"\")","v":""},{"$f":"IFERROR(VLOOKUP($B206,'Défi-6'!$C$2:$J$200,8,FALSE),\"\")","v":31},{"$f":"IFERROR(VLOOKUP($B206,'Défi-7'!$C$2:$J$200,8,FALSE),\"\")","v":""},62,null,"OK","OK","KO","KO","OK","OK","KO","OK",{"$error":"#REF!"},null,{"$f":"'Classement auteurs'!$B206","v":130987029901},{"$f":"IF('Classement auteurs'!K206=\"\",\"\",'Classement auteurs'!K206)","v":""},{"$f":"IF('Classement auteurs'!L206=\"\",\"\",'Classement auteurs'!L206)","v":62},{"$f":"IF('Classement auteurs'!M206=\"\",\"\",'Classement auteurs'!M206)","v":""},{"$f":"IF('Classement auteurs'!N206=\"\",\"\",'Classement auteurs'!N206)","v":""},{"$f":"IF('Classement auteurs'!O206=\"\",\"\",'Classement auteurs'!O206)","v":""},{"$f":"IF('Classement auteurs'!P206=\"\",\"\",'Classement auteurs'!P206)","v":""},{"$f":"IF('Classement auteurs'!Q206=\"\",\"\",'Classement auteurs'!Q206)","v":""},{"$f":"IF('Classement auteurs'!#REF!=\"\",\"\",'Classement auteurs'!#REF!)","v":{"$error":"#REF!"}}]
[null,{"$f":"'Classement auteurs'!$B207","v":132060001501},{"$f":"IFERROR(VLOOKUP($B207,'Défi-1'!$C$2:$J$200,8,FALSE),\"\")","v":35},{"$f":"IFERROR(VLOOKUP($B207,'Défi-2'!$C$2:$J$200,8,FALSE),\"\")","v":""},{"$f":"IFERROR(VLOOKUP($B207,'Défi-3'!$C$2:$J$200,8,FALSE),\"\")","v":""},{"$f":"IFERROR(VLOOKUP($B207,'Défi-4'!$C$2:$J$200,8,FALSE),\"\")","v":27},{"$f":"IFERROR(VLOOKUP($B207,'Défi-5'!$C$2:$J$200,8,FALSE),\"\")","v":""},{"$f":"IFERROR(VLOOKUP($B207,'Défi-6'!$C$2:$J$200,8,FALSE),\"\")","v":""},{"$f":"IFERROR(VLOOKUP($B207,'Défi-7'!$C$2:$J$200,8,FALSE),\"\")","v":""},62,null,"OK","KO","KO","OK","KO","OK","OK","OK",{"$error":"#REF!"},null,{"$f":"'Classement auteurs'!$B207","v":132060001501},{"$f":"IF('Classement auteurs'!K207=\"\",\"\",'Classement auteurs'!K207)","v":""},{"$f":"IF('Classement auteurs'!L207=\"\",\"\",'Classement auteurs'!L207)","v":62},{"$f":"IF('Classement auteurs'!M207=\"\",\"\",'Classement auteurs'!M207)","v":""},{"$f":"IF('Classement auteurs'!N207=\"\",\"\",'Classement auteurs'!N207)","v":""},{"$f":"IF('Classement auteurs'!O207=\"\",\"\",'Classement auteurs'!O207)","v":""},{"$f":"IF('Classement auteurs'!P207=\"\",\"\",'Classement auteurs'!P207)","v":""},{"$f":"IF('Classement auteurs'!Q207=\"\",\"\",'Classement auteurs'!Q207)","v":""},{"$f":"IF('Classement auteurs'!#REF!=\"\",\"\",'Classement auteurs'!#REF!)","v":{"$error":"#REF!"}}]
[null,{"$f":"'Classement auteurs'!$B208","v":132217000601},{"$f":"IFERROR(VLOOKUP($B208,'Défi-1'!$C$2:$J$200,8,FALSE),\"\")","v":""},{"$f":"IFERROR(VLOOKUP($B208,'Défi-2'!$C$2:$J$200,8,FALSE),\"\")","v":""},{"$f":"IFERROR(VLOOKUP($B208,'Défi-3'!$C$2:$J$200,8,FALSE),\"\")","v":""},{"$f":"IFERROR(VLOOKUP($B208,'Défi-4'!$C$2:$J$200,8,FALSE),\"\")","v":""},{"$f":"IFERROR(VLOOKUP($B208,'Défi-5'!$C$2:$J$200,8,FALSE),\"\")","v":29},{"$f":"IFERROR(VLOOKUP($B208,'Défi-6'!$C$2:$J$200,8,FALSE),\"\")","v":29},{"$f":"IFERROR(VLOOKUP($B208,'Défi-7'!$C$2:$J$200,8,FALSE),\"\")","v":""},58,null,"OK","OK","KO","OK","OK","KO","KO","OK",{"$error":"#REF!"},null,{"$f":"'Classement auteurs'!$B208","v":132217000601},{"$f":"IF('Classement auteurs'!K208=\"\",\"\",'Classement auteurs'!K208)","v":""},{"$f":"IF('Classement auteurs'!L208=\"\",\"\",'Classement auteurs'!L208)","v":58},{"$f":"IF('Classement auteurs'!M208=\"\",\"\",'Classement auteurs'!M208)","v":""},{"$f":"IF('Classement auteurs'!N208=\"\",\"\",'Classement auteurs'!N208)","v":""},{"$f":"IF('Classement auteurs'!O208=\"\",\"\",'Classement auteurs'!O208)","v":""},{"$f":"IF('Classement auteurs'!P208=\"\",\"\",'Classement auteurs'!P208)","v":""},{"$f":"IF('Classement auteurs'!Q208=\"\",\"\",'Classement auteurs'!Q208)","v":""},{"$f":"IF('Classement auteurs'!#REF!=\"\",\"\",'Classement auteurs'!#REF!)","v":{"$error":"#REF!"}}]
[null,{"$f":"'Classement auteurs'!$B209","v":131683008201},{"$f":"IFERROR(VLOOKUP($B209,'Défi-1'!$C$2:$J$200,8,FALSE),\"\")","v":""},{"$f":"IFERROR(VLOOKUP($B209,'Défi-2'!$C$2:$J$200,8,FALSE),\"\")","v":""},{"$f":"IFERROR(VLOOKUP($B209,'Défi-3'!$C$2:$J$200,8,FALSE),\"\")","v":""},{"$f":"IFERROR(VLOOKUP($B209,'Défi-4'!$C$2:$J$200,8,FALSE),\"\")","v":""},{"$f":"IFERROR(VLOOKUP($B209,'Défi-5'!$C$2:$J$200,8,FALSE),\"\")","v":""},{"$f":"IFERROR(VLOOKUP($B209,'Défi-6'!$C$2:$J$200,8,FALSE),\"\")","v":""},{"$f":"IFERROR(VLOOKUP($B209,'Défi-7'!$C$2:$J$200,8,FALSE),\"\")","v":57},57,null,"OK","KO","KO","OK","OK","OK","OK","KO",{"$error":"#REF!"},null,{"$f":"'Classement auteurs'!$B209","v":131683008201},{"$f":"IF('Classement auteurs'!K209=\"\",\"\",'Classement auteurs'!K209)","v":57},{"$f":"IF('Classement auteurs'!L209=\"\",\"\",'Classement auteurs'!L209)","v":57},{"$f":"IF('Classement auteurs'!M209=\"\",\"\",'Classement auteurs'!M209)","v":""},{"$f":"IF('Classement auteurs'!N209=\"\",\"\",'Classement auteurs'!N209)","v":""},{"$f":"IF('Classement auteurs'!O209=\"\",\"\",'Classement auteurs'!O209)","v":""},{"$f":"IF('Classement auteurs'!P209=\"\",\"\",'Classement auteurs'!P209)","v":""},{"$f":"IF('Classement auteurs'!Q209=\"\",\"\",'Classement auteurs'!Q209)","v":""},{"$f":"IF('Classement auteurs'!#REF!=\"\",\"\",'Classement auteurs'!#REF!)","v":{"$error":"#REF!"}}]
[null,{"$f":"'Classement auteurs'!$B210","v":132203000601},{"$f":"IFERROR(VLOOKUP($B210,'Défi-1'!$C$2:$J$200,8,FALSE),\"\")","v":""},{"$f":"IFERROR(VLOOKUP($B210,'Défi-2'!$C$2:$J$200,8,FALSE),\"\")","v":""},{"$f":"IFERROR(VLOOKUP($B210,'Défi-3'!$C$2:$J$200,8,FALSE),\"\")","v":""},{"$f":"IFERROR(VLOOKUP($B210,'Défi-4'!$C$2:$J$200,8,FALSE),\"\")","v":""},{"$f":"IFERROR(VLOOKUP($B210,'Défi-5'!$C$2:$J$200,8,FALSE),\"\")","v":28},{"$f":"IFERROR(VLOOKUP($B210,'Défi-6'!$C$2:$J$200,8,FALSE),\"\")","v":28},{"$f":"IFERROR(VLOOKUP($B210,'Défi-7'!$C$2:$J$200,8,FALSE),\"\")","v":""},56,null,"OK","OK","KO","OK","OK","KO","KO","OK",{"$error":"#REF!"},null,{"$f":"'Classement auteurs'!$B210","v":132203000601},{"$f":"IF('Classement auteurs'!K210=\"\",\"\",'Classement auteurs'!K210)","v":""},{"$f":"IF('Classement auteurs'!L210=\"\",\"\",'Classement auteurs'!L210)","v":56},{"$f":"IF('Classement auteurs'!M210=\"\",\"\",'Classement auteurs'!M210)","v":""},{"$f":"IF('Classement auteurs'!N210=\"\",\"\",'Classement auteurs'!N210)","v":""},{"$f":"IF('Classement auteurs'!O210=\"\",\"\",'Classement auteurs'!O210)","v":""},{"$f":"IF('Classement auteurs'!P210=\"\",\"\",'Classement auteurs'!P210)","v":""},{"$f":"IF('Classement auteurs'!Q210=\"\",\"\",'Classement auteurs'!Q210)","v":""},{"$f":"IF('Classement auteurs'!#REF!=\"\",\"\",'Classement auteurs'!#REF!)","v":{"$error":"#REF!"}}]
[null,{"$f":"'Classement auteurs'!$B211","v":131985003401},{"$f":"IFERROR(VLOOKUP($B211,'Défi-1'!$C$2:$J$200,8,FALSE),\"\")","v":""},{"$f":"IFERROR(VLOOKUP($B211,'Défi-2'!$C$2:$J$200,8,FALSE),\"\")","v":""},{"$f":"IFERROR(VLOOKUP($B211,'Défi-3'!$C$2:$J$200,8,FALSE),\"\")","v":""},{"$f":"IFERROR(VLOOKUP($B211,'Défi-4'!$C$2:$J$200,8,FALSE),\"\")","v":""},{"$f":"IFERROR(VLOOKUP($B211,'Défi-5'!$C$2:$J$200,8,FALSE),\"\")","v":""},{"$f":"IFERROR(VLOOKUP($B211,'Défi-6'!$C$2:$J$200,8,FALSE),\"\")","v":""},{"$f":"IFERROR(VLOOKUP($B211,'Défi-7'!$C$2:$J$200,8,FALSE),\"\")","v":54},54,null,"OK","KO","KO","OK","OK","OK","OK","KO",{"$error":"#REF!"},null,{"$f":"'Classement auteurs'!$B211","v":131985003401},{"$f":"IF('Classement auteurs'!K211=\"\",\"\",'Classement auteurs'!K211)","v":54},{"$f":"IF('Classement auteurs'!L211=\"\",\"\",'Classement auteurs'!L211)","v":54},{"$f":"IF('Classement auteurs'!M211=\"\",\"\",'Classement auteurs'!M211)","v":""},{"$f":"IF('Classement auteurs'!N211=\"\",\"\",'Classement auteurs'!N211)","v":""},{"$f":"IF('Classement auteurs'!O211=\"\",\"\",'Classement auteurs'!O211)","v":""},{"$f":"IF('Classement auteurs'!P211=\"\",\"\",'Classement auteurs'!P211)","v":""},{"$f":"IF('Classement auteurs'!Q211=\"\",\"\",'Classement auteurs'!Q211)","v":""},{"$f":"IF('Classement auteurs'!#REF!=\"\",\"\",'Classement auteurs'!#REF!)","v":{"$error":"#REF!"}}]
[null,{"$f":"'Classement auteurs'!$B212","v":132147001701},{"$f":"IFERROR(VLOOKUP($B212,'Défi-1'!$C$2:$J$200,8,FALSE),\"\")","v":""},{"$f":"IFERROR(VLOOKUP($B212,'Défi-2'!$C$2:$J$200,8,FALSE),\"\")","v":""},{"$f":"IFERROR(VLOOKUP($B212,'Défi-3'!$C$2:$J$200,8,FALSE),\"\")","v":""},{"$f":"IFERROR(VLOOKUP($B212,'Défi-4'!$C$2:$J$200,8,FALSE),\"\")","v":27},{"$f":"IFERROR(VLOOKUP($B212,'Défi-5'!$C$2:$J$200,8,FALSE),\"\")","v":""},{"$f":"IFERROR(VLOOKUP($B212,'Défi-6'!$C$2:$J$200,8,FALSE),\"\")","v":27},{"$f":"IFERROR(VLOOKUP($B212,'Défi-7'!$C$2:$J$200,8,FALSE),\"\")","v":""},54,null,"OK","OK","KO","OK","KO","OK","KO","OK",{"$error":"#REF!"},null,{"$f":"'Classement auteurs'!$B212","v":132147001701},{"$f":"IF('Classement auteurs'!K212=\"\",\"\",'Classement auteurs'!K212)","v":""},{"$f":"IF('Classement auteurs'!L212=\"\",\"\",'Classement auteurs'!L212)","v":54},{"$f":"IF('Classement auteurs'!M212=\"\",\"\",'Classement auteurs'!M212)","v":""},{"$f":"IF('Classement auteurs'!N212=\"\",\"\",'Classement auteurs'!N212)","v":""},{"$f":"IF('Classement auteurs'!O212=\"\",\"\",'Classement auteurs'!O212)","v":""},{"$f":"IF('Classement auteurs'!P212=\"\",\"\",'Classement auteurs'!P212)","v":""},{"$f":"IF('Classement auteurs'!Q212=\"\",\"\",'Classement auteurs'!Q212)","v":""},{"$f":"IF('Classement auteurs'!#REF!=\"\",\"\",'Classement auteurs'!#REF!)","v":{"$error":"#REF!"}}]
[null,{"$f":"'Classement auteurs'!$B213","v":130527019601},{"$f":"IFERROR(VLOOKUP($B213,'Défi-1'!$C$2:$J$200,8,FALSE),\"\")","v":""},{"$f":"IFERROR(VLOOKUP($B213,'Défi-2'!$C$2:$J$200,8,FALSE),\"\")","v":""},{"$f":"IFERROR(VLOOKUP($B213,'Défi-3'!$C$2:$J$200,8,FALSE),\"\")","v":29},{"$f":"IFERROR(VLOOKUP($B213,'Défi-4'!$C$2:$J$200,8,FALSE),\"\")","v":""},{"$f":"IFERROR(VLOOKUP($B213,'Défi-5'!$C$2:$J$200,8,FALSE),\"\")","v":""},{"$f":"IFERROR(VLOOKUP($B213,'Défi-6'!$C$2:$J$200,8,FALSE),\"\")","v":""},{"$f":"IFERROR(VLOOKUP($B213,'Défi-7'!$C$2:$J$200,8,FALSE),\"\")","v":24},53,null,"OK","KO","KO","KO","OK","OK","OK","KO",{"$error":"#REF!"},null,{"$f":"'Classement auteurs'!$B213","v":130527019601},{"$f":"IF('Classement auteurs'!K213=\"\",\"\",'Classement auteurs'!K213)","v":24},{"$f":"IF('Classement auteurs'!L213=\"\",\"\",'Classement auteurs'!L213)","v":53},{"$f":"IF('Classement auteurs'!M213=\"\",\"\",'Classement auteurs'!M213)","v":""},{"$f":"IF('Classement auteurs'!N213=\"\",\"\",'Classement auteurs'!N213)","v":""},{"$f":"IF('Classement auteurs'!O213=\"\",\"\",'Classement auteurs'!O213)","v":""},{"$f":"IF('Classement auteurs'!P213=\"\",\"\",'Classement auteurs'!P213)","v":""},{"$f":"IF('Classement auteurs'!Q213=\"\",\"\",'Classement auteurs'!Q213)","v":""},{"$f":"IF('Classement auteurs'!#REF!=\"\",\"\",'Classement auteurs'!#REF!)","v":{"$error":"#REF!"}}]
[null,{"$f":"'Classement auteurs'!$B214","v":131683003301},{"$f":"IFERROR(VLOOKUP($B214,'Défi-1'!$C$2:$J$200,8,FALSE),\"\")","v":""},{"$f":"IFERROR(VLOOKUP($B214,'Défi-2'!$C$2:$J$200,8,FALSE),\"\")","v":""},{"$f":"IFERROR(VLOOKUP($B214,'Défi-3'!$C$2:$J$200,8,FALSE),\"\")","v":""},{"$f":"IFERROR(VLOOKUP($B214,'Défi-4'!$C$2:$J$200,8,FALSE),\"\")","v":53},{"$f":"IFERROR(VLOOKUP($B214,'Défi-5'!$C$2:$J$200,8,FALSE),\"\")","v":""},{"$f":"IFERROR(VLOOKUP($B214,'Défi-6'!$C$2:$J$200,8,FALSE),\"\")","v":""},{"$f":"IFERROR(VLOOKUP($B214,'Défi-7'!$C$2:$J$200,8,FALSE),\"\")","v":""},53,null,"OK","OK","KO","OK","KO","OK","OK","OK",{"$error":"#REF!"},null,{"$f":"'Classement auteurs'!$B214","v":131683003301},{"$f":"IF('Classement auteurs'!K214=\"\",\"\",'Classement auteurs'!K214)","v":""},{"$f":"IF('Classement auteurs'!L214=\"\",\"\",'Classement auteurs'!L214)","v":53},{"$f":"IF('Classement auteurs'!M214=\"\",\"\",'Classement auteurs'!M214)","v":""},{"$f":"IF('Classement auteurs'!N214=\"\",\"\",'Classement auteurs'!N214)","v":""},{"$f":"IF('Classement auteurs'!O214=\"\",\"\",'Classement auteurs'!O214)","v":""},{"$f":"IF('Classement auteurs'!P214=\"\",\"\",'Classement auteurs'!P214)","v":""},{"$f":"IF('Classement auteurs'!Q214=\"\",\"\",'Classement auteurs'!Q214)","v":""},{"$f":"IF('Classement auteurs'!#REF!=\"\",\"\",'Classement auteurs'!#REF!)","v":{"$error":"#REF!"}}]
[null,{"$f":"'Classement auteurs'!$B215","v":132203001001},{"$f":"IFERROR(VLOOKUP($B215,'Défi-1'!$C$2:$J$200,8,FALSE),\"\")","v":""},{"$f":"IFERROR(VLOOKUP($B215,'Défi-2'!$C$2:$J$200,8,FALSE),\"\")","v":""},{"$f":"IFERROR(VLOOKUP($B215,'Défi-3'!$C$2:$J$200,8,FALSE),\"\")","v":""},{"$f":"IFERROR(VLOOKUP($B215,'Défi-4'!$C$2:$J$200,8,FALSE),\"\")","v":18},{"$f":"IFERROR(VLOOKUP($B215,'Défi-5'!$C$2:$J$200,8,FALSE),\"\")","v":35},{"$f":"IFERROR(VLOOKUP($B215,'Défi-6'!$C$2:$J$200,8,FALSE),\"\")","v":""},{"$f":"IFERROR(VLOOKUP($B215,'Défi-7'!$C$2:$J$200,8,FALSE),\"\")","v":""},53,null,"OK","OK","KO","OK","KO","KO","OK","OK",{"$error":"#REF!"},null,{"$f":"'Classement auteurs'!$B215","v":132203001001},{"$f":"IF('Classement auteurs'!K215=\"\",\"\",'Classement auteurs'!K215)","v":""},{"$f":"IF('Classement auteurs'!L215=\"\",\"\",'Classement auteurs'!L215)","v":53},{"$f":"IF('Classement auteurs'!M215=\"\",\"\",'Classement auteurs'!M215)","v":""},{"$f":"IF('Classement auteurs'!N215=\"\",\"\",'Classement auteurs'!N215)","v":""},{"$f":"IF('Classement auteurs'!O215=\"\",\"\",'Classement auteurs'!O215)","v":""},{"$f":"IF('Classement auteurs'!P215=\"\",\"\",'Classement auteurs'!P215)","v":""},{"$f":"IF('Classement auteurs'!Q215=\"\",\"\",'Classement auteurs'!Q215)","v":""},{"$f":"IF('Classement auteurs'!#REF!=\"\",\"\",'Classement auteurs'!#REF!)","v":{"$error":"#REF!"}}]
[null,{"$f":"'Classement auteurs'!$B216","v":130987030301},{"$f":"IFERROR(VLOOKUP($B216,'Défi-1'!$C$2:$J$200,8,FALSE),\"\")","v":""},{"$f":"IFERROR(VLOOKUP($B216,'Défi-2'!$C$2:$J$200,8,FALSE),\"\")","v":""},{"$f":"IFERROR(VLOOKUP($B216,'Défi-3'!$C$2:$J$200,8,FALSE),\"\")","v":""},{"$f":"IFERROR(VLOOKUP($B216,'Défi-4'!$C$2:$J$200,8,FALSE),\"\")","v":26},{"$f":"IFERROR(VLOOKUP($B216,'Défi-5'!$C$2:$J$200,8,FALSE),\"\")","v":""},{"$f":"IFERROR(VLOOKUP($B216,'Défi-6'!$C$2:$J$200,8,FALSE),\"\")","v":26},{"$f":"IFERROR(VLOOKUP($B216,'Défi-7'!$C$2:$J$200,8,FALSE),\"\")","v":""},52,null,"OK","OK","KO","OK","KO","OK","KO","OK",{"$error":"#REF!"},null,{"$f":"'Classement auteurs'!$B216","v":130987030301},{"$f":"IF('Classement auteurs'!K216=\"\",\"\",'Classement auteurs'!K216)","v":""},{"$f":"IF('Classement auteurs'!L216=\"\",\"\",'Classement auteurs'!L216)","v":52},{"$f":"IF('Classement auteurs'!M216=\"\",\"\",'Classement auteurs'!M216)","v":""},{"$f":"IF('Classement auteurs'!N216=\"\",\"\",'Classement auteurs'!N216)","v":""},{"$f":"IF('Classement auteurs'!O216=\"\",\"\",'Classement auteurs'!O216)","v":""},{"$f":"IF('Classement auteurs'!P216=\"\",\"\",'Classement auteurs'!P216)","v":""},{"$f":"IF('Classement auteurs'!Q216=\"\",\"\",'Classement auteurs'!Q216)","v":""},{"$f":"IF('Classement auteurs'!#REF!=\"\",\"\",'Classement auteurs'!#REF!)","v":{"$error":"#REF!"}}]
[null,{"$f":"'Classement auteurs'!$B217","v":131619004201},{"$f":"IFERROR(VLOOKUP($B217,'Défi-1'!$C$2:$J$200,8,FALSE),\"\")","v":18},{"$f":"IFERROR(VLOOKUP($B217,'Défi-2'!$C$2:$J$200,8,FALSE),\"\")","v":""},{"$f":"IFERROR(VLOOKUP($B217,'Défi-3'!$C$2:$J$200,8,FALSE),\"\")","v":""},{"$f":"IFERROR(VLOOKUP($B217,'Défi-4'!$C$2:$J$200,8,FALSE),\"\")","v":""},{"$f":"IFERROR(VLOOKUP($B217,'Défi-5'!$C$2:$J$200,8,FALSE),\"\")","v":34},{"$f":"IFERROR(VLOOKUP($B217,'Défi-6'!$C$2:$J$200,8,FALSE),\"\")","v":""},{"$f":"IFERROR(VLOOKUP($B217,'Défi-7'!$C$2:$J$200,8,FALSE),\"\")","v":""},52,null,"OK","KO","KO","OK","OK","KO","OK","OK",{"$error":"#REF!"},null,{"$f":"'Classement auteurs'!$B217","v":131619004201},{"$f":"IF('Classement auteurs'!K217=\"\",\"\",'Classement auteurs'!K217)","v":""},{"$f":"IF('Classement auteurs'!L217=\"\",\"\",'Classement auteurs'!L217)","v":52},{"$f":"IF('Classement auteurs'!M217=\"\",\"\",'Classement auteurs'!M217)","v":""},{"$f":"IF('Classement auteurs'!N217=\"\",\"\",'Classement auteurs'!N217)","v":""},{"$f":"IF('Classement auteurs'!O217=\"\",\"\",'Classement auteurs'!O217)","v":""},{"$f":"IF('Classement auteurs'!P217=\"\",\"\",'Classement auteurs'!P217)","v":""},{"$f":"IF('Classement auteurs'!Q217=\"\",\"\",'Classement auteurs'!Q217)","v":""},{"$f":"IF('Classement auteurs'!#REF!=\"\",\"\",'Classement auteurs'!#REF!)","v":{"$error":"#REF!"}}]
[null,{"$f":"'Classement auteurs'!$B218","v":131499010301},{"$f":"IFERROR(VLOOKUP($B218,'Défi-1'!$C$2:$J$200,8,FALSE),\"\")","v":""},{"$f":"IFERROR(VLOOKUP($B218,'Défi-2'!$C$2:$J$200,8,FALSE),\"\")","v":""},{"$f":"IFERROR(VLOOKUP($B218,'Défi-3'!$C$2:$J$200,8,FALSE),\"\")","v":""},{"$f":"IFERROR(VLOOKUP($B218,'Défi-4'!$C$2:$J$200,8,FALSE),\"\")","v":""},{"$f":"IFERROR(VLOOKUP($B218,'Défi-5'!$C$2:$J$200,8,FALSE),\"\")","v":50},{"$f":"IFERROR(VLOOKUP($B218,'Défi-6'!$C$2:$J$200,8,FALSE),\"\")","v":""},{"$f":"IFERROR(VLOOKUP($B218,'Défi-7'!$C$2:$J$200,8,FALSE),\"\")","v":""},50,null,"OK","OK","KO","OK","OK","KO","OK","OK",{"$error":"#REF!"},null,{"$f":"'Classement auteurs'!$B218","v":131499010301},{"$f":"IF('Classement auteurs'!K218=\"\",\"\",'Classement auteurs'!K218)","v":""},{"$f":"IF('Classement auteurs'!L218=\"\",\"\",'Classement auteurs'!L218)","v":50},{"$f":"IF('Classement auteurs'!M218=\"\",\"\",'Classement auteurs'!M218)","v":""},{"$f":"IF('Classement auteurs'!N218=\"\",\"\",'Classement auteurs'!N218)","v":""},{"$f":"IF('Classement auteurs'!O218=\"\",\"\",'Classement auteurs'!O218)","v":""},{"$f":"IF('Classement auteurs'!P218=\"\",\"\",'Classement auteurs'!P218)","v":""},{"$f":"IF('Classement auteurs'!Q218=\"\",\"\",'Classement auteurs'!Q218)","v":""},{"$f":"IF('Classement auteurs'!#REF!=\"\",\"\",'Classement auteurs'!#REF!)","v":{"$error":"#REF!"}}]
[null,{"$f":"'Classement auteurs'!$B219","v":131353002601},{"$f":"IFERROR(VLOOKUP($B219,'Défi-1'!$C$2:$J$200,8,FALSE),\"\")","v":""},{"$f":"IFERROR(VLOOKUP($B219,'Défi-2'!$C$2:$J$200,8,FALSE),\"\")","v":""},{"$f":"IFERROR(VLOOKUP($B219,'Défi-3'!$C$2:$J$200,8,FALSE),\"\")","v":""},{"$f":"IFERROR(VLOOKUP($B219,'Défi-4'!$C$2:$J$200,8,FALSE),\"\")","v":""},{"$f":"IFERROR(VLOOKUP($B219,'Défi-5'!$C$2:$J$200,8,FALSE),\"\")","v":""},{"$f":"IFERROR(VLOOKUP($B219,'Défi-6'!$C$2:$J$200,8,FALSE),\"\")","v":48},{"$f":"IFERROR(VLOOKUP($B219,'Défi-7'!$C$2:$J$200,8,FALSE),\"\")","v":""},48,null,"OK","OK","KO","OK","OK","OK","KO","OK",{"$error":"#REF!"},null,{"$f":"'Classement auteurs'!$B219","v":131353002601},{"$f":"IF('Classement auteurs'!K219=\"\",\"\",'Classement auteurs'!K219)","v":""},{"$f":"IF('Classement auteurs'!L219=\"\",\"\",'Classement auteurs'!L219)","v":48},{"$f":"IF('Classement auteurs'!M219=\"\",\"\",'Classement auteurs'!M219)","v":""},{"$f":"IF('Classement auteurs'!N219=\"\",\"\",'Classement auteurs'!N219)","v":""},{"$f":"IF('Classement auteurs'!O219=\"\",\"\",'Classement auteurs'!O219)","v":""},{"$f":"IF('Classement auteurs'!P219=\"\",\"\",'Classement auteurs'!P219)","v":""},{"$f":"IF('Classement auteurs'!Q219=\"\",\"\",'Classement auteurs'!Q219)","v":""},{"$f":"IF('Classement auteurs'!#REF!=\"\",\"\",'Classement auteurs'!#REF!)","v":{"$error":"#REF!"}}]
[null,{"$f":"'Classement auteurs'!$B220","v":131494003001},{"$f":"IFERROR(VLOOKUP($B220,'Défi-1'!$C$2:$J$200,8,FALSE),\"\")","v":""},{"$f":"IFERROR(VLOOKUP($B220,'Défi-2'!$C$2:$J$200,8,FALSE),\"\")","v":""},{"$f":"IFERROR(VLOOKUP($B220,'Défi-3'!$C$2:$J$200,8,FALSE),\"\")","v":""},{"$f":"IFERROR(VLOOKUP($B220,'Défi-4'!$C$2:$J$200,8,FALSE),\"\")","v":""},{"$f":"IFERROR(VLOOKUP($B220,'Défi-5'!$C$2:$J$200,8,FALSE),\"\")","v":24},{"$f":"IFERROR(VLOOKUP($B220,'Défi-6'!$C$2:$J$200,8,FALSE),\"\")","v":24},{"$f":"IFERROR(VLOOKUP($B220,'Défi-7'!$C$2:$J$200,8,FALSE),\"\")","v":""},48,null,"OK","OK","KO","OK","OK","KO","KO","OK",{"$error":"#REF!"},null,{"$f":"'Classement auteurs'!$B220","v":131494003001},{"$f":"IF('Classement auteurs'!K220=\"\",\"\",'Classement auteurs'!K220)","v":""},{"$f":"IF('Classement auteurs'!L220=\"\",\"\",'Classement auteurs'!L220)","v":48},{"$f":"IF('Classement auteurs'!M220=\"\",\"\",'Classement auteurs'!M220)","v":""},{"$f":"IF('Classement auteurs'!N220=\"\",\"\",'Classement auteurs'!N220)","v":""},{"$f":"IF('Classement auteurs'!O220=\"\",\"\",'Classement auteurs'!O220)","v":""},{"$f":"IF('Classement auteurs'!P220=\"\",\"\",'Classement auteurs'!P220)","v":""},{"$f":"IF('Classement auteurs'!Q220=\"\",\"\",'Classement auteurs'!Q220)","v":""},{"$f":"IF('Classement auteurs'!#REF!=\"\",\"\",'Classement auteurs'!#REF!)","v":{"$error":"#REF!"}}]
[null,{"$f":"'Classement auteurs'!$B221","v":132203000901},{"$f":"IFERROR(VLOOKUP($B221,'Défi-1'!$C$2:$J$200,8,FALSE),\"\")","v":""},{"$f":"IFERROR(VLOOKUP($B221,'Défi-2'!$C$2:$J$200,8,FALSE),\"\")","v":48},{"$f":"IFERROR(VLOOKUP($B221,'Défi-3'!$C$2:$J$200,8,FALSE),\"\")","v":""},{"$f":"IFERROR(VLOOKUP($B221,'Défi-4'!$C$2:$J$200,8,FALSE),\"\")","v":""},{"$f":"IFERROR(VLOOKUP($B221,'Défi-5'!$C$2:$J$200,8,FALSE),\"\")","v":""},{"$f":"IFERROR(VLOOKUP($B221,'Défi-6'!$C$2:$J$200,8,FALSE),\"\")","v":""},{"$f":"IFERROR(VLOOKUP($B221,'Défi-7'!$C$2:$J$200,8,FALSE),\"\")","v":""},48,null,"OK","OK","OK","OK","OK","OK","OK","OK",{"$error":"#REF!"},null,{"$f":"'Classement auteurs'!$B221","v":132203000901},{"$f":"IF('Classement auteurs'!K221=\"\",\"\",'Classement auteurs'!K221)","v":""},{"$f":"IF('Classement auteurs'!L221=\"\",\"\",'Classement auteurs'!L221)","v":48},{"$f":"IF('Classement auteurs'!M221=\"\",\"\",'Classement auteurs'!M221)","v":""},{"$f":"IF('Classement auteurs'!N221=\"\",\"\",'Classement auteurs'!N221)","v":""},{"$f":"IF('Classement auteurs'!O221=\"\",\"\",'Classement auteurs'!O221)","v":""},{"$f":"IF('Classement auteurs'!P221=\"\",\"\",'Classement auteurs'!P221)","v":""},{"$f":"IF('Classement auteurs'!Q221=\"\",\"\",'Classement auteurs'!Q221)","v":""},{"$f":"IF('Classement auteurs'!#REF!=\"\",\"\",'Classement auteurs'!#REF!)","v":{"$error":"#REF!"}}]
[null,{"$f":"'Classement auteurs'!$B222","v":132003002201},{"$f":"IFERROR(VLOOKUP($B222,'Défi-1'!$C$2:$J$200,8,FALSE),\"\")","v":""},{"$f":"IFERROR(VLOOKUP($B222,'Défi-2'!$C$2:$J$200,8,FALSE),\"\")","v":""},{"$f":"IFERROR(VLOOKUP($B222,'Défi-3'!$C$2:$J$200,8,FALSE),\"\")","v":""},{"$f":"IFERROR(VLOOKUP($B222,'Défi-4'!$C$2:$J$200,8,FALSE),\"\")","v":""},{"$f":"IFERROR(VLOOKUP($B222,'Défi-5'!$C$2:$J$200,8,FALSE),\"\")","v":""},{"$f":"IFERROR(VLOOKUP($B222,'Défi-6'!$C$2:$J$200,8,FALSE),\"\")","v":""},{"$f":"IFERROR(VLOOKUP($B222,'Défi-7'!$C$2:$J$200,8,FALSE),\"\")","v":47},47,null,"OK","KO","KO","OK","OK","OK","OK","KO",{"$error":"#REF!"},null,{"$f":"'Classement auteurs'!$B222","v":132003002201},{"$f":"IF('Classement auteurs'!K222=\"\",\"\",'Classement auteurs'!K222)","v":47},{"$f":"IF('Classement auteurs'!L222=\"\",\"\",'Classement auteurs'!L222)","v":47},{"$f":"IF('Classement auteurs'!M222=\"\",\"\",'Classement auteurs'!M222)","v":""},{"$f":"IF('Classement auteurs'!N222=\"\",\"\",'Classement auteurs'!N222)","v":""},{"$f":"IF('Classement auteurs'!O222=\"\",\"\",'Classement auteurs'!O222)","v":""},{"$f":"IF('Classement auteurs'!P222=\"\",\"\",'Classement auteurs'!P222)","v":""},{"$f":"IF('Classement auteurs'!Q222=\"\",\"\",'Classement auteurs'!Q222)","v":""},{"$f":"IF('Classement auteurs'!#REF!=\"\",\"\",'Classement auteurs'!#REF!)","v":{"$error":"#REF!"}}]
[null,{"$f":"'Classement auteurs'!$B223","v":132103000401},{"$f":"IFERROR(VLOOKUP($B223,'Défi-1'!$C$2:$J$200,8,FALSE),\"\")","v":""},{"$f":"IFERROR(VLOOKUP($B223,'Défi-2'!$C$2:$J$200,8,FALSE),\"\")","v":""},{"$f":"IFERROR(VLOOKUP($B223,'Défi-3'!$C$2:$J$200,8,FALSE),\"\")","v":""},{"$f":"IFERROR(VLOOKUP($B223,'Défi-4'!$C$2:$J$200,8,FALSE),\"\")","v":""},{"$f":"IFERROR(VLOOKUP($B223,'Défi-5'!$C$2:$J$200,8,FALSE),\"\")","v":""},{"$f":"IFERROR(VLOOKUP($B223,'Défi-6'!$C$2:$J$200,8,FALSE),\"\")","v":""},{"$f":"IFERROR(VLOOKUP($B223,'Défi-7'!$C$2:$J$200,8,FALSE),\"\")","v":47},47,null,"OK","KO","KO","OK","OK","OK","OK","KO",{"$error":"#REF!"},null,{"$f":"'Classement auteurs'!$B223","v":132103000401},{"$f":"IF('Classement auteurs'!K223=\"\",\"\",'Classement auteurs'!K223)","v":47},{"$f":"IF('Classement auteurs'!L223=\"\",\"\",'Classement auteurs'!L223)","v":47},{"$f":"IF('Classement auteurs'!M223=\"\",\"\",'Classement auteurs'!M223)","v":""},{"$f":"IF('Classement auteurs'!N223=\"\",\"\",'Classement auteurs'!N223)","v":""},{"$f":"IF('Classement auteurs'!O223=\"\",\"\",'Classement auteurs'!O223)","v":""},{"$f":"IF('Classement auteurs'!P223=\"\",\"\",'Classement auteurs'!P223)","v":""},{"$f":"IF('Classement auteurs'!Q223=\"\",\"\",'Classement auteurs'!Q223)","v":""},{"$f":"IF('Classement auteurs'!#REF!=\"\",\"\",'Classement auteurs'!#REF!)","v":{"$error":"#REF!"}}]
[null,{"$f":"'Classement auteurs'!$B224","v":131845000901},{"$f":"IFERROR(VLOOKUP($B224,'Défi-1'!$C$2:$J$200,8,FALSE),\"\")","v":""},{"$f":"IFERROR(VLOOKUP($B224,'Défi-2'!$C$2:$J$200,8,FALSE),\"\")","v":""},{"$f":"IFERROR(VLOOKUP($B224,'Défi-3'!$C$2:$J$200,8,FALSE),\"\")","v":""},{"$f":"IFERROR(VLOOKUP($B224,'Défi-4'!$C$2:$J$200,8,FALSE),\"\")","v":""},{"$f":"IFERROR(VLOOKUP($B224,'Défi-5'!$C$2:$J$200,8,FALSE),\"\")","v":""},{"$f":"IFERROR(VLOOKUP($B224,'Défi-6'!$C$2:$J$200,8,FALSE),\"\")","v":""},{"$f":"IFERROR(VLOOKUP($B224,'Défi-7'!$C$2:$J$200,8,FALSE),\"\")","v":45},45,null,"OK","KO","KO","OK","OK","OK","OK","KO",{"$error":"#REF!"},null,{"$f":"'Classement auteurs'!$B224","v":131845000901},{"$f":"IF('Classement auteurs'!K224=\"\",\"\",'Classement auteurs'!K224)","v":45},{"$f":"IF('Classement auteurs'!L224=\"\",\"\",'Classement auteurs'!L224)","v":45},{"$f":"IF('Classement auteurs'!M224=\"\",\"\",'Classement auteurs'!M224)","v":""},{"$f":"IF('Classement auteurs'!N224=\"\",\"\",'Classement auteurs'!N224)","v":""},{"$f":"IF('Classement auteurs'!O224=\"\",\"\",'Classement auteurs'!O224)","v":""},{"$f":"IF('Classement auteurs'!P224=\"\",\"\",'Classement auteurs'!P224)","v":""},{"$f":"IF('Classement auteurs'!Q224=\"\",\"\",'Classement auteurs'!Q224)","v":""},{"$f":"IF('Classement auteurs'!#REF!=\"\",\"\",'Classement auteurs'!#REF!)","v":{"$error":"#REF!"}}]
[null,{"$f":"'Classement auteurs'!$B225","v":132084004801},{"$f":"IFERROR(VLOOKUP($B225,'Défi-1'!$C$2:$J$200,8,FALSE),\"\")","v":""},{"$f":"IFERROR(VLOOKUP($B225,'Défi-2'!$C$2:$J$200,8,FALSE),\"\")","v":""},{"$f":"IFERROR(VLOOKUP($B225,'Défi-3'!$C$2:$J$200,8,FALSE),\"\")","v":""},{"$f":"IFERROR(VLOOKUP($B225,'Défi-4'!$C$2:$J$200,8,FALSE),\"\")","v":""},{"$f":"IFERROR(VLOOKUP($B225,'Défi-5'!$C$2:$J$200,8,FALSE),\"\")","v":""},{"$f":"IFERROR(VLOOKUP($B225,'Défi-6'!$C$2:$J$200,8,FALSE),\"\")","v":""},{"$f":"IFERROR(VLOOKUP($B225,'Défi-7'!$C$2:$J$200,8,FALSE),\"\")","v":44},44,null,"OK","KO","KO","OK","OK","OK","OK","KO",{"$error":"#REF!"},null,{"$f":"'Classement auteurs'!$B225","v":132084004801},{"$f":"IF('Classement auteurs'!K225=\"\",\"\",'Classement auteurs'!K225)","v":44},{"$f":"IF('Classement auteurs'!L225=\"\",\"\",'Classement auteurs'!L225)","v":44},{"$f":"IF('Classement auteurs'!M225=\"\",\"\",'Classement auteurs'!M225)","v":""},{"$f":"IF('Classement auteurs'!N225=\"\",\"\",'Classement auteurs'!N225)","v":""},{"$f":"IF('Classement auteurs'!O225=\"\",\"\",'Classement auteurs'!O225)","v":""},{"$f":"IF('Classement auteurs'!P225=\"\",\"\",'Classement auteurs'!P225)","v":""},{"$f":"IF('Classement auteurs'!Q225=\"\",\"\",'Classement auteurs'!Q225)","v":""},{"$f":"IF('Classement auteurs'!#REF!=\"\",\"\",'Classement auteurs'!#REF!)","v":{"$error":"#REF!"}}]
[null,{"$f":"'Classement auteurs'!$B226","v":132103000201},{"$f":"IFERROR(VLOOKUP($B226,'Défi-1'!$C$2:$J$200,8,FALSE),\"\")","v":""},{"$f":"IFERROR(VLOOKUP($B226,'Défi-2'!$C$2:$J$200,8,FALSE),\"\")","v":""},{"$f":"IFERROR(VLOOKUP($B226,'Défi-3'!$C$2:$J$200,8,FALSE),\"\")","v":44},{"$f":"IFERROR(VLOOKUP($B226,'Défi-4'!$C$2:$J$200,8,FALSE),\"\")","v":""},{"$f":"IFERROR(VLOOKUP($B226,'Défi-5'!$C$2:$J$200,8,FALSE),\"\")","v":""},{"$f":"IFERROR(VLOOKUP($B226,'Défi-6'!$C$2:$J$200,8,FALSE),\"\")","v":""},{"$f":"IFERROR(VLOOKUP($B226,'Défi-7'!$C$2:$J$200,8,FALSE),\"\")","v":""},44,null,"OK","OK","KO","KO","OK","OK","OK","OK",{"$error":"#REF!"},null,{"$f":"'Classement auteurs'!$B226","v":132103000201},{"$f":"IF('Classement auteurs'!K226=\"\",\"\",'Classement auteurs'!K226)","v":""},{"$f":"IF('Classement auteurs'!L226=\"\",\"\",'Classement auteurs'!L226)","v":44},{"$f":"IF('Classement auteurs'!M226=\"\",\"\",'Classement auteurs'!M226)","v":""},{"$f":"IF('Classement auteurs'!N226=\"\",\"\",'Classement auteurs'!N226)","v":""},{"$f":"IF('Classement auteurs'!O226=\"\",\"\",'Classement auteurs'!O226)","v":""},{"$f":"IF('Classement auteurs'!P226=\"\",\"\",'Classement auteurs'!P226)","v":""},{"$f":"IF('Classement auteurs'!Q226=\"\",\"\",'Classement auteurs'!Q226)","v":""},{"$f":"IF('Classement auteurs'!#REF!=\"\",\"\",'Classement auteurs'!#REF!)","v":{"$error":"#REF!"}}]
[null,{"$f":"'Classement auteurs'!$B227","v":132203001101},{"$f":"IFERROR(VLOOKUP($B227,'Défi-1'!$C$2:$J$200,8,FALSE),\"\")","v":""},{"$f":"IFERROR(VLOOKUP($B227,'Défi-2'!$C$2:$J$200,8,FALSE),\"\")","v":""},{"$f":"IFERROR(VLOOKUP($B227,'Défi-3'!$C$2:$J$200,8,FALSE),\"\")","v":44},{"$f":"IFERROR(VLOOKUP($B227,'Défi-4'!$C$2:$J$200,8,FALSE),\"\")","v":""},{"$f":"IFERROR(VLOOKUP($B227,'Défi-5'!$C$2:$J$200,8,FALSE),\"\")","v":""},{"$f":"IFERROR(VLOOKUP($B227,'Défi-6'!$C$2:$J$200,8,FALSE),\"\")","v":""},{"$f":"IFERROR(VLOOKUP($B227,'Défi-7'!$C$2:$J$200,8,FALSE),\"\")","v":""},44,null,"OK","OK","KO","KO","OK","OK","OK","OK",{"$error":"#REF!"},null,{"$f":"'Classement auteurs'!$B227","v":132203001101},{"$f":"IF('Classement auteurs'!K227=\"\",\"\",'Classement auteurs'!K227)","v":""},{"$f":"IF('Classement auteurs'!L227=\"\",\"\",'Classement auteurs'!L227)","v":44},{"$f":"IF('Classement auteurs'!M227=\"\",\"\",'Classement auteurs'!M227)","v":""},{"$f":"IF('Classement auteurs'!N227=\"\",\"\",'Classement auteurs'!N227)","v":""},{"$f":"IF('Classement auteurs'!O227=\"\",\"\",'Classement auteurs'!O227)","v":""},{"$f":"IF('Classement auteurs'!P227=\"\",\"\",'Classement auteurs'!P227)","v":""},{"$f":"IF('Classement auteurs'!Q227=\"\",\"\",'Classement auteurs'!Q227)","v":""},{"$f":"IF('Classement auteurs'!#REF!=\"\",\"\",'Classement auteurs'!#REF!)","v":{"$error":"#REF!"}}]
[null,{"$f":"'Classement auteurs'!$B228","v":131619005301},{"$f":"IFERROR(VLOOKUP($B228,'Défi-1'!$C$2:$J$200,8,FALSE),\"\")","v":""},{"$f":"IFERROR(VLOOKUP($B228,'Défi-2'!$C$2:$J$200,8,FALSE),\"\")","v":""},{"$f":"IFERROR(VLOOKUP($B228,'Défi-3'!$C$2:$J$200,8,FALSE),\"\")","v":""},{"$f":"IFERROR(VLOOKUP($B228,'Défi-4'!$C$2:$J$200,8,FALSE),\"\")","v":""},{"$f":"IFERROR(VLOOKUP($B228,'Défi-5'!$C$2:$J$200,8,FALSE),\"\")","v":43},{"$f":"IFERROR(VLOOKUP($B228,'Défi-6'!$C$2:$J$200,8,FALSE),\"\")","v":""},{"$f":"IFERROR(VLOOKUP($B228,'Défi-7'!$C$2:$J$200,8,FALSE),\"\")","v":""},43,null,"OK","OK","KO","OK","OK","KO","OK","OK",{"$error":"#REF!"},null,{"$f":"'Classement auteurs'!$B228","v":131619005301},{"$f":"IF('Classement auteurs'!K228=\"\",\"\",'Classement auteurs'!K228)","v":""},{"$f":"IF('Classement auteurs'!L228=\"\",\"\",'Classement auteurs'!L228)","v":43},{"$f":"IF('Classement auteurs'!M228=\"\",\"\",'Classement auteurs'!M228)","v":""},{"$f":"IF('Classement auteurs'!N228=\"\",\"\",'Classement auteurs'!N228)","v":""},{"$f":"IF('Classement auteurs'!O228=\"\",\"\",'Classement auteurs'!O228)","v":""},{"$f":"IF('Classement auteurs'!P228=\"\",\"\",'Classement auteurs'!P228)","v":""},{"$f":"IF('Classement auteurs'!Q228=\"\",\"\",'Classement auteurs'!Q228)","v":""},{"$f":"IF('Classement auteurs'!#REF!=\"\",\"\",'Classement auteurs'!#REF!)","v":{"$error":"#REF!"}}]
[null,{"$f":"'Classement auteurs'!$B229","v":131862001601},{"$f":"IFERROR(VLOOKUP($B229,'Défi-1'!$C$2:$J$200,8,FALSE),\"\")","v":""},{"$f":"IFERROR(VLOOKUP($B229,'Défi-2'!$C$2:$J$200,8,FALSE),\"\")","v":""},{"$f":"IFERROR(VLOOKUP($B229,'Défi-3'!$C$2:$J$200,8,FALSE),\"\")","v":""},{"$f":"IFERROR(VLOOKUP($B229,'Défi-4'!$C$2:$J$200,8,FALSE),\"\")","v":""},{"$f":"IFERROR(VLOOKUP($B229,'Défi-5'!$C$2:$J$200,8,FALSE),\"\")","v":""},{"$f":"IFERROR(VLOOKUP($B229,'Défi-6'!$C$2:$J$200,8,FALSE),\"\")","v":""},{"$f":"IFERROR(VLOOKUP($B229,'Défi-7'!$C$2:$J$200,8,FALSE),\"\")","v":43},43,null,"OK","KO","KO","OK","OK","OK","OK","KO",{"$error":"#REF!"},null,{"$f":"'Classement auteurs'!$B229","v":131862001601},{"$f":"IF('Classement auteurs'!K229=\"\",\"\",'Classement auteurs'!K229)","v":43},{"$f":"IF('Classement auteurs'!L229=\"\",\"\",'Classement auteurs'!L229)","v":43},{"$f":"IF('Classement auteurs'!M229=\"\",\"\",'Classement auteurs'!M229)","v":""},{"$f":"IF('Classement auteurs'!N229=\"\",\"\",'Classement auteurs'!N229)","v":""},{"$f":"IF('Classement auteurs'!O229=\"\",\"\",'Classement auteurs'!O229)","v":""},{"$f":"IF('Classement auteurs'!P229=\"\",\"\",'Classement auteurs'!P229)","v":""},{"$f":"IF('Classement auteurs'!Q229=\"\",\"\",'Classement auteurs'!Q229)","v":""},{"$f":"IF('Classement auteurs'!#REF!=\"\",\"\",'Classement auteurs'!#REF!)","v":{"$error":"#REF!"}}]
[null,{"$f":"'Classement auteurs'!$B230","v":131985003601},{"$f":"IFERROR(VLOOKUP($B230,'Défi-1'!$C$2:$J$200,8,FALSE),\"\")","v":""},{"$f":"IFERROR(VLOOKUP($B230,'Défi-2'!$C$2:$J$200,8,FALSE),\"\")","v":""},{"$f":"IFERROR(VLOOKUP($B230,'Défi-3'!$C$2:$J$200,8,FALSE),\"\")","v":""},{"$f":"IFERROR(VLOOKUP($B230,'Défi-4'!$C$2:$J$200,8,FALSE),\"\")","v":""},{"$f":"IFERROR(VLOOKUP($B230,'Défi-5'!$C$2:$J$200,8,FALSE),\"\")","v":""},{"$f":"IFERROR(VLOOKUP($B230,'Défi-6'!$C$2:$J$200,8,FALSE),\"\")","v":""},{"$f":"IFERROR(VLOOKUP($B230,'Défi-7'!$C$2:$J$200,8,FALSE),\"\")","v":43},43,null,"OK","KO","KO","OK","OK","OK","OK","KO",{"$error":"#REF!"},null,{"$f":"'Classement auteurs'!$B230","v":131985003601},{"$f":"IF('Classement auteurs'!K230=\"\",\"\",'Classement auteurs'!K230)","v":43},{"$f":"IF('Classement auteurs'!L230=\"\",\"\",'Classement auteurs'!L230)","v":43},{"$f":"IF('Classement auteurs'!M230=\"\",\"\",'Classement auteurs'!M230)","v":""},{"$f":"IF('Classement auteurs'!N230=\"\",\"\",'Classement auteurs'!N230)","v":""},{"$f":"IF('Classement auteurs'!O230=\"\",\"\",'Classement auteurs'!O230)","v":""},{"$f":"IF('Classement auteurs'!P230=\"\",\"\",'Classement auteurs'!P230)","v":""},{"$f":"IF('Classement auteurs'!Q230=\"\",\"\",'Classement auteurs'!Q230)","v":""},{"$f":"IF('Classement auteurs'!#REF!=\"\",\"\",'Classement auteurs'!#REF!)","v":{"$error":"#REF!"}}]
[null,{"$f":"'Classement auteurs'!$B231","v":130000021001},{"$f":"IFERROR(VLOOKUP($B231,'Défi-1'!$C$2:$J$200,8,FALSE),\"\")","v":""},{"$f":"IFERROR(VLOOKUP($B231,'Défi-2'!$C$2:$J$200,8,FALSE),\"\")","v":""},{"$f":"IFERROR(VLOOKUP($B231,'Défi-3'!$C$2:$J$200,8,FALSE),\"\")","v":21},{"$f":"IFERROR(VLOOKUP($B231,'Défi-4'!$C$2:$J$200,8,FALSE),\"\")","v":""},{"$f":"IFERROR(VLOOKUP($B231,'Défi-5'!$C$2:$J$200,8,FALSE),\"\")","v":""},{"$f":"IFERROR(VLOOKUP($B231,'Défi-6'!$C$2:$J$200,8,FALSE),\"\")","v":21},{"$f":"IFERROR(VLOOKUP($B231,'Défi-7'!$C$2:$J$200,8,FALSE),\"\")","v":""},42,null,"OK","OK","KO","KO","OK","OK","KO","OK",{"$error":"#REF!"},null,{"$f":"'Classement auteurs'!$B231","v":130000021001},{"$f":"IF('Classement auteurs'!K231=\"\",\"\",'Classement auteurs'!K231)","v":""},{"$f":"IF('Classement auteurs'!L231=\"\",\"\",'Classement auteurs'!L231)","v":42},{"$f":"IF('Classement auteurs'!M231=\"\",\"\",'Classement auteurs'!M231)","v":""},{"$f":"IF('Classement auteurs'!N231=\"\",\"\",'Classement auteurs'!N231)","v":""},{"$f":"IF('Classement auteurs'!O231=\"\",\"\",'Classement auteurs'!O231)","v":""},{"$f":"IF('Classement auteurs'!P231=\"\",\"\",'Classement auteurs'!P231)","v":""},{"$f":"IF('Classement auteurs'!Q231=\"\",\"\",'Classement auteurs'!Q231)","v":""},{"$f":"IF('Classement auteurs'!#REF!=\"\",\"\",'Classement auteurs'!#REF!)","v":{"$error":"#REF!"}}]
[null,{"$f":"'Classement auteurs'!$B232","v":130993016601},{"$f":"IFERROR(VLOOKUP($B232,'Défi-1'!$C$2:$J$200,8,FALSE),\"\")","v":""},{"$f":"IFERROR(VLOOKUP($B232,'Défi-2'!$C$2:$J$200,8,FALSE),\"\")","v":""},{"$f":"IFERROR(VLOOKUP($B232,'Défi-3'!$C$2:$J$200,8,FALSE),\"\")","v":""},{"$f":"IFERROR(VLOOKUP($B232,'Défi-4'!$C$2:$J$200,8,FALSE),\"\")","v":42},{"$f":"IFERROR(VLOOKUP($B232,'Défi-5'!$C$2:$J$200,8,FALSE),\"\")","v":""},{"$f":"IFERROR(VLOOKUP($B232,'Défi-6'!$C$2:$J$200,8,FALSE),\"\")","v":""},{"$f":"IFERROR(VLOOKUP($B232,'Défi-7'!$C$2:$J$200,8,FALSE),\"\")","v":""},42,null,"OK","OK","KO","OK","KO","OK","OK","OK",{"$error":"#REF!"},null,{"$f":"'Classement auteurs'!$B232","v":130993016601},{"$f":"IF('Classement auteurs'!K232=\"\",\"\",'Classement auteurs'!K232)","v":""},{"$f":"IF('Classement auteurs'!L232=\"\",\"\",'Classement auteurs'!L232)","v":42},{"$f":"IF('Classement auteurs'!M232=\"\",\"\",'Classement auteurs'!M232)","v":""},{"$f":"IF('Classement auteurs'!N232=\"\",\"\",'Classement auteurs'!N232)","v":""},{"$f":"IF('Classement auteurs'!O232=\"\",\"\",'Classement auteurs'!O232)","v":""},{"$f":"IF('Classement auteurs'!P232=\"\",\"\",'Classement auteurs'!P232)","v":""},{"$f":"IF('Classement auteurs'!Q232=\"\",\"\",'Classement auteurs'!Q232)","v":""},{"$f":"IF('Classement auteurs'!#REF!=\"\",\"\",'Classement auteurs'!#REF!)","v":{"$error":"#REF!"}}]
[null,{"$f":"'Classement auteurs'!$B233","v":131956006101},{"$f":"IFERROR(VLOOKUP($B233,'Défi-1'!$C$2:$J$200,8,FALSE),\"\")","v":""},{"$f":"IFERROR(VLOOKUP($B233,'Défi-2'!$C$2:$J$200,8,FALSE),\"\")","v":""},{"$f":"IFERROR(VLOOKUP($B233,'Défi-3'!$C$2:$J$200,8,FALSE),\"\")","v":""},{"$f":"IFERROR(VLOOKUP($B233,'Défi-4'!$C$2:$J$200,8,FALSE),\"\")","v":""},{"$f":"IFERROR(VLOOKUP($B233,'Défi-5'!$C$2:$J$200,8,FALSE),\"\")","v":42},{"$f":"IFERROR(VLOOKUP($B233,'Défi-6'!$C$2:$J$200,8,FALSE),\"\")","v":""},{"$f":"IFERROR(VLOOKUP($B233,'Défi-7'!$C$2:$J$200,8,FALSE),\"\")","v":""},42,null,"OK","OK","KO","OK","OK","KO","OK","OK",{"$error":"#REF!"},null,{"$f":"'Classement auteurs'!$B233","v":131956006101},{"$f":"IF('Classement auteurs'!K233=\"\",\"\",'Classement auteurs'!K233)","v":""},{"$f":"IF('Classement auteurs'!L233=\"\",\"\",'Classement auteurs'!L233)","v":42},{"$f":"IF('Classement auteurs'!M233=\"\",\"\",'Classement auteurs'!M233)","v":""},{"$f":"IF('Classement auteurs'!N233=\"\",\"\",'Classement auteurs'!N233)","v":""},{"$f":"IF('Classement auteurs'!O233=\"\",\"\",'Classement auteurs'!O233)","v":""},{"$f":"IF('Classement auteurs'!P233=\"\",\"\",'Classement auteurs'!P233)","v":""},{"$f":"IF('Classement auteurs'!Q233=\"\",\"\",'Classement auteurs'!Q233)","v":""},{"$f":"IF('Classement auteurs'!#REF!=\"\",\"\",'Classement auteurs'!#REF!)","v":{"$error":"#REF!"}}]
[null,{"$f":"'Classement auteurs'!$B234","v":130000015001},{"$f":"IFERROR(VLOOKUP($B234,'Défi-1'!$C$2:$J$200,8,FALSE),\"\")","v":""},{"$f":"IFERROR(VLOOKUP($B234,'Défi-2'!$C$2:$J$200,8,FALSE),\"\")","v":""},{"$f":"IFERROR(VLOOKUP($B234,'Défi-3'!$C$2:$J$200,8,FALSE),\"\")","v":""},{"$f":"IFERROR(VLOOKUP($B234,'Défi-4'!$C$2:$J$200,8,FALSE),\"\")","v":""},{"$f":"IFERROR(VLOOKUP($B234,'Défi-5'!$C$2:$J$200,8,FALSE),\"\")","v":""},{"$f":"IFERROR(VLOOKUP($B234,'Défi-6'!$C$2:$J$200,8,FALSE),\"\")","v":""},{"$f":"IFERROR(VLOOKUP($B234,'Défi-7'!$C$2:$J$200,8,FALSE),\"\")","v":41},41,null,"OK","KO","KO","OK","OK","OK","OK","KO",{"$error":"#REF!"},null,{"$f":"'Classement auteurs'!$B234","v":130000015001},{"$f":"IF('Classement auteurs'!K234=\"\",\"\",'Classement auteurs'!K234)","v":41},{"$f":"IF('Classement auteurs'!L234=\"\",\"\",'Classement auteurs'!L234)","v":41},{"$f":"IF('Classement auteurs'!M234=\"\",\"\",'Classement auteurs'!M234)","v":""},{"$f":"IF('Classement auteurs'!N234=\"\",\"\",'Classement auteurs'!N234)","v":""},{"$f":"IF('Classement auteurs'!O234=\"\",\"\",'Classement auteurs'!O234)","v":""},{"$f":"IF('Classement auteurs'!P234=\"\",\"\",'Classement auteurs'!P234)","v":""},{"$f":"IF('Classement auteurs'!Q234=\"\",\"\",'Classement auteurs'!Q234)","v":""},{"$f":"IF('Classement auteurs'!#REF!=\"\",\"\",'Classement auteurs'!#REF!)","v":{"$error":"#REF!"}}]
[null,{"$f":"'Classement auteurs'!$B235","v":130993010201},{"$f":"IFERROR(VLOOKUP($B235,'Défi-1'!$C$2:$J$200,8,FALSE),\"\")","v":""},{"$f":"IFERROR(VLOOKUP($B235,'Défi-2'!$C$2:$J$200,8,FALSE),\"\")","v":""},{"$f":"IFERROR(VLOOKUP($B235,'Défi-3'!$C$2:$J$200,8,FALSE),\"\")","v":""},{"$f":"IFERROR(VLOOKUP($B235,'Défi-4'!$C$2:$J$200,8,FALSE),\"\")","v":41},{"$f":"IFERROR(VLOOKUP($B235,'Défi-5'!$C$2:$J$200,8,FALSE),\"\")","v":""},{"$f":"IFERROR(VLOOKUP($B235,'Défi-6'!$C$2:$J$200,8,FALSE),\"\")","v":""},{"$f":"IFERROR(VLOOKUP($B235,'Défi-7'!$C$2:$J$200,8,FALSE),\"\")","v":""},41,null,"OK","OK","KO","OK","KO","OK","OK","OK",{"$error":"#REF!"},null,{"$f":"'Classement auteurs'!$B235","v":130993010201},{"$f":"IF('Classement auteurs'!K235=\"\",\"\",'Classement auteurs'!K235)","v":""},{"$f":"IF('Classement auteurs'!L235=\"\",\"\",'Classement auteurs'!L235)","v":41},{"$f":"IF('Classement auteurs'!M235=\"\",\"\",'Classement auteurs'!M235)","v":""},{"$f":"IF('Classement auteurs'!N235=\"\",\"\",'Classement auteurs'!N235)","v":""},{"$f":"IF('Classement auteurs'!O235=\"\",\"\",'Classement auteurs'!O235)","v":""},{"$f":"IF('Classement auteurs'!P235=\"\",\"\",'Classement auteurs'!P235)","v":""},{"$f":"IF('Classement auteurs'!Q235=\"\",\"\",'Classement auteurs'!Q235)","v":""},{"$f":"IF('Classement auteurs'!#REF!=\"\",\"\",'Classement auteurs'!#REF!)","v":{"$error":"#REF!"}}]
[null,{"$f":"'Classement auteurs'!$B236","v":131899000801},{"$f":"IFERROR(VLOOKUP($B236,'Défi-1'!$C$2:$J$200,8,FALSE),\"\")","v":""},{"$f":"IFERROR(VLOOKUP($B236,'Défi-2'!$C$2:$J$200,8,FALSE),\"\")","v":""},{"$f":"IFERROR(VLOOKUP($B236,'Défi-3'!$C$2:$J$200,8,FALSE),\"\")","v":""},{"$f":"IFERROR(VLOOKUP($B236,'Défi-4'!$C$2:$J$200,8,FALSE),\"\")","v":""},{"$f":"IFERROR(VLOOKUP($B236,'Défi-5'!$C$2:$J$200,8,FALSE),\"\")","v":41},{"$f":"IFERROR(VLOOKUP($B236,'Défi-6'!$C$2:$J$200,8,FALSE),\"\")","v":""},{"$f":"IFERROR(VLOOKUP($B236,'Défi-7'!$C$2:$J$200,8,FALSE),\"\")","v":""},41,null,"OK","OK","KO","OK","OK","KO","OK","OK",{"$error":"#REF!"},null,{"$f":"'Classement auteurs'!$B236","v":131899000801},{"$f":"IF('Classement auteurs'!K236=\"\",\"\",'Classement auteurs'!K236)","v":""},{"$f":"IF('Classement auteurs'!L236=\"\",\"\",'Classement auteurs'!L236)","v":41},{"$f":"IF('Classement auteurs'!M236=\"\",\"\",'Classement auteurs'!M236)","v":""},{"$f":"IF('Classement auteurs'!N236=\"\",\"\",'Classement auteurs'!N236)","v":""},{"$f":"IF('Classement auteurs'!O236=\"\",\"\",'Classement auteurs'!O236)","v":""},{"$f":"IF('Classement auteurs'!P236=\"\",\"\",'Classement auteurs'!P236)","v":""},{"$f":"IF('Classement auteurs'!Q236=\"\",\"\",'Classement auteurs'!Q236)","v":""},{"$f":"IF('Classement auteurs'!#REF!=\"\",\"\",'Classement auteurs'!#REF!)","v":{"$error":"#REF!"}}]
[null,{"$f":"'Classement auteurs'!$B237","v":132060002101},{"$f":"IFERROR(VLOOKUP($B237,'Défi-1'!$C$2:$J$200,8,FALSE),\"\")","v":""},{"$f":"IFERROR(VLOOKUP($B237,'Défi-2'!$C$2:$J$200,8,FALSE),\"\")","v":""},{"$f":"IFERROR(VLOOKUP($B237,'Défi-3'!$C$2:$J$200,8,FALSE),\"\")","v":""},{"$f":"IFERROR(VLOOKUP($B237,'Défi-4'!$C$2:$J$200,8,FALSE),\"\")","v":""},{"$f":"IFERROR(VLOOKUP($B237,'Défi-5'!$C$2:$J$200,8,FALSE),\"\")","v":""},{"$f":"IFERROR(VLOOKUP($B237,'Défi-6'!$C$2:$J$200,8,FALSE),\"\")","v":""},{"$f":"IFERROR(VLOOKUP($B237,'Défi-7'!$C$2:$J$200,8,FALSE),\"\")","v":41},41,null,"OK","KO","KO","OK","OK","OK","OK","KO",{"$error":"#REF!"},null,{"$f":"'Classement auteurs'!$B237","v":132060002101},{"$f":"IF('Classement auteurs'!K237=\"\",\"\",'Classement auteurs'!K237)","v":41},{"$f":"IF('Classement auteurs'!L237=\"\",\"\",'Classement auteurs'!L237)","v":41},{"$f":"IF('Classement auteurs'!M237=\"\",\"\",'Classement auteurs'!M237)","v":""},{"$f":"IF('Classement auteurs'!N237=\"\",\"\",'Classement auteurs'!N237)","v":""},{"$f":"IF('Classement auteurs'!O237=\"\",\"\",'Classement auteurs'!O237)","v":""},{"$f":"IF('Classement auteurs'!P237=\"\",\"\",'Classement auteurs'!P237)","v":""},{"$f":"IF('Classement auteurs'!Q237=\"\",\"\",'Classement auteurs'!Q237)","v":""},{"$f":"IF('Classement auteurs'!#REF!=\"\",\"\",'Classement auteurs'!#REF!)","v":{"$error":"#REF!"}}]
[null,{"$f":"'Classement auteurs'!$B238","v":130000020801},{"$f":"IFERROR(VLOOKUP($B238,'Défi-1'!$C$2:$J$200,8,FALSE),\"\")","v":40},{"$f":"IFERROR(VLOOKUP($B238,'Défi-2'!$C$2:$J$200,8,FALSE),\"\")","v":""},{"$f":"IFERROR(VLOOKUP($B238,'Défi-3'!$C$2:$J$200,8,FALSE),\"\")","v":""},{"$f":"IFERROR(VLOOKUP($B238,'Défi-4'!$C$2:$J$200,8,FALSE),\"\")","v":""},{"$f":"IFERROR(VLOOKUP($B238,'Défi-5'!$C$2:$J$200,8,FALSE),\"\")","v":""},{"$f":"IFERROR(VLOOKUP($B238,'Défi-6'!$C$2:$J$200,8,FALSE),\"\")","v":""},{"$f":"IFERROR(VLOOKUP($B238,'Défi-7'!$C$2:$J$200,8,FALSE),\"\")","v":""},40,null,"OK","KO","KO","OK","OK","OK","OK","OK",{"$error":"#REF!"},null,{"$f":"'Classement auteurs'!$B238","v":130000020801},{"$f":"IF('Classement auteurs'!K238=\"\",\"\",'Classement auteurs'!K238)","v":""},{"$f":"IF('Classement auteurs'!L238=\"\",\"\",'Classement auteurs'!L238)","v":40},{"$f":"IF('Classement auteurs'!M238=\"\",\"\",'Classement auteurs'!M238)","v":""},{"$f":"IF('Classement auteurs'!N238=\"\",\"\",'Classement auteurs'!N238)","v":""},{"$f":"IF('Classement auteurs'!O238=\"\",\"\",'Classement auteurs'!O238)","v":""},{"$f":"IF('Classement auteurs'!P238=\"\",\"\",'Classement auteurs'!P238)","v":""},{"$f":"IF('Classement auteurs'!Q238=\"\",\"\",'Classement auteurs'!Q238)","v":""},{"$f":"IF('Classement auteurs'!#REF!=\"\",\"\",'Classement auteurs'!#REF!)","v":{"$error":"#REF!"}}]
[null,{"$f":"'Classement auteurs'!$B239","v":131992000901},{"$f":"IFERROR(VLOOKUP($B239,'Défi-1'!$C$2:$J$200,8,FALSE),\"\")","v":""},{"$f":"IFERROR(VLOOKUP($B239,'Défi-2'!$C$2:$J$200,8,FALSE),\"\")","v":""},{"$f":"IFERROR(VLOOKUP($B239,'Défi-3'!$C$2:$J$200,8,FALSE),\"\")","v":""},{"$f":"IFERROR(VLOOKUP($B239,'Défi-4'!$C$2:$J$200,8,FALSE),\"\")","v":""},{"$f":"IFERROR(VLOOKUP($B239,'Défi-5'!$C$2:$J$200,8,FALSE),\"\")","v":""},{"$f":"IFERROR(VLOOKUP($B239,'Défi-6'!$C$2:$J$200,8,FALSE),\"\")","v":""},{"$f":"IFERROR(VLOOKUP($B239,'Défi-7'!$C$2:$J$200,8,FALSE),\"\")","v":40},40,null,"OK","KO","KO","OK","OK","OK","OK","KO",{"$error":"#REF!"},null,{"$f":"'Classement auteurs'!$B239","v":131992000901},{"$f":"IF('Classement auteurs'!K239=\"\",\"\",'Classement auteurs'!K239)","v":40},{"$f":"IF('Classement auteurs'!L239=\"\",\"\",'Classement auteurs'!L239)","v":40},{"$f":"IF('Classement auteurs'!M239=\"\",\"\",'Classement auteurs'!M239)","v":""},{"$f":"IF('Classement auteurs'!N239=\"\",\"\",'Classement auteurs'!N239)","v":""},{"$f":"IF('Classement auteurs'!O239=\"\",\"\",'Classement auteurs'!O239)","v":""},{"$f":"IF('Classement auteurs'!P239=\"\",\"\",'Classement auteurs'!P239)","v":""},{"$f":"IF('Classement auteurs'!Q239=\"\",\"\",'Classement auteurs'!Q239)","v":""},{"$f":"IF('Classement auteurs'!#REF!=\"\",\"\",'Classement auteurs'!#REF!)","v":{"$error":"#REF!"}}]
[null,{"$f":"'Classement auteurs'!$B240","v":130878015701},{"$f":"IFERROR(VLOOKUP($B240,'Défi-1'!$C$2:$J$200,8,FALSE),\"\")","v":""},{"$f":"IFERROR(VLOOKUP($B240,'Défi-2'!$C$2:$J$200,8,FALSE),\"\")","v":""},{"$f":"IFERROR(VLOOKUP($B240,'Défi-3'!$C$2:$J$200,8,FALSE),\"\")","v":""},{"$f":"IFERROR(VLOOKUP($B240,'Défi-4'!$C$2:$J$200,8,FALSE),\"\")","v":""},{"$f":"IFERROR(VLOOKUP($B240,'Défi-5'!$C$2:$J$200,8,FALSE),\"\")","v":""},{"$f":"IFERROR(VLOOKUP($B240,'Défi-6'!$C$2:$J$200,8,FALSE),\"\")","v":""},{"$f":"IFERROR(VLOOKUP($B240,'Défi-7'!$C$2:$J$200,8,FALSE),\"\")","v":39},39,null,"OK","KO","KO","OK","OK","OK","OK","KO",{"$error":"#REF!"},null,{"$f":"'Classement auteurs'!$B240","v":130878015701},{"$f":"IF('Classement auteurs'!K240=\"\",\"\",'Classement auteurs'!K240)","v":39},{"$f":"IF('Classement auteurs'!L240=\"\",\"\",'Classement auteurs'!L240)","v":39},{"$f":"IF('Classement auteurs'!M240=\"\",\"\",'Classement auteurs'!M240)","v":""},{"$f":"IF('Classement auteurs'!N240=\"\",\"\",'Classement auteurs'!N240)","v":""},{"$f":"IF('Classement auteurs'!O240=\"\",\"\",'Classement auteurs'!O240)","v":""},{"$f":"IF('Classement auteurs'!P240=\"\",\"\",'Classement auteurs'!P240)","v":""},{"$f":"IF('Classement auteurs'!Q240=\"\",\"\",'Classement auteurs'!Q240)","v":""},{"$f":"IF('Classement auteurs'!#REF!=\"\",\"\",'Classement auteurs'!#REF!)","v":{"$error":"#REF!"}}]
[null,{"$f":"'Classement auteurs'!$B241","v":131683005001},{"$f":"IFERROR(VLOOKUP($B241,'Défi-1'!$C$2:$J$200,8,FALSE),\"\")","v":""},{"$f":"IFERROR(VLOOKUP($B241,'Défi-2'!$C$2:$J$200,8,FALSE),\"\")","v":""},{"$f":"IFERROR(VLOOKUP($B241,'Défi-3'!$C$2:$J$200,8,FALSE),\"\")","v":39},{"$f":"IFERROR(VLOOKUP($B241,'Défi-4'!$C$2:$J$200,8,FALSE),\"\")","v":""},{"$f":"IFERROR(VLOOKUP($B241,'Défi-5'!$C$2:$J$200,8,FALSE),\"\")","v":""},{"$f":"IFERROR(VLOOKUP($B241,'Défi-6'!$C$2:$J$200,8,FALSE),\"\")","v":""},{"$f":"IFERROR(VLOOKUP($B241,'Défi-7'!$C$2:$J$200,8,FALSE),\"\")","v":""},39,null,"OK","OK","KO","KO","OK","OK","OK","OK",{"$error":"#REF!"},null,{"$f":"'Classement auteurs'!$B241","v":131683005001},{"$f":"IF('Classement auteurs'!K241=\"\",\"\",'Classement auteurs'!K241)","v":""},{"$f":"IF('Classement auteurs'!L241=\"\",\"\",'Classement auteurs'!L241)","v":39},{"$f":"IF('Classement auteurs'!M241=\"\",\"\",'Classement auteurs'!M241)","v":""},{"$f":"IF('Classement auteurs'!N241=\"\",\"\",'Classement auteurs'!N241)","v":""},{"$f":"IF('Classement auteurs'!O241=\"\",\"\",'Classement auteurs'!O241)","v":""},{"$f":"IF('Classement auteurs'!P241=\"\",\"\",'Classement auteurs'!P241)","v":""},{"$f":"IF('Classement auteurs'!Q241=\"\",\"\",'Classement auteurs'!Q241)","v":""},{"$f":"IF('Classement auteurs'!#REF!=\"\",\"\",'Classement auteurs'!#REF!)","v":{"$error":"#REF!"}}]
[null,{"$f":"'Classement auteurs'!$B242","v":132084005001},{"$f":"IFERROR(VLOOKUP($B242,'Défi-1'!$C$2:$J$200,8,FALSE),\"\")","v":""},{"$f":"IFERROR(VLOOKUP($B242,'Défi-2'!$C$2:$J$200,8,FALSE),\"\")","v":""},{"$f":"IFERROR(VLOOKUP($B242,'Défi-3'!$C$2:$J$200,8,FALSE),\"\")","v":39},{"$f":"IFERROR(VLOOKUP($B242,'Défi-4'!$C$2:$J$200,8,FALSE),\"\")","v":""},{"$f":"IFERROR(VLOOKUP($B242,'Défi-5'!$C$2:$J$200,8,FALSE),\"\")","v":""},{"$f":"IFERROR(VLOOKUP($B242,'Défi-6'!$C$2:$J$200,8,FALSE),\"\")","v":""},{"$f":"IFERROR(VLOOKUP($B242,'Défi-7'!$C$2:$J$200,8,FALSE),\"\")","v":""},39,null,"OK","OK","KO","KO","OK","OK","OK","OK",{"$error":"#REF!"},null,{"$f":"'Classement auteurs'!$B242","v":132084005001},{"$f":"IF('Classement auteurs'!K242=\"\",\"\",'Classement auteurs'!K242)","v":""},{"$f":"IF('Classement auteurs'!L242=\"\",\"\",'Classement auteurs'!L242)","v":39},{"$f":"IF('Classement auteurs'!M242=\"\",\"\",'Classement auteurs'!M242)","v":""},{"$f":"IF('Classement auteurs'!N242=\"\",\"\",'Classement auteurs'!N242)","v":""},{"$f":"IF('Classement auteurs'!O242=\"\",\"\",'Classement auteurs'!O242)","v":""},{"$f":"IF('Classement auteurs'!P242=\"\",\"\",'Classement auteurs'!P242)","v":""},{"$f":"IF('Classement auteurs'!Q242=\"\",\"\",'Classement auteurs'!Q242)","v":""},{"$f":"IF('Classement auteurs'!#REF!=\"\",\"\",'Classement auteurs'!#REF!)","v":{"$error":"#REF!"}}]
[null,{"$f":"'Classement auteurs'!$B243","v":132089000501},{"$f":"IFERROR(VLOOKUP($B243,'Défi-1'!$C$2:$J$200,8,FALSE),\"\")","v":""},{"$f":"IFERROR(VLOOKUP($B243,'Défi-2'!$C$2:$J$200,8,FALSE),\"\")","v":39},{"$f":"IFERROR(VLOOKUP($B243,'Défi-3'!$C$2:$J$200,8,FALSE),\"\")","v":""},{"$f":"IFERROR(VLOOKUP($B243,'Défi-4'!$C$2:$J$200,8,FALSE),\"\")","v":""},{"$f":"IFERROR(VLOOKUP($B243,'Défi-5'!$C$2:$J$200,8,FALSE),\"\")","v":""},{"$f":"IFERROR(VLOOKUP($B243,'Défi-6'!$C$2:$J$200,8,FALSE),\"\")","v":""},{"$f":"IFERROR(VLOOKUP($B243,'Défi-7'!$C$2:$J$200,8,FALSE),\"\")","v":""},39,null,"OK","OK","OK","OK","OK","OK","OK","OK",{"$error":"#REF!"},null,{"$f":"'Classement auteurs'!$B243","v":132089000501},{"$f":"IF('Classement auteurs'!K243=\"\",\"\",'Classement auteurs'!K243)","v":""},{"$f":"IF('Classement auteurs'!L243=\"\",\"\",'Classement auteurs'!L243)","v":39},{"$f":"IF('Classement auteurs'!M243=\"\",\"\",'Classement auteurs'!M243)","v":""},{"$f":"IF('Classement auteurs'!N243=\"\",\"\",'Classement auteurs'!N243)","v":""},{"$f":"IF('Classement auteurs'!O243=\"\",\"\",'Classement auteurs'!O243)","v":""},{"$f":"IF('Classement auteurs'!P243=\"\",\"\",'Classement auteurs'!P243)","v":""},{"$f":"IF('Classement auteurs'!Q243=\"\",\"\",'Classement auteurs'!Q243)","v":""},{"$f":"IF('Classement auteurs'!#REF!=\"\",\"\",'Classement auteurs'!#REF!)","v":{"$error":"#REF!"}}]
[null,{"$f":"'Classement auteurs'!$B244","v":132193001901},{"$f":"IFERROR(VLOOKUP($B244,'Défi-1'!$C$2:$J$200,8,FALSE),\"\")","v":""},{"$f":"IFERROR(VLOOKUP($B244,'Défi-2'!$C$2:$J$200,8,FALSE),\"\")","v":""},{"$f":"IFERROR(VLOOKUP($B244,'Défi-3'!$C$2:$J$200,8,FALSE),\"\")","v":""},{"$f":"IFERROR(VLOOKUP($B244,'Défi-4'!$C$2:$J$200,8,FALSE),\"\")","v":""},{"$f":"IFERROR(VLOOKUP($B244,'Défi-5'!$C$2:$J$200,8,FALSE),\"\")","v":39},{"$f":"IFERROR(VLOOKUP($B244,'Défi-6'!$C$2:$J$200,8,FALSE),\"\")","v":""},{"$f":"IFERROR(VLOOKUP($B244,'Défi-7'!$C$2:$J$200,8,FALSE),\"\")","v":""},39,null,"OK","OK","KO","OK","OK","KO","OK","OK",{"$error":"#REF!"},null,{"$f":"'Classement auteurs'!$B244","v":132193001901},{"$f":"IF('Classement auteurs'!K244=\"\",\"\",'Classement auteurs'!K244)","v":""},{"$f":"IF('Classement auteurs'!L244=\"\",\"\",'Classement auteurs'!L244)","v":39},{"$f":"IF('Classement auteurs'!M244=\"\",\"\",'Classement auteurs'!M244)","v":""},{"$f":"IF('Classement auteurs'!N244=\"\",\"\",'Classement auteurs'!N244)","v":""},{"$f":"IF('Classement auteurs'!O244=\"\",\"\",'Classement auteurs'!O244)","v":""},{"$f":"IF('Classement auteurs'!P244=\"\",\"\",'Classement auteurs'!P244)","v":""},{"$f":"IF('Classement auteurs'!Q244=\"\",\"\",'Classement auteurs'!Q244)","v":""},{"$f":"IF('Classement auteurs'!#REF!=\"\",\"\",'Classement auteurs'!#REF!)","v":{"$error":"#REF!"}}]
[null,{"$f":"'Classement auteurs'!$B245","v":132023001701},{"$f":"IFERROR(VLOOKUP($B245,'Défi-1'!$C$2:$J$200,8,FALSE),\"\")","v":""},{"$f":"IFERROR(VLOOKUP($B245,'Défi-2'!$C$2:$J$200,8,FALSE),\"\")","v":""},{"$f":"IFERROR(VLOOKUP($B245,'Défi-3'!$C$2:$J$200,8,FALSE),\"\")","v":""},{"$f":"IFERROR(VLOOKUP($B245,'Défi-4'!$C$2:$J$200,8,FALSE),\"\")","v":""},{"$f":"IFERROR(VLOOKUP($B245,'Défi-5'!$C$2:$J$200,8,FALSE),\"\")","v":38},{"$f":"IFERROR(VLOOKUP($B245,'Défi-6'!$C$2:$J$200,8,FALSE),\"\")","v":""},{"$f":"IFERROR(VLOOKUP($B245,'Défi-7'!$C$2:$J$200,8,FALSE),\"\")","v":""},38,null,"OK","OK","KO","OK","OK","KO","OK","OK",{"$error":"#REF!"},null,{"$f":"'Classement auteurs'!$B245","v":132023001701},{"$f":"IF('Classement auteurs'!K245=\"\",\"\",'Classement auteurs'!K245)","v":""},{"$f":"IF('Classement auteurs'!L245=\"\",\"\",'Classement auteurs'!L245)","v":38},{"$f":"IF('Classement auteurs'!M245=\"\",\"\",'Classement auteurs'!M245)","v":""},{"$f":"IF('Classement auteurs'!N245=\"\",\"\",'Classement auteurs'!N245)","v":""},{"$f":"IF('Classement auteurs'!O245=\"\",\"\",'Classement auteurs'!O245)","v":""},{"$f":"IF('Classement auteurs'!P245=\"\",\"\",'Classement auteurs'!P245)","v":""},{"$f":"IF('Classement auteurs'!Q245=\"\",\"\",'Classement auteurs'!Q245)","v":""},{"$f":"IF('Classement auteurs'!#REF!=\"\",\"\",'Classement auteurs'!#REF!)","v":{"$error":"#REF!"}}]
[null,{"$f":"'Classement auteurs'!$B246","v":130527012601},{"$f":"IFERROR(VLOOKUP($B246,'Défi-1'!$C$2:$J$200,8,FALSE),\"\")","v":""},{"$f":"IFERROR(VLOOKUP($B246,'Défi-2'!$C$2:$J$200,8,FALSE),\"\")","v":37},{"$f":"IFERROR(VLOOKUP($B246,'Défi-3'!$C$2:$J$200,8,FALSE),\"\")","v":""},{"$f":"IFERROR(VLOOKUP($B246,'Défi-4'!$C$2:$J$200,8,FALSE),\"\")","v":""},{"$f":"IFERROR(VLOOKUP($B246,'Défi-5'!$C$2:$J$200,8,FALSE),\"\")","v":""},{"$f":"IFERROR(VLOOKUP($B246,'Défi-6'!$C$2:$J$200,8,FALSE),\"\")","v":""},{"$f":"IFERROR(VLOOKUP($B246,'Défi-7'!$C$2:$J$200,8,FALSE),\"\")","v":""},37,null,"OK","OK","OK","OK","OK","OK","OK","OK",{"$error":"#REF!"},null,{"$f":"'Classement auteurs'!$B246","v":130527012601},{"$f":"IF('Classement auteurs'!K246=\"\",\"\",'Classement auteurs'!K246)","v":""},{"$f":"IF('Classement auteurs'!L246=\"\",\"\",'Classement auteurs'!L246)","v":37},{"$f":"IF('Classement auteurs'!M246=\"\",\"\",'Classement auteurs'!M246)","v":""},{"$f":"IF('Classement auteurs'!N246=\"\",\"\",'Classement auteurs'!N246)","v":""},{"$f":"IF('Classement auteurs'!O246=\"\",\"\",'Classement auteurs'!O246)","v":""},{"$f":"IF('Classement auteurs'!P246=\"\",\"\",'Classement auteurs'!P246)","v":""},{"$f":"IF('Classement auteurs'!Q246=\"\",\"\",'Classement auteurs'!Q246)","v":""},{"$f":"IF('Classement auteurs'!#REF!=\"\",\"\",'Classement auteurs'!#REF!)","v":{"$error":"#REF!"}}]
[null,{"$f":"'Classement auteurs'!$B247","v":131376000101},{"$f":"IFERROR(VLOOKUP($B247,'Défi-1'!$C$2:$J$200,8,FALSE),\"\")","v":""},{"$f":"IFERROR(VLOOKUP($B247,'Défi-2'!$C$2:$J$200,8,FALSE),\"\")","v":""},{"$f":"IFERROR(VLOOKUP($B247,'Défi-3'!$C$2:$J$200,8,FALSE),\"\")","v":""},{"$f":"IFERROR(VLOOKUP($B247,'Défi-4'!$C$2:$J$200,8,FALSE),\"\")","v":""},{"$f":"IFERROR(VLOOKUP($B247,'Défi-5'!$C$2:$J$200,8,FALSE),\"\")","v":37},{"$f":"IFERROR(VLOOKUP($B247,'Défi-6'!$C$2:$J$200,8,FALSE),\"\")","v":""},{"$f":"IFERROR(VLOOKUP($B247,'Défi-7'!$C$2:$J$200,8,FALSE),\"\")","v":""},37,null,"OK","OK","KO","OK","OK","KO","OK","OK",{"$error":"#REF!"},null,{"$f":"'Classement auteurs'!$B247","v":131376000101},{"$f":"IF('Classement auteurs'!K247=\"\",\"\",'Classement auteurs'!K247)","v":""},{"$f":"IF('Classement auteurs'!L247=\"\",\"\",'Classement auteurs'!L247)","v":37},{"$f":"IF('Classement auteurs'!M247=\"\",\"\",'Classement auteurs'!M247)","v":""},{"$f":"IF('Classement auteurs'!N247=\"\",\"\",'Classement auteurs'!N247)","v":""},{"$f":"IF('Classement auteurs'!O247=\"\",\"\",'Classement auteurs'!O247)","v":""},{"$f":"IF('Classement auteurs'!P247=\"\",\"\",'Classement auteurs'!P247)","v":""},{"$f":"IF('Classement auteurs'!Q247=\"\",\"\",'Classement auteurs'!Q247)","v":""},{"$f":"IF('Classement auteurs'!#REF!=\"\",\"\",'Classement auteurs'!#REF!)","v":{"$error":"#REF!"}}]
[null,{"$f":"'Classement auteurs'!$B248","v":131824000201},{"$f":"IFERROR(VLOOKUP($B248,'Défi-1'!$C$2:$J$200,8,FALSE),\"\")","v":""},{"$f":"IFERROR(VLOOKUP($B248,'Défi-2'!$C$2:$J$200,8,FALSE),\"\")","v":""},{"$f":"IFERROR(VLOOKUP($B248,'Défi-3'!$C$2:$J$200,8,FALSE),\"\")","v":""},{"$f":"IFERROR(VLOOKUP($B248,'Défi-4'!$C$2:$J$200,8,FALSE),\"\")","v":""},{"$f":"IFERROR(VLOOKUP($B248,'Défi-5'!$C$2:$J$200,8,FALSE),\"\")","v":""},{"$f":"IFERROR(VLOOKUP($B248,'Défi-6'!$C$2:$J$200,8,FALSE),\"\")","v":""},{"$f":"IFERROR(VLOOKUP($B248,'Défi-7'!$C$2:$J$200,8,FALSE),\"\")","v":37},37,null,"OK","KO","KO","OK","OK","OK","OK","KO",{"$error":"#REF!"},null,{"$f":"'Classement auteurs'!$B248","v":131824000201},{"$f":"IF('Classement auteurs'!K248=\"\",\"\",'Classement auteurs'!K248)","v":37},{"$f":"IF('Classement auteurs'!L248=\"\",\"\",'Classement auteurs'!L248)","v":37},{"$f":"IF('Classement auteurs'!M248=\"\",\"\",'Classement auteurs'!M248)","v":""},{"$f":"IF('Classement auteurs'!N248=\"\",\"\",'Classement auteurs'!N248)","v":""},{"$f":"IF('Classement auteurs'!O248=\"\",\"\",'Classement auteurs'!O248)","v":""},{"$f":"IF('Classement auteurs'!P248=\"\",\"\",'Classement auteurs'!P248)","v":""},{"$f":"IF('Classement auteurs'!Q248=\"\",\"\",'Classement auteurs'!Q248)","v":""},{"$f":"IF('Classement auteurs'!#REF!=\"\",\"\",'Classement auteurs'!#REF!)","v":{"$error":"#REF!"}}]
[null,{"$f":"'Classement auteurs'!$B249","v":131899003801},{"$f":"IFERROR(VLOOKUP($B249,'Défi-1'!$C$2:$J$200,8,FALSE),\"\")","v":""},{"$f":"IFERROR(VLOOKUP($B249,'Défi-2'!$C$2:$J$200,8,FALSE),\"\")","v":""},{"$f":"IFERROR(VLOOKUP($B249,'Défi-3'!$C$2:$J$200,8,FALSE),\"\")","v":""},{"$f":"IFERROR(VLOOKUP($B249,'Défi-4'!$C$2:$J$200,8,FALSE),\"\")","v":""},{"$f":"IFERROR(VLOOKUP($B249,'Défi-5'!$C$2:$J$200,8,FALSE),\"\")","v":37},{"$f":"IFERROR(VLOOKUP($B249,'Défi-6'!$C$2:$J$200,8,FALSE),\"\")","v":""},{"$f":"IFERROR(VLOOKUP($B249,'Défi-7'!$C$2:$J$200,8,FALSE),\"\")","v":""},37,null,"OK","OK","KO","OK","OK","KO","OK","OK",{"$error":"#REF!"},null,{"$f":"'Classement auteurs'!$B249","v":131899003801},{"$f":"IF('Classement auteurs'!K249=\"\",\"\",'Classement auteurs'!K249)","v":""},{"$f":"IF('Classement auteurs'!L249=\"\",\"\",'Classement auteurs'!L249)","v":37},{"$f":"IF('Classement auteurs'!M249=\"\",\"\",'Classement auteurs'!M249)","v":""},{"$f":"IF('Classement auteurs'!N249=\"\",\"\",'Classement auteurs'!N249)","v":""},{"$f":"IF('Classement auteurs'!O249=\"\",\"\",'Classement auteurs'!O249)","v":""},{"$f":"IF('Classement auteurs'!P249=\"\",\"\",'Classement auteurs'!P249)","v":""},{"$f":"IF('Classement auteurs'!Q249=\"\",\"\",'Classement auteurs'!Q249)","v":""},{"$f":"IF('Classement auteurs'!#REF!=\"\",\"\",'Classement auteurs'!#REF!)","v":{"$error":"#REF!"}}]
[null,{"$f":"'Classement auteurs'!$B250","v":131956005601},{"$f":"IFERROR(VLOOKUP($B250,'Défi-1'!$C$2:$J$200,8,FALSE),\"\")","v":""},{"$f":"IFERROR(VLOOKUP($B250,'Défi-2'!$C$2:$J$200,8,FALSE),\"\")","v":""},{"$f":"IFERROR(VLOOKUP($B250,'Défi-3'!$C$2:$J$200,8,FALSE),\"\")","v":""},{"$f":"IFERROR(VLOOKUP($B250,'Défi-4'!$C$2:$J$200,8,FALSE),\"\")","v":""},{"$f":"IFERROR(VLOOKUP($B250,'Défi-5'!$C$2:$J$200,8,FALSE),\"\")","v":""},{"$f":"IFERROR(VLOOKUP($B250,'Défi-6'!$C$2:$J$200,8,FALSE),\"\")","v":""},{"$f":"IFERROR(VLOOKUP($B250,'Défi-7'!$C$2:$J$200,8,FALSE),\"\")","v":37},37,null,"OK","KO","KO","OK","OK","OK","OK","KO",{"$error":"#REF!"},null,{"$f":"'Classement auteurs'!$B250","v":131956005601},{"$f":"IF('Classement auteurs'!K250=\"\",\"\",'Classement auteurs'!K250)","v":37},{"$f":"IF('Classement auteurs'!L250=\"\",\"\",'Classement auteurs'!L250)","v":37},{"$f":"IF('Classement auteurs'!M250=\"\",\"\",'Classement auteurs'!M250)","v":""},{"$f":"IF('Classement auteurs'!N250=\"\",\"\",'Classement auteurs'!N250)","v":""},{"$f":"IF('Classement auteurs'!O250=\"\",\"\",'Classement auteurs'!O250)","v":""},{"$f":"IF('Classement auteurs'!P250=\"\",\"\",'Classement auteurs'!P250)","v":""},{"$f":"IF('Classement auteurs'!Q250=\"\",\"\",'Classement auteurs'!Q250)","v":""},{"$f":"IF('Classement auteurs'!#REF!=\"\",\"\",'Classement auteurs'!#REF!)","v":{"$error":"#REF!"}}]
[null,{"$f":"'Classement auteurs'!$B251","v":132103000501},{"$f":"IFERROR(VLOOKUP($B251,'Défi-1'!$C$2:$J$200,8,FALSE),\"\")","v":""},{"$f":"IFERROR(VLOOKUP($B251,'Défi-2'!$C$2:$J$200,8,FALSE),\"\")","v":""},{"$f":"IFERROR(VLOOKUP($B251,'Défi-3'!$C$2:$J$200,8,FALSE),\"\")","v":37},{"$f":"IFERROR(VLOOKUP($B251,'Défi-4'!$C$2:$J$200,8,FALSE),\"\")","v":""},{"$f":"IFERROR(VLOOKUP($B251,'Défi-5'!$C$2:$J$200,8,FALSE),\"\")","v":""},{"$f":"IFERROR(VLOOKUP($B251,'Défi-6'!$C$2:$J$200,8,FALSE),\"\")","v":""},{"$f":"IFERROR(VLOOKUP($B251,'Défi-7'!$C$2:$J$200,8,FALSE),\"\")","v":""},37,null,"OK","OK","KO","KO","OK","OK","OK","OK",{"$error":"#REF!"},null,{"$f":"'Classement auteurs'!$B251","v":132103000501},{"$f":"IF('Classement auteurs'!K251=\"\",\"\",'Classement auteurs'!K251)","v":""},{"$f":"IF('Classement auteurs'!L251=\"\",\"\",'Classement auteurs'!L251)","v":37},{"$f":"IF('Classement auteurs'!M251=\"\",\"\",'Classement auteurs'!M251)","v":""},{"$f":"IF('Classement auteurs'!N251=\"\",\"\",'Classement auteurs'!N251)","v":""},{"$f":"IF('Classement auteurs'!O251=\"\",\"\",'Classement auteurs'!O251)","v":""},{"$f":"IF('Classement auteurs'!P251=\"\",\"\",'Classement auteurs'!P251)","v":""},{"$f":"IF('Classement auteurs'!Q251=\"\",\"\",'Classement auteurs'!Q251)","v":""},{"$f":"IF('Classement auteurs'!#REF!=\"\",\"\",'Classement auteurs'!#REF!)","v":{"$error":"#REF!"}}]
[null,{"$f":"'Classement auteurs'!$B252","v":132193000801},{"$f":"IFERROR(VLOOKUP($B252,'Défi-1'!$C$2:$J$200,8,FALSE),\"\")","v":""},{"$f":"IFERROR(VLOOKUP($B252,'Défi-2'!$C$2:$J$200,8,FALSE),\"\")","v":""},{"$f":"IFERROR(VLOOKUP($B252,'Défi-3'!$C$2:$J$200,8,FALSE),\"\")","v":""},{"$f":"IFERROR(VLOOKUP($B252,'Défi-4'!$C$2:$J$200,8,FALSE),\"\")","v":""},{"$f":"IFERROR(VLOOKUP($B252,'Défi-5'!$C$2:$J$200,8,FALSE),\"\")","v":""},{"$f":"IFERROR(VLOOKUP($B252,'Défi-6'!$C$2:$J$200,8,FALSE),\"\")","v":""},{"$f":"IFERROR(VLOOKUP($B252,'Défi-7'!$C$2:$J$200,8,FALSE),\"\")","v":37},37,null,"OK","KO","KO","OK","OK","OK","OK","KO",{"$error":"#REF!"},null,{"$f":"'Classement auteurs'!$B252","v":132193000801},{"$f":"IF('Classement auteurs'!K252=\"\",\"\",'Classement auteurs'!K252)","v":37},{"$f":"IF('Classement auteurs'!L252=\"\",\"\",'Classement auteurs'!L252)","v":37},{"$f":"IF('Classement auteurs'!M252=\"\",\"\",'Classement auteurs'!M252)","v":""},{"$f":"IF('Classement auteurs'!N252=\"\",\"\",'Classement auteurs'!N252)","v":""},{"$f":"IF('Classement auteurs'!O252=\"\",\"\",'Classement auteurs'!O252)","v":""},{"$f":"IF('Classement auteurs'!P252=\"\",\"\",'Classement auteurs'!P252)","v":""},{"$f":"IF('Classement auteurs'!Q252=\"\",\"\",'Classement auteurs'!Q252)","v":""},{"$f":"IF('Classement auteurs'!#REF!=\"\",\"\",'Classement auteurs'!#REF!)","v":{"$error":"#REF!"}}]
[null,{"$f":"'Classement auteurs'!$B253","v":130527006401},{"$f":"IFERROR(VLOOKUP($B253,'Défi-1'!$C$2:$J$200,8,FALSE),\"\")","v":36},{"$f":"IFERROR(VLOOKUP($B253,'Défi-2'!$C$2:$J$200,8,FALSE),\"\")","v":""},{"$f":"IFERROR(VLOOKUP($B253,'Défi-3'!$C$2:$J$200,8,FALSE),\"\")","v":""},{"$f":"IFERROR(VLOOKUP($B253,'Défi-4'!$C$2:$J$200,8,FALSE),\"\")","v":""},{"$f":"IFERROR(VLOOKUP($B253,'Défi-5'!$C$2:$J$200,8,FALSE),\"\")","v":""},{"$f":"IFERROR(VLOOKUP($B253,'Défi-6'!$C$2:$J$200,8,FALSE),\"\")","v":""},{"$f":"IFERROR(VLOOKUP($B253,'Défi-7'!$C$2:$J$200,8,FALSE),\"\")","v":""},36,null,"OK","KO","KO","OK","OK","OK","OK","OK",{"$error":"#REF!"},null,{"$f":"'Classement auteurs'!$B253","v":130527006401},{"$f":"IF('Classement auteurs'!K253=\"\",\"\",'Classement auteurs'!K253)","v":""},{"$f":"IF('Classement auteurs'!L253=\"\",\"\",'Classement auteurs'!L253)","v":36},{"$f":"IF('Classement auteurs'!M253=\"\",\"\",'Classement auteurs'!M253)","v":""},{"$f":"IF('Classement auteurs'!N253=\"\",\"\",'Classement auteurs'!N253)","v":""},{"$f":"IF('Classement auteurs'!O253=\"\",\"\",'Classement auteurs'!O253)","v":""},{"$f":"IF('Classement auteurs'!P253=\"\",\"\",'Classement auteurs'!P253)","v":""},{"$f":"IF('Classement auteurs'!Q253=\"\",\"\",'Classement auteurs'!Q253)","v":""},{"$f":"IF('Classement auteurs'!#REF!=\"\",\"\",'Classement auteurs'!#REF!)","v":{"$error":"#REF!"}}]
[null,{"$f":"'Classement auteurs'!$B254","v":131823002301},{"$f":"IFERROR(VLOOKUP($B254,'Défi-1'!$C$2:$J$200,8,FALSE),\"\")","v":""},{"$f":"IFERROR(VLOOKUP($B254,'Défi-2'!$C$2:$J$200,8,FALSE),\"\")","v":""},{"$f":"IFERROR(VLOOKUP($B254,'Défi-3'!$C$2:$J$200,8,FALSE),\"\")","v":""},{"$f":"IFERROR(VLOOKUP($B254,'Défi-4'!$C$2:$J$200,8,FALSE),\"\")","v":""},{"$f":"IFERROR(VLOOKUP($B254,'Défi-5'!$C$2:$J$200,8,FALSE),\"\")","v":""},{"$f":"IFERROR(VLOOKUP($B254,'Défi-6'!$C$2:$J$200,8,FALSE),\"\")","v":""},{"$f":"IFERROR(VLOOKUP($B254,'Défi-7'!$C$2:$J$200,8,FALSE),\"\")","v":36},36,null,"OK","KO","KO","OK","OK","OK","OK","KO",{"$error":"#REF!"},null,{"$f":"'Classement auteurs'!$B254","v":131823002301},{"$f":"IF('Classement auteurs'!K254=\"\",\"\",'Classement auteurs'!K254)","v":36},{"$f":"IF('Classement auteurs'!L254=\"\",\"\",'Classement auteurs'!L254)","v":36},{"$f":"IF('Classement auteurs'!M254=\"\",\"\",'Classement auteurs'!M254)","v":""},{"$f":"IF('Classement auteurs'!N254=\"\",\"\",'Classement auteurs'!N254)","v":""},{"$f":"IF('Classement auteurs'!O254=\"\",\"\",'Classement auteurs'!O254)","v":""},{"$f":"IF('Classement auteurs'!P254=\"\",\"\",'Classement auteurs'!P254)","v":""},{"$f":"IF('Classement auteurs'!Q254=\"\",\"\",'Classement auteurs'!Q254)","v":""},{"$f":"IF('Classement auteurs'!#REF!=\"\",\"\",'Classement auteurs'!#REF!)","v":{"$error":"#REF!"}}]
[null,{"$f":"'Classement auteurs'!$B255","v":131862001501},{"$f":"IFERROR(VLOOKUP($B255,'Défi-1'!$C$2:$J$200,8,FALSE),\"\")","v":""},{"$f":"IFERROR(VLOOKUP($B255,'Défi-2'!$C$2:$J$200,8,FALSE),\"\")","v":""},{"$f":"IFERROR(VLOOKUP($B255,'Défi-3'!$C$2:$J$200,8,FALSE),\"\")","v":""},{"$f":"IFERROR(VLOOKUP($B255,'Défi-4'!$C$2:$J$200,8,FALSE),\"\")","v":""},{"$f":"IFERROR(VLOOKUP($B255,'Défi-5'!$C$2:$J$200,8,FALSE),\"\")","v":""},{"$f":"IFERROR(VLOOKUP($B255,'Défi-6'!$C$2:$J$200,8,FALSE),\"\")","v":""},{"$f":"IFERROR(VLOOKUP($B255,'Défi-7'!$C$2:$J$200,8,FALSE),\"\")","v":36},36,null,"OK","KO","KO","OK","OK","OK","OK","KO",{"$error":"#REF!"},null,{"$f":"'Classement auteurs'!$B255","v":131862001501},{"$f":"IF('Classement auteurs'!K255=\"\",\"\",'Classement auteurs'!K255)","v":36},{"$f":"IF('Classement auteurs'!L255=\"\",\"\",'Classement auteurs'!L255)","v":36},{"$f":"IF('Classement auteurs'!M255=\"\",\"\",'Classement auteurs'!M255)","v":""},{"$f":"IF('Classement auteurs'!N255=\"\",\"\",'Classement auteurs'!N255)","v":""},{"$f":"IF('Classement auteurs'!O255=\"\",\"\",'Classement auteurs'!O255)","v":""},{"$f":"IF('Classement auteurs'!P255=\"\",\"\",'Classement auteurs'!P255)","v":""},{"$f":"IF('Classement auteurs'!Q255=\"\",\"\",'Classement auteurs'!Q255)","v":""},{"$f":"IF('Classement auteurs'!#REF!=\"\",\"\",'Classement auteurs'!#REF!)","v":{"$error":"#REF!"}}]
[null,{"$f":"'Classement auteurs'!$B256","v":131956004901},{"$f":"IFERROR(VLOOKUP($B256,'Défi-1'!$C$2:$J$200,8,FALSE),\"\")","v":""},{"$f":"IFERROR(VLOOKUP($B256,'Défi-2'!$C$2:$J$200,8,FALSE),\"\")","v":""},{"$f":"IFERROR(VLOOKUP($B256,'Défi-3'!$C$2:$J$200,8,FALSE),\"\")","v":""},{"$f":"IFERROR(VLOOKUP($B256,'Défi-4'!$C$2:$J$200,8,FALSE),\"\")","v":""},{"$f":"IFERROR(VLOOKUP($B256,'Défi-5'!$C$2:$J$200,8,FALSE),\"\")","v":""},{"$f":"IFERROR(VLOOKUP($B256,'Défi-6'!$C$2:$J$200,8,FALSE),\"\")","v":""},{"$f":"IFERROR(VLOOKUP($B256,'Défi-7'!$C$2:$J$200,8,FALSE),\"\")","v":36},36,null,"OK","KO","KO","OK","OK","OK","OK","KO",{"$error":"#REF!"},null,{"$f":"'Classement auteurs'!$B256","v":131956004901},{"$f":"IF('Classement auteurs'!K256=\"\",\"\",'Classement auteurs'!K256)","v":36},{"$f":"IF('Classement auteurs'!L256=\"\",\"\",'Classement auteurs'!L256)","v":36},{"$f":"IF('Classement auteurs'!M256=\"\",\"\",'Classement auteurs'!M256)","v":""},{"$f":"IF('Classement auteurs'!N256=\"\",\"\",'Classement auteurs'!N256)","v":""},{"$f":"IF('Classement auteurs'!O256=\"\",\"\",'Classement auteurs'!O256)","v":""},{"$f":"IF('Classement auteurs'!P256=\"\",\"\",'Classement auteurs'!P256)","v":""},{"$f":"IF('Classement auteurs'!Q256=\"\",\"\",'Classement auteurs'!Q256)","v":""},{"$f":"IF('Classement auteurs'!#REF!=\"\",\"\",'Classement auteurs'!#REF!)","v":{"$error":"#REF!"}}]
[null,{"$f":"'Classement auteurs'!$B257","v":130462009601},{"$f":"IFERROR(VLOOKUP($B257,'Défi-1'!$C$2:$J$200,8,FALSE),\"\")","v":""},{"$f":"IFERROR(VLOOKUP($B257,'Défi-2'!$C$2:$J$200,8,FALSE),\"\")","v":""},{"$f":"IFERROR(VLOOKUP($B257,'Défi-3'!$C$2:$J$200,8,FALSE),\"\")","v":""},{"$f":"IFERROR(VLOOKUP($B257,'Défi-4'!$C$2:$J$200,8,FALSE),\"\")","v":""},{"$f":"IFERROR(VLOOKUP($B257,'Défi-5'!$C$2:$J$200,8,FALSE),\"\")","v":35},{"$f":"IFERROR(VLOOKUP($B257,'Défi-6'!$C$2:$J$200,8,FALSE),\"\")","v":""},{"$f":"IFERROR(VLOOKUP($B257,'Défi-7'!$C$2:$J$200,8,FALSE),\"\")","v":""},35,null,"OK","OK","KO","OK","OK","KO","OK","OK",{"$error":"#REF!"},null,{"$f":"'Classement auteurs'!$B257","v":130462009601},{"$f":"IF('Classement auteurs'!K257=\"\",\"\",'Classement auteurs'!K257)","v":""},{"$f":"IF('Classement auteurs'!L257=\"\",\"\",'Classement auteurs'!L257)","v":35},{"$f":"IF('Classement auteurs'!M257=\"\",\"\",'Classement auteurs'!M257)","v":""},{"$f":"IF('Classement auteurs'!N257=\"\",\"\",'Classement auteurs'!N257)","v":""},{"$f":"IF('Classement auteurs'!O257=\"\",\"\",'Classement auteurs'!O257)","v":""},{"$f":"IF('Classement auteurs'!P257=\"\",\"\",'Classement auteurs'!P257)","v":""},{"$f":"IF('Classement auteurs'!Q257=\"\",\"\",'Classement auteurs'!Q257)","v":""},{"$f":"IF('Classement auteurs'!#REF!=\"\",\"\",'Classement auteurs'!#REF!)","v":{"$error":"#REF!"}}]
[null,{"$f":"'Classement auteurs'!$B258","v":132060001401},{"$f":"IFERROR(VLOOKUP($B258,'Défi-1'!$C$2:$J$200,8,FALSE),\"\")","v":""},{"$f":"IFERROR(VLOOKUP($B258,'Défi-2'!$C$2:$J$200,8,FALSE),\"\")","v":""},{"$f":"IFERROR(VLOOKUP($B258,'Défi-3'!$C$2:$J$200,8,FALSE),\"\")","v":35},{"$f":"IFERROR(VLOOKUP($B258,'Défi-4'!$C$2:$J$200,8,FALSE),\"\")","v":""},{"$f":"IFERROR(VLOOKUP($B258,'Défi-5'!$C$2:$J$200,8,FALSE),\"\")","v":""},{"$f":"IFERROR(VLOOKUP($B258,'Défi-6'!$C$2:$J$200,8,FALSE),\"\")","v":""},{"$f":"IFERROR(VLOOKUP($B258,'Défi-7'!$C$2:$J$200,8,FALSE),\"\")","v":""},35,null,"OK","OK","KO","KO","OK","OK","OK","OK",{"$error":"#REF!"},null,{"$f":"'Classement auteurs'!$B258","v":132060001401},{"$f":"IF('Classement auteurs'!K258=\"\",\"\",'Classement auteurs'!K258)","v":""},{"$f":"IF('Classement auteurs'!L258=\"\",\"\",'Classement auteurs'!L258)","v":35},{"$f":"IF('Classement auteurs'!M258=\"\",\"\",'Classement auteurs'!M258)","v":""},{"$f":"IF('Classement auteurs'!N258=\"\",\"\",'Classement auteurs'!N258)","v":""},{"$f":"IF('Classement auteurs'!O258=\"\",\"\",'Classement auteurs'!O258)","v":""},{"$f":"IF('Classement auteurs'!P258=\"\",\"\",'Classement auteurs'!P258)","v":""},{"$f":"IF('Classement auteurs'!Q258=\"\",\"\",'Classement auteurs'!Q258)","v":""},{"$f":"IF('Classement auteurs'!#REF!=\"\",\"\",'Classement auteurs'!#REF!)","v":{"$error":"#REF!"}}]
[null,{"$f":"'Classement auteurs'!$B259","v":132193000701},{"$f":"IFERROR(VLOOKUP($B259,'Défi-1'!$C$2:$J$200,8,FALSE),\"\")","v":""},{"$f":"IFERROR(VLOOKUP($B259,'Défi-2'!$C$2:$J$200,8,FALSE),\"\")","v":""},{"$f":"IFERROR(VLOOKUP($B259,'Défi-3'!$C$2:$J$200,8,FALSE),\"\")","v":""},{"$f":"IFERROR(VLOOKUP($B259,'Défi-4'!$C$2:$J$200,8,FALSE),\"\")","v":""},{"$f":"IFERROR(VLOOKUP($B259,'Défi-5'!$C$2:$J$200,8,FALSE),\"\")","v":""},{"$f":"IFERROR(VLOOKUP($B259,'Défi-6'!$C$2:$J$200,8,FALSE),\"\")","v":""},{"$f":"IFERROR(VLOOKUP($B259,'Défi-7'!$C$2:$J$200,8,FALSE),\"\")","v":35},{"$f":"SUM(C259:I259)","v":35},null,{"$f":"IF(B259=V259,\"OK\",\"KO\")","v":"OK"},{"$f":"IF(C259=W259,\"OK\",\"KO\")","v":"KO"},{"$f":"IF(D259=X259,\"OK\",\"KO\")","v":"KO"},{"$f":"IF(E259=Y259,\"OK\",\"KO\")","v":"OK"},{"$f":"IF(F259=Z259,\"OK\",\"KO\")","v":"OK"},{"$f":"IF(G259=AA259,\"OK\",\"KO\")","v":"OK"},{"$f":"IF(H259=AB259,\"OK\",\"KO\")","v":"OK"},{"$f":"IF(I259=AC259,\"OK\",\"KO\")","v":"KO"},{"$f":"IF(J259=AD259,\"OK\",\"KO\")","v":{"$error":"#REF!"}},null,{"$f":"'Classement auteurs'!$B259","v":132193000701},{"$f":"IF('Classement auteurs'!K259=\"\",\"\",'Classement auteurs'!K259)","v":35},{"$f":"IF('Classement auteurs'!L259=\"\",\"\",'Classement auteurs'!L259)","v":35},{"$f":"IF('Classement auteurs'!M259=\"\",\"\",'Classement auteurs'!M259)","v":""},{"$f":"IF('Classement auteurs'!N259=\"\",\"\",'Classement auteurs'!N259)","v":""},{"$f":"IF('Classement auteurs'!O259=\"\",\"\",'Classement auteurs'!O259)","v":""},{"$f":"IF('Classement auteurs'!P259=\"\",\"\",'Classement auteurs'!P259)","v":""},{"$f":"IF('Classement auteurs'!Q259=\"\",\"\",'Classement auteurs'!Q259)","v":""},{"$f":"IF('Classement auteurs'!#REF!=\"\",\"\",'Classement auteurs'!#REF!)","v":{"$error":"#REF!"}}]
[null,{"$f":"'Classement auteurs'!$B260","v":130921006401},{"$f":"IFERROR(VLOOKUP($B260,'Défi-1'!$C$2:$J$200,8,FALSE),\"\")","v":""},{"$f":"IFERROR(VLOOKUP($B260,'Défi-2'!$C$2:$J$200,8,FALSE),\"\")","v":""},{"$f":"IFERROR(VLOOKUP($B260,'Défi-3'!$C$2:$J$200,8,FALSE),\"\")","v":""},{"$f":"IFERROR(VLOOKUP($B260,'Défi-4'!$C$2:$J$200,8,FALSE),\"\")","v":34},{"$f":"IFERROR(VLOOKUP($B260,'Défi-5'!$C$2:$J$200,8,FALSE),\"\")","v":""},{"$f":"IFERROR(VLOOKUP($B260,'Défi-6'!$C$2:$J$200,8,FALSE),\"\")","v":""},{"$f":"IFERROR(VLOOKUP($B260,'Défi-7'!$C$2:$J$200,8,FALSE),\"\")","v":""},34,null,"OK","OK","KO","OK","KO","OK","OK","OK",{"$error":"#REF!"},null,{"$f":"'Classement auteurs'!$B260","v":130921006401},{"$f":"IF('Classement auteurs'!K260=\"\",\"\",'Classement auteurs'!K260)","v":""},{"$f":"IF('Classement auteurs'!L260=\"\",\"\",'Classement auteurs'!L260)","v":34},{"$f":"IF('Classement auteurs'!M260=\"\",\"\",'Classement auteurs'!M260)","v":""},{"$f":"IF('Classement auteurs'!N260=\"\",\"\",'Classement auteurs'!N260)","v":""},{"$f":"IF('Classement auteurs'!O260=\"\",\"\",'Classement auteurs'!O260)","v":""},{"$f":"IF('Classement auteurs'!P260=\"\",\"\",'Classement auteurs'!P260)","v":""},{"$f":"IF('Classement auteurs'!Q260=\"\",\"\",'Classement auteurs'!Q260)","v":""},{"$f":"IF('Classement auteurs'!#REF!=\"\",\"\",'Classement auteurs'!#REF!)","v":{"$error":"#REF!"}}]
[null,{"$f":"'Classement auteurs'!$B261","v":131619002601},{"$f":"IFERROR(VLOOKUP($B261,'Défi-1'!$C$2:$J$200,8,FALSE),\"\")","v":""},{"$f":"IFERROR(VLOOKUP($B261,'Défi-2'!$C$2:$J$200,8,FALSE),\"\")","v":""},{"$f":"IFERROR(VLOOKUP($B261,'Défi-3'!$C$2:$J$200,8,FALSE),\"\")","v":""},{"$f":"IFERROR(VLOOKUP($B261,'Défi-4'!$C$2:$J$200,8,FALSE),\"\")","v":""},{"$f":"IFERROR(VLOOKUP($B261,'Défi-5'!$C$2:$J$200,8,FALSE),\"\")","v":""},{"$f":"IFERROR(VLOOKUP($B261,'Défi-6'!$C$2:$J$200,8,FALSE),\"\")","v":""},{"$f":"IFERROR(VLOOKUP($B261,'Défi-7'!$C$2:$J$200,8,FALSE),\"\")","v":34},34,null,"OK","KO","KO","OK","OK","OK","OK","KO",{"$error":"#REF!"},null,{"$f":"'Classement auteurs'!$B261","v":131619002601},{"$f":"IF('Classement auteurs'!K261=\"\",\"\",'Classement auteurs'!K261)","v":34},{"$f":"IF('Classement auteurs'!L261=\"\",\"\",'Classement auteurs'!L261)","v":34},{"$f":"IF('Classement auteurs'!M261=\"\",\"\",'Classement auteurs'!M261)","v":""},{"$f":"IF('Classement auteurs'!N261=\"\",\"\",'Classement auteurs'!N261)","v":""},{"$f":"IF('Classement auteurs'!O261=\"\",\"\",'Classement auteurs'!O261)","v":""},{"$f":"IF('Classement auteurs'!P261=\"\",\"\",'Classement auteurs'!P261)","v":""},{"$f":"IF('Classement auteurs'!Q261=\"\",\"\",'Classement auteurs'!Q261)","v":""},{"$f":"IF('Classement auteurs'!#REF!=\"\",\"\",'Classement auteurs'!#REF!)","v":{"$error":"#REF!"}}]
[null,{"$f":"'Classement auteurs'!$B262","v":131619004801},{"$f":"IFERROR(VLOOKUP($B262,'Défi-1'!$C$2:$J$200,8,FALSE),\"\")","v":""},{"$f":"IFERROR(VLOOKUP($B262,'Défi-2'!$C$2:$J$200,8,FALSE),\"\")","v":""},{"$f":"IFERROR(VLOOKUP($B262,'Défi-3'!$C$2:$J$200,8,FALSE),\"\")","v":""},{"$f":"IFERROR(VLOOKUP($B262,'Défi-4'!$C$2:$J$200,8,FALSE),\"\")","v":""},{"$f":"IFERROR(VLOOKUP($B262,'Défi-5'!$C$2:$J$200,8,FALSE),\"\")","v":34},{"$f":"IFERROR(VLOOKUP($B262,'Défi-6'!$C$2:$J$200,8,FALSE),\"\")","v":""},{"$f":"IFERROR(VLOOKUP($B262,'Défi-7'!$C$2:$J$200,8,FALSE),\"\")","v":""},34,null,"OK","OK","KO","OK","OK","KO","OK","OK",{"$error":"#REF!"},null,{"$f":"'Classement auteurs'!$B262","v":131619004801},{"$f":"IF('Classement auteurs'!K262=\"\",\"\",'Classement auteurs'!K262)","v":""},{"$f":"IF('Classement auteurs'!L262=\"\",\"\",'Classement auteurs'!L262)","v":34},{"$f":"IF('Classement auteurs'!M262=\"\",\"\",'Classement auteurs'!M262)","v":""},{"$f":"IF('Classement auteurs'!N262=\"\",\"\",'Classement auteurs'!N262)","v":""},{"$f":"IF('Classement auteurs'!O262=\"\",\"\",'Classement auteurs'!O262)","v":""},{"$f":"IF('Classement auteurs'!P262=\"\",\"\",'Classement auteurs'!P262)","v":""},{"$f":"IF('Classement auteurs'!Q262=\"\",\"\",'Classement auteurs'!Q262)","v":""},{"$f":"IF('Classement auteurs'!#REF!=\"\",\"\",'Classement auteurs'!#REF!)","v":{"$error":"#REF!"}}]
[null,{"$f":"'Classement auteurs'!$B263","v":131823009001},{"$f":"IFERROR(VLOOKUP($B263,'Défi-1'!$C$2:$J$200,8,FALSE),\"\")","v":""},{"$f":"IFERROR(VLOOKUP($B263,'Défi-2'!$C$2:$J$200,8,FALSE),\"\")","v":""},{"$f":"IFERROR(VLOOKUP($B263,'Défi-3'!$C$2:$J$200,8,FALSE),\"\")","v":""},{"$f":"IFERROR(VLOOKUP($B263,'Défi-4'!$C$2:$J$200,8,FALSE),\"\")","v":""},{"$f":"IFERROR(VLOOKUP($B263,'Défi-5'!$C$2:$J$200,8,FALSE),\"\")","v":""},{"$f":"IFERROR(VLOOKUP($B263,'Défi-6'!$C$2:$J$200,8,FALSE),\"\")","v":""},{"$f":"IFERROR(VLOOKUP($B263,'Défi-7'!$C$2:$J$200,8,FALSE),\"\")","v":34},34,null,"OK","KO","KO","OK","OK","OK","OK","KO",{"$error":"#REF!"},null,{"$f":"'Classement auteurs'!$B263","v":131823009001},{"$f":"IF('Classement auteurs'!K263=\"\",\"\",'Classement auteurs'!K263)","v":34},{"$f":"IF('Classement auteurs'!L263=\"\",\"\",'Classement auteurs'!L263)","v":34},{"$f":"IF('Classement auteurs'!M263=\"\",\"\",'Classement auteurs'!M263)","v":""},{"$f":"IF('Classement auteurs'!N263=\"\",\"\",'Classement auteurs'!N263)","v":""},{"$f":"IF('Classement auteurs'!O263=\"\",\"\",'Classement auteurs'!O263)","v":""},{"$f":"IF('Classement auteurs'!P263=\"\",\"\",'Classement auteurs'!P263)","v":""},{"$f":"IF('Classement auteurs'!Q263=\"\",\"\",'Classement auteurs'!Q263)","v":""},{"$f":"IF('Classement auteurs'!#REF!=\"\",\"\",'Classement auteurs'!#REF!)","v":{"$error":"#REF!"}}]
[null,{"$f":"'Classement auteurs'!$B264","v":131879001901},{"$f":"IFERROR(VLOOKUP($B264,'Défi-1'!$C$2:$J$200,8,FALSE),\"\")","v":""},{"$f":"IFERROR(VLOOKUP($B264,'Défi-2'!$C$2:$J$200,8,FALSE),\"\")","v":""},{"$f":"IFERROR(VLOOKUP($B264,'Défi-3'!$C$2:$J$200,8,FALSE),\"\")","v":""},{"$f":"IFERROR(VLOOKUP($B264,'Défi-4'!$C$2:$J$200,8,FALSE),\"\")","v":34},{"$f":"IFERROR(VLOOKUP($B264,'Défi-5'!$C$2:$J$200,8,FALSE),\"\")","v":""},{"$f":"IFERROR(VLOOKUP($B264,'Défi-6'!$C$2:$J$200,8,FALSE),\"\")","v":""},{"$f":"IFERROR(VLOOKUP($B264,'Défi-7'!$C$2:$J$200,8,FALSE),\"\")","v":""},34,null,"OK","OK","KO","OK","KO","OK","OK","OK",{"$error":"#REF!"},null,{"$f":"'Classement auteurs'!$B264","v":131879001901},{"$f":"IF('Classement auteurs'!K264=\"\",\"\",'Classement auteurs'!K264)","v":""},{"$f":"IF('Classement auteurs'!L264=\"\",\"\",'Classement auteurs'!L264)","v":34},{"$f":"IF('Classement auteurs'!M264=\"\",\"\",'Classement auteurs'!M264)","v":""},{"$f":"IF('Classement auteurs'!N264=\"\",\"\",'Classement auteurs'!N264)","v":""},{"$f":"IF('Classement auteurs'!O264=\"\",\"\",'Classement auteurs'!O264)","v":""},{"$f":"IF('Classement auteurs'!P264=\"\",\"\",'Classement auteurs'!P264)","v":""},{"$f":"IF('Classement auteurs'!Q264=\"\",\"\",'Classement auteurs'!Q264)","v":""},{"$f":"IF('Classement auteurs'!#REF!=\"\",\"\",'Classement auteurs'!#REF!)","v":{"$error":"#REF!"}}]
[null,{"$f":"'Classement auteurs'!$B265","v":131499010701},{"$f":"IFERROR(VLOOKUP($B265,'Défi-1'!$C$2:$J$200,8,FALSE),\"\")","v":""},{"$f":"IFERROR(VLOOKUP($B265,'Défi-2'!$C$2:$J$200,8,FALSE),\"\")","v":""},{"$f":"IFERROR(VLOOKUP($B265,'Défi-3'!$C$2:$J$200,8,FALSE),\"\")","v":""},{"$f":"IFERROR(VLOOKUP($B265,'Défi-4'!$C$2:$J$200,8,FALSE),\"\")","v":""},{"$f":"IFERROR(VLOOKUP($B265,'Défi-5'!$C$2:$J$200,8,FALSE),\"\")","v":33},{"$f":"IFERROR(VLOOKUP($B265,'Défi-6'!$C$2:$J$200,8,FALSE),\"\")","v":""},{"$f":"IFERROR(VLOOKUP($B265,'Défi-7'!$C$2:$J$200,8,FALSE),\"\")","v":""},33,null,"OK","OK","KO","OK","OK","KO","OK","OK",{"$error":"#REF!"},null,{"$f":"'Classement auteurs'!$B265","v":131499010701},{"$f":"IF('Classement auteurs'!K265=\"\",\"\",'Classement auteurs'!K265)","v":""},{"$f":"IF('Classement auteurs'!L265=\"\",\"\",'Classement auteurs'!L265)","v":33},{"$f":"IF('Classement auteurs'!M265=\"\",\"\",'Classement auteurs'!M265)","v":""},{"$f":"IF('Classement auteurs'!N265=\"\",\"\",'Classement auteurs'!N265)","v":""},{"$f":"IF('Classement auteurs'!O265=\"\",\"\",'Classement auteurs'!O265)","v":""},{"$f":"IF('Classement auteurs'!P265=\"\",\"\",'Classement auteurs'!P265)","v":""},{"$f":"IF('Classement auteurs'!Q265=\"\",\"\",'Classement auteurs'!Q265)","v":""},{"$f":"IF('Classement auteurs'!#REF!=\"\",\"\",'Classement auteurs'!#REF!)","v":{"$error":"#REF!"}}]
[null,{"$f":"'Classement auteurs'!$B266","v":131823007701},{"$f":"IFERROR(VLOOKUP($B266,'Défi-1'!$C$2:$J$200,8,FALSE),\"\")","v":""},{"$f":"IFERROR(VLOOKUP($B266,'Défi-2'!$C$2:$J$200,8,FALSE),\"\")","v":""},{"$f":"IFERROR(VLOOKUP($B266,'Défi-3'!$C$2:$J$200,8,FALSE),\"\")","v":""},{"$f":"IFERROR(VLOOKUP($B266,'Défi-4'!$C$2:$J$200,8,FALSE),\"\")","v":""},{"$f":"IFERROR(VLOOKUP($B266,'Défi-5'!$C$2:$J$200,8,FALSE),\"\")","v":""},{"$f":"IFERROR(VLOOKUP($B266,'Défi-6'!$C$2:$J$200,8,FALSE),\"\")","v":""},{"$f":"IFERROR(VLOOKUP($B266,'Défi-7'!$C$2:$J$200,8,FALSE),\"\")","v":33},33,null,"OK","KO","KO","OK","OK","OK","OK","KO",{"$error":"#REF!"},null,{"$f":"'Classement auteurs'!$B266","v":131823007701},{"$f":"IF('Classement auteurs'!K266=\"\",\"\",'Classement auteurs'!K266)","v":33},{"$f":"IF('Classement auteurs'!L266=\"\",\"\",'Classement auteurs'!L266)","v":33},{"$f":"IF('Classement auteurs'!M266=\"\",\"\",'Classement auteurs'!M266)","v":""},{"$f":"IF('Classement auteurs'!N266=\"\",\"\",'Classement auteurs'!N266)","v":""},{"$f":"IF('Classement auteurs'!O266=\"\",\"\",'Classement auteurs'!O266)","v":""},{"$f":"IF('Classement auteurs'!P266=\"\",\"\",'Classement auteurs'!P266)","v":""},{"$f":"IF('Classement auteurs'!Q266=\"\",\"\",'Classement auteurs'!Q266)","v":""},{"$f":"IF('Classement auteurs'!#REF!=\"\",\"\",'Classement auteurs'!#REF!)","v":{"$error":"#REF!"}}]
[null,{"$f":"'Classement auteurs'!$B267","v":131956005301},{"$f":"IFERROR(VLOOKUP($B267,'Défi-1'!$C$2:$J$200,8,FALSE),\"\")","v":""},{"$f":"IFERROR(VLOOKUP($B267,'Défi-2'!$C$2:$J$200,8,FALSE),\"\")","v":""},{"$f":"IFERROR(VLOOKUP($B267,'Défi-3'!$C$2:$J$200,8,FALSE),\"\")","v":""},{"$f":"IFERROR(VLOOKUP($B267,'Défi-4'!$C$2:$J$200,8,FALSE),\"\")","v":""},{"$f":"IFERROR(VLOOKUP($B267,'Défi-5'!$C$2:$J$200,8,FALSE),\"\")","v":32},{"$f":"IFERROR(VLOOKUP($B267,'Défi-6'!$C$2:$J$200,8,FALSE),\"\")","v":""},{"$f":"IFERROR(VLOOKUP($B267,'Défi-7'!$C$2:$J$200,8,FALSE),\"\")","v":""},32,null,"OK","OK","KO","OK","OK","KO","OK","OK",{"$error":"#REF!"},null,{"$f":"'Classement auteurs'!$B267","v":131956005301},{"$f":"IF('Classement auteurs'!K267=\"\",\"\",'Classement auteurs'!K267)","v":""},{"$f":"IF('Classement auteurs'!L267=\"\",\"\",'Classement auteurs'!L267)","v":32},{"$f":"IF('Classement auteurs'!M267=\"\",\"\",'Classement auteurs'!M267)","v":""},{"$f":"IF('Classement auteurs'!N267=\"\",\"\",'Classement auteurs'!N267)","v":""},{"$f":"IF('Classement auteurs'!O267=\"\",\"\",'Classement auteurs'!O267)","v":""},{"$f":"IF('Classement auteurs'!P267=\"\",\"\",'Classement auteurs'!P267)","v":""},{"$f":"IF('Classement auteurs'!Q267=\"\",\"\",'Classement auteurs'!Q267)","v":""},{"$f":"IF('Classement auteurs'!#REF!=\"\",\"\",'Classement auteurs'!#REF!)","v":{"$error":"#REF!"}}]
[null,{"$f":"'Classement auteurs'!$B268","v":130993014001},{"$f":"IFERROR(VLOOKUP($B268,'Défi-1'!$C$2:$J$200,8,FALSE),\"\")","v":""},{"$f":"IFERROR(VLOOKUP($B268,'Défi-2'!$C$2:$J$200,8,FALSE),\"\")","v":""},{"$f":"IFERROR(VLOOKUP($B268,'Défi-3'!$C$2:$J$200,8,FALSE),\"\")","v":""},{"$f":"IFERROR(VLOOKUP($B268,'Défi-4'!$C$2:$J$200,8,FALSE),\"\")","v":""},{"$f":"IFERROR(VLOOKUP($B268,'Défi-5'!$C$2:$J$200,8,FALSE),\"\")","v":31},{"$f":"IFERROR(VLOOKUP($B268,'Défi-6'!$C$2:$J$200,8,FALSE),\"\")","v":""},{"$f":"IFERROR(VLOOKUP($B268,'Défi-7'!$C$2:$J$200,8,FALSE),\"\")","v":""},31,null,"OK","OK","KO","OK","OK","KO","OK","OK",{"$error":"#REF!"},null,{"$f":"'Classement auteurs'!$B268","v":130993014001},{"$f":"IF('Classement auteurs'!K268=\"\",\"\",'Classement auteurs'!K268)","v":""},{"$f":"IF('Classement auteurs'!L268=\"\",\"\",'Classement auteurs'!L268)","v":31},{"$f":"IF('Classement auteurs'!M268=\"\",\"\",'Classement auteurs'!M268)","v":""},{"$f":"IF('Classement auteurs'!N268=\"\",\"\",'Classement auteurs'!N268)","v":""},{"$f":"IF('Classement auteurs'!O268=\"\",\"\",'Classement auteurs'!O268)","v":""},{"$f":"IF('Classement auteurs'!P268=\"\",\"\",'Classement auteurs'!P268)","v":""},{"$f":"IF('Classement auteurs'!Q268=\"\",\"\",'Classement auteurs'!Q268)","v":""},{"$f":"IF('Classement auteurs'!#REF!=\"\",\"\",'Classement auteurs'!#REF!)","v":{"$error":"#REF!"}}]
[null,{"$f":"'Classement auteurs'!$B269","v":131862003801},{"$f":"IFERROR(VLOOKUP($B269,'Défi-1'!$C$2:$J$200,8,FALSE),\"\")","v":""},{"$f":"IFERROR(VLOOKUP($B269,'Défi-2'!$C$2:$J$200,8,FALSE),\"\")","v":""},{"$f":"IFERROR(VLOOKUP($B269,'Défi-3'!$C$2:$J$200,8,FALSE),\"\")","v":""},{"$f":"IFERROR(VLOOKUP($B269,'Défi-4'!$C$2:$J$200,8,FALSE),\"\")","v":""},{"$f":"IFERROR(VLOOKUP($B269,'Défi-5'!$C$2:$J$200,8,FALSE),\"\")","v":""},{"$f":"IFERROR(VLOOKUP($B269,'Défi-6'!$C$2:$J$200,8,FALSE),\"\")","v":""},{"$f":"IFERROR(VLOOKUP($B269,'Défi-7'!$C$2:$J$200,8,FALSE),\"\")","v":31},31,null,"OK","KO","KO","OK","OK","OK","OK","KO",{"$error":"#REF!"},null,{"$f":"'Classement auteurs'!$B269","v":131862003801},{"$f":"IF('Classement auteurs'!K269=\"\",\"\",'Classement auteurs'!K269)","v":31},{"$f":"IF('Classement auteurs'!L269=\"\",\"\",'Classement auteurs'!L269)","v":31},{"$f":"IF('Classement auteurs'!M269=\"\",\"\",'Classement auteurs'!M269)","v":""},{"$f":"IF('Classement auteurs'!N269=\"\",\"\",'Classement auteurs'!N269)","v":""},{"$f":"IF('Classement auteurs'!O269=\"\",\"\",'Classement auteurs'!O269)","v":""},{"$f":"IF('Classement auteurs'!P269=\"\",\"\",'Classement auteurs'!P269)","v":""},{"$f":"IF('Classement auteurs'!Q269=\"\",\"\",'Classement auteurs'!Q269)","v":""},{"$f":"IF('Classement auteurs'!#REF!=\"\",\"\",'Classement auteurs'!#REF!)","v":{"$error":"#REF!"}}]
[null,{"$f":"'Classement auteurs'!$B270","v":130987023201},{"$f":"IFERROR(VLOOKUP($B270,'Défi-1'!$C$2:$J$200,8,FALSE),\"\")","v":""},{"$f":"IFERROR(VLOOKUP($B270,'Défi-2'!$C$2:$J$200,8,FALSE),\"\")","v":""},{"$f":"IFERROR(VLOOKUP($B270,'Défi-3'!$C$2:$J$200,8,FALSE),\"\")","v":""},{"$f":"IFERROR(VLOOKUP($B270,'Défi-4'!$C$2:$J$200,8,FALSE),\"\")","v":""},{"$f":"IFERROR(VLOOKUP($B270,'Défi-5'!$C$2:$J$200,8,FALSE),\"\")","v":""},{"$f":"IFERROR(VLOOKUP($B270,'Défi-6'!$C$2:$J$200,8,FALSE),\"\")","v":""},{"$f":"IFERROR(VLOOKUP($B270,'Défi-7'!$C$2:$J$200,8,FALSE),\"\")","v":30},30,null,"OK","KO","KO","OK","OK","OK","OK","KO",{"$error":"#REF!"},null,{"$f":"'Classement auteurs'!$B270","v":130987023201},{"$f":"IF('Classement auteurs'!K270=\"\",\"\",'Classement auteurs'!K270)","v":30},{"$f":"IF('Classement auteurs'!L270=\"\",\"\",'Classement auteurs'!L270)","v":30},{"$f":"IF('Classement auteurs'!M270=\"\",\"\",'Classement auteurs'!M270)","v":""},{"$f":"IF('Classement auteurs'!N270=\"\",\"\",'Classement auteurs'!N270)","v":""},{"$f":"IF('Classement auteurs'!O270=\"\",\"\",'Classement auteurs'!O270)","v":""},{"$f":"IF('Classement auteurs'!P270=\"\",\"\",'Classement auteurs'!P270)","v":""},{"$f":"IF('Classement auteurs'!Q270=\"\",\"\",'Classement auteurs'!Q270)","v":""},{"$f":"IF('Classement auteurs'!#REF!=\"\",\"\",'Classement auteurs'!#REF!)","v":{"$error":"#REF!"}}]
[null,{"$f":"'Classement auteurs'!$B271","v":131499010201},{"$f":"IFERROR(VLOOKUP($B271,'Défi-1'!$C$2:$J$200,8,FALSE),\"\")","v":""},{"$f":"IFERROR(VLOOKUP($B271,'Défi-2'!$C$2:$J$200,8,FALSE),\"\")","v":30},{"$f":"IFERROR(VLOOKUP($B271,'Défi-3'!$C$2:$J$200,8,FALSE),\"\")","v":""},{"$f":"IFERROR(VLOOKUP($B271,'Défi-4'!$C$2:$J$200,8,FALSE),\"\")","v":""},{"$f":"IFERROR(VLOOKUP($B271,'Défi-5'!$C$2:$J$200,8,FALSE),\"\")","v":""},{"$f":"IFERROR(VLOOKUP($B271,'Défi-6'!$C$2:$J$200,8,FALSE),\"\")","v":""},{"$f":"IFERROR(VLOOKUP($B271,'Défi-7'!$C$2:$J$200,8,FALSE),\"\")","v":""},30,null,"OK","OK","OK","OK","OK","OK","OK","OK",{"$error":"#REF!"},null,{"$f":"'Classement auteurs'!$B271","v":131499010201},{"$f":"IF('Classement auteurs'!K271=\"\",\"\",'Classement auteurs'!K271)","v":""},{"$f":"IF('Classement auteurs'!L271=\"\",\"\",'Classement auteurs'!L271)","v":30},{"$f":"IF('Classement auteurs'!M271=\"\",\"\",'Classement auteurs'!M271)","v":""},{"$f":"IF('Classement auteurs'!N271=\"\",\"\",'Classement auteurs'!N271)","v":""},{"$f":"IF('Classement auteurs'!O271=\"\",\"\",'Classement auteurs'!O271)","v":""},{"$f":"IF('Classement auteurs'!P271=\"\",\"\",'Classement auteurs'!P271)","v":""},{"$f":"IF('Classement auteurs'!Q271=\"\",\"\",'Classement auteurs'!Q271)","v":""},{"$f":"IF('Classement auteurs'!#REF!=\"\",\"\",'Classement auteurs'!#REF!)","v":{"$error":"#REF!"}}]
[null,{"$f":"'Classement auteurs'!$B272","v":131823007801},{"$f":"IFERROR(VLOOKUP($B272,'Défi-1'!$C$2:$J$200,8,FALSE),\"\")","v":30},{"$f":"IFERROR(VLOOKUP($B272,'Défi-2'!$C$2:$J$200,8,FALSE),\"\")","v":""},{"$f":"IFERROR(VLOOKUP($B272,'Défi-3'!$C$2:$J$200,8,FALSE),\"\")","v":""},{"$f":"IFERROR(VLOOKUP($B272,'Défi-4'!$C$2:$J$200,8,FALSE),\"\")","v":""},{"$f":"IFERROR(VLOOKUP($B272,'Défi-5'!$C$2:$J$200,8,FALSE),\"\")","v":""},{"$f":"IFERROR(VLOOKUP($B272,'Défi-6'!$C$2:$J$200,8,FALSE),\"\")","v":""},{"$f":"IFERROR(VLOOKUP($B272,'Défi-7'!$C$2:$J$200,8,FALSE),\"\")","v":""},30,null,"OK","KO","KO","OK","OK","OK","OK","OK",{"$error":"#REF!"},null,{"$f":"'Classement auteurs'!$B272","v":131823007801},{"$f":"IF('Classement auteurs'!K272=\"\",\"\",'Classement auteurs'!K272)","v":""},{"$f":"IF('Classement auteurs'!L272=\"\",\"\",'Classement auteurs'!L272)","v":30},{"$f":"IF('Classement auteurs'!M272=\"\",\"\",'Classement auteurs'!M272)","v":""},{"$f":"IF('Classement auteurs'!N272=\"\",\"\",'Classement auteurs'!N272)","v":""},{"$f":"IF('Classement auteurs'!O272=\"\",\"\",'Classement auteurs'!O272)","v":""},{"$f":"IF('Classement auteurs'!P272=\"\",\"\",'Classement auteurs'!P272)","v":""},{"$f":"IF('Classement auteurs'!Q272=\"\",\"\",'Classement auteurs'!Q272)","v":""},{"$f":"IF('Classement auteurs'!#REF!=\"\",\"\",'Classement auteurs'!#REF!)","v":{"$error":"#REF!"}}]
[null,{"$f":"'Classement auteurs'!$B273","v":132147000601},{"$f":"IFERROR(VLOOKUP($B273,'Défi-1'!$C$2:$J$200,8,FALSE),\"\")","v":""},{"$f":"IFERROR(VLOOKUP($B273,'Défi-2'!$C$2:$J$200,8,FALSE),\"\")","v":""},{"$f":"IFERROR(VLOOKUP($B273,'Défi-3'!$C$2:$J$200,8,FALSE),\"\")","v":""},{"$f":"IFERROR(VLOOKUP($B273,'Défi-4'!$C$2:$J$200,8,FALSE),\"\")","v":""},{"$f":"IFERROR(VLOOKUP($B273,'Défi-5'!$C$2:$J$200,8,FALSE),\"\")","v":""},{"$f":"IFERROR(VLOOKUP($B273,'Défi-6'!$C$2:$J$200,8,FALSE),\"\")","v":""},{"$f":"IFERROR(VLOOKUP($B273,'Défi-7'!$C$2:$J$200,8,FALSE),\"\")","v":30},30,null,"OK","KO","KO","OK","OK","OK","OK","KO",{"$error":"#REF!"},null,{"$f":"'Classement auteurs'!$B273","v":132147000601},{"$f":"IF('Classement auteurs'!K273=\"\",\"\",'Classement auteurs'!K273)","v":30},{"$f":"IF('Classement auteurs'!L273=\"\",\"\",'Classement auteurs'!L273)","v":30},{"$f":"IF('Classement auteurs'!M273=\"\",\"\",'Classement auteurs'!M273)","v":""},{"$f":"IF('Classement auteurs'!N273=\"\",\"\",'Classement auteurs'!N273)","v":""},{"$f":"IF('Classement auteurs'!O273=\"\",\"\",'Classement auteurs'!O273)","v":""},{"$f":"IF('Classement auteurs'!P273=\"\",\"\",'Classement auteurs'!P273)","v":""},{"$f":"IF('Classement auteurs'!Q273=\"\",\"\",'Classement auteurs'!Q273)","v":""},{"$f":"IF('Classement auteurs'!#REF!=\"\",\"\",'Classement auteurs'!#REF!)","v":{"$error":"#REF!"}}]
[null,{"$f":"'Classement auteurs'!$B274","v":132203000501},{"$f":"IFERROR(VLOOKUP($B274,'Défi-1'!$C$2:$J$200,8,FALSE),\"\")","v":""},{"$f":"IFERROR(VLOOKUP($B274,'Défi-2'!$C$2:$J$200,8,FALSE),\"\")","v":""},{"$f":"IFERROR(VLOOKUP($B274,'Défi-3'!$C$2:$J$200,8,FALSE),\"\")","v":30},{"$f":"IFERROR(VLOOKUP($B274,'Défi-4'!$C$2:$J$200,8,FALSE),\"\")","v":""},{"$f":"IFERROR(VLOOKUP($B274,'Défi-5'!$C$2:$J$200,8,FALSE),\"\")","v":""},{"$f":"IFERROR(VLOOKUP($B274,'Défi-6'!$C$2:$J$200,8,FALSE),\"\")","v":""},{"$f":"IFERROR(VLOOKUP($B274,'Défi-7'!$C$2:$J$200,8,FALSE),\"\")","v":""},30,null,"OK","OK","KO","KO","OK","OK","OK","OK",{"$error":"#REF!"},null,{"$f":"'Classement auteurs'!$B274","v":132203000501},{"$f":"IF('Classement auteurs'!K274=\"\",\"\",'Classement auteurs'!K274)","v":""},{"$f":"IF('Classement auteurs'!L274=\"\",\"\",'Classement auteurs'!L274)","v":30},{"$f":"IF('Classement auteurs'!M274=\"\",\"\",'Classement auteurs'!M274)","v":""},{"$f":"IF('Classement auteurs'!N274=\"\",\"\",'Classement auteurs'!N274)","v":""},{"$f":"IF('Classement auteurs'!O274=\"\",\"\",'Classement auteurs'!O274)","v":""},{"$f":"IF('Classement auteurs'!P274=\"\",\"\",'Classement auteurs'!P274)","v":""},{"$f":"IF('Classement auteurs'!Q274=\"\",\"\",'Classement auteurs'!Q274)","v":""},{"$f":"IF('Classement auteurs'!#REF!=\"\",\"\",'Classement auteurs'!#REF!)","v":{"$error":"#REF!"}}]
[null,{"$f":"'Classement auteurs'!$B275","v":131683007101},{"$f":"IFERROR(VLOOKUP($B275,'Défi-1'!$C$2:$J$200,8,FALSE),\"\")","v":""},{"$f":"IFERROR(VLOOKUP($B275,'Défi-2'!$C$2:$J$200,8,FALSE),\"\")","v":""},{"$f":"IFERROR(VLOOKUP($B275,'Défi-3'!$C$2:$J$200,8,FALSE),\"\")","v":""},{"$f":"IFERROR(VLOOKUP($B275,'Défi-4'!$C$2:$J$200,8,FALSE),\"\")","v":""},{"$f":"IFERROR(VLOOKUP($B275,'Défi-5'!$C$2:$J$200,8,FALSE),\"\")","v":""},{"$f":"IFERROR(VLOOKUP($B275,'Défi-6'!$C$2:$J$200,8,FALSE),\"\")","v":""},{"$f":"IFERROR(VLOOKUP($B275,'Défi-7'!$C$2:$J$200,8,FALSE),\"\")","v":29},29,null,"OK","KO","KO","OK","OK","OK","OK","KO",{"$error":"#REF!"},null,{"$f":"'Classement auteurs'!$B275","v":131683007101},{"$f":"IF('Classement auteurs'!K275=\"\",\"\",'Classement auteurs'!K275)","v":29},{"$f":"IF('Classement auteurs'!L275=\"\",\"\",'Classement auteurs'!L275)","v":29},{"$f":"IF('Classement auteurs'!M275=\"\",\"\",'Classement auteurs'!M275)","v":""},{"$f":"IF('Classement auteurs'!N275=\"\",\"\",'Classement auteurs'!N275)","v":""},{"$f":"IF('Classement auteurs'!O275=\"\",\"\",'Classement auteurs'!O275)","v":""},{"$f":"IF('Classement auteurs'!P275=\"\",\"\",'Classement auteurs'!P275)","v":""},{"$f":"IF('Classement auteurs'!Q275=\"\",\"\",'Classement auteurs'!Q275)","v":""},{"$f":"IF('Classement auteurs'!#REF!=\"\",\"\",'Classement auteurs'!#REF!)","v":{"$error":"#REF!"}}]
[null,{"$f":"'Classement auteurs'!$B276","v":131956004301},{"$f":"IFERROR(VLOOKUP($B276,'Défi-1'!$C$2:$J$200,8,FALSE),\"\")","v":""},{"$f":"IFERROR(VLOOKUP($B276,'Défi-2'!$C$2:$J$200,8,FALSE),\"\")","v":""},{"$f":"IFERROR(VLOOKUP($B276,'Défi-3'!$C$2:$J$200,8,FALSE),\"\")","v":""},{"$f":"IFERROR(VLOOKUP($B276,'Défi-4'!$C$2:$J$200,8,FALSE),\"\")","v":""},{"$f":"IFERROR(VLOOKUP($B276,'Défi-5'!$C$2:$J$200,8,FALSE),\"\")","v":""},{"$f":"IFERROR(VLOOKUP($B276,'Défi-6'!$C$2:$J$200,8,FALSE),\"\")","v":""},{"$f":"IFERROR(VLOOKUP($B276,'Défi-7'!$C$2:$J$200,8,FALSE),\"\")","v":29},29,null,"OK","KO","KO","OK","OK","OK","OK","KO",{"$error":"#REF!"},null,{"$f":"'Classement auteurs'!$B276","v":131956004301},{"$f":"IF('Classement auteurs'!K276=\"\",\"\",'Classement auteurs'!K276)","v":29},{"$f":"IF('Classement auteurs'!L276=\"\",\"\",'Classement auteurs'!L276)","v":29},{"$f":"IF('Classement auteurs'!M276=\"\",\"\",'Classement auteurs'!M276)","v":""},{"$f":"IF('Classement auteurs'!N276=\"\",\"\",'Classement auteurs'!N276)","v":""},{"$f":"IF('Classement auteurs'!O276=\"\",\"\",'Classement auteurs'!O276)","v":""},{"$f":"IF('Classement auteurs'!P276=\"\",\"\",'Classement auteurs'!P276)","v":""},{"$f":"IF('Classement auteurs'!Q276=\"\",\"\",'Classement auteurs'!Q276)","v":""},{"$f":"IF('Classement auteurs'!#REF!=\"\",\"\",'Classement auteurs'!#REF!)","v":{"$error":"#REF!"}}]
[null,{"$f":"'Classement auteurs'!$B277","v":131823008801},{"$f":"IFERROR(VLOOKUP($B277,'Défi-1'!$C$2:$J$200,8,FALSE),\"\")","v":""},{"$f":"IFERROR(VLOOKUP($B277,'Défi-2'!$C$2:$J$200,8,FALSE),\"\")","v":28},{"$f":"IFERROR(VLOOKUP($B277,'Défi-3'!$C$2:$J$200,8,FALSE),\"\")","v":""},{"$f":"IFERROR(VLOOKUP($B277,'Défi-4'!$C$2:$J$200,8,FALSE),\"\")","v":""},{"$f":"IFERROR(VLOOKUP($B277,'Défi-5'!$C$2:$J$200,8,FALSE),\"\")","v":""},{"$f":"IFERROR(VLOOKUP($B277,'Défi-6'!$C$2:$J$200,8,FALSE),\"\")","v":""},{"$f":"IFERROR(VLOOKUP($B277,'Défi-7'!$C$2:$J$200,8,FALSE),\"\")","v":""},28,null,"OK","OK","OK","OK","OK","OK","OK","OK",{"$error":"#REF!"},null,{"$f":"'Classement auteurs'!$B277","v":131823008801},{"$f":"IF('Classement auteurs'!K277=\"\",\"\",'Classement auteurs'!K277)","v":""},{"$f":"IF('Classement auteurs'!L277=\"\",\"\",'Classement auteurs'!L277)","v":28},{"$f":"IF('Classement auteurs'!M277=\"\",\"\",'Classement auteurs'!M277)","v":""},{"$f":"IF('Classement auteurs'!N277=\"\",\"\",'Classement auteurs'!N277)","v":""},{"$f":"IF('Classement auteurs'!O277=\"\",\"\",'Classement auteurs'!O277)","v":""},{"$f":"IF('Classement auteurs'!P277=\"\",\"\",'Classement auteurs'!P277)","v":""},{"$f":"IF('Classement auteurs'!Q277=\"\",\"\",'Classement auteurs'!Q277)","v":""},{"$f":"IF('Classement auteurs'!#REF!=\"\",\"\",'Classement auteurs'!#REF!)","v":{"$error":"#REF!"}}]
[null,{"$f":"'Classement auteurs'!$B278","v":131845003501},{"$f":"IFERROR(VLOOKUP($B278,'Défi-1'!$C$2:$J$200,8,FALSE),\"\")","v":""},{"$f":"IFERROR(VLOOKUP($B278,'Défi-2'!$C$2:$J$200,8,FALSE),\"\")","v":""},{"$f":"IFERROR(VLOOKUP($B278,'Défi-3'!$C$2:$J$200,8,FALSE),\"\")","v":""},{"$f":"IFERROR(VLOOKUP($B278,'Défi-4'!$C$2:$J$200,8,FALSE),\"\")","v":""},{"$f":"IFERROR(VLOOKUP($B278,'Défi-5'!$C$2:$J$200,8,FALSE),\"\")","v":""},{"$f":"IFERROR(VLOOKUP($B278,'Défi-6'!$C$2:$J$200,8,FALSE),\"\")","v":""},{"$f":"IFERROR(VLOOKUP($B278,'Défi-7'!$C$2:$J$200,8,FALSE),\"\")","v":28},28,null,"OK","KO","KO","OK","OK","OK","OK","KO",{"$error":"#REF!"},null,{"$f":"'Classement auteurs'!$B278","v":131845003501},{"$f":"IF('Classement auteurs'!K278=\"\",\"\",'Classement auteurs'!K278)","v":28},{"$f":"IF('Classement auteurs'!L278=\"\",\"\",'Classement auteurs'!L278)","v":28},{"$f":"IF('Classement auteurs'!M278=\"\",\"\",'Classement auteurs'!M278)","v":""},{"$f":"IF('Classement auteurs'!N278=\"\",\"\",'Classement auteurs'!N278)","v":""},{"$f":"IF('Classement auteurs'!O278=\"\",\"\",'Classement auteurs'!O278)","v":""},{"$f":"IF('Classement auteurs'!P278=\"\",\"\",'Classement auteurs'!P278)","v":""},{"$f":"IF('Classement auteurs'!Q278=\"\",\"\",'Classement auteurs'!Q278)","v":""},{"$f":"IF('Classement auteurs'!#REF!=\"\",\"\",'Classement auteurs'!#REF!)","v":{"$error":"#REF!"}}]
[null,{"$f":"'Classement auteurs'!$B279","v":132060003301},{"$f":"IFERROR(VLOOKUP($B279,'Défi-1'!$C$2:$J$200,8,FALSE),\"\")","v":28},{"$f":"IFERROR(VLOOKUP($B279,'Défi-2'!$C$2:$J$200,8,FALSE),\"\")","v":""},{"$f":"IFERROR(VLOOKUP($B279,'Défi-3'!$C$2:$J$200,8,FALSE),\"\")","v":""},{"$f":"IFERROR(VLOOKUP($B279,'Défi-4'!$C$2:$J$200,8,FALSE),\"\")","v":""},{"$f":"IFERROR(VLOOKUP($B279,'Défi-5'!$C$2:$J$200,8,FALSE),\"\")","v":""},{"$f":"IFERROR(VLOOKUP($B279,'Défi-6'!$C$2:$J$200,8,FALSE),\"\")","v":""},{"$f":"IFERROR(VLOOKUP($B279,'Défi-7'!$C$2:$J$200,8,FALSE),\"\")","v":""},28,null,"OK","KO","KO","OK","OK","OK","OK","OK",{"$error":"#REF!"},null,{"$f":"'Classement auteurs'!$B279","v":132060003301},{"$f":"IF('Classement auteurs'!K279=\"\",\"\",'Classement auteurs'!K279)","v":""},{"$f":"IF('Classement auteurs'!L279=\"\",\"\",'Classement auteurs'!L279)","v":28},{"$f":"IF('Classement auteurs'!M279=\"\",\"\",'Classement auteurs'!M279)","v":""},{"$f":"IF('Classement auteurs'!N279=\"\",\"\",'Classement auteurs'!N279)","v":""},{"$f":"IF('Classement auteurs'!O279=\"\",\"\",'Classement auteurs'!O279)","v":""},{"$f":"IF('Classement auteurs'!P279=\"\",\"\",'Classement auteurs'!P279)","v":""},{"$f":"IF('Classement auteurs'!Q279=\"\",\"\",'Classement auteurs'!Q279)","v":""},{"$f":"IF('Classement auteurs'!#REF!=\"\",\"\",'Classement auteurs'!#REF!)","v":{"$error":"#REF!"}}]
[null,{"$f":"'Classement auteurs'!$B280","v":131862001401},{"$f":"IFERROR(VLOOKUP($B280,'Défi-1'!$C$2:$J$200,8,FALSE),\"\")","v":""},{"$f":"IFERROR(VLOOKUP($B280,'Défi-2'!$C$2:$J$200,8,FALSE),\"\")","v":27},{"$f":"IFERROR(VLOOKUP($B280,'Défi-3'!$C$2:$J$200,8,FALSE),\"\")","v":""},{"$f":"IFERROR(VLOOKUP($B280,'Défi-4'!$C$2:$J$200,8,FALSE),\"\")","v":""},{"$f":"IFERROR(VLOOKUP($B280,'Défi-5'!$C$2:$J$200,8,FALSE),\"\")","v":""},{"$f":"IFERROR(VLOOKUP($B280,'Défi-6'!$C$2:$J$200,8,FALSE),\"\")","v":""},{"$f":"IFERROR(VLOOKUP($B280,'Défi-7'!$C$2:$J$200,8,FALSE),\"\")","v":""},27,null,"OK","OK","OK","OK","OK","OK","OK","OK",{"$error":"#REF!"},null,{"$f":"'Classement auteurs'!$B280","v":131862001401},{"$f":"IF('Classement auteurs'!K280=\"\",\"\",'Classement auteurs'!K280)","v":""},{"$f":"IF('Classement auteurs'!L280=\"\",\"\",'Classement auteurs'!L280)","v":27},{"$f":"IF('Classement auteurs'!M280=\"\",\"\",'Classement auteurs'!M280)","v":""},{"$f":"IF('Classement auteurs'!N280=\"\",\"\",'Classement auteurs'!N280)","v":""},{"$f":"IF('Classement auteurs'!O280=\"\",\"\",'Classement auteurs'!O280)","v":""},{"$f":"IF('Classement auteurs'!P280=\"\",\"\",'Classement auteurs'!P280)","v":""},{"$f":"IF('Classement auteurs'!Q280=\"\",\"\",'Classement auteurs'!Q280)","v":""},{"$f":"IF('Classement auteurs'!#REF!=\"\",\"\",'Classement auteurs'!#REF!)","v":{"$error":"#REF!"}}]
[null,{"$f":"'Classement auteurs'!$B281","v":132060002801},{"$f":"IFERROR(VLOOKUP($B281,'Défi-1'!$C$2:$J$200,8,FALSE),\"\")","v":""},{"$f":"IFERROR(VLOOKUP($B281,'Défi-2'!$C$2:$J$200,8,FALSE),\"\")","v":""},{"$f":"IFERROR(VLOOKUP($B281,'Défi-3'!$C$2:$J$200,8,FALSE),\"\")","v":""},{"$f":"IFERROR(VLOOKUP($B281,'Défi-4'!$C$2:$J$200,8,FALSE),\"\")","v":""},{"$f":"IFERROR(VLOOKUP($B281,'Défi-5'!$C$2:$J$200,8,FALSE),\"\")","v":""},{"$f":"IFERROR(VLOOKUP($B281,'Défi-6'!$C$2:$J$200,8,FALSE),\"\")","v":""},{"$f":"IFERROR(VLOOKUP($B281,'Défi-7'!$C$2:$J$200,8,FALSE),\"\")","v":26},26,null,"OK","KO","KO","OK","OK","OK","OK","KO",{"$error":"#REF!"},null,{"$f":"'Classement auteurs'!$B281","v":132060002801},{"$f":"IF('Classement auteurs'!K281=\"\",\"\",'Classement auteurs'!K281)","v":26},{"$f":"IF('Classement auteurs'!L281=\"\",\"\",'Classement auteurs'!L281)","v":26},{"$f":"IF('Classement auteurs'!M281=\"\",\"\",'Classement auteurs'!M281)","v":""},{"$f":"IF('Classement auteurs'!N281=\"\",\"\",'Classement auteurs'!N281)","v":""},{"$f":"IF('Classement auteurs'!O281=\"\",\"\",'Classement auteurs'!O281)","v":""},{"$f":"IF('Classement auteurs'!P281=\"\",\"\",'Classement auteurs'!P281)","v":""},{"$f":"IF('Classement auteurs'!Q281=\"\",\"\",'Classement auteurs'!Q281)","v":""},{"$f":"IF('Classement auteurs'!#REF!=\"\",\"\",'Classement auteurs'!#REF!)","v":{"$error":"#REF!"}}]

{"sheet":"Liste des adhérents","index":16,"n_rows":1804,"n_cols":4,"rows_kept":1804,"cut":false,"hidden":false,"merged":[]}
[]
[null,"Fichier","Club","Prénom / Nom"]
[null,130000002901,"Individuel","Prénom&Nom1"]
[null,130000003201,"Individuel","Prénom&Nom2"]
[null,130000006801,"Individuel","Prénom&Nom3"]
[null,130000007901,"Individuel","Prénom&Nom4"]
[null,130000008301,"Individuel","Prénom&Nom5"]
[null,130000008401,"Individuel","Prénom&Nom6"]
[null,130000009401,"Individuel","Prénom&Nom7"]
[null,130000010301,"Individuel","Prénom&Nom8"]
[null,130000010501,"Individuel","Prénom&Nom9"]
[null,130000010701,"Individuel","Prénom&Nom10"]
[null,130000010901,"Individuel","Prénom&Nom11"]
[null,130000011801,"Individuel","Prénom&Nom12"]
[null,130000011901,"Individuel","Prénom&Nom13"]
[null,130000012301,"Individuel","Prénom&Nom14"]
[null,130000012601,"Individuel","Prénom&Nom15"]
[null,130000012701,"Individuel","Prénom&Nom16"]
[null,130000012801,"Individuel","Prénom&Nom17"]
[null,130000012901,"Individuel","Prénom&Nom18"]
[null,130000013001,"Individuel","Prénom&Nom19"]
[null,130000013101,"Individuel","Prénom&Nom20"]
[null,130000013201,"Individuel","Prénom&Nom21"]
[null,130000013301,"Individuel","Prénom&Nom22"]
[null,130000013401,"Individuel","Prénom&Nom23"]
[null,130000013501,"Individuel","Prénom&Nom24"]
[null,130000013601,"Individuel","Prénom&Nom25"]
[null,130000013701,"Individuel","Prénom&Nom26"]
[null,130000013801,"Individuel","Prénom&Nom27"]
[null,130000013901,"Individuel","Prénom&Nom28"]
[null,130000014001,"Individuel","Prénom&Nom29"]
[null,130000014101,"Individuel","Prénom&Nom30"]
[null,130000014201,"Individuel","Prénom&Nom31"]
[null,130000014301,"Individuel","Prénom&Nom32"]
[null,130000014401,"Individuel","Prénom&Nom33"]
[null,130000014501,"Individuel","Prénom&Nom34"]
[null,130000014601,"Individuel","Prénom&Nom35"]
[null,130000014701,"Individuel","Prénom&Nom36"]
[null,130000014801,"Individuel","Prénom&Nom37"]
[null,130000014901,"Individuel","Prénom&Nom38"]
[null,130000015001,"Individuel","Prénom&Nom39"]
[null,130000015101,"Individuel","Prénom&Nom40"]
[null,130000015201,"Individuel","Prénom&Nom41"]
[null,130000015301,"Individuel","Prénom&Nom42"]
[null,130000015401,"Individuel","Prénom&Nom43"]
[null,130000015501,"Individuel","Prénom&Nom44"]
[null,130000015601,"Individuel","Prénom&Nom45"]
[null,130000015701,"Individuel","Prénom&Nom46"]
[null,130000015801,"Individuel","Prénom&Nom47"]
[null,130000015901,"Individuel","Prénom&Nom48"]
[null,130000016001,"Individuel","Prénom&Nom49"]
[null,130000016101,"Individuel","Prénom&Nom50"]
[null,130000016201,"Individuel","Prénom&Nom51"]
[null,130000016301,"Individuel","Prénom&Nom52"]
[null,130000016401,"Individuel","Prénom&Nom53"]
[null,130000016501,"Individuel","Prénom&Nom54"]
[null,130000016601,"Individuel","Prénom&Nom55"]
[null,130000016701,"Individuel","Prénom&Nom56"]
[null,130000016801,"Individuel","Prénom&Nom57"]
[null,130000016901,"Individuel","Prénom&Nom58"]
[null,130000017001,"Individuel","Prénom&Nom59"]
[null,130000017101,"Individuel","Prénom&Nom60"]
[null,130000017101,"Individuel","Prénom&Nom61"]
[null,130000017201,"Individuel","Prénom&Nom62"]
[null,130000017301,"Individuel","Prénom&Nom63"]
[null,130000017401,"Individuel","Prénom&Nom64"]
[null,130000017401,"Individuel","Prénom&Nom65"]
[null,130000017601,"Individuel","Prénom&Nom66"]
[null,130000017601,"Individuel","Prénom&Nom67"]
[null,130000017701,"Individuel","Prénom&Nom68"]
[null,130000017801,"Individuel","Prénom&Nom69"]
[null,130000017901,"Individuel","Prénom&Nom70"]
[null,130000020401,"Individuel","Prénom&Nom70A"]
[null,130000277501,"Individuel","Prénom&Nom71"]
[null,130435000101,"Beausoleil Ciné Photo Club","Prénom&Nom72"]
[null,130435000501,"Beausoleil Ciné Photo Club","Prénom&Nom73"]
[null,130435002101,"Beausoleil Ciné Photo Club","Prénom&Nom74"]
[null,130435002201,"Beausoleil Ciné Photo Club","Prénom&Nom75"]
[null,130435002801,"Beausoleil Ciné Photo Club","Prénom&Nom76"]
[null,130435003601,"Beausoleil Ciné Photo Club","Prénom&Nom77"]
[null,130435003701,"Beausoleil Ciné Photo Club","Prénom&Nom78"]
[null,130435900101,"Beausoleil Ciné Photo Club","Prénom&Nom79"]
[null,130435900201,"Beausoleil Ciné Photo Club","Prénom&Nom80"]
[null,130462001101,"Eurocopter Image 2000","Prénom&Nom81"]
[null,130462001801,"Eurocopter Image 2000","Prénom&Nom82"]
[null,130462003101,"Eurocopter Image 2000","Prénom&Nom83"]
[null,130462003401,"Eurocopter Image 2000","Prénom&Nom84"]
[null,130462004801,"Eurocopter Image 2000","Prénom&Nom85"]
[null,130462005201,"Eurocopter Image 2000","Prénom&Nom86"]
[null,130462005301,"Eurocopter Image 2000","Prénom&Nom87"]
[null,130462005401,"Eurocopter Image 2000","Prénom&Nom88"]
[null,130462006201,"Eurocopter Image 2000","Prénom&Nom89"]
[null,130462006301,"Eurocopter Image 2000","Prénom&Nom90"]
[null,130462006401,"Eurocopter Image 2000","Prénom&Nom91"]
[null,130462006501,"Eurocopter Image 2000","Prénom&Nom92"]
[null,130462006601,"Eurocopter Image 2000","Prénom&Nom93"]
[null,130462006801,"Eurocopter Image 2000","Prénom&Nom94"]
[null,130462006901,"Eurocopter Image 2000","Prénom&Nom95"]
[null,130462007001,"Eurocopter Image 2000","Prénom&Nom96"]
[null,130462007201,"Eurocopter Image 2000","Prénom&Nom97"]
[null,130462007301,"Eurocopter Image 2000","Prénom&Nom98"]
[null,130462007601,"Eurocopter Image 2000","Prénom&Nom99"]
[null,130462007701,"Eurocopter Image 2000","Prénom&Nom100"]
[null,130462008001,"Eurocopter Image 2000","Prénom&Nom101"]
[null,130462008101,"Eurocopter Image 2000","Prénom&Nom102"]
[null,130462008201,"Eurocopter Image 2000","Prénom&Nom103"]
[null,130462008301,"Eurocopter Image 2000","Prénom&Nom104"]
[null,130462008401,"Eurocopter Image 2000","Prénom&Nom105"]
[null,130462008501,"Eurocopter Image 2000","Prénom&Nom106"]
[null,130462008601,"Eurocopter Image 2000","Prénom&Nom107"]
[null,130462008701,"Eurocopter Image 2000","Prénom&Nom108"]
[null,130462008801,"Eurocopter Image 2000","Prénom&Nom109"]
[null,130462008901,"Eurocopter Image 2000","Prénom&Nom110"]
[null,130462009001,"Eurocopter Image 2000","Prénom&Nom111"]
[null,130462009101,"Eurocopter Image 2000","Prénom&Nom112"]
[null,130462009201,"Eurocopter Image 2000","Prénom&Nom113"]
[null,130462009301,"Eurocopter Image 2000","Prénom&Nom114"]
[null,130462009401,"Eurocopter Image 2000","Prénom&Nom115"]
[null,130462009501,"Eurocopter Image 2000","Prénom&Nom116"]
[null,130462009601,"Eurocopter Image 2000","Prénom&Nom117"]
[null,130462009701,"Eurocopter Image 2000","Prénom&Nom118"]
[null,130462009801,"Eurocopter Image 2000","Prénom&Nom119"]
[null,130462009901,"Eurocopter Image 2000","Prénom&Nom120"]
[null,130462010001,"Eurocopter Image 2000","Prénom&Nom121"]
[null,130462010101,"Eurocopter Image 2000","Prénom&Nom122"]
[null,130462010201,"Eurocopter Image 2000","Prénom&Nom123"]
[null,130462010301,"Eurocopter Image 2000","Prénom&Nom124"]
[null,130462010401,"Eurocopter Image 2000","Prénom&Nom125"]
[null,130462010501,"Eurocopter Image 2000","Prénom&Nom126"]
[null,130462010601,"Eurocopter Image 2000","Prénom&Nom127"]
[null,130462010701,"Eurocopter Image 2000","Prénom&Nom128"]
[null,130462010801,"Eurocopter Image 2000","Prénom&Nom129"]
[null,130462010901,"Eurocopter Image 2000","Prénom&Nom130"]
[null,130462011001,"Eurocopter Image 2000","Prénom&Nom131"]
[null,130462011101,"Eurocopter Image 2000","Prénom&Nom132"]
[null,130462011201,"Eurocopter Image 2000","Prénom&Nom133"]
[null,130462011301,"Eurocopter Image 2000","Prénom&Nom134"]
[null,130462011401,"Eurocopter Image 2000","Prénom&Nom135"]
[null,130462011501,"Eurocopter Image 2000","Prénom&Nom136"]
[null,130462011601,"Eurocopter Image 2000","Prénom&Nom137"]
[null,130462011701,"Eurocopter Image 2000","Prénom&Nom138"]
[null,130462011801,"Eurocopter Image 2000","Prénom&Nom139"]
[null,130462011901,"Eurocopter Image 2000","Prénom&Nom140"]
[null,130479000101,"Image In Photo Club Pertuis","Prénom&Nom141"]
[null,130479000201,"Image In Photo Club Pertuis","Prénom&Nom142"]
[null,130479000301,"Image In Photo Club Pertuis","Prénom&Nom143"]
[null,130479000401,"Image In Photo Club Pertuis","Prénom&Nom144"]
[null,130479000501,"Image In Photo Club Pertuis","Prénom&Nom145"]
[null,130479000601,"Image In Photo Club Pertuis","Prénom&Nom146"]
[null,130479000701,"Image In Photo Club Pertuis","Prénom&Nom147"]
[null,130479000801,"Image In Photo Club Pertuis","Prénom&Nom148"]
[null,130479000901,"Image In Photo Club Pertuis","Prénom&Nom149"]
[null,130479001001,"Image In Photo Club Pertuis","Prénom&Nom150"]
[null,130479001101,"Image In Photo Club Pertuis","Prénom&Nom151"]
[null,130479001201,"Image In Photo Club Pertuis","Prénom&Nom152"]
[null,130479001301,"Image In Photo Club Pertuis","Prénom&Nom153"]
[null,130527002401,"Photo Club de Martigues","Prénom&Nom154"]
[null,130527002501,"Photo Club de Martigues","Prénom&Nom155"]
[null,130527003601,"Photo Club de Martigues","Prénom&Nom156"]
[null,130527006301,"Photo Club de Martigues","Prénom&Nom157"]
[null,130527006401,"Photo Club de Martigues","Prénom&Nom158"]
[null,130527006601,"Photo Club de Martigues","Prénom&Nom159"]
[null,130527008101,"Photo Club de Martigues","Prénom&Nom160"]
[null,130527008401,"Photo Club de Martigues","Prénom&Nom161"]
[null,130527009101,"Photo Club de Martigues","Prénom&Nom162"]
[null,130527009201,"Photo Club de Martigues","Prénom&Nom163"]
[null,130527009401,"Photo Club de Martigues","Prénom&Nom164"]
[null,130527009501,"Photo Club de Martigues","Prénom&Nom165"]
[null,130527009601,"Photo Club de Martigues","Prénom&Nom166"]
[null,130527009801,"Photo Club de Martigues","Prénom&Nom167"]
[null,130527010001,"Photo Club de Martigues","Prénom&Nom168"]
[null,130527010101,"Photo Club de Martigues","Prénom&Nom169"]
[null,130527010201,"Photo Club de Martigues","Prénom&Nom170"]
[null,130527010301,"Photo Club de Martigues","Prénom&Nom171"]
[null,130527010401,"Photo Club de Martigues","Prénom&Nom172"]
[null,130527010501,"Photo Club de Martigues","Prénom&Nom173"]
[null,130527010601,"Photo Club de Martigues","Prénom&Nom174"]
[null,130527010701,"Photo Club de Martigues","Prénom&Nom175"]
[null,130527010801,"Photo Club de Martigues","Prénom&Nom176"]
[null,130527010901,"Photo Club de Martigues","Prénom&Nom177"]
[null,130527011001,"Photo Club de Martigues","Prénom&Nom178"]
[null,130527011101,"Photo Club de Martigues","Prénom&Nom179"]
[null,130527011201,"Photo Club de Martigues","Prénom&Nom180"]
[null,130527011301,"Photo Club de Martigues","Prénom&Nom181"]
[null,130527011401,"Photo Club de Martigues","Prénom&Nom182"]
[null,130527011501,"Photo Club de Martigues","Prénom&Nom183"]
[null,130527011601,"Photo Club de Martigues","Prénom&Nom184"]
[null,130527011701,"Photo Club de Martigues","Prénom&Nom185"]
[null,130527011801,"Photo Club de Martigues","Prénom&Nom186"]
[null,130527011901,"Photo Club de Martigues","Prénom&Nom187"]
[null,130527012001,"Photo Club de Martigues","Prénom&Nom188"]
[null,130527012101,"Photo Club de Martigues","Prénom&Nom189"]
[null,130527012201,"Photo Club de Martigues","Prénom&Nom190"]
[null,130527012301,"Photo Club de Martigues","Prénom&Nom191"]
[null,130527012401,"Photo Club de Martigues","Prénom&Nom192"]
[null,130527012501,"Photo Club de Martigues","Prénom&Nom193"]
[null,130527012601,"Photo Club de Martigues","Prénom&Nom194"]
[null,130527012701,"Photo Club de Martigues","Prénom&Nom195"]
[null,130527012801,"Photo Club de Martigues","Prénom&Nom196"]
[null,130527012901,"Photo Club de Martigues","Prénom&Nom197"]
[null,130527013001,"Photo Club de Martigues","Prénom&Nom198"]
[null,130527013101,"Photo Club de Martigues","Prénom&Nom199"]
[null,130527013201,"Photo Club de Martigues","Prénom&Nom200"]
[null,130527013301,"Photo Club de Martigues","Prénom&Nom201"]
[null,130527013401,"Photo Club de Martigues","Prénom&Nom202"]
[null,130527013501,"Photo Club de Martigues","Prénom&Nom203"]
[null,130527013601,"Photo Club de Martigues","Prénom&Nom204"]
[null,130527013701,"Photo Club de Martigues","Prénom&Nom205"]
[null,130527013801,"Photo Club de Martigues","Prénom&Nom206"]
[null,130527013901,"Photo Club de Martigues","Prénom&Nom207"]
[null,130527014001,"Photo Club de Martigues","Prénom&Nom208"]
[null,130527014101,"Photo Club de Martigues","Prénom&Nom209"]
[null,130527014201,"Photo Club de Martigues","Prénom&Nom210"]
[null,130527014301,"Photo Club de Martigues","Prénom&Nom211"]
[null,130527014401,"Photo Club de Martigues","Prénom&Nom212"]
[null,130527014501,"Photo Club de Martigues","Prénom&Nom213"]
[null,130527014601,"Photo Club de Martigues","Prénom&Nom214"]
[null,130527014701,"Photo Club de Martigues","Prénom&Nom215"]
[null,130527014801,"Photo Club de Martigues","Prénom&Nom216"]
[null,130527014901,"Photo Club de Martigues","Prénom&Nom217"]
[null,130527015001,"Photo Club de Martigues","Prénom&Nom218"]
[null,130527015101,"Photo Club de Martigues","Prénom&Nom219"]
[null,130527015201,"Photo Club de Martigues","Prénom&Nom220"]
[null,130527015301,"Photo Club de Martigues","Prénom&Nom221"]
[null,130527015401,"Photo Club de Martigues","Prénom&Nom222"]
[null,130527015501,"Photo Club de Martigues","Prénom&Nom223"]
[null,130527015601,"Photo Club de Martigues","Prénom&Nom224"]
[null,130527015701,"Photo Club de Martigues","Prénom&Nom225"]
[null,130527015801,"Photo Club de Martigues","Prénom&Nom226"]
[null,130527015901,"Photo Club de Martigues","Prénom&Nom227"]
[null,130527016001,"Photo Club de Martigues","Prénom&Nom228"]
[null,130527016101,"Photo Club de Martigues","Prénom&Nom229"]
[null,130527016201,"Photo Club de Martigues","Prénom&Nom230"]
[null,130527016301,"Photo Club de Martigues","Prénom&Nom231"]
[null,130527016401,"Photo Club de Martigues","Prénom&Nom232"]
[null,130527016501,"Photo Club de Martigues","Prénom&Nom233"]
[null,130527016601,"Photo Club de Martigues","Prénom&Nom234"]
[null,130527016701,"Photo Club de Martigues","Prénom&Nom235"]
[null,130527016801,"Photo Club de Martigues","Prénom&Nom236"]
[null,130527016901,"Photo Club de Martigues","Prénom&Nom237"]
[null,130527017001,"Photo Club de Martigues","Prénom&Nom238"]
[null,130527017101,"Photo Club de Martigues","Prénom&Nom239"]
[null,130527017201,"Photo Club de Martigues","Prénom&Nom240"]
[null,130527017301,"Photo Club de Martigues","Prénom&Nom241"]
[null,130527017401,"Photo Club de Martigues","Prénom&Nom242"]
[null,130527017501,"Photo Club de Martigues","Prénom&Nom243"]
[null,130527017601,"Photo Club de Martigues","Prénom&Nom244"]
[null,130527017701,"Photo Club de Martigues","Prénom&Nom245"]
[null,130527017801,"Photo Club de Martigues","Prénom&Nom246"]
[null,130527017901,"Photo Club de Martigues","Prénom&Nom247"]
[null,130527018001,"Photo Club de Martigues","Prénom&Nom248"]
[null,130527018101,"Photo Club de Martigues","Prénom&Nom249"]
[null,130527900101,"Photo Club de Martigues","Prénom&Nom250"]
[null,130878000101,"PC Antoine Santoru-Port de Bouc","Prénom&Nom251"]
[null,130878000501,"PC Antoine Santoru-Port de Bouc","Prénom&Nom252"]
[null,130878005101,"PC Antoine Santoru-Port de Bouc","Prénom&Nom253"]
[null,130878007201,"PC Antoine Santoru-Port de Bouc","Prénom&Nom254"]
[null,130878009701,"PC Antoine Santoru-Port de Bouc","Prénom&Nom255"]
[null,130878012401,"PC Antoine Santoru-Port de Bouc","Prénom&Nom256"]
[null,130878012701,"PC Antoine Santoru-Port de Bouc","Prénom&Nom257"]
[null,130878012901,"PC Antoine Santoru-Port de Bouc","Prénom&Nom258"]
[null,130878013001,"PC Antoine Santoru-Port de Bouc","Prénom&Nom259"]
[null,130878013301,"PC Antoine Santoru-Port de Bouc","Prénom&Nom260"]
[null,130878013401,"PC Antoine Santoru-Port de Bouc","Prénom&Nom261"]
[null,130878013501,"PC Antoine Santoru-Port de Bouc","Prénom&Nom262"]
[null,130878013601,"PC Antoine Santoru-Port de Bouc","Prénom&Nom263"]
[null,130878013701,"PC Antoine Santoru-Port de Bouc","Prénom&Nom264"]
[null,130878013801,"PC Antoine Santoru-Port de Bouc","Prénom&Nom265"]
[null,130878013901,"PC Antoine Santoru-Port de Bouc","Prénom&Nom266"]
[null,130878014001,"PC Antoine Santoru-Port de Bouc","Prénom&Nom267"]
[null,130878014101,"PC Antoine Santoru-Port de Bouc","Prénom&Nom268"]
[null,130878014201,"PC Antoine Santoru-Port de Bouc","Prénom&Nom269"]
[null,130878014301,"PC Antoine Santoru-Port de Bouc","Prénom&Nom270"]
[null,130878014401,"PC Antoine Santoru-Port de Bouc","Prénom&Nom271"]
[null,130878014501,"PC Antoine Santoru-Port de Bouc","Prénom&Nom272"]
[null,130878014601,"PC Antoine Santoru-Port de Bouc","Prénom&Nom273"]
[null,130878014701,"PC Antoine Santoru-Port de Bouc","Prénom&Nom274"]
[null,130878014801,"PC Antoine Santoru-Port de Bouc","Prénom&Nom275"]
[null,130878014901,"PC Antoine Santoru-Port de Bouc","Prénom&Nom276"]
[null,130878015001,"PC Antoine Santoru-Port de Bouc","Prénom&Nom277"]
[null,130878015101,"PC Antoine Santoru-Port de Bouc","Prénom&Nom278"]
[null,130878015201,"PC Antoine Santoru-Port de Bouc","Prénom&Nom279"]
[null,130878015301,"PC Antoine Santoru-Port de Bouc","Prénom&Nom280"]
[null,130878015401,"PC Antoine Santoru-Port de Bouc","Prénom&Nom281"]
[null,130878015501,"PC Antoine Santoru-Port de Bouc","Prénom&Nom282"]
[null,130878015601,"PC Antoine Santoru-Port de Bouc","Prénom&Nom283"]
[null,130878015701,"PC Antoine Santoru-Port de Bouc","Prénom&Nom284"]
[null,130878015801,"PC Antoine Santoru-Port de Bouc","Prénom&Nom285"]
[null,130878015901,"PC Antoine Santoru-Port de Bouc","Prénom&Nom286"]
[null,130878016001,"PC Antoine Santoru-Port de Bouc","Prénom&Nom287"]
[null,130878016101,"PC Antoine Santoru-Port de Bouc","Prénom&Nom288"]
[null,130878016201,"PC Antoine Santoru-Port de Bouc","Prénom&Nom289"]
[null,130878016301,"PC Antoine Santoru-Port de Bouc","Prénom&Nom290"]
[null,130878900101,"PC Antoine Santoru-Port de Bouc","Prénom&Nom291"]
[null,130878900301,"PC Antoine Santoru-Port de Bouc","Prénom&Nom292"]
[null,130878900401,"Individuel","Prénom&Nom293"]
[null,130878900501,"PC Antoine Santoru-Port de Bouc","Prénom&Nom294"]
[null,130878900601,"PC Antoine Santoru-Port de Bouc","Prénom&Nom295"]
[null,130878900701,"PC Antoine Santoru-Port de Bouc","Prénom&Nom296"]
[null,130878900801,"PC Antoine Santoru-Port de Bouc","Prénom&Nom297"]
[null,130878900901,"PC Antoine Santoru-Port de Bouc","Prénom&Nom298"]
[null,130878901001,"PC Antoine Santoru-Port de Bouc","Prénom&Nom299"]
[null,130878901101,"PC Antoine Santoru-Port de Bouc","Prénom&Nom300"]
[null,130878901201,"PC Antoine Santoru-Port de Bouc","Prénom&Nom301"]
[null,130878901301,"PC Antoine Santoru-Port de Bouc","Prénom&Nom302"]
[null,130921003501,"Photo Club M.P.T. Vitrolles","Prénom&Nom303"]
[null,130921003801,"Photo Club M.P.T. Vitrolles","Prénom&Nom304"]
[null,130921004001,"Photo Club M.P.T. Vitrolles","Prénom&Nom305"]
[null,130921004101,"Photo Club M.P.T. Vitrolles","Prénom&Nom306"]
[null,130921004201,"Photo Club M.P.T. Vitrolles","Prénom&Nom307"]
[null,130921004301,"Photo Club M.P.T. Vitrolles","Prénom&Nom308"]
[null,130921004401,"Photo Club M.P.T. Vitrolles","Prénom&Nom309"]
[null,130921004501,"Photo Club M.P.T. Vitrolles","Prénom&Nom310"]
[null,130921004601,"Photo Club M.P.T. Vitrolles","Prénom&Nom311"]
[null,130921004701,"Photo Club M.P.T. Vitrolles","Prénom&Nom312"]
[null,130921004801,"Photo Club M.P.T. Vitrolles","Prénom&Nom313"]
[null,130921004901,"Photo Club M.P.T. Vitrolles","Prénom&Nom314"]
[null,130921005001,"Photo Club M.P.T. Vitrolles","Prénom&Nom315"]
[null,130921005101,"Photo Club M.P.T. Vitrolles","Prénom&Nom316"]
[null,130921005201,"Photo Club M.P.T. Vitrolles","Prénom&Nom317"]
[null,130921005301,"Photo Club M.P.T. Vitrolles","Prénom&Nom318"]
[null,130921005401,"Photo Club M.P.T. Vitrolles","Prénom&Nom319"]
[null,130921005501,"Photo Club M.P.T. Vitrolles","Prénom&Nom320"]
[null,130921005601,"Photo Club M.P.T. Vitrolles","Prénom&Nom321"]
[null,130921005701,"Photo Club M.P.T. Vitrolles","Prénom&Nom322"]
[null,130921005801,"Photo Club M.P.T. Vitrolles","Prénom&Nom323"]
[null,130921005901,"Photo Club M.P.T. Vitrolles","Prénom&Nom324"]
[null,130921900101,"Photo Club M.P.T. Vitrolles","Prénom&Nom325"]
[null,130921900201,"Photo Club M.P.T. Vitrolles","Prénom&Nom326"]
[null,130925000701,"A.S.L.P.S. Photo Fos-sur-Mer","Prénom&Nom327"]
[null,130925001001,"A.S.L.P.S. Photo Fos-sur-Mer","Prénom&Nom328"]
[null,130925002101,"A.S.L.P.S. Photo Fos-sur-Mer","Prénom&Nom329"]
[null,130925002401,"A.S.L.P.S. Photo Fos-sur-Mer","Prénom&Nom330"]
[null,130925003201,"A.S.L.P.S. Photo Fos-sur-Mer","Prénom&Nom331"]
[null,130925007601,"A.S.L.P.S. Photo Fos-sur-Mer","Prénom&Nom332"]
[null,130925007701,"A.S.L.P.S. Photo Fos-sur-Mer","Prénom&Nom333"]
[null,130925007801,"A.S.L.P.S. Photo Fos-sur-Mer","Prénom&Nom334"]
[null,130925007901,"A.S.L.P.S. Photo Fos-sur-Mer","Prénom&Nom335"]
[null,130925008001,"A.S.L.P.S. Photo Fos-sur-Mer","Prénom&Nom336"]
[null,130925008401,"A.S.L.P.S. Photo Fos-sur-Mer","Prénom&Nom337"]
[null,130925008501,"A.S.L.P.S. Photo Fos-sur-Mer","Prénom&Nom338"]
[null,130925008601,"A.S.L.P.S. Photo Fos-sur-Mer","Prénom&Nom339"]
[null,130925008701,"A.S.L.P.S. Photo Fos-sur-Mer","Prénom&Nom340"]
[null,130925008801,"A.S.L.P.S. Photo Fos-sur-Mer","Prénom&Nom341"]
[null,130925008901,"A.S.L.P.S. Photo Fos-sur-Mer","Prénom&Nom342"]
[null,130925009001,"A.S.L.P.S. Photo Fos-sur-Mer","Prénom&Nom343"]
[null,130925009101,"A.S.L.P.S. Photo Fos-sur-Mer","Prénom&Nom344"]
[null,130925009201,"A.S.L.P.S. Photo Fos-sur-Mer","Prénom&Nom345"]
[null,130925009301,"A.S.L.P.S. Photo Fos-sur-Mer","Prénom&Nom346"]
[null,130925009401,"A.S.L.P.S. Photo Fos-sur-Mer","Prénom&Nom347"]
[null,130925009501,"A.S.L.P.S. Photo Fos-sur-Mer","Prénom&Nom348"]
[null,130925009601,"A.S.L.P.S. Photo Fos-sur-Mer","Prénom&Nom349"]
[null,130925009701,"A.S.L.P.S. Photo Fos-sur-Mer","Prénom&Nom350"]
[null,130925009801,"A.S.L.P.S. Photo Fos-sur-Mer","Prénom&Nom351"]
[null,130925009901,"A.S.L.P.S. Photo Fos-sur-Mer","Prénom&Nom352"]
[null,130925010001,"A.S.L.P.S. Photo Fos-sur-Mer","Prénom&Nom353"]
[null,130925010101,"A.S.L.P.S. Photo Fos-sur-Mer","Prénom&Nom354"]
[null,130925010201,"A.S.L.P.S. Photo Fos-sur-Mer","Prénom&Nom355"]
[null,130925900101,"A.S.L.P.S. Photo Fos-sur-Mer","Prénom&Nom356"]
[null,130925900201,"A.S.L.P.S. Photo Fos-sur-Mer","Prénom&Nom357"]
[null,130925900301,"A.S.L.P.S. Photo Fos-sur-Mer","Prénom&Nom358"]
[null,130925900401,"A.S.L.P.S. Photo Fos-sur-Mer","Prénom&Nom359"]
[null,130987000601,"Cl. Phot'Azur Six Fours Plages","Prénom&Nom360"]
[null,130987001101,"Cl. Phot'Azur Six Fours Plages","Prénom&Nom361"]
[null,130987001301,"Cl. Phot'Azur Six Fours Plages","Prénom&Nom362"]
[null,130987001601,"Cl. Phot'Azur Six Fours Plages","Prénom&Nom363"]
[null,130987002301,"Cl. Phot'Azur Six Fours Plages","Prénom&Nom364"]
[null,130987002601,"Cl. Phot'Azur Six Fours Plages","Prénom&Nom365"]
[null,130987003201,"Cl. Phot'Azur Six Fours Plages","Prénom&Nom366"]
[null,130987004201,"Cl. Phot'Azur Six Fours Plages","Prénom&Nom367"]
[null,130987004501,"Cl. Phot'Azur Six Fours Plages","Prénom&Nom368"]
[null,130987004601,"Cl. Phot'Azur Six Fours Plages","Prénom&Nom369"]
[null,130987005301,"Cl. Phot'Azur Six Fours Plages","Prénom&Nom370"]
[null,130987005601,"Cl. Phot'Azur Six Fours Plages","Prénom&Nom371"]
[null,130987006601,"Cl. Phot'Azur Six Fours Plages","Prénom&Nom372"]
[null,130987007401,"Cl. Phot'Azur Six Fours Plages","Prénom&Nom373"]
[null,130987007801,"Cl. Phot'Azur Six Fours Plages","Prénom&Nom374"]
[null,130987008201,"Cl. Phot'Azur Six Fours Plages","Prénom&Nom375"]
[null,130987008301,"Cl. Phot'Azur Six Fours Plages","Prénom&Nom376"]
[null,130987008401,"Cl. Phot'Azur Six Fours Plages","Prénom&Nom377"]
[null,130987009001,"Cl. Phot'Azur Six Fours Plages","Prénom&Nom378"]
[null,130987009201,"Cl. Phot'Azur Six Fours Plages","Prénom&Nom379"]
[null,130987009401,"Cl. Phot'Azur Six Fours Plages","Prénom&Nom380"]
[null,130987009501,"Cl. Phot'Azur Six Fours Plages","Prénom&Nom381"]
[null,130987009801,"Cl. Phot'Azur Six Fours Plages","Prénom&Nom382"]
[null,130987009901,"Cl. Phot'Azur Six Fours Plages","Prénom&Nom383"]
[null,130987010101,"Cl. Phot'Azur Six Fours Plages","Prénom&Nom384"]
[null,130987010201,"Cl. Phot'Azur Six Fours Plages","Prénom&Nom385"]
[null,130987011101,"Cl. Phot'Azur Six Fours Plages","Prénom&Nom386"]
[null,130987011501,"Cl. Phot'Azur Six Fours Plages","Prénom&Nom387"]
[null,130987011601,"Cl. Phot'Azur Six Fours Plages","Prénom&Nom388"]
[null,130987011701,"Cl. Phot'Azur Six Fours Plages","Prénom&Nom389"]
[null,130987011901,"Cl. Phot'Azur Six Fours Plages","Prénom&Nom390"]
[null,130987012201,"Cl. Phot'Azur Six Fours Plages","Prénom&Nom391"]
[null,130987012301,"Cl. Phot'Azur Six Fours Plages","Prénom&Nom392"]
[null,130987012501,"Cl. Phot'Azur Six Fours Plages","Prénom&Nom393"]
[null,130987012601,"Cl. Phot'Azur Six Fours Plages","Prénom&Nom394"]
[null,130987012701,"Cl. Phot'Azur Six Fours Plages","Prénom&Nom395"]
[null,130987012801,"Cl. Phot'Azur Six Fours Plages","Prénom&Nom396"]
[null,130987012901,"Cl. Phot'Azur Six Fours Plages","Prénom&Nom397"]
[null,130987013001,"Cl. Phot'Azur Six Fours Plages","Prénom&Nom398"]
[null,130987013101,"Cl. Phot'Azur Six Fours Plages","Prénom&Nom399"]
[null,130987013201,"Cl. Phot'Azur Six Fours Plages","Prénom&Nom400"]
[null,130987013301,"Cl. Phot'Azur Six Fours Plages","Prénom&Nom401"]
[null,130987013401,"Cl. Phot'Azur Six Fours Plages","Prénom&Nom402"]
[null,130987013501,"Cl. Phot'Azur Six Fours Plages","Prénom&Nom403"]
[null,130987013601,"Cl. Phot'Azur Six Fours Plages","Prénom&Nom404"]
[null,130987013701,"Cl. Phot'Azur Six Fours Plages","Prénom&Nom405"]
[null,130987013801,"Cl. Phot'Azur Six Fours Plages","Prénom&Nom406"]
[null,130987013901,"Cl. Phot'Azur Six Fours Plages","Prénom&Nom407"]
[null,130987014001,"Cl. Phot'Azur Six Fours Plages","Prénom&Nom408"]
[null,130987014101,"Cl. Phot'Azur Six Fours Plages","Prénom&Nom409"]
[null,130987014201,"Cl. Phot'Azur Six Fours Plages","Prénom&Nom410"]
[null,130987014301,"Cl. Phot'Azur Six Fours Plages","Prénom&Nom411"]
[null,130987014401,"Cl. Phot'Azur Six Fours Plages","Prénom&Nom412"]
[null,130987014501,"Cl. Phot'Azur Six Fours Plages","Prénom&Nom413"]
[null,130987014601,"Cl. Phot'Azur Six Fours Plages","Prénom&Nom414"]
[null,130987014701,"Cl. Phot'Azur Six Fours Plages","Prénom&Nom415"]
[null,130987014801,"Cl. Phot'Azur Six Fours Plages","Prénom&Nom416"]
[null,130987014901,"Cl. Phot'Azur Six Fours Plages","Prénom&Nom417"]
[null,130987015001,"Cl. Phot'Azur Six Fours Plages","Prénom&Nom418"]
[null,130987015101,"Cl. Phot'Azur Six Fours Plages","Prénom&Nom419"]
[null,130987015201,"Cl. Phot'Azur Six Fours Plages","Prénom&Nom420"]
[null,130987015301,"Cl. Phot'Azur Six Fours Plages","Prénom&Nom421"]
[null,130987015401,"Cl. Phot'Azur Six Fours Plages","Prénom&Nom422"]
[null,130987015501,"Cl. Phot'Azur Six Fours Plages","Prénom&Nom423"]
[null,130987015601,"Cl. Phot'Azur Six Fours Plages","Prénom&Nom424"]
[null,130987015701,"Cl. Phot'Azur Six Fours Plages","Prénom&Nom425"]
[null,130987015801,"Cl. Phot'Azur Six Fours Plages","Prénom&Nom426"]
[null,130987015901,"Cl. Phot'Azur Six Fours Plages","Prénom&Nom427"]
[null,130987016001,"Cl. Phot'Azur Six Fours Plages","Prénom&Nom428"]
[null,130987016101,"Cl. Phot'Azur Six Fours Plages","Prénom&Nom429"]
[null,130987016201,"Cl. Phot'Azur Six Fours Plages","Prénom&Nom430"]
[null,130987016301,"Cl. Phot'Azur Six Fours Plages","Prénom&Nom431"]
[null,130987016401,"Cl. Phot'Azur Six Fours Plages","Prénom&Nom432"]
[null,130987016501,"Cl. Phot'Azur Six Fours Plages","Prénom&Nom433"]
[null,130987016601,"Cl. Phot'Azur Six Fours Plages","Prénom&Nom434"]
[null,130987016701,"Cl. Phot'Azur Six Fours Plages","Prénom&Nom435"]
[null,130987016801,"Cl. Phot'Azur Six Fours Plages","Prénom&Nom436"]
[null,130987016901,"Cl. Phot'Azur Six Fours Plages","Prénom&Nom437"]
[null,130987017001,"Cl. Phot'Azur Six Fours Plages","Prénom&Nom438"]
[null,130987017101,"Cl. Phot'Azur Six Fours Plages","Prénom&Nom439"]
[null,130987017201,"Cl. Phot'Azur Six Fours Plages","Prénom&Nom440"]
[null,130987017301,"Cl. Phot'Azur Six Fours Plages","Prénom&Nom441"]
[null,130987017401,"Cl. Phot'Azur Six Fours Plages","Prénom&Nom442"]
[null,130987017501,"Cl. Phot'Azur Six Fours Plages","Prénom&Nom443"]
[null,130987017601,"Cl. Phot'Azur Six Fours Plages","Prénom&Nom444"]
[null,130987017701,"Cl. Phot'Azur Six Fours Plages","Prénom&Nom445"]
[null,130987017801,"Cl. Phot'Azur Six Fours Plages","Prénom&Nom446"]
[null,130987017901,"Cl. Phot'Azur Six Fours Plages","Prénom&Nom447"]
[null,130987018001,"Cl. Phot'Azur Six Fours Plages","Prénom&Nom448"]
[null,130987018101,"Cl. Phot'Azur Six Fours Plages","Prénom&Nom449"]
[null,130987018201,"Cl. Phot'Azur Six Fours Plages","Prénom&Nom450"]
[null,130987018301,"Cl. Phot'Azur Six Fours Plages","Prénom&Nom451"]
[null,130987018401,"Cl. Phot'Azur Six Fours Plages","Prénom&Nom452"]
[null,130987018501,"Cl. Phot'Azur Six Fours Plages","Prénom&Nom453"]
[null,130987018601,"Cl. Phot'Azur Six Fours Plages","Prénom&Nom454"]
[null,130987018701,"Cl. Phot'Azur Six Fours Plages","Prénom&Nom455"]
[null,130987018801,"Cl. Phot'Azur Six Fours Plages","Prénom&Nom456"]
[null,130987018901,"Cl. Phot'Azur Six Fours Plages","Prénom&Nom457"]
[null,130987019001,"Cl. Phot'Azur Six Fours Plages","Prénom&Nom458"]
[null,130987019101,"Cl. Phot'Azur Six Fours Plages","Prénom&Nom459"]
[null,130987019201,"Cl. Phot'Azur Six Fours Plages","Prénom&Nom460"]
[null,130987019301,"Cl. Phot'Azur Six Fours Plages","Prénom&Nom461"]
[null,130987019401,"Cl. Phot'Azur Six Fours Plages","Prénom&Nom462"]
[null,130987019501,"Cl. Phot'Azur Six Fours Plages","Prénom&Nom463"]
[null,130987019601,"Cl. Phot'Azur Six Fours Plages","Prénom&Nom464"]
[null,130987019701,"Cl. Phot'Azur Six Fours Plages","Prénom&Nom465"]
[null,130987019801,"Cl. Phot'Azur Six Fours Plages","Prénom&Nom466"]
[null,130987019901,"Cl. Phot'Azur Six Fours Plages","Prénom&Nom467"]
[null,130987020001,"Cl. Phot'Azur Six Fours Plages","Prénom&Nom468"]
[null,130987020101,"Cl. Phot'Azur Six Fours Plages","Prénom&Nom469"]
[null,130987020201,"Cl. Phot'Azur Six Fours Plages","Prénom&Nom470"]
[null,130987020301,"Cl. Phot'Azur Six Fours Plages","Prénom&Nom471"]
[null,130987020401,"Cl. Phot'Azur Six Fours Plages","Prénom&Nom472"]
[null,130987020501,"Cl. Phot'Azur Six Fours Plages","Prénom&Nom473"]
[null,130987020601,"Cl. Phot'Azur Six Fours Plages","Prénom&Nom474"]
[null,130987020701,"Cl. Phot'Azur Six Fours Plages","Prénom&Nom475"]
[null,130987020801,"Cl. Phot'Azur Six Fours Plages","Prénom&Nom476"]
[null,130987020901,"Cl. Phot'Azur Six Fours Plages","Prénom&Nom477"]
[null,130987021001,"Cl. Phot'Azur Six Fours Plages","Prénom&Nom478"]
[null,130987021101,"Cl. Phot'Azur Six Fours Plages","Prénom&Nom479"]
[null,130987021201,"Cl. Phot'Azur Six Fours Plages","Prénom&Nom480"]
[null,130987021301,"Cl. Phot'Azur Six Fours Plages","Prénom&Nom481"]
[null,130987021401,"Cl. Phot'Azur Six Fours Plages","Prénom&Nom482"]
[null,130987021501,"Cl. Phot'Azur Six Fours Plages","Prénom&Nom483"]
[null,130987021601,"Cl. Phot'Azur Six Fours Plages","Prénom&Nom484"]
[null,130987021701,"Cl. Phot'Azur Six Fours Plages","Prénom&Nom485"]
[null,130987021801,"Cl. Phot'Azur Six Fours Plages","Prénom&Nom486"]
[null,130987021901,"Cl. Phot'Azur Six Fours Plages","Prénom&Nom487"]
[null,130987022001,"Cl. Phot'Azur Six Fours Plages","Prénom&Nom488"]
[null,130987022101,"Cl. Phot'Azur Six Fours Plages","Prénom&Nom489"]
[null,130987022201,"Cl. Phot'Azur Six Fours Plages","Prénom&Nom490"]
[null,130987022301,"Cl. Phot'Azur Six Fours Plages","Prénom&Nom491"]
[null,130987022401,"Cl. Phot'Azur Six Fours Plages","Prénom&Nom492"]
[null,130987022501,"Cl. Phot'Azur Six Fours Plages","Prénom&Nom493"]
[null,130987022601,"Cl. Phot'Azur Six Fours Plages","Prénom&Nom494"]
[null,130987022701,"Cl. Phot'Azur Six Fours Plages","Prénom&Nom495"]
[null,130987022801,"Cl. Phot'Azur Six Fours Plages","Prénom&Nom496"]
[null,130987022901,"Cl. Phot'Azur Six Fours Plages","Prénom&Nom497"]
[null,130987023001,"Cl. Phot'Azur Six Fours Plages","Prénom&Nom498"]
[null,130987023101,"Cl. Phot'Azur Six Fours Plages","Prénom&Nom499"]
[null,130987023201,"Cl. Phot'Azur Six Fours Plages","Prénom&Nom500"]
[null,130987023301,"Cl. Phot'Azur Six Fours Plages","Prénom&Nom501"]
[null,130987023401,"Cl. Phot'Azur Six Fours Plages","Prénom&Nom502"]
[null,130987024101,"Cl. Phot'Azur Six Fours Plages","Prénom&Nom503"]
[null,130987024201,"Cl, Phot'Azur  Six Fours les plages","Prénom&Nom504"]
[null,130987024401,"Cl. Phot'Azur Six Fours Plages","Prénom&Nom505"]
[null,130987900101,"Cl. Phot'Azur Six Fours Plages","Prénom&Nom506"]
[null,130993001001,"P.C. La Garde - Marseille","Prénom&Nom507"]
[null,130993006601,"P.C. La Garde - Marseille","Prénom&Nom508"]
[null,130993006801,"P.C. La Garde - Marseille","Prénom&Nom509"]
[null,130993007101,"P.C. La Garde - Marseille","Prénom&Nom510"]
[null,130993007201,"P.C. La Garde - Marseille","Prénom&Nom511"]
[null,130993007401,"P.C. La Garde - Marseille","Prénom&Nom512"]
[null,130993007501,"P.C. La Garde - Marseille","Prénom&Nom513"]
[null,130993007601,"P.C. La Garde - Marseille","Prénom&Nom514"]
[null,130993007701,"P.C. La Garde - Marseille","Prénom&Nom515"]
[null,130993007801,"P.C. La Garde - Marseille","Prénom&Nom516"]
[null,130993007901,"P.C. La Garde - Marseille","Prénom&Nom517"]
[null,130993008001,"P.C. La Garde - Marseille","Prénom&Nom518"]
[null,130993008101,"P.C. La Garde - Marseille","Prénom&Nom519"]
[null,130993008201,"P.C. La Garde - Marseille","Prénom&Nom520"]
[null,130993008401,"P.C. La Garde - Marseille","Prénom&Nom521"]
[null,130993008501,"P.C. La Garde - Marseille","Prénom&Nom522"]
[null,130993008601,"P.C. La Garde - Marseille","Prénom&Nom523"]
[null,130993008701,"P.C. La Garde - Marseille","Prénom&Nom524"]
[null,130993008801,"P.C. La Garde - Marseille","Prénom&Nom525"]
[null,130993008901,"P.C. La Garde - Marseille","Prénom&Nom526"]
[null,130993009001,"P.C. La Garde - Marseille","Prénom&Nom527"]
[null,130993009101,"P.C. La Garde - Marseille","Prénom&Nom528"]
[null,130993009201,"P.C. La Garde - Marseille","Prénom&Nom529"]
[null,130993009301,"P.C. La Garde - Marseille","Prénom&Nom530"]
[null,130993009401,"P.C. La Garde - Marseille","Prénom&Nom531"]
[null,130993009501,"P.C. La Garde - Marseille","Prénom&Nom532"]
[null,130993009601,"P.C. La Garde - Marseille","Prénom&Nom533"]
[null,130993009701,"P.C. La Garde - Marseille","Prénom&Nom534"]
[null,130993009801,"P.C. La Garde - Marseille","Prénom&Nom535"]
[null,130993009901,"P.C. La Garde - Marseille","Prénom&Nom536"]
[null,130993010001,"P.C. La Garde - Marseille","Prénom&Nom537"]
[null,130993010101,"P.C. La Garde - Marseille","Prénom&Nom538"]
[null,130993010201,"P.C. La Garde - Marseille","Prénom&Nom539"]
[null,130993010301,"P.C. La Garde - Marseille","Prénom&Nom540"]
[null,130993010401,"P.C. La Garde - Marseille","Prénom&Nom541"]
[null,130993010501,"P.C. La Garde - Marseille","Prénom&Nom542"]
[null,130993010601,"P.C. La Garde - Marseille","Prénom&Nom543"]
[null,130993010701,"P.C. La Garde - Marseille","Prénom&Nom544"]
[null,130993010801,"P.C. La Garde - Marseille","Prénom&Nom545"]
[null,130993010901,"P.C. La Garde - Marseille","Prénom&Nom546"]
[null,130993011001,"P.C. La Garde - Marseille","Prénom&Nom547"]
[null,130993011101,"P.C. La Garde - Marseille","Prénom&Nom548"]
[null,130993011201,"P.C. La Garde - Marseille","Prénom&Nom549"]
[null,130993011301,"P.C. La Garde - Marseille","Prénom&Nom550"]
[null,130993011401,"P.C. La Garde - Marseille","Prénom&Nom551"]
[null,130993011501,"P.C. La Garde - Marseille","Prénom&Nom552"]
[null,130993011601,"P.C. La Garde - Marseille","Prénom&Nom553"]
[null,130993011701,"P.C. La Garde - Marseille","Prénom&Nom554"]
[null,130993011801,"P.C. La Garde - Marseille","Prénom&Nom555"]
[null,130993011901,"P.C. La Garde - Marseille","Prénom&Nom556"]
[null,130993012001,"P.C. La Garde - Marseille","Prénom&Nom557"]
[null,130993012101,"P.C. La Garde - Marseille","Prénom&Nom558"]
[null,130993012201,"P.C. La Garde - Marseille","Prénom&Nom559"]
[null,130993012301,"P.C. La Garde - Marseille","Prénom&Nom560"]
[null,130993012401,"P.C. La Garde - Marseille","Prénom&Nom561"]
[null,130993012501,"P.C. La Garde - Marseille","Prénom&Nom562"]
[null,130993012601,"P.C. La Garde - Marseille","Prénom&Nom563"]
[null,130993012701,"P.C. La Garde - Marseille","Prénom&Nom564"]
[null,130993012801,"P.C. La Garde - Marseille","Prénom&Nom565"]
[null,130993012901,"P.C. La Garde - Marseille","Prénom&Nom566"]
[null,130993013001,"P.C. La Garde - Marseille","Prénom&Nom567"]
[null,130993013101,"P.C. La Garde - Marseille","Prénom&Nom568"]
[null,130993013201,"P.C. La Garde - Marseille","Prénom&Nom569"]
[null,130993013301,"P.C. La Garde - Marseille","Prénom&Nom570"]
[null,130993013401,"P.C. La Garde - Marseille","Prénom&Nom571"]
[null,130993013501,"P.C. La Garde - Marseille","Prénom&Nom572"]
[null,130993013601,"P.C. La Garde - Marseille","Prénom&Nom573"]
[null,130993013701,"P.C. La Garde - Marseille","Prénom&Nom574"]
[null,130993013801,"P.C. La Garde - Marseille","Prénom&Nom575"]
[null,130993013901,"P.C. La Garde - Marseille","Prénom&Nom576"]
[null,130993014001,"P.C. La Garde - Marseille","Prénom&Nom577"]
[null,130993014101,"P.C. La Garde - Marseille","Prénom&Nom578"]
[null,130993014201,"P.C. La Garde - Marseille","Prénom&Nom579"]
[null,130993014301,"P.C. La Garde - Marseille","Prénom&Nom580"]
[null,130993014401,"P.C. La Garde - Marseille","Prénom&Nom581"]
[null,130993014501,"P.C. La Garde - Marseille","Prénom&Nom582"]
[null,130993014601,"P.C. La Garde - Marseille","Prénom&Nom583"]
[null,130993014701,"P.C. La Garde - Marseille","Prénom&Nom584"]
[null,130993014801,"P.C. La Garde - Marseille","Prénom&Nom585"]
[null,130993014901,"P.C. La Garde - Marseille","Prénom&Nom586"]
[null,130993015001,"P.C. La Garde - Marseille","Prénom&Nom587"]
[null,130993015101,"P.C. La Garde - Marseille","Prénom&Nom588"]
[null,130993015201,"P.C. La Garde - Marseille","Prénom&Nom589"]
[null,130993900001,"P.C. La Garde - Marseille","Prénom&Nom590"]
[null,130993900101,"P.C. La Garde - Marseille","Prénom&Nom591"]
[null,130993900301,"P.C. La Garde - Marseille","Prénom&Nom592"]
[null,130993900401,"P.C. La Garde - Marseille","Prénom&Nom593"]
[null,130993900501,"P.C. La Garde - Marseille","Prénom&Nom594"]
[null,130993900601,"P.C. La Garde - Marseille","Prénom&Nom595"]
[null,130993900701,"P.C. La Garde - Marseille","Prénom&Nom596"]
[null,130993900801,"P.C. La Garde - Marseille","Prénom&Nom597"]
[null,130993900901,"P.C. La Garde - Marseille","Prénom&Nom598"]
[null,130993901001,"P.C. La Garde - Marseille","Prénom&Nom599"]
[null,130993901101,"P.C. La Garde - Marseille","Prénom&Nom600"]
[null,131063000101,"Ancien club de l'UR","Prénom&Nom601"]
[null,131063000101,"Ancien club de l'UR","Prénom&Nom602"]
[null,131104002001,"Photo-Club des Mées","Prénom&Nom603"]
[null,131110000701,"Ciné Photo Club de Peymeinade","Prénom&Nom604"]
[null,131110000801,"Ciné Photo Club de Peymeinade","Prénom&Nom605"]
[null,131110000901,"Ciné Photo Club de Peymeinade","Prénom&Nom606"]
[null,131110007201,"Ciné Photo Club de Peymeinade","Prénom&Nom607"]
[null,131227002101,"Photo Ciné Club Courthezonnais","Prénom&Nom608"]
[null,131227003201,"Photo Ciné Club Courthezonnais","Prénom&Nom609"]
[null,131227003301,"Photo Ciné Club Courthezonnais","Prénom&Nom610"]
[null,131227003401,"Photo Ciné Club Courthezonnais","Prénom&Nom611"]
[null,131227003601,"Photo Ciné Club Courthezonnais","Prénom&Nom612"]
[null,131227003701,"Photo Ciné Club Courthezonnais","Prénom&Nom613"]
[null,131227003801,"Photo Ciné Club Courthezonnais","Prénom&Nom614"]
[null,131227003901,"Photo Ciné Club Courthezonnais","Prénom&Nom615"]
[null,131227004001,"Photo Ciné Club Courthezonnais","Prénom&Nom616"]
[null,131227004101,"Photo Ciné Club Courthezonnais","Prénom&Nom617"]
[null,131227004201,"Photo Ciné Club Courthezonnais","Prénom&Nom618"]
[null,131227004301,"Photo Ciné Club Courthezonnais","Prénom&Nom619"]
[null,131227004401,"Photo Ciné Club Courthezonnais","Prénom&Nom620"]
[null,131227004501,"Photo Ciné Club Courthezonnais","Prénom&Nom621"]
[null,131227004601,"Photo Ciné Club Courthezonnais","Prénom&Nom622"]
[null,131227004701,"Photo Ciné Club Courthezonnais","Prénom&Nom623"]
[null,131227004801,"Photo Ciné Club Courthezonnais","Prénom&Nom624"]
[null,131227004901,"Photo Ciné Club Courthezonnais","Prénom&Nom625"]
[null,131227005001,"Photo Ciné Club Courthezonnais","Prénom&Nom626"]
[null,131227005101,"Photo Ciné Club Courthezonnais","Prénom&Nom627"]
[null,131227005201,"Photo Ciné Club Courthezonnais","Prénom&Nom628"]
[null,131227005301,"Photo Ciné Club Courthezonnais","Prénom&Nom629"]
[null,131227005401,"Photo Ciné Club Courthezonnais","Prénom&Nom630"]
[null,131227005501,"Photo Ciné Club Courthezonnais","Prénom&Nom631"]
[null,131227005601,"Photo Ciné Club Courthezonnais","Prénom&Nom632"]
[null,131227005701,"Photo Ciné Club Courthezonnais","Prénom&Nom633"]
[null,131227005801,"Photo Ciné Club Courthezonnais","Prénom&Nom634"]
[null,131227005901,"Photo Ciné Club Courthezonnais","Prénom&Nom635"]
[null,131227006001,"Photo Ciné Club Courthezonnais","Prénom&Nom636"]
[null,131227006101,"Photo Ciné Club Courthezonnais","Prénom&Nom637"]
[null,131227006201,"Photo Ciné Club Courthezonnais","Prénom&Nom638"]
[null,131227006301,"Photo Ciné Club Courthezonnais","Prénom&Nom639"]
[null,131227006401,"Photo Ciné Club Courthezonnais","Prénom&Nom640"]
[null,131227006501,"Photo Ciné Club Courthezonnais","Prénom&Nom641"]
[null,131227006601,"Photo Ciné Club Courthezonnais","Prénom&Nom642"]
[null,131227006701,"Photo Ciné Club Courthezonnais","Prénom&Nom643"]
[null,131227006801,"Photo Ciné Club Courthezonnais","Prénom&Nom644"]
[null,131227006901,"Photo Ciné Club Courthezonnais","Prénom&Nom645"]
[null,131227007001,"Photo Ciné Club Courthezonnais","Prénom&Nom646"]
[null,131227007101,"Photo Ciné Club Courthezonnais","Prénom&Nom647"]
[null,131227007201,"Photo Ciné Club Courthezonnais","Prénom&Nom648"]
[null,131227007301,"Photo Ciné Club Courthezonnais","Prénom&Nom649"]
[null,131227007401,"Photo Ciné Club Courthezonnais","Prénom&Nom650"]
[null,131227007501,"Photo Ciné Club Courthezonnais","Prénom&Nom651"]
[null,131227007601,"Photo Ciné Club Courthezonnais","Prénom&Nom652"]
[null,131227007701,"Photo Ciné Club Courthezonnais","Prénom&Nom653"]
[null,131227007801,"Photo Ciné Club Courthezonnais","Prénom&Nom654"]
[null,131227007901,"Photo Ciné Club Courthezonnais","Prénom&Nom655"]
[null,131227008601,"Photo Ciné Club Courthezonnais","Prénom&Nom656"]
[null,131353000101,"Photo Club de La Crau","Prénom&Nom657"]
[null,131353000201,"Photo Club de La Crau","Prénom&Nom658"]
[null,131353000701,"Photo Club de La Crau","Prénom&Nom659"]
[null,131353002601,"Photo Club de La Crau","Prénom&Nom660"]
[null,131353002901,"Photo Club de La Crau","Prénom&Nom661"]
[null,131353003001,"Photo Club de La Crau","Prénom&Nom662"]
[null,131353004001,"Photo Club de La Crau","Prénom&Nom663"]
[null,131353004101,"Photo Club de La Crau","Prénom&Nom664"]
[null,131353004201,"Photo Club de La Crau","Prénom&Nom665"]
[null,131353004301,"Photo Club de La Crau","Prénom&Nom666"]
[null,131353004401,"Photo Club de La Crau","Prénom&Nom667"]
[null,131353004701,"Photo Club de La Crau","Prénom&Nom668"]
[null,131353004901,"Photo Club de La Crau","Prénom&Nom669"]
[null,131353005001,"Photo Club de La Crau","Prénom&Nom670"]
[null,131353005101,"Photo Club de La Crau","Prénom&Nom671"]
[null,131353005201,"Photo Club de La Crau","Prénom&Nom672"]
[null,131353005301,"Photo Club de La Crau","Prénom&Nom673"]
[null,131353005401,"Photo Club de La Crau","Prénom&Nom674"]
[null,131353005501,"Photo Club de La Crau","Prénom&Nom675"]
[null,131353005601,"Photo Club de La Crau","Prénom&Nom676"]
[null,131353005701,"Photo Club de La Crau","Prénom&Nom677"]
[null,131353005801,"Photo Club de La Crau","Prénom&Nom678"]
[null,131353005901,"Photo Club de La Crau","Prénom&Nom679"]
[null,131353006001,"Photo Club de La Crau","Prénom&Nom680"]
[null,131353006101,"Photo Club de La Crau","Prénom&Nom681"]
[null,131353006201,"Photo Club de La Crau","Prénom&Nom682"]
[null,131353006301,"Photo Club de La Crau","Prénom&Nom683"]
[null,131353006401,"Photo Club de La Crau","Prénom&Nom684"]
[null,131353006501,"Photo Club de La Crau","Prénom&Nom685"]
[null,131353006601,"Photo Club de La Crau","Prénom&Nom686"]
[null,131353006701,"Photo Club de La Crau","Prénom&Nom687"]
[null,131353006801,"Photo Club de La Crau","Prénom&Nom688"]
[null,131353006901,"Photo Club de La Crau","Prénom&Nom689"]
[null,131376000101,"PHOCAL ","Prénom&Nom690"]
[null,131376000401,"PHOCAL ","Prénom&Nom691"]
[null,131376001101,"PHOCAL ","Prénom&Nom692"]
[null,131376003401,"PHOCAL ","Prénom&Nom693"]
[null,131376004401,"PHOCAL ","Prénom&Nom694"]
[null,131376008501,"PHOCAL ","Prénom&Nom695"]
[null,131376008701,"PHOCAL ","Prénom&Nom696"]
[null,131376008801,"PHOCAL ","Prénom&Nom697"]
[null,131376009201,"PHOCAL ","Prénom&Nom698"]
[null,131376009401,"PHOCAL ","Prénom&Nom699"]
[null,131376009701,"PHOCAL ","Prénom&Nom700"]
[null,131376009901,"PHOCAL ","Prénom&Nom701"]
[null,131376010601,"PHOCAL ","Prénom&Nom702"]
[null,131376010801,"PHOCAL ","Prénom&Nom703"]
[null,131376011001,"PHOCAL ","Prénom&Nom704"]
[null,131376011101,"PHOCAL ","Prénom&Nom705"]
[null,131376011401,"PHOCAL ","Prénom&Nom706"]
[null,131376011701,"PHOCAL ","Prénom&Nom707"]
[null,131376011801,"PHOCAL ","Prénom&Nom708"]
[null,131376012001,"PHOCAL ","Prénom&Nom709"]
[null,131376012401,"PHOCAL ","Prénom&Nom710"]
[null,131376012501,"PHOCAL ","Prénom&Nom711"]
[null,131376012601,"PHOCAL ","Prénom&Nom712"]
[null,131376013001,"PHOCAL ","Prénom&Nom713"]
[null,131376013301,"PHOCAL ","Prénom&Nom714"]
[null,131376013501,"PHOCAL ","Prénom&Nom715"]
[null,131376013601,"PHOCAL ","Prénom&Nom716"]
[null,131376013701,"PHOCAL ","Prénom&Nom717"]
[null,131376013801,"PHOCAL ","Prénom&Nom718"]
[null,131376014001,"PHOCAL ","Prénom&Nom719"]
[null,131376014201,"PHOCAL ","Prénom&Nom720"]
[null,131376014701,"PHOCAL ","Prénom&Nom721"]
[null,131376014801,"PHOCAL ","Prénom&Nom722"]
[null,131376014901,"PHOCAL ","Prénom&Nom723"]
[null,131376015001,"PHOCAL ","Prénom&Nom724"]
[null,131376015101,"PHOCAL ","Prénom&Nom725"]
[null,131376015201,"PHOCAL ","Prénom&Nom726"]
[null,131376015301,"PHOCAL ","Prénom&Nom727"]
[null,131376015401,"PHOCAL ","Prénom&Nom728"]
[null,131376015501,"PHOCAL ","Prénom&Nom729"]
[null,131376015601,"PHOCAL ","Prénom&Nom730"]
[null,131376015801,"PHOCAL ","Prénom&Nom731"]
[null,131376015901,"PHOCAL ","Prénom&Nom732"]
[null,131376016001,"PHOCAL ","Prénom&Nom733"]
[null,131376016101,"PHOCAL ","Prénom&Nom734"]
[null,131376016201,"PHOCAL ","Prénom&Nom735"]
[null,131376016301,"PHOCAL ","Prénom&Nom736"]
[null,131376016401,"PHOCAL ","Prénom&Nom737"]
[null,131376016501,"PHOCAL ","Prénom&Nom738"]
[null,131376016601,"PHOCAL ","Prénom&Nom739"]
[null,131376016701,"PHOCAL ","Prénom&Nom740"]
[null,131376016801,"PHOCAL ","Prénom&Nom741"]
[null,131376016901,"PHOCAL ","Prénom&Nom742"]
[null,131376017001,"PHOCAL ","Prénom&Nom743"]
[null,131376017101,"PHOCAL ","Prénom&Nom744"]
[null,131376017201,"PHOCAL ","Prénom&Nom745"]
[null,131376017301,"PHOCAL ","Prénom&Nom746"]
[null,131376017401,"PHOCAL ","Prénom&Nom747"]
[null,131376017501,"PHOCAL ","Prénom&Nom748"]
[null,131376017601,"PHOCAL ","Prénom&Nom749"]
[null,131376017701,"PHOCAL ","Prénom&Nom750"]
[null,131376017801,"PHOCAL ","Prénom&Nom751"]
[null,131376017901,"PHOCAL ","Prénom&Nom752"]
[null,131376018301,"PHOCAL ","Prénom&Nom753"]
[null,131376900101,"PHOCAL ","Prénom&Nom754"]
[null,131376900201,"PHOCAL ","Prénom&Nom755"]
[null,131376900301,"PHOCAL ","Prénom&Nom756"]
[null,131376900401,"PHOCAL ","Prénom&Nom757"]
[null,131426000101,"Diaphragme et Lumière Var - Ollioules","Prénom&Nom758"]
[null,131426002401,"Diaphragme et Lumière Var - Ollioules","Prénom&Nom759"]
[null,131426003001,"Diaphragme et Lumière Var - Ollioules","Prénom&Nom760"]
[null,131426003301,"Diaphragme et Lumière Var - Ollioules","Prénom&Nom761"]
[null,131426003701,"Diaphragme et Lumière Var - Ollioules","Prénom&Nom762"]
[null,131426003801,"Diaphragme et Lumière Var - Ollioules","Prénom&Nom763"]
[null,131426003901,"Diaphragme et Lumière Var - Ollioules","Prénom&Nom764"]
[null,131426004101,"Diaphragme et Lumière Var - Ollioules","Prénom&Nom765"]
[null,131426004201,"Diaphragme et Lumière Var - Ollioules","Prénom&Nom766"]
[null,131426004301,"Diaphragme et Lumière Var - Ollioules","Prénom&Nom767"]
[null,131426004401,"Diaphragme et Lumière Var - Ollioules","Prénom&Nom768"]
[null,131426004501,"Diaphragme et Lumière Var - Ollioules","Prénom&Nom769"]
[null,131426004601,"Diaphragme et Lumière Var - Ollioules","Prénom&Nom770"]
[null,131426004701,"Diaphragme et Lumière Var - Ollioules","Prénom&Nom771"]
[null,131426004801,"Diaphragme et Lumière Var - Ollioules","Prénom&Nom772"]
[null,131426004901,"Diaphragme et Lumière Var - Ollioules","Prénom&Nom773"]
[null,131426005001,"Diaphragme et Lumière Var - Ollioules","Prénom&Nom774"]
[null,131426005101,"Diaphragme et Lumière Var - Ollioules","Prénom&Nom775"]
[null,131426005201,"Diaphragme et Lumière Var - Ollioules","Prénom&Nom776"]
[null,131426005301,"Diaphragme et Lumière Var - Ollioules","Prénom&Nom777"]
[null,131426005401,"Diaphragme et Lumière Var - Ollioules","Prénom&Nom778"]
[null,131441000101,"Club Image Monaco","Prénom&Nom779"]
[null,131441000201,"Club Image Monaco","Prénom&Nom780"]
[null,131441000301,"Club Image Monaco","Prénom&Nom781"]
[null,131441000301,"Club Image Monaco","Prénom&Nom782"]
[null,131441000401,"Club Image Monaco","Prénom&Nom783"]
[null,131441000401,"Club Image Monaco","Prénom&Nom784"]
[null,131441000501,"Club Image Monaco","Prénom&Nom785"]
[null,131441000501,"Club Image Monaco","Prénom&Nom786"]
[null,131441000601,"Club Image Monaco","Prénom&Nom787"]
[null,131441000601,"Club Image Monaco","Prénom&Nom788"]
[null,131441000701,"Club Image Monaco","Prénom&Nom789"]
[null,131441000701,"Club Image Monaco","Prénom&Nom790"]
[null,131441000801,"Club Image Monaco","Prénom&Nom791"]
[null,131441000801,"Club Image Monaco","Prénom&Nom792"]
[null,131441000901,"Club Image Monaco","Prénom&Nom793"]
[null,131441000901,"Club Image Monaco","Prénom&Nom794"]
[null,131441001001,"Club Image Monaco","Prénom&Nom795"]
[null,131441001001,"Club Image Monaco","Prénom&Nom796"]
[null,131441001101,"Club Image Monaco","Prénom&Nom797"]
[null,131441001101,"Club Image Monaco","Prénom&Nom798"]
[null,131441001201,"Club Image Monaco","Prénom&Nom799"]
[null,131441001201,"Club Image Monaco","Prénom&Nom800"]
[null,131441001301,"Club Image Monaco","Prénom&Nom801"]
[null,131441001301,"Club Image Monaco","Prénom&Nom802"]
[null,131441001401,"Club Image Monaco","Prénom&Nom803"]
[null,131441001401,"Club Image Monaco","Prénom&Nom804"]
[null,131441001501,"Club Image Monaco","Prénom&Nom805"]
[null,131441001601,"Club Image Monaco","Prénom&Nom806"]
[null,131441001701,"Club Image Monaco","Prénom&Nom807"]
[null,131441001801,"Club Image Monaco","Prénom&Nom808"]
[null,131441001901,"Club Image Monaco","Prénom&Nom809"]
[null,131441002001,"Club Image Monaco","Prénom&Nom810"]
[null,131441002101,"Club Image Monaco","Prénom&Nom811"]
[null,131441002201,"Club Image Monaco","Prénom&Nom812"]
[null,131450000101,"Arc Images- Rousset","Prénom&Nom813"]
[null,131450000401,"Arc Images- Rousset","Prénom&Nom814"]
[null,131450004301,"Arc Images- Rousset","Prénom&Nom815"]
[null,131450005001,"Arc Images- Rousset","Prénom&Nom816"]
[null,131450005201,"Arc Images- Rousset","Prénom&Nom817"]
[null,131450005301,"Arc Images- Rousset","Prénom&Nom818"]
[null,131450005401,"Arc Images- Rousset","Prénom&Nom819"]
[null,131450005501,"Arc Images- Rousset","Prénom&Nom820"]
[null,131450005601,"Arc Images- Rousset","Prénom&Nom821"]
[null,131450005701,"Arc Images- Rousset","Prénom&Nom822"]
[null,131450005801,"Arc Images- Rousset","Prénom&Nom823"]
[null,131450005901,"Arc Images- Rousset","Prénom&Nom824"]
[null,131450006001,"Arc Images- Rousset","Prénom&Nom825"]
[null,131450006101,"Arc Images- Rousset","Prénom&Nom826"]
[null,131450006201,"Arc Images- Rousset","Prénom&Nom827"]
[null,131450006301,"Arc Images- Rousset","Prénom&Nom828"]
[null,131450006401,"Arc Images- Rousset","Prénom&Nom829"]
[null,131450006501,"Arc Images- Rousset","Prénom&Nom830"]
[null,131450006601,"Arc Images- Rousset","Prénom&Nom831"]
[null,131450006701,"Arc Images- Rousset","Prénom&Nom832"]
[null,131450006801,"Arc Images- Rousset","Prénom&Nom833"]
[null,131450006901,"Arc Images- Rousset","Prénom&Nom834"]
[null,131450007001,"Arc Images- Rousset","Prénom&Nom835"]
[null,131450007101,"Arc Images- Rousset","Prénom&Nom836"]
[null,131450007201,"Arc Images- Rousset","Prénom&Nom837"]
[null,131450007301,"Arc Images- Rousset","Prénom&Nom838"]
[null,131450007401,"Arc Images- Rousset","Prénom&Nom839"]
[null,131450007501,"Arc Images- Rousset","Prénom&Nom840"]
[null,131450007601,"Arc Images- Rousset","Prénom&Nom841"]
[null,131450007701,"Arc Images- Rousset","Prénom&Nom842"]
[null,131450007801,"Arc Images- Rousset","Prénom&Nom843"]
[null,131450007901,"Arc Images- Rousset","Prénom&Nom844"]
[null,131450008001,"Arc Images- Rousset","Prénom&Nom845"]
[null,131450008101,"Arc Images- Rousset","Prénom&Nom846"]
[null,131450008201,"Arc Images- Rousset","Prénom&Nom847"]
[null,131450008301,"Arc Images- Rousset","Prénom&Nom848"]
[null,131450008401,"Arc Images- Rousset","Prénom&Nom849"]
[null,131450008501,"Arc Images- Rousset","Prénom&Nom850"]
[null,131450008601,"Arc Images- Rousset","Prénom&Nom851"]
[null,131450008701,"Arc Images- Rousset","Prénom&Nom852"]
[null,131450008801,"Arc Images- Rousset","Prénom&Nom853"]
[null,131450008901,"Arc Images- Rousset","Prénom&Nom854"]
[null,131450009001,"Arc Images- Rousset","Prénom&Nom855"]
[null,131450009101,"Arc Images- Rousset","Prénom&Nom856"]
[null,131450009201,"Arc Images- Rousset","Prénom&Nom857"]
[null,131450009301,"Arc Images- Rousset","Prénom&Nom858"]
[null,131450009401,"Arc Images- Rousset","Prénom&Nom859"]
[null,131450009501,"Arc Images- Rousset","Prénom&Nom860"]
[null,131494000201,"Photo-Club du Brianconnais","Prénom&Nom861"]
[null,131494002101,"Photo-Club du Brianconnais","Prénom&Nom862"]
[null,131494002201,"Photo-Club du Brianconnais","Prénom&Nom863"]
[null,131494002301,"Photo-Club du Brianconnais","Prénom&Nom864"]
[null,131494002601,"Photo-Club du Brianconnais","Prénom&Nom865"]
[null,131494002901,"Photo-Club du Brianconnais","Prénom&Nom866"]
[null,131494003001,"Photo-Club du Brianconnais","Prénom&Nom867"]
[null,131494003101,"Photo-Club du Brianconnais","Prénom&Nom868"]
[null,131494003201,"Photo-Club du Brianconnais","Prénom&Nom869"]
[null,131494900101,"Photo-Club du Brianconnais","Prénom&Nom870"]
[null,131494900201,"Photo-Club du Brianconnais","Prénom&Nom871"]
[null,131494900301,"Photo-Club du Brianconnais","Prénom&Nom872"]
[null,131494900401,"Photo-Club du Brianconnais","Prénom&Nom873"]
[null,131494900501,"Photo-Club du Brianconnais","Prénom&Nom874"]
[null,131494900601,"Photo-Club du Brianconnais","Prénom&Nom875"]
[null,131494900701,"Photo-Club du Brianconnais","Prénom&Nom876"]
[null,131494900801,"Photo-Club du Brianconnais","Prénom&Nom877"]
[null,131494900901,"Photo-Club du Brianconnais","Prénom&Nom878"]
[null,131494901001,"Photo-Club du Brianconnais","Prénom&Nom879"]
[null,131499000101,"Images Expressions - Cagnes sur Mer","Prénom&Nom880"]
[null,131499000601,"Images Expressions - Cagnes sur Mer","Prénom&Nom881"]
[null,131499000701,"Images Expressions - Cagnes sur Mer","Prénom&Nom882"]
[null,131499001001,"Images Expressions - Cagnes sur Mer","Prénom&Nom883"]
[null,131499001201,"Images Expressions - Cagnes sur Mer","Prénom&Nom884"]
[null,131499001301,"Images Expressions - Cagnes sur Mer","Prénom&Nom885"]
[null,131499001401,"Images Expressions - Cagnes sur Mer","Prénom&Nom886"]
[null,131499001701,"Images Expressions - Cagnes sur Mer","Prénom&Nom887"]
[null,131499001801,"Images Expressions - Cagnes sur Mer","Prénom&Nom888"]
[null,131499001901,"Images Expressions - Cagnes sur Mer","Prénom&Nom889"]
[null,131499002001,"Images Expressions - Cagnes sur Mer","Prénom&Nom890"]
[null,131499002101,"Images Expressions - Cagnes sur Mer","Prénom&Nom891"]
[null,131499002201,"Images Expressions - Cagnes sur Mer","Prénom&Nom892"]
[null,131499002301,"Images Expressions - Cagnes sur Mer","Prénom&Nom893"]
[null,131499002401,"Images Expressions - Cagnes sur Mer","Prénom&Nom894"]
[null,131499002501,"Images Expressions - Cagnes sur Mer","Prénom&Nom895"]
[null,131499002601,"Images Expressions - Cagnes sur Mer","Prénom&Nom896"]
[null,131499002701,"Images Expressions - Cagnes sur Mer","Prénom&Nom897"]
[null,131499002801,"Images Expressions - Cagnes sur Mer","Prénom&Nom898"]
[null,131499002901,"Images Expressions - Cagnes sur Mer","Prénom&Nom899"]
[null,131499003001,"Images Expressions - Cagnes sur Mer","Prénom&Nom900"]
[null,131499003101,"Images Expressions - Cagnes sur Mer","Prénom&Nom901"]
[null,131499003201,"Images Expressions - Cagnes sur Mer","Prénom&Nom902"]
[null,131499003301,"Images Expressions - Cagnes sur Mer","Prénom&Nom903"]
[null,131499003401,"Images Expressions - Cagnes sur Mer","Prénom&Nom904"]
[null,131499003501,"Images Expressions - Cagnes sur Mer","Prénom&Nom905"]
[null,131499003601,"Images Expressions - Cagnes sur Mer","Prénom&Nom906"]
[null,131499003701,"Images Expressions - Cagnes sur Mer","Prénom&Nom907"]
[null,131499003801,"Images Expressions - Cagnes sur Mer","Prénom&Nom908"]
[null,131499003901,"Images Expressions - Cagnes sur Mer","Prénom&Nom909"]
[null,131499004001,"Images Expressions - Cagnes sur Mer","Prénom&Nom910"]
[null,131499004101,"Images Expressions - Cagnes sur Mer","Prénom&Nom911"]
[null,131499004201,"Images Expressions - Cagnes sur Mer","Prénom&Nom912"]
[null,131499004301,"Images Expressions - Cagnes sur Mer","Prénom&Nom913"]
[null,131499004401,"Images Expressions - Cagnes sur Mer","Prénom&Nom914"]
[null,131499004501,"Images Expressions - Cagnes sur Mer","Prénom&Nom915"]
[null,131499004601,"Images Expressions - Cagnes sur Mer","Prénom&Nom916"]
[null,131499004701,"Images Expressions - Cagnes sur Mer","Prénom&Nom917"]
[null,131499004801,"Images Expressions - Cagnes sur Mer","Prénom&Nom918"]
[null,131499004901,"Images Expressions - Cagnes sur Mer","Prénom&Nom919"]
[null,131499005001,"Images Expressions - Cagnes sur Mer","Prénom&Nom920"]
[null,131499005101,"Images Expressions - Cagnes sur Mer","Prénom&Nom921"]
[null,131499005201,"Images Expressions - Cagnes sur Mer","Prénom&Nom922"]
[null,131499005301,"Images Expressions - Cagnes sur Mer","Prénom&Nom923"]
[null,131499005401,"Images Expressions - Cagnes sur Mer","Prénom&Nom924"]
[null,131499005501,"Images Expressions - Cagnes sur Mer","Prénom&Nom925"]
[null,131499005601,"Images Expressions - Cagnes sur Mer","Prénom&Nom926"]
[null,131499005701,"Images Expressions - Cagnes sur Mer","Prénom&Nom927"]
[null,131499005801,"Images Expressions - Cagnes sur Mer","Prénom&Nom928"]
[null,131499005901,"Images Expressions - Cagnes sur Mer","Prénom&Nom929"]
[null,131499006001,"Images Expressions - Cagnes sur Mer","Prénom&Nom930"]
[null,131499006101,"Images Expressions - Cagnes sur Mer","Prénom&Nom931"]
[null,131499006201,"Images Expressions - Cagnes sur Mer","Prénom&Nom932"]
[null,131499006301,"Images Expressions - Cagnes sur Mer","Prénom&Nom933"]
[null,131499006401,"Images Expressions - Cagnes sur Mer","Prénom&Nom934"]
[null,131499006501,"Images Expressions - Cagnes sur Mer","Prénom&Nom935"]
[null,131499006601,"Images Expressions - Cagnes sur Mer","Prénom&Nom936"]
[null,131499006701,"Images Expressions - Cagnes sur Mer","Prénom&Nom937"]
[null,131499006801,"Images Expressions - Cagnes sur Mer","Prénom&Nom938"]
[null,131499006901,"Images Expressions - Cagnes sur Mer","Prénom&Nom939"]
[null,131499007001,"Images Expressions - Cagnes sur Mer","Prénom&Nom940"]
[null,131499007101,"Images Expressions - Cagnes sur Mer","Prénom&Nom941"]
[null,131499007201,"Images Expressions - Cagnes sur Mer","Prénom&Nom942"]
[null,131499007301,"Images Expressions - Cagnes sur Mer","Prénom&Nom943"]
[null,131499007401,"Images Expressions - Cagnes sur Mer","Prénom&Nom944"]
[null,131499007501,"Images Expressions - Cagnes sur Mer","Prénom&Nom945"]
[null,131499007601,"Images Expressions - Cagnes sur Mer","Prénom&Nom946"]
[null,131499007701,"Images Expressions - Cagnes sur Mer","Prénom&Nom947"]
[null,131499007801,"Images Expressions - Cagnes sur Mer","Prénom&Nom948"]
[null,131499007901,"Images Expressions - Cagnes sur Mer","Prénom&Nom949"]
[null,131499008001,"Images Expressions - Cagnes sur Mer","Prénom&Nom950"]
[null,131499008101,"Images Expressions - Cagnes sur Mer","Prénom&Nom951"]
[null,131499008201,"Images Expressions - Cagnes sur Mer","Prénom&Nom952"]
[null,131499008301,"Images Expressions - Cagnes sur Mer","Prénom&Nom953"]
[null,131499008901,"Images Expressions - Cagnes sur Mer","Prénom&Nom954"]
[null,131499009801,"Images Expressions - Cagnes sur Mer","Prénom&Nom955"]
[null,131499010301,"Images Expressions - Cagnes sur Mer","Prénom&Nom956"]
[null,131499011001,"Images Expressions - Cagnes sur Mer","Prénom&Nom957"]
[null,131601000101,"Club Pugetois de L'image","Prénom&Nom958"]
[null,131601000201,"Club Pugetois de L'image","Prénom&Nom959"]
[null,131601000501,"Club Pugetois de L'image","Prénom&Nom960"]
[null,131601000801,"Club Pugetois de L'image","Prénom&Nom961"]
[null,131601000901,"Club Pugetois de L'image","Prénom&Nom962"]
[null,131601001001,"Club Pugetois de L'image","Prénom&Nom963"]
[null,131601001101,"Club Pugetois de L'image","Prénom&Nom964"]
[null,131601001701,"Club Pugetois de L'image","Prénom&Nom965"]
[null,131601001901,"Club Pugetois de L'image","Prénom&Nom966"]
[null,131601002201,"Club Pugetois de L'image","Prénom&Nom967"]
[null,131601002301,"Club Pugetois de L'image","Prénom&Nom968"]
[null,131601002401,"Club Pugetois de L'image","Prénom&Nom969"]
[null,131601002601,"Club Pugetois de L'image","Prénom&Nom970"]
[null,131601002701,"Club Pugetois de L'image","Prénom&Nom971"]
[null,131601002801,"Club Pugetois de L'image","Prénom&Nom972"]
[null,131601002901,"Club Pugetois de L'image","Prénom&Nom973"]
[null,131601003001,"Club Pugetois de L'image","Prénom&Nom974"]
[null,131601003401,"Club Pugetois de L'image","Prénom&Nom975"]
[null,131601003501,"Club Pugetois de L'image","Prénom&Nom976"]
[null,131601003601,"Club Pugetois de L'image","Prénom&Nom977"]
[null,131601003701,"Club Pugetois de L'image","Prénom&Nom978"]
[null,131601003801,"Club Pugetois de L'image","Prénom&Nom979"]
[null,131601003901,"Club Pugetois de L'image","Prénom&Nom980"]
[null,131601004001,"Club Pugetois de L'image","Prénom&Nom981"]
[null,131601004101,"Club Pugetois de L'image","Prénom&Nom982"]
[null,131601004201,"Club Pugetois de L'image","Prénom&Nom983"]
[null,131601004301,"Club Pugetois de L'image","Prénom&Nom984"]
[null,131601004401,"Club Pugetois de L'image","Prénom&Nom985"]
[null,131601004501,"Club Pugetois de L'image","Prénom&Nom986"]
[null,131601004601,"Club Pugetois de L'image","Prénom&Nom987"]
[null,131601004701,"Club Pugetois de L'image","Prénom&Nom988"]
[null,131601004801,"Club Pugetois de L'image","Prénom&Nom989"]
[null,131601004901,"Club Pugetois de L'image","Prénom&Nom990"]
[null,131601900101,"Club Pugetois de L'image","Prénom&Nom991"]
[null,131601900201,"Club Pugetois de L'image","Prénom&Nom992"]
[null,131601900301,"Club Pugetois de L'image","Prénom&Nom993"]
[null,131601900401,"Club Pugetois de L'image","Prénom&Nom994"]
[null,131601900501,"Club Pugetois de L'image","Prénom&Nom995"]
[null,131601900601,"Club Pugetois de L'image","Prénom&Nom996"]
[null,131601900701,"Club Pugetois de L'image","Prénom&Nom997"]
[null,131601900801,"Club Pugetois de L'image","Prénom&Nom998"]
[null,131601900901,"Club Pugetois de L'image","Prénom&Nom999"]
[null,131601901001,"Club Pugetois de L'image","Prénom&Nom1000"]
[null,131601901101,"Club Pugetois de L'image","Prénom&Nom1001"]
[null,131601901201,"Club Pugetois de L'image","Prénom&Nom1002"]
[null,131601901301,"Club Pugetois de L'image","Prénom&Nom1003"]
[null,131601901401,"Club Pugetois de L'image","Prénom&Nom1004"]
[null,131601901501,"Club Pugetois de L'image","Prénom&Nom1005"]
[null,131619000101,"Optique Diaporama Marseille","Prénom&Nom1006"]
[null,131619000401,"Optique Diaporama Marseille","Prénom&Nom1007"]
[null,131619000901,"Optique Diaporama Marseille","Prénom&Nom1008"]
[null,131619001001,"Optique Diaporama Marseille","Prénom&Nom1009"]
[null,131619001601,"Optique Diaporama Marseille","Prénom&Nom1010"]
[null,131619001701,"Optique Diaporama Marseille","Prénom&Nom1011"]
[null,131619001801,"Optique Diaporama Marseille","Prénom&Nom1012"]
[null,131619001901,"Optique Diaporama Marseille","Prénom&Nom1013"]
[null,131619002501,"Optique Diaporama Marseille","Prénom&Nom1014"]
[null,131619002601,"Optique Diaporama Marseille","Prénom&Nom1015"]
[null,131619002701,"Optique Diaporama Marseille","Prénom&Nom1016"]
[null,131619002801,"Optique Diaporama Marseille","Prénom&Nom1017"]
[null,131619002901,"Optique Diaporama Marseille","Prénom&Nom1018"]
[null,131619003001,"Optique Diaporama Marseille","Prénom&Nom1019"]
[null,131619003101,"Optique Diaporama Marseille","Prénom&Nom1020"]
[null,131619003301,"Optique Diaporama Marseille","Prénom&Nom1021"]
[null,131619003401,"Optique Diaporama Marseille","Prénom&Nom1022"]
[null,131619003501,"Optique Diaporama Marseille","Prénom&Nom1023"]
[null,131619003601,"Optique Diaporama Marseille","Prénom&Nom1024"]
[null,131619003701,"Optique Diaporama Marseille","Prénom&Nom1025"]
[null,131619003801,"Optique Diaporama Marseille","Prénom&Nom1026"]
[null,131619003901,"Optique Diaporama Marseille","Prénom&Nom1027"]
[null,131619004001,"Optique Diaporama Marseille","Prénom&Nom1028"]
[null,131619004101,"Optique Diaporama Marseille","Prénom&Nom1029"]
[null,131619004201,"Optique Diaporama Marseille","Prénom&Nom1030"]
[null,131619004301,"Optique Diaporama Marseille","Prénom&Nom1031"]
[null,131619004401,"Optique Diaporama Marseille","Prénom&Nom1032"]
[null,131619004501,"Optique Diaporama Marseille","Prénom&Nom1033"]
[null,131619004601,"Optique Diaporama Marseille","Prénom&Nom1034"]
[null,131683000101,"Marius St Mitre Les Remparts","Prénom&Nom1035"]
[null,131683000201,"Marius St Mitre Les Remparts","Prénom&Nom1036"]
[null,131683000301,"Marius St Mitre Les Remparts","Prénom&Nom1037"]
[null,131683000401,"Marius St Mitre Les Remparts","Prénom&Nom1038"]
[null,131683000701,"Marius St Mitre Les Remparts","Prénom&Nom1039"]
[null,131683001001,"Marius St Mitre Les Remparts","Prénom&Nom1040"]
[null,131683001401,"Marius St Mitre Les Remparts","Prénom&Nom1041"]
[null,131683001601,"Marius St Mitre Les Remparts","Prénom&Nom1042"]
[null,131683001701,"Marius St Mitre Les Remparts","Prénom&Nom1043"]
[null,131683001801,"Marius St Mitre Les Remparts","Prénom&Nom1044"]
[null,131683001901,"Marius St Mitre Les Remparts","Prénom&Nom1045"]
[null,131683002001,"Marius St Mitre Les Remparts","Prénom&Nom1046"]
[null,131683002101,"Marius St Mitre Les Remparts","Prénom&Nom1047"]
[null,131683002201,"Marius St Mitre Les Remparts","Prénom&Nom1048"]
[null,131683002501,"Marius St Mitre Les Remparts","Prénom&Nom1049"]
[null,131683002601,"Marius St Mitre Les Remparts","Prénom&Nom1050"]
[null,131683002701,"Marius St Mitre Les Remparts","Prénom&Nom1051"]
[null,131683002801,"Marius St Mitre Les Remparts","Prénom&Nom1052"]
[null,131683003001,"Marius St Mitre Les Remparts","Prénom&Nom1053"]
[null,131683003101,"Marius St Mitre Les Remparts","Prénom&Nom1054"]
[null,131683003201,"Marius St Mitre Les Remparts","Prénom&Nom1055"]
[null,131683003301,"Marius St Mitre Les Remparts","Prénom&Nom1056"]
[null,131683003401,"Marius St Mitre Les Remparts","Prénom&Nom1057"]
[null,131683003501,"Marius St Mitre Les Remparts","Prénom&Nom1058"]
[null,131683003601,"Marius St Mitre Les Remparts","Prénom&Nom1059"]
[null,131683003701,"Marius St Mitre Les Remparts","Prénom&Nom1060"]
[null,131683003801,"Marius St Mitre Les Remparts","Prénom&Nom1061"]
[null,131683003901,"Marius St Mitre Les Remparts","Prénom&Nom1062"]
[null,131683004001,"Marius St Mitre Les Remparts","Prénom&Nom1063"]
[null,131683004101,"Marius St Mitre Les Remparts","Prénom&Nom1064"]
[null,131683004201,"Marius St Mitre Les Remparts","Prénom&Nom1065"]
[null,131683004301,"Marius St Mitre Les Remparts","Prénom&Nom1066"]
[null,131683004401,"Marius St Mitre Les Remparts","Prénom&Nom1067"]
[null,131683004501,"Marius St Mitre Les Remparts","Prénom&Nom1068"]
[null,131683004601,"Marius St Mitre Les Remparts","Prénom&Nom1069"]
[null,131683004701,"Marius St Mitre Les Remparts","Prénom&Nom1070"]
[null,131683004801,"Marius St Mitre Les Remparts","Prénom&Nom1071"]
[null,131683004901,"Marius St Mitre Les Remparts","Prénom&Nom1072"]
[null,131683005001,"Marius St Mitre Les Remparts","Prénom&Nom1073"]
[null,131683005101,"Marius St Mitre Les Remparts","Prénom&Nom1074"]
[null,131683005201,"Marius St Mitre Les Remparts","Prénom&Nom1075"]
[null,131683005301,"Marius St Mitre Les Remparts","Prénom&Nom1076"]
[null,131683005401,"Marius St Mitre Les Remparts","Prénom&Nom1077"]
[null,131683005501,"Marius St Mitre Les Remparts","Prénom&Nom1078"]
[null,131683005601,"Marius St Mitre Les Remparts","Prénom&Nom1079"]
[null,131683005701,"Marius St Mitre Les Remparts","Prénom&Nom1080"]
[null,131683005801,"Marius St Mitre Les Remparts","Prénom&Nom1081"]
[null,131683005901,"Marius St Mitre Les Remparts","Prénom&Nom1082"]
[null,131683006001,"Marius St Mitre Les Remparts","Prénom&Nom1083"]
[null,131683006101,"Marius St Mitre Les Remparts","Prénom&Nom1084"]
[null,131683006201,"Marius St Mitre Les Remparts","Prénom&Nom1085"]
[null,131683006301,"Marius St Mitre Les Remparts","Prénom&Nom1086"]
[null,131683006401,"Marius St Mitre Les Remparts","Prénom&Nom1087"]
[null,131683006501,"Marius St Mitre Les Remparts","Prénom&Nom1088"]
[null,131683006601,"Marius St Mitre Les Remparts","Prénom&Nom1089"]
[null,131683006701,"Marius St Mitre Les Remparts","Prénom&Nom1090"]
[null,131683006801,"Marius St Mitre Les Remparts","Prénom&Nom1091"]
[null,131683006901,"Marius St Mitre Les Remparts","Prénom&Nom1092"]
[null,131683007901,"Marius St Mitre Les Remparts","Prénom&Nom1093"]
[null,131683008001,"Marius St Mitre Les Remparts","Prénom&Nom1094"]
[null,131683008101,"Marius St Mitre Les Remparts","Prénom&Nom1095"]
[null,131683008201,"Marius St Mitre Les Remparts","Prénom&Nom1096"]
[null,131683900101,"Marius St Mitre Les Remparts","Prénom&Nom1097"]
[null,131683900201,"Marius St Mitre Les Remparts","Prénom&Nom1098"]
[null,131777000101,"Club photo Ciné Vidéo Plan de la Tour","Prénom&Nom1099"]
[null,131777000601,"Club photo Ciné Vidéo Plan de la Tour","Prénom&Nom1100"]
[null,131777000701,"Club photo Ciné Vidéo Plan de la Tour","Prénom&Nom1101"]
[null,131777000801,"Club photo Ciné Vidéo Plan de la Tour","Prénom&Nom1102"]
[null,131777000901,"Club photo Ciné Vidéo Plan de la Tour","Prénom&Nom1103"]
[null,131777001001,"Club photo Ciné Vidéo Plan de la Tour","Prénom&Nom1104"]
[null,131777001101,"Club photo Ciné Vidéo Plan de la Tour","Prénom&Nom1105"]
[null,131777001201,"Club photo Ciné Vidéo Plan de la Tour","Prénom&Nom1106"]
[null,131777001301,"Club photo Ciné Vidéo Plan de la Tour","Prénom&Nom1107"]
[null,131777001401,"Club photo Ciné Vidéo Plan de la Tour","Prénom&Nom1108"]
[null,131777001501,"Club photo Ciné Vidéo Plan de la Tour","Prénom&Nom1109"]
[null,131777001601,"Club photo Ciné Vidéo Plan de la Tour","Prénom&Nom1110"]
[null,131777001701,"Club photo Ciné Vidéo Plan de la Tour","Prénom&Nom1111"]
[null,131777001801,"Club photo Ciné Vidéo Plan de la Tour","Prénom&Nom1112"]
[null,131777001901,"Club photo Ciné Vidéo Plan de la Tour","Prénom&Nom1113"]
[null,131777002001,"Club photo Ciné Vidéo Plan de la Tour","Prénom&Nom1114"]
[null,131777002101,"Club photo Ciné Vidéo Plan de la Tour","Prénom&Nom1115"]
[null,131777002201,"Club photo Ciné Vidéo Plan de la Tour","Prénom&Nom1116"]
[null,131778002001,"Ancien club de l'UR","Prénom&Nom1117"]
[null,131778002101,"Ancien club de l'UR","Prénom&Nom1118"]
[null,131796000101,"Ciné Caméra Club de Cannes","Prénom&Nom1119"]
[null,131796000201,"Ciné Caméra Club de Cannes","Prénom&Nom1120"]
[null,131796000301,"Ciné Caméra Club de Cannes","Prénom&Nom1121"]
[null,131796000401,"Ciné Caméra Club de Cannes","Prénom&Nom1122"]
[null,131796000501,"Ciné Caméra Club de Cannes","Prénom&Nom1123"]
[null,131796000601,"Ciné Caméra Club de Cannes","Prénom&Nom1124"]
[null,131796000701,"Ciné Caméra Club de Cannes","Prénom&Nom1125"]
[null,131796000801,"Ciné Caméra Club de Cannes","Prénom&Nom1126"]
[null,131796000901,"Ciné Caméra Club de Cannes","Prénom&Nom1127"]
[null,131796001001,"Ciné Caméra Club de Cannes","Prénom&Nom1128"]
[null,131796900101,"Ciné Caméra Club de Cannes","Prénom&Nom1129"]
[null,131823000101,"Photo Club Mouansois","Prénom&Nom1130"]
[null,131823000201,"Photo Club Mouansois","Prénom&Nom1131"]
[null,131823000301,"Photo Club Mouansois","Prénom&Nom1132"]
[null,131823000401,"Photo Club Mouansois","Prénom&Nom1133"]
[null,131823000501,"Photo Club Mouansois","Prénom&Nom1134"]
[null,131823000601,"Photo Club Mouansois","Prénom&Nom1135"]
[null,131823000701,"Photo Club Mouansois","Prénom&Nom1136"]
[null,131823000801,"Photo Club Mouansois","Prénom&Nom1137"]
[null,131823000901,"Photo Club Mouansois","Prénom&Nom1138"]
[null,131823001001,"Photo Club Mouansois","Prénom&Nom1139"]
[null,131823001101,"Photo Club Mouansois","Prénom&Nom1140"]
[null,131823001201,"Photo Club Mouansois","Prénom&Nom1141"]
[null,131823001301,"Photo Club Mouansois","Prénom&Nom1142"]
[null,131823001401,"Photo Club Mouansois","Prénom&Nom1143"]
[null,131823001501,"Photo Club Mouansois","Prénom&Nom1144"]
[null,131823001601,"Photo Club Mouansois","Prénom&Nom1145"]
[null,131823001701,"Photo Club Mouansois","Prénom&Nom1146"]
[null,131823001801,"Photo Club Mouansois","Prénom&Nom1147"]
[null,131823001901,"Photo Club Mouansois","Prénom&Nom1148"]
[null,131823002001,"Photo Club Mouansois","Prénom&Nom1149"]
[null,131823002101,"Photo Club Mouansois","Prénom&Nom1150"]
[null,131823002201,"Photo Club Mouansois","Prénom&Nom1151"]
[null,131823002301,"Photo Club Mouansois","Prénom&Nom1152"]
[null,131823002401,"Photo Club Mouansois","Prénom&Nom1153"]
[null,131823002501,"Photo Club Mouansois","Prénom&Nom1154"]
[null,131823002601,"Photo Club Mouansois","Prénom&Nom1155"]
[null,131823002701,"Photo Club Mouansois","Prénom&Nom1156"]
[null,131823002801,"Photo Club Mouansois","Prénom&Nom1157"]
[null,131823002901,"Photo Club Mouansois","Prénom&Nom1158"]
[null,131823003001,"Photo Club Mouansois","Prénom&Nom1159"]
[null,131823003101,"Photo Club Mouansois","Prénom&Nom1160"]
[null,131823003201,"Photo Club Mouansois","Prénom&Nom1161"]
[null,131823003301,"Photo Club Mouansois","Prénom&Nom1162"]
[null,131823003401,"Photo Club Mouansois","Prénom&Nom1163"]
[null,131823003501,"Photo Club Mouansois","Prénom&Nom1164"]
[null,131823003601,"Photo Club Mouansois","Prénom&Nom1165"]
[null,131823003701,"Photo Club Mouansois","Prénom&Nom1166"]
[null,131823003801,"Photo Club Mouansois","Prénom&Nom1167"]
[null,131823003901,"Photo Club Mouansois","Prénom&Nom1168"]
[null,131823004001,"Photo Club Mouansois","Prénom&Nom1169"]
[null,131823004101,"Photo Club Mouansois","Prénom&Nom1170"]
[null,131823004201,"Photo Club Mouansois","Prénom&Nom1171"]
[null,131823004301,"Photo Club Mouansois","Prénom&Nom1172"]
[null,131823004401,"Photo Club Mouansois","Prénom&Nom1173"]
[null,131823004501,"Photo Club Mouansois","Prénom&Nom1174"]
[null,131823004601,"Photo Club Mouansois","Prénom&Nom1175"]
[null,131823004701,"Photo Club Mouansois","Prénom&Nom1176"]
[null,131823004801,"Photo Club Mouansois","Prénom&Nom1177"]
[null,131823004901,"Photo Club Mouansois","Prénom&Nom1178"]
[null,131823005001,"Photo Club Mouansois","Prénom&Nom1179"]
[null,131823005101,"Photo Club Mouansois","Prénom&Nom1180"]
[null,131823005201,"Photo Club Mouansois","Prénom&Nom1181"]
[null,131823005301,"Photo Club Mouansois","Prénom&Nom1182"]
[null,131823005401,"Photo Club Mouansois","Prénom&Nom1183"]
[null,131823005501,"Photo Club Mouansois","Prénom&Nom1184"]
[null,131823005601,"Photo Club Mouansois","Prénom&Nom1185"]
[null,131823005701,"Photo Club Mouansois","Prénom&Nom1186"]
[null,131823005801,"Photo Club Mouansois","Prénom&Nom1187"]
[null,131823005901,"Photo Club Mouansois","Prénom&Nom1188"]
[null,131823006001,"Photo Club Mouansois","Prénom&Nom1189"]
[null,131823006101,"Photo Club Mouansois","Prénom&Nom1190"]
[null,131823006201,"Photo Club Mouansois","Prénom&Nom1191"]
[null,131823006301,"Photo Club Mouansois","Prénom&Nom1192"]
[null,131823006401,"Photo Club Mouansois","Prénom&Nom1193"]
[null,131823006501,"Photo Club Mouansois","Prénom&Nom1194"]
[null,131823006601,"Photo Club Mouansois","Prénom&Nom1195"]
[null,131823006701,"Photo Club Mouansois","Prénom&Nom1196"]
[null,131823006801,"Photo Club Mouansois","Prénom&Nom1197"]
[null,131823006901,"Photo Club Mouansois","Prénom&Nom1198"]
[null,131823007001,"Photo Club Mouansois","Prénom&Nom1199"]
[null,131823007101,"Photo Club Mouansois","Prénom&Nom1200"]
[null,131823007701,"Photo Club Mouansois","Prénom&Nom1201"]
[null,131823008301,"Photo Club Mouansois","Prénom&Nom1202"]
[null,131823900101,"Photo Club Mouansois","Prénom&Nom1203"]
[null,131824000201,"Photo Club IBM La Gaude","Prénom&Nom1204"]
[null,131824000301,"Photo Club IBM La Gaude","Prénom&Nom1205"]
[null,131824000401,"Photo Club IBM La Gaude","Prénom&Nom1206"]
[null,131824000501,"Photo Club IBM La Gaude","Prénom&Nom1207"]
[null,131824000601,"Photo Club IBM La Gaude","Prénom&Nom1208"]
[null,131824000701,"Photo Club IBM La Gaude","Prénom&Nom1209"]
[null,131824000801,"Photo Club IBM La Gaude","Prénom&Nom1210"]
[null,131824000901,"Photo Club IBM La Gaude","Prénom&Nom1211"]
[null,131824001001,"Photo Club IBM La Gaude","Prénom&Nom1212"]
[null,131824001101,"Photo Club IBM La Gaude","Prénom&Nom1213"]
[null,131824001201,"Photo Club IBM La Gaude","Prénom&Nom1214"]
[null,131824001301,"Photo Club IBM La Gaude","Prénom&Nom1215"]
[null,131824001401,"Photo Club IBM La Gaude","Prénom&Nom1216"]
[null,131824001901,"Photo Club IBM La Gaude","Prénom&Nom1217"]
[null,131824002701,"Photo Club IBM La Gaude","Prénom&Nom1218"]
[null,131844000101,"Ancien club de l'UR","Prénom&Nom1219"]
[null,131844000201,"Ancien club de l'UR","Prénom&Nom1220"]
[null,131844000301,"Ancien club de l'UR","Prénom&Nom1221"]
[null,131844000401,"Ancien club de l'UR","Prénom&Nom1222"]
[null,131844000501,"Ancien club de l'UR","Prénom&Nom1223"]
[null,131844000601,"Ancien club de l'UR","Prénom&Nom1224"]
[null,131845000101,"Photo Club Carqueirannais","Prénom&Nom1225"]
[null,131845000201,"Photo Club Carqueirannais","Prénom&Nom1226"]
[null,131845000301,"Photo Club Carqueirannais","Prénom&Nom1227"]
[null,131845000401,"Photo Club Carqueirannais","Prénom&Nom1228"]
[null,131845000501,"Photo Club Carqueirannais","Prénom&Nom1229"]
[null,131845000601,"Photo Club Carqueirannais","Prénom&Nom1230"]
[null,131845000701,"Photo Club Carqueirannais","Prénom&Nom1231"]
[null,131845000801,"Photo Club Carqueirannais","Prénom&Nom1232"]
[null,131845000901,"Photo Club Carqueirannais","Prénom&Nom1233"]
[null,131845001001,"Photo Club Carqueirannais","Prénom&Nom1234"]
[null,131845001101,"Photo Club Carqueirannais","Prénom&Nom1235"]
[null,131845001201,"Photo Club Carqueirannais","Prénom&Nom1236"]
[null,131845001301,"Photo Club Carqueirannais","Prénom&Nom1237"]
[null,131845001401,"Photo Club Carqueirannais","Prénom&Nom1238"]
[null,131845001501,"Photo Club Carqueirannais","Prénom&Nom1239"]
[null,131845001601,"Photo Club Carqueirannais","Prénom&Nom1240"]
[null,131845001701,"Photo Club Carqueirannais","Prénom&Nom1241"]
[null,131845001801,"Photo Club Carqueirannais","Prénom&Nom1242"]
[null,131845001901,"Photo Club Carqueirannais","Prénom&Nom1243"]
[null,131845002001,"Photo Club Carqueirannais","Prénom&Nom1244"]
[null,131845002101,"Photo Club Carqueirannais","Prénom&Nom1245"]
[null,131845002201,"Photo Club Carqueirannais","Prénom&Nom1246"]
[null,131845002301,"Photo Club Carqueirannais","Prénom&Nom1247"]
[null,131845002401,"Photo Club Carqueirannais","Prénom&Nom1248"]
[null,131845002501,"Photo Club Carqueirannais","Prénom&Nom1249"]
[null,131845002601,"Photo Club Carqueirannais","Prénom&Nom1250"]
[null,131845002701,"Photo Club Carqueirannais","Prénom&Nom1251"]
[null,131845002801,"Photo Club Carqueirannais","Prénom&Nom1252"]
[null,131845002901,"Photo Club Carqueirannais","Prénom&Nom1253"]
[null,131845003001,"Photo Club Carqueirannais","Prénom&Nom1254"]
[null,131845003101,"Photo Club Carqueirannais","Prénom&Nom1255"]
[null,131845003201,"Photo Club Carqueirannais","Prénom&Nom1256"]
[null,131845003301,"Photo Club Carqueirannais","Prénom&Nom1257"]
[null,131845003401,"Photo Club Carqueirannais","Prénom&Nom1258"]
[null,131845003501,"Photo Club Carqueirannais","Prénom&Nom1259"]
[null,131845003601,"Photo Club Carqueirannais","Prénom&Nom1260"]
[null,131845900001,"Photo Club Carqueirannais","Prénom&Nom1261"]
[null,131845900101,"Photo Club Carqueirannais","Prénom&Nom1262"]
[null,131845900201,"Photo Club Carqueirannais","Prénom&Nom1263"]
[null,131845900301,"Photo Club Carqueirannais","Prénom&Nom1264"]
[null,131845900401,"Photo Club Carqueirannais","Prénom&Nom1265"]
[null,131845900501,"Photo Club Carqueirannais","Prénom&Nom1266"]
[null,131845900601,"Photo Club Carqueirannais","Prénom&Nom1267"]
[null,131845900701,"Photo Club Carqueirannais","Prénom&Nom1268"]
[null,131854000101,"Ateliers Créapassion Barbentane","Prénom&Nom1269"]
[null,131854000201,"Ateliers Créapassion Barbentane","Prénom&Nom1270"]
[null,131854000301,"Ateliers Créapassion Barbentane","Prénom&Nom1271"]
[null,131854000401,"Ateliers Créapassion Barbentane","Prénom&Nom1272"]
[null,131854000501,"Ateliers Créapassion Barbentane","Prénom&Nom1273"]
[null,131854000601,"Ateliers Créapassion Barbentane","Prénom&Nom1274"]
[null,131854000701,"Ateliers Créapassion Barbentane","Prénom&Nom1275"]
[null,131854000801,"Ateliers Créapassion Barbentane","Prénom&Nom1276"]
[null,131854000901,"Ateliers Créapassion Barbentane","Prénom&Nom1277"]
[null,131854001001,"Ateliers Créapassion Barbentane","Prénom&Nom1278"]
[null,131854001101,"Ateliers Créapassion Barbentane","Prénom&Nom1279"]
[null,131854001201,"Ateliers Créapassion Barbentane","Prénom&Nom1280"]
[null,131854001301,"Ateliers Créapassion Barbentane","Prénom&Nom1281"]
[null,131854001401,"Ateliers Créapassion Barbentane","Prénom&Nom1282"]
[null,131854001501,"Ateliers Créapassion Barbentane","Prénom&Nom1283"]
[null,131854001601,"Ateliers Créapassion Barbentane","Prénom&Nom1284"]
[null,131854001701,"Ateliers Créapassion Barbentane","Prénom&Nom1285"]
[null,131854001801,"Ateliers Créapassion Barbentane","Prénom&Nom1286"]
[null,131854001901,"Ateliers Créapassion Barbentane","Prénom&Nom1287"]
[null,131854002001,"Ateliers Créapassion Barbentane","Prénom&Nom1288"]
[null,131854002101,"Ateliers Créapassion Barbentane","Prénom&Nom1289"]
[null,131854002201,"Ateliers Créapassion Barbentane","Prénom&Nom1290"]
[null,131854002301,"Ateliers Créapassion Barbentane","Prénom&Nom1291"]
[null,131854002401,"Ateliers Créapassion Barbentane","Prénom&Nom1292"]
[null,131854002501,"Ateliers Créapassion Barbentane","Prénom&Nom1293"]
[null,131854002601,"Ateliers Créapassion Barbentane","Prénom&Nom1294"]
[null,131854002701,"Ateliers Créapassion Barbentane","Prénom&Nom1295"]
[null,131854002801,"Ateliers Créapassion Barbentane","Prénom&Nom1296"]
[null,131854002901,"Ateliers Créapassion Barbentane","Prénom&Nom1297"]
[null,131854003001,"Ateliers Créapassion Barbentane","Prénom&Nom1298"]
[null,131854003101,"Ateliers Créapassion Barbentane","Prénom&Nom1299"]
[null,131854003201,"Ateliers Créapassion Barbentane","Prénom&Nom1300"]
[null,131854003301,"Ateliers Créapassion Barbentane","Prénom&Nom1301"]
[null,131854003401,"Ateliers Créapassion Barbentane","Prénom&Nom1302"]
[null,131854003501,"Ateliers Créapassion Barbentane","Prénom&Nom1303"]
[null,131854003601,"Ateliers Créapassion Barbentane","Prénom&Nom1304"]
[null,131854003701,"Ateliers Créapassion Barbentane","Prénom&Nom1305"]
[null,131854003801,"Ateliers Créapassion Barbentane","Prénom&Nom1306"]
[null,131854003901,"Ateliers Créapassion Barbentane","Prénom&Nom1307"]
[null,131854004001,"Ateliers Créapassion Barbentane","Prénom&Nom1308"]
[null,131854004101,"Ateliers Créapassion Barbentane","Prénom&Nom1309"]
[null,131854004201,"Ateliers Créapassion Barbentane","Prénom&Nom1310"]
[null,131854004301,"Ateliers Créapassion Barbentane","Prénom&Nom1311"]
[null,131854004401,"Ateliers Créapassion Barbentane","Prénom&Nom1312"]
[null,131854004501,"Ateliers Créapassion Barbentane","Prénom&Nom1313"]
[null,131854004601,"Ateliers Créapassion Barbentane","Prénom&Nom1314"]
[null,131854004701,"Ateliers Créapassion Barbentane","Prénom&Nom1315"]
[null,131854004801,"Ateliers Créapassion Barbentane","Prénom&Nom1316"]
[null,131854004901,"Ateliers Créapassion Barbentane","Prénom&Nom1317"]
[null,131854005001,"Ateliers Créapassion Barbentane","Prénom&Nom1318"]
[null,131854005101,"Ateliers Créapassion Barbentane","Prénom&Nom1319"]
[null,131854005201,"Ateliers Créapassion Barbentane","Prénom&Nom1320"]
[null,131854005301,"Ateliers Créapassion Barbentane","Prénom&Nom1321"]
[null,131854005401,"Ateliers Créapassion Barbentane","Prénom&Nom1322"]
[null,131854005501,"Ateliers Créapassion Barbentane","Prénom&Nom1323"]
[null,131854005601,"Ateliers Créapassion Barbentane","Prénom&Nom1324"]
[null,131854005701,"Ateliers Créapassion Barbentane","Prénom&Nom1325"]
[null,131854005801,"Ateliers Créapassion Barbentane","Prénom&Nom1326"]
[null,131854005901,"Ateliers Créapassion Barbentane","Prénom&Nom1327"]
[null,131854006001,"Ateliers Créapassion Barbentane","Prénom&Nom1328"]
[null,131854006101,"Ateliers Créapassion Barbentane","Prénom&Nom1329"]
[null,131854006201,"Ateliers Créapassion Barbentane","Prénom&Nom1330"]
[null,131854006301,"Ateliers Créapassion Barbentane","Prénom&Nom1331"]
[null,131854006401,"Ateliers Créapassion Barbentane","Prénom&Nom1332"]
[null,131854006501,"Ateliers Créapassion Barbentane","Prénom&Nom1333"]
[null,131854006601,"Ateliers Créapassion Barbentane","Prénom&Nom1334"]
[null,131854006701,"Ateliers Créapassion Barbentane","Prénom&Nom1335"]
[null,131854006801,"Ateliers Créapassion Barbentane","Prénom&Nom1336"]
[null,131854900101,"Ateliers Créapassion Barbentane","Prénom&Nom1337"]
[null,131854900201,"Ateliers Créapassion Barbentane","Prénom&Nom1338"]
[null,131862000101,"Déclic et des Claps - Roquefort les Pins","Prénom&Nom1339"]
[null,131862000201,"Déclic et des Claps - Roquefort les Pins","Prénom&Nom1340"]
[null,131862000301,"Déclic et des Claps - Roquefort les Pins","Prénom&Nom1341"]
[null,131862000401,"Déclic et des Claps - Roquefort les Pins","Prénom&Nom1342"]
[null,131862000501,"Déclic et des Claps - Roquefort les Pins","Prénom&Nom1343"]
[null,131862000601,"Déclic et des Claps - Roquefort les Pins","Prénom&Nom1344"]
[null,131862000701,"Déclic et des Claps - Roquefort les Pins","Prénom&Nom1345"]
[null,131862000801,"Déclic et des Claps - Roquefort les Pins","Prénom&Nom1346"]
[null,131862000901,"Déclic et des Claps - Roquefort les Pins","Prénom&Nom1347"]
[null,131862001001,"Déclic et des Claps - Roquefort les Pins","Prénom&Nom1348"]
[null,131862001101,"Déclic et des Claps - Roquefort les Pins","Prénom&Nom1349"]
[null,131862001201,"Déclic et des Claps - Roquefort les Pins","Prénom&Nom1350"]
[null,131862001301,"Déclic et des Claps - Roquefort les Pins","Prénom&Nom1351"]
[null,131862001401,"Déclic et des Claps - Roquefort les Pins","Prénom&Nom1352"]
[null,131862001501,"Déclic et des Claps - Roquefort les Pins","Prénom&Nom1353"]
[null,131862001601,"Déclic et des Claps - Roquefort les Pins","Prénom&Nom1354"]
[null,131862001701,"Déclic et des Claps - Roquefort les Pins","Prénom&Nom1355"]
[null,131862001801,"Déclic et des Claps - Roquefort les Pins","Prénom&Nom1356"]
[null,131862001901,"Déclic et des Claps - Roquefort les Pins","Prénom&Nom1357"]
[null,131862002001,"Déclic et des Claps - Roquefort les Pins","Prénom&Nom1358"]
[null,131862002101,"Déclic et des Claps - Roquefort les Pins","Prénom&Nom1359"]
[null,131862002201,"Déclic et des Claps - Roquefort les Pins","Prénom&Nom1360"]
[null,131862002301,"Déclic et des Claps - Roquefort les Pins","Prénom&Nom1361"]
[null,131862002401,"Déclic et des Claps - Roquefort les Pins","Prénom&Nom1362"]
[null,131862002501,"Déclic et des Claps - Roquefort les Pins","Prénom&Nom1363"]
[null,131862002601,"Déclic et des Claps - Roquefort les Pins","Prénom&Nom1364"]
[null,131862002701,"Déclic et des Claps - Roquefort les Pins","Prénom&Nom1365"]
[null,131862002801,"Déclic et des Claps - Roquefort les Pins","Prénom&Nom1366"]
[null,131862002901,"Déclic et des Claps - Roquefort les Pins","Prénom&Nom1367"]
[null,131862003001,"Déclic et des Claps - Roquefort les Pins","Prénom&Nom1368"]
[null,131862003101,"Déclic et des Claps - Roquefort les Pins","Prénom&Nom1369"]
[null,131862003201,"Déclic et des Claps - Roquefort les Pins","Prénom&Nom1370"]
[null,131862003301,"Déclic et des Claps - Roquefort les Pins","Prénom&Nom1371"]
[null,131862003401,"Déclic et des Claps - Roquefort les Pins","Prénom&Nom1372"]
[null,131862003501,"Déclic et des Claps - Roquefort les Pins","Prénom&Nom1373"]
[null,131862003601,"Déclic et des Claps - Roquefort les Pins","Prénom&Nom1374"]
[null,131862003701,"Déclic et des Claps - Roquefort les Pins","Prénom&Nom1375"]
[null,131862003801,"Déclic et des Claps - Roquefort les Pins","Prénom&Nom1376"]
[null,131862003901,"Déclic et des Claps - Roquefort les Pins","Prénom&Nom1377"]
[null,131862004001,"Déclic et des Claps - Roquefort les Pins","Prénom&Nom1378"]
[null,131862004101,"Déclic et des Claps - Roquefort les Pins","Prénom&Nom1379"]
[null,131862004201,"Déclic et des Claps - Roquefort les Pins","Prénom&Nom1380"]
[null,131862004301,"Déclic et des Claps - Roquefort les Pins","Prénom&Nom1381"]
[null,131862004401,"Déclic et des Claps - Roquefort les Pins","Prénom&Nom1382"]
[null,131862004501,"Déclic et des Claps - Roquefort les Pins","Prénom&Nom1383"]
[null,131862004601,"Déclic et des Claps - Roquefort les Pins","Prénom&Nom1384"]
[null,131862004701,"Déclic et des Claps - Roquefort les Pins","Prénom&Nom1385"]
[null,131862004801,"Déclic et des Claps - Roquefort les Pins","Prénom&Nom1386"]
[null,131862004901,"Déclic et des Claps - Roquefort les Pins","Prénom&Nom1387"]
[null,131862005001,"Déclic et des Claps - Roquefort les Pins","Prénom&Nom1388"]
[null,131862005101,"Déclic et des Claps - Roquefort les Pins","Prénom&Nom1389"]
[null,131862005201,"Déclic et des Claps - Roquefort les Pins","Prénom&Nom1390"]
[null,131862005801,"Déclic et des Claps - Roquefort les Pins","Prénom&Nom1391"]
[null,131862900001,"Déclic et des Claps - Roquefort les Pins","Prénom&Nom1392"]
[null,131862900101,"Déclic et des Claps - Roquefort les Pins","Prénom&Nom1393"]
[null,131862900201,"Déclic et des Claps - Roquefort les Pins","Prénom&Nom1394"]
[null,131862900301,"Déclic et des Claps - Roquefort les Pins","Prénom&Nom1395"]
[null,131862900401,"Déclic et des Claps - Roquefort les Pins","Prénom&Nom1396"]
[null,131862900501,"Déclic et des Claps - Roquefort les Pins","Prénom&Nom1397"]
[null,131867000101,"PhotoMenton","Prénom&Nom1398"]
[null,131867000201,"PhotoMenton","Prénom&Nom1399"]
[null,131867000301,"PhotoMenton","Prénom&Nom1400"]
[null,131867000401,"PhotoMenton","Prénom&Nom1401"]
[null,131867000501,"PhotoMenton","Prénom&Nom1402"]
[null,131867000601,"PhotoMenton","Prénom&Nom1403"]
[null,131867000701,"PhotoMenton","Prénom&Nom1404"]
[null,131867000801,"PhotoMenton","Prénom&Nom1405"]
[null,131867000901,"PhotoMenton","Prénom&Nom1406"]
[null,131867001001,"PhotoMenton","Prénom&Nom1407"]
[null,131867001101,"PhotoMenton","Prénom&Nom1408"]
[null,131867001201,"PhotoMenton","Prénom&Nom1409"]
[null,131867001301,"PhotoMenton","Prénom&Nom1410"]
[null,131867001401,"PhotoMenton","Prénom&Nom1411"]
[null,131879000101,"Association Sportive Berroise","Prénom&Nom1412"]
[null,131879000201,"Association Sportive Berroise","Prénom&Nom1413"]
[null,131879000301,"Association Sportive Berroise","Prénom&Nom1414"]
[null,131879000401,"Association Sportive Berroise","Prénom&Nom1415"]
[null,131879000501,"Association Sportive Berroise","Prénom&Nom1416"]
[null,131879000601,"Association Sportive Berroise","Prénom&Nom1417"]
[null,131879000701,"Association Sportive Berroise","Prénom&Nom1418"]
[null,131879000801,"Association Sportive Berroise","Prénom&Nom1419"]
[null,131879000901,"Association Sportive Berroise","Prénom&Nom1420"]
[null,131879001001,"Association Sportive Berroise","Prénom&Nom1421"]
[null,131879001101,"Association Sportive Berroise","Prénom&Nom1422"]
[null,131879001201,"Association Sportive Berroise","Prénom&Nom1423"]
[null,131879001301,"Association Sportive Berroise","Prénom&Nom1424"]
[null,131879001401,"Association Sportive Berroise","Prénom&Nom1425"]
[null,131879002001,"Association Sportive Berroise","Prénom&Nom1426"]
[null,131879900001,"Association Sportive Berroise","Prénom&Nom1427"]
[null,131879900101,"Association Sportive Berroise","Prénom&Nom1428"]
[null,131879900201,"Association Sportive Berroise","Prénom&Nom1429"]
[null,131879900301,"Association Sportive Berroise","Prénom&Nom1430"]
[null,131879900401,"Association Sportive Berroise","Prénom&Nom1431"]
[null,131899000101,"Club de l'Image ","Prénom&Nom1432"]
[null,131899000201,"Club de l'Image ","Prénom&Nom1433"]
[null,131899000301,"Club de l'Image ","Prénom&Nom1434"]
[null,131899000401,"Club de l'Image ","Prénom&Nom1435"]
[null,131899000501,"Club de l'Image ","Prénom&Nom1436"]
[null,131899000601,"Club de l'Image ","Prénom&Nom1437"]
[null,131899000701,"Club de l'Image ","Prénom&Nom1438"]
[null,131899000801,"Club de l'Image ","Prénom&Nom1439"]
[null,131899000901,"Club de l'Image ","Prénom&Nom1440"]
[null,131899001001,"Club de l'Image ","Prénom&Nom1441"]
[null,131899001101,"Club de l'Image ","Prénom&Nom1442"]
[null,131899001201,"Club de l'Image ","Prénom&Nom1443"]
[null,131899001301,"Club de l'Image ","Prénom&Nom1444"]
[null,131899001401,"Club de l'Image ","Prénom&Nom1445"]
[null,131899001501,"Club de l'Image ","Prénom&Nom1446"]
[null,131899001601,"Club de l'Image ","Prénom&Nom1447"]
[null,131899001701,"Club de l'Image ","Prénom&Nom1448"]
[null,131899001801,"Club de l'Image ","Prénom&Nom1449"]
[null,131899001901,"Club de l'Image ","Prénom&Nom1450"]
[null,131899002001,"Club de l'Image ","Prénom&Nom1451"]
[null,131899002101,"Club de l'Image ","Prénom&Nom1452"]
[null,131899002201,"Club de l'Image ","Prénom&Nom1453"]
[null,131899002301,"Club de l'Image ","Prénom&Nom1454"]
[null,131899002401,"Club de l'Image ","Prénom&Nom1455"]
[null,131899002501,"Club de l'Image ","Prénom&Nom1456"]
[null,131899002601,"Club de l'Image ","Prénom&Nom1457"]
[null,131899002701,"Club de l'Image ","Prénom&Nom1458"]
[null,131899002801,"Club de l'Image ","Prénom&Nom1459"]
[null,131904000101,{"$error":"#N/A"},"Prénom&Nom1460"]
[null,131913000101,"Ancien club de l'UR","Prénom&Nom1461"]
[null,131913000201,"Ancien club de l'UR","Prénom&Nom1462"]
[null,131913000301,"Ancien club de l'UR","Prénom&Nom1463"]
[null,131913000401,"Ancien club de l'UR","Prénom&Nom1464"]
[null,131913000501,"Ancien club de l'UR","Prénom&Nom1465"]
[null,131913000601,"Ancien club de l'UR","Prénom&Nom1466"]
[null,131913000701,"Ancien club de l'UR","Prénom&Nom1467"]
[null,131913000801,"Ancien club de l'UR","Prénom&Nom1468"]
[null,131913001001,"Ancien club de l'UR","Prénom&Nom1469"]
[null,131913001101,"Ancien club de l'UR","Prénom&Nom1470"]
[null,131913001201,"Ancien club de l'UR","Prénom&Nom1471"]
[null,131913001301,"Ancien club de l'UR","Prénom&Nom1472"]
[null,131913001401,"Ancien club de l'UR","Prénom&Nom1473"]
[null,131913900101,"Ancien club de l'UR","Prénom&Nom1474"]
[null,131913900201,"Ancien club de l'UR","Prénom&Nom1475"]
[null,131913900301,"Ancien club de l'UR","Prénom&Nom1476"]
[null,131913900401,"Ancien club de l'UR","Prénom&Nom1477"]
[null,131913900501,"Ancien club de l'UR","Prénom&Nom1478"]
[null,131956000101,"Photo Contact Puyricard","Prénom&Nom1479"]
[null,131956000201,"Photo Contact Puyricard","Prénom&Nom1480"]
[null,131956000301,"Photo Contact Puyricard","Prénom&Nom1481"]
[null,131956000401,"Photo Contact Puyricard","Prénom&Nom1482"]
[null,131956000501,"Photo Contact Puyricard","Prénom&Nom1483"]
[null,131956000601,"Photo Contact Puyricard","Prénom&Nom1484"]
[null,131956000701,"Photo Contact Puyricard","Prénom&Nom1485"]
[null,131956000801,"Photo Contact Puyricard","Prénom&Nom1486"]
[null,131956000901,"Photo Contact Puyricard","Prénom&Nom1487"]
[null,131956001001,"Photo Contact Puyricard","Prénom&Nom1488"]
[null,131956001101,"Photo Contact Puyricard","Prénom&Nom1489"]
[null,131956001201,"Photo Contact Puyricard","Prénom&Nom1490"]
[null,131956001301,"Photo Contact Puyricard","Prénom&Nom1491"]
[null,131956001401,"Photo Contact Puyricard","Prénom&Nom1492"]
[null,131956001501,"Photo Contact Puyricard","Prénom&Nom1493"]
[null,131956001601,"Photo Contact Puyricard","Prénom&Nom1494"]
[null,131956001701,"Photo Contact Puyricard","Prénom&Nom1495"]
[null,131956001801,"Photo Contact Puyricard","Prénom&Nom1496"]
[null,131956001901,"Photo Contact Puyricard","Prénom&Nom1497"]
[null,131956002001,"Photo Contact Puyricard","Prénom&Nom1498"]
[null,131956002101,"Photo Contact Puyricard","Prénom&Nom1499"]
[null,131956002201,"Photo Contact Puyricard","Prénom&Nom1500"]
[null,131956002301,"Photo Contact Puyricard","Prénom&Nom1501"]
[null,131956002401,"Photo Contact Puyricard","Prénom&Nom1502"]
[null,131956002501,"Photo Contact Puyricard","Prénom&Nom1503"]
[null,131956002601,"Photo Contact Puyricard","Prénom&Nom1504"]
[null,131956002701,"Photo Contact Puyricard","Prénom&Nom1505"]
[null,131956002801,"Photo Contact Puyricard","Prénom&Nom1506"]
[null,131956002901,"Photo Contact Puyricard","Prénom&Nom1507"]
[null,131956003001,"Photo Contact Puyricard","Prénom&Nom1508"]
[null,131956003101,"Photo Contact Puyricard","Prénom&Nom1509"]
[null,131956003201,"Photo Contact Puyricard","Prénom&Nom1510"]
[null,131956003301,"Photo Contact Puyricard","Prénom&Nom1511"]
[null,131956003401,"Photo Contact Puyricard","Prénom&Nom1512"]
[null,131956003501,"Photo Contact Puyricard","Prénom&Nom1513"]
[null,131956003601,"Photo Contact Puyricard","Prénom&Nom1514"]
[null,131956003701,"Photo Contact Puyricard","Prénom&Nom1515"]
[null,131956003801,"Photo Contact Puyricard","Prénom&Nom1516"]
[null,131956003901,"Photo Contact Puyricard","Prénom&Nom1517"]
[null,131956004001,"Photo Contact Puyricard","Prénom&Nom1518"]
[null,131956004101,"Photo Contact Puyricard","Prénom&Nom1519"]
[null,131956004201,"Photo Contact Puyricard","Prénom&Nom1520"]
[null,131956004501,"Photo Contact Puyricard","Prénom&Nom1521"]
[null,131956004601,"Photo Contact Puyricard","Prénom&Nom1522"]
[null,131956006001,"Photo Contact Puyricard","Prénom&Nom1523"]
[null,131956900201,"Photo Contact Puyricard","Prénom&Nom1524"]
[null,131956900301,"Photo Contact Puyricard","Prénom&Nom1525"]
[null,131957000101,"Ancien club de l'UR","Prénom&Nom1526"]
[null,131957000201,"Ancien club de l'UR","Prénom&Nom1527"]
[null,131957000301,"Ancien club de l'UR","Prénom&Nom1528"]
[null,131957000401,"Ancien club de l'UR","Prénom&Nom1529"]
[null,131957000501,"Ancien club de l'UR","Prénom&Nom1530"]
[null,131957000601,"Ancien club de l'UR","Prénom&Nom1531"]
[null,131957000701,"Ancien club de l'UR","Prénom&Nom1532"]
[null,131957000801,"Ancien club de l'UR","Prénom&Nom1533"]
[null,131957000901,"Ancien club de l'UR","Prénom&Nom1534"]
[null,131957001001,"Ancien club de l'UR","Prénom&Nom1535"]
[null,131969000101,"Mission Photo - Cannes la Bocca","Prénom&Nom1536"]
[null,131969000201,"Mission Photo - Cannes la Bocca","Prénom&Nom1537"]
[null,131969000301,"Mission Photo - Cannes la Bocca","Prénom&Nom1538"]
[null,131969000401,"Mission Photo - Cannes la Bocca","Prénom&Nom1539"]
[null,131969000501,"Mission Photo - Cannes la Bocca","Prénom&Nom1540"]
[null,131969000601,"Mission Photo - Cannes la Bocca","Prénom&Nom1541"]
[null,131969000701,"Mission Photo - Cannes la Bocca","Prénom&Nom1542"]
[null,131969000801,"Mission Photo - Cannes la Bocca","Prénom&Nom1543"]
[null,131969000901,"Mission Photo - Cannes la Bocca","Prénom&Nom1544"]
[null,131969001001,"Mission Photo - Cannes la Bocca","Prénom&Nom1545"]
[null,131969001101,"Mission Photo - Cannes la Bocca","Prénom&Nom1546"]
[null,131969001201,"Mission Photo - Cannes la Bocca","Prénom&Nom1547"]
[null,131969001301,"Mission Photo - Cannes la Bocca","Prénom&Nom1548"]
[null,131969001401,"Mission Photo - Cannes la Bocca","Prénom&Nom1549"]
[null,131969001501,"Mission Photo - Cannes la Bocca","Prénom&Nom1550"]
[null,131969001601,"Mission Photo - Cannes la Bocca","Prénom&Nom1551"]
[null,131969001701,"Mission Photo - Cannes la Bocca","Prénom&Nom1552"]
[null,131969001801,"Mission Photo - Cannes la Bocca","Prénom&Nom1553"]
[null,131969001901,"Mission Photo - Cannes la Bocca","Prénom&Nom1554"]
[null,131969002001,"Mission Photo - Cannes la Bocca","Prénom&Nom1555"]
[null,131969002101,"Mission Photo - Cannes la Bocca","Prénom&Nom1556"]
[null,131969002201,"Mission Photo - Cannes la Bocca","Prénom&Nom1557"]
[null,131969002301,"Mission Photo - Cannes la Bocca","Prénom&Nom1558"]
[null,131969002401,"Mission Photo - Cannes la Bocca","Prénom&Nom1559"]
[null,131969002501,"Mission Photo - Cannes la Bocca","Prénom&Nom1560"]
[null,131969002601,"Mission Photo - Cannes la Bocca","Prénom&Nom1561"]
[null,131969002701,"Mission Photo - Cannes la Bocca","Prénom&Nom1562"]
[null,131969002801,"Mission Photo - Cannes la Bocca","Prénom&Nom1563"]
[null,131969002901,"Mission Photo - Cannes la Bocca","Prénom&Nom1564"]
[null,131969003001,"Mission Photo - Cannes la Bocca","Prénom&Nom1565"]
[null,131969003101,"Mission Photo - Cannes la Bocca","Prénom&Nom1566"]
[null,131969003201,"Mission Photo - Cannes la Bocca","Prénom&Nom1567"]
[null,131969003301,"Mission Photo - Cannes la Bocca","Prénom&Nom1568"]
[null,131969003401,"Mission Photo - Cannes la Bocca","Prénom&Nom1569"]
[null,131969900101,"Mission Photo - Cannes la Bocca","Prénom&Nom1570"]
[null,131969900201,"Mission Photo - Cannes la Bocca","Prénom&Nom1571"]
[null,131969900301,"Mission Photo - Cannes la Bocca","Prénom&Nom1572"]
[null,131985000101,"Rognonas Image Regard Espace","Prénom&Nom1573"]
[null,131985000201,"Rognonas Image Regard Espace","Prénom&Nom1574"]
[null,131985000301,"Rognonas Image Regard Espace","Prénom&Nom1575"]
[null,131985000401,"Rognonas Image Regard Espace","Prénom&Nom1576"]
[null,131985000501,"Rognonas Image Regard Espace","Prénom&Nom1577"]
[null,131985000601,"Rognonas Image Regard Espace","Prénom&Nom1578"]
[null,131985000701,"Rognonas Image Regard Espace","Prénom&Nom1579"]
[null,131985000801,"Rognonas Image Regard Espace","Prénom&Nom1580"]
[null,131985000901,"Rognonas Image Regard Espace","Prénom&Nom1581"]
[null,131985001001,"Rognonas Image Regard Espace","Prénom&Nom1582"]
[null,131985001101,"Rognonas Image Regard Espace","Prénom&Nom1583"]
[null,131985001201,"Rognonas Image Regard Espace","Prénom&Nom1584"]
[null,131985001301,"Rognonas Image Regard Espace","Prénom&Nom1585"]
[null,131985001401,"Rognonas Image Regard Espace","Prénom&Nom1586"]
[null,131985001501,"Rognonas Image Regard Espace","Prénom&Nom1587"]
[null,131985001601,"Rognonas Image Regard Espace","Prénom&Nom1588"]
[null,131985001701,"Rognonas Image Regard Espace","Prénom&Nom1589"]
[null,131985001801,"Rognonas Image Regard Espace","Prénom&Nom1590"]
[null,131985001901,"Rognonas Image Regard Espace","Prénom&Nom1591"]
[null,131985002001,"Rognonas Image Regard Espace","Prénom&Nom1592"]
[null,131985002101,"Rognonas Image Regard Espace","Prénom&Nom1593"]
[null,131985002201,"Rognonas Image Regard Espace","Prénom&Nom1594"]
[null,131985002301,"Rognonas Image Regard Espace","Prénom&Nom1595"]
[null,131985002401,"Rognonas Image Regard Espace","Prénom&Nom1596"]
[null,131985002501,"Rognonas Image Regard Espace","Prénom&Nom1597"]
[null,131985002601,"Rognonas Image Regard Espace","Prénom&Nom1598"]
[null,131985002701,"Rognonas Image Regard Espace","Prénom&Nom1599"]
[null,131985002801,"Rognonas Image Regard Espace","Prénom&Nom1600"]
[null,131985002901,"Rognonas Image Regard Espace","Prénom&Nom1601"]
[null,131985003001,"Rognonas Image Regard Espace","Prénom&Nom1602"]
[null,131985003101,"Rognonas Image Regard Espace","Prénom&Nom1603"]
[null,131985003201,"Rognonas Image Regard Espace","Prénom&Nom1604"]
[null,131985003301,"Rognonas Image Regard Espace","Prénom&Nom1605"]
[null,131985003401,"Rognonas Image Regard Espace","Prénom&Nom1606"]
[null,131989000101,"Club Photo UAICF de Gap","Prénom&Nom1607"]
[null,131989000201,"Club Photo UAICF de Gap","Prénom&Nom1608"]
[null,131989000301,"Club Photo UAICF de Gap","Prénom&Nom1609"]
[null,131989000401,"Club Photo UAICF de Gap","Prénom&Nom1610"]
[null,131989000501,"Club Photo UAICF de Gap","Prénom&Nom1611"]
[null,131989000601,"Club Photo UAICF de Gap","Prénom&Nom1612"]
[null,131989000701,"Club Photo UAICF de Gap","Prénom&Nom1613"]
[null,131992000101,"Photo Club Velauxien - Clin d'Œil","Prénom&Nom1614"]
[null,131992000201,"Photo Club Velauxien - Clin d'Œil","Prénom&Nom1615"]
[null,131992000301,"Photo Club Velauxien - Clin d'Œil","Prénom&Nom1616"]
[null,131992000401,"Photo Club Velauxien - Clin d'Œil","Prénom&Nom1617"]
[null,131992000501,"Photo Club Velauxien - Clin d'Œil","Prénom&Nom1618"]
[null,131992000601,"Photo Club Velauxien - Clin d'Œil","Prénom&Nom1619"]
[null,131992000701,"Photo Club Velauxien - Clin d'Œil","Prénom&Nom1620"]
[null,131992000801,"Photo Club Velauxien - Clin d'Œil","Prénom&Nom1621"]
[null,131992000901,"Photo Club Velauxien - Clin d'Œil","Prénom&Nom1622"]
[null,131992001001,"Photo Club Velauxien - Clin d'Œil","Prénom&Nom1623"]
[null,131992001101,"Photo Club Velauxien - Clin d'Œil","Prénom&Nom1624"]
[null,131992900101,"Photo Club Velauxien - Clin d'Œil","Prénom&Nom1625"]
[null,131992900201,"Photo Club Velauxien - Clin d'Œil","Prénom&Nom1626"]
[null,131992900301,"Photo Club Velauxien - Clin d'Œil","Prénom&Nom1627"]
[null,131992900401,"Photo Club Velauxien - Clin d'Œil","Prénom&Nom1628"]
[null,131992900501,"Photo Club Velauxien - Clin d'Œil","Prénom&Nom1629"]
[null,131992900601,"Photo Club Velauxien - Clin d'Œil","Prénom&Nom1630"]
[null,131992900701,"Photo Club Velauxien - Clin d'Œil","Prénom&Nom1631"]
[null,131992900801,"Photo Club Velauxien - Clin d'Œil","Prénom&Nom1632"]
[null,132003000101,"Photo Club Moriérois","Prénom&Nom1633"]
[null,132003000201,"Photo Club Moriérois","Prénom&Nom1634"]
[null,132003000301,"Photo Club Moriérois","Prénom&Nom1635"]
[null,132003000401,"Photo Club Moriérois","Prénom&Nom1636"]
[null,132003000501,"Photo Club Moriérois","Prénom&Nom1637"]
[null,132003000601,"Photo Club Moriérois","Prénom&Nom1638"]
[null,132003000701,"Photo Club Moriérois","Prénom&Nom1639"]
[null,132003000801,"Photo Club Moriérois","Prénom&Nom1640"]
[null,132003000901,"Photo Club Moriérois","Prénom&Nom1641"]
[null,132003001001,"Photo Club Moriérois","Prénom&Nom1642"]
[null,132003001101,"Photo Club Moriérois","Prénom&Nom1643"]
[null,132003001201,"Photo Club Moriérois","Prénom&Nom1644"]
[null,132003001301,"Photo Club Moriérois","Prénom&Nom1645"]
[null,132003001401,"Photo Club Moriérois","Prénom&Nom1646"]
[null,132003001501,"Photo Club Moriérois","Prénom&Nom1647"]
[null,132003001601,"Photo Club Moriérois","Prénom&Nom1648"]
[null,132003001701,"Photo Club Moriérois","Prénom&Nom1649"]
[null,132003001801,"Photo Club Moriérois","Prénom&Nom1650"]
[null,132003001901,"Photo Club Moriérois","Prénom&Nom1651"]
[null,132003002001,"Photo Club Moriérois","Prénom&Nom1652"]
[null,132003002201,"Photo Club Moriérois","Prénom&Nom1653"]
[null,132023000101,"Club Art Déclic de l' Argens","Prénom&Nom1654"]
[null,132023000201,"Club Art Déclic de l' Argens","Prénom&Nom1655"]
[null,132023000301,"Club Art Déclic de l' Argens","Prénom&Nom1656"]
[null,132023000401,"Club Art Déclic de l' Argens","Prénom&Nom1657"]
[null,132023000501,"Club Art Déclic de l' Argens","Prénom&Nom1658"]
[null,132023000601,"Club Art Déclic de l' Argens","Prénom&Nom1659"]
[null,132023000701,"Club Art Déclic de l' Argens","Prénom&Nom1660"]
[null,132023000801,"Club Art Déclic de l' Argens","Prénom&Nom1661"]
[null,132023000901,"Club Art Déclic de l' Argens","Prénom&Nom1662"]
[null,132023001001,"Club Art Déclic de l' Argens","Prénom&Nom1663"]
[null,132023001101,"Club Art Déclic de l' Argens","Prénom&Nom1664"]
[null,132023001201,"Club Art Déclic de l' Argens","Prénom&Nom1665"]
[null,132023001301,"Club Art Déclic de l' Argens","Prénom&Nom1666"]
[null,132023001401,"Club Art Déclic de l' Argens","Prénom&Nom1667"]
[null,132023001501,"Club Art Déclic de l' Argens","Prénom&Nom1668"]
[null,132023900101,"Club Art Déclic de l' Argens","Prénom&Nom1669"]
[null,132023002201,"Club Art Déclic de l' Argens","Prénom&Nom1670"]
[null,132028000101,"Association Regards du Sud","Prénom&Nom1671"]
[null,132028000201,"Association Regards du Sud","Prénom&Nom1672"]
[null,132043000101,"Club Photo Les Amis de Besse","Prénom&Nom1673"]
[null,132043000201,"Club Photo Les Amis de Besse","Prénom&Nom1674"]
[null,132043000301,"Club Photo Les Amis de Besse","Prénom&Nom1675"]
[null,132043000401,"Club Photo Les Amis de Besse","Prénom&Nom1676"]
[null,132043000501,"Club Photo Les Amis de Besse","Prénom&Nom1677"]
[null,132043000601,"Club Photo Les Amis de Besse","Prénom&Nom1678"]
[null,132043000701,"Club Photo Les Amis de Besse","Prénom&Nom1679"]
[null,132043000801,"Club Photo Les Amis de Besse","Prénom&Nom1680"]
[null,132043000901,"Club Photo Les Amis de Besse","Prénom&Nom1681"]
[null,132043001001,"Club Photo Les Amis de Besse","Prénom&Nom1682"]
[null,132043001101,"Club Photo Les Amis de Besse","Prénom&Nom1683"]
[null,132043001201,"Club Photo Les Amis de Besse","Prénom&Nom1684"]
[null,132043001301,"Club Photo Les Amis de Besse","Prénom&Nom1685"]
[null,132043001401,"Club Photo Les Amis de Besse","Prénom&Nom1686"]
[null,132043001501,"Club Photo Les Amis de Besse","Prénom&Nom1687"]
[null,132043001601,"Club Photo Les Amis de Besse","Prénom&Nom1688"]
[null,132043001701,"Club Photo Les Amis de Besse","Prénom&Nom1689"]
[null,132049000101,"Ancien club de l'UR","Prénom&Nom1690"]
[null,132049000201,"Ancien club de l'UR","Prénom&Nom1691"]
[null,132049000301,"Ancien club de l'UR","Prénom&Nom1692"]
[null,132049000401,"Ancien club de l'UR","Prénom&Nom1693"]
[null,132049000501,"Ancien club de l'UR","Prénom&Nom1694"]
[null,132049000601,"Ancien club de l'UR","Prénom&Nom1695"]
[null,132049000701,"Ancien club de l'UR","Prénom&Nom1696"]
[null,132049000801,"Ancien club de l'UR","Prénom&Nom1697"]
[null,132049000901,"Ancien club de l'UR","Prénom&Nom1698"]
[null,132060000101,"Image Club Gardéen","Prénom&Nom1699"]
[null,132060000101,"Image Club Gardéen","Prénom&Nom1700"]
[null,132060000201,"Image Club Gardéen","Prénom&Nom1701"]
[null,132060000301,"Image Club Gardéen","Prénom&Nom1702"]
[null,132060000401,"Image Club Gardéen","Prénom&Nom1703"]
[null,132060000501,"Image Club Gardéen","Prénom&Nom1704"]
[null,132060000601,"Image Club Gardéen","Prénom&Nom1705"]
[null,132060000701,"Image Club Gardéen","Prénom&Nom1706"]
[null,132060000801,"Image Club Gardéen","Prénom&Nom1707"]
[null,132060000901,"Image Club Gardéen","Prénom&Nom1708"]
[null,132060001001,"Image Club Gardéen","Prénom&Nom1709"]
[null,132060001101,"Image Club Gardéen","Prénom&Nom1710"]
[null,132060001701,"Image Club Gardéen","Prénom&Nom1711"]
[null,132073000101,"Photo Club Niçois","Prénom&Nom1712"]
[null,132073000101,"Photo Club Niçois","Prénom&Nom1713"]
[null,132073000201,"Photo Club Niçois","Prénom&Nom1714"]
[null,132073000301,"Photo Club Niçois","Prénom&Nom1715"]
[null,132073000401,"Photo Club Niçois","Prénom&Nom1716"]
[null,132073000501,"Photo Club Niçois","Prénom&Nom1717"]
[null,132073000601,"Photo Club Niçois","Prénom&Nom1718"]
[null,132073000701,"Photo Club Niçois","Prénom&Nom1719"]
[null,132073000801,"Photo Club Niçois","Prénom&Nom1720"]
[null,132073000901,"Photo Club Niçois","Prénom&Nom1721"]
[null,132073001001,"Photo Club Niçois","Prénom&Nom1722"]
[null,132073001101,"Photo Club Niçois","Prénom&Nom1723"]
[null,132073001201,"Photo Club Niçois","Prénom&Nom1724"]
[null,132073001301,"Photo Club Niçois","Prénom&Nom1725"]
[null,132084000101,"Azur Photo Passion","Prénom&Nom1726"]
[null,132084000201,"Azur Photo Passion","Prénom&Nom1727"]
[null,132084000301,"Azur Photo Passion","Prénom&Nom1728"]
[null,132084000401,"Azur Photo Passion","Prénom&Nom1729"]
[null,132084000501,"Azur Photo Passion","Prénom&Nom1730"]
[null,132084000601,"Azur Photo Passion","Prénom&Nom1731"]
[null,132084000701,"Azur Photo Passion","Prénom&Nom1732"]
[null,132084000801,"Azur Photo Passion","Prénom&Nom1733"]
[null,132084000901,"Azur Photo Passion","Prénom&Nom1734"]
[null,132084001001,"Azur Photo Passion","Prénom&Nom1735"]
[null,132084001101,"Azur Photo Passion","Prénom&Nom1736"]
[null,132084001201,"Azur Photo Passion","Prénom&Nom1737"]
[null,132084001301,"Azur Photo Passion","Prénom&Nom1738"]
[null,132084001401,"Azur Photo Passion","Prénom&Nom1739"]
[null,132084001501,"Azur Photo Passion","Prénom&Nom1740"]
[null,132084001601,"Azur Photo Passion","Prénom&Nom1741"]
[null,132084001701,"Azur Photo Passion","Prénom&Nom1742"]
[null,132084001801,"Azur Photo Passion","Prénom&Nom1743"]
[null,132084001901,"Azur Photo Passion","Prénom&Nom1744"]
[null,132084002001,"Azur Photo Passion","Prénom&Nom1745"]
[null,132084002101,"Azur Photo Passion","Prénom&Nom1746"]
[null,132084002201,"Azur Photo Passion","Prénom&Nom1747"]
[null,132084002301,"Azur Photo Passion","Prénom&Nom1748"]
[null,132084002401,"Azur Photo Passion","Prénom&Nom1749"]
[null,132084002501,"Azur Photo Passion","Prénom&Nom1750"]
[null,132084002601,"Azur Photo Passion","Prénom&Nom1751"]
[null,132084002701,"Azur Photo Passion","Prénom&Nom1752"]
[null,132084002801,"Azur Photo Passion","Prénom&Nom1753"]
[null,132084002901,"Azur Photo Passion","Prénom&Nom1754"]
[null,132084003001,"Azur Photo Passion","Prénom&Nom1755"]
[null,132084003101,"Azur Photo Passion","Prénom&Nom1756"]
[null,132084003201,"Azur Photo Passion","Prénom&Nom1757"]
[null,132084003601,"Azur Photo Passion","Prénom&Nom1758"]
[null,132086000101,"Objectif Image Nice","Prénom&Nom1759"]
[null,132086000101,"Objectif Image Nice","Prénom&Nom1760"]
[null,132086000201,"Objectif Image Nice","Prénom&Nom1761"]
[null,132086000301,"Objectif Image Nice","Prénom&Nom1762"]
[null,132086000401,"Objectif Image Nice","Prénom&Nom1763"]
[null,132086000501,"Objectif Image Nice","Prénom&Nom1764"]
[null,132086000601,"Objectif Image Nice","Prénom&Nom1765"]
[null,132086000701,"Objectif Image Nice","Prénom&Nom1766"]
[null,132086000801,"Objectif Image Nice","Prénom&Nom1767"]
[null,132086000901,"Objectif Image Nice","Prénom&Nom1768"]
[null,132086001001,"Objectif Image Nice","Prénom&Nom1769"]
[null,132086001101,"Objectif Image Nice","Prénom&Nom1770"]
[null,132086001201,"Objectif Image Nice","Prénom&Nom1771"]
[null,132086001301,"Objectif Image Nice","Prénom&Nom1772"]
[null,132086001401,"Objectif Image Nice","Prénom&Nom1773"]
[null,132086001501,"Objectif Image Nice","Prénom&Nom1774"]
[null,132089000101,"La Farledo Objectif Club","Prénom&Nom1775"]
[null,132089000101,"La Farledo Objectif Club","Prénom&Nom1776"]
[null,132089000201,"La Farledo Objectif Club","Prénom&Nom1777"]
[null,132089000301,"La Farledo Objectif Club","Prénom&Nom1778"]
[null,132089000401,"La Farledo Objectif Club","Prénom&Nom1779"]
[null,132089000501,"La Farledo Objectif Club","Prénom&Nom1780"]
[null,132089000601,"La Farledo Objectif Club","Prénom&Nom1781"]
[null,132089000701,"La Farledo Objectif Club","Prénom&Nom1782"]
[null,132089000801,"La Farledo Objectif Club","Prénom&Nom1783"]
[null,132089000901,"La Farledo Objectif Club","Prénom&Nom1784"]
[null,132089001001,"La Farledo Objectif Club","Prénom&Nom1785"]
[null,132103000101,"Club Photo St Laurent du Var","Prénom&Nom1786"]
[null,132103000201,"Club Photo St Laurent du Var","Prénom&Nom1787"]
[null,132103000301,"Club Photo St Laurent du Var","Prénom&Nom1788"]
[null,132103000401,"Club Photo St Laurent du Var","Prénom&Nom1789"]
[null,132103000501,"Club Photo St Laurent du Var","Prénom&Nom1790"]
[null,132103000601,"Club Photo St Laurent du Var","Prénom&Nom1791"]
[null,132103000701,"Club Photo St Laurent du Var","Prénom&Nom1792"]
[null,132103000801,"Club Photo St Laurent du Var","Prénom&Nom1793"]
[null,132103000901,"Club Photo St Laurent du Var","Prénom&Nom1794"]
[null,132106000101,"Photos Club Guillestrois","Prénom&Nom1795"]
[null,132106000201,"Photos Club Guillestrois","Prénom&Nom1796"]
[null,132106000301,"Photos Club Guillestrois","Prénom&Nom1797"]
[null,132193000101,"Antibes Photo Club","Prénom&Nom1798"]
[null,132193000201,"Antibes Photo Club","Prénom&Nom1799"]
[null,132193000301,"Antibes Photo Club","Prénom&Nom1800"]
[null,132203000901,"Club Photo de Saignon","Prénom&Nom1801"]

{"sheet":"Liste des clubs","index":17,"n_rows":51,"n_cols":5,"rows_kept":51,"cut":false,"hidden":false,"merged":[]}
[]
[null,"N° de club","Nom","Département","Ville"]
[1,435,"Beausoleil Ciné Photo Club",6,"Beausoleil"]
[2,462,"Image 2000",13,"Marignane"]
[3,527,"Photo Club de Martigues",13,"Lavéra"]
[4,878,"PC Antoine Santoru-Port de Bouc",13,"Port-de-Bouc"]
[5,921,"Photo Club M.P.T. Vitrolles",13,"Vitrolles"]
[6,925,"A.S.L.P.S. Photo Fos-sur-Mer",13,"Fos-Sur-Mer"]
[7,987,"Cl. Phot’Azur Six-Fours-les-Plages",83,"Six-Fours-Les-Plages"]
[8,993,"P.C. La Garde – Marseille",13,"Marseille"]
[9,1110,"Ciné Photo Club de Peymeinade",6,"Peymeinade"]
[10,1227,"Photo Ciné Club Courthezonnais",84,"Bedarrides"]
[11,1353,"Photo Club de La Crau",13,"Saint-Martin-De-Crau"]
[12,1376,"PHOCAL",13,"Allauch-Cedex"]
[13,1426,"Diaphragme et Lumière Var – Ollioules",83,"Ollioules"]
[14,1441,"Club mage Monaco",98,"Monaco"]
[15,1450,"Arc Images- Rousset",13,"Rousset"]
[16,1494,"Photo-Club du Brianconnais",5,"Briancon"]
[17,1499,"Images Expressions – Cagnes sur Mer",6,"Cagnes-Sur-Mer"]
[18,1601,"Club Pugetois de L’image",83,"Puget-Sur-Argens"]
[19,1619,"Optique Diaporama Marseille",13,"La Bouilladisse"]
[20,1683,"Marius Saint-Mitre-les-Remparts",13,"Saint-Mitre-Les-Remparts"]
[21,1777,"Club Photo et Vidéo Plan de La Tour",83,"Plan-de-la-Tour"]
[22,1796,"Ciné Caméra Club de Cannes",6,"Cannes"]
[23,1823,"Photo Club Mouansois",6,"Mouans-Sartoux"]
[24,1824,"Photo Club IBM Cote d’Azur",6,"Nice"]
[25,1845,"Photo Club Carqueirannais",83,"Carqueiranne"]
[26,1862,"Déclic et des Claps – Roquefort les Pins",6,"Roquefort-les-Pins"]
[27,1867,"PhotoMenton",6,"Menton"]
[28,1879,"Association Sportive de Berre",13,"Berre-L'Etang"]
[29,1899,"Club de l’Image",83,"Sollies-Pont"]
[30,1956,"Photo Contact Puyricard",13,"Puyricard"]
[31,1969,"Mission Photo – Cannes la Bocca",6,"Cannes-la-Bocca"]
[32,1985,"Rognonas Image Regard Espace",13,"Rognonas"]
[33,1992,"Photo Club Velauxien – Clin d’Œil",13,"Velaux"]
[34,2003,"Photo Club Moriérois",84,"Morieres-les-Avignon"]
[35,2023,"Club Art Déclic de l’ Argens",83,"Puget-sur-Argens"]
[36,2028,"Association Regards du Sud",6,"Aspremont"]
[37,2060,"Image Club Gardéen",83,"La Garde"]
[38,2084,"Azur Photo Passion",6,"Cagnes-Sur-Mer"]
[39,2086,"Objectif Image Nice",6,"Nice"]
[40,2089,"La Farledo Objectif Club",83,"La Farlède"]
[41,2103,"Club Photo St Laurent du Var",6,"Saint-Laurent-du-Var"]
[42,2147,"Club Photo Saint Savournin",13,"Saint-Savournin"]
[43,2158,"Café Photo Marseille",13,"Marseille"]
[44,2180,"Photo Club Carry Côte Bleue",13,"Carry-le-Rouet"]
[45,2193,"Antibes Photo Club",6,"Antibes"]
[46,2203,"Club Photo de Saignon",84,"Saignon"]
[47,2211,"Club Photo UAICF de Gap",5,"Gap"]
[48,2217,"ADSB – Club Photo Bouc Bel Air",13,"Bouc-Bel-Air"]
[49,2222,"Association Culturelle Photo Club de Neffes",5,"Neffes"]