{"text_format":"1","workbook":"xlsx","n_sheets":3,"sheets":["Feuil1","Feuil2","Feuil3"],"not_rendered":{"charts":0,"images":0,"macros":1,"external_links":0,"defined_names":3,"comments":0,"pivot_tables":0},"unopened":[],"bounds":{"document_bytes":16777216,"sheet_cells":100000,"rows_first":2000,"rows_last":500,"rows_between":2000,"halvings":0,"cell_chars":16384,"cell_head_chars":4096},"cells_cut":0,"cells_raw":0,"read":"whole","date_system":"1900"}

{"sheet":"Feuil1","index":0,"n_rows":227,"n_cols":11,"rows_kept":227,"cut":false,"hidden":false,"merged":[[107,1,107,3],[122,1,122,3],[118,1,118,3],[119,1,119,3],[137,1,137,3],[127,1,127,3],[128,1,128,3],[129,1,129,3],[130,1,130,3],[131,1,131,3],[132,1,132,3],[120,1,120,3],[121,1,121,3],[123,1,123,3],[124,1,124,3],[125,1,125,3],[126,1,126,3],[133,1,133,3],[134,1,134,3],[135,1,135,3],[136,1,136,3],[92,1,92,3],[0,10,1,10],[5,1,5,3],[6,1,6,3],[0,1,1,3],[4,1,4,3],[0,4,1,4],[0,5,1,5],[0,6,1,6],[0,7,1,7],[15,1,15,3],[16,1,16,3],[17,1,17,3],[18,1,18,3],[0,8,1,8],[0,9,1,9],[7,1,7,3],[8,1,8,3],[90,1,90,3],[91,1,91,3],[14,1,14,3],[30,1,30,3],[31,1,31,3],[52,1,52,3],[53,1,53,3],[54,1,54,3],[59,1,59,3],[57,1,57,3],[58,1,58,3],[32,1,32,3],[33,1,33,3],[34,1,34,3],[82,1,82,3],[81,1,81,3],[41,1,41,3],[42,1,42,3],[43,1,43,3],[44,1,44,3],[45,1,45,3],[46,1,46,3],[35,1,35,3],[36,1,36,3],[37,1,37,3],[38,1,38,3],[39,1,39,3],[40,1,40,3],[67,1,67,3],[55,1,55,3],[56,1,56,3],[60,1,60,3],[61,1,61,3],[62,1,62,3],[63,1,63,3],[47,1,47,3],[48,1,48,3],[51,1,51,3],[68,1,68,3],[71,1,71,3],[50,1,50,3],[49,1,49,3],[87,1,87,3],[88,1,88,3],[89,1,89,3],[72,1,72,3],[73,1,73,3],[74,1,74,3],[75,1,75,3],[76,1,76,3],[69,1,69,3],[70,1,70,3],[64,1,64,3],[65,1,65,3],[66,1,66,3],[83,1,83,3],[84,1,84,3],[85,1,85,3],[86,1,86,3],[78,1,78,3],[79,1,79,3],[80,1,80,3],[109,1,109,3],[110,1,110,3],[111,1,111,3],[112,1,112,3],[106,1,106,3],[115,1,115,3],[117,1,117,3],[93,1,93,3],[95,1,95,3],[96,1,96,3],[100,1,100,3],[101,1,101,3],[102,1,102,3],[104,1,104,3],[105,1,105,3],[94,1,94,3],[97,1,97,3],[98,1,98,3],[99,1,99,3],[113,1,113,3],[114,1,114,3],[116,1,116,3],[103,1,103,3],[108,1,108,3],[3,1,3,3],[19,1,19,3],[25,1,25,3],[26,1,26,3],[27,1,27,3],[28,1,28,3],[29,1,29,3],[22,1,22,3],[24,1,24,3],[20,1,20,3],[21,1,21,3],[23,1,23,3],[9,1,9,3],[10,1,10,3],[13,1,13,3],[217,4,218,6],[219,4,219,6],[220,4,226,6],[217,8,218,10],[219,8,219,10],[220,8,226,10],[213,8,214,8],[213,9,214,9],[213,10,214,10],[215,8,216,10],[212,1,212,3],[192,1,192,3],[193,1,193,3],[194,1,194,3],[195,1,195,3],[196,1,196,3],[197,1,197,3],[198,1,198,3],[199,1,199,3],[138,1,138,3],[139,1,139,3],[140,1,140,3],[141,1,141,3],[142,1,142,3],[143,1,143,3],[144,1,144,3],[145,1,145,3],[146,1,146,3],[147,1,147,3],[148,1,148,3],[149,1,149,3],[150,1,150,3],[151,1,151,3],[152,1,152,3],[153,1,153,3],[154,1,154,3],[155,1,155,3],[156,1,156,3],[157,1,157,3],[158,1,158,3],[159,1,159,3],[160,1,160,3],[161,1,161,3],[162,1,162,3],[163,1,163,3],[164,1,164,3],[187,1,187,3],[188,1,188,3],[189,1,189,3],[165,1,165,3],[166,1,166,3],[167,1,167,3],[168,1,168,3],[169,1,169,3],[170,1,170,3],[171,1,171,3],[172,1,172,3],[173,1,173,3],[216,1,216,3],[200,1,200,3],[201,1,201,3],[202,1,202,3],[203,1,203,3],[204,1,204,3],[205,1,205,3],[206,1,206,3],[207,1,207,3],[208,1,208,3],[0,0,1,0],[209,1,209,3],[210,1,210,3],[211,1,211,3],[213,1,213,3],[214,1,214,3],[215,1,215,3],[174,1,174,3],[175,1,175,3],[176,1,176,3],[177,1,177,3],[178,1,178,3],[179,1,179,3],[180,1,180,3],[190,1,190,3],[191,1,191,3],[181,1,181,3],[182,1,182,3],[183,1,183,3],[184,1,184,3],[185,1,185,3],[186,1,186,3],[12,1,12,3],[77,1,77,3]]}
["REF","NOMENCLATURE",null,null,"Pds","Prix de vente","Prix de loc/mois","Qté","Pds total","Prix de  V ttl","Prix de loc ttl"]
[]
[]
["cale","cale de pied jaune",null,null,0.2,5,{"$f":"F4*5%","v":0.25},0,{"$f":"E4*H4","v":0},{"$f":"F4*H4","v":0},{"$f":"G4*H4","v":0}]
["socle reg.","socle réglable 0,50m",null,null,3.47,{"$f":"10.18*(1+#REF!/100)","v":{"$error":"#REF!"}},{"$error":"#REF!"},0,0,{"$error":"#REF!"},{"$error":"#REF!"}]
[null,"socle orientable",null,null,5,28,1.4000000000000001,0,0,0,0]
["embase","embase",null,null,1.7,15,0.75,0,0,0,0]
["poteau500","poteau 0,50m",null,null,2.9,{"$f":"11*(1+#REF!/100)","v":{"$error":"#REF!"}},{"$error":"#REF!"},0,0,{"$error":"#REF!"},{"$error":"#REF!"}]
["poteau1000","poteau 1,00m",null,null,5.12,{"$f":"13.2*(1+#REF!/100)","v":{"$error":"#REF!"}},{"$error":"#REF!"},0,0,{"$error":"#REF!"},{"$error":"#REF!"}]
[null,"poteau 1,50m",null,null,7.34,{"$f":"17.6*(1+#REF!/100)","v":{"$error":"#REF!"}},{"$error":"#REF!"},0,0,{"$error":"#REF!"},{"$error":"#REF!"}]
["poteau2000","poteau 2,00m",null,null,9.5500000000000007,{"$f":"20.9*(1+#REF!/100)","v":{"$error":"#REF!"}},{"$error":"#REF!"},0,0,{"$error":"#REF!"},{"$error":"#REF!"}]
[null,"goupille",null,null,0.1,null,null,0]
[null,"double clavette",null,null,1,10,0.5,0,0,0,0]
["lisse400","lisse 0,40m",null,null,2.35,{"$f":"8.8*(1+#REF!/100)","v":{"$error":"#REF!"}},{"$error":"#REF!"},0,0,{"$f":"F14*H14","v":{"$error":"#REF!"}},{"$f":"G14*H14","v":{"$error":"#REF!"}}]
["lisse700","lisse 0,70m",null,null,3.19,{"$f":"9.63*(1+#REF!/100)","v":{"$error":"#REF!"}},{"$error":"#REF!"},0,0,{"$error":"#REF!"},{"$error":"#REF!"}]
["lisse1000","lisse 1,00m",null,null,4.22,{"$f":"11*(1+#REF!/100)","v":{"$error":"#REF!"}},{"$error":"#REF!"},0,0,{"$error":"#REF!"},{"$error":"#REF!"}]
["lisse1500","lisse 1,50m",null,null,5.94,{"$f":"12.1*(1+#REF!/100)","v":{"$error":"#REF!"}},{"$error":"#REF!"},0,0,{"$error":"#REF!"},{"$error":"#REF!"}]
["lisse2000","lisse 2,00m",null,null,7.67,{"$f":"14.3*(1+#REF!/100)","v":{"$error":"#REF!"}},{"$error":"#REF!"},0,0,{"$error":"#REF!"},{"$error":"#REF!"}]
["lisse2500","lisse 2,50m",null,null,9.39,{"$f":"17.6*(1+#REF!/100)","v":{"$error":"#REF!"}},{"$error":"#REF!"},0,0,{"$error":"#REF!"},{"$error":"#REF!"}]
["lisse3000","lisse 3,00m",null,null,11.11,{"$f":"19.8*(1+#REF!/100)","v":{"$error":"#REF!"}},{"$error":"#REF!"},0,0,{"$error":"#REF!"},{"$error":"#REF!"}]
[null,"garde-corps 0,70m",null,null,7.5,null,null,0,0]
[null,"garde-corps 1,00m",null,null,8.5,null,null,0]
[null,"garde-corps 1,50m",null,null,9,52,null,0,0]
[null,"garde-corps 2,00m",null,null,10,56,null,0,0]
[null,"garde-corps 3,00m",null,null,15.5,60,null,0,0]
["lisserenf1000","lisse renforcée 1,00m",null,null,8,65,3.25,0,0,0,0]
["lisserenf1500","lisse renforcée 1,50m",null,null,11.39,{"$f":"47.85*(1+#REF!/100)","v":{"$error":"#REF!"}},{"$error":"#REF!"},0,0,{"$error":"#REF!"},{"$error":"#REF!"}]
["lisserenf2000","lisse renforcée 2,00m",null,null,18.010000000000002,{"$f":"53.55*(1+#REF!/100)","v":{"$error":"#REF!"}},{"$error":"#REF!"},0,0,{"$error":"#REF!"},{"$error":"#REF!"}]
["lisserenf2500","lisse renforcée 2,50m",null,null,21.91,{"$f":"57.75*(1+#REF!/100)","v":{"$error":"#REF!"}},{"$error":"#REF!"},0,0,{"$error":"#REF!"},{"$error":"#REF!"}]
["lisserenf3000","lisse renforcée 3,00m",null,null,19.7,{"$f":"66*(1+#REF!/100)","v":{"$error":"#REF!"}},{"$error":"#REF!"},0,0,{"$error":"#REF!"},{"$error":"#REF!"}]
["cons0.40","console 0,40m",null,null,3.4,{"$f":"22*(1+#REF!/100)","v":{"$error":"#REF!"}},{"$error":"#REF!"},0,0,{"$error":"#REF!"},{"$error":"#REF!"}]
["cons0.70","console 0,70m",null,null,6,{"$f":"24.75*(1+#REF!/100)","v":{"$error":"#REF!"}},{"$error":"#REF!"},0,0,{"$error":"#REF!"},{"$error":"#REF!"}]
["diagonale700","diagonale 2,00 x 0,70m",null,null,8.6,{"$f":"16.5*(1+#REF!/100)","v":{"$error":"#REF!"}},{"$error":"#REF!"},0,0,{"$error":"#REF!"},{"$error":"#REF!"}]
["diagonale1000","diagonale 2,00 x 1,00m",null,null,9,{"$f":"17.6*(1+#REF!/100)","v":{"$error":"#REF!"}},{"$error":"#REF!"},0,0,{"$error":"#REF!"},{"$error":"#REF!"}]
["diagonale1500","diagonale 2,00 x 1,50m",null,null,9.6999999999999993,{"$f":"18.7*(1+#REF!/100)","v":{"$error":"#REF!"}},{"$error":"#REF!"},0,0,{"$error":"#REF!"},{"$error":"#REF!"}]
["diagonale2000","diagonale 2,00 x 2,00m",null,null,10.8,{"$f":"19.8*(1+#REF!/100)","v":{"$error":"#REF!"}},{"$error":"#REF!"},0,0,{"$error":"#REF!"},{"$error":"#REF!"}]
["diagonale2500","diagonale 2,00 x 2,50m",null,null,12.1,{"$f":"20.35*(1+#REF!/100)","v":{"$error":"#REF!"}},{"$error":"#REF!"},0,0,{"$error":"#REF!"},{"$error":"#REF!"}]
["diagonale3000","diagonale 2,00 x 3,00m",null,null,13.5,{"$f":"23.1*(1+#REF!/100)","v":{"$error":"#REF!"}},{"$error":"#REF!"},0,0,{"$error":"#REF!"},{"$error":"#REF!"}]
[null,"poutre acier avec piquage 4,00m",null,null,51.9,{"$f":"115.5*(1+#REF!/100)","v":{"$error":"#REF!"}},{"$error":"#REF!"},0,0,{"$error":"#REF!"},{"$error":"#REF!"}]
[null,"poutre acier avec piquage 5,00m",null,null,63.1,{"$f":"137.5*(1+#REF!/100)","v":{"$error":"#REF!"}},{"$error":"#REF!"},0,0,{"$error":"#REF!"},{"$error":"#REF!"}]
[null,"poutre acier avec piquage 6,00m",null,null,71.8,{"$f":"159.5*(1+#REF!/100)","v":{"$error":"#REF!"}},{"$error":"#REF!"},0,0,{"$error":"#REF!"},{"$error":"#REF!"}]
[null,"poutre acier sans piquage 4,00m",null,null,40,200,10,0,0,0,0]
[null,"poutre acier sans piquage 5,00m",null,null,50,250,12.5,0,0,0,0]
[null,"poutre acier sans piquage 6,00m",null,null,60,300,15,0,0,0,0]
[null,"poutre aluminium 3,00m",null,null,18,250,12.5,0,0,0,0]
[null,"poutre aluminium 4,00m",null,null,24,310,15.5,0,0,0,0]
[null,"poutre aluminium 5,00m",null,null,30,360,18,0,0,0,0]
[null,"poutre aluminium 6,00m",null,null,36,440,22,0,0,0,0]
[null,"poutre aluminium 8,00m",null,null,50,560,28,0,0,0,0]
[null,"liaison poutre",null,null,2.5,22,1.1000000000000001,0,0,0,0]
[null,"liaison faitière",null,null,3,35,1.75,0,0,0,0]
["plateau700","plancher acier 0,30 x 0,70m",null,null,7.7149999999999999,21,1.05,0,0,0,0]
["plateau1000","plancher acier 0,30 x 1,00m",null,null,10.44,{"$f":"22.5*(1+#REF!/100)","v":{"$error":"#REF!"}},{"$error":"#REF!"},0,0,{"$error":"#REF!"},{"$error":"#REF!"}]
["plateau1500","plancher acier 0,30 x 1,50m",null,null,13.73,{"$f":"24*(1+#REF!/100)","v":{"$error":"#REF!"}},{"$error":"#REF!"},0,0,{"$error":"#REF!"},{"$error":"#REF!"}]
["plateau2000","plancher acier 0,30 x 2,00m",null,null,17.02,{"$f":"28.5*(1+#REF!/100)","v":{"$error":"#REF!"}},{"$error":"#REF!"},0,0,{"$error":"#REF!"},{"$error":"#REF!"}]
["plateau2500","plancher acier 0,30 x 2,50m",null,null,20.309999999999999,{"$f":"33*(1+#REF!/100)","v":{"$error":"#REF!"}},{"$error":"#REF!"},0,0,{"$error":"#REF!"},{"$error":"#REF!"}]
["plateau3000","plancher acier 0,30 x 3,00m",null,null,23.6,{"$f":"36*(1+#REF!/100)","v":{"$error":"#REF!"}},{"$error":"#REF!"},0,0,{"$error":"#REF!"},{"$error":"#REF!"}]
[null,"plancher alu/bois 0,60 x 1,50m",null,null,12.3,null,null,0,0]
[null,"plancher alu/bois 0,60 x 2,00m",null,null,16,null,null,0,0]
[null,"plancher alu/bois 0,60 x 3,00m",null,null,18.600000000000001,null,null,0,0]
[null,"couvre plancher 0,75m",null,null,7.5,38,1.9000000000000001,0,0,0,0]
[null,"couvre plancher 1,05m",null,null,6.1,23.1,1.155,0,0,0,0]
[null,"couvre plancher 1,50m",null,null,8.9,25.5,1.2750000000000001,0,0,0,0]
[null,"couvre plancher 2,00m",null,null,11.2,30.9,1.5449999999999999,0,0,0,0]
[null,"couvre plancher 2,50m",null,null,14.9,33.75,1.6875,0,0,0,0]
[null,"couvre plancher 3,00m",null,null,17.899999999999999,41.25,2.0625,0,0,0,0]
[null,"plancher trappe 0,60 x 1,50m",null,null,23,165,8.25,0,0,0,0]
[null,"plancher trappe 0,60 x 2,00m",null,null,25,189.75,{"$f":"F68*5%","v":9.4875000000000007},0,0,0,0]
[null,"plancher trappe 0,60 x 2,50m",null,null,27,247.5,12.375,0,0,0,0]
["trappe3000+echelle","plancher trappe 0,60 x 3,00m",null,null,29,313.5,15.675000000000001,0,{"$f":"E70*H70","v":0},{"$f":"F70*H70","v":0},{"$f":"G70*H70","v":0}]
[null,"échelle 2,00m",null,null,5,45,2.25,0,0,0,0]
["plinthe700","plinthe 0,70m",null,null,2,8.25,{"$f":"F72*8%","v":0.66},0,0,0,0]
["plinthe1000","plinthe 1,00m",null,null,3.1,9,0.72,0,0,0,0]
["plinthe1500","plinthe 1,50m",null,null,4.95,10.65,0.85200000000000009,0,0,0,0]
["plinthe2000","plinthe 2,00m",null,null,6.2,12.3,0.9840000000000001,0,0,0,0]
["plinthe2500","plinthe 2,50m",null,null,7.4,15.6,1.248,0,0,0,0]
["plinthe3000","plinthe 3,00m",null,null,8.6,18.149999999999999,1.452,0,0,0,0]
[null,"plinthe volige 3,00m",null,null,8.6,18.149999999999999,{"$f":"F78*8%","v":1.452},0,{"$f":"E78*H78","v":0},{"$f":"F78*H78","v":0},{"$f":"G78*H78","v":0}]
[null,"rack de stockage",null,null,49,225,11.25,0,0,0,0]
[null,"rack de stockage grillagé",null,null,80,350,17.5,0,0,0,0]
["collier fixe","raccord angle droit 49mm",null,null,1.32,6.5,0.32500000000000001,0,0,0,0]
[null,"crapaud",null,null,1.5,null,null,0,0]
[null,"raccord angle variable 49mm",null,null,1.42,8.1999999999999993,0.41,0,0,0,0]
[null,"cale cp pour vérin d'amarrage",null,null,0.5,5,0.25,0,0,0,0]
[null,"vérin d'amarrage",null,null,2.9,45,2.25,0,0,0,0]
["goujon sur collier","goujon sur collier",null,null,2.2999999999999998,34,1.7000000000000002,0,0,0,0]
["roueB","roue sur vérin 300kg",null,null,9,90,4.5,0,0,0,0]
["amarrage 1.00m","barre d'ancrage 1,00m",null,null,5,14,0.70000000000000007,0,0,0,0]
[null,"barre d'ancrage 1,50m",null,null,6,20,1,{"$f":"IF((phase=1),#REF!,IF(AND(phase=2),#REF!,IF(AND(phase=3),#REF!,IF(AND(phase=4),#REF!,IF(AND(phase=5),#REF!,IF(AND(phase=6),#REF!,IF(AND(phase=7),#REF!,IF(AND(phase=8),#REF!,IF(AND(phase=9),#REF!)))))))))","v":{"$error":"#REF!"}},{"$error":"#REF!"},{"$error":"#REF!"},{"$error":"#REF!"}]
[null,"piton 120mm",null,null,0.1,1.2,0.06,{"$f":"IF((phase=1),#REF!,IF(AND(phase=2),#REF!,IF(AND(phase=3),#REF!,IF(AND(phase=4),#REF!,IF(AND(phase=5),#REF!,IF(AND(phase=6),#REF!,IF(AND(phase=7),#REF!,IF(AND(phase=8),#REF!,IF(AND(phase=9),#REF!)))))))))","v":{"$error":"#REF!"}},{"$error":"#REF!"},{"$error":"#REF!"},{"$error":"#REF!"}]
[null,"piton 160mm",null,null,0.15,1.4,6.9999999999999993E-2,{"$f":"IF((phase=1),#REF!,IF(AND(phase=2),#REF!,IF(AND(phase=3),#REF!,IF(AND(phase=4),#REF!,IF(AND(phase=5),#REF!,IF(AND(phase=6),#REF!,IF(AND(phase=7),#REF!,IF(AND(phase=8),#REF!,IF(AND(phase=9),#REF!)))))))))","v":{"$error":"#REF!"}},{"$error":"#REF!"},{"$error":"#REF!"},{"$error":"#REF!"}]
[null,"piton 300mm",null,null,0.2,2.4,0.12,{"$f":"IF((phase=1),#REF!,IF(AND(phase=2),#REF!,IF(AND(phase=3),#REF!,IF(AND(phase=4),#REF!,IF(AND(phase=5),#REF!,IF(AND(phase=6),#REF!,IF(AND(phase=7),#REF!,IF(AND(phase=8),#REF!,IF(AND(phase=9),#REF!)))))))))","v":{"$error":"#REF!"}},{"$error":"#REF!"},{"$error":"#REF!"},{"$error":"#REF!"}]
[null,"cheville 70 x 14mm",null,null,0.01,0.14000000000000001,7.000000000000001E-3,{"$f":"IF((phase=1),#REF!,IF(AND(phase=2),#REF!,IF(AND(phase=3),#REF!,IF(AND(phase=4),#REF!,IF(AND(phase=5),#REF!,IF(AND(phase=6),#REF!,IF(AND(phase=7),#REF!,IF(AND(phase=8),#REF!,IF(AND(phase=9),#REF!)))))))))","v":{"$error":"#REF!"}},{"$error":"#REF!"},{"$error":"#REF!"},{"$error":"#REF!"}]
[null,"fourreau 2,00m",null,null,8,40,2,{"$f":"IF((phase=1),#REF!,IF(AND(phase=2),#REF!,IF(AND(phase=3),#REF!,IF(AND(phase=4),#REF!,IF(AND(phase=5),#REF!,IF(AND(phase=6),#REF!,IF(AND(phase=7),#REF!,IF(AND(phase=8),#REF!,IF(AND(phase=9),#REF!)))))))))","v":{"$error":"#REF!"}},{"$error":"#REF!"},{"$error":"#REF!"},{"$error":"#REF!"}]
[null,"fourreau 1,00m",null,null,4,20,1,{"$f":"IF((phase=1),#REF!,IF(AND(phase=2),#REF!,IF(AND(phase=3),#REF!,IF(AND(phase=4),#REF!,IF(AND(phase=5),#REF!,IF(AND(phase=6),#REF!,IF(AND(phase=7),#REF!,IF(AND(phase=8),#REF!,IF(AND(phase=9),#REF!)))))))))","v":{"$error":"#REF!"}},{"$error":"#REF!"},{"$error":"#REF!"},{"$error":"#REF!"}]
[null,"contreplaqué 1,20 x 2,50m ep 18mm",null,null,12,54,{"$f":"F96*15%","v":8.1},{"$f":"IF((phase=1),#REF!,IF(AND(phase=2),#REF!,IF(AND(phase=3),#REF!,IF(AND(phase=4),#REF!,IF(AND(phase=5),#REF!,IF(AND(phase=6),#REF!,IF(AND(phase=7),#REF!,IF(AND(phase=8),#REF!,IF(AND(phase=9),#REF!)))))))))","v":{"$error":"#REF!"}},{"$error":"#REF!"},{"$error":"#REF!"},{"$error":"#REF!"}]
[null,"contreplaqué découpé  ep 18mm",null,null,4,18,{"$f":"F97*15%","v":2.6999999999999997},{"$f":"IF((phase=1),#REF!,IF(AND(phase=2),#REF!,IF(AND(phase=3),#REF!,IF(AND(phase=4),#REF!,IF(AND(phase=5),#REF!,IF(AND(phase=6),#REF!,IF(AND(phase=7),#REF!,IF(AND(phase=8),#REF!,IF(AND(phase=9),#REF!)))))))))","v":{"$error":"#REF!"}},{"$error":"#REF!"},{"$error":"#REF!"},{"$error":"#REF!"}]
[null,"polyfoam 2,50 x 1,20m",null,null,2,30,{"$f":"F98*20%","v":6},{"$f":"IF((phase=1),#REF!,IF(AND(phase=2),#REF!,IF(AND(phase=3),#REF!,IF(AND(phase=4),#REF!,IF(AND(phase=5),#REF!,IF(AND(phase=6),#REF!,IF(AND(phase=7),#REF!,IF(AND(phase=8),#REF!,IF(AND(phase=9),#REF!)))))))))","v":{"$error":"#REF!"}},{"$error":"#REF!"},{"$error":"#REF!"},{"$error":"#REF!"}]
[null,"polyfoam 1,25  x 1,20m",null,null,1,15,{"$f":"F99*20%","v":3},{"$f":"IF((phase=1),#REF!,IF(AND(phase=2),#REF!,IF(AND(phase=3),#REF!,IF(AND(phase=4),#REF!,IF(AND(phase=5),#REF!,IF(AND(phase=6),#REF!,IF(AND(phase=7),#REF!,IF(AND(phase=8),#REF!,IF(AND(phase=9),#REF!)))))))))","v":{"$error":"#REF!"}},{"$error":"#REF!"},{"$error":"#REF!"},{"$error":"#REF!"}]
[null,"polyfoam 2,50 x 0,60m",null,null,1,15,{"$f":"F100*20%","v":3},{"$f":"IF((phase=1),#REF!,IF(AND(phase=2),#REF!,IF(AND(phase=3),#REF!,IF(AND(phase=4),#REF!,IF(AND(phase=5),#REF!,IF(AND(phase=6),#REF!,IF(AND(phase=7),#REF!,IF(AND(phase=8),#REF!,IF(AND(phase=9),#REF!)))))))))","v":{"$error":"#REF!"}},{"$error":"#REF!"},{"$error":"#REF!"},{"$error":"#REF!"}]
[null,"planche 38 x 200mm lg 1,00m",null,null,3,4,{"$f":"F101*15%","v":0.6},{"$f":"IF((phase=1),#REF!,IF(AND(phase=2),#REF!,IF(AND(phase=3),#REF!,IF(AND(phase=4),#REF!,IF(AND(phase=5),#REF!,IF(AND(phase=6),#REF!,IF(AND(phase=7),#REF!,IF(AND(phase=8),#REF!,IF(AND(phase=9),#REF!)))))))))","v":{"$error":"#REF!"}},{"$error":"#REF!"},{"$error":"#REF!"},{"$error":"#REF!"}]
[null,"planche 38 x 200mm lg 1,50m",null,null,4.5,6,{"$f":"F102*15%","v":0.89999999999999991},{"$f":"IF((phase=1),#REF!,IF(AND(phase=2),#REF!,IF(AND(phase=3),#REF!,IF(AND(phase=4),#REF!,IF(AND(phase=5),#REF!,IF(AND(phase=6),#REF!,IF(AND(phase=7),#REF!,IF(AND(phase=8),#REF!,IF(AND(phase=9),#REF!)))))))))","v":{"$error":"#REF!"}},{"$error":"#REF!"},{"$error":"#REF!"},{"$error":"#REF!"}]
[null,"planche 38 x 200mm lg 2,00m",null,null,6,8,{"$f":"F103*15%","v":1.2},{"$f":"IF((phase=1),#REF!,IF(AND(phase=2),#REF!,IF(AND(phase=3),#REF!,IF(AND(phase=4),#REF!,IF(AND(phase=5),#REF!,IF(AND(phase=6),#REF!,IF(AND(phase=7),#REF!,IF(AND(phase=8),#REF!,IF(AND(phase=9),#REF!)))))))))","v":{"$error":"#REF!"}},{"$error":"#REF!"},{"$error":"#REF!"},{"$error":"#REF!"}]
[null,"planche 38 x 200mm lg 2,50m",null,null,7.5,null,null,{"$f":"IF((phase=1),#REF!,IF(AND(phase=2),#REF!,IF(AND(phase=3),#REF!,IF(AND(phase=4),#REF!,IF(AND(phase=5),#REF!,IF(AND(phase=6),#REF!,IF(AND(phase=7),#REF!,IF(AND(phase=8),#REF!,IF(AND(phase=9),#REF!)))))))))","v":{"$error":"#REF!"}},{"$f":"H104*E104","v":{"$error":"#REF!"}}]
[null,"planche 38 x 200mm lg 3,00m",null,null,9,12,{"$f":"F105*15%","v":1.7999999999999998},{"$f":"IF((phase=1),#REF!,IF(AND(phase=2),#REF!,IF(AND(phase=3),#REF!,IF(AND(phase=4),#REF!,IF(AND(phase=5),#REF!,IF(AND(phase=6),#REF!,IF(AND(phase=7),#REF!,IF(AND(phase=8),#REF!,IF(AND(phase=9),#REF!)))))))))","v":{"$error":"#REF!"}},{"$error":"#REF!"},{"$error":"#REF!"},{"$error":"#REF!"}]
[null,"planche 38 x 200mm lg 4,00m",null,null,12,16,{"$f":"F106*15%","v":2.4},{"$f":"IF((phase=1),#REF!,IF(AND(phase=2),#REF!,IF(AND(phase=3),#REF!,IF(AND(phase=4),#REF!,IF(AND(phase=5),#REF!,IF(AND(phase=6),#REF!,IF(AND(phase=7),#REF!,IF(AND(phase=8),#REF!,IF(AND(phase=9),#REF!)))))))))","v":{"$error":"#REF!"}},{"$error":"#REF!"},{"$error":"#REF!"},{"$error":"#REF!"}]
[null,"tube<0,70m",null,null,2,7,0.35000000000000003,{"$f":"IF((phase=1),#REF!,IF(AND(phase=2),#REF!,IF(AND(phase=3),#REF!,IF(AND(phase=4),#REF!,IF(AND(phase=5),#REF!,IF(AND(phase=6),#REF!,IF(AND(phase=7),#REF!,IF(AND(phase=8),#REF!,IF(AND(phase=9),#REF!)))))))))","v":{"$error":"#REF!"}},{"$error":"#REF!"},{"$error":"#REF!"},{"$error":"#REF!"}]
[null,"tube 0,70m",null,null,2.2400000000000002,7,{"$f":"F108*5%","v":0.35000000000000003},{"$f":"IF((phase=1),#REF!,IF(AND(phase=2),#REF!,IF(AND(phase=3),#REF!,IF(AND(phase=4),#REF!,IF(AND(phase=5),#REF!,IF(AND(phase=6),#REF!,IF(AND(phase=7),#REF!,IF(AND(phase=8),#REF!,IF(AND(phase=9),#REF!)))))))))","v":{"$error":"#REF!"}},{"$f":"E108*H108","v":{"$error":"#REF!"}},{"$f":"F108*H108","v":{"$error":"#REF!"}},{"$f":"G108*H108","v":{"$error":"#REF!"}}]
[null,"tube 1,20m",null,null,3.84,8.4,0.42000000000000004,{"$f":"IF((phase=1),#REF!,IF(AND(phase=2),#REF!,IF(AND(phase=3),#REF!,IF(AND(phase=4),#REF!,IF(AND(phase=5),#REF!,IF(AND(phase=6),#REF!,IF(AND(phase=7),#REF!,IF(AND(phase=8),#REF!,IF(AND(phase=9),#REF!)))))))))","v":{"$error":"#REF!"}},{"$error":"#REF!"},{"$error":"#REF!"},{"$error":"#REF!"}]
[null,"tube 1,70m",null,null,5.44,10.5,0.52500000000000002,{"$f":"IF((phase=1),#REF!,IF(AND(phase=2),#REF!,IF(AND(phase=3),#REF!,IF(AND(phase=4),#REF!,IF(AND(phase=5),#REF!,IF(AND(phase=6),#REF!,IF(AND(phase=7),#REF!,IF(AND(phase=8),#REF!,IF(AND(phase=9),#REF!)))))))))","v":{"$error":"#REF!"}},{"$error":"#REF!"},{"$error":"#REF!"},{"$error":"#REF!"}]
[null,"tube 2,20m",null,null,7.04,15.4,0.77,{"$f":"IF((phase=1),#REF!,IF(AND(phase=2),#REF!,IF(AND(phase=3),#REF!,IF(AND(phase=4),#REF!,IF(AND(phase=5),#REF!,IF(AND(phase=6),#REF!,IF(AND(phase=7),#REF!,IF(AND(phase=8),#REF!,IF(AND(phase=9),#REF!)))))))))","v":{"$error":"#REF!"}},{"$error":"#REF!"},{"$error":"#REF!"},{"$error":"#REF!"}]
[null,"tube 2,70m",null,null,8.64,18.899999999999999,0.94499999999999995,{"$f":"IF((phase=1),#REF!,IF(AND(phase=2),#REF!,IF(AND(phase=3),#REF!,IF(AND(phase=4),#REF!,IF(AND(phase=5),#REF!,IF(AND(phase=6),#REF!,IF(AND(phase=7),#REF!,IF(AND(phase=8),#REF!,IF(AND(phase=9),#REF!)))))))))","v":{"$error":"#REF!"}},{"$error":"#REF!"},{"$error":"#REF!"},{"$error":"#REF!"}]
[null,"tube 3,20m",null,null,10.24,22.4,1.1199999999999999,{"$f":"IF((phase=1),#REF!,IF(AND(phase=2),#REF!,IF(AND(phase=3),#REF!,IF(AND(phase=4),#REF!,IF(AND(phase=5),#REF!,IF(AND(phase=6),#REF!,IF(AND(phase=7),#REF!,IF(AND(phase=8),#REF!,IF(AND(phase=9),#REF!)))))))))","v":{"$error":"#REF!"}},{"$error":"#REF!"},{"$error":"#REF!"},{"$error":"#REF!"}]
[null,"tube 4,50m",null,null,14.4,31.5,1.5750000000000002,{"$f":"IF((phase=1),#REF!,IF(AND(phase=2),#REF!,IF(AND(phase=3),#REF!,IF(AND(phase=4),#REF!,IF(AND(phase=5),#REF!,IF(AND(phase=6),#REF!,IF(AND(phase=7),#REF!,IF(AND(phase=8),#REF!,IF(AND(phase=9),#REF!)))))))))","v":{"$error":"#REF!"}},{"$error":"#REF!"},{"$error":"#REF!"},{"$error":"#REF!"}]
[null,"tube 5,20m",null,null,16.64,36.4,1.82,{"$f":"IF((phase=1),#REF!,IF(AND(phase=2),#REF!,IF(AND(phase=3),#REF!,IF(AND(phase=4),#REF!,IF(AND(phase=5),#REF!,IF(AND(phase=6),#REF!,IF(AND(phase=7),#REF!,IF(AND(phase=8),#REF!,IF(AND(phase=9),#REF!)))))))))","v":{"$error":"#REF!"}},{"$error":"#REF!"},{"$error":"#REF!"},{"$error":"#REF!"}]
[null,"tube 6,40m",null,null,20.48,44.8,2.2399999999999998,{"$f":"IF((phase=1),#REF!,IF(AND(phase=2),#REF!,IF(AND(phase=3),#REF!,IF(AND(phase=4),#REF!,IF(AND(phase=5),#REF!,IF(AND(phase=6),#REF!,IF(AND(phase=7),#REF!,IF(AND(phase=8),#REF!,IF(AND(phase=9),#REF!)))))))))","v":{"$error":"#REF!"}},{"$error":"#REF!"},{"$error":"#REF!"},{"$error":"#REF!"}]
[null,"Platine",null,null,null,null,null,{"$f":"IF((phase=1),#REF!,IF(AND(phase=2),#REF!,IF(AND(phase=3),#REF!,IF(AND(phase=4),#REF!,IF(AND(phase=5),#REF!,IF(AND(phase=6),#REF!,IF(AND(phase=7),#REF!,IF(AND(phase=8),#REF!,IF(AND(phase=9),#REF!)))))))))","v":{"$error":"#REF!"}}]
[null,"pince à tole petite",null,null,0.5,12,{"$f":"F118*8%","v":0.96},{"$f":"IF((phase=1),#REF!,IF(AND(phase=2),#REF!,IF(AND(phase=3),#REF!,IF(AND(phase=4),#REF!,IF(AND(phase=5),#REF!,IF(AND(phase=6),#REF!,IF(AND(phase=7),#REF!,IF(AND(phase=8),#REF!,IF(AND(phase=9),#REF!)))))))))","v":{"$error":"#REF!"}},{"$error":"#REF!"},{"$error":"#REF!"},{"$error":"#REF!"}]
[null,"pince à tole grande",null,null,0.6,15,{"$f":"F119*8%","v":1.2},{"$f":"IF((phase=1),#REF!,IF(AND(phase=2),#REF!,IF(AND(phase=3),#REF!,IF(AND(phase=4),#REF!,IF(AND(phase=5),#REF!,IF(AND(phase=6),#REF!,IF(AND(phase=7),#REF!,IF(AND(phase=8),#REF!,IF(AND(phase=9),#REF!)))))))))","v":{"$error":"#REF!"}},{"$error":"#REF!"},{"$error":"#REF!"},{"$error":"#REF!"}]
[null,"tôle 0,90 x 2,00m",null,null,8,25.5,{"$f":"F120*8%","v":2.04},{"$f":"IF((phase=1),#REF!,IF(AND(phase=2),#REF!,IF(AND(phase=3),#REF!,IF(AND(phase=4),#REF!,IF(AND(phase=5),#REF!,IF(AND(phase=6),#REF!,IF(AND(phase=7),#REF!,IF(AND(phase=8),#REF!,IF(AND(phase=9),#REF!)))))))))","v":{"$error":"#REF!"}},{"$error":"#REF!"},{"$error":"#REF!"},{"$error":"#REF!"}]
[null,"tôle 0,90 x 2,10m",null,null,8.5,27,{"$f":"F121*8%","v":2.16},{"$f":"IF((phase=1),#REF!,IF(AND(phase=2),#REF!,IF(AND(phase=3),#REF!,IF(AND(phase=4),#REF!,IF(AND(phase=5),#REF!,IF(AND(phase=6),#REF!,IF(AND(phase=7),#REF!,IF(AND(phase=8),#REF!,IF(AND(phase=9),#REF!)))))))))","v":{"$error":"#REF!"}},{"$error":"#REF!"},{"$error":"#REF!"},{"$error":"#REF!"}]
[null,"bâche 170gr/m² 3,00m  le ml",null,null,0.16500000000000001,3.5,{"$f":"F122","v":3.5},{"$f":"IF((phase=1),#REF!,IF(AND(phase=2),#REF!,IF(AND(phase=3),#REF!,IF(AND(phase=4),#REF!,IF(AND(phase=5),#REF!,IF(AND(phase=6),#REF!,IF(AND(phase=7),#REF!,IF(AND(phase=8),#REF!,IF(AND(phase=9),#REF!)))))))))","v":{"$error":"#REF!"}},{"$error":"#REF!"},{"$error":"#REF!"},{"$error":"#REF!"}]
[null,"bâche 170gr/m² 2.50m  le ml",null,null,0.16500000000000001,3.5,{"$f":"F123","v":3.5},{"$f":"IF((phase=1),#REF!,IF(AND(phase=2),#REF!,IF(AND(phase=3),#REF!,IF(AND(phase=4),#REF!,IF(AND(phase=5),#REF!,IF(AND(phase=6),#REF!,IF(AND(phase=7),#REF!,IF(AND(phase=8),#REF!,IF(AND(phase=9),#REF!)))))))))","v":{"$error":"#REF!"}},{"$f":"E123*H123","v":{"$error":"#REF!"}},{"$f":"F123*H123","v":{"$error":"#REF!"}},{"$f":"G123*H123","v":{"$error":"#REF!"}}]
[null,"colson les 100",null,null,0.1,6,{"$f":"F124","v":6},{"$f":"IF((phase=1),#REF!,IF(AND(phase=2),#REF!,IF(AND(phase=3),#REF!,IF(AND(phase=4),#REF!,IF(AND(phase=5),#REF!,IF(AND(phase=6),#REF!,IF(AND(phase=7),#REF!,IF(AND(phase=8),#REF!,IF(AND(phase=9),#REF!)))))))))","v":{"$error":"#REF!"}},{"$error":"#REF!"},{"$error":"#REF!"},{"$error":"#REF!"}]
[null,"limon avec palier 0,90 x 3,00m",null,null,25,500,{"$f":"F125*8%","v":40},{"$f":"IF((phase=1),#REF!,IF(AND(phase=2),#REF!,IF(AND(phase=3),#REF!,IF(AND(phase=4),#REF!,IF(AND(phase=5),#REF!,IF(AND(phase=6),#REF!,IF(AND(phase=7),#REF!,IF(AND(phase=8),#REF!,IF(AND(phase=9),#REF!)))))))))","v":{"$error":"#REF!"}},{"$error":"#REF!"},{"$error":"#REF!"},{"$error":"#REF!"}]
[null,"garde corps de limon",null,null,7,100,8,{"$f":"IF((phase=1),#REF!,IF(AND(phase=2),#REF!,IF(AND(phase=3),#REF!,IF(AND(phase=4),#REF!,IF(AND(phase=5),#REF!,IF(AND(phase=6),#REF!,IF(AND(phase=7),#REF!,IF(AND(phase=8),#REF!,IF(AND(phase=9),#REF!)))))))))","v":{"$error":"#REF!"}},{"$error":"#REF!"},{"$error":"#REF!"},{"$error":"#REF!"}]
[null,"garde corps de palier",null,null,2.5,60,4.8,{"$f":"IF((phase=1),#REF!,IF(AND(phase=2),#REF!,IF(AND(phase=3),#REF!,IF(AND(phase=4),#REF!,IF(AND(phase=5),#REF!,IF(AND(phase=6),#REF!,IF(AND(phase=7),#REF!,IF(AND(phase=8),#REF!,IF(AND(phase=9),#REF!)))))))))","v":{"$error":"#REF!"}},{"$error":"#REF!"},{"$error":"#REF!"},{"$error":"#REF!"}]
[null,"limon droit 0,90 x 2,50m",null,null,20,350,28,{"$f":"IF((phase=1),#REF!,IF(AND(phase=2),#REF!,IF(AND(phase=3),#REF!,IF(AND(phase=4),#REF!,IF(AND(phase=5),#REF!,IF(AND(phase=6),#REF!,IF(AND(phase=7),#REF!,IF(AND(phase=8),#REF!,IF(AND(phase=9),#REF!)))))))))","v":{"$error":"#REF!"}},{"$error":"#REF!"},{"$error":"#REF!"},{"$error":"#REF!"}]
[null,"limon droit 0,90 x 1,50m",null,null,15,230,18.400000000000002,{"$f":"IF((phase=1),#REF!,IF(AND(phase=2),#REF!,IF(AND(phase=3),#REF!,IF(AND(phase=4),#REF!,IF(AND(phase=5),#REF!,IF(AND(phase=6),#REF!,IF(AND(phase=7),#REF!,IF(AND(phase=8),#REF!,IF(AND(phase=9),#REF!)))))))))","v":{"$error":"#REF!"}},{"$error":"#REF!"},{"$error":"#REF!"},{"$error":"#REF!"}]
[null,"limon droit 0,90 x 1,00m",null,null,10,150,12,{"$f":"IF((phase=1),#REF!,IF(AND(phase=2),#REF!,IF(AND(phase=3),#REF!,IF(AND(phase=4),#REF!,IF(AND(phase=5),#REF!,IF(AND(phase=6),#REF!,IF(AND(phase=7),#REF!,IF(AND(phase=8),#REF!,IF(AND(phase=9),#REF!)))))))))","v":{"$error":"#REF!"}},{"$error":"#REF!"},{"$error":"#REF!"},{"$error":"#REF!"}]
[null,"étais SN80 - 0,55/0,80m",null,null,5,20,1.6,{"$f":"IF((phase=1),#REF!,IF(AND(phase=2),#REF!,IF(AND(phase=3),#REF!,IF(AND(phase=4),#REF!,IF(AND(phase=5),#REF!,IF(AND(phase=6),#REF!,IF(AND(phase=7),#REF!,IF(AND(phase=8),#REF!,IF(AND(phase=9),#REF!)))))))))","v":{"$error":"#REF!"}},{"$error":"#REF!"},{"$error":"#REF!"},{"$error":"#REF!"}]
[null,"étais SN120 - 0,75/1,20m",null,null,6,24,1.92,{"$f":"IF((phase=1),#REF!,IF(AND(phase=2),#REF!,IF(AND(phase=3),#REF!,IF(AND(phase=4),#REF!,IF(AND(phase=5),#REF!,IF(AND(phase=6),#REF!,IF(AND(phase=7),#REF!,IF(AND(phase=8),#REF!,IF(AND(phase=9),#REF!)))))))))","v":{"$error":"#REF!"}},{"$error":"#REF!"},{"$error":"#REF!"},{"$error":"#REF!"}]
[null,"étais SN175 - 1,00/1,75m",null,null,7.2,35,{"$f":"F133*8%","v":2.8000000000000003},{"$f":"IF((phase=1),#REF!,IF(AND(phase=2),#REF!,IF(AND(phase=3),#REF!,IF(AND(phase=4),#REF!,IF(AND(phase=5),#REF!,IF(AND(phase=6),#REF!,IF(AND(phase=7),#REF!,IF(AND(phase=8),#REF!,IF(AND(phase=9),#REF!)))))))))","v":{"$error":"#REF!"}},{"$error":"#REF!"},{"$error":"#REF!"},{"$error":"#REF!"}]
[null,"étais SE300 - 1,70/3,00m",null,null,16,41.2,{"$f":"F134*8%","v":3.2960000000000003},{"$f":"IF((phase=1),#REF!,IF(AND(phase=2),#REF!,IF(AND(phase=3),#REF!,IF(AND(phase=4),#REF!,IF(AND(phase=5),#REF!,IF(AND(phase=6),#REF!,IF(AND(phase=7),#REF!,IF(AND(phase=8),#REF!,IF(AND(phase=9),#REF!)))))))))","v":{"$error":"#REF!"}},{"$error":"#REF!"},{"$error":"#REF!"},{"$error":"#REF!"}]
[null,"étais SE400 - 2,20/4,00m",null,null,17.5,50,4,{"$f":"IF((phase=1),#REF!,IF(AND(phase=2),#REF!,IF(AND(phase=3),#REF!,IF(AND(phase=4),#REF!,IF(AND(phase=5),#REF!,IF(AND(phase=6),#REF!,IF(AND(phase=7),#REF!,IF(AND(phase=8),#REF!,IF(AND(phase=9),#REF!)))))))))","v":{"$error":"#REF!"}},{"$error":"#REF!"},{"$error":"#REF!"},{"$error":"#REF!"}]
[null,"sécurétai - 1,50/1,50m",null,null,12,156,12.48,{"$f":"IF((phase=1),#REF!,IF(AND(phase=2),#REF!,IF(AND(phase=3),#REF!,IF(AND(phase=4),#REF!,IF(AND(phase=5),#REF!,IF(AND(phase=6),#REF!,IF(AND(phase=7),#REF!,IF(AND(phase=8),#REF!,IF(AND(phase=9),#REF!)))))))))","v":{"$error":"#REF!"}},{"$error":"#REF!"},{"$error":"#REF!"},{"$error":"#REF!"}]
[null,"échelle ASE 0,70m",null,null,10.6,44.56,3.5648000000000004,{"$f":"IF((phase=1),#REF!,IF(AND(phase=2),#REF!,IF(AND(phase=3),#REF!,IF(AND(phase=4),#REF!,IF(AND(phase=5),#REF!,IF(AND(phase=6),#REF!,IF(AND(phase=7),#REF!,IF(AND(phase=8),#REF!,IF(AND(phase=9),#REF!)))))))))","v":{"$error":"#REF!"}},{"$error":"#REF!"},{"$error":"#REF!"},{"$error":"#REF!"}]
[null,"échelle ASE 1,40m",null,null,19.899999999999999,70.42,5.6336000000000004,{"$f":"IF((phase=1),#REF!,IF(AND(phase=2),#REF!,IF(AND(phase=3),#REF!,IF(AND(phase=4),#REF!,IF(AND(phase=5),#REF!,IF(AND(phase=6),#REF!,IF(AND(phase=7),#REF!,IF(AND(phase=8),#REF!,IF(AND(phase=9),#REF!)))))))))","v":{"$error":"#REF!"}},{"$error":"#REF!"},{"$error":"#REF!"},{"$error":"#REF!"}]
[null,"garde corps ASE 1,80m",null,null,11.8,40.520000000000003,3.2416000000000005,{"$f":"IF((phase=1),#REF!,IF(AND(phase=2),#REF!,IF(AND(phase=3),#REF!,IF(AND(phase=4),#REF!,IF(AND(phase=5),#REF!,IF(AND(phase=6),#REF!,IF(AND(phase=7),#REF!,IF(AND(phase=8),#REF!,IF(AND(phase=9),#REF!)))))))))","v":{"$error":"#REF!"}},{"$error":"#REF!"},{"$error":"#REF!"},{"$error":"#REF!"}]
[null,"croisillon ASE 0,70m",null,null,4.25,15.08,1.2064000000000001,{"$f":"IF((phase=1),#REF!,IF(AND(phase=2),#REF!,IF(AND(phase=3),#REF!,IF(AND(phase=4),#REF!,IF(AND(phase=5),#REF!,IF(AND(phase=6),#REF!,IF(AND(phase=7),#REF!,IF(AND(phase=8),#REF!,IF(AND(phase=9),#REF!)))))))))","v":{"$error":"#REF!"}},{"$error":"#REF!"},{"$error":"#REF!"},{"$error":"#REF!"}]
[null,"vérin de pied ASE",null,null,6.2,31.2,2.496,{"$f":"IF((phase=1),#REF!,IF(AND(phase=2),#REF!,IF(AND(phase=3),#REF!,IF(AND(phase=4),#REF!,IF(AND(phase=5),#REF!,IF(AND(phase=6),#REF!,IF(AND(phase=7),#REF!,IF(AND(phase=8),#REF!,IF(AND(phase=9),#REF!)))))))))","v":{"$error":"#REF!"}},{"$error":"#REF!"},{"$error":"#REF!"},{"$error":"#REF!"}]
[null,"vérin de tête ASE",null,null,6,28.6,2.2880000000000003,{"$f":"IF((phase=1),#REF!,IF(AND(phase=2),#REF!,IF(AND(phase=3),#REF!,IF(AND(phase=4),#REF!,IF(AND(phase=5),#REF!,IF(AND(phase=6),#REF!,IF(AND(phase=7),#REF!,IF(AND(phase=8),#REF!,IF(AND(phase=9),#REF!)))))))))","v":{"$error":"#REF!"}},{"$error":"#REF!"},{"$error":"#REF!"},{"$error":"#REF!"}]
[null,"plancher trappe ASE 0,60 x 1,80m",null,null,20.6,320,25.6,{"$f":"IF((phase=1),#REF!,IF(AND(phase=2),#REF!,IF(AND(phase=3),#REF!,IF(AND(phase=4),#REF!,IF(AND(phase=5),#REF!,IF(AND(phase=6),#REF!,IF(AND(phase=7),#REF!,IF(AND(phase=8),#REF!,IF(AND(phase=9),#REF!)))))))))","v":{"$error":"#REF!"}},{"$error":"#REF!"},{"$error":"#REF!"},{"$error":"#REF!"}]
[null,"plancher acier ASE 0,30 x 1,80m",null,null,14.8,54,4.32,{"$f":"IF((phase=1),#REF!,IF(AND(phase=2),#REF!,IF(AND(phase=3),#REF!,IF(AND(phase=4),#REF!,IF(AND(phase=5),#REF!,IF(AND(phase=6),#REF!,IF(AND(phase=7),#REF!,IF(AND(phase=8),#REF!,IF(AND(phase=9),#REF!)))))))))","v":{"$error":"#REF!"}},{"$f":"E144*H144","v":{"$error":"#REF!"}},{"$f":"F144*H144","v":{"$error":"#REF!"}},{"$f":"G144*H144","v":{"$error":"#REF!"}}]
[null,"fourche double entrée",null,null,2.5,9.5399999999999991,{"$f":"F145*8%","v":0.76319999999999999},{"$f":"IF((phase=1),#REF!,IF(AND(phase=2),#REF!,IF(AND(phase=3),#REF!,IF(AND(phase=4),#REF!,IF(AND(phase=5),#REF!,IF(AND(phase=6),#REF!,IF(AND(phase=7),#REF!,IF(AND(phase=8),#REF!,IF(AND(phase=9),#REF!)))))))))","v":{"$error":"#REF!"}},{"$error":"#REF!"},{"$error":"#REF!"},{"$error":"#REF!"}]
[null,"fourche réglable",null,null,6,80,6.4,{"$f":"IF((phase=1),#REF!,IF(AND(phase=2),#REF!,IF(AND(phase=3),#REF!,IF(AND(phase=4),#REF!,IF(AND(phase=5),#REF!,IF(AND(phase=6),#REF!,IF(AND(phase=7),#REF!,IF(AND(phase=8),#REF!,IF(AND(phase=9),#REF!)))))))))","v":{"$error":"#REF!"}},{"$error":"#REF!"},{"$error":"#REF!"},{"$error":"#REF!"}]
[null,"trapéze T28.100P",null,null,7.8,65.36,5.2287999999999997,{"$f":"IF((phase=1),#REF!,IF(AND(phase=2),#REF!,IF(AND(phase=3),#REF!,IF(AND(phase=4),#REF!,IF(AND(phase=5),#REF!,IF(AND(phase=6),#REF!,IF(AND(phase=7),#REF!,IF(AND(phase=8),#REF!,IF(AND(phase=9),#REF!)))))))))","v":{"$error":"#REF!"}},{"$error":"#REF!"},{"$error":"#REF!"},{"$error":"#REF!"}]
[null,"trapéze T28.100G",null,null,9.0500000000000007,70.8,5.6639999999999997,{"$f":"IF((phase=1),#REF!,IF(AND(phase=2),#REF!,IF(AND(phase=3),#REF!,IF(AND(phase=4),#REF!,IF(AND(phase=5),#REF!,IF(AND(phase=6),#REF!,IF(AND(phase=7),#REF!,IF(AND(phase=8),#REF!,IF(AND(phase=9),#REF!)))))))))","v":{"$error":"#REF!"}},{"$error":"#REF!"},{"$error":"#REF!"},{"$error":"#REF!"}]
[null,"trapéze T28.150P",null,null,9.5,72.599999999999994,5.8079999999999998,{"$f":"IF((phase=1),#REF!,IF(AND(phase=2),#REF!,IF(AND(phase=3),#REF!,IF(AND(phase=4),#REF!,IF(AND(phase=5),#REF!,IF(AND(phase=6),#REF!,IF(AND(phase=7),#REF!,IF(AND(phase=8),#REF!,IF(AND(phase=9),#REF!)))))))))","v":{"$error":"#REF!"}},{"$error":"#REF!"},{"$error":"#REF!"},{"$error":"#REF!"}]
[null,"trapéze T28.150G",null,null,11.15,74.88,5.9904000000000002,{"$f":"IF((phase=1),#REF!,IF(AND(phase=2),#REF!,IF(AND(phase=3),#REF!,IF(AND(phase=4),#REF!,IF(AND(phase=5),#REF!,IF(AND(phase=6),#REF!,IF(AND(phase=7),#REF!,IF(AND(phase=8),#REF!,IF(AND(phase=9),#REF!)))))))))","v":{"$error":"#REF!"}},{"$error":"#REF!"},{"$error":"#REF!"},{"$error":"#REF!"}]
[null,"raccord d'extrémité T28 RE.100",null,null,3.13,38.479999999999997,3.0783999999999998,{"$f":"IF((phase=1),#REF!,IF(AND(phase=2),#REF!,IF(AND(phase=3),#REF!,IF(AND(phase=4),#REF!,IF(AND(phase=5),#REF!,IF(AND(phase=6),#REF!,IF(AND(phase=7),#REF!,IF(AND(phase=8),#REF!,IF(AND(phase=9),#REF!)))))))))","v":{"$error":"#REF!"}},{"$error":"#REF!"},{"$error":"#REF!"},{"$error":"#REF!"}]
[null,"raccord d'extrémité T28 RE.150",null,null,4.3,42.7,3.4160000000000004,{"$f":"IF((phase=1),#REF!,IF(AND(phase=2),#REF!,IF(AND(phase=3),#REF!,IF(AND(phase=4),#REF!,IF(AND(phase=5),#REF!,IF(AND(phase=6),#REF!,IF(AND(phase=7),#REF!,IF(AND(phase=8),#REF!,IF(AND(phase=9),#REF!)))))))))","v":{"$error":"#REF!"}},{"$error":"#REF!"},{"$error":"#REF!"},{"$error":"#REF!"}]
[null,"diagonale horizontale T28 DH.100 x 100",null,null,3.5,36.86,2.9487999999999999,{"$f":"IF((phase=1),#REF!,IF(AND(phase=2),#REF!,IF(AND(phase=3),#REF!,IF(AND(phase=4),#REF!,IF(AND(phase=5),#REF!,IF(AND(phase=6),#REF!,IF(AND(phase=7),#REF!,IF(AND(phase=8),#REF!,IF(AND(phase=9),#REF!)))))))))","v":{"$error":"#REF!"}},{"$error":"#REF!"},{"$error":"#REF!"},{"$error":"#REF!"}]
[null,"diagonale horizontale T28 DH.100 x 150",null,null,4.3499999999999996,43.78,3.5024000000000002,{"$f":"IF((phase=1),#REF!,IF(AND(phase=2),#REF!,IF(AND(phase=3),#REF!,IF(AND(phase=4),#REF!,IF(AND(phase=5),#REF!,IF(AND(phase=6),#REF!,IF(AND(phase=7),#REF!,IF(AND(phase=8),#REF!,IF(AND(phase=9),#REF!)))))))))","v":{"$error":"#REF!"}},{"$error":"#REF!"},{"$error":"#REF!"},{"$error":"#REF!"}]
[null,"diagonale horizontale T28 DH.150 x 150",null,null,5.01,39.72,3.1776,{"$f":"IF((phase=1),#REF!,IF(AND(phase=2),#REF!,IF(AND(phase=3),#REF!,IF(AND(phase=4),#REF!,IF(AND(phase=5),#REF!,IF(AND(phase=6),#REF!,IF(AND(phase=7),#REF!,IF(AND(phase=8),#REF!,IF(AND(phase=9),#REF!)))))))))","v":{"$error":"#REF!"}},{"$error":"#REF!"},{"$error":"#REF!"},{"$error":"#REF!"}]
[null,"socle réglable T28 SR. Ø34",null,null,6.8,62.52,5.0016000000000007,{"$f":"IF((phase=1),#REF!,IF(AND(phase=2),#REF!,IF(AND(phase=3),#REF!,IF(AND(phase=4),#REF!,IF(AND(phase=5),#REF!,IF(AND(phase=6),#REF!,IF(AND(phase=7),#REF!,IF(AND(phase=8),#REF!,IF(AND(phase=9),#REF!)))))))))","v":{"$error":"#REF!"}},{"$error":"#REF!"},{"$error":"#REF!"},{"$error":"#REF!"}]
[null,"fourche réglable T28 FR. Ø34 2M",null,null,9.1999999999999993,62.52,5.0016000000000007,{"$f":"IF((phase=1),#REF!,IF(AND(phase=2),#REF!,IF(AND(phase=3),#REF!,IF(AND(phase=4),#REF!,IF(AND(phase=5),#REF!,IF(AND(phase=6),#REF!,IF(AND(phase=7),#REF!,IF(AND(phase=8),#REF!,IF(AND(phase=9),#REF!)))))))))","v":{"$error":"#REF!"}},{"$error":"#REF!"},{"$error":"#REF!"},{"$error":"#REF!"}]
[null,"fourche réglable T28 FR. Ø34 3M",null,null,10.5,null,0,{"$f":"IF((phase=1),#REF!,IF(AND(phase=2),#REF!,IF(AND(phase=3),#REF!,IF(AND(phase=4),#REF!,IF(AND(phase=5),#REF!,IF(AND(phase=6),#REF!,IF(AND(phase=7),#REF!,IF(AND(phase=8),#REF!,IF(AND(phase=9),#REF!)))))))))","v":{"$error":"#REF!"}},{"$error":"#REF!"},{"$error":"#REF!"},{"$error":"#REF!"}]
[null,"trapéze T40.60P",null,null,8.4,59.88,4.7904,{"$f":"IF((phase=1),#REF!,IF(AND(phase=2),#REF!,IF(AND(phase=3),#REF!,IF(AND(phase=4),#REF!,IF(AND(phase=5),#REF!,IF(AND(phase=6),#REF!,IF(AND(phase=7),#REF!,IF(AND(phase=8),#REF!,IF(AND(phase=9),#REF!)))))))))","v":{"$error":"#REF!"}},{"$error":"#REF!"},{"$error":"#REF!"},{"$error":"#REF!"}]
[null,"trapéze T40.60G",null,null,10.3,67.180000000000007,5.3744000000000005,{"$f":"IF((phase=1),#REF!,IF(AND(phase=2),#REF!,IF(AND(phase=3),#REF!,IF(AND(phase=4),#REF!,IF(AND(phase=5),#REF!,IF(AND(phase=6),#REF!,IF(AND(phase=7),#REF!,IF(AND(phase=8),#REF!,IF(AND(phase=9),#REF!)))))))))","v":{"$error":"#REF!"}},{"$error":"#REF!"},{"$error":"#REF!"},{"$error":"#REF!"}]
[null,"trapéze T40.100P",null,null,9.6999999999999993,63.88,5.1104000000000003,{"$f":"IF((phase=1),#REF!,IF(AND(phase=2),#REF!,IF(AND(phase=3),#REF!,IF(AND(phase=4),#REF!,IF(AND(phase=5),#REF!,IF(AND(phase=6),#REF!,IF(AND(phase=7),#REF!,IF(AND(phase=8),#REF!,IF(AND(phase=9),#REF!)))))))))","v":{"$error":"#REF!"}},{"$error":"#REF!"},{"$error":"#REF!"},{"$error":"#REF!"}]
[null,"trapéze T40.100G",null,null,13.4,71.180000000000007,5.6944000000000008,{"$f":"IF((phase=1),#REF!,IF(AND(phase=2),#REF!,IF(AND(phase=3),#REF!,IF(AND(phase=4),#REF!,IF(AND(phase=5),#REF!,IF(AND(phase=6),#REF!,IF(AND(phase=7),#REF!,IF(AND(phase=8),#REF!,IF(AND(phase=9),#REF!)))))))))","v":{"$error":"#REF!"}},{"$error":"#REF!"},{"$error":"#REF!"},{"$error":"#REF!"}]
[null,"raccord d'extrémité T40 RE.60",null,null,3.05,28,2.2400000000000002,{"$f":"IF((phase=1),#REF!,IF(AND(phase=2),#REF!,IF(AND(phase=3),#REF!,IF(AND(phase=4),#REF!,IF(AND(phase=5),#REF!,IF(AND(phase=6),#REF!,IF(AND(phase=7),#REF!,IF(AND(phase=8),#REF!,IF(AND(phase=9),#REF!)))))))))","v":{"$error":"#REF!"}},{"$error":"#REF!"},{"$error":"#REF!"},{"$error":"#REF!"}]
[null,"raccord d'extrémité T40 RE.100",null,null,3.9,35.5,2.84,{"$f":"IF((phase=1),#REF!,IF(AND(phase=2),#REF!,IF(AND(phase=3),#REF!,IF(AND(phase=4),#REF!,IF(AND(phase=5),#REF!,IF(AND(phase=6),#REF!,IF(AND(phase=7),#REF!,IF(AND(phase=8),#REF!,IF(AND(phase=9),#REF!)))))))))","v":{"$error":"#REF!"}},{"$error":"#REF!"},{"$error":"#REF!"},{"$error":"#REF!"}]
[null,"diagonale horizontale T40 DH.60 x 60",null,null,3,null,0,{"$f":"IF((phase=1),#REF!,IF(AND(phase=2),#REF!,IF(AND(phase=3),#REF!,IF(AND(phase=4),#REF!,IF(AND(phase=5),#REF!,IF(AND(phase=6),#REF!,IF(AND(phase=7),#REF!,IF(AND(phase=8),#REF!,IF(AND(phase=9),#REF!)))))))))","v":{"$error":"#REF!"}},{"$error":"#REF!"},{"$error":"#REF!"},{"$error":"#REF!"}]
[null,"diagonale horizontale T40 DH.60 x 100",null,null,3.1,30.68,2.4544000000000001,{"$f":"IF((phase=1),#REF!,IF(AND(phase=2),#REF!,IF(AND(phase=3),#REF!,IF(AND(phase=4),#REF!,IF(AND(phase=5),#REF!,IF(AND(phase=6),#REF!,IF(AND(phase=7),#REF!,IF(AND(phase=8),#REF!,IF(AND(phase=9),#REF!)))))))))","v":{"$error":"#REF!"}},{"$error":"#REF!"},{"$error":"#REF!"},{"$error":"#REF!"}]
[null,"diagonale horizontale T40 DH.100 x 100",null,null,3.75,36.54,2.9232,{"$f":"IF((phase=1),#REF!,IF(AND(phase=2),#REF!,IF(AND(phase=3),#REF!,IF(AND(phase=4),#REF!,IF(AND(phase=5),#REF!,IF(AND(phase=6),#REF!,IF(AND(phase=7),#REF!,IF(AND(phase=8),#REF!,IF(AND(phase=9),#REF!)))))))))","v":{"$error":"#REF!"}},{"$error":"#REF!"},{"$error":"#REF!"},{"$error":"#REF!"}]
[null,"socle réglable T40 SR. Ø42",null,null,9.4499999999999993,86,6.88,{"$f":"IF((phase=1),#REF!,IF(AND(phase=2),#REF!,IF(AND(phase=3),#REF!,IF(AND(phase=4),#REF!,IF(AND(phase=5),#REF!,IF(AND(phase=6),#REF!,IF(AND(phase=7),#REF!,IF(AND(phase=8),#REF!,IF(AND(phase=9),#REF!)))))))))","v":{"$error":"#REF!"}},{"$error":"#REF!"},{"$error":"#REF!"},{"$error":"#REF!"}]
[null,"fourche réglable T40 FR. Ø40 3M",null,null,14.2,79,6.32,{"$f":"IF((phase=1),#REF!,IF(AND(phase=2),#REF!,IF(AND(phase=3),#REF!,IF(AND(phase=4),#REF!,IF(AND(phase=5),#REF!,IF(AND(phase=6),#REF!,IF(AND(phase=7),#REF!,IF(AND(phase=8),#REF!,IF(AND(phase=9),#REF!)))))))))","v":{"$error":"#REF!"}},{"$error":"#REF!"},{"$error":"#REF!"},{"$error":"#REF!"}]
[null,"poutrelle H20 lg 1,00m",null,null,5,8,{"$f":"F170*15%","v":1.2},{"$f":"IF((phase=1),#REF!,IF(AND(phase=2),#REF!,IF(AND(phase=3),#REF!,IF(AND(phase=4),#REF!,IF(AND(phase=5),#REF!,IF(AND(phase=6),#REF!,IF(AND(phase=7),#REF!,IF(AND(phase=8),#REF!,IF(AND(phase=9),#REF!)))))))))","v":{"$error":"#REF!"}},{"$error":"#REF!"},{"$error":"#REF!"},{"$error":"#REF!"}]
[null,"poutrelle H20 lg 2,45m",null,null,12.25,19.600000000000001,{"$f":"F171*15%","v":2.94},{"$f":"IF((phase=1),#REF!,IF(AND(phase=2),#REF!,IF(AND(phase=3),#REF!,IF(AND(phase=4),#REF!,IF(AND(phase=5),#REF!,IF(AND(phase=6),#REF!,IF(AND(phase=7),#REF!,IF(AND(phase=8),#REF!,IF(AND(phase=9),#REF!)))))))))","v":{"$error":"#REF!"}},{"$error":"#REF!"},{"$error":"#REF!"},{"$error":"#REF!"}]
[null,"poutrelle H20 lg 2,90m",null,null,14.5,23.2,{"$f":"F172*15%","v":3.48},{"$f":"IF((phase=1),#REF!,IF(AND(phase=2),#REF!,IF(AND(phase=3),#REF!,IF(AND(phase=4),#REF!,IF(AND(phase=5),#REF!,IF(AND(phase=6),#REF!,IF(AND(phase=7),#REF!,IF(AND(phase=8),#REF!,IF(AND(phase=9),#REF!)))))))))","v":{"$error":"#REF!"}},{"$error":"#REF!"},{"$error":"#REF!"},{"$error":"#REF!"}]
[null,"poutrelle H20 lg 3,30m",null,null,16.5,26.4,{"$f":"F173*15%","v":3.9599999999999995},{"$f":"IF((phase=1),#REF!,IF(AND(phase=2),#REF!,IF(AND(phase=3),#REF!,IF(AND(phase=4),#REF!,IF(AND(phase=5),#REF!,IF(AND(phase=6),#REF!,IF(AND(phase=7),#REF!,IF(AND(phase=8),#REF!,IF(AND(phase=9),#REF!)))))))))","v":{"$error":"#REF!"}},{"$error":"#REF!"},{"$error":"#REF!"},{"$error":"#REF!"}]
[null,"poutrelle H20 lg 3,90m",null,null,19.5,31.2,{"$f":"F174*15%","v":4.68},{"$f":"IF((phase=1),#REF!,IF(AND(phase=2),#REF!,IF(AND(phase=3),#REF!,IF(AND(phase=4),#REF!,IF(AND(phase=5),#REF!,IF(AND(phase=6),#REF!,IF(AND(phase=7),#REF!,IF(AND(phase=8),#REF!,IF(AND(phase=9),#REF!)))))))))","v":{"$error":"#REF!"}},{"$error":"#REF!"},{"$error":"#REF!"},{"$error":"#REF!"}]
[null,"tube GC diam.40 lg 1.00m",null,null,null,2.5,0.2,{"$f":"IF((phase=1),#REF!,IF(AND(phase=2),#REF!,IF(AND(phase=3),#REF!,IF(AND(phase=4),#REF!,IF(AND(phase=5),#REF!,IF(AND(phase=6),#REF!,IF(AND(phase=7),#REF!,IF(AND(phase=8),#REF!,IF(AND(phase=9),#REF!)))))))))","v":{"$error":"#REF!"}},{"$error":"#REF!"},{"$error":"#REF!"},{"$error":"#REF!"}]
[null,"Poutrelle AL200 3,60",null,null,23.76,null,0,{"$f":"IF((phase=1),#REF!,IF(AND(phase=2),#REF!,IF(AND(phase=3),#REF!,IF(AND(phase=4),#REF!,IF(AND(phase=5),#REF!,IF(AND(phase=6),#REF!,IF(AND(phase=7),#REF!,IF(AND(phase=8),#REF!,IF(AND(phase=9),#REF!)))))))))","v":{"$error":"#REF!"}},{"$error":"#REF!"},{"$error":"#REF!"},{"$error":"#REF!"}]
[null,"tête d'étai",null,null,4.5999999999999996,null,0,{"$f":"IF((phase=1),#REF!,IF(AND(phase=2),#REF!,IF(AND(phase=3),#REF!,IF(AND(phase=4),#REF!,IF(AND(phase=5),#REF!,IF(AND(phase=6),#REF!,IF(AND(phase=7),#REF!,IF(AND(phase=8),#REF!,IF(AND(phase=9),#REF!)))))))))","v":{"$error":"#REF!"}},{"$error":"#REF!"},{"$error":"#REF!"},{"$error":"#REF!"}]
[null,"poutrelle primaire 200",null,null,14.5,null,0,{"$f":"IF((phase=1),#REF!,IF(AND(phase=2),#REF!,IF(AND(phase=3),#REF!,IF(AND(phase=4),#REF!,IF(AND(phase=5),#REF!,IF(AND(phase=6),#REF!,IF(AND(phase=7),#REF!,IF(AND(phase=8),#REF!,IF(AND(phase=9),#REF!)))))))))","v":{"$error":"#REF!"}},{"$error":"#REF!"},{"$error":"#REF!"},{"$error":"#REF!"}]
[null,"poutrelle primaire 170",null,null,13.2,null,0,{"$f":"IF((phase=1),#REF!,IF(AND(phase=2),#REF!,IF(AND(phase=3),#REF!,IF(AND(phase=4),#REF!,IF(AND(phase=5),#REF!,IF(AND(phase=6),#REF!,IF(AND(phase=7),#REF!,IF(AND(phase=8),#REF!,IF(AND(phase=9),#REF!)))))))))","v":{"$error":"#REF!"}},{"$error":"#REF!"},{"$error":"#REF!"},{"$error":"#REF!"}]
[null,"poutrelle primaire 150",null,null,11.6,null,0,{"$f":"IF((phase=1),#REF!,IF(AND(phase=2),#REF!,IF(AND(phase=3),#REF!,IF(AND(phase=4),#REF!,IF(AND(phase=5),#REF!,IF(AND(phase=6),#REF!,IF(AND(phase=7),#REF!,IF(AND(phase=8),#REF!,IF(AND(phase=9),#REF!)))))))))","v":{"$error":"#REF!"}},{"$error":"#REF!"},{"$error":"#REF!"},{"$error":"#REF!"}]
[null,"poutrelle primaire 115",null,null,8.8000000000000007,null,0,{"$f":"IF((phase=1),#REF!,IF(AND(phase=2),#REF!,IF(AND(phase=3),#REF!,IF(AND(phase=4),#REF!,IF(AND(phase=5),#REF!,IF(AND(phase=6),#REF!,IF(AND(phase=7),#REF!,IF(AND(phase=8),#REF!,IF(AND(phase=9),#REF!)))))))))","v":{"$error":"#REF!"}},{"$error":"#REF!"},{"$error":"#REF!"},{"$error":"#REF!"}]
[null,"poutrelle primaire 90",null,null,7,null,0,{"$f":"IF((phase=1),#REF!,IF(AND(phase=2),#REF!,IF(AND(phase=3),#REF!,IF(AND(phase=4),#REF!,IF(AND(phase=5),#REF!,IF(AND(phase=6),#REF!,IF(AND(phase=7),#REF!,IF(AND(phase=8),#REF!,IF(AND(phase=9),#REF!)))))))))","v":{"$error":"#REF!"}},{"$error":"#REF!"},{"$error":"#REF!"},{"$error":"#REF!"}]
[null,"poutrelle secondaire 170",null,null,6.1,null,0,{"$f":"IF((phase=1),#REF!,IF(AND(phase=2),#REF!,IF(AND(phase=3),#REF!,IF(AND(phase=4),#REF!,IF(AND(phase=5),#REF!,IF(AND(phase=6),#REF!,IF(AND(phase=7),#REF!,IF(AND(phase=8),#REF!,IF(AND(phase=9),#REF!)))))))))","v":{"$error":"#REF!"}},{"$error":"#REF!"},{"$error":"#REF!"},{"$error":"#REF!"}]
[null,"poutrelle secondaire 150",null,null,5.4,null,0,{"$f":"IF((phase=1),#REF!,IF(AND(phase=2),#REF!,IF(AND(phase=3),#REF!,IF(AND(phase=4),#REF!,IF(AND(phase=5),#REF!,IF(AND(phase=6),#REF!,IF(AND(phase=7),#REF!,IF(AND(phase=8),#REF!,IF(AND(phase=9),#REF!)))))))))","v":{"$error":"#REF!"}},{"$error":"#REF!"},{"$error":"#REF!"},{"$error":"#REF!"}]
[null,"poutrelle secondaire 115",null,null,4.2,null,0,{"$f":"IF((phase=1),#REF!,IF(AND(phase=2),#REF!,IF(AND(phase=3),#REF!,IF(AND(phase=4),#REF!,IF(AND(phase=5),#REF!,IF(AND(phase=6),#REF!,IF(AND(phase=7),#REF!,IF(AND(phase=8),#REF!,IF(AND(phase=9),#REF!)))))))))","v":{"$error":"#REF!"}},{"$error":"#REF!"},{"$error":"#REF!"},{"$error":"#REF!"}]
[null,"trépied",null,null,null,null,0,{"$f":"IF((phase=1),#REF!,IF(AND(phase=2),#REF!,IF(AND(phase=3),#REF!,IF(AND(phase=4),#REF!,IF(AND(phase=5),#REF!,IF(AND(phase=6),#REF!,IF(AND(phase=7),#REF!,IF(AND(phase=8),#REF!,IF(AND(phase=9),#REF!)))))))))","v":{"$error":"#REF!"}},{"$error":"#REF!"},{"$error":"#REF!"},{"$error":"#REF!"}]
[null,null,null,null,null,null,0,{"$f":"IF((phase=1),#REF!,IF(AND(phase=2),#REF!,IF(AND(phase=3),#REF!,IF(AND(phase=4),#REF!,IF(AND(phase=5),#REF!,IF(AND(phase=6),#REF!,IF(AND(phase=7),#REF!,IF(AND(phase=8),#REF!,IF(AND(phase=9),#REF!)))))))))","v":{"$error":"#REF!"}},{"$error":"#REF!"},{"$error":"#REF!"},{"$error":"#REF!"}]
[null,null,null,null,null,null,0,{"$f":"IF((phase=1),#REF!,IF(AND(phase=2),#REF!,IF(AND(phase=3),#REF!,IF(AND(phase=4),#REF!,IF(AND(phase=5),#REF!,IF(AND(phase=6),#REF!,IF(AND(phase=7),#REF!,IF(AND(phase=8),#REF!,IF(AND(phase=9),#REF!)))))))))","v":{"$error":"#REF!"}},{"$error":"#REF!"},{"$error":"#REF!"},{"$error":"#REF!"}]
[null,null,null,null,null,null,0,{"$f":"IF((phase=1),#REF!,IF(AND(phase=2),#REF!,IF(AND(phase=3),#REF!,IF(AND(phase=4),#REF!,IF(AND(phase=5),#REF!,IF(AND(phase=6),#REF!,IF(AND(phase=7),#REF!,IF(AND(phase=8),#REF!,IF(AND(phase=9),#REF!)))))))))","v":{"$error":"#REF!"}},{"$error":"#REF!"},{"$error":"#REF!"},{"$error":"#REF!"}]
[null,null,null,null,null,null,0,{"$f":"IF((phase=1),#REF!,IF(AND(phase=2),#REF!,IF(AND(phase=3),#REF!,IF(AND(phase=4),#REF!,IF(AND(phase=5),#REF!,IF(AND(phase=6),#REF!,IF(AND(phase=7),#REF!,IF(AND(phase=8),#REF!,IF(AND(phase=9),#REF!)))))))))","v":{"$error":"#REF!"}},{"$error":"#REF!"},{"$error":"#REF!"},{"$error":"#REF!"}]
[null,null,null,null,null,null,0,{"$f":"IF((phase=1),#REF!,IF(AND(phase=2),#REF!,IF(AND(phase=3),#REF!,IF(AND(phase=4),#REF!,IF(AND(phase=5),#REF!,IF(AND(phase=6),#REF!,IF(AND(phase=7),#REF!,IF(AND(phase=8),#REF!,IF(AND(phase=9),#REF!)))))))))","v":{"$error":"#REF!"}},{"$error":"#REF!"},{"$error":"#REF!"},{"$error":"#REF!"}]
[null,null,null,null,null,null,0,{"$f":"IF((phase=1),#REF!,IF(AND(phase=2),#REF!,IF(AND(phase=3),#REF!,IF(AND(phase=4),#REF!,IF(AND(phase=5),#REF!,IF(AND(phase=6),#REF!,IF(AND(phase=7),#REF!,IF(AND(phase=8),#REF!,IF(AND(phase=9),#REF!)))))))))","v":{"$error":"#REF!"}},{"$error":"#REF!"},{"$error":"#REF!"},{"$error":"#REF!"}]
[null,null,null,null,null,null,0,{"$f":"IF((phase=1),#REF!,IF(AND(phase=2),#REF!,IF(AND(phase=3),#REF!,IF(AND(phase=4),#REF!,IF(AND(phase=5),#REF!,IF(AND(phase=6),#REF!,IF(AND(phase=7),#REF!,IF(AND(phase=8),#REF!,IF(AND(phase=9),#REF!)))))))))","v":{"$error":"#REF!"}},{"$error":"#REF!"},{"$error":"#REF!"},{"$error":"#REF!"}]
[null,null,null,null,null,null,0,{"$f":"IF((phase=1),#REF!,IF(AND(phase=2),#REF!,IF(AND(phase=3),#REF!,IF(AND(phase=4),#REF!,IF(AND(phase=5),#REF!,IF(AND(phase=6),#REF!,IF(AND(phase=7),#REF!,IF(AND(phase=8),#REF!,IF(AND(phase=9),#REF!)))))))))","v":{"$error":"#REF!"}},{"$error":"#REF!"},{"$error":"#REF!"},{"$error":"#REF!"}]
[null,null,null,null,null,null,0,{"$f":"IF((phase=1),#REF!,IF(AND(phase=2),#REF!,IF(AND(phase=3),#REF!,IF(AND(phase=4),#REF!,IF(AND(phase=5),#REF!,IF(AND(phase=6),#REF!,IF(AND(phase=7),#REF!,IF(AND(phase=8),#REF!,IF(AND(phase=9),#REF!)))))))))","v":{"$error":"#REF!"}},{"$error":"#REF!"},{"$error":"#REF!"},{"$error":"#REF!"}]
[null,null,null,null,null,null,0,{"$f":"IF((phase=1),#REF!,IF(AND(phase=2),#REF!,IF(AND(phase=3),#REF!,IF(AND(phase=4),#REF!,IF(AND(phase=5),#REF!,IF(AND(phase=6),#REF!,IF(AND(phase=7),#REF!,IF(AND(phase=8),#REF!,IF(AND(phase=9),#REF!)))))))))","v":{"$error":"#REF!"}},{"$error":"#REF!"},{"$error":"#REF!"},{"$error":"#REF!"}]
[null,null,null,null,null,null,0,{"$f":"IF((phase=1),#REF!,IF(AND(phase=2),#REF!,IF(AND(phase=3),#REF!,IF(AND(phase=4),#REF!,IF(AND(phase=5),#REF!,IF(AND(phase=6),#REF!,IF(AND(phase=7),#REF!,IF(AND(phase=8),#REF!,IF(AND(phase=9),#REF!)))))))))","v":{"$error":"#REF!"}},{"$error":"#REF!"},{"$error":"#REF!"},{"$error":"#REF!"}]
[null,null,null,null,null,null,0,{"$f":"IF((phase=1),#REF!,IF(AND(phase=2),#REF!,IF(AND(phase=3),#REF!,IF(AND(phase=4),#REF!,IF(AND(phase=5),#REF!,IF(AND(phase=6),#REF!,IF(AND(phase=7),#REF!,IF(AND(phase=8),#REF!,IF(AND(phase=9),#REF!)))))))))","v":{"$error":"#REF!"}},{"$error":"#REF!"},{"$error":"#REF!"},{"$error":"#REF!"}]
[null,null,null,null,null,null,0,{"$f":"IF((phase=1),#REF!,IF(AND(phase=2),#REF!,IF(AND(phase=3),#REF!,IF(AND(phase=4),#REF!,IF(AND(phase=5),#REF!,IF(AND(phase=6),#REF!,IF(AND(phase=7),#REF!,IF(AND(phase=8),#REF!,IF(AND(phase=9),#REF!)))))))))","v":{"$error":"#REF!"}},{"$error":"#REF!"},{"$error":"#REF!"},{"$error":"#REF!"}]
[null,null,null,null,null,null,0,{"$f":"IF((phase=1),#REF!,IF(AND(phase=2),#REF!,IF(AND(phase=3),#REF!,IF(AND(phase=4),#REF!,IF(AND(phase=5),#REF!,IF(AND(phase=6),#REF!,IF(AND(phase=7),#REF!,IF(AND(phase=8),#REF!,IF(AND(phase=9),#REF!)))))))))","v":{"$error":"#REF!"}},{"$error":"#REF!"},{"$error":"#REF!"},{"$error":"#REF!"}]
[null,null,null,null,null,null,0,{"$f":"IF((phase=1),#REF!,IF(AND(phase=2),#REF!,IF(AND(phase=3),#REF!,IF(AND(phase=4),#REF!,IF(AND(phase=5),#REF!,IF(AND(phase=6),#REF!,IF(AND(phase=7),#REF!,IF(AND(phase=8),#REF!,IF(AND(phase=9),#REF!)))))))))","v":{"$error":"#REF!"}},{"$error":"#REF!"},{"$error":"#REF!"},{"$error":"#REF!"}]
[null,null,null,null,null,null,0,{"$f":"IF((phase=1),#REF!,IF(AND(phase=2),#REF!,IF(AND(phase=3),#REF!,IF(AND(phase=4),#REF!,IF(AND(phase=5),#REF!,IF(AND(phase=6),#REF!,IF(AND(phase=7),#REF!,IF(AND(phase=8),#REF!,IF(AND(phase=9),#REF!)))))))))","v":{"$error":"#REF!"}},{"$error":"#REF!"},{"$error":"#REF!"},{"$error":"#REF!"}]
[null,null,null,null,null,null,0,{"$f":"IF((phase=1),#REF!,IF(AND(phase=2),#REF!,IF(AND(phase=3),#REF!,IF(AND(phase=4),#REF!,IF(AND(phase=5),#REF!,IF(AND(phase=6),#REF!,IF(AND(phase=7),#REF!,IF(AND(phase=8),#REF!,IF(AND(phase=9),#REF!)))))))))","v":{"$error":"#REF!"}},{"$error":"#REF!"},{"$error":"#REF!"},{"$error":"#REF!"}]
[null,null,null,null,null,null,0,{"$f":"IF((phase=1),#REF!,IF(AND(phase=2),#REF!,IF(AND(phase=3),#REF!,IF(AND(phase=4),#REF!,IF(AND(phase=5),#REF!,IF(AND(phase=6),#REF!,IF(AND(phase=7),#REF!,IF(AND(phase=8),#REF!,IF(AND(phase=9),#REF!)))))))))","v":{"$error":"#REF!"}},{"$error":"#REF!"},{"$error":"#REF!"},{"$error":"#REF!"}]
[null,null,null,null,null,null,0,{"$f":"IF((phase=1),#REF!,IF(AND(phase=2),#REF!,IF(AND(phase=3),#REF!,IF(AND(phase=4),#REF!,IF(AND(phase=5),#REF!,IF(AND(phase=6),#REF!,IF(AND(phase=7),#REF!,IF(AND(phase=8),#REF!,IF(AND(phase=9),#REF!)))))))))","v":{"$error":"#REF!"}},{"$error":"#REF!"},{"$error":"#REF!"},{"$error":"#REF!"}]
[null,null,null,null,null,null,0,{"$f":"IF((phase=1),#REF!,IF(AND(phase=2),#REF!,IF(AND(phase=3),#REF!,IF(AND(phase=4),#REF!,IF(AND(phase=5),#REF!,IF(AND(phase=6),#REF!,IF(AND(phase=7),#REF!,IF(AND(phase=8),#REF!,IF(AND(phase=9),#REF!)))))))))","v":{"$error":"#REF!"}},{"$error":"#REF!"},{"$error":"#REF!"},{"$error":"#REF!"}]
[null,null,null,null,null,null,0,{"$f":"IF((phase=1),#REF!,IF(AND(phase=2),#REF!,IF(AND(phase=3),#REF!,IF(AND(phase=4),#REF!,IF(AND(phase=5),#REF!,IF(AND(phase=6),#REF!,IF(AND(phase=7),#REF!,IF(AND(phase=8),#REF!,IF(AND(phase=9),#REF!)))))))))","v":{"$error":"#REF!"}},{"$error":"#REF!"},{"$error":"#REF!"},{"$error":"#REF!"}]
[null,null,null,null,null,null,0,{"$f":"IF((phase=1),#REF!,IF(AND(phase=2),#REF!,IF(AND(phase=3),#REF!,IF(AND(phase=4),#REF!,IF(AND(phase=5),#REF!,IF(AND(phase=6),#REF!,IF(AND(phase=7),#REF!,IF(AND(phase=8),#REF!,IF(AND(phase=9),#REF!)))))))))","v":{"$error":"#REF!"}},{"$error":"#REF!"},{"$error":"#REF!"},{"$error":"#REF!"}]
[null,null,null,null,null,null,0,{"$f":"IF((phase=1),#REF!,IF(AND(phase=2),#REF!,IF(AND(phase=3),#REF!,IF(AND(phase=4),#REF!,IF(AND(phase=5),#REF!,IF(AND(phase=6),#REF!,IF(AND(phase=7),#REF!,IF(AND(phase=8),#REF!,IF(AND(phase=9),#REF!)))))))))","v":{"$error":"#REF!"}},{"$error":"#REF!"},{"$error":"#REF!"},{"$error":"#REF!"}]
[null,null,null,null,null,null,0,{"$f":"IF((phase=1),#REF!,IF(AND(phase=2),#REF!,IF(AND(phase=3),#REF!,IF(AND(phase=4),#REF!,IF(AND(phase=5),#REF!,IF(AND(phase=6),#REF!,IF(AND(phase=7),#REF!,IF(AND(phase=8),#REF!,IF(AND(phase=9),#REF!)))))))))","v":{"$error":"#REF!"}},{"$error":"#REF!"},{"$error":"#REF!"},{"$error":"#REF!"}]
[null,null,null,null,null,null,0,{"$f":"IF((phase=1),#REF!,IF(AND(phase=2),#REF!,IF(AND(phase=3),#REF!,IF(AND(phase=4),#REF!,IF(AND(phase=5),#REF!,IF(AND(phase=6),#REF!,IF(AND(phase=7),#REF!,IF(AND(phase=8),#REF!,IF(AND(phase=9),#REF!)))))))))","v":{"$error":"#REF!"}},{"$error":"#REF!"},{"$error":"#REF!"},{"$error":"#REF!"}]
[null,null,null,null,null,null,0,{"$f":"IF((phase=1),#REF!,IF(AND(phase=2),#REF!,IF(AND(phase=3),#REF!,IF(AND(phase=4),#REF!,IF(AND(phase=5),#REF!,IF(AND(phase=6),#REF!,IF(AND(phase=7),#REF!,IF(AND(phase=8),#REF!,IF(AND(phase=9),#REF!)))))))))","v":{"$error":"#REF!"}},{"$error":"#REF!"},{"$error":"#REF!"},{"$error":"#REF!"}]
[null,null,null,null,null,null,0,{"$f":"IF((phase=1),#REF!,IF(AND(phase=2),#REF!,IF(AND(phase=3),#REF!,IF(AND(phase=4),#REF!,IF(AND(phase=5),#REF!,IF(AND(phase=6),#REF!,IF(AND(phase=7),#REF!,IF(AND(phase=8),#REF!,IF(AND(phase=9),#REF!)))))))))","v":{"$error":"#REF!"}},{"$error":"#REF!"},{"$error":"#REF!"},{"$error":"#REF!"}]
[null,null,null,null,null,null,null,"F.E.I",{"$f":"SUM(I4:I213)","v":{"$error":"#REF!"}},{"$f":"SUM(J4:J213)","v":{"$error":"#REF!"}},{"$f":"SUM(K4:K213)","v":{"$error":"#REF!"}}]
[null,null,null,null,null,null,null,"F.E.I"]
[null,null,null,null,null,null,null,"F.E.I"]
[null,null,null,null,null,null,null,"F.E.I"]
[null,null,null,null,"F.E.I",null,null,"F.E.I","CLIENT"]
[null,null,null,null,null,null,null,"F.E.I"]
[null,null,null,null,"NOM et SIGNATURE",null,null,"F.E.I","NOM et SIGNATURE"]
[null,null,null,null,null,null,null,"F.E.I"]
[null,null,null,null,null,null,null,"F.E.I"]
[null,null,null,null,null,null,null,"F.E.I"]
[null,null,null,null,null,null,null,"F.E.I"]
[null,null,null,null,null,null,null,"F.E.I"]
[null,null,null,null,null,null,null,"F.E.I"]
[null,null,null,null,null,null,null,"F.E.I"]

{"sheet":"Feuil2","index":1,"n_rows":0,"n_cols":0,"rows_kept":0,"cut":false,"hidden":false,"merged":[]}

{"sheet":"Feuil3","index":2,"n_rows":0,"n_cols":0,"rows_kept":0,"cut":false,"hidden":false,"merged":[]}