{"text_format":"1","workbook":"xlsx","n_sheets":57,"sheets":["Interface","Planning Modèle","Calculs","Equilibre","Menu & Règles","S1","S2","S3","S4","S5","S6","S7","S8","S9","S10","S11","S12","S13","S14","S15","S16","S17","S18","S19","S20","S21","S22","S23","S24","S25","S26","S27","S28","S29","S30","S31","S32","S33","S34","S35","S36","S37","S38","S39","S40","S41","S42","S43","S44","S45","S46","S47","S48","S49","S50","S51","S52"],"not_rendered":{"charts":0,"images":0,"macros":0,"external_links":0,"defined_names":12,"comments":0,"pivot_tables":0},"unopened":[],"bounds":{"document_bytes":16777216,"sheet_cells":100000,"rows_first":2000,"rows_last":500,"rows_between":2000,"halvings":0,"cell_chars":16384,"cell_head_chars":4096},"cells_cut":0,"cells_raw":0,"read":"whole","date_system":"1900"}

{"sheet":"Interface","index":0,"n_rows":0,"n_cols":0,"rows_kept":0,"cut":false,"hidden":false,"merged":[]}

{"sheet":"Planning Modèle","index":1,"n_rows":78,"n_cols":33,"rows_kept":78,"cut":false,"hidden":false,"merged":[[36,13,36,32],[58,13,58,32],[59,13,59,14],[59,15,59,16],[59,17,59,18],[59,19,59,20],[59,21,59,22],[59,23,59,24],[59,25,59,26],[59,27,59,28],[59,29,59,30],[59,31,59,32],[37,23,37,24],[37,25,37,26],[37,27,37,28],[37,29,37,30],[37,31,37,32],[37,13,37,14],[37,15,37,16],[37,17,37,18],[37,19,37,20],[37,21,37,22],[2,1,15,1],[17,1,26,1],[1,3,2,3],[1,5,2,5],[1,7,2,7],[1,4,2,4],[1,6,2,6],[1,12,2,12],[0,3,0,4],[1,9,2,9],[1,11,2,11],[1,8,2,8],[1,10,2,10]]}
[null,null,null,"PLANNING POLE ACCUEIL",null,"SEMAINE",1,null,null,"LUNDI 1 JANVIER","AU ","VENDREDI 5 JANVIER"]
[null,null,null,"LUNDI","bureau","MARDI","bureau","MERCREDI","bureau","JEUDI","bureau","VENDREDI","bureau"]
[null,"MATIN 8H30-12H15","ACTIVITE"]
[null,null,"ACCUEIL 300",null,null,null,null,null,null,null,null,null,null,null,"deroulant",null,"PLAGE","ZONE",null,"PLAGEINIT","ZONE",null,"PLAGEREDUITE","ZONE",null,"VALEURS"]
[null,null,"REGULATION MATIN 310",null,null,null,null,null,null,null,null,null,null,null,"pas deroulant",null,"DLundiMatin","=$D$5:$D$11",null,"PlageInit1",{"$f":"$N$40:$N$56","v":{"$error":"#VALUE!"}},null,"PlageReduite1",null,null,"Valeursn1","=DECALER(PlageReduite1;0;0;NB.SI(PlageReduite1;\">\"\"\"\"\");1)"]
[null,null,"PERMANENCE SAO",null,null,null,null,null,null,null,null,null,null,null,null,null,"MardiMatin","=$F$5:$F$11",null,"PlageInit2",null,null,"PlageReduite2",null,null,"Valeurs2"]
[null,null,"PERMANENCE SAO",null,null,null,null,null,null,null,null,null,null,null,null,null,"MercrediMatin","=$H$5:$H$11",null,"PlageInit3",null,null,"PlageReduite3",null,null,"Valeurs3"]
[null,null,"PERMANENCE SAO",null,null,null,null,null,null,null,null,null,null,null,null,null,"JeudiMatin","=$J$5:$J$11",null,"PlageInit4",null,null,"PlageReduite4",null,null,"Valeurs4"]
[null,null,"PERMANENCE SAO",null,null,null,null,null,null,null,null,null,null,null,null,null,"VendrediMatin","=$L$5:$L$11",null,"PlageInit5",null,null,"PlageReduite5",null,null,"Valeurs5"]
[null,null,"PERMANENCE FAJ",null,null,null,null,null,null,null,null,null,null,null,null,null,"LundiMatinB","=$E$5:$E$14",null,"PlageInit6",null,null,"PlageReduite6",null,null,"Valeurs6"]
[null,null,"HORS ACCUEIL",null,null,null,null,null,null,null,null,null,null,null,null,null,"MardiMatinB","=$G$5:$G$14",null,"PlageInit7",null,null,"PlageReduite7",null,null,"Valeurs7"]
[null,null,"SANTE GLOBALE",null,null,null,null,null,null,null,null,null,null,null,null,null,"MercrediMatinB","=$I$5:$I$14",null,"PlageInit8",null,null,"PlageReduite8",null,null,"Valeurs8"]
[null,null,"UMIPP",null,null,null,null,null,null,null,null,null,null,null,null,null,"JeudiMatinB","=$K$5:$K$14",null,"PlageInit9",null,null,"PlageReduite9",null,null,"Valeurs9"]
[null,null,"PSYCHOLOGUE",null,null,null,null,null,null,null,null,null,null,null,null,null,"VendrediMatinB","=$M$5:$M$14",null,"PlageInit10",null,null,"PlageReduite10",null,null,"Valeurs10"]
[null,null,"EXTERRIEUR",null,null,null,null,null,null,null,null,null,null,null,null,null,"LundiAprem",null,null,"PlageInit11",null,null,"PlageReduite11",null,null,"Valeurs11"]
[null,null,"DOMICILIATION POSTALE",null,null,null,null,null,null,null,null,null,null,null,null,null,"MardiAprem",null,null,"PlageInit12",null,null,"PlageReduite12",null,null,"Valeurs12"]
[null,"13H-14H","REDACTION ",null,null,null,null,null,null,null,null,null,null,null,null,null,"MercrediAprem",null,null,"PlageInit13",null,null,"PlageReduite13",null,null,"Valeurs13"]
[null,"APRES-MIDI 14H-17H","ACCUEIL 300",null,null,null,null,null,null,null,null,null,null,null,null,null,"JeudiAprem",null,null,"PlageInit14",null,null,"PlageReduite14",null,null,"Valeurs14"]
[null,null,"REGULATION APREM 310",null,null,"REUNION DE SERVICE",null,null,null,null,null,null,null,null,null,null,"VendrediAprem",null,null,"PlageInit15",null,null,"PlageReduite15",null,null,"Valeurs15"]
[null,null,"URGENCE SAO",null,null,"REUNION DE SERVICE",null,null,null,null,null,null,null,null,null,null,"LundiApremB",null,null,"PlageInit16",null,null,"PlageReduite16",null,null,"Valeurs16"]
[null,null,"RENDEZ-VOUS",null,null,"REUNION DE SERVICE",null,null,null,null,null,null,null,null,null,null,"MardiApremB",null,null,"PlageInit17",null,null,"PlageReduite17",null,null,"Valeurs17"]
[null,null,"RENDEZ-VOUS",null,null,"REUNION DE SERVICE",null,null,null,null,null,null,null,null,null,null,"MercrediApremB",null,null,"PlageInit18",null,null,"PlageReduite18",null,null,"Valeurs18"]
[null,null,"RENDEZ-VOUS",null,null,"REUNION DE SERVICE",null,null,null,null,null,null,null,null,null,null,"JeudiApremB",null,null,"PlageInit19",null,null,"PlageReduite19",null,null,"Valeurs19"]
[null,null,"RENDEZ-VOUS",null,null,"REUNION DE SERVICE",null,null,null,null,null,null,null,null,null,null,"VendrediApremB",null,null,"PlageInit20",null,null,"PlageReduite20",null,null,"Valeurs20"]
[null,null,"PERMANENCE FAJ",null,null,"REUNION DE SERVICE"]
[null,null,"RENDEZ-VOUS FAJ",null,null,"REUNION DE SERVICE"]
[null,null,"DOMICILIATION POSTALE",null,null,"REUNION DE SERVICE"]
[]
[null,null,"NE TRAVAILLENT PAS              MERCREDI =CHRISTEL / LYSIANE                JEUDI A.MIDI   ANTHONY          VENDREDI   A.MIDI   AUDREY ET  WILLIAM"]
[null,"NOTES"]
[]
[]
[]
[]
[]
[]
[null,null,null,null,null,null,null,null,null,null,null,null,null,"MATIN"]
[null,null,null,null,null,null,null,null,null,null,null,null,null,"LUNDI",null,"MARDI",null,"MERCREDI",null,"JEUDI",null,"VENDREDI",null,"LUNDI",null,"MARDI",null,"MERCREDI",null,"JEUDI",null,"VENDREDI"]
[null,null,null,null,null,null,null,null,null,null,null,null,null,"ZPlageInit1","ZPlageReduite1","PlageInit2","PlageReduite2","PlageInit3","PlageReduite3","PlageInit4","PlageReduite4","PlageInit5","PlageReduite5","PlageInit6","PlageReduite6","PlageInit7","PlageReduite7","PlageInit8","PlageReduite8","PlageInit9","PlageReduite9","PlageInit10","PlageReduite10"]
[null,null,null,null,null,null,null,null,null,null,null,null,null,"GAETAN C",{"$f":"INDEX(PlageInit1,SMALL(IF(COUNTIF(LundiMatin,PlageInit1)>0,\"\",ROW(PlageInit1)),ROW()))","v":{"$error":"#NUM!"}},"GAETAN C",null,"GAETAN C",null,"GAETAN C",null,"GAETAN C",null,301,null,301,null,301,null,301,null,301]
[null,null,null,null,null,null,null,null,null,null,null,null,null,"MARIANNE T",{"$f":"IFERROR(INDEX(PlageInit1,SMALL(IF(COUNTIF(LundiMatin,PlageInit1)>0,\"\",ROW(PlageInit1)),ROW())),\"\")","v":""},"MARIANNE T",null,"MARIANNE T",null,"MARIANNE T",null,"MARIANNE T",null,302,null,302,null,302,null,302,null,302]
[null,null,null,null,null,null,null,null,null,null,null,null,null,"SALIMA D",{"$f":"IFERROR(INDEX(PlageInit1,SMALL(IF(COUNTIF(LundiMatin,PlageInit1)>0,\"\",ROW(PlageInit1)),ROW())),\"\")","v":""},"SALIMA D",null,"SALIMA D",null,"SALIMA D",null,"SALIMA D",null,303,null,303,null,303,null,303,null,303]
[null,null,null,null,null,null,null,null,null,null,null,null,null,"EMILIE B",{"$f":"IFERROR(INDEX(PlageInit1,SMALL(IF(COUNTIF(LundiMatin,PlageInit1)>0,\"\",ROW(PlageInit1)),ROW())),\"\")","v":""},"EMILIE B",null,"EMILIE B",null,"EMILIE B",null,"EMILIE B",null,304,null,304,null,304,null,304,null,304]
[null,null,null,null,null,null,null,null,null,null,null,null,null,"AUDREY L",{"$f":"IFERROR(INDEX(PlageInit1,SMALL(IF(COUNTIF(LundiMatin,PlageInit1)>0,\"\",ROW(PlageInit1)),ROW())),\"\")","v":""},"AUDREY L",null,"AUDREY L",null,"AUDREY L",null,"AUDREY L",null,305,null,305,null,305,null,305,null,305]
[null,null,null,null,null,null,null,null,null,null,null,null,null,"MATHIEU G",{"$f":"IFERROR(INDEX(PlageInit1,SMALL(IF(COUNTIF(LundiMatin,PlageInit1)>0,\"\",ROW(PlageInit1)),ROW())),\"\")","v":""},"MATHIEU G",null,"MATHIEU G",null,"MATHIEU G",null,"MATHIEU G",null,306,null,306,null,306,null,306,null,306]
[null,null,null,null,null,null,null,null,null,null,null,null,null,"CHRISTEL L",{"$f":"IFERROR(INDEX(PlageInit1,SMALL(IF(COUNTIF(LundiMatin,PlageInit1)>0,\"\",ROW(PlageInit1)),ROW())),\"\")","v":""},"CHRISTEL L",null,"CHRISTEL L",null,"CHRISTEL L",null,"CHRISTEL L",null,307,null,307,null,307,null,307,null,307]
[null,null,null,null,null,null,null,null,null,null,null,null,null,"CAMILLE MD",{"$f":"IFERROR(INDEX(PlageInit1,SMALL(IF(COUNTIF(LundiMatin,PlageInit1)>0,\"\",ROW(PlageInit1)),ROW())),\"\")","v":""},"CAMILLE MD",null,"CAMILLE MD",null,"CAMILLE MD",null,"CAMILLE MD",null,308,null,308,null,308,null,308,null,308]
[null,null,null,null,null,null,null,null,null,null,null,null,null,"AMELIE M",{"$f":"IFERROR(INDEX(PlageInit1,SMALL(IF(COUNTIF(LundiMatin,PlageInit1)>0,\"\",ROW(PlageInit1)),ROW())),\"\")","v":""},"AMELIE M",null,"AMELIE M",null,"AMELIE M",null,"AMELIE M",null,313,null,313,null,313,null,313,null,313]
[null,null,null,null,null,null,null,null,null,null,null,null,null,"POME H",{"$f":"IFERROR(INDEX(PlageInit1,SMALL(IF(COUNTIF(LundiMatin,PlageInit1)>0,\"\",ROW(PlageInit1)),ROW())),\"\")","v":""},"POME H",null,"POME H",null,"POME H",null,"POME H",null,314,null,314,null,314,null,314,null,314]
[null,null,null,null,null,null,null,null,null,null,null,null,null,"LYSIANE B",{"$f":"IFERROR(INDEX(PlageInit1,SMALL(IF(COUNTIF(LundiMatin,PlageInit1)>0,\"\",ROW(PlageInit1)),ROW())),\"\")","v":""},"LYSIANE B",null,"LYSIANE B",null,"LYSIANE B",null,"LYSIANE B",null,315,null,315,null,315,null,315,null,315]
[null,null,null,null,null,null,null,null,null,null,null,null,null,"WILLIAM K",{"$f":"IFERROR(INDEX(PlageInit1,SMALL(IF(COUNTIF(LundiMatin,PlageInit1)>0,\"\",ROW(PlageInit1)),ROW())),\"\")","v":""},"WILLIAM K",null,"WILLIAM K",null,"WILLIAM K",null,"WILLIAM K",null,316,null,316,null,316,null,316,null,316]
[null,null,null,null,null,null,null,null,null,null,null,null,null,"ANTHONY C",{"$f":"IFERROR(INDEX(PlageInit1,SMALL(IF(COUNTIF(LundiMatin,PlageInit1)>0,\"\",ROW(PlageInit1)),ROW())),\"\")","v":""},"ANTHONY C",null,"ANTHONY C",null,"ANTHONY C",null,"ANTHONY C",null,317,null,317,null,317,null,317,null,317]
[null,null,null,null,null,null,null,null,null,null,null,null,null,"REMPLACANT 1",{"$f":"IFERROR(INDEX(PlageInit1,SMALL(IF(COUNTIF(LundiMatin,PlageInit1)>0,\"\",ROW(PlageInit1)),ROW())),\"\")","v":""},"REMPLACANT 1",null,"REMPLACANT 1",null,"REMPLACANT 1",null,"REMPLACANT 1"]
[null,null,null,null,null,null,null,null,null,null,null,null,null,"REMPLACANT 2",{"$f":"IFERROR(INDEX(PlageInit1,SMALL(IF(COUNTIF(LundiMatin,PlageInit1)>0,\"\",ROW(PlageInit1)),ROW())),\"\")","v":""},"REMPLACANT 2",null,"REMPLACANT 2",null,"REMPLACANT 2",null,"REMPLACANT 2"]
[null,null,null,null,null,null,null,null,null,null,null,null,null,"STAGIERE 1",{"$f":"IFERROR(INDEX(PlageInit1,SMALL(IF(COUNTIF(LundiMatin,PlageInit1)>0,\"\",ROW(PlageInit1)),ROW())),\"\")","v":""},"STAGIERE 1",null,"STAGIERE 1",null,"STAGIERE 1",null,"STAGIERE 1"]
[null,null,null,null,null,null,null,null,null,null,null,null,null,"STAGIERE 2",{"$f":"IFERROR(INDEX(PlageInit1,SMALL(IF(COUNTIF(LundiMatin,PlageInit1)>0,\"\",ROW(PlageInit1)),ROW())),\"\")","v":""},"STAGIERE 2",null,"STAGIERE 2",null,"STAGIERE 2",null,"STAGIERE 2"]
[]
[]
[null,null,null,null,null,null,null,null,null,null,null,null,null,"APREM"]
[null,null,null,null,null,null,null,null,null,null,null,null,null,"LUNDI",null,"MARDI",null,"MERCREDI",null,"JEUDI",null,"VENDREDI",null,"LUNDI",null,"MARDI",null,"MERCREDI",null,"JEUDI",null,"VENDREDI"]
[null,null,null,null,null,null,null,null,null,null,null,null,null,"PlageInit11","PlageReduite11","PlageInit12","PlageReduite12","PlageInit13","PlageReduite13","PlageInit14","PlageReduite14","PlageInit15","PlageReduite15","PlageInit16","PlageReduite16","PlageInit17","PlageReduite17","PlageInit18","PlageReduite18","PlageInit19","PlageReduite19","PlageInit20","PlageReduite20"]
[null,null,null,null,null,null,null,null,null,null,null,null,null,"GAETAN C",null,"GAETAN C",null,"GAETAN C",null,"GAETAN C",null,"GAETAN C",null,301,null,301,null,301,null,301,null,301]
[null,null,null,null,null,null,null,null,null,null,null,null,null,"MARIANNE T",null,"MARIANNE T",null,"MARIANNE T",null,"MARIANNE T",null,"MARIANNE T",null,302,null,302,null,302,null,302,null,302]
[null,null,null,null,null,null,null,null,null,null,null,null,null,"SALIMA D",null,"SALIMA D",null,"SALIMA D",null,"SALIMA D",null,"SALIMA D",null,303,null,303,null,303,null,303,null,303]
[null,null,null,null,null,null,null,null,null,null,null,null,null,"EMILIE B",null,"EMILIE B",null,"EMILIE B",null,"EMILIE B",null,"EMILIE B",null,304,null,304,null,304,null,304,null,304]
[null,null,null,null,null,null,null,null,null,null,null,null,null,"AUDREY L",null,"AUDREY L",null,"AUDREY L",null,"AUDREY L",null,"AUDREY L",null,305,null,305,null,305,null,305,null,305]
[null,null,null,null,null,null,null,null,null,null,null,null,null,"MATHIEU G",null,"MATHIEU G",null,"MATHIEU G",null,"MATHIEU G",null,"MATHIEU G",null,306,null,306,null,306,null,306,null,306]
[null,null,null,null,null,null,null,null,null,null,null,null,null,"CHRISTEL L",null,"CHRISTEL L",null,"CHRISTEL L",null,"CHRISTEL L",null,"CHRISTEL L",null,307,null,307,null,307,null,307,null,307]
[null,null,null,null,null,null,null,null,null,null,null,null,null,"CAMILLE MD",null,"CAMILLE MD",null,"CAMILLE MD",null,"CAMILLE MD",null,"CAMILLE MD",null,308,null,308,null,308,null,308,null,308]
[null,null,null,null,null,null,null,null,null,null,null,null,null,"AMELIE M",null,"AMELIE M",null,"AMELIE M",null,"AMELIE M",null,"AMELIE M",null,313,null,313,null,313,null,313,null,313]
[null,null,null,null,null,null,null,null,null,null,null,null,null,"POME H",null,"POME H",null,"POME H",null,"POME H",null,"POME H",null,314,null,314,null,314,null,314,null,314]
[null,null,null,null,null,null,null,null,null,null,null,null,null,"LYSIANE B",null,"LYSIANE B",null,"LYSIANE B",null,"LYSIANE B",null,"LYSIANE B",null,315,null,315,null,315,null,315,null,315]
[null,null,null,null,null,null,null,null,null,null,null,null,null,"WILLIAM K",null,"WILLIAM K",null,"WILLIAM K",null,"WILLIAM K",null,"WILLIAM K",null,316,null,316,null,316,null,316,null,316]
[null,null,null,null,null,null,null,null,null,null,null,null,null,"ANTHONY C",null,"ANTHONY C",null,"ANTHONY C",null,"ANTHONY C",null,"ANTHONY C",null,317,null,317,null,317,null,317,null,317]
[null,null,null,null,null,null,null,null,null,null,null,null,null,"REMPLACANT 1",null,"REMPLACANT 1",null,"REMPLACANT 1",null,"REMPLACANT 1",null,"REMPLACANT 1"]
[null,null,null,null,null,null,null,null,null,null,null,null,null,"REMPLACANT 2",null,"REMPLACANT 2",null,"REMPLACANT 2",null,"REMPLACANT 2",null,"REMPLACANT 2"]
[null,null,null,null,null,null,null,null,null,null,null,null,null,"STAGIERE 1",null,"STAGIERE 1",null,"STAGIERE 1",null,"STAGIERE 1",null,"STAGIERE 1"]
[null,null,null,null,null,null,null,null,null,null,null,null,null,"STAGIERE 2",null,"STAGIERE 2",null,"STAGIERE 2",null,"STAGIERE 2",null,"STAGIERE 2"]

{"sheet":"Calculs","index":2,"n_rows":139,"n_cols":56,"rows_kept":139,"cut":false,"hidden":false,"merged":[[56,0,56,2],[57,0,64,0],[57,1,64,1],[78,0,78,2],[79,0,86,0],[79,1,86,1],[67,0,67,2],[68,0,75,0],[68,1,75,1],[1,0,1,2],[2,0,17,0],[2,1,17,1],[39,0,39,2],[40,0,53,0],[40,1,53,1],[20,0,20,2],[21,0,36,0],[21,1,36,1],[126,0,126,2],[127,0,138,0],[127,1,138,1],[89,0,89,2],[90,0,101,0],[90,1,101,1],[104,0,104,2],[105,0,123,0],[105,1,123,1]]}
[]
["REGULATION MATIN",null,null,"FILE","S1","S2","S3","S4","S5","S6","S7","S8","S9","S10","S111","S122","S133","S144","S155","S166","S177","S188","S199","S20","S21","S22","S23","S24","S25","S26","S27","S28","S29","S30","S31","S32","S33","S34","S35","S36","S37","S38","S39","S40","S41","S42","S43","S44","S45","S46","S47","S48","S49","S50","S51","S52"]
["TS","OCCURRENCES \nREALISE","GAETAN C",{"$f":"$A$2","v":"REGULATION MATIN"},{"$f":"COUNTIF('S1'!$D$5:$L$5,$C3)","v":1},{"$f":"COUNTIF('S2'!$D$5:$L$5,$C3)","v":0},{"$f":"COUNTIF('S3'!$D$5:$L$5,$C3)","v":0},{"$f":"COUNTIF('S4'!$D$5:$L$5,$C3)","v":0},{"$f":"COUNTIF('S5'!$D$5:$L$5,$C3)","v":0},{"$f":"COUNTIF('S6'!$D$5:$L$5,$C3)","v":0},{"$f":"COUNTIF('S7'!$D$5:$L$5,$C3)","v":0},{"$f":"COUNTIF('S8'!$D$5:$L$5,$C3)","v":0},{"$f":"COUNTIF('S9'!$D$5:$L$5,$C3)","v":0},{"$f":"COUNTIF('S10'!$D$5:$L$5,$C3)","v":0},{"$f":"COUNTIF('S11'!$D$5:$L$5,$C3)","v":0},{"$f":"COUNTIF('S12'!$D$5:$L$5,$C3)","v":0},{"$f":"COUNTIF('S13'!$D$5:$L$5,$C3)","v":0},{"$f":"COUNTIF('S14'!$D$5:$L$5,$C3)","v":0},{"$f":"COUNTIF('S15'!$D$5:$L$5,$C3)","v":0},{"$f":"COUNTIF('S16'!$D$5:$L$5,$C3)","v":0},{"$f":"COUNTIF('S17'!$D$5:$L$5,$C3)","v":0},{"$f":"COUNTIF('S18'!$D$5:$L$5,$C3)","v":0},{"$f":"COUNTIF('S19'!$D$5:$L$5,$C3)","v":0},{"$f":"COUNTIF('S20'!$D$5:$L$5,$C3)","v":0},{"$f":"COUNTIF('S21'!$D$5:$L$5,$C3)","v":0},{"$f":"COUNTIF('S22'!$D$5:$L$5,$C3)","v":0},{"$f":"COUNTIF('S23'!$D$5:$L$5,$C3)","v":0},{"$f":"COUNTIF('S24'!$D$5:$L$5,$C3)","v":0},{"$f":"COUNTIF('S25'!$D$5:$L$5,$C3)","v":0},{"$f":"COUNTIF('S26'!$D$5:$L$5,$C3)","v":0},{"$f":"COUNTIF('S27'!$D$5:$L$5,$C3)","v":0},{"$f":"COUNTIF('S28'!$D$5:$L$5,$C3)","v":0},{"$f":"COUNTIF('S29'!$D$5:$L$5,$C3)","v":0},{"$f":"COUNTIF('S30'!$D$5:$L$5,$C3)","v":0},{"$f":"COUNTIF('S31'!$D$5:$L$5,$C3)","v":0},{"$f":"COUNTIF('S32'!$D$5:$L$5,$C3)","v":0},{"$f":"COUNTIF('S33'!$D$5:$L$5,$C3)","v":0},{"$f":"COUNTIF('S34'!$D$5:$L$5,$C3)","v":0},{"$f":"COUNTIF('S35'!$D$5:$L$5,$C3)","v":0},{"$f":"COUNTIF('S36'!$D$5:$L$5,$C3)","v":0},{"$f":"COUNTIF('S37'!$D$5:$L$5,$C3)","v":0},{"$f":"COUNTIF('S38'!$D$5:$L$5,$C3)","v":0},{"$f":"COUNTIF('S39'!$D$5:$L$5,$C3)","v":0},{"$f":"COUNTIF('S40'!$D$5:$L$5,$C3)","v":0},{"$f":"COUNTIF('S41'!$D$5:$L$5,$C3)","v":0},{"$f":"COUNTIF('S42'!$D$5:$L$5,$C3)","v":0},{"$f":"COUNTIF('S43'!$D$5:$L$5,$C3)","v":0},{"$f":"COUNTIF('S44'!$D$5:$L$5,$C3)","v":0},{"$f":"COUNTIF('S45'!$D$5:$L$5,$C3)","v":0},{"$f":"COUNTIF('S46'!$D$5:$L$5,$C3)","v":0},{"$f":"COUNTIF('S47'!$D$5:$L$5,$C3)","v":0},{"$f":"COUNTIF('S48'!$D$5:$L$5,$C3)","v":0},{"$f":"COUNTIF('S49'!$D$5:$L$5,$C3)","v":0},{"$f":"COUNTIF('S50'!$D$5:$L$5,$C3)","v":0},{"$f":"COUNTIF('S51'!$D$5:$L$5,$C3)","v":0},{"$f":"COUNTIF('S52'!$D$5:$L$5,$C3)","v":0}]
[null,null,"MARIANNE T",{"$f":"$A$2","v":"REGULATION MATIN"},{"$f":"COUNTIF('S1'!$D$5:$L$5,C4)","v":0},{"$f":"COUNTIF('S2'!$D$5:$L$5,$C4)","v":0},{"$f":"COUNTIF('S3'!$D$5:$L$5,$C4)","v":0},{"$f":"COUNTIF('S4'!$D$5:$L$5,$C4)","v":0},{"$f":"COUNTIF('S5'!$D$5:$L$5,$C4)","v":0},{"$f":"COUNTIF('S6'!$D$5:$L$5,$C4)","v":0},{"$f":"COUNTIF('S7'!$D$5:$L$5,$C4)","v":0},{"$f":"COUNTIF('S8'!$D$5:$L$5,$C4)","v":0},{"$f":"COUNTIF('S9'!$D$5:$L$5,$C4)","v":0},{"$f":"COUNTIF('S10'!$D$5:$L$5,$C4)","v":0},{"$f":"COUNTIF('S11'!$D$5:$L$5,$C4)","v":0},{"$f":"COUNTIF('S12'!$D$5:$L$5,$C4)","v":0},{"$f":"COUNTIF('S13'!$D$5:$L$5,$C4)","v":0},{"$f":"COUNTIF('S14'!$D$5:$L$5,$C4)","v":0},{"$f":"COUNTIF('S15'!$D$5:$L$5,$C4)","v":0},{"$f":"COUNTIF('S16'!$D$5:$L$5,$C4)","v":0},{"$f":"COUNTIF('S17'!$D$5:$L$5,$C4)","v":0},{"$f":"COUNTIF('S18'!$D$5:$L$5,$C4)","v":0},{"$f":"COUNTIF('S19'!$D$5:$L$5,$C4)","v":0},{"$f":"COUNTIF('S20'!$D$5:$L$5,$C4)","v":0},{"$f":"COUNTIF('S21'!$D$5:$L$5,$C4)","v":0},{"$f":"COUNTIF('S22'!$D$5:$L$5,$C4)","v":0},{"$f":"COUNTIF('S23'!$D$5:$L$5,$C4)","v":0},{"$f":"COUNTIF('S24'!$D$5:$L$5,$C4)","v":0},{"$f":"COUNTIF('S25'!$D$5:$L$5,$C4)","v":0},{"$f":"COUNTIF('S26'!$D$5:$L$5,$C4)","v":0},{"$f":"COUNTIF('S27'!$D$5:$L$5,$C4)","v":0},{"$f":"COUNTIF('S28'!$D$5:$L$5,$C4)","v":0},{"$f":"COUNTIF('S29'!$D$5:$L$5,$C4)","v":0},{"$f":"COUNTIF('S30'!$D$5:$L$5,$C4)","v":0},{"$f":"COUNTIF('S31'!$D$5:$L$5,$C4)","v":0},{"$f":"COUNTIF('S32'!$D$5:$L$5,$C4)","v":0},{"$f":"COUNTIF('S33'!$D$5:$L$5,$C4)","v":0},{"$f":"COUNTIF('S34'!$D$5:$L$5,$C4)","v":0},{"$f":"COUNTIF('S35'!$D$5:$L$5,$C4)","v":0},{"$f":"COUNTIF('S36'!$D$5:$L$5,$C4)","v":0},{"$f":"COUNTIF('S37'!$D$5:$L$5,$C4)","v":0},{"$f":"COUNTIF('S38'!$D$5:$L$5,$C4)","v":0},{"$f":"COUNTIF('S39'!$D$5:$L$5,$C4)","v":0},{"$f":"COUNTIF('S40'!$D$5:$L$5,$C4)","v":0},{"$f":"COUNTIF('S41'!$D$5:$L$5,$C4)","v":0},{"$f":"COUNTIF('S42'!$D$5:$L$5,$C4)","v":0},{"$f":"COUNTIF('S43'!$D$5:$L$5,$C4)","v":0},{"$f":"COUNTIF('S44'!$D$5:$L$5,$C4)","v":0},{"$f":"COUNTIF('S45'!$D$5:$L$5,$C4)","v":0},{"$f":"COUNTIF('S46'!$D$5:$L$5,$C4)","v":0},{"$f":"COUNTIF('S47'!$D$5:$L$5,$C4)","v":0},{"$f":"COUNTIF('S48'!$D$5:$L$5,$C4)","v":0},{"$f":"COUNTIF('S49'!$D$5:$L$5,$C4)","v":0},{"$f":"COUNTIF('S50'!$D$5:$L$5,$C4)","v":0},{"$f":"COUNTIF('S51'!$D$5:$L$5,$C4)","v":0},{"$f":"COUNTIF('S52'!$D$5:$L$5,$C4)","v":0}]
[null,null,"SALIMA D","REGULATION MATIN",{"$f":"COUNTIF('S1'!$D$5:$L$5,C5)","v":0},{"$f":"COUNTIF('S2'!$D$5:$L$5,$C5)","v":0},{"$f":"COUNTIF('S3'!$D$5:$L$5,$C5)","v":0},{"$f":"COUNTIF('S4'!$D$5:$L$5,$C5)","v":0},{"$f":"COUNTIF('S5'!$D$5:$L$5,$C5)","v":0},{"$f":"COUNTIF('S6'!$D$5:$L$5,$C5)","v":0},{"$f":"COUNTIF('S7'!$D$5:$L$5,$C5)","v":0},{"$f":"COUNTIF('S8'!$D$5:$L$5,$C5)","v":0},{"$f":"COUNTIF('S9'!$D$5:$L$5,$C5)","v":0},{"$f":"COUNTIF('S10'!$D$5:$L$5,$C5)","v":0},{"$f":"COUNTIF('S11'!$D$5:$L$5,$C5)","v":0},{"$f":"COUNTIF('S12'!$D$5:$L$5,$C5)","v":0},{"$f":"COUNTIF('S13'!$D$5:$L$5,$C5)","v":0},{"$f":"COUNTIF('S14'!$D$5:$L$5,$C5)","v":0},{"$f":"COUNTIF('S15'!$D$5:$L$5,$C5)","v":0},{"$f":"COUNTIF('S16'!$D$5:$L$5,$C5)","v":0},{"$f":"COUNTIF('S17'!$D$5:$L$5,$C5)","v":0},{"$f":"COUNTIF('S18'!$D$5:$L$5,$C5)","v":0},{"$f":"COUNTIF('S19'!$D$5:$L$5,$C5)","v":0},{"$f":"COUNTIF('S20'!$D$5:$L$5,$C5)","v":0},{"$f":"COUNTIF('S21'!$D$5:$L$5,$C5)","v":0},{"$f":"COUNTIF('S22'!$D$5:$L$5,$C5)","v":0},{"$f":"COUNTIF('S23'!$D$5:$L$5,$C5)","v":0},{"$f":"COUNTIF('S24'!$D$5:$L$5,$C5)","v":0},{"$f":"COUNTIF('S25'!$D$5:$L$5,$C5)","v":0},{"$f":"COUNTIF('S26'!$D$5:$L$5,$C5)","v":0},{"$f":"COUNTIF('S27'!$D$5:$L$5,$C5)","v":0},{"$f":"COUNTIF('S28'!$D$5:$L$5,$C5)","v":0},{"$f":"COUNTIF('S29'!$D$5:$L$5,$C5)","v":0},{"$f":"COUNTIF('S30'!$D$5:$L$5,$C5)","v":0},{"$f":"COUNTIF('S31'!$D$5:$L$5,$C5)","v":0},{"$f":"COUNTIF('S32'!$D$5:$L$5,$C5)","v":0},{"$f":"COUNTIF('S33'!$D$5:$L$5,$C5)","v":0},{"$f":"COUNTIF('S34'!$D$5:$L$5,$C5)","v":0},{"$f":"COUNTIF('S35'!$D$5:$L$5,$C5)","v":0},{"$f":"COUNTIF('S36'!$D$5:$L$5,$C5)","v":0},{"$f":"COUNTIF('S37'!$D$5:$L$5,$C5)","v":0},{"$f":"COUNTIF('S38'!$D$5:$L$5,$C5)","v":0},{"$f":"COUNTIF('S39'!$D$5:$L$5,$C5)","v":0},{"$f":"COUNTIF('S40'!$D$5:$L$5,$C5)","v":0},{"$f":"COUNTIF('S41'!$D$5:$L$5,$C5)","v":0},{"$f":"COUNTIF('S42'!$D$5:$L$5,$C5)","v":0},{"$f":"COUNTIF('S43'!$D$5:$L$5,$C5)","v":0},{"$f":"COUNTIF('S44'!$D$5:$L$5,$C5)","v":0},{"$f":"COUNTIF('S45'!$D$5:$L$5,$C5)","v":0},{"$f":"COUNTIF('S46'!$D$5:$L$5,$C5)","v":0},{"$f":"COUNTIF('S47'!$D$5:$L$5,$C5)","v":0},{"$f":"COUNTIF('S48'!$D$5:$L$5,$C5)","v":0},{"$f":"COUNTIF('S49'!$D$5:$L$5,$C5)","v":0},{"$f":"COUNTIF('S50'!$D$5:$L$5,$C5)","v":0},{"$f":"COUNTIF('S51'!$D$5:$L$5,$C5)","v":0},{"$f":"COUNTIF('S52'!$D$5:$L$5,$C5)","v":0}]
[null,null,"EMILIE B","REGULATION MATIN",{"$f":"COUNTIF('S1'!$D$5:$L$5,C6)","v":0},{"$f":"COUNTIF('S2'!$D$5:$L$5,$C6)","v":0},{"$f":"COUNTIF('S3'!$D$5:$L$5,$C6)","v":0},{"$f":"COUNTIF('S4'!$D$5:$L$5,$C6)","v":0},{"$f":"COUNTIF('S5'!$D$5:$L$5,$C6)","v":0},{"$f":"COUNTIF('S6'!$D$5:$L$5,$C6)","v":0},{"$f":"COUNTIF('S7'!$D$5:$L$5,$C6)","v":0},{"$f":"COUNTIF('S8'!$D$5:$L$5,$C6)","v":0},{"$f":"COUNTIF('S9'!$D$5:$L$5,$C6)","v":0},{"$f":"COUNTIF('S10'!$D$5:$L$5,$C6)","v":0},{"$f":"COUNTIF('S11'!$D$5:$L$5,$C6)","v":0},{"$f":"COUNTIF('S12'!$D$5:$L$5,$C6)","v":0},{"$f":"COUNTIF('S13'!$D$5:$L$5,$C6)","v":0},{"$f":"COUNTIF('S14'!$D$5:$L$5,$C6)","v":0},{"$f":"COUNTIF('S15'!$D$5:$L$5,$C6)","v":0},{"$f":"COUNTIF('S16'!$D$5:$L$5,$C6)","v":0},{"$f":"COUNTIF('S17'!$D$5:$L$5,$C6)","v":0},{"$f":"COUNTIF('S18'!$D$5:$L$5,$C6)","v":0},{"$f":"COUNTIF('S19'!$D$5:$L$5,$C6)","v":0},{"$f":"COUNTIF('S20'!$D$5:$L$5,$C6)","v":0},{"$f":"COUNTIF('S21'!$D$5:$L$5,$C6)","v":0},{"$f":"COUNTIF('S22'!$D$5:$L$5,$C6)","v":0},{"$f":"COUNTIF('S23'!$D$5:$L$5,$C6)","v":0},{"$f":"COUNTIF('S24'!$D$5:$L$5,$C6)","v":0},{"$f":"COUNTIF('S25'!$D$5:$L$5,$C6)","v":0},{"$f":"COUNTIF('S26'!$D$5:$L$5,$C6)","v":0},{"$f":"COUNTIF('S27'!$D$5:$L$5,$C6)","v":0},{"$f":"COUNTIF('S28'!$D$5:$L$5,$C6)","v":0},{"$f":"COUNTIF('S29'!$D$5:$L$5,$C6)","v":0},{"$f":"COUNTIF('S30'!$D$5:$L$5,$C6)","v":0},{"$f":"COUNTIF('S31'!$D$5:$L$5,$C6)","v":0},{"$f":"COUNTIF('S32'!$D$5:$L$5,$C6)","v":0},{"$f":"COUNTIF('S33'!$D$5:$L$5,$C6)","v":0},{"$f":"COUNTIF('S34'!$D$5:$L$5,$C6)","v":0},{"$f":"COUNTIF('S35'!$D$5:$L$5,$C6)","v":0},{"$f":"COUNTIF('S36'!$D$5:$L$5,$C6)","v":0},{"$f":"COUNTIF('S37'!$D$5:$L$5,$C6)","v":0},{"$f":"COUNTIF('S38'!$D$5:$L$5,$C6)","v":0},{"$f":"COUNTIF('S39'!$D$5:$L$5,$C6)","v":0},{"$f":"COUNTIF('S40'!$D$5:$L$5,$C6)","v":0},{"$f":"COUNTIF('S41'!$D$5:$L$5,$C6)","v":0},{"$f":"COUNTIF('S42'!$D$5:$L$5,$C6)","v":0},{"$f":"COUNTIF('S43'!$D$5:$L$5,$C6)","v":0},{"$f":"COUNTIF('S44'!$D$5:$L$5,$C6)","v":0},{"$f":"COUNTIF('S45'!$D$5:$L$5,$C6)","v":0},{"$f":"COUNTIF('S46'!$D$5:$L$5,$C6)","v":0},{"$f":"COUNTIF('S47'!$D$5:$L$5,$C6)","v":0},{"$f":"COUNTIF('S48'!$D$5:$L$5,$C6)","v":0},{"$f":"COUNTIF('S49'!$D$5:$L$5,$C6)","v":0},{"$f":"COUNTIF('S50'!$D$5:$L$5,$C6)","v":0},{"$f":"COUNTIF('S51'!$D$5:$L$5,$C6)","v":0},{"$f":"COUNTIF('S52'!$D$5:$L$5,$C6)","v":0}]
[null,null,"AUDREY L","REGULATION MATIN",{"$f":"COUNTIF('S1'!$D$5:$L$5,C7)","v":0},{"$f":"COUNTIF('S2'!$D$5:$L$5,$C7)","v":0},{"$f":"COUNTIF('S3'!$D$5:$L$5,$C7)","v":0},{"$f":"COUNTIF('S4'!$D$5:$L$5,$C7)","v":0},{"$f":"COUNTIF('S5'!$D$5:$L$5,$C7)","v":0},{"$f":"COUNTIF('S6'!$D$5:$L$5,$C7)","v":0},{"$f":"COUNTIF('S7'!$D$5:$L$5,$C7)","v":0},{"$f":"COUNTIF('S8'!$D$5:$L$5,$C7)","v":0},{"$f":"COUNTIF('S9'!$D$5:$L$5,$C7)","v":0},{"$f":"COUNTIF('S10'!$D$5:$L$5,$C7)","v":0},{"$f":"COUNTIF('S11'!$D$5:$L$5,$C7)","v":0},{"$f":"COUNTIF('S12'!$D$5:$L$5,$C7)","v":0},{"$f":"COUNTIF('S13'!$D$5:$L$5,$C7)","v":0},{"$f":"COUNTIF('S14'!$D$5:$L$5,$C7)","v":0},{"$f":"COUNTIF('S15'!$D$5:$L$5,$C7)","v":0},{"$f":"COUNTIF('S16'!$D$5:$L$5,$C7)","v":0},{"$f":"COUNTIF('S17'!$D$5:$L$5,$C7)","v":0},{"$f":"COUNTIF('S18'!$D$5:$L$5,$C7)","v":0},{"$f":"COUNTIF('S19'!$D$5:$L$5,$C7)","v":0},{"$f":"COUNTIF('S20'!$D$5:$L$5,$C7)","v":0},{"$f":"COUNTIF('S21'!$D$5:$L$5,$C7)","v":0},{"$f":"COUNTIF('S22'!$D$5:$L$5,$C7)","v":0},{"$f":"COUNTIF('S23'!$D$5:$L$5,$C7)","v":0},{"$f":"COUNTIF('S24'!$D$5:$L$5,$C7)","v":0},{"$f":"COUNTIF('S25'!$D$5:$L$5,$C7)","v":0},{"$f":"COUNTIF('S26'!$D$5:$L$5,$C7)","v":0},{"$f":"COUNTIF('S27'!$D$5:$L$5,$C7)","v":0},{"$f":"COUNTIF('S28'!$D$5:$L$5,$C7)","v":0},{"$f":"COUNTIF('S29'!$D$5:$L$5,$C7)","v":0},{"$f":"COUNTIF('S30'!$D$5:$L$5,$C7)","v":0},{"$f":"COUNTIF('S31'!$D$5:$L$5,$C7)","v":0},{"$f":"COUNTIF('S32'!$D$5:$L$5,$C7)","v":0},{"$f":"COUNTIF('S33'!$D$5:$L$5,$C7)","v":0},{"$f":"COUNTIF('S34'!$D$5:$L$5,$C7)","v":0},{"$f":"COUNTIF('S35'!$D$5:$L$5,$C7)","v":0},{"$f":"COUNTIF('S36'!$D$5:$L$5,$C7)","v":0},{"$f":"COUNTIF('S37'!$D$5:$L$5,$C7)","v":0},{"$f":"COUNTIF('S38'!$D$5:$L$5,$C7)","v":0},{"$f":"COUNTIF('S39'!$D$5:$L$5,$C7)","v":0},{"$f":"COUNTIF('S40'!$D$5:$L$5,$C7)","v":0},{"$f":"COUNTIF('S41'!$D$5:$L$5,$C7)","v":0},{"$f":"COUNTIF('S42'!$D$5:$L$5,$C7)","v":0},{"$f":"COUNTIF('S43'!$D$5:$L$5,$C7)","v":0},{"$f":"COUNTIF('S44'!$D$5:$L$5,$C7)","v":0},{"$f":"COUNTIF('S45'!$D$5:$L$5,$C7)","v":0},{"$f":"COUNTIF('S46'!$D$5:$L$5,$C7)","v":0},{"$f":"COUNTIF('S47'!$D$5:$L$5,$C7)","v":0},{"$f":"COUNTIF('S48'!$D$5:$L$5,$C7)","v":0},{"$f":"COUNTIF('S49'!$D$5:$L$5,$C7)","v":0},{"$f":"COUNTIF('S50'!$D$5:$L$5,$C7)","v":0},{"$f":"COUNTIF('S51'!$D$5:$L$5,$C7)","v":0},{"$f":"COUNTIF('S52'!$D$5:$L$5,$C7)","v":0}]
[null,null,"MATHIEU G","REGULATION MATIN",{"$f":"COUNTIF('S1'!$D$5:$L$5,C8)","v":0},{"$f":"COUNTIF('S2'!$D$5:$L$5,$C8)","v":0},{"$f":"COUNTIF('S3'!$D$5:$L$5,$C8)","v":0},{"$f":"COUNTIF('S4'!$D$5:$L$5,$C8)","v":0},{"$f":"COUNTIF('S5'!$D$5:$L$5,$C8)","v":0},{"$f":"COUNTIF('S6'!$D$5:$L$5,$C8)","v":0},{"$f":"COUNTIF('S7'!$D$5:$L$5,$C8)","v":0},{"$f":"COUNTIF('S8'!$D$5:$L$5,$C8)","v":0},{"$f":"COUNTIF('S9'!$D$5:$L$5,$C8)","v":0},{"$f":"COUNTIF('S10'!$D$5:$L$5,$C8)","v":0},{"$f":"COUNTIF('S11'!$D$5:$L$5,$C8)","v":0},{"$f":"COUNTIF('S12'!$D$5:$L$5,$C8)","v":0},{"$f":"COUNTIF('S13'!$D$5:$L$5,$C8)","v":0},{"$f":"COUNTIF('S14'!$D$5:$L$5,$C8)","v":0},{"$f":"COUNTIF('S15'!$D$5:$L$5,$C8)","v":0},{"$f":"COUNTIF('S16'!$D$5:$L$5,$C8)","v":0},{"$f":"COUNTIF('S17'!$D$5:$L$5,$C8)","v":0},{"$f":"COUNTIF('S18'!$D$5:$L$5,$C8)","v":0},{"$f":"COUNTIF('S19'!$D$5:$L$5,$C8)","v":0},{"$f":"COUNTIF('S20'!$D$5:$L$5,$C8)","v":0},{"$f":"COUNTIF('S21'!$D$5:$L$5,$C8)","v":0},{"$f":"COUNTIF('S22'!$D$5:$L$5,$C8)","v":0},{"$f":"COUNTIF('S23'!$D$5:$L$5,$C8)","v":0},{"$f":"COUNTIF('S24'!$D$5:$L$5,$C8)","v":0},{"$f":"COUNTIF('S25'!$D$5:$L$5,$C8)","v":0},{"$f":"COUNTIF('S26'!$D$5:$L$5,$C8)","v":0},{"$f":"COUNTIF('S27'!$D$5:$L$5,$C8)","v":0},{"$f":"COUNTIF('S28'!$D$5:$L$5,$C8)","v":0},{"$f":"COUNTIF('S29'!$D$5:$L$5,$C8)","v":0},{"$f":"COUNTIF('S30'!$D$5:$L$5,$C8)","v":0},{"$f":"COUNTIF('S31'!$D$5:$L$5,$C8)","v":0},{"$f":"COUNTIF('S32'!$D$5:$L$5,$C8)","v":0},{"$f":"COUNTIF('S33'!$D$5:$L$5,$C8)","v":0},{"$f":"COUNTIF('S34'!$D$5:$L$5,$C8)","v":0},{"$f":"COUNTIF('S35'!$D$5:$L$5,$C8)","v":0},{"$f":"COUNTIF('S36'!$D$5:$L$5,$C8)","v":0},{"$f":"COUNTIF('S37'!$D$5:$L$5,$C8)","v":0},{"$f":"COUNTIF('S38'!$D$5:$L$5,$C8)","v":0},{"$f":"COUNTIF('S39'!$D$5:$L$5,$C8)","v":0},{"$f":"COUNTIF('S40'!$D$5:$L$5,$C8)","v":0},{"$f":"COUNTIF('S41'!$D$5:$L$5,$C8)","v":0},{"$f":"COUNTIF('S42'!$D$5:$L$5,$C8)","v":0},{"$f":"COUNTIF('S43'!$D$5:$L$5,$C8)","v":0},{"$f":"COUNTIF('S44'!$D$5:$L$5,$C8)","v":0},{"$f":"COUNTIF('S45'!$D$5:$L$5,$C8)","v":0},{"$f":"COUNTIF('S46'!$D$5:$L$5,$C8)","v":0},{"$f":"COUNTIF('S47'!$D$5:$L$5,$C8)","v":0},{"$f":"COUNTIF('S48'!$D$5:$L$5,$C8)","v":0},{"$f":"COUNTIF('S49'!$D$5:$L$5,$C8)","v":0},{"$f":"COUNTIF('S50'!$D$5:$L$5,$C8)","v":0},{"$f":"COUNTIF('S51'!$D$5:$L$5,$C8)","v":0},{"$f":"COUNTIF('S52'!$D$5:$L$5,$C8)","v":0}]
[null,null,"CHRISTEL L","REGULATION MATIN",{"$f":"COUNTIF('S1'!$D$5:$L$5,C9)","v":0},{"$f":"COUNTIF('S2'!$D$5:$L$5,$C9)","v":0},{"$f":"COUNTIF('S3'!$D$5:$L$5,$C9)","v":0},{"$f":"COUNTIF('S4'!$D$5:$L$5,$C9)","v":0},{"$f":"COUNTIF('S5'!$D$5:$L$5,$C9)","v":0},{"$f":"COUNTIF('S6'!$D$5:$L$5,$C9)","v":0},{"$f":"COUNTIF('S7'!$D$5:$L$5,$C9)","v":0},{"$f":"COUNTIF('S8'!$D$5:$L$5,$C9)","v":0},{"$f":"COUNTIF('S9'!$D$5:$L$5,$C9)","v":0},{"$f":"COUNTIF('S10'!$D$5:$L$5,$C9)","v":0},{"$f":"COUNTIF('S11'!$D$5:$L$5,$C9)","v":0},{"$f":"COUNTIF('S12'!$D$5:$L$5,$C9)","v":0},{"$f":"COUNTIF('S13'!$D$5:$L$5,$C9)","v":0},{"$f":"COUNTIF('S14'!$D$5:$L$5,$C9)","v":0},{"$f":"COUNTIF('S15'!$D$5:$L$5,$C9)","v":0},{"$f":"COUNTIF('S16'!$D$5:$L$5,$C9)","v":0},{"$f":"COUNTIF('S17'!$D$5:$L$5,$C9)","v":0},{"$f":"COUNTIF('S18'!$D$5:$L$5,$C9)","v":0},{"$f":"COUNTIF('S19'!$D$5:$L$5,$C9)","v":0},{"$f":"COUNTIF('S20'!$D$5:$L$5,$C9)","v":0},{"$f":"COUNTIF('S21'!$D$5:$L$5,$C9)","v":0},{"$f":"COUNTIF('S22'!$D$5:$L$5,$C9)","v":0},{"$f":"COUNTIF('S23'!$D$5:$L$5,$C9)","v":0},{"$f":"COUNTIF('S24'!$D$5:$L$5,$C9)","v":0},{"$f":"COUNTIF('S25'!$D$5:$L$5,$C9)","v":0},{"$f":"COUNTIF('S26'!$D$5:$L$5,$C9)","v":0},{"$f":"COUNTIF('S27'!$D$5:$L$5,$C9)","v":0},{"$f":"COUNTIF('S28'!$D$5:$L$5,$C9)","v":0},{"$f":"COUNTIF('S29'!$D$5:$L$5,$C9)","v":0},{"$f":"COUNTIF('S30'!$D$5:$L$5,$C9)","v":0},{"$f":"COUNTIF('S31'!$D$5:$L$5,$C9)","v":0},{"$f":"COUNTIF('S32'!$D$5:$L$5,$C9)","v":0},{"$f":"COUNTIF('S33'!$D$5:$L$5,$C9)","v":0},{"$f":"COUNTIF('S34'!$D$5:$L$5,$C9)","v":0},{"$f":"COUNTIF('S35'!$D$5:$L$5,$C9)","v":0},{"$f":"COUNTIF('S36'!$D$5:$L$5,$C9)","v":0},{"$f":"COUNTIF('S37'!$D$5:$L$5,$C9)","v":0},{"$f":"COUNTIF('S38'!$D$5:$L$5,$C9)","v":0},{"$f":"COUNTIF('S39'!$D$5:$L$5,$C9)","v":0},{"$f":"COUNTIF('S40'!$D$5:$L$5,$C9)","v":0},{"$f":"COUNTIF('S41'!$D$5:$L$5,$C9)","v":0},{"$f":"COUNTIF('S42'!$D$5:$L$5,$C9)","v":0},{"$f":"COUNTIF('S43'!$D$5:$L$5,$C9)","v":0},{"$f":"COUNTIF('S44'!$D$5:$L$5,$C9)","v":0},{"$f":"COUNTIF('S45'!$D$5:$L$5,$C9)","v":0},{"$f":"COUNTIF('S46'!$D$5:$L$5,$C9)","v":0},{"$f":"COUNTIF('S47'!$D$5:$L$5,$C9)","v":0},{"$f":"COUNTIF('S48'!$D$5:$L$5,$C9)","v":0},{"$f":"COUNTIF('S49'!$D$5:$L$5,$C9)","v":0},{"$f":"COUNTIF('S50'!$D$5:$L$5,$C9)","v":0},{"$f":"COUNTIF('S51'!$D$5:$L$5,$C9)","v":0},{"$f":"COUNTIF('S52'!$D$5:$L$5,$C9)","v":0}]
[null,null,"CAMILLE MD","REGULATION MATIN",{"$f":"COUNTIF('S1'!$D$5:$L$5,C10)","v":0},{"$f":"COUNTIF('S2'!$D$5:$L$5,$C10)","v":0},{"$f":"COUNTIF('S3'!$D$5:$L$5,$C10)","v":0},{"$f":"COUNTIF('S4'!$D$5:$L$5,$C10)","v":0},{"$f":"COUNTIF('S5'!$D$5:$L$5,$C10)","v":0},{"$f":"COUNTIF('S6'!$D$5:$L$5,$C10)","v":0},{"$f":"COUNTIF('S7'!$D$5:$L$5,$C10)","v":0},{"$f":"COUNTIF('S8'!$D$5:$L$5,$C10)","v":0},{"$f":"COUNTIF('S9'!$D$5:$L$5,$C10)","v":0},{"$f":"COUNTIF('S10'!$D$5:$L$5,$C10)","v":0},{"$f":"COUNTIF('S11'!$D$5:$L$5,$C10)","v":0},{"$f":"COUNTIF('S12'!$D$5:$L$5,$C10)","v":0},{"$f":"COUNTIF('S13'!$D$5:$L$5,$C10)","v":0},{"$f":"COUNTIF('S14'!$D$5:$L$5,$C10)","v":0},{"$f":"COUNTIF('S15'!$D$5:$L$5,$C10)","v":0},{"$f":"COUNTIF('S16'!$D$5:$L$5,$C10)","v":0},{"$f":"COUNTIF('S17'!$D$5:$L$5,$C10)","v":0},{"$f":"COUNTIF('S18'!$D$5:$L$5,$C10)","v":0},{"$f":"COUNTIF('S19'!$D$5:$L$5,$C10)","v":0},{"$f":"COUNTIF('S20'!$D$5:$L$5,$C10)","v":0},{"$f":"COUNTIF('S21'!$D$5:$L$5,$C10)","v":0},{"$f":"COUNTIF('S22'!$D$5:$L$5,$C10)","v":0},{"$f":"COUNTIF('S23'!$D$5:$L$5,$C10)","v":0},{"$f":"COUNTIF('S24'!$D$5:$L$5,$C10)","v":0},{"$f":"COUNTIF('S25'!$D$5:$L$5,$C10)","v":0},{"$f":"COUNTIF('S26'!$D$5:$L$5,$C10)","v":0},{"$f":"COUNTIF('S27'!$D$5:$L$5,$C10)","v":0},{"$f":"COUNTIF('S28'!$D$5:$L$5,$C10)","v":0},{"$f":"COUNTIF('S29'!$D$5:$L$5,$C10)","v":0},{"$f":"COUNTIF('S30'!$D$5:$L$5,$C10)","v":0},{"$f":"COUNTIF('S31'!$D$5:$L$5,$C10)","v":0},{"$f":"COUNTIF('S32'!$D$5:$L$5,$C10)","v":0},{"$f":"COUNTIF('S33'!$D$5:$L$5,$C10)","v":0},{"$f":"COUNTIF('S34'!$D$5:$L$5,$C10)","v":0},{"$f":"COUNTIF('S35'!$D$5:$L$5,$C10)","v":0},{"$f":"COUNTIF('S36'!$D$5:$L$5,$C10)","v":0},{"$f":"COUNTIF('S37'!$D$5:$L$5,$C10)","v":0},{"$f":"COUNTIF('S38'!$D$5:$L$5,$C10)","v":0},{"$f":"COUNTIF('S39'!$D$5:$L$5,$C10)","v":0},{"$f":"COUNTIF('S40'!$D$5:$L$5,$C10)","v":0},{"$f":"COUNTIF('S41'!$D$5:$L$5,$C10)","v":0},{"$f":"COUNTIF('S42'!$D$5:$L$5,$C10)","v":0},{"$f":"COUNTIF('S43'!$D$5:$L$5,$C10)","v":0},{"$f":"COUNTIF('S44'!$D$5:$L$5,$C10)","v":0},{"$f":"COUNTIF('S45'!$D$5:$L$5,$C10)","v":0},{"$f":"COUNTIF('S46'!$D$5:$L$5,$C10)","v":0},{"$f":"COUNTIF('S47'!$D$5:$L$5,$C10)","v":0},{"$f":"COUNTIF('S48'!$D$5:$L$5,$C10)","v":0},{"$f":"COUNTIF('S49'!$D$5:$L$5,$C10)","v":0},{"$f":"COUNTIF('S50'!$D$5:$L$5,$C10)","v":0},{"$f":"COUNTIF('S51'!$D$5:$L$5,$C10)","v":0},{"$f":"COUNTIF('S52'!$D$5:$L$5,$C10)","v":0}]
[null,null,"AMELIE M","REGULATION MATIN",{"$f":"COUNTIF('S1'!$D$5:$L$5,C11)","v":0},{"$f":"COUNTIF('S2'!$D$5:$L$5,$C11)","v":0},{"$f":"COUNTIF('S3'!$D$5:$L$5,$C11)","v":0},{"$f":"COUNTIF('S4'!$D$5:$L$5,$C11)","v":0},{"$f":"COUNTIF('S5'!$D$5:$L$5,$C11)","v":0},{"$f":"COUNTIF('S6'!$D$5:$L$5,$C11)","v":0},{"$f":"COUNTIF('S7'!$D$5:$L$5,$C11)","v":0},{"$f":"COUNTIF('S8'!$D$5:$L$5,$C11)","v":0},{"$f":"COUNTIF('S9'!$D$5:$L$5,$C11)","v":0},{"$f":"COUNTIF('S10'!$D$5:$L$5,$C11)","v":0},{"$f":"COUNTIF('S11'!$D$5:$L$5,$C11)","v":0},{"$f":"COUNTIF('S12'!$D$5:$L$5,$C11)","v":0},{"$f":"COUNTIF('S13'!$D$5:$L$5,$C11)","v":0},{"$f":"COUNTIF('S14'!$D$5:$L$5,$C11)","v":0},{"$f":"COUNTIF('S15'!$D$5:$L$5,$C11)","v":0},{"$f":"COUNTIF('S16'!$D$5:$L$5,$C11)","v":0},{"$f":"COUNTIF('S17'!$D$5:$L$5,$C11)","v":0},{"$f":"COUNTIF('S18'!$D$5:$L$5,$C11)","v":0},{"$f":"COUNTIF('S19'!$D$5:$L$5,$C11)","v":0},{"$f":"COUNTIF('S20'!$D$5:$L$5,$C11)","v":0},{"$f":"COUNTIF('S21'!$D$5:$L$5,$C11)","v":0},{"$f":"COUNTIF('S22'!$D$5:$L$5,$C11)","v":0},{"$f":"COUNTIF('S23'!$D$5:$L$5,$C11)","v":0},{"$f":"COUNTIF('S24'!$D$5:$L$5,$C11)","v":0},{"$f":"COUNTIF('S25'!$D$5:$L$5,$C11)","v":0},{"$f":"COUNTIF('S26'!$D$5:$L$5,$C11)","v":0},{"$f":"COUNTIF('S27'!$D$5:$L$5,$C11)","v":0},{"$f":"COUNTIF('S28'!$D$5:$L$5,$C11)","v":0},{"$f":"COUNTIF('S29'!$D$5:$L$5,$C11)","v":0},{"$f":"COUNTIF('S30'!$D$5:$L$5,$C11)","v":0},{"$f":"COUNTIF('S31'!$D$5:$L$5,$C11)","v":0},{"$f":"COUNTIF('S32'!$D$5:$L$5,$C11)","v":0},{"$f":"COUNTIF('S33'!$D$5:$L$5,$C11)","v":0},{"$f":"COUNTIF('S34'!$D$5:$L$5,$C11)","v":0},{"$f":"COUNTIF('S35'!$D$5:$L$5,$C11)","v":0},{"$f":"COUNTIF('S36'!$D$5:$L$5,$C11)","v":0},{"$f":"COUNTIF('S37'!$D$5:$L$5,$C11)","v":0},{"$f":"COUNTIF('S38'!$D$5:$L$5,$C11)","v":0},{"$f":"COUNTIF('S39'!$D$5:$L$5,$C11)","v":0},{"$f":"COUNTIF('S40'!$D$5:$L$5,$C11)","v":0},{"$f":"COUNTIF('S41'!$D$5:$L$5,$C11)","v":0},{"$f":"COUNTIF('S42'!$D$5:$L$5,$C11)","v":0},{"$f":"COUNTIF('S43'!$D$5:$L$5,$C11)","v":0},{"$f":"COUNTIF('S44'!$D$5:$L$5,$C11)","v":0},{"$f":"COUNTIF('S45'!$D$5:$L$5,$C11)","v":0},{"$f":"COUNTIF('S46'!$D$5:$L$5,$C11)","v":0},{"$f":"COUNTIF('S47'!$D$5:$L$5,$C11)","v":0},{"$f":"COUNTIF('S48'!$D$5:$L$5,$C11)","v":0},{"$f":"COUNTIF('S49'!$D$5:$L$5,$C11)","v":0},{"$f":"COUNTIF('S50'!$D$5:$L$5,$C11)","v":0},{"$f":"COUNTIF('S51'!$D$5:$L$5,$C11)","v":0},{"$f":"COUNTIF('S52'!$D$5:$L$5,$C11)","v":0}]
[null,null,"POME H","REGULATION MATIN",{"$f":"COUNTIF('S1'!$D$5:$L$5,C12)","v":0},{"$f":"COUNTIF('S2'!$D$5:$L$5,$C12)","v":0},{"$f":"COUNTIF('S3'!$D$5:$L$5,$C12)","v":0},{"$f":"COUNTIF('S4'!$D$5:$L$5,$C12)","v":0},{"$f":"COUNTIF('S5'!$D$5:$L$5,$C12)","v":0},{"$f":"COUNTIF('S6'!$D$5:$L$5,$C12)","v":0},{"$f":"COUNTIF('S7'!$D$5:$L$5,$C12)","v":0},{"$f":"COUNTIF('S8'!$D$5:$L$5,$C12)","v":0},{"$f":"COUNTIF('S9'!$D$5:$L$5,$C12)","v":0},{"$f":"COUNTIF('S10'!$D$5:$L$5,$C12)","v":0},{"$f":"COUNTIF('S11'!$D$5:$L$5,$C12)","v":0},{"$f":"COUNTIF('S12'!$D$5:$L$5,$C12)","v":0},{"$f":"COUNTIF('S13'!$D$5:$L$5,$C12)","v":0},{"$f":"COUNTIF('S14'!$D$5:$L$5,$C12)","v":0},{"$f":"COUNTIF('S15'!$D$5:$L$5,$C12)","v":0},{"$f":"COUNTIF('S16'!$D$5:$L$5,$C12)","v":0},{"$f":"COUNTIF('S17'!$D$5:$L$5,$C12)","v":0},{"$f":"COUNTIF('S18'!$D$5:$L$5,$C12)","v":0},{"$f":"COUNTIF('S19'!$D$5:$L$5,$C12)","v":0},{"$f":"COUNTIF('S20'!$D$5:$L$5,$C12)","v":0},{"$f":"COUNTIF('S21'!$D$5:$L$5,$C12)","v":0},{"$f":"COUNTIF('S22'!$D$5:$L$5,$C12)","v":0},{"$f":"COUNTIF('S23'!$D$5:$L$5,$C12)","v":0},{"$f":"COUNTIF('S24'!$D$5:$L$5,$C12)","v":0},{"$f":"COUNTIF('S25'!$D$5:$L$5,$C12)","v":0},{"$f":"COUNTIF('S26'!$D$5:$L$5,$C12)","v":0},{"$f":"COUNTIF('S27'!$D$5:$L$5,$C12)","v":0},{"$f":"COUNTIF('S28'!$D$5:$L$5,$C12)","v":0},{"$f":"COUNTIF('S29'!$D$5:$L$5,$C12)","v":0},{"$f":"COUNTIF('S30'!$D$5:$L$5,$C12)","v":0},{"$f":"COUNTIF('S31'!$D$5:$L$5,$C12)","v":0},{"$f":"COUNTIF('S32'!$D$5:$L$5,$C12)","v":0},{"$f":"COUNTIF('S33'!$D$5:$L$5,$C12)","v":0},{"$f":"COUNTIF('S34'!$D$5:$L$5,$C12)","v":0},{"$f":"COUNTIF('S35'!$D$5:$L$5,$C12)","v":0},{"$f":"COUNTIF('S36'!$D$5:$L$5,$C12)","v":0},{"$f":"COUNTIF('S37'!$D$5:$L$5,$C12)","v":0},{"$f":"COUNTIF('S38'!$D$5:$L$5,$C12)","v":0},{"$f":"COUNTIF('S39'!$D$5:$L$5,$C12)","v":0},{"$f":"COUNTIF('S40'!$D$5:$L$5,$C12)","v":0},{"$f":"COUNTIF('S41'!$D$5:$L$5,$C12)","v":0},{"$f":"COUNTIF('S42'!$D$5:$L$5,$C12)","v":0},{"$f":"COUNTIF('S43'!$D$5:$L$5,$C12)","v":0},{"$f":"COUNTIF('S44'!$D$5:$L$5,$C12)","v":0},{"$f":"COUNTIF('S45'!$D$5:$L$5,$C12)","v":0},{"$f":"COUNTIF('S46'!$D$5:$L$5,$C12)","v":0},{"$f":"COUNTIF('S47'!$D$5:$L$5,$C12)","v":0},{"$f":"COUNTIF('S48'!$D$5:$L$5,$C12)","v":0},{"$f":"COUNTIF('S49'!$D$5:$L$5,$C12)","v":0},{"$f":"COUNTIF('S50'!$D$5:$L$5,$C12)","v":0},{"$f":"COUNTIF('S51'!$D$5:$L$5,$C12)","v":0},{"$f":"COUNTIF('S52'!$D$5:$L$5,$C12)","v":0}]
[null,null,"REMPLACANT 1","REGULATION MATIN",{"$f":"COUNTIF('S1'!$D$5:$L$5,C13)","v":0},{"$f":"COUNTIF('S2'!$D$5:$L$5,$C13)","v":0},{"$f":"COUNTIF('S3'!$D$5:$L$5,$C13)","v":0},{"$f":"COUNTIF('S4'!$D$5:$L$5,$C13)","v":0},{"$f":"COUNTIF('S5'!$D$5:$L$5,$C13)","v":0},{"$f":"COUNTIF('S6'!$D$5:$L$5,$C13)","v":0},{"$f":"COUNTIF('S7'!$D$5:$L$5,$C13)","v":0},{"$f":"COUNTIF('S8'!$D$5:$L$5,$C13)","v":0},{"$f":"COUNTIF('S9'!$D$5:$L$5,$C13)","v":0},{"$f":"COUNTIF('S10'!$D$5:$L$5,$C13)","v":0},{"$f":"COUNTIF('S11'!$D$5:$L$5,$C13)","v":0},{"$f":"COUNTIF('S12'!$D$5:$L$5,$C13)","v":0},{"$f":"COUNTIF('S13'!$D$5:$L$5,$C13)","v":0},{"$f":"COUNTIF('S14'!$D$5:$L$5,$C13)","v":0},{"$f":"COUNTIF('S15'!$D$5:$L$5,$C13)","v":0},{"$f":"COUNTIF('S16'!$D$5:$L$5,$C13)","v":0},{"$f":"COUNTIF('S17'!$D$5:$L$5,$C13)","v":0},{"$f":"COUNTIF('S18'!$D$5:$L$5,$C13)","v":0},{"$f":"COUNTIF('S19'!$D$5:$L$5,$C13)","v":0},{"$f":"COUNTIF('S20'!$D$5:$L$5,$C13)","v":0},{"$f":"COUNTIF('S21'!$D$5:$L$5,$C13)","v":0},{"$f":"COUNTIF('S22'!$D$5:$L$5,$C13)","v":0},{"$f":"COUNTIF('S23'!$D$5:$L$5,$C13)","v":0},{"$f":"COUNTIF('S24'!$D$5:$L$5,$C13)","v":0},{"$f":"COUNTIF('S25'!$D$5:$L$5,$C13)","v":0},{"$f":"COUNTIF('S26'!$D$5:$L$5,$C13)","v":0},{"$f":"COUNTIF('S27'!$D$5:$L$5,$C13)","v":0},{"$f":"COUNTIF('S28'!$D$5:$L$5,$C13)","v":0},{"$f":"COUNTIF('S29'!$D$5:$L$5,$C13)","v":0},{"$f":"COUNTIF('S30'!$D$5:$L$5,$C13)","v":0},{"$f":"COUNTIF('S31'!$D$5:$L$5,$C13)","v":0},{"$f":"COUNTIF('S32'!$D$5:$L$5,$C13)","v":0},{"$f":"COUNTIF('S33'!$D$5:$L$5,$C13)","v":0},{"$f":"COUNTIF('S34'!$D$5:$L$5,$C13)","v":0},{"$f":"COUNTIF('S35'!$D$5:$L$5,$C13)","v":0},{"$f":"COUNTIF('S36'!$D$5:$L$5,$C13)","v":0},{"$f":"COUNTIF('S37'!$D$5:$L$5,$C13)","v":0},{"$f":"COUNTIF('S38'!$D$5:$L$5,$C13)","v":0},{"$f":"COUNTIF('S39'!$D$5:$L$5,$C13)","v":0},{"$f":"COUNTIF('S40'!$D$5:$L$5,$C13)","v":0},{"$f":"COUNTIF('S41'!$D$5:$L$5,$C13)","v":0},{"$f":"COUNTIF('S42'!$D$5:$L$5,$C13)","v":0},{"$f":"COUNTIF('S43'!$D$5:$L$5,$C13)","v":0},{"$f":"COUNTIF('S44'!$D$5:$L$5,$C13)","v":0},{"$f":"COUNTIF('S45'!$D$5:$L$5,$C13)","v":0},{"$f":"COUNTIF('S46'!$D$5:$L$5,$C13)","v":0},{"$f":"COUNTIF('S47'!$D$5:$L$5,$C13)","v":0},{"$f":"COUNTIF('S48'!$D$5:$L$5,$C13)","v":0},{"$f":"COUNTIF('S49'!$D$5:$L$5,$C13)","v":0},{"$f":"COUNTIF('S50'!$D$5:$L$5,$C13)","v":0},{"$f":"COUNTIF('S51'!$D$5:$L$5,$C13)","v":0},{"$f":"COUNTIF('S52'!$D$5:$L$5,$C13)","v":0}]
[null,null,"REMPLACANT 2 ","REGULATION MATIN",{"$f":"COUNTIF('S1'!$D$5:$L$5,C14)","v":0},{"$f":"COUNTIF('S2'!$D$5:$L$5,$C14)","v":0},{"$f":"COUNTIF('S3'!$D$5:$L$5,$C14)","v":0},{"$f":"COUNTIF('S4'!$D$5:$L$5,$C14)","v":0},{"$f":"COUNTIF('S5'!$D$5:$L$5,$C14)","v":0},{"$f":"COUNTIF('S6'!$D$5:$L$5,$C14)","v":0},{"$f":"COUNTIF('S7'!$D$5:$L$5,$C14)","v":0},{"$f":"COUNTIF('S8'!$D$5:$L$5,$C14)","v":0},{"$f":"COUNTIF('S9'!$D$5:$L$5,$C14)","v":0},{"$f":"COUNTIF('S10'!$D$5:$L$5,$C14)","v":0},{"$f":"COUNTIF('S11'!$D$5:$L$5,$C14)","v":0},{"$f":"COUNTIF('S12'!$D$5:$L$5,$C14)","v":0},{"$f":"COUNTIF('S13'!$D$5:$L$5,$C14)","v":0},{"$f":"COUNTIF('S14'!$D$5:$L$5,$C14)","v":0},{"$f":"COUNTIF('S15'!$D$5:$L$5,$C14)","v":0},{"$f":"COUNTIF('S16'!$D$5:$L$5,$C14)","v":0},{"$f":"COUNTIF('S17'!$D$5:$L$5,$C14)","v":0},{"$f":"COUNTIF('S18'!$D$5:$L$5,$C14)","v":0},{"$f":"COUNTIF('S19'!$D$5:$L$5,$C14)","v":0},{"$f":"COUNTIF('S20'!$D$5:$L$5,$C14)","v":0},{"$f":"COUNTIF('S21'!$D$5:$L$5,$C14)","v":0},{"$f":"COUNTIF('S22'!$D$5:$L$5,$C14)","v":0},{"$f":"COUNTIF('S23'!$D$5:$L$5,$C14)","v":0},{"$f":"COUNTIF('S24'!$D$5:$L$5,$C14)","v":0},{"$f":"COUNTIF('S25'!$D$5:$L$5,$C14)","v":0},{"$f":"COUNTIF('S26'!$D$5:$L$5,$C14)","v":0},{"$f":"COUNTIF('S27'!$D$5:$L$5,$C14)","v":0},{"$f":"COUNTIF('S28'!$D$5:$L$5,$C14)","v":0},{"$f":"COUNTIF('S29'!$D$5:$L$5,$C14)","v":0},{"$f":"COUNTIF('S30'!$D$5:$L$5,$C14)","v":0},{"$f":"COUNTIF('S31'!$D$5:$L$5,$C14)","v":0},{"$f":"COUNTIF('S32'!$D$5:$L$5,$C14)","v":0},{"$f":"COUNTIF('S33'!$D$5:$L$5,$C14)","v":0},{"$f":"COUNTIF('S34'!$D$5:$L$5,$C14)","v":0},{"$f":"COUNTIF('S35'!$D$5:$L$5,$C14)","v":0},{"$f":"COUNTIF('S36'!$D$5:$L$5,$C14)","v":0},{"$f":"COUNTIF('S37'!$D$5:$L$5,$C14)","v":0},{"$f":"COUNTIF('S38'!$D$5:$L$5,$C14)","v":0},{"$f":"COUNTIF('S39'!$D$5:$L$5,$C14)","v":0},{"$f":"COUNTIF('S40'!$D$5:$L$5,$C14)","v":0},{"$f":"COUNTIF('S41'!$D$5:$L$5,$C14)","v":0},{"$f":"COUNTIF('S42'!$D$5:$L$5,$C14)","v":0},{"$f":"COUNTIF('S43'!$D$5:$L$5,$C14)","v":0},{"$f":"COUNTIF('S44'!$D$5:$L$5,$C14)","v":0},{"$f":"COUNTIF('S45'!$D$5:$L$5,$C14)","v":0},{"$f":"COUNTIF('S46'!$D$5:$L$5,$C14)","v":0},{"$f":"COUNTIF('S47'!$D$5:$L$5,$C14)","v":0},{"$f":"COUNTIF('S48'!$D$5:$L$5,$C14)","v":0},{"$f":"COUNTIF('S49'!$D$5:$L$5,$C14)","v":0},{"$f":"COUNTIF('S50'!$D$5:$L$5,$C14)","v":0},{"$f":"COUNTIF('S51'!$D$5:$L$5,$C14)","v":0},{"$f":"COUNTIF('S52'!$D$5:$L$5,$C14)","v":0}]
[null,null,"STAGIERE 1","REGULATION MATIN",{"$f":"COUNTIF('S1'!$D$5:$L$5,C15)","v":0},{"$f":"COUNTIF('S2'!$D$5:$L$5,$C15)","v":0},{"$f":"COUNTIF('S3'!$D$5:$L$5,$C15)","v":0},{"$f":"COUNTIF('S4'!$D$5:$L$5,$C15)","v":0},{"$f":"COUNTIF('S5'!$D$5:$L$5,$C15)","v":0},{"$f":"COUNTIF('S6'!$D$5:$L$5,$C15)","v":0},{"$f":"COUNTIF('S7'!$D$5:$L$5,$C15)","v":0},{"$f":"COUNTIF('S8'!$D$5:$L$5,$C15)","v":0},{"$f":"COUNTIF('S9'!$D$5:$L$5,$C15)","v":0},{"$f":"COUNTIF('S10'!$D$5:$L$5,$C15)","v":0},{"$f":"COUNTIF('S11'!$D$5:$L$5,$C15)","v":0},{"$f":"COUNTIF('S12'!$D$5:$L$5,$C15)","v":0},{"$f":"COUNTIF('S13'!$D$5:$L$5,$C15)","v":0},{"$f":"COUNTIF('S14'!$D$5:$L$5,$C15)","v":0},{"$f":"COUNTIF('S15'!$D$5:$L$5,$C15)","v":0},{"$f":"COUNTIF('S16'!$D$5:$L$5,$C15)","v":0},{"$f":"COUNTIF('S17'!$D$5:$L$5,$C15)","v":0},{"$f":"COUNTIF('S18'!$D$5:$L$5,$C15)","v":0},{"$f":"COUNTIF('S19'!$D$5:$L$5,$C15)","v":0},{"$f":"COUNTIF('S20'!$D$5:$L$5,$C15)","v":0},{"$f":"COUNTIF('S21'!$D$5:$L$5,$C15)","v":0},{"$f":"COUNTIF('S22'!$D$5:$L$5,$C15)","v":0},{"$f":"COUNTIF('S23'!$D$5:$L$5,$C15)","v":0},{"$f":"COUNTIF('S24'!$D$5:$L$5,$C15)","v":0},{"$f":"COUNTIF('S25'!$D$5:$L$5,$C15)","v":0},{"$f":"COUNTIF('S26'!$D$5:$L$5,$C15)","v":0},{"$f":"COUNTIF('S27'!$D$5:$L$5,$C15)","v":0},{"$f":"COUNTIF('S28'!$D$5:$L$5,$C15)","v":0},{"$f":"COUNTIF('S29'!$D$5:$L$5,$C15)","v":0},{"$f":"COUNTIF('S30'!$D$5:$L$5,$C15)","v":0},{"$f":"COUNTIF('S31'!$D$5:$L$5,$C15)","v":0},{"$f":"COUNTIF('S32'!$D$5:$L$5,$C15)","v":0},{"$f":"COUNTIF('S33'!$D$5:$L$5,$C15)","v":0},{"$f":"COUNTIF('S34'!$D$5:$L$5,$C15)","v":0},{"$f":"COUNTIF('S35'!$D$5:$L$5,$C15)","v":0},{"$f":"COUNTIF('S36'!$D$5:$L$5,$C15)","v":0},{"$f":"COUNTIF('S37'!$D$5:$L$5,$C15)","v":0},{"$f":"COUNTIF('S38'!$D$5:$L$5,$C15)","v":0},{"$f":"COUNTIF('S39'!$D$5:$L$5,$C15)","v":0},{"$f":"COUNTIF('S40'!$D$5:$L$5,$C15)","v":0},{"$f":"COUNTIF('S41'!$D$5:$L$5,$C15)","v":0},{"$f":"COUNTIF('S42'!$D$5:$L$5,$C15)","v":0},{"$f":"COUNTIF('S43'!$D$5:$L$5,$C15)","v":0},{"$f":"COUNTIF('S44'!$D$5:$L$5,$C15)","v":0},{"$f":"COUNTIF('S45'!$D$5:$L$5,$C15)","v":0},{"$f":"COUNTIF('S46'!$D$5:$L$5,$C15)","v":0},{"$f":"COUNTIF('S47'!$D$5:$L$5,$C15)","v":0},{"$f":"COUNTIF('S48'!$D$5:$L$5,$C15)","v":0},{"$f":"COUNTIF('S49'!$D$5:$L$5,$C15)","v":0},{"$f":"COUNTIF('S50'!$D$5:$L$5,$C15)","v":0},{"$f":"COUNTIF('S51'!$D$5:$L$5,$C15)","v":0},{"$f":"COUNTIF('S52'!$D$5:$L$5,$C15)","v":0}]
[null,null,"STAGIERE 2","REGULATION MATIN",{"$f":"COUNTIF('S1'!$D$5:$L$5,C16)","v":0},{"$f":"COUNTIF('S2'!$D$5:$L$5,$C16)","v":0},{"$f":"COUNTIF('S3'!$D$5:$L$5,$C16)","v":0},{"$f":"COUNTIF('S4'!$D$5:$L$5,$C16)","v":0},{"$f":"COUNTIF('S5'!$D$5:$L$5,$C16)","v":0},{"$f":"COUNTIF('S6'!$D$5:$L$5,$C16)","v":0},{"$f":"COUNTIF('S7'!$D$5:$L$5,$C16)","v":0},{"$f":"COUNTIF('S8'!$D$5:$L$5,$C16)","v":0},{"$f":"COUNTIF('S9'!$D$5:$L$5,$C16)","v":0},{"$f":"COUNTIF('S10'!$D$5:$L$5,$C16)","v":0},{"$f":"COUNTIF('S11'!$D$5:$L$5,$C16)","v":0},{"$f":"COUNTIF('S12'!$D$5:$L$5,$C16)","v":0},{"$f":"COUNTIF('S13'!$D$5:$L$5,$C16)","v":0},{"$f":"COUNTIF('S14'!$D$5:$L$5,$C16)","v":0},{"$f":"COUNTIF('S15'!$D$5:$L$5,$C16)","v":0},{"$f":"COUNTIF('S16'!$D$5:$L$5,$C16)","v":0},{"$f":"COUNTIF('S17'!$D$5:$L$5,$C16)","v":0},{"$f":"COUNTIF('S18'!$D$5:$L$5,$C16)","v":0},{"$f":"COUNTIF('S19'!$D$5:$L$5,$C16)","v":0},{"$f":"COUNTIF('S20'!$D$5:$L$5,$C16)","v":0},{"$f":"COUNTIF('S21'!$D$5:$L$5,$C16)","v":0},{"$f":"COUNTIF('S22'!$D$5:$L$5,$C16)","v":0},{"$f":"COUNTIF('S23'!$D$5:$L$5,$C16)","v":0},{"$f":"COUNTIF('S24'!$D$5:$L$5,$C16)","v":0},{"$f":"COUNTIF('S25'!$D$5:$L$5,$C16)","v":0},{"$f":"COUNTIF('S26'!$D$5:$L$5,$C16)","v":0},{"$f":"COUNTIF('S27'!$D$5:$L$5,$C16)","v":0},{"$f":"COUNTIF('S28'!$D$5:$L$5,$C16)","v":0},{"$f":"COUNTIF('S29'!$D$5:$L$5,$C16)","v":0},{"$f":"COUNTIF('S30'!$D$5:$L$5,$C16)","v":0},{"$f":"COUNTIF('S31'!$D$5:$L$5,$C16)","v":0},{"$f":"COUNTIF('S32'!$D$5:$L$5,$C16)","v":0},{"$f":"COUNTIF('S33'!$D$5:$L$5,$C16)","v":0},{"$f":"COUNTIF('S34'!$D$5:$L$5,$C16)","v":0},{"$f":"COUNTIF('S35'!$D$5:$L$5,$C16)","v":0},{"$f":"COUNTIF('S36'!$D$5:$L$5,$C16)","v":0},{"$f":"COUNTIF('S37'!$D$5:$L$5,$C16)","v":0},{"$f":"COUNTIF('S38'!$D$5:$L$5,$C16)","v":0},{"$f":"COUNTIF('S39'!$D$5:$L$5,$C16)","v":0},{"$f":"COUNTIF('S40'!$D$5:$L$5,$C16)","v":0},{"$f":"COUNTIF('S41'!$D$5:$L$5,$C16)","v":0},{"$f":"COUNTIF('S42'!$D$5:$L$5,$C16)","v":0},{"$f":"COUNTIF('S43'!$D$5:$L$5,$C16)","v":0},{"$f":"COUNTIF('S44'!$D$5:$L$5,$C16)","v":0},{"$f":"COUNTIF('S45'!$D$5:$L$5,$C16)","v":0},{"$f":"COUNTIF('S46'!$D$5:$L$5,$C16)","v":0},{"$f":"COUNTIF('S47'!$D$5:$L$5,$C16)","v":0},{"$f":"COUNTIF('S48'!$D$5:$L$5,$C16)","v":0},{"$f":"COUNTIF('S49'!$D$5:$L$5,$C16)","v":0},{"$f":"COUNTIF('S50'!$D$5:$L$5,$C16)","v":0},{"$f":"COUNTIF('S51'!$D$5:$L$5,$C16)","v":0},{"$f":"COUNTIF('S52'!$D$5:$L$5,$C16)","v":0}]
[null,null,null,"REGULATION MATIN",{"$f":"COUNTIF('S1'!$D$5:$L$5,C17)","v":0},{"$f":"COUNTIF('S2'!$D$5:$L$5,$C17)","v":0},{"$f":"COUNTIF('S3'!$D$5:$L$5,$C17)","v":0},{"$f":"COUNTIF('S4'!$D$5:$L$5,$C17)","v":0},{"$f":"COUNTIF('S5'!$D$5:$L$5,$C17)","v":0},{"$f":"COUNTIF('S6'!$D$5:$L$5,$C17)","v":0},{"$f":"COUNTIF('S7'!$D$5:$L$5,$C17)","v":0},{"$f":"COUNTIF('S8'!$D$5:$L$5,$C17)","v":0},{"$f":"COUNTIF('S9'!$D$5:$L$5,$C17)","v":0},{"$f":"COUNTIF('S10'!$D$5:$L$5,$C17)","v":0},{"$f":"COUNTIF('S11'!$D$5:$L$5,$C17)","v":0},{"$f":"COUNTIF('S12'!$D$5:$L$5,$C17)","v":0},{"$f":"COUNTIF('S13'!$D$5:$L$5,$C17)","v":0},{"$f":"COUNTIF('S14'!$D$5:$L$5,$C17)","v":0},{"$f":"COUNTIF('S15'!$D$5:$L$5,$C17)","v":0},{"$f":"COUNTIF('S16'!$D$5:$L$5,$C17)","v":0},{"$f":"COUNTIF('S17'!$D$5:$L$5,$C17)","v":0},{"$f":"COUNTIF('S18'!$D$5:$L$5,$C17)","v":0},{"$f":"COUNTIF('S19'!$D$5:$L$5,$C17)","v":0},{"$f":"COUNTIF('S20'!$D$5:$L$5,$C17)","v":0},{"$f":"COUNTIF('S21'!$D$5:$L$5,$C17)","v":0},{"$f":"COUNTIF('S22'!$D$5:$L$5,$C17)","v":0},{"$f":"COUNTIF('S23'!$D$5:$L$5,$C17)","v":0},{"$f":"COUNTIF('S24'!$D$5:$L$5,$C17)","v":0},{"$f":"COUNTIF('S25'!$D$5:$L$5,$C17)","v":0},{"$f":"COUNTIF('S26'!$D$5:$L$5,$C17)","v":0},{"$f":"COUNTIF('S27'!$D$5:$L$5,$C17)","v":0},{"$f":"COUNTIF('S28'!$D$5:$L$5,$C17)","v":0},{"$f":"COUNTIF('S29'!$D$5:$L$5,$C17)","v":0},{"$f":"COUNTIF('S30'!$D$5:$L$5,$C17)","v":0},{"$f":"COUNTIF('S31'!$D$5:$L$5,$C17)","v":0},{"$f":"COUNTIF('S32'!$D$5:$L$5,$C17)","v":0},{"$f":"COUNTIF('S33'!$D$5:$L$5,$C17)","v":0},{"$f":"COUNTIF('S34'!$D$5:$L$5,$C17)","v":0},{"$f":"COUNTIF('S35'!$D$5:$L$5,$C17)","v":0},{"$f":"COUNTIF('S36'!$D$5:$L$5,$C17)","v":0},{"$f":"COUNTIF('S37'!$D$5:$L$5,$C17)","v":0},{"$f":"COUNTIF('S38'!$D$5:$L$5,$C17)","v":0},{"$f":"COUNTIF('S39'!$D$5:$L$5,$C17)","v":0},{"$f":"COUNTIF('S40'!$D$5:$L$5,$C17)","v":0},{"$f":"COUNTIF('S41'!$D$5:$L$5,$C17)","v":0},{"$f":"COUNTIF('S42'!$D$5:$L$5,$C17)","v":0},{"$f":"COUNTIF('S43'!$D$5:$L$5,$C17)","v":0},{"$f":"COUNTIF('S44'!$D$5:$L$5,$C17)","v":0},{"$f":"COUNTIF('S45'!$D$5:$L$5,$C17)","v":0},{"$f":"COUNTIF('S46'!$D$5:$L$5,$C17)","v":0},{"$f":"COUNTIF('S47'!$D$5:$L$5,$C17)","v":0},{"$f":"COUNTIF('S48'!$D$5:$L$5,$C17)","v":0},{"$f":"COUNTIF('S49'!$D$5:$L$5,$C17)","v":0},{"$f":"COUNTIF('S50'!$D$5:$L$5,$C17)","v":0},{"$f":"COUNTIF('S51'!$D$5:$L$5,$C17)","v":0},{"$f":"COUNTIF('S52'!$D$5:$L$5,$C17)","v":0}]
[null,null,null,"REGULATION MATIN",{"$f":"COUNTIF('S1'!$D$5:$L$5,C18)","v":0},{"$f":"COUNTIF('S2'!$D$5:$L$5,$C18)","v":0},{"$f":"COUNTIF('S3'!$D$5:$L$5,$C18)","v":0},{"$f":"COUNTIF('S4'!$D$5:$L$5,$C18)","v":0},{"$f":"COUNTIF('S5'!$D$5:$L$5,$C18)","v":0},{"$f":"COUNTIF('S6'!$D$5:$L$5,$C18)","v":0},{"$f":"COUNTIF('S7'!$D$5:$L$5,$C18)","v":0},{"$f":"COUNTIF('S8'!$D$5:$L$5,$C18)","v":0},{"$f":"COUNTIF('S9'!$D$5:$L$5,$C18)","v":0},{"$f":"COUNTIF('S10'!$D$5:$L$5,$C18)","v":0},{"$f":"COUNTIF('S11'!$D$5:$L$5,$C18)","v":0},{"$f":"COUNTIF('S12'!$D$5:$L$5,$C18)","v":0},{"$f":"COUNTIF('S13'!$D$5:$L$5,$C18)","v":0},{"$f":"COUNTIF('S14'!$D$5:$L$5,$C18)","v":0},{"$f":"COUNTIF('S15'!$D$5:$L$5,$C18)","v":0},{"$f":"COUNTIF('S16'!$D$5:$L$5,$C18)","v":0},{"$f":"COUNTIF('S17'!$D$5:$L$5,$C18)","v":0},{"$f":"COUNTIF('S18'!$D$5:$L$5,$C18)","v":0},{"$f":"COUNTIF('S19'!$D$5:$L$5,$C18)","v":0},{"$f":"COUNTIF('S20'!$D$5:$L$5,$C18)","v":0},{"$f":"COUNTIF('S21'!$D$5:$L$5,$C18)","v":0},{"$f":"COUNTIF('S22'!$D$5:$L$5,$C18)","v":0},{"$f":"COUNTIF('S23'!$D$5:$L$5,$C18)","v":0},{"$f":"COUNTIF('S24'!$D$5:$L$5,$C18)","v":0},{"$f":"COUNTIF('S25'!$D$5:$L$5,$C18)","v":0},{"$f":"COUNTIF('S26'!$D$5:$L$5,$C18)","v":0},{"$f":"COUNTIF('S27'!$D$5:$L$5,$C18)","v":0},{"$f":"COUNTIF('S28'!$D$5:$L$5,$C18)","v":0},{"$f":"COUNTIF('S29'!$D$5:$L$5,$C18)","v":0},{"$f":"COUNTIF('S30'!$D$5:$L$5,$C18)","v":0},{"$f":"COUNTIF('S31'!$D$5:$L$5,$C18)","v":0},{"$f":"COUNTIF('S32'!$D$5:$L$5,$C18)","v":0},{"$f":"COUNTIF('S33'!$D$5:$L$5,$C18)","v":0},{"$f":"COUNTIF('S34'!$D$5:$L$5,$C18)","v":0},{"$f":"COUNTIF('S35'!$D$5:$L$5,$C18)","v":0},{"$f":"COUNTIF('S36'!$D$5:$L$5,$C18)","v":0},{"$f":"COUNTIF('S37'!$D$5:$L$5,$C18)","v":0},{"$f":"COUNTIF('S38'!$D$5:$L$5,$C18)","v":0},{"$f":"COUNTIF('S39'!$D$5:$L$5,$C18)","v":0},{"$f":"COUNTIF('S40'!$D$5:$L$5,$C18)","v":0},{"$f":"COUNTIF('S41'!$D$5:$L$5,$C18)","v":0},{"$f":"COUNTIF('S42'!$D$5:$L$5,$C18)","v":0},{"$f":"COUNTIF('S43'!$D$5:$L$5,$C18)","v":0},{"$f":"COUNTIF('S44'!$D$5:$L$5,$C18)","v":0},{"$f":"COUNTIF('S45'!$D$5:$L$5,$C18)","v":0},{"$f":"COUNTIF('S46'!$D$5:$L$5,$C18)","v":0},{"$f":"COUNTIF('S47'!$D$5:$L$5,$C18)","v":0},{"$f":"COUNTIF('S48'!$D$5:$L$5,$C18)","v":0},{"$f":"COUNTIF('S49'!$D$5:$L$5,$C18)","v":0},{"$f":"COUNTIF('S50'!$D$5:$L$5,$C18)","v":0},{"$f":"COUNTIF('S51'!$D$5:$L$5,$C18)","v":0},{"$f":"COUNTIF('S52'!$D$5:$L$5,$C18)","v":0}]
[]
[]
["REGULATION APREM",null,null,"FILE","S1","S2","S3","S4","S5","S6","S7","S8","S9","S10","S111","S122","S133","S144","S155","S166","S177","S188","S199","S20","S21","S22","S23","S24","S25","S26","S27","S28","S29","S30","S31","S32","S33","S34","S35","S36","S37","S38","S39","S40","S41","S42","S43","S44","S45","S46","S47","S48","S49","S50","S51","S52"]
["TS","OCCURRENCES \nREALISE","GAETAN C",{"$f":"$A$21","v":"REGULATION APREM"},{"$f":"COUNTIF('S1'!$D$19:$L$19,$C22)","v":1},{"$f":"COUNTIF('S2'!$D$19:$L$19,$C22)","v":0},{"$f":"COUNTIF('S3'!$D$19:$L$19,$C22)","v":0},{"$f":"COUNTIF('S4'!$D$19:$L$19,$C22)","v":0},{"$f":"COUNTIF('S5'!$D$19:$L$19,$C22)","v":0},{"$f":"COUNTIF('S6'!$D$19:$L$19,$C22)","v":0},{"$f":"COUNTIF('S7'!$D$19:$L$19,$C22)","v":0},{"$f":"COUNTIF('S8'!$D$19:$L$19,$C22)","v":0},{"$f":"COUNTIF('S9'!$D$19:$L$19,$C22)","v":0},{"$f":"COUNTIF('S10'!$D$19:$L$19,$C22)","v":0},{"$f":"COUNTIF('S11'!$D$19:$L$19,$C22)","v":0},{"$f":"COUNTIF('S12'!$D$19:$L$19,$C22)","v":0},{"$f":"COUNTIF('S13'!$D$19:$L$19,$C22)","v":0},{"$f":"COUNTIF('S14'!$D$19:$L$19,$C22)","v":0},{"$f":"COUNTIF('S15'!$D$19:$L$19,$C22)","v":0},{"$f":"COUNTIF('S16'!$D$19:$L$19,$C22)","v":0},{"$f":"COUNTIF('S17'!$D$19:$L$19,$C22)","v":0},{"$f":"COUNTIF('S18'!$D$19:$L$19,$C22)","v":0},{"$f":"COUNTIF('S19'!$D$19:$L$19,$C22)","v":0},{"$f":"COUNTIF('S20'!$D$19:$L$19,$C22)","v":0},{"$f":"COUNTIF('S21'!$D$19:$L$19,$C22)","v":0},{"$f":"COUNTIF('S22'!$D$19:$L$19,$C22)","v":0},{"$f":"COUNTIF('S23'!$D$19:$L$19,$C22)","v":0},{"$f":"COUNTIF('S24'!$D$19:$L$19,$C22)","v":0},{"$f":"COUNTIF('S25'!$D$19:$L$19,$C22)","v":0},{"$f":"COUNTIF('S26'!$D$19:$L$19,$C22)","v":0},{"$f":"COUNTIF('S27'!$D$19:$L$19,$C22)","v":0},{"$f":"COUNTIF('S28'!$D$19:$L$19,$C22)","v":0},{"$f":"COUNTIF('S29'!$D$19:$L$19,$C22)","v":0},{"$f":"COUNTIF('S30'!$D$19:$L$19,$C22)","v":0},{"$f":"COUNTIF('S31'!$D$19:$L$19,$C22)","v":0},{"$f":"COUNTIF('S32'!$D$19:$L$19,$C22)","v":0},{"$f":"COUNTIF('S33'!$D$19:$L$19,$C22)","v":0},{"$f":"COUNTIF('S34'!$D$19:$L$19,$C22)","v":0},{"$f":"COUNTIF('S35'!$D$19:$L$19,$C22)","v":0},{"$f":"COUNTIF('S36'!$D$19:$L$19,$C22)","v":0},{"$f":"COUNTIF('S37'!$D$19:$L$19,$C22)","v":0},{"$f":"COUNTIF('S38'!$D$19:$L$19,$C22)","v":0},{"$f":"COUNTIF('S39'!$D$19:$L$19,$C22)","v":0},{"$f":"COUNTIF('S40'!$D$19:$L$19,$C22)","v":0},{"$f":"COUNTIF('S41'!$D$19:$L$19,$C22)","v":0},{"$f":"COUNTIF('S42'!$D$19:$L$19,$C22)","v":0},{"$f":"COUNTIF('S43'!$D$19:$L$19,$C22)","v":0},{"$f":"COUNTIF('S44'!$D$19:$L$19,$C22)","v":0},{"$f":"COUNTIF('S45'!$D$19:$L$19,$C22)","v":0},{"$f":"COUNTIF('S46'!$D$19:$L$19,$C22)","v":0},{"$f":"COUNTIF('S47'!$D$19:$L$19,$C22)","v":0},{"$f":"COUNTIF('S48'!$D$19:$L$19,$C22)","v":0},{"$f":"COUNTIF('S49'!$D$19:$L$19,$C22)","v":0},{"$f":"COUNTIF('S50'!$D$19:$L$19,$C22)","v":0},{"$f":"COUNTIF('S51'!$D$19:$L$19,$C22)","v":0},{"$f":"COUNTIF('S52'!$D$19:$L$19,$C22)","v":0}]
[null,null,"MARIANNE T",{"$f":"$A$21","v":"REGULATION APREM"},{"$f":"COUNTIF('S1'!$D$19:$L$19,$C23)","v":0},{"$f":"COUNTIF('S2'!$D$19:$L$19,$C23)","v":0},{"$f":"COUNTIF('S3'!$D$19:$L$19,$C23)","v":0},{"$f":"COUNTIF('S4'!$D$19:$L$19,$C23)","v":0},{"$f":"COUNTIF('S5'!$D$19:$L$19,$C23)","v":0},{"$f":"COUNTIF('S6'!$D$19:$L$19,$C23)","v":0},{"$f":"COUNTIF('S7'!$D$19:$L$19,$C23)","v":0},{"$f":"COUNTIF('S8'!$D$19:$L$19,$C23)","v":0},{"$f":"COUNTIF('S9'!$D$19:$L$19,$C23)","v":0},{"$f":"COUNTIF('S10'!$D$19:$L$19,$C23)","v":0},{"$f":"COUNTIF('S11'!$D$19:$L$19,$C23)","v":0},{"$f":"COUNTIF('S12'!$D$19:$L$19,$C23)","v":0},{"$f":"COUNTIF('S13'!$D$19:$L$19,$C23)","v":0},{"$f":"COUNTIF('S14'!$D$19:$L$19,$C23)","v":0},{"$f":"COUNTIF('S15'!$D$19:$L$19,$C23)","v":0},{"$f":"COUNTIF('S16'!$D$19:$L$19,$C23)","v":0},{"$f":"COUNTIF('S17'!$D$19:$L$19,$C23)","v":0},{"$f":"COUNTIF('S18'!$D$19:$L$19,$C23)","v":0},{"$f":"COUNTIF('S19'!$D$19:$L$19,$C23)","v":0},{"$f":"COUNTIF('S20'!$D$19:$L$19,$C23)","v":0},{"$f":"COUNTIF('S21'!$D$19:$L$19,$C23)","v":0},{"$f":"COUNTIF('S22'!$D$19:$L$19,$C23)","v":0},{"$f":"COUNTIF('S23'!$D$19:$L$19,$C23)","v":0},{"$f":"COUNTIF('S24'!$D$19:$L$19,$C23)","v":0},{"$f":"COUNTIF('S25'!$D$19:$L$19,$C23)","v":0},{"$f":"COUNTIF('S26'!$D$19:$L$19,$C23)","v":0},{"$f":"COUNTIF('S27'!$D$19:$L$19,$C23)","v":0},{"$f":"COUNTIF('S28'!$D$19:$L$19,$C23)","v":0},{"$f":"COUNTIF('S29'!$D$19:$L$19,$C23)","v":0},{"$f":"COUNTIF('S30'!$D$19:$L$19,$C23)","v":0},{"$f":"COUNTIF('S31'!$D$19:$L$19,$C23)","v":0},{"$f":"COUNTIF('S32'!$D$19:$L$19,$C23)","v":0},{"$f":"COUNTIF('S33'!$D$19:$L$19,$C23)","v":0},{"$f":"COUNTIF('S34'!$D$19:$L$19,$C23)","v":0},{"$f":"COUNTIF('S35'!$D$19:$L$19,$C23)","v":0},{"$f":"COUNTIF('S36'!$D$19:$L$19,$C23)","v":0},{"$f":"COUNTIF('S37'!$D$19:$L$19,$C23)","v":0},{"$f":"COUNTIF('S38'!$D$19:$L$19,$C23)","v":0},{"$f":"COUNTIF('S39'!$D$19:$L$19,$C23)","v":0},{"$f":"COUNTIF('S40'!$D$19:$L$19,$C23)","v":0},{"$f":"COUNTIF('S41'!$D$19:$L$19,$C23)","v":0},{"$f":"COUNTIF('S42'!$D$19:$L$19,$C23)","v":0},{"$f":"COUNTIF('S43'!$D$19:$L$19,$C23)","v":0},{"$f":"COUNTIF('S44'!$D$19:$L$19,$C23)","v":0},{"$f":"COUNTIF('S45'!$D$19:$L$19,$C23)","v":0},{"$f":"COUNTIF('S46'!$D$19:$L$19,$C23)","v":0},{"$f":"COUNTIF('S47'!$D$19:$L$19,$C23)","v":0},{"$f":"COUNTIF('S48'!$D$19:$L$19,$C23)","v":0},{"$f":"COUNTIF('S49'!$D$19:$L$19,$C23)","v":0},{"$f":"COUNTIF('S50'!$D$19:$L$19,$C23)","v":0},{"$f":"COUNTIF('S51'!$D$19:$L$19,$C23)","v":0},{"$f":"COUNTIF('S52'!$D$19:$L$19,$C23)","v":0}]
[null,null,"SALIMA D","REGULATION APREM",{"$f":"COUNTIF('S1'!$D$19:$L$19,$C24)","v":0},{"$f":"COUNTIF('S2'!$D$19:$L$19,$C24)","v":0},{"$f":"COUNTIF('S3'!$D$19:$L$19,$C24)","v":0},{"$f":"COUNTIF('S4'!$D$19:$L$19,$C24)","v":0},{"$f":"COUNTIF('S5'!$D$19:$L$19,$C24)","v":0},{"$f":"COUNTIF('S6'!$D$19:$L$19,$C24)","v":0},{"$f":"COUNTIF('S7'!$D$19:$L$19,$C24)","v":0},{"$f":"COUNTIF('S8'!$D$19:$L$19,$C24)","v":0},{"$f":"COUNTIF('S9'!$D$19:$L$19,$C24)","v":0},{"$f":"COUNTIF('S10'!$D$19:$L$19,$C24)","v":0},{"$f":"COUNTIF('S11'!$D$19:$L$19,$C24)","v":0},{"$f":"COUNTIF('S12'!$D$19:$L$19,$C24)","v":0},{"$f":"COUNTIF('S13'!$D$19:$L$19,$C24)","v":0},{"$f":"COUNTIF('S14'!$D$19:$L$19,$C24)","v":0},{"$f":"COUNTIF('S15'!$D$19:$L$19,$C24)","v":0},{"$f":"COUNTIF('S16'!$D$19:$L$19,$C24)","v":0},{"$f":"COUNTIF('S17'!$D$19:$L$19,$C24)","v":0},{"$f":"COUNTIF('S18'!$D$19:$L$19,$C24)","v":0},{"$f":"COUNTIF('S19'!$D$19:$L$19,$C24)","v":0},{"$f":"COUNTIF('S20'!$D$19:$L$19,$C24)","v":0},{"$f":"COUNTIF('S21'!$D$19:$L$19,$C24)","v":0},{"$f":"COUNTIF('S22'!$D$19:$L$19,$C24)","v":0},{"$f":"COUNTIF('S23'!$D$19:$L$19,$C24)","v":0},{"$f":"COUNTIF('S24'!$D$19:$L$19,$C24)","v":0},{"$f":"COUNTIF('S25'!$D$19:$L$19,$C24)","v":0},{"$f":"COUNTIF('S26'!$D$19:$L$19,$C24)","v":0},{"$f":"COUNTIF('S27'!$D$19:$L$19,$C24)","v":0},{"$f":"COUNTIF('S28'!$D$19:$L$19,$C24)","v":0},{"$f":"COUNTIF('S29'!$D$19:$L$19,$C24)","v":0},{"$f":"COUNTIF('S30'!$D$19:$L$19,$C24)","v":0},{"$f":"COUNTIF('S31'!$D$19:$L$19,$C24)","v":0},{"$f":"COUNTIF('S32'!$D$19:$L$19,$C24)","v":0},{"$f":"COUNTIF('S33'!$D$19:$L$19,$C24)","v":0},{"$f":"COUNTIF('S34'!$D$19:$L$19,$C24)","v":0},{"$f":"COUNTIF('S35'!$D$19:$L$19,$C24)","v":0},{"$f":"COUNTIF('S36'!$D$19:$L$19,$C24)","v":0},{"$f":"COUNTIF('S37'!$D$19:$L$19,$C24)","v":0},{"$f":"COUNTIF('S38'!$D$19:$L$19,$C24)","v":0},{"$f":"COUNTIF('S39'!$D$19:$L$19,$C24)","v":0},{"$f":"COUNTIF('S40'!$D$19:$L$19,$C24)","v":0},{"$f":"COUNTIF('S41'!$D$19:$L$19,$C24)","v":0},{"$f":"COUNTIF('S42'!$D$19:$L$19,$C24)","v":0},{"$f":"COUNTIF('S43'!$D$19:$L$19,$C24)","v":0},{"$f":"COUNTIF('S44'!$D$19:$L$19,$C24)","v":0},{"$f":"COUNTIF('S45'!$D$19:$L$19,$C24)","v":0},{"$f":"COUNTIF('S46'!$D$19:$L$19,$C24)","v":0},{"$f":"COUNTIF('S47'!$D$19:$L$19,$C24)","v":0},{"$f":"COUNTIF('S48'!$D$19:$L$19,$C24)","v":0},{"$f":"COUNTIF('S49'!$D$19:$L$19,$C24)","v":0},{"$f":"COUNTIF('S50'!$D$19:$L$19,$C24)","v":0},{"$f":"COUNTIF('S51'!$D$19:$L$19,$C24)","v":0},{"$f":"COUNTIF('S52'!$D$19:$L$19,$C24)","v":0}]
[null,null,"EMILIE B","REGULATION APREM",{"$f":"COUNTIF('S1'!$D$19:$L$19,$C25)","v":0},{"$f":"COUNTIF('S2'!$D$19:$L$19,$C25)","v":0},{"$f":"COUNTIF('S3'!$D$19:$L$19,$C25)","v":0},{"$f":"COUNTIF('S4'!$D$19:$L$19,$C25)","v":0},{"$f":"COUNTIF('S5'!$D$19:$L$19,$C25)","v":0},{"$f":"COUNTIF('S6'!$D$19:$L$19,$C25)","v":0},{"$f":"COUNTIF('S7'!$D$19:$L$19,$C25)","v":0},{"$f":"COUNTIF('S8'!$D$19:$L$19,$C25)","v":0},{"$f":"COUNTIF('S9'!$D$19:$L$19,$C25)","v":0},{"$f":"COUNTIF('S10'!$D$19:$L$19,$C25)","v":0},{"$f":"COUNTIF('S11'!$D$19:$L$19,$C25)","v":0},{"$f":"COUNTIF('S12'!$D$19:$L$19,$C25)","v":0},{"$f":"COUNTIF('S13'!$D$19:$L$19,$C25)","v":0},{"$f":"COUNTIF('S14'!$D$19:$L$19,$C25)","v":0},{"$f":"COUNTIF('S15'!$D$19:$L$19,$C25)","v":0},{"$f":"COUNTIF('S16'!$D$19:$L$19,$C25)","v":0},{"$f":"COUNTIF('S17'!$D$19:$L$19,$C25)","v":0},{"$f":"COUNTIF('S18'!$D$19:$L$19,$C25)","v":0},{"$f":"COUNTIF('S19'!$D$19:$L$19,$C25)","v":0},{"$f":"COUNTIF('S20'!$D$19:$L$19,$C25)","v":0},{"$f":"COUNTIF('S21'!$D$19:$L$19,$C25)","v":0},{"$f":"COUNTIF('S22'!$D$19:$L$19,$C25)","v":0},{"$f":"COUNTIF('S23'!$D$19:$L$19,$C25)","v":0},{"$f":"COUNTIF('S24'!$D$19:$L$19,$C25)","v":0},{"$f":"COUNTIF('S25'!$D$19:$L$19,$C25)","v":0},{"$f":"COUNTIF('S26'!$D$19:$L$19,$C25)","v":0},{"$f":"COUNTIF('S27'!$D$19:$L$19,$C25)","v":0},{"$f":"COUNTIF('S28'!$D$19:$L$19,$C25)","v":0},{"$f":"COUNTIF('S29'!$D$19:$L$19,$C25)","v":0},{"$f":"COUNTIF('S30'!$D$19:$L$19,$C25)","v":0},{"$f":"COUNTIF('S31'!$D$19:$L$19,$C25)","v":0},{"$f":"COUNTIF('S32'!$D$19:$L$19,$C25)","v":0},{"$f":"COUNTIF('S33'!$D$19:$L$19,$C25)","v":0},{"$f":"COUNTIF('S34'!$D$19:$L$19,$C25)","v":0},{"$f":"COUNTIF('S35'!$D$19:$L$19,$C25)","v":0},{"$f":"COUNTIF('S36'!$D$19:$L$19,$C25)","v":0},{"$f":"COUNTIF('S37'!$D$19:$L$19,$C25)","v":0},{"$f":"COUNTIF('S38'!$D$19:$L$19,$C25)","v":0},{"$f":"COUNTIF('S39'!$D$19:$L$19,$C25)","v":0},{"$f":"COUNTIF('S40'!$D$19:$L$19,$C25)","v":0},{"$f":"COUNTIF('S41'!$D$19:$L$19,$C25)","v":0},{"$f":"COUNTIF('S42'!$D$19:$L$19,$C25)","v":0},{"$f":"COUNTIF('S43'!$D$19:$L$19,$C25)","v":0},{"$f":"COUNTIF('S44'!$D$19:$L$19,$C25)","v":0},{"$f":"COUNTIF('S45'!$D$19:$L$19,$C25)","v":0},{"$f":"COUNTIF('S46'!$D$19:$L$19,$C25)","v":0},{"$f":"COUNTIF('S47'!$D$19:$L$19,$C25)","v":0},{"$f":"COUNTIF('S48'!$D$19:$L$19,$C25)","v":0},{"$f":"COUNTIF('S49'!$D$19:$L$19,$C25)","v":0},{"$f":"COUNTIF('S50'!$D$19:$L$19,$C25)","v":0},{"$f":"COUNTIF('S51'!$D$19:$L$19,$C25)","v":0},{"$f":"COUNTIF('S52'!$D$19:$L$19,$C25)","v":0}]
[null,null,"AUDREY L","REGULATION APREM",{"$f":"COUNTIF('S1'!$D$19:$L$19,$C26)","v":0},{"$f":"COUNTIF('S2'!$D$19:$L$19,$C26)","v":0},{"$f":"COUNTIF('S3'!$D$19:$L$19,$C26)","v":0},{"$f":"COUNTIF('S4'!$D$19:$L$19,$C26)","v":0},{"$f":"COUNTIF('S5'!$D$19:$L$19,$C26)","v":0},{"$f":"COUNTIF('S6'!$D$19:$L$19,$C26)","v":0},{"$f":"COUNTIF('S7'!$D$19:$L$19,$C26)","v":0},{"$f":"COUNTIF('S8'!$D$19:$L$19,$C26)","v":0},{"$f":"COUNTIF('S9'!$D$19:$L$19,$C26)","v":0},{"$f":"COUNTIF('S10'!$D$19:$L$19,$C26)","v":0},{"$f":"COUNTIF('S11'!$D$19:$L$19,$C26)","v":0},{"$f":"COUNTIF('S12'!$D$19:$L$19,$C26)","v":0},{"$f":"COUNTIF('S13'!$D$19:$L$19,$C26)","v":0},{"$f":"COUNTIF('S14'!$D$19:$L$19,$C26)","v":0},{"$f":"COUNTIF('S15'!$D$19:$L$19,$C26)","v":0},{"$f":"COUNTIF('S16'!$D$19:$L$19,$C26)","v":0},{"$f":"COUNTIF('S17'!$D$19:$L$19,$C26)","v":0},{"$f":"COUNTIF('S18'!$D$19:$L$19,$C26)","v":0},{"$f":"COUNTIF('S19'!$D$19:$L$19,$C26)","v":0},{"$f":"COUNTIF('S20'!$D$19:$L$19,$C26)","v":0},{"$f":"COUNTIF('S21'!$D$19:$L$19,$C26)","v":0},{"$f":"COUNTIF('S22'!$D$19:$L$19,$C26)","v":0},{"$f":"COUNTIF('S23'!$D$19:$L$19,$C26)","v":0},{"$f":"COUNTIF('S24'!$D$19:$L$19,$C26)","v":0},{"$f":"COUNTIF('S25'!$D$19:$L$19,$C26)","v":0},{"$f":"COUNTIF('S26'!$D$19:$L$19,$C26)","v":0},{"$f":"COUNTIF('S27'!$D$19:$L$19,$C26)","v":0},{"$f":"COUNTIF('S28'!$D$19:$L$19,$C26)","v":0},{"$f":"COUNTIF('S29'!$D$19:$L$19,$C26)","v":0},{"$f":"COUNTIF('S30'!$D$19:$L$19,$C26)","v":0},{"$f":"COUNTIF('S31'!$D$19:$L$19,$C26)","v":0},{"$f":"COUNTIF('S32'!$D$19:$L$19,$C26)","v":0},{"$f":"COUNTIF('S33'!$D$19:$L$19,$C26)","v":0},{"$f":"COUNTIF('S34'!$D$19:$L$19,$C26)","v":0},{"$f":"COUNTIF('S35'!$D$19:$L$19,$C26)","v":0},{"$f":"COUNTIF('S36'!$D$19:$L$19,$C26)","v":0},{"$f":"COUNTIF('S37'!$D$19:$L$19,$C26)","v":0},{"$f":"COUNTIF('S38'!$D$19:$L$19,$C26)","v":0},{"$f":"COUNTIF('S39'!$D$19:$L$19,$C26)","v":0},{"$f":"COUNTIF('S40'!$D$19:$L$19,$C26)","v":0},{"$f":"COUNTIF('S41'!$D$19:$L$19,$C26)","v":0},{"$f":"COUNTIF('S42'!$D$19:$L$19,$C26)","v":0},{"$f":"COUNTIF('S43'!$D$19:$L$19,$C26)","v":0},{"$f":"COUNTIF('S44'!$D$19:$L$19,$C26)","v":0},{"$f":"COUNTIF('S45'!$D$19:$L$19,$C26)","v":0},{"$f":"COUNTIF('S46'!$D$19:$L$19,$C26)","v":0},{"$f":"COUNTIF('S47'!$D$19:$L$19,$C26)","v":0},{"$f":"COUNTIF('S48'!$D$19:$L$19,$C26)","v":0},{"$f":"COUNTIF('S49'!$D$19:$L$19,$C26)","v":0},{"$f":"COUNTIF('S50'!$D$19:$L$19,$C26)","v":0},{"$f":"COUNTIF('S51'!$D$19:$L$19,$C26)","v":0},{"$f":"COUNTIF('S52'!$D$19:$L$19,$C26)","v":0}]
[null,null,"MATHIEU G","REGULATION APREM",{"$f":"COUNTIF('S1'!$D$19:$L$19,$C27)","v":0},{"$f":"COUNTIF('S2'!$D$19:$L$19,$C27)","v":0},{"$f":"COUNTIF('S3'!$D$19:$L$19,$C27)","v":0},{"$f":"COUNTIF('S4'!$D$19:$L$19,$C27)","v":0},{"$f":"COUNTIF('S5'!$D$19:$L$19,$C27)","v":0},{"$f":"COUNTIF('S6'!$D$19:$L$19,$C27)","v":0},{"$f":"COUNTIF('S7'!$D$19:$L$19,$C27)","v":0},{"$f":"COUNTIF('S8'!$D$19:$L$19,$C27)","v":0},{"$f":"COUNTIF('S9'!$D$19:$L$19,$C27)","v":0},{"$f":"COUNTIF('S10'!$D$19:$L$19,$C27)","v":0},{"$f":"COUNTIF('S11'!$D$19:$L$19,$C27)","v":0},{"$f":"COUNTIF('S12'!$D$19:$L$19,$C27)","v":0},{"$f":"COUNTIF('S13'!$D$19:$L$19,$C27)","v":0},{"$f":"COUNTIF('S14'!$D$19:$L$19,$C27)","v":0},{"$f":"COUNTIF('S15'!$D$19:$L$19,$C27)","v":0},{"$f":"COUNTIF('S16'!$D$19:$L$19,$C27)","v":0},{"$f":"COUNTIF('S17'!$D$19:$L$19,$C27)","v":0},{"$f":"COUNTIF('S18'!$D$19:$L$19,$C27)","v":0},{"$f":"COUNTIF('S19'!$D$19:$L$19,$C27)","v":0},{"$f":"COUNTIF('S20'!$D$19:$L$19,$C27)","v":0},{"$f":"COUNTIF('S21'!$D$19:$L$19,$C27)","v":0},{"$f":"COUNTIF('S22'!$D$19:$L$19,$C27)","v":0},{"$f":"COUNTIF('S23'!$D$19:$L$19,$C27)","v":0},{"$f":"COUNTIF('S24'!$D$19:$L$19,$C27)","v":0},{"$f":"COUNTIF('S25'!$D$19:$L$19,$C27)","v":0},{"$f":"COUNTIF('S26'!$D$19:$L$19,$C27)","v":0},{"$f":"COUNTIF('S27'!$D$19:$L$19,$C27)","v":0},{"$f":"COUNTIF('S28'!$D$19:$L$19,$C27)","v":0},{"$f":"COUNTIF('S29'!$D$19:$L$19,$C27)","v":0},{"$f":"COUNTIF('S30'!$D$19:$L$19,$C27)","v":0},{"$f":"COUNTIF('S31'!$D$19:$L$19,$C27)","v":0},{"$f":"COUNTIF('S32'!$D$19:$L$19,$C27)","v":0},{"$f":"COUNTIF('S33'!$D$19:$L$19,$C27)","v":0},{"$f":"COUNTIF('S34'!$D$19:$L$19,$C27)","v":0},{"$f":"COUNTIF('S35'!$D$19:$L$19,$C27)","v":0},{"$f":"COUNTIF('S36'!$D$19:$L$19,$C27)","v":0},{"$f":"COUNTIF('S37'!$D$19:$L$19,$C27)","v":0},{"$f":"COUNTIF('S38'!$D$19:$L$19,$C27)","v":0},{"$f":"COUNTIF('S39'!$D$19:$L$19,$C27)","v":0},{"$f":"COUNTIF('S40'!$D$19:$L$19,$C27)","v":0},{"$f":"COUNTIF('S41'!$D$19:$L$19,$C27)","v":0},{"$f":"COUNTIF('S42'!$D$19:$L$19,$C27)","v":0},{"$f":"COUNTIF('S43'!$D$19:$L$19,$C27)","v":0},{"$f":"COUNTIF('S44'!$D$19:$L$19,$C27)","v":0},{"$f":"COUNTIF('S45'!$D$19:$L$19,$C27)","v":0},{"$f":"COUNTIF('S46'!$D$19:$L$19,$C27)","v":0},{"$f":"COUNTIF('S47'!$D$19:$L$19,$C27)","v":0},{"$f":"COUNTIF('S48'!$D$19:$L$19,$C27)","v":0},{"$f":"COUNTIF('S49'!$D$19:$L$19,$C27)","v":0},{"$f":"COUNTIF('S50'!$D$19:$L$19,$C27)","v":0},{"$f":"COUNTIF('S51'!$D$19:$L$19,$C27)","v":0},{"$f":"COUNTIF('S52'!$D$19:$L$19,$C27)","v":0}]
[null,null,"CHRISTEL L","REGULATION APREM",{"$f":"COUNTIF('S1'!$D$19:$L$19,$C28)","v":0},{"$f":"COUNTIF('S2'!$D$19:$L$19,$C28)","v":0},{"$f":"COUNTIF('S3'!$D$19:$L$19,$C28)","v":0},{"$f":"COUNTIF('S4'!$D$19:$L$19,$C28)","v":0},{"$f":"COUNTIF('S5'!$D$19:$L$19,$C28)","v":0},{"$f":"COUNTIF('S6'!$D$19:$L$19,$C28)","v":0},{"$f":"COUNTIF('S7'!$D$19:$L$19,$C28)","v":0},{"$f":"COUNTIF('S8'!$D$19:$L$19,$C28)","v":0},{"$f":"COUNTIF('S9'!$D$19:$L$19,$C28)","v":0},{"$f":"COUNTIF('S10'!$D$19:$L$19,$C28)","v":0},{"$f":"COUNTIF('S11'!$D$19:$L$19,$C28)","v":0},{"$f":"COUNTIF('S12'!$D$19:$L$19,$C28)","v":0},{"$f":"COUNTIF('S13'!$D$19:$L$19,$C28)","v":0},{"$f":"COUNTIF('S14'!$D$19:$L$19,$C28)","v":0},{"$f":"COUNTIF('S15'!$D$19:$L$19,$C28)","v":0},{"$f":"COUNTIF('S16'!$D$19:$L$19,$C28)","v":0},{"$f":"COUNTIF('S17'!$D$19:$L$19,$C28)","v":0},{"$f":"COUNTIF('S18'!$D$19:$L$19,$C28)","v":0},{"$f":"COUNTIF('S19'!$D$19:$L$19,$C28)","v":0},{"$f":"COUNTIF('S20'!$D$19:$L$19,$C28)","v":0},{"$f":"COUNTIF('S21'!$D$19:$L$19,$C28)","v":0},{"$f":"COUNTIF('S22'!$D$19:$L$19,$C28)","v":0},{"$f":"COUNTIF('S23'!$D$19:$L$19,$C28)","v":0},{"$f":"COUNTIF('S24'!$D$19:$L$19,$C28)","v":0},{"$f":"COUNTIF('S25'!$D$19:$L$19,$C28)","v":0},{"$f":"COUNTIF('S26'!$D$19:$L$19,$C28)","v":0},{"$f":"COUNTIF('S27'!$D$19:$L$19,$C28)","v":0},{"$f":"COUNTIF('S28'!$D$19:$L$19,$C28)","v":0},{"$f":"COUNTIF('S29'!$D$19:$L$19,$C28)","v":0},{"$f":"COUNTIF('S30'!$D$19:$L$19,$C28)","v":0},{"$f":"COUNTIF('S31'!$D$19:$L$19,$C28)","v":0},{"$f":"COUNTIF('S32'!$D$19:$L$19,$C28)","v":0},{"$f":"COUNTIF('S33'!$D$19:$L$19,$C28)","v":0},{"$f":"COUNTIF('S34'!$D$19:$L$19,$C28)","v":0},{"$f":"COUNTIF('S35'!$D$19:$L$19,$C28)","v":0},{"$f":"COUNTIF('S36'!$D$19:$L$19,$C28)","v":0},{"$f":"COUNTIF('S37'!$D$19:$L$19,$C28)","v":0},{"$f":"COUNTIF('S38'!$D$19:$L$19,$C28)","v":0},{"$f":"COUNTIF('S39'!$D$19:$L$19,$C28)","v":0},{"$f":"COUNTIF('S40'!$D$19:$L$19,$C28)","v":0},{"$f":"COUNTIF('S41'!$D$19:$L$19,$C28)","v":0},{"$f":"COUNTIF('S42'!$D$19:$L$19,$C28)","v":0},{"$f":"COUNTIF('S43'!$D$19:$L$19,$C28)","v":0},{"$f":"COUNTIF('S44'!$D$19:$L$19,$C28)","v":0},{"$f":"COUNTIF('S45'!$D$19:$L$19,$C28)","v":0},{"$f":"COUNTIF('S46'!$D$19:$L$19,$C28)","v":0},{"$f":"COUNTIF('S47'!$D$19:$L$19,$C28)","v":0},{"$f":"COUNTIF('S48'!$D$19:$L$19,$C28)","v":0},{"$f":"COUNTIF('S49'!$D$19:$L$19,$C28)","v":0},{"$f":"COUNTIF('S50'!$D$19:$L$19,$C28)","v":0},{"$f":"COUNTIF('S51'!$D$19:$L$19,$C28)","v":0},{"$f":"COUNTIF('S52'!$D$19:$L$19,$C28)","v":0}]
[null,null,"CAMILLE MD","REGULATION APREM",{"$f":"COUNTIF('S1'!$D$19:$L$19,$C29)","v":0},{"$f":"COUNTIF('S2'!$D$19:$L$19,$C29)","v":0},{"$f":"COUNTIF('S3'!$D$19:$L$19,$C29)","v":0},{"$f":"COUNTIF('S4'!$D$19:$L$19,$C29)","v":0},{"$f":"COUNTIF('S5'!$D$19:$L$19,$C29)","v":0},{"$f":"COUNTIF('S6'!$D$19:$L$19,$C29)","v":0},{"$f":"COUNTIF('S7'!$D$19:$L$19,$C29)","v":0},{"$f":"COUNTIF('S8'!$D$19:$L$19,$C29)","v":0},{"$f":"COUNTIF('S9'!$D$19:$L$19,$C29)","v":0},{"$f":"COUNTIF('S10'!$D$19:$L$19,$C29)","v":0},{"$f":"COUNTIF('S11'!$D$19:$L$19,$C29)","v":0},{"$f":"COUNTIF('S12'!$D$19:$L$19,$C29)","v":0},{"$f":"COUNTIF('S13'!$D$19:$L$19,$C29)","v":0},{"$f":"COUNTIF('S14'!$D$19:$L$19,$C29)","v":0},{"$f":"COUNTIF('S15'!$D$19:$L$19,$C29)","v":0},{"$f":"COUNTIF('S16'!$D$19:$L$19,$C29)","v":0},{"$f":"COUNTIF('S17'!$D$19:$L$19,$C29)","v":0},{"$f":"COUNTIF('S18'!$D$19:$L$19,$C29)","v":0},{"$f":"COUNTIF('S19'!$D$19:$L$19,$C29)","v":0},{"$f":"COUNTIF('S20'!$D$19:$L$19,$C29)","v":0},{"$f":"COUNTIF('S21'!$D$19:$L$19,$C29)","v":0},{"$f":"COUNTIF('S22'!$D$19:$L$19,$C29)","v":0},{"$f":"COUNTIF('S23'!$D$19:$L$19,$C29)","v":0},{"$f":"COUNTIF('S24'!$D$19:$L$19,$C29)","v":0},{"$f":"COUNTIF('S25'!$D$19:$L$19,$C29)","v":0},{"$f":"COUNTIF('S26'!$D$19:$L$19,$C29)","v":0},{"$f":"COUNTIF('S27'!$D$19:$L$19,$C29)","v":0},{"$f":"COUNTIF('S28'!$D$19:$L$19,$C29)","v":0},{"$f":"COUNTIF('S29'!$D$19:$L$19,$C29)","v":0},{"$f":"COUNTIF('S30'!$D$19:$L$19,$C29)","v":0},{"$f":"COUNTIF('S31'!$D$19:$L$19,$C29)","v":0},{"$f":"COUNTIF('S32'!$D$19:$L$19,$C29)","v":0},{"$f":"COUNTIF('S33'!$D$19:$L$19,$C29)","v":0},{"$f":"COUNTIF('S34'!$D$19:$L$19,$C29)","v":0},{"$f":"COUNTIF('S35'!$D$19:$L$19,$C29)","v":0},{"$f":"COUNTIF('S36'!$D$19:$L$19,$C29)","v":0},{"$f":"COUNTIF('S37'!$D$19:$L$19,$C29)","v":0},{"$f":"COUNTIF('S38'!$D$19:$L$19,$C29)","v":0},{"$f":"COUNTIF('S39'!$D$19:$L$19,$C29)","v":0},{"$f":"COUNTIF('S40'!$D$19:$L$19,$C29)","v":0},{"$f":"COUNTIF('S41'!$D$19:$L$19,$C29)","v":0},{"$f":"COUNTIF('S42'!$D$19:$L$19,$C29)","v":0},{"$f":"COUNTIF('S43'!$D$19:$L$19,$C29)","v":0},{"$f":"COUNTIF('S44'!$D$19:$L$19,$C29)","v":0},{"$f":"COUNTIF('S45'!$D$19:$L$19,$C29)","v":0},{"$f":"COUNTIF('S46'!$D$19:$L$19,$C29)","v":0},{"$f":"COUNTIF('S47'!$D$19:$L$19,$C29)","v":0},{"$f":"COUNTIF('S48'!$D$19:$L$19,$C29)","v":0},{"$f":"COUNTIF('S49'!$D$19:$L$19,$C29)","v":0},{"$f":"COUNTIF('S50'!$D$19:$L$19,$C29)","v":0},{"$f":"COUNTIF('S51'!$D$19:$L$19,$C29)","v":0},{"$f":"COUNTIF('S52'!$D$19:$L$19,$C29)","v":0}]
[null,null,"AMELIE M","REGULATION APREM",{"$f":"COUNTIF('S1'!$D$19:$L$19,$C30)","v":0},{"$f":"COUNTIF('S2'!$D$19:$L$19,$C30)","v":0},{"$f":"COUNTIF('S3'!$D$19:$L$19,$C30)","v":0},{"$f":"COUNTIF('S4'!$D$19:$L$19,$C30)","v":0},{"$f":"COUNTIF('S5'!$D$19:$L$19,$C30)","v":0},{"$f":"COUNTIF('S6'!$D$19:$L$19,$C30)","v":0},{"$f":"COUNTIF('S7'!$D$19:$L$19,$C30)","v":0},{"$f":"COUNTIF('S8'!$D$19:$L$19,$C30)","v":0},{"$f":"COUNTIF('S9'!$D$19:$L$19,$C30)","v":0},{"$f":"COUNTIF('S10'!$D$19:$L$19,$C30)","v":0},{"$f":"COUNTIF('S11'!$D$19:$L$19,$C30)","v":0},{"$f":"COUNTIF('S12'!$D$19:$L$19,$C30)","v":0},{"$f":"COUNTIF('S13'!$D$19:$L$19,$C30)","v":0},{"$f":"COUNTIF('S14'!$D$19:$L$19,$C30)","v":0},{"$f":"COUNTIF('S15'!$D$19:$L$19,$C30)","v":0},{"$f":"COUNTIF('S16'!$D$19:$L$19,$C30)","v":0},{"$f":"COUNTIF('S17'!$D$19:$L$19,$C30)","v":0},{"$f":"COUNTIF('S18'!$D$19:$L$19,$C30)","v":0},{"$f":"COUNTIF('S19'!$D$19:$L$19,$C30)","v":0},{"$f":"COUNTIF('S20'!$D$19:$L$19,$C30)","v":0},{"$f":"COUNTIF('S21'!$D$19:$L$19,$C30)","v":0},{"$f":"COUNTIF('S22'!$D$19:$L$19,$C30)","v":0},{"$f":"COUNTIF('S23'!$D$19:$L$19,$C30)","v":0},{"$f":"COUNTIF('S24'!$D$19:$L$19,$C30)","v":0},{"$f":"COUNTIF('S25'!$D$19:$L$19,$C30)","v":0},{"$f":"COUNTIF('S26'!$D$19:$L$19,$C30)","v":0},{"$f":"COUNTIF('S27'!$D$19:$L$19,$C30)","v":0},{"$f":"COUNTIF('S28'!$D$19:$L$19,$C30)","v":0},{"$f":"COUNTIF('S29'!$D$19:$L$19,$C30)","v":0},{"$f":"COUNTIF('S30'!$D$19:$L$19,$C30)","v":0},{"$f":"COUNTIF('S31'!$D$19:$L$19,$C30)","v":0},{"$f":"COUNTIF('S32'!$D$19:$L$19,$C30)","v":0},{"$f":"COUNTIF('S33'!$D$19:$L$19,$C30)","v":0},{"$f":"COUNTIF('S34'!$D$19:$L$19,$C30)","v":0},{"$f":"COUNTIF('S35'!$D$19:$L$19,$C30)","v":0},{"$f":"COUNTIF('S36'!$D$19:$L$19,$C30)","v":0},{"$f":"COUNTIF('S37'!$D$19:$L$19,$C30)","v":0},{"$f":"COUNTIF('S38'!$D$19:$L$19,$C30)","v":0},{"$f":"COUNTIF('S39'!$D$19:$L$19,$C30)","v":0},{"$f":"COUNTIF('S40'!$D$19:$L$19,$C30)","v":0},{"$f":"COUNTIF('S41'!$D$19:$L$19,$C30)","v":0},{"$f":"COUNTIF('S42'!$D$19:$L$19,$C30)","v":0},{"$f":"COUNTIF('S43'!$D$19:$L$19,$C30)","v":0},{"$f":"COUNTIF('S44'!$D$19:$L$19,$C30)","v":0},{"$f":"COUNTIF('S45'!$D$19:$L$19,$C30)","v":0},{"$f":"COUNTIF('S46'!$D$19:$L$19,$C30)","v":0},{"$f":"COUNTIF('S47'!$D$19:$L$19,$C30)","v":0},{"$f":"COUNTIF('S48'!$D$19:$L$19,$C30)","v":0},{"$f":"COUNTIF('S49'!$D$19:$L$19,$C30)","v":0},{"$f":"COUNTIF('S50'!$D$19:$L$19,$C30)","v":0},{"$f":"COUNTIF('S51'!$D$19:$L$19,$C30)","v":0},{"$f":"COUNTIF('S52'!$D$19:$L$19,$C30)","v":0}]
[null,null,"POME H","REGULATION APREM",{"$f":"COUNTIF('S1'!$D$19:$L$19,$C31)","v":0},{"$f":"COUNTIF('S2'!$D$19:$L$19,$C31)","v":0},{"$f":"COUNTIF('S3'!$D$19:$L$19,$C31)","v":0},{"$f":"COUNTIF('S4'!$D$19:$L$19,$C31)","v":0},{"$f":"COUNTIF('S5'!$D$19:$L$19,$C31)","v":0},{"$f":"COUNTIF('S6'!$D$19:$L$19,$C31)","v":0},{"$f":"COUNTIF('S7'!$D$19:$L$19,$C31)","v":0},{"$f":"COUNTIF('S8'!$D$19:$L$19,$C31)","v":0},{"$f":"COUNTIF('S9'!$D$19:$L$19,$C31)","v":0},{"$f":"COUNTIF('S10'!$D$19:$L$19,$C31)","v":0},{"$f":"COUNTIF('S11'!$D$19:$L$19,$C31)","v":0},{"$f":"COUNTIF('S12'!$D$19:$L$19,$C31)","v":0},{"$f":"COUNTIF('S13'!$D$19:$L$19,$C31)","v":0},{"$f":"COUNTIF('S14'!$D$19:$L$19,$C31)","v":0},{"$f":"COUNTIF('S15'!$D$19:$L$19,$C31)","v":0},{"$f":"COUNTIF('S16'!$D$19:$L$19,$C31)","v":0},{"$f":"COUNTIF('S17'!$D$19:$L$19,$C31)","v":0},{"$f":"COUNTIF('S18'!$D$19:$L$19,$C31)","v":0},{"$f":"COUNTIF('S19'!$D$19:$L$19,$C31)","v":0},{"$f":"COUNTIF('S20'!$D$19:$L$19,$C31)","v":0},{"$f":"COUNTIF('S21'!$D$19:$L$19,$C31)","v":0},{"$f":"COUNTIF('S22'!$D$19:$L$19,$C31)","v":0},{"$f":"COUNTIF('S23'!$D$19:$L$19,$C31)","v":0},{"$f":"COUNTIF('S24'!$D$19:$L$19,$C31)","v":0},{"$f":"COUNTIF('S25'!$D$19:$L$19,$C31)","v":0},{"$f":"COUNTIF('S26'!$D$19:$L$19,$C31)","v":0},{"$f":"COUNTIF('S27'!$D$19:$L$19,$C31)","v":0},{"$f":"COUNTIF('S28'!$D$19:$L$19,$C31)","v":0},{"$f":"COUNTIF('S29'!$D$19:$L$19,$C31)","v":0},{"$f":"COUNTIF('S30'!$D$19:$L$19,$C31)","v":0},{"$f":"COUNTIF('S31'!$D$19:$L$19,$C31)","v":0},{"$f":"COUNTIF('S32'!$D$19:$L$19,$C31)","v":0},{"$f":"COUNTIF('S33'!$D$19:$L$19,$C31)","v":0},{"$f":"COUNTIF('S34'!$D$19:$L$19,$C31)","v":0},{"$f":"COUNTIF('S35'!$D$19:$L$19,$C31)","v":0},{"$f":"COUNTIF('S36'!$D$19:$L$19,$C31)","v":0},{"$f":"COUNTIF('S37'!$D$19:$L$19,$C31)","v":0},{"$f":"COUNTIF('S38'!$D$19:$L$19,$C31)","v":0},{"$f":"COUNTIF('S39'!$D$19:$L$19,$C31)","v":0},{"$f":"COUNTIF('S40'!$D$19:$L$19,$C31)","v":0},{"$f":"COUNTIF('S41'!$D$19:$L$19,$C31)","v":0},{"$f":"COUNTIF('S42'!$D$19:$L$19,$C31)","v":0},{"$f":"COUNTIF('S43'!$D$19:$L$19,$C31)","v":0},{"$f":"COUNTIF('S44'!$D$19:$L$19,$C31)","v":0},{"$f":"COUNTIF('S45'!$D$19:$L$19,$C31)","v":0},{"$f":"COUNTIF('S46'!$D$19:$L$19,$C31)","v":0},{"$f":"COUNTIF('S47'!$D$19:$L$19,$C31)","v":0},{"$f":"COUNTIF('S48'!$D$19:$L$19,$C31)","v":0},{"$f":"COUNTIF('S49'!$D$19:$L$19,$C31)","v":0},{"$f":"COUNTIF('S50'!$D$19:$L$19,$C31)","v":0},{"$f":"COUNTIF('S51'!$D$19:$L$19,$C31)","v":0},{"$f":"COUNTIF('S52'!$D$19:$L$19,$C31)","v":0}]
[null,null,"REMPLACANT 1","REGULATION APREM",{"$f":"COUNTIF('S1'!$D$19:$L$19,$C32)","v":0},{"$f":"COUNTIF('S2'!$D$19:$L$19,$C32)","v":0},{"$f":"COUNTIF('S3'!$D$19:$L$19,$C32)","v":0},{"$f":"COUNTIF('S4'!$D$19:$L$19,$C32)","v":0},{"$f":"COUNTIF('S5'!$D$19:$L$19,$C32)","v":0},{"$f":"COUNTIF('S6'!$D$19:$L$19,$C32)","v":0},{"$f":"COUNTIF('S7'!$D$19:$L$19,$C32)","v":0},{"$f":"COUNTIF('S8'!$D$19:$L$19,$C32)","v":0},{"$f":"COUNTIF('S9'!$D$19:$L$19,$C32)","v":0},{"$f":"COUNTIF('S10'!$D$19:$L$19,$C32)","v":0},{"$f":"COUNTIF('S11'!$D$19:$L$19,$C32)","v":0},{"$f":"COUNTIF('S12'!$D$19:$L$19,$C32)","v":0},{"$f":"COUNTIF('S13'!$D$19:$L$19,$C32)","v":0},{"$f":"COUNTIF('S14'!$D$19:$L$19,$C32)","v":0},{"$f":"COUNTIF('S15'!$D$19:$L$19,$C32)","v":0},{"$f":"COUNTIF('S16'!$D$19:$L$19,$C32)","v":0},{"$f":"COUNTIF('S17'!$D$19:$L$19,$C32)","v":0},{"$f":"COUNTIF('S18'!$D$19:$L$19,$C32)","v":0},{"$f":"COUNTIF('S19'!$D$19:$L$19,$C32)","v":0},{"$f":"COUNTIF('S20'!$D$19:$L$19,$C32)","v":0},{"$f":"COUNTIF('S21'!$D$19:$L$19,$C32)","v":0},{"$f":"COUNTIF('S22'!$D$19:$L$19,$C32)","v":0},{"$f":"COUNTIF('S23'!$D$19:$L$19,$C32)","v":0},{"$f":"COUNTIF('S24'!$D$19:$L$19,$C32)","v":0},{"$f":"COUNTIF('S25'!$D$19:$L$19,$C32)","v":0},{"$f":"COUNTIF('S26'!$D$19:$L$19,$C32)","v":0},{"$f":"COUNTIF('S27'!$D$19:$L$19,$C32)","v":0},{"$f":"COUNTIF('S28'!$D$19:$L$19,$C32)","v":0},{"$f":"COUNTIF('S29'!$D$19:$L$19,$C32)","v":0},{"$f":"COUNTIF('S30'!$D$19:$L$19,$C32)","v":0},{"$f":"COUNTIF('S31'!$D$19:$L$19,$C32)","v":0},{"$f":"COUNTIF('S32'!$D$19:$L$19,$C32)","v":0},{"$f":"COUNTIF('S33'!$D$19:$L$19,$C32)","v":0},{"$f":"COUNTIF('S34'!$D$19:$L$19,$C32)","v":0},{"$f":"COUNTIF('S35'!$D$19:$L$19,$C32)","v":0},{"$f":"COUNTIF('S36'!$D$19:$L$19,$C32)","v":0},{"$f":"COUNTIF('S37'!$D$19:$L$19,$C32)","v":0},{"$f":"COUNTIF('S38'!$D$19:$L$19,$C32)","v":0},{"$f":"COUNTIF('S39'!$D$19:$L$19,$C32)","v":0},{"$f":"COUNTIF('S40'!$D$19:$L$19,$C32)","v":0},{"$f":"COUNTIF('S41'!$D$19:$L$19,$C32)","v":0},{"$f":"COUNTIF('S42'!$D$19:$L$19,$C32)","v":0},{"$f":"COUNTIF('S43'!$D$19:$L$19,$C32)","v":0},{"$f":"COUNTIF('S44'!$D$19:$L$19,$C32)","v":0},{"$f":"COUNTIF('S45'!$D$19:$L$19,$C32)","v":0},{"$f":"COUNTIF('S46'!$D$19:$L$19,$C32)","v":0},{"$f":"COUNTIF('S47'!$D$19:$L$19,$C32)","v":0},{"$f":"COUNTIF('S48'!$D$19:$L$19,$C32)","v":0},{"$f":"COUNTIF('S49'!$D$19:$L$19,$C32)","v":0},{"$f":"COUNTIF('S50'!$D$19:$L$19,$C32)","v":0},{"$f":"COUNTIF('S51'!$D$19:$L$19,$C32)","v":0},{"$f":"COUNTIF('S52'!$D$19:$L$19,$C32)","v":0}]
[null,null,"REMPLACANT 2 ","REGULATION APREM",{"$f":"COUNTIF('S1'!$D$19:$L$19,$C33)","v":0},{"$f":"COUNTIF('S2'!$D$19:$L$19,$C33)","v":0},{"$f":"COUNTIF('S3'!$D$19:$L$19,$C33)","v":0},{"$f":"COUNTIF('S4'!$D$19:$L$19,$C33)","v":0},{"$f":"COUNTIF('S5'!$D$19:$L$19,$C33)","v":0},{"$f":"COUNTIF('S6'!$D$19:$L$19,$C33)","v":0},{"$f":"COUNTIF('S7'!$D$19:$L$19,$C33)","v":0},{"$f":"COUNTIF('S8'!$D$19:$L$19,$C33)","v":0},{"$f":"COUNTIF('S9'!$D$19:$L$19,$C33)","v":0},{"$f":"COUNTIF('S10'!$D$19:$L$19,$C33)","v":0},{"$f":"COUNTIF('S11'!$D$19:$L$19,$C33)","v":0},{"$f":"COUNTIF('S12'!$D$19:$L$19,$C33)","v":0},{"$f":"COUNTIF('S13'!$D$19:$L$19,$C33)","v":0},{"$f":"COUNTIF('S14'!$D$19:$L$19,$C33)","v":0},{"$f":"COUNTIF('S15'!$D$19:$L$19,$C33)","v":0},{"$f":"COUNTIF('S16'!$D$19:$L$19,$C33)","v":0},{"$f":"COUNTIF('S17'!$D$19:$L$19,$C33)","v":0},{"$f":"COUNTIF('S18'!$D$19:$L$19,$C33)","v":0},{"$f":"COUNTIF('S19'!$D$19:$L$19,$C33)","v":0},{"$f":"COUNTIF('S20'!$D$19:$L$19,$C33)","v":0},{"$f":"COUNTIF('S21'!$D$19:$L$19,$C33)","v":0},{"$f":"COUNTIF('S22'!$D$19:$L$19,$C33)","v":0},{"$f":"COUNTIF('S23'!$D$19:$L$19,$C33)","v":0},{"$f":"COUNTIF('S24'!$D$19:$L$19,$C33)","v":0},{"$f":"COUNTIF('S25'!$D$19:$L$19,$C33)","v":0},{"$f":"COUNTIF('S26'!$D$19:$L$19,$C33)","v":0},{"$f":"COUNTIF('S27'!$D$19:$L$19,$C33)","v":0},{"$f":"COUNTIF('S28'!$D$19:$L$19,$C33)","v":0},{"$f":"COUNTIF('S29'!$D$19:$L$19,$C33)","v":0},{"$f":"COUNTIF('S30'!$D$19:$L$19,$C33)","v":0},{"$f":"COUNTIF('S31'!$D$19:$L$19,$C33)","v":0},{"$f":"COUNTIF('S32'!$D$19:$L$19,$C33)","v":0},{"$f":"COUNTIF('S33'!$D$19:$L$19,$C33)","v":0},{"$f":"COUNTIF('S34'!$D$19:$L$19,$C33)","v":0},{"$f":"COUNTIF('S35'!$D$19:$L$19,$C33)","v":0},{"$f":"COUNTIF('S36'!$D$19:$L$19,$C33)","v":0},{"$f":"COUNTIF('S37'!$D$19:$L$19,$C33)","v":0},{"$f":"COUNTIF('S38'!$D$19:$L$19,$C33)","v":0},{"$f":"COUNTIF('S39'!$D$19:$L$19,$C33)","v":0},{"$f":"COUNTIF('S40'!$D$19:$L$19,$C33)","v":0},{"$f":"COUNTIF('S41'!$D$19:$L$19,$C33)","v":0},{"$f":"COUNTIF('S42'!$D$19:$L$19,$C33)","v":0},{"$f":"COUNTIF('S43'!$D$19:$L$19,$C33)","v":0},{"$f":"COUNTIF('S44'!$D$19:$L$19,$C33)","v":0},{"$f":"COUNTIF('S45'!$D$19:$L$19,$C33)","v":0},{"$f":"COUNTIF('S46'!$D$19:$L$19,$C33)","v":0},{"$f":"COUNTIF('S47'!$D$19:$L$19,$C33)","v":0},{"$f":"COUNTIF('S48'!$D$19:$L$19,$C33)","v":0},{"$f":"COUNTIF('S49'!$D$19:$L$19,$C33)","v":0},{"$f":"COUNTIF('S50'!$D$19:$L$19,$C33)","v":0},{"$f":"COUNTIF('S51'!$D$19:$L$19,$C33)","v":0},{"$f":"COUNTIF('S52'!$D$19:$L$19,$C33)","v":0}]
[null,null,"STAGIERE 1","REGULATION APREM",{"$f":"COUNTIF('S1'!$D$19:$L$19,$C34)","v":0},{"$f":"COUNTIF('S2'!$D$19:$L$19,$C34)","v":0},{"$f":"COUNTIF('S3'!$D$19:$L$19,$C34)","v":0},{"$f":"COUNTIF('S4'!$D$19:$L$19,$C34)","v":0},{"$f":"COUNTIF('S5'!$D$19:$L$19,$C34)","v":0},{"$f":"COUNTIF('S6'!$D$19:$L$19,$C34)","v":0},{"$f":"COUNTIF('S7'!$D$19:$L$19,$C34)","v":0},{"$f":"COUNTIF('S8'!$D$19:$L$19,$C34)","v":0},{"$f":"COUNTIF('S9'!$D$19:$L$19,$C34)","v":0},{"$f":"COUNTIF('S10'!$D$19:$L$19,$C34)","v":0},{"$f":"COUNTIF('S11'!$D$19:$L$19,$C34)","v":0},{"$f":"COUNTIF('S12'!$D$19:$L$19,$C34)","v":0},{"$f":"COUNTIF('S13'!$D$19:$L$19,$C34)","v":0},{"$f":"COUNTIF('S14'!$D$19:$L$19,$C34)","v":0},{"$f":"COUNTIF('S15'!$D$19:$L$19,$C34)","v":0},{"$f":"COUNTIF('S16'!$D$19:$L$19,$C34)","v":0},{"$f":"COUNTIF('S17'!$D$19:$L$19,$C34)","v":0},{"$f":"COUNTIF('S18'!$D$19:$L$19,$C34)","v":0},{"$f":"COUNTIF('S19'!$D$19:$L$19,$C34)","v":0},{"$f":"COUNTIF('S20'!$D$19:$L$19,$C34)","v":0},{"$f":"COUNTIF('S21'!$D$19:$L$19,$C34)","v":0},{"$f":"COUNTIF('S22'!$D$19:$L$19,$C34)","v":0},{"$f":"COUNTIF('S23'!$D$19:$L$19,$C34)","v":0},{"$f":"COUNTIF('S24'!$D$19:$L$19,$C34)","v":0},{"$f":"COUNTIF('S25'!$D$19:$L$19,$C34)","v":0},{"$f":"COUNTIF('S26'!$D$19:$L$19,$C34)","v":0},{"$f":"COUNTIF('S27'!$D$19:$L$19,$C34)","v":0},{"$f":"COUNTIF('S28'!$D$19:$L$19,$C34)","v":0},{"$f":"COUNTIF('S29'!$D$19:$L$19,$C34)","v":0},{"$f":"COUNTIF('S30'!$D$19:$L$19,$C34)","v":0},{"$f":"COUNTIF('S31'!$D$19:$L$19,$C34)","v":0},{"$f":"COUNTIF('S32'!$D$19:$L$19,$C34)","v":0},{"$f":"COUNTIF('S33'!$D$19:$L$19,$C34)","v":0},{"$f":"COUNTIF('S34'!$D$19:$L$19,$C34)","v":0},{"$f":"COUNTIF('S35'!$D$19:$L$19,$C34)","v":0},{"$f":"COUNTIF('S36'!$D$19:$L$19,$C34)","v":0},{"$f":"COUNTIF('S37'!$D$19:$L$19,$C34)","v":0},{"$f":"COUNTIF('S38'!$D$19:$L$19,$C34)","v":0},{"$f":"COUNTIF('S39'!$D$19:$L$19,$C34)","v":0},{"$f":"COUNTIF('S40'!$D$19:$L$19,$C34)","v":0},{"$f":"COUNTIF('S41'!$D$19:$L$19,$C34)","v":0},{"$f":"COUNTIF('S42'!$D$19:$L$19,$C34)","v":0},{"$f":"COUNTIF('S43'!$D$19:$L$19,$C34)","v":0},{"$f":"COUNTIF('S44'!$D$19:$L$19,$C34)","v":0},{"$f":"COUNTIF('S45'!$D$19:$L$19,$C34)","v":0},{"$f":"COUNTIF('S46'!$D$19:$L$19,$C34)","v":0},{"$f":"COUNTIF('S47'!$D$19:$L$19,$C34)","v":0},{"$f":"COUNTIF('S48'!$D$19:$L$19,$C34)","v":0},{"$f":"COUNTIF('S49'!$D$19:$L$19,$C34)","v":0},{"$f":"COUNTIF('S50'!$D$19:$L$19,$C34)","v":0},{"$f":"COUNTIF('S51'!$D$19:$L$19,$C34)","v":0},{"$f":"COUNTIF('S52'!$D$19:$L$19,$C34)","v":0}]
[null,null,"STAGIERE 2","REGULATION APREM",{"$f":"COUNTIF('S1'!$D$19:$L$19,$C35)","v":0},{"$f":"COUNTIF('S2'!$D$19:$L$19,$C35)","v":0},{"$f":"COUNTIF('S3'!$D$19:$L$19,$C35)","v":0},{"$f":"COUNTIF('S4'!$D$19:$L$19,$C35)","v":0},{"$f":"COUNTIF('S5'!$D$19:$L$19,$C35)","v":0},{"$f":"COUNTIF('S6'!$D$19:$L$19,$C35)","v":0},{"$f":"COUNTIF('S7'!$D$19:$L$19,$C35)","v":0},{"$f":"COUNTIF('S8'!$D$19:$L$19,$C35)","v":0},{"$f":"COUNTIF('S9'!$D$19:$L$19,$C35)","v":0},{"$f":"COUNTIF('S10'!$D$19:$L$19,$C35)","v":0},{"$f":"COUNTIF('S11'!$D$19:$L$19,$C35)","v":0},{"$f":"COUNTIF('S12'!$D$19:$L$19,$C35)","v":0},{"$f":"COUNTIF('S13'!$D$19:$L$19,$C35)","v":0},{"$f":"COUNTIF('S14'!$D$19:$L$19,$C35)","v":0},{"$f":"COUNTIF('S15'!$D$19:$L$19,$C35)","v":0},{"$f":"COUNTIF('S16'!$D$19:$L$19,$C35)","v":0},{"$f":"COUNTIF('S17'!$D$19:$L$19,$C35)","v":0},{"$f":"COUNTIF('S18'!$D$19:$L$19,$C35)","v":0},{"$f":"COUNTIF('S19'!$D$19:$L$19,$C35)","v":0},{"$f":"COUNTIF('S20'!$D$19:$L$19,$C35)","v":0},{"$f":"COUNTIF('S21'!$D$19:$L$19,$C35)","v":0},{"$f":"COUNTIF('S22'!$D$19:$L$19,$C35)","v":0},{"$f":"COUNTIF('S23'!$D$19:$L$19,$C35)","v":0},{"$f":"COUNTIF('S24'!$D$19:$L$19,$C35)","v":0},{"$f":"COUNTIF('S25'!$D$19:$L$19,$C35)","v":0},{"$f":"COUNTIF('S26'!$D$19:$L$19,$C35)","v":0},{"$f":"COUNTIF('S27'!$D$19:$L$19,$C35)","v":0},{"$f":"COUNTIF('S28'!$D$19:$L$19,$C35)","v":0},{"$f":"COUNTIF('S29'!$D$19:$L$19,$C35)","v":0},{"$f":"COUNTIF('S30'!$D$19:$L$19,$C35)","v":0},{"$f":"COUNTIF('S31'!$D$19:$L$19,$C35)","v":0},{"$f":"COUNTIF('S32'!$D$19:$L$19,$C35)","v":0},{"$f":"COUNTIF('S33'!$D$19:$L$19,$C35)","v":0},{"$f":"COUNTIF('S34'!$D$19:$L$19,$C35)","v":0},{"$f":"COUNTIF('S35'!$D$19:$L$19,$C35)","v":0},{"$f":"COUNTIF('S36'!$D$19:$L$19,$C35)","v":0},{"$f":"COUNTIF('S37'!$D$19:$L$19,$C35)","v":0},{"$f":"COUNTIF('S38'!$D$19:$L$19,$C35)","v":0},{"$f":"COUNTIF('S39'!$D$19:$L$19,$C35)","v":0},{"$f":"COUNTIF('S40'!$D$19:$L$19,$C35)","v":0},{"$f":"COUNTIF('S41'!$D$19:$L$19,$C35)","v":0},{"$f":"COUNTIF('S42'!$D$19:$L$19,$C35)","v":0},{"$f":"COUNTIF('S43'!$D$19:$L$19,$C35)","v":0},{"$f":"COUNTIF('S44'!$D$19:$L$19,$C35)","v":0},{"$f":"COUNTIF('S45'!$D$19:$L$19,$C35)","v":0},{"$f":"COUNTIF('S46'!$D$19:$L$19,$C35)","v":0},{"$f":"COUNTIF('S47'!$D$19:$L$19,$C35)","v":0},{"$f":"COUNTIF('S48'!$D$19:$L$19,$C35)","v":0},{"$f":"COUNTIF('S49'!$D$19:$L$19,$C35)","v":0},{"$f":"COUNTIF('S50'!$D$19:$L$19,$C35)","v":0},{"$f":"COUNTIF('S51'!$D$19:$L$19,$C35)","v":0},{"$f":"COUNTIF('S52'!$D$19:$L$19,$C35)","v":0}]
[null,null,null,"REGULATION APREM",{"$f":"COUNTIF('S1'!$D$19:$L$19,$C36)","v":0},{"$f":"COUNTIF('S2'!$D$19:$L$19,$C36)","v":0},{"$f":"COUNTIF('S3'!$D$19:$L$19,$C36)","v":0},{"$f":"COUNTIF('S4'!$D$19:$L$19,$C36)","v":0},{"$f":"COUNTIF('S5'!$D$19:$L$19,$C36)","v":0},{"$f":"COUNTIF('S6'!$D$19:$L$19,$C36)","v":0},{"$f":"COUNTIF('S7'!$D$19:$L$19,$C36)","v":0},{"$f":"COUNTIF('S8'!$D$19:$L$19,$C36)","v":0},{"$f":"COUNTIF('S9'!$D$19:$L$19,$C36)","v":0},{"$f":"COUNTIF('S10'!$D$19:$L$19,$C36)","v":0},{"$f":"COUNTIF('S11'!$D$19:$L$19,$C36)","v":0},{"$f":"COUNTIF('S12'!$D$19:$L$19,$C36)","v":0},{"$f":"COUNTIF('S13'!$D$19:$L$19,$C36)","v":0},{"$f":"COUNTIF('S14'!$D$19:$L$19,$C36)","v":0},{"$f":"COUNTIF('S15'!$D$19:$L$19,$C36)","v":0},{"$f":"COUNTIF('S16'!$D$19:$L$19,$C36)","v":0},{"$f":"COUNTIF('S17'!$D$19:$L$19,$C36)","v":0},{"$f":"COUNTIF('S18'!$D$19:$L$19,$C36)","v":0},{"$f":"COUNTIF('S19'!$D$19:$L$19,$C36)","v":0},{"$f":"COUNTIF('S20'!$D$19:$L$19,$C36)","v":0},{"$f":"COUNTIF('S21'!$D$19:$L$19,$C36)","v":0},{"$f":"COUNTIF('S22'!$D$19:$L$19,$C36)","v":0},{"$f":"COUNTIF('S23'!$D$19:$L$19,$C36)","v":0},{"$f":"COUNTIF('S24'!$D$19:$L$19,$C36)","v":0},{"$f":"COUNTIF('S25'!$D$19:$L$19,$C36)","v":0},{"$f":"COUNTIF('S26'!$D$19:$L$19,$C36)","v":0},{"$f":"COUNTIF('S27'!$D$19:$L$19,$C36)","v":0},{"$f":"COUNTIF('S28'!$D$19:$L$19,$C36)","v":0},{"$f":"COUNTIF('S29'!$D$19:$L$19,$C36)","v":0},{"$f":"COUNTIF('S30'!$D$19:$L$19,$C36)","v":0},{"$f":"COUNTIF('S31'!$D$19:$L$19,$C36)","v":0},{"$f":"COUNTIF('S32'!$D$19:$L$19,$C36)","v":0},{"$f":"COUNTIF('S33'!$D$19:$L$19,$C36)","v":0},{"$f":"COUNTIF('S34'!$D$19:$L$19,$C36)","v":0},{"$f":"COUNTIF('S35'!$D$19:$L$19,$C36)","v":0},{"$f":"COUNTIF('S36'!$D$19:$L$19,$C36)","v":0},{"$f":"COUNTIF('S37'!$D$19:$L$19,$C36)","v":0},{"$f":"COUNTIF('S38'!$D$19:$L$19,$C36)","v":0},{"$f":"COUNTIF('S39'!$D$19:$L$19,$C36)","v":0},{"$f":"COUNTIF('S40'!$D$19:$L$19,$C36)","v":0},{"$f":"COUNTIF('S41'!$D$19:$L$19,$C36)","v":0},{"$f":"COUNTIF('S42'!$D$19:$L$19,$C36)","v":0},{"$f":"COUNTIF('S43'!$D$19:$L$19,$C36)","v":0},{"$f":"COUNTIF('S44'!$D$19:$L$19,$C36)","v":0},{"$f":"COUNTIF('S45'!$D$19:$L$19,$C36)","v":0},{"$f":"COUNTIF('S46'!$D$19:$L$19,$C36)","v":0},{"$f":"COUNTIF('S47'!$D$19:$L$19,$C36)","v":0},{"$f":"COUNTIF('S48'!$D$19:$L$19,$C36)","v":0},{"$f":"COUNTIF('S49'!$D$19:$L$19,$C36)","v":0},{"$f":"COUNTIF('S50'!$D$19:$L$19,$C36)","v":0},{"$f":"COUNTIF('S51'!$D$19:$L$19,$C36)","v":0},{"$f":"COUNTIF('S52'!$D$19:$L$19,$C36)","v":0}]
[null,null,null,"REGULATION APREM",{"$f":"COUNTIF('S1'!$D$19:$L$19,$C37)","v":0},{"$f":"COUNTIF('S2'!$D$19:$L$19,$C37)","v":0},{"$f":"COUNTIF('S3'!$D$19:$L$19,$C37)","v":0},{"$f":"COUNTIF('S4'!$D$19:$L$19,$C37)","v":0},{"$f":"COUNTIF('S5'!$D$19:$L$19,$C37)","v":0},{"$f":"COUNTIF('S6'!$D$19:$L$19,$C37)","v":0},{"$f":"COUNTIF('S7'!$D$19:$L$19,$C37)","v":0},{"$f":"COUNTIF('S8'!$D$19:$L$19,$C37)","v":0},{"$f":"COUNTIF('S9'!$D$19:$L$19,$C37)","v":0},{"$f":"COUNTIF('S10'!$D$19:$L$19,$C37)","v":0},{"$f":"COUNTIF('S11'!$D$19:$L$19,$C37)","v":0},{"$f":"COUNTIF('S12'!$D$19:$L$19,$C37)","v":0},{"$f":"COUNTIF('S13'!$D$19:$L$19,$C37)","v":0},{"$f":"COUNTIF('S14'!$D$19:$L$19,$C37)","v":0},{"$f":"COUNTIF('S15'!$D$19:$L$19,$C37)","v":0},{"$f":"COUNTIF('S16'!$D$19:$L$19,$C37)","v":0},{"$f":"COUNTIF('S17'!$D$19:$L$19,$C37)","v":0},{"$f":"COUNTIF('S18'!$D$19:$L$19,$C37)","v":0},{"$f":"COUNTIF('S19'!$D$19:$L$19,$C37)","v":0},{"$f":"COUNTIF('S20'!$D$19:$L$19,$C37)","v":0},{"$f":"COUNTIF('S21'!$D$19:$L$19,$C37)","v":0},{"$f":"COUNTIF('S22'!$D$19:$L$19,$C37)","v":0},{"$f":"COUNTIF('S23'!$D$19:$L$19,$C37)","v":0},{"$f":"COUNTIF('S24'!$D$19:$L$19,$C37)","v":0},{"$f":"COUNTIF('S25'!$D$19:$L$19,$C37)","v":0},{"$f":"COUNTIF('S26'!$D$19:$L$19,$C37)","v":0},{"$f":"COUNTIF('S27'!$D$19:$L$19,$C37)","v":0},{"$f":"COUNTIF('S28'!$D$19:$L$19,$C37)","v":0},{"$f":"COUNTIF('S29'!$D$19:$L$19,$C37)","v":0},{"$f":"COUNTIF('S30'!$D$19:$L$19,$C37)","v":0},{"$f":"COUNTIF('S31'!$D$19:$L$19,$C37)","v":0},{"$f":"COUNTIF('S32'!$D$19:$L$19,$C37)","v":0},{"$f":"COUNTIF('S33'!$D$19:$L$19,$C37)","v":0},{"$f":"COUNTIF('S34'!$D$19:$L$19,$C37)","v":0},{"$f":"COUNTIF('S35'!$D$19:$L$19,$C37)","v":0},{"$f":"COUNTIF('S36'!$D$19:$L$19,$C37)","v":0},{"$f":"COUNTIF('S37'!$D$19:$L$19,$C37)","v":0},{"$f":"COUNTIF('S38'!$D$19:$L$19,$C37)","v":0},{"$f":"COUNTIF('S39'!$D$19:$L$19,$C37)","v":0},{"$f":"COUNTIF('S40'!$D$19:$L$19,$C37)","v":0},{"$f":"COUNTIF('S41'!$D$19:$L$19,$C37)","v":0},{"$f":"COUNTIF('S42'!$D$19:$L$19,$C37)","v":0},{"$f":"COUNTIF('S43'!$D$19:$L$19,$C37)","v":0},{"$f":"COUNTIF('S44'!$D$19:$L$19,$C37)","v":0},{"$f":"COUNTIF('S45'!$D$19:$L$19,$C37)","v":0},{"$f":"COUNTIF('S46'!$D$19:$L$19,$C37)","v":0},{"$f":"COUNTIF('S47'!$D$19:$L$19,$C37)","v":0},{"$f":"COUNTIF('S48'!$D$19:$L$19,$C37)","v":0},{"$f":"COUNTIF('S49'!$D$19:$L$19,$C37)","v":0},{"$f":"COUNTIF('S50'!$D$19:$L$19,$C37)","v":0},{"$f":"COUNTIF('S51'!$D$19:$L$19,$C37)","v":0},{"$f":"COUNTIF('S52'!$D$19:$L$19,$C37)","v":0}]
[]
[]
["PERMANENCE SAO",null,null,"FILE","S1","S2","S3","S4","S5","S6","S7","S8","S9","S10","S111","S122","S133","S144","S155","S166","S177","S188","S199","S20","S21","S22","S23","S24","S25","S26","S27","S28","S29","S30","S31","S32","S33","S34","S35","S36","S37","S38","S39","S40","S41","S42","S43","S44","S45","S46","S47","S48","S49","S50","S51","S52"]
["TS","OCCURRENCES \nREALISE","SALIMA D","PERMANENCE SAO",{"$f":"COUNTIF('S1'!$D$6:$L$9,$C41)","v":0},{"$f":"COUNTIF('S2'!$D$6:$L$9,$C41)","v":0},{"$f":"COUNTIF('S3'!$D$6:$L$9,$C41)","v":0},{"$f":"COUNTIF('S4'!$D$6:$L$9,$C41)","v":0},{"$f":"COUNTIF('S5'!$D$6:$L$9,$C41)","v":0},{"$f":"COUNTIF('S6'!$D$6:$L$9,$C41)","v":0},{"$f":"COUNTIF('S7'!$D$6:$L$9,$C41)","v":0},{"$f":"COUNTIF('S8'!$D$6:$L$9,$C41)","v":0},{"$f":"COUNTIF('S9'!$D$6:$L$9,$C41)","v":0},{"$f":"COUNTIF('S10'!$D$6:$L$9,$C41)","v":0},{"$f":"COUNTIF('S11'!$D$6:$L$9,$C41)","v":0},{"$f":"COUNTIF('S12'!$D$6:$L$9,$C41)","v":0},{"$f":"COUNTIF('S13'!$D$6:$L$9,$C41)","v":0},{"$f":"COUNTIF('S14'!$D$6:$L$9,$C41)","v":0},{"$f":"COUNTIF('S15'!$D$6:$L$9,$C41)","v":0},{"$f":"COUNTIF('S16'!$D$6:$L$9,$C41)","v":0},{"$f":"COUNTIF('S17'!$D$6:$L$9,$C41)","v":0},{"$f":"COUNTIF('S18'!$D$6:$L$9,$C41)","v":0},{"$f":"COUNTIF('S19'!$D$6:$L$9,$C41)","v":0},{"$f":"COUNTIF('S20'!$D$6:$L$9,$C41)","v":0},{"$f":"COUNTIF('S21'!$D$6:$L$9,$C41)","v":0},{"$f":"COUNTIF('S22'!$D$6:$L$9,$C41)","v":0},{"$f":"COUNTIF('S23'!$D$6:$L$9,$C41)","v":0},{"$f":"COUNTIF('S24'!$D$6:$L$9,$C41)","v":0},{"$f":"COUNTIF('S25'!$D$6:$L$9,$C41)","v":0},{"$f":"COUNTIF('S26'!$D$6:$L$9,$C41)","v":0},{"$f":"COUNTIF('S27'!$D$6:$L$9,$C41)","v":0},{"$f":"COUNTIF('S28'!$D$6:$L$9,$C41)","v":0},{"$f":"COUNTIF('S29'!$D$6:$L$9,$C41)","v":0},{"$f":"COUNTIF('S30'!$D$6:$L$9,$C41)","v":0},{"$f":"COUNTIF('S31'!$D$6:$L$9,$C41)","v":0},{"$f":"COUNTIF('S32'!$D$6:$L$9,$C41)","v":0},{"$f":"COUNTIF('S33'!$D$6:$L$9,$C41)","v":0},{"$f":"COUNTIF('S34'!$D$6:$L$9,$C41)","v":0},{"$f":"COUNTIF('S35'!$D$6:$L$9,$C41)","v":0},{"$f":"COUNTIF('S36'!$D$6:$L$9,$C41)","v":0},{"$f":"COUNTIF('S37'!$D$6:$L$9,$C41)","v":0},{"$f":"COUNTIF('S38'!$D$6:$L$9,$C41)","v":0},{"$f":"COUNTIF('S39'!$D$6:$L$9,$C41)","v":0},{"$f":"COUNTIF('S40'!$D$6:$L$9,$C41)","v":0},{"$f":"COUNTIF('S41'!$D$6:$L$9,$C41)","v":0},{"$f":"COUNTIF('S42'!$D$6:$L$9,$C41)","v":0},{"$f":"COUNTIF('S43'!$D$6:$L$9,$C41)","v":0},{"$f":"COUNTIF('S44'!$D$6:$L$9,$C41)","v":0},{"$f":"COUNTIF('S45'!$D$6:$L$9,$C41)","v":0},{"$f":"COUNTIF('S46'!$D$6:$L$9,$C41)","v":0},{"$f":"COUNTIF('S47'!$D$6:$L$9,$C41)","v":0},{"$f":"COUNTIF('S48'!$D$6:$L$9,$C41)","v":0},{"$f":"COUNTIF('S49'!$D$6:$L$9,$C41)","v":0},{"$f":"COUNTIF('S50'!$D$6:$L$9,$C41)","v":0},{"$f":"COUNTIF('S51'!$D$6:$L$9,$C41)","v":0},{"$f":"COUNTIF('S52'!$D$6:$L$9,$C41)","v":0}]
[null,null,"EMILIE B","PERMANENCE SAO",{"$f":"COUNTIF('S1'!$D$6:$L$9,$C42)","v":0},{"$f":"COUNTIF('S2'!$D$6:$L$9,$C42)","v":0},{"$f":"COUNTIF('S3'!$D$6:$L$9,$C42)","v":0},{"$f":"COUNTIF('S4'!$D$6:$L$9,$C42)","v":0},{"$f":"COUNTIF('S5'!$D$6:$L$9,$C42)","v":0},{"$f":"COUNTIF('S6'!$D$6:$L$9,$C42)","v":0},{"$f":"COUNTIF('S7'!$D$6:$L$9,$C42)","v":0},{"$f":"COUNTIF('S8'!$D$6:$L$9,$C42)","v":0},{"$f":"COUNTIF('S9'!$D$6:$L$9,$C42)","v":0},{"$f":"COUNTIF('S10'!$D$6:$L$9,$C42)","v":0},{"$f":"COUNTIF('S11'!$D$6:$L$9,$C42)","v":0},{"$f":"COUNTIF('S12'!$D$6:$L$9,$C42)","v":0},{"$f":"COUNTIF('S13'!$D$6:$L$9,$C42)","v":0},{"$f":"COUNTIF('S14'!$D$6:$L$9,$C42)","v":0},{"$f":"COUNTIF('S15'!$D$6:$L$9,$C42)","v":0},{"$f":"COUNTIF('S16'!$D$6:$L$9,$C42)","v":0},{"$f":"COUNTIF('S17'!$D$6:$L$9,$C42)","v":0},{"$f":"COUNTIF('S18'!$D$6:$L$9,$C42)","v":0},{"$f":"COUNTIF('S19'!$D$6:$L$9,$C42)","v":0},{"$f":"COUNTIF('S20'!$D$6:$L$9,$C42)","v":0},{"$f":"COUNTIF('S21'!$D$6:$L$9,$C42)","v":0},{"$f":"COUNTIF('S22'!$D$6:$L$9,$C42)","v":0},{"$f":"COUNTIF('S23'!$D$6:$L$9,$C42)","v":0},{"$f":"COUNTIF('S24'!$D$6:$L$9,$C42)","v":0},{"$f":"COUNTIF('S25'!$D$6:$L$9,$C42)","v":0},{"$f":"COUNTIF('S26'!$D$6:$L$9,$C42)","v":0},{"$f":"COUNTIF('S27'!$D$6:$L$9,$C42)","v":0},{"$f":"COUNTIF('S28'!$D$6:$L$9,$C42)","v":0},{"$f":"COUNTIF('S29'!$D$6:$L$9,$C42)","v":0},{"$f":"COUNTIF('S30'!$D$6:$L$9,$C42)","v":0},{"$f":"COUNTIF('S31'!$D$6:$L$9,$C42)","v":0},{"$f":"COUNTIF('S32'!$D$6:$L$9,$C42)","v":0},{"$f":"COUNTIF('S33'!$D$6:$L$9,$C42)","v":0},{"$f":"COUNTIF('S34'!$D$6:$L$9,$C42)","v":0},{"$f":"COUNTIF('S35'!$D$6:$L$9,$C42)","v":0},{"$f":"COUNTIF('S36'!$D$6:$L$9,$C42)","v":0},{"$f":"COUNTIF('S37'!$D$6:$L$9,$C42)","v":0},{"$f":"COUNTIF('S38'!$D$6:$L$9,$C42)","v":0},{"$f":"COUNTIF('S39'!$D$6:$L$9,$C42)","v":0},{"$f":"COUNTIF('S40'!$D$6:$L$9,$C42)","v":0},{"$f":"COUNTIF('S41'!$D$6:$L$9,$C42)","v":0},{"$f":"COUNTIF('S42'!$D$6:$L$9,$C42)","v":0},{"$f":"COUNTIF('S43'!$D$6:$L$9,$C42)","v":0},{"$f":"COUNTIF('S44'!$D$6:$L$9,$C42)","v":0},{"$f":"COUNTIF('S45'!$D$6:$L$9,$C42)","v":0},{"$f":"COUNTIF('S46'!$D$6:$L$9,$C42)","v":0},{"$f":"COUNTIF('S47'!$D$6:$L$9,$C42)","v":0},{"$f":"COUNTIF('S48'!$D$6:$L$9,$C42)","v":0},{"$f":"COUNTIF('S49'!$D$6:$L$9,$C42)","v":0},{"$f":"COUNTIF('S50'!$D$6:$L$9,$C42)","v":0},{"$f":"COUNTIF('S51'!$D$6:$L$9,$C42)","v":0},{"$f":"COUNTIF('S52'!$D$6:$L$9,$C42)","v":0}]
[null,null,"AUDREY L","PERMANENCE SAO",{"$f":"COUNTIF('S1'!$D$6:$L$9,$C43)","v":0},{"$f":"COUNTIF('S2'!$D$6:$L$9,$C43)","v":0},{"$f":"COUNTIF('S3'!$D$6:$L$9,$C43)","v":0},{"$f":"COUNTIF('S4'!$D$6:$L$9,$C43)","v":0},{"$f":"COUNTIF('S5'!$D$6:$L$9,$C43)","v":0},{"$f":"COUNTIF('S6'!$D$6:$L$9,$C43)","v":0},{"$f":"COUNTIF('S7'!$D$6:$L$9,$C43)","v":0},{"$f":"COUNTIF('S8'!$D$6:$L$9,$C43)","v":0},{"$f":"COUNTIF('S9'!$D$6:$L$9,$C43)","v":0},{"$f":"COUNTIF('S10'!$D$6:$L$9,$C43)","v":0},{"$f":"COUNTIF('S11'!$D$6:$L$9,$C43)","v":0},{"$f":"COUNTIF('S12'!$D$6:$L$9,$C43)","v":0},{"$f":"COUNTIF('S13'!$D$6:$L$9,$C43)","v":0},{"$f":"COUNTIF('S14'!$D$6:$L$9,$C43)","v":0},{"$f":"COUNTIF('S15'!$D$6:$L$9,$C43)","v":0},{"$f":"COUNTIF('S16'!$D$6:$L$9,$C43)","v":0},{"$f":"COUNTIF('S17'!$D$6:$L$9,$C43)","v":0},{"$f":"COUNTIF('S18'!$D$6:$L$9,$C43)","v":0},{"$f":"COUNTIF('S19'!$D$6:$L$9,$C43)","v":0},{"$f":"COUNTIF('S20'!$D$6:$L$9,$C43)","v":0},{"$f":"COUNTIF('S21'!$D$6:$L$9,$C43)","v":0},{"$f":"COUNTIF('S22'!$D$6:$L$9,$C43)","v":0},{"$f":"COUNTIF('S23'!$D$6:$L$9,$C43)","v":0},{"$f":"COUNTIF('S24'!$D$6:$L$9,$C43)","v":0},{"$f":"COUNTIF('S25'!$D$6:$L$9,$C43)","v":0},{"$f":"COUNTIF('S26'!$D$6:$L$9,$C43)","v":0},{"$f":"COUNTIF('S27'!$D$6:$L$9,$C43)","v":0},{"$f":"COUNTIF('S28'!$D$6:$L$9,$C43)","v":0},{"$f":"COUNTIF('S29'!$D$6:$L$9,$C43)","v":0},{"$f":"COUNTIF('S30'!$D$6:$L$9,$C43)","v":0},{"$f":"COUNTIF('S31'!$D$6:$L$9,$C43)","v":0},{"$f":"COUNTIF('S32'!$D$6:$L$9,$C43)","v":0},{"$f":"COUNTIF('S33'!$D$6:$L$9,$C43)","v":0},{"$f":"COUNTIF('S34'!$D$6:$L$9,$C43)","v":0},{"$f":"COUNTIF('S35'!$D$6:$L$9,$C43)","v":0},{"$f":"COUNTIF('S36'!$D$6:$L$9,$C43)","v":0},{"$f":"COUNTIF('S37'!$D$6:$L$9,$C43)","v":0},{"$f":"COUNTIF('S38'!$D$6:$L$9,$C43)","v":0},{"$f":"COUNTIF('S39'!$D$6:$L$9,$C43)","v":0},{"$f":"COUNTIF('S40'!$D$6:$L$9,$C43)","v":0},{"$f":"COUNTIF('S41'!$D$6:$L$9,$C43)","v":0},{"$f":"COUNTIF('S42'!$D$6:$L$9,$C43)","v":0},{"$f":"COUNTIF('S43'!$D$6:$L$9,$C43)","v":0},{"$f":"COUNTIF('S44'!$D$6:$L$9,$C43)","v":0},{"$f":"COUNTIF('S45'!$D$6:$L$9,$C43)","v":0},{"$f":"COUNTIF('S46'!$D$6:$L$9,$C43)","v":0},{"$f":"COUNTIF('S47'!$D$6:$L$9,$C43)","v":0},{"$f":"COUNTIF('S48'!$D$6:$L$9,$C43)","v":0},{"$f":"COUNTIF('S49'!$D$6:$L$9,$C43)","v":0},{"$f":"COUNTIF('S50'!$D$6:$L$9,$C43)","v":0},{"$f":"COUNTIF('S51'!$D$6:$L$9,$C43)","v":0},{"$f":"COUNTIF('S52'!$D$6:$L$9,$C43)","v":0}]
[null,null,"MATHIEU G","PERMANENCE SAO",{"$f":"COUNTIF('S1'!$D$6:$L$9,$C44)","v":0},{"$f":"COUNTIF('S2'!$D$6:$L$9,$C44)","v":0},{"$f":"COUNTIF('S3'!$D$6:$L$9,$C44)","v":0},{"$f":"COUNTIF('S4'!$D$6:$L$9,$C44)","v":0},{"$f":"COUNTIF('S5'!$D$6:$L$9,$C44)","v":0},{"$f":"COUNTIF('S6'!$D$6:$L$9,$C44)","v":0},{"$f":"COUNTIF('S7'!$D$6:$L$9,$C44)","v":0},{"$f":"COUNTIF('S8'!$D$6:$L$9,$C44)","v":0},{"$f":"COUNTIF('S9'!$D$6:$L$9,$C44)","v":0},{"$f":"COUNTIF('S10'!$D$6:$L$9,$C44)","v":0},{"$f":"COUNTIF('S11'!$D$6:$L$9,$C44)","v":0},{"$f":"COUNTIF('S12'!$D$6:$L$9,$C44)","v":0},{"$f":"COUNTIF('S13'!$D$6:$L$9,$C44)","v":0},{"$f":"COUNTIF('S14'!$D$6:$L$9,$C44)","v":0},{"$f":"COUNTIF('S15'!$D$6:$L$9,$C44)","v":0},{"$f":"COUNTIF('S16'!$D$6:$L$9,$C44)","v":0},{"$f":"COUNTIF('S17'!$D$6:$L$9,$C44)","v":0},{"$f":"COUNTIF('S18'!$D$6:$L$9,$C44)","v":0},{"$f":"COUNTIF('S19'!$D$6:$L$9,$C44)","v":0},{"$f":"COUNTIF('S20'!$D$6:$L$9,$C44)","v":0},{"$f":"COUNTIF('S21'!$D$6:$L$9,$C44)","v":0},{"$f":"COUNTIF('S22'!$D$6:$L$9,$C44)","v":0},{"$f":"COUNTIF('S23'!$D$6:$L$9,$C44)","v":0},{"$f":"COUNTIF('S24'!$D$6:$L$9,$C44)","v":0},{"$f":"COUNTIF('S25'!$D$6:$L$9,$C44)","v":0},{"$f":"COUNTIF('S26'!$D$6:$L$9,$C44)","v":0},{"$f":"COUNTIF('S27'!$D$6:$L$9,$C44)","v":0},{"$f":"COUNTIF('S28'!$D$6:$L$9,$C44)","v":0},{"$f":"COUNTIF('S29'!$D$6:$L$9,$C44)","v":0},{"$f":"COUNTIF('S30'!$D$6:$L$9,$C44)","v":0},{"$f":"COUNTIF('S31'!$D$6:$L$9,$C44)","v":0},{"$f":"COUNTIF('S32'!$D$6:$L$9,$C44)","v":0},{"$f":"COUNTIF('S33'!$D$6:$L$9,$C44)","v":0},{"$f":"COUNTIF('S34'!$D$6:$L$9,$C44)","v":0},{"$f":"COUNTIF('S35'!$D$6:$L$9,$C44)","v":0},{"$f":"COUNTIF('S36'!$D$6:$L$9,$C44)","v":0},{"$f":"COUNTIF('S37'!$D$6:$L$9,$C44)","v":0},{"$f":"COUNTIF('S38'!$D$6:$L$9,$C44)","v":0},{"$f":"COUNTIF('S39'!$D$6:$L$9,$C44)","v":0},{"$f":"COUNTIF('S40'!$D$6:$L$9,$C44)","v":0},{"$f":"COUNTIF('S41'!$D$6:$L$9,$C44)","v":0},{"$f":"COUNTIF('S42'!$D$6:$L$9,$C44)","v":0},{"$f":"COUNTIF('S43'!$D$6:$L$9,$C44)","v":0},{"$f":"COUNTIF('S44'!$D$6:$L$9,$C44)","v":0},{"$f":"COUNTIF('S45'!$D$6:$L$9,$C44)","v":0},{"$f":"COUNTIF('S46'!$D$6:$L$9,$C44)","v":0},{"$f":"COUNTIF('S47'!$D$6:$L$9,$C44)","v":0},{"$f":"COUNTIF('S48'!$D$6:$L$9,$C44)","v":0},{"$f":"COUNTIF('S49'!$D$6:$L$9,$C44)","v":0},{"$f":"COUNTIF('S50'!$D$6:$L$9,$C44)","v":0},{"$f":"COUNTIF('S51'!$D$6:$L$9,$C44)","v":0},{"$f":"COUNTIF('S52'!$D$6:$L$9,$C44)","v":0}]
[null,null,"CHRISTEL L","PERMANENCE SAO",{"$f":"COUNTIF('S1'!$D$6:$L$9,$C45)","v":0},{"$f":"COUNTIF('S2'!$D$6:$L$9,$C45)","v":0},{"$f":"COUNTIF('S3'!$D$6:$L$9,$C45)","v":0},{"$f":"COUNTIF('S4'!$D$6:$L$9,$C45)","v":0},{"$f":"COUNTIF('S5'!$D$6:$L$9,$C45)","v":0},{"$f":"COUNTIF('S6'!$D$6:$L$9,$C45)","v":0},{"$f":"COUNTIF('S7'!$D$6:$L$9,$C45)","v":0},{"$f":"COUNTIF('S8'!$D$6:$L$9,$C45)","v":0},{"$f":"COUNTIF('S9'!$D$6:$L$9,$C45)","v":0},{"$f":"COUNTIF('S10'!$D$6:$L$9,$C45)","v":0},{"$f":"COUNTIF('S11'!$D$6:$L$9,$C45)","v":0},{"$f":"COUNTIF('S12'!$D$6:$L$9,$C45)","v":0},{"$f":"COUNTIF('S13'!$D$6:$L$9,$C45)","v":0},{"$f":"COUNTIF('S14'!$D$6:$L$9,$C45)","v":0},{"$f":"COUNTIF('S15'!$D$6:$L$9,$C45)","v":0},{"$f":"COUNTIF('S16'!$D$6:$L$9,$C45)","v":0},{"$f":"COUNTIF('S17'!$D$6:$L$9,$C45)","v":0},{"$f":"COUNTIF('S18'!$D$6:$L$9,$C45)","v":0},{"$f":"COUNTIF('S19'!$D$6:$L$9,$C45)","v":0},{"$f":"COUNTIF('S20'!$D$6:$L$9,$C45)","v":0},{"$f":"COUNTIF('S21'!$D$6:$L$9,$C45)","v":0},{"$f":"COUNTIF('S22'!$D$6:$L$9,$C45)","v":0},{"$f":"COUNTIF('S23'!$D$6:$L$9,$C45)","v":0},{"$f":"COUNTIF('S24'!$D$6:$L$9,$C45)","v":0},{"$f":"COUNTIF('S25'!$D$6:$L$9,$C45)","v":0},{"$f":"COUNTIF('S26'!$D$6:$L$9,$C45)","v":0},{"$f":"COUNTIF('S27'!$D$6:$L$9,$C45)","v":0},{"$f":"COUNTIF('S28'!$D$6:$L$9,$C45)","v":0},{"$f":"COUNTIF('S29'!$D$6:$L$9,$C45)","v":0},{"$f":"COUNTIF('S30'!$D$6:$L$9,$C45)","v":0},{"$f":"COUNTIF('S31'!$D$6:$L$9,$C45)","v":0},{"$f":"COUNTIF('S32'!$D$6:$L$9,$C45)","v":0},{"$f":"COUNTIF('S33'!$D$6:$L$9,$C45)","v":0},{"$f":"COUNTIF('S34'!$D$6:$L$9,$C45)","v":0},{"$f":"COUNTIF('S35'!$D$6:$L$9,$C45)","v":0},{"$f":"COUNTIF('S36'!$D$6:$L$9,$C45)","v":0},{"$f":"COUNTIF('S37'!$D$6:$L$9,$C45)","v":0},{"$f":"COUNTIF('S38'!$D$6:$L$9,$C45)","v":0},{"$f":"COUNTIF('S39'!$D$6:$L$9,$C45)","v":0},{"$f":"COUNTIF('S40'!$D$6:$L$9,$C45)","v":0},{"$f":"COUNTIF('S41'!$D$6:$L$9,$C45)","v":0},{"$f":"COUNTIF('S42'!$D$6:$L$9,$C45)","v":0},{"$f":"COUNTIF('S43'!$D$6:$L$9,$C45)","v":0},{"$f":"COUNTIF('S44'!$D$6:$L$9,$C45)","v":0},{"$f":"COUNTIF('S45'!$D$6:$L$9,$C45)","v":0},{"$f":"COUNTIF('S46'!$D$6:$L$9,$C45)","v":0},{"$f":"COUNTIF('S47'!$D$6:$L$9,$C45)","v":0},{"$f":"COUNTIF('S48'!$D$6:$L$9,$C45)","v":0},{"$f":"COUNTIF('S49'!$D$6:$L$9,$C45)","v":0},{"$f":"COUNTIF('S50'!$D$6:$L$9,$C45)","v":0},{"$f":"COUNTIF('S51'!$D$6:$L$9,$C45)","v":0},{"$f":"COUNTIF('S52'!$D$6:$L$9,$C45)","v":0}]
[null,null,"CAMILLE MD","PERMANENCE SAO",{"$f":"COUNTIF('S1'!$D$6:$L$9,$C46)","v":0},{"$f":"COUNTIF('S2'!$D$6:$L$9,$C46)","v":0},{"$f":"COUNTIF('S3'!$D$6:$L$9,$C46)","v":0},{"$f":"COUNTIF('S4'!$D$6:$L$9,$C46)","v":0},{"$f":"COUNTIF('S5'!$D$6:$L$9,$C46)","v":0},{"$f":"COUNTIF('S6'!$D$6:$L$9,$C46)","v":0},{"$f":"COUNTIF('S7'!$D$6:$L$9,$C46)","v":0},{"$f":"COUNTIF('S8'!$D$6:$L$9,$C46)","v":0},{"$f":"COUNTIF('S9'!$D$6:$L$9,$C46)","v":0},{"$f":"COUNTIF('S10'!$D$6:$L$9,$C46)","v":0},{"$f":"COUNTIF('S11'!$D$6:$L$9,$C46)","v":0},{"$f":"COUNTIF('S12'!$D$6:$L$9,$C46)","v":0},{"$f":"COUNTIF('S13'!$D$6:$L$9,$C46)","v":0},{"$f":"COUNTIF('S14'!$D$6:$L$9,$C46)","v":0},{"$f":"COUNTIF('S15'!$D$6:$L$9,$C46)","v":0},{"$f":"COUNTIF('S16'!$D$6:$L$9,$C46)","v":0},{"$f":"COUNTIF('S17'!$D$6:$L$9,$C46)","v":0},{"$f":"COUNTIF('S18'!$D$6:$L$9,$C46)","v":0},{"$f":"COUNTIF('S19'!$D$6:$L$9,$C46)","v":0},{"$f":"COUNTIF('S20'!$D$6:$L$9,$C46)","v":0},{"$f":"COUNTIF('S21'!$D$6:$L$9,$C46)","v":0},{"$f":"COUNTIF('S22'!$D$6:$L$9,$C46)","v":0},{"$f":"COUNTIF('S23'!$D$6:$L$9,$C46)","v":0},{"$f":"COUNTIF('S24'!$D$6:$L$9,$C46)","v":0},{"$f":"COUNTIF('S25'!$D$6:$L$9,$C46)","v":0},{"$f":"COUNTIF('S26'!$D$6:$L$9,$C46)","v":0},{"$f":"COUNTIF('S27'!$D$6:$L$9,$C46)","v":0},{"$f":"COUNTIF('S28'!$D$6:$L$9,$C46)","v":0},{"$f":"COUNTIF('S29'!$D$6:$L$9,$C46)","v":0},{"$f":"COUNTIF('S30'!$D$6:$L$9,$C46)","v":0},{"$f":"COUNTIF('S31'!$D$6:$L$9,$C46)","v":0},{"$f":"COUNTIF('S32'!$D$6:$L$9,$C46)","v":0},{"$f":"COUNTIF('S33'!$D$6:$L$9,$C46)","v":0},{"$f":"COUNTIF('S34'!$D$6:$L$9,$C46)","v":0},{"$f":"COUNTIF('S35'!$D$6:$L$9,$C46)","v":0},{"$f":"COUNTIF('S36'!$D$6:$L$9,$C46)","v":0},{"$f":"COUNTIF('S37'!$D$6:$L$9,$C46)","v":0},{"$f":"COUNTIF('S38'!$D$6:$L$9,$C46)","v":0},{"$f":"COUNTIF('S39'!$D$6:$L$9,$C46)","v":0},{"$f":"COUNTIF('S40'!$D$6:$L$9,$C46)","v":0},{"$f":"COUNTIF('S41'!$D$6:$L$9,$C46)","v":0},{"$f":"COUNTIF('S42'!$D$6:$L$9,$C46)","v":0},{"$f":"COUNTIF('S43'!$D$6:$L$9,$C46)","v":0},{"$f":"COUNTIF('S44'!$D$6:$L$9,$C46)","v":0},{"$f":"COUNTIF('S45'!$D$6:$L$9,$C46)","v":0},{"$f":"COUNTIF('S46'!$D$6:$L$9,$C46)","v":0},{"$f":"COUNTIF('S47'!$D$6:$L$9,$C46)","v":0},{"$f":"COUNTIF('S48'!$D$6:$L$9,$C46)","v":0},{"$f":"COUNTIF('S49'!$D$6:$L$9,$C46)","v":0},{"$f":"COUNTIF('S50'!$D$6:$L$9,$C46)","v":0},{"$f":"COUNTIF('S51'!$D$6:$L$9,$C46)","v":0},{"$f":"COUNTIF('S52'!$D$6:$L$9,$C46)","v":0}]
[null,null,"REMPLACANT 1","PERMANENCE SAO",{"$f":"COUNTIF('S1'!$D$6:$L$9,$C47)","v":0},{"$f":"COUNTIF('S2'!$D$6:$L$9,$C47)","v":0},{"$f":"COUNTIF('S3'!$D$6:$L$9,$C47)","v":0},{"$f":"COUNTIF('S4'!$D$6:$L$9,$C47)","v":0},{"$f":"COUNTIF('S5'!$D$6:$L$9,$C47)","v":0},{"$f":"COUNTIF('S6'!$D$6:$L$9,$C47)","v":0},{"$f":"COUNTIF('S7'!$D$6:$L$9,$C47)","v":0},{"$f":"COUNTIF('S8'!$D$6:$L$9,$C47)","v":0},{"$f":"COUNTIF('S9'!$D$6:$L$9,$C47)","v":0},{"$f":"COUNTIF('S10'!$D$6:$L$9,$C47)","v":0},{"$f":"COUNTIF('S11'!$D$6:$L$9,$C47)","v":0},{"$f":"COUNTIF('S12'!$D$6:$L$9,$C47)","v":0},{"$f":"COUNTIF('S13'!$D$6:$L$9,$C47)","v":0},{"$f":"COUNTIF('S14'!$D$6:$L$9,$C47)","v":0},{"$f":"COUNTIF('S15'!$D$6:$L$9,$C47)","v":0},{"$f":"COUNTIF('S16'!$D$6:$L$9,$C47)","v":0},{"$f":"COUNTIF('S17'!$D$6:$L$9,$C47)","v":0},{"$f":"COUNTIF('S18'!$D$6:$L$9,$C47)","v":0},{"$f":"COUNTIF('S19'!$D$6:$L$9,$C47)","v":0},{"$f":"COUNTIF('S20'!$D$6:$L$9,$C47)","v":0},{"$f":"COUNTIF('S21'!$D$6:$L$9,$C47)","v":0},{"$f":"COUNTIF('S22'!$D$6:$L$9,$C47)","v":0},{"$f":"COUNTIF('S23'!$D$6:$L$9,$C47)","v":0},{"$f":"COUNTIF('S24'!$D$6:$L$9,$C47)","v":0},{"$f":"COUNTIF('S25'!$D$6:$L$9,$C47)","v":0},{"$f":"COUNTIF('S26'!$D$6:$L$9,$C47)","v":0},{"$f":"COUNTIF('S27'!$D$6:$L$9,$C47)","v":0},{"$f":"COUNTIF('S28'!$D$6:$L$9,$C47)","v":0},{"$f":"COUNTIF('S29'!$D$6:$L$9,$C47)","v":0},{"$f":"COUNTIF('S30'!$D$6:$L$9,$C47)","v":0},{"$f":"COUNTIF('S31'!$D$6:$L$9,$C47)","v":0},{"$f":"COUNTIF('S32'!$D$6:$L$9,$C47)","v":0},{"$f":"COUNTIF('S33'!$D$6:$L$9,$C47)","v":0},{"$f":"COUNTIF('S34'!$D$6:$L$9,$C47)","v":0},{"$f":"COUNTIF('S35'!$D$6:$L$9,$C47)","v":0},{"$f":"COUNTIF('S36'!$D$6:$L$9,$C47)","v":0},{"$f":"COUNTIF('S37'!$D$6:$L$9,$C47)","v":0},{"$f":"COUNTIF('S38'!$D$6:$L$9,$C47)","v":0},{"$f":"COUNTIF('S39'!$D$6:$L$9,$C47)","v":0},{"$f":"COUNTIF('S40'!$D$6:$L$9,$C47)","v":0},{"$f":"COUNTIF('S41'!$D$6:$L$9,$C47)","v":0},{"$f":"COUNTIF('S42'!$D$6:$L$9,$C47)","v":0},{"$f":"COUNTIF('S43'!$D$6:$L$9,$C47)","v":0},{"$f":"COUNTIF('S44'!$D$6:$L$9,$C47)","v":0},{"$f":"COUNTIF('S45'!$D$6:$L$9,$C47)","v":0},{"$f":"COUNTIF('S46'!$D$6:$L$9,$C47)","v":0},{"$f":"COUNTIF('S47'!$D$6:$L$9,$C47)","v":0},{"$f":"COUNTIF('S48'!$D$6:$L$9,$C47)","v":0},{"$f":"COUNTIF('S49'!$D$6:$L$9,$C47)","v":0},{"$f":"COUNTIF('S50'!$D$6:$L$9,$C47)","v":0},{"$f":"COUNTIF('S51'!$D$6:$L$9,$C47)","v":0},{"$f":"COUNTIF('S52'!$D$6:$L$9,$C47)","v":0}]
[null,null,"REMPLACANT 2 ","PERMANENCE SAO",{"$f":"COUNTIF('S1'!$D$6:$L$9,$C48)","v":0},{"$f":"COUNTIF('S2'!$D$6:$L$9,$C48)","v":0},{"$f":"COUNTIF('S3'!$D$6:$L$9,$C48)","v":0},{"$f":"COUNTIF('S4'!$D$6:$L$9,$C48)","v":0},{"$f":"COUNTIF('S5'!$D$6:$L$9,$C48)","v":0},{"$f":"COUNTIF('S6'!$D$6:$L$9,$C48)","v":0},{"$f":"COUNTIF('S7'!$D$6:$L$9,$C48)","v":0},{"$f":"COUNTIF('S8'!$D$6:$L$9,$C48)","v":0},{"$f":"COUNTIF('S9'!$D$6:$L$9,$C48)","v":0},{"$f":"COUNTIF('S10'!$D$6:$L$9,$C48)","v":0},{"$f":"COUNTIF('S11'!$D$6:$L$9,$C48)","v":0},{"$f":"COUNTIF('S12'!$D$6:$L$9,$C48)","v":0},{"$f":"COUNTIF('S13'!$D$6:$L$9,$C48)","v":0},{"$f":"COUNTIF('S14'!$D$6:$L$9,$C48)","v":0},{"$f":"COUNTIF('S15'!$D$6:$L$9,$C48)","v":0},{"$f":"COUNTIF('S16'!$D$6:$L$9,$C48)","v":0},{"$f":"COUNTIF('S17'!$D$6:$L$9,$C48)","v":0},{"$f":"COUNTIF('S18'!$D$6:$L$9,$C48)","v":0},{"$f":"COUNTIF('S19'!$D$6:$L$9,$C48)","v":0},{"$f":"COUNTIF('S20'!$D$6:$L$9,$C48)","v":0},{"$f":"COUNTIF('S21'!$D$6:$L$9,$C48)","v":0},{"$f":"COUNTIF('S22'!$D$6:$L$9,$C48)","v":0},{"$f":"COUNTIF('S23'!$D$6:$L$9,$C48)","v":0},{"$f":"COUNTIF('S24'!$D$6:$L$9,$C48)","v":0},{"$f":"COUNTIF('S25'!$D$6:$L$9,$C48)","v":0},{"$f":"COUNTIF('S26'!$D$6:$L$9,$C48)","v":0},{"$f":"COUNTIF('S27'!$D$6:$L$9,$C48)","v":0},{"$f":"COUNTIF('S28'!$D$6:$L$9,$C48)","v":0},{"$f":"COUNTIF('S29'!$D$6:$L$9,$C48)","v":0},{"$f":"COUNTIF('S30'!$D$6:$L$9,$C48)","v":0},{"$f":"COUNTIF('S31'!$D$6:$L$9,$C48)","v":0},{"$f":"COUNTIF('S32'!$D$6:$L$9,$C48)","v":0},{"$f":"COUNTIF('S33'!$D$6:$L$9,$C48)","v":0},{"$f":"COUNTIF('S34'!$D$6:$L$9,$C48)","v":0},{"$f":"COUNTIF('S35'!$D$6:$L$9,$C48)","v":0},{"$f":"COUNTIF('S36'!$D$6:$L$9,$C48)","v":0},{"$f":"COUNTIF('S37'!$D$6:$L$9,$C48)","v":0},{"$f":"COUNTIF('S38'!$D$6:$L$9,$C48)","v":0},{"$f":"COUNTIF('S39'!$D$6:$L$9,$C48)","v":0},{"$f":"COUNTIF('S40'!$D$6:$L$9,$C48)","v":0},{"$f":"COUNTIF('S41'!$D$6:$L$9,$C48)","v":0},{"$f":"COUNTIF('S42'!$D$6:$L$9,$C48)","v":0},{"$f":"COUNTIF('S43'!$D$6:$L$9,$C48)","v":0},{"$f":"COUNTIF('S44'!$D$6:$L$9,$C48)","v":0},{"$f":"COUNTIF('S45'!$D$6:$L$9,$C48)","v":0},{"$f":"COUNTIF('S46'!$D$6:$L$9,$C48)","v":0},{"$f":"COUNTIF('S47'!$D$6:$L$9,$C48)","v":0},{"$f":"COUNTIF('S48'!$D$6:$L$9,$C48)","v":0},{"$f":"COUNTIF('S49'!$D$6:$L$9,$C48)","v":0},{"$f":"COUNTIF('S50'!$D$6:$L$9,$C48)","v":0},{"$f":"COUNTIF('S51'!$D$6:$L$9,$C48)","v":0},{"$f":"COUNTIF('S52'!$D$6:$L$9,$C48)","v":0}]
[null,null,"STAGIERE 1","PERMANENCE SAO",{"$f":"COUNTIF('S1'!$D$6:$L$9,$C49)","v":0},{"$f":"COUNTIF('S2'!$D$6:$L$9,$C49)","v":0},{"$f":"COUNTIF('S3'!$D$6:$L$9,$C49)","v":0},{"$f":"COUNTIF('S4'!$D$6:$L$9,$C49)","v":0},{"$f":"COUNTIF('S5'!$D$6:$L$9,$C49)","v":0},{"$f":"COUNTIF('S6'!$D$6:$L$9,$C49)","v":0},{"$f":"COUNTIF('S7'!$D$6:$L$9,$C49)","v":0},{"$f":"COUNTIF('S8'!$D$6:$L$9,$C49)","v":0},{"$f":"COUNTIF('S9'!$D$6:$L$9,$C49)","v":0},{"$f":"COUNTIF('S10'!$D$6:$L$9,$C49)","v":0},{"$f":"COUNTIF('S11'!$D$6:$L$9,$C49)","v":0},{"$f":"COUNTIF('S12'!$D$6:$L$9,$C49)","v":0},{"$f":"COUNTIF('S13'!$D$6:$L$9,$C49)","v":0},{"$f":"COUNTIF('S14'!$D$6:$L$9,$C49)","v":0},{"$f":"COUNTIF('S15'!$D$6:$L$9,$C49)","v":0},{"$f":"COUNTIF('S16'!$D$6:$L$9,$C49)","v":0},{"$f":"COUNTIF('S17'!$D$6:$L$9,$C49)","v":0},{"$f":"COUNTIF('S18'!$D$6:$L$9,$C49)","v":0},{"$f":"COUNTIF('S19'!$D$6:$L$9,$C49)","v":0},{"$f":"COUNTIF('S20'!$D$6:$L$9,$C49)","v":0},{"$f":"COUNTIF('S21'!$D$6:$L$9,$C49)","v":0},{"$f":"COUNTIF('S22'!$D$6:$L$9,$C49)","v":0},{"$f":"COUNTIF('S23'!$D$6:$L$9,$C49)","v":0},{"$f":"COUNTIF('S24'!$D$6:$L$9,$C49)","v":0},{"$f":"COUNTIF('S25'!$D$6:$L$9,$C49)","v":0},{"$f":"COUNTIF('S26'!$D$6:$L$9,$C49)","v":0},{"$f":"COUNTIF('S27'!$D$6:$L$9,$C49)","v":0},{"$f":"COUNTIF('S28'!$D$6:$L$9,$C49)","v":0},{"$f":"COUNTIF('S29'!$D$6:$L$9,$C49)","v":0},{"$f":"COUNTIF('S30'!$D$6:$L$9,$C49)","v":0},{"$f":"COUNTIF('S31'!$D$6:$L$9,$C49)","v":0},{"$f":"COUNTIF('S32'!$D$6:$L$9,$C49)","v":0},{"$f":"COUNTIF('S33'!$D$6:$L$9,$C49)","v":0},{"$f":"COUNTIF('S34'!$D$6:$L$9,$C49)","v":0},{"$f":"COUNTIF('S35'!$D$6:$L$9,$C49)","v":0},{"$f":"COUNTIF('S36'!$D$6:$L$9,$C49)","v":0},{"$f":"COUNTIF('S37'!$D$6:$L$9,$C49)","v":0},{"$f":"COUNTIF('S38'!$D$6:$L$9,$C49)","v":0},{"$f":"COUNTIF('S39'!$D$6:$L$9,$C49)","v":0},{"$f":"COUNTIF('S40'!$D$6:$L$9,$C49)","v":0},{"$f":"COUNTIF('S41'!$D$6:$L$9,$C49)","v":0},{"$f":"COUNTIF('S42'!$D$6:$L$9,$C49)","v":0},{"$f":"COUNTIF('S43'!$D$6:$L$9,$C49)","v":0},{"$f":"COUNTIF('S44'!$D$6:$L$9,$C49)","v":0},{"$f":"COUNTIF('S45'!$D$6:$L$9,$C49)","v":0},{"$f":"COUNTIF('S46'!$D$6:$L$9,$C49)","v":0},{"$f":"COUNTIF('S47'!$D$6:$L$9,$C49)","v":0},{"$f":"COUNTIF('S48'!$D$6:$L$9,$C49)","v":0},{"$f":"COUNTIF('S49'!$D$6:$L$9,$C49)","v":0},{"$f":"COUNTIF('S50'!$D$6:$L$9,$C49)","v":0},{"$f":"COUNTIF('S51'!$D$6:$L$9,$C49)","v":0},{"$f":"COUNTIF('S52'!$D$6:$L$9,$C49)","v":0}]
[null,null,"STAGIERE 2","PERMANENCE SAO",{"$f":"COUNTIF('S1'!$D$6:$L$9,$C50)","v":0},{"$f":"COUNTIF('S2'!$D$6:$L$9,$C50)","v":0},{"$f":"COUNTIF('S3'!$D$6:$L$9,$C50)","v":0},{"$f":"COUNTIF('S4'!$D$6:$L$9,$C50)","v":0},{"$f":"COUNTIF('S5'!$D$6:$L$9,$C50)","v":0},{"$f":"COUNTIF('S6'!$D$6:$L$9,$C50)","v":0},{"$f":"COUNTIF('S7'!$D$6:$L$9,$C50)","v":0},{"$f":"COUNTIF('S8'!$D$6:$L$9,$C50)","v":0},{"$f":"COUNTIF('S9'!$D$6:$L$9,$C50)","v":0},{"$f":"COUNTIF('S10'!$D$6:$L$9,$C50)","v":0},{"$f":"COUNTIF('S11'!$D$6:$L$9,$C50)","v":0},{"$f":"COUNTIF('S12'!$D$6:$L$9,$C50)","v":0},{"$f":"COUNTIF('S13'!$D$6:$L$9,$C50)","v":0},{"$f":"COUNTIF('S14'!$D$6:$L$9,$C50)","v":0},{"$f":"COUNTIF('S15'!$D$6:$L$9,$C50)","v":0},{"$f":"COUNTIF('S16'!$D$6:$L$9,$C50)","v":0},{"$f":"COUNTIF('S17'!$D$6:$L$9,$C50)","v":0},{"$f":"COUNTIF('S18'!$D$6:$L$9,$C50)","v":0},{"$f":"COUNTIF('S19'!$D$6:$L$9,$C50)","v":0},{"$f":"COUNTIF('S20'!$D$6:$L$9,$C50)","v":0},{"$f":"COUNTIF('S21'!$D$6:$L$9,$C50)","v":0},{"$f":"COUNTIF('S22'!$D$6:$L$9,$C50)","v":0},{"$f":"COUNTIF('S23'!$D$6:$L$9,$C50)","v":0},{"$f":"COUNTIF('S24'!$D$6:$L$9,$C50)","v":0},{"$f":"COUNTIF('S25'!$D$6:$L$9,$C50)","v":0},{"$f":"COUNTIF('S26'!$D$6:$L$9,$C50)","v":0},{"$f":"COUNTIF('S27'!$D$6:$L$9,$C50)","v":0},{"$f":"COUNTIF('S28'!$D$6:$L$9,$C50)","v":0},{"$f":"COUNTIF('S29'!$D$6:$L$9,$C50)","v":0},{"$f":"COUNTIF('S30'!$D$6:$L$9,$C50)","v":0},{"$f":"COUNTIF('S31'!$D$6:$L$9,$C50)","v":0},{"$f":"COUNTIF('S32'!$D$6:$L$9,$C50)","v":0},{"$f":"COUNTIF('S33'!$D$6:$L$9,$C50)","v":0},{"$f":"COUNTIF('S34'!$D$6:$L$9,$C50)","v":0},{"$f":"COUNTIF('S35'!$D$6:$L$9,$C50)","v":0},{"$f":"COUNTIF('S36'!$D$6:$L$9,$C50)","v":0},{"$f":"COUNTIF('S37'!$D$6:$L$9,$C50)","v":0},{"$f":"COUNTIF('S38'!$D$6:$L$9,$C50)","v":0},{"$f":"COUNTIF('S39'!$D$6:$L$9,$C50)","v":0},{"$f":"COUNTIF('S40'!$D$6:$L$9,$C50)","v":0},{"$f":"COUNTIF('S41'!$D$6:$L$9,$C50)","v":0},{"$f":"COUNTIF('S42'!$D$6:$L$9,$C50)","v":0},{"$f":"COUNTIF('S43'!$D$6:$L$9,$C50)","v":0},{"$f":"COUNTIF('S44'!$D$6:$L$9,$C50)","v":0},{"$f":"COUNTIF('S45'!$D$6:$L$9,$C50)","v":0},{"$f":"COUNTIF('S46'!$D$6:$L$9,$C50)","v":0},{"$f":"COUNTIF('S47'!$D$6:$L$9,$C50)","v":0},{"$f":"COUNTIF('S48'!$D$6:$L$9,$C50)","v":0},{"$f":"COUNTIF('S49'!$D$6:$L$9,$C50)","v":0},{"$f":"COUNTIF('S50'!$D$6:$L$9,$C50)","v":0},{"$f":"COUNTIF('S51'!$D$6:$L$9,$C50)","v":0},{"$f":"COUNTIF('S52'!$D$6:$L$9,$C50)","v":0}]
[null,null,null,"PERMANENCE SAO",{"$f":"COUNTIF('S1'!$D$6:$L$9,$C51)","v":0},{"$f":"COUNTIF('S2'!$D$6:$L$9,$C51)","v":0},{"$f":"COUNTIF('S3'!$D$6:$L$9,$C51)","v":0},{"$f":"COUNTIF('S4'!$D$6:$L$9,$C51)","v":0},{"$f":"COUNTIF('S5'!$D$6:$L$9,$C51)","v":0},{"$f":"COUNTIF('S6'!$D$6:$L$9,$C51)","v":0},{"$f":"COUNTIF('S7'!$D$6:$L$9,$C51)","v":0},{"$f":"COUNTIF('S8'!$D$6:$L$9,$C51)","v":0},{"$f":"COUNTIF('S9'!$D$6:$L$9,$C51)","v":0},{"$f":"COUNTIF('S10'!$D$6:$L$9,$C51)","v":0},{"$f":"COUNTIF('S11'!$D$6:$L$9,$C51)","v":0},{"$f":"COUNTIF('S12'!$D$6:$L$9,$C51)","v":0},{"$f":"COUNTIF('S13'!$D$6:$L$9,$C51)","v":0},{"$f":"COUNTIF('S14'!$D$6:$L$9,$C51)","v":0},{"$f":"COUNTIF('S15'!$D$6:$L$9,$C51)","v":0},{"$f":"COUNTIF('S16'!$D$6:$L$9,$C51)","v":0},{"$f":"COUNTIF('S17'!$D$6:$L$9,$C51)","v":0},{"$f":"COUNTIF('S18'!$D$6:$L$9,$C51)","v":0},{"$f":"COUNTIF('S19'!$D$6:$L$9,$C51)","v":0},{"$f":"COUNTIF('S20'!$D$6:$L$9,$C51)","v":0},{"$f":"COUNTIF('S21'!$D$6:$L$9,$C51)","v":0},{"$f":"COUNTIF('S22'!$D$6:$L$9,$C51)","v":0},{"$f":"COUNTIF('S23'!$D$6:$L$9,$C51)","v":0},{"$f":"COUNTIF('S24'!$D$6:$L$9,$C51)","v":0},{"$f":"COUNTIF('S25'!$D$6:$L$9,$C51)","v":0},{"$f":"COUNTIF('S26'!$D$6:$L$9,$C51)","v":0},{"$f":"COUNTIF('S27'!$D$6:$L$9,$C51)","v":0},{"$f":"COUNTIF('S28'!$D$6:$L$9,$C51)","v":0},{"$f":"COUNTIF('S29'!$D$6:$L$9,$C51)","v":0},{"$f":"COUNTIF('S30'!$D$6:$L$9,$C51)","v":0},{"$f":"COUNTIF('S31'!$D$6:$L$9,$C51)","v":0},{"$f":"COUNTIF('S32'!$D$6:$L$9,$C51)","v":0},{"$f":"COUNTIF('S33'!$D$6:$L$9,$C51)","v":0},{"$f":"COUNTIF('S34'!$D$6:$L$9,$C51)","v":0},{"$f":"COUNTIF('S35'!$D$6:$L$9,$C51)","v":0},{"$f":"COUNTIF('S36'!$D$6:$L$9,$C51)","v":0},{"$f":"COUNTIF('S37'!$D$6:$L$9,$C51)","v":0},{"$f":"COUNTIF('S38'!$D$6:$L$9,$C51)","v":0},{"$f":"COUNTIF('S39'!$D$6:$L$9,$C51)","v":0},{"$f":"COUNTIF('S40'!$D$6:$L$9,$C51)","v":0},{"$f":"COUNTIF('S41'!$D$6:$L$9,$C51)","v":0},{"$f":"COUNTIF('S42'!$D$6:$L$9,$C51)","v":0},{"$f":"COUNTIF('S43'!$D$6:$L$9,$C51)","v":0},{"$f":"COUNTIF('S44'!$D$6:$L$9,$C51)","v":0},{"$f":"COUNTIF('S45'!$D$6:$L$9,$C51)","v":0},{"$f":"COUNTIF('S46'!$D$6:$L$9,$C51)","v":0},{"$f":"COUNTIF('S47'!$D$6:$L$9,$C51)","v":0},{"$f":"COUNTIF('S48'!$D$6:$L$9,$C51)","v":0},{"$f":"COUNTIF('S49'!$D$6:$L$9,$C51)","v":0},{"$f":"COUNTIF('S50'!$D$6:$L$9,$C51)","v":0},{"$f":"COUNTIF('S51'!$D$6:$L$9,$C51)","v":0},{"$f":"COUNTIF('S52'!$D$6:$L$9,$C51)","v":0}]
[null,null,null,"PERMANENCE SAO",{"$f":"COUNTIF('S1'!$D$6:$L$9,$C52)","v":0},{"$f":"COUNTIF('S2'!$D$6:$L$9,$C52)","v":0},{"$f":"COUNTIF('S3'!$D$6:$L$9,$C52)","v":0},{"$f":"COUNTIF('S4'!$D$6:$L$9,$C52)","v":0},{"$f":"COUNTIF('S5'!$D$6:$L$9,$C52)","v":0},{"$f":"COUNTIF('S6'!$D$6:$L$9,$C52)","v":0},{"$f":"COUNTIF('S7'!$D$6:$L$9,$C52)","v":0},{"$f":"COUNTIF('S8'!$D$6:$L$9,$C52)","v":0},{"$f":"COUNTIF('S9'!$D$6:$L$9,$C52)","v":0},{"$f":"COUNTIF('S10'!$D$6:$L$9,$C52)","v":0},{"$f":"COUNTIF('S11'!$D$6:$L$9,$C52)","v":0},{"$f":"COUNTIF('S12'!$D$6:$L$9,$C52)","v":0},{"$f":"COUNTIF('S13'!$D$6:$L$9,$C52)","v":0},{"$f":"COUNTIF('S14'!$D$6:$L$9,$C52)","v":0},{"$f":"COUNTIF('S15'!$D$6:$L$9,$C52)","v":0},{"$f":"COUNTIF('S16'!$D$6:$L$9,$C52)","v":0},{"$f":"COUNTIF('S17'!$D$6:$L$9,$C52)","v":0},{"$f":"COUNTIF('S18'!$D$6:$L$9,$C52)","v":0},{"$f":"COUNTIF('S19'!$D$6:$L$9,$C52)","v":0},{"$f":"COUNTIF('S20'!$D$6:$L$9,$C52)","v":0},{"$f":"COUNTIF('S21'!$D$6:$L$9,$C52)","v":0},{"$f":"COUNTIF('S22'!$D$6:$L$9,$C52)","v":0},{"$f":"COUNTIF('S23'!$D$6:$L$9,$C52)","v":0},{"$f":"COUNTIF('S24'!$D$6:$L$9,$C52)","v":0},{"$f":"COUNTIF('S25'!$D$6:$L$9,$C52)","v":0},{"$f":"COUNTIF('S26'!$D$6:$L$9,$C52)","v":0},{"$f":"COUNTIF('S27'!$D$6:$L$9,$C52)","v":0},{"$f":"COUNTIF('S28'!$D$6:$L$9,$C52)","v":0},{"$f":"COUNTIF('S29'!$D$6:$L$9,$C52)","v":0},{"$f":"COUNTIF('S30'!$D$6:$L$9,$C52)","v":0},{"$f":"COUNTIF('S31'!$D$6:$L$9,$C52)","v":0},{"$f":"COUNTIF('S32'!$D$6:$L$9,$C52)","v":0},{"$f":"COUNTIF('S33'!$D$6:$L$9,$C52)","v":0},{"$f":"COUNTIF('S34'!$D$6:$L$9,$C52)","v":0},{"$f":"COUNTIF('S35'!$D$6:$L$9,$C52)","v":0},{"$f":"COUNTIF('S36'!$D$6:$L$9,$C52)","v":0},{"$f":"COUNTIF('S37'!$D$6:$L$9,$C52)","v":0},{"$f":"COUNTIF('S38'!$D$6:$L$9,$C52)","v":0},{"$f":"COUNTIF('S39'!$D$6:$L$9,$C52)","v":0},{"$f":"COUNTIF('S40'!$D$6:$L$9,$C52)","v":0},{"$f":"COUNTIF('S41'!$D$6:$L$9,$C52)","v":0},{"$f":"COUNTIF('S42'!$D$6:$L$9,$C52)","v":0},{"$f":"COUNTIF('S43'!$D$6:$L$9,$C52)","v":0},{"$f":"COUNTIF('S44'!$D$6:$L$9,$C52)","v":0},{"$f":"COUNTIF('S45'!$D$6:$L$9,$C52)","v":0},{"$f":"COUNTIF('S46'!$D$6:$L$9,$C52)","v":0},{"$f":"COUNTIF('S47'!$D$6:$L$9,$C52)","v":0},{"$f":"COUNTIF('S48'!$D$6:$L$9,$C52)","v":0},{"$f":"COUNTIF('S49'!$D$6:$L$9,$C52)","v":0},{"$f":"COUNTIF('S50'!$D$6:$L$9,$C52)","v":0},{"$f":"COUNTIF('S51'!$D$6:$L$9,$C52)","v":0},{"$f":"COUNTIF('S52'!$D$6:$L$9,$C52)","v":0}]
[null,null,null,"PERMANENCE SAO",{"$f":"COUNTIF('S1'!$D$6:$L$9,$C53)","v":0},{"$f":"COUNTIF('S2'!$D$6:$L$9,$C53)","v":0},{"$f":"COUNTIF('S3'!$D$6:$L$9,$C53)","v":0},{"$f":"COUNTIF('S4'!$D$6:$L$9,$C53)","v":0},{"$f":"COUNTIF('S5'!$D$6:$L$9,$C53)","v":0},{"$f":"COUNTIF('S6'!$D$6:$L$9,$C53)","v":0},{"$f":"COUNTIF('S7'!$D$6:$L$9,$C53)","v":0},{"$f":"COUNTIF('S8'!$D$6:$L$9,$C53)","v":0},{"$f":"COUNTIF('S9'!$D$6:$L$9,$C53)","v":0},{"$f":"COUNTIF('S10'!$D$6:$L$9,$C53)","v":0},{"$f":"COUNTIF('S11'!$D$6:$L$9,$C53)","v":0},{"$f":"COUNTIF('S12'!$D$6:$L$9,$C53)","v":0},{"$f":"COUNTIF('S13'!$D$6:$L$9,$C53)","v":0},{"$f":"COUNTIF('S14'!$D$6:$L$9,$C53)","v":0},{"$f":"COUNTIF('S15'!$D$6:$L$9,$C53)","v":0},{"$f":"COUNTIF('S16'!$D$6:$L$9,$C53)","v":0},{"$f":"COUNTIF('S17'!$D$6:$L$9,$C53)","v":0},{"$f":"COUNTIF('S18'!$D$6:$L$9,$C53)","v":0},{"$f":"COUNTIF('S19'!$D$6:$L$9,$C53)","v":0},{"$f":"COUNTIF('S20'!$D$6:$L$9,$C53)","v":0},{"$f":"COUNTIF('S21'!$D$6:$L$9,$C53)","v":0},{"$f":"COUNTIF('S22'!$D$6:$L$9,$C53)","v":0},{"$f":"COUNTIF('S23'!$D$6:$L$9,$C53)","v":0},{"$f":"COUNTIF('S24'!$D$6:$L$9,$C53)","v":0},{"$f":"COUNTIF('S25'!$D$6:$L$9,$C53)","v":0},{"$f":"COUNTIF('S26'!$D$6:$L$9,$C53)","v":0},{"$f":"COUNTIF('S27'!$D$6:$L$9,$C53)","v":0},{"$f":"COUNTIF('S28'!$D$6:$L$9,$C53)","v":0},{"$f":"COUNTIF('S29'!$D$6:$L$9,$C53)","v":0},{"$f":"COUNTIF('S30'!$D$6:$L$9,$C53)","v":0},{"$f":"COUNTIF('S31'!$D$6:$L$9,$C53)","v":0},{"$f":"COUNTIF('S32'!$D$6:$L$9,$C53)","v":0},{"$f":"COUNTIF('S33'!$D$6:$L$9,$C53)","v":0},{"$f":"COUNTIF('S34'!$D$6:$L$9,$C53)","v":0},{"$f":"COUNTIF('S35'!$D$6:$L$9,$C53)","v":0},{"$f":"COUNTIF('S36'!$D$6:$L$9,$C53)","v":0},{"$f":"COUNTIF('S37'!$D$6:$L$9,$C53)","v":0},{"$f":"COUNTIF('S38'!$D$6:$L$9,$C53)","v":0},{"$f":"COUNTIF('S39'!$D$6:$L$9,$C53)","v":0},{"$f":"COUNTIF('S40'!$D$6:$L$9,$C53)","v":0},{"$f":"COUNTIF('S41'!$D$6:$L$9,$C53)","v":0},{"$f":"COUNTIF('S42'!$D$6:$L$9,$C53)","v":0},{"$f":"COUNTIF('S43'!$D$6:$L$9,$C53)","v":0},{"$f":"COUNTIF('S44'!$D$6:$L$9,$C53)","v":0},{"$f":"COUNTIF('S45'!$D$6:$L$9,$C53)","v":0},{"$f":"COUNTIF('S46'!$D$6:$L$9,$C53)","v":0},{"$f":"COUNTIF('S47'!$D$6:$L$9,$C53)","v":0},{"$f":"COUNTIF('S48'!$D$6:$L$9,$C53)","v":0},{"$f":"COUNTIF('S49'!$D$6:$L$9,$C53)","v":0},{"$f":"COUNTIF('S50'!$D$6:$L$9,$C53)","v":0},{"$f":"COUNTIF('S51'!$D$6:$L$9,$C53)","v":0},{"$f":"COUNTIF('S52'!$D$6:$L$9,$C53)","v":0}]
[null,null,null,"PERMANENCE SAO",{"$f":"COUNTIF('S1'!$D$6:$L$9,$C54)","v":0},{"$f":"COUNTIF('S2'!$D$6:$L$9,$C54)","v":0},{"$f":"COUNTIF('S3'!$D$6:$L$9,$C54)","v":0},{"$f":"COUNTIF('S4'!$D$6:$L$9,$C54)","v":0},{"$f":"COUNTIF('S5'!$D$6:$L$9,$C54)","v":0},{"$f":"COUNTIF('S6'!$D$6:$L$9,$C54)","v":0},{"$f":"COUNTIF('S7'!$D$6:$L$9,$C54)","v":0},{"$f":"COUNTIF('S8'!$D$6:$L$9,$C54)","v":0},{"$f":"COUNTIF('S9'!$D$6:$L$9,$C54)","v":0},{"$f":"COUNTIF('S10'!$D$6:$L$9,$C54)","v":0},{"$f":"COUNTIF('S11'!$D$6:$L$9,$C54)","v":0},{"$f":"COUNTIF('S12'!$D$6:$L$9,$C54)","v":0},{"$f":"COUNTIF('S13'!$D$6:$L$9,$C54)","v":0},{"$f":"COUNTIF('S14'!$D$6:$L$9,$C54)","v":0},{"$f":"COUNTIF('S15'!$D$6:$L$9,$C54)","v":0},{"$f":"COUNTIF('S16'!$D$6:$L$9,$C54)","v":0},{"$f":"COUNTIF('S17'!$D$6:$L$9,$C54)","v":0},{"$f":"COUNTIF('S18'!$D$6:$L$9,$C54)","v":0},{"$f":"COUNTIF('S19'!$D$6:$L$9,$C54)","v":0},{"$f":"COUNTIF('S20'!$D$6:$L$9,$C54)","v":0},{"$f":"COUNTIF('S21'!$D$6:$L$9,$C54)","v":0},{"$f":"COUNTIF('S22'!$D$6:$L$9,$C54)","v":0},{"$f":"COUNTIF('S23'!$D$6:$L$9,$C54)","v":0},{"$f":"COUNTIF('S24'!$D$6:$L$9,$C54)","v":0},{"$f":"COUNTIF('S25'!$D$6:$L$9,$C54)","v":0},{"$f":"COUNTIF('S26'!$D$6:$L$9,$C54)","v":0},{"$f":"COUNTIF('S27'!$D$6:$L$9,$C54)","v":0},{"$f":"COUNTIF('S28'!$D$6:$L$9,$C54)","v":0},{"$f":"COUNTIF('S29'!$D$6:$L$9,$C54)","v":0},{"$f":"COUNTIF('S30'!$D$6:$L$9,$C54)","v":0},{"$f":"COUNTIF('S31'!$D$6:$L$9,$C54)","v":0},{"$f":"COUNTIF('S32'!$D$6:$L$9,$C54)","v":0},{"$f":"COUNTIF('S33'!$D$6:$L$9,$C54)","v":0},{"$f":"COUNTIF('S34'!$D$6:$L$9,$C54)","v":0},{"$f":"COUNTIF('S35'!$D$6:$L$9,$C54)","v":0},{"$f":"COUNTIF('S36'!$D$6:$L$9,$C54)","v":0},{"$f":"COUNTIF('S37'!$D$6:$L$9,$C54)","v":0},{"$f":"COUNTIF('S38'!$D$6:$L$9,$C54)","v":0},{"$f":"COUNTIF('S39'!$D$6:$L$9,$C54)","v":0},{"$f":"COUNTIF('S40'!$D$6:$L$9,$C54)","v":0},{"$f":"COUNTIF('S41'!$D$6:$L$9,$C54)","v":0},{"$f":"COUNTIF('S42'!$D$6:$L$9,$C54)","v":0},{"$f":"COUNTIF('S43'!$D$6:$L$9,$C54)","v":0},{"$f":"COUNTIF('S44'!$D$6:$L$9,$C54)","v":0},{"$f":"COUNTIF('S45'!$D$6:$L$9,$C54)","v":0},{"$f":"COUNTIF('S46'!$D$6:$L$9,$C54)","v":0},{"$f":"COUNTIF('S47'!$D$6:$L$9,$C54)","v":0},{"$f":"COUNTIF('S48'!$D$6:$L$9,$C54)","v":0},{"$f":"COUNTIF('S49'!$D$6:$L$9,$C54)","v":0},{"$f":"COUNTIF('S50'!$D$6:$L$9,$C54)","v":0},{"$f":"COUNTIF('S51'!$D$6:$L$9,$C54)","v":0},{"$f":"COUNTIF('S52'!$D$6:$L$9,$C54)","v":0}]
[]
[]
["PERMANENCE FAJ",null,null,"FILE","S1","S2","S3","S4","S5","S6","S7","S8","S9","S10","S111","S122","S133","S144","S155","S166","S177","S188","S199","S20","S21","S22","S23","S24","S25","S26","S27","S28","S29","S30","S31","S32","S33","S34","S35","S36","S37","S38","S39","S40","S41","S42","S43","S44","S45","S46","S47","S48","S49","S50","S51","S52"]
["TS FAJ","OCCURRENCES \nREALISE","GAETAN C",{"$f":"$A$57","v":"PERMANENCE FAJ"},{"$f":"COUNTIF('S1'!$D$10:$L$10,$C58)","v":1},{"$f":"COUNTIF('S2'!$D$10:$L$10,$C58)","v":0},{"$f":"COUNTIF('S3'!$D$10:$L$10,$C58)","v":0},{"$f":"COUNTIF('S4'!$D$10:$L$10,$C58)","v":0},{"$f":"COUNTIF('S5'!$D$10:$L$10,$C58)","v":0},{"$f":"COUNTIF('S6'!$D$10:$L$10,$C58)","v":0},{"$f":"COUNTIF('S7'!$D$10:$L$10,$C58)","v":0},{"$f":"COUNTIF('S8'!$D$10:$L$10,$C58)","v":0},{"$f":"COUNTIF('S9'!$D$10:$L$10,$C58)","v":0},{"$f":"COUNTIF('S10'!$D$10:$L$10,$C58)","v":0},{"$f":"COUNTIF('S11'!$D$10:$L$10,$C58)","v":0},{"$f":"COUNTIF('S12'!$D$10:$L$10,$C58)","v":0},{"$f":"COUNTIF('S13'!$D$10:$L$10,$C58)","v":0},{"$f":"COUNTIF('S14'!$D$10:$L$10,$C58)","v":0},{"$f":"COUNTIF('S15'!$D$10:$L$10,$C58)","v":0},{"$f":"COUNTIF('S16'!$D$10:$L$10,$C58)","v":0},{"$f":"COUNTIF('S17'!$D$10:$L$10,$C58)","v":0},{"$f":"COUNTIF('S18'!$D$10:$L$10,$C58)","v":0},{"$f":"COUNTIF('S19'!$D$10:$L$10,$C58)","v":0},{"$f":"COUNTIF('S20'!$D$10:$L$10,$C58)","v":0},{"$f":"COUNTIF('S21'!$D$10:$L$10,$C58)","v":0},{"$f":"COUNTIF('S22'!$D$10:$L$10,$C58)","v":0},{"$f":"COUNTIF('S23'!$D$10:$L$10,$C58)","v":0},{"$f":"COUNTIF('S24'!$D$10:$L$10,$C58)","v":0},{"$f":"COUNTIF('S25'!$D$10:$L$10,$C58)","v":0},{"$f":"COUNTIF('S26'!$D$10:$L$10,$C58)","v":0},{"$f":"COUNTIF('S27'!$D$10:$L$10,$C58)","v":0},{"$f":"COUNTIF('S28'!$D$10:$L$10,$C58)","v":0},{"$f":"COUNTIF('S29'!$D$10:$L$10,$C58)","v":0},{"$f":"COUNTIF('S30'!$D$10:$L$10,$C58)","v":0},{"$f":"COUNTIF('S31'!$D$10:$L$10,$C58)","v":0},{"$f":"COUNTIF('S32'!$D$10:$L$10,$C58)","v":0},{"$f":"COUNTIF('S33'!$D$10:$L$10,$C58)","v":0},{"$f":"COUNTIF('S34'!$D$10:$L$10,$C58)","v":0},{"$f":"COUNTIF('S35'!$D$10:$L$10,$C58)","v":0},{"$f":"COUNTIF('S36'!$D$10:$L$10,$C58)","v":0},{"$f":"COUNTIF('S37'!$D$10:$L$10,$C58)","v":0},{"$f":"COUNTIF('S38'!$D$10:$L$10,$C58)","v":0},{"$f":"COUNTIF('S39'!$D$10:$L$10,$C58)","v":0},{"$f":"COUNTIF('S40'!$D$10:$L$10,$C58)","v":0},{"$f":"COUNTIF('S41'!$D$10:$L$10,$C58)","v":0},{"$f":"COUNTIF('S42'!$D$10:$L$10,$C58)","v":0},{"$f":"COUNTIF('S43'!$D$10:$L$10,$C58)","v":0},{"$f":"COUNTIF('S44'!$D$10:$L$10,$C58)","v":0},{"$f":"COUNTIF('S45'!$D$10:$L$10,$C58)","v":0},{"$f":"COUNTIF('S46'!$D$10:$L$10,$C58)","v":0},{"$f":"COUNTIF('S47'!$D$10:$L$10,$C58)","v":0},{"$f":"COUNTIF('S48'!$D$10:$L$10,$C58)","v":0},{"$f":"COUNTIF('S49'!$D$10:$L$10,$C58)","v":0},{"$f":"COUNTIF('S50'!$D$10:$L$10,$C58)","v":0},{"$f":"COUNTIF('S51'!$D$10:$L$10,$C58)","v":0},{"$f":"COUNTIF('S52'!$D$10:$L$10,$C58)","v":0}]
[null,null,"MARIANNE T",{"$f":"$A$57","v":"PERMANENCE FAJ"},{"$f":"COUNTIF('S1'!$D$10:$L$10,$C59)","v":0},{"$f":"COUNTIF('S2'!$D$10:$L$10,$C59)","v":0},{"$f":"COUNTIF('S3'!$D$10:$L$10,$C59)","v":0},{"$f":"COUNTIF('S4'!$D$10:$L$10,$C59)","v":0},{"$f":"COUNTIF('S5'!$D$10:$L$10,$C59)","v":0},{"$f":"COUNTIF('S6'!$D$10:$L$10,$C59)","v":0},{"$f":"COUNTIF('S7'!$D$10:$L$10,$C59)","v":0},{"$f":"COUNTIF('S8'!$D$10:$L$10,$C59)","v":0},{"$f":"COUNTIF('S9'!$D$10:$L$10,$C59)","v":0},{"$f":"COUNTIF('S10'!$D$10:$L$10,$C59)","v":0},{"$f":"COUNTIF('S11'!$D$10:$L$10,$C59)","v":0},{"$f":"COUNTIF('S12'!$D$10:$L$10,$C59)","v":0},{"$f":"COUNTIF('S13'!$D$10:$L$10,$C59)","v":0},{"$f":"COUNTIF('S14'!$D$10:$L$10,$C59)","v":0},{"$f":"COUNTIF('S15'!$D$10:$L$10,$C59)","v":0},{"$f":"COUNTIF('S16'!$D$10:$L$10,$C59)","v":0},{"$f":"COUNTIF('S17'!$D$10:$L$10,$C59)","v":0},{"$f":"COUNTIF('S18'!$D$10:$L$10,$C59)","v":0},{"$f":"COUNTIF('S19'!$D$10:$L$10,$C59)","v":0},{"$f":"COUNTIF('S20'!$D$10:$L$10,$C59)","v":0},{"$f":"COUNTIF('S21'!$D$10:$L$10,$C59)","v":0},{"$f":"COUNTIF('S22'!$D$10:$L$10,$C59)","v":0},{"$f":"COUNTIF('S23'!$D$10:$L$10,$C59)","v":0},{"$f":"COUNTIF('S24'!$D$10:$L$10,$C59)","v":0},{"$f":"COUNTIF('S25'!$D$10:$L$10,$C59)","v":0},{"$f":"COUNTIF('S26'!$D$10:$L$10,$C59)","v":0},{"$f":"COUNTIF('S27'!$D$10:$L$10,$C59)","v":0},{"$f":"COUNTIF('S28'!$D$10:$L$10,$C59)","v":0},{"$f":"COUNTIF('S29'!$D$10:$L$10,$C59)","v":0},{"$f":"COUNTIF('S30'!$D$10:$L$10,$C59)","v":0},{"$f":"COUNTIF('S31'!$D$10:$L$10,$C59)","v":0},{"$f":"COUNTIF('S32'!$D$10:$L$10,$C59)","v":0},{"$f":"COUNTIF('S33'!$D$10:$L$10,$C59)","v":0},{"$f":"COUNTIF('S34'!$D$10:$L$10,$C59)","v":0},{"$f":"COUNTIF('S35'!$D$10:$L$10,$C59)","v":0},{"$f":"COUNTIF('S36'!$D$10:$L$10,$C59)","v":0},{"$f":"COUNTIF('S37'!$D$10:$L$10,$C59)","v":0},{"$f":"COUNTIF('S38'!$D$10:$L$10,$C59)","v":0},{"$f":"COUNTIF('S39'!$D$10:$L$10,$C59)","v":0},{"$f":"COUNTIF('S40'!$D$10:$L$10,$C59)","v":0},{"$f":"COUNTIF('S41'!$D$10:$L$10,$C59)","v":0},{"$f":"COUNTIF('S42'!$D$10:$L$10,$C59)","v":0},{"$f":"COUNTIF('S43'!$D$10:$L$10,$C59)","v":0},{"$f":"COUNTIF('S44'!$D$10:$L$10,$C59)","v":0},{"$f":"COUNTIF('S45'!$D$10:$L$10,$C59)","v":0},{"$f":"COUNTIF('S46'!$D$10:$L$10,$C59)","v":0},{"$f":"COUNTIF('S47'!$D$10:$L$10,$C59)","v":0},{"$f":"COUNTIF('S48'!$D$10:$L$10,$C59)","v":0},{"$f":"COUNTIF('S49'!$D$10:$L$10,$C59)","v":0},{"$f":"COUNTIF('S50'!$D$10:$L$10,$C59)","v":0},{"$f":"COUNTIF('S51'!$D$10:$L$10,$C59)","v":0},{"$f":"COUNTIF('S52'!$D$10:$L$10,$C59)","v":0}]
[null,null,"REMPLACANT 1","PERMANENCE FAJ",{"$f":"COUNTIF('S1'!$D$10:$L$10,$C60)","v":0},{"$f":"COUNTIF('S2'!$D$10:$L$10,$C60)","v":0},{"$f":"COUNTIF('S3'!$D$10:$L$10,$C60)","v":0},{"$f":"COUNTIF('S4'!$D$10:$L$10,$C60)","v":0},{"$f":"COUNTIF('S5'!$D$10:$L$10,$C60)","v":0},{"$f":"COUNTIF('S6'!$D$10:$L$10,$C60)","v":0},{"$f":"COUNTIF('S7'!$D$10:$L$10,$C60)","v":0},{"$f":"COUNTIF('S8'!$D$10:$L$10,$C60)","v":0},{"$f":"COUNTIF('S9'!$D$10:$L$10,$C60)","v":0},{"$f":"COUNTIF('S10'!$D$10:$L$10,$C60)","v":0},{"$f":"COUNTIF('S11'!$D$10:$L$10,$C60)","v":0},{"$f":"COUNTIF('S12'!$D$10:$L$10,$C60)","v":0},{"$f":"COUNTIF('S13'!$D$10:$L$10,$C60)","v":0},{"$f":"COUNTIF('S14'!$D$10:$L$10,$C60)","v":0},{"$f":"COUNTIF('S15'!$D$10:$L$10,$C60)","v":0},{"$f":"COUNTIF('S16'!$D$10:$L$10,$C60)","v":0},{"$f":"COUNTIF('S17'!$D$10:$L$10,$C60)","v":0},{"$f":"COUNTIF('S18'!$D$10:$L$10,$C60)","v":0},{"$f":"COUNTIF('S19'!$D$10:$L$10,$C60)","v":0},{"$f":"COUNTIF('S20'!$D$10:$L$10,$C60)","v":0},{"$f":"COUNTIF('S21'!$D$10:$L$10,$C60)","v":0},{"$f":"COUNTIF('S22'!$D$10:$L$10,$C60)","v":0},{"$f":"COUNTIF('S23'!$D$10:$L$10,$C60)","v":0},{"$f":"COUNTIF('S24'!$D$10:$L$10,$C60)","v":0},{"$f":"COUNTIF('S25'!$D$10:$L$10,$C60)","v":0},{"$f":"COUNTIF('S26'!$D$10:$L$10,$C60)","v":0},{"$f":"COUNTIF('S27'!$D$10:$L$10,$C60)","v":0},{"$f":"COUNTIF('S28'!$D$10:$L$10,$C60)","v":0},{"$f":"COUNTIF('S29'!$D$10:$L$10,$C60)","v":0},{"$f":"COUNTIF('S30'!$D$10:$L$10,$C60)","v":0},{"$f":"COUNTIF('S31'!$D$10:$L$10,$C60)","v":0},{"$f":"COUNTIF('S32'!$D$10:$L$10,$C60)","v":0},{"$f":"COUNTIF('S33'!$D$10:$L$10,$C60)","v":0},{"$f":"COUNTIF('S34'!$D$10:$L$10,$C60)","v":0},{"$f":"COUNTIF('S35'!$D$10:$L$10,$C60)","v":0},{"$f":"COUNTIF('S36'!$D$10:$L$10,$C60)","v":0},{"$f":"COUNTIF('S37'!$D$10:$L$10,$C60)","v":0},{"$f":"COUNTIF('S38'!$D$10:$L$10,$C60)","v":0},{"$f":"COUNTIF('S39'!$D$10:$L$10,$C60)","v":0},{"$f":"COUNTIF('S40'!$D$10:$L$10,$C60)","v":0},{"$f":"COUNTIF('S41'!$D$10:$L$10,$C60)","v":0},{"$f":"COUNTIF('S42'!$D$10:$L$10,$C60)","v":0},{"$f":"COUNTIF('S43'!$D$10:$L$10,$C60)","v":0},{"$f":"COUNTIF('S44'!$D$10:$L$10,$C60)","v":0},{"$f":"COUNTIF('S45'!$D$10:$L$10,$C60)","v":0},{"$f":"COUNTIF('S46'!$D$10:$L$10,$C60)","v":0},{"$f":"COUNTIF('S47'!$D$10:$L$10,$C60)","v":0},{"$f":"COUNTIF('S48'!$D$10:$L$10,$C60)","v":0},{"$f":"COUNTIF('S49'!$D$10:$L$10,$C60)","v":0},{"$f":"COUNTIF('S50'!$D$10:$L$10,$C60)","v":0},{"$f":"COUNTIF('S51'!$D$10:$L$10,$C60)","v":0},{"$f":"COUNTIF('S52'!$D$10:$L$10,$C60)","v":0}]
[null,null,"REMPLACANT 2 ","PERMANENCE FAJ",{"$f":"COUNTIF('S1'!$D$10:$L$10,$C61)","v":0},{"$f":"COUNTIF('S2'!$D$10:$L$10,$C61)","v":0},{"$f":"COUNTIF('S3'!$D$10:$L$10,$C61)","v":0},{"$f":"COUNTIF('S4'!$D$10:$L$10,$C61)","v":0},{"$f":"COUNTIF('S5'!$D$10:$L$10,$C61)","v":0},{"$f":"COUNTIF('S6'!$D$10:$L$10,$C61)","v":0},{"$f":"COUNTIF('S7'!$D$10:$L$10,$C61)","v":0},{"$f":"COUNTIF('S8'!$D$10:$L$10,$C61)","v":0},{"$f":"COUNTIF('S9'!$D$10:$L$10,$C61)","v":0},{"$f":"COUNTIF('S10'!$D$10:$L$10,$C61)","v":0},{"$f":"COUNTIF('S11'!$D$10:$L$10,$C61)","v":0},{"$f":"COUNTIF('S12'!$D$10:$L$10,$C61)","v":0},{"$f":"COUNTIF('S13'!$D$10:$L$10,$C61)","v":0},{"$f":"COUNTIF('S14'!$D$10:$L$10,$C61)","v":0},{"$f":"COUNTIF('S15'!$D$10:$L$10,$C61)","v":0},{"$f":"COUNTIF('S16'!$D$10:$L$10,$C61)","v":0},{"$f":"COUNTIF('S17'!$D$10:$L$10,$C61)","v":0},{"$f":"COUNTIF('S18'!$D$10:$L$10,$C61)","v":0},{"$f":"COUNTIF('S19'!$D$10:$L$10,$C61)","v":0},{"$f":"COUNTIF('S20'!$D$10:$L$10,$C61)","v":0},{"$f":"COUNTIF('S21'!$D$10:$L$10,$C61)","v":0},{"$f":"COUNTIF('S22'!$D$10:$L$10,$C61)","v":0},{"$f":"COUNTIF('S23'!$D$10:$L$10,$C61)","v":0},{"$f":"COUNTIF('S24'!$D$10:$L$10,$C61)","v":0},{"$f":"COUNTIF('S25'!$D$10:$L$10,$C61)","v":0},{"$f":"COUNTIF('S26'!$D$10:$L$10,$C61)","v":0},{"$f":"COUNTIF('S27'!$D$10:$L$10,$C61)","v":0},{"$f":"COUNTIF('S28'!$D$10:$L$10,$C61)","v":0},{"$f":"COUNTIF('S29'!$D$10:$L$10,$C61)","v":0},{"$f":"COUNTIF('S30'!$D$10:$L$10,$C61)","v":0},{"$f":"COUNTIF('S31'!$D$10:$L$10,$C61)","v":0},{"$f":"COUNTIF('S32'!$D$10:$L$10,$C61)","v":0},{"$f":"COUNTIF('S33'!$D$10:$L$10,$C61)","v":0},{"$f":"COUNTIF('S34'!$D$10:$L$10,$C61)","v":0},{"$f":"COUNTIF('S35'!$D$10:$L$10,$C61)","v":0},{"$f":"COUNTIF('S36'!$D$10:$L$10,$C61)","v":0},{"$f":"COUNTIF('S37'!$D$10:$L$10,$C61)","v":0},{"$f":"COUNTIF('S38'!$D$10:$L$10,$C61)","v":0},{"$f":"COUNTIF('S39'!$D$10:$L$10,$C61)","v":0},{"$f":"COUNTIF('S40'!$D$10:$L$10,$C61)","v":0},{"$f":"COUNTIF('S41'!$D$10:$L$10,$C61)","v":0},{"$f":"COUNTIF('S42'!$D$10:$L$10,$C61)","v":0},{"$f":"COUNTIF('S43'!$D$10:$L$10,$C61)","v":0},{"$f":"COUNTIF('S44'!$D$10:$L$10,$C61)","v":0},{"$f":"COUNTIF('S45'!$D$10:$L$10,$C61)","v":0},{"$f":"COUNTIF('S46'!$D$10:$L$10,$C61)","v":0},{"$f":"COUNTIF('S47'!$D$10:$L$10,$C61)","v":0},{"$f":"COUNTIF('S48'!$D$10:$L$10,$C61)","v":0},{"$f":"COUNTIF('S49'!$D$10:$L$10,$C61)","v":0},{"$f":"COUNTIF('S50'!$D$10:$L$10,$C61)","v":0},{"$f":"COUNTIF('S51'!$D$10:$L$10,$C61)","v":0},{"$f":"COUNTIF('S52'!$D$10:$L$10,$C61)","v":0}]
[null,null,"STAGIERE 1","PERMANENCE FAJ",{"$f":"COUNTIF('S1'!$D$10:$L$10,$C62)","v":0},{"$f":"COUNTIF('S2'!$D$10:$L$10,$C62)","v":0},{"$f":"COUNTIF('S3'!$D$10:$L$10,$C62)","v":0},{"$f":"COUNTIF('S4'!$D$10:$L$10,$C62)","v":0},{"$f":"COUNTIF('S5'!$D$10:$L$10,$C62)","v":0},{"$f":"COUNTIF('S6'!$D$10:$L$10,$C62)","v":0},{"$f":"COUNTIF('S7'!$D$10:$L$10,$C62)","v":0},{"$f":"COUNTIF('S8'!$D$10:$L$10,$C62)","v":0},{"$f":"COUNTIF('S9'!$D$10:$L$10,$C62)","v":0},{"$f":"COUNTIF('S10'!$D$10:$L$10,$C62)","v":0},{"$f":"COUNTIF('S11'!$D$10:$L$10,$C62)","v":0},{"$f":"COUNTIF('S12'!$D$10:$L$10,$C62)","v":0},{"$f":"COUNTIF('S13'!$D$10:$L$10,$C62)","v":0},{"$f":"COUNTIF('S14'!$D$10:$L$10,$C62)","v":0},{"$f":"COUNTIF('S15'!$D$10:$L$10,$C62)","v":0},{"$f":"COUNTIF('S16'!$D$10:$L$10,$C62)","v":0},{"$f":"COUNTIF('S17'!$D$10:$L$10,$C62)","v":0},{"$f":"COUNTIF('S18'!$D$10:$L$10,$C62)","v":0},{"$f":"COUNTIF('S19'!$D$10:$L$10,$C62)","v":0},{"$f":"COUNTIF('S20'!$D$10:$L$10,$C62)","v":0},{"$f":"COUNTIF('S21'!$D$10:$L$10,$C62)","v":0},{"$f":"COUNTIF('S22'!$D$10:$L$10,$C62)","v":0},{"$f":"COUNTIF('S23'!$D$10:$L$10,$C62)","v":0},{"$f":"COUNTIF('S24'!$D$10:$L$10,$C62)","v":0},{"$f":"COUNTIF('S25'!$D$10:$L$10,$C62)","v":0},{"$f":"COUNTIF('S26'!$D$10:$L$10,$C62)","v":0},{"$f":"COUNTIF('S27'!$D$10:$L$10,$C62)","v":0},{"$f":"COUNTIF('S28'!$D$10:$L$10,$C62)","v":0},{"$f":"COUNTIF('S29'!$D$10:$L$10,$C62)","v":0},{"$f":"COUNTIF('S30'!$D$10:$L$10,$C62)","v":0},{"$f":"COUNTIF('S31'!$D$10:$L$10,$C62)","v":0},{"$f":"COUNTIF('S32'!$D$10:$L$10,$C62)","v":0},{"$f":"COUNTIF('S33'!$D$10:$L$10,$C62)","v":0},{"$f":"COUNTIF('S34'!$D$10:$L$10,$C62)","v":0},{"$f":"COUNTIF('S35'!$D$10:$L$10,$C62)","v":0},{"$f":"COUNTIF('S36'!$D$10:$L$10,$C62)","v":0},{"$f":"COUNTIF('S37'!$D$10:$L$10,$C62)","v":0},{"$f":"COUNTIF('S38'!$D$10:$L$10,$C62)","v":0},{"$f":"COUNTIF('S39'!$D$10:$L$10,$C62)","v":0},{"$f":"COUNTIF('S40'!$D$10:$L$10,$C62)","v":0},{"$f":"COUNTIF('S41'!$D$10:$L$10,$C62)","v":0},{"$f":"COUNTIF('S42'!$D$10:$L$10,$C62)","v":0},{"$f":"COUNTIF('S43'!$D$10:$L$10,$C62)","v":0},{"$f":"COUNTIF('S44'!$D$10:$L$10,$C62)","v":0},{"$f":"COUNTIF('S45'!$D$10:$L$10,$C62)","v":0},{"$f":"COUNTIF('S46'!$D$10:$L$10,$C62)","v":0},{"$f":"COUNTIF('S47'!$D$10:$L$10,$C62)","v":0},{"$f":"COUNTIF('S48'!$D$10:$L$10,$C62)","v":0},{"$f":"COUNTIF('S49'!$D$10:$L$10,$C62)","v":0},{"$f":"COUNTIF('S50'!$D$10:$L$10,$C62)","v":0},{"$f":"COUNTIF('S51'!$D$10:$L$10,$C62)","v":0},{"$f":"COUNTIF('S52'!$D$10:$L$10,$C62)","v":0}]
[null,null,"STAGIERE 2","PERMANENCE FAJ",{"$f":"COUNTIF('S1'!$D$10:$L$10,$C63)","v":0},{"$f":"COUNTIF('S2'!$D$10:$L$10,$C63)","v":0},{"$f":"COUNTIF('S3'!$D$10:$L$10,$C63)","v":0},{"$f":"COUNTIF('S4'!$D$10:$L$10,$C63)","v":0},{"$f":"COUNTIF('S5'!$D$10:$L$10,$C63)","v":0},{"$f":"COUNTIF('S6'!$D$10:$L$10,$C63)","v":0},{"$f":"COUNTIF('S7'!$D$10:$L$10,$C63)","v":0},{"$f":"COUNTIF('S8'!$D$10:$L$10,$C63)","v":0},{"$f":"COUNTIF('S9'!$D$10:$L$10,$C63)","v":0},{"$f":"COUNTIF('S10'!$D$10:$L$10,$C63)","v":0},{"$f":"COUNTIF('S11'!$D$10:$L$10,$C63)","v":0},{"$f":"COUNTIF('S12'!$D$10:$L$10,$C63)","v":0},{"$f":"COUNTIF('S13'!$D$10:$L$10,$C63)","v":0},{"$f":"COUNTIF('S14'!$D$10:$L$10,$C63)","v":0},{"$f":"COUNTIF('S15'!$D$10:$L$10,$C63)","v":0},{"$f":"COUNTIF('S16'!$D$10:$L$10,$C63)","v":0},{"$f":"COUNTIF('S17'!$D$10:$L$10,$C63)","v":0},{"$f":"COUNTIF('S18'!$D$10:$L$10,$C63)","v":0},{"$f":"COUNTIF('S19'!$D$10:$L$10,$C63)","v":0},{"$f":"COUNTIF('S20'!$D$10:$L$10,$C63)","v":0},{"$f":"COUNTIF('S21'!$D$10:$L$10,$C63)","v":0},{"$f":"COUNTIF('S22'!$D$10:$L$10,$C63)","v":0},{"$f":"COUNTIF('S23'!$D$10:$L$10,$C63)","v":0},{"$f":"COUNTIF('S24'!$D$10:$L$10,$C63)","v":0},{"$f":"COUNTIF('S25'!$D$10:$L$10,$C63)","v":0},{"$f":"COUNTIF('S26'!$D$10:$L$10,$C63)","v":0},{"$f":"COUNTIF('S27'!$D$10:$L$10,$C63)","v":0},{"$f":"COUNTIF('S28'!$D$10:$L$10,$C63)","v":0},{"$f":"COUNTIF('S29'!$D$10:$L$10,$C63)","v":0},{"$f":"COUNTIF('S30'!$D$10:$L$10,$C63)","v":0},{"$f":"COUNTIF('S31'!$D$10:$L$10,$C63)","v":0},{"$f":"COUNTIF('S32'!$D$10:$L$10,$C63)","v":0},{"$f":"COUNTIF('S33'!$D$10:$L$10,$C63)","v":0},{"$f":"COUNTIF('S34'!$D$10:$L$10,$C63)","v":0},{"$f":"COUNTIF('S35'!$D$10:$L$10,$C63)","v":0},{"$f":"COUNTIF('S36'!$D$10:$L$10,$C63)","v":0},{"$f":"COUNTIF('S37'!$D$10:$L$10,$C63)","v":0},{"$f":"COUNTIF('S38'!$D$10:$L$10,$C63)","v":0},{"$f":"COUNTIF('S39'!$D$10:$L$10,$C63)","v":0},{"$f":"COUNTIF('S40'!$D$10:$L$10,$C63)","v":0},{"$f":"COUNTIF('S41'!$D$10:$L$10,$C63)","v":0},{"$f":"COUNTIF('S42'!$D$10:$L$10,$C63)","v":0},{"$f":"COUNTIF('S43'!$D$10:$L$10,$C63)","v":0},{"$f":"COUNTIF('S44'!$D$10:$L$10,$C63)","v":0},{"$f":"COUNTIF('S45'!$D$10:$L$10,$C63)","v":0},{"$f":"COUNTIF('S46'!$D$10:$L$10,$C63)","v":0},{"$f":"COUNTIF('S47'!$D$10:$L$10,$C63)","v":0},{"$f":"COUNTIF('S48'!$D$10:$L$10,$C63)","v":0},{"$f":"COUNTIF('S49'!$D$10:$L$10,$C63)","v":0},{"$f":"COUNTIF('S50'!$D$10:$L$10,$C63)","v":0},{"$f":"COUNTIF('S51'!$D$10:$L$10,$C63)","v":0},{"$f":"COUNTIF('S52'!$D$10:$L$10,$C63)","v":0}]
[null,null,null,"PERMANENCE FAJ",{"$f":"COUNTIF('S1'!$D$10:$L$10,$C64)","v":0},{"$f":"COUNTIF('S2'!$D$10:$L$10,$C64)","v":0},{"$f":"COUNTIF('S3'!$D$10:$L$10,$C64)","v":0},{"$f":"COUNTIF('S4'!$D$10:$L$10,$C64)","v":0},{"$f":"COUNTIF('S5'!$D$10:$L$10,$C64)","v":0},{"$f":"COUNTIF('S6'!$D$10:$L$10,$C64)","v":0},{"$f":"COUNTIF('S7'!$D$10:$L$10,$C64)","v":0},{"$f":"COUNTIF('S8'!$D$10:$L$10,$C64)","v":0},{"$f":"COUNTIF('S9'!$D$10:$L$10,$C64)","v":0},{"$f":"COUNTIF('S10'!$D$10:$L$10,$C64)","v":0},{"$f":"COUNTIF('S11'!$D$10:$L$10,$C64)","v":0},{"$f":"COUNTIF('S12'!$D$10:$L$10,$C64)","v":0},{"$f":"COUNTIF('S13'!$D$10:$L$10,$C64)","v":0},{"$f":"COUNTIF('S14'!$D$10:$L$10,$C64)","v":0},{"$f":"COUNTIF('S15'!$D$10:$L$10,$C64)","v":0},{"$f":"COUNTIF('S16'!$D$10:$L$10,$C64)","v":0},{"$f":"COUNTIF('S17'!$D$10:$L$10,$C64)","v":0},{"$f":"COUNTIF('S18'!$D$10:$L$10,$C64)","v":0},{"$f":"COUNTIF('S19'!$D$10:$L$10,$C64)","v":0},{"$f":"COUNTIF('S20'!$D$10:$L$10,$C64)","v":0},{"$f":"COUNTIF('S21'!$D$10:$L$10,$C64)","v":0},{"$f":"COUNTIF('S22'!$D$10:$L$10,$C64)","v":0},{"$f":"COUNTIF('S23'!$D$10:$L$10,$C64)","v":0},{"$f":"COUNTIF('S24'!$D$10:$L$10,$C64)","v":0},{"$f":"COUNTIF('S25'!$D$10:$L$10,$C64)","v":0},{"$f":"COUNTIF('S26'!$D$10:$L$10,$C64)","v":0},{"$f":"COUNTIF('S27'!$D$10:$L$10,$C64)","v":0},{"$f":"COUNTIF('S28'!$D$10:$L$10,$C64)","v":0},{"$f":"COUNTIF('S29'!$D$10:$L$10,$C64)","v":0},{"$f":"COUNTIF('S30'!$D$10:$L$10,$C64)","v":0},{"$f":"COUNTIF('S31'!$D$10:$L$10,$C64)","v":0},{"$f":"COUNTIF('S32'!$D$10:$L$10,$C64)","v":0},{"$f":"COUNTIF('S33'!$D$10:$L$10,$C64)","v":0},{"$f":"COUNTIF('S34'!$D$10:$L$10,$C64)","v":0},{"$f":"COUNTIF('S35'!$D$10:$L$10,$C64)","v":0},{"$f":"COUNTIF('S36'!$D$10:$L$10,$C64)","v":0},{"$f":"COUNTIF('S37'!$D$10:$L$10,$C64)","v":0},{"$f":"COUNTIF('S38'!$D$10:$L$10,$C64)","v":0},{"$f":"COUNTIF('S39'!$D$10:$L$10,$C64)","v":0},{"$f":"COUNTIF('S40'!$D$10:$L$10,$C64)","v":0},{"$f":"COUNTIF('S41'!$D$10:$L$10,$C64)","v":0},{"$f":"COUNTIF('S42'!$D$10:$L$10,$C64)","v":0},{"$f":"COUNTIF('S43'!$D$10:$L$10,$C64)","v":0},{"$f":"COUNTIF('S44'!$D$10:$L$10,$C64)","v":0},{"$f":"COUNTIF('S45'!$D$10:$L$10,$C64)","v":0},{"$f":"COUNTIF('S46'!$D$10:$L$10,$C64)","v":0},{"$f":"COUNTIF('S47'!$D$10:$L$10,$C64)","v":0},{"$f":"COUNTIF('S48'!$D$10:$L$10,$C64)","v":0},{"$f":"COUNTIF('S49'!$D$10:$L$10,$C64)","v":0},{"$f":"COUNTIF('S50'!$D$10:$L$10,$C64)","v":0},{"$f":"COUNTIF('S51'!$D$10:$L$10,$C64)","v":0},{"$f":"COUNTIF('S52'!$D$10:$L$10,$C64)","v":0}]
[null,null,null,"PERMANENCE FAJ",{"$f":"COUNTIF('S1'!$D$10:$L$10,$C65)","v":0},{"$f":"COUNTIF('S2'!$D$10:$L$10,$C65)","v":0},{"$f":"COUNTIF('S3'!$D$10:$L$10,$C65)","v":0},{"$f":"COUNTIF('S4'!$D$10:$L$10,$C65)","v":0},{"$f":"COUNTIF('S5'!$D$10:$L$10,$C65)","v":0},{"$f":"COUNTIF('S6'!$D$10:$L$10,$C65)","v":0},{"$f":"COUNTIF('S7'!$D$10:$L$10,$C65)","v":0},{"$f":"COUNTIF('S8'!$D$10:$L$10,$C65)","v":0},{"$f":"COUNTIF('S9'!$D$10:$L$10,$C65)","v":0},{"$f":"COUNTIF('S10'!$D$10:$L$10,$C65)","v":0},{"$f":"COUNTIF('S11'!$D$10:$L$10,$C65)","v":0},{"$f":"COUNTIF('S12'!$D$10:$L$10,$C65)","v":0},{"$f":"COUNTIF('S13'!$D$10:$L$10,$C65)","v":0},{"$f":"COUNTIF('S14'!$D$10:$L$10,$C65)","v":0},{"$f":"COUNTIF('S15'!$D$10:$L$10,$C65)","v":0},{"$f":"COUNTIF('S16'!$D$10:$L$10,$C65)","v":0},{"$f":"COUNTIF('S17'!$D$10:$L$10,$C65)","v":0},{"$f":"COUNTIF('S18'!$D$10:$L$10,$C65)","v":0},{"$f":"COUNTIF('S19'!$D$10:$L$10,$C65)","v":0},{"$f":"COUNTIF('S20'!$D$10:$L$10,$C65)","v":0},{"$f":"COUNTIF('S21'!$D$10:$L$10,$C65)","v":0},{"$f":"COUNTIF('S22'!$D$10:$L$10,$C65)","v":0},{"$f":"COUNTIF('S23'!$D$10:$L$10,$C65)","v":0},{"$f":"COUNTIF('S24'!$D$10:$L$10,$C65)","v":0},{"$f":"COUNTIF('S25'!$D$10:$L$10,$C65)","v":0},{"$f":"COUNTIF('S26'!$D$10:$L$10,$C65)","v":0},{"$f":"COUNTIF('S27'!$D$10:$L$10,$C65)","v":0},{"$f":"COUNTIF('S28'!$D$10:$L$10,$C65)","v":0},{"$f":"COUNTIF('S29'!$D$10:$L$10,$C65)","v":0},{"$f":"COUNTIF('S30'!$D$10:$L$10,$C65)","v":0},{"$f":"COUNTIF('S31'!$D$10:$L$10,$C65)","v":0},{"$f":"COUNTIF('S32'!$D$10:$L$10,$C65)","v":0},{"$f":"COUNTIF('S33'!$D$10:$L$10,$C65)","v":0},{"$f":"COUNTIF('S34'!$D$10:$L$10,$C65)","v":0},{"$f":"COUNTIF('S35'!$D$10:$L$10,$C65)","v":0},{"$f":"COUNTIF('S36'!$D$10:$L$10,$C65)","v":0},{"$f":"COUNTIF('S37'!$D$10:$L$10,$C65)","v":0},{"$f":"COUNTIF('S38'!$D$10:$L$10,$C65)","v":0},{"$f":"COUNTIF('S39'!$D$10:$L$10,$C65)","v":0},{"$f":"COUNTIF('S40'!$D$10:$L$10,$C65)","v":0},{"$f":"COUNTIF('S41'!$D$10:$L$10,$C65)","v":0},{"$f":"COUNTIF('S42'!$D$10:$L$10,$C65)","v":0},{"$f":"COUNTIF('S43'!$D$10:$L$10,$C65)","v":0},{"$f":"COUNTIF('S44'!$D$10:$L$10,$C65)","v":0},{"$f":"COUNTIF('S45'!$D$10:$L$10,$C65)","v":0},{"$f":"COUNTIF('S46'!$D$10:$L$10,$C65)","v":0},{"$f":"COUNTIF('S47'!$D$10:$L$10,$C65)","v":0},{"$f":"COUNTIF('S48'!$D$10:$L$10,$C65)","v":0},{"$f":"COUNTIF('S49'!$D$10:$L$10,$C65)","v":0},{"$f":"COUNTIF('S50'!$D$10:$L$10,$C65)","v":0},{"$f":"COUNTIF('S51'!$D$10:$L$10,$C65)","v":0},{"$f":"COUNTIF('S52'!$D$10:$L$10,$C65)","v":0}]
[]
[]
["PERMANENCE FAJ APREM",null,null,"FILE","S1","S2","S3","S4","S5","S6","S7","S8","S9","S10","S111","S122","S133","S144","S155","S166","S177","S188","S199","S20","S21","S22","S23","S24","S25","S26","S27","S28","S29","S30","S31","S32","S33","S34","S35","S36","S37","S38","S39","S40","S41","S42","S43","S44","S45","S46","S47","S48","S49","S50","S51","S52"]
["TS FAJ","OCCURRENCES \nREALISE","GAETAN C",{"$f":"$A$57","v":"PERMANENCE FAJ"},{"$f":"COUNTIF('S1'!$D$25:$L$25,$C69)","v":1},{"$f":"COUNTIF('S2'!$D$25:$L$25,$C69)","v":0},{"$f":"COUNTIF('S3'!$D$25:$L$25,$C69)","v":0},{"$f":"COUNTIF('S4'!$D$25:$L$25,$C69)","v":0},{"$f":"COUNTIF('S5'!$D$25:$L$25,$C69)","v":0},{"$f":"COUNTIF('S6'!$D$25:$L$25,$C69)","v":0},{"$f":"COUNTIF('S7'!$D$25:$L$25,$C69)","v":0},{"$f":"COUNTIF('S8'!$D$25:$L$25,$C69)","v":0},{"$f":"COUNTIF('S9'!$D$25:$L$25,$C69)","v":0},{"$f":"COUNTIF('S10'!$D$25:$L$25,$C69)","v":0},{"$f":"COUNTIF('S11'!$D$25:$L$25,$C69)","v":0},{"$f":"COUNTIF('S12'!$D$25:$L$25,$C69)","v":0},{"$f":"COUNTIF('S13'!$D$25:$L$25,$C69)","v":0},{"$f":"COUNTIF('S14'!$D$25:$L$25,$C69)","v":0},{"$f":"COUNTIF('S15'!$D$25:$L$25,$C69)","v":0},{"$f":"COUNTIF('S16'!$D$25:$L$25,$C69)","v":0},{"$f":"COUNTIF('S17'!$D$25:$L$25,$C69)","v":0},{"$f":"COUNTIF('S18'!$D$25:$L$25,$C69)","v":0},{"$f":"COUNTIF('S19'!$D$25:$L$25,$C69)","v":0},{"$f":"COUNTIF('S20'!$D$25:$L$25,$C69)","v":0},{"$f":"COUNTIF('S21'!$D$25:$L$25,$C69)","v":0},{"$f":"COUNTIF('S22'!$D$25:$L$25,$C69)","v":0},{"$f":"COUNTIF('S23'!$D$25:$L$25,$C69)","v":0},{"$f":"COUNTIF('S24'!$D$25:$L$25,$C69)","v":0},{"$f":"COUNTIF('S25'!$D$25:$L$25,$C69)","v":0},{"$f":"COUNTIF('S26'!$D$25:$L$25,$C69)","v":0},{"$f":"COUNTIF('S27'!$D$25:$L$25,$C69)","v":0},{"$f":"COUNTIF('S28'!$D$25:$L$25,$C69)","v":0},{"$f":"COUNTIF('S29'!$D$25:$L$25,$C69)","v":0},{"$f":"COUNTIF('S30'!$D$25:$L$25,$C69)","v":0},{"$f":"COUNTIF('S31'!$D$25:$L$25,$C69)","v":0},{"$f":"COUNTIF('S32'!$D$25:$L$25,$C69)","v":0},{"$f":"COUNTIF('S33'!$D$25:$L$25,$C69)","v":0},{"$f":"COUNTIF('S34'!$D$25:$L$25,$C69)","v":0},{"$f":"COUNTIF('S35'!$D$25:$L$25,$C69)","v":0},{"$f":"COUNTIF('S36'!$D$25:$L$25,$C69)","v":0},{"$f":"COUNTIF('S37'!$D$25:$L$25,$C69)","v":0},{"$f":"COUNTIF('S38'!$D$25:$L$25,$C69)","v":0},{"$f":"COUNTIF('S39'!$D$25:$L$25,$C69)","v":0},{"$f":"COUNTIF('S40'!$D$25:$L$25,$C69)","v":0},{"$f":"COUNTIF('S41'!$D$25:$L$25,$C69)","v":0},{"$f":"COUNTIF('S42'!$D$25:$L$25,$C69)","v":0},{"$f":"COUNTIF('S43'!$D$25:$L$25,$C69)","v":0},{"$f":"COUNTIF('S44'!$D$25:$L$25,$C69)","v":0},{"$f":"COUNTIF('S45'!$D$25:$L$25,$C69)","v":0},{"$f":"COUNTIF('S46'!$D$25:$L$25,$C69)","v":0},{"$f":"COUNTIF('S47'!$D$25:$L$25,$C69)","v":0},{"$f":"COUNTIF('S48'!$D$25:$L$25,$C69)","v":0},{"$f":"COUNTIF('S49'!$D$25:$L$25,$C69)","v":0},{"$f":"COUNTIF('S50'!$D$25:$L$25,$C69)","v":0},{"$f":"COUNTIF('S51'!$D$25:$L$25,$C69)","v":0},{"$f":"COUNTIF('S52'!$D$25:$L$25,$C69)","v":0}]
[null,null,"MARIANNE T",{"$f":"$A$57","v":"PERMANENCE FAJ"},{"$f":"COUNTIF('S1'!$D$25:$L$25,$C70)","v":0},{"$f":"COUNTIF('S2'!$D$25:$L$25,$C70)","v":0},{"$f":"COUNTIF('S3'!$D$25:$L$25,$C70)","v":0},{"$f":"COUNTIF('S4'!$D$25:$L$25,$C70)","v":0},{"$f":"COUNTIF('S5'!$D$25:$L$25,$C70)","v":0},{"$f":"COUNTIF('S6'!$D$25:$L$25,$C70)","v":0},{"$f":"COUNTIF('S7'!$D$25:$L$25,$C70)","v":0},{"$f":"COUNTIF('S8'!$D$25:$L$25,$C70)","v":0},{"$f":"COUNTIF('S9'!$D$25:$L$25,$C70)","v":0},{"$f":"COUNTIF('S10'!$D$25:$L$25,$C70)","v":0},{"$f":"COUNTIF('S11'!$D$25:$L$25,$C70)","v":0},{"$f":"COUNTIF('S12'!$D$25:$L$25,$C70)","v":0},{"$f":"COUNTIF('S13'!$D$25:$L$25,$C70)","v":0},{"$f":"COUNTIF('S14'!$D$25:$L$25,$C70)","v":0},{"$f":"COUNTIF('S15'!$D$25:$L$25,$C70)","v":0},{"$f":"COUNTIF('S16'!$D$25:$L$25,$C70)","v":0},{"$f":"COUNTIF('S17'!$D$25:$L$25,$C70)","v":0},{"$f":"COUNTIF('S18'!$D$25:$L$25,$C70)","v":0},{"$f":"COUNTIF('S19'!$D$25:$L$25,$C70)","v":0},{"$f":"COUNTIF('S20'!$D$25:$L$25,$C70)","v":0},{"$f":"COUNTIF('S21'!$D$25:$L$25,$C70)","v":0},{"$f":"COUNTIF('S22'!$D$25:$L$25,$C70)","v":0},{"$f":"COUNTIF('S23'!$D$25:$L$25,$C70)","v":0},{"$f":"COUNTIF('S24'!$D$25:$L$25,$C70)","v":0},{"$f":"COUNTIF('S25'!$D$25:$L$25,$C70)","v":0},{"$f":"COUNTIF('S26'!$D$25:$L$25,$C70)","v":0},{"$f":"COUNTIF('S27'!$D$25:$L$25,$C70)","v":0},{"$f":"COUNTIF('S28'!$D$25:$L$25,$C70)","v":0},{"$f":"COUNTIF('S29'!$D$25:$L$25,$C70)","v":0},{"$f":"COUNTIF('S30'!$D$25:$L$25,$C70)","v":0},{"$f":"COUNTIF('S31'!$D$25:$L$25,$C70)","v":0},{"$f":"COUNTIF('S32'!$D$25:$L$25,$C70)","v":0},{"$f":"COUNTIF('S33'!$D$25:$L$25,$C70)","v":0},{"$f":"COUNTIF('S34'!$D$25:$L$25,$C70)","v":0},{"$f":"COUNTIF('S35'!$D$25:$L$25,$C70)","v":0},{"$f":"COUNTIF('S36'!$D$25:$L$25,$C70)","v":0},{"$f":"COUNTIF('S37'!$D$25:$L$25,$C70)","v":0},{"$f":"COUNTIF('S38'!$D$25:$L$25,$C70)","v":0},{"$f":"COUNTIF('S39'!$D$25:$L$25,$C70)","v":0},{"$f":"COUNTIF('S40'!$D$25:$L$25,$C70)","v":0},{"$f":"COUNTIF('S41'!$D$25:$L$25,$C70)","v":0},{"$f":"COUNTIF('S42'!$D$25:$L$25,$C70)","v":0},{"$f":"COUNTIF('S43'!$D$25:$L$25,$C70)","v":0},{"$f":"COUNTIF('S44'!$D$25:$L$25,$C70)","v":0},{"$f":"COUNTIF('S45'!$D$25:$L$25,$C70)","v":0},{"$f":"COUNTIF('S46'!$D$25:$L$25,$C70)","v":0},{"$f":"COUNTIF('S47'!$D$25:$L$25,$C70)","v":0},{"$f":"COUNTIF('S48'!$D$25:$L$25,$C70)","v":0},{"$f":"COUNTIF('S49'!$D$25:$L$25,$C70)","v":0},{"$f":"COUNTIF('S50'!$D$25:$L$25,$C70)","v":0},{"$f":"COUNTIF('S51'!$D$25:$L$25,$C70)","v":0},{"$f":"COUNTIF('S52'!$D$25:$L$25,$C70)","v":0}]
[null,null,"REMPLACANT 1","PERMANENCE FAJ",{"$f":"COUNTIF('S1'!$D$25:$L$25,$C71)","v":0},{"$f":"COUNTIF('S2'!$D$25:$L$25,$C71)","v":0},{"$f":"COUNTIF('S3'!$D$25:$L$25,$C71)","v":0},{"$f":"COUNTIF('S4'!$D$25:$L$25,$C71)","v":0},{"$f":"COUNTIF('S5'!$D$25:$L$25,$C71)","v":0},{"$f":"COUNTIF('S6'!$D$25:$L$25,$C71)","v":0},{"$f":"COUNTIF('S7'!$D$25:$L$25,$C71)","v":0},{"$f":"COUNTIF('S8'!$D$25:$L$25,$C71)","v":0},{"$f":"COUNTIF('S9'!$D$25:$L$25,$C71)","v":0},{"$f":"COUNTIF('S10'!$D$25:$L$25,$C71)","v":0},{"$f":"COUNTIF('S11'!$D$25:$L$25,$C71)","v":0},{"$f":"COUNTIF('S12'!$D$25:$L$25,$C71)","v":0},{"$f":"COUNTIF('S13'!$D$25:$L$25,$C71)","v":0},{"$f":"COUNTIF('S14'!$D$25:$L$25,$C71)","v":0},{"$f":"COUNTIF('S15'!$D$25:$L$25,$C71)","v":0},{"$f":"COUNTIF('S16'!$D$25:$L$25,$C71)","v":0},{"$f":"COUNTIF('S17'!$D$25:$L$25,$C71)","v":0},{"$f":"COUNTIF('S18'!$D$25:$L$25,$C71)","v":0},{"$f":"COUNTIF('S19'!$D$25:$L$25,$C71)","v":0},{"$f":"COUNTIF('S20'!$D$25:$L$25,$C71)","v":0},{"$f":"COUNTIF('S21'!$D$25:$L$25,$C71)","v":0},{"$f":"COUNTIF('S22'!$D$25:$L$25,$C71)","v":0},{"$f":"COUNTIF('S23'!$D$25:$L$25,$C71)","v":0},{"$f":"COUNTIF('S24'!$D$25:$L$25,$C71)","v":0},{"$f":"COUNTIF('S25'!$D$25:$L$25,$C71)","v":0},{"$f":"COUNTIF('S26'!$D$25:$L$25,$C71)","v":0},{"$f":"COUNTIF('S27'!$D$25:$L$25,$C71)","v":0},{"$f":"COUNTIF('S28'!$D$25:$L$25,$C71)","v":0},{"$f":"COUNTIF('S29'!$D$25:$L$25,$C71)","v":0},{"$f":"COUNTIF('S30'!$D$25:$L$25,$C71)","v":0},{"$f":"COUNTIF('S31'!$D$25:$L$25,$C71)","v":0},{"$f":"COUNTIF('S32'!$D$25:$L$25,$C71)","v":0},{"$f":"COUNTIF('S33'!$D$25:$L$25,$C71)","v":0},{"$f":"COUNTIF('S34'!$D$25:$L$25,$C71)","v":0},{"$f":"COUNTIF('S35'!$D$25:$L$25,$C71)","v":0},{"$f":"COUNTIF('S36'!$D$25:$L$25,$C71)","v":0},{"$f":"COUNTIF('S37'!$D$25:$L$25,$C71)","v":0},{"$f":"COUNTIF('S38'!$D$25:$L$25,$C71)","v":0},{"$f":"COUNTIF('S39'!$D$25:$L$25,$C71)","v":0},{"$f":"COUNTIF('S40'!$D$25:$L$25,$C71)","v":0},{"$f":"COUNTIF('S41'!$D$25:$L$25,$C71)","v":0},{"$f":"COUNTIF('S42'!$D$25:$L$25,$C71)","v":0},{"$f":"COUNTIF('S43'!$D$25:$L$25,$C71)","v":0},{"$f":"COUNTIF('S44'!$D$25:$L$25,$C71)","v":0},{"$f":"COUNTIF('S45'!$D$25:$L$25,$C71)","v":0},{"$f":"COUNTIF('S46'!$D$25:$L$25,$C71)","v":0},{"$f":"COUNTIF('S47'!$D$25:$L$25,$C71)","v":0},{"$f":"COUNTIF('S48'!$D$25:$L$25,$C71)","v":0},{"$f":"COUNTIF('S49'!$D$25:$L$25,$C71)","v":0},{"$f":"COUNTIF('S50'!$D$25:$L$25,$C71)","v":0},{"$f":"COUNTIF('S51'!$D$25:$L$25,$C71)","v":0},{"$f":"COUNTIF('S52'!$D$25:$L$25,$C71)","v":0}]
[null,null,"REMPLACANT 2 ","PERMANENCE FAJ",{"$f":"COUNTIF('S1'!$D$25:$L$25,$C72)","v":0},{"$f":"COUNTIF('S2'!$D$25:$L$25,$C72)","v":0},{"$f":"COUNTIF('S3'!$D$25:$L$25,$C72)","v":0},{"$f":"COUNTIF('S4'!$D$25:$L$25,$C72)","v":0},{"$f":"COUNTIF('S5'!$D$25:$L$25,$C72)","v":0},{"$f":"COUNTIF('S6'!$D$25:$L$25,$C72)","v":0},{"$f":"COUNTIF('S7'!$D$25:$L$25,$C72)","v":0},{"$f":"COUNTIF('S8'!$D$25:$L$25,$C72)","v":0},{"$f":"COUNTIF('S9'!$D$25:$L$25,$C72)","v":0},{"$f":"COUNTIF('S10'!$D$25:$L$25,$C72)","v":0},{"$f":"COUNTIF('S11'!$D$25:$L$25,$C72)","v":0},{"$f":"COUNTIF('S12'!$D$25:$L$25,$C72)","v":0},{"$f":"COUNTIF('S13'!$D$25:$L$25,$C72)","v":0},{"$f":"COUNTIF('S14'!$D$25:$L$25,$C72)","v":0},{"$f":"COUNTIF('S15'!$D$25:$L$25,$C72)","v":0},{"$f":"COUNTIF('S16'!$D$25:$L$25,$C72)","v":0},{"$f":"COUNTIF('S17'!$D$25:$L$25,$C72)","v":0},{"$f":"COUNTIF('S18'!$D$25:$L$25,$C72)","v":0},{"$f":"COUNTIF('S19'!$D$25:$L$25,$C72)","v":0},{"$f":"COUNTIF('S20'!$D$25:$L$25,$C72)","v":0},{"$f":"COUNTIF('S21'!$D$25:$L$25,$C72)","v":0},{"$f":"COUNTIF('S22'!$D$25:$L$25,$C72)","v":0},{"$f":"COUNTIF('S23'!$D$25:$L$25,$C72)","v":0},{"$f":"COUNTIF('S24'!$D$25:$L$25,$C72)","v":0},{"$f":"COUNTIF('S25'!$D$25:$L$25,$C72)","v":0},{"$f":"COUNTIF('S26'!$D$25:$L$25,$C72)","v":0},{"$f":"COUNTIF('S27'!$D$25:$L$25,$C72)","v":0},{"$f":"COUNTIF('S28'!$D$25:$L$25,$C72)","v":0},{"$f":"COUNTIF('S29'!$D$25:$L$25,$C72)","v":0},{"$f":"COUNTIF('S30'!$D$25:$L$25,$C72)","v":0},{"$f":"COUNTIF('S31'!$D$25:$L$25,$C72)","v":0},{"$f":"COUNTIF('S32'!$D$25:$L$25,$C72)","v":0},{"$f":"COUNTIF('S33'!$D$25:$L$25,$C72)","v":0},{"$f":"COUNTIF('S34'!$D$25:$L$25,$C72)","v":0},{"$f":"COUNTIF('S35'!$D$25:$L$25,$C72)","v":0},{"$f":"COUNTIF('S36'!$D$25:$L$25,$C72)","v":0},{"$f":"COUNTIF('S37'!$D$25:$L$25,$C72)","v":0},{"$f":"COUNTIF('S38'!$D$25:$L$25,$C72)","v":0},{"$f":"COUNTIF('S39'!$D$25:$L$25,$C72)","v":0},{"$f":"COUNTIF('S40'!$D$25:$L$25,$C72)","v":0},{"$f":"COUNTIF('S41'!$D$25:$L$25,$C72)","v":0},{"$f":"COUNTIF('S42'!$D$25:$L$25,$C72)","v":0},{"$f":"COUNTIF('S43'!$D$25:$L$25,$C72)","v":0},{"$f":"COUNTIF('S44'!$D$25:$L$25,$C72)","v":0},{"$f":"COUNTIF('S45'!$D$25:$L$25,$C72)","v":0},{"$f":"COUNTIF('S46'!$D$25:$L$25,$C72)","v":0},{"$f":"COUNTIF('S47'!$D$25:$L$25,$C72)","v":0},{"$f":"COUNTIF('S48'!$D$25:$L$25,$C72)","v":0},{"$f":"COUNTIF('S49'!$D$25:$L$25,$C72)","v":0},{"$f":"COUNTIF('S50'!$D$25:$L$25,$C72)","v":0},{"$f":"COUNTIF('S51'!$D$25:$L$25,$C72)","v":0},{"$f":"COUNTIF('S52'!$D$25:$L$25,$C72)","v":0}]
[null,null,"STAGIERE 1","PERMANENCE FAJ",{"$f":"COUNTIF('S1'!$D$25:$L$25,$C73)","v":0},{"$f":"COUNTIF('S2'!$D$25:$L$25,$C73)","v":0},{"$f":"COUNTIF('S3'!$D$25:$L$25,$C73)","v":0},{"$f":"COUNTIF('S4'!$D$25:$L$25,$C73)","v":0},{"$f":"COUNTIF('S5'!$D$25:$L$25,$C73)","v":0},{"$f":"COUNTIF('S6'!$D$25:$L$25,$C73)","v":0},{"$f":"COUNTIF('S7'!$D$25:$L$25,$C73)","v":0},{"$f":"COUNTIF('S8'!$D$25:$L$25,$C73)","v":0},{"$f":"COUNTIF('S9'!$D$25:$L$25,$C73)","v":0},{"$f":"COUNTIF('S10'!$D$25:$L$25,$C73)","v":0},{"$f":"COUNTIF('S11'!$D$25:$L$25,$C73)","v":0},{"$f":"COUNTIF('S12'!$D$25:$L$25,$C73)","v":0},{"$f":"COUNTIF('S13'!$D$25:$L$25,$C73)","v":0},{"$f":"COUNTIF('S14'!$D$25:$L$25,$C73)","v":0},{"$f":"COUNTIF('S15'!$D$25:$L$25,$C73)","v":0},{"$f":"COUNTIF('S16'!$D$25:$L$25,$C73)","v":0},{"$f":"COUNTIF('S17'!$D$25:$L$25,$C73)","v":0},{"$f":"COUNTIF('S18'!$D$25:$L$25,$C73)","v":0},{"$f":"COUNTIF('S19'!$D$25:$L$25,$C73)","v":0},{"$f":"COUNTIF('S20'!$D$25:$L$25,$C73)","v":0},{"$f":"COUNTIF('S21'!$D$25:$L$25,$C73)","v":0},{"$f":"COUNTIF('S22'!$D$25:$L$25,$C73)","v":0},{"$f":"COUNTIF('S23'!$D$25:$L$25,$C73)","v":0},{"$f":"COUNTIF('S24'!$D$25:$L$25,$C73)","v":0},{"$f":"COUNTIF('S25'!$D$25:$L$25,$C73)","v":0},{"$f":"COUNTIF('S26'!$D$25:$L$25,$C73)","v":0},{"$f":"COUNTIF('S27'!$D$25:$L$25,$C73)","v":0},{"$f":"COUNTIF('S28'!$D$25:$L$25,$C73)","v":0},{"$f":"COUNTIF('S29'!$D$25:$L$25,$C73)","v":0},{"$f":"COUNTIF('S30'!$D$25:$L$25,$C73)","v":0},{"$f":"COUNTIF('S31'!$D$25:$L$25,$C73)","v":0},{"$f":"COUNTIF('S32'!$D$25:$L$25,$C73)","v":0},{"$f":"COUNTIF('S33'!$D$25:$L$25,$C73)","v":0},{"$f":"COUNTIF('S34'!$D$25:$L$25,$C73)","v":0},{"$f":"COUNTIF('S35'!$D$25:$L$25,$C73)","v":0},{"$f":"COUNTIF('S36'!$D$25:$L$25,$C73)","v":0},{"$f":"COUNTIF('S37'!$D$25:$L$25,$C73)","v":0},{"$f":"COUNTIF('S38'!$D$25:$L$25,$C73)","v":0},{"$f":"COUNTIF('S39'!$D$25:$L$25,$C73)","v":0},{"$f":"COUNTIF('S40'!$D$25:$L$25,$C73)","v":0},{"$f":"COUNTIF('S41'!$D$25:$L$25,$C73)","v":0},{"$f":"COUNTIF('S42'!$D$25:$L$25,$C73)","v":0},{"$f":"COUNTIF('S43'!$D$25:$L$25,$C73)","v":0},{"$f":"COUNTIF('S44'!$D$25:$L$25,$C73)","v":0},{"$f":"COUNTIF('S45'!$D$25:$L$25,$C73)","v":0},{"$f":"COUNTIF('S46'!$D$25:$L$25,$C73)","v":0},{"$f":"COUNTIF('S47'!$D$25:$L$25,$C73)","v":0},{"$f":"COUNTIF('S48'!$D$25:$L$25,$C73)","v":0},{"$f":"COUNTIF('S49'!$D$25:$L$25,$C73)","v":0},{"$f":"COUNTIF('S50'!$D$25:$L$25,$C73)","v":0},{"$f":"COUNTIF('S51'!$D$25:$L$25,$C73)","v":0},{"$f":"COUNTIF('S52'!$D$25:$L$25,$C73)","v":0}]
[null,null,"STAGIERE 2","PERMANENCE FAJ",{"$f":"COUNTIF('S1'!$D$25:$L$25,$C74)","v":0},{"$f":"COUNTIF('S2'!$D$25:$L$25,$C74)","v":0},{"$f":"COUNTIF('S3'!$D$25:$L$25,$C74)","v":0},{"$f":"COUNTIF('S4'!$D$25:$L$25,$C74)","v":0},{"$f":"COUNTIF('S5'!$D$25:$L$25,$C74)","v":0},{"$f":"COUNTIF('S6'!$D$25:$L$25,$C74)","v":0},{"$f":"COUNTIF('S7'!$D$25:$L$25,$C74)","v":0},{"$f":"COUNTIF('S8'!$D$25:$L$25,$C74)","v":0},{"$f":"COUNTIF('S9'!$D$25:$L$25,$C74)","v":0},{"$f":"COUNTIF('S10'!$D$25:$L$25,$C74)","v":0},{"$f":"COUNTIF('S11'!$D$25:$L$25,$C74)","v":0},{"$f":"COUNTIF('S12'!$D$25:$L$25,$C74)","v":0},{"$f":"COUNTIF('S13'!$D$25:$L$25,$C74)","v":0},{"$f":"COUNTIF('S14'!$D$25:$L$25,$C74)","v":0},{"$f":"COUNTIF('S15'!$D$25:$L$25,$C74)","v":0},{"$f":"COUNTIF('S16'!$D$25:$L$25,$C74)","v":0},{"$f":"COUNTIF('S17'!$D$25:$L$25,$C74)","v":0},{"$f":"COUNTIF('S18'!$D$25:$L$25,$C74)","v":0},{"$f":"COUNTIF('S19'!$D$25:$L$25,$C74)","v":0},{"$f":"COUNTIF('S20'!$D$25:$L$25,$C74)","v":0},{"$f":"COUNTIF('S21'!$D$25:$L$25,$C74)","v":0},{"$f":"COUNTIF('S22'!$D$25:$L$25,$C74)","v":0},{"$f":"COUNTIF('S23'!$D$25:$L$25,$C74)","v":0},{"$f":"COUNTIF('S24'!$D$25:$L$25,$C74)","v":0},{"$f":"COUNTIF('S25'!$D$25:$L$25,$C74)","v":0},{"$f":"COUNTIF('S26'!$D$25:$L$25,$C74)","v":0},{"$f":"COUNTIF('S27'!$D$25:$L$25,$C74)","v":0},{"$f":"COUNTIF('S28'!$D$25:$L$25,$C74)","v":0},{"$f":"COUNTIF('S29'!$D$25:$L$25,$C74)","v":0},{"$f":"COUNTIF('S30'!$D$25:$L$25,$C74)","v":0},{"$f":"COUNTIF('S31'!$D$25:$L$25,$C74)","v":0},{"$f":"COUNTIF('S32'!$D$25:$L$25,$C74)","v":0},{"$f":"COUNTIF('S33'!$D$25:$L$25,$C74)","v":0},{"$f":"COUNTIF('S34'!$D$25:$L$25,$C74)","v":0},{"$f":"COUNTIF('S35'!$D$25:$L$25,$C74)","v":0},{"$f":"COUNTIF('S36'!$D$25:$L$25,$C74)","v":0},{"$f":"COUNTIF('S37'!$D$25:$L$25,$C74)","v":0},{"$f":"COUNTIF('S38'!$D$25:$L$25,$C74)","v":0},{"$f":"COUNTIF('S39'!$D$25:$L$25,$C74)","v":0},{"$f":"COUNTIF('S40'!$D$25:$L$25,$C74)","v":0},{"$f":"COUNTIF('S41'!$D$25:$L$25,$C74)","v":0},{"$f":"COUNTIF('S42'!$D$25:$L$25,$C74)","v":0},{"$f":"COUNTIF('S43'!$D$25:$L$25,$C74)","v":0},{"$f":"COUNTIF('S44'!$D$25:$L$25,$C74)","v":0},{"$f":"COUNTIF('S45'!$D$25:$L$25,$C74)","v":0},{"$f":"COUNTIF('S46'!$D$25:$L$25,$C74)","v":0},{"$f":"COUNTIF('S47'!$D$25:$L$25,$C74)","v":0},{"$f":"COUNTIF('S48'!$D$25:$L$25,$C74)","v":0},{"$f":"COUNTIF('S49'!$D$25:$L$25,$C74)","v":0},{"$f":"COUNTIF('S50'!$D$25:$L$25,$C74)","v":0},{"$f":"COUNTIF('S51'!$D$25:$L$25,$C74)","v":0},{"$f":"COUNTIF('S52'!$D$25:$L$25,$C74)","v":0}]
[null,null,null,"PERMANENCE FAJ",{"$f":"COUNTIF('S1'!$D$25:$L$25,$C75)","v":0},{"$f":"COUNTIF('S2'!$D$25:$L$25,$C75)","v":0},{"$f":"COUNTIF('S3'!$D$25:$L$25,$C75)","v":0},{"$f":"COUNTIF('S4'!$D$25:$L$25,$C75)","v":0},{"$f":"COUNTIF('S5'!$D$25:$L$25,$C75)","v":0},{"$f":"COUNTIF('S6'!$D$25:$L$25,$C75)","v":0},{"$f":"COUNTIF('S7'!$D$25:$L$25,$C75)","v":0},{"$f":"COUNTIF('S8'!$D$25:$L$25,$C75)","v":0},{"$f":"COUNTIF('S9'!$D$25:$L$25,$C75)","v":0},{"$f":"COUNTIF('S10'!$D$25:$L$25,$C75)","v":0},{"$f":"COUNTIF('S11'!$D$25:$L$25,$C75)","v":0},{"$f":"COUNTIF('S12'!$D$25:$L$25,$C75)","v":0},{"$f":"COUNTIF('S13'!$D$25:$L$25,$C75)","v":0},{"$f":"COUNTIF('S14'!$D$25:$L$25,$C75)","v":0},{"$f":"COUNTIF('S15'!$D$25:$L$25,$C75)","v":0},{"$f":"COUNTIF('S16'!$D$25:$L$25,$C75)","v":0},{"$f":"COUNTIF('S17'!$D$25:$L$25,$C75)","v":0},{"$f":"COUNTIF('S18'!$D$25:$L$25,$C75)","v":0},{"$f":"COUNTIF('S19'!$D$25:$L$25,$C75)","v":0},{"$f":"COUNTIF('S20'!$D$25:$L$25,$C75)","v":0},{"$f":"COUNTIF('S21'!$D$25:$L$25,$C75)","v":0},{"$f":"COUNTIF('S22'!$D$25:$L$25,$C75)","v":0},{"$f":"COUNTIF('S23'!$D$25:$L$25,$C75)","v":0},{"$f":"COUNTIF('S24'!$D$25:$L$25,$C75)","v":0},{"$f":"COUNTIF('S25'!$D$25:$L$25,$C75)","v":0},{"$f":"COUNTIF('S26'!$D$25:$L$25,$C75)","v":0},{"$f":"COUNTIF('S27'!$D$25:$L$25,$C75)","v":0},{"$f":"COUNTIF('S28'!$D$25:$L$25,$C75)","v":0},{"$f":"COUNTIF('S29'!$D$25:$L$25,$C75)","v":0},{"$f":"COUNTIF('S30'!$D$25:$L$25,$C75)","v":0},{"$f":"COUNTIF('S31'!$D$25:$L$25,$C75)","v":0},{"$f":"COUNTIF('S32'!$D$25:$L$25,$C75)","v":0},{"$f":"COUNTIF('S33'!$D$25:$L$25,$C75)","v":0},{"$f":"COUNTIF('S34'!$D$25:$L$25,$C75)","v":0},{"$f":"COUNTIF('S35'!$D$25:$L$25,$C75)","v":0},{"$f":"COUNTIF('S36'!$D$25:$L$25,$C75)","v":0},{"$f":"COUNTIF('S37'!$D$25:$L$25,$C75)","v":0},{"$f":"COUNTIF('S38'!$D$25:$L$25,$C75)","v":0},{"$f":"COUNTIF('S39'!$D$25:$L$25,$C75)","v":0},{"$f":"COUNTIF('S40'!$D$25:$L$25,$C75)","v":0},{"$f":"COUNTIF('S41'!$D$25:$L$25,$C75)","v":0},{"$f":"COUNTIF('S42'!$D$25:$L$25,$C75)","v":0},{"$f":"COUNTIF('S43'!$D$25:$L$25,$C75)","v":0},{"$f":"COUNTIF('S44'!$D$25:$L$25,$C75)","v":0},{"$f":"COUNTIF('S45'!$D$25:$L$25,$C75)","v":0},{"$f":"COUNTIF('S46'!$D$25:$L$25,$C75)","v":0},{"$f":"COUNTIF('S47'!$D$25:$L$25,$C75)","v":0},{"$f":"COUNTIF('S48'!$D$25:$L$25,$C75)","v":0},{"$f":"COUNTIF('S49'!$D$25:$L$25,$C75)","v":0},{"$f":"COUNTIF('S50'!$D$25:$L$25,$C75)","v":0},{"$f":"COUNTIF('S51'!$D$25:$L$25,$C75)","v":0},{"$f":"COUNTIF('S52'!$D$25:$L$25,$C75)","v":0}]
[null,null,null,"PERMANENCE FAJ",{"$f":"COUNTIF('S1'!$D$25:$L$25,$C76)","v":0},{"$f":"COUNTIF('S2'!$D$25:$L$25,$C76)","v":0},{"$f":"COUNTIF('S3'!$D$25:$L$25,$C76)","v":0},{"$f":"COUNTIF('S4'!$D$25:$L$25,$C76)","v":0},{"$f":"COUNTIF('S5'!$D$25:$L$25,$C76)","v":0},{"$f":"COUNTIF('S6'!$D$25:$L$25,$C76)","v":0},{"$f":"COUNTIF('S7'!$D$25:$L$25,$C76)","v":0},{"$f":"COUNTIF('S8'!$D$25:$L$25,$C76)","v":0},{"$f":"COUNTIF('S9'!$D$25:$L$25,$C76)","v":0},{"$f":"COUNTIF('S10'!$D$25:$L$25,$C76)","v":0},{"$f":"COUNTIF('S11'!$D$25:$L$25,$C76)","v":0},{"$f":"COUNTIF('S12'!$D$25:$L$25,$C76)","v":0},{"$f":"COUNTIF('S13'!$D$25:$L$25,$C76)","v":0},{"$f":"COUNTIF('S14'!$D$25:$L$25,$C76)","v":0},{"$f":"COUNTIF('S15'!$D$25:$L$25,$C76)","v":0},{"$f":"COUNTIF('S16'!$D$25:$L$25,$C76)","v":0},{"$f":"COUNTIF('S17'!$D$25:$L$25,$C76)","v":0},{"$f":"COUNTIF('S18'!$D$25:$L$25,$C76)","v":0},{"$f":"COUNTIF('S19'!$D$25:$L$25,$C76)","v":0},{"$f":"COUNTIF('S20'!$D$25:$L$25,$C76)","v":0},{"$f":"COUNTIF('S21'!$D$25:$L$25,$C76)","v":0},{"$f":"COUNTIF('S22'!$D$25:$L$25,$C76)","v":0},{"$f":"COUNTIF('S23'!$D$25:$L$25,$C76)","v":0},{"$f":"COUNTIF('S24'!$D$25:$L$25,$C76)","v":0},{"$f":"COUNTIF('S25'!$D$25:$L$25,$C76)","v":0},{"$f":"COUNTIF('S26'!$D$25:$L$25,$C76)","v":0},{"$f":"COUNTIF('S27'!$D$25:$L$25,$C76)","v":0},{"$f":"COUNTIF('S28'!$D$25:$L$25,$C76)","v":0},{"$f":"COUNTIF('S29'!$D$25:$L$25,$C76)","v":0},{"$f":"COUNTIF('S30'!$D$25:$L$25,$C76)","v":0},{"$f":"COUNTIF('S31'!$D$25:$L$25,$C76)","v":0},{"$f":"COUNTIF('S32'!$D$25:$L$25,$C76)","v":0},{"$f":"COUNTIF('S33'!$D$25:$L$25,$C76)","v":0},{"$f":"COUNTIF('S34'!$D$25:$L$25,$C76)","v":0},{"$f":"COUNTIF('S35'!$D$25:$L$25,$C76)","v":0},{"$f":"COUNTIF('S36'!$D$25:$L$25,$C76)","v":0},{"$f":"COUNTIF('S37'!$D$25:$L$25,$C76)","v":0},{"$f":"COUNTIF('S38'!$D$25:$L$25,$C76)","v":0},{"$f":"COUNTIF('S39'!$D$25:$L$25,$C76)","v":0},{"$f":"COUNTIF('S40'!$D$25:$L$25,$C76)","v":0},{"$f":"COUNTIF('S41'!$D$25:$L$25,$C76)","v":0},{"$f":"COUNTIF('S42'!$D$25:$L$25,$C76)","v":0},{"$f":"COUNTIF('S43'!$D$25:$L$25,$C76)","v":0},{"$f":"COUNTIF('S44'!$D$25:$L$25,$C76)","v":0},{"$f":"COUNTIF('S45'!$D$25:$L$25,$C76)","v":0},{"$f":"COUNTIF('S46'!$D$25:$L$25,$C76)","v":0},{"$f":"COUNTIF('S47'!$D$25:$L$25,$C76)","v":0},{"$f":"COUNTIF('S48'!$D$25:$L$25,$C76)","v":0},{"$f":"COUNTIF('S49'!$D$25:$L$25,$C76)","v":0},{"$f":"COUNTIF('S50'!$D$25:$L$25,$C76)","v":0},{"$f":"COUNTIF('S51'!$D$25:$L$25,$C76)","v":0},{"$f":"COUNTIF('S52'!$D$25:$L$25,$C76)","v":0}]
[]
[]
["URGENCE SAO",null,null,"FILE","S1","S2","S3","S4","S5","S6","S7","S8","S9","S10","S111","S122","S133","S144","S155","S166","S177","S188","S199","S20","S21","S22","S23","S24","S25","S26","S27","S28","S29","S30","S31","S32","S33","S34","S35","S36","S37","S38","S39","S40","S41","S42","S43","S44","S45","S46","S47","S48","S49","S50","S51","S52"]
["TS","OCCURRENCES \nREALISE","SALIMA D",{"$f":"$A$79","v":"URGENCE SAO"},{"$f":"COUNTIF('S1'!$D$20:$L$20,$C80)","v":1},{"$f":"COUNTIF('S2'!$D$20:$L$20,$C80)","v":0},{"$f":"COUNTIF('S3'!$D$20:$L$20,$C80)","v":0},{"$f":"COUNTIF('S4'!$D$20:$L$20,$C80)","v":0},{"$f":"COUNTIF('S5'!$D$20:$L$20,$C80)","v":0},{"$f":"COUNTIF('S6'!$D$20:$L$20,$C80)","v":0},{"$f":"COUNTIF('S7'!$D$20:$L$20,$C80)","v":0},{"$f":"COUNTIF('S8'!$D$20:$L$20,$C80)","v":0},{"$f":"COUNTIF('S9'!$D$20:$L$20,$C80)","v":0},{"$f":"COUNTIF('S10'!$D$20:$L$20,$C80)","v":0},{"$f":"COUNTIF('S11'!$D$20:$L$20,$C80)","v":0},{"$f":"COUNTIF('S12'!$D$20:$L$20,$C80)","v":0},{"$f":"COUNTIF('S13'!$D$20:$L$20,$C80)","v":0},{"$f":"COUNTIF('S14'!$D$20:$L$20,$C80)","v":0},{"$f":"COUNTIF('S15'!$D$20:$L$20,$C80)","v":0},{"$f":"COUNTIF('S16'!$D$20:$L$20,$C80)","v":0},{"$f":"COUNTIF('S17'!$D$20:$L$20,$C80)","v":0},{"$f":"COUNTIF('S18'!$D$20:$L$20,$C80)","v":0},{"$f":"COUNTIF('S19'!$D$20:$L$20,$C80)","v":0},{"$f":"COUNTIF('S20'!$D$20:$L$20,$C80)","v":0},{"$f":"COUNTIF('S21'!$D$20:$L$20,$C80)","v":0},{"$f":"COUNTIF('S22'!$D$20:$L$20,$C80)","v":0},{"$f":"COUNTIF('S23'!$D$20:$L$20,$C80)","v":0},{"$f":"COUNTIF('S24'!$D$20:$L$20,$C80)","v":0},{"$f":"COUNTIF('S25'!$D$20:$L$20,$C80)","v":0},{"$f":"COUNTIF('S26'!$D$20:$L$20,$C80)","v":0},{"$f":"COUNTIF('S27'!$D$20:$L$20,$C80)","v":0},{"$f":"COUNTIF('S28'!$D$20:$L$20,$C80)","v":0},{"$f":"COUNTIF('S29'!$D$20:$L$20,$C80)","v":0},{"$f":"COUNTIF('S30'!$D$20:$L$20,$C80)","v":0},{"$f":"COUNTIF('S31'!$D$20:$L$20,$C80)","v":0},{"$f":"COUNTIF('S32'!$D$20:$L$20,$C80)","v":0},{"$f":"COUNTIF('S33'!$D$20:$L$20,$C80)","v":0},{"$f":"COUNTIF('S34'!$D$20:$L$20,$C80)","v":0},{"$f":"COUNTIF('S35'!$D$20:$L$20,$C80)","v":0},{"$f":"COUNTIF('S36'!$D$20:$L$20,$C80)","v":0},{"$f":"COUNTIF('S37'!$D$20:$L$20,$C80)","v":0},{"$f":"COUNTIF('S38'!$D$20:$L$20,$C80)","v":0},{"$f":"COUNTIF('S39'!$D$20:$L$20,$C80)","v":0},{"$f":"COUNTIF('S40'!$D$20:$L$20,$C80)","v":0},{"$f":"COUNTIF('S41'!$D$20:$L$20,$C80)","v":0},{"$f":"COUNTIF('S42'!$D$20:$L$20,$C80)","v":0},{"$f":"COUNTIF('S43'!$D$20:$L$20,$C80)","v":0},{"$f":"COUNTIF('S44'!$D$20:$L$20,$C80)","v":0},{"$f":"COUNTIF('S45'!$D$20:$L$20,$C80)","v":0},{"$f":"COUNTIF('S46'!$D$20:$L$20,$C80)","v":0},{"$f":"COUNTIF('S47'!$D$20:$L$20,$C80)","v":0},{"$f":"COUNTIF('S48'!$D$20:$L$20,$C80)","v":0},{"$f":"COUNTIF('S49'!$D$20:$L$20,$C80)","v":0},{"$f":"COUNTIF('S50'!$D$20:$L$20,$C80)","v":0},{"$f":"COUNTIF('S51'!$D$20:$L$20,$C80)","v":0},{"$f":"COUNTIF('S52'!$D$20:$L$20,$C80)","v":0}]
[null,null,"EMILIE B",{"$f":"$A$79","v":"URGENCE SAO"},{"$f":"COUNTIF('S1'!$D$20:$L$20,$C81)","v":0},{"$f":"COUNTIF('S2'!$D$20:$L$20,$C81)","v":0},{"$f":"COUNTIF('S3'!$D$20:$L$20,$C81)","v":0},{"$f":"COUNTIF('S4'!$D$20:$L$20,$C81)","v":0},{"$f":"COUNTIF('S5'!$D$20:$L$20,$C81)","v":0},{"$f":"COUNTIF('S6'!$D$20:$L$20,$C81)","v":0},{"$f":"COUNTIF('S7'!$D$20:$L$20,$C81)","v":0},{"$f":"COUNTIF('S8'!$D$20:$L$20,$C81)","v":0},{"$f":"COUNTIF('S9'!$D$20:$L$20,$C81)","v":0},{"$f":"COUNTIF('S10'!$D$20:$L$20,$C81)","v":0},{"$f":"COUNTIF('S11'!$D$20:$L$20,$C81)","v":0},{"$f":"COUNTIF('S12'!$D$20:$L$20,$C81)","v":0},{"$f":"COUNTIF('S13'!$D$20:$L$20,$C81)","v":0},{"$f":"COUNTIF('S14'!$D$20:$L$20,$C81)","v":0},{"$f":"COUNTIF('S15'!$D$20:$L$20,$C81)","v":0},{"$f":"COUNTIF('S16'!$D$20:$L$20,$C81)","v":0},{"$f":"COUNTIF('S17'!$D$20:$L$20,$C81)","v":0},{"$f":"COUNTIF('S18'!$D$20:$L$20,$C81)","v":0},{"$f":"COUNTIF('S19'!$D$20:$L$20,$C81)","v":0},{"$f":"COUNTIF('S20'!$D$20:$L$20,$C81)","v":0},{"$f":"COUNTIF('S21'!$D$20:$L$20,$C81)","v":0},{"$f":"COUNTIF('S22'!$D$20:$L$20,$C81)","v":0},{"$f":"COUNTIF('S23'!$D$20:$L$20,$C81)","v":0},{"$f":"COUNTIF('S24'!$D$20:$L$20,$C81)","v":0},{"$f":"COUNTIF('S25'!$D$20:$L$20,$C81)","v":0},{"$f":"COUNTIF('S26'!$D$20:$L$20,$C81)","v":0},{"$f":"COUNTIF('S27'!$D$20:$L$20,$C81)","v":0},{"$f":"COUNTIF('S28'!$D$20:$L$20,$C81)","v":0},{"$f":"COUNTIF('S29'!$D$20:$L$20,$C81)","v":0},{"$f":"COUNTIF('S30'!$D$20:$L$20,$C81)","v":0},{"$f":"COUNTIF('S31'!$D$20:$L$20,$C81)","v":0},{"$f":"COUNTIF('S32'!$D$20:$L$20,$C81)","v":0},{"$f":"COUNTIF('S33'!$D$20:$L$20,$C81)","v":0},{"$f":"COUNTIF('S34'!$D$20:$L$20,$C81)","v":0},{"$f":"COUNTIF('S35'!$D$20:$L$20,$C81)","v":0},{"$f":"COUNTIF('S36'!$D$20:$L$20,$C81)","v":0},{"$f":"COUNTIF('S37'!$D$20:$L$20,$C81)","v":0},{"$f":"COUNTIF('S38'!$D$20:$L$20,$C81)","v":0},{"$f":"COUNTIF('S39'!$D$20:$L$20,$C81)","v":0},{"$f":"COUNTIF('S40'!$D$20:$L$20,$C81)","v":0},{"$f":"COUNTIF('S41'!$D$20:$L$20,$C81)","v":0},{"$f":"COUNTIF('S42'!$D$20:$L$20,$C81)","v":0},{"$f":"COUNTIF('S43'!$D$20:$L$20,$C81)","v":0},{"$f":"COUNTIF('S44'!$D$20:$L$20,$C81)","v":0},{"$f":"COUNTIF('S45'!$D$20:$L$20,$C81)","v":0},{"$f":"COUNTIF('S46'!$D$20:$L$20,$C81)","v":0},{"$f":"COUNTIF('S47'!$D$20:$L$20,$C81)","v":0},{"$f":"COUNTIF('S48'!$D$20:$L$20,$C81)","v":0},{"$f":"COUNTIF('S49'!$D$20:$L$20,$C81)","v":0},{"$f":"COUNTIF('S50'!$D$20:$L$20,$C81)","v":0},{"$f":"COUNTIF('S51'!$D$20:$L$20,$C81)","v":0},{"$f":"COUNTIF('S52'!$D$20:$L$20,$C81)","v":0}]
[null,null,"AUDREY L","URGENCE SAO",{"$f":"COUNTIF('S1'!$D$20:$L$20,$C82)","v":0},{"$f":"COUNTIF('S2'!$D$20:$L$20,$C82)","v":0},{"$f":"COUNTIF('S3'!$D$20:$L$20,$C82)","v":0},{"$f":"COUNTIF('S4'!$D$20:$L$20,$C82)","v":0},{"$f":"COUNTIF('S5'!$D$20:$L$20,$C82)","v":0},{"$f":"COUNTIF('S6'!$D$20:$L$20,$C82)","v":0},{"$f":"COUNTIF('S7'!$D$20:$L$20,$C82)","v":0},{"$f":"COUNTIF('S8'!$D$20:$L$20,$C82)","v":0},{"$f":"COUNTIF('S9'!$D$20:$L$20,$C82)","v":0},{"$f":"COUNTIF('S10'!$D$20:$L$20,$C82)","v":0},{"$f":"COUNTIF('S11'!$D$20:$L$20,$C82)","v":0},{"$f":"COUNTIF('S12'!$D$20:$L$20,$C82)","v":0},{"$f":"COUNTIF('S13'!$D$20:$L$20,$C82)","v":0},{"$f":"COUNTIF('S14'!$D$20:$L$20,$C82)","v":0},{"$f":"COUNTIF('S15'!$D$20:$L$20,$C82)","v":0},{"$f":"COUNTIF('S16'!$D$20:$L$20,$C82)","v":0},{"$f":"COUNTIF('S17'!$D$20:$L$20,$C82)","v":0},{"$f":"COUNTIF('S18'!$D$20:$L$20,$C82)","v":0},{"$f":"COUNTIF('S19'!$D$20:$L$20,$C82)","v":0},{"$f":"COUNTIF('S20'!$D$20:$L$20,$C82)","v":0},{"$f":"COUNTIF('S21'!$D$20:$L$20,$C82)","v":0},{"$f":"COUNTIF('S22'!$D$20:$L$20,$C82)","v":0},{"$f":"COUNTIF('S23'!$D$20:$L$20,$C82)","v":0},{"$f":"COUNTIF('S24'!$D$20:$L$20,$C82)","v":0},{"$f":"COUNTIF('S25'!$D$20:$L$20,$C82)","v":0},{"$f":"COUNTIF('S26'!$D$20:$L$20,$C82)","v":0},{"$f":"COUNTIF('S27'!$D$20:$L$20,$C82)","v":0},{"$f":"COUNTIF('S28'!$D$20:$L$20,$C82)","v":0},{"$f":"COUNTIF('S29'!$D$20:$L$20,$C82)","v":0},{"$f":"COUNTIF('S30'!$D$20:$L$20,$C82)","v":0},{"$f":"COUNTIF('S31'!$D$20:$L$20,$C82)","v":0},{"$f":"COUNTIF('S32'!$D$20:$L$20,$C82)","v":0},{"$f":"COUNTIF('S33'!$D$20:$L$20,$C82)","v":0},{"$f":"COUNTIF('S34'!$D$20:$L$20,$C82)","v":0},{"$f":"COUNTIF('S35'!$D$20:$L$20,$C82)","v":0},{"$f":"COUNTIF('S36'!$D$20:$L$20,$C82)","v":0},{"$f":"COUNTIF('S37'!$D$20:$L$20,$C82)","v":0},{"$f":"COUNTIF('S38'!$D$20:$L$20,$C82)","v":0},{"$f":"COUNTIF('S39'!$D$20:$L$20,$C82)","v":0},{"$f":"COUNTIF('S40'!$D$20:$L$20,$C82)","v":0},{"$f":"COUNTIF('S41'!$D$20:$L$20,$C82)","v":0},{"$f":"COUNTIF('S42'!$D$20:$L$20,$C82)","v":0},{"$f":"COUNTIF('S43'!$D$20:$L$20,$C82)","v":0},{"$f":"COUNTIF('S44'!$D$20:$L$20,$C82)","v":0},{"$f":"COUNTIF('S45'!$D$20:$L$20,$C82)","v":0},{"$f":"COUNTIF('S46'!$D$20:$L$20,$C82)","v":0},{"$f":"COUNTIF('S47'!$D$20:$L$20,$C82)","v":0},{"$f":"COUNTIF('S48'!$D$20:$L$20,$C82)","v":0},{"$f":"COUNTIF('S49'!$D$20:$L$20,$C82)","v":0},{"$f":"COUNTIF('S50'!$D$20:$L$20,$C82)","v":0},{"$f":"COUNTIF('S51'!$D$20:$L$20,$C82)","v":0},{"$f":"COUNTIF('S52'!$D$20:$L$20,$C82)","v":0}]
[null,null,"MATHIEU G","URGENCE SAO",{"$f":"COUNTIF('S1'!$D$20:$L$20,$C83)","v":0},{"$f":"COUNTIF('S2'!$D$20:$L$20,$C83)","v":0},{"$f":"COUNTIF('S3'!$D$20:$L$20,$C83)","v":0},{"$f":"COUNTIF('S4'!$D$20:$L$20,$C83)","v":0},{"$f":"COUNTIF('S5'!$D$20:$L$20,$C83)","v":0},{"$f":"COUNTIF('S6'!$D$20:$L$20,$C83)","v":0},{"$f":"COUNTIF('S7'!$D$20:$L$20,$C83)","v":0},{"$f":"COUNTIF('S8'!$D$20:$L$20,$C83)","v":0},{"$f":"COUNTIF('S9'!$D$20:$L$20,$C83)","v":0},{"$f":"COUNTIF('S10'!$D$20:$L$20,$C83)","v":0},{"$f":"COUNTIF('S11'!$D$20:$L$20,$C83)","v":0},{"$f":"COUNTIF('S12'!$D$20:$L$20,$C83)","v":0},{"$f":"COUNTIF('S13'!$D$20:$L$20,$C83)","v":0},{"$f":"COUNTIF('S14'!$D$20:$L$20,$C83)","v":0},{"$f":"COUNTIF('S15'!$D$20:$L$20,$C83)","v":0},{"$f":"COUNTIF('S16'!$D$20:$L$20,$C83)","v":0},{"$f":"COUNTIF('S17'!$D$20:$L$20,$C83)","v":0},{"$f":"COUNTIF('S18'!$D$20:$L$20,$C83)","v":0},{"$f":"COUNTIF('S19'!$D$20:$L$20,$C83)","v":0},{"$f":"COUNTIF('S20'!$D$20:$L$20,$C83)","v":0},{"$f":"COUNTIF('S21'!$D$20:$L$20,$C83)","v":0},{"$f":"COUNTIF('S22'!$D$20:$L$20,$C83)","v":0},{"$f":"COUNTIF('S23'!$D$20:$L$20,$C83)","v":0},{"$f":"COUNTIF('S24'!$D$20:$L$20,$C83)","v":0},{"$f":"COUNTIF('S25'!$D$20:$L$20,$C83)","v":0},{"$f":"COUNTIF('S26'!$D$20:$L$20,$C83)","v":0},{"$f":"COUNTIF('S27'!$D$20:$L$20,$C83)","v":0},{"$f":"COUNTIF('S28'!$D$20:$L$20,$C83)","v":0},{"$f":"COUNTIF('S29'!$D$20:$L$20,$C83)","v":0},{"$f":"COUNTIF('S30'!$D$20:$L$20,$C83)","v":0},{"$f":"COUNTIF('S31'!$D$20:$L$20,$C83)","v":0},{"$f":"COUNTIF('S32'!$D$20:$L$20,$C83)","v":0},{"$f":"COUNTIF('S33'!$D$20:$L$20,$C83)","v":0},{"$f":"COUNTIF('S34'!$D$20:$L$20,$C83)","v":0},{"$f":"COUNTIF('S35'!$D$20:$L$20,$C83)","v":0},{"$f":"COUNTIF('S36'!$D$20:$L$20,$C83)","v":0},{"$f":"COUNTIF('S37'!$D$20:$L$20,$C83)","v":0},{"$f":"COUNTIF('S38'!$D$20:$L$20,$C83)","v":0},{"$f":"COUNTIF('S39'!$D$20:$L$20,$C83)","v":0},{"$f":"COUNTIF('S40'!$D$20:$L$20,$C83)","v":0},{"$f":"COUNTIF('S41'!$D$20:$L$20,$C83)","v":0},{"$f":"COUNTIF('S42'!$D$20:$L$20,$C83)","v":0},{"$f":"COUNTIF('S43'!$D$20:$L$20,$C83)","v":0},{"$f":"COUNTIF('S44'!$D$20:$L$20,$C83)","v":0},{"$f":"COUNTIF('S45'!$D$20:$L$20,$C83)","v":0},{"$f":"COUNTIF('S46'!$D$20:$L$20,$C83)","v":0},{"$f":"COUNTIF('S47'!$D$20:$L$20,$C83)","v":0},{"$f":"COUNTIF('S48'!$D$20:$L$20,$C83)","v":0},{"$f":"COUNTIF('S49'!$D$20:$L$20,$C83)","v":0},{"$f":"COUNTIF('S50'!$D$20:$L$20,$C83)","v":0},{"$f":"COUNTIF('S51'!$D$20:$L$20,$C83)","v":0},{"$f":"COUNTIF('S52'!$D$20:$L$20,$C83)","v":0}]
[null,null,"CHRISTEL L","URGENCE SAO",{"$f":"COUNTIF('S1'!$D$20:$L$20,$C84)","v":0},{"$f":"COUNTIF('S2'!$D$20:$L$20,$C84)","v":0},{"$f":"COUNTIF('S3'!$D$20:$L$20,$C84)","v":0},{"$f":"COUNTIF('S4'!$D$20:$L$20,$C84)","v":0},{"$f":"COUNTIF('S5'!$D$20:$L$20,$C84)","v":0},{"$f":"COUNTIF('S6'!$D$20:$L$20,$C84)","v":0},{"$f":"COUNTIF('S7'!$D$20:$L$20,$C84)","v":0},{"$f":"COUNTIF('S8'!$D$20:$L$20,$C84)","v":0},{"$f":"COUNTIF('S9'!$D$20:$L$20,$C84)","v":0},{"$f":"COUNTIF('S10'!$D$20:$L$20,$C84)","v":0},{"$f":"COUNTIF('S11'!$D$20:$L$20,$C84)","v":0},{"$f":"COUNTIF('S12'!$D$20:$L$20,$C84)","v":0},{"$f":"COUNTIF('S13'!$D$20:$L$20,$C84)","v":0},{"$f":"COUNTIF('S14'!$D$20:$L$20,$C84)","v":0},{"$f":"COUNTIF('S15'!$D$20:$L$20,$C84)","v":0},{"$f":"COUNTIF('S16'!$D$20:$L$20,$C84)","v":0},{"$f":"COUNTIF('S17'!$D$20:$L$20,$C84)","v":0},{"$f":"COUNTIF('S18'!$D$20:$L$20,$C84)","v":0},{"$f":"COUNTIF('S19'!$D$20:$L$20,$C84)","v":0},{"$f":"COUNTIF('S20'!$D$20:$L$20,$C84)","v":0},{"$f":"COUNTIF('S21'!$D$20:$L$20,$C84)","v":0},{"$f":"COUNTIF('S22'!$D$20:$L$20,$C84)","v":0},{"$f":"COUNTIF('S23'!$D$20:$L$20,$C84)","v":0},{"$f":"COUNTIF('S24'!$D$20:$L$20,$C84)","v":0},{"$f":"COUNTIF('S25'!$D$20:$L$20,$C84)","v":0},{"$f":"COUNTIF('S26'!$D$20:$L$20,$C84)","v":0},{"$f":"COUNTIF('S27'!$D$20:$L$20,$C84)","v":0},{"$f":"COUNTIF('S28'!$D$20:$L$20,$C84)","v":0},{"$f":"COUNTIF('S29'!$D$20:$L$20,$C84)","v":0},{"$f":"COUNTIF('S30'!$D$20:$L$20,$C84)","v":0},{"$f":"COUNTIF('S31'!$D$20:$L$20,$C84)","v":0},{"$f":"COUNTIF('S32'!$D$20:$L$20,$C84)","v":0},{"$f":"COUNTIF('S33'!$D$20:$L$20,$C84)","v":0},{"$f":"COUNTIF('S34'!$D$20:$L$20,$C84)","v":0},{"$f":"COUNTIF('S35'!$D$20:$L$20,$C84)","v":0},{"$f":"COUNTIF('S36'!$D$20:$L$20,$C84)","v":0},{"$f":"COUNTIF('S37'!$D$20:$L$20,$C84)","v":0},{"$f":"COUNTIF('S38'!$D$20:$L$20,$C84)","v":0},{"$f":"COUNTIF('S39'!$D$20:$L$20,$C84)","v":0},{"$f":"COUNTIF('S40'!$D$20:$L$20,$C84)","v":0},{"$f":"COUNTIF('S41'!$D$20:$L$20,$C84)","v":0},{"$f":"COUNTIF('S42'!$D$20:$L$20,$C84)","v":0},{"$f":"COUNTIF('S43'!$D$20:$L$20,$C84)","v":0},{"$f":"COUNTIF('S44'!$D$20:$L$20,$C84)","v":0},{"$f":"COUNTIF('S45'!$D$20:$L$20,$C84)","v":0},{"$f":"COUNTIF('S46'!$D$20:$L$20,$C84)","v":0},{"$f":"COUNTIF('S47'!$D$20:$L$20,$C84)","v":0},{"$f":"COUNTIF('S48'!$D$20:$L$20,$C84)","v":0},{"$f":"COUNTIF('S49'!$D$20:$L$20,$C84)","v":0},{"$f":"COUNTIF('S50'!$D$20:$L$20,$C84)","v":0},{"$f":"COUNTIF('S51'!$D$20:$L$20,$C84)","v":0},{"$f":"COUNTIF('S52'!$D$20:$L$20,$C84)","v":0}]
[null,null,"CAMILLE MD","URGENCE SAO",{"$f":"COUNTIF('S1'!$D$20:$L$20,$C85)","v":0},{"$f":"COUNTIF('S2'!$D$20:$L$20,$C85)","v":0},{"$f":"COUNTIF('S3'!$D$20:$L$20,$C85)","v":0},{"$f":"COUNTIF('S4'!$D$20:$L$20,$C85)","v":0},{"$f":"COUNTIF('S5'!$D$20:$L$20,$C85)","v":0},{"$f":"COUNTIF('S6'!$D$20:$L$20,$C85)","v":0},{"$f":"COUNTIF('S7'!$D$20:$L$20,$C85)","v":0},{"$f":"COUNTIF('S8'!$D$20:$L$20,$C85)","v":0},{"$f":"COUNTIF('S9'!$D$20:$L$20,$C85)","v":0},{"$f":"COUNTIF('S10'!$D$20:$L$20,$C85)","v":0},{"$f":"COUNTIF('S11'!$D$20:$L$20,$C85)","v":0},{"$f":"COUNTIF('S12'!$D$20:$L$20,$C85)","v":0},{"$f":"COUNTIF('S13'!$D$20:$L$20,$C85)","v":0},{"$f":"COUNTIF('S14'!$D$20:$L$20,$C85)","v":0},{"$f":"COUNTIF('S15'!$D$20:$L$20,$C85)","v":0},{"$f":"COUNTIF('S16'!$D$20:$L$20,$C85)","v":0},{"$f":"COUNTIF('S17'!$D$20:$L$20,$C85)","v":0},{"$f":"COUNTIF('S18'!$D$20:$L$20,$C85)","v":0},{"$f":"COUNTIF('S19'!$D$20:$L$20,$C85)","v":0},{"$f":"COUNTIF('S20'!$D$20:$L$20,$C85)","v":0},{"$f":"COUNTIF('S21'!$D$20:$L$20,$C85)","v":0},{"$f":"COUNTIF('S22'!$D$20:$L$20,$C85)","v":0},{"$f":"COUNTIF('S23'!$D$20:$L$20,$C85)","v":0},{"$f":"COUNTIF('S24'!$D$20:$L$20,$C85)","v":0},{"$f":"COUNTIF('S25'!$D$20:$L$20,$C85)","v":0},{"$f":"COUNTIF('S26'!$D$20:$L$20,$C85)","v":0},{"$f":"COUNTIF('S27'!$D$20:$L$20,$C85)","v":0},{"$f":"COUNTIF('S28'!$D$20:$L$20,$C85)","v":0},{"$f":"COUNTIF('S29'!$D$20:$L$20,$C85)","v":0},{"$f":"COUNTIF('S30'!$D$20:$L$20,$C85)","v":0},{"$f":"COUNTIF('S31'!$D$20:$L$20,$C85)","v":0},{"$f":"COUNTIF('S32'!$D$20:$L$20,$C85)","v":0},{"$f":"COUNTIF('S33'!$D$20:$L$20,$C85)","v":0},{"$f":"COUNTIF('S34'!$D$20:$L$20,$C85)","v":0},{"$f":"COUNTIF('S35'!$D$20:$L$20,$C85)","v":0},{"$f":"COUNTIF('S36'!$D$20:$L$20,$C85)","v":0},{"$f":"COUNTIF('S37'!$D$20:$L$20,$C85)","v":0},{"$f":"COUNTIF('S38'!$D$20:$L$20,$C85)","v":0},{"$f":"COUNTIF('S39'!$D$20:$L$20,$C85)","v":0},{"$f":"COUNTIF('S40'!$D$20:$L$20,$C85)","v":0},{"$f":"COUNTIF('S41'!$D$20:$L$20,$C85)","v":0},{"$f":"COUNTIF('S42'!$D$20:$L$20,$C85)","v":0},{"$f":"COUNTIF('S43'!$D$20:$L$20,$C85)","v":0},{"$f":"COUNTIF('S44'!$D$20:$L$20,$C85)","v":0},{"$f":"COUNTIF('S45'!$D$20:$L$20,$C85)","v":0},{"$f":"COUNTIF('S46'!$D$20:$L$20,$C85)","v":0},{"$f":"COUNTIF('S47'!$D$20:$L$20,$C85)","v":0},{"$f":"COUNTIF('S48'!$D$20:$L$20,$C85)","v":0},{"$f":"COUNTIF('S49'!$D$20:$L$20,$C85)","v":0},{"$f":"COUNTIF('S50'!$D$20:$L$20,$C85)","v":0},{"$f":"COUNTIF('S51'!$D$20:$L$20,$C85)","v":0},{"$f":"COUNTIF('S52'!$D$20:$L$20,$C85)","v":0}]
[null,null,null,"URGENCE SAO",{"$f":"COUNTIF('S1'!$D$20:$L$20,$C86)","v":0},{"$f":"COUNTIF('S2'!$D$20:$L$20,$C86)","v":0},{"$f":"COUNTIF('S3'!$D$20:$L$20,$C86)","v":0},{"$f":"COUNTIF('S4'!$D$20:$L$20,$C86)","v":0},{"$f":"COUNTIF('S5'!$D$20:$L$20,$C86)","v":0},{"$f":"COUNTIF('S6'!$D$20:$L$20,$C86)","v":0},{"$f":"COUNTIF('S7'!$D$20:$L$20,$C86)","v":0},{"$f":"COUNTIF('S8'!$D$20:$L$20,$C86)","v":0},{"$f":"COUNTIF('S9'!$D$20:$L$20,$C86)","v":0},{"$f":"COUNTIF('S10'!$D$20:$L$20,$C86)","v":0},{"$f":"COUNTIF('S11'!$D$20:$L$20,$C86)","v":0},{"$f":"COUNTIF('S12'!$D$20:$L$20,$C86)","v":0},{"$f":"COUNTIF('S13'!$D$20:$L$20,$C86)","v":0},{"$f":"COUNTIF('S14'!$D$20:$L$20,$C86)","v":0},{"$f":"COUNTIF('S15'!$D$20:$L$20,$C86)","v":0},{"$f":"COUNTIF('S16'!$D$20:$L$20,$C86)","v":0},{"$f":"COUNTIF('S17'!$D$20:$L$20,$C86)","v":0},{"$f":"COUNTIF('S18'!$D$20:$L$20,$C86)","v":0},{"$f":"COUNTIF('S19'!$D$20:$L$20,$C86)","v":0},{"$f":"COUNTIF('S20'!$D$20:$L$20,$C86)","v":0},{"$f":"COUNTIF('S21'!$D$20:$L$20,$C86)","v":0},{"$f":"COUNTIF('S22'!$D$20:$L$20,$C86)","v":0},{"$f":"COUNTIF('S23'!$D$20:$L$20,$C86)","v":0},{"$f":"COUNTIF('S24'!$D$20:$L$20,$C86)","v":0},{"$f":"COUNTIF('S25'!$D$20:$L$20,$C86)","v":0},{"$f":"COUNTIF('S26'!$D$20:$L$20,$C86)","v":0},{"$f":"COUNTIF('S27'!$D$20:$L$20,$C86)","v":0},{"$f":"COUNTIF('S28'!$D$20:$L$20,$C86)","v":0},{"$f":"COUNTIF('S29'!$D$20:$L$20,$C86)","v":0},{"$f":"COUNTIF('S30'!$D$20:$L$20,$C86)","v":0},{"$f":"COUNTIF('S31'!$D$20:$L$20,$C86)","v":0},{"$f":"COUNTIF('S32'!$D$20:$L$20,$C86)","v":0},{"$f":"COUNTIF('S33'!$D$20:$L$20,$C86)","v":0},{"$f":"COUNTIF('S34'!$D$20:$L$20,$C86)","v":0},{"$f":"COUNTIF('S35'!$D$20:$L$20,$C86)","v":0},{"$f":"COUNTIF('S36'!$D$20:$L$20,$C86)","v":0},{"$f":"COUNTIF('S37'!$D$20:$L$20,$C86)","v":0},{"$f":"COUNTIF('S38'!$D$20:$L$20,$C86)","v":0},{"$f":"COUNTIF('S39'!$D$20:$L$20,$C86)","v":0},{"$f":"COUNTIF('S40'!$D$20:$L$20,$C86)","v":0},{"$f":"COUNTIF('S41'!$D$20:$L$20,$C86)","v":0},{"$f":"COUNTIF('S42'!$D$20:$L$20,$C86)","v":0},{"$f":"COUNTIF('S43'!$D$20:$L$20,$C86)","v":0},{"$f":"COUNTIF('S44'!$D$20:$L$20,$C86)","v":0},{"$f":"COUNTIF('S45'!$D$20:$L$20,$C86)","v":0},{"$f":"COUNTIF('S46'!$D$20:$L$20,$C86)","v":0},{"$f":"COUNTIF('S47'!$D$20:$L$20,$C86)","v":0},{"$f":"COUNTIF('S48'!$D$20:$L$20,$C86)","v":0},{"$f":"COUNTIF('S49'!$D$20:$L$20,$C86)","v":0},{"$f":"COUNTIF('S50'!$D$20:$L$20,$C86)","v":0},{"$f":"COUNTIF('S51'!$D$20:$L$20,$C86)","v":0},{"$f":"COUNTIF('S52'!$D$20:$L$20,$C86)","v":0}]
[null,null,null,"URGENCE SAO",{"$f":"COUNTIF('S1'!$D$20:$L$20,$C87)","v":0},{"$f":"COUNTIF('S2'!$D$20:$L$20,$C87)","v":0},{"$f":"COUNTIF('S3'!$D$20:$L$20,$C87)","v":0},{"$f":"COUNTIF('S4'!$D$20:$L$20,$C87)","v":0},{"$f":"COUNTIF('S5'!$D$20:$L$20,$C87)","v":0},{"$f":"COUNTIF('S6'!$D$20:$L$20,$C87)","v":0},{"$f":"COUNTIF('S7'!$D$20:$L$20,$C87)","v":0},{"$f":"COUNTIF('S8'!$D$20:$L$20,$C87)","v":0},{"$f":"COUNTIF('S9'!$D$20:$L$20,$C87)","v":0},{"$f":"COUNTIF('S10'!$D$20:$L$20,$C87)","v":0},{"$f":"COUNTIF('S11'!$D$20:$L$20,$C87)","v":0},{"$f":"COUNTIF('S12'!$D$20:$L$20,$C87)","v":0},{"$f":"COUNTIF('S13'!$D$20:$L$20,$C87)","v":0},{"$f":"COUNTIF('S14'!$D$20:$L$20,$C87)","v":0},{"$f":"COUNTIF('S15'!$D$20:$L$20,$C87)","v":0},{"$f":"COUNTIF('S16'!$D$20:$L$20,$C87)","v":0},{"$f":"COUNTIF('S17'!$D$20:$L$20,$C87)","v":0},{"$f":"COUNTIF('S18'!$D$20:$L$20,$C87)","v":0},{"$f":"COUNTIF('S19'!$D$20:$L$20,$C87)","v":0},{"$f":"COUNTIF('S20'!$D$20:$L$20,$C87)","v":0},{"$f":"COUNTIF('S21'!$D$20:$L$20,$C87)","v":0},{"$f":"COUNTIF('S22'!$D$20:$L$20,$C87)","v":0},{"$f":"COUNTIF('S23'!$D$20:$L$20,$C87)","v":0},{"$f":"COUNTIF('S24'!$D$20:$L$20,$C87)","v":0},{"$f":"COUNTIF('S25'!$D$20:$L$20,$C87)","v":0},{"$f":"COUNTIF('S26'!$D$20:$L$20,$C87)","v":0},{"$f":"COUNTIF('S27'!$D$20:$L$20,$C87)","v":0},{"$f":"COUNTIF('S28'!$D$20:$L$20,$C87)","v":0},{"$f":"COUNTIF('S29'!$D$20:$L$20,$C87)","v":0},{"$f":"COUNTIF('S30'!$D$20:$L$20,$C87)","v":0},{"$f":"COUNTIF('S31'!$D$20:$L$20,$C87)","v":0},{"$f":"COUNTIF('S32'!$D$20:$L$20,$C87)","v":0},{"$f":"COUNTIF('S33'!$D$20:$L$20,$C87)","v":0},{"$f":"COUNTIF('S34'!$D$20:$L$20,$C87)","v":0},{"$f":"COUNTIF('S35'!$D$20:$L$20,$C87)","v":0},{"$f":"COUNTIF('S36'!$D$20:$L$20,$C87)","v":0},{"$f":"COUNTIF('S37'!$D$20:$L$20,$C87)","v":0},{"$f":"COUNTIF('S38'!$D$20:$L$20,$C87)","v":0},{"$f":"COUNTIF('S39'!$D$20:$L$20,$C87)","v":0},{"$f":"COUNTIF('S40'!$D$20:$L$20,$C87)","v":0},{"$f":"COUNTIF('S41'!$D$20:$L$20,$C87)","v":0},{"$f":"COUNTIF('S42'!$D$20:$L$20,$C87)","v":0},{"$f":"COUNTIF('S43'!$D$20:$L$20,$C87)","v":0},{"$f":"COUNTIF('S44'!$D$20:$L$20,$C87)","v":0},{"$f":"COUNTIF('S45'!$D$20:$L$20,$C87)","v":0},{"$f":"COUNTIF('S46'!$D$20:$L$20,$C87)","v":0},{"$f":"COUNTIF('S47'!$D$20:$L$20,$C87)","v":0},{"$f":"COUNTIF('S48'!$D$20:$L$20,$C87)","v":0},{"$f":"COUNTIF('S49'!$D$20:$L$20,$C87)","v":0},{"$f":"COUNTIF('S50'!$D$20:$L$20,$C87)","v":0},{"$f":"COUNTIF('S51'!$D$20:$L$20,$C87)","v":0},{"$f":"COUNTIF('S52'!$D$20:$L$20,$C87)","v":0}]
[]
[]
["HORS ACCUEIL",null,null,"FILE","S1","S2","S3","S4","S5","S6","S7","S8","S9","S10","S111","S122","S133","S144","S155","S166","S177","S188","S199","S20","S21","S22","S23","S24","S25","S26","S27","S28","S29","S30","S31","S32","S33","S34","S35","S36","S37","S38","S39","S40","S41","S42","S43","S44","S45","S46","S47","S48","S49","S50","S51","S52"]
["TS","OCCURRENCES \nREALISE","GAETAN C",{"$f":"$A$90","v":"HORS ACCUEIL"},{"$f":"COUNTIF('S1'!$D$11:$L$11,$C91)","v":1},{"$f":"COUNTIF('S2'!$D$11:$L$11,$C91)","v":0},{"$f":"COUNTIF('S3'!$D$11:$L$11,$C91)","v":0},{"$f":"COUNTIF('S4'!$D$11:$L$11,$C91)","v":0},{"$f":"COUNTIF('S5'!$D$11:$L$11,$C91)","v":0},{"$f":"COUNTIF('S6'!$D$11:$L$11,$C91)","v":0},{"$f":"COUNTIF('S7'!$D$11:$L$11,$C91)","v":0},{"$f":"COUNTIF('S8'!$D$11:$L$11,$C91)","v":0},{"$f":"COUNTIF('S9'!$D$11:$L$11,$C91)","v":0},{"$f":"COUNTIF('S10'!$D$11:$L$11,$C91)","v":0},{"$f":"COUNTIF('S11'!$D$11:$L$11,$C91)","v":0},{"$f":"COUNTIF('S12'!$D$11:$L$11,$C91)","v":0},{"$f":"COUNTIF('S13'!$D$11:$L$11,$C91)","v":0},{"$f":"COUNTIF('S14'!$D$11:$L$11,$C91)","v":0},{"$f":"COUNTIF('S15'!$D$11:$L$11,$C91)","v":0},{"$f":"COUNTIF('S16'!$D$11:$L$11,$C91)","v":0},{"$f":"COUNTIF('S17'!$D$11:$L$11,$C91)","v":0},{"$f":"COUNTIF('S18'!$D$11:$L$11,$C91)","v":0},{"$f":"COUNTIF('S19'!$D$11:$L$11,$C91)","v":0},{"$f":"COUNTIF('S20'!$D$11:$L$11,$C91)","v":0},{"$f":"COUNTIF('S21'!$D$11:$L$11,$C91)","v":0},{"$f":"COUNTIF('S22'!$D$11:$L$11,$C91)","v":0},{"$f":"COUNTIF('S23'!$D$11:$L$11,$C91)","v":0},{"$f":"COUNTIF('S24'!$D$11:$L$11,$C91)","v":0},{"$f":"COUNTIF('S25'!$D$11:$L$11,$C91)","v":0},{"$f":"COUNTIF('S26'!$D$11:$L$11,$C91)","v":0},{"$f":"COUNTIF('S27'!$D$11:$L$11,$C91)","v":0},{"$f":"COUNTIF('S28'!$D$11:$L$11,$C91)","v":0},{"$f":"COUNTIF('S29'!$D$11:$L$11,$C91)","v":0},{"$f":"COUNTIF('S30'!$D$11:$L$11,$C91)","v":0},{"$f":"COUNTIF('S31'!$D$11:$L$11,$C91)","v":0},{"$f":"COUNTIF('S32'!$D$11:$L$11,$C91)","v":0},{"$f":"COUNTIF('S33'!$D$11:$L$11,$C91)","v":0},{"$f":"COUNTIF('S34'!$D$11:$L$11,$C91)","v":0},{"$f":"COUNTIF('S35'!$D$11:$L$11,$C91)","v":0},{"$f":"COUNTIF('S36'!$D$11:$L$11,$C91)","v":0},{"$f":"COUNTIF('S37'!$D$11:$L$11,$C91)","v":0},{"$f":"COUNTIF('S38'!$D$11:$L$11,$C91)","v":0},{"$f":"COUNTIF('S39'!$D$11:$L$11,$C91)","v":0},{"$f":"COUNTIF('S40'!$D$11:$L$11,$C91)","v":0},{"$f":"COUNTIF('S41'!$D$11:$L$11,$C91)","v":0},{"$f":"COUNTIF('S42'!$D$11:$L$11,$C91)","v":0},{"$f":"COUNTIF('S43'!$D$11:$L$11,$C91)","v":0},{"$f":"COUNTIF('S44'!$D$11:$L$11,$C91)","v":0},{"$f":"COUNTIF('S45'!$D$11:$L$11,$C91)","v":0},{"$f":"COUNTIF('S46'!$D$11:$L$11,$C91)","v":0},{"$f":"COUNTIF('S47'!$D$11:$L$11,$C91)","v":0},{"$f":"COUNTIF('S48'!$D$11:$L$11,$C91)","v":0},{"$f":"COUNTIF('S49'!$D$11:$L$11,$C91)","v":0},{"$f":"COUNTIF('S50'!$D$11:$L$11,$C91)","v":0},{"$f":"COUNTIF('S51'!$D$11:$L$11,$C91)","v":0},{"$f":"COUNTIF('S52'!$D$11:$L$11,$C91)","v":0}]
[null,null,"MARIANNE T",{"$f":"$A$90","v":"HORS ACCUEIL"},{"$f":"COUNTIF('S1'!$D$11:$L$11,$C92)","v":0},{"$f":"COUNTIF('S2'!$D$11:$L$11,$C92)","v":0},{"$f":"COUNTIF('S3'!$D$11:$L$11,$C92)","v":0},{"$f":"COUNTIF('S4'!$D$11:$L$11,$C92)","v":0},{"$f":"COUNTIF('S5'!$D$11:$L$11,$C92)","v":0},{"$f":"COUNTIF('S6'!$D$11:$L$11,$C92)","v":0},{"$f":"COUNTIF('S7'!$D$11:$L$11,$C92)","v":0},{"$f":"COUNTIF('S8'!$D$11:$L$11,$C92)","v":0},{"$f":"COUNTIF('S9'!$D$11:$L$11,$C92)","v":0},{"$f":"COUNTIF('S10'!$D$11:$L$11,$C92)","v":0},{"$f":"COUNTIF('S11'!$D$11:$L$11,$C92)","v":0},{"$f":"COUNTIF('S12'!$D$11:$L$11,$C92)","v":0},{"$f":"COUNTIF('S13'!$D$11:$L$11,$C92)","v":0},{"$f":"COUNTIF('S14'!$D$11:$L$11,$C92)","v":0},{"$f":"COUNTIF('S15'!$D$11:$L$11,$C92)","v":0},{"$f":"COUNTIF('S16'!$D$11:$L$11,$C92)","v":0},{"$f":"COUNTIF('S17'!$D$11:$L$11,$C92)","v":0},{"$f":"COUNTIF('S18'!$D$11:$L$11,$C92)","v":0},{"$f":"COUNTIF('S19'!$D$11:$L$11,$C92)","v":0},{"$f":"COUNTIF('S20'!$D$11:$L$11,$C92)","v":0},{"$f":"COUNTIF('S21'!$D$11:$L$11,$C92)","v":0},{"$f":"COUNTIF('S22'!$D$11:$L$11,$C92)","v":0},{"$f":"COUNTIF('S23'!$D$11:$L$11,$C92)","v":0},{"$f":"COUNTIF('S24'!$D$11:$L$11,$C92)","v":0},{"$f":"COUNTIF('S25'!$D$11:$L$11,$C92)","v":0},{"$f":"COUNTIF('S26'!$D$11:$L$11,$C92)","v":0},{"$f":"COUNTIF('S27'!$D$11:$L$11,$C92)","v":0},{"$f":"COUNTIF('S28'!$D$11:$L$11,$C92)","v":0},{"$f":"COUNTIF('S29'!$D$11:$L$11,$C92)","v":0},{"$f":"COUNTIF('S30'!$D$11:$L$11,$C92)","v":0},{"$f":"COUNTIF('S31'!$D$11:$L$11,$C92)","v":0},{"$f":"COUNTIF('S32'!$D$11:$L$11,$C92)","v":0},{"$f":"COUNTIF('S33'!$D$11:$L$11,$C92)","v":0},{"$f":"COUNTIF('S34'!$D$11:$L$11,$C92)","v":0},{"$f":"COUNTIF('S35'!$D$11:$L$11,$C92)","v":0},{"$f":"COUNTIF('S36'!$D$11:$L$11,$C92)","v":0},{"$f":"COUNTIF('S37'!$D$11:$L$11,$C92)","v":0},{"$f":"COUNTIF('S38'!$D$11:$L$11,$C92)","v":0},{"$f":"COUNTIF('S39'!$D$11:$L$11,$C92)","v":0},{"$f":"COUNTIF('S40'!$D$11:$L$11,$C92)","v":0},{"$f":"COUNTIF('S41'!$D$11:$L$11,$C92)","v":0},{"$f":"COUNTIF('S42'!$D$11:$L$11,$C92)","v":0},{"$f":"COUNTIF('S43'!$D$11:$L$11,$C92)","v":0},{"$f":"COUNTIF('S44'!$D$11:$L$11,$C92)","v":0},{"$f":"COUNTIF('S45'!$D$11:$L$11,$C92)","v":0},{"$f":"COUNTIF('S46'!$D$11:$L$11,$C92)","v":0},{"$f":"COUNTIF('S47'!$D$11:$L$11,$C92)","v":0},{"$f":"COUNTIF('S48'!$D$11:$L$11,$C92)","v":0},{"$f":"COUNTIF('S49'!$D$11:$L$11,$C92)","v":0},{"$f":"COUNTIF('S50'!$D$11:$L$11,$C92)","v":0},{"$f":"COUNTIF('S51'!$D$11:$L$11,$C92)","v":0},{"$f":"COUNTIF('S52'!$D$11:$L$11,$C92)","v":0}]
[null,null,"SALIMA D","HORS ACCUEIL",{"$f":"COUNTIF('S1'!$D$11:$L$11,$C93)","v":0},{"$f":"COUNTIF('S2'!$D$11:$L$11,$C93)","v":0},{"$f":"COUNTIF('S3'!$D$11:$L$11,$C93)","v":0},{"$f":"COUNTIF('S4'!$D$11:$L$11,$C93)","v":0},{"$f":"COUNTIF('S5'!$D$11:$L$11,$C93)","v":0},{"$f":"COUNTIF('S6'!$D$11:$L$11,$C93)","v":0},{"$f":"COUNTIF('S7'!$D$11:$L$11,$C93)","v":0},{"$f":"COUNTIF('S8'!$D$11:$L$11,$C93)","v":0},{"$f":"COUNTIF('S9'!$D$11:$L$11,$C93)","v":0},{"$f":"COUNTIF('S10'!$D$11:$L$11,$C93)","v":0},{"$f":"COUNTIF('S11'!$D$11:$L$11,$C93)","v":0},{"$f":"COUNTIF('S12'!$D$11:$L$11,$C93)","v":0},{"$f":"COUNTIF('S13'!$D$11:$L$11,$C93)","v":0},{"$f":"COUNTIF('S14'!$D$11:$L$11,$C93)","v":0},{"$f":"COUNTIF('S15'!$D$11:$L$11,$C93)","v":0},{"$f":"COUNTIF('S16'!$D$11:$L$11,$C93)","v":0},{"$f":"COUNTIF('S17'!$D$11:$L$11,$C93)","v":0},{"$f":"COUNTIF('S18'!$D$11:$L$11,$C93)","v":0},{"$f":"COUNTIF('S19'!$D$11:$L$11,$C93)","v":0},{"$f":"COUNTIF('S20'!$D$11:$L$11,$C93)","v":0},{"$f":"COUNTIF('S21'!$D$11:$L$11,$C93)","v":0},{"$f":"COUNTIF('S22'!$D$11:$L$11,$C93)","v":0},{"$f":"COUNTIF('S23'!$D$11:$L$11,$C93)","v":0},{"$f":"COUNTIF('S24'!$D$11:$L$11,$C93)","v":0},{"$f":"COUNTIF('S25'!$D$11:$L$11,$C93)","v":0},{"$f":"COUNTIF('S26'!$D$11:$L$11,$C93)","v":0},{"$f":"COUNTIF('S27'!$D$11:$L$11,$C93)","v":0},{"$f":"COUNTIF('S28'!$D$11:$L$11,$C93)","v":0},{"$f":"COUNTIF('S29'!$D$11:$L$11,$C93)","v":0},{"$f":"COUNTIF('S30'!$D$11:$L$11,$C93)","v":0},{"$f":"COUNTIF('S31'!$D$11:$L$11,$C93)","v":0},{"$f":"COUNTIF('S32'!$D$11:$L$11,$C93)","v":0},{"$f":"COUNTIF('S33'!$D$11:$L$11,$C93)","v":0},{"$f":"COUNTIF('S34'!$D$11:$L$11,$C93)","v":0},{"$f":"COUNTIF('S35'!$D$11:$L$11,$C93)","v":0},{"$f":"COUNTIF('S36'!$D$11:$L$11,$C93)","v":0},{"$f":"COUNTIF('S37'!$D$11:$L$11,$C93)","v":0},{"$f":"COUNTIF('S38'!$D$11:$L$11,$C93)","v":0},{"$f":"COUNTIF('S39'!$D$11:$L$11,$C93)","v":0},{"$f":"COUNTIF('S40'!$D$11:$L$11,$C93)","v":0},{"$f":"COUNTIF('S41'!$D$11:$L$11,$C93)","v":0},{"$f":"COUNTIF('S42'!$D$11:$L$11,$C93)","v":0},{"$f":"COUNTIF('S43'!$D$11:$L$11,$C93)","v":0},{"$f":"COUNTIF('S44'!$D$11:$L$11,$C93)","v":0},{"$f":"COUNTIF('S45'!$D$11:$L$11,$C93)","v":0},{"$f":"COUNTIF('S46'!$D$11:$L$11,$C93)","v":0},{"$f":"COUNTIF('S47'!$D$11:$L$11,$C93)","v":0},{"$f":"COUNTIF('S48'!$D$11:$L$11,$C93)","v":0},{"$f":"COUNTIF('S49'!$D$11:$L$11,$C93)","v":0},{"$f":"COUNTIF('S50'!$D$11:$L$11,$C93)","v":0},{"$f":"COUNTIF('S51'!$D$11:$L$11,$C93)","v":0},{"$f":"COUNTIF('S52'!$D$11:$L$11,$C93)","v":0}]
[null,null,"EMILIE B","HORS ACCUEIL",{"$f":"COUNTIF('S1'!$D$11:$L$11,$C94)","v":0},{"$f":"COUNTIF('S2'!$D$11:$L$11,$C94)","v":0},{"$f":"COUNTIF('S3'!$D$11:$L$11,$C94)","v":0},{"$f":"COUNTIF('S4'!$D$11:$L$11,$C94)","v":0},{"$f":"COUNTIF('S5'!$D$11:$L$11,$C94)","v":0},{"$f":"COUNTIF('S6'!$D$11:$L$11,$C94)","v":0},{"$f":"COUNTIF('S7'!$D$11:$L$11,$C94)","v":0},{"$f":"COUNTIF('S8'!$D$11:$L$11,$C94)","v":0},{"$f":"COUNTIF('S9'!$D$11:$L$11,$C94)","v":0},{"$f":"COUNTIF('S10'!$D$11:$L$11,$C94)","v":0},{"$f":"COUNTIF('S11'!$D$11:$L$11,$C94)","v":0},{"$f":"COUNTIF('S12'!$D$11:$L$11,$C94)","v":0},{"$f":"COUNTIF('S13'!$D$11:$L$11,$C94)","v":0},{"$f":"COUNTIF('S14'!$D$11:$L$11,$C94)","v":0},{"$f":"COUNTIF('S15'!$D$11:$L$11,$C94)","v":0},{"$f":"COUNTIF('S16'!$D$11:$L$11,$C94)","v":0},{"$f":"COUNTIF('S17'!$D$11:$L$11,$C94)","v":0},{"$f":"COUNTIF('S18'!$D$11:$L$11,$C94)","v":0},{"$f":"COUNTIF('S19'!$D$11:$L$11,$C94)","v":0},{"$f":"COUNTIF('S20'!$D$11:$L$11,$C94)","v":0},{"$f":"COUNTIF('S21'!$D$11:$L$11,$C94)","v":0},{"$f":"COUNTIF('S22'!$D$11:$L$11,$C94)","v":0},{"$f":"COUNTIF('S23'!$D$11:$L$11,$C94)","v":0},{"$f":"COUNTIF('S24'!$D$11:$L$11,$C94)","v":0},{"$f":"COUNTIF('S25'!$D$11:$L$11,$C94)","v":0},{"$f":"COUNTIF('S26'!$D$11:$L$11,$C94)","v":0},{"$f":"COUNTIF('S27'!$D$11:$L$11,$C94)","v":0},{"$f":"COUNTIF('S28'!$D$11:$L$11,$C94)","v":0},{"$f":"COUNTIF('S29'!$D$11:$L$11,$C94)","v":0},{"$f":"COUNTIF('S30'!$D$11:$L$11,$C94)","v":0},{"$f":"COUNTIF('S31'!$D$11:$L$11,$C94)","v":0},{"$f":"COUNTIF('S32'!$D$11:$L$11,$C94)","v":0},{"$f":"COUNTIF('S33'!$D$11:$L$11,$C94)","v":0},{"$f":"COUNTIF('S34'!$D$11:$L$11,$C94)","v":0},{"$f":"COUNTIF('S35'!$D$11:$L$11,$C94)","v":0},{"$f":"COUNTIF('S36'!$D$11:$L$11,$C94)","v":0},{"$f":"COUNTIF('S37'!$D$11:$L$11,$C94)","v":0},{"$f":"COUNTIF('S38'!$D$11:$L$11,$C94)","v":0},{"$f":"COUNTIF('S39'!$D$11:$L$11,$C94)","v":0},{"$f":"COUNTIF('S40'!$D$11:$L$11,$C94)","v":0},{"$f":"COUNTIF('S41'!$D$11:$L$11,$C94)","v":0},{"$f":"COUNTIF('S42'!$D$11:$L$11,$C94)","v":0},{"$f":"COUNTIF('S43'!$D$11:$L$11,$C94)","v":0},{"$f":"COUNTIF('S44'!$D$11:$L$11,$C94)","v":0},{"$f":"COUNTIF('S45'!$D$11:$L$11,$C94)","v":0},{"$f":"COUNTIF('S46'!$D$11:$L$11,$C94)","v":0},{"$f":"COUNTIF('S47'!$D$11:$L$11,$C94)","v":0},{"$f":"COUNTIF('S48'!$D$11:$L$11,$C94)","v":0},{"$f":"COUNTIF('S49'!$D$11:$L$11,$C94)","v":0},{"$f":"COUNTIF('S50'!$D$11:$L$11,$C94)","v":0},{"$f":"COUNTIF('S51'!$D$11:$L$11,$C94)","v":0},{"$f":"COUNTIF('S52'!$D$11:$L$11,$C94)","v":0}]
[null,null,"AUDREY L","HORS ACCUEIL",{"$f":"COUNTIF('S1'!$D$11:$L$11,$C95)","v":0},{"$f":"COUNTIF('S2'!$D$11:$L$11,$C95)","v":0},{"$f":"COUNTIF('S3'!$D$11:$L$11,$C95)","v":0},{"$f":"COUNTIF('S4'!$D$11:$L$11,$C95)","v":0},{"$f":"COUNTIF('S5'!$D$11:$L$11,$C95)","v":0},{"$f":"COUNTIF('S6'!$D$11:$L$11,$C95)","v":0},{"$f":"COUNTIF('S7'!$D$11:$L$11,$C95)","v":0},{"$f":"COUNTIF('S8'!$D$11:$L$11,$C95)","v":0},{"$f":"COUNTIF('S9'!$D$11:$L$11,$C95)","v":0},{"$f":"COUNTIF('S10'!$D$11:$L$11,$C95)","v":0},{"$f":"COUNTIF('S11'!$D$11:$L$11,$C95)","v":0},{"$f":"COUNTIF('S12'!$D$11:$L$11,$C95)","v":0},{"$f":"COUNTIF('S13'!$D$11:$L$11,$C95)","v":0},{"$f":"COUNTIF('S14'!$D$11:$L$11,$C95)","v":0},{"$f":"COUNTIF('S15'!$D$11:$L$11,$C95)","v":0},{"$f":"COUNTIF('S16'!$D$11:$L$11,$C95)","v":0},{"$f":"COUNTIF('S17'!$D$11:$L$11,$C95)","v":0},{"$f":"COUNTIF('S18'!$D$11:$L$11,$C95)","v":0},{"$f":"COUNTIF('S19'!$D$11:$L$11,$C95)","v":0},{"$f":"COUNTIF('S20'!$D$11:$L$11,$C95)","v":0},{"$f":"COUNTIF('S21'!$D$11:$L$11,$C95)","v":0},{"$f":"COUNTIF('S22'!$D$11:$L$11,$C95)","v":0},{"$f":"COUNTIF('S23'!$D$11:$L$11,$C95)","v":0},{"$f":"COUNTIF('S24'!$D$11:$L$11,$C95)","v":0},{"$f":"COUNTIF('S25'!$D$11:$L$11,$C95)","v":0},{"$f":"COUNTIF('S26'!$D$11:$L$11,$C95)","v":0},{"$f":"COUNTIF('S27'!$D$11:$L$11,$C95)","v":0},{"$f":"COUNTIF('S28'!$D$11:$L$11,$C95)","v":0},{"$f":"COUNTIF('S29'!$D$11:$L$11,$C95)","v":0},{"$f":"COUNTIF('S30'!$D$11:$L$11,$C95)","v":0},{"$f":"COUNTIF('S31'!$D$11:$L$11,$C95)","v":0},{"$f":"COUNTIF('S32'!$D$11:$L$11,$C95)","v":0},{"$f":"COUNTIF('S33'!$D$11:$L$11,$C95)","v":0},{"$f":"COUNTIF('S34'!$D$11:$L$11,$C95)","v":0},{"$f":"COUNTIF('S35'!$D$11:$L$11,$C95)","v":0},{"$f":"COUNTIF('S36'!$D$11:$L$11,$C95)","v":0},{"$f":"COUNTIF('S37'!$D$11:$L$11,$C95)","v":0},{"$f":"COUNTIF('S38'!$D$11:$L$11,$C95)","v":0},{"$f":"COUNTIF('S39'!$D$11:$L$11,$C95)","v":0},{"$f":"COUNTIF('S40'!$D$11:$L$11,$C95)","v":0},{"$f":"COUNTIF('S41'!$D$11:$L$11,$C95)","v":0},{"$f":"COUNTIF('S42'!$D$11:$L$11,$C95)","v":0},{"$f":"COUNTIF('S43'!$D$11:$L$11,$C95)","v":0},{"$f":"COUNTIF('S44'!$D$11:$L$11,$C95)","v":0},{"$f":"COUNTIF('S45'!$D$11:$L$11,$C95)","v":0},{"$f":"COUNTIF('S46'!$D$11:$L$11,$C95)","v":0},{"$f":"COUNTIF('S47'!$D$11:$L$11,$C95)","v":0},{"$f":"COUNTIF('S48'!$D$11:$L$11,$C95)","v":0},{"$f":"COUNTIF('S49'!$D$11:$L$11,$C95)","v":0},{"$f":"COUNTIF('S50'!$D$11:$L$11,$C95)","v":0},{"$f":"COUNTIF('S51'!$D$11:$L$11,$C95)","v":0},{"$f":"COUNTIF('S52'!$D$11:$L$11,$C95)","v":0}]
[null,null,"MATHIEU G","HORS ACCUEIL",{"$f":"COUNTIF('S1'!$D$11:$L$11,$C96)","v":0},{"$f":"COUNTIF('S2'!$D$11:$L$11,$C96)","v":0},{"$f":"COUNTIF('S3'!$D$11:$L$11,$C96)","v":0},{"$f":"COUNTIF('S4'!$D$11:$L$11,$C96)","v":0},{"$f":"COUNTIF('S5'!$D$11:$L$11,$C96)","v":0},{"$f":"COUNTIF('S6'!$D$11:$L$11,$C96)","v":0},{"$f":"COUNTIF('S7'!$D$11:$L$11,$C96)","v":0},{"$f":"COUNTIF('S8'!$D$11:$L$11,$C96)","v":0},{"$f":"COUNTIF('S9'!$D$11:$L$11,$C96)","v":0},{"$f":"COUNTIF('S10'!$D$11:$L$11,$C96)","v":0},{"$f":"COUNTIF('S11'!$D$11:$L$11,$C96)","v":0},{"$f":"COUNTIF('S12'!$D$11:$L$11,$C96)","v":0},{"$f":"COUNTIF('S13'!$D$11:$L$11,$C96)","v":0},{"$f":"COUNTIF('S14'!$D$11:$L$11,$C96)","v":0},{"$f":"COUNTIF('S15'!$D$11:$L$11,$C96)","v":0},{"$f":"COUNTIF('S16'!$D$11:$L$11,$C96)","v":0},{"$f":"COUNTIF('S17'!$D$11:$L$11,$C96)","v":0},{"$f":"COUNTIF('S18'!$D$11:$L$11,$C96)","v":0},{"$f":"COUNTIF('S19'!$D$11:$L$11,$C96)","v":0},{"$f":"COUNTIF('S20'!$D$11:$L$11,$C96)","v":0},{"$f":"COUNTIF('S21'!$D$11:$L$11,$C96)","v":0},{"$f":"COUNTIF('S22'!$D$11:$L$11,$C96)","v":0},{"$f":"COUNTIF('S23'!$D$11:$L$11,$C96)","v":0},{"$f":"COUNTIF('S24'!$D$11:$L$11,$C96)","v":0},{"$f":"COUNTIF('S25'!$D$11:$L$11,$C96)","v":0},{"$f":"COUNTIF('S26'!$D$11:$L$11,$C96)","v":0},{"$f":"COUNTIF('S27'!$D$11:$L$11,$C96)","v":0},{"$f":"COUNTIF('S28'!$D$11:$L$11,$C96)","v":0},{"$f":"COUNTIF('S29'!$D$11:$L$11,$C96)","v":0},{"$f":"COUNTIF('S30'!$D$11:$L$11,$C96)","v":0},{"$f":"COUNTIF('S31'!$D$11:$L$11,$C96)","v":0},{"$f":"COUNTIF('S32'!$D$11:$L$11,$C96)","v":0},{"$f":"COUNTIF('S33'!$D$11:$L$11,$C96)","v":0},{"$f":"COUNTIF('S34'!$D$11:$L$11,$C96)","v":0},{"$f":"COUNTIF('S35'!$D$11:$L$11,$C96)","v":0},{"$f":"COUNTIF('S36'!$D$11:$L$11,$C96)","v":0},{"$f":"COUNTIF('S37'!$D$11:$L$11,$C96)","v":0},{"$f":"COUNTIF('S38'!$D$11:$L$11,$C96)","v":0},{"$f":"COUNTIF('S39'!$D$11:$L$11,$C96)","v":0},{"$f":"COUNTIF('S40'!$D$11:$L$11,$C96)","v":0},{"$f":"COUNTIF('S41'!$D$11:$L$11,$C96)","v":0},{"$f":"COUNTIF('S42'!$D$11:$L$11,$C96)","v":0},{"$f":"COUNTIF('S43'!$D$11:$L$11,$C96)","v":0},{"$f":"COUNTIF('S44'!$D$11:$L$11,$C96)","v":0},{"$f":"COUNTIF('S45'!$D$11:$L$11,$C96)","v":0},{"$f":"COUNTIF('S46'!$D$11:$L$11,$C96)","v":0},{"$f":"COUNTIF('S47'!$D$11:$L$11,$C96)","v":0},{"$f":"COUNTIF('S48'!$D$11:$L$11,$C96)","v":0},{"$f":"COUNTIF('S49'!$D$11:$L$11,$C96)","v":0},{"$f":"COUNTIF('S50'!$D$11:$L$11,$C96)","v":0},{"$f":"COUNTIF('S51'!$D$11:$L$11,$C96)","v":0},{"$f":"COUNTIF('S52'!$D$11:$L$11,$C96)","v":0}]
[null,null,"CHRISTEL L","HORS ACCUEIL",{"$f":"COUNTIF('S1'!$D$11:$L$11,$C97)","v":0},{"$f":"COUNTIF('S2'!$D$11:$L$11,$C97)","v":0},{"$f":"COUNTIF('S3'!$D$11:$L$11,$C97)","v":0},{"$f":"COUNTIF('S4'!$D$11:$L$11,$C97)","v":0},{"$f":"COUNTIF('S5'!$D$11:$L$11,$C97)","v":0},{"$f":"COUNTIF('S6'!$D$11:$L$11,$C97)","v":0},{"$f":"COUNTIF('S7'!$D$11:$L$11,$C97)","v":0},{"$f":"COUNTIF('S8'!$D$11:$L$11,$C97)","v":0},{"$f":"COUNTIF('S9'!$D$11:$L$11,$C97)","v":0},{"$f":"COUNTIF('S10'!$D$11:$L$11,$C97)","v":0},{"$f":"COUNTIF('S11'!$D$11:$L$11,$C97)","v":0},{"$f":"COUNTIF('S12'!$D$11:$L$11,$C97)","v":0},{"$f":"COUNTIF('S13'!$D$11:$L$11,$C97)","v":0},{"$f":"COUNTIF('S14'!$D$11:$L$11,$C97)","v":0},{"$f":"COUNTIF('S15'!$D$11:$L$11,$C97)","v":0},{"$f":"COUNTIF('S16'!$D$11:$L$11,$C97)","v":0},{"$f":"COUNTIF('S17'!$D$11:$L$11,$C97)","v":0},{"$f":"COUNTIF('S18'!$D$11:$L$11,$C97)","v":0},{"$f":"COUNTIF('S19'!$D$11:$L$11,$C97)","v":0},{"$f":"COUNTIF('S20'!$D$11:$L$11,$C97)","v":0},{"$f":"COUNTIF('S21'!$D$11:$L$11,$C97)","v":0},{"$f":"COUNTIF('S22'!$D$11:$L$11,$C97)","v":0},{"$f":"COUNTIF('S23'!$D$11:$L$11,$C97)","v":0},{"$f":"COUNTIF('S24'!$D$11:$L$11,$C97)","v":0},{"$f":"COUNTIF('S25'!$D$11:$L$11,$C97)","v":0},{"$f":"COUNTIF('S26'!$D$11:$L$11,$C97)","v":0},{"$f":"COUNTIF('S27'!$D$11:$L$11,$C97)","v":0},{"$f":"COUNTIF('S28'!$D$11:$L$11,$C97)","v":0},{"$f":"COUNTIF('S29'!$D$11:$L$11,$C97)","v":0},{"$f":"COUNTIF('S30'!$D$11:$L$11,$C97)","v":0},{"$f":"COUNTIF('S31'!$D$11:$L$11,$C97)","v":0},{"$f":"COUNTIF('S32'!$D$11:$L$11,$C97)","v":0},{"$f":"COUNTIF('S33'!$D$11:$L$11,$C97)","v":0},{"$f":"COUNTIF('S34'!$D$11:$L$11,$C97)","v":0},{"$f":"COUNTIF('S35'!$D$11:$L$11,$C97)","v":0},{"$f":"COUNTIF('S36'!$D$11:$L$11,$C97)","v":0},{"$f":"COUNTIF('S37'!$D$11:$L$11,$C97)","v":0},{"$f":"COUNTIF('S38'!$D$11:$L$11,$C97)","v":0},{"$f":"COUNTIF('S39'!$D$11:$L$11,$C97)","v":0},{"$f":"COUNTIF('S40'!$D$11:$L$11,$C97)","v":0},{"$f":"COUNTIF('S41'!$D$11:$L$11,$C97)","v":0},{"$f":"COUNTIF('S42'!$D$11:$L$11,$C97)","v":0},{"$f":"COUNTIF('S43'!$D$11:$L$11,$C97)","v":0},{"$f":"COUNTIF('S44'!$D$11:$L$11,$C97)","v":0},{"$f":"COUNTIF('S45'!$D$11:$L$11,$C97)","v":0},{"$f":"COUNTIF('S46'!$D$11:$L$11,$C97)","v":0},{"$f":"COUNTIF('S47'!$D$11:$L$11,$C97)","v":0},{"$f":"COUNTIF('S48'!$D$11:$L$11,$C97)","v":0},{"$f":"COUNTIF('S49'!$D$11:$L$11,$C97)","v":0},{"$f":"COUNTIF('S50'!$D$11:$L$11,$C97)","v":0},{"$f":"COUNTIF('S51'!$D$11:$L$11,$C97)","v":0},{"$f":"COUNTIF('S52'!$D$11:$L$11,$C97)","v":0}]
[null,null,"CAMILLE MD","HORS ACCUEIL",{"$f":"COUNTIF('S1'!$D$11:$L$11,$C98)","v":0},{"$f":"COUNTIF('S2'!$D$11:$L$11,$C98)","v":0},{"$f":"COUNTIF('S3'!$D$11:$L$11,$C98)","v":0},{"$f":"COUNTIF('S4'!$D$11:$L$11,$C98)","v":0},{"$f":"COUNTIF('S5'!$D$11:$L$11,$C98)","v":0},{"$f":"COUNTIF('S6'!$D$11:$L$11,$C98)","v":0},{"$f":"COUNTIF('S7'!$D$11:$L$11,$C98)","v":0},{"$f":"COUNTIF('S8'!$D$11:$L$11,$C98)","v":0},{"$f":"COUNTIF('S9'!$D$11:$L$11,$C98)","v":0},{"$f":"COUNTIF('S10'!$D$11:$L$11,$C98)","v":0},{"$f":"COUNTIF('S11'!$D$11:$L$11,$C98)","v":0},{"$f":"COUNTIF('S12'!$D$11:$L$11,$C98)","v":0},{"$f":"COUNTIF('S13'!$D$11:$L$11,$C98)","v":0},{"$f":"COUNTIF('S14'!$D$11:$L$11,$C98)","v":0},{"$f":"COUNTIF('S15'!$D$11:$L$11,$C98)","v":0},{"$f":"COUNTIF('S16'!$D$11:$L$11,$C98)","v":0},{"$f":"COUNTIF('S17'!$D$11:$L$11,$C98)","v":0},{"$f":"COUNTIF('S18'!$D$11:$L$11,$C98)","v":0},{"$f":"COUNTIF('S19'!$D$11:$L$11,$C98)","v":0},{"$f":"COUNTIF('S20'!$D$11:$L$11,$C98)","v":0},{"$f":"COUNTIF('S21'!$D$11:$L$11,$C98)","v":0},{"$f":"COUNTIF('S22'!$D$11:$L$11,$C98)","v":0},{"$f":"COUNTIF('S23'!$D$11:$L$11,$C98)","v":0},{"$f":"COUNTIF('S24'!$D$11:$L$11,$C98)","v":0},{"$f":"COUNTIF('S25'!$D$11:$L$11,$C98)","v":0},{"$f":"COUNTIF('S26'!$D$11:$L$11,$C98)","v":0},{"$f":"COUNTIF('S27'!$D$11:$L$11,$C98)","v":0},{"$f":"COUNTIF('S28'!$D$11:$L$11,$C98)","v":0},{"$f":"COUNTIF('S29'!$D$11:$L$11,$C98)","v":0},{"$f":"COUNTIF('S30'!$D$11:$L$11,$C98)","v":0},{"$f":"COUNTIF('S31'!$D$11:$L$11,$C98)","v":0},{"$f":"COUNTIF('S32'!$D$11:$L$11,$C98)","v":0},{"$f":"COUNTIF('S33'!$D$11:$L$11,$C98)","v":0},{"$f":"COUNTIF('S34'!$D$11:$L$11,$C98)","v":0},{"$f":"COUNTIF('S35'!$D$11:$L$11,$C98)","v":0},{"$f":"COUNTIF('S36'!$D$11:$L$11,$C98)","v":0},{"$f":"COUNTIF('S37'!$D$11:$L$11,$C98)","v":0},{"$f":"COUNTIF('S38'!$D$11:$L$11,$C98)","v":0},{"$f":"COUNTIF('S39'!$D$11:$L$11,$C98)","v":0},{"$f":"COUNTIF('S40'!$D$11:$L$11,$C98)","v":0},{"$f":"COUNTIF('S41'!$D$11:$L$11,$C98)","v":0},{"$f":"COUNTIF('S42'!$D$11:$L$11,$C98)","v":0},{"$f":"COUNTIF('S43'!$D$11:$L$11,$C98)","v":0},{"$f":"COUNTIF('S44'!$D$11:$L$11,$C98)","v":0},{"$f":"COUNTIF('S45'!$D$11:$L$11,$C98)","v":0},{"$f":"COUNTIF('S46'!$D$11:$L$11,$C98)","v":0},{"$f":"COUNTIF('S47'!$D$11:$L$11,$C98)","v":0},{"$f":"COUNTIF('S48'!$D$11:$L$11,$C98)","v":0},{"$f":"COUNTIF('S49'!$D$11:$L$11,$C98)","v":0},{"$f":"COUNTIF('S50'!$D$11:$L$11,$C98)","v":0},{"$f":"COUNTIF('S51'!$D$11:$L$11,$C98)","v":0},{"$f":"COUNTIF('S52'!$D$11:$L$11,$C98)","v":0}]
[null,null,"AMELIE M","HORS ACCUEIL",{"$f":"COUNTIF('S1'!$D$11:$L$11,$C99)","v":0},{"$f":"COUNTIF('S2'!$D$11:$L$11,$C99)","v":0},{"$f":"COUNTIF('S3'!$D$11:$L$11,$C99)","v":0},{"$f":"COUNTIF('S4'!$D$11:$L$11,$C99)","v":0},{"$f":"COUNTIF('S5'!$D$11:$L$11,$C99)","v":0},{"$f":"COUNTIF('S6'!$D$11:$L$11,$C99)","v":0},{"$f":"COUNTIF('S7'!$D$11:$L$11,$C99)","v":0},{"$f":"COUNTIF('S8'!$D$11:$L$11,$C99)","v":0},{"$f":"COUNTIF('S9'!$D$11:$L$11,$C99)","v":0},{"$f":"COUNTIF('S10'!$D$11:$L$11,$C99)","v":0},{"$f":"COUNTIF('S11'!$D$11:$L$11,$C99)","v":0},{"$f":"COUNTIF('S12'!$D$11:$L$11,$C99)","v":0},{"$f":"COUNTIF('S13'!$D$11:$L$11,$C99)","v":0},{"$f":"COUNTIF('S14'!$D$11:$L$11,$C99)","v":0},{"$f":"COUNTIF('S15'!$D$11:$L$11,$C99)","v":0},{"$f":"COUNTIF('S16'!$D$11:$L$11,$C99)","v":0},{"$f":"COUNTIF('S17'!$D$11:$L$11,$C99)","v":0},{"$f":"COUNTIF('S18'!$D$11:$L$11,$C99)","v":0},{"$f":"COUNTIF('S19'!$D$11:$L$11,$C99)","v":0},{"$f":"COUNTIF('S20'!$D$11:$L$11,$C99)","v":0},{"$f":"COUNTIF('S21'!$D$11:$L$11,$C99)","v":0},{"$f":"COUNTIF('S22'!$D$11:$L$11,$C99)","v":0},{"$f":"COUNTIF('S23'!$D$11:$L$11,$C99)","v":0},{"$f":"COUNTIF('S24'!$D$11:$L$11,$C99)","v":0},{"$f":"COUNTIF('S25'!$D$11:$L$11,$C99)","v":0},{"$f":"COUNTIF('S26'!$D$11:$L$11,$C99)","v":0},{"$f":"COUNTIF('S27'!$D$11:$L$11,$C99)","v":0},{"$f":"COUNTIF('S28'!$D$11:$L$11,$C99)","v":0},{"$f":"COUNTIF('S29'!$D$11:$L$11,$C99)","v":0},{"$f":"COUNTIF('S30'!$D$11:$L$11,$C99)","v":0},{"$f":"COUNTIF('S31'!$D$11:$L$11,$C99)","v":0},{"$f":"COUNTIF('S32'!$D$11:$L$11,$C99)","v":0},{"$f":"COUNTIF('S33'!$D$11:$L$11,$C99)","v":0},{"$f":"COUNTIF('S34'!$D$11:$L$11,$C99)","v":0},{"$f":"COUNTIF('S35'!$D$11:$L$11,$C99)","v":0},{"$f":"COUNTIF('S36'!$D$11:$L$11,$C99)","v":0},{"$f":"COUNTIF('S37'!$D$11:$L$11,$C99)","v":0},{"$f":"COUNTIF('S38'!$D$11:$L$11,$C99)","v":0},{"$f":"COUNTIF('S39'!$D$11:$L$11,$C99)","v":0},{"$f":"COUNTIF('S40'!$D$11:$L$11,$C99)","v":0},{"$f":"COUNTIF('S41'!$D$11:$L$11,$C99)","v":0},{"$f":"COUNTIF('S42'!$D$11:$L$11,$C99)","v":0},{"$f":"COUNTIF('S43'!$D$11:$L$11,$C99)","v":0},{"$f":"COUNTIF('S44'!$D$11:$L$11,$C99)","v":0},{"$f":"COUNTIF('S45'!$D$11:$L$11,$C99)","v":0},{"$f":"COUNTIF('S46'!$D$11:$L$11,$C99)","v":0},{"$f":"COUNTIF('S47'!$D$11:$L$11,$C99)","v":0},{"$f":"COUNTIF('S48'!$D$11:$L$11,$C99)","v":0},{"$f":"COUNTIF('S49'!$D$11:$L$11,$C99)","v":0},{"$f":"COUNTIF('S50'!$D$11:$L$11,$C99)","v":0},{"$f":"COUNTIF('S51'!$D$11:$L$11,$C99)","v":0},{"$f":"COUNTIF('S52'!$D$11:$L$11,$C99)","v":0}]
[null,null,"POME H","HORS ACCUEIL",{"$f":"COUNTIF('S1'!$D$11:$L$11,$C100)","v":0},{"$f":"COUNTIF('S2'!$D$11:$L$11,$C100)","v":0},{"$f":"COUNTIF('S3'!$D$11:$L$11,$C100)","v":0},{"$f":"COUNTIF('S4'!$D$11:$L$11,$C100)","v":0},{"$f":"COUNTIF('S5'!$D$11:$L$11,$C100)","v":0},{"$f":"COUNTIF('S6'!$D$11:$L$11,$C100)","v":0},{"$f":"COUNTIF('S7'!$D$11:$L$11,$C100)","v":0},{"$f":"COUNTIF('S8'!$D$11:$L$11,$C100)","v":0},{"$f":"COUNTIF('S9'!$D$11:$L$11,$C100)","v":0},{"$f":"COUNTIF('S10'!$D$11:$L$11,$C100)","v":0},{"$f":"COUNTIF('S11'!$D$11:$L$11,$C100)","v":0},{"$f":"COUNTIF('S12'!$D$11:$L$11,$C100)","v":0},{"$f":"COUNTIF('S13'!$D$11:$L$11,$C100)","v":0},{"$f":"COUNTIF('S14'!$D$11:$L$11,$C100)","v":0},{"$f":"COUNTIF('S15'!$D$11:$L$11,$C100)","v":0},{"$f":"COUNTIF('S16'!$D$11:$L$11,$C100)","v":0},{"$f":"COUNTIF('S17'!$D$11:$L$11,$C100)","v":0},{"$f":"COUNTIF('S18'!$D$11:$L$11,$C100)","v":0},{"$f":"COUNTIF('S19'!$D$11:$L$11,$C100)","v":0},{"$f":"COUNTIF('S20'!$D$11:$L$11,$C100)","v":0},{"$f":"COUNTIF('S21'!$D$11:$L$11,$C100)","v":0},{"$f":"COUNTIF('S22'!$D$11:$L$11,$C100)","v":0},{"$f":"COUNTIF('S23'!$D$11:$L$11,$C100)","v":0},{"$f":"COUNTIF('S24'!$D$11:$L$11,$C100)","v":0},{"$f":"COUNTIF('S25'!$D$11:$L$11,$C100)","v":0},{"$f":"COUNTIF('S26'!$D$11:$L$11,$C100)","v":0},{"$f":"COUNTIF('S27'!$D$11:$L$11,$C100)","v":0},{"$f":"COUNTIF('S28'!$D$11:$L$11,$C100)","v":0},{"$f":"COUNTIF('S29'!$D$11:$L$11,$C100)","v":0},{"$f":"COUNTIF('S30'!$D$11:$L$11,$C100)","v":0},{"$f":"COUNTIF('S31'!$D$11:$L$11,$C100)","v":0},{"$f":"COUNTIF('S32'!$D$11:$L$11,$C100)","v":0},{"$f":"COUNTIF('S33'!$D$11:$L$11,$C100)","v":0},{"$f":"COUNTIF('S34'!$D$11:$L$11,$C100)","v":0},{"$f":"COUNTIF('S35'!$D$11:$L$11,$C100)","v":0},{"$f":"COUNTIF('S36'!$D$11:$L$11,$C100)","v":0},{"$f":"COUNTIF('S37'!$D$11:$L$11,$C100)","v":0},{"$f":"COUNTIF('S38'!$D$11:$L$11,$C100)","v":0},{"$f":"COUNTIF('S39'!$D$11:$L$11,$C100)","v":0},{"$f":"COUNTIF('S40'!$D$11:$L$11,$C100)","v":0},{"$f":"COUNTIF('S41'!$D$11:$L$11,$C100)","v":0},{"$f":"COUNTIF('S42'!$D$11:$L$11,$C100)","v":0},{"$f":"COUNTIF('S43'!$D$11:$L$11,$C100)","v":0},{"$f":"COUNTIF('S44'!$D$11:$L$11,$C100)","v":0},{"$f":"COUNTIF('S45'!$D$11:$L$11,$C100)","v":0},{"$f":"COUNTIF('S46'!$D$11:$L$11,$C100)","v":0},{"$f":"COUNTIF('S47'!$D$11:$L$11,$C100)","v":0},{"$f":"COUNTIF('S48'!$D$11:$L$11,$C100)","v":0},{"$f":"COUNTIF('S49'!$D$11:$L$11,$C100)","v":0},{"$f":"COUNTIF('S50'!$D$11:$L$11,$C100)","v":0},{"$f":"COUNTIF('S51'!$D$11:$L$11,$C100)","v":0},{"$f":"COUNTIF('S52'!$D$11:$L$11,$C100)","v":0}]
[null,null,null,"HORS ACCUEIL",{"$f":"COUNTIF('S1'!$D$11:$L$11,$C101)","v":0},{"$f":"COUNTIF('S2'!$D$11:$L$11,$C101)","v":0},{"$f":"COUNTIF('S3'!$D$11:$L$11,$C101)","v":0},{"$f":"COUNTIF('S4'!$D$11:$L$11,$C101)","v":0},{"$f":"COUNTIF('S5'!$D$11:$L$11,$C101)","v":0},{"$f":"COUNTIF('S6'!$D$11:$L$11,$C101)","v":0},{"$f":"COUNTIF('S7'!$D$11:$L$11,$C101)","v":0},{"$f":"COUNTIF('S8'!$D$11:$L$11,$C101)","v":0},{"$f":"COUNTIF('S9'!$D$11:$L$11,$C101)","v":0},{"$f":"COUNTIF('S10'!$D$11:$L$11,$C101)","v":0},{"$f":"COUNTIF('S11'!$D$11:$L$11,$C101)","v":0},{"$f":"COUNTIF('S12'!$D$11:$L$11,$C101)","v":0},{"$f":"COUNTIF('S13'!$D$11:$L$11,$C101)","v":0},{"$f":"COUNTIF('S14'!$D$11:$L$11,$C101)","v":0},{"$f":"COUNTIF('S15'!$D$11:$L$11,$C101)","v":0},{"$f":"COUNTIF('S16'!$D$11:$L$11,$C101)","v":0},{"$f":"COUNTIF('S17'!$D$11:$L$11,$C101)","v":0},{"$f":"COUNTIF('S18'!$D$11:$L$11,$C101)","v":0},{"$f":"COUNTIF('S19'!$D$11:$L$11,$C101)","v":0},{"$f":"COUNTIF('S20'!$D$11:$L$11,$C101)","v":0},{"$f":"COUNTIF('S21'!$D$11:$L$11,$C101)","v":0},{"$f":"COUNTIF('S22'!$D$11:$L$11,$C101)","v":0},{"$f":"COUNTIF('S23'!$D$11:$L$11,$C101)","v":0},{"$f":"COUNTIF('S24'!$D$11:$L$11,$C101)","v":0},{"$f":"COUNTIF('S25'!$D$11:$L$11,$C101)","v":0},{"$f":"COUNTIF('S26'!$D$11:$L$11,$C101)","v":0},{"$f":"COUNTIF('S27'!$D$11:$L$11,$C101)","v":0},{"$f":"COUNTIF('S28'!$D$11:$L$11,$C101)","v":0},{"$f":"COUNTIF('S29'!$D$11:$L$11,$C101)","v":0},{"$f":"COUNTIF('S30'!$D$11:$L$11,$C101)","v":0},{"$f":"COUNTIF('S31'!$D$11:$L$11,$C101)","v":0},{"$f":"COUNTIF('S32'!$D$11:$L$11,$C101)","v":0},{"$f":"COUNTIF('S33'!$D$11:$L$11,$C101)","v":0},{"$f":"COUNTIF('S34'!$D$11:$L$11,$C101)","v":0},{"$f":"COUNTIF('S35'!$D$11:$L$11,$C101)","v":0},{"$f":"COUNTIF('S36'!$D$11:$L$11,$C101)","v":0},{"$f":"COUNTIF('S37'!$D$11:$L$11,$C101)","v":0},{"$f":"COUNTIF('S38'!$D$11:$L$11,$C101)","v":0},{"$f":"COUNTIF('S39'!$D$11:$L$11,$C101)","v":0},{"$f":"COUNTIF('S40'!$D$11:$L$11,$C101)","v":0},{"$f":"COUNTIF('S41'!$D$11:$L$11,$C101)","v":0},{"$f":"COUNTIF('S42'!$D$11:$L$11,$C101)","v":0},{"$f":"COUNTIF('S43'!$D$11:$L$11,$C101)","v":0},{"$f":"COUNTIF('S44'!$D$11:$L$11,$C101)","v":0},{"$f":"COUNTIF('S45'!$D$11:$L$11,$C101)","v":0},{"$f":"COUNTIF('S46'!$D$11:$L$11,$C101)","v":0},{"$f":"COUNTIF('S47'!$D$11:$L$11,$C101)","v":0},{"$f":"COUNTIF('S48'!$D$11:$L$11,$C101)","v":0},{"$f":"COUNTIF('S49'!$D$11:$L$11,$C101)","v":0},{"$f":"COUNTIF('S50'!$D$11:$L$11,$C101)","v":0},{"$f":"COUNTIF('S51'!$D$11:$L$11,$C101)","v":0},{"$f":"COUNTIF('S52'!$D$11:$L$11,$C101)","v":0}]
[null,null,null,"HORS ACCUEIL",{"$f":"COUNTIF('S1'!$D$11:$L$11,$C102)","v":0},{"$f":"COUNTIF('S2'!$D$11:$L$11,$C102)","v":0},{"$f":"COUNTIF('S3'!$D$11:$L$11,$C102)","v":0},{"$f":"COUNTIF('S4'!$D$11:$L$11,$C102)","v":0},{"$f":"COUNTIF('S5'!$D$11:$L$11,$C102)","v":0},{"$f":"COUNTIF('S6'!$D$11:$L$11,$C102)","v":0},{"$f":"COUNTIF('S7'!$D$11:$L$11,$C102)","v":0},{"$f":"COUNTIF('S8'!$D$11:$L$11,$C102)","v":0},{"$f":"COUNTIF('S9'!$D$11:$L$11,$C102)","v":0},{"$f":"COUNTIF('S10'!$D$11:$L$11,$C102)","v":0},{"$f":"COUNTIF('S11'!$D$11:$L$11,$C102)","v":0},{"$f":"COUNTIF('S12'!$D$11:$L$11,$C102)","v":0},{"$f":"COUNTIF('S13'!$D$11:$L$11,$C102)","v":0},{"$f":"COUNTIF('S14'!$D$11:$L$11,$C102)","v":0},{"$f":"COUNTIF('S15'!$D$11:$L$11,$C102)","v":0},{"$f":"COUNTIF('S16'!$D$11:$L$11,$C102)","v":0},{"$f":"COUNTIF('S17'!$D$11:$L$11,$C102)","v":0},{"$f":"COUNTIF('S18'!$D$11:$L$11,$C102)","v":0},{"$f":"COUNTIF('S19'!$D$11:$L$11,$C102)","v":0},{"$f":"COUNTIF('S20'!$D$11:$L$11,$C102)","v":0},{"$f":"COUNTIF('S21'!$D$11:$L$11,$C102)","v":0},{"$f":"COUNTIF('S22'!$D$11:$L$11,$C102)","v":0},{"$f":"COUNTIF('S23'!$D$11:$L$11,$C102)","v":0},{"$f":"COUNTIF('S24'!$D$11:$L$11,$C102)","v":0},{"$f":"COUNTIF('S25'!$D$11:$L$11,$C102)","v":0},{"$f":"COUNTIF('S26'!$D$11:$L$11,$C102)","v":0},{"$f":"COUNTIF('S27'!$D$11:$L$11,$C102)","v":0},{"$f":"COUNTIF('S28'!$D$11:$L$11,$C102)","v":0},{"$f":"COUNTIF('S29'!$D$11:$L$11,$C102)","v":0},{"$f":"COUNTIF('S30'!$D$11:$L$11,$C102)","v":0},{"$f":"COUNTIF('S31'!$D$11:$L$11,$C102)","v":0},{"$f":"COUNTIF('S32'!$D$11:$L$11,$C102)","v":0},{"$f":"COUNTIF('S33'!$D$11:$L$11,$C102)","v":0},{"$f":"COUNTIF('S34'!$D$11:$L$11,$C102)","v":0},{"$f":"COUNTIF('S35'!$D$11:$L$11,$C102)","v":0},{"$f":"COUNTIF('S36'!$D$11:$L$11,$C102)","v":0},{"$f":"COUNTIF('S37'!$D$11:$L$11,$C102)","v":0},{"$f":"COUNTIF('S38'!$D$11:$L$11,$C102)","v":0},{"$f":"COUNTIF('S39'!$D$11:$L$11,$C102)","v":0},{"$f":"COUNTIF('S40'!$D$11:$L$11,$C102)","v":0},{"$f":"COUNTIF('S41'!$D$11:$L$11,$C102)","v":0},{"$f":"COUNTIF('S42'!$D$11:$L$11,$C102)","v":0},{"$f":"COUNTIF('S43'!$D$11:$L$11,$C102)","v":0},{"$f":"COUNTIF('S44'!$D$11:$L$11,$C102)","v":0},{"$f":"COUNTIF('S45'!$D$11:$L$11,$C102)","v":0},{"$f":"COUNTIF('S46'!$D$11:$L$11,$C102)","v":0},{"$f":"COUNTIF('S47'!$D$11:$L$11,$C102)","v":0},{"$f":"COUNTIF('S48'!$D$11:$L$11,$C102)","v":0},{"$f":"COUNTIF('S49'!$D$11:$L$11,$C102)","v":0},{"$f":"COUNTIF('S50'!$D$11:$L$11,$C102)","v":0},{"$f":"COUNTIF('S51'!$D$11:$L$11,$C102)","v":0},{"$f":"COUNTIF('S52'!$D$11:$L$11,$C102)","v":0}]
[]
[]
["REDACTION",null,null,"FILE","S1","S2","S3","S4","S5","S6","S7","S8","S9","S10","S111","S122","S133","S144","S155","S166","S177","S188","S199","S20","S21","S22","S23","S24","S25","S26","S27","S28","S29","S30","S31","S32","S33","S34","S35","S36","S37","S38","S39","S40","S41","S42","S43","S44","S45","S46","S47","S48","S49","S50","S51","S52"]
["TS","OCCURRENCES \nREALISE","GAETAN C",{"$f":"$A$105","v":"REDACTION"},{"$f":"COUNTIF('S1'!$D$17:$L$17,$C106)","v":1},{"$f":"COUNTIF('S2'!$D$17:$L$17,$C106)","v":0},{"$f":"COUNTIF('S3'!$D$17:$L$17,$C106)","v":0},{"$f":"COUNTIF('S4'!$D$17:$L$17,$C106)","v":0},{"$f":"COUNTIF('S5'!$D$17:$L$17,$C106)","v":0},{"$f":"COUNTIF('S6'!$D$17:$L$17,$C106)","v":0},{"$f":"COUNTIF('S7'!$D$17:$L$17,$C106)","v":0},{"$f":"COUNTIF('S8'!$D$17:$L$17,$C106)","v":0},{"$f":"COUNTIF('S9'!$D$17:$L$17,$C106)","v":0},{"$f":"COUNTIF('S10'!$D$17:$L$17,$C106)","v":0},{"$f":"COUNTIF('S11'!$D$17:$L$17,$C106)","v":0},{"$f":"COUNTIF('S12'!$D$17:$L$17,$C106)","v":0},{"$f":"COUNTIF('S13'!$D$17:$L$17,$C106)","v":0},{"$f":"COUNTIF('S14'!$D$17:$L$17,$C106)","v":0},{"$f":"COUNTIF('S15'!$D$17:$L$17,$C106)","v":0},{"$f":"COUNTIF('S16'!$D$17:$L$17,$C106)","v":0},{"$f":"COUNTIF('S17'!$D$17:$L$17,$C106)","v":0},{"$f":"COUNTIF('S18'!$D$17:$L$17,$C106)","v":0},{"$f":"COUNTIF('S19'!$D$17:$L$17,$C106)","v":0},{"$f":"COUNTIF('S20'!$D$17:$L$17,$C106)","v":0},{"$f":"COUNTIF('S21'!$D$17:$L$17,$C106)","v":0},{"$f":"COUNTIF('S22'!$D$17:$L$17,$C106)","v":0},{"$f":"COUNTIF('S23'!$D$17:$L$17,$C106)","v":0},{"$f":"COUNTIF('S24'!$D$17:$L$17,$C106)","v":0},{"$f":"COUNTIF('S25'!$D$17:$L$17,$C106)","v":0},{"$f":"COUNTIF('S26'!$D$17:$L$17,$C106)","v":0},{"$f":"COUNTIF('S27'!$D$17:$L$17,$C106)","v":0},{"$f":"COUNTIF('S28'!$D$17:$L$17,$C106)","v":0},{"$f":"COUNTIF('S29'!$D$17:$L$17,$C106)","v":0},{"$f":"COUNTIF('S30'!$D$17:$L$17,$C106)","v":0},{"$f":"COUNTIF('S31'!$D$17:$L$17,$C106)","v":0},{"$f":"COUNTIF('S32'!$D$17:$L$17,$C106)","v":0},{"$f":"COUNTIF('S33'!$D$17:$L$17,$C106)","v":0},{"$f":"COUNTIF('S34'!$D$17:$L$17,$C106)","v":0},{"$f":"COUNTIF('S35'!$D$17:$L$17,$C106)","v":0},{"$f":"COUNTIF('S36'!$D$17:$L$17,$C106)","v":0},{"$f":"COUNTIF('S37'!$D$17:$L$17,$C106)","v":0},{"$f":"COUNTIF('S38'!$D$17:$L$17,$C106)","v":0},{"$f":"COUNTIF('S39'!$D$17:$L$17,$C106)","v":0},{"$f":"COUNTIF('S40'!$D$17:$L$17,$C106)","v":0},{"$f":"COUNTIF('S41'!$D$17:$L$17,$C106)","v":0},{"$f":"COUNTIF('S42'!$D$17:$L$17,$C106)","v":0},{"$f":"COUNTIF('S43'!$D$17:$L$17,$C106)","v":0},{"$f":"COUNTIF('S44'!$D$17:$L$17,$C106)","v":0},{"$f":"COUNTIF('S45'!$D$17:$L$17,$C106)","v":0},{"$f":"COUNTIF('S46'!$D$17:$L$17,$C106)","v":0},{"$f":"COUNTIF('S47'!$D$17:$L$17,$C106)","v":0},{"$f":"COUNTIF('S48'!$D$17:$L$17,$C106)","v":0},{"$f":"COUNTIF('S49'!$D$17:$L$17,$C106)","v":0},{"$f":"COUNTIF('S50'!$D$17:$L$17,$C106)","v":0},{"$f":"COUNTIF('S51'!$D$17:$L$17,$C106)","v":0},{"$f":"COUNTIF('S52'!$D$17:$L$17,$C106)","v":0}]
[null,null,"MARIANNE T",{"$f":"$A$105","v":"REDACTION"},{"$f":"COUNTIF('S1'!$D$17:$L$17,$C107)","v":0},{"$f":"COUNTIF('S2'!$D$17:$L$17,$C107)","v":0},{"$f":"COUNTIF('S3'!$D$17:$L$17,$C107)","v":0},{"$f":"COUNTIF('S4'!$D$17:$L$17,$C107)","v":0},{"$f":"COUNTIF('S5'!$D$17:$L$17,$C107)","v":0},{"$f":"COUNTIF('S6'!$D$17:$L$17,$C107)","v":0},{"$f":"COUNTIF('S7'!$D$17:$L$17,$C107)","v":0},{"$f":"COUNTIF('S8'!$D$17:$L$17,$C107)","v":0},{"$f":"COUNTIF('S9'!$D$17:$L$17,$C107)","v":0},{"$f":"COUNTIF('S10'!$D$17:$L$17,$C107)","v":0},{"$f":"COUNTIF('S11'!$D$17:$L$17,$C107)","v":0},{"$f":"COUNTIF('S12'!$D$17:$L$17,$C107)","v":0},{"$f":"COUNTIF('S13'!$D$17:$L$17,$C107)","v":0},{"$f":"COUNTIF('S14'!$D$17:$L$17,$C107)","v":0},{"$f":"COUNTIF('S15'!$D$17:$L$17,$C107)","v":0},{"$f":"COUNTIF('S16'!$D$17:$L$17,$C107)","v":0},{"$f":"COUNTIF('S17'!$D$17:$L$17,$C107)","v":0},{"$f":"COUNTIF('S18'!$D$17:$L$17,$C107)","v":0},{"$f":"COUNTIF('S19'!$D$17:$L$17,$C107)","v":0},{"$f":"COUNTIF('S20'!$D$17:$L$17,$C107)","v":0},{"$f":"COUNTIF('S21'!$D$17:$L$17,$C107)","v":0},{"$f":"COUNTIF('S22'!$D$17:$L$17,$C107)","v":0},{"$f":"COUNTIF('S23'!$D$17:$L$17,$C107)","v":0},{"$f":"COUNTIF('S24'!$D$17:$L$17,$C107)","v":0},{"$f":"COUNTIF('S25'!$D$17:$L$17,$C107)","v":0},{"$f":"COUNTIF('S26'!$D$17:$L$17,$C107)","v":0},{"$f":"COUNTIF('S27'!$D$17:$L$17,$C107)","v":0},{"$f":"COUNTIF('S28'!$D$17:$L$17,$C107)","v":0},{"$f":"COUNTIF('S29'!$D$17:$L$17,$C107)","v":0},{"$f":"COUNTIF('S30'!$D$17:$L$17,$C107)","v":0},{"$f":"COUNTIF('S31'!$D$17:$L$17,$C107)","v":0},{"$f":"COUNTIF('S32'!$D$17:$L$17,$C107)","v":0},{"$f":"COUNTIF('S33'!$D$17:$L$17,$C107)","v":0},{"$f":"COUNTIF('S34'!$D$17:$L$17,$C107)","v":0},{"$f":"COUNTIF('S35'!$D$17:$L$17,$C107)","v":0},{"$f":"COUNTIF('S36'!$D$17:$L$17,$C107)","v":0},{"$f":"COUNTIF('S37'!$D$17:$L$17,$C107)","v":0},{"$f":"COUNTIF('S38'!$D$17:$L$17,$C107)","v":0},{"$f":"COUNTIF('S39'!$D$17:$L$17,$C107)","v":0},{"$f":"COUNTIF('S40'!$D$17:$L$17,$C107)","v":0},{"$f":"COUNTIF('S41'!$D$17:$L$17,$C107)","v":0},{"$f":"COUNTIF('S42'!$D$17:$L$17,$C107)","v":0},{"$f":"COUNTIF('S43'!$D$17:$L$17,$C107)","v":0},{"$f":"COUNTIF('S44'!$D$17:$L$17,$C107)","v":0},{"$f":"COUNTIF('S45'!$D$17:$L$17,$C107)","v":0},{"$f":"COUNTIF('S46'!$D$17:$L$17,$C107)","v":0},{"$f":"COUNTIF('S47'!$D$17:$L$17,$C107)","v":0},{"$f":"COUNTIF('S48'!$D$17:$L$17,$C107)","v":0},{"$f":"COUNTIF('S49'!$D$17:$L$17,$C107)","v":0},{"$f":"COUNTIF('S50'!$D$17:$L$17,$C107)","v":0},{"$f":"COUNTIF('S51'!$D$17:$L$17,$C107)","v":0},{"$f":"COUNTIF('S52'!$D$17:$L$17,$C107)","v":0}]
[null,null,"SALIMA D","REDACTION",{"$f":"COUNTIF('S1'!$D$17:$L$17,$C108)","v":0},{"$f":"COUNTIF('S2'!$D$17:$L$17,$C108)","v":0},{"$f":"COUNTIF('S3'!$D$17:$L$17,$C108)","v":0},{"$f":"COUNTIF('S4'!$D$17:$L$17,$C108)","v":0},{"$f":"COUNTIF('S5'!$D$17:$L$17,$C108)","v":0},{"$f":"COUNTIF('S6'!$D$17:$L$17,$C108)","v":0},{"$f":"COUNTIF('S7'!$D$17:$L$17,$C108)","v":0},{"$f":"COUNTIF('S8'!$D$17:$L$17,$C108)","v":0},{"$f":"COUNTIF('S9'!$D$17:$L$17,$C108)","v":0},{"$f":"COUNTIF('S10'!$D$17:$L$17,$C108)","v":0},{"$f":"COUNTIF('S11'!$D$17:$L$17,$C108)","v":0},{"$f":"COUNTIF('S12'!$D$17:$L$17,$C108)","v":0},{"$f":"COUNTIF('S13'!$D$17:$L$17,$C108)","v":0},{"$f":"COUNTIF('S14'!$D$17:$L$17,$C108)","v":0},{"$f":"COUNTIF('S15'!$D$17:$L$17,$C108)","v":0},{"$f":"COUNTIF('S16'!$D$17:$L$17,$C108)","v":0},{"$f":"COUNTIF('S17'!$D$17:$L$17,$C108)","v":0},{"$f":"COUNTIF('S18'!$D$17:$L$17,$C108)","v":0},{"$f":"COUNTIF('S19'!$D$17:$L$17,$C108)","v":0},{"$f":"COUNTIF('S20'!$D$17:$L$17,$C108)","v":0},{"$f":"COUNTIF('S21'!$D$17:$L$17,$C108)","v":0},{"$f":"COUNTIF('S22'!$D$17:$L$17,$C108)","v":0},{"$f":"COUNTIF('S23'!$D$17:$L$17,$C108)","v":0},{"$f":"COUNTIF('S24'!$D$17:$L$17,$C108)","v":0},{"$f":"COUNTIF('S25'!$D$17:$L$17,$C108)","v":0},{"$f":"COUNTIF('S26'!$D$17:$L$17,$C108)","v":0},{"$f":"COUNTIF('S27'!$D$17:$L$17,$C108)","v":0},{"$f":"COUNTIF('S28'!$D$17:$L$17,$C108)","v":0},{"$f":"COUNTIF('S29'!$D$17:$L$17,$C108)","v":0},{"$f":"COUNTIF('S30'!$D$17:$L$17,$C108)","v":0},{"$f":"COUNTIF('S31'!$D$17:$L$17,$C108)","v":0},{"$f":"COUNTIF('S32'!$D$17:$L$17,$C108)","v":0},{"$f":"COUNTIF('S33'!$D$17:$L$17,$C108)","v":0},{"$f":"COUNTIF('S34'!$D$17:$L$17,$C108)","v":0},{"$f":"COUNTIF('S35'!$D$17:$L$17,$C108)","v":0},{"$f":"COUNTIF('S36'!$D$17:$L$17,$C108)","v":0},{"$f":"COUNTIF('S37'!$D$17:$L$17,$C108)","v":0},{"$f":"COUNTIF('S38'!$D$17:$L$17,$C108)","v":0},{"$f":"COUNTIF('S39'!$D$17:$L$17,$C108)","v":0},{"$f":"COUNTIF('S40'!$D$17:$L$17,$C108)","v":0},{"$f":"COUNTIF('S41'!$D$17:$L$17,$C108)","v":0},{"$f":"COUNTIF('S42'!$D$17:$L$17,$C108)","v":0},{"$f":"COUNTIF('S43'!$D$17:$L$17,$C108)","v":0},{"$f":"COUNTIF('S44'!$D$17:$L$17,$C108)","v":0},{"$f":"COUNTIF('S45'!$D$17:$L$17,$C108)","v":0},{"$f":"COUNTIF('S46'!$D$17:$L$17,$C108)","v":0},{"$f":"COUNTIF('S47'!$D$17:$L$17,$C108)","v":0},{"$f":"COUNTIF('S48'!$D$17:$L$17,$C108)","v":0},{"$f":"COUNTIF('S49'!$D$17:$L$17,$C108)","v":0},{"$f":"COUNTIF('S50'!$D$17:$L$17,$C108)","v":0},{"$f":"COUNTIF('S51'!$D$17:$L$17,$C108)","v":0},{"$f":"COUNTIF('S52'!$D$17:$L$17,$C108)","v":0}]
[null,null,"EMILIE B","REDACTION",{"$f":"COUNTIF('S1'!$D$17:$L$17,$C109)","v":0},{"$f":"COUNTIF('S2'!$D$17:$L$17,$C109)","v":0},{"$f":"COUNTIF('S3'!$D$17:$L$17,$C109)","v":0},{"$f":"COUNTIF('S4'!$D$17:$L$17,$C109)","v":0},{"$f":"COUNTIF('S5'!$D$17:$L$17,$C109)","v":0},{"$f":"COUNTIF('S6'!$D$17:$L$17,$C109)","v":0},{"$f":"COUNTIF('S7'!$D$17:$L$17,$C109)","v":0},{"$f":"COUNTIF('S8'!$D$17:$L$17,$C109)","v":0},{"$f":"COUNTIF('S9'!$D$17:$L$17,$C109)","v":0},{"$f":"COUNTIF('S10'!$D$17:$L$17,$C109)","v":0},{"$f":"COUNTIF('S11'!$D$17:$L$17,$C109)","v":0},{"$f":"COUNTIF('S12'!$D$17:$L$17,$C109)","v":0},{"$f":"COUNTIF('S13'!$D$17:$L$17,$C109)","v":0},{"$f":"COUNTIF('S14'!$D$17:$L$17,$C109)","v":0},{"$f":"COUNTIF('S15'!$D$17:$L$17,$C109)","v":0},{"$f":"COUNTIF('S16'!$D$17:$L$17,$C109)","v":0},{"$f":"COUNTIF('S17'!$D$17:$L$17,$C109)","v":0},{"$f":"COUNTIF('S18'!$D$17:$L$17,$C109)","v":0},{"$f":"COUNTIF('S19'!$D$17:$L$17,$C109)","v":0},{"$f":"COUNTIF('S20'!$D$17:$L$17,$C109)","v":0},{"$f":"COUNTIF('S21'!$D$17:$L$17,$C109)","v":0},{"$f":"COUNTIF('S22'!$D$17:$L$17,$C109)","v":0},{"$f":"COUNTIF('S23'!$D$17:$L$17,$C109)","v":0},{"$f":"COUNTIF('S24'!$D$17:$L$17,$C109)","v":0},{"$f":"COUNTIF('S25'!$D$17:$L$17,$C109)","v":0},{"$f":"COUNTIF('S26'!$D$17:$L$17,$C109)","v":0},{"$f":"COUNTIF('S27'!$D$17:$L$17,$C109)","v":0},{"$f":"COUNTIF('S28'!$D$17:$L$17,$C109)","v":0},{"$f":"COUNTIF('S29'!$D$17:$L$17,$C109)","v":0},{"$f":"COUNTIF('S30'!$D$17:$L$17,$C109)","v":0},{"$f":"COUNTIF('S31'!$D$17:$L$17,$C109)","v":0},{"$f":"COUNTIF('S32'!$D$17:$L$17,$C109)","v":0},{"$f":"COUNTIF('S33'!$D$17:$L$17,$C109)","v":0},{"$f":"COUNTIF('S34'!$D$17:$L$17,$C109)","v":0},{"$f":"COUNTIF('S35'!$D$17:$L$17,$C109)","v":0},{"$f":"COUNTIF('S36'!$D$17:$L$17,$C109)","v":0},{"$f":"COUNTIF('S37'!$D$17:$L$17,$C109)","v":0},{"$f":"COUNTIF('S38'!$D$17:$L$17,$C109)","v":0},{"$f":"COUNTIF('S39'!$D$17:$L$17,$C109)","v":0},{"$f":"COUNTIF('S40'!$D$17:$L$17,$C109)","v":0},{"$f":"COUNTIF('S41'!$D$17:$L$17,$C109)","v":0},{"$f":"COUNTIF('S42'!$D$17:$L$17,$C109)","v":0},{"$f":"COUNTIF('S43'!$D$17:$L$17,$C109)","v":0},{"$f":"COUNTIF('S44'!$D$17:$L$17,$C109)","v":0},{"$f":"COUNTIF('S45'!$D$17:$L$17,$C109)","v":0},{"$f":"COUNTIF('S46'!$D$17:$L$17,$C109)","v":0},{"$f":"COUNTIF('S47'!$D$17:$L$17,$C109)","v":0},{"$f":"COUNTIF('S48'!$D$17:$L$17,$C109)","v":0},{"$f":"COUNTIF('S49'!$D$17:$L$17,$C109)","v":0},{"$f":"COUNTIF('S50'!$D$17:$L$17,$C109)","v":0},{"$f":"COUNTIF('S51'!$D$17:$L$17,$C109)","v":0},{"$f":"COUNTIF('S52'!$D$17:$L$17,$C109)","v":0}]
[null,null,"AUDREY L","REDACTION",{"$f":"COUNTIF('S1'!$D$17:$L$17,$C110)","v":0},{"$f":"COUNTIF('S2'!$D$17:$L$17,$C110)","v":0},{"$f":"COUNTIF('S3'!$D$17:$L$17,$C110)","v":0},{"$f":"COUNTIF('S4'!$D$17:$L$17,$C110)","v":0},{"$f":"COUNTIF('S5'!$D$17:$L$17,$C110)","v":0},{"$f":"COUNTIF('S6'!$D$17:$L$17,$C110)","v":0},{"$f":"COUNTIF('S7'!$D$17:$L$17,$C110)","v":0},{"$f":"COUNTIF('S8'!$D$17:$L$17,$C110)","v":0},{"$f":"COUNTIF('S9'!$D$17:$L$17,$C110)","v":0},{"$f":"COUNTIF('S10'!$D$17:$L$17,$C110)","v":0},{"$f":"COUNTIF('S11'!$D$17:$L$17,$C110)","v":0},{"$f":"COUNTIF('S12'!$D$17:$L$17,$C110)","v":0},{"$f":"COUNTIF('S13'!$D$17:$L$17,$C110)","v":0},{"$f":"COUNTIF('S14'!$D$17:$L$17,$C110)","v":0},{"$f":"COUNTIF('S15'!$D$17:$L$17,$C110)","v":0},{"$f":"COUNTIF('S16'!$D$17:$L$17,$C110)","v":0},{"$f":"COUNTIF('S17'!$D$17:$L$17,$C110)","v":0},{"$f":"COUNTIF('S18'!$D$17:$L$17,$C110)","v":0},{"$f":"COUNTIF('S19'!$D$17:$L$17,$C110)","v":0},{"$f":"COUNTIF('S20'!$D$17:$L$17,$C110)","v":0},{"$f":"COUNTIF('S21'!$D$17:$L$17,$C110)","v":0},{"$f":"COUNTIF('S22'!$D$17:$L$17,$C110)","v":0},{"$f":"COUNTIF('S23'!$D$17:$L$17,$C110)","v":0},{"$f":"COUNTIF('S24'!$D$17:$L$17,$C110)","v":0},{"$f":"COUNTIF('S25'!$D$17:$L$17,$C110)","v":0},{"$f":"COUNTIF('S26'!$D$17:$L$17,$C110)","v":0},{"$f":"COUNTIF('S27'!$D$17:$L$17,$C110)","v":0},{"$f":"COUNTIF('S28'!$D$17:$L$17,$C110)","v":0},{"$f":"COUNTIF('S29'!$D$17:$L$17,$C110)","v":0},{"$f":"COUNTIF('S30'!$D$17:$L$17,$C110)","v":0},{"$f":"COUNTIF('S31'!$D$17:$L$17,$C110)","v":0},{"$f":"COUNTIF('S32'!$D$17:$L$17,$C110)","v":0},{"$f":"COUNTIF('S33'!$D$17:$L$17,$C110)","v":0},{"$f":"COUNTIF('S34'!$D$17:$L$17,$C110)","v":0},{"$f":"COUNTIF('S35'!$D$17:$L$17,$C110)","v":0},{"$f":"COUNTIF('S36'!$D$17:$L$17,$C110)","v":0},{"$f":"COUNTIF('S37'!$D$17:$L$17,$C110)","v":0},{"$f":"COUNTIF('S38'!$D$17:$L$17,$C110)","v":0},{"$f":"COUNTIF('S39'!$D$17:$L$17,$C110)","v":0},{"$f":"COUNTIF('S40'!$D$17:$L$17,$C110)","v":0},{"$f":"COUNTIF('S41'!$D$17:$L$17,$C110)","v":0},{"$f":"COUNTIF('S42'!$D$17:$L$17,$C110)","v":0},{"$f":"COUNTIF('S43'!$D$17:$L$17,$C110)","v":0},{"$f":"COUNTIF('S44'!$D$17:$L$17,$C110)","v":0},{"$f":"COUNTIF('S45'!$D$17:$L$17,$C110)","v":0},{"$f":"COUNTIF('S46'!$D$17:$L$17,$C110)","v":0},{"$f":"COUNTIF('S47'!$D$17:$L$17,$C110)","v":0},{"$f":"COUNTIF('S48'!$D$17:$L$17,$C110)","v":0},{"$f":"COUNTIF('S49'!$D$17:$L$17,$C110)","v":0},{"$f":"COUNTIF('S50'!$D$17:$L$17,$C110)","v":0},{"$f":"COUNTIF('S51'!$D$17:$L$17,$C110)","v":0},{"$f":"COUNTIF('S52'!$D$17:$L$17,$C110)","v":0}]
[null,null,"MATHIEU G","REDACTION",{"$f":"COUNTIF('S1'!$D$17:$L$17,$C111)","v":0},{"$f":"COUNTIF('S2'!$D$17:$L$17,$C111)","v":0},{"$f":"COUNTIF('S3'!$D$17:$L$17,$C111)","v":0},{"$f":"COUNTIF('S4'!$D$17:$L$17,$C111)","v":0},{"$f":"COUNTIF('S5'!$D$17:$L$17,$C111)","v":0},{"$f":"COUNTIF('S6'!$D$17:$L$17,$C111)","v":0},{"$f":"COUNTIF('S7'!$D$17:$L$17,$C111)","v":0},{"$f":"COUNTIF('S8'!$D$17:$L$17,$C111)","v":0},{"$f":"COUNTIF('S9'!$D$17:$L$17,$C111)","v":0},{"$f":"COUNTIF('S10'!$D$17:$L$17,$C111)","v":0},{"$f":"COUNTIF('S11'!$D$17:$L$17,$C111)","v":0},{"$f":"COUNTIF('S12'!$D$17:$L$17,$C111)","v":0},{"$f":"COUNTIF('S13'!$D$17:$L$17,$C111)","v":0},{"$f":"COUNTIF('S14'!$D$17:$L$17,$C111)","v":0},{"$f":"COUNTIF('S15'!$D$17:$L$17,$C111)","v":0},{"$f":"COUNTIF('S16'!$D$17:$L$17,$C111)","v":0},{"$f":"COUNTIF('S17'!$D$17:$L$17,$C111)","v":0},{"$f":"COUNTIF('S18'!$D$17:$L$17,$C111)","v":0},{"$f":"COUNTIF('S19'!$D$17:$L$17,$C111)","v":0},{"$f":"COUNTIF('S20'!$D$17:$L$17,$C111)","v":0},{"$f":"COUNTIF('S21'!$D$17:$L$17,$C111)","v":0},{"$f":"COUNTIF('S22'!$D$17:$L$17,$C111)","v":0},{"$f":"COUNTIF('S23'!$D$17:$L$17,$C111)","v":0},{"$f":"COUNTIF('S24'!$D$17:$L$17,$C111)","v":0},{"$f":"COUNTIF('S25'!$D$17:$L$17,$C111)","v":0},{"$f":"COUNTIF('S26'!$D$17:$L$17,$C111)","v":0},{"$f":"COUNTIF('S27'!$D$17:$L$17,$C111)","v":0},{"$f":"COUNTIF('S28'!$D$17:$L$17,$C111)","v":0},{"$f":"COUNTIF('S29'!$D$17:$L$17,$C111)","v":0},{"$f":"COUNTIF('S30'!$D$17:$L$17,$C111)","v":0},{"$f":"COUNTIF('S31'!$D$17:$L$17,$C111)","v":0},{"$f":"COUNTIF('S32'!$D$17:$L$17,$C111)","v":0},{"$f":"COUNTIF('S33'!$D$17:$L$17,$C111)","v":0},{"$f":"COUNTIF('S34'!$D$17:$L$17,$C111)","v":0},{"$f":"COUNTIF('S35'!$D$17:$L$17,$C111)","v":0},{"$f":"COUNTIF('S36'!$D$17:$L$17,$C111)","v":0},{"$f":"COUNTIF('S37'!$D$17:$L$17,$C111)","v":0},{"$f":"COUNTIF('S38'!$D$17:$L$17,$C111)","v":0},{"$f":"COUNTIF('S39'!$D$17:$L$17,$C111)","v":0},{"$f":"COUNTIF('S40'!$D$17:$L$17,$C111)","v":0},{"$f":"COUNTIF('S41'!$D$17:$L$17,$C111)","v":0},{"$f":"COUNTIF('S42'!$D$17:$L$17,$C111)","v":0},{"$f":"COUNTIF('S43'!$D$17:$L$17,$C111)","v":0},{"$f":"COUNTIF('S44'!$D$17:$L$17,$C111)","v":0},{"$f":"COUNTIF('S45'!$D$17:$L$17,$C111)","v":0},{"$f":"COUNTIF('S46'!$D$17:$L$17,$C111)","v":0},{"$f":"COUNTIF('S47'!$D$17:$L$17,$C111)","v":0},{"$f":"COUNTIF('S48'!$D$17:$L$17,$C111)","v":0},{"$f":"COUNTIF('S49'!$D$17:$L$17,$C111)","v":0},{"$f":"COUNTIF('S50'!$D$17:$L$17,$C111)","v":0},{"$f":"COUNTIF('S51'!$D$17:$L$17,$C111)","v":0},{"$f":"COUNTIF('S52'!$D$17:$L$17,$C111)","v":0}]
[null,null,"CHRISTEL L","REDACTION",{"$f":"COUNTIF('S1'!$D$17:$L$17,$C112)","v":0},{"$f":"COUNTIF('S2'!$D$17:$L$17,$C112)","v":0},{"$f":"COUNTIF('S3'!$D$17:$L$17,$C112)","v":0},{"$f":"COUNTIF('S4'!$D$17:$L$17,$C112)","v":0},{"$f":"COUNTIF('S5'!$D$17:$L$17,$C112)","v":0},{"$f":"COUNTIF('S6'!$D$17:$L$17,$C112)","v":0},{"$f":"COUNTIF('S7'!$D$17:$L$17,$C112)","v":0},{"$f":"COUNTIF('S8'!$D$17:$L$17,$C112)","v":0},{"$f":"COUNTIF('S9'!$D$17:$L$17,$C112)","v":0},{"$f":"COUNTIF('S10'!$D$17:$L$17,$C112)","v":0},{"$f":"COUNTIF('S11'!$D$17:$L$17,$C112)","v":0},{"$f":"COUNTIF('S12'!$D$17:$L$17,$C112)","v":0},{"$f":"COUNTIF('S13'!$D$17:$L$17,$C112)","v":0},{"$f":"COUNTIF('S14'!$D$17:$L$17,$C112)","v":0},{"$f":"COUNTIF('S15'!$D$17:$L$17,$C112)","v":0},{"$f":"COUNTIF('S16'!$D$17:$L$17,$C112)","v":0},{"$f":"COUNTIF('S17'!$D$17:$L$17,$C112)","v":0},{"$f":"COUNTIF('S18'!$D$17:$L$17,$C112)","v":0},{"$f":"COUNTIF('S19'!$D$17:$L$17,$C112)","v":0},{"$f":"COUNTIF('S20'!$D$17:$L$17,$C112)","v":0},{"$f":"COUNTIF('S21'!$D$17:$L$17,$C112)","v":0},{"$f":"COUNTIF('S22'!$D$17:$L$17,$C112)","v":0},{"$f":"COUNTIF('S23'!$D$17:$L$17,$C112)","v":0},{"$f":"COUNTIF('S24'!$D$17:$L$17,$C112)","v":0},{"$f":"COUNTIF('S25'!$D$17:$L$17,$C112)","v":0},{"$f":"COUNTIF('S26'!$D$17:$L$17,$C112)","v":0},{"$f":"COUNTIF('S27'!$D$17:$L$17,$C112)","v":0},{"$f":"COUNTIF('S28'!$D$17:$L$17,$C112)","v":0},{"$f":"COUNTIF('S29'!$D$17:$L$17,$C112)","v":0},{"$f":"COUNTIF('S30'!$D$17:$L$17,$C112)","v":0},{"$f":"COUNTIF('S31'!$D$17:$L$17,$C112)","v":0},{"$f":"COUNTIF('S32'!$D$17:$L$17,$C112)","v":0},{"$f":"COUNTIF('S33'!$D$17:$L$17,$C112)","v":0},{"$f":"COUNTIF('S34'!$D$17:$L$17,$C112)","v":0},{"$f":"COUNTIF('S35'!$D$17:$L$17,$C112)","v":0},{"$f":"COUNTIF('S36'!$D$17:$L$17,$C112)","v":0},{"$f":"COUNTIF('S37'!$D$17:$L$17,$C112)","v":0},{"$f":"COUNTIF('S38'!$D$17:$L$17,$C112)","v":0},{"$f":"COUNTIF('S39'!$D$17:$L$17,$C112)","v":0},{"$f":"COUNTIF('S40'!$D$17:$L$17,$C112)","v":0},{"$f":"COUNTIF('S41'!$D$17:$L$17,$C112)","v":0},{"$f":"COUNTIF('S42'!$D$17:$L$17,$C112)","v":0},{"$f":"COUNTIF('S43'!$D$17:$L$17,$C112)","v":0},{"$f":"COUNTIF('S44'!$D$17:$L$17,$C112)","v":0},{"$f":"COUNTIF('S45'!$D$17:$L$17,$C112)","v":0},{"$f":"COUNTIF('S46'!$D$17:$L$17,$C112)","v":0},{"$f":"COUNTIF('S47'!$D$17:$L$17,$C112)","v":0},{"$f":"COUNTIF('S48'!$D$17:$L$17,$C112)","v":0},{"$f":"COUNTIF('S49'!$D$17:$L$17,$C112)","v":0},{"$f":"COUNTIF('S50'!$D$17:$L$17,$C112)","v":0},{"$f":"COUNTIF('S51'!$D$17:$L$17,$C112)","v":0},{"$f":"COUNTIF('S52'!$D$17:$L$17,$C112)","v":0}]
[null,null,"CAMILLE MD","REDACTION",{"$f":"COUNTIF('S1'!$D$17:$L$17,$C113)","v":0},{"$f":"COUNTIF('S2'!$D$17:$L$17,$C113)","v":0},{"$f":"COUNTIF('S3'!$D$17:$L$17,$C113)","v":0},{"$f":"COUNTIF('S4'!$D$17:$L$17,$C113)","v":0},{"$f":"COUNTIF('S5'!$D$17:$L$17,$C113)","v":0},{"$f":"COUNTIF('S6'!$D$17:$L$17,$C113)","v":0},{"$f":"COUNTIF('S7'!$D$17:$L$17,$C113)","v":0},{"$f":"COUNTIF('S8'!$D$17:$L$17,$C113)","v":0},{"$f":"COUNTIF('S9'!$D$17:$L$17,$C113)","v":0},{"$f":"COUNTIF('S10'!$D$17:$L$17,$C113)","v":0},{"$f":"COUNTIF('S11'!$D$17:$L$17,$C113)","v":0},{"$f":"COUNTIF('S12'!$D$17:$L$17,$C113)","v":0},{"$f":"COUNTIF('S13'!$D$17:$L$17,$C113)","v":0},{"$f":"COUNTIF('S14'!$D$17:$L$17,$C113)","v":0},{"$f":"COUNTIF('S15'!$D$17:$L$17,$C113)","v":0},{"$f":"COUNTIF('S16'!$D$17:$L$17,$C113)","v":0},{"$f":"COUNTIF('S17'!$D$17:$L$17,$C113)","v":0},{"$f":"COUNTIF('S18'!$D$17:$L$17,$C113)","v":0},{"$f":"COUNTIF('S19'!$D$17:$L$17,$C113)","v":0},{"$f":"COUNTIF('S20'!$D$17:$L$17,$C113)","v":0},{"$f":"COUNTIF('S21'!$D$17:$L$17,$C113)","v":0},{"$f":"COUNTIF('S22'!$D$17:$L$17,$C113)","v":0},{"$f":"COUNTIF('S23'!$D$17:$L$17,$C113)","v":0},{"$f":"COUNTIF('S24'!$D$17:$L$17,$C113)","v":0},{"$f":"COUNTIF('S25'!$D$17:$L$17,$C113)","v":0},{"$f":"COUNTIF('S26'!$D$17:$L$17,$C113)","v":0},{"$f":"COUNTIF('S27'!$D$17:$L$17,$C113)","v":0},{"$f":"COUNTIF('S28'!$D$17:$L$17,$C113)","v":0},{"$f":"COUNTIF('S29'!$D$17:$L$17,$C113)","v":0},{"$f":"COUNTIF('S30'!$D$17:$L$17,$C113)","v":0},{"$f":"COUNTIF('S31'!$D$17:$L$17,$C113)","v":0},{"$f":"COUNTIF('S32'!$D$17:$L$17,$C113)","v":0},{"$f":"COUNTIF('S33'!$D$17:$L$17,$C113)","v":0},{"$f":"COUNTIF('S34'!$D$17:$L$17,$C113)","v":0},{"$f":"COUNTIF('S35'!$D$17:$L$17,$C113)","v":0},{"$f":"COUNTIF('S36'!$D$17:$L$17,$C113)","v":0},{"$f":"COUNTIF('S37'!$D$17:$L$17,$C113)","v":0},{"$f":"COUNTIF('S38'!$D$17:$L$17,$C113)","v":0},{"$f":"COUNTIF('S39'!$D$17:$L$17,$C113)","v":0},{"$f":"COUNTIF('S40'!$D$17:$L$17,$C113)","v":0},{"$f":"COUNTIF('S41'!$D$17:$L$17,$C113)","v":0},{"$f":"COUNTIF('S42'!$D$17:$L$17,$C113)","v":0},{"$f":"COUNTIF('S43'!$D$17:$L$17,$C113)","v":0},{"$f":"COUNTIF('S44'!$D$17:$L$17,$C113)","v":0},{"$f":"COUNTIF('S45'!$D$17:$L$17,$C113)","v":0},{"$f":"COUNTIF('S46'!$D$17:$L$17,$C113)","v":0},{"$f":"COUNTIF('S47'!$D$17:$L$17,$C113)","v":0},{"$f":"COUNTIF('S48'!$D$17:$L$17,$C113)","v":0},{"$f":"COUNTIF('S49'!$D$17:$L$17,$C113)","v":0},{"$f":"COUNTIF('S50'!$D$17:$L$17,$C113)","v":0},{"$f":"COUNTIF('S51'!$D$17:$L$17,$C113)","v":0},{"$f":"COUNTIF('S52'!$D$17:$L$17,$C113)","v":0}]
[null,null,"AMELIE M","REDACTION",{"$f":"COUNTIF('S1'!$D$17:$L$17,$C114)","v":0},{"$f":"COUNTIF('S2'!$D$17:$L$17,$C114)","v":0},{"$f":"COUNTIF('S3'!$D$17:$L$17,$C114)","v":0},{"$f":"COUNTIF('S4'!$D$17:$L$17,$C114)","v":0},{"$f":"COUNTIF('S5'!$D$17:$L$17,$C114)","v":0},{"$f":"COUNTIF('S6'!$D$17:$L$17,$C114)","v":0},{"$f":"COUNTIF('S7'!$D$17:$L$17,$C114)","v":0},{"$f":"COUNTIF('S8'!$D$17:$L$17,$C114)","v":0},{"$f":"COUNTIF('S9'!$D$17:$L$17,$C114)","v":0},{"$f":"COUNTIF('S10'!$D$17:$L$17,$C114)","v":0},{"$f":"COUNTIF('S11'!$D$17:$L$17,$C114)","v":0},{"$f":"COUNTIF('S12'!$D$17:$L$17,$C114)","v":0},{"$f":"COUNTIF('S13'!$D$17:$L$17,$C114)","v":0},{"$f":"COUNTIF('S14'!$D$17:$L$17,$C114)","v":0},{"$f":"COUNTIF('S15'!$D$17:$L$17,$C114)","v":0},{"$f":"COUNTIF('S16'!$D$17:$L$17,$C114)","v":0},{"$f":"COUNTIF('S17'!$D$17:$L$17,$C114)","v":0},{"$f":"COUNTIF('S18'!$D$17:$L$17,$C114)","v":0},{"$f":"COUNTIF('S19'!$D$17:$L$17,$C114)","v":0},{"$f":"COUNTIF('S20'!$D$17:$L$17,$C114)","v":0},{"$f":"COUNTIF('S21'!$D$17:$L$17,$C114)","v":0},{"$f":"COUNTIF('S22'!$D$17:$L$17,$C114)","v":0},{"$f":"COUNTIF('S23'!$D$17:$L$17,$C114)","v":0},{"$f":"COUNTIF('S24'!$D$17:$L$17,$C114)","v":0},{"$f":"COUNTIF('S25'!$D$17:$L$17,$C114)","v":0},{"$f":"COUNTIF('S26'!$D$17:$L$17,$C114)","v":0},{"$f":"COUNTIF('S27'!$D$17:$L$17,$C114)","v":0},{"$f":"COUNTIF('S28'!$D$17:$L$17,$C114)","v":0},{"$f":"COUNTIF('S29'!$D$17:$L$17,$C114)","v":0},{"$f":"COUNTIF('S30'!$D$17:$L$17,$C114)","v":0},{"$f":"COUNTIF('S31'!$D$17:$L$17,$C114)","v":0},{"$f":"COUNTIF('S32'!$D$17:$L$17,$C114)","v":0},{"$f":"COUNTIF('S33'!$D$17:$L$17,$C114)","v":0},{"$f":"COUNTIF('S34'!$D$17:$L$17,$C114)","v":0},{"$f":"COUNTIF('S35'!$D$17:$L$17,$C114)","v":0},{"$f":"COUNTIF('S36'!$D$17:$L$17,$C114)","v":0},{"$f":"COUNTIF('S37'!$D$17:$L$17,$C114)","v":0},{"$f":"COUNTIF('S38'!$D$17:$L$17,$C114)","v":0},{"$f":"COUNTIF('S39'!$D$17:$L$17,$C114)","v":0},{"$f":"COUNTIF('S40'!$D$17:$L$17,$C114)","v":0},{"$f":"COUNTIF('S41'!$D$17:$L$17,$C114)","v":0},{"$f":"COUNTIF('S42'!$D$17:$L$17,$C114)","v":0},{"$f":"COUNTIF('S43'!$D$17:$L$17,$C114)","v":0},{"$f":"COUNTIF('S44'!$D$17:$L$17,$C114)","v":0},{"$f":"COUNTIF('S45'!$D$17:$L$17,$C114)","v":0},{"$f":"COUNTIF('S46'!$D$17:$L$17,$C114)","v":0},{"$f":"COUNTIF('S47'!$D$17:$L$17,$C114)","v":0},{"$f":"COUNTIF('S48'!$D$17:$L$17,$C114)","v":0},{"$f":"COUNTIF('S49'!$D$17:$L$17,$C114)","v":0},{"$f":"COUNTIF('S50'!$D$17:$L$17,$C114)","v":0},{"$f":"COUNTIF('S51'!$D$17:$L$17,$C114)","v":0},{"$f":"COUNTIF('S52'!$D$17:$L$17,$C114)","v":0}]
[null,null,"POME H","REDACTION",{"$f":"COUNTIF('S1'!$D$17:$L$17,$C115)","v":0},{"$f":"COUNTIF('S2'!$D$17:$L$17,$C115)","v":0},{"$f":"COUNTIF('S3'!$D$17:$L$17,$C115)","v":0},{"$f":"COUNTIF('S4'!$D$17:$L$17,$C115)","v":0},{"$f":"COUNTIF('S5'!$D$17:$L$17,$C115)","v":0},{"$f":"COUNTIF('S6'!$D$17:$L$17,$C115)","v":0},{"$f":"COUNTIF('S7'!$D$17:$L$17,$C115)","v":0},{"$f":"COUNTIF('S8'!$D$17:$L$17,$C115)","v":0},{"$f":"COUNTIF('S9'!$D$17:$L$17,$C115)","v":0},{"$f":"COUNTIF('S10'!$D$17:$L$17,$C115)","v":0},{"$f":"COUNTIF('S11'!$D$17:$L$17,$C115)","v":0},{"$f":"COUNTIF('S12'!$D$17:$L$17,$C115)","v":0},{"$f":"COUNTIF('S13'!$D$17:$L$17,$C115)","v":0},{"$f":"COUNTIF('S14'!$D$17:$L$17,$C115)","v":0},{"$f":"COUNTIF('S15'!$D$17:$L$17,$C115)","v":0},{"$f":"COUNTIF('S16'!$D$17:$L$17,$C115)","v":0},{"$f":"COUNTIF('S17'!$D$17:$L$17,$C115)","v":0},{"$f":"COUNTIF('S18'!$D$17:$L$17,$C115)","v":0},{"$f":"COUNTIF('S19'!$D$17:$L$17,$C115)","v":0},{"$f":"COUNTIF('S20'!$D$17:$L$17,$C115)","v":0},{"$f":"COUNTIF('S21'!$D$17:$L$17,$C115)","v":0},{"$f":"COUNTIF('S22'!$D$17:$L$17,$C115)","v":0},{"$f":"COUNTIF('S23'!$D$17:$L$17,$C115)","v":0},{"$f":"COUNTIF('S24'!$D$17:$L$17,$C115)","v":0},{"$f":"COUNTIF('S25'!$D$17:$L$17,$C115)","v":0},{"$f":"COUNTIF('S26'!$D$17:$L$17,$C115)","v":0},{"$f":"COUNTIF('S27'!$D$17:$L$17,$C115)","v":0},{"$f":"COUNTIF('S28'!$D$17:$L$17,$C115)","v":0},{"$f":"COUNTIF('S29'!$D$17:$L$17,$C115)","v":0},{"$f":"COUNTIF('S30'!$D$17:$L$17,$C115)","v":0},{"$f":"COUNTIF('S31'!$D$17:$L$17,$C115)","v":0},{"$f":"COUNTIF('S32'!$D$17:$L$17,$C115)","v":0},{"$f":"COUNTIF('S33'!$D$17:$L$17,$C115)","v":0},{"$f":"COUNTIF('S34'!$D$17:$L$17,$C115)","v":0},{"$f":"COUNTIF('S35'!$D$17:$L$17,$C115)","v":0},{"$f":"COUNTIF('S36'!$D$17:$L$17,$C115)","v":0},{"$f":"COUNTIF('S37'!$D$17:$L$17,$C115)","v":0},{"$f":"COUNTIF('S38'!$D$17:$L$17,$C115)","v":0},{"$f":"COUNTIF('S39'!$D$17:$L$17,$C115)","v":0},{"$f":"COUNTIF('S40'!$D$17:$L$17,$C115)","v":0},{"$f":"COUNTIF('S41'!$D$17:$L$17,$C115)","v":0},{"$f":"COUNTIF('S42'!$D$17:$L$17,$C115)","v":0},{"$f":"COUNTIF('S43'!$D$17:$L$17,$C115)","v":0},{"$f":"COUNTIF('S44'!$D$17:$L$17,$C115)","v":0},{"$f":"COUNTIF('S45'!$D$17:$L$17,$C115)","v":0},{"$f":"COUNTIF('S46'!$D$17:$L$17,$C115)","v":0},{"$f":"COUNTIF('S47'!$D$17:$L$17,$C115)","v":0},{"$f":"COUNTIF('S48'!$D$17:$L$17,$C115)","v":0},{"$f":"COUNTIF('S49'!$D$17:$L$17,$C115)","v":0},{"$f":"COUNTIF('S50'!$D$17:$L$17,$C115)","v":0},{"$f":"COUNTIF('S51'!$D$17:$L$17,$C115)","v":0},{"$f":"COUNTIF('S52'!$D$17:$L$17,$C115)","v":0}]
[null,null,"LYSIANE B","REDACTION",{"$f":"COUNTIF('S1'!$D$17:$L$17,$C116)","v":0},{"$f":"COUNTIF('S2'!$D$17:$L$17,$C116)","v":0},{"$f":"COUNTIF('S3'!$D$17:$L$17,$C116)","v":0},{"$f":"COUNTIF('S4'!$D$17:$L$17,$C116)","v":0},{"$f":"COUNTIF('S5'!$D$17:$L$17,$C116)","v":0},{"$f":"COUNTIF('S6'!$D$17:$L$17,$C116)","v":0},{"$f":"COUNTIF('S7'!$D$17:$L$17,$C116)","v":0},{"$f":"COUNTIF('S8'!$D$17:$L$17,$C116)","v":0},{"$f":"COUNTIF('S9'!$D$17:$L$17,$C116)","v":0},{"$f":"COUNTIF('S10'!$D$17:$L$17,$C116)","v":0},{"$f":"COUNTIF('S11'!$D$17:$L$17,$C116)","v":0},{"$f":"COUNTIF('S12'!$D$17:$L$17,$C116)","v":0},{"$f":"COUNTIF('S13'!$D$17:$L$17,$C116)","v":0},{"$f":"COUNTIF('S14'!$D$17:$L$17,$C116)","v":0},{"$f":"COUNTIF('S15'!$D$17:$L$17,$C116)","v":0},{"$f":"COUNTIF('S16'!$D$17:$L$17,$C116)","v":0},{"$f":"COUNTIF('S17'!$D$17:$L$17,$C116)","v":0},{"$f":"COUNTIF('S18'!$D$17:$L$17,$C116)","v":0},{"$f":"COUNTIF('S19'!$D$17:$L$17,$C116)","v":0},{"$f":"COUNTIF('S20'!$D$17:$L$17,$C116)","v":0},{"$f":"COUNTIF('S21'!$D$17:$L$17,$C116)","v":0},{"$f":"COUNTIF('S22'!$D$17:$L$17,$C116)","v":0},{"$f":"COUNTIF('S23'!$D$17:$L$17,$C116)","v":0},{"$f":"COUNTIF('S24'!$D$17:$L$17,$C116)","v":0},{"$f":"COUNTIF('S25'!$D$17:$L$17,$C116)","v":0},{"$f":"COUNTIF('S26'!$D$17:$L$17,$C116)","v":0},{"$f":"COUNTIF('S27'!$D$17:$L$17,$C116)","v":0},{"$f":"COUNTIF('S28'!$D$17:$L$17,$C116)","v":0},{"$f":"COUNTIF('S29'!$D$17:$L$17,$C116)","v":0},{"$f":"COUNTIF('S30'!$D$17:$L$17,$C116)","v":0},{"$f":"COUNTIF('S31'!$D$17:$L$17,$C116)","v":0},{"$f":"COUNTIF('S32'!$D$17:$L$17,$C116)","v":0},{"$f":"COUNTIF('S33'!$D$17:$L$17,$C116)","v":0},{"$f":"COUNTIF('S34'!$D$17:$L$17,$C116)","v":0},{"$f":"COUNTIF('S35'!$D$17:$L$17,$C116)","v":0},{"$f":"COUNTIF('S36'!$D$17:$L$17,$C116)","v":0},{"$f":"COUNTIF('S37'!$D$17:$L$17,$C116)","v":0},{"$f":"COUNTIF('S38'!$D$17:$L$17,$C116)","v":0},{"$f":"COUNTIF('S39'!$D$17:$L$17,$C116)","v":0},{"$f":"COUNTIF('S40'!$D$17:$L$17,$C116)","v":0},{"$f":"COUNTIF('S41'!$D$17:$L$17,$C116)","v":0},{"$f":"COUNTIF('S42'!$D$17:$L$17,$C116)","v":0},{"$f":"COUNTIF('S43'!$D$17:$L$17,$C116)","v":0},{"$f":"COUNTIF('S44'!$D$17:$L$17,$C116)","v":0},{"$f":"COUNTIF('S45'!$D$17:$L$17,$C116)","v":0},{"$f":"COUNTIF('S46'!$D$17:$L$17,$C116)","v":0},{"$f":"COUNTIF('S47'!$D$17:$L$17,$C116)","v":0},{"$f":"COUNTIF('S48'!$D$17:$L$17,$C116)","v":0},{"$f":"COUNTIF('S49'!$D$17:$L$17,$C116)","v":0},{"$f":"COUNTIF('S50'!$D$17:$L$17,$C116)","v":0},{"$f":"COUNTIF('S51'!$D$17:$L$17,$C116)","v":0},{"$f":"COUNTIF('S52'!$D$17:$L$17,$C116)","v":0}]
[null,null,"WILLIAM K","REDACTION",{"$f":"COUNTIF('S1'!$D$17:$L$17,$C117)","v":0},{"$f":"COUNTIF('S2'!$D$17:$L$17,$C117)","v":0},{"$f":"COUNTIF('S3'!$D$17:$L$17,$C117)","v":0},{"$f":"COUNTIF('S4'!$D$17:$L$17,$C117)","v":0},{"$f":"COUNTIF('S5'!$D$17:$L$17,$C117)","v":0},{"$f":"COUNTIF('S6'!$D$17:$L$17,$C117)","v":0},{"$f":"COUNTIF('S7'!$D$17:$L$17,$C117)","v":0},{"$f":"COUNTIF('S8'!$D$17:$L$17,$C117)","v":0},{"$f":"COUNTIF('S9'!$D$17:$L$17,$C117)","v":0},{"$f":"COUNTIF('S10'!$D$17:$L$17,$C117)","v":0},{"$f":"COUNTIF('S11'!$D$17:$L$17,$C117)","v":0},{"$f":"COUNTIF('S12'!$D$17:$L$17,$C117)","v":0},{"$f":"COUNTIF('S13'!$D$17:$L$17,$C117)","v":0},{"$f":"COUNTIF('S14'!$D$17:$L$17,$C117)","v":0},{"$f":"COUNTIF('S15'!$D$17:$L$17,$C117)","v":0},{"$f":"COUNTIF('S16'!$D$17:$L$17,$C117)","v":0},{"$f":"COUNTIF('S17'!$D$17:$L$17,$C117)","v":0},{"$f":"COUNTIF('S18'!$D$17:$L$17,$C117)","v":0},{"$f":"COUNTIF('S19'!$D$17:$L$17,$C117)","v":0},{"$f":"COUNTIF('S20'!$D$17:$L$17,$C117)","v":0},{"$f":"COUNTIF('S21'!$D$17:$L$17,$C117)","v":0},{"$f":"COUNTIF('S22'!$D$17:$L$17,$C117)","v":0},{"$f":"COUNTIF('S23'!$D$17:$L$17,$C117)","v":0},{"$f":"COUNTIF('S24'!$D$17:$L$17,$C117)","v":0},{"$f":"COUNTIF('S25'!$D$17:$L$17,$C117)","v":0},{"$f":"COUNTIF('S26'!$D$17:$L$17,$C117)","v":0},{"$f":"COUNTIF('S27'!$D$17:$L$17,$C117)","v":0},{"$f":"COUNTIF('S28'!$D$17:$L$17,$C117)","v":0},{"$f":"COUNTIF('S29'!$D$17:$L$17,$C117)","v":0},{"$f":"COUNTIF('S30'!$D$17:$L$17,$C117)","v":0},{"$f":"COUNTIF('S31'!$D$17:$L$17,$C117)","v":0},{"$f":"COUNTIF('S32'!$D$17:$L$17,$C117)","v":0},{"$f":"COUNTIF('S33'!$D$17:$L$17,$C117)","v":0},{"$f":"COUNTIF('S34'!$D$17:$L$17,$C117)","v":0},{"$f":"COUNTIF('S35'!$D$17:$L$17,$C117)","v":0},{"$f":"COUNTIF('S36'!$D$17:$L$17,$C117)","v":0},{"$f":"COUNTIF('S37'!$D$17:$L$17,$C117)","v":0},{"$f":"COUNTIF('S38'!$D$17:$L$17,$C117)","v":0},{"$f":"COUNTIF('S39'!$D$17:$L$17,$C117)","v":0},{"$f":"COUNTIF('S40'!$D$17:$L$17,$C117)","v":0},{"$f":"COUNTIF('S41'!$D$17:$L$17,$C117)","v":0},{"$f":"COUNTIF('S42'!$D$17:$L$17,$C117)","v":0},{"$f":"COUNTIF('S43'!$D$17:$L$17,$C117)","v":0},{"$f":"COUNTIF('S44'!$D$17:$L$17,$C117)","v":0},{"$f":"COUNTIF('S45'!$D$17:$L$17,$C117)","v":0},{"$f":"COUNTIF('S46'!$D$17:$L$17,$C117)","v":0},{"$f":"COUNTIF('S47'!$D$17:$L$17,$C117)","v":0},{"$f":"COUNTIF('S48'!$D$17:$L$17,$C117)","v":0},{"$f":"COUNTIF('S49'!$D$17:$L$17,$C117)","v":0},{"$f":"COUNTIF('S50'!$D$17:$L$17,$C117)","v":0},{"$f":"COUNTIF('S51'!$D$17:$L$17,$C117)","v":0},{"$f":"COUNTIF('S52'!$D$17:$L$17,$C117)","v":0}]
[null,null,"ANTHONY C","REDACTION",{"$f":"COUNTIF('S1'!$D$17:$L$17,$C118)","v":0},{"$f":"COUNTIF('S2'!$D$17:$L$17,$C118)","v":0},{"$f":"COUNTIF('S3'!$D$17:$L$17,$C118)","v":0},{"$f":"COUNTIF('S4'!$D$17:$L$17,$C118)","v":0},{"$f":"COUNTIF('S5'!$D$17:$L$17,$C118)","v":0},{"$f":"COUNTIF('S6'!$D$17:$L$17,$C118)","v":0},{"$f":"COUNTIF('S7'!$D$17:$L$17,$C118)","v":0},{"$f":"COUNTIF('S8'!$D$17:$L$17,$C118)","v":0},{"$f":"COUNTIF('S9'!$D$17:$L$17,$C118)","v":0},{"$f":"COUNTIF('S10'!$D$17:$L$17,$C118)","v":0},{"$f":"COUNTIF('S11'!$D$17:$L$17,$C118)","v":0},{"$f":"COUNTIF('S12'!$D$17:$L$17,$C118)","v":0},{"$f":"COUNTIF('S13'!$D$17:$L$17,$C118)","v":0},{"$f":"COUNTIF('S14'!$D$17:$L$17,$C118)","v":0},{"$f":"COUNTIF('S15'!$D$17:$L$17,$C118)","v":0},{"$f":"COUNTIF('S16'!$D$17:$L$17,$C118)","v":0},{"$f":"COUNTIF('S17'!$D$17:$L$17,$C118)","v":0},{"$f":"COUNTIF('S18'!$D$17:$L$17,$C118)","v":0},{"$f":"COUNTIF('S19'!$D$17:$L$17,$C118)","v":0},{"$f":"COUNTIF('S20'!$D$17:$L$17,$C118)","v":0},{"$f":"COUNTIF('S21'!$D$17:$L$17,$C118)","v":0},{"$f":"COUNTIF('S22'!$D$17:$L$17,$C118)","v":0},{"$f":"COUNTIF('S23'!$D$17:$L$17,$C118)","v":0},{"$f":"COUNTIF('S24'!$D$17:$L$17,$C118)","v":0},{"$f":"COUNTIF('S25'!$D$17:$L$17,$C118)","v":0},{"$f":"COUNTIF('S26'!$D$17:$L$17,$C118)","v":0},{"$f":"COUNTIF('S27'!$D$17:$L$17,$C118)","v":0},{"$f":"COUNTIF('S28'!$D$17:$L$17,$C118)","v":0},{"$f":"COUNTIF('S29'!$D$17:$L$17,$C118)","v":0},{"$f":"COUNTIF('S30'!$D$17:$L$17,$C118)","v":0},{"$f":"COUNTIF('S31'!$D$17:$L$17,$C118)","v":0},{"$f":"COUNTIF('S32'!$D$17:$L$17,$C118)","v":0},{"$f":"COUNTIF('S33'!$D$17:$L$17,$C118)","v":0},{"$f":"COUNTIF('S34'!$D$17:$L$17,$C118)","v":0},{"$f":"COUNTIF('S35'!$D$17:$L$17,$C118)","v":0},{"$f":"COUNTIF('S36'!$D$17:$L$17,$C118)","v":0},{"$f":"COUNTIF('S37'!$D$17:$L$17,$C118)","v":0},{"$f":"COUNTIF('S38'!$D$17:$L$17,$C118)","v":0},{"$f":"COUNTIF('S39'!$D$17:$L$17,$C118)","v":0},{"$f":"COUNTIF('S40'!$D$17:$L$17,$C118)","v":0},{"$f":"COUNTIF('S41'!$D$17:$L$17,$C118)","v":0},{"$f":"COUNTIF('S42'!$D$17:$L$17,$C118)","v":0},{"$f":"COUNTIF('S43'!$D$17:$L$17,$C118)","v":0},{"$f":"COUNTIF('S44'!$D$17:$L$17,$C118)","v":0},{"$f":"COUNTIF('S45'!$D$17:$L$17,$C118)","v":0},{"$f":"COUNTIF('S46'!$D$17:$L$17,$C118)","v":0},{"$f":"COUNTIF('S47'!$D$17:$L$17,$C118)","v":0},{"$f":"COUNTIF('S48'!$D$17:$L$17,$C118)","v":0},{"$f":"COUNTIF('S49'!$D$17:$L$17,$C118)","v":0},{"$f":"COUNTIF('S50'!$D$17:$L$17,$C118)","v":0},{"$f":"COUNTIF('S51'!$D$17:$L$17,$C118)","v":0},{"$f":"COUNTIF('S52'!$D$17:$L$17,$C118)","v":0}]
[null,null,"REMPLACANT 1","REDACTION",{"$f":"COUNTIF('S1'!$D$17:$L$17,$C119)","v":0},{"$f":"COUNTIF('S2'!$D$17:$L$17,$C119)","v":0},{"$f":"COUNTIF('S3'!$D$17:$L$17,$C119)","v":0},{"$f":"COUNTIF('S4'!$D$17:$L$17,$C119)","v":0},{"$f":"COUNTIF('S5'!$D$17:$L$17,$C119)","v":0},{"$f":"COUNTIF('S6'!$D$17:$L$17,$C119)","v":0},{"$f":"COUNTIF('S7'!$D$17:$L$17,$C119)","v":0},{"$f":"COUNTIF('S8'!$D$17:$L$17,$C119)","v":0},{"$f":"COUNTIF('S9'!$D$17:$L$17,$C119)","v":0},{"$f":"COUNTIF('S10'!$D$17:$L$17,$C119)","v":0},{"$f":"COUNTIF('S11'!$D$17:$L$17,$C119)","v":0},{"$f":"COUNTIF('S12'!$D$17:$L$17,$C119)","v":0},{"$f":"COUNTIF('S13'!$D$17:$L$17,$C119)","v":0},{"$f":"COUNTIF('S14'!$D$17:$L$17,$C119)","v":0},{"$f":"COUNTIF('S15'!$D$17:$L$17,$C119)","v":0},{"$f":"COUNTIF('S16'!$D$17:$L$17,$C119)","v":0},{"$f":"COUNTIF('S17'!$D$17:$L$17,$C119)","v":0},{"$f":"COUNTIF('S18'!$D$17:$L$17,$C119)","v":0},{"$f":"COUNTIF('S19'!$D$17:$L$17,$C119)","v":0},{"$f":"COUNTIF('S20'!$D$17:$L$17,$C119)","v":0},{"$f":"COUNTIF('S21'!$D$17:$L$17,$C119)","v":0},{"$f":"COUNTIF('S22'!$D$17:$L$17,$C119)","v":0},{"$f":"COUNTIF('S23'!$D$17:$L$17,$C119)","v":0},{"$f":"COUNTIF('S24'!$D$17:$L$17,$C119)","v":0},{"$f":"COUNTIF('S25'!$D$17:$L$17,$C119)","v":0},{"$f":"COUNTIF('S26'!$D$17:$L$17,$C119)","v":0},{"$f":"COUNTIF('S27'!$D$17:$L$17,$C119)","v":0},{"$f":"COUNTIF('S28'!$D$17:$L$17,$C119)","v":0},{"$f":"COUNTIF('S29'!$D$17:$L$17,$C119)","v":0},{"$f":"COUNTIF('S30'!$D$17:$L$17,$C119)","v":0},{"$f":"COUNTIF('S31'!$D$17:$L$17,$C119)","v":0},{"$f":"COUNTIF('S32'!$D$17:$L$17,$C119)","v":0},{"$f":"COUNTIF('S33'!$D$17:$L$17,$C119)","v":0},{"$f":"COUNTIF('S34'!$D$17:$L$17,$C119)","v":0},{"$f":"COUNTIF('S35'!$D$17:$L$17,$C119)","v":0},{"$f":"COUNTIF('S36'!$D$17:$L$17,$C119)","v":0},{"$f":"COUNTIF('S37'!$D$17:$L$17,$C119)","v":0},{"$f":"COUNTIF('S38'!$D$17:$L$17,$C119)","v":0},{"$f":"COUNTIF('S39'!$D$17:$L$17,$C119)","v":0},{"$f":"COUNTIF('S40'!$D$17:$L$17,$C119)","v":0},{"$f":"COUNTIF('S41'!$D$17:$L$17,$C119)","v":0},{"$f":"COUNTIF('S42'!$D$17:$L$17,$C119)","v":0},{"$f":"COUNTIF('S43'!$D$17:$L$17,$C119)","v":0},{"$f":"COUNTIF('S44'!$D$17:$L$17,$C119)","v":0},{"$f":"COUNTIF('S45'!$D$17:$L$17,$C119)","v":0},{"$f":"COUNTIF('S46'!$D$17:$L$17,$C119)","v":0},{"$f":"COUNTIF('S47'!$D$17:$L$17,$C119)","v":0},{"$f":"COUNTIF('S48'!$D$17:$L$17,$C119)","v":0},{"$f":"COUNTIF('S49'!$D$17:$L$17,$C119)","v":0},{"$f":"COUNTIF('S50'!$D$17:$L$17,$C119)","v":0},{"$f":"COUNTIF('S51'!$D$17:$L$17,$C119)","v":0},{"$f":"COUNTIF('S52'!$D$17:$L$17,$C119)","v":0}]
[null,null,"REMPLACANT 2 ","REDACTION",{"$f":"COUNTIF('S1'!$D$17:$L$17,$C120)","v":0},{"$f":"COUNTIF('S2'!$D$17:$L$17,$C120)","v":0},{"$f":"COUNTIF('S3'!$D$17:$L$17,$C120)","v":0},{"$f":"COUNTIF('S4'!$D$17:$L$17,$C120)","v":0},{"$f":"COUNTIF('S5'!$D$17:$L$17,$C120)","v":0},{"$f":"COUNTIF('S6'!$D$17:$L$17,$C120)","v":0},{"$f":"COUNTIF('S7'!$D$17:$L$17,$C120)","v":0},{"$f":"COUNTIF('S8'!$D$17:$L$17,$C120)","v":0},{"$f":"COUNTIF('S9'!$D$17:$L$17,$C120)","v":0},{"$f":"COUNTIF('S10'!$D$17:$L$17,$C120)","v":0},{"$f":"COUNTIF('S11'!$D$17:$L$17,$C120)","v":0},{"$f":"COUNTIF('S12'!$D$17:$L$17,$C120)","v":0},{"$f":"COUNTIF('S13'!$D$17:$L$17,$C120)","v":0},{"$f":"COUNTIF('S14'!$D$17:$L$17,$C120)","v":0},{"$f":"COUNTIF('S15'!$D$17:$L$17,$C120)","v":0},{"$f":"COUNTIF('S16'!$D$17:$L$17,$C120)","v":0},{"$f":"COUNTIF('S17'!$D$17:$L$17,$C120)","v":0},{"$f":"COUNTIF('S18'!$D$17:$L$17,$C120)","v":0},{"$f":"COUNTIF('S19'!$D$17:$L$17,$C120)","v":0},{"$f":"COUNTIF('S20'!$D$17:$L$17,$C120)","v":0},{"$f":"COUNTIF('S21'!$D$17:$L$17,$C120)","v":0},{"$f":"COUNTIF('S22'!$D$17:$L$17,$C120)","v":0},{"$f":"COUNTIF('S23'!$D$17:$L$17,$C120)","v":0},{"$f":"COUNTIF('S24'!$D$17:$L$17,$C120)","v":0},{"$f":"COUNTIF('S25'!$D$17:$L$17,$C120)","v":0},{"$f":"COUNTIF('S26'!$D$17:$L$17,$C120)","v":0},{"$f":"COUNTIF('S27'!$D$17:$L$17,$C120)","v":0},{"$f":"COUNTIF('S28'!$D$17:$L$17,$C120)","v":0},{"$f":"COUNTIF('S29'!$D$17:$L$17,$C120)","v":0},{"$f":"COUNTIF('S30'!$D$17:$L$17,$C120)","v":0},{"$f":"COUNTIF('S31'!$D$17:$L$17,$C120)","v":0},{"$f":"COUNTIF('S32'!$D$17:$L$17,$C120)","v":0},{"$f":"COUNTIF('S33'!$D$17:$L$17,$C120)","v":0},{"$f":"COUNTIF('S34'!$D$17:$L$17,$C120)","v":0},{"$f":"COUNTIF('S35'!$D$17:$L$17,$C120)","v":0},{"$f":"COUNTIF('S36'!$D$17:$L$17,$C120)","v":0},{"$f":"COUNTIF('S37'!$D$17:$L$17,$C120)","v":0},{"$f":"COUNTIF('S38'!$D$17:$L$17,$C120)","v":0},{"$f":"COUNTIF('S39'!$D$17:$L$17,$C120)","v":0},{"$f":"COUNTIF('S40'!$D$17:$L$17,$C120)","v":0},{"$f":"COUNTIF('S41'!$D$17:$L$17,$C120)","v":0},{"$f":"COUNTIF('S42'!$D$17:$L$17,$C120)","v":0},{"$f":"COUNTIF('S43'!$D$17:$L$17,$C120)","v":0},{"$f":"COUNTIF('S44'!$D$17:$L$17,$C120)","v":0},{"$f":"COUNTIF('S45'!$D$17:$L$17,$C120)","v":0},{"$f":"COUNTIF('S46'!$D$17:$L$17,$C120)","v":0},{"$f":"COUNTIF('S47'!$D$17:$L$17,$C120)","v":0},{"$f":"COUNTIF('S48'!$D$17:$L$17,$C120)","v":0},{"$f":"COUNTIF('S49'!$D$17:$L$17,$C120)","v":0},{"$f":"COUNTIF('S50'!$D$17:$L$17,$C120)","v":0},{"$f":"COUNTIF('S51'!$D$17:$L$17,$C120)","v":0},{"$f":"COUNTIF('S52'!$D$17:$L$17,$C120)","v":0}]
[null,null,"STAGIERE 1","REDACTION",{"$f":"COUNTIF('S1'!$D$17:$L$17,$C121)","v":0},{"$f":"COUNTIF('S2'!$D$17:$L$17,$C121)","v":0},{"$f":"COUNTIF('S3'!$D$17:$L$17,$C121)","v":0},{"$f":"COUNTIF('S4'!$D$17:$L$17,$C121)","v":0},{"$f":"COUNTIF('S5'!$D$17:$L$17,$C121)","v":0},{"$f":"COUNTIF('S6'!$D$17:$L$17,$C121)","v":0},{"$f":"COUNTIF('S7'!$D$17:$L$17,$C121)","v":0},{"$f":"COUNTIF('S8'!$D$17:$L$17,$C121)","v":0},{"$f":"COUNTIF('S9'!$D$17:$L$17,$C121)","v":0},{"$f":"COUNTIF('S10'!$D$17:$L$17,$C121)","v":0},{"$f":"COUNTIF('S11'!$D$17:$L$17,$C121)","v":0},{"$f":"COUNTIF('S12'!$D$17:$L$17,$C121)","v":0},{"$f":"COUNTIF('S13'!$D$17:$L$17,$C121)","v":0},{"$f":"COUNTIF('S14'!$D$17:$L$17,$C121)","v":0},{"$f":"COUNTIF('S15'!$D$17:$L$17,$C121)","v":0},{"$f":"COUNTIF('S16'!$D$17:$L$17,$C121)","v":0},{"$f":"COUNTIF('S17'!$D$17:$L$17,$C121)","v":0},{"$f":"COUNTIF('S18'!$D$17:$L$17,$C121)","v":0},{"$f":"COUNTIF('S19'!$D$17:$L$17,$C121)","v":0},{"$f":"COUNTIF('S20'!$D$17:$L$17,$C121)","v":0},{"$f":"COUNTIF('S21'!$D$17:$L$17,$C121)","v":0},{"$f":"COUNTIF('S22'!$D$17:$L$17,$C121)","v":0},{"$f":"COUNTIF('S23'!$D$17:$L$17,$C121)","v":0},{"$f":"COUNTIF('S24'!$D$17:$L$17,$C121)","v":0},{"$f":"COUNTIF('S25'!$D$17:$L$17,$C121)","v":0},{"$f":"COUNTIF('S26'!$D$17:$L$17,$C121)","v":0},{"$f":"COUNTIF('S27'!$D$17:$L$17,$C121)","v":0},{"$f":"COUNTIF('S28'!$D$17:$L$17,$C121)","v":0},{"$f":"COUNTIF('S29'!$D$17:$L$17,$C121)","v":0},{"$f":"COUNTIF('S30'!$D$17:$L$17,$C121)","v":0},{"$f":"COUNTIF('S31'!$D$17:$L$17,$C121)","v":0},{"$f":"COUNTIF('S32'!$D$17:$L$17,$C121)","v":0},{"$f":"COUNTIF('S33'!$D$17:$L$17,$C121)","v":0},{"$f":"COUNTIF('S34'!$D$17:$L$17,$C121)","v":0},{"$f":"COUNTIF('S35'!$D$17:$L$17,$C121)","v":0},{"$f":"COUNTIF('S36'!$D$17:$L$17,$C121)","v":0},{"$f":"COUNTIF('S37'!$D$17:$L$17,$C121)","v":0},{"$f":"COUNTIF('S38'!$D$17:$L$17,$C121)","v":0},{"$f":"COUNTIF('S39'!$D$17:$L$17,$C121)","v":0},{"$f":"COUNTIF('S40'!$D$17:$L$17,$C121)","v":0},{"$f":"COUNTIF('S41'!$D$17:$L$17,$C121)","v":0},{"$f":"COUNTIF('S42'!$D$17:$L$17,$C121)","v":0},{"$f":"COUNTIF('S43'!$D$17:$L$17,$C121)","v":0},{"$f":"COUNTIF('S44'!$D$17:$L$17,$C121)","v":0},{"$f":"COUNTIF('S45'!$D$17:$L$17,$C121)","v":0},{"$f":"COUNTIF('S46'!$D$17:$L$17,$C121)","v":0},{"$f":"COUNTIF('S47'!$D$17:$L$17,$C121)","v":0},{"$f":"COUNTIF('S48'!$D$17:$L$17,$C121)","v":0},{"$f":"COUNTIF('S49'!$D$17:$L$17,$C121)","v":0},{"$f":"COUNTIF('S50'!$D$17:$L$17,$C121)","v":0},{"$f":"COUNTIF('S51'!$D$17:$L$17,$C121)","v":0},{"$f":"COUNTIF('S52'!$D$17:$L$17,$C121)","v":0}]
[null,null,"STAGIERE 2","REDACTION",{"$f":"COUNTIF('S1'!$D$17:$L$17,$C122)","v":0},{"$f":"COUNTIF('S2'!$D$17:$L$17,$C122)","v":0},{"$f":"COUNTIF('S3'!$D$17:$L$17,$C122)","v":0},{"$f":"COUNTIF('S4'!$D$17:$L$17,$C122)","v":0},{"$f":"COUNTIF('S5'!$D$17:$L$17,$C122)","v":0},{"$f":"COUNTIF('S6'!$D$17:$L$17,$C122)","v":0},{"$f":"COUNTIF('S7'!$D$17:$L$17,$C122)","v":0},{"$f":"COUNTIF('S8'!$D$17:$L$17,$C122)","v":0},{"$f":"COUNTIF('S9'!$D$17:$L$17,$C122)","v":0},{"$f":"COUNTIF('S10'!$D$17:$L$17,$C122)","v":0},{"$f":"COUNTIF('S11'!$D$17:$L$17,$C122)","v":0},{"$f":"COUNTIF('S12'!$D$17:$L$17,$C122)","v":0},{"$f":"COUNTIF('S13'!$D$17:$L$17,$C122)","v":0},{"$f":"COUNTIF('S14'!$D$17:$L$17,$C122)","v":0},{"$f":"COUNTIF('S15'!$D$17:$L$17,$C122)","v":0},{"$f":"COUNTIF('S16'!$D$17:$L$17,$C122)","v":0},{"$f":"COUNTIF('S17'!$D$17:$L$17,$C122)","v":0},{"$f":"COUNTIF('S18'!$D$17:$L$17,$C122)","v":0},{"$f":"COUNTIF('S19'!$D$17:$L$17,$C122)","v":0},{"$f":"COUNTIF('S20'!$D$17:$L$17,$C122)","v":0},{"$f":"COUNTIF('S21'!$D$17:$L$17,$C122)","v":0},{"$f":"COUNTIF('S22'!$D$17:$L$17,$C122)","v":0},{"$f":"COUNTIF('S23'!$D$17:$L$17,$C122)","v":0},{"$f":"COUNTIF('S24'!$D$17:$L$17,$C122)","v":0},{"$f":"COUNTIF('S25'!$D$17:$L$17,$C122)","v":0},{"$f":"COUNTIF('S26'!$D$17:$L$17,$C122)","v":0},{"$f":"COUNTIF('S27'!$D$17:$L$17,$C122)","v":0},{"$f":"COUNTIF('S28'!$D$17:$L$17,$C122)","v":0},{"$f":"COUNTIF('S29'!$D$17:$L$17,$C122)","v":0},{"$f":"COUNTIF('S30'!$D$17:$L$17,$C122)","v":0},{"$f":"COUNTIF('S31'!$D$17:$L$17,$C122)","v":0},{"$f":"COUNTIF('S32'!$D$17:$L$17,$C122)","v":0},{"$f":"COUNTIF('S33'!$D$17:$L$17,$C122)","v":0},{"$f":"COUNTIF('S34'!$D$17:$L$17,$C122)","v":0},{"$f":"COUNTIF('S35'!$D$17:$L$17,$C122)","v":0},{"$f":"COUNTIF('S36'!$D$17:$L$17,$C122)","v":0},{"$f":"COUNTIF('S37'!$D$17:$L$17,$C122)","v":0},{"$f":"COUNTIF('S38'!$D$17:$L$17,$C122)","v":0},{"$f":"COUNTIF('S39'!$D$17:$L$17,$C122)","v":0},{"$f":"COUNTIF('S40'!$D$17:$L$17,$C122)","v":0},{"$f":"COUNTIF('S41'!$D$17:$L$17,$C122)","v":0},{"$f":"COUNTIF('S42'!$D$17:$L$17,$C122)","v":0},{"$f":"COUNTIF('S43'!$D$17:$L$17,$C122)","v":0},{"$f":"COUNTIF('S44'!$D$17:$L$17,$C122)","v":0},{"$f":"COUNTIF('S45'!$D$17:$L$17,$C122)","v":0},{"$f":"COUNTIF('S46'!$D$17:$L$17,$C122)","v":0},{"$f":"COUNTIF('S47'!$D$17:$L$17,$C122)","v":0},{"$f":"COUNTIF('S48'!$D$17:$L$17,$C122)","v":0},{"$f":"COUNTIF('S49'!$D$17:$L$17,$C122)","v":0},{"$f":"COUNTIF('S50'!$D$17:$L$17,$C122)","v":0},{"$f":"COUNTIF('S51'!$D$17:$L$17,$C122)","v":0},{"$f":"COUNTIF('S52'!$D$17:$L$17,$C122)","v":0}]
[null,null,null,"REDACTION",{"$f":"COUNTIF('S1'!$D$17:$L$17,$C123)","v":0},{"$f":"COUNTIF('S2'!$D$17:$L$17,$C123)","v":0},{"$f":"COUNTIF('S3'!$D$17:$L$17,$C123)","v":0},{"$f":"COUNTIF('S4'!$D$17:$L$17,$C123)","v":0},{"$f":"COUNTIF('S5'!$D$17:$L$17,$C123)","v":0},{"$f":"COUNTIF('S6'!$D$17:$L$17,$C123)","v":0},{"$f":"COUNTIF('S7'!$D$17:$L$17,$C123)","v":0},{"$f":"COUNTIF('S8'!$D$17:$L$17,$C123)","v":0},{"$f":"COUNTIF('S9'!$D$17:$L$17,$C123)","v":0},{"$f":"COUNTIF('S10'!$D$17:$L$17,$C123)","v":0},{"$f":"COUNTIF('S11'!$D$17:$L$17,$C123)","v":0},{"$f":"COUNTIF('S12'!$D$17:$L$17,$C123)","v":0},{"$f":"COUNTIF('S13'!$D$17:$L$17,$C123)","v":0},{"$f":"COUNTIF('S14'!$D$17:$L$17,$C123)","v":0},{"$f":"COUNTIF('S15'!$D$17:$L$17,$C123)","v":0},{"$f":"COUNTIF('S16'!$D$17:$L$17,$C123)","v":0},{"$f":"COUNTIF('S17'!$D$17:$L$17,$C123)","v":0},{"$f":"COUNTIF('S18'!$D$17:$L$17,$C123)","v":0},{"$f":"COUNTIF('S19'!$D$17:$L$17,$C123)","v":0},{"$f":"COUNTIF('S20'!$D$17:$L$17,$C123)","v":0},{"$f":"COUNTIF('S21'!$D$17:$L$17,$C123)","v":0},{"$f":"COUNTIF('S22'!$D$17:$L$17,$C123)","v":0},{"$f":"COUNTIF('S23'!$D$17:$L$17,$C123)","v":0},{"$f":"COUNTIF('S24'!$D$17:$L$17,$C123)","v":0},{"$f":"COUNTIF('S25'!$D$17:$L$17,$C123)","v":0},{"$f":"COUNTIF('S26'!$D$17:$L$17,$C123)","v":0},{"$f":"COUNTIF('S27'!$D$17:$L$17,$C123)","v":0},{"$f":"COUNTIF('S28'!$D$17:$L$17,$C123)","v":0},{"$f":"COUNTIF('S29'!$D$17:$L$17,$C123)","v":0},{"$f":"COUNTIF('S30'!$D$17:$L$17,$C123)","v":0},{"$f":"COUNTIF('S31'!$D$17:$L$17,$C123)","v":0},{"$f":"COUNTIF('S32'!$D$17:$L$17,$C123)","v":0},{"$f":"COUNTIF('S33'!$D$17:$L$17,$C123)","v":0},{"$f":"COUNTIF('S34'!$D$17:$L$17,$C123)","v":0},{"$f":"COUNTIF('S35'!$D$17:$L$17,$C123)","v":0},{"$f":"COUNTIF('S36'!$D$17:$L$17,$C123)","v":0},{"$f":"COUNTIF('S37'!$D$17:$L$17,$C123)","v":0},{"$f":"COUNTIF('S38'!$D$17:$L$17,$C123)","v":0},{"$f":"COUNTIF('S39'!$D$17:$L$17,$C123)","v":0},{"$f":"COUNTIF('S40'!$D$17:$L$17,$C123)","v":0},{"$f":"COUNTIF('S41'!$D$17:$L$17,$C123)","v":0},{"$f":"COUNTIF('S42'!$D$17:$L$17,$C123)","v":0},{"$f":"COUNTIF('S43'!$D$17:$L$17,$C123)","v":0},{"$f":"COUNTIF('S44'!$D$17:$L$17,$C123)","v":0},{"$f":"COUNTIF('S45'!$D$17:$L$17,$C123)","v":0},{"$f":"COUNTIF('S46'!$D$17:$L$17,$C123)","v":0},{"$f":"COUNTIF('S47'!$D$17:$L$17,$C123)","v":0},{"$f":"COUNTIF('S48'!$D$17:$L$17,$C123)","v":0},{"$f":"COUNTIF('S49'!$D$17:$L$17,$C123)","v":0},{"$f":"COUNTIF('S50'!$D$17:$L$17,$C123)","v":0},{"$f":"COUNTIF('S51'!$D$17:$L$17,$C123)","v":0},{"$f":"COUNTIF('S52'!$D$17:$L$17,$C123)","v":0}]
[null,null,null,"REDACTION",{"$f":"COUNTIF('S1'!$D$17:$L$17,$C124)","v":0},{"$f":"COUNTIF('S2'!$D$17:$L$17,$C124)","v":0},{"$f":"COUNTIF('S3'!$D$17:$L$17,$C124)","v":0},{"$f":"COUNTIF('S4'!$D$17:$L$17,$C124)","v":0},{"$f":"COUNTIF('S5'!$D$17:$L$17,$C124)","v":0},{"$f":"COUNTIF('S6'!$D$17:$L$17,$C124)","v":0},{"$f":"COUNTIF('S7'!$D$17:$L$17,$C124)","v":0},{"$f":"COUNTIF('S8'!$D$17:$L$17,$C124)","v":0},{"$f":"COUNTIF('S9'!$D$17:$L$17,$C124)","v":0},{"$f":"COUNTIF('S10'!$D$17:$L$17,$C124)","v":0},{"$f":"COUNTIF('S11'!$D$17:$L$17,$C124)","v":0},{"$f":"COUNTIF('S12'!$D$17:$L$17,$C124)","v":0},{"$f":"COUNTIF('S13'!$D$17:$L$17,$C124)","v":0},{"$f":"COUNTIF('S14'!$D$17:$L$17,$C124)","v":0},{"$f":"COUNTIF('S15'!$D$17:$L$17,$C124)","v":0},{"$f":"COUNTIF('S16'!$D$17:$L$17,$C124)","v":0},{"$f":"COUNTIF('S17'!$D$17:$L$17,$C124)","v":0},{"$f":"COUNTIF('S18'!$D$17:$L$17,$C124)","v":0},{"$f":"COUNTIF('S19'!$D$17:$L$17,$C124)","v":0},{"$f":"COUNTIF('S20'!$D$17:$L$17,$C124)","v":0},{"$f":"COUNTIF('S21'!$D$17:$L$17,$C124)","v":0},{"$f":"COUNTIF('S22'!$D$17:$L$17,$C124)","v":0},{"$f":"COUNTIF('S23'!$D$17:$L$17,$C124)","v":0},{"$f":"COUNTIF('S24'!$D$17:$L$17,$C124)","v":0},{"$f":"COUNTIF('S25'!$D$17:$L$17,$C124)","v":0},{"$f":"COUNTIF('S26'!$D$17:$L$17,$C124)","v":0},{"$f":"COUNTIF('S27'!$D$17:$L$17,$C124)","v":0},{"$f":"COUNTIF('S28'!$D$17:$L$17,$C124)","v":0},{"$f":"COUNTIF('S29'!$D$17:$L$17,$C124)","v":0},{"$f":"COUNTIF('S30'!$D$17:$L$17,$C124)","v":0},{"$f":"COUNTIF('S31'!$D$17:$L$17,$C124)","v":0},{"$f":"COUNTIF('S32'!$D$17:$L$17,$C124)","v":0},{"$f":"COUNTIF('S33'!$D$17:$L$17,$C124)","v":0},{"$f":"COUNTIF('S34'!$D$17:$L$17,$C124)","v":0},{"$f":"COUNTIF('S35'!$D$17:$L$17,$C124)","v":0},{"$f":"COUNTIF('S36'!$D$17:$L$17,$C124)","v":0},{"$f":"COUNTIF('S37'!$D$17:$L$17,$C124)","v":0},{"$f":"COUNTIF('S38'!$D$17:$L$17,$C124)","v":0},{"$f":"COUNTIF('S39'!$D$17:$L$17,$C124)","v":0},{"$f":"COUNTIF('S40'!$D$17:$L$17,$C124)","v":0},{"$f":"COUNTIF('S41'!$D$17:$L$17,$C124)","v":0},{"$f":"COUNTIF('S42'!$D$17:$L$17,$C124)","v":0},{"$f":"COUNTIF('S43'!$D$17:$L$17,$C124)","v":0},{"$f":"COUNTIF('S44'!$D$17:$L$17,$C124)","v":0},{"$f":"COUNTIF('S45'!$D$17:$L$17,$C124)","v":0},{"$f":"COUNTIF('S46'!$D$17:$L$17,$C124)","v":0},{"$f":"COUNTIF('S47'!$D$17:$L$17,$C124)","v":0},{"$f":"COUNTIF('S48'!$D$17:$L$17,$C124)","v":0},{"$f":"COUNTIF('S49'!$D$17:$L$17,$C124)","v":0},{"$f":"COUNTIF('S50'!$D$17:$L$17,$C124)","v":0},{"$f":"COUNTIF('S51'!$D$17:$L$17,$C124)","v":0},{"$f":"COUNTIF('S52'!$D$17:$L$17,$C124)","v":0}]
[]
[]
["RENDEZ-VOUS",null,null,"FILE","S1","S2","S3","S4","S5","S6","S7","S8","S9","S10","S111","S122","S133","S144","S155","S166","S177","S188","S199","S20","S21","S22","S23","S24","S25","S26","S27","S28","S29","S30","S31","S32","S33","S34","S35","S36","S37","S38","S39","S40","S41","S42","S43","S44","S45","S46","S47","S48","S49","S50","S51","S52"]
["TS","OCCURRENCES \nREALISE","SALIMA D",{"$f":"$A$127","v":"RENDEZ-VOUS"},{"$f":"COUNTIF('S1'!$D$5:$L$5,$C128)","v":0},{"$f":"COUNTIF('S2'!$D$5:$L$5,$C128)","v":0},{"$f":"COUNTIF('S3'!$D$5:$L$5,$C128)","v":0},{"$f":"COUNTIF('S4'!$D$5:$L$5,$C128)","v":0},{"$f":"COUNTIF('S5'!$D$5:$L$5,$C128)","v":0},{"$f":"COUNTIF('S6'!$D$5:$L$5,$C128)","v":0},{"$f":"COUNTIF('S7'!$D$5:$L$5,$C128)","v":0},{"$f":"COUNTIF('S8'!$D$5:$L$5,$C128)","v":0},{"$f":"COUNTIF('S9'!$D$5:$L$5,$C128)","v":0},{"$f":"COUNTIF('S10'!$D$5:$L$5,$C128)","v":0},{"$f":"COUNTIF('S11'!$D$5:$L$5,$C128)","v":0},{"$f":"COUNTIF('S12'!$D$5:$L$5,$C128)","v":0},{"$f":"COUNTIF('S13'!$D$5:$L$5,$C128)","v":0},{"$f":"COUNTIF('S14'!$D$5:$L$5,$C128)","v":0},{"$f":"COUNTIF('S15'!$D$5:$L$5,$C128)","v":0},{"$f":"COUNTIF('S16'!$D$5:$L$5,$C128)","v":0},{"$f":"COUNTIF('S17'!$D$5:$L$5,$C128)","v":0},{"$f":"COUNTIF('S18'!$D$5:$L$5,$C128)","v":0},{"$f":"COUNTIF('S19'!$D$5:$L$5,$C128)","v":0},{"$f":"COUNTIF('S20'!$D$5:$L$5,$C128)","v":0},{"$f":"COUNTIF('S21'!$D$5:$L$5,$C128)","v":0},{"$f":"COUNTIF('S22'!$D$5:$L$5,$C128)","v":0},{"$f":"COUNTIF('S23'!$D$5:$L$5,$C128)","v":0},{"$f":"COUNTIF('S24'!$D$5:$L$5,$C128)","v":0},{"$f":"COUNTIF('S25'!$D$5:$L$5,$C128)","v":0},{"$f":"COUNTIF('S26'!$D$5:$L$5,$C128)","v":0},{"$f":"COUNTIF('S27'!$D$5:$L$5,$C128)","v":0},{"$f":"COUNTIF('S28'!$D$5:$L$5,$C128)","v":0},{"$f":"COUNTIF('S29'!$D$5:$L$5,$C128)","v":0},{"$f":"COUNTIF('S30'!$D$5:$L$5,$C128)","v":0},{"$f":"COUNTIF('S31'!$D$5:$L$5,$C128)","v":0},{"$f":"COUNTIF('S32'!$D$5:$L$5,$C128)","v":0},{"$f":"COUNTIF('S33'!$D$5:$L$5,$C128)","v":0},{"$f":"COUNTIF('S34'!$D$5:$L$5,$C128)","v":0},{"$f":"COUNTIF('S35'!$D$5:$L$5,$C128)","v":0},{"$f":"COUNTIF('S36'!$D$5:$L$5,$C128)","v":0},{"$f":"COUNTIF('S37'!$D$5:$L$5,$C128)","v":0},{"$f":"COUNTIF('S38'!$D$5:$L$5,$C128)","v":0},{"$f":"COUNTIF('S39'!$D$5:$L$5,$C128)","v":0},{"$f":"COUNTIF('S40'!$D$5:$L$5,$C128)","v":0},{"$f":"COUNTIF('S41'!$D$5:$L$5,$C128)","v":0},{"$f":"COUNTIF('S42'!$D$5:$L$5,$C128)","v":0},{"$f":"COUNTIF('S43'!$D$5:$L$5,$C128)","v":0},{"$f":"COUNTIF('S44'!$D$5:$L$5,$C128)","v":0},{"$f":"COUNTIF('S45'!$D$5:$L$5,$C128)","v":0},{"$f":"COUNTIF('S46'!$D$5:$L$5,$C128)","v":0},{"$f":"COUNTIF('S47'!$D$5:$L$5,$C128)","v":0},{"$f":"COUNTIF('S48'!$D$5:$L$5,$C128)","v":0},{"$f":"COUNTIF('S49'!$D$5:$L$5,$C128)","v":0},{"$f":"COUNTIF('S50'!$D$5:$L$5,$C128)","v":0},{"$f":"COUNTIF('S51'!$D$5:$L$5,$C128)","v":0},{"$f":"COUNTIF('S52'!$D$5:$L$5,$C128)","v":0}]
[null,null,"EMILIE B","RENDEZ-VOUS",{"$f":"COUNTIF('S1'!$D$5:$L$5,$C129)","v":0},{"$f":"COUNTIF('S2'!$D$5:$L$5,$C129)","v":0},{"$f":"COUNTIF('S3'!$D$5:$L$5,$C129)","v":0},{"$f":"COUNTIF('S4'!$D$5:$L$5,$C129)","v":0},{"$f":"COUNTIF('S5'!$D$5:$L$5,$C129)","v":0},{"$f":"COUNTIF('S6'!$D$5:$L$5,$C129)","v":0},{"$f":"COUNTIF('S7'!$D$5:$L$5,$C129)","v":0},{"$f":"COUNTIF('S8'!$D$5:$L$5,$C129)","v":0},{"$f":"COUNTIF('S9'!$D$5:$L$5,$C129)","v":0},{"$f":"COUNTIF('S10'!$D$5:$L$5,$C129)","v":0},{"$f":"COUNTIF('S11'!$D$5:$L$5,$C129)","v":0},{"$f":"COUNTIF('S12'!$D$5:$L$5,$C129)","v":0},{"$f":"COUNTIF('S13'!$D$5:$L$5,$C129)","v":0},{"$f":"COUNTIF('S14'!$D$5:$L$5,$C129)","v":0},{"$f":"COUNTIF('S15'!$D$5:$L$5,$C129)","v":0},{"$f":"COUNTIF('S16'!$D$5:$L$5,$C129)","v":0},{"$f":"COUNTIF('S17'!$D$5:$L$5,$C129)","v":0},{"$f":"COUNTIF('S18'!$D$5:$L$5,$C129)","v":0},{"$f":"COUNTIF('S19'!$D$5:$L$5,$C129)","v":0},{"$f":"COUNTIF('S20'!$D$5:$L$5,$C129)","v":0},{"$f":"COUNTIF('S21'!$D$5:$L$5,$C129)","v":0},{"$f":"COUNTIF('S22'!$D$5:$L$5,$C129)","v":0},{"$f":"COUNTIF('S23'!$D$5:$L$5,$C129)","v":0},{"$f":"COUNTIF('S24'!$D$5:$L$5,$C129)","v":0},{"$f":"COUNTIF('S25'!$D$5:$L$5,$C129)","v":0},{"$f":"COUNTIF('S26'!$D$5:$L$5,$C129)","v":0},{"$f":"COUNTIF('S27'!$D$5:$L$5,$C129)","v":0},{"$f":"COUNTIF('S28'!$D$5:$L$5,$C129)","v":0},{"$f":"COUNTIF('S29'!$D$5:$L$5,$C129)","v":0},{"$f":"COUNTIF('S30'!$D$5:$L$5,$C129)","v":0},{"$f":"COUNTIF('S31'!$D$5:$L$5,$C129)","v":0},{"$f":"COUNTIF('S32'!$D$5:$L$5,$C129)","v":0},{"$f":"COUNTIF('S33'!$D$5:$L$5,$C129)","v":0},{"$f":"COUNTIF('S34'!$D$5:$L$5,$C129)","v":0},{"$f":"COUNTIF('S35'!$D$5:$L$5,$C129)","v":0},{"$f":"COUNTIF('S36'!$D$5:$L$5,$C129)","v":0},{"$f":"COUNTIF('S37'!$D$5:$L$5,$C129)","v":0},{"$f":"COUNTIF('S38'!$D$5:$L$5,$C129)","v":0},{"$f":"COUNTIF('S39'!$D$5:$L$5,$C129)","v":0},{"$f":"COUNTIF('S40'!$D$5:$L$5,$C129)","v":0},{"$f":"COUNTIF('S41'!$D$5:$L$5,$C129)","v":0},{"$f":"COUNTIF('S42'!$D$5:$L$5,$C129)","v":0},{"$f":"COUNTIF('S43'!$D$5:$L$5,$C129)","v":0},{"$f":"COUNTIF('S44'!$D$5:$L$5,$C129)","v":0},{"$f":"COUNTIF('S45'!$D$5:$L$5,$C129)","v":0},{"$f":"COUNTIF('S46'!$D$5:$L$5,$C129)","v":0},{"$f":"COUNTIF('S47'!$D$5:$L$5,$C129)","v":0},{"$f":"COUNTIF('S48'!$D$5:$L$5,$C129)","v":0},{"$f":"COUNTIF('S49'!$D$5:$L$5,$C129)","v":0},{"$f":"COUNTIF('S50'!$D$5:$L$5,$C129)","v":0},{"$f":"COUNTIF('S51'!$D$5:$L$5,$C129)","v":0},{"$f":"COUNTIF('S52'!$D$5:$L$5,$C129)","v":0}]
[null,null,"AUDREY L","RENDEZ-VOUS",{"$f":"COUNTIF('S1'!$D$5:$L$5,$C130)","v":0},{"$f":"COUNTIF('S2'!$D$5:$L$5,$C130)","v":0},{"$f":"COUNTIF('S3'!$D$5:$L$5,$C130)","v":0},{"$f":"COUNTIF('S4'!$D$5:$L$5,$C130)","v":0},{"$f":"COUNTIF('S5'!$D$5:$L$5,$C130)","v":0},{"$f":"COUNTIF('S6'!$D$5:$L$5,$C130)","v":0},{"$f":"COUNTIF('S7'!$D$5:$L$5,$C130)","v":0},{"$f":"COUNTIF('S8'!$D$5:$L$5,$C130)","v":0},{"$f":"COUNTIF('S9'!$D$5:$L$5,$C130)","v":0},{"$f":"COUNTIF('S10'!$D$5:$L$5,$C130)","v":0},{"$f":"COUNTIF('S11'!$D$5:$L$5,$C130)","v":0},{"$f":"COUNTIF('S12'!$D$5:$L$5,$C130)","v":0},{"$f":"COUNTIF('S13'!$D$5:$L$5,$C130)","v":0},{"$f":"COUNTIF('S14'!$D$5:$L$5,$C130)","v":0},{"$f":"COUNTIF('S15'!$D$5:$L$5,$C130)","v":0},{"$f":"COUNTIF('S16'!$D$5:$L$5,$C130)","v":0},{"$f":"COUNTIF('S17'!$D$5:$L$5,$C130)","v":0},{"$f":"COUNTIF('S18'!$D$5:$L$5,$C130)","v":0},{"$f":"COUNTIF('S19'!$D$5:$L$5,$C130)","v":0},{"$f":"COUNTIF('S20'!$D$5:$L$5,$C130)","v":0},{"$f":"COUNTIF('S21'!$D$5:$L$5,$C130)","v":0},{"$f":"COUNTIF('S22'!$D$5:$L$5,$C130)","v":0},{"$f":"COUNTIF('S23'!$D$5:$L$5,$C130)","v":0},{"$f":"COUNTIF('S24'!$D$5:$L$5,$C130)","v":0},{"$f":"COUNTIF('S25'!$D$5:$L$5,$C130)","v":0},{"$f":"COUNTIF('S26'!$D$5:$L$5,$C130)","v":0},{"$f":"COUNTIF('S27'!$D$5:$L$5,$C130)","v":0},{"$f":"COUNTIF('S28'!$D$5:$L$5,$C130)","v":0},{"$f":"COUNTIF('S29'!$D$5:$L$5,$C130)","v":0},{"$f":"COUNTIF('S30'!$D$5:$L$5,$C130)","v":0},{"$f":"COUNTIF('S31'!$D$5:$L$5,$C130)","v":0},{"$f":"COUNTIF('S32'!$D$5:$L$5,$C130)","v":0},{"$f":"COUNTIF('S33'!$D$5:$L$5,$C130)","v":0},{"$f":"COUNTIF('S34'!$D$5:$L$5,$C130)","v":0},{"$f":"COUNTIF('S35'!$D$5:$L$5,$C130)","v":0},{"$f":"COUNTIF('S36'!$D$5:$L$5,$C130)","v":0},{"$f":"COUNTIF('S37'!$D$5:$L$5,$C130)","v":0},{"$f":"COUNTIF('S38'!$D$5:$L$5,$C130)","v":0},{"$f":"COUNTIF('S39'!$D$5:$L$5,$C130)","v":0},{"$f":"COUNTIF('S40'!$D$5:$L$5,$C130)","v":0},{"$f":"COUNTIF('S41'!$D$5:$L$5,$C130)","v":0},{"$f":"COUNTIF('S42'!$D$5:$L$5,$C130)","v":0},{"$f":"COUNTIF('S43'!$D$5:$L$5,$C130)","v":0},{"$f":"COUNTIF('S44'!$D$5:$L$5,$C130)","v":0},{"$f":"COUNTIF('S45'!$D$5:$L$5,$C130)","v":0},{"$f":"COUNTIF('S46'!$D$5:$L$5,$C130)","v":0},{"$f":"COUNTIF('S47'!$D$5:$L$5,$C130)","v":0},{"$f":"COUNTIF('S48'!$D$5:$L$5,$C130)","v":0},{"$f":"COUNTIF('S49'!$D$5:$L$5,$C130)","v":0},{"$f":"COUNTIF('S50'!$D$5:$L$5,$C130)","v":0},{"$f":"COUNTIF('S51'!$D$5:$L$5,$C130)","v":0},{"$f":"COUNTIF('S52'!$D$5:$L$5,$C130)","v":0}]
[null,null,"MATHIEU G","RENDEZ-VOUS",{"$f":"COUNTIF('S1'!$D$5:$L$5,$C131)","v":0},{"$f":"COUNTIF('S2'!$D$5:$L$5,$C131)","v":0},{"$f":"COUNTIF('S3'!$D$5:$L$5,$C131)","v":0},{"$f":"COUNTIF('S4'!$D$5:$L$5,$C131)","v":0},{"$f":"COUNTIF('S5'!$D$5:$L$5,$C131)","v":0},{"$f":"COUNTIF('S6'!$D$5:$L$5,$C131)","v":0},{"$f":"COUNTIF('S7'!$D$5:$L$5,$C131)","v":0},{"$f":"COUNTIF('S8'!$D$5:$L$5,$C131)","v":0},{"$f":"COUNTIF('S9'!$D$5:$L$5,$C131)","v":0},{"$f":"COUNTIF('S10'!$D$5:$L$5,$C131)","v":0},{"$f":"COUNTIF('S11'!$D$5:$L$5,$C131)","v":0},{"$f":"COUNTIF('S12'!$D$5:$L$5,$C131)","v":0},{"$f":"COUNTIF('S13'!$D$5:$L$5,$C131)","v":0},{"$f":"COUNTIF('S14'!$D$5:$L$5,$C131)","v":0},{"$f":"COUNTIF('S15'!$D$5:$L$5,$C131)","v":0},{"$f":"COUNTIF('S16'!$D$5:$L$5,$C131)","v":0},{"$f":"COUNTIF('S17'!$D$5:$L$5,$C131)","v":0},{"$f":"COUNTIF('S18'!$D$5:$L$5,$C131)","v":0},{"$f":"COUNTIF('S19'!$D$5:$L$5,$C131)","v":0},{"$f":"COUNTIF('S20'!$D$5:$L$5,$C131)","v":0},{"$f":"COUNTIF('S21'!$D$5:$L$5,$C131)","v":0},{"$f":"COUNTIF('S22'!$D$5:$L$5,$C131)","v":0},{"$f":"COUNTIF('S23'!$D$5:$L$5,$C131)","v":0},{"$f":"COUNTIF('S24'!$D$5:$L$5,$C131)","v":0},{"$f":"COUNTIF('S25'!$D$5:$L$5,$C131)","v":0},{"$f":"COUNTIF('S26'!$D$5:$L$5,$C131)","v":0},{"$f":"COUNTIF('S27'!$D$5:$L$5,$C131)","v":0},{"$f":"COUNTIF('S28'!$D$5:$L$5,$C131)","v":0},{"$f":"COUNTIF('S29'!$D$5:$L$5,$C131)","v":0},{"$f":"COUNTIF('S30'!$D$5:$L$5,$C131)","v":0},{"$f":"COUNTIF('S31'!$D$5:$L$5,$C131)","v":0},{"$f":"COUNTIF('S32'!$D$5:$L$5,$C131)","v":0},{"$f":"COUNTIF('S33'!$D$5:$L$5,$C131)","v":0},{"$f":"COUNTIF('S34'!$D$5:$L$5,$C131)","v":0},{"$f":"COUNTIF('S35'!$D$5:$L$5,$C131)","v":0},{"$f":"COUNTIF('S36'!$D$5:$L$5,$C131)","v":0},{"$f":"COUNTIF('S37'!$D$5:$L$5,$C131)","v":0},{"$f":"COUNTIF('S38'!$D$5:$L$5,$C131)","v":0},{"$f":"COUNTIF('S39'!$D$5:$L$5,$C131)","v":0},{"$f":"COUNTIF('S40'!$D$5:$L$5,$C131)","v":0},{"$f":"COUNTIF('S41'!$D$5:$L$5,$C131)","v":0},{"$f":"COUNTIF('S42'!$D$5:$L$5,$C131)","v":0},{"$f":"COUNTIF('S43'!$D$5:$L$5,$C131)","v":0},{"$f":"COUNTIF('S44'!$D$5:$L$5,$C131)","v":0},{"$f":"COUNTIF('S45'!$D$5:$L$5,$C131)","v":0},{"$f":"COUNTIF('S46'!$D$5:$L$5,$C131)","v":0},{"$f":"COUNTIF('S47'!$D$5:$L$5,$C131)","v":0},{"$f":"COUNTIF('S48'!$D$5:$L$5,$C131)","v":0},{"$f":"COUNTIF('S49'!$D$5:$L$5,$C131)","v":0},{"$f":"COUNTIF('S50'!$D$5:$L$5,$C131)","v":0},{"$f":"COUNTIF('S51'!$D$5:$L$5,$C131)","v":0},{"$f":"COUNTIF('S52'!$D$5:$L$5,$C131)","v":0}]
[null,null,"CHRISTEL L","RENDEZ-VOUS",{"$f":"COUNTIF('S1'!$D$5:$L$5,$C132)","v":0},{"$f":"COUNTIF('S2'!$D$5:$L$5,$C132)","v":0},{"$f":"COUNTIF('S3'!$D$5:$L$5,$C132)","v":0},{"$f":"COUNTIF('S4'!$D$5:$L$5,$C132)","v":0},{"$f":"COUNTIF('S5'!$D$5:$L$5,$C132)","v":0},{"$f":"COUNTIF('S6'!$D$5:$L$5,$C132)","v":0},{"$f":"COUNTIF('S7'!$D$5:$L$5,$C132)","v":0},{"$f":"COUNTIF('S8'!$D$5:$L$5,$C132)","v":0},{"$f":"COUNTIF('S9'!$D$5:$L$5,$C132)","v":0},{"$f":"COUNTIF('S10'!$D$5:$L$5,$C132)","v":0},{"$f":"COUNTIF('S11'!$D$5:$L$5,$C132)","v":0},{"$f":"COUNTIF('S12'!$D$5:$L$5,$C132)","v":0},{"$f":"COUNTIF('S13'!$D$5:$L$5,$C132)","v":0},{"$f":"COUNTIF('S14'!$D$5:$L$5,$C132)","v":0},{"$f":"COUNTIF('S15'!$D$5:$L$5,$C132)","v":0},{"$f":"COUNTIF('S16'!$D$5:$L$5,$C132)","v":0},{"$f":"COUNTIF('S17'!$D$5:$L$5,$C132)","v":0},{"$f":"COUNTIF('S18'!$D$5:$L$5,$C132)","v":0},{"$f":"COUNTIF('S19'!$D$5:$L$5,$C132)","v":0},{"$f":"COUNTIF('S20'!$D$5:$L$5,$C132)","v":0},{"$f":"COUNTIF('S21'!$D$5:$L$5,$C132)","v":0},{"$f":"COUNTIF('S22'!$D$5:$L$5,$C132)","v":0},{"$f":"COUNTIF('S23'!$D$5:$L$5,$C132)","v":0},{"$f":"COUNTIF('S24'!$D$5:$L$5,$C132)","v":0},{"$f":"COUNTIF('S25'!$D$5:$L$5,$C132)","v":0},{"$f":"COUNTIF('S26'!$D$5:$L$5,$C132)","v":0},{"$f":"COUNTIF('S27'!$D$5:$L$5,$C132)","v":0},{"$f":"COUNTIF('S28'!$D$5:$L$5,$C132)","v":0},{"$f":"COUNTIF('S29'!$D$5:$L$5,$C132)","v":0},{"$f":"COUNTIF('S30'!$D$5:$L$5,$C132)","v":0},{"$f":"COUNTIF('S31'!$D$5:$L$5,$C132)","v":0},{"$f":"COUNTIF('S32'!$D$5:$L$5,$C132)","v":0},{"$f":"COUNTIF('S33'!$D$5:$L$5,$C132)","v":0},{"$f":"COUNTIF('S34'!$D$5:$L$5,$C132)","v":0},{"$f":"COUNTIF('S35'!$D$5:$L$5,$C132)","v":0},{"$f":"COUNTIF('S36'!$D$5:$L$5,$C132)","v":0},{"$f":"COUNTIF('S37'!$D$5:$L$5,$C132)","v":0},{"$f":"COUNTIF('S38'!$D$5:$L$5,$C132)","v":0},{"$f":"COUNTIF('S39'!$D$5:$L$5,$C132)","v":0},{"$f":"COUNTIF('S40'!$D$5:$L$5,$C132)","v":0},{"$f":"COUNTIF('S41'!$D$5:$L$5,$C132)","v":0},{"$f":"COUNTIF('S42'!$D$5:$L$5,$C132)","v":0},{"$f":"COUNTIF('S43'!$D$5:$L$5,$C132)","v":0},{"$f":"COUNTIF('S44'!$D$5:$L$5,$C132)","v":0},{"$f":"COUNTIF('S45'!$D$5:$L$5,$C132)","v":0},{"$f":"COUNTIF('S46'!$D$5:$L$5,$C132)","v":0},{"$f":"COUNTIF('S47'!$D$5:$L$5,$C132)","v":0},{"$f":"COUNTIF('S48'!$D$5:$L$5,$C132)","v":0},{"$f":"COUNTIF('S49'!$D$5:$L$5,$C132)","v":0},{"$f":"COUNTIF('S50'!$D$5:$L$5,$C132)","v":0},{"$f":"COUNTIF('S51'!$D$5:$L$5,$C132)","v":0},{"$f":"COUNTIF('S52'!$D$5:$L$5,$C132)","v":0}]
[null,null,"CAMILLE MD","RENDEZ-VOUS",{"$f":"COUNTIF('S1'!$D$5:$L$5,$C133)","v":0},{"$f":"COUNTIF('S2'!$D$5:$L$5,$C133)","v":0},{"$f":"COUNTIF('S3'!$D$5:$L$5,$C133)","v":0},{"$f":"COUNTIF('S4'!$D$5:$L$5,$C133)","v":0},{"$f":"COUNTIF('S5'!$D$5:$L$5,$C133)","v":0},{"$f":"COUNTIF('S6'!$D$5:$L$5,$C133)","v":0},{"$f":"COUNTIF('S7'!$D$5:$L$5,$C133)","v":0},{"$f":"COUNTIF('S8'!$D$5:$L$5,$C133)","v":0},{"$f":"COUNTIF('S9'!$D$5:$L$5,$C133)","v":0},{"$f":"COUNTIF('S10'!$D$5:$L$5,$C133)","v":0},{"$f":"COUNTIF('S11'!$D$5:$L$5,$C133)","v":0},{"$f":"COUNTIF('S12'!$D$5:$L$5,$C133)","v":0},{"$f":"COUNTIF('S13'!$D$5:$L$5,$C133)","v":0},{"$f":"COUNTIF('S14'!$D$5:$L$5,$C133)","v":0},{"$f":"COUNTIF('S15'!$D$5:$L$5,$C133)","v":0},{"$f":"COUNTIF('S16'!$D$5:$L$5,$C133)","v":0},{"$f":"COUNTIF('S17'!$D$5:$L$5,$C133)","v":0},{"$f":"COUNTIF('S18'!$D$5:$L$5,$C133)","v":0},{"$f":"COUNTIF('S19'!$D$5:$L$5,$C133)","v":0},{"$f":"COUNTIF('S20'!$D$5:$L$5,$C133)","v":0},{"$f":"COUNTIF('S21'!$D$5:$L$5,$C133)","v":0},{"$f":"COUNTIF('S22'!$D$5:$L$5,$C133)","v":0},{"$f":"COUNTIF('S23'!$D$5:$L$5,$C133)","v":0},{"$f":"COUNTIF('S24'!$D$5:$L$5,$C133)","v":0},{"$f":"COUNTIF('S25'!$D$5:$L$5,$C133)","v":0},{"$f":"COUNTIF('S26'!$D$5:$L$5,$C133)","v":0},{"$f":"COUNTIF('S27'!$D$5:$L$5,$C133)","v":0},{"$f":"COUNTIF('S28'!$D$5:$L$5,$C133)","v":0},{"$f":"COUNTIF('S29'!$D$5:$L$5,$C133)","v":0},{"$f":"COUNTIF('S30'!$D$5:$L$5,$C133)","v":0},{"$f":"COUNTIF('S31'!$D$5:$L$5,$C133)","v":0},{"$f":"COUNTIF('S32'!$D$5:$L$5,$C133)","v":0},{"$f":"COUNTIF('S33'!$D$5:$L$5,$C133)","v":0},{"$f":"COUNTIF('S34'!$D$5:$L$5,$C133)","v":0},{"$f":"COUNTIF('S35'!$D$5:$L$5,$C133)","v":0},{"$f":"COUNTIF('S36'!$D$5:$L$5,$C133)","v":0},{"$f":"COUNTIF('S37'!$D$5:$L$5,$C133)","v":0},{"$f":"COUNTIF('S38'!$D$5:$L$5,$C133)","v":0},{"$f":"COUNTIF('S39'!$D$5:$L$5,$C133)","v":0},{"$f":"COUNTIF('S40'!$D$5:$L$5,$C133)","v":0},{"$f":"COUNTIF('S41'!$D$5:$L$5,$C133)","v":0},{"$f":"COUNTIF('S42'!$D$5:$L$5,$C133)","v":0},{"$f":"COUNTIF('S43'!$D$5:$L$5,$C133)","v":0},{"$f":"COUNTIF('S44'!$D$5:$L$5,$C133)","v":0},{"$f":"COUNTIF('S45'!$D$5:$L$5,$C133)","v":0},{"$f":"COUNTIF('S46'!$D$5:$L$5,$C133)","v":0},{"$f":"COUNTIF('S47'!$D$5:$L$5,$C133)","v":0},{"$f":"COUNTIF('S48'!$D$5:$L$5,$C133)","v":0},{"$f":"COUNTIF('S49'!$D$5:$L$5,$C133)","v":0},{"$f":"COUNTIF('S50'!$D$5:$L$5,$C133)","v":0},{"$f":"COUNTIF('S51'!$D$5:$L$5,$C133)","v":0},{"$f":"COUNTIF('S52'!$D$5:$L$5,$C133)","v":0}]
[null,null,"REMPLACANT 1","RENDEZ-VOUS",{"$f":"COUNTIF('S1'!$D$5:$L$5,$C134)","v":0},{"$f":"COUNTIF('S2'!$D$5:$L$5,$C134)","v":0},{"$f":"COUNTIF('S3'!$D$5:$L$5,$C134)","v":0},{"$f":"COUNTIF('S4'!$D$5:$L$5,$C134)","v":0},{"$f":"COUNTIF('S5'!$D$5:$L$5,$C134)","v":0},{"$f":"COUNTIF('S6'!$D$5:$L$5,$C134)","v":0},{"$f":"COUNTIF('S7'!$D$5:$L$5,$C134)","v":0},{"$f":"COUNTIF('S8'!$D$5:$L$5,$C134)","v":0},{"$f":"COUNTIF('S9'!$D$5:$L$5,$C134)","v":0},{"$f":"COUNTIF('S10'!$D$5:$L$5,$C134)","v":0},{"$f":"COUNTIF('S11'!$D$5:$L$5,$C134)","v":0},{"$f":"COUNTIF('S12'!$D$5:$L$5,$C134)","v":0},{"$f":"COUNTIF('S13'!$D$5:$L$5,$C134)","v":0},{"$f":"COUNTIF('S14'!$D$5:$L$5,$C134)","v":0},{"$f":"COUNTIF('S15'!$D$5:$L$5,$C134)","v":0},{"$f":"COUNTIF('S16'!$D$5:$L$5,$C134)","v":0},{"$f":"COUNTIF('S17'!$D$5:$L$5,$C134)","v":0},{"$f":"COUNTIF('S18'!$D$5:$L$5,$C134)","v":0},{"$f":"COUNTIF('S19'!$D$5:$L$5,$C134)","v":0},{"$f":"COUNTIF('S20'!$D$5:$L$5,$C134)","v":0},{"$f":"COUNTIF('S21'!$D$5:$L$5,$C134)","v":0},{"$f":"COUNTIF('S22'!$D$5:$L$5,$C134)","v":0},{"$f":"COUNTIF('S23'!$D$5:$L$5,$C134)","v":0},{"$f":"COUNTIF('S24'!$D$5:$L$5,$C134)","v":0},{"$f":"COUNTIF('S25'!$D$5:$L$5,$C134)","v":0},{"$f":"COUNTIF('S26'!$D$5:$L$5,$C134)","v":0},{"$f":"COUNTIF('S27'!$D$5:$L$5,$C134)","v":0},{"$f":"COUNTIF('S28'!$D$5:$L$5,$C134)","v":0},{"$f":"COUNTIF('S29'!$D$5:$L$5,$C134)","v":0},{"$f":"COUNTIF('S30'!$D$5:$L$5,$C134)","v":0},{"$f":"COUNTIF('S31'!$D$5:$L$5,$C134)","v":0},{"$f":"COUNTIF('S32'!$D$5:$L$5,$C134)","v":0},{"$f":"COUNTIF('S33'!$D$5:$L$5,$C134)","v":0},{"$f":"COUNTIF('S34'!$D$5:$L$5,$C134)","v":0},{"$f":"COUNTIF('S35'!$D$5:$L$5,$C134)","v":0},{"$f":"COUNTIF('S36'!$D$5:$L$5,$C134)","v":0},{"$f":"COUNTIF('S37'!$D$5:$L$5,$C134)","v":0},{"$f":"COUNTIF('S38'!$D$5:$L$5,$C134)","v":0},{"$f":"COUNTIF('S39'!$D$5:$L$5,$C134)","v":0},{"$f":"COUNTIF('S40'!$D$5:$L$5,$C134)","v":0},{"$f":"COUNTIF('S41'!$D$5:$L$5,$C134)","v":0},{"$f":"COUNTIF('S42'!$D$5:$L$5,$C134)","v":0},{"$f":"COUNTIF('S43'!$D$5:$L$5,$C134)","v":0},{"$f":"COUNTIF('S44'!$D$5:$L$5,$C134)","v":0},{"$f":"COUNTIF('S45'!$D$5:$L$5,$C134)","v":0},{"$f":"COUNTIF('S46'!$D$5:$L$5,$C134)","v":0},{"$f":"COUNTIF('S47'!$D$5:$L$5,$C134)","v":0},{"$f":"COUNTIF('S48'!$D$5:$L$5,$C134)","v":0},{"$f":"COUNTIF('S49'!$D$5:$L$5,$C134)","v":0},{"$f":"COUNTIF('S50'!$D$5:$L$5,$C134)","v":0},{"$f":"COUNTIF('S51'!$D$5:$L$5,$C134)","v":0},{"$f":"COUNTIF('S52'!$D$5:$L$5,$C134)","v":0}]
[null,null,"REMPLACANT 2 ","RENDEZ-VOUS",{"$f":"COUNTIF('S1'!$D$5:$L$5,$C135)","v":0},{"$f":"COUNTIF('S2'!$D$5:$L$5,$C135)","v":0},{"$f":"COUNTIF('S3'!$D$5:$L$5,$C135)","v":0},{"$f":"COUNTIF('S4'!$D$5:$L$5,$C135)","v":0},{"$f":"COUNTIF('S5'!$D$5:$L$5,$C135)","v":0},{"$f":"COUNTIF('S6'!$D$5:$L$5,$C135)","v":0},{"$f":"COUNTIF('S7'!$D$5:$L$5,$C135)","v":0},{"$f":"COUNTIF('S8'!$D$5:$L$5,$C135)","v":0},{"$f":"COUNTIF('S9'!$D$5:$L$5,$C135)","v":0},{"$f":"COUNTIF('S10'!$D$5:$L$5,$C135)","v":0},{"$f":"COUNTIF('S11'!$D$5:$L$5,$C135)","v":0},{"$f":"COUNTIF('S12'!$D$5:$L$5,$C135)","v":0},{"$f":"COUNTIF('S13'!$D$5:$L$5,$C135)","v":0},{"$f":"COUNTIF('S14'!$D$5:$L$5,$C135)","v":0},{"$f":"COUNTIF('S15'!$D$5:$L$5,$C135)","v":0},{"$f":"COUNTIF('S16'!$D$5:$L$5,$C135)","v":0},{"$f":"COUNTIF('S17'!$D$5:$L$5,$C135)","v":0},{"$f":"COUNTIF('S18'!$D$5:$L$5,$C135)","v":0},{"$f":"COUNTIF('S19'!$D$5:$L$5,$C135)","v":0},{"$f":"COUNTIF('S20'!$D$5:$L$5,$C135)","v":0},{"$f":"COUNTIF('S21'!$D$5:$L$5,$C135)","v":0},{"$f":"COUNTIF('S22'!$D$5:$L$5,$C135)","v":0},{"$f":"COUNTIF('S23'!$D$5:$L$5,$C135)","v":0},{"$f":"COUNTIF('S24'!$D$5:$L$5,$C135)","v":0},{"$f":"COUNTIF('S25'!$D$5:$L$5,$C135)","v":0},{"$f":"COUNTIF('S26'!$D$5:$L$5,$C135)","v":0},{"$f":"COUNTIF('S27'!$D$5:$L$5,$C135)","v":0},{"$f":"COUNTIF('S28'!$D$5:$L$5,$C135)","v":0},{"$f":"COUNTIF('S29'!$D$5:$L$5,$C135)","v":0},{"$f":"COUNTIF('S30'!$D$5:$L$5,$C135)","v":0},{"$f":"COUNTIF('S31'!$D$5:$L$5,$C135)","v":0},{"$f":"COUNTIF('S32'!$D$5:$L$5,$C135)","v":0},{"$f":"COUNTIF('S33'!$D$5:$L$5,$C135)","v":0},{"$f":"COUNTIF('S34'!$D$5:$L$5,$C135)","v":0},{"$f":"COUNTIF('S35'!$D$5:$L$5,$C135)","v":0},{"$f":"COUNTIF('S36'!$D$5:$L$5,$C135)","v":0},{"$f":"COUNTIF('S37'!$D$5:$L$5,$C135)","v":0},{"$f":"COUNTIF('S38'!$D$5:$L$5,$C135)","v":0},{"$f":"COUNTIF('S39'!$D$5:$L$5,$C135)","v":0},{"$f":"COUNTIF('S40'!$D$5:$L$5,$C135)","v":0},{"$f":"COUNTIF('S41'!$D$5:$L$5,$C135)","v":0},{"$f":"COUNTIF('S42'!$D$5:$L$5,$C135)","v":0},{"$f":"COUNTIF('S43'!$D$5:$L$5,$C135)","v":0},{"$f":"COUNTIF('S44'!$D$5:$L$5,$C135)","v":0},{"$f":"COUNTIF('S45'!$D$5:$L$5,$C135)","v":0},{"$f":"COUNTIF('S46'!$D$5:$L$5,$C135)","v":0},{"$f":"COUNTIF('S47'!$D$5:$L$5,$C135)","v":0},{"$f":"COUNTIF('S48'!$D$5:$L$5,$C135)","v":0},{"$f":"COUNTIF('S49'!$D$5:$L$5,$C135)","v":0},{"$f":"COUNTIF('S50'!$D$5:$L$5,$C135)","v":0},{"$f":"COUNTIF('S51'!$D$5:$L$5,$C135)","v":0},{"$f":"COUNTIF('S52'!$D$5:$L$5,$C135)","v":0}]
[null,null,"STAGIERE 1","RENDEZ-VOUS",{"$f":"COUNTIF('S1'!$D$5:$L$5,$C136)","v":0},{"$f":"COUNTIF('S2'!$D$5:$L$5,$C136)","v":0},{"$f":"COUNTIF('S3'!$D$5:$L$5,$C136)","v":0},{"$f":"COUNTIF('S4'!$D$5:$L$5,$C136)","v":0},{"$f":"COUNTIF('S5'!$D$5:$L$5,$C136)","v":0},{"$f":"COUNTIF('S6'!$D$5:$L$5,$C136)","v":0},{"$f":"COUNTIF('S7'!$D$5:$L$5,$C136)","v":0},{"$f":"COUNTIF('S8'!$D$5:$L$5,$C136)","v":0},{"$f":"COUNTIF('S9'!$D$5:$L$5,$C136)","v":0},{"$f":"COUNTIF('S10'!$D$5:$L$5,$C136)","v":0},{"$f":"COUNTIF('S11'!$D$5:$L$5,$C136)","v":0},{"$f":"COUNTIF('S12'!$D$5:$L$5,$C136)","v":0},{"$f":"COUNTIF('S13'!$D$5:$L$5,$C136)","v":0},{"$f":"COUNTIF('S14'!$D$5:$L$5,$C136)","v":0},{"$f":"COUNTIF('S15'!$D$5:$L$5,$C136)","v":0},{"$f":"COUNTIF('S16'!$D$5:$L$5,$C136)","v":0},{"$f":"COUNTIF('S17'!$D$5:$L$5,$C136)","v":0},{"$f":"COUNTIF('S18'!$D$5:$L$5,$C136)","v":0},{"$f":"COUNTIF('S19'!$D$5:$L$5,$C136)","v":0},{"$f":"COUNTIF('S20'!$D$5:$L$5,$C136)","v":0},{"$f":"COUNTIF('S21'!$D$5:$L$5,$C136)","v":0},{"$f":"COUNTIF('S22'!$D$5:$L$5,$C136)","v":0},{"$f":"COUNTIF('S23'!$D$5:$L$5,$C136)","v":0},{"$f":"COUNTIF('S24'!$D$5:$L$5,$C136)","v":0},{"$f":"COUNTIF('S25'!$D$5:$L$5,$C136)","v":0},{"$f":"COUNTIF('S26'!$D$5:$L$5,$C136)","v":0},{"$f":"COUNTIF('S27'!$D$5:$L$5,$C136)","v":0},{"$f":"COUNTIF('S28'!$D$5:$L$5,$C136)","v":0},{"$f":"COUNTIF('S29'!$D$5:$L$5,$C136)","v":0},{"$f":"COUNTIF('S30'!$D$5:$L$5,$C136)","v":0},{"$f":"COUNTIF('S31'!$D$5:$L$5,$C136)","v":0},{"$f":"COUNTIF('S32'!$D$5:$L$5,$C136)","v":0},{"$f":"COUNTIF('S33'!$D$5:$L$5,$C136)","v":0},{"$f":"COUNTIF('S34'!$D$5:$L$5,$C136)","v":0},{"$f":"COUNTIF('S35'!$D$5:$L$5,$C136)","v":0},{"$f":"COUNTIF('S36'!$D$5:$L$5,$C136)","v":0},{"$f":"COUNTIF('S37'!$D$5:$L$5,$C136)","v":0},{"$f":"COUNTIF('S38'!$D$5:$L$5,$C136)","v":0},{"$f":"COUNTIF('S39'!$D$5:$L$5,$C136)","v":0},{"$f":"COUNTIF('S40'!$D$5:$L$5,$C136)","v":0},{"$f":"COUNTIF('S41'!$D$5:$L$5,$C136)","v":0},{"$f":"COUNTIF('S42'!$D$5:$L$5,$C136)","v":0},{"$f":"COUNTIF('S43'!$D$5:$L$5,$C136)","v":0},{"$f":"COUNTIF('S44'!$D$5:$L$5,$C136)","v":0},{"$f":"COUNTIF('S45'!$D$5:$L$5,$C136)","v":0},{"$f":"COUNTIF('S46'!$D$5:$L$5,$C136)","v":0},{"$f":"COUNTIF('S47'!$D$5:$L$5,$C136)","v":0},{"$f":"COUNTIF('S48'!$D$5:$L$5,$C136)","v":0},{"$f":"COUNTIF('S49'!$D$5:$L$5,$C136)","v":0},{"$f":"COUNTIF('S50'!$D$5:$L$5,$C136)","v":0},{"$f":"COUNTIF('S51'!$D$5:$L$5,$C136)","v":0},{"$f":"COUNTIF('S52'!$D$5:$L$5,$C136)","v":0}]
[null,null,"STAGIERE 2","RENDEZ-VOUS",{"$f":"COUNTIF('S1'!$D$5:$L$5,$C137)","v":0},{"$f":"COUNTIF('S2'!$D$5:$L$5,$C137)","v":0},{"$f":"COUNTIF('S3'!$D$5:$L$5,$C137)","v":0},{"$f":"COUNTIF('S4'!$D$5:$L$5,$C137)","v":0},{"$f":"COUNTIF('S5'!$D$5:$L$5,$C137)","v":0},{"$f":"COUNTIF('S6'!$D$5:$L$5,$C137)","v":0},{"$f":"COUNTIF('S7'!$D$5:$L$5,$C137)","v":0},{"$f":"COUNTIF('S8'!$D$5:$L$5,$C137)","v":0},{"$f":"COUNTIF('S9'!$D$5:$L$5,$C137)","v":0},{"$f":"COUNTIF('S10'!$D$5:$L$5,$C137)","v":0},{"$f":"COUNTIF('S11'!$D$5:$L$5,$C137)","v":0},{"$f":"COUNTIF('S12'!$D$5:$L$5,$C137)","v":0},{"$f":"COUNTIF('S13'!$D$5:$L$5,$C137)","v":0},{"$f":"COUNTIF('S14'!$D$5:$L$5,$C137)","v":0},{"$f":"COUNTIF('S15'!$D$5:$L$5,$C137)","v":0},{"$f":"COUNTIF('S16'!$D$5:$L$5,$C137)","v":0},{"$f":"COUNTIF('S17'!$D$5:$L$5,$C137)","v":0},{"$f":"COUNTIF('S18'!$D$5:$L$5,$C137)","v":0},{"$f":"COUNTIF('S19'!$D$5:$L$5,$C137)","v":0},{"$f":"COUNTIF('S20'!$D$5:$L$5,$C137)","v":0},{"$f":"COUNTIF('S21'!$D$5:$L$5,$C137)","v":0},{"$f":"COUNTIF('S22'!$D$5:$L$5,$C137)","v":0},{"$f":"COUNTIF('S23'!$D$5:$L$5,$C137)","v":0},{"$f":"COUNTIF('S24'!$D$5:$L$5,$C137)","v":0},{"$f":"COUNTIF('S25'!$D$5:$L$5,$C137)","v":0},{"$f":"COUNTIF('S26'!$D$5:$L$5,$C137)","v":0},{"$f":"COUNTIF('S27'!$D$5:$L$5,$C137)","v":0},{"$f":"COUNTIF('S28'!$D$5:$L$5,$C137)","v":0},{"$f":"COUNTIF('S29'!$D$5:$L$5,$C137)","v":0},{"$f":"COUNTIF('S30'!$D$5:$L$5,$C137)","v":0},{"$f":"COUNTIF('S31'!$D$5:$L$5,$C137)","v":0},{"$f":"COUNTIF('S32'!$D$5:$L$5,$C137)","v":0},{"$f":"COUNTIF('S33'!$D$5:$L$5,$C137)","v":0},{"$f":"COUNTIF('S34'!$D$5:$L$5,$C137)","v":0},{"$f":"COUNTIF('S35'!$D$5:$L$5,$C137)","v":0},{"$f":"COUNTIF('S36'!$D$5:$L$5,$C137)","v":0},{"$f":"COUNTIF('S37'!$D$5:$L$5,$C137)","v":0},{"$f":"COUNTIF('S38'!$D$5:$L$5,$C137)","v":0},{"$f":"COUNTIF('S39'!$D$5:$L$5,$C137)","v":0},{"$f":"COUNTIF('S40'!$D$5:$L$5,$C137)","v":0},{"$f":"COUNTIF('S41'!$D$5:$L$5,$C137)","v":0},{"$f":"COUNTIF('S42'!$D$5:$L$5,$C137)","v":0},{"$f":"COUNTIF('S43'!$D$5:$L$5,$C137)","v":0},{"$f":"COUNTIF('S44'!$D$5:$L$5,$C137)","v":0},{"$f":"COUNTIF('S45'!$D$5:$L$5,$C137)","v":0},{"$f":"COUNTIF('S46'!$D$5:$L$5,$C137)","v":0},{"$f":"COUNTIF('S47'!$D$5:$L$5,$C137)","v":0},{"$f":"COUNTIF('S48'!$D$5:$L$5,$C137)","v":0},{"$f":"COUNTIF('S49'!$D$5:$L$5,$C137)","v":0},{"$f":"COUNTIF('S50'!$D$5:$L$5,$C137)","v":0},{"$f":"COUNTIF('S51'!$D$5:$L$5,$C137)","v":0},{"$f":"COUNTIF('S52'!$D$5:$L$5,$C137)","v":0}]
[null,null,null,"RENDEZ-VOUS",{"$f":"COUNTIF('S1'!$D$5:$L$5,$C138)","v":0},{"$f":"COUNTIF('S2'!$D$5:$L$5,$C138)","v":0},{"$f":"COUNTIF('S3'!$D$5:$L$5,$C138)","v":0},{"$f":"COUNTIF('S4'!$D$5:$L$5,$C138)","v":0},{"$f":"COUNTIF('S5'!$D$5:$L$5,$C138)","v":0},{"$f":"COUNTIF('S6'!$D$5:$L$5,$C138)","v":0},{"$f":"COUNTIF('S7'!$D$5:$L$5,$C138)","v":0},{"$f":"COUNTIF('S8'!$D$5:$L$5,$C138)","v":0},{"$f":"COUNTIF('S9'!$D$5:$L$5,$C138)","v":0},{"$f":"COUNTIF('S10'!$D$5:$L$5,$C138)","v":0},{"$f":"COUNTIF('S11'!$D$5:$L$5,$C138)","v":0},{"$f":"COUNTIF('S12'!$D$5:$L$5,$C138)","v":0},{"$f":"COUNTIF('S13'!$D$5:$L$5,$C138)","v":0},{"$f":"COUNTIF('S14'!$D$5:$L$5,$C138)","v":0},{"$f":"COUNTIF('S15'!$D$5:$L$5,$C138)","v":0},{"$f":"COUNTIF('S16'!$D$5:$L$5,$C138)","v":0},{"$f":"COUNTIF('S17'!$D$5:$L$5,$C138)","v":0},{"$f":"COUNTIF('S18'!$D$5:$L$5,$C138)","v":0},{"$f":"COUNTIF('S19'!$D$5:$L$5,$C138)","v":0},{"$f":"COUNTIF('S20'!$D$5:$L$5,$C138)","v":0},{"$f":"COUNTIF('S21'!$D$5:$L$5,$C138)","v":0},{"$f":"COUNTIF('S22'!$D$5:$L$5,$C138)","v":0},{"$f":"COUNTIF('S23'!$D$5:$L$5,$C138)","v":0},{"$f":"COUNTIF('S24'!$D$5:$L$5,$C138)","v":0},{"$f":"COUNTIF('S25'!$D$5:$L$5,$C138)","v":0},{"$f":"COUNTIF('S26'!$D$5:$L$5,$C138)","v":0},{"$f":"COUNTIF('S27'!$D$5:$L$5,$C138)","v":0},{"$f":"COUNTIF('S28'!$D$5:$L$5,$C138)","v":0},{"$f":"COUNTIF('S29'!$D$5:$L$5,$C138)","v":0},{"$f":"COUNTIF('S30'!$D$5:$L$5,$C138)","v":0},{"$f":"COUNTIF('S31'!$D$5:$L$5,$C138)","v":0},{"$f":"COUNTIF('S32'!$D$5:$L$5,$C138)","v":0},{"$f":"COUNTIF('S33'!$D$5:$L$5,$C138)","v":0},{"$f":"COUNTIF('S34'!$D$5:$L$5,$C138)","v":0},{"$f":"COUNTIF('S35'!$D$5:$L$5,$C138)","v":0},{"$f":"COUNTIF('S36'!$D$5:$L$5,$C138)","v":0},{"$f":"COUNTIF('S37'!$D$5:$L$5,$C138)","v":0},{"$f":"COUNTIF('S38'!$D$5:$L$5,$C138)","v":0},{"$f":"COUNTIF('S39'!$D$5:$L$5,$C138)","v":0},{"$f":"COUNTIF('S40'!$D$5:$L$5,$C138)","v":0},{"$f":"COUNTIF('S41'!$D$5:$L$5,$C138)","v":0},{"$f":"COUNTIF('S42'!$D$5:$L$5,$C138)","v":0},{"$f":"COUNTIF('S43'!$D$5:$L$5,$C138)","v":0},{"$f":"COUNTIF('S44'!$D$5:$L$5,$C138)","v":0},{"$f":"COUNTIF('S45'!$D$5:$L$5,$C138)","v":0},{"$f":"COUNTIF('S46'!$D$5:$L$5,$C138)","v":0},{"$f":"COUNTIF('S47'!$D$5:$L$5,$C138)","v":0},{"$f":"COUNTIF('S48'!$D$5:$L$5,$C138)","v":0},{"$f":"COUNTIF('S49'!$D$5:$L$5,$C138)","v":0},{"$f":"COUNTIF('S50'!$D$5:$L$5,$C138)","v":0},{"$f":"COUNTIF('S51'!$D$5:$L$5,$C138)","v":0},{"$f":"COUNTIF('S52'!$D$5:$L$5,$C138)","v":0}]
[null,null,null,"RENDEZ-VOUS",{"$f":"COUNTIF('S1'!$D$5:$L$5,$C139)","v":0},{"$f":"COUNTIF('S2'!$D$5:$L$5,$C139)","v":0},{"$f":"COUNTIF('S3'!$D$5:$L$5,$C139)","v":0},{"$f":"COUNTIF('S4'!$D$5:$L$5,$C139)","v":0},{"$f":"COUNTIF('S5'!$D$5:$L$5,$C139)","v":0},{"$f":"COUNTIF('S6'!$D$5:$L$5,$C139)","v":0},{"$f":"COUNTIF('S7'!$D$5:$L$5,$C139)","v":0},{"$f":"COUNTIF('S8'!$D$5:$L$5,$C139)","v":0},{"$f":"COUNTIF('S9'!$D$5:$L$5,$C139)","v":0},{"$f":"COUNTIF('S10'!$D$5:$L$5,$C139)","v":0},{"$f":"COUNTIF('S11'!$D$5:$L$5,$C139)","v":0},{"$f":"COUNTIF('S12'!$D$5:$L$5,$C139)","v":0},{"$f":"COUNTIF('S13'!$D$5:$L$5,$C139)","v":0},{"$f":"COUNTIF('S14'!$D$5:$L$5,$C139)","v":0},{"$f":"COUNTIF('S15'!$D$5:$L$5,$C139)","v":0},{"$f":"COUNTIF('S16'!$D$5:$L$5,$C139)","v":0},{"$f":"COUNTIF('S17'!$D$5:$L$5,$C139)","v":0},{"$f":"COUNTIF('S18'!$D$5:$L$5,$C139)","v":0},{"$f":"COUNTIF('S19'!$D$5:$L$5,$C139)","v":0},{"$f":"COUNTIF('S20'!$D$5:$L$5,$C139)","v":0},{"$f":"COUNTIF('S21'!$D$5:$L$5,$C139)","v":0},{"$f":"COUNTIF('S22'!$D$5:$L$5,$C139)","v":0},{"$f":"COUNTIF('S23'!$D$5:$L$5,$C139)","v":0},{"$f":"COUNTIF('S24'!$D$5:$L$5,$C139)","v":0},{"$f":"COUNTIF('S25'!$D$5:$L$5,$C139)","v":0},{"$f":"COUNTIF('S26'!$D$5:$L$5,$C139)","v":0},{"$f":"COUNTIF('S27'!$D$5:$L$5,$C139)","v":0},{"$f":"COUNTIF('S28'!$D$5:$L$5,$C139)","v":0},{"$f":"COUNTIF('S29'!$D$5:$L$5,$C139)","v":0},{"$f":"COUNTIF('S30'!$D$5:$L$5,$C139)","v":0},{"$f":"COUNTIF('S31'!$D$5:$L$5,$C139)","v":0},{"$f":"COUNTIF('S32'!$D$5:$L$5,$C139)","v":0},{"$f":"COUNTIF('S33'!$D$5:$L$5,$C139)","v":0},{"$f":"COUNTIF('S34'!$D$5:$L$5,$C139)","v":0},{"$f":"COUNTIF('S35'!$D$5:$L$5,$C139)","v":0},{"$f":"COUNTIF('S36'!$D$5:$L$5,$C139)","v":0},{"$f":"COUNTIF('S37'!$D$5:$L$5,$C139)","v":0},{"$f":"COUNTIF('S38'!$D$5:$L$5,$C139)","v":0},{"$f":"COUNTIF('S39'!$D$5:$L$5,$C139)","v":0},{"$f":"COUNTIF('S40'!$D$5:$L$5,$C139)","v":0},{"$f":"COUNTIF('S41'!$D$5:$L$5,$C139)","v":0},{"$f":"COUNTIF('S42'!$D$5:$L$5,$C139)","v":0},{"$f":"COUNTIF('S43'!$D$5:$L$5,$C139)","v":0},{"$f":"COUNTIF('S44'!$D$5:$L$5,$C139)","v":0},{"$f":"COUNTIF('S45'!$D$5:$L$5,$C139)","v":0},{"$f":"COUNTIF('S46'!$D$5:$L$5,$C139)","v":0},{"$f":"COUNTIF('S47'!$D$5:$L$5,$C139)","v":0},{"$f":"COUNTIF('S48'!$D$5:$L$5,$C139)","v":0},{"$f":"COUNTIF('S49'!$D$5:$L$5,$C139)","v":0},{"$f":"COUNTIF('S50'!$D$5:$L$5,$C139)","v":0},{"$f":"COUNTIF('S51'!$D$5:$L$5,$C139)","v":0},{"$f":"COUNTIF('S52'!$D$5:$L$5,$C139)","v":0}]

{"sheet":"Equilibre","index":3,"n_rows":18,"n_cols":13,"rows_kept":18,"cut":false,"hidden":false,"merged":[]}
[null,"TYPE","PERSONNEL","REGULATION MATIN","REGULATION APREM","SOMME DES REGULATIONS","PERMANENCE SAO","PERMANENCE FAJ","PERMANENCE FAJ APREM","URGENCE SAO","HORS ACCUEIL","REDACTION","RENDEZ-VOUS"]
[null,"TS FAJ","GAETAN C",{"$f":"SUM(Calculs!$E3:$BD3)","v":1},{"$f":"SUM(Calculs!$E22:$BD22)","v":1},{"$f":"SUM(D2:E2)","v":2},{"$f":"SUM(Calculs!E41:BD41)","v":0},{"$f":"SUM(Calculs!$E58:$BD58)","v":1},{"$f":"SUM(Calculs!$E69:$BD69)","v":1},null,{"$f":"SUM(Calculs!$E91:$BD91)","v":1},{"$f":"SUM(Calculs!$E106:$BD106)","v":1}]
[null,"TS FAJ","MARIANNE T",{"$f":"SUM(Calculs!$E4:$BD4)","v":0},{"$f":"SUM(Calculs!$E23:$BD23)","v":0},{"$f":"SUM(D3:E3)","v":0},{"$f":"SUM(Calculs!E42:BD42)","v":0},{"$f":"SUM(Calculs!$E59:$BD59)","v":0},{"$f":"SUM(Calculs!$E70:$BD70)","v":0},null,{"$f":"SUM(Calculs!$E92:$BD92)","v":0},{"$f":"SUM(Calculs!$E107:$BD107)","v":0}]
[null,"TS","SALIMA D",{"$f":"SUM(Calculs!$E5:$BD5)","v":0},{"$f":"SUM(Calculs!$E24:$BD24)","v":0},0,{"$f":"SUM(Calculs!E43:BD43)","v":0},null,null,{"$f":"SUM(Calculs!$E80:$BD80)","v":1},{"$f":"SUM(Calculs!$E93:$BD93)","v":0},{"$f":"SUM(Calculs!$E108:$BD108)","v":0},{"$f":"SUM(Calculs!$E128:$BD128)","v":0}]
[null,"TS","EMILIE B",{"$f":"SUM(Calculs!$E6:$BD6)","v":0},{"$f":"SUM(Calculs!$E25:$BD25)","v":0},0,{"$f":"SUM(Calculs!E44:BD44)","v":0},null,null,{"$f":"SUM(Calculs!$E81:$BD81)","v":0},{"$f":"SUM(Calculs!$E94:$BD94)","v":0},{"$f":"SUM(Calculs!$E109:$BD109)","v":0},{"$f":"SUM(Calculs!$E129:$BD129)","v":0}]
[null,"TS","AUDREY L",{"$f":"SUM(Calculs!$E7:$BD7)","v":0},{"$f":"SUM(Calculs!$E26:$BD26)","v":0},0,{"$f":"SUM(Calculs!E45:BD45)","v":0},null,null,{"$f":"SUM(Calculs!$E82:$BD82)","v":0},{"$f":"SUM(Calculs!$E95:$BD95)","v":0},{"$f":"SUM(Calculs!$E110:$BD110)","v":0},{"$f":"SUM(Calculs!$E130:$BD130)","v":0}]
[null,"TS","MATHIEU G",{"$f":"SUM(Calculs!$E8:$BD8)","v":0},{"$f":"SUM(Calculs!$E27:$BD27)","v":0},0,{"$f":"SUM(Calculs!E46:BD46)","v":0},null,null,{"$f":"SUM(Calculs!$E83:$BD83)","v":0},{"$f":"SUM(Calculs!$E96:$BD96)","v":0},{"$f":"SUM(Calculs!$E111:$BD111)","v":0},{"$f":"SUM(Calculs!$E131:$BD131)","v":0}]
[null,"TS","CHRISTEL L",{"$f":"SUM(Calculs!$E9:$BD9)","v":0},{"$f":"SUM(Calculs!$E28:$BD28)","v":0},0,{"$f":"SUM(Calculs!E47:BD47)","v":0},null,null,{"$f":"SUM(Calculs!$E84:$BD84)","v":0},{"$f":"SUM(Calculs!$E97:$BD97)","v":0},{"$f":"SUM(Calculs!$E112:$BD112)","v":0},{"$f":"SUM(Calculs!$E132:$BD132)","v":0}]
[null,"TS","CAMILLE MD",{"$f":"SUM(Calculs!$E10:$BD10)","v":0},{"$f":"SUM(Calculs!$E29:$BD29)","v":0},0,{"$f":"SUM(Calculs!E48:BD48)","v":0},null,null,{"$f":"SUM(Calculs!$E85:$BD85)","v":0},{"$f":"SUM(Calculs!$E98:$BD98)","v":0},{"$f":"SUM(Calculs!$E113:$BD113)","v":0},{"$f":"SUM(Calculs!$E133:$BD133)","v":0}]
[null,"TS PAUSE","AMELIE M",{"$f":"SUM(Calculs!$E11:$BD11)","v":0},{"$f":"SUM(Calculs!$E30:$BD30)","v":0},0,{"$f":"SUM(Calculs!E49:BD49)","v":0},null,null,null,{"$f":"SUM(Calculs!$E99:$BD99)","v":0},{"$f":"SUM(Calculs!$E114:$BD114)","v":0}]
[null,"TS PAUSE","POME H",{"$f":"SUM(Calculs!$E12:$BD12)","v":0},{"$f":"SUM(Calculs!$E31:$BD31)","v":0},0,{"$f":"SUM(Calculs!E50:BD50)","v":0},null,null,null,{"$f":"SUM(Calculs!$E100:$BD100)","v":0},{"$f":"SUM(Calculs!$E115:$BD115)","v":0}]
[null,"TS","REMPLACANT 1",{"$f":"SUM(Calculs!$E13:$BD13)","v":0},{"$f":"SUM(Calculs!$E32:$BD32)","v":0},0,null,{"$f":"SUM(Calculs!$E60:$BD60)","v":0},null,null,null,{"$f":"SUM(Calculs!$E116:$BD116)","v":0},{"$f":"SUM(Calculs!$E134:$BD134)","v":0}]
[null,"TS","REMPLACANT 2",{"$f":"SUM(Calculs!$E14:$BD14)","v":0},{"$f":"SUM(Calculs!$E33:$BD33)","v":0},0,null,{"$f":"SUM(Calculs!$E61:$BD61)","v":0},null,null,null,{"$f":"SUM(Calculs!$E117:$BD117)","v":0},{"$f":"SUM(Calculs!$E135:$BD135)","v":0}]
[null,"TS","STAGIERE 1 ",{"$f":"SUM(Calculs!$E15:$BD15)","v":0},{"$f":"SUM(Calculs!$E34:$BD34)","v":0},0,null,{"$f":"SUM(Calculs!$E62:$BD62)","v":0},null,null,null,{"$f":"SUM(Calculs!$E118:$BD118)","v":0},{"$f":"SUM(Calculs!$E136:$BD136)","v":0}]
[null,"TS","STAGIERE 2",{"$f":"SUM(Calculs!$E16:$BD16)","v":0},{"$f":"SUM(Calculs!$E35:$BD35)","v":0},0,null,{"$f":"SUM(Calculs!$E63:$BD63)","v":0},null,null,null,{"$f":"SUM(Calculs!$E119:$BD119)","v":0},{"$f":"SUM(Calculs!$E137:$BD137)","v":0}]
[null,"ACCUEIL","LYSIANE B",null,null,null,null,null,null,null,null,{"$f":"SUM(Calculs!$E120:$BD120)","v":0}]
[null,"ACCUEIL","WILLIAM K",null,null,null,null,null,null,null,null,{"$f":"SUM(Calculs!$E121:$BD121)","v":0}]
[null,"ACCUEIL","ANTHONY C",null,null,null,null,null,null,null,null,{"$f":"SUM(Calculs!$E122:$BD122)","v":0}]

{"sheet":"Menu & Règles","index":4,"n_rows":22,"n_cols":26,"rows_kept":22,"cut":false,"hidden":false,"merged":[[3,1,19,1],[21,1,35,1],[1,10,1,11],[1,12,1,13],[1,14,1,15],[1,24,1,25],[0,16,0,25],[0,8,0,15],[1,16,1,17],[1,18,1,19],[1,20,1,21],[1,22,1,23]]}
[null,null,null,null,null,null,null,null,"TS",null,null,null,null,null,null,null,"BUREAU"]
[null,null,null,null,null,null,null,null,null,null,"MERCREDI",null,"JEUDI",null,"VENDREDI",null,"LUNDI",null,"MARDI",null,"MERCREDI",null,"JEUDI",null,"VENDREDI"]
[null,null,"Lundi","Mardi","Mercredi","Jeudi","Vendredi",null,"ACCUEIL",null,"PlageInit3","PlageReduite3","PlageInit4","PlageReduite4","PlageInit5","PlageReduite5","PlageInit6","PlageReduite6","PlageInit7","PlageReduite7","PlageInit8","PlageReduite8","PlageInit9","PlageReduite9","PlageInit10","PlageReduite10"]
[null,"Matin",null,null,null,null,null,null,"BRUSSON Lysiane",{"$f":"IFERROR(INDEX(PlageInit,SMALL(IF(COUNTIF('Planning Modèle'!D4:L4,PlageInit)>0,\"\",ROW(PlageInit)),ROW())),\"\")","v":""},null,null,null,null,null,null,301,null,301,null,301,null,301,null,301]
[null,null,null,null,null,null,null,null,"KIBODI William",{"$f":"IFERROR(INDEX(PlageInit,SMALL(IF(COUNTIF('Planning Modèle'!D4:L4,PlageInit)>0,\"\",ROW(PlageInit)),ROW())),\"\")","v":""},null,null,null,null,null,null,302,null,302,null,302,null,302,null,302]
[null,null,null,null,"CHARPENTIER Gaetan",null,null,null,"CIANNI Anthony",{"$f":"IFERROR(INDEX(PlageInit,SMALL(IF(COUNTIF('Planning Modèle'!D4:L4,PlageInit)>0,\"\",ROW(PlageInit)),ROW())),\"\")","v":""},null,null,null,null,null,null,303,null,303,null,303,null,303,null,303]
[null,null,null,null,null,null,null,null,null,null,null,null,null,null,null,null,304,null,304,null,304,null,304,null,304]
[null,null,null,null,null,null,null,null,null,null,null,null,null,null,null,null,305,null,305,null,305,null,305,null,305]
[null,null,null,null,"TRAORE Marianne",null,null,null,null,null,null,null,null,null,null,null,306,null,306,null,306,null,306,null,306]
[null,null,null,null,null,null,null,null,null,null,null,null,null,null,null,null,307,null,307,null,307,null,307,null,307]
[null,null,null,null,null,null,null,null,null,null,null,null,null,null,null,null,308,null,308,null,308,null,308,null,308]
[null,null,null,null,null,null,null,null,null,null,null,null,null,null,null,null,313,null,313,null,313,null,313,null,313]
[null,null,null,null,null,null,null,null,null,null,null,null,null,null,null,null,314,null,314,null,314,null,314,null,314]
[null,null,null,null,null,null,null,null,null,null,null,null,null,null,null,null,315,null,315,null,315,null,315,null,315]
[null,null,null,null,null,null,null,null,null,null,null,null,null,null,null,null,316,null,316,null,316,null,316,null,316]
[null,null,null,null,null,null,null,null,null,null,null,null,null,null,null,null,317,null,317,null,317,null,317,null,317]
[]
[]
[]
[]
[null,null,"Lundi","Mardi",null,null,"Vendredi"]
[null,"Apres-midi"]

{"sheet":"S1","index":5,"n_rows":30,"n_cols":13,"rows_kept":30,"cut":false,"hidden":false,"merged":[[0,3,0,4],[1,3,2,3],[1,5,2,5],[1,10,2,10],[1,11,2,11],[1,12,2,12],[2,1,15,1],[17,1,26,1],[1,8,2,8],[1,9,2,9],[1,4,2,4],[1,6,2,6],[1,7,2,7]]}
[null,null,null,"PLANNING POLE ACCUEIL",null,"SEMAINE",1,null,null,"LUNDI 1 JANVIER","AU ","VENDREDI 5 JANVIER"]
[null,null,null,"LUNDI","bureau","MARDI","bureau","MERCREDI","bureau","JEUDI","bureau","VENDREDI","bureau"]
[null,"MATIN 8H30-12H15","ACTIVITE"]
[null,null,"ACCUEIL 300"]
[null,null,"REGULATION MATIN 310","GAETAN C"]
[null,null,"PERMANENCE SAO","GAETAN C"]
[null,null,"PERMANENCE SAO","GAETAN C"]
[null,null,"PERMANENCE SAO","GAETAN C"]
[null,null,"PERMANENCE SAO","GAETAN C"]
[null,null,"PERMANENCE FAJ","GAETAN C"]
[null,null,"HORS ACCUEIL","GAETAN C"]
[null,null,"SANTE GLOBALE","GAETAN C"]
[null,null,"UMIPP","GAETAN C"]
[null,null,"PSYCHOLOGUE","GAETAN C"]
[null,null,"EXTERRIEUR","GAETAN C"]
[null,null,"DOMICILIATION POSTALE","GAETAN C"]
[null,"13H-14H","REDACTION ",null,null,"gaetan c"]
[null,"APRES-MIDI 14H-17H","ACCUEIL 300"]
[null,null,"REGULATION APREM 310","GAETAN C",null,"REUNION DE SERVICE"]
[null,null,"URGENCE SAO","GAETAN C",null,"REUNION DE SERVICE",null,"SALIMA D"]
[null,null,"RENDEZ-VOUS","GAETAN C",null,"REUNION DE SERVICE",null,"SALIMA D"]
[null,null,"RENDEZ-VOUS","GAETAN C",null,"REUNION DE SERVICE"]
[null,null,"RENDEZ-VOUS","GAETAN C",null,"REUNION DE SERVICE"]
[null,null,"RENDEZ-VOUS","GAETAN C",null,"REUNION DE SERVICE"]
[null,null,"PERMANENCE FAJ","GAETAN C",null,"REUNION DE SERVICE"]
[null,null,"RENDEZ-VOUS FAJ","GAETAN C",null,"REUNION DE SERVICE"]
[null,null,"DOMICILIATION POSTALE","GAETAN C",null,"REUNION DE SERVICE"]
[]
[null,null,"NE TRAVAILLENT PAS              MERCREDI =CHRISTEL / LYSIANE                JEUDI A.MIDI   ANTHONY          VENDREDI   A.MIDI   AUDREY ET  WILLIAM"]
[null,"NOTES"]

{"sheet":"S2","index":6,"n_rows":30,"n_cols":13,"rows_kept":30,"cut":false,"hidden":false,"merged":[[17,1,26,1],[0,3,0,4],[1,3,2,3],[1,4,2,4],[1,5,2,5],[2,1,15,1],[1,6,2,6],[1,9,2,9],[1,10,2,10],[1,11,2,11],[1,12,2,12],[1,7,2,7],[1,8,2,8]]}
[null,null,null,"PLANNING POLE ACCUEIL",null,"SEMAINE",1,null,null,"LUNDI 1 JANVIER","AU ","VENDREDI 5 JANVIER"]
[null,null,null,"LUNDI","bureau","MARDI","bureau","MERCREDI","bureau","JEUDI","bureau","VENDREDI","bureau"]
[null,"MATIN 8H30-12H15","ACTIVITE"]
[null,null,"ACCUEIL 300"]
[null,null,"REGULATION MATIN 310"]
[null,null,"PERMANENCE SAO"]
[null,null,"PERMANENCE SAO"]
[null,null,"PERMANENCE SAO"]
[null,null,"PERMANENCE SAO"]
[null,null,"PERMANENCE FAJ"]
[null,null,"HORS ACCUEIL"]
[null,null,"SANTE GLOBALE"]
[null,null,"UMIPP"]
[null,null,"PSYCHOLOGUE"]
[null,null,"EXTERRIEUR"]
[null,null,"DOMICILIATION POSTALE"]
[null,"13H-14H","REDACTION "]
[null,"APRES-MIDI 14H-17H","ACCUEIL 300"]
[null,null,"REGULATION APREM 310",null,null,"REUNION DE SERVICE"]
[null,null,"URGENCE SAO",null,null,"REUNION DE SERVICE"]
[null,null,"RENDEZ-VOUS",null,null,"REUNION DE SERVICE"]
[null,null,"RENDEZ-VOUS",null,null,"REUNION DE SERVICE"]
[null,null,"RENDEZ-VOUS",null,null,"REUNION DE SERVICE"]
[null,null,"RENDEZ-VOUS",null,null,"REUNION DE SERVICE"]
[null,null,"PERMANENCE FAJ",null,null,"REUNION DE SERVICE"]
[null,null,"RENDEZ-VOUS FAJ",null,null,"REUNION DE SERVICE"]
[null,null,"DOMICILIATION POSTALE",null,null,"REUNION DE SERVICE"]
[]
[null,null,"NE TRAVAILLENT PAS              MERCREDI =CHRISTEL / LYSIANE                JEUDI A.MIDI   ANTHONY          VENDREDI   A.MIDI   AUDREY ET  WILLIAM"]
[null,"NOTES"]

{"sheet":"S3","index":7,"n_rows":30,"n_cols":13,"rows_kept":30,"cut":false,"hidden":false,"merged":[[17,1,26,1],[0,3,0,4],[1,3,2,3],[1,4,2,4],[1,5,2,5],[2,1,15,1],[1,6,2,6],[1,9,2,9],[1,10,2,10],[1,11,2,11],[1,12,2,12],[1,7,2,7],[1,8,2,8]]}
[null,null,null,"PLANNING POLE ACCUEIL",null,"SEMAINE",1,null,null,"LUNDI 1 JANVIER","AU ","VENDREDI 5 JANVIER"]
[null,null,null,"LUNDI","bureau","MARDI","bureau","MERCREDI","bureau","JEUDI","bureau","VENDREDI","bureau"]
[null,"MATIN 8H30-12H15","ACTIVITE"]
[null,null,"ACCUEIL 300"]
[null,null,"REGULATION MATIN 310"]
[null,null,"PERMANENCE SAO"]
[null,null,"PERMANENCE SAO"]
[null,null,"PERMANENCE SAO"]
[null,null,"PERMANENCE SAO"]
[null,null,"PERMANENCE FAJ"]
[null,null,"HORS ACCUEIL"]
[null,null,"SANTE GLOBALE"]
[null,null,"UMIPP"]
[null,null,"PSYCHOLOGUE"]
[null,null,"EXTERRIEUR"]
[null,null,"DOMICILIATION POSTALE"]
[null,"13H-14H","REDACTION "]
[null,"APRES-MIDI 14H-17H","ACCUEIL 300"]
[null,null,"REGULATION APREM 310",null,null,"REUNION DE SERVICE"]
[null,null,"URGENCE SAO",null,null,"REUNION DE SERVICE"]
[null,null,"RENDEZ-VOUS",null,null,"REUNION DE SERVICE"]
[null,null,"RENDEZ-VOUS",null,null,"REUNION DE SERVICE"]
[null,null,"RENDEZ-VOUS",null,null,"REUNION DE SERVICE"]
[null,null,"RENDEZ-VOUS",null,null,"REUNION DE SERVICE"]
[null,null,"PERMANENCE FAJ",null,null,"REUNION DE SERVICE"]
[null,null,"RENDEZ-VOUS FAJ",null,null,"REUNION DE SERVICE"]
[null,null,"DOMICILIATION POSTALE",null,null,"REUNION DE SERVICE"]
[]
[null,null,"NE TRAVAILLENT PAS              MERCREDI =CHRISTEL / LYSIANE                JEUDI A.MIDI   ANTHONY          VENDREDI   A.MIDI   AUDREY ET  WILLIAM"]
[null,"NOTES"]

{"sheet":"S4","index":8,"n_rows":30,"n_cols":13,"rows_kept":30,"cut":false,"hidden":false,"merged":[[17,1,26,1],[0,3,0,4],[1,3,2,3],[1,4,2,4],[1,5,2,5],[2,1,15,1],[1,6,2,6],[1,9,2,9],[1,10,2,10],[1,11,2,11],[1,12,2,12],[1,7,2,7],[1,8,2,8]]}
[null,null,null,"PLANNING POLE ACCUEIL",null,"SEMAINE",1,null,null,"LUNDI 1 JANVIER","AU ","VENDREDI 5 JANVIER"]
[null,null,null,"LUNDI","bureau","MARDI","bureau","MERCREDI","bureau","JEUDI","bureau","VENDREDI","bureau"]
[null,"MATIN 8H30-12H15","ACTIVITE"]
[null,null,"ACCUEIL 300"]
[null,null,"REGULATION MATIN 310"]
[null,null,"PERMANENCE SAO"]
[null,null,"PERMANENCE SAO"]
[null,null,"PERMANENCE SAO"]
[null,null,"PERMANENCE SAO"]
[null,null,"PERMANENCE FAJ"]
[null,null,"HORS ACCUEIL"]
[null,null,"SANTE GLOBALE"]
[null,null,"UMIPP"]
[null,null,"PSYCHOLOGUE"]
[null,null,"EXTERRIEUR"]
[null,null,"DOMICILIATION POSTALE"]
[null,"13H-14H","REDACTION "]
[null,"APRES-MIDI 14H-17H","ACCUEIL 300"]
[null,null,"REGULATION APREM 310",null,null,"REUNION DE SERVICE"]
[null,null,"URGENCE SAO",null,null,"REUNION DE SERVICE"]
[null,null,"RENDEZ-VOUS",null,null,"REUNION DE SERVICE"]
[null,null,"RENDEZ-VOUS",null,null,"REUNION DE SERVICE"]
[null,null,"RENDEZ-VOUS",null,null,"REUNION DE SERVICE"]
[null,null,"RENDEZ-VOUS",null,null,"REUNION DE SERVICE"]
[null,null,"PERMANENCE FAJ",null,null,"REUNION DE SERVICE"]
[null,null,"RENDEZ-VOUS FAJ",null,null,"REUNION DE SERVICE"]
[null,null,"DOMICILIATION POSTALE",null,null,"REUNION DE SERVICE"]
[]
[null,null,"NE TRAVAILLENT PAS              MERCREDI =CHRISTEL / LYSIANE                JEUDI A.MIDI   ANTHONY          VENDREDI   A.MIDI   AUDREY ET  WILLIAM"]
[null,"NOTES"]

{"sheet":"S5","index":9,"n_rows":30,"n_cols":13,"rows_kept":30,"cut":false,"hidden":false,"merged":[[17,1,26,1],[0,3,0,4],[1,3,2,3],[1,4,2,4],[1,5,2,5],[2,1,15,1],[1,6,2,6],[1,9,2,9],[1,10,2,10],[1,11,2,11],[1,12,2,12],[1,7,2,7],[1,8,2,8]]}
[null,null,null,"PLANNING POLE ACCUEIL",null,"SEMAINE",1,null,null,"LUNDI 1 JANVIER","AU ","VENDREDI 5 JANVIER"]
[null,null,null,"LUNDI","bureau","MARDI","bureau","MERCREDI","bureau","JEUDI","bureau","VENDREDI","bureau"]
[null,"MATIN 8H30-12H15","ACTIVITE"]
[null,null,"ACCUEIL 300"]
[null,null,"REGULATION MATIN 310"]
[null,null,"PERMANENCE SAO"]
[null,null,"PERMANENCE SAO"]
[null,null,"PERMANENCE SAO"]
[null,null,"PERMANENCE SAO"]
[null,null,"PERMANENCE FAJ"]
[null,null,"HORS ACCUEIL"]
[null,null,"SANTE GLOBALE"]
[null,null,"UMIPP"]
[null,null,"PSYCHOLOGUE"]
[null,null,"EXTERRIEUR"]
[null,null,"DOMICILIATION POSTALE"]
[null,"13H-14H","REDACTION "]
[null,"APRES-MIDI 14H-17H","ACCUEIL 300"]
[null,null,"REGULATION APREM 310",null,null,"REUNION DE SERVICE"]
[null,null,"URGENCE SAO",null,null,"REUNION DE SERVICE"]
[null,null,"RENDEZ-VOUS",null,null,"REUNION DE SERVICE"]
[null,null,"RENDEZ-VOUS",null,null,"REUNION DE SERVICE"]
[null,null,"RENDEZ-VOUS",null,null,"REUNION DE SERVICE"]
[null,null,"RENDEZ-VOUS",null,null,"REUNION DE SERVICE"]
[null,null,"PERMANENCE FAJ",null,null,"REUNION DE SERVICE"]
[null,null,"RENDEZ-VOUS FAJ",null,null,"REUNION DE SERVICE"]
[null,null,"DOMICILIATION POSTALE",null,null,"REUNION DE SERVICE"]
[]
[null,null,"NE TRAVAILLENT PAS              MERCREDI =CHRISTEL / LYSIANE                JEUDI A.MIDI   ANTHONY          VENDREDI   A.MIDI   AUDREY ET  WILLIAM"]
[null,"NOTES"]

{"sheet":"S6","index":10,"n_rows":30,"n_cols":13,"rows_kept":30,"cut":false,"hidden":false,"merged":[[17,1,26,1],[0,3,0,4],[1,3,2,3],[1,4,2,4],[1,5,2,5],[2,1,15,1],[1,6,2,6],[1,9,2,9],[1,10,2,10],[1,11,2,11],[1,12,2,12],[1,7,2,7],[1,8,2,8]]}
[null,null,null,"PLANNING POLE ACCUEIL",null,"SEMAINE",1,null,null,"LUNDI 1 JANVIER","AU ","VENDREDI 5 JANVIER"]
[null,null,null,"LUNDI","bureau","MARDI","bureau","MERCREDI","bureau","JEUDI","bureau","VENDREDI","bureau"]
[null,"MATIN 8H30-12H15","ACTIVITE"]
[null,null,"ACCUEIL 300"]
[null,null,"REGULATION MATIN 310"]
[null,null,"PERMANENCE SAO"]
[null,null,"PERMANENCE SAO"]
[null,null,"PERMANENCE SAO"]
[null,null,"PERMANENCE SAO"]
[null,null,"PERMANENCE FAJ"]
[null,null,"HORS ACCUEIL"]
[null,null,"SANTE GLOBALE"]
[null,null,"UMIPP"]
[null,null,"PSYCHOLOGUE"]
[null,null,"EXTERRIEUR"]
[null,null,"DOMICILIATION POSTALE"]
[null,"13H-14H","REDACTION "]
[null,"APRES-MIDI 14H-17H","ACCUEIL 300"]
[null,null,"REGULATION APREM 310",null,null,"REUNION DE SERVICE"]
[null,null,"URGENCE SAO",null,null,"REUNION DE SERVICE"]
[null,null,"RENDEZ-VOUS",null,null,"REUNION DE SERVICE"]
[null,null,"RENDEZ-VOUS",null,null,"REUNION DE SERVICE"]
[null,null,"RENDEZ-VOUS",null,null,"REUNION DE SERVICE"]
[null,null,"RENDEZ-VOUS",null,null,"REUNION DE SERVICE"]
[null,null,"PERMANENCE FAJ",null,null,"REUNION DE SERVICE"]
[null,null,"RENDEZ-VOUS FAJ",null,null,"REUNION DE SERVICE"]
[null,null,"DOMICILIATION POSTALE",null,null,"REUNION DE SERVICE"]
[]
[null,null,"NE TRAVAILLENT PAS              MERCREDI =CHRISTEL / LYSIANE                JEUDI A.MIDI   ANTHONY          VENDREDI   A.MIDI   AUDREY ET  WILLIAM"]
[null,"NOTES"]

{"sheet":"S7","index":11,"n_rows":30,"n_cols":13,"rows_kept":30,"cut":false,"hidden":false,"merged":[[17,1,26,1],[0,3,0,4],[1,3,2,3],[1,4,2,4],[1,5,2,5],[2,1,15,1],[1,6,2,6],[1,9,2,9],[1,10,2,10],[1,11,2,11],[1,12,2,12],[1,7,2,7],[1,8,2,8]]}
[null,null,null,"PLANNING POLE ACCUEIL",null,"SEMAINE",1,null,null,"LUNDI 1 JANVIER","AU ","VENDREDI 5 JANVIER"]
[null,null,null,"LUNDI","bureau","MARDI","bureau","MERCREDI","bureau","JEUDI","bureau","VENDREDI","bureau"]
[null,"MATIN 8H30-12H15","ACTIVITE"]
[null,null,"ACCUEIL 300"]
[null,null,"REGULATION MATIN 310"]
[null,null,"PERMANENCE SAO"]
[null,null,"PERMANENCE SAO"]
[null,null,"PERMANENCE SAO"]
[null,null,"PERMANENCE SAO"]
[null,null,"PERMANENCE FAJ"]
[null,null,"HORS ACCUEIL"]
[null,null,"SANTE GLOBALE"]
[null,null,"UMIPP"]
[null,null,"PSYCHOLOGUE"]
[null,null,"EXTERRIEUR"]
[null,null,"DOMICILIATION POSTALE"]
[null,"13H-14H","REDACTION "]
[null,"APRES-MIDI 14H-17H","ACCUEIL 300"]
[null,null,"REGULATION APREM 310",null,null,"REUNION DE SERVICE"]
[null,null,"URGENCE SAO",null,null,"REUNION DE SERVICE"]
[null,null,"RENDEZ-VOUS",null,null,"REUNION DE SERVICE"]
[null,null,"RENDEZ-VOUS",null,null,"REUNION DE SERVICE"]
[null,null,"RENDEZ-VOUS",null,null,"REUNION DE SERVICE"]
[null,null,"RENDEZ-VOUS",null,null,"REUNION DE SERVICE"]
[null,null,"PERMANENCE FAJ",null,null,"REUNION DE SERVICE"]
[null,null,"RENDEZ-VOUS FAJ",null,null,"REUNION DE SERVICE"]
[null,null,"DOMICILIATION POSTALE",null,null,"REUNION DE SERVICE"]
[]
[null,null,"NE TRAVAILLENT PAS              MERCREDI =CHRISTEL / LYSIANE                JEUDI A.MIDI   ANTHONY          VENDREDI   A.MIDI   AUDREY ET  WILLIAM"]
[null,"NOTES"]

{"sheet":"S8","index":12,"n_rows":30,"n_cols":13,"rows_kept":30,"cut":false,"hidden":false,"merged":[[17,1,26,1],[0,3,0,4],[1,3,2,3],[1,4,2,4],[1,5,2,5],[2,1,15,1],[1,6,2,6],[1,9,2,9],[1,10,2,10],[1,11,2,11],[1,12,2,12],[1,7,2,7],[1,8,2,8]]}
[null,null,null,"PLANNING POLE ACCUEIL",null,"SEMAINE",1,null,null,"LUNDI 1 JANVIER","AU ","VENDREDI 5 JANVIER"]
[null,null,null,"LUNDI","bureau","MARDI","bureau","MERCREDI","bureau","JEUDI","bureau","VENDREDI","bureau"]
[null,"MATIN 8H30-12H15","ACTIVITE"]
[null,null,"ACCUEIL 300"]
[null,null,"REGULATION MATIN 310"]
[null,null,"PERMANENCE SAO"]
[null,null,"PERMANENCE SAO"]
[null,null,"PERMANENCE SAO"]
[null,null,"PERMANENCE SAO"]
[null,null,"PERMANENCE FAJ"]
[null,null,"HORS ACCUEIL"]
[null,null,"SANTE GLOBALE"]
[null,null,"UMIPP"]
[null,null,"PSYCHOLOGUE"]
[null,null,"EXTERRIEUR"]
[null,null,"DOMICILIATION POSTALE"]
[null,"13H-14H","REDACTION "]
[null,"APRES-MIDI 14H-17H","ACCUEIL 300"]
[null,null,"REGULATION APREM 310",null,null,"REUNION DE SERVICE"]
[null,null,"URGENCE SAO",null,null,"REUNION DE SERVICE"]
[null,null,"RENDEZ-VOUS",null,null,"REUNION DE SERVICE"]
[null,null,"RENDEZ-VOUS",null,null,"REUNION DE SERVICE"]
[null,null,"RENDEZ-VOUS",null,null,"REUNION DE SERVICE"]
[null,null,"RENDEZ-VOUS",null,null,"REUNION DE SERVICE"]
[null,null,"PERMANENCE FAJ",null,null,"REUNION DE SERVICE"]
[null,null,"RENDEZ-VOUS FAJ",null,null,"REUNION DE SERVICE"]
[null,null,"DOMICILIATION POSTALE",null,null,"REUNION DE SERVICE"]
[]
[null,null,"NE TRAVAILLENT PAS              MERCREDI =CHRISTEL / LYSIANE                JEUDI A.MIDI   ANTHONY          VENDREDI   A.MIDI   AUDREY ET  WILLIAM"]
[null,"NOTES"]

{"sheet":"S9","index":13,"n_rows":30,"n_cols":13,"rows_kept":30,"cut":false,"hidden":false,"merged":[[17,1,26,1],[0,3,0,4],[1,3,2,3],[1,4,2,4],[1,5,2,5],[2,1,15,1],[1,6,2,6],[1,9,2,9],[1,10,2,10],[1,11,2,11],[1,12,2,12],[1,7,2,7],[1,8,2,8]]}
[null,null,null,"PLANNING POLE ACCUEIL",null,"SEMAINE",1,null,null,"LUNDI 1 JANVIER","AU ","VENDREDI 5 JANVIER"]
[null,null,null,"LUNDI","bureau","MARDI","bureau","MERCREDI","bureau","JEUDI","bureau","VENDREDI","bureau"]
[null,"MATIN 8H30-12H15","ACTIVITE"]
[null,null,"ACCUEIL 300"]
[null,null,"REGULATION MATIN 310"]
[null,null,"PERMANENCE SAO"]
[null,null,"PERMANENCE SAO"]
[null,null,"PERMANENCE SAO"]
[null,null,"PERMANENCE SAO"]
[null,null,"PERMANENCE FAJ"]
[null,null,"HORS ACCUEIL"]
[null,null,"SANTE GLOBALE"]
[null,null,"UMIPP"]
[null,null,"PSYCHOLOGUE"]
[null,null,"EXTERRIEUR"]
[null,null,"DOMICILIATION POSTALE"]
[null,"13H-14H","REDACTION "]
[null,"APRES-MIDI 14H-17H","ACCUEIL 300"]
[null,null,"REGULATION APREM 310",null,null,"REUNION DE SERVICE"]
[null,null,"URGENCE SAO",null,null,"REUNION DE SERVICE"]
[null,null,"RENDEZ-VOUS",null,null,"REUNION DE SERVICE"]
[null,null,"RENDEZ-VOUS",null,null,"REUNION DE SERVICE"]
[null,null,"RENDEZ-VOUS",null,null,"REUNION DE SERVICE"]
[null,null,"RENDEZ-VOUS",null,null,"REUNION DE SERVICE"]
[null,null,"PERMANENCE FAJ",null,null,"REUNION DE SERVICE"]
[null,null,"RENDEZ-VOUS FAJ",null,null,"REUNION DE SERVICE"]
[null,null,"DOMICILIATION POSTALE",null,null,"REUNION DE SERVICE"]
[]
[null,null,"NE TRAVAILLENT PAS              MERCREDI =CHRISTEL / LYSIANE                JEUDI A.MIDI   ANTHONY          VENDREDI   A.MIDI   AUDREY ET  WILLIAM"]
[null,"NOTES"]

{"sheet":"S10","index":14,"n_rows":30,"n_cols":13,"rows_kept":30,"cut":false,"hidden":false,"merged":[[17,1,26,1],[0,3,0,4],[1,3,2,3],[1,4,2,4],[1,5,2,5],[2,1,15,1],[1,6,2,6],[1,9,2,9],[1,10,2,10],[1,11,2,11],[1,12,2,12],[1,7,2,7],[1,8,2,8]]}
[null,null,null,"PLANNING POLE ACCUEIL",null,"SEMAINE",1,null,null,"LUNDI 1 JANVIER","AU ","VENDREDI 5 JANVIER"]
[null,null,null,"LUNDI","bureau","MARDI","bureau","MERCREDI","bureau","JEUDI","bureau","VENDREDI","bureau"]
[null,"MATIN 8H30-12H15","ACTIVITE"]
[null,null,"ACCUEIL 300"]
[null,null,"REGULATION MATIN 310"]
[null,null,"PERMANENCE SAO"]
[null,null,"PERMANENCE SAO"]
[null,null,"PERMANENCE SAO"]
[null,null,"PERMANENCE SAO"]
[null,null,"PERMANENCE FAJ"]
[null,null,"HORS ACCUEIL"]
[null,null,"SANTE GLOBALE"]
[null,null,"UMIPP"]
[null,null,"PSYCHOLOGUE"]
[null,null,"EXTERRIEUR"]
[null,null,"DOMICILIATION POSTALE"]
[null,"13H-14H","REDACTION "]
[null,"APRES-MIDI 14H-17H","ACCUEIL 300"]
[null,null,"REGULATION APREM 310",null,null,"REUNION DE SERVICE"]
[null,null,"URGENCE SAO",null,null,"REUNION DE SERVICE"]
[null,null,"RENDEZ-VOUS",null,null,"REUNION DE SERVICE"]
[null,null,"RENDEZ-VOUS",null,null,"REUNION DE SERVICE"]
[null,null,"RENDEZ-VOUS",null,null,"REUNION DE SERVICE"]
[null,null,"RENDEZ-VOUS",null,null,"REUNION DE SERVICE"]
[null,null,"PERMANENCE FAJ",null,null,"REUNION DE SERVICE"]
[null,null,"RENDEZ-VOUS FAJ",null,null,"REUNION DE SERVICE"]
[null,null,"DOMICILIATION POSTALE",null,null,"REUNION DE SERVICE"]
[]
[null,null,"NE TRAVAILLENT PAS              MERCREDI =CHRISTEL / LYSIANE                JEUDI A.MIDI   ANTHONY          VENDREDI   A.MIDI   AUDREY ET  WILLIAM"]
[null,"NOTES"]

{"sheet":"S11","index":15,"n_rows":30,"n_cols":13,"rows_kept":30,"cut":false,"hidden":false,"merged":[[17,1,26,1],[0,3,0,4],[1,3,2,3],[1,4,2,4],[1,5,2,5],[2,1,15,1],[1,6,2,6],[1,9,2,9],[1,10,2,10],[1,11,2,11],[1,12,2,12],[1,7,2,7],[1,8,2,8]]}
[null,null,null,"PLANNING POLE ACCUEIL",null,"SEMAINE",1,null,null,"LUNDI 1 JANVIER","AU ","VENDREDI 5 JANVIER"]
[null,null,null,"LUNDI","bureau","MARDI","bureau","MERCREDI","bureau","JEUDI","bureau","VENDREDI","bureau"]
[null,"MATIN 8H30-12H15","ACTIVITE"]
[null,null,"ACCUEIL 300"]
[null,null,"REGULATION MATIN 310"]
[null,null,"PERMANENCE SAO"]
[null,null,"PERMANENCE SAO"]
[null,null,"PERMANENCE SAO"]
[null,null,"PERMANENCE SAO"]
[null,null,"PERMANENCE FAJ"]
[null,null,"HORS ACCUEIL"]
[null,null,"SANTE GLOBALE"]
[null,null,"UMIPP"]
[null,null,"PSYCHOLOGUE"]
[null,null,"EXTERRIEUR"]
[null,null,"DOMICILIATION POSTALE"]
[null,"13H-14H","REDACTION "]
[null,"APRES-MIDI 14H-17H","ACCUEIL 300"]
[null,null,"REGULATION APREM 310",null,null,"REUNION DE SERVICE"]
[null,null,"URGENCE SAO",null,null,"REUNION DE SERVICE"]
[null,null,"RENDEZ-VOUS",null,null,"REUNION DE SERVICE"]
[null,null,"RENDEZ-VOUS",null,null,"REUNION DE SERVICE"]
[null,null,"RENDEZ-VOUS",null,null,"REUNION DE SERVICE"]
[null,null,"RENDEZ-VOUS",null,null,"REUNION DE SERVICE"]
[null,null,"PERMANENCE FAJ",null,null,"REUNION DE SERVICE"]
[null,null,"RENDEZ-VOUS FAJ",null,null,"REUNION DE SERVICE"]
[null,null,"DOMICILIATION POSTALE",null,null,"REUNION DE SERVICE"]
[]
[null,null,"NE TRAVAILLENT PAS              MERCREDI =CHRISTEL / LYSIANE                JEUDI A.MIDI   ANTHONY          VENDREDI   A.MIDI   AUDREY ET  WILLIAM"]
[null,"NOTES"]

{"sheet":"S12","index":16,"n_rows":30,"n_cols":13,"rows_kept":30,"cut":false,"hidden":false,"merged":[[17,1,26,1],[0,3,0,4],[1,3,2,3],[1,4,2,4],[1,5,2,5],[2,1,15,1],[1,6,2,6],[1,9,2,9],[1,10,2,10],[1,11,2,11],[1,12,2,12],[1,7,2,7],[1,8,2,8]]}
[null,null,null,"PLANNING POLE ACCUEIL",null,"SEMAINE",1,null,null,"LUNDI 1 JANVIER","AU ","VENDREDI 5 JANVIER"]
[null,null,null,"LUNDI","bureau","MARDI","bureau","MERCREDI","bureau","JEUDI","bureau","VENDREDI","bureau"]
[null,"MATIN 8H30-12H15","ACTIVITE"]
[null,null,"ACCUEIL 300"]
[null,null,"REGULATION MATIN 310"]
[null,null,"PERMANENCE SAO"]
[null,null,"PERMANENCE SAO"]
[null,null,"PERMANENCE SAO"]
[null,null,"PERMANENCE SAO"]
[null,null,"PERMANENCE FAJ"]
[null,null,"HORS ACCUEIL"]
[null,null,"SANTE GLOBALE"]
[null,null,"UMIPP"]
[null,null,"PSYCHOLOGUE"]
[null,null,"EXTERRIEUR"]
[null,null,"DOMICILIATION POSTALE"]
[null,"13H-14H","REDACTION "]
[null,"APRES-MIDI 14H-17H","ACCUEIL 300"]
[null,null,"REGULATION APREM 310",null,null,"REUNION DE SERVICE"]
[null,null,"URGENCE SAO",null,null,"REUNION DE SERVICE"]
[null,null,"RENDEZ-VOUS",null,null,"REUNION DE SERVICE"]
[null,null,"RENDEZ-VOUS",null,null,"REUNION DE SERVICE"]
[null,null,"RENDEZ-VOUS",null,null,"REUNION DE SERVICE"]
[null,null,"RENDEZ-VOUS",null,null,"REUNION DE SERVICE"]
[null,null,"PERMANENCE FAJ",null,null,"REUNION DE SERVICE"]
[null,null,"RENDEZ-VOUS FAJ",null,null,"REUNION DE SERVICE"]
[null,null,"DOMICILIATION POSTALE",null,null,"REUNION DE SERVICE"]
[]
[null,null,"NE TRAVAILLENT PAS              MERCREDI =CHRISTEL / LYSIANE                JEUDI A.MIDI   ANTHONY          VENDREDI   A.MIDI   AUDREY ET  WILLIAM"]
[null,"NOTES"]

{"sheet":"S13","index":17,"n_rows":30,"n_cols":13,"rows_kept":30,"cut":false,"hidden":false,"merged":[[17,1,26,1],[0,3,0,4],[1,3,2,3],[1,4,2,4],[1,5,2,5],[2,1,15,1],[1,6,2,6],[1,9,2,9],[1,10,2,10],[1,11,2,11],[1,12,2,12],[1,7,2,7],[1,8,2,8]]}
[null,null,null,"PLANNING POLE ACCUEIL",null,"SEMAINE",1,null,null,"LUNDI 1 JANVIER","AU ","VENDREDI 5 JANVIER"]
[null,null,null,"LUNDI","bureau","MARDI","bureau","MERCREDI","bureau","JEUDI","bureau","VENDREDI","bureau"]
[null,"MATIN 8H30-12H15","ACTIVITE"]
[null,null,"ACCUEIL 300"]
[null,null,"REGULATION MATIN 310"]
[null,null,"PERMANENCE SAO"]
[null,null,"PERMANENCE SAO"]
[null,null,"PERMANENCE SAO"]
[null,null,"PERMANENCE SAO"]
[null,null,"PERMANENCE FAJ"]
[null,null,"HORS ACCUEIL"]
[null,null,"SANTE GLOBALE"]
[null,null,"UMIPP"]
[null,null,"PSYCHOLOGUE"]
[null,null,"EXTERRIEUR"]
[null,null,"DOMICILIATION POSTALE"]
[null,"13H-14H","REDACTION "]
[null,"APRES-MIDI 14H-17H","ACCUEIL 300"]
[null,null,"REGULATION APREM 310",null,null,"REUNION DE SERVICE"]
[null,null,"URGENCE SAO",null,null,"REUNION DE SERVICE"]
[null,null,"RENDEZ-VOUS",null,null,"REUNION DE SERVICE"]
[null,null,"RENDEZ-VOUS",null,null,"REUNION DE SERVICE"]
[null,null,"RENDEZ-VOUS",null,null,"REUNION DE SERVICE"]
[null,null,"RENDEZ-VOUS",null,null,"REUNION DE SERVICE"]
[null,null,"PERMANENCE FAJ",null,null,"REUNION DE SERVICE"]
[null,null,"RENDEZ-VOUS FAJ",null,null,"REUNION DE SERVICE"]
[null,null,"DOMICILIATION POSTALE",null,null,"REUNION DE SERVICE"]
[]
[null,null,"NE TRAVAILLENT PAS              MERCREDI =CHRISTEL / LYSIANE                JEUDI A.MIDI   ANTHONY          VENDREDI   A.MIDI   AUDREY ET  WILLIAM"]
[null,"NOTES"]

{"sheet":"S14","index":18,"n_rows":30,"n_cols":13,"rows_kept":30,"cut":false,"hidden":false,"merged":[[17,1,26,1],[0,3,0,4],[1,3,2,3],[1,4,2,4],[1,5,2,5],[2,1,15,1],[1,6,2,6],[1,9,2,9],[1,10,2,10],[1,11,2,11],[1,12,2,12],[1,7,2,7],[1,8,2,8]]}
[null,null,null,"PLANNING POLE ACCUEIL",null,"SEMAINE",1,null,null,"LUNDI 1 JANVIER","AU ","VENDREDI 5 JANVIER"]
[null,null,null,"LUNDI","bureau","MARDI","bureau","MERCREDI","bureau","JEUDI","bureau","VENDREDI","bureau"]
[null,"MATIN 8H30-12H15","ACTIVITE"]
[null,null,"ACCUEIL 300"]
[null,null,"REGULATION MATIN 310"]
[null,null,"PERMANENCE SAO"]
[null,null,"PERMANENCE SAO"]
[null,null,"PERMANENCE SAO"]
[null,null,"PERMANENCE SAO"]
[null,null,"PERMANENCE FAJ"]
[null,null,"HORS ACCUEIL"]
[null,null,"SANTE GLOBALE"]
[null,null,"UMIPP"]
[null,null,"PSYCHOLOGUE"]
[null,null,"EXTERRIEUR"]
[null,null,"DOMICILIATION POSTALE"]
[null,"13H-14H","REDACTION "]
[null,"APRES-MIDI 14H-17H","ACCUEIL 300"]
[null,null,"REGULATION APREM 310",null,null,"REUNION DE SERVICE"]
[null,null,"URGENCE SAO",null,null,"REUNION DE SERVICE"]
[null,null,"RENDEZ-VOUS",null,null,"REUNION DE SERVICE"]
[null,null,"RENDEZ-VOUS",null,null,"REUNION DE SERVICE"]
[null,null,"RENDEZ-VOUS",null,null,"REUNION DE SERVICE"]
[null,null,"RENDEZ-VOUS",null,null,"REUNION DE SERVICE"]
[null,null,"PERMANENCE FAJ",null,null,"REUNION DE SERVICE"]
[null,null,"RENDEZ-VOUS FAJ",null,null,"REUNION DE SERVICE"]
[null,null,"DOMICILIATION POSTALE",null,null,"REUNION DE SERVICE"]
[]
[null,null,"NE TRAVAILLENT PAS              MERCREDI =CHRISTEL / LYSIANE                JEUDI A.MIDI   ANTHONY          VENDREDI   A.MIDI   AUDREY ET  WILLIAM"]
[null,"NOTES"]

{"sheet":"S15","index":19,"n_rows":30,"n_cols":13,"rows_kept":30,"cut":false,"hidden":false,"merged":[[17,1,26,1],[0,3,0,4],[1,3,2,3],[1,4,2,4],[1,5,2,5],[2,1,15,1],[1,6,2,6],[1,9,2,9],[1,10,2,10],[1,11,2,11],[1,12,2,12],[1,7,2,7],[1,8,2,8]]}
[null,null,null,"PLANNING POLE ACCUEIL",null,"SEMAINE",1,null,null,"LUNDI 1 JANVIER","AU ","VENDREDI 5 JANVIER"]
[null,null,null,"LUNDI","bureau","MARDI","bureau","MERCREDI","bureau","JEUDI","bureau","VENDREDI","bureau"]
[null,"MATIN 8H30-12H15","ACTIVITE"]
[null,null,"ACCUEIL 300"]
[null,null,"REGULATION MATIN 310"]
[null,null,"PERMANENCE SAO"]
[null,null,"PERMANENCE SAO"]
[null,null,"PERMANENCE SAO"]
[null,null,"PERMANENCE SAO"]
[null,null,"PERMANENCE FAJ"]
[null,null,"HORS ACCUEIL"]
[null,null,"SANTE GLOBALE"]
[null,null,"UMIPP"]
[null,null,"PSYCHOLOGUE"]
[null,null,"EXTERRIEUR"]
[null,null,"DOMICILIATION POSTALE"]
[null,"13H-14H","REDACTION "]
[null,"APRES-MIDI 14H-17H","ACCUEIL 300"]
[null,null,"REGULATION APREM 310",null,null,"REUNION DE SERVICE"]
[null,null,"URGENCE SAO",null,null,"REUNION DE SERVICE"]
[null,null,"RENDEZ-VOUS",null,null,"REUNION DE SERVICE"]
[null,null,"RENDEZ-VOUS",null,null,"REUNION DE SERVICE"]
[null,null,"RENDEZ-VOUS",null,null,"REUNION DE SERVICE"]
[null,null,"RENDEZ-VOUS",null,null,"REUNION DE SERVICE"]
[null,null,"PERMANENCE FAJ",null,null,"REUNION DE SERVICE"]
[null,null,"RENDEZ-VOUS FAJ",null,null,"REUNION DE SERVICE"]
[null,null,"DOMICILIATION POSTALE",null,null,"REUNION DE SERVICE"]
[]
[null,null,"NE TRAVAILLENT PAS              MERCREDI =CHRISTEL / LYSIANE                JEUDI A.MIDI   ANTHONY          VENDREDI   A.MIDI   AUDREY ET  WILLIAM"]
[null,"NOTES"]

{"sheet":"S16","index":20,"n_rows":30,"n_cols":13,"rows_kept":30,"cut":false,"hidden":false,"merged":[[17,1,26,1],[0,3,0,4],[1,3,2,3],[1,4,2,4],[1,5,2,5],[2,1,15,1],[1,6,2,6],[1,9,2,9],[1,10,2,10],[1,11,2,11],[1,12,2,12],[1,7,2,7],[1,8,2,8]]}
[null,null,null,"PLANNING POLE ACCUEIL",null,"SEMAINE",1,null,null,"LUNDI 1 JANVIER","AU ","VENDREDI 5 JANVIER"]
[null,null,null,"LUNDI","bureau","MARDI","bureau","MERCREDI","bureau","JEUDI","bureau","VENDREDI","bureau"]
[null,"MATIN 8H30-12H15","ACTIVITE"]
[null,null,"ACCUEIL 300"]
[null,null,"REGULATION MATIN 310"]
[null,null,"PERMANENCE SAO"]
[null,null,"PERMANENCE SAO"]
[null,null,"PERMANENCE SAO"]
[null,null,"PERMANENCE SAO"]
[null,null,"PERMANENCE FAJ"]
[null,null,"HORS ACCUEIL"]
[null,null,"SANTE GLOBALE"]
[null,null,"UMIPP"]
[null,null,"PSYCHOLOGUE"]
[null,null,"EXTERRIEUR"]
[null,null,"DOMICILIATION POSTALE"]
[null,"13H-14H","REDACTION "]
[null,"APRES-MIDI 14H-17H","ACCUEIL 300"]
[null,null,"REGULATION APREM 310",null,null,"REUNION DE SERVICE"]
[null,null,"URGENCE SAO",null,null,"REUNION DE SERVICE"]
[null,null,"RENDEZ-VOUS",null,null,"REUNION DE SERVICE"]
[null,null,"RENDEZ-VOUS",null,null,"REUNION DE SERVICE"]
[null,null,"RENDEZ-VOUS",null,null,"REUNION DE SERVICE"]
[null,null,"RENDEZ-VOUS",null,null,"REUNION DE SERVICE"]
[null,null,"PERMANENCE FAJ",null,null,"REUNION DE SERVICE"]
[null,null,"RENDEZ-VOUS FAJ",null,null,"REUNION DE SERVICE"]
[null,null,"DOMICILIATION POSTALE",null,null,"REUNION DE SERVICE"]
[]
[null,null,"NE TRAVAILLENT PAS              MERCREDI =CHRISTEL / LYSIANE                JEUDI A.MIDI   ANTHONY          VENDREDI   A.MIDI   AUDREY ET  WILLIAM"]
[null,"NOTES"]

{"sheet":"S17","index":21,"n_rows":30,"n_cols":13,"rows_kept":30,"cut":false,"hidden":false,"merged":[[17,1,26,1],[0,3,0,4],[1,3,2,3],[1,4,2,4],[1,5,2,5],[2,1,15,1],[1,6,2,6],[1,9,2,9],[1,10,2,10],[1,11,2,11],[1,12,2,12],[1,7,2,7],[1,8,2,8]]}
[null,null,null,"PLANNING POLE ACCUEIL",null,"SEMAINE",1,null,null,"LUNDI 1 JANVIER","AU ","VENDREDI 5 JANVIER"]
[null,null,null,"LUNDI","bureau","MARDI","bureau","MERCREDI","bureau","JEUDI","bureau","VENDREDI","bureau"]
[null,"MATIN 8H30-12H15","ACTIVITE"]
[null,null,"ACCUEIL 300"]
[null,null,"REGULATION MATIN 310"]
[null,null,"PERMANENCE SAO"]
[null,null,"PERMANENCE SAO"]
[null,null,"PERMANENCE SAO"]
[null,null,"PERMANENCE SAO"]
[null,null,"PERMANENCE FAJ"]
[null,null,"HORS ACCUEIL"]
[null,null,"SANTE GLOBALE"]
[null,null,"UMIPP"]
[null,null,"PSYCHOLOGUE"]
[null,null,"EXTERRIEUR"]
[null,null,"DOMICILIATION POSTALE"]
[null,"13H-14H","REDACTION "]
[null,"APRES-MIDI 14H-17H","ACCUEIL 300"]
[null,null,"REGULATION APREM 310",null,null,"REUNION DE SERVICE"]
[null,null,"URGENCE SAO",null,null,"REUNION DE SERVICE"]
[null,null,"RENDEZ-VOUS",null,null,"REUNION DE SERVICE"]
[null,null,"RENDEZ-VOUS",null,null,"REUNION DE SERVICE"]
[null,null,"RENDEZ-VOUS",null,null,"REUNION DE SERVICE"]
[null,null,"RENDEZ-VOUS",null,null,"REUNION DE SERVICE"]
[null,null,"PERMANENCE FAJ",null,null,"REUNION DE SERVICE"]
[null,null,"RENDEZ-VOUS FAJ",null,null,"REUNION DE SERVICE"]
[null,null,"DOMICILIATION POSTALE",null,null,"REUNION DE SERVICE"]
[]
[null,null,"NE TRAVAILLENT PAS              MERCREDI =CHRISTEL / LYSIANE                JEUDI A.MIDI   ANTHONY          VENDREDI   A.MIDI   AUDREY ET  WILLIAM"]
[null,"NOTES"]

{"sheet":"S18","index":22,"n_rows":30,"n_cols":13,"rows_kept":30,"cut":false,"hidden":false,"merged":[[17,1,26,1],[0,3,0,4],[1,3,2,3],[1,4,2,4],[1,5,2,5],[2,1,15,1],[1,6,2,6],[1,9,2,9],[1,10,2,10],[1,11,2,11],[1,12,2,12],[1,7,2,7],[1,8,2,8]]}
[null,null,null,"PLANNING POLE ACCUEIL",null,"SEMAINE",1,null,null,"LUNDI 1 JANVIER","AU ","VENDREDI 5 JANVIER"]
[null,null,null,"LUNDI","bureau","MARDI","bureau","MERCREDI","bureau","JEUDI","bureau","VENDREDI","bureau"]
[null,"MATIN 8H30-12H15","ACTIVITE"]
[null,null,"ACCUEIL 300"]
[null,null,"REGULATION MATIN 310"]
[null,null,"PERMANENCE SAO"]
[null,null,"PERMANENCE SAO"]
[null,null,"PERMANENCE SAO"]
[null,null,"PERMANENCE SAO"]
[null,null,"PERMANENCE FAJ"]
[null,null,"HORS ACCUEIL"]
[null,null,"SANTE GLOBALE"]
[null,null,"UMIPP"]
[null,null,"PSYCHOLOGUE"]
[null,null,"EXTERRIEUR"]
[null,null,"DOMICILIATION POSTALE"]
[null,"13H-14H","REDACTION "]
[null,"APRES-MIDI 14H-17H","ACCUEIL 300"]
[null,null,"REGULATION APREM 310",null,null,"REUNION DE SERVICE"]
[null,null,"URGENCE SAO",null,null,"REUNION DE SERVICE"]
[null,null,"RENDEZ-VOUS",null,null,"REUNION DE SERVICE"]
[null,null,"RENDEZ-VOUS",null,null,"REUNION DE SERVICE"]
[null,null,"RENDEZ-VOUS",null,null,"REUNION DE SERVICE"]
[null,null,"RENDEZ-VOUS",null,null,"REUNION DE SERVICE"]
[null,null,"PERMANENCE FAJ",null,null,"REUNION DE SERVICE"]
[null,null,"RENDEZ-VOUS FAJ",null,null,"REUNION DE SERVICE"]
[null,null,"DOMICILIATION POSTALE",null,null,"REUNION DE SERVICE"]
[]
[null,null,"NE TRAVAILLENT PAS              MERCREDI =CHRISTEL / LYSIANE                JEUDI A.MIDI   ANTHONY          VENDREDI   A.MIDI   AUDREY ET  WILLIAM"]
[null,"NOTES"]

{"sheet":"S19","index":23,"n_rows":30,"n_cols":13,"rows_kept":30,"cut":false,"hidden":false,"merged":[[17,1,26,1],[0,3,0,4],[1,3,2,3],[1,4,2,4],[1,5,2,5],[2,1,15,1],[1,6,2,6],[1,9,2,9],[1,10,2,10],[1,11,2,11],[1,12,2,12],[1,7,2,7],[1,8,2,8]]}
[null,null,null,"PLANNING POLE ACCUEIL",null,"SEMAINE",1,null,null,"LUNDI 1 JANVIER","AU ","VENDREDI 5 JANVIER"]
[null,null,null,"LUNDI","bureau","MARDI","bureau","MERCREDI","bureau","JEUDI","bureau","VENDREDI","bureau"]
[null,"MATIN 8H30-12H15","ACTIVITE"]
[null,null,"ACCUEIL 300"]
[null,null,"REGULATION MATIN 310"]
[null,null,"PERMANENCE SAO"]
[null,null,"PERMANENCE SAO"]
[null,null,"PERMANENCE SAO"]
[null,null,"PERMANENCE SAO"]
[null,null,"PERMANENCE FAJ"]
[null,null,"HORS ACCUEIL"]
[null,null,"SANTE GLOBALE"]
[null,null,"UMIPP"]
[null,null,"PSYCHOLOGUE"]
[null,null,"EXTERRIEUR"]
[null,null,"DOMICILIATION POSTALE"]
[null,"13H-14H","REDACTION "]
[null,"APRES-MIDI 14H-17H","ACCUEIL 300"]
[null,null,"REGULATION APREM 310",null,null,"REUNION DE SERVICE"]
[null,null,"URGENCE SAO",null,null,"REUNION DE SERVICE"]
[null,null,"RENDEZ-VOUS",null,null,"REUNION DE SERVICE"]
[null,null,"RENDEZ-VOUS",null,null,"REUNION DE SERVICE"]
[null,null,"RENDEZ-VOUS",null,null,"REUNION DE SERVICE"]
[null,null,"RENDEZ-VOUS",null,null,"REUNION DE SERVICE"]
[null,null,"PERMANENCE FAJ",null,null,"REUNION DE SERVICE"]
[null,null,"RENDEZ-VOUS FAJ",null,null,"REUNION DE SERVICE"]
[null,null,"DOMICILIATION POSTALE",null,null,"REUNION DE SERVICE"]
[]
[null,null,"NE TRAVAILLENT PAS              MERCREDI =CHRISTEL / LYSIANE                JEUDI A.MIDI   ANTHONY          VENDREDI   A.MIDI   AUDREY ET  WILLIAM"]
[null,"NOTES"]

{"sheet":"S20","index":24,"n_rows":30,"n_cols":13,"rows_kept":30,"cut":false,"hidden":false,"merged":[[17,1,26,1],[0,3,0,4],[1,3,2,3],[1,4,2,4],[1,5,2,5],[2,1,15,1],[1,6,2,6],[1,9,2,9],[1,10,2,10],[1,11,2,11],[1,12,2,12],[1,7,2,7],[1,8,2,8]]}
[null,null,null,"PLANNING POLE ACCUEIL",null,"SEMAINE",1,null,null,"LUNDI 1 JANVIER","AU ","VENDREDI 5 JANVIER"]
[null,null,null,"LUNDI","bureau","MARDI","bureau","MERCREDI","bureau","JEUDI","bureau","VENDREDI","bureau"]
[null,"MATIN 8H30-12H15","ACTIVITE"]
[null,null,"ACCUEIL 300"]
[null,null,"REGULATION MATIN 310"]
[null,null,"PERMANENCE SAO"]
[null,null,"PERMANENCE SAO"]
[null,null,"PERMANENCE SAO"]
[null,null,"PERMANENCE SAO"]
[null,null,"PERMANENCE FAJ"]
[null,null,"HORS ACCUEIL"]
[null,null,"SANTE GLOBALE"]
[null,null,"UMIPP"]
[null,null,"PSYCHOLOGUE"]
[null,null,"EXTERRIEUR"]
[null,null,"DOMICILIATION POSTALE"]
[null,"13H-14H","REDACTION "]
[null,"APRES-MIDI 14H-17H","ACCUEIL 300"]
[null,null,"REGULATION APREM 310",null,null,"REUNION DE SERVICE"]
[null,null,"URGENCE SAO",null,null,"REUNION DE SERVICE"]
[null,null,"RENDEZ-VOUS",null,null,"REUNION DE SERVICE"]
[null,null,"RENDEZ-VOUS",null,null,"REUNION DE SERVICE"]
[null,null,"RENDEZ-VOUS",null,null,"REUNION DE SERVICE"]
[null,null,"RENDEZ-VOUS",null,null,"REUNION DE SERVICE"]
[null,null,"PERMANENCE FAJ",null,null,"REUNION DE SERVICE"]
[null,null,"RENDEZ-VOUS FAJ",null,null,"REUNION DE SERVICE"]
[null,null,"DOMICILIATION POSTALE",null,null,"REUNION DE SERVICE"]
[]
[null,null,"NE TRAVAILLENT PAS              MERCREDI =CHRISTEL / LYSIANE                JEUDI A.MIDI   ANTHONY          VENDREDI   A.MIDI   AUDREY ET  WILLIAM"]
[null,"NOTES"]

{"sheet":"S21","index":25,"n_rows":30,"n_cols":13,"rows_kept":30,"cut":false,"hidden":false,"merged":[[17,1,26,1],[0,3,0,4],[1,3,2,3],[1,4,2,4],[1,5,2,5],[2,1,15,1],[1,6,2,6],[1,9,2,9],[1,10,2,10],[1,11,2,11],[1,12,2,12],[1,7,2,7],[1,8,2,8]]}
[null,null,null,"PLANNING POLE ACCUEIL",null,"SEMAINE",1,null,null,"LUNDI 1 JANVIER","AU ","VENDREDI 5 JANVIER"]
[null,null,null,"LUNDI","bureau","MARDI","bureau","MERCREDI","bureau","JEUDI","bureau","VENDREDI","bureau"]
[null,"MATIN 8H30-12H15","ACTIVITE"]
[null,null,"ACCUEIL 300"]
[null,null,"REGULATION MATIN 310"]
[null,null,"PERMANENCE SAO"]
[null,null,"PERMANENCE SAO"]
[null,null,"PERMANENCE SAO"]
[null,null,"PERMANENCE SAO"]
[null,null,"PERMANENCE FAJ"]
[null,null,"HORS ACCUEIL"]
[null,null,"SANTE GLOBALE"]
[null,null,"UMIPP"]
[null,null,"PSYCHOLOGUE"]
[null,null,"EXTERRIEUR"]
[null,null,"DOMICILIATION POSTALE"]
[null,"13H-14H","REDACTION "]
[null,"APRES-MIDI 14H-17H","ACCUEIL 300"]
[null,null,"REGULATION APREM 310",null,null,"REUNION DE SERVICE"]
[null,null,"URGENCE SAO",null,null,"REUNION DE SERVICE"]
[null,null,"RENDEZ-VOUS",null,null,"REUNION DE SERVICE"]
[null,null,"RENDEZ-VOUS",null,null,"REUNION DE SERVICE"]
[null,null,"RENDEZ-VOUS",null,null,"REUNION DE SERVICE"]
[null,null,"RENDEZ-VOUS",null,null,"REUNION DE SERVICE"]
[null,null,"PERMANENCE FAJ",null,null,"REUNION DE SERVICE"]
[null,null,"RENDEZ-VOUS FAJ",null,null,"REUNION DE SERVICE"]
[null,null,"DOMICILIATION POSTALE",null,null,"REUNION DE SERVICE"]
[]
[null,null,"NE TRAVAILLENT PAS              MERCREDI =CHRISTEL / LYSIANE                JEUDI A.MIDI   ANTHONY          VENDREDI   A.MIDI   AUDREY ET  WILLIAM"]
[null,"NOTES"]

{"sheet":"S22","index":26,"n_rows":30,"n_cols":13,"rows_kept":30,"cut":false,"hidden":false,"merged":[[17,1,26,1],[0,3,0,4],[1,3,2,3],[1,4,2,4],[1,5,2,5],[2,1,15,1],[1,6,2,6],[1,9,2,9],[1,10,2,10],[1,11,2,11],[1,12,2,12],[1,7,2,7],[1,8,2,8]]}
[null,null,null,"PLANNING POLE ACCUEIL",null,"SEMAINE",1,null,null,"LUNDI 1 JANVIER","AU ","VENDREDI 5 JANVIER"]
[null,null,null,"LUNDI","bureau","MARDI","bureau","MERCREDI","bureau","JEUDI","bureau","VENDREDI","bureau"]
[null,"MATIN 8H30-12H15","ACTIVITE"]
[null,null,"ACCUEIL 300"]
[null,null,"REGULATION MATIN 310"]
[null,null,"PERMANENCE SAO"]
[null,null,"PERMANENCE SAO"]
[null,null,"PERMANENCE SAO"]
[null,null,"PERMANENCE SAO"]
[null,null,"PERMANENCE FAJ"]
[null,null,"HORS ACCUEIL"]
[null,null,"SANTE GLOBALE"]
[null,null,"UMIPP"]
[null,null,"PSYCHOLOGUE"]
[null,null,"EXTERRIEUR"]
[null,null,"DOMICILIATION POSTALE"]
[null,"13H-14H","REDACTION "]
[null,"APRES-MIDI 14H-17H","ACCUEIL 300"]
[null,null,"REGULATION APREM 310",null,null,"REUNION DE SERVICE"]
[null,null,"URGENCE SAO",null,null,"REUNION DE SERVICE"]
[null,null,"RENDEZ-VOUS",null,null,"REUNION DE SERVICE"]
[null,null,"RENDEZ-VOUS",null,null,"REUNION DE SERVICE"]
[null,null,"RENDEZ-VOUS",null,null,"REUNION DE SERVICE"]
[null,null,"RENDEZ-VOUS",null,null,"REUNION DE SERVICE"]
[null,null,"PERMANENCE FAJ",null,null,"REUNION DE SERVICE"]
[null,null,"RENDEZ-VOUS FAJ",null,null,"REUNION DE SERVICE"]
[null,null,"DOMICILIATION POSTALE",null,null,"REUNION DE SERVICE"]
[]
[null,null,"NE TRAVAILLENT PAS              MERCREDI =CHRISTEL / LYSIANE                JEUDI A.MIDI   ANTHONY          VENDREDI   A.MIDI   AUDREY ET  WILLIAM"]
[null,"NOTES"]

{"sheet":"S23","index":27,"n_rows":30,"n_cols":13,"rows_kept":30,"cut":false,"hidden":false,"merged":[[17,1,26,1],[0,3,0,4],[1,3,2,3],[1,4,2,4],[1,5,2,5],[2,1,15,1],[1,6,2,6],[1,9,2,9],[1,10,2,10],[1,11,2,11],[1,12,2,12],[1,7,2,7],[1,8,2,8]]}
[null,null,null,"PLANNING POLE ACCUEIL",null,"SEMAINE",1,null,null,"LUNDI 1 JANVIER","AU ","VENDREDI 5 JANVIER"]
[null,null,null,"LUNDI","bureau","MARDI","bureau","MERCREDI","bureau","JEUDI","bureau","VENDREDI","bureau"]
[null,"MATIN 8H30-12H15","ACTIVITE"]
[null,null,"ACCUEIL 300"]
[null,null,"REGULATION MATIN 310"]
[null,null,"PERMANENCE SAO"]
[null,null,"PERMANENCE SAO"]
[null,null,"PERMANENCE SAO"]
[null,null,"PERMANENCE SAO"]
[null,null,"PERMANENCE FAJ"]
[null,null,"HORS ACCUEIL"]
[null,null,"SANTE GLOBALE"]
[null,null,"UMIPP"]
[null,null,"PSYCHOLOGUE"]
[null,null,"EXTERRIEUR"]
[null,null,"DOMICILIATION POSTALE"]
[null,"13H-14H","REDACTION "]
[null,"APRES-MIDI 14H-17H","ACCUEIL 300"]
[null,null,"REGULATION APREM 310",null,null,"REUNION DE SERVICE"]
[null,null,"URGENCE SAO",null,null,"REUNION DE SERVICE"]
[null,null,"RENDEZ-VOUS",null,null,"REUNION DE SERVICE"]
[null,null,"RENDEZ-VOUS",null,null,"REUNION DE SERVICE"]
[null,null,"RENDEZ-VOUS",null,null,"REUNION DE SERVICE"]
[null,null,"RENDEZ-VOUS",null,null,"REUNION DE SERVICE"]
[null,null,"PERMANENCE FAJ",null,null,"REUNION DE SERVICE"]
[null,null,"RENDEZ-VOUS FAJ",null,null,"REUNION DE SERVICE"]
[null,null,"DOMICILIATION POSTALE",null,null,"REUNION DE SERVICE"]
[]
[null,null,"NE TRAVAILLENT PAS              MERCREDI =CHRISTEL / LYSIANE                JEUDI A.MIDI   ANTHONY          VENDREDI   A.MIDI   AUDREY ET  WILLIAM"]
[null,"NOTES"]

{"sheet":"S24","index":28,"n_rows":30,"n_cols":13,"rows_kept":30,"cut":false,"hidden":false,"merged":[[1,12,2,12],[2,1,15,1],[0,3,0,4],[1,3,2,3],[1,4,2,4],[1,5,2,5],[1,6,2,6],[1,7,2,7],[17,1,26,1],[1,8,2,8],[1,9,2,9],[1,10,2,10],[1,11,2,11]]}
[null,null,null,"PLANNING POLE ACCUEIL",null,"SEMAINE",1,null,null,"LUNDI 1 JANVIER","AU ","VENDREDI 5 JANVIER"]
[null,null,null,"LUNDI","bureau","MARDI","bureau","MERCREDI","bureau","JEUDI","bureau","VENDREDI","bureau"]
[null,"MATIN 8H30-12H15","ACTIVITE"]
[null,null,"ACCUEIL 300"]
[null,null,"REGULATION MATIN 310"]
[null,null,"PERMANENCE SAO"]
[null,null,"PERMANENCE SAO"]
[null,null,"PERMANENCE SAO"]
[null,null,"PERMANENCE SAO"]
[null,null,"PERMANENCE FAJ"]
[null,null,"HORS ACCUEIL"]
[null,null,"SANTE GLOBALE"]
[null,null,"UMIPP"]
[null,null,"PSYCHOLOGUE"]
[null,null,"EXTERRIEUR"]
[null,null,"DOMICILIATION POSTALE"]
[null,"13H-14H","REDACTION "]
[null,"APRES-MIDI 14H-17H","ACCUEIL 300"]
[null,null,"REGULATION APREM 310",null,null,"REUNION DE SERVICE"]
[null,null,"URGENCE SAO",null,null,"REUNION DE SERVICE"]
[null,null,"RENDEZ-VOUS",null,null,"REUNION DE SERVICE"]
[null,null,"RENDEZ-VOUS",null,null,"REUNION DE SERVICE"]
[null,null,"RENDEZ-VOUS",null,null,"REUNION DE SERVICE"]
[null,null,"RENDEZ-VOUS",null,null,"REUNION DE SERVICE"]
[null,null,"PERMANENCE FAJ",null,null,"REUNION DE SERVICE"]
[null,null,"RENDEZ-VOUS FAJ",null,null,"REUNION DE SERVICE"]
[null,null,"DOMICILIATION POSTALE",null,null,"REUNION DE SERVICE"]
[]
[null,null,"NE TRAVAILLENT PAS              MERCREDI =CHRISTEL / LYSIANE                JEUDI A.MIDI   ANTHONY          VENDREDI   A.MIDI   AUDREY ET  WILLIAM"]
[null,"NOTES"]

{"sheet":"S25","index":29,"n_rows":30,"n_cols":13,"rows_kept":30,"cut":false,"hidden":false,"merged":[[17,1,26,1],[0,3,0,4],[1,3,2,3],[1,4,2,4],[1,5,2,5],[2,1,15,1],[1,6,2,6],[1,9,2,9],[1,10,2,10],[1,11,2,11],[1,12,2,12],[1,7,2,7],[1,8,2,8]]}
[null,null,null,"PLANNING POLE ACCUEIL",null,"SEMAINE",1,null,null,"LUNDI 1 JANVIER","AU ","VENDREDI 5 JANVIER"]
[null,null,null,"LUNDI","bureau","MARDI","bureau","MERCREDI","bureau","JEUDI","bureau","VENDREDI","bureau"]
[null,"MATIN 8H30-12H15","ACTIVITE"]
[null,null,"ACCUEIL 300"]
[null,null,"REGULATION MATIN 310"]
[null,null,"PERMANENCE SAO"]
[null,null,"PERMANENCE SAO"]
[null,null,"PERMANENCE SAO"]
[null,null,"PERMANENCE SAO"]
[null,null,"PERMANENCE FAJ"]
[null,null,"HORS ACCUEIL"]
[null,null,"SANTE GLOBALE"]
[null,null,"UMIPP"]
[null,null,"PSYCHOLOGUE"]
[null,null,"EXTERRIEUR"]
[null,null,"DOMICILIATION POSTALE"]
[null,"13H-14H","REDACTION "]
[null,"APRES-MIDI 14H-17H","ACCUEIL 300"]
[null,null,"REGULATION APREM 310",null,null,"REUNION DE SERVICE"]
[null,null,"URGENCE SAO",null,null,"REUNION DE SERVICE"]
[null,null,"RENDEZ-VOUS",null,null,"REUNION DE SERVICE"]
[null,null,"RENDEZ-VOUS",null,null,"REUNION DE SERVICE"]
[null,null,"RENDEZ-VOUS",null,null,"REUNION DE SERVICE"]
[null,null,"RENDEZ-VOUS",null,null,"REUNION DE SERVICE"]
[null,null,"PERMANENCE FAJ",null,null,"REUNION DE SERVICE"]
[null,null,"RENDEZ-VOUS FAJ",null,null,"REUNION DE SERVICE"]
[null,null,"DOMICILIATION POSTALE",null,null,"REUNION DE SERVICE"]
[]
[null,null,"NE TRAVAILLENT PAS              MERCREDI =CHRISTEL / LYSIANE                JEUDI A.MIDI   ANTHONY          VENDREDI   A.MIDI   AUDREY ET  WILLIAM"]
[null,"NOTES"]

{"sheet":"S26","index":30,"n_rows":30,"n_cols":13,"rows_kept":30,"cut":false,"hidden":false,"merged":[[17,1,26,1],[0,3,0,4],[1,3,2,3],[1,4,2,4],[1,5,2,5],[2,1,15,1],[1,6,2,6],[1,9,2,9],[1,10,2,10],[1,11,2,11],[1,12,2,12],[1,7,2,7],[1,8,2,8]]}
[null,null,null,"PLANNING POLE ACCUEIL",null,"SEMAINE",1,null,null,"LUNDI 1 JANVIER","AU ","VENDREDI 5 JANVIER"]
[null,null,null,"LUNDI","bureau","MARDI","bureau","MERCREDI","bureau","JEUDI","bureau","VENDREDI","bureau"]
[null,"MATIN 8H30-12H15","ACTIVITE"]
[null,null,"ACCUEIL 300"]
[null,null,"REGULATION MATIN 310"]
[null,null,"PERMANENCE SAO"]
[null,null,"PERMANENCE SAO"]
[null,null,"PERMANENCE SAO"]
[null,null,"PERMANENCE SAO"]
[null,null,"PERMANENCE FAJ"]
[null,null,"HORS ACCUEIL"]
[null,null,"SANTE GLOBALE"]
[null,null,"UMIPP"]
[null,null,"PSYCHOLOGUE"]
[null,null,"EXTERRIEUR"]
[null,null,"DOMICILIATION POSTALE"]
[null,"13H-14H","REDACTION "]
[null,"APRES-MIDI 14H-17H","ACCUEIL 300"]
[null,null,"REGULATION APREM 310",null,null,"REUNION DE SERVICE"]
[null,null,"URGENCE SAO",null,null,"REUNION DE SERVICE"]
[null,null,"RENDEZ-VOUS",null,null,"REUNION DE SERVICE"]
[null,null,"RENDEZ-VOUS",null,null,"REUNION DE SERVICE"]
[null,null,"RENDEZ-VOUS",null,null,"REUNION DE SERVICE"]
[null,null,"RENDEZ-VOUS",null,null,"REUNION DE SERVICE"]
[null,null,"PERMANENCE FAJ",null,null,"REUNION DE SERVICE"]
[null,null,"RENDEZ-VOUS FAJ",null,null,"REUNION DE SERVICE"]
[null,null,"DOMICILIATION POSTALE",null,null,"REUNION DE SERVICE"]
[]
[null,null,"NE TRAVAILLENT PAS              MERCREDI =CHRISTEL / LYSIANE                JEUDI A.MIDI   ANTHONY          VENDREDI   A.MIDI   AUDREY ET  WILLIAM"]
[null,"NOTES"]

{"sheet":"S27","index":31,"n_rows":30,"n_cols":13,"rows_kept":30,"cut":false,"hidden":false,"merged":[[17,1,26,1],[0,3,0,4],[1,3,2,3],[1,4,2,4],[1,5,2,5],[2,1,15,1],[1,6,2,6],[1,9,2,9],[1,10,2,10],[1,11,2,11],[1,12,2,12],[1,7,2,7],[1,8,2,8]]}
[null,null,null,"PLANNING POLE ACCUEIL",null,"SEMAINE",1,null,null,"LUNDI 1 JANVIER","AU ","VENDREDI 5 JANVIER"]
[null,null,null,"LUNDI","bureau","MARDI","bureau","MERCREDI","bureau","JEUDI","bureau","VENDREDI","bureau"]
[null,"MATIN 8H30-12H15","ACTIVITE"]
[null,null,"ACCUEIL 300"]
[null,null,"REGULATION MATIN 310"]
[null,null,"PERMANENCE SAO"]
[null,null,"PERMANENCE SAO"]
[null,null,"PERMANENCE SAO"]
[null,null,"PERMANENCE SAO"]
[null,null,"PERMANENCE FAJ"]
[null,null,"HORS ACCUEIL"]
[null,null,"SANTE GLOBALE"]
[null,null,"UMIPP"]
[null,null,"PSYCHOLOGUE"]
[null,null,"EXTERRIEUR"]
[null,null,"DOMICILIATION POSTALE"]
[null,"13H-14H","REDACTION "]
[null,"APRES-MIDI 14H-17H","ACCUEIL 300"]
[null,null,"REGULATION APREM 310",null,null,"REUNION DE SERVICE"]
[null,null,"URGENCE SAO",null,null,"REUNION DE SERVICE"]
[null,null,"RENDEZ-VOUS",null,null,"REUNION DE SERVICE"]
[null,null,"RENDEZ-VOUS",null,null,"REUNION DE SERVICE"]
[null,null,"RENDEZ-VOUS",null,null,"REUNION DE SERVICE"]
[null,null,"RENDEZ-VOUS",null,null,"REUNION DE SERVICE"]
[null,null,"PERMANENCE FAJ",null,null,"REUNION DE SERVICE"]
[null,null,"RENDEZ-VOUS FAJ",null,null,"REUNION DE SERVICE"]
[null,null,"DOMICILIATION POSTALE",null,null,"REUNION DE SERVICE"]
[]
[null,null,"NE TRAVAILLENT PAS              MERCREDI =CHRISTEL / LYSIANE                JEUDI A.MIDI   ANTHONY          VENDREDI   A.MIDI   AUDREY ET  WILLIAM"]
[null,"NOTES"]

{"sheet":"S28","index":32,"n_rows":30,"n_cols":13,"rows_kept":30,"cut":false,"hidden":false,"merged":[[17,1,26,1],[0,3,0,4],[1,3,2,3],[1,4,2,4],[1,5,2,5],[2,1,15,1],[1,6,2,6],[1,9,2,9],[1,10,2,10],[1,11,2,11],[1,12,2,12],[1,7,2,7],[1,8,2,8]]}
[null,null,null,"PLANNING POLE ACCUEIL",null,"SEMAINE",1,null,null,"LUNDI 1 JANVIER","AU ","VENDREDI 5 JANVIER"]
[null,null,null,"LUNDI","bureau","MARDI","bureau","MERCREDI","bureau","JEUDI","bureau","VENDREDI","bureau"]
[null,"MATIN 8H30-12H15","ACTIVITE"]
[null,null,"ACCUEIL 300"]
[null,null,"REGULATION MATIN 310"]
[null,null,"PERMANENCE SAO"]
[null,null,"PERMANENCE SAO"]
[null,null,"PERMANENCE SAO"]
[null,null,"PERMANENCE SAO"]
[null,null,"PERMANENCE FAJ"]
[null,null,"HORS ACCUEIL"]
[null,null,"SANTE GLOBALE"]
[null,null,"UMIPP"]
[null,null,"PSYCHOLOGUE"]
[null,null,"EXTERRIEUR"]
[null,null,"DOMICILIATION POSTALE"]
[null,"13H-14H","REDACTION "]
[null,"APRES-MIDI 14H-17H","ACCUEIL 300"]
[null,null,"REGULATION APREM 310",null,null,"REUNION DE SERVICE"]
[null,null,"URGENCE SAO",null,null,"REUNION DE SERVICE"]
[null,null,"RENDEZ-VOUS",null,null,"REUNION DE SERVICE"]
[null,null,"RENDEZ-VOUS",null,null,"REUNION DE SERVICE"]
[null,null,"RENDEZ-VOUS",null,null,"REUNION DE SERVICE"]
[null,null,"RENDEZ-VOUS",null,null,"REUNION DE SERVICE"]
[null,null,"PERMANENCE FAJ",null,null,"REUNION DE SERVICE"]
[null,null,"RENDEZ-VOUS FAJ",null,null,"REUNION DE SERVICE"]
[null,null,"DOMICILIATION POSTALE",null,null,"REUNION DE SERVICE"]
[]
[null,null,"NE TRAVAILLENT PAS              MERCREDI =CHRISTEL / LYSIANE                JEUDI A.MIDI   ANTHONY          VENDREDI   A.MIDI   AUDREY ET  WILLIAM"]
[null,"NOTES"]

{"sheet":"S29","index":33,"n_rows":30,"n_cols":13,"rows_kept":30,"cut":false,"hidden":false,"merged":[[17,1,26,1],[0,3,0,4],[1,3,2,3],[1,4,2,4],[1,5,2,5],[2,1,15,1],[1,6,2,6],[1,9,2,9],[1,10,2,10],[1,11,2,11],[1,12,2,12],[1,7,2,7],[1,8,2,8]]}
[null,null,null,"PLANNING POLE ACCUEIL",null,"SEMAINE",1,null,null,"LUNDI 1 JANVIER","AU ","VENDREDI 5 JANVIER"]
[null,null,null,"LUNDI","bureau","MARDI","bureau","MERCREDI","bureau","JEUDI","bureau","VENDREDI","bureau"]
[null,"MATIN 8H30-12H15","ACTIVITE"]
[null,null,"ACCUEIL 300"]
[null,null,"REGULATION MATIN 310"]
[null,null,"PERMANENCE SAO"]
[null,null,"PERMANENCE SAO"]
[null,null,"PERMANENCE SAO"]
[null,null,"PERMANENCE SAO"]
[null,null,"PERMANENCE FAJ"]
[null,null,"HORS ACCUEIL"]
[null,null,"SANTE GLOBALE"]
[null,null,"UMIPP"]
[null,null,"PSYCHOLOGUE"]
[null,null,"EXTERRIEUR"]
[null,null,"DOMICILIATION POSTALE"]
[null,"13H-14H","REDACTION "]
[null,"APRES-MIDI 14H-17H","ACCUEIL 300"]
[null,null,"REGULATION APREM 310",null,null,"REUNION DE SERVICE"]
[null,null,"URGENCE SAO",null,null,"REUNION DE SERVICE"]
[null,null,"RENDEZ-VOUS",null,null,"REUNION DE SERVICE"]
[null,null,"RENDEZ-VOUS",null,null,"REUNION DE SERVICE"]
[null,null,"RENDEZ-VOUS",null,null,"REUNION DE SERVICE"]
[null,null,"RENDEZ-VOUS",null,null,"REUNION DE SERVICE"]
[null,null,"PERMANENCE FAJ",null,null,"REUNION DE SERVICE"]
[null,null,"RENDEZ-VOUS FAJ",null,null,"REUNION DE SERVICE"]
[null,null,"DOMICILIATION POSTALE",null,null,"REUNION DE SERVICE"]
[]
[null,null,"NE TRAVAILLENT PAS              MERCREDI =CHRISTEL / LYSIANE                JEUDI A.MIDI   ANTHONY          VENDREDI   A.MIDI   AUDREY ET  WILLIAM"]
[null,"NOTES"]

{"sheet":"S30","index":34,"n_rows":30,"n_cols":13,"rows_kept":30,"cut":false,"hidden":false,"merged":[[17,1,26,1],[0,3,0,4],[1,3,2,3],[1,4,2,4],[1,5,2,5],[2,1,15,1],[1,6,2,6],[1,9,2,9],[1,10,2,10],[1,11,2,11],[1,12,2,12],[1,7,2,7],[1,8,2,8]]}
[null,null,null,"PLANNING POLE ACCUEIL",null,"SEMAINE",1,null,null,"LUNDI 1 JANVIER","AU ","VENDREDI 5 JANVIER"]
[null,null,null,"LUNDI","bureau","MARDI","bureau","MERCREDI","bureau","JEUDI","bureau","VENDREDI","bureau"]
[null,"MATIN 8H30-12H15","ACTIVITE"]
[null,null,"ACCUEIL 300"]
[null,null,"REGULATION MATIN 310"]
[null,null,"PERMANENCE SAO"]
[null,null,"PERMANENCE SAO"]
[null,null,"PERMANENCE SAO"]
[null,null,"PERMANENCE SAO"]
[null,null,"PERMANENCE FAJ"]
[null,null,"HORS ACCUEIL"]
[null,null,"SANTE GLOBALE"]
[null,null,"UMIPP"]
[null,null,"PSYCHOLOGUE"]
[null,null,"EXTERRIEUR"]
[null,null,"DOMICILIATION POSTALE"]
[null,"13H-14H","REDACTION "]
[null,"APRES-MIDI 14H-17H","ACCUEIL 300"]
[null,null,"REGULATION APREM 310",null,null,"REUNION DE SERVICE"]
[null,null,"URGENCE SAO",null,null,"REUNION DE SERVICE"]
[null,null,"RENDEZ-VOUS",null,null,"REUNION DE SERVICE"]
[null,null,"RENDEZ-VOUS",null,null,"REUNION DE SERVICE"]
[null,null,"RENDEZ-VOUS",null,null,"REUNION DE SERVICE"]
[null,null,"RENDEZ-VOUS",null,null,"REUNION DE SERVICE"]
[null,null,"PERMANENCE FAJ",null,null,"REUNION DE SERVICE"]
[null,null,"RENDEZ-VOUS FAJ",null,null,"REUNION DE SERVICE"]
[null,null,"DOMICILIATION POSTALE",null,null,"REUNION DE SERVICE"]
[]
[null,null,"NE TRAVAILLENT PAS              MERCREDI =CHRISTEL / LYSIANE                JEUDI A.MIDI   ANTHONY          VENDREDI   A.MIDI   AUDREY ET  WILLIAM"]
[null,"NOTES"]

{"sheet":"S31","index":35,"n_rows":30,"n_cols":13,"rows_kept":30,"cut":false,"hidden":false,"merged":[[17,1,26,1],[0,3,0,4],[1,3,2,3],[1,4,2,4],[1,5,2,5],[2,1,15,1],[1,6,2,6],[1,9,2,9],[1,10,2,10],[1,11,2,11],[1,12,2,12],[1,7,2,7],[1,8,2,8]]}
[null,null,null,"PLANNING POLE ACCUEIL",null,"SEMAINE",1,null,null,"LUNDI 1 JANVIER","AU ","VENDREDI 5 JANVIER"]
[null,null,null,"LUNDI","bureau","MARDI","bureau","MERCREDI","bureau","JEUDI","bureau","VENDREDI","bureau"]
[null,"MATIN 8H30-12H15","ACTIVITE"]
[null,null,"ACCUEIL 300"]
[null,null,"REGULATION MATIN 310"]
[null,null,"PERMANENCE SAO"]
[null,null,"PERMANENCE SAO"]
[null,null,"PERMANENCE SAO"]
[null,null,"PERMANENCE SAO"]
[null,null,"PERMANENCE FAJ"]
[null,null,"HORS ACCUEIL"]
[null,null,"SANTE GLOBALE"]
[null,null,"UMIPP"]
[null,null,"PSYCHOLOGUE"]
[null,null,"EXTERRIEUR"]
[null,null,"DOMICILIATION POSTALE"]
[null,"13H-14H","REDACTION "]
[null,"APRES-MIDI 14H-17H","ACCUEIL 300"]
[null,null,"REGULATION APREM 310",null,null,"REUNION DE SERVICE"]
[null,null,"URGENCE SAO",null,null,"REUNION DE SERVICE"]
[null,null,"RENDEZ-VOUS",null,null,"REUNION DE SERVICE"]
[null,null,"RENDEZ-VOUS",null,null,"REUNION DE SERVICE"]
[null,null,"RENDEZ-VOUS",null,null,"REUNION DE SERVICE"]
[null,null,"RENDEZ-VOUS",null,null,"REUNION DE SERVICE"]
[null,null,"PERMANENCE FAJ",null,null,"REUNION DE SERVICE"]
[null,null,"RENDEZ-VOUS FAJ",null,null,"REUNION DE SERVICE"]
[null,null,"DOMICILIATION POSTALE",null,null,"REUNION DE SERVICE"]
[]
[null,null,"NE TRAVAILLENT PAS              MERCREDI =CHRISTEL / LYSIANE                JEUDI A.MIDI   ANTHONY          VENDREDI   A.MIDI   AUDREY ET  WILLIAM"]
[null,"NOTES"]

{"sheet":"S32","index":36,"n_rows":30,"n_cols":13,"rows_kept":30,"cut":false,"hidden":false,"merged":[[17,1,26,1],[0,3,0,4],[1,3,2,3],[1,4,2,4],[1,5,2,5],[2,1,15,1],[1,6,2,6],[1,9,2,9],[1,10,2,10],[1,11,2,11],[1,12,2,12],[1,7,2,7],[1,8,2,8]]}
[null,null,null,"PLANNING POLE ACCUEIL",null,"SEMAINE",1,null,null,"LUNDI 1 JANVIER","AU ","VENDREDI 5 JANVIER"]
[null,null,null,"LUNDI","bureau","MARDI","bureau","MERCREDI","bureau","JEUDI","bureau","VENDREDI","bureau"]
[null,"MATIN 8H30-12H15","ACTIVITE"]
[null,null,"ACCUEIL 300"]
[null,null,"REGULATION MATIN 310"]
[null,null,"PERMANENCE SAO"]
[null,null,"PERMANENCE SAO"]
[null,null,"PERMANENCE SAO"]
[null,null,"PERMANENCE SAO"]
[null,null,"PERMANENCE FAJ"]
[null,null,"HORS ACCUEIL"]
[null,null,"SANTE GLOBALE"]
[null,null,"UMIPP"]
[null,null,"PSYCHOLOGUE"]
[null,null,"EXTERRIEUR"]
[null,null,"DOMICILIATION POSTALE"]
[null,"13H-14H","REDACTION "]
[null,"APRES-MIDI 14H-17H","ACCUEIL 300"]
[null,null,"REGULATION APREM 310",null,null,"REUNION DE SERVICE"]
[null,null,"URGENCE SAO",null,null,"REUNION DE SERVICE"]
[null,null,"RENDEZ-VOUS",null,null,"REUNION DE SERVICE"]
[null,null,"RENDEZ-VOUS",null,null,"REUNION DE SERVICE"]
[null,null,"RENDEZ-VOUS",null,null,"REUNION DE SERVICE"]
[null,null,"RENDEZ-VOUS",null,null,"REUNION DE SERVICE"]
[null,null,"PERMANENCE FAJ",null,null,"REUNION DE SERVICE"]
[null,null,"RENDEZ-VOUS FAJ",null,null,"REUNION DE SERVICE"]
[null,null,"DOMICILIATION POSTALE",null,null,"REUNION DE SERVICE"]
[]
[null,null,"NE TRAVAILLENT PAS              MERCREDI =CHRISTEL / LYSIANE                JEUDI A.MIDI   ANTHONY          VENDREDI   A.MIDI   AUDREY ET  WILLIAM"]
[null,"NOTES"]

{"sheet":"S33","index":37,"n_rows":30,"n_cols":13,"rows_kept":30,"cut":false,"hidden":false,"merged":[[17,1,26,1],[0,3,0,4],[1,3,2,3],[1,4,2,4],[1,5,2,5],[2,1,15,1],[1,6,2,6],[1,9,2,9],[1,10,2,10],[1,11,2,11],[1,12,2,12],[1,7,2,7],[1,8,2,8]]}
[null,null,null,"PLANNING POLE ACCUEIL",null,"SEMAINE",1,null,null,"LUNDI 1 JANVIER","AU ","VENDREDI 5 JANVIER"]
[null,null,null,"LUNDI","bureau","MARDI","bureau","MERCREDI","bureau","JEUDI","bureau","VENDREDI","bureau"]
[null,"MATIN 8H30-12H15","ACTIVITE"]
[null,null,"ACCUEIL 300"]
[null,null,"REGULATION MATIN 310"]
[null,null,"PERMANENCE SAO"]
[null,null,"PERMANENCE SAO"]
[null,null,"PERMANENCE SAO"]
[null,null,"PERMANENCE SAO"]
[null,null,"PERMANENCE FAJ"]
[null,null,"HORS ACCUEIL"]
[null,null,"SANTE GLOBALE"]
[null,null,"UMIPP"]
[null,null,"PSYCHOLOGUE"]
[null,null,"EXTERRIEUR"]
[null,null,"DOMICILIATION POSTALE"]
[null,"13H-14H","REDACTION "]
[null,"APRES-MIDI 14H-17H","ACCUEIL 300"]
[null,null,"REGULATION APREM 310",null,null,"REUNION DE SERVICE"]
[null,null,"URGENCE SAO",null,null,"REUNION DE SERVICE"]
[null,null,"RENDEZ-VOUS",null,null,"REUNION DE SERVICE"]
[null,null,"RENDEZ-VOUS",null,null,"REUNION DE SERVICE"]
[null,null,"RENDEZ-VOUS",null,null,"REUNION DE SERVICE"]
[null,null,"RENDEZ-VOUS",null,null,"REUNION DE SERVICE"]
[null,null,"PERMANENCE FAJ",null,null,"REUNION DE SERVICE"]
[null,null,"RENDEZ-VOUS FAJ",null,null,"REUNION DE SERVICE"]
[null,null,"DOMICILIATION POSTALE",null,null,"REUNION DE SERVICE"]
[]
[null,null,"NE TRAVAILLENT PAS              MERCREDI =CHRISTEL / LYSIANE                JEUDI A.MIDI   ANTHONY          VENDREDI   A.MIDI   AUDREY ET  WILLIAM"]
[null,"NOTES"]

{"sheet":"S34","index":38,"n_rows":30,"n_cols":13,"rows_kept":30,"cut":false,"hidden":false,"merged":[[17,1,26,1],[0,3,0,4],[1,3,2,3],[1,4,2,4],[1,5,2,5],[2,1,15,1],[1,6,2,6],[1,9,2,9],[1,10,2,10],[1,11,2,11],[1,12,2,12],[1,7,2,7],[1,8,2,8]]}
[null,null,null,"PLANNING POLE ACCUEIL",null,"SEMAINE",1,null,null,"LUNDI 1 JANVIER","AU ","VENDREDI 5 JANVIER"]
[null,null,null,"LUNDI","bureau","MARDI","bureau","MERCREDI","bureau","JEUDI","bureau","VENDREDI","bureau"]
[null,"MATIN 8H30-12H15","ACTIVITE"]
[null,null,"ACCUEIL 300"]
[null,null,"REGULATION MATIN 310"]
[null,null,"PERMANENCE SAO"]
[null,null,"PERMANENCE SAO"]
[null,null,"PERMANENCE SAO"]
[null,null,"PERMANENCE SAO"]
[null,null,"PERMANENCE FAJ"]
[null,null,"HORS ACCUEIL"]
[null,null,"SANTE GLOBALE"]
[null,null,"UMIPP"]
[null,null,"PSYCHOLOGUE"]
[null,null,"EXTERRIEUR"]
[null,null,"DOMICILIATION POSTALE"]
[null,"13H-14H","REDACTION "]
[null,"APRES-MIDI 14H-17H","ACCUEIL 300"]
[null,null,"REGULATION APREM 310",null,null,"REUNION DE SERVICE"]
[null,null,"URGENCE SAO",null,null,"REUNION DE SERVICE"]
[null,null,"RENDEZ-VOUS",null,null,"REUNION DE SERVICE"]
[null,null,"RENDEZ-VOUS",null,null,"REUNION DE SERVICE"]
[null,null,"RENDEZ-VOUS",null,null,"REUNION DE SERVICE"]
[null,null,"RENDEZ-VOUS",null,null,"REUNION DE SERVICE"]
[null,null,"PERMANENCE FAJ",null,null,"REUNION DE SERVICE"]
[null,null,"RENDEZ-VOUS FAJ",null,null,"REUNION DE SERVICE"]
[null,null,"DOMICILIATION POSTALE",null,null,"REUNION DE SERVICE"]
[]
[null,null,"NE TRAVAILLENT PAS              MERCREDI =CHRISTEL / LYSIANE                JEUDI A.MIDI   ANTHONY          VENDREDI   A.MIDI   AUDREY ET  WILLIAM"]
[null,"NOTES"]

{"sheet":"S35","index":39,"n_rows":30,"n_cols":13,"rows_kept":30,"cut":false,"hidden":false,"merged":[[17,1,26,1],[0,3,0,4],[1,3,2,3],[1,4,2,4],[1,5,2,5],[2,1,15,1],[1,6,2,6],[1,9,2,9],[1,10,2,10],[1,11,2,11],[1,12,2,12],[1,7,2,7],[1,8,2,8]]}
[null,null,null,"PLANNING POLE ACCUEIL",null,"SEMAINE",1,null,null,"LUNDI 1 JANVIER","AU ","VENDREDI 5 JANVIER"]
[null,null,null,"LUNDI","bureau","MARDI","bureau","MERCREDI","bureau","JEUDI","bureau","VENDREDI","bureau"]
[null,"MATIN 8H30-12H15","ACTIVITE"]
[null,null,"ACCUEIL 300"]
[null,null,"REGULATION MATIN 310"]
[null,null,"PERMANENCE SAO"]
[null,null,"PERMANENCE SAO"]
[null,null,"PERMANENCE SAO"]
[null,null,"PERMANENCE SAO"]
[null,null,"PERMANENCE FAJ"]
[null,null,"HORS ACCUEIL"]
[null,null,"SANTE GLOBALE"]
[null,null,"UMIPP"]
[null,null,"PSYCHOLOGUE"]
[null,null,"EXTERRIEUR"]
[null,null,"DOMICILIATION POSTALE"]
[null,"13H-14H","REDACTION "]
[null,"APRES-MIDI 14H-17H","ACCUEIL 300"]
[null,null,"REGULATION APREM 310",null,null,"REUNION DE SERVICE"]
[null,null,"URGENCE SAO",null,null,"REUNION DE SERVICE"]
[null,null,"RENDEZ-VOUS",null,null,"REUNION DE SERVICE"]
[null,null,"RENDEZ-VOUS",null,null,"REUNION DE SERVICE"]
[null,null,"RENDEZ-VOUS",null,null,"REUNION DE SERVICE"]
[null,null,"RENDEZ-VOUS",null,null,"REUNION DE SERVICE"]
[null,null,"PERMANENCE FAJ",null,null,"REUNION DE SERVICE"]
[null,null,"RENDEZ-VOUS FAJ",null,null,"REUNION DE SERVICE"]
[null,null,"DOMICILIATION POSTALE",null,null,"REUNION DE SERVICE"]
[]
[null,null,"NE TRAVAILLENT PAS              MERCREDI =CHRISTEL / LYSIANE                JEUDI A.MIDI   ANTHONY          VENDREDI   A.MIDI   AUDREY ET  WILLIAM"]
[null,"NOTES"]

{"sheet":"S36","index":40,"n_rows":30,"n_cols":13,"rows_kept":30,"cut":false,"hidden":false,"merged":[[17,1,26,1],[0,3,0,4],[1,3,2,3],[1,4,2,4],[1,5,2,5],[2,1,15,1],[1,6,2,6],[1,9,2,9],[1,10,2,10],[1,11,2,11],[1,12,2,12],[1,7,2,7],[1,8,2,8]]}
[null,null,null,"PLANNING POLE ACCUEIL",null,"SEMAINE",1,null,null,"LUNDI 1 JANVIER","AU ","VENDREDI 5 JANVIER"]
[null,null,null,"LUNDI","bureau","MARDI","bureau","MERCREDI","bureau","JEUDI","bureau","VENDREDI","bureau"]
[null,"MATIN 8H30-12H15","ACTIVITE"]
[null,null,"ACCUEIL 300"]
[null,null,"REGULATION MATIN 310"]
[null,null,"PERMANENCE SAO"]
[null,null,"PERMANENCE SAO"]
[null,null,"PERMANENCE SAO"]
[null,null,"PERMANENCE SAO"]
[null,null,"PERMANENCE FAJ"]
[null,null,"HORS ACCUEIL"]
[null,null,"SANTE GLOBALE"]
[null,null,"UMIPP"]
[null,null,"PSYCHOLOGUE"]
[null,null,"EXTERRIEUR"]
[null,null,"DOMICILIATION POSTALE"]
[null,"13H-14H","REDACTION "]
[null,"APRES-MIDI 14H-17H","ACCUEIL 300"]
[null,null,"REGULATION APREM 310",null,null,"REUNION DE SERVICE"]
[null,null,"URGENCE SAO",null,null,"REUNION DE SERVICE"]
[null,null,"RENDEZ-VOUS",null,null,"REUNION DE SERVICE"]
[null,null,"RENDEZ-VOUS",null,null,"REUNION DE SERVICE"]
[null,null,"RENDEZ-VOUS",null,null,"REUNION DE SERVICE"]
[null,null,"RENDEZ-VOUS",null,null,"REUNION DE SERVICE"]
[null,null,"PERMANENCE FAJ",null,null,"REUNION DE SERVICE"]
[null,null,"RENDEZ-VOUS FAJ",null,null,"REUNION DE SERVICE"]
[null,null,"DOMICILIATION POSTALE",null,null,"REUNION DE SERVICE"]
[]
[null,null,"NE TRAVAILLENT PAS              MERCREDI =CHRISTEL / LYSIANE                JEUDI A.MIDI   ANTHONY          VENDREDI   A.MIDI   AUDREY ET  WILLIAM"]
[null,"NOTES"]

{"sheet":"S37","index":41,"n_rows":30,"n_cols":13,"rows_kept":30,"cut":false,"hidden":false,"merged":[[17,1,26,1],[0,3,0,4],[1,3,2,3],[1,4,2,4],[1,5,2,5],[2,1,15,1],[1,6,2,6],[1,9,2,9],[1,10,2,10],[1,11,2,11],[1,12,2,12],[1,7,2,7],[1,8,2,8]]}
[null,null,null,"PLANNING POLE ACCUEIL",null,"SEMAINE",1,null,null,"LUNDI 1 JANVIER","AU ","VENDREDI 5 JANVIER"]
[null,null,null,"LUNDI","bureau","MARDI","bureau","MERCREDI","bureau","JEUDI","bureau","VENDREDI","bureau"]
[null,"MATIN 8H30-12H15","ACTIVITE"]
[null,null,"ACCUEIL 300"]
[null,null,"REGULATION MATIN 310"]
[null,null,"PERMANENCE SAO"]
[null,null,"PERMANENCE SAO"]
[null,null,"PERMANENCE SAO"]
[null,null,"PERMANENCE SAO"]
[null,null,"PERMANENCE FAJ"]
[null,null,"HORS ACCUEIL"]
[null,null,"SANTE GLOBALE"]
[null,null,"UMIPP"]
[null,null,"PSYCHOLOGUE"]
[null,null,"EXTERRIEUR"]
[null,null,"DOMICILIATION POSTALE"]
[null,"13H-14H","REDACTION "]
[null,"APRES-MIDI 14H-17H","ACCUEIL 300"]
[null,null,"REGULATION APREM 310",null,null,"REUNION DE SERVICE"]
[null,null,"URGENCE SAO",null,null,"REUNION DE SERVICE"]
[null,null,"RENDEZ-VOUS",null,null,"REUNION DE SERVICE"]
[null,null,"RENDEZ-VOUS",null,null,"REUNION DE SERVICE"]
[null,null,"RENDEZ-VOUS",null,null,"REUNION DE SERVICE"]
[null,null,"RENDEZ-VOUS",null,null,"REUNION DE SERVICE"]
[null,null,"PERMANENCE FAJ",null,null,"REUNION DE SERVICE"]
[null,null,"RENDEZ-VOUS FAJ",null,null,"REUNION DE SERVICE"]
[null,null,"DOMICILIATION POSTALE",null,null,"REUNION DE SERVICE"]
[]
[null,null,"NE TRAVAILLENT PAS              MERCREDI =CHRISTEL / LYSIANE                JEUDI A.MIDI   ANTHONY          VENDREDI   A.MIDI   AUDREY ET  WILLIAM"]
[null,"NOTES"]

{"sheet":"S38","index":42,"n_rows":30,"n_cols":13,"rows_kept":30,"cut":false,"hidden":false,"merged":[[17,1,26,1],[0,3,0,4],[1,3,2,3],[1,4,2,4],[1,5,2,5],[2,1,15,1],[1,6,2,6],[1,9,2,9],[1,10,2,10],[1,11,2,11],[1,12,2,12],[1,7,2,7],[1,8,2,8]]}
[null,null,null,"PLANNING POLE ACCUEIL",null,"SEMAINE",1,null,null,"LUNDI 1 JANVIER","AU ","VENDREDI 5 JANVIER"]
[null,null,null,"LUNDI","bureau","MARDI","bureau","MERCREDI","bureau","JEUDI","bureau","VENDREDI","bureau"]
[null,"MATIN 8H30-12H15","ACTIVITE"]
[null,null,"ACCUEIL 300"]
[null,null,"REGULATION MATIN 310"]
[null,null,"PERMANENCE SAO"]
[null,null,"PERMANENCE SAO"]
[null,null,"PERMANENCE SAO"]
[null,null,"PERMANENCE SAO"]
[null,null,"PERMANENCE FAJ"]
[null,null,"HORS ACCUEIL"]
[null,null,"SANTE GLOBALE"]
[null,null,"UMIPP"]
[null,null,"PSYCHOLOGUE"]
[null,null,"EXTERRIEUR"]
[null,null,"DOMICILIATION POSTALE"]
[null,"13H-14H","REDACTION "]
[null,"APRES-MIDI 14H-17H","ACCUEIL 300"]
[null,null,"REGULATION APREM 310",null,null,"REUNION DE SERVICE"]
[null,null,"URGENCE SAO",null,null,"REUNION DE SERVICE"]
[null,null,"RENDEZ-VOUS",null,null,"REUNION DE SERVICE"]
[null,null,"RENDEZ-VOUS",null,null,"REUNION DE SERVICE"]
[null,null,"RENDEZ-VOUS",null,null,"REUNION DE SERVICE"]
[null,null,"RENDEZ-VOUS",null,null,"REUNION DE SERVICE"]
[null,null,"PERMANENCE FAJ",null,null,"REUNION DE SERVICE"]
[null,null,"RENDEZ-VOUS FAJ",null,null,"REUNION DE SERVICE"]
[null,null,"DOMICILIATION POSTALE",null,null,"REUNION DE SERVICE"]
[]
[null,null,"NE TRAVAILLENT PAS              MERCREDI =CHRISTEL / LYSIANE                JEUDI A.MIDI   ANTHONY          VENDREDI   A.MIDI   AUDREY ET  WILLIAM"]
[null,"NOTES"]

{"sheet":"S39","index":43,"n_rows":30,"n_cols":13,"rows_kept":30,"cut":false,"hidden":false,"merged":[[17,1,26,1],[0,3,0,4],[1,3,2,3],[1,4,2,4],[1,5,2,5],[2,1,15,1],[1,6,2,6],[1,9,2,9],[1,10,2,10],[1,11,2,11],[1,12,2,12],[1,7,2,7],[1,8,2,8]]}
[null,null,null,"PLANNING POLE ACCUEIL",null,"SEMAINE",1,null,null,"LUNDI 1 JANVIER","AU ","VENDREDI 5 JANVIER"]
[null,null,null,"LUNDI","bureau","MARDI","bureau","MERCREDI","bureau","JEUDI","bureau","VENDREDI","bureau"]
[null,"MATIN 8H30-12H15","ACTIVITE"]
[null,null,"ACCUEIL 300"]
[null,null,"REGULATION MATIN 310"]
[null,null,"PERMANENCE SAO"]
[null,null,"PERMANENCE SAO"]
[null,null,"PERMANENCE SAO"]
[null,null,"PERMANENCE SAO"]
[null,null,"PERMANENCE FAJ"]
[null,null,"HORS ACCUEIL"]
[null,null,"SANTE GLOBALE"]
[null,null,"UMIPP"]
[null,null,"PSYCHOLOGUE"]
[null,null,"EXTERRIEUR"]
[null,null,"DOMICILIATION POSTALE"]
[null,"13H-14H","REDACTION "]
[null,"APRES-MIDI 14H-17H","ACCUEIL 300"]
[null,null,"REGULATION APREM 310",null,null,"REUNION DE SERVICE"]
[null,null,"URGENCE SAO",null,null,"REUNION DE SERVICE"]
[null,null,"RENDEZ-VOUS",null,null,"REUNION DE SERVICE"]
[null,null,"RENDEZ-VOUS",null,null,"REUNION DE SERVICE"]
[null,null,"RENDEZ-VOUS",null,null,"REUNION DE SERVICE"]
[null,null,"RENDEZ-VOUS",null,null,"REUNION DE SERVICE"]
[null,null,"PERMANENCE FAJ",null,null,"REUNION DE SERVICE"]
[null,null,"RENDEZ-VOUS FAJ",null,null,"REUNION DE SERVICE"]
[null,null,"DOMICILIATION POSTALE",null,null,"REUNION DE SERVICE"]
[]
[null,null,"NE TRAVAILLENT PAS              MERCREDI =CHRISTEL / LYSIANE                JEUDI A.MIDI   ANTHONY          VENDREDI   A.MIDI   AUDREY ET  WILLIAM"]
[null,"NOTES"]

{"sheet":"S40","index":44,"n_rows":30,"n_cols":13,"rows_kept":30,"cut":false,"hidden":false,"merged":[[17,1,26,1],[0,3,0,4],[1,3,2,3],[1,4,2,4],[1,5,2,5],[2,1,15,1],[1,6,2,6],[1,9,2,9],[1,10,2,10],[1,11,2,11],[1,12,2,12],[1,7,2,7],[1,8,2,8]]}
[null,null,null,"PLANNING POLE ACCUEIL",null,"SEMAINE",1,null,null,"LUNDI 1 JANVIER","AU ","VENDREDI 5 JANVIER"]
[null,null,null,"LUNDI","bureau","MARDI","bureau","MERCREDI","bureau","JEUDI","bureau","VENDREDI","bureau"]
[null,"MATIN 8H30-12H15","ACTIVITE"]
[null,null,"ACCUEIL 300"]
[null,null,"REGULATION MATIN 310"]
[null,null,"PERMANENCE SAO"]
[null,null,"PERMANENCE SAO"]
[null,null,"PERMANENCE SAO"]
[null,null,"PERMANENCE SAO"]
[null,null,"PERMANENCE FAJ"]
[null,null,"HORS ACCUEIL"]
[null,null,"SANTE GLOBALE"]
[null,null,"UMIPP"]
[null,null,"PSYCHOLOGUE"]
[null,null,"EXTERRIEUR"]
[null,null,"DOMICILIATION POSTALE"]
[null,"13H-14H","REDACTION "]
[null,"APRES-MIDI 14H-17H","ACCUEIL 300"]
[null,null,"REGULATION APREM 310",null,null,"REUNION DE SERVICE"]
[null,null,"URGENCE SAO",null,null,"REUNION DE SERVICE"]
[null,null,"RENDEZ-VOUS",null,null,"REUNION DE SERVICE"]
[null,null,"RENDEZ-VOUS",null,null,"REUNION DE SERVICE"]
[null,null,"RENDEZ-VOUS",null,null,"REUNION DE SERVICE"]
[null,null,"RENDEZ-VOUS",null,null,"REUNION DE SERVICE"]
[null,null,"PERMANENCE FAJ",null,null,"REUNION DE SERVICE"]
[null,null,"RENDEZ-VOUS FAJ",null,null,"REUNION DE SERVICE"]
[null,null,"DOMICILIATION POSTALE",null,null,"REUNION DE SERVICE"]
[]
[null,null,"NE TRAVAILLENT PAS              MERCREDI =CHRISTEL / LYSIANE                JEUDI A.MIDI   ANTHONY          VENDREDI   A.MIDI   AUDREY ET  WILLIAM"]
[null,"NOTES"]

{"sheet":"S41","index":45,"n_rows":30,"n_cols":13,"rows_kept":30,"cut":false,"hidden":false,"merged":[[17,1,26,1],[0,3,0,4],[1,3,2,3],[1,4,2,4],[1,5,2,5],[2,1,15,1],[1,6,2,6],[1,9,2,9],[1,10,2,10],[1,11,2,11],[1,12,2,12],[1,7,2,7],[1,8,2,8]]}
[null,null,null,"PLANNING POLE ACCUEIL",null,"SEMAINE",1,null,null,"LUNDI 1 JANVIER","AU ","VENDREDI 5 JANVIER"]
[null,null,null,"LUNDI","bureau","MARDI","bureau","MERCREDI","bureau","JEUDI","bureau","VENDREDI","bureau"]
[null,"MATIN 8H30-12H15","ACTIVITE"]
[null,null,"ACCUEIL 300"]
[null,null,"REGULATION MATIN 310"]
[null,null,"PERMANENCE SAO"]
[null,null,"PERMANENCE SAO"]
[null,null,"PERMANENCE SAO"]
[null,null,"PERMANENCE SAO"]
[null,null,"PERMANENCE FAJ"]
[null,null,"HORS ACCUEIL"]
[null,null,"SANTE GLOBALE"]
[null,null,"UMIPP"]
[null,null,"PSYCHOLOGUE"]
[null,null,"EXTERRIEUR"]
[null,null,"DOMICILIATION POSTALE"]
[null,"13H-14H","REDACTION "]
[null,"APRES-MIDI 14H-17H","ACCUEIL 300"]
[null,null,"REGULATION APREM 310",null,null,"REUNION DE SERVICE"]
[null,null,"URGENCE SAO",null,null,"REUNION DE SERVICE"]
[null,null,"RENDEZ-VOUS",null,null,"REUNION DE SERVICE"]
[null,null,"RENDEZ-VOUS",null,null,"REUNION DE SERVICE"]
[null,null,"RENDEZ-VOUS",null,null,"REUNION DE SERVICE"]
[null,null,"RENDEZ-VOUS",null,null,"REUNION DE SERVICE"]
[null,null,"PERMANENCE FAJ",null,null,"REUNION DE SERVICE"]
[null,null,"RENDEZ-VOUS FAJ",null,null,"REUNION DE SERVICE"]
[null,null,"DOMICILIATION POSTALE",null,null,"REUNION DE SERVICE"]
[]
[null,null,"NE TRAVAILLENT PAS              MERCREDI =CHRISTEL / LYSIANE                JEUDI A.MIDI   ANTHONY          VENDREDI   A.MIDI   AUDREY ET  WILLIAM"]
[null,"NOTES"]

{"sheet":"S42","index":46,"n_rows":30,"n_cols":13,"rows_kept":30,"cut":false,"hidden":false,"merged":[[17,1,26,1],[0,3,0,4],[1,3,2,3],[1,4,2,4],[1,5,2,5],[2,1,15,1],[1,6,2,6],[1,9,2,9],[1,10,2,10],[1,11,2,11],[1,12,2,12],[1,7,2,7],[1,8,2,8]]}
[null,null,null,"PLANNING POLE ACCUEIL",null,"SEMAINE",1,null,null,"LUNDI 1 JANVIER","AU ","VENDREDI 5 JANVIER"]
[null,null,null,"LUNDI","bureau","MARDI","bureau","MERCREDI","bureau","JEUDI","bureau","VENDREDI","bureau"]
[null,"MATIN 8H30-12H15","ACTIVITE"]
[null,null,"ACCUEIL 300"]
[null,null,"REGULATION MATIN 310"]
[null,null,"PERMANENCE SAO"]
[null,null,"PERMANENCE SAO"]
[null,null,"PERMANENCE SAO"]
[null,null,"PERMANENCE SAO"]
[null,null,"PERMANENCE FAJ"]
[null,null,"HORS ACCUEIL"]
[null,null,"SANTE GLOBALE"]
[null,null,"UMIPP"]
[null,null,"PSYCHOLOGUE"]
[null,null,"EXTERRIEUR"]
[null,null,"DOMICILIATION POSTALE"]
[null,"13H-14H","REDACTION "]
[null,"APRES-MIDI 14H-17H","ACCUEIL 300"]
[null,null,"REGULATION APREM 310",null,null,"REUNION DE SERVICE"]
[null,null,"URGENCE SAO",null,null,"REUNION DE SERVICE"]
[null,null,"RENDEZ-VOUS",null,null,"REUNION DE SERVICE"]
[null,null,"RENDEZ-VOUS",null,null,"REUNION DE SERVICE"]
[null,null,"RENDEZ-VOUS",null,null,"REUNION DE SERVICE"]
[null,null,"RENDEZ-VOUS",null,null,"REUNION DE SERVICE"]
[null,null,"PERMANENCE FAJ",null,null,"REUNION DE SERVICE"]
[null,null,"RENDEZ-VOUS FAJ",null,null,"REUNION DE SERVICE"]
[null,null,"DOMICILIATION POSTALE",null,null,"REUNION DE SERVICE"]
[]
[null,null,"NE TRAVAILLENT PAS              MERCREDI =CHRISTEL / LYSIANE                JEUDI A.MIDI   ANTHONY          VENDREDI   A.MIDI   AUDREY ET  WILLIAM"]
[null,"NOTES"]

{"sheet":"S43","index":47,"n_rows":30,"n_cols":13,"rows_kept":30,"cut":false,"hidden":false,"merged":[[17,1,26,1],[0,3,0,4],[1,3,2,3],[1,4,2,4],[1,5,2,5],[2,1,15,1],[1,6,2,6],[1,9,2,9],[1,10,2,10],[1,11,2,11],[1,12,2,12],[1,7,2,7],[1,8,2,8]]}
[null,null,null,"PLANNING POLE ACCUEIL",null,"SEMAINE",1,null,null,"LUNDI 1 JANVIER","AU ","VENDREDI 5 JANVIER"]
[null,null,null,"LUNDI","bureau","MARDI","bureau","MERCREDI","bureau","JEUDI","bureau","VENDREDI","bureau"]
[null,"MATIN 8H30-12H15","ACTIVITE"]
[null,null,"ACCUEIL 300"]
[null,null,"REGULATION MATIN 310"]
[null,null,"PERMANENCE SAO"]
[null,null,"PERMANENCE SAO"]
[null,null,"PERMANENCE SAO"]
[null,null,"PERMANENCE SAO"]
[null,null,"PERMANENCE FAJ"]
[null,null,"HORS ACCUEIL"]
[null,null,"SANTE GLOBALE"]
[null,null,"UMIPP"]
[null,null,"PSYCHOLOGUE"]
[null,null,"EXTERRIEUR"]
[null,null,"DOMICILIATION POSTALE"]
[null,"13H-14H","REDACTION "]
[null,"APRES-MIDI 14H-17H","ACCUEIL 300"]
[null,null,"REGULATION APREM 310",null,null,"REUNION DE SERVICE"]
[null,null,"URGENCE SAO",null,null,"REUNION DE SERVICE"]
[null,null,"RENDEZ-VOUS",null,null,"REUNION DE SERVICE"]
[null,null,"RENDEZ-VOUS",null,null,"REUNION DE SERVICE"]
[null,null,"RENDEZ-VOUS",null,null,"REUNION DE SERVICE"]
[null,null,"RENDEZ-VOUS",null,null,"REUNION DE SERVICE"]
[null,null,"PERMANENCE FAJ",null,null,"REUNION DE SERVICE"]
[null,null,"RENDEZ-VOUS FAJ",null,null,"REUNION DE SERVICE"]
[null,null,"DOMICILIATION POSTALE",null,null,"REUNION DE SERVICE"]
[]
[null,null,"NE TRAVAILLENT PAS              MERCREDI =CHRISTEL / LYSIANE                JEUDI A.MIDI   ANTHONY          VENDREDI   A.MIDI   AUDREY ET  WILLIAM"]
[null,"NOTES"]

{"sheet":"S44","index":48,"n_rows":30,"n_cols":13,"rows_kept":30,"cut":false,"hidden":false,"merged":[[17,1,26,1],[0,3,0,4],[1,3,2,3],[1,4,2,4],[1,5,2,5],[2,1,15,1],[1,6,2,6],[1,9,2,9],[1,10,2,10],[1,11,2,11],[1,12,2,12],[1,7,2,7],[1,8,2,8]]}
[null,null,null,"PLANNING POLE ACCUEIL",null,"SEMAINE",1,null,null,"LUNDI 1 JANVIER","AU ","VENDREDI 5 JANVIER"]
[null,null,null,"LUNDI","bureau","MARDI","bureau","MERCREDI","bureau","JEUDI","bureau","VENDREDI","bureau"]
[null,"MATIN 8H30-12H15","ACTIVITE"]
[null,null,"ACCUEIL 300"]
[null,null,"REGULATION MATIN 310"]
[null,null,"PERMANENCE SAO"]
[null,null,"PERMANENCE SAO"]
[null,null,"PERMANENCE SAO"]
[null,null,"PERMANENCE SAO"]
[null,null,"PERMANENCE FAJ"]
[null,null,"HORS ACCUEIL"]
[null,null,"SANTE GLOBALE"]
[null,null,"UMIPP"]
[null,null,"PSYCHOLOGUE"]
[null,null,"EXTERRIEUR"]
[null,null,"DOMICILIATION POSTALE"]
[null,"13H-14H","REDACTION "]
[null,"APRES-MIDI 14H-17H","ACCUEIL 300"]
[null,null,"REGULATION APREM 310",null,null,"REUNION DE SERVICE"]
[null,null,"URGENCE SAO",null,null,"REUNION DE SERVICE"]
[null,null,"RENDEZ-VOUS",null,null,"REUNION DE SERVICE"]
[null,null,"RENDEZ-VOUS",null,null,"REUNION DE SERVICE"]
[null,null,"RENDEZ-VOUS",null,null,"REUNION DE SERVICE"]
[null,null,"RENDEZ-VOUS",null,null,"REUNION DE SERVICE"]
[null,null,"PERMANENCE FAJ",null,null,"REUNION DE SERVICE"]
[null,null,"RENDEZ-VOUS FAJ",null,null,"REUNION DE SERVICE"]
[null,null,"DOMICILIATION POSTALE",null,null,"REUNION DE SERVICE"]
[]
[null,null,"NE TRAVAILLENT PAS              MERCREDI =CHRISTEL / LYSIANE                JEUDI A.MIDI   ANTHONY          VENDREDI   A.MIDI   AUDREY ET  WILLIAM"]
[null,"NOTES"]

{"sheet":"S45","index":49,"n_rows":30,"n_cols":13,"rows_kept":30,"cut":false,"hidden":false,"merged":[[17,1,26,1],[0,3,0,4],[1,3,2,3],[1,4,2,4],[1,5,2,5],[2,1,15,1],[1,6,2,6],[1,9,2,9],[1,10,2,10],[1,11,2,11],[1,12,2,12],[1,7,2,7],[1,8,2,8]]}
[null,null,null,"PLANNING POLE ACCUEIL",null,"SEMAINE",1,null,null,"LUNDI 1 JANVIER","AU ","VENDREDI 5 JANVIER"]
[null,null,null,"LUNDI","bureau","MARDI","bureau","MERCREDI","bureau","JEUDI","bureau","VENDREDI","bureau"]
[null,"MATIN 8H30-12H15","ACTIVITE"]
[null,null,"ACCUEIL 300"]
[null,null,"REGULATION MATIN 310"]
[null,null,"PERMANENCE SAO"]
[null,null,"PERMANENCE SAO"]
[null,null,"PERMANENCE SAO"]
[null,null,"PERMANENCE SAO"]
[null,null,"PERMANENCE FAJ"]
[null,null,"HORS ACCUEIL"]
[null,null,"SANTE GLOBALE"]
[null,null,"UMIPP"]
[null,null,"PSYCHOLOGUE"]
[null,null,"EXTERRIEUR"]
[null,null,"DOMICILIATION POSTALE"]
[null,"13H-14H","REDACTION "]
[null,"APRES-MIDI 14H-17H","ACCUEIL 300"]
[null,null,"REGULATION APREM 310",null,null,"REUNION DE SERVICE"]
[null,null,"URGENCE SAO",null,null,"REUNION DE SERVICE"]
[null,null,"RENDEZ-VOUS",null,null,"REUNION DE SERVICE"]
[null,null,"RENDEZ-VOUS",null,null,"REUNION DE SERVICE"]
[null,null,"RENDEZ-VOUS",null,null,"REUNION DE SERVICE"]
[null,null,"RENDEZ-VOUS",null,null,"REUNION DE SERVICE"]
[null,null,"PERMANENCE FAJ",null,null,"REUNION DE SERVICE"]
[null,null,"RENDEZ-VOUS FAJ",null,null,"REUNION DE SERVICE"]
[null,null,"DOMICILIATION POSTALE",null,null,"REUNION DE SERVICE"]
[]
[null,null,"NE TRAVAILLENT PAS              MERCREDI =CHRISTEL / LYSIANE                JEUDI A.MIDI   ANTHONY          VENDREDI   A.MIDI   AUDREY ET  WILLIAM"]
[null,"NOTES"]

{"sheet":"S46","index":50,"n_rows":30,"n_cols":13,"rows_kept":30,"cut":false,"hidden":false,"merged":[[17,1,26,1],[0,3,0,4],[1,3,2,3],[1,4,2,4],[1,5,2,5],[2,1,15,1],[1,6,2,6],[1,9,2,9],[1,10,2,10],[1,11,2,11],[1,12,2,12],[1,7,2,7],[1,8,2,8]]}
[null,null,null,"PLANNING POLE ACCUEIL",null,"SEMAINE",1,null,null,"LUNDI 1 JANVIER","AU ","VENDREDI 5 JANVIER"]
[null,null,null,"LUNDI","bureau","MARDI","bureau","MERCREDI","bureau","JEUDI","bureau","VENDREDI","bureau"]
[null,"MATIN 8H30-12H15","ACTIVITE"]
[null,null,"ACCUEIL 300"]
[null,null,"REGULATION MATIN 310"]
[null,null,"PERMANENCE SAO"]
[null,null,"PERMANENCE SAO"]
[null,null,"PERMANENCE SAO"]
[null,null,"PERMANENCE SAO"]
[null,null,"PERMANENCE FAJ"]
[null,null,"HORS ACCUEIL"]
[null,null,"SANTE GLOBALE"]
[null,null,"UMIPP"]
[null,null,"PSYCHOLOGUE"]
[null,null,"EXTERRIEUR"]
[null,null,"DOMICILIATION POSTALE"]
[null,"13H-14H","REDACTION "]
[null,"APRES-MIDI 14H-17H","ACCUEIL 300"]
[null,null,"REGULATION APREM 310",null,null,"REUNION DE SERVICE"]
[null,null,"URGENCE SAO",null,null,"REUNION DE SERVICE"]
[null,null,"RENDEZ-VOUS",null,null,"REUNION DE SERVICE"]
[null,null,"RENDEZ-VOUS",null,null,"REUNION DE SERVICE"]
[null,null,"RENDEZ-VOUS",null,null,"REUNION DE SERVICE"]
[null,null,"RENDEZ-VOUS",null,null,"REUNION DE SERVICE"]
[null,null,"PERMANENCE FAJ",null,null,"REUNION DE SERVICE"]
[null,null,"RENDEZ-VOUS FAJ",null,null,"REUNION DE SERVICE"]
[null,null,"DOMICILIATION POSTALE",null,null,"REUNION DE SERVICE"]
[]
[null,null,"NE TRAVAILLENT PAS              MERCREDI =CHRISTEL / LYSIANE                JEUDI A.MIDI   ANTHONY          VENDREDI   A.MIDI   AUDREY ET  WILLIAM"]
[null,"NOTES"]

{"sheet":"S47","index":51,"n_rows":30,"n_cols":13,"rows_kept":30,"cut":false,"hidden":false,"merged":[[17,1,26,1],[0,3,0,4],[1,3,2,3],[1,4,2,4],[1,5,2,5],[2,1,15,1],[1,6,2,6],[1,9,2,9],[1,10,2,10],[1,11,2,11],[1,12,2,12],[1,7,2,7],[1,8,2,8]]}
[null,null,null,"PLANNING POLE ACCUEIL",null,"SEMAINE",1,null,null,"LUNDI 1 JANVIER","AU ","VENDREDI 5 JANVIER"]
[null,null,null,"LUNDI","bureau","MARDI","bureau","MERCREDI","bureau","JEUDI","bureau","VENDREDI","bureau"]
[null,"MATIN 8H30-12H15","ACTIVITE"]
[null,null,"ACCUEIL 300"]
[null,null,"REGULATION MATIN 310"]
[null,null,"PERMANENCE SAO"]
[null,null,"PERMANENCE SAO"]
[null,null,"PERMANENCE SAO"]
[null,null,"PERMANENCE SAO"]
[null,null,"PERMANENCE FAJ"]
[null,null,"HORS ACCUEIL"]
[null,null,"SANTE GLOBALE"]
[null,null,"UMIPP"]
[null,null,"PSYCHOLOGUE"]
[null,null,"EXTERRIEUR"]
[null,null,"DOMICILIATION POSTALE"]
[null,"13H-14H","REDACTION "]
[null,"APRES-MIDI 14H-17H","ACCUEIL 300"]
[null,null,"REGULATION APREM 310",null,null,"REUNION DE SERVICE"]
[null,null,"URGENCE SAO",null,null,"REUNION DE SERVICE"]
[null,null,"RENDEZ-VOUS",null,null,"REUNION DE SERVICE"]
[null,null,"RENDEZ-VOUS",null,null,"REUNION DE SERVICE"]
[null,null,"RENDEZ-VOUS",null,null,"REUNION DE SERVICE"]
[null,null,"RENDEZ-VOUS",null,null,"REUNION DE SERVICE"]
[null,null,"PERMANENCE FAJ",null,null,"REUNION DE SERVICE"]
[null,null,"RENDEZ-VOUS FAJ",null,null,"REUNION DE SERVICE"]
[null,null,"DOMICILIATION POSTALE",null,null,"REUNION DE SERVICE"]
[]
[null,null,"NE TRAVAILLENT PAS              MERCREDI =CHRISTEL / LYSIANE                JEUDI A.MIDI   ANTHONY          VENDREDI   A.MIDI   AUDREY ET  WILLIAM"]
[null,"NOTES"]

{"sheet":"S48","index":52,"n_rows":30,"n_cols":13,"rows_kept":30,"cut":false,"hidden":false,"merged":[[17,1,26,1],[0,3,0,4],[1,3,2,3],[1,4,2,4],[1,5,2,5],[2,1,15,1],[1,6,2,6],[1,9,2,9],[1,10,2,10],[1,11,2,11],[1,12,2,12],[1,7,2,7],[1,8,2,8]]}
[null,null,null,"PLANNING POLE ACCUEIL",null,"SEMAINE",1,null,null,"LUNDI 1 JANVIER","AU ","VENDREDI 5 JANVIER"]
[null,null,null,"LUNDI","bureau","MARDI","bureau","MERCREDI","bureau","JEUDI","bureau","VENDREDI","bureau"]
[null,"MATIN 8H30-12H15","ACTIVITE"]
[null,null,"ACCUEIL 300"]
[null,null,"REGULATION MATIN 310"]
[null,null,"PERMANENCE SAO"]
[null,null,"PERMANENCE SAO"]
[null,null,"PERMANENCE SAO"]
[null,null,"PERMANENCE SAO"]
[null,null,"PERMANENCE FAJ"]
[null,null,"HORS ACCUEIL"]
[null,null,"SANTE GLOBALE"]
[null,null,"UMIPP"]
[null,null,"PSYCHOLOGUE"]
[null,null,"EXTERRIEUR"]
[null,null,"DOMICILIATION POSTALE"]
[null,"13H-14H","REDACTION "]
[null,"APRES-MIDI 14H-17H","ACCUEIL 300"]
[null,null,"REGULATION APREM 310",null,null,"REUNION DE SERVICE"]
[null,null,"URGENCE SAO",null,null,"REUNION DE SERVICE"]
[null,null,"RENDEZ-VOUS",null,null,"REUNION DE SERVICE"]
[null,null,"RENDEZ-VOUS",null,null,"REUNION DE SERVICE"]
[null,null,"RENDEZ-VOUS",null,null,"REUNION DE SERVICE"]
[null,null,"RENDEZ-VOUS",null,null,"REUNION DE SERVICE"]
[null,null,"PERMANENCE FAJ",null,null,"REUNION DE SERVICE"]
[null,null,"RENDEZ-VOUS FAJ",null,null,"REUNION DE SERVICE"]
[null,null,"DOMICILIATION POSTALE",null,null,"REUNION DE SERVICE"]
[]
[null,null,"NE TRAVAILLENT PAS              MERCREDI =CHRISTEL / LYSIANE                JEUDI A.MIDI   ANTHONY          VENDREDI   A.MIDI   AUDREY ET  WILLIAM"]
[null,"NOTES"]

{"sheet":"S49","index":53,"n_rows":30,"n_cols":13,"rows_kept":30,"cut":false,"hidden":false,"merged":[[17,1,26,1],[0,3,0,4],[1,3,2,3],[1,4,2,4],[1,5,2,5],[2,1,15,1],[1,6,2,6],[1,9,2,9],[1,10,2,10],[1,11,2,11],[1,12,2,12],[1,7,2,7],[1,8,2,8]]}
[null,null,null,"PLANNING POLE ACCUEIL",null,"SEMAINE",1,null,null,"LUNDI 1 JANVIER","AU ","VENDREDI 5 JANVIER"]
[null,null,null,"LUNDI","bureau","MARDI","bureau","MERCREDI","bureau","JEUDI","bureau","VENDREDI","bureau"]
[null,"MATIN 8H30-12H15","ACTIVITE"]
[null,null,"ACCUEIL 300"]
[null,null,"REGULATION MATIN 310"]
[null,null,"PERMANENCE SAO"]
[null,null,"PERMANENCE SAO"]
[null,null,"PERMANENCE SAO"]
[null,null,"PERMANENCE SAO"]
[null,null,"PERMANENCE FAJ"]
[null,null,"HORS ACCUEIL"]
[null,null,"SANTE GLOBALE"]
[null,null,"UMIPP"]
[null,null,"PSYCHOLOGUE"]
[null,null,"EXTERRIEUR"]
[null,null,"DOMICILIATION POSTALE"]
[null,"13H-14H","REDACTION "]
[null,"APRES-MIDI 14H-17H","ACCUEIL 300"]
[null,null,"REGULATION APREM 310",null,null,"REUNION DE SERVICE"]
[null,null,"URGENCE SAO",null,null,"REUNION DE SERVICE"]
[null,null,"RENDEZ-VOUS",null,null,"REUNION DE SERVICE"]
[null,null,"RENDEZ-VOUS",null,null,"REUNION DE SERVICE"]
[null,null,"RENDEZ-VOUS",null,null,"REUNION DE SERVICE"]
[null,null,"RENDEZ-VOUS",null,null,"REUNION DE SERVICE"]
[null,null,"PERMANENCE FAJ",null,null,"REUNION DE SERVICE"]
[null,null,"RENDEZ-VOUS FAJ",null,null,"REUNION DE SERVICE"]
[null,null,"DOMICILIATION POSTALE",null,null,"REUNION DE SERVICE"]
[]
[null,null,"NE TRAVAILLENT PAS              MERCREDI =CHRISTEL / LYSIANE                JEUDI A.MIDI   ANTHONY          VENDREDI   A.MIDI   AUDREY ET  WILLIAM"]
[null,"NOTES"]

{"sheet":"S50","index":54,"n_rows":30,"n_cols":13,"rows_kept":30,"cut":false,"hidden":false,"merged":[[17,1,26,1],[0,3,0,4],[1,3,2,3],[1,4,2,4],[1,5,2,5],[2,1,15,1],[1,6,2,6],[1,9,2,9],[1,10,2,10],[1,11,2,11],[1,12,2,12],[1,7,2,7],[1,8,2,8]]}
[null,null,null,"PLANNING POLE ACCUEIL",null,"SEMAINE",1,null,null,"LUNDI 1 JANVIER","AU ","VENDREDI 5 JANVIER"]
[null,null,null,"LUNDI","bureau","MARDI","bureau","MERCREDI","bureau","JEUDI","bureau","VENDREDI","bureau"]
[null,"MATIN 8H30-12H15","ACTIVITE"]
[null,null,"ACCUEIL 300"]
[null,null,"REGULATION MATIN 310"]
[null,null,"PERMANENCE SAO"]
[null,null,"PERMANENCE SAO"]
[null,null,"PERMANENCE SAO"]
[null,null,"PERMANENCE SAO"]
[null,null,"PERMANENCE FAJ"]
[null,null,"HORS ACCUEIL"]
[null,null,"SANTE GLOBALE"]
[null,null,"UMIPP"]
[null,null,"PSYCHOLOGUE"]
[null,null,"EXTERRIEUR"]
[null,null,"DOMICILIATION POSTALE"]
[null,"13H-14H","REDACTION "]
[null,"APRES-MIDI 14H-17H","ACCUEIL 300"]
[null,null,"REGULATION APREM 310",null,null,"REUNION DE SERVICE"]
[null,null,"URGENCE SAO",null,null,"REUNION DE SERVICE"]
[null,null,"RENDEZ-VOUS",null,null,"REUNION DE SERVICE"]
[null,null,"RENDEZ-VOUS",null,null,"REUNION DE SERVICE"]
[null,null,"RENDEZ-VOUS",null,null,"REUNION DE SERVICE"]
[null,null,"RENDEZ-VOUS",null,null,"REUNION DE SERVICE"]
[null,null,"PERMANENCE FAJ",null,null,"REUNION DE SERVICE"]
[null,null,"RENDEZ-VOUS FAJ",null,null,"REUNION DE SERVICE"]
[null,null,"DOMICILIATION POSTALE",null,null,"REUNION DE SERVICE"]
[]
[null,null,"NE TRAVAILLENT PAS              MERCREDI =CHRISTEL / LYSIANE                JEUDI A.MIDI   ANTHONY          VENDREDI   A.MIDI   AUDREY ET  WILLIAM"]
[null,"NOTES"]

{"sheet":"S51","index":55,"n_rows":30,"n_cols":13,"rows_kept":30,"cut":false,"hidden":false,"merged":[[17,1,26,1],[0,3,0,4],[1,3,2,3],[1,4,2,4],[1,5,2,5],[2,1,15,1],[1,6,2,6],[1,9,2,9],[1,10,2,10],[1,11,2,11],[1,12,2,12],[1,7,2,7],[1,8,2,8]]}
[null,null,null,"PLANNING POLE ACCUEIL",null,"SEMAINE",1,null,null,"LUNDI 1 JANVIER","AU ","VENDREDI 5 JANVIER"]
[null,null,null,"LUNDI","bureau","MARDI","bureau","MERCREDI","bureau","JEUDI","bureau","VENDREDI","bureau"]
[null,"MATIN 8H30-12H15","ACTIVITE"]
[null,null,"ACCUEIL 300"]
[null,null,"REGULATION MATIN 310"]
[null,null,"PERMANENCE SAO"]
[null,null,"PERMANENCE SAO"]
[null,null,"PERMANENCE SAO"]
[null,null,"PERMANENCE SAO"]
[null,null,"PERMANENCE FAJ"]
[null,null,"HORS ACCUEIL"]
[null,null,"SANTE GLOBALE"]
[null,null,"UMIPP"]
[null,null,"PSYCHOLOGUE"]
[null,null,"EXTERRIEUR"]
[null,null,"DOMICILIATION POSTALE"]
[null,"13H-14H","REDACTION "]
[null,"APRES-MIDI 14H-17H","ACCUEIL 300"]
[null,null,"REGULATION APREM 310",null,null,"REUNION DE SERVICE"]
[null,null,"URGENCE SAO",null,null,"REUNION DE SERVICE"]
[null,null,"RENDEZ-VOUS",null,null,"REUNION DE SERVICE"]
[null,null,"RENDEZ-VOUS",null,null,"REUNION DE SERVICE"]
[null,null,"RENDEZ-VOUS",null,null,"REUNION DE SERVICE"]
[null,null,"RENDEZ-VOUS",null,null,"REUNION DE SERVICE"]
[null,null,"PERMANENCE FAJ",null,null,"REUNION DE SERVICE"]
[null,null,"RENDEZ-VOUS FAJ",null,null,"REUNION DE SERVICE"]
[null,null,"DOMICILIATION POSTALE",null,null,"REUNION DE SERVICE"]
[]
[null,null,"NE TRAVAILLENT PAS              MERCREDI =CHRISTEL / LYSIANE                JEUDI A.MIDI   ANTHONY          VENDREDI   A.MIDI   AUDREY ET  WILLIAM"]
[null,"NOTES"]

{"sheet":"S52","index":56,"n_rows":30,"n_cols":13,"rows_kept":30,"cut":false,"hidden":false,"merged":[[17,1,26,1],[0,3,0,4],[1,3,2,3],[1,4,2,4],[1,5,2,5],[2,1,15,1],[1,6,2,6],[1,9,2,9],[1,10,2,10],[1,11,2,11],[1,12,2,12],[1,7,2,7],[1,8,2,8]]}
[null,null,null,"PLANNING POLE ACCUEIL",null,"SEMAINE",1,null,null,"LUNDI 1 JANVIER","AU ","VENDREDI 5 JANVIER"]
[null,null,null,"LUNDI","bureau","MARDI","bureau","MERCREDI","bureau","JEUDI","bureau","VENDREDI","bureau"]
[null,"MATIN 8H30-12H15","ACTIVITE"]
[null,null,"ACCUEIL 300"]
[null,null,"REGULATION MATIN 310"]
[null,null,"PERMANENCE SAO"]
[null,null,"PERMANENCE SAO"]
[null,null,"PERMANENCE SAO"]
[null,null,"PERMANENCE SAO"]
[null,null,"PERMANENCE FAJ"]
[null,null,"HORS ACCUEIL"]
[null,null,"SANTE GLOBALE"]
[null,null,"UMIPP"]
[null,null,"PSYCHOLOGUE"]
[null,null,"EXTERRIEUR"]
[null,null,"DOMICILIATION POSTALE"]
[null,"13H-14H","REDACTION "]
[null,"APRES-MIDI 14H-17H","ACCUEIL 300"]
[null,null,"REGULATION APREM 310",null,null,"REUNION DE SERVICE"]
[null,null,"URGENCE SAO",null,null,"REUNION DE SERVICE"]
[null,null,"RENDEZ-VOUS",null,null,"REUNION DE SERVICE"]
[null,null,"RENDEZ-VOUS",null,null,"REUNION DE SERVICE"]
[null,null,"RENDEZ-VOUS",null,null,"REUNION DE SERVICE"]
[null,null,"RENDEZ-VOUS",null,null,"REUNION DE SERVICE"]
[null,null,"PERMANENCE FAJ",null,null,"REUNION DE SERVICE"]
[null,null,"RENDEZ-VOUS FAJ",null,null,"REUNION DE SERVICE"]
[null,null,"DOMICILIATION POSTALE",null,null,"REUNION DE SERVICE"]
[]
[null,null,"NE TRAVAILLENT PAS              MERCREDI =CHRISTEL / LYSIANE                JEUDI A.MIDI   ANTHONY          VENDREDI   A.MIDI   AUDREY ET  WILLIAM"]
[null,"NOTES"]