{"text_format":"1","workbook":"xlsx","n_sheets":39,"sheets":["Accueil","Données","Janvier","Fevrier","Mars","Avril","Mai","Juin","Juillet","Aout","Septembre","Octobre","Novembre","Decembre","HJanvier","HFevrier","HMars","HMai","HAvril","HJuin","HJuillet","HAout","HSeptembre","HOctobre","HNovembre","HDecembre","BJanvier","BFevrier","BMars","BAvril","BMai","BJuin","BJuillet","BAout","BSeptembre","BOctobre","BNovembre","BDecembre","Bilan"],"not_rendered":{"charts":0,"images":0,"macros":1,"external_links":0,"defined_names":220,"comments":0,"pivot_tables":0},"unopened":[],"bounds":{"document_bytes":16777216,"sheet_cells":100000,"rows_first":2000,"rows_last":500,"rows_between":2000,"halvings":0,"cell_chars":16384,"cell_head_chars":4096},"cells_cut":0,"cells_raw":0,"read":"whole","date_system":"1904"}

{"sheet":"Accueil","index":0,"n_rows":17,"n_cols":10,"rows_kept":17,"cut":false,"hidden":false,"merged":[[16,9,19,12],[1,9,1,12],[7,9,7,12],[15,9,15,12],[2,9,2,12],[3,9,5,12],[8,9,11,12],[1,0,1,6],[2,0,2,1],[3,0,3,1],[3,2,3,6],[2,2,2,6]]}
[]
["Outil de planning et de masse horraire",null,null,null,null,null,null,null,null,"Planning avec Lettres (planning a remplir)"]
["Service",null,{"$f":"IF(Données!L5=\"\",\"Remplir dans configuration\",Données!L5)","v":"Remplir dans configuration"},null,null,null,null,null,null,"  Pour remplir heures supplementaires"]
["Année",null,{"$f":"IF(An=\"\",\"Remplir dans configuration\",An)","v":2018},null,null,null,null,null,null,"Janvier"]
[]
[]
[]
[null,null,null,null,null,null,null,null,null,"Planning avec Horraires (pour RH et ou Equipes)"]
[null,null,null,null,null,null,null,null,null,"Novembre"]
[]
[]
[]
[]
[]
[]
[null,null,null,null,null,null,null,null,null,"Bilan Equipes"]
[null,null,null,null,null,null,null,null,null,"Mars"]

{"sheet":"Données","index":1,"n_rows":85,"n_cols":24,"rows_kept":85,"cut":false,"hidden":false,"merged":[[15,23,18,23],[18,18,18,21],[28,20,28,21],[29,20,29,21],[19,20,19,21],[20,20,20,21],[21,20,21,21],[22,20,22,21],[15,22,18,22],[30,20,30,21],[31,20,31,21],[23,20,23,21],[24,20,24,21],[25,20,25,21],[26,20,26,21],[27,20,27,21],[0,0,0,3],[3,11,3,12],[4,11,4,12],[8,13,10,16],[15,11,15,14],[2,7,3,8],[1,4,1,5],[12,13,13,15],[0,11,0,14],[2,9,3,9],[1,11,1,14]]}
["Donné horraire (penser a changer)",null,null,null,"Jour","Apres 21h",1,null,null,null,null,"Mot de passe  : azerty"]
[null,"Debut","Fin",null,"Automatique",null,0.87430555555555556,null,null,null,null,"Rappel : certainne modifs peuvent prendre quelque secondes"]
["M",0.29166666666666669,0.60763888888888895,{"$f":"IF(ISBLANK(C3),TEXT(B3,\"hh:mm\")&\" \",TEXT(B3,\"hh:mm\")&\" : \"&TEXT(C3,\"hh:mm\"))","v":"07:00 : 14:35"},{"$f":"IF(ISTEXT(B3),C3,IF(B3<$G$2,IF(C3-B3<0,$G$1+C3-B3,C3-B3),$G$1-(B3-C3)))","v":0.31597222222222227},{"$f":"IF(C3=\"\",\"00:00\",IF(C3>$G$2,C3-$G$2-$G$3,IF(B3>$G$2,E3,\"00:00\")))","v":"00:00"},null,"Remplir ici les données\n(double cliquer pour masquer ou affichier sur la colonne \"h\" ( un \"x\" = masquer)",null,"Nombre d'heure annuel"]
["MG",0.95833333333333337,6.5972222222222224E-2,"23:00 : 01:35",0.10763888888888884,{"$f":"IF(C4=\"\",\"00:00\",IF(C4>$G$2,C4-$G$2-$G$3,IF(B4>$G$2,E4,\"00:00\")))","v":0.10763888888888884},null,null,null,null,null,"Nom du service"]
["J",0.41666666666666669,0.72916666666666663,"10:00 : 17:30",0.31249999999999994,"00:00",null,"Equipe de jour",null,null,null,null,null,null,null,null,null,null,"Mois","Hmois","Bmois","Reference"]
["J+",0.47916666666666669,0.80208333333333337,"11:30 : 19:15",0.32291666666666669,"00:00",null,"A",null,59.5,null,"Année",2018,null,null,null,null,null,"Janvier","Janvier","Janvier",1]
["R",0.41666666666666669,0.5,"10:00 : 12:00",8.3333333333333315E-2,"00:00",null,null,null,59.5,null,null,null,null,null,null,null,null,"Février","Février","Février",2]
["RS",0.41666666666666669,0.89583333333333337,"10:00 : 21:30",0.47916666666666669,2.1527777777777812E-2,null,null,null,59.5,null,null,null,null,null,null,null,null,"Mars","Mars","Mars",3]
["S",0.58333333333333337,0.89583333333333337,"14:00 : 21:30",0.3125,2.1527777777777812E-2,null,null,null,59.5,null,null,null,"Cliquer ici après changement de l'année \nou après changement de couleurs/bordure (cela peu prendre quelques minutes)",null,null,null,null,"Avril","Avril","Avril",4]
["W",0.3125,0.80208333333333337,"07:30 : 19:15",0.48958333333333337,"00:00",null,null,null,59.5,null,null,null,null,null,null,null,null,"Mai","Mai","Mai",5]
["W+",0.41666666666666669,0.89583333333333337,"10:00 : 21:30",0.47916666666666669,2.1527777777777812E-2,null,null,null,59.5,null,null,null,null,null,null,null,null,"Juin","Juin","Juin",6]
["WD",0.29166666666666669,0.80208333333333337,"07:00 : 19:15",0.51041666666666674,"00:00",null,null,null,59.5,null,null,null,null,null,null,null,null,"Juillet","Juillet","Juillet",7]
["WF",0.29166666666666669,0.80208333333333337,"07:00 : 19:15",0.51041666666666674,"00:00",null,null,null,59.5,null,null,null,"Pour effacer le contenue des plannings",null,null,null,null,"Août","Août","Août",8]
["N",0.85416666666666663,0.30208333333333331,"20:30 : 07:15",0.44791666666666663,"00:00",null,null,null,59.5,null,null,null,null,null,null,null,null,"Septembre","Septembre","Septembre",9]
["N+",0.80208333333333337,0.30208333333333331,"19:15 : 07:15",0.49999999999999989,"00:00",null,null,null,59.5,null,null,null,null,null,null,null,null,"Octobre","Octobre","Octobre",10]
["NS",0.80208333333333337,0.30208333333333331,"19:15 : 07:15",0.49999999999999989,"00:00",null,null,"X",59.5,null,"Pour changer couleurs et bordures des plannings",null,null,null,null,null,null,"Novembre","Novembre","Novembre",11,"Jours feriés et dimanche","Jours feriés et dimanche      j-1"]
["T","T",null,{"$f":"IF(ISBLANK(C17),TEXT(B17,\"hh:mm\")&\" \",TEXT(B17,\"hh:mm\")&\" : \"&TEXT(C17,\"hh:mm\"))","v":"T "},0.5,"00:00",null,null,"X",59.5,null,"jours","Semaine","W",null,null,null,null,"Décembre","Décembre","Décembre",12]
["F","F",null,"F ",0.29166666666666669,"00:00",null,null,"X",59.5]
["SYN","Syn",null,"Syn ",0.3125,"00:00",null,null,"X",59.5,null,"Equipe de jour",null,null,null,null,null,null,"Jours feriés"]
["AT","AT",null,"AT ",0.3125,"00:00",null,null,"X",59.5,null,null,null,null,null,null,null,null,"Jour de l'an",null,{"$f":"DATE(An,Janvier,1)","v":"2018-01-01"},null,{"$f":"U20","v":"2018-01-01"},{"$f":"W20-1","v":"2017-12-31"}]
["AM","AM",null,"AM ",0.3125,"00:00",null,null,"X",59.5,null,null,null,null,null,null,null,null,"Pâques",null,{"$f":"FLOOR(DATE(An,Avril,DAY(MINUTE(An/38)/2+56)),7)-34+7*(An=2079)","v":"2018-03-03"},null,{"$f":"U21","v":"2018-03-03"},{"$f":"W21-1","v":"2018-03-02"}]
["EM","EM",null,"EM ",0.3125,"00:00",null,"Equipe de nuit",null,null,null,null,null,null,null,null,null,null,"Lundi de Pâques",null,{"$f":"U21+1","v":"2018-03-04"},null,"2018-03-04","2018-03-03"]
["CE","CE",null,"CE ",0.3125,"00:00",null,"K",null,57.958333333333336,null,null,null,null,null,null,null,null,"Fête du travail",null,{"$f":"DATE(An,Mai,1)","v":"2018-05-01"},null,"2018-05-01","2018-04-30"]
["CA","CA",null,"CA ",{"$f":"IF(ISTEXT(B24),C24,IF(B24<$G$2,C24-B24,$G$1-(B24-C24)))","v":0},"00:00",null,null,null,57.958333333333336,null,null,null,null,null,null,null,null,"Armistice 1945",null,{"$f":"DATE(An,Mai,8)","v":"2018-05-08"},null,"2018-05-08","2018-05-07"]
["CA16","CA16",null,"CA16 ",{"$f":"IF(ISTEXT(B25),C25,IF(B25<$G$2,C25-B25,$G$1-(B25-C25)))","v":0},"00:00",null,null,null,57.958333333333336,null,null,null,null,null,null,null,null,"Ascension ",null,{"$f":"U21+39","v":"2018-04-11"},null,"2018-04-11","2018-04-10"]
["REC","REC",null,"REC ",{"$f":"IF(ISTEXT(B26),C26,IF(B26<$G$2,C26-B26,$G$1-(B26-C26)))","v":0},"00:00",null,null,"X",59.5,null,null,null,null,null,null,null,null,"Pentecôte ",null,{"$f":"U21+49","v":"2018-04-21"},null,"2018-04-21","2018-04-20"]
["PL","PL",null,"PL ",0.33333333333333331,"00:00",null,null,"X",59.5,null,null,null,null,null,null,null,null,"Lundi de Pentecote",null,{"$f":"U21+50","v":"2018-04-22"},null,"2018-04-22","2018-04-21"]
["D","D",null,"D ",{"$f":"IF(ISTEXT(B28),C28,IF(B28<$G$2,C28-B28,$G$1-(B28-C28)))","v":0},"00:00",null,null,"X",59.5,null,null,null,null,null,null,null,null,"Fête nationale",null,{"$f":"DATE(An,Juillet,14)","v":"2018-07-14"},null,"2018-07-14","2018-07-13"]
[null,null,null,"00:00 ",{"$f":"IF(ISTEXT(B29),C29,IF(B29<$G$2,C29-B29,$G$1-(B29-C29)))","v":0},"00:00",null,null,"X",59.5,null,null,null,null,null,null,null,null,"Assomption",null,{"$f":"DATE(An,Aout,15)","v":"2018-08-15"},null,"2018-08-15","2018-08-14"]
["TP","TP",null,"TP ",{"$f":"IF(ISTEXT(B30),C30,IF(B30<$G$2,C30-B30,$G$1-(B30-C30)))","v":0},"00:00",null,null,"X",59.5,null,null,null,null,null,null,null,null,"Toussaint",null,{"$f":"DATE(An,Novembre,1)","v":"2018-11-01"},null,"2018-11-01","2018-10-31"]
["RT","RT",null,"RT ",{"$f":"IF(ISTEXT(B31),C31,IF(B31<$G$2,C31-B31,$G$1-(B31-C31)))","v":0},"00:00",null,null,"X",59.5,null,null,null,null,null,null,null,null,"Armistice 1918",null,{"$f":"DATE(An,Novembre,11)","v":"2018-11-11"},null,"2018-11-11","2018-11-10"]
["PL","09:00:00","17:00:00","09:00 : 17:00",{"$f":"IF(ISTEXT(B32),C32,IF(B32<$G$2,IF(C32-B32<0,$G$1+C32-B32,C32-B32),$G$1-(B32-C32)))","v":0.33333333333333337},"00:00",null,"Maitresse de maison",null,null,null,null,null,null,null,null,null,null,"NOEL",null,{"$f":"DATE(An,Decembre,25)","v":"2018-12-25"},null,"2018-12-25","2018-12-24"]
["P","09:00:00","17:00:00","09:00 : 17:00",{"$f":"IF(ISTEXT(B33),C33,IF(B33<$G$2,IF(C33-B33<0,$G$1+C33-B33,C33-B33),$G$1-(B33-C33)))","v":0.33333333333333337},"00:00",null,"N",null,63,null,null,null,null,null,null,null,null,null,null,null,null,{"$f":"IF(WEEKDAY(DATE(An,1,1),2)=1,DATE(An,1,1)+6,IF(WEEKDAY(DATE(An,1,1),2)=2,DATE(An,1,1)+5,IF(WEEKDAY(DATE(An,1,1),2)=3,DATE(An,1,1)+4,IF(WEEKDAY(DATE(An,1,1),2)=4,DATE(An,1,1)+3,IF(WEEKDAY(DATE(An,1,1),2)=5,DATE(An,1,1)+2,IF(WEEKDAY(DATE(An,1,1),2)=6,DATE(An,1,1)+1,DATE(An,1,1)))))))","v":"2018-01-07"},"2018-01-06"]
["P","09:00:00","17:00:00","09:00 : 17:00",{"$f":"IF(ISTEXT(B34),C34,IF(B34<$G$2,IF(C34-B34<0,$G$1+C34-B34,C34-B34),$G$1-(B34-C34)))","v":0.33333333333333337},"00:00",null,null,"X",59.5,null,null,null,null,null,null,null,null,null,null,null,null,{"$f":"IF(WEEKDAY(W33,2)=6,W33+1,IF(WEEKDAY(W33,2)=7,W33+7,10))","v":"2018-01-14"},"2018-01-13"]
["AC","AC",null,"AC ",{"$f":"IF(ISTEXT(B35),C35,IF(B35<$G$2,IF(C35-B35<0,$G$1+C35-B35,C35-B35),$G$1-(B35-C35)))","v":0},"00:00",null,null,"X",59.5,null,null,null,null,null,null,null,null,null,null,null,null,{"$f":"IF(WEEKDAY(W34,2)=6,W34+1,IF(WEEKDAY(W34,2)=7,W34+7,10))","v":"2018-01-21"},"2018-01-20"]
[null,null,null,{"$f":"IF(ISBLANK(C36),TEXT(B36,\"hh:mm\")&\" \",TEXT(B36,\"hh:mm\")&\" : \"&TEXT(C36,\"hh:mm\"))","v":"00:00 "},{"$f":"IF(ISTEXT(B36),C36,IF(B36<$G$2,C36-B36,$G$1-(B36-C36)))","v":0},null,null,null,"X",59.5,null,null,null,null,null,null,null,null,null,null,null,null,"2018-01-28","2018-01-27"]
[null,null,null,{"$f":"IF(ISBLANK(C37),TEXT(B37,\"hh:mm\")&\" \",TEXT(B37,\"hh:mm\")&\" : \"&TEXT(C37,\"hh:mm\"))","v":"00:00 "},{"$f":"IF(ISTEXT(B37),C37,IF(B37<$G$2,C37-B37,$G$1-(B37-C37)))","v":0},null,null,null,"X",59.5,null,null,null,null,null,null,null,null,null,null,null,null,"2018-02-04","2018-02-03"]
[null,null,null,{"$f":"IF(ISBLANK(C38),TEXT(B38,\"hh:mm\")&\" \",TEXT(B38,\"hh:mm\")&\" : \"&TEXT(C38,\"hh:mm\"))","v":"00:00 "},{"$f":"IF(ISTEXT(B38),C38,IF(B38<$G$2,C38-B38,$G$1-(B38-C38)))","v":0},null,null,null,"X",59.5,null,null,null,null,null,null,null,null,null,null,null,null,"2018-02-11","2018-02-10"]
[null,null,null,{"$f":"IF(ISBLANK(C39),TEXT(B39,\"hh:mm\")&\" \",TEXT(B39,\"hh:mm\")&\" : \"&TEXT(C39,\"hh:mm\"))","v":"00:00 "},0,null,null,null,"X",59.5,null,null,null,null,null,null,null,null,null,null,null,null,"2018-02-18","2018-02-17"]
[null,null,null,"00:00 ",0,null,null,null,"X",59.5,null,null,null,null,null,null,null,null,null,null,null,null,"2018-02-25","2018-02-24"]
[null,null,null,"00:00 ",0,null,null,null,"X",59.5,null,null,null,null,null,null,null,null,null,null,null,null,"2018-03-04","2018-03-03"]
[null,null,null,"00:00 ",0,null,null,"Psychologue",null,null,null,null,null,null,null,null,null,null,null,null,null,null,"2018-03-11","2018-03-10"]
[null,null,null,"00:00 ",0,null,null,"O",null,63,null,null,null,null,null,null,null,null,null,null,null,null,"2018-03-18","2018-03-17"]
[null,null,null,"00:00 ",0,null,null,null,"X",59.5,null,null,null,null,null,null,null,null,null,null,null,null,"2018-03-25","2018-03-24"]
[0," ",null,"  ",0,null,null,null,"X",59.5,null,null,null,null,null,null,null,null,null,null,null,null,"2018-04-01","2018-03-31"]
[null,null,null,null,null,null,null,"Coordinatrice",null,null,null,null,null,null,null,null,null,null,null,null,null,null,"2018-04-08","2018-04-07"]
[null,null,null,null,null,null,null,"P",null,63,null,null,null,null,null,null,null,null,null,null,null,null,"2018-04-15","2018-04-14"]
[null,null,null,null,null,null,null,null,"X",59.5,null,null,null,null,null,null,null,null,null,null,null,null,"2018-04-22","2018-04-21"]
[null,null,null,null,null,null,null,null,"X",59.5,null,null,null,null,null,null,null,null,null,null,null,null,"2018-04-29","2018-04-28"]
[null,null,null,null,null,null,null,null,"X",59.5,null,null,null,null,null,null,null,null,null,null,null,null,"2018-05-06","2018-05-05"]
[null,null,null,null,null,null,null,null,"X",59.5,null,null,null,null,null,null,null,null,null,null,null,null,"2018-05-13","2018-05-12"]
[null,null,null,null,null,null,null,"Chef de service",null,null,null,null,null,null,null,null,null,null,null,null,null,null,"2018-05-20","2018-05-19"]
[null,null,null,null,null,null,null,"Q",null,63,null,null,null,null,null,null,null,null,null,null,null,null,"2018-05-27","2018-05-26"]
[null,null,null,null,null,null,null,null,null,null,null,null,null,null,null,null,null,null,null,null,null,null,"2018-06-03","2018-06-02"]
[null,null,null,null,null,null,null,null,null,null,null,null,null,null,null,null,null,null,null,null,null,null,"2018-06-10","2018-06-09"]
[null,null,null,null,null,null,null,null,null,null,null,null,null,null,null,null,null,null,null,null,null,null,"2018-06-17","2018-06-16"]
[null,null,null,null,null,null,null,null,null,null,null,null,null,null,null,null,null,null,null,null,null,null,"2018-06-24","2018-06-23"]
[null,null,null,null,null,null,null,null,null,null,null,null,null,null,null,null,null,null,null,null,null,null,"2018-07-01","2018-06-30"]
[null,null,null,null,null,null,null,null,null,null,null,null,null,null,null,null,null,null,null,null,null,null,"2018-07-08","2018-07-07"]
[null,null,null,null,null,null,null,null,null,null,null,null,null,null,null,null,null,null,null,null,null,null,"2018-07-15","2018-07-14"]
[null,null,null,null,null,null,null,null,null,null,null,null,null,null,null,null,null,null,null,null,null,null,"2018-07-22","2018-07-21"]
[null,null,null,null,null,null,null,null,null,null,null,null,null,null,null,null,null,null,null,null,null,null,"2018-07-29","2018-07-28"]
[null,null,null,null,null,null,null,null,null,null,null,null,null,null,null,null,null,null,null,null,null,null,"2018-08-05","2018-08-04"]
[null,null,null,null,null,null,null,null,null,null,null,null,null,null,null,null,null,null,null,null,null,null,"2018-08-12","2018-08-11"]
[null,null,null,null,null,null,null,null,null,null,null,null,null,null,null,null,null,null,null,null,null,null,"2018-08-19","2018-08-18"]
[null,null,null,null,null,null,null,null,null,null,null,null,null,null,null,null,null,null,null,null,null,null,"2018-08-26","2018-08-25"]
[null,null,null,null,null,null,null,null,null,null,null,null,null,null,null,null,null,null,null,null,null,null,"2018-09-02","2018-09-01"]
[null,null,null,null,null,null,null,null,null,null,null,null,null,null,null,null,null,null,null,null,null,null,"2018-09-09","2018-09-08"]
[null,null,null,null,null,null,null,null,null,null,null,null,null,null,null,null,null,null,null,null,null,null,"2018-09-16","2018-09-15"]
[null,null,null,null,null,null,null,null,null,null,null,null,null,null,null,null,null,null,null,null,null,null,"2018-09-23","2018-09-22"]
[null,null,null,null,null,null,null,null,null,null,null,null,null,null,null,null,null,null,null,null,null,null,"2018-09-30","2018-09-29"]
[null,null,null,null,null,null,null,null,null,null,null,null,null,null,null,null,null,null,null,null,null,null,"2018-10-07","2018-10-06"]
[null,null,null,null,null,null,null,null,null,null,null,null,null,null,null,null,null,null,null,null,null,null,"2018-10-14","2018-10-13"]
[null,null,null,null,null,null,null,null,null,null,null,null,null,null,null,null,null,null,null,null,null,null,"2018-10-21","2018-10-20"]
[null,null,null,null,null,null,null,null,null,null,null,null,null,null,null,null,null,null,null,null,null,null,"2018-10-28","2018-10-27"]
[null,null,null,null,null,null,null,null,null,null,null,null,null,null,null,null,null,null,null,null,null,null,"2018-11-04","2018-11-03"]
[null,null,null,null,null,null,null,null,null,null,null,null,null,null,null,null,null,null,null,null,null,null,"2018-11-11","2018-11-10"]
[null,null,null,null,null,null,null,null,null,null,null,null,null,null,null,null,null,null,null,null,null,null,"2018-11-18","2018-11-17"]
[null,null,null,null,null,null,null,null,null,null,null,null,null,null,null,null,null,null,null,null,null,null,"2018-11-25","2018-11-24"]
[null,null,null,null,null,null,null,null,null,null,null,null,null,null,null,null,null,null,null,null,null,null,"2018-12-02","2018-12-01"]
[null,null,null,null,null,null,null,null,null,null,null,null,null,null,null,null,null,null,null,null,null,null,"2018-12-09","2018-12-08"]
[null,null,null,null,null,null,null,null,null,null,null,null,null,null,null,null,null,null,null,null,null,null,"2018-12-16","2018-12-15"]
[null,null,null,null,null,null,null,null,null,null,null,null,null,null,null,null,null,null,null,null,null,null,"2018-12-23","2018-12-22"]
[null,null,null,null,null,null,null,null,null,null,null,null,null,null,null,null,null,null,null,null,null,null,"2018-12-30","2018-12-29"]
[null,null,null,null,null,null,null,null,null,null,null,null,null,null,null,null,null,null,null,null,null,null,"2019-01-06",{"$f":"W85-1","v":"2019-01-05"}]

{"sheet":"Janvier","index":2,"n_rows":61,"n_cols":45,"rows_kept":61,"cut":false,"hidden":false,"merged":[[2,14,2,15],[3,44,5,44]]}
[]
[null,{"$f":"DATE(An,Janvier,B7)","v":"2018-01-01"},"2018-01-02","2018-01-03","2018-01-04","2018-01-05","2018-01-06","2018-01-07","2018-01-08","2018-01-09","2018-01-10","2018-01-11","2018-01-12","2018-01-13","2018-01-14","2018-01-15","2018-01-16","2018-01-17","2018-01-18","2018-01-19","2018-01-20","2018-01-21","2018-01-22","2018-01-23","2018-01-24","2018-01-25","2018-01-26","2018-01-27","2018-01-28","2018-01-29","2018-01-30","2018-01-31",null,null,"Pour remplir ","penser     ",null,null,null,null,{"$f":"IF(ISNUMBER(AO7),DATE(An,Janvier,AO7),\"\")","v":""},{"$f":"IF(ISNUMBER(AP7),DATE(An,Janvier,AP7),\"\")","v":""}]
[{"$f":"IF(Données!$L$5=\"\",\"Service\",Données!$L$5)","v":"Service"},null,null,null,null,null,null,null,null,null,"Mois de Janvier",null,null,null,{"$f":"An","v":2018},null,null,null,null,null,null,null,null,null,null,null,null,null,null,null,null,null,null,null,"à mettre dans le format:\n"]
[null,null,null,null,null,null,null,null,null,null,null,null,null,null,null,null,null,null,null,null,null,null,null,null,null,null,null,null,null,null,null,null,null,null," \"heures\":\"Minutes\" ",null,null,null,null,null,null,null,null,null,"Heures sup Année precedente"]
[null,null,null,null,null,null,null,null,null,null,null,null,null,null,null,null,null,null,null,null,null,null,null,null,null,null,null,null,null,null,null,null,null,null,"Heures sup ","Heures sup ",null,"Indications","Indications","Indications",null,"Total"]
["Jours",{"$f":"PROPER(LEFT(TEXT(DATE(An,Janvier,B7),\"jjj\"),1))","v":"L"},{"$f":"PROPER(LEFT(TEXT(DATE(An,Janvier,C7),\"jjj\"),1))","v":"M"},"M","J","V","S","D","L","M","M","J","V","S","D","L","M","M","J","V","S","D","L","M","M","J","V","S","D","L","M","M",null,null,"avant 21h","après 21h",null,"Heures","Heures nuit","Heures",null,"Heures","Heures"]
[null,{"$f":"A7+1","v":1},2,3,4,5,6,7,8,9,10,11,12,13,14,15,16,17,18,19,20,21,22,23,24,25,26,27,28,29,30,31,null,null,"A remplir","A remplir",null," Dimanche"," Dimanche","après 21h",null," au mois","  a l'année",null,"A remplir"]
["Equipe de jour"]
[{"$f":"Données!$H6","v":"A"},null,null,null,null,null,null,null,null,null,null,null,null,null,null,null,null,null,null,null,null,null,null,null,null,null,null,null,null,null,null,null,null,null,null,null,null,{"$f":"VLOOKUP($A9,BJanvier!$A$8:$AY$57,31,FALSE)","v":0},{"$f":"VLOOKUP($A9,BJanvier!$A$8:$AY$57,32,FALSE)","v":0},{"$f":"VLOOKUP($A9,BJanvier!$A$8:$AY$57,33,FALSE)","v":0},null,{"$f":"VLOOKUP($A9,BJanvier!$A$8:$AY$57,35,FALSE)","v":0},{"$f":"VLOOKUP($A9,Bilan!$A$8:$AY$57,35,FALSE)","v":0}]
[{"$f":"Données!$H7","v":0},null,null,null,null,null,null,null,null,null,null,null,null,null,null,null,null,null,null,null,null,null,null,null,null,null,null,null,null,null,null,null,null,null,null,null,null,{"$f":"VLOOKUP($A10,BJanvier!$A$8:$AY$57,31,FALSE)","v":0},{"$f":"VLOOKUP($A10,BJanvier!$A$8:$AY$57,32,FALSE)","v":0},{"$f":"VLOOKUP($A10,BJanvier!$A$8:$AY$57,33,FALSE)","v":0},null,{"$f":"VLOOKUP($A10,BJanvier!$A$8:$AY$57,35,FALSE)","v":0},{"$f":"VLOOKUP($A10,Bilan!$A$8:$AY$57,35,FALSE)","v":0}]
[{"$f":"Données!$H8","v":0},null,null,null,null,null,null,null,null,null,null,null,null,null,null,null,null,null,null,null,null,null,null,null,null,null,null,null,null,null,null,null,null,null,null,null,null,{"$f":"VLOOKUP($A11,BJanvier!$A$8:$AY$57,31,FALSE)","v":0},{"$f":"VLOOKUP($A11,BJanvier!$A$8:$AY$57,32,FALSE)","v":0},{"$f":"VLOOKUP($A11,BJanvier!$A$8:$AY$57,33,FALSE)","v":0},null,{"$f":"VLOOKUP($A11,BJanvier!$A$8:$AY$57,35,FALSE)","v":0},{"$f":"VLOOKUP($A11,Bilan!$A$8:$AY$57,35,FALSE)","v":0}]
[{"$f":"Données!$H9","v":0},null,null,null,null,null,null,null,null,null,null,null,null,null,null,null,null,null,null,null,null,null,null,null,null,null,null,null,null,null,null,null,null,null,null,null,null,{"$f":"VLOOKUP($A12,BJanvier!$A$8:$AY$57,31,FALSE)","v":0},{"$f":"VLOOKUP($A12,BJanvier!$A$8:$AY$57,32,FALSE)","v":0},{"$f":"VLOOKUP($A12,BJanvier!$A$8:$AY$57,33,FALSE)","v":0},null,{"$f":"VLOOKUP($A12,BJanvier!$A$8:$AY$57,35,FALSE)","v":0},{"$f":"VLOOKUP($A12,Bilan!$A$8:$AY$57,35,FALSE)","v":0}]
[{"$f":"Données!$H10","v":0},null,null,null,null,null,null,null,null,null,null,null,null,null,null,null,null,null,null,null,null,null,null,null,null,null,null,null,null,null,null,null,null,null,null,null,null,{"$f":"VLOOKUP($A13,BJanvier!$A$8:$AY$57,31,FALSE)","v":0},{"$f":"VLOOKUP($A13,BJanvier!$A$8:$AY$57,32,FALSE)","v":0},{"$f":"VLOOKUP($A13,BJanvier!$A$8:$AY$57,33,FALSE)","v":0},null,{"$f":"VLOOKUP($A13,BJanvier!$A$8:$AY$57,35,FALSE)","v":0},{"$f":"VLOOKUP($A13,Bilan!$A$8:$AY$57,35,FALSE)","v":0}]
[{"$f":"Données!$H11","v":0},null,null,null,null,null,null,null,null,null,null,null,null,null,null,null,null,null,null,null,null,null,null,null,null,null,null,null,null,null,null,null,null,null,null,null,null,{"$f":"VLOOKUP($A14,BJanvier!$A$8:$AY$57,31,FALSE)","v":0},{"$f":"VLOOKUP($A14,BJanvier!$A$8:$AY$57,32,FALSE)","v":0},{"$f":"VLOOKUP($A14,BJanvier!$A$8:$AY$57,33,FALSE)","v":0},null,{"$f":"VLOOKUP($A14,BJanvier!$A$8:$AY$57,35,FALSE)","v":0},{"$f":"VLOOKUP($A14,Bilan!$A$8:$AY$57,35,FALSE)","v":0}]
[{"$f":"Données!$H12","v":0},null,null,null,null,null,null,null,null,null,null,null,null,null,null,null,null,null,null,null,null,null,null,null,null,null,null,null,null,null,null,null,null,null,null,null,null,{"$f":"VLOOKUP($A15,BJanvier!$A$8:$AY$57,31,FALSE)","v":0},{"$f":"VLOOKUP($A15,BJanvier!$A$8:$AY$57,32,FALSE)","v":0},{"$f":"VLOOKUP($A15,BJanvier!$A$8:$AY$57,33,FALSE)","v":0},null,{"$f":"VLOOKUP($A15,BJanvier!$A$8:$AY$57,35,FALSE)","v":0},{"$f":"VLOOKUP($A15,Bilan!$A$8:$AY$57,35,FALSE)","v":0}]
[{"$f":"Données!$H13","v":0},null,null,null,null,null,null,null,null,null,null,null,null,null,null,null,null,null,null,null,null,null,null,null,null,null,null,null,null,null,null,null,null,null,null,null,null,{"$f":"VLOOKUP($A16,BJanvier!$A$8:$AY$57,31,FALSE)","v":0},{"$f":"VLOOKUP($A16,BJanvier!$A$8:$AY$57,32,FALSE)","v":0},{"$f":"VLOOKUP($A16,BJanvier!$A$8:$AY$57,33,FALSE)","v":0},null,{"$f":"VLOOKUP($A16,BJanvier!$A$8:$AY$57,35,FALSE)","v":0},{"$f":"VLOOKUP($A16,Bilan!$A$8:$AY$57,35,FALSE)","v":0}]
[{"$f":"Données!$H14","v":0},null,null,null,null,null,null,null,null,null,null,null,null,null,null,null,null,null,null,null,null,null,null,null,null,null,null,null,null,null,null,null,null,null,null,null,null,{"$f":"VLOOKUP($A17,BJanvier!$A$8:$AY$57,31,FALSE)","v":0},{"$f":"VLOOKUP($A17,BJanvier!$A$8:$AY$57,32,FALSE)","v":0},{"$f":"VLOOKUP($A17,BJanvier!$A$8:$AY$57,33,FALSE)","v":0},null,{"$f":"VLOOKUP($A17,BJanvier!$A$8:$AY$57,35,FALSE)","v":0},{"$f":"VLOOKUP($A17,Bilan!$A$8:$AY$57,35,FALSE)","v":0}]
[{"$f":"Données!$H15","v":0},null,null,null,null,null,null,null,null,null,null,null,null,null,null,null,null,null,null,null,null,null,null,null,null,null,null,null,null,null,null,null,null,null,null,null,null,{"$f":"VLOOKUP($A18,BJanvier!$A$8:$AY$57,31,FALSE)","v":0},{"$f":"VLOOKUP($A18,BJanvier!$A$8:$AY$57,32,FALSE)","v":0},{"$f":"VLOOKUP($A18,BJanvier!$A$8:$AY$57,33,FALSE)","v":0},null,{"$f":"VLOOKUP($A18,BJanvier!$A$8:$AY$57,35,FALSE)","v":0},{"$f":"VLOOKUP($A18,Bilan!$A$8:$AY$57,35,FALSE)","v":0}]
[{"$f":"Données!$H16","v":0},null,null,null,null,null,null,null,null,null,null,null,null,null,null,null,null,null,null,null,null,null,null,null,null,null,null,null,null,null,null,null,null,null,null,null,null,{"$f":"VLOOKUP($A19,BJanvier!$A$8:$AY$57,31,FALSE)","v":0},{"$f":"VLOOKUP($A19,BJanvier!$A$8:$AY$57,32,FALSE)","v":0},{"$f":"VLOOKUP($A19,BJanvier!$A$8:$AY$57,33,FALSE)","v":0},null,{"$f":"VLOOKUP($A19,BJanvier!$A$8:$AY$57,35,FALSE)","v":0},{"$f":"VLOOKUP($A19,Bilan!$A$8:$AY$57,35,FALSE)","v":0}]
[{"$f":"Données!$H17","v":0},null,null,null,null,null,null,null,null,null,null,null,null,null,null,null,null,null,null,null,null,null,null,null,null,null,null,null,null,null,null,null,null,null,null,null,null,{"$f":"VLOOKUP($A20,BJanvier!$A$8:$AY$57,31,FALSE)","v":0},{"$f":"VLOOKUP($A20,BJanvier!$A$8:$AY$57,32,FALSE)","v":0},{"$f":"VLOOKUP($A20,BJanvier!$A$8:$AY$57,33,FALSE)","v":0},null,{"$f":"VLOOKUP($A20,BJanvier!$A$8:$AY$57,35,FALSE)","v":0},{"$f":"VLOOKUP($A20,Bilan!$A$8:$AY$57,35,FALSE)","v":0}]
[{"$f":"Données!$H18","v":0},null,null,null,null,null,null,null,null,null,null,null,null,null,null,null,null,null,null,null,null,null,null,null,null,null,null,null,null,null,null,null,null,null,null,null,null,{"$f":"VLOOKUP($A21,BJanvier!$A$8:$AY$57,31,FALSE)","v":0},{"$f":"VLOOKUP($A21,BJanvier!$A$8:$AY$57,32,FALSE)","v":0},{"$f":"VLOOKUP($A21,BJanvier!$A$8:$AY$57,33,FALSE)","v":0},null,{"$f":"VLOOKUP($A21,BJanvier!$A$8:$AY$57,35,FALSE)","v":0},{"$f":"VLOOKUP($A21,Bilan!$A$8:$AY$57,35,FALSE)","v":0}]
[{"$f":"Données!$H19","v":0},null,null,null,null,null,null,null,null,null,null,null,null,null,null,null,null,null,null,null,null,null,null,null,null,null,null,null,null,null,null,null,null,null,null,null,null,{"$f":"VLOOKUP($A22,BJanvier!$A$8:$AY$57,31,FALSE)","v":0},{"$f":"VLOOKUP($A22,BJanvier!$A$8:$AY$57,32,FALSE)","v":0},{"$f":"VLOOKUP($A22,BJanvier!$A$8:$AY$57,33,FALSE)","v":0},null,{"$f":"VLOOKUP($A22,BJanvier!$A$8:$AY$57,35,FALSE)","v":0},{"$f":"VLOOKUP($A22,Bilan!$A$8:$AY$57,35,FALSE)","v":0}]
[{"$f":"Données!$H20","v":0},null,null,null,null,null,null,null,null,null,null,null,null,null,null,null,null,null,null,null,null,null,null,null,null,null,null,null,null,null,null,null,null,null,null,null,null,{"$f":"VLOOKUP($A23,BJanvier!$A$8:$AY$57,31,FALSE)","v":0},{"$f":"VLOOKUP($A23,BJanvier!$A$8:$AY$57,32,FALSE)","v":0},{"$f":"VLOOKUP($A23,BJanvier!$A$8:$AY$57,33,FALSE)","v":0},null,{"$f":"VLOOKUP($A23,BJanvier!$A$8:$AY$57,35,FALSE)","v":0},{"$f":"VLOOKUP($A23,Bilan!$A$8:$AY$57,35,FALSE)","v":0}]
[{"$f":"Données!$H21","v":0},null,null,null,null,null,null,null,null,null,null,null,null,null,null,null,null,null,null,null,null,null,null,null,null,null,null,null,null,null,null,null,null,null,null,null,null,{"$f":"VLOOKUP($A24,BJanvier!$A$8:$AY$57,31,FALSE)","v":0},{"$f":"VLOOKUP($A24,BJanvier!$A$8:$AY$57,32,FALSE)","v":0},{"$f":"VLOOKUP($A24,BJanvier!$A$8:$AY$57,33,FALSE)","v":0},null,{"$f":"VLOOKUP($A24,BJanvier!$A$8:$AY$57,35,FALSE)","v":0},{"$f":"VLOOKUP($A24,Bilan!$A$8:$AY$57,35,FALSE)","v":0}]
[{"$f":"Données!$H22","v":"Equipe de nuit"}]
[{"$f":"Données!$H23","v":"K"},null,null,null,null,null,null,null,null,null,null,null,null,null,null,null,null,null,null,null,null,null,null,null,null,null,null,null,null,null,null,null,null,null,null,null,null,{"$f":"VLOOKUP($A26,BJanvier!$A$8:$AY$57,31,FALSE)","v":0},{"$f":"VLOOKUP($A26,BJanvier!$A$8:$AY$57,32,FALSE)","v":0},{"$f":"VLOOKUP($A26,BJanvier!$A$8:$AY$57,33,FALSE)","v":0},null,{"$f":"VLOOKUP($A26,BJanvier!$A$8:$AY$57,35,FALSE)","v":0},{"$f":"VLOOKUP($A26,Bilan!$A$8:$AY$57,35,FALSE)","v":0}]
[{"$f":"Données!$H24","v":0},null,null,null,null,null,null,null,null,null,null,null,null,null,null,null,null,null,null,null,null,null,null,null,null,null,null,null,null,null,null,null,null,null,null,null,null,{"$f":"VLOOKUP($A27,BJanvier!$A$8:$AY$57,31,FALSE)","v":0},{"$f":"VLOOKUP($A27,BJanvier!$A$8:$AY$57,32,FALSE)","v":0},{"$f":"VLOOKUP($A27,BJanvier!$A$8:$AY$57,33,FALSE)","v":0},null,{"$f":"VLOOKUP($A27,BJanvier!$A$8:$AY$57,35,FALSE)","v":0},{"$f":"VLOOKUP($A27,Bilan!$A$8:$AY$57,35,FALSE)","v":0}]
[{"$f":"Données!$H25","v":0},null,null,null,null,null,null,null,null,null,null,null,null,null,null,null,null,null,null,null,null,null,null,null,null,null,null,null,null,null,null,null,null,null,null,null,null,{"$f":"VLOOKUP($A28,BJanvier!$A$8:$AY$57,31,FALSE)","v":0},{"$f":"VLOOKUP($A28,BJanvier!$A$8:$AY$57,32,FALSE)","v":0},{"$f":"VLOOKUP($A28,BJanvier!$A$8:$AY$57,33,FALSE)","v":0},null,{"$f":"VLOOKUP($A28,BJanvier!$A$8:$AY$57,35,FALSE)","v":0},{"$f":"VLOOKUP($A28,Bilan!$A$8:$AY$57,35,FALSE)","v":0}]
[{"$f":"Données!$H26","v":0},null,null,null,null,null,null,null,null,null,null,null,null,null,null,null,null,null,null,null,null,null,null,null,null,null,null,null,null,null,null,null,null,null,null,null,null,{"$f":"VLOOKUP($A29,BJanvier!$A$8:$AY$57,31,FALSE)","v":0},{"$f":"VLOOKUP($A29,BJanvier!$A$8:$AY$57,32,FALSE)","v":0},{"$f":"VLOOKUP($A29,BJanvier!$A$8:$AY$57,33,FALSE)","v":0},null,{"$f":"VLOOKUP($A29,BJanvier!$A$8:$AY$57,35,FALSE)","v":0},{"$f":"VLOOKUP($A29,Bilan!$A$8:$AY$57,35,FALSE)","v":0}]
[{"$f":"Données!$H27","v":0},null,null,null,null,null,null,null,null,null,null,null,null,null,null,null,null,null,null,null,null,null,null,null,null,null,null,null,null,null,null,null,null,null,null,null,null,{"$f":"VLOOKUP($A30,BJanvier!$A$8:$AY$57,31,FALSE)","v":0},{"$f":"VLOOKUP($A30,BJanvier!$A$8:$AY$57,32,FALSE)","v":0},{"$f":"VLOOKUP($A30,BJanvier!$A$8:$AY$57,33,FALSE)","v":0},null,{"$f":"VLOOKUP($A30,BJanvier!$A$8:$AY$57,35,FALSE)","v":0},{"$f":"VLOOKUP($A30,Bilan!$A$8:$AY$57,35,FALSE)","v":0}]
[{"$f":"Données!$H28","v":0},null,null,null,null,null,null,null,null,null,null,null,null,null,null,null,null,null,null,null,null,null,null,null,null,null,null,null,null,null,null,null,null,null,null,null,null,{"$f":"VLOOKUP($A31,BJanvier!$A$8:$AY$57,31,FALSE)","v":0},{"$f":"VLOOKUP($A31,BJanvier!$A$8:$AY$57,32,FALSE)","v":0},{"$f":"VLOOKUP($A31,BJanvier!$A$8:$AY$57,33,FALSE)","v":0},null,{"$f":"VLOOKUP($A31,BJanvier!$A$8:$AY$57,35,FALSE)","v":0},{"$f":"VLOOKUP($A31,Bilan!$A$8:$AY$57,35,FALSE)","v":0}]
[{"$f":"Données!$H29","v":0},null,null,null,null,null,null,null,null,null,null,null,null,null,null,null,null,null,null,null,null,null,null,null,null,null,null,null,null,null,null,null,null,null,null,null,null,{"$f":"VLOOKUP($A32,BJanvier!$A$8:$AY$57,31,FALSE)","v":0},{"$f":"VLOOKUP($A32,BJanvier!$A$8:$AY$57,32,FALSE)","v":0},{"$f":"VLOOKUP($A32,BJanvier!$A$8:$AY$57,33,FALSE)","v":0},null,{"$f":"VLOOKUP($A32,BJanvier!$A$8:$AY$57,35,FALSE)","v":0},{"$f":"VLOOKUP($A32,Bilan!$A$8:$AY$57,35,FALSE)","v":0}]
[{"$f":"Données!$H30","v":0},null,null,null,null,null,null,null,null,null,null,null,null,null,null,null,null,null,null,null,null,null,null,null,null,null,null,null,null,null,null,null,null,null,null,null,null,{"$f":"VLOOKUP($A33,BJanvier!$A$8:$AY$57,31,FALSE)","v":0},{"$f":"VLOOKUP($A33,BJanvier!$A$8:$AY$57,32,FALSE)","v":0},{"$f":"VLOOKUP($A33,BJanvier!$A$8:$AY$57,33,FALSE)","v":0},null,{"$f":"VLOOKUP($A33,BJanvier!$A$8:$AY$57,35,FALSE)","v":0},{"$f":"VLOOKUP($A33,Bilan!$A$8:$AY$57,35,FALSE)","v":0}]
[{"$f":"Données!$H31","v":0},null,null,null,null,null,null,null,null,null,null,null,null,null,null,null,null,null,null,null,null,null,null,null,null,null,null,null,null,null,null,null,null,null,null,null,null,{"$f":"VLOOKUP($A34,BJanvier!$A$8:$AY$57,31,FALSE)","v":0},{"$f":"VLOOKUP($A34,BJanvier!$A$8:$AY$57,32,FALSE)","v":0},{"$f":"VLOOKUP($A34,BJanvier!$A$8:$AY$57,33,FALSE)","v":0},null,{"$f":"VLOOKUP($A34,BJanvier!$A$8:$AY$57,35,FALSE)","v":0},{"$f":"VLOOKUP($A34,Bilan!$A$8:$AY$57,35,FALSE)","v":0}]
[{"$f":"Données!$H32","v":"Maitresse de maison"}]
[{"$f":"Données!$H33","v":"N"},null,null,null,null,null,null,null,null,null,null,null,null,null,null,null,null,null,null,null,null,null,null,null,null,null,null,null,null,null,null,null,null,null,null,null,null,{"$f":"VLOOKUP($A36,BJanvier!$A$8:$AY$57,31,FALSE)","v":0},{"$f":"VLOOKUP($A36,BJanvier!$A$8:$AY$57,32,FALSE)","v":0},{"$f":"VLOOKUP($A36,BJanvier!$A$8:$AY$57,33,FALSE)","v":0},null,{"$f":"VLOOKUP($A36,BJanvier!$A$8:$AY$57,35,FALSE)","v":0},{"$f":"VLOOKUP($A36,Bilan!$A$8:$AY$57,35,FALSE)","v":0}]
[{"$f":"Données!$H34","v":0},null,null,null,null,null,null,null,null,null,null,null,null,null,null,null,null,null,null,null,null,null,null,null,null,null,null,null,null,null,null,null,null,null,null,null,null,{"$f":"VLOOKUP($A37,BJanvier!$A$8:$AY$57,31,FALSE)","v":0},{"$f":"VLOOKUP($A37,BJanvier!$A$8:$AY$57,32,FALSE)","v":0},{"$f":"VLOOKUP($A37,BJanvier!$A$8:$AY$57,33,FALSE)","v":0},null,{"$f":"VLOOKUP($A37,BJanvier!$A$8:$AY$57,35,FALSE)","v":0},{"$f":"VLOOKUP($A37,Bilan!$A$8:$AY$57,35,FALSE)","v":0}]
[{"$f":"Données!$H35","v":0},null,null,null,null,null,null,null,null,null,null,null,null,null,null,null,null,null,null,null,null,null,null,null,null,null,null,null,null,null,null,null,null,null,null,null,null,{"$f":"VLOOKUP($A38,BJanvier!$A$8:$AY$57,31,FALSE)","v":0},{"$f":"VLOOKUP($A38,BJanvier!$A$8:$AY$57,32,FALSE)","v":0},{"$f":"VLOOKUP($A38,BJanvier!$A$8:$AY$57,33,FALSE)","v":0},null,{"$f":"VLOOKUP($A38,BJanvier!$A$8:$AY$57,35,FALSE)","v":0},{"$f":"VLOOKUP($A38,Bilan!$A$8:$AY$57,35,FALSE)","v":0}]
[{"$f":"Données!$H36","v":0},null,null,null,null,null,null,null,null,null,null,null,null,null,null,null,null,null,null,null,null,null,null,null,null,null,null,null,null,null,null,null,null,null,null,null,null,{"$f":"VLOOKUP($A39,BJanvier!$A$8:$AY$57,31,FALSE)","v":0},{"$f":"VLOOKUP($A39,BJanvier!$A$8:$AY$57,32,FALSE)","v":0},{"$f":"VLOOKUP($A39,BJanvier!$A$8:$AY$57,33,FALSE)","v":0},null,{"$f":"VLOOKUP($A39,BJanvier!$A$8:$AY$57,35,FALSE)","v":0},{"$f":"VLOOKUP($A39,Bilan!$A$8:$AY$57,35,FALSE)","v":0}]
[{"$f":"Données!$H37","v":0},null,null,null,null,null,null,null,null,null,null,null,null,null,null,null,null,null,null,null,null,null,null,null,null,null,null,null,null,null,null,null,null,null,null,null,null,{"$f":"VLOOKUP($A40,BJanvier!$A$8:$AY$57,31,FALSE)","v":0},{"$f":"VLOOKUP($A40,BJanvier!$A$8:$AY$57,32,FALSE)","v":0},{"$f":"VLOOKUP($A40,BJanvier!$A$8:$AY$57,33,FALSE)","v":0},null,{"$f":"VLOOKUP($A40,BJanvier!$A$8:$AY$57,35,FALSE)","v":0},{"$f":"VLOOKUP($A40,Bilan!$A$8:$AY$57,35,FALSE)","v":0}]
[{"$f":"Données!$H38","v":0},null,null,null,null,null,null,null,null,null,null,null,null,null,null,null,null,null,null,null,null,null,null,null,null,null,null,null,null,null,null,null,null,null,null,null,null,{"$f":"VLOOKUP($A41,BJanvier!$A$8:$AY$57,31,FALSE)","v":0},{"$f":"VLOOKUP($A41,BJanvier!$A$8:$AY$57,32,FALSE)","v":0},{"$f":"VLOOKUP($A41,BJanvier!$A$8:$AY$57,33,FALSE)","v":0},null,{"$f":"VLOOKUP($A41,BJanvier!$A$8:$AY$57,35,FALSE)","v":0},{"$f":"VLOOKUP($A41,Bilan!$A$8:$AY$57,35,FALSE)","v":0}]
[{"$f":"Données!$H39","v":0},null,null,null,null,null,null,null,null,null,null,null,null,null,null,null,null,null,null,null,null,null,null,null,null,null,null,null,null,null,null,null,null,null,null,null,null,{"$f":"VLOOKUP($A42,BJanvier!$A$8:$AY$57,31,FALSE)","v":0},{"$f":"VLOOKUP($A42,BJanvier!$A$8:$AY$57,32,FALSE)","v":0},{"$f":"VLOOKUP($A42,BJanvier!$A$8:$AY$57,33,FALSE)","v":0},null,{"$f":"VLOOKUP($A42,BJanvier!$A$8:$AY$57,35,FALSE)","v":0},{"$f":"VLOOKUP($A42,Bilan!$A$8:$AY$57,35,FALSE)","v":0}]
[{"$f":"Données!$H40","v":0},null,null,null,null,null,null,null,null,null,null,null,null,null,null,null,null,null,null,null,null,null,null,null,null,null,null,null,null,null,null,null,null,null,null,null,null,{"$f":"VLOOKUP($A43,BJanvier!$A$8:$AY$57,31,FALSE)","v":0},{"$f":"VLOOKUP($A43,BJanvier!$A$8:$AY$57,32,FALSE)","v":0},{"$f":"VLOOKUP($A43,BJanvier!$A$8:$AY$57,33,FALSE)","v":0},null,{"$f":"VLOOKUP($A43,BJanvier!$A$8:$AY$57,35,FALSE)","v":0},{"$f":"VLOOKUP($A43,Bilan!$A$8:$AY$57,35,FALSE)","v":0}]
[{"$f":"Données!$H41","v":0},null,null,null,null,null,null,null,null,null,null,null,null,null,null,null,null,null,null,null,null,null,null,null,null,null,null,null,null,null,null,null,null,null,null,null,null,{"$f":"VLOOKUP($A44,BJanvier!$A$8:$AY$57,31,FALSE)","v":0},{"$f":"VLOOKUP($A44,BJanvier!$A$8:$AY$57,32,FALSE)","v":0},{"$f":"VLOOKUP($A44,BJanvier!$A$8:$AY$57,33,FALSE)","v":0},null,{"$f":"VLOOKUP($A44,BJanvier!$A$8:$AY$57,35,FALSE)","v":0},{"$f":"VLOOKUP($A44,Bilan!$A$8:$AY$57,35,FALSE)","v":0}]
[{"$f":"Données!$H42","v":"Psychologue"}]
[{"$f":"Données!$H43","v":"O"},null,null,null,null,null,null,null,null,null,null,null,null,null,null,null,null,null,null,null,null,null,null,null,null,null,null,null,null,null,null,null,null,null,null,null,null,{"$f":"VLOOKUP($A46,BJanvier!$A$8:$AY$57,31,FALSE)","v":0},{"$f":"VLOOKUP($A46,BJanvier!$A$8:$AY$57,32,FALSE)","v":0},{"$f":"VLOOKUP($A46,BJanvier!$A$8:$AY$57,33,FALSE)","v":0},null,{"$f":"VLOOKUP($A46,BJanvier!$A$8:$AY$57,35,FALSE)","v":0},{"$f":"VLOOKUP($A46,Bilan!$A$8:$AY$57,35,FALSE)","v":0}]
[{"$f":"Données!$H44","v":0},null,null,null,null,null,null,null,null,null,null,null,null,null,null,null,null,null,null,null,null,null,null,null,null,null,null,null,null,null,null,null,null,null,null,null,null,{"$f":"VLOOKUP($A47,BJanvier!$A$8:$AY$57,31,FALSE)","v":0},{"$f":"VLOOKUP($A47,BJanvier!$A$8:$AY$57,32,FALSE)","v":0},{"$f":"VLOOKUP($A47,BJanvier!$A$8:$AY$57,33,FALSE)","v":0},null,{"$f":"VLOOKUP($A47,BJanvier!$A$8:$AY$57,35,FALSE)","v":0},{"$f":"VLOOKUP($A47,Bilan!$A$8:$AY$57,35,FALSE)","v":0}]
[{"$f":"Données!$H45","v":0},null,null,null,null,null,null,null,null,null,null,null,null,null,null,null,null,null,null,null,null,null,null,null,null,null,null,null,null,null,null,null,null,null,null,null,null,{"$f":"VLOOKUP($A48,BJanvier!$A$8:$AY$57,31,FALSE)","v":0},{"$f":"VLOOKUP($A48,BJanvier!$A$8:$AY$57,32,FALSE)","v":0},{"$f":"VLOOKUP($A48,BJanvier!$A$8:$AY$57,33,FALSE)","v":0},null,{"$f":"VLOOKUP($A48,BJanvier!$A$8:$AY$57,35,FALSE)","v":0},{"$f":"VLOOKUP($A48,Bilan!$A$8:$AY$57,35,FALSE)","v":0}]
[{"$f":"Données!$H46","v":"Coordinatrice"}]
[{"$f":"Données!$H47","v":"P"},null,null,null,null,null,null,null,null,null,null,null,null,null,null,null,null,null,null,null,null,null,null,null,null,null,null,null,null,null,null,null,null,null,null,null,null,{"$f":"VLOOKUP($A50,BJanvier!$A$8:$AY$57,31,FALSE)","v":0},{"$f":"VLOOKUP($A50,BJanvier!$A$8:$AY$57,32,FALSE)","v":0},{"$f":"VLOOKUP($A50,BJanvier!$A$8:$AY$57,33,FALSE)","v":0},null,{"$f":"VLOOKUP($A50,BJanvier!$A$8:$AY$57,35,FALSE)","v":0},{"$f":"VLOOKUP($A50,Bilan!$A$8:$AY$57,35,FALSE)","v":0}]
[{"$f":"Données!$H48","v":0},null,null,null,null,null,null,null,null,null,null,null,null,null,null,null,null,null,null,null,null,null,null,null,null,null,null,null,null,null,null,null,null,null,null,null,null,{"$f":"VLOOKUP($A51,BJanvier!$A$8:$AY$57,31,FALSE)","v":0},{"$f":"VLOOKUP($A51,BJanvier!$A$8:$AY$57,32,FALSE)","v":0},{"$f":"VLOOKUP($A51,BJanvier!$A$8:$AY$57,33,FALSE)","v":0},null,{"$f":"VLOOKUP($A51,BJanvier!$A$8:$AY$57,35,FALSE)","v":0},{"$f":"VLOOKUP($A51,Bilan!$A$8:$AY$57,35,FALSE)","v":0}]
[{"$f":"Données!$H49","v":0},null,null,null,null,null,null,null,null,null,null,null,null,null,null,null,null,null,null,null,null,null,null,null,null,null,null,null,null,null,null,null,null,null,null,null,null,{"$f":"VLOOKUP($A52,BJanvier!$A$8:$AY$57,31,FALSE)","v":0},{"$f":"VLOOKUP($A52,BJanvier!$A$8:$AY$57,32,FALSE)","v":0},{"$f":"VLOOKUP($A52,BJanvier!$A$8:$AY$57,33,FALSE)","v":0},null,{"$f":"VLOOKUP($A52,BJanvier!$A$8:$AY$57,35,FALSE)","v":0},{"$f":"VLOOKUP($A52,Bilan!$A$8:$AY$57,35,FALSE)","v":0}]
[{"$f":"Données!$H50","v":0},null,null,null,null,null,null,null,null,null,null,null,null,null,null,null,null,null,null,null,null,null,null,null,null,null,null,null,null,null,null,null,null,null,null,null,null,{"$f":"VLOOKUP($A53,BJanvier!$A$8:$AY$57,31,FALSE)","v":0},{"$f":"VLOOKUP($A53,BJanvier!$A$8:$AY$57,32,FALSE)","v":0},{"$f":"VLOOKUP($A53,BJanvier!$A$8:$AY$57,33,FALSE)","v":0},null,{"$f":"VLOOKUP($A53,BJanvier!$A$8:$AY$57,35,FALSE)","v":0},{"$f":"VLOOKUP($A53,Bilan!$A$8:$AY$57,35,FALSE)","v":0}]
[{"$f":"Données!$H51","v":0},null,null,null,null,null,null,null,null,null,null,null,null,null,null,null,null,null,null,null,null,null,null,null,null,null,null,null,null,null,null,null,null,null,null,null,null,{"$f":"VLOOKUP($A54,BJanvier!$A$8:$AY$57,31,FALSE)","v":0},{"$f":"VLOOKUP($A54,BJanvier!$A$8:$AY$57,32,FALSE)","v":0},{"$f":"VLOOKUP($A54,BJanvier!$A$8:$AY$57,33,FALSE)","v":0},null,{"$f":"VLOOKUP($A54,BJanvier!$A$8:$AY$57,35,FALSE)","v":0},{"$f":"VLOOKUP($A54,Bilan!$A$8:$AY$57,35,FALSE)","v":0}]
[{"$f":"Données!$H52","v":"Chef de service"}]
[{"$f":"Données!$H53","v":"Q"},null,null,null,null,null,null,null,null,null,null,null,null,null,null,null,null,null,null,null,null,null,null,null,null,null,null,null,null,null,null,null,null,null,null,null,null,{"$f":"VLOOKUP($A56,BJanvier!$A$8:$AY$57,31,FALSE)","v":0},{"$f":"VLOOKUP($A56,BJanvier!$A$8:$AY$57,32,FALSE)","v":0},{"$f":"VLOOKUP($A56,BJanvier!$A$8:$AY$57,33,FALSE)","v":0},null,{"$f":"VLOOKUP($A56,BJanvier!$A$8:$AY$57,35,FALSE)","v":0},{"$f":"VLOOKUP($A56,Bilan!$A$8:$AY$57,35,FALSE)","v":0}]
[]
[null,{"$f":"Données!$A3","v":"M"}," =",{"$f":"IF(ISBLANK(Données!$C3),TEXT(Données!$B3,\"hh:mm\"),TEXT(Données!$B3,\"hh:mm\")&\" : \"&TEXT(Données!$C3,\"hh:mm\"))","v":"07:00 : 14:35"},null,null,null,{"$f":"Données!$A7","v":"R"}," =",{"$f":"IF(ISBLANK(Données!$C7),TEXT(Données!$B7,\"hh:mm\"),TEXT(Données!$B7,\"hh:mm\")&\" : \"&TEXT(Données!$C7,\"hh:mm\"))","v":"10:00 : 12:00"},null,null,null,{"$f":"Données!$A10","v":"W"}," =",{"$f":"IF(ISBLANK(Données!$C10),TEXT(Données!$B10,\"hh:mm\"),TEXT(Données!$B10,\"hh:mm\")&\" : \"&TEXT(Données!$C10,\"hh:mm\"))","v":"07:30 : 19:15"},null,null,null,{"$f":"Données!$A14","v":"N"}," =",{"$f":"IF(ISBLANK(Données!$C14),TEXT(Données!$B14,\"hh:mm\"),TEXT(Données!$B14,\"hh:mm\")&\" : \"&TEXT(Données!$C14,\"hh:mm\"))","v":"20:30 : 07:15"},null,null,null,{"$f":"Données!$A18","v":"F"}," =",{"$f":"IF(ISBLANK(Données!$C18),TEXT(Données!$B18,\"hh:mm\"),TEXT(Données!$B18,\"hh:mm\")&\" : \"&TEXT(Données!$C18,\"hh:mm\"))","v":"F"}]
[null,{"$f":"Données!$A4","v":"MG"}," =",{"$f":"IF(ISBLANK(Données!$C4),TEXT(Données!$B4,\"hh:mm\"),TEXT(Données!$B4,\"hh:mm\")&\" : \"&TEXT(Données!$C4,\"hh:mm\"))","v":"23:00 : 01:35"},null,null,null,{"$f":"Données!$A8","v":"RS"}," =",{"$f":"IF(ISBLANK(Données!$C8),TEXT(Données!$B8,\"hh:mm\"),TEXT(Données!$B8,\"hh:mm\")&\" : \"&TEXT(Données!$C8,\"hh:mm\"))","v":"10:00 : 21:30"},null,null,null,{"$f":"Données!$A11","v":"W+"}," =",{"$f":"IF(ISBLANK(Données!$C11),TEXT(Données!$B11,\"hh:mm\"),TEXT(Données!$B11,\"hh:mm\")&\" : \"&TEXT(Données!$C11,\"hh:mm\"))","v":"10:00 : 21:30"},null,null,null,{"$f":"Données!$A15","v":"N+"}," =",{"$f":"IF(ISBLANK(Données!$C15),TEXT(Données!$B15,\"hh:mm\"),TEXT(Données!$B15,\"hh:mm\")&\" : \"&TEXT(Données!$C15,\"hh:mm\"))","v":"19:15 : 07:15"},null,null,null,{"$f":"Données!$A19","v":"SYN"}," =",{"$f":"IF(ISBLANK(Données!$C19),TEXT(Données!$B19,\"hh:mm\"),TEXT(Données!$B19,\"hh:mm\")&\" : \"&TEXT(Données!$C19,\"hh:mm\"))","v":"Syn"}]
[null,{"$f":"Données!$A5","v":"J"}," =",{"$f":"IF(ISBLANK(Données!$C5),TEXT(Données!$B5,\"hh:mm\"),TEXT(Données!$B5,\"hh:mm\")&\" : \"&TEXT(Données!$C5,\"hh:mm\"))","v":"10:00 : 17:30"},null,null,null,{"$f":"Données!$A9","v":"S"}," =",{"$f":"IF(ISBLANK(Données!$C9),TEXT(Données!$B9,\"hh:mm\"),TEXT(Données!$B9,\"hh:mm\")&\" : \"&TEXT(Données!$C9,\"hh:mm\"))","v":"14:00 : 21:30"},null,null,null,{"$f":"Données!$A12","v":"WD"}," =",{"$f":"IF(ISBLANK(Données!$C12),TEXT(Données!$B12,\"hh:mm\"),TEXT(Données!$B12,\"hh:mm\")&\" : \"&TEXT(Données!$C12,\"hh:mm\"))","v":"07:00 : 19:15"},null,null,null,{"$f":"Données!$A16","v":"NS"}," =",{"$f":"IF(ISBLANK(Données!$C16),TEXT(Données!$B16,\"hh:mm\"),TEXT(Données!$B16,\"hh:mm\")&\" : \"&TEXT(Données!$C16,\"hh:mm\"))","v":"19:15 : 07:15"},null,null,null,{"$f":"Données!$A20","v":"AT"}," =",{"$f":"IF(ISBLANK(Données!$C20),TEXT(Données!$B20,\"hh:mm\"),TEXT(Données!$B20,\"hh:mm\")&\" : \"&TEXT(Données!$C20,\"hh:mm\"))","v":"AT"}]
[null,{"$f":"Données!$A6","v":"J+"}," =",{"$f":"IF(ISBLANK(Données!$C6),TEXT(Données!$B6,\"hh:mm\"),TEXT(Données!$B6,\"hh:mm\")&\" : \"&TEXT(Données!$C6,\"hh:mm\"))","v":"11:30 : 19:15"},null,null,null,{"$f":"Données!$A10","v":"W"}," =",{"$f":"IF(ISBLANK(Données!$C10),TEXT(Données!$B10,\"hh:mm\"),TEXT(Données!$B10,\"hh:mm\")&\" : \"&TEXT(Données!$C10,\"hh:mm\"))","v":"07:30 : 19:15"},null,null,null,{"$f":"Données!$A13","v":"WF"}," =",{"$f":"IF(ISBLANK(Données!$C13),TEXT(Données!$B13,\"hh:mm\"),TEXT(Données!$B13,\"hh:mm\")&\" : \"&TEXT(Données!$C13,\"hh:mm\"))","v":"07:00 : 19:15"},null,null,null,{"$f":"Données!$A17","v":"T"}," =",{"$f":"IF(ISBLANK(Données!$C17),TEXT(Données!$B17,\"hh:mm\"),TEXT(Données!$B17,\"hh:mm\")&\" : \"&TEXT(Données!$C17,\"hh:mm\"))","v":"T"},null,null,null,{"$f":"Données!$A21","v":"AM"}," =",{"$f":"IF(ISBLANK(Données!$C21),TEXT(Données!$B21,\"hh:mm\"),TEXT(Données!$B21,\"hh:mm\")&\" : \"&TEXT(Données!$C21,\"hh:mm\"))","v":"AM"}]

{"sheet":"Fevrier","index":3,"n_rows":61,"n_cols":43,"rows_kept":61,"cut":false,"hidden":false,"merged":[[2,15,2,16]]}
[]
[null,{"$f":"DATE(An,Fevrier,B7)","v":"2018-02-01"},"2018-02-02","2018-02-03","2018-02-04","2018-02-05","2018-02-06","2018-02-07","2018-02-08","2018-02-09","2018-02-10","2018-02-11","2018-02-12","2018-02-13","2018-02-14","2018-02-15","2018-02-16","2018-02-17","2018-02-18","2018-02-19","2018-02-20","2018-02-21","2018-02-22","2018-02-23","2018-02-24","2018-02-25","2018-02-26","2018-02-27","2018-02-28","2018-03-01","2018-01-31","2018-01-31",null,null,"Pour remplir ","penser     ",null,null,null,null,{"$f":"IF(ISNUMBER(AO7),DATE(An,Fevrier,AO7),\"\")","v":""},{"$f":"IF(ISNUMBER(AP7),DATE(An,Fevrier,AP7),\"\")","v":""}]
[{"$f":"IF(Données!$L$5=\"\",\"Service\",Données!$L$5)","v":"Service"},null,null,null,null,null,null,null,null,null,"Mois de Fevrier ",null,null,null,null,{"$f":"An","v":2018},null,null,null,null,null,null,null,null,null,null,null,null,null,null,null,null,null,null,"à mettre dans le format:\n"]
[null,null,null,null,null,null,null,null,null,null,null,null,null,null,null,null,null,null,null,null,null,null,null,null,null,null,null,null,null,null,null,null,null,null," \"heures\":\"Minutes\" "]
[null,null,null,null,null,null,null,null,null,null,null,null,null,null,null,null,null,null,null,null,null,null,null,null,null,null,null,null,null,null,null,null,null,null,"Heures sup ","Heures sup ",null,"Indications","Indications","Indications",null,"Total"]
["Jours",{"$f":"PROPER(LEFT(TEXT(DATE(An,Fevrier,B7),\"jjj\"),1))","v":"J"},"V","S","D","L","M","M","J","V","S","D","L","M","M","J","V","S","D","L","M","M","J","V","S","D","L","M","M","J",null,null,null,null,"avant 21h","après 21h",null,"Heures","Heures nuit","Heures",null,"Heures","Heures"]
[null,{"$f":"A7+1","v":1},2,3,4,5,6,7,8,9,10,11,12,13,14,15,16,17,18,19,20,21,22,23,24,25,26,27,28,29,null,null,null,null,"A remplir","A remplir",null," Dimanche"," Dimanche","après 21h",null," au mois","  a l'année"]
["Equipe de jour"]
[{"$f":"Données!$H6","v":"A"},null,null,null,null,null,null,null,null,null,null,null,null,null,null,null,null,null,null,null,null,null,null,null,null,null,null,null,null,null,null,null,null,null,null,null,null,{"$f":"VLOOKUP($A9,BFevrier!$A$8:$AY$57,31,FALSE)","v":0},{"$f":"VLOOKUP($A9,BFevrier!$A$8:$AY$57,32,FALSE)","v":0},{"$f":"VLOOKUP($A9,BFevrier!$A$8:$AY$57,33,FALSE)","v":0},null,{"$f":"VLOOKUP($A9,BFevrier!$A$8:$AY$57,35,FALSE)","v":0},{"$f":"VLOOKUP($A9,Bilan!$A$8:$AY$57,35,FALSE)","v":0}]
[{"$f":"Données!$H7","v":0},null,null,null,null,null,null,null,null,null,null,null,null,null,null,null,null,null,null,null,null,null,null,null,null,null,null,null,null,null,null,null,null,null,null,null,null,{"$f":"VLOOKUP($A10,BFevrier!$A$8:$AY$57,31,FALSE)","v":0},{"$f":"VLOOKUP($A10,BFevrier!$A$8:$AY$57,32,FALSE)","v":0},{"$f":"VLOOKUP($A10,BFevrier!$A$8:$AY$57,33,FALSE)","v":0},null,{"$f":"VLOOKUP($A10,BFevrier!$A$8:$AY$57,35,FALSE)","v":0},{"$f":"VLOOKUP($A10,Bilan!$A$8:$AY$57,35,FALSE)","v":0}]
[{"$f":"Données!$H8","v":0},null,null,null,null,null,null,null,null,null,null,null,null,null,null,null,null,null,null,null,null,null,null,null,null,null,null,null,null,null,null,null,null,null,null,null,null,{"$f":"VLOOKUP($A11,BFevrier!$A$8:$AY$57,31,FALSE)","v":0},{"$f":"VLOOKUP($A11,BFevrier!$A$8:$AY$57,32,FALSE)","v":0},{"$f":"VLOOKUP($A11,BFevrier!$A$8:$AY$57,33,FALSE)","v":0},null,{"$f":"VLOOKUP($A11,BFevrier!$A$8:$AY$57,35,FALSE)","v":0},{"$f":"VLOOKUP($A11,Bilan!$A$8:$AY$57,35,FALSE)","v":0}]
[{"$f":"Données!$H9","v":0},null,null,null,null,null,null,null,null,null,null,null,null,null,null,null,null,null,null,null,null,null,null,null,null,null,null,null,null,null,null,null,null,null,null,null,null,{"$f":"VLOOKUP($A12,BFevrier!$A$8:$AY$57,31,FALSE)","v":0},{"$f":"VLOOKUP($A12,BFevrier!$A$8:$AY$57,32,FALSE)","v":0},{"$f":"VLOOKUP($A12,BFevrier!$A$8:$AY$57,33,FALSE)","v":0},null,{"$f":"VLOOKUP($A12,BFevrier!$A$8:$AY$57,35,FALSE)","v":0},{"$f":"VLOOKUP($A12,Bilan!$A$8:$AY$57,35,FALSE)","v":0}]
[{"$f":"Données!$H10","v":0},null,null,null,null,null,null,null,null,null,null,null,null,null,null,null,null,null,null,null,null,null,null,null,null,null,null,null,null,null,null,null,null,null,null,null,null,{"$f":"VLOOKUP($A13,BFevrier!$A$8:$AY$57,31,FALSE)","v":0},{"$f":"VLOOKUP($A13,BFevrier!$A$8:$AY$57,32,FALSE)","v":0},{"$f":"VLOOKUP($A13,BFevrier!$A$8:$AY$57,33,FALSE)","v":0},null,{"$f":"VLOOKUP($A13,BFevrier!$A$8:$AY$57,35,FALSE)","v":0},{"$f":"VLOOKUP($A13,Bilan!$A$8:$AY$57,35,FALSE)","v":0}]
[{"$f":"Données!$H11","v":0},null,null,null,null,null,null,null,null,null,null,null,null,null,null,null,null,null,null,null,null,null,null,null,null,null,null,null,null,null,null,null,null,null,null,null,null,{"$f":"VLOOKUP($A14,BFevrier!$A$8:$AY$57,31,FALSE)","v":0},{"$f":"VLOOKUP($A14,BFevrier!$A$8:$AY$57,32,FALSE)","v":0},{"$f":"VLOOKUP($A14,BFevrier!$A$8:$AY$57,33,FALSE)","v":0},null,{"$f":"VLOOKUP($A14,BFevrier!$A$8:$AY$57,35,FALSE)","v":0},{"$f":"VLOOKUP($A14,Bilan!$A$8:$AY$57,35,FALSE)","v":0}]
[{"$f":"Données!$H12","v":0},null,null,null,null,null,null,null,null,null,null,null,null,null,null,null,null,null,null,null,null,null,null,null,null,null,null,null,null,null,null,null,null,null,null,null,null,{"$f":"VLOOKUP($A15,BFevrier!$A$8:$AY$57,31,FALSE)","v":0},{"$f":"VLOOKUP($A15,BFevrier!$A$8:$AY$57,32,FALSE)","v":0},{"$f":"VLOOKUP($A15,BFevrier!$A$8:$AY$57,33,FALSE)","v":0},null,{"$f":"VLOOKUP($A15,BFevrier!$A$8:$AY$57,35,FALSE)","v":0},{"$f":"VLOOKUP($A15,Bilan!$A$8:$AY$57,35,FALSE)","v":0}]
[{"$f":"Données!$H13","v":0},null,null,null,null,null,null,null,null,null,null,null,null,null,null,null,null,null,null,null,null,null,null,null,null,null,null,null,null,null,null,null,null,null,null,null,null,{"$f":"VLOOKUP($A16,BFevrier!$A$8:$AY$57,31,FALSE)","v":0},{"$f":"VLOOKUP($A16,BFevrier!$A$8:$AY$57,32,FALSE)","v":0},{"$f":"VLOOKUP($A16,BFevrier!$A$8:$AY$57,33,FALSE)","v":0},null,{"$f":"VLOOKUP($A16,BFevrier!$A$8:$AY$57,35,FALSE)","v":0},{"$f":"VLOOKUP($A16,Bilan!$A$8:$AY$57,35,FALSE)","v":0}]
[{"$f":"Données!$H14","v":0},null,null,null,null,null,null,null,null,null,null,null,null,null,null,null,null,null,null,null,null,null,null,null,null,null,null,null,null,null,null,null,null,null,null,null,null,{"$f":"VLOOKUP($A17,BFevrier!$A$8:$AY$57,31,FALSE)","v":0},{"$f":"VLOOKUP($A17,BFevrier!$A$8:$AY$57,32,FALSE)","v":0},{"$f":"VLOOKUP($A17,BFevrier!$A$8:$AY$57,33,FALSE)","v":0},null,{"$f":"VLOOKUP($A17,BFevrier!$A$8:$AY$57,35,FALSE)","v":0},{"$f":"VLOOKUP($A17,Bilan!$A$8:$AY$57,35,FALSE)","v":0}]
[{"$f":"Données!$H15","v":0},null,null,null,null,null,null,null,null,null,null,null,null,null,null,null,null,null,null,null,null,null,null,null,null,null,null,null,null,null,null,null,null,null,null,null,null,{"$f":"VLOOKUP($A18,BFevrier!$A$8:$AY$57,31,FALSE)","v":0},{"$f":"VLOOKUP($A18,BFevrier!$A$8:$AY$57,32,FALSE)","v":0},{"$f":"VLOOKUP($A18,BFevrier!$A$8:$AY$57,33,FALSE)","v":0},null,{"$f":"VLOOKUP($A18,BFevrier!$A$8:$AY$57,35,FALSE)","v":0},{"$f":"VLOOKUP($A18,Bilan!$A$8:$AY$57,35,FALSE)","v":0}]
[{"$f":"Données!$H16","v":0},null,null,null,null,null,null,null,null,null,null,null,null,null,null,null,null,null,null,null,null,null,null,null,null,null,null,null,null,null,null,null,null,null,null,null,null,{"$f":"VLOOKUP($A19,BFevrier!$A$8:$AY$57,31,FALSE)","v":0},{"$f":"VLOOKUP($A19,BFevrier!$A$8:$AY$57,32,FALSE)","v":0},{"$f":"VLOOKUP($A19,BFevrier!$A$8:$AY$57,33,FALSE)","v":0},null,{"$f":"VLOOKUP($A19,BFevrier!$A$8:$AY$57,35,FALSE)","v":0},{"$f":"VLOOKUP($A19,Bilan!$A$8:$AY$57,35,FALSE)","v":0}]
[{"$f":"Données!$H17","v":0},null,null,null,null,null,null,null,null,null,null,null,null,null,null,null,null,null,null,null,null,null,null,null,null,null,null,null,null,null,null,null,null,null,null,null,null,{"$f":"VLOOKUP($A20,BFevrier!$A$8:$AY$57,31,FALSE)","v":0},{"$f":"VLOOKUP($A20,BFevrier!$A$8:$AY$57,32,FALSE)","v":0},{"$f":"VLOOKUP($A20,BFevrier!$A$8:$AY$57,33,FALSE)","v":0},null,{"$f":"VLOOKUP($A20,BFevrier!$A$8:$AY$57,35,FALSE)","v":0},{"$f":"VLOOKUP($A20,Bilan!$A$8:$AY$57,35,FALSE)","v":0}]
[{"$f":"Données!$H18","v":0},null,null,null,null,null,null,null,null,null,null,null,null,null,null,null,null,null,null,null,null,null,null,null,null,null,null,null,null,null,null,null,null,null,null,null,null,{"$f":"VLOOKUP($A21,BFevrier!$A$8:$AY$57,31,FALSE)","v":0},{"$f":"VLOOKUP($A21,BFevrier!$A$8:$AY$57,32,FALSE)","v":0},{"$f":"VLOOKUP($A21,BFevrier!$A$8:$AY$57,33,FALSE)","v":0},null,{"$f":"VLOOKUP($A21,BFevrier!$A$8:$AY$57,35,FALSE)","v":0},{"$f":"VLOOKUP($A21,Bilan!$A$8:$AY$57,35,FALSE)","v":0}]
[{"$f":"Données!$H19","v":0},null,null,null,null,null,null,null,null,null,null,null,null,null,null,null,null,null,null,null,null,null,null,null,null,null,null,null,null,null,null,null,null,null,null,null,null,{"$f":"VLOOKUP($A22,BFevrier!$A$8:$AY$57,31,FALSE)","v":0},{"$f":"VLOOKUP($A22,BFevrier!$A$8:$AY$57,32,FALSE)","v":0},{"$f":"VLOOKUP($A22,BFevrier!$A$8:$AY$57,33,FALSE)","v":0},null,{"$f":"VLOOKUP($A22,BFevrier!$A$8:$AY$57,35,FALSE)","v":0},{"$f":"VLOOKUP($A22,Bilan!$A$8:$AY$57,35,FALSE)","v":0}]
[{"$f":"Données!$H20","v":0},null,null,null,null,null,null,null,null,null,null,null,null,null,null,null,null,null,null,null,null,null,null,null,null,null,null,null,null,null,null,null,null,null,null,null,null,{"$f":"VLOOKUP($A23,BFevrier!$A$8:$AY$57,31,FALSE)","v":0},{"$f":"VLOOKUP($A23,BFevrier!$A$8:$AY$57,32,FALSE)","v":0},{"$f":"VLOOKUP($A23,BFevrier!$A$8:$AY$57,33,FALSE)","v":0},null,{"$f":"VLOOKUP($A23,BFevrier!$A$8:$AY$57,35,FALSE)","v":0},{"$f":"VLOOKUP($A23,Bilan!$A$8:$AY$57,35,FALSE)","v":0}]
[{"$f":"Données!$H21","v":0},null,null,null,null,null,null,null,null,null,null,null,null,null,null,null,null,null,null,null,null,null,null,null,null,null,null,null,null,null,null,null,null,null,null,null,null,{"$f":"VLOOKUP($A24,BFevrier!$A$8:$AY$57,31,FALSE)","v":0},{"$f":"VLOOKUP($A24,BFevrier!$A$8:$AY$57,32,FALSE)","v":0},{"$f":"VLOOKUP($A24,BFevrier!$A$8:$AY$57,33,FALSE)","v":0},null,{"$f":"VLOOKUP($A24,BFevrier!$A$8:$AY$57,35,FALSE)","v":0},{"$f":"VLOOKUP($A24,Bilan!$A$8:$AY$57,35,FALSE)","v":0}]
[{"$f":"Données!$H22","v":"Equipe de nuit"}]
[{"$f":"Données!$H23","v":"K"},null,null,null,null,null,null,null,null,null,null,null,null,null,null,null,null,null,null,null,null,null,null,null,null,null,null,null,null,null,null,null,null,null,null,null,null,{"$f":"VLOOKUP($A26,BFevrier!$A$8:$AY$57,31,FALSE)","v":0},{"$f":"VLOOKUP($A26,BFevrier!$A$8:$AY$57,32,FALSE)","v":0},{"$f":"VLOOKUP($A26,BFevrier!$A$8:$AY$57,33,FALSE)","v":0},null,{"$f":"VLOOKUP($A26,BFevrier!$A$8:$AY$57,35,FALSE)","v":0},{"$f":"VLOOKUP($A26,Bilan!$A$8:$AY$57,35,FALSE)","v":0}]
[{"$f":"Données!$H24","v":0},null,null,null,null,null,null,null,null,null,null,null,null,null,null,null,null,null,null,null,null,null,null,null,null,null,null,null,null,null,null,null,null,null,null,null,null,{"$f":"VLOOKUP($A27,BFevrier!$A$8:$AY$57,31,FALSE)","v":0},{"$f":"VLOOKUP($A27,BFevrier!$A$8:$AY$57,32,FALSE)","v":0},{"$f":"VLOOKUP($A27,BFevrier!$A$8:$AY$57,33,FALSE)","v":0},null,{"$f":"VLOOKUP($A27,BFevrier!$A$8:$AY$57,35,FALSE)","v":0},{"$f":"VLOOKUP($A27,Bilan!$A$8:$AY$57,35,FALSE)","v":0}]
[{"$f":"Données!$H25","v":0},null,null,null,null,null,null,null,null,null,null,null,null,null,null,null,null,null,null,null,null,null,null,null,null,null,null,null,null,null,null,null,null,null,null,null,null,{"$f":"VLOOKUP($A28,BFevrier!$A$8:$AY$57,31,FALSE)","v":0},{"$f":"VLOOKUP($A28,BFevrier!$A$8:$AY$57,32,FALSE)","v":0},{"$f":"VLOOKUP($A28,BFevrier!$A$8:$AY$57,33,FALSE)","v":0},null,{"$f":"VLOOKUP($A28,BFevrier!$A$8:$AY$57,35,FALSE)","v":0},{"$f":"VLOOKUP($A28,Bilan!$A$8:$AY$57,35,FALSE)","v":0}]
[{"$f":"Données!$H26","v":0},null,null,null,null,null,null,null,null,null,null,null,null,null,null,null,null,null,null,null,null,null,null,null,null,null,null,null,null,null,null,null,null,null,null,null,null,{"$f":"VLOOKUP($A29,BFevrier!$A$8:$AY$57,31,FALSE)","v":0},{"$f":"VLOOKUP($A29,BFevrier!$A$8:$AY$57,32,FALSE)","v":0},{"$f":"VLOOKUP($A29,BFevrier!$A$8:$AY$57,33,FALSE)","v":0},null,{"$f":"VLOOKUP($A29,BFevrier!$A$8:$AY$57,35,FALSE)","v":0},{"$f":"VLOOKUP($A29,Bilan!$A$8:$AY$57,35,FALSE)","v":0}]
[{"$f":"Données!$H27","v":0},null,null,null,null,null,null,null,null,null,null,null,null,null,null,null,null,null,null,null,null,null,null,null,null,null,null,null,null,null,null,null,null,null,null,null,null,{"$f":"VLOOKUP($A30,BFevrier!$A$8:$AY$57,31,FALSE)","v":0},{"$f":"VLOOKUP($A30,BFevrier!$A$8:$AY$57,32,FALSE)","v":0},{"$f":"VLOOKUP($A30,BFevrier!$A$8:$AY$57,33,FALSE)","v":0},null,{"$f":"VLOOKUP($A30,BFevrier!$A$8:$AY$57,35,FALSE)","v":0},{"$f":"VLOOKUP($A30,Bilan!$A$8:$AY$57,35,FALSE)","v":0}]
[{"$f":"Données!$H28","v":0},null,null,null,null,null,null,null,null,null,null,null,null,null,null,null,null,null,null,null,null,null,null,null,null,null,null,null,null,null,null,null,null,null,null,null,null,{"$f":"VLOOKUP($A31,BFevrier!$A$8:$AY$57,31,FALSE)","v":0},{"$f":"VLOOKUP($A31,BFevrier!$A$8:$AY$57,32,FALSE)","v":0},{"$f":"VLOOKUP($A31,BFevrier!$A$8:$AY$57,33,FALSE)","v":0},null,{"$f":"VLOOKUP($A31,BFevrier!$A$8:$AY$57,35,FALSE)","v":0},{"$f":"VLOOKUP($A31,Bilan!$A$8:$AY$57,35,FALSE)","v":0}]
[{"$f":"Données!$H29","v":0},null,null,null,null,null,null,null,null,null,null,null,null,null,null,null,null,null,null,null,null,null,null,null,null,null,null,null,null,null,null,null,null,null,null,null,null,{"$f":"VLOOKUP($A32,BFevrier!$A$8:$AY$57,31,FALSE)","v":0},{"$f":"VLOOKUP($A32,BFevrier!$A$8:$AY$57,32,FALSE)","v":0},{"$f":"VLOOKUP($A32,BFevrier!$A$8:$AY$57,33,FALSE)","v":0},null,{"$f":"VLOOKUP($A32,BFevrier!$A$8:$AY$57,35,FALSE)","v":0},{"$f":"VLOOKUP($A32,Bilan!$A$8:$AY$57,35,FALSE)","v":0}]
[{"$f":"Données!$H30","v":0},null,null,null,null,null,null,null,null,null,null,null,null,null,null,null,null,null,null,null,null,null,null,null,null,null,null,null,null,null,null,null,null,null,null,null,null,{"$f":"VLOOKUP($A33,BFevrier!$A$8:$AY$57,31,FALSE)","v":0},{"$f":"VLOOKUP($A33,BFevrier!$A$8:$AY$57,32,FALSE)","v":0},{"$f":"VLOOKUP($A33,BFevrier!$A$8:$AY$57,33,FALSE)","v":0},null,{"$f":"VLOOKUP($A33,BFevrier!$A$8:$AY$57,35,FALSE)","v":0},{"$f":"VLOOKUP($A33,Bilan!$A$8:$AY$57,35,FALSE)","v":0}]
[{"$f":"Données!$H31","v":0},null,null,null,null,null,null,null,null,null,null,null,null,null,null,null,null,null,null,null,null,null,null,null,null,null,null,null,null,null,null,null,null,null,null,null,null,{"$f":"VLOOKUP($A34,BFevrier!$A$8:$AY$57,31,FALSE)","v":0},{"$f":"VLOOKUP($A34,BFevrier!$A$8:$AY$57,32,FALSE)","v":0},{"$f":"VLOOKUP($A34,BFevrier!$A$8:$AY$57,33,FALSE)","v":0},null,{"$f":"VLOOKUP($A34,BFevrier!$A$8:$AY$57,35,FALSE)","v":0},{"$f":"VLOOKUP($A34,Bilan!$A$8:$AY$57,35,FALSE)","v":0}]
[{"$f":"Données!$H32","v":"Maitresse de maison"}]
[{"$f":"Données!$H33","v":"N"},null,null,null,null,null,null,null,null,null,null,null,null,null,null,null,null,null,null,null,null,null,null,null,null,null,null,null,null,null,null,null,null,null,null,null,null,{"$f":"VLOOKUP($A36,BFevrier!$A$8:$AY$57,31,FALSE)","v":0},{"$f":"VLOOKUP($A36,BFevrier!$A$8:$AY$57,32,FALSE)","v":0},{"$f":"VLOOKUP($A36,BFevrier!$A$8:$AY$57,33,FALSE)","v":0},null,{"$f":"VLOOKUP($A36,BFevrier!$A$8:$AY$57,35,FALSE)","v":0},{"$f":"VLOOKUP($A36,Bilan!$A$8:$AY$57,35,FALSE)","v":0}]
[{"$f":"Données!$H34","v":0},null,null,null,null,null,null,null,null,null,null,null,null,null,null,null,null,null,null,null,null,null,null,null,null,null,null,null,null,null,null,null,null,null,null,null,null,{"$f":"VLOOKUP($A37,BFevrier!$A$8:$AY$57,31,FALSE)","v":0},{"$f":"VLOOKUP($A37,BFevrier!$A$8:$AY$57,32,FALSE)","v":0},{"$f":"VLOOKUP($A37,BFevrier!$A$8:$AY$57,33,FALSE)","v":0},null,{"$f":"VLOOKUP($A37,BFevrier!$A$8:$AY$57,35,FALSE)","v":0},{"$f":"VLOOKUP($A37,Bilan!$A$8:$AY$57,35,FALSE)","v":0}]
[{"$f":"Données!$H35","v":0},null,null,null,null,null,null,null,null,null,null,null,null,null,null,null,null,null,null,null,null,null,null,null,null,null,null,null,null,null,null,null,null,null,null,null,null,{"$f":"VLOOKUP($A38,BFevrier!$A$8:$AY$57,31,FALSE)","v":0},{"$f":"VLOOKUP($A38,BFevrier!$A$8:$AY$57,32,FALSE)","v":0},{"$f":"VLOOKUP($A38,BFevrier!$A$8:$AY$57,33,FALSE)","v":0},null,{"$f":"VLOOKUP($A38,BFevrier!$A$8:$AY$57,35,FALSE)","v":0},{"$f":"VLOOKUP($A38,Bilan!$A$8:$AY$57,35,FALSE)","v":0}]
[{"$f":"Données!$H36","v":0},null,null,null,null,null,null,null,null,null,null,null,null,null,null,null,null,null,null,null,null,null,null,null,null,null,null,null,null,null,null,null,null,null,null,null,null,{"$f":"VLOOKUP($A39,BFevrier!$A$8:$AY$57,31,FALSE)","v":0},{"$f":"VLOOKUP($A39,BFevrier!$A$8:$AY$57,32,FALSE)","v":0},{"$f":"VLOOKUP($A39,BFevrier!$A$8:$AY$57,33,FALSE)","v":0},null,{"$f":"VLOOKUP($A39,BFevrier!$A$8:$AY$57,35,FALSE)","v":0},{"$f":"VLOOKUP($A39,Bilan!$A$8:$AY$57,35,FALSE)","v":0}]
[{"$f":"Données!$H37","v":0},null,null,null,null,null,null,null,null,null,null,null,null,null,null,null,null,null,null,null,null,null,null,null,null,null,null,null,null,null,null,null,null,null,null,null,null,{"$f":"VLOOKUP($A40,BFevrier!$A$8:$AY$57,31,FALSE)","v":0},{"$f":"VLOOKUP($A40,BFevrier!$A$8:$AY$57,32,FALSE)","v":0},{"$f":"VLOOKUP($A40,BFevrier!$A$8:$AY$57,33,FALSE)","v":0},null,{"$f":"VLOOKUP($A40,BFevrier!$A$8:$AY$57,35,FALSE)","v":0},{"$f":"VLOOKUP($A40,Bilan!$A$8:$AY$57,35,FALSE)","v":0}]
[{"$f":"Données!$H38","v":0},null,null,null,null,null,null,null,null,null,null,null,null,null,null,null,null,null,null,null,null,null,null,null,null,null,null,null,null,null,null,null,null,null,null,null,null,{"$f":"VLOOKUP($A41,BFevrier!$A$8:$AY$57,31,FALSE)","v":0},{"$f":"VLOOKUP($A41,BFevrier!$A$8:$AY$57,32,FALSE)","v":0},{"$f":"VLOOKUP($A41,BFevrier!$A$8:$AY$57,33,FALSE)","v":0},null,{"$f":"VLOOKUP($A41,BFevrier!$A$8:$AY$57,35,FALSE)","v":0},{"$f":"VLOOKUP($A41,Bilan!$A$8:$AY$57,35,FALSE)","v":0}]
[{"$f":"Données!$H39","v":0},null,null,null,null,null,null,null,null,null,null,null,null,null,null,null,null,null,null,null,null,null,null,null,null,null,null,null,null,null,null,null,null,null,null,null,null,{"$f":"VLOOKUP($A42,BFevrier!$A$8:$AY$57,31,FALSE)","v":0},{"$f":"VLOOKUP($A42,BFevrier!$A$8:$AY$57,32,FALSE)","v":0},{"$f":"VLOOKUP($A42,BFevrier!$A$8:$AY$57,33,FALSE)","v":0},null,{"$f":"VLOOKUP($A42,BFevrier!$A$8:$AY$57,35,FALSE)","v":0},{"$f":"VLOOKUP($A42,Bilan!$A$8:$AY$57,35,FALSE)","v":0}]
[{"$f":"Données!$H40","v":0},null,null,null,null,null,null,null,null,null,null,null,null,null,null,null,null,null,null,null,null,null,null,null,null,null,null,null,null,null,null,null,null,null,null,null,null,{"$f":"VLOOKUP($A43,BFevrier!$A$8:$AY$57,31,FALSE)","v":0},{"$f":"VLOOKUP($A43,BFevrier!$A$8:$AY$57,32,FALSE)","v":0},{"$f":"VLOOKUP($A43,BFevrier!$A$8:$AY$57,33,FALSE)","v":0},null,{"$f":"VLOOKUP($A43,BFevrier!$A$8:$AY$57,35,FALSE)","v":0},{"$f":"VLOOKUP($A43,Bilan!$A$8:$AY$57,35,FALSE)","v":0}]
[{"$f":"Données!$H41","v":0},null,null,null,null,null,null,null,null,null,null,null,null,null,null,null,null,null,null,null,null,null,null,null,null,null,null,null,null,null,null,null,null,null,null,null,null,{"$f":"VLOOKUP($A44,BFevrier!$A$8:$AY$57,31,FALSE)","v":0},{"$f":"VLOOKUP($A44,BFevrier!$A$8:$AY$57,32,FALSE)","v":0},{"$f":"VLOOKUP($A44,BFevrier!$A$8:$AY$57,33,FALSE)","v":0},null,{"$f":"VLOOKUP($A44,BFevrier!$A$8:$AY$57,35,FALSE)","v":0},{"$f":"VLOOKUP($A44,Bilan!$A$8:$AY$57,35,FALSE)","v":0}]
[{"$f":"Données!$H42","v":"Psychologue"}]
[{"$f":"Données!$H43","v":"O"},null,null,null,null,null,null,null,null,null,null,null,null,null,null,null,null,null,null,null,null,null,null,null,null,null,null,null,null,null,null,null,null,null,null,null,null,{"$f":"VLOOKUP($A46,BFevrier!$A$8:$AY$57,31,FALSE)","v":0},{"$f":"VLOOKUP($A46,BFevrier!$A$8:$AY$57,32,FALSE)","v":0},{"$f":"VLOOKUP($A46,BFevrier!$A$8:$AY$57,33,FALSE)","v":0},null,{"$f":"VLOOKUP($A46,BFevrier!$A$8:$AY$57,35,FALSE)","v":0},{"$f":"VLOOKUP($A46,Bilan!$A$8:$AY$57,35,FALSE)","v":0}]
[{"$f":"Données!$H44","v":0},null,null,null,null,null,null,null,null,null,null,null,null,null,null,null,null,null,null,null,null,null,null,null,null,null,null,null,null,null,null,null,null,null,null,null,null,{"$f":"VLOOKUP($A47,BFevrier!$A$8:$AY$57,31,FALSE)","v":0},{"$f":"VLOOKUP($A47,BFevrier!$A$8:$AY$57,32,FALSE)","v":0},{"$f":"VLOOKUP($A47,BFevrier!$A$8:$AY$57,33,FALSE)","v":0},null,{"$f":"VLOOKUP($A47,BFevrier!$A$8:$AY$57,35,FALSE)","v":0},{"$f":"VLOOKUP($A47,Bilan!$A$8:$AY$57,35,FALSE)","v":0}]
[{"$f":"Données!$H45","v":0},null,null,null,null,null,null,null,null,null,null,null,null,null,null,null,null,null,null,null,null,null,null,null,null,null,null,null,null,null,null,null,null,null,null,null,null,{"$f":"VLOOKUP($A48,BFevrier!$A$8:$AY$57,31,FALSE)","v":0},{"$f":"VLOOKUP($A48,BFevrier!$A$8:$AY$57,32,FALSE)","v":0},{"$f":"VLOOKUP($A48,BFevrier!$A$8:$AY$57,33,FALSE)","v":0},null,{"$f":"VLOOKUP($A48,BFevrier!$A$8:$AY$57,35,FALSE)","v":0},{"$f":"VLOOKUP($A48,Bilan!$A$8:$AY$57,35,FALSE)","v":0}]
[{"$f":"Données!$H46","v":"Coordinatrice"}]
[{"$f":"Données!$H47","v":"P"},null,null,null,null,null,null,null,null,null,null,null,null,null,null,null,null,null,null,null,null,null,null,null,null,null,null,null,null,null,null,null,null,null,null,null,null,{"$f":"VLOOKUP($A50,BFevrier!$A$8:$AY$57,31,FALSE)","v":0},{"$f":"VLOOKUP($A50,BFevrier!$A$8:$AY$57,32,FALSE)","v":0},{"$f":"VLOOKUP($A50,BFevrier!$A$8:$AY$57,33,FALSE)","v":0},null,{"$f":"VLOOKUP($A50,BFevrier!$A$8:$AY$57,35,FALSE)","v":0},{"$f":"VLOOKUP($A50,Bilan!$A$8:$AY$57,35,FALSE)","v":0}]
[{"$f":"Données!$H48","v":0},null,null,null,null,null,null,null,null,null,null,null,null,null,null,null,null,null,null,null,null,null,null,null,null,null,null,null,null,null,null,null,null,null,null,null,null,{"$f":"VLOOKUP($A51,BFevrier!$A$8:$AY$57,31,FALSE)","v":0},{"$f":"VLOOKUP($A51,BFevrier!$A$8:$AY$57,32,FALSE)","v":0},{"$f":"VLOOKUP($A51,BFevrier!$A$8:$AY$57,33,FALSE)","v":0},null,{"$f":"VLOOKUP($A51,BFevrier!$A$8:$AY$57,35,FALSE)","v":0},{"$f":"VLOOKUP($A51,Bilan!$A$8:$AY$57,35,FALSE)","v":0}]
[{"$f":"Données!$H49","v":0},null,null,null,null,null,null,null,null,null,null,null,null,null,null,null,null,null,null,null,null,null,null,null,null,null,null,null,null,null,null,null,null,null,null,null,null,{"$f":"VLOOKUP($A52,BFevrier!$A$8:$AY$57,31,FALSE)","v":0},{"$f":"VLOOKUP($A52,BFevrier!$A$8:$AY$57,32,FALSE)","v":0},{"$f":"VLOOKUP($A52,BFevrier!$A$8:$AY$57,33,FALSE)","v":0},null,{"$f":"VLOOKUP($A52,BFevrier!$A$8:$AY$57,35,FALSE)","v":0},{"$f":"VLOOKUP($A52,Bilan!$A$8:$AY$57,35,FALSE)","v":0}]
[{"$f":"Données!$H50","v":0},null,null,null,null,null,null,null,null,null,null,null,null,null,null,null,null,null,null,null,null,null,null,null,null,null,null,null,null,null,null,null,null,null,null,null,null,{"$f":"VLOOKUP($A53,BFevrier!$A$8:$AY$57,31,FALSE)","v":0},{"$f":"VLOOKUP($A53,BFevrier!$A$8:$AY$57,32,FALSE)","v":0},{"$f":"VLOOKUP($A53,BFevrier!$A$8:$AY$57,33,FALSE)","v":0},null,{"$f":"VLOOKUP($A53,BFevrier!$A$8:$AY$57,35,FALSE)","v":0},{"$f":"VLOOKUP($A53,Bilan!$A$8:$AY$57,35,FALSE)","v":0}]
[{"$f":"Données!$H51","v":0},null,null,null,null,null,null,null,null,null,null,null,null,null,null,null,null,null,null,null,null,null,null,null,null,null,null,null,null,null,null,null,null,null,null,null,null,{"$f":"VLOOKUP($A54,BFevrier!$A$8:$AY$57,31,FALSE)","v":0},{"$f":"VLOOKUP($A54,BFevrier!$A$8:$AY$57,32,FALSE)","v":0},{"$f":"VLOOKUP($A54,BFevrier!$A$8:$AY$57,33,FALSE)","v":0},null,{"$f":"VLOOKUP($A54,BFevrier!$A$8:$AY$57,35,FALSE)","v":0},{"$f":"VLOOKUP($A54,Bilan!$A$8:$AY$57,35,FALSE)","v":0}]
[{"$f":"Données!$H52","v":"Chef de service"}]
[{"$f":"Données!$H53","v":"Q"},null,null,null,null,null,null,null,null,null,null,null,null,null,null,null,null,null,null,null,null,null,null,null,null,null,null,null,null,null,null,null,null,null,null,null,null,{"$f":"VLOOKUP($A56,BFevrier!$A$8:$AY$57,31,FALSE)","v":0},{"$f":"VLOOKUP($A56,BFevrier!$A$8:$AY$57,32,FALSE)","v":0},{"$f":"VLOOKUP($A56,BFevrier!$A$8:$AY$57,33,FALSE)","v":0},null,{"$f":"VLOOKUP($A56,BFevrier!$A$8:$AY$57,35,FALSE)","v":0},{"$f":"VLOOKUP($A56,Bilan!$A$8:$AY$57,35,FALSE)","v":0}]
[]
[null,{"$f":"Données!$A3","v":"M"}," =",{"$f":"IF(ISBLANK(Données!$C3),TEXT(Données!$B3,\"hh:mm\"),TEXT(Données!$B3,\"hh:mm\")&\" : \"&TEXT(Données!$C3,\"hh:mm\"))","v":"07:00 : 14:35"},null,null,null,{"$f":"Données!$A7","v":"R"}," =",{"$f":"IF(ISBLANK(Données!$C7),TEXT(Données!$B7,\"hh:mm\"),TEXT(Données!$B7,\"hh:mm\")&\" : \"&TEXT(Données!$C7,\"hh:mm\"))","v":"10:00 : 12:00"},null,null,null,{"$f":"Données!$A10","v":"W"}," =",{"$f":"IF(ISBLANK(Données!$C10),TEXT(Données!$B10,\"hh:mm\"),TEXT(Données!$B10,\"hh:mm\")&\" : \"&TEXT(Données!$C10,\"hh:mm\"))","v":"07:30 : 19:15"},null,null,null,{"$f":"Données!$A14","v":"N"}," =",{"$f":"IF(ISBLANK(Données!$C14),TEXT(Données!$B14,\"hh:mm\"),TEXT(Données!$B14,\"hh:mm\")&\" : \"&TEXT(Données!$C14,\"hh:mm\"))","v":"20:30 : 07:15"},null,null,null,{"$f":"Données!$A18","v":"F"}," =",{"$f":"IF(ISBLANK(Données!$C18),TEXT(Données!$B18,\"hh:mm\"),TEXT(Données!$B18,\"hh:mm\")&\" : \"&TEXT(Données!$C18,\"hh:mm\"))","v":"F"}]
[null,{"$f":"Données!$A4","v":"MG"}," =",{"$f":"IF(ISBLANK(Données!$C4),TEXT(Données!$B4,\"hh:mm\"),TEXT(Données!$B4,\"hh:mm\")&\" : \"&TEXT(Données!$C4,\"hh:mm\"))","v":"23:00 : 01:35"},null,null,null,{"$f":"Données!$A8","v":"RS"}," =",{"$f":"IF(ISBLANK(Données!$C8),TEXT(Données!$B8,\"hh:mm\"),TEXT(Données!$B8,\"hh:mm\")&\" : \"&TEXT(Données!$C8,\"hh:mm\"))","v":"10:00 : 21:30"},null,null,null,{"$f":"Données!$A11","v":"W+"}," =",{"$f":"IF(ISBLANK(Données!$C11),TEXT(Données!$B11,\"hh:mm\"),TEXT(Données!$B11,\"hh:mm\")&\" : \"&TEXT(Données!$C11,\"hh:mm\"))","v":"10:00 : 21:30"},null,null,null,{"$f":"Données!$A15","v":"N+"}," =",{"$f":"IF(ISBLANK(Données!$C15),TEXT(Données!$B15,\"hh:mm\"),TEXT(Données!$B15,\"hh:mm\")&\" : \"&TEXT(Données!$C15,\"hh:mm\"))","v":"19:15 : 07:15"},null,null,null,{"$f":"Données!$A19","v":"SYN"}," =",{"$f":"IF(ISBLANK(Données!$C19),TEXT(Données!$B19,\"hh:mm\"),TEXT(Données!$B19,\"hh:mm\")&\" : \"&TEXT(Données!$C19,\"hh:mm\"))","v":"Syn"}]
[null,{"$f":"Données!$A5","v":"J"}," =",{"$f":"IF(ISBLANK(Données!$C5),TEXT(Données!$B5,\"hh:mm\"),TEXT(Données!$B5,\"hh:mm\")&\" : \"&TEXT(Données!$C5,\"hh:mm\"))","v":"10:00 : 17:30"},null,null,null,{"$f":"Données!$A9","v":"S"}," =",{"$f":"IF(ISBLANK(Données!$C9),TEXT(Données!$B9,\"hh:mm\"),TEXT(Données!$B9,\"hh:mm\")&\" : \"&TEXT(Données!$C9,\"hh:mm\"))","v":"14:00 : 21:30"},null,null,null,{"$f":"Données!$A12","v":"WD"}," =",{"$f":"IF(ISBLANK(Données!$C12),TEXT(Données!$B12,\"hh:mm\"),TEXT(Données!$B12,\"hh:mm\")&\" : \"&TEXT(Données!$C12,\"hh:mm\"))","v":"07:00 : 19:15"},null,null,null,{"$f":"Données!$A16","v":"NS"}," =",{"$f":"IF(ISBLANK(Données!$C16),TEXT(Données!$B16,\"hh:mm\"),TEXT(Données!$B16,\"hh:mm\")&\" : \"&TEXT(Données!$C16,\"hh:mm\"))","v":"19:15 : 07:15"},null,null,null,{"$f":"Données!$A20","v":"AT"}," =",{"$f":"IF(ISBLANK(Données!$C20),TEXT(Données!$B20,\"hh:mm\"),TEXT(Données!$B20,\"hh:mm\")&\" : \"&TEXT(Données!$C20,\"hh:mm\"))","v":"AT"}]
[null,{"$f":"Données!$A6","v":"J+"}," =",{"$f":"IF(ISBLANK(Données!$C6),TEXT(Données!$B6,\"hh:mm\"),TEXT(Données!$B6,\"hh:mm\")&\" : \"&TEXT(Données!$C6,\"hh:mm\"))","v":"11:30 : 19:15"},null,null,null,{"$f":"Données!$A10","v":"W"}," =",{"$f":"IF(ISBLANK(Données!$C10),TEXT(Données!$B10,\"hh:mm\"),TEXT(Données!$B10,\"hh:mm\")&\" : \"&TEXT(Données!$C10,\"hh:mm\"))","v":"07:30 : 19:15"},null,null,null,{"$f":"Données!$A13","v":"WF"}," =",{"$f":"IF(ISBLANK(Données!$C13),TEXT(Données!$B13,\"hh:mm\"),TEXT(Données!$B13,\"hh:mm\")&\" : \"&TEXT(Données!$C13,\"hh:mm\"))","v":"07:00 : 19:15"},null,null,null,{"$f":"Données!$A17","v":"T"}," =",{"$f":"IF(ISBLANK(Données!$C17),TEXT(Données!$B17,\"hh:mm\"),TEXT(Données!$B17,\"hh:mm\")&\" : \"&TEXT(Données!$C17,\"hh:mm\"))","v":"T"},null,null,null,{"$f":"Données!$A21","v":"AM"}," =",{"$f":"IF(ISBLANK(Données!$C21),TEXT(Données!$B21,\"hh:mm\"),TEXT(Données!$B21,\"hh:mm\")&\" : \"&TEXT(Données!$C21,\"hh:mm\"))","v":"AM"}]

{"sheet":"Mars","index":4,"n_rows":61,"n_cols":43,"rows_kept":61,"cut":false,"hidden":false,"merged":[[2,14,2,15]]}
[]
[null,{"$f":"DATE(An,Mars,B7)","v":"2018-03-01"},"2018-03-02","2018-03-03","2018-03-04","2018-03-05","2018-03-06","2018-03-07","2018-03-08","2018-03-09","2018-03-10","2018-03-11","2018-03-12","2018-03-13","2018-03-14","2018-03-15","2018-03-16","2018-03-17","2018-03-18","2018-03-19","2018-03-20","2018-03-21","2018-03-22","2018-03-23","2018-03-24","2018-03-25","2018-03-26","2018-03-27","2018-03-28","2018-03-29","2018-03-30","2018-03-31",null,null,"Pour remplir ","penser     ",null,null,null,null,{"$f":"IF(ISNUMBER(AO7),DATE(An,Mars,AO7),\"\")","v":""},{"$f":"IF(ISNUMBER(AP7),DATE(An,Mars,AP7),\"\")","v":""}]
[{"$f":"IF(Données!$L$5=\"\",\"Service\",Données!$L$5)","v":"Service"},null,null,null,null,null,null,null,null,null,"Mois de Mars ",null,null,null,{"$f":"An","v":2018},null,null,null,null,null,null,null,null,null,null,null,null,null,null,null,null,null,null,null,"à mettre dans le format:\n"]
[null,null,null,null,null,null,null,null,null,null,null,null,null,null,null,null,null,null,null,null,null,null,null,null,null,null,null,null,null,null,null,null,null,null," \"heures\":\"Minutes\" "]
[null,null,null,null,null,null,null,null,null,null,null,null,null,null,null,null,null,null,null,null,null,null,null,null,null,null,null,null,null,null,null,null,null,null,"Heures sup ","Heures sup ",null,"Indications","Indications","Indications",null,"Total"]
["Jours",{"$f":"PROPER(LEFT(TEXT(DATE(An,Mars,B7),\"jjj\"),1))","v":"J"},"V","S","D","L","M","M","J","V","S","D","L","M","M","J","V","S","D","L","M","M","J","V","S","D","L","M","M","J","V","S",null,null,"avant 21h","après 21h",null,"Heures","Heures nuit","Heures",null,"Heures","Heures"]
[null,{"$f":"A7+1","v":1},2,3,4,5,6,7,8,9,10,11,12,13,14,15,16,17,18,19,20,21,22,23,24,25,26,27,28,29,30,{"$f":"AE7+1","v":31},null,null,"A remplir","A remplir",null," Dimanche"," Dimanche","après 21h",null," au mois","  a l'année"]
["Equipe de jour"]
[{"$f":"Données!$H6","v":"A"},null,null,null,null,null,null,null,null,null,null,null,null,null,null,null,null,null,null,null,null,null,null,null,null,null,null,null,null,null,null,null,null,null,null,null,null,{"$f":"VLOOKUP($A9,BMars!$A$8:$AY$57,31,FALSE)","v":0},{"$f":"VLOOKUP($A9,BMars!$A$8:$AY$57,32,FALSE)","v":0},{"$f":"VLOOKUP($A9,BMars!$A$8:$AY$57,33,FALSE)","v":0},null,{"$f":"VLOOKUP($A9,BMars!$A$8:$AY$57,35,FALSE)","v":0},{"$f":"VLOOKUP($A9,Bilan!$A$8:$AY$57,35,FALSE)","v":0}]
[{"$f":"Données!$H7","v":0},null,null,null,null,null,null,null,null,null,null,null,null,null,null,null,null,null,null,null,null,null,null,null,null,null,null,null,null,null,null,null,null,null,null,null,null,{"$f":"VLOOKUP($A10,BMars!$A$8:$AY$57,31,FALSE)","v":0},{"$f":"VLOOKUP($A10,BMars!$A$8:$AY$57,32,FALSE)","v":0},{"$f":"VLOOKUP($A10,BMars!$A$8:$AY$57,33,FALSE)","v":0},null,{"$f":"VLOOKUP($A10,BMars!$A$8:$AY$57,35,FALSE)","v":0},{"$f":"VLOOKUP($A10,Bilan!$A$8:$AY$57,35,FALSE)","v":0}]
[{"$f":"Données!$H8","v":0},null,null,null,null,null,null,null,null,null,null,null,null,null,null,null,null,null,null,null,null,null,null,null,null,null,null,null,null,null,null,null,null,null,null,null,null,{"$f":"VLOOKUP($A11,BMars!$A$8:$AY$57,31,FALSE)","v":0},{"$f":"VLOOKUP($A11,BMars!$A$8:$AY$57,32,FALSE)","v":0},{"$f":"VLOOKUP($A11,BMars!$A$8:$AY$57,33,FALSE)","v":0},null,{"$f":"VLOOKUP($A11,BMars!$A$8:$AY$57,35,FALSE)","v":0},{"$f":"VLOOKUP($A11,Bilan!$A$8:$AY$57,35,FALSE)","v":0}]
[{"$f":"Données!$H9","v":0},null,null,null,null,null,null,null,null,null,null,null,null,null,null,null,null,null,null,null,null,null,null,null,null,null,null,null,null,null,null,null,null,null,null,null,null,{"$f":"VLOOKUP($A12,BMars!$A$8:$AY$57,31,FALSE)","v":0},{"$f":"VLOOKUP($A12,BMars!$A$8:$AY$57,32,FALSE)","v":0},{"$f":"VLOOKUP($A12,BMars!$A$8:$AY$57,33,FALSE)","v":0},null,{"$f":"VLOOKUP($A12,BMars!$A$8:$AY$57,35,FALSE)","v":0},{"$f":"VLOOKUP($A12,Bilan!$A$8:$AY$57,35,FALSE)","v":0}]
[{"$f":"Données!$H10","v":0},null,null,null,null,null,null,null,null,null,null,null,null,null,null,null,null,null,null,null,null,null,null,null,null,null,null,null,null,null,null,null,null,null,null,null,null,{"$f":"VLOOKUP($A13,BMars!$A$8:$AY$57,31,FALSE)","v":0},{"$f":"VLOOKUP($A13,BMars!$A$8:$AY$57,32,FALSE)","v":0},{"$f":"VLOOKUP($A13,BMars!$A$8:$AY$57,33,FALSE)","v":0},null,{"$f":"VLOOKUP($A13,BMars!$A$8:$AY$57,35,FALSE)","v":0},{"$f":"VLOOKUP($A13,Bilan!$A$8:$AY$57,35,FALSE)","v":0}]
[{"$f":"Données!$H11","v":0},null,null,null,null,null,null,null,null,null,null,null,null,null,null,null,null,null,null,null,null,null,null,null,null,null,null,null,null,null,null,null,null,null,null,null,null,{"$f":"VLOOKUP($A14,BMars!$A$8:$AY$57,31,FALSE)","v":0},{"$f":"VLOOKUP($A14,BMars!$A$8:$AY$57,32,FALSE)","v":0},{"$f":"VLOOKUP($A14,BMars!$A$8:$AY$57,33,FALSE)","v":0},null,{"$f":"VLOOKUP($A14,BMars!$A$8:$AY$57,35,FALSE)","v":0},{"$f":"VLOOKUP($A14,Bilan!$A$8:$AY$57,35,FALSE)","v":0}]
[{"$f":"Données!$H12","v":0},null,null,null,null,null,null,null,null,null,null,null,null,null,null,null,null,null,null,null,null,null,null,null,null,null,null,null,null,null,null,null,null,null,null,null,null,{"$f":"VLOOKUP($A15,BMars!$A$8:$AY$57,31,FALSE)","v":0},{"$f":"VLOOKUP($A15,BMars!$A$8:$AY$57,32,FALSE)","v":0},{"$f":"VLOOKUP($A15,BMars!$A$8:$AY$57,33,FALSE)","v":0},null,{"$f":"VLOOKUP($A15,BMars!$A$8:$AY$57,35,FALSE)","v":0},{"$f":"VLOOKUP($A15,Bilan!$A$8:$AY$57,35,FALSE)","v":0}]
[{"$f":"Données!$H13","v":0},null,null,null,null,null,null,null,null,null,null,null,null,null,null,null,null,null,null,null,null,null,null,null,null,null,null,null,null,null,null,null,null,null,null,null,null,{"$f":"VLOOKUP($A16,BMars!$A$8:$AY$57,31,FALSE)","v":0},{"$f":"VLOOKUP($A16,BMars!$A$8:$AY$57,32,FALSE)","v":0},{"$f":"VLOOKUP($A16,BMars!$A$8:$AY$57,33,FALSE)","v":0},null,{"$f":"VLOOKUP($A16,BMars!$A$8:$AY$57,35,FALSE)","v":0},{"$f":"VLOOKUP($A16,Bilan!$A$8:$AY$57,35,FALSE)","v":0}]
[{"$f":"Données!$H14","v":0},null,null,null,null,null,null,null,null,null,null,null,null,null,null,null,null,null,null,null,null,null,null,null,null,null,null,null,null,null,null,null,null,null,null,null,null,{"$f":"VLOOKUP($A17,BMars!$A$8:$AY$57,31,FALSE)","v":0},{"$f":"VLOOKUP($A17,BMars!$A$8:$AY$57,32,FALSE)","v":0},{"$f":"VLOOKUP($A17,BMars!$A$8:$AY$57,33,FALSE)","v":0},null,{"$f":"VLOOKUP($A17,BMars!$A$8:$AY$57,35,FALSE)","v":0},{"$f":"VLOOKUP($A17,Bilan!$A$8:$AY$57,35,FALSE)","v":0}]
[{"$f":"Données!$H15","v":0},null,null,null,null,null,null,null,null,null,null,null,null,null,null,null,null,null,null,null,null,null,null,null,null,null,null,null,null,null,null,null,null,null,null,null,null,{"$f":"VLOOKUP($A18,BMars!$A$8:$AY$57,31,FALSE)","v":0},{"$f":"VLOOKUP($A18,BMars!$A$8:$AY$57,32,FALSE)","v":0},{"$f":"VLOOKUP($A18,BMars!$A$8:$AY$57,33,FALSE)","v":0},null,{"$f":"VLOOKUP($A18,BMars!$A$8:$AY$57,35,FALSE)","v":0},{"$f":"VLOOKUP($A18,Bilan!$A$8:$AY$57,35,FALSE)","v":0}]
[{"$f":"Données!$H16","v":0},null,null,null,null,null,null,null,null,null,null,null,null,null,null,null,null,null,null,null,null,null,null,null,null,null,null,null,null,null,null,null,null,null,null,null,null,{"$f":"VLOOKUP($A19,BMars!$A$8:$AY$57,31,FALSE)","v":0},{"$f":"VLOOKUP($A19,BMars!$A$8:$AY$57,32,FALSE)","v":0},{"$f":"VLOOKUP($A19,BMars!$A$8:$AY$57,33,FALSE)","v":0},null,{"$f":"VLOOKUP($A19,BMars!$A$8:$AY$57,35,FALSE)","v":0},{"$f":"VLOOKUP($A19,Bilan!$A$8:$AY$57,35,FALSE)","v":0}]
[{"$f":"Données!$H17","v":0},null,null,null,null,null,null,null,null,null,null,null,null,null,null,null,null,null,null,null,null,null,null,null,null,null,null,null,null,null,null,null,null,null,null,null,null,{"$f":"VLOOKUP($A20,BMars!$A$8:$AY$57,31,FALSE)","v":0},{"$f":"VLOOKUP($A20,BMars!$A$8:$AY$57,32,FALSE)","v":0},{"$f":"VLOOKUP($A20,BMars!$A$8:$AY$57,33,FALSE)","v":0},null,{"$f":"VLOOKUP($A20,BMars!$A$8:$AY$57,35,FALSE)","v":0},{"$f":"VLOOKUP($A20,Bilan!$A$8:$AY$57,35,FALSE)","v":0}]
[{"$f":"Données!$H18","v":0},null,null,null,null,null,null,null,null,null,null,null,null,null,null,null,null,null,null,null,null,null,null,null,null,null,null,null,null,null,null,null,null,null,null,null,null,{"$f":"VLOOKUP($A21,BMars!$A$8:$AY$57,31,FALSE)","v":0},{"$f":"VLOOKUP($A21,BMars!$A$8:$AY$57,32,FALSE)","v":0},{"$f":"VLOOKUP($A21,BMars!$A$8:$AY$57,33,FALSE)","v":0},null,{"$f":"VLOOKUP($A21,BMars!$A$8:$AY$57,35,FALSE)","v":0},{"$f":"VLOOKUP($A21,Bilan!$A$8:$AY$57,35,FALSE)","v":0}]
[{"$f":"Données!$H19","v":0},null,null,null,null,null,null,null,null,null,null,null,null,null,null,null,null,null,null,null,null,null,null,null,null,null,null,null,null,null,null,null,null,null,null,null,null,{"$f":"VLOOKUP($A22,BMars!$A$8:$AY$57,31,FALSE)","v":0},{"$f":"VLOOKUP($A22,BMars!$A$8:$AY$57,32,FALSE)","v":0},{"$f":"VLOOKUP($A22,BMars!$A$8:$AY$57,33,FALSE)","v":0},null,{"$f":"VLOOKUP($A22,BMars!$A$8:$AY$57,35,FALSE)","v":0},{"$f":"VLOOKUP($A22,Bilan!$A$8:$AY$57,35,FALSE)","v":0}]
[{"$f":"Données!$H20","v":0},null,null,null,null,null,null,null,null,null,null,null,null,null,null,null,null,null,null,null,null,null,null,null,null,null,null,null,null,null,null,null,null,null,null,null,null,{"$f":"VLOOKUP($A23,BMars!$A$8:$AY$57,31,FALSE)","v":0},{"$f":"VLOOKUP($A23,BMars!$A$8:$AY$57,32,FALSE)","v":0},{"$f":"VLOOKUP($A23,BMars!$A$8:$AY$57,33,FALSE)","v":0},null,{"$f":"VLOOKUP($A23,BMars!$A$8:$AY$57,35,FALSE)","v":0},{"$f":"VLOOKUP($A23,Bilan!$A$8:$AY$57,35,FALSE)","v":0}]
[{"$f":"Données!$H21","v":0},null,null,null,null,null,null,null,null,null,null,null,null,null,null,null,null,null,null,null,null,null,null,null,null,null,null,null,null,null,null,null,null,null,null,null,null,{"$f":"VLOOKUP($A24,BMars!$A$8:$AY$57,31,FALSE)","v":0},{"$f":"VLOOKUP($A24,BMars!$A$8:$AY$57,32,FALSE)","v":0},{"$f":"VLOOKUP($A24,BMars!$A$8:$AY$57,33,FALSE)","v":0},null,{"$f":"VLOOKUP($A24,BMars!$A$8:$AY$57,35,FALSE)","v":0},{"$f":"VLOOKUP($A24,Bilan!$A$8:$AY$57,35,FALSE)","v":0}]
[{"$f":"Données!$H22","v":"Equipe de nuit"}]
[{"$f":"Données!$H23","v":"K"},null,null,null,null,null,null,null,null,null,null,null,null,null,null,null,null,null,null,null,null,null,null,null,null,null,null,null,null,null,null,null,null,null,null,null,null,{"$f":"VLOOKUP($A26,BMars!$A$8:$AY$57,31,FALSE)","v":0},{"$f":"VLOOKUP($A26,BMars!$A$8:$AY$57,32,FALSE)","v":0},{"$f":"VLOOKUP($A26,BMars!$A$8:$AY$57,33,FALSE)","v":0},null,{"$f":"VLOOKUP($A26,BMars!$A$8:$AY$57,35,FALSE)","v":0},{"$f":"VLOOKUP($A26,Bilan!$A$8:$AY$57,35,FALSE)","v":0}]
[{"$f":"Données!$H24","v":0},null,null,null,null,null,null,null,null,null,null,null,null,null,null,null,null,null,null,null,null,null,null,null,null,null,null,null,null,null,null,null,null,null,null,null,null,{"$f":"VLOOKUP($A27,BMars!$A$8:$AY$57,31,FALSE)","v":0},{"$f":"VLOOKUP($A27,BMars!$A$8:$AY$57,32,FALSE)","v":0},{"$f":"VLOOKUP($A27,BMars!$A$8:$AY$57,33,FALSE)","v":0},null,{"$f":"VLOOKUP($A27,BMars!$A$8:$AY$57,35,FALSE)","v":0},{"$f":"VLOOKUP($A27,Bilan!$A$8:$AY$57,35,FALSE)","v":0}]
[{"$f":"Données!$H25","v":0},null,null,null,null,null,null,null,null,null,null,null,null,null,null,null,null,null,null,null,null,null,null,null,null,null,null,null,null,null,null,null,null,null,null,null,null,{"$f":"VLOOKUP($A28,BMars!$A$8:$AY$57,31,FALSE)","v":0},{"$f":"VLOOKUP($A28,BMars!$A$8:$AY$57,32,FALSE)","v":0},{"$f":"VLOOKUP($A28,BMars!$A$8:$AY$57,33,FALSE)","v":0},null,{"$f":"VLOOKUP($A28,BMars!$A$8:$AY$57,35,FALSE)","v":0},{"$f":"VLOOKUP($A28,Bilan!$A$8:$AY$57,35,FALSE)","v":0}]
[{"$f":"Données!$H26","v":0},null,null,null,null,null,null,null,null,null,null,null,null,null,null,null,null,null,null,null,null,null,null,null,null,null,null,null,null,null,null,null,null,null,null,null,null,{"$f":"VLOOKUP($A29,BMars!$A$8:$AY$57,31,FALSE)","v":0},{"$f":"VLOOKUP($A29,BMars!$A$8:$AY$57,32,FALSE)","v":0},{"$f":"VLOOKUP($A29,BMars!$A$8:$AY$57,33,FALSE)","v":0},null,{"$f":"VLOOKUP($A29,BMars!$A$8:$AY$57,35,FALSE)","v":0},{"$f":"VLOOKUP($A29,Bilan!$A$8:$AY$57,35,FALSE)","v":0}]
[{"$f":"Données!$H27","v":0},null,null,null,null,null,null,null,null,null,null,null,null,null,null,null,null,null,null,null,null,null,null,null,null,null,null,null,null,null,null,null,null,null,null,null,null,{"$f":"VLOOKUP($A30,BMars!$A$8:$AY$57,31,FALSE)","v":0},{"$f":"VLOOKUP($A30,BMars!$A$8:$AY$57,32,FALSE)","v":0},{"$f":"VLOOKUP($A30,BMars!$A$8:$AY$57,33,FALSE)","v":0},null,{"$f":"VLOOKUP($A30,BMars!$A$8:$AY$57,35,FALSE)","v":0},{"$f":"VLOOKUP($A30,Bilan!$A$8:$AY$57,35,FALSE)","v":0}]
[{"$f":"Données!$H28","v":0},null,null,null,null,null,null,null,null,null,null,null,null,null,null,null,null,null,null,null,null,null,null,null,null,null,null,null,null,null,null,null,null,null,null,null,null,{"$f":"VLOOKUP($A31,BMars!$A$8:$AY$57,31,FALSE)","v":0},{"$f":"VLOOKUP($A31,BMars!$A$8:$AY$57,32,FALSE)","v":0},{"$f":"VLOOKUP($A31,BMars!$A$8:$AY$57,33,FALSE)","v":0},null,{"$f":"VLOOKUP($A31,BMars!$A$8:$AY$57,35,FALSE)","v":0},{"$f":"VLOOKUP($A31,Bilan!$A$8:$AY$57,35,FALSE)","v":0}]
[{"$f":"Données!$H29","v":0},null,null,null,null,null,null,null,null,null,null,null,null,null,null,null,null,null,null,null,null,null,null,null,null,null,null,null,null,null,null,null,null,null,null,null,null,{"$f":"VLOOKUP($A32,BMars!$A$8:$AY$57,31,FALSE)","v":0},{"$f":"VLOOKUP($A32,BMars!$A$8:$AY$57,32,FALSE)","v":0},{"$f":"VLOOKUP($A32,BMars!$A$8:$AY$57,33,FALSE)","v":0},null,{"$f":"VLOOKUP($A32,BMars!$A$8:$AY$57,35,FALSE)","v":0},{"$f":"VLOOKUP($A32,Bilan!$A$8:$AY$57,35,FALSE)","v":0}]
[{"$f":"Données!$H30","v":0},null,null,null,null,null,null,null,null,null,null,null,null,null,null,null,null,null,null,null,null,null,null,null,null,null,null,null,null,null,null,null,null,null,null,null,null,{"$f":"VLOOKUP($A33,BMars!$A$8:$AY$57,31,FALSE)","v":0},{"$f":"VLOOKUP($A33,BMars!$A$8:$AY$57,32,FALSE)","v":0},{"$f":"VLOOKUP($A33,BMars!$A$8:$AY$57,33,FALSE)","v":0},null,{"$f":"VLOOKUP($A33,BMars!$A$8:$AY$57,35,FALSE)","v":0},{"$f":"VLOOKUP($A33,Bilan!$A$8:$AY$57,35,FALSE)","v":0}]
[{"$f":"Données!$H31","v":0},null,null,null,null,null,null,null,null,null,null,null,null,null,null,null,null,null,null,null,null,null,null,null,null,null,null,null,null,null,null,null,null,null,null,null,null,{"$f":"VLOOKUP($A34,BMars!$A$8:$AY$57,31,FALSE)","v":0},{"$f":"VLOOKUP($A34,BMars!$A$8:$AY$57,32,FALSE)","v":0},{"$f":"VLOOKUP($A34,BMars!$A$8:$AY$57,33,FALSE)","v":0},null,{"$f":"VLOOKUP($A34,BMars!$A$8:$AY$57,35,FALSE)","v":0},{"$f":"VLOOKUP($A34,Bilan!$A$8:$AY$57,35,FALSE)","v":0}]
[{"$f":"Données!$H32","v":"Maitresse de maison"}]
[{"$f":"Données!$H33","v":"N"},null,null,null,null,null,null,null,null,null,null,null,null,null,null,null,null,null,null,null,null,null,null,null,null,null,null,null,null,null,null,null,null,null,null,null,null,{"$f":"VLOOKUP($A36,BMars!$A$8:$AY$57,31,FALSE)","v":0},{"$f":"VLOOKUP($A36,BMars!$A$8:$AY$57,32,FALSE)","v":0},{"$f":"VLOOKUP($A36,BMars!$A$8:$AY$57,33,FALSE)","v":0},null,{"$f":"VLOOKUP($A36,BMars!$A$8:$AY$57,35,FALSE)","v":0},{"$f":"VLOOKUP($A36,Bilan!$A$8:$AY$57,35,FALSE)","v":0}]
[{"$f":"Données!$H34","v":0},null,null,null,null,null,null,null,null,null,null,null,null,null,null,null,null,null,null,null,null,null,null,null,null,null,null,null,null,null,null,null,null,null,null,null,null,{"$f":"VLOOKUP($A37,BMars!$A$8:$AY$57,31,FALSE)","v":0},{"$f":"VLOOKUP($A37,BMars!$A$8:$AY$57,32,FALSE)","v":0},{"$f":"VLOOKUP($A37,BMars!$A$8:$AY$57,33,FALSE)","v":0},null,{"$f":"VLOOKUP($A37,BMars!$A$8:$AY$57,35,FALSE)","v":0},{"$f":"VLOOKUP($A37,Bilan!$A$8:$AY$57,35,FALSE)","v":0}]
[{"$f":"Données!$H35","v":0},null,null,null,null,null,null,null,null,null,null,null,null,null,null,null,null,null,null,null,null,null,null,null,null,null,null,null,null,null,null,null,null,null,null,null,null,{"$f":"VLOOKUP($A38,BMars!$A$8:$AY$57,31,FALSE)","v":0},{"$f":"VLOOKUP($A38,BMars!$A$8:$AY$57,32,FALSE)","v":0},{"$f":"VLOOKUP($A38,BMars!$A$8:$AY$57,33,FALSE)","v":0},null,{"$f":"VLOOKUP($A38,BMars!$A$8:$AY$57,35,FALSE)","v":0},{"$f":"VLOOKUP($A38,Bilan!$A$8:$AY$57,35,FALSE)","v":0}]
[{"$f":"Données!$H36","v":0},null,null,null,null,null,null,null,null,null,null,null,null,null,null,null,null,null,null,null,null,null,null,null,null,null,null,null,null,null,null,null,null,null,null,null,null,{"$f":"VLOOKUP($A39,BMars!$A$8:$AY$57,31,FALSE)","v":0},{"$f":"VLOOKUP($A39,BMars!$A$8:$AY$57,32,FALSE)","v":0},{"$f":"VLOOKUP($A39,BMars!$A$8:$AY$57,33,FALSE)","v":0},null,{"$f":"VLOOKUP($A39,BMars!$A$8:$AY$57,35,FALSE)","v":0},{"$f":"VLOOKUP($A39,Bilan!$A$8:$AY$57,35,FALSE)","v":0}]
[{"$f":"Données!$H37","v":0},null,null,null,null,null,null,null,null,null,null,null,null,null,null,null,null,null,null,null,null,null,null,null,null,null,null,null,null,null,null,null,null,null,null,null,null,{"$f":"VLOOKUP($A40,BMars!$A$8:$AY$57,31,FALSE)","v":0},{"$f":"VLOOKUP($A40,BMars!$A$8:$AY$57,32,FALSE)","v":0},{"$f":"VLOOKUP($A40,BMars!$A$8:$AY$57,33,FALSE)","v":0},null,{"$f":"VLOOKUP($A40,BMars!$A$8:$AY$57,35,FALSE)","v":0},{"$f":"VLOOKUP($A40,Bilan!$A$8:$AY$57,35,FALSE)","v":0}]
[{"$f":"Données!$H38","v":0},null,null,null,null,null,null,null,null,null,null,null,null,null,null,null,null,null,null,null,null,null,null,null,null,null,null,null,null,null,null,null,null,null,null,null,null,{"$f":"VLOOKUP($A41,BMars!$A$8:$AY$57,31,FALSE)","v":0},{"$f":"VLOOKUP($A41,BMars!$A$8:$AY$57,32,FALSE)","v":0},{"$f":"VLOOKUP($A41,BMars!$A$8:$AY$57,33,FALSE)","v":0},null,{"$f":"VLOOKUP($A41,BMars!$A$8:$AY$57,35,FALSE)","v":0},{"$f":"VLOOKUP($A41,Bilan!$A$8:$AY$57,35,FALSE)","v":0}]
[{"$f":"Données!$H39","v":0},null,null,null,null,null,null,null,null,null,null,null,null,null,null,null,null,null,null,null,null,null,null,null,null,null,null,null,null,null,null,null,null,null,null,null,null,{"$f":"VLOOKUP($A42,BMars!$A$8:$AY$57,31,FALSE)","v":0},{"$f":"VLOOKUP($A42,BMars!$A$8:$AY$57,32,FALSE)","v":0},{"$f":"VLOOKUP($A42,BMars!$A$8:$AY$57,33,FALSE)","v":0},null,{"$f":"VLOOKUP($A42,BMars!$A$8:$AY$57,35,FALSE)","v":0},{"$f":"VLOOKUP($A42,Bilan!$A$8:$AY$57,35,FALSE)","v":0}]
[{"$f":"Données!$H40","v":0},null,null,null,null,null,null,null,null,null,null,null,null,null,null,null,null,null,null,null,null,null,null,null,null,null,null,null,null,null,null,null,null,null,null,null,null,{"$f":"VLOOKUP($A43,BMars!$A$8:$AY$57,31,FALSE)","v":0},{"$f":"VLOOKUP($A43,BMars!$A$8:$AY$57,32,FALSE)","v":0},{"$f":"VLOOKUP($A43,BMars!$A$8:$AY$57,33,FALSE)","v":0},null,{"$f":"VLOOKUP($A43,BMars!$A$8:$AY$57,35,FALSE)","v":0},{"$f":"VLOOKUP($A43,Bilan!$A$8:$AY$57,35,FALSE)","v":0}]
[{"$f":"Données!$H41","v":0},null,null,null,null,null,null,null,null,null,null,null,null,null,null,null,null,null,null,null,null,null,null,null,null,null,null,null,null,null,null,null,null,null,null,null,null,{"$f":"VLOOKUP($A44,BMars!$A$8:$AY$57,31,FALSE)","v":0},{"$f":"VLOOKUP($A44,BMars!$A$8:$AY$57,32,FALSE)","v":0},{"$f":"VLOOKUP($A44,BMars!$A$8:$AY$57,33,FALSE)","v":0},null,{"$f":"VLOOKUP($A44,BMars!$A$8:$AY$57,35,FALSE)","v":0},{"$f":"VLOOKUP($A44,Bilan!$A$8:$AY$57,35,FALSE)","v":0}]
[{"$f":"Données!$H42","v":"Psychologue"}]
[{"$f":"Données!$H43","v":"O"},null,null,null,null,null,null,null,null,null,null,null,null,null,null,null,null,null,null,null,null,null,null,null,null,null,null,null,null,null,null,null,null,null,null,null,null,{"$f":"VLOOKUP($A46,BMars!$A$8:$AY$57,31,FALSE)","v":0},{"$f":"VLOOKUP($A46,BMars!$A$8:$AY$57,32,FALSE)","v":0},{"$f":"VLOOKUP($A46,BMars!$A$8:$AY$57,33,FALSE)","v":0},null,{"$f":"VLOOKUP($A46,BMars!$A$8:$AY$57,35,FALSE)","v":0},{"$f":"VLOOKUP($A46,Bilan!$A$8:$AY$57,35,FALSE)","v":0}]
[{"$f":"Données!$H44","v":0},null,null,null,null,null,null,null,null,null,null,null,null,null,null,null,null,null,null,null,null,null,null,null,null,null,null,null,null,null,null,null,null,null,null,null,null,{"$f":"VLOOKUP($A47,BMars!$A$8:$AY$57,31,FALSE)","v":0},{"$f":"VLOOKUP($A47,BMars!$A$8:$AY$57,32,FALSE)","v":0},{"$f":"VLOOKUP($A47,BMars!$A$8:$AY$57,33,FALSE)","v":0},null,{"$f":"VLOOKUP($A47,BMars!$A$8:$AY$57,35,FALSE)","v":0},{"$f":"VLOOKUP($A47,Bilan!$A$8:$AY$57,35,FALSE)","v":0}]
[{"$f":"Données!$H45","v":0},null,null,null,null,null,null,null,null,null,null,null,null,null,null,null,null,null,null,null,null,null,null,null,null,null,null,null,null,null,null,null,null,null,null,null,null,{"$f":"VLOOKUP($A48,BMars!$A$8:$AY$57,31,FALSE)","v":0},{"$f":"VLOOKUP($A48,BMars!$A$8:$AY$57,32,FALSE)","v":0},{"$f":"VLOOKUP($A48,BMars!$A$8:$AY$57,33,FALSE)","v":0},null,{"$f":"VLOOKUP($A48,BMars!$A$8:$AY$57,35,FALSE)","v":0},{"$f":"VLOOKUP($A48,Bilan!$A$8:$AY$57,35,FALSE)","v":0}]
[{"$f":"Données!$H46","v":"Coordinatrice"}]
[{"$f":"Données!$H47","v":"P"},null,null,null,null,null,null,null,null,null,null,null,null,null,null,null,null,null,null,null,null,null,null,null,null,null,null,null,null,null,null,null,null,null,null,null,null,{"$f":"VLOOKUP($A50,BMars!$A$8:$AY$57,31,FALSE)","v":0},{"$f":"VLOOKUP($A50,BMars!$A$8:$AY$57,32,FALSE)","v":0},{"$f":"VLOOKUP($A50,BMars!$A$8:$AY$57,33,FALSE)","v":0},null,{"$f":"VLOOKUP($A50,BMars!$A$8:$AY$57,35,FALSE)","v":0},{"$f":"VLOOKUP($A50,Bilan!$A$8:$AY$57,35,FALSE)","v":0}]
[{"$f":"Données!$H48","v":0},null,null,null,null,null,null,null,null,null,null,null,null,null,null,null,null,null,null,null,null,null,null,null,null,null,null,null,null,null,null,null,null,null,null,null,null,{"$f":"VLOOKUP($A51,BMars!$A$8:$AY$57,31,FALSE)","v":0},{"$f":"VLOOKUP($A51,BMars!$A$8:$AY$57,32,FALSE)","v":0},{"$f":"VLOOKUP($A51,BMars!$A$8:$AY$57,33,FALSE)","v":0},null,{"$f":"VLOOKUP($A51,BMars!$A$8:$AY$57,35,FALSE)","v":0},{"$f":"VLOOKUP($A51,Bilan!$A$8:$AY$57,35,FALSE)","v":0}]
[{"$f":"Données!$H49","v":0},null,null,null,null,null,null,null,null,null,null,null,null,null,null,null,null,null,null,null,null,null,null,null,null,null,null,null,null,null,null,null,null,null,null,null,null,{"$f":"VLOOKUP($A52,BMars!$A$8:$AY$57,31,FALSE)","v":0},{"$f":"VLOOKUP($A52,BMars!$A$8:$AY$57,32,FALSE)","v":0},{"$f":"VLOOKUP($A52,BMars!$A$8:$AY$57,33,FALSE)","v":0},null,{"$f":"VLOOKUP($A52,BMars!$A$8:$AY$57,35,FALSE)","v":0},{"$f":"VLOOKUP($A52,Bilan!$A$8:$AY$57,35,FALSE)","v":0}]
[{"$f":"Données!$H50","v":0},null,null,null,null,null,null,null,null,null,null,null,null,null,null,null,null,null,null,null,null,null,null,null,null,null,null,null,null,null,null,null,null,null,null,null,null,{"$f":"VLOOKUP($A53,BMars!$A$8:$AY$57,31,FALSE)","v":0},{"$f":"VLOOKUP($A53,BMars!$A$8:$AY$57,32,FALSE)","v":0},{"$f":"VLOOKUP($A53,BMars!$A$8:$AY$57,33,FALSE)","v":0},null,{"$f":"VLOOKUP($A53,BMars!$A$8:$AY$57,35,FALSE)","v":0},{"$f":"VLOOKUP($A53,Bilan!$A$8:$AY$57,35,FALSE)","v":0}]
[{"$f":"Données!$H51","v":0},null,null,null,null,null,null,null,null,null,null,null,null,null,null,null,null,null,null,null,null,null,null,null,null,null,null,null,null,null,null,null,null,null,null,null,null,{"$f":"VLOOKUP($A54,BMars!$A$8:$AY$57,31,FALSE)","v":0},{"$f":"VLOOKUP($A54,BMars!$A$8:$AY$57,32,FALSE)","v":0},{"$f":"VLOOKUP($A54,BMars!$A$8:$AY$57,33,FALSE)","v":0},null,{"$f":"VLOOKUP($A54,BMars!$A$8:$AY$57,35,FALSE)","v":0},{"$f":"VLOOKUP($A54,Bilan!$A$8:$AY$57,35,FALSE)","v":0}]
[{"$f":"Données!$H52","v":"Chef de service"}]
[{"$f":"Données!$H53","v":"Q"},null,null,null,null,null,null,null,null,null,null,null,null,null,null,null,null,null,null,null,null,null,null,null,null,null,null,null,null,null,null,null,null,null,null,null,null,{"$f":"VLOOKUP($A56,BMars!$A$8:$AY$57,31,FALSE)","v":0},{"$f":"VLOOKUP($A56,BMars!$A$8:$AY$57,32,FALSE)","v":0},{"$f":"VLOOKUP($A56,BMars!$A$8:$AY$57,33,FALSE)","v":0},null,{"$f":"VLOOKUP($A56,BMars!$A$8:$AY$57,35,FALSE)","v":0},{"$f":"VLOOKUP($A56,Bilan!$A$8:$AY$57,35,FALSE)","v":0}]
[]
[null,{"$f":"Données!$A3","v":"M"}," =",{"$f":"IF(ISBLANK(Données!$C3),TEXT(Données!$B3,\"hh:mm\"),TEXT(Données!$B3,\"hh:mm\")&\" : \"&TEXT(Données!$C3,\"hh:mm\"))","v":"07:00 : 14:35"},null,null,null,{"$f":"Données!$A7","v":"R"}," =",{"$f":"IF(ISBLANK(Données!$C7),TEXT(Données!$B7,\"hh:mm\"),TEXT(Données!$B7,\"hh:mm\")&\" : \"&TEXT(Données!$C7,\"hh:mm\"))","v":"10:00 : 12:00"},null,null,null,{"$f":"Données!$A10","v":"W"}," =",{"$f":"IF(ISBLANK(Données!$C10),TEXT(Données!$B10,\"hh:mm\"),TEXT(Données!$B10,\"hh:mm\")&\" : \"&TEXT(Données!$C10,\"hh:mm\"))","v":"07:30 : 19:15"},null,null,null,{"$f":"Données!$A14","v":"N"}," =",{"$f":"IF(ISBLANK(Données!$C14),TEXT(Données!$B14,\"hh:mm\"),TEXT(Données!$B14,\"hh:mm\")&\" : \"&TEXT(Données!$C14,\"hh:mm\"))","v":"20:30 : 07:15"},null,null,null,{"$f":"Données!$A18","v":"F"}," =",{"$f":"IF(ISBLANK(Données!$C18),TEXT(Données!$B18,\"hh:mm\"),TEXT(Données!$B18,\"hh:mm\")&\" : \"&TEXT(Données!$C18,\"hh:mm\"))","v":"F"}]
[null,{"$f":"Données!$A4","v":"MG"}," =",{"$f":"IF(ISBLANK(Données!$C4),TEXT(Données!$B4,\"hh:mm\"),TEXT(Données!$B4,\"hh:mm\")&\" : \"&TEXT(Données!$C4,\"hh:mm\"))","v":"23:00 : 01:35"},null,null,null,{"$f":"Données!$A8","v":"RS"}," =",{"$f":"IF(ISBLANK(Données!$C8),TEXT(Données!$B8,\"hh:mm\"),TEXT(Données!$B8,\"hh:mm\")&\" : \"&TEXT(Données!$C8,\"hh:mm\"))","v":"10:00 : 21:30"},null,null,null,{"$f":"Données!$A11","v":"W+"}," =",{"$f":"IF(ISBLANK(Données!$C11),TEXT(Données!$B11,\"hh:mm\"),TEXT(Données!$B11,\"hh:mm\")&\" : \"&TEXT(Données!$C11,\"hh:mm\"))","v":"10:00 : 21:30"},null,null,null,{"$f":"Données!$A15","v":"N+"}," =",{"$f":"IF(ISBLANK(Données!$C15),TEXT(Données!$B15,\"hh:mm\"),TEXT(Données!$B15,\"hh:mm\")&\" : \"&TEXT(Données!$C15,\"hh:mm\"))","v":"19:15 : 07:15"},null,null,null,{"$f":"Données!$A19","v":"SYN"}," =",{"$f":"IF(ISBLANK(Données!$C19),TEXT(Données!$B19,\"hh:mm\"),TEXT(Données!$B19,\"hh:mm\")&\" : \"&TEXT(Données!$C19,\"hh:mm\"))","v":"Syn"}]
[null,{"$f":"Données!$A5","v":"J"}," =",{"$f":"IF(ISBLANK(Données!$C5),TEXT(Données!$B5,\"hh:mm\"),TEXT(Données!$B5,\"hh:mm\")&\" : \"&TEXT(Données!$C5,\"hh:mm\"))","v":"10:00 : 17:30"},null,null,null,{"$f":"Données!$A9","v":"S"}," =",{"$f":"IF(ISBLANK(Données!$C9),TEXT(Données!$B9,\"hh:mm\"),TEXT(Données!$B9,\"hh:mm\")&\" : \"&TEXT(Données!$C9,\"hh:mm\"))","v":"14:00 : 21:30"},null,null,null,{"$f":"Données!$A12","v":"WD"}," =",{"$f":"IF(ISBLANK(Données!$C12),TEXT(Données!$B12,\"hh:mm\"),TEXT(Données!$B12,\"hh:mm\")&\" : \"&TEXT(Données!$C12,\"hh:mm\"))","v":"07:00 : 19:15"},null,null,null,{"$f":"Données!$A16","v":"NS"}," =",{"$f":"IF(ISBLANK(Données!$C16),TEXT(Données!$B16,\"hh:mm\"),TEXT(Données!$B16,\"hh:mm\")&\" : \"&TEXT(Données!$C16,\"hh:mm\"))","v":"19:15 : 07:15"},null,null,null,{"$f":"Données!$A20","v":"AT"}," =",{"$f":"IF(ISBLANK(Données!$C20),TEXT(Données!$B20,\"hh:mm\"),TEXT(Données!$B20,\"hh:mm\")&\" : \"&TEXT(Données!$C20,\"hh:mm\"))","v":"AT"}]
[null,{"$f":"Données!$A6","v":"J+"}," =",{"$f":"IF(ISBLANK(Données!$C6),TEXT(Données!$B6,\"hh:mm\"),TEXT(Données!$B6,\"hh:mm\")&\" : \"&TEXT(Données!$C6,\"hh:mm\"))","v":"11:30 : 19:15"},null,null,null,{"$f":"Données!$A10","v":"W"}," =",{"$f":"IF(ISBLANK(Données!$C10),TEXT(Données!$B10,\"hh:mm\"),TEXT(Données!$B10,\"hh:mm\")&\" : \"&TEXT(Données!$C10,\"hh:mm\"))","v":"07:30 : 19:15"},null,null,null,{"$f":"Données!$A13","v":"WF"}," =",{"$f":"IF(ISBLANK(Données!$C13),TEXT(Données!$B13,\"hh:mm\"),TEXT(Données!$B13,\"hh:mm\")&\" : \"&TEXT(Données!$C13,\"hh:mm\"))","v":"07:00 : 19:15"},null,null,null,{"$f":"Données!$A17","v":"T"}," =",{"$f":"IF(ISBLANK(Données!$C17),TEXT(Données!$B17,\"hh:mm\"),TEXT(Données!$B17,\"hh:mm\")&\" : \"&TEXT(Données!$C17,\"hh:mm\"))","v":"T"},null,null,null,{"$f":"Données!$A21","v":"AM"}," =",{"$f":"IF(ISBLANK(Données!$C21),TEXT(Données!$B21,\"hh:mm\"),TEXT(Données!$B21,\"hh:mm\")&\" : \"&TEXT(Données!$C21,\"hh:mm\"))","v":"AM"}]

{"sheet":"Avril","index":5,"n_rows":61,"n_cols":43,"rows_kept":61,"cut":false,"hidden":false,"merged":[[2,14,2,15]]}
[]
[null,{"$f":"DATE(An,Avril,B7)","v":"2018-04-01"},"2018-04-02","2018-04-03","2018-04-04","2018-04-05","2018-04-06","2018-04-07","2018-04-08","2018-04-09","2018-04-10","2018-04-11","2018-04-12","2018-04-13","2018-04-14","2018-04-15","2018-04-16","2018-04-17","2018-04-18","2018-04-19","2018-04-20","2018-04-21","2018-04-22","2018-04-23","2018-04-24","2018-04-25","2018-04-26","2018-04-27","2018-04-28","2018-04-29","2018-04-30",null,null,null,"Pour remplir ","penser     ",null,null,null,null,{"$f":"IF(ISNUMBER(AO7),DATE(An,Avril,AO7),\"\")","v":""},{"$f":"IF(ISNUMBER(AP7),DATE(An,Avril,AP7),\"\")","v":""}]
[{"$f":"IF(Données!$L$5=\"\",\"Service\",Données!$L$5)","v":"Service"},null,null,null,null,null,null,null,null,null,"Mois d'Avril ",null,null,null,{"$f":"An","v":2018},null,null,null,null,null,null,null,null,null,null,null,null,null,null,null,null,null,null,null,"à mettre dans le format:\n"]
[null,null,null,null,null,null,null,null,null,null,null,null,null,null,null,null,null,null,null,null,null,null,null,null,null,null,null,null,null,null,null,null,null,null," \"heures\":\"Minutes\" "]
[null,null,null,null,null,null,null,null,null,null,null,null,null,null,null,null,null,null,null,null,null,null,null,null,null,null,null,null,null,null,null,null,null,null,"Heures sup ","Heures sup ",null,"Indications","Indications","Indications",null,"Total"]
["Jours",{"$f":"PROPER(LEFT(TEXT(DATE(An,Avril,B7),\"jjj\"),1))","v":"D"},"L","M","M","J","V","S","D","L","M","M","J","V","S","D","L","M","M","J","V","S","D","L","M","M","J","V","S","D","L",null,null,null,"avant 21h","après 21h",null,"Heures","Heures nuit","Heures",null,"Heures","Heures"]
[null,{"$f":"A7+1","v":1},2,3,4,5,6,7,8,9,10,11,12,13,14,15,16,17,18,19,20,21,22,23,24,25,26,27,28,29,30,null,null,null,"A remplir","A remplir",null," Dimanche"," Dimanche","après 21h",null," au mois","  a l'année"]
["Equipe de jour"]
[{"$f":"Données!$H6","v":"A"},null,null,null,null,null,null,null,null,null,null,null,null,null,null,null,null,null,null,null,null,null,null,null,null,null,null,null,null,null,null,null,null,null,null,null,null,{"$f":"VLOOKUP($A9,BAvril!$A$8:$AY$57,31,FALSE)","v":0},{"$f":"VLOOKUP($A9,BAvril!$A$8:$AY$57,32,FALSE)","v":0},{"$f":"VLOOKUP($A9,BAvril!$A$8:$AY$57,33,FALSE)","v":0},null,{"$f":"VLOOKUP($A9,BAvril!$A$8:$AY$57,35,FALSE)","v":0},{"$f":"VLOOKUP($A9,Bilan!$A$8:$AY$57,35,FALSE)","v":0}]
[{"$f":"Données!$H7","v":0},null,null,null,null,null,null,null,null,null,null,null,null,null,null,null,null,null,null,null,null,null,null,null,null,null,null,null,null,null,null,null,null,null,null,null,null,{"$f":"VLOOKUP($A10,BAvril!$A$8:$AY$57,31,FALSE)","v":0},{"$f":"VLOOKUP($A10,BAvril!$A$8:$AY$57,32,FALSE)","v":0},{"$f":"VLOOKUP($A10,BAvril!$A$8:$AY$57,33,FALSE)","v":0},null,{"$f":"VLOOKUP($A10,BAvril!$A$8:$AY$57,35,FALSE)","v":0},{"$f":"VLOOKUP($A10,Bilan!$A$8:$AY$57,35,FALSE)","v":0}]
[{"$f":"Données!$H8","v":0},null,null,null,null,null,null,null,null,null,null,null,null,null,null,null,null,null,null,null,null,null,null,null,null,null,null,null,null,null,null,null,null,null,null,null,null,{"$f":"VLOOKUP($A11,BAvril!$A$8:$AY$57,31,FALSE)","v":0},{"$f":"VLOOKUP($A11,BAvril!$A$8:$AY$57,32,FALSE)","v":0},{"$f":"VLOOKUP($A11,BAvril!$A$8:$AY$57,33,FALSE)","v":0},null,{"$f":"VLOOKUP($A11,BAvril!$A$8:$AY$57,35,FALSE)","v":0},{"$f":"VLOOKUP($A11,Bilan!$A$8:$AY$57,35,FALSE)","v":0}]
[{"$f":"Données!$H9","v":0},null,null,null,null,null,null,null,null,null,null,null,null,null,null,null,null,null,null,null,null,null,null,null,null,null,null,null,null,null,null,null,null,null,null,null,null,{"$f":"VLOOKUP($A12,BAvril!$A$8:$AY$57,31,FALSE)","v":0},{"$f":"VLOOKUP($A12,BAvril!$A$8:$AY$57,32,FALSE)","v":0},{"$f":"VLOOKUP($A12,BAvril!$A$8:$AY$57,33,FALSE)","v":0},null,{"$f":"VLOOKUP($A12,BAvril!$A$8:$AY$57,35,FALSE)","v":0},{"$f":"VLOOKUP($A12,Bilan!$A$8:$AY$57,35,FALSE)","v":0}]
[{"$f":"Données!$H10","v":0},null,null,null,null,null,null,null,null,null,null,null,null,null,null,null,null,null,null,null,null,null,null,null,null,null,null,null,null,null,null,null,null,null,null,null,null,{"$f":"VLOOKUP($A13,BAvril!$A$8:$AY$57,31,FALSE)","v":0},{"$f":"VLOOKUP($A13,BAvril!$A$8:$AY$57,32,FALSE)","v":0},{"$f":"VLOOKUP($A13,BAvril!$A$8:$AY$57,33,FALSE)","v":0},null,{"$f":"VLOOKUP($A13,BAvril!$A$8:$AY$57,35,FALSE)","v":0},{"$f":"VLOOKUP($A13,Bilan!$A$8:$AY$57,35,FALSE)","v":0}]
[{"$f":"Données!$H11","v":0},null,null,null,null,null,null,null,null,null,null,null,null,null,null,null,null,null,null,null,null,null,null,null,null,null,null,null,null,null,null,null,null,null,null,null,null,{"$f":"VLOOKUP($A14,BAvril!$A$8:$AY$57,31,FALSE)","v":0},{"$f":"VLOOKUP($A14,BAvril!$A$8:$AY$57,32,FALSE)","v":0},{"$f":"VLOOKUP($A14,BAvril!$A$8:$AY$57,33,FALSE)","v":0},null,{"$f":"VLOOKUP($A14,BAvril!$A$8:$AY$57,35,FALSE)","v":0},{"$f":"VLOOKUP($A14,Bilan!$A$8:$AY$57,35,FALSE)","v":0}]
[{"$f":"Données!$H12","v":0},null,null,null,null,null,null,null,null,null,null,null,null,null,null,null,null,null,null,null,null,null,null,null,null,null,null,null,null,null,null,null,null,null,null,null,null,{"$f":"VLOOKUP($A15,BAvril!$A$8:$AY$57,31,FALSE)","v":0},{"$f":"VLOOKUP($A15,BAvril!$A$8:$AY$57,32,FALSE)","v":0},{"$f":"VLOOKUP($A15,BAvril!$A$8:$AY$57,33,FALSE)","v":0},null,{"$f":"VLOOKUP($A15,BAvril!$A$8:$AY$57,35,FALSE)","v":0},{"$f":"VLOOKUP($A15,Bilan!$A$8:$AY$57,35,FALSE)","v":0}]
[{"$f":"Données!$H13","v":0},null,null,null,null,null,null,null,null,null,null,null,null,null,null,null,null,null,null,null,null,null,null,null,null,null,null,null,null,null,null,null,null,null,null,null,null,{"$f":"VLOOKUP($A16,BAvril!$A$8:$AY$57,31,FALSE)","v":0},{"$f":"VLOOKUP($A16,BAvril!$A$8:$AY$57,32,FALSE)","v":0},{"$f":"VLOOKUP($A16,BAvril!$A$8:$AY$57,33,FALSE)","v":0},null,{"$f":"VLOOKUP($A16,BAvril!$A$8:$AY$57,35,FALSE)","v":0},{"$f":"VLOOKUP($A16,Bilan!$A$8:$AY$57,35,FALSE)","v":0}]
[{"$f":"Données!$H14","v":0},null,null,null,null,null,null,null,null,null,null,null,null,null,null,null,null,null,null,null,null,null,null,null,null,null,null,null,null,null,null,null,null,null,null,null,null,{"$f":"VLOOKUP($A17,BAvril!$A$8:$AY$57,31,FALSE)","v":0},{"$f":"VLOOKUP($A17,BAvril!$A$8:$AY$57,32,FALSE)","v":0},{"$f":"VLOOKUP($A17,BAvril!$A$8:$AY$57,33,FALSE)","v":0},null,{"$f":"VLOOKUP($A17,BAvril!$A$8:$AY$57,35,FALSE)","v":0},{"$f":"VLOOKUP($A17,Bilan!$A$8:$AY$57,35,FALSE)","v":0}]
[{"$f":"Données!$H15","v":0},null,null,null,null,null,null,null,null,null,null,null,null,null,null,null,null,null,null,null,null,null,null,null,null,null,null,null,null,null,null,null,null,null,null,null,null,{"$f":"VLOOKUP($A18,BAvril!$A$8:$AY$57,31,FALSE)","v":0},{"$f":"VLOOKUP($A18,BAvril!$A$8:$AY$57,32,FALSE)","v":0},{"$f":"VLOOKUP($A18,BAvril!$A$8:$AY$57,33,FALSE)","v":0},null,{"$f":"VLOOKUP($A18,BAvril!$A$8:$AY$57,35,FALSE)","v":0},{"$f":"VLOOKUP($A18,Bilan!$A$8:$AY$57,35,FALSE)","v":0}]
[{"$f":"Données!$H16","v":0},null,null,null,null,null,null,null,null,null,null,null,null,null,null,null,null,null,null,null,null,null,null,null,null,null,null,null,null,null,null,null,null,null,null,null,null,{"$f":"VLOOKUP($A19,BAvril!$A$8:$AY$57,31,FALSE)","v":0},{"$f":"VLOOKUP($A19,BAvril!$A$8:$AY$57,32,FALSE)","v":0},{"$f":"VLOOKUP($A19,BAvril!$A$8:$AY$57,33,FALSE)","v":0},null,{"$f":"VLOOKUP($A19,BAvril!$A$8:$AY$57,35,FALSE)","v":0},{"$f":"VLOOKUP($A19,Bilan!$A$8:$AY$57,35,FALSE)","v":0}]
[{"$f":"Données!$H17","v":0},null,null,null,null,null,null,null,null,null,null,null,null,null,null,null,null,null,null,null,null,null,null,null,null,null,null,null,null,null,null,null,null,null,null,null,null,{"$f":"VLOOKUP($A20,BAvril!$A$8:$AY$57,31,FALSE)","v":0},{"$f":"VLOOKUP($A20,BAvril!$A$8:$AY$57,32,FALSE)","v":0},{"$f":"VLOOKUP($A20,BAvril!$A$8:$AY$57,33,FALSE)","v":0},null,{"$f":"VLOOKUP($A20,BAvril!$A$8:$AY$57,35,FALSE)","v":0},{"$f":"VLOOKUP($A20,Bilan!$A$8:$AY$57,35,FALSE)","v":0}]
[{"$f":"Données!$H18","v":0},null,null,null,null,null,null,null,null,null,null,null,null,null,null,null,null,null,null,null,null,null,null,null,null,null,null,null,null,null,null,null,null,null,null,null,null,{"$f":"VLOOKUP($A21,BAvril!$A$8:$AY$57,31,FALSE)","v":0},{"$f":"VLOOKUP($A21,BAvril!$A$8:$AY$57,32,FALSE)","v":0},{"$f":"VLOOKUP($A21,BAvril!$A$8:$AY$57,33,FALSE)","v":0},null,{"$f":"VLOOKUP($A21,BAvril!$A$8:$AY$57,35,FALSE)","v":0},{"$f":"VLOOKUP($A21,Bilan!$A$8:$AY$57,35,FALSE)","v":0}]
[{"$f":"Données!$H19","v":0},null,null,null,null,null,null,null,null,null,null,null,null,null,null,null,null,null,null,null,null,null,null,null,null,null,null,null,null,null,null,null,null,null,null,null,null,{"$f":"VLOOKUP($A22,BAvril!$A$8:$AY$57,31,FALSE)","v":0},{"$f":"VLOOKUP($A22,BAvril!$A$8:$AY$57,32,FALSE)","v":0},{"$f":"VLOOKUP($A22,BAvril!$A$8:$AY$57,33,FALSE)","v":0},null,{"$f":"VLOOKUP($A22,BAvril!$A$8:$AY$57,35,FALSE)","v":0},{"$f":"VLOOKUP($A22,Bilan!$A$8:$AY$57,35,FALSE)","v":0}]
[{"$f":"Données!$H20","v":0},null,null,null,null,null,null,null,null,null,null,null,null,null,null,null,null,null,null,null,null,null,null,null,null,null,null,null,null,null,null,null,null,null,null,null,null,{"$f":"VLOOKUP($A23,BAvril!$A$8:$AY$57,31,FALSE)","v":0},{"$f":"VLOOKUP($A23,BAvril!$A$8:$AY$57,32,FALSE)","v":0},{"$f":"VLOOKUP($A23,BAvril!$A$8:$AY$57,33,FALSE)","v":0},null,{"$f":"VLOOKUP($A23,BAvril!$A$8:$AY$57,35,FALSE)","v":0},{"$f":"VLOOKUP($A23,Bilan!$A$8:$AY$57,35,FALSE)","v":0}]
[{"$f":"Données!$H21","v":0},null,null,null,null,null,null,null,null,null,null,null,null,null,null,null,null,null,null,null,null,null,null,null,null,null,null,null,null,null,null,null,null,null,null,null,null,{"$f":"VLOOKUP($A24,BAvril!$A$8:$AY$57,31,FALSE)","v":0},{"$f":"VLOOKUP($A24,BAvril!$A$8:$AY$57,32,FALSE)","v":0},{"$f":"VLOOKUP($A24,BAvril!$A$8:$AY$57,33,FALSE)","v":0},null,{"$f":"VLOOKUP($A24,BAvril!$A$8:$AY$57,35,FALSE)","v":0},{"$f":"VLOOKUP($A24,Bilan!$A$8:$AY$57,35,FALSE)","v":0}]
[{"$f":"Données!$H22","v":"Equipe de nuit"}]
[{"$f":"Données!$H23","v":"K"},null,null,null,null,null,null,null,null,null,null,null,null,null,null,null,null,null,null,null,null,null,null,null,null,null,null,null,null,null,null,null,null,null,null,null,null,{"$f":"VLOOKUP($A26,BAvril!$A$8:$AY$57,31,FALSE)","v":0},{"$f":"VLOOKUP($A26,BAvril!$A$8:$AY$57,32,FALSE)","v":0},{"$f":"VLOOKUP($A26,BAvril!$A$8:$AY$57,33,FALSE)","v":0},null,{"$f":"VLOOKUP($A26,BAvril!$A$8:$AY$57,35,FALSE)","v":0},{"$f":"VLOOKUP($A26,Bilan!$A$8:$AY$57,35,FALSE)","v":0}]
[{"$f":"Données!$H24","v":0},null,null,null,null,null,null,null,null,null,null,null,null,null,null,null,null,null,null,null,null,null,null,null,null,null,null,null,null,null,null,null,null,null,null,null,null,{"$f":"VLOOKUP($A27,BAvril!$A$8:$AY$57,31,FALSE)","v":0},{"$f":"VLOOKUP($A27,BAvril!$A$8:$AY$57,32,FALSE)","v":0},{"$f":"VLOOKUP($A27,BAvril!$A$8:$AY$57,33,FALSE)","v":0},null,{"$f":"VLOOKUP($A27,BAvril!$A$8:$AY$57,35,FALSE)","v":0},{"$f":"VLOOKUP($A27,Bilan!$A$8:$AY$57,35,FALSE)","v":0}]
[{"$f":"Données!$H25","v":0},null,null,null,null,null,null,null,null,null,null,null,null,null,null,null,null,null,null,null,null,null,null,null,null,null,null,null,null,null,null,null,null,null,null,null,null,{"$f":"VLOOKUP($A28,BAvril!$A$8:$AY$57,31,FALSE)","v":0},{"$f":"VLOOKUP($A28,BAvril!$A$8:$AY$57,32,FALSE)","v":0},{"$f":"VLOOKUP($A28,BAvril!$A$8:$AY$57,33,FALSE)","v":0},null,{"$f":"VLOOKUP($A28,BAvril!$A$8:$AY$57,35,FALSE)","v":0},{"$f":"VLOOKUP($A28,Bilan!$A$8:$AY$57,35,FALSE)","v":0}]
[{"$f":"Données!$H26","v":0},null,null,null,null,null,null,null,null,null,null,null,null,null,null,null,null,null,null,null,null,null,null,null,null,null,null,null,null,null,null,null,null,null,null,null,null,{"$f":"VLOOKUP($A29,BAvril!$A$8:$AY$57,31,FALSE)","v":0},{"$f":"VLOOKUP($A29,BAvril!$A$8:$AY$57,32,FALSE)","v":0},{"$f":"VLOOKUP($A29,BAvril!$A$8:$AY$57,33,FALSE)","v":0},null,{"$f":"VLOOKUP($A29,BAvril!$A$8:$AY$57,35,FALSE)","v":0},{"$f":"VLOOKUP($A29,Bilan!$A$8:$AY$57,35,FALSE)","v":0}]
[{"$f":"Données!$H27","v":0},null,null,null,null,null,null,null,null,null,null,null,null,null,null,null,null,null,null,null,null,null,null,null,null,null,null,null,null,null,null,null,null,null,null,null,null,{"$f":"VLOOKUP($A30,BAvril!$A$8:$AY$57,31,FALSE)","v":0},{"$f":"VLOOKUP($A30,BAvril!$A$8:$AY$57,32,FALSE)","v":0},{"$f":"VLOOKUP($A30,BAvril!$A$8:$AY$57,33,FALSE)","v":0},null,{"$f":"VLOOKUP($A30,BAvril!$A$8:$AY$57,35,FALSE)","v":0},{"$f":"VLOOKUP($A30,Bilan!$A$8:$AY$57,35,FALSE)","v":0}]
[{"$f":"Données!$H28","v":0},null,null,null,null,null,null,null,null,null,null,null,null,null,null,null,null,null,null,null,null,null,null,null,null,null,null,null,null,null,null,null,null,null,null,null,null,{"$f":"VLOOKUP($A31,BAvril!$A$8:$AY$57,31,FALSE)","v":0},{"$f":"VLOOKUP($A31,BAvril!$A$8:$AY$57,32,FALSE)","v":0},{"$f":"VLOOKUP($A31,BAvril!$A$8:$AY$57,33,FALSE)","v":0},null,{"$f":"VLOOKUP($A31,BAvril!$A$8:$AY$57,35,FALSE)","v":0},{"$f":"VLOOKUP($A31,Bilan!$A$8:$AY$57,35,FALSE)","v":0}]
[{"$f":"Données!$H29","v":0},null,null,null,null,null,null,null,null,null,null,null,null,null,null,null,null,null,null,null,null,null,null,null,null,null,null,null,null,null,null,null,null,null,null,null,null,{"$f":"VLOOKUP($A32,BAvril!$A$8:$AY$57,31,FALSE)","v":0},{"$f":"VLOOKUP($A32,BAvril!$A$8:$AY$57,32,FALSE)","v":0},{"$f":"VLOOKUP($A32,BAvril!$A$8:$AY$57,33,FALSE)","v":0},null,{"$f":"VLOOKUP($A32,BAvril!$A$8:$AY$57,35,FALSE)","v":0},{"$f":"VLOOKUP($A32,Bilan!$A$8:$AY$57,35,FALSE)","v":0}]
[{"$f":"Données!$H30","v":0},null,null,null,null,null,null,null,null,null,null,null,null,null,null,null,null,null,null,null,null,null,null,null,null,null,null,null,null,null,null,null,null,null,null,null,null,{"$f":"VLOOKUP($A33,BAvril!$A$8:$AY$57,31,FALSE)","v":0},{"$f":"VLOOKUP($A33,BAvril!$A$8:$AY$57,32,FALSE)","v":0},{"$f":"VLOOKUP($A33,BAvril!$A$8:$AY$57,33,FALSE)","v":0},null,{"$f":"VLOOKUP($A33,BAvril!$A$8:$AY$57,35,FALSE)","v":0},{"$f":"VLOOKUP($A33,Bilan!$A$8:$AY$57,35,FALSE)","v":0}]
[{"$f":"Données!$H31","v":0},null,null,null,null,null,null,null,null,null,null,null,null,null,null,null,null,null,null,null,null,null,null,null,null,null,null,null,null,null,null,null,null,null,null,null,null,{"$f":"VLOOKUP($A34,BAvril!$A$8:$AY$57,31,FALSE)","v":0},{"$f":"VLOOKUP($A34,BAvril!$A$8:$AY$57,32,FALSE)","v":0},{"$f":"VLOOKUP($A34,BAvril!$A$8:$AY$57,33,FALSE)","v":0},null,{"$f":"VLOOKUP($A34,BAvril!$A$8:$AY$57,35,FALSE)","v":0},{"$f":"VLOOKUP($A34,Bilan!$A$8:$AY$57,35,FALSE)","v":0}]
[{"$f":"Données!$H32","v":"Maitresse de maison"}]
[{"$f":"Données!$H33","v":"N"},null,null,null,null,null,null,null,null,null,null,null,null,null,null,null,null,null,null,null,null,null,null,null,null,null,null,null,null,null,null,null,null,null,null,null,null,{"$f":"VLOOKUP($A36,BAvril!$A$8:$AY$57,31,FALSE)","v":0},{"$f":"VLOOKUP($A36,BAvril!$A$8:$AY$57,32,FALSE)","v":0},{"$f":"VLOOKUP($A36,BAvril!$A$8:$AY$57,33,FALSE)","v":0},null,{"$f":"VLOOKUP($A36,BAvril!$A$8:$AY$57,35,FALSE)","v":0},{"$f":"VLOOKUP($A36,Bilan!$A$8:$AY$57,35,FALSE)","v":0}]
[{"$f":"Données!$H34","v":0},null,null,null,null,null,null,null,null,null,null,null,null,null,null,null,null,null,null,null,null,null,null,null,null,null,null,null,null,null,null,null,null,null,null,null,null,{"$f":"VLOOKUP($A37,BAvril!$A$8:$AY$57,31,FALSE)","v":0},{"$f":"VLOOKUP($A37,BAvril!$A$8:$AY$57,32,FALSE)","v":0},{"$f":"VLOOKUP($A37,BAvril!$A$8:$AY$57,33,FALSE)","v":0},null,{"$f":"VLOOKUP($A37,BAvril!$A$8:$AY$57,35,FALSE)","v":0},{"$f":"VLOOKUP($A37,Bilan!$A$8:$AY$57,35,FALSE)","v":0}]
[{"$f":"Données!$H35","v":0},null,null,null,null,null,null,null,null,null,null,null,null,null,null,null,null,null,null,null,null,null,null,null,null,null,null,null,null,null,null,null,null,null,null,null,null,{"$f":"VLOOKUP($A38,BAvril!$A$8:$AY$57,31,FALSE)","v":0},{"$f":"VLOOKUP($A38,BAvril!$A$8:$AY$57,32,FALSE)","v":0},{"$f":"VLOOKUP($A38,BAvril!$A$8:$AY$57,33,FALSE)","v":0},null,{"$f":"VLOOKUP($A38,BAvril!$A$8:$AY$57,35,FALSE)","v":0},{"$f":"VLOOKUP($A38,Bilan!$A$8:$AY$57,35,FALSE)","v":0}]
[{"$f":"Données!$H36","v":0},null,null,null,null,null,null,null,null,null,null,null,null,null,null,null,null,null,null,null,null,null,null,null,null,null,null,null,null,null,null,null,null,null,null,null,null,{"$f":"VLOOKUP($A39,BAvril!$A$8:$AY$57,31,FALSE)","v":0},{"$f":"VLOOKUP($A39,BAvril!$A$8:$AY$57,32,FALSE)","v":0},{"$f":"VLOOKUP($A39,BAvril!$A$8:$AY$57,33,FALSE)","v":0},null,{"$f":"VLOOKUP($A39,BAvril!$A$8:$AY$57,35,FALSE)","v":0},{"$f":"VLOOKUP($A39,Bilan!$A$8:$AY$57,35,FALSE)","v":0}]
[{"$f":"Données!$H37","v":0},null,null,null,null,null,null,null,null,null,null,null,null,null,null,null,null,null,null,null,null,null,null,null,null,null,null,null,null,null,null,null,null,null,null,null,null,{"$f":"VLOOKUP($A40,BAvril!$A$8:$AY$57,31,FALSE)","v":0},{"$f":"VLOOKUP($A40,BAvril!$A$8:$AY$57,32,FALSE)","v":0},{"$f":"VLOOKUP($A40,BAvril!$A$8:$AY$57,33,FALSE)","v":0},null,{"$f":"VLOOKUP($A40,BAvril!$A$8:$AY$57,35,FALSE)","v":0},{"$f":"VLOOKUP($A40,Bilan!$A$8:$AY$57,35,FALSE)","v":0}]
[{"$f":"Données!$H38","v":0},null,null,null,null,null,null,null,null,null,null,null,null,null,null,null,null,null,null,null,null,null,null,null,null,null,null,null,null,null,null,null,null,null,null,null,null,{"$f":"VLOOKUP($A41,BAvril!$A$8:$AY$57,31,FALSE)","v":0},{"$f":"VLOOKUP($A41,BAvril!$A$8:$AY$57,32,FALSE)","v":0},{"$f":"VLOOKUP($A41,BAvril!$A$8:$AY$57,33,FALSE)","v":0},null,{"$f":"VLOOKUP($A41,BAvril!$A$8:$AY$57,35,FALSE)","v":0},{"$f":"VLOOKUP($A41,Bilan!$A$8:$AY$57,35,FALSE)","v":0}]
[{"$f":"Données!$H39","v":0},null,null,null,null,null,null,null,null,null,null,null,null,null,null,null,null,null,null,null,null,null,null,null,null,null,null,null,null,null,null,null,null,null,null,null,null,{"$f":"VLOOKUP($A42,BAvril!$A$8:$AY$57,31,FALSE)","v":0},{"$f":"VLOOKUP($A42,BAvril!$A$8:$AY$57,32,FALSE)","v":0},{"$f":"VLOOKUP($A42,BAvril!$A$8:$AY$57,33,FALSE)","v":0},null,{"$f":"VLOOKUP($A42,BAvril!$A$8:$AY$57,35,FALSE)","v":0},{"$f":"VLOOKUP($A42,Bilan!$A$8:$AY$57,35,FALSE)","v":0}]
[{"$f":"Données!$H40","v":0},null,null,null,null,null,null,null,null,null,null,null,null,null,null,null,null,null,null,null,null,null,null,null,null,null,null,null,null,null,null,null,null,null,null,null,null,{"$f":"VLOOKUP($A43,BAvril!$A$8:$AY$57,31,FALSE)","v":0},{"$f":"VLOOKUP($A43,BAvril!$A$8:$AY$57,32,FALSE)","v":0},{"$f":"VLOOKUP($A43,BAvril!$A$8:$AY$57,33,FALSE)","v":0},null,{"$f":"VLOOKUP($A43,BAvril!$A$8:$AY$57,35,FALSE)","v":0},{"$f":"VLOOKUP($A43,Bilan!$A$8:$AY$57,35,FALSE)","v":0}]
[{"$f":"Données!$H41","v":0},null,null,null,null,null,null,null,null,null,null,null,null,null,null,null,null,null,null,null,null,null,null,null,null,null,null,null,null,null,null,null,null,null,null,null,null,{"$f":"VLOOKUP($A44,BAvril!$A$8:$AY$57,31,FALSE)","v":0},{"$f":"VLOOKUP($A44,BAvril!$A$8:$AY$57,32,FALSE)","v":0},{"$f":"VLOOKUP($A44,BAvril!$A$8:$AY$57,33,FALSE)","v":0},null,{"$f":"VLOOKUP($A44,BAvril!$A$8:$AY$57,35,FALSE)","v":0},{"$f":"VLOOKUP($A44,Bilan!$A$8:$AY$57,35,FALSE)","v":0}]
[{"$f":"Données!$H42","v":"Psychologue"}]
[{"$f":"Données!$H43","v":"O"},null,null,null,null,null,null,null,null,null,null,null,null,null,null,null,null,null,null,null,null,null,null,null,null,null,null,null,null,null,null,null,null,null,null,null,null,{"$f":"VLOOKUP($A46,BAvril!$A$8:$AY$57,31,FALSE)","v":0},{"$f":"VLOOKUP($A46,BAvril!$A$8:$AY$57,32,FALSE)","v":0},{"$f":"VLOOKUP($A46,BAvril!$A$8:$AY$57,33,FALSE)","v":0},null,{"$f":"VLOOKUP($A46,BAvril!$A$8:$AY$57,35,FALSE)","v":0},{"$f":"VLOOKUP($A46,Bilan!$A$8:$AY$57,35,FALSE)","v":0}]
[{"$f":"Données!$H44","v":0},null,null,null,null,null,null,null,null,null,null,null,null,null,null,null,null,null,null,null,null,null,null,null,null,null,null,null,null,null,null,null,null,null,null,null,null,{"$f":"VLOOKUP($A47,BAvril!$A$8:$AY$57,31,FALSE)","v":0},{"$f":"VLOOKUP($A47,BAvril!$A$8:$AY$57,32,FALSE)","v":0},{"$f":"VLOOKUP($A47,BAvril!$A$8:$AY$57,33,FALSE)","v":0},null,{"$f":"VLOOKUP($A47,BAvril!$A$8:$AY$57,35,FALSE)","v":0},{"$f":"VLOOKUP($A47,Bilan!$A$8:$AY$57,35,FALSE)","v":0}]
[{"$f":"Données!$H45","v":0},null,null,null,null,null,null,null,null,null,null,null,null,null,null,null,null,null,null,null,null,null,null,null,null,null,null,null,null,null,null,null,null,null,null,null,null,{"$f":"VLOOKUP($A48,BAvril!$A$8:$AY$57,31,FALSE)","v":0},{"$f":"VLOOKUP($A48,BAvril!$A$8:$AY$57,32,FALSE)","v":0},{"$f":"VLOOKUP($A48,BAvril!$A$8:$AY$57,33,FALSE)","v":0},null,{"$f":"VLOOKUP($A48,BAvril!$A$8:$AY$57,35,FALSE)","v":0},{"$f":"VLOOKUP($A48,Bilan!$A$8:$AY$57,35,FALSE)","v":0}]
[{"$f":"Données!$H46","v":"Coordinatrice"}]
[{"$f":"Données!$H47","v":"P"},null,null,null,null,null,null,null,null,null,null,null,null,null,null,null,null,null,null,null,null,null,null,null,null,null,null,null,null,null,null,null,null,null,null,null,null,{"$f":"VLOOKUP($A50,BAvril!$A$8:$AY$57,31,FALSE)","v":0},{"$f":"VLOOKUP($A50,BAvril!$A$8:$AY$57,32,FALSE)","v":0},{"$f":"VLOOKUP($A50,BAvril!$A$8:$AY$57,33,FALSE)","v":0},null,{"$f":"VLOOKUP($A50,BAvril!$A$8:$AY$57,35,FALSE)","v":0},{"$f":"VLOOKUP($A50,Bilan!$A$8:$AY$57,35,FALSE)","v":0}]
[{"$f":"Données!$H48","v":0},null,null,null,null,null,null,null,null,null,null,null,null,null,null,null,null,null,null,null,null,null,null,null,null,null,null,null,null,null,null,null,null,null,null,null,null,{"$f":"VLOOKUP($A51,BAvril!$A$8:$AY$57,31,FALSE)","v":0},{"$f":"VLOOKUP($A51,BAvril!$A$8:$AY$57,32,FALSE)","v":0},{"$f":"VLOOKUP($A51,BAvril!$A$8:$AY$57,33,FALSE)","v":0},null,{"$f":"VLOOKUP($A51,BAvril!$A$8:$AY$57,35,FALSE)","v":0},{"$f":"VLOOKUP($A51,Bilan!$A$8:$AY$57,35,FALSE)","v":0}]
[{"$f":"Données!$H49","v":0},null,null,null,null,null,null,null,null,null,null,null,null,null,null,null,null,null,null,null,null,null,null,null,null,null,null,null,null,null,null,null,null,null,null,null,null,{"$f":"VLOOKUP($A52,BAvril!$A$8:$AY$57,31,FALSE)","v":0},{"$f":"VLOOKUP($A52,BAvril!$A$8:$AY$57,32,FALSE)","v":0},{"$f":"VLOOKUP($A52,BAvril!$A$8:$AY$57,33,FALSE)","v":0},null,{"$f":"VLOOKUP($A52,BAvril!$A$8:$AY$57,35,FALSE)","v":0},{"$f":"VLOOKUP($A52,Bilan!$A$8:$AY$57,35,FALSE)","v":0}]
[{"$f":"Données!$H50","v":0},null,null,null,null,null,null,null,null,null,null,null,null,null,null,null,null,null,null,null,null,null,null,null,null,null,null,null,null,null,null,null,null,null,null,null,null,{"$f":"VLOOKUP($A53,BAvril!$A$8:$AY$57,31,FALSE)","v":0},{"$f":"VLOOKUP($A53,BAvril!$A$8:$AY$57,32,FALSE)","v":0},{"$f":"VLOOKUP($A53,BAvril!$A$8:$AY$57,33,FALSE)","v":0},null,{"$f":"VLOOKUP($A53,BAvril!$A$8:$AY$57,35,FALSE)","v":0},{"$f":"VLOOKUP($A53,Bilan!$A$8:$AY$57,35,FALSE)","v":0}]
[{"$f":"Données!$H51","v":0},null,null,null,null,null,null,null,null,null,null,null,null,null,null,null,null,null,null,null,null,null,null,null,null,null,null,null,null,null,null,null,null,null,null,null,null,{"$f":"VLOOKUP($A54,BAvril!$A$8:$AY$57,31,FALSE)","v":0},{"$f":"VLOOKUP($A54,BAvril!$A$8:$AY$57,32,FALSE)","v":0},{"$f":"VLOOKUP($A54,BAvril!$A$8:$AY$57,33,FALSE)","v":0},null,{"$f":"VLOOKUP($A54,BAvril!$A$8:$AY$57,35,FALSE)","v":0},{"$f":"VLOOKUP($A54,Bilan!$A$8:$AY$57,35,FALSE)","v":0}]
[{"$f":"Données!$H52","v":"Chef de service"}]
[{"$f":"Données!$H53","v":"Q"},null,null,null,null,null,null,null,null,null,null,null,null,null,null,null,null,null,null,null,null,null,null,null,null,null,null,null,null,null,null,null,null,null,null,null,null,{"$f":"VLOOKUP($A56,BAvril!$A$8:$AY$57,31,FALSE)","v":0},{"$f":"VLOOKUP($A56,BAvril!$A$8:$AY$57,32,FALSE)","v":0},{"$f":"VLOOKUP($A56,BAvril!$A$8:$AY$57,33,FALSE)","v":0},null,{"$f":"VLOOKUP($A56,BAvril!$A$8:$AY$57,35,FALSE)","v":0},{"$f":"VLOOKUP($A56,Bilan!$A$8:$AY$57,35,FALSE)","v":0}]
[]
[null,{"$f":"Données!$A3","v":"M"}," =",{"$f":"IF(ISBLANK(Données!$C3),TEXT(Données!$B3,\"hh:mm\"),TEXT(Données!$B3,\"hh:mm\")&\" : \"&TEXT(Données!$C3,\"hh:mm\"))","v":"07:00 : 14:35"},null,null,null,{"$f":"Données!$A7","v":"R"}," =",{"$f":"IF(ISBLANK(Données!$C7),TEXT(Données!$B7,\"hh:mm\"),TEXT(Données!$B7,\"hh:mm\")&\" : \"&TEXT(Données!$C7,\"hh:mm\"))","v":"10:00 : 12:00"},null,null,null,{"$f":"Données!$A10","v":"W"}," =",{"$f":"IF(ISBLANK(Données!$C10),TEXT(Données!$B10,\"hh:mm\"),TEXT(Données!$B10,\"hh:mm\")&\" : \"&TEXT(Données!$C10,\"hh:mm\"))","v":"07:30 : 19:15"},null,null,null,{"$f":"Données!$A14","v":"N"}," =",{"$f":"IF(ISBLANK(Données!$C14),TEXT(Données!$B14,\"hh:mm\"),TEXT(Données!$B14,\"hh:mm\")&\" : \"&TEXT(Données!$C14,\"hh:mm\"))","v":"20:30 : 07:15"},null,null,null,{"$f":"Données!$A18","v":"F"}," =",{"$f":"IF(ISBLANK(Données!$C18),TEXT(Données!$B18,\"hh:mm\"),TEXT(Données!$B18,\"hh:mm\")&\" : \"&TEXT(Données!$C18,\"hh:mm\"))","v":"F"}]
[null,{"$f":"Données!$A4","v":"MG"}," =",{"$f":"IF(ISBLANK(Données!$C4),TEXT(Données!$B4,\"hh:mm\"),TEXT(Données!$B4,\"hh:mm\")&\" : \"&TEXT(Données!$C4,\"hh:mm\"))","v":"23:00 : 01:35"},null,null,null,{"$f":"Données!$A8","v":"RS"}," =",{"$f":"IF(ISBLANK(Données!$C8),TEXT(Données!$B8,\"hh:mm\"),TEXT(Données!$B8,\"hh:mm\")&\" : \"&TEXT(Données!$C8,\"hh:mm\"))","v":"10:00 : 21:30"},null,null,null,{"$f":"Données!$A11","v":"W+"}," =",{"$f":"IF(ISBLANK(Données!$C11),TEXT(Données!$B11,\"hh:mm\"),TEXT(Données!$B11,\"hh:mm\")&\" : \"&TEXT(Données!$C11,\"hh:mm\"))","v":"10:00 : 21:30"},null,null,null,{"$f":"Données!$A15","v":"N+"}," =",{"$f":"IF(ISBLANK(Données!$C15),TEXT(Données!$B15,\"hh:mm\"),TEXT(Données!$B15,\"hh:mm\")&\" : \"&TEXT(Données!$C15,\"hh:mm\"))","v":"19:15 : 07:15"},null,null,null,{"$f":"Données!$A19","v":"SYN"}," =",{"$f":"IF(ISBLANK(Données!$C19),TEXT(Données!$B19,\"hh:mm\"),TEXT(Données!$B19,\"hh:mm\")&\" : \"&TEXT(Données!$C19,\"hh:mm\"))","v":"Syn"}]
[null,{"$f":"Données!$A5","v":"J"}," =",{"$f":"IF(ISBLANK(Données!$C5),TEXT(Données!$B5,\"hh:mm\"),TEXT(Données!$B5,\"hh:mm\")&\" : \"&TEXT(Données!$C5,\"hh:mm\"))","v":"10:00 : 17:30"},null,null,null,{"$f":"Données!$A9","v":"S"}," =",{"$f":"IF(ISBLANK(Données!$C9),TEXT(Données!$B9,\"hh:mm\"),TEXT(Données!$B9,\"hh:mm\")&\" : \"&TEXT(Données!$C9,\"hh:mm\"))","v":"14:00 : 21:30"},null,null,null,{"$f":"Données!$A12","v":"WD"}," =",{"$f":"IF(ISBLANK(Données!$C12),TEXT(Données!$B12,\"hh:mm\"),TEXT(Données!$B12,\"hh:mm\")&\" : \"&TEXT(Données!$C12,\"hh:mm\"))","v":"07:00 : 19:15"},null,null,null,{"$f":"Données!$A16","v":"NS"}," =",{"$f":"IF(ISBLANK(Données!$C16),TEXT(Données!$B16,\"hh:mm\"),TEXT(Données!$B16,\"hh:mm\")&\" : \"&TEXT(Données!$C16,\"hh:mm\"))","v":"19:15 : 07:15"},null,null,null,{"$f":"Données!$A20","v":"AT"}," =",{"$f":"IF(ISBLANK(Données!$C20),TEXT(Données!$B20,\"hh:mm\"),TEXT(Données!$B20,\"hh:mm\")&\" : \"&TEXT(Données!$C20,\"hh:mm\"))","v":"AT"}]
[null,{"$f":"Données!$A6","v":"J+"}," =",{"$f":"IF(ISBLANK(Données!$C6),TEXT(Données!$B6,\"hh:mm\"),TEXT(Données!$B6,\"hh:mm\")&\" : \"&TEXT(Données!$C6,\"hh:mm\"))","v":"11:30 : 19:15"},null,null,null,{"$f":"Données!$A10","v":"W"}," =",{"$f":"IF(ISBLANK(Données!$C10),TEXT(Données!$B10,\"hh:mm\"),TEXT(Données!$B10,\"hh:mm\")&\" : \"&TEXT(Données!$C10,\"hh:mm\"))","v":"07:30 : 19:15"},null,null,null,{"$f":"Données!$A13","v":"WF"}," =",{"$f":"IF(ISBLANK(Données!$C13),TEXT(Données!$B13,\"hh:mm\"),TEXT(Données!$B13,\"hh:mm\")&\" : \"&TEXT(Données!$C13,\"hh:mm\"))","v":"07:00 : 19:15"},null,null,null,{"$f":"Données!$A17","v":"T"}," =",{"$f":"IF(ISBLANK(Données!$C17),TEXT(Données!$B17,\"hh:mm\"),TEXT(Données!$B17,\"hh:mm\")&\" : \"&TEXT(Données!$C17,\"hh:mm\"))","v":"T"},null,null,null,{"$f":"Données!$A21","v":"AM"}," =",{"$f":"IF(ISBLANK(Données!$C21),TEXT(Données!$B21,\"hh:mm\"),TEXT(Données!$B21,\"hh:mm\")&\" : \"&TEXT(Données!$C21,\"hh:mm\"))","v":"AM"}]

{"sheet":"Mai","index":6,"n_rows":61,"n_cols":43,"rows_kept":61,"cut":false,"hidden":false,"merged":[[2,14,2,15]]}
[]
[null,{"$f":"DATE(An,Mai,B7)","v":"2018-05-01"},"2018-05-02","2018-05-03","2018-05-04","2018-05-05","2018-05-06","2018-05-07","2018-05-08","2018-05-09","2018-05-10","2018-05-11","2018-05-12","2018-05-13","2018-05-14","2018-05-15","2018-05-16","2018-05-17","2018-05-18","2018-05-19","2018-05-20","2018-05-21","2018-05-22","2018-05-23","2018-05-24","2018-05-25","2018-05-26","2018-05-27","2018-05-28","2018-05-29","2018-05-30","2018-05-31",null,null,"Pour remplir ","penser     ",null,null,null,null,{"$f":"IF(ISNUMBER(AO7),DATE(An,Mai,AO7),\"\")","v":""},{"$f":"IF(ISNUMBER(AP7),DATE(An,Mai,AP7),\"\")","v":""}]
[{"$f":"IF(Données!$L$5=\"\",\"Service\",Données!$L$5)","v":"Service"},null,null,null,null,null,null,null,null,null,"Mois de Mai ",null,null,null,{"$f":"An","v":2018},null,null,null,null,null,null,null,null,null,null,null,null,null,null,null,null,null,null,null,"à mettre dans le format:\n"]
[null,null,null,null,null,null,null,null,null,null,null,null,null,null,null,null,null,null,null,null,null,null,null,null,null,null,null,null,null,null,null,null,null,null," \"heures\":\"Minutes\" "]
[null,null,null,null,null,null,null,null,null,null,null,null,null,null,null,null,null,null,null,null,null,null,null,null,null,null,null,null,null,null,null,null,null,null,"Heures sup ","Heures sup ",null,"Indications","Indications","Indications",null,"Total"]
["Jours",{"$f":"PROPER(LEFT(TEXT(DATE(An,Mai,B7),\"jjj\"),1))","v":"M"},"M","J","V","S","D","L","M","M","J","V","S","D","L","M","M","J","V","S","D","L","M","M","J","V","S","D","L","M","M","J",null,null,"avant 21h","après 21h",null,"Heures","Heures nuit","Heures",null,"Heures","Heures"]
[null,{"$f":"A7+1","v":1},2,3,4,5,6,7,8,9,10,11,12,13,14,15,16,17,18,19,20,21,22,23,24,25,26,27,28,29,30,{"$f":"AE7+1","v":31},null,null,"A remplir","A remplir",null," Dimanche"," Dimanche","après 21h",null," au mois","  a l'année"]
["Equipe de jour"]
[{"$f":"Données!$H6","v":"A"},null,null,null,null,null,null,null,null,null,null,null,null,null,null,null,null,null,null,null,null,null,null,null,null,null,null,null,null,null,null,null,null,null,null,null,null,{"$f":"VLOOKUP($A9,BMai!$A$8:$AY$57,31,FALSE)","v":0},{"$f":"VLOOKUP($A9,BMai!$A$8:$AY$57,32,FALSE)","v":0},{"$f":"VLOOKUP($A9,BMai!$A$8:$AY$57,33,FALSE)","v":0},null,{"$f":"VLOOKUP($A9,BMai!$A$8:$AY$57,35,FALSE)","v":0},{"$f":"VLOOKUP($A9,Bilan!$A$8:$AY$57,35,FALSE)","v":0}]
[{"$f":"Données!$H7","v":0},null,null,null,null,null,null,null,null,null,null,null,null,null,null,null,null,null,null,null,null,null,null,null,null,null,null,null,null,null,null,null,null,null,null,null,null,{"$f":"VLOOKUP($A10,BMai!$A$8:$AY$57,31,FALSE)","v":0},{"$f":"VLOOKUP($A10,BMai!$A$8:$AY$57,32,FALSE)","v":0},{"$f":"VLOOKUP($A10,BMai!$A$8:$AY$57,33,FALSE)","v":0},null,{"$f":"VLOOKUP($A10,BMai!$A$8:$AY$57,35,FALSE)","v":0},{"$f":"VLOOKUP($A10,Bilan!$A$8:$AY$57,35,FALSE)","v":0}]
[{"$f":"Données!$H8","v":0},null,null,null,null,null,null,null,null,null,null,null,null,null,null,null,null,null,null,null,null,null,null,null,null,null,null,null,null,null,null,null,null,null,null,null,null,{"$f":"VLOOKUP($A11,BMai!$A$8:$AY$57,31,FALSE)","v":0},{"$f":"VLOOKUP($A11,BMai!$A$8:$AY$57,32,FALSE)","v":0},{"$f":"VLOOKUP($A11,BMai!$A$8:$AY$57,33,FALSE)","v":0},null,{"$f":"VLOOKUP($A11,BMai!$A$8:$AY$57,35,FALSE)","v":0},{"$f":"VLOOKUP($A11,Bilan!$A$8:$AY$57,35,FALSE)","v":0}]
[{"$f":"Données!$H9","v":0},null,null,null,null,null,null,null,null,null,null,null,null,null,null,null,null,null,null,null,null,null,null,null,null,null,null,null,null,null,null,null,null,null,null,null,null,{"$f":"VLOOKUP($A12,BMai!$A$8:$AY$57,31,FALSE)","v":0},{"$f":"VLOOKUP($A12,BMai!$A$8:$AY$57,32,FALSE)","v":0},{"$f":"VLOOKUP($A12,BMai!$A$8:$AY$57,33,FALSE)","v":0},null,{"$f":"VLOOKUP($A12,BMai!$A$8:$AY$57,35,FALSE)","v":0},{"$f":"VLOOKUP($A12,Bilan!$A$8:$AY$57,35,FALSE)","v":0}]
[{"$f":"Données!$H10","v":0},null,null,null,null,null,null,null,null,null,null,null,null,null,null,null,null,null,null,null,null,null,null,null,null,null,null,null,null,null,null,null,null,null,null,null,null,{"$f":"VLOOKUP($A13,BMai!$A$8:$AY$57,31,FALSE)","v":0},{"$f":"VLOOKUP($A13,BMai!$A$8:$AY$57,32,FALSE)","v":0},{"$f":"VLOOKUP($A13,BMai!$A$8:$AY$57,33,FALSE)","v":0},null,{"$f":"VLOOKUP($A13,BMai!$A$8:$AY$57,35,FALSE)","v":0},{"$f":"VLOOKUP($A13,Bilan!$A$8:$AY$57,35,FALSE)","v":0}]
[{"$f":"Données!$H11","v":0},null,null,null,null,null,null,null,null,null,null,null,null,null,null,null,null,null,null,null,null,null,null,null,null,null,null,null,null,null,null,null,null,null,null,null,null,{"$f":"VLOOKUP($A14,BMai!$A$8:$AY$57,31,FALSE)","v":0},{"$f":"VLOOKUP($A14,BMai!$A$8:$AY$57,32,FALSE)","v":0},{"$f":"VLOOKUP($A14,BMai!$A$8:$AY$57,33,FALSE)","v":0},null,{"$f":"VLOOKUP($A14,BMai!$A$8:$AY$57,35,FALSE)","v":0},{"$f":"VLOOKUP($A14,Bilan!$A$8:$AY$57,35,FALSE)","v":0}]
[{"$f":"Données!$H12","v":0},null,null,null,null,null,null,null,null,null,null,null,null,null,null,null,null,null,null,null,null,null,null,null,null,null,null,null,null,null,null,null,null,null,null,null,null,{"$f":"VLOOKUP($A15,BMai!$A$8:$AY$57,31,FALSE)","v":0},{"$f":"VLOOKUP($A15,BMai!$A$8:$AY$57,32,FALSE)","v":0},{"$f":"VLOOKUP($A15,BMai!$A$8:$AY$57,33,FALSE)","v":0},null,{"$f":"VLOOKUP($A15,BMai!$A$8:$AY$57,35,FALSE)","v":0},{"$f":"VLOOKUP($A15,Bilan!$A$8:$AY$57,35,FALSE)","v":0}]
[{"$f":"Données!$H13","v":0},null,null,null,null,null,null,null,null,null,null,null,null,null,null,null,null,null,null,null,null,null,null,null,null,null,null,null,null,null,null,null,null,null,null,null,null,{"$f":"VLOOKUP($A16,BMai!$A$8:$AY$57,31,FALSE)","v":0},{"$f":"VLOOKUP($A16,BMai!$A$8:$AY$57,32,FALSE)","v":0},{"$f":"VLOOKUP($A16,BMai!$A$8:$AY$57,33,FALSE)","v":0},null,{"$f":"VLOOKUP($A16,BMai!$A$8:$AY$57,35,FALSE)","v":0},{"$f":"VLOOKUP($A16,Bilan!$A$8:$AY$57,35,FALSE)","v":0}]
[{"$f":"Données!$H14","v":0},null,null,null,null,null,null,null,null,null,null,null,null,null,null,null,null,null,null,null,null,null,null,null,null,null,null,null,null,null,null,null,null,null,null,null,null,{"$f":"VLOOKUP($A17,BMai!$A$8:$AY$57,31,FALSE)","v":0},{"$f":"VLOOKUP($A17,BMai!$A$8:$AY$57,32,FALSE)","v":0},{"$f":"VLOOKUP($A17,BMai!$A$8:$AY$57,33,FALSE)","v":0},null,{"$f":"VLOOKUP($A17,BMai!$A$8:$AY$57,35,FALSE)","v":0},{"$f":"VLOOKUP($A17,Bilan!$A$8:$AY$57,35,FALSE)","v":0}]
[{"$f":"Données!$H15","v":0},null,null,null,null,null,null,null,null,null,null,null,null,null,null,null,null,null,null,null,null,null,null,null,null,null,null,null,null,null,null,null,null,null,null,null,null,{"$f":"VLOOKUP($A18,BMai!$A$8:$AY$57,31,FALSE)","v":0},{"$f":"VLOOKUP($A18,BMai!$A$8:$AY$57,32,FALSE)","v":0},{"$f":"VLOOKUP($A18,BMai!$A$8:$AY$57,33,FALSE)","v":0},null,{"$f":"VLOOKUP($A18,BMai!$A$8:$AY$57,35,FALSE)","v":0},{"$f":"VLOOKUP($A18,Bilan!$A$8:$AY$57,35,FALSE)","v":0}]
[{"$f":"Données!$H16","v":0},null,null,null,null,null,null,null,null,null,null,null,null,null,null,null,null,null,null,null,null,null,null,null,null,null,null,null,null,null,null,null,null,null,null,null,null,{"$f":"VLOOKUP($A19,BMai!$A$8:$AY$57,31,FALSE)","v":0},{"$f":"VLOOKUP($A19,BMai!$A$8:$AY$57,32,FALSE)","v":0},{"$f":"VLOOKUP($A19,BMai!$A$8:$AY$57,33,FALSE)","v":0},null,{"$f":"VLOOKUP($A19,BMai!$A$8:$AY$57,35,FALSE)","v":0},{"$f":"VLOOKUP($A19,Bilan!$A$8:$AY$57,35,FALSE)","v":0}]
[{"$f":"Données!$H17","v":0},null,null,null,null,null,null,null,null,null,null,null,null,null,null,null,null,null,null,null,null,null,null,null,null,null,null,null,null,null,null,null,null,null,null,null,null,{"$f":"VLOOKUP($A20,BMai!$A$8:$AY$57,31,FALSE)","v":0},{"$f":"VLOOKUP($A20,BMai!$A$8:$AY$57,32,FALSE)","v":0},{"$f":"VLOOKUP($A20,BMai!$A$8:$AY$57,33,FALSE)","v":0},null,{"$f":"VLOOKUP($A20,BMai!$A$8:$AY$57,35,FALSE)","v":0},{"$f":"VLOOKUP($A20,Bilan!$A$8:$AY$57,35,FALSE)","v":0}]
[{"$f":"Données!$H18","v":0},null,null,null,null,null,null,null,null,null,null,null,null,null,null,null,null,null,null,null,null,null,null,null,null,null,null,null,null,null,null,null,null,null,null,null,null,{"$f":"VLOOKUP($A21,BMai!$A$8:$AY$57,31,FALSE)","v":0},{"$f":"VLOOKUP($A21,BMai!$A$8:$AY$57,32,FALSE)","v":0},{"$f":"VLOOKUP($A21,BMai!$A$8:$AY$57,33,FALSE)","v":0},null,{"$f":"VLOOKUP($A21,BMai!$A$8:$AY$57,35,FALSE)","v":0},{"$f":"VLOOKUP($A21,Bilan!$A$8:$AY$57,35,FALSE)","v":0}]
[{"$f":"Données!$H19","v":0},null,null,null,null,null,null,null,null,null,null,null,null,null,null,null,null,null,null,null,null,null,null,null,null,null,null,null,null,null,null,null,null,null,null,null,null,{"$f":"VLOOKUP($A22,BMai!$A$8:$AY$57,31,FALSE)","v":0},{"$f":"VLOOKUP($A22,BMai!$A$8:$AY$57,32,FALSE)","v":0},{"$f":"VLOOKUP($A22,BMai!$A$8:$AY$57,33,FALSE)","v":0},null,{"$f":"VLOOKUP($A22,BMai!$A$8:$AY$57,35,FALSE)","v":0},{"$f":"VLOOKUP($A22,Bilan!$A$8:$AY$57,35,FALSE)","v":0}]
[{"$f":"Données!$H20","v":0},null,null,null,null,null,null,null,null,null,null,null,null,null,null,null,null,null,null,null,null,null,null,null,null,null,null,null,null,null,null,null,null,null,null,null,null,{"$f":"VLOOKUP($A23,BMai!$A$8:$AY$57,31,FALSE)","v":0},{"$f":"VLOOKUP($A23,BMai!$A$8:$AY$57,32,FALSE)","v":0},{"$f":"VLOOKUP($A23,BMai!$A$8:$AY$57,33,FALSE)","v":0},null,{"$f":"VLOOKUP($A23,BMai!$A$8:$AY$57,35,FALSE)","v":0},{"$f":"VLOOKUP($A23,Bilan!$A$8:$AY$57,35,FALSE)","v":0}]
[{"$f":"Données!$H21","v":0},null,null,null,null,null,null,null,null,null,null,null,null,null,null,null,null,null,null,null,null,null,null,null,null,null,null,null,null,null,null,null,null,null,null,null,null,{"$f":"VLOOKUP($A24,BMai!$A$8:$AY$57,31,FALSE)","v":0},{"$f":"VLOOKUP($A24,BMai!$A$8:$AY$57,32,FALSE)","v":0},{"$f":"VLOOKUP($A24,BMai!$A$8:$AY$57,33,FALSE)","v":0},null,{"$f":"VLOOKUP($A24,BMai!$A$8:$AY$57,35,FALSE)","v":0},{"$f":"VLOOKUP($A24,Bilan!$A$8:$AY$57,35,FALSE)","v":0}]
[{"$f":"Données!$H22","v":"Equipe de nuit"}]
[{"$f":"Données!$H23","v":"K"},null,null,null,null,null,null,null,null,null,null,null,null,null,null,null,null,null,null,null,null,null,null,null,null,null,null,null,null,null,null,null,null,null,null,null,null,{"$f":"VLOOKUP($A26,BMai!$A$8:$AY$57,31,FALSE)","v":0},{"$f":"VLOOKUP($A26,BMai!$A$8:$AY$57,32,FALSE)","v":0},{"$f":"VLOOKUP($A26,BMai!$A$8:$AY$57,33,FALSE)","v":0},null,{"$f":"VLOOKUP($A26,BMai!$A$8:$AY$57,35,FALSE)","v":0},{"$f":"VLOOKUP($A26,Bilan!$A$8:$AY$57,35,FALSE)","v":0}]
[{"$f":"Données!$H24","v":0},null,null,null,null,null,null,null,null,null,null,null,null,null,null,null,null,null,null,null,null,null,null,null,null,null,null,null,null,null,null,null,null,null,null,null,null,{"$f":"VLOOKUP($A27,BMai!$A$8:$AY$57,31,FALSE)","v":0},{"$f":"VLOOKUP($A27,BMai!$A$8:$AY$57,32,FALSE)","v":0},{"$f":"VLOOKUP($A27,BMai!$A$8:$AY$57,33,FALSE)","v":0},null,{"$f":"VLOOKUP($A27,BMai!$A$8:$AY$57,35,FALSE)","v":0},{"$f":"VLOOKUP($A27,Bilan!$A$8:$AY$57,35,FALSE)","v":0}]
[{"$f":"Données!$H25","v":0},null,null,null,null,null,null,null,null,null,null,null,null,null,null,null,null,null,null,null,null,null,null,null,null,null,null,null,null,null,null,null,null,null,null,null,null,{"$f":"VLOOKUP($A28,BMai!$A$8:$AY$57,31,FALSE)","v":0},{"$f":"VLOOKUP($A28,BMai!$A$8:$AY$57,32,FALSE)","v":0},{"$f":"VLOOKUP($A28,BMai!$A$8:$AY$57,33,FALSE)","v":0},null,{"$f":"VLOOKUP($A28,BMai!$A$8:$AY$57,35,FALSE)","v":0},{"$f":"VLOOKUP($A28,Bilan!$A$8:$AY$57,35,FALSE)","v":0}]
[{"$f":"Données!$H26","v":0},null,null,null,null,null,null,null,null,null,null,null,null,null,null,null,null,null,null,null,null,null,null,null,null,null,null,null,null,null,null,null,null,null,null,null,null,{"$f":"VLOOKUP($A29,BMai!$A$8:$AY$57,31,FALSE)","v":0},{"$f":"VLOOKUP($A29,BMai!$A$8:$AY$57,32,FALSE)","v":0},{"$f":"VLOOKUP($A29,BMai!$A$8:$AY$57,33,FALSE)","v":0},null,{"$f":"VLOOKUP($A29,BMai!$A$8:$AY$57,35,FALSE)","v":0},{"$f":"VLOOKUP($A29,Bilan!$A$8:$AY$57,35,FALSE)","v":0}]
[{"$f":"Données!$H27","v":0},null,null,null,null,null,null,null,null,null,null,null,null,null,null,null,null,null,null,null,null,null,null,null,null,null,null,null,null,null,null,null,null,null,null,null,null,{"$f":"VLOOKUP($A30,BMai!$A$8:$AY$57,31,FALSE)","v":0},{"$f":"VLOOKUP($A30,BMai!$A$8:$AY$57,32,FALSE)","v":0},{"$f":"VLOOKUP($A30,BMai!$A$8:$AY$57,33,FALSE)","v":0},null,{"$f":"VLOOKUP($A30,BMai!$A$8:$AY$57,35,FALSE)","v":0},{"$f":"VLOOKUP($A30,Bilan!$A$8:$AY$57,35,FALSE)","v":0}]
[{"$f":"Données!$H28","v":0},null,null,null,null,null,null,null,null,null,null,null,null,null,null,null,null,null,null,null,null,null,null,null,null,null,null,null,null,null,null,null,null,null,null,null,null,{"$f":"VLOOKUP($A31,BMai!$A$8:$AY$57,31,FALSE)","v":0},{"$f":"VLOOKUP($A31,BMai!$A$8:$AY$57,32,FALSE)","v":0},{"$f":"VLOOKUP($A31,BMai!$A$8:$AY$57,33,FALSE)","v":0},null,{"$f":"VLOOKUP($A31,BMai!$A$8:$AY$57,35,FALSE)","v":0},{"$f":"VLOOKUP($A31,Bilan!$A$8:$AY$57,35,FALSE)","v":0}]
[{"$f":"Données!$H29","v":0},null,null,null,null,null,null,null,null,null,null,null,null,null,null,null,null,null,null,null,null,null,null,null,null,null,null,null,null,null,null,null,null,null,null,null,null,{"$f":"VLOOKUP($A32,BMai!$A$8:$AY$57,31,FALSE)","v":0},{"$f":"VLOOKUP($A32,BMai!$A$8:$AY$57,32,FALSE)","v":0},{"$f":"VLOOKUP($A32,BMai!$A$8:$AY$57,33,FALSE)","v":0},null,{"$f":"VLOOKUP($A32,BMai!$A$8:$AY$57,35,FALSE)","v":0},{"$f":"VLOOKUP($A32,Bilan!$A$8:$AY$57,35,FALSE)","v":0}]
[{"$f":"Données!$H30","v":0},null,null,null,null,null,null,null,null,null,null,null,null,null,null,null,null,null,null,null,null,null,null,null,null,null,null,null,null,null,null,null,null,null,null,null,null,{"$f":"VLOOKUP($A33,BMai!$A$8:$AY$57,31,FALSE)","v":0},{"$f":"VLOOKUP($A33,BMai!$A$8:$AY$57,32,FALSE)","v":0},{"$f":"VLOOKUP($A33,BMai!$A$8:$AY$57,33,FALSE)","v":0},null,{"$f":"VLOOKUP($A33,BMai!$A$8:$AY$57,35,FALSE)","v":0},{"$f":"VLOOKUP($A33,Bilan!$A$8:$AY$57,35,FALSE)","v":0}]
[{"$f":"Données!$H31","v":0},null,null,null,null,null,null,null,null,null,null,null,null,null,null,null,null,null,null,null,null,null,null,null,null,null,null,null,null,null,null,null,null,null,null,null,null,{"$f":"VLOOKUP($A34,BMai!$A$8:$AY$57,31,FALSE)","v":0},{"$f":"VLOOKUP($A34,BMai!$A$8:$AY$57,32,FALSE)","v":0},{"$f":"VLOOKUP($A34,BMai!$A$8:$AY$57,33,FALSE)","v":0},null,{"$f":"VLOOKUP($A34,BMai!$A$8:$AY$57,35,FALSE)","v":0},{"$f":"VLOOKUP($A34,Bilan!$A$8:$AY$57,35,FALSE)","v":0}]
[{"$f":"Données!$H32","v":"Maitresse de maison"}]
[{"$f":"Données!$H33","v":"N"},null,null,null,null,null,null,null,null,null,null,null,null,null,null,null,null,null,null,null,null,null,null,null,null,null,null,null,null,null,null,null,null,null,null,null,null,{"$f":"VLOOKUP($A36,BMai!$A$8:$AY$57,31,FALSE)","v":0},{"$f":"VLOOKUP($A36,BMai!$A$8:$AY$57,32,FALSE)","v":0},{"$f":"VLOOKUP($A36,BMai!$A$8:$AY$57,33,FALSE)","v":0},null,{"$f":"VLOOKUP($A36,BMai!$A$8:$AY$57,35,FALSE)","v":0},{"$f":"VLOOKUP($A36,Bilan!$A$8:$AY$57,35,FALSE)","v":0}]
[{"$f":"Données!$H34","v":0},null,null,null,null,null,null,null,null,null,null,null,null,null,null,null,null,null,null,null,null,null,null,null,null,null,null,null,null,null,null,null,null,null,null,null,null,{"$f":"VLOOKUP($A37,BMai!$A$8:$AY$57,31,FALSE)","v":0},{"$f":"VLOOKUP($A37,BMai!$A$8:$AY$57,32,FALSE)","v":0},{"$f":"VLOOKUP($A37,BMai!$A$8:$AY$57,33,FALSE)","v":0},null,{"$f":"VLOOKUP($A37,BMai!$A$8:$AY$57,35,FALSE)","v":0},{"$f":"VLOOKUP($A37,Bilan!$A$8:$AY$57,35,FALSE)","v":0}]
[{"$f":"Données!$H35","v":0},null,null,null,null,null,null,null,null,null,null,null,null,null,null,null,null,null,null,null,null,null,null,null,null,null,null,null,null,null,null,null,null,null,null,null,null,{"$f":"VLOOKUP($A38,BMai!$A$8:$AY$57,31,FALSE)","v":0},{"$f":"VLOOKUP($A38,BMai!$A$8:$AY$57,32,FALSE)","v":0},{"$f":"VLOOKUP($A38,BMai!$A$8:$AY$57,33,FALSE)","v":0},null,{"$f":"VLOOKUP($A38,BMai!$A$8:$AY$57,35,FALSE)","v":0},{"$f":"VLOOKUP($A38,Bilan!$A$8:$AY$57,35,FALSE)","v":0}]
[{"$f":"Données!$H36","v":0},null,null,null,null,null,null,null,null,null,null,null,null,null,null,null,null,null,null,null,null,null,null,null,null,null,null,null,null,null,null,null,null,null,null,null,null,{"$f":"VLOOKUP($A39,BMai!$A$8:$AY$57,31,FALSE)","v":0},{"$f":"VLOOKUP($A39,BMai!$A$8:$AY$57,32,FALSE)","v":0},{"$f":"VLOOKUP($A39,BMai!$A$8:$AY$57,33,FALSE)","v":0},null,{"$f":"VLOOKUP($A39,BMai!$A$8:$AY$57,35,FALSE)","v":0},{"$f":"VLOOKUP($A39,Bilan!$A$8:$AY$57,35,FALSE)","v":0}]
[{"$f":"Données!$H37","v":0},null,null,null,null,null,null,null,null,null,null,null,null,null,null,null,null,null,null,null,null,null,null,null,null,null,null,null,null,null,null,null,null,null,null,null,null,{"$f":"VLOOKUP($A40,BMai!$A$8:$AY$57,31,FALSE)","v":0},{"$f":"VLOOKUP($A40,BMai!$A$8:$AY$57,32,FALSE)","v":0},{"$f":"VLOOKUP($A40,BMai!$A$8:$AY$57,33,FALSE)","v":0},null,{"$f":"VLOOKUP($A40,BMai!$A$8:$AY$57,35,FALSE)","v":0},{"$f":"VLOOKUP($A40,Bilan!$A$8:$AY$57,35,FALSE)","v":0}]
[{"$f":"Données!$H38","v":0},null,null,null,null,null,null,null,null,null,null,null,null,null,null,null,null,null,null,null,null,null,null,null,null,null,null,null,null,null,null,null,null,null,null,null,null,{"$f":"VLOOKUP($A41,BMai!$A$8:$AY$57,31,FALSE)","v":0},{"$f":"VLOOKUP($A41,BMai!$A$8:$AY$57,32,FALSE)","v":0},{"$f":"VLOOKUP($A41,BMai!$A$8:$AY$57,33,FALSE)","v":0},null,{"$f":"VLOOKUP($A41,BMai!$A$8:$AY$57,35,FALSE)","v":0},{"$f":"VLOOKUP($A41,Bilan!$A$8:$AY$57,35,FALSE)","v":0}]
[{"$f":"Données!$H39","v":0},null,null,null,null,null,null,null,null,null,null,null,null,null,null,null,null,null,null,null,null,null,null,null,null,null,null,null,null,null,null,null,null,null,null,null,null,{"$f":"VLOOKUP($A42,BMai!$A$8:$AY$57,31,FALSE)","v":0},{"$f":"VLOOKUP($A42,BMai!$A$8:$AY$57,32,FALSE)","v":0},{"$f":"VLOOKUP($A42,BMai!$A$8:$AY$57,33,FALSE)","v":0},null,{"$f":"VLOOKUP($A42,BMai!$A$8:$AY$57,35,FALSE)","v":0},{"$f":"VLOOKUP($A42,Bilan!$A$8:$AY$57,35,FALSE)","v":0}]
[{"$f":"Données!$H40","v":0},null,null,null,null,null,null,null,null,null,null,null,null,null,null,null,null,null,null,null,null,null,null,null,null,null,null,null,null,null,null,null,null,null,null,null,null,{"$f":"VLOOKUP($A43,BMai!$A$8:$AY$57,31,FALSE)","v":0},{"$f":"VLOOKUP($A43,BMai!$A$8:$AY$57,32,FALSE)","v":0},{"$f":"VLOOKUP($A43,BMai!$A$8:$AY$57,33,FALSE)","v":0},null,{"$f":"VLOOKUP($A43,BMai!$A$8:$AY$57,35,FALSE)","v":0},{"$f":"VLOOKUP($A43,Bilan!$A$8:$AY$57,35,FALSE)","v":0}]
[{"$f":"Données!$H41","v":0},null,null,null,null,null,null,null,null,null,null,null,null,null,null,null,null,null,null,null,null,null,null,null,null,null,null,null,null,null,null,null,null,null,null,null,null,{"$f":"VLOOKUP($A44,BMai!$A$8:$AY$57,31,FALSE)","v":0},{"$f":"VLOOKUP($A44,BMai!$A$8:$AY$57,32,FALSE)","v":0},{"$f":"VLOOKUP($A44,BMai!$A$8:$AY$57,33,FALSE)","v":0},null,{"$f":"VLOOKUP($A44,BMai!$A$8:$AY$57,35,FALSE)","v":0},{"$f":"VLOOKUP($A44,Bilan!$A$8:$AY$57,35,FALSE)","v":0}]
[{"$f":"Données!$H42","v":"Psychologue"}]
[{"$f":"Données!$H43","v":"O"},null,null,null,null,null,null,null,null,null,null,null,null,null,null,null,null,null,null,null,null,null,null,null,null,null,null,null,null,null,null,null,null,null,null,null,null,{"$f":"VLOOKUP($A46,BMai!$A$8:$AY$57,31,FALSE)","v":0},{"$f":"VLOOKUP($A46,BMai!$A$8:$AY$57,32,FALSE)","v":0},{"$f":"VLOOKUP($A46,BMai!$A$8:$AY$57,33,FALSE)","v":0},null,{"$f":"VLOOKUP($A46,BMai!$A$8:$AY$57,35,FALSE)","v":0},{"$f":"VLOOKUP($A46,Bilan!$A$8:$AY$57,35,FALSE)","v":0}]
[{"$f":"Données!$H44","v":0},null,null,null,null,null,null,null,null,null,null,null,null,null,null,null,null,null,null,null,null,null,null,null,null,null,null,null,null,null,null,null,null,null,null,null,null,{"$f":"VLOOKUP($A47,BMai!$A$8:$AY$57,31,FALSE)","v":0},{"$f":"VLOOKUP($A47,BMai!$A$8:$AY$57,32,FALSE)","v":0},{"$f":"VLOOKUP($A47,BMai!$A$8:$AY$57,33,FALSE)","v":0},null,{"$f":"VLOOKUP($A47,BMai!$A$8:$AY$57,35,FALSE)","v":0},{"$f":"VLOOKUP($A47,Bilan!$A$8:$AY$57,35,FALSE)","v":0}]
[{"$f":"Données!$H45","v":0},null,null,null,null,null,null,null,null,null,null,null,null,null,null,null,null,null,null,null,null,null,null,null,null,null,null,null,null,null,null,null,null,null,null,null,null,{"$f":"VLOOKUP($A48,BMai!$A$8:$AY$57,31,FALSE)","v":0},{"$f":"VLOOKUP($A48,BMai!$A$8:$AY$57,32,FALSE)","v":0},{"$f":"VLOOKUP($A48,BMai!$A$8:$AY$57,33,FALSE)","v":0},null,{"$f":"VLOOKUP($A48,BMai!$A$8:$AY$57,35,FALSE)","v":0},{"$f":"VLOOKUP($A48,Bilan!$A$8:$AY$57,35,FALSE)","v":0}]
[{"$f":"Données!$H46","v":"Coordinatrice"}]
[{"$f":"Données!$H47","v":"P"},null,null,null,null,null,null,null,null,null,null,null,null,null,null,null,null,null,null,null,null,null,null,null,null,null,null,null,null,null,null,null,null,null,null,null,null,{"$f":"VLOOKUP($A50,BMai!$A$8:$AY$57,31,FALSE)","v":0},{"$f":"VLOOKUP($A50,BMai!$A$8:$AY$57,32,FALSE)","v":0},{"$f":"VLOOKUP($A50,BMai!$A$8:$AY$57,33,FALSE)","v":0},null,{"$f":"VLOOKUP($A50,BMai!$A$8:$AY$57,35,FALSE)","v":0},{"$f":"VLOOKUP($A50,Bilan!$A$8:$AY$57,35,FALSE)","v":0}]
[{"$f":"Données!$H48","v":0},null,null,null,null,null,null,null,null,null,null,null,null,null,null,null,null,null,null,null,null,null,null,null,null,null,null,null,null,null,null,null,null,null,null,null,null,{"$f":"VLOOKUP($A51,BMai!$A$8:$AY$57,31,FALSE)","v":0},{"$f":"VLOOKUP($A51,BMai!$A$8:$AY$57,32,FALSE)","v":0},{"$f":"VLOOKUP($A51,BMai!$A$8:$AY$57,33,FALSE)","v":0},null,{"$f":"VLOOKUP($A51,BMai!$A$8:$AY$57,35,FALSE)","v":0},{"$f":"VLOOKUP($A51,Bilan!$A$8:$AY$57,35,FALSE)","v":0}]
[{"$f":"Données!$H49","v":0},null,null,null,null,null,null,null,null,null,null,null,null,null,null,null,null,null,null,null,null,null,null,null,null,null,null,null,null,null,null,null,null,null,null,null,null,{"$f":"VLOOKUP($A52,BMai!$A$8:$AY$57,31,FALSE)","v":0},{"$f":"VLOOKUP($A52,BMai!$A$8:$AY$57,32,FALSE)","v":0},{"$f":"VLOOKUP($A52,BMai!$A$8:$AY$57,33,FALSE)","v":0},null,{"$f":"VLOOKUP($A52,BMai!$A$8:$AY$57,35,FALSE)","v":0},{"$f":"VLOOKUP($A52,Bilan!$A$8:$AY$57,35,FALSE)","v":0}]
[{"$f":"Données!$H50","v":0},null,null,null,null,null,null,null,null,null,null,null,null,null,null,null,null,null,null,null,null,null,null,null,null,null,null,null,null,null,null,null,null,null,null,null,null,{"$f":"VLOOKUP($A53,BMai!$A$8:$AY$57,31,FALSE)","v":0},{"$f":"VLOOKUP($A53,BMai!$A$8:$AY$57,32,FALSE)","v":0},{"$f":"VLOOKUP($A53,BMai!$A$8:$AY$57,33,FALSE)","v":0},null,{"$f":"VLOOKUP($A53,BMai!$A$8:$AY$57,35,FALSE)","v":0},{"$f":"VLOOKUP($A53,Bilan!$A$8:$AY$57,35,FALSE)","v":0}]
[{"$f":"Données!$H51","v":0},null,null,null,null,null,null,null,null,null,null,null,null,null,null,null,null,null,null,null,null,null,null,null,null,null,null,null,null,null,null,null,null,null,null,null,null,{"$f":"VLOOKUP($A54,BMai!$A$8:$AY$57,31,FALSE)","v":0},{"$f":"VLOOKUP($A54,BMai!$A$8:$AY$57,32,FALSE)","v":0},{"$f":"VLOOKUP($A54,BMai!$A$8:$AY$57,33,FALSE)","v":0},null,{"$f":"VLOOKUP($A54,BMai!$A$8:$AY$57,35,FALSE)","v":0},{"$f":"VLOOKUP($A54,Bilan!$A$8:$AY$57,35,FALSE)","v":0}]
[{"$f":"Données!$H52","v":"Chef de service"}]
[{"$f":"Données!$H53","v":"Q"},null,null,null,null,null,null,null,null,null,null,null,null,null,null,null,null,null,null,null,null,null,null,null,null,null,null,null,null,null,null,null,null,null,null,null,null,{"$f":"VLOOKUP($A56,BMai!$A$8:$AY$57,31,FALSE)","v":0},{"$f":"VLOOKUP($A56,BMai!$A$8:$AY$57,32,FALSE)","v":0},{"$f":"VLOOKUP($A56,BMai!$A$8:$AY$57,33,FALSE)","v":0},null,{"$f":"VLOOKUP($A56,BMai!$A$8:$AY$57,35,FALSE)","v":0},{"$f":"VLOOKUP($A56,Bilan!$A$8:$AY$57,35,FALSE)","v":0}]
[]
[null,{"$f":"Données!$A3","v":"M"}," =",{"$f":"IF(ISBLANK(Données!$C3),TEXT(Données!$B3,\"hh:mm\"),TEXT(Données!$B3,\"hh:mm\")&\" : \"&TEXT(Données!$C3,\"hh:mm\"))","v":"07:00 : 14:35"},null,null,null,{"$f":"Données!$A7","v":"R"}," =",{"$f":"IF(ISBLANK(Données!$C7),TEXT(Données!$B7,\"hh:mm\"),TEXT(Données!$B7,\"hh:mm\")&\" : \"&TEXT(Données!$C7,\"hh:mm\"))","v":"10:00 : 12:00"},null,null,null,{"$f":"Données!$A10","v":"W"}," =",{"$f":"IF(ISBLANK(Données!$C10),TEXT(Données!$B10,\"hh:mm\"),TEXT(Données!$B10,\"hh:mm\")&\" : \"&TEXT(Données!$C10,\"hh:mm\"))","v":"07:30 : 19:15"},null,null,null,{"$f":"Données!$A14","v":"N"}," =",{"$f":"IF(ISBLANK(Données!$C14),TEXT(Données!$B14,\"hh:mm\"),TEXT(Données!$B14,\"hh:mm\")&\" : \"&TEXT(Données!$C14,\"hh:mm\"))","v":"20:30 : 07:15"},null,null,null,{"$f":"Données!$A18","v":"F"}," =",{"$f":"IF(ISBLANK(Données!$C18),TEXT(Données!$B18,\"hh:mm\"),TEXT(Données!$B18,\"hh:mm\")&\" : \"&TEXT(Données!$C18,\"hh:mm\"))","v":"F"}]
[null,{"$f":"Données!$A4","v":"MG"}," =",{"$f":"IF(ISBLANK(Données!$C4),TEXT(Données!$B4,\"hh:mm\"),TEXT(Données!$B4,\"hh:mm\")&\" : \"&TEXT(Données!$C4,\"hh:mm\"))","v":"23:00 : 01:35"},null,null,null,{"$f":"Données!$A8","v":"RS"}," =",{"$f":"IF(ISBLANK(Données!$C8),TEXT(Données!$B8,\"hh:mm\"),TEXT(Données!$B8,\"hh:mm\")&\" : \"&TEXT(Données!$C8,\"hh:mm\"))","v":"10:00 : 21:30"},null,null,null,{"$f":"Données!$A11","v":"W+"}," =",{"$f":"IF(ISBLANK(Données!$C11),TEXT(Données!$B11,\"hh:mm\"),TEXT(Données!$B11,\"hh:mm\")&\" : \"&TEXT(Données!$C11,\"hh:mm\"))","v":"10:00 : 21:30"},null,null,null,{"$f":"Données!$A15","v":"N+"}," =",{"$f":"IF(ISBLANK(Données!$C15),TEXT(Données!$B15,\"hh:mm\"),TEXT(Données!$B15,\"hh:mm\")&\" : \"&TEXT(Données!$C15,\"hh:mm\"))","v":"19:15 : 07:15"},null,null,null,{"$f":"Données!$A19","v":"SYN"}," =",{"$f":"IF(ISBLANK(Données!$C19),TEXT(Données!$B19,\"hh:mm\"),TEXT(Données!$B19,\"hh:mm\")&\" : \"&TEXT(Données!$C19,\"hh:mm\"))","v":"Syn"}]
[null,{"$f":"Données!$A5","v":"J"}," =",{"$f":"IF(ISBLANK(Données!$C5),TEXT(Données!$B5,\"hh:mm\"),TEXT(Données!$B5,\"hh:mm\")&\" : \"&TEXT(Données!$C5,\"hh:mm\"))","v":"10:00 : 17:30"},null,null,null,{"$f":"Données!$A9","v":"S"}," =",{"$f":"IF(ISBLANK(Données!$C9),TEXT(Données!$B9,\"hh:mm\"),TEXT(Données!$B9,\"hh:mm\")&\" : \"&TEXT(Données!$C9,\"hh:mm\"))","v":"14:00 : 21:30"},null,null,null,{"$f":"Données!$A12","v":"WD"}," =",{"$f":"IF(ISBLANK(Données!$C12),TEXT(Données!$B12,\"hh:mm\"),TEXT(Données!$B12,\"hh:mm\")&\" : \"&TEXT(Données!$C12,\"hh:mm\"))","v":"07:00 : 19:15"},null,null,null,{"$f":"Données!$A16","v":"NS"}," =",{"$f":"IF(ISBLANK(Données!$C16),TEXT(Données!$B16,\"hh:mm\"),TEXT(Données!$B16,\"hh:mm\")&\" : \"&TEXT(Données!$C16,\"hh:mm\"))","v":"19:15 : 07:15"},null,null,null,{"$f":"Données!$A20","v":"AT"}," =",{"$f":"IF(ISBLANK(Données!$C20),TEXT(Données!$B20,\"hh:mm\"),TEXT(Données!$B20,\"hh:mm\")&\" : \"&TEXT(Données!$C20,\"hh:mm\"))","v":"AT"}]
[null,{"$f":"Données!$A6","v":"J+"}," =",{"$f":"IF(ISBLANK(Données!$C6),TEXT(Données!$B6,\"hh:mm\"),TEXT(Données!$B6,\"hh:mm\")&\" : \"&TEXT(Données!$C6,\"hh:mm\"))","v":"11:30 : 19:15"},null,null,null,{"$f":"Données!$A10","v":"W"}," =",{"$f":"IF(ISBLANK(Données!$C10),TEXT(Données!$B10,\"hh:mm\"),TEXT(Données!$B10,\"hh:mm\")&\" : \"&TEXT(Données!$C10,\"hh:mm\"))","v":"07:30 : 19:15"},null,null,null,{"$f":"Données!$A13","v":"WF"}," =",{"$f":"IF(ISBLANK(Données!$C13),TEXT(Données!$B13,\"hh:mm\"),TEXT(Données!$B13,\"hh:mm\")&\" : \"&TEXT(Données!$C13,\"hh:mm\"))","v":"07:00 : 19:15"},null,null,null,{"$f":"Données!$A17","v":"T"}," =",{"$f":"IF(ISBLANK(Données!$C17),TEXT(Données!$B17,\"hh:mm\"),TEXT(Données!$B17,\"hh:mm\")&\" : \"&TEXT(Données!$C17,\"hh:mm\"))","v":"T"},null,null,null,{"$f":"Données!$A21","v":"AM"}," =",{"$f":"IF(ISBLANK(Données!$C21),TEXT(Données!$B21,\"hh:mm\"),TEXT(Données!$B21,\"hh:mm\")&\" : \"&TEXT(Données!$C21,\"hh:mm\"))","v":"AM"}]

{"sheet":"Juin","index":7,"n_rows":61,"n_cols":43,"rows_kept":61,"cut":false,"hidden":false,"merged":[[2,14,2,15]]}
[null,null,null,null,null,null,null,null,null,null,null,null,null,null,null,null,null,null,null,null,null,null,null,null,null,null,null,null,null,null,null,{"$f":"DATE(An,Mai,AF7)","v":"2018-04-30"}]
[null,{"$f":"DATE(An,Juin,B7)","v":"2018-06-01"},"2018-06-02","2018-06-03","2018-06-04","2018-06-05","2018-06-06","2018-06-07","2018-06-08","2018-06-09","2018-06-10","2018-06-11","2018-06-12","2018-06-13","2018-06-14","2018-06-15","2018-06-16","2018-06-17","2018-06-18","2018-06-19","2018-06-20","2018-06-21","2018-06-22","2018-06-23","2018-06-24","2018-06-25","2018-06-26","2018-06-27","2018-06-28","2018-06-29","2018-06-30",null,null,null,"Pour remplir ","penser     ",null,null,null,null,{"$f":"IF(ISNUMBER(AO7),DATE(An,Juin,AO7),\"\")","v":""},{"$f":"IF(ISNUMBER(AP7),DATE(An,Juin,AP7),\"\")","v":""}]
[{"$f":"IF(Données!$L$5=\"\",\"Service\",Données!$L$5)","v":"Service"},null,null,null,null,null,null,null,null,null,"Mois de Juin ",null,null,null,{"$f":"An","v":2018},null,null,null,null,null,null,null,null,null,null,null,null,null,null,null,null,null,null,null,"à mettre dans le format:\n"]
[null,null,null,null,null,null,null,null,null,null,null,null,null,null,null,null,null,null,null,null,null,null,null,null,null,null,null,null,null,null,null,null,null,null," \"heures\":\"Minutes\" "]
[null,null,null,null,null,null,null,null,null,null,null,null,null,null,null,null,null,null,null,null,null,null,null,null,null,null,null,null,null,null,null,null,null,null,"Heures sup ","Heures sup ",null,"Indications","Indications","Indications",null,"Total"]
["Jours",{"$f":"PROPER(LEFT(TEXT(DATE(An,Juin,B7),\"jjj\"),1))","v":"V"},"S","D","L","M","M","J","V","S","D","L","M","M","J","V","S","D","L","M","M","J","V","S","D","L","M","M","J","V","S",null,null,null,"avant 21h","après 21h",null,"Heures","Heures nuit","Heures",null,"Heures","Heures"]
[null,{"$f":"A7+1","v":1},2,3,4,5,6,7,8,9,10,11,12,13,14,15,16,17,18,19,20,21,22,23,24,25,26,27,28,29,30,null,null,null,"A remplir","A remplir",null," Dimanche"," Dimanche","après 21h",null," au mois","  a l'année"]
["Equipe de jour"]
[{"$f":"Données!$H6","v":"A"},null,null,null,null,null,null,null,null,null,null,null,null,null,null,null,null,null,null,null,null,null,null,null,null,null,null,null,null,null,null,null,null,null,null,null,null,{"$f":"VLOOKUP($A9,BJuin!$A$8:$AY$57,31,FALSE)","v":0},{"$f":"VLOOKUP($A9,BJuin!$A$8:$AY$57,32,FALSE)","v":0},{"$f":"VLOOKUP($A9,BJuin!$A$8:$AY$57,33,FALSE)","v":0},null,{"$f":"VLOOKUP($A9,BJuin!$A$8:$AY$57,35,FALSE)","v":0},{"$f":"VLOOKUP($A9,Bilan!$A$8:$AY$57,35,FALSE)","v":0}]
[{"$f":"Données!$H7","v":0},null,null,null,null,null,null,null,null,null,null,null,null,null,null,null,null,null,null,null,null,null,null,null,null,null,null,null,null,null,null,null,null,null,null,null,null,{"$f":"VLOOKUP($A10,BJuin!$A$8:$AY$57,31,FALSE)","v":0},{"$f":"VLOOKUP($A10,BJuin!$A$8:$AY$57,32,FALSE)","v":0},{"$f":"VLOOKUP($A10,BJuin!$A$8:$AY$57,33,FALSE)","v":0},null,{"$f":"VLOOKUP($A10,BJuin!$A$8:$AY$57,35,FALSE)","v":0},{"$f":"VLOOKUP($A10,Bilan!$A$8:$AY$57,35,FALSE)","v":0}]
[{"$f":"Données!$H8","v":0},null,null,null,null,null,null,null,null,null,null,null,null,null,null,null,null,null,null,null,null,null,null,null,null,null,null,null,null,null,null,null,null,null,null,null,null,{"$f":"VLOOKUP($A11,BJuin!$A$8:$AY$57,31,FALSE)","v":0},{"$f":"VLOOKUP($A11,BJuin!$A$8:$AY$57,32,FALSE)","v":0},{"$f":"VLOOKUP($A11,BJuin!$A$8:$AY$57,33,FALSE)","v":0},null,{"$f":"VLOOKUP($A11,BJuin!$A$8:$AY$57,35,FALSE)","v":0},{"$f":"VLOOKUP($A11,Bilan!$A$8:$AY$57,35,FALSE)","v":0}]
[{"$f":"Données!$H9","v":0},null,null,null,null,null,null,null,null,null,null,null,null,null,null,null,null,null,null,null,null,null,null,null,null,null,null,null,null,null,null,null,null,null,null,null,null,{"$f":"VLOOKUP($A12,BJuin!$A$8:$AY$57,31,FALSE)","v":0},{"$f":"VLOOKUP($A12,BJuin!$A$8:$AY$57,32,FALSE)","v":0},{"$f":"VLOOKUP($A12,BJuin!$A$8:$AY$57,33,FALSE)","v":0},null,{"$f":"VLOOKUP($A12,BJuin!$A$8:$AY$57,35,FALSE)","v":0},{"$f":"VLOOKUP($A12,Bilan!$A$8:$AY$57,35,FALSE)","v":0}]
[{"$f":"Données!$H10","v":0},null,null,null,null,null,null,null,null,null,null,null,null,null,null,null,null,null,null,null,null,null,null,null,null,null,null,null,null,null,null,null,null,null,null,null,null,{"$f":"VLOOKUP($A13,BJuin!$A$8:$AY$57,31,FALSE)","v":0},{"$f":"VLOOKUP($A13,BJuin!$A$8:$AY$57,32,FALSE)","v":0},{"$f":"VLOOKUP($A13,BJuin!$A$8:$AY$57,33,FALSE)","v":0},null,{"$f":"VLOOKUP($A13,BJuin!$A$8:$AY$57,35,FALSE)","v":0},{"$f":"VLOOKUP($A13,Bilan!$A$8:$AY$57,35,FALSE)","v":0}]
[{"$f":"Données!$H11","v":0},null,null,null,null,null,null,null,null,null,null,null,null,null,null,null,null,null,null,null,null,null,null,null,null,null,null,null,null,null,null,null,null,null,null,null,null,{"$f":"VLOOKUP($A14,BJuin!$A$8:$AY$57,31,FALSE)","v":0},{"$f":"VLOOKUP($A14,BJuin!$A$8:$AY$57,32,FALSE)","v":0},{"$f":"VLOOKUP($A14,BJuin!$A$8:$AY$57,33,FALSE)","v":0},null,{"$f":"VLOOKUP($A14,BJuin!$A$8:$AY$57,35,FALSE)","v":0},{"$f":"VLOOKUP($A14,Bilan!$A$8:$AY$57,35,FALSE)","v":0}]
[{"$f":"Données!$H12","v":0},null,null,null,null,null,null,null,null,null,null,null,null,null,null,null,null,null,null,null,null,null,null,null,null,null,null,null,null,null,null,null,null,null,null,null,null,{"$f":"VLOOKUP($A15,BJuin!$A$8:$AY$57,31,FALSE)","v":0},{"$f":"VLOOKUP($A15,BJuin!$A$8:$AY$57,32,FALSE)","v":0},{"$f":"VLOOKUP($A15,BJuin!$A$8:$AY$57,33,FALSE)","v":0},null,{"$f":"VLOOKUP($A15,BJuin!$A$8:$AY$57,35,FALSE)","v":0},{"$f":"VLOOKUP($A15,Bilan!$A$8:$AY$57,35,FALSE)","v":0}]
[{"$f":"Données!$H13","v":0},null,null,null,null,null,null,null,null,null,null,null,null,null,null,null,null,null,null,null,null,null,null,null,null,null,null,null,null,null,null,null,null,null,null,null,null,{"$f":"VLOOKUP($A16,BJuin!$A$8:$AY$57,31,FALSE)","v":0},{"$f":"VLOOKUP($A16,BJuin!$A$8:$AY$57,32,FALSE)","v":0},{"$f":"VLOOKUP($A16,BJuin!$A$8:$AY$57,33,FALSE)","v":0},null,{"$f":"VLOOKUP($A16,BJuin!$A$8:$AY$57,35,FALSE)","v":0},{"$f":"VLOOKUP($A16,Bilan!$A$8:$AY$57,35,FALSE)","v":0}]
[{"$f":"Données!$H14","v":0},null,null,null,null,null,null,null,null,null,null,null,null,null,null,null,null,null,null,null,null,null,null,null,null,null,null,null,null,null,null,null,null,null,null,null,null,{"$f":"VLOOKUP($A17,BJuin!$A$8:$AY$57,31,FALSE)","v":0},{"$f":"VLOOKUP($A17,BJuin!$A$8:$AY$57,32,FALSE)","v":0},{"$f":"VLOOKUP($A17,BJuin!$A$8:$AY$57,33,FALSE)","v":0},null,{"$f":"VLOOKUP($A17,BJuin!$A$8:$AY$57,35,FALSE)","v":0},{"$f":"VLOOKUP($A17,Bilan!$A$8:$AY$57,35,FALSE)","v":0}]
[{"$f":"Données!$H15","v":0},null,null,null,null,null,null,null,null,null,null,null,null,null,null,null,null,null,null,null,null,null,null,null,null,null,null,null,null,null,null,null,null,null,null,null,null,{"$f":"VLOOKUP($A18,BJuin!$A$8:$AY$57,31,FALSE)","v":0},{"$f":"VLOOKUP($A18,BJuin!$A$8:$AY$57,32,FALSE)","v":0},{"$f":"VLOOKUP($A18,BJuin!$A$8:$AY$57,33,FALSE)","v":0},null,{"$f":"VLOOKUP($A18,BJuin!$A$8:$AY$57,35,FALSE)","v":0},{"$f":"VLOOKUP($A18,Bilan!$A$8:$AY$57,35,FALSE)","v":0}]
[{"$f":"Données!$H16","v":0},null,null,null,null,null,null,null,null,null,null,null,null,null,null,null,null,null,null,null,null,null,null,null,null,null,null,null,null,null,null,null,null,null,null,null,null,{"$f":"VLOOKUP($A19,BJuin!$A$8:$AY$57,31,FALSE)","v":0},{"$f":"VLOOKUP($A19,BJuin!$A$8:$AY$57,32,FALSE)","v":0},{"$f":"VLOOKUP($A19,BJuin!$A$8:$AY$57,33,FALSE)","v":0},null,{"$f":"VLOOKUP($A19,BJuin!$A$8:$AY$57,35,FALSE)","v":0},{"$f":"VLOOKUP($A19,Bilan!$A$8:$AY$57,35,FALSE)","v":0}]
[{"$f":"Données!$H17","v":0},null,null,null,null,null,null,null,null,null,null,null,null,null,null,null,null,null,null,null,null,null,null,null,null,null,null,null,null,null,null,null,null,null,null,null,null,{"$f":"VLOOKUP($A20,BJuin!$A$8:$AY$57,31,FALSE)","v":0},{"$f":"VLOOKUP($A20,BJuin!$A$8:$AY$57,32,FALSE)","v":0},{"$f":"VLOOKUP($A20,BJuin!$A$8:$AY$57,33,FALSE)","v":0},null,{"$f":"VLOOKUP($A20,BJuin!$A$8:$AY$57,35,FALSE)","v":0},{"$f":"VLOOKUP($A20,Bilan!$A$8:$AY$57,35,FALSE)","v":0}]
[{"$f":"Données!$H18","v":0},null,null,null,null,null,null,null,null,null,null,null,null,null,null,null,null,null,null,null,null,null,null,null,null,null,null,null,null,null,null,null,null,null,null,null,null,{"$f":"VLOOKUP($A21,BJuin!$A$8:$AY$57,31,FALSE)","v":0},{"$f":"VLOOKUP($A21,BJuin!$A$8:$AY$57,32,FALSE)","v":0},{"$f":"VLOOKUP($A21,BJuin!$A$8:$AY$57,33,FALSE)","v":0},null,{"$f":"VLOOKUP($A21,BJuin!$A$8:$AY$57,35,FALSE)","v":0},{"$f":"VLOOKUP($A21,Bilan!$A$8:$AY$57,35,FALSE)","v":0}]
[{"$f":"Données!$H19","v":0},null,null,null,null,null,null,null,null,null,null,null,null,null,null,null,null,null,null,null,null,null,null,null,null,null,null,null,null,null,null,null,null,null,null,null,null,{"$f":"VLOOKUP($A22,BJuin!$A$8:$AY$57,31,FALSE)","v":0},{"$f":"VLOOKUP($A22,BJuin!$A$8:$AY$57,32,FALSE)","v":0},{"$f":"VLOOKUP($A22,BJuin!$A$8:$AY$57,33,FALSE)","v":0},null,{"$f":"VLOOKUP($A22,BJuin!$A$8:$AY$57,35,FALSE)","v":0},{"$f":"VLOOKUP($A22,Bilan!$A$8:$AY$57,35,FALSE)","v":0}]
[{"$f":"Données!$H20","v":0},null,null,null,null,null,null,null,null,null,null,null,null,null,null,null,null,null,null,null,null,null,null,null,null,null,null,null,null,null,null,null,null,null,null,null,null,{"$f":"VLOOKUP($A23,BJuin!$A$8:$AY$57,31,FALSE)","v":0},{"$f":"VLOOKUP($A23,BJuin!$A$8:$AY$57,32,FALSE)","v":0},{"$f":"VLOOKUP($A23,BJuin!$A$8:$AY$57,33,FALSE)","v":0},null,{"$f":"VLOOKUP($A23,BJuin!$A$8:$AY$57,35,FALSE)","v":0},{"$f":"VLOOKUP($A23,Bilan!$A$8:$AY$57,35,FALSE)","v":0}]
[{"$f":"Données!$H21","v":0},null,null,null,null,null,null,null,null,null,null,null,null,null,null,null,null,null,null,null,null,null,null,null,null,null,null,null,null,null,null,null,null,null,null,null,null,{"$f":"VLOOKUP($A24,BJuin!$A$8:$AY$57,31,FALSE)","v":0},{"$f":"VLOOKUP($A24,BJuin!$A$8:$AY$57,32,FALSE)","v":0},{"$f":"VLOOKUP($A24,BJuin!$A$8:$AY$57,33,FALSE)","v":0},null,{"$f":"VLOOKUP($A24,BJuin!$A$8:$AY$57,35,FALSE)","v":0},{"$f":"VLOOKUP($A24,Bilan!$A$8:$AY$57,35,FALSE)","v":0}]
[{"$f":"Données!$H22","v":"Equipe de nuit"}]
[{"$f":"Données!$H23","v":"K"},null,null,null,null,null,null,null,null,null,null,null,null,null,null,null,null,null,null,null,null,null,null,null,null,null,null,null,null,null,null,null,null,null,null,null,null,{"$f":"VLOOKUP($A26,BJuin!$A$8:$AY$57,31,FALSE)","v":0},{"$f":"VLOOKUP($A26,BJuin!$A$8:$AY$57,32,FALSE)","v":0},{"$f":"VLOOKUP($A26,BJuin!$A$8:$AY$57,33,FALSE)","v":0},null,{"$f":"VLOOKUP($A26,BJuin!$A$8:$AY$57,35,FALSE)","v":0},{"$f":"VLOOKUP($A26,Bilan!$A$8:$AY$57,35,FALSE)","v":0}]
[{"$f":"Données!$H24","v":0},null,null,null,null,null,null,null,null,null,null,null,null,null,null,null,null,null,null,null,null,null,null,null,null,null,null,null,null,null,null,null,null,null,null,null,null,{"$f":"VLOOKUP($A27,BJuin!$A$8:$AY$57,31,FALSE)","v":0},{"$f":"VLOOKUP($A27,BJuin!$A$8:$AY$57,32,FALSE)","v":0},{"$f":"VLOOKUP($A27,BJuin!$A$8:$AY$57,33,FALSE)","v":0},null,{"$f":"VLOOKUP($A27,BJuin!$A$8:$AY$57,35,FALSE)","v":0},{"$f":"VLOOKUP($A27,Bilan!$A$8:$AY$57,35,FALSE)","v":0}]
[{"$f":"Données!$H25","v":0},null,null,null,null,null,null,null,null,null,null,null,null,null,null,null,null,null,null,null,null,null,null,null,null,null,null,null,null,null,null,null,null,null,null,null,null,{"$f":"VLOOKUP($A28,BJuin!$A$8:$AY$57,31,FALSE)","v":0},{"$f":"VLOOKUP($A28,BJuin!$A$8:$AY$57,32,FALSE)","v":0},{"$f":"VLOOKUP($A28,BJuin!$A$8:$AY$57,33,FALSE)","v":0},null,{"$f":"VLOOKUP($A28,BJuin!$A$8:$AY$57,35,FALSE)","v":0},{"$f":"VLOOKUP($A28,Bilan!$A$8:$AY$57,35,FALSE)","v":0}]
[{"$f":"Données!$H26","v":0},null,null,null,null,null,null,null,null,null,null,null,null,null,null,null,null,null,null,null,null,null,null,null,null,null,null,null,null,null,null,null,null,null,null,null,null,{"$f":"VLOOKUP($A29,BJuin!$A$8:$AY$57,31,FALSE)","v":0},{"$f":"VLOOKUP($A29,BJuin!$A$8:$AY$57,32,FALSE)","v":0},{"$f":"VLOOKUP($A29,BJuin!$A$8:$AY$57,33,FALSE)","v":0},null,{"$f":"VLOOKUP($A29,BJuin!$A$8:$AY$57,35,FALSE)","v":0},{"$f":"VLOOKUP($A29,Bilan!$A$8:$AY$57,35,FALSE)","v":0}]
[{"$f":"Données!$H27","v":0},null,null,null,null,null,null,null,null,null,null,null,null,null,null,null,null,null,null,null,null,null,null,null,null,null,null,null,null,null,null,null,null,null,null,null,null,{"$f":"VLOOKUP($A30,BJuin!$A$8:$AY$57,31,FALSE)","v":0},{"$f":"VLOOKUP($A30,BJuin!$A$8:$AY$57,32,FALSE)","v":0},{"$f":"VLOOKUP($A30,BJuin!$A$8:$AY$57,33,FALSE)","v":0},null,{"$f":"VLOOKUP($A30,BJuin!$A$8:$AY$57,35,FALSE)","v":0},{"$f":"VLOOKUP($A30,Bilan!$A$8:$AY$57,35,FALSE)","v":0}]
[{"$f":"Données!$H28","v":0},null,null,null,null,null,null,null,null,null,null,null,null,null,null,null,null,null,null,null,null,null,null,null,null,null,null,null,null,null,null,null,null,null,null,null,null,{"$f":"VLOOKUP($A31,BJuin!$A$8:$AY$57,31,FALSE)","v":0},{"$f":"VLOOKUP($A31,BJuin!$A$8:$AY$57,32,FALSE)","v":0},{"$f":"VLOOKUP($A31,BJuin!$A$8:$AY$57,33,FALSE)","v":0},null,{"$f":"VLOOKUP($A31,BJuin!$A$8:$AY$57,35,FALSE)","v":0},{"$f":"VLOOKUP($A31,Bilan!$A$8:$AY$57,35,FALSE)","v":0}]
[{"$f":"Données!$H29","v":0},null,null,null,null,null,null,null,null,null,null,null,null,null,null,null,null,null,null,null,null,null,null,null,null,null,null,null,null,null,null,null,null,null,null,null,null,{"$f":"VLOOKUP($A32,BJuin!$A$8:$AY$57,31,FALSE)","v":0},{"$f":"VLOOKUP($A32,BJuin!$A$8:$AY$57,32,FALSE)","v":0},{"$f":"VLOOKUP($A32,BJuin!$A$8:$AY$57,33,FALSE)","v":0},null,{"$f":"VLOOKUP($A32,BJuin!$A$8:$AY$57,35,FALSE)","v":0},{"$f":"VLOOKUP($A32,Bilan!$A$8:$AY$57,35,FALSE)","v":0}]
[{"$f":"Données!$H30","v":0},null,null,null,null,null,null,null,null,null,null,null,null,null,null,null,null,null,null,null,null,null,null,null,null,null,null,null,null,null,null,null,null,null,null,null,null,{"$f":"VLOOKUP($A33,BJuin!$A$8:$AY$57,31,FALSE)","v":0},{"$f":"VLOOKUP($A33,BJuin!$A$8:$AY$57,32,FALSE)","v":0},{"$f":"VLOOKUP($A33,BJuin!$A$8:$AY$57,33,FALSE)","v":0},null,{"$f":"VLOOKUP($A33,BJuin!$A$8:$AY$57,35,FALSE)","v":0},{"$f":"VLOOKUP($A33,Bilan!$A$8:$AY$57,35,FALSE)","v":0}]
[{"$f":"Données!$H31","v":0},null,null,null,null,null,null,null,null,null,null,null,null,null,null,null,null,null,null,null,null,null,null,null,null,null,null,null,null,null,null,null,null,null,null,null,null,{"$f":"VLOOKUP($A34,BJuin!$A$8:$AY$57,31,FALSE)","v":0},{"$f":"VLOOKUP($A34,BJuin!$A$8:$AY$57,32,FALSE)","v":0},{"$f":"VLOOKUP($A34,BJuin!$A$8:$AY$57,33,FALSE)","v":0},null,{"$f":"VLOOKUP($A34,BJuin!$A$8:$AY$57,35,FALSE)","v":0},{"$f":"VLOOKUP($A34,Bilan!$A$8:$AY$57,35,FALSE)","v":0}]
[{"$f":"Données!$H32","v":"Maitresse de maison"}]
[{"$f":"Données!$H33","v":"N"},null,null,null,null,null,null,null,null,null,null,null,null,null,null,null,null,null,null,null,null,null,null,null,null,null,null,null,null,null,null,null,null,null,null,null,null,{"$f":"VLOOKUP($A36,BJuin!$A$8:$AY$57,31,FALSE)","v":0},{"$f":"VLOOKUP($A36,BJuin!$A$8:$AY$57,32,FALSE)","v":0},{"$f":"VLOOKUP($A36,BJuin!$A$8:$AY$57,33,FALSE)","v":0},null,{"$f":"VLOOKUP($A36,BJuin!$A$8:$AY$57,35,FALSE)","v":0},{"$f":"VLOOKUP($A36,Bilan!$A$8:$AY$57,35,FALSE)","v":0}]
[{"$f":"Données!$H34","v":0},null,null,null,null,null,null,null,null,null,null,null,null,null,null,null,null,null,null,null,null,null,null,null,null,null,null,null,null,null,null,null,null,null,null,null,null,{"$f":"VLOOKUP($A37,BJuin!$A$8:$AY$57,31,FALSE)","v":0},{"$f":"VLOOKUP($A37,BJuin!$A$8:$AY$57,32,FALSE)","v":0},{"$f":"VLOOKUP($A37,BJuin!$A$8:$AY$57,33,FALSE)","v":0},null,{"$f":"VLOOKUP($A37,BJuin!$A$8:$AY$57,35,FALSE)","v":0},{"$f":"VLOOKUP($A37,Bilan!$A$8:$AY$57,35,FALSE)","v":0}]
[{"$f":"Données!$H35","v":0},null,null,null,null,null,null,null,null,null,null,null,null,null,null,null,null,null,null,null,null,null,null,null,null,null,null,null,null,null,null,null,null,null,null,null,null,{"$f":"VLOOKUP($A38,BJuin!$A$8:$AY$57,31,FALSE)","v":0},{"$f":"VLOOKUP($A38,BJuin!$A$8:$AY$57,32,FALSE)","v":0},{"$f":"VLOOKUP($A38,BJuin!$A$8:$AY$57,33,FALSE)","v":0},null,{"$f":"VLOOKUP($A38,BJuin!$A$8:$AY$57,35,FALSE)","v":0},{"$f":"VLOOKUP($A38,Bilan!$A$8:$AY$57,35,FALSE)","v":0}]
[{"$f":"Données!$H36","v":0},null,null,null,null,null,null,null,null,null,null,null,null,null,null,null,null,null,null,null,null,null,null,null,null,null,null,null,null,null,null,null,null,null,null,null,null,{"$f":"VLOOKUP($A39,BJuin!$A$8:$AY$57,31,FALSE)","v":0},{"$f":"VLOOKUP($A39,BJuin!$A$8:$AY$57,32,FALSE)","v":0},{"$f":"VLOOKUP($A39,BJuin!$A$8:$AY$57,33,FALSE)","v":0},null,{"$f":"VLOOKUP($A39,BJuin!$A$8:$AY$57,35,FALSE)","v":0},{"$f":"VLOOKUP($A39,Bilan!$A$8:$AY$57,35,FALSE)","v":0}]
[{"$f":"Données!$H37","v":0},null,null,null,null,null,null,null,null,null,null,null,null,null,null,null,null,null,null,null,null,null,null,null,null,null,null,null,null,null,null,null,null,null,null,null,null,{"$f":"VLOOKUP($A40,BJuin!$A$8:$AY$57,31,FALSE)","v":0},{"$f":"VLOOKUP($A40,BJuin!$A$8:$AY$57,32,FALSE)","v":0},{"$f":"VLOOKUP($A40,BJuin!$A$8:$AY$57,33,FALSE)","v":0},null,{"$f":"VLOOKUP($A40,BJuin!$A$8:$AY$57,35,FALSE)","v":0},{"$f":"VLOOKUP($A40,Bilan!$A$8:$AY$57,35,FALSE)","v":0}]
[{"$f":"Données!$H38","v":0},null,null,null,null,null,null,null,null,null,null,null,null,null,null,null,null,null,null,null,null,null,null,null,null,null,null,null,null,null,null,null,null,null,null,null,null,{"$f":"VLOOKUP($A41,BJuin!$A$8:$AY$57,31,FALSE)","v":0},{"$f":"VLOOKUP($A41,BJuin!$A$8:$AY$57,32,FALSE)","v":0},{"$f":"VLOOKUP($A41,BJuin!$A$8:$AY$57,33,FALSE)","v":0},null,{"$f":"VLOOKUP($A41,BJuin!$A$8:$AY$57,35,FALSE)","v":0},{"$f":"VLOOKUP($A41,Bilan!$A$8:$AY$57,35,FALSE)","v":0}]
[{"$f":"Données!$H39","v":0},null,null,null,null,null,null,null,null,null,null,null,null,null,null,null,null,null,null,null,null,null,null,null,null,null,null,null,null,null,null,null,null,null,null,null,null,{"$f":"VLOOKUP($A42,BJuin!$A$8:$AY$57,31,FALSE)","v":0},{"$f":"VLOOKUP($A42,BJuin!$A$8:$AY$57,32,FALSE)","v":0},{"$f":"VLOOKUP($A42,BJuin!$A$8:$AY$57,33,FALSE)","v":0},null,{"$f":"VLOOKUP($A42,BJuin!$A$8:$AY$57,35,FALSE)","v":0},{"$f":"VLOOKUP($A42,Bilan!$A$8:$AY$57,35,FALSE)","v":0}]
[{"$f":"Données!$H40","v":0},null,null,null,null,null,null,null,null,null,null,null,null,null,null,null,null,null,null,null,null,null,null,null,null,null,null,null,null,null,null,null,null,null,null,null,null,{"$f":"VLOOKUP($A43,BJuin!$A$8:$AY$57,31,FALSE)","v":0},{"$f":"VLOOKUP($A43,BJuin!$A$8:$AY$57,32,FALSE)","v":0},{"$f":"VLOOKUP($A43,BJuin!$A$8:$AY$57,33,FALSE)","v":0},null,{"$f":"VLOOKUP($A43,BJuin!$A$8:$AY$57,35,FALSE)","v":0},{"$f":"VLOOKUP($A43,Bilan!$A$8:$AY$57,35,FALSE)","v":0}]
[{"$f":"Données!$H41","v":0},null,null,null,null,null,null,null,null,null,null,null,null,null,null,null,null,null,null,null,null,null,null,null,null,null,null,null,null,null,null,null,null,null,null,null,null,{"$f":"VLOOKUP($A44,BJuin!$A$8:$AY$57,31,FALSE)","v":0},{"$f":"VLOOKUP($A44,BJuin!$A$8:$AY$57,32,FALSE)","v":0},{"$f":"VLOOKUP($A44,BJuin!$A$8:$AY$57,33,FALSE)","v":0},null,{"$f":"VLOOKUP($A44,BJuin!$A$8:$AY$57,35,FALSE)","v":0},{"$f":"VLOOKUP($A44,Bilan!$A$8:$AY$57,35,FALSE)","v":0}]
[{"$f":"Données!$H42","v":"Psychologue"}]
[{"$f":"Données!$H43","v":"O"},null,null,null,null,null,null,null,null,null,null,null,null,null,null,null,null,null,null,null,null,null,null,null,null,null,null,null,null,null,null,null,null,null,null,null,null,{"$f":"VLOOKUP($A46,BJuin!$A$8:$AY$57,31,FALSE)","v":0},{"$f":"VLOOKUP($A46,BJuin!$A$8:$AY$57,32,FALSE)","v":0},{"$f":"VLOOKUP($A46,BJuin!$A$8:$AY$57,33,FALSE)","v":0},null,{"$f":"VLOOKUP($A46,BJuin!$A$8:$AY$57,35,FALSE)","v":0},{"$f":"VLOOKUP($A46,Bilan!$A$8:$AY$57,35,FALSE)","v":0}]
[{"$f":"Données!$H44","v":0},null,null,null,null,null,null,null,null,null,null,null,null,null,null,null,null,null,null,null,null,null,null,null,null,null,null,null,null,null,null,null,null,null,null,null,null,{"$f":"VLOOKUP($A47,BJuin!$A$8:$AY$57,31,FALSE)","v":0},{"$f":"VLOOKUP($A47,BJuin!$A$8:$AY$57,32,FALSE)","v":0},{"$f":"VLOOKUP($A47,BJuin!$A$8:$AY$57,33,FALSE)","v":0},null,{"$f":"VLOOKUP($A47,BJuin!$A$8:$AY$57,35,FALSE)","v":0},{"$f":"VLOOKUP($A47,Bilan!$A$8:$AY$57,35,FALSE)","v":0}]
[{"$f":"Données!$H45","v":0},null,null,null,null,null,null,null,null,null,null,null,null,null,null,null,null,null,null,null,null,null,null,null,null,null,null,null,null,null,null,null,null,null,null,null,null,{"$f":"VLOOKUP($A48,BJuin!$A$8:$AY$57,31,FALSE)","v":0},{"$f":"VLOOKUP($A48,BJuin!$A$8:$AY$57,32,FALSE)","v":0},{"$f":"VLOOKUP($A48,BJuin!$A$8:$AY$57,33,FALSE)","v":0},null,{"$f":"VLOOKUP($A48,BJuin!$A$8:$AY$57,35,FALSE)","v":0},{"$f":"VLOOKUP($A48,Bilan!$A$8:$AY$57,35,FALSE)","v":0}]
[{"$f":"Données!$H46","v":"Coordinatrice"}]
[{"$f":"Données!$H47","v":"P"},null,null,null,null,null,null,null,null,null,null,null,null,null,null,null,null,null,null,null,null,null,null,null,null,null,null,null,null,null,null,null,null,null,null,null,null,{"$f":"VLOOKUP($A50,BJuin!$A$8:$AY$57,31,FALSE)","v":0},{"$f":"VLOOKUP($A50,BJuin!$A$8:$AY$57,32,FALSE)","v":0},{"$f":"VLOOKUP($A50,BJuin!$A$8:$AY$57,33,FALSE)","v":0},null,{"$f":"VLOOKUP($A50,BJuin!$A$8:$AY$57,35,FALSE)","v":0},{"$f":"VLOOKUP($A50,Bilan!$A$8:$AY$57,35,FALSE)","v":0}]
[{"$f":"Données!$H48","v":0},null,null,null,null,null,null,null,null,null,null,null,null,null,null,null,null,null,null,null,null,null,null,null,null,null,null,null,null,null,null,null,null,null,null,null,null,{"$f":"VLOOKUP($A51,BJuin!$A$8:$AY$57,31,FALSE)","v":0},{"$f":"VLOOKUP($A51,BJuin!$A$8:$AY$57,32,FALSE)","v":0},{"$f":"VLOOKUP($A51,BJuin!$A$8:$AY$57,33,FALSE)","v":0},null,{"$f":"VLOOKUP($A51,BJuin!$A$8:$AY$57,35,FALSE)","v":0},{"$f":"VLOOKUP($A51,Bilan!$A$8:$AY$57,35,FALSE)","v":0}]
[{"$f":"Données!$H49","v":0},null,null,null,null,null,null,null,null,null,null,null,null,null,null,null,null,null,null,null,null,null,null,null,null,null,null,null,null,null,null,null,null,null,null,null,null,{"$f":"VLOOKUP($A52,BJuin!$A$8:$AY$57,31,FALSE)","v":0},{"$f":"VLOOKUP($A52,BJuin!$A$8:$AY$57,32,FALSE)","v":0},{"$f":"VLOOKUP($A52,BJuin!$A$8:$AY$57,33,FALSE)","v":0},null,{"$f":"VLOOKUP($A52,BJuin!$A$8:$AY$57,35,FALSE)","v":0},{"$f":"VLOOKUP($A52,Bilan!$A$8:$AY$57,35,FALSE)","v":0}]
[{"$f":"Données!$H50","v":0},null,null,null,null,null,null,null,null,null,null,null,null,null,null,null,null,null,null,null,null,null,null,null,null,null,null,null,null,null,null,null,null,null,null,null,null,{"$f":"VLOOKUP($A53,BJuin!$A$8:$AY$57,31,FALSE)","v":0},{"$f":"VLOOKUP($A53,BJuin!$A$8:$AY$57,32,FALSE)","v":0},{"$f":"VLOOKUP($A53,BJuin!$A$8:$AY$57,33,FALSE)","v":0},null,{"$f":"VLOOKUP($A53,BJuin!$A$8:$AY$57,35,FALSE)","v":0},{"$f":"VLOOKUP($A53,Bilan!$A$8:$AY$57,35,FALSE)","v":0}]
[{"$f":"Données!$H51","v":0},null,null,null,null,null,null,null,null,null,null,null,null,null,null,null,null,null,null,null,null,null,null,null,null,null,null,null,null,null,null,null,null,null,null,null,null,{"$f":"VLOOKUP($A54,BJuin!$A$8:$AY$57,31,FALSE)","v":0},{"$f":"VLOOKUP($A54,BJuin!$A$8:$AY$57,32,FALSE)","v":0},{"$f":"VLOOKUP($A54,BJuin!$A$8:$AY$57,33,FALSE)","v":0},null,{"$f":"VLOOKUP($A54,BJuin!$A$8:$AY$57,35,FALSE)","v":0},{"$f":"VLOOKUP($A54,Bilan!$A$8:$AY$57,35,FALSE)","v":0}]
[{"$f":"Données!$H52","v":"Chef de service"}]
[{"$f":"Données!$H53","v":"Q"},null,null,null,null,null,null,null,null,null,null,null,null,null,null,null,null,null,null,null,null,null,null,null,null,null,null,null,null,null,null,null,null,null,null,null,null,{"$f":"VLOOKUP($A56,BJuin!$A$8:$AY$57,31,FALSE)","v":0},{"$f":"VLOOKUP($A56,BJuin!$A$8:$AY$57,32,FALSE)","v":0},{"$f":"VLOOKUP($A56,BJuin!$A$8:$AY$57,33,FALSE)","v":0},null,{"$f":"VLOOKUP($A56,BJuin!$A$8:$AY$57,35,FALSE)","v":0},{"$f":"VLOOKUP($A56,Bilan!$A$8:$AY$57,35,FALSE)","v":0}]
[]
[null,{"$f":"Données!$A3","v":"M"}," =",{"$f":"IF(ISBLANK(Données!$C3),TEXT(Données!$B3,\"hh:mm\"),TEXT(Données!$B3,\"hh:mm\")&\" : \"&TEXT(Données!$C3,\"hh:mm\"))","v":"07:00 : 14:35"},null,null,null,{"$f":"Données!$A7","v":"R"}," =",{"$f":"IF(ISBLANK(Données!$C7),TEXT(Données!$B7,\"hh:mm\"),TEXT(Données!$B7,\"hh:mm\")&\" : \"&TEXT(Données!$C7,\"hh:mm\"))","v":"10:00 : 12:00"},null,null,null,{"$f":"Données!$A10","v":"W"}," =",{"$f":"IF(ISBLANK(Données!$C10),TEXT(Données!$B10,\"hh:mm\"),TEXT(Données!$B10,\"hh:mm\")&\" : \"&TEXT(Données!$C10,\"hh:mm\"))","v":"07:30 : 19:15"},null,null,null,{"$f":"Données!$A14","v":"N"}," =",{"$f":"IF(ISBLANK(Données!$C14),TEXT(Données!$B14,\"hh:mm\"),TEXT(Données!$B14,\"hh:mm\")&\" : \"&TEXT(Données!$C14,\"hh:mm\"))","v":"20:30 : 07:15"},null,null,null,{"$f":"Données!$A18","v":"F"}," =",{"$f":"IF(ISBLANK(Données!$C18),TEXT(Données!$B18,\"hh:mm\"),TEXT(Données!$B18,\"hh:mm\")&\" : \"&TEXT(Données!$C18,\"hh:mm\"))","v":"F"}]
[null,{"$f":"Données!$A4","v":"MG"}," =",{"$f":"IF(ISBLANK(Données!$C4),TEXT(Données!$B4,\"hh:mm\"),TEXT(Données!$B4,\"hh:mm\")&\" : \"&TEXT(Données!$C4,\"hh:mm\"))","v":"23:00 : 01:35"},null,null,null,{"$f":"Données!$A8","v":"RS"}," =",{"$f":"IF(ISBLANK(Données!$C8),TEXT(Données!$B8,\"hh:mm\"),TEXT(Données!$B8,\"hh:mm\")&\" : \"&TEXT(Données!$C8,\"hh:mm\"))","v":"10:00 : 21:30"},null,null,null,{"$f":"Données!$A11","v":"W+"}," =",{"$f":"IF(ISBLANK(Données!$C11),TEXT(Données!$B11,\"hh:mm\"),TEXT(Données!$B11,\"hh:mm\")&\" : \"&TEXT(Données!$C11,\"hh:mm\"))","v":"10:00 : 21:30"},null,null,null,{"$f":"Données!$A15","v":"N+"}," =",{"$f":"IF(ISBLANK(Données!$C15),TEXT(Données!$B15,\"hh:mm\"),TEXT(Données!$B15,\"hh:mm\")&\" : \"&TEXT(Données!$C15,\"hh:mm\"))","v":"19:15 : 07:15"},null,null,null,{"$f":"Données!$A19","v":"SYN"}," =",{"$f":"IF(ISBLANK(Données!$C19),TEXT(Données!$B19,\"hh:mm\"),TEXT(Données!$B19,\"hh:mm\")&\" : \"&TEXT(Données!$C19,\"hh:mm\"))","v":"Syn"}]
[null,{"$f":"Données!$A5","v":"J"}," =",{"$f":"IF(ISBLANK(Données!$C5),TEXT(Données!$B5,\"hh:mm\"),TEXT(Données!$B5,\"hh:mm\")&\" : \"&TEXT(Données!$C5,\"hh:mm\"))","v":"10:00 : 17:30"},null,null,null,{"$f":"Données!$A9","v":"S"}," =",{"$f":"IF(ISBLANK(Données!$C9),TEXT(Données!$B9,\"hh:mm\"),TEXT(Données!$B9,\"hh:mm\")&\" : \"&TEXT(Données!$C9,\"hh:mm\"))","v":"14:00 : 21:30"},null,null,null,{"$f":"Données!$A12","v":"WD"}," =",{"$f":"IF(ISBLANK(Données!$C12),TEXT(Données!$B12,\"hh:mm\"),TEXT(Données!$B12,\"hh:mm\")&\" : \"&TEXT(Données!$C12,\"hh:mm\"))","v":"07:00 : 19:15"},null,null,null,{"$f":"Données!$A16","v":"NS"}," =",{"$f":"IF(ISBLANK(Données!$C16),TEXT(Données!$B16,\"hh:mm\"),TEXT(Données!$B16,\"hh:mm\")&\" : \"&TEXT(Données!$C16,\"hh:mm\"))","v":"19:15 : 07:15"},null,null,null,{"$f":"Données!$A20","v":"AT"}," =",{"$f":"IF(ISBLANK(Données!$C20),TEXT(Données!$B20,\"hh:mm\"),TEXT(Données!$B20,\"hh:mm\")&\" : \"&TEXT(Données!$C20,\"hh:mm\"))","v":"AT"}]
[null,{"$f":"Données!$A6","v":"J+"}," =",{"$f":"IF(ISBLANK(Données!$C6),TEXT(Données!$B6,\"hh:mm\"),TEXT(Données!$B6,\"hh:mm\")&\" : \"&TEXT(Données!$C6,\"hh:mm\"))","v":"11:30 : 19:15"},null,null,null,{"$f":"Données!$A10","v":"W"}," =",{"$f":"IF(ISBLANK(Données!$C10),TEXT(Données!$B10,\"hh:mm\"),TEXT(Données!$B10,\"hh:mm\")&\" : \"&TEXT(Données!$C10,\"hh:mm\"))","v":"07:30 : 19:15"},null,null,null,{"$f":"Données!$A13","v":"WF"}," =",{"$f":"IF(ISBLANK(Données!$C13),TEXT(Données!$B13,\"hh:mm\"),TEXT(Données!$B13,\"hh:mm\")&\" : \"&TEXT(Données!$C13,\"hh:mm\"))","v":"07:00 : 19:15"},null,null,null,{"$f":"Données!$A17","v":"T"}," =",{"$f":"IF(ISBLANK(Données!$C17),TEXT(Données!$B17,\"hh:mm\"),TEXT(Données!$B17,\"hh:mm\")&\" : \"&TEXT(Données!$C17,\"hh:mm\"))","v":"T"},null,null,null,{"$f":"Données!$A21","v":"AM"}," =",{"$f":"IF(ISBLANK(Données!$C21),TEXT(Données!$B21,\"hh:mm\"),TEXT(Données!$B21,\"hh:mm\")&\" : \"&TEXT(Données!$C21,\"hh:mm\"))","v":"AM"}]

{"sheet":"Juillet","index":8,"n_rows":61,"n_cols":43,"rows_kept":61,"cut":false,"hidden":false,"merged":[]}
[]
[null,{"$f":"DATE(An,Juillet,B7)","v":"2018-07-01"},"2018-07-02","2018-07-03","2018-07-04","2018-07-05","2018-07-06","2018-07-07","2018-07-08","2018-07-09","2018-07-10","2018-07-11","2018-07-12","2018-07-13","2018-07-14","2018-07-15","2018-07-16","2018-07-17","2018-07-18","2018-07-19","2018-07-20","2018-07-21","2018-07-22","2018-07-23","2018-07-24","2018-07-25","2018-07-26","2018-07-27","2018-07-28","2018-07-29","2018-07-30","2018-07-31",null,null,"Pour remplir ","penser     ",null,null,null,null,{"$f":"IF(ISNUMBER(AO7),DATE(An,Juillet,AO7),\"\")","v":""},{"$f":"IF(ISNUMBER(AP7),DATE(An,Juillet,AP7),\"\")","v":""}]
[{"$f":"IF(Données!$L$5=\"\",\"Service\",Données!$L$5)","v":"Service"},null,null,null,null,null,null,null,null,null,"Mois de Juillet ",null,null,{"$f":"An","v":2018},null,null,null,null,null,null,null,null,null,null,null,null,null,null,null,null,null,null,null,null,"à mettre dans le format:\n"]
[null,null,null,null,null,null,null,null,null,null,null,null,null,null,null,null,null,null,null,null,null,null,null,null,null,null,null,null,null,null,null,null,null,null," \"heures\":\"Minutes\" "]
[null,null,null,null,null,null,null,null,null,null,null,null,null,null,null,null,null,null,null,null,null,null,null,null,null,null,null,null,null,null,null,null,null,null,"Heures sup ","Heures sup ",null,"Indications","Indications","Indications",null,"Total"]
["Jours",{"$f":"PROPER(LEFT(TEXT(DATE(An,Juillet,B7),\"jjj\"),1))","v":"D"},"L","M","M","J","V","S","D","L","M","M","J","V","S","D","L","M","M","J","V","S","D","L","M","M","J","V","S","D","L","M",null,null,"avant 21h","après 21h",null,"Heures","Heures nuit","Heures",null,"Heures","Heures"]
[null,{"$f":"A7+1","v":1},2,3,4,5,6,7,8,9,10,11,12,13,14,15,16,17,18,19,20,21,22,23,24,25,26,27,28,29,30,{"$f":"AE7+1","v":31},null,null,"A remplir","A remplir",null," Dimanche"," Dimanche","après 21h",null," au mois","  a l'année"]
["Equipe de jour"]
[{"$f":"Données!$H6","v":"A"},null,null,null,null,null,null,null,null,null,null,null,null,null,null,null,null,null,null,null,null,null,null,null,null,null,null,null,null,null,null,null,null,null,null,null,null,{"$f":"VLOOKUP($A9,BJuillet!$A$8:$AY$57,31,FALSE)","v":0},{"$f":"VLOOKUP($A9,BJuillet!$A$8:$AY$57,32,FALSE)","v":0},{"$f":"VLOOKUP($A9,BJuillet!$A$8:$AY$57,33,FALSE)","v":0},null,{"$f":"VLOOKUP($A9,BJuillet!$A$8:$AY$57,35,FALSE)","v":0},{"$f":"VLOOKUP($A9,Bilan!$A$8:$AY$57,35,FALSE)","v":0}]
[{"$f":"Données!$H7","v":0},null,null,null,null,null,null,null,null,null,null,null,null,null,null,null,null,null,null,null,null,null,null,null,null,null,null,null,null,null,null,null,null,null,null,null,null,{"$f":"VLOOKUP($A10,BJuillet!$A$8:$AY$57,31,FALSE)","v":0},{"$f":"VLOOKUP($A10,BJuillet!$A$8:$AY$57,32,FALSE)","v":0},{"$f":"VLOOKUP($A10,BJuillet!$A$8:$AY$57,33,FALSE)","v":0},null,{"$f":"VLOOKUP($A10,BJuillet!$A$8:$AY$57,35,FALSE)","v":0},{"$f":"VLOOKUP($A10,Bilan!$A$8:$AY$57,35,FALSE)","v":0}]
[{"$f":"Données!$H8","v":0},null,null,null,null,null,null,null,null,null,null,null,null,null,null,null,null,null,null,null,null,null,null,null,null,null,null,null,null,null,null,null,null,null,null,null,null,{"$f":"VLOOKUP($A11,BJuillet!$A$8:$AY$57,31,FALSE)","v":0},{"$f":"VLOOKUP($A11,BJuillet!$A$8:$AY$57,32,FALSE)","v":0},{"$f":"VLOOKUP($A11,BJuillet!$A$8:$AY$57,33,FALSE)","v":0},null,{"$f":"VLOOKUP($A11,BJuillet!$A$8:$AY$57,35,FALSE)","v":0},{"$f":"VLOOKUP($A11,Bilan!$A$8:$AY$57,35,FALSE)","v":0}]
[{"$f":"Données!$H9","v":0},null,null,null,null,null,null,null,null,null,null,null,null,null,null,null,null,null,null,null,null,null,null,null,null,null,null,null,null,null,null,null,null,null,null,null,null,{"$f":"VLOOKUP($A12,BJuillet!$A$8:$AY$57,31,FALSE)","v":0},{"$f":"VLOOKUP($A12,BJuillet!$A$8:$AY$57,32,FALSE)","v":0},{"$f":"VLOOKUP($A12,BJuillet!$A$8:$AY$57,33,FALSE)","v":0},null,{"$f":"VLOOKUP($A12,BJuillet!$A$8:$AY$57,35,FALSE)","v":0},{"$f":"VLOOKUP($A12,Bilan!$A$8:$AY$57,35,FALSE)","v":0}]
[{"$f":"Données!$H10","v":0},null,null,null,null,null,null,null,null,null,null,null,null,null,null,null,null,null,null,null,null,null,null,null,null,null,null,null,null,null,null,null,null,null,null,null,null,{"$f":"VLOOKUP($A13,BJuillet!$A$8:$AY$57,31,FALSE)","v":0},{"$f":"VLOOKUP($A13,BJuillet!$A$8:$AY$57,32,FALSE)","v":0},{"$f":"VLOOKUP($A13,BJuillet!$A$8:$AY$57,33,FALSE)","v":0},null,{"$f":"VLOOKUP($A13,BJuillet!$A$8:$AY$57,35,FALSE)","v":0},{"$f":"VLOOKUP($A13,Bilan!$A$8:$AY$57,35,FALSE)","v":0}]
[{"$f":"Données!$H11","v":0},null,null,null,null,null,null,null,null,null,null,null,null,null,null,null,null,null,null,null,null,null,null,null,null,null,null,null,null,null,null,null,null,null,null,null,null,{"$f":"VLOOKUP($A14,BJuillet!$A$8:$AY$57,31,FALSE)","v":0},{"$f":"VLOOKUP($A14,BJuillet!$A$8:$AY$57,32,FALSE)","v":0},{"$f":"VLOOKUP($A14,BJuillet!$A$8:$AY$57,33,FALSE)","v":0},null,{"$f":"VLOOKUP($A14,BJuillet!$A$8:$AY$57,35,FALSE)","v":0},{"$f":"VLOOKUP($A14,Bilan!$A$8:$AY$57,35,FALSE)","v":0}]
[{"$f":"Données!$H12","v":0},null,null,null,null,null,null,null,null,null,null,null,null,null,null,null,null,null,null,null,null,null,null,null,null,null,null,null,null,null,null,null,null,null,null,null,null,{"$f":"VLOOKUP($A15,BJuillet!$A$8:$AY$57,31,FALSE)","v":0},{"$f":"VLOOKUP($A15,BJuillet!$A$8:$AY$57,32,FALSE)","v":0},{"$f":"VLOOKUP($A15,BJuillet!$A$8:$AY$57,33,FALSE)","v":0},null,{"$f":"VLOOKUP($A15,BJuillet!$A$8:$AY$57,35,FALSE)","v":0},{"$f":"VLOOKUP($A15,Bilan!$A$8:$AY$57,35,FALSE)","v":0}]
[{"$f":"Données!$H13","v":0},null,null,null,null,null,null,null,null,null,null,null,null,null,null,null,null,null,null,null,null,null,null,null,null,null,null,null,null,null,null,null,null,null,null,null,null,{"$f":"VLOOKUP($A16,BJuillet!$A$8:$AY$57,31,FALSE)","v":0},{"$f":"VLOOKUP($A16,BJuillet!$A$8:$AY$57,32,FALSE)","v":0},{"$f":"VLOOKUP($A16,BJuillet!$A$8:$AY$57,33,FALSE)","v":0},null,{"$f":"VLOOKUP($A16,BJuillet!$A$8:$AY$57,35,FALSE)","v":0},{"$f":"VLOOKUP($A16,Bilan!$A$8:$AY$57,35,FALSE)","v":0}]
[{"$f":"Données!$H14","v":0},null,null,null,null,null,null,null,null,null,null,null,null,null,null,null,null,null,null,null,null,null,null,null,null,null,null,null,null,null,null,null,null,null,null,null,null,{"$f":"VLOOKUP($A17,BJuillet!$A$8:$AY$57,31,FALSE)","v":0},{"$f":"VLOOKUP($A17,BJuillet!$A$8:$AY$57,32,FALSE)","v":0},{"$f":"VLOOKUP($A17,BJuillet!$A$8:$AY$57,33,FALSE)","v":0},null,{"$f":"VLOOKUP($A17,BJuillet!$A$8:$AY$57,35,FALSE)","v":0},{"$f":"VLOOKUP($A17,Bilan!$A$8:$AY$57,35,FALSE)","v":0}]
[{"$f":"Données!$H15","v":0},null,null,null,null,null,null,null,null,null,null,null,null,null,null,null,null,null,null,null,null,null,null,null,null,null,null,null,null,null,null,null,null,null,null,null,null,{"$f":"VLOOKUP($A18,BJuillet!$A$8:$AY$57,31,FALSE)","v":0},{"$f":"VLOOKUP($A18,BJuillet!$A$8:$AY$57,32,FALSE)","v":0},{"$f":"VLOOKUP($A18,BJuillet!$A$8:$AY$57,33,FALSE)","v":0},null,{"$f":"VLOOKUP($A18,BJuillet!$A$8:$AY$57,35,FALSE)","v":0},{"$f":"VLOOKUP($A18,Bilan!$A$8:$AY$57,35,FALSE)","v":0}]
[{"$f":"Données!$H16","v":0},null,null,null,null,null,null,null,null,null,null,null,null,null,null,null,null,null,null,null,null,null,null,null,null,null,null,null,null,null,null,null,null,null,null,null,null,{"$f":"VLOOKUP($A19,BJuillet!$A$8:$AY$57,31,FALSE)","v":0},{"$f":"VLOOKUP($A19,BJuillet!$A$8:$AY$57,32,FALSE)","v":0},{"$f":"VLOOKUP($A19,BJuillet!$A$8:$AY$57,33,FALSE)","v":0},null,{"$f":"VLOOKUP($A19,BJuillet!$A$8:$AY$57,35,FALSE)","v":0},{"$f":"VLOOKUP($A19,Bilan!$A$8:$AY$57,35,FALSE)","v":0}]
[{"$f":"Données!$H17","v":0},null,null,null,null,null,null,null,null,null,null,null,null,null,null,null,null,null,null,null,null,null,null,null,null,null,null,null,null,null,null,null,null,null,null,null,null,{"$f":"VLOOKUP($A20,BJuillet!$A$8:$AY$57,31,FALSE)","v":0},{"$f":"VLOOKUP($A20,BJuillet!$A$8:$AY$57,32,FALSE)","v":0},{"$f":"VLOOKUP($A20,BJuillet!$A$8:$AY$57,33,FALSE)","v":0},null,{"$f":"VLOOKUP($A20,BJuillet!$A$8:$AY$57,35,FALSE)","v":0},{"$f":"VLOOKUP($A20,Bilan!$A$8:$AY$57,35,FALSE)","v":0}]
[{"$f":"Données!$H18","v":0},null,null,null,null,null,null,null,null,null,null,null,null,null,null,null,null,null,null,null,null,null,null,null,null,null,null,null,null,null,null,null,null,null,null,null,null,{"$f":"VLOOKUP($A21,BJuillet!$A$8:$AY$57,31,FALSE)","v":0},{"$f":"VLOOKUP($A21,BJuillet!$A$8:$AY$57,32,FALSE)","v":0},{"$f":"VLOOKUP($A21,BJuillet!$A$8:$AY$57,33,FALSE)","v":0},null,{"$f":"VLOOKUP($A21,BJuillet!$A$8:$AY$57,35,FALSE)","v":0},{"$f":"VLOOKUP($A21,Bilan!$A$8:$AY$57,35,FALSE)","v":0}]
[{"$f":"Données!$H19","v":0},null,null,null,null,null,null,null,null,null,null,null,null,null,null,null,null,null,null,null,null,null,null,null,null,null,null,null,null,null,null,null,null,null,null,null,null,{"$f":"VLOOKUP($A22,BJuillet!$A$8:$AY$57,31,FALSE)","v":0},{"$f":"VLOOKUP($A22,BJuillet!$A$8:$AY$57,32,FALSE)","v":0},{"$f":"VLOOKUP($A22,BJuillet!$A$8:$AY$57,33,FALSE)","v":0},null,{"$f":"VLOOKUP($A22,BJuillet!$A$8:$AY$57,35,FALSE)","v":0},{"$f":"VLOOKUP($A22,Bilan!$A$8:$AY$57,35,FALSE)","v":0}]
[{"$f":"Données!$H20","v":0},null,null,null,null,null,null,null,null,null,null,null,null,null,null,null,null,null,null,null,null,null,null,null,null,null,null,null,null,null,null,null,null,null,null,null,null,{"$f":"VLOOKUP($A23,BJuillet!$A$8:$AY$57,31,FALSE)","v":0},{"$f":"VLOOKUP($A23,BJuillet!$A$8:$AY$57,32,FALSE)","v":0},{"$f":"VLOOKUP($A23,BJuillet!$A$8:$AY$57,33,FALSE)","v":0},null,{"$f":"VLOOKUP($A23,BJuillet!$A$8:$AY$57,35,FALSE)","v":0},{"$f":"VLOOKUP($A23,Bilan!$A$8:$AY$57,35,FALSE)","v":0}]
[{"$f":"Données!$H21","v":0},null,null,null,null,null,null,null,null,null,null,null,null,null,null,null,null,null,null,null,null,null,null,null,null,null,null,null,null,null,null,null,null,null,null,null,null,{"$f":"VLOOKUP($A24,BJuillet!$A$8:$AY$57,31,FALSE)","v":0},{"$f":"VLOOKUP($A24,BJuillet!$A$8:$AY$57,32,FALSE)","v":0},{"$f":"VLOOKUP($A24,BJuillet!$A$8:$AY$57,33,FALSE)","v":0},null,{"$f":"VLOOKUP($A24,BJuillet!$A$8:$AY$57,35,FALSE)","v":0},{"$f":"VLOOKUP($A24,Bilan!$A$8:$AY$57,35,FALSE)","v":0}]
[{"$f":"Données!$H22","v":"Equipe de nuit"}]
[{"$f":"Données!$H23","v":"K"},null,null,null,null,null,null,null,null,null,null,null,null,null,null,null,null,null,null,null,null,null,null,null,null,null,null,null,null,null,null,null,null,null,null,null,null,{"$f":"VLOOKUP($A26,BJuillet!$A$8:$AY$57,31,FALSE)","v":0},{"$f":"VLOOKUP($A26,BJuillet!$A$8:$AY$57,32,FALSE)","v":0},{"$f":"VLOOKUP($A26,BJuillet!$A$8:$AY$57,33,FALSE)","v":0},null,{"$f":"VLOOKUP($A26,BJuillet!$A$8:$AY$57,35,FALSE)","v":0},{"$f":"VLOOKUP($A26,Bilan!$A$8:$AY$57,35,FALSE)","v":0}]
[{"$f":"Données!$H24","v":0},null,null,null,null,null,null,null,null,null,null,null,null,null,null,null,null,null,null,null,null,null,null,null,null,null,null,null,null,null,null,null,null,null,null,null,null,{"$f":"VLOOKUP($A27,BJuillet!$A$8:$AY$57,31,FALSE)","v":0},{"$f":"VLOOKUP($A27,BJuillet!$A$8:$AY$57,32,FALSE)","v":0},{"$f":"VLOOKUP($A27,BJuillet!$A$8:$AY$57,33,FALSE)","v":0},null,{"$f":"VLOOKUP($A27,BJuillet!$A$8:$AY$57,35,FALSE)","v":0},{"$f":"VLOOKUP($A27,Bilan!$A$8:$AY$57,35,FALSE)","v":0}]
[{"$f":"Données!$H25","v":0},null,null,null,null,null,null,null,null,null,null,null,null,null,null,null,null,null,null,null,null,null,null,null,null,null,null,null,null,null,null,null,null,null,null,null,null,{"$f":"VLOOKUP($A28,BJuillet!$A$8:$AY$57,31,FALSE)","v":0},{"$f":"VLOOKUP($A28,BJuillet!$A$8:$AY$57,32,FALSE)","v":0},{"$f":"VLOOKUP($A28,BJuillet!$A$8:$AY$57,33,FALSE)","v":0},null,{"$f":"VLOOKUP($A28,BJuillet!$A$8:$AY$57,35,FALSE)","v":0},{"$f":"VLOOKUP($A28,Bilan!$A$8:$AY$57,35,FALSE)","v":0}]
[{"$f":"Données!$H26","v":0},null,null,null,null,null,null,null,null,null,null,null,null,null,null,null,null,null,null,null,null,null,null,null,null,null,null,null,null,null,null,null,null,null,null,null,null,{"$f":"VLOOKUP($A29,BJuillet!$A$8:$AY$57,31,FALSE)","v":0},{"$f":"VLOOKUP($A29,BJuillet!$A$8:$AY$57,32,FALSE)","v":0},{"$f":"VLOOKUP($A29,BJuillet!$A$8:$AY$57,33,FALSE)","v":0},null,{"$f":"VLOOKUP($A29,BJuillet!$A$8:$AY$57,35,FALSE)","v":0},{"$f":"VLOOKUP($A29,Bilan!$A$8:$AY$57,35,FALSE)","v":0}]
[{"$f":"Données!$H27","v":0},null,null,null,null,null,null,null,null,null,null,null,null,null,null,null,null,null,null,null,null,null,null,null,null,null,null,null,null,null,null,null,null,null,null,null,null,{"$f":"VLOOKUP($A30,BJuillet!$A$8:$AY$57,31,FALSE)","v":0},{"$f":"VLOOKUP($A30,BJuillet!$A$8:$AY$57,32,FALSE)","v":0},{"$f":"VLOOKUP($A30,BJuillet!$A$8:$AY$57,33,FALSE)","v":0},null,{"$f":"VLOOKUP($A30,BJuillet!$A$8:$AY$57,35,FALSE)","v":0},{"$f":"VLOOKUP($A30,Bilan!$A$8:$AY$57,35,FALSE)","v":0}]
[{"$f":"Données!$H28","v":0},null,null,null,null,null,null,null,null,null,null,null,null,null,null,null,null,null,null,null,null,null,null,null,null,null,null,null,null,null,null,null,null,null,null,null,null,{"$f":"VLOOKUP($A31,BJuillet!$A$8:$AY$57,31,FALSE)","v":0},{"$f":"VLOOKUP($A31,BJuillet!$A$8:$AY$57,32,FALSE)","v":0},{"$f":"VLOOKUP($A31,BJuillet!$A$8:$AY$57,33,FALSE)","v":0},null,{"$f":"VLOOKUP($A31,BJuillet!$A$8:$AY$57,35,FALSE)","v":0},{"$f":"VLOOKUP($A31,Bilan!$A$8:$AY$57,35,FALSE)","v":0}]
[{"$f":"Données!$H29","v":0},null,null,null,null,null,null,null,null,null,null,null,null,null,null,null,null,null,null,null,null,null,null,null,null,null,null,null,null,null,null,null,null,null,null,null,null,{"$f":"VLOOKUP($A32,BJuillet!$A$8:$AY$57,31,FALSE)","v":0},{"$f":"VLOOKUP($A32,BJuillet!$A$8:$AY$57,32,FALSE)","v":0},{"$f":"VLOOKUP($A32,BJuillet!$A$8:$AY$57,33,FALSE)","v":0},null,{"$f":"VLOOKUP($A32,BJuillet!$A$8:$AY$57,35,FALSE)","v":0},{"$f":"VLOOKUP($A32,Bilan!$A$8:$AY$57,35,FALSE)","v":0}]
[{"$f":"Données!$H30","v":0},null,null,null,null,null,null,null,null,null,null,null,null,null,null,null,null,null,null,null,null,null,null,null,null,null,null,null,null,null,null,null,null,null,null,null,null,{"$f":"VLOOKUP($A33,BJuillet!$A$8:$AY$57,31,FALSE)","v":0},{"$f":"VLOOKUP($A33,BJuillet!$A$8:$AY$57,32,FALSE)","v":0},{"$f":"VLOOKUP($A33,BJuillet!$A$8:$AY$57,33,FALSE)","v":0},null,{"$f":"VLOOKUP($A33,BJuillet!$A$8:$AY$57,35,FALSE)","v":0},{"$f":"VLOOKUP($A33,Bilan!$A$8:$AY$57,35,FALSE)","v":0}]
[{"$f":"Données!$H31","v":0},null,null,null,null,null,null,null,null,null,null,null,null,null,null,null,null,null,null,null,null,null,null,null,null,null,null,null,null,null,null,null,null,null,null,null,null,{"$f":"VLOOKUP($A34,BJuillet!$A$8:$AY$57,31,FALSE)","v":0},{"$f":"VLOOKUP($A34,BJuillet!$A$8:$AY$57,32,FALSE)","v":0},{"$f":"VLOOKUP($A34,BJuillet!$A$8:$AY$57,33,FALSE)","v":0},null,{"$f":"VLOOKUP($A34,BJuillet!$A$8:$AY$57,35,FALSE)","v":0},{"$f":"VLOOKUP($A34,Bilan!$A$8:$AY$57,35,FALSE)","v":0}]
[{"$f":"Données!$H32","v":"Maitresse de maison"}]
[{"$f":"Données!$H33","v":"N"},null,null,null,null,null,null,null,null,null,null,null,null,null,null,null,null,null,null,null,null,null,null,null,null,null,null,null,null,null,null,null,null,null,null,null,null,{"$f":"VLOOKUP($A36,BJuillet!$A$8:$AY$57,31,FALSE)","v":0},{"$f":"VLOOKUP($A36,BJuillet!$A$8:$AY$57,32,FALSE)","v":0},{"$f":"VLOOKUP($A36,BJuillet!$A$8:$AY$57,33,FALSE)","v":0},null,{"$f":"VLOOKUP($A36,BJuillet!$A$8:$AY$57,35,FALSE)","v":0},{"$f":"VLOOKUP($A36,Bilan!$A$8:$AY$57,35,FALSE)","v":0}]
[{"$f":"Données!$H34","v":0},null,null,null,null,null,null,null,null,null,null,null,null,null,null,null,null,null,null,null,null,null,null,null,null,null,null,null,null,null,null,null,null,null,null,null,null,{"$f":"VLOOKUP($A37,BJuillet!$A$8:$AY$57,31,FALSE)","v":0},{"$f":"VLOOKUP($A37,BJuillet!$A$8:$AY$57,32,FALSE)","v":0},{"$f":"VLOOKUP($A37,BJuillet!$A$8:$AY$57,33,FALSE)","v":0},null,{"$f":"VLOOKUP($A37,BJuillet!$A$8:$AY$57,35,FALSE)","v":0},{"$f":"VLOOKUP($A37,Bilan!$A$8:$AY$57,35,FALSE)","v":0}]
[{"$f":"Données!$H35","v":0},null,null,null,null,null,null,null,null,null,null,null,null,null,null,null,null,null,null,null,null,null,null,null,null,null,null,null,null,null,null,null,null,null,null,null,null,{"$f":"VLOOKUP($A38,BJuillet!$A$8:$AY$57,31,FALSE)","v":0},{"$f":"VLOOKUP($A38,BJuillet!$A$8:$AY$57,32,FALSE)","v":0},{"$f":"VLOOKUP($A38,BJuillet!$A$8:$AY$57,33,FALSE)","v":0},null,{"$f":"VLOOKUP($A38,BJuillet!$A$8:$AY$57,35,FALSE)","v":0},{"$f":"VLOOKUP($A38,Bilan!$A$8:$AY$57,35,FALSE)","v":0}]
[{"$f":"Données!$H36","v":0},null,null,null,null,null,null,null,null,null,null,null,null,null,null,null,null,null,null,null,null,null,null,null,null,null,null,null,null,null,null,null,null,null,null,null,null,{"$f":"VLOOKUP($A39,BJuillet!$A$8:$AY$57,31,FALSE)","v":0},{"$f":"VLOOKUP($A39,BJuillet!$A$8:$AY$57,32,FALSE)","v":0},{"$f":"VLOOKUP($A39,BJuillet!$A$8:$AY$57,33,FALSE)","v":0},null,{"$f":"VLOOKUP($A39,BJuillet!$A$8:$AY$57,35,FALSE)","v":0},{"$f":"VLOOKUP($A39,Bilan!$A$8:$AY$57,35,FALSE)","v":0}]
[{"$f":"Données!$H37","v":0},null,null,null,null,null,null,null,null,null,null,null,null,null,null,null,null,null,null,null,null,null,null,null,null,null,null,null,null,null,null,null,null,null,null,null,null,{"$f":"VLOOKUP($A40,BJuillet!$A$8:$AY$57,31,FALSE)","v":0},{"$f":"VLOOKUP($A40,BJuillet!$A$8:$AY$57,32,FALSE)","v":0},{"$f":"VLOOKUP($A40,BJuillet!$A$8:$AY$57,33,FALSE)","v":0},null,{"$f":"VLOOKUP($A40,BJuillet!$A$8:$AY$57,35,FALSE)","v":0},{"$f":"VLOOKUP($A40,Bilan!$A$8:$AY$57,35,FALSE)","v":0}]
[{"$f":"Données!$H38","v":0},null,null,null,null,null,null,null,null,null,null,null,null,null,null,null,null,null,null,null,null,null,null,null,null,null,null,null,null,null,null,null,null,null,null,null,null,{"$f":"VLOOKUP($A41,BJuillet!$A$8:$AY$57,31,FALSE)","v":0},{"$f":"VLOOKUP($A41,BJuillet!$A$8:$AY$57,32,FALSE)","v":0},{"$f":"VLOOKUP($A41,BJuillet!$A$8:$AY$57,33,FALSE)","v":0},null,{"$f":"VLOOKUP($A41,BJuillet!$A$8:$AY$57,35,FALSE)","v":0},{"$f":"VLOOKUP($A41,Bilan!$A$8:$AY$57,35,FALSE)","v":0}]
[{"$f":"Données!$H39","v":0},null,null,null,null,null,null,null,null,null,null,null,null,null,null,null,null,null,null,null,null,null,null,null,null,null,null,null,null,null,null,null,null,null,null,null,null,{"$f":"VLOOKUP($A42,BJuillet!$A$8:$AY$57,31,FALSE)","v":0},{"$f":"VLOOKUP($A42,BJuillet!$A$8:$AY$57,32,FALSE)","v":0},{"$f":"VLOOKUP($A42,BJuillet!$A$8:$AY$57,33,FALSE)","v":0},null,{"$f":"VLOOKUP($A42,BJuillet!$A$8:$AY$57,35,FALSE)","v":0},{"$f":"VLOOKUP($A42,Bilan!$A$8:$AY$57,35,FALSE)","v":0}]
[{"$f":"Données!$H40","v":0},null,null,null,null,null,null,null,null,null,null,null,null,null,null,null,null,null,null,null,null,null,null,null,null,null,null,null,null,null,null,null,null,null,null,null,null,{"$f":"VLOOKUP($A43,BJuillet!$A$8:$AY$57,31,FALSE)","v":0},{"$f":"VLOOKUP($A43,BJuillet!$A$8:$AY$57,32,FALSE)","v":0},{"$f":"VLOOKUP($A43,BJuillet!$A$8:$AY$57,33,FALSE)","v":0},null,{"$f":"VLOOKUP($A43,BJuillet!$A$8:$AY$57,35,FALSE)","v":0},{"$f":"VLOOKUP($A43,Bilan!$A$8:$AY$57,35,FALSE)","v":0}]
[{"$f":"Données!$H41","v":0},null,null,null,null,null,null,null,null,null,null,null,null,null,null,null,null,null,null,null,null,null,null,null,null,null,null,null,null,null,null,null,null,null,null,null,null,{"$f":"VLOOKUP($A44,BJuillet!$A$8:$AY$57,31,FALSE)","v":0},{"$f":"VLOOKUP($A44,BJuillet!$A$8:$AY$57,32,FALSE)","v":0},{"$f":"VLOOKUP($A44,BJuillet!$A$8:$AY$57,33,FALSE)","v":0},null,{"$f":"VLOOKUP($A44,BJuillet!$A$8:$AY$57,35,FALSE)","v":0},{"$f":"VLOOKUP($A44,Bilan!$A$8:$AY$57,35,FALSE)","v":0}]
[{"$f":"Données!$H42","v":"Psychologue"}]
[{"$f":"Données!$H43","v":"O"},null,null,null,null,null,null,null,null,null,null,null,null,null,null,null,null,null,null,null,null,null,null,null,null,null,null,null,null,null,null,null,null,null,null,null,null,{"$f":"VLOOKUP($A46,BJuillet!$A$8:$AY$57,31,FALSE)","v":0},{"$f":"VLOOKUP($A46,BJuillet!$A$8:$AY$57,32,FALSE)","v":0},{"$f":"VLOOKUP($A46,BJuillet!$A$8:$AY$57,33,FALSE)","v":0},null,{"$f":"VLOOKUP($A46,BJuillet!$A$8:$AY$57,35,FALSE)","v":0},{"$f":"VLOOKUP($A46,Bilan!$A$8:$AY$57,35,FALSE)","v":0}]
[{"$f":"Données!$H44","v":0},null,null,null,null,null,null,null,null,null,null,null,null,null,null,null,null,null,null,null,null,null,null,null,null,null,null,null,null,null,null,null,null,null,null,null,null,{"$f":"VLOOKUP($A47,BJuillet!$A$8:$AY$57,31,FALSE)","v":0},{"$f":"VLOOKUP($A47,BJuillet!$A$8:$AY$57,32,FALSE)","v":0},{"$f":"VLOOKUP($A47,BJuillet!$A$8:$AY$57,33,FALSE)","v":0},null,{"$f":"VLOOKUP($A47,BJuillet!$A$8:$AY$57,35,FALSE)","v":0},{"$f":"VLOOKUP($A47,Bilan!$A$8:$AY$57,35,FALSE)","v":0}]
[{"$f":"Données!$H45","v":0},null,null,null,null,null,null,null,null,null,null,null,null,null,null,null,null,null,null,null,null,null,null,null,null,null,null,null,null,null,null,null,null,null,null,null,null,{"$f":"VLOOKUP($A48,BJuillet!$A$8:$AY$57,31,FALSE)","v":0},{"$f":"VLOOKUP($A48,BJuillet!$A$8:$AY$57,32,FALSE)","v":0},{"$f":"VLOOKUP($A48,BJuillet!$A$8:$AY$57,33,FALSE)","v":0},null,{"$f":"VLOOKUP($A48,BJuillet!$A$8:$AY$57,35,FALSE)","v":0},{"$f":"VLOOKUP($A48,Bilan!$A$8:$AY$57,35,FALSE)","v":0}]
[{"$f":"Données!$H46","v":"Coordinatrice"}]
[{"$f":"Données!$H47","v":"P"},null,null,null,null,null,null,null,null,null,null,null,null,null,null,null,null,null,null,null,null,null,null,null,null,null,null,null,null,null,null,null,null,null,null,null,null,{"$f":"VLOOKUP($A50,BJuillet!$A$8:$AY$57,31,FALSE)","v":0},{"$f":"VLOOKUP($A50,BJuillet!$A$8:$AY$57,32,FALSE)","v":0},{"$f":"VLOOKUP($A50,BJuillet!$A$8:$AY$57,33,FALSE)","v":0},null,{"$f":"VLOOKUP($A50,BJuillet!$A$8:$AY$57,35,FALSE)","v":0},{"$f":"VLOOKUP($A50,Bilan!$A$8:$AY$57,35,FALSE)","v":0}]
[{"$f":"Données!$H48","v":0},null,null,null,null,null,null,null,null,null,null,null,null,null,null,null,null,null,null,null,null,null,null,null,null,null,null,null,null,null,null,null,null,null,null,null,null,{"$f":"VLOOKUP($A51,BJuillet!$A$8:$AY$57,31,FALSE)","v":0},{"$f":"VLOOKUP($A51,BJuillet!$A$8:$AY$57,32,FALSE)","v":0},{"$f":"VLOOKUP($A51,BJuillet!$A$8:$AY$57,33,FALSE)","v":0},null,{"$f":"VLOOKUP($A51,BJuillet!$A$8:$AY$57,35,FALSE)","v":0},{"$f":"VLOOKUP($A51,Bilan!$A$8:$AY$57,35,FALSE)","v":0}]
[{"$f":"Données!$H49","v":0},null,null,null,null,null,null,null,null,null,null,null,null,null,null,null,null,null,null,null,null,null,null,null,null,null,null,null,null,null,null,null,null,null,null,null,null,{"$f":"VLOOKUP($A52,BJuillet!$A$8:$AY$57,31,FALSE)","v":0},{"$f":"VLOOKUP($A52,BJuillet!$A$8:$AY$57,32,FALSE)","v":0},{"$f":"VLOOKUP($A52,BJuillet!$A$8:$AY$57,33,FALSE)","v":0},null,{"$f":"VLOOKUP($A52,BJuillet!$A$8:$AY$57,35,FALSE)","v":0},{"$f":"VLOOKUP($A52,Bilan!$A$8:$AY$57,35,FALSE)","v":0}]
[{"$f":"Données!$H50","v":0},null,null,null,null,null,null,null,null,null,null,null,null,null,null,null,null,null,null,null,null,null,null,null,null,null,null,null,null,null,null,null,null,null,null,null,null,{"$f":"VLOOKUP($A53,BJuillet!$A$8:$AY$57,31,FALSE)","v":0},{"$f":"VLOOKUP($A53,BJuillet!$A$8:$AY$57,32,FALSE)","v":0},{"$f":"VLOOKUP($A53,BJuillet!$A$8:$AY$57,33,FALSE)","v":0},null,{"$f":"VLOOKUP($A53,BJuillet!$A$8:$AY$57,35,FALSE)","v":0},{"$f":"VLOOKUP($A53,Bilan!$A$8:$AY$57,35,FALSE)","v":0}]
[{"$f":"Données!$H51","v":0},null,null,null,null,null,null,null,null,null,null,null,null,null,null,null,null,null,null,null,null,null,null,null,null,null,null,null,null,null,null,null,null,null,null,null,null,{"$f":"VLOOKUP($A54,BJuillet!$A$8:$AY$57,31,FALSE)","v":0},{"$f":"VLOOKUP($A54,BJuillet!$A$8:$AY$57,32,FALSE)","v":0},{"$f":"VLOOKUP($A54,BJuillet!$A$8:$AY$57,33,FALSE)","v":0},null,{"$f":"VLOOKUP($A54,BJuillet!$A$8:$AY$57,35,FALSE)","v":0},{"$f":"VLOOKUP($A54,Bilan!$A$8:$AY$57,35,FALSE)","v":0}]
[{"$f":"Données!$H52","v":"Chef de service"}]
[{"$f":"Données!$H53","v":"Q"},null,null,null,null,null,null,null,null,null,null,null,null,null,null,null,null,null,null,null,null,null,null,null,null,null,null,null,null,null,null,null,null,null,null,null,null,{"$f":"VLOOKUP($A56,BJuillet!$A$8:$AY$57,31,FALSE)","v":0},{"$f":"VLOOKUP($A56,BJuillet!$A$8:$AY$57,32,FALSE)","v":0},{"$f":"VLOOKUP($A56,BJuillet!$A$8:$AY$57,33,FALSE)","v":0},null,{"$f":"VLOOKUP($A56,BJuillet!$A$8:$AY$57,35,FALSE)","v":0},{"$f":"VLOOKUP($A56,Bilan!$A$8:$AY$57,35,FALSE)","v":0}]
[]
[null,{"$f":"Données!$A3","v":"M"}," =",{"$f":"IF(ISBLANK(Données!$C3),TEXT(Données!$B3,\"hh:mm\"),TEXT(Données!$B3,\"hh:mm\")&\" : \"&TEXT(Données!$C3,\"hh:mm\"))","v":"07:00 : 14:35"},null,null,null,{"$f":"Données!$A7","v":"R"}," =",{"$f":"IF(ISBLANK(Données!$C7),TEXT(Données!$B7,\"hh:mm\"),TEXT(Données!$B7,\"hh:mm\")&\" : \"&TEXT(Données!$C7,\"hh:mm\"))","v":"10:00 : 12:00"},null,null,null,{"$f":"Données!$A10","v":"W"}," =",{"$f":"IF(ISBLANK(Données!$C10),TEXT(Données!$B10,\"hh:mm\"),TEXT(Données!$B10,\"hh:mm\")&\" : \"&TEXT(Données!$C10,\"hh:mm\"))","v":"07:30 : 19:15"},null,null,null,{"$f":"Données!$A14","v":"N"}," =",{"$f":"IF(ISBLANK(Données!$C14),TEXT(Données!$B14,\"hh:mm\"),TEXT(Données!$B14,\"hh:mm\")&\" : \"&TEXT(Données!$C14,\"hh:mm\"))","v":"20:30 : 07:15"},null,null,null,{"$f":"Données!$A18","v":"F"}," =",{"$f":"IF(ISBLANK(Données!$C18),TEXT(Données!$B18,\"hh:mm\"),TEXT(Données!$B18,\"hh:mm\")&\" : \"&TEXT(Données!$C18,\"hh:mm\"))","v":"F"}]
[null,{"$f":"Données!$A4","v":"MG"}," =",{"$f":"IF(ISBLANK(Données!$C4),TEXT(Données!$B4,\"hh:mm\"),TEXT(Données!$B4,\"hh:mm\")&\" : \"&TEXT(Données!$C4,\"hh:mm\"))","v":"23:00 : 01:35"},null,null,null,{"$f":"Données!$A8","v":"RS"}," =",{"$f":"IF(ISBLANK(Données!$C8),TEXT(Données!$B8,\"hh:mm\"),TEXT(Données!$B8,\"hh:mm\")&\" : \"&TEXT(Données!$C8,\"hh:mm\"))","v":"10:00 : 21:30"},null,null,null,{"$f":"Données!$A11","v":"W+"}," =",{"$f":"IF(ISBLANK(Données!$C11),TEXT(Données!$B11,\"hh:mm\"),TEXT(Données!$B11,\"hh:mm\")&\" : \"&TEXT(Données!$C11,\"hh:mm\"))","v":"10:00 : 21:30"},null,null,null,{"$f":"Données!$A15","v":"N+"}," =",{"$f":"IF(ISBLANK(Données!$C15),TEXT(Données!$B15,\"hh:mm\"),TEXT(Données!$B15,\"hh:mm\")&\" : \"&TEXT(Données!$C15,\"hh:mm\"))","v":"19:15 : 07:15"},null,null,null,{"$f":"Données!$A19","v":"SYN"}," =",{"$f":"IF(ISBLANK(Données!$C19),TEXT(Données!$B19,\"hh:mm\"),TEXT(Données!$B19,\"hh:mm\")&\" : \"&TEXT(Données!$C19,\"hh:mm\"))","v":"Syn"}]
[null,{"$f":"Données!$A5","v":"J"}," =",{"$f":"IF(ISBLANK(Données!$C5),TEXT(Données!$B5,\"hh:mm\"),TEXT(Données!$B5,\"hh:mm\")&\" : \"&TEXT(Données!$C5,\"hh:mm\"))","v":"10:00 : 17:30"},null,null,null,{"$f":"Données!$A9","v":"S"}," =",{"$f":"IF(ISBLANK(Données!$C9),TEXT(Données!$B9,\"hh:mm\"),TEXT(Données!$B9,\"hh:mm\")&\" : \"&TEXT(Données!$C9,\"hh:mm\"))","v":"14:00 : 21:30"},null,null,null,{"$f":"Données!$A12","v":"WD"}," =",{"$f":"IF(ISBLANK(Données!$C12),TEXT(Données!$B12,\"hh:mm\"),TEXT(Données!$B12,\"hh:mm\")&\" : \"&TEXT(Données!$C12,\"hh:mm\"))","v":"07:00 : 19:15"},null,null,null,{"$f":"Données!$A16","v":"NS"}," =",{"$f":"IF(ISBLANK(Données!$C16),TEXT(Données!$B16,\"hh:mm\"),TEXT(Données!$B16,\"hh:mm\")&\" : \"&TEXT(Données!$C16,\"hh:mm\"))","v":"19:15 : 07:15"},null,null,null,{"$f":"Données!$A20","v":"AT"}," =",{"$f":"IF(ISBLANK(Données!$C20),TEXT(Données!$B20,\"hh:mm\"),TEXT(Données!$B20,\"hh:mm\")&\" : \"&TEXT(Données!$C20,\"hh:mm\"))","v":"AT"}]
[null,{"$f":"Données!$A6","v":"J+"}," =",{"$f":"IF(ISBLANK(Données!$C6),TEXT(Données!$B6,\"hh:mm\"),TEXT(Données!$B6,\"hh:mm\")&\" : \"&TEXT(Données!$C6,\"hh:mm\"))","v":"11:30 : 19:15"},null,null,null,{"$f":"Données!$A10","v":"W"}," =",{"$f":"IF(ISBLANK(Données!$C10),TEXT(Données!$B10,\"hh:mm\"),TEXT(Données!$B10,\"hh:mm\")&\" : \"&TEXT(Données!$C10,\"hh:mm\"))","v":"07:30 : 19:15"},null,null,null,{"$f":"Données!$A13","v":"WF"}," =",{"$f":"IF(ISBLANK(Données!$C13),TEXT(Données!$B13,\"hh:mm\"),TEXT(Données!$B13,\"hh:mm\")&\" : \"&TEXT(Données!$C13,\"hh:mm\"))","v":"07:00 : 19:15"},null,null,null,{"$f":"Données!$A17","v":"T"}," =",{"$f":"IF(ISBLANK(Données!$C17),TEXT(Données!$B17,\"hh:mm\"),TEXT(Données!$B17,\"hh:mm\")&\" : \"&TEXT(Données!$C17,\"hh:mm\"))","v":"T"},null,null,null,{"$f":"Données!$A21","v":"AM"}," =",{"$f":"IF(ISBLANK(Données!$C21),TEXT(Données!$B21,\"hh:mm\"),TEXT(Données!$B21,\"hh:mm\")&\" : \"&TEXT(Données!$C21,\"hh:mm\"))","v":"AM"}]

{"sheet":"Aout","index":9,"n_rows":61,"n_cols":43,"rows_kept":61,"cut":false,"hidden":false,"merged":[[2,14,2,15]]}
[]
[null,{"$f":"DATE(An,Aout,B7)","v":"2018-08-01"},"2018-08-02","2018-08-03","2018-08-04","2018-08-05","2018-08-06","2018-08-07","2018-08-08","2018-08-09","2018-08-10","2018-08-11","2018-08-12","2018-08-13","2018-08-14","2018-08-15","2018-08-16","2018-08-17","2018-08-18","2018-08-19","2018-08-20","2018-08-21","2018-08-22","2018-08-23","2018-08-24","2018-08-25","2018-08-26","2018-08-27","2018-08-28","2018-08-29","2018-08-30","2018-08-31",null,null,"Pour remplir ","penser     ",null,null,null,null,{"$f":"IF(ISNUMBER(AO7),DATE(An,Aout,AO7),\"\")","v":""},{"$f":"IF(ISNUMBER(AP7),DATE(An,Aout,AP7),\"\")","v":""}]
[{"$f":"IF(Données!$L$5=\"\",\"Service\",Données!$L$5)","v":"Service"},null,null,null,null,null,null,null,null,null,"Mois d'Aout ",null,null,null,{"$f":"An","v":2018},null,null,null,null,null,null,null,null,null,null,null,null,null,null,null,null,null,null,null,"à mettre dans le format:\n"]
[null,null,null,null,null,null,null,null,null,null,null,null,null,null,null,null,null,null,null,null,null,null,null,null,null,null,null,null,null,null,null,null,null,null," \"heures\":\"Minutes\" "]
[null,null,null,null,null,null,null,null,null,null,null,null,null,null,null,null,null,null,null,null,null,null,null,null,null,null,null,null,null,null,null,null,null,null,"Heures sup ","Heures sup ",null,"Indications","Indications","Indications",null,"Total"]
["Jours",{"$f":"PROPER(LEFT(TEXT(DATE(An,Aout,B7),\"jjj\"),1))","v":"M"},"J","V","S","D","L","M","M","J","V","S","D","L","M","M","J","V","S","D","L","M","M","J","V","S","D","L","M","M","J","V",null,null,"avant 21h","après 21h",null,"Heures","Heures nuit","Heures",null,"Heures","Heures"]
[null,{"$f":"A7+1","v":1},2,3,4,5,6,7,8,9,10,11,12,13,14,15,16,17,18,19,20,21,22,23,24,25,26,27,28,29,30,{"$f":"AE7+1","v":31},null,null,"A remplir","A remplir",null," Dimanche"," Dimanche","après 21h",null," au mois","  a l'année"]
["Equipe de jour"]
[{"$f":"Données!$H6","v":"A"},null,null,null,null,null,null,null,null,null,null,null,null,null,null,null,null,null,null,null,null,null,null,null,null,null,null,null,null,null,null,null,null,null,null,null,null,{"$f":"VLOOKUP($A9,BAout!$A$8:$AY$57,31,FALSE)","v":0},{"$f":"VLOOKUP($A9,BAout!$A$8:$AY$57,32,FALSE)","v":0},{"$f":"VLOOKUP($A9,BAout!$A$8:$AY$57,33,FALSE)","v":0},null,{"$f":"VLOOKUP($A9,BAout!$A$8:$AY$57,35,FALSE)","v":0},{"$f":"VLOOKUP($A9,Bilan!$A$8:$AY$57,35,FALSE)","v":0}]
[{"$f":"Données!$H7","v":0},null,null,null,null,null,null,null,null,null,null,null,null,null,null,null,null,null,null,null,null,null,null,null,null,null,null,null,null,null,null,null,null,null,null,null,null,{"$f":"VLOOKUP($A10,BAout!$A$8:$AY$57,31,FALSE)","v":0},{"$f":"VLOOKUP($A10,BAout!$A$8:$AY$57,32,FALSE)","v":0},{"$f":"VLOOKUP($A10,BAout!$A$8:$AY$57,33,FALSE)","v":0},null,{"$f":"VLOOKUP($A10,BAout!$A$8:$AY$57,35,FALSE)","v":0},{"$f":"VLOOKUP($A10,Bilan!$A$8:$AY$57,35,FALSE)","v":0}]
[{"$f":"Données!$H8","v":0},null,null,null,null,null,null,null,null,null,null,null,null,null,null,null,null,null,null,null,null,null,null,null,null,null,null,null,null,null,null,null,null,null,null,null,null,{"$f":"VLOOKUP($A11,BAout!$A$8:$AY$57,31,FALSE)","v":0},{"$f":"VLOOKUP($A11,BAout!$A$8:$AY$57,32,FALSE)","v":0},{"$f":"VLOOKUP($A11,BAout!$A$8:$AY$57,33,FALSE)","v":0},null,{"$f":"VLOOKUP($A11,BAout!$A$8:$AY$57,35,FALSE)","v":0},{"$f":"VLOOKUP($A11,Bilan!$A$8:$AY$57,35,FALSE)","v":0}]
[{"$f":"Données!$H9","v":0},null,null,null,null,null,null,null,null,null,null,null,null,null,null,null,null,null,null,null,null,null,null,null,null,null,null,null,null,null,null,null,null,null,null,null,null,{"$f":"VLOOKUP($A12,BAout!$A$8:$AY$57,31,FALSE)","v":0},{"$f":"VLOOKUP($A12,BAout!$A$8:$AY$57,32,FALSE)","v":0},{"$f":"VLOOKUP($A12,BAout!$A$8:$AY$57,33,FALSE)","v":0},null,{"$f":"VLOOKUP($A12,BAout!$A$8:$AY$57,35,FALSE)","v":0},{"$f":"VLOOKUP($A12,Bilan!$A$8:$AY$57,35,FALSE)","v":0}]
[{"$f":"Données!$H10","v":0},null,null,null,null,null,null,null,null,null,null,null,null,null,null,null,null,null,null,null,null,null,null,null,null,null,null,null,null,null,null,null,null,null,null,null,null,{"$f":"VLOOKUP($A13,BAout!$A$8:$AY$57,31,FALSE)","v":0},{"$f":"VLOOKUP($A13,BAout!$A$8:$AY$57,32,FALSE)","v":0},{"$f":"VLOOKUP($A13,BAout!$A$8:$AY$57,33,FALSE)","v":0},null,{"$f":"VLOOKUP($A13,BAout!$A$8:$AY$57,35,FALSE)","v":0},{"$f":"VLOOKUP($A13,Bilan!$A$8:$AY$57,35,FALSE)","v":0}]
[{"$f":"Données!$H11","v":0},null,null,null,null,null,null,null,null,null,null,null,null,null,null,null,null,null,null,null,null,null,null,null,null,null,null,null,null,null,null,null,null,null,null,null,null,{"$f":"VLOOKUP($A14,BAout!$A$8:$AY$57,31,FALSE)","v":0},{"$f":"VLOOKUP($A14,BAout!$A$8:$AY$57,32,FALSE)","v":0},{"$f":"VLOOKUP($A14,BAout!$A$8:$AY$57,33,FALSE)","v":0},null,{"$f":"VLOOKUP($A14,BAout!$A$8:$AY$57,35,FALSE)","v":0},{"$f":"VLOOKUP($A14,Bilan!$A$8:$AY$57,35,FALSE)","v":0}]
[{"$f":"Données!$H12","v":0},null,null,null,null,null,null,null,null,null,null,null,null,null,null,null,null,null,null,null,null,null,null,null,null,null,null,null,null,null,null,null,null,null,null,null,null,{"$f":"VLOOKUP($A15,BAout!$A$8:$AY$57,31,FALSE)","v":0},{"$f":"VLOOKUP($A15,BAout!$A$8:$AY$57,32,FALSE)","v":0},{"$f":"VLOOKUP($A15,BAout!$A$8:$AY$57,33,FALSE)","v":0},null,{"$f":"VLOOKUP($A15,BAout!$A$8:$AY$57,35,FALSE)","v":0},{"$f":"VLOOKUP($A15,Bilan!$A$8:$AY$57,35,FALSE)","v":0}]
[{"$f":"Données!$H13","v":0},null,null,null,null,null,null,null,null,null,null,null,null,null,null,null,null,null,null,null,null,null,null,null,null,null,null,null,null,null,null,null,null,null,null,null,null,{"$f":"VLOOKUP($A16,BAout!$A$8:$AY$57,31,FALSE)","v":0},{"$f":"VLOOKUP($A16,BAout!$A$8:$AY$57,32,FALSE)","v":0},{"$f":"VLOOKUP($A16,BAout!$A$8:$AY$57,33,FALSE)","v":0},null,{"$f":"VLOOKUP($A16,BAout!$A$8:$AY$57,35,FALSE)","v":0},{"$f":"VLOOKUP($A16,Bilan!$A$8:$AY$57,35,FALSE)","v":0}]
[{"$f":"Données!$H14","v":0},null,null,null,null,null,null,null,null,null,null,null,null,null,null,null,null,null,null,null,null,null,null,null,null,null,null,null,null,null,null,null,null,null,null,null,null,{"$f":"VLOOKUP($A17,BAout!$A$8:$AY$57,31,FALSE)","v":0},{"$f":"VLOOKUP($A17,BAout!$A$8:$AY$57,32,FALSE)","v":0},{"$f":"VLOOKUP($A17,BAout!$A$8:$AY$57,33,FALSE)","v":0},null,{"$f":"VLOOKUP($A17,BAout!$A$8:$AY$57,35,FALSE)","v":0},{"$f":"VLOOKUP($A17,Bilan!$A$8:$AY$57,35,FALSE)","v":0}]
[{"$f":"Données!$H15","v":0},null,null,null,null,null,null,null,null,null,null,null,null,null,null,null,null,null,null,null,null,null,null,null,null,null,null,null,null,null,null,null,null,null,null,null,null,{"$f":"VLOOKUP($A18,BAout!$A$8:$AY$57,31,FALSE)","v":0},{"$f":"VLOOKUP($A18,BAout!$A$8:$AY$57,32,FALSE)","v":0},{"$f":"VLOOKUP($A18,BAout!$A$8:$AY$57,33,FALSE)","v":0},null,{"$f":"VLOOKUP($A18,BAout!$A$8:$AY$57,35,FALSE)","v":0},{"$f":"VLOOKUP($A18,Bilan!$A$8:$AY$57,35,FALSE)","v":0}]
[{"$f":"Données!$H16","v":0},null,null,null,null,null,null,null,null,null,null,null,null,null,null,null,null,null,null,null,null,null,null,null,null,null,null,null,null,null,null,null,null,null,null,null,null,{"$f":"VLOOKUP($A19,BAout!$A$8:$AY$57,31,FALSE)","v":0},{"$f":"VLOOKUP($A19,BAout!$A$8:$AY$57,32,FALSE)","v":0},{"$f":"VLOOKUP($A19,BAout!$A$8:$AY$57,33,FALSE)","v":0},null,{"$f":"VLOOKUP($A19,BAout!$A$8:$AY$57,35,FALSE)","v":0},{"$f":"VLOOKUP($A19,Bilan!$A$8:$AY$57,35,FALSE)","v":0}]
[{"$f":"Données!$H17","v":0},null,null,null,null,null,null,null,null,null,null,null,null,null,null,null,null,null,null,null,null,null,null,null,null,null,null,null,null,null,null,null,null,null,null,null,null,{"$f":"VLOOKUP($A20,BAout!$A$8:$AY$57,31,FALSE)","v":0},{"$f":"VLOOKUP($A20,BAout!$A$8:$AY$57,32,FALSE)","v":0},{"$f":"VLOOKUP($A20,BAout!$A$8:$AY$57,33,FALSE)","v":0},null,{"$f":"VLOOKUP($A20,BAout!$A$8:$AY$57,35,FALSE)","v":0},{"$f":"VLOOKUP($A20,Bilan!$A$8:$AY$57,35,FALSE)","v":0}]
[{"$f":"Données!$H18","v":0},null,null,null,null,null,null,null,null,null,null,null,null,null,null,null,null,null,null,null,null,null,null,null,null,null,null,null,null,null,null,null,null,null,null,null,null,{"$f":"VLOOKUP($A21,BAout!$A$8:$AY$57,31,FALSE)","v":0},{"$f":"VLOOKUP($A21,BAout!$A$8:$AY$57,32,FALSE)","v":0},{"$f":"VLOOKUP($A21,BAout!$A$8:$AY$57,33,FALSE)","v":0},null,{"$f":"VLOOKUP($A21,BAout!$A$8:$AY$57,35,FALSE)","v":0},{"$f":"VLOOKUP($A21,Bilan!$A$8:$AY$57,35,FALSE)","v":0}]
[{"$f":"Données!$H19","v":0},null,null,null,null,null,null,null,null,null,null,null,null,null,null,null,null,null,null,null,null,null,null,null,null,null,null,null,null,null,null,null,null,null,null,null,null,{"$f":"VLOOKUP($A22,BAout!$A$8:$AY$57,31,FALSE)","v":0},{"$f":"VLOOKUP($A22,BAout!$A$8:$AY$57,32,FALSE)","v":0},{"$f":"VLOOKUP($A22,BAout!$A$8:$AY$57,33,FALSE)","v":0},null,{"$f":"VLOOKUP($A22,BAout!$A$8:$AY$57,35,FALSE)","v":0},{"$f":"VLOOKUP($A22,Bilan!$A$8:$AY$57,35,FALSE)","v":0}]
[{"$f":"Données!$H20","v":0},null,null,null,null,null,null,null,null,null,null,null,null,null,null,null,null,null,null,null,null,null,null,null,null,null,null,null,null,null,null,null,null,null,null,null,null,{"$f":"VLOOKUP($A23,BAout!$A$8:$AY$57,31,FALSE)","v":0},{"$f":"VLOOKUP($A23,BAout!$A$8:$AY$57,32,FALSE)","v":0},{"$f":"VLOOKUP($A23,BAout!$A$8:$AY$57,33,FALSE)","v":0},null,{"$f":"VLOOKUP($A23,BAout!$A$8:$AY$57,35,FALSE)","v":0},{"$f":"VLOOKUP($A23,Bilan!$A$8:$AY$57,35,FALSE)","v":0}]
[{"$f":"Données!$H21","v":0},null,null,null,null,null,null,null,null,null,null,null,null,null,null,null,null,null,null,null,null,null,null,null,null,null,null,null,null,null,null,null,null,null,null,null,null,{"$f":"VLOOKUP($A24,BAout!$A$8:$AY$57,31,FALSE)","v":0},{"$f":"VLOOKUP($A24,BAout!$A$8:$AY$57,32,FALSE)","v":0},{"$f":"VLOOKUP($A24,BAout!$A$8:$AY$57,33,FALSE)","v":0},null,{"$f":"VLOOKUP($A24,BAout!$A$8:$AY$57,35,FALSE)","v":0},{"$f":"VLOOKUP($A24,Bilan!$A$8:$AY$57,35,FALSE)","v":0}]
[{"$f":"Données!$H22","v":"Equipe de nuit"}]
[{"$f":"Données!$H23","v":"K"},null,null,null,null,null,null,null,null,null,null,null,null,null,null,null,null,null,null,null,null,null,null,null,null,null,null,null,null,null,null,null,null,null,null,null,null,{"$f":"VLOOKUP($A26,BAout!$A$8:$AY$57,31,FALSE)","v":0},{"$f":"VLOOKUP($A26,BAout!$A$8:$AY$57,32,FALSE)","v":0},{"$f":"VLOOKUP($A26,BAout!$A$8:$AY$57,33,FALSE)","v":0},null,{"$f":"VLOOKUP($A26,BAout!$A$8:$AY$57,35,FALSE)","v":0},{"$f":"VLOOKUP($A26,Bilan!$A$8:$AY$57,35,FALSE)","v":0}]
[{"$f":"Données!$H24","v":0},null,null,null,null,null,null,null,null,null,null,null,null,null,null,null,null,null,null,null,null,null,null,null,null,null,null,null,null,null,null,null,null,null,null,null,null,{"$f":"VLOOKUP($A27,BAout!$A$8:$AY$57,31,FALSE)","v":0},{"$f":"VLOOKUP($A27,BAout!$A$8:$AY$57,32,FALSE)","v":0},{"$f":"VLOOKUP($A27,BAout!$A$8:$AY$57,33,FALSE)","v":0},null,{"$f":"VLOOKUP($A27,BAout!$A$8:$AY$57,35,FALSE)","v":0},{"$f":"VLOOKUP($A27,Bilan!$A$8:$AY$57,35,FALSE)","v":0}]
[{"$f":"Données!$H25","v":0},null,null,null,null,null,null,null,null,null,null,null,null,null,null,null,null,null,null,null,null,null,null,null,null,null,null,null,null,null,null,null,null,null,null,null,null,{"$f":"VLOOKUP($A28,BAout!$A$8:$AY$57,31,FALSE)","v":0},{"$f":"VLOOKUP($A28,BAout!$A$8:$AY$57,32,FALSE)","v":0},{"$f":"VLOOKUP($A28,BAout!$A$8:$AY$57,33,FALSE)","v":0},null,{"$f":"VLOOKUP($A28,BAout!$A$8:$AY$57,35,FALSE)","v":0},{"$f":"VLOOKUP($A28,Bilan!$A$8:$AY$57,35,FALSE)","v":0}]
[{"$f":"Données!$H26","v":0},null,null,null,null,null,null,null,null,null,null,null,null,null,null,null,null,null,null,null,null,null,null,null,null,null,null,null,null,null,null,null,null,null,null,null,null,{"$f":"VLOOKUP($A29,BAout!$A$8:$AY$57,31,FALSE)","v":0},{"$f":"VLOOKUP($A29,BAout!$A$8:$AY$57,32,FALSE)","v":0},{"$f":"VLOOKUP($A29,BAout!$A$8:$AY$57,33,FALSE)","v":0},null,{"$f":"VLOOKUP($A29,BAout!$A$8:$AY$57,35,FALSE)","v":0},{"$f":"VLOOKUP($A29,Bilan!$A$8:$AY$57,35,FALSE)","v":0}]
[{"$f":"Données!$H27","v":0},null,null,null,null,null,null,null,null,null,null,null,null,null,null,null,null,null,null,null,null,null,null,null,null,null,null,null,null,null,null,null,null,null,null,null,null,{"$f":"VLOOKUP($A30,BAout!$A$8:$AY$57,31,FALSE)","v":0},{"$f":"VLOOKUP($A30,BAout!$A$8:$AY$57,32,FALSE)","v":0},{"$f":"VLOOKUP($A30,BAout!$A$8:$AY$57,33,FALSE)","v":0},null,{"$f":"VLOOKUP($A30,BAout!$A$8:$AY$57,35,FALSE)","v":0},{"$f":"VLOOKUP($A30,Bilan!$A$8:$AY$57,35,FALSE)","v":0}]
[{"$f":"Données!$H28","v":0},null,null,null,null,null,null,null,null,null,null,null,null,null,null,null,null,null,null,null,null,null,null,null,null,null,null,null,null,null,null,null,null,null,null,null,null,{"$f":"VLOOKUP($A31,BAout!$A$8:$AY$57,31,FALSE)","v":0},{"$f":"VLOOKUP($A31,BAout!$A$8:$AY$57,32,FALSE)","v":0},{"$f":"VLOOKUP($A31,BAout!$A$8:$AY$57,33,FALSE)","v":0},null,{"$f":"VLOOKUP($A31,BAout!$A$8:$AY$57,35,FALSE)","v":0},{"$f":"VLOOKUP($A31,Bilan!$A$8:$AY$57,35,FALSE)","v":0}]
[{"$f":"Données!$H29","v":0},null,null,null,null,null,null,null,null,null,null,null,null,null,null,null,null,null,null,null,null,null,null,null,null,null,null,null,null,null,null,null,null,null,null,null,null,{"$f":"VLOOKUP($A32,BAout!$A$8:$AY$57,31,FALSE)","v":0},{"$f":"VLOOKUP($A32,BAout!$A$8:$AY$57,32,FALSE)","v":0},{"$f":"VLOOKUP($A32,BAout!$A$8:$AY$57,33,FALSE)","v":0},null,{"$f":"VLOOKUP($A32,BAout!$A$8:$AY$57,35,FALSE)","v":0},{"$f":"VLOOKUP($A32,Bilan!$A$8:$AY$57,35,FALSE)","v":0}]
[{"$f":"Données!$H30","v":0},null,null,null,null,null,null,null,null,null,null,null,null,null,null,null,null,null,null,null,null,null,null,null,null,null,null,null,null,null,null,null,null,null,null,null,null,{"$f":"VLOOKUP($A33,BAout!$A$8:$AY$57,31,FALSE)","v":0},{"$f":"VLOOKUP($A33,BAout!$A$8:$AY$57,32,FALSE)","v":0},{"$f":"VLOOKUP($A33,BAout!$A$8:$AY$57,33,FALSE)","v":0},null,{"$f":"VLOOKUP($A33,BAout!$A$8:$AY$57,35,FALSE)","v":0},{"$f":"VLOOKUP($A33,Bilan!$A$8:$AY$57,35,FALSE)","v":0}]
[{"$f":"Données!$H31","v":0},null,null,null,null,null,null,null,null,null,null,null,null,null,null,null,null,null,null,null,null,null,null,null,null,null,null,null,null,null,null,null,null,null,null,null,null,{"$f":"VLOOKUP($A34,BAout!$A$8:$AY$57,31,FALSE)","v":0},{"$f":"VLOOKUP($A34,BAout!$A$8:$AY$57,32,FALSE)","v":0},{"$f":"VLOOKUP($A34,BAout!$A$8:$AY$57,33,FALSE)","v":0},null,{"$f":"VLOOKUP($A34,BAout!$A$8:$AY$57,35,FALSE)","v":0},{"$f":"VLOOKUP($A34,Bilan!$A$8:$AY$57,35,FALSE)","v":0}]
[{"$f":"Données!$H32","v":"Maitresse de maison"}]
[{"$f":"Données!$H33","v":"N"},null,null,null,null,null,null,null,null,null,null,null,null,null,null,null,null,null,null,null,null,null,null,null,null,null,null,null,null,null,null,null,null,null,null,null,null,{"$f":"VLOOKUP($A36,BAout!$A$8:$AY$57,31,FALSE)","v":0},{"$f":"VLOOKUP($A36,BAout!$A$8:$AY$57,32,FALSE)","v":0},{"$f":"VLOOKUP($A36,BAout!$A$8:$AY$57,33,FALSE)","v":0},null,{"$f":"VLOOKUP($A36,BAout!$A$8:$AY$57,35,FALSE)","v":0},{"$f":"VLOOKUP($A36,Bilan!$A$8:$AY$57,35,FALSE)","v":0}]
[{"$f":"Données!$H34","v":0},null,null,null,null,null,null,null,null,null,null,null,null,null,null,null,null,null,null,null,null,null,null,null,null,null,null,null,null,null,null,null,null,null,null,null,null,{"$f":"VLOOKUP($A37,BAout!$A$8:$AY$57,31,FALSE)","v":0},{"$f":"VLOOKUP($A37,BAout!$A$8:$AY$57,32,FALSE)","v":0},{"$f":"VLOOKUP($A37,BAout!$A$8:$AY$57,33,FALSE)","v":0},null,{"$f":"VLOOKUP($A37,BAout!$A$8:$AY$57,35,FALSE)","v":0},{"$f":"VLOOKUP($A37,Bilan!$A$8:$AY$57,35,FALSE)","v":0}]
[{"$f":"Données!$H35","v":0},null,null,null,null,null,null,null,null,null,null,null,null,null,null,null,null,null,null,null,null,null,null,null,null,null,null,null,null,null,null,null,null,null,null,null,null,{"$f":"VLOOKUP($A38,BAout!$A$8:$AY$57,31,FALSE)","v":0},{"$f":"VLOOKUP($A38,BAout!$A$8:$AY$57,32,FALSE)","v":0},{"$f":"VLOOKUP($A38,BAout!$A$8:$AY$57,33,FALSE)","v":0},null,{"$f":"VLOOKUP($A38,BAout!$A$8:$AY$57,35,FALSE)","v":0},{"$f":"VLOOKUP($A38,Bilan!$A$8:$AY$57,35,FALSE)","v":0}]
[{"$f":"Données!$H36","v":0},null,null,null,null,null,null,null,null,null,null,null,null,null,null,null,null,null,null,null,null,null,null,null,null,null,null,null,null,null,null,null,null,null,null,null,null,{"$f":"VLOOKUP($A39,BAout!$A$8:$AY$57,31,FALSE)","v":0},{"$f":"VLOOKUP($A39,BAout!$A$8:$AY$57,32,FALSE)","v":0},{"$f":"VLOOKUP($A39,BAout!$A$8:$AY$57,33,FALSE)","v":0},null,{"$f":"VLOOKUP($A39,BAout!$A$8:$AY$57,35,FALSE)","v":0},{"$f":"VLOOKUP($A39,Bilan!$A$8:$AY$57,35,FALSE)","v":0}]
[{"$f":"Données!$H37","v":0},null,null,null,null,null,null,null,null,null,null,null,null,null,null,null,null,null,null,null,null,null,null,null,null,null,null,null,null,null,null,null,null,null,null,null,null,{"$f":"VLOOKUP($A40,BAout!$A$8:$AY$57,31,FALSE)","v":0},{"$f":"VLOOKUP($A40,BAout!$A$8:$AY$57,32,FALSE)","v":0},{"$f":"VLOOKUP($A40,BAout!$A$8:$AY$57,33,FALSE)","v":0},null,{"$f":"VLOOKUP($A40,BAout!$A$8:$AY$57,35,FALSE)","v":0},{"$f":"VLOOKUP($A40,Bilan!$A$8:$AY$57,35,FALSE)","v":0}]
[{"$f":"Données!$H38","v":0},null,null,null,null,null,null,null,null,null,null,null,null,null,null,null,null,null,null,null,null,null,null,null,null,null,null,null,null,null,null,null,null,null,null,null,null,{"$f":"VLOOKUP($A41,BAout!$A$8:$AY$57,31,FALSE)","v":0},{"$f":"VLOOKUP($A41,BAout!$A$8:$AY$57,32,FALSE)","v":0},{"$f":"VLOOKUP($A41,BAout!$A$8:$AY$57,33,FALSE)","v":0},null,{"$f":"VLOOKUP($A41,BAout!$A$8:$AY$57,35,FALSE)","v":0},{"$f":"VLOOKUP($A41,Bilan!$A$8:$AY$57,35,FALSE)","v":0}]
[{"$f":"Données!$H39","v":0},null,null,null,null,null,null,null,null,null,null,null,null,null,null,null,null,null,null,null,null,null,null,null,null,null,null,null,null,null,null,null,null,null,null,null,null,{"$f":"VLOOKUP($A42,BAout!$A$8:$AY$57,31,FALSE)","v":0},{"$f":"VLOOKUP($A42,BAout!$A$8:$AY$57,32,FALSE)","v":0},{"$f":"VLOOKUP($A42,BAout!$A$8:$AY$57,33,FALSE)","v":0},null,{"$f":"VLOOKUP($A42,BAout!$A$8:$AY$57,35,FALSE)","v":0},{"$f":"VLOOKUP($A42,Bilan!$A$8:$AY$57,35,FALSE)","v":0}]
[{"$f":"Données!$H40","v":0},null,null,null,null,null,null,null,null,null,null,null,null,null,null,null,null,null,null,null,null,null,null,null,null,null,null,null,null,null,null,null,null,null,null,null,null,{"$f":"VLOOKUP($A43,BAout!$A$8:$AY$57,31,FALSE)","v":0},{"$f":"VLOOKUP($A43,BAout!$A$8:$AY$57,32,FALSE)","v":0},{"$f":"VLOOKUP($A43,BAout!$A$8:$AY$57,33,FALSE)","v":0},null,{"$f":"VLOOKUP($A43,BAout!$A$8:$AY$57,35,FALSE)","v":0},{"$f":"VLOOKUP($A43,Bilan!$A$8:$AY$57,35,FALSE)","v":0}]
[{"$f":"Données!$H41","v":0},null,null,null,null,null,null,null,null,null,null,null,null,null,null,null,null,null,null,null,null,null,null,null,null,null,null,null,null,null,null,null,null,null,null,null,null,{"$f":"VLOOKUP($A44,BAout!$A$8:$AY$57,31,FALSE)","v":0},{"$f":"VLOOKUP($A44,BAout!$A$8:$AY$57,32,FALSE)","v":0},{"$f":"VLOOKUP($A44,BAout!$A$8:$AY$57,33,FALSE)","v":0},null,{"$f":"VLOOKUP($A44,BAout!$A$8:$AY$57,35,FALSE)","v":0},{"$f":"VLOOKUP($A44,Bilan!$A$8:$AY$57,35,FALSE)","v":0}]
[{"$f":"Données!$H42","v":"Psychologue"}]
[{"$f":"Données!$H43","v":"O"},null,null,null,null,null,null,null,null,null,null,null,null,null,null,null,null,null,null,null,null,null,null,null,null,null,null,null,null,null,null,null,null,null,null,null,null,{"$f":"VLOOKUP($A46,BAout!$A$8:$AY$57,31,FALSE)","v":0},{"$f":"VLOOKUP($A46,BAout!$A$8:$AY$57,32,FALSE)","v":0},{"$f":"VLOOKUP($A46,BAout!$A$8:$AY$57,33,FALSE)","v":0},null,{"$f":"VLOOKUP($A46,BAout!$A$8:$AY$57,35,FALSE)","v":0},{"$f":"VLOOKUP($A46,Bilan!$A$8:$AY$57,35,FALSE)","v":0}]
[{"$f":"Données!$H44","v":0},null,null,null,null,null,null,null,null,null,null,null,null,null,null,null,null,null,null,null,null,null,null,null,null,null,null,null,null,null,null,null,null,null,null,null,null,{"$f":"VLOOKUP($A47,BAout!$A$8:$AY$57,31,FALSE)","v":0},{"$f":"VLOOKUP($A47,BAout!$A$8:$AY$57,32,FALSE)","v":0},{"$f":"VLOOKUP($A47,BAout!$A$8:$AY$57,33,FALSE)","v":0},null,{"$f":"VLOOKUP($A47,BAout!$A$8:$AY$57,35,FALSE)","v":0},{"$f":"VLOOKUP($A47,Bilan!$A$8:$AY$57,35,FALSE)","v":0}]
[{"$f":"Données!$H45","v":0},null,null,null,null,null,null,null,null,null,null,null,null,null,null,null,null,null,null,null,null,null,null,null,null,null,null,null,null,null,null,null,null,null,null,null,null,{"$f":"VLOOKUP($A48,BAout!$A$8:$AY$57,31,FALSE)","v":0},{"$f":"VLOOKUP($A48,BAout!$A$8:$AY$57,32,FALSE)","v":0},{"$f":"VLOOKUP($A48,BAout!$A$8:$AY$57,33,FALSE)","v":0},null,{"$f":"VLOOKUP($A48,BAout!$A$8:$AY$57,35,FALSE)","v":0},{"$f":"VLOOKUP($A48,Bilan!$A$8:$AY$57,35,FALSE)","v":0}]
[{"$f":"Données!$H46","v":"Coordinatrice"}]
[{"$f":"Données!$H47","v":"P"},null,null,null,null,null,null,null,null,null,null,null,null,null,null,null,null,null,null,null,null,null,null,null,null,null,null,null,null,null,null,null,null,null,null,null,null,{"$f":"VLOOKUP($A50,BAout!$A$8:$AY$57,31,FALSE)","v":0},{"$f":"VLOOKUP($A50,BAout!$A$8:$AY$57,32,FALSE)","v":0},{"$f":"VLOOKUP($A50,BAout!$A$8:$AY$57,33,FALSE)","v":0},null,{"$f":"VLOOKUP($A50,BAout!$A$8:$AY$57,35,FALSE)","v":0},{"$f":"VLOOKUP($A50,Bilan!$A$8:$AY$57,35,FALSE)","v":0}]
[{"$f":"Données!$H48","v":0},null,null,null,null,null,null,null,null,null,null,null,null,null,null,null,null,null,null,null,null,null,null,null,null,null,null,null,null,null,null,null,null,null,null,null,null,{"$f":"VLOOKUP($A51,BAout!$A$8:$AY$57,31,FALSE)","v":0},{"$f":"VLOOKUP($A51,BAout!$A$8:$AY$57,32,FALSE)","v":0},{"$f":"VLOOKUP($A51,BAout!$A$8:$AY$57,33,FALSE)","v":0},null,{"$f":"VLOOKUP($A51,BAout!$A$8:$AY$57,35,FALSE)","v":0},{"$f":"VLOOKUP($A51,Bilan!$A$8:$AY$57,35,FALSE)","v":0}]
[{"$f":"Données!$H49","v":0},null,null,null,null,null,null,null,null,null,null,null,null,null,null,null,null,null,null,null,null,null,null,null,null,null,null,null,null,null,null,null,null,null,null,null,null,{"$f":"VLOOKUP($A52,BAout!$A$8:$AY$57,31,FALSE)","v":0},{"$f":"VLOOKUP($A52,BAout!$A$8:$AY$57,32,FALSE)","v":0},{"$f":"VLOOKUP($A52,BAout!$A$8:$AY$57,33,FALSE)","v":0},null,{"$f":"VLOOKUP($A52,BAout!$A$8:$AY$57,35,FALSE)","v":0},{"$f":"VLOOKUP($A52,Bilan!$A$8:$AY$57,35,FALSE)","v":0}]
[{"$f":"Données!$H50","v":0},null,null,null,null,null,null,null,null,null,null,null,null,null,null,null,null,null,null,null,null,null,null,null,null,null,null,null,null,null,null,null,null,null,null,null,null,{"$f":"VLOOKUP($A53,BAout!$A$8:$AY$57,31,FALSE)","v":0},{"$f":"VLOOKUP($A53,BAout!$A$8:$AY$57,32,FALSE)","v":0},{"$f":"VLOOKUP($A53,BAout!$A$8:$AY$57,33,FALSE)","v":0},null,{"$f":"VLOOKUP($A53,BAout!$A$8:$AY$57,35,FALSE)","v":0},{"$f":"VLOOKUP($A53,Bilan!$A$8:$AY$57,35,FALSE)","v":0}]
[{"$f":"Données!$H51","v":0},null,null,null,null,null,null,null,null,null,null,null,null,null,null,null,null,null,null,null,null,null,null,null,null,null,null,null,null,null,null,null,null,null,null,null,null,{"$f":"VLOOKUP($A54,BAout!$A$8:$AY$57,31,FALSE)","v":0},{"$f":"VLOOKUP($A54,BAout!$A$8:$AY$57,32,FALSE)","v":0},{"$f":"VLOOKUP($A54,BAout!$A$8:$AY$57,33,FALSE)","v":0},null,{"$f":"VLOOKUP($A54,BAout!$A$8:$AY$57,35,FALSE)","v":0},{"$f":"VLOOKUP($A54,Bilan!$A$8:$AY$57,35,FALSE)","v":0}]
[{"$f":"Données!$H52","v":"Chef de service"}]
[{"$f":"Données!$H53","v":"Q"},null,null,null,null,null,null,null,null,null,null,null,null,null,null,null,null,null,null,null,null,null,null,null,null,null,null,null,null,null,null,null,null,null,null,null,null,{"$f":"VLOOKUP($A56,BAout!$A$8:$AY$57,31,FALSE)","v":0},{"$f":"VLOOKUP($A56,BAout!$A$8:$AY$57,32,FALSE)","v":0},{"$f":"VLOOKUP($A56,BAout!$A$8:$AY$57,33,FALSE)","v":0},null,{"$f":"VLOOKUP($A56,BAout!$A$8:$AY$57,35,FALSE)","v":0},{"$f":"VLOOKUP($A56,Bilan!$A$8:$AY$57,35,FALSE)","v":0}]
[]
[null,{"$f":"Données!$A3","v":"M"}," =",{"$f":"IF(ISBLANK(Données!$C3),TEXT(Données!$B3,\"hh:mm\"),TEXT(Données!$B3,\"hh:mm\")&\" : \"&TEXT(Données!$C3,\"hh:mm\"))","v":"07:00 : 14:35"},null,null,null,{"$f":"Données!$A7","v":"R"}," =",{"$f":"IF(ISBLANK(Données!$C7),TEXT(Données!$B7,\"hh:mm\"),TEXT(Données!$B7,\"hh:mm\")&\" : \"&TEXT(Données!$C7,\"hh:mm\"))","v":"10:00 : 12:00"},null,null,null,{"$f":"Données!$A10","v":"W"}," =",{"$f":"IF(ISBLANK(Données!$C10),TEXT(Données!$B10,\"hh:mm\"),TEXT(Données!$B10,\"hh:mm\")&\" : \"&TEXT(Données!$C10,\"hh:mm\"))","v":"07:30 : 19:15"},null,null,null,{"$f":"Données!$A14","v":"N"}," =",{"$f":"IF(ISBLANK(Données!$C14),TEXT(Données!$B14,\"hh:mm\"),TEXT(Données!$B14,\"hh:mm\")&\" : \"&TEXT(Données!$C14,\"hh:mm\"))","v":"20:30 : 07:15"},null,null,null,{"$f":"Données!$A18","v":"F"}," =",{"$f":"IF(ISBLANK(Données!$C18),TEXT(Données!$B18,\"hh:mm\"),TEXT(Données!$B18,\"hh:mm\")&\" : \"&TEXT(Données!$C18,\"hh:mm\"))","v":"F"}]
[null,{"$f":"Données!$A4","v":"MG"}," =",{"$f":"IF(ISBLANK(Données!$C4),TEXT(Données!$B4,\"hh:mm\"),TEXT(Données!$B4,\"hh:mm\")&\" : \"&TEXT(Données!$C4,\"hh:mm\"))","v":"23:00 : 01:35"},null,null,null,{"$f":"Données!$A8","v":"RS"}," =",{"$f":"IF(ISBLANK(Données!$C8),TEXT(Données!$B8,\"hh:mm\"),TEXT(Données!$B8,\"hh:mm\")&\" : \"&TEXT(Données!$C8,\"hh:mm\"))","v":"10:00 : 21:30"},null,null,null,{"$f":"Données!$A11","v":"W+"}," =",{"$f":"IF(ISBLANK(Données!$C11),TEXT(Données!$B11,\"hh:mm\"),TEXT(Données!$B11,\"hh:mm\")&\" : \"&TEXT(Données!$C11,\"hh:mm\"))","v":"10:00 : 21:30"},null,null,null,{"$f":"Données!$A15","v":"N+"}," =",{"$f":"IF(ISBLANK(Données!$C15),TEXT(Données!$B15,\"hh:mm\"),TEXT(Données!$B15,\"hh:mm\")&\" : \"&TEXT(Données!$C15,\"hh:mm\"))","v":"19:15 : 07:15"},null,null,null,{"$f":"Données!$A19","v":"SYN"}," =",{"$f":"IF(ISBLANK(Données!$C19),TEXT(Données!$B19,\"hh:mm\"),TEXT(Données!$B19,\"hh:mm\")&\" : \"&TEXT(Données!$C19,\"hh:mm\"))","v":"Syn"}]
[null,{"$f":"Données!$A5","v":"J"}," =",{"$f":"IF(ISBLANK(Données!$C5),TEXT(Données!$B5,\"hh:mm\"),TEXT(Données!$B5,\"hh:mm\")&\" : \"&TEXT(Données!$C5,\"hh:mm\"))","v":"10:00 : 17:30"},null,null,null,{"$f":"Données!$A9","v":"S"}," =",{"$f":"IF(ISBLANK(Données!$C9),TEXT(Données!$B9,\"hh:mm\"),TEXT(Données!$B9,\"hh:mm\")&\" : \"&TEXT(Données!$C9,\"hh:mm\"))","v":"14:00 : 21:30"},null,null,null,{"$f":"Données!$A12","v":"WD"}," =",{"$f":"IF(ISBLANK(Données!$C12),TEXT(Données!$B12,\"hh:mm\"),TEXT(Données!$B12,\"hh:mm\")&\" : \"&TEXT(Données!$C12,\"hh:mm\"))","v":"07:00 : 19:15"},null,null,null,{"$f":"Données!$A16","v":"NS"}," =",{"$f":"IF(ISBLANK(Données!$C16),TEXT(Données!$B16,\"hh:mm\"),TEXT(Données!$B16,\"hh:mm\")&\" : \"&TEXT(Données!$C16,\"hh:mm\"))","v":"19:15 : 07:15"},null,null,null,{"$f":"Données!$A20","v":"AT"}," =",{"$f":"IF(ISBLANK(Données!$C20),TEXT(Données!$B20,\"hh:mm\"),TEXT(Données!$B20,\"hh:mm\")&\" : \"&TEXT(Données!$C20,\"hh:mm\"))","v":"AT"}]
[null,{"$f":"Données!$A6","v":"J+"}," =",{"$f":"IF(ISBLANK(Données!$C6),TEXT(Données!$B6,\"hh:mm\"),TEXT(Données!$B6,\"hh:mm\")&\" : \"&TEXT(Données!$C6,\"hh:mm\"))","v":"11:30 : 19:15"},null,null,null,{"$f":"Données!$A10","v":"W"}," =",{"$f":"IF(ISBLANK(Données!$C10),TEXT(Données!$B10,\"hh:mm\"),TEXT(Données!$B10,\"hh:mm\")&\" : \"&TEXT(Données!$C10,\"hh:mm\"))","v":"07:30 : 19:15"},null,null,null,{"$f":"Données!$A13","v":"WF"}," =",{"$f":"IF(ISBLANK(Données!$C13),TEXT(Données!$B13,\"hh:mm\"),TEXT(Données!$B13,\"hh:mm\")&\" : \"&TEXT(Données!$C13,\"hh:mm\"))","v":"07:00 : 19:15"},null,null,null,{"$f":"Données!$A17","v":"T"}," =",{"$f":"IF(ISBLANK(Données!$C17),TEXT(Données!$B17,\"hh:mm\"),TEXT(Données!$B17,\"hh:mm\")&\" : \"&TEXT(Données!$C17,\"hh:mm\"))","v":"T"},null,null,null,{"$f":"Données!$A21","v":"AM"}," =",{"$f":"IF(ISBLANK(Données!$C21),TEXT(Données!$B21,\"hh:mm\"),TEXT(Données!$B21,\"hh:mm\")&\" : \"&TEXT(Données!$C21,\"hh:mm\"))","v":"AM"}]

{"sheet":"Septembre","index":10,"n_rows":61,"n_cols":43,"rows_kept":61,"cut":false,"hidden":false,"merged":[[2,15,2,16]]}
[]
[null,{"$f":"DATE(An,Septembre,B7)","v":"2018-09-01"},"2018-09-02","2018-09-03","2018-09-04","2018-09-05","2018-09-06","2018-09-07","2018-09-08","2018-09-09","2018-09-10","2018-09-11","2018-09-12","2018-09-13","2018-09-14","2018-09-15","2018-09-16","2018-09-17","2018-09-18","2018-09-19","2018-09-20","2018-09-21","2018-09-22","2018-09-23","2018-09-24","2018-09-25","2018-09-26","2018-09-27","2018-09-28","2018-09-29","2018-09-30",null,null,null,"Pour remplir ","penser     ",null,null,null,null,{"$f":"IF(ISNUMBER(AO7),DATE(An,Septembre,AO7),\"\")","v":""},{"$f":"IF(ISNUMBER(AP7),DATE(An,Septembre,AP7),\"\")","v":""}]
[{"$f":"IF(Données!$L$5=\"\",\"Service\",Données!$L$5)","v":"Service"},null,null,null,null,null,null,null,null,null,"Mois de Septembre ",null,null,null,null,{"$f":"An","v":2018},null,null,null,null,null,null,null,null,null,null,null,null,null,null,null,null,null,null,"à mettre dans le format:\n"]
[null,null,null,null,null,null,null,null,null,null,null,null,null,null,null,null,null,null,null,null,null,null,null,null,null,null,null,null,null,null,null,null,null,null," \"heures\":\"Minutes\" "]
[null,null,null,null,null,null,null,null,null,null,null,null,null,null,null,null,null,null,null,null,null,null,null,null,null,null,null,null,null,null,null,null,null,null,"Heures sup ","Heures sup ",null,"Indications","Indications","Indications",null,"Total"]
["Jours",{"$f":"PROPER(LEFT(TEXT(DATE(An,Septembre,B7),\"jjj\"),1))","v":"S"},"D","L","M","M","J","V","S","D","L","M","M","J","V","S","D","L","M","M","J","V","S","D","L","M","M","J","V","S","D",null,null,null,"avant 21h","après 21h",null,"Heures","Heures nuit","Heures",null,"Heures","Heures"]
[null,{"$f":"A7+1","v":1},2,3,4,5,6,7,8,9,10,11,12,13,14,15,16,17,18,19,20,21,22,23,24,25,26,27,28,29,30,null,null,null,"A remplir","A remplir",null," Dimanche"," Dimanche","après 21h",null," au mois","  a l'année"]
["Equipe de jour"]
[{"$f":"Données!$H6","v":"A"},null,null,null,null,null,null,null,null,null,null,null,null,null,null,null,null,null,null,null,null,null,null,null,null,null,null,null,null,null,null,null,null,null,null,null,null,{"$f":"VLOOKUP($A9,BSeptembre!$A$8:$AY$57,31,FALSE)","v":0},{"$f":"VLOOKUP($A9,BSeptembre!$A$8:$AY$57,32,FALSE)","v":0},{"$f":"VLOOKUP($A9,BSeptembre!$A$8:$AY$57,33,FALSE)","v":0},null,{"$f":"VLOOKUP($A9,BSeptembre!$A$8:$AY$57,35,FALSE)","v":0},{"$f":"VLOOKUP($A9,Bilan!$A$8:$AY$57,35,FALSE)","v":0}]
[{"$f":"Données!$H7","v":0},null,null,null,null,null,null,null,null,null,null,null,null,null,null,null,null,null,null,null,null,null,null,null,null,null,null,null,null,null,null,null,null,null,null,null,null,{"$f":"VLOOKUP($A10,BSeptembre!$A$8:$AY$57,31,FALSE)","v":0},{"$f":"VLOOKUP($A10,BSeptembre!$A$8:$AY$57,32,FALSE)","v":0},{"$f":"VLOOKUP($A10,BSeptembre!$A$8:$AY$57,33,FALSE)","v":0},null,{"$f":"VLOOKUP($A10,BSeptembre!$A$8:$AY$57,35,FALSE)","v":0},{"$f":"VLOOKUP($A10,Bilan!$A$8:$AY$57,35,FALSE)","v":0}]
[{"$f":"Données!$H8","v":0},null,null,null,null,null,null,null,null,null,null,null,null,null,null,null,null,null,null,null,null,null,null,null,null,null,null,null,null,null,null,null,null,null,null,null,null,{"$f":"VLOOKUP($A11,BSeptembre!$A$8:$AY$57,31,FALSE)","v":0},{"$f":"VLOOKUP($A11,BSeptembre!$A$8:$AY$57,32,FALSE)","v":0},{"$f":"VLOOKUP($A11,BSeptembre!$A$8:$AY$57,33,FALSE)","v":0},null,{"$f":"VLOOKUP($A11,BSeptembre!$A$8:$AY$57,35,FALSE)","v":0},{"$f":"VLOOKUP($A11,Bilan!$A$8:$AY$57,35,FALSE)","v":0}]
[{"$f":"Données!$H9","v":0},null,null,null,null,null,null,null,null,null,null,null,null,null,null,null,null,null,null,null,null,null,null,null,null,null,null,null,null,null,null,null,null,null,null,null,null,{"$f":"VLOOKUP($A12,BSeptembre!$A$8:$AY$57,31,FALSE)","v":0},{"$f":"VLOOKUP($A12,BSeptembre!$A$8:$AY$57,32,FALSE)","v":0},{"$f":"VLOOKUP($A12,BSeptembre!$A$8:$AY$57,33,FALSE)","v":0},null,{"$f":"VLOOKUP($A12,BSeptembre!$A$8:$AY$57,35,FALSE)","v":0},{"$f":"VLOOKUP($A12,Bilan!$A$8:$AY$57,35,FALSE)","v":0}]
[{"$f":"Données!$H10","v":0},null,null,null,null,null,null,null,null,null,null,null,null,null,null,null,null,null,null,null,null,null,null,null,null,null,null,null,null,null,null,null,null,null,null,null,null,{"$f":"VLOOKUP($A13,BSeptembre!$A$8:$AY$57,31,FALSE)","v":0},{"$f":"VLOOKUP($A13,BSeptembre!$A$8:$AY$57,32,FALSE)","v":0},{"$f":"VLOOKUP($A13,BSeptembre!$A$8:$AY$57,33,FALSE)","v":0},null,{"$f":"VLOOKUP($A13,BSeptembre!$A$8:$AY$57,35,FALSE)","v":0},{"$f":"VLOOKUP($A13,Bilan!$A$8:$AY$57,35,FALSE)","v":0}]
[{"$f":"Données!$H11","v":0},null,null,null,null,null,null,null,null,null,null,null,null,null,null,null,null,null,null,null,null,null,null,null,null,null,null,null,null,null,null,null,null,null,null,null,null,{"$f":"VLOOKUP($A14,BSeptembre!$A$8:$AY$57,31,FALSE)","v":0},{"$f":"VLOOKUP($A14,BSeptembre!$A$8:$AY$57,32,FALSE)","v":0},{"$f":"VLOOKUP($A14,BSeptembre!$A$8:$AY$57,33,FALSE)","v":0},null,{"$f":"VLOOKUP($A14,BSeptembre!$A$8:$AY$57,35,FALSE)","v":0},{"$f":"VLOOKUP($A14,Bilan!$A$8:$AY$57,35,FALSE)","v":0}]
[{"$f":"Données!$H12","v":0},null,null,null,null,null,null,null,null,null,null,null,null,null,null,null,null,null,null,null,null,null,null,null,null,null,null,null,null,null,null,null,null,null,null,null,null,{"$f":"VLOOKUP($A15,BSeptembre!$A$8:$AY$57,31,FALSE)","v":0},{"$f":"VLOOKUP($A15,BSeptembre!$A$8:$AY$57,32,FALSE)","v":0},{"$f":"VLOOKUP($A15,BSeptembre!$A$8:$AY$57,33,FALSE)","v":0},null,{"$f":"VLOOKUP($A15,BSeptembre!$A$8:$AY$57,35,FALSE)","v":0},{"$f":"VLOOKUP($A15,Bilan!$A$8:$AY$57,35,FALSE)","v":0}]
[{"$f":"Données!$H13","v":0},null,null,null,null,null,null,null,null,null,null,null,null,null,null,null,null,null,null,null,null,null,null,null,null,null,null,null,null,null,null,null,null,null,null,null,null,{"$f":"VLOOKUP($A16,BSeptembre!$A$8:$AY$57,31,FALSE)","v":0},{"$f":"VLOOKUP($A16,BSeptembre!$A$8:$AY$57,32,FALSE)","v":0},{"$f":"VLOOKUP($A16,BSeptembre!$A$8:$AY$57,33,FALSE)","v":0},null,{"$f":"VLOOKUP($A16,BSeptembre!$A$8:$AY$57,35,FALSE)","v":0},{"$f":"VLOOKUP($A16,Bilan!$A$8:$AY$57,35,FALSE)","v":0}]
[{"$f":"Données!$H14","v":0},null,null,null,null,null,null,null,null,null,null,null,null,null,null,null,null,null,null,null,null,null,null,null,null,null,null,null,null,null,null,null,null,null,null,null,null,{"$f":"VLOOKUP($A17,BSeptembre!$A$8:$AY$57,31,FALSE)","v":0},{"$f":"VLOOKUP($A17,BSeptembre!$A$8:$AY$57,32,FALSE)","v":0},{"$f":"VLOOKUP($A17,BSeptembre!$A$8:$AY$57,33,FALSE)","v":0},null,{"$f":"VLOOKUP($A17,BSeptembre!$A$8:$AY$57,35,FALSE)","v":0},{"$f":"VLOOKUP($A17,Bilan!$A$8:$AY$57,35,FALSE)","v":0}]
[{"$f":"Données!$H15","v":0},null,null,null,null,null,null,null,null,null,null,null,null,null,null,null,null,null,null,null,null,null,null,null,null,null,null,null,null,null,null,null,null,null,null,null,null,{"$f":"VLOOKUP($A18,BSeptembre!$A$8:$AY$57,31,FALSE)","v":0},{"$f":"VLOOKUP($A18,BSeptembre!$A$8:$AY$57,32,FALSE)","v":0},{"$f":"VLOOKUP($A18,BSeptembre!$A$8:$AY$57,33,FALSE)","v":0},null,{"$f":"VLOOKUP($A18,BSeptembre!$A$8:$AY$57,35,FALSE)","v":0},{"$f":"VLOOKUP($A18,Bilan!$A$8:$AY$57,35,FALSE)","v":0}]
[{"$f":"Données!$H16","v":0},null,null,null,null,null,null,null,null,null,null,null,null,null,null,null,null,null,null,null,null,null,null,null,null,null,null,null,null,null,null,null,null,null,null,null,null,{"$f":"VLOOKUP($A19,BSeptembre!$A$8:$AY$57,31,FALSE)","v":0},{"$f":"VLOOKUP($A19,BSeptembre!$A$8:$AY$57,32,FALSE)","v":0},{"$f":"VLOOKUP($A19,BSeptembre!$A$8:$AY$57,33,FALSE)","v":0},null,{"$f":"VLOOKUP($A19,BSeptembre!$A$8:$AY$57,35,FALSE)","v":0},{"$f":"VLOOKUP($A19,Bilan!$A$8:$AY$57,35,FALSE)","v":0}]
[{"$f":"Données!$H17","v":0},null,null,null,null,null,null,null,null,null,null,null,null,null,null,null,null,null,null,null,null,null,null,null,null,null,null,null,null,null,null,null,null,null,null,null,null,{"$f":"VLOOKUP($A20,BSeptembre!$A$8:$AY$57,31,FALSE)","v":0},{"$f":"VLOOKUP($A20,BSeptembre!$A$8:$AY$57,32,FALSE)","v":0},{"$f":"VLOOKUP($A20,BSeptembre!$A$8:$AY$57,33,FALSE)","v":0},null,{"$f":"VLOOKUP($A20,BSeptembre!$A$8:$AY$57,35,FALSE)","v":0},{"$f":"VLOOKUP($A20,Bilan!$A$8:$AY$57,35,FALSE)","v":0}]
[{"$f":"Données!$H18","v":0},null,null,null,null,null,null,null,null,null,null,null,null,null,null,null,null,null,null,null,null,null,null,null,null,null,null,null,null,null,null,null,null,null,null,null,null,{"$f":"VLOOKUP($A21,BSeptembre!$A$8:$AY$57,31,FALSE)","v":0},{"$f":"VLOOKUP($A21,BSeptembre!$A$8:$AY$57,32,FALSE)","v":0},{"$f":"VLOOKUP($A21,BSeptembre!$A$8:$AY$57,33,FALSE)","v":0},null,{"$f":"VLOOKUP($A21,BSeptembre!$A$8:$AY$57,35,FALSE)","v":0},{"$f":"VLOOKUP($A21,Bilan!$A$8:$AY$57,35,FALSE)","v":0}]
[{"$f":"Données!$H19","v":0},null,null,null,null,null,null,null,null,null,null,null,null,null,null,null,null,null,null,null,null,null,null,null,null,null,null,null,null,null,null,null,null,null,null,null,null,{"$f":"VLOOKUP($A22,BSeptembre!$A$8:$AY$57,31,FALSE)","v":0},{"$f":"VLOOKUP($A22,BSeptembre!$A$8:$AY$57,32,FALSE)","v":0},{"$f":"VLOOKUP($A22,BSeptembre!$A$8:$AY$57,33,FALSE)","v":0},null,{"$f":"VLOOKUP($A22,BSeptembre!$A$8:$AY$57,35,FALSE)","v":0},{"$f":"VLOOKUP($A22,Bilan!$A$8:$AY$57,35,FALSE)","v":0}]
[{"$f":"Données!$H20","v":0},null,null,null,null,null,null,null,null,null,null,null,null,null,null,null,null,null,null,null,null,null,null,null,null,null,null,null,null,null,null,null,null,null,null,null,null,{"$f":"VLOOKUP($A23,BSeptembre!$A$8:$AY$57,31,FALSE)","v":0},{"$f":"VLOOKUP($A23,BSeptembre!$A$8:$AY$57,32,FALSE)","v":0},{"$f":"VLOOKUP($A23,BSeptembre!$A$8:$AY$57,33,FALSE)","v":0},null,{"$f":"VLOOKUP($A23,BSeptembre!$A$8:$AY$57,35,FALSE)","v":0},{"$f":"VLOOKUP($A23,Bilan!$A$8:$AY$57,35,FALSE)","v":0}]
[{"$f":"Données!$H21","v":0},null,null,null,null,null,null,null,null,null,null,null,null,null,null,null,null,null,null,null,null,null,null,null,null,null,null,null,null,null,null,null,null,null,null,null,null,{"$f":"VLOOKUP($A24,BSeptembre!$A$8:$AY$57,31,FALSE)","v":0},{"$f":"VLOOKUP($A24,BSeptembre!$A$8:$AY$57,32,FALSE)","v":0},{"$f":"VLOOKUP($A24,BSeptembre!$A$8:$AY$57,33,FALSE)","v":0},null,{"$f":"VLOOKUP($A24,BSeptembre!$A$8:$AY$57,35,FALSE)","v":0},{"$f":"VLOOKUP($A24,Bilan!$A$8:$AY$57,35,FALSE)","v":0}]
[{"$f":"Données!$H22","v":"Equipe de nuit"}]
[{"$f":"Données!$H23","v":"K"},null,null,null,null,null,null,null,null,null,null,null,null,null,null,null,null,null,null,null,null,null,null,null,null,null,null,null,null,null,null,null,null,null,null,null,null,{"$f":"VLOOKUP($A26,BSeptembre!$A$8:$AY$57,31,FALSE)","v":0},{"$f":"VLOOKUP($A26,BSeptembre!$A$8:$AY$57,32,FALSE)","v":0},{"$f":"VLOOKUP($A26,BSeptembre!$A$8:$AY$57,33,FALSE)","v":0},null,{"$f":"VLOOKUP($A26,BSeptembre!$A$8:$AY$57,35,FALSE)","v":0},{"$f":"VLOOKUP($A26,Bilan!$A$8:$AY$57,35,FALSE)","v":0}]
[{"$f":"Données!$H24","v":0},null,null,null,null,null,null,null,null,null,null,null,null,null,null,null,null,null,null,null,null,null,null,null,null,null,null,null,null,null,null,null,null,null,null,null,null,{"$f":"VLOOKUP($A27,BSeptembre!$A$8:$AY$57,31,FALSE)","v":0},{"$f":"VLOOKUP($A27,BSeptembre!$A$8:$AY$57,32,FALSE)","v":0},{"$f":"VLOOKUP($A27,BSeptembre!$A$8:$AY$57,33,FALSE)","v":0},null,{"$f":"VLOOKUP($A27,BSeptembre!$A$8:$AY$57,35,FALSE)","v":0},{"$f":"VLOOKUP($A27,Bilan!$A$8:$AY$57,35,FALSE)","v":0}]
[{"$f":"Données!$H25","v":0},null,null,null,null,null,null,null,null,null,null,null,null,null,null,null,null,null,null,null,null,null,null,null,null,null,null,null,null,null,null,null,null,null,null,null,null,{"$f":"VLOOKUP($A28,BSeptembre!$A$8:$AY$57,31,FALSE)","v":0},{"$f":"VLOOKUP($A28,BSeptembre!$A$8:$AY$57,32,FALSE)","v":0},{"$f":"VLOOKUP($A28,BSeptembre!$A$8:$AY$57,33,FALSE)","v":0},null,{"$f":"VLOOKUP($A28,BSeptembre!$A$8:$AY$57,35,FALSE)","v":0},{"$f":"VLOOKUP($A28,Bilan!$A$8:$AY$57,35,FALSE)","v":0}]
[{"$f":"Données!$H26","v":0},null,null,null,null,null,null,null,null,null,null,null,null,null,null,null,null,null,null,null,null,null,null,null,null,null,null,null,null,null,null,null,null,null,null,null,null,{"$f":"VLOOKUP($A29,BSeptembre!$A$8:$AY$57,31,FALSE)","v":0},{"$f":"VLOOKUP($A29,BSeptembre!$A$8:$AY$57,32,FALSE)","v":0},{"$f":"VLOOKUP($A29,BSeptembre!$A$8:$AY$57,33,FALSE)","v":0},null,{"$f":"VLOOKUP($A29,BSeptembre!$A$8:$AY$57,35,FALSE)","v":0},{"$f":"VLOOKUP($A29,Bilan!$A$8:$AY$57,35,FALSE)","v":0}]
[{"$f":"Données!$H27","v":0},null,null,null,null,null,null,null,null,null,null,null,null,null,null,null,null,null,null,null,null,null,null,null,null,null,null,null,null,null,null,null,null,null,null,null,null,{"$f":"VLOOKUP($A30,BSeptembre!$A$8:$AY$57,31,FALSE)","v":0},{"$f":"VLOOKUP($A30,BSeptembre!$A$8:$AY$57,32,FALSE)","v":0},{"$f":"VLOOKUP($A30,BSeptembre!$A$8:$AY$57,33,FALSE)","v":0},null,{"$f":"VLOOKUP($A30,BSeptembre!$A$8:$AY$57,35,FALSE)","v":0},{"$f":"VLOOKUP($A30,Bilan!$A$8:$AY$57,35,FALSE)","v":0}]
[{"$f":"Données!$H28","v":0},null,null,null,null,null,null,null,null,null,null,null,null,null,null,null,null,null,null,null,null,null,null,null,null,null,null,null,null,null,null,null,null,null,null,null,null,{"$f":"VLOOKUP($A31,BSeptembre!$A$8:$AY$57,31,FALSE)","v":0},{"$f":"VLOOKUP($A31,BSeptembre!$A$8:$AY$57,32,FALSE)","v":0},{"$f":"VLOOKUP($A31,BSeptembre!$A$8:$AY$57,33,FALSE)","v":0},null,{"$f":"VLOOKUP($A31,BSeptembre!$A$8:$AY$57,35,FALSE)","v":0},{"$f":"VLOOKUP($A31,Bilan!$A$8:$AY$57,35,FALSE)","v":0}]
[{"$f":"Données!$H29","v":0},null,null,null,null,null,null,null,null,null,null,null,null,null,null,null,null,null,null,null,null,null,null,null,null,null,null,null,null,null,null,null,null,null,null,null,null,{"$f":"VLOOKUP($A32,BSeptembre!$A$8:$AY$57,31,FALSE)","v":0},{"$f":"VLOOKUP($A32,BSeptembre!$A$8:$AY$57,32,FALSE)","v":0},{"$f":"VLOOKUP($A32,BSeptembre!$A$8:$AY$57,33,FALSE)","v":0},null,{"$f":"VLOOKUP($A32,BSeptembre!$A$8:$AY$57,35,FALSE)","v":0},{"$f":"VLOOKUP($A32,Bilan!$A$8:$AY$57,35,FALSE)","v":0}]
[{"$f":"Données!$H30","v":0},null,null,null,null,null,null,null,null,null,null,null,null,null,null,null,null,null,null,null,null,null,null,null,null,null,null,null,null,null,null,null,null,null,null,null,null,{"$f":"VLOOKUP($A33,BSeptembre!$A$8:$AY$57,31,FALSE)","v":0},{"$f":"VLOOKUP($A33,BSeptembre!$A$8:$AY$57,32,FALSE)","v":0},{"$f":"VLOOKUP($A33,BSeptembre!$A$8:$AY$57,33,FALSE)","v":0},null,{"$f":"VLOOKUP($A33,BSeptembre!$A$8:$AY$57,35,FALSE)","v":0},{"$f":"VLOOKUP($A33,Bilan!$A$8:$AY$57,35,FALSE)","v":0}]
[{"$f":"Données!$H31","v":0},null,null,null,null,null,null,null,null,null,null,null,null,null,null,null,null,null,null,null,null,null,null,null,null,null,null,null,null,null,null,null,null,null,null,null,null,{"$f":"VLOOKUP($A34,BSeptembre!$A$8:$AY$57,31,FALSE)","v":0},{"$f":"VLOOKUP($A34,BSeptembre!$A$8:$AY$57,32,FALSE)","v":0},{"$f":"VLOOKUP($A34,BSeptembre!$A$8:$AY$57,33,FALSE)","v":0},null,{"$f":"VLOOKUP($A34,BSeptembre!$A$8:$AY$57,35,FALSE)","v":0},{"$f":"VLOOKUP($A34,Bilan!$A$8:$AY$57,35,FALSE)","v":0}]
[{"$f":"Données!$H32","v":"Maitresse de maison"}]
[{"$f":"Données!$H33","v":"N"},null,null,null,null,null,null,null,null,null,null,null,null,null,null,null,null,null,null,null,null,null,null,null,null,null,null,null,null,null,null,null,null,null,null,null,null,{"$f":"VLOOKUP($A36,BSeptembre!$A$8:$AY$57,31,FALSE)","v":0},{"$f":"VLOOKUP($A36,BSeptembre!$A$8:$AY$57,32,FALSE)","v":0},{"$f":"VLOOKUP($A36,BSeptembre!$A$8:$AY$57,33,FALSE)","v":0},null,{"$f":"VLOOKUP($A36,BSeptembre!$A$8:$AY$57,35,FALSE)","v":0},{"$f":"VLOOKUP($A36,Bilan!$A$8:$AY$57,35,FALSE)","v":0}]
[{"$f":"Données!$H34","v":0},null,null,null,null,null,null,null,null,null,null,null,null,null,null,null,null,null,null,null,null,null,null,null,null,null,null,null,null,null,null,null,null,null,null,null,null,{"$f":"VLOOKUP($A37,BSeptembre!$A$8:$AY$57,31,FALSE)","v":0},{"$f":"VLOOKUP($A37,BSeptembre!$A$8:$AY$57,32,FALSE)","v":0},{"$f":"VLOOKUP($A37,BSeptembre!$A$8:$AY$57,33,FALSE)","v":0},null,{"$f":"VLOOKUP($A37,BSeptembre!$A$8:$AY$57,35,FALSE)","v":0},{"$f":"VLOOKUP($A37,Bilan!$A$8:$AY$57,35,FALSE)","v":0}]
[{"$f":"Données!$H35","v":0},null,null,null,null,null,null,null,null,null,null,null,null,null,null,null,null,null,null,null,null,null,null,null,null,null,null,null,null,null,null,null,null,null,null,null,null,{"$f":"VLOOKUP($A38,BSeptembre!$A$8:$AY$57,31,FALSE)","v":0},{"$f":"VLOOKUP($A38,BSeptembre!$A$8:$AY$57,32,FALSE)","v":0},{"$f":"VLOOKUP($A38,BSeptembre!$A$8:$AY$57,33,FALSE)","v":0},null,{"$f":"VLOOKUP($A38,BSeptembre!$A$8:$AY$57,35,FALSE)","v":0},{"$f":"VLOOKUP($A38,Bilan!$A$8:$AY$57,35,FALSE)","v":0}]
[{"$f":"Données!$H36","v":0},null,null,null,null,null,null,null,null,null,null,null,null,null,null,null,null,null,null,null,null,null,null,null,null,null,null,null,null,null,null,null,null,null,null,null,null,{"$f":"VLOOKUP($A39,BSeptembre!$A$8:$AY$57,31,FALSE)","v":0},{"$f":"VLOOKUP($A39,BSeptembre!$A$8:$AY$57,32,FALSE)","v":0},{"$f":"VLOOKUP($A39,BSeptembre!$A$8:$AY$57,33,FALSE)","v":0},null,{"$f":"VLOOKUP($A39,BSeptembre!$A$8:$AY$57,35,FALSE)","v":0},{"$f":"VLOOKUP($A39,Bilan!$A$8:$AY$57,35,FALSE)","v":0}]
[{"$f":"Données!$H37","v":0},null,null,null,null,null,null,null,null,null,null,null,null,null,null,null,null,null,null,null,null,null,null,null,null,null,null,null,null,null,null,null,null,null,null,null,null,{"$f":"VLOOKUP($A40,BSeptembre!$A$8:$AY$57,31,FALSE)","v":0},{"$f":"VLOOKUP($A40,BSeptembre!$A$8:$AY$57,32,FALSE)","v":0},{"$f":"VLOOKUP($A40,BSeptembre!$A$8:$AY$57,33,FALSE)","v":0},null,{"$f":"VLOOKUP($A40,BSeptembre!$A$8:$AY$57,35,FALSE)","v":0},{"$f":"VLOOKUP($A40,Bilan!$A$8:$AY$57,35,FALSE)","v":0}]
[{"$f":"Données!$H38","v":0},null,null,null,null,null,null,null,null,null,null,null,null,null,null,null,null,null,null,null,null,null,null,null,null,null,null,null,null,null,null,null,null,null,null,null,null,{"$f":"VLOOKUP($A41,BSeptembre!$A$8:$AY$57,31,FALSE)","v":0},{"$f":"VLOOKUP($A41,BSeptembre!$A$8:$AY$57,32,FALSE)","v":0},{"$f":"VLOOKUP($A41,BSeptembre!$A$8:$AY$57,33,FALSE)","v":0},null,{"$f":"VLOOKUP($A41,BSeptembre!$A$8:$AY$57,35,FALSE)","v":0},{"$f":"VLOOKUP($A41,Bilan!$A$8:$AY$57,35,FALSE)","v":0}]
[{"$f":"Données!$H39","v":0},null,null,null,null,null,null,null,null,null,null,null,null,null,null,null,null,null,null,null,null,null,null,null,null,null,null,null,null,null,null,null,null,null,null,null,null,{"$f":"VLOOKUP($A42,BSeptembre!$A$8:$AY$57,31,FALSE)","v":0},{"$f":"VLOOKUP($A42,BSeptembre!$A$8:$AY$57,32,FALSE)","v":0},{"$f":"VLOOKUP($A42,BSeptembre!$A$8:$AY$57,33,FALSE)","v":0},null,{"$f":"VLOOKUP($A42,BSeptembre!$A$8:$AY$57,35,FALSE)","v":0},{"$f":"VLOOKUP($A42,Bilan!$A$8:$AY$57,35,FALSE)","v":0}]
[{"$f":"Données!$H40","v":0},null,null,null,null,null,null,null,null,null,null,null,null,null,null,null,null,null,null,null,null,null,null,null,null,null,null,null,null,null,null,null,null,null,null,null,null,{"$f":"VLOOKUP($A43,BSeptembre!$A$8:$AY$57,31,FALSE)","v":0},{"$f":"VLOOKUP($A43,BSeptembre!$A$8:$AY$57,32,FALSE)","v":0},{"$f":"VLOOKUP($A43,BSeptembre!$A$8:$AY$57,33,FALSE)","v":0},null,{"$f":"VLOOKUP($A43,BSeptembre!$A$8:$AY$57,35,FALSE)","v":0},{"$f":"VLOOKUP($A43,Bilan!$A$8:$AY$57,35,FALSE)","v":0}]
[{"$f":"Données!$H41","v":0},null,null,null,null,null,null,null,null,null,null,null,null,null,null,null,null,null,null,null,null,null,null,null,null,null,null,null,null,null,null,null,null,null,null,null,null,{"$f":"VLOOKUP($A44,BSeptembre!$A$8:$AY$57,31,FALSE)","v":0},{"$f":"VLOOKUP($A44,BSeptembre!$A$8:$AY$57,32,FALSE)","v":0},{"$f":"VLOOKUP($A44,BSeptembre!$A$8:$AY$57,33,FALSE)","v":0},null,{"$f":"VLOOKUP($A44,BSeptembre!$A$8:$AY$57,35,FALSE)","v":0},{"$f":"VLOOKUP($A44,Bilan!$A$8:$AY$57,35,FALSE)","v":0}]
[{"$f":"Données!$H42","v":"Psychologue"}]
[{"$f":"Données!$H43","v":"O"},null,null,null,null,null,null,null,null,null,null,null,null,null,null,null,null,null,null,null,null,null,null,null,null,null,null,null,null,null,null,null,null,null,null,null,null,{"$f":"VLOOKUP($A46,BSeptembre!$A$8:$AY$57,31,FALSE)","v":0},{"$f":"VLOOKUP($A46,BSeptembre!$A$8:$AY$57,32,FALSE)","v":0},{"$f":"VLOOKUP($A46,BSeptembre!$A$8:$AY$57,33,FALSE)","v":0},null,{"$f":"VLOOKUP($A46,BSeptembre!$A$8:$AY$57,35,FALSE)","v":0},{"$f":"VLOOKUP($A46,Bilan!$A$8:$AY$57,35,FALSE)","v":0}]
[{"$f":"Données!$H44","v":0},null,null,null,null,null,null,null,null,null,null,null,null,null,null,null,null,null,null,null,null,null,null,null,null,null,null,null,null,null,null,null,null,null,null,null,null,{"$f":"VLOOKUP($A47,BSeptembre!$A$8:$AY$57,31,FALSE)","v":0},{"$f":"VLOOKUP($A47,BSeptembre!$A$8:$AY$57,32,FALSE)","v":0},{"$f":"VLOOKUP($A47,BSeptembre!$A$8:$AY$57,33,FALSE)","v":0},null,{"$f":"VLOOKUP($A47,BSeptembre!$A$8:$AY$57,35,FALSE)","v":0},{"$f":"VLOOKUP($A47,Bilan!$A$8:$AY$57,35,FALSE)","v":0}]
[{"$f":"Données!$H45","v":0},null,null,null,null,null,null,null,null,null,null,null,null,null,null,null,null,null,null,null,null,null,null,null,null,null,null,null,null,null,null,null,null,null,null,null,null,{"$f":"VLOOKUP($A48,BSeptembre!$A$8:$AY$57,31,FALSE)","v":0},{"$f":"VLOOKUP($A48,BSeptembre!$A$8:$AY$57,32,FALSE)","v":0},{"$f":"VLOOKUP($A48,BSeptembre!$A$8:$AY$57,33,FALSE)","v":0},null,{"$f":"VLOOKUP($A48,BSeptembre!$A$8:$AY$57,35,FALSE)","v":0},{"$f":"VLOOKUP($A48,Bilan!$A$8:$AY$57,35,FALSE)","v":0}]
[{"$f":"Données!$H46","v":"Coordinatrice"}]
[{"$f":"Données!$H47","v":"P"},null,null,null,null,null,null,null,null,null,null,null,null,null,null,null,null,null,null,null,null,null,null,null,null,null,null,null,null,null,null,null,null,null,null,null,null,{"$f":"VLOOKUP($A50,BSeptembre!$A$8:$AY$57,31,FALSE)","v":0},{"$f":"VLOOKUP($A50,BSeptembre!$A$8:$AY$57,32,FALSE)","v":0},{"$f":"VLOOKUP($A50,BSeptembre!$A$8:$AY$57,33,FALSE)","v":0},null,{"$f":"VLOOKUP($A50,BSeptembre!$A$8:$AY$57,35,FALSE)","v":0},{"$f":"VLOOKUP($A50,Bilan!$A$8:$AY$57,35,FALSE)","v":0}]
[{"$f":"Données!$H48","v":0},null,null,null,null,null,null,null,null,null,null,null,null,null,null,null,null,null,null,null,null,null,null,null,null,null,null,null,null,null,null,null,null,null,null,null,null,{"$f":"VLOOKUP($A51,BSeptembre!$A$8:$AY$57,31,FALSE)","v":0},{"$f":"VLOOKUP($A51,BSeptembre!$A$8:$AY$57,32,FALSE)","v":0},{"$f":"VLOOKUP($A51,BSeptembre!$A$8:$AY$57,33,FALSE)","v":0},null,{"$f":"VLOOKUP($A51,BSeptembre!$A$8:$AY$57,35,FALSE)","v":0},{"$f":"VLOOKUP($A51,Bilan!$A$8:$AY$57,35,FALSE)","v":0}]
[{"$f":"Données!$H49","v":0},null,null,null,null,null,null,null,null,null,null,null,null,null,null,null,null,null,null,null,null,null,null,null,null,null,null,null,null,null,null,null,null,null,null,null,null,{"$f":"VLOOKUP($A52,BSeptembre!$A$8:$AY$57,31,FALSE)","v":0},{"$f":"VLOOKUP($A52,BSeptembre!$A$8:$AY$57,32,FALSE)","v":0},{"$f":"VLOOKUP($A52,BSeptembre!$A$8:$AY$57,33,FALSE)","v":0},null,{"$f":"VLOOKUP($A52,BSeptembre!$A$8:$AY$57,35,FALSE)","v":0},{"$f":"VLOOKUP($A52,Bilan!$A$8:$AY$57,35,FALSE)","v":0}]
[{"$f":"Données!$H50","v":0},null,null,null,null,null,null,null,null,null,null,null,null,null,null,null,null,null,null,null,null,null,null,null,null,null,null,null,null,null,null,null,null,null,null,null,null,{"$f":"VLOOKUP($A53,BSeptembre!$A$8:$AY$57,31,FALSE)","v":0},{"$f":"VLOOKUP($A53,BSeptembre!$A$8:$AY$57,32,FALSE)","v":0},{"$f":"VLOOKUP($A53,BSeptembre!$A$8:$AY$57,33,FALSE)","v":0},null,{"$f":"VLOOKUP($A53,BSeptembre!$A$8:$AY$57,35,FALSE)","v":0},{"$f":"VLOOKUP($A53,Bilan!$A$8:$AY$57,35,FALSE)","v":0}]
[{"$f":"Données!$H51","v":0},null,null,null,null,null,null,null,null,null,null,null,null,null,null,null,null,null,null,null,null,null,null,null,null,null,null,null,null,null,null,null,null,null,null,null,null,{"$f":"VLOOKUP($A54,BSeptembre!$A$8:$AY$57,31,FALSE)","v":0},{"$f":"VLOOKUP($A54,BSeptembre!$A$8:$AY$57,32,FALSE)","v":0},{"$f":"VLOOKUP($A54,BSeptembre!$A$8:$AY$57,33,FALSE)","v":0},null,{"$f":"VLOOKUP($A54,BSeptembre!$A$8:$AY$57,35,FALSE)","v":0},{"$f":"VLOOKUP($A54,Bilan!$A$8:$AY$57,35,FALSE)","v":0}]
[{"$f":"Données!$H52","v":"Chef de service"}]
[{"$f":"Données!$H53","v":"Q"},null,null,null,null,null,null,null,null,null,null,null,null,null,null,null,null,null,null,null,null,null,null,null,null,null,null,null,null,null,null,null,null,null,null,null,null,{"$f":"VLOOKUP($A56,BSeptembre!$A$8:$AY$57,31,FALSE)","v":0},{"$f":"VLOOKUP($A56,BSeptembre!$A$8:$AY$57,32,FALSE)","v":0},{"$f":"VLOOKUP($A56,BSeptembre!$A$8:$AY$57,33,FALSE)","v":0},null,{"$f":"VLOOKUP($A56,BSeptembre!$A$8:$AY$57,35,FALSE)","v":0},{"$f":"VLOOKUP($A56,Bilan!$A$8:$AY$57,35,FALSE)","v":0}]
[]
[null,{"$f":"Données!$A3","v":"M"}," =",{"$f":"IF(ISBLANK(Données!$C3),TEXT(Données!$B3,\"hh:mm\"),TEXT(Données!$B3,\"hh:mm\")&\" : \"&TEXT(Données!$C3,\"hh:mm\"))","v":"07:00 : 14:35"},null,null,null,{"$f":"Données!$A7","v":"R"}," =",{"$f":"IF(ISBLANK(Données!$C7),TEXT(Données!$B7,\"hh:mm\"),TEXT(Données!$B7,\"hh:mm\")&\" : \"&TEXT(Données!$C7,\"hh:mm\"))","v":"10:00 : 12:00"},null,null,null,{"$f":"Données!$A10","v":"W"}," =",{"$f":"IF(ISBLANK(Données!$C10),TEXT(Données!$B10,\"hh:mm\"),TEXT(Données!$B10,\"hh:mm\")&\" : \"&TEXT(Données!$C10,\"hh:mm\"))","v":"07:30 : 19:15"},null,null,null,{"$f":"Données!$A14","v":"N"}," =",{"$f":"IF(ISBLANK(Données!$C14),TEXT(Données!$B14,\"hh:mm\"),TEXT(Données!$B14,\"hh:mm\")&\" : \"&TEXT(Données!$C14,\"hh:mm\"))","v":"20:30 : 07:15"},null,null,null,{"$f":"Données!$A18","v":"F"}," =",{"$f":"IF(ISBLANK(Données!$C18),TEXT(Données!$B18,\"hh:mm\"),TEXT(Données!$B18,\"hh:mm\")&\" : \"&TEXT(Données!$C18,\"hh:mm\"))","v":"F"}]
[null,{"$f":"Données!$A4","v":"MG"}," =",{"$f":"IF(ISBLANK(Données!$C4),TEXT(Données!$B4,\"hh:mm\"),TEXT(Données!$B4,\"hh:mm\")&\" : \"&TEXT(Données!$C4,\"hh:mm\"))","v":"23:00 : 01:35"},null,null,null,{"$f":"Données!$A8","v":"RS"}," =",{"$f":"IF(ISBLANK(Données!$C8),TEXT(Données!$B8,\"hh:mm\"),TEXT(Données!$B8,\"hh:mm\")&\" : \"&TEXT(Données!$C8,\"hh:mm\"))","v":"10:00 : 21:30"},null,null,null,{"$f":"Données!$A11","v":"W+"}," =",{"$f":"IF(ISBLANK(Données!$C11),TEXT(Données!$B11,\"hh:mm\"),TEXT(Données!$B11,\"hh:mm\")&\" : \"&TEXT(Données!$C11,\"hh:mm\"))","v":"10:00 : 21:30"},null,null,null,{"$f":"Données!$A15","v":"N+"}," =",{"$f":"IF(ISBLANK(Données!$C15),TEXT(Données!$B15,\"hh:mm\"),TEXT(Données!$B15,\"hh:mm\")&\" : \"&TEXT(Données!$C15,\"hh:mm\"))","v":"19:15 : 07:15"},null,null,null,{"$f":"Données!$A19","v":"SYN"}," =",{"$f":"IF(ISBLANK(Données!$C19),TEXT(Données!$B19,\"hh:mm\"),TEXT(Données!$B19,\"hh:mm\")&\" : \"&TEXT(Données!$C19,\"hh:mm\"))","v":"Syn"}]
[null,{"$f":"Données!$A5","v":"J"}," =",{"$f":"IF(ISBLANK(Données!$C5),TEXT(Données!$B5,\"hh:mm\"),TEXT(Données!$B5,\"hh:mm\")&\" : \"&TEXT(Données!$C5,\"hh:mm\"))","v":"10:00 : 17:30"},null,null,null,{"$f":"Données!$A9","v":"S"}," =",{"$f":"IF(ISBLANK(Données!$C9),TEXT(Données!$B9,\"hh:mm\"),TEXT(Données!$B9,\"hh:mm\")&\" : \"&TEXT(Données!$C9,\"hh:mm\"))","v":"14:00 : 21:30"},null,null,null,{"$f":"Données!$A12","v":"WD"}," =",{"$f":"IF(ISBLANK(Données!$C12),TEXT(Données!$B12,\"hh:mm\"),TEXT(Données!$B12,\"hh:mm\")&\" : \"&TEXT(Données!$C12,\"hh:mm\"))","v":"07:00 : 19:15"},null,null,null,{"$f":"Données!$A16","v":"NS"}," =",{"$f":"IF(ISBLANK(Données!$C16),TEXT(Données!$B16,\"hh:mm\"),TEXT(Données!$B16,\"hh:mm\")&\" : \"&TEXT(Données!$C16,\"hh:mm\"))","v":"19:15 : 07:15"},null,null,null,{"$f":"Données!$A20","v":"AT"}," =",{"$f":"IF(ISBLANK(Données!$C20),TEXT(Données!$B20,\"hh:mm\"),TEXT(Données!$B20,\"hh:mm\")&\" : \"&TEXT(Données!$C20,\"hh:mm\"))","v":"AT"}]
[null,{"$f":"Données!$A6","v":"J+"}," =",{"$f":"IF(ISBLANK(Données!$C6),TEXT(Données!$B6,\"hh:mm\"),TEXT(Données!$B6,\"hh:mm\")&\" : \"&TEXT(Données!$C6,\"hh:mm\"))","v":"11:30 : 19:15"},null,null,null,{"$f":"Données!$A10","v":"W"}," =",{"$f":"IF(ISBLANK(Données!$C10),TEXT(Données!$B10,\"hh:mm\"),TEXT(Données!$B10,\"hh:mm\")&\" : \"&TEXT(Données!$C10,\"hh:mm\"))","v":"07:30 : 19:15"},null,null,null,{"$f":"Données!$A13","v":"WF"}," =",{"$f":"IF(ISBLANK(Données!$C13),TEXT(Données!$B13,\"hh:mm\"),TEXT(Données!$B13,\"hh:mm\")&\" : \"&TEXT(Données!$C13,\"hh:mm\"))","v":"07:00 : 19:15"},null,null,null,{"$f":"Données!$A17","v":"T"}," =",{"$f":"IF(ISBLANK(Données!$C17),TEXT(Données!$B17,\"hh:mm\"),TEXT(Données!$B17,\"hh:mm\")&\" : \"&TEXT(Données!$C17,\"hh:mm\"))","v":"T"},null,null,null,{"$f":"Données!$A21","v":"AM"}," =",{"$f":"IF(ISBLANK(Données!$C21),TEXT(Données!$B21,\"hh:mm\"),TEXT(Données!$B21,\"hh:mm\")&\" : \"&TEXT(Données!$C21,\"hh:mm\"))","v":"AM"}]

{"sheet":"Octobre","index":11,"n_rows":61,"n_cols":43,"rows_kept":61,"cut":false,"hidden":false,"merged":[[2,15,2,16]]}
[]
[null,{"$f":"DATE(An,Octobre,B7)","v":"2018-10-01"},"2018-10-02","2018-10-03","2018-10-04","2018-10-05","2018-10-06","2018-10-07","2018-10-08","2018-10-09","2018-10-10","2018-10-11","2018-10-12","2018-10-13","2018-10-14","2018-10-15","2018-10-16","2018-10-17","2018-10-18","2018-10-19","2018-10-20","2018-10-21","2018-10-22","2018-10-23","2018-10-24","2018-10-25","2018-10-26","2018-10-27","2018-10-28","2018-10-29","2018-10-30","2018-10-31",null,null,"Pour remplir ","penser     ",null,null,null,null,{"$f":"IF(ISNUMBER(AO7),DATE(An,Octobre,AO7),\"\")","v":""},{"$f":"IF(ISNUMBER(AP7),DATE(An,Octobre,AP7),\"\")","v":""}]
[{"$f":"IF(Données!$L$5=\"\",\"Service\",Données!$L$5)","v":"Service"},null,null,null,null,null,null,null,null,null,"Mois d'Octobre ",null,null,null,null,{"$f":"An","v":2018},null,null,null,null,null,null,null,null,null,null,null,null,null,null,null,null,null,null,"à mettre dans le format:\n"]
[null,null,null,null,null,null,null,null,null,null,null,null,null,null,null,null,null,null,null,null,null,null,null,null,null,null,null,null,null,null,null,null,null,null," \"heures\":\"Minutes\" "]
[null,null,null,null,null,null,null,null,null,null,null,null,null,null,null,null,null,null,null,null,null,null,null,null,null,null,null,null,null,null,null,null,null,null,"Heures sup ","Heures sup ",null,"Indications","Indications","Indications",null,"Total"]
["Jours",{"$f":"PROPER(LEFT(TEXT(DATE(An,Octobre,B7),\"jjj\"),1))","v":"L"},"M","M","J","V","S","D","L","M","M","J","V","S","D","L","M","M","J","V","S","D","L","M","M","J","V","S","D","L","M","M",null,null,"avant 21h","après 21h",null,"Heures","Heures nuit","Heures",null,"Heures","Heures"]
[null,{"$f":"A7+1","v":1},2,3,4,5,6,7,8,9,10,11,12,13,14,15,16,17,18,19,20,21,22,23,24,25,26,27,28,29,30,{"$f":"AE7+1","v":31},null,null,"A remplir","A remplir",null," Dimanche"," Dimanche","après 21h",null," au mois","  a l'année"]
["Equipe de jour"]
[{"$f":"Données!$H6","v":"A"},null,null,null,null,null,null,null,null,null,null,null,null,null,null,null,null,null,null,null,null,null,null,null,null,null,null,null,null,null,null,null,null,null,null,null,null,{"$f":"VLOOKUP($A9,BOctobre!$A$8:$AY$57,31,FALSE)","v":0},{"$f":"VLOOKUP($A9,BOctobre!$A$8:$AY$57,32,FALSE)","v":0},{"$f":"VLOOKUP($A9,BOctobre!$A$8:$AY$57,33,FALSE)","v":0},null,{"$f":"VLOOKUP($A9,BOctobre!$A$8:$AY$57,35,FALSE)","v":0},{"$f":"VLOOKUP($A9,Bilan!$A$8:$AY$57,35,FALSE)","v":0}]
[{"$f":"Données!$H7","v":0},null,null,null,null,null,null,null,null,null,null,null,null,null,null,null,null,null,null,null,null,null,null,null,null,null,null,null,null,null,null,null,null,null,null,null,null,{"$f":"VLOOKUP($A10,BOctobre!$A$8:$AY$57,31,FALSE)","v":0},{"$f":"VLOOKUP($A10,BOctobre!$A$8:$AY$57,32,FALSE)","v":0},{"$f":"VLOOKUP($A10,BOctobre!$A$8:$AY$57,33,FALSE)","v":0},null,{"$f":"VLOOKUP($A10,BOctobre!$A$8:$AY$57,35,FALSE)","v":0},{"$f":"VLOOKUP($A10,Bilan!$A$8:$AY$57,35,FALSE)","v":0}]
[{"$f":"Données!$H8","v":0},null,null,null,null,null,null,null,null,null,null,null,null,null,null,null,null,null,null,null,null,null,null,null,null,null,null,null,null,null,null,null,null,null,null,null,null,{"$f":"VLOOKUP($A11,BOctobre!$A$8:$AY$57,31,FALSE)","v":0},{"$f":"VLOOKUP($A11,BOctobre!$A$8:$AY$57,32,FALSE)","v":0},{"$f":"VLOOKUP($A11,BOctobre!$A$8:$AY$57,33,FALSE)","v":0},null,{"$f":"VLOOKUP($A11,BOctobre!$A$8:$AY$57,35,FALSE)","v":0},{"$f":"VLOOKUP($A11,Bilan!$A$8:$AY$57,35,FALSE)","v":0}]
[{"$f":"Données!$H9","v":0},null,null,null,null,null,null,null,null,null,null,null,null,null,null,null,null,null,null,null,null,null,null,null,null,null,null,null,null,null,null,null,null,null,null,null,null,{"$f":"VLOOKUP($A12,BOctobre!$A$8:$AY$57,31,FALSE)","v":0},{"$f":"VLOOKUP($A12,BOctobre!$A$8:$AY$57,32,FALSE)","v":0},{"$f":"VLOOKUP($A12,BOctobre!$A$8:$AY$57,33,FALSE)","v":0},null,{"$f":"VLOOKUP($A12,BOctobre!$A$8:$AY$57,35,FALSE)","v":0},{"$f":"VLOOKUP($A12,Bilan!$A$8:$AY$57,35,FALSE)","v":0}]
[{"$f":"Données!$H10","v":0},null,null,null,null,null,null,null,null,null,null,null,null,null,null,null,null,null,null,null,null,null,null,null,null,null,null,null,null,null,null,null,null,null,null,null,null,{"$f":"VLOOKUP($A13,BOctobre!$A$8:$AY$57,31,FALSE)","v":0},{"$f":"VLOOKUP($A13,BOctobre!$A$8:$AY$57,32,FALSE)","v":0},{"$f":"VLOOKUP($A13,BOctobre!$A$8:$AY$57,33,FALSE)","v":0},null,{"$f":"VLOOKUP($A13,BOctobre!$A$8:$AY$57,35,FALSE)","v":0},{"$f":"VLOOKUP($A13,Bilan!$A$8:$AY$57,35,FALSE)","v":0}]
[{"$f":"Données!$H11","v":0},null,null,null,null,null,null,null,null,null,null,null,null,null,null,null,null,null,null,null,null,null,null,null,null,null,null,null,null,null,null,null,null,null,null,null,null,{"$f":"VLOOKUP($A14,BOctobre!$A$8:$AY$57,31,FALSE)","v":0},{"$f":"VLOOKUP($A14,BOctobre!$A$8:$AY$57,32,FALSE)","v":0},{"$f":"VLOOKUP($A14,BOctobre!$A$8:$AY$57,33,FALSE)","v":0},null,{"$f":"VLOOKUP($A14,BOctobre!$A$8:$AY$57,35,FALSE)","v":0},{"$f":"VLOOKUP($A14,Bilan!$A$8:$AY$57,35,FALSE)","v":0}]
[{"$f":"Données!$H12","v":0},null,null,null,null,null,null,null,null,null,null,null,null,null,null,null,null,null,null,null,null,null,null,null,null,null,null,null,null,null,null,null,null,null,null,null,null,{"$f":"VLOOKUP($A15,BOctobre!$A$8:$AY$57,31,FALSE)","v":0},{"$f":"VLOOKUP($A15,BOctobre!$A$8:$AY$57,32,FALSE)","v":0},{"$f":"VLOOKUP($A15,BOctobre!$A$8:$AY$57,33,FALSE)","v":0},null,{"$f":"VLOOKUP($A15,BOctobre!$A$8:$AY$57,35,FALSE)","v":0},{"$f":"VLOOKUP($A15,Bilan!$A$8:$AY$57,35,FALSE)","v":0}]
[{"$f":"Données!$H13","v":0},null,null,null,null,null,null,null,null,null,null,null,null,null,null,null,null,null,null,null,null,null,null,null,null,null,null,null,null,null,null,null,null,null,null,null,null,{"$f":"VLOOKUP($A16,BOctobre!$A$8:$AY$57,31,FALSE)","v":0},{"$f":"VLOOKUP($A16,BOctobre!$A$8:$AY$57,32,FALSE)","v":0},{"$f":"VLOOKUP($A16,BOctobre!$A$8:$AY$57,33,FALSE)","v":0},null,{"$f":"VLOOKUP($A16,BOctobre!$A$8:$AY$57,35,FALSE)","v":0},{"$f":"VLOOKUP($A16,Bilan!$A$8:$AY$57,35,FALSE)","v":0}]
[{"$f":"Données!$H14","v":0},null,null,null,null,null,null,null,null,null,null,null,null,null,null,null,null,null,null,null,null,null,null,null,null,null,null,null,null,null,null,null,null,null,null,null,null,{"$f":"VLOOKUP($A17,BOctobre!$A$8:$AY$57,31,FALSE)","v":0},{"$f":"VLOOKUP($A17,BOctobre!$A$8:$AY$57,32,FALSE)","v":0},{"$f":"VLOOKUP($A17,BOctobre!$A$8:$AY$57,33,FALSE)","v":0},null,{"$f":"VLOOKUP($A17,BOctobre!$A$8:$AY$57,35,FALSE)","v":0},{"$f":"VLOOKUP($A17,Bilan!$A$8:$AY$57,35,FALSE)","v":0}]
[{"$f":"Données!$H15","v":0},null,null,null,null,null,null,null,null,null,null,null,null,null,null,null,null,null,null,null,null,null,null,null,null,null,null,null,null,null,null,null,null,null,null,null,null,{"$f":"VLOOKUP($A18,BOctobre!$A$8:$AY$57,31,FALSE)","v":0},{"$f":"VLOOKUP($A18,BOctobre!$A$8:$AY$57,32,FALSE)","v":0},{"$f":"VLOOKUP($A18,BOctobre!$A$8:$AY$57,33,FALSE)","v":0},null,{"$f":"VLOOKUP($A18,BOctobre!$A$8:$AY$57,35,FALSE)","v":0},{"$f":"VLOOKUP($A18,Bilan!$A$8:$AY$57,35,FALSE)","v":0}]
[{"$f":"Données!$H16","v":0},null,null,null,null,null,null,null,null,null,null,null,null,null,null,null,null,null,null,null,null,null,null,null,null,null,null,null,null,null,null,null,null,null,null,null,null,{"$f":"VLOOKUP($A19,BOctobre!$A$8:$AY$57,31,FALSE)","v":0},{"$f":"VLOOKUP($A19,BOctobre!$A$8:$AY$57,32,FALSE)","v":0},{"$f":"VLOOKUP($A19,BOctobre!$A$8:$AY$57,33,FALSE)","v":0},null,{"$f":"VLOOKUP($A19,BOctobre!$A$8:$AY$57,35,FALSE)","v":0},{"$f":"VLOOKUP($A19,Bilan!$A$8:$AY$57,35,FALSE)","v":0}]
[{"$f":"Données!$H17","v":0},null,null,null,null,null,null,null,null,null,null,null,null,null,null,null,null,null,null,null,null,null,null,null,null,null,null,null,null,null,null,null,null,null,null,null,null,{"$f":"VLOOKUP($A20,BOctobre!$A$8:$AY$57,31,FALSE)","v":0},{"$f":"VLOOKUP($A20,BOctobre!$A$8:$AY$57,32,FALSE)","v":0},{"$f":"VLOOKUP($A20,BOctobre!$A$8:$AY$57,33,FALSE)","v":0},null,{"$f":"VLOOKUP($A20,BOctobre!$A$8:$AY$57,35,FALSE)","v":0},{"$f":"VLOOKUP($A20,Bilan!$A$8:$AY$57,35,FALSE)","v":0}]
[{"$f":"Données!$H18","v":0},null,null,null,null,null,null,null,null,null,null,null,null,null,null,null,null,null,null,null,null,null,null,null,null,null,null,null,null,null,null,null,null,null,null,null,null,{"$f":"VLOOKUP($A21,BOctobre!$A$8:$AY$57,31,FALSE)","v":0},{"$f":"VLOOKUP($A21,BOctobre!$A$8:$AY$57,32,FALSE)","v":0},{"$f":"VLOOKUP($A21,BOctobre!$A$8:$AY$57,33,FALSE)","v":0},null,{"$f":"VLOOKUP($A21,BOctobre!$A$8:$AY$57,35,FALSE)","v":0},{"$f":"VLOOKUP($A21,Bilan!$A$8:$AY$57,35,FALSE)","v":0}]
[{"$f":"Données!$H19","v":0},null,null,null,null,null,null,null,null,null,null,null,null,null,null,null,null,null,null,null,null,null,null,null,null,null,null,null,null,null,null,null,null,null,null,null,null,{"$f":"VLOOKUP($A22,BOctobre!$A$8:$AY$57,31,FALSE)","v":0},{"$f":"VLOOKUP($A22,BOctobre!$A$8:$AY$57,32,FALSE)","v":0},{"$f":"VLOOKUP($A22,BOctobre!$A$8:$AY$57,33,FALSE)","v":0},null,{"$f":"VLOOKUP($A22,BOctobre!$A$8:$AY$57,35,FALSE)","v":0},{"$f":"VLOOKUP($A22,Bilan!$A$8:$AY$57,35,FALSE)","v":0}]
[{"$f":"Données!$H20","v":0},null,null,null,null,null,null,null,null,null,null,null,null,null,null,null,null,null,null,null,null,null,null,null,null,null,null,null,null,null,null,null,null,null,null,null,null,{"$f":"VLOOKUP($A23,BOctobre!$A$8:$AY$57,31,FALSE)","v":0},{"$f":"VLOOKUP($A23,BOctobre!$A$8:$AY$57,32,FALSE)","v":0},{"$f":"VLOOKUP($A23,BOctobre!$A$8:$AY$57,33,FALSE)","v":0},null,{"$f":"VLOOKUP($A23,BOctobre!$A$8:$AY$57,35,FALSE)","v":0},{"$f":"VLOOKUP($A23,Bilan!$A$8:$AY$57,35,FALSE)","v":0}]
[{"$f":"Données!$H21","v":0},null,null,null,null,null,null,null,null,null,null,null,null,null,null,null,null,null,null,null,null,null,null,null,null,null,null,null,null,null,null,null,null,null,null,null,null,{"$f":"VLOOKUP($A24,BOctobre!$A$8:$AY$57,31,FALSE)","v":0},{"$f":"VLOOKUP($A24,BOctobre!$A$8:$AY$57,32,FALSE)","v":0},{"$f":"VLOOKUP($A24,BOctobre!$A$8:$AY$57,33,FALSE)","v":0},null,{"$f":"VLOOKUP($A24,BOctobre!$A$8:$AY$57,35,FALSE)","v":0},{"$f":"VLOOKUP($A24,Bilan!$A$8:$AY$57,35,FALSE)","v":0}]
[{"$f":"Données!$H22","v":"Equipe de nuit"}]
[{"$f":"Données!$H23","v":"K"},null,null,null,null,null,null,null,null,null,null,null,null,null,null,null,null,null,null,null,null,null,null,null,null,null,null,null,null,null,null,null,null,null,null,null,null,{"$f":"VLOOKUP($A26,BOctobre!$A$8:$AY$57,31,FALSE)","v":0},{"$f":"VLOOKUP($A26,BOctobre!$A$8:$AY$57,32,FALSE)","v":0},{"$f":"VLOOKUP($A26,BOctobre!$A$8:$AY$57,33,FALSE)","v":0},null,{"$f":"VLOOKUP($A26,BOctobre!$A$8:$AY$57,35,FALSE)","v":0},{"$f":"VLOOKUP($A26,Bilan!$A$8:$AY$57,35,FALSE)","v":0}]
[{"$f":"Données!$H24","v":0},null,null,null,null,null,null,null,null,null,null,null,null,null,null,null,null,null,null,null,null,null,null,null,null,null,null,null,null,null,null,null,null,null,null,null,null,{"$f":"VLOOKUP($A27,BOctobre!$A$8:$AY$57,31,FALSE)","v":0},{"$f":"VLOOKUP($A27,BOctobre!$A$8:$AY$57,32,FALSE)","v":0},{"$f":"VLOOKUP($A27,BOctobre!$A$8:$AY$57,33,FALSE)","v":0},null,{"$f":"VLOOKUP($A27,BOctobre!$A$8:$AY$57,35,FALSE)","v":0},{"$f":"VLOOKUP($A27,Bilan!$A$8:$AY$57,35,FALSE)","v":0}]
[{"$f":"Données!$H25","v":0},null,null,null,null,null,null,null,null,null,null,null,null,null,null,null,null,null,null,null,null,null,null,null,null,null,null,null,null,null,null,null,null,null,null,null,null,{"$f":"VLOOKUP($A28,BOctobre!$A$8:$AY$57,31,FALSE)","v":0},{"$f":"VLOOKUP($A28,BOctobre!$A$8:$AY$57,32,FALSE)","v":0},{"$f":"VLOOKUP($A28,BOctobre!$A$8:$AY$57,33,FALSE)","v":0},null,{"$f":"VLOOKUP($A28,BOctobre!$A$8:$AY$57,35,FALSE)","v":0},{"$f":"VLOOKUP($A28,Bilan!$A$8:$AY$57,35,FALSE)","v":0}]
[{"$f":"Données!$H26","v":0},null,null,null,null,null,null,null,null,null,null,null,null,null,null,null,null,null,null,null,null,null,null,null,null,null,null,null,null,null,null,null,null,null,null,null,null,{"$f":"VLOOKUP($A29,BOctobre!$A$8:$AY$57,31,FALSE)","v":0},{"$f":"VLOOKUP($A29,BOctobre!$A$8:$AY$57,32,FALSE)","v":0},{"$f":"VLOOKUP($A29,BOctobre!$A$8:$AY$57,33,FALSE)","v":0},null,{"$f":"VLOOKUP($A29,BOctobre!$A$8:$AY$57,35,FALSE)","v":0},{"$f":"VLOOKUP($A29,Bilan!$A$8:$AY$57,35,FALSE)","v":0}]
[{"$f":"Données!$H27","v":0},null,null,null,null,null,null,null,null,null,null,null,null,null,null,null,null,null,null,null,null,null,null,null,null,null,null,null,null,null,null,null,null,null,null,null,null,{"$f":"VLOOKUP($A30,BOctobre!$A$8:$AY$57,31,FALSE)","v":0},{"$f":"VLOOKUP($A30,BOctobre!$A$8:$AY$57,32,FALSE)","v":0},{"$f":"VLOOKUP($A30,BOctobre!$A$8:$AY$57,33,FALSE)","v":0},null,{"$f":"VLOOKUP($A30,BOctobre!$A$8:$AY$57,35,FALSE)","v":0},{"$f":"VLOOKUP($A30,Bilan!$A$8:$AY$57,35,FALSE)","v":0}]
[{"$f":"Données!$H28","v":0},null,null,null,null,null,null,null,null,null,null,null,null,null,null,null,null,null,null,null,null,null,null,null,null,null,null,null,null,null,null,null,null,null,null,null,null,{"$f":"VLOOKUP($A31,BOctobre!$A$8:$AY$57,31,FALSE)","v":0},{"$f":"VLOOKUP($A31,BOctobre!$A$8:$AY$57,32,FALSE)","v":0},{"$f":"VLOOKUP($A31,BOctobre!$A$8:$AY$57,33,FALSE)","v":0},null,{"$f":"VLOOKUP($A31,BOctobre!$A$8:$AY$57,35,FALSE)","v":0},{"$f":"VLOOKUP($A31,Bilan!$A$8:$AY$57,35,FALSE)","v":0}]
[{"$f":"Données!$H29","v":0},null,null,null,null,null,null,null,null,null,null,null,null,null,null,null,null,null,null,null,null,null,null,null,null,null,null,null,null,null,null,null,null,null,null,null,null,{"$f":"VLOOKUP($A32,BOctobre!$A$8:$AY$57,31,FALSE)","v":0},{"$f":"VLOOKUP($A32,BOctobre!$A$8:$AY$57,32,FALSE)","v":0},{"$f":"VLOOKUP($A32,BOctobre!$A$8:$AY$57,33,FALSE)","v":0},null,{"$f":"VLOOKUP($A32,BOctobre!$A$8:$AY$57,35,FALSE)","v":0},{"$f":"VLOOKUP($A32,Bilan!$A$8:$AY$57,35,FALSE)","v":0}]
[{"$f":"Données!$H30","v":0},null,null,null,null,null,null,null,null,null,null,null,null,null,null,null,null,null,null,null,null,null,null,null,null,null,null,null,null,null,null,null,null,null,null,null,null,{"$f":"VLOOKUP($A33,BOctobre!$A$8:$AY$57,31,FALSE)","v":0},{"$f":"VLOOKUP($A33,BOctobre!$A$8:$AY$57,32,FALSE)","v":0},{"$f":"VLOOKUP($A33,BOctobre!$A$8:$AY$57,33,FALSE)","v":0},null,{"$f":"VLOOKUP($A33,BOctobre!$A$8:$AY$57,35,FALSE)","v":0},{"$f":"VLOOKUP($A33,Bilan!$A$8:$AY$57,35,FALSE)","v":0}]
[{"$f":"Données!$H31","v":0},null,null,null,null,null,null,null,null,null,null,null,null,null,null,null,null,null,null,null,null,null,null,null,null,null,null,null,null,null,null,null,null,null,null,null,null,{"$f":"VLOOKUP($A34,BOctobre!$A$8:$AY$57,31,FALSE)","v":0},{"$f":"VLOOKUP($A34,BOctobre!$A$8:$AY$57,32,FALSE)","v":0},{"$f":"VLOOKUP($A34,BOctobre!$A$8:$AY$57,33,FALSE)","v":0},null,{"$f":"VLOOKUP($A34,BOctobre!$A$8:$AY$57,35,FALSE)","v":0},{"$f":"VLOOKUP($A34,Bilan!$A$8:$AY$57,35,FALSE)","v":0}]
[{"$f":"Données!$H32","v":"Maitresse de maison"}]
[{"$f":"Données!$H33","v":"N"},null,null,null,null,null,null,null,null,null,null,null,null,null,null,null,null,null,null,null,null,null,null,null,null,null,null,null,null,null,null,null,null,null,null,null,null,{"$f":"VLOOKUP($A36,BOctobre!$A$8:$AY$57,31,FALSE)","v":0},{"$f":"VLOOKUP($A36,BOctobre!$A$8:$AY$57,32,FALSE)","v":0},{"$f":"VLOOKUP($A36,BOctobre!$A$8:$AY$57,33,FALSE)","v":0},null,{"$f":"VLOOKUP($A36,BOctobre!$A$8:$AY$57,35,FALSE)","v":0},{"$f":"VLOOKUP($A36,Bilan!$A$8:$AY$57,35,FALSE)","v":0}]
[{"$f":"Données!$H34","v":0},null,null,null,null,null,null,null,null,null,null,null,null,null,null,null,null,null,null,null,null,null,null,null,null,null,null,null,null,null,null,null,null,null,null,null,null,{"$f":"VLOOKUP($A37,BOctobre!$A$8:$AY$57,31,FALSE)","v":0},{"$f":"VLOOKUP($A37,BOctobre!$A$8:$AY$57,32,FALSE)","v":0},{"$f":"VLOOKUP($A37,BOctobre!$A$8:$AY$57,33,FALSE)","v":0},null,{"$f":"VLOOKUP($A37,BOctobre!$A$8:$AY$57,35,FALSE)","v":0},{"$f":"VLOOKUP($A37,Bilan!$A$8:$AY$57,35,FALSE)","v":0}]
[{"$f":"Données!$H35","v":0},null,null,null,null,null,null,null,null,null,null,null,null,null,null,null,null,null,null,null,null,null,null,null,null,null,null,null,null,null,null,null,null,null,null,null,null,{"$f":"VLOOKUP($A38,BOctobre!$A$8:$AY$57,31,FALSE)","v":0},{"$f":"VLOOKUP($A38,BOctobre!$A$8:$AY$57,32,FALSE)","v":0},{"$f":"VLOOKUP($A38,BOctobre!$A$8:$AY$57,33,FALSE)","v":0},null,{"$f":"VLOOKUP($A38,BOctobre!$A$8:$AY$57,35,FALSE)","v":0},{"$f":"VLOOKUP($A38,Bilan!$A$8:$AY$57,35,FALSE)","v":0}]
[{"$f":"Données!$H36","v":0},null,null,null,null,null,null,null,null,null,null,null,null,null,null,null,null,null,null,null,null,null,null,null,null,null,null,null,null,null,null,null,null,null,null,null,null,{"$f":"VLOOKUP($A39,BOctobre!$A$8:$AY$57,31,FALSE)","v":0},{"$f":"VLOOKUP($A39,BOctobre!$A$8:$AY$57,32,FALSE)","v":0},{"$f":"VLOOKUP($A39,BOctobre!$A$8:$AY$57,33,FALSE)","v":0},null,{"$f":"VLOOKUP($A39,BOctobre!$A$8:$AY$57,35,FALSE)","v":0},{"$f":"VLOOKUP($A39,Bilan!$A$8:$AY$57,35,FALSE)","v":0}]
[{"$f":"Données!$H37","v":0},null,null,null,null,null,null,null,null,null,null,null,null,null,null,null,null,null,null,null,null,null,null,null,null,null,null,null,null,null,null,null,null,null,null,null,null,{"$f":"VLOOKUP($A40,BOctobre!$A$8:$AY$57,31,FALSE)","v":0},{"$f":"VLOOKUP($A40,BOctobre!$A$8:$AY$57,32,FALSE)","v":0},{"$f":"VLOOKUP($A40,BOctobre!$A$8:$AY$57,33,FALSE)","v":0},null,{"$f":"VLOOKUP($A40,BOctobre!$A$8:$AY$57,35,FALSE)","v":0},{"$f":"VLOOKUP($A40,Bilan!$A$8:$AY$57,35,FALSE)","v":0}]
[{"$f":"Données!$H38","v":0},null,null,null,null,null,null,null,null,null,null,null,null,null,null,null,null,null,null,null,null,null,null,null,null,null,null,null,null,null,null,null,null,null,null,null,null,{"$f":"VLOOKUP($A41,BOctobre!$A$8:$AY$57,31,FALSE)","v":0},{"$f":"VLOOKUP($A41,BOctobre!$A$8:$AY$57,32,FALSE)","v":0},{"$f":"VLOOKUP($A41,BOctobre!$A$8:$AY$57,33,FALSE)","v":0},null,{"$f":"VLOOKUP($A41,BOctobre!$A$8:$AY$57,35,FALSE)","v":0},{"$f":"VLOOKUP($A41,Bilan!$A$8:$AY$57,35,FALSE)","v":0}]
[{"$f":"Données!$H39","v":0},null,null,null,null,null,null,null,null,null,null,null,null,null,null,null,null,null,null,null,null,null,null,null,null,null,null,null,null,null,null,null,null,null,null,null,null,{"$f":"VLOOKUP($A42,BOctobre!$A$8:$AY$57,31,FALSE)","v":0},{"$f":"VLOOKUP($A42,BOctobre!$A$8:$AY$57,32,FALSE)","v":0},{"$f":"VLOOKUP($A42,BOctobre!$A$8:$AY$57,33,FALSE)","v":0},null,{"$f":"VLOOKUP($A42,BOctobre!$A$8:$AY$57,35,FALSE)","v":0},{"$f":"VLOOKUP($A42,Bilan!$A$8:$AY$57,35,FALSE)","v":0}]
[{"$f":"Données!$H40","v":0},null,null,null,null,null,null,null,null,null,null,null,null,null,null,null,null,null,null,null,null,null,null,null,null,null,null,null,null,null,null,null,null,null,null,null,null,{"$f":"VLOOKUP($A43,BOctobre!$A$8:$AY$57,31,FALSE)","v":0},{"$f":"VLOOKUP($A43,BOctobre!$A$8:$AY$57,32,FALSE)","v":0},{"$f":"VLOOKUP($A43,BOctobre!$A$8:$AY$57,33,FALSE)","v":0},null,{"$f":"VLOOKUP($A43,BOctobre!$A$8:$AY$57,35,FALSE)","v":0},{"$f":"VLOOKUP($A43,Bilan!$A$8:$AY$57,35,FALSE)","v":0}]
[{"$f":"Données!$H41","v":0},null,null,null,null,null,null,null,null,null,null,null,null,null,null,null,null,null,null,null,null,null,null,null,null,null,null,null,null,null,null,null,null,null,null,null,null,{"$f":"VLOOKUP($A44,BOctobre!$A$8:$AY$57,31,FALSE)","v":0},{"$f":"VLOOKUP($A44,BOctobre!$A$8:$AY$57,32,FALSE)","v":0},{"$f":"VLOOKUP($A44,BOctobre!$A$8:$AY$57,33,FALSE)","v":0},null,{"$f":"VLOOKUP($A44,BOctobre!$A$8:$AY$57,35,FALSE)","v":0},{"$f":"VLOOKUP($A44,Bilan!$A$8:$AY$57,35,FALSE)","v":0}]
[{"$f":"Données!$H42","v":"Psychologue"}]
[{"$f":"Données!$H43","v":"O"},null,null,null,null,null,null,null,null,null,null,null,null,null,null,null,null,null,null,null,null,null,null,null,null,null,null,null,null,null,null,null,null,null,null,null,null,{"$f":"VLOOKUP($A46,BOctobre!$A$8:$AY$57,31,FALSE)","v":0},{"$f":"VLOOKUP($A46,BOctobre!$A$8:$AY$57,32,FALSE)","v":0},{"$f":"VLOOKUP($A46,BOctobre!$A$8:$AY$57,33,FALSE)","v":0},null,{"$f":"VLOOKUP($A46,BOctobre!$A$8:$AY$57,35,FALSE)","v":0},{"$f":"VLOOKUP($A46,Bilan!$A$8:$AY$57,35,FALSE)","v":0}]
[{"$f":"Données!$H44","v":0},null,null,null,null,null,null,null,null,null,null,null,null,null,null,null,null,null,null,null,null,null,null,null,null,null,null,null,null,null,null,null,null,null,null,null,null,{"$f":"VLOOKUP($A47,BOctobre!$A$8:$AY$57,31,FALSE)","v":0},{"$f":"VLOOKUP($A47,BOctobre!$A$8:$AY$57,32,FALSE)","v":0},{"$f":"VLOOKUP($A47,BOctobre!$A$8:$AY$57,33,FALSE)","v":0},null,{"$f":"VLOOKUP($A47,BOctobre!$A$8:$AY$57,35,FALSE)","v":0},{"$f":"VLOOKUP($A47,Bilan!$A$8:$AY$57,35,FALSE)","v":0}]
[{"$f":"Données!$H45","v":0},null,null,null,null,null,null,null,null,null,null,null,null,null,null,null,null,null,null,null,null,null,null,null,null,null,null,null,null,null,null,null,null,null,null,null,null,{"$f":"VLOOKUP($A48,BOctobre!$A$8:$AY$57,31,FALSE)","v":0},{"$f":"VLOOKUP($A48,BOctobre!$A$8:$AY$57,32,FALSE)","v":0},{"$f":"VLOOKUP($A48,BOctobre!$A$8:$AY$57,33,FALSE)","v":0},null,{"$f":"VLOOKUP($A48,BOctobre!$A$8:$AY$57,35,FALSE)","v":0},{"$f":"VLOOKUP($A48,Bilan!$A$8:$AY$57,35,FALSE)","v":0}]
[{"$f":"Données!$H46","v":"Coordinatrice"}]
[{"$f":"Données!$H47","v":"P"},null,null,null,null,null,null,null,null,null,null,null,null,null,null,null,null,null,null,null,null,null,null,null,null,null,null,null,null,null,null,null,null,null,null,null,null,{"$f":"VLOOKUP($A50,BOctobre!$A$8:$AY$57,31,FALSE)","v":0},{"$f":"VLOOKUP($A50,BOctobre!$A$8:$AY$57,32,FALSE)","v":0},{"$f":"VLOOKUP($A50,BOctobre!$A$8:$AY$57,33,FALSE)","v":0},null,{"$f":"VLOOKUP($A50,BOctobre!$A$8:$AY$57,35,FALSE)","v":0},{"$f":"VLOOKUP($A50,Bilan!$A$8:$AY$57,35,FALSE)","v":0}]
[{"$f":"Données!$H48","v":0},null,null,null,null,null,null,null,null,null,null,null,null,null,null,null,null,null,null,null,null,null,null,null,null,null,null,null,null,null,null,null,null,null,null,null,null,{"$f":"VLOOKUP($A51,BOctobre!$A$8:$AY$57,31,FALSE)","v":0},{"$f":"VLOOKUP($A51,BOctobre!$A$8:$AY$57,32,FALSE)","v":0},{"$f":"VLOOKUP($A51,BOctobre!$A$8:$AY$57,33,FALSE)","v":0},null,{"$f":"VLOOKUP($A51,BOctobre!$A$8:$AY$57,35,FALSE)","v":0},{"$f":"VLOOKUP($A51,Bilan!$A$8:$AY$57,35,FALSE)","v":0}]
[{"$f":"Données!$H49","v":0},null,null,null,null,null,null,null,null,null,null,null,null,null,null,null,null,null,null,null,null,null,null,null,null,null,null,null,null,null,null,null,null,null,null,null,null,{"$f":"VLOOKUP($A52,BOctobre!$A$8:$AY$57,31,FALSE)","v":0},{"$f":"VLOOKUP($A52,BOctobre!$A$8:$AY$57,32,FALSE)","v":0},{"$f":"VLOOKUP($A52,BOctobre!$A$8:$AY$57,33,FALSE)","v":0},null,{"$f":"VLOOKUP($A52,BOctobre!$A$8:$AY$57,35,FALSE)","v":0},{"$f":"VLOOKUP($A52,Bilan!$A$8:$AY$57,35,FALSE)","v":0}]
[{"$f":"Données!$H50","v":0},null,null,null,null,null,null,null,null,null,null,null,null,null,null,null,null,null,null,null,null,null,null,null,null,null,null,null,null,null,null,null,null,null,null,null,null,{"$f":"VLOOKUP($A53,BOctobre!$A$8:$AY$57,31,FALSE)","v":0},{"$f":"VLOOKUP($A53,BOctobre!$A$8:$AY$57,32,FALSE)","v":0},{"$f":"VLOOKUP($A53,BOctobre!$A$8:$AY$57,33,FALSE)","v":0},null,{"$f":"VLOOKUP($A53,BOctobre!$A$8:$AY$57,35,FALSE)","v":0},{"$f":"VLOOKUP($A53,Bilan!$A$8:$AY$57,35,FALSE)","v":0}]
[{"$f":"Données!$H51","v":0},null,null,null,null,null,null,null,null,null,null,null,null,null,null,null,null,null,null,null,null,null,null,null,null,null,null,null,null,null,null,null,null,null,null,null,null,{"$f":"VLOOKUP($A54,BOctobre!$A$8:$AY$57,31,FALSE)","v":0},{"$f":"VLOOKUP($A54,BOctobre!$A$8:$AY$57,32,FALSE)","v":0},{"$f":"VLOOKUP($A54,BOctobre!$A$8:$AY$57,33,FALSE)","v":0},null,{"$f":"VLOOKUP($A54,BOctobre!$A$8:$AY$57,35,FALSE)","v":0},{"$f":"VLOOKUP($A54,Bilan!$A$8:$AY$57,35,FALSE)","v":0}]
[{"$f":"Données!$H52","v":"Chef de service"}]
[{"$f":"Données!$H53","v":"Q"},null,null,null,null,null,null,null,null,null,null,null,null,null,null,null,null,null,null,null,null,null,null,null,null,null,null,null,null,null,null,null,null,null,null,null,null,{"$f":"VLOOKUP($A56,BOctobre!$A$8:$AY$57,31,FALSE)","v":0},{"$f":"VLOOKUP($A56,BOctobre!$A$8:$AY$57,32,FALSE)","v":0},{"$f":"VLOOKUP($A56,BOctobre!$A$8:$AY$57,33,FALSE)","v":0},null,{"$f":"VLOOKUP($A56,BOctobre!$A$8:$AY$57,35,FALSE)","v":0},{"$f":"VLOOKUP($A56,Bilan!$A$8:$AY$57,35,FALSE)","v":0}]
[]
[null,{"$f":"Données!$A3","v":"M"}," =",{"$f":"IF(ISBLANK(Données!$C3),TEXT(Données!$B3,\"hh:mm\"),TEXT(Données!$B3,\"hh:mm\")&\" : \"&TEXT(Données!$C3,\"hh:mm\"))","v":"07:00 : 14:35"},null,null,null,{"$f":"Données!$A7","v":"R"}," =",{"$f":"IF(ISBLANK(Données!$C7),TEXT(Données!$B7,\"hh:mm\"),TEXT(Données!$B7,\"hh:mm\")&\" : \"&TEXT(Données!$C7,\"hh:mm\"))","v":"10:00 : 12:00"},null,null,null,{"$f":"Données!$A10","v":"W"}," =",{"$f":"IF(ISBLANK(Données!$C10),TEXT(Données!$B10,\"hh:mm\"),TEXT(Données!$B10,\"hh:mm\")&\" : \"&TEXT(Données!$C10,\"hh:mm\"))","v":"07:30 : 19:15"},null,null,null,{"$f":"Données!$A14","v":"N"}," =",{"$f":"IF(ISBLANK(Données!$C14),TEXT(Données!$B14,\"hh:mm\"),TEXT(Données!$B14,\"hh:mm\")&\" : \"&TEXT(Données!$C14,\"hh:mm\"))","v":"20:30 : 07:15"},null,null,null,{"$f":"Données!$A18","v":"F"}," =",{"$f":"IF(ISBLANK(Données!$C18),TEXT(Données!$B18,\"hh:mm\"),TEXT(Données!$B18,\"hh:mm\")&\" : \"&TEXT(Données!$C18,\"hh:mm\"))","v":"F"}]
[null,{"$f":"Données!$A4","v":"MG"}," =",{"$f":"IF(ISBLANK(Données!$C4),TEXT(Données!$B4,\"hh:mm\"),TEXT(Données!$B4,\"hh:mm\")&\" : \"&TEXT(Données!$C4,\"hh:mm\"))","v":"23:00 : 01:35"},null,null,null,{"$f":"Données!$A8","v":"RS"}," =",{"$f":"IF(ISBLANK(Données!$C8),TEXT(Données!$B8,\"hh:mm\"),TEXT(Données!$B8,\"hh:mm\")&\" : \"&TEXT(Données!$C8,\"hh:mm\"))","v":"10:00 : 21:30"},null,null,null,{"$f":"Données!$A11","v":"W+"}," =",{"$f":"IF(ISBLANK(Données!$C11),TEXT(Données!$B11,\"hh:mm\"),TEXT(Données!$B11,\"hh:mm\")&\" : \"&TEXT(Données!$C11,\"hh:mm\"))","v":"10:00 : 21:30"},null,null,null,{"$f":"Données!$A15","v":"N+"}," =",{"$f":"IF(ISBLANK(Données!$C15),TEXT(Données!$B15,\"hh:mm\"),TEXT(Données!$B15,\"hh:mm\")&\" : \"&TEXT(Données!$C15,\"hh:mm\"))","v":"19:15 : 07:15"},null,null,null,{"$f":"Données!$A19","v":"SYN"}," =",{"$f":"IF(ISBLANK(Données!$C19),TEXT(Données!$B19,\"hh:mm\"),TEXT(Données!$B19,\"hh:mm\")&\" : \"&TEXT(Données!$C19,\"hh:mm\"))","v":"Syn"}]
[null,{"$f":"Données!$A5","v":"J"}," =",{"$f":"IF(ISBLANK(Données!$C5),TEXT(Données!$B5,\"hh:mm\"),TEXT(Données!$B5,\"hh:mm\")&\" : \"&TEXT(Données!$C5,\"hh:mm\"))","v":"10:00 : 17:30"},null,null,null,{"$f":"Données!$A9","v":"S"}," =",{"$f":"IF(ISBLANK(Données!$C9),TEXT(Données!$B9,\"hh:mm\"),TEXT(Données!$B9,\"hh:mm\")&\" : \"&TEXT(Données!$C9,\"hh:mm\"))","v":"14:00 : 21:30"},null,null,null,{"$f":"Données!$A12","v":"WD"}," =",{"$f":"IF(ISBLANK(Données!$C12),TEXT(Données!$B12,\"hh:mm\"),TEXT(Données!$B12,\"hh:mm\")&\" : \"&TEXT(Données!$C12,\"hh:mm\"))","v":"07:00 : 19:15"},null,null,null,{"$f":"Données!$A16","v":"NS"}," =",{"$f":"IF(ISBLANK(Données!$C16),TEXT(Données!$B16,\"hh:mm\"),TEXT(Données!$B16,\"hh:mm\")&\" : \"&TEXT(Données!$C16,\"hh:mm\"))","v":"19:15 : 07:15"},null,null,null,{"$f":"Données!$A20","v":"AT"}," =",{"$f":"IF(ISBLANK(Données!$C20),TEXT(Données!$B20,\"hh:mm\"),TEXT(Données!$B20,\"hh:mm\")&\" : \"&TEXT(Données!$C20,\"hh:mm\"))","v":"AT"}]
[null,{"$f":"Données!$A6","v":"J+"}," =",{"$f":"IF(ISBLANK(Données!$C6),TEXT(Données!$B6,\"hh:mm\"),TEXT(Données!$B6,\"hh:mm\")&\" : \"&TEXT(Données!$C6,\"hh:mm\"))","v":"11:30 : 19:15"},null,null,null,{"$f":"Données!$A10","v":"W"}," =",{"$f":"IF(ISBLANK(Données!$C10),TEXT(Données!$B10,\"hh:mm\"),TEXT(Données!$B10,\"hh:mm\")&\" : \"&TEXT(Données!$C10,\"hh:mm\"))","v":"07:30 : 19:15"},null,null,null,{"$f":"Données!$A13","v":"WF"}," =",{"$f":"IF(ISBLANK(Données!$C13),TEXT(Données!$B13,\"hh:mm\"),TEXT(Données!$B13,\"hh:mm\")&\" : \"&TEXT(Données!$C13,\"hh:mm\"))","v":"07:00 : 19:15"},null,null,null,{"$f":"Données!$A17","v":"T"}," =",{"$f":"IF(ISBLANK(Données!$C17),TEXT(Données!$B17,\"hh:mm\"),TEXT(Données!$B17,\"hh:mm\")&\" : \"&TEXT(Données!$C17,\"hh:mm\"))","v":"T"},null,null,null,{"$f":"Données!$A21","v":"AM"}," =",{"$f":"IF(ISBLANK(Données!$C21),TEXT(Données!$B21,\"hh:mm\"),TEXT(Données!$B21,\"hh:mm\")&\" : \"&TEXT(Données!$C21,\"hh:mm\"))","v":"AM"}]

{"sheet":"Novembre","index":12,"n_rows":61,"n_cols":43,"rows_kept":61,"cut":false,"hidden":false,"merged":[[2,15,2,16]]}
[]
[null,{"$f":"DATE(An,Novembre,B7)","v":"2018-11-01"},"2018-11-02","2018-11-03","2018-11-04","2018-11-05","2018-11-06","2018-11-07","2018-11-08","2018-11-09","2018-11-10","2018-11-11","2018-11-12","2018-11-13","2018-11-14","2018-11-15","2018-11-16","2018-11-17","2018-11-18","2018-11-19","2018-11-20","2018-11-21","2018-11-22","2018-11-23","2018-11-24","2018-11-25","2018-11-26","2018-11-27","2018-11-28","2018-11-29","2018-11-30",null,null,null,"Pour remplir ","penser     ",null,null,null,null,{"$f":"IF(ISNUMBER(AO7),DATE(An,Novembre,AO7),\"\")","v":""},{"$f":"IF(ISNUMBER(AP7),DATE(An,Novembre,AP7),\"\")","v":""}]
[{"$f":"IF(Données!$L$5=\"\",\"Service\",Données!$L$5)","v":"Service"},null,null,null,null,null,null,null,null,null,"Mois de Novembre ",null,null,null,null,{"$f":"An","v":2018},null,null,null,null,null,null,null,null,null,null,null,null,null,null,null,null,null,null,"à mettre dans le format:\n"]
[null,null,null,null,null,null,null,null,null,null,null,null,null,null,null,null,null,null,null,null,null,null,null,null,null,null,null,null,null,null,null,null,null,null," \"heures\":\"Minutes\" "]
[null,null,null,null,null,null,null,null,null,null,null,null,null,null,null,null,null,null,null,null,null,null,null,null,null,null,null,null,null,null,null,null,null,null,"Heures sup ","Heures sup ",null,"Indications","Indications","Indications",null,"Total"]
["Jours",{"$f":"PROPER(LEFT(TEXT(DATE(An,Novembre,B7),\"jjj\"),1))","v":"J"},"V","S","D","L","M","M","J","V","S","D","L","M","M","J","V","S","D","L","M","M","J","V","S","D","L","M","M","J","V",null,null,null,"avant 21h","après 21h",null,"Heures","Heures nuit","Heures",null,"Heures","Heures"]
[null,{"$f":"A7+1","v":1},2,3,4,5,6,7,8,9,10,11,12,13,14,15,16,17,18,19,20,21,22,23,24,25,26,27,28,29,30,null,null,null,"A remplir","A remplir",null," Dimanche"," Dimanche","après 21h",null," au mois","  a l'année"]
["Equipe de jour"]
[{"$f":"Données!$H6","v":"A"},null,null,null,null,null,null,null,null,null,null,null,null,null,null,null,null,null,null,null,null,null,null,null,null,null,null,null,null,null,null,null,null,null,null,null,null,{"$f":"VLOOKUP($A9,BNovembre!$A$8:$AY$57,31,FALSE)","v":0},{"$f":"VLOOKUP($A9,BNovembre!$A$8:$AY$57,32,FALSE)","v":0},{"$f":"VLOOKUP($A9,BNovembre!$A$8:$AY$57,33,FALSE)","v":0},null,{"$f":"VLOOKUP($A9,BNovembre!$A$8:$AY$57,35,FALSE)","v":0},{"$f":"VLOOKUP($A9,Bilan!$A$8:$AY$57,35,FALSE)","v":0}]
[{"$f":"Données!$H7","v":0},null,null,null,null,null,null,null,null,null,null,null,null,null,null,null,null,null,null,null,null,null,null,null,null,null,null,null,null,null,null,null,null,null,null,null,null,{"$f":"VLOOKUP($A10,BNovembre!$A$8:$AY$57,31,FALSE)","v":0},{"$f":"VLOOKUP($A10,BNovembre!$A$8:$AY$57,32,FALSE)","v":0},{"$f":"VLOOKUP($A10,BNovembre!$A$8:$AY$57,33,FALSE)","v":0},null,{"$f":"VLOOKUP($A10,BNovembre!$A$8:$AY$57,35,FALSE)","v":0},{"$f":"VLOOKUP($A10,Bilan!$A$8:$AY$57,35,FALSE)","v":0}]
[{"$f":"Données!$H8","v":0},null,null,null,null,null,null,null,null,null,null,null,null,null,null,null,null,null,null,null,null,null,null,null,null,null,null,null,null,null,null,null,null,null,null,null,null,{"$f":"VLOOKUP($A11,BNovembre!$A$8:$AY$57,31,FALSE)","v":0},{"$f":"VLOOKUP($A11,BNovembre!$A$8:$AY$57,32,FALSE)","v":0},{"$f":"VLOOKUP($A11,BNovembre!$A$8:$AY$57,33,FALSE)","v":0},null,{"$f":"VLOOKUP($A11,BNovembre!$A$8:$AY$57,35,FALSE)","v":0},{"$f":"VLOOKUP($A11,Bilan!$A$8:$AY$57,35,FALSE)","v":0}]
[{"$f":"Données!$H9","v":0},null,null,null,null,null,null,null,null,null,null,null,null,null,null,null,null,null,null,null,null,null,null,null,null,null,null,null,null,null,null,null,null,null,null,null,null,{"$f":"VLOOKUP($A12,BNovembre!$A$8:$AY$57,31,FALSE)","v":0},{"$f":"VLOOKUP($A12,BNovembre!$A$8:$AY$57,32,FALSE)","v":0},{"$f":"VLOOKUP($A12,BNovembre!$A$8:$AY$57,33,FALSE)","v":0},null,{"$f":"VLOOKUP($A12,BNovembre!$A$8:$AY$57,35,FALSE)","v":0},{"$f":"VLOOKUP($A12,Bilan!$A$8:$AY$57,35,FALSE)","v":0}]
[{"$f":"Données!$H10","v":0},null,null,null,null,null,null,null,null,null,null,null,null,null,null,null,null,null,null,null,null,null,null,null,null,null,null,null,null,null,null,null,null,null,null,null,null,{"$f":"VLOOKUP($A13,BNovembre!$A$8:$AY$57,31,FALSE)","v":0},{"$f":"VLOOKUP($A13,BNovembre!$A$8:$AY$57,32,FALSE)","v":0},{"$f":"VLOOKUP($A13,BNovembre!$A$8:$AY$57,33,FALSE)","v":0},null,{"$f":"VLOOKUP($A13,BNovembre!$A$8:$AY$57,35,FALSE)","v":0},{"$f":"VLOOKUP($A13,Bilan!$A$8:$AY$57,35,FALSE)","v":0}]
[{"$f":"Données!$H11","v":0},null,null,null,null,null,null,null,null,null,null,null,null,null,null,null,null,null,null,null,null,null,null,null,null,null,null,null,null,null,null,null,null,null,null,null,null,{"$f":"VLOOKUP($A14,BNovembre!$A$8:$AY$57,31,FALSE)","v":0},{"$f":"VLOOKUP($A14,BNovembre!$A$8:$AY$57,32,FALSE)","v":0},{"$f":"VLOOKUP($A14,BNovembre!$A$8:$AY$57,33,FALSE)","v":0},null,{"$f":"VLOOKUP($A14,BNovembre!$A$8:$AY$57,35,FALSE)","v":0},{"$f":"VLOOKUP($A14,Bilan!$A$8:$AY$57,35,FALSE)","v":0}]
[{"$f":"Données!$H12","v":0},null,null,null,null,null,null,null,null,null,null,null,null,null,null,null,null,null,null,null,null,null,null,null,null,null,null,null,null,null,null,null,null,null,null,null,null,{"$f":"VLOOKUP($A15,BNovembre!$A$8:$AY$57,31,FALSE)","v":0},{"$f":"VLOOKUP($A15,BNovembre!$A$8:$AY$57,32,FALSE)","v":0},{"$f":"VLOOKUP($A15,BNovembre!$A$8:$AY$57,33,FALSE)","v":0},null,{"$f":"VLOOKUP($A15,BNovembre!$A$8:$AY$57,35,FALSE)","v":0},{"$f":"VLOOKUP($A15,Bilan!$A$8:$AY$57,35,FALSE)","v":0}]
[{"$f":"Données!$H13","v":0},null,null,null,null,null,null,null,null,null,null,null,null,null,null,null,null,null,null,null,null,null,null,null,null,null,null,null,null,null,null,null,null,null,null,null,null,{"$f":"VLOOKUP($A16,BNovembre!$A$8:$AY$57,31,FALSE)","v":0},{"$f":"VLOOKUP($A16,BNovembre!$A$8:$AY$57,32,FALSE)","v":0},{"$f":"VLOOKUP($A16,BNovembre!$A$8:$AY$57,33,FALSE)","v":0},null,{"$f":"VLOOKUP($A16,BNovembre!$A$8:$AY$57,35,FALSE)","v":0},{"$f":"VLOOKUP($A16,Bilan!$A$8:$AY$57,35,FALSE)","v":0}]
[{"$f":"Données!$H14","v":0},null,null,null,null,null,null,null,null,null,null,null,null,null,null,null,null,null,null,null,null,null,null,null,null,null,null,null,null,null,null,null,null,null,null,null,null,{"$f":"VLOOKUP($A17,BNovembre!$A$8:$AY$57,31,FALSE)","v":0},{"$f":"VLOOKUP($A17,BNovembre!$A$8:$AY$57,32,FALSE)","v":0},{"$f":"VLOOKUP($A17,BNovembre!$A$8:$AY$57,33,FALSE)","v":0},null,{"$f":"VLOOKUP($A17,BNovembre!$A$8:$AY$57,35,FALSE)","v":0},{"$f":"VLOOKUP($A17,Bilan!$A$8:$AY$57,35,FALSE)","v":0}]
[{"$f":"Données!$H15","v":0},null,null,null,null,null,null,null,null,null,null,null,null,null,null,null,null,null,null,null,null,null,null,null,null,null,null,null,null,null,null,null,null,null,null,null,null,{"$f":"VLOOKUP($A18,BNovembre!$A$8:$AY$57,31,FALSE)","v":0},{"$f":"VLOOKUP($A18,BNovembre!$A$8:$AY$57,32,FALSE)","v":0},{"$f":"VLOOKUP($A18,BNovembre!$A$8:$AY$57,33,FALSE)","v":0},null,{"$f":"VLOOKUP($A18,BNovembre!$A$8:$AY$57,35,FALSE)","v":0},{"$f":"VLOOKUP($A18,Bilan!$A$8:$AY$57,35,FALSE)","v":0}]
[{"$f":"Données!$H16","v":0},null,null,null,null,null,null,null,null,null,null,null,null,null,null,null,null,null,null,null,null,null,null,null,null,null,null,null,null,null,null,null,null,null,null,null,null,{"$f":"VLOOKUP($A19,BNovembre!$A$8:$AY$57,31,FALSE)","v":0},{"$f":"VLOOKUP($A19,BNovembre!$A$8:$AY$57,32,FALSE)","v":0},{"$f":"VLOOKUP($A19,BNovembre!$A$8:$AY$57,33,FALSE)","v":0},null,{"$f":"VLOOKUP($A19,BNovembre!$A$8:$AY$57,35,FALSE)","v":0},{"$f":"VLOOKUP($A19,Bilan!$A$8:$AY$57,35,FALSE)","v":0}]
[{"$f":"Données!$H17","v":0},null,null,null,null,null,null,null,null,null,null,null,null,null,null,null,null,null,null,null,null,null,null,null,null,null,null,null,null,null,null,null,null,null,null,null,null,{"$f":"VLOOKUP($A20,BNovembre!$A$8:$AY$57,31,FALSE)","v":0},{"$f":"VLOOKUP($A20,BNovembre!$A$8:$AY$57,32,FALSE)","v":0},{"$f":"VLOOKUP($A20,BNovembre!$A$8:$AY$57,33,FALSE)","v":0},null,{"$f":"VLOOKUP($A20,BNovembre!$A$8:$AY$57,35,FALSE)","v":0},{"$f":"VLOOKUP($A20,Bilan!$A$8:$AY$57,35,FALSE)","v":0}]
[{"$f":"Données!$H18","v":0},null,null,null,null,null,null,null,null,null,null,null,null,null,null,null,null,null,null,null,null,null,null,null,null,null,null,null,null,null,null,null,null,null,null,null,null,{"$f":"VLOOKUP($A21,BNovembre!$A$8:$AY$57,31,FALSE)","v":0},{"$f":"VLOOKUP($A21,BNovembre!$A$8:$AY$57,32,FALSE)","v":0},{"$f":"VLOOKUP($A21,BNovembre!$A$8:$AY$57,33,FALSE)","v":0},null,{"$f":"VLOOKUP($A21,BNovembre!$A$8:$AY$57,35,FALSE)","v":0},{"$f":"VLOOKUP($A21,Bilan!$A$8:$AY$57,35,FALSE)","v":0}]
[{"$f":"Données!$H19","v":0},null,null,null,null,null,null,null,null,null,null,null,null,null,null,null,null,null,null,null,null,null,null,null,null,null,null,null,null,null,null,null,null,null,null,null,null,{"$f":"VLOOKUP($A22,BNovembre!$A$8:$AY$57,31,FALSE)","v":0},{"$f":"VLOOKUP($A22,BNovembre!$A$8:$AY$57,32,FALSE)","v":0},{"$f":"VLOOKUP($A22,BNovembre!$A$8:$AY$57,33,FALSE)","v":0},null,{"$f":"VLOOKUP($A22,BNovembre!$A$8:$AY$57,35,FALSE)","v":0},{"$f":"VLOOKUP($A22,Bilan!$A$8:$AY$57,35,FALSE)","v":0}]
[{"$f":"Données!$H20","v":0},null,null,null,null,null,null,null,null,null,null,null,null,null,null,null,null,null,null,null,null,null,null,null,null,null,null,null,null,null,null,null,null,null,null,null,null,{"$f":"VLOOKUP($A23,BNovembre!$A$8:$AY$57,31,FALSE)","v":0},{"$f":"VLOOKUP($A23,BNovembre!$A$8:$AY$57,32,FALSE)","v":0},{"$f":"VLOOKUP($A23,BNovembre!$A$8:$AY$57,33,FALSE)","v":0},null,{"$f":"VLOOKUP($A23,BNovembre!$A$8:$AY$57,35,FALSE)","v":0},{"$f":"VLOOKUP($A23,Bilan!$A$8:$AY$57,35,FALSE)","v":0}]
[{"$f":"Données!$H21","v":0},null,null,null,null,null,null,null,null,null,null,null,null,null,null,null,null,null,null,null,null,null,null,null,null,null,null,null,null,null,null,null,null,null,null,null,null,{"$f":"VLOOKUP($A24,BNovembre!$A$8:$AY$57,31,FALSE)","v":0},{"$f":"VLOOKUP($A24,BNovembre!$A$8:$AY$57,32,FALSE)","v":0},{"$f":"VLOOKUP($A24,BNovembre!$A$8:$AY$57,33,FALSE)","v":0},null,{"$f":"VLOOKUP($A24,BNovembre!$A$8:$AY$57,35,FALSE)","v":0},{"$f":"VLOOKUP($A24,Bilan!$A$8:$AY$57,35,FALSE)","v":0}]
[{"$f":"Données!$H22","v":"Equipe de nuit"}]
[{"$f":"Données!$H23","v":"K"},null,null,null,null,null,null,null,null,null,null,null,null,null,null,null,null,null,null,null,null,null,null,null,null,null,null,null,null,null,null,null,null,null,null,null,null,{"$f":"VLOOKUP($A26,BNovembre!$A$8:$AY$57,31,FALSE)","v":0},{"$f":"VLOOKUP($A26,BNovembre!$A$8:$AY$57,32,FALSE)","v":0},{"$f":"VLOOKUP($A26,BNovembre!$A$8:$AY$57,33,FALSE)","v":0},null,{"$f":"VLOOKUP($A26,BNovembre!$A$8:$AY$57,35,FALSE)","v":0},{"$f":"VLOOKUP($A26,Bilan!$A$8:$AY$57,35,FALSE)","v":0}]
[{"$f":"Données!$H24","v":0},null,null,null,null,null,null,null,null,null,null,null,null,null,null,null,null,null,null,null,null,null,null,null,null,null,null,null,null,null,null,null,null,null,null,null,null,{"$f":"VLOOKUP($A27,BNovembre!$A$8:$AY$57,31,FALSE)","v":0},{"$f":"VLOOKUP($A27,BNovembre!$A$8:$AY$57,32,FALSE)","v":0},{"$f":"VLOOKUP($A27,BNovembre!$A$8:$AY$57,33,FALSE)","v":0},null,{"$f":"VLOOKUP($A27,BNovembre!$A$8:$AY$57,35,FALSE)","v":0},{"$f":"VLOOKUP($A27,Bilan!$A$8:$AY$57,35,FALSE)","v":0}]
[{"$f":"Données!$H25","v":0},null,null,null,null,null,null,null,null,null,null,null,null,null,null,null,null,null,null,null,null,null,null,null,null,null,null,null,null,null,null,null,null,null,null,null,null,{"$f":"VLOOKUP($A28,BNovembre!$A$8:$AY$57,31,FALSE)","v":0},{"$f":"VLOOKUP($A28,BNovembre!$A$8:$AY$57,32,FALSE)","v":0},{"$f":"VLOOKUP($A28,BNovembre!$A$8:$AY$57,33,FALSE)","v":0},null,{"$f":"VLOOKUP($A28,BNovembre!$A$8:$AY$57,35,FALSE)","v":0},{"$f":"VLOOKUP($A28,Bilan!$A$8:$AY$57,35,FALSE)","v":0}]
[{"$f":"Données!$H26","v":0},null,null,null,null,null,null,null,null,null,null,null,null,null,null,null,null,null,null,null,null,null,null,null,null,null,null,null,null,null,null,null,null,null,null,null,null,{"$f":"VLOOKUP($A29,BNovembre!$A$8:$AY$57,31,FALSE)","v":0},{"$f":"VLOOKUP($A29,BNovembre!$A$8:$AY$57,32,FALSE)","v":0},{"$f":"VLOOKUP($A29,BNovembre!$A$8:$AY$57,33,FALSE)","v":0},null,{"$f":"VLOOKUP($A29,BNovembre!$A$8:$AY$57,35,FALSE)","v":0},{"$f":"VLOOKUP($A29,Bilan!$A$8:$AY$57,35,FALSE)","v":0}]
[{"$f":"Données!$H27","v":0},null,null,null,null,null,null,null,null,null,null,null,null,null,null,null,null,null,null,null,null,null,null,null,null,null,null,null,null,null,null,null,null,null,null,null,null,{"$f":"VLOOKUP($A30,BNovembre!$A$8:$AY$57,31,FALSE)","v":0},{"$f":"VLOOKUP($A30,BNovembre!$A$8:$AY$57,32,FALSE)","v":0},{"$f":"VLOOKUP($A30,BNovembre!$A$8:$AY$57,33,FALSE)","v":0},null,{"$f":"VLOOKUP($A30,BNovembre!$A$8:$AY$57,35,FALSE)","v":0},{"$f":"VLOOKUP($A30,Bilan!$A$8:$AY$57,35,FALSE)","v":0}]
[{"$f":"Données!$H28","v":0},null,null,null,null,null,null,null,null,null,null,null,null,null,null,null,null,null,null,null,null,null,null,null,null,null,null,null,null,null,null,null,null,null,null,null,null,{"$f":"VLOOKUP($A31,BNovembre!$A$8:$AY$57,31,FALSE)","v":0},{"$f":"VLOOKUP($A31,BNovembre!$A$8:$AY$57,32,FALSE)","v":0},{"$f":"VLOOKUP($A31,BNovembre!$A$8:$AY$57,33,FALSE)","v":0},null,{"$f":"VLOOKUP($A31,BNovembre!$A$8:$AY$57,35,FALSE)","v":0},{"$f":"VLOOKUP($A31,Bilan!$A$8:$AY$57,35,FALSE)","v":0}]
[{"$f":"Données!$H29","v":0},null,null,null,null,null,null,null,null,null,null,null,null,null,null,null,null,null,null,null,null,null,null,null,null,null,null,null,null,null,null,null,null,null,null,null,null,{"$f":"VLOOKUP($A32,BNovembre!$A$8:$AY$57,31,FALSE)","v":0},{"$f":"VLOOKUP($A32,BNovembre!$A$8:$AY$57,32,FALSE)","v":0},{"$f":"VLOOKUP($A32,BNovembre!$A$8:$AY$57,33,FALSE)","v":0},null,{"$f":"VLOOKUP($A32,BNovembre!$A$8:$AY$57,35,FALSE)","v":0},{"$f":"VLOOKUP($A32,Bilan!$A$8:$AY$57,35,FALSE)","v":0}]
[{"$f":"Données!$H30","v":0},null,null,null,null,null,null,null,null,null,null,null,null,null,null,null,null,null,null,null,null,null,null,null,null,null,null,null,null,null,null,null,null,null,null,null,null,{"$f":"VLOOKUP($A33,BNovembre!$A$8:$AY$57,31,FALSE)","v":0},{"$f":"VLOOKUP($A33,BNovembre!$A$8:$AY$57,32,FALSE)","v":0},{"$f":"VLOOKUP($A33,BNovembre!$A$8:$AY$57,33,FALSE)","v":0},null,{"$f":"VLOOKUP($A33,BNovembre!$A$8:$AY$57,35,FALSE)","v":0},{"$f":"VLOOKUP($A33,Bilan!$A$8:$AY$57,35,FALSE)","v":0}]
[{"$f":"Données!$H31","v":0},null,null,null,null,null,null,null,null,null,null,null,null,null,null,null,null,null,null,null,null,null,null,null,null,null,null,null,null,null,null,null,null,null,null,null,null,{"$f":"VLOOKUP($A34,BNovembre!$A$8:$AY$57,31,FALSE)","v":0},{"$f":"VLOOKUP($A34,BNovembre!$A$8:$AY$57,32,FALSE)","v":0},{"$f":"VLOOKUP($A34,BNovembre!$A$8:$AY$57,33,FALSE)","v":0},null,{"$f":"VLOOKUP($A34,BNovembre!$A$8:$AY$57,35,FALSE)","v":0},{"$f":"VLOOKUP($A34,Bilan!$A$8:$AY$57,35,FALSE)","v":0}]
[{"$f":"Données!$H32","v":"Maitresse de maison"}]
[{"$f":"Données!$H33","v":"N"},null,null,null,null,null,null,null,null,null,null,null,null,null,null,null,null,null,null,null,null,null,null,null,null,null,null,null,null,null,null,null,null,null,null,null,null,{"$f":"VLOOKUP($A36,BNovembre!$A$8:$AY$57,31,FALSE)","v":0},{"$f":"VLOOKUP($A36,BNovembre!$A$8:$AY$57,32,FALSE)","v":0},{"$f":"VLOOKUP($A36,BNovembre!$A$8:$AY$57,33,FALSE)","v":0},null,{"$f":"VLOOKUP($A36,BNovembre!$A$8:$AY$57,35,FALSE)","v":0},{"$f":"VLOOKUP($A36,Bilan!$A$8:$AY$57,35,FALSE)","v":0}]
[{"$f":"Données!$H34","v":0},null,null,null,null,null,null,null,null,null,null,null,null,null,null,null,null,null,null,null,null,null,null,null,null,null,null,null,null,null,null,null,null,null,null,null,null,{"$f":"VLOOKUP($A37,BNovembre!$A$8:$AY$57,31,FALSE)","v":0},{"$f":"VLOOKUP($A37,BNovembre!$A$8:$AY$57,32,FALSE)","v":0},{"$f":"VLOOKUP($A37,BNovembre!$A$8:$AY$57,33,FALSE)","v":0},null,{"$f":"VLOOKUP($A37,BNovembre!$A$8:$AY$57,35,FALSE)","v":0},{"$f":"VLOOKUP($A37,Bilan!$A$8:$AY$57,35,FALSE)","v":0}]
[{"$f":"Données!$H35","v":0},null,null,null,null,null,null,null,null,null,null,null,null,null,null,null,null,null,null,null,null,null,null,null,null,null,null,null,null,null,null,null,null,null,null,null,null,{"$f":"VLOOKUP($A38,BNovembre!$A$8:$AY$57,31,FALSE)","v":0},{"$f":"VLOOKUP($A38,BNovembre!$A$8:$AY$57,32,FALSE)","v":0},{"$f":"VLOOKUP($A38,BNovembre!$A$8:$AY$57,33,FALSE)","v":0},null,{"$f":"VLOOKUP($A38,BNovembre!$A$8:$AY$57,35,FALSE)","v":0},{"$f":"VLOOKUP($A38,Bilan!$A$8:$AY$57,35,FALSE)","v":0}]
[{"$f":"Données!$H36","v":0},null,null,null,null,null,null,null,null,null,null,null,null,null,null,null,null,null,null,null,null,null,null,null,null,null,null,null,null,null,null,null,null,null,null,null,null,{"$f":"VLOOKUP($A39,BNovembre!$A$8:$AY$57,31,FALSE)","v":0},{"$f":"VLOOKUP($A39,BNovembre!$A$8:$AY$57,32,FALSE)","v":0},{"$f":"VLOOKUP($A39,BNovembre!$A$8:$AY$57,33,FALSE)","v":0},null,{"$f":"VLOOKUP($A39,BNovembre!$A$8:$AY$57,35,FALSE)","v":0},{"$f":"VLOOKUP($A39,Bilan!$A$8:$AY$57,35,FALSE)","v":0}]
[{"$f":"Données!$H37","v":0},null,null,null,null,null,null,null,null,null,null,null,null,null,null,null,null,null,null,null,null,null,null,null,null,null,null,null,null,null,null,null,null,null,null,null,null,{"$f":"VLOOKUP($A40,BNovembre!$A$8:$AY$57,31,FALSE)","v":0},{"$f":"VLOOKUP($A40,BNovembre!$A$8:$AY$57,32,FALSE)","v":0},{"$f":"VLOOKUP($A40,BNovembre!$A$8:$AY$57,33,FALSE)","v":0},null,{"$f":"VLOOKUP($A40,BNovembre!$A$8:$AY$57,35,FALSE)","v":0},{"$f":"VLOOKUP($A40,Bilan!$A$8:$AY$57,35,FALSE)","v":0}]
[{"$f":"Données!$H38","v":0},null,null,null,null,null,null,null,null,null,null,null,null,null,null,null,null,null,null,null,null,null,null,null,null,null,null,null,null,null,null,null,null,null,null,null,null,{"$f":"VLOOKUP($A41,BNovembre!$A$8:$AY$57,31,FALSE)","v":0},{"$f":"VLOOKUP($A41,BNovembre!$A$8:$AY$57,32,FALSE)","v":0},{"$f":"VLOOKUP($A41,BNovembre!$A$8:$AY$57,33,FALSE)","v":0},null,{"$f":"VLOOKUP($A41,BNovembre!$A$8:$AY$57,35,FALSE)","v":0},{"$f":"VLOOKUP($A41,Bilan!$A$8:$AY$57,35,FALSE)","v":0}]
[{"$f":"Données!$H39","v":0},null,null,null,null,null,null,null,null,null,null,null,null,null,null,null,null,null,null,null,null,null,null,null,null,null,null,null,null,null,null,null,null,null,null,null,null,{"$f":"VLOOKUP($A42,BNovembre!$A$8:$AY$57,31,FALSE)","v":0},{"$f":"VLOOKUP($A42,BNovembre!$A$8:$AY$57,32,FALSE)","v":0},{"$f":"VLOOKUP($A42,BNovembre!$A$8:$AY$57,33,FALSE)","v":0},null,{"$f":"VLOOKUP($A42,BNovembre!$A$8:$AY$57,35,FALSE)","v":0},{"$f":"VLOOKUP($A42,Bilan!$A$8:$AY$57,35,FALSE)","v":0}]
[{"$f":"Données!$H40","v":0},null,null,null,null,null,null,null,null,null,null,null,null,null,null,null,null,null,null,null,null,null,null,null,null,null,null,null,null,null,null,null,null,null,null,null,null,{"$f":"VLOOKUP($A43,BNovembre!$A$8:$AY$57,31,FALSE)","v":0},{"$f":"VLOOKUP($A43,BNovembre!$A$8:$AY$57,32,FALSE)","v":0},{"$f":"VLOOKUP($A43,BNovembre!$A$8:$AY$57,33,FALSE)","v":0},null,{"$f":"VLOOKUP($A43,BNovembre!$A$8:$AY$57,35,FALSE)","v":0},{"$f":"VLOOKUP($A43,Bilan!$A$8:$AY$57,35,FALSE)","v":0}]
[{"$f":"Données!$H41","v":0},null,null,null,null,null,null,null,null,null,null,null,null,null,null,null,null,null,null,null,null,null,null,null,null,null,null,null,null,null,null,null,null,null,null,null,null,{"$f":"VLOOKUP($A44,BNovembre!$A$8:$AY$57,31,FALSE)","v":0},{"$f":"VLOOKUP($A44,BNovembre!$A$8:$AY$57,32,FALSE)","v":0},{"$f":"VLOOKUP($A44,BNovembre!$A$8:$AY$57,33,FALSE)","v":0},null,{"$f":"VLOOKUP($A44,BNovembre!$A$8:$AY$57,35,FALSE)","v":0},{"$f":"VLOOKUP($A44,Bilan!$A$8:$AY$57,35,FALSE)","v":0}]
[{"$f":"Données!$H42","v":"Psychologue"}]
[{"$f":"Données!$H43","v":"O"},null,null,null,null,null,null,null,null,null,null,null,null,null,null,null,null,null,null,null,null,null,null,null,null,null,null,null,null,null,null,null,null,null,null,null,null,{"$f":"VLOOKUP($A46,BNovembre!$A$8:$AY$57,31,FALSE)","v":0},{"$f":"VLOOKUP($A46,BNovembre!$A$8:$AY$57,32,FALSE)","v":0},{"$f":"VLOOKUP($A46,BNovembre!$A$8:$AY$57,33,FALSE)","v":0},null,{"$f":"VLOOKUP($A46,BNovembre!$A$8:$AY$57,35,FALSE)","v":0},{"$f":"VLOOKUP($A46,Bilan!$A$8:$AY$57,35,FALSE)","v":0}]
[{"$f":"Données!$H44","v":0},null,null,null,null,null,null,null,null,null,null,null,null,null,null,null,null,null,null,null,null,null,null,null,null,null,null,null,null,null,null,null,null,null,null,null,null,{"$f":"VLOOKUP($A47,BNovembre!$A$8:$AY$57,31,FALSE)","v":0},{"$f":"VLOOKUP($A47,BNovembre!$A$8:$AY$57,32,FALSE)","v":0},{"$f":"VLOOKUP($A47,BNovembre!$A$8:$AY$57,33,FALSE)","v":0},null,{"$f":"VLOOKUP($A47,BNovembre!$A$8:$AY$57,35,FALSE)","v":0},{"$f":"VLOOKUP($A47,Bilan!$A$8:$AY$57,35,FALSE)","v":0}]
[{"$f":"Données!$H45","v":0},null,null,null,null,null,null,null,null,null,null,null,null,null,null,null,null,null,null,null,null,null,null,null,null,null,null,null,null,null,null,null,null,null,null,null,null,{"$f":"VLOOKUP($A48,BNovembre!$A$8:$AY$57,31,FALSE)","v":0},{"$f":"VLOOKUP($A48,BNovembre!$A$8:$AY$57,32,FALSE)","v":0},{"$f":"VLOOKUP($A48,BNovembre!$A$8:$AY$57,33,FALSE)","v":0},null,{"$f":"VLOOKUP($A48,BNovembre!$A$8:$AY$57,35,FALSE)","v":0},{"$f":"VLOOKUP($A48,Bilan!$A$8:$AY$57,35,FALSE)","v":0}]
[{"$f":"Données!$H46","v":"Coordinatrice"}]
[{"$f":"Données!$H47","v":"P"},null,null,null,null,null,null,null,null,null,null,null,null,null,null,null,null,null,null,null,null,null,null,null,null,null,null,null,null,null,null,null,null,null,null,null,null,{"$f":"VLOOKUP($A50,BNovembre!$A$8:$AY$57,31,FALSE)","v":0},{"$f":"VLOOKUP($A50,BNovembre!$A$8:$AY$57,32,FALSE)","v":0},{"$f":"VLOOKUP($A50,BNovembre!$A$8:$AY$57,33,FALSE)","v":0},null,{"$f":"VLOOKUP($A50,BNovembre!$A$8:$AY$57,35,FALSE)","v":0},{"$f":"VLOOKUP($A50,Bilan!$A$8:$AY$57,35,FALSE)","v":0}]
[{"$f":"Données!$H48","v":0},null,null,null,null,null,null,null,null,null,null,null,null,null,null,null,null,null,null,null,null,null,null,null,null,null,null,null,null,null,null,null,null,null,null,null,null,{"$f":"VLOOKUP($A51,BNovembre!$A$8:$AY$57,31,FALSE)","v":0},{"$f":"VLOOKUP($A51,BNovembre!$A$8:$AY$57,32,FALSE)","v":0},{"$f":"VLOOKUP($A51,BNovembre!$A$8:$AY$57,33,FALSE)","v":0},null,{"$f":"VLOOKUP($A51,BNovembre!$A$8:$AY$57,35,FALSE)","v":0},{"$f":"VLOOKUP($A51,Bilan!$A$8:$AY$57,35,FALSE)","v":0}]
[{"$f":"Données!$H49","v":0},null,null,null,null,null,null,null,null,null,null,null,null,null,null,null,null,null,null,null,null,null,null,null,null,null,null,null,null,null,null,null,null,null,null,null,null,{"$f":"VLOOKUP($A52,BNovembre!$A$8:$AY$57,31,FALSE)","v":0},{"$f":"VLOOKUP($A52,BNovembre!$A$8:$AY$57,32,FALSE)","v":0},{"$f":"VLOOKUP($A52,BNovembre!$A$8:$AY$57,33,FALSE)","v":0},null,{"$f":"VLOOKUP($A52,BNovembre!$A$8:$AY$57,35,FALSE)","v":0},{"$f":"VLOOKUP($A52,Bilan!$A$8:$AY$57,35,FALSE)","v":0}]
[{"$f":"Données!$H50","v":0},null,null,null,null,null,null,null,null,null,null,null,null,null,null,null,null,null,null,null,null,null,null,null,null,null,null,null,null,null,null,null,null,null,null,null,null,{"$f":"VLOOKUP($A53,BNovembre!$A$8:$AY$57,31,FALSE)","v":0},{"$f":"VLOOKUP($A53,BNovembre!$A$8:$AY$57,32,FALSE)","v":0},{"$f":"VLOOKUP($A53,BNovembre!$A$8:$AY$57,33,FALSE)","v":0},null,{"$f":"VLOOKUP($A53,BNovembre!$A$8:$AY$57,35,FALSE)","v":0},{"$f":"VLOOKUP($A53,Bilan!$A$8:$AY$57,35,FALSE)","v":0}]
[{"$f":"Données!$H51","v":0},null,null,null,null,null,null,null,null,null,null,null,null,null,null,null,null,null,null,null,null,null,null,null,null,null,null,null,null,null,null,null,null,null,null,null,null,{"$f":"VLOOKUP($A54,BNovembre!$A$8:$AY$57,31,FALSE)","v":0},{"$f":"VLOOKUP($A54,BNovembre!$A$8:$AY$57,32,FALSE)","v":0},{"$f":"VLOOKUP($A54,BNovembre!$A$8:$AY$57,33,FALSE)","v":0},null,{"$f":"VLOOKUP($A54,BNovembre!$A$8:$AY$57,35,FALSE)","v":0},{"$f":"VLOOKUP($A54,Bilan!$A$8:$AY$57,35,FALSE)","v":0}]
[{"$f":"Données!$H52","v":"Chef de service"}]
[{"$f":"Données!$H53","v":"Q"},null,null,null,null,null,null,null,null,null,null,null,null,null,null,null,null,null,null,null,null,null,null,null,null,null,null,null,null,null,null,null,null,null,null,null,null,{"$f":"VLOOKUP($A56,BNovembre!$A$8:$AY$57,31,FALSE)","v":0},{"$f":"VLOOKUP($A56,BNovembre!$A$8:$AY$57,32,FALSE)","v":0},{"$f":"VLOOKUP($A56,BNovembre!$A$8:$AY$57,33,FALSE)","v":0},null,{"$f":"VLOOKUP($A56,BNovembre!$A$8:$AY$57,35,FALSE)","v":0},{"$f":"VLOOKUP($A56,Bilan!$A$8:$AY$57,35,FALSE)","v":0}]
[]
[null,{"$f":"Données!$A3","v":"M"}," =",{"$f":"IF(ISBLANK(Données!$C3),TEXT(Données!$B3,\"hh:mm\"),TEXT(Données!$B3,\"hh:mm\")&\" : \"&TEXT(Données!$C3,\"hh:mm\"))","v":"07:00 : 14:35"},null,null,null,{"$f":"Données!$A7","v":"R"}," =",{"$f":"IF(ISBLANK(Données!$C7),TEXT(Données!$B7,\"hh:mm\"),TEXT(Données!$B7,\"hh:mm\")&\" : \"&TEXT(Données!$C7,\"hh:mm\"))","v":"10:00 : 12:00"},null,null,null,{"$f":"Données!$A10","v":"W"}," =",{"$f":"IF(ISBLANK(Données!$C10),TEXT(Données!$B10,\"hh:mm\"),TEXT(Données!$B10,\"hh:mm\")&\" : \"&TEXT(Données!$C10,\"hh:mm\"))","v":"07:30 : 19:15"},null,null,null,{"$f":"Données!$A14","v":"N"}," =",{"$f":"IF(ISBLANK(Données!$C14),TEXT(Données!$B14,\"hh:mm\"),TEXT(Données!$B14,\"hh:mm\")&\" : \"&TEXT(Données!$C14,\"hh:mm\"))","v":"20:30 : 07:15"},null,null,null,{"$f":"Données!$A18","v":"F"}," =",{"$f":"IF(ISBLANK(Données!$C18),TEXT(Données!$B18,\"hh:mm\"),TEXT(Données!$B18,\"hh:mm\")&\" : \"&TEXT(Données!$C18,\"hh:mm\"))","v":"F"}]
[null,{"$f":"Données!$A4","v":"MG"}," =",{"$f":"IF(ISBLANK(Données!$C4),TEXT(Données!$B4,\"hh:mm\"),TEXT(Données!$B4,\"hh:mm\")&\" : \"&TEXT(Données!$C4,\"hh:mm\"))","v":"23:00 : 01:35"},null,null,null,{"$f":"Données!$A8","v":"RS"}," =",{"$f":"IF(ISBLANK(Données!$C8),TEXT(Données!$B8,\"hh:mm\"),TEXT(Données!$B8,\"hh:mm\")&\" : \"&TEXT(Données!$C8,\"hh:mm\"))","v":"10:00 : 21:30"},null,null,null,{"$f":"Données!$A11","v":"W+"}," =",{"$f":"IF(ISBLANK(Données!$C11),TEXT(Données!$B11,\"hh:mm\"),TEXT(Données!$B11,\"hh:mm\")&\" : \"&TEXT(Données!$C11,\"hh:mm\"))","v":"10:00 : 21:30"},null,null,null,{"$f":"Données!$A15","v":"N+"}," =",{"$f":"IF(ISBLANK(Données!$C15),TEXT(Données!$B15,\"hh:mm\"),TEXT(Données!$B15,\"hh:mm\")&\" : \"&TEXT(Données!$C15,\"hh:mm\"))","v":"19:15 : 07:15"},null,null,null,{"$f":"Données!$A19","v":"SYN"}," =",{"$f":"IF(ISBLANK(Données!$C19),TEXT(Données!$B19,\"hh:mm\"),TEXT(Données!$B19,\"hh:mm\")&\" : \"&TEXT(Données!$C19,\"hh:mm\"))","v":"Syn"}]
[null,{"$f":"Données!$A5","v":"J"}," =",{"$f":"IF(ISBLANK(Données!$C5),TEXT(Données!$B5,\"hh:mm\"),TEXT(Données!$B5,\"hh:mm\")&\" : \"&TEXT(Données!$C5,\"hh:mm\"))","v":"10:00 : 17:30"},null,null,null,{"$f":"Données!$A9","v":"S"}," =",{"$f":"IF(ISBLANK(Données!$C9),TEXT(Données!$B9,\"hh:mm\"),TEXT(Données!$B9,\"hh:mm\")&\" : \"&TEXT(Données!$C9,\"hh:mm\"))","v":"14:00 : 21:30"},null,null,null,{"$f":"Données!$A12","v":"WD"}," =",{"$f":"IF(ISBLANK(Données!$C12),TEXT(Données!$B12,\"hh:mm\"),TEXT(Données!$B12,\"hh:mm\")&\" : \"&TEXT(Données!$C12,\"hh:mm\"))","v":"07:00 : 19:15"},null,null,null,{"$f":"Données!$A16","v":"NS"}," =",{"$f":"IF(ISBLANK(Données!$C16),TEXT(Données!$B16,\"hh:mm\"),TEXT(Données!$B16,\"hh:mm\")&\" : \"&TEXT(Données!$C16,\"hh:mm\"))","v":"19:15 : 07:15"},null,null,null,{"$f":"Données!$A20","v":"AT"}," =",{"$f":"IF(ISBLANK(Données!$C20),TEXT(Données!$B20,\"hh:mm\"),TEXT(Données!$B20,\"hh:mm\")&\" : \"&TEXT(Données!$C20,\"hh:mm\"))","v":"AT"}]
[null,{"$f":"Données!$A6","v":"J+"}," =",{"$f":"IF(ISBLANK(Données!$C6),TEXT(Données!$B6,\"hh:mm\"),TEXT(Données!$B6,\"hh:mm\")&\" : \"&TEXT(Données!$C6,\"hh:mm\"))","v":"11:30 : 19:15"},null,null,null,{"$f":"Données!$A10","v":"W"}," =",{"$f":"IF(ISBLANK(Données!$C10),TEXT(Données!$B10,\"hh:mm\"),TEXT(Données!$B10,\"hh:mm\")&\" : \"&TEXT(Données!$C10,\"hh:mm\"))","v":"07:30 : 19:15"},null,null,null,{"$f":"Données!$A13","v":"WF"}," =",{"$f":"IF(ISBLANK(Données!$C13),TEXT(Données!$B13,\"hh:mm\"),TEXT(Données!$B13,\"hh:mm\")&\" : \"&TEXT(Données!$C13,\"hh:mm\"))","v":"07:00 : 19:15"},null,null,null,{"$f":"Données!$A17","v":"T"}," =",{"$f":"IF(ISBLANK(Données!$C17),TEXT(Données!$B17,\"hh:mm\"),TEXT(Données!$B17,\"hh:mm\")&\" : \"&TEXT(Données!$C17,\"hh:mm\"))","v":"T"},null,null,null,{"$f":"Données!$A21","v":"AM"}," =",{"$f":"IF(ISBLANK(Données!$C21),TEXT(Données!$B21,\"hh:mm\"),TEXT(Données!$B21,\"hh:mm\")&\" : \"&TEXT(Données!$C21,\"hh:mm\"))","v":"AM"}]

{"sheet":"Decembre","index":13,"n_rows":61,"n_cols":43,"rows_kept":61,"cut":false,"hidden":false,"merged":[[2,16,2,17]]}
[]
[null,{"$f":"DATE(An,Decembre,B7)","v":"2018-12-01"},"2018-12-02","2018-12-03","2018-12-04","2018-12-05","2018-12-06","2018-12-07","2018-12-08","2018-12-09","2018-12-10","2018-12-11","2018-12-12","2018-12-13","2018-12-14","2018-12-15","2018-12-16","2018-12-17","2018-12-18","2018-12-19","2018-12-20","2018-12-21","2018-12-22","2018-12-23","2018-12-24","2018-12-25","2018-12-26","2018-12-27","2018-12-28","2018-12-29","2018-12-30","2018-12-31",null,null,"Pour remplir ","penser     ",null,null,null,null,{"$f":"IF(ISNUMBER(AO7),DATE(An,Decembre,AO7),\"\")","v":""},{"$f":"IF(ISNUMBER(AP7),DATE(An,Decembre,AP7),\"\")","v":""}]
[{"$f":"IF(Données!$L$5=\"\",\"Service\",Données!$L$5)","v":"Service"},null,null,null,null,null,null,null,null,null,"Mois de Décembre ",null,null,null,null,null,{"$f":"An","v":2018},null,null,null,null,null,null,null,null,null,null,null,null,null,null,null,null,null,"à mettre dans le format:\n"]
[null,null,null,null,null,null,null,null,null,null,null,null,null,null,null,null,null,null,null,null,null,null,null,null,null,null,null,null,null,null,null,null,null,null," \"heures\":\"Minutes\" "]
[null,null,null,null,null,null,null,null,null,null,null,null,null,null,null,null,null,null,null,null,null,null,null,null,null,null,null,null,null,null,null,null,null,null,"Heures sup ","Heures sup ",null,"Indications","Indications","Indications",null,"Total"]
["Jours",{"$f":"PROPER(LEFT(TEXT(DATE(An,Decembre,B7),\"jjj\"),1))","v":"S"},"D","L","M","M","J","V","S","D","L","M","M","J","V","S","D","L","M","M","J","V","S","D","L","M","M","J","V","S","D","L",null,null,"avant 21h","après 21h",null,"Heures","Heures nuit","Heures",null,"Heures","Heures"]
[null,{"$f":"A7+1","v":1},2,3,4,5,6,7,8,9,10,11,12,13,14,15,16,17,18,19,20,21,22,23,24,25,26,27,28,29,30,{"$f":"AE7+1","v":31},null,null,"A remplir","A remplir",null," Dimanche"," Dimanche","après 21h",null," au mois","  a l'année"]
["Equipe de jour"]
[{"$f":"Données!$H6","v":"A"},null,null,null,null,null,null,null,null,null,null,null,null,null,null,null,null,null,null,null,null,null,null,null,null,null,null,null,null,null,null,null,null,null,null,null,null,{"$f":"VLOOKUP($A9,BDecembre!$A$8:$AY$57,31,FALSE)","v":0},{"$f":"VLOOKUP($A9,BDecembre!$A$8:$AY$57,32,FALSE)","v":0},{"$f":"VLOOKUP($A9,BDecembre!$A$8:$AY$57,33,FALSE)","v":0},null,{"$f":"VLOOKUP($A9,BDecembre!$A$8:$AY$57,35,FALSE)","v":0},{"$f":"VLOOKUP($A9,Bilan!$A$8:$AY$57,35,FALSE)","v":0}]
[{"$f":"Données!$H7","v":0},null,null,null,null,null,null,null,null,null,null,null,null,null,null,null,null,null,null,null,null,null,null,null,null,null,null,null,null,null,null,null,null,null,null,null,null,{"$f":"VLOOKUP($A10,BDecembre!$A$8:$AY$57,31,FALSE)","v":0},{"$f":"VLOOKUP($A10,BDecembre!$A$8:$AY$57,32,FALSE)","v":0},{"$f":"VLOOKUP($A10,BDecembre!$A$8:$AY$57,33,FALSE)","v":0},null,{"$f":"VLOOKUP($A10,BDecembre!$A$8:$AY$57,35,FALSE)","v":0},{"$f":"VLOOKUP($A10,Bilan!$A$8:$AY$57,35,FALSE)","v":0}]
[{"$f":"Données!$H8","v":0},null,null,null,null,null,null,null,null,null,null,null,null,null,null,null,null,null,null,null,null,null,null,null,null,null,null,null,null,null,null,null,null,null,null,null,null,{"$f":"VLOOKUP($A11,BDecembre!$A$8:$AY$57,31,FALSE)","v":0},{"$f":"VLOOKUP($A11,BDecembre!$A$8:$AY$57,32,FALSE)","v":0},{"$f":"VLOOKUP($A11,BDecembre!$A$8:$AY$57,33,FALSE)","v":0},null,{"$f":"VLOOKUP($A11,BDecembre!$A$8:$AY$57,35,FALSE)","v":0},{"$f":"VLOOKUP($A11,Bilan!$A$8:$AY$57,35,FALSE)","v":0}]
[{"$f":"Données!$H9","v":0},null,null,null,null,null,null,null,null,null,null,null,null,null,null,null,null,null,null,null,null,null,null,null,null,null,null,null,null,null,null,null,null,null,null,null,null,{"$f":"VLOOKUP($A12,BDecembre!$A$8:$AY$57,31,FALSE)","v":0},{"$f":"VLOOKUP($A12,BDecembre!$A$8:$AY$57,32,FALSE)","v":0},{"$f":"VLOOKUP($A12,BDecembre!$A$8:$AY$57,33,FALSE)","v":0},null,{"$f":"VLOOKUP($A12,BDecembre!$A$8:$AY$57,35,FALSE)","v":0},{"$f":"VLOOKUP($A12,Bilan!$A$8:$AY$57,35,FALSE)","v":0}]
[{"$f":"Données!$H10","v":0},null,null,null,null,null,null,null,null,null,null,null,null,null,null,null,null,null,null,null,null,null,null,null,null,null,null,null,null,null,null,null,null,null,null,null,null,{"$f":"VLOOKUP($A13,BDecembre!$A$8:$AY$57,31,FALSE)","v":0},{"$f":"VLOOKUP($A13,BDecembre!$A$8:$AY$57,32,FALSE)","v":0},{"$f":"VLOOKUP($A13,BDecembre!$A$8:$AY$57,33,FALSE)","v":0},null,{"$f":"VLOOKUP($A13,BDecembre!$A$8:$AY$57,35,FALSE)","v":0},{"$f":"VLOOKUP($A13,Bilan!$A$8:$AY$57,35,FALSE)","v":0}]
[{"$f":"Données!$H11","v":0},null,null,null,null,null,null,null,null,null,null,null,null,null,null,null,null,null,null,null,null,null,null,null,null,null,null,null,null,null,null,null,null,null,null,null,null,{"$f":"VLOOKUP($A14,BDecembre!$A$8:$AY$57,31,FALSE)","v":0},{"$f":"VLOOKUP($A14,BDecembre!$A$8:$AY$57,32,FALSE)","v":0},{"$f":"VLOOKUP($A14,BDecembre!$A$8:$AY$57,33,FALSE)","v":0},null,{"$f":"VLOOKUP($A14,BDecembre!$A$8:$AY$57,35,FALSE)","v":0},{"$f":"VLOOKUP($A14,Bilan!$A$8:$AY$57,35,FALSE)","v":0}]
[{"$f":"Données!$H12","v":0},null,null,null,null,null,null,null,null,null,null,null,null,null,null,null,null,null,null,null,null,null,null,null,null,null,null,null,null,null,null,null,null,null,null,null,null,{"$f":"VLOOKUP($A15,BDecembre!$A$8:$AY$57,31,FALSE)","v":0},{"$f":"VLOOKUP($A15,BDecembre!$A$8:$AY$57,32,FALSE)","v":0},{"$f":"VLOOKUP($A15,BDecembre!$A$8:$AY$57,33,FALSE)","v":0},null,{"$f":"VLOOKUP($A15,BDecembre!$A$8:$AY$57,35,FALSE)","v":0},{"$f":"VLOOKUP($A15,Bilan!$A$8:$AY$57,35,FALSE)","v":0}]
[{"$f":"Données!$H13","v":0},null,null,null,null,null,null,null,null,null,null,null,null,null,null,null,null,null,null,null,null,null,null,null,null,null,null,null,null,null,null,null,null,null,null,null,null,{"$f":"VLOOKUP($A16,BDecembre!$A$8:$AY$57,31,FALSE)","v":0},{"$f":"VLOOKUP($A16,BDecembre!$A$8:$AY$57,32,FALSE)","v":0},{"$f":"VLOOKUP($A16,BDecembre!$A$8:$AY$57,33,FALSE)","v":0},null,{"$f":"VLOOKUP($A16,BDecembre!$A$8:$AY$57,35,FALSE)","v":0},{"$f":"VLOOKUP($A16,Bilan!$A$8:$AY$57,35,FALSE)","v":0}]
[{"$f":"Données!$H14","v":0},null,null,null,null,null,null,null,null,null,null,null,null,null,null,null,null,null,null,null,null,null,null,null,null,null,null,null,null,null,null,null,null,null,null,null,null,{"$f":"VLOOKUP($A17,BDecembre!$A$8:$AY$57,31,FALSE)","v":0},{"$f":"VLOOKUP($A17,BDecembre!$A$8:$AY$57,32,FALSE)","v":0},{"$f":"VLOOKUP($A17,BDecembre!$A$8:$AY$57,33,FALSE)","v":0},null,{"$f":"VLOOKUP($A17,BDecembre!$A$8:$AY$57,35,FALSE)","v":0},{"$f":"VLOOKUP($A17,Bilan!$A$8:$AY$57,35,FALSE)","v":0}]
[{"$f":"Données!$H15","v":0},null,null,null,null,null,null,null,null,null,null,null,null,null,null,null,null,null,null,null,null,null,null,null,null,null,null,null,null,null,null,null,null,null,null,null,null,{"$f":"VLOOKUP($A18,BDecembre!$A$8:$AY$57,31,FALSE)","v":0},{"$f":"VLOOKUP($A18,BDecembre!$A$8:$AY$57,32,FALSE)","v":0},{"$f":"VLOOKUP($A18,BDecembre!$A$8:$AY$57,33,FALSE)","v":0},null,{"$f":"VLOOKUP($A18,BDecembre!$A$8:$AY$57,35,FALSE)","v":0},{"$f":"VLOOKUP($A18,Bilan!$A$8:$AY$57,35,FALSE)","v":0}]
[{"$f":"Données!$H16","v":0},null,null,null,null,null,null,null,null,null,null,null,null,null,null,null,null,null,null,null,null,null,null,null,null,null,null,null,null,null,null,null,null,null,null,null,null,{"$f":"VLOOKUP($A19,BDecembre!$A$8:$AY$57,31,FALSE)","v":0},{"$f":"VLOOKUP($A19,BDecembre!$A$8:$AY$57,32,FALSE)","v":0},{"$f":"VLOOKUP($A19,BDecembre!$A$8:$AY$57,33,FALSE)","v":0},null,{"$f":"VLOOKUP($A19,BDecembre!$A$8:$AY$57,35,FALSE)","v":0},{"$f":"VLOOKUP($A19,Bilan!$A$8:$AY$57,35,FALSE)","v":0}]
[{"$f":"Données!$H17","v":0},null,null,null,null,null,null,null,null,null,null,null,null,null,null,null,null,null,null,null,null,null,null,null,null,null,null,null,null,null,null,null,null,null,null,null,null,{"$f":"VLOOKUP($A20,BDecembre!$A$8:$AY$57,31,FALSE)","v":0},{"$f":"VLOOKUP($A20,BDecembre!$A$8:$AY$57,32,FALSE)","v":0},{"$f":"VLOOKUP($A20,BDecembre!$A$8:$AY$57,33,FALSE)","v":0},null,{"$f":"VLOOKUP($A20,BDecembre!$A$8:$AY$57,35,FALSE)","v":0},{"$f":"VLOOKUP($A20,Bilan!$A$8:$AY$57,35,FALSE)","v":0}]
[{"$f":"Données!$H18","v":0},null,null,null,null,null,null,null,null,null,null,null,null,null,null,null,null,null,null,null,null,null,null,null,null,null,null,null,null,null,null,null,null,null,null,null,null,{"$f":"VLOOKUP($A21,BDecembre!$A$8:$AY$57,31,FALSE)","v":0},{"$f":"VLOOKUP($A21,BDecembre!$A$8:$AY$57,32,FALSE)","v":0},{"$f":"VLOOKUP($A21,BDecembre!$A$8:$AY$57,33,FALSE)","v":0},null,{"$f":"VLOOKUP($A21,BDecembre!$A$8:$AY$57,35,FALSE)","v":0},{"$f":"VLOOKUP($A21,Bilan!$A$8:$AY$57,35,FALSE)","v":0}]
[{"$f":"Données!$H19","v":0},null,null,null,null,null,null,null,null,null,null,null,null,null,null,null,null,null,null,null,null,null,null,null,null,null,null,null,null,null,null,null,null,null,null,null,null,{"$f":"VLOOKUP($A22,BDecembre!$A$8:$AY$57,31,FALSE)","v":0},{"$f":"VLOOKUP($A22,BDecembre!$A$8:$AY$57,32,FALSE)","v":0},{"$f":"VLOOKUP($A22,BDecembre!$A$8:$AY$57,33,FALSE)","v":0},null,{"$f":"VLOOKUP($A22,BDecembre!$A$8:$AY$57,35,FALSE)","v":0},{"$f":"VLOOKUP($A22,Bilan!$A$8:$AY$57,35,FALSE)","v":0}]
[{"$f":"Données!$H20","v":0},null,null,null,null,null,null,null,null,null,null,null,null,null,null,null,null,null,null,null,null,null,null,null,null,null,null,null,null,null,null,null,null,null,null,null,null,{"$f":"VLOOKUP($A23,BDecembre!$A$8:$AY$57,31,FALSE)","v":0},{"$f":"VLOOKUP($A23,BDecembre!$A$8:$AY$57,32,FALSE)","v":0},{"$f":"VLOOKUP($A23,BDecembre!$A$8:$AY$57,33,FALSE)","v":0},null,{"$f":"VLOOKUP($A23,BDecembre!$A$8:$AY$57,35,FALSE)","v":0},{"$f":"VLOOKUP($A23,Bilan!$A$8:$AY$57,35,FALSE)","v":0}]
[{"$f":"Données!$H21","v":0},null,null,null,null,null,null,null,null,null,null,null,null,null,null,null,null,null,null,null,null,null,null,null,null,null,null,null,null,null,null,null,null,null,null,null,null,{"$f":"VLOOKUP($A24,BDecembre!$A$8:$AY$57,31,FALSE)","v":0},{"$f":"VLOOKUP($A24,BDecembre!$A$8:$AY$57,32,FALSE)","v":0},{"$f":"VLOOKUP($A24,BDecembre!$A$8:$AY$57,33,FALSE)","v":0},null,{"$f":"VLOOKUP($A24,BDecembre!$A$8:$AY$57,35,FALSE)","v":0},{"$f":"VLOOKUP($A24,Bilan!$A$8:$AY$57,35,FALSE)","v":0}]
[{"$f":"Données!$H22","v":"Equipe de nuit"}]
[{"$f":"Données!$H23","v":"K"},null,null,null,null,null,null,null,null,null,null,null,null,null,null,null,null,null,null,null,null,null,null,null,null,null,null,null,null,null,null,null,null,null,null,null,null,{"$f":"VLOOKUP($A26,BDecembre!$A$8:$AY$57,31,FALSE)","v":0},{"$f":"VLOOKUP($A26,BDecembre!$A$8:$AY$57,32,FALSE)","v":0},{"$f":"VLOOKUP($A26,BDecembre!$A$8:$AY$57,33,FALSE)","v":0},null,{"$f":"VLOOKUP($A26,BDecembre!$A$8:$AY$57,35,FALSE)","v":0},{"$f":"VLOOKUP($A26,Bilan!$A$8:$AY$57,35,FALSE)","v":0}]
[{"$f":"Données!$H24","v":0},null,null,null,null,null,null,null,null,null,null,null,null,null,null,null,null,null,null,null,null,null,null,null,null,null,null,null,null,null,null,null,null,null,null,null,null,{"$f":"VLOOKUP($A27,BDecembre!$A$8:$AY$57,31,FALSE)","v":0},{"$f":"VLOOKUP($A27,BDecembre!$A$8:$AY$57,32,FALSE)","v":0},{"$f":"VLOOKUP($A27,BDecembre!$A$8:$AY$57,33,FALSE)","v":0},null,{"$f":"VLOOKUP($A27,BDecembre!$A$8:$AY$57,35,FALSE)","v":0},{"$f":"VLOOKUP($A27,Bilan!$A$8:$AY$57,35,FALSE)","v":0}]
[{"$f":"Données!$H25","v":0},null,null,null,null,null,null,null,null,null,null,null,null,null,null,null,null,null,null,null,null,null,null,null,null,null,null,null,null,null,null,null,null,null,null,null,null,{"$f":"VLOOKUP($A28,BDecembre!$A$8:$AY$57,31,FALSE)","v":0},{"$f":"VLOOKUP($A28,BDecembre!$A$8:$AY$57,32,FALSE)","v":0},{"$f":"VLOOKUP($A28,BDecembre!$A$8:$AY$57,33,FALSE)","v":0},null,{"$f":"VLOOKUP($A28,BDecembre!$A$8:$AY$57,35,FALSE)","v":0},{"$f":"VLOOKUP($A28,Bilan!$A$8:$AY$57,35,FALSE)","v":0}]
[{"$f":"Données!$H26","v":0},null,null,null,null,null,null,null,null,null,null,null,null,null,null,null,null,null,null,null,null,null,null,null,null,null,null,null,null,null,null,null,null,null,null,null,null,{"$f":"VLOOKUP($A29,BDecembre!$A$8:$AY$57,31,FALSE)","v":0},{"$f":"VLOOKUP($A29,BDecembre!$A$8:$AY$57,32,FALSE)","v":0},{"$f":"VLOOKUP($A29,BDecembre!$A$8:$AY$57,33,FALSE)","v":0},null,{"$f":"VLOOKUP($A29,BDecembre!$A$8:$AY$57,35,FALSE)","v":0},{"$f":"VLOOKUP($A29,Bilan!$A$8:$AY$57,35,FALSE)","v":0}]
[{"$f":"Données!$H27","v":0},null,null,null,null,null,null,null,null,null,null,null,null,null,null,null,null,null,null,null,null,null,null,null,null,null,null,null,null,null,null,null,null,null,null,null,null,{"$f":"VLOOKUP($A30,BDecembre!$A$8:$AY$57,31,FALSE)","v":0},{"$f":"VLOOKUP($A30,BDecembre!$A$8:$AY$57,32,FALSE)","v":0},{"$f":"VLOOKUP($A30,BDecembre!$A$8:$AY$57,33,FALSE)","v":0},null,{"$f":"VLOOKUP($A30,BDecembre!$A$8:$AY$57,35,FALSE)","v":0},{"$f":"VLOOKUP($A30,Bilan!$A$8:$AY$57,35,FALSE)","v":0}]
[{"$f":"Données!$H28","v":0},null,null,null,null,null,null,null,null,null,null,null,null,null,null,null,null,null,null,null,null,null,null,null,null,null,null,null,null,null,null,null,null,null,null,null,null,{"$f":"VLOOKUP($A31,BDecembre!$A$8:$AY$57,31,FALSE)","v":0},{"$f":"VLOOKUP($A31,BDecembre!$A$8:$AY$57,32,FALSE)","v":0},{"$f":"VLOOKUP($A31,BDecembre!$A$8:$AY$57,33,FALSE)","v":0},null,{"$f":"VLOOKUP($A31,BDecembre!$A$8:$AY$57,35,FALSE)","v":0},{"$f":"VLOOKUP($A31,Bilan!$A$8:$AY$57,35,FALSE)","v":0}]
[{"$f":"Données!$H29","v":0},null,null,null,null,null,null,null,null,null,null,null,null,null,null,null,null,null,null,null,null,null,null,null,null,null,null,null,null,null,null,null,null,null,null,null,null,{"$f":"VLOOKUP($A32,BDecembre!$A$8:$AY$57,31,FALSE)","v":0},{"$f":"VLOOKUP($A32,BDecembre!$A$8:$AY$57,32,FALSE)","v":0},{"$f":"VLOOKUP($A32,BDecembre!$A$8:$AY$57,33,FALSE)","v":0},null,{"$f":"VLOOKUP($A32,BDecembre!$A$8:$AY$57,35,FALSE)","v":0},{"$f":"VLOOKUP($A32,Bilan!$A$8:$AY$57,35,FALSE)","v":0}]
[{"$f":"Données!$H30","v":0},null,null,null,null,null,null,null,null,null,null,null,null,null,null,null,null,null,null,null,null,null,null,null,null,null,null,null,null,null,null,null,null,null,null,null,null,{"$f":"VLOOKUP($A33,BDecembre!$A$8:$AY$57,31,FALSE)","v":0},{"$f":"VLOOKUP($A33,BDecembre!$A$8:$AY$57,32,FALSE)","v":0},{"$f":"VLOOKUP($A33,BDecembre!$A$8:$AY$57,33,FALSE)","v":0},null,{"$f":"VLOOKUP($A33,BDecembre!$A$8:$AY$57,35,FALSE)","v":0},{"$f":"VLOOKUP($A33,Bilan!$A$8:$AY$57,35,FALSE)","v":0}]
[{"$f":"Données!$H31","v":0},null,null,null,null,null,null,null,null,null,null,null,null,null,null,null,null,null,null,null,null,null,null,null,null,null,null,null,null,null,null,null,null,null,null,null,null,{"$f":"VLOOKUP($A34,BDecembre!$A$8:$AY$57,31,FALSE)","v":0},{"$f":"VLOOKUP($A34,BDecembre!$A$8:$AY$57,32,FALSE)","v":0},{"$f":"VLOOKUP($A34,BDecembre!$A$8:$AY$57,33,FALSE)","v":0},null,{"$f":"VLOOKUP($A34,BDecembre!$A$8:$AY$57,35,FALSE)","v":0},{"$f":"VLOOKUP($A34,Bilan!$A$8:$AY$57,35,FALSE)","v":0}]
[{"$f":"Données!$H32","v":"Maitresse de maison"}]
[{"$f":"Données!$H33","v":"N"},null,null,null,null,null,null,null,null,null,null,null,null,null,null,null,null,null,null,null,null,null,null,null,null,null,null,null,null,null,null,null,null,null,null,null,null,{"$f":"VLOOKUP($A36,BDecembre!$A$8:$AY$57,31,FALSE)","v":0},{"$f":"VLOOKUP($A36,BDecembre!$A$8:$AY$57,32,FALSE)","v":0},{"$f":"VLOOKUP($A36,BDecembre!$A$8:$AY$57,33,FALSE)","v":0},null,{"$f":"VLOOKUP($A36,BDecembre!$A$8:$AY$57,35,FALSE)","v":0},{"$f":"VLOOKUP($A36,Bilan!$A$8:$AY$57,35,FALSE)","v":0}]
[{"$f":"Données!$H34","v":0},null,null,null,null,null,null,null,null,null,null,null,null,null,null,null,null,null,null,null,null,null,null,null,null,null,null,null,null,null,null,null,null,null,null,null,null,{"$f":"VLOOKUP($A37,BDecembre!$A$8:$AY$57,31,FALSE)","v":0},{"$f":"VLOOKUP($A37,BDecembre!$A$8:$AY$57,32,FALSE)","v":0},{"$f":"VLOOKUP($A37,BDecembre!$A$8:$AY$57,33,FALSE)","v":0},null,{"$f":"VLOOKUP($A37,BDecembre!$A$8:$AY$57,35,FALSE)","v":0},{"$f":"VLOOKUP($A37,Bilan!$A$8:$AY$57,35,FALSE)","v":0}]
[{"$f":"Données!$H35","v":0},null,null,null,null,null,null,null,null,null,null,null,null,null,null,null,null,null,null,null,null,null,null,null,null,null,null,null,null,null,null,null,null,null,null,null,null,{"$f":"VLOOKUP($A38,BDecembre!$A$8:$AY$57,31,FALSE)","v":0},{"$f":"VLOOKUP($A38,BDecembre!$A$8:$AY$57,32,FALSE)","v":0},{"$f":"VLOOKUP($A38,BDecembre!$A$8:$AY$57,33,FALSE)","v":0},null,{"$f":"VLOOKUP($A38,BDecembre!$A$8:$AY$57,35,FALSE)","v":0},{"$f":"VLOOKUP($A38,Bilan!$A$8:$AY$57,35,FALSE)","v":0}]
[{"$f":"Données!$H36","v":0},null,null,null,null,null,null,null,null,null,null,null,null,null,null,null,null,null,null,null,null,null,null,null,null,null,null,null,null,null,null,null,null,null,null,null,null,{"$f":"VLOOKUP($A39,BDecembre!$A$8:$AY$57,31,FALSE)","v":0},{"$f":"VLOOKUP($A39,BDecembre!$A$8:$AY$57,32,FALSE)","v":0},{"$f":"VLOOKUP($A39,BDecembre!$A$8:$AY$57,33,FALSE)","v":0},null,{"$f":"VLOOKUP($A39,BDecembre!$A$8:$AY$57,35,FALSE)","v":0},{"$f":"VLOOKUP($A39,Bilan!$A$8:$AY$57,35,FALSE)","v":0}]
[{"$f":"Données!$H37","v":0},null,null,null,null,null,null,null,null,null,null,null,null,null,null,null,null,null,null,null,null,null,null,null,null,null,null,null,null,null,null,null,null,null,null,null,null,{"$f":"VLOOKUP($A40,BDecembre!$A$8:$AY$57,31,FALSE)","v":0},{"$f":"VLOOKUP($A40,BDecembre!$A$8:$AY$57,32,FALSE)","v":0},{"$f":"VLOOKUP($A40,BDecembre!$A$8:$AY$57,33,FALSE)","v":0},null,{"$f":"VLOOKUP($A40,BDecembre!$A$8:$AY$57,35,FALSE)","v":0},{"$f":"VLOOKUP($A40,Bilan!$A$8:$AY$57,35,FALSE)","v":0}]
[{"$f":"Données!$H38","v":0},null,null,null,null,null,null,null,null,null,null,null,null,null,null,null,null,null,null,null,null,null,null,null,null,null,null,null,null,null,null,null,null,null,null,null,null,{"$f":"VLOOKUP($A41,BDecembre!$A$8:$AY$57,31,FALSE)","v":0},{"$f":"VLOOKUP($A41,BDecembre!$A$8:$AY$57,32,FALSE)","v":0},{"$f":"VLOOKUP($A41,BDecembre!$A$8:$AY$57,33,FALSE)","v":0},null,{"$f":"VLOOKUP($A41,BDecembre!$A$8:$AY$57,35,FALSE)","v":0},{"$f":"VLOOKUP($A41,Bilan!$A$8:$AY$57,35,FALSE)","v":0}]
[{"$f":"Données!$H39","v":0},null,null,null,null,null,null,null,null,null,null,null,null,null,null,null,null,null,null,null,null,null,null,null,null,null,null,null,null,null,null,null,null,null,null,null,null,{"$f":"VLOOKUP($A42,BDecembre!$A$8:$AY$57,31,FALSE)","v":0},{"$f":"VLOOKUP($A42,BDecembre!$A$8:$AY$57,32,FALSE)","v":0},{"$f":"VLOOKUP($A42,BDecembre!$A$8:$AY$57,33,FALSE)","v":0},null,{"$f":"VLOOKUP($A42,BDecembre!$A$8:$AY$57,35,FALSE)","v":0},{"$f":"VLOOKUP($A42,Bilan!$A$8:$AY$57,35,FALSE)","v":0}]
[{"$f":"Données!$H40","v":0},null,null,null,null,null,null,null,null,null,null,null,null,null,null,null,null,null,null,null,null,null,null,null,null,null,null,null,null,null,null,null,null,null,null,null,null,{"$f":"VLOOKUP($A43,BDecembre!$A$8:$AY$57,31,FALSE)","v":0},{"$f":"VLOOKUP($A43,BDecembre!$A$8:$AY$57,32,FALSE)","v":0},{"$f":"VLOOKUP($A43,BDecembre!$A$8:$AY$57,33,FALSE)","v":0},null,{"$f":"VLOOKUP($A43,BDecembre!$A$8:$AY$57,35,FALSE)","v":0},{"$f":"VLOOKUP($A43,Bilan!$A$8:$AY$57,35,FALSE)","v":0}]
[{"$f":"Données!$H41","v":0},null,null,null,null,null,null,null,null,null,null,null,null,null,null,null,null,null,null,null,null,null,null,null,null,null,null,null,null,null,null,null,null,null,null,null,null,{"$f":"VLOOKUP($A44,BDecembre!$A$8:$AY$57,31,FALSE)","v":0},{"$f":"VLOOKUP($A44,BDecembre!$A$8:$AY$57,32,FALSE)","v":0},{"$f":"VLOOKUP($A44,BDecembre!$A$8:$AY$57,33,FALSE)","v":0},null,{"$f":"VLOOKUP($A44,BDecembre!$A$8:$AY$57,35,FALSE)","v":0},{"$f":"VLOOKUP($A44,Bilan!$A$8:$AY$57,35,FALSE)","v":0}]
[{"$f":"Données!$H42","v":"Psychologue"}]
[{"$f":"Données!$H43","v":"O"},null,null,null,null,null,null,null,null,null,null,null,null,null,null,null,null,null,null,null,null,null,null,null,null,null,null,null,null,null,null,null,null,null,null,null,null,{"$f":"VLOOKUP($A46,BDecembre!$A$8:$AY$57,31,FALSE)","v":0},{"$f":"VLOOKUP($A46,BDecembre!$A$8:$AY$57,32,FALSE)","v":0},{"$f":"VLOOKUP($A46,BDecembre!$A$8:$AY$57,33,FALSE)","v":0},null,{"$f":"VLOOKUP($A46,BDecembre!$A$8:$AY$57,35,FALSE)","v":0},{"$f":"VLOOKUP($A46,Bilan!$A$8:$AY$57,35,FALSE)","v":0}]
[{"$f":"Données!$H44","v":0},null,null,null,null,null,null,null,null,null,null,null,null,null,null,null,null,null,null,null,null,null,null,null,null,null,null,null,null,null,null,null,null,null,null,null,null,{"$f":"VLOOKUP($A47,BDecembre!$A$8:$AY$57,31,FALSE)","v":0},{"$f":"VLOOKUP($A47,BDecembre!$A$8:$AY$57,32,FALSE)","v":0},{"$f":"VLOOKUP($A47,BDecembre!$A$8:$AY$57,33,FALSE)","v":0},null,{"$f":"VLOOKUP($A47,BDecembre!$A$8:$AY$57,35,FALSE)","v":0},{"$f":"VLOOKUP($A47,Bilan!$A$8:$AY$57,35,FALSE)","v":0}]
[{"$f":"Données!$H45","v":0},null,null,null,null,null,null,null,null,null,null,null,null,null,null,null,null,null,null,null,null,null,null,null,null,null,null,null,null,null,null,null,null,null,null,null,null,{"$f":"VLOOKUP($A48,BDecembre!$A$8:$AY$57,31,FALSE)","v":0},{"$f":"VLOOKUP($A48,BDecembre!$A$8:$AY$57,32,FALSE)","v":0},{"$f":"VLOOKUP($A48,BDecembre!$A$8:$AY$57,33,FALSE)","v":0},null,{"$f":"VLOOKUP($A48,BDecembre!$A$8:$AY$57,35,FALSE)","v":0},{"$f":"VLOOKUP($A48,Bilan!$A$8:$AY$57,35,FALSE)","v":0}]
[{"$f":"Données!$H46","v":"Coordinatrice"}]
[{"$f":"Données!$H47","v":"P"},null,null,null,null,null,null,null,null,null,null,null,null,null,null,null,null,null,null,null,null,null,null,null,null,null,null,null,null,null,null,null,null,null,null,null,null,{"$f":"VLOOKUP($A50,BDecembre!$A$8:$AY$57,31,FALSE)","v":0},{"$f":"VLOOKUP($A50,BDecembre!$A$8:$AY$57,32,FALSE)","v":0},{"$f":"VLOOKUP($A50,BDecembre!$A$8:$AY$57,33,FALSE)","v":0},null,{"$f":"VLOOKUP($A50,BDecembre!$A$8:$AY$57,35,FALSE)","v":0},{"$f":"VLOOKUP($A50,Bilan!$A$8:$AY$57,35,FALSE)","v":0}]
[{"$f":"Données!$H48","v":0},null,null,null,null,null,null,null,null,null,null,null,null,null,null,null,null,null,null,null,null,null,null,null,null,null,null,null,null,null,null,null,null,null,null,null,null,{"$f":"VLOOKUP($A51,BDecembre!$A$8:$AY$57,31,FALSE)","v":0},{"$f":"VLOOKUP($A51,BDecembre!$A$8:$AY$57,32,FALSE)","v":0},{"$f":"VLOOKUP($A51,BDecembre!$A$8:$AY$57,33,FALSE)","v":0},null,{"$f":"VLOOKUP($A51,BDecembre!$A$8:$AY$57,35,FALSE)","v":0},{"$f":"VLOOKUP($A51,Bilan!$A$8:$AY$57,35,FALSE)","v":0}]
[{"$f":"Données!$H49","v":0},null,null,null,null,null,null,null,null,null,null,null,null,null,null,null,null,null,null,null,null,null,null,null,null,null,null,null,null,null,null,null,null,null,null,null,null,{"$f":"VLOOKUP($A52,BDecembre!$A$8:$AY$57,31,FALSE)","v":0},{"$f":"VLOOKUP($A52,BDecembre!$A$8:$AY$57,32,FALSE)","v":0},{"$f":"VLOOKUP($A52,BDecembre!$A$8:$AY$57,33,FALSE)","v":0},null,{"$f":"VLOOKUP($A52,BDecembre!$A$8:$AY$57,35,FALSE)","v":0},{"$f":"VLOOKUP($A52,Bilan!$A$8:$AY$57,35,FALSE)","v":0}]
[{"$f":"Données!$H50","v":0},null,null,null,null,null,null,null,null,null,null,null,null,null,null,null,null,null,null,null,null,null,null,null,null,null,null,null,null,null,null,null,null,null,null,null,null,{"$f":"VLOOKUP($A53,BDecembre!$A$8:$AY$57,31,FALSE)","v":0},{"$f":"VLOOKUP($A53,BDecembre!$A$8:$AY$57,32,FALSE)","v":0},{"$f":"VLOOKUP($A53,BDecembre!$A$8:$AY$57,33,FALSE)","v":0},null,{"$f":"VLOOKUP($A53,BDecembre!$A$8:$AY$57,35,FALSE)","v":0},{"$f":"VLOOKUP($A53,Bilan!$A$8:$AY$57,35,FALSE)","v":0}]
[{"$f":"Données!$H51","v":0},null,null,null,null,null,null,null,null,null,null,null,null,null,null,null,null,null,null,null,null,null,null,null,null,null,null,null,null,null,null,null,null,null,null,null,null,{"$f":"VLOOKUP($A54,BDecembre!$A$8:$AY$57,31,FALSE)","v":0},{"$f":"VLOOKUP($A54,BDecembre!$A$8:$AY$57,32,FALSE)","v":0},{"$f":"VLOOKUP($A54,BDecembre!$A$8:$AY$57,33,FALSE)","v":0},null,{"$f":"VLOOKUP($A54,BDecembre!$A$8:$AY$57,35,FALSE)","v":0},{"$f":"VLOOKUP($A54,Bilan!$A$8:$AY$57,35,FALSE)","v":0}]
[{"$f":"Données!$H52","v":"Chef de service"}]
[{"$f":"Données!$H53","v":"Q"},null,null,null,null,null,null,null,null,null,null,null,null,null,null,null,null,null,null,null,null,null,null,null,null,null,null,null,null,null,null,null,null,null,null,null,null,{"$f":"VLOOKUP($A56,BDecembre!$A$8:$AY$57,31,FALSE)","v":0},{"$f":"VLOOKUP($A56,BDecembre!$A$8:$AY$57,32,FALSE)","v":0},{"$f":"VLOOKUP($A56,BDecembre!$A$8:$AY$57,33,FALSE)","v":0},null,{"$f":"VLOOKUP($A56,BDecembre!$A$8:$AY$57,35,FALSE)","v":0},{"$f":"VLOOKUP($A56,Bilan!$A$8:$AY$57,35,FALSE)","v":0}]
[]
[null,{"$f":"Données!$A3","v":"M"}," =",{"$f":"IF(ISBLANK(Données!$C3),TEXT(Données!$B3,\"hh:mm\"),TEXT(Données!$B3,\"hh:mm\")&\" : \"&TEXT(Données!$C3,\"hh:mm\"))","v":"07:00 : 14:35"},null,null,null,{"$f":"Données!$A7","v":"R"}," =",{"$f":"IF(ISBLANK(Données!$C7),TEXT(Données!$B7,\"hh:mm\"),TEXT(Données!$B7,\"hh:mm\")&\" : \"&TEXT(Données!$C7,\"hh:mm\"))","v":"10:00 : 12:00"},null,null,null,{"$f":"Données!$A10","v":"W"}," =",{"$f":"IF(ISBLANK(Données!$C10),TEXT(Données!$B10,\"hh:mm\"),TEXT(Données!$B10,\"hh:mm\")&\" : \"&TEXT(Données!$C10,\"hh:mm\"))","v":"07:30 : 19:15"},null,null,null,{"$f":"Données!$A14","v":"N"}," =",{"$f":"IF(ISBLANK(Données!$C14),TEXT(Données!$B14,\"hh:mm\"),TEXT(Données!$B14,\"hh:mm\")&\" : \"&TEXT(Données!$C14,\"hh:mm\"))","v":"20:30 : 07:15"},null,null,null,{"$f":"Données!$A18","v":"F"}," =",{"$f":"IF(ISBLANK(Données!$C18),TEXT(Données!$B18,\"hh:mm\"),TEXT(Données!$B18,\"hh:mm\")&\" : \"&TEXT(Données!$C18,\"hh:mm\"))","v":"F"}]
[null,{"$f":"Données!$A4","v":"MG"}," =",{"$f":"IF(ISBLANK(Données!$C4),TEXT(Données!$B4,\"hh:mm\"),TEXT(Données!$B4,\"hh:mm\")&\" : \"&TEXT(Données!$C4,\"hh:mm\"))","v":"23:00 : 01:35"},null,null,null,{"$f":"Données!$A8","v":"RS"}," =",{"$f":"IF(ISBLANK(Données!$C8),TEXT(Données!$B8,\"hh:mm\"),TEXT(Données!$B8,\"hh:mm\")&\" : \"&TEXT(Données!$C8,\"hh:mm\"))","v":"10:00 : 21:30"},null,null,null,{"$f":"Données!$A11","v":"W+"}," =",{"$f":"IF(ISBLANK(Données!$C11),TEXT(Données!$B11,\"hh:mm\"),TEXT(Données!$B11,\"hh:mm\")&\" : \"&TEXT(Données!$C11,\"hh:mm\"))","v":"10:00 : 21:30"},null,null,null,{"$f":"Données!$A15","v":"N+"}," =",{"$f":"IF(ISBLANK(Données!$C15),TEXT(Données!$B15,\"hh:mm\"),TEXT(Données!$B15,\"hh:mm\")&\" : \"&TEXT(Données!$C15,\"hh:mm\"))","v":"19:15 : 07:15"},null,null,null,{"$f":"Données!$A19","v":"SYN"}," =",{"$f":"IF(ISBLANK(Données!$C19),TEXT(Données!$B19,\"hh:mm\"),TEXT(Données!$B19,\"hh:mm\")&\" : \"&TEXT(Données!$C19,\"hh:mm\"))","v":"Syn"}]
[null,{"$f":"Données!$A5","v":"J"}," =",{"$f":"IF(ISBLANK(Données!$C5),TEXT(Données!$B5,\"hh:mm\"),TEXT(Données!$B5,\"hh:mm\")&\" : \"&TEXT(Données!$C5,\"hh:mm\"))","v":"10:00 : 17:30"},null,null,null,{"$f":"Données!$A9","v":"S"}," =",{"$f":"IF(ISBLANK(Données!$C9),TEXT(Données!$B9,\"hh:mm\"),TEXT(Données!$B9,\"hh:mm\")&\" : \"&TEXT(Données!$C9,\"hh:mm\"))","v":"14:00 : 21:30"},null,null,null,{"$f":"Données!$A12","v":"WD"}," =",{"$f":"IF(ISBLANK(Données!$C12),TEXT(Données!$B12,\"hh:mm\"),TEXT(Données!$B12,\"hh:mm\")&\" : \"&TEXT(Données!$C12,\"hh:mm\"))","v":"07:00 : 19:15"},null,null,null,{"$f":"Données!$A16","v":"NS"}," =",{"$f":"IF(ISBLANK(Données!$C16),TEXT(Données!$B16,\"hh:mm\"),TEXT(Données!$B16,\"hh:mm\")&\" : \"&TEXT(Données!$C16,\"hh:mm\"))","v":"19:15 : 07:15"},null,null,null,{"$f":"Données!$A20","v":"AT"}," =",{"$f":"IF(ISBLANK(Données!$C20),TEXT(Données!$B20,\"hh:mm\"),TEXT(Données!$B20,\"hh:mm\")&\" : \"&TEXT(Données!$C20,\"hh:mm\"))","v":"AT"}]
[null,{"$f":"Données!$A6","v":"J+"}," =",{"$f":"IF(ISBLANK(Données!$C6),TEXT(Données!$B6,\"hh:mm\"),TEXT(Données!$B6,\"hh:mm\")&\" : \"&TEXT(Données!$C6,\"hh:mm\"))","v":"11:30 : 19:15"},null,null,null,{"$f":"Données!$A10","v":"W"}," =",{"$f":"IF(ISBLANK(Données!$C10),TEXT(Données!$B10,\"hh:mm\"),TEXT(Données!$B10,\"hh:mm\")&\" : \"&TEXT(Données!$C10,\"hh:mm\"))","v":"07:30 : 19:15"},null,null,null,{"$f":"Données!$A13","v":"WF"}," =",{"$f":"IF(ISBLANK(Données!$C13),TEXT(Données!$B13,\"hh:mm\"),TEXT(Données!$B13,\"hh:mm\")&\" : \"&TEXT(Données!$C13,\"hh:mm\"))","v":"07:00 : 19:15"},null,null,null,{"$f":"Données!$A17","v":"T"}," =",{"$f":"IF(ISBLANK(Données!$C17),TEXT(Données!$B17,\"hh:mm\"),TEXT(Données!$B17,\"hh:mm\")&\" : \"&TEXT(Données!$C17,\"hh:mm\"))","v":"T"},null,null,null,{"$f":"Données!$A21","v":"AM"}," =",{"$f":"IF(ISBLANK(Données!$C21),TEXT(Données!$B21,\"hh:mm\"),TEXT(Données!$B21,\"hh:mm\")&\" : \"&TEXT(Données!$C21,\"hh:mm\"))","v":"AM"}]

{"sheet":"HJanvier","index":14,"n_rows":56,"n_cols":32,"rows_kept":56,"cut":false,"hidden":false,"merged":[[0,4,0,5]]}
[null,null,null,"Mois de","Janvier",null,null,null,{"$f":"An","v":2018}]
[null,{"$f":"DATE(An,Janvier,B7)","v":"2018-01-01"},"2018-01-02","2018-01-03","2018-01-04","2018-01-05","2018-01-06","2018-01-07","2018-01-08","2018-01-09","2018-01-10","2018-01-11","2018-01-12","2018-01-13","2018-01-14","2018-01-15","2018-01-16","2018-01-17","2018-01-18","2018-01-19","2018-01-20","2018-01-21","2018-01-22","2018-01-23","2018-01-24","2018-01-25","2018-01-26","2018-01-27","2018-01-28","2018-01-29","2018-01-30","2018-01-31"]
[{"$f":"IF(Données!$L$5=\"\",\"Service\",Données!$L$5)","v":"Service"}]
[]
[]
["Jours",{"$f":"PROPER(TEXT(DATE(An,Janvier,B$7),\"jjjjjj\"))","v":"Lundi"},{"$f":"PROPER(TEXT(DATE(An,Janvier,C$7),\"jjjjjj\"))","v":"Mardi"},{"$f":"PROPER(TEXT(DATE(An,Janvier,D$7),\"jjjjjj\"))","v":"Mercredi"},"Jeudi","Vendredi","Samedi","Dimanche","Lundi","Mardi","Mercredi","Jeudi","Vendredi","Samedi","Dimanche","Lundi","Mardi","Mercredi","Jeudi","Vendredi","Samedi","Dimanche","Lundi","Mardi","Mercredi","Jeudi","Vendredi","Samedi","Dimanche","Lundi","Mardi","Mercredi"]
[null,1,{"$f":"B7+1","v":2},{"$f":"C7+1","v":3},4,5,6,7,8,9,10,11,12,13,14,15,16,17,18,19,20,21,22,23,24,25,26,{"$f":"AA7+1","v":27},{"$f":"AB7+1","v":28},{"$f":"AC7+1","v":29},{"$f":"AD7+1","v":30},{"$f":"AE7+1","v":31}]
["Equipe de jour"]
[{"$f":"Données!$H6","v":"A"},{"$f":"hjanvier","v":""},{"$f":"hjanvier","v":""},{"$f":"hjanvier","v":""},{"$f":"hjanvier","v":""},{"$f":"hjanvier","v":""},{"$f":"hjanvier","v":""},{"$f":"hjanvier","v":""},{"$f":"hjanvier","v":""},{"$f":"hjanvier","v":""},{"$f":"hjanvier","v":""},{"$f":"hjanvier","v":""},{"$f":"hjanvier","v":""},{"$f":"hjanvier","v":""},{"$f":"hjanvier","v":""},{"$f":"hjanvier","v":""},{"$f":"hjanvier","v":""},{"$f":"hjanvier","v":""},{"$f":"hjanvier","v":""},{"$f":"hjanvier","v":""},{"$f":"hjanvier","v":""},{"$f":"hjanvier","v":""},{"$f":"hjanvier","v":""},{"$f":"hjanvier","v":""},{"$f":"hjanvier","v":""},{"$f":"hjanvier","v":""},{"$f":"hjanvier","v":""},{"$f":"hjanvier","v":""},{"$f":"hjanvier","v":""},{"$f":"hjanvier","v":""},{"$f":"hjanvier","v":""},{"$f":"hjanvier","v":""}]
[{"$f":"Données!$H7","v":0},{"$f":"hjanvier","v":""},{"$f":"hjanvier","v":""},{"$f":"hjanvier","v":""},{"$f":"hjanvier","v":""},{"$f":"hjanvier","v":""},{"$f":"hjanvier","v":""},{"$f":"hjanvier","v":""},{"$f":"hjanvier","v":""},{"$f":"hjanvier","v":""},{"$f":"hjanvier","v":""},{"$f":"hjanvier","v":""},{"$f":"hjanvier","v":""},{"$f":"hjanvier","v":""},{"$f":"hjanvier","v":""},{"$f":"hjanvier","v":""},{"$f":"hjanvier","v":""},{"$f":"hjanvier","v":""},{"$f":"hjanvier","v":""},{"$f":"hjanvier","v":""},{"$f":"hjanvier","v":""},{"$f":"hjanvier","v":""},{"$f":"hjanvier","v":""},{"$f":"hjanvier","v":""},{"$f":"hjanvier","v":""},{"$f":"hjanvier","v":""},{"$f":"hjanvier","v":""},{"$f":"hjanvier","v":""},{"$f":"hjanvier","v":""},{"$f":"hjanvier","v":""},{"$f":"hjanvier","v":""},{"$f":"hjanvier","v":""}]
[{"$f":"Données!$H8","v":0},{"$f":"hjanvier","v":""},{"$f":"hjanvier","v":""},{"$f":"hjanvier","v":""},{"$f":"hjanvier","v":""},{"$f":"hjanvier","v":""},{"$f":"hjanvier","v":""},{"$f":"hjanvier","v":""},{"$f":"hjanvier","v":""},{"$f":"hjanvier","v":""},{"$f":"hjanvier","v":""},{"$f":"hjanvier","v":""},{"$f":"hjanvier","v":""},{"$f":"hjanvier","v":""},{"$f":"hjanvier","v":""},{"$f":"hjanvier","v":""},{"$f":"hjanvier","v":""},{"$f":"hjanvier","v":""},{"$f":"hjanvier","v":""},{"$f":"hjanvier","v":""},{"$f":"hjanvier","v":""},{"$f":"hjanvier","v":""},{"$f":"hjanvier","v":""},{"$f":"hjanvier","v":""},{"$f":"hjanvier","v":""},{"$f":"hjanvier","v":""},{"$f":"hjanvier","v":""},{"$f":"hjanvier","v":""},{"$f":"hjanvier","v":""},{"$f":"hjanvier","v":""},{"$f":"hjanvier","v":""},{"$f":"hjanvier","v":""}]
[{"$f":"Données!$H9","v":0},{"$f":"hjanvier","v":""},{"$f":"hjanvier","v":""},{"$f":"hjanvier","v":""},{"$f":"hjanvier","v":""},{"$f":"hjanvier","v":""},{"$f":"hjanvier","v":""},{"$f":"hjanvier","v":""},{"$f":"hjanvier","v":""},{"$f":"hjanvier","v":""},{"$f":"hjanvier","v":""},{"$f":"hjanvier","v":""},{"$f":"hjanvier","v":""},{"$f":"hjanvier","v":""},{"$f":"hjanvier","v":""},{"$f":"hjanvier","v":""},{"$f":"hjanvier","v":""},{"$f":"hjanvier","v":""},{"$f":"hjanvier","v":""},{"$f":"hjanvier","v":""},{"$f":"hjanvier","v":""},{"$f":"hjanvier","v":""},{"$f":"hjanvier","v":""},{"$f":"hjanvier","v":""},{"$f":"hjanvier","v":""},{"$f":"hjanvier","v":""},{"$f":"hjanvier","v":""},{"$f":"hjanvier","v":""},{"$f":"hjanvier","v":""},{"$f":"hjanvier","v":""},{"$f":"hjanvier","v":""},{"$f":"hjanvier","v":""}]
[{"$f":"Données!$H10","v":0},{"$f":"hjanvier","v":""},{"$f":"hjanvier","v":""},{"$f":"hjanvier","v":""},{"$f":"hjanvier","v":""},{"$f":"hjanvier","v":""},{"$f":"hjanvier","v":""},{"$f":"hjanvier","v":""},{"$f":"hjanvier","v":""},{"$f":"hjanvier","v":""},{"$f":"hjanvier","v":""},{"$f":"hjanvier","v":""},{"$f":"hjanvier","v":""},{"$f":"hjanvier","v":""},{"$f":"hjanvier","v":""},{"$f":"hjanvier","v":""},{"$f":"hjanvier","v":""},{"$f":"hjanvier","v":""},{"$f":"hjanvier","v":""},{"$f":"hjanvier","v":""},{"$f":"hjanvier","v":""},{"$f":"hjanvier","v":""},{"$f":"hjanvier","v":""},{"$f":"hjanvier","v":""},{"$f":"hjanvier","v":""},{"$f":"hjanvier","v":""},{"$f":"hjanvier","v":""},{"$f":"hjanvier","v":""},{"$f":"hjanvier","v":""},{"$f":"hjanvier","v":""},{"$f":"hjanvier","v":""},{"$f":"hjanvier","v":""}]
[{"$f":"Données!$H11","v":0},{"$f":"hjanvier","v":""},{"$f":"hjanvier","v":""},{"$f":"hjanvier","v":""},{"$f":"hjanvier","v":""},{"$f":"hjanvier","v":""},{"$f":"hjanvier","v":""},{"$f":"hjanvier","v":""},{"$f":"hjanvier","v":""},{"$f":"hjanvier","v":""},{"$f":"hjanvier","v":""},{"$f":"hjanvier","v":""},{"$f":"hjanvier","v":""},{"$f":"hjanvier","v":""},{"$f":"hjanvier","v":""},{"$f":"hjanvier","v":""},{"$f":"hjanvier","v":""},{"$f":"hjanvier","v":""},{"$f":"hjanvier","v":""},{"$f":"hjanvier","v":""},{"$f":"hjanvier","v":""},{"$f":"hjanvier","v":""},{"$f":"hjanvier","v":""},{"$f":"hjanvier","v":""},{"$f":"hjanvier","v":""},{"$f":"hjanvier","v":""},{"$f":"hjanvier","v":""},{"$f":"hjanvier","v":""},{"$f":"hjanvier","v":""},{"$f":"hjanvier","v":""},{"$f":"hjanvier","v":""},{"$f":"hjanvier","v":""}]
[{"$f":"Données!$H12","v":0},{"$f":"hjanvier","v":""},{"$f":"hjanvier","v":""},{"$f":"hjanvier","v":""},{"$f":"hjanvier","v":""},{"$f":"hjanvier","v":""},{"$f":"hjanvier","v":""},{"$f":"hjanvier","v":""},{"$f":"hjanvier","v":""},{"$f":"hjanvier","v":""},{"$f":"hjanvier","v":""},{"$f":"hjanvier","v":""},{"$f":"hjanvier","v":""},{"$f":"hjanvier","v":""},{"$f":"hjanvier","v":""},{"$f":"hjanvier","v":""},{"$f":"hjanvier","v":""},{"$f":"hjanvier","v":""},{"$f":"hjanvier","v":""},{"$f":"hjanvier","v":""},{"$f":"hjanvier","v":""},{"$f":"hjanvier","v":""},{"$f":"hjanvier","v":""},{"$f":"hjanvier","v":""},{"$f":"hjanvier","v":""},{"$f":"hjanvier","v":""},{"$f":"hjanvier","v":""},{"$f":"hjanvier","v":""},{"$f":"hjanvier","v":""},{"$f":"hjanvier","v":""},{"$f":"hjanvier","v":""},{"$f":"hjanvier","v":""}]
[{"$f":"Données!$H13","v":0},{"$f":"hjanvier","v":""},{"$f":"hjanvier","v":""},{"$f":"hjanvier","v":""},{"$f":"hjanvier","v":""},{"$f":"hjanvier","v":""},{"$f":"hjanvier","v":""},{"$f":"hjanvier","v":""},{"$f":"hjanvier","v":""},{"$f":"hjanvier","v":""},{"$f":"hjanvier","v":""},{"$f":"hjanvier","v":""},{"$f":"hjanvier","v":""},{"$f":"hjanvier","v":""},{"$f":"hjanvier","v":""},{"$f":"hjanvier","v":""},{"$f":"hjanvier","v":""},{"$f":"hjanvier","v":""},{"$f":"hjanvier","v":""},{"$f":"hjanvier","v":""},{"$f":"hjanvier","v":""},{"$f":"hjanvier","v":""},{"$f":"hjanvier","v":""},{"$f":"hjanvier","v":""},{"$f":"hjanvier","v":""},{"$f":"hjanvier","v":""},{"$f":"hjanvier","v":""},{"$f":"hjanvier","v":""},{"$f":"hjanvier","v":""},{"$f":"hjanvier","v":""},{"$f":"hjanvier","v":""},{"$f":"hjanvier","v":""}]
[{"$f":"Données!$H14","v":0},{"$f":"hjanvier","v":""},{"$f":"hjanvier","v":""},{"$f":"hjanvier","v":""},{"$f":"hjanvier","v":""},{"$f":"hjanvier","v":""},{"$f":"hjanvier","v":""},{"$f":"hjanvier","v":""},{"$f":"hjanvier","v":""},{"$f":"hjanvier","v":""},{"$f":"hjanvier","v":""},{"$f":"hjanvier","v":""},{"$f":"hjanvier","v":""},{"$f":"hjanvier","v":""},{"$f":"hjanvier","v":""},{"$f":"hjanvier","v":""},{"$f":"hjanvier","v":""},{"$f":"hjanvier","v":""},{"$f":"hjanvier","v":""},{"$f":"hjanvier","v":""},{"$f":"hjanvier","v":""},{"$f":"hjanvier","v":""},{"$f":"hjanvier","v":""},{"$f":"hjanvier","v":""},{"$f":"hjanvier","v":""},{"$f":"hjanvier","v":""},{"$f":"hjanvier","v":""},{"$f":"hjanvier","v":""},{"$f":"hjanvier","v":""},{"$f":"hjanvier","v":""},{"$f":"hjanvier","v":""},{"$f":"hjanvier","v":""}]
[{"$f":"Données!$H15","v":0},{"$f":"hjanvier","v":""},{"$f":"hjanvier","v":""},{"$f":"hjanvier","v":""},{"$f":"hjanvier","v":""},{"$f":"hjanvier","v":""},{"$f":"hjanvier","v":""},{"$f":"hjanvier","v":""},{"$f":"hjanvier","v":""},{"$f":"hjanvier","v":""},{"$f":"hjanvier","v":""},{"$f":"hjanvier","v":""},{"$f":"hjanvier","v":""},{"$f":"hjanvier","v":""},{"$f":"hjanvier","v":""},{"$f":"hjanvier","v":""},{"$f":"hjanvier","v":""},{"$f":"hjanvier","v":""},{"$f":"hjanvier","v":""},{"$f":"hjanvier","v":""},{"$f":"hjanvier","v":""},{"$f":"hjanvier","v":""},{"$f":"hjanvier","v":""},{"$f":"hjanvier","v":""},{"$f":"hjanvier","v":""},{"$f":"hjanvier","v":""},{"$f":"hjanvier","v":""},{"$f":"hjanvier","v":""},{"$f":"hjanvier","v":""},{"$f":"hjanvier","v":""},{"$f":"hjanvier","v":""},{"$f":"hjanvier","v":""}]
[{"$f":"Données!$H16","v":0},{"$f":"hjanvier","v":""},{"$f":"hjanvier","v":""},{"$f":"hjanvier","v":""},{"$f":"hjanvier","v":""},{"$f":"hjanvier","v":""},{"$f":"hjanvier","v":""},{"$f":"hjanvier","v":""},{"$f":"hjanvier","v":""},{"$f":"hjanvier","v":""},{"$f":"hjanvier","v":""},{"$f":"hjanvier","v":""},{"$f":"hjanvier","v":""},{"$f":"hjanvier","v":""},{"$f":"hjanvier","v":""},{"$f":"hjanvier","v":""},{"$f":"hjanvier","v":""},{"$f":"hjanvier","v":""},{"$f":"hjanvier","v":""},{"$f":"hjanvier","v":""},{"$f":"hjanvier","v":""},{"$f":"hjanvier","v":""},{"$f":"hjanvier","v":""},{"$f":"hjanvier","v":""},{"$f":"hjanvier","v":""},{"$f":"hjanvier","v":""},{"$f":"hjanvier","v":""},{"$f":"hjanvier","v":""},{"$f":"hjanvier","v":""},{"$f":"hjanvier","v":""},{"$f":"hjanvier","v":""},{"$f":"hjanvier","v":""}]
[{"$f":"Données!$H17","v":0},{"$f":"hjanvier","v":""},{"$f":"hjanvier","v":""},{"$f":"hjanvier","v":""},{"$f":"hjanvier","v":""},{"$f":"hjanvier","v":""},{"$f":"hjanvier","v":""},{"$f":"hjanvier","v":""},{"$f":"hjanvier","v":""},{"$f":"hjanvier","v":""},{"$f":"hjanvier","v":""},{"$f":"hjanvier","v":""},{"$f":"hjanvier","v":""},{"$f":"hjanvier","v":""},{"$f":"hjanvier","v":""},{"$f":"hjanvier","v":""},{"$f":"hjanvier","v":""},{"$f":"hjanvier","v":""},{"$f":"hjanvier","v":""},{"$f":"hjanvier","v":""},{"$f":"hjanvier","v":""},{"$f":"hjanvier","v":""},{"$f":"hjanvier","v":""},{"$f":"hjanvier","v":""},{"$f":"hjanvier","v":""},{"$f":"hjanvier","v":""},{"$f":"hjanvier","v":""},{"$f":"hjanvier","v":""},{"$f":"hjanvier","v":""},{"$f":"hjanvier","v":""},{"$f":"hjanvier","v":""},{"$f":"hjanvier","v":""}]
[{"$f":"Données!$H18","v":0},{"$f":"hjanvier","v":""},{"$f":"hjanvier","v":""},{"$f":"hjanvier","v":""},{"$f":"hjanvier","v":""},{"$f":"hjanvier","v":""},{"$f":"hjanvier","v":""},{"$f":"hjanvier","v":""},{"$f":"hjanvier","v":""},{"$f":"hjanvier","v":""},{"$f":"hjanvier","v":""},{"$f":"hjanvier","v":""},{"$f":"hjanvier","v":""},{"$f":"hjanvier","v":""},{"$f":"hjanvier","v":""},{"$f":"hjanvier","v":""},{"$f":"hjanvier","v":""},{"$f":"hjanvier","v":""},{"$f":"hjanvier","v":""},{"$f":"hjanvier","v":""},{"$f":"hjanvier","v":""},{"$f":"hjanvier","v":""},{"$f":"hjanvier","v":""},{"$f":"hjanvier","v":""},{"$f":"hjanvier","v":""},{"$f":"hjanvier","v":""},{"$f":"hjanvier","v":""},{"$f":"hjanvier","v":""},{"$f":"hjanvier","v":""},{"$f":"hjanvier","v":""},{"$f":"hjanvier","v":""},{"$f":"hjanvier","v":""}]
[{"$f":"Données!$H19","v":0},{"$f":"hjanvier","v":""},{"$f":"hjanvier","v":""},{"$f":"hjanvier","v":""},{"$f":"hjanvier","v":""},{"$f":"hjanvier","v":""},{"$f":"hjanvier","v":""},{"$f":"hjanvier","v":""},{"$f":"hjanvier","v":""},{"$f":"hjanvier","v":""},{"$f":"hjanvier","v":""},{"$f":"hjanvier","v":""},{"$f":"hjanvier","v":""},{"$f":"hjanvier","v":""},{"$f":"hjanvier","v":""},{"$f":"hjanvier","v":""},{"$f":"hjanvier","v":""},{"$f":"hjanvier","v":""},{"$f":"hjanvier","v":""},{"$f":"hjanvier","v":""},{"$f":"hjanvier","v":""},{"$f":"hjanvier","v":""},{"$f":"hjanvier","v":""},{"$f":"hjanvier","v":""},{"$f":"hjanvier","v":""},{"$f":"hjanvier","v":""},{"$f":"hjanvier","v":""},{"$f":"hjanvier","v":""},{"$f":"hjanvier","v":""},{"$f":"hjanvier","v":""},{"$f":"hjanvier","v":""},{"$f":"hjanvier","v":""}]
[{"$f":"Données!$H20","v":0},{"$f":"hjanvier","v":""},{"$f":"hjanvier","v":""},{"$f":"hjanvier","v":""},{"$f":"hjanvier","v":""},{"$f":"hjanvier","v":""},{"$f":"hjanvier","v":""},{"$f":"hjanvier","v":""},{"$f":"hjanvier","v":""},{"$f":"hjanvier","v":""},{"$f":"hjanvier","v":""},{"$f":"hjanvier","v":""},{"$f":"hjanvier","v":""},{"$f":"hjanvier","v":""},{"$f":"hjanvier","v":""},{"$f":"hjanvier","v":""},{"$f":"hjanvier","v":""},{"$f":"hjanvier","v":""},{"$f":"hjanvier","v":""},{"$f":"hjanvier","v":""},{"$f":"hjanvier","v":""},{"$f":"hjanvier","v":""},{"$f":"hjanvier","v":""},{"$f":"hjanvier","v":""},{"$f":"hjanvier","v":""},{"$f":"hjanvier","v":""},{"$f":"hjanvier","v":""},{"$f":"hjanvier","v":""},{"$f":"hjanvier","v":""},{"$f":"hjanvier","v":""},{"$f":"hjanvier","v":""},{"$f":"hjanvier","v":""}]
[{"$f":"Données!$H21","v":0},{"$f":"hjanvier","v":""},{"$f":"hjanvier","v":""},{"$f":"hjanvier","v":""},{"$f":"hjanvier","v":""},{"$f":"hjanvier","v":""},{"$f":"hjanvier","v":""},{"$f":"hjanvier","v":""},{"$f":"hjanvier","v":""},{"$f":"hjanvier","v":""},{"$f":"hjanvier","v":""},{"$f":"hjanvier","v":""},{"$f":"hjanvier","v":""},{"$f":"hjanvier","v":""},{"$f":"hjanvier","v":""},{"$f":"hjanvier","v":""},{"$f":"hjanvier","v":""},{"$f":"hjanvier","v":""},{"$f":"hjanvier","v":""},{"$f":"hjanvier","v":""},{"$f":"hjanvier","v":""},{"$f":"hjanvier","v":""},{"$f":"hjanvier","v":""},{"$f":"hjanvier","v":""},{"$f":"hjanvier","v":""},{"$f":"hjanvier","v":""},{"$f":"hjanvier","v":""},{"$f":"hjanvier","v":""},{"$f":"hjanvier","v":""},{"$f":"hjanvier","v":""},{"$f":"hjanvier","v":""},{"$f":"hjanvier","v":""}]
[{"$f":"Données!$H22","v":"Equipe de nuit"}]
[{"$f":"Données!$H23","v":"K"},{"$f":"hjanvier","v":""},{"$f":"hjanvier","v":""},{"$f":"hjanvier","v":""},{"$f":"hjanvier","v":""},{"$f":"hjanvier","v":""},{"$f":"hjanvier","v":""},{"$f":"hjanvier","v":""},{"$f":"hjanvier","v":""},{"$f":"hjanvier","v":""},{"$f":"hjanvier","v":""},{"$f":"hjanvier","v":""},{"$f":"hjanvier","v":""},{"$f":"hjanvier","v":""},{"$f":"hjanvier","v":""},{"$f":"hjanvier","v":""},{"$f":"hjanvier","v":""},{"$f":"hjanvier","v":""},{"$f":"hjanvier","v":""},{"$f":"hjanvier","v":""},{"$f":"hjanvier","v":""},{"$f":"hjanvier","v":""},{"$f":"hjanvier","v":""},{"$f":"hjanvier","v":""},{"$f":"hjanvier","v":""},{"$f":"hjanvier","v":""},{"$f":"hjanvier","v":""},{"$f":"hjanvier","v":""},{"$f":"hjanvier","v":""},{"$f":"hjanvier","v":""},{"$f":"hjanvier","v":""},{"$f":"hjanvier","v":""}]
[{"$f":"Données!$H24","v":0},{"$f":"hjanvier","v":""},{"$f":"hjanvier","v":""},{"$f":"hjanvier","v":""},{"$f":"hjanvier","v":""},{"$f":"hjanvier","v":""},{"$f":"hjanvier","v":""},{"$f":"hjanvier","v":""},{"$f":"hjanvier","v":""},{"$f":"hjanvier","v":""},{"$f":"hjanvier","v":""},{"$f":"hjanvier","v":""},{"$f":"hjanvier","v":""},{"$f":"hjanvier","v":""},{"$f":"hjanvier","v":""},{"$f":"hjanvier","v":""},{"$f":"hjanvier","v":""},{"$f":"hjanvier","v":""},{"$f":"hjanvier","v":""},{"$f":"hjanvier","v":""},{"$f":"hjanvier","v":""},{"$f":"hjanvier","v":""},{"$f":"hjanvier","v":""},{"$f":"hjanvier","v":""},{"$f":"hjanvier","v":""},{"$f":"hjanvier","v":""},{"$f":"hjanvier","v":""},{"$f":"hjanvier","v":""},{"$f":"hjanvier","v":""},{"$f":"hjanvier","v":""},{"$f":"hjanvier","v":""},{"$f":"hjanvier","v":""}]
[{"$f":"Données!$H25","v":0},{"$f":"hjanvier","v":""},{"$f":"hjanvier","v":""},{"$f":"hjanvier","v":""},{"$f":"hjanvier","v":""},{"$f":"hjanvier","v":""},{"$f":"hjanvier","v":""},{"$f":"hjanvier","v":""},{"$f":"hjanvier","v":""},{"$f":"hjanvier","v":""},{"$f":"hjanvier","v":""},{"$f":"hjanvier","v":""},{"$f":"hjanvier","v":""},{"$f":"hjanvier","v":""},{"$f":"hjanvier","v":""},{"$f":"hjanvier","v":""},{"$f":"hjanvier","v":""},{"$f":"hjanvier","v":""},{"$f":"hjanvier","v":""},{"$f":"hjanvier","v":""},{"$f":"hjanvier","v":""},{"$f":"hjanvier","v":""},{"$f":"hjanvier","v":""},{"$f":"hjanvier","v":""},{"$f":"hjanvier","v":""},{"$f":"hjanvier","v":""},{"$f":"hjanvier","v":""},{"$f":"hjanvier","v":""},{"$f":"hjanvier","v":""},{"$f":"hjanvier","v":""},{"$f":"hjanvier","v":""},{"$f":"hjanvier","v":""}]
[{"$f":"Données!$H26","v":0},{"$f":"hjanvier","v":""},{"$f":"hjanvier","v":""},{"$f":"hjanvier","v":""},{"$f":"hjanvier","v":""},{"$f":"hjanvier","v":""},{"$f":"hjanvier","v":""},{"$f":"hjanvier","v":""},{"$f":"hjanvier","v":""},{"$f":"hjanvier","v":""},{"$f":"hjanvier","v":""},{"$f":"hjanvier","v":""},{"$f":"hjanvier","v":""},{"$f":"hjanvier","v":""},{"$f":"hjanvier","v":""},{"$f":"hjanvier","v":""},{"$f":"hjanvier","v":""},{"$f":"hjanvier","v":""},{"$f":"hjanvier","v":""},{"$f":"hjanvier","v":""},{"$f":"hjanvier","v":""},{"$f":"hjanvier","v":""},{"$f":"hjanvier","v":""},{"$f":"hjanvier","v":""},{"$f":"hjanvier","v":""},{"$f":"hjanvier","v":""},{"$f":"hjanvier","v":""},{"$f":"hjanvier","v":""},{"$f":"hjanvier","v":""},{"$f":"hjanvier","v":""},{"$f":"hjanvier","v":""},{"$f":"hjanvier","v":""}]
[{"$f":"Données!$H27","v":0},{"$f":"hjanvier","v":""},{"$f":"hjanvier","v":""},{"$f":"hjanvier","v":""},{"$f":"hjanvier","v":""},{"$f":"hjanvier","v":""},{"$f":"hjanvier","v":""},{"$f":"hjanvier","v":""},{"$f":"hjanvier","v":""},{"$f":"hjanvier","v":""},{"$f":"hjanvier","v":""},{"$f":"hjanvier","v":""},{"$f":"hjanvier","v":""},{"$f":"hjanvier","v":""},{"$f":"hjanvier","v":""},{"$f":"hjanvier","v":""},{"$f":"hjanvier","v":""},{"$f":"hjanvier","v":""},{"$f":"hjanvier","v":""},{"$f":"hjanvier","v":""},{"$f":"hjanvier","v":""},{"$f":"hjanvier","v":""},{"$f":"hjanvier","v":""},{"$f":"hjanvier","v":""},{"$f":"hjanvier","v":""},{"$f":"hjanvier","v":""},{"$f":"hjanvier","v":""},{"$f":"hjanvier","v":""},{"$f":"hjanvier","v":""},{"$f":"hjanvier","v":""},{"$f":"hjanvier","v":""},{"$f":"hjanvier","v":""}]
[{"$f":"Données!$H28","v":0},{"$f":"hjanvier","v":""},{"$f":"hjanvier","v":""},{"$f":"hjanvier","v":""},{"$f":"hjanvier","v":""},{"$f":"hjanvier","v":""},{"$f":"hjanvier","v":""},{"$f":"hjanvier","v":""},{"$f":"hjanvier","v":""},{"$f":"hjanvier","v":""},{"$f":"hjanvier","v":""},{"$f":"hjanvier","v":""},{"$f":"hjanvier","v":""},{"$f":"hjanvier","v":""},{"$f":"hjanvier","v":""},{"$f":"hjanvier","v":""},{"$f":"hjanvier","v":""},{"$f":"hjanvier","v":""},{"$f":"hjanvier","v":""},{"$f":"hjanvier","v":""},{"$f":"hjanvier","v":""},{"$f":"hjanvier","v":""},{"$f":"hjanvier","v":""},{"$f":"hjanvier","v":""},{"$f":"hjanvier","v":""},{"$f":"hjanvier","v":""},{"$f":"hjanvier","v":""},{"$f":"hjanvier","v":""},{"$f":"hjanvier","v":""},{"$f":"hjanvier","v":""},{"$f":"hjanvier","v":""},{"$f":"hjanvier","v":""}]
[{"$f":"Données!$H29","v":0},{"$f":"hjanvier","v":""},{"$f":"hjanvier","v":""},{"$f":"hjanvier","v":""},{"$f":"hjanvier","v":""},{"$f":"hjanvier","v":""},{"$f":"hjanvier","v":""},{"$f":"hjanvier","v":""},{"$f":"hjanvier","v":""},{"$f":"hjanvier","v":""},{"$f":"hjanvier","v":""},{"$f":"hjanvier","v":""},{"$f":"hjanvier","v":""},{"$f":"hjanvier","v":""},{"$f":"hjanvier","v":""},{"$f":"hjanvier","v":""},{"$f":"hjanvier","v":""},{"$f":"hjanvier","v":""},{"$f":"hjanvier","v":""},{"$f":"hjanvier","v":""},{"$f":"hjanvier","v":""},{"$f":"hjanvier","v":""},{"$f":"hjanvier","v":""},{"$f":"hjanvier","v":""},{"$f":"hjanvier","v":""},{"$f":"hjanvier","v":""},{"$f":"hjanvier","v":""},{"$f":"hjanvier","v":""},{"$f":"hjanvier","v":""},{"$f":"hjanvier","v":""},{"$f":"hjanvier","v":""},{"$f":"hjanvier","v":""}]
[{"$f":"Données!$H30","v":0},{"$f":"hjanvier","v":""},{"$f":"hjanvier","v":""},{"$f":"hjanvier","v":""},{"$f":"hjanvier","v":""},{"$f":"hjanvier","v":""},{"$f":"hjanvier","v":""},{"$f":"hjanvier","v":""},{"$f":"hjanvier","v":""},{"$f":"hjanvier","v":""},{"$f":"hjanvier","v":""},{"$f":"hjanvier","v":""},{"$f":"hjanvier","v":""},{"$f":"hjanvier","v":""},{"$f":"hjanvier","v":""},{"$f":"hjanvier","v":""},{"$f":"hjanvier","v":""},{"$f":"hjanvier","v":""},{"$f":"hjanvier","v":""},{"$f":"hjanvier","v":""},{"$f":"hjanvier","v":""},{"$f":"hjanvier","v":""},{"$f":"hjanvier","v":""},{"$f":"hjanvier","v":""},{"$f":"hjanvier","v":""},{"$f":"hjanvier","v":""},{"$f":"hjanvier","v":""},{"$f":"hjanvier","v":""},{"$f":"hjanvier","v":""},{"$f":"hjanvier","v":""},{"$f":"hjanvier","v":""},{"$f":"hjanvier","v":""}]
[{"$f":"Données!$H31","v":0},{"$f":"hjanvier","v":""},{"$f":"hjanvier","v":""},{"$f":"hjanvier","v":""},{"$f":"hjanvier","v":""},{"$f":"hjanvier","v":""},{"$f":"hjanvier","v":""},{"$f":"hjanvier","v":""},{"$f":"hjanvier","v":""},{"$f":"hjanvier","v":""},{"$f":"hjanvier","v":""},{"$f":"hjanvier","v":""},{"$f":"hjanvier","v":""},{"$f":"hjanvier","v":""},{"$f":"hjanvier","v":""},{"$f":"hjanvier","v":""},{"$f":"hjanvier","v":""},{"$f":"hjanvier","v":""},{"$f":"hjanvier","v":""},{"$f":"hjanvier","v":""},{"$f":"hjanvier","v":""},{"$f":"hjanvier","v":""},{"$f":"hjanvier","v":""},{"$f":"hjanvier","v":""},{"$f":"hjanvier","v":""},{"$f":"hjanvier","v":""},{"$f":"hjanvier","v":""},{"$f":"hjanvier","v":""},{"$f":"hjanvier","v":""},{"$f":"hjanvier","v":""},{"$f":"hjanvier","v":""},{"$f":"hjanvier","v":""}]
[{"$f":"Données!$H32","v":"Maitresse de maison"}]
[{"$f":"Données!$H33","v":"N"},{"$f":"hjanvier","v":""},{"$f":"hjanvier","v":""},{"$f":"hjanvier","v":""},{"$f":"hjanvier","v":""},{"$f":"hjanvier","v":""},{"$f":"hjanvier","v":""},{"$f":"hjanvier","v":""},{"$f":"hjanvier","v":""},{"$f":"hjanvier","v":""},{"$f":"hjanvier","v":""},{"$f":"hjanvier","v":""},{"$f":"hjanvier","v":""},{"$f":"hjanvier","v":""},{"$f":"hjanvier","v":""},{"$f":"hjanvier","v":""},{"$f":"hjanvier","v":""},{"$f":"hjanvier","v":""},{"$f":"hjanvier","v":""},{"$f":"hjanvier","v":""},{"$f":"hjanvier","v":""},{"$f":"hjanvier","v":""},{"$f":"hjanvier","v":""},{"$f":"hjanvier","v":""},{"$f":"hjanvier","v":""},{"$f":"hjanvier","v":""},{"$f":"hjanvier","v":""},{"$f":"hjanvier","v":""},{"$f":"hjanvier","v":""},{"$f":"hjanvier","v":""},{"$f":"hjanvier","v":""},{"$f":"hjanvier","v":""}]
[{"$f":"Données!$H34","v":0},{"$f":"hjanvier","v":""},{"$f":"hjanvier","v":""},{"$f":"hjanvier","v":""},{"$f":"hjanvier","v":""},{"$f":"hjanvier","v":""},{"$f":"hjanvier","v":""},{"$f":"hjanvier","v":""},{"$f":"hjanvier","v":""},{"$f":"hjanvier","v":""},{"$f":"hjanvier","v":""},{"$f":"hjanvier","v":""},{"$f":"hjanvier","v":""},{"$f":"hjanvier","v":""},{"$f":"hjanvier","v":""},{"$f":"hjanvier","v":""},{"$f":"hjanvier","v":""},{"$f":"hjanvier","v":""},{"$f":"hjanvier","v":""},{"$f":"hjanvier","v":""},{"$f":"hjanvier","v":""},{"$f":"hjanvier","v":""},{"$f":"hjanvier","v":""},{"$f":"hjanvier","v":""},{"$f":"hjanvier","v":""},{"$f":"hjanvier","v":""},{"$f":"hjanvier","v":""},{"$f":"hjanvier","v":""},{"$f":"hjanvier","v":""},{"$f":"hjanvier","v":""},{"$f":"hjanvier","v":""},{"$f":"hjanvier","v":""}]
[{"$f":"Données!$H35","v":0},{"$f":"hjanvier","v":""},{"$f":"hjanvier","v":""},{"$f":"hjanvier","v":""},{"$f":"hjanvier","v":""},{"$f":"hjanvier","v":""},{"$f":"hjanvier","v":""},{"$f":"hjanvier","v":""},{"$f":"hjanvier","v":""},{"$f":"hjanvier","v":""},{"$f":"hjanvier","v":""},{"$f":"hjanvier","v":""},{"$f":"hjanvier","v":""},{"$f":"hjanvier","v":""},{"$f":"hjanvier","v":""},{"$f":"hjanvier","v":""},{"$f":"hjanvier","v":""},{"$f":"hjanvier","v":""},{"$f":"hjanvier","v":""},{"$f":"hjanvier","v":""},{"$f":"hjanvier","v":""},{"$f":"hjanvier","v":""},{"$f":"hjanvier","v":""},{"$f":"hjanvier","v":""},{"$f":"hjanvier","v":""},{"$f":"hjanvier","v":""},{"$f":"hjanvier","v":""},{"$f":"hjanvier","v":""},{"$f":"hjanvier","v":""},{"$f":"hjanvier","v":""},{"$f":"hjanvier","v":""},{"$f":"hjanvier","v":""}]
[{"$f":"Données!$H36","v":0},{"$f":"hjanvier","v":""},{"$f":"hjanvier","v":""},{"$f":"hjanvier","v":""},{"$f":"hjanvier","v":""},{"$f":"hjanvier","v":""},{"$f":"hjanvier","v":""},{"$f":"hjanvier","v":""},{"$f":"hjanvier","v":""},{"$f":"hjanvier","v":""},{"$f":"hjanvier","v":""},{"$f":"hjanvier","v":""},{"$f":"hjanvier","v":""},{"$f":"hjanvier","v":""},{"$f":"hjanvier","v":""},{"$f":"hjanvier","v":""},{"$f":"hjanvier","v":""},{"$f":"hjanvier","v":""},{"$f":"hjanvier","v":""},{"$f":"hjanvier","v":""},{"$f":"hjanvier","v":""},{"$f":"hjanvier","v":""},{"$f":"hjanvier","v":""},{"$f":"hjanvier","v":""},{"$f":"hjanvier","v":""},{"$f":"hjanvier","v":""},{"$f":"hjanvier","v":""},{"$f":"hjanvier","v":""},{"$f":"hjanvier","v":""},{"$f":"hjanvier","v":""},{"$f":"hjanvier","v":""},{"$f":"hjanvier","v":""}]
[{"$f":"Données!$H37","v":0},{"$f":"hjanvier","v":""},{"$f":"hjanvier","v":""},{"$f":"hjanvier","v":""},{"$f":"hjanvier","v":""},{"$f":"hjanvier","v":""},{"$f":"hjanvier","v":""},{"$f":"hjanvier","v":""},{"$f":"hjanvier","v":""},{"$f":"hjanvier","v":""},{"$f":"hjanvier","v":""},{"$f":"hjanvier","v":""},{"$f":"hjanvier","v":""},{"$f":"hjanvier","v":""},{"$f":"hjanvier","v":""},{"$f":"hjanvier","v":""},{"$f":"hjanvier","v":""},{"$f":"hjanvier","v":""},{"$f":"hjanvier","v":""},{"$f":"hjanvier","v":""},{"$f":"hjanvier","v":""},{"$f":"hjanvier","v":""},{"$f":"hjanvier","v":""},{"$f":"hjanvier","v":""},{"$f":"hjanvier","v":""},{"$f":"hjanvier","v":""},{"$f":"hjanvier","v":""},{"$f":"hjanvier","v":""},{"$f":"hjanvier","v":""},{"$f":"hjanvier","v":""},{"$f":"hjanvier","v":""},{"$f":"hjanvier","v":""}]
[{"$f":"Données!$H38","v":0},{"$f":"hjanvier","v":""},{"$f":"hjanvier","v":""},{"$f":"hjanvier","v":""},{"$f":"hjanvier","v":""},{"$f":"hjanvier","v":""},{"$f":"hjanvier","v":""},{"$f":"hjanvier","v":""},{"$f":"hjanvier","v":""},{"$f":"hjanvier","v":""},{"$f":"hjanvier","v":""},{"$f":"hjanvier","v":""},{"$f":"hjanvier","v":""},{"$f":"hjanvier","v":""},{"$f":"hjanvier","v":""},{"$f":"hjanvier","v":""},{"$f":"hjanvier","v":""},{"$f":"hjanvier","v":""},{"$f":"hjanvier","v":""},{"$f":"hjanvier","v":""},{"$f":"hjanvier","v":""},{"$f":"hjanvier","v":""},{"$f":"hjanvier","v":""},{"$f":"hjanvier","v":""},{"$f":"hjanvier","v":""},{"$f":"hjanvier","v":""},{"$f":"hjanvier","v":""},{"$f":"hjanvier","v":""},{"$f":"hjanvier","v":""},{"$f":"hjanvier","v":""},{"$f":"hjanvier","v":""},{"$f":"hjanvier","v":""}]
[{"$f":"Données!$H39","v":0},{"$f":"hjanvier","v":""},{"$f":"hjanvier","v":""},{"$f":"hjanvier","v":""},{"$f":"hjanvier","v":""},{"$f":"hjanvier","v":""},{"$f":"hjanvier","v":""},{"$f":"hjanvier","v":""},{"$f":"hjanvier","v":""},{"$f":"hjanvier","v":""},{"$f":"hjanvier","v":""},{"$f":"hjanvier","v":""},{"$f":"hjanvier","v":""},{"$f":"hjanvier","v":""},{"$f":"hjanvier","v":""},{"$f":"hjanvier","v":""},{"$f":"hjanvier","v":""},{"$f":"hjanvier","v":""},{"$f":"hjanvier","v":""},{"$f":"hjanvier","v":""},{"$f":"hjanvier","v":""},{"$f":"hjanvier","v":""},{"$f":"hjanvier","v":""},{"$f":"hjanvier","v":""},{"$f":"hjanvier","v":""},{"$f":"hjanvier","v":""},{"$f":"hjanvier","v":""},{"$f":"hjanvier","v":""},{"$f":"hjanvier","v":""},{"$f":"hjanvier","v":""},{"$f":"hjanvier","v":""},{"$f":"hjanvier","v":""}]
[{"$f":"Données!$H40","v":0},{"$f":"hjanvier","v":""},{"$f":"hjanvier","v":""},{"$f":"hjanvier","v":""},{"$f":"hjanvier","v":""},{"$f":"hjanvier","v":""},{"$f":"hjanvier","v":""},{"$f":"hjanvier","v":""},{"$f":"hjanvier","v":""},{"$f":"hjanvier","v":""},{"$f":"hjanvier","v":""},{"$f":"hjanvier","v":""},{"$f":"hjanvier","v":""},{"$f":"hjanvier","v":""},{"$f":"hjanvier","v":""},{"$f":"hjanvier","v":""},{"$f":"hjanvier","v":""},{"$f":"hjanvier","v":""},{"$f":"hjanvier","v":""},{"$f":"hjanvier","v":""},{"$f":"hjanvier","v":""},{"$f":"hjanvier","v":""},{"$f":"hjanvier","v":""},{"$f":"hjanvier","v":""},{"$f":"hjanvier","v":""},{"$f":"hjanvier","v":""},{"$f":"hjanvier","v":""},{"$f":"hjanvier","v":""},{"$f":"hjanvier","v":""},{"$f":"hjanvier","v":""},{"$f":"hjanvier","v":""},{"$f":"hjanvier","v":""}]
[{"$f":"Données!$H41","v":0},{"$f":"hjanvier","v":""},{"$f":"hjanvier","v":""},{"$f":"hjanvier","v":""},{"$f":"hjanvier","v":""},{"$f":"hjanvier","v":""},{"$f":"hjanvier","v":""},{"$f":"hjanvier","v":""},{"$f":"hjanvier","v":""},{"$f":"hjanvier","v":""},{"$f":"hjanvier","v":""},{"$f":"hjanvier","v":""},{"$f":"hjanvier","v":""},{"$f":"hjanvier","v":""},{"$f":"hjanvier","v":""},{"$f":"hjanvier","v":""},{"$f":"hjanvier","v":""},{"$f":"hjanvier","v":""},{"$f":"hjanvier","v":""},{"$f":"hjanvier","v":""},{"$f":"hjanvier","v":""},{"$f":"hjanvier","v":""},{"$f":"hjanvier","v":""},{"$f":"hjanvier","v":""},{"$f":"hjanvier","v":""},{"$f":"hjanvier","v":""},{"$f":"hjanvier","v":""},{"$f":"hjanvier","v":""},{"$f":"hjanvier","v":""},{"$f":"hjanvier","v":""},{"$f":"hjanvier","v":""},{"$f":"hjanvier","v":""}]
[{"$f":"Données!$H42","v":"Psychologue"}]
[{"$f":"Données!$H43","v":"O"},{"$f":"hjanvier","v":""},{"$f":"hjanvier","v":""},{"$f":"hjanvier","v":""},{"$f":"hjanvier","v":""},{"$f":"hjanvier","v":""},{"$f":"hjanvier","v":""},{"$f":"hjanvier","v":""},{"$f":"hjanvier","v":""},{"$f":"hjanvier","v":""},{"$f":"hjanvier","v":""},{"$f":"hjanvier","v":""},{"$f":"hjanvier","v":""},{"$f":"hjanvier","v":""},{"$f":"hjanvier","v":""},{"$f":"hjanvier","v":""},{"$f":"hjanvier","v":""},{"$f":"hjanvier","v":""},{"$f":"hjanvier","v":""},{"$f":"hjanvier","v":""},{"$f":"hjanvier","v":""},{"$f":"hjanvier","v":""},{"$f":"hjanvier","v":""},{"$f":"hjanvier","v":""},{"$f":"hjanvier","v":""},{"$f":"hjanvier","v":""},{"$f":"hjanvier","v":""},{"$f":"hjanvier","v":""},{"$f":"hjanvier","v":""},{"$f":"hjanvier","v":""},{"$f":"hjanvier","v":""},{"$f":"hjanvier","v":""}]
[{"$f":"Données!$H44","v":0},{"$f":"hjanvier","v":""},{"$f":"hjanvier","v":""},{"$f":"hjanvier","v":""},{"$f":"hjanvier","v":""},{"$f":"hjanvier","v":""},{"$f":"hjanvier","v":""},{"$f":"hjanvier","v":""},{"$f":"hjanvier","v":""},{"$f":"hjanvier","v":""},{"$f":"hjanvier","v":""},{"$f":"hjanvier","v":""},{"$f":"hjanvier","v":""},{"$f":"hjanvier","v":""},{"$f":"hjanvier","v":""},{"$f":"hjanvier","v":""},{"$f":"hjanvier","v":""},{"$f":"hjanvier","v":""},{"$f":"hjanvier","v":""},{"$f":"hjanvier","v":""},{"$f":"hjanvier","v":""},{"$f":"hjanvier","v":""},{"$f":"hjanvier","v":""},{"$f":"hjanvier","v":""},{"$f":"hjanvier","v":""},{"$f":"hjanvier","v":""},{"$f":"hjanvier","v":""},{"$f":"hjanvier","v":""},{"$f":"hjanvier","v":""},{"$f":"hjanvier","v":""},{"$f":"hjanvier","v":""},{"$f":"hjanvier","v":""}]
[{"$f":"Données!$H45","v":0},{"$f":"hjanvier","v":""},{"$f":"hjanvier","v":""},{"$f":"hjanvier","v":""},{"$f":"hjanvier","v":""},{"$f":"hjanvier","v":""},{"$f":"hjanvier","v":""},{"$f":"hjanvier","v":""},{"$f":"hjanvier","v":""},{"$f":"hjanvier","v":""},{"$f":"hjanvier","v":""},{"$f":"hjanvier","v":""},{"$f":"hjanvier","v":""},{"$f":"hjanvier","v":""},{"$f":"hjanvier","v":""},{"$f":"hjanvier","v":""},{"$f":"hjanvier","v":""},{"$f":"hjanvier","v":""},{"$f":"hjanvier","v":""},{"$f":"hjanvier","v":""},{"$f":"hjanvier","v":""},{"$f":"hjanvier","v":""},{"$f":"hjanvier","v":""},{"$f":"hjanvier","v":""},{"$f":"hjanvier","v":""},{"$f":"hjanvier","v":""},{"$f":"hjanvier","v":""},{"$f":"hjanvier","v":""},{"$f":"hjanvier","v":""},{"$f":"hjanvier","v":""},{"$f":"hjanvier","v":""},{"$f":"hjanvier","v":""}]
[{"$f":"Données!$H46","v":"Coordinatrice"}]
[{"$f":"Données!$H47","v":"P"},{"$f":"hjanvier","v":""},{"$f":"hjanvier","v":""},{"$f":"hjanvier","v":""},{"$f":"hjanvier","v":""},{"$f":"hjanvier","v":""},{"$f":"hjanvier","v":""},{"$f":"hjanvier","v":""},{"$f":"hjanvier","v":""},{"$f":"hjanvier","v":""},{"$f":"hjanvier","v":""},{"$f":"hjanvier","v":""},{"$f":"hjanvier","v":""},{"$f":"hjanvier","v":""},{"$f":"hjanvier","v":""},{"$f":"hjanvier","v":""},{"$f":"hjanvier","v":""},{"$f":"hjanvier","v":""},{"$f":"hjanvier","v":""},{"$f":"hjanvier","v":""},{"$f":"hjanvier","v":""},{"$f":"hjanvier","v":""},{"$f":"hjanvier","v":""},{"$f":"hjanvier","v":""},{"$f":"hjanvier","v":""},{"$f":"hjanvier","v":""},{"$f":"hjanvier","v":""},{"$f":"hjanvier","v":""},{"$f":"hjanvier","v":""},{"$f":"hjanvier","v":""},{"$f":"hjanvier","v":""},{"$f":"hjanvier","v":""}]
[{"$f":"Données!$H48","v":0},{"$f":"hjanvier","v":""},{"$f":"hjanvier","v":""},{"$f":"hjanvier","v":""},{"$f":"hjanvier","v":""},{"$f":"hjanvier","v":""},{"$f":"hjanvier","v":""},{"$f":"hjanvier","v":""},{"$f":"hjanvier","v":""},{"$f":"hjanvier","v":""},{"$f":"hjanvier","v":""},{"$f":"hjanvier","v":""},{"$f":"hjanvier","v":""},{"$f":"hjanvier","v":""},{"$f":"hjanvier","v":""},{"$f":"hjanvier","v":""},{"$f":"hjanvier","v":""},{"$f":"hjanvier","v":""},{"$f":"hjanvier","v":""},{"$f":"hjanvier","v":""},{"$f":"hjanvier","v":""},{"$f":"hjanvier","v":""},{"$f":"hjanvier","v":""},{"$f":"hjanvier","v":""},{"$f":"hjanvier","v":""},{"$f":"hjanvier","v":""},{"$f":"hjanvier","v":""},{"$f":"hjanvier","v":""},{"$f":"hjanvier","v":""},{"$f":"hjanvier","v":""},{"$f":"hjanvier","v":""},{"$f":"hjanvier","v":""}]
[{"$f":"Données!$H49","v":0},{"$f":"hjanvier","v":""},{"$f":"hjanvier","v":""},{"$f":"hjanvier","v":""},{"$f":"hjanvier","v":""},{"$f":"hjanvier","v":""},{"$f":"hjanvier","v":""},{"$f":"hjanvier","v":""},{"$f":"hjanvier","v":""},{"$f":"hjanvier","v":""},{"$f":"hjanvier","v":""},{"$f":"hjanvier","v":""},{"$f":"hjanvier","v":""},{"$f":"hjanvier","v":""},{"$f":"hjanvier","v":""},{"$f":"hjanvier","v":""},{"$f":"hjanvier","v":""},{"$f":"hjanvier","v":""},{"$f":"hjanvier","v":""},{"$f":"hjanvier","v":""},{"$f":"hjanvier","v":""},{"$f":"hjanvier","v":""},{"$f":"hjanvier","v":""},{"$f":"hjanvier","v":""},{"$f":"hjanvier","v":""},{"$f":"hjanvier","v":""},{"$f":"hjanvier","v":""},{"$f":"hjanvier","v":""},{"$f":"hjanvier","v":""},{"$f":"hjanvier","v":""},{"$f":"hjanvier","v":""},{"$f":"hjanvier","v":""}]
[{"$f":"Données!$H50","v":0},{"$f":"hjanvier","v":""},{"$f":"hjanvier","v":""},{"$f":"hjanvier","v":""},{"$f":"hjanvier","v":""},{"$f":"hjanvier","v":""},{"$f":"hjanvier","v":""},{"$f":"hjanvier","v":""},{"$f":"hjanvier","v":""},{"$f":"hjanvier","v":""},{"$f":"hjanvier","v":""},{"$f":"hjanvier","v":""},{"$f":"hjanvier","v":""},{"$f":"hjanvier","v":""},{"$f":"hjanvier","v":""},{"$f":"hjanvier","v":""},{"$f":"hjanvier","v":""},{"$f":"hjanvier","v":""},{"$f":"hjanvier","v":""},{"$f":"hjanvier","v":""},{"$f":"hjanvier","v":""},{"$f":"hjanvier","v":""},{"$f":"hjanvier","v":""},{"$f":"hjanvier","v":""},{"$f":"hjanvier","v":""},{"$f":"hjanvier","v":""},{"$f":"hjanvier","v":""},{"$f":"hjanvier","v":""},{"$f":"hjanvier","v":""},{"$f":"hjanvier","v":""},{"$f":"hjanvier","v":""},{"$f":"hjanvier","v":""}]
[{"$f":"Données!$H51","v":0},{"$f":"hjanvier","v":""},{"$f":"hjanvier","v":""},{"$f":"hjanvier","v":""},{"$f":"hjanvier","v":""},{"$f":"hjanvier","v":""},{"$f":"hjanvier","v":""},{"$f":"hjanvier","v":""},{"$f":"hjanvier","v":""},{"$f":"hjanvier","v":""},{"$f":"hjanvier","v":""},{"$f":"hjanvier","v":""},{"$f":"hjanvier","v":""},{"$f":"hjanvier","v":""},{"$f":"hjanvier","v":""},{"$f":"hjanvier","v":""},{"$f":"hjanvier","v":""},{"$f":"hjanvier","v":""},{"$f":"hjanvier","v":""},{"$f":"hjanvier","v":""},{"$f":"hjanvier","v":""},{"$f":"hjanvier","v":""},{"$f":"hjanvier","v":""},{"$f":"hjanvier","v":""},{"$f":"hjanvier","v":""},{"$f":"hjanvier","v":""},{"$f":"hjanvier","v":""},{"$f":"hjanvier","v":""},{"$f":"hjanvier","v":""},{"$f":"hjanvier","v":""},{"$f":"hjanvier","v":""},{"$f":"hjanvier","v":""}]
[{"$f":"Données!$H52","v":"Chef de service"}]
[{"$f":"Données!$H53","v":"Q"},{"$f":"hjanvier","v":""},{"$f":"hjanvier","v":""},{"$f":"hjanvier","v":""},{"$f":"hjanvier","v":""},{"$f":"hjanvier","v":""},{"$f":"hjanvier","v":""},{"$f":"hjanvier","v":""},{"$f":"hjanvier","v":""},{"$f":"hjanvier","v":""},{"$f":"hjanvier","v":""},{"$f":"hjanvier","v":""},{"$f":"hjanvier","v":""},{"$f":"hjanvier","v":""},{"$f":"hjanvier","v":""},{"$f":"hjanvier","v":""},{"$f":"hjanvier","v":""},{"$f":"hjanvier","v":""},{"$f":"hjanvier","v":""},{"$f":"hjanvier","v":""},{"$f":"hjanvier","v":""},{"$f":"hjanvier","v":""},{"$f":"hjanvier","v":""},{"$f":"hjanvier","v":""},{"$f":"hjanvier","v":""},{"$f":"hjanvier","v":""},{"$f":"hjanvier","v":""},{"$f":"hjanvier","v":""},{"$f":"hjanvier","v":""},{"$f":"hjanvier","v":""},{"$f":"hjanvier","v":""},{"$f":"hjanvier","v":""}]

{"sheet":"HFevrier","index":15,"n_rows":56,"n_cols":30,"rows_kept":56,"cut":false,"hidden":false,"merged":[[0,4,0,5]]}
[null,null,null,"Mois de","Fevrier",null,null,null,{"$f":"An","v":2018}]
[null,{"$f":"DATE(An,Fevrier,B7)","v":"2018-02-01"},"2018-02-02","2018-02-03","2018-02-04","2018-02-05","2018-02-06","2018-02-07","2018-02-08","2018-02-09","2018-02-10","2018-02-11","2018-02-12","2018-02-13","2018-02-14","2018-02-15","2018-02-16","2018-02-17","2018-02-18","2018-02-19","2018-02-20","2018-02-21","2018-02-22","2018-02-23","2018-02-24","2018-02-25","2018-02-26","2018-02-27","2018-02-28","2018-03-01"]
[{"$f":"IF(Données!$L$5=\"\",\"Service\",Données!$L$5)","v":"Service"}]
[]
[]
["Jours",{"$f":"PROPER(TEXT(DATE(An,Fevrier,B$7),\"jjjjjj\"))","v":"Jeudi"},"Vendredi","Samedi","Dimanche","Lundi","Mardi","Mercredi","Jeudi","Vendredi","Samedi","Dimanche","Lundi","Mardi","Mercredi","Jeudi","Vendredi","Samedi","Dimanche","Lundi","Mardi","Mercredi","Jeudi","Vendredi","Samedi","Dimanche","Lundi","Mardi","Mercredi","Jeudi"]
[null,1,{"$f":"B7+1","v":2},{"$f":"C7+1","v":3},4,5,6,7,8,9,10,11,12,13,14,15,16,17,18,19,20,21,22,23,24,25,26,{"$f":"AA7+1","v":27},{"$f":"AB7+1","v":28},{"$f":"AC7+1","v":29}]
["Equipe de jour"]
[{"$f":"Données!$H6","v":"A"},{"$f":"hfevrier","v":""},{"$f":"hfevrier","v":""},{"$f":"hfevrier","v":""},{"$f":"hfevrier","v":""},{"$f":"hfevrier","v":""},{"$f":"hfevrier","v":""},{"$f":"hfevrier","v":""},{"$f":"hfevrier","v":""},{"$f":"hfevrier","v":""},{"$f":"hfevrier","v":""},{"$f":"hfevrier","v":""},{"$f":"hfevrier","v":""},{"$f":"hfevrier","v":""},{"$f":"hfevrier","v":""},{"$f":"hfevrier","v":""},{"$f":"hfevrier","v":""},{"$f":"hfevrier","v":""},{"$f":"hfevrier","v":""},{"$f":"hfevrier","v":""},{"$f":"hfevrier","v":""},{"$f":"hfevrier","v":""},{"$f":"hfevrier","v":""},{"$f":"hfevrier","v":""},{"$f":"hfevrier","v":""},{"$f":"hfevrier","v":""},{"$f":"hfevrier","v":""},{"$f":"hfevrier","v":""},{"$f":"hfevrier","v":""},{"$f":"hfevrier","v":""}]
[{"$f":"Données!$H7","v":0},{"$f":"hfevrier","v":""},{"$f":"hfevrier","v":""},{"$f":"hfevrier","v":""},{"$f":"hfevrier","v":""},{"$f":"hfevrier","v":""},{"$f":"hfevrier","v":""},{"$f":"hfevrier","v":""},{"$f":"hfevrier","v":""},{"$f":"hfevrier","v":""},{"$f":"hfevrier","v":""},{"$f":"hfevrier","v":""},{"$f":"hfevrier","v":""},{"$f":"hfevrier","v":""},{"$f":"hfevrier","v":""},{"$f":"hfevrier","v":""},{"$f":"hfevrier","v":""},{"$f":"hfevrier","v":""},{"$f":"hfevrier","v":""},{"$f":"hfevrier","v":""},{"$f":"hfevrier","v":""},{"$f":"hfevrier","v":""},{"$f":"hfevrier","v":""},{"$f":"hfevrier","v":""},{"$f":"hfevrier","v":""},{"$f":"hfevrier","v":""},{"$f":"hfevrier","v":""},{"$f":"hfevrier","v":""},{"$f":"hfevrier","v":""},{"$f":"hfevrier","v":""}]
[{"$f":"Données!$H8","v":0},{"$f":"hfevrier","v":""},{"$f":"hfevrier","v":""},{"$f":"hfevrier","v":""},{"$f":"hfevrier","v":""},{"$f":"hfevrier","v":""},{"$f":"hfevrier","v":""},{"$f":"hfevrier","v":""},{"$f":"hfevrier","v":""},{"$f":"hfevrier","v":""},{"$f":"hfevrier","v":""},{"$f":"hfevrier","v":""},{"$f":"hfevrier","v":""},{"$f":"hfevrier","v":""},{"$f":"hfevrier","v":""},{"$f":"hfevrier","v":""},{"$f":"hfevrier","v":""},{"$f":"hfevrier","v":""},{"$f":"hfevrier","v":""},{"$f":"hfevrier","v":""},{"$f":"hfevrier","v":""},{"$f":"hfevrier","v":""},{"$f":"hfevrier","v":""},{"$f":"hfevrier","v":""},{"$f":"hfevrier","v":""},{"$f":"hfevrier","v":""},{"$f":"hfevrier","v":""},{"$f":"hfevrier","v":""},{"$f":"hfevrier","v":""},{"$f":"hfevrier","v":""}]
[{"$f":"Données!$H9","v":0},{"$f":"hfevrier","v":""},{"$f":"hfevrier","v":""},{"$f":"hfevrier","v":""},{"$f":"hfevrier","v":""},{"$f":"hfevrier","v":""},{"$f":"hfevrier","v":""},{"$f":"hfevrier","v":""},{"$f":"hfevrier","v":""},{"$f":"hfevrier","v":""},{"$f":"hfevrier","v":""},{"$f":"hfevrier","v":""},{"$f":"hfevrier","v":""},{"$f":"hfevrier","v":""},{"$f":"hfevrier","v":""},{"$f":"hfevrier","v":""},{"$f":"hfevrier","v":""},{"$f":"hfevrier","v":""},{"$f":"hfevrier","v":""},{"$f":"hfevrier","v":""},{"$f":"hfevrier","v":""},{"$f":"hfevrier","v":""},{"$f":"hfevrier","v":""},{"$f":"hfevrier","v":""},{"$f":"hfevrier","v":""},{"$f":"hfevrier","v":""},{"$f":"hfevrier","v":""},{"$f":"hfevrier","v":""},{"$f":"hfevrier","v":""},{"$f":"hfevrier","v":""}]
[{"$f":"Données!$H10","v":0},{"$f":"hfevrier","v":""},{"$f":"hfevrier","v":""},{"$f":"hfevrier","v":""},{"$f":"hfevrier","v":""},{"$f":"hfevrier","v":""},{"$f":"hfevrier","v":""},{"$f":"hfevrier","v":""},{"$f":"hfevrier","v":""},{"$f":"hfevrier","v":""},{"$f":"hfevrier","v":""},{"$f":"hfevrier","v":""},{"$f":"hfevrier","v":""},{"$f":"hfevrier","v":""},{"$f":"hfevrier","v":""},{"$f":"hfevrier","v":""},{"$f":"hfevrier","v":""},{"$f":"hfevrier","v":""},{"$f":"hfevrier","v":""},{"$f":"hfevrier","v":""},{"$f":"hfevrier","v":""},{"$f":"hfevrier","v":""},{"$f":"hfevrier","v":""},{"$f":"hfevrier","v":""},{"$f":"hfevrier","v":""},{"$f":"hfevrier","v":""},{"$f":"hfevrier","v":""},{"$f":"hfevrier","v":""},{"$f":"hfevrier","v":""},{"$f":"hfevrier","v":""}]
[{"$f":"Données!$H11","v":0},{"$f":"hfevrier","v":""},{"$f":"hfevrier","v":""},{"$f":"hfevrier","v":""},{"$f":"hfevrier","v":""},{"$f":"hfevrier","v":""},{"$f":"hfevrier","v":""},{"$f":"hfevrier","v":""},{"$f":"hfevrier","v":""},{"$f":"hfevrier","v":""},{"$f":"hfevrier","v":""},{"$f":"hfevrier","v":""},{"$f":"hfevrier","v":""},{"$f":"hfevrier","v":""},{"$f":"hfevrier","v":""},{"$f":"hfevrier","v":""},{"$f":"hfevrier","v":""},{"$f":"hfevrier","v":""},{"$f":"hfevrier","v":""},{"$f":"hfevrier","v":""},{"$f":"hfevrier","v":""},{"$f":"hfevrier","v":""},{"$f":"hfevrier","v":""},{"$f":"hfevrier","v":""},{"$f":"hfevrier","v":""},{"$f":"hfevrier","v":""},{"$f":"hfevrier","v":""},{"$f":"hfevrier","v":""},{"$f":"hfevrier","v":""},{"$f":"hfevrier","v":""}]
[{"$f":"Données!$H12","v":0},{"$f":"hfevrier","v":""},{"$f":"hfevrier","v":""},{"$f":"hfevrier","v":""},{"$f":"hfevrier","v":""},{"$f":"hfevrier","v":""},{"$f":"hfevrier","v":""},{"$f":"hfevrier","v":""},{"$f":"hfevrier","v":""},{"$f":"hfevrier","v":""},{"$f":"hfevrier","v":""},{"$f":"hfevrier","v":""},{"$f":"hfevrier","v":""},{"$f":"hfevrier","v":""},{"$f":"hfevrier","v":""},{"$f":"hfevrier","v":""},{"$f":"hfevrier","v":""},{"$f":"hfevrier","v":""},{"$f":"hfevrier","v":""},{"$f":"hfevrier","v":""},{"$f":"hfevrier","v":""},{"$f":"hfevrier","v":""},{"$f":"hfevrier","v":""},{"$f":"hfevrier","v":""},{"$f":"hfevrier","v":""},{"$f":"hfevrier","v":""},{"$f":"hfevrier","v":""},{"$f":"hfevrier","v":""},{"$f":"hfevrier","v":""},{"$f":"hfevrier","v":""}]
[{"$f":"Données!$H13","v":0},{"$f":"hfevrier","v":""},{"$f":"hfevrier","v":""},{"$f":"hfevrier","v":""},{"$f":"hfevrier","v":""},{"$f":"hfevrier","v":""},{"$f":"hfevrier","v":""},{"$f":"hfevrier","v":""},{"$f":"hfevrier","v":""},{"$f":"hfevrier","v":""},{"$f":"hfevrier","v":""},{"$f":"hfevrier","v":""},{"$f":"hfevrier","v":""},{"$f":"hfevrier","v":""},{"$f":"hfevrier","v":""},{"$f":"hfevrier","v":""},{"$f":"hfevrier","v":""},{"$f":"hfevrier","v":""},{"$f":"hfevrier","v":""},{"$f":"hfevrier","v":""},{"$f":"hfevrier","v":""},{"$f":"hfevrier","v":""},{"$f":"hfevrier","v":""},{"$f":"hfevrier","v":""},{"$f":"hfevrier","v":""},{"$f":"hfevrier","v":""},{"$f":"hfevrier","v":""},{"$f":"hfevrier","v":""},{"$f":"hfevrier","v":""},{"$f":"hfevrier","v":""}]
[{"$f":"Données!$H14","v":0},{"$f":"hfevrier","v":""},{"$f":"hfevrier","v":""},{"$f":"hfevrier","v":""},{"$f":"hfevrier","v":""},{"$f":"hfevrier","v":""},{"$f":"hfevrier","v":""},{"$f":"hfevrier","v":""},{"$f":"hfevrier","v":""},{"$f":"hfevrier","v":""},{"$f":"hfevrier","v":""},{"$f":"hfevrier","v":""},{"$f":"hfevrier","v":""},{"$f":"hfevrier","v":""},{"$f":"hfevrier","v":""},{"$f":"hfevrier","v":""},{"$f":"hfevrier","v":""},{"$f":"hfevrier","v":""},{"$f":"hfevrier","v":""},{"$f":"hfevrier","v":""},{"$f":"hfevrier","v":""},{"$f":"hfevrier","v":""},{"$f":"hfevrier","v":""},{"$f":"hfevrier","v":""},{"$f":"hfevrier","v":""},{"$f":"hfevrier","v":""},{"$f":"hfevrier","v":""},{"$f":"hfevrier","v":""},{"$f":"hfevrier","v":""},{"$f":"hfevrier","v":""}]
[{"$f":"Données!$H15","v":0},{"$f":"hfevrier","v":""},{"$f":"hfevrier","v":""},{"$f":"hfevrier","v":""},{"$f":"hfevrier","v":""},{"$f":"hfevrier","v":""},{"$f":"hfevrier","v":""},{"$f":"hfevrier","v":""},{"$f":"hfevrier","v":""},{"$f":"hfevrier","v":""},{"$f":"hfevrier","v":""},{"$f":"hfevrier","v":""},{"$f":"hfevrier","v":""},{"$f":"hfevrier","v":""},{"$f":"hfevrier","v":""},{"$f":"hfevrier","v":""},{"$f":"hfevrier","v":""},{"$f":"hfevrier","v":""},{"$f":"hfevrier","v":""},{"$f":"hfevrier","v":""},{"$f":"hfevrier","v":""},{"$f":"hfevrier","v":""},{"$f":"hfevrier","v":""},{"$f":"hfevrier","v":""},{"$f":"hfevrier","v":""},{"$f":"hfevrier","v":""},{"$f":"hfevrier","v":""},{"$f":"hfevrier","v":""},{"$f":"hfevrier","v":""},{"$f":"hfevrier","v":""}]
[{"$f":"Données!$H16","v":0},{"$f":"hfevrier","v":""},{"$f":"hfevrier","v":""},{"$f":"hfevrier","v":""},{"$f":"hfevrier","v":""},{"$f":"hfevrier","v":""},{"$f":"hfevrier","v":""},{"$f":"hfevrier","v":""},{"$f":"hfevrier","v":""},{"$f":"hfevrier","v":""},{"$f":"hfevrier","v":""},{"$f":"hfevrier","v":""},{"$f":"hfevrier","v":""},{"$f":"hfevrier","v":""},{"$f":"hfevrier","v":""},{"$f":"hfevrier","v":""},{"$f":"hfevrier","v":""},{"$f":"hfevrier","v":""},{"$f":"hfevrier","v":""},{"$f":"hfevrier","v":""},{"$f":"hfevrier","v":""},{"$f":"hfevrier","v":""},{"$f":"hfevrier","v":""},{"$f":"hfevrier","v":""},{"$f":"hfevrier","v":""},{"$f":"hfevrier","v":""},{"$f":"hfevrier","v":""},{"$f":"hfevrier","v":""},{"$f":"hfevrier","v":""},{"$f":"hfevrier","v":""}]
[{"$f":"Données!$H17","v":0},{"$f":"hfevrier","v":""},{"$f":"hfevrier","v":""},{"$f":"hfevrier","v":""},{"$f":"hfevrier","v":""},{"$f":"hfevrier","v":""},{"$f":"hfevrier","v":""},{"$f":"hfevrier","v":""},{"$f":"hfevrier","v":""},{"$f":"hfevrier","v":""},{"$f":"hfevrier","v":""},{"$f":"hfevrier","v":""},{"$f":"hfevrier","v":""},{"$f":"hfevrier","v":""},{"$f":"hfevrier","v":""},{"$f":"hfevrier","v":""},{"$f":"hfevrier","v":""},{"$f":"hfevrier","v":""},{"$f":"hfevrier","v":""},{"$f":"hfevrier","v":""},{"$f":"hfevrier","v":""},{"$f":"hfevrier","v":""},{"$f":"hfevrier","v":""},{"$f":"hfevrier","v":""},{"$f":"hfevrier","v":""},{"$f":"hfevrier","v":""},{"$f":"hfevrier","v":""},{"$f":"hfevrier","v":""},{"$f":"hfevrier","v":""},{"$f":"hfevrier","v":""}]
[{"$f":"Données!$H18","v":0},{"$f":"hfevrier","v":""},{"$f":"hfevrier","v":""},{"$f":"hfevrier","v":""},{"$f":"hfevrier","v":""},{"$f":"hfevrier","v":""},{"$f":"hfevrier","v":""},{"$f":"hfevrier","v":""},{"$f":"hfevrier","v":""},{"$f":"hfevrier","v":""},{"$f":"hfevrier","v":""},{"$f":"hfevrier","v":""},{"$f":"hfevrier","v":""},{"$f":"hfevrier","v":""},{"$f":"hfevrier","v":""},{"$f":"hfevrier","v":""},{"$f":"hfevrier","v":""},{"$f":"hfevrier","v":""},{"$f":"hfevrier","v":""},{"$f":"hfevrier","v":""},{"$f":"hfevrier","v":""},{"$f":"hfevrier","v":""},{"$f":"hfevrier","v":""},{"$f":"hfevrier","v":""},{"$f":"hfevrier","v":""},{"$f":"hfevrier","v":""},{"$f":"hfevrier","v":""},{"$f":"hfevrier","v":""},{"$f":"hfevrier","v":""},{"$f":"hfevrier","v":""}]
[{"$f":"Données!$H19","v":0},{"$f":"hfevrier","v":""},{"$f":"hfevrier","v":""},{"$f":"hfevrier","v":""},{"$f":"hfevrier","v":""},{"$f":"hfevrier","v":""},{"$f":"hfevrier","v":""},{"$f":"hfevrier","v":""},{"$f":"hfevrier","v":""},{"$f":"hfevrier","v":""},{"$f":"hfevrier","v":""},{"$f":"hfevrier","v":""},{"$f":"hfevrier","v":""},{"$f":"hfevrier","v":""},{"$f":"hfevrier","v":""},{"$f":"hfevrier","v":""},{"$f":"hfevrier","v":""},{"$f":"hfevrier","v":""},{"$f":"hfevrier","v":""},{"$f":"hfevrier","v":""},{"$f":"hfevrier","v":""},{"$f":"hfevrier","v":""},{"$f":"hfevrier","v":""},{"$f":"hfevrier","v":""},{"$f":"hfevrier","v":""},{"$f":"hfevrier","v":""},{"$f":"hfevrier","v":""},{"$f":"hfevrier","v":""},{"$f":"hfevrier","v":""},{"$f":"hfevrier","v":""}]
[{"$f":"Données!$H20","v":0},{"$f":"hfevrier","v":""},{"$f":"hfevrier","v":""},{"$f":"hfevrier","v":""},{"$f":"hfevrier","v":""},{"$f":"hfevrier","v":""},{"$f":"hfevrier","v":""},{"$f":"hfevrier","v":""},{"$f":"hfevrier","v":""},{"$f":"hfevrier","v":""},{"$f":"hfevrier","v":""},{"$f":"hfevrier","v":""},{"$f":"hfevrier","v":""},{"$f":"hfevrier","v":""},{"$f":"hfevrier","v":""},{"$f":"hfevrier","v":""},{"$f":"hfevrier","v":""},{"$f":"hfevrier","v":""},{"$f":"hfevrier","v":""},{"$f":"hfevrier","v":""},{"$f":"hfevrier","v":""},{"$f":"hfevrier","v":""},{"$f":"hfevrier","v":""},{"$f":"hfevrier","v":""},{"$f":"hfevrier","v":""},{"$f":"hfevrier","v":""},{"$f":"hfevrier","v":""},{"$f":"hfevrier","v":""},{"$f":"hfevrier","v":""},{"$f":"hfevrier","v":""}]
[{"$f":"Données!$H21","v":0},{"$f":"hfevrier","v":""},{"$f":"hfevrier","v":""},{"$f":"hfevrier","v":""},{"$f":"hfevrier","v":""},{"$f":"hfevrier","v":""},{"$f":"hfevrier","v":""},{"$f":"hfevrier","v":""},{"$f":"hfevrier","v":""},{"$f":"hfevrier","v":""},{"$f":"hfevrier","v":""},{"$f":"hfevrier","v":""},{"$f":"hfevrier","v":""},{"$f":"hfevrier","v":""},{"$f":"hfevrier","v":""},{"$f":"hfevrier","v":""},{"$f":"hfevrier","v":""},{"$f":"hfevrier","v":""},{"$f":"hfevrier","v":""},{"$f":"hfevrier","v":""},{"$f":"hfevrier","v":""},{"$f":"hfevrier","v":""},{"$f":"hfevrier","v":""},{"$f":"hfevrier","v":""},{"$f":"hfevrier","v":""},{"$f":"hfevrier","v":""},{"$f":"hfevrier","v":""},{"$f":"hfevrier","v":""},{"$f":"hfevrier","v":""},{"$f":"hfevrier","v":""}]
[{"$f":"Données!$H22","v":"Equipe de nuit"}]
[{"$f":"Données!$H23","v":"K"},{"$f":"hfevrier","v":""},{"$f":"hfevrier","v":""},{"$f":"hfevrier","v":""},{"$f":"hfevrier","v":""},{"$f":"hfevrier","v":""},{"$f":"hfevrier","v":""},{"$f":"hfevrier","v":""},{"$f":"hfevrier","v":""},{"$f":"hfevrier","v":""},{"$f":"hfevrier","v":""},{"$f":"hfevrier","v":""},{"$f":"hfevrier","v":""},{"$f":"hfevrier","v":""},{"$f":"hfevrier","v":""},{"$f":"hfevrier","v":""},{"$f":"hfevrier","v":""},{"$f":"hfevrier","v":""},{"$f":"hfevrier","v":""},{"$f":"hfevrier","v":""},{"$f":"hfevrier","v":""},{"$f":"hfevrier","v":""},{"$f":"hfevrier","v":""},{"$f":"hfevrier","v":""},{"$f":"hfevrier","v":""},{"$f":"hfevrier","v":""},{"$f":"hfevrier","v":""},{"$f":"hfevrier","v":""},{"$f":"hfevrier","v":""},{"$f":"hfevrier","v":""}]
[{"$f":"Données!$H24","v":0},{"$f":"hfevrier","v":""},{"$f":"hfevrier","v":""},{"$f":"hfevrier","v":""},{"$f":"hfevrier","v":""},{"$f":"hfevrier","v":""},{"$f":"hfevrier","v":""},{"$f":"hfevrier","v":""},{"$f":"hfevrier","v":""},{"$f":"hfevrier","v":""},{"$f":"hfevrier","v":""},{"$f":"hfevrier","v":""},{"$f":"hfevrier","v":""},{"$f":"hfevrier","v":""},{"$f":"hfevrier","v":""},{"$f":"hfevrier","v":""},{"$f":"hfevrier","v":""},{"$f":"hfevrier","v":""},{"$f":"hfevrier","v":""},{"$f":"hfevrier","v":""},{"$f":"hfevrier","v":""},{"$f":"hfevrier","v":""},{"$f":"hfevrier","v":""},{"$f":"hfevrier","v":""},{"$f":"hfevrier","v":""},{"$f":"hfevrier","v":""},{"$f":"hfevrier","v":""},{"$f":"hfevrier","v":""},{"$f":"hfevrier","v":""},{"$f":"hfevrier","v":""}]
[{"$f":"Données!$H25","v":0},{"$f":"hfevrier","v":""},{"$f":"hfevrier","v":""},{"$f":"hfevrier","v":""},{"$f":"hfevrier","v":""},{"$f":"hfevrier","v":""},{"$f":"hfevrier","v":""},{"$f":"hfevrier","v":""},{"$f":"hfevrier","v":""},{"$f":"hfevrier","v":""},{"$f":"hfevrier","v":""},{"$f":"hfevrier","v":""},{"$f":"hfevrier","v":""},{"$f":"hfevrier","v":""},{"$f":"hfevrier","v":""},{"$f":"hfevrier","v":""},{"$f":"hfevrier","v":""},{"$f":"hfevrier","v":""},{"$f":"hfevrier","v":""},{"$f":"hfevrier","v":""},{"$f":"hfevrier","v":""},{"$f":"hfevrier","v":""},{"$f":"hfevrier","v":""},{"$f":"hfevrier","v":""},{"$f":"hfevrier","v":""},{"$f":"hfevrier","v":""},{"$f":"hfevrier","v":""},{"$f":"hfevrier","v":""},{"$f":"hfevrier","v":""},{"$f":"hfevrier","v":""}]
[{"$f":"Données!$H26","v":0},{"$f":"hfevrier","v":""},{"$f":"hfevrier","v":""},{"$f":"hfevrier","v":""},{"$f":"hfevrier","v":""},{"$f":"hfevrier","v":""},{"$f":"hfevrier","v":""},{"$f":"hfevrier","v":""},{"$f":"hfevrier","v":""},{"$f":"hfevrier","v":""},{"$f":"hfevrier","v":""},{"$f":"hfevrier","v":""},{"$f":"hfevrier","v":""},{"$f":"hfevrier","v":""},{"$f":"hfevrier","v":""},{"$f":"hfevrier","v":""},{"$f":"hfevrier","v":""},{"$f":"hfevrier","v":""},{"$f":"hfevrier","v":""},{"$f":"hfevrier","v":""},{"$f":"hfevrier","v":""},{"$f":"hfevrier","v":""},{"$f":"hfevrier","v":""},{"$f":"hfevrier","v":""},{"$f":"hfevrier","v":""},{"$f":"hfevrier","v":""},{"$f":"hfevrier","v":""},{"$f":"hfevrier","v":""},{"$f":"hfevrier","v":""},{"$f":"hfevrier","v":""}]
[{"$f":"Données!$H27","v":0},{"$f":"hfevrier","v":""},{"$f":"hfevrier","v":""},{"$f":"hfevrier","v":""},{"$f":"hfevrier","v":""},{"$f":"hfevrier","v":""},{"$f":"hfevrier","v":""},{"$f":"hfevrier","v":""},{"$f":"hfevrier","v":""},{"$f":"hfevrier","v":""},{"$f":"hfevrier","v":""},{"$f":"hfevrier","v":""},{"$f":"hfevrier","v":""},{"$f":"hfevrier","v":""},{"$f":"hfevrier","v":""},{"$f":"hfevrier","v":""},{"$f":"hfevrier","v":""},{"$f":"hfevrier","v":""},{"$f":"hfevrier","v":""},{"$f":"hfevrier","v":""},{"$f":"hfevrier","v":""},{"$f":"hfevrier","v":""},{"$f":"hfevrier","v":""},{"$f":"hfevrier","v":""},{"$f":"hfevrier","v":""},{"$f":"hfevrier","v":""},{"$f":"hfevrier","v":""},{"$f":"hfevrier","v":""},{"$f":"hfevrier","v":""},{"$f":"hfevrier","v":""}]
[{"$f":"Données!$H28","v":0},{"$f":"hfevrier","v":""},{"$f":"hfevrier","v":""},{"$f":"hfevrier","v":""},{"$f":"hfevrier","v":""},{"$f":"hfevrier","v":""},{"$f":"hfevrier","v":""},{"$f":"hfevrier","v":""},{"$f":"hfevrier","v":""},{"$f":"hfevrier","v":""},{"$f":"hfevrier","v":""},{"$f":"hfevrier","v":""},{"$f":"hfevrier","v":""},{"$f":"hfevrier","v":""},{"$f":"hfevrier","v":""},{"$f":"hfevrier","v":""},{"$f":"hfevrier","v":""},{"$f":"hfevrier","v":""},{"$f":"hfevrier","v":""},{"$f":"hfevrier","v":""},{"$f":"hfevrier","v":""},{"$f":"hfevrier","v":""},{"$f":"hfevrier","v":""},{"$f":"hfevrier","v":""},{"$f":"hfevrier","v":""},{"$f":"hfevrier","v":""},{"$f":"hfevrier","v":""},{"$f":"hfevrier","v":""},{"$f":"hfevrier","v":""},{"$f":"hfevrier","v":""}]
[{"$f":"Données!$H29","v":0},{"$f":"hfevrier","v":""},{"$f":"hfevrier","v":""},{"$f":"hfevrier","v":""},{"$f":"hfevrier","v":""},{"$f":"hfevrier","v":""},{"$f":"hfevrier","v":""},{"$f":"hfevrier","v":""},{"$f":"hfevrier","v":""},{"$f":"hfevrier","v":""},{"$f":"hfevrier","v":""},{"$f":"hfevrier","v":""},{"$f":"hfevrier","v":""},{"$f":"hfevrier","v":""},{"$f":"hfevrier","v":""},{"$f":"hfevrier","v":""},{"$f":"hfevrier","v":""},{"$f":"hfevrier","v":""},{"$f":"hfevrier","v":""},{"$f":"hfevrier","v":""},{"$f":"hfevrier","v":""},{"$f":"hfevrier","v":""},{"$f":"hfevrier","v":""},{"$f":"hfevrier","v":""},{"$f":"hfevrier","v":""},{"$f":"hfevrier","v":""},{"$f":"hfevrier","v":""},{"$f":"hfevrier","v":""},{"$f":"hfevrier","v":""},{"$f":"hfevrier","v":""}]
[{"$f":"Données!$H30","v":0},{"$f":"hfevrier","v":""},{"$f":"hfevrier","v":""},{"$f":"hfevrier","v":""},{"$f":"hfevrier","v":""},{"$f":"hfevrier","v":""},{"$f":"hfevrier","v":""},{"$f":"hfevrier","v":""},{"$f":"hfevrier","v":""},{"$f":"hfevrier","v":""},{"$f":"hfevrier","v":""},{"$f":"hfevrier","v":""},{"$f":"hfevrier","v":""},{"$f":"hfevrier","v":""},{"$f":"hfevrier","v":""},{"$f":"hfevrier","v":""},{"$f":"hfevrier","v":""},{"$f":"hfevrier","v":""},{"$f":"hfevrier","v":""},{"$f":"hfevrier","v":""},{"$f":"hfevrier","v":""},{"$f":"hfevrier","v":""},{"$f":"hfevrier","v":""},{"$f":"hfevrier","v":""},{"$f":"hfevrier","v":""},{"$f":"hfevrier","v":""},{"$f":"hfevrier","v":""},{"$f":"hfevrier","v":""},{"$f":"hfevrier","v":""},{"$f":"hfevrier","v":""}]
[{"$f":"Données!$H31","v":0},{"$f":"hfevrier","v":""},{"$f":"hfevrier","v":""},{"$f":"hfevrier","v":""},{"$f":"hfevrier","v":""},{"$f":"hfevrier","v":""},{"$f":"hfevrier","v":""},{"$f":"hfevrier","v":""},{"$f":"hfevrier","v":""},{"$f":"hfevrier","v":""},{"$f":"hfevrier","v":""},{"$f":"hfevrier","v":""},{"$f":"hfevrier","v":""},{"$f":"hfevrier","v":""},{"$f":"hfevrier","v":""},{"$f":"hfevrier","v":""},{"$f":"hfevrier","v":""},{"$f":"hfevrier","v":""},{"$f":"hfevrier","v":""},{"$f":"hfevrier","v":""},{"$f":"hfevrier","v":""},{"$f":"hfevrier","v":""},{"$f":"hfevrier","v":""},{"$f":"hfevrier","v":""},{"$f":"hfevrier","v":""},{"$f":"hfevrier","v":""},{"$f":"hfevrier","v":""},{"$f":"hfevrier","v":""},{"$f":"hfevrier","v":""},{"$f":"hfevrier","v":""}]
[{"$f":"Données!$H32","v":"Maitresse de maison"}]
[{"$f":"Données!$H33","v":"N"},{"$f":"hfevrier","v":""},{"$f":"hfevrier","v":""},{"$f":"hfevrier","v":""},{"$f":"hfevrier","v":""},{"$f":"hfevrier","v":""},{"$f":"hfevrier","v":""},{"$f":"hfevrier","v":""},{"$f":"hfevrier","v":""},{"$f":"hfevrier","v":""},{"$f":"hfevrier","v":""},{"$f":"hfevrier","v":""},{"$f":"hfevrier","v":""},{"$f":"hfevrier","v":""},{"$f":"hfevrier","v":""},{"$f":"hfevrier","v":""},{"$f":"hfevrier","v":""},{"$f":"hfevrier","v":""},{"$f":"hfevrier","v":""},{"$f":"hfevrier","v":""},{"$f":"hfevrier","v":""},{"$f":"hfevrier","v":""},{"$f":"hfevrier","v":""},{"$f":"hfevrier","v":""},{"$f":"hfevrier","v":""},{"$f":"hfevrier","v":""},{"$f":"hfevrier","v":""},{"$f":"hfevrier","v":""},{"$f":"hfevrier","v":""},{"$f":"hfevrier","v":""}]
[{"$f":"Données!$H34","v":0},{"$f":"hfevrier","v":""},{"$f":"hfevrier","v":""},{"$f":"hfevrier","v":""},{"$f":"hfevrier","v":""},{"$f":"hfevrier","v":""},{"$f":"hfevrier","v":""},{"$f":"hfevrier","v":""},{"$f":"hfevrier","v":""},{"$f":"hfevrier","v":""},{"$f":"hfevrier","v":""},{"$f":"hfevrier","v":""},{"$f":"hfevrier","v":""},{"$f":"hfevrier","v":""},{"$f":"hfevrier","v":""},{"$f":"hfevrier","v":""},{"$f":"hfevrier","v":""},{"$f":"hfevrier","v":""},{"$f":"hfevrier","v":""},{"$f":"hfevrier","v":""},{"$f":"hfevrier","v":""},{"$f":"hfevrier","v":""},{"$f":"hfevrier","v":""},{"$f":"hfevrier","v":""},{"$f":"hfevrier","v":""},{"$f":"hfevrier","v":""},{"$f":"hfevrier","v":""},{"$f":"hfevrier","v":""},{"$f":"hfevrier","v":""},{"$f":"hfevrier","v":""}]
[{"$f":"Données!$H35","v":0},{"$f":"hfevrier","v":""},{"$f":"hfevrier","v":""},{"$f":"hfevrier","v":""},{"$f":"hfevrier","v":""},{"$f":"hfevrier","v":""},{"$f":"hfevrier","v":""},{"$f":"hfevrier","v":""},{"$f":"hfevrier","v":""},{"$f":"hfevrier","v":""},{"$f":"hfevrier","v":""},{"$f":"hfevrier","v":""},{"$f":"hfevrier","v":""},{"$f":"hfevrier","v":""},{"$f":"hfevrier","v":""},{"$f":"hfevrier","v":""},{"$f":"hfevrier","v":""},{"$f":"hfevrier","v":""},{"$f":"hfevrier","v":""},{"$f":"hfevrier","v":""},{"$f":"hfevrier","v":""},{"$f":"hfevrier","v":""},{"$f":"hfevrier","v":""},{"$f":"hfevrier","v":""},{"$f":"hfevrier","v":""},{"$f":"hfevrier","v":""},{"$f":"hfevrier","v":""},{"$f":"hfevrier","v":""},{"$f":"hfevrier","v":""},{"$f":"hfevrier","v":""}]
[{"$f":"Données!$H36","v":0},{"$f":"hfevrier","v":""},{"$f":"hfevrier","v":""},{"$f":"hfevrier","v":""},{"$f":"hfevrier","v":""},{"$f":"hfevrier","v":""},{"$f":"hfevrier","v":""},{"$f":"hfevrier","v":""},{"$f":"hfevrier","v":""},{"$f":"hfevrier","v":""},{"$f":"hfevrier","v":""},{"$f":"hfevrier","v":""},{"$f":"hfevrier","v":""},{"$f":"hfevrier","v":""},{"$f":"hfevrier","v":""},{"$f":"hfevrier","v":""},{"$f":"hfevrier","v":""},{"$f":"hfevrier","v":""},{"$f":"hfevrier","v":""},{"$f":"hfevrier","v":""},{"$f":"hfevrier","v":""},{"$f":"hfevrier","v":""},{"$f":"hfevrier","v":""},{"$f":"hfevrier","v":""},{"$f":"hfevrier","v":""},{"$f":"hfevrier","v":""},{"$f":"hfevrier","v":""},{"$f":"hfevrier","v":""},{"$f":"hfevrier","v":""},{"$f":"hfevrier","v":""}]
[{"$f":"Données!$H37","v":0},{"$f":"hfevrier","v":""},{"$f":"hfevrier","v":""},{"$f":"hfevrier","v":""},{"$f":"hfevrier","v":""},{"$f":"hfevrier","v":""},{"$f":"hfevrier","v":""},{"$f":"hfevrier","v":""},{"$f":"hfevrier","v":""},{"$f":"hfevrier","v":""},{"$f":"hfevrier","v":""},{"$f":"hfevrier","v":""},{"$f":"hfevrier","v":""},{"$f":"hfevrier","v":""},{"$f":"hfevrier","v":""},{"$f":"hfevrier","v":""},{"$f":"hfevrier","v":""},{"$f":"hfevrier","v":""},{"$f":"hfevrier","v":""},{"$f":"hfevrier","v":""},{"$f":"hfevrier","v":""},{"$f":"hfevrier","v":""},{"$f":"hfevrier","v":""},{"$f":"hfevrier","v":""},{"$f":"hfevrier","v":""},{"$f":"hfevrier","v":""},{"$f":"hfevrier","v":""},{"$f":"hfevrier","v":""},{"$f":"hfevrier","v":""},{"$f":"hfevrier","v":""}]
[{"$f":"Données!$H38","v":0},{"$f":"hfevrier","v":""},{"$f":"hfevrier","v":""},{"$f":"hfevrier","v":""},{"$f":"hfevrier","v":""},{"$f":"hfevrier","v":""},{"$f":"hfevrier","v":""},{"$f":"hfevrier","v":""},{"$f":"hfevrier","v":""},{"$f":"hfevrier","v":""},{"$f":"hfevrier","v":""},{"$f":"hfevrier","v":""},{"$f":"hfevrier","v":""},{"$f":"hfevrier","v":""},{"$f":"hfevrier","v":""},{"$f":"hfevrier","v":""},{"$f":"hfevrier","v":""},{"$f":"hfevrier","v":""},{"$f":"hfevrier","v":""},{"$f":"hfevrier","v":""},{"$f":"hfevrier","v":""},{"$f":"hfevrier","v":""},{"$f":"hfevrier","v":""},{"$f":"hfevrier","v":""},{"$f":"hfevrier","v":""},{"$f":"hfevrier","v":""},{"$f":"hfevrier","v":""},{"$f":"hfevrier","v":""},{"$f":"hfevrier","v":""},{"$f":"hfevrier","v":""}]
[{"$f":"Données!$H39","v":0},{"$f":"hfevrier","v":""},{"$f":"hfevrier","v":""},{"$f":"hfevrier","v":""},{"$f":"hfevrier","v":""},{"$f":"hfevrier","v":""},{"$f":"hfevrier","v":""},{"$f":"hfevrier","v":""},{"$f":"hfevrier","v":""},{"$f":"hfevrier","v":""},{"$f":"hfevrier","v":""},{"$f":"hfevrier","v":""},{"$f":"hfevrier","v":""},{"$f":"hfevrier","v":""},{"$f":"hfevrier","v":""},{"$f":"hfevrier","v":""},{"$f":"hfevrier","v":""},{"$f":"hfevrier","v":""},{"$f":"hfevrier","v":""},{"$f":"hfevrier","v":""},{"$f":"hfevrier","v":""},{"$f":"hfevrier","v":""},{"$f":"hfevrier","v":""},{"$f":"hfevrier","v":""},{"$f":"hfevrier","v":""},{"$f":"hfevrier","v":""},{"$f":"hfevrier","v":""},{"$f":"hfevrier","v":""},{"$f":"hfevrier","v":""},{"$f":"hfevrier","v":""}]
[{"$f":"Données!$H40","v":0},{"$f":"hfevrier","v":""},{"$f":"hfevrier","v":""},{"$f":"hfevrier","v":""},{"$f":"hfevrier","v":""},{"$f":"hfevrier","v":""},{"$f":"hfevrier","v":""},{"$f":"hfevrier","v":""},{"$f":"hfevrier","v":""},{"$f":"hfevrier","v":""},{"$f":"hfevrier","v":""},{"$f":"hfevrier","v":""},{"$f":"hfevrier","v":""},{"$f":"hfevrier","v":""},{"$f":"hfevrier","v":""},{"$f":"hfevrier","v":""},{"$f":"hfevrier","v":""},{"$f":"hfevrier","v":""},{"$f":"hfevrier","v":""},{"$f":"hfevrier","v":""},{"$f":"hfevrier","v":""},{"$f":"hfevrier","v":""},{"$f":"hfevrier","v":""},{"$f":"hfevrier","v":""},{"$f":"hfevrier","v":""},{"$f":"hfevrier","v":""},{"$f":"hfevrier","v":""},{"$f":"hfevrier","v":""},{"$f":"hfevrier","v":""},{"$f":"hfevrier","v":""}]
[{"$f":"Données!$H41","v":0},{"$f":"hfevrier","v":""},{"$f":"hfevrier","v":""},{"$f":"hfevrier","v":""},{"$f":"hfevrier","v":""},{"$f":"hfevrier","v":""},{"$f":"hfevrier","v":""},{"$f":"hfevrier","v":""},{"$f":"hfevrier","v":""},{"$f":"hfevrier","v":""},{"$f":"hfevrier","v":""},{"$f":"hfevrier","v":""},{"$f":"hfevrier","v":""},{"$f":"hfevrier","v":""},{"$f":"hfevrier","v":""},{"$f":"hfevrier","v":""},{"$f":"hfevrier","v":""},{"$f":"hfevrier","v":""},{"$f":"hfevrier","v":""},{"$f":"hfevrier","v":""},{"$f":"hfevrier","v":""},{"$f":"hfevrier","v":""},{"$f":"hfevrier","v":""},{"$f":"hfevrier","v":""},{"$f":"hfevrier","v":""},{"$f":"hfevrier","v":""},{"$f":"hfevrier","v":""},{"$f":"hfevrier","v":""},{"$f":"hfevrier","v":""},{"$f":"hfevrier","v":""}]
[{"$f":"Données!$H42","v":"Psychologue"}]
[{"$f":"Données!$H43","v":"O"},{"$f":"hfevrier","v":""},{"$f":"hfevrier","v":""},{"$f":"hfevrier","v":""},{"$f":"hfevrier","v":""},{"$f":"hfevrier","v":""},{"$f":"hfevrier","v":""},{"$f":"hfevrier","v":""},{"$f":"hfevrier","v":""},{"$f":"hfevrier","v":""},{"$f":"hfevrier","v":""},{"$f":"hfevrier","v":""},{"$f":"hfevrier","v":""},{"$f":"hfevrier","v":""},{"$f":"hfevrier","v":""},{"$f":"hfevrier","v":""},{"$f":"hfevrier","v":""},{"$f":"hfevrier","v":""},{"$f":"hfevrier","v":""},{"$f":"hfevrier","v":""},{"$f":"hfevrier","v":""},{"$f":"hfevrier","v":""},{"$f":"hfevrier","v":""},{"$f":"hfevrier","v":""},{"$f":"hfevrier","v":""},{"$f":"hfevrier","v":""},{"$f":"hfevrier","v":""},{"$f":"hfevrier","v":""},{"$f":"hfevrier","v":""},{"$f":"hfevrier","v":""}]
[{"$f":"Données!$H44","v":0},{"$f":"hfevrier","v":""},{"$f":"hfevrier","v":""},{"$f":"hfevrier","v":""},{"$f":"hfevrier","v":""},{"$f":"hfevrier","v":""},{"$f":"hfevrier","v":""},{"$f":"hfevrier","v":""},{"$f":"hfevrier","v":""},{"$f":"hfevrier","v":""},{"$f":"hfevrier","v":""},{"$f":"hfevrier","v":""},{"$f":"hfevrier","v":""},{"$f":"hfevrier","v":""},{"$f":"hfevrier","v":""},{"$f":"hfevrier","v":""},{"$f":"hfevrier","v":""},{"$f":"hfevrier","v":""},{"$f":"hfevrier","v":""},{"$f":"hfevrier","v":""},{"$f":"hfevrier","v":""},{"$f":"hfevrier","v":""},{"$f":"hfevrier","v":""},{"$f":"hfevrier","v":""},{"$f":"hfevrier","v":""},{"$f":"hfevrier","v":""},{"$f":"hfevrier","v":""},{"$f":"hfevrier","v":""},{"$f":"hfevrier","v":""},{"$f":"hfevrier","v":""}]
[{"$f":"Données!$H45","v":0},{"$f":"hfevrier","v":""},{"$f":"hfevrier","v":""},{"$f":"hfevrier","v":""},{"$f":"hfevrier","v":""},{"$f":"hfevrier","v":""},{"$f":"hfevrier","v":""},{"$f":"hfevrier","v":""},{"$f":"hfevrier","v":""},{"$f":"hfevrier","v":""},{"$f":"hfevrier","v":""},{"$f":"hfevrier","v":""},{"$f":"hfevrier","v":""},{"$f":"hfevrier","v":""},{"$f":"hfevrier","v":""},{"$f":"hfevrier","v":""},{"$f":"hfevrier","v":""},{"$f":"hfevrier","v":""},{"$f":"hfevrier","v":""},{"$f":"hfevrier","v":""},{"$f":"hfevrier","v":""},{"$f":"hfevrier","v":""},{"$f":"hfevrier","v":""},{"$f":"hfevrier","v":""},{"$f":"hfevrier","v":""},{"$f":"hfevrier","v":""},{"$f":"hfevrier","v":""},{"$f":"hfevrier","v":""},{"$f":"hfevrier","v":""},{"$f":"hfevrier","v":""}]
[{"$f":"Données!$H46","v":"Coordinatrice"}]
[{"$f":"Données!$H47","v":"P"},{"$f":"hfevrier","v":""},{"$f":"hfevrier","v":""},{"$f":"hfevrier","v":""},{"$f":"hfevrier","v":""},{"$f":"hfevrier","v":""},{"$f":"hfevrier","v":""},{"$f":"hfevrier","v":""},{"$f":"hfevrier","v":""},{"$f":"hfevrier","v":""},{"$f":"hfevrier","v":""},{"$f":"hfevrier","v":""},{"$f":"hfevrier","v":""},{"$f":"hfevrier","v":""},{"$f":"hfevrier","v":""},{"$f":"hfevrier","v":""},{"$f":"hfevrier","v":""},{"$f":"hfevrier","v":""},{"$f":"hfevrier","v":""},{"$f":"hfevrier","v":""},{"$f":"hfevrier","v":""},{"$f":"hfevrier","v":""},{"$f":"hfevrier","v":""},{"$f":"hfevrier","v":""},{"$f":"hfevrier","v":""},{"$f":"hfevrier","v":""},{"$f":"hfevrier","v":""},{"$f":"hfevrier","v":""},{"$f":"hfevrier","v":""},{"$f":"hfevrier","v":""}]
[{"$f":"Données!$H48","v":0},{"$f":"hfevrier","v":""},{"$f":"hfevrier","v":""},{"$f":"hfevrier","v":""},{"$f":"hfevrier","v":""},{"$f":"hfevrier","v":""},{"$f":"hfevrier","v":""},{"$f":"hfevrier","v":""},{"$f":"hfevrier","v":""},{"$f":"hfevrier","v":""},{"$f":"hfevrier","v":""},{"$f":"hfevrier","v":""},{"$f":"hfevrier","v":""},{"$f":"hfevrier","v":""},{"$f":"hfevrier","v":""},{"$f":"hfevrier","v":""},{"$f":"hfevrier","v":""},{"$f":"hfevrier","v":""},{"$f":"hfevrier","v":""},{"$f":"hfevrier","v":""},{"$f":"hfevrier","v":""},{"$f":"hfevrier","v":""},{"$f":"hfevrier","v":""},{"$f":"hfevrier","v":""},{"$f":"hfevrier","v":""},{"$f":"hfevrier","v":""},{"$f":"hfevrier","v":""},{"$f":"hfevrier","v":""},{"$f":"hfevrier","v":""},{"$f":"hfevrier","v":""}]
[{"$f":"Données!$H49","v":0},{"$f":"hfevrier","v":""},{"$f":"hfevrier","v":""},{"$f":"hfevrier","v":""},{"$f":"hfevrier","v":""},{"$f":"hfevrier","v":""},{"$f":"hfevrier","v":""},{"$f":"hfevrier","v":""},{"$f":"hfevrier","v":""},{"$f":"hfevrier","v":""},{"$f":"hfevrier","v":""},{"$f":"hfevrier","v":""},{"$f":"hfevrier","v":""},{"$f":"hfevrier","v":""},{"$f":"hfevrier","v":""},{"$f":"hfevrier","v":""},{"$f":"hfevrier","v":""},{"$f":"hfevrier","v":""},{"$f":"hfevrier","v":""},{"$f":"hfevrier","v":""},{"$f":"hfevrier","v":""},{"$f":"hfevrier","v":""},{"$f":"hfevrier","v":""},{"$f":"hfevrier","v":""},{"$f":"hfevrier","v":""},{"$f":"hfevrier","v":""},{"$f":"hfevrier","v":""},{"$f":"hfevrier","v":""},{"$f":"hfevrier","v":""},{"$f":"hfevrier","v":""}]
[{"$f":"Données!$H50","v":0},{"$f":"hfevrier","v":""},{"$f":"hfevrier","v":""},{"$f":"hfevrier","v":""},{"$f":"hfevrier","v":""},{"$f":"hfevrier","v":""},{"$f":"hfevrier","v":""},{"$f":"hfevrier","v":""},{"$f":"hfevrier","v":""},{"$f":"hfevrier","v":""},{"$f":"hfevrier","v":""},{"$f":"hfevrier","v":""},{"$f":"hfevrier","v":""},{"$f":"hfevrier","v":""},{"$f":"hfevrier","v":""},{"$f":"hfevrier","v":""},{"$f":"hfevrier","v":""},{"$f":"hfevrier","v":""},{"$f":"hfevrier","v":""},{"$f":"hfevrier","v":""},{"$f":"hfevrier","v":""},{"$f":"hfevrier","v":""},{"$f":"hfevrier","v":""},{"$f":"hfevrier","v":""},{"$f":"hfevrier","v":""},{"$f":"hfevrier","v":""},{"$f":"hfevrier","v":""},{"$f":"hfevrier","v":""},{"$f":"hfevrier","v":""},{"$f":"hfevrier","v":""}]
[{"$f":"Données!$H51","v":0},{"$f":"hfevrier","v":""},{"$f":"hfevrier","v":""},{"$f":"hfevrier","v":""},{"$f":"hfevrier","v":""},{"$f":"hfevrier","v":""},{"$f":"hfevrier","v":""},{"$f":"hfevrier","v":""},{"$f":"hfevrier","v":""},{"$f":"hfevrier","v":""},{"$f":"hfevrier","v":""},{"$f":"hfevrier","v":""},{"$f":"hfevrier","v":""},{"$f":"hfevrier","v":""},{"$f":"hfevrier","v":""},{"$f":"hfevrier","v":""},{"$f":"hfevrier","v":""},{"$f":"hfevrier","v":""},{"$f":"hfevrier","v":""},{"$f":"hfevrier","v":""},{"$f":"hfevrier","v":""},{"$f":"hfevrier","v":""},{"$f":"hfevrier","v":""},{"$f":"hfevrier","v":""},{"$f":"hfevrier","v":""},{"$f":"hfevrier","v":""},{"$f":"hfevrier","v":""},{"$f":"hfevrier","v":""},{"$f":"hfevrier","v":""},{"$f":"hfevrier","v":""}]
[{"$f":"Données!$H52","v":"Chef de service"}]
[{"$f":"Données!$H53","v":"Q"},{"$f":"hfevrier","v":""},{"$f":"hfevrier","v":""},{"$f":"hfevrier","v":""},{"$f":"hfevrier","v":""},{"$f":"hfevrier","v":""},{"$f":"hfevrier","v":""},{"$f":"hfevrier","v":""},{"$f":"hfevrier","v":""},{"$f":"hfevrier","v":""},{"$f":"hfevrier","v":""},{"$f":"hfevrier","v":""},{"$f":"hfevrier","v":""},{"$f":"hfevrier","v":""},{"$f":"hfevrier","v":""},{"$f":"hfevrier","v":""},{"$f":"hfevrier","v":""},{"$f":"hfevrier","v":""},{"$f":"hfevrier","v":""},{"$f":"hfevrier","v":""},{"$f":"hfevrier","v":""},{"$f":"hfevrier","v":""},{"$f":"hfevrier","v":""},{"$f":"hfevrier","v":""},{"$f":"hfevrier","v":""},{"$f":"hfevrier","v":""},{"$f":"hfevrier","v":""},{"$f":"hfevrier","v":""},{"$f":"hfevrier","v":""},{"$f":"hfevrier","v":""}]

{"sheet":"HMars","index":16,"n_rows":56,"n_cols":32,"rows_kept":56,"cut":false,"hidden":false,"merged":[[0,4,0,5]]}
[null,null,null,"Mois de","Mars",null,null,null,{"$f":"An","v":2018}]
[null,{"$f":"DATE(An,Mars,B7)","v":"2018-03-01"},"2018-03-02","2018-03-03","2018-03-04","2018-03-05","2018-03-06","2018-03-07","2018-03-08","2018-03-09","2018-03-10","2018-03-11","2018-03-12","2018-03-13","2018-03-14","2018-03-15","2018-03-16","2018-03-17","2018-03-18","2018-03-19","2018-03-20","2018-03-21","2018-03-22","2018-03-23","2018-03-24","2018-03-25","2018-03-26","2018-03-27","2018-03-28","2018-03-29","2018-03-30","2018-03-31"]
[{"$f":"IF(Données!$L$5=\"\",\"Service\",Données!$L$5)","v":"Service"}]
[]
[]
["Jours",{"$f":"PROPER(TEXT(DATE(An,Mars,B$7),\"jjjjjj\"))","v":"Jeudi"},"Vendredi","Samedi","Dimanche","Lundi","Mardi","Mercredi","Jeudi","Vendredi","Samedi","Dimanche","Lundi","Mardi","Mercredi","Jeudi","Vendredi","Samedi","Dimanche","Lundi","Mardi","Mercredi","Jeudi","Vendredi","Samedi","Dimanche","Lundi","Mardi","Mercredi","Jeudi","Vendredi","Samedi"]
[null,1,{"$f":"B$7+1","v":2},{"$f":"C$7+1","v":3},4,5,6,7,8,9,10,11,12,13,14,15,16,17,18,19,20,21,22,23,24,25,26,{"$f":"AA$7+1","v":27},{"$f":"AB$7+1","v":28},{"$f":"AC$7+1","v":29},{"$f":"AD$7+1","v":30},{"$f":"AE$7+1","v":31}]
["Equipe de jour"]
[{"$f":"Données!$H6","v":"A"},{"$f":"hmars","v":""},{"$f":"hmars","v":""},{"$f":"hmars","v":""},{"$f":"hmars","v":""},{"$f":"hmars","v":""},{"$f":"hmars","v":""},{"$f":"hmars","v":""},{"$f":"hmars","v":""},{"$f":"hmars","v":""},{"$f":"hmars","v":""},{"$f":"hmars","v":""},{"$f":"hmars","v":""},{"$f":"hmars","v":""},{"$f":"hmars","v":""},{"$f":"hmars","v":""},{"$f":"hmars","v":""},{"$f":"hmars","v":""},{"$f":"hmars","v":""},{"$f":"hmars","v":""},{"$f":"hmars","v":""},{"$f":"hmars","v":""},{"$f":"hmars","v":""},{"$f":"hmars","v":""},{"$f":"hmars","v":""},{"$f":"hmars","v":""},{"$f":"hmars","v":""},{"$f":"hmars","v":""},{"$f":"hmars","v":""},{"$f":"hmars","v":""},{"$f":"hmars","v":""},{"$f":"hmars","v":""}]
[{"$f":"Données!$H7","v":0},{"$f":"hmars","v":""},{"$f":"hmars","v":""},{"$f":"hmars","v":""},{"$f":"hmars","v":""},{"$f":"hmars","v":""},{"$f":"hmars","v":""},{"$f":"hmars","v":""},{"$f":"hmars","v":""},{"$f":"hmars","v":""},{"$f":"hmars","v":""},{"$f":"hmars","v":""},{"$f":"hmars","v":""},{"$f":"hmars","v":""},{"$f":"hmars","v":""},{"$f":"hmars","v":""},{"$f":"hmars","v":""},{"$f":"hmars","v":""},{"$f":"hmars","v":""},{"$f":"hmars","v":""},{"$f":"hmars","v":""},{"$f":"hmars","v":""},{"$f":"hmars","v":""},{"$f":"hmars","v":""},{"$f":"hmars","v":""},{"$f":"hmars","v":""},{"$f":"hmars","v":""},{"$f":"hmars","v":""},{"$f":"hmars","v":""},{"$f":"hmars","v":""},{"$f":"hmars","v":""},{"$f":"hmars","v":""}]
[{"$f":"Données!$H8","v":0},{"$f":"hmars","v":""},{"$f":"hmars","v":""},{"$f":"hmars","v":""},{"$f":"hmars","v":""},{"$f":"hmars","v":""},{"$f":"hmars","v":""},{"$f":"hmars","v":""},{"$f":"hmars","v":""},{"$f":"hmars","v":""},{"$f":"hmars","v":""},{"$f":"hmars","v":""},{"$f":"hmars","v":""},{"$f":"hmars","v":""},{"$f":"hmars","v":""},{"$f":"hmars","v":""},{"$f":"hmars","v":""},{"$f":"hmars","v":""},{"$f":"hmars","v":""},{"$f":"hmars","v":""},{"$f":"hmars","v":""},{"$f":"hmars","v":""},{"$f":"hmars","v":""},{"$f":"hmars","v":""},{"$f":"hmars","v":""},{"$f":"hmars","v":""},{"$f":"hmars","v":""},{"$f":"hmars","v":""},{"$f":"hmars","v":""},{"$f":"hmars","v":""},{"$f":"hmars","v":""},{"$f":"hmars","v":""}]
[{"$f":"Données!$H9","v":0},{"$f":"hmars","v":""},{"$f":"hmars","v":""},{"$f":"hmars","v":""},{"$f":"hmars","v":""},{"$f":"hmars","v":""},{"$f":"hmars","v":""},{"$f":"hmars","v":""},{"$f":"hmars","v":""},{"$f":"hmars","v":""},{"$f":"hmars","v":""},{"$f":"hmars","v":""},{"$f":"hmars","v":""},{"$f":"hmars","v":""},{"$f":"hmars","v":""},{"$f":"hmars","v":""},{"$f":"hmars","v":""},{"$f":"hmars","v":""},{"$f":"hmars","v":""},{"$f":"hmars","v":""},{"$f":"hmars","v":""},{"$f":"hmars","v":""},{"$f":"hmars","v":""},{"$f":"hmars","v":""},{"$f":"hmars","v":""},{"$f":"hmars","v":""},{"$f":"hmars","v":""},{"$f":"hmars","v":""},{"$f":"hmars","v":""},{"$f":"hmars","v":""},{"$f":"hmars","v":""},{"$f":"hmars","v":""}]
[{"$f":"Données!$H10","v":0},{"$f":"hmars","v":""},{"$f":"hmars","v":""},{"$f":"hmars","v":""},{"$f":"hmars","v":""},{"$f":"hmars","v":""},{"$f":"hmars","v":""},{"$f":"hmars","v":""},{"$f":"hmars","v":""},{"$f":"hmars","v":""},{"$f":"hmars","v":""},{"$f":"hmars","v":""},{"$f":"hmars","v":""},{"$f":"hmars","v":""},{"$f":"hmars","v":""},{"$f":"hmars","v":""},{"$f":"hmars","v":""},{"$f":"hmars","v":""},{"$f":"hmars","v":""},{"$f":"hmars","v":""},{"$f":"hmars","v":""},{"$f":"hmars","v":""},{"$f":"hmars","v":""},{"$f":"hmars","v":""},{"$f":"hmars","v":""},{"$f":"hmars","v":""},{"$f":"hmars","v":""},{"$f":"hmars","v":""},{"$f":"hmars","v":""},{"$f":"hmars","v":""},{"$f":"hmars","v":""},{"$f":"hmars","v":""}]
[{"$f":"Données!$H11","v":0},{"$f":"hmars","v":""},{"$f":"hmars","v":""},{"$f":"hmars","v":""},{"$f":"hmars","v":""},{"$f":"hmars","v":""},{"$f":"hmars","v":""},{"$f":"hmars","v":""},{"$f":"hmars","v":""},{"$f":"hmars","v":""},{"$f":"hmars","v":""},{"$f":"hmars","v":""},{"$f":"hmars","v":""},{"$f":"hmars","v":""},{"$f":"hmars","v":""},{"$f":"hmars","v":""},{"$f":"hmars","v":""},{"$f":"hmars","v":""},{"$f":"hmars","v":""},{"$f":"hmars","v":""},{"$f":"hmars","v":""},{"$f":"hmars","v":""},{"$f":"hmars","v":""},{"$f":"hmars","v":""},{"$f":"hmars","v":""},{"$f":"hmars","v":""},{"$f":"hmars","v":""},{"$f":"hmars","v":""},{"$f":"hmars","v":""},{"$f":"hmars","v":""},{"$f":"hmars","v":""},{"$f":"hmars","v":""}]
[{"$f":"Données!$H12","v":0},{"$f":"hmars","v":""},{"$f":"hmars","v":""},{"$f":"hmars","v":""},{"$f":"hmars","v":""},{"$f":"hmars","v":""},{"$f":"hmars","v":""},{"$f":"hmars","v":""},{"$f":"hmars","v":""},{"$f":"hmars","v":""},{"$f":"hmars","v":""},{"$f":"hmars","v":""},{"$f":"hmars","v":""},{"$f":"hmars","v":""},{"$f":"hmars","v":""},{"$f":"hmars","v":""},{"$f":"hmars","v":""},{"$f":"hmars","v":""},{"$f":"hmars","v":""},{"$f":"hmars","v":""},{"$f":"hmars","v":""},{"$f":"hmars","v":""},{"$f":"hmars","v":""},{"$f":"hmars","v":""},{"$f":"hmars","v":""},{"$f":"hmars","v":""},{"$f":"hmars","v":""},{"$f":"hmars","v":""},{"$f":"hmars","v":""},{"$f":"hmars","v":""},{"$f":"hmars","v":""},{"$f":"hmars","v":""}]
[{"$f":"Données!$H13","v":0},{"$f":"hmars","v":""},{"$f":"hmars","v":""},{"$f":"hmars","v":""},{"$f":"hmars","v":""},{"$f":"hmars","v":""},{"$f":"hmars","v":""},{"$f":"hmars","v":""},{"$f":"hmars","v":""},{"$f":"hmars","v":""},{"$f":"hmars","v":""},{"$f":"hmars","v":""},{"$f":"hmars","v":""},{"$f":"hmars","v":""},{"$f":"hmars","v":""},{"$f":"hmars","v":""},{"$f":"hmars","v":""},{"$f":"hmars","v":""},{"$f":"hmars","v":""},{"$f":"hmars","v":""},{"$f":"hmars","v":""},{"$f":"hmars","v":""},{"$f":"hmars","v":""},{"$f":"hmars","v":""},{"$f":"hmars","v":""},{"$f":"hmars","v":""},{"$f":"hmars","v":""},{"$f":"hmars","v":""},{"$f":"hmars","v":""},{"$f":"hmars","v":""},{"$f":"hmars","v":""},{"$f":"hmars","v":""}]
[{"$f":"Données!$H14","v":0},{"$f":"hmars","v":""},{"$f":"hmars","v":""},{"$f":"hmars","v":""},{"$f":"hmars","v":""},{"$f":"hmars","v":""},{"$f":"hmars","v":""},{"$f":"hmars","v":""},{"$f":"hmars","v":""},{"$f":"hmars","v":""},{"$f":"hmars","v":""},{"$f":"hmars","v":""},{"$f":"hmars","v":""},{"$f":"hmars","v":""},{"$f":"hmars","v":""},{"$f":"hmars","v":""},{"$f":"hmars","v":""},{"$f":"hmars","v":""},{"$f":"hmars","v":""},{"$f":"hmars","v":""},{"$f":"hmars","v":""},{"$f":"hmars","v":""},{"$f":"hmars","v":""},{"$f":"hmars","v":""},{"$f":"hmars","v":""},{"$f":"hmars","v":""},{"$f":"hmars","v":""},{"$f":"hmars","v":""},{"$f":"hmars","v":""},{"$f":"hmars","v":""},{"$f":"hmars","v":""},{"$f":"hmars","v":""}]
[{"$f":"Données!$H15","v":0},{"$f":"hmars","v":""},{"$f":"hmars","v":""},{"$f":"hmars","v":""},{"$f":"hmars","v":""},{"$f":"hmars","v":""},{"$f":"hmars","v":""},{"$f":"hmars","v":""},{"$f":"hmars","v":""},{"$f":"hmars","v":""},{"$f":"hmars","v":""},{"$f":"hmars","v":""},{"$f":"hmars","v":""},{"$f":"hmars","v":""},{"$f":"hmars","v":""},{"$f":"hmars","v":""},{"$f":"hmars","v":""},{"$f":"hmars","v":""},{"$f":"hmars","v":""},{"$f":"hmars","v":""},{"$f":"hmars","v":""},{"$f":"hmars","v":""},{"$f":"hmars","v":""},{"$f":"hmars","v":""},{"$f":"hmars","v":""},{"$f":"hmars","v":""},{"$f":"hmars","v":""},{"$f":"hmars","v":""},{"$f":"hmars","v":""},{"$f":"hmars","v":""},{"$f":"hmars","v":""},{"$f":"hmars","v":""}]
[{"$f":"Données!$H16","v":0},{"$f":"hmars","v":""},{"$f":"hmars","v":""},{"$f":"hmars","v":""},{"$f":"hmars","v":""},{"$f":"hmars","v":""},{"$f":"hmars","v":""},{"$f":"hmars","v":""},{"$f":"hmars","v":""},{"$f":"hmars","v":""},{"$f":"hmars","v":""},{"$f":"hmars","v":""},{"$f":"hmars","v":""},{"$f":"hmars","v":""},{"$f":"hmars","v":""},{"$f":"hmars","v":""},{"$f":"hmars","v":""},{"$f":"hmars","v":""},{"$f":"hmars","v":""},{"$f":"hmars","v":""},{"$f":"hmars","v":""},{"$f":"hmars","v":""},{"$f":"hmars","v":""},{"$f":"hmars","v":""},{"$f":"hmars","v":""},{"$f":"hmars","v":""},{"$f":"hmars","v":""},{"$f":"hmars","v":""},{"$f":"hmars","v":""},{"$f":"hmars","v":""},{"$f":"hmars","v":""},{"$f":"hmars","v":""}]
[{"$f":"Données!$H17","v":0},{"$f":"hmars","v":""},{"$f":"hmars","v":""},{"$f":"hmars","v":""},{"$f":"hmars","v":""},{"$f":"hmars","v":""},{"$f":"hmars","v":""},{"$f":"hmars","v":""},{"$f":"hmars","v":""},{"$f":"hmars","v":""},{"$f":"hmars","v":""},{"$f":"hmars","v":""},{"$f":"hmars","v":""},{"$f":"hmars","v":""},{"$f":"hmars","v":""},{"$f":"hmars","v":""},{"$f":"hmars","v":""},{"$f":"hmars","v":""},{"$f":"hmars","v":""},{"$f":"hmars","v":""},{"$f":"hmars","v":""},{"$f":"hmars","v":""},{"$f":"hmars","v":""},{"$f":"hmars","v":""},{"$f":"hmars","v":""},{"$f":"hmars","v":""},{"$f":"hmars","v":""},{"$f":"hmars","v":""},{"$f":"hmars","v":""},{"$f":"hmars","v":""},{"$f":"hmars","v":""},{"$f":"hmars","v":""}]
[{"$f":"Données!$H18","v":0},{"$f":"hmars","v":""},{"$f":"hmars","v":""},{"$f":"hmars","v":""},{"$f":"hmars","v":""},{"$f":"hmars","v":""},{"$f":"hmars","v":""},{"$f":"hmars","v":""},{"$f":"hmars","v":""},{"$f":"hmars","v":""},{"$f":"hmars","v":""},{"$f":"hmars","v":""},{"$f":"hmars","v":""},{"$f":"hmars","v":""},{"$f":"hmars","v":""},{"$f":"hmars","v":""},{"$f":"hmars","v":""},{"$f":"hmars","v":""},{"$f":"hmars","v":""},{"$f":"hmars","v":""},{"$f":"hmars","v":""},{"$f":"hmars","v":""},{"$f":"hmars","v":""},{"$f":"hmars","v":""},{"$f":"hmars","v":""},{"$f":"hmars","v":""},{"$f":"hmars","v":""},{"$f":"hmars","v":""},{"$f":"hmars","v":""},{"$f":"hmars","v":""},{"$f":"hmars","v":""},{"$f":"hmars","v":""}]
[{"$f":"Données!$H19","v":0},{"$f":"hmars","v":""},{"$f":"hmars","v":""},{"$f":"hmars","v":""},{"$f":"hmars","v":""},{"$f":"hmars","v":""},{"$f":"hmars","v":""},{"$f":"hmars","v":""},{"$f":"hmars","v":""},{"$f":"hmars","v":""},{"$f":"hmars","v":""},{"$f":"hmars","v":""},{"$f":"hmars","v":""},{"$f":"hmars","v":""},{"$f":"hmars","v":""},{"$f":"hmars","v":""},{"$f":"hmars","v":""},{"$f":"hmars","v":""},{"$f":"hmars","v":""},{"$f":"hmars","v":""},{"$f":"hmars","v":""},{"$f":"hmars","v":""},{"$f":"hmars","v":""},{"$f":"hmars","v":""},{"$f":"hmars","v":""},{"$f":"hmars","v":""},{"$f":"hmars","v":""},{"$f":"hmars","v":""},{"$f":"hmars","v":""},{"$f":"hmars","v":""},{"$f":"hmars","v":""},{"$f":"hmars","v":""}]
[{"$f":"Données!$H20","v":0},{"$f":"hmars","v":""},{"$f":"hmars","v":""},{"$f":"hmars","v":""},{"$f":"hmars","v":""},{"$f":"hmars","v":""},{"$f":"hmars","v":""},{"$f":"hmars","v":""},{"$f":"hmars","v":""},{"$f":"hmars","v":""},{"$f":"hmars","v":""},{"$f":"hmars","v":""},{"$f":"hmars","v":""},{"$f":"hmars","v":""},{"$f":"hmars","v":""},{"$f":"hmars","v":""},{"$f":"hmars","v":""},{"$f":"hmars","v":""},{"$f":"hmars","v":""},{"$f":"hmars","v":""},{"$f":"hmars","v":""},{"$f":"hmars","v":""},{"$f":"hmars","v":""},{"$f":"hmars","v":""},{"$f":"hmars","v":""},{"$f":"hmars","v":""},{"$f":"hmars","v":""},{"$f":"hmars","v":""},{"$f":"hmars","v":""},{"$f":"hmars","v":""},{"$f":"hmars","v":""},{"$f":"hmars","v":""}]
[{"$f":"Données!$H21","v":0},{"$f":"hmars","v":""},{"$f":"hmars","v":""},{"$f":"hmars","v":""},{"$f":"hmars","v":""},{"$f":"hmars","v":""},{"$f":"hmars","v":""},{"$f":"hmars","v":""},{"$f":"hmars","v":""},{"$f":"hmars","v":""},{"$f":"hmars","v":""},{"$f":"hmars","v":""},{"$f":"hmars","v":""},{"$f":"hmars","v":""},{"$f":"hmars","v":""},{"$f":"hmars","v":""},{"$f":"hmars","v":""},{"$f":"hmars","v":""},{"$f":"hmars","v":""},{"$f":"hmars","v":""},{"$f":"hmars","v":""},{"$f":"hmars","v":""},{"$f":"hmars","v":""},{"$f":"hmars","v":""},{"$f":"hmars","v":""},{"$f":"hmars","v":""},{"$f":"hmars","v":""},{"$f":"hmars","v":""},{"$f":"hmars","v":""},{"$f":"hmars","v":""},{"$f":"hmars","v":""},{"$f":"hmars","v":""}]
[{"$f":"Données!$H22","v":"Equipe de nuit"}]
[{"$f":"Données!$H23","v":"K"},{"$f":"hmars","v":""},{"$f":"hmars","v":""},{"$f":"hmars","v":""},{"$f":"hmars","v":""},{"$f":"hmars","v":""},{"$f":"hmars","v":""},{"$f":"hmars","v":""},{"$f":"hmars","v":""},{"$f":"hmars","v":""},{"$f":"hmars","v":""},{"$f":"hmars","v":""},{"$f":"hmars","v":""},{"$f":"hmars","v":""},{"$f":"hmars","v":""},{"$f":"hmars","v":""},{"$f":"hmars","v":""},{"$f":"hmars","v":""},{"$f":"hmars","v":""},{"$f":"hmars","v":""},{"$f":"hmars","v":""},{"$f":"hmars","v":""},{"$f":"hmars","v":""},{"$f":"hmars","v":""},{"$f":"hmars","v":""},{"$f":"hmars","v":""},{"$f":"hmars","v":""},{"$f":"hmars","v":""},{"$f":"hmars","v":""},{"$f":"hmars","v":""},{"$f":"hmars","v":""},{"$f":"hmars","v":""}]
[{"$f":"Données!$H24","v":0},{"$f":"hmars","v":""},{"$f":"hmars","v":""},{"$f":"hmars","v":""},{"$f":"hmars","v":""},{"$f":"hmars","v":""},{"$f":"hmars","v":""},{"$f":"hmars","v":""},{"$f":"hmars","v":""},{"$f":"hmars","v":""},{"$f":"hmars","v":""},{"$f":"hmars","v":""},{"$f":"hmars","v":""},{"$f":"hmars","v":""},{"$f":"hmars","v":""},{"$f":"hmars","v":""},{"$f":"hmars","v":""},{"$f":"hmars","v":""},{"$f":"hmars","v":""},{"$f":"hmars","v":""},{"$f":"hmars","v":""},{"$f":"hmars","v":""},{"$f":"hmars","v":""},{"$f":"hmars","v":""},{"$f":"hmars","v":""},{"$f":"hmars","v":""},{"$f":"hmars","v":""},{"$f":"hmars","v":""},{"$f":"hmars","v":""},{"$f":"hmars","v":""},{"$f":"hmars","v":""},{"$f":"hmars","v":""}]
[{"$f":"Données!$H25","v":0},{"$f":"hmars","v":""},{"$f":"hmars","v":""},{"$f":"hmars","v":""},{"$f":"hmars","v":""},{"$f":"hmars","v":""},{"$f":"hmars","v":""},{"$f":"hmars","v":""},{"$f":"hmars","v":""},{"$f":"hmars","v":""},{"$f":"hmars","v":""},{"$f":"hmars","v":""},{"$f":"hmars","v":""},{"$f":"hmars","v":""},{"$f":"hmars","v":""},{"$f":"hmars","v":""},{"$f":"hmars","v":""},{"$f":"hmars","v":""},{"$f":"hmars","v":""},{"$f":"hmars","v":""},{"$f":"hmars","v":""},{"$f":"hmars","v":""},{"$f":"hmars","v":""},{"$f":"hmars","v":""},{"$f":"hmars","v":""},{"$f":"hmars","v":""},{"$f":"hmars","v":""},{"$f":"hmars","v":""},{"$f":"hmars","v":""},{"$f":"hmars","v":""},{"$f":"hmars","v":""},{"$f":"hmars","v":""}]
[{"$f":"Données!$H26","v":0},{"$f":"hmars","v":""},{"$f":"hmars","v":""},{"$f":"hmars","v":""},{"$f":"hmars","v":""},{"$f":"hmars","v":""},{"$f":"hmars","v":""},{"$f":"hmars","v":""},{"$f":"hmars","v":""},{"$f":"hmars","v":""},{"$f":"hmars","v":""},{"$f":"hmars","v":""},{"$f":"hmars","v":""},{"$f":"hmars","v":""},{"$f":"hmars","v":""},{"$f":"hmars","v":""},{"$f":"hmars","v":""},{"$f":"hmars","v":""},{"$f":"hmars","v":""},{"$f":"hmars","v":""},{"$f":"hmars","v":""},{"$f":"hmars","v":""},{"$f":"hmars","v":""},{"$f":"hmars","v":""},{"$f":"hmars","v":""},{"$f":"hmars","v":""},{"$f":"hmars","v":""},{"$f":"hmars","v":""},{"$f":"hmars","v":""},{"$f":"hmars","v":""},{"$f":"hmars","v":""},{"$f":"hmars","v":""}]
[{"$f":"Données!$H27","v":0},{"$f":"hmars","v":""},{"$f":"hmars","v":""},{"$f":"hmars","v":""},{"$f":"hmars","v":""},{"$f":"hmars","v":""},{"$f":"hmars","v":""},{"$f":"hmars","v":""},{"$f":"hmars","v":""},{"$f":"hmars","v":""},{"$f":"hmars","v":""},{"$f":"hmars","v":""},{"$f":"hmars","v":""},{"$f":"hmars","v":""},{"$f":"hmars","v":""},{"$f":"hmars","v":""},{"$f":"hmars","v":""},{"$f":"hmars","v":""},{"$f":"hmars","v":""},{"$f":"hmars","v":""},{"$f":"hmars","v":""},{"$f":"hmars","v":""},{"$f":"hmars","v":""},{"$f":"hmars","v":""},{"$f":"hmars","v":""},{"$f":"hmars","v":""},{"$f":"hmars","v":""},{"$f":"hmars","v":""},{"$f":"hmars","v":""},{"$f":"hmars","v":""},{"$f":"hmars","v":""},{"$f":"hmars","v":""}]
[{"$f":"Données!$H28","v":0},{"$f":"hmars","v":""},{"$f":"hmars","v":""},{"$f":"hmars","v":""},{"$f":"hmars","v":""},{"$f":"hmars","v":""},{"$f":"hmars","v":""},{"$f":"hmars","v":""},{"$f":"hmars","v":""},{"$f":"hmars","v":""},{"$f":"hmars","v":""},{"$f":"hmars","v":""},{"$f":"hmars","v":""},{"$f":"hmars","v":""},{"$f":"hmars","v":""},{"$f":"hmars","v":""},{"$f":"hmars","v":""},{"$f":"hmars","v":""},{"$f":"hmars","v":""},{"$f":"hmars","v":""},{"$f":"hmars","v":""},{"$f":"hmars","v":""},{"$f":"hmars","v":""},{"$f":"hmars","v":""},{"$f":"hmars","v":""},{"$f":"hmars","v":""},{"$f":"hmars","v":""},{"$f":"hmars","v":""},{"$f":"hmars","v":""},{"$f":"hmars","v":""},{"$f":"hmars","v":""},{"$f":"hmars","v":""}]
[{"$f":"Données!$H29","v":0},{"$f":"hmars","v":""},{"$f":"hmars","v":""},{"$f":"hmars","v":""},{"$f":"hmars","v":""},{"$f":"hmars","v":""},{"$f":"hmars","v":""},{"$f":"hmars","v":""},{"$f":"hmars","v":""},{"$f":"hmars","v":""},{"$f":"hmars","v":""},{"$f":"hmars","v":""},{"$f":"hmars","v":""},{"$f":"hmars","v":""},{"$f":"hmars","v":""},{"$f":"hmars","v":""},{"$f":"hmars","v":""},{"$f":"hmars","v":""},{"$f":"hmars","v":""},{"$f":"hmars","v":""},{"$f":"hmars","v":""},{"$f":"hmars","v":""},{"$f":"hmars","v":""},{"$f":"hmars","v":""},{"$f":"hmars","v":""},{"$f":"hmars","v":""},{"$f":"hmars","v":""},{"$f":"hmars","v":""},{"$f":"hmars","v":""},{"$f":"hmars","v":""},{"$f":"hmars","v":""},{"$f":"hmars","v":""}]
[{"$f":"Données!$H30","v":0},{"$f":"hmars","v":""},{"$f":"hmars","v":""},{"$f":"hmars","v":""},{"$f":"hmars","v":""},{"$f":"hmars","v":""},{"$f":"hmars","v":""},{"$f":"hmars","v":""},{"$f":"hmars","v":""},{"$f":"hmars","v":""},{"$f":"hmars","v":""},{"$f":"hmars","v":""},{"$f":"hmars","v":""},{"$f":"hmars","v":""},{"$f":"hmars","v":""},{"$f":"hmars","v":""},{"$f":"hmars","v":""},{"$f":"hmars","v":""},{"$f":"hmars","v":""},{"$f":"hmars","v":""},{"$f":"hmars","v":""},{"$f":"hmars","v":""},{"$f":"hmars","v":""},{"$f":"hmars","v":""},{"$f":"hmars","v":""},{"$f":"hmars","v":""},{"$f":"hmars","v":""},{"$f":"hmars","v":""},{"$f":"hmars","v":""},{"$f":"hmars","v":""},{"$f":"hmars","v":""},{"$f":"hmars","v":""}]
[{"$f":"Données!$H31","v":0},{"$f":"hmars","v":""},{"$f":"hmars","v":""},{"$f":"hmars","v":""},{"$f":"hmars","v":""},{"$f":"hmars","v":""},{"$f":"hmars","v":""},{"$f":"hmars","v":""},{"$f":"hmars","v":""},{"$f":"hmars","v":""},{"$f":"hmars","v":""},{"$f":"hmars","v":""},{"$f":"hmars","v":""},{"$f":"hmars","v":""},{"$f":"hmars","v":""},{"$f":"hmars","v":""},{"$f":"hmars","v":""},{"$f":"hmars","v":""},{"$f":"hmars","v":""},{"$f":"hmars","v":""},{"$f":"hmars","v":""},{"$f":"hmars","v":""},{"$f":"hmars","v":""},{"$f":"hmars","v":""},{"$f":"hmars","v":""},{"$f":"hmars","v":""},{"$f":"hmars","v":""},{"$f":"hmars","v":""},{"$f":"hmars","v":""},{"$f":"hmars","v":""},{"$f":"hmars","v":""},{"$f":"hmars","v":""}]
[{"$f":"Données!$H32","v":"Maitresse de maison"}]
[{"$f":"Données!$H33","v":"N"},{"$f":"hmars","v":""},{"$f":"hmars","v":""},{"$f":"hmars","v":""},{"$f":"hmars","v":""},{"$f":"hmars","v":""},{"$f":"hmars","v":""},{"$f":"hmars","v":""},{"$f":"hmars","v":""},{"$f":"hmars","v":""},{"$f":"hmars","v":""},{"$f":"hmars","v":""},{"$f":"hmars","v":""},{"$f":"hmars","v":""},{"$f":"hmars","v":""},{"$f":"hmars","v":""},{"$f":"hmars","v":""},{"$f":"hmars","v":""},{"$f":"hmars","v":""},{"$f":"hmars","v":""},{"$f":"hmars","v":""},{"$f":"hmars","v":""},{"$f":"hmars","v":""},{"$f":"hmars","v":""},{"$f":"hmars","v":""},{"$f":"hmars","v":""},{"$f":"hmars","v":""},{"$f":"hmars","v":""},{"$f":"hmars","v":""},{"$f":"hmars","v":""},{"$f":"hmars","v":""},{"$f":"hmars","v":""}]
[{"$f":"Données!$H34","v":0},{"$f":"hmars","v":""},{"$f":"hmars","v":""},{"$f":"hmars","v":""},{"$f":"hmars","v":""},{"$f":"hmars","v":""},{"$f":"hmars","v":""},{"$f":"hmars","v":""},{"$f":"hmars","v":""},{"$f":"hmars","v":""},{"$f":"hmars","v":""},{"$f":"hmars","v":""},{"$f":"hmars","v":""},{"$f":"hmars","v":""},{"$f":"hmars","v":""},{"$f":"hmars","v":""},{"$f":"hmars","v":""},{"$f":"hmars","v":""},{"$f":"hmars","v":""},{"$f":"hmars","v":""},{"$f":"hmars","v":""},{"$f":"hmars","v":""},{"$f":"hmars","v":""},{"$f":"hmars","v":""},{"$f":"hmars","v":""},{"$f":"hmars","v":""},{"$f":"hmars","v":""},{"$f":"hmars","v":""},{"$f":"hmars","v":""},{"$f":"hmars","v":""},{"$f":"hmars","v":""},{"$f":"hmars","v":""}]
[{"$f":"Données!$H35","v":0},{"$f":"hmars","v":""},{"$f":"hmars","v":""},{"$f":"hmars","v":""},{"$f":"hmars","v":""},{"$f":"hmars","v":""},{"$f":"hmars","v":""},{"$f":"hmars","v":""},{"$f":"hmars","v":""},{"$f":"hmars","v":""},{"$f":"hmars","v":""},{"$f":"hmars","v":""},{"$f":"hmars","v":""},{"$f":"hmars","v":""},{"$f":"hmars","v":""},{"$f":"hmars","v":""},{"$f":"hmars","v":""},{"$f":"hmars","v":""},{"$f":"hmars","v":""},{"$f":"hmars","v":""},{"$f":"hmars","v":""},{"$f":"hmars","v":""},{"$f":"hmars","v":""},{"$f":"hmars","v":""},{"$f":"hmars","v":""},{"$f":"hmars","v":""},{"$f":"hmars","v":""},{"$f":"hmars","v":""},{"$f":"hmars","v":""},{"$f":"hmars","v":""},{"$f":"hmars","v":""},{"$f":"hmars","v":""}]
[{"$f":"Données!$H36","v":0},{"$f":"hmars","v":""},{"$f":"hmars","v":""},{"$f":"hmars","v":""},{"$f":"hmars","v":""},{"$f":"hmars","v":""},{"$f":"hmars","v":""},{"$f":"hmars","v":""},{"$f":"hmars","v":""},{"$f":"hmars","v":""},{"$f":"hmars","v":""},{"$f":"hmars","v":""},{"$f":"hmars","v":""},{"$f":"hmars","v":""},{"$f":"hmars","v":""},{"$f":"hmars","v":""},{"$f":"hmars","v":""},{"$f":"hmars","v":""},{"$f":"hmars","v":""},{"$f":"hmars","v":""},{"$f":"hmars","v":""},{"$f":"hmars","v":""},{"$f":"hmars","v":""},{"$f":"hmars","v":""},{"$f":"hmars","v":""},{"$f":"hmars","v":""},{"$f":"hmars","v":""},{"$f":"hmars","v":""},{"$f":"hmars","v":""},{"$f":"hmars","v":""},{"$f":"hmars","v":""},{"$f":"hmars","v":""}]
[{"$f":"Données!$H37","v":0},{"$f":"hmars","v":""},{"$f":"hmars","v":""},{"$f":"hmars","v":""},{"$f":"hmars","v":""},{"$f":"hmars","v":""},{"$f":"hmars","v":""},{"$f":"hmars","v":""},{"$f":"hmars","v":""},{"$f":"hmars","v":""},{"$f":"hmars","v":""},{"$f":"hmars","v":""},{"$f":"hmars","v":""},{"$f":"hmars","v":""},{"$f":"hmars","v":""},{"$f":"hmars","v":""},{"$f":"hmars","v":""},{"$f":"hmars","v":""},{"$f":"hmars","v":""},{"$f":"hmars","v":""},{"$f":"hmars","v":""},{"$f":"hmars","v":""},{"$f":"hmars","v":""},{"$f":"hmars","v":""},{"$f":"hmars","v":""},{"$f":"hmars","v":""},{"$f":"hmars","v":""},{"$f":"hmars","v":""},{"$f":"hmars","v":""},{"$f":"hmars","v":""},{"$f":"hmars","v":""},{"$f":"hmars","v":""}]
[{"$f":"Données!$H38","v":0},{"$f":"hmars","v":""},{"$f":"hmars","v":""},{"$f":"hmars","v":""},{"$f":"hmars","v":""},{"$f":"hmars","v":""},{"$f":"hmars","v":""},{"$f":"hmars","v":""},{"$f":"hmars","v":""},{"$f":"hmars","v":""},{"$f":"hmars","v":""},{"$f":"hmars","v":""},{"$f":"hmars","v":""},{"$f":"hmars","v":""},{"$f":"hmars","v":""},{"$f":"hmars","v":""},{"$f":"hmars","v":""},{"$f":"hmars","v":""},{"$f":"hmars","v":""},{"$f":"hmars","v":""},{"$f":"hmars","v":""},{"$f":"hmars","v":""},{"$f":"hmars","v":""},{"$f":"hmars","v":""},{"$f":"hmars","v":""},{"$f":"hmars","v":""},{"$f":"hmars","v":""},{"$f":"hmars","v":""},{"$f":"hmars","v":""},{"$f":"hmars","v":""},{"$f":"hmars","v":""},{"$f":"hmars","v":""}]
[{"$f":"Données!$H39","v":0},{"$f":"hmars","v":""},{"$f":"hmars","v":""},{"$f":"hmars","v":""},{"$f":"hmars","v":""},{"$f":"hmars","v":""},{"$f":"hmars","v":""},{"$f":"hmars","v":""},{"$f":"hmars","v":""},{"$f":"hmars","v":""},{"$f":"hmars","v":""},{"$f":"hmars","v":""},{"$f":"hmars","v":""},{"$f":"hmars","v":""},{"$f":"hmars","v":""},{"$f":"hmars","v":""},{"$f":"hmars","v":""},{"$f":"hmars","v":""},{"$f":"hmars","v":""},{"$f":"hmars","v":""},{"$f":"hmars","v":""},{"$f":"hmars","v":""},{"$f":"hmars","v":""},{"$f":"hmars","v":""},{"$f":"hmars","v":""},{"$f":"hmars","v":""},{"$f":"hmars","v":""},{"$f":"hmars","v":""},{"$f":"hmars","v":""},{"$f":"hmars","v":""},{"$f":"hmars","v":""},{"$f":"hmars","v":""}]
[{"$f":"Données!$H40","v":0},{"$f":"hmars","v":""},{"$f":"hmars","v":""},{"$f":"hmars","v":""},{"$f":"hmars","v":""},{"$f":"hmars","v":""},{"$f":"hmars","v":""},{"$f":"hmars","v":""},{"$f":"hmars","v":""},{"$f":"hmars","v":""},{"$f":"hmars","v":""},{"$f":"hmars","v":""},{"$f":"hmars","v":""},{"$f":"hmars","v":""},{"$f":"hmars","v":""},{"$f":"hmars","v":""},{"$f":"hmars","v":""},{"$f":"hmars","v":""},{"$f":"hmars","v":""},{"$f":"hmars","v":""},{"$f":"hmars","v":""},{"$f":"hmars","v":""},{"$f":"hmars","v":""},{"$f":"hmars","v":""},{"$f":"hmars","v":""},{"$f":"hmars","v":""},{"$f":"hmars","v":""},{"$f":"hmars","v":""},{"$f":"hmars","v":""},{"$f":"hmars","v":""},{"$f":"hmars","v":""},{"$f":"hmars","v":""}]
[{"$f":"Données!$H41","v":0},{"$f":"hmars","v":""},{"$f":"hmars","v":""},{"$f":"hmars","v":""},{"$f":"hmars","v":""},{"$f":"hmars","v":""},{"$f":"hmars","v":""},{"$f":"hmars","v":""},{"$f":"hmars","v":""},{"$f":"hmars","v":""},{"$f":"hmars","v":""},{"$f":"hmars","v":""},{"$f":"hmars","v":""},{"$f":"hmars","v":""},{"$f":"hmars","v":""},{"$f":"hmars","v":""},{"$f":"hmars","v":""},{"$f":"hmars","v":""},{"$f":"hmars","v":""},{"$f":"hmars","v":""},{"$f":"hmars","v":""},{"$f":"hmars","v":""},{"$f":"hmars","v":""},{"$f":"hmars","v":""},{"$f":"hmars","v":""},{"$f":"hmars","v":""},{"$f":"hmars","v":""},{"$f":"hmars","v":""},{"$f":"hmars","v":""},{"$f":"hmars","v":""},{"$f":"hmars","v":""},{"$f":"hmars","v":""}]
[{"$f":"Données!$H42","v":"Psychologue"}]
[{"$f":"Données!$H43","v":"O"},{"$f":"hmars","v":""},{"$f":"hmars","v":""},{"$f":"hmars","v":""},{"$f":"hmars","v":""},{"$f":"hmars","v":""},{"$f":"hmars","v":""},{"$f":"hmars","v":""},{"$f":"hmars","v":""},{"$f":"hmars","v":""},{"$f":"hmars","v":""},{"$f":"hmars","v":""},{"$f":"hmars","v":""},{"$f":"hmars","v":""},{"$f":"hmars","v":""},{"$f":"hmars","v":""},{"$f":"hmars","v":""},{"$f":"hmars","v":""},{"$f":"hmars","v":""},{"$f":"hmars","v":""},{"$f":"hmars","v":""},{"$f":"hmars","v":""},{"$f":"hmars","v":""},{"$f":"hmars","v":""},{"$f":"hmars","v":""},{"$f":"hmars","v":""},{"$f":"hmars","v":""},{"$f":"hmars","v":""},{"$f":"hmars","v":""},{"$f":"hmars","v":""},{"$f":"hmars","v":""},{"$f":"hmars","v":""}]
[{"$f":"Données!$H44","v":0},{"$f":"hmars","v":""},{"$f":"hmars","v":""},{"$f":"hmars","v":""},{"$f":"hmars","v":""},{"$f":"hmars","v":""},{"$f":"hmars","v":""},{"$f":"hmars","v":""},{"$f":"hmars","v":""},{"$f":"hmars","v":""},{"$f":"hmars","v":""},{"$f":"hmars","v":""},{"$f":"hmars","v":""},{"$f":"hmars","v":""},{"$f":"hmars","v":""},{"$f":"hmars","v":""},{"$f":"hmars","v":""},{"$f":"hmars","v":""},{"$f":"hmars","v":""},{"$f":"hmars","v":""},{"$f":"hmars","v":""},{"$f":"hmars","v":""},{"$f":"hmars","v":""},{"$f":"hmars","v":""},{"$f":"hmars","v":""},{"$f":"hmars","v":""},{"$f":"hmars","v":""},{"$f":"hmars","v":""},{"$f":"hmars","v":""},{"$f":"hmars","v":""},{"$f":"hmars","v":""},{"$f":"hmars","v":""}]
[{"$f":"Données!$H45","v":0},{"$f":"hmars","v":""},{"$f":"hmars","v":""},{"$f":"hmars","v":""},{"$f":"hmars","v":""},{"$f":"hmars","v":""},{"$f":"hmars","v":""},{"$f":"hmars","v":""},{"$f":"hmars","v":""},{"$f":"hmars","v":""},{"$f":"hmars","v":""},{"$f":"hmars","v":""},{"$f":"hmars","v":""},{"$f":"hmars","v":""},{"$f":"hmars","v":""},{"$f":"hmars","v":""},{"$f":"hmars","v":""},{"$f":"hmars","v":""},{"$f":"hmars","v":""},{"$f":"hmars","v":""},{"$f":"hmars","v":""},{"$f":"hmars","v":""},{"$f":"hmars","v":""},{"$f":"hmars","v":""},{"$f":"hmars","v":""},{"$f":"hmars","v":""},{"$f":"hmars","v":""},{"$f":"hmars","v":""},{"$f":"hmars","v":""},{"$f":"hmars","v":""},{"$f":"hmars","v":""},{"$f":"hmars","v":""}]
[{"$f":"Données!$H46","v":"Coordinatrice"}]
[{"$f":"Données!$H47","v":"P"},{"$f":"hmars","v":""},{"$f":"hmars","v":""},{"$f":"hmars","v":""},{"$f":"hmars","v":""},{"$f":"hmars","v":""},{"$f":"hmars","v":""},{"$f":"hmars","v":""},{"$f":"hmars","v":""},{"$f":"hmars","v":""},{"$f":"hmars","v":""},{"$f":"hmars","v":""},{"$f":"hmars","v":""},{"$f":"hmars","v":""},{"$f":"hmars","v":""},{"$f":"hmars","v":""},{"$f":"hmars","v":""},{"$f":"hmars","v":""},{"$f":"hmars","v":""},{"$f":"hmars","v":""},{"$f":"hmars","v":""},{"$f":"hmars","v":""},{"$f":"hmars","v":""},{"$f":"hmars","v":""},{"$f":"hmars","v":""},{"$f":"hmars","v":""},{"$f":"hmars","v":""},{"$f":"hmars","v":""},{"$f":"hmars","v":""},{"$f":"hmars","v":""},{"$f":"hmars","v":""},{"$f":"hmars","v":""}]
[{"$f":"Données!$H48","v":0},{"$f":"hmars","v":""},{"$f":"hmars","v":""},{"$f":"hmars","v":""},{"$f":"hmars","v":""},{"$f":"hmars","v":""},{"$f":"hmars","v":""},{"$f":"hmars","v":""},{"$f":"hmars","v":""},{"$f":"hmars","v":""},{"$f":"hmars","v":""},{"$f":"hmars","v":""},{"$f":"hmars","v":""},{"$f":"hmars","v":""},{"$f":"hmars","v":""},{"$f":"hmars","v":""},{"$f":"hmars","v":""},{"$f":"hmars","v":""},{"$f":"hmars","v":""},{"$f":"hmars","v":""},{"$f":"hmars","v":""},{"$f":"hmars","v":""},{"$f":"hmars","v":""},{"$f":"hmars","v":""},{"$f":"hmars","v":""},{"$f":"hmars","v":""},{"$f":"hmars","v":""},{"$f":"hmars","v":""},{"$f":"hmars","v":""},{"$f":"hmars","v":""},{"$f":"hmars","v":""},{"$f":"hmars","v":""}]
[{"$f":"Données!$H49","v":0},{"$f":"hmars","v":""},{"$f":"hmars","v":""},{"$f":"hmars","v":""},{"$f":"hmars","v":""},{"$f":"hmars","v":""},{"$f":"hmars","v":""},{"$f":"hmars","v":""},{"$f":"hmars","v":""},{"$f":"hmars","v":""},{"$f":"hmars","v":""},{"$f":"hmars","v":""},{"$f":"hmars","v":""},{"$f":"hmars","v":""},{"$f":"hmars","v":""},{"$f":"hmars","v":""},{"$f":"hmars","v":""},{"$f":"hmars","v":""},{"$f":"hmars","v":""},{"$f":"hmars","v":""},{"$f":"hmars","v":""},{"$f":"hmars","v":""},{"$f":"hmars","v":""},{"$f":"hmars","v":""},{"$f":"hmars","v":""},{"$f":"hmars","v":""},{"$f":"hmars","v":""},{"$f":"hmars","v":""},{"$f":"hmars","v":""},{"$f":"hmars","v":""},{"$f":"hmars","v":""},{"$f":"hmars","v":""}]
[{"$f":"Données!$H50","v":0},{"$f":"hmars","v":""},{"$f":"hmars","v":""},{"$f":"hmars","v":""},{"$f":"hmars","v":""},{"$f":"hmars","v":""},{"$f":"hmars","v":""},{"$f":"hmars","v":""},{"$f":"hmars","v":""},{"$f":"hmars","v":""},{"$f":"hmars","v":""},{"$f":"hmars","v":""},{"$f":"hmars","v":""},{"$f":"hmars","v":""},{"$f":"hmars","v":""},{"$f":"hmars","v":""},{"$f":"hmars","v":""},{"$f":"hmars","v":""},{"$f":"hmars","v":""},{"$f":"hmars","v":""},{"$f":"hmars","v":""},{"$f":"hmars","v":""},{"$f":"hmars","v":""},{"$f":"hmars","v":""},{"$f":"hmars","v":""},{"$f":"hmars","v":""},{"$f":"hmars","v":""},{"$f":"hmars","v":""},{"$f":"hmars","v":""},{"$f":"hmars","v":""},{"$f":"hmars","v":""},{"$f":"hmars","v":""}]
[{"$f":"Données!$H51","v":0},{"$f":"hmars","v":""},{"$f":"hmars","v":""},{"$f":"hmars","v":""},{"$f":"hmars","v":""},{"$f":"hmars","v":""},{"$f":"hmars","v":""},{"$f":"hmars","v":""},{"$f":"hmars","v":""},{"$f":"hmars","v":""},{"$f":"hmars","v":""},{"$f":"hmars","v":""},{"$f":"hmars","v":""},{"$f":"hmars","v":""},{"$f":"hmars","v":""},{"$f":"hmars","v":""},{"$f":"hmars","v":""},{"$f":"hmars","v":""},{"$f":"hmars","v":""},{"$f":"hmars","v":""},{"$f":"hmars","v":""},{"$f":"hmars","v":""},{"$f":"hmars","v":""},{"$f":"hmars","v":""},{"$f":"hmars","v":""},{"$f":"hmars","v":""},{"$f":"hmars","v":""},{"$f":"hmars","v":""},{"$f":"hmars","v":""},{"$f":"hmars","v":""},{"$f":"hmars","v":""},{"$f":"hmars","v":""}]
[{"$f":"Données!$H52","v":"Chef de service"}]
[{"$f":"Données!$H53","v":"Q"},{"$f":"hmars","v":""},{"$f":"hmars","v":""},{"$f":"hmars","v":""},{"$f":"hmars","v":""},{"$f":"hmars","v":""},{"$f":"hmars","v":""},{"$f":"hmars","v":""},{"$f":"hmars","v":""},{"$f":"hmars","v":""},{"$f":"hmars","v":""},{"$f":"hmars","v":""},{"$f":"hmars","v":""},{"$f":"hmars","v":""},{"$f":"hmars","v":""},{"$f":"hmars","v":""},{"$f":"hmars","v":""},{"$f":"hmars","v":""},{"$f":"hmars","v":""},{"$f":"hmars","v":""},{"$f":"hmars","v":""},{"$f":"hmars","v":""},{"$f":"hmars","v":""},{"$f":"hmars","v":""},{"$f":"hmars","v":""},{"$f":"hmars","v":""},{"$f":"hmars","v":""},{"$f":"hmars","v":""},{"$f":"hmars","v":""},{"$f":"hmars","v":""},{"$f":"hmars","v":""},{"$f":"hmars","v":""}]

{"sheet":"HMai","index":17,"n_rows":56,"n_cols":32,"rows_kept":56,"cut":false,"hidden":false,"merged":[]}
[null,null,null,"Mois de","Mai",{"$f":"An","v":2018}]
[null,{"$f":"DATE(An,Mai,B7)","v":"2018-05-01"},"2018-05-02","2018-05-03","2018-05-04","2018-05-05","2018-05-06","2018-05-07","2018-05-08","2018-05-09","2018-05-10","2018-05-11","2018-05-12","2018-05-13","2018-05-14","2018-05-15","2018-05-16","2018-05-17","2018-05-18","2018-05-19","2018-05-20","2018-05-21","2018-05-22","2018-05-23","2018-05-24","2018-05-25","2018-05-26","2018-05-27","2018-05-28","2018-05-29","2018-05-30","2018-05-31"]
[{"$f":"IF(Données!$L$5=\"\",\"Service\",Données!$L$5)","v":"Service"}]
[]
[]
["Jours",{"$f":"PROPER(TEXT(DATE(An,Mai,B$7),\"jjjjjj\"))","v":"Mardi"},"Mercredi","Jeudi","Vendredi","Samedi","Dimanche","Lundi","Mardi","Mercredi","Jeudi","Vendredi","Samedi","Dimanche","Lundi","Mardi","Mercredi","Jeudi","Vendredi","Samedi","Dimanche","Lundi","Mardi","Mercredi","Jeudi","Vendredi","Samedi","Dimanche","Lundi","Mardi","Mercredi","Jeudi"]
[null,1,{"$f":"B7+1","v":2},{"$f":"C7+1","v":3},4,5,6,7,8,9,10,11,12,13,14,15,16,17,18,19,20,21,22,23,24,25,26,27,28,29,30,31]
["Equipe de jour"]
[{"$f":"Données!$H6","v":"A"},{"$f":"hmai","v":""},"","","","","","","","","",{"$f":"hmai","v":""},"","","","","","","","","",{"$f":"hmai","v":""},"","","","","","","","","",""]
[{"$f":"Données!$H7","v":0},"","","","","","","","","","","","","","","","","","","","","","","","","","","","","","",""]
[{"$f":"Données!$H8","v":0},"","","","","","","","","","","","","","","","","","","","","","","","","","","","","","",""]
[{"$f":"Données!$H9","v":0},"","","","","","","","","","","","","","","","","","","","","","","","","","","","","","",""]
[{"$f":"Données!$H10","v":0},"","","","","","","","","","","","","","","","","","","","","","","","","","","","","","",""]
[{"$f":"Données!$H11","v":0},"","","","","","","","","","","","","","","","","","","","","","","","","","","","","","",""]
[{"$f":"Données!$H12","v":0},"","","","","","","","","","","","","","","","","","","","","","","","","","","","","","",""]
[{"$f":"Données!$H13","v":0},"","","","","","","","","","","","","","","","","","","","","","","","","","","","","","",""]
[{"$f":"Données!$H14","v":0},"","","","","","","","","","","","","","","","","","","","","","","","","","","","","","",""]
[{"$f":"Données!$H15","v":0},"","","","","","","","","","","","","","","","","","","","","","","","","","","","","","",""]
[{"$f":"Données!$H16","v":0},{"$f":"hmai","v":""},"","","","","","","","","",{"$f":"hmai","v":""},"","","","","","","","","",{"$f":"hmai","v":""},"","","","","","","","","",""]
[{"$f":"Données!$H17","v":0},"","","","","","","","","","","","","","","","","","","","","","","","","","","","","","",""]
[{"$f":"Données!$H18","v":0},"","","","","","","","","","","","","","","","","","","","","","","","","","","","","","",""]
[{"$f":"Données!$H19","v":0},"","","","","","","","","","","","","","","","","","","","","","","","","","","","","","",""]
[{"$f":"Données!$H20","v":0},"","","","","","","","","","","","","","","","","","","","","","","","","","","","","","",""]
[{"$f":"Données!$H21","v":0},"","","","","","","","","","","","","","","","","","","","","","","","","","","","","","",""]
[{"$f":"Données!$H22","v":"Equipe de nuit"}]
[{"$f":"Données!$H23","v":"K"},{"$f":"hmai","v":""},"","","","","","","","","",{"$f":"hmai","v":""},"","","","","","","","","",{"$f":"hmai","v":""},"","","","","","","","","",""]
[{"$f":"Données!$H24","v":0},"","","","","","","","","","","","","","","","","","","","","","","","","","","","","","",""]
[{"$f":"Données!$H25","v":0},"","","","","","","","","","","","","","","","","","","","","","","","","","","","","","",""]
[{"$f":"Données!$H26","v":0},"","","","","","","","","","","","","","","","","","","","","","","","","","","","","","",""]
[{"$f":"Données!$H27","v":0},"","","","","","","","","","","","","","","","","","","","","","","","","","","","","","",""]
[{"$f":"Données!$H28","v":0},"","","","","","","","","","","","","","","","","","","","","","","","","","","","","","",""]
[{"$f":"Données!$H29","v":0},"","","","","","","","","","","","","","","","","","","","","","","","","","","","","","",""]
[{"$f":"Données!$H30","v":0},"","","","","","","","","","","","","","","","","","","","","","","","","","","","","","",""]
[{"$f":"Données!$H31","v":0},"","","","","","","","","","","","","","","","","","","","","","","","","","","","","","",""]
[{"$f":"Données!$H32","v":"Maitresse de maison"}]
[{"$f":"Données!$H33","v":"N"},{"$f":"hmai","v":""},"","","","","","","","","",{"$f":"hmai","v":""},"","","","","","","","","",{"$f":"hmai","v":""},"","","","","","","","","",""]
[{"$f":"Données!$H34","v":0},"","","","","","","","","","","","","","","","","","","","","","","","","","","","","","",""]
[{"$f":"Données!$H35","v":0},"","","","","","","","","","","","","","","","","","","","","","","","","","","","","","",""]
[{"$f":"Données!$H36","v":0},"","","","","","","","","","","","","","","","","","","","","","","","","","","","","","",""]
[{"$f":"Données!$H37","v":0},"","","","","","","","","","","","","","","","","","","","","","","","","","","","","","",""]
[{"$f":"Données!$H38","v":0},"","","","","","","","","","","","","","","","","","","","","","","","","","","","","","",""]
[{"$f":"Données!$H39","v":0},"","","","","","","","","","","","","","","","","","","","","","","","","","","","","","",""]
[{"$f":"Données!$H40","v":0},"","","","","","","","","","","","","","","","","","","","","","","","","","","","","","",""]
[{"$f":"Données!$H41","v":0},"","","","","","","","","","","","","","","","","","","","","","","","","","","","","","",""]
[{"$f":"Données!$H42","v":"Psychologue"}]
[{"$f":"Données!$H43","v":"O"},{"$f":"hmai","v":""},"","","","","","","","","",{"$f":"hmai","v":""},"","","","","","","","","",{"$f":"hmai","v":""},"","","","","","","","","",""]
[{"$f":"Données!$H44","v":0},"","","","","","","","","","","","","","","","","","","","","","","","","","","","","","",""]
[{"$f":"Données!$H45","v":0},"","","","","","","","","","","","","","","","","","","","","","","","","","","","","","",""]
[{"$f":"Données!$H46","v":"Coordinatrice"}]
[{"$f":"Données!$H47","v":"P"},{"$f":"hmai","v":""},"","","","","","","","","",{"$f":"hmai","v":""},"","","","","","","","","",{"$f":"hmai","v":""},"","","","","","","","","",""]
[{"$f":"Données!$H48","v":0},"","","","","","","","","","","","","","","","","","","","","","","","","","","","","","",""]
[{"$f":"Données!$H49","v":0},"","","","","","","","","","","","","","","","","","","","","","","","","","","","","","",""]
[{"$f":"Données!$H50","v":0},"","","","","","","","","","","","","","","","","","","","","","","","","","","","","","",""]
[{"$f":"Données!$H51","v":0},"","","","","","","","","","","","","","","","","","","","","","","","","","","","","","",""]
[{"$f":"Données!$H52","v":"Chef de service"}]
[{"$f":"Données!$H53","v":"Q"},{"$f":"hmai","v":""},"","","","","","","","","","","","","","","","","","","","","","","","","","","","","",""]

{"sheet":"HAvril","index":18,"n_rows":56,"n_cols":31,"rows_kept":56,"cut":false,"hidden":false,"merged":[]}
[null,null,null,"Mois de","Avril",{"$f":"An","v":2018}]
[null,{"$f":"DATE(An,Avril,B7)","v":"2018-04-01"},"2018-04-02","2018-04-03","2018-04-04","2018-04-05","2018-04-06","2018-04-07","2018-04-08","2018-04-09","2018-04-10","2018-04-11","2018-04-12","2018-04-13","2018-04-14","2018-04-15","2018-04-16","2018-04-17","2018-04-18","2018-04-19","2018-04-20","2018-04-21","2018-04-22","2018-04-23","2018-04-24","2018-04-25","2018-04-26","2018-04-27","2018-04-28","2018-04-29","2018-04-30"]
[{"$f":"IF(Données!$L$5=\"\",\"Service\",Données!$L$5)","v":"Service"}]
[]
[]
["Jours",{"$f":"PROPER(TEXT(DATE(An,Avril,B$7),\"jjjjjj\"))","v":"Dimanche"},"Lundi","Mardi","Mercredi","Jeudi","Vendredi","Samedi","Dimanche","Lundi","Mardi","Mercredi","Jeudi","Vendredi","Samedi","Dimanche","Lundi","Mardi","Mercredi","Jeudi","Vendredi","Samedi","Dimanche","Lundi","Mardi","Mercredi","Jeudi","Vendredi","Samedi","Dimanche","Lundi"]
[null,1,{"$f":"B$7+1","v":2},{"$f":"C$7+1","v":3},4,5,6,7,8,9,10,11,12,13,14,15,16,17,18,19,20,21,22,23,24,25,26,27,28,{"$f":"AC$7+1","v":29},{"$f":"AD$7+1","v":30}]
["Equipe de jour"]
[{"$f":"Données!$H6","v":"A"},{"$f":"havril","v":""},{"$f":"havril","v":""},{"$f":"havril","v":""},{"$f":"havril","v":""},{"$f":"havril","v":""},{"$f":"havril","v":""},{"$f":"havril","v":""},{"$f":"havril","v":""},{"$f":"havril","v":""},{"$f":"havril","v":""},{"$f":"havril","v":""},{"$f":"havril","v":""},{"$f":"havril","v":""},{"$f":"havril","v":""},{"$f":"havril","v":""},{"$f":"havril","v":""},{"$f":"havril","v":""},{"$f":"havril","v":""},{"$f":"havril","v":""},{"$f":"havril","v":""},{"$f":"havril","v":""},{"$f":"havril","v":""},{"$f":"havril","v":""},{"$f":"havril","v":""},{"$f":"havril","v":""},{"$f":"havril","v":""},{"$f":"havril","v":""},{"$f":"havril","v":""},{"$f":"havril","v":""},{"$f":"havril","v":""}]
[{"$f":"Données!$H7","v":0},{"$f":"havril","v":""},{"$f":"havril","v":""},{"$f":"havril","v":""},{"$f":"havril","v":""},{"$f":"havril","v":""},{"$f":"havril","v":""},{"$f":"havril","v":""},{"$f":"havril","v":""},{"$f":"havril","v":""},{"$f":"havril","v":""},{"$f":"havril","v":""},{"$f":"havril","v":""},{"$f":"havril","v":""},{"$f":"havril","v":""},{"$f":"havril","v":""},{"$f":"havril","v":""},{"$f":"havril","v":""},{"$f":"havril","v":""},{"$f":"havril","v":""},{"$f":"havril","v":""},{"$f":"havril","v":""},{"$f":"havril","v":""},{"$f":"havril","v":""},{"$f":"havril","v":""},{"$f":"havril","v":""},{"$f":"havril","v":""},{"$f":"havril","v":""},{"$f":"havril","v":""},{"$f":"havril","v":""},{"$f":"havril","v":""}]
[{"$f":"Données!$H8","v":0},{"$f":"havril","v":""},{"$f":"havril","v":""},{"$f":"havril","v":""},{"$f":"havril","v":""},{"$f":"havril","v":""},{"$f":"havril","v":""},{"$f":"havril","v":""},{"$f":"havril","v":""},{"$f":"havril","v":""},{"$f":"havril","v":""},{"$f":"havril","v":""},{"$f":"havril","v":""},{"$f":"havril","v":""},{"$f":"havril","v":""},{"$f":"havril","v":""},{"$f":"havril","v":""},{"$f":"havril","v":""},{"$f":"havril","v":""},{"$f":"havril","v":""},{"$f":"havril","v":""},{"$f":"havril","v":""},{"$f":"havril","v":""},{"$f":"havril","v":""},{"$f":"havril","v":""},{"$f":"havril","v":""},{"$f":"havril","v":""},{"$f":"havril","v":""},{"$f":"havril","v":""},{"$f":"havril","v":""},{"$f":"havril","v":""}]
[{"$f":"Données!$H9","v":0},{"$f":"havril","v":""},{"$f":"havril","v":""},{"$f":"havril","v":""},{"$f":"havril","v":""},{"$f":"havril","v":""},{"$f":"havril","v":""},{"$f":"havril","v":""},{"$f":"havril","v":""},{"$f":"havril","v":""},{"$f":"havril","v":""},{"$f":"havril","v":""},{"$f":"havril","v":""},{"$f":"havril","v":""},{"$f":"havril","v":""},{"$f":"havril","v":""},{"$f":"havril","v":""},{"$f":"havril","v":""},{"$f":"havril","v":""},{"$f":"havril","v":""},{"$f":"havril","v":""},{"$f":"havril","v":""},{"$f":"havril","v":""},{"$f":"havril","v":""},{"$f":"havril","v":""},{"$f":"havril","v":""},{"$f":"havril","v":""},{"$f":"havril","v":""},{"$f":"havril","v":""},{"$f":"havril","v":""},{"$f":"havril","v":""}]
[{"$f":"Données!$H10","v":0},{"$f":"havril","v":""},{"$f":"havril","v":""},{"$f":"havril","v":""},{"$f":"havril","v":""},{"$f":"havril","v":""},{"$f":"havril","v":""},{"$f":"havril","v":""},{"$f":"havril","v":""},{"$f":"havril","v":""},{"$f":"havril","v":""},{"$f":"havril","v":""},{"$f":"havril","v":""},{"$f":"havril","v":""},{"$f":"havril","v":""},{"$f":"havril","v":""},{"$f":"havril","v":""},{"$f":"havril","v":""},{"$f":"havril","v":""},{"$f":"havril","v":""},{"$f":"havril","v":""},{"$f":"havril","v":""},{"$f":"havril","v":""},{"$f":"havril","v":""},{"$f":"havril","v":""},{"$f":"havril","v":""},{"$f":"havril","v":""},{"$f":"havril","v":""},{"$f":"havril","v":""},{"$f":"havril","v":""},{"$f":"havril","v":""}]
[{"$f":"Données!$H11","v":0},{"$f":"havril","v":""},{"$f":"havril","v":""},{"$f":"havril","v":""},{"$f":"havril","v":""},{"$f":"havril","v":""},{"$f":"havril","v":""},{"$f":"havril","v":""},{"$f":"havril","v":""},{"$f":"havril","v":""},{"$f":"havril","v":""},{"$f":"havril","v":""},{"$f":"havril","v":""},{"$f":"havril","v":""},{"$f":"havril","v":""},{"$f":"havril","v":""},{"$f":"havril","v":""},{"$f":"havril","v":""},{"$f":"havril","v":""},{"$f":"havril","v":""},{"$f":"havril","v":""},{"$f":"havril","v":""},{"$f":"havril","v":""},{"$f":"havril","v":""},{"$f":"havril","v":""},{"$f":"havril","v":""},{"$f":"havril","v":""},{"$f":"havril","v":""},{"$f":"havril","v":""},{"$f":"havril","v":""},{"$f":"havril","v":""}]
[{"$f":"Données!$H12","v":0},{"$f":"havril","v":""},{"$f":"havril","v":""},{"$f":"havril","v":""},{"$f":"havril","v":""},{"$f":"havril","v":""},{"$f":"havril","v":""},{"$f":"havril","v":""},{"$f":"havril","v":""},{"$f":"havril","v":""},{"$f":"havril","v":""},{"$f":"havril","v":""},{"$f":"havril","v":""},{"$f":"havril","v":""},{"$f":"havril","v":""},{"$f":"havril","v":""},{"$f":"havril","v":""},{"$f":"havril","v":""},{"$f":"havril","v":""},{"$f":"havril","v":""},{"$f":"havril","v":""},{"$f":"havril","v":""},{"$f":"havril","v":""},{"$f":"havril","v":""},{"$f":"havril","v":""},{"$f":"havril","v":""},{"$f":"havril","v":""},{"$f":"havril","v":""},{"$f":"havril","v":""},{"$f":"havril","v":""},{"$f":"havril","v":""}]
[{"$f":"Données!$H13","v":0},{"$f":"havril","v":""},{"$f":"havril","v":""},{"$f":"havril","v":""},{"$f":"havril","v":""},{"$f":"havril","v":""},{"$f":"havril","v":""},{"$f":"havril","v":""},{"$f":"havril","v":""},{"$f":"havril","v":""},{"$f":"havril","v":""},{"$f":"havril","v":""},{"$f":"havril","v":""},{"$f":"havril","v":""},{"$f":"havril","v":""},{"$f":"havril","v":""},{"$f":"havril","v":""},{"$f":"havril","v":""},{"$f":"havril","v":""},{"$f":"havril","v":""},{"$f":"havril","v":""},{"$f":"havril","v":""},{"$f":"havril","v":""},{"$f":"havril","v":""},{"$f":"havril","v":""},{"$f":"havril","v":""},{"$f":"havril","v":""},{"$f":"havril","v":""},{"$f":"havril","v":""},{"$f":"havril","v":""},{"$f":"havril","v":""}]
[{"$f":"Données!$H14","v":0},{"$f":"havril","v":""},{"$f":"havril","v":""},{"$f":"havril","v":""},{"$f":"havril","v":""},{"$f":"havril","v":""},{"$f":"havril","v":""},{"$f":"havril","v":""},{"$f":"havril","v":""},{"$f":"havril","v":""},{"$f":"havril","v":""},{"$f":"havril","v":""},{"$f":"havril","v":""},{"$f":"havril","v":""},{"$f":"havril","v":""},{"$f":"havril","v":""},{"$f":"havril","v":""},{"$f":"havril","v":""},{"$f":"havril","v":""},{"$f":"havril","v":""},{"$f":"havril","v":""},{"$f":"havril","v":""},{"$f":"havril","v":""},{"$f":"havril","v":""},{"$f":"havril","v":""},{"$f":"havril","v":""},{"$f":"havril","v":""},{"$f":"havril","v":""},{"$f":"havril","v":""},{"$f":"havril","v":""},{"$f":"havril","v":""}]
[{"$f":"Données!$H15","v":0},{"$f":"havril","v":""},{"$f":"havril","v":""},{"$f":"havril","v":""},{"$f":"havril","v":""},{"$f":"havril","v":""},{"$f":"havril","v":""},{"$f":"havril","v":""},{"$f":"havril","v":""},{"$f":"havril","v":""},{"$f":"havril","v":""},{"$f":"havril","v":""},{"$f":"havril","v":""},{"$f":"havril","v":""},{"$f":"havril","v":""},{"$f":"havril","v":""},{"$f":"havril","v":""},{"$f":"havril","v":""},{"$f":"havril","v":""},{"$f":"havril","v":""},{"$f":"havril","v":""},{"$f":"havril","v":""},{"$f":"havril","v":""},{"$f":"havril","v":""},{"$f":"havril","v":""},{"$f":"havril","v":""},{"$f":"havril","v":""},{"$f":"havril","v":""},{"$f":"havril","v":""},{"$f":"havril","v":""},{"$f":"havril","v":""}]
[{"$f":"Données!$H16","v":0},{"$f":"havril","v":""},{"$f":"havril","v":""},{"$f":"havril","v":""},{"$f":"havril","v":""},{"$f":"havril","v":""},{"$f":"havril","v":""},{"$f":"havril","v":""},{"$f":"havril","v":""},{"$f":"havril","v":""},{"$f":"havril","v":""},{"$f":"havril","v":""},{"$f":"havril","v":""},{"$f":"havril","v":""},{"$f":"havril","v":""},{"$f":"havril","v":""},{"$f":"havril","v":""},{"$f":"havril","v":""},{"$f":"havril","v":""},{"$f":"havril","v":""},{"$f":"havril","v":""},{"$f":"havril","v":""},{"$f":"havril","v":""},{"$f":"havril","v":""},{"$f":"havril","v":""},{"$f":"havril","v":""},{"$f":"havril","v":""},{"$f":"havril","v":""},{"$f":"havril","v":""},{"$f":"havril","v":""},{"$f":"havril","v":""}]
[{"$f":"Données!$H17","v":0},{"$f":"havril","v":""},{"$f":"havril","v":""},{"$f":"havril","v":""},{"$f":"havril","v":""},{"$f":"havril","v":""},{"$f":"havril","v":""},{"$f":"havril","v":""},{"$f":"havril","v":""},{"$f":"havril","v":""},{"$f":"havril","v":""},{"$f":"havril","v":""},{"$f":"havril","v":""},{"$f":"havril","v":""},{"$f":"havril","v":""},{"$f":"havril","v":""},{"$f":"havril","v":""},{"$f":"havril","v":""},{"$f":"havril","v":""},{"$f":"havril","v":""},{"$f":"havril","v":""},{"$f":"havril","v":""},{"$f":"havril","v":""},{"$f":"havril","v":""},{"$f":"havril","v":""},{"$f":"havril","v":""},{"$f":"havril","v":""},{"$f":"havril","v":""},{"$f":"havril","v":""},{"$f":"havril","v":""},{"$f":"havril","v":""}]
[{"$f":"Données!$H18","v":0},{"$f":"havril","v":""},{"$f":"havril","v":""},{"$f":"havril","v":""},{"$f":"havril","v":""},{"$f":"havril","v":""},{"$f":"havril","v":""},{"$f":"havril","v":""},{"$f":"havril","v":""},{"$f":"havril","v":""},{"$f":"havril","v":""},{"$f":"havril","v":""},{"$f":"havril","v":""},{"$f":"havril","v":""},{"$f":"havril","v":""},{"$f":"havril","v":""},{"$f":"havril","v":""},{"$f":"havril","v":""},{"$f":"havril","v":""},{"$f":"havril","v":""},{"$f":"havril","v":""},{"$f":"havril","v":""},{"$f":"havril","v":""},{"$f":"havril","v":""},{"$f":"havril","v":""},{"$f":"havril","v":""},{"$f":"havril","v":""},{"$f":"havril","v":""},{"$f":"havril","v":""},{"$f":"havril","v":""},{"$f":"havril","v":""}]
[{"$f":"Données!$H19","v":0},{"$f":"havril","v":""},{"$f":"havril","v":""},{"$f":"havril","v":""},{"$f":"havril","v":""},{"$f":"havril","v":""},{"$f":"havril","v":""},{"$f":"havril","v":""},{"$f":"havril","v":""},{"$f":"havril","v":""},{"$f":"havril","v":""},{"$f":"havril","v":""},{"$f":"havril","v":""},{"$f":"havril","v":""},{"$f":"havril","v":""},{"$f":"havril","v":""},{"$f":"havril","v":""},{"$f":"havril","v":""},{"$f":"havril","v":""},{"$f":"havril","v":""},{"$f":"havril","v":""},{"$f":"havril","v":""},{"$f":"havril","v":""},{"$f":"havril","v":""},{"$f":"havril","v":""},{"$f":"havril","v":""},{"$f":"havril","v":""},{"$f":"havril","v":""},{"$f":"havril","v":""},{"$f":"havril","v":""},{"$f":"havril","v":""}]
[{"$f":"Données!$H20","v":0},{"$f":"havril","v":""},{"$f":"havril","v":""},{"$f":"havril","v":""},{"$f":"havril","v":""},{"$f":"havril","v":""},{"$f":"havril","v":""},{"$f":"havril","v":""},{"$f":"havril","v":""},{"$f":"havril","v":""},{"$f":"havril","v":""},{"$f":"havril","v":""},{"$f":"havril","v":""},{"$f":"havril","v":""},{"$f":"havril","v":""},{"$f":"havril","v":""},{"$f":"havril","v":""},{"$f":"havril","v":""},{"$f":"havril","v":""},{"$f":"havril","v":""},{"$f":"havril","v":""},{"$f":"havril","v":""},{"$f":"havril","v":""},{"$f":"havril","v":""},{"$f":"havril","v":""},{"$f":"havril","v":""},{"$f":"havril","v":""},{"$f":"havril","v":""},{"$f":"havril","v":""},{"$f":"havril","v":""},{"$f":"havril","v":""}]
[{"$f":"Données!$H21","v":0},{"$f":"havril","v":""},{"$f":"havril","v":""},{"$f":"havril","v":""},{"$f":"havril","v":""},{"$f":"havril","v":""},{"$f":"havril","v":""},{"$f":"havril","v":""},{"$f":"havril","v":""},{"$f":"havril","v":""},{"$f":"havril","v":""},{"$f":"havril","v":""},{"$f":"havril","v":""},{"$f":"havril","v":""},{"$f":"havril","v":""},{"$f":"havril","v":""},{"$f":"havril","v":""},{"$f":"havril","v":""},{"$f":"havril","v":""},{"$f":"havril","v":""},{"$f":"havril","v":""},{"$f":"havril","v":""},{"$f":"havril","v":""},{"$f":"havril","v":""},{"$f":"havril","v":""},{"$f":"havril","v":""},{"$f":"havril","v":""},{"$f":"havril","v":""},{"$f":"havril","v":""},{"$f":"havril","v":""},{"$f":"havril","v":""}]
[{"$f":"Données!$H22","v":"Equipe de nuit"}]
[{"$f":"Données!$H23","v":"K"},{"$f":"havril","v":""},{"$f":"havril","v":""},{"$f":"havril","v":""},{"$f":"havril","v":""},{"$f":"havril","v":""},{"$f":"havril","v":""},{"$f":"havril","v":""},{"$f":"havril","v":""},{"$f":"havril","v":""},{"$f":"havril","v":""},{"$f":"havril","v":""},{"$f":"havril","v":""},{"$f":"havril","v":""},{"$f":"havril","v":""},{"$f":"havril","v":""},{"$f":"havril","v":""},{"$f":"havril","v":""},{"$f":"havril","v":""},{"$f":"havril","v":""},{"$f":"havril","v":""},{"$f":"havril","v":""},{"$f":"havril","v":""},{"$f":"havril","v":""},{"$f":"havril","v":""},{"$f":"havril","v":""},{"$f":"havril","v":""},{"$f":"havril","v":""},{"$f":"havril","v":""},{"$f":"havril","v":""},{"$f":"havril","v":""}]
[{"$f":"Données!$H24","v":0},{"$f":"havril","v":""},{"$f":"havril","v":""},{"$f":"havril","v":""},{"$f":"havril","v":""},{"$f":"havril","v":""},{"$f":"havril","v":""},{"$f":"havril","v":""},{"$f":"havril","v":""},{"$f":"havril","v":""},{"$f":"havril","v":""},{"$f":"havril","v":""},{"$f":"havril","v":""},{"$f":"havril","v":""},{"$f":"havril","v":""},{"$f":"havril","v":""},{"$f":"havril","v":""},{"$f":"havril","v":""},{"$f":"havril","v":""},{"$f":"havril","v":""},{"$f":"havril","v":""},{"$f":"havril","v":""},{"$f":"havril","v":""},{"$f":"havril","v":""},{"$f":"havril","v":""},{"$f":"havril","v":""},{"$f":"havril","v":""},{"$f":"havril","v":""},{"$f":"havril","v":""},{"$f":"havril","v":""},{"$f":"havril","v":""}]
[{"$f":"Données!$H25","v":0},{"$f":"havril","v":""},{"$f":"havril","v":""},{"$f":"havril","v":""},{"$f":"havril","v":""},{"$f":"havril","v":""},{"$f":"havril","v":""},{"$f":"havril","v":""},{"$f":"havril","v":""},{"$f":"havril","v":""},{"$f":"havril","v":""},{"$f":"havril","v":""},{"$f":"havril","v":""},{"$f":"havril","v":""},{"$f":"havril","v":""},{"$f":"havril","v":""},{"$f":"havril","v":""},{"$f":"havril","v":""},{"$f":"havril","v":""},{"$f":"havril","v":""},{"$f":"havril","v":""},{"$f":"havril","v":""},{"$f":"havril","v":""},{"$f":"havril","v":""},{"$f":"havril","v":""},{"$f":"havril","v":""},{"$f":"havril","v":""},{"$f":"havril","v":""},{"$f":"havril","v":""},{"$f":"havril","v":""},{"$f":"havril","v":""}]
[{"$f":"Données!$H26","v":0},{"$f":"havril","v":""},{"$f":"havril","v":""},{"$f":"havril","v":""},{"$f":"havril","v":""},{"$f":"havril","v":""},{"$f":"havril","v":""},{"$f":"havril","v":""},{"$f":"havril","v":""},{"$f":"havril","v":""},{"$f":"havril","v":""},{"$f":"havril","v":""},{"$f":"havril","v":""},{"$f":"havril","v":""},{"$f":"havril","v":""},{"$f":"havril","v":""},{"$f":"havril","v":""},{"$f":"havril","v":""},{"$f":"havril","v":""},{"$f":"havril","v":""},{"$f":"havril","v":""},{"$f":"havril","v":""},{"$f":"havril","v":""},{"$f":"havril","v":""},{"$f":"havril","v":""},{"$f":"havril","v":""},{"$f":"havril","v":""},{"$f":"havril","v":""},{"$f":"havril","v":""},{"$f":"havril","v":""},{"$f":"havril","v":""}]
[{"$f":"Données!$H27","v":0},{"$f":"havril","v":""},{"$f":"havril","v":""},{"$f":"havril","v":""},{"$f":"havril","v":""},{"$f":"havril","v":""},{"$f":"havril","v":""},{"$f":"havril","v":""},{"$f":"havril","v":""},{"$f":"havril","v":""},{"$f":"havril","v":""},{"$f":"havril","v":""},{"$f":"havril","v":""},{"$f":"havril","v":""},{"$f":"havril","v":""},{"$f":"havril","v":""},{"$f":"havril","v":""},{"$f":"havril","v":""},{"$f":"havril","v":""},{"$f":"havril","v":""},{"$f":"havril","v":""},{"$f":"havril","v":""},{"$f":"havril","v":""},{"$f":"havril","v":""},{"$f":"havril","v":""},{"$f":"havril","v":""},{"$f":"havril","v":""},{"$f":"havril","v":""},{"$f":"havril","v":""},{"$f":"havril","v":""},{"$f":"havril","v":""}]
[{"$f":"Données!$H28","v":0},{"$f":"havril","v":""},{"$f":"havril","v":""},{"$f":"havril","v":""},{"$f":"havril","v":""},{"$f":"havril","v":""},{"$f":"havril","v":""},{"$f":"havril","v":""},{"$f":"havril","v":""},{"$f":"havril","v":""},{"$f":"havril","v":""},{"$f":"havril","v":""},{"$f":"havril","v":""},{"$f":"havril","v":""},{"$f":"havril","v":""},{"$f":"havril","v":""},{"$f":"havril","v":""},{"$f":"havril","v":""},{"$f":"havril","v":""},{"$f":"havril","v":""},{"$f":"havril","v":""},{"$f":"havril","v":""},{"$f":"havril","v":""},{"$f":"havril","v":""},{"$f":"havril","v":""},{"$f":"havril","v":""},{"$f":"havril","v":""},{"$f":"havril","v":""},{"$f":"havril","v":""},{"$f":"havril","v":""},{"$f":"havril","v":""}]
[{"$f":"Données!$H29","v":0},{"$f":"havril","v":""},{"$f":"havril","v":""},{"$f":"havril","v":""},{"$f":"havril","v":""},{"$f":"havril","v":""},{"$f":"havril","v":""},{"$f":"havril","v":""},{"$f":"havril","v":""},{"$f":"havril","v":""},{"$f":"havril","v":""},{"$f":"havril","v":""},{"$f":"havril","v":""},{"$f":"havril","v":""},{"$f":"havril","v":""},{"$f":"havril","v":""},{"$f":"havril","v":""},{"$f":"havril","v":""},{"$f":"havril","v":""},{"$f":"havril","v":""},{"$f":"havril","v":""},{"$f":"havril","v":""},{"$f":"havril","v":""},{"$f":"havril","v":""},{"$f":"havril","v":""},{"$f":"havril","v":""},{"$f":"havril","v":""},{"$f":"havril","v":""},{"$f":"havril","v":""},{"$f":"havril","v":""},{"$f":"havril","v":""}]
[{"$f":"Données!$H30","v":0},{"$f":"havril","v":""},{"$f":"havril","v":""},{"$f":"havril","v":""},{"$f":"havril","v":""},{"$f":"havril","v":""},{"$f":"havril","v":""},{"$f":"havril","v":""},{"$f":"havril","v":""},{"$f":"havril","v":""},{"$f":"havril","v":""},{"$f":"havril","v":""},{"$f":"havril","v":""},{"$f":"havril","v":""},{"$f":"havril","v":""},{"$f":"havril","v":""},{"$f":"havril","v":""},{"$f":"havril","v":""},{"$f":"havril","v":""},{"$f":"havril","v":""},{"$f":"havril","v":""},{"$f":"havril","v":""},{"$f":"havril","v":""},{"$f":"havril","v":""},{"$f":"havril","v":""},{"$f":"havril","v":""},{"$f":"havril","v":""},{"$f":"havril","v":""},{"$f":"havril","v":""},{"$f":"havril","v":""},{"$f":"havril","v":""}]
[{"$f":"Données!$H31","v":0},{"$f":"havril","v":""},{"$f":"havril","v":""},{"$f":"havril","v":""},{"$f":"havril","v":""},{"$f":"havril","v":""},{"$f":"havril","v":""},{"$f":"havril","v":""},{"$f":"havril","v":""},{"$f":"havril","v":""},{"$f":"havril","v":""},{"$f":"havril","v":""},{"$f":"havril","v":""},{"$f":"havril","v":""},{"$f":"havril","v":""},{"$f":"havril","v":""},{"$f":"havril","v":""},{"$f":"havril","v":""},{"$f":"havril","v":""},{"$f":"havril","v":""},{"$f":"havril","v":""},{"$f":"havril","v":""},{"$f":"havril","v":""},{"$f":"havril","v":""},{"$f":"havril","v":""},{"$f":"havril","v":""},{"$f":"havril","v":""},{"$f":"havril","v":""},{"$f":"havril","v":""},{"$f":"havril","v":""},{"$f":"havril","v":""}]
[{"$f":"Données!$H32","v":"Maitresse de maison"}]
[{"$f":"Données!$H33","v":"N"},{"$f":"havril","v":""},{"$f":"havril","v":""},{"$f":"havril","v":""},{"$f":"havril","v":""},{"$f":"havril","v":""},{"$f":"havril","v":""},{"$f":"havril","v":""},{"$f":"havril","v":""},{"$f":"havril","v":""},{"$f":"havril","v":""},{"$f":"havril","v":""},{"$f":"havril","v":""},{"$f":"havril","v":""},{"$f":"havril","v":""},{"$f":"havril","v":""},{"$f":"havril","v":""},{"$f":"havril","v":""},{"$f":"havril","v":""},{"$f":"havril","v":""},{"$f":"havril","v":""},{"$f":"havril","v":""},{"$f":"havril","v":""},{"$f":"havril","v":""},{"$f":"havril","v":""},{"$f":"havril","v":""},{"$f":"havril","v":""},{"$f":"havril","v":""},{"$f":"havril","v":""},{"$f":"havril","v":""},{"$f":"havril","v":""}]
[{"$f":"Données!$H34","v":0},{"$f":"havril","v":""},{"$f":"havril","v":""},{"$f":"havril","v":""},{"$f":"havril","v":""},{"$f":"havril","v":""},{"$f":"havril","v":""},{"$f":"havril","v":""},{"$f":"havril","v":""},{"$f":"havril","v":""},{"$f":"havril","v":""},{"$f":"havril","v":""},{"$f":"havril","v":""},{"$f":"havril","v":""},{"$f":"havril","v":""},{"$f":"havril","v":""},{"$f":"havril","v":""},{"$f":"havril","v":""},{"$f":"havril","v":""},{"$f":"havril","v":""},{"$f":"havril","v":""},{"$f":"havril","v":""},{"$f":"havril","v":""},{"$f":"havril","v":""},{"$f":"havril","v":""},{"$f":"havril","v":""},{"$f":"havril","v":""},{"$f":"havril","v":""},{"$f":"havril","v":""},{"$f":"havril","v":""},{"$f":"havril","v":""}]
[{"$f":"Données!$H35","v":0},{"$f":"havril","v":""},{"$f":"havril","v":""},{"$f":"havril","v":""},{"$f":"havril","v":""},{"$f":"havril","v":""},{"$f":"havril","v":""},{"$f":"havril","v":""},{"$f":"havril","v":""},{"$f":"havril","v":""},{"$f":"havril","v":""},{"$f":"havril","v":""},{"$f":"havril","v":""},{"$f":"havril","v":""},{"$f":"havril","v":""},{"$f":"havril","v":""},{"$f":"havril","v":""},{"$f":"havril","v":""},{"$f":"havril","v":""},{"$f":"havril","v":""},{"$f":"havril","v":""},{"$f":"havril","v":""},{"$f":"havril","v":""},{"$f":"havril","v":""},{"$f":"havril","v":""},{"$f":"havril","v":""},{"$f":"havril","v":""},{"$f":"havril","v":""},{"$f":"havril","v":""},{"$f":"havril","v":""},{"$f":"havril","v":""}]
[{"$f":"Données!$H36","v":0},{"$f":"havril","v":""},{"$f":"havril","v":""},{"$f":"havril","v":""},{"$f":"havril","v":""},{"$f":"havril","v":""},{"$f":"havril","v":""},{"$f":"havril","v":""},{"$f":"havril","v":""},{"$f":"havril","v":""},{"$f":"havril","v":""},{"$f":"havril","v":""},{"$f":"havril","v":""},{"$f":"havril","v":""},{"$f":"havril","v":""},{"$f":"havril","v":""},{"$f":"havril","v":""},{"$f":"havril","v":""},{"$f":"havril","v":""},{"$f":"havril","v":""},{"$f":"havril","v":""},{"$f":"havril","v":""},{"$f":"havril","v":""},{"$f":"havril","v":""},{"$f":"havril","v":""},{"$f":"havril","v":""},{"$f":"havril","v":""},{"$f":"havril","v":""},{"$f":"havril","v":""},{"$f":"havril","v":""},{"$f":"havril","v":""}]
[{"$f":"Données!$H37","v":0},{"$f":"havril","v":""},{"$f":"havril","v":""},{"$f":"havril","v":""},{"$f":"havril","v":""},{"$f":"havril","v":""},{"$f":"havril","v":""},{"$f":"havril","v":""},{"$f":"havril","v":""},{"$f":"havril","v":""},{"$f":"havril","v":""},{"$f":"havril","v":""},{"$f":"havril","v":""},{"$f":"havril","v":""},{"$f":"havril","v":""},{"$f":"havril","v":""},{"$f":"havril","v":""},{"$f":"havril","v":""},{"$f":"havril","v":""},{"$f":"havril","v":""},{"$f":"havril","v":""},{"$f":"havril","v":""},{"$f":"havril","v":""},{"$f":"havril","v":""},{"$f":"havril","v":""},{"$f":"havril","v":""},{"$f":"havril","v":""},{"$f":"havril","v":""},{"$f":"havril","v":""},{"$f":"havril","v":""},{"$f":"havril","v":""}]
[{"$f":"Données!$H38","v":0},{"$f":"havril","v":""},{"$f":"havril","v":""},{"$f":"havril","v":""},{"$f":"havril","v":""},{"$f":"havril","v":""},{"$f":"havril","v":""},{"$f":"havril","v":""},{"$f":"havril","v":""},{"$f":"havril","v":""},{"$f":"havril","v":""},{"$f":"havril","v":""},{"$f":"havril","v":""},{"$f":"havril","v":""},{"$f":"havril","v":""},{"$f":"havril","v":""},{"$f":"havril","v":""},{"$f":"havril","v":""},{"$f":"havril","v":""},{"$f":"havril","v":""},{"$f":"havril","v":""},{"$f":"havril","v":""},{"$f":"havril","v":""},{"$f":"havril","v":""},{"$f":"havril","v":""},{"$f":"havril","v":""},{"$f":"havril","v":""},{"$f":"havril","v":""},{"$f":"havril","v":""},{"$f":"havril","v":""},{"$f":"havril","v":""}]
[{"$f":"Données!$H39","v":0},{"$f":"havril","v":""},{"$f":"havril","v":""},{"$f":"havril","v":""},{"$f":"havril","v":""},{"$f":"havril","v":""},{"$f":"havril","v":""},{"$f":"havril","v":""},{"$f":"havril","v":""},{"$f":"havril","v":""},{"$f":"havril","v":""},{"$f":"havril","v":""},{"$f":"havril","v":""},{"$f":"havril","v":""},{"$f":"havril","v":""},{"$f":"havril","v":""},{"$f":"havril","v":""},{"$f":"havril","v":""},{"$f":"havril","v":""},{"$f":"havril","v":""},{"$f":"havril","v":""},{"$f":"havril","v":""},{"$f":"havril","v":""},{"$f":"havril","v":""},{"$f":"havril","v":""},{"$f":"havril","v":""},{"$f":"havril","v":""},{"$f":"havril","v":""},{"$f":"havril","v":""},{"$f":"havril","v":""},{"$f":"havril","v":""}]
[{"$f":"Données!$H40","v":0},{"$f":"havril","v":""},{"$f":"havril","v":""},{"$f":"havril","v":""},{"$f":"havril","v":""},{"$f":"havril","v":""},{"$f":"havril","v":""},{"$f":"havril","v":""},{"$f":"havril","v":""},{"$f":"havril","v":""},{"$f":"havril","v":""},{"$f":"havril","v":""},{"$f":"havril","v":""},{"$f":"havril","v":""},{"$f":"havril","v":""},{"$f":"havril","v":""},{"$f":"havril","v":""},{"$f":"havril","v":""},{"$f":"havril","v":""},{"$f":"havril","v":""},{"$f":"havril","v":""},{"$f":"havril","v":""},{"$f":"havril","v":""},{"$f":"havril","v":""},{"$f":"havril","v":""},{"$f":"havril","v":""},{"$f":"havril","v":""},{"$f":"havril","v":""},{"$f":"havril","v":""},{"$f":"havril","v":""},{"$f":"havril","v":""}]
[{"$f":"Données!$H41","v":0},{"$f":"havril","v":""},{"$f":"havril","v":""},{"$f":"havril","v":""},{"$f":"havril","v":""},{"$f":"havril","v":""},{"$f":"havril","v":""},{"$f":"havril","v":""},{"$f":"havril","v":""},{"$f":"havril","v":""},{"$f":"havril","v":""},{"$f":"havril","v":""},{"$f":"havril","v":""},{"$f":"havril","v":""},{"$f":"havril","v":""},{"$f":"havril","v":""},{"$f":"havril","v":""},{"$f":"havril","v":""},{"$f":"havril","v":""},{"$f":"havril","v":""},{"$f":"havril","v":""},{"$f":"havril","v":""},{"$f":"havril","v":""},{"$f":"havril","v":""},{"$f":"havril","v":""},{"$f":"havril","v":""},{"$f":"havril","v":""},{"$f":"havril","v":""},{"$f":"havril","v":""},{"$f":"havril","v":""},{"$f":"havril","v":""}]
[{"$f":"Données!$H42","v":"Psychologue"}]
[{"$f":"Données!$H43","v":"O"},{"$f":"havril","v":""},{"$f":"havril","v":""},{"$f":"havril","v":""},{"$f":"havril","v":""},{"$f":"havril","v":""},{"$f":"havril","v":""},{"$f":"havril","v":""},{"$f":"havril","v":""},{"$f":"havril","v":""},{"$f":"havril","v":""},{"$f":"havril","v":""},{"$f":"havril","v":""},{"$f":"havril","v":""},{"$f":"havril","v":""},{"$f":"havril","v":""},{"$f":"havril","v":""},{"$f":"havril","v":""},{"$f":"havril","v":""},{"$f":"havril","v":""},{"$f":"havril","v":""},{"$f":"havril","v":""},{"$f":"havril","v":""},{"$f":"havril","v":""},{"$f":"havril","v":""},{"$f":"havril","v":""},{"$f":"havril","v":""},{"$f":"havril","v":""},{"$f":"havril","v":""},{"$f":"havril","v":""},{"$f":"havril","v":""}]
[{"$f":"Données!$H44","v":0},{"$f":"havril","v":""},{"$f":"havril","v":""},{"$f":"havril","v":""},{"$f":"havril","v":""},{"$f":"havril","v":""},{"$f":"havril","v":""},{"$f":"havril","v":""},{"$f":"havril","v":""},{"$f":"havril","v":""},{"$f":"havril","v":""},{"$f":"havril","v":""},{"$f":"havril","v":""},{"$f":"havril","v":""},{"$f":"havril","v":""},{"$f":"havril","v":""},{"$f":"havril","v":""},{"$f":"havril","v":""},{"$f":"havril","v":""},{"$f":"havril","v":""},{"$f":"havril","v":""},{"$f":"havril","v":""},{"$f":"havril","v":""},{"$f":"havril","v":""},{"$f":"havril","v":""},{"$f":"havril","v":""},{"$f":"havril","v":""},{"$f":"havril","v":""},{"$f":"havril","v":""},{"$f":"havril","v":""},{"$f":"havril","v":""}]
[{"$f":"Données!$H45","v":0},{"$f":"havril","v":""},{"$f":"havril","v":""},{"$f":"havril","v":""},{"$f":"havril","v":""},{"$f":"havril","v":""},{"$f":"havril","v":""},{"$f":"havril","v":""},{"$f":"havril","v":""},{"$f":"havril","v":""},{"$f":"havril","v":""},{"$f":"havril","v":""},{"$f":"havril","v":""},{"$f":"havril","v":""},{"$f":"havril","v":""},{"$f":"havril","v":""},{"$f":"havril","v":""},{"$f":"havril","v":""},{"$f":"havril","v":""},{"$f":"havril","v":""},{"$f":"havril","v":""},{"$f":"havril","v":""},{"$f":"havril","v":""},{"$f":"havril","v":""},{"$f":"havril","v":""},{"$f":"havril","v":""},{"$f":"havril","v":""},{"$f":"havril","v":""},{"$f":"havril","v":""},{"$f":"havril","v":""},{"$f":"havril","v":""}]
[{"$f":"Données!$H46","v":"Coordinatrice"}]
[{"$f":"Données!$H47","v":"P"},{"$f":"havril","v":""},{"$f":"havril","v":""},{"$f":"havril","v":""},{"$f":"havril","v":""},{"$f":"havril","v":""},{"$f":"havril","v":""},{"$f":"havril","v":""},{"$f":"havril","v":""},{"$f":"havril","v":""},{"$f":"havril","v":""},{"$f":"havril","v":""},{"$f":"havril","v":""},{"$f":"havril","v":""},{"$f":"havril","v":""},{"$f":"havril","v":""},{"$f":"havril","v":""},{"$f":"havril","v":""},{"$f":"havril","v":""},{"$f":"havril","v":""},{"$f":"havril","v":""},{"$f":"havril","v":""},{"$f":"havril","v":""},{"$f":"havril","v":""},{"$f":"havril","v":""},{"$f":"havril","v":""},{"$f":"havril","v":""},{"$f":"havril","v":""},{"$f":"havril","v":""},{"$f":"havril","v":""},{"$f":"havril","v":""}]
[{"$f":"Données!$H48","v":0},{"$f":"havril","v":""},{"$f":"havril","v":""},{"$f":"havril","v":""},{"$f":"havril","v":""},{"$f":"havril","v":""},{"$f":"havril","v":""},{"$f":"havril","v":""},{"$f":"havril","v":""},{"$f":"havril","v":""},{"$f":"havril","v":""},{"$f":"havril","v":""},{"$f":"havril","v":""},{"$f":"havril","v":""},{"$f":"havril","v":""},{"$f":"havril","v":""},{"$f":"havril","v":""},{"$f":"havril","v":""},{"$f":"havril","v":""},{"$f":"havril","v":""},{"$f":"havril","v":""},{"$f":"havril","v":""},{"$f":"havril","v":""},{"$f":"havril","v":""},{"$f":"havril","v":""},{"$f":"havril","v":""},{"$f":"havril","v":""},{"$f":"havril","v":""},{"$f":"havril","v":""},{"$f":"havril","v":""},{"$f":"havril","v":""}]
[{"$f":"Données!$H49","v":0},{"$f":"havril","v":""},{"$f":"havril","v":""},{"$f":"havril","v":""},{"$f":"havril","v":""},{"$f":"havril","v":""},{"$f":"havril","v":""},{"$f":"havril","v":""},{"$f":"havril","v":""},{"$f":"havril","v":""},{"$f":"havril","v":""},{"$f":"havril","v":""},{"$f":"havril","v":""},{"$f":"havril","v":""},{"$f":"havril","v":""},{"$f":"havril","v":""},{"$f":"havril","v":""},{"$f":"havril","v":""},{"$f":"havril","v":""},{"$f":"havril","v":""},{"$f":"havril","v":""},{"$f":"havril","v":""},{"$f":"havril","v":""},{"$f":"havril","v":""},{"$f":"havril","v":""},{"$f":"havril","v":""},{"$f":"havril","v":""},{"$f":"havril","v":""},{"$f":"havril","v":""},{"$f":"havril","v":""},{"$f":"havril","v":""}]
[{"$f":"Données!$H50","v":0},{"$f":"havril","v":""},{"$f":"havril","v":""},{"$f":"havril","v":""},{"$f":"havril","v":""},{"$f":"havril","v":""},{"$f":"havril","v":""},{"$f":"havril","v":""},{"$f":"havril","v":""},{"$f":"havril","v":""},{"$f":"havril","v":""},{"$f":"havril","v":""},{"$f":"havril","v":""},{"$f":"havril","v":""},{"$f":"havril","v":""},{"$f":"havril","v":""},{"$f":"havril","v":""},{"$f":"havril","v":""},{"$f":"havril","v":""},{"$f":"havril","v":""},{"$f":"havril","v":""},{"$f":"havril","v":""},{"$f":"havril","v":""},{"$f":"havril","v":""},{"$f":"havril","v":""},{"$f":"havril","v":""},{"$f":"havril","v":""},{"$f":"havril","v":""},{"$f":"havril","v":""},{"$f":"havril","v":""},{"$f":"havril","v":""}]
[{"$f":"Données!$H51","v":0},{"$f":"havril","v":""},{"$f":"havril","v":""},{"$f":"havril","v":""},{"$f":"havril","v":""},{"$f":"havril","v":""},{"$f":"havril","v":""},{"$f":"havril","v":""},{"$f":"havril","v":""},{"$f":"havril","v":""},{"$f":"havril","v":""},{"$f":"havril","v":""},{"$f":"havril","v":""},{"$f":"havril","v":""},{"$f":"havril","v":""},{"$f":"havril","v":""},{"$f":"havril","v":""},{"$f":"havril","v":""},{"$f":"havril","v":""},{"$f":"havril","v":""},{"$f":"havril","v":""},{"$f":"havril","v":""},{"$f":"havril","v":""},{"$f":"havril","v":""},{"$f":"havril","v":""},{"$f":"havril","v":""},{"$f":"havril","v":""},{"$f":"havril","v":""},{"$f":"havril","v":""},{"$f":"havril","v":""},{"$f":"havril","v":""}]
[{"$f":"Données!$H52","v":"Chef de service"}]
[{"$f":"Données!$H53","v":"Q"},{"$f":"havril","v":""},{"$f":"havril","v":""},{"$f":"havril","v":""},{"$f":"havril","v":""},{"$f":"havril","v":""},{"$f":"havril","v":""},{"$f":"havril","v":""},{"$f":"havril","v":""},{"$f":"havril","v":""},{"$f":"havril","v":""},{"$f":"havril","v":""},{"$f":"havril","v":""},{"$f":"havril","v":""},{"$f":"havril","v":""},{"$f":"havril","v":""},{"$f":"havril","v":""},{"$f":"havril","v":""},{"$f":"havril","v":""},{"$f":"havril","v":""},{"$f":"havril","v":""},{"$f":"havril","v":""},{"$f":"havril","v":""},{"$f":"havril","v":""},{"$f":"havril","v":""},{"$f":"havril","v":""},{"$f":"havril","v":""},{"$f":"havril","v":""},{"$f":"havril","v":""},{"$f":"havril","v":""},{"$f":"havril","v":""}]

{"sheet":"HJuin","index":19,"n_rows":56,"n_cols":31,"rows_kept":56,"cut":false,"hidden":false,"merged":[]}
[null,null,null,"Mois de","Juin",{"$f":"An","v":2018}]
[null,{"$f":"DATE(An,Juin,B7)","v":"2018-06-01"},"2018-06-02","2018-06-03","2018-06-04","2018-06-05","2018-06-06","2018-06-07","2018-06-08","2018-06-09","2018-06-10","2018-06-11","2018-06-12","2018-06-13","2018-06-14","2018-06-15","2018-06-16","2018-06-17","2018-06-18","2018-06-19","2018-06-20","2018-06-21","2018-06-22","2018-06-23","2018-06-24","2018-06-25","2018-06-26","2018-06-27","2018-06-28","2018-06-29","2018-06-30"]
[{"$f":"IF(Données!$L$5=\"\",\"Service\",Données!$L$5)","v":"Service"}]
[]
[]
["Jours",{"$f":"PROPER(TEXT(DATE(An,Juin,B$7),\"jjjjjj\"))","v":"Vendredi"},"Samedi","Dimanche","Lundi","Mardi","Mercredi","Jeudi","Vendredi","Samedi","Dimanche","Lundi","Mardi","Mercredi","Jeudi","Vendredi","Samedi","Dimanche","Lundi","Mardi","Mercredi","Jeudi","Vendredi","Samedi","Dimanche","Lundi","Mardi","Mercredi","Jeudi","Vendredi","Samedi"]
[null,1,{"$f":"B$7+1","v":2},{"$f":"C$7+1","v":3},4,5,6,7,8,9,10,11,12,13,14,15,16,17,18,19,20,21,22,23,24,25,26,27,28,{"$f":"AC$7+1","v":29},{"$f":"AD$7+1","v":30}]
["Equipe de jour"]
[{"$f":"Données!$H6","v":"A"},{"$f":"hjuin","v":""},{"$f":"hjuin","v":""},{"$f":"hjuin","v":""},{"$f":"hjuin","v":""},{"$f":"hjuin","v":""},{"$f":"hjuin","v":""},{"$f":"hjuin","v":""},{"$f":"hjuin","v":""},{"$f":"hjuin","v":""},{"$f":"hjuin","v":""},{"$f":"hjuin","v":""},{"$f":"hjuin","v":""},{"$f":"hjuin","v":""},{"$f":"hjuin","v":""},{"$f":"hjuin","v":""},{"$f":"hjuin","v":""},{"$f":"hjuin","v":""},{"$f":"hjuin","v":""},{"$f":"hjuin","v":""},{"$f":"hjuin","v":""},{"$f":"hjuin","v":""},{"$f":"hjuin","v":""},{"$f":"hjuin","v":""},{"$f":"hjuin","v":""},{"$f":"hjuin","v":""},{"$f":"hjuin","v":""},{"$f":"hjuin","v":""},{"$f":"hjuin","v":""},{"$f":"hjuin","v":""},{"$f":"hjuin","v":""}]
[{"$f":"Données!$H7","v":0},{"$f":"hjuin","v":""},{"$f":"hjuin","v":""},{"$f":"hjuin","v":""},{"$f":"hjuin","v":""},{"$f":"hjuin","v":""},{"$f":"hjuin","v":""},{"$f":"hjuin","v":""},{"$f":"hjuin","v":""},{"$f":"hjuin","v":""},{"$f":"hjuin","v":""},{"$f":"hjuin","v":""},{"$f":"hjuin","v":""},{"$f":"hjuin","v":""},{"$f":"hjuin","v":""},{"$f":"hjuin","v":""},{"$f":"hjuin","v":""},{"$f":"hjuin","v":""},{"$f":"hjuin","v":""},{"$f":"hjuin","v":""},{"$f":"hjuin","v":""},{"$f":"hjuin","v":""},{"$f":"hjuin","v":""},{"$f":"hjuin","v":""},{"$f":"hjuin","v":""},{"$f":"hjuin","v":""},{"$f":"hjuin","v":""},{"$f":"hjuin","v":""},{"$f":"hjuin","v":""},{"$f":"hjuin","v":""},{"$f":"hjuin","v":""}]
[{"$f":"Données!$H8","v":0},{"$f":"hjuin","v":""},{"$f":"hjuin","v":""},{"$f":"hjuin","v":""},{"$f":"hjuin","v":""},{"$f":"hjuin","v":""},{"$f":"hjuin","v":""},{"$f":"hjuin","v":""},{"$f":"hjuin","v":""},{"$f":"hjuin","v":""},{"$f":"hjuin","v":""},{"$f":"hjuin","v":""},{"$f":"hjuin","v":""},{"$f":"hjuin","v":""},{"$f":"hjuin","v":""},{"$f":"hjuin","v":""},{"$f":"hjuin","v":""},{"$f":"hjuin","v":""},{"$f":"hjuin","v":""},{"$f":"hjuin","v":""},{"$f":"hjuin","v":""},{"$f":"hjuin","v":""},{"$f":"hjuin","v":""},{"$f":"hjuin","v":""},{"$f":"hjuin","v":""},{"$f":"hjuin","v":""},{"$f":"hjuin","v":""},{"$f":"hjuin","v":""},{"$f":"hjuin","v":""},{"$f":"hjuin","v":""},{"$f":"hjuin","v":""}]
[{"$f":"Données!$H9","v":0},{"$f":"hjuin","v":""},{"$f":"hjuin","v":""},{"$f":"hjuin","v":""},{"$f":"hjuin","v":""},{"$f":"hjuin","v":""},{"$f":"hjuin","v":""},{"$f":"hjuin","v":""},{"$f":"hjuin","v":""},{"$f":"hjuin","v":""},{"$f":"hjuin","v":""},{"$f":"hjuin","v":""},{"$f":"hjuin","v":""},{"$f":"hjuin","v":""},{"$f":"hjuin","v":""},{"$f":"hjuin","v":""},{"$f":"hjuin","v":""},{"$f":"hjuin","v":""},{"$f":"hjuin","v":""},{"$f":"hjuin","v":""},{"$f":"hjuin","v":""},{"$f":"hjuin","v":""},{"$f":"hjuin","v":""},{"$f":"hjuin","v":""},{"$f":"hjuin","v":""},{"$f":"hjuin","v":""},{"$f":"hjuin","v":""},{"$f":"hjuin","v":""},{"$f":"hjuin","v":""},{"$f":"hjuin","v":""},{"$f":"hjuin","v":""}]
[{"$f":"Données!$H10","v":0},{"$f":"hjuin","v":""},{"$f":"hjuin","v":""},{"$f":"hjuin","v":""},{"$f":"hjuin","v":""},{"$f":"hjuin","v":""},{"$f":"hjuin","v":""},{"$f":"hjuin","v":""},{"$f":"hjuin","v":""},{"$f":"hjuin","v":""},{"$f":"hjuin","v":""},{"$f":"hjuin","v":""},{"$f":"hjuin","v":""},{"$f":"hjuin","v":""},{"$f":"hjuin","v":""},{"$f":"hjuin","v":""},{"$f":"hjuin","v":""},{"$f":"hjuin","v":""},{"$f":"hjuin","v":""},{"$f":"hjuin","v":""},{"$f":"hjuin","v":""},{"$f":"hjuin","v":""},{"$f":"hjuin","v":""},{"$f":"hjuin","v":""},{"$f":"hjuin","v":""},{"$f":"hjuin","v":""},{"$f":"hjuin","v":""},{"$f":"hjuin","v":""},{"$f":"hjuin","v":""},{"$f":"hjuin","v":""},{"$f":"hjuin","v":""}]
[{"$f":"Données!$H11","v":0},{"$f":"hjuin","v":""},{"$f":"hjuin","v":""},{"$f":"hjuin","v":""},{"$f":"hjuin","v":""},{"$f":"hjuin","v":""},{"$f":"hjuin","v":""},{"$f":"hjuin","v":""},{"$f":"hjuin","v":""},{"$f":"hjuin","v":""},{"$f":"hjuin","v":""},{"$f":"hjuin","v":""},{"$f":"hjuin","v":""},{"$f":"hjuin","v":""},{"$f":"hjuin","v":""},{"$f":"hjuin","v":""},{"$f":"hjuin","v":""},{"$f":"hjuin","v":""},{"$f":"hjuin","v":""},{"$f":"hjuin","v":""},{"$f":"hjuin","v":""},{"$f":"hjuin","v":""},{"$f":"hjuin","v":""},{"$f":"hjuin","v":""},{"$f":"hjuin","v":""},{"$f":"hjuin","v":""},{"$f":"hjuin","v":""},{"$f":"hjuin","v":""},{"$f":"hjuin","v":""},{"$f":"hjuin","v":""},{"$f":"hjuin","v":""}]
[{"$f":"Données!$H12","v":0},{"$f":"hjuin","v":""},{"$f":"hjuin","v":""},{"$f":"hjuin","v":""},{"$f":"hjuin","v":""},{"$f":"hjuin","v":""},{"$f":"hjuin","v":""},{"$f":"hjuin","v":""},{"$f":"hjuin","v":""},{"$f":"hjuin","v":""},{"$f":"hjuin","v":""},{"$f":"hjuin","v":""},{"$f":"hjuin","v":""},{"$f":"hjuin","v":""},{"$f":"hjuin","v":""},{"$f":"hjuin","v":""},{"$f":"hjuin","v":""},{"$f":"hjuin","v":""},{"$f":"hjuin","v":""},{"$f":"hjuin","v":""},{"$f":"hjuin","v":""},{"$f":"hjuin","v":""},{"$f":"hjuin","v":""},{"$f":"hjuin","v":""},{"$f":"hjuin","v":""},{"$f":"hjuin","v":""},{"$f":"hjuin","v":""},{"$f":"hjuin","v":""},{"$f":"hjuin","v":""},{"$f":"hjuin","v":""},{"$f":"hjuin","v":""}]
[{"$f":"Données!$H13","v":0},{"$f":"hjuin","v":""},{"$f":"hjuin","v":""},{"$f":"hjuin","v":""},{"$f":"hjuin","v":""},{"$f":"hjuin","v":""},{"$f":"hjuin","v":""},{"$f":"hjuin","v":""},{"$f":"hjuin","v":""},{"$f":"hjuin","v":""},{"$f":"hjuin","v":""},{"$f":"hjuin","v":""},{"$f":"hjuin","v":""},{"$f":"hjuin","v":""},{"$f":"hjuin","v":""},{"$f":"hjuin","v":""},{"$f":"hjuin","v":""},{"$f":"hjuin","v":""},{"$f":"hjuin","v":""},{"$f":"hjuin","v":""},{"$f":"hjuin","v":""},{"$f":"hjuin","v":""},{"$f":"hjuin","v":""},{"$f":"hjuin","v":""},{"$f":"hjuin","v":""},{"$f":"hjuin","v":""},{"$f":"hjuin","v":""},{"$f":"hjuin","v":""},{"$f":"hjuin","v":""},{"$f":"hjuin","v":""},{"$f":"hjuin","v":""}]
[{"$f":"Données!$H14","v":0},{"$f":"hjuin","v":""},{"$f":"hjuin","v":""},{"$f":"hjuin","v":""},{"$f":"hjuin","v":""},{"$f":"hjuin","v":""},{"$f":"hjuin","v":""},{"$f":"hjuin","v":""},{"$f":"hjuin","v":""},{"$f":"hjuin","v":""},{"$f":"hjuin","v":""},{"$f":"hjuin","v":""},{"$f":"hjuin","v":""},{"$f":"hjuin","v":""},{"$f":"hjuin","v":""},{"$f":"hjuin","v":""},{"$f":"hjuin","v":""},{"$f":"hjuin","v":""},{"$f":"hjuin","v":""},{"$f":"hjuin","v":""},{"$f":"hjuin","v":""},{"$f":"hjuin","v":""},{"$f":"hjuin","v":""},{"$f":"hjuin","v":""},{"$f":"hjuin","v":""},{"$f":"hjuin","v":""},{"$f":"hjuin","v":""},{"$f":"hjuin","v":""},{"$f":"hjuin","v":""},{"$f":"hjuin","v":""},{"$f":"hjuin","v":""}]
[{"$f":"Données!$H15","v":0},{"$f":"hjuin","v":""},{"$f":"hjuin","v":""},{"$f":"hjuin","v":""},{"$f":"hjuin","v":""},{"$f":"hjuin","v":""},{"$f":"hjuin","v":""},{"$f":"hjuin","v":""},{"$f":"hjuin","v":""},{"$f":"hjuin","v":""},{"$f":"hjuin","v":""},{"$f":"hjuin","v":""},{"$f":"hjuin","v":""},{"$f":"hjuin","v":""},{"$f":"hjuin","v":""},{"$f":"hjuin","v":""},{"$f":"hjuin","v":""},{"$f":"hjuin","v":""},{"$f":"hjuin","v":""},{"$f":"hjuin","v":""},{"$f":"hjuin","v":""},{"$f":"hjuin","v":""},{"$f":"hjuin","v":""},{"$f":"hjuin","v":""},{"$f":"hjuin","v":""},{"$f":"hjuin","v":""},{"$f":"hjuin","v":""},{"$f":"hjuin","v":""},{"$f":"hjuin","v":""},{"$f":"hjuin","v":""},{"$f":"hjuin","v":""}]
[{"$f":"Données!$H16","v":0},{"$f":"hjuin","v":""},{"$f":"hjuin","v":""},{"$f":"hjuin","v":""},{"$f":"hjuin","v":""},{"$f":"hjuin","v":""},{"$f":"hjuin","v":""},{"$f":"hjuin","v":""},{"$f":"hjuin","v":""},{"$f":"hjuin","v":""},{"$f":"hjuin","v":""},{"$f":"hjuin","v":""},{"$f":"hjuin","v":""},{"$f":"hjuin","v":""},{"$f":"hjuin","v":""},{"$f":"hjuin","v":""},{"$f":"hjuin","v":""},{"$f":"hjuin","v":""},{"$f":"hjuin","v":""},{"$f":"hjuin","v":""},{"$f":"hjuin","v":""},{"$f":"hjuin","v":""},{"$f":"hjuin","v":""},{"$f":"hjuin","v":""},{"$f":"hjuin","v":""},{"$f":"hjuin","v":""},{"$f":"hjuin","v":""},{"$f":"hjuin","v":""},{"$f":"hjuin","v":""},{"$f":"hjuin","v":""},{"$f":"hjuin","v":""}]
[{"$f":"Données!$H17","v":0},{"$f":"hjuin","v":""},{"$f":"hjuin","v":""},{"$f":"hjuin","v":""},{"$f":"hjuin","v":""},{"$f":"hjuin","v":""},{"$f":"hjuin","v":""},{"$f":"hjuin","v":""},{"$f":"hjuin","v":""},{"$f":"hjuin","v":""},{"$f":"hjuin","v":""},{"$f":"hjuin","v":""},{"$f":"hjuin","v":""},{"$f":"hjuin","v":""},{"$f":"hjuin","v":""},{"$f":"hjuin","v":""},{"$f":"hjuin","v":""},{"$f":"hjuin","v":""},{"$f":"hjuin","v":""},{"$f":"hjuin","v":""},{"$f":"hjuin","v":""},{"$f":"hjuin","v":""},{"$f":"hjuin","v":""},{"$f":"hjuin","v":""},{"$f":"hjuin","v":""},{"$f":"hjuin","v":""},{"$f":"hjuin","v":""},{"$f":"hjuin","v":""},{"$f":"hjuin","v":""},{"$f":"hjuin","v":""},{"$f":"hjuin","v":""}]
[{"$f":"Données!$H18","v":0},{"$f":"hjuin","v":""},{"$f":"hjuin","v":""},{"$f":"hjuin","v":""},{"$f":"hjuin","v":""},{"$f":"hjuin","v":""},{"$f":"hjuin","v":""},{"$f":"hjuin","v":""},{"$f":"hjuin","v":""},{"$f":"hjuin","v":""},{"$f":"hjuin","v":""},{"$f":"hjuin","v":""},{"$f":"hjuin","v":""},{"$f":"hjuin","v":""},{"$f":"hjuin","v":""},{"$f":"hjuin","v":""},{"$f":"hjuin","v":""},{"$f":"hjuin","v":""},{"$f":"hjuin","v":""},{"$f":"hjuin","v":""},{"$f":"hjuin","v":""},{"$f":"hjuin","v":""},{"$f":"hjuin","v":""},{"$f":"hjuin","v":""},{"$f":"hjuin","v":""},{"$f":"hjuin","v":""},{"$f":"hjuin","v":""},{"$f":"hjuin","v":""},{"$f":"hjuin","v":""},{"$f":"hjuin","v":""},{"$f":"hjuin","v":""}]
[{"$f":"Données!$H19","v":0},{"$f":"hjuin","v":""},{"$f":"hjuin","v":""},{"$f":"hjuin","v":""},{"$f":"hjuin","v":""},{"$f":"hjuin","v":""},{"$f":"hjuin","v":""},{"$f":"hjuin","v":""},{"$f":"hjuin","v":""},{"$f":"hjuin","v":""},{"$f":"hjuin","v":""},{"$f":"hjuin","v":""},{"$f":"hjuin","v":""},{"$f":"hjuin","v":""},{"$f":"hjuin","v":""},{"$f":"hjuin","v":""},{"$f":"hjuin","v":""},{"$f":"hjuin","v":""},{"$f":"hjuin","v":""},{"$f":"hjuin","v":""},{"$f":"hjuin","v":""},{"$f":"hjuin","v":""},{"$f":"hjuin","v":""},{"$f":"hjuin","v":""},{"$f":"hjuin","v":""},{"$f":"hjuin","v":""},{"$f":"hjuin","v":""},{"$f":"hjuin","v":""},{"$f":"hjuin","v":""},{"$f":"hjuin","v":""},{"$f":"hjuin","v":""}]
[{"$f":"Données!$H20","v":0},{"$f":"hjuin","v":""},{"$f":"hjuin","v":""},{"$f":"hjuin","v":""},{"$f":"hjuin","v":""},{"$f":"hjuin","v":""},{"$f":"hjuin","v":""},{"$f":"hjuin","v":""},{"$f":"hjuin","v":""},{"$f":"hjuin","v":""},{"$f":"hjuin","v":""},{"$f":"hjuin","v":""},{"$f":"hjuin","v":""},{"$f":"hjuin","v":""},{"$f":"hjuin","v":""},{"$f":"hjuin","v":""},{"$f":"hjuin","v":""},{"$f":"hjuin","v":""},{"$f":"hjuin","v":""},{"$f":"hjuin","v":""},{"$f":"hjuin","v":""},{"$f":"hjuin","v":""},{"$f":"hjuin","v":""},{"$f":"hjuin","v":""},{"$f":"hjuin","v":""},{"$f":"hjuin","v":""},{"$f":"hjuin","v":""},{"$f":"hjuin","v":""},{"$f":"hjuin","v":""},{"$f":"hjuin","v":""},{"$f":"hjuin","v":""}]
[{"$f":"Données!$H21","v":0},{"$f":"hjuin","v":""},{"$f":"hjuin","v":""},{"$f":"hjuin","v":""},{"$f":"hjuin","v":""},{"$f":"hjuin","v":""},{"$f":"hjuin","v":""},{"$f":"hjuin","v":""},{"$f":"hjuin","v":""},{"$f":"hjuin","v":""},{"$f":"hjuin","v":""},{"$f":"hjuin","v":""},{"$f":"hjuin","v":""},{"$f":"hjuin","v":""},{"$f":"hjuin","v":""},{"$f":"hjuin","v":""},{"$f":"hjuin","v":""},{"$f":"hjuin","v":""},{"$f":"hjuin","v":""},{"$f":"hjuin","v":""},{"$f":"hjuin","v":""},{"$f":"hjuin","v":""},{"$f":"hjuin","v":""},{"$f":"hjuin","v":""},{"$f":"hjuin","v":""},{"$f":"hjuin","v":""},{"$f":"hjuin","v":""},{"$f":"hjuin","v":""},{"$f":"hjuin","v":""},{"$f":"hjuin","v":""},{"$f":"hjuin","v":""}]
[{"$f":"Données!$H22","v":"Equipe de nuit"}]
[{"$f":"Données!$H23","v":"K"},{"$f":"hjuin","v":""},{"$f":"hjuin","v":""},{"$f":"hjuin","v":""},{"$f":"hjuin","v":""},{"$f":"hjuin","v":""},{"$f":"hjuin","v":""},{"$f":"hjuin","v":""},{"$f":"hjuin","v":""},{"$f":"hjuin","v":""},{"$f":"hjuin","v":""},{"$f":"hjuin","v":""},{"$f":"hjuin","v":""},{"$f":"hjuin","v":""},{"$f":"hjuin","v":""},{"$f":"hjuin","v":""},{"$f":"hjuin","v":""},{"$f":"hjuin","v":""},{"$f":"hjuin","v":""},{"$f":"hjuin","v":""},{"$f":"hjuin","v":""},{"$f":"hjuin","v":""},{"$f":"hjuin","v":""},{"$f":"hjuin","v":""},{"$f":"hjuin","v":""},{"$f":"hjuin","v":""},{"$f":"hjuin","v":""},{"$f":"hjuin","v":""},{"$f":"hjuin","v":""},{"$f":"hjuin","v":""},{"$f":"hjuin","v":""}]
[{"$f":"Données!$H24","v":0},{"$f":"hjuin","v":""},{"$f":"hjuin","v":""},{"$f":"hjuin","v":""},{"$f":"hjuin","v":""},{"$f":"hjuin","v":""},{"$f":"hjuin","v":""},{"$f":"hjuin","v":""},{"$f":"hjuin","v":""},{"$f":"hjuin","v":""},{"$f":"hjuin","v":""},{"$f":"hjuin","v":""},{"$f":"hjuin","v":""},{"$f":"hjuin","v":""},{"$f":"hjuin","v":""},{"$f":"hjuin","v":""},{"$f":"hjuin","v":""},{"$f":"hjuin","v":""},{"$f":"hjuin","v":""},{"$f":"hjuin","v":""},{"$f":"hjuin","v":""},{"$f":"hjuin","v":""},{"$f":"hjuin","v":""},{"$f":"hjuin","v":""},{"$f":"hjuin","v":""},{"$f":"hjuin","v":""},{"$f":"hjuin","v":""},{"$f":"hjuin","v":""},{"$f":"hjuin","v":""},{"$f":"hjuin","v":""},{"$f":"hjuin","v":""}]
[{"$f":"Données!$H25","v":0},{"$f":"hjuin","v":""},{"$f":"hjuin","v":""},{"$f":"hjuin","v":""},{"$f":"hjuin","v":""},{"$f":"hjuin","v":""},{"$f":"hjuin","v":""},{"$f":"hjuin","v":""},{"$f":"hjuin","v":""},{"$f":"hjuin","v":""},{"$f":"hjuin","v":""},{"$f":"hjuin","v":""},{"$f":"hjuin","v":""},{"$f":"hjuin","v":""},{"$f":"hjuin","v":""},{"$f":"hjuin","v":""},{"$f":"hjuin","v":""},{"$f":"hjuin","v":""},{"$f":"hjuin","v":""},{"$f":"hjuin","v":""},{"$f":"hjuin","v":""},{"$f":"hjuin","v":""},{"$f":"hjuin","v":""},{"$f":"hjuin","v":""},{"$f":"hjuin","v":""},{"$f":"hjuin","v":""},{"$f":"hjuin","v":""},{"$f":"hjuin","v":""},{"$f":"hjuin","v":""},{"$f":"hjuin","v":""},{"$f":"hjuin","v":""}]
[{"$f":"Données!$H26","v":0},{"$f":"hjuin","v":""},{"$f":"hjuin","v":""},{"$f":"hjuin","v":""},{"$f":"hjuin","v":""},{"$f":"hjuin","v":""},{"$f":"hjuin","v":""},{"$f":"hjuin","v":""},{"$f":"hjuin","v":""},{"$f":"hjuin","v":""},{"$f":"hjuin","v":""},{"$f":"hjuin","v":""},{"$f":"hjuin","v":""},{"$f":"hjuin","v":""},{"$f":"hjuin","v":""},{"$f":"hjuin","v":""},{"$f":"hjuin","v":""},{"$f":"hjuin","v":""},{"$f":"hjuin","v":""},{"$f":"hjuin","v":""},{"$f":"hjuin","v":""},{"$f":"hjuin","v":""},{"$f":"hjuin","v":""},{"$f":"hjuin","v":""},{"$f":"hjuin","v":""},{"$f":"hjuin","v":""},{"$f":"hjuin","v":""},{"$f":"hjuin","v":""},{"$f":"hjuin","v":""},{"$f":"hjuin","v":""},{"$f":"hjuin","v":""}]
[{"$f":"Données!$H27","v":0},{"$f":"hjuin","v":""},{"$f":"hjuin","v":""},{"$f":"hjuin","v":""},{"$f":"hjuin","v":""},{"$f":"hjuin","v":""},{"$f":"hjuin","v":""},{"$f":"hjuin","v":""},{"$f":"hjuin","v":""},{"$f":"hjuin","v":""},{"$f":"hjuin","v":""},{"$f":"hjuin","v":""},{"$f":"hjuin","v":""},{"$f":"hjuin","v":""},{"$f":"hjuin","v":""},{"$f":"hjuin","v":""},{"$f":"hjuin","v":""},{"$f":"hjuin","v":""},{"$f":"hjuin","v":""},{"$f":"hjuin","v":""},{"$f":"hjuin","v":""},{"$f":"hjuin","v":""},{"$f":"hjuin","v":""},{"$f":"hjuin","v":""},{"$f":"hjuin","v":""},{"$f":"hjuin","v":""},{"$f":"hjuin","v":""},{"$f":"hjuin","v":""},{"$f":"hjuin","v":""},{"$f":"hjuin","v":""},{"$f":"hjuin","v":""}]
[{"$f":"Données!$H28","v":0},{"$f":"hjuin","v":""},{"$f":"hjuin","v":""},{"$f":"hjuin","v":""},{"$f":"hjuin","v":""},{"$f":"hjuin","v":""},{"$f":"hjuin","v":""},{"$f":"hjuin","v":""},{"$f":"hjuin","v":""},{"$f":"hjuin","v":""},{"$f":"hjuin","v":""},{"$f":"hjuin","v":""},{"$f":"hjuin","v":""},{"$f":"hjuin","v":""},{"$f":"hjuin","v":""},{"$f":"hjuin","v":""},{"$f":"hjuin","v":""},{"$f":"hjuin","v":""},{"$f":"hjuin","v":""},{"$f":"hjuin","v":""},{"$f":"hjuin","v":""},{"$f":"hjuin","v":""},{"$f":"hjuin","v":""},{"$f":"hjuin","v":""},{"$f":"hjuin","v":""},{"$f":"hjuin","v":""},{"$f":"hjuin","v":""},{"$f":"hjuin","v":""},{"$f":"hjuin","v":""},{"$f":"hjuin","v":""},{"$f":"hjuin","v":""}]
[{"$f":"Données!$H29","v":0},{"$f":"hjuin","v":""},{"$f":"hjuin","v":""},{"$f":"hjuin","v":""},{"$f":"hjuin","v":""},{"$f":"hjuin","v":""},{"$f":"hjuin","v":""},{"$f":"hjuin","v":""},{"$f":"hjuin","v":""},{"$f":"hjuin","v":""},{"$f":"hjuin","v":""},{"$f":"hjuin","v":""},{"$f":"hjuin","v":""},{"$f":"hjuin","v":""},{"$f":"hjuin","v":""},{"$f":"hjuin","v":""},{"$f":"hjuin","v":""},{"$f":"hjuin","v":""},{"$f":"hjuin","v":""},{"$f":"hjuin","v":""},{"$f":"hjuin","v":""},{"$f":"hjuin","v":""},{"$f":"hjuin","v":""},{"$f":"hjuin","v":""},{"$f":"hjuin","v":""},{"$f":"hjuin","v":""},{"$f":"hjuin","v":""},{"$f":"hjuin","v":""},{"$f":"hjuin","v":""},{"$f":"hjuin","v":""},{"$f":"hjuin","v":""}]
[{"$f":"Données!$H30","v":0},{"$f":"hjuin","v":""},{"$f":"hjuin","v":""},{"$f":"hjuin","v":""},{"$f":"hjuin","v":""},{"$f":"hjuin","v":""},{"$f":"hjuin","v":""},{"$f":"hjuin","v":""},{"$f":"hjuin","v":""},{"$f":"hjuin","v":""},{"$f":"hjuin","v":""},{"$f":"hjuin","v":""},{"$f":"hjuin","v":""},{"$f":"hjuin","v":""},{"$f":"hjuin","v":""},{"$f":"hjuin","v":""},{"$f":"hjuin","v":""},{"$f":"hjuin","v":""},{"$f":"hjuin","v":""},{"$f":"hjuin","v":""},{"$f":"hjuin","v":""},{"$f":"hjuin","v":""},{"$f":"hjuin","v":""},{"$f":"hjuin","v":""},{"$f":"hjuin","v":""},{"$f":"hjuin","v":""},{"$f":"hjuin","v":""},{"$f":"hjuin","v":""},{"$f":"hjuin","v":""},{"$f":"hjuin","v":""},{"$f":"hjuin","v":""}]
[{"$f":"Données!$H31","v":0},{"$f":"hjuin","v":""},{"$f":"hjuin","v":""},{"$f":"hjuin","v":""},{"$f":"hjuin","v":""},{"$f":"hjuin","v":""},{"$f":"hjuin","v":""},{"$f":"hjuin","v":""},{"$f":"hjuin","v":""},{"$f":"hjuin","v":""},{"$f":"hjuin","v":""},{"$f":"hjuin","v":""},{"$f":"hjuin","v":""},{"$f":"hjuin","v":""},{"$f":"hjuin","v":""},{"$f":"hjuin","v":""},{"$f":"hjuin","v":""},{"$f":"hjuin","v":""},{"$f":"hjuin","v":""},{"$f":"hjuin","v":""},{"$f":"hjuin","v":""},{"$f":"hjuin","v":""},{"$f":"hjuin","v":""},{"$f":"hjuin","v":""},{"$f":"hjuin","v":""},{"$f":"hjuin","v":""},{"$f":"hjuin","v":""},{"$f":"hjuin","v":""},{"$f":"hjuin","v":""},{"$f":"hjuin","v":""},{"$f":"hjuin","v":""}]
[{"$f":"Données!$H32","v":"Maitresse de maison"}]
[{"$f":"Données!$H33","v":"N"},{"$f":"hjuin","v":""},{"$f":"hjuin","v":""},{"$f":"hjuin","v":""},{"$f":"hjuin","v":""},{"$f":"hjuin","v":""},{"$f":"hjuin","v":""},{"$f":"hjuin","v":""},{"$f":"hjuin","v":""},{"$f":"hjuin","v":""},{"$f":"hjuin","v":""},{"$f":"hjuin","v":""},{"$f":"hjuin","v":""},{"$f":"hjuin","v":""},{"$f":"hjuin","v":""},{"$f":"hjuin","v":""},{"$f":"hjuin","v":""},{"$f":"hjuin","v":""},{"$f":"hjuin","v":""},{"$f":"hjuin","v":""},{"$f":"hjuin","v":""},{"$f":"hjuin","v":""},{"$f":"hjuin","v":""},{"$f":"hjuin","v":""},{"$f":"hjuin","v":""},{"$f":"hjuin","v":""},{"$f":"hjuin","v":""},{"$f":"hjuin","v":""},{"$f":"hjuin","v":""},{"$f":"hjuin","v":""},{"$f":"hjuin","v":""}]
[{"$f":"Données!$H34","v":0},{"$f":"hjuin","v":""},{"$f":"hjuin","v":""},{"$f":"hjuin","v":""},{"$f":"hjuin","v":""},{"$f":"hjuin","v":""},{"$f":"hjuin","v":""},{"$f":"hjuin","v":""},{"$f":"hjuin","v":""},{"$f":"hjuin","v":""},{"$f":"hjuin","v":""},{"$f":"hjuin","v":""},{"$f":"hjuin","v":""},{"$f":"hjuin","v":""},{"$f":"hjuin","v":""},{"$f":"hjuin","v":""},{"$f":"hjuin","v":""},{"$f":"hjuin","v":""},{"$f":"hjuin","v":""},{"$f":"hjuin","v":""},{"$f":"hjuin","v":""},{"$f":"hjuin","v":""},{"$f":"hjuin","v":""},{"$f":"hjuin","v":""},{"$f":"hjuin","v":""},{"$f":"hjuin","v":""},{"$f":"hjuin","v":""},{"$f":"hjuin","v":""},{"$f":"hjuin","v":""},{"$f":"hjuin","v":""},{"$f":"hjuin","v":""}]
[{"$f":"Données!$H35","v":0},{"$f":"hjuin","v":""},{"$f":"hjuin","v":""},{"$f":"hjuin","v":""},{"$f":"hjuin","v":""},{"$f":"hjuin","v":""},{"$f":"hjuin","v":""},{"$f":"hjuin","v":""},{"$f":"hjuin","v":""},{"$f":"hjuin","v":""},{"$f":"hjuin","v":""},{"$f":"hjuin","v":""},{"$f":"hjuin","v":""},{"$f":"hjuin","v":""},{"$f":"hjuin","v":""},{"$f":"hjuin","v":""},{"$f":"hjuin","v":""},{"$f":"hjuin","v":""},{"$f":"hjuin","v":""},{"$f":"hjuin","v":""},{"$f":"hjuin","v":""},{"$f":"hjuin","v":""},{"$f":"hjuin","v":""},{"$f":"hjuin","v":""},{"$f":"hjuin","v":""},{"$f":"hjuin","v":""},{"$f":"hjuin","v":""},{"$f":"hjuin","v":""},{"$f":"hjuin","v":""},{"$f":"hjuin","v":""},{"$f":"hjuin","v":""}]
[{"$f":"Données!$H36","v":0},{"$f":"hjuin","v":""},{"$f":"hjuin","v":""},{"$f":"hjuin","v":""},{"$f":"hjuin","v":""},{"$f":"hjuin","v":""},{"$f":"hjuin","v":""},{"$f":"hjuin","v":""},{"$f":"hjuin","v":""},{"$f":"hjuin","v":""},{"$f":"hjuin","v":""},{"$f":"hjuin","v":""},{"$f":"hjuin","v":""},{"$f":"hjuin","v":""},{"$f":"hjuin","v":""},{"$f":"hjuin","v":""},{"$f":"hjuin","v":""},{"$f":"hjuin","v":""},{"$f":"hjuin","v":""},{"$f":"hjuin","v":""},{"$f":"hjuin","v":""},{"$f":"hjuin","v":""},{"$f":"hjuin","v":""},{"$f":"hjuin","v":""},{"$f":"hjuin","v":""},{"$f":"hjuin","v":""},{"$f":"hjuin","v":""},{"$f":"hjuin","v":""},{"$f":"hjuin","v":""},{"$f":"hjuin","v":""},{"$f":"hjuin","v":""}]
[{"$f":"Données!$H37","v":0},{"$f":"hjuin","v":""},{"$f":"hjuin","v":""},{"$f":"hjuin","v":""},{"$f":"hjuin","v":""},{"$f":"hjuin","v":""},{"$f":"hjuin","v":""},{"$f":"hjuin","v":""},{"$f":"hjuin","v":""},{"$f":"hjuin","v":""},{"$f":"hjuin","v":""},{"$f":"hjuin","v":""},{"$f":"hjuin","v":""},{"$f":"hjuin","v":""},{"$f":"hjuin","v":""},{"$f":"hjuin","v":""},{"$f":"hjuin","v":""},{"$f":"hjuin","v":""},{"$f":"hjuin","v":""},{"$f":"hjuin","v":""},{"$f":"hjuin","v":""},{"$f":"hjuin","v":""},{"$f":"hjuin","v":""},{"$f":"hjuin","v":""},{"$f":"hjuin","v":""},{"$f":"hjuin","v":""},{"$f":"hjuin","v":""},{"$f":"hjuin","v":""},{"$f":"hjuin","v":""},{"$f":"hjuin","v":""},{"$f":"hjuin","v":""}]
[{"$f":"Données!$H38","v":0},{"$f":"hjuin","v":""},{"$f":"hjuin","v":""},{"$f":"hjuin","v":""},{"$f":"hjuin","v":""},{"$f":"hjuin","v":""},{"$f":"hjuin","v":""},{"$f":"hjuin","v":""},{"$f":"hjuin","v":""},{"$f":"hjuin","v":""},{"$f":"hjuin","v":""},{"$f":"hjuin","v":""},{"$f":"hjuin","v":""},{"$f":"hjuin","v":""},{"$f":"hjuin","v":""},{"$f":"hjuin","v":""},{"$f":"hjuin","v":""},{"$f":"hjuin","v":""},{"$f":"hjuin","v":""},{"$f":"hjuin","v":""},{"$f":"hjuin","v":""},{"$f":"hjuin","v":""},{"$f":"hjuin","v":""},{"$f":"hjuin","v":""},{"$f":"hjuin","v":""},{"$f":"hjuin","v":""},{"$f":"hjuin","v":""},{"$f":"hjuin","v":""},{"$f":"hjuin","v":""},{"$f":"hjuin","v":""},{"$f":"hjuin","v":""}]
[{"$f":"Données!$H39","v":0},{"$f":"hjuin","v":""},{"$f":"hjuin","v":""},{"$f":"hjuin","v":""},{"$f":"hjuin","v":""},{"$f":"hjuin","v":""},{"$f":"hjuin","v":""},{"$f":"hjuin","v":""},{"$f":"hjuin","v":""},{"$f":"hjuin","v":""},{"$f":"hjuin","v":""},{"$f":"hjuin","v":""},{"$f":"hjuin","v":""},{"$f":"hjuin","v":""},{"$f":"hjuin","v":""},{"$f":"hjuin","v":""},{"$f":"hjuin","v":""},{"$f":"hjuin","v":""},{"$f":"hjuin","v":""},{"$f":"hjuin","v":""},{"$f":"hjuin","v":""},{"$f":"hjuin","v":""},{"$f":"hjuin","v":""},{"$f":"hjuin","v":""},{"$f":"hjuin","v":""},{"$f":"hjuin","v":""},{"$f":"hjuin","v":""},{"$f":"hjuin","v":""},{"$f":"hjuin","v":""},{"$f":"hjuin","v":""},{"$f":"hjuin","v":""}]
[{"$f":"Données!$H40","v":0},{"$f":"hjuin","v":""},{"$f":"hjuin","v":""},{"$f":"hjuin","v":""},{"$f":"hjuin","v":""},{"$f":"hjuin","v":""},{"$f":"hjuin","v":""},{"$f":"hjuin","v":""},{"$f":"hjuin","v":""},{"$f":"hjuin","v":""},{"$f":"hjuin","v":""},{"$f":"hjuin","v":""},{"$f":"hjuin","v":""},{"$f":"hjuin","v":""},{"$f":"hjuin","v":""},{"$f":"hjuin","v":""},{"$f":"hjuin","v":""},{"$f":"hjuin","v":""},{"$f":"hjuin","v":""},{"$f":"hjuin","v":""},{"$f":"hjuin","v":""},{"$f":"hjuin","v":""},{"$f":"hjuin","v":""},{"$f":"hjuin","v":""},{"$f":"hjuin","v":""},{"$f":"hjuin","v":""},{"$f":"hjuin","v":""},{"$f":"hjuin","v":""},{"$f":"hjuin","v":""},{"$f":"hjuin","v":""},{"$f":"hjuin","v":""}]
[{"$f":"Données!$H41","v":0},{"$f":"hjuin","v":""},{"$f":"hjuin","v":""},{"$f":"hjuin","v":""},{"$f":"hjuin","v":""},{"$f":"hjuin","v":""},{"$f":"hjuin","v":""},{"$f":"hjuin","v":""},{"$f":"hjuin","v":""},{"$f":"hjuin","v":""},{"$f":"hjuin","v":""},{"$f":"hjuin","v":""},{"$f":"hjuin","v":""},{"$f":"hjuin","v":""},{"$f":"hjuin","v":""},{"$f":"hjuin","v":""},{"$f":"hjuin","v":""},{"$f":"hjuin","v":""},{"$f":"hjuin","v":""},{"$f":"hjuin","v":""},{"$f":"hjuin","v":""},{"$f":"hjuin","v":""},{"$f":"hjuin","v":""},{"$f":"hjuin","v":""},{"$f":"hjuin","v":""},{"$f":"hjuin","v":""},{"$f":"hjuin","v":""},{"$f":"hjuin","v":""},{"$f":"hjuin","v":""},{"$f":"hjuin","v":""},{"$f":"hjuin","v":""}]
[{"$f":"Données!$H42","v":"Psychologue"}]
[{"$f":"Données!$H43","v":"O"},{"$f":"hjuin","v":""},{"$f":"hjuin","v":""},{"$f":"hjuin","v":""},{"$f":"hjuin","v":""},{"$f":"hjuin","v":""},{"$f":"hjuin","v":""},{"$f":"hjuin","v":""},{"$f":"hjuin","v":""},{"$f":"hjuin","v":""},{"$f":"hjuin","v":""},{"$f":"hjuin","v":""},{"$f":"hjuin","v":""},{"$f":"hjuin","v":""},{"$f":"hjuin","v":""},{"$f":"hjuin","v":""},{"$f":"hjuin","v":""},{"$f":"hjuin","v":""},{"$f":"hjuin","v":""},{"$f":"hjuin","v":""},{"$f":"hjuin","v":""},{"$f":"hjuin","v":""},{"$f":"hjuin","v":""},{"$f":"hjuin","v":""},{"$f":"hjuin","v":""},{"$f":"hjuin","v":""},{"$f":"hjuin","v":""},{"$f":"hjuin","v":""},{"$f":"hjuin","v":""},{"$f":"hjuin","v":""},{"$f":"hjuin","v":""}]
[{"$f":"Données!$H44","v":0},{"$f":"hjuin","v":""},{"$f":"hjuin","v":""},{"$f":"hjuin","v":""},{"$f":"hjuin","v":""},{"$f":"hjuin","v":""},{"$f":"hjuin","v":""},{"$f":"hjuin","v":""},{"$f":"hjuin","v":""},{"$f":"hjuin","v":""},{"$f":"hjuin","v":""},{"$f":"hjuin","v":""},{"$f":"hjuin","v":""},{"$f":"hjuin","v":""},{"$f":"hjuin","v":""},{"$f":"hjuin","v":""},{"$f":"hjuin","v":""},{"$f":"hjuin","v":""},{"$f":"hjuin","v":""},{"$f":"hjuin","v":""},{"$f":"hjuin","v":""},{"$f":"hjuin","v":""},{"$f":"hjuin","v":""},{"$f":"hjuin","v":""},{"$f":"hjuin","v":""},{"$f":"hjuin","v":""},{"$f":"hjuin","v":""},{"$f":"hjuin","v":""},{"$f":"hjuin","v":""},{"$f":"hjuin","v":""},{"$f":"hjuin","v":""}]
[{"$f":"Données!$H45","v":0},{"$f":"hjuin","v":""},{"$f":"hjuin","v":""},{"$f":"hjuin","v":""},{"$f":"hjuin","v":""},{"$f":"hjuin","v":""},{"$f":"hjuin","v":""},{"$f":"hjuin","v":""},{"$f":"hjuin","v":""},{"$f":"hjuin","v":""},{"$f":"hjuin","v":""},{"$f":"hjuin","v":""},{"$f":"hjuin","v":""},{"$f":"hjuin","v":""},{"$f":"hjuin","v":""},{"$f":"hjuin","v":""},{"$f":"hjuin","v":""},{"$f":"hjuin","v":""},{"$f":"hjuin","v":""},{"$f":"hjuin","v":""},{"$f":"hjuin","v":""},{"$f":"hjuin","v":""},{"$f":"hjuin","v":""},{"$f":"hjuin","v":""},{"$f":"hjuin","v":""},{"$f":"hjuin","v":""},{"$f":"hjuin","v":""},{"$f":"hjuin","v":""},{"$f":"hjuin","v":""},{"$f":"hjuin","v":""},{"$f":"hjuin","v":""}]
[{"$f":"Données!$H46","v":"Coordinatrice"}]
[{"$f":"Données!$H47","v":"P"},{"$f":"hjuin","v":""},{"$f":"hjuin","v":""},{"$f":"hjuin","v":""},{"$f":"hjuin","v":""},{"$f":"hjuin","v":""},{"$f":"hjuin","v":""},{"$f":"hjuin","v":""},{"$f":"hjuin","v":""},{"$f":"hjuin","v":""},{"$f":"hjuin","v":""},{"$f":"hjuin","v":""},{"$f":"hjuin","v":""},{"$f":"hjuin","v":""},{"$f":"hjuin","v":""},{"$f":"hjuin","v":""},{"$f":"hjuin","v":""},{"$f":"hjuin","v":""},{"$f":"hjuin","v":""},{"$f":"hjuin","v":""},{"$f":"hjuin","v":""},{"$f":"hjuin","v":""},{"$f":"hjuin","v":""},{"$f":"hjuin","v":""},{"$f":"hjuin","v":""},{"$f":"hjuin","v":""},{"$f":"hjuin","v":""},{"$f":"hjuin","v":""},{"$f":"hjuin","v":""},{"$f":"hjuin","v":""},{"$f":"hjuin","v":""}]
[{"$f":"Données!$H48","v":0},{"$f":"hjuin","v":""},{"$f":"hjuin","v":""},{"$f":"hjuin","v":""},{"$f":"hjuin","v":""},{"$f":"hjuin","v":""},{"$f":"hjuin","v":""},{"$f":"hjuin","v":""},{"$f":"hjuin","v":""},{"$f":"hjuin","v":""},{"$f":"hjuin","v":""},{"$f":"hjuin","v":""},{"$f":"hjuin","v":""},{"$f":"hjuin","v":""},{"$f":"hjuin","v":""},{"$f":"hjuin","v":""},{"$f":"hjuin","v":""},{"$f":"hjuin","v":""},{"$f":"hjuin","v":""},{"$f":"hjuin","v":""},{"$f":"hjuin","v":""},{"$f":"hjuin","v":""},{"$f":"hjuin","v":""},{"$f":"hjuin","v":""},{"$f":"hjuin","v":""},{"$f":"hjuin","v":""},{"$f":"hjuin","v":""},{"$f":"hjuin","v":""},{"$f":"hjuin","v":""},{"$f":"hjuin","v":""},{"$f":"hjuin","v":""}]
[{"$f":"Données!$H49","v":0},{"$f":"hjuin","v":""},{"$f":"hjuin","v":""},{"$f":"hjuin","v":""},{"$f":"hjuin","v":""},{"$f":"hjuin","v":""},{"$f":"hjuin","v":""},{"$f":"hjuin","v":""},{"$f":"hjuin","v":""},{"$f":"hjuin","v":""},{"$f":"hjuin","v":""},{"$f":"hjuin","v":""},{"$f":"hjuin","v":""},{"$f":"hjuin","v":""},{"$f":"hjuin","v":""},{"$f":"hjuin","v":""},{"$f":"hjuin","v":""},{"$f":"hjuin","v":""},{"$f":"hjuin","v":""},{"$f":"hjuin","v":""},{"$f":"hjuin","v":""},{"$f":"hjuin","v":""},{"$f":"hjuin","v":""},{"$f":"hjuin","v":""},{"$f":"hjuin","v":""},{"$f":"hjuin","v":""},{"$f":"hjuin","v":""},{"$f":"hjuin","v":""},{"$f":"hjuin","v":""},{"$f":"hjuin","v":""},{"$f":"hjuin","v":""}]
[{"$f":"Données!$H50","v":0},{"$f":"hjuin","v":""},{"$f":"hjuin","v":""},{"$f":"hjuin","v":""},{"$f":"hjuin","v":""},{"$f":"hjuin","v":""},{"$f":"hjuin","v":""},{"$f":"hjuin","v":""},{"$f":"hjuin","v":""},{"$f":"hjuin","v":""},{"$f":"hjuin","v":""},{"$f":"hjuin","v":""},{"$f":"hjuin","v":""},{"$f":"hjuin","v":""},{"$f":"hjuin","v":""},{"$f":"hjuin","v":""},{"$f":"hjuin","v":""},{"$f":"hjuin","v":""},{"$f":"hjuin","v":""},{"$f":"hjuin","v":""},{"$f":"hjuin","v":""},{"$f":"hjuin","v":""},{"$f":"hjuin","v":""},{"$f":"hjuin","v":""},{"$f":"hjuin","v":""},{"$f":"hjuin","v":""},{"$f":"hjuin","v":""},{"$f":"hjuin","v":""},{"$f":"hjuin","v":""},{"$f":"hjuin","v":""},{"$f":"hjuin","v":""}]
[{"$f":"Données!$H51","v":0},{"$f":"hjuin","v":""},{"$f":"hjuin","v":""},{"$f":"hjuin","v":""},{"$f":"hjuin","v":""},{"$f":"hjuin","v":""},{"$f":"hjuin","v":""},{"$f":"hjuin","v":""},{"$f":"hjuin","v":""},{"$f":"hjuin","v":""},{"$f":"hjuin","v":""},{"$f":"hjuin","v":""},{"$f":"hjuin","v":""},{"$f":"hjuin","v":""},{"$f":"hjuin","v":""},{"$f":"hjuin","v":""},{"$f":"hjuin","v":""},{"$f":"hjuin","v":""},{"$f":"hjuin","v":""},{"$f":"hjuin","v":""},{"$f":"hjuin","v":""},{"$f":"hjuin","v":""},{"$f":"hjuin","v":""},{"$f":"hjuin","v":""},{"$f":"hjuin","v":""},{"$f":"hjuin","v":""},{"$f":"hjuin","v":""},{"$f":"hjuin","v":""},{"$f":"hjuin","v":""},{"$f":"hjuin","v":""},{"$f":"hjuin","v":""}]
[{"$f":"Données!$H52","v":"Chef de service"}]
[{"$f":"Données!$H53","v":"Q"},{"$f":"hjuin","v":""},{"$f":"hjuin","v":""},{"$f":"hjuin","v":""},{"$f":"hjuin","v":""},{"$f":"hjuin","v":""},{"$f":"hjuin","v":""},{"$f":"hjuin","v":""},{"$f":"hjuin","v":""},{"$f":"hjuin","v":""},{"$f":"hjuin","v":""},{"$f":"hjuin","v":""},{"$f":"hjuin","v":""},{"$f":"hjuin","v":""},{"$f":"hjuin","v":""},{"$f":"hjuin","v":""},{"$f":"hjuin","v":""},{"$f":"hjuin","v":""},{"$f":"hjuin","v":""},{"$f":"hjuin","v":""},{"$f":"hjuin","v":""},{"$f":"hjuin","v":""},{"$f":"hjuin","v":""},{"$f":"hjuin","v":""},{"$f":"hjuin","v":""},{"$f":"hjuin","v":""},{"$f":"hjuin","v":""},{"$f":"hjuin","v":""},{"$f":"hjuin","v":""},{"$f":"hjuin","v":""},{"$f":"hjuin","v":""}]

{"sheet":"HJuillet","index":20,"n_rows":56,"n_cols":32,"rows_kept":56,"cut":false,"hidden":false,"merged":[]}
[null,null,null,"Mois de","Juillet",{"$f":"An","v":2018}]
[null,{"$f":"DATE(An,Juillet,B7)","v":"2018-07-01"},"2018-07-02","2018-07-03","2018-07-04","2018-07-05","2018-07-06","2018-07-07","2018-07-08","2018-07-09","2018-07-10","2018-07-11","2018-07-12","2018-07-13","2018-07-14","2018-07-15","2018-07-16","2018-07-17","2018-07-18","2018-07-19","2018-07-20","2018-07-21","2018-07-22","2018-07-23","2018-07-24","2018-07-25","2018-07-26","2018-07-27","2018-07-28","2018-07-29","2018-07-30","2018-07-31"]
[{"$f":"Données!$L$5","v":"1904-01-01"}]
[]
[]
["Jours",{"$f":"PROPER(TEXT(DATE(An,Juillet,B$7),\"jjjjjj\"))","v":"Dimanche"},"Lundi","Mardi","Mercredi","Jeudi","Vendredi","Samedi","Dimanche","Lundi","Mardi","Mercredi","Jeudi","Vendredi","Samedi","Dimanche","Lundi","Mardi","Mercredi","Jeudi","Vendredi","Samedi","Dimanche","Lundi","Mardi","Mercredi","Jeudi","Vendredi","Samedi","Dimanche","Lundi","Mardi"]
[null,1,{"$f":"B$7+1","v":2},{"$f":"C$7+1","v":3},4,5,6,7,8,9,10,11,12,13,14,15,16,17,18,19,20,21,22,23,24,25,26,27,28,29,30,31]
["Equipe de jour"]
[{"$f":"Données!$H6","v":"A"},{"$f":"hjuillet","v":""},{"$f":"hjuillet","v":""},{"$f":"hjuillet","v":""},{"$f":"hjuillet","v":""},{"$f":"hjuillet","v":""},{"$f":"hjuillet","v":""},{"$f":"hjuillet","v":""},{"$f":"hjuillet","v":""},{"$f":"hjuillet","v":""},{"$f":"hjuillet","v":""},{"$f":"hjuillet","v":""},{"$f":"hjuillet","v":""},{"$f":"hjuillet","v":""},{"$f":"hjuillet","v":""},{"$f":"hjuillet","v":""},{"$f":"hjuillet","v":""},{"$f":"hjuillet","v":""},{"$f":"hjuillet","v":""},{"$f":"hjuillet","v":""},{"$f":"hjuillet","v":""},{"$f":"hjuillet","v":""},{"$f":"hjuillet","v":""},{"$f":"hjuillet","v":""},{"$f":"hjuillet","v":""},{"$f":"hjuillet","v":""},{"$f":"hjuillet","v":""},{"$f":"hjuillet","v":""},{"$f":"hjuillet","v":""},{"$f":"hjuillet","v":""},{"$f":"hjuillet","v":""},{"$f":"hjuillet","v":""}]
[{"$f":"Données!$H7","v":0},{"$f":"hjuillet","v":""},{"$f":"hjuillet","v":""},{"$f":"hjuillet","v":""},{"$f":"hjuillet","v":""},{"$f":"hjuillet","v":""},{"$f":"hjuillet","v":""},{"$f":"hjuillet","v":""},{"$f":"hjuillet","v":""},{"$f":"hjuillet","v":""},{"$f":"hjuillet","v":""},{"$f":"hjuillet","v":""},{"$f":"hjuillet","v":""},{"$f":"hjuillet","v":""},{"$f":"hjuillet","v":""},{"$f":"hjuillet","v":""},{"$f":"hjuillet","v":""},{"$f":"hjuillet","v":""},{"$f":"hjuillet","v":""},{"$f":"hjuillet","v":""},{"$f":"hjuillet","v":""},{"$f":"hjuillet","v":""},{"$f":"hjuillet","v":""},{"$f":"hjuillet","v":""},{"$f":"hjuillet","v":""},{"$f":"hjuillet","v":""},{"$f":"hjuillet","v":""},{"$f":"hjuillet","v":""},{"$f":"hjuillet","v":""},{"$f":"hjuillet","v":""},{"$f":"hjuillet","v":""},{"$f":"hjuillet","v":""}]
[{"$f":"Données!$H8","v":0},{"$f":"hjuillet","v":""},{"$f":"hjuillet","v":""},{"$f":"hjuillet","v":""},{"$f":"hjuillet","v":""},{"$f":"hjuillet","v":""},{"$f":"hjuillet","v":""},{"$f":"hjuillet","v":""},{"$f":"hjuillet","v":""},{"$f":"hjuillet","v":""},{"$f":"hjuillet","v":""},{"$f":"hjuillet","v":""},{"$f":"hjuillet","v":""},{"$f":"hjuillet","v":""},{"$f":"hjuillet","v":""},{"$f":"hjuillet","v":""},{"$f":"hjuillet","v":""},{"$f":"hjuillet","v":""},{"$f":"hjuillet","v":""},{"$f":"hjuillet","v":""},{"$f":"hjuillet","v":""},{"$f":"hjuillet","v":""},{"$f":"hjuillet","v":""},{"$f":"hjuillet","v":""},{"$f":"hjuillet","v":""},{"$f":"hjuillet","v":""},{"$f":"hjuillet","v":""},{"$f":"hjuillet","v":""},{"$f":"hjuillet","v":""},{"$f":"hjuillet","v":""},{"$f":"hjuillet","v":""},{"$f":"hjuillet","v":""}]
[{"$f":"Données!$H9","v":0},{"$f":"hjuillet","v":""},{"$f":"hjuillet","v":""},{"$f":"hjuillet","v":""},{"$f":"hjuillet","v":""},{"$f":"hjuillet","v":""},{"$f":"hjuillet","v":""},{"$f":"hjuillet","v":""},{"$f":"hjuillet","v":""},{"$f":"hjuillet","v":""},{"$f":"hjuillet","v":""},{"$f":"hjuillet","v":""},{"$f":"hjuillet","v":""},{"$f":"hjuillet","v":""},{"$f":"hjuillet","v":""},{"$f":"hjuillet","v":""},{"$f":"hjuillet","v":""},{"$f":"hjuillet","v":""},{"$f":"hjuillet","v":""},{"$f":"hjuillet","v":""},{"$f":"hjuillet","v":""},{"$f":"hjuillet","v":""},{"$f":"hjuillet","v":""},{"$f":"hjuillet","v":""},{"$f":"hjuillet","v":""},{"$f":"hjuillet","v":""},{"$f":"hjuillet","v":""},{"$f":"hjuillet","v":""},{"$f":"hjuillet","v":""},{"$f":"hjuillet","v":""},{"$f":"hjuillet","v":""},{"$f":"hjuillet","v":""}]
[{"$f":"Données!$H10","v":0},{"$f":"hjuillet","v":""},{"$f":"hjuillet","v":""},{"$f":"hjuillet","v":""},{"$f":"hjuillet","v":""},{"$f":"hjuillet","v":""},{"$f":"hjuillet","v":""},{"$f":"hjuillet","v":""},{"$f":"hjuillet","v":""},{"$f":"hjuillet","v":""},{"$f":"hjuillet","v":""},{"$f":"hjuillet","v":""},{"$f":"hjuillet","v":""},{"$f":"hjuillet","v":""},{"$f":"hjuillet","v":""},{"$f":"hjuillet","v":""},{"$f":"hjuillet","v":""},{"$f":"hjuillet","v":""},{"$f":"hjuillet","v":""},{"$f":"hjuillet","v":""},{"$f":"hjuillet","v":""},{"$f":"hjuillet","v":""},{"$f":"hjuillet","v":""},{"$f":"hjuillet","v":""},{"$f":"hjuillet","v":""},{"$f":"hjuillet","v":""},{"$f":"hjuillet","v":""},{"$f":"hjuillet","v":""},{"$f":"hjuillet","v":""},{"$f":"hjuillet","v":""},{"$f":"hjuillet","v":""},{"$f":"hjuillet","v":""}]
[{"$f":"Données!$H11","v":0},{"$f":"hjuillet","v":""},{"$f":"hjuillet","v":""},{"$f":"hjuillet","v":""},{"$f":"hjuillet","v":""},{"$f":"hjuillet","v":""},{"$f":"hjuillet","v":""},{"$f":"hjuillet","v":""},{"$f":"hjuillet","v":""},{"$f":"hjuillet","v":""},{"$f":"hjuillet","v":""},{"$f":"hjuillet","v":""},{"$f":"hjuillet","v":""},{"$f":"hjuillet","v":""},{"$f":"hjuillet","v":""},{"$f":"hjuillet","v":""},{"$f":"hjuillet","v":""},{"$f":"hjuillet","v":""},{"$f":"hjuillet","v":""},{"$f":"hjuillet","v":""},{"$f":"hjuillet","v":""},{"$f":"hjuillet","v":""},{"$f":"hjuillet","v":""},{"$f":"hjuillet","v":""},{"$f":"hjuillet","v":""},{"$f":"hjuillet","v":""},{"$f":"hjuillet","v":""},{"$f":"hjuillet","v":""},{"$f":"hjuillet","v":""},{"$f":"hjuillet","v":""},{"$f":"hjuillet","v":""},{"$f":"hjuillet","v":""}]
[{"$f":"Données!$H12","v":0},{"$f":"hjuillet","v":""},{"$f":"hjuillet","v":""},{"$f":"hjuillet","v":""},{"$f":"hjuillet","v":""},{"$f":"hjuillet","v":""},{"$f":"hjuillet","v":""},{"$f":"hjuillet","v":""},{"$f":"hjuillet","v":""},{"$f":"hjuillet","v":""},{"$f":"hjuillet","v":""},{"$f":"hjuillet","v":""},{"$f":"hjuillet","v":""},{"$f":"hjuillet","v":""},{"$f":"hjuillet","v":""},{"$f":"hjuillet","v":""},{"$f":"hjuillet","v":""},{"$f":"hjuillet","v":""},{"$f":"hjuillet","v":""},{"$f":"hjuillet","v":""},{"$f":"hjuillet","v":""},{"$f":"hjuillet","v":""},{"$f":"hjuillet","v":""},{"$f":"hjuillet","v":""},{"$f":"hjuillet","v":""},{"$f":"hjuillet","v":""},{"$f":"hjuillet","v":""},{"$f":"hjuillet","v":""},{"$f":"hjuillet","v":""},{"$f":"hjuillet","v":""},{"$f":"hjuillet","v":""},{"$f":"hjuillet","v":""}]
[{"$f":"Données!$H13","v":0},{"$f":"hjuillet","v":""},{"$f":"hjuillet","v":""},{"$f":"hjuillet","v":""},{"$f":"hjuillet","v":""},{"$f":"hjuillet","v":""},{"$f":"hjuillet","v":""},{"$f":"hjuillet","v":""},{"$f":"hjuillet","v":""},{"$f":"hjuillet","v":""},{"$f":"hjuillet","v":""},{"$f":"hjuillet","v":""},{"$f":"hjuillet","v":""},{"$f":"hjuillet","v":""},{"$f":"hjuillet","v":""},{"$f":"hjuillet","v":""},{"$f":"hjuillet","v":""},{"$f":"hjuillet","v":""},{"$f":"hjuillet","v":""},{"$f":"hjuillet","v":""},{"$f":"hjuillet","v":""},{"$f":"hjuillet","v":""},{"$f":"hjuillet","v":""},{"$f":"hjuillet","v":""},{"$f":"hjuillet","v":""},{"$f":"hjuillet","v":""},{"$f":"hjuillet","v":""},{"$f":"hjuillet","v":""},{"$f":"hjuillet","v":""},{"$f":"hjuillet","v":""},{"$f":"hjuillet","v":""},{"$f":"hjuillet","v":""}]
[{"$f":"Données!$H14","v":0},{"$f":"hjuillet","v":""},{"$f":"hjuillet","v":""},{"$f":"hjuillet","v":""},{"$f":"hjuillet","v":""},{"$f":"hjuillet","v":""},{"$f":"hjuillet","v":""},{"$f":"hjuillet","v":""},{"$f":"hjuillet","v":""},{"$f":"hjuillet","v":""},{"$f":"hjuillet","v":""},{"$f":"hjuillet","v":""},{"$f":"hjuillet","v":""},{"$f":"hjuillet","v":""},{"$f":"hjuillet","v":""},{"$f":"hjuillet","v":""},{"$f":"hjuillet","v":""},{"$f":"hjuillet","v":""},{"$f":"hjuillet","v":""},{"$f":"hjuillet","v":""},{"$f":"hjuillet","v":""},{"$f":"hjuillet","v":""},{"$f":"hjuillet","v":""},{"$f":"hjuillet","v":""},{"$f":"hjuillet","v":""},{"$f":"hjuillet","v":""},{"$f":"hjuillet","v":""},{"$f":"hjuillet","v":""},{"$f":"hjuillet","v":""},{"$f":"hjuillet","v":""},{"$f":"hjuillet","v":""},{"$f":"hjuillet","v":""}]
[{"$f":"Données!$H15","v":0},{"$f":"hjuillet","v":""},{"$f":"hjuillet","v":""},{"$f":"hjuillet","v":""},{"$f":"hjuillet","v":""},{"$f":"hjuillet","v":""},{"$f":"hjuillet","v":""},{"$f":"hjuillet","v":""},{"$f":"hjuillet","v":""},{"$f":"hjuillet","v":""},{"$f":"hjuillet","v":""},{"$f":"hjuillet","v":""},{"$f":"hjuillet","v":""},{"$f":"hjuillet","v":""},{"$f":"hjuillet","v":""},{"$f":"hjuillet","v":""},{"$f":"hjuillet","v":""},{"$f":"hjuillet","v":""},{"$f":"hjuillet","v":""},{"$f":"hjuillet","v":""},{"$f":"hjuillet","v":""},{"$f":"hjuillet","v":""},{"$f":"hjuillet","v":""},{"$f":"hjuillet","v":""},{"$f":"hjuillet","v":""},{"$f":"hjuillet","v":""},{"$f":"hjuillet","v":""},{"$f":"hjuillet","v":""},{"$f":"hjuillet","v":""},{"$f":"hjuillet","v":""},{"$f":"hjuillet","v":""},{"$f":"hjuillet","v":""}]
[{"$f":"Données!$H16","v":0},{"$f":"hjuillet","v":""},{"$f":"hjuillet","v":""},{"$f":"hjuillet","v":""},{"$f":"hjuillet","v":""},{"$f":"hjuillet","v":""},{"$f":"hjuillet","v":""},{"$f":"hjuillet","v":""},{"$f":"hjuillet","v":""},{"$f":"hjuillet","v":""},{"$f":"hjuillet","v":""},{"$f":"hjuillet","v":""},{"$f":"hjuillet","v":""},{"$f":"hjuillet","v":""},{"$f":"hjuillet","v":""},{"$f":"hjuillet","v":""},{"$f":"hjuillet","v":""},{"$f":"hjuillet","v":""},{"$f":"hjuillet","v":""},{"$f":"hjuillet","v":""},{"$f":"hjuillet","v":""},{"$f":"hjuillet","v":""},{"$f":"hjuillet","v":""},{"$f":"hjuillet","v":""},{"$f":"hjuillet","v":""},{"$f":"hjuillet","v":""},{"$f":"hjuillet","v":""},{"$f":"hjuillet","v":""},{"$f":"hjuillet","v":""},{"$f":"hjuillet","v":""},{"$f":"hjuillet","v":""},{"$f":"hjuillet","v":""}]
[{"$f":"Données!$H17","v":0},{"$f":"hjuillet","v":""},{"$f":"hjuillet","v":""},{"$f":"hjuillet","v":""},{"$f":"hjuillet","v":""},{"$f":"hjuillet","v":""},{"$f":"hjuillet","v":""},{"$f":"hjuillet","v":""},{"$f":"hjuillet","v":""},{"$f":"hjuillet","v":""},{"$f":"hjuillet","v":""},{"$f":"hjuillet","v":""},{"$f":"hjuillet","v":""},{"$f":"hjuillet","v":""},{"$f":"hjuillet","v":""},{"$f":"hjuillet","v":""},{"$f":"hjuillet","v":""},{"$f":"hjuillet","v":""},{"$f":"hjuillet","v":""},{"$f":"hjuillet","v":""},{"$f":"hjuillet","v":""},{"$f":"hjuillet","v":""},{"$f":"hjuillet","v":""},{"$f":"hjuillet","v":""},{"$f":"hjuillet","v":""},{"$f":"hjuillet","v":""},{"$f":"hjuillet","v":""},{"$f":"hjuillet","v":""},{"$f":"hjuillet","v":""},{"$f":"hjuillet","v":""},{"$f":"hjuillet","v":""},{"$f":"hjuillet","v":""}]
[{"$f":"Données!$H18","v":0},{"$f":"hjuillet","v":""},{"$f":"hjuillet","v":""},{"$f":"hjuillet","v":""},{"$f":"hjuillet","v":""},{"$f":"hjuillet","v":""},{"$f":"hjuillet","v":""},{"$f":"hjuillet","v":""},{"$f":"hjuillet","v":""},{"$f":"hjuillet","v":""},{"$f":"hjuillet","v":""},{"$f":"hjuillet","v":""},{"$f":"hjuillet","v":""},{"$f":"hjuillet","v":""},{"$f":"hjuillet","v":""},{"$f":"hjuillet","v":""},{"$f":"hjuillet","v":""},{"$f":"hjuillet","v":""},{"$f":"hjuillet","v":""},{"$f":"hjuillet","v":""},{"$f":"hjuillet","v":""},{"$f":"hjuillet","v":""},{"$f":"hjuillet","v":""},{"$f":"hjuillet","v":""},{"$f":"hjuillet","v":""},{"$f":"hjuillet","v":""},{"$f":"hjuillet","v":""},{"$f":"hjuillet","v":""},{"$f":"hjuillet","v":""},{"$f":"hjuillet","v":""},{"$f":"hjuillet","v":""},{"$f":"hjuillet","v":""}]
[{"$f":"Données!$H19","v":0},{"$f":"hjuillet","v":""},{"$f":"hjuillet","v":""},{"$f":"hjuillet","v":""},{"$f":"hjuillet","v":""},{"$f":"hjuillet","v":""},{"$f":"hjuillet","v":""},{"$f":"hjuillet","v":""},{"$f":"hjuillet","v":""},{"$f":"hjuillet","v":""},{"$f":"hjuillet","v":""},{"$f":"hjuillet","v":""},{"$f":"hjuillet","v":""},{"$f":"hjuillet","v":""},{"$f":"hjuillet","v":""},{"$f":"hjuillet","v":""},{"$f":"hjuillet","v":""},{"$f":"hjuillet","v":""},{"$f":"hjuillet","v":""},{"$f":"hjuillet","v":""},{"$f":"hjuillet","v":""},{"$f":"hjuillet","v":""},{"$f":"hjuillet","v":""},{"$f":"hjuillet","v":""},{"$f":"hjuillet","v":""},{"$f":"hjuillet","v":""},{"$f":"hjuillet","v":""},{"$f":"hjuillet","v":""},{"$f":"hjuillet","v":""},{"$f":"hjuillet","v":""},{"$f":"hjuillet","v":""},{"$f":"hjuillet","v":""}]
[{"$f":"Données!$H20","v":0},{"$f":"hjuillet","v":""},{"$f":"hjuillet","v":""},{"$f":"hjuillet","v":""},{"$f":"hjuillet","v":""},{"$f":"hjuillet","v":""},{"$f":"hjuillet","v":""},{"$f":"hjuillet","v":""},{"$f":"hjuillet","v":""},{"$f":"hjuillet","v":""},{"$f":"hjuillet","v":""},{"$f":"hjuillet","v":""},{"$f":"hjuillet","v":""},{"$f":"hjuillet","v":""},{"$f":"hjuillet","v":""},{"$f":"hjuillet","v":""},{"$f":"hjuillet","v":""},{"$f":"hjuillet","v":""},{"$f":"hjuillet","v":""},{"$f":"hjuillet","v":""},{"$f":"hjuillet","v":""},{"$f":"hjuillet","v":""},{"$f":"hjuillet","v":""},{"$f":"hjuillet","v":""},{"$f":"hjuillet","v":""},{"$f":"hjuillet","v":""},{"$f":"hjuillet","v":""},{"$f":"hjuillet","v":""},{"$f":"hjuillet","v":""},{"$f":"hjuillet","v":""},{"$f":"hjuillet","v":""},{"$f":"hjuillet","v":""}]
[{"$f":"Données!$H21","v":0},{"$f":"hjuillet","v":""},{"$f":"hjuillet","v":""},{"$f":"hjuillet","v":""},{"$f":"hjuillet","v":""},{"$f":"hjuillet","v":""},{"$f":"hjuillet","v":""},{"$f":"hjuillet","v":""},{"$f":"hjuillet","v":""},{"$f":"hjuillet","v":""},{"$f":"hjuillet","v":""},{"$f":"hjuillet","v":""},{"$f":"hjuillet","v":""},{"$f":"hjuillet","v":""},{"$f":"hjuillet","v":""},{"$f":"hjuillet","v":""},{"$f":"hjuillet","v":""},{"$f":"hjuillet","v":""},{"$f":"hjuillet","v":""},{"$f":"hjuillet","v":""},{"$f":"hjuillet","v":""},{"$f":"hjuillet","v":""},{"$f":"hjuillet","v":""},{"$f":"hjuillet","v":""},{"$f":"hjuillet","v":""},{"$f":"hjuillet","v":""},{"$f":"hjuillet","v":""},{"$f":"hjuillet","v":""},{"$f":"hjuillet","v":""},{"$f":"hjuillet","v":""},{"$f":"hjuillet","v":""},{"$f":"hjuillet","v":""}]
[{"$f":"Données!$H22","v":"Equipe de nuit"}]
[{"$f":"Données!$H23","v":"K"},{"$f":"hjuillet","v":""},{"$f":"hjuillet","v":""},{"$f":"hjuillet","v":""},{"$f":"hjuillet","v":""},{"$f":"hjuillet","v":""},{"$f":"hjuillet","v":""},{"$f":"hjuillet","v":""},{"$f":"hjuillet","v":""},{"$f":"hjuillet","v":""},{"$f":"hjuillet","v":""},{"$f":"hjuillet","v":""},{"$f":"hjuillet","v":""},{"$f":"hjuillet","v":""},{"$f":"hjuillet","v":""},{"$f":"hjuillet","v":""},{"$f":"hjuillet","v":""},{"$f":"hjuillet","v":""},{"$f":"hjuillet","v":""},{"$f":"hjuillet","v":""},{"$f":"hjuillet","v":""},{"$f":"hjuillet","v":""},{"$f":"hjuillet","v":""},{"$f":"hjuillet","v":""},{"$f":"hjuillet","v":""},{"$f":"hjuillet","v":""},{"$f":"hjuillet","v":""},{"$f":"hjuillet","v":""},{"$f":"hjuillet","v":""},{"$f":"hjuillet","v":""},{"$f":"hjuillet","v":""},{"$f":"hjuillet","v":""}]
[{"$f":"Données!$H24","v":0},{"$f":"hjuillet","v":""},{"$f":"hjuillet","v":""},{"$f":"hjuillet","v":""},{"$f":"hjuillet","v":""},{"$f":"hjuillet","v":""},{"$f":"hjuillet","v":""},{"$f":"hjuillet","v":""},{"$f":"hjuillet","v":""},{"$f":"hjuillet","v":""},{"$f":"hjuillet","v":""},{"$f":"hjuillet","v":""},{"$f":"hjuillet","v":""},{"$f":"hjuillet","v":""},{"$f":"hjuillet","v":""},{"$f":"hjuillet","v":""},{"$f":"hjuillet","v":""},{"$f":"hjuillet","v":""},{"$f":"hjuillet","v":""},{"$f":"hjuillet","v":""},{"$f":"hjuillet","v":""},{"$f":"hjuillet","v":""},{"$f":"hjuillet","v":""},{"$f":"hjuillet","v":""},{"$f":"hjuillet","v":""},{"$f":"hjuillet","v":""},{"$f":"hjuillet","v":""},{"$f":"hjuillet","v":""},{"$f":"hjuillet","v":""},{"$f":"hjuillet","v":""},{"$f":"hjuillet","v":""},{"$f":"hjuillet","v":""}]
[{"$f":"Données!$H25","v":0},{"$f":"hjuillet","v":""},{"$f":"hjuillet","v":""},{"$f":"hjuillet","v":""},{"$f":"hjuillet","v":""},{"$f":"hjuillet","v":""},{"$f":"hjuillet","v":""},{"$f":"hjuillet","v":""},{"$f":"hjuillet","v":""},{"$f":"hjuillet","v":""},{"$f":"hjuillet","v":""},{"$f":"hjuillet","v":""},{"$f":"hjuillet","v":""},{"$f":"hjuillet","v":""},{"$f":"hjuillet","v":""},{"$f":"hjuillet","v":""},{"$f":"hjuillet","v":""},{"$f":"hjuillet","v":""},{"$f":"hjuillet","v":""},{"$f":"hjuillet","v":""},{"$f":"hjuillet","v":""},{"$f":"hjuillet","v":""},{"$f":"hjuillet","v":""},{"$f":"hjuillet","v":""},{"$f":"hjuillet","v":""},{"$f":"hjuillet","v":""},{"$f":"hjuillet","v":""},{"$f":"hjuillet","v":""},{"$f":"hjuillet","v":""},{"$f":"hjuillet","v":""},{"$f":"hjuillet","v":""},{"$f":"hjuillet","v":""}]
[{"$f":"Données!$H26","v":0},{"$f":"hjuillet","v":""},{"$f":"hjuillet","v":""},{"$f":"hjuillet","v":""},{"$f":"hjuillet","v":""},{"$f":"hjuillet","v":""},{"$f":"hjuillet","v":""},{"$f":"hjuillet","v":""},{"$f":"hjuillet","v":""},{"$f":"hjuillet","v":""},{"$f":"hjuillet","v":""},{"$f":"hjuillet","v":""},{"$f":"hjuillet","v":""},{"$f":"hjuillet","v":""},{"$f":"hjuillet","v":""},{"$f":"hjuillet","v":""},{"$f":"hjuillet","v":""},{"$f":"hjuillet","v":""},{"$f":"hjuillet","v":""},{"$f":"hjuillet","v":""},{"$f":"hjuillet","v":""},{"$f":"hjuillet","v":""},{"$f":"hjuillet","v":""},{"$f":"hjuillet","v":""},{"$f":"hjuillet","v":""},{"$f":"hjuillet","v":""},{"$f":"hjuillet","v":""},{"$f":"hjuillet","v":""},{"$f":"hjuillet","v":""},{"$f":"hjuillet","v":""},{"$f":"hjuillet","v":""},{"$f":"hjuillet","v":""}]
[{"$f":"Données!$H27","v":0},{"$f":"hjuillet","v":""},{"$f":"hjuillet","v":""},{"$f":"hjuillet","v":""},{"$f":"hjuillet","v":""},{"$f":"hjuillet","v":""},{"$f":"hjuillet","v":""},{"$f":"hjuillet","v":""},{"$f":"hjuillet","v":""},{"$f":"hjuillet","v":""},{"$f":"hjuillet","v":""},{"$f":"hjuillet","v":""},{"$f":"hjuillet","v":""},{"$f":"hjuillet","v":""},{"$f":"hjuillet","v":""},{"$f":"hjuillet","v":""},{"$f":"hjuillet","v":""},{"$f":"hjuillet","v":""},{"$f":"hjuillet","v":""},{"$f":"hjuillet","v":""},{"$f":"hjuillet","v":""},{"$f":"hjuillet","v":""},{"$f":"hjuillet","v":""},{"$f":"hjuillet","v":""},{"$f":"hjuillet","v":""},{"$f":"hjuillet","v":""},{"$f":"hjuillet","v":""},{"$f":"hjuillet","v":""},{"$f":"hjuillet","v":""},{"$f":"hjuillet","v":""},{"$f":"hjuillet","v":""},{"$f":"hjuillet","v":""}]
[{"$f":"Données!$H28","v":0},{"$f":"hjuillet","v":""},{"$f":"hjuillet","v":""},{"$f":"hjuillet","v":""},{"$f":"hjuillet","v":""},{"$f":"hjuillet","v":""},{"$f":"hjuillet","v":""},{"$f":"hjuillet","v":""},{"$f":"hjuillet","v":""},{"$f":"hjuillet","v":""},{"$f":"hjuillet","v":""},{"$f":"hjuillet","v":""},{"$f":"hjuillet","v":""},{"$f":"hjuillet","v":""},{"$f":"hjuillet","v":""},{"$f":"hjuillet","v":""},{"$f":"hjuillet","v":""},{"$f":"hjuillet","v":""},{"$f":"hjuillet","v":""},{"$f":"hjuillet","v":""},{"$f":"hjuillet","v":""},{"$f":"hjuillet","v":""},{"$f":"hjuillet","v":""},{"$f":"hjuillet","v":""},{"$f":"hjuillet","v":""},{"$f":"hjuillet","v":""},{"$f":"hjuillet","v":""},{"$f":"hjuillet","v":""},{"$f":"hjuillet","v":""},{"$f":"hjuillet","v":""},{"$f":"hjuillet","v":""},{"$f":"hjuillet","v":""}]
[{"$f":"Données!$H29","v":0},{"$f":"hjuillet","v":""},{"$f":"hjuillet","v":""},{"$f":"hjuillet","v":""},{"$f":"hjuillet","v":""},{"$f":"hjuillet","v":""},{"$f":"hjuillet","v":""},{"$f":"hjuillet","v":""},{"$f":"hjuillet","v":""},{"$f":"hjuillet","v":""},{"$f":"hjuillet","v":""},{"$f":"hjuillet","v":""},{"$f":"hjuillet","v":""},{"$f":"hjuillet","v":""},{"$f":"hjuillet","v":""},{"$f":"hjuillet","v":""},{"$f":"hjuillet","v":""},{"$f":"hjuillet","v":""},{"$f":"hjuillet","v":""},{"$f":"hjuillet","v":""},{"$f":"hjuillet","v":""},{"$f":"hjuillet","v":""},{"$f":"hjuillet","v":""},{"$f":"hjuillet","v":""},{"$f":"hjuillet","v":""},{"$f":"hjuillet","v":""},{"$f":"hjuillet","v":""},{"$f":"hjuillet","v":""},{"$f":"hjuillet","v":""},{"$f":"hjuillet","v":""},{"$f":"hjuillet","v":""},{"$f":"hjuillet","v":""}]
[{"$f":"Données!$H30","v":0},{"$f":"hjuillet","v":""},{"$f":"hjuillet","v":""},{"$f":"hjuillet","v":""},{"$f":"hjuillet","v":""},{"$f":"hjuillet","v":""},{"$f":"hjuillet","v":""},{"$f":"hjuillet","v":""},{"$f":"hjuillet","v":""},{"$f":"hjuillet","v":""},{"$f":"hjuillet","v":""},{"$f":"hjuillet","v":""},{"$f":"hjuillet","v":""},{"$f":"hjuillet","v":""},{"$f":"hjuillet","v":""},{"$f":"hjuillet","v":""},{"$f":"hjuillet","v":""},{"$f":"hjuillet","v":""},{"$f":"hjuillet","v":""},{"$f":"hjuillet","v":""},{"$f":"hjuillet","v":""},{"$f":"hjuillet","v":""},{"$f":"hjuillet","v":""},{"$f":"hjuillet","v":""},{"$f":"hjuillet","v":""},{"$f":"hjuillet","v":""},{"$f":"hjuillet","v":""},{"$f":"hjuillet","v":""},{"$f":"hjuillet","v":""},{"$f":"hjuillet","v":""},{"$f":"hjuillet","v":""},{"$f":"hjuillet","v":""}]
[{"$f":"Données!$H31","v":0},{"$f":"hjuillet","v":""},{"$f":"hjuillet","v":""},{"$f":"hjuillet","v":""},{"$f":"hjuillet","v":""},{"$f":"hjuillet","v":""},{"$f":"hjuillet","v":""},{"$f":"hjuillet","v":""},{"$f":"hjuillet","v":""},{"$f":"hjuillet","v":""},{"$f":"hjuillet","v":""},{"$f":"hjuillet","v":""},{"$f":"hjuillet","v":""},{"$f":"hjuillet","v":""},{"$f":"hjuillet","v":""},{"$f":"hjuillet","v":""},{"$f":"hjuillet","v":""},{"$f":"hjuillet","v":""},{"$f":"hjuillet","v":""},{"$f":"hjuillet","v":""},{"$f":"hjuillet","v":""},{"$f":"hjuillet","v":""},{"$f":"hjuillet","v":""},{"$f":"hjuillet","v":""},{"$f":"hjuillet","v":""},{"$f":"hjuillet","v":""},{"$f":"hjuillet","v":""},{"$f":"hjuillet","v":""},{"$f":"hjuillet","v":""},{"$f":"hjuillet","v":""},{"$f":"hjuillet","v":""},{"$f":"hjuillet","v":""}]
[{"$f":"Données!$H32","v":"Maitresse de maison"}]
[{"$f":"Données!$H33","v":"N"},{"$f":"hjuillet","v":""},{"$f":"hjuillet","v":""},{"$f":"hjuillet","v":""},{"$f":"hjuillet","v":""},{"$f":"hjuillet","v":""},{"$f":"hjuillet","v":""},{"$f":"hjuillet","v":""},{"$f":"hjuillet","v":""},{"$f":"hjuillet","v":""},{"$f":"hjuillet","v":""},{"$f":"hjuillet","v":""},{"$f":"hjuillet","v":""},{"$f":"hjuillet","v":""},{"$f":"hjuillet","v":""},{"$f":"hjuillet","v":""},{"$f":"hjuillet","v":""},{"$f":"hjuillet","v":""},{"$f":"hjuillet","v":""},{"$f":"hjuillet","v":""},{"$f":"hjuillet","v":""},{"$f":"hjuillet","v":""},{"$f":"hjuillet","v":""},{"$f":"hjuillet","v":""},{"$f":"hjuillet","v":""},{"$f":"hjuillet","v":""},{"$f":"hjuillet","v":""},{"$f":"hjuillet","v":""},{"$f":"hjuillet","v":""},{"$f":"hjuillet","v":""},{"$f":"hjuillet","v":""},{"$f":"hjuillet","v":""}]
[{"$f":"Données!$H34","v":0},{"$f":"hjuillet","v":""},{"$f":"hjuillet","v":""},{"$f":"hjuillet","v":""},{"$f":"hjuillet","v":""},{"$f":"hjuillet","v":""},{"$f":"hjuillet","v":""},{"$f":"hjuillet","v":""},{"$f":"hjuillet","v":""},{"$f":"hjuillet","v":""},{"$f":"hjuillet","v":""},{"$f":"hjuillet","v":""},{"$f":"hjuillet","v":""},{"$f":"hjuillet","v":""},{"$f":"hjuillet","v":""},{"$f":"hjuillet","v":""},{"$f":"hjuillet","v":""},{"$f":"hjuillet","v":""},{"$f":"hjuillet","v":""},{"$f":"hjuillet","v":""},{"$f":"hjuillet","v":""},{"$f":"hjuillet","v":""},{"$f":"hjuillet","v":""},{"$f":"hjuillet","v":""},{"$f":"hjuillet","v":""},{"$f":"hjuillet","v":""},{"$f":"hjuillet","v":""},{"$f":"hjuillet","v":""},{"$f":"hjuillet","v":""},{"$f":"hjuillet","v":""},{"$f":"hjuillet","v":""},{"$f":"hjuillet","v":""}]
[{"$f":"Données!$H35","v":0},{"$f":"hjuillet","v":""},{"$f":"hjuillet","v":""},{"$f":"hjuillet","v":""},{"$f":"hjuillet","v":""},{"$f":"hjuillet","v":""},{"$f":"hjuillet","v":""},{"$f":"hjuillet","v":""},{"$f":"hjuillet","v":""},{"$f":"hjuillet","v":""},{"$f":"hjuillet","v":""},{"$f":"hjuillet","v":""},{"$f":"hjuillet","v":""},{"$f":"hjuillet","v":""},{"$f":"hjuillet","v":""},{"$f":"hjuillet","v":""},{"$f":"hjuillet","v":""},{"$f":"hjuillet","v":""},{"$f":"hjuillet","v":""},{"$f":"hjuillet","v":""},{"$f":"hjuillet","v":""},{"$f":"hjuillet","v":""},{"$f":"hjuillet","v":""},{"$f":"hjuillet","v":""},{"$f":"hjuillet","v":""},{"$f":"hjuillet","v":""},{"$f":"hjuillet","v":""},{"$f":"hjuillet","v":""},{"$f":"hjuillet","v":""},{"$f":"hjuillet","v":""},{"$f":"hjuillet","v":""},{"$f":"hjuillet","v":""}]
[{"$f":"Données!$H36","v":0},{"$f":"hjuillet","v":""},{"$f":"hjuillet","v":""},{"$f":"hjuillet","v":""},{"$f":"hjuillet","v":""},{"$f":"hjuillet","v":""},{"$f":"hjuillet","v":""},{"$f":"hjuillet","v":""},{"$f":"hjuillet","v":""},{"$f":"hjuillet","v":""},{"$f":"hjuillet","v":""},{"$f":"hjuillet","v":""},{"$f":"hjuillet","v":""},{"$f":"hjuillet","v":""},{"$f":"hjuillet","v":""},{"$f":"hjuillet","v":""},{"$f":"hjuillet","v":""},{"$f":"hjuillet","v":""},{"$f":"hjuillet","v":""},{"$f":"hjuillet","v":""},{"$f":"hjuillet","v":""},{"$f":"hjuillet","v":""},{"$f":"hjuillet","v":""},{"$f":"hjuillet","v":""},{"$f":"hjuillet","v":""},{"$f":"hjuillet","v":""},{"$f":"hjuillet","v":""},{"$f":"hjuillet","v":""},{"$f":"hjuillet","v":""},{"$f":"hjuillet","v":""},{"$f":"hjuillet","v":""},{"$f":"hjuillet","v":""}]
[{"$f":"Données!$H37","v":0},{"$f":"hjuillet","v":""},{"$f":"hjuillet","v":""},{"$f":"hjuillet","v":""},{"$f":"hjuillet","v":""},{"$f":"hjuillet","v":""},{"$f":"hjuillet","v":""},{"$f":"hjuillet","v":""},{"$f":"hjuillet","v":""},{"$f":"hjuillet","v":""},{"$f":"hjuillet","v":""},{"$f":"hjuillet","v":""},{"$f":"hjuillet","v":""},{"$f":"hjuillet","v":""},{"$f":"hjuillet","v":""},{"$f":"hjuillet","v":""},{"$f":"hjuillet","v":""},{"$f":"hjuillet","v":""},{"$f":"hjuillet","v":""},{"$f":"hjuillet","v":""},{"$f":"hjuillet","v":""},{"$f":"hjuillet","v":""},{"$f":"hjuillet","v":""},{"$f":"hjuillet","v":""},{"$f":"hjuillet","v":""},{"$f":"hjuillet","v":""},{"$f":"hjuillet","v":""},{"$f":"hjuillet","v":""},{"$f":"hjuillet","v":""},{"$f":"hjuillet","v":""},{"$f":"hjuillet","v":""},{"$f":"hjuillet","v":""}]
[{"$f":"Données!$H38","v":0},{"$f":"hjuillet","v":""},{"$f":"hjuillet","v":""},{"$f":"hjuillet","v":""},{"$f":"hjuillet","v":""},{"$f":"hjuillet","v":""},{"$f":"hjuillet","v":""},{"$f":"hjuillet","v":""},{"$f":"hjuillet","v":""},{"$f":"hjuillet","v":""},{"$f":"hjuillet","v":""},{"$f":"hjuillet","v":""},{"$f":"hjuillet","v":""},{"$f":"hjuillet","v":""},{"$f":"hjuillet","v":""},{"$f":"hjuillet","v":""},{"$f":"hjuillet","v":""},{"$f":"hjuillet","v":""},{"$f":"hjuillet","v":""},{"$f":"hjuillet","v":""},{"$f":"hjuillet","v":""},{"$f":"hjuillet","v":""},{"$f":"hjuillet","v":""},{"$f":"hjuillet","v":""},{"$f":"hjuillet","v":""},{"$f":"hjuillet","v":""},{"$f":"hjuillet","v":""},{"$f":"hjuillet","v":""},{"$f":"hjuillet","v":""},{"$f":"hjuillet","v":""},{"$f":"hjuillet","v":""},{"$f":"hjuillet","v":""}]
[{"$f":"Données!$H39","v":0},{"$f":"hjuillet","v":""},{"$f":"hjuillet","v":""},{"$f":"hjuillet","v":""},{"$f":"hjuillet","v":""},{"$f":"hjuillet","v":""},{"$f":"hjuillet","v":""},{"$f":"hjuillet","v":""},{"$f":"hjuillet","v":""},{"$f":"hjuillet","v":""},{"$f":"hjuillet","v":""},{"$f":"hjuillet","v":""},{"$f":"hjuillet","v":""},{"$f":"hjuillet","v":""},{"$f":"hjuillet","v":""},{"$f":"hjuillet","v":""},{"$f":"hjuillet","v":""},{"$f":"hjuillet","v":""},{"$f":"hjuillet","v":""},{"$f":"hjuillet","v":""},{"$f":"hjuillet","v":""},{"$f":"hjuillet","v":""},{"$f":"hjuillet","v":""},{"$f":"hjuillet","v":""},{"$f":"hjuillet","v":""},{"$f":"hjuillet","v":""},{"$f":"hjuillet","v":""},{"$f":"hjuillet","v":""},{"$f":"hjuillet","v":""},{"$f":"hjuillet","v":""},{"$f":"hjuillet","v":""},{"$f":"hjuillet","v":""}]
[{"$f":"Données!$H40","v":0},{"$f":"hjuillet","v":""},{"$f":"hjuillet","v":""},{"$f":"hjuillet","v":""},{"$f":"hjuillet","v":""},{"$f":"hjuillet","v":""},{"$f":"hjuillet","v":""},{"$f":"hjuillet","v":""},{"$f":"hjuillet","v":""},{"$f":"hjuillet","v":""},{"$f":"hjuillet","v":""},{"$f":"hjuillet","v":""},{"$f":"hjuillet","v":""},{"$f":"hjuillet","v":""},{"$f":"hjuillet","v":""},{"$f":"hjuillet","v":""},{"$f":"hjuillet","v":""},{"$f":"hjuillet","v":""},{"$f":"hjuillet","v":""},{"$f":"hjuillet","v":""},{"$f":"hjuillet","v":""},{"$f":"hjuillet","v":""},{"$f":"hjuillet","v":""},{"$f":"hjuillet","v":""},{"$f":"hjuillet","v":""},{"$f":"hjuillet","v":""},{"$f":"hjuillet","v":""},{"$f":"hjuillet","v":""},{"$f":"hjuillet","v":""},{"$f":"hjuillet","v":""},{"$f":"hjuillet","v":""},{"$f":"hjuillet","v":""}]
[{"$f":"Données!$H41","v":0},{"$f":"hjuillet","v":""},{"$f":"hjuillet","v":""},{"$f":"hjuillet","v":""},{"$f":"hjuillet","v":""},{"$f":"hjuillet","v":""},{"$f":"hjuillet","v":""},{"$f":"hjuillet","v":""},{"$f":"hjuillet","v":""},{"$f":"hjuillet","v":""},{"$f":"hjuillet","v":""},{"$f":"hjuillet","v":""},{"$f":"hjuillet","v":""},{"$f":"hjuillet","v":""},{"$f":"hjuillet","v":""},{"$f":"hjuillet","v":""},{"$f":"hjuillet","v":""},{"$f":"hjuillet","v":""},{"$f":"hjuillet","v":""},{"$f":"hjuillet","v":""},{"$f":"hjuillet","v":""},{"$f":"hjuillet","v":""},{"$f":"hjuillet","v":""},{"$f":"hjuillet","v":""},{"$f":"hjuillet","v":""},{"$f":"hjuillet","v":""},{"$f":"hjuillet","v":""},{"$f":"hjuillet","v":""},{"$f":"hjuillet","v":""},{"$f":"hjuillet","v":""},{"$f":"hjuillet","v":""},{"$f":"hjuillet","v":""}]
[{"$f":"Données!$H42","v":"Psychologue"}]
[{"$f":"Données!$H43","v":"O"},{"$f":"hjuillet","v":""},{"$f":"hjuillet","v":""},{"$f":"hjuillet","v":""},{"$f":"hjuillet","v":""},{"$f":"hjuillet","v":""},{"$f":"hjuillet","v":""},{"$f":"hjuillet","v":""},{"$f":"hjuillet","v":""},{"$f":"hjuillet","v":""},{"$f":"hjuillet","v":""},{"$f":"hjuillet","v":""},{"$f":"hjuillet","v":""},{"$f":"hjuillet","v":""},{"$f":"hjuillet","v":""},{"$f":"hjuillet","v":""},{"$f":"hjuillet","v":""},{"$f":"hjuillet","v":""},{"$f":"hjuillet","v":""},{"$f":"hjuillet","v":""},{"$f":"hjuillet","v":""},{"$f":"hjuillet","v":""},{"$f":"hjuillet","v":""},{"$f":"hjuillet","v":""},{"$f":"hjuillet","v":""},{"$f":"hjuillet","v":""},{"$f":"hjuillet","v":""},{"$f":"hjuillet","v":""},{"$f":"hjuillet","v":""},{"$f":"hjuillet","v":""},{"$f":"hjuillet","v":""},{"$f":"hjuillet","v":""}]
[{"$f":"Données!$H44","v":0},{"$f":"hjuillet","v":""},{"$f":"hjuillet","v":""},{"$f":"hjuillet","v":""},{"$f":"hjuillet","v":""},{"$f":"hjuillet","v":""},{"$f":"hjuillet","v":""},{"$f":"hjuillet","v":""},{"$f":"hjuillet","v":""},{"$f":"hjuillet","v":""},{"$f":"hjuillet","v":""},{"$f":"hjuillet","v":""},{"$f":"hjuillet","v":""},{"$f":"hjuillet","v":""},{"$f":"hjuillet","v":""},{"$f":"hjuillet","v":""},{"$f":"hjuillet","v":""},{"$f":"hjuillet","v":""},{"$f":"hjuillet","v":""},{"$f":"hjuillet","v":""},{"$f":"hjuillet","v":""},{"$f":"hjuillet","v":""},{"$f":"hjuillet","v":""},{"$f":"hjuillet","v":""},{"$f":"hjuillet","v":""},{"$f":"hjuillet","v":""},{"$f":"hjuillet","v":""},{"$f":"hjuillet","v":""},{"$f":"hjuillet","v":""},{"$f":"hjuillet","v":""},{"$f":"hjuillet","v":""},{"$f":"hjuillet","v":""}]
[{"$f":"Données!$H45","v":0},{"$f":"hjuillet","v":""},{"$f":"hjuillet","v":""},{"$f":"hjuillet","v":""},{"$f":"hjuillet","v":""},{"$f":"hjuillet","v":""},{"$f":"hjuillet","v":""},{"$f":"hjuillet","v":""},{"$f":"hjuillet","v":""},{"$f":"hjuillet","v":""},{"$f":"hjuillet","v":""},{"$f":"hjuillet","v":""},{"$f":"hjuillet","v":""},{"$f":"hjuillet","v":""},{"$f":"hjuillet","v":""},{"$f":"hjuillet","v":""},{"$f":"hjuillet","v":""},{"$f":"hjuillet","v":""},{"$f":"hjuillet","v":""},{"$f":"hjuillet","v":""},{"$f":"hjuillet","v":""},{"$f":"hjuillet","v":""},{"$f":"hjuillet","v":""},{"$f":"hjuillet","v":""},{"$f":"hjuillet","v":""},{"$f":"hjuillet","v":""},{"$f":"hjuillet","v":""},{"$f":"hjuillet","v":""},{"$f":"hjuillet","v":""},{"$f":"hjuillet","v":""},{"$f":"hjuillet","v":""},{"$f":"hjuillet","v":""}]
[{"$f":"Données!$H46","v":"Coordinatrice"}]
[{"$f":"Données!$H47","v":"P"},{"$f":"hjuillet","v":""},{"$f":"hjuillet","v":""},{"$f":"hjuillet","v":""},{"$f":"hjuillet","v":""},{"$f":"hjuillet","v":""},{"$f":"hjuillet","v":""},{"$f":"hjuillet","v":""},{"$f":"hjuillet","v":""},{"$f":"hjuillet","v":""},{"$f":"hjuillet","v":""},{"$f":"hjuillet","v":""},{"$f":"hjuillet","v":""},{"$f":"hjuillet","v":""},{"$f":"hjuillet","v":""},{"$f":"hjuillet","v":""},{"$f":"hjuillet","v":""},{"$f":"hjuillet","v":""},{"$f":"hjuillet","v":""},{"$f":"hjuillet","v":""},{"$f":"hjuillet","v":""},{"$f":"hjuillet","v":""},{"$f":"hjuillet","v":""},{"$f":"hjuillet","v":""},{"$f":"hjuillet","v":""},{"$f":"hjuillet","v":""},{"$f":"hjuillet","v":""},{"$f":"hjuillet","v":""},{"$f":"hjuillet","v":""},{"$f":"hjuillet","v":""},{"$f":"hjuillet","v":""},{"$f":"hjuillet","v":""}]
[{"$f":"Données!$H48","v":0},{"$f":"hjuillet","v":""},{"$f":"hjuillet","v":""},{"$f":"hjuillet","v":""},{"$f":"hjuillet","v":""},{"$f":"hjuillet","v":""},{"$f":"hjuillet","v":""},{"$f":"hjuillet","v":""},{"$f":"hjuillet","v":""},{"$f":"hjuillet","v":""},{"$f":"hjuillet","v":""},{"$f":"hjuillet","v":""},{"$f":"hjuillet","v":""},{"$f":"hjuillet","v":""},{"$f":"hjuillet","v":""},{"$f":"hjuillet","v":""},{"$f":"hjuillet","v":""},{"$f":"hjuillet","v":""},{"$f":"hjuillet","v":""},{"$f":"hjuillet","v":""},{"$f":"hjuillet","v":""},{"$f":"hjuillet","v":""},{"$f":"hjuillet","v":""},{"$f":"hjuillet","v":""},{"$f":"hjuillet","v":""},{"$f":"hjuillet","v":""},{"$f":"hjuillet","v":""},{"$f":"hjuillet","v":""},{"$f":"hjuillet","v":""},{"$f":"hjuillet","v":""},{"$f":"hjuillet","v":""},{"$f":"hjuillet","v":""}]
[{"$f":"Données!$H49","v":0},{"$f":"hjuillet","v":""},{"$f":"hjuillet","v":""},{"$f":"hjuillet","v":""},{"$f":"hjuillet","v":""},{"$f":"hjuillet","v":""},{"$f":"hjuillet","v":""},{"$f":"hjuillet","v":""},{"$f":"hjuillet","v":""},{"$f":"hjuillet","v":""},{"$f":"hjuillet","v":""},{"$f":"hjuillet","v":""},{"$f":"hjuillet","v":""},{"$f":"hjuillet","v":""},{"$f":"hjuillet","v":""},{"$f":"hjuillet","v":""},{"$f":"hjuillet","v":""},{"$f":"hjuillet","v":""},{"$f":"hjuillet","v":""},{"$f":"hjuillet","v":""},{"$f":"hjuillet","v":""},{"$f":"hjuillet","v":""},{"$f":"hjuillet","v":""},{"$f":"hjuillet","v":""},{"$f":"hjuillet","v":""},{"$f":"hjuillet","v":""},{"$f":"hjuillet","v":""},{"$f":"hjuillet","v":""},{"$f":"hjuillet","v":""},{"$f":"hjuillet","v":""},{"$f":"hjuillet","v":""},{"$f":"hjuillet","v":""}]
[{"$f":"Données!$H50","v":0},{"$f":"hjuillet","v":""},{"$f":"hjuillet","v":""},{"$f":"hjuillet","v":""},{"$f":"hjuillet","v":""},{"$f":"hjuillet","v":""},{"$f":"hjuillet","v":""},{"$f":"hjuillet","v":""},{"$f":"hjuillet","v":""},{"$f":"hjuillet","v":""},{"$f":"hjuillet","v":""},{"$f":"hjuillet","v":""},{"$f":"hjuillet","v":""},{"$f":"hjuillet","v":""},{"$f":"hjuillet","v":""},{"$f":"hjuillet","v":""},{"$f":"hjuillet","v":""},{"$f":"hjuillet","v":""},{"$f":"hjuillet","v":""},{"$f":"hjuillet","v":""},{"$f":"hjuillet","v":""},{"$f":"hjuillet","v":""},{"$f":"hjuillet","v":""},{"$f":"hjuillet","v":""},{"$f":"hjuillet","v":""},{"$f":"hjuillet","v":""},{"$f":"hjuillet","v":""},{"$f":"hjuillet","v":""},{"$f":"hjuillet","v":""},{"$f":"hjuillet","v":""},{"$f":"hjuillet","v":""},{"$f":"hjuillet","v":""}]
[{"$f":"Données!$H51","v":0},{"$f":"hjuillet","v":""},{"$f":"hjuillet","v":""},{"$f":"hjuillet","v":""},{"$f":"hjuillet","v":""},{"$f":"hjuillet","v":""},{"$f":"hjuillet","v":""},{"$f":"hjuillet","v":""},{"$f":"hjuillet","v":""},{"$f":"hjuillet","v":""},{"$f":"hjuillet","v":""},{"$f":"hjuillet","v":""},{"$f":"hjuillet","v":""},{"$f":"hjuillet","v":""},{"$f":"hjuillet","v":""},{"$f":"hjuillet","v":""},{"$f":"hjuillet","v":""},{"$f":"hjuillet","v":""},{"$f":"hjuillet","v":""},{"$f":"hjuillet","v":""},{"$f":"hjuillet","v":""},{"$f":"hjuillet","v":""},{"$f":"hjuillet","v":""},{"$f":"hjuillet","v":""},{"$f":"hjuillet","v":""},{"$f":"hjuillet","v":""},{"$f":"hjuillet","v":""},{"$f":"hjuillet","v":""},{"$f":"hjuillet","v":""},{"$f":"hjuillet","v":""},{"$f":"hjuillet","v":""},{"$f":"hjuillet","v":""}]
[{"$f":"IF(Données!$L$5=\"\",\"Service\",Données!$L$5)","v":"Service"}]
[{"$f":"Données!$H53","v":"Q"},{"$f":"hjuillet","v":""},{"$f":"hjuillet","v":""},{"$f":"hjuillet","v":""},{"$f":"hjuillet","v":""},{"$f":"hjuillet","v":""},{"$f":"hjuillet","v":""},{"$f":"hjuillet","v":""},{"$f":"hjuillet","v":""},{"$f":"hjuillet","v":""},{"$f":"hjuillet","v":""},{"$f":"hjuillet","v":""},{"$f":"hjuillet","v":""},{"$f":"hjuillet","v":""},{"$f":"hjuillet","v":""},{"$f":"hjuillet","v":""},{"$f":"hjuillet","v":""},{"$f":"hjuillet","v":""},{"$f":"hjuillet","v":""},{"$f":"hjuillet","v":""},{"$f":"hjuillet","v":""},{"$f":"hjuillet","v":""},{"$f":"hjuillet","v":""},{"$f":"hjuillet","v":""},{"$f":"hjuillet","v":""},{"$f":"hjuillet","v":""},{"$f":"hjuillet","v":""},{"$f":"hjuillet","v":""},{"$f":"hjuillet","v":""},{"$f":"hjuillet","v":""},{"$f":"hjuillet","v":""},{"$f":"hjuillet","v":""}]

{"sheet":"HAout","index":21,"n_rows":56,"n_cols":32,"rows_kept":56,"cut":false,"hidden":false,"merged":[]}
[null,null,null,"Mois de","Aout",{"$f":"An","v":2018}]
[null,{"$f":"DATE(An,Aout,B7)","v":"2018-08-01"},"2018-08-02","2018-08-03","2018-08-04","2018-08-05","2018-08-06","2018-08-07","2018-08-08","2018-08-09","2018-08-10","2018-08-11","2018-08-12","2018-08-13","2018-08-14","2018-08-15","2018-08-16","2018-08-17","2018-08-18","2018-08-19","2018-08-20","2018-08-21","2018-08-22","2018-08-23","2018-08-24","2018-08-25","2018-08-26","2018-08-27","2018-08-28","2018-08-29","2018-08-30","2018-08-31"]
[{"$f":"IF(Données!$L$5=\"\",\"Service\",Données!$L$5)","v":"Service"}]
[]
[]
["Jours",{"$f":"PROPER(TEXT(DATE(An,Aout,B$7),\"jjjjjj\"))","v":"Mercredi"},"Jeudi","Vendredi","Samedi","Dimanche","Lundi","Mardi","Mercredi","Jeudi","Vendredi","Samedi","Dimanche","Lundi","Mardi","Mercredi","Jeudi","Vendredi","Samedi","Dimanche","Lundi","Mardi","Mercredi","Jeudi","Vendredi","Samedi","Dimanche","Lundi","Mardi","Mercredi","Jeudi","Vendredi"]
[null,1,{"$f":"B$7+1","v":2},{"$f":"C$7+1","v":3},4,5,6,7,8,9,10,11,12,13,14,15,16,17,18,19,20,21,22,23,24,25,26,27,28,29,{"$f":"AD$7+1","v":30},{"$f":"AE$7+1","v":31}]
["Equipe de jour"]
[{"$f":"Données!$H6","v":"A"},{"$f":"haout","v":""},{"$f":"haout","v":""},{"$f":"haout","v":""},{"$f":"haout","v":""},{"$f":"haout","v":""},{"$f":"haout","v":""},{"$f":"haout","v":""},{"$f":"haout","v":""},{"$f":"haout","v":""},{"$f":"haout","v":""},{"$f":"haout","v":""},{"$f":"haout","v":""},{"$f":"haout","v":""},{"$f":"haout","v":""},{"$f":"haout","v":""},{"$f":"haout","v":""},{"$f":"haout","v":""},{"$f":"haout","v":""},{"$f":"haout","v":""},{"$f":"haout","v":""},{"$f":"haout","v":""},{"$f":"haout","v":""},{"$f":"haout","v":""},{"$f":"haout","v":""},{"$f":"haout","v":""},{"$f":"haout","v":""},{"$f":"haout","v":""},{"$f":"haout","v":""},{"$f":"haout","v":""},{"$f":"haout","v":""},{"$f":"haout","v":""}]
[{"$f":"Données!$H7","v":0},{"$f":"haout","v":""},{"$f":"haout","v":""},{"$f":"haout","v":""},{"$f":"haout","v":""},{"$f":"haout","v":""},{"$f":"haout","v":""},{"$f":"haout","v":""},{"$f":"haout","v":""},{"$f":"haout","v":""},{"$f":"haout","v":""},{"$f":"haout","v":""},{"$f":"haout","v":""},{"$f":"haout","v":""},{"$f":"haout","v":""},{"$f":"haout","v":""},{"$f":"haout","v":""},{"$f":"haout","v":""},{"$f":"haout","v":""},{"$f":"haout","v":""},{"$f":"haout","v":""},{"$f":"haout","v":""},{"$f":"haout","v":""},{"$f":"haout","v":""},{"$f":"haout","v":""},{"$f":"haout","v":""},{"$f":"haout","v":""},{"$f":"haout","v":""},{"$f":"haout","v":""},{"$f":"haout","v":""},{"$f":"haout","v":""},{"$f":"haout","v":""}]
[{"$f":"Données!$H8","v":0},{"$f":"haout","v":""},{"$f":"haout","v":""},{"$f":"haout","v":""},{"$f":"haout","v":""},{"$f":"haout","v":""},{"$f":"haout","v":""},{"$f":"haout","v":""},{"$f":"haout","v":""},{"$f":"haout","v":""},{"$f":"haout","v":""},{"$f":"haout","v":""},{"$f":"haout","v":""},{"$f":"haout","v":""},{"$f":"haout","v":""},{"$f":"haout","v":""},{"$f":"haout","v":""},{"$f":"haout","v":""},{"$f":"haout","v":""},{"$f":"haout","v":""},{"$f":"haout","v":""},{"$f":"haout","v":""},{"$f":"haout","v":""},{"$f":"haout","v":""},{"$f":"haout","v":""},{"$f":"haout","v":""},{"$f":"haout","v":""},{"$f":"haout","v":""},{"$f":"haout","v":""},{"$f":"haout","v":""},{"$f":"haout","v":""},{"$f":"haout","v":""}]
[{"$f":"Données!$H9","v":0},{"$f":"haout","v":""},{"$f":"haout","v":""},{"$f":"haout","v":""},{"$f":"haout","v":""},{"$f":"haout","v":""},{"$f":"haout","v":""},{"$f":"haout","v":""},{"$f":"haout","v":""},{"$f":"haout","v":""},{"$f":"haout","v":""},{"$f":"haout","v":""},{"$f":"haout","v":""},{"$f":"haout","v":""},{"$f":"haout","v":""},{"$f":"haout","v":""},{"$f":"haout","v":""},{"$f":"haout","v":""},{"$f":"haout","v":""},{"$f":"haout","v":""},{"$f":"haout","v":""},{"$f":"haout","v":""},{"$f":"haout","v":""},{"$f":"haout","v":""},{"$f":"haout","v":""},{"$f":"haout","v":""},{"$f":"haout","v":""},{"$f":"haout","v":""},{"$f":"haout","v":""},{"$f":"haout","v":""},{"$f":"haout","v":""},{"$f":"haout","v":""}]
[{"$f":"Données!$H10","v":0},{"$f":"haout","v":""},{"$f":"haout","v":""},{"$f":"haout","v":""},{"$f":"haout","v":""},{"$f":"haout","v":""},{"$f":"haout","v":""},{"$f":"haout","v":""},{"$f":"haout","v":""},{"$f":"haout","v":""},{"$f":"haout","v":""},{"$f":"haout","v":""},{"$f":"haout","v":""},{"$f":"haout","v":""},{"$f":"haout","v":""},{"$f":"haout","v":""},{"$f":"haout","v":""},{"$f":"haout","v":""},{"$f":"haout","v":""},{"$f":"haout","v":""},{"$f":"haout","v":""},{"$f":"haout","v":""},{"$f":"haout","v":""},{"$f":"haout","v":""},{"$f":"haout","v":""},{"$f":"haout","v":""},{"$f":"haout","v":""},{"$f":"haout","v":""},{"$f":"haout","v":""},{"$f":"haout","v":""},{"$f":"haout","v":""},{"$f":"haout","v":""}]
[{"$f":"Données!$H11","v":0},{"$f":"haout","v":""},{"$f":"haout","v":""},{"$f":"haout","v":""},{"$f":"haout","v":""},{"$f":"haout","v":""},{"$f":"haout","v":""},{"$f":"haout","v":""},{"$f":"haout","v":""},{"$f":"haout","v":""},{"$f":"haout","v":""},{"$f":"haout","v":""},{"$f":"haout","v":""},{"$f":"haout","v":""},{"$f":"haout","v":""},{"$f":"haout","v":""},{"$f":"haout","v":""},{"$f":"haout","v":""},{"$f":"haout","v":""},{"$f":"haout","v":""},{"$f":"haout","v":""},{"$f":"haout","v":""},{"$f":"haout","v":""},{"$f":"haout","v":""},{"$f":"haout","v":""},{"$f":"haout","v":""},{"$f":"haout","v":""},{"$f":"haout","v":""},{"$f":"haout","v":""},{"$f":"haout","v":""},{"$f":"haout","v":""},{"$f":"haout","v":""}]
[{"$f":"Données!$H12","v":0},{"$f":"haout","v":""},{"$f":"haout","v":""},{"$f":"haout","v":""},{"$f":"haout","v":""},{"$f":"haout","v":""},{"$f":"haout","v":""},{"$f":"haout","v":""},{"$f":"haout","v":""},{"$f":"haout","v":""},{"$f":"haout","v":""},{"$f":"haout","v":""},{"$f":"haout","v":""},{"$f":"haout","v":""},{"$f":"haout","v":""},{"$f":"haout","v":""},{"$f":"haout","v":""},{"$f":"haout","v":""},{"$f":"haout","v":""},{"$f":"haout","v":""},{"$f":"haout","v":""},{"$f":"haout","v":""},{"$f":"haout","v":""},{"$f":"haout","v":""},{"$f":"haout","v":""},{"$f":"haout","v":""},{"$f":"haout","v":""},{"$f":"haout","v":""},{"$f":"haout","v":""},{"$f":"haout","v":""},{"$f":"haout","v":""},{"$f":"haout","v":""}]
[{"$f":"Données!$H13","v":0},{"$f":"haout","v":""},{"$f":"haout","v":""},{"$f":"haout","v":""},{"$f":"haout","v":""},{"$f":"haout","v":""},{"$f":"haout","v":""},{"$f":"haout","v":""},{"$f":"haout","v":""},{"$f":"haout","v":""},{"$f":"haout","v":""},{"$f":"haout","v":""},{"$f":"haout","v":""},{"$f":"haout","v":""},{"$f":"haout","v":""},{"$f":"haout","v":""},{"$f":"haout","v":""},{"$f":"haout","v":""},{"$f":"haout","v":""},{"$f":"haout","v":""},{"$f":"haout","v":""},{"$f":"haout","v":""},{"$f":"haout","v":""},{"$f":"haout","v":""},{"$f":"haout","v":""},{"$f":"haout","v":""},{"$f":"haout","v":""},{"$f":"haout","v":""},{"$f":"haout","v":""},{"$f":"haout","v":""},{"$f":"haout","v":""},{"$f":"haout","v":""}]
[{"$f":"Données!$H14","v":0},{"$f":"haout","v":""},{"$f":"haout","v":""},{"$f":"haout","v":""},{"$f":"haout","v":""},{"$f":"haout","v":""},{"$f":"haout","v":""},{"$f":"haout","v":""},{"$f":"haout","v":""},{"$f":"haout","v":""},{"$f":"haout","v":""},{"$f":"haout","v":""},{"$f":"haout","v":""},{"$f":"haout","v":""},{"$f":"haout","v":""},{"$f":"haout","v":""},{"$f":"haout","v":""},{"$f":"haout","v":""},{"$f":"haout","v":""},{"$f":"haout","v":""},{"$f":"haout","v":""},{"$f":"haout","v":""},{"$f":"haout","v":""},{"$f":"haout","v":""},{"$f":"haout","v":""},{"$f":"haout","v":""},{"$f":"haout","v":""},{"$f":"haout","v":""},{"$f":"haout","v":""},{"$f":"haout","v":""},{"$f":"haout","v":""},{"$f":"haout","v":""}]
[{"$f":"Données!$H15","v":0},{"$f":"haout","v":""},{"$f":"haout","v":""},{"$f":"haout","v":""},{"$f":"haout","v":""},{"$f":"haout","v":""},{"$f":"haout","v":""},{"$f":"haout","v":""},{"$f":"haout","v":""},{"$f":"haout","v":""},{"$f":"haout","v":""},{"$f":"haout","v":""},{"$f":"haout","v":""},{"$f":"haout","v":""},{"$f":"haout","v":""},{"$f":"haout","v":""},{"$f":"haout","v":""},{"$f":"haout","v":""},{"$f":"haout","v":""},{"$f":"haout","v":""},{"$f":"haout","v":""},{"$f":"haout","v":""},{"$f":"haout","v":""},{"$f":"haout","v":""},{"$f":"haout","v":""},{"$f":"haout","v":""},{"$f":"haout","v":""},{"$f":"haout","v":""},{"$f":"haout","v":""},{"$f":"haout","v":""},{"$f":"haout","v":""},{"$f":"haout","v":""}]
[{"$f":"Données!$H16","v":0},{"$f":"haout","v":""},{"$f":"haout","v":""},{"$f":"haout","v":""},{"$f":"haout","v":""},{"$f":"haout","v":""},{"$f":"haout","v":""},{"$f":"haout","v":""},{"$f":"haout","v":""},{"$f":"haout","v":""},{"$f":"haout","v":""},{"$f":"haout","v":""},{"$f":"haout","v":""},{"$f":"haout","v":""},{"$f":"haout","v":""},{"$f":"haout","v":""},{"$f":"haout","v":""},{"$f":"haout","v":""},{"$f":"haout","v":""},{"$f":"haout","v":""},{"$f":"haout","v":""},{"$f":"haout","v":""},{"$f":"haout","v":""},{"$f":"haout","v":""},{"$f":"haout","v":""},{"$f":"haout","v":""},{"$f":"haout","v":""},{"$f":"haout","v":""},{"$f":"haout","v":""},{"$f":"haout","v":""},{"$f":"haout","v":""},{"$f":"haout","v":""}]
[{"$f":"Données!$H17","v":0},{"$f":"haout","v":""},{"$f":"haout","v":""},{"$f":"haout","v":""},{"$f":"haout","v":""},{"$f":"haout","v":""},{"$f":"haout","v":""},{"$f":"haout","v":""},{"$f":"haout","v":""},{"$f":"haout","v":""},{"$f":"haout","v":""},{"$f":"haout","v":""},{"$f":"haout","v":""},{"$f":"haout","v":""},{"$f":"haout","v":""},{"$f":"haout","v":""},{"$f":"haout","v":""},{"$f":"haout","v":""},{"$f":"haout","v":""},{"$f":"haout","v":""},{"$f":"haout","v":""},{"$f":"haout","v":""},{"$f":"haout","v":""},{"$f":"haout","v":""},{"$f":"haout","v":""},{"$f":"haout","v":""},{"$f":"haout","v":""},{"$f":"haout","v":""},{"$f":"haout","v":""},{"$f":"haout","v":""},{"$f":"haout","v":""},{"$f":"haout","v":""}]
[{"$f":"Données!$H18","v":0},{"$f":"haout","v":""},{"$f":"haout","v":""},{"$f":"haout","v":""},{"$f":"haout","v":""},{"$f":"haout","v":""},{"$f":"haout","v":""},{"$f":"haout","v":""},{"$f":"haout","v":""},{"$f":"haout","v":""},{"$f":"haout","v":""},{"$f":"haout","v":""},{"$f":"haout","v":""},{"$f":"haout","v":""},{"$f":"haout","v":""},{"$f":"haout","v":""},{"$f":"haout","v":""},{"$f":"haout","v":""},{"$f":"haout","v":""},{"$f":"haout","v":""},{"$f":"haout","v":""},{"$f":"haout","v":""},{"$f":"haout","v":""},{"$f":"haout","v":""},{"$f":"haout","v":""},{"$f":"haout","v":""},{"$f":"haout","v":""},{"$f":"haout","v":""},{"$f":"haout","v":""},{"$f":"haout","v":""},{"$f":"haout","v":""},{"$f":"haout","v":""}]
[{"$f":"Données!$H19","v":0},{"$f":"haout","v":""},{"$f":"haout","v":""},{"$f":"haout","v":""},{"$f":"haout","v":""},{"$f":"haout","v":""},{"$f":"haout","v":""},{"$f":"haout","v":""},{"$f":"haout","v":""},{"$f":"haout","v":""},{"$f":"haout","v":""},{"$f":"haout","v":""},{"$f":"haout","v":""},{"$f":"haout","v":""},{"$f":"haout","v":""},{"$f":"haout","v":""},{"$f":"haout","v":""},{"$f":"haout","v":""},{"$f":"haout","v":""},{"$f":"haout","v":""},{"$f":"haout","v":""},{"$f":"haout","v":""},{"$f":"haout","v":""},{"$f":"haout","v":""},{"$f":"haout","v":""},{"$f":"haout","v":""},{"$f":"haout","v":""},{"$f":"haout","v":""},{"$f":"haout","v":""},{"$f":"haout","v":""},{"$f":"haout","v":""},{"$f":"haout","v":""}]
[{"$f":"Données!$H20","v":0},{"$f":"haout","v":""},{"$f":"haout","v":""},{"$f":"haout","v":""},{"$f":"haout","v":""},{"$f":"haout","v":""},{"$f":"haout","v":""},{"$f":"haout","v":""},{"$f":"haout","v":""},{"$f":"haout","v":""},{"$f":"haout","v":""},{"$f":"haout","v":""},{"$f":"haout","v":""},{"$f":"haout","v":""},{"$f":"haout","v":""},{"$f":"haout","v":""},{"$f":"haout","v":""},{"$f":"haout","v":""},{"$f":"haout","v":""},{"$f":"haout","v":""},{"$f":"haout","v":""},{"$f":"haout","v":""},{"$f":"haout","v":""},{"$f":"haout","v":""},{"$f":"haout","v":""},{"$f":"haout","v":""},{"$f":"haout","v":""},{"$f":"haout","v":""},{"$f":"haout","v":""},{"$f":"haout","v":""},{"$f":"haout","v":""},{"$f":"haout","v":""}]
[{"$f":"Données!$H21","v":0},{"$f":"haout","v":""},{"$f":"haout","v":""},{"$f":"haout","v":""},{"$f":"haout","v":""},{"$f":"haout","v":""},{"$f":"haout","v":""},{"$f":"haout","v":""},{"$f":"haout","v":""},{"$f":"haout","v":""},{"$f":"haout","v":""},{"$f":"haout","v":""},{"$f":"haout","v":""},{"$f":"haout","v":""},{"$f":"haout","v":""},{"$f":"haout","v":""},{"$f":"haout","v":""},{"$f":"haout","v":""},{"$f":"haout","v":""},{"$f":"haout","v":""},{"$f":"haout","v":""},{"$f":"haout","v":""},{"$f":"haout","v":""},{"$f":"haout","v":""},{"$f":"haout","v":""},{"$f":"haout","v":""},{"$f":"haout","v":""},{"$f":"haout","v":""},{"$f":"haout","v":""},{"$f":"haout","v":""},{"$f":"haout","v":""},{"$f":"haout","v":""}]
[{"$f":"Données!$H22","v":"Equipe de nuit"}]
[{"$f":"Données!$H23","v":"K"},{"$f":"haout","v":""},{"$f":"haout","v":""},{"$f":"haout","v":""},{"$f":"haout","v":""},{"$f":"haout","v":""},{"$f":"haout","v":""},{"$f":"haout","v":""},{"$f":"haout","v":""},{"$f":"haout","v":""},{"$f":"haout","v":""},{"$f":"haout","v":""},{"$f":"haout","v":""},{"$f":"haout","v":""},{"$f":"haout","v":""},{"$f":"haout","v":""},{"$f":"haout","v":""},{"$f":"haout","v":""},{"$f":"haout","v":""},{"$f":"haout","v":""},{"$f":"haout","v":""},{"$f":"haout","v":""},{"$f":"haout","v":""},{"$f":"haout","v":""},{"$f":"haout","v":""},{"$f":"haout","v":""},{"$f":"haout","v":""},{"$f":"haout","v":""},{"$f":"haout","v":""},{"$f":"haout","v":""},{"$f":"haout","v":""},{"$f":"haout","v":""}]
[{"$f":"Données!$H24","v":0},{"$f":"haout","v":""},{"$f":"haout","v":""},{"$f":"haout","v":""},{"$f":"haout","v":""},{"$f":"haout","v":""},{"$f":"haout","v":""},{"$f":"haout","v":""},{"$f":"haout","v":""},{"$f":"haout","v":""},{"$f":"haout","v":""},{"$f":"haout","v":""},{"$f":"haout","v":""},{"$f":"haout","v":""},{"$f":"haout","v":""},{"$f":"haout","v":""},{"$f":"haout","v":""},{"$f":"haout","v":""},{"$f":"haout","v":""},{"$f":"haout","v":""},{"$f":"haout","v":""},{"$f":"haout","v":""},{"$f":"haout","v":""},{"$f":"haout","v":""},{"$f":"haout","v":""},{"$f":"haout","v":""},{"$f":"haout","v":""},{"$f":"haout","v":""},{"$f":"haout","v":""},{"$f":"haout","v":""},{"$f":"haout","v":""},{"$f":"haout","v":""}]
[{"$f":"Données!$H25","v":0},{"$f":"haout","v":""},{"$f":"haout","v":""},{"$f":"haout","v":""},{"$f":"haout","v":""},{"$f":"haout","v":""},{"$f":"haout","v":""},{"$f":"haout","v":""},{"$f":"haout","v":""},{"$f":"haout","v":""},{"$f":"haout","v":""},{"$f":"haout","v":""},{"$f":"haout","v":""},{"$f":"haout","v":""},{"$f":"haout","v":""},{"$f":"haout","v":""},{"$f":"haout","v":""},{"$f":"haout","v":""},{"$f":"haout","v":""},{"$f":"haout","v":""},{"$f":"haout","v":""},{"$f":"haout","v":""},{"$f":"haout","v":""},{"$f":"haout","v":""},{"$f":"haout","v":""},{"$f":"haout","v":""},{"$f":"haout","v":""},{"$f":"haout","v":""},{"$f":"haout","v":""},{"$f":"haout","v":""},{"$f":"haout","v":""},{"$f":"haout","v":""}]
[{"$f":"Données!$H26","v":0},{"$f":"haout","v":""},{"$f":"haout","v":""},{"$f":"haout","v":""},{"$f":"haout","v":""},{"$f":"haout","v":""},{"$f":"haout","v":""},{"$f":"haout","v":""},{"$f":"haout","v":""},{"$f":"haout","v":""},{"$f":"haout","v":""},{"$f":"haout","v":""},{"$f":"haout","v":""},{"$f":"haout","v":""},{"$f":"haout","v":""},{"$f":"haout","v":""},{"$f":"haout","v":""},{"$f":"haout","v":""},{"$f":"haout","v":""},{"$f":"haout","v":""},{"$f":"haout","v":""},{"$f":"haout","v":""},{"$f":"haout","v":""},{"$f":"haout","v":""},{"$f":"haout","v":""},{"$f":"haout","v":""},{"$f":"haout","v":""},{"$f":"haout","v":""},{"$f":"haout","v":""},{"$f":"haout","v":""},{"$f":"haout","v":""},{"$f":"haout","v":""}]
[{"$f":"Données!$H27","v":0},{"$f":"haout","v":""},{"$f":"haout","v":""},{"$f":"haout","v":""},{"$f":"haout","v":""},{"$f":"haout","v":""},{"$f":"haout","v":""},{"$f":"haout","v":""},{"$f":"haout","v":""},{"$f":"haout","v":""},{"$f":"haout","v":""},{"$f":"haout","v":""},{"$f":"haout","v":""},{"$f":"haout","v":""},{"$f":"haout","v":""},{"$f":"haout","v":""},{"$f":"haout","v":""},{"$f":"haout","v":""},{"$f":"haout","v":""},{"$f":"haout","v":""},{"$f":"haout","v":""},{"$f":"haout","v":""},{"$f":"haout","v":""},{"$f":"haout","v":""},{"$f":"haout","v":""},{"$f":"haout","v":""},{"$f":"haout","v":""},{"$f":"haout","v":""},{"$f":"haout","v":""},{"$f":"haout","v":""},{"$f":"haout","v":""},{"$f":"haout","v":""}]
[{"$f":"Données!$H28","v":0},{"$f":"haout","v":""},{"$f":"haout","v":""},{"$f":"haout","v":""},{"$f":"haout","v":""},{"$f":"haout","v":""},{"$f":"haout","v":""},{"$f":"haout","v":""},{"$f":"haout","v":""},{"$f":"haout","v":""},{"$f":"haout","v":""},{"$f":"haout","v":""},{"$f":"haout","v":""},{"$f":"haout","v":""},{"$f":"haout","v":""},{"$f":"haout","v":""},{"$f":"haout","v":""},{"$f":"haout","v":""},{"$f":"haout","v":""},{"$f":"haout","v":""},{"$f":"haout","v":""},{"$f":"haout","v":""},{"$f":"haout","v":""},{"$f":"haout","v":""},{"$f":"haout","v":""},{"$f":"haout","v":""},{"$f":"haout","v":""},{"$f":"haout","v":""},{"$f":"haout","v":""},{"$f":"haout","v":""},{"$f":"haout","v":""},{"$f":"haout","v":""}]
[{"$f":"Données!$H29","v":0},{"$f":"haout","v":""},{"$f":"haout","v":""},{"$f":"haout","v":""},{"$f":"haout","v":""},{"$f":"haout","v":""},{"$f":"haout","v":""},{"$f":"haout","v":""},{"$f":"haout","v":""},{"$f":"haout","v":""},{"$f":"haout","v":""},{"$f":"haout","v":""},{"$f":"haout","v":""},{"$f":"haout","v":""},{"$f":"haout","v":""},{"$f":"haout","v":""},{"$f":"haout","v":""},{"$f":"haout","v":""},{"$f":"haout","v":""},{"$f":"haout","v":""},{"$f":"haout","v":""},{"$f":"haout","v":""},{"$f":"haout","v":""},{"$f":"haout","v":""},{"$f":"haout","v":""},{"$f":"haout","v":""},{"$f":"haout","v":""},{"$f":"haout","v":""},{"$f":"haout","v":""},{"$f":"haout","v":""},{"$f":"haout","v":""},{"$f":"haout","v":""}]
[{"$f":"Données!$H30","v":0},{"$f":"haout","v":""},{"$f":"haout","v":""},{"$f":"haout","v":""},{"$f":"haout","v":""},{"$f":"haout","v":""},{"$f":"haout","v":""},{"$f":"haout","v":""},{"$f":"haout","v":""},{"$f":"haout","v":""},{"$f":"haout","v":""},{"$f":"haout","v":""},{"$f":"haout","v":""},{"$f":"haout","v":""},{"$f":"haout","v":""},{"$f":"haout","v":""},{"$f":"haout","v":""},{"$f":"haout","v":""},{"$f":"haout","v":""},{"$f":"haout","v":""},{"$f":"haout","v":""},{"$f":"haout","v":""},{"$f":"haout","v":""},{"$f":"haout","v":""},{"$f":"haout","v":""},{"$f":"haout","v":""},{"$f":"haout","v":""},{"$f":"haout","v":""},{"$f":"haout","v":""},{"$f":"haout","v":""},{"$f":"haout","v":""},{"$f":"haout","v":""}]
[{"$f":"Données!$H31","v":0},{"$f":"haout","v":""},{"$f":"haout","v":""},{"$f":"haout","v":""},{"$f":"haout","v":""},{"$f":"haout","v":""},{"$f":"haout","v":""},{"$f":"haout","v":""},{"$f":"haout","v":""},{"$f":"haout","v":""},{"$f":"haout","v":""},{"$f":"haout","v":""},{"$f":"haout","v":""},{"$f":"haout","v":""},{"$f":"haout","v":""},{"$f":"haout","v":""},{"$f":"haout","v":""},{"$f":"haout","v":""},{"$f":"haout","v":""},{"$f":"haout","v":""},{"$f":"haout","v":""},{"$f":"haout","v":""},{"$f":"haout","v":""},{"$f":"haout","v":""},{"$f":"haout","v":""},{"$f":"haout","v":""},{"$f":"haout","v":""},{"$f":"haout","v":""},{"$f":"haout","v":""},{"$f":"haout","v":""},{"$f":"haout","v":""},{"$f":"haout","v":""}]
[{"$f":"Données!$H32","v":"Maitresse de maison"}]
[{"$f":"Données!$H33","v":"N"},{"$f":"haout","v":""},{"$f":"haout","v":""},{"$f":"haout","v":""},{"$f":"haout","v":""},{"$f":"haout","v":""},{"$f":"haout","v":""},{"$f":"haout","v":""},{"$f":"haout","v":""},{"$f":"haout","v":""},{"$f":"haout","v":""},{"$f":"haout","v":""},{"$f":"haout","v":""},{"$f":"haout","v":""},{"$f":"haout","v":""},{"$f":"haout","v":""},{"$f":"haout","v":""},{"$f":"haout","v":""},{"$f":"haout","v":""},{"$f":"haout","v":""},{"$f":"haout","v":""},{"$f":"haout","v":""},{"$f":"haout","v":""},{"$f":"haout","v":""},{"$f":"haout","v":""},{"$f":"haout","v":""},{"$f":"haout","v":""},{"$f":"haout","v":""},{"$f":"haout","v":""},{"$f":"haout","v":""},{"$f":"haout","v":""},{"$f":"haout","v":""}]
[{"$f":"Données!$H34","v":0},{"$f":"haout","v":""},{"$f":"haout","v":""},{"$f":"haout","v":""},{"$f":"haout","v":""},{"$f":"haout","v":""},{"$f":"haout","v":""},{"$f":"haout","v":""},{"$f":"haout","v":""},{"$f":"haout","v":""},{"$f":"haout","v":""},{"$f":"haout","v":""},{"$f":"haout","v":""},{"$f":"haout","v":""},{"$f":"haout","v":""},{"$f":"haout","v":""},{"$f":"haout","v":""},{"$f":"haout","v":""},{"$f":"haout","v":""},{"$f":"haout","v":""},{"$f":"haout","v":""},{"$f":"haout","v":""},{"$f":"haout","v":""},{"$f":"haout","v":""},{"$f":"haout","v":""},{"$f":"haout","v":""},{"$f":"haout","v":""},{"$f":"haout","v":""},{"$f":"haout","v":""},{"$f":"haout","v":""},{"$f":"haout","v":""},{"$f":"haout","v":""}]
[{"$f":"Données!$H35","v":0},{"$f":"haout","v":""},{"$f":"haout","v":""},{"$f":"haout","v":""},{"$f":"haout","v":""},{"$f":"haout","v":""},{"$f":"haout","v":""},{"$f":"haout","v":""},{"$f":"haout","v":""},{"$f":"haout","v":""},{"$f":"haout","v":""},{"$f":"haout","v":""},{"$f":"haout","v":""},{"$f":"haout","v":""},{"$f":"haout","v":""},{"$f":"haout","v":""},{"$f":"haout","v":""},{"$f":"haout","v":""},{"$f":"haout","v":""},{"$f":"haout","v":""},{"$f":"haout","v":""},{"$f":"haout","v":""},{"$f":"haout","v":""},{"$f":"haout","v":""},{"$f":"haout","v":""},{"$f":"haout","v":""},{"$f":"haout","v":""},{"$f":"haout","v":""},{"$f":"haout","v":""},{"$f":"haout","v":""},{"$f":"haout","v":""},{"$f":"haout","v":""}]
[{"$f":"Données!$H36","v":0},{"$f":"haout","v":""},{"$f":"haout","v":""},{"$f":"haout","v":""},{"$f":"haout","v":""},{"$f":"haout","v":""},{"$f":"haout","v":""},{"$f":"haout","v":""},{"$f":"haout","v":""},{"$f":"haout","v":""},{"$f":"haout","v":""},{"$f":"haout","v":""},{"$f":"haout","v":""},{"$f":"haout","v":""},{"$f":"haout","v":""},{"$f":"haout","v":""},{"$f":"haout","v":""},{"$f":"haout","v":""},{"$f":"haout","v":""},{"$f":"haout","v":""},{"$f":"haout","v":""},{"$f":"haout","v":""},{"$f":"haout","v":""},{"$f":"haout","v":""},{"$f":"haout","v":""},{"$f":"haout","v":""},{"$f":"haout","v":""},{"$f":"haout","v":""},{"$f":"haout","v":""},{"$f":"haout","v":""},{"$f":"haout","v":""},{"$f":"haout","v":""}]
[{"$f":"Données!$H37","v":0},{"$f":"haout","v":""},{"$f":"haout","v":""},{"$f":"haout","v":""},{"$f":"haout","v":""},{"$f":"haout","v":""},{"$f":"haout","v":""},{"$f":"haout","v":""},{"$f":"haout","v":""},{"$f":"haout","v":""},{"$f":"haout","v":""},{"$f":"haout","v":""},{"$f":"haout","v":""},{"$f":"haout","v":""},{"$f":"haout","v":""},{"$f":"haout","v":""},{"$f":"haout","v":""},{"$f":"haout","v":""},{"$f":"haout","v":""},{"$f":"haout","v":""},{"$f":"haout","v":""},{"$f":"haout","v":""},{"$f":"haout","v":""},{"$f":"haout","v":""},{"$f":"haout","v":""},{"$f":"haout","v":""},{"$f":"haout","v":""},{"$f":"haout","v":""},{"$f":"haout","v":""},{"$f":"haout","v":""},{"$f":"haout","v":""},{"$f":"haout","v":""}]
[{"$f":"Données!$H38","v":0},{"$f":"haout","v":""},{"$f":"haout","v":""},{"$f":"haout","v":""},{"$f":"haout","v":""},{"$f":"haout","v":""},{"$f":"haout","v":""},{"$f":"haout","v":""},{"$f":"haout","v":""},{"$f":"haout","v":""},{"$f":"haout","v":""},{"$f":"haout","v":""},{"$f":"haout","v":""},{"$f":"haout","v":""},{"$f":"haout","v":""},{"$f":"haout","v":""},{"$f":"haout","v":""},{"$f":"haout","v":""},{"$f":"haout","v":""},{"$f":"haout","v":""},{"$f":"haout","v":""},{"$f":"haout","v":""},{"$f":"haout","v":""},{"$f":"haout","v":""},{"$f":"haout","v":""},{"$f":"haout","v":""},{"$f":"haout","v":""},{"$f":"haout","v":""},{"$f":"haout","v":""},{"$f":"haout","v":""},{"$f":"haout","v":""},{"$f":"haout","v":""}]
[{"$f":"Données!$H39","v":0},{"$f":"haout","v":""},{"$f":"haout","v":""},{"$f":"haout","v":""},{"$f":"haout","v":""},{"$f":"haout","v":""},{"$f":"haout","v":""},{"$f":"haout","v":""},{"$f":"haout","v":""},{"$f":"haout","v":""},{"$f":"haout","v":""},{"$f":"haout","v":""},{"$f":"haout","v":""},{"$f":"haout","v":""},{"$f":"haout","v":""},{"$f":"haout","v":""},{"$f":"haout","v":""},{"$f":"haout","v":""},{"$f":"haout","v":""},{"$f":"haout","v":""},{"$f":"haout","v":""},{"$f":"haout","v":""},{"$f":"haout","v":""},{"$f":"haout","v":""},{"$f":"haout","v":""},{"$f":"haout","v":""},{"$f":"haout","v":""},{"$f":"haout","v":""},{"$f":"haout","v":""},{"$f":"haout","v":""},{"$f":"haout","v":""},{"$f":"haout","v":""}]
[{"$f":"Données!$H40","v":0},{"$f":"haout","v":""},{"$f":"haout","v":""},{"$f":"haout","v":""},{"$f":"haout","v":""},{"$f":"haout","v":""},{"$f":"haout","v":""},{"$f":"haout","v":""},{"$f":"haout","v":""},{"$f":"haout","v":""},{"$f":"haout","v":""},{"$f":"haout","v":""},{"$f":"haout","v":""},{"$f":"haout","v":""},{"$f":"haout","v":""},{"$f":"haout","v":""},{"$f":"haout","v":""},{"$f":"haout","v":""},{"$f":"haout","v":""},{"$f":"haout","v":""},{"$f":"haout","v":""},{"$f":"haout","v":""},{"$f":"haout","v":""},{"$f":"haout","v":""},{"$f":"haout","v":""},{"$f":"haout","v":""},{"$f":"haout","v":""},{"$f":"haout","v":""},{"$f":"haout","v":""},{"$f":"haout","v":""},{"$f":"haout","v":""},{"$f":"haout","v":""}]
[{"$f":"Données!$H41","v":0},{"$f":"haout","v":""},{"$f":"haout","v":""},{"$f":"haout","v":""},{"$f":"haout","v":""},{"$f":"haout","v":""},{"$f":"haout","v":""},{"$f":"haout","v":""},{"$f":"haout","v":""},{"$f":"haout","v":""},{"$f":"haout","v":""},{"$f":"haout","v":""},{"$f":"haout","v":""},{"$f":"haout","v":""},{"$f":"haout","v":""},{"$f":"haout","v":""},{"$f":"haout","v":""},{"$f":"haout","v":""},{"$f":"haout","v":""},{"$f":"haout","v":""},{"$f":"haout","v":""},{"$f":"haout","v":""},{"$f":"haout","v":""},{"$f":"haout","v":""},{"$f":"haout","v":""},{"$f":"haout","v":""},{"$f":"haout","v":""},{"$f":"haout","v":""},{"$f":"haout","v":""},{"$f":"haout","v":""},{"$f":"haout","v":""},{"$f":"haout","v":""}]
[{"$f":"Données!$H42","v":"Psychologue"}]
[{"$f":"Données!$H43","v":"O"},{"$f":"haout","v":""},{"$f":"haout","v":""},{"$f":"haout","v":""},{"$f":"haout","v":""},{"$f":"haout","v":""},{"$f":"haout","v":""},{"$f":"haout","v":""},{"$f":"haout","v":""},{"$f":"haout","v":""},{"$f":"haout","v":""},{"$f":"haout","v":""},{"$f":"haout","v":""},{"$f":"haout","v":""},{"$f":"haout","v":""},{"$f":"haout","v":""},{"$f":"haout","v":""},{"$f":"haout","v":""},{"$f":"haout","v":""},{"$f":"haout","v":""},{"$f":"haout","v":""},{"$f":"haout","v":""},{"$f":"haout","v":""},{"$f":"haout","v":""},{"$f":"haout","v":""},{"$f":"haout","v":""},{"$f":"haout","v":""},{"$f":"haout","v":""},{"$f":"haout","v":""},{"$f":"haout","v":""},{"$f":"haout","v":""},{"$f":"haout","v":""}]
[{"$f":"Données!$H44","v":0},{"$f":"haout","v":""},{"$f":"haout","v":""},{"$f":"haout","v":""},{"$f":"haout","v":""},{"$f":"haout","v":""},{"$f":"haout","v":""},{"$f":"haout","v":""},{"$f":"haout","v":""},{"$f":"haout","v":""},{"$f":"haout","v":""},{"$f":"haout","v":""},{"$f":"haout","v":""},{"$f":"haout","v":""},{"$f":"haout","v":""},{"$f":"haout","v":""},{"$f":"haout","v":""},{"$f":"haout","v":""},{"$f":"haout","v":""},{"$f":"haout","v":""},{"$f":"haout","v":""},{"$f":"haout","v":""},{"$f":"haout","v":""},{"$f":"haout","v":""},{"$f":"haout","v":""},{"$f":"haout","v":""},{"$f":"haout","v":""},{"$f":"haout","v":""},{"$f":"haout","v":""},{"$f":"haout","v":""},{"$f":"haout","v":""},{"$f":"haout","v":""}]
[{"$f":"Données!$H45","v":0},{"$f":"haout","v":""},{"$f":"haout","v":""},{"$f":"haout","v":""},{"$f":"haout","v":""},{"$f":"haout","v":""},{"$f":"haout","v":""},{"$f":"haout","v":""},{"$f":"haout","v":""},{"$f":"haout","v":""},{"$f":"haout","v":""},{"$f":"haout","v":""},{"$f":"haout","v":""},{"$f":"haout","v":""},{"$f":"haout","v":""},{"$f":"haout","v":""},{"$f":"haout","v":""},{"$f":"haout","v":""},{"$f":"haout","v":""},{"$f":"haout","v":""},{"$f":"haout","v":""},{"$f":"haout","v":""},{"$f":"haout","v":""},{"$f":"haout","v":""},{"$f":"haout","v":""},{"$f":"haout","v":""},{"$f":"haout","v":""},{"$f":"haout","v":""},{"$f":"haout","v":""},{"$f":"haout","v":""},{"$f":"haout","v":""},{"$f":"haout","v":""}]
[{"$f":"Données!$H46","v":"Coordinatrice"}]
[{"$f":"Données!$H47","v":"P"},{"$f":"haout","v":""},{"$f":"haout","v":""},{"$f":"haout","v":""},{"$f":"haout","v":""},{"$f":"haout","v":""},{"$f":"haout","v":""},{"$f":"haout","v":""},{"$f":"haout","v":""},{"$f":"haout","v":""},{"$f":"haout","v":""},{"$f":"haout","v":""},{"$f":"haout","v":""},{"$f":"haout","v":""},{"$f":"haout","v":""},{"$f":"haout","v":""},{"$f":"haout","v":""},{"$f":"haout","v":""},{"$f":"haout","v":""},{"$f":"haout","v":""},{"$f":"haout","v":""},{"$f":"haout","v":""},{"$f":"haout","v":""},{"$f":"haout","v":""},{"$f":"haout","v":""},{"$f":"haout","v":""},{"$f":"haout","v":""},{"$f":"haout","v":""},{"$f":"haout","v":""},{"$f":"haout","v":""},{"$f":"haout","v":""},{"$f":"haout","v":""}]
[{"$f":"Données!$H48","v":0},{"$f":"haout","v":""},{"$f":"haout","v":""},{"$f":"haout","v":""},{"$f":"haout","v":""},{"$f":"haout","v":""},{"$f":"haout","v":""},{"$f":"haout","v":""},{"$f":"haout","v":""},{"$f":"haout","v":""},{"$f":"haout","v":""},{"$f":"haout","v":""},{"$f":"haout","v":""},{"$f":"haout","v":""},{"$f":"haout","v":""},{"$f":"haout","v":""},{"$f":"haout","v":""},{"$f":"haout","v":""},{"$f":"haout","v":""},{"$f":"haout","v":""},{"$f":"haout","v":""},{"$f":"haout","v":""},{"$f":"haout","v":""},{"$f":"haout","v":""},{"$f":"haout","v":""},{"$f":"haout","v":""},{"$f":"haout","v":""},{"$f":"haout","v":""},{"$f":"haout","v":""},{"$f":"haout","v":""},{"$f":"haout","v":""},{"$f":"haout","v":""}]
[{"$f":"Données!$H49","v":0},{"$f":"haout","v":""},{"$f":"haout","v":""},{"$f":"haout","v":""},{"$f":"haout","v":""},{"$f":"haout","v":""},{"$f":"haout","v":""},{"$f":"haout","v":""},{"$f":"haout","v":""},{"$f":"haout","v":""},{"$f":"haout","v":""},{"$f":"haout","v":""},{"$f":"haout","v":""},{"$f":"haout","v":""},{"$f":"haout","v":""},{"$f":"haout","v":""},{"$f":"haout","v":""},{"$f":"haout","v":""},{"$f":"haout","v":""},{"$f":"haout","v":""},{"$f":"haout","v":""},{"$f":"haout","v":""},{"$f":"haout","v":""},{"$f":"haout","v":""},{"$f":"haout","v":""},{"$f":"haout","v":""},{"$f":"haout","v":""},{"$f":"haout","v":""},{"$f":"haout","v":""},{"$f":"haout","v":""},{"$f":"haout","v":""},{"$f":"haout","v":""}]
[{"$f":"Données!$H50","v":0},{"$f":"haout","v":""},{"$f":"haout","v":""},{"$f":"haout","v":""},{"$f":"haout","v":""},{"$f":"haout","v":""},{"$f":"haout","v":""},{"$f":"haout","v":""},{"$f":"haout","v":""},{"$f":"haout","v":""},{"$f":"haout","v":""},{"$f":"haout","v":""},{"$f":"haout","v":""},{"$f":"haout","v":""},{"$f":"haout","v":""},{"$f":"haout","v":""},{"$f":"haout","v":""},{"$f":"haout","v":""},{"$f":"haout","v":""},{"$f":"haout","v":""},{"$f":"haout","v":""},{"$f":"haout","v":""},{"$f":"haout","v":""},{"$f":"haout","v":""},{"$f":"haout","v":""},{"$f":"haout","v":""},{"$f":"haout","v":""},{"$f":"haout","v":""},{"$f":"haout","v":""},{"$f":"haout","v":""},{"$f":"haout","v":""},{"$f":"haout","v":""}]
[{"$f":"Données!$H51","v":0},{"$f":"haout","v":""},{"$f":"haout","v":""},{"$f":"haout","v":""},{"$f":"haout","v":""},{"$f":"haout","v":""},{"$f":"haout","v":""},{"$f":"haout","v":""},{"$f":"haout","v":""},{"$f":"haout","v":""},{"$f":"haout","v":""},{"$f":"haout","v":""},{"$f":"haout","v":""},{"$f":"haout","v":""},{"$f":"haout","v":""},{"$f":"haout","v":""},{"$f":"haout","v":""},{"$f":"haout","v":""},{"$f":"haout","v":""},{"$f":"haout","v":""},{"$f":"haout","v":""},{"$f":"haout","v":""},{"$f":"haout","v":""},{"$f":"haout","v":""},{"$f":"haout","v":""},{"$f":"haout","v":""},{"$f":"haout","v":""},{"$f":"haout","v":""},{"$f":"haout","v":""},{"$f":"haout","v":""},{"$f":"haout","v":""},{"$f":"haout","v":""}]
[{"$f":"Données!$H52","v":"Chef de service"}]
[{"$f":"Données!$H53","v":"Q"},{"$f":"haout","v":""},{"$f":"haout","v":""},{"$f":"haout","v":""},{"$f":"haout","v":""},{"$f":"haout","v":""},{"$f":"haout","v":""},{"$f":"haout","v":""},{"$f":"haout","v":""},{"$f":"haout","v":""},{"$f":"haout","v":""},{"$f":"haout","v":""},{"$f":"haout","v":""},{"$f":"haout","v":""},{"$f":"haout","v":""},{"$f":"haout","v":""},{"$f":"haout","v":""},{"$f":"haout","v":""},{"$f":"haout","v":""},{"$f":"haout","v":""},{"$f":"haout","v":""},{"$f":"haout","v":""},{"$f":"haout","v":""},{"$f":"haout","v":""},{"$f":"haout","v":""},{"$f":"haout","v":""},{"$f":"haout","v":""},{"$f":"haout","v":""},{"$f":"haout","v":""},{"$f":"haout","v":""},{"$f":"haout","v":""},{"$f":"haout","v":""}]

{"sheet":"HSeptembre","index":22,"n_rows":56,"n_cols":31,"rows_kept":56,"cut":false,"hidden":false,"merged":[]}
[null,null,null,"Mois de","Septembre",{"$f":"An","v":2018}]
[null,{"$f":"DATE(An,Septembre,B7)","v":"2018-09-01"},"2018-09-02","2018-09-03","2018-09-04","2018-09-05","2018-09-06","2018-09-07","2018-09-08","2018-09-09","2018-09-10","2018-09-11","2018-09-12","2018-09-13","2018-09-14","2018-09-15","2018-09-16","2018-09-17","2018-09-18","2018-09-19","2018-09-20","2018-09-21","2018-09-22","2018-09-23","2018-09-24","2018-09-25","2018-09-26","2018-09-27","2018-09-28","2018-09-29","2018-09-30"]
[{"$f":"IF(Données!$L$5=\"\",\"Service\",Données!$L$5)","v":"Service"}]
[]
[]
["Jours",{"$f":"PROPER(TEXT(DATE(An,Septembre,B$7),\"jjjjjj\"))","v":"Samedi"},{"$f":"PROPER(TEXT(DATE(An,Septembre,C$7),\"jjjjjj\"))","v":"Dimanche"},"Lundi","Mardi","Mercredi","Jeudi","Vendredi","Samedi","Dimanche","Lundi","Mardi","Mercredi","Jeudi","Vendredi","Samedi","Dimanche","Lundi","Mardi","Mercredi","Jeudi","Vendredi","Samedi","Dimanche","Lundi","Mardi","Mercredi","Jeudi","Vendredi","Samedi","Dimanche"]
[null,1,{"$f":"B$7+1","v":2},{"$f":"C$7+1","v":3},4,5,6,7,8,9,10,11,12,13,14,15,16,17,18,19,20,21,22,23,24,25,26,27,28,29,30]
["Equipe de jour"]
[{"$f":"Données!$H6","v":"A"},{"$f":"hseptembre","v":""},{"$f":"hseptembre","v":""},{"$f":"hseptembre","v":""},{"$f":"hseptembre","v":""},{"$f":"hseptembre","v":""},{"$f":"hseptembre","v":""},{"$f":"hseptembre","v":""},{"$f":"hseptembre","v":""},{"$f":"hseptembre","v":""},{"$f":"hseptembre","v":""},{"$f":"hseptembre","v":""},{"$f":"hseptembre","v":""},{"$f":"hseptembre","v":""},{"$f":"hseptembre","v":""},{"$f":"hseptembre","v":""},{"$f":"hseptembre","v":""},{"$f":"hseptembre","v":""},{"$f":"hseptembre","v":""},{"$f":"hseptembre","v":""},{"$f":"hseptembre","v":""},{"$f":"hseptembre","v":""},{"$f":"hseptembre","v":""},{"$f":"hseptembre","v":""},{"$f":"hseptembre","v":""},{"$f":"hseptembre","v":""},{"$f":"hseptembre","v":""},{"$f":"hseptembre","v":""},{"$f":"hseptembre","v":""},{"$f":"hseptembre","v":""},{"$f":"hseptembre","v":""}]
[{"$f":"Données!$H7","v":0},{"$f":"hseptembre","v":""},{"$f":"hseptembre","v":""},{"$f":"hseptembre","v":""},{"$f":"hseptembre","v":""},{"$f":"hseptembre","v":""},{"$f":"hseptembre","v":""},{"$f":"hseptembre","v":""},{"$f":"hseptembre","v":""},{"$f":"hseptembre","v":""},{"$f":"hseptembre","v":""},{"$f":"hseptembre","v":""},{"$f":"hseptembre","v":""},{"$f":"hseptembre","v":""},{"$f":"hseptembre","v":""},{"$f":"hseptembre","v":""},{"$f":"hseptembre","v":""},{"$f":"hseptembre","v":""},{"$f":"hseptembre","v":""},{"$f":"hseptembre","v":""},{"$f":"hseptembre","v":""},{"$f":"hseptembre","v":""},{"$f":"hseptembre","v":""},{"$f":"hseptembre","v":""},{"$f":"hseptembre","v":""},{"$f":"hseptembre","v":""},{"$f":"hseptembre","v":""},{"$f":"hseptembre","v":""},{"$f":"hseptembre","v":""},{"$f":"hseptembre","v":""},{"$f":"hseptembre","v":""}]
[{"$f":"Données!$H8","v":0},{"$f":"hseptembre","v":""},{"$f":"hseptembre","v":""},{"$f":"hseptembre","v":""},{"$f":"hseptembre","v":""},{"$f":"hseptembre","v":""},{"$f":"hseptembre","v":""},{"$f":"hseptembre","v":""},{"$f":"hseptembre","v":""},{"$f":"hseptembre","v":""},{"$f":"hseptembre","v":""},{"$f":"hseptembre","v":""},{"$f":"hseptembre","v":""},{"$f":"hseptembre","v":""},{"$f":"hseptembre","v":""},{"$f":"hseptembre","v":""},{"$f":"hseptembre","v":""},{"$f":"hseptembre","v":""},{"$f":"hseptembre","v":""},{"$f":"hseptembre","v":""},{"$f":"hseptembre","v":""},{"$f":"hseptembre","v":""},{"$f":"hseptembre","v":""},{"$f":"hseptembre","v":""},{"$f":"hseptembre","v":""},{"$f":"hseptembre","v":""},{"$f":"hseptembre","v":""},{"$f":"hseptembre","v":""},{"$f":"hseptembre","v":""},{"$f":"hseptembre","v":""},{"$f":"hseptembre","v":""}]
[{"$f":"Données!$H9","v":0},{"$f":"hseptembre","v":""},{"$f":"hseptembre","v":""},{"$f":"hseptembre","v":""},{"$f":"hseptembre","v":""},{"$f":"hseptembre","v":""},{"$f":"hseptembre","v":""},{"$f":"hseptembre","v":""},{"$f":"hseptembre","v":""},{"$f":"hseptembre","v":""},{"$f":"hseptembre","v":""},{"$f":"hseptembre","v":""},{"$f":"hseptembre","v":""},{"$f":"hseptembre","v":""},{"$f":"hseptembre","v":""},{"$f":"hseptembre","v":""},{"$f":"hseptembre","v":""},{"$f":"hseptembre","v":""},{"$f":"hseptembre","v":""},{"$f":"hseptembre","v":""},{"$f":"hseptembre","v":""},{"$f":"hseptembre","v":""},{"$f":"hseptembre","v":""},{"$f":"hseptembre","v":""},{"$f":"hseptembre","v":""},{"$f":"hseptembre","v":""},{"$f":"hseptembre","v":""},{"$f":"hseptembre","v":""},{"$f":"hseptembre","v":""},{"$f":"hseptembre","v":""},{"$f":"hseptembre","v":""}]
[{"$f":"Données!$H10","v":0},{"$f":"hseptembre","v":""},{"$f":"hseptembre","v":""},{"$f":"hseptembre","v":""},{"$f":"hseptembre","v":""},{"$f":"hseptembre","v":""},{"$f":"hseptembre","v":""},{"$f":"hseptembre","v":""},{"$f":"hseptembre","v":""},{"$f":"hseptembre","v":""},{"$f":"hseptembre","v":""},{"$f":"hseptembre","v":""},{"$f":"hseptembre","v":""},{"$f":"hseptembre","v":""},{"$f":"hseptembre","v":""},{"$f":"hseptembre","v":""},{"$f":"hseptembre","v":""},{"$f":"hseptembre","v":""},{"$f":"hseptembre","v":""},{"$f":"hseptembre","v":""},{"$f":"hseptembre","v":""},{"$f":"hseptembre","v":""},{"$f":"hseptembre","v":""},{"$f":"hseptembre","v":""},{"$f":"hseptembre","v":""},{"$f":"hseptembre","v":""},{"$f":"hseptembre","v":""},{"$f":"hseptembre","v":""},{"$f":"hseptembre","v":""},{"$f":"hseptembre","v":""},{"$f":"hseptembre","v":""}]
[{"$f":"Données!$H11","v":0},{"$f":"hseptembre","v":""},{"$f":"hseptembre","v":""},{"$f":"hseptembre","v":""},{"$f":"hseptembre","v":""},{"$f":"hseptembre","v":""},{"$f":"hseptembre","v":""},{"$f":"hseptembre","v":""},{"$f":"hseptembre","v":""},{"$f":"hseptembre","v":""},{"$f":"hseptembre","v":""},{"$f":"hseptembre","v":""},{"$f":"hseptembre","v":""},{"$f":"hseptembre","v":""},{"$f":"hseptembre","v":""},{"$f":"hseptembre","v":""},{"$f":"hseptembre","v":""},{"$f":"hseptembre","v":""},{"$f":"hseptembre","v":""},{"$f":"hseptembre","v":""},{"$f":"hseptembre","v":""},{"$f":"hseptembre","v":""},{"$f":"hseptembre","v":""},{"$f":"hseptembre","v":""},{"$f":"hseptembre","v":""},{"$f":"hseptembre","v":""},{"$f":"hseptembre","v":""},{"$f":"hseptembre","v":""},{"$f":"hseptembre","v":""},{"$f":"hseptembre","v":""},{"$f":"hseptembre","v":""}]
[{"$f":"Données!$H12","v":0},{"$f":"hseptembre","v":""},{"$f":"hseptembre","v":""},{"$f":"hseptembre","v":""},{"$f":"hseptembre","v":""},{"$f":"hseptembre","v":""},{"$f":"hseptembre","v":""},{"$f":"hseptembre","v":""},{"$f":"hseptembre","v":""},{"$f":"hseptembre","v":""},{"$f":"hseptembre","v":""},{"$f":"hseptembre","v":""},{"$f":"hseptembre","v":""},{"$f":"hseptembre","v":""},{"$f":"hseptembre","v":""},{"$f":"hseptembre","v":""},{"$f":"hseptembre","v":""},{"$f":"hseptembre","v":""},{"$f":"hseptembre","v":""},{"$f":"hseptembre","v":""},{"$f":"hseptembre","v":""},{"$f":"hseptembre","v":""},{"$f":"hseptembre","v":""},{"$f":"hseptembre","v":""},{"$f":"hseptembre","v":""},{"$f":"hseptembre","v":""},{"$f":"hseptembre","v":""},{"$f":"hseptembre","v":""},{"$f":"hseptembre","v":""},{"$f":"hseptembre","v":""},{"$f":"hseptembre","v":""}]
[{"$f":"Données!$H13","v":0},{"$f":"hseptembre","v":""},{"$f":"hseptembre","v":""},{"$f":"hseptembre","v":""},{"$f":"hseptembre","v":""},{"$f":"hseptembre","v":""},{"$f":"hseptembre","v":""},{"$f":"hseptembre","v":""},{"$f":"hseptembre","v":""},{"$f":"hseptembre","v":""},{"$f":"hseptembre","v":""},{"$f":"hseptembre","v":""},{"$f":"hseptembre","v":""},{"$f":"hseptembre","v":""},{"$f":"hseptembre","v":""},{"$f":"hseptembre","v":""},{"$f":"hseptembre","v":""},{"$f":"hseptembre","v":""},{"$f":"hseptembre","v":""},{"$f":"hseptembre","v":""},{"$f":"hseptembre","v":""},{"$f":"hseptembre","v":""},{"$f":"hseptembre","v":""},{"$f":"hseptembre","v":""},{"$f":"hseptembre","v":""},{"$f":"hseptembre","v":""},{"$f":"hseptembre","v":""},{"$f":"hseptembre","v":""},{"$f":"hseptembre","v":""},{"$f":"hseptembre","v":""},{"$f":"hseptembre","v":""}]
[{"$f":"Données!$H14","v":0},{"$f":"hseptembre","v":""},{"$f":"hseptembre","v":""},{"$f":"hseptembre","v":""},{"$f":"hseptembre","v":""},{"$f":"hseptembre","v":""},{"$f":"hseptembre","v":""},{"$f":"hseptembre","v":""},{"$f":"hseptembre","v":""},{"$f":"hseptembre","v":""},{"$f":"hseptembre","v":""},{"$f":"hseptembre","v":""},{"$f":"hseptembre","v":""},{"$f":"hseptembre","v":""},{"$f":"hseptembre","v":""},{"$f":"hseptembre","v":""},{"$f":"hseptembre","v":""},{"$f":"hseptembre","v":""},{"$f":"hseptembre","v":""},{"$f":"hseptembre","v":""},{"$f":"hseptembre","v":""},{"$f":"hseptembre","v":""},{"$f":"hseptembre","v":""},{"$f":"hseptembre","v":""},{"$f":"hseptembre","v":""},{"$f":"hseptembre","v":""},{"$f":"hseptembre","v":""},{"$f":"hseptembre","v":""},{"$f":"hseptembre","v":""},{"$f":"hseptembre","v":""},{"$f":"hseptembre","v":""}]
[{"$f":"Données!$H15","v":0},{"$f":"hseptembre","v":""},{"$f":"hseptembre","v":""},{"$f":"hseptembre","v":""},{"$f":"hseptembre","v":""},{"$f":"hseptembre","v":""},{"$f":"hseptembre","v":""},{"$f":"hseptembre","v":""},{"$f":"hseptembre","v":""},{"$f":"hseptembre","v":""},{"$f":"hseptembre","v":""},{"$f":"hseptembre","v":""},{"$f":"hseptembre","v":""},{"$f":"hseptembre","v":""},{"$f":"hseptembre","v":""},{"$f":"hseptembre","v":""},{"$f":"hseptembre","v":""},{"$f":"hseptembre","v":""},{"$f":"hseptembre","v":""},{"$f":"hseptembre","v":""},{"$f":"hseptembre","v":""},{"$f":"hseptembre","v":""},{"$f":"hseptembre","v":""},{"$f":"hseptembre","v":""},{"$f":"hseptembre","v":""},{"$f":"hseptembre","v":""},{"$f":"hseptembre","v":""},{"$f":"hseptembre","v":""},{"$f":"hseptembre","v":""},{"$f":"hseptembre","v":""},{"$f":"hseptembre","v":""}]
[{"$f":"Données!$H16","v":0},{"$f":"hseptembre","v":""},{"$f":"hseptembre","v":""},{"$f":"hseptembre","v":""},{"$f":"hseptembre","v":""},{"$f":"hseptembre","v":""},{"$f":"hseptembre","v":""},{"$f":"hseptembre","v":""},{"$f":"hseptembre","v":""},{"$f":"hseptembre","v":""},{"$f":"hseptembre","v":""},{"$f":"hseptembre","v":""},{"$f":"hseptembre","v":""},{"$f":"hseptembre","v":""},{"$f":"hseptembre","v":""},{"$f":"hseptembre","v":""},{"$f":"hseptembre","v":""},{"$f":"hseptembre","v":""},{"$f":"hseptembre","v":""},{"$f":"hseptembre","v":""},{"$f":"hseptembre","v":""},{"$f":"hseptembre","v":""},{"$f":"hseptembre","v":""},{"$f":"hseptembre","v":""},{"$f":"hseptembre","v":""},{"$f":"hseptembre","v":""},{"$f":"hseptembre","v":""},{"$f":"hseptembre","v":""},{"$f":"hseptembre","v":""},{"$f":"hseptembre","v":""},{"$f":"hseptembre","v":""}]
[{"$f":"Données!$H17","v":0},{"$f":"hseptembre","v":""},{"$f":"hseptembre","v":""},{"$f":"hseptembre","v":""},{"$f":"hseptembre","v":""},{"$f":"hseptembre","v":""},{"$f":"hseptembre","v":""},{"$f":"hseptembre","v":""},{"$f":"hseptembre","v":""},{"$f":"hseptembre","v":""},{"$f":"hseptembre","v":""},{"$f":"hseptembre","v":""},{"$f":"hseptembre","v":""},{"$f":"hseptembre","v":""},{"$f":"hseptembre","v":""},{"$f":"hseptembre","v":""},{"$f":"hseptembre","v":""},{"$f":"hseptembre","v":""},{"$f":"hseptembre","v":""},{"$f":"hseptembre","v":""},{"$f":"hseptembre","v":""},{"$f":"hseptembre","v":""},{"$f":"hseptembre","v":""},{"$f":"hseptembre","v":""},{"$f":"hseptembre","v":""},{"$f":"hseptembre","v":""},{"$f":"hseptembre","v":""},{"$f":"hseptembre","v":""},{"$f":"hseptembre","v":""},{"$f":"hseptembre","v":""},{"$f":"hseptembre","v":""}]
[{"$f":"Données!$H18","v":0},{"$f":"hseptembre","v":""},{"$f":"hseptembre","v":""},{"$f":"hseptembre","v":""},{"$f":"hseptembre","v":""},{"$f":"hseptembre","v":""},{"$f":"hseptembre","v":""},{"$f":"hseptembre","v":""},{"$f":"hseptembre","v":""},{"$f":"hseptembre","v":""},{"$f":"hseptembre","v":""},{"$f":"hseptembre","v":""},{"$f":"hseptembre","v":""},{"$f":"hseptembre","v":""},{"$f":"hseptembre","v":""},{"$f":"hseptembre","v":""},{"$f":"hseptembre","v":""},{"$f":"hseptembre","v":""},{"$f":"hseptembre","v":""},{"$f":"hseptembre","v":""},{"$f":"hseptembre","v":""},{"$f":"hseptembre","v":""},{"$f":"hseptembre","v":""},{"$f":"hseptembre","v":""},{"$f":"hseptembre","v":""},{"$f":"hseptembre","v":""},{"$f":"hseptembre","v":""},{"$f":"hseptembre","v":""},{"$f":"hseptembre","v":""},{"$f":"hseptembre","v":""},{"$f":"hseptembre","v":""}]
[{"$f":"Données!$H19","v":0},{"$f":"hseptembre","v":""},{"$f":"hseptembre","v":""},{"$f":"hseptembre","v":""},{"$f":"hseptembre","v":""},{"$f":"hseptembre","v":""},{"$f":"hseptembre","v":""},{"$f":"hseptembre","v":""},{"$f":"hseptembre","v":""},{"$f":"hseptembre","v":""},{"$f":"hseptembre","v":""},{"$f":"hseptembre","v":""},{"$f":"hseptembre","v":""},{"$f":"hseptembre","v":""},{"$f":"hseptembre","v":""},{"$f":"hseptembre","v":""},{"$f":"hseptembre","v":""},{"$f":"hseptembre","v":""},{"$f":"hseptembre","v":""},{"$f":"hseptembre","v":""},{"$f":"hseptembre","v":""},{"$f":"hseptembre","v":""},{"$f":"hseptembre","v":""},{"$f":"hseptembre","v":""},{"$f":"hseptembre","v":""},{"$f":"hseptembre","v":""},{"$f":"hseptembre","v":""},{"$f":"hseptembre","v":""},{"$f":"hseptembre","v":""},{"$f":"hseptembre","v":""},{"$f":"hseptembre","v":""}]
[{"$f":"Données!$H20","v":0},{"$f":"hseptembre","v":""},{"$f":"hseptembre","v":""},{"$f":"hseptembre","v":""},{"$f":"hseptembre","v":""},{"$f":"hseptembre","v":""},{"$f":"hseptembre","v":""},{"$f":"hseptembre","v":""},{"$f":"hseptembre","v":""},{"$f":"hseptembre","v":""},{"$f":"hseptembre","v":""},{"$f":"hseptembre","v":""},{"$f":"hseptembre","v":""},{"$f":"hseptembre","v":""},{"$f":"hseptembre","v":""},{"$f":"hseptembre","v":""},{"$f":"hseptembre","v":""},{"$f":"hseptembre","v":""},{"$f":"hseptembre","v":""},{"$f":"hseptembre","v":""},{"$f":"hseptembre","v":""},{"$f":"hseptembre","v":""},{"$f":"hseptembre","v":""},{"$f":"hseptembre","v":""},{"$f":"hseptembre","v":""},{"$f":"hseptembre","v":""},{"$f":"hseptembre","v":""},{"$f":"hseptembre","v":""},{"$f":"hseptembre","v":""},{"$f":"hseptembre","v":""},{"$f":"hseptembre","v":""}]
[{"$f":"Données!$H21","v":0},{"$f":"hseptembre","v":""},{"$f":"hseptembre","v":""},{"$f":"hseptembre","v":""},{"$f":"hseptembre","v":""},{"$f":"hseptembre","v":""},{"$f":"hseptembre","v":""},{"$f":"hseptembre","v":""},{"$f":"hseptembre","v":""},{"$f":"hseptembre","v":""},{"$f":"hseptembre","v":""},{"$f":"hseptembre","v":""},{"$f":"hseptembre","v":""},{"$f":"hseptembre","v":""},{"$f":"hseptembre","v":""},{"$f":"hseptembre","v":""},{"$f":"hseptembre","v":""},{"$f":"hseptembre","v":""},{"$f":"hseptembre","v":""},{"$f":"hseptembre","v":""},{"$f":"hseptembre","v":""},{"$f":"hseptembre","v":""},{"$f":"hseptembre","v":""},{"$f":"hseptembre","v":""},{"$f":"hseptembre","v":""},{"$f":"hseptembre","v":""},{"$f":"hseptembre","v":""},{"$f":"hseptembre","v":""},{"$f":"hseptembre","v":""},{"$f":"hseptembre","v":""},{"$f":"hseptembre","v":""}]
[{"$f":"Données!$H22","v":"Equipe de nuit"}]
[{"$f":"Données!$H23","v":"K"},{"$f":"hseptembre","v":""},{"$f":"hseptembre","v":""},{"$f":"hseptembre","v":""},{"$f":"hseptembre","v":""},{"$f":"hseptembre","v":""},{"$f":"hseptembre","v":""},{"$f":"hseptembre","v":""},{"$f":"hseptembre","v":""},{"$f":"hseptembre","v":""},{"$f":"hseptembre","v":""},{"$f":"hseptembre","v":""},{"$f":"hseptembre","v":""},{"$f":"hseptembre","v":""},{"$f":"hseptembre","v":""},{"$f":"hseptembre","v":""},{"$f":"hseptembre","v":""},{"$f":"hseptembre","v":""},{"$f":"hseptembre","v":""},{"$f":"hseptembre","v":""},{"$f":"hseptembre","v":""},{"$f":"hseptembre","v":""},{"$f":"hseptembre","v":""},{"$f":"hseptembre","v":""},{"$f":"hseptembre","v":""},{"$f":"hseptembre","v":""},{"$f":"hseptembre","v":""},{"$f":"hseptembre","v":""},{"$f":"hseptembre","v":""},{"$f":"hseptembre","v":""},{"$f":"hseptembre","v":""}]
[{"$f":"Données!$H24","v":0},{"$f":"hseptembre","v":""},{"$f":"hseptembre","v":""},{"$f":"hseptembre","v":""},{"$f":"hseptembre","v":""},{"$f":"hseptembre","v":""},{"$f":"hseptembre","v":""},{"$f":"hseptembre","v":""},{"$f":"hseptembre","v":""},{"$f":"hseptembre","v":""},{"$f":"hseptembre","v":""},{"$f":"hseptembre","v":""},{"$f":"hseptembre","v":""},{"$f":"hseptembre","v":""},{"$f":"hseptembre","v":""},{"$f":"hseptembre","v":""},{"$f":"hseptembre","v":""},{"$f":"hseptembre","v":""},{"$f":"hseptembre","v":""},{"$f":"hseptembre","v":""},{"$f":"hseptembre","v":""},{"$f":"hseptembre","v":""},{"$f":"hseptembre","v":""},{"$f":"hseptembre","v":""},{"$f":"hseptembre","v":""},{"$f":"hseptembre","v":""},{"$f":"hseptembre","v":""},{"$f":"hseptembre","v":""},{"$f":"hseptembre","v":""},{"$f":"hseptembre","v":""},{"$f":"hseptembre","v":""}]
[{"$f":"Données!$H25","v":0},{"$f":"hseptembre","v":""},{"$f":"hseptembre","v":""},{"$f":"hseptembre","v":""},{"$f":"hseptembre","v":""},{"$f":"hseptembre","v":""},{"$f":"hseptembre","v":""},{"$f":"hseptembre","v":""},{"$f":"hseptembre","v":""},{"$f":"hseptembre","v":""},{"$f":"hseptembre","v":""},{"$f":"hseptembre","v":""},{"$f":"hseptembre","v":""},{"$f":"hseptembre","v":""},{"$f":"hseptembre","v":""},{"$f":"hseptembre","v":""},{"$f":"hseptembre","v":""},{"$f":"hseptembre","v":""},{"$f":"hseptembre","v":""},{"$f":"hseptembre","v":""},{"$f":"hseptembre","v":""},{"$f":"hseptembre","v":""},{"$f":"hseptembre","v":""},{"$f":"hseptembre","v":""},{"$f":"hseptembre","v":""},{"$f":"hseptembre","v":""},{"$f":"hseptembre","v":""},{"$f":"hseptembre","v":""},{"$f":"hseptembre","v":""},{"$f":"hseptembre","v":""},{"$f":"hseptembre","v":""}]
[{"$f":"Données!$H26","v":0},{"$f":"hseptembre","v":""},{"$f":"hseptembre","v":""},{"$f":"hseptembre","v":""},{"$f":"hseptembre","v":""},{"$f":"hseptembre","v":""},{"$f":"hseptembre","v":""},{"$f":"hseptembre","v":""},{"$f":"hseptembre","v":""},{"$f":"hseptembre","v":""},{"$f":"hseptembre","v":""},{"$f":"hseptembre","v":""},{"$f":"hseptembre","v":""},{"$f":"hseptembre","v":""},{"$f":"hseptembre","v":""},{"$f":"hseptembre","v":""},{"$f":"hseptembre","v":""},{"$f":"hseptembre","v":""},{"$f":"hseptembre","v":""},{"$f":"hseptembre","v":""},{"$f":"hseptembre","v":""},{"$f":"hseptembre","v":""},{"$f":"hseptembre","v":""},{"$f":"hseptembre","v":""},{"$f":"hseptembre","v":""},{"$f":"hseptembre","v":""},{"$f":"hseptembre","v":""},{"$f":"hseptembre","v":""},{"$f":"hseptembre","v":""},{"$f":"hseptembre","v":""},{"$f":"hseptembre","v":""}]
[{"$f":"Données!$H27","v":0},{"$f":"hseptembre","v":""},{"$f":"hseptembre","v":""},{"$f":"hseptembre","v":""},{"$f":"hseptembre","v":""},{"$f":"hseptembre","v":""},{"$f":"hseptembre","v":""},{"$f":"hseptembre","v":""},{"$f":"hseptembre","v":""},{"$f":"hseptembre","v":""},{"$f":"hseptembre","v":""},{"$f":"hseptembre","v":""},{"$f":"hseptembre","v":""},{"$f":"hseptembre","v":""},{"$f":"hseptembre","v":""},{"$f":"hseptembre","v":""},{"$f":"hseptembre","v":""},{"$f":"hseptembre","v":""},{"$f":"hseptembre","v":""},{"$f":"hseptembre","v":""},{"$f":"hseptembre","v":""},{"$f":"hseptembre","v":""},{"$f":"hseptembre","v":""},{"$f":"hseptembre","v":""},{"$f":"hseptembre","v":""},{"$f":"hseptembre","v":""},{"$f":"hseptembre","v":""},{"$f":"hseptembre","v":""},{"$f":"hseptembre","v":""},{"$f":"hseptembre","v":""},{"$f":"hseptembre","v":""}]
[{"$f":"Données!$H28","v":0},{"$f":"hseptembre","v":""},{"$f":"hseptembre","v":""},{"$f":"hseptembre","v":""},{"$f":"hseptembre","v":""},{"$f":"hseptembre","v":""},{"$f":"hseptembre","v":""},{"$f":"hseptembre","v":""},{"$f":"hseptembre","v":""},{"$f":"hseptembre","v":""},{"$f":"hseptembre","v":""},{"$f":"hseptembre","v":""},{"$f":"hseptembre","v":""},{"$f":"hseptembre","v":""},{"$f":"hseptembre","v":""},{"$f":"hseptembre","v":""},{"$f":"hseptembre","v":""},{"$f":"hseptembre","v":""},{"$f":"hseptembre","v":""},{"$f":"hseptembre","v":""},{"$f":"hseptembre","v":""},{"$f":"hseptembre","v":""},{"$f":"hseptembre","v":""},{"$f":"hseptembre","v":""},{"$f":"hseptembre","v":""},{"$f":"hseptembre","v":""},{"$f":"hseptembre","v":""},{"$f":"hseptembre","v":""},{"$f":"hseptembre","v":""},{"$f":"hseptembre","v":""},{"$f":"hseptembre","v":""}]
[{"$f":"Données!$H29","v":0},{"$f":"hseptembre","v":""},{"$f":"hseptembre","v":""},{"$f":"hseptembre","v":""},{"$f":"hseptembre","v":""},{"$f":"hseptembre","v":""},{"$f":"hseptembre","v":""},{"$f":"hseptembre","v":""},{"$f":"hseptembre","v":""},{"$f":"hseptembre","v":""},{"$f":"hseptembre","v":""},{"$f":"hseptembre","v":""},{"$f":"hseptembre","v":""},{"$f":"hseptembre","v":""},{"$f":"hseptembre","v":""},{"$f":"hseptembre","v":""},{"$f":"hseptembre","v":""},{"$f":"hseptembre","v":""},{"$f":"hseptembre","v":""},{"$f":"hseptembre","v":""},{"$f":"hseptembre","v":""},{"$f":"hseptembre","v":""},{"$f":"hseptembre","v":""},{"$f":"hseptembre","v":""},{"$f":"hseptembre","v":""},{"$f":"hseptembre","v":""},{"$f":"hseptembre","v":""},{"$f":"hseptembre","v":""},{"$f":"hseptembre","v":""},{"$f":"hseptembre","v":""},{"$f":"hseptembre","v":""}]
[{"$f":"Données!$H30","v":0},{"$f":"hseptembre","v":""},{"$f":"hseptembre","v":""},{"$f":"hseptembre","v":""},{"$f":"hseptembre","v":""},{"$f":"hseptembre","v":""},{"$f":"hseptembre","v":""},{"$f":"hseptembre","v":""},{"$f":"hseptembre","v":""},{"$f":"hseptembre","v":""},{"$f":"hseptembre","v":""},{"$f":"hseptembre","v":""},{"$f":"hseptembre","v":""},{"$f":"hseptembre","v":""},{"$f":"hseptembre","v":""},{"$f":"hseptembre","v":""},{"$f":"hseptembre","v":""},{"$f":"hseptembre","v":""},{"$f":"hseptembre","v":""},{"$f":"hseptembre","v":""},{"$f":"hseptembre","v":""},{"$f":"hseptembre","v":""},{"$f":"hseptembre","v":""},{"$f":"hseptembre","v":""},{"$f":"hseptembre","v":""},{"$f":"hseptembre","v":""},{"$f":"hseptembre","v":""},{"$f":"hseptembre","v":""},{"$f":"hseptembre","v":""},{"$f":"hseptembre","v":""},{"$f":"hseptembre","v":""}]
[{"$f":"Données!$H31","v":0},{"$f":"hseptembre","v":""},{"$f":"hseptembre","v":""},{"$f":"hseptembre","v":""},{"$f":"hseptembre","v":""},{"$f":"hseptembre","v":""},{"$f":"hseptembre","v":""},{"$f":"hseptembre","v":""},{"$f":"hseptembre","v":""},{"$f":"hseptembre","v":""},{"$f":"hseptembre","v":""},{"$f":"hseptembre","v":""},{"$f":"hseptembre","v":""},{"$f":"hseptembre","v":""},{"$f":"hseptembre","v":""},{"$f":"hseptembre","v":""},{"$f":"hseptembre","v":""},{"$f":"hseptembre","v":""},{"$f":"hseptembre","v":""},{"$f":"hseptembre","v":""},{"$f":"hseptembre","v":""},{"$f":"hseptembre","v":""},{"$f":"hseptembre","v":""},{"$f":"hseptembre","v":""},{"$f":"hseptembre","v":""},{"$f":"hseptembre","v":""},{"$f":"hseptembre","v":""},{"$f":"hseptembre","v":""},{"$f":"hseptembre","v":""},{"$f":"hseptembre","v":""},{"$f":"hseptembre","v":""}]
[{"$f":"Données!$H32","v":"Maitresse de maison"}]
[{"$f":"Données!$H33","v":"N"},{"$f":"hseptembre","v":""},{"$f":"hseptembre","v":""},{"$f":"hseptembre","v":""},{"$f":"hseptembre","v":""},{"$f":"hseptembre","v":""},{"$f":"hseptembre","v":""},{"$f":"hseptembre","v":""},{"$f":"hseptembre","v":""},{"$f":"hseptembre","v":""},{"$f":"hseptembre","v":""},{"$f":"hseptembre","v":""},{"$f":"hseptembre","v":""},{"$f":"hseptembre","v":""},{"$f":"hseptembre","v":""},{"$f":"hseptembre","v":""},{"$f":"hseptembre","v":""},{"$f":"hseptembre","v":""},{"$f":"hseptembre","v":""},{"$f":"hseptembre","v":""},{"$f":"hseptembre","v":""},{"$f":"hseptembre","v":""},{"$f":"hseptembre","v":""},{"$f":"hseptembre","v":""},{"$f":"hseptembre","v":""},{"$f":"hseptembre","v":""},{"$f":"hseptembre","v":""},{"$f":"hseptembre","v":""},{"$f":"hseptembre","v":""},{"$f":"hseptembre","v":""},{"$f":"hseptembre","v":""}]
[{"$f":"Données!$H34","v":0},{"$f":"hseptembre","v":""},{"$f":"hseptembre","v":""},{"$f":"hseptembre","v":""},{"$f":"hseptembre","v":""},{"$f":"hseptembre","v":""},{"$f":"hseptembre","v":""},{"$f":"hseptembre","v":""},{"$f":"hseptembre","v":""},{"$f":"hseptembre","v":""},{"$f":"hseptembre","v":""},{"$f":"hseptembre","v":""},{"$f":"hseptembre","v":""},{"$f":"hseptembre","v":""},{"$f":"hseptembre","v":""},{"$f":"hseptembre","v":""},{"$f":"hseptembre","v":""},{"$f":"hseptembre","v":""},{"$f":"hseptembre","v":""},{"$f":"hseptembre","v":""},{"$f":"hseptembre","v":""},{"$f":"hseptembre","v":""},{"$f":"hseptembre","v":""},{"$f":"hseptembre","v":""},{"$f":"hseptembre","v":""},{"$f":"hseptembre","v":""},{"$f":"hseptembre","v":""},{"$f":"hseptembre","v":""},{"$f":"hseptembre","v":""},{"$f":"hseptembre","v":""},{"$f":"hseptembre","v":""}]
[{"$f":"Données!$H35","v":0},{"$f":"hseptembre","v":""},{"$f":"hseptembre","v":""},{"$f":"hseptembre","v":""},{"$f":"hseptembre","v":""},{"$f":"hseptembre","v":""},{"$f":"hseptembre","v":""},{"$f":"hseptembre","v":""},{"$f":"hseptembre","v":""},{"$f":"hseptembre","v":""},{"$f":"hseptembre","v":""},{"$f":"hseptembre","v":""},{"$f":"hseptembre","v":""},{"$f":"hseptembre","v":""},{"$f":"hseptembre","v":""},{"$f":"hseptembre","v":""},{"$f":"hseptembre","v":""},{"$f":"hseptembre","v":""},{"$f":"hseptembre","v":""},{"$f":"hseptembre","v":""},{"$f":"hseptembre","v":""},{"$f":"hseptembre","v":""},{"$f":"hseptembre","v":""},{"$f":"hseptembre","v":""},{"$f":"hseptembre","v":""},{"$f":"hseptembre","v":""},{"$f":"hseptembre","v":""},{"$f":"hseptembre","v":""},{"$f":"hseptembre","v":""},{"$f":"hseptembre","v":""},{"$f":"hseptembre","v":""}]
[{"$f":"Données!$H36","v":0},{"$f":"hseptembre","v":""},{"$f":"hseptembre","v":""},{"$f":"hseptembre","v":""},{"$f":"hseptembre","v":""},{"$f":"hseptembre","v":""},{"$f":"hseptembre","v":""},{"$f":"hseptembre","v":""},{"$f":"hseptembre","v":""},{"$f":"hseptembre","v":""},{"$f":"hseptembre","v":""},{"$f":"hseptembre","v":""},{"$f":"hseptembre","v":""},{"$f":"hseptembre","v":""},{"$f":"hseptembre","v":""},{"$f":"hseptembre","v":""},{"$f":"hseptembre","v":""},{"$f":"hseptembre","v":""},{"$f":"hseptembre","v":""},{"$f":"hseptembre","v":""},{"$f":"hseptembre","v":""},{"$f":"hseptembre","v":""},{"$f":"hseptembre","v":""},{"$f":"hseptembre","v":""},{"$f":"hseptembre","v":""},{"$f":"hseptembre","v":""},{"$f":"hseptembre","v":""},{"$f":"hseptembre","v":""},{"$f":"hseptembre","v":""},{"$f":"hseptembre","v":""},{"$f":"hseptembre","v":""}]
[{"$f":"Données!$H37","v":0},{"$f":"hseptembre","v":""},{"$f":"hseptembre","v":""},{"$f":"hseptembre","v":""},{"$f":"hseptembre","v":""},{"$f":"hseptembre","v":""},{"$f":"hseptembre","v":""},{"$f":"hseptembre","v":""},{"$f":"hseptembre","v":""},{"$f":"hseptembre","v":""},{"$f":"hseptembre","v":""},{"$f":"hseptembre","v":""},{"$f":"hseptembre","v":""},{"$f":"hseptembre","v":""},{"$f":"hseptembre","v":""},{"$f":"hseptembre","v":""},{"$f":"hseptembre","v":""},{"$f":"hseptembre","v":""},{"$f":"hseptembre","v":""},{"$f":"hseptembre","v":""},{"$f":"hseptembre","v":""},{"$f":"hseptembre","v":""},{"$f":"hseptembre","v":""},{"$f":"hseptembre","v":""},{"$f":"hseptembre","v":""},{"$f":"hseptembre","v":""},{"$f":"hseptembre","v":""},{"$f":"hseptembre","v":""},{"$f":"hseptembre","v":""},{"$f":"hseptembre","v":""},{"$f":"hseptembre","v":""}]
[{"$f":"Données!$H38","v":0},{"$f":"hseptembre","v":""},{"$f":"hseptembre","v":""},{"$f":"hseptembre","v":""},{"$f":"hseptembre","v":""},{"$f":"hseptembre","v":""},{"$f":"hseptembre","v":""},{"$f":"hseptembre","v":""},{"$f":"hseptembre","v":""},{"$f":"hseptembre","v":""},{"$f":"hseptembre","v":""},{"$f":"hseptembre","v":""},{"$f":"hseptembre","v":""},{"$f":"hseptembre","v":""},{"$f":"hseptembre","v":""},{"$f":"hseptembre","v":""},{"$f":"hseptembre","v":""},{"$f":"hseptembre","v":""},{"$f":"hseptembre","v":""},{"$f":"hseptembre","v":""},{"$f":"hseptembre","v":""},{"$f":"hseptembre","v":""},{"$f":"hseptembre","v":""},{"$f":"hseptembre","v":""},{"$f":"hseptembre","v":""},{"$f":"hseptembre","v":""},{"$f":"hseptembre","v":""},{"$f":"hseptembre","v":""},{"$f":"hseptembre","v":""},{"$f":"hseptembre","v":""},{"$f":"hseptembre","v":""}]
[{"$f":"Données!$H39","v":0},{"$f":"hseptembre","v":""},{"$f":"hseptembre","v":""},{"$f":"hseptembre","v":""},{"$f":"hseptembre","v":""},{"$f":"hseptembre","v":""},{"$f":"hseptembre","v":""},{"$f":"hseptembre","v":""},{"$f":"hseptembre","v":""},{"$f":"hseptembre","v":""},{"$f":"hseptembre","v":""},{"$f":"hseptembre","v":""},{"$f":"hseptembre","v":""},{"$f":"hseptembre","v":""},{"$f":"hseptembre","v":""},{"$f":"hseptembre","v":""},{"$f":"hseptembre","v":""},{"$f":"hseptembre","v":""},{"$f":"hseptembre","v":""},{"$f":"hseptembre","v":""},{"$f":"hseptembre","v":""},{"$f":"hseptembre","v":""},{"$f":"hseptembre","v":""},{"$f":"hseptembre","v":""},{"$f":"hseptembre","v":""},{"$f":"hseptembre","v":""},{"$f":"hseptembre","v":""},{"$f":"hseptembre","v":""},{"$f":"hseptembre","v":""},{"$f":"hseptembre","v":""},{"$f":"hseptembre","v":""}]
[{"$f":"Données!$H40","v":0},{"$f":"hseptembre","v":""},{"$f":"hseptembre","v":""},{"$f":"hseptembre","v":""},{"$f":"hseptembre","v":""},{"$f":"hseptembre","v":""},{"$f":"hseptembre","v":""},{"$f":"hseptembre","v":""},{"$f":"hseptembre","v":""},{"$f":"hseptembre","v":""},{"$f":"hseptembre","v":""},{"$f":"hseptembre","v":""},{"$f":"hseptembre","v":""},{"$f":"hseptembre","v":""},{"$f":"hseptembre","v":""},{"$f":"hseptembre","v":""},{"$f":"hseptembre","v":""},{"$f":"hseptembre","v":""},{"$f":"hseptembre","v":""},{"$f":"hseptembre","v":""},{"$f":"hseptembre","v":""},{"$f":"hseptembre","v":""},{"$f":"hseptembre","v":""},{"$f":"hseptembre","v":""},{"$f":"hseptembre","v":""},{"$f":"hseptembre","v":""},{"$f":"hseptembre","v":""},{"$f":"hseptembre","v":""},{"$f":"hseptembre","v":""},{"$f":"hseptembre","v":""},{"$f":"hseptembre","v":""}]
[{"$f":"Données!$H41","v":0},{"$f":"hseptembre","v":""},{"$f":"hseptembre","v":""},{"$f":"hseptembre","v":""},{"$f":"hseptembre","v":""},{"$f":"hseptembre","v":""},{"$f":"hseptembre","v":""},{"$f":"hseptembre","v":""},{"$f":"hseptembre","v":""},{"$f":"hseptembre","v":""},{"$f":"hseptembre","v":""},{"$f":"hseptembre","v":""},{"$f":"hseptembre","v":""},{"$f":"hseptembre","v":""},{"$f":"hseptembre","v":""},{"$f":"hseptembre","v":""},{"$f":"hseptembre","v":""},{"$f":"hseptembre","v":""},{"$f":"hseptembre","v":""},{"$f":"hseptembre","v":""},{"$f":"hseptembre","v":""},{"$f":"hseptembre","v":""},{"$f":"hseptembre","v":""},{"$f":"hseptembre","v":""},{"$f":"hseptembre","v":""},{"$f":"hseptembre","v":""},{"$f":"hseptembre","v":""},{"$f":"hseptembre","v":""},{"$f":"hseptembre","v":""},{"$f":"hseptembre","v":""},{"$f":"hseptembre","v":""}]
[{"$f":"Données!$H42","v":"Psychologue"}]
[{"$f":"Données!$H43","v":"O"},{"$f":"hseptembre","v":""},{"$f":"hseptembre","v":""},{"$f":"hseptembre","v":""},{"$f":"hseptembre","v":""},{"$f":"hseptembre","v":""},{"$f":"hseptembre","v":""},{"$f":"hseptembre","v":""},{"$f":"hseptembre","v":""},{"$f":"hseptembre","v":""},{"$f":"hseptembre","v":""},{"$f":"hseptembre","v":""},{"$f":"hseptembre","v":""},{"$f":"hseptembre","v":""},{"$f":"hseptembre","v":""},{"$f":"hseptembre","v":""},{"$f":"hseptembre","v":""},{"$f":"hseptembre","v":""},{"$f":"hseptembre","v":""},{"$f":"hseptembre","v":""},{"$f":"hseptembre","v":""},{"$f":"hseptembre","v":""},{"$f":"hseptembre","v":""},{"$f":"hseptembre","v":""},{"$f":"hseptembre","v":""},{"$f":"hseptembre","v":""},{"$f":"hseptembre","v":""},{"$f":"hseptembre","v":""},{"$f":"hseptembre","v":""},{"$f":"hseptembre","v":""},{"$f":"hseptembre","v":""}]
[{"$f":"Données!$H44","v":0},{"$f":"hseptembre","v":""},{"$f":"hseptembre","v":""},{"$f":"hseptembre","v":""},{"$f":"hseptembre","v":""},{"$f":"hseptembre","v":""},{"$f":"hseptembre","v":""},{"$f":"hseptembre","v":""},{"$f":"hseptembre","v":""},{"$f":"hseptembre","v":""},{"$f":"hseptembre","v":""},{"$f":"hseptembre","v":""},{"$f":"hseptembre","v":""},{"$f":"hseptembre","v":""},{"$f":"hseptembre","v":""},{"$f":"hseptembre","v":""},{"$f":"hseptembre","v":""},{"$f":"hseptembre","v":""},{"$f":"hseptembre","v":""},{"$f":"hseptembre","v":""},{"$f":"hseptembre","v":""},{"$f":"hseptembre","v":""},{"$f":"hseptembre","v":""},{"$f":"hseptembre","v":""},{"$f":"hseptembre","v":""},{"$f":"hseptembre","v":""},{"$f":"hseptembre","v":""},{"$f":"hseptembre","v":""},{"$f":"hseptembre","v":""},{"$f":"hseptembre","v":""},{"$f":"hseptembre","v":""}]
[{"$f":"Données!$H45","v":0},{"$f":"hseptembre","v":""},{"$f":"hseptembre","v":""},{"$f":"hseptembre","v":""},{"$f":"hseptembre","v":""},{"$f":"hseptembre","v":""},{"$f":"hseptembre","v":""},{"$f":"hseptembre","v":""},{"$f":"hseptembre","v":""},{"$f":"hseptembre","v":""},{"$f":"hseptembre","v":""},{"$f":"hseptembre","v":""},{"$f":"hseptembre","v":""},{"$f":"hseptembre","v":""},{"$f":"hseptembre","v":""},{"$f":"hseptembre","v":""},{"$f":"hseptembre","v":""},{"$f":"hseptembre","v":""},{"$f":"hseptembre","v":""},{"$f":"hseptembre","v":""},{"$f":"hseptembre","v":""},{"$f":"hseptembre","v":""},{"$f":"hseptembre","v":""},{"$f":"hseptembre","v":""},{"$f":"hseptembre","v":""},{"$f":"hseptembre","v":""},{"$f":"hseptembre","v":""},{"$f":"hseptembre","v":""},{"$f":"hseptembre","v":""},{"$f":"hseptembre","v":""},{"$f":"hseptembre","v":""}]
[{"$f":"Données!$H46","v":"Coordinatrice"}]
[{"$f":"Données!$H47","v":"P"},{"$f":"hseptembre","v":""},{"$f":"hseptembre","v":""},{"$f":"hseptembre","v":""},{"$f":"hseptembre","v":""},{"$f":"hseptembre","v":""},{"$f":"hseptembre","v":""},{"$f":"hseptembre","v":""},{"$f":"hseptembre","v":""},{"$f":"hseptembre","v":""},{"$f":"hseptembre","v":""},{"$f":"hseptembre","v":""},{"$f":"hseptembre","v":""},{"$f":"hseptembre","v":""},{"$f":"hseptembre","v":""},{"$f":"hseptembre","v":""},{"$f":"hseptembre","v":""},{"$f":"hseptembre","v":""},{"$f":"hseptembre","v":""},{"$f":"hseptembre","v":""},{"$f":"hseptembre","v":""},{"$f":"hseptembre","v":""},{"$f":"hseptembre","v":""},{"$f":"hseptembre","v":""},{"$f":"hseptembre","v":""},{"$f":"hseptembre","v":""},{"$f":"hseptembre","v":""},{"$f":"hseptembre","v":""},{"$f":"hseptembre","v":""},{"$f":"hseptembre","v":""},{"$f":"hseptembre","v":""}]
[{"$f":"Données!$H48","v":0},{"$f":"hseptembre","v":""},{"$f":"hseptembre","v":""},{"$f":"hseptembre","v":""},{"$f":"hseptembre","v":""},{"$f":"hseptembre","v":""},{"$f":"hseptembre","v":""},{"$f":"hseptembre","v":""},{"$f":"hseptembre","v":""},{"$f":"hseptembre","v":""},{"$f":"hseptembre","v":""},{"$f":"hseptembre","v":""},{"$f":"hseptembre","v":""},{"$f":"hseptembre","v":""},{"$f":"hseptembre","v":""},{"$f":"hseptembre","v":""},{"$f":"hseptembre","v":""},{"$f":"hseptembre","v":""},{"$f":"hseptembre","v":""},{"$f":"hseptembre","v":""},{"$f":"hseptembre","v":""},{"$f":"hseptembre","v":""},{"$f":"hseptembre","v":""},{"$f":"hseptembre","v":""},{"$f":"hseptembre","v":""},{"$f":"hseptembre","v":""},{"$f":"hseptembre","v":""},{"$f":"hseptembre","v":""},{"$f":"hseptembre","v":""},{"$f":"hseptembre","v":""},{"$f":"hseptembre","v":""}]
[{"$f":"Données!$H49","v":0},{"$f":"hseptembre","v":""},{"$f":"hseptembre","v":""},{"$f":"hseptembre","v":""},{"$f":"hseptembre","v":""},{"$f":"hseptembre","v":""},{"$f":"hseptembre","v":""},{"$f":"hseptembre","v":""},{"$f":"hseptembre","v":""},{"$f":"hseptembre","v":""},{"$f":"hseptembre","v":""},{"$f":"hseptembre","v":""},{"$f":"hseptembre","v":""},{"$f":"hseptembre","v":""},{"$f":"hseptembre","v":""},{"$f":"hseptembre","v":""},{"$f":"hseptembre","v":""},{"$f":"hseptembre","v":""},{"$f":"hseptembre","v":""},{"$f":"hseptembre","v":""},{"$f":"hseptembre","v":""},{"$f":"hseptembre","v":""},{"$f":"hseptembre","v":""},{"$f":"hseptembre","v":""},{"$f":"hseptembre","v":""},{"$f":"hseptembre","v":""},{"$f":"hseptembre","v":""},{"$f":"hseptembre","v":""},{"$f":"hseptembre","v":""},{"$f":"hseptembre","v":""},{"$f":"hseptembre","v":""}]
[{"$f":"Données!$H50","v":0},{"$f":"hseptembre","v":""},{"$f":"hseptembre","v":""},{"$f":"hseptembre","v":""},{"$f":"hseptembre","v":""},{"$f":"hseptembre","v":""},{"$f":"hseptembre","v":""},{"$f":"hseptembre","v":""},{"$f":"hseptembre","v":""},{"$f":"hseptembre","v":""},{"$f":"hseptembre","v":""},{"$f":"hseptembre","v":""},{"$f":"hseptembre","v":""},{"$f":"hseptembre","v":""},{"$f":"hseptembre","v":""},{"$f":"hseptembre","v":""},{"$f":"hseptembre","v":""},{"$f":"hseptembre","v":""},{"$f":"hseptembre","v":""},{"$f":"hseptembre","v":""},{"$f":"hseptembre","v":""},{"$f":"hseptembre","v":""},{"$f":"hseptembre","v":""},{"$f":"hseptembre","v":""},{"$f":"hseptembre","v":""},{"$f":"hseptembre","v":""},{"$f":"hseptembre","v":""},{"$f":"hseptembre","v":""},{"$f":"hseptembre","v":""},{"$f":"hseptembre","v":""},{"$f":"hseptembre","v":""}]
[{"$f":"Données!$H51","v":0},{"$f":"hseptembre","v":""},{"$f":"hseptembre","v":""},{"$f":"hseptembre","v":""},{"$f":"hseptembre","v":""},{"$f":"hseptembre","v":""},{"$f":"hseptembre","v":""},{"$f":"hseptembre","v":""},{"$f":"hseptembre","v":""},{"$f":"hseptembre","v":""},{"$f":"hseptembre","v":""},{"$f":"hseptembre","v":""},{"$f":"hseptembre","v":""},{"$f":"hseptembre","v":""},{"$f":"hseptembre","v":""},{"$f":"hseptembre","v":""},{"$f":"hseptembre","v":""},{"$f":"hseptembre","v":""},{"$f":"hseptembre","v":""},{"$f":"hseptembre","v":""},{"$f":"hseptembre","v":""},{"$f":"hseptembre","v":""},{"$f":"hseptembre","v":""},{"$f":"hseptembre","v":""},{"$f":"hseptembre","v":""},{"$f":"hseptembre","v":""},{"$f":"hseptembre","v":""},{"$f":"hseptembre","v":""},{"$f":"hseptembre","v":""},{"$f":"hseptembre","v":""},{"$f":"hseptembre","v":""}]
[{"$f":"Données!$H52","v":"Chef de service"}]
[{"$f":"Données!$H53","v":"Q"},{"$f":"hseptembre","v":""},{"$f":"hseptembre","v":""},{"$f":"hseptembre","v":""},{"$f":"hseptembre","v":""},{"$f":"hseptembre","v":""},{"$f":"hseptembre","v":""},{"$f":"hseptembre","v":""},{"$f":"hseptembre","v":""},{"$f":"hseptembre","v":""},{"$f":"hseptembre","v":""},{"$f":"hseptembre","v":""},{"$f":"hseptembre","v":""},{"$f":"hseptembre","v":""},{"$f":"hseptembre","v":""},{"$f":"hseptembre","v":""},{"$f":"hseptembre","v":""},{"$f":"hseptembre","v":""},{"$f":"hseptembre","v":""},{"$f":"hseptembre","v":""},{"$f":"hseptembre","v":""},{"$f":"hseptembre","v":""},{"$f":"hseptembre","v":""},{"$f":"hseptembre","v":""},{"$f":"hseptembre","v":""},{"$f":"hseptembre","v":""},{"$f":"hseptembre","v":""},{"$f":"hseptembre","v":""},{"$f":"hseptembre","v":""},{"$f":"hseptembre","v":""},{"$f":"hseptembre","v":""}]

{"sheet":"HOctobre","index":23,"n_rows":56,"n_cols":32,"rows_kept":56,"cut":false,"hidden":false,"merged":[]}
[null,null,null,"Mois de","Octobre",{"$f":"An","v":2018}]
[null,{"$f":"DATE(An,Octobre,B7)","v":"2018-10-01"},"2018-10-02","2018-10-03","2018-10-04","2018-10-05","2018-10-06","2018-10-07","2018-10-08","2018-10-09","2018-10-10","2018-10-11","2018-10-12","2018-10-13","2018-10-14","2018-10-15","2018-10-16","2018-10-17","2018-10-18","2018-10-19","2018-10-20","2018-10-21","2018-10-22","2018-10-23","2018-10-24","2018-10-25","2018-10-26","2018-10-27","2018-10-28","2018-10-29","2018-10-30","2018-10-31"]
[{"$f":"IF(Données!$L$5=\"\",\"Service\",Données!$L$5)","v":"Service"}]
[]
[]
["Jours",{"$f":"PROPER(TEXT(DATE(An,Octobre,B$7),\"jjjjjj\"))","v":"Lundi"},"Mardi","Mercredi","Jeudi","Vendredi","Samedi","Dimanche","Lundi","Mardi","Mercredi","Jeudi","Vendredi","Samedi","Dimanche","Lundi","Mardi","Mercredi","Jeudi","Vendredi","Samedi","Dimanche","Lundi","Mardi","Mercredi","Jeudi","Vendredi","Samedi","Dimanche","Lundi","Mardi","Mercredi"]
[null,1,{"$f":"B$7+1","v":2},{"$f":"C$7+1","v":3},4,5,6,7,8,9,10,11,12,13,14,15,16,17,18,19,20,21,22,23,24,25,26,27,28,29,30,31]
["Equipe de jour"]
[{"$f":"Données!$H6","v":"A"},{"$f":"hoctobre","v":""},{"$f":"hoctobre","v":""},{"$f":"hoctobre","v":""},{"$f":"hoctobre","v":""},{"$f":"hoctobre","v":""},{"$f":"hoctobre","v":""},{"$f":"hoctobre","v":""},{"$f":"hoctobre","v":""},{"$f":"hoctobre","v":""},{"$f":"hoctobre","v":""},{"$f":"hoctobre","v":""},{"$f":"hoctobre","v":""},{"$f":"hoctobre","v":""},{"$f":"hoctobre","v":""},{"$f":"hoctobre","v":""},{"$f":"hoctobre","v":""},{"$f":"hoctobre","v":""},{"$f":"hoctobre","v":""},{"$f":"hoctobre","v":""},{"$f":"hoctobre","v":""},{"$f":"hoctobre","v":""},{"$f":"hoctobre","v":""},{"$f":"hoctobre","v":""},{"$f":"hoctobre","v":""},{"$f":"hoctobre","v":""},{"$f":"hoctobre","v":""},{"$f":"hoctobre","v":""},{"$f":"hoctobre","v":""},{"$f":"hoctobre","v":""},{"$f":"hoctobre","v":""},{"$f":"hoctobre","v":""}]
[{"$f":"Données!$H7","v":0},{"$f":"hoctobre","v":""},{"$f":"hoctobre","v":""},{"$f":"hoctobre","v":""},{"$f":"hoctobre","v":""},{"$f":"hoctobre","v":""},{"$f":"hoctobre","v":""},{"$f":"hoctobre","v":""},{"$f":"hoctobre","v":""},{"$f":"hoctobre","v":""},{"$f":"hoctobre","v":""},{"$f":"hoctobre","v":""},{"$f":"hoctobre","v":""},{"$f":"hoctobre","v":""},{"$f":"hoctobre","v":""},{"$f":"hoctobre","v":""},{"$f":"hoctobre","v":""},{"$f":"hoctobre","v":""},{"$f":"hoctobre","v":""},{"$f":"hoctobre","v":""},{"$f":"hoctobre","v":""},{"$f":"hoctobre","v":""},{"$f":"hoctobre","v":""},{"$f":"hoctobre","v":""},{"$f":"hoctobre","v":""},{"$f":"hoctobre","v":""},{"$f":"hoctobre","v":""},{"$f":"hoctobre","v":""},{"$f":"hoctobre","v":""},{"$f":"hoctobre","v":""},{"$f":"hoctobre","v":""},{"$f":"hoctobre","v":""}]
[{"$f":"Données!$H8","v":0},{"$f":"hoctobre","v":""},{"$f":"hoctobre","v":""},{"$f":"hoctobre","v":""},{"$f":"hoctobre","v":""},{"$f":"hoctobre","v":""},{"$f":"hoctobre","v":""},{"$f":"hoctobre","v":""},{"$f":"hoctobre","v":""},{"$f":"hoctobre","v":""},{"$f":"hoctobre","v":""},{"$f":"hoctobre","v":""},{"$f":"hoctobre","v":""},{"$f":"hoctobre","v":""},{"$f":"hoctobre","v":""},{"$f":"hoctobre","v":""},{"$f":"hoctobre","v":""},{"$f":"hoctobre","v":""},{"$f":"hoctobre","v":""},{"$f":"hoctobre","v":""},{"$f":"hoctobre","v":""},{"$f":"hoctobre","v":""},{"$f":"hoctobre","v":""},{"$f":"hoctobre","v":""},{"$f":"hoctobre","v":""},{"$f":"hoctobre","v":""},{"$f":"hoctobre","v":""},{"$f":"hoctobre","v":""},{"$f":"hoctobre","v":""},{"$f":"hoctobre","v":""},{"$f":"hoctobre","v":""},{"$f":"hoctobre","v":""}]
[{"$f":"Données!$H9","v":0},{"$f":"hoctobre","v":""},{"$f":"hoctobre","v":""},{"$f":"hoctobre","v":""},{"$f":"hoctobre","v":""},{"$f":"hoctobre","v":""},{"$f":"hoctobre","v":""},{"$f":"hoctobre","v":""},{"$f":"hoctobre","v":""},{"$f":"hoctobre","v":""},{"$f":"hoctobre","v":""},{"$f":"hoctobre","v":""},{"$f":"hoctobre","v":""},{"$f":"hoctobre","v":""},{"$f":"hoctobre","v":""},{"$f":"hoctobre","v":""},{"$f":"hoctobre","v":""},{"$f":"hoctobre","v":""},{"$f":"hoctobre","v":""},{"$f":"hoctobre","v":""},{"$f":"hoctobre","v":""},{"$f":"hoctobre","v":""},{"$f":"hoctobre","v":""},{"$f":"hoctobre","v":""},{"$f":"hoctobre","v":""},{"$f":"hoctobre","v":""},{"$f":"hoctobre","v":""},{"$f":"hoctobre","v":""},{"$f":"hoctobre","v":""},{"$f":"hoctobre","v":""},{"$f":"hoctobre","v":""},{"$f":"hoctobre","v":""}]
[{"$f":"Données!$H10","v":0},{"$f":"hoctobre","v":""},{"$f":"hoctobre","v":""},{"$f":"hoctobre","v":""},{"$f":"hoctobre","v":""},{"$f":"hoctobre","v":""},{"$f":"hoctobre","v":""},{"$f":"hoctobre","v":""},{"$f":"hoctobre","v":""},{"$f":"hoctobre","v":""},{"$f":"hoctobre","v":""},{"$f":"hoctobre","v":""},{"$f":"hoctobre","v":""},{"$f":"hoctobre","v":""},{"$f":"hoctobre","v":""},{"$f":"hoctobre","v":""},{"$f":"hoctobre","v":""},{"$f":"hoctobre","v":""},{"$f":"hoctobre","v":""},{"$f":"hoctobre","v":""},{"$f":"hoctobre","v":""},{"$f":"hoctobre","v":""},{"$f":"hoctobre","v":""},{"$f":"hoctobre","v":""},{"$f":"hoctobre","v":""},{"$f":"hoctobre","v":""},{"$f":"hoctobre","v":""},{"$f":"hoctobre","v":""},{"$f":"hoctobre","v":""},{"$f":"hoctobre","v":""},{"$f":"hoctobre","v":""},{"$f":"hoctobre","v":""}]
[{"$f":"Données!$H11","v":0},{"$f":"hoctobre","v":""},{"$f":"hoctobre","v":""},{"$f":"hoctobre","v":""},{"$f":"hoctobre","v":""},{"$f":"hoctobre","v":""},{"$f":"hoctobre","v":""},{"$f":"hoctobre","v":""},{"$f":"hoctobre","v":""},{"$f":"hoctobre","v":""},{"$f":"hoctobre","v":""},{"$f":"hoctobre","v":""},{"$f":"hoctobre","v":""},{"$f":"hoctobre","v":""},{"$f":"hoctobre","v":""},{"$f":"hoctobre","v":""},{"$f":"hoctobre","v":""},{"$f":"hoctobre","v":""},{"$f":"hoctobre","v":""},{"$f":"hoctobre","v":""},{"$f":"hoctobre","v":""},{"$f":"hoctobre","v":""},{"$f":"hoctobre","v":""},{"$f":"hoctobre","v":""},{"$f":"hoctobre","v":""},{"$f":"hoctobre","v":""},{"$f":"hoctobre","v":""},{"$f":"hoctobre","v":""},{"$f":"hoctobre","v":""},{"$f":"hoctobre","v":""},{"$f":"hoctobre","v":""},{"$f":"hoctobre","v":""}]
[{"$f":"Données!$H12","v":0},{"$f":"hoctobre","v":""},{"$f":"hoctobre","v":""},{"$f":"hoctobre","v":""},{"$f":"hoctobre","v":""},{"$f":"hoctobre","v":""},{"$f":"hoctobre","v":""},{"$f":"hoctobre","v":""},{"$f":"hoctobre","v":""},{"$f":"hoctobre","v":""},{"$f":"hoctobre","v":""},{"$f":"hoctobre","v":""},{"$f":"hoctobre","v":""},{"$f":"hoctobre","v":""},{"$f":"hoctobre","v":""},{"$f":"hoctobre","v":""},{"$f":"hoctobre","v":""},{"$f":"hoctobre","v":""},{"$f":"hoctobre","v":""},{"$f":"hoctobre","v":""},{"$f":"hoctobre","v":""},{"$f":"hoctobre","v":""},{"$f":"hoctobre","v":""},{"$f":"hoctobre","v":""},{"$f":"hoctobre","v":""},{"$f":"hoctobre","v":""},{"$f":"hoctobre","v":""},{"$f":"hoctobre","v":""},{"$f":"hoctobre","v":""},{"$f":"hoctobre","v":""},{"$f":"hoctobre","v":""},{"$f":"hoctobre","v":""}]
[{"$f":"Données!$H13","v":0},{"$f":"hoctobre","v":""},{"$f":"hoctobre","v":""},{"$f":"hoctobre","v":""},{"$f":"hoctobre","v":""},{"$f":"hoctobre","v":""},{"$f":"hoctobre","v":""},{"$f":"hoctobre","v":""},{"$f":"hoctobre","v":""},{"$f":"hoctobre","v":""},{"$f":"hoctobre","v":""},{"$f":"hoctobre","v":""},{"$f":"hoctobre","v":""},{"$f":"hoctobre","v":""},{"$f":"hoctobre","v":""},{"$f":"hoctobre","v":""},{"$f":"hoctobre","v":""},{"$f":"hoctobre","v":""},{"$f":"hoctobre","v":""},{"$f":"hoctobre","v":""},{"$f":"hoctobre","v":""},{"$f":"hoctobre","v":""},{"$f":"hoctobre","v":""},{"$f":"hoctobre","v":""},{"$f":"hoctobre","v":""},{"$f":"hoctobre","v":""},{"$f":"hoctobre","v":""},{"$f":"hoctobre","v":""},{"$f":"hoctobre","v":""},{"$f":"hoctobre","v":""},{"$f":"hoctobre","v":""},{"$f":"hoctobre","v":""}]
[{"$f":"Données!$H14","v":0},{"$f":"hoctobre","v":""},{"$f":"hoctobre","v":""},{"$f":"hoctobre","v":""},{"$f":"hoctobre","v":""},{"$f":"hoctobre","v":""},{"$f":"hoctobre","v":""},{"$f":"hoctobre","v":""},{"$f":"hoctobre","v":""},{"$f":"hoctobre","v":""},{"$f":"hoctobre","v":""},{"$f":"hoctobre","v":""},{"$f":"hoctobre","v":""},{"$f":"hoctobre","v":""},{"$f":"hoctobre","v":""},{"$f":"hoctobre","v":""},{"$f":"hoctobre","v":""},{"$f":"hoctobre","v":""},{"$f":"hoctobre","v":""},{"$f":"hoctobre","v":""},{"$f":"hoctobre","v":""},{"$f":"hoctobre","v":""},{"$f":"hoctobre","v":""},{"$f":"hoctobre","v":""},{"$f":"hoctobre","v":""},{"$f":"hoctobre","v":""},{"$f":"hoctobre","v":""},{"$f":"hoctobre","v":""},{"$f":"hoctobre","v":""},{"$f":"hoctobre","v":""},{"$f":"hoctobre","v":""},{"$f":"hoctobre","v":""}]
[{"$f":"Données!$H15","v":0},{"$f":"hoctobre","v":""},{"$f":"hoctobre","v":""},{"$f":"hoctobre","v":""},{"$f":"hoctobre","v":""},{"$f":"hoctobre","v":""},{"$f":"hoctobre","v":""},{"$f":"hoctobre","v":""},{"$f":"hoctobre","v":""},{"$f":"hoctobre","v":""},{"$f":"hoctobre","v":""},{"$f":"hoctobre","v":""},{"$f":"hoctobre","v":""},{"$f":"hoctobre","v":""},{"$f":"hoctobre","v":""},{"$f":"hoctobre","v":""},{"$f":"hoctobre","v":""},{"$f":"hoctobre","v":""},{"$f":"hoctobre","v":""},{"$f":"hoctobre","v":""},{"$f":"hoctobre","v":""},{"$f":"hoctobre","v":""},{"$f":"hoctobre","v":""},{"$f":"hoctobre","v":""},{"$f":"hoctobre","v":""},{"$f":"hoctobre","v":""},{"$f":"hoctobre","v":""},{"$f":"hoctobre","v":""},{"$f":"hoctobre","v":""},{"$f":"hoctobre","v":""},{"$f":"hoctobre","v":""},{"$f":"hoctobre","v":""}]
[{"$f":"Données!$H16","v":0},{"$f":"hoctobre","v":""},{"$f":"hoctobre","v":""},{"$f":"hoctobre","v":""},{"$f":"hoctobre","v":""},{"$f":"hoctobre","v":""},{"$f":"hoctobre","v":""},{"$f":"hoctobre","v":""},{"$f":"hoctobre","v":""},{"$f":"hoctobre","v":""},{"$f":"hoctobre","v":""},{"$f":"hoctobre","v":""},{"$f":"hoctobre","v":""},{"$f":"hoctobre","v":""},{"$f":"hoctobre","v":""},{"$f":"hoctobre","v":""},{"$f":"hoctobre","v":""},{"$f":"hoctobre","v":""},{"$f":"hoctobre","v":""},{"$f":"hoctobre","v":""},{"$f":"hoctobre","v":""},{"$f":"hoctobre","v":""},{"$f":"hoctobre","v":""},{"$f":"hoctobre","v":""},{"$f":"hoctobre","v":""},{"$f":"hoctobre","v":""},{"$f":"hoctobre","v":""},{"$f":"hoctobre","v":""},{"$f":"hoctobre","v":""},{"$f":"hoctobre","v":""},{"$f":"hoctobre","v":""},{"$f":"hoctobre","v":""}]
[{"$f":"Données!$H17","v":0},{"$f":"hoctobre","v":""},{"$f":"hoctobre","v":""},{"$f":"hoctobre","v":""},{"$f":"hoctobre","v":""},{"$f":"hoctobre","v":""},{"$f":"hoctobre","v":""},{"$f":"hoctobre","v":""},{"$f":"hoctobre","v":""},{"$f":"hoctobre","v":""},{"$f":"hoctobre","v":""},{"$f":"hoctobre","v":""},{"$f":"hoctobre","v":""},{"$f":"hoctobre","v":""},{"$f":"hoctobre","v":""},{"$f":"hoctobre","v":""},{"$f":"hoctobre","v":""},{"$f":"hoctobre","v":""},{"$f":"hoctobre","v":""},{"$f":"hoctobre","v":""},{"$f":"hoctobre","v":""},{"$f":"hoctobre","v":""},{"$f":"hoctobre","v":""},{"$f":"hoctobre","v":""},{"$f":"hoctobre","v":""},{"$f":"hoctobre","v":""},{"$f":"hoctobre","v":""},{"$f":"hoctobre","v":""},{"$f":"hoctobre","v":""},{"$f":"hoctobre","v":""},{"$f":"hoctobre","v":""},{"$f":"hoctobre","v":""}]
[{"$f":"Données!$H18","v":0},{"$f":"hoctobre","v":""},{"$f":"hoctobre","v":""},{"$f":"hoctobre","v":""},{"$f":"hoctobre","v":""},{"$f":"hoctobre","v":""},{"$f":"hoctobre","v":""},{"$f":"hoctobre","v":""},{"$f":"hoctobre","v":""},{"$f":"hoctobre","v":""},{"$f":"hoctobre","v":""},{"$f":"hoctobre","v":""},{"$f":"hoctobre","v":""},{"$f":"hoctobre","v":""},{"$f":"hoctobre","v":""},{"$f":"hoctobre","v":""},{"$f":"hoctobre","v":""},{"$f":"hoctobre","v":""},{"$f":"hoctobre","v":""},{"$f":"hoctobre","v":""},{"$f":"hoctobre","v":""},{"$f":"hoctobre","v":""},{"$f":"hoctobre","v":""},{"$f":"hoctobre","v":""},{"$f":"hoctobre","v":""},{"$f":"hoctobre","v":""},{"$f":"hoctobre","v":""},{"$f":"hoctobre","v":""},{"$f":"hoctobre","v":""},{"$f":"hoctobre","v":""},{"$f":"hoctobre","v":""},{"$f":"hoctobre","v":""}]
[{"$f":"Données!$H19","v":0},{"$f":"hoctobre","v":""},{"$f":"hoctobre","v":""},{"$f":"hoctobre","v":""},{"$f":"hoctobre","v":""},{"$f":"hoctobre","v":""},{"$f":"hoctobre","v":""},{"$f":"hoctobre","v":""},{"$f":"hoctobre","v":""},{"$f":"hoctobre","v":""},{"$f":"hoctobre","v":""},{"$f":"hoctobre","v":""},{"$f":"hoctobre","v":""},{"$f":"hoctobre","v":""},{"$f":"hoctobre","v":""},{"$f":"hoctobre","v":""},{"$f":"hoctobre","v":""},{"$f":"hoctobre","v":""},{"$f":"hoctobre","v":""},{"$f":"hoctobre","v":""},{"$f":"hoctobre","v":""},{"$f":"hoctobre","v":""},{"$f":"hoctobre","v":""},{"$f":"hoctobre","v":""},{"$f":"hoctobre","v":""},{"$f":"hoctobre","v":""},{"$f":"hoctobre","v":""},{"$f":"hoctobre","v":""},{"$f":"hoctobre","v":""},{"$f":"hoctobre","v":""},{"$f":"hoctobre","v":""},{"$f":"hoctobre","v":""}]
[{"$f":"Données!$H20","v":0},{"$f":"hoctobre","v":""},{"$f":"hoctobre","v":""},{"$f":"hoctobre","v":""},{"$f":"hoctobre","v":""},{"$f":"hoctobre","v":""},{"$f":"hoctobre","v":""},{"$f":"hoctobre","v":""},{"$f":"hoctobre","v":""},{"$f":"hoctobre","v":""},{"$f":"hoctobre","v":""},{"$f":"hoctobre","v":""},{"$f":"hoctobre","v":""},{"$f":"hoctobre","v":""},{"$f":"hoctobre","v":""},{"$f":"hoctobre","v":""},{"$f":"hoctobre","v":""},{"$f":"hoctobre","v":""},{"$f":"hoctobre","v":""},{"$f":"hoctobre","v":""},{"$f":"hoctobre","v":""},{"$f":"hoctobre","v":""},{"$f":"hoctobre","v":""},{"$f":"hoctobre","v":""},{"$f":"hoctobre","v":""},{"$f":"hoctobre","v":""},{"$f":"hoctobre","v":""},{"$f":"hoctobre","v":""},{"$f":"hoctobre","v":""},{"$f":"hoctobre","v":""},{"$f":"hoctobre","v":""},{"$f":"hoctobre","v":""}]
[{"$f":"Données!$H21","v":0},{"$f":"hoctobre","v":""},{"$f":"hoctobre","v":""},{"$f":"hoctobre","v":""},{"$f":"hoctobre","v":""},{"$f":"hoctobre","v":""},{"$f":"hoctobre","v":""},{"$f":"hoctobre","v":""},{"$f":"hoctobre","v":""},{"$f":"hoctobre","v":""},{"$f":"hoctobre","v":""},{"$f":"hoctobre","v":""},{"$f":"hoctobre","v":""},{"$f":"hoctobre","v":""},{"$f":"hoctobre","v":""},{"$f":"hoctobre","v":""},{"$f":"hoctobre","v":""},{"$f":"hoctobre","v":""},{"$f":"hoctobre","v":""},{"$f":"hoctobre","v":""},{"$f":"hoctobre","v":""},{"$f":"hoctobre","v":""},{"$f":"hoctobre","v":""},{"$f":"hoctobre","v":""},{"$f":"hoctobre","v":""},{"$f":"hoctobre","v":""},{"$f":"hoctobre","v":""},{"$f":"hoctobre","v":""},{"$f":"hoctobre","v":""},{"$f":"hoctobre","v":""},{"$f":"hoctobre","v":""},{"$f":"hoctobre","v":""}]
[{"$f":"Données!$H22","v":"Equipe de nuit"}]
[{"$f":"Données!$H23","v":"K"},{"$f":"hoctobre","v":""},{"$f":"hoctobre","v":""},{"$f":"hoctobre","v":""},{"$f":"hoctobre","v":""},{"$f":"hoctobre","v":""},{"$f":"hoctobre","v":""},{"$f":"hoctobre","v":""},{"$f":"hoctobre","v":""},{"$f":"hoctobre","v":""},{"$f":"hoctobre","v":""},{"$f":"hoctobre","v":""},{"$f":"hoctobre","v":""},{"$f":"hoctobre","v":""},{"$f":"hoctobre","v":""},{"$f":"hoctobre","v":""},{"$f":"hoctobre","v":""},{"$f":"hoctobre","v":""},{"$f":"hoctobre","v":""},{"$f":"hoctobre","v":""},{"$f":"hoctobre","v":""},{"$f":"hoctobre","v":""},{"$f":"hoctobre","v":""},{"$f":"hoctobre","v":""},{"$f":"hoctobre","v":""},{"$f":"hoctobre","v":""},{"$f":"hoctobre","v":""},{"$f":"hoctobre","v":""},{"$f":"hoctobre","v":""},{"$f":"hoctobre","v":""},{"$f":"hoctobre","v":""},{"$f":"hoctobre","v":""}]
[{"$f":"Données!$H24","v":0},{"$f":"hoctobre","v":""},{"$f":"hoctobre","v":""},{"$f":"hoctobre","v":""},{"$f":"hoctobre","v":""},{"$f":"hoctobre","v":""},{"$f":"hoctobre","v":""},{"$f":"hoctobre","v":""},{"$f":"hoctobre","v":""},{"$f":"hoctobre","v":""},{"$f":"hoctobre","v":""},{"$f":"hoctobre","v":""},{"$f":"hoctobre","v":""},{"$f":"hoctobre","v":""},{"$f":"hoctobre","v":""},{"$f":"hoctobre","v":""},{"$f":"hoctobre","v":""},{"$f":"hoctobre","v":""},{"$f":"hoctobre","v":""},{"$f":"hoctobre","v":""},{"$f":"hoctobre","v":""},{"$f":"hoctobre","v":""},{"$f":"hoctobre","v":""},{"$f":"hoctobre","v":""},{"$f":"hoctobre","v":""},{"$f":"hoctobre","v":""},{"$f":"hoctobre","v":""},{"$f":"hoctobre","v":""},{"$f":"hoctobre","v":""},{"$f":"hoctobre","v":""},{"$f":"hoctobre","v":""},{"$f":"hoctobre","v":""}]
[{"$f":"Données!$H25","v":0},{"$f":"hoctobre","v":""},{"$f":"hoctobre","v":""},{"$f":"hoctobre","v":""},{"$f":"hoctobre","v":""},{"$f":"hoctobre","v":""},{"$f":"hoctobre","v":""},{"$f":"hoctobre","v":""},{"$f":"hoctobre","v":""},{"$f":"hoctobre","v":""},{"$f":"hoctobre","v":""},{"$f":"hoctobre","v":""},{"$f":"hoctobre","v":""},{"$f":"hoctobre","v":""},{"$f":"hoctobre","v":""},{"$f":"hoctobre","v":""},{"$f":"hoctobre","v":""},{"$f":"hoctobre","v":""},{"$f":"hoctobre","v":""},{"$f":"hoctobre","v":""},{"$f":"hoctobre","v":""},{"$f":"hoctobre","v":""},{"$f":"hoctobre","v":""},{"$f":"hoctobre","v":""},{"$f":"hoctobre","v":""},{"$f":"hoctobre","v":""},{"$f":"hoctobre","v":""},{"$f":"hoctobre","v":""},{"$f":"hoctobre","v":""},{"$f":"hoctobre","v":""},{"$f":"hoctobre","v":""},{"$f":"hoctobre","v":""}]
[{"$f":"Données!$H26","v":0},{"$f":"hoctobre","v":""},{"$f":"hoctobre","v":""},{"$f":"hoctobre","v":""},{"$f":"hoctobre","v":""},{"$f":"hoctobre","v":""},{"$f":"hoctobre","v":""},{"$f":"hoctobre","v":""},{"$f":"hoctobre","v":""},{"$f":"hoctobre","v":""},{"$f":"hoctobre","v":""},{"$f":"hoctobre","v":""},{"$f":"hoctobre","v":""},{"$f":"hoctobre","v":""},{"$f":"hoctobre","v":""},{"$f":"hoctobre","v":""},{"$f":"hoctobre","v":""},{"$f":"hoctobre","v":""},{"$f":"hoctobre","v":""},{"$f":"hoctobre","v":""},{"$f":"hoctobre","v":""},{"$f":"hoctobre","v":""},{"$f":"hoctobre","v":""},{"$f":"hoctobre","v":""},{"$f":"hoctobre","v":""},{"$f":"hoctobre","v":""},{"$f":"hoctobre","v":""},{"$f":"hoctobre","v":""},{"$f":"hoctobre","v":""},{"$f":"hoctobre","v":""},{"$f":"hoctobre","v":""},{"$f":"hoctobre","v":""}]
[{"$f":"Données!$H27","v":0},{"$f":"hoctobre","v":""},{"$f":"hoctobre","v":""},{"$f":"hoctobre","v":""},{"$f":"hoctobre","v":""},{"$f":"hoctobre","v":""},{"$f":"hoctobre","v":""},{"$f":"hoctobre","v":""},{"$f":"hoctobre","v":""},{"$f":"hoctobre","v":""},{"$f":"hoctobre","v":""},{"$f":"hoctobre","v":""},{"$f":"hoctobre","v":""},{"$f":"hoctobre","v":""},{"$f":"hoctobre","v":""},{"$f":"hoctobre","v":""},{"$f":"hoctobre","v":""},{"$f":"hoctobre","v":""},{"$f":"hoctobre","v":""},{"$f":"hoctobre","v":""},{"$f":"hoctobre","v":""},{"$f":"hoctobre","v":""},{"$f":"hoctobre","v":""},{"$f":"hoctobre","v":""},{"$f":"hoctobre","v":""},{"$f":"hoctobre","v":""},{"$f":"hoctobre","v":""},{"$f":"hoctobre","v":""},{"$f":"hoctobre","v":""},{"$f":"hoctobre","v":""},{"$f":"hoctobre","v":""},{"$f":"hoctobre","v":""}]
[{"$f":"Données!$H28","v":0},{"$f":"hoctobre","v":""},{"$f":"hoctobre","v":""},{"$f":"hoctobre","v":""},{"$f":"hoctobre","v":""},{"$f":"hoctobre","v":""},{"$f":"hoctobre","v":""},{"$f":"hoctobre","v":""},{"$f":"hoctobre","v":""},{"$f":"hoctobre","v":""},{"$f":"hoctobre","v":""},{"$f":"hoctobre","v":""},{"$f":"hoctobre","v":""},{"$f":"hoctobre","v":""},{"$f":"hoctobre","v":""},{"$f":"hoctobre","v":""},{"$f":"hoctobre","v":""},{"$f":"hoctobre","v":""},{"$f":"hoctobre","v":""},{"$f":"hoctobre","v":""},{"$f":"hoctobre","v":""},{"$f":"hoctobre","v":""},{"$f":"hoctobre","v":""},{"$f":"hoctobre","v":""},{"$f":"hoctobre","v":""},{"$f":"hoctobre","v":""},{"$f":"hoctobre","v":""},{"$f":"hoctobre","v":""},{"$f":"hoctobre","v":""},{"$f":"hoctobre","v":""},{"$f":"hoctobre","v":""},{"$f":"hoctobre","v":""}]
[{"$f":"Données!$H29","v":0},{"$f":"hoctobre","v":""},{"$f":"hoctobre","v":""},{"$f":"hoctobre","v":""},{"$f":"hoctobre","v":""},{"$f":"hoctobre","v":""},{"$f":"hoctobre","v":""},{"$f":"hoctobre","v":""},{"$f":"hoctobre","v":""},{"$f":"hoctobre","v":""},{"$f":"hoctobre","v":""},{"$f":"hoctobre","v":""},{"$f":"hoctobre","v":""},{"$f":"hoctobre","v":""},{"$f":"hoctobre","v":""},{"$f":"hoctobre","v":""},{"$f":"hoctobre","v":""},{"$f":"hoctobre","v":""},{"$f":"hoctobre","v":""},{"$f":"hoctobre","v":""},{"$f":"hoctobre","v":""},{"$f":"hoctobre","v":""},{"$f":"hoctobre","v":""},{"$f":"hoctobre","v":""},{"$f":"hoctobre","v":""},{"$f":"hoctobre","v":""},{"$f":"hoctobre","v":""},{"$f":"hoctobre","v":""},{"$f":"hoctobre","v":""},{"$f":"hoctobre","v":""},{"$f":"hoctobre","v":""},{"$f":"hoctobre","v":""}]
[{"$f":"Données!$H30","v":0},{"$f":"hoctobre","v":""},{"$f":"hoctobre","v":""},{"$f":"hoctobre","v":""},{"$f":"hoctobre","v":""},{"$f":"hoctobre","v":""},{"$f":"hoctobre","v":""},{"$f":"hoctobre","v":""},{"$f":"hoctobre","v":""},{"$f":"hoctobre","v":""},{"$f":"hoctobre","v":""},{"$f":"hoctobre","v":""},{"$f":"hoctobre","v":""},{"$f":"hoctobre","v":""},{"$f":"hoctobre","v":""},{"$f":"hoctobre","v":""},{"$f":"hoctobre","v":""},{"$f":"hoctobre","v":""},{"$f":"hoctobre","v":""},{"$f":"hoctobre","v":""},{"$f":"hoctobre","v":""},{"$f":"hoctobre","v":""},{"$f":"hoctobre","v":""},{"$f":"hoctobre","v":""},{"$f":"hoctobre","v":""},{"$f":"hoctobre","v":""},{"$f":"hoctobre","v":""},{"$f":"hoctobre","v":""},{"$f":"hoctobre","v":""},{"$f":"hoctobre","v":""},{"$f":"hoctobre","v":""},{"$f":"hoctobre","v":""}]
[{"$f":"Données!$H31","v":0},{"$f":"hoctobre","v":""},{"$f":"hoctobre","v":""},{"$f":"hoctobre","v":""},{"$f":"hoctobre","v":""},{"$f":"hoctobre","v":""},{"$f":"hoctobre","v":""},{"$f":"hoctobre","v":""},{"$f":"hoctobre","v":""},{"$f":"hoctobre","v":""},{"$f":"hoctobre","v":""},{"$f":"hoctobre","v":""},{"$f":"hoctobre","v":""},{"$f":"hoctobre","v":""},{"$f":"hoctobre","v":""},{"$f":"hoctobre","v":""},{"$f":"hoctobre","v":""},{"$f":"hoctobre","v":""},{"$f":"hoctobre","v":""},{"$f":"hoctobre","v":""},{"$f":"hoctobre","v":""},{"$f":"hoctobre","v":""},{"$f":"hoctobre","v":""},{"$f":"hoctobre","v":""},{"$f":"hoctobre","v":""},{"$f":"hoctobre","v":""},{"$f":"hoctobre","v":""},{"$f":"hoctobre","v":""},{"$f":"hoctobre","v":""},{"$f":"hoctobre","v":""},{"$f":"hoctobre","v":""},{"$f":"hoctobre","v":""}]
[{"$f":"Données!$H32","v":"Maitresse de maison"}]
[{"$f":"Données!$H33","v":"N"},{"$f":"hoctobre","v":""},{"$f":"hoctobre","v":""},{"$f":"hoctobre","v":""},{"$f":"hoctobre","v":""},{"$f":"hoctobre","v":""},{"$f":"hoctobre","v":""},{"$f":"hoctobre","v":""},{"$f":"hoctobre","v":""},{"$f":"hoctobre","v":""},{"$f":"hoctobre","v":""},{"$f":"hoctobre","v":""},{"$f":"hoctobre","v":""},{"$f":"hoctobre","v":""},{"$f":"hoctobre","v":""},{"$f":"hoctobre","v":""},{"$f":"hoctobre","v":""},{"$f":"hoctobre","v":""},{"$f":"hoctobre","v":""},{"$f":"hoctobre","v":""},{"$f":"hoctobre","v":""},{"$f":"hoctobre","v":""},{"$f":"hoctobre","v":""},{"$f":"hoctobre","v":""},{"$f":"hoctobre","v":""},{"$f":"hoctobre","v":""},{"$f":"hoctobre","v":""},{"$f":"hoctobre","v":""},{"$f":"hoctobre","v":""},{"$f":"hoctobre","v":""},{"$f":"hoctobre","v":""},{"$f":"hoctobre","v":""}]
[{"$f":"Données!$H34","v":0},{"$f":"hoctobre","v":""},{"$f":"hoctobre","v":""},{"$f":"hoctobre","v":""},{"$f":"hoctobre","v":""},{"$f":"hoctobre","v":""},{"$f":"hoctobre","v":""},{"$f":"hoctobre","v":""},{"$f":"hoctobre","v":""},{"$f":"hoctobre","v":""},{"$f":"hoctobre","v":""},{"$f":"hoctobre","v":""},{"$f":"hoctobre","v":""},{"$f":"hoctobre","v":""},{"$f":"hoctobre","v":""},{"$f":"hoctobre","v":""},{"$f":"hoctobre","v":""},{"$f":"hoctobre","v":""},{"$f":"hoctobre","v":""},{"$f":"hoctobre","v":""},{"$f":"hoctobre","v":""},{"$f":"hoctobre","v":""},{"$f":"hoctobre","v":""},{"$f":"hoctobre","v":""},{"$f":"hoctobre","v":""},{"$f":"hoctobre","v":""},{"$f":"hoctobre","v":""},{"$f":"hoctobre","v":""},{"$f":"hoctobre","v":""},{"$f":"hoctobre","v":""},{"$f":"hoctobre","v":""},{"$f":"hoctobre","v":""}]
[{"$f":"Données!$H35","v":0},{"$f":"hoctobre","v":""},{"$f":"hoctobre","v":""},{"$f":"hoctobre","v":""},{"$f":"hoctobre","v":""},{"$f":"hoctobre","v":""},{"$f":"hoctobre","v":""},{"$f":"hoctobre","v":""},{"$f":"hoctobre","v":""},{"$f":"hoctobre","v":""},{"$f":"hoctobre","v":""},{"$f":"hoctobre","v":""},{"$f":"hoctobre","v":""},{"$f":"hoctobre","v":""},{"$f":"hoctobre","v":""},{"$f":"hoctobre","v":""},{"$f":"hoctobre","v":""},{"$f":"hoctobre","v":""},{"$f":"hoctobre","v":""},{"$f":"hoctobre","v":""},{"$f":"hoctobre","v":""},{"$f":"hoctobre","v":""},{"$f":"hoctobre","v":""},{"$f":"hoctobre","v":""},{"$f":"hoctobre","v":""},{"$f":"hoctobre","v":""},{"$f":"hoctobre","v":""},{"$f":"hoctobre","v":""},{"$f":"hoctobre","v":""},{"$f":"hoctobre","v":""},{"$f":"hoctobre","v":""},{"$f":"hoctobre","v":""}]
[{"$f":"Données!$H36","v":0},{"$f":"hoctobre","v":""},{"$f":"hoctobre","v":""},{"$f":"hoctobre","v":""},{"$f":"hoctobre","v":""},{"$f":"hoctobre","v":""},{"$f":"hoctobre","v":""},{"$f":"hoctobre","v":""},{"$f":"hoctobre","v":""},{"$f":"hoctobre","v":""},{"$f":"hoctobre","v":""},{"$f":"hoctobre","v":""},{"$f":"hoctobre","v":""},{"$f":"hoctobre","v":""},{"$f":"hoctobre","v":""},{"$f":"hoctobre","v":""},{"$f":"hoctobre","v":""},{"$f":"hoctobre","v":""},{"$f":"hoctobre","v":""},{"$f":"hoctobre","v":""},{"$f":"hoctobre","v":""},{"$f":"hoctobre","v":""},{"$f":"hoctobre","v":""},{"$f":"hoctobre","v":""},{"$f":"hoctobre","v":""},{"$f":"hoctobre","v":""},{"$f":"hoctobre","v":""},{"$f":"hoctobre","v":""},{"$f":"hoctobre","v":""},{"$f":"hoctobre","v":""},{"$f":"hoctobre","v":""},{"$f":"hoctobre","v":""}]
[{"$f":"Données!$H37","v":0},{"$f":"hoctobre","v":""},{"$f":"hoctobre","v":""},{"$f":"hoctobre","v":""},{"$f":"hoctobre","v":""},{"$f":"hoctobre","v":""},{"$f":"hoctobre","v":""},{"$f":"hoctobre","v":""},{"$f":"hoctobre","v":""},{"$f":"hoctobre","v":""},{"$f":"hoctobre","v":""},{"$f":"hoctobre","v":""},{"$f":"hoctobre","v":""},{"$f":"hoctobre","v":""},{"$f":"hoctobre","v":""},{"$f":"hoctobre","v":""},{"$f":"hoctobre","v":""},{"$f":"hoctobre","v":""},{"$f":"hoctobre","v":""},{"$f":"hoctobre","v":""},{"$f":"hoctobre","v":""},{"$f":"hoctobre","v":""},{"$f":"hoctobre","v":""},{"$f":"hoctobre","v":""},{"$f":"hoctobre","v":""},{"$f":"hoctobre","v":""},{"$f":"hoctobre","v":""},{"$f":"hoctobre","v":""},{"$f":"hoctobre","v":""},{"$f":"hoctobre","v":""},{"$f":"hoctobre","v":""},{"$f":"hoctobre","v":""}]
[{"$f":"Données!$H38","v":0},{"$f":"hoctobre","v":""},{"$f":"hoctobre","v":""},{"$f":"hoctobre","v":""},{"$f":"hoctobre","v":""},{"$f":"hoctobre","v":""},{"$f":"hoctobre","v":""},{"$f":"hoctobre","v":""},{"$f":"hoctobre","v":""},{"$f":"hoctobre","v":""},{"$f":"hoctobre","v":""},{"$f":"hoctobre","v":""},{"$f":"hoctobre","v":""},{"$f":"hoctobre","v":""},{"$f":"hoctobre","v":""},{"$f":"hoctobre","v":""},{"$f":"hoctobre","v":""},{"$f":"hoctobre","v":""},{"$f":"hoctobre","v":""},{"$f":"hoctobre","v":""},{"$f":"hoctobre","v":""},{"$f":"hoctobre","v":""},{"$f":"hoctobre","v":""},{"$f":"hoctobre","v":""},{"$f":"hoctobre","v":""},{"$f":"hoctobre","v":""},{"$f":"hoctobre","v":""},{"$f":"hoctobre","v":""},{"$f":"hoctobre","v":""},{"$f":"hoctobre","v":""},{"$f":"hoctobre","v":""},{"$f":"hoctobre","v":""}]
[{"$f":"Données!$H39","v":0},{"$f":"hoctobre","v":""},{"$f":"hoctobre","v":""},{"$f":"hoctobre","v":""},{"$f":"hoctobre","v":""},{"$f":"hoctobre","v":""},{"$f":"hoctobre","v":""},{"$f":"hoctobre","v":""},{"$f":"hoctobre","v":""},{"$f":"hoctobre","v":""},{"$f":"hoctobre","v":""},{"$f":"hoctobre","v":""},{"$f":"hoctobre","v":""},{"$f":"hoctobre","v":""},{"$f":"hoctobre","v":""},{"$f":"hoctobre","v":""},{"$f":"hoctobre","v":""},{"$f":"hoctobre","v":""},{"$f":"hoctobre","v":""},{"$f":"hoctobre","v":""},{"$f":"hoctobre","v":""},{"$f":"hoctobre","v":""},{"$f":"hoctobre","v":""},{"$f":"hoctobre","v":""},{"$f":"hoctobre","v":""},{"$f":"hoctobre","v":""},{"$f":"hoctobre","v":""},{"$f":"hoctobre","v":""},{"$f":"hoctobre","v":""},{"$f":"hoctobre","v":""},{"$f":"hoctobre","v":""},{"$f":"hoctobre","v":""}]
[{"$f":"Données!$H40","v":0},{"$f":"hoctobre","v":""},{"$f":"hoctobre","v":""},{"$f":"hoctobre","v":""},{"$f":"hoctobre","v":""},{"$f":"hoctobre","v":""},{"$f":"hoctobre","v":""},{"$f":"hoctobre","v":""},{"$f":"hoctobre","v":""},{"$f":"hoctobre","v":""},{"$f":"hoctobre","v":""},{"$f":"hoctobre","v":""},{"$f":"hoctobre","v":""},{"$f":"hoctobre","v":""},{"$f":"hoctobre","v":""},{"$f":"hoctobre","v":""},{"$f":"hoctobre","v":""},{"$f":"hoctobre","v":""},{"$f":"hoctobre","v":""},{"$f":"hoctobre","v":""},{"$f":"hoctobre","v":""},{"$f":"hoctobre","v":""},{"$f":"hoctobre","v":""},{"$f":"hoctobre","v":""},{"$f":"hoctobre","v":""},{"$f":"hoctobre","v":""},{"$f":"hoctobre","v":""},{"$f":"hoctobre","v":""},{"$f":"hoctobre","v":""},{"$f":"hoctobre","v":""},{"$f":"hoctobre","v":""},{"$f":"hoctobre","v":""}]
[{"$f":"Données!$H41","v":0},{"$f":"hoctobre","v":""},{"$f":"hoctobre","v":""},{"$f":"hoctobre","v":""},{"$f":"hoctobre","v":""},{"$f":"hoctobre","v":""},{"$f":"hoctobre","v":""},{"$f":"hoctobre","v":""},{"$f":"hoctobre","v":""},{"$f":"hoctobre","v":""},{"$f":"hoctobre","v":""},{"$f":"hoctobre","v":""},{"$f":"hoctobre","v":""},{"$f":"hoctobre","v":""},{"$f":"hoctobre","v":""},{"$f":"hoctobre","v":""},{"$f":"hoctobre","v":""},{"$f":"hoctobre","v":""},{"$f":"hoctobre","v":""},{"$f":"hoctobre","v":""},{"$f":"hoctobre","v":""},{"$f":"hoctobre","v":""},{"$f":"hoctobre","v":""},{"$f":"hoctobre","v":""},{"$f":"hoctobre","v":""},{"$f":"hoctobre","v":""},{"$f":"hoctobre","v":""},{"$f":"hoctobre","v":""},{"$f":"hoctobre","v":""},{"$f":"hoctobre","v":""},{"$f":"hoctobre","v":""},{"$f":"hoctobre","v":""}]
[{"$f":"Données!$H42","v":"Psychologue"}]
[{"$f":"Données!$H43","v":"O"},{"$f":"hoctobre","v":""},{"$f":"hoctobre","v":""},{"$f":"hoctobre","v":""},{"$f":"hoctobre","v":""},{"$f":"hoctobre","v":""},{"$f":"hoctobre","v":""},{"$f":"hoctobre","v":""},{"$f":"hoctobre","v":""},{"$f":"hoctobre","v":""},{"$f":"hoctobre","v":""},{"$f":"hoctobre","v":""},{"$f":"hoctobre","v":""},{"$f":"hoctobre","v":""},{"$f":"hoctobre","v":""},{"$f":"hoctobre","v":""},{"$f":"hoctobre","v":""},{"$f":"hoctobre","v":""},{"$f":"hoctobre","v":""},{"$f":"hoctobre","v":""},{"$f":"hoctobre","v":""},{"$f":"hoctobre","v":""},{"$f":"hoctobre","v":""},{"$f":"hoctobre","v":""},{"$f":"hoctobre","v":""},{"$f":"hoctobre","v":""},{"$f":"hoctobre","v":""},{"$f":"hoctobre","v":""},{"$f":"hoctobre","v":""},{"$f":"hoctobre","v":""},{"$f":"hoctobre","v":""},{"$f":"hoctobre","v":""}]
[{"$f":"Données!$H44","v":0},{"$f":"hoctobre","v":""},{"$f":"hoctobre","v":""},{"$f":"hoctobre","v":""},{"$f":"hoctobre","v":""},{"$f":"hoctobre","v":""},{"$f":"hoctobre","v":""},{"$f":"hoctobre","v":""},{"$f":"hoctobre","v":""},{"$f":"hoctobre","v":""},{"$f":"hoctobre","v":""},{"$f":"hoctobre","v":""},{"$f":"hoctobre","v":""},{"$f":"hoctobre","v":""},{"$f":"hoctobre","v":""},{"$f":"hoctobre","v":""},{"$f":"hoctobre","v":""},{"$f":"hoctobre","v":""},{"$f":"hoctobre","v":""},{"$f":"hoctobre","v":""},{"$f":"hoctobre","v":""},{"$f":"hoctobre","v":""},{"$f":"hoctobre","v":""},{"$f":"hoctobre","v":""},{"$f":"hoctobre","v":""},{"$f":"hoctobre","v":""},{"$f":"hoctobre","v":""},{"$f":"hoctobre","v":""},{"$f":"hoctobre","v":""},{"$f":"hoctobre","v":""},{"$f":"hoctobre","v":""},{"$f":"hoctobre","v":""}]
[{"$f":"Données!$H45","v":0},{"$f":"hoctobre","v":""},{"$f":"hoctobre","v":""},{"$f":"hoctobre","v":""},{"$f":"hoctobre","v":""},{"$f":"hoctobre","v":""},{"$f":"hoctobre","v":""},{"$f":"hoctobre","v":""},{"$f":"hoctobre","v":""},{"$f":"hoctobre","v":""},{"$f":"hoctobre","v":""},{"$f":"hoctobre","v":""},{"$f":"hoctobre","v":""},{"$f":"hoctobre","v":""},{"$f":"hoctobre","v":""},{"$f":"hoctobre","v":""},{"$f":"hoctobre","v":""},{"$f":"hoctobre","v":""},{"$f":"hoctobre","v":""},{"$f":"hoctobre","v":""},{"$f":"hoctobre","v":""},{"$f":"hoctobre","v":""},{"$f":"hoctobre","v":""},{"$f":"hoctobre","v":""},{"$f":"hoctobre","v":""},{"$f":"hoctobre","v":""},{"$f":"hoctobre","v":""},{"$f":"hoctobre","v":""},{"$f":"hoctobre","v":""},{"$f":"hoctobre","v":""},{"$f":"hoctobre","v":""},{"$f":"hoctobre","v":""}]
[{"$f":"Données!$H46","v":"Coordinatrice"}]
[{"$f":"Données!$H47","v":"P"},{"$f":"hoctobre","v":""},{"$f":"hoctobre","v":""},{"$f":"hoctobre","v":""},{"$f":"hoctobre","v":""},{"$f":"hoctobre","v":""},{"$f":"hoctobre","v":""},{"$f":"hoctobre","v":""},{"$f":"hoctobre","v":""},{"$f":"hoctobre","v":""},{"$f":"hoctobre","v":""},{"$f":"hoctobre","v":""},{"$f":"hoctobre","v":""},{"$f":"hoctobre","v":""},{"$f":"hoctobre","v":""},{"$f":"hoctobre","v":""},{"$f":"hoctobre","v":""},{"$f":"hoctobre","v":""},{"$f":"hoctobre","v":""},{"$f":"hoctobre","v":""},{"$f":"hoctobre","v":""},{"$f":"hoctobre","v":""},{"$f":"hoctobre","v":""},{"$f":"hoctobre","v":""},{"$f":"hoctobre","v":""},{"$f":"hoctobre","v":""},{"$f":"hoctobre","v":""},{"$f":"hoctobre","v":""},{"$f":"hoctobre","v":""},{"$f":"hoctobre","v":""},{"$f":"hoctobre","v":""},{"$f":"hoctobre","v":""}]
[{"$f":"Données!$H48","v":0},{"$f":"hoctobre","v":""},{"$f":"hoctobre","v":""},{"$f":"hoctobre","v":""},{"$f":"hoctobre","v":""},{"$f":"hoctobre","v":""},{"$f":"hoctobre","v":""},{"$f":"hoctobre","v":""},{"$f":"hoctobre","v":""},{"$f":"hoctobre","v":""},{"$f":"hoctobre","v":""},{"$f":"hoctobre","v":""},{"$f":"hoctobre","v":""},{"$f":"hoctobre","v":""},{"$f":"hoctobre","v":""},{"$f":"hoctobre","v":""},{"$f":"hoctobre","v":""},{"$f":"hoctobre","v":""},{"$f":"hoctobre","v":""},{"$f":"hoctobre","v":""},{"$f":"hoctobre","v":""},{"$f":"hoctobre","v":""},{"$f":"hoctobre","v":""},{"$f":"hoctobre","v":""},{"$f":"hoctobre","v":""},{"$f":"hoctobre","v":""},{"$f":"hoctobre","v":""},{"$f":"hoctobre","v":""},{"$f":"hoctobre","v":""},{"$f":"hoctobre","v":""},{"$f":"hoctobre","v":""},{"$f":"hoctobre","v":""}]
[{"$f":"Données!$H49","v":0},{"$f":"hoctobre","v":""},{"$f":"hoctobre","v":""},{"$f":"hoctobre","v":""},{"$f":"hoctobre","v":""},{"$f":"hoctobre","v":""},{"$f":"hoctobre","v":""},{"$f":"hoctobre","v":""},{"$f":"hoctobre","v":""},{"$f":"hoctobre","v":""},{"$f":"hoctobre","v":""},{"$f":"hoctobre","v":""},{"$f":"hoctobre","v":""},{"$f":"hoctobre","v":""},{"$f":"hoctobre","v":""},{"$f":"hoctobre","v":""},{"$f":"hoctobre","v":""},{"$f":"hoctobre","v":""},{"$f":"hoctobre","v":""},{"$f":"hoctobre","v":""},{"$f":"hoctobre","v":""},{"$f":"hoctobre","v":""},{"$f":"hoctobre","v":""},{"$f":"hoctobre","v":""},{"$f":"hoctobre","v":""},{"$f":"hoctobre","v":""},{"$f":"hoctobre","v":""},{"$f":"hoctobre","v":""},{"$f":"hoctobre","v":""},{"$f":"hoctobre","v":""},{"$f":"hoctobre","v":""},{"$f":"hoctobre","v":""}]
[{"$f":"Données!$H50","v":0},{"$f":"hoctobre","v":""},{"$f":"hoctobre","v":""},{"$f":"hoctobre","v":""},{"$f":"hoctobre","v":""},{"$f":"hoctobre","v":""},{"$f":"hoctobre","v":""},{"$f":"hoctobre","v":""},{"$f":"hoctobre","v":""},{"$f":"hoctobre","v":""},{"$f":"hoctobre","v":""},{"$f":"hoctobre","v":""},{"$f":"hoctobre","v":""},{"$f":"hoctobre","v":""},{"$f":"hoctobre","v":""},{"$f":"hoctobre","v":""},{"$f":"hoctobre","v":""},{"$f":"hoctobre","v":""},{"$f":"hoctobre","v":""},{"$f":"hoctobre","v":""},{"$f":"hoctobre","v":""},{"$f":"hoctobre","v":""},{"$f":"hoctobre","v":""},{"$f":"hoctobre","v":""},{"$f":"hoctobre","v":""},{"$f":"hoctobre","v":""},{"$f":"hoctobre","v":""},{"$f":"hoctobre","v":""},{"$f":"hoctobre","v":""},{"$f":"hoctobre","v":""},{"$f":"hoctobre","v":""},{"$f":"hoctobre","v":""}]
[{"$f":"Données!$H51","v":0},{"$f":"hoctobre","v":""},{"$f":"hoctobre","v":""},{"$f":"hoctobre","v":""},{"$f":"hoctobre","v":""},{"$f":"hoctobre","v":""},{"$f":"hoctobre","v":""},{"$f":"hoctobre","v":""},{"$f":"hoctobre","v":""},{"$f":"hoctobre","v":""},{"$f":"hoctobre","v":""},{"$f":"hoctobre","v":""},{"$f":"hoctobre","v":""},{"$f":"hoctobre","v":""},{"$f":"hoctobre","v":""},{"$f":"hoctobre","v":""},{"$f":"hoctobre","v":""},{"$f":"hoctobre","v":""},{"$f":"hoctobre","v":""},{"$f":"hoctobre","v":""},{"$f":"hoctobre","v":""},{"$f":"hoctobre","v":""},{"$f":"hoctobre","v":""},{"$f":"hoctobre","v":""},{"$f":"hoctobre","v":""},{"$f":"hoctobre","v":""},{"$f":"hoctobre","v":""},{"$f":"hoctobre","v":""},{"$f":"hoctobre","v":""},{"$f":"hoctobre","v":""},{"$f":"hoctobre","v":""},{"$f":"hoctobre","v":""}]
[{"$f":"Données!$H52","v":"Chef de service"}]
[{"$f":"Données!$H53","v":"Q"},{"$f":"hoctobre","v":""},{"$f":"hoctobre","v":""},{"$f":"hoctobre","v":""},{"$f":"hoctobre","v":""},{"$f":"hoctobre","v":""},{"$f":"hoctobre","v":""},{"$f":"hoctobre","v":""},{"$f":"hoctobre","v":""},{"$f":"hoctobre","v":""},{"$f":"hoctobre","v":""},{"$f":"hoctobre","v":""},{"$f":"hoctobre","v":""},{"$f":"hoctobre","v":""},{"$f":"hoctobre","v":""},{"$f":"hoctobre","v":""},{"$f":"hoctobre","v":""},{"$f":"hoctobre","v":""},{"$f":"hoctobre","v":""},{"$f":"hoctobre","v":""},{"$f":"hoctobre","v":""},{"$f":"hoctobre","v":""},{"$f":"hoctobre","v":""},{"$f":"hoctobre","v":""},{"$f":"hoctobre","v":""},{"$f":"hoctobre","v":""},{"$f":"hoctobre","v":""},{"$f":"hoctobre","v":""},{"$f":"hoctobre","v":""},{"$f":"hoctobre","v":""},{"$f":"hoctobre","v":""},{"$f":"hoctobre","v":""}]

{"sheet":"HNovembre","index":24,"n_rows":56,"n_cols":31,"rows_kept":56,"cut":false,"hidden":false,"merged":[]}
[null,null,null,"Mois de","Novembre",{"$f":"An","v":2018}]
[null,{"$f":"DATE(An,Novembre,B7)","v":"2018-11-01"},"2018-11-02","2018-11-03","2018-11-04","2018-11-05","2018-11-06","2018-11-07","2018-11-08","2018-11-09","2018-11-10","2018-11-11","2018-11-12","2018-11-13","2018-11-14","2018-11-15","2018-11-16","2018-11-17","2018-11-18","2018-11-19","2018-11-20","2018-11-21","2018-11-22","2018-11-23","2018-11-24","2018-11-25","2018-11-26","2018-11-27","2018-11-28","2018-11-29","2018-11-30"]
[{"$f":"IF(Données!$L$5=\"\",\"Service\",Données!$L$5)","v":"Service"}]
[]
[]
["Jours",{"$f":"PROPER(TEXT(DATE(An,Novembre,B$7),\"jjjjjj\"))","v":"Jeudi"},"Vendredi","Samedi","Dimanche","Lundi","Mardi","Mercredi","Jeudi","Vendredi","Samedi","Dimanche","Lundi","Mardi","Mercredi","Jeudi","Vendredi","Samedi","Dimanche","Lundi","Mardi","Mercredi","Jeudi","Vendredi","Samedi","Dimanche","Lundi","Mardi","Mercredi","Jeudi","Vendredi"]
[null,1,{"$f":"B$7+1","v":2},{"$f":"C$7+1","v":3},4,5,6,7,8,9,10,11,12,13,14,15,16,17,18,19,20,21,22,23,24,25,26,27,28,29,30]
["Equipe de jour"]
[{"$f":"Données!$H6","v":"A"},{"$f":"hnovembre","v":""},{"$f":"hnovembre","v":""},{"$f":"hnovembre","v":""},{"$f":"hnovembre","v":""},{"$f":"hnovembre","v":""},{"$f":"hnovembre","v":""},{"$f":"hnovembre","v":""},{"$f":"hnovembre","v":""},{"$f":"hnovembre","v":""},{"$f":"hnovembre","v":""},{"$f":"hnovembre","v":""},{"$f":"hnovembre","v":""},{"$f":"hnovembre","v":""},{"$f":"hnovembre","v":""},{"$f":"hnovembre","v":""},{"$f":"hnovembre","v":""},{"$f":"hnovembre","v":""},{"$f":"hnovembre","v":""},{"$f":"hnovembre","v":""},{"$f":"hnovembre","v":""},{"$f":"hnovembre","v":""},{"$f":"hnovembre","v":""},{"$f":"hnovembre","v":""},{"$f":"hnovembre","v":""},{"$f":"hnovembre","v":""},{"$f":"hnovembre","v":""},{"$f":"hnovembre","v":""},{"$f":"hnovembre","v":""},{"$f":"hnovembre","v":""},{"$f":"hnovembre","v":""}]
[{"$f":"Données!$H7","v":0},{"$f":"hnovembre","v":""},{"$f":"hnovembre","v":""},{"$f":"hnovembre","v":""},{"$f":"hnovembre","v":""},{"$f":"hnovembre","v":""},{"$f":"hnovembre","v":""},{"$f":"hnovembre","v":""},{"$f":"hnovembre","v":""},{"$f":"hnovembre","v":""},{"$f":"hnovembre","v":""},{"$f":"hnovembre","v":""},{"$f":"hnovembre","v":""},{"$f":"hnovembre","v":""},{"$f":"hnovembre","v":""},{"$f":"hnovembre","v":""},{"$f":"hnovembre","v":""},{"$f":"hnovembre","v":""},{"$f":"hnovembre","v":""},{"$f":"hnovembre","v":""},{"$f":"hnovembre","v":""},{"$f":"hnovembre","v":""},{"$f":"hnovembre","v":""},{"$f":"hnovembre","v":""},{"$f":"hnovembre","v":""},{"$f":"hnovembre","v":""},{"$f":"hnovembre","v":""},{"$f":"hnovembre","v":""},{"$f":"hnovembre","v":""},{"$f":"hnovembre","v":""},{"$f":"hnovembre","v":""}]
[{"$f":"Données!$H8","v":0},{"$f":"hnovembre","v":""},{"$f":"hnovembre","v":""},{"$f":"hnovembre","v":""},{"$f":"hnovembre","v":""},{"$f":"hnovembre","v":""},{"$f":"hnovembre","v":""},{"$f":"hnovembre","v":""},{"$f":"hnovembre","v":""},{"$f":"hnovembre","v":""},{"$f":"hnovembre","v":""},{"$f":"hnovembre","v":""},{"$f":"hnovembre","v":""},{"$f":"hnovembre","v":""},{"$f":"hnovembre","v":""},{"$f":"hnovembre","v":""},{"$f":"hnovembre","v":""},{"$f":"hnovembre","v":""},{"$f":"hnovembre","v":""},{"$f":"hnovembre","v":""},{"$f":"hnovembre","v":""},{"$f":"hnovembre","v":""},{"$f":"hnovembre","v":""},{"$f":"hnovembre","v":""},{"$f":"hnovembre","v":""},{"$f":"hnovembre","v":""},{"$f":"hnovembre","v":""},{"$f":"hnovembre","v":""},{"$f":"hnovembre","v":""},{"$f":"hnovembre","v":""},{"$f":"hnovembre","v":""}]
[{"$f":"Données!$H9","v":0},{"$f":"hnovembre","v":""},{"$f":"hnovembre","v":""},{"$f":"hnovembre","v":""},{"$f":"hnovembre","v":""},{"$f":"hnovembre","v":""},{"$f":"hnovembre","v":""},{"$f":"hnovembre","v":""},{"$f":"hnovembre","v":""},{"$f":"hnovembre","v":""},{"$f":"hnovembre","v":""},{"$f":"hnovembre","v":""},{"$f":"hnovembre","v":""},{"$f":"hnovembre","v":""},{"$f":"hnovembre","v":""},{"$f":"hnovembre","v":""},{"$f":"hnovembre","v":""},{"$f":"hnovembre","v":""},{"$f":"hnovembre","v":""},{"$f":"hnovembre","v":""},{"$f":"hnovembre","v":""},{"$f":"hnovembre","v":""},{"$f":"hnovembre","v":""},{"$f":"hnovembre","v":""},{"$f":"hnovembre","v":""},{"$f":"hnovembre","v":""},{"$f":"hnovembre","v":""},{"$f":"hnovembre","v":""},{"$f":"hnovembre","v":""},{"$f":"hnovembre","v":""},{"$f":"hnovembre","v":""}]
[{"$f":"Données!$H10","v":0},{"$f":"hnovembre","v":""},{"$f":"hnovembre","v":""},{"$f":"hnovembre","v":""},{"$f":"hnovembre","v":""},{"$f":"hnovembre","v":""},{"$f":"hnovembre","v":""},{"$f":"hnovembre","v":""},{"$f":"hnovembre","v":""},{"$f":"hnovembre","v":""},{"$f":"hnovembre","v":""},{"$f":"hnovembre","v":""},{"$f":"hnovembre","v":""},{"$f":"hnovembre","v":""},{"$f":"hnovembre","v":""},{"$f":"hnovembre","v":""},{"$f":"hnovembre","v":""},{"$f":"hnovembre","v":""},{"$f":"hnovembre","v":""},{"$f":"hnovembre","v":""},{"$f":"hnovembre","v":""},{"$f":"hnovembre","v":""},{"$f":"hnovembre","v":""},{"$f":"hnovembre","v":""},{"$f":"hnovembre","v":""},{"$f":"hnovembre","v":""},{"$f":"hnovembre","v":""},{"$f":"hnovembre","v":""},{"$f":"hnovembre","v":""},{"$f":"hnovembre","v":""},{"$f":"hnovembre","v":""}]
[{"$f":"Données!$H11","v":0},{"$f":"hnovembre","v":""},{"$f":"hnovembre","v":""},{"$f":"hnovembre","v":""},{"$f":"hnovembre","v":""},{"$f":"hnovembre","v":""},{"$f":"hnovembre","v":""},{"$f":"hnovembre","v":""},{"$f":"hnovembre","v":""},{"$f":"hnovembre","v":""},{"$f":"hnovembre","v":""},{"$f":"hnovembre","v":""},{"$f":"hnovembre","v":""},{"$f":"hnovembre","v":""},{"$f":"hnovembre","v":""},{"$f":"hnovembre","v":""},{"$f":"hnovembre","v":""},{"$f":"hnovembre","v":""},{"$f":"hnovembre","v":""},{"$f":"hnovembre","v":""},{"$f":"hnovembre","v":""},{"$f":"hnovembre","v":""},{"$f":"hnovembre","v":""},{"$f":"hnovembre","v":""},{"$f":"hnovembre","v":""},{"$f":"hnovembre","v":""},{"$f":"hnovembre","v":""},{"$f":"hnovembre","v":""},{"$f":"hnovembre","v":""},{"$f":"hnovembre","v":""},{"$f":"hnovembre","v":""}]
[{"$f":"Données!$H12","v":0},{"$f":"hnovembre","v":""},{"$f":"hnovembre","v":""},{"$f":"hnovembre","v":""},{"$f":"hnovembre","v":""},{"$f":"hnovembre","v":""},{"$f":"hnovembre","v":""},{"$f":"hnovembre","v":""},{"$f":"hnovembre","v":""},{"$f":"hnovembre","v":""},{"$f":"hnovembre","v":""},{"$f":"hnovembre","v":""},{"$f":"hnovembre","v":""},{"$f":"hnovembre","v":""},{"$f":"hnovembre","v":""},{"$f":"hnovembre","v":""},{"$f":"hnovembre","v":""},{"$f":"hnovembre","v":""},{"$f":"hnovembre","v":""},{"$f":"hnovembre","v":""},{"$f":"hnovembre","v":""},{"$f":"hnovembre","v":""},{"$f":"hnovembre","v":""},{"$f":"hnovembre","v":""},{"$f":"hnovembre","v":""},{"$f":"hnovembre","v":""},{"$f":"hnovembre","v":""},{"$f":"hnovembre","v":""},{"$f":"hnovembre","v":""},{"$f":"hnovembre","v":""},{"$f":"hnovembre","v":""}]
[{"$f":"Données!$H13","v":0},{"$f":"hnovembre","v":""},{"$f":"hnovembre","v":""},{"$f":"hnovembre","v":""},{"$f":"hnovembre","v":""},{"$f":"hnovembre","v":""},{"$f":"hnovembre","v":""},{"$f":"hnovembre","v":""},{"$f":"hnovembre","v":""},{"$f":"hnovembre","v":""},{"$f":"hnovembre","v":""},{"$f":"hnovembre","v":""},{"$f":"hnovembre","v":""},{"$f":"hnovembre","v":""},{"$f":"hnovembre","v":""},{"$f":"hnovembre","v":""},{"$f":"hnovembre","v":""},{"$f":"hnovembre","v":""},{"$f":"hnovembre","v":""},{"$f":"hnovembre","v":""},{"$f":"hnovembre","v":""},{"$f":"hnovembre","v":""},{"$f":"hnovembre","v":""},{"$f":"hnovembre","v":""},{"$f":"hnovembre","v":""},{"$f":"hnovembre","v":""},{"$f":"hnovembre","v":""},{"$f":"hnovembre","v":""},{"$f":"hnovembre","v":""},{"$f":"hnovembre","v":""},{"$f":"hnovembre","v":""}]
[{"$f":"Données!$H14","v":0},{"$f":"hnovembre","v":""},{"$f":"hnovembre","v":""},{"$f":"hnovembre","v":""},{"$f":"hnovembre","v":""},{"$f":"hnovembre","v":""},{"$f":"hnovembre","v":""},{"$f":"hnovembre","v":""},{"$f":"hnovembre","v":""},{"$f":"hnovembre","v":""},{"$f":"hnovembre","v":""},{"$f":"hnovembre","v":""},{"$f":"hnovembre","v":""},{"$f":"hnovembre","v":""},{"$f":"hnovembre","v":""},{"$f":"hnovembre","v":""},{"$f":"hnovembre","v":""},{"$f":"hnovembre","v":""},{"$f":"hnovembre","v":""},{"$f":"hnovembre","v":""},{"$f":"hnovembre","v":""},{"$f":"hnovembre","v":""},{"$f":"hnovembre","v":""},{"$f":"hnovembre","v":""},{"$f":"hnovembre","v":""},{"$f":"hnovembre","v":""},{"$f":"hnovembre","v":""},{"$f":"hnovembre","v":""},{"$f":"hnovembre","v":""},{"$f":"hnovembre","v":""},{"$f":"hnovembre","v":""}]
[{"$f":"Données!$H15","v":0},{"$f":"hnovembre","v":""},{"$f":"hnovembre","v":""},{"$f":"hnovembre","v":""},{"$f":"hnovembre","v":""},{"$f":"hnovembre","v":""},{"$f":"hnovembre","v":""},{"$f":"hnovembre","v":""},{"$f":"hnovembre","v":""},{"$f":"hnovembre","v":""},{"$f":"hnovembre","v":""},{"$f":"hnovembre","v":""},{"$f":"hnovembre","v":""},{"$f":"hnovembre","v":""},{"$f":"hnovembre","v":""},{"$f":"hnovembre","v":""},{"$f":"hnovembre","v":""},{"$f":"hnovembre","v":""},{"$f":"hnovembre","v":""},{"$f":"hnovembre","v":""},{"$f":"hnovembre","v":""},{"$f":"hnovembre","v":""},{"$f":"hnovembre","v":""},{"$f":"hnovembre","v":""},{"$f":"hnovembre","v":""},{"$f":"hnovembre","v":""},{"$f":"hnovembre","v":""},{"$f":"hnovembre","v":""},{"$f":"hnovembre","v":""},{"$f":"hnovembre","v":""},{"$f":"hnovembre","v":""}]
[{"$f":"Données!$H16","v":0},{"$f":"hnovembre","v":""},{"$f":"hnovembre","v":""},{"$f":"hnovembre","v":""},{"$f":"hnovembre","v":""},{"$f":"hnovembre","v":""},{"$f":"hnovembre","v":""},{"$f":"hnovembre","v":""},{"$f":"hnovembre","v":""},{"$f":"hnovembre","v":""},{"$f":"hnovembre","v":""},{"$f":"hnovembre","v":""},{"$f":"hnovembre","v":""},{"$f":"hnovembre","v":""},{"$f":"hnovembre","v":""},{"$f":"hnovembre","v":""},{"$f":"hnovembre","v":""},{"$f":"hnovembre","v":""},{"$f":"hnovembre","v":""},{"$f":"hnovembre","v":""},{"$f":"hnovembre","v":""},{"$f":"hnovembre","v":""},{"$f":"hnovembre","v":""},{"$f":"hnovembre","v":""},{"$f":"hnovembre","v":""},{"$f":"hnovembre","v":""},{"$f":"hnovembre","v":""},{"$f":"hnovembre","v":""},{"$f":"hnovembre","v":""},{"$f":"hnovembre","v":""},{"$f":"hnovembre","v":""}]
[{"$f":"Données!$H17","v":0},{"$f":"hnovembre","v":""},{"$f":"hnovembre","v":""},{"$f":"hnovembre","v":""},{"$f":"hnovembre","v":""},{"$f":"hnovembre","v":""},{"$f":"hnovembre","v":""},{"$f":"hnovembre","v":""},{"$f":"hnovembre","v":""},{"$f":"hnovembre","v":""},{"$f":"hnovembre","v":""},{"$f":"hnovembre","v":""},{"$f":"hnovembre","v":""},{"$f":"hnovembre","v":""},{"$f":"hnovembre","v":""},{"$f":"hnovembre","v":""},{"$f":"hnovembre","v":""},{"$f":"hnovembre","v":""},{"$f":"hnovembre","v":""},{"$f":"hnovembre","v":""},{"$f":"hnovembre","v":""},{"$f":"hnovembre","v":""},{"$f":"hnovembre","v":""},{"$f":"hnovembre","v":""},{"$f":"hnovembre","v":""},{"$f":"hnovembre","v":""},{"$f":"hnovembre","v":""},{"$f":"hnovembre","v":""},{"$f":"hnovembre","v":""},{"$f":"hnovembre","v":""},{"$f":"hnovembre","v":""}]
[{"$f":"Données!$H18","v":0},{"$f":"hnovembre","v":""},{"$f":"hnovembre","v":""},{"$f":"hnovembre","v":""},{"$f":"hnovembre","v":""},{"$f":"hnovembre","v":""},{"$f":"hnovembre","v":""},{"$f":"hnovembre","v":""},{"$f":"hnovembre","v":""},{"$f":"hnovembre","v":""},{"$f":"hnovembre","v":""},{"$f":"hnovembre","v":""},{"$f":"hnovembre","v":""},{"$f":"hnovembre","v":""},{"$f":"hnovembre","v":""},{"$f":"hnovembre","v":""},{"$f":"hnovembre","v":""},{"$f":"hnovembre","v":""},{"$f":"hnovembre","v":""},{"$f":"hnovembre","v":""},{"$f":"hnovembre","v":""},{"$f":"hnovembre","v":""},{"$f":"hnovembre","v":""},{"$f":"hnovembre","v":""},{"$f":"hnovembre","v":""},{"$f":"hnovembre","v":""},{"$f":"hnovembre","v":""},{"$f":"hnovembre","v":""},{"$f":"hnovembre","v":""},{"$f":"hnovembre","v":""},{"$f":"hnovembre","v":""}]
[{"$f":"Données!$H19","v":0},{"$f":"hnovembre","v":""},{"$f":"hnovembre","v":""},{"$f":"hnovembre","v":""},{"$f":"hnovembre","v":""},{"$f":"hnovembre","v":""},{"$f":"hnovembre","v":""},{"$f":"hnovembre","v":""},{"$f":"hnovembre","v":""},{"$f":"hnovembre","v":""},{"$f":"hnovembre","v":""},{"$f":"hnovembre","v":""},{"$f":"hnovembre","v":""},{"$f":"hnovembre","v":""},{"$f":"hnovembre","v":""},{"$f":"hnovembre","v":""},{"$f":"hnovembre","v":""},{"$f":"hnovembre","v":""},{"$f":"hnovembre","v":""},{"$f":"hnovembre","v":""},{"$f":"hnovembre","v":""},{"$f":"hnovembre","v":""},{"$f":"hnovembre","v":""},{"$f":"hnovembre","v":""},{"$f":"hnovembre","v":""},{"$f":"hnovembre","v":""},{"$f":"hnovembre","v":""},{"$f":"hnovembre","v":""},{"$f":"hnovembre","v":""},{"$f":"hnovembre","v":""},{"$f":"hnovembre","v":""}]
[{"$f":"Données!$H20","v":0},{"$f":"hnovembre","v":""},{"$f":"hnovembre","v":""},{"$f":"hnovembre","v":""},{"$f":"hnovembre","v":""},{"$f":"hnovembre","v":""},{"$f":"hnovembre","v":""},{"$f":"hnovembre","v":""},{"$f":"hnovembre","v":""},{"$f":"hnovembre","v":""},{"$f":"hnovembre","v":""},{"$f":"hnovembre","v":""},{"$f":"hnovembre","v":""},{"$f":"hnovembre","v":""},{"$f":"hnovembre","v":""},{"$f":"hnovembre","v":""},{"$f":"hnovembre","v":""},{"$f":"hnovembre","v":""},{"$f":"hnovembre","v":""},{"$f":"hnovembre","v":""},{"$f":"hnovembre","v":""},{"$f":"hnovembre","v":""},{"$f":"hnovembre","v":""},{"$f":"hnovembre","v":""},{"$f":"hnovembre","v":""},{"$f":"hnovembre","v":""},{"$f":"hnovembre","v":""},{"$f":"hnovembre","v":""},{"$f":"hnovembre","v":""},{"$f":"hnovembre","v":""},{"$f":"hnovembre","v":""}]
[{"$f":"Données!$H21","v":0},{"$f":"hnovembre","v":""},{"$f":"hnovembre","v":""},{"$f":"hnovembre","v":""},{"$f":"hnovembre","v":""},{"$f":"hnovembre","v":""},{"$f":"hnovembre","v":""},{"$f":"hnovembre","v":""},{"$f":"hnovembre","v":""},{"$f":"hnovembre","v":""},{"$f":"hnovembre","v":""},{"$f":"hnovembre","v":""},{"$f":"hnovembre","v":""},{"$f":"hnovembre","v":""},{"$f":"hnovembre","v":""},{"$f":"hnovembre","v":""},{"$f":"hnovembre","v":""},{"$f":"hnovembre","v":""},{"$f":"hnovembre","v":""},{"$f":"hnovembre","v":""},{"$f":"hnovembre","v":""},{"$f":"hnovembre","v":""},{"$f":"hnovembre","v":""},{"$f":"hnovembre","v":""},{"$f":"hnovembre","v":""},{"$f":"hnovembre","v":""},{"$f":"hnovembre","v":""},{"$f":"hnovembre","v":""},{"$f":"hnovembre","v":""},{"$f":"hnovembre","v":""},{"$f":"hnovembre","v":""}]
[{"$f":"Données!$H22","v":"Equipe de nuit"}]
[{"$f":"Données!$H23","v":"K"},{"$f":"hnovembre","v":""},{"$f":"hnovembre","v":""},{"$f":"hnovembre","v":""},{"$f":"hnovembre","v":""},{"$f":"hnovembre","v":""},{"$f":"hnovembre","v":""},{"$f":"hnovembre","v":""},{"$f":"hnovembre","v":""},{"$f":"hnovembre","v":""},{"$f":"hnovembre","v":""},{"$f":"hnovembre","v":""},{"$f":"hnovembre","v":""},{"$f":"hnovembre","v":""},{"$f":"hnovembre","v":""},{"$f":"hnovembre","v":""},{"$f":"hnovembre","v":""},{"$f":"hnovembre","v":""},{"$f":"hnovembre","v":""},{"$f":"hnovembre","v":""},{"$f":"hnovembre","v":""},{"$f":"hnovembre","v":""},{"$f":"hnovembre","v":""},{"$f":"hnovembre","v":""},{"$f":"hnovembre","v":""},{"$f":"hnovembre","v":""},{"$f":"hnovembre","v":""},{"$f":"hnovembre","v":""},{"$f":"hnovembre","v":""},{"$f":"hnovembre","v":""},{"$f":"hnovembre","v":""}]
[{"$f":"Données!$H24","v":0},{"$f":"hnovembre","v":""},{"$f":"hnovembre","v":""},{"$f":"hnovembre","v":""},{"$f":"hnovembre","v":""},{"$f":"hnovembre","v":""},{"$f":"hnovembre","v":""},{"$f":"hnovembre","v":""},{"$f":"hnovembre","v":""},{"$f":"hnovembre","v":""},{"$f":"hnovembre","v":""},{"$f":"hnovembre","v":""},{"$f":"hnovembre","v":""},{"$f":"hnovembre","v":""},{"$f":"hnovembre","v":""},{"$f":"hnovembre","v":""},{"$f":"hnovembre","v":""},{"$f":"hnovembre","v":""},{"$f":"hnovembre","v":""},{"$f":"hnovembre","v":""},{"$f":"hnovembre","v":""},{"$f":"hnovembre","v":""},{"$f":"hnovembre","v":""},{"$f":"hnovembre","v":""},{"$f":"hnovembre","v":""},{"$f":"hnovembre","v":""},{"$f":"hnovembre","v":""},{"$f":"hnovembre","v":""},{"$f":"hnovembre","v":""},{"$f":"hnovembre","v":""},{"$f":"hnovembre","v":""}]
[{"$f":"Données!$H25","v":0},{"$f":"hnovembre","v":""},{"$f":"hnovembre","v":""},{"$f":"hnovembre","v":""},{"$f":"hnovembre","v":""},{"$f":"hnovembre","v":""},{"$f":"hnovembre","v":""},{"$f":"hnovembre","v":""},{"$f":"hnovembre","v":""},{"$f":"hnovembre","v":""},{"$f":"hnovembre","v":""},{"$f":"hnovembre","v":""},{"$f":"hnovembre","v":""},{"$f":"hnovembre","v":""},{"$f":"hnovembre","v":""},{"$f":"hnovembre","v":""},{"$f":"hnovembre","v":""},{"$f":"hnovembre","v":""},{"$f":"hnovembre","v":""},{"$f":"hnovembre","v":""},{"$f":"hnovembre","v":""},{"$f":"hnovembre","v":""},{"$f":"hnovembre","v":""},{"$f":"hnovembre","v":""},{"$f":"hnovembre","v":""},{"$f":"hnovembre","v":""},{"$f":"hnovembre","v":""},{"$f":"hnovembre","v":""},{"$f":"hnovembre","v":""},{"$f":"hnovembre","v":""},{"$f":"hnovembre","v":""}]
[{"$f":"Données!$H26","v":0},{"$f":"hnovembre","v":""},{"$f":"hnovembre","v":""},{"$f":"hnovembre","v":""},{"$f":"hnovembre","v":""},{"$f":"hnovembre","v":""},{"$f":"hnovembre","v":""},{"$f":"hnovembre","v":""},{"$f":"hnovembre","v":""},{"$f":"hnovembre","v":""},{"$f":"hnovembre","v":""},{"$f":"hnovembre","v":""},{"$f":"hnovembre","v":""},{"$f":"hnovembre","v":""},{"$f":"hnovembre","v":""},{"$f":"hnovembre","v":""},{"$f":"hnovembre","v":""},{"$f":"hnovembre","v":""},{"$f":"hnovembre","v":""},{"$f":"hnovembre","v":""},{"$f":"hnovembre","v":""},{"$f":"hnovembre","v":""},{"$f":"hnovembre","v":""},{"$f":"hnovembre","v":""},{"$f":"hnovembre","v":""},{"$f":"hnovembre","v":""},{"$f":"hnovembre","v":""},{"$f":"hnovembre","v":""},{"$f":"hnovembre","v":""},{"$f":"hnovembre","v":""},{"$f":"hnovembre","v":""}]
[{"$f":"Données!$H27","v":0},{"$f":"hnovembre","v":""},{"$f":"hnovembre","v":""},{"$f":"hnovembre","v":""},{"$f":"hnovembre","v":""},{"$f":"hnovembre","v":""},{"$f":"hnovembre","v":""},{"$f":"hnovembre","v":""},{"$f":"hnovembre","v":""},{"$f":"hnovembre","v":""},{"$f":"hnovembre","v":""},{"$f":"hnovembre","v":""},{"$f":"hnovembre","v":""},{"$f":"hnovembre","v":""},{"$f":"hnovembre","v":""},{"$f":"hnovembre","v":""},{"$f":"hnovembre","v":""},{"$f":"hnovembre","v":""},{"$f":"hnovembre","v":""},{"$f":"hnovembre","v":""},{"$f":"hnovembre","v":""},{"$f":"hnovembre","v":""},{"$f":"hnovembre","v":""},{"$f":"hnovembre","v":""},{"$f":"hnovembre","v":""},{"$f":"hnovembre","v":""},{"$f":"hnovembre","v":""},{"$f":"hnovembre","v":""},{"$f":"hnovembre","v":""},{"$f":"hnovembre","v":""},{"$f":"hnovembre","v":""}]
[{"$f":"Données!$H28","v":0},{"$f":"hnovembre","v":""},{"$f":"hnovembre","v":""},{"$f":"hnovembre","v":""},{"$f":"hnovembre","v":""},{"$f":"hnovembre","v":""},{"$f":"hnovembre","v":""},{"$f":"hnovembre","v":""},{"$f":"hnovembre","v":""},{"$f":"hnovembre","v":""},{"$f":"hnovembre","v":""},{"$f":"hnovembre","v":""},{"$f":"hnovembre","v":""},{"$f":"hnovembre","v":""},{"$f":"hnovembre","v":""},{"$f":"hnovembre","v":""},{"$f":"hnovembre","v":""},{"$f":"hnovembre","v":""},{"$f":"hnovembre","v":""},{"$f":"hnovembre","v":""},{"$f":"hnovembre","v":""},{"$f":"hnovembre","v":""},{"$f":"hnovembre","v":""},{"$f":"hnovembre","v":""},{"$f":"hnovembre","v":""},{"$f":"hnovembre","v":""},{"$f":"hnovembre","v":""},{"$f":"hnovembre","v":""},{"$f":"hnovembre","v":""},{"$f":"hnovembre","v":""},{"$f":"hnovembre","v":""}]
[{"$f":"Données!$H29","v":0},{"$f":"hnovembre","v":""},{"$f":"hnovembre","v":""},{"$f":"hnovembre","v":""},{"$f":"hnovembre","v":""},{"$f":"hnovembre","v":""},{"$f":"hnovembre","v":""},{"$f":"hnovembre","v":""},{"$f":"hnovembre","v":""},{"$f":"hnovembre","v":""},{"$f":"hnovembre","v":""},{"$f":"hnovembre","v":""},{"$f":"hnovembre","v":""},{"$f":"hnovembre","v":""},{"$f":"hnovembre","v":""},{"$f":"hnovembre","v":""},{"$f":"hnovembre","v":""},{"$f":"hnovembre","v":""},{"$f":"hnovembre","v":""},{"$f":"hnovembre","v":""},{"$f":"hnovembre","v":""},{"$f":"hnovembre","v":""},{"$f":"hnovembre","v":""},{"$f":"hnovembre","v":""},{"$f":"hnovembre","v":""},{"$f":"hnovembre","v":""},{"$f":"hnovembre","v":""},{"$f":"hnovembre","v":""},{"$f":"hnovembre","v":""},{"$f":"hnovembre","v":""},{"$f":"hnovembre","v":""}]
[{"$f":"Données!$H30","v":0},{"$f":"hnovembre","v":""},{"$f":"hnovembre","v":""},{"$f":"hnovembre","v":""},{"$f":"hnovembre","v":""},{"$f":"hnovembre","v":""},{"$f":"hnovembre","v":""},{"$f":"hnovembre","v":""},{"$f":"hnovembre","v":""},{"$f":"hnovembre","v":""},{"$f":"hnovembre","v":""},{"$f":"hnovembre","v":""},{"$f":"hnovembre","v":""},{"$f":"hnovembre","v":""},{"$f":"hnovembre","v":""},{"$f":"hnovembre","v":""},{"$f":"hnovembre","v":""},{"$f":"hnovembre","v":""},{"$f":"hnovembre","v":""},{"$f":"hnovembre","v":""},{"$f":"hnovembre","v":""},{"$f":"hnovembre","v":""},{"$f":"hnovembre","v":""},{"$f":"hnovembre","v":""},{"$f":"hnovembre","v":""},{"$f":"hnovembre","v":""},{"$f":"hnovembre","v":""},{"$f":"hnovembre","v":""},{"$f":"hnovembre","v":""},{"$f":"hnovembre","v":""},{"$f":"hnovembre","v":""}]
[{"$f":"Données!$H31","v":0},{"$f":"hnovembre","v":""},{"$f":"hnovembre","v":""},{"$f":"hnovembre","v":""},{"$f":"hnovembre","v":""},{"$f":"hnovembre","v":""},{"$f":"hnovembre","v":""},{"$f":"hnovembre","v":""},{"$f":"hnovembre","v":""},{"$f":"hnovembre","v":""},{"$f":"hnovembre","v":""},{"$f":"hnovembre","v":""},{"$f":"hnovembre","v":""},{"$f":"hnovembre","v":""},{"$f":"hnovembre","v":""},{"$f":"hnovembre","v":""},{"$f":"hnovembre","v":""},{"$f":"hnovembre","v":""},{"$f":"hnovembre","v":""},{"$f":"hnovembre","v":""},{"$f":"hnovembre","v":""},{"$f":"hnovembre","v":""},{"$f":"hnovembre","v":""},{"$f":"hnovembre","v":""},{"$f":"hnovembre","v":""},{"$f":"hnovembre","v":""},{"$f":"hnovembre","v":""},{"$f":"hnovembre","v":""},{"$f":"hnovembre","v":""},{"$f":"hnovembre","v":""},{"$f":"hnovembre","v":""}]
[{"$f":"Données!$H32","v":"Maitresse de maison"}]
[{"$f":"Données!$H33","v":"N"},{"$f":"hnovembre","v":""},{"$f":"hnovembre","v":""},{"$f":"hnovembre","v":""},{"$f":"hnovembre","v":""},{"$f":"hnovembre","v":""},{"$f":"hnovembre","v":""},{"$f":"hnovembre","v":""},{"$f":"hnovembre","v":""},{"$f":"hnovembre","v":""},{"$f":"hnovembre","v":""},{"$f":"hnovembre","v":""},{"$f":"hnovembre","v":""},{"$f":"hnovembre","v":""},{"$f":"hnovembre","v":""},{"$f":"hnovembre","v":""},{"$f":"hnovembre","v":""},{"$f":"hnovembre","v":""},{"$f":"hnovembre","v":""},{"$f":"hnovembre","v":""},{"$f":"hnovembre","v":""},{"$f":"hnovembre","v":""},{"$f":"hnovembre","v":""},{"$f":"hnovembre","v":""},{"$f":"hnovembre","v":""},{"$f":"hnovembre","v":""},{"$f":"hnovembre","v":""},{"$f":"hnovembre","v":""},{"$f":"hnovembre","v":""},{"$f":"hnovembre","v":""},{"$f":"hnovembre","v":""}]
[{"$f":"Données!$H34","v":0},{"$f":"hnovembre","v":""},{"$f":"hnovembre","v":""},{"$f":"hnovembre","v":""},{"$f":"hnovembre","v":""},{"$f":"hnovembre","v":""},{"$f":"hnovembre","v":""},{"$f":"hnovembre","v":""},{"$f":"hnovembre","v":""},{"$f":"hnovembre","v":""},{"$f":"hnovembre","v":""},{"$f":"hnovembre","v":""},{"$f":"hnovembre","v":""},{"$f":"hnovembre","v":""},{"$f":"hnovembre","v":""},{"$f":"hnovembre","v":""},{"$f":"hnovembre","v":""},{"$f":"hnovembre","v":""},{"$f":"hnovembre","v":""},{"$f":"hnovembre","v":""},{"$f":"hnovembre","v":""},{"$f":"hnovembre","v":""},{"$f":"hnovembre","v":""},{"$f":"hnovembre","v":""},{"$f":"hnovembre","v":""},{"$f":"hnovembre","v":""},{"$f":"hnovembre","v":""},{"$f":"hnovembre","v":""},{"$f":"hnovembre","v":""},{"$f":"hnovembre","v":""},{"$f":"hnovembre","v":""}]
[{"$f":"Données!$H35","v":0},{"$f":"hnovembre","v":""},{"$f":"hnovembre","v":""},{"$f":"hnovembre","v":""},{"$f":"hnovembre","v":""},{"$f":"hnovembre","v":""},{"$f":"hnovembre","v":""},{"$f":"hnovembre","v":""},{"$f":"hnovembre","v":""},{"$f":"hnovembre","v":""},{"$f":"hnovembre","v":""},{"$f":"hnovembre","v":""},{"$f":"hnovembre","v":""},{"$f":"hnovembre","v":""},{"$f":"hnovembre","v":""},{"$f":"hnovembre","v":""},{"$f":"hnovembre","v":""},{"$f":"hnovembre","v":""},{"$f":"hnovembre","v":""},{"$f":"hnovembre","v":""},{"$f":"hnovembre","v":""},{"$f":"hnovembre","v":""},{"$f":"hnovembre","v":""},{"$f":"hnovembre","v":""},{"$f":"hnovembre","v":""},{"$f":"hnovembre","v":""},{"$f":"hnovembre","v":""},{"$f":"hnovembre","v":""},{"$f":"hnovembre","v":""},{"$f":"hnovembre","v":""},{"$f":"hnovembre","v":""}]
[{"$f":"Données!$H36","v":0},{"$f":"hnovembre","v":""},{"$f":"hnovembre","v":""},{"$f":"hnovembre","v":""},{"$f":"hnovembre","v":""},{"$f":"hnovembre","v":""},{"$f":"hnovembre","v":""},{"$f":"hnovembre","v":""},{"$f":"hnovembre","v":""},{"$f":"hnovembre","v":""},{"$f":"hnovembre","v":""},{"$f":"hnovembre","v":""},{"$f":"hnovembre","v":""},{"$f":"hnovembre","v":""},{"$f":"hnovembre","v":""},{"$f":"hnovembre","v":""},{"$f":"hnovembre","v":""},{"$f":"hnovembre","v":""},{"$f":"hnovembre","v":""},{"$f":"hnovembre","v":""},{"$f":"hnovembre","v":""},{"$f":"hnovembre","v":""},{"$f":"hnovembre","v":""},{"$f":"hnovembre","v":""},{"$f":"hnovembre","v":""},{"$f":"hnovembre","v":""},{"$f":"hnovembre","v":""},{"$f":"hnovembre","v":""},{"$f":"hnovembre","v":""},{"$f":"hnovembre","v":""},{"$f":"hnovembre","v":""}]
[{"$f":"Données!$H37","v":0},{"$f":"hnovembre","v":""},{"$f":"hnovembre","v":""},{"$f":"hnovembre","v":""},{"$f":"hnovembre","v":""},{"$f":"hnovembre","v":""},{"$f":"hnovembre","v":""},{"$f":"hnovembre","v":""},{"$f":"hnovembre","v":""},{"$f":"hnovembre","v":""},{"$f":"hnovembre","v":""},{"$f":"hnovembre","v":""},{"$f":"hnovembre","v":""},{"$f":"hnovembre","v":""},{"$f":"hnovembre","v":""},{"$f":"hnovembre","v":""},{"$f":"hnovembre","v":""},{"$f":"hnovembre","v":""},{"$f":"hnovembre","v":""},{"$f":"hnovembre","v":""},{"$f":"hnovembre","v":""},{"$f":"hnovembre","v":""},{"$f":"hnovembre","v":""},{"$f":"hnovembre","v":""},{"$f":"hnovembre","v":""},{"$f":"hnovembre","v":""},{"$f":"hnovembre","v":""},{"$f":"hnovembre","v":""},{"$f":"hnovembre","v":""},{"$f":"hnovembre","v":""},{"$f":"hnovembre","v":""}]
[{"$f":"Données!$H38","v":0},{"$f":"hnovembre","v":""},{"$f":"hnovembre","v":""},{"$f":"hnovembre","v":""},{"$f":"hnovembre","v":""},{"$f":"hnovembre","v":""},{"$f":"hnovembre","v":""},{"$f":"hnovembre","v":""},{"$f":"hnovembre","v":""},{"$f":"hnovembre","v":""},{"$f":"hnovembre","v":""},{"$f":"hnovembre","v":""},{"$f":"hnovembre","v":""},{"$f":"hnovembre","v":""},{"$f":"hnovembre","v":""},{"$f":"hnovembre","v":""},{"$f":"hnovembre","v":""},{"$f":"hnovembre","v":""},{"$f":"hnovembre","v":""},{"$f":"hnovembre","v":""},{"$f":"hnovembre","v":""},{"$f":"hnovembre","v":""},{"$f":"hnovembre","v":""},{"$f":"hnovembre","v":""},{"$f":"hnovembre","v":""},{"$f":"hnovembre","v":""},{"$f":"hnovembre","v":""},{"$f":"hnovembre","v":""},{"$f":"hnovembre","v":""},{"$f":"hnovembre","v":""},{"$f":"hnovembre","v":""}]
[{"$f":"Données!$H39","v":0},{"$f":"hnovembre","v":""},{"$f":"hnovembre","v":""},{"$f":"hnovembre","v":""},{"$f":"hnovembre","v":""},{"$f":"hnovembre","v":""},{"$f":"hnovembre","v":""},{"$f":"hnovembre","v":""},{"$f":"hnovembre","v":""},{"$f":"hnovembre","v":""},{"$f":"hnovembre","v":""},{"$f":"hnovembre","v":""},{"$f":"hnovembre","v":""},{"$f":"hnovembre","v":""},{"$f":"hnovembre","v":""},{"$f":"hnovembre","v":""},{"$f":"hnovembre","v":""},{"$f":"hnovembre","v":""},{"$f":"hnovembre","v":""},{"$f":"hnovembre","v":""},{"$f":"hnovembre","v":""},{"$f":"hnovembre","v":""},{"$f":"hnovembre","v":""},{"$f":"hnovembre","v":""},{"$f":"hnovembre","v":""},{"$f":"hnovembre","v":""},{"$f":"hnovembre","v":""},{"$f":"hnovembre","v":""},{"$f":"hnovembre","v":""},{"$f":"hnovembre","v":""},{"$f":"hnovembre","v":""}]
[{"$f":"Données!$H40","v":0},{"$f":"hnovembre","v":""},{"$f":"hnovembre","v":""},{"$f":"hnovembre","v":""},{"$f":"hnovembre","v":""},{"$f":"hnovembre","v":""},{"$f":"hnovembre","v":""},{"$f":"hnovembre","v":""},{"$f":"hnovembre","v":""},{"$f":"hnovembre","v":""},{"$f":"hnovembre","v":""},{"$f":"hnovembre","v":""},{"$f":"hnovembre","v":""},{"$f":"hnovembre","v":""},{"$f":"hnovembre","v":""},{"$f":"hnovembre","v":""},{"$f":"hnovembre","v":""},{"$f":"hnovembre","v":""},{"$f":"hnovembre","v":""},{"$f":"hnovembre","v":""},{"$f":"hnovembre","v":""},{"$f":"hnovembre","v":""},{"$f":"hnovembre","v":""},{"$f":"hnovembre","v":""},{"$f":"hnovembre","v":""},{"$f":"hnovembre","v":""},{"$f":"hnovembre","v":""},{"$f":"hnovembre","v":""},{"$f":"hnovembre","v":""},{"$f":"hnovembre","v":""},{"$f":"hnovembre","v":""}]
[{"$f":"Données!$H41","v":0},{"$f":"hnovembre","v":""},{"$f":"hnovembre","v":""},{"$f":"hnovembre","v":""},{"$f":"hnovembre","v":""},{"$f":"hnovembre","v":""},{"$f":"hnovembre","v":""},{"$f":"hnovembre","v":""},{"$f":"hnovembre","v":""},{"$f":"hnovembre","v":""},{"$f":"hnovembre","v":""},{"$f":"hnovembre","v":""},{"$f":"hnovembre","v":""},{"$f":"hnovembre","v":""},{"$f":"hnovembre","v":""},{"$f":"hnovembre","v":""},{"$f":"hnovembre","v":""},{"$f":"hnovembre","v":""},{"$f":"hnovembre","v":""},{"$f":"hnovembre","v":""},{"$f":"hnovembre","v":""},{"$f":"hnovembre","v":""},{"$f":"hnovembre","v":""},{"$f":"hnovembre","v":""},{"$f":"hnovembre","v":""},{"$f":"hnovembre","v":""},{"$f":"hnovembre","v":""},{"$f":"hnovembre","v":""},{"$f":"hnovembre","v":""},{"$f":"hnovembre","v":""},{"$f":"hnovembre","v":""}]
[{"$f":"Données!$H42","v":"Psychologue"}]
[{"$f":"Données!$H43","v":"O"},{"$f":"hnovembre","v":""},{"$f":"hnovembre","v":""},{"$f":"hnovembre","v":""},{"$f":"hnovembre","v":""},{"$f":"hnovembre","v":""},{"$f":"hnovembre","v":""},{"$f":"hnovembre","v":""},{"$f":"hnovembre","v":""},{"$f":"hnovembre","v":""},{"$f":"hnovembre","v":""},{"$f":"hnovembre","v":""},{"$f":"hnovembre","v":""},{"$f":"hnovembre","v":""},{"$f":"hnovembre","v":""},{"$f":"hnovembre","v":""},{"$f":"hnovembre","v":""},{"$f":"hnovembre","v":""},{"$f":"hnovembre","v":""},{"$f":"hnovembre","v":""},{"$f":"hnovembre","v":""},{"$f":"hnovembre","v":""},{"$f":"hnovembre","v":""},{"$f":"hnovembre","v":""},{"$f":"hnovembre","v":""},{"$f":"hnovembre","v":""},{"$f":"hnovembre","v":""},{"$f":"hnovembre","v":""},{"$f":"hnovembre","v":""},{"$f":"hnovembre","v":""},{"$f":"hnovembre","v":""}]
[{"$f":"Données!$H44","v":0},{"$f":"hnovembre","v":""},{"$f":"hnovembre","v":""},{"$f":"hnovembre","v":""},{"$f":"hnovembre","v":""},{"$f":"hnovembre","v":""},{"$f":"hnovembre","v":""},{"$f":"hnovembre","v":""},{"$f":"hnovembre","v":""},{"$f":"hnovembre","v":""},{"$f":"hnovembre","v":""},{"$f":"hnovembre","v":""},{"$f":"hnovembre","v":""},{"$f":"hnovembre","v":""},{"$f":"hnovembre","v":""},{"$f":"hnovembre","v":""},{"$f":"hnovembre","v":""},{"$f":"hnovembre","v":""},{"$f":"hnovembre","v":""},{"$f":"hnovembre","v":""},{"$f":"hnovembre","v":""},{"$f":"hnovembre","v":""},{"$f":"hnovembre","v":""},{"$f":"hnovembre","v":""},{"$f":"hnovembre","v":""},{"$f":"hnovembre","v":""},{"$f":"hnovembre","v":""},{"$f":"hnovembre","v":""},{"$f":"hnovembre","v":""},{"$f":"hnovembre","v":""},{"$f":"hnovembre","v":""}]
[{"$f":"Données!$H45","v":0},{"$f":"hnovembre","v":""},{"$f":"hnovembre","v":""},{"$f":"hnovembre","v":""},{"$f":"hnovembre","v":""},{"$f":"hnovembre","v":""},{"$f":"hnovembre","v":""},{"$f":"hnovembre","v":""},{"$f":"hnovembre","v":""},{"$f":"hnovembre","v":""},{"$f":"hnovembre","v":""},{"$f":"hnovembre","v":""},{"$f":"hnovembre","v":""},{"$f":"hnovembre","v":""},{"$f":"hnovembre","v":""},{"$f":"hnovembre","v":""},{"$f":"hnovembre","v":""},{"$f":"hnovembre","v":""},{"$f":"hnovembre","v":""},{"$f":"hnovembre","v":""},{"$f":"hnovembre","v":""},{"$f":"hnovembre","v":""},{"$f":"hnovembre","v":""},{"$f":"hnovembre","v":""},{"$f":"hnovembre","v":""},{"$f":"hnovembre","v":""},{"$f":"hnovembre","v":""},{"$f":"hnovembre","v":""},{"$f":"hnovembre","v":""},{"$f":"hnovembre","v":""},{"$f":"hnovembre","v":""}]
[{"$f":"Données!$H46","v":"Coordinatrice"}]
[{"$f":"Données!$H47","v":"P"},{"$f":"hnovembre","v":""},{"$f":"hnovembre","v":""},{"$f":"hnovembre","v":""},{"$f":"hnovembre","v":""},{"$f":"hnovembre","v":""},{"$f":"hnovembre","v":""},{"$f":"hnovembre","v":""},{"$f":"hnovembre","v":""},{"$f":"hnovembre","v":""},{"$f":"hnovembre","v":""},{"$f":"hnovembre","v":""},{"$f":"hnovembre","v":""},{"$f":"hnovembre","v":""},{"$f":"hnovembre","v":""},{"$f":"hnovembre","v":""},{"$f":"hnovembre","v":""},{"$f":"hnovembre","v":""},{"$f":"hnovembre","v":""},{"$f":"hnovembre","v":""},{"$f":"hnovembre","v":""},{"$f":"hnovembre","v":""},{"$f":"hnovembre","v":""},{"$f":"hnovembre","v":""},{"$f":"hnovembre","v":""},{"$f":"hnovembre","v":""},{"$f":"hnovembre","v":""},{"$f":"hnovembre","v":""},{"$f":"hnovembre","v":""},{"$f":"hnovembre","v":""},{"$f":"hnovembre","v":""}]
[{"$f":"Données!$H48","v":0},{"$f":"hnovembre","v":""},{"$f":"hnovembre","v":""},{"$f":"hnovembre","v":""},{"$f":"hnovembre","v":""},{"$f":"hnovembre","v":""},{"$f":"hnovembre","v":""},{"$f":"hnovembre","v":""},{"$f":"hnovembre","v":""},{"$f":"hnovembre","v":""},{"$f":"hnovembre","v":""},{"$f":"hnovembre","v":""},{"$f":"hnovembre","v":""},{"$f":"hnovembre","v":""},{"$f":"hnovembre","v":""},{"$f":"hnovembre","v":""},{"$f":"hnovembre","v":""},{"$f":"hnovembre","v":""},{"$f":"hnovembre","v":""},{"$f":"hnovembre","v":""},{"$f":"hnovembre","v":""},{"$f":"hnovembre","v":""},{"$f":"hnovembre","v":""},{"$f":"hnovembre","v":""},{"$f":"hnovembre","v":""},{"$f":"hnovembre","v":""},{"$f":"hnovembre","v":""},{"$f":"hnovembre","v":""},{"$f":"hnovembre","v":""},{"$f":"hnovembre","v":""},{"$f":"hnovembre","v":""}]
[{"$f":"Données!$H49","v":0},{"$f":"hnovembre","v":""},{"$f":"hnovembre","v":""},{"$f":"hnovembre","v":""},{"$f":"hnovembre","v":""},{"$f":"hnovembre","v":""},{"$f":"hnovembre","v":""},{"$f":"hnovembre","v":""},{"$f":"hnovembre","v":""},{"$f":"hnovembre","v":""},{"$f":"hnovembre","v":""},{"$f":"hnovembre","v":""},{"$f":"hnovembre","v":""},{"$f":"hnovembre","v":""},{"$f":"hnovembre","v":""},{"$f":"hnovembre","v":""},{"$f":"hnovembre","v":""},{"$f":"hnovembre","v":""},{"$f":"hnovembre","v":""},{"$f":"hnovembre","v":""},{"$f":"hnovembre","v":""},{"$f":"hnovembre","v":""},{"$f":"hnovembre","v":""},{"$f":"hnovembre","v":""},{"$f":"hnovembre","v":""},{"$f":"hnovembre","v":""},{"$f":"hnovembre","v":""},{"$f":"hnovembre","v":""},{"$f":"hnovembre","v":""},{"$f":"hnovembre","v":""},{"$f":"hnovembre","v":""}]
[{"$f":"Données!$H50","v":0},{"$f":"hnovembre","v":""},{"$f":"hnovembre","v":""},{"$f":"hnovembre","v":""},{"$f":"hnovembre","v":""},{"$f":"hnovembre","v":""},{"$f":"hnovembre","v":""},{"$f":"hnovembre","v":""},{"$f":"hnovembre","v":""},{"$f":"hnovembre","v":""},{"$f":"hnovembre","v":""},{"$f":"hnovembre","v":""},{"$f":"hnovembre","v":""},{"$f":"hnovembre","v":""},{"$f":"hnovembre","v":""},{"$f":"hnovembre","v":""},{"$f":"hnovembre","v":""},{"$f":"hnovembre","v":""},{"$f":"hnovembre","v":""},{"$f":"hnovembre","v":""},{"$f":"hnovembre","v":""},{"$f":"hnovembre","v":""},{"$f":"hnovembre","v":""},{"$f":"hnovembre","v":""},{"$f":"hnovembre","v":""},{"$f":"hnovembre","v":""},{"$f":"hnovembre","v":""},{"$f":"hnovembre","v":""},{"$f":"hnovembre","v":""},{"$f":"hnovembre","v":""},{"$f":"hnovembre","v":""}]
[{"$f":"Données!$H51","v":0},{"$f":"hnovembre","v":""},{"$f":"hnovembre","v":""},{"$f":"hnovembre","v":""},{"$f":"hnovembre","v":""},{"$f":"hnovembre","v":""},{"$f":"hnovembre","v":""},{"$f":"hnovembre","v":""},{"$f":"hnovembre","v":""},{"$f":"hnovembre","v":""},{"$f":"hnovembre","v":""},{"$f":"hnovembre","v":""},{"$f":"hnovembre","v":""},{"$f":"hnovembre","v":""},{"$f":"hnovembre","v":""},{"$f":"hnovembre","v":""},{"$f":"hnovembre","v":""},{"$f":"hnovembre","v":""},{"$f":"hnovembre","v":""},{"$f":"hnovembre","v":""},{"$f":"hnovembre","v":""},{"$f":"hnovembre","v":""},{"$f":"hnovembre","v":""},{"$f":"hnovembre","v":""},{"$f":"hnovembre","v":""},{"$f":"hnovembre","v":""},{"$f":"hnovembre","v":""},{"$f":"hnovembre","v":""},{"$f":"hnovembre","v":""},{"$f":"hnovembre","v":""},{"$f":"hnovembre","v":""}]
[{"$f":"Données!$H52","v":"Chef de service"}]
[{"$f":"Données!$H53","v":"Q"},{"$f":"hnovembre","v":""},{"$f":"hnovembre","v":""},{"$f":"hnovembre","v":""},{"$f":"hnovembre","v":""},{"$f":"hnovembre","v":""},{"$f":"hnovembre","v":""},{"$f":"hnovembre","v":""},{"$f":"hnovembre","v":""},{"$f":"hnovembre","v":""},{"$f":"hnovembre","v":""},{"$f":"hnovembre","v":""},{"$f":"hnovembre","v":""},{"$f":"hnovembre","v":""},{"$f":"hnovembre","v":""},{"$f":"hnovembre","v":""},{"$f":"hnovembre","v":""},{"$f":"hnovembre","v":""},{"$f":"hnovembre","v":""},{"$f":"hnovembre","v":""},{"$f":"hnovembre","v":""},{"$f":"hnovembre","v":""},{"$f":"hnovembre","v":""},{"$f":"hnovembre","v":""},{"$f":"hnovembre","v":""},{"$f":"hnovembre","v":""},{"$f":"hnovembre","v":""},{"$f":"hnovembre","v":""},{"$f":"hnovembre","v":""},{"$f":"hnovembre","v":""},{"$f":"hnovembre","v":""}]

{"sheet":"HDecembre","index":25,"n_rows":56,"n_cols":32,"rows_kept":56,"cut":false,"hidden":false,"merged":[]}
[null,null,null,"Mois de"," Décembre ",{"$f":"An","v":2018}]
[null,{"$f":"DATE(An,Decembre,B7)","v":"2018-12-01"},"2018-12-02","2018-12-03","2018-12-04","2018-12-05","2018-12-06","2018-12-07","2018-12-08","2018-12-09","2018-12-10","2018-12-11","2018-12-12","2018-12-13","2018-12-14","2018-12-15","2018-12-16","2018-12-17","2018-12-18","2018-12-19","2018-12-20","2018-12-21","2018-12-22","2018-12-23","2018-12-24","2018-12-25","2018-12-26","2018-12-27","2018-12-28","2018-12-29","2018-12-30","2018-12-31"]
[{"$f":"IF(Données!$L$5=\"\",\"Service\",Données!$L$5)","v":"Service"}]
[]
[]
["Jours",{"$f":"PROPER(TEXT(DATE(An,Decembre,B$7),\"jjjjjj\"))","v":"Samedi"},"Dimanche","Lundi","Mardi","Mercredi","Jeudi","Vendredi","Samedi","Dimanche","Lundi","Mardi","Mercredi","Jeudi","Vendredi","Samedi","Dimanche","Lundi","Mardi","Mercredi","Jeudi","Vendredi","Samedi","Dimanche","Lundi","Mardi","Mercredi","Jeudi","Vendredi","Samedi","Dimanche","Lundi"]
[null,1,{"$f":"B$7+1","v":2},{"$f":"C$7+1","v":3},4,5,6,7,8,9,10,11,12,13,14,15,16,17,18,19,20,21,22,23,24,25,26,27,28,29,30,31]
["Equipe de jour"]
[{"$f":"Données!$H6","v":"A"},{"$f":"hdecembre","v":""},{"$f":"hdecembre","v":""},{"$f":"hdecembre","v":""},{"$f":"hdecembre","v":""},{"$f":"hdecembre","v":""},{"$f":"hdecembre","v":""},{"$f":"hdecembre","v":""},{"$f":"hdecembre","v":""},{"$f":"hdecembre","v":""},{"$f":"hdecembre","v":""},{"$f":"hdecembre","v":""},{"$f":"hdecembre","v":""},{"$f":"hdecembre","v":""},{"$f":"hdecembre","v":""},{"$f":"hdecembre","v":""},{"$f":"hdecembre","v":""},{"$f":"hdecembre","v":""},{"$f":"hdecembre","v":""},{"$f":"hdecembre","v":""},{"$f":"hdecembre","v":""},{"$f":"hdecembre","v":""},{"$f":"hdecembre","v":""},{"$f":"hdecembre","v":""},{"$f":"hdecembre","v":""},{"$f":"hdecembre","v":""},{"$f":"hdecembre","v":""},{"$f":"hdecembre","v":""},{"$f":"hdecembre","v":""},{"$f":"hdecembre","v":""},{"$f":"hdecembre","v":""},{"$f":"hdecembre","v":""}]
[{"$f":"Données!$H7","v":0},{"$f":"hdecembre","v":""},{"$f":"hdecembre","v":""},{"$f":"hdecembre","v":""},{"$f":"hdecembre","v":""},{"$f":"hdecembre","v":""},{"$f":"hdecembre","v":""},{"$f":"hdecembre","v":""},{"$f":"hdecembre","v":""},{"$f":"hdecembre","v":""},{"$f":"hdecembre","v":""},{"$f":"hdecembre","v":""},{"$f":"hdecembre","v":""},{"$f":"hdecembre","v":""},{"$f":"hdecembre","v":""},{"$f":"hdecembre","v":""},{"$f":"hdecembre","v":""},{"$f":"hdecembre","v":""},{"$f":"hdecembre","v":""},{"$f":"hdecembre","v":""},{"$f":"hdecembre","v":""},{"$f":"hdecembre","v":""},{"$f":"hdecembre","v":""},{"$f":"hdecembre","v":""},{"$f":"hdecembre","v":""},{"$f":"hdecembre","v":""},{"$f":"hdecembre","v":""},{"$f":"hdecembre","v":""},{"$f":"hdecembre","v":""},{"$f":"hdecembre","v":""},{"$f":"hdecembre","v":""},{"$f":"hdecembre","v":""}]
[{"$f":"Données!$H8","v":0},{"$f":"hdecembre","v":""},{"$f":"hdecembre","v":""},{"$f":"hdecembre","v":""},{"$f":"hdecembre","v":""},{"$f":"hdecembre","v":""},{"$f":"hdecembre","v":""},{"$f":"hdecembre","v":""},{"$f":"hdecembre","v":""},{"$f":"hdecembre","v":""},{"$f":"hdecembre","v":""},{"$f":"hdecembre","v":""},{"$f":"hdecembre","v":""},{"$f":"hdecembre","v":""},{"$f":"hdecembre","v":""},{"$f":"hdecembre","v":""},{"$f":"hdecembre","v":""},{"$f":"hdecembre","v":""},{"$f":"hdecembre","v":""},{"$f":"hdecembre","v":""},{"$f":"hdecembre","v":""},{"$f":"hdecembre","v":""},{"$f":"hdecembre","v":""},{"$f":"hdecembre","v":""},{"$f":"hdecembre","v":""},{"$f":"hdecembre","v":""},{"$f":"hdecembre","v":""},{"$f":"hdecembre","v":""},{"$f":"hdecembre","v":""},{"$f":"hdecembre","v":""},{"$f":"hdecembre","v":""},{"$f":"hdecembre","v":""}]
[{"$f":"Données!$H9","v":0},{"$f":"hdecembre","v":""},{"$f":"hdecembre","v":""},{"$f":"hdecembre","v":""},{"$f":"hdecembre","v":""},{"$f":"hdecembre","v":""},{"$f":"hdecembre","v":""},{"$f":"hdecembre","v":""},{"$f":"hdecembre","v":""},{"$f":"hdecembre","v":""},{"$f":"hdecembre","v":""},{"$f":"hdecembre","v":""},{"$f":"hdecembre","v":""},{"$f":"hdecembre","v":""},{"$f":"hdecembre","v":""},{"$f":"hdecembre","v":""},{"$f":"hdecembre","v":""},{"$f":"hdecembre","v":""},{"$f":"hdecembre","v":""},{"$f":"hdecembre","v":""},{"$f":"hdecembre","v":""},{"$f":"hdecembre","v":""},{"$f":"hdecembre","v":""},{"$f":"hdecembre","v":""},{"$f":"hdecembre","v":""},{"$f":"hdecembre","v":""},{"$f":"hdecembre","v":""},{"$f":"hdecembre","v":""},{"$f":"hdecembre","v":""},{"$f":"hdecembre","v":""},{"$f":"hdecembre","v":""},{"$f":"hdecembre","v":""}]
[{"$f":"Données!$H10","v":0},{"$f":"hdecembre","v":""},{"$f":"hdecembre","v":""},{"$f":"hdecembre","v":""},{"$f":"hdecembre","v":""},{"$f":"hdecembre","v":""},{"$f":"hdecembre","v":""},{"$f":"hdecembre","v":""},{"$f":"hdecembre","v":""},{"$f":"hdecembre","v":""},{"$f":"hdecembre","v":""},{"$f":"hdecembre","v":""},{"$f":"hdecembre","v":""},{"$f":"hdecembre","v":""},{"$f":"hdecembre","v":""},{"$f":"hdecembre","v":""},{"$f":"hdecembre","v":""},{"$f":"hdecembre","v":""},{"$f":"hdecembre","v":""},{"$f":"hdecembre","v":""},{"$f":"hdecembre","v":""},{"$f":"hdecembre","v":""},{"$f":"hdecembre","v":""},{"$f":"hdecembre","v":""},{"$f":"hdecembre","v":""},{"$f":"hdecembre","v":""},{"$f":"hdecembre","v":""},{"$f":"hdecembre","v":""},{"$f":"hdecembre","v":""},{"$f":"hdecembre","v":""},{"$f":"hdecembre","v":""},{"$f":"hdecembre","v":""}]
[{"$f":"Données!$H11","v":0},{"$f":"hdecembre","v":""},{"$f":"hdecembre","v":""},{"$f":"hdecembre","v":""},{"$f":"hdecembre","v":""},{"$f":"hdecembre","v":""},{"$f":"hdecembre","v":""},{"$f":"hdecembre","v":""},{"$f":"hdecembre","v":""},{"$f":"hdecembre","v":""},{"$f":"hdecembre","v":""},{"$f":"hdecembre","v":""},{"$f":"hdecembre","v":""},{"$f":"hdecembre","v":""},{"$f":"hdecembre","v":""},{"$f":"hdecembre","v":""},{"$f":"hdecembre","v":""},{"$f":"hdecembre","v":""},{"$f":"hdecembre","v":""},{"$f":"hdecembre","v":""},{"$f":"hdecembre","v":""},{"$f":"hdecembre","v":""},{"$f":"hdecembre","v":""},{"$f":"hdecembre","v":""},{"$f":"hdecembre","v":""},{"$f":"hdecembre","v":""},{"$f":"hdecembre","v":""},{"$f":"hdecembre","v":""},{"$f":"hdecembre","v":""},{"$f":"hdecembre","v":""},{"$f":"hdecembre","v":""},{"$f":"hdecembre","v":""}]
[{"$f":"Données!$H12","v":0},{"$f":"hdecembre","v":""},{"$f":"hdecembre","v":""},{"$f":"hdecembre","v":""},{"$f":"hdecembre","v":""},{"$f":"hdecembre","v":""},{"$f":"hdecembre","v":""},{"$f":"hdecembre","v":""},{"$f":"hdecembre","v":""},{"$f":"hdecembre","v":""},{"$f":"hdecembre","v":""},{"$f":"hdecembre","v":""},{"$f":"hdecembre","v":""},{"$f":"hdecembre","v":""},{"$f":"hdecembre","v":""},{"$f":"hdecembre","v":""},{"$f":"hdecembre","v":""},{"$f":"hdecembre","v":""},{"$f":"hdecembre","v":""},{"$f":"hdecembre","v":""},{"$f":"hdecembre","v":""},{"$f":"hdecembre","v":""},{"$f":"hdecembre","v":""},{"$f":"hdecembre","v":""},{"$f":"hdecembre","v":""},{"$f":"hdecembre","v":""},{"$f":"hdecembre","v":""},{"$f":"hdecembre","v":""},{"$f":"hdecembre","v":""},{"$f":"hdecembre","v":""},{"$f":"hdecembre","v":""},{"$f":"hdecembre","v":""}]
[{"$f":"Données!$H13","v":0},{"$f":"hdecembre","v":""},{"$f":"hdecembre","v":""},{"$f":"hdecembre","v":""},{"$f":"hdecembre","v":""},{"$f":"hdecembre","v":""},{"$f":"hdecembre","v":""},{"$f":"hdecembre","v":""},{"$f":"hdecembre","v":""},{"$f":"hdecembre","v":""},{"$f":"hdecembre","v":""},{"$f":"hdecembre","v":""},{"$f":"hdecembre","v":""},{"$f":"hdecembre","v":""},{"$f":"hdecembre","v":""},{"$f":"hdecembre","v":""},{"$f":"hdecembre","v":""},{"$f":"hdecembre","v":""},{"$f":"hdecembre","v":""},{"$f":"hdecembre","v":""},{"$f":"hdecembre","v":""},{"$f":"hdecembre","v":""},{"$f":"hdecembre","v":""},{"$f":"hdecembre","v":""},{"$f":"hdecembre","v":""},{"$f":"hdecembre","v":""},{"$f":"hdecembre","v":""},{"$f":"hdecembre","v":""},{"$f":"hdecembre","v":""},{"$f":"hdecembre","v":""},{"$f":"hdecembre","v":""},{"$f":"hdecembre","v":""}]
[{"$f":"Données!$H14","v":0},{"$f":"hdecembre","v":""},{"$f":"hdecembre","v":""},{"$f":"hdecembre","v":""},{"$f":"hdecembre","v":""},{"$f":"hdecembre","v":""},{"$f":"hdecembre","v":""},{"$f":"hdecembre","v":""},{"$f":"hdecembre","v":""},{"$f":"hdecembre","v":""},{"$f":"hdecembre","v":""},{"$f":"hdecembre","v":""},{"$f":"hdecembre","v":""},{"$f":"hdecembre","v":""},{"$f":"hdecembre","v":""},{"$f":"hdecembre","v":""},{"$f":"hdecembre","v":""},{"$f":"hdecembre","v":""},{"$f":"hdecembre","v":""},{"$f":"hdecembre","v":""},{"$f":"hdecembre","v":""},{"$f":"hdecembre","v":""},{"$f":"hdecembre","v":""},{"$f":"hdecembre","v":""},{"$f":"hdecembre","v":""},{"$f":"hdecembre","v":""},{"$f":"hdecembre","v":""},{"$f":"hdecembre","v":""},{"$f":"hdecembre","v":""},{"$f":"hdecembre","v":""},{"$f":"hdecembre","v":""},{"$f":"hdecembre","v":""}]
[{"$f":"Données!$H15","v":0},{"$f":"hdecembre","v":""},{"$f":"hdecembre","v":""},{"$f":"hdecembre","v":""},{"$f":"hdecembre","v":""},{"$f":"hdecembre","v":""},{"$f":"hdecembre","v":""},{"$f":"hdecembre","v":""},{"$f":"hdecembre","v":""},{"$f":"hdecembre","v":""},{"$f":"hdecembre","v":""},{"$f":"hdecembre","v":""},{"$f":"hdecembre","v":""},{"$f":"hdecembre","v":""},{"$f":"hdecembre","v":""},{"$f":"hdecembre","v":""},{"$f":"hdecembre","v":""},{"$f":"hdecembre","v":""},{"$f":"hdecembre","v":""},{"$f":"hdecembre","v":""},{"$f":"hdecembre","v":""},{"$f":"hdecembre","v":""},{"$f":"hdecembre","v":""},{"$f":"hdecembre","v":""},{"$f":"hdecembre","v":""},{"$f":"hdecembre","v":""},{"$f":"hdecembre","v":""},{"$f":"hdecembre","v":""},{"$f":"hdecembre","v":""},{"$f":"hdecembre","v":""},{"$f":"hdecembre","v":""},{"$f":"hdecembre","v":""}]
[{"$f":"Données!$H16","v":0},{"$f":"hdecembre","v":""},{"$f":"hdecembre","v":""},{"$f":"hdecembre","v":""},{"$f":"hdecembre","v":""},{"$f":"hdecembre","v":""},{"$f":"hdecembre","v":""},{"$f":"hdecembre","v":""},{"$f":"hdecembre","v":""},{"$f":"hdecembre","v":""},{"$f":"hdecembre","v":""},{"$f":"hdecembre","v":""},{"$f":"hdecembre","v":""},{"$f":"hdecembre","v":""},{"$f":"hdecembre","v":""},{"$f":"hdecembre","v":""},{"$f":"hdecembre","v":""},{"$f":"hdecembre","v":""},{"$f":"hdecembre","v":""},{"$f":"hdecembre","v":""},{"$f":"hdecembre","v":""},{"$f":"hdecembre","v":""},{"$f":"hdecembre","v":""},{"$f":"hdecembre","v":""},{"$f":"hdecembre","v":""},{"$f":"hdecembre","v":""},{"$f":"hdecembre","v":""},{"$f":"hdecembre","v":""},{"$f":"hdecembre","v":""},{"$f":"hdecembre","v":""},{"$f":"hdecembre","v":""},{"$f":"hdecembre","v":""}]
[{"$f":"Données!$H17","v":0},{"$f":"hdecembre","v":""},{"$f":"hdecembre","v":""},{"$f":"hdecembre","v":""},{"$f":"hdecembre","v":""},{"$f":"hdecembre","v":""},{"$f":"hdecembre","v":""},{"$f":"hdecembre","v":""},{"$f":"hdecembre","v":""},{"$f":"hdecembre","v":""},{"$f":"hdecembre","v":""},{"$f":"hdecembre","v":""},{"$f":"hdecembre","v":""},{"$f":"hdecembre","v":""},{"$f":"hdecembre","v":""},{"$f":"hdecembre","v":""},{"$f":"hdecembre","v":""},{"$f":"hdecembre","v":""},{"$f":"hdecembre","v":""},{"$f":"hdecembre","v":""},{"$f":"hdecembre","v":""},{"$f":"hdecembre","v":""},{"$f":"hdecembre","v":""},{"$f":"hdecembre","v":""},{"$f":"hdecembre","v":""},{"$f":"hdecembre","v":""},{"$f":"hdecembre","v":""},{"$f":"hdecembre","v":""},{"$f":"hdecembre","v":""},{"$f":"hdecembre","v":""},{"$f":"hdecembre","v":""},{"$f":"hdecembre","v":""}]
[{"$f":"Données!$H18","v":0},{"$f":"hdecembre","v":""},{"$f":"hdecembre","v":""},{"$f":"hdecembre","v":""},{"$f":"hdecembre","v":""},{"$f":"hdecembre","v":""},{"$f":"hdecembre","v":""},{"$f":"hdecembre","v":""},{"$f":"hdecembre","v":""},{"$f":"hdecembre","v":""},{"$f":"hdecembre","v":""},{"$f":"hdecembre","v":""},{"$f":"hdecembre","v":""},{"$f":"hdecembre","v":""},{"$f":"hdecembre","v":""},{"$f":"hdecembre","v":""},{"$f":"hdecembre","v":""},{"$f":"hdecembre","v":""},{"$f":"hdecembre","v":""},{"$f":"hdecembre","v":""},{"$f":"hdecembre","v":""},{"$f":"hdecembre","v":""},{"$f":"hdecembre","v":""},{"$f":"hdecembre","v":""},{"$f":"hdecembre","v":""},{"$f":"hdecembre","v":""},{"$f":"hdecembre","v":""},{"$f":"hdecembre","v":""},{"$f":"hdecembre","v":""},{"$f":"hdecembre","v":""},{"$f":"hdecembre","v":""},{"$f":"hdecembre","v":""}]
[{"$f":"Données!$H19","v":0},{"$f":"hdecembre","v":""},{"$f":"hdecembre","v":""},{"$f":"hdecembre","v":""},{"$f":"hdecembre","v":""},{"$f":"hdecembre","v":""},{"$f":"hdecembre","v":""},{"$f":"hdecembre","v":""},{"$f":"hdecembre","v":""},{"$f":"hdecembre","v":""},{"$f":"hdecembre","v":""},{"$f":"hdecembre","v":""},{"$f":"hdecembre","v":""},{"$f":"hdecembre","v":""},{"$f":"hdecembre","v":""},{"$f":"hdecembre","v":""},{"$f":"hdecembre","v":""},{"$f":"hdecembre","v":""},{"$f":"hdecembre","v":""},{"$f":"hdecembre","v":""},{"$f":"hdecembre","v":""},{"$f":"hdecembre","v":""},{"$f":"hdecembre","v":""},{"$f":"hdecembre","v":""},{"$f":"hdecembre","v":""},{"$f":"hdecembre","v":""},{"$f":"hdecembre","v":""},{"$f":"hdecembre","v":""},{"$f":"hdecembre","v":""},{"$f":"hdecembre","v":""},{"$f":"hdecembre","v":""},{"$f":"hdecembre","v":""}]
[{"$f":"Données!$H20","v":0},{"$f":"hdecembre","v":""},{"$f":"hdecembre","v":""},{"$f":"hdecembre","v":""},{"$f":"hdecembre","v":""},{"$f":"hdecembre","v":""},{"$f":"hdecembre","v":""},{"$f":"hdecembre","v":""},{"$f":"hdecembre","v":""},{"$f":"hdecembre","v":""},{"$f":"hdecembre","v":""},{"$f":"hdecembre","v":""},{"$f":"hdecembre","v":""},{"$f":"hdecembre","v":""},{"$f":"hdecembre","v":""},{"$f":"hdecembre","v":""},{"$f":"hdecembre","v":""},{"$f":"hdecembre","v":""},{"$f":"hdecembre","v":""},{"$f":"hdecembre","v":""},{"$f":"hdecembre","v":""},{"$f":"hdecembre","v":""},{"$f":"hdecembre","v":""},{"$f":"hdecembre","v":""},{"$f":"hdecembre","v":""},{"$f":"hdecembre","v":""},{"$f":"hdecembre","v":""},{"$f":"hdecembre","v":""},{"$f":"hdecembre","v":""},{"$f":"hdecembre","v":""},{"$f":"hdecembre","v":""},{"$f":"hdecembre","v":""}]
[{"$f":"Données!$H21","v":0},{"$f":"hdecembre","v":""},{"$f":"hdecembre","v":""},{"$f":"hdecembre","v":""},{"$f":"hdecembre","v":""},{"$f":"hdecembre","v":""},{"$f":"hdecembre","v":""},{"$f":"hdecembre","v":""},{"$f":"hdecembre","v":""},{"$f":"hdecembre","v":""},{"$f":"hdecembre","v":""},{"$f":"hdecembre","v":""},{"$f":"hdecembre","v":""},{"$f":"hdecembre","v":""},{"$f":"hdecembre","v":""},{"$f":"hdecembre","v":""},{"$f":"hdecembre","v":""},{"$f":"hdecembre","v":""},{"$f":"hdecembre","v":""},{"$f":"hdecembre","v":""},{"$f":"hdecembre","v":""},{"$f":"hdecembre","v":""},{"$f":"hdecembre","v":""},{"$f":"hdecembre","v":""},{"$f":"hdecembre","v":""},{"$f":"hdecembre","v":""},{"$f":"hdecembre","v":""},{"$f":"hdecembre","v":""},{"$f":"hdecembre","v":""},{"$f":"hdecembre","v":""},{"$f":"hdecembre","v":""},{"$f":"hdecembre","v":""}]
[{"$f":"Données!$H22","v":"Equipe de nuit"}]
[{"$f":"Données!$H23","v":"K"},{"$f":"hdecembre","v":""},{"$f":"hdecembre","v":""},{"$f":"hdecembre","v":""},{"$f":"hdecembre","v":""},{"$f":"hdecembre","v":""},{"$f":"hdecembre","v":""},{"$f":"hdecembre","v":""},{"$f":"hdecembre","v":""},{"$f":"hdecembre","v":""},{"$f":"hdecembre","v":""},{"$f":"hdecembre","v":""},{"$f":"hdecembre","v":""},{"$f":"hdecembre","v":""},{"$f":"hdecembre","v":""},{"$f":"hdecembre","v":""},{"$f":"hdecembre","v":""},{"$f":"hdecembre","v":""},{"$f":"hdecembre","v":""},{"$f":"hdecembre","v":""},{"$f":"hdecembre","v":""},{"$f":"hdecembre","v":""},{"$f":"hdecembre","v":""},{"$f":"hdecembre","v":""},{"$f":"hdecembre","v":""},{"$f":"hdecembre","v":""},{"$f":"hdecembre","v":""},{"$f":"hdecembre","v":""},{"$f":"hdecembre","v":""},{"$f":"hdecembre","v":""},{"$f":"hdecembre","v":""},{"$f":"hdecembre","v":""}]
[{"$f":"Données!$H24","v":0},{"$f":"hdecembre","v":""},{"$f":"hdecembre","v":""},{"$f":"hdecembre","v":""},{"$f":"hdecembre","v":""},{"$f":"hdecembre","v":""},{"$f":"hdecembre","v":""},{"$f":"hdecembre","v":""},{"$f":"hdecembre","v":""},{"$f":"hdecembre","v":""},{"$f":"hdecembre","v":""},{"$f":"hdecembre","v":""},{"$f":"hdecembre","v":""},{"$f":"hdecembre","v":""},{"$f":"hdecembre","v":""},{"$f":"hdecembre","v":""},{"$f":"hdecembre","v":""},{"$f":"hdecembre","v":""},{"$f":"hdecembre","v":""},{"$f":"hdecembre","v":""},{"$f":"hdecembre","v":""},{"$f":"hdecembre","v":""},{"$f":"hdecembre","v":""},{"$f":"hdecembre","v":""},{"$f":"hdecembre","v":""},{"$f":"hdecembre","v":""},{"$f":"hdecembre","v":""},{"$f":"hdecembre","v":""},{"$f":"hdecembre","v":""},{"$f":"hdecembre","v":""},{"$f":"hdecembre","v":""},{"$f":"hdecembre","v":""}]
[{"$f":"Données!$H25","v":0},{"$f":"hdecembre","v":""},{"$f":"hdecembre","v":""},{"$f":"hdecembre","v":""},{"$f":"hdecembre","v":""},{"$f":"hdecembre","v":""},{"$f":"hdecembre","v":""},{"$f":"hdecembre","v":""},{"$f":"hdecembre","v":""},{"$f":"hdecembre","v":""},{"$f":"hdecembre","v":""},{"$f":"hdecembre","v":""},{"$f":"hdecembre","v":""},{"$f":"hdecembre","v":""},{"$f":"hdecembre","v":""},{"$f":"hdecembre","v":""},{"$f":"hdecembre","v":""},{"$f":"hdecembre","v":""},{"$f":"hdecembre","v":""},{"$f":"hdecembre","v":""},{"$f":"hdecembre","v":""},{"$f":"hdecembre","v":""},{"$f":"hdecembre","v":""},{"$f":"hdecembre","v":""},{"$f":"hdecembre","v":""},{"$f":"hdecembre","v":""},{"$f":"hdecembre","v":""},{"$f":"hdecembre","v":""},{"$f":"hdecembre","v":""},{"$f":"hdecembre","v":""},{"$f":"hdecembre","v":""},{"$f":"hdecembre","v":""}]
[{"$f":"Données!$H26","v":0},{"$f":"hdecembre","v":""},{"$f":"hdecembre","v":""},{"$f":"hdecembre","v":""},{"$f":"hdecembre","v":""},{"$f":"hdecembre","v":""},{"$f":"hdecembre","v":""},{"$f":"hdecembre","v":""},{"$f":"hdecembre","v":""},{"$f":"hdecembre","v":""},{"$f":"hdecembre","v":""},{"$f":"hdecembre","v":""},{"$f":"hdecembre","v":""},{"$f":"hdecembre","v":""},{"$f":"hdecembre","v":""},{"$f":"hdecembre","v":""},{"$f":"hdecembre","v":""},{"$f":"hdecembre","v":""},{"$f":"hdecembre","v":""},{"$f":"hdecembre","v":""},{"$f":"hdecembre","v":""},{"$f":"hdecembre","v":""},{"$f":"hdecembre","v":""},{"$f":"hdecembre","v":""},{"$f":"hdecembre","v":""},{"$f":"hdecembre","v":""},{"$f":"hdecembre","v":""},{"$f":"hdecembre","v":""},{"$f":"hdecembre","v":""},{"$f":"hdecembre","v":""},{"$f":"hdecembre","v":""},{"$f":"hdecembre","v":""}]
[{"$f":"Données!$H27","v":0},{"$f":"hdecembre","v":""},{"$f":"hdecembre","v":""},{"$f":"hdecembre","v":""},{"$f":"hdecembre","v":""},{"$f":"hdecembre","v":""},{"$f":"hdecembre","v":""},{"$f":"hdecembre","v":""},{"$f":"hdecembre","v":""},{"$f":"hdecembre","v":""},{"$f":"hdecembre","v":""},{"$f":"hdecembre","v":""},{"$f":"hdecembre","v":""},{"$f":"hdecembre","v":""},{"$f":"hdecembre","v":""},{"$f":"hdecembre","v":""},{"$f":"hdecembre","v":""},{"$f":"hdecembre","v":""},{"$f":"hdecembre","v":""},{"$f":"hdecembre","v":""},{"$f":"hdecembre","v":""},{"$f":"hdecembre","v":""},{"$f":"hdecembre","v":""},{"$f":"hdecembre","v":""},{"$f":"hdecembre","v":""},{"$f":"hdecembre","v":""},{"$f":"hdecembre","v":""},{"$f":"hdecembre","v":""},{"$f":"hdecembre","v":""},{"$f":"hdecembre","v":""},{"$f":"hdecembre","v":""},{"$f":"hdecembre","v":""}]
[{"$f":"Données!$H28","v":0},{"$f":"hdecembre","v":""},{"$f":"hdecembre","v":""},{"$f":"hdecembre","v":""},{"$f":"hdecembre","v":""},{"$f":"hdecembre","v":""},{"$f":"hdecembre","v":""},{"$f":"hdecembre","v":""},{"$f":"hdecembre","v":""},{"$f":"hdecembre","v":""},{"$f":"hdecembre","v":""},{"$f":"hdecembre","v":""},{"$f":"hdecembre","v":""},{"$f":"hdecembre","v":""},{"$f":"hdecembre","v":""},{"$f":"hdecembre","v":""},{"$f":"hdecembre","v":""},{"$f":"hdecembre","v":""},{"$f":"hdecembre","v":""},{"$f":"hdecembre","v":""},{"$f":"hdecembre","v":""},{"$f":"hdecembre","v":""},{"$f":"hdecembre","v":""},{"$f":"hdecembre","v":""},{"$f":"hdecembre","v":""},{"$f":"hdecembre","v":""},{"$f":"hdecembre","v":""},{"$f":"hdecembre","v":""},{"$f":"hdecembre","v":""},{"$f":"hdecembre","v":""},{"$f":"hdecembre","v":""},{"$f":"hdecembre","v":""}]
[{"$f":"Données!$H29","v":0},{"$f":"hdecembre","v":""},{"$f":"hdecembre","v":""},{"$f":"hdecembre","v":""},{"$f":"hdecembre","v":""},{"$f":"hdecembre","v":""},{"$f":"hdecembre","v":""},{"$f":"hdecembre","v":""},{"$f":"hdecembre","v":""},{"$f":"hdecembre","v":""},{"$f":"hdecembre","v":""},{"$f":"hdecembre","v":""},{"$f":"hdecembre","v":""},{"$f":"hdecembre","v":""},{"$f":"hdecembre","v":""},{"$f":"hdecembre","v":""},{"$f":"hdecembre","v":""},{"$f":"hdecembre","v":""},{"$f":"hdecembre","v":""},{"$f":"hdecembre","v":""},{"$f":"hdecembre","v":""},{"$f":"hdecembre","v":""},{"$f":"hdecembre","v":""},{"$f":"hdecembre","v":""},{"$f":"hdecembre","v":""},{"$f":"hdecembre","v":""},{"$f":"hdecembre","v":""},{"$f":"hdecembre","v":""},{"$f":"hdecembre","v":""},{"$f":"hdecembre","v":""},{"$f":"hdecembre","v":""},{"$f":"hdecembre","v":""}]
[{"$f":"Données!$H30","v":0},{"$f":"hdecembre","v":""},{"$f":"hdecembre","v":""},{"$f":"hdecembre","v":""},{"$f":"hdecembre","v":""},{"$f":"hdecembre","v":""},{"$f":"hdecembre","v":""},{"$f":"hdecembre","v":""},{"$f":"hdecembre","v":""},{"$f":"hdecembre","v":""},{"$f":"hdecembre","v":""},{"$f":"hdecembre","v":""},{"$f":"hdecembre","v":""},{"$f":"hdecembre","v":""},{"$f":"hdecembre","v":""},{"$f":"hdecembre","v":""},{"$f":"hdecembre","v":""},{"$f":"hdecembre","v":""},{"$f":"hdecembre","v":""},{"$f":"hdecembre","v":""},{"$f":"hdecembre","v":""},{"$f":"hdecembre","v":""},{"$f":"hdecembre","v":""},{"$f":"hdecembre","v":""},{"$f":"hdecembre","v":""},{"$f":"hdecembre","v":""},{"$f":"hdecembre","v":""},{"$f":"hdecembre","v":""},{"$f":"hdecembre","v":""},{"$f":"hdecembre","v":""},{"$f":"hdecembre","v":""},{"$f":"hdecembre","v":""}]
[{"$f":"Données!$H31","v":0},{"$f":"hdecembre","v":""},{"$f":"hdecembre","v":""},{"$f":"hdecembre","v":""},{"$f":"hdecembre","v":""},{"$f":"hdecembre","v":""},{"$f":"hdecembre","v":""},{"$f":"hdecembre","v":""},{"$f":"hdecembre","v":""},{"$f":"hdecembre","v":""},{"$f":"hdecembre","v":""},{"$f":"hdecembre","v":""},{"$f":"hdecembre","v":""},{"$f":"hdecembre","v":""},{"$f":"hdecembre","v":""},{"$f":"hdecembre","v":""},{"$f":"hdecembre","v":""},{"$f":"hdecembre","v":""},{"$f":"hdecembre","v":""},{"$f":"hdecembre","v":""},{"$f":"hdecembre","v":""},{"$f":"hdecembre","v":""},{"$f":"hdecembre","v":""},{"$f":"hdecembre","v":""},{"$f":"hdecembre","v":""},{"$f":"hdecembre","v":""},{"$f":"hdecembre","v":""},{"$f":"hdecembre","v":""},{"$f":"hdecembre","v":""},{"$f":"hdecembre","v":""},{"$f":"hdecembre","v":""},{"$f":"hdecembre","v":""}]
[{"$f":"Données!$H32","v":"Maitresse de maison"}]
[{"$f":"Données!$H33","v":"N"},{"$f":"hdecembre","v":""},{"$f":"hdecembre","v":""},{"$f":"hdecembre","v":""},{"$f":"hdecembre","v":""},{"$f":"hdecembre","v":""},{"$f":"hdecembre","v":""},{"$f":"hdecembre","v":""},{"$f":"hdecembre","v":""},{"$f":"hdecembre","v":""},{"$f":"hdecembre","v":""},{"$f":"hdecembre","v":""},{"$f":"hdecembre","v":""},{"$f":"hdecembre","v":""},{"$f":"hdecembre","v":""},{"$f":"hdecembre","v":""},{"$f":"hdecembre","v":""},{"$f":"hdecembre","v":""},{"$f":"hdecembre","v":""},{"$f":"hdecembre","v":""},{"$f":"hdecembre","v":""},{"$f":"hdecembre","v":""},{"$f":"hdecembre","v":""},{"$f":"hdecembre","v":""},{"$f":"hdecembre","v":""},{"$f":"hdecembre","v":""},{"$f":"hdecembre","v":""},{"$f":"hdecembre","v":""},{"$f":"hdecembre","v":""},{"$f":"hdecembre","v":""},{"$f":"hdecembre","v":""},{"$f":"hdecembre","v":""}]
[{"$f":"Données!$H34","v":0},{"$f":"hdecembre","v":""},{"$f":"hdecembre","v":""},{"$f":"hdecembre","v":""},{"$f":"hdecembre","v":""},{"$f":"hdecembre","v":""},{"$f":"hdecembre","v":""},{"$f":"hdecembre","v":""},{"$f":"hdecembre","v":""},{"$f":"hdecembre","v":""},{"$f":"hdecembre","v":""},{"$f":"hdecembre","v":""},{"$f":"hdecembre","v":""},{"$f":"hdecembre","v":""},{"$f":"hdecembre","v":""},{"$f":"hdecembre","v":""},{"$f":"hdecembre","v":""},{"$f":"hdecembre","v":""},{"$f":"hdecembre","v":""},{"$f":"hdecembre","v":""},{"$f":"hdecembre","v":""},{"$f":"hdecembre","v":""},{"$f":"hdecembre","v":""},{"$f":"hdecembre","v":""},{"$f":"hdecembre","v":""},{"$f":"hdecembre","v":""},{"$f":"hdecembre","v":""},{"$f":"hdecembre","v":""},{"$f":"hdecembre","v":""},{"$f":"hdecembre","v":""},{"$f":"hdecembre","v":""},{"$f":"hdecembre","v":""}]
[{"$f":"Données!$H35","v":0},{"$f":"hdecembre","v":""},{"$f":"hdecembre","v":""},{"$f":"hdecembre","v":""},{"$f":"hdecembre","v":""},{"$f":"hdecembre","v":""},{"$f":"hdecembre","v":""},{"$f":"hdecembre","v":""},{"$f":"hdecembre","v":""},{"$f":"hdecembre","v":""},{"$f":"hdecembre","v":""},{"$f":"hdecembre","v":""},{"$f":"hdecembre","v":""},{"$f":"hdecembre","v":""},{"$f":"hdecembre","v":""},{"$f":"hdecembre","v":""},{"$f":"hdecembre","v":""},{"$f":"hdecembre","v":""},{"$f":"hdecembre","v":""},{"$f":"hdecembre","v":""},{"$f":"hdecembre","v":""},{"$f":"hdecembre","v":""},{"$f":"hdecembre","v":""},{"$f":"hdecembre","v":""},{"$f":"hdecembre","v":""},{"$f":"hdecembre","v":""},{"$f":"hdecembre","v":""},{"$f":"hdecembre","v":""},{"$f":"hdecembre","v":""},{"$f":"hdecembre","v":""},{"$f":"hdecembre","v":""},{"$f":"hdecembre","v":""}]
[{"$f":"Données!$H36","v":0},{"$f":"hdecembre","v":""},{"$f":"hdecembre","v":""},{"$f":"hdecembre","v":""},{"$f":"hdecembre","v":""},{"$f":"hdecembre","v":""},{"$f":"hdecembre","v":""},{"$f":"hdecembre","v":""},{"$f":"hdecembre","v":""},{"$f":"hdecembre","v":""},{"$f":"hdecembre","v":""},{"$f":"hdecembre","v":""},{"$f":"hdecembre","v":""},{"$f":"hdecembre","v":""},{"$f":"hdecembre","v":""},{"$f":"hdecembre","v":""},{"$f":"hdecembre","v":""},{"$f":"hdecembre","v":""},{"$f":"hdecembre","v":""},{"$f":"hdecembre","v":""},{"$f":"hdecembre","v":""},{"$f":"hdecembre","v":""},{"$f":"hdecembre","v":""},{"$f":"hdecembre","v":""},{"$f":"hdecembre","v":""},{"$f":"hdecembre","v":""},{"$f":"hdecembre","v":""},{"$f":"hdecembre","v":""},{"$f":"hdecembre","v":""},{"$f":"hdecembre","v":""},{"$f":"hdecembre","v":""},{"$f":"hdecembre","v":""}]
[{"$f":"Données!$H37","v":0},{"$f":"hdecembre","v":""},{"$f":"hdecembre","v":""},{"$f":"hdecembre","v":""},{"$f":"hdecembre","v":""},{"$f":"hdecembre","v":""},{"$f":"hdecembre","v":""},{"$f":"hdecembre","v":""},{"$f":"hdecembre","v":""},{"$f":"hdecembre","v":""},{"$f":"hdecembre","v":""},{"$f":"hdecembre","v":""},{"$f":"hdecembre","v":""},{"$f":"hdecembre","v":""},{"$f":"hdecembre","v":""},{"$f":"hdecembre","v":""},{"$f":"hdecembre","v":""},{"$f":"hdecembre","v":""},{"$f":"hdecembre","v":""},{"$f":"hdecembre","v":""},{"$f":"hdecembre","v":""},{"$f":"hdecembre","v":""},{"$f":"hdecembre","v":""},{"$f":"hdecembre","v":""},{"$f":"hdecembre","v":""},{"$f":"hdecembre","v":""},{"$f":"hdecembre","v":""},{"$f":"hdecembre","v":""},{"$f":"hdecembre","v":""},{"$f":"hdecembre","v":""},{"$f":"hdecembre","v":""},{"$f":"hdecembre","v":""}]
[{"$f":"Données!$H38","v":0},{"$f":"hdecembre","v":""},{"$f":"hdecembre","v":""},{"$f":"hdecembre","v":""},{"$f":"hdecembre","v":""},{"$f":"hdecembre","v":""},{"$f":"hdecembre","v":""},{"$f":"hdecembre","v":""},{"$f":"hdecembre","v":""},{"$f":"hdecembre","v":""},{"$f":"hdecembre","v":""},{"$f":"hdecembre","v":""},{"$f":"hdecembre","v":""},{"$f":"hdecembre","v":""},{"$f":"hdecembre","v":""},{"$f":"hdecembre","v":""},{"$f":"hdecembre","v":""},{"$f":"hdecembre","v":""},{"$f":"hdecembre","v":""},{"$f":"hdecembre","v":""},{"$f":"hdecembre","v":""},{"$f":"hdecembre","v":""},{"$f":"hdecembre","v":""},{"$f":"hdecembre","v":""},{"$f":"hdecembre","v":""},{"$f":"hdecembre","v":""},{"$f":"hdecembre","v":""},{"$f":"hdecembre","v":""},{"$f":"hdecembre","v":""},{"$f":"hdecembre","v":""},{"$f":"hdecembre","v":""},{"$f":"hdecembre","v":""}]
[{"$f":"Données!$H39","v":0},{"$f":"hdecembre","v":""},{"$f":"hdecembre","v":""},{"$f":"hdecembre","v":""},{"$f":"hdecembre","v":""},{"$f":"hdecembre","v":""},{"$f":"hdecembre","v":""},{"$f":"hdecembre","v":""},{"$f":"hdecembre","v":""},{"$f":"hdecembre","v":""},{"$f":"hdecembre","v":""},{"$f":"hdecembre","v":""},{"$f":"hdecembre","v":""},{"$f":"hdecembre","v":""},{"$f":"hdecembre","v":""},{"$f":"hdecembre","v":""},{"$f":"hdecembre","v":""},{"$f":"hdecembre","v":""},{"$f":"hdecembre","v":""},{"$f":"hdecembre","v":""},{"$f":"hdecembre","v":""},{"$f":"hdecembre","v":""},{"$f":"hdecembre","v":""},{"$f":"hdecembre","v":""},{"$f":"hdecembre","v":""},{"$f":"hdecembre","v":""},{"$f":"hdecembre","v":""},{"$f":"hdecembre","v":""},{"$f":"hdecembre","v":""},{"$f":"hdecembre","v":""},{"$f":"hdecembre","v":""},{"$f":"hdecembre","v":""}]
[{"$f":"Données!$H40","v":0},{"$f":"hdecembre","v":""},{"$f":"hdecembre","v":""},{"$f":"hdecembre","v":""},{"$f":"hdecembre","v":""},{"$f":"hdecembre","v":""},{"$f":"hdecembre","v":""},{"$f":"hdecembre","v":""},{"$f":"hdecembre","v":""},{"$f":"hdecembre","v":""},{"$f":"hdecembre","v":""},{"$f":"hdecembre","v":""},{"$f":"hdecembre","v":""},{"$f":"hdecembre","v":""},{"$f":"hdecembre","v":""},{"$f":"hdecembre","v":""},{"$f":"hdecembre","v":""},{"$f":"hdecembre","v":""},{"$f":"hdecembre","v":""},{"$f":"hdecembre","v":""},{"$f":"hdecembre","v":""},{"$f":"hdecembre","v":""},{"$f":"hdecembre","v":""},{"$f":"hdecembre","v":""},{"$f":"hdecembre","v":""},{"$f":"hdecembre","v":""},{"$f":"hdecembre","v":""},{"$f":"hdecembre","v":""},{"$f":"hdecembre","v":""},{"$f":"hdecembre","v":""},{"$f":"hdecembre","v":""},{"$f":"hdecembre","v":""}]
[{"$f":"Données!$H41","v":0},{"$f":"hdecembre","v":""},{"$f":"hdecembre","v":""},{"$f":"hdecembre","v":""},{"$f":"hdecembre","v":""},{"$f":"hdecembre","v":""},{"$f":"hdecembre","v":""},{"$f":"hdecembre","v":""},{"$f":"hdecembre","v":""},{"$f":"hdecembre","v":""},{"$f":"hdecembre","v":""},{"$f":"hdecembre","v":""},{"$f":"hdecembre","v":""},{"$f":"hdecembre","v":""},{"$f":"hdecembre","v":""},{"$f":"hdecembre","v":""},{"$f":"hdecembre","v":""},{"$f":"hdecembre","v":""},{"$f":"hdecembre","v":""},{"$f":"hdecembre","v":""},{"$f":"hdecembre","v":""},{"$f":"hdecembre","v":""},{"$f":"hdecembre","v":""},{"$f":"hdecembre","v":""},{"$f":"hdecembre","v":""},{"$f":"hdecembre","v":""},{"$f":"hdecembre","v":""},{"$f":"hdecembre","v":""},{"$f":"hdecembre","v":""},{"$f":"hdecembre","v":""},{"$f":"hdecembre","v":""},{"$f":"hdecembre","v":""}]
[{"$f":"Données!$H42","v":"Psychologue"}]
[{"$f":"Données!$H43","v":"O"},{"$f":"hdecembre","v":""},{"$f":"hdecembre","v":""},{"$f":"hdecembre","v":""},{"$f":"hdecembre","v":""},{"$f":"hdecembre","v":""},{"$f":"hdecembre","v":""},{"$f":"hdecembre","v":""},{"$f":"hdecembre","v":""},{"$f":"hdecembre","v":""},{"$f":"hdecembre","v":""},{"$f":"hdecembre","v":""},{"$f":"hdecembre","v":""},{"$f":"hdecembre","v":""},{"$f":"hdecembre","v":""},{"$f":"hdecembre","v":""},{"$f":"hdecembre","v":""},{"$f":"hdecembre","v":""},{"$f":"hdecembre","v":""},{"$f":"hdecembre","v":""},{"$f":"hdecembre","v":""},{"$f":"hdecembre","v":""},{"$f":"hdecembre","v":""},{"$f":"hdecembre","v":""},{"$f":"hdecembre","v":""},{"$f":"hdecembre","v":""},{"$f":"hdecembre","v":""},{"$f":"hdecembre","v":""},{"$f":"hdecembre","v":""},{"$f":"hdecembre","v":""},{"$f":"hdecembre","v":""},{"$f":"hdecembre","v":""}]
[{"$f":"Données!$H44","v":0},{"$f":"hdecembre","v":""},{"$f":"hdecembre","v":""},{"$f":"hdecembre","v":""},{"$f":"hdecembre","v":""},{"$f":"hdecembre","v":""},{"$f":"hdecembre","v":""},{"$f":"hdecembre","v":""},{"$f":"hdecembre","v":""},{"$f":"hdecembre","v":""},{"$f":"hdecembre","v":""},{"$f":"hdecembre","v":""},{"$f":"hdecembre","v":""},{"$f":"hdecembre","v":""},{"$f":"hdecembre","v":""},{"$f":"hdecembre","v":""},{"$f":"hdecembre","v":""},{"$f":"hdecembre","v":""},{"$f":"hdecembre","v":""},{"$f":"hdecembre","v":""},{"$f":"hdecembre","v":""},{"$f":"hdecembre","v":""},{"$f":"hdecembre","v":""},{"$f":"hdecembre","v":""},{"$f":"hdecembre","v":""},{"$f":"hdecembre","v":""},{"$f":"hdecembre","v":""},{"$f":"hdecembre","v":""},{"$f":"hdecembre","v":""},{"$f":"hdecembre","v":""},{"$f":"hdecembre","v":""},{"$f":"hdecembre","v":""}]
[{"$f":"Données!$H45","v":0},{"$f":"hdecembre","v":""},{"$f":"hdecembre","v":""},{"$f":"hdecembre","v":""},{"$f":"hdecembre","v":""},{"$f":"hdecembre","v":""},{"$f":"hdecembre","v":""},{"$f":"hdecembre","v":""},{"$f":"hdecembre","v":""},{"$f":"hdecembre","v":""},{"$f":"hdecembre","v":""},{"$f":"hdecembre","v":""},{"$f":"hdecembre","v":""},{"$f":"hdecembre","v":""},{"$f":"hdecembre","v":""},{"$f":"hdecembre","v":""},{"$f":"hdecembre","v":""},{"$f":"hdecembre","v":""},{"$f":"hdecembre","v":""},{"$f":"hdecembre","v":""},{"$f":"hdecembre","v":""},{"$f":"hdecembre","v":""},{"$f":"hdecembre","v":""},{"$f":"hdecembre","v":""},{"$f":"hdecembre","v":""},{"$f":"hdecembre","v":""},{"$f":"hdecembre","v":""},{"$f":"hdecembre","v":""},{"$f":"hdecembre","v":""},{"$f":"hdecembre","v":""},{"$f":"hdecembre","v":""},{"$f":"hdecembre","v":""}]
[{"$f":"Données!$H46","v":"Coordinatrice"}]
[{"$f":"Données!$H47","v":"P"},{"$f":"hdecembre","v":""},{"$f":"hdecembre","v":""},{"$f":"hdecembre","v":""},{"$f":"hdecembre","v":""},{"$f":"hdecembre","v":""},{"$f":"hdecembre","v":""},{"$f":"hdecembre","v":""},{"$f":"hdecembre","v":""},{"$f":"hdecembre","v":""},{"$f":"hdecembre","v":""},{"$f":"hdecembre","v":""},{"$f":"hdecembre","v":""},{"$f":"hdecembre","v":""},{"$f":"hdecembre","v":""},{"$f":"hdecembre","v":""},{"$f":"hdecembre","v":""},{"$f":"hdecembre","v":""},{"$f":"hdecembre","v":""},{"$f":"hdecembre","v":""},{"$f":"hdecembre","v":""},{"$f":"hdecembre","v":""},{"$f":"hdecembre","v":""},{"$f":"hdecembre","v":""},{"$f":"hdecembre","v":""},{"$f":"hdecembre","v":""},{"$f":"hdecembre","v":""},{"$f":"hdecembre","v":""},{"$f":"hdecembre","v":""},{"$f":"hdecembre","v":""},{"$f":"hdecembre","v":""},{"$f":"hdecembre","v":""}]
[{"$f":"Données!$H48","v":0},{"$f":"hdecembre","v":""},{"$f":"hdecembre","v":""},{"$f":"hdecembre","v":""},{"$f":"hdecembre","v":""},{"$f":"hdecembre","v":""},{"$f":"hdecembre","v":""},{"$f":"hdecembre","v":""},{"$f":"hdecembre","v":""},{"$f":"hdecembre","v":""},{"$f":"hdecembre","v":""},{"$f":"hdecembre","v":""},{"$f":"hdecembre","v":""},{"$f":"hdecembre","v":""},{"$f":"hdecembre","v":""},{"$f":"hdecembre","v":""},{"$f":"hdecembre","v":""},{"$f":"hdecembre","v":""},{"$f":"hdecembre","v":""},{"$f":"hdecembre","v":""},{"$f":"hdecembre","v":""},{"$f":"hdecembre","v":""},{"$f":"hdecembre","v":""},{"$f":"hdecembre","v":""},{"$f":"hdecembre","v":""},{"$f":"hdecembre","v":""},{"$f":"hdecembre","v":""},{"$f":"hdecembre","v":""},{"$f":"hdecembre","v":""},{"$f":"hdecembre","v":""},{"$f":"hdecembre","v":""},{"$f":"hdecembre","v":""}]
[{"$f":"Données!$H49","v":0},{"$f":"hdecembre","v":""},{"$f":"hdecembre","v":""},{"$f":"hdecembre","v":""},{"$f":"hdecembre","v":""},{"$f":"hdecembre","v":""},{"$f":"hdecembre","v":""},{"$f":"hdecembre","v":""},{"$f":"hdecembre","v":""},{"$f":"hdecembre","v":""},{"$f":"hdecembre","v":""},{"$f":"hdecembre","v":""},{"$f":"hdecembre","v":""},{"$f":"hdecembre","v":""},{"$f":"hdecembre","v":""},{"$f":"hdecembre","v":""},{"$f":"hdecembre","v":""},{"$f":"hdecembre","v":""},{"$f":"hdecembre","v":""},{"$f":"hdecembre","v":""},{"$f":"hdecembre","v":""},{"$f":"hdecembre","v":""},{"$f":"hdecembre","v":""},{"$f":"hdecembre","v":""},{"$f":"hdecembre","v":""},{"$f":"hdecembre","v":""},{"$f":"hdecembre","v":""},{"$f":"hdecembre","v":""},{"$f":"hdecembre","v":""},{"$f":"hdecembre","v":""},{"$f":"hdecembre","v":""},{"$f":"hdecembre","v":""}]
[{"$f":"Données!$H50","v":0},{"$f":"hdecembre","v":""},{"$f":"hdecembre","v":""},{"$f":"hdecembre","v":""},{"$f":"hdecembre","v":""},{"$f":"hdecembre","v":""},{"$f":"hdecembre","v":""},{"$f":"hdecembre","v":""},{"$f":"hdecembre","v":""},{"$f":"hdecembre","v":""},{"$f":"hdecembre","v":""},{"$f":"hdecembre","v":""},{"$f":"hdecembre","v":""},{"$f":"hdecembre","v":""},{"$f":"hdecembre","v":""},{"$f":"hdecembre","v":""},{"$f":"hdecembre","v":""},{"$f":"hdecembre","v":""},{"$f":"hdecembre","v":""},{"$f":"hdecembre","v":""},{"$f":"hdecembre","v":""},{"$f":"hdecembre","v":""},{"$f":"hdecembre","v":""},{"$f":"hdecembre","v":""},{"$f":"hdecembre","v":""},{"$f":"hdecembre","v":""},{"$f":"hdecembre","v":""},{"$f":"hdecembre","v":""},{"$f":"hdecembre","v":""},{"$f":"hdecembre","v":""},{"$f":"hdecembre","v":""},{"$f":"hdecembre","v":""}]
[{"$f":"Données!$H51","v":0},{"$f":"hdecembre","v":""},{"$f":"hdecembre","v":""},{"$f":"hdecembre","v":""},{"$f":"hdecembre","v":""},{"$f":"hdecembre","v":""},{"$f":"hdecembre","v":""},{"$f":"hdecembre","v":""},{"$f":"hdecembre","v":""},{"$f":"hdecembre","v":""},{"$f":"hdecembre","v":""},{"$f":"hdecembre","v":""},{"$f":"hdecembre","v":""},{"$f":"hdecembre","v":""},{"$f":"hdecembre","v":""},{"$f":"hdecembre","v":""},{"$f":"hdecembre","v":""},{"$f":"hdecembre","v":""},{"$f":"hdecembre","v":""},{"$f":"hdecembre","v":""},{"$f":"hdecembre","v":""},{"$f":"hdecembre","v":""},{"$f":"hdecembre","v":""},{"$f":"hdecembre","v":""},{"$f":"hdecembre","v":""},{"$f":"hdecembre","v":""},{"$f":"hdecembre","v":""},{"$f":"hdecembre","v":""},{"$f":"hdecembre","v":""},{"$f":"hdecembre","v":""},{"$f":"hdecembre","v":""},{"$f":"hdecembre","v":""}]
[{"$f":"Données!$H52","v":"Chef de service"}]
[{"$f":"Données!$H53","v":"Q"},{"$f":"hdecembre","v":""},{"$f":"hdecembre","v":""},{"$f":"hdecembre","v":""},{"$f":"hdecembre","v":""},{"$f":"hdecembre","v":""},{"$f":"hdecembre","v":""},{"$f":"hdecembre","v":""},{"$f":"hdecembre","v":""},{"$f":"hdecembre","v":""},{"$f":"hdecembre","v":""},{"$f":"hdecembre","v":""},{"$f":"hdecembre","v":""},{"$f":"hdecembre","v":""},{"$f":"hdecembre","v":""},{"$f":"hdecembre","v":""},{"$f":"hdecembre","v":""},{"$f":"hdecembre","v":""},{"$f":"hdecembre","v":""},{"$f":"hdecembre","v":""},{"$f":"hdecembre","v":""},{"$f":"hdecembre","v":""},{"$f":"hdecembre","v":""},{"$f":"hdecembre","v":""},{"$f":"hdecembre","v":""},{"$f":"hdecembre","v":""},{"$f":"hdecembre","v":""},{"$f":"hdecembre","v":""},{"$f":"hdecembre","v":""},{"$f":"hdecembre","v":""},{"$f":"hdecembre","v":""},{"$f":"hdecembre","v":""}]

{"sheet":"BJanvier","index":26,"n_rows":56,"n_cols":66,"rows_kept":56,"cut":false,"hidden":false,"merged":[[7,37,7,38],[6,27,7,27],[6,28,7,28],[6,32,7,32],[6,30,7,30],[7,34,7,35],[6,31,7,31]]}
["Janvier"]
[null,null,{"$f":"LEFT(OFFSET(INDIRECT(\"H\"&$A$1&\"!B8:AF8\"),MATCH($A9,INDIRECT(\"H\"&$A$1&\"!A9:A56\"),0),),5)","v":""}]
[null,null,{"$f":"RIGHT(OFFSET(INDIRECT(\"H\"&$A$1&\"!B8:AF8\"),MATCH($A3,INDIRECT(\"H\"&$A$1&\"!A9:A56\"),0),),5)","v":""}]
[]
[]
["Jours",{"$f":"Données!$E3","v":0.31597222222222227},{"$f":"Données!$E4","v":0.10763888888888884},{"$f":"Données!$E5","v":0.31249999999999994},{"$f":"Données!$E6","v":0.32291666666666669},{"$f":"Données!$E7","v":8.3333333333333315E-2},{"$f":"Données!$E8","v":0.47916666666666669},{"$f":"Données!$E9","v":0.3125},{"$f":"Données!$E10","v":0.48958333333333337},{"$f":"Données!$E11","v":0.47916666666666669},{"$f":"Données!$E12","v":0.51041666666666674},{"$f":"Données!$E13","v":0.51041666666666674},{"$f":"Données!$E14","v":0.44791666666666663},{"$f":"Données!$E15","v":0.49999999999999989},{"$f":"Données!$E16","v":0.49999999999999989},{"$f":"Données!$E17","v":0.5},{"$f":"Données!$E18","v":0.29166666666666669},{"$f":"Données!$E19","v":0.3125},{"$f":"Données!$E20","v":0.3125},{"$f":"Données!$E21","v":0.3125},{"$f":"Données!$E22","v":0.3125},{"$f":"Données!$E23","v":0.3125},{"$f":"Données!$E24","v":0},{"$f":"Données!$E25","v":0},{"$f":"Données!$E26","v":0},{"$f":"Données!$E27","v":0.33333333333333331},{"$f":"Données!$E28","v":0}]
[null,{"$f":"Données!$A3","v":"M"},{"$f":"Données!$A4","v":"MG"},{"$f":"Données!$A5","v":"J"},{"$f":"Données!$A6","v":"J+"},{"$f":"Données!$A7","v":"R"},{"$f":"Données!$A8","v":"RS"},{"$f":"Données!$A9","v":"S"},{"$f":"Données!$A10","v":"W"},{"$f":"Données!$A11","v":"W+"},{"$f":"Données!$A12","v":"WD"},{"$f":"Données!$A13","v":"WF"},{"$f":"Données!$A14","v":"N"},{"$f":"Données!$A15","v":"N+"},{"$f":"Données!$A16","v":"NS"},{"$f":"Données!$A17","v":"T"},{"$f":"Données!$A18","v":"F"},{"$f":"Données!$A19","v":"SYN"},{"$f":"Données!$A20","v":"AT"},{"$f":"Données!$A21","v":"AM"},{"$f":"Données!$A22","v":"EM"},{"$f":"Données!$A23","v":"CE"},{"$f":"Données!$A24","v":"CA"},{"$f":"Données!$A25","v":"CA16"},{"$f":"Données!$A26","v":"REC"},{"$f":"Données!$A27","v":"PL"},{"$f":"Données!$A28","v":"D"},"Heures\nSupplémentaires \navant 21 h","Heures\nSupplémentaires \naprès 21 h",null,"Heures dimanche","Heures de nuit dimanches","Heures apres 21 h"]
["Equipe de jour",{"$f":"IF(ISBLANK(Données!$C3),TEXT(Données!$B3,\"hh:mm\"),TEXT(Données!$B3,\"hh:mm\")&\" : \"&TEXT(Données!$C3,\"hh:mm\"))","v":"07:00 : 14:35"},{"$f":"IF(ISBLANK(Données!$C4),TEXT(Données!$B4,\"hh:mm\"),TEXT(Données!$B4,\"hh:mm\")&\" : \"&TEXT(Données!$C4,\"hh:mm\"))","v":"23:00 : 01:35"},{"$f":"IF(ISBLANK(Données!$C5),TEXT(Données!$B5,\"hh:mm\"),TEXT(Données!$B5,\"hh:mm\")&\" : \"&TEXT(Données!$C5,\"hh:mm\"))","v":"10:00 : 17:30"},{"$f":"IF(ISBLANK(Données!$C6),TEXT(Données!$B6,\"hh:mm\"),TEXT(Données!$B6,\"hh:mm\")&\" : \"&TEXT(Données!$C6,\"hh:mm\"))","v":"11:30 : 19:15"},{"$f":"IF(ISBLANK(Données!$C7),TEXT(Données!$B7,\"hh:mm\"),TEXT(Données!$B7,\"hh:mm\")&\" : \"&TEXT(Données!$C7,\"hh:mm\"))","v":"10:00 : 12:00"},{"$f":"IF(ISBLANK(Données!$C8),TEXT(Données!$B8,\"hh:mm\"),TEXT(Données!$B8,\"hh:mm\")&\" : \"&TEXT(Données!$C8,\"hh:mm\"))","v":"10:00 : 21:30"},{"$f":"IF(ISBLANK(Données!$C9),TEXT(Données!$B9,\"hh:mm\"),TEXT(Données!$B9,\"hh:mm\")&\" : \"&TEXT(Données!$C9,\"hh:mm\"))","v":"14:00 : 21:30"},{"$f":"IF(ISBLANK(Données!$C10),TEXT(Données!$B10,\"hh:mm\"),TEXT(Données!$B10,\"hh:mm\")&\" : \"&TEXT(Données!$C10,\"hh:mm\"))","v":"07:30 : 19:15"},{"$f":"IF(ISBLANK(Données!$C11),TEXT(Données!$B11,\"hh:mm\"),TEXT(Données!$B11,\"hh:mm\")&\" : \"&TEXT(Données!$C11,\"hh:mm\"))","v":"10:00 : 21:30"},{"$f":"IF(ISBLANK(Données!$C12),TEXT(Données!$B12,\"hh:mm\"),TEXT(Données!$B12,\"hh:mm\")&\" : \"&TEXT(Données!$C12,\"hh:mm\"))","v":"07:00 : 19:15"},{"$f":"IF(ISBLANK(Données!$C13),TEXT(Données!$B13,\"hh:mm\"),TEXT(Données!$B13,\"hh:mm\")&\" : \"&TEXT(Données!$C13,\"hh:mm\"))","v":"07:00 : 19:15"},{"$f":"IF(ISBLANK(Données!$C14),TEXT(Données!$B14,\"hh:mm\"),TEXT(Données!$B14,\"hh:mm\")&\" : \"&TEXT(Données!$C14,\"hh:mm\"))","v":"20:30 : 07:15"},{"$f":"IF(ISBLANK(Données!$C15),TEXT(Données!$B15,\"hh:mm\"),TEXT(Données!$B15,\"hh:mm\")&\" : \"&TEXT(Données!$C15,\"hh:mm\"))","v":"19:15 : 07:15"},{"$f":"IF(ISBLANK(Données!$C16),TEXT(Données!$B16,\"hh:mm\"),TEXT(Données!$B16,\"hh:mm\")&\" : \"&TEXT(Données!$C16,\"hh:mm\"))","v":"19:15 : 07:15"},{"$f":"IF(ISBLANK(Données!$C17),TEXT(Données!$B17,\"hh:mm\"),TEXT(Données!$B17,\"hh:mm\")&\" : \"&TEXT(Données!$C17,\"hh:mm\"))","v":"T"},{"$f":"IF(ISBLANK(Données!$C18),TEXT(Données!$B18,\"hh:mm\"),TEXT(Données!$B18,\"hh:mm\")&\" : \"&TEXT(Données!$C18,\"hh:mm\"))","v":"F"},{"$f":"IF(ISBLANK(Données!$C19),TEXT(Données!$B19,\"hh:mm\"),TEXT(Données!$B19,\"hh:mm\")&\" : \"&TEXT(Données!$C19,\"hh:mm\"))","v":"Syn"},{"$f":"IF(ISBLANK(Données!$C20),TEXT(Données!$B20,\"hh:mm\"),TEXT(Données!$B20,\"hh:mm\")&\" : \"&TEXT(Données!$C20,\"hh:mm\"))","v":"AT"},{"$f":"IF(ISBLANK(Données!$C21),TEXT(Données!$B21,\"hh:mm\"),TEXT(Données!$B21,\"hh:mm\")&\" : \"&TEXT(Données!$C21,\"hh:mm\"))","v":"AM"},{"$f":"IF(ISBLANK(Données!$C22),TEXT(Données!$B22,\"hh:mm\"),TEXT(Données!$B22,\"hh:mm\")&\" : \"&TEXT(Données!$C22,\"hh:mm\"))","v":"EM"},{"$f":"IF(ISBLANK(Données!$C23),TEXT(Données!$B23,\"hh:mm\"),TEXT(Données!$B23,\"hh:mm\")&\" : \"&TEXT(Données!$C23,\"hh:mm\"))","v":"CE"},{"$f":"IF(ISBLANK(Données!$C24),TEXT(Données!$B24,\"hh:mm\"),TEXT(Données!$B24,\"hh:mm\")&\" : \"&TEXT(Données!$C24,\"hh:mm\"))","v":"CA"},{"$f":"IF(ISBLANK(Données!$C25),TEXT(Données!$B25,\"hh:mm\"),TEXT(Données!$B25,\"hh:mm\")&\" : \"&TEXT(Données!$C25,\"hh:mm\"))","v":"CA16"},{"$f":"IF(ISBLANK(Données!$C26),TEXT(Données!$B26,\"hh:mm\"),TEXT(Données!$B26,\"hh:mm\")&\" : \"&TEXT(Données!$C26,\"hh:mm\"))","v":"REC"},{"$f":"IF(ISBLANK(Données!$C27),TEXT(Données!$B27,\"hh:mm\"),TEXT(Données!$B27,\"hh:mm\")&\" : \"&TEXT(Données!$C27,\"hh:mm\"))","v":"PL"},{"$f":"IF(ISBLANK(Données!$C28),TEXT(Données!$B28,\"hh:mm\"),TEXT(Données!$B28,\"hh:mm\")&\" : \"&TEXT(Données!$C28,\"hh:mm\"))","v":"D"},null,null,null,null,null,null,null,"Total ",null,null,"CA",null,null,"Jour travaillé"]
[{"$f":"Données!$H6","v":"A"},{"$f":"IF(SUMPRODUCT((INDIRECT(\"'\"&$A$1&\"'!$A$7:$A$56\")=$A9)*(INDIRECT(\"'\"&$A$1&\"'!$B$7:$AF$56\")=B$7))=0,\"\",SUMPRODUCT((INDIRECT(\"'\"&$A$1&\"'!$A$7:$A$56\")=$A9)*(INDIRECT(\"'\"&$A$1&\"'!$B$7:$AF$56\")=B$7)))","v":""},{"$f":"IF(SUMPRODUCT((INDIRECT(\"'\"&$A$1&\"'!$A$7:$A$56\")=$A9)*(INDIRECT(\"'\"&$A$1&\"'!$B$7:$AF$56\")=C$7))=0,\"\",SUMPRODUCT((INDIRECT(\"'\"&$A$1&\"'!$A$7:$A$56\")=$A9)*(INDIRECT(\"'\"&$A$1&\"'!$B$7:$AF$56\")=C$7)))","v":""},"","","","","","","","","","","","","","","","","","","","","","","","",{"$f":"VLOOKUP($A9,INDIRECT(\"'\"&$A$1&\"'!$A$7:$AR$56\"),35,0)","v":"00:00:00"},{"$f":"VLOOKUP($A9,INDIRECT(\"'\"&$A$1&\"'!$A$7:$AR$56\"),36,0)","v":"00:00:00"},null,{"$f":"SUMPRODUCT(ISNUMBER(MATCH(INDIRECT(\"H\"&$A$1&\"!B2:AF2\"),DimFe,0))*IFERROR(IF(\"19:00\">=IFERROR(Hgauche,0),IFERROR(hdroite-Hgauche,0),IF(durée1>0,durée1,\"00:00\")),0))+SUMPRODUCT(ISNUMBER(MATCH(INDIRECT(\"H\"&$A$1&\"!B2:AF2\"),moindimfe,0))*IFERROR(IF(\"19:00\"<=IFERROR(Hgauche,0),IF(durée4<0,0,durée4),\"00:00\"),0))","v":0},{"$f":"SUMPRODUCT(ISNUMBER(MATCH(INDIRECT(\"H\"&$A$1&\"!B2:AF2\"),DimFe,0))*IFERROR(IF(\"19:00\"<=IFERROR(Hgauche,0),IF(durée6<0,0,durée6),IF(durée<0,0,durée)),0))+SUMPRODUCT(ISNUMBER(MATCH(INDIRECT(\"H\"&$A$1&\"!B2:AF2\"),moindimfe,0))*IFERROR(IF(\"19:00\"<=IFERROR(Hgauche,0),IF(durée2<0,0,durée2),\"00:00\"),0))","v":0},{"$f":"SUM(SUMPRODUCT(1*IFERROR(IF(\"19:00\"<=IFERROR(Hgauche,0),IF(durée2<0,0,durée2),\"00:00\"),0)),SUMPRODUCT(1*IFERROR(IF(\"19:00\"<=IFERROR(Hgauche,0),IF(durée6<0,0,durée6),\"00:00\"),0)),SUMPRODUCT(1*IFERROR(IF(\"21:00\"<=IFERROR(Hdroitesimple,0),IF(durée<0,0,durée),\"00:00\"),0)))-durée5","v":0},null,{"$f":"bilanh","v":0},{"$f":"VLOOKUP($A9,Bilan!$A$9:$AQ57,37,FALSE)","v":59.5},null,{"$f":"Bilan!AN9","v":65},65,null,{"$f":"Jourtravaillé","v":0}]
[{"$f":"Données!$H7","v":0},{"$f":"IF(SUMPRODUCT((INDIRECT(\"'\"&$A$1&\"'!$A$7:$A$56\")=$A10)*(INDIRECT(\"'\"&$A$1&\"'!$B$7:$AF$56\")=B$7))=0,\"\",SUMPRODUCT((INDIRECT(\"'\"&$A$1&\"'!$A$7:$A$56\")=$A10)*(INDIRECT(\"'\"&$A$1&\"'!$B$7:$AF$56\")=B$7)))","v":""},"","","","","","","","","","","","","","","","","","","","","","","","","",{"$f":"VLOOKUP($A10,INDIRECT(\"'\"&$A$1&\"'!$A$7:$AR$56\"),35,0)","v":"00:00:00"},{"$f":"VLOOKUP($A10,INDIRECT(\"'\"&$A$1&\"'!$A$7:$AR$56\"),36,0)","v":"00:00:00"},null,{"$f":"SUMPRODUCT(ISNUMBER(MATCH(INDIRECT(\"H\"&$A$1&\"!B2:AF2\"),DimFe,0))*IFERROR(IF(\"19:00\">=IFERROR(Hgauche,0),IFERROR(hdroite-Hgauche,0),IF(durée1>0,durée1,\"00:00\")),0))+SUMPRODUCT(ISNUMBER(MATCH(INDIRECT(\"H\"&$A$1&\"!B2:AF2\"),moindimfe,0))*IFERROR(IF(\"19:00\"<=IFERROR(Hgauche,0),IF(durée4<0,0,durée4),\"00:00\"),0))","v":0},{"$f":"SUMPRODUCT(ISNUMBER(MATCH(INDIRECT(\"H\"&$A$1&\"!B2:AF2\"),DimFe,0))*IFERROR(IF(\"19:00\"<=IFERROR(Hgauche,0),IF(durée6<0,0,durée6),IF(durée<0,0,durée)),0))+SUMPRODUCT(ISNUMBER(MATCH(INDIRECT(\"H\"&$A$1&\"!B2:AF2\"),moindimfe,0))*IFERROR(IF(\"19:00\"<=IFERROR(Hgauche,0),IF(durée2<0,0,durée2),\"00:00\"),0))","v":0},{"$f":"SUM(SUMPRODUCT(1*IFERROR(IF(\"19:00\"<=IFERROR(Hgauche,0),IF(durée2<0,0,durée2),\"00:00\"),0)),SUMPRODUCT(1*IFERROR(IF(\"19:00\"<=IFERROR(Hgauche,0),IF(durée6<0,0,durée6),\"00:00\"),0)),SUMPRODUCT(1*IFERROR(IF(\"21:00\"<=IFERROR(Hdroitesimple,0),IF(durée<0,0,durée),\"00:00\"),0)))-durée5","v":0},null,{"$f":"bilanh","v":0},{"$f":"VLOOKUP($A10,Bilan!$A$9:$AQ58,37,FALSE)","v":59.5},null,{"$f":"Bilan!AN10","v":65},65,null,0]
[{"$f":"Données!$H8","v":0},"","","","","","","","","","","","","","","","","","","","","","","","","","","00:00:00","00:00:00",null,{"$f":"SUMPRODUCT(ISNUMBER(MATCH(INDIRECT(\"H\"&$A$1&\"!B2:AF2\"),DimFe,0))*IFERROR(IF(\"19:00\">=IFERROR(Hgauche,0),IFERROR(hdroite-Hgauche,0),IF(durée1>0,durée1,\"00:00\")),0))+SUMPRODUCT(ISNUMBER(MATCH(INDIRECT(\"H\"&$A$1&\"!B2:AF2\"),moindimfe,0))*IFERROR(IF(\"19:00\"<=IFERROR(Hgauche,0),IF(durée4<0,0,durée4),\"00:00\"),0))","v":0},{"$f":"SUMPRODUCT(ISNUMBER(MATCH(INDIRECT(\"H\"&$A$1&\"!B2:AF2\"),DimFe,0))*IFERROR(IF(\"19:00\"<=IFERROR(Hgauche,0),IF(durée6<0,0,durée6),IF(durée<0,0,durée)),0))+SUMPRODUCT(ISNUMBER(MATCH(INDIRECT(\"H\"&$A$1&\"!B2:AF2\"),moindimfe,0))*IFERROR(IF(\"19:00\"<=IFERROR(Hgauche,0),IF(durée2<0,0,durée2),\"00:00\"),0))","v":0},{"$f":"SUM(SUMPRODUCT(1*IFERROR(IF(\"19:00\"<=IFERROR(Hgauche,0),IF(durée2<0,0,durée2),\"00:00\"),0)),SUMPRODUCT(1*IFERROR(IF(\"19:00\"<=IFERROR(Hgauche,0),IF(durée6<0,0,durée6),\"00:00\"),0)),SUMPRODUCT(1*IFERROR(IF(\"21:00\"<=IFERROR(Hdroitesimple,0),IF(durée<0,0,durée),\"00:00\"),0)))-durée5","v":0},null,0,{"$f":"VLOOKUP($A11,Bilan!$A$9:$AQ59,37,FALSE)","v":59.5},null,{"$f":"Bilan!AN11","v":65},65,null,0]
[{"$f":"Données!$H9","v":0},"","","","","","","","","","","","","","","","","","","","","","","","","","","00:00:00","00:00:00",null,{"$f":"SUMPRODUCT(ISNUMBER(MATCH(INDIRECT(\"H\"&$A$1&\"!B2:AF2\"),DimFe,0))*IFERROR(IF(\"19:00\">=IFERROR(Hgauche,0),IFERROR(hdroite-Hgauche,0),IF(durée1>0,durée1,\"00:00\")),0))+SUMPRODUCT(ISNUMBER(MATCH(INDIRECT(\"H\"&$A$1&\"!B2:AF2\"),moindimfe,0))*IFERROR(IF(\"19:00\"<=IFERROR(Hgauche,0),IF(durée4<0,0,durée4),\"00:00\"),0))","v":0},{"$f":"SUMPRODUCT(ISNUMBER(MATCH(INDIRECT(\"H\"&$A$1&\"!B2:AF2\"),DimFe,0))*IFERROR(IF(\"19:00\"<=IFERROR(Hgauche,0),IF(durée6<0,0,durée6),IF(durée<0,0,durée)),0))+SUMPRODUCT(ISNUMBER(MATCH(INDIRECT(\"H\"&$A$1&\"!B2:AF2\"),moindimfe,0))*IFERROR(IF(\"19:00\"<=IFERROR(Hgauche,0),IF(durée2<0,0,durée2),\"00:00\"),0))","v":0},{"$f":"SUM(SUMPRODUCT(1*IFERROR(IF(\"19:00\"<=IFERROR(Hgauche,0),IF(durée2<0,0,durée2),\"00:00\"),0)),SUMPRODUCT(1*IFERROR(IF(\"19:00\"<=IFERROR(Hgauche,0),IF(durée6<0,0,durée6),\"00:00\"),0)),SUMPRODUCT(1*IFERROR(IF(\"21:00\"<=IFERROR(Hdroitesimple,0),IF(durée<0,0,durée),\"00:00\"),0)))-durée5","v":0},null,0,{"$f":"VLOOKUP($A12,Bilan!$A$9:$AQ60,37,FALSE)","v":59.5},null,{"$f":"Bilan!AN12","v":65},65,null,0]
[{"$f":"Données!$H10","v":0},"","","","","","","","","","","","","","","","","","","","","","","","","","","00:00:00","00:00:00",null,{"$f":"SUMPRODUCT(ISNUMBER(MATCH(INDIRECT(\"H\"&$A$1&\"!B2:AF2\"),DimFe,0))*IFERROR(IF(\"19:00\">=IFERROR(Hgauche,0),IFERROR(hdroite-Hgauche,0),IF(durée1>0,durée1,\"00:00\")),0))+SUMPRODUCT(ISNUMBER(MATCH(INDIRECT(\"H\"&$A$1&\"!B2:AF2\"),moindimfe,0))*IFERROR(IF(\"19:00\"<=IFERROR(Hgauche,0),IF(durée4<0,0,durée4),\"00:00\"),0))","v":0},{"$f":"SUMPRODUCT(ISNUMBER(MATCH(INDIRECT(\"H\"&$A$1&\"!B2:AF2\"),DimFe,0))*IFERROR(IF(\"19:00\"<=IFERROR(Hgauche,0),IF(durée6<0,0,durée6),IF(durée<0,0,durée)),0))+SUMPRODUCT(ISNUMBER(MATCH(INDIRECT(\"H\"&$A$1&\"!B2:AF2\"),moindimfe,0))*IFERROR(IF(\"19:00\"<=IFERROR(Hgauche,0),IF(durée2<0,0,durée2),\"00:00\"),0))","v":0},{"$f":"SUM(SUMPRODUCT(1*IFERROR(IF(\"19:00\"<=IFERROR(Hgauche,0),IF(durée2<0,0,durée2),\"00:00\"),0)),SUMPRODUCT(1*IFERROR(IF(\"19:00\"<=IFERROR(Hgauche,0),IF(durée6<0,0,durée6),\"00:00\"),0)),SUMPRODUCT(1*IFERROR(IF(\"21:00\"<=IFERROR(Hdroitesimple,0),IF(durée<0,0,durée),\"00:00\"),0)))-durée5","v":0},null,{"$f":"bilanh","v":0},{"$f":"VLOOKUP($A13,Bilan!$A$9:$AQ61,37,FALSE)","v":59.5},null,{"$f":"Bilan!AN13","v":65},65,null,0]
[{"$f":"Données!$H11","v":0},"","","","","","","","","","","","","","","","","","","","","","","","","","","00:00:00","00:00:00",null,{"$f":"SUMPRODUCT(ISNUMBER(MATCH(INDIRECT(\"H\"&$A$1&\"!B2:AF2\"),DimFe,0))*IFERROR(IF(\"19:00\">=IFERROR(Hgauche,0),IFERROR(hdroite-Hgauche,0),IF(durée1>0,durée1,\"00:00\")),0))+SUMPRODUCT(ISNUMBER(MATCH(INDIRECT(\"H\"&$A$1&\"!B2:AF2\"),moindimfe,0))*IFERROR(IF(\"19:00\"<=IFERROR(Hgauche,0),IF(durée4<0,0,durée4),\"00:00\"),0))","v":0},{"$f":"SUMPRODUCT(ISNUMBER(MATCH(INDIRECT(\"H\"&$A$1&\"!B2:AF2\"),DimFe,0))*IFERROR(IF(\"19:00\"<=IFERROR(Hgauche,0),IF(durée6<0,0,durée6),IF(durée<0,0,durée)),0))+SUMPRODUCT(ISNUMBER(MATCH(INDIRECT(\"H\"&$A$1&\"!B2:AF2\"),moindimfe,0))*IFERROR(IF(\"19:00\"<=IFERROR(Hgauche,0),IF(durée2<0,0,durée2),\"00:00\"),0))","v":0},{"$f":"SUM(SUMPRODUCT(1*IFERROR(IF(\"19:00\"<=IFERROR(Hgauche,0),IF(durée2<0,0,durée2),\"00:00\"),0)),SUMPRODUCT(1*IFERROR(IF(\"19:00\"<=IFERROR(Hgauche,0),IF(durée6<0,0,durée6),\"00:00\"),0)),SUMPRODUCT(1*IFERROR(IF(\"21:00\"<=IFERROR(Hdroitesimple,0),IF(durée<0,0,durée),\"00:00\"),0)))-durée5","v":0},null,0,{"$f":"VLOOKUP($A14,Bilan!$A$9:$AQ62,37,FALSE)","v":59.5},null,{"$f":"Bilan!AN14","v":65},65,null,0]
[{"$f":"Données!$H12","v":0},"","","","","","","","","","","","","","","","","","","","","","","","","","","00:00:00","00:00:00",null,{"$f":"SUMPRODUCT(ISNUMBER(MATCH(INDIRECT(\"H\"&$A$1&\"!B2:AF2\"),DimFe,0))*IFERROR(IF(\"19:00\">=IFERROR(Hgauche,0),IFERROR(hdroite-Hgauche,0),IF(durée1>0,durée1,\"00:00\")),0))+SUMPRODUCT(ISNUMBER(MATCH(INDIRECT(\"H\"&$A$1&\"!B2:AF2\"),moindimfe,0))*IFERROR(IF(\"19:00\"<=IFERROR(Hgauche,0),IF(durée4<0,0,durée4),\"00:00\"),0))","v":0},{"$f":"SUMPRODUCT(ISNUMBER(MATCH(INDIRECT(\"H\"&$A$1&\"!B2:AF2\"),DimFe,0))*IFERROR(IF(\"19:00\"<=IFERROR(Hgauche,0),IF(durée6<0,0,durée6),IF(durée<0,0,durée)),0))+SUMPRODUCT(ISNUMBER(MATCH(INDIRECT(\"H\"&$A$1&\"!B2:AF2\"),moindimfe,0))*IFERROR(IF(\"19:00\"<=IFERROR(Hgauche,0),IF(durée2<0,0,durée2),\"00:00\"),0))","v":0},{"$f":"SUM(SUMPRODUCT(1*IFERROR(IF(\"19:00\"<=IFERROR(Hgauche,0),IF(durée2<0,0,durée2),\"00:00\"),0)),SUMPRODUCT(1*IFERROR(IF(\"19:00\"<=IFERROR(Hgauche,0),IF(durée6<0,0,durée6),\"00:00\"),0)),SUMPRODUCT(1*IFERROR(IF(\"21:00\"<=IFERROR(Hdroitesimple,0),IF(durée<0,0,durée),\"00:00\"),0)))-durée5","v":0},null,0,{"$f":"VLOOKUP($A15,Bilan!$A$9:$AQ63,37,FALSE)","v":59.5},null,{"$f":"Bilan!AN15","v":65},65,null,0]
[{"$f":"Données!$H13","v":0},"","","","","","","","","","","","","","","","","","","","","","","","","","","00:00:00","00:00:00",null,{"$f":"SUMPRODUCT(ISNUMBER(MATCH(INDIRECT(\"H\"&$A$1&\"!B2:AF2\"),DimFe,0))*IFERROR(IF(\"19:00\">=IFERROR(Hgauche,0),IFERROR(hdroite-Hgauche,0),IF(durée1>0,durée1,\"00:00\")),0))+SUMPRODUCT(ISNUMBER(MATCH(INDIRECT(\"H\"&$A$1&\"!B2:AF2\"),moindimfe,0))*IFERROR(IF(\"19:00\"<=IFERROR(Hgauche,0),IF(durée4<0,0,durée4),\"00:00\"),0))","v":0},{"$f":"SUMPRODUCT(ISNUMBER(MATCH(INDIRECT(\"H\"&$A$1&\"!B2:AF2\"),DimFe,0))*IFERROR(IF(\"19:00\"<=IFERROR(Hgauche,0),IF(durée6<0,0,durée6),IF(durée<0,0,durée)),0))+SUMPRODUCT(ISNUMBER(MATCH(INDIRECT(\"H\"&$A$1&\"!B2:AF2\"),moindimfe,0))*IFERROR(IF(\"19:00\"<=IFERROR(Hgauche,0),IF(durée2<0,0,durée2),\"00:00\"),0))","v":0},{"$f":"SUM(SUMPRODUCT(1*IFERROR(IF(\"19:00\"<=IFERROR(Hgauche,0),IF(durée2<0,0,durée2),\"00:00\"),0)),SUMPRODUCT(1*IFERROR(IF(\"19:00\"<=IFERROR(Hgauche,0),IF(durée6<0,0,durée6),\"00:00\"),0)),SUMPRODUCT(1*IFERROR(IF(\"21:00\"<=IFERROR(Hdroitesimple,0),IF(durée<0,0,durée),\"00:00\"),0)))-durée5","v":0},null,{"$f":"bilanh","v":0},{"$f":"VLOOKUP($A16,Bilan!$A$9:$AQ64,37,FALSE)","v":59.5},null,{"$f":"Bilan!AN16","v":65},65,null,0]
[{"$f":"Données!$H14","v":0},"","","","","","","","","","","","","","","","","","","","","","","","","","","00:00:00","00:00:00",null,{"$f":"SUMPRODUCT(ISNUMBER(MATCH(INDIRECT(\"H\"&$A$1&\"!B2:AF2\"),DimFe,0))*IFERROR(IF(\"19:00\">=IFERROR(Hgauche,0),IFERROR(hdroite-Hgauche,0),IF(durée1>0,durée1,\"00:00\")),0))+SUMPRODUCT(ISNUMBER(MATCH(INDIRECT(\"H\"&$A$1&\"!B2:AF2\"),moindimfe,0))*IFERROR(IF(\"19:00\"<=IFERROR(Hgauche,0),IF(durée4<0,0,durée4),\"00:00\"),0))","v":0},{"$f":"SUMPRODUCT(ISNUMBER(MATCH(INDIRECT(\"H\"&$A$1&\"!B2:AF2\"),DimFe,0))*IFERROR(IF(\"19:00\"<=IFERROR(Hgauche,0),IF(durée6<0,0,durée6),IF(durée<0,0,durée)),0))+SUMPRODUCT(ISNUMBER(MATCH(INDIRECT(\"H\"&$A$1&\"!B2:AF2\"),moindimfe,0))*IFERROR(IF(\"19:00\"<=IFERROR(Hgauche,0),IF(durée2<0,0,durée2),\"00:00\"),0))","v":0},{"$f":"SUM(SUMPRODUCT(1*IFERROR(IF(\"19:00\"<=IFERROR(Hgauche,0),IF(durée2<0,0,durée2),\"00:00\"),0)),SUMPRODUCT(1*IFERROR(IF(\"19:00\"<=IFERROR(Hgauche,0),IF(durée6<0,0,durée6),\"00:00\"),0)),SUMPRODUCT(1*IFERROR(IF(\"21:00\"<=IFERROR(Hdroitesimple,0),IF(durée<0,0,durée),\"00:00\"),0)))-durée5","v":0},null,0,{"$f":"VLOOKUP($A17,Bilan!$A$9:$AQ65,37,FALSE)","v":59.5},null,{"$f":"Bilan!AN17","v":65},65,null,0]
[{"$f":"Données!$H15","v":0},"","","","","","","","","","","","","","","","","","","","","","","","","","","00:00:00","00:00:00",null,{"$f":"SUMPRODUCT(ISNUMBER(MATCH(INDIRECT(\"H\"&$A$1&\"!B2:AF2\"),DimFe,0))*IFERROR(IF(\"19:00\">=IFERROR(Hgauche,0),IFERROR(hdroite-Hgauche,0),IF(durée1>0,durée1,\"00:00\")),0))+SUMPRODUCT(ISNUMBER(MATCH(INDIRECT(\"H\"&$A$1&\"!B2:AF2\"),moindimfe,0))*IFERROR(IF(\"19:00\"<=IFERROR(Hgauche,0),IF(durée4<0,0,durée4),\"00:00\"),0))","v":0},{"$f":"SUMPRODUCT(ISNUMBER(MATCH(INDIRECT(\"H\"&$A$1&\"!B2:AF2\"),DimFe,0))*IFERROR(IF(\"19:00\"<=IFERROR(Hgauche,0),IF(durée6<0,0,durée6),IF(durée<0,0,durée)),0))+SUMPRODUCT(ISNUMBER(MATCH(INDIRECT(\"H\"&$A$1&\"!B2:AF2\"),moindimfe,0))*IFERROR(IF(\"19:00\"<=IFERROR(Hgauche,0),IF(durée2<0,0,durée2),\"00:00\"),0))","v":0},{"$f":"SUM(SUMPRODUCT(1*IFERROR(IF(\"19:00\"<=IFERROR(Hgauche,0),IF(durée2<0,0,durée2),\"00:00\"),0)),SUMPRODUCT(1*IFERROR(IF(\"19:00\"<=IFERROR(Hgauche,0),IF(durée6<0,0,durée6),\"00:00\"),0)),SUMPRODUCT(1*IFERROR(IF(\"21:00\"<=IFERROR(Hdroitesimple,0),IF(durée<0,0,durée),\"00:00\"),0)))-durée5","v":0},null,{"$f":"bilanh","v":0},{"$f":"VLOOKUP($A18,Bilan!$A$9:$AQ66,37,FALSE)","v":59.5},null,{"$f":"Bilan!AN18","v":65},65,null,0]
[{"$f":"Données!$H16","v":0},{"$f":"SUMPRODUCT((INDIRECT(\"'\"&$A$1&\"'!$A$7:$A$56\")=$A19)*(INDIRECT(\"'\"&$A$1&\"'!$B$7:$AF$56\")=B$7))","v":0},0,0,0,0,0,0,0,0,0,{"$f":"SUMPRODUCT((INDIRECT(\"'\"&$A$1&\"'!$A$7:$A$56\")=$A19)*(INDIRECT(\"'\"&$A$1&\"'!$B$7:$AF$56\")=L$7))","v":0},0,0,0,0,0,0,0,0,0,{"$f":"SUMPRODUCT((INDIRECT(\"'\"&$A$1&\"'!$A$7:$A$56\")=$A19)*(INDIRECT(\"'\"&$A$1&\"'!$B$7:$AF$56\")=V$7))","v":0},0,0,0,0,0,{"$f":"VLOOKUP($A19,INDIRECT(\"'H\"&$A$1&\"'!$A$7:$AR$56\"),35,0)","v":"00:00:00"},{"$f":"VLOOKUP($A19,INDIRECT(\"'H\"&$A$1&\"'!$A$7:$AR$56\"),38,0)","v":"00:00:00"},null,{"$f":"SUMPRODUCT(ISNUMBER(MATCH(INDIRECT(\"H\"&$A$1&\"!B2:AF2\"),DimFe,0))*IFERROR(IF(\"19:00\">=IFERROR(Hgauche,0),IFERROR(hdroite-Hgauche,0),IF(durée1>0,durée1,\"00:00\")),0))+SUMPRODUCT(ISNUMBER(MATCH(INDIRECT(\"H\"&$A$1&\"!B2:AF2\"),moindimfe,0))*IFERROR(IF(\"19:00\"<=IFERROR(Hgauche,0),IF(durée4<0,0,durée4),\"00:00\"),0))","v":0},{"$f":"SUMPRODUCT(ISNUMBER(MATCH(INDIRECT(\"H\"&$A$1&\"!B2:AF2\"),DimFe,0))*IFERROR(IF(\"19:00\"<=IFERROR(Hgauche,0),IF(durée6<0,0,durée6),IF(durée<0,0,durée)),0))+SUMPRODUCT(ISNUMBER(MATCH(INDIRECT(\"H\"&$A$1&\"!B2:AF2\"),moindimfe,0))*IFERROR(IF(\"19:00\"<=IFERROR(Hgauche,0),IF(durée2<0,0,durée2),\"00:00\"),0))","v":0},{"$f":"SUMPRODUCT(1*IF(durée<0,0,durée))+SUMPRODUCT(1*IFERROR(IF(\"19:00\"<=IFERROR(Hgauche,0),IF(durée2<0,0,durée2),\"00:00\"),0))-durée5","v":0},null,{"$f":"(AB19/24)+SUMPRODUCT(($B$6:$AA$6)*(B19:AA19))","v":0},{"$f":"VLOOKUP($A19,Bilan!A19:AI67,35,FALSE)","v":0},null,{"$f":"Bilan!AN19","v":{"$error":"#VALUE!"}},65,null,{"$f":"SUM(B19:R19)","v":0},null,null,null,null,null,null,null,null,null,null,null,null,null,null,null,null,null,null,null,null,null,null,null,{"$f":"Données!$A14","v":"N"},{"$f":"Données!$B14","v":0.85416666666666663}]
[{"$f":"Données!$H17","v":0},0,0,0,0,0,0,0,0,0,0,0,0,0,0,0,0,0,0,0,0,0,0,0,0,0,0,"00:00:00","00:00:00",null,{"$f":"SUMPRODUCT(ISNUMBER(MATCH(INDIRECT(\"H\"&$A$1&\"!B2:AF2\"),DimFe,0))*IFERROR(IF(\"19:00\">=IFERROR(Hgauche,0),IFERROR(hdroite-Hgauche,0),IF(durée1>0,durée1,\"00:00\")),0))+SUMPRODUCT(ISNUMBER(MATCH(INDIRECT(\"H\"&$A$1&\"!B2:AF2\"),moindimfe,0))*IFERROR(IF(\"19:00\"<=IFERROR(Hgauche,0),IF(durée4<0,0,durée4),\"00:00\"),0))","v":0},{"$f":"SUMPRODUCT(ISNUMBER(MATCH(INDIRECT(\"H\"&$A$1&\"!B2:AF2\"),DimFe,0))*IFERROR(IF(\"19:00\"<=IFERROR(Hgauche,0),IF(durée6<0,0,durée6),IF(durée<0,0,durée)),0))+SUMPRODUCT(ISNUMBER(MATCH(INDIRECT(\"H\"&$A$1&\"!B2:AF2\"),moindimfe,0))*IFERROR(IF(\"19:00\"<=IFERROR(Hgauche,0),IF(durée2<0,0,durée2),\"00:00\"),0))","v":0},{"$f":"SUMPRODUCT(1*IF(durée<0,0,durée))+SUMPRODUCT(1*IFERROR(IF(\"19:00\"<=IFERROR(Hgauche,0),IF(durée2<0,0,durée2),\"00:00\"),0))-durée5","v":0},null,0,{"$f":"VLOOKUP($A20,Bilan!A20:AI68,35,FALSE)","v":0},null,{"$f":"Bilan!AN20","v":{"$error":"#VALUE!"}},65,null,0,null,null,null,null,null,null,null,null,null,null,null,null,null,null,null,null,null,null,null,null,null,null,null,{"$f":"Données!$A15","v":"N+"},{"$f":"Données!$B15","v":0.80208333333333337}]
[{"$f":"Données!$H18","v":0},0,0,0,0,0,0,0,0,0,0,0,0,0,0,0,0,0,0,0,0,0,0,0,0,0,0,"00:00:00","00:00:00",null,{"$f":"SUMPRODUCT(ISNUMBER(MATCH(INDIRECT(\"H\"&$A$1&\"!B2:AF2\"),DimFe,0))*IFERROR(IF(\"19:00\">=IFERROR(Hgauche,0),IFERROR(hdroite-Hgauche,0),IF(durée1>0,durée1,\"00:00\")),0))+SUMPRODUCT(ISNUMBER(MATCH(INDIRECT(\"H\"&$A$1&\"!B2:AF2\"),moindimfe,0))*IFERROR(IF(\"19:00\"<=IFERROR(Hgauche,0),IF(durée4<0,0,durée4),\"00:00\"),0))","v":0},{"$f":"SUMPRODUCT(ISNUMBER(MATCH(INDIRECT(\"H\"&$A$1&\"!B2:AF2\"),DimFe,0))*IFERROR(IF(\"19:00\"<=IFERROR(Hgauche,0),IF(durée6<0,0,durée6),IF(durée<0,0,durée)),0))+SUMPRODUCT(ISNUMBER(MATCH(INDIRECT(\"H\"&$A$1&\"!B2:AF2\"),moindimfe,0))*IFERROR(IF(\"19:00\"<=IFERROR(Hgauche,0),IF(durée2<0,0,durée2),\"00:00\"),0))","v":0},{"$f":"SUMPRODUCT(1*IF(durée<0,0,durée))+SUMPRODUCT(1*IFERROR(IF(\"19:00\"<=IFERROR(Hgauche,0),IF(durée2<0,0,durée2),\"00:00\"),0))-durée5","v":0},null,0,{"$f":"VLOOKUP($A21,Bilan!A21:AI69,35,FALSE)","v":0},null,{"$f":"Bilan!AN21","v":{"$error":"#VALUE!"}},65,null,0,null,null,null,null,null,null,null,null,null,null,null,null,null,null,null,null,null,null,null,null,null,null,null,{"$f":"Données!$A16","v":"NS"},{"$f":"Données!$B16","v":0.80208333333333337}]
[{"$f":"Données!$H19","v":0},0,0,0,0,0,0,0,0,0,0,0,0,0,0,0,0,0,0,0,0,0,0,0,0,0,0,"00:00:00","00:00:00",null,{"$f":"SUMPRODUCT(ISNUMBER(MATCH(INDIRECT(\"H\"&$A$1&\"!B2:AF2\"),DimFe,0))*IFERROR(IF(\"19:00\">=IFERROR(Hgauche,0),IFERROR(hdroite-Hgauche,0),IF(durée1>0,durée1,\"00:00\")),0))+SUMPRODUCT(ISNUMBER(MATCH(INDIRECT(\"H\"&$A$1&\"!B2:AF2\"),moindimfe,0))*IFERROR(IF(\"19:00\"<=IFERROR(Hgauche,0),IF(durée4<0,0,durée4),\"00:00\"),0))","v":0},{"$f":"SUMPRODUCT(ISNUMBER(MATCH(INDIRECT(\"H\"&$A$1&\"!B2:AF2\"),DimFe,0))*IFERROR(IF(\"19:00\"<=IFERROR(Hgauche,0),IF(durée6<0,0,durée6),IF(durée<0,0,durée)),0))+SUMPRODUCT(ISNUMBER(MATCH(INDIRECT(\"H\"&$A$1&\"!B2:AF2\"),moindimfe,0))*IFERROR(IF(\"19:00\"<=IFERROR(Hgauche,0),IF(durée2<0,0,durée2),\"00:00\"),0))","v":0},{"$f":"SUMPRODUCT(1*IF(durée<0,0,durée))+SUMPRODUCT(1*IFERROR(IF(\"19:00\"<=IFERROR(Hgauche,0),IF(durée2<0,0,durée2),\"00:00\"),0))-durée5","v":0},null,0,{"$f":"VLOOKUP($A22,Bilan!A22:AI70,35,FALSE)","v":0},null,{"$f":"Bilan!AN22","v":{"$error":"#VALUE!"}},65,null,0,null,null,null,null,null,null,null,null,null,null,null,null,null,null,null,null,null,null,null,null,null,null,null,{"$f":"Données!$A17","v":"T"},{"$f":"Données!$B17","v":"T"}]
[{"$f":"Données!$H20","v":0},0,0,0,0,0,0,0,0,0,0,0,0,0,0,0,0,0,0,0,0,0,0,0,0,0,0,"00:00:00","00:00:00",null,{"$f":"SUMPRODUCT(ISNUMBER(MATCH(INDIRECT(\"H\"&$A$1&\"!B2:AF2\"),DimFe,0))*IFERROR(IF(\"19:00\">=IFERROR(Hgauche,0),IFERROR(hdroite-Hgauche,0),IF(durée1>0,durée1,\"00:00\")),0))+SUMPRODUCT(ISNUMBER(MATCH(INDIRECT(\"H\"&$A$1&\"!B2:AF2\"),moindimfe,0))*IFERROR(IF(\"19:00\"<=IFERROR(Hgauche,0),IF(durée4<0,0,durée4),\"00:00\"),0))","v":0},{"$f":"SUMPRODUCT(ISNUMBER(MATCH(INDIRECT(\"H\"&$A$1&\"!B2:AF2\"),DimFe,0))*IFERROR(IF(\"19:00\"<=IFERROR(Hgauche,0),IF(durée6<0,0,durée6),IF(durée<0,0,durée)),0))+SUMPRODUCT(ISNUMBER(MATCH(INDIRECT(\"H\"&$A$1&\"!B2:AF2\"),moindimfe,0))*IFERROR(IF(\"19:00\"<=IFERROR(Hgauche,0),IF(durée2<0,0,durée2),\"00:00\"),0))","v":0},{"$f":"SUMPRODUCT(1*IF(durée<0,0,durée))+SUMPRODUCT(1*IFERROR(IF(\"19:00\"<=IFERROR(Hgauche,0),IF(durée2<0,0,durée2),\"00:00\"),0))-durée5","v":0},null,0,{"$f":"VLOOKUP($A23,Bilan!A23:AI71,35,FALSE)","v":0},null,{"$f":"Bilan!AN23","v":{"$error":"#VALUE!"}},65,null,0,null,null,null,null,null,null,null,null,null,null,null,null,null,null,null,null,null,null,null,null,null,null,null,{"$f":"Données!$A18","v":"F"},{"$f":"Données!$B18","v":"F"}]
[{"$f":"Données!$H21","v":0},0,0,0,0,0,0,0,0,0,0,0,0,0,0,0,0,0,0,0,0,0,0,0,0,0,0,"00:00:00","00:00:00",null,{"$f":"SUMPRODUCT(ISNUMBER(MATCH(INDIRECT(\"H\"&$A$1&\"!B2:AF2\"),DimFe,0))*IFERROR(IF(\"19:00\">=IFERROR(Hgauche,0),IFERROR(hdroite-Hgauche,0),IF(durée1>0,durée1,\"00:00\")),0))+SUMPRODUCT(ISNUMBER(MATCH(INDIRECT(\"H\"&$A$1&\"!B2:AF2\"),moindimfe,0))*IFERROR(IF(\"19:00\"<=IFERROR(Hgauche,0),IF(durée4<0,0,durée4),\"00:00\"),0))","v":0},{"$f":"SUMPRODUCT(ISNUMBER(MATCH(INDIRECT(\"H\"&$A$1&\"!B2:AF2\"),DimFe,0))*IFERROR(IF(\"19:00\"<=IFERROR(Hgauche,0),IF(durée6<0,0,durée6),IF(durée<0,0,durée)),0))+SUMPRODUCT(ISNUMBER(MATCH(INDIRECT(\"H\"&$A$1&\"!B2:AF2\"),moindimfe,0))*IFERROR(IF(\"19:00\"<=IFERROR(Hgauche,0),IF(durée2<0,0,durée2),\"00:00\"),0))","v":0},{"$f":"SUMPRODUCT(1*IF(durée<0,0,durée))+SUMPRODUCT(1*IFERROR(IF(\"19:00\"<=IFERROR(Hgauche,0),IF(durée2<0,0,durée2),\"00:00\"),0))-durée5","v":0},null,0,{"$f":"VLOOKUP($A24,Bilan!A24:AI72,35,FALSE)","v":0},null,{"$f":"Bilan!AN24","v":{"$error":"#VALUE!"}},65,null,0,null,null,null,null,null,null,null,null,null,null,null,null,null,null,null,null,null,null,null,null,null,null,null,{"$f":"Données!$A19","v":"SYN"},{"$f":"Données!$B19","v":"Syn"}]
[{"$f":"Données!$H22","v":"Equipe de nuit"}]
[{"$f":"Données!$H23","v":"K"},{"$f":"IF(SUMPRODUCT((INDIRECT(\"'\"&$A$1&\"'!$A$7:$A$56\")=$A26)*(INDIRECT(\"'\"&$A$1&\"'!$B$7:$AF$56\")=B$7))=0,\"\",SUMPRODUCT((INDIRECT(\"'\"&$A$1&\"'!$A$7:$A$56\")=$A26)*(INDIRECT(\"'\"&$A$1&\"'!$B$7:$AF$56\")=B$7)))","v":""},"","","","","","","","","","","","","","","",{"$f":"IF(SUMPRODUCT((INDIRECT(\"'\"&$A$1&\"'!$A$7:$A$56\")=$A26)*(INDIRECT(\"'\"&$A$1&\"'!$B$7:$AF$56\")=R$7))=0,\"\",SUMPRODUCT((INDIRECT(\"'\"&$A$1&\"'!$A$7:$A$56\")=$A26)*(INDIRECT(\"'\"&$A$1&\"'!$B$7:$AF$56\")=R$7)))","v":""},"","","","","","","","","",{"$f":"VLOOKUP($A26,INDIRECT(\"'\"&$A$1&\"'!$A$7:$AR$56\"),35,0)","v":"00:00:00"},{"$f":"VLOOKUP($A26,INDIRECT(\"'\"&$A$1&\"'!$A$7:$AR$56\"),36,0)","v":"00:00:00"},null,{"$f":"SUMPRODUCT(ISNUMBER(MATCH(INDIRECT(\"H\"&$A$1&\"!B2:AF2\"),DimFe,0))*IFERROR(IF(\"19:00\">=IFERROR(Hgauche,0),IFERROR(hdroite-Hgauche,0),IF(durée1>0,durée1,\"00:00\")),0))+SUMPRODUCT(ISNUMBER(MATCH(INDIRECT(\"H\"&$A$1&\"!B2:AF2\"),moindimfe,0))*IFERROR(IF(\"19:00\"<=IFERROR(Hgauche,0),IF(durée4<0,0,durée4),\"00:00\"),0))","v":0},{"$f":"SUMPRODUCT(ISNUMBER(MATCH(INDIRECT(\"H\"&$A$1&\"!B2:AF2\"),DimFe,0))*IFERROR(IF(\"19:00\"<=IFERROR(Hgauche,0),IF(durée6<0,0,durée6),IF(durée<0,0,durée)),0))+SUMPRODUCT(ISNUMBER(MATCH(INDIRECT(\"H\"&$A$1&\"!B2:AF2\"),moindimfe,0))*IFERROR(IF(\"19:00\"<=IFERROR(Hgauche,0),IF(durée2<0,0,durée2),\"00:00\"),0))","v":0},{"$f":"SUM(SUMPRODUCT(1*IFERROR(IF(\"19:00\"<=IFERROR(Hgauche,0),IF(durée2<0,0,durée2),\"00:00\"),0)),SUMPRODUCT(1*IFERROR(IF(\"19:00\"<=IFERROR(Hgauche,0),IF(durée6<0,0,durée6),\"00:00\"),0)),SUMPRODUCT(1*IFERROR(IF(\"21:00\"<=IFERROR(Hdroitesimple,0),IF(durée<0,0,durée),\"00:00\"),0)))-durée5","v":0},null,{"$f":"bilanh","v":0},{"$f":"VLOOKUP($A26,Bilan!$A$9:$AQ74,37,FALSE)","v":57.958333333333336},null,{"$f":"Bilan!AN26","v":65},65,null,{"$f":"Jourtravaillé","v":0}]
[{"$f":"Données!$H24","v":0},"","","","","","","","","","","","","","","","","","","","","","","","","","",{"$f":"VLOOKUP($A27,INDIRECT(\"'\"&$A$1&\"'!$A$7:$AR$56\"),35,0)","v":"00:00:00"},{"$f":"VLOOKUP($A27,INDIRECT(\"'\"&$A$1&\"'!$A$7:$AR$56\"),36,0)","v":"00:00:00"},null,{"$f":"SUMPRODUCT(ISNUMBER(MATCH(INDIRECT(\"H\"&$A$1&\"!B2:AF2\"),DimFe,0))*IFERROR(IF(\"19:00\">=IFERROR(Hgauche,0),IFERROR(hdroite-Hgauche,0),IF(durée1>0,durée1,\"00:00\")),0))+SUMPRODUCT(ISNUMBER(MATCH(INDIRECT(\"H\"&$A$1&\"!B2:AF2\"),moindimfe,0))*IFERROR(IF(\"19:00\"<=IFERROR(Hgauche,0),IF(durée4<0,0,durée4),\"00:00\"),0))","v":0},{"$f":"SUMPRODUCT(ISNUMBER(MATCH(INDIRECT(\"H\"&$A$1&\"!B2:AF2\"),DimFe,0))*IFERROR(IF(\"19:00\"<=IFERROR(Hgauche,0),IF(durée6<0,0,durée6),IF(durée<0,0,durée)),0))+SUMPRODUCT(ISNUMBER(MATCH(INDIRECT(\"H\"&$A$1&\"!B2:AF2\"),moindimfe,0))*IFERROR(IF(\"19:00\"<=IFERROR(Hgauche,0),IF(durée2<0,0,durée2),\"00:00\"),0))","v":0},{"$f":"SUM(SUMPRODUCT(1*IFERROR(IF(\"19:00\"<=IFERROR(Hgauche,0),IF(durée2<0,0,durée2),\"00:00\"),0)),SUMPRODUCT(1*IFERROR(IF(\"19:00\"<=IFERROR(Hgauche,0),IF(durée6<0,0,durée6),\"00:00\"),0)),SUMPRODUCT(1*IFERROR(IF(\"21:00\"<=IFERROR(Hdroitesimple,0),IF(durée<0,0,durée),\"00:00\"),0)))-durée5","v":0},null,{"$f":"bilanh","v":0},{"$f":"VLOOKUP($A27,Bilan!$A$9:$AQ75,37,FALSE)","v":59.5},null,{"$f":"Bilan!AN27","v":65},65,null,{"$f":"Jourtravaillé","v":0}]
[{"$f":"Données!$H25","v":0},"","","","","","","","","","","","","","","","","","","","","","","","","","",{"$f":"VLOOKUP($A28,INDIRECT(\"'\"&$A$1&\"'!$A$7:$AR$56\"),35,0)","v":"00:00:00"},{"$f":"VLOOKUP($A28,INDIRECT(\"'\"&$A$1&\"'!$A$7:$AR$56\"),36,0)","v":"00:00:00"},null,{"$f":"SUMPRODUCT(ISNUMBER(MATCH(INDIRECT(\"H\"&$A$1&\"!B2:AF2\"),DimFe,0))*IFERROR(IF(\"19:00\">=IFERROR(Hgauche,0),IFERROR(hdroite-Hgauche,0),IF(durée1>0,durée1,\"00:00\")),0))+SUMPRODUCT(ISNUMBER(MATCH(INDIRECT(\"H\"&$A$1&\"!B2:AF2\"),moindimfe,0))*IFERROR(IF(\"19:00\"<=IFERROR(Hgauche,0),IF(durée4<0,0,durée4),\"00:00\"),0))","v":0},{"$f":"SUMPRODUCT(ISNUMBER(MATCH(INDIRECT(\"H\"&$A$1&\"!B2:AF2\"),DimFe,0))*IFERROR(IF(\"19:00\"<=IFERROR(Hgauche,0),IF(durée6<0,0,durée6),IF(durée<0,0,durée)),0))+SUMPRODUCT(ISNUMBER(MATCH(INDIRECT(\"H\"&$A$1&\"!B2:AF2\"),moindimfe,0))*IFERROR(IF(\"19:00\"<=IFERROR(Hgauche,0),IF(durée2<0,0,durée2),\"00:00\"),0))","v":0},{"$f":"SUM(SUMPRODUCT(1*IFERROR(IF(\"19:00\"<=IFERROR(Hgauche,0),IF(durée2<0,0,durée2),\"00:00\"),0)),SUMPRODUCT(1*IFERROR(IF(\"19:00\"<=IFERROR(Hgauche,0),IF(durée6<0,0,durée6),\"00:00\"),0)),SUMPRODUCT(1*IFERROR(IF(\"21:00\"<=IFERROR(Hdroitesimple,0),IF(durée<0,0,durée),\"00:00\"),0)))-durée5","v":0},null,{"$f":"bilanh","v":0},{"$f":"VLOOKUP($A28,Bilan!$A$9:$AQ76,37,FALSE)","v":59.5},null,{"$f":"Bilan!AN28","v":65},65,null,{"$f":"Jourtravaillé","v":0}]
[{"$f":"Données!$H26","v":0},{"$f":"SUMPRODUCT((INDIRECT(\"'\"&$A$1&\"'!$A$7:$A$56\")=$A29)*(INDIRECT(\"'\"&$A$1&\"'!$B$7:$AF$56\")=B$7))","v":0},0,0,0,0,0,0,0,0,0,{"$f":"SUMPRODUCT((INDIRECT(\"'\"&$A$1&\"'!$A$7:$A$56\")=$A29)*(INDIRECT(\"'\"&$A$1&\"'!$B$7:$AF$56\")=L$7))","v":0},0,0,0,0,0,0,0,0,0,{"$f":"SUMPRODUCT((INDIRECT(\"'\"&$A$1&\"'!$A$7:$A$56\")=$A29)*(INDIRECT(\"'\"&$A$1&\"'!$B$7:$AF$56\")=V$7))","v":0},0,0,0,0,0,"00:00:00","00:00:00",null,{"$f":"SUMPRODUCT(ISNUMBER(MATCH(INDIRECT(\"H\"&$A$1&\"!B2:AF2\"),DimFe,0))*IFERROR(IF(\"19:00\">=IFERROR(Hgauche,0),IFERROR(hdroite-Hgauche,0),IF(durée1>0,durée1,\"00:00\")),0))+SUMPRODUCT(ISNUMBER(MATCH(INDIRECT(\"H\"&$A$1&\"!B2:AF2\"),moindimfe,0))*IFERROR(IF(\"19:00\"<=IFERROR(Hgauche,0),IF(durée4<0,0,durée4),\"00:00\"),0))","v":0},{"$f":"SUMPRODUCT(ISNUMBER(MATCH(INDIRECT(\"H\"&$A$1&\"!B2:AF2\"),DimFe,0))*IFERROR(IF(\"19:00\"<=IFERROR(Hgauche,0),IF(durée6<0,0,durée6),IF(durée<0,0,durée)),0))+SUMPRODUCT(ISNUMBER(MATCH(INDIRECT(\"H\"&$A$1&\"!B2:AF2\"),moindimfe,0))*IFERROR(IF(\"19:00\"<=IFERROR(Hgauche,0),IF(durée2<0,0,durée2),\"00:00\"),0))","v":0},{"$f":"SUMPRODUCT(1*IF(durée<0,0,durée))+SUMPRODUCT(1*IFERROR(IF(\"19:00\"<=IFERROR(Hgauche,0),IF(durée2<0,0,durée2),\"00:00\"),0))-durée5","v":0},null,{"$f":"(AB29/24)+SUMPRODUCT(($B$6:$AA$6)*(B29:AA29))","v":0},{"$f":"VLOOKUP($A29,Bilan!A29:AI77,35,FALSE)","v":0},null,{"$f":"Bilan!AN29","v":{"$error":"#VALUE!"}},65,null,0,null,null,null,null,null,null,null,null,null,null,null,null,null,null,null,null,null,null,null,null,null,null,null,{"$f":"Données!$A24","v":"CA"},{"$f":"Données!$B24","v":"CA"}]
[{"$f":"Données!$H27","v":0},0,0,0,0,0,0,0,0,0,0,0,0,0,0,0,0,0,0,0,0,0,0,0,0,0,0,"00:00:00","00:00:00",null,{"$f":"SUMPRODUCT(ISNUMBER(MATCH(INDIRECT(\"H\"&$A$1&\"!B2:AF2\"),DimFe,0))*IFERROR(IF(\"19:00\">=IFERROR(Hgauche,0),IFERROR(hdroite-Hgauche,0),IF(durée1>0,durée1,\"00:00\")),0))+SUMPRODUCT(ISNUMBER(MATCH(INDIRECT(\"H\"&$A$1&\"!B2:AF2\"),moindimfe,0))*IFERROR(IF(\"19:00\"<=IFERROR(Hgauche,0),IF(durée4<0,0,durée4),\"00:00\"),0))","v":0},{"$f":"SUMPRODUCT(ISNUMBER(MATCH(INDIRECT(\"H\"&$A$1&\"!B2:AF2\"),DimFe,0))*IFERROR(IF(\"19:00\"<=IFERROR(Hgauche,0),IF(durée6<0,0,durée6),IF(durée<0,0,durée)),0))+SUMPRODUCT(ISNUMBER(MATCH(INDIRECT(\"H\"&$A$1&\"!B2:AF2\"),moindimfe,0))*IFERROR(IF(\"19:00\"<=IFERROR(Hgauche,0),IF(durée2<0,0,durée2),\"00:00\"),0))","v":0},{"$f":"SUMPRODUCT(1*IF(durée<0,0,durée))+SUMPRODUCT(1*IFERROR(IF(\"19:00\"<=IFERROR(Hgauche,0),IF(durée2<0,0,durée2),\"00:00\"),0))-durée5","v":0},null,0,{"$f":"VLOOKUP($A30,Bilan!A30:AI78,35,FALSE)","v":0},null,{"$f":"Bilan!AN30","v":{"$error":"#VALUE!"}},65,null,0,null,null,null,null,null,null,null,null,null,null,null,null,null,null,null,null,null,null,null,null,null,null,null,{"$f":"Données!$A25","v":"CA16"},{"$f":"Données!$B25","v":"CA16"}]
[{"$f":"Données!$H28","v":0},0,0,0,0,0,0,0,0,0,0,0,0,0,0,0,0,0,0,0,0,0,0,0,0,0,0,"00:00:00","00:00:00",null,{"$f":"SUMPRODUCT(ISNUMBER(MATCH(INDIRECT(\"H\"&$A$1&\"!B2:AF2\"),DimFe,0))*IFERROR(IF(\"19:00\">=IFERROR(Hgauche,0),IFERROR(hdroite-Hgauche,0),IF(durée1>0,durée1,\"00:00\")),0))+SUMPRODUCT(ISNUMBER(MATCH(INDIRECT(\"H\"&$A$1&\"!B2:AF2\"),moindimfe,0))*IFERROR(IF(\"19:00\"<=IFERROR(Hgauche,0),IF(durée4<0,0,durée4),\"00:00\"),0))","v":0},{"$f":"SUMPRODUCT(ISNUMBER(MATCH(INDIRECT(\"H\"&$A$1&\"!B2:AF2\"),DimFe,0))*IFERROR(IF(\"19:00\"<=IFERROR(Hgauche,0),IF(durée6<0,0,durée6),IF(durée<0,0,durée)),0))+SUMPRODUCT(ISNUMBER(MATCH(INDIRECT(\"H\"&$A$1&\"!B2:AF2\"),moindimfe,0))*IFERROR(IF(\"19:00\"<=IFERROR(Hgauche,0),IF(durée2<0,0,durée2),\"00:00\"),0))","v":0},{"$f":"SUMPRODUCT(1*IF(durée<0,0,durée))+SUMPRODUCT(1*IFERROR(IF(\"19:00\"<=IFERROR(Hgauche,0),IF(durée2<0,0,durée2),\"00:00\"),0))-durée5","v":0},null,0,{"$f":"VLOOKUP($A31,Bilan!A31:AI79,35,FALSE)","v":0},null,{"$f":"Bilan!AN31","v":{"$error":"#VALUE!"}},65,null,0,null,null,null,null,null,null,null,null,null,null,null,null,null,null,null,null,null,null,null,null,null,null,null,{"$f":"Données!$A26","v":"REC"},{"$f":"Données!$B26","v":"REC"}]
[{"$f":"Données!$H29","v":0},0,0,0,0,0,0,0,0,0,0,0,0,0,0,0,0,0,0,0,0,0,0,0,0,0,0,"00:00:00","00:00:00",null,{"$f":"SUMPRODUCT(ISNUMBER(MATCH(INDIRECT(\"H\"&$A$1&\"!B2:AF2\"),DimFe,0))*IFERROR(IF(\"19:00\">=IFERROR(Hgauche,0),IFERROR(hdroite-Hgauche,0),IF(durée1>0,durée1,\"00:00\")),0))+SUMPRODUCT(ISNUMBER(MATCH(INDIRECT(\"H\"&$A$1&\"!B2:AF2\"),moindimfe,0))*IFERROR(IF(\"19:00\"<=IFERROR(Hgauche,0),IF(durée4<0,0,durée4),\"00:00\"),0))","v":0},{"$f":"SUMPRODUCT(ISNUMBER(MATCH(INDIRECT(\"H\"&$A$1&\"!B2:AF2\"),DimFe,0))*IFERROR(IF(\"19:00\"<=IFERROR(Hgauche,0),IF(durée6<0,0,durée6),IF(durée<0,0,durée)),0))+SUMPRODUCT(ISNUMBER(MATCH(INDIRECT(\"H\"&$A$1&\"!B2:AF2\"),moindimfe,0))*IFERROR(IF(\"19:00\"<=IFERROR(Hgauche,0),IF(durée2<0,0,durée2),\"00:00\"),0))","v":0},{"$f":"SUMPRODUCT(1*IF(durée<0,0,durée))+SUMPRODUCT(1*IFERROR(IF(\"19:00\"<=IFERROR(Hgauche,0),IF(durée2<0,0,durée2),\"00:00\"),0))-durée5","v":0},null,0,{"$f":"VLOOKUP($A32,Bilan!A32:AI80,35,FALSE)","v":0},null,{"$f":"Bilan!AN32","v":{"$error":"#VALUE!"}},65,null,0,null,null,null,null,null,null,null,null,null,null,null,null,null,null,null,null,null,null,null,null,null,null,null,{"$f":"Données!$A27","v":"PL"},{"$f":"Données!$B27","v":"PL"}]
[{"$f":"Données!$H30","v":0},0,0,0,0,0,0,0,0,0,0,0,0,0,0,0,0,0,0,0,0,0,0,0,0,0,0,"00:00:00","00:00:00",null,{"$f":"SUMPRODUCT(ISNUMBER(MATCH(INDIRECT(\"H\"&$A$1&\"!B2:AF2\"),DimFe,0))*IFERROR(IF(\"19:00\">=IFERROR(Hgauche,0),IFERROR(hdroite-Hgauche,0),IF(durée1>0,durée1,\"00:00\")),0))+SUMPRODUCT(ISNUMBER(MATCH(INDIRECT(\"H\"&$A$1&\"!B2:AF2\"),moindimfe,0))*IFERROR(IF(\"19:00\"<=IFERROR(Hgauche,0),IF(durée4<0,0,durée4),\"00:00\"),0))","v":0},{"$f":"SUMPRODUCT(ISNUMBER(MATCH(INDIRECT(\"H\"&$A$1&\"!B2:AF2\"),DimFe,0))*IFERROR(IF(\"19:00\"<=IFERROR(Hgauche,0),IF(durée6<0,0,durée6),IF(durée<0,0,durée)),0))+SUMPRODUCT(ISNUMBER(MATCH(INDIRECT(\"H\"&$A$1&\"!B2:AF2\"),moindimfe,0))*IFERROR(IF(\"19:00\"<=IFERROR(Hgauche,0),IF(durée2<0,0,durée2),\"00:00\"),0))","v":0},{"$f":"SUMPRODUCT(1*IF(durée<0,0,durée))+SUMPRODUCT(1*IFERROR(IF(\"19:00\"<=IFERROR(Hgauche,0),IF(durée2<0,0,durée2),\"00:00\"),0))-durée5","v":0},null,0,{"$f":"VLOOKUP($A33,Bilan!A33:AI81,35,FALSE)","v":0},null,{"$f":"Bilan!AN33","v":{"$error":"#VALUE!"}},65,null,0,null,null,null,null,null,null,null,null,null,null,null,null,null,null,null,null,null,null,null,null,null,null,null,{"$f":"Données!$A28","v":"D"},{"$f":"Données!$B28","v":"D"}]
[{"$f":"Données!$H31","v":0},0,0,0,0,0,0,0,0,0,0,0,0,0,0,0,0,0,0,0,0,0,0,0,0,0,0,"00:00:00","00:00:00",null,{"$f":"SUMPRODUCT(ISNUMBER(MATCH(INDIRECT(\"H\"&$A$1&\"!B2:AF2\"),DimFe,0))*IFERROR(IF(\"19:00\">=IFERROR(Hgauche,0),IFERROR(hdroite-Hgauche,0),IF(durée1>0,durée1,\"00:00\")),0))+SUMPRODUCT(ISNUMBER(MATCH(INDIRECT(\"H\"&$A$1&\"!B2:AF2\"),moindimfe,0))*IFERROR(IF(\"19:00\"<=IFERROR(Hgauche,0),IF(durée4<0,0,durée4),\"00:00\"),0))","v":0},{"$f":"SUMPRODUCT(ISNUMBER(MATCH(INDIRECT(\"H\"&$A$1&\"!B2:AF2\"),DimFe,0))*IFERROR(IF(\"19:00\"<=IFERROR(Hgauche,0),IF(durée6<0,0,durée6),IF(durée<0,0,durée)),0))+SUMPRODUCT(ISNUMBER(MATCH(INDIRECT(\"H\"&$A$1&\"!B2:AF2\"),moindimfe,0))*IFERROR(IF(\"19:00\"<=IFERROR(Hgauche,0),IF(durée2<0,0,durée2),\"00:00\"),0))","v":0},{"$f":"SUMPRODUCT(1*IF(durée<0,0,durée))+SUMPRODUCT(1*IFERROR(IF(\"19:00\"<=IFERROR(Hgauche,0),IF(durée2<0,0,durée2),\"00:00\"),0))-durée5","v":0},null,0,{"$f":"VLOOKUP($A34,Bilan!A34:AI82,35,FALSE)","v":0},null,{"$f":"Bilan!AN34","v":{"$error":"#VALUE!"}},65,null,0]
[{"$f":"Données!$H32","v":"Maitresse de maison"}]
[{"$f":"Données!$H33","v":"N"},{"$f":"IF(SUMPRODUCT((INDIRECT(\"'\"&$A$1&\"'!$A$7:$A$56\")=$A36)*(INDIRECT(\"'\"&$A$1&\"'!$B$7:$AF$56\")=B$7))=0,\"\",SUMPRODUCT((INDIRECT(\"'\"&$A$1&\"'!$A$7:$A$56\")=$A36)*(INDIRECT(\"'\"&$A$1&\"'!$B$7:$AF$56\")=B$7)))","v":""},"","","","","","","","","","","","","","","",{"$f":"IF(SUMPRODUCT((INDIRECT(\"'\"&$A$1&\"'!$A$7:$A$56\")=$A36)*(INDIRECT(\"'\"&$A$1&\"'!$B$7:$AF$56\")=R$7))=0,\"\",SUMPRODUCT((INDIRECT(\"'\"&$A$1&\"'!$A$7:$A$56\")=$A36)*(INDIRECT(\"'\"&$A$1&\"'!$B$7:$AF$56\")=R$7)))","v":""},"","","","","","","","","",{"$f":"VLOOKUP($A36,INDIRECT(\"'\"&$A$1&\"'!$A$7:$AR$56\"),35,0)","v":"00:00:00"},{"$f":"VLOOKUP($A36,INDIRECT(\"'\"&$A$1&\"'!$A$7:$AR$56\"),36,0)","v":"00:00:00"},null,{"$f":"SUMPRODUCT(ISNUMBER(MATCH(INDIRECT(\"H\"&$A$1&\"!B2:AF2\"),DimFe,0))*IFERROR(IF(\"19:00\">=IFERROR(Hgauche,0),IFERROR(hdroite-Hgauche,0),IF(durée1>0,durée1,\"00:00\")),0))+SUMPRODUCT(ISNUMBER(MATCH(INDIRECT(\"H\"&$A$1&\"!B2:AF2\"),moindimfe,0))*IFERROR(IF(\"19:00\"<=IFERROR(Hgauche,0),IF(durée4<0,0,durée4),\"00:00\"),0))","v":0},{"$f":"SUMPRODUCT(ISNUMBER(MATCH(INDIRECT(\"H\"&$A$1&\"!B2:AF2\"),DimFe,0))*IFERROR(IF(\"19:00\"<=IFERROR(Hgauche,0),IF(durée6<0,0,durée6),IF(durée<0,0,durée)),0))+SUMPRODUCT(ISNUMBER(MATCH(INDIRECT(\"H\"&$A$1&\"!B2:AF2\"),moindimfe,0))*IFERROR(IF(\"19:00\"<=IFERROR(Hgauche,0),IF(durée2<0,0,durée2),\"00:00\"),0))","v":0},{"$f":"SUM(SUMPRODUCT(1*IFERROR(IF(\"19:00\"<=IFERROR(Hgauche,0),IF(durée2<0,0,durée2),\"00:00\"),0)),SUMPRODUCT(1*IFERROR(IF(\"19:00\"<=IFERROR(Hgauche,0),IF(durée6<0,0,durée6),\"00:00\"),0)),SUMPRODUCT(1*IFERROR(IF(\"21:00\"<=IFERROR(Hdroitesimple,0),IF(durée<0,0,durée),\"00:00\"),0)))-durée5","v":0},null,{"$f":"bilanh","v":0},{"$f":"VLOOKUP($A36,Bilan!$A$9:$AQ84,37,FALSE)","v":63},null,{"$f":"Bilan!AN36","v":65},65,null,{"$f":"Jourtravaillé","v":0}]
[{"$f":"Données!$H34","v":0},{"$f":"SUMPRODUCT((INDIRECT(\"'\"&$A$1&\"'!$A$7:$A$56\")=$A37)*(INDIRECT(\"'\"&$A$1&\"'!$B$7:$AF$56\")=B$7))","v":0},0,0,0,0,0,0,0,0,0,{"$f":"SUMPRODUCT((INDIRECT(\"'\"&$A$1&\"'!$A$7:$A$56\")=$A37)*(INDIRECT(\"'\"&$A$1&\"'!$B$7:$AF$56\")=L$7))","v":0},0,0,0,0,0,0,0,0,0,{"$f":"SUMPRODUCT((INDIRECT(\"'\"&$A$1&\"'!$A$7:$A$56\")=$A37)*(INDIRECT(\"'\"&$A$1&\"'!$B$7:$AF$56\")=V$7))","v":0},0,0,0,0,0,"00:00:00","00:00:00",null,{"$f":"SUMPRODUCT(ISNUMBER(MATCH(INDIRECT(\"H\"&$A$1&\"!B2:AF2\"),DimFe,0))*IFERROR(IF(\"19:00\">=IFERROR(Hgauche,0),IFERROR(hdroite-Hgauche,0),IF(durée1>0,durée1,\"00:00\")),0))+SUMPRODUCT(ISNUMBER(MATCH(INDIRECT(\"H\"&$A$1&\"!B2:AF2\"),moindimfe,0))*IFERROR(IF(\"19:00\"<=IFERROR(Hgauche,0),IF(durée4<0,0,durée4),\"00:00\"),0))","v":0},{"$f":"SUMPRODUCT(ISNUMBER(MATCH(INDIRECT(\"H\"&$A$1&\"!B2:AF2\"),DimFe,0))*IFERROR(IF(\"19:00\"<=IFERROR(Hgauche,0),IF(durée6<0,0,durée6),IF(durée<0,0,durée)),0))+SUMPRODUCT(ISNUMBER(MATCH(INDIRECT(\"H\"&$A$1&\"!B2:AF2\"),moindimfe,0))*IFERROR(IF(\"19:00\"<=IFERROR(Hgauche,0),IF(durée2<0,0,durée2),\"00:00\"),0))","v":0},{"$f":"SUMPRODUCT(1*IF(durée<0,0,durée))+SUMPRODUCT(1*IFERROR(IF(\"19:00\"<=IFERROR(Hgauche,0),IF(durée2<0,0,durée2),\"00:00\"),0))-durée5","v":0},null,{"$f":"(AB37/24)+SUMPRODUCT(($B$6:$AA$6)*(B37:AA37))","v":0},{"$f":"VLOOKUP($A37,Bilan!A37:AI85,35,FALSE)","v":0},null,{"$f":"Bilan!AN37","v":65},65,null,0]
[{"$f":"Données!$H35","v":0},0,0,0,0,0,0,0,0,0,0,0,0,0,0,0,0,0,0,0,0,0,0,0,0,0,0,"00:00:00","00:00:00",null,{"$f":"SUMPRODUCT(ISNUMBER(MATCH(INDIRECT(\"H\"&$A$1&\"!B2:AF2\"),DimFe,0))*IFERROR(IF(\"19:00\">=IFERROR(Hgauche,0),IFERROR(hdroite-Hgauche,0),IF(durée1>0,durée1,\"00:00\")),0))+SUMPRODUCT(ISNUMBER(MATCH(INDIRECT(\"H\"&$A$1&\"!B2:AF2\"),moindimfe,0))*IFERROR(IF(\"19:00\"<=IFERROR(Hgauche,0),IF(durée4<0,0,durée4),\"00:00\"),0))","v":0},{"$f":"SUMPRODUCT(ISNUMBER(MATCH(INDIRECT(\"H\"&$A$1&\"!B2:AF2\"),DimFe,0))*IFERROR(IF(\"19:00\"<=IFERROR(Hgauche,0),IF(durée6<0,0,durée6),IF(durée<0,0,durée)),0))+SUMPRODUCT(ISNUMBER(MATCH(INDIRECT(\"H\"&$A$1&\"!B2:AF2\"),moindimfe,0))*IFERROR(IF(\"19:00\"<=IFERROR(Hgauche,0),IF(durée2<0,0,durée2),\"00:00\"),0))","v":0},{"$f":"SUMPRODUCT(1*IF(durée<0,0,durée))+SUMPRODUCT(1*IFERROR(IF(\"19:00\"<=IFERROR(Hgauche,0),IF(durée2<0,0,durée2),\"00:00\"),0))-durée5","v":0},null,0,{"$f":"VLOOKUP($A38,Bilan!A38:AI86,35,FALSE)","v":0},null,{"$f":"Bilan!AN38","v":{"$error":"#VALUE!"}},65,null,0]
[{"$f":"Données!$H36","v":0},0,0,0,0,0,0,0,0,0,0,0,0,0,0,0,0,0,0,0,0,0,0,0,0,0,0,"00:00:00","00:00:00",null,{"$f":"SUMPRODUCT(ISNUMBER(MATCH(INDIRECT(\"H\"&$A$1&\"!B2:AF2\"),DimFe,0))*IFERROR(IF(\"19:00\">=IFERROR(Hgauche,0),IFERROR(hdroite-Hgauche,0),IF(durée1>0,durée1,\"00:00\")),0))+SUMPRODUCT(ISNUMBER(MATCH(INDIRECT(\"H\"&$A$1&\"!B2:AF2\"),moindimfe,0))*IFERROR(IF(\"19:00\"<=IFERROR(Hgauche,0),IF(durée4<0,0,durée4),\"00:00\"),0))","v":0},{"$f":"SUMPRODUCT(ISNUMBER(MATCH(INDIRECT(\"H\"&$A$1&\"!B2:AF2\"),DimFe,0))*IFERROR(IF(\"19:00\"<=IFERROR(Hgauche,0),IF(durée6<0,0,durée6),IF(durée<0,0,durée)),0))+SUMPRODUCT(ISNUMBER(MATCH(INDIRECT(\"H\"&$A$1&\"!B2:AF2\"),moindimfe,0))*IFERROR(IF(\"19:00\"<=IFERROR(Hgauche,0),IF(durée2<0,0,durée2),\"00:00\"),0))","v":0},{"$f":"SUMPRODUCT(1*IF(durée<0,0,durée))+SUMPRODUCT(1*IFERROR(IF(\"19:00\"<=IFERROR(Hgauche,0),IF(durée2<0,0,durée2),\"00:00\"),0))-durée5","v":0},null,0,{"$f":"VLOOKUP($A39,Bilan!A39:AI87,35,FALSE)","v":0},null,{"$f":"Bilan!AN39","v":{"$error":"#VALUE!"}},65,null,0]
[{"$f":"Données!$H37","v":0},0,0,0,0,0,0,0,0,0,0,0,0,0,0,0,0,0,0,0,0,0,0,0,0,0,0,"00:00:00","00:00:00",null,{"$f":"SUMPRODUCT(ISNUMBER(MATCH(INDIRECT(\"H\"&$A$1&\"!B2:AF2\"),DimFe,0))*IFERROR(IF(\"19:00\">=IFERROR(Hgauche,0),IFERROR(hdroite-Hgauche,0),IF(durée1>0,durée1,\"00:00\")),0))+SUMPRODUCT(ISNUMBER(MATCH(INDIRECT(\"H\"&$A$1&\"!B2:AF2\"),moindimfe,0))*IFERROR(IF(\"19:00\"<=IFERROR(Hgauche,0),IF(durée4<0,0,durée4),\"00:00\"),0))","v":0},{"$f":"SUMPRODUCT(ISNUMBER(MATCH(INDIRECT(\"H\"&$A$1&\"!B2:AF2\"),DimFe,0))*IFERROR(IF(\"19:00\"<=IFERROR(Hgauche,0),IF(durée6<0,0,durée6),IF(durée<0,0,durée)),0))+SUMPRODUCT(ISNUMBER(MATCH(INDIRECT(\"H\"&$A$1&\"!B2:AF2\"),moindimfe,0))*IFERROR(IF(\"19:00\"<=IFERROR(Hgauche,0),IF(durée2<0,0,durée2),\"00:00\"),0))","v":0},{"$f":"SUMPRODUCT(1*IF(durée<0,0,durée))+SUMPRODUCT(1*IFERROR(IF(\"19:00\"<=IFERROR(Hgauche,0),IF(durée2<0,0,durée2),\"00:00\"),0))-durée5","v":0},null,0,{"$f":"VLOOKUP($A40,Bilan!A40:AI88,35,FALSE)","v":0},null,{"$f":"Bilan!AN40","v":{"$error":"#VALUE!"}},65,null,0]
[{"$f":"Données!$H38","v":0},0,0,0,0,0,0,0,0,0,0,0,0,0,0,0,0,0,0,0,0,0,0,0,0,0,0,"00:00:00","00:00:00",null,{"$f":"SUMPRODUCT(ISNUMBER(MATCH(INDIRECT(\"H\"&$A$1&\"!B2:AF2\"),DimFe,0))*IFERROR(IF(\"19:00\">=IFERROR(Hgauche,0),IFERROR(hdroite-Hgauche,0),IF(durée1>0,durée1,\"00:00\")),0))+SUMPRODUCT(ISNUMBER(MATCH(INDIRECT(\"H\"&$A$1&\"!B2:AF2\"),moindimfe,0))*IFERROR(IF(\"19:00\"<=IFERROR(Hgauche,0),IF(durée4<0,0,durée4),\"00:00\"),0))","v":0},{"$f":"SUMPRODUCT(ISNUMBER(MATCH(INDIRECT(\"H\"&$A$1&\"!B2:AF2\"),DimFe,0))*IFERROR(IF(\"19:00\"<=IFERROR(Hgauche,0),IF(durée6<0,0,durée6),IF(durée<0,0,durée)),0))+SUMPRODUCT(ISNUMBER(MATCH(INDIRECT(\"H\"&$A$1&\"!B2:AF2\"),moindimfe,0))*IFERROR(IF(\"19:00\"<=IFERROR(Hgauche,0),IF(durée2<0,0,durée2),\"00:00\"),0))","v":0},{"$f":"SUMPRODUCT(1*IF(durée<0,0,durée))+SUMPRODUCT(1*IFERROR(IF(\"19:00\"<=IFERROR(Hgauche,0),IF(durée2<0,0,durée2),\"00:00\"),0))-durée5","v":0},null,0,{"$f":"VLOOKUP($A41,Bilan!A41:AI89,35,FALSE)","v":0},null,{"$f":"Bilan!AN41","v":{"$error":"#VALUE!"}},65,null,0]
[{"$f":"Données!$H39","v":0},0,0,0,0,0,0,0,0,0,0,0,0,0,0,0,0,0,0,0,0,0,0,0,0,0,0,"00:00:00","00:00:00",null,{"$f":"SUMPRODUCT(ISNUMBER(MATCH(INDIRECT(\"H\"&$A$1&\"!B2:AF2\"),DimFe,0))*IFERROR(IF(\"19:00\">=IFERROR(Hgauche,0),IFERROR(hdroite-Hgauche,0),IF(durée1>0,durée1,\"00:00\")),0))+SUMPRODUCT(ISNUMBER(MATCH(INDIRECT(\"H\"&$A$1&\"!B2:AF2\"),moindimfe,0))*IFERROR(IF(\"19:00\"<=IFERROR(Hgauche,0),IF(durée4<0,0,durée4),\"00:00\"),0))","v":0},{"$f":"SUMPRODUCT(ISNUMBER(MATCH(INDIRECT(\"H\"&$A$1&\"!B2:AF2\"),DimFe,0))*IFERROR(IF(\"19:00\"<=IFERROR(Hgauche,0),IF(durée6<0,0,durée6),IF(durée<0,0,durée)),0))+SUMPRODUCT(ISNUMBER(MATCH(INDIRECT(\"H\"&$A$1&\"!B2:AF2\"),moindimfe,0))*IFERROR(IF(\"19:00\"<=IFERROR(Hgauche,0),IF(durée2<0,0,durée2),\"00:00\"),0))","v":0},{"$f":"SUMPRODUCT(1*IF(durée<0,0,durée))+SUMPRODUCT(1*IFERROR(IF(\"19:00\"<=IFERROR(Hgauche,0),IF(durée2<0,0,durée2),\"00:00\"),0))-durée5","v":0},null,0,{"$f":"VLOOKUP($A42,Bilan!A42:AI90,35,FALSE)","v":0},null,{"$f":"Bilan!AN42","v":{"$error":"#VALUE!"}},65,null,0]
[{"$f":"Données!$H40","v":0},0,0,0,0,0,0,0,0,0,0,0,0,0,0,0,0,0,0,0,0,0,0,0,0,0,0,"00:00:00","00:00:00",null,{"$f":"SUMPRODUCT(ISNUMBER(MATCH(INDIRECT(\"H\"&$A$1&\"!B2:AF2\"),DimFe,0))*IFERROR(IF(\"19:00\">=IFERROR(Hgauche,0),IFERROR(hdroite-Hgauche,0),IF(durée1>0,durée1,\"00:00\")),0))+SUMPRODUCT(ISNUMBER(MATCH(INDIRECT(\"H\"&$A$1&\"!B2:AF2\"),moindimfe,0))*IFERROR(IF(\"19:00\"<=IFERROR(Hgauche,0),IF(durée4<0,0,durée4),\"00:00\"),0))","v":0},{"$f":"SUMPRODUCT(ISNUMBER(MATCH(INDIRECT(\"H\"&$A$1&\"!B2:AF2\"),DimFe,0))*IFERROR(IF(\"19:00\"<=IFERROR(Hgauche,0),IF(durée6<0,0,durée6),IF(durée<0,0,durée)),0))+SUMPRODUCT(ISNUMBER(MATCH(INDIRECT(\"H\"&$A$1&\"!B2:AF2\"),moindimfe,0))*IFERROR(IF(\"19:00\"<=IFERROR(Hgauche,0),IF(durée2<0,0,durée2),\"00:00\"),0))","v":0},{"$f":"SUMPRODUCT(1*IF(durée<0,0,durée))+SUMPRODUCT(1*IFERROR(IF(\"19:00\"<=IFERROR(Hgauche,0),IF(durée2<0,0,durée2),\"00:00\"),0))-durée5","v":0},null,0,{"$f":"VLOOKUP($A43,Bilan!A43:AI91,35,FALSE)","v":0},null,{"$f":"Bilan!AN43","v":{"$error":"#VALUE!"}},65,null,0]
[{"$f":"Données!$H41","v":0},0,0,0,0,0,0,0,0,0,0,0,0,0,0,0,0,0,0,0,0,0,0,0,0,0,0,"00:00:00","00:00:00",null,{"$f":"SUMPRODUCT(ISNUMBER(MATCH(INDIRECT(\"H\"&$A$1&\"!B2:AF2\"),DimFe,0))*IFERROR(IF(\"19:00\">=IFERROR(Hgauche,0),IFERROR(hdroite-Hgauche,0),IF(durée1>0,durée1,\"00:00\")),0))+SUMPRODUCT(ISNUMBER(MATCH(INDIRECT(\"H\"&$A$1&\"!B2:AF2\"),moindimfe,0))*IFERROR(IF(\"19:00\"<=IFERROR(Hgauche,0),IF(durée4<0,0,durée4),\"00:00\"),0))","v":0},{"$f":"SUMPRODUCT(ISNUMBER(MATCH(INDIRECT(\"H\"&$A$1&\"!B2:AF2\"),DimFe,0))*IFERROR(IF(\"19:00\"<=IFERROR(Hgauche,0),IF(durée6<0,0,durée6),IF(durée<0,0,durée)),0))+SUMPRODUCT(ISNUMBER(MATCH(INDIRECT(\"H\"&$A$1&\"!B2:AF2\"),moindimfe,0))*IFERROR(IF(\"19:00\"<=IFERROR(Hgauche,0),IF(durée2<0,0,durée2),\"00:00\"),0))","v":0},{"$f":"SUMPRODUCT(1*IF(durée<0,0,durée))+SUMPRODUCT(1*IFERROR(IF(\"19:00\"<=IFERROR(Hgauche,0),IF(durée2<0,0,durée2),\"00:00\"),0))-durée5","v":0},null,0,{"$f":"VLOOKUP($A44,Bilan!A44:AI92,35,FALSE)","v":0},null,{"$f":"Bilan!AN44","v":{"$error":"#VALUE!"}},65,null,0]
[{"$f":"Données!$H42","v":"Psychologue"}]
[{"$f":"Données!$H43","v":"O"},{"$f":"IF(SUMPRODUCT((INDIRECT(\"'\"&$A$1&\"'!$A$7:$A$56\")=$A46)*(INDIRECT(\"'\"&$A$1&\"'!$B$7:$AF$56\")=B$7))=0,\"\",SUMPRODUCT((INDIRECT(\"'\"&$A$1&\"'!$A$7:$A$56\")=$A46)*(INDIRECT(\"'\"&$A$1&\"'!$B$7:$AF$56\")=B$7)))","v":""},"","","","","","","","","","","","","","","",{"$f":"IF(SUMPRODUCT((INDIRECT(\"'\"&$A$1&\"'!$A$7:$A$56\")=$A46)*(INDIRECT(\"'\"&$A$1&\"'!$B$7:$AF$56\")=R$7))=0,\"\",SUMPRODUCT((INDIRECT(\"'\"&$A$1&\"'!$A$7:$A$56\")=$A46)*(INDIRECT(\"'\"&$A$1&\"'!$B$7:$AF$56\")=R$7)))","v":""},"","","","","","","","","",{"$f":"VLOOKUP($A46,INDIRECT(\"'\"&$A$1&\"'!$A$7:$AR$56\"),35,0)","v":"00:00:00"},{"$f":"VLOOKUP($A46,INDIRECT(\"'\"&$A$1&\"'!$A$7:$AR$56\"),36,0)","v":"00:00:00"},null,{"$f":"SUMPRODUCT(ISNUMBER(MATCH(INDIRECT(\"H\"&$A$1&\"!B2:AF2\"),DimFe,0))*IFERROR(IF(\"19:00\">=IFERROR(Hgauche,0),IFERROR(hdroite-Hgauche,0),IF(durée1>0,durée1,\"00:00\")),0))+SUMPRODUCT(ISNUMBER(MATCH(INDIRECT(\"H\"&$A$1&\"!B2:AF2\"),moindimfe,0))*IFERROR(IF(\"19:00\"<=IFERROR(Hgauche,0),IF(durée4<0,0,durée4),\"00:00\"),0))","v":0},{"$f":"SUMPRODUCT(ISNUMBER(MATCH(INDIRECT(\"H\"&$A$1&\"!B2:AF2\"),DimFe,0))*IFERROR(IF(\"19:00\"<=IFERROR(Hgauche,0),IF(durée6<0,0,durée6),IF(durée<0,0,durée)),0))+SUMPRODUCT(ISNUMBER(MATCH(INDIRECT(\"H\"&$A$1&\"!B2:AF2\"),moindimfe,0))*IFERROR(IF(\"19:00\"<=IFERROR(Hgauche,0),IF(durée2<0,0,durée2),\"00:00\"),0))","v":0},{"$f":"SUM(SUMPRODUCT(1*IFERROR(IF(\"19:00\"<=IFERROR(Hgauche,0),IF(durée2<0,0,durée2),\"00:00\"),0)),SUMPRODUCT(1*IFERROR(IF(\"19:00\"<=IFERROR(Hgauche,0),IF(durée6<0,0,durée6),\"00:00\"),0)),SUMPRODUCT(1*IFERROR(IF(\"21:00\"<=IFERROR(Hdroitesimple,0),IF(durée<0,0,durée),\"00:00\"),0)))-durée5","v":0},null,{"$f":"bilanh","v":0},{"$f":"VLOOKUP($A46,Bilan!$A$9:$AQ94,37,FALSE)","v":63},null,{"$f":"Bilan!AN46","v":65},65,null,{"$f":"Jourtravaillé","v":0}]
[{"$f":"Données!$H44","v":0},{"$f":"SUMPRODUCT((INDIRECT(\"'\"&$A$1&\"'!$A$7:$A$56\")=$A47)*(INDIRECT(\"'\"&$A$1&\"'!$B$7:$AF$56\")=B$7))","v":0},0,0,0,0,0,0,0,0,0,{"$f":"SUMPRODUCT((INDIRECT(\"'\"&$A$1&\"'!$A$7:$A$56\")=$A47)*(INDIRECT(\"'\"&$A$1&\"'!$B$7:$AF$56\")=L$7))","v":0},0,0,0,0,0,0,0,0,0,{"$f":"SUMPRODUCT((INDIRECT(\"'\"&$A$1&\"'!$A$7:$A$56\")=$A47)*(INDIRECT(\"'\"&$A$1&\"'!$B$7:$AF$56\")=V$7))","v":0},0,0,0,0,0,"00:00:00","00:00:00",null,{"$f":"SUMPRODUCT(ISNUMBER(MATCH(INDIRECT(\"H\"&$A$1&\"!B2:AF2\"),DimFe,0))*IFERROR(IF(\"19:00\">=IFERROR(Hgauche,0),IFERROR(hdroite-Hgauche,0),IF(durée1>0,durée1,\"00:00\")),0))+SUMPRODUCT(ISNUMBER(MATCH(INDIRECT(\"H\"&$A$1&\"!B2:AF2\"),moindimfe,0))*IFERROR(IF(\"19:00\"<=IFERROR(Hgauche,0),IF(durée4<0,0,durée4),\"00:00\"),0))","v":0},{"$f":"SUMPRODUCT(ISNUMBER(MATCH(INDIRECT(\"H\"&$A$1&\"!B2:AF2\"),DimFe,0))*IFERROR(IF(\"19:00\"<=IFERROR(Hgauche,0),IF(durée6<0,0,durée6),IF(durée<0,0,durée)),0))+SUMPRODUCT(ISNUMBER(MATCH(INDIRECT(\"H\"&$A$1&\"!B2:AF2\"),moindimfe,0))*IFERROR(IF(\"19:00\"<=IFERROR(Hgauche,0),IF(durée2<0,0,durée2),\"00:00\"),0))","v":0},{"$f":"SUMPRODUCT(1*IF(durée<0,0,durée))+SUMPRODUCT(1*IFERROR(IF(\"19:00\"<=IFERROR(Hgauche,0),IF(durée2<0,0,durée2),\"00:00\"),0))-durée5","v":0},null,{"$f":"(AB47/24)+SUMPRODUCT(($B$6:$AA$6)*(B47:AA47))","v":0},{"$f":"VLOOKUP($A47,Bilan!A47:AI95,35,FALSE)","v":0},null,{"$f":"Bilan!AN47","v":65},65,null,0]
[{"$f":"Données!$H45","v":0},0,0,0,0,0,0,0,0,0,0,0,0,0,0,0,0,0,0,0,0,0,0,0,0,0,0,"00:00:00","00:00:00",null,{"$f":"SUMPRODUCT(ISNUMBER(MATCH(INDIRECT(\"H\"&$A$1&\"!B2:AF2\"),DimFe,0))*IFERROR(IF(\"19:00\">=IFERROR(Hgauche,0),IFERROR(hdroite-Hgauche,0),IF(durée1>0,durée1,\"00:00\")),0))+SUMPRODUCT(ISNUMBER(MATCH(INDIRECT(\"H\"&$A$1&\"!B2:AF2\"),moindimfe,0))*IFERROR(IF(\"19:00\"<=IFERROR(Hgauche,0),IF(durée4<0,0,durée4),\"00:00\"),0))","v":0},{"$f":"SUMPRODUCT(ISNUMBER(MATCH(INDIRECT(\"H\"&$A$1&\"!B2:AF2\"),DimFe,0))*IFERROR(IF(\"19:00\"<=IFERROR(Hgauche,0),IF(durée6<0,0,durée6),IF(durée<0,0,durée)),0))+SUMPRODUCT(ISNUMBER(MATCH(INDIRECT(\"H\"&$A$1&\"!B2:AF2\"),moindimfe,0))*IFERROR(IF(\"19:00\"<=IFERROR(Hgauche,0),IF(durée2<0,0,durée2),\"00:00\"),0))","v":0},{"$f":"SUMPRODUCT(1*IF(durée<0,0,durée))+SUMPRODUCT(1*IFERROR(IF(\"19:00\"<=IFERROR(Hgauche,0),IF(durée2<0,0,durée2),\"00:00\"),0))-durée5","v":0},null,{"$f":"(AB48/24)+SUMPRODUCT(($B$6:$AA$6)*(B48:AA48))","v":0},{"$f":"VLOOKUP($A48,Bilan!A48:AI96,35,FALSE)","v":0},null,{"$f":"Bilan!AN48","v":{"$error":"#VALUE!"}},65,null,0]
[{"$f":"Données!$H46","v":"Coordinatrice"}]
[{"$f":"Données!$H47","v":"P"},{"$f":"IF(SUMPRODUCT((INDIRECT(\"'\"&$A$1&\"'!$A$7:$A$56\")=$A50)*(INDIRECT(\"'\"&$A$1&\"'!$B$7:$AF$56\")=B$7))=0,\"\",SUMPRODUCT((INDIRECT(\"'\"&$A$1&\"'!$A$7:$A$56\")=$A50)*(INDIRECT(\"'\"&$A$1&\"'!$B$7:$AF$56\")=B$7)))","v":""},"","","","","","","","","","","","","","","",{"$f":"IF(SUMPRODUCT((INDIRECT(\"'\"&$A$1&\"'!$A$7:$A$56\")=$A50)*(INDIRECT(\"'\"&$A$1&\"'!$B$7:$AF$56\")=R$7))=0,\"\",SUMPRODUCT((INDIRECT(\"'\"&$A$1&\"'!$A$7:$A$56\")=$A50)*(INDIRECT(\"'\"&$A$1&\"'!$B$7:$AF$56\")=R$7)))","v":""},"","","","","","","","","",{"$f":"VLOOKUP($A50,INDIRECT(\"'\"&$A$1&\"'!$A$7:$AR$56\"),35,0)","v":"00:00:00"},{"$f":"VLOOKUP($A50,INDIRECT(\"'\"&$A$1&\"'!$A$7:$AR$56\"),36,0)","v":"00:00:00"},null,{"$f":"SUMPRODUCT(ISNUMBER(MATCH(INDIRECT(\"H\"&$A$1&\"!B2:AF2\"),DimFe,0))*IFERROR(IF(\"19:00\">=IFERROR(Hgauche,0),IFERROR(hdroite-Hgauche,0),IF(durée1>0,durée1,\"00:00\")),0))+SUMPRODUCT(ISNUMBER(MATCH(INDIRECT(\"H\"&$A$1&\"!B2:AF2\"),moindimfe,0))*IFERROR(IF(\"19:00\"<=IFERROR(Hgauche,0),IF(durée4<0,0,durée4),\"00:00\"),0))","v":0},{"$f":"SUMPRODUCT(ISNUMBER(MATCH(INDIRECT(\"H\"&$A$1&\"!B2:AF2\"),DimFe,0))*IFERROR(IF(\"19:00\"<=IFERROR(Hgauche,0),IF(durée6<0,0,durée6),IF(durée<0,0,durée)),0))+SUMPRODUCT(ISNUMBER(MATCH(INDIRECT(\"H\"&$A$1&\"!B2:AF2\"),moindimfe,0))*IFERROR(IF(\"19:00\"<=IFERROR(Hgauche,0),IF(durée2<0,0,durée2),\"00:00\"),0))","v":0},{"$f":"SUM(SUMPRODUCT(1*IFERROR(IF(\"19:00\"<=IFERROR(Hgauche,0),IF(durée2<0,0,durée2),\"00:00\"),0)),SUMPRODUCT(1*IFERROR(IF(\"19:00\"<=IFERROR(Hgauche,0),IF(durée6<0,0,durée6),\"00:00\"),0)),SUMPRODUCT(1*IFERROR(IF(\"21:00\"<=IFERROR(Hdroitesimple,0),IF(durée<0,0,durée),\"00:00\"),0)))-durée5","v":0},null,{"$f":"bilanh","v":0},{"$f":"VLOOKUP($A50,Bilan!$A$9:$AQ98,37,FALSE)","v":63},null,{"$f":"Bilan!AN50","v":65},65,null,{"$f":"Jourtravaillé","v":0}]
[{"$f":"Données!$H48","v":0},{"$f":"SUMPRODUCT((INDIRECT(\"'\"&$A$1&\"'!$A$7:$A$56\")=$A51)*(INDIRECT(\"'\"&$A$1&\"'!$B$7:$AF$56\")=B$7))","v":0},0,0,0,0,0,0,0,0,0,{"$f":"SUMPRODUCT((INDIRECT(\"'\"&$A$1&\"'!$A$7:$A$56\")=$A51)*(INDIRECT(\"'\"&$A$1&\"'!$B$7:$AF$56\")=L$7))","v":0},0,0,0,0,0,0,0,0,0,{"$f":"SUMPRODUCT((INDIRECT(\"'\"&$A$1&\"'!$A$7:$A$56\")=$A51)*(INDIRECT(\"'\"&$A$1&\"'!$B$7:$AF$56\")=V$7))","v":0},0,0,0,0,0,"00:00:00","00:00:00",null,{"$f":"SUMPRODUCT(ISNUMBER(MATCH(INDIRECT(\"H\"&$A$1&\"!B2:AF2\"),DimFe,0))*IFERROR(IF(\"19:00\">=IFERROR(Hgauche,0),IFERROR(hdroite-Hgauche,0),IF(durée1>0,durée1,\"00:00\")),0))+SUMPRODUCT(ISNUMBER(MATCH(INDIRECT(\"H\"&$A$1&\"!B2:AF2\"),moindimfe,0))*IFERROR(IF(\"19:00\"<=IFERROR(Hgauche,0),IF(durée4<0,0,durée4),\"00:00\"),0))","v":0},{"$f":"SUMPRODUCT(ISNUMBER(MATCH(INDIRECT(\"H\"&$A$1&\"!B2:AF2\"),DimFe,0))*IFERROR(IF(\"19:00\"<=IFERROR(Hgauche,0),IF(durée6<0,0,durée6),IF(durée<0,0,durée)),0))+SUMPRODUCT(ISNUMBER(MATCH(INDIRECT(\"H\"&$A$1&\"!B2:AF2\"),moindimfe,0))*IFERROR(IF(\"19:00\"<=IFERROR(Hgauche,0),IF(durée2<0,0,durée2),\"00:00\"),0))","v":0},{"$f":"SUMPRODUCT(1*IF(durée<0,0,durée))+SUMPRODUCT(1*IFERROR(IF(\"19:00\"<=IFERROR(Hgauche,0),IF(durée2<0,0,durée2),\"00:00\"),0))-durée5","v":0},null,{"$f":"(AB51/24)+SUMPRODUCT(($B$6:$AA$6)*(B51:AA51))","v":0},{"$f":"VLOOKUP($A51,Bilan!A51:AI99,35,FALSE)","v":0},null,{"$f":"Bilan!AN51","v":66},65,null,0]
[{"$f":"Données!$H49","v":0},0,0,0,0,0,0,0,0,0,0,0,0,0,0,0,0,0,0,0,0,0,0,0,0,0,0,"00:00:00","00:00:00",null,{"$f":"SUMPRODUCT(ISNUMBER(MATCH(INDIRECT(\"H\"&$A$1&\"!B2:AF2\"),DimFe,0))*IFERROR(IF(\"19:00\">=IFERROR(Hgauche,0),IFERROR(hdroite-Hgauche,0),IF(durée1>0,durée1,\"00:00\")),0))+SUMPRODUCT(ISNUMBER(MATCH(INDIRECT(\"H\"&$A$1&\"!B2:AF2\"),moindimfe,0))*IFERROR(IF(\"19:00\"<=IFERROR(Hgauche,0),IF(durée4<0,0,durée4),\"00:00\"),0))","v":0},{"$f":"SUMPRODUCT(ISNUMBER(MATCH(INDIRECT(\"H\"&$A$1&\"!B2:AF2\"),DimFe,0))*IFERROR(IF(\"19:00\"<=IFERROR(Hgauche,0),IF(durée6<0,0,durée6),IF(durée<0,0,durée)),0))+SUMPRODUCT(ISNUMBER(MATCH(INDIRECT(\"H\"&$A$1&\"!B2:AF2\"),moindimfe,0))*IFERROR(IF(\"19:00\"<=IFERROR(Hgauche,0),IF(durée2<0,0,durée2),\"00:00\"),0))","v":0},{"$f":"SUMPRODUCT(1*IF(durée<0,0,durée))+SUMPRODUCT(1*IFERROR(IF(\"19:00\"<=IFERROR(Hgauche,0),IF(durée2<0,0,durée2),\"00:00\"),0))-durée5","v":0},null,{"$f":"(AB52/24)+SUMPRODUCT(($B$6:$AA$6)*(B52:AA52))","v":0},{"$f":"VLOOKUP($A52,Bilan!A52:AI100,35,FALSE)","v":0},null,{"$f":"Bilan!AN52","v":{"$error":"#VALUE!"}},66,null,0]
[{"$f":"Données!$H50","v":0},0,0,0,0,0,0,0,0,0,0,0,0,0,0,0,0,0,0,0,0,0,0,0,0,0,0,"00:00:00","00:00:00",null,{"$f":"SUMPRODUCT(ISNUMBER(MATCH(INDIRECT(\"H\"&$A$1&\"!B2:AF2\"),DimFe,0))*IFERROR(IF(\"19:00\">=IFERROR(Hgauche,0),IFERROR(hdroite-Hgauche,0),IF(durée1>0,durée1,\"00:00\")),0))+SUMPRODUCT(ISNUMBER(MATCH(INDIRECT(\"H\"&$A$1&\"!B2:AF2\"),moindimfe,0))*IFERROR(IF(\"19:00\"<=IFERROR(Hgauche,0),IF(durée4<0,0,durée4),\"00:00\"),0))","v":0},{"$f":"SUMPRODUCT(ISNUMBER(MATCH(INDIRECT(\"H\"&$A$1&\"!B2:AF2\"),DimFe,0))*IFERROR(IF(\"19:00\"<=IFERROR(Hgauche,0),IF(durée6<0,0,durée6),IF(durée<0,0,durée)),0))+SUMPRODUCT(ISNUMBER(MATCH(INDIRECT(\"H\"&$A$1&\"!B2:AF2\"),moindimfe,0))*IFERROR(IF(\"19:00\"<=IFERROR(Hgauche,0),IF(durée2<0,0,durée2),\"00:00\"),0))","v":0},{"$f":"SUMPRODUCT(1*IF(durée<0,0,durée))+SUMPRODUCT(1*IFERROR(IF(\"19:00\"<=IFERROR(Hgauche,0),IF(durée2<0,0,durée2),\"00:00\"),0))-durée5","v":0},null,{"$f":"(AB53/24)+SUMPRODUCT(($B$6:$AA$6)*(B53:AA53))","v":0},{"$f":"VLOOKUP($A53,Bilan!A53:AI101,35,FALSE)","v":0},null,{"$f":"Bilan!AN53","v":{"$error":"#VALUE!"}},67,null,0]
[{"$f":"Données!$H51","v":0},0,0,0,0,0,0,0,0,0,0,0,0,0,0,0,0,0,0,0,0,0,0,0,0,0,0,"00:00:00","00:00:00",null,{"$f":"SUMPRODUCT(ISNUMBER(MATCH(INDIRECT(\"H\"&$A$1&\"!B2:AF2\"),DimFe,0))*IFERROR(IF(\"19:00\">=IFERROR(Hgauche,0),IFERROR(hdroite-Hgauche,0),IF(durée1>0,durée1,\"00:00\")),0))+SUMPRODUCT(ISNUMBER(MATCH(INDIRECT(\"H\"&$A$1&\"!B2:AF2\"),moindimfe,0))*IFERROR(IF(\"19:00\"<=IFERROR(Hgauche,0),IF(durée4<0,0,durée4),\"00:00\"),0))","v":0},{"$f":"SUMPRODUCT(ISNUMBER(MATCH(INDIRECT(\"H\"&$A$1&\"!B2:AF2\"),DimFe,0))*IFERROR(IF(\"19:00\"<=IFERROR(Hgauche,0),IF(durée6<0,0,durée6),IF(durée<0,0,durée)),0))+SUMPRODUCT(ISNUMBER(MATCH(INDIRECT(\"H\"&$A$1&\"!B2:AF2\"),moindimfe,0))*IFERROR(IF(\"19:00\"<=IFERROR(Hgauche,0),IF(durée2<0,0,durée2),\"00:00\"),0))","v":0},{"$f":"SUMPRODUCT(1*IF(durée<0,0,durée))+SUMPRODUCT(1*IFERROR(IF(\"19:00\"<=IFERROR(Hgauche,0),IF(durée2<0,0,durée2),\"00:00\"),0))-durée5","v":0},null,{"$f":"(AB54/24)+SUMPRODUCT(($B$6:$AA$6)*(B54:AA54))","v":0},{"$f":"VLOOKUP($A54,Bilan!A54:AI102,35,FALSE)","v":0},null,{"$f":"Bilan!AN54","v":{"$error":"#VALUE!"}},68,null,0]
[{"$f":"Données!$H52","v":"Chef de service"}]
[{"$f":"Données!$H53","v":"Q"},{"$f":"IF(SUMPRODUCT((INDIRECT(\"'\"&$A$1&\"'!$A$7:$A$56\")=$A56)*(INDIRECT(\"'\"&$A$1&\"'!$B$7:$AF$56\")=B$7))=0,\"\",SUMPRODUCT((INDIRECT(\"'\"&$A$1&\"'!$A$7:$A$56\")=$A56)*(INDIRECT(\"'\"&$A$1&\"'!$B$7:$AF$56\")=B$7)))","v":""},"","","","","","","","","","","","","","","",{"$f":"IF(SUMPRODUCT((INDIRECT(\"'\"&$A$1&\"'!$A$7:$A$56\")=$A56)*(INDIRECT(\"'\"&$A$1&\"'!$B$7:$AF$56\")=R$7))=0,\"\",SUMPRODUCT((INDIRECT(\"'\"&$A$1&\"'!$A$7:$A$56\")=$A56)*(INDIRECT(\"'\"&$A$1&\"'!$B$7:$AF$56\")=R$7)))","v":""},"","","","","","","","","",{"$f":"VLOOKUP($A56,INDIRECT(\"'\"&$A$1&\"'!$A$7:$AR$56\"),35,0)","v":"00:00:00"},{"$f":"VLOOKUP($A56,INDIRECT(\"'\"&$A$1&\"'!$A$7:$AR$56\"),36,0)","v":"00:00:00"},null,{"$f":"SUMPRODUCT(ISNUMBER(MATCH(INDIRECT(\"H\"&$A$1&\"!B2:AF2\"),DimFe,0))*IFERROR(IF(\"19:00\">=IFERROR(Hgauche,0),IFERROR(hdroite-Hgauche,0),IF(durée1>0,durée1,\"00:00\")),0))+SUMPRODUCT(ISNUMBER(MATCH(INDIRECT(\"H\"&$A$1&\"!B2:AF2\"),moindimfe,0))*IFERROR(IF(\"19:00\"<=IFERROR(Hgauche,0),IF(durée4<0,0,durée4),\"00:00\"),0))","v":0},{"$f":"SUMPRODUCT(ISNUMBER(MATCH(INDIRECT(\"H\"&$A$1&\"!B2:AF2\"),DimFe,0))*IFERROR(IF(\"19:00\"<=IFERROR(Hgauche,0),IF(durée6<0,0,durée6),IF(durée<0,0,durée)),0))+SUMPRODUCT(ISNUMBER(MATCH(INDIRECT(\"H\"&$A$1&\"!B2:AF2\"),moindimfe,0))*IFERROR(IF(\"19:00\"<=IFERROR(Hgauche,0),IF(durée2<0,0,durée2),\"00:00\"),0))","v":0},{"$f":"SUM(SUMPRODUCT(1*IFERROR(IF(\"19:00\"<=IFERROR(Hgauche,0),IF(durée2<0,0,durée2),\"00:00\"),0)),SUMPRODUCT(1*IFERROR(IF(\"19:00\"<=IFERROR(Hgauche,0),IF(durée6<0,0,durée6),\"00:00\"),0)),SUMPRODUCT(1*IFERROR(IF(\"21:00\"<=IFERROR(Hdroitesimple,0),IF(durée<0,0,durée),\"00:00\"),0)))-durée5","v":0},null,{"$f":"bilanh","v":0},{"$f":"VLOOKUP($A56,Bilan!$A$9:$AQ104,37,FALSE)","v":63},null,{"$f":"Bilan!AN56","v":65},65,null,{"$f":"Jourtravaillé","v":0}]

{"sheet":"BFevrier","index":27,"n_rows":56,"n_cols":66,"rows_kept":56,"cut":false,"hidden":false,"merged":[[7,37,7,38],[6,27,7,27],[6,28,7,28],[6,30,7,30],[6,31,7,31],[6,32,7,32],[7,34,7,35]]}
["Fevrier"]
[null,null,{"$f":"LEFT(OFFSET(INDIRECT(\"H\"&$A$1&\"!B8:AF8\"),MATCH($A9,INDIRECT(\"H\"&$A$1&\"!A9:A56\"),0),),5)","v":""}]
[null,null,{"$f":"RIGHT(OFFSET(INDIRECT(\"H\"&$A$1&\"!B8:AF8\"),MATCH($A3,INDIRECT(\"H\"&$A$1&\"!A9:A56\"),0),),5)","v":""}]
[]
[]
["Jours",{"$f":"Données!$E3","v":0.31597222222222227},{"$f":"Données!$E4","v":0.10763888888888884},{"$f":"Données!$E5","v":0.31249999999999994},{"$f":"Données!$E6","v":0.32291666666666669},{"$f":"Données!$E7","v":8.3333333333333315E-2},{"$f":"Données!$E8","v":0.47916666666666669},{"$f":"Données!$E9","v":0.3125},{"$f":"Données!$E10","v":0.48958333333333337},{"$f":"Données!$E11","v":0.47916666666666669},{"$f":"Données!$E12","v":0.51041666666666674},{"$f":"Données!$E13","v":0.51041666666666674},{"$f":"Données!$E14","v":0.44791666666666663},{"$f":"Données!$E15","v":0.49999999999999989},{"$f":"Données!$E16","v":0.49999999999999989},{"$f":"Données!$E17","v":0.5},{"$f":"Données!$E18","v":0.29166666666666669},{"$f":"Données!$E19","v":0.3125},{"$f":"Données!$E20","v":0.3125},{"$f":"Données!$E21","v":0.3125},{"$f":"Données!$E22","v":0.3125},{"$f":"Données!$E23","v":0.3125},{"$f":"Données!$E24","v":0},{"$f":"Données!$E25","v":0},{"$f":"Données!$E26","v":0},{"$f":"Données!$E27","v":0.33333333333333331},{"$f":"Données!$E28","v":0}]
[null,{"$f":"Données!$A3","v":"M"},{"$f":"Données!$A4","v":"MG"},{"$f":"Données!$A5","v":"J"},{"$f":"Données!$A6","v":"J+"},{"$f":"Données!$A7","v":"R"},{"$f":"Données!$A8","v":"RS"},{"$f":"Données!$A9","v":"S"},{"$f":"Données!$A10","v":"W"},{"$f":"Données!$A11","v":"W+"},{"$f":"Données!$A12","v":"WD"},{"$f":"Données!$A13","v":"WF"},{"$f":"Données!$A14","v":"N"},{"$f":"Données!$A15","v":"N+"},{"$f":"Données!$A16","v":"NS"},{"$f":"Données!$A17","v":"T"},{"$f":"Données!$A18","v":"F"},{"$f":"Données!$A19","v":"SYN"},{"$f":"Données!$A20","v":"AT"},{"$f":"Données!$A21","v":"AM"},{"$f":"Données!$A22","v":"EM"},{"$f":"Données!$A23","v":"CE"},{"$f":"Données!$A24","v":"CA"},{"$f":"Données!$A25","v":"CA16"},{"$f":"Données!$A26","v":"REC"},{"$f":"Données!$A27","v":"PL"},{"$f":"Données!$A28","v":"D"},"Heures\nSupplémentaires \navant 21 h","Heures\nSupplémentaires \naprès 21 h",null,"Heures dimanche","Heures de nuit dimanches","Heures apres 21 h"]
["Equipe de jour",{"$f":"IF(ISBLANK(Données!$C3),TEXT(Données!$B3,\"hh:mm\"),TEXT(Données!$B3,\"hh:mm\")&\" : \"&TEXT(Données!$C3,\"hh:mm\"))","v":"07:00 : 14:35"},{"$f":"IF(ISBLANK(Données!$C4),TEXT(Données!$B4,\"hh:mm\"),TEXT(Données!$B4,\"hh:mm\")&\" : \"&TEXT(Données!$C4,\"hh:mm\"))","v":"23:00 : 01:35"},{"$f":"IF(ISBLANK(Données!$C5),TEXT(Données!$B5,\"hh:mm\"),TEXT(Données!$B5,\"hh:mm\")&\" : \"&TEXT(Données!$C5,\"hh:mm\"))","v":"10:00 : 17:30"},{"$f":"IF(ISBLANK(Données!$C6),TEXT(Données!$B6,\"hh:mm\"),TEXT(Données!$B6,\"hh:mm\")&\" : \"&TEXT(Données!$C6,\"hh:mm\"))","v":"11:30 : 19:15"},{"$f":"IF(ISBLANK(Données!$C7),TEXT(Données!$B7,\"hh:mm\"),TEXT(Données!$B7,\"hh:mm\")&\" : \"&TEXT(Données!$C7,\"hh:mm\"))","v":"10:00 : 12:00"},{"$f":"IF(ISBLANK(Données!$C8),TEXT(Données!$B8,\"hh:mm\"),TEXT(Données!$B8,\"hh:mm\")&\" : \"&TEXT(Données!$C8,\"hh:mm\"))","v":"10:00 : 21:30"},{"$f":"IF(ISBLANK(Données!$C9),TEXT(Données!$B9,\"hh:mm\"),TEXT(Données!$B9,\"hh:mm\")&\" : \"&TEXT(Données!$C9,\"hh:mm\"))","v":"14:00 : 21:30"},{"$f":"IF(ISBLANK(Données!$C10),TEXT(Données!$B10,\"hh:mm\"),TEXT(Données!$B10,\"hh:mm\")&\" : \"&TEXT(Données!$C10,\"hh:mm\"))","v":"07:30 : 19:15"},{"$f":"IF(ISBLANK(Données!$C11),TEXT(Données!$B11,\"hh:mm\"),TEXT(Données!$B11,\"hh:mm\")&\" : \"&TEXT(Données!$C11,\"hh:mm\"))","v":"10:00 : 21:30"},{"$f":"IF(ISBLANK(Données!$C12),TEXT(Données!$B12,\"hh:mm\"),TEXT(Données!$B12,\"hh:mm\")&\" : \"&TEXT(Données!$C12,\"hh:mm\"))","v":"07:00 : 19:15"},{"$f":"IF(ISBLANK(Données!$C13),TEXT(Données!$B13,\"hh:mm\"),TEXT(Données!$B13,\"hh:mm\")&\" : \"&TEXT(Données!$C13,\"hh:mm\"))","v":"07:00 : 19:15"},{"$f":"IF(ISBLANK(Données!$C14),TEXT(Données!$B14,\"hh:mm\"),TEXT(Données!$B14,\"hh:mm\")&\" : \"&TEXT(Données!$C14,\"hh:mm\"))","v":"20:30 : 07:15"},{"$f":"IF(ISBLANK(Données!$C15),TEXT(Données!$B15,\"hh:mm\"),TEXT(Données!$B15,\"hh:mm\")&\" : \"&TEXT(Données!$C15,\"hh:mm\"))","v":"19:15 : 07:15"},{"$f":"IF(ISBLANK(Données!$C16),TEXT(Données!$B16,\"hh:mm\"),TEXT(Données!$B16,\"hh:mm\")&\" : \"&TEXT(Données!$C16,\"hh:mm\"))","v":"19:15 : 07:15"},{"$f":"IF(ISBLANK(Données!$C17),TEXT(Données!$B17,\"hh:mm\"),TEXT(Données!$B17,\"hh:mm\")&\" : \"&TEXT(Données!$C17,\"hh:mm\"))","v":"T"},{"$f":"IF(ISBLANK(Données!$C18),TEXT(Données!$B18,\"hh:mm\"),TEXT(Données!$B18,\"hh:mm\")&\" : \"&TEXT(Données!$C18,\"hh:mm\"))","v":"F"},{"$f":"IF(ISBLANK(Données!$C19),TEXT(Données!$B19,\"hh:mm\"),TEXT(Données!$B19,\"hh:mm\")&\" : \"&TEXT(Données!$C19,\"hh:mm\"))","v":"Syn"},{"$f":"IF(ISBLANK(Données!$C20),TEXT(Données!$B20,\"hh:mm\"),TEXT(Données!$B20,\"hh:mm\")&\" : \"&TEXT(Données!$C20,\"hh:mm\"))","v":"AT"},{"$f":"IF(ISBLANK(Données!$C21),TEXT(Données!$B21,\"hh:mm\"),TEXT(Données!$B21,\"hh:mm\")&\" : \"&TEXT(Données!$C21,\"hh:mm\"))","v":"AM"},{"$f":"IF(ISBLANK(Données!$C22),TEXT(Données!$B22,\"hh:mm\"),TEXT(Données!$B22,\"hh:mm\")&\" : \"&TEXT(Données!$C22,\"hh:mm\"))","v":"EM"},{"$f":"IF(ISBLANK(Données!$C23),TEXT(Données!$B23,\"hh:mm\"),TEXT(Données!$B23,\"hh:mm\")&\" : \"&TEXT(Données!$C23,\"hh:mm\"))","v":"CE"},{"$f":"IF(ISBLANK(Données!$C24),TEXT(Données!$B24,\"hh:mm\"),TEXT(Données!$B24,\"hh:mm\")&\" : \"&TEXT(Données!$C24,\"hh:mm\"))","v":"CA"},{"$f":"IF(ISBLANK(Données!$C25),TEXT(Données!$B25,\"hh:mm\"),TEXT(Données!$B25,\"hh:mm\")&\" : \"&TEXT(Données!$C25,\"hh:mm\"))","v":"CA16"},{"$f":"IF(ISBLANK(Données!$C26),TEXT(Données!$B26,\"hh:mm\"),TEXT(Données!$B26,\"hh:mm\")&\" : \"&TEXT(Données!$C26,\"hh:mm\"))","v":"REC"},{"$f":"IF(ISBLANK(Données!$C27),TEXT(Données!$B27,\"hh:mm\"),TEXT(Données!$B27,\"hh:mm\")&\" : \"&TEXT(Données!$C27,\"hh:mm\"))","v":"PL"},{"$f":"IF(ISBLANK(Données!$C28),TEXT(Données!$B28,\"hh:mm\"),TEXT(Données!$B28,\"hh:mm\")&\" : \"&TEXT(Données!$C28,\"hh:mm\"))","v":"D"},null,null,null,null,null,null,null,"Total ",null,null,"CA",null,null,"Jour travaillé"]
[{"$f":"Données!$H6","v":"A"},{"$f":"IF(SUMPRODUCT((INDIRECT(\"'\"&$A$1&\"'!$A$7:$A$56\")=$A9)*(INDIRECT(\"'\"&$A$1&\"'!$B$7:$AF$56\")=B$7))=0,\"\",SUMPRODUCT((INDIRECT(\"'\"&$A$1&\"'!$A$7:$A$56\")=$A9)*(INDIRECT(\"'\"&$A$1&\"'!$B$7:$AF$56\")=B$7)))","v":""},{"$f":"IF(SUMPRODUCT((INDIRECT(\"'\"&$A$1&\"'!$A$7:$A$56\")=$A9)*(INDIRECT(\"'\"&$A$1&\"'!$B$7:$AF$56\")=C$7))=0,\"\",SUMPRODUCT((INDIRECT(\"'\"&$A$1&\"'!$A$7:$A$56\")=$A9)*(INDIRECT(\"'\"&$A$1&\"'!$B$7:$AF$56\")=C$7)))","v":""},"","","","","","","","","","","","","","","","","","","","","","","","",{"$f":"VLOOKUP($A9,INDIRECT(\"'\"&$A$1&\"'!$A$7:$AR$56\"),35,0)","v":"00:00:00"},{"$f":"VLOOKUP($A9,INDIRECT(\"'\"&$A$1&\"'!$A$7:$AR$56\"),36,0)","v":"00:00:00"},null,{"$f":"SUMPRODUCT(ISNUMBER(MATCH(INDIRECT(\"H\"&$A$1&\"!B2:AF2\"),DimFe,0))*IFERROR(IF(\"19:00\">=IFERROR(Hgauche,0),IFERROR(hdroite-Hgauche,0),IF(durée1>0,durée1,\"00:00\")),0))+SUMPRODUCT(ISNUMBER(MATCH(INDIRECT(\"H\"&$A$1&\"!B2:AF2\"),moindimfe,0))*IFERROR(IF(\"19:00\"<=IFERROR(Hgauche,0),IF(durée4<0,0,durée4),\"00:00\"),0))","v":0},{"$f":"SUMPRODUCT(ISNUMBER(MATCH(INDIRECT(\"H\"&$A$1&\"!B2:AF2\"),DimFe,0))*IFERROR(IF(\"19:00\"<=IFERROR(Hgauche,0),IF(durée6<0,0,durée6),IF(durée<0,0,durée)),0))+SUMPRODUCT(ISNUMBER(MATCH(INDIRECT(\"H\"&$A$1&\"!B2:AF2\"),moindimfe,0))*IFERROR(IF(\"19:00\"<=IFERROR(Hgauche,0),IF(durée2<0,0,durée2),\"00:00\"),0))","v":0},{"$f":"SUM(SUMPRODUCT(1*IFERROR(IF(\"19:00\"<=IFERROR(Hgauche,0),IF(durée2<0,0,durée2),\"00:00\"),0)),SUMPRODUCT(1*IFERROR(IF(\"19:00\"<=IFERROR(Hgauche,0),IF(durée6<0,0,durée6),\"00:00\"),0)),SUMPRODUCT(1*IFERROR(IF(\"21:00\"<=IFERROR(Hdroitesimple,0),IF(durée<0,0,durée),\"00:00\"),0)))-durée5","v":0},null,{"$f":"bilanh","v":0},{"$f":"VLOOKUP($A9,Bilan!$A$9:$AQ57,37,FALSE)","v":59.5},null,{"$f":"Bilan!AN9","v":65},65,null,{"$f":"Jourtravaillé","v":0}]
[{"$f":"Données!$H7","v":0},{"$f":"IF(SUMPRODUCT((INDIRECT(\"'\"&$A$1&\"'!$A$7:$A$56\")=$A10)*(INDIRECT(\"'\"&$A$1&\"'!$B$7:$AF$56\")=B$7))=0,\"\",SUMPRODUCT((INDIRECT(\"'\"&$A$1&\"'!$A$7:$A$56\")=$A10)*(INDIRECT(\"'\"&$A$1&\"'!$B$7:$AF$56\")=B$7)))","v":""},"","","","","","","","","","","","","","","","","","","","","","","","","",{"$f":"VLOOKUP($A10,INDIRECT(\"'\"&$A$1&\"'!$A$7:$AR$56\"),35,0)","v":"00:00:00"},{"$f":"VLOOKUP($A10,INDIRECT(\"'\"&$A$1&\"'!$A$7:$AR$56\"),36,0)","v":"00:00:00"},null,{"$f":"SUMPRODUCT(ISNUMBER(MATCH(INDIRECT(\"H\"&$A$1&\"!B2:AF2\"),DimFe,0))*IFERROR(IF(\"19:00\">=IFERROR(Hgauche,0),IFERROR(hdroite-Hgauche,0),IF(durée1>0,durée1,\"00:00\")),0))+SUMPRODUCT(ISNUMBER(MATCH(INDIRECT(\"H\"&$A$1&\"!B2:AF2\"),moindimfe,0))*IFERROR(IF(\"19:00\"<=IFERROR(Hgauche,0),IF(durée4<0,0,durée4),\"00:00\"),0))","v":0},{"$f":"SUMPRODUCT(ISNUMBER(MATCH(INDIRECT(\"H\"&$A$1&\"!B2:AF2\"),DimFe,0))*IFERROR(IF(\"19:00\"<=IFERROR(Hgauche,0),IF(durée6<0,0,durée6),IF(durée<0,0,durée)),0))+SUMPRODUCT(ISNUMBER(MATCH(INDIRECT(\"H\"&$A$1&\"!B2:AF2\"),moindimfe,0))*IFERROR(IF(\"19:00\"<=IFERROR(Hgauche,0),IF(durée2<0,0,durée2),\"00:00\"),0))","v":0},{"$f":"SUM(SUMPRODUCT(1*IFERROR(IF(\"19:00\"<=IFERROR(Hgauche,0),IF(durée2<0,0,durée2),\"00:00\"),0)),SUMPRODUCT(1*IFERROR(IF(\"19:00\"<=IFERROR(Hgauche,0),IF(durée6<0,0,durée6),\"00:00\"),0)),SUMPRODUCT(1*IFERROR(IF(\"21:00\"<=IFERROR(Hdroitesimple,0),IF(durée<0,0,durée),\"00:00\"),0)))-durée5","v":0},null,0,{"$f":"VLOOKUP($A10,Bilan!$A$9:$AQ58,37,FALSE)","v":59.5},null,{"$f":"Bilan!AN10","v":65},65,null,0]
[{"$f":"Données!$H8","v":0},"","","","","","","","","","","","","","","","","","","","","","","","","","","00:00:00","00:00:00",null,{"$f":"SUMPRODUCT(ISNUMBER(MATCH(INDIRECT(\"H\"&$A$1&\"!B2:AF2\"),DimFe,0))*IFERROR(IF(\"19:00\">=IFERROR(Hgauche,0),IFERROR(hdroite-Hgauche,0),IF(durée1>0,durée1,\"00:00\")),0))+SUMPRODUCT(ISNUMBER(MATCH(INDIRECT(\"H\"&$A$1&\"!B2:AF2\"),moindimfe,0))*IFERROR(IF(\"19:00\"<=IFERROR(Hgauche,0),IF(durée4<0,0,durée4),\"00:00\"),0))","v":0},{"$f":"SUMPRODUCT(ISNUMBER(MATCH(INDIRECT(\"H\"&$A$1&\"!B2:AF2\"),DimFe,0))*IFERROR(IF(\"19:00\"<=IFERROR(Hgauche,0),IF(durée6<0,0,durée6),IF(durée<0,0,durée)),0))+SUMPRODUCT(ISNUMBER(MATCH(INDIRECT(\"H\"&$A$1&\"!B2:AF2\"),moindimfe,0))*IFERROR(IF(\"19:00\"<=IFERROR(Hgauche,0),IF(durée2<0,0,durée2),\"00:00\"),0))","v":0},{"$f":"SUM(SUMPRODUCT(1*IFERROR(IF(\"19:00\"<=IFERROR(Hgauche,0),IF(durée2<0,0,durée2),\"00:00\"),0)),SUMPRODUCT(1*IFERROR(IF(\"19:00\"<=IFERROR(Hgauche,0),IF(durée6<0,0,durée6),\"00:00\"),0)),SUMPRODUCT(1*IFERROR(IF(\"21:00\"<=IFERROR(Hdroitesimple,0),IF(durée<0,0,durée),\"00:00\"),0)))-durée5","v":0},null,0,{"$f":"VLOOKUP($A11,Bilan!$A$9:$AQ59,37,FALSE)","v":59.5},null,{"$f":"Bilan!AN11","v":65},65,null,0]
[{"$f":"Données!$H9","v":0},"","","","","","","","","","","","","","","","","","","","","","","","","","","00:00:00","00:00:00",null,{"$f":"SUMPRODUCT(ISNUMBER(MATCH(INDIRECT(\"H\"&$A$1&\"!B2:AF2\"),DimFe,0))*IFERROR(IF(\"19:00\">=IFERROR(Hgauche,0),IFERROR(hdroite-Hgauche,0),IF(durée1>0,durée1,\"00:00\")),0))+SUMPRODUCT(ISNUMBER(MATCH(INDIRECT(\"H\"&$A$1&\"!B2:AF2\"),moindimfe,0))*IFERROR(IF(\"19:00\"<=IFERROR(Hgauche,0),IF(durée4<0,0,durée4),\"00:00\"),0))","v":0},{"$f":"SUMPRODUCT(ISNUMBER(MATCH(INDIRECT(\"H\"&$A$1&\"!B2:AF2\"),DimFe,0))*IFERROR(IF(\"19:00\"<=IFERROR(Hgauche,0),IF(durée6<0,0,durée6),IF(durée<0,0,durée)),0))+SUMPRODUCT(ISNUMBER(MATCH(INDIRECT(\"H\"&$A$1&\"!B2:AF2\"),moindimfe,0))*IFERROR(IF(\"19:00\"<=IFERROR(Hgauche,0),IF(durée2<0,0,durée2),\"00:00\"),0))","v":0},{"$f":"SUM(SUMPRODUCT(1*IFERROR(IF(\"19:00\"<=IFERROR(Hgauche,0),IF(durée2<0,0,durée2),\"00:00\"),0)),SUMPRODUCT(1*IFERROR(IF(\"19:00\"<=IFERROR(Hgauche,0),IF(durée6<0,0,durée6),\"00:00\"),0)),SUMPRODUCT(1*IFERROR(IF(\"21:00\"<=IFERROR(Hdroitesimple,0),IF(durée<0,0,durée),\"00:00\"),0)))-durée5","v":0},null,0,{"$f":"VLOOKUP($A12,Bilan!$A$9:$AQ60,37,FALSE)","v":59.5},null,{"$f":"Bilan!AN12","v":65},65,null,0]
[{"$f":"Données!$H10","v":0},"","","","","","","","","","","","","","","","","","","","","","","","","","","00:00:00","00:00:00",null,{"$f":"SUMPRODUCT(ISNUMBER(MATCH(INDIRECT(\"H\"&$A$1&\"!B2:AF2\"),DimFe,0))*IFERROR(IF(\"19:00\">=IFERROR(Hgauche,0),IFERROR(hdroite-Hgauche,0),IF(durée1>0,durée1,\"00:00\")),0))+SUMPRODUCT(ISNUMBER(MATCH(INDIRECT(\"H\"&$A$1&\"!B2:AF2\"),moindimfe,0))*IFERROR(IF(\"19:00\"<=IFERROR(Hgauche,0),IF(durée4<0,0,durée4),\"00:00\"),0))","v":0},{"$f":"SUMPRODUCT(ISNUMBER(MATCH(INDIRECT(\"H\"&$A$1&\"!B2:AF2\"),DimFe,0))*IFERROR(IF(\"19:00\"<=IFERROR(Hgauche,0),IF(durée6<0,0,durée6),IF(durée<0,0,durée)),0))+SUMPRODUCT(ISNUMBER(MATCH(INDIRECT(\"H\"&$A$1&\"!B2:AF2\"),moindimfe,0))*IFERROR(IF(\"19:00\"<=IFERROR(Hgauche,0),IF(durée2<0,0,durée2),\"00:00\"),0))","v":0},{"$f":"SUM(SUMPRODUCT(1*IFERROR(IF(\"19:00\"<=IFERROR(Hgauche,0),IF(durée2<0,0,durée2),\"00:00\"),0)),SUMPRODUCT(1*IFERROR(IF(\"19:00\"<=IFERROR(Hgauche,0),IF(durée6<0,0,durée6),\"00:00\"),0)),SUMPRODUCT(1*IFERROR(IF(\"21:00\"<=IFERROR(Hdroitesimple,0),IF(durée<0,0,durée),\"00:00\"),0)))-durée5","v":0},null,0,{"$f":"VLOOKUP($A13,Bilan!$A$9:$AQ61,37,FALSE)","v":59.5},null,{"$f":"Bilan!AN13","v":65},65,null,0]
[{"$f":"Données!$H11","v":0},"","","","","","","","","","","","","","","","","","","","","","","","","","","00:00:00","00:00:00",null,{"$f":"SUMPRODUCT(ISNUMBER(MATCH(INDIRECT(\"H\"&$A$1&\"!B2:AF2\"),DimFe,0))*IFERROR(IF(\"19:00\">=IFERROR(Hgauche,0),IFERROR(hdroite-Hgauche,0),IF(durée1>0,durée1,\"00:00\")),0))+SUMPRODUCT(ISNUMBER(MATCH(INDIRECT(\"H\"&$A$1&\"!B2:AF2\"),moindimfe,0))*IFERROR(IF(\"19:00\"<=IFERROR(Hgauche,0),IF(durée4<0,0,durée4),\"00:00\"),0))","v":0},{"$f":"SUMPRODUCT(ISNUMBER(MATCH(INDIRECT(\"H\"&$A$1&\"!B2:AF2\"),DimFe,0))*IFERROR(IF(\"19:00\"<=IFERROR(Hgauche,0),IF(durée6<0,0,durée6),IF(durée<0,0,durée)),0))+SUMPRODUCT(ISNUMBER(MATCH(INDIRECT(\"H\"&$A$1&\"!B2:AF2\"),moindimfe,0))*IFERROR(IF(\"19:00\"<=IFERROR(Hgauche,0),IF(durée2<0,0,durée2),\"00:00\"),0))","v":0},{"$f":"SUM(SUMPRODUCT(1*IFERROR(IF(\"19:00\"<=IFERROR(Hgauche,0),IF(durée2<0,0,durée2),\"00:00\"),0)),SUMPRODUCT(1*IFERROR(IF(\"19:00\"<=IFERROR(Hgauche,0),IF(durée6<0,0,durée6),\"00:00\"),0)),SUMPRODUCT(1*IFERROR(IF(\"21:00\"<=IFERROR(Hdroitesimple,0),IF(durée<0,0,durée),\"00:00\"),0)))-durée5","v":0},null,0,{"$f":"VLOOKUP($A14,Bilan!$A$9:$AQ62,37,FALSE)","v":59.5},null,{"$f":"Bilan!AN14","v":65},65,null,0]
[{"$f":"Données!$H12","v":0},"","","","","","","","","","","","","","","","","","","","","","","","","","","00:00:00","00:00:00",null,{"$f":"SUMPRODUCT(ISNUMBER(MATCH(INDIRECT(\"H\"&$A$1&\"!B2:AF2\"),DimFe,0))*IFERROR(IF(\"19:00\">=IFERROR(Hgauche,0),IFERROR(hdroite-Hgauche,0),IF(durée1>0,durée1,\"00:00\")),0))+SUMPRODUCT(ISNUMBER(MATCH(INDIRECT(\"H\"&$A$1&\"!B2:AF2\"),moindimfe,0))*IFERROR(IF(\"19:00\"<=IFERROR(Hgauche,0),IF(durée4<0,0,durée4),\"00:00\"),0))","v":0},{"$f":"SUMPRODUCT(ISNUMBER(MATCH(INDIRECT(\"H\"&$A$1&\"!B2:AF2\"),DimFe,0))*IFERROR(IF(\"19:00\"<=IFERROR(Hgauche,0),IF(durée6<0,0,durée6),IF(durée<0,0,durée)),0))+SUMPRODUCT(ISNUMBER(MATCH(INDIRECT(\"H\"&$A$1&\"!B2:AF2\"),moindimfe,0))*IFERROR(IF(\"19:00\"<=IFERROR(Hgauche,0),IF(durée2<0,0,durée2),\"00:00\"),0))","v":0},{"$f":"SUM(SUMPRODUCT(1*IFERROR(IF(\"19:00\"<=IFERROR(Hgauche,0),IF(durée2<0,0,durée2),\"00:00\"),0)),SUMPRODUCT(1*IFERROR(IF(\"19:00\"<=IFERROR(Hgauche,0),IF(durée6<0,0,durée6),\"00:00\"),0)),SUMPRODUCT(1*IFERROR(IF(\"21:00\"<=IFERROR(Hdroitesimple,0),IF(durée<0,0,durée),\"00:00\"),0)))-durée5","v":0},null,0,{"$f":"VLOOKUP($A15,Bilan!$A$9:$AQ63,37,FALSE)","v":59.5},null,{"$f":"Bilan!AN15","v":65},65,null,0]
[{"$f":"Données!$H13","v":0},"","","","","","","","","","","","","","","","","","","","","","","","","","","00:00:00","00:00:00",null,{"$f":"SUMPRODUCT(ISNUMBER(MATCH(INDIRECT(\"H\"&$A$1&\"!B2:AF2\"),DimFe,0))*IFERROR(IF(\"19:00\">=IFERROR(Hgauche,0),IFERROR(hdroite-Hgauche,0),IF(durée1>0,durée1,\"00:00\")),0))+SUMPRODUCT(ISNUMBER(MATCH(INDIRECT(\"H\"&$A$1&\"!B2:AF2\"),moindimfe,0))*IFERROR(IF(\"19:00\"<=IFERROR(Hgauche,0),IF(durée4<0,0,durée4),\"00:00\"),0))","v":0},{"$f":"SUMPRODUCT(ISNUMBER(MATCH(INDIRECT(\"H\"&$A$1&\"!B2:AF2\"),DimFe,0))*IFERROR(IF(\"19:00\"<=IFERROR(Hgauche,0),IF(durée6<0,0,durée6),IF(durée<0,0,durée)),0))+SUMPRODUCT(ISNUMBER(MATCH(INDIRECT(\"H\"&$A$1&\"!B2:AF2\"),moindimfe,0))*IFERROR(IF(\"19:00\"<=IFERROR(Hgauche,0),IF(durée2<0,0,durée2),\"00:00\"),0))","v":0},{"$f":"SUM(SUMPRODUCT(1*IFERROR(IF(\"19:00\"<=IFERROR(Hgauche,0),IF(durée2<0,0,durée2),\"00:00\"),0)),SUMPRODUCT(1*IFERROR(IF(\"19:00\"<=IFERROR(Hgauche,0),IF(durée6<0,0,durée6),\"00:00\"),0)),SUMPRODUCT(1*IFERROR(IF(\"21:00\"<=IFERROR(Hdroitesimple,0),IF(durée<0,0,durée),\"00:00\"),0)))-durée5","v":0},null,0,{"$f":"VLOOKUP($A16,Bilan!$A$9:$AQ64,37,FALSE)","v":59.5},null,{"$f":"Bilan!AN16","v":65},65,null,0]
[{"$f":"Données!$H14","v":0},"","","","","","","","","","","","","","","","","","","","","","","","","","","00:00:00","00:00:00",null,{"$f":"SUMPRODUCT(ISNUMBER(MATCH(INDIRECT(\"H\"&$A$1&\"!B2:AF2\"),DimFe,0))*IFERROR(IF(\"19:00\">=IFERROR(Hgauche,0),IFERROR(hdroite-Hgauche,0),IF(durée1>0,durée1,\"00:00\")),0))+SUMPRODUCT(ISNUMBER(MATCH(INDIRECT(\"H\"&$A$1&\"!B2:AF2\"),moindimfe,0))*IFERROR(IF(\"19:00\"<=IFERROR(Hgauche,0),IF(durée4<0,0,durée4),\"00:00\"),0))","v":0},{"$f":"SUMPRODUCT(ISNUMBER(MATCH(INDIRECT(\"H\"&$A$1&\"!B2:AF2\"),DimFe,0))*IFERROR(IF(\"19:00\"<=IFERROR(Hgauche,0),IF(durée6<0,0,durée6),IF(durée<0,0,durée)),0))+SUMPRODUCT(ISNUMBER(MATCH(INDIRECT(\"H\"&$A$1&\"!B2:AF2\"),moindimfe,0))*IFERROR(IF(\"19:00\"<=IFERROR(Hgauche,0),IF(durée2<0,0,durée2),\"00:00\"),0))","v":0},{"$f":"SUM(SUMPRODUCT(1*IFERROR(IF(\"19:00\"<=IFERROR(Hgauche,0),IF(durée2<0,0,durée2),\"00:00\"),0)),SUMPRODUCT(1*IFERROR(IF(\"19:00\"<=IFERROR(Hgauche,0),IF(durée6<0,0,durée6),\"00:00\"),0)),SUMPRODUCT(1*IFERROR(IF(\"21:00\"<=IFERROR(Hdroitesimple,0),IF(durée<0,0,durée),\"00:00\"),0)))-durée5","v":0},null,0,{"$f":"VLOOKUP($A17,Bilan!$A$9:$AQ65,37,FALSE)","v":59.5},null,{"$f":"Bilan!AN17","v":65},65,null,0]
[{"$f":"Données!$H15","v":0},"","","","","","","","","","","","","","","","","","","","","","","","","","","00:00:00","00:00:00",null,{"$f":"SUMPRODUCT(ISNUMBER(MATCH(INDIRECT(\"H\"&$A$1&\"!B2:AF2\"),DimFe,0))*IFERROR(IF(\"19:00\">=IFERROR(Hgauche,0),IFERROR(hdroite-Hgauche,0),IF(durée1>0,durée1,\"00:00\")),0))+SUMPRODUCT(ISNUMBER(MATCH(INDIRECT(\"H\"&$A$1&\"!B2:AF2\"),moindimfe,0))*IFERROR(IF(\"19:00\"<=IFERROR(Hgauche,0),IF(durée4<0,0,durée4),\"00:00\"),0))","v":0},{"$f":"SUMPRODUCT(ISNUMBER(MATCH(INDIRECT(\"H\"&$A$1&\"!B2:AF2\"),DimFe,0))*IFERROR(IF(\"19:00\"<=IFERROR(Hgauche,0),IF(durée6<0,0,durée6),IF(durée<0,0,durée)),0))+SUMPRODUCT(ISNUMBER(MATCH(INDIRECT(\"H\"&$A$1&\"!B2:AF2\"),moindimfe,0))*IFERROR(IF(\"19:00\"<=IFERROR(Hgauche,0),IF(durée2<0,0,durée2),\"00:00\"),0))","v":0},{"$f":"SUM(SUMPRODUCT(1*IFERROR(IF(\"19:00\"<=IFERROR(Hgauche,0),IF(durée2<0,0,durée2),\"00:00\"),0)),SUMPRODUCT(1*IFERROR(IF(\"19:00\"<=IFERROR(Hgauche,0),IF(durée6<0,0,durée6),\"00:00\"),0)),SUMPRODUCT(1*IFERROR(IF(\"21:00\"<=IFERROR(Hdroitesimple,0),IF(durée<0,0,durée),\"00:00\"),0)))-durée5","v":0},null,0,{"$f":"VLOOKUP($A18,Bilan!$A$9:$AQ66,37,FALSE)","v":59.5},null,{"$f":"Bilan!AN18","v":65},65,null,0]
[{"$f":"Données!$H16","v":0},{"$f":"SUMPRODUCT((INDIRECT(\"'\"&$A$1&\"'!$A$7:$A$56\")=$A19)*(INDIRECT(\"'\"&$A$1&\"'!$B$7:$AF$56\")=B$7))","v":0},0,0,0,0,0,0,0,0,0,0,0,0,0,0,0,{"$f":"SUMPRODUCT((INDIRECT(\"'\"&$A$1&\"'!$A$7:$A$56\")=$A19)*(INDIRECT(\"'\"&$A$1&\"'!$B$7:$AF$56\")=R$7))","v":0},0,0,0,0,0,0,0,0,0,{"$f":"VLOOKUP($A19,INDIRECT(\"'H\"&$A$1&\"'!$A$7:$AR$56\"),35,0)","v":"00:00:00"},{"$f":"VLOOKUP($A19,INDIRECT(\"'H\"&$A$1&\"'!$A$7:$AR$56\"),38,0)","v":"00:00:00"},null,{"$f":"SUMPRODUCT(ISNUMBER(MATCH(INDIRECT(\"H\"&$A$1&\"!B2:AF2\"),DimFe,0))*IFERROR(IF(\"19:00\">=IFERROR(Hgauche,0),IFERROR(hdroite-Hgauche,0),IF(durée1>0,durée1,\"00:00\")),0))+SUMPRODUCT(ISNUMBER(MATCH(INDIRECT(\"H\"&$A$1&\"!B2:AF2\"),moindimfe,0))*IFERROR(IF(\"19:00\"<=IFERROR(Hgauche,0),IF(durée4<0,0,durée4),\"00:00\"),0))","v":0},{"$f":"SUMPRODUCT(ISNUMBER(MATCH(INDIRECT(\"H\"&$A$1&\"!B2:AF2\"),DimFe,0))*IFERROR(IF(\"19:00\"<=IFERROR(Hgauche,0),IF(durée6<0,0,durée6),IF(durée<0,0,durée)),0))+SUMPRODUCT(ISNUMBER(MATCH(INDIRECT(\"H\"&$A$1&\"!B2:AF2\"),moindimfe,0))*IFERROR(IF(\"19:00\"<=IFERROR(Hgauche,0),IF(durée2<0,0,durée2),\"00:00\"),0))","v":0},{"$f":"SUMPRODUCT(1*IF(durée<0,0,durée))+SUMPRODUCT(1*IFERROR(IF(\"19:00\"<=IFERROR(Hgauche,0),IF(durée2<0,0,durée2),\"00:00\"),0))-durée5","v":0},null,{"$f":"(AB19/24)+SUMPRODUCT(($B$6:$AA$6)*(B19:AA19))","v":0},{"$f":"VLOOKUP($A19,Bilan!A19:AI67,35,FALSE)","v":0},null,{"$f":"Bilan!AN19","v":{"$error":"#VALUE!"}},65,null,{"$f":"SUM(B19:R19)","v":0},null,null,null,null,null,null,null,null,null,null,null,null,null,null,null,null,null,null,null,null,null,null,null,{"$f":"Données!$A14","v":"N"},{"$f":"Données!$B14","v":0.85416666666666663}]
[{"$f":"Données!$H17","v":0},0,0,0,0,0,0,0,0,0,0,0,0,0,0,0,0,0,0,0,0,0,0,0,0,0,0,"00:00:00","00:00:00",null,{"$f":"SUMPRODUCT(ISNUMBER(MATCH(INDIRECT(\"H\"&$A$1&\"!B2:AF2\"),DimFe,0))*IFERROR(IF(\"19:00\">=IFERROR(Hgauche,0),IFERROR(hdroite-Hgauche,0),IF(durée1>0,durée1,\"00:00\")),0))+SUMPRODUCT(ISNUMBER(MATCH(INDIRECT(\"H\"&$A$1&\"!B2:AF2\"),moindimfe,0))*IFERROR(IF(\"19:00\"<=IFERROR(Hgauche,0),IF(durée4<0,0,durée4),\"00:00\"),0))","v":0},{"$f":"SUMPRODUCT(ISNUMBER(MATCH(INDIRECT(\"H\"&$A$1&\"!B2:AF2\"),DimFe,0))*IFERROR(IF(\"19:00\"<=IFERROR(Hgauche,0),IF(durée6<0,0,durée6),IF(durée<0,0,durée)),0))+SUMPRODUCT(ISNUMBER(MATCH(INDIRECT(\"H\"&$A$1&\"!B2:AF2\"),moindimfe,0))*IFERROR(IF(\"19:00\"<=IFERROR(Hgauche,0),IF(durée2<0,0,durée2),\"00:00\"),0))","v":0},{"$f":"SUMPRODUCT(1*IF(durée<0,0,durée))+SUMPRODUCT(1*IFERROR(IF(\"19:00\"<=IFERROR(Hgauche,0),IF(durée2<0,0,durée2),\"00:00\"),0))-durée5","v":0},null,0,{"$f":"VLOOKUP($A20,Bilan!A20:AI68,35,FALSE)","v":0},null,{"$f":"Bilan!AN20","v":{"$error":"#VALUE!"}},65,null,0,null,null,null,null,null,null,null,null,null,null,null,null,null,null,null,null,null,null,null,null,null,null,null,{"$f":"Données!$A15","v":"N+"},{"$f":"Données!$B15","v":0.80208333333333337}]
[{"$f":"Données!$H18","v":0},0,0,0,0,0,0,0,0,0,0,0,0,0,0,0,0,0,0,0,0,0,0,0,0,0,0,"00:00:00","00:00:00",null,{"$f":"SUMPRODUCT(ISNUMBER(MATCH(INDIRECT(\"H\"&$A$1&\"!B2:AF2\"),DimFe,0))*IFERROR(IF(\"19:00\">=IFERROR(Hgauche,0),IFERROR(hdroite-Hgauche,0),IF(durée1>0,durée1,\"00:00\")),0))+SUMPRODUCT(ISNUMBER(MATCH(INDIRECT(\"H\"&$A$1&\"!B2:AF2\"),moindimfe,0))*IFERROR(IF(\"19:00\"<=IFERROR(Hgauche,0),IF(durée4<0,0,durée4),\"00:00\"),0))","v":0},{"$f":"SUMPRODUCT(ISNUMBER(MATCH(INDIRECT(\"H\"&$A$1&\"!B2:AF2\"),DimFe,0))*IFERROR(IF(\"19:00\"<=IFERROR(Hgauche,0),IF(durée6<0,0,durée6),IF(durée<0,0,durée)),0))+SUMPRODUCT(ISNUMBER(MATCH(INDIRECT(\"H\"&$A$1&\"!B2:AF2\"),moindimfe,0))*IFERROR(IF(\"19:00\"<=IFERROR(Hgauche,0),IF(durée2<0,0,durée2),\"00:00\"),0))","v":0},{"$f":"SUMPRODUCT(1*IF(durée<0,0,durée))+SUMPRODUCT(1*IFERROR(IF(\"19:00\"<=IFERROR(Hgauche,0),IF(durée2<0,0,durée2),\"00:00\"),0))-durée5","v":0},null,0,{"$f":"VLOOKUP($A21,Bilan!A21:AI69,35,FALSE)","v":0},null,{"$f":"Bilan!AN21","v":{"$error":"#VALUE!"}},65,null,0,null,null,null,null,null,null,null,null,null,null,null,null,null,null,null,null,null,null,null,null,null,null,null,{"$f":"Données!$A16","v":"NS"},{"$f":"Données!$B16","v":0.80208333333333337}]
[{"$f":"Données!$H19","v":0},0,0,0,0,0,0,0,0,0,0,0,0,0,0,0,0,0,0,0,0,0,0,0,0,0,0,"00:00:00","00:00:00",null,{"$f":"SUMPRODUCT(ISNUMBER(MATCH(INDIRECT(\"H\"&$A$1&\"!B2:AF2\"),DimFe,0))*IFERROR(IF(\"19:00\">=IFERROR(Hgauche,0),IFERROR(hdroite-Hgauche,0),IF(durée1>0,durée1,\"00:00\")),0))+SUMPRODUCT(ISNUMBER(MATCH(INDIRECT(\"H\"&$A$1&\"!B2:AF2\"),moindimfe,0))*IFERROR(IF(\"19:00\"<=IFERROR(Hgauche,0),IF(durée4<0,0,durée4),\"00:00\"),0))","v":0},{"$f":"SUMPRODUCT(ISNUMBER(MATCH(INDIRECT(\"H\"&$A$1&\"!B2:AF2\"),DimFe,0))*IFERROR(IF(\"19:00\"<=IFERROR(Hgauche,0),IF(durée6<0,0,durée6),IF(durée<0,0,durée)),0))+SUMPRODUCT(ISNUMBER(MATCH(INDIRECT(\"H\"&$A$1&\"!B2:AF2\"),moindimfe,0))*IFERROR(IF(\"19:00\"<=IFERROR(Hgauche,0),IF(durée2<0,0,durée2),\"00:00\"),0))","v":0},{"$f":"SUMPRODUCT(1*IF(durée<0,0,durée))+SUMPRODUCT(1*IFERROR(IF(\"19:00\"<=IFERROR(Hgauche,0),IF(durée2<0,0,durée2),\"00:00\"),0))-durée5","v":0},null,0,{"$f":"VLOOKUP($A22,Bilan!A22:AI70,35,FALSE)","v":0},null,{"$f":"Bilan!AN22","v":{"$error":"#VALUE!"}},65,null,0,null,null,null,null,null,null,null,null,null,null,null,null,null,null,null,null,null,null,null,null,null,null,null,{"$f":"Données!$A17","v":"T"},{"$f":"Données!$B17","v":"T"}]
[{"$f":"Données!$H20","v":0},0,0,0,0,0,0,0,0,0,0,0,0,0,0,0,0,0,0,0,0,0,0,0,0,0,0,"00:00:00","00:00:00",null,{"$f":"SUMPRODUCT(ISNUMBER(MATCH(INDIRECT(\"H\"&$A$1&\"!B2:AF2\"),DimFe,0))*IFERROR(IF(\"19:00\">=IFERROR(Hgauche,0),IFERROR(hdroite-Hgauche,0),IF(durée1>0,durée1,\"00:00\")),0))+SUMPRODUCT(ISNUMBER(MATCH(INDIRECT(\"H\"&$A$1&\"!B2:AF2\"),moindimfe,0))*IFERROR(IF(\"19:00\"<=IFERROR(Hgauche,0),IF(durée4<0,0,durée4),\"00:00\"),0))","v":0},{"$f":"SUMPRODUCT(ISNUMBER(MATCH(INDIRECT(\"H\"&$A$1&\"!B2:AF2\"),DimFe,0))*IFERROR(IF(\"19:00\"<=IFERROR(Hgauche,0),IF(durée6<0,0,durée6),IF(durée<0,0,durée)),0))+SUMPRODUCT(ISNUMBER(MATCH(INDIRECT(\"H\"&$A$1&\"!B2:AF2\"),moindimfe,0))*IFERROR(IF(\"19:00\"<=IFERROR(Hgauche,0),IF(durée2<0,0,durée2),\"00:00\"),0))","v":0},{"$f":"SUMPRODUCT(1*IF(durée<0,0,durée))+SUMPRODUCT(1*IFERROR(IF(\"19:00\"<=IFERROR(Hgauche,0),IF(durée2<0,0,durée2),\"00:00\"),0))-durée5","v":0},null,0,{"$f":"VLOOKUP($A23,Bilan!A23:AI71,35,FALSE)","v":0},null,{"$f":"Bilan!AN23","v":{"$error":"#VALUE!"}},65,null,0,null,null,null,null,null,null,null,null,null,null,null,null,null,null,null,null,null,null,null,null,null,null,null,{"$f":"Données!$A18","v":"F"},{"$f":"Données!$B18","v":"F"}]
[{"$f":"Données!$H21","v":0},0,0,0,0,0,0,0,0,0,0,0,0,0,0,0,0,0,0,0,0,0,0,0,0,0,0,"00:00:00","00:00:00",null,{"$f":"SUMPRODUCT(ISNUMBER(MATCH(INDIRECT(\"H\"&$A$1&\"!B2:AF2\"),DimFe,0))*IFERROR(IF(\"19:00\">=IFERROR(Hgauche,0),IFERROR(hdroite-Hgauche,0),IF(durée1>0,durée1,\"00:00\")),0))+SUMPRODUCT(ISNUMBER(MATCH(INDIRECT(\"H\"&$A$1&\"!B2:AF2\"),moindimfe,0))*IFERROR(IF(\"19:00\"<=IFERROR(Hgauche,0),IF(durée4<0,0,durée4),\"00:00\"),0))","v":0},{"$f":"SUMPRODUCT(ISNUMBER(MATCH(INDIRECT(\"H\"&$A$1&\"!B2:AF2\"),DimFe,0))*IFERROR(IF(\"19:00\"<=IFERROR(Hgauche,0),IF(durée6<0,0,durée6),IF(durée<0,0,durée)),0))+SUMPRODUCT(ISNUMBER(MATCH(INDIRECT(\"H\"&$A$1&\"!B2:AF2\"),moindimfe,0))*IFERROR(IF(\"19:00\"<=IFERROR(Hgauche,0),IF(durée2<0,0,durée2),\"00:00\"),0))","v":0},{"$f":"SUMPRODUCT(1*IF(durée<0,0,durée))+SUMPRODUCT(1*IFERROR(IF(\"19:00\"<=IFERROR(Hgauche,0),IF(durée2<0,0,durée2),\"00:00\"),0))-durée5","v":0},null,0,{"$f":"VLOOKUP($A24,Bilan!A24:AI72,35,FALSE)","v":0},null,{"$f":"Bilan!AN24","v":{"$error":"#VALUE!"}},65,null,0,null,null,null,null,null,null,null,null,null,null,null,null,null,null,null,null,null,null,null,null,null,null,null,{"$f":"Données!$A19","v":"SYN"},{"$f":"Données!$B19","v":"Syn"}]
[{"$f":"Données!$H22","v":"Equipe de nuit"}]
[{"$f":"Données!$H23","v":"K"},{"$f":"IF(SUMPRODUCT((INDIRECT(\"'\"&$A$1&\"'!$A$7:$A$56\")=$A26)*(INDIRECT(\"'\"&$A$1&\"'!$B$7:$AF$56\")=B$7))=0,\"\",SUMPRODUCT((INDIRECT(\"'\"&$A$1&\"'!$A$7:$A$56\")=$A26)*(INDIRECT(\"'\"&$A$1&\"'!$B$7:$AF$56\")=B$7)))","v":""},"","","","","","","","","","","","","","","",{"$f":"IF(SUMPRODUCT((INDIRECT(\"'\"&$A$1&\"'!$A$7:$A$56\")=$A26)*(INDIRECT(\"'\"&$A$1&\"'!$B$7:$AF$56\")=R$7))=0,\"\",SUMPRODUCT((INDIRECT(\"'\"&$A$1&\"'!$A$7:$A$56\")=$A26)*(INDIRECT(\"'\"&$A$1&\"'!$B$7:$AF$56\")=R$7)))","v":""},"","","","","","","","","",{"$f":"VLOOKUP($A26,INDIRECT(\"'\"&$A$1&\"'!$A$7:$AR$56\"),35,0)","v":"00:00:00"},{"$f":"VLOOKUP($A26,INDIRECT(\"'\"&$A$1&\"'!$A$7:$AR$56\"),36,0)","v":"00:00:00"},null,{"$f":"SUMPRODUCT(ISNUMBER(MATCH(INDIRECT(\"H\"&$A$1&\"!B2:AF2\"),DimFe,0))*IFERROR(IF(\"19:00\">=IFERROR(Hgauche,0),IFERROR(hdroite-Hgauche,0),IF(durée1>0,durée1,\"00:00\")),0))+SUMPRODUCT(ISNUMBER(MATCH(INDIRECT(\"H\"&$A$1&\"!B2:AF2\"),moindimfe,0))*IFERROR(IF(\"19:00\"<=IFERROR(Hgauche,0),IF(durée4<0,0,durée4),\"00:00\"),0))","v":0},{"$f":"SUMPRODUCT(ISNUMBER(MATCH(INDIRECT(\"H\"&$A$1&\"!B2:AF2\"),DimFe,0))*IFERROR(IF(\"19:00\"<=IFERROR(Hgauche,0),IF(durée6<0,0,durée6),IF(durée<0,0,durée)),0))+SUMPRODUCT(ISNUMBER(MATCH(INDIRECT(\"H\"&$A$1&\"!B2:AF2\"),moindimfe,0))*IFERROR(IF(\"19:00\"<=IFERROR(Hgauche,0),IF(durée2<0,0,durée2),\"00:00\"),0))","v":0},{"$f":"SUM(SUMPRODUCT(1*IFERROR(IF(\"19:00\"<=IFERROR(Hgauche,0),IF(durée2<0,0,durée2),\"00:00\"),0)),SUMPRODUCT(1*IFERROR(IF(\"19:00\"<=IFERROR(Hgauche,0),IF(durée6<0,0,durée6),\"00:00\"),0)),SUMPRODUCT(1*IFERROR(IF(\"21:00\"<=IFERROR(Hdroitesimple,0),IF(durée<0,0,durée),\"00:00\"),0)))-durée5","v":0},null,{"$f":"bilanh","v":0},{"$f":"VLOOKUP($A26,Bilan!$A$9:$AQ74,37,FALSE)","v":57.958333333333336},null,{"$f":"Bilan!AN26","v":65},65,null,{"$f":"Jourtravaillé","v":0}]
[{"$f":"Données!$H24","v":0},"","","","","","","","","","","","","","","","","","","","","","","","","","",{"$f":"VLOOKUP($A27,INDIRECT(\"'\"&$A$1&\"'!$A$7:$AR$56\"),35,0)","v":"00:00:00"},{"$f":"VLOOKUP($A27,INDIRECT(\"'\"&$A$1&\"'!$A$7:$AR$56\"),36,0)","v":"00:00:00"},null,{"$f":"SUMPRODUCT(ISNUMBER(MATCH(INDIRECT(\"H\"&$A$1&\"!B2:AF2\"),DimFe,0))*IFERROR(IF(\"19:00\">=IFERROR(Hgauche,0),IFERROR(hdroite-Hgauche,0),IF(durée1>0,durée1,\"00:00\")),0))+SUMPRODUCT(ISNUMBER(MATCH(INDIRECT(\"H\"&$A$1&\"!B2:AF2\"),moindimfe,0))*IFERROR(IF(\"19:00\"<=IFERROR(Hgauche,0),IF(durée4<0,0,durée4),\"00:00\"),0))","v":0},{"$f":"SUMPRODUCT(ISNUMBER(MATCH(INDIRECT(\"H\"&$A$1&\"!B2:AF2\"),DimFe,0))*IFERROR(IF(\"19:00\"<=IFERROR(Hgauche,0),IF(durée6<0,0,durée6),IF(durée<0,0,durée)),0))+SUMPRODUCT(ISNUMBER(MATCH(INDIRECT(\"H\"&$A$1&\"!B2:AF2\"),moindimfe,0))*IFERROR(IF(\"19:00\"<=IFERROR(Hgauche,0),IF(durée2<0,0,durée2),\"00:00\"),0))","v":0},{"$f":"SUM(SUMPRODUCT(1*IFERROR(IF(\"19:00\"<=IFERROR(Hgauche,0),IF(durée2<0,0,durée2),\"00:00\"),0)),SUMPRODUCT(1*IFERROR(IF(\"19:00\"<=IFERROR(Hgauche,0),IF(durée6<0,0,durée6),\"00:00\"),0)),SUMPRODUCT(1*IFERROR(IF(\"21:00\"<=IFERROR(Hdroitesimple,0),IF(durée<0,0,durée),\"00:00\"),0)))-durée5","v":0},null,{"$f":"bilanh","v":0},{"$f":"VLOOKUP($A27,Bilan!$A$9:$AQ75,37,FALSE)","v":59.5},null,{"$f":"Bilan!AN27","v":65},65,null,{"$f":"Jourtravaillé","v":0}]
[{"$f":"Données!$H25","v":0},"","","","","","","","","","","","","","","","","","","","","","","","","","",{"$f":"VLOOKUP($A28,INDIRECT(\"'\"&$A$1&\"'!$A$7:$AR$56\"),35,0)","v":"00:00:00"},{"$f":"VLOOKUP($A28,INDIRECT(\"'\"&$A$1&\"'!$A$7:$AR$56\"),36,0)","v":"00:00:00"},null,{"$f":"SUMPRODUCT(ISNUMBER(MATCH(INDIRECT(\"H\"&$A$1&\"!B2:AF2\"),DimFe,0))*IFERROR(IF(\"19:00\">=IFERROR(Hgauche,0),IFERROR(hdroite-Hgauche,0),IF(durée1>0,durée1,\"00:00\")),0))+SUMPRODUCT(ISNUMBER(MATCH(INDIRECT(\"H\"&$A$1&\"!B2:AF2\"),moindimfe,0))*IFERROR(IF(\"19:00\"<=IFERROR(Hgauche,0),IF(durée4<0,0,durée4),\"00:00\"),0))","v":0},{"$f":"SUMPRODUCT(ISNUMBER(MATCH(INDIRECT(\"H\"&$A$1&\"!B2:AF2\"),DimFe,0))*IFERROR(IF(\"19:00\"<=IFERROR(Hgauche,0),IF(durée6<0,0,durée6),IF(durée<0,0,durée)),0))+SUMPRODUCT(ISNUMBER(MATCH(INDIRECT(\"H\"&$A$1&\"!B2:AF2\"),moindimfe,0))*IFERROR(IF(\"19:00\"<=IFERROR(Hgauche,0),IF(durée2<0,0,durée2),\"00:00\"),0))","v":0},{"$f":"SUM(SUMPRODUCT(1*IFERROR(IF(\"19:00\"<=IFERROR(Hgauche,0),IF(durée2<0,0,durée2),\"00:00\"),0)),SUMPRODUCT(1*IFERROR(IF(\"19:00\"<=IFERROR(Hgauche,0),IF(durée6<0,0,durée6),\"00:00\"),0)),SUMPRODUCT(1*IFERROR(IF(\"21:00\"<=IFERROR(Hdroitesimple,0),IF(durée<0,0,durée),\"00:00\"),0)))-durée5","v":0},null,{"$f":"bilanh","v":0},{"$f":"VLOOKUP($A28,Bilan!$A$9:$AQ76,37,FALSE)","v":59.5},null,{"$f":"Bilan!AN28","v":65},65,null,{"$f":"Jourtravaillé","v":0}]
[{"$f":"Données!$H26","v":0},{"$f":"SUMPRODUCT((INDIRECT(\"'\"&$A$1&\"'!$A$7:$A$56\")=$A29)*(INDIRECT(\"'\"&$A$1&\"'!$B$7:$AF$56\")=B$7))","v":0},0,0,0,0,0,0,0,0,0,0,0,0,0,0,0,{"$f":"SUMPRODUCT((INDIRECT(\"'\"&$A$1&\"'!$A$7:$A$56\")=$A29)*(INDIRECT(\"'\"&$A$1&\"'!$B$7:$AF$56\")=R$7))","v":0},0,0,0,0,0,0,0,0,0,{"$f":"VLOOKUP($A29,INDIRECT(\"'H\"&$A$1&\"'!$A$7:$AR$56\"),35,0)","v":"00:00:00"},{"$f":"VLOOKUP($A29,INDIRECT(\"'H\"&$A$1&\"'!$A$7:$AR$56\"),38,0)","v":"00:00:00"},null,{"$f":"SUMPRODUCT(ISNUMBER(MATCH(INDIRECT(\"H\"&$A$1&\"!B2:AF2\"),DimFe,0))*IFERROR(IF(\"19:00\">=IFERROR(Hgauche,0),IFERROR(hdroite-Hgauche,0),IF(durée1>0,durée1,\"00:00\")),0))+SUMPRODUCT(ISNUMBER(MATCH(INDIRECT(\"H\"&$A$1&\"!B2:AF2\"),moindimfe,0))*IFERROR(IF(\"19:00\"<=IFERROR(Hgauche,0),IF(durée4<0,0,durée4),\"00:00\"),0))","v":0},{"$f":"SUMPRODUCT(ISNUMBER(MATCH(INDIRECT(\"H\"&$A$1&\"!B2:AF2\"),DimFe,0))*IFERROR(IF(\"19:00\"<=IFERROR(Hgauche,0),IF(durée6<0,0,durée6),IF(durée<0,0,durée)),0))+SUMPRODUCT(ISNUMBER(MATCH(INDIRECT(\"H\"&$A$1&\"!B2:AF2\"),moindimfe,0))*IFERROR(IF(\"19:00\"<=IFERROR(Hgauche,0),IF(durée2<0,0,durée2),\"00:00\"),0))","v":0},{"$f":"SUMPRODUCT(1*IF(durée<0,0,durée))+SUMPRODUCT(1*IFERROR(IF(\"19:00\"<=IFERROR(Hgauche,0),IF(durée2<0,0,durée2),\"00:00\"),0))-durée5","v":0},null,{"$f":"(AB29/24)+SUMPRODUCT(($B$6:$AA$6)*(B29:AA29))","v":0},{"$f":"VLOOKUP($A29,Bilan!A29:AI77,35,FALSE)","v":0},null,{"$f":"Bilan!AN29","v":{"$error":"#VALUE!"}},65,null,{"$f":"SUM(B29:R29)","v":0},null,null,null,null,null,null,null,null,null,null,null,null,null,null,null,null,null,null,null,null,null,null,null,{"$f":"Données!$A24","v":"CA"},{"$f":"Données!$B24","v":"CA"}]
[{"$f":"Données!$H27","v":0},0,0,0,0,0,0,0,0,0,0,0,0,0,0,0,0,0,0,0,0,0,0,0,0,0,0,"00:00:00","00:00:00",null,{"$f":"SUMPRODUCT(ISNUMBER(MATCH(INDIRECT(\"H\"&$A$1&\"!B2:AF2\"),DimFe,0))*IFERROR(IF(\"19:00\">=IFERROR(Hgauche,0),IFERROR(hdroite-Hgauche,0),IF(durée1>0,durée1,\"00:00\")),0))+SUMPRODUCT(ISNUMBER(MATCH(INDIRECT(\"H\"&$A$1&\"!B2:AF2\"),moindimfe,0))*IFERROR(IF(\"19:00\"<=IFERROR(Hgauche,0),IF(durée4<0,0,durée4),\"00:00\"),0))","v":0},{"$f":"SUMPRODUCT(ISNUMBER(MATCH(INDIRECT(\"H\"&$A$1&\"!B2:AF2\"),DimFe,0))*IFERROR(IF(\"19:00\"<=IFERROR(Hgauche,0),IF(durée6<0,0,durée6),IF(durée<0,0,durée)),0))+SUMPRODUCT(ISNUMBER(MATCH(INDIRECT(\"H\"&$A$1&\"!B2:AF2\"),moindimfe,0))*IFERROR(IF(\"19:00\"<=IFERROR(Hgauche,0),IF(durée2<0,0,durée2),\"00:00\"),0))","v":0},{"$f":"SUMPRODUCT(1*IF(durée<0,0,durée))+SUMPRODUCT(1*IFERROR(IF(\"19:00\"<=IFERROR(Hgauche,0),IF(durée2<0,0,durée2),\"00:00\"),0))-durée5","v":0},null,0,{"$f":"VLOOKUP($A30,Bilan!A30:AI78,35,FALSE)","v":0},null,{"$f":"Bilan!AN30","v":{"$error":"#VALUE!"}},65,null,0,null,null,null,null,null,null,null,null,null,null,null,null,null,null,null,null,null,null,null,null,null,null,null,{"$f":"Données!$A25","v":"CA16"},{"$f":"Données!$B25","v":"CA16"}]
[{"$f":"Données!$H28","v":0},0,0,0,0,0,0,0,0,0,0,0,0,0,0,0,0,0,0,0,0,0,0,0,0,0,0,"00:00:00","00:00:00",null,{"$f":"SUMPRODUCT(ISNUMBER(MATCH(INDIRECT(\"H\"&$A$1&\"!B2:AF2\"),DimFe,0))*IFERROR(IF(\"19:00\">=IFERROR(Hgauche,0),IFERROR(hdroite-Hgauche,0),IF(durée1>0,durée1,\"00:00\")),0))+SUMPRODUCT(ISNUMBER(MATCH(INDIRECT(\"H\"&$A$1&\"!B2:AF2\"),moindimfe,0))*IFERROR(IF(\"19:00\"<=IFERROR(Hgauche,0),IF(durée4<0,0,durée4),\"00:00\"),0))","v":0},{"$f":"SUMPRODUCT(ISNUMBER(MATCH(INDIRECT(\"H\"&$A$1&\"!B2:AF2\"),DimFe,0))*IFERROR(IF(\"19:00\"<=IFERROR(Hgauche,0),IF(durée6<0,0,durée6),IF(durée<0,0,durée)),0))+SUMPRODUCT(ISNUMBER(MATCH(INDIRECT(\"H\"&$A$1&\"!B2:AF2\"),moindimfe,0))*IFERROR(IF(\"19:00\"<=IFERROR(Hgauche,0),IF(durée2<0,0,durée2),\"00:00\"),0))","v":0},{"$f":"SUMPRODUCT(1*IF(durée<0,0,durée))+SUMPRODUCT(1*IFERROR(IF(\"19:00\"<=IFERROR(Hgauche,0),IF(durée2<0,0,durée2),\"00:00\"),0))-durée5","v":0},null,0,{"$f":"VLOOKUP($A31,Bilan!A31:AI79,35,FALSE)","v":0},null,{"$f":"Bilan!AN31","v":{"$error":"#VALUE!"}},65,null,0,null,null,null,null,null,null,null,null,null,null,null,null,null,null,null,null,null,null,null,null,null,null,null,{"$f":"Données!$A26","v":"REC"},{"$f":"Données!$B26","v":"REC"}]
[{"$f":"Données!$H29","v":0},0,0,0,0,0,0,0,0,0,0,0,0,0,0,0,0,0,0,0,0,0,0,0,0,0,0,"00:00:00","00:00:00",null,{"$f":"SUMPRODUCT(ISNUMBER(MATCH(INDIRECT(\"H\"&$A$1&\"!B2:AF2\"),DimFe,0))*IFERROR(IF(\"19:00\">=IFERROR(Hgauche,0),IFERROR(hdroite-Hgauche,0),IF(durée1>0,durée1,\"00:00\")),0))+SUMPRODUCT(ISNUMBER(MATCH(INDIRECT(\"H\"&$A$1&\"!B2:AF2\"),moindimfe,0))*IFERROR(IF(\"19:00\"<=IFERROR(Hgauche,0),IF(durée4<0,0,durée4),\"00:00\"),0))","v":0},{"$f":"SUMPRODUCT(ISNUMBER(MATCH(INDIRECT(\"H\"&$A$1&\"!B2:AF2\"),DimFe,0))*IFERROR(IF(\"19:00\"<=IFERROR(Hgauche,0),IF(durée6<0,0,durée6),IF(durée<0,0,durée)),0))+SUMPRODUCT(ISNUMBER(MATCH(INDIRECT(\"H\"&$A$1&\"!B2:AF2\"),moindimfe,0))*IFERROR(IF(\"19:00\"<=IFERROR(Hgauche,0),IF(durée2<0,0,durée2),\"00:00\"),0))","v":0},{"$f":"SUMPRODUCT(1*IF(durée<0,0,durée))+SUMPRODUCT(1*IFERROR(IF(\"19:00\"<=IFERROR(Hgauche,0),IF(durée2<0,0,durée2),\"00:00\"),0))-durée5","v":0},null,0,{"$f":"VLOOKUP($A32,Bilan!A32:AI80,35,FALSE)","v":0},null,{"$f":"Bilan!AN32","v":{"$error":"#VALUE!"}},65,null,0,null,null,null,null,null,null,null,null,null,null,null,null,null,null,null,null,null,null,null,null,null,null,null,{"$f":"Données!$A27","v":"PL"},{"$f":"Données!$B27","v":"PL"}]
[{"$f":"Données!$H30","v":0},0,0,0,0,0,0,0,0,0,0,0,0,0,0,0,0,0,0,0,0,0,0,0,0,0,0,"00:00:00","00:00:00",null,{"$f":"SUMPRODUCT(ISNUMBER(MATCH(INDIRECT(\"H\"&$A$1&\"!B2:AF2\"),DimFe,0))*IFERROR(IF(\"19:00\">=IFERROR(Hgauche,0),IFERROR(hdroite-Hgauche,0),IF(durée1>0,durée1,\"00:00\")),0))+SUMPRODUCT(ISNUMBER(MATCH(INDIRECT(\"H\"&$A$1&\"!B2:AF2\"),moindimfe,0))*IFERROR(IF(\"19:00\"<=IFERROR(Hgauche,0),IF(durée4<0,0,durée4),\"00:00\"),0))","v":0},{"$f":"SUMPRODUCT(ISNUMBER(MATCH(INDIRECT(\"H\"&$A$1&\"!B2:AF2\"),DimFe,0))*IFERROR(IF(\"19:00\"<=IFERROR(Hgauche,0),IF(durée6<0,0,durée6),IF(durée<0,0,durée)),0))+SUMPRODUCT(ISNUMBER(MATCH(INDIRECT(\"H\"&$A$1&\"!B2:AF2\"),moindimfe,0))*IFERROR(IF(\"19:00\"<=IFERROR(Hgauche,0),IF(durée2<0,0,durée2),\"00:00\"),0))","v":0},{"$f":"SUMPRODUCT(1*IF(durée<0,0,durée))+SUMPRODUCT(1*IFERROR(IF(\"19:00\"<=IFERROR(Hgauche,0),IF(durée2<0,0,durée2),\"00:00\"),0))-durée5","v":0},null,0,{"$f":"VLOOKUP($A33,Bilan!A33:AI81,35,FALSE)","v":0},null,{"$f":"Bilan!AN33","v":{"$error":"#VALUE!"}},65,null,0,null,null,null,null,null,null,null,null,null,null,null,null,null,null,null,null,null,null,null,null,null,null,null,{"$f":"Données!$A28","v":"D"},{"$f":"Données!$B28","v":"D"}]
[{"$f":"Données!$H31","v":0},0,0,0,0,0,0,0,0,0,0,0,0,0,0,0,0,0,0,0,0,0,0,0,0,0,0,"00:00:00","00:00:00",null,{"$f":"SUMPRODUCT(ISNUMBER(MATCH(INDIRECT(\"H\"&$A$1&\"!B2:AF2\"),DimFe,0))*IFERROR(IF(\"19:00\">=IFERROR(Hgauche,0),IFERROR(hdroite-Hgauche,0),IF(durée1>0,durée1,\"00:00\")),0))+SUMPRODUCT(ISNUMBER(MATCH(INDIRECT(\"H\"&$A$1&\"!B2:AF2\"),moindimfe,0))*IFERROR(IF(\"19:00\"<=IFERROR(Hgauche,0),IF(durée4<0,0,durée4),\"00:00\"),0))","v":0},{"$f":"SUMPRODUCT(ISNUMBER(MATCH(INDIRECT(\"H\"&$A$1&\"!B2:AF2\"),DimFe,0))*IFERROR(IF(\"19:00\"<=IFERROR(Hgauche,0),IF(durée6<0,0,durée6),IF(durée<0,0,durée)),0))+SUMPRODUCT(ISNUMBER(MATCH(INDIRECT(\"H\"&$A$1&\"!B2:AF2\"),moindimfe,0))*IFERROR(IF(\"19:00\"<=IFERROR(Hgauche,0),IF(durée2<0,0,durée2),\"00:00\"),0))","v":0},{"$f":"SUMPRODUCT(1*IF(durée<0,0,durée))+SUMPRODUCT(1*IFERROR(IF(\"19:00\"<=IFERROR(Hgauche,0),IF(durée2<0,0,durée2),\"00:00\"),0))-durée5","v":0},null,0,{"$f":"VLOOKUP($A34,Bilan!A34:AI82,35,FALSE)","v":0},null,{"$f":"Bilan!AN34","v":{"$error":"#VALUE!"}},65,null,0]
[{"$f":"Données!$H32","v":"Maitresse de maison"}]
[{"$f":"Données!$H33","v":"N"},{"$f":"IF(SUMPRODUCT((INDIRECT(\"'\"&$A$1&\"'!$A$7:$A$56\")=$A36)*(INDIRECT(\"'\"&$A$1&\"'!$B$7:$AF$56\")=B$7))=0,\"\",SUMPRODUCT((INDIRECT(\"'\"&$A$1&\"'!$A$7:$A$56\")=$A36)*(INDIRECT(\"'\"&$A$1&\"'!$B$7:$AF$56\")=B$7)))","v":""},"","","","","","","","","","","","","","","","","","","","","","","","","",{"$f":"VLOOKUP($A36,INDIRECT(\"'\"&$A$1&\"'!$A$7:$AR$56\"),35,0)","v":"00:00:00"},{"$f":"VLOOKUP($A36,INDIRECT(\"'\"&$A$1&\"'!$A$7:$AR$56\"),36,0)","v":"00:00:00"},null,{"$f":"SUMPRODUCT(ISNUMBER(MATCH(INDIRECT(\"H\"&$A$1&\"!B2:AF2\"),DimFe,0))*IFERROR(IF(\"19:00\">=IFERROR(Hgauche,0),IFERROR(hdroite-Hgauche,0),IF(durée1>0,durée1,\"00:00\")),0))+SUMPRODUCT(ISNUMBER(MATCH(INDIRECT(\"H\"&$A$1&\"!B2:AF2\"),moindimfe,0))*IFERROR(IF(\"19:00\"<=IFERROR(Hgauche,0),IF(durée4<0,0,durée4),\"00:00\"),0))","v":0},{"$f":"SUMPRODUCT(ISNUMBER(MATCH(INDIRECT(\"H\"&$A$1&\"!B2:AF2\"),DimFe,0))*IFERROR(IF(\"19:00\"<=IFERROR(Hgauche,0),IF(durée6<0,0,durée6),IF(durée<0,0,durée)),0))+SUMPRODUCT(ISNUMBER(MATCH(INDIRECT(\"H\"&$A$1&\"!B2:AF2\"),moindimfe,0))*IFERROR(IF(\"19:00\"<=IFERROR(Hgauche,0),IF(durée2<0,0,durée2),\"00:00\"),0))","v":0},{"$f":"SUM(SUMPRODUCT(1*IFERROR(IF(\"19:00\"<=IFERROR(Hgauche,0),IF(durée2<0,0,durée2),\"00:00\"),0)),SUMPRODUCT(1*IFERROR(IF(\"19:00\"<=IFERROR(Hgauche,0),IF(durée6<0,0,durée6),\"00:00\"),0)),SUMPRODUCT(1*IFERROR(IF(\"21:00\"<=IFERROR(Hdroitesimple,0),IF(durée<0,0,durée),\"00:00\"),0)))-durée5","v":0},null,{"$f":"bilanh","v":0},{"$f":"VLOOKUP($A36,Bilan!$A$9:$AQ84,37,FALSE)","v":63},null,{"$f":"Bilan!AN36","v":65},65,null,{"$f":"Jourtravaillé","v":0}]
[{"$f":"Données!$H34","v":0},{"$f":"SUMPRODUCT((INDIRECT(\"'\"&$A$1&\"'!$A$7:$A$56\")=$A37)*(INDIRECT(\"'\"&$A$1&\"'!$B$7:$AF$56\")=B$7))","v":0},0,0,0,0,0,0,0,0,0,0,0,0,0,0,0,{"$f":"SUMPRODUCT((INDIRECT(\"'\"&$A$1&\"'!$A$7:$A$56\")=$A37)*(INDIRECT(\"'\"&$A$1&\"'!$B$7:$AF$56\")=R$7))","v":0},0,0,0,0,0,0,0,0,0,{"$f":"VLOOKUP($A37,INDIRECT(\"'H\"&$A$1&\"'!$A$7:$AR$56\"),35,0)","v":"00:00:00"},{"$f":"VLOOKUP($A37,INDIRECT(\"'H\"&$A$1&\"'!$A$7:$AR$56\"),38,0)","v":"00:00:00"},null,{"$f":"SUMPRODUCT(ISNUMBER(MATCH(INDIRECT(\"H\"&$A$1&\"!B2:AF2\"),DimFe,0))*IFERROR(IF(\"19:00\">=IFERROR(Hgauche,0),IFERROR(hdroite-Hgauche,0),IF(durée1>0,durée1,\"00:00\")),0))+SUMPRODUCT(ISNUMBER(MATCH(INDIRECT(\"H\"&$A$1&\"!B2:AF2\"),moindimfe,0))*IFERROR(IF(\"19:00\"<=IFERROR(Hgauche,0),IF(durée4<0,0,durée4),\"00:00\"),0))","v":0},{"$f":"SUMPRODUCT(ISNUMBER(MATCH(INDIRECT(\"H\"&$A$1&\"!B2:AF2\"),DimFe,0))*IFERROR(IF(\"19:00\"<=IFERROR(Hgauche,0),IF(durée6<0,0,durée6),IF(durée<0,0,durée)),0))+SUMPRODUCT(ISNUMBER(MATCH(INDIRECT(\"H\"&$A$1&\"!B2:AF2\"),moindimfe,0))*IFERROR(IF(\"19:00\"<=IFERROR(Hgauche,0),IF(durée2<0,0,durée2),\"00:00\"),0))","v":0},{"$f":"SUMPRODUCT(1*IF(durée<0,0,durée))+SUMPRODUCT(1*IFERROR(IF(\"19:00\"<=IFERROR(Hgauche,0),IF(durée2<0,0,durée2),\"00:00\"),0))-durée5","v":0},null,{"$f":"(AB37/24)+SUMPRODUCT(($B$6:$AA$6)*(B37:AA37))","v":0},{"$f":"VLOOKUP($A37,Bilan!A37:AI85,35,FALSE)","v":0},null,{"$f":"Bilan!AN37","v":65},65,null,{"$f":"SUM(B37:R37)","v":0}]
[{"$f":"Données!$H35","v":0},0,0,0,0,0,0,0,0,0,0,0,0,0,0,0,0,0,0,0,0,0,0,0,0,0,0,"00:00:00","00:00:00",null,{"$f":"SUMPRODUCT(ISNUMBER(MATCH(INDIRECT(\"H\"&$A$1&\"!B2:AF2\"),DimFe,0))*IFERROR(IF(\"19:00\">=IFERROR(Hgauche,0),IFERROR(hdroite-Hgauche,0),IF(durée1>0,durée1,\"00:00\")),0))+SUMPRODUCT(ISNUMBER(MATCH(INDIRECT(\"H\"&$A$1&\"!B2:AF2\"),moindimfe,0))*IFERROR(IF(\"19:00\"<=IFERROR(Hgauche,0),IF(durée4<0,0,durée4),\"00:00\"),0))","v":0},{"$f":"SUMPRODUCT(ISNUMBER(MATCH(INDIRECT(\"H\"&$A$1&\"!B2:AF2\"),DimFe,0))*IFERROR(IF(\"19:00\"<=IFERROR(Hgauche,0),IF(durée6<0,0,durée6),IF(durée<0,0,durée)),0))+SUMPRODUCT(ISNUMBER(MATCH(INDIRECT(\"H\"&$A$1&\"!B2:AF2\"),moindimfe,0))*IFERROR(IF(\"19:00\"<=IFERROR(Hgauche,0),IF(durée2<0,0,durée2),\"00:00\"),0))","v":0},{"$f":"SUMPRODUCT(1*IF(durée<0,0,durée))+SUMPRODUCT(1*IFERROR(IF(\"19:00\"<=IFERROR(Hgauche,0),IF(durée2<0,0,durée2),\"00:00\"),0))-durée5","v":0},null,0,{"$f":"VLOOKUP($A38,Bilan!A38:AI86,35,FALSE)","v":0},null,{"$f":"Bilan!AN38","v":{"$error":"#VALUE!"}},65,null,0]
[{"$f":"Données!$H36","v":0},0,0,0,0,0,0,0,0,0,0,0,0,0,0,0,0,0,0,0,0,0,0,0,0,0,0,"00:00:00","00:00:00",null,{"$f":"SUMPRODUCT(ISNUMBER(MATCH(INDIRECT(\"H\"&$A$1&\"!B2:AF2\"),DimFe,0))*IFERROR(IF(\"19:00\">=IFERROR(Hgauche,0),IFERROR(hdroite-Hgauche,0),IF(durée1>0,durée1,\"00:00\")),0))+SUMPRODUCT(ISNUMBER(MATCH(INDIRECT(\"H\"&$A$1&\"!B2:AF2\"),moindimfe,0))*IFERROR(IF(\"19:00\"<=IFERROR(Hgauche,0),IF(durée4<0,0,durée4),\"00:00\"),0))","v":0},{"$f":"SUMPRODUCT(ISNUMBER(MATCH(INDIRECT(\"H\"&$A$1&\"!B2:AF2\"),DimFe,0))*IFERROR(IF(\"19:00\"<=IFERROR(Hgauche,0),IF(durée6<0,0,durée6),IF(durée<0,0,durée)),0))+SUMPRODUCT(ISNUMBER(MATCH(INDIRECT(\"H\"&$A$1&\"!B2:AF2\"),moindimfe,0))*IFERROR(IF(\"19:00\"<=IFERROR(Hgauche,0),IF(durée2<0,0,durée2),\"00:00\"),0))","v":0},{"$f":"SUMPRODUCT(1*IF(durée<0,0,durée))+SUMPRODUCT(1*IFERROR(IF(\"19:00\"<=IFERROR(Hgauche,0),IF(durée2<0,0,durée2),\"00:00\"),0))-durée5","v":0},null,0,{"$f":"VLOOKUP($A39,Bilan!A39:AI87,35,FALSE)","v":0},null,{"$f":"Bilan!AN39","v":{"$error":"#VALUE!"}},65,null,0]
[{"$f":"Données!$H37","v":0},0,0,0,0,0,0,0,0,0,0,0,0,0,0,0,0,0,0,0,0,0,0,0,0,0,0,"00:00:00","00:00:00",null,{"$f":"SUMPRODUCT(ISNUMBER(MATCH(INDIRECT(\"H\"&$A$1&\"!B2:AF2\"),DimFe,0))*IFERROR(IF(\"19:00\">=IFERROR(Hgauche,0),IFERROR(hdroite-Hgauche,0),IF(durée1>0,durée1,\"00:00\")),0))+SUMPRODUCT(ISNUMBER(MATCH(INDIRECT(\"H\"&$A$1&\"!B2:AF2\"),moindimfe,0))*IFERROR(IF(\"19:00\"<=IFERROR(Hgauche,0),IF(durée4<0,0,durée4),\"00:00\"),0))","v":0},{"$f":"SUMPRODUCT(ISNUMBER(MATCH(INDIRECT(\"H\"&$A$1&\"!B2:AF2\"),DimFe,0))*IFERROR(IF(\"19:00\"<=IFERROR(Hgauche,0),IF(durée6<0,0,durée6),IF(durée<0,0,durée)),0))+SUMPRODUCT(ISNUMBER(MATCH(INDIRECT(\"H\"&$A$1&\"!B2:AF2\"),moindimfe,0))*IFERROR(IF(\"19:00\"<=IFERROR(Hgauche,0),IF(durée2<0,0,durée2),\"00:00\"),0))","v":0},{"$f":"SUMPRODUCT(1*IF(durée<0,0,durée))+SUMPRODUCT(1*IFERROR(IF(\"19:00\"<=IFERROR(Hgauche,0),IF(durée2<0,0,durée2),\"00:00\"),0))-durée5","v":0},null,0,{"$f":"VLOOKUP($A40,Bilan!A40:AI88,35,FALSE)","v":0},null,{"$f":"Bilan!AN40","v":{"$error":"#VALUE!"}},65,null,0]
[{"$f":"Données!$H38","v":0},0,0,0,0,0,0,0,0,0,0,0,0,0,0,0,0,0,0,0,0,0,0,0,0,0,0,"00:00:00","00:00:00",null,{"$f":"SUMPRODUCT(ISNUMBER(MATCH(INDIRECT(\"H\"&$A$1&\"!B2:AF2\"),DimFe,0))*IFERROR(IF(\"19:00\">=IFERROR(Hgauche,0),IFERROR(hdroite-Hgauche,0),IF(durée1>0,durée1,\"00:00\")),0))+SUMPRODUCT(ISNUMBER(MATCH(INDIRECT(\"H\"&$A$1&\"!B2:AF2\"),moindimfe,0))*IFERROR(IF(\"19:00\"<=IFERROR(Hgauche,0),IF(durée4<0,0,durée4),\"00:00\"),0))","v":0},{"$f":"SUMPRODUCT(ISNUMBER(MATCH(INDIRECT(\"H\"&$A$1&\"!B2:AF2\"),DimFe,0))*IFERROR(IF(\"19:00\"<=IFERROR(Hgauche,0),IF(durée6<0,0,durée6),IF(durée<0,0,durée)),0))+SUMPRODUCT(ISNUMBER(MATCH(INDIRECT(\"H\"&$A$1&\"!B2:AF2\"),moindimfe,0))*IFERROR(IF(\"19:00\"<=IFERROR(Hgauche,0),IF(durée2<0,0,durée2),\"00:00\"),0))","v":0},{"$f":"SUMPRODUCT(1*IF(durée<0,0,durée))+SUMPRODUCT(1*IFERROR(IF(\"19:00\"<=IFERROR(Hgauche,0),IF(durée2<0,0,durée2),\"00:00\"),0))-durée5","v":0},null,0,{"$f":"VLOOKUP($A41,Bilan!A41:AI89,35,FALSE)","v":0},null,{"$f":"Bilan!AN41","v":{"$error":"#VALUE!"}},65,null,0]
[{"$f":"Données!$H39","v":0},0,0,0,0,0,0,0,0,0,0,0,0,0,0,0,0,0,0,0,0,0,0,0,0,0,0,"00:00:00","00:00:00",null,{"$f":"SUMPRODUCT(ISNUMBER(MATCH(INDIRECT(\"H\"&$A$1&\"!B2:AF2\"),DimFe,0))*IFERROR(IF(\"19:00\">=IFERROR(Hgauche,0),IFERROR(hdroite-Hgauche,0),IF(durée1>0,durée1,\"00:00\")),0))+SUMPRODUCT(ISNUMBER(MATCH(INDIRECT(\"H\"&$A$1&\"!B2:AF2\"),moindimfe,0))*IFERROR(IF(\"19:00\"<=IFERROR(Hgauche,0),IF(durée4<0,0,durée4),\"00:00\"),0))","v":0},{"$f":"SUMPRODUCT(ISNUMBER(MATCH(INDIRECT(\"H\"&$A$1&\"!B2:AF2\"),DimFe,0))*IFERROR(IF(\"19:00\"<=IFERROR(Hgauche,0),IF(durée6<0,0,durée6),IF(durée<0,0,durée)),0))+SUMPRODUCT(ISNUMBER(MATCH(INDIRECT(\"H\"&$A$1&\"!B2:AF2\"),moindimfe,0))*IFERROR(IF(\"19:00\"<=IFERROR(Hgauche,0),IF(durée2<0,0,durée2),\"00:00\"),0))","v":0},{"$f":"SUMPRODUCT(1*IF(durée<0,0,durée))+SUMPRODUCT(1*IFERROR(IF(\"19:00\"<=IFERROR(Hgauche,0),IF(durée2<0,0,durée2),\"00:00\"),0))-durée5","v":0},null,0,{"$f":"VLOOKUP($A42,Bilan!A42:AI90,35,FALSE)","v":0},null,{"$f":"Bilan!AN42","v":{"$error":"#VALUE!"}},65,null,0]
[{"$f":"Données!$H40","v":0},0,0,0,0,0,0,0,0,0,0,0,0,0,0,0,0,0,0,0,0,0,0,0,0,0,0,"00:00:00","00:00:00",null,{"$f":"SUMPRODUCT(ISNUMBER(MATCH(INDIRECT(\"H\"&$A$1&\"!B2:AF2\"),DimFe,0))*IFERROR(IF(\"19:00\">=IFERROR(Hgauche,0),IFERROR(hdroite-Hgauche,0),IF(durée1>0,durée1,\"00:00\")),0))+SUMPRODUCT(ISNUMBER(MATCH(INDIRECT(\"H\"&$A$1&\"!B2:AF2\"),moindimfe,0))*IFERROR(IF(\"19:00\"<=IFERROR(Hgauche,0),IF(durée4<0,0,durée4),\"00:00\"),0))","v":0},{"$f":"SUMPRODUCT(ISNUMBER(MATCH(INDIRECT(\"H\"&$A$1&\"!B2:AF2\"),DimFe,0))*IFERROR(IF(\"19:00\"<=IFERROR(Hgauche,0),IF(durée6<0,0,durée6),IF(durée<0,0,durée)),0))+SUMPRODUCT(ISNUMBER(MATCH(INDIRECT(\"H\"&$A$1&\"!B2:AF2\"),moindimfe,0))*IFERROR(IF(\"19:00\"<=IFERROR(Hgauche,0),IF(durée2<0,0,durée2),\"00:00\"),0))","v":0},{"$f":"SUMPRODUCT(1*IF(durée<0,0,durée))+SUMPRODUCT(1*IFERROR(IF(\"19:00\"<=IFERROR(Hgauche,0),IF(durée2<0,0,durée2),\"00:00\"),0))-durée5","v":0},null,0,{"$f":"VLOOKUP($A43,Bilan!A43:AI91,35,FALSE)","v":0},null,{"$f":"Bilan!AN43","v":{"$error":"#VALUE!"}},65,null,0]
[{"$f":"Données!$H41","v":0},0,0,0,0,0,0,0,0,0,0,0,0,0,0,0,0,0,0,0,0,0,0,0,0,0,0,"00:00:00","00:00:00",null,{"$f":"SUMPRODUCT(ISNUMBER(MATCH(INDIRECT(\"H\"&$A$1&\"!B2:AF2\"),DimFe,0))*IFERROR(IF(\"19:00\">=IFERROR(Hgauche,0),IFERROR(hdroite-Hgauche,0),IF(durée1>0,durée1,\"00:00\")),0))+SUMPRODUCT(ISNUMBER(MATCH(INDIRECT(\"H\"&$A$1&\"!B2:AF2\"),moindimfe,0))*IFERROR(IF(\"19:00\"<=IFERROR(Hgauche,0),IF(durée4<0,0,durée4),\"00:00\"),0))","v":0},{"$f":"SUMPRODUCT(ISNUMBER(MATCH(INDIRECT(\"H\"&$A$1&\"!B2:AF2\"),DimFe,0))*IFERROR(IF(\"19:00\"<=IFERROR(Hgauche,0),IF(durée6<0,0,durée6),IF(durée<0,0,durée)),0))+SUMPRODUCT(ISNUMBER(MATCH(INDIRECT(\"H\"&$A$1&\"!B2:AF2\"),moindimfe,0))*IFERROR(IF(\"19:00\"<=IFERROR(Hgauche,0),IF(durée2<0,0,durée2),\"00:00\"),0))","v":0},{"$f":"SUMPRODUCT(1*IF(durée<0,0,durée))+SUMPRODUCT(1*IFERROR(IF(\"19:00\"<=IFERROR(Hgauche,0),IF(durée2<0,0,durée2),\"00:00\"),0))-durée5","v":0},null,0,{"$f":"VLOOKUP($A44,Bilan!A44:AI92,35,FALSE)","v":0},null,{"$f":"Bilan!AN44","v":{"$error":"#VALUE!"}},65,null,0]
[{"$f":"Données!$H42","v":"Psychologue"}]
[{"$f":"Données!$H43","v":"O"},{"$f":"IF(SUMPRODUCT((INDIRECT(\"'\"&$A$1&\"'!$A$7:$A$56\")=$A46)*(INDIRECT(\"'\"&$A$1&\"'!$B$7:$AF$56\")=B$7))=0,\"\",SUMPRODUCT((INDIRECT(\"'\"&$A$1&\"'!$A$7:$A$56\")=$A46)*(INDIRECT(\"'\"&$A$1&\"'!$B$7:$AF$56\")=B$7)))","v":""},"","","","","","","","","","","","","","","","","","","","","","","","","",{"$f":"VLOOKUP($A46,INDIRECT(\"'\"&$A$1&\"'!$A$7:$AR$56\"),35,0)","v":"00:00:00"},{"$f":"VLOOKUP($A46,INDIRECT(\"'\"&$A$1&\"'!$A$7:$AR$56\"),36,0)","v":"00:00:00"},null,{"$f":"SUMPRODUCT(ISNUMBER(MATCH(INDIRECT(\"H\"&$A$1&\"!B2:AF2\"),DimFe,0))*IFERROR(IF(\"19:00\">=IFERROR(Hgauche,0),IFERROR(hdroite-Hgauche,0),IF(durée1>0,durée1,\"00:00\")),0))+SUMPRODUCT(ISNUMBER(MATCH(INDIRECT(\"H\"&$A$1&\"!B2:AF2\"),moindimfe,0))*IFERROR(IF(\"19:00\"<=IFERROR(Hgauche,0),IF(durée4<0,0,durée4),\"00:00\"),0))","v":0},{"$f":"SUMPRODUCT(ISNUMBER(MATCH(INDIRECT(\"H\"&$A$1&\"!B2:AF2\"),DimFe,0))*IFERROR(IF(\"19:00\"<=IFERROR(Hgauche,0),IF(durée6<0,0,durée6),IF(durée<0,0,durée)),0))+SUMPRODUCT(ISNUMBER(MATCH(INDIRECT(\"H\"&$A$1&\"!B2:AF2\"),moindimfe,0))*IFERROR(IF(\"19:00\"<=IFERROR(Hgauche,0),IF(durée2<0,0,durée2),\"00:00\"),0))","v":0},{"$f":"SUM(SUMPRODUCT(1*IFERROR(IF(\"19:00\"<=IFERROR(Hgauche,0),IF(durée2<0,0,durée2),\"00:00\"),0)),SUMPRODUCT(1*IFERROR(IF(\"19:00\"<=IFERROR(Hgauche,0),IF(durée6<0,0,durée6),\"00:00\"),0)),SUMPRODUCT(1*IFERROR(IF(\"21:00\"<=IFERROR(Hdroitesimple,0),IF(durée<0,0,durée),\"00:00\"),0)))-durée5","v":0},null,{"$f":"bilanh","v":0},{"$f":"VLOOKUP($A46,Bilan!$A$9:$AQ94,37,FALSE)","v":63},null,{"$f":"Bilan!AN46","v":65},65,null,{"$f":"Jourtravaillé","v":0}]
[{"$f":"Données!$H44","v":0},{"$f":"SUMPRODUCT((INDIRECT(\"'\"&$A$1&\"'!$A$7:$A$56\")=$A47)*(INDIRECT(\"'\"&$A$1&\"'!$B$7:$AF$56\")=B$7))","v":0},0,0,0,0,0,0,0,0,0,0,0,0,0,0,0,{"$f":"SUMPRODUCT((INDIRECT(\"'\"&$A$1&\"'!$A$7:$A$56\")=$A47)*(INDIRECT(\"'\"&$A$1&\"'!$B$7:$AF$56\")=R$7))","v":0},0,0,0,0,0,0,0,0,0,{"$f":"VLOOKUP($A47,INDIRECT(\"'H\"&$A$1&\"'!$A$7:$AR$56\"),35,0)","v":"00:00:00"},{"$f":"VLOOKUP($A47,INDIRECT(\"'H\"&$A$1&\"'!$A$7:$AR$56\"),38,0)","v":"00:00:00"},null,{"$f":"SUMPRODUCT(ISNUMBER(MATCH(INDIRECT(\"H\"&$A$1&\"!B2:AF2\"),DimFe,0))*IFERROR(IF(\"19:00\">=IFERROR(Hgauche,0),IFERROR(hdroite-Hgauche,0),IF(durée1>0,durée1,\"00:00\")),0))+SUMPRODUCT(ISNUMBER(MATCH(INDIRECT(\"H\"&$A$1&\"!B2:AF2\"),moindimfe,0))*IFERROR(IF(\"19:00\"<=IFERROR(Hgauche,0),IF(durée4<0,0,durée4),\"00:00\"),0))","v":0},{"$f":"SUMPRODUCT(ISNUMBER(MATCH(INDIRECT(\"H\"&$A$1&\"!B2:AF2\"),DimFe,0))*IFERROR(IF(\"19:00\"<=IFERROR(Hgauche,0),IF(durée6<0,0,durée6),IF(durée<0,0,durée)),0))+SUMPRODUCT(ISNUMBER(MATCH(INDIRECT(\"H\"&$A$1&\"!B2:AF2\"),moindimfe,0))*IFERROR(IF(\"19:00\"<=IFERROR(Hgauche,0),IF(durée2<0,0,durée2),\"00:00\"),0))","v":0},{"$f":"SUMPRODUCT(1*IF(durée<0,0,durée))+SUMPRODUCT(1*IFERROR(IF(\"19:00\"<=IFERROR(Hgauche,0),IF(durée2<0,0,durée2),\"00:00\"),0))-durée5","v":0},null,{"$f":"(AB47/24)+SUMPRODUCT(($B$6:$AA$6)*(B47:AA47))","v":0},{"$f":"VLOOKUP($A47,Bilan!A47:AI95,35,FALSE)","v":0},null,{"$f":"Bilan!AN47","v":65},65,null,{"$f":"SUM(B47:R47)","v":0}]
[{"$f":"Données!$H45","v":0},0,0,0,0,0,0,0,0,0,0,0,0,0,0,0,0,0,0,0,0,0,0,0,0,0,0,{"$f":"VLOOKUP($A48,INDIRECT(\"'H\"&$A$1&\"'!$A$7:$AR$56\"),35,0)","v":"00:00:00"},{"$f":"VLOOKUP($A48,INDIRECT(\"'H\"&$A$1&\"'!$A$7:$AR$56\"),38,0)","v":"00:00:00"},null,{"$f":"SUMPRODUCT(ISNUMBER(MATCH(INDIRECT(\"H\"&$A$1&\"!B2:AF2\"),DimFe,0))*IFERROR(IF(\"19:00\">=IFERROR(Hgauche,0),IFERROR(hdroite-Hgauche,0),IF(durée1>0,durée1,\"00:00\")),0))+SUMPRODUCT(ISNUMBER(MATCH(INDIRECT(\"H\"&$A$1&\"!B2:AF2\"),moindimfe,0))*IFERROR(IF(\"19:00\"<=IFERROR(Hgauche,0),IF(durée4<0,0,durée4),\"00:00\"),0))","v":0},{"$f":"SUMPRODUCT(ISNUMBER(MATCH(INDIRECT(\"H\"&$A$1&\"!B2:AF2\"),DimFe,0))*IFERROR(IF(\"19:00\"<=IFERROR(Hgauche,0),IF(durée6<0,0,durée6),IF(durée<0,0,durée)),0))+SUMPRODUCT(ISNUMBER(MATCH(INDIRECT(\"H\"&$A$1&\"!B2:AF2\"),moindimfe,0))*IFERROR(IF(\"19:00\"<=IFERROR(Hgauche,0),IF(durée2<0,0,durée2),\"00:00\"),0))","v":0},{"$f":"SUMPRODUCT(1*IF(durée<0,0,durée))+SUMPRODUCT(1*IFERROR(IF(\"19:00\"<=IFERROR(Hgauche,0),IF(durée2<0,0,durée2),\"00:00\"),0))-durée5","v":0},null,{"$f":"(AB48/24)+SUMPRODUCT(($B$6:$AA$6)*(B48:AA48))","v":0},{"$f":"VLOOKUP($A48,Bilan!A48:AI96,35,FALSE)","v":0},null,{"$f":"Bilan!AN48","v":{"$error":"#VALUE!"}},65,null,{"$f":"SUM(B48:R48)","v":0}]
[{"$f":"Données!$H46","v":"Coordinatrice"}]
[{"$f":"Données!$H47","v":"P"},{"$f":"IF(SUMPRODUCT((INDIRECT(\"'\"&$A$1&\"'!$A$7:$A$56\")=$A50)*(INDIRECT(\"'\"&$A$1&\"'!$B$7:$AF$56\")=B$7))=0,\"\",SUMPRODUCT((INDIRECT(\"'\"&$A$1&\"'!$A$7:$A$56\")=$A50)*(INDIRECT(\"'\"&$A$1&\"'!$B$7:$AF$56\")=B$7)))","v":""},"","","","","","","","","","","","","","","","","","","","","","","","","",{"$f":"VLOOKUP($A50,INDIRECT(\"'\"&$A$1&\"'!$A$7:$AR$56\"),35,0)","v":"00:00:00"},{"$f":"VLOOKUP($A50,INDIRECT(\"'\"&$A$1&\"'!$A$7:$AR$56\"),36,0)","v":"00:00:00"},null,{"$f":"SUMPRODUCT(ISNUMBER(MATCH(INDIRECT(\"H\"&$A$1&\"!B2:AF2\"),DimFe,0))*IFERROR(IF(\"19:00\">=IFERROR(Hgauche,0),IFERROR(hdroite-Hgauche,0),IF(durée1>0,durée1,\"00:00\")),0))+SUMPRODUCT(ISNUMBER(MATCH(INDIRECT(\"H\"&$A$1&\"!B2:AF2\"),moindimfe,0))*IFERROR(IF(\"19:00\"<=IFERROR(Hgauche,0),IF(durée4<0,0,durée4),\"00:00\"),0))","v":0},{"$f":"SUMPRODUCT(ISNUMBER(MATCH(INDIRECT(\"H\"&$A$1&\"!B2:AF2\"),DimFe,0))*IFERROR(IF(\"19:00\"<=IFERROR(Hgauche,0),IF(durée6<0,0,durée6),IF(durée<0,0,durée)),0))+SUMPRODUCT(ISNUMBER(MATCH(INDIRECT(\"H\"&$A$1&\"!B2:AF2\"),moindimfe,0))*IFERROR(IF(\"19:00\"<=IFERROR(Hgauche,0),IF(durée2<0,0,durée2),\"00:00\"),0))","v":0},{"$f":"SUM(SUMPRODUCT(1*IFERROR(IF(\"19:00\"<=IFERROR(Hgauche,0),IF(durée2<0,0,durée2),\"00:00\"),0)),SUMPRODUCT(1*IFERROR(IF(\"19:00\"<=IFERROR(Hgauche,0),IF(durée6<0,0,durée6),\"00:00\"),0)),SUMPRODUCT(1*IFERROR(IF(\"21:00\"<=IFERROR(Hdroitesimple,0),IF(durée<0,0,durée),\"00:00\"),0)))-durée5","v":0},null,{"$f":"bilanh","v":0},{"$f":"VLOOKUP($A50,Bilan!$A$9:$AQ98,37,FALSE)","v":63},null,{"$f":"Bilan!AN50","v":65},65,null,{"$f":"Jourtravaillé","v":0}]
[{"$f":"Données!$H48","v":0},{"$f":"SUMPRODUCT((INDIRECT(\"'\"&$A$1&\"'!$A$7:$A$56\")=$A51)*(INDIRECT(\"'\"&$A$1&\"'!$B$7:$AF$56\")=B$7))","v":0},0,0,0,0,0,0,0,0,0,0,0,0,0,0,0,{"$f":"SUMPRODUCT((INDIRECT(\"'\"&$A$1&\"'!$A$7:$A$56\")=$A51)*(INDIRECT(\"'\"&$A$1&\"'!$B$7:$AF$56\")=R$7))","v":0},0,0,0,0,0,0,0,0,0,{"$f":"VLOOKUP($A51,INDIRECT(\"'H\"&$A$1&\"'!$A$7:$AR$56\"),35,0)","v":"00:00:00"},{"$f":"VLOOKUP($A51,INDIRECT(\"'H\"&$A$1&\"'!$A$7:$AR$56\"),38,0)","v":"00:00:00"},null,{"$f":"SUMPRODUCT(ISNUMBER(MATCH(INDIRECT(\"H\"&$A$1&\"!B2:AF2\"),DimFe,0))*IFERROR(IF(\"19:00\">=IFERROR(Hgauche,0),IFERROR(hdroite-Hgauche,0),IF(durée1>0,durée1,\"00:00\")),0))+SUMPRODUCT(ISNUMBER(MATCH(INDIRECT(\"H\"&$A$1&\"!B2:AF2\"),moindimfe,0))*IFERROR(IF(\"19:00\"<=IFERROR(Hgauche,0),IF(durée4<0,0,durée4),\"00:00\"),0))","v":0},{"$f":"SUMPRODUCT(ISNUMBER(MATCH(INDIRECT(\"H\"&$A$1&\"!B2:AF2\"),DimFe,0))*IFERROR(IF(\"19:00\"<=IFERROR(Hgauche,0),IF(durée6<0,0,durée6),IF(durée<0,0,durée)),0))+SUMPRODUCT(ISNUMBER(MATCH(INDIRECT(\"H\"&$A$1&\"!B2:AF2\"),moindimfe,0))*IFERROR(IF(\"19:00\"<=IFERROR(Hgauche,0),IF(durée2<0,0,durée2),\"00:00\"),0))","v":0},{"$f":"SUMPRODUCT(1*IF(durée<0,0,durée))+SUMPRODUCT(1*IFERROR(IF(\"19:00\"<=IFERROR(Hgauche,0),IF(durée2<0,0,durée2),\"00:00\"),0))-durée5","v":0},null,{"$f":"(AB51/24)+SUMPRODUCT(($B$6:$AA$6)*(B51:AA51))","v":0},{"$f":"VLOOKUP($A51,Bilan!A51:AI99,35,FALSE)","v":0},null,{"$f":"Bilan!AN51","v":66},65,null,{"$f":"SUM(B51:R51)","v":0}]
[{"$f":"Données!$H49","v":0},0,0,0,0,0,0,0,0,0,0,0,0,0,0,0,0,0,0,0,0,0,0,0,0,0,0,{"$f":"VLOOKUP($A52,INDIRECT(\"'H\"&$A$1&\"'!$A$7:$AR$56\"),35,0)","v":"00:00:00"},{"$f":"VLOOKUP($A52,INDIRECT(\"'H\"&$A$1&\"'!$A$7:$AR$56\"),38,0)","v":"00:00:00"},null,{"$f":"SUMPRODUCT(ISNUMBER(MATCH(INDIRECT(\"H\"&$A$1&\"!B2:AF2\"),DimFe,0))*IFERROR(IF(\"19:00\">=IFERROR(Hgauche,0),IFERROR(hdroite-Hgauche,0),IF(durée1>0,durée1,\"00:00\")),0))+SUMPRODUCT(ISNUMBER(MATCH(INDIRECT(\"H\"&$A$1&\"!B2:AF2\"),moindimfe,0))*IFERROR(IF(\"19:00\"<=IFERROR(Hgauche,0),IF(durée4<0,0,durée4),\"00:00\"),0))","v":0},{"$f":"SUMPRODUCT(ISNUMBER(MATCH(INDIRECT(\"H\"&$A$1&\"!B2:AF2\"),DimFe,0))*IFERROR(IF(\"19:00\"<=IFERROR(Hgauche,0),IF(durée6<0,0,durée6),IF(durée<0,0,durée)),0))+SUMPRODUCT(ISNUMBER(MATCH(INDIRECT(\"H\"&$A$1&\"!B2:AF2\"),moindimfe,0))*IFERROR(IF(\"19:00\"<=IFERROR(Hgauche,0),IF(durée2<0,0,durée2),\"00:00\"),0))","v":0},{"$f":"SUMPRODUCT(1*IF(durée<0,0,durée))+SUMPRODUCT(1*IFERROR(IF(\"19:00\"<=IFERROR(Hgauche,0),IF(durée2<0,0,durée2),\"00:00\"),0))-durée5","v":0},null,{"$f":"(AB52/24)+SUMPRODUCT(($B$6:$AA$6)*(B52:AA52))","v":0},{"$f":"VLOOKUP($A52,Bilan!A52:AI100,35,FALSE)","v":0},null,{"$f":"Bilan!AN52","v":{"$error":"#VALUE!"}},66,null,{"$f":"SUM(B52:R52)","v":0}]
[{"$f":"Données!$H50","v":0},0,0,0,0,0,0,0,0,0,0,0,0,0,0,0,0,0,0,0,0,0,0,0,0,0,0,{"$f":"VLOOKUP($A53,INDIRECT(\"'H\"&$A$1&\"'!$A$7:$AR$56\"),35,0)","v":"00:00:00"},{"$f":"VLOOKUP($A53,INDIRECT(\"'H\"&$A$1&\"'!$A$7:$AR$56\"),38,0)","v":"00:00:00"},null,{"$f":"SUMPRODUCT(ISNUMBER(MATCH(INDIRECT(\"H\"&$A$1&\"!B2:AF2\"),DimFe,0))*IFERROR(IF(\"19:00\">=IFERROR(Hgauche,0),IFERROR(hdroite-Hgauche,0),IF(durée1>0,durée1,\"00:00\")),0))+SUMPRODUCT(ISNUMBER(MATCH(INDIRECT(\"H\"&$A$1&\"!B2:AF2\"),moindimfe,0))*IFERROR(IF(\"19:00\"<=IFERROR(Hgauche,0),IF(durée4<0,0,durée4),\"00:00\"),0))","v":0},{"$f":"SUMPRODUCT(ISNUMBER(MATCH(INDIRECT(\"H\"&$A$1&\"!B2:AF2\"),DimFe,0))*IFERROR(IF(\"19:00\"<=IFERROR(Hgauche,0),IF(durée6<0,0,durée6),IF(durée<0,0,durée)),0))+SUMPRODUCT(ISNUMBER(MATCH(INDIRECT(\"H\"&$A$1&\"!B2:AF2\"),moindimfe,0))*IFERROR(IF(\"19:00\"<=IFERROR(Hgauche,0),IF(durée2<0,0,durée2),\"00:00\"),0))","v":0},{"$f":"SUMPRODUCT(1*IF(durée<0,0,durée))+SUMPRODUCT(1*IFERROR(IF(\"19:00\"<=IFERROR(Hgauche,0),IF(durée2<0,0,durée2),\"00:00\"),0))-durée5","v":0},null,{"$f":"(AB53/24)+SUMPRODUCT(($B$6:$AA$6)*(B53:AA53))","v":0},{"$f":"VLOOKUP($A53,Bilan!A53:AI101,35,FALSE)","v":0},null,{"$f":"Bilan!AN53","v":{"$error":"#VALUE!"}},67,null,{"$f":"SUM(B53:R53)","v":0}]
[{"$f":"Données!$H51","v":0},0,0,0,0,0,0,0,0,0,0,0,0,0,0,0,0,0,0,0,0,0,0,0,0,0,0,{"$f":"VLOOKUP($A54,INDIRECT(\"'H\"&$A$1&\"'!$A$7:$AR$56\"),35,0)","v":"00:00:00"},{"$f":"VLOOKUP($A54,INDIRECT(\"'H\"&$A$1&\"'!$A$7:$AR$56\"),38,0)","v":"00:00:00"},null,{"$f":"SUMPRODUCT(ISNUMBER(MATCH(INDIRECT(\"H\"&$A$1&\"!B2:AF2\"),DimFe,0))*IFERROR(IF(\"19:00\">=IFERROR(Hgauche,0),IFERROR(hdroite-Hgauche,0),IF(durée1>0,durée1,\"00:00\")),0))+SUMPRODUCT(ISNUMBER(MATCH(INDIRECT(\"H\"&$A$1&\"!B2:AF2\"),moindimfe,0))*IFERROR(IF(\"19:00\"<=IFERROR(Hgauche,0),IF(durée4<0,0,durée4),\"00:00\"),0))","v":0},{"$f":"SUMPRODUCT(ISNUMBER(MATCH(INDIRECT(\"H\"&$A$1&\"!B2:AF2\"),DimFe,0))*IFERROR(IF(\"19:00\"<=IFERROR(Hgauche,0),IF(durée6<0,0,durée6),IF(durée<0,0,durée)),0))+SUMPRODUCT(ISNUMBER(MATCH(INDIRECT(\"H\"&$A$1&\"!B2:AF2\"),moindimfe,0))*IFERROR(IF(\"19:00\"<=IFERROR(Hgauche,0),IF(durée2<0,0,durée2),\"00:00\"),0))","v":0},{"$f":"SUMPRODUCT(1*IF(durée<0,0,durée))+SUMPRODUCT(1*IFERROR(IF(\"19:00\"<=IFERROR(Hgauche,0),IF(durée2<0,0,durée2),\"00:00\"),0))-durée5","v":0},null,{"$f":"(AB54/24)+SUMPRODUCT(($B$6:$AA$6)*(B54:AA54))","v":0},{"$f":"VLOOKUP($A54,Bilan!A54:AI102,35,FALSE)","v":0},null,{"$f":"Bilan!AN54","v":{"$error":"#VALUE!"}},68,null,{"$f":"SUM(B54:R54)","v":0}]
[{"$f":"Données!$H52","v":"Chef de service"}]
[{"$f":"Données!$H53","v":"Q"},{"$f":"IF(SUMPRODUCT((INDIRECT(\"'\"&$A$1&\"'!$A$7:$A$56\")=$A56)*(INDIRECT(\"'\"&$A$1&\"'!$B$7:$AF$56\")=B$7))=0,\"\",SUMPRODUCT((INDIRECT(\"'\"&$A$1&\"'!$A$7:$A$56\")=$A56)*(INDIRECT(\"'\"&$A$1&\"'!$B$7:$AF$56\")=B$7)))","v":""},"","","","","","","","","","","","","","","","","","","","","","","","","",{"$f":"VLOOKUP($A56,INDIRECT(\"'\"&$A$1&\"'!$A$7:$AR$56\"),35,0)","v":"00:00:00"},{"$f":"VLOOKUP($A56,INDIRECT(\"'\"&$A$1&\"'!$A$7:$AR$56\"),36,0)","v":"00:00:00"},null,{"$f":"SUMPRODUCT(ISNUMBER(MATCH(INDIRECT(\"H\"&$A$1&\"!B2:AF2\"),DimFe,0))*IFERROR(IF(\"19:00\">=IFERROR(Hgauche,0),IFERROR(hdroite-Hgauche,0),IF(durée1>0,durée1,\"00:00\")),0))+SUMPRODUCT(ISNUMBER(MATCH(INDIRECT(\"H\"&$A$1&\"!B2:AF2\"),moindimfe,0))*IFERROR(IF(\"19:00\"<=IFERROR(Hgauche,0),IF(durée4<0,0,durée4),\"00:00\"),0))","v":0},{"$f":"SUMPRODUCT(ISNUMBER(MATCH(INDIRECT(\"H\"&$A$1&\"!B2:AF2\"),DimFe,0))*IFERROR(IF(\"19:00\"<=IFERROR(Hgauche,0),IF(durée6<0,0,durée6),IF(durée<0,0,durée)),0))+SUMPRODUCT(ISNUMBER(MATCH(INDIRECT(\"H\"&$A$1&\"!B2:AF2\"),moindimfe,0))*IFERROR(IF(\"19:00\"<=IFERROR(Hgauche,0),IF(durée2<0,0,durée2),\"00:00\"),0))","v":0},{"$f":"SUM(SUMPRODUCT(1*IFERROR(IF(\"19:00\"<=IFERROR(Hgauche,0),IF(durée2<0,0,durée2),\"00:00\"),0)),SUMPRODUCT(1*IFERROR(IF(\"19:00\"<=IFERROR(Hgauche,0),IF(durée6<0,0,durée6),\"00:00\"),0)),SUMPRODUCT(1*IFERROR(IF(\"21:00\"<=IFERROR(Hdroitesimple,0),IF(durée<0,0,durée),\"00:00\"),0)))-durée5","v":0},null,{"$f":"bilanh","v":0},{"$f":"VLOOKUP($A56,Bilan!$A$9:$AQ104,37,FALSE)","v":63},null,{"$f":"Bilan!AN56","v":65},65,null,{"$f":"Jourtravaillé","v":0}]

{"sheet":"BMars","index":28,"n_rows":56,"n_cols":66,"rows_kept":56,"cut":false,"hidden":false,"merged":[[7,37,7,38],[6,27,7,27],[6,28,7,28],[6,30,7,30],[6,31,7,31],[6,32,7,32],[7,34,7,35]]}
["Mars"]
[null,null,{"$f":"LEFT(OFFSET(INDIRECT(\"H\"&$A$1&\"!B8:AF8\"),MATCH($A9,INDIRECT(\"H\"&$A$1&\"!A9:A56\"),0),),5)","v":""}]
[null,null,{"$f":"RIGHT(OFFSET(INDIRECT(\"H\"&$A$1&\"!B8:AF8\"),MATCH($A3,INDIRECT(\"H\"&$A$1&\"!A9:A56\"),0),),5)","v":""}]
[]
[]
["Jours",{"$f":"Données!$E3","v":0.31597222222222227},{"$f":"Données!$E4","v":0.10763888888888884},{"$f":"Données!$E5","v":0.31249999999999994},{"$f":"Données!$E6","v":0.32291666666666669},{"$f":"Données!$E7","v":8.3333333333333315E-2},{"$f":"Données!$E8","v":0.47916666666666669},{"$f":"Données!$E9","v":0.3125},{"$f":"Données!$E10","v":0.48958333333333337},{"$f":"Données!$E11","v":0.47916666666666669},{"$f":"Données!$E12","v":0.51041666666666674},{"$f":"Données!$E13","v":0.51041666666666674},{"$f":"Données!$E14","v":0.44791666666666663},{"$f":"Données!$E15","v":0.49999999999999989},{"$f":"Données!$E16","v":0.49999999999999989},{"$f":"Données!$E17","v":0.5},{"$f":"Données!$E18","v":0.29166666666666669},{"$f":"Données!$E19","v":0.3125},{"$f":"Données!$E20","v":0.3125},{"$f":"Données!$E21","v":0.3125},{"$f":"Données!$E22","v":0.3125},{"$f":"Données!$E23","v":0.3125},{"$f":"Données!$E24","v":0},{"$f":"Données!$E25","v":0},{"$f":"Données!$E26","v":0},{"$f":"Données!$E27","v":0.33333333333333331},{"$f":"Données!$E28","v":0}]
[null,{"$f":"Données!$A3","v":"M"},{"$f":"Données!$A4","v":"MG"},{"$f":"Données!$A5","v":"J"},{"$f":"Données!$A6","v":"J+"},{"$f":"Données!$A7","v":"R"},{"$f":"Données!$A8","v":"RS"},{"$f":"Données!$A9","v":"S"},{"$f":"Données!$A10","v":"W"},{"$f":"Données!$A11","v":"W+"},{"$f":"Données!$A12","v":"WD"},{"$f":"Données!$A13","v":"WF"},{"$f":"Données!$A14","v":"N"},{"$f":"Données!$A15","v":"N+"},{"$f":"Données!$A16","v":"NS"},{"$f":"Données!$A17","v":"T"},{"$f":"Données!$A18","v":"F"},{"$f":"Données!$A19","v":"SYN"},{"$f":"Données!$A20","v":"AT"},{"$f":"Données!$A21","v":"AM"},{"$f":"Données!$A22","v":"EM"},{"$f":"Données!$A23","v":"CE"},{"$f":"Données!$A24","v":"CA"},{"$f":"Données!$A25","v":"CA16"},{"$f":"Données!$A26","v":"REC"},{"$f":"Données!$A27","v":"PL"},{"$f":"Données!$A28","v":"D"},"Heures\nSupplémentaires \navant 21 h","Heures\nSupplémentaires \naprès 21 h",null,"Heures dimanche","Heures de nuit dimanches","Heures apres 21 h"]
["Equipe de jour",{"$f":"IF(ISBLANK(Données!$C3),TEXT(Données!$B3,\"hh:mm\"),TEXT(Données!$B3,\"hh:mm\")&\" : \"&TEXT(Données!$C3,\"hh:mm\"))","v":"07:00 : 14:35"},{"$f":"IF(ISBLANK(Données!$C4),TEXT(Données!$B4,\"hh:mm\"),TEXT(Données!$B4,\"hh:mm\")&\" : \"&TEXT(Données!$C4,\"hh:mm\"))","v":"23:00 : 01:35"},{"$f":"IF(ISBLANK(Données!$C5),TEXT(Données!$B5,\"hh:mm\"),TEXT(Données!$B5,\"hh:mm\")&\" : \"&TEXT(Données!$C5,\"hh:mm\"))","v":"10:00 : 17:30"},{"$f":"IF(ISBLANK(Données!$C6),TEXT(Données!$B6,\"hh:mm\"),TEXT(Données!$B6,\"hh:mm\")&\" : \"&TEXT(Données!$C6,\"hh:mm\"))","v":"11:30 : 19:15"},{"$f":"IF(ISBLANK(Données!$C7),TEXT(Données!$B7,\"hh:mm\"),TEXT(Données!$B7,\"hh:mm\")&\" : \"&TEXT(Données!$C7,\"hh:mm\"))","v":"10:00 : 12:00"},{"$f":"IF(ISBLANK(Données!$C8),TEXT(Données!$B8,\"hh:mm\"),TEXT(Données!$B8,\"hh:mm\")&\" : \"&TEXT(Données!$C8,\"hh:mm\"))","v":"10:00 : 21:30"},{"$f":"IF(ISBLANK(Données!$C9),TEXT(Données!$B9,\"hh:mm\"),TEXT(Données!$B9,\"hh:mm\")&\" : \"&TEXT(Données!$C9,\"hh:mm\"))","v":"14:00 : 21:30"},{"$f":"IF(ISBLANK(Données!$C10),TEXT(Données!$B10,\"hh:mm\"),TEXT(Données!$B10,\"hh:mm\")&\" : \"&TEXT(Données!$C10,\"hh:mm\"))","v":"07:30 : 19:15"},{"$f":"IF(ISBLANK(Données!$C11),TEXT(Données!$B11,\"hh:mm\"),TEXT(Données!$B11,\"hh:mm\")&\" : \"&TEXT(Données!$C11,\"hh:mm\"))","v":"10:00 : 21:30"},{"$f":"IF(ISBLANK(Données!$C12),TEXT(Données!$B12,\"hh:mm\"),TEXT(Données!$B12,\"hh:mm\")&\" : \"&TEXT(Données!$C12,\"hh:mm\"))","v":"07:00 : 19:15"},{"$f":"IF(ISBLANK(Données!$C13),TEXT(Données!$B13,\"hh:mm\"),TEXT(Données!$B13,\"hh:mm\")&\" : \"&TEXT(Données!$C13,\"hh:mm\"))","v":"07:00 : 19:15"},{"$f":"IF(ISBLANK(Données!$C14),TEXT(Données!$B14,\"hh:mm\"),TEXT(Données!$B14,\"hh:mm\")&\" : \"&TEXT(Données!$C14,\"hh:mm\"))","v":"20:30 : 07:15"},{"$f":"IF(ISBLANK(Données!$C15),TEXT(Données!$B15,\"hh:mm\"),TEXT(Données!$B15,\"hh:mm\")&\" : \"&TEXT(Données!$C15,\"hh:mm\"))","v":"19:15 : 07:15"},{"$f":"IF(ISBLANK(Données!$C16),TEXT(Données!$B16,\"hh:mm\"),TEXT(Données!$B16,\"hh:mm\")&\" : \"&TEXT(Données!$C16,\"hh:mm\"))","v":"19:15 : 07:15"},{"$f":"IF(ISBLANK(Données!$C17),TEXT(Données!$B17,\"hh:mm\"),TEXT(Données!$B17,\"hh:mm\")&\" : \"&TEXT(Données!$C17,\"hh:mm\"))","v":"T"},{"$f":"IF(ISBLANK(Données!$C18),TEXT(Données!$B18,\"hh:mm\"),TEXT(Données!$B18,\"hh:mm\")&\" : \"&TEXT(Données!$C18,\"hh:mm\"))","v":"F"},{"$f":"IF(ISBLANK(Données!$C19),TEXT(Données!$B19,\"hh:mm\"),TEXT(Données!$B19,\"hh:mm\")&\" : \"&TEXT(Données!$C19,\"hh:mm\"))","v":"Syn"},{"$f":"IF(ISBLANK(Données!$C20),TEXT(Données!$B20,\"hh:mm\"),TEXT(Données!$B20,\"hh:mm\")&\" : \"&TEXT(Données!$C20,\"hh:mm\"))","v":"AT"},{"$f":"IF(ISBLANK(Données!$C21),TEXT(Données!$B21,\"hh:mm\"),TEXT(Données!$B21,\"hh:mm\")&\" : \"&TEXT(Données!$C21,\"hh:mm\"))","v":"AM"},{"$f":"IF(ISBLANK(Données!$C22),TEXT(Données!$B22,\"hh:mm\"),TEXT(Données!$B22,\"hh:mm\")&\" : \"&TEXT(Données!$C22,\"hh:mm\"))","v":"EM"},{"$f":"IF(ISBLANK(Données!$C23),TEXT(Données!$B23,\"hh:mm\"),TEXT(Données!$B23,\"hh:mm\")&\" : \"&TEXT(Données!$C23,\"hh:mm\"))","v":"CE"},{"$f":"IF(ISBLANK(Données!$C24),TEXT(Données!$B24,\"hh:mm\"),TEXT(Données!$B24,\"hh:mm\")&\" : \"&TEXT(Données!$C24,\"hh:mm\"))","v":"CA"},{"$f":"IF(ISBLANK(Données!$C25),TEXT(Données!$B25,\"hh:mm\"),TEXT(Données!$B25,\"hh:mm\")&\" : \"&TEXT(Données!$C25,\"hh:mm\"))","v":"CA16"},{"$f":"IF(ISBLANK(Données!$C26),TEXT(Données!$B26,\"hh:mm\"),TEXT(Données!$B26,\"hh:mm\")&\" : \"&TEXT(Données!$C26,\"hh:mm\"))","v":"REC"},{"$f":"IF(ISBLANK(Données!$C27),TEXT(Données!$B27,\"hh:mm\"),TEXT(Données!$B27,\"hh:mm\")&\" : \"&TEXT(Données!$C27,\"hh:mm\"))","v":"PL"},{"$f":"IF(ISBLANK(Données!$C28),TEXT(Données!$B28,\"hh:mm\"),TEXT(Données!$B28,\"hh:mm\")&\" : \"&TEXT(Données!$C28,\"hh:mm\"))","v":"D"},null,null,null,null,null,null,null,"Total ",null,null,"CA",null,null,"Jour travaillé"]
[{"$f":"Données!$H6","v":"A"},{"$f":"IF(SUMPRODUCT((INDIRECT(\"'\"&$A$1&\"'!$A$7:$A$56\")=$A9)*(INDIRECT(\"'\"&$A$1&\"'!$B$7:$AF$56\")=B$7))=0,\"\",SUMPRODUCT((INDIRECT(\"'\"&$A$1&\"'!$A$7:$A$56\")=$A9)*(INDIRECT(\"'\"&$A$1&\"'!$B$7:$AF$56\")=B$7)))","v":""},{"$f":"IF(SUMPRODUCT((INDIRECT(\"'\"&$A$1&\"'!$A$7:$A$56\")=$A9)*(INDIRECT(\"'\"&$A$1&\"'!$B$7:$AF$56\")=C$7))=0,\"\",SUMPRODUCT((INDIRECT(\"'\"&$A$1&\"'!$A$7:$A$56\")=$A9)*(INDIRECT(\"'\"&$A$1&\"'!$B$7:$AF$56\")=C$7)))","v":""},"","","","","","","","","","","","","","","","","","","","","","","","",{"$f":"VLOOKUP($A9,INDIRECT(\"'\"&$A$1&\"'!$A$7:$AR$56\"),35,0)","v":"00:00:00"},{"$f":"VLOOKUP($A9,INDIRECT(\"'\"&$A$1&\"'!$A$7:$AR$56\"),36,0)","v":"00:00:00"},null,{"$f":"SUMPRODUCT(ISNUMBER(MATCH(INDIRECT(\"H\"&$A$1&\"!B2:AF2\"),DimFe,0))*IFERROR(IF(\"19:00\">=IFERROR(Hgauche,0),IFERROR(hdroite-Hgauche,0),IF(durée1>0,durée1,\"00:00\")),0))+SUMPRODUCT(ISNUMBER(MATCH(INDIRECT(\"H\"&$A$1&\"!B2:AF2\"),moindimfe,0))*IFERROR(IF(\"19:00\"<=IFERROR(Hgauche,0),IF(durée4<0,0,durée4),\"00:00\"),0))","v":0},{"$f":"SUMPRODUCT(ISNUMBER(MATCH(INDIRECT(\"H\"&$A$1&\"!B2:AF2\"),DimFe,0))*IFERROR(IF(\"19:00\"<=IFERROR(Hgauche,0),IF(durée6<0,0,durée6),IF(durée<0,0,durée)),0))+SUMPRODUCT(ISNUMBER(MATCH(INDIRECT(\"H\"&$A$1&\"!B2:AF2\"),moindimfe,0))*IFERROR(IF(\"19:00\"<=IFERROR(Hgauche,0),IF(durée2<0,0,durée2),\"00:00\"),0))","v":0},{"$f":"SUM(SUMPRODUCT(1*IFERROR(IF(\"19:00\"<=IFERROR(Hgauche,0),IF(durée2<0,0,durée2),\"00:00\"),0)),SUMPRODUCT(1*IFERROR(IF(\"19:00\"<=IFERROR(Hgauche,0),IF(durée6<0,0,durée6),\"00:00\"),0)),SUMPRODUCT(1*IFERROR(IF(\"21:00\"<=IFERROR(Hdroitesimple,0),IF(durée<0,0,durée),\"00:00\"),0)))-durée5","v":0},null,{"$f":"bilanh","v":0},{"$f":"VLOOKUP($A9,Bilan!$A$9:$AQ57,37,FALSE)","v":59.5},null,{"$f":"Bilan!AN9","v":65},65,null,{"$f":"Jourtravaillé","v":0}]
[{"$f":"Données!$H7","v":0},{"$f":"IF(SUMPRODUCT((INDIRECT(\"'\"&$A$1&\"'!$A$7:$A$56\")=$A10)*(INDIRECT(\"'\"&$A$1&\"'!$B$7:$AF$56\")=B$7))=0,\"\",SUMPRODUCT((INDIRECT(\"'\"&$A$1&\"'!$A$7:$A$56\")=$A10)*(INDIRECT(\"'\"&$A$1&\"'!$B$7:$AF$56\")=B$7)))","v":""},"","","","","","","","","","","","","","","","","","","","","","","","","",{"$f":"VLOOKUP($A10,INDIRECT(\"'\"&$A$1&\"'!$A$7:$AR$56\"),35,0)","v":"00:00:00"},{"$f":"VLOOKUP($A10,INDIRECT(\"'\"&$A$1&\"'!$A$7:$AR$56\"),36,0)","v":"00:00:00"},null,{"$f":"SUMPRODUCT(ISNUMBER(MATCH(INDIRECT(\"H\"&$A$1&\"!B2:AF2\"),DimFe,0))*IFERROR(IF(\"19:00\">=IFERROR(Hgauche,0),IFERROR(hdroite-Hgauche,0),IF(durée1>0,durée1,\"00:00\")),0))+SUMPRODUCT(ISNUMBER(MATCH(INDIRECT(\"H\"&$A$1&\"!B2:AF2\"),moindimfe,0))*IFERROR(IF(\"19:00\"<=IFERROR(Hgauche,0),IF(durée4<0,0,durée4),\"00:00\"),0))","v":0},{"$f":"SUMPRODUCT(ISNUMBER(MATCH(INDIRECT(\"H\"&$A$1&\"!B2:AF2\"),DimFe,0))*IFERROR(IF(\"19:00\"<=IFERROR(Hgauche,0),IF(durée6<0,0,durée6),IF(durée<0,0,durée)),0))+SUMPRODUCT(ISNUMBER(MATCH(INDIRECT(\"H\"&$A$1&\"!B2:AF2\"),moindimfe,0))*IFERROR(IF(\"19:00\"<=IFERROR(Hgauche,0),IF(durée2<0,0,durée2),\"00:00\"),0))","v":0},{"$f":"SUM(SUMPRODUCT(1*IFERROR(IF(\"19:00\"<=IFERROR(Hgauche,0),IF(durée2<0,0,durée2),\"00:00\"),0)),SUMPRODUCT(1*IFERROR(IF(\"19:00\"<=IFERROR(Hgauche,0),IF(durée6<0,0,durée6),\"00:00\"),0)),SUMPRODUCT(1*IFERROR(IF(\"21:00\"<=IFERROR(Hdroitesimple,0),IF(durée<0,0,durée),\"00:00\"),0)))-durée5","v":0},null,0,{"$f":"VLOOKUP($A10,Bilan!$A$9:$AQ58,37,FALSE)","v":59.5},null,{"$f":"Bilan!AN10","v":65},65,null,0]
[{"$f":"Données!$H8","v":0},"","","","","","","","","","","","","","","","","","","","","","","","","","","00:00:00","00:00:00",null,{"$f":"SUMPRODUCT(ISNUMBER(MATCH(INDIRECT(\"H\"&$A$1&\"!B2:AF2\"),DimFe,0))*IFERROR(IF(\"19:00\">=IFERROR(Hgauche,0),IFERROR(hdroite-Hgauche,0),IF(durée1>0,durée1,\"00:00\")),0))+SUMPRODUCT(ISNUMBER(MATCH(INDIRECT(\"H\"&$A$1&\"!B2:AF2\"),moindimfe,0))*IFERROR(IF(\"19:00\"<=IFERROR(Hgauche,0),IF(durée4<0,0,durée4),\"00:00\"),0))","v":0},{"$f":"SUMPRODUCT(ISNUMBER(MATCH(INDIRECT(\"H\"&$A$1&\"!B2:AF2\"),DimFe,0))*IFERROR(IF(\"19:00\"<=IFERROR(Hgauche,0),IF(durée6<0,0,durée6),IF(durée<0,0,durée)),0))+SUMPRODUCT(ISNUMBER(MATCH(INDIRECT(\"H\"&$A$1&\"!B2:AF2\"),moindimfe,0))*IFERROR(IF(\"19:00\"<=IFERROR(Hgauche,0),IF(durée2<0,0,durée2),\"00:00\"),0))","v":0},{"$f":"SUM(SUMPRODUCT(1*IFERROR(IF(\"19:00\"<=IFERROR(Hgauche,0),IF(durée2<0,0,durée2),\"00:00\"),0)),SUMPRODUCT(1*IFERROR(IF(\"19:00\"<=IFERROR(Hgauche,0),IF(durée6<0,0,durée6),\"00:00\"),0)),SUMPRODUCT(1*IFERROR(IF(\"21:00\"<=IFERROR(Hdroitesimple,0),IF(durée<0,0,durée),\"00:00\"),0)))-durée5","v":0},null,0,{"$f":"VLOOKUP($A11,Bilan!$A$9:$AQ59,37,FALSE)","v":59.5},null,{"$f":"Bilan!AN11","v":65},65,null,0]
[{"$f":"Données!$H9","v":0},"","","","","","","","","","","","","","","","","","","","","","","","","","","00:00:00","00:00:00",null,{"$f":"SUMPRODUCT(ISNUMBER(MATCH(INDIRECT(\"H\"&$A$1&\"!B2:AF2\"),DimFe,0))*IFERROR(IF(\"19:00\">=IFERROR(Hgauche,0),IFERROR(hdroite-Hgauche,0),IF(durée1>0,durée1,\"00:00\")),0))+SUMPRODUCT(ISNUMBER(MATCH(INDIRECT(\"H\"&$A$1&\"!B2:AF2\"),moindimfe,0))*IFERROR(IF(\"19:00\"<=IFERROR(Hgauche,0),IF(durée4<0,0,durée4),\"00:00\"),0))","v":0},{"$f":"SUMPRODUCT(ISNUMBER(MATCH(INDIRECT(\"H\"&$A$1&\"!B2:AF2\"),DimFe,0))*IFERROR(IF(\"19:00\"<=IFERROR(Hgauche,0),IF(durée6<0,0,durée6),IF(durée<0,0,durée)),0))+SUMPRODUCT(ISNUMBER(MATCH(INDIRECT(\"H\"&$A$1&\"!B2:AF2\"),moindimfe,0))*IFERROR(IF(\"19:00\"<=IFERROR(Hgauche,0),IF(durée2<0,0,durée2),\"00:00\"),0))","v":0},{"$f":"SUM(SUMPRODUCT(1*IFERROR(IF(\"19:00\"<=IFERROR(Hgauche,0),IF(durée2<0,0,durée2),\"00:00\"),0)),SUMPRODUCT(1*IFERROR(IF(\"19:00\"<=IFERROR(Hgauche,0),IF(durée6<0,0,durée6),\"00:00\"),0)),SUMPRODUCT(1*IFERROR(IF(\"21:00\"<=IFERROR(Hdroitesimple,0),IF(durée<0,0,durée),\"00:00\"),0)))-durée5","v":0},null,0,{"$f":"VLOOKUP($A12,Bilan!$A$9:$AQ60,37,FALSE)","v":59.5},null,{"$f":"Bilan!AN12","v":65},65,null,0]
[{"$f":"Données!$H10","v":0},"","","","","","","","","","","","","","","","","","","","","","","","","","","00:00:00","00:00:00",null,{"$f":"SUMPRODUCT(ISNUMBER(MATCH(INDIRECT(\"H\"&$A$1&\"!B2:AF2\"),DimFe,0))*IFERROR(IF(\"19:00\">=IFERROR(Hgauche,0),IFERROR(hdroite-Hgauche,0),IF(durée1>0,durée1,\"00:00\")),0))+SUMPRODUCT(ISNUMBER(MATCH(INDIRECT(\"H\"&$A$1&\"!B2:AF2\"),moindimfe,0))*IFERROR(IF(\"19:00\"<=IFERROR(Hgauche,0),IF(durée4<0,0,durée4),\"00:00\"),0))","v":0},{"$f":"SUMPRODUCT(ISNUMBER(MATCH(INDIRECT(\"H\"&$A$1&\"!B2:AF2\"),DimFe,0))*IFERROR(IF(\"19:00\"<=IFERROR(Hgauche,0),IF(durée6<0,0,durée6),IF(durée<0,0,durée)),0))+SUMPRODUCT(ISNUMBER(MATCH(INDIRECT(\"H\"&$A$1&\"!B2:AF2\"),moindimfe,0))*IFERROR(IF(\"19:00\"<=IFERROR(Hgauche,0),IF(durée2<0,0,durée2),\"00:00\"),0))","v":0},{"$f":"SUM(SUMPRODUCT(1*IFERROR(IF(\"19:00\"<=IFERROR(Hgauche,0),IF(durée2<0,0,durée2),\"00:00\"),0)),SUMPRODUCT(1*IFERROR(IF(\"19:00\"<=IFERROR(Hgauche,0),IF(durée6<0,0,durée6),\"00:00\"),0)),SUMPRODUCT(1*IFERROR(IF(\"21:00\"<=IFERROR(Hdroitesimple,0),IF(durée<0,0,durée),\"00:00\"),0)))-durée5","v":0},null,0,{"$f":"VLOOKUP($A13,Bilan!$A$9:$AQ61,37,FALSE)","v":59.5},null,{"$f":"Bilan!AN13","v":65},65,null,0]
[{"$f":"Données!$H11","v":0},"","","","","","","","","","","","","","","","","","","","","","","","","","","00:00:00","00:00:00",null,{"$f":"SUMPRODUCT(ISNUMBER(MATCH(INDIRECT(\"H\"&$A$1&\"!B2:AF2\"),DimFe,0))*IFERROR(IF(\"19:00\">=IFERROR(Hgauche,0),IFERROR(hdroite-Hgauche,0),IF(durée1>0,durée1,\"00:00\")),0))+SUMPRODUCT(ISNUMBER(MATCH(INDIRECT(\"H\"&$A$1&\"!B2:AF2\"),moindimfe,0))*IFERROR(IF(\"19:00\"<=IFERROR(Hgauche,0),IF(durée4<0,0,durée4),\"00:00\"),0))","v":0},{"$f":"SUMPRODUCT(ISNUMBER(MATCH(INDIRECT(\"H\"&$A$1&\"!B2:AF2\"),DimFe,0))*IFERROR(IF(\"19:00\"<=IFERROR(Hgauche,0),IF(durée6<0,0,durée6),IF(durée<0,0,durée)),0))+SUMPRODUCT(ISNUMBER(MATCH(INDIRECT(\"H\"&$A$1&\"!B2:AF2\"),moindimfe,0))*IFERROR(IF(\"19:00\"<=IFERROR(Hgauche,0),IF(durée2<0,0,durée2),\"00:00\"),0))","v":0},{"$f":"SUM(SUMPRODUCT(1*IFERROR(IF(\"19:00\"<=IFERROR(Hgauche,0),IF(durée2<0,0,durée2),\"00:00\"),0)),SUMPRODUCT(1*IFERROR(IF(\"19:00\"<=IFERROR(Hgauche,0),IF(durée6<0,0,durée6),\"00:00\"),0)),SUMPRODUCT(1*IFERROR(IF(\"21:00\"<=IFERROR(Hdroitesimple,0),IF(durée<0,0,durée),\"00:00\"),0)))-durée5","v":0},null,0,{"$f":"VLOOKUP($A14,Bilan!$A$9:$AQ62,37,FALSE)","v":59.5},null,{"$f":"Bilan!AN14","v":65},65,null,0]
[{"$f":"Données!$H12","v":0},"","","","","","","","","","","","","","","","","","","","","","","","","","","00:00:00","00:00:00",null,{"$f":"SUMPRODUCT(ISNUMBER(MATCH(INDIRECT(\"H\"&$A$1&\"!B2:AF2\"),DimFe,0))*IFERROR(IF(\"19:00\">=IFERROR(Hgauche,0),IFERROR(hdroite-Hgauche,0),IF(durée1>0,durée1,\"00:00\")),0))+SUMPRODUCT(ISNUMBER(MATCH(INDIRECT(\"H\"&$A$1&\"!B2:AF2\"),moindimfe,0))*IFERROR(IF(\"19:00\"<=IFERROR(Hgauche,0),IF(durée4<0,0,durée4),\"00:00\"),0))","v":0},{"$f":"SUMPRODUCT(ISNUMBER(MATCH(INDIRECT(\"H\"&$A$1&\"!B2:AF2\"),DimFe,0))*IFERROR(IF(\"19:00\"<=IFERROR(Hgauche,0),IF(durée6<0,0,durée6),IF(durée<0,0,durée)),0))+SUMPRODUCT(ISNUMBER(MATCH(INDIRECT(\"H\"&$A$1&\"!B2:AF2\"),moindimfe,0))*IFERROR(IF(\"19:00\"<=IFERROR(Hgauche,0),IF(durée2<0,0,durée2),\"00:00\"),0))","v":0},{"$f":"SUM(SUMPRODUCT(1*IFERROR(IF(\"19:00\"<=IFERROR(Hgauche,0),IF(durée2<0,0,durée2),\"00:00\"),0)),SUMPRODUCT(1*IFERROR(IF(\"19:00\"<=IFERROR(Hgauche,0),IF(durée6<0,0,durée6),\"00:00\"),0)),SUMPRODUCT(1*IFERROR(IF(\"21:00\"<=IFERROR(Hdroitesimple,0),IF(durée<0,0,durée),\"00:00\"),0)))-durée5","v":0},null,0,{"$f":"VLOOKUP($A15,Bilan!$A$9:$AQ63,37,FALSE)","v":59.5},null,{"$f":"Bilan!AN15","v":65},65,null,0]
[{"$f":"Données!$H13","v":0},"","","","","","","","","","","","","","","","","","","","","","","","","","","00:00:00","00:00:00",null,{"$f":"SUMPRODUCT(ISNUMBER(MATCH(INDIRECT(\"H\"&$A$1&\"!B2:AF2\"),DimFe,0))*IFERROR(IF(\"19:00\">=IFERROR(Hgauche,0),IFERROR(hdroite-Hgauche,0),IF(durée1>0,durée1,\"00:00\")),0))+SUMPRODUCT(ISNUMBER(MATCH(INDIRECT(\"H\"&$A$1&\"!B2:AF2\"),moindimfe,0))*IFERROR(IF(\"19:00\"<=IFERROR(Hgauche,0),IF(durée4<0,0,durée4),\"00:00\"),0))","v":0},{"$f":"SUMPRODUCT(ISNUMBER(MATCH(INDIRECT(\"H\"&$A$1&\"!B2:AF2\"),DimFe,0))*IFERROR(IF(\"19:00\"<=IFERROR(Hgauche,0),IF(durée6<0,0,durée6),IF(durée<0,0,durée)),0))+SUMPRODUCT(ISNUMBER(MATCH(INDIRECT(\"H\"&$A$1&\"!B2:AF2\"),moindimfe,0))*IFERROR(IF(\"19:00\"<=IFERROR(Hgauche,0),IF(durée2<0,0,durée2),\"00:00\"),0))","v":0},{"$f":"SUM(SUMPRODUCT(1*IFERROR(IF(\"19:00\"<=IFERROR(Hgauche,0),IF(durée2<0,0,durée2),\"00:00\"),0)),SUMPRODUCT(1*IFERROR(IF(\"19:00\"<=IFERROR(Hgauche,0),IF(durée6<0,0,durée6),\"00:00\"),0)),SUMPRODUCT(1*IFERROR(IF(\"21:00\"<=IFERROR(Hdroitesimple,0),IF(durée<0,0,durée),\"00:00\"),0)))-durée5","v":0},null,0,{"$f":"VLOOKUP($A16,Bilan!$A$9:$AQ64,37,FALSE)","v":59.5},null,{"$f":"Bilan!AN16","v":65},65,null,0]
[{"$f":"Données!$H14","v":0},"","","","","","","","","","","","","","","","","","","","","","","","","","","00:00:00","00:00:00",null,{"$f":"SUMPRODUCT(ISNUMBER(MATCH(INDIRECT(\"H\"&$A$1&\"!B2:AF2\"),DimFe,0))*IFERROR(IF(\"19:00\">=IFERROR(Hgauche,0),IFERROR(hdroite-Hgauche,0),IF(durée1>0,durée1,\"00:00\")),0))+SUMPRODUCT(ISNUMBER(MATCH(INDIRECT(\"H\"&$A$1&\"!B2:AF2\"),moindimfe,0))*IFERROR(IF(\"19:00\"<=IFERROR(Hgauche,0),IF(durée4<0,0,durée4),\"00:00\"),0))","v":0},{"$f":"SUMPRODUCT(ISNUMBER(MATCH(INDIRECT(\"H\"&$A$1&\"!B2:AF2\"),DimFe,0))*IFERROR(IF(\"19:00\"<=IFERROR(Hgauche,0),IF(durée6<0,0,durée6),IF(durée<0,0,durée)),0))+SUMPRODUCT(ISNUMBER(MATCH(INDIRECT(\"H\"&$A$1&\"!B2:AF2\"),moindimfe,0))*IFERROR(IF(\"19:00\"<=IFERROR(Hgauche,0),IF(durée2<0,0,durée2),\"00:00\"),0))","v":0},{"$f":"SUM(SUMPRODUCT(1*IFERROR(IF(\"19:00\"<=IFERROR(Hgauche,0),IF(durée2<0,0,durée2),\"00:00\"),0)),SUMPRODUCT(1*IFERROR(IF(\"19:00\"<=IFERROR(Hgauche,0),IF(durée6<0,0,durée6),\"00:00\"),0)),SUMPRODUCT(1*IFERROR(IF(\"21:00\"<=IFERROR(Hdroitesimple,0),IF(durée<0,0,durée),\"00:00\"),0)))-durée5","v":0},null,0,{"$f":"VLOOKUP($A17,Bilan!$A$9:$AQ65,37,FALSE)","v":59.5},null,{"$f":"Bilan!AN17","v":65},65,null,0]
[{"$f":"Données!$H15","v":0},"","","","","","","","","","","","","","","","","","","","","","","","","","","00:00:00","00:00:00",null,{"$f":"SUMPRODUCT(ISNUMBER(MATCH(INDIRECT(\"H\"&$A$1&\"!B2:AF2\"),DimFe,0))*IFERROR(IF(\"19:00\">=IFERROR(Hgauche,0),IFERROR(hdroite-Hgauche,0),IF(durée1>0,durée1,\"00:00\")),0))+SUMPRODUCT(ISNUMBER(MATCH(INDIRECT(\"H\"&$A$1&\"!B2:AF2\"),moindimfe,0))*IFERROR(IF(\"19:00\"<=IFERROR(Hgauche,0),IF(durée4<0,0,durée4),\"00:00\"),0))","v":0},{"$f":"SUMPRODUCT(ISNUMBER(MATCH(INDIRECT(\"H\"&$A$1&\"!B2:AF2\"),DimFe,0))*IFERROR(IF(\"19:00\"<=IFERROR(Hgauche,0),IF(durée6<0,0,durée6),IF(durée<0,0,durée)),0))+SUMPRODUCT(ISNUMBER(MATCH(INDIRECT(\"H\"&$A$1&\"!B2:AF2\"),moindimfe,0))*IFERROR(IF(\"19:00\"<=IFERROR(Hgauche,0),IF(durée2<0,0,durée2),\"00:00\"),0))","v":0},{"$f":"SUM(SUMPRODUCT(1*IFERROR(IF(\"19:00\"<=IFERROR(Hgauche,0),IF(durée2<0,0,durée2),\"00:00\"),0)),SUMPRODUCT(1*IFERROR(IF(\"19:00\"<=IFERROR(Hgauche,0),IF(durée6<0,0,durée6),\"00:00\"),0)),SUMPRODUCT(1*IFERROR(IF(\"21:00\"<=IFERROR(Hdroitesimple,0),IF(durée<0,0,durée),\"00:00\"),0)))-durée5","v":0},null,0,{"$f":"VLOOKUP($A18,Bilan!$A$9:$AQ66,37,FALSE)","v":59.5},null,{"$f":"Bilan!AN18","v":65},65,null,0]
[{"$f":"Données!$H16","v":0},{"$f":"SUMPRODUCT((INDIRECT(\"'\"&$A$1&\"'!$A$7:$A$56\")=$A19)*(INDIRECT(\"'\"&$A$1&\"'!$B$7:$AF$56\")=B$7))","v":0},0,0,0,0,0,0,0,0,0,0,0,0,0,0,0,{"$f":"SUMPRODUCT((INDIRECT(\"'\"&$A$1&\"'!$A$7:$A$56\")=$A19)*(INDIRECT(\"'\"&$A$1&\"'!$B$7:$AF$56\")=R$7))","v":0},0,0,0,0,0,0,0,0,0,{"$f":"VLOOKUP($A19,INDIRECT(\"'H\"&$A$1&\"'!$A$7:$AR$56\"),35,0)","v":"00:00:00"},{"$f":"VLOOKUP($A19,INDIRECT(\"'H\"&$A$1&\"'!$A$7:$AR$56\"),38,0)","v":"00:00:00"},null,{"$f":"SUMPRODUCT(ISNUMBER(MATCH(INDIRECT(\"H\"&$A$1&\"!B2:AF2\"),DimFe,0))*IFERROR(IF(\"19:00\">=IFERROR(Hgauche,0),IFERROR(hdroite-Hgauche,0),IF(durée1>0,durée1,\"00:00\")),0))+SUMPRODUCT(ISNUMBER(MATCH(INDIRECT(\"H\"&$A$1&\"!B2:AF2\"),moindimfe,0))*IFERROR(IF(\"19:00\"<=IFERROR(Hgauche,0),IF(durée4<0,0,durée4),\"00:00\"),0))","v":0},{"$f":"SUMPRODUCT(ISNUMBER(MATCH(INDIRECT(\"H\"&$A$1&\"!B2:AF2\"),DimFe,0))*IFERROR(IF(\"19:00\"<=IFERROR(Hgauche,0),IF(durée6<0,0,durée6),IF(durée<0,0,durée)),0))+SUMPRODUCT(ISNUMBER(MATCH(INDIRECT(\"H\"&$A$1&\"!B2:AF2\"),moindimfe,0))*IFERROR(IF(\"19:00\"<=IFERROR(Hgauche,0),IF(durée2<0,0,durée2),\"00:00\"),0))","v":0},{"$f":"SUMPRODUCT(1*IF(durée<0,0,durée))+SUMPRODUCT(1*IFERROR(IF(\"19:00\"<=IFERROR(Hgauche,0),IF(durée2<0,0,durée2),\"00:00\"),0))-durée5","v":0},null,{"$f":"(AB19/24)+SUMPRODUCT(($B$6:$AA$6)*(B19:AA19))","v":0},{"$f":"VLOOKUP($A19,Bilan!A19:AI67,35,FALSE)","v":0},null,{"$f":"Bilan!AN19","v":{"$error":"#VALUE!"}},65,null,{"$f":"SUM(B19:R19)","v":0},null,null,null,null,null,null,null,null,null,null,null,null,null,null,null,null,null,null,null,null,null,null,null,{"$f":"Données!$A14","v":"N"},{"$f":"Données!$B14","v":0.85416666666666663}]
[{"$f":"Données!$H17","v":0},0,0,0,0,0,0,0,0,0,0,0,0,0,0,0,0,0,0,0,0,0,0,0,0,0,0,"00:00:00","00:00:00",null,{"$f":"SUMPRODUCT(ISNUMBER(MATCH(INDIRECT(\"H\"&$A$1&\"!B2:AF2\"),DimFe,0))*IFERROR(IF(\"19:00\">=IFERROR(Hgauche,0),IFERROR(hdroite-Hgauche,0),IF(durée1>0,durée1,\"00:00\")),0))+SUMPRODUCT(ISNUMBER(MATCH(INDIRECT(\"H\"&$A$1&\"!B2:AF2\"),moindimfe,0))*IFERROR(IF(\"19:00\"<=IFERROR(Hgauche,0),IF(durée4<0,0,durée4),\"00:00\"),0))","v":0},{"$f":"SUMPRODUCT(ISNUMBER(MATCH(INDIRECT(\"H\"&$A$1&\"!B2:AF2\"),DimFe,0))*IFERROR(IF(\"19:00\"<=IFERROR(Hgauche,0),IF(durée6<0,0,durée6),IF(durée<0,0,durée)),0))+SUMPRODUCT(ISNUMBER(MATCH(INDIRECT(\"H\"&$A$1&\"!B2:AF2\"),moindimfe,0))*IFERROR(IF(\"19:00\"<=IFERROR(Hgauche,0),IF(durée2<0,0,durée2),\"00:00\"),0))","v":0},{"$f":"SUMPRODUCT(1*IF(durée<0,0,durée))+SUMPRODUCT(1*IFERROR(IF(\"19:00\"<=IFERROR(Hgauche,0),IF(durée2<0,0,durée2),\"00:00\"),0))-durée5","v":0},null,0,{"$f":"VLOOKUP($A20,Bilan!A20:AI68,35,FALSE)","v":0},null,{"$f":"Bilan!AN20","v":{"$error":"#VALUE!"}},65,null,0,null,null,null,null,null,null,null,null,null,null,null,null,null,null,null,null,null,null,null,null,null,null,null,{"$f":"Données!$A15","v":"N+"},{"$f":"Données!$B15","v":0.80208333333333337}]
[{"$f":"Données!$H18","v":0},0,0,0,0,0,0,0,0,0,0,0,0,0,0,0,0,0,0,0,0,0,0,0,0,0,0,"00:00:00","00:00:00",null,{"$f":"SUMPRODUCT(ISNUMBER(MATCH(INDIRECT(\"H\"&$A$1&\"!B2:AF2\"),DimFe,0))*IFERROR(IF(\"19:00\">=IFERROR(Hgauche,0),IFERROR(hdroite-Hgauche,0),IF(durée1>0,durée1,\"00:00\")),0))+SUMPRODUCT(ISNUMBER(MATCH(INDIRECT(\"H\"&$A$1&\"!B2:AF2\"),moindimfe,0))*IFERROR(IF(\"19:00\"<=IFERROR(Hgauche,0),IF(durée4<0,0,durée4),\"00:00\"),0))","v":0},{"$f":"SUMPRODUCT(ISNUMBER(MATCH(INDIRECT(\"H\"&$A$1&\"!B2:AF2\"),DimFe,0))*IFERROR(IF(\"19:00\"<=IFERROR(Hgauche,0),IF(durée6<0,0,durée6),IF(durée<0,0,durée)),0))+SUMPRODUCT(ISNUMBER(MATCH(INDIRECT(\"H\"&$A$1&\"!B2:AF2\"),moindimfe,0))*IFERROR(IF(\"19:00\"<=IFERROR(Hgauche,0),IF(durée2<0,0,durée2),\"00:00\"),0))","v":0},{"$f":"SUMPRODUCT(1*IF(durée<0,0,durée))+SUMPRODUCT(1*IFERROR(IF(\"19:00\"<=IFERROR(Hgauche,0),IF(durée2<0,0,durée2),\"00:00\"),0))-durée5","v":0},null,0,{"$f":"VLOOKUP($A21,Bilan!A21:AI69,35,FALSE)","v":0},null,{"$f":"Bilan!AN21","v":{"$error":"#VALUE!"}},65,null,0,null,null,null,null,null,null,null,null,null,null,null,null,null,null,null,null,null,null,null,null,null,null,null,{"$f":"Données!$A16","v":"NS"},{"$f":"Données!$B16","v":0.80208333333333337}]
[{"$f":"Données!$H19","v":0},0,0,0,0,0,0,0,0,0,0,0,0,0,0,0,0,0,0,0,0,0,0,0,0,0,0,"00:00:00","00:00:00",null,{"$f":"SUMPRODUCT(ISNUMBER(MATCH(INDIRECT(\"H\"&$A$1&\"!B2:AF2\"),DimFe,0))*IFERROR(IF(\"19:00\">=IFERROR(Hgauche,0),IFERROR(hdroite-Hgauche,0),IF(durée1>0,durée1,\"00:00\")),0))+SUMPRODUCT(ISNUMBER(MATCH(INDIRECT(\"H\"&$A$1&\"!B2:AF2\"),moindimfe,0))*IFERROR(IF(\"19:00\"<=IFERROR(Hgauche,0),IF(durée4<0,0,durée4),\"00:00\"),0))","v":0},{"$f":"SUMPRODUCT(ISNUMBER(MATCH(INDIRECT(\"H\"&$A$1&\"!B2:AF2\"),DimFe,0))*IFERROR(IF(\"19:00\"<=IFERROR(Hgauche,0),IF(durée6<0,0,durée6),IF(durée<0,0,durée)),0))+SUMPRODUCT(ISNUMBER(MATCH(INDIRECT(\"H\"&$A$1&\"!B2:AF2\"),moindimfe,0))*IFERROR(IF(\"19:00\"<=IFERROR(Hgauche,0),IF(durée2<0,0,durée2),\"00:00\"),0))","v":0},{"$f":"SUMPRODUCT(1*IF(durée<0,0,durée))+SUMPRODUCT(1*IFERROR(IF(\"19:00\"<=IFERROR(Hgauche,0),IF(durée2<0,0,durée2),\"00:00\"),0))-durée5","v":0},null,0,{"$f":"VLOOKUP($A22,Bilan!A22:AI70,35,FALSE)","v":0},null,{"$f":"Bilan!AN22","v":{"$error":"#VALUE!"}},65,null,0,null,null,null,null,null,null,null,null,null,null,null,null,null,null,null,null,null,null,null,null,null,null,null,{"$f":"Données!$A17","v":"T"},{"$f":"Données!$B17","v":"T"}]
[{"$f":"Données!$H20","v":0},0,0,0,0,0,0,0,0,0,0,0,0,0,0,0,0,0,0,0,0,0,0,0,0,0,0,"00:00:00","00:00:00",null,{"$f":"SUMPRODUCT(ISNUMBER(MATCH(INDIRECT(\"H\"&$A$1&\"!B2:AF2\"),DimFe,0))*IFERROR(IF(\"19:00\">=IFERROR(Hgauche,0),IFERROR(hdroite-Hgauche,0),IF(durée1>0,durée1,\"00:00\")),0))+SUMPRODUCT(ISNUMBER(MATCH(INDIRECT(\"H\"&$A$1&\"!B2:AF2\"),moindimfe,0))*IFERROR(IF(\"19:00\"<=IFERROR(Hgauche,0),IF(durée4<0,0,durée4),\"00:00\"),0))","v":0},{"$f":"SUMPRODUCT(ISNUMBER(MATCH(INDIRECT(\"H\"&$A$1&\"!B2:AF2\"),DimFe,0))*IFERROR(IF(\"19:00\"<=IFERROR(Hgauche,0),IF(durée6<0,0,durée6),IF(durée<0,0,durée)),0))+SUMPRODUCT(ISNUMBER(MATCH(INDIRECT(\"H\"&$A$1&\"!B2:AF2\"),moindimfe,0))*IFERROR(IF(\"19:00\"<=IFERROR(Hgauche,0),IF(durée2<0,0,durée2),\"00:00\"),0))","v":0},{"$f":"SUMPRODUCT(1*IF(durée<0,0,durée))+SUMPRODUCT(1*IFERROR(IF(\"19:00\"<=IFERROR(Hgauche,0),IF(durée2<0,0,durée2),\"00:00\"),0))-durée5","v":0},null,0,{"$f":"VLOOKUP($A23,Bilan!A23:AI71,35,FALSE)","v":0},null,{"$f":"Bilan!AN23","v":{"$error":"#VALUE!"}},65,null,0,null,null,null,null,null,null,null,null,null,null,null,null,null,null,null,null,null,null,null,null,null,null,null,{"$f":"Données!$A18","v":"F"},{"$f":"Données!$B18","v":"F"}]
[{"$f":"Données!$H21","v":0},0,0,0,0,0,0,0,0,0,0,0,0,0,0,0,0,0,0,0,0,0,0,0,0,0,0,"00:00:00","00:00:00",null,{"$f":"SUMPRODUCT(ISNUMBER(MATCH(INDIRECT(\"H\"&$A$1&\"!B2:AF2\"),DimFe,0))*IFERROR(IF(\"19:00\">=IFERROR(Hgauche,0),IFERROR(hdroite-Hgauche,0),IF(durée1>0,durée1,\"00:00\")),0))+SUMPRODUCT(ISNUMBER(MATCH(INDIRECT(\"H\"&$A$1&\"!B2:AF2\"),moindimfe,0))*IFERROR(IF(\"19:00\"<=IFERROR(Hgauche,0),IF(durée4<0,0,durée4),\"00:00\"),0))","v":0},{"$f":"SUMPRODUCT(ISNUMBER(MATCH(INDIRECT(\"H\"&$A$1&\"!B2:AF2\"),DimFe,0))*IFERROR(IF(\"19:00\"<=IFERROR(Hgauche,0),IF(durée6<0,0,durée6),IF(durée<0,0,durée)),0))+SUMPRODUCT(ISNUMBER(MATCH(INDIRECT(\"H\"&$A$1&\"!B2:AF2\"),moindimfe,0))*IFERROR(IF(\"19:00\"<=IFERROR(Hgauche,0),IF(durée2<0,0,durée2),\"00:00\"),0))","v":0},{"$f":"SUMPRODUCT(1*IF(durée<0,0,durée))+SUMPRODUCT(1*IFERROR(IF(\"19:00\"<=IFERROR(Hgauche,0),IF(durée2<0,0,durée2),\"00:00\"),0))-durée5","v":0},null,0,{"$f":"VLOOKUP($A24,Bilan!A24:AI72,35,FALSE)","v":0},null,{"$f":"Bilan!AN24","v":{"$error":"#VALUE!"}},65,null,0,null,null,null,null,null,null,null,null,null,null,null,null,null,null,null,null,null,null,null,null,null,null,null,{"$f":"Données!$A19","v":"SYN"},{"$f":"Données!$B19","v":"Syn"}]
[{"$f":"Données!$H22","v":"Equipe de nuit"}]
[{"$f":"Données!$H23","v":"K"},{"$f":"IF(SUMPRODUCT((INDIRECT(\"'\"&$A$1&\"'!$A$7:$A$56\")=$A26)*(INDIRECT(\"'\"&$A$1&\"'!$B$7:$AF$56\")=B$7))=0,\"\",SUMPRODUCT((INDIRECT(\"'\"&$A$1&\"'!$A$7:$A$56\")=$A26)*(INDIRECT(\"'\"&$A$1&\"'!$B$7:$AF$56\")=B$7)))","v":""},"","","","","","","","","","","","","","","",{"$f":"IF(SUMPRODUCT((INDIRECT(\"'\"&$A$1&\"'!$A$7:$A$56\")=$A26)*(INDIRECT(\"'\"&$A$1&\"'!$B$7:$AF$56\")=R$7))=0,\"\",SUMPRODUCT((INDIRECT(\"'\"&$A$1&\"'!$A$7:$A$56\")=$A26)*(INDIRECT(\"'\"&$A$1&\"'!$B$7:$AF$56\")=R$7)))","v":""},"","","","","","","","","",{"$f":"VLOOKUP($A26,INDIRECT(\"'\"&$A$1&\"'!$A$7:$AR$56\"),35,0)","v":"00:00:00"},{"$f":"VLOOKUP($A26,INDIRECT(\"'\"&$A$1&\"'!$A$7:$AR$56\"),36,0)","v":"00:00:00"},null,{"$f":"SUMPRODUCT(ISNUMBER(MATCH(INDIRECT(\"H\"&$A$1&\"!B2:AF2\"),DimFe,0))*IFERROR(IF(\"19:00\">=IFERROR(Hgauche,0),IFERROR(hdroite-Hgauche,0),IF(durée1>0,durée1,\"00:00\")),0))+SUMPRODUCT(ISNUMBER(MATCH(INDIRECT(\"H\"&$A$1&\"!B2:AF2\"),moindimfe,0))*IFERROR(IF(\"19:00\"<=IFERROR(Hgauche,0),IF(durée4<0,0,durée4),\"00:00\"),0))","v":0},{"$f":"SUMPRODUCT(ISNUMBER(MATCH(INDIRECT(\"H\"&$A$1&\"!B2:AF2\"),DimFe,0))*IFERROR(IF(\"19:00\"<=IFERROR(Hgauche,0),IF(durée6<0,0,durée6),IF(durée<0,0,durée)),0))+SUMPRODUCT(ISNUMBER(MATCH(INDIRECT(\"H\"&$A$1&\"!B2:AF2\"),moindimfe,0))*IFERROR(IF(\"19:00\"<=IFERROR(Hgauche,0),IF(durée2<0,0,durée2),\"00:00\"),0))","v":0},{"$f":"SUM(SUMPRODUCT(1*IFERROR(IF(\"19:00\"<=IFERROR(Hgauche,0),IF(durée2<0,0,durée2),\"00:00\"),0)),SUMPRODUCT(1*IFERROR(IF(\"19:00\"<=IFERROR(Hgauche,0),IF(durée6<0,0,durée6),\"00:00\"),0)),SUMPRODUCT(1*IFERROR(IF(\"21:00\"<=IFERROR(Hdroitesimple,0),IF(durée<0,0,durée),\"00:00\"),0)))-durée5","v":0},null,{"$f":"bilanh","v":0},{"$f":"VLOOKUP($A26,Bilan!$A$9:$AQ74,37,FALSE)","v":57.958333333333336},null,{"$f":"Bilan!AN26","v":65},65,null,{"$f":"Jourtravaillé","v":0}]
[{"$f":"Données!$H24","v":0},"","","","","","","","","","","","","","","","","","","","","","","","","","",{"$f":"VLOOKUP($A27,INDIRECT(\"'\"&$A$1&\"'!$A$7:$AR$56\"),35,0)","v":"00:00:00"},{"$f":"VLOOKUP($A27,INDIRECT(\"'\"&$A$1&\"'!$A$7:$AR$56\"),36,0)","v":"00:00:00"},null,{"$f":"SUMPRODUCT(ISNUMBER(MATCH(INDIRECT(\"H\"&$A$1&\"!B2:AF2\"),DimFe,0))*IFERROR(IF(\"19:00\">=IFERROR(Hgauche,0),IFERROR(hdroite-Hgauche,0),IF(durée1>0,durée1,\"00:00\")),0))+SUMPRODUCT(ISNUMBER(MATCH(INDIRECT(\"H\"&$A$1&\"!B2:AF2\"),moindimfe,0))*IFERROR(IF(\"19:00\"<=IFERROR(Hgauche,0),IF(durée4<0,0,durée4),\"00:00\"),0))","v":0},{"$f":"SUMPRODUCT(ISNUMBER(MATCH(INDIRECT(\"H\"&$A$1&\"!B2:AF2\"),DimFe,0))*IFERROR(IF(\"19:00\"<=IFERROR(Hgauche,0),IF(durée6<0,0,durée6),IF(durée<0,0,durée)),0))+SUMPRODUCT(ISNUMBER(MATCH(INDIRECT(\"H\"&$A$1&\"!B2:AF2\"),moindimfe,0))*IFERROR(IF(\"19:00\"<=IFERROR(Hgauche,0),IF(durée2<0,0,durée2),\"00:00\"),0))","v":0},{"$f":"SUM(SUMPRODUCT(1*IFERROR(IF(\"19:00\"<=IFERROR(Hgauche,0),IF(durée2<0,0,durée2),\"00:00\"),0)),SUMPRODUCT(1*IFERROR(IF(\"19:00\"<=IFERROR(Hgauche,0),IF(durée6<0,0,durée6),\"00:00\"),0)),SUMPRODUCT(1*IFERROR(IF(\"21:00\"<=IFERROR(Hdroitesimple,0),IF(durée<0,0,durée),\"00:00\"),0)))-durée5","v":0},null,{"$f":"bilanh","v":0},{"$f":"VLOOKUP($A27,Bilan!$A$9:$AQ75,37,FALSE)","v":59.5},null,{"$f":"Bilan!AN27","v":65},65,null,{"$f":"Jourtravaillé","v":0}]
[{"$f":"Données!$H25","v":0},"","","","","","","","","","","","","","","","","","","","","","","","","","",{"$f":"VLOOKUP($A28,INDIRECT(\"'\"&$A$1&\"'!$A$7:$AR$56\"),35,0)","v":"00:00:00"},{"$f":"VLOOKUP($A28,INDIRECT(\"'\"&$A$1&\"'!$A$7:$AR$56\"),36,0)","v":"00:00:00"},null,{"$f":"SUMPRODUCT(ISNUMBER(MATCH(INDIRECT(\"H\"&$A$1&\"!B2:AF2\"),DimFe,0))*IFERROR(IF(\"19:00\">=IFERROR(Hgauche,0),IFERROR(hdroite-Hgauche,0),IF(durée1>0,durée1,\"00:00\")),0))+SUMPRODUCT(ISNUMBER(MATCH(INDIRECT(\"H\"&$A$1&\"!B2:AF2\"),moindimfe,0))*IFERROR(IF(\"19:00\"<=IFERROR(Hgauche,0),IF(durée4<0,0,durée4),\"00:00\"),0))","v":0},{"$f":"SUMPRODUCT(ISNUMBER(MATCH(INDIRECT(\"H\"&$A$1&\"!B2:AF2\"),DimFe,0))*IFERROR(IF(\"19:00\"<=IFERROR(Hgauche,0),IF(durée6<0,0,durée6),IF(durée<0,0,durée)),0))+SUMPRODUCT(ISNUMBER(MATCH(INDIRECT(\"H\"&$A$1&\"!B2:AF2\"),moindimfe,0))*IFERROR(IF(\"19:00\"<=IFERROR(Hgauche,0),IF(durée2<0,0,durée2),\"00:00\"),0))","v":0},{"$f":"SUM(SUMPRODUCT(1*IFERROR(IF(\"19:00\"<=IFERROR(Hgauche,0),IF(durée2<0,0,durée2),\"00:00\"),0)),SUMPRODUCT(1*IFERROR(IF(\"19:00\"<=IFERROR(Hgauche,0),IF(durée6<0,0,durée6),\"00:00\"),0)),SUMPRODUCT(1*IFERROR(IF(\"21:00\"<=IFERROR(Hdroitesimple,0),IF(durée<0,0,durée),\"00:00\"),0)))-durée5","v":0},null,{"$f":"bilanh","v":0},{"$f":"VLOOKUP($A28,Bilan!$A$9:$AQ76,37,FALSE)","v":59.5},null,{"$f":"Bilan!AN28","v":65},65,null,{"$f":"Jourtravaillé","v":0}]
[{"$f":"Données!$H26","v":0},{"$f":"SUMPRODUCT((INDIRECT(\"'\"&$A$1&\"'!$A$7:$A$56\")=$A29)*(INDIRECT(\"'\"&$A$1&\"'!$B$7:$AF$56\")=B$7))","v":0},0,0,0,0,0,0,0,0,0,0,0,0,0,0,0,{"$f":"SUMPRODUCT((INDIRECT(\"'\"&$A$1&\"'!$A$7:$A$56\")=$A29)*(INDIRECT(\"'\"&$A$1&\"'!$B$7:$AF$56\")=R$7))","v":0},0,0,0,0,0,0,0,0,0,{"$f":"VLOOKUP($A29,INDIRECT(\"'H\"&$A$1&\"'!$A$7:$AR$56\"),35,0)","v":"00:00:00"},{"$f":"VLOOKUP($A29,INDIRECT(\"'H\"&$A$1&\"'!$A$7:$AR$56\"),38,0)","v":"00:00:00"},null,{"$f":"SUMPRODUCT(ISNUMBER(MATCH(INDIRECT(\"H\"&$A$1&\"!B2:AF2\"),DimFe,0))*IFERROR(IF(\"19:00\">=IFERROR(Hgauche,0),IFERROR(hdroite-Hgauche,0),IF(durée1>0,durée1,\"00:00\")),0))+SUMPRODUCT(ISNUMBER(MATCH(INDIRECT(\"H\"&$A$1&\"!B2:AF2\"),moindimfe,0))*IFERROR(IF(\"19:00\"<=IFERROR(Hgauche,0),IF(durée4<0,0,durée4),\"00:00\"),0))","v":0},{"$f":"SUMPRODUCT(ISNUMBER(MATCH(INDIRECT(\"H\"&$A$1&\"!B2:AF2\"),DimFe,0))*IFERROR(IF(\"19:00\"<=IFERROR(Hgauche,0),IF(durée6<0,0,durée6),IF(durée<0,0,durée)),0))+SUMPRODUCT(ISNUMBER(MATCH(INDIRECT(\"H\"&$A$1&\"!B2:AF2\"),moindimfe,0))*IFERROR(IF(\"19:00\"<=IFERROR(Hgauche,0),IF(durée2<0,0,durée2),\"00:00\"),0))","v":0},{"$f":"SUMPRODUCT(1*IF(durée<0,0,durée))+SUMPRODUCT(1*IFERROR(IF(\"19:00\"<=IFERROR(Hgauche,0),IF(durée2<0,0,durée2),\"00:00\"),0))-durée5","v":0},null,{"$f":"(AB29/24)+SUMPRODUCT(($B$6:$AA$6)*(B29:AA29))","v":0},{"$f":"VLOOKUP($A29,Bilan!A29:AI77,35,FALSE)","v":0},null,{"$f":"Bilan!AN29","v":{"$error":"#VALUE!"}},65,null,{"$f":"SUM(B29:R29)","v":0},null,null,null,null,null,null,null,null,null,null,null,null,null,null,null,null,null,null,null,null,null,null,null,{"$f":"Données!$A24","v":"CA"},{"$f":"Données!$B24","v":"CA"}]
[{"$f":"Données!$H27","v":0},0,0,0,0,0,0,0,0,0,0,0,0,0,0,0,0,0,0,0,0,0,0,0,0,0,0,"00:00:00","00:00:00",null,{"$f":"SUMPRODUCT(ISNUMBER(MATCH(INDIRECT(\"H\"&$A$1&\"!B2:AF2\"),DimFe,0))*IFERROR(IF(\"19:00\">=IFERROR(Hgauche,0),IFERROR(hdroite-Hgauche,0),IF(durée1>0,durée1,\"00:00\")),0))+SUMPRODUCT(ISNUMBER(MATCH(INDIRECT(\"H\"&$A$1&\"!B2:AF2\"),moindimfe,0))*IFERROR(IF(\"19:00\"<=IFERROR(Hgauche,0),IF(durée4<0,0,durée4),\"00:00\"),0))","v":0},{"$f":"SUMPRODUCT(ISNUMBER(MATCH(INDIRECT(\"H\"&$A$1&\"!B2:AF2\"),DimFe,0))*IFERROR(IF(\"19:00\"<=IFERROR(Hgauche,0),IF(durée6<0,0,durée6),IF(durée<0,0,durée)),0))+SUMPRODUCT(ISNUMBER(MATCH(INDIRECT(\"H\"&$A$1&\"!B2:AF2\"),moindimfe,0))*IFERROR(IF(\"19:00\"<=IFERROR(Hgauche,0),IF(durée2<0,0,durée2),\"00:00\"),0))","v":0},{"$f":"SUMPRODUCT(1*IF(durée<0,0,durée))+SUMPRODUCT(1*IFERROR(IF(\"19:00\"<=IFERROR(Hgauche,0),IF(durée2<0,0,durée2),\"00:00\"),0))-durée5","v":0},null,0,{"$f":"VLOOKUP($A30,Bilan!A30:AI78,35,FALSE)","v":0},null,{"$f":"Bilan!AN30","v":{"$error":"#VALUE!"}},65,null,0,null,null,null,null,null,null,null,null,null,null,null,null,null,null,null,null,null,null,null,null,null,null,null,{"$f":"Données!$A25","v":"CA16"},{"$f":"Données!$B25","v":"CA16"}]
[{"$f":"Données!$H28","v":0},0,0,0,0,0,0,0,0,0,0,0,0,0,0,0,0,0,0,0,0,0,0,0,0,0,0,"00:00:00","00:00:00",null,{"$f":"SUMPRODUCT(ISNUMBER(MATCH(INDIRECT(\"H\"&$A$1&\"!B2:AF2\"),DimFe,0))*IFERROR(IF(\"19:00\">=IFERROR(Hgauche,0),IFERROR(hdroite-Hgauche,0),IF(durée1>0,durée1,\"00:00\")),0))+SUMPRODUCT(ISNUMBER(MATCH(INDIRECT(\"H\"&$A$1&\"!B2:AF2\"),moindimfe,0))*IFERROR(IF(\"19:00\"<=IFERROR(Hgauche,0),IF(durée4<0,0,durée4),\"00:00\"),0))","v":0},{"$f":"SUMPRODUCT(ISNUMBER(MATCH(INDIRECT(\"H\"&$A$1&\"!B2:AF2\"),DimFe,0))*IFERROR(IF(\"19:00\"<=IFERROR(Hgauche,0),IF(durée6<0,0,durée6),IF(durée<0,0,durée)),0))+SUMPRODUCT(ISNUMBER(MATCH(INDIRECT(\"H\"&$A$1&\"!B2:AF2\"),moindimfe,0))*IFERROR(IF(\"19:00\"<=IFERROR(Hgauche,0),IF(durée2<0,0,durée2),\"00:00\"),0))","v":0},{"$f":"SUMPRODUCT(1*IF(durée<0,0,durée))+SUMPRODUCT(1*IFERROR(IF(\"19:00\"<=IFERROR(Hgauche,0),IF(durée2<0,0,durée2),\"00:00\"),0))-durée5","v":0},null,0,{"$f":"VLOOKUP($A31,Bilan!A31:AI79,35,FALSE)","v":0},null,{"$f":"Bilan!AN31","v":{"$error":"#VALUE!"}},65,null,0,null,null,null,null,null,null,null,null,null,null,null,null,null,null,null,null,null,null,null,null,null,null,null,{"$f":"Données!$A26","v":"REC"},{"$f":"Données!$B26","v":"REC"}]
[{"$f":"Données!$H29","v":0},0,0,0,0,0,0,0,0,0,0,0,0,0,0,0,0,0,0,0,0,0,0,0,0,0,0,"00:00:00","00:00:00",null,{"$f":"SUMPRODUCT(ISNUMBER(MATCH(INDIRECT(\"H\"&$A$1&\"!B2:AF2\"),DimFe,0))*IFERROR(IF(\"19:00\">=IFERROR(Hgauche,0),IFERROR(hdroite-Hgauche,0),IF(durée1>0,durée1,\"00:00\")),0))+SUMPRODUCT(ISNUMBER(MATCH(INDIRECT(\"H\"&$A$1&\"!B2:AF2\"),moindimfe,0))*IFERROR(IF(\"19:00\"<=IFERROR(Hgauche,0),IF(durée4<0,0,durée4),\"00:00\"),0))","v":0},{"$f":"SUMPRODUCT(ISNUMBER(MATCH(INDIRECT(\"H\"&$A$1&\"!B2:AF2\"),DimFe,0))*IFERROR(IF(\"19:00\"<=IFERROR(Hgauche,0),IF(durée6<0,0,durée6),IF(durée<0,0,durée)),0))+SUMPRODUCT(ISNUMBER(MATCH(INDIRECT(\"H\"&$A$1&\"!B2:AF2\"),moindimfe,0))*IFERROR(IF(\"19:00\"<=IFERROR(Hgauche,0),IF(durée2<0,0,durée2),\"00:00\"),0))","v":0},{"$f":"SUMPRODUCT(1*IF(durée<0,0,durée))+SUMPRODUCT(1*IFERROR(IF(\"19:00\"<=IFERROR(Hgauche,0),IF(durée2<0,0,durée2),\"00:00\"),0))-durée5","v":0},null,0,{"$f":"VLOOKUP($A32,Bilan!A32:AI80,35,FALSE)","v":0},null,{"$f":"Bilan!AN32","v":{"$error":"#VALUE!"}},65,null,0,null,null,null,null,null,null,null,null,null,null,null,null,null,null,null,null,null,null,null,null,null,null,null,{"$f":"Données!$A27","v":"PL"},{"$f":"Données!$B27","v":"PL"}]
[{"$f":"Données!$H30","v":0},0,0,0,0,0,0,0,0,0,0,0,0,0,0,0,0,0,0,0,0,0,0,0,0,0,0,"00:00:00","00:00:00",null,{"$f":"SUMPRODUCT(ISNUMBER(MATCH(INDIRECT(\"H\"&$A$1&\"!B2:AF2\"),DimFe,0))*IFERROR(IF(\"19:00\">=IFERROR(Hgauche,0),IFERROR(hdroite-Hgauche,0),IF(durée1>0,durée1,\"00:00\")),0))+SUMPRODUCT(ISNUMBER(MATCH(INDIRECT(\"H\"&$A$1&\"!B2:AF2\"),moindimfe,0))*IFERROR(IF(\"19:00\"<=IFERROR(Hgauche,0),IF(durée4<0,0,durée4),\"00:00\"),0))","v":0},{"$f":"SUMPRODUCT(ISNUMBER(MATCH(INDIRECT(\"H\"&$A$1&\"!B2:AF2\"),DimFe,0))*IFERROR(IF(\"19:00\"<=IFERROR(Hgauche,0),IF(durée6<0,0,durée6),IF(durée<0,0,durée)),0))+SUMPRODUCT(ISNUMBER(MATCH(INDIRECT(\"H\"&$A$1&\"!B2:AF2\"),moindimfe,0))*IFERROR(IF(\"19:00\"<=IFERROR(Hgauche,0),IF(durée2<0,0,durée2),\"00:00\"),0))","v":0},{"$f":"SUMPRODUCT(1*IF(durée<0,0,durée))+SUMPRODUCT(1*IFERROR(IF(\"19:00\"<=IFERROR(Hgauche,0),IF(durée2<0,0,durée2),\"00:00\"),0))-durée5","v":0},null,0,{"$f":"VLOOKUP($A33,Bilan!A33:AI81,35,FALSE)","v":0},null,{"$f":"Bilan!AN33","v":{"$error":"#VALUE!"}},65,null,0,null,null,null,null,null,null,null,null,null,null,null,null,null,null,null,null,null,null,null,null,null,null,null,{"$f":"Données!$A28","v":"D"},{"$f":"Données!$B28","v":"D"}]
[{"$f":"Données!$H31","v":0},0,0,0,0,0,0,0,0,0,0,0,0,0,0,0,0,0,0,0,0,0,0,0,0,0,0,"00:00:00","00:00:00",null,{"$f":"SUMPRODUCT(ISNUMBER(MATCH(INDIRECT(\"H\"&$A$1&\"!B2:AF2\"),DimFe,0))*IFERROR(IF(\"19:00\">=IFERROR(Hgauche,0),IFERROR(hdroite-Hgauche,0),IF(durée1>0,durée1,\"00:00\")),0))+SUMPRODUCT(ISNUMBER(MATCH(INDIRECT(\"H\"&$A$1&\"!B2:AF2\"),moindimfe,0))*IFERROR(IF(\"19:00\"<=IFERROR(Hgauche,0),IF(durée4<0,0,durée4),\"00:00\"),0))","v":0},{"$f":"SUMPRODUCT(ISNUMBER(MATCH(INDIRECT(\"H\"&$A$1&\"!B2:AF2\"),DimFe,0))*IFERROR(IF(\"19:00\"<=IFERROR(Hgauche,0),IF(durée6<0,0,durée6),IF(durée<0,0,durée)),0))+SUMPRODUCT(ISNUMBER(MATCH(INDIRECT(\"H\"&$A$1&\"!B2:AF2\"),moindimfe,0))*IFERROR(IF(\"19:00\"<=IFERROR(Hgauche,0),IF(durée2<0,0,durée2),\"00:00\"),0))","v":0},{"$f":"SUMPRODUCT(1*IF(durée<0,0,durée))+SUMPRODUCT(1*IFERROR(IF(\"19:00\"<=IFERROR(Hgauche,0),IF(durée2<0,0,durée2),\"00:00\"),0))-durée5","v":0},null,0,{"$f":"VLOOKUP($A34,Bilan!A34:AI82,35,FALSE)","v":0},null,{"$f":"Bilan!AN34","v":{"$error":"#VALUE!"}},65,null,0]
[{"$f":"Données!$H32","v":"Maitresse de maison"}]
[{"$f":"Données!$H33","v":"N"},{"$f":"IF(SUMPRODUCT((INDIRECT(\"'\"&$A$1&\"'!$A$7:$A$56\")=$A36)*(INDIRECT(\"'\"&$A$1&\"'!$B$7:$AF$56\")=B$7))=0,\"\",SUMPRODUCT((INDIRECT(\"'\"&$A$1&\"'!$A$7:$A$56\")=$A36)*(INDIRECT(\"'\"&$A$1&\"'!$B$7:$AF$56\")=B$7)))","v":""},"","","","","","","","","","","","","","","","","","","","","","","","","",{"$f":"VLOOKUP($A36,INDIRECT(\"'\"&$A$1&\"'!$A$7:$AR$56\"),35,0)","v":"00:00:00"},{"$f":"VLOOKUP($A36,INDIRECT(\"'\"&$A$1&\"'!$A$7:$AR$56\"),36,0)","v":"00:00:00"},null,{"$f":"SUMPRODUCT(ISNUMBER(MATCH(INDIRECT(\"H\"&$A$1&\"!B2:AF2\"),DimFe,0))*IFERROR(IF(\"19:00\">=IFERROR(Hgauche,0),IFERROR(hdroite-Hgauche,0),IF(durée1>0,durée1,\"00:00\")),0))+SUMPRODUCT(ISNUMBER(MATCH(INDIRECT(\"H\"&$A$1&\"!B2:AF2\"),moindimfe,0))*IFERROR(IF(\"19:00\"<=IFERROR(Hgauche,0),IF(durée4<0,0,durée4),\"00:00\"),0))","v":0},{"$f":"SUMPRODUCT(ISNUMBER(MATCH(INDIRECT(\"H\"&$A$1&\"!B2:AF2\"),DimFe,0))*IFERROR(IF(\"19:00\"<=IFERROR(Hgauche,0),IF(durée6<0,0,durée6),IF(durée<0,0,durée)),0))+SUMPRODUCT(ISNUMBER(MATCH(INDIRECT(\"H\"&$A$1&\"!B2:AF2\"),moindimfe,0))*IFERROR(IF(\"19:00\"<=IFERROR(Hgauche,0),IF(durée2<0,0,durée2),\"00:00\"),0))","v":0},{"$f":"SUM(SUMPRODUCT(1*IFERROR(IF(\"19:00\"<=IFERROR(Hgauche,0),IF(durée2<0,0,durée2),\"00:00\"),0)),SUMPRODUCT(1*IFERROR(IF(\"19:00\"<=IFERROR(Hgauche,0),IF(durée6<0,0,durée6),\"00:00\"),0)),SUMPRODUCT(1*IFERROR(IF(\"21:00\"<=IFERROR(Hdroitesimple,0),IF(durée<0,0,durée),\"00:00\"),0)))-durée5","v":0},null,{"$f":"bilanh","v":0},{"$f":"VLOOKUP($A36,Bilan!$A$9:$AQ84,37,FALSE)","v":63},null,{"$f":"Bilan!AN36","v":65},65,null,{"$f":"Jourtravaillé","v":0}]
[{"$f":"Données!$H34","v":0},{"$f":"SUMPRODUCT((INDIRECT(\"'\"&$A$1&\"'!$A$7:$A$56\")=$A37)*(INDIRECT(\"'\"&$A$1&\"'!$B$7:$AF$56\")=B$7))","v":0},0,0,0,0,0,0,0,0,0,0,0,0,0,0,0,{"$f":"SUMPRODUCT((INDIRECT(\"'\"&$A$1&\"'!$A$7:$A$56\")=$A37)*(INDIRECT(\"'\"&$A$1&\"'!$B$7:$AF$56\")=R$7))","v":0},0,0,0,0,0,0,0,0,0,{"$f":"VLOOKUP($A37,INDIRECT(\"'H\"&$A$1&\"'!$A$7:$AR$56\"),35,0)","v":"00:00:00"},{"$f":"VLOOKUP($A37,INDIRECT(\"'H\"&$A$1&\"'!$A$7:$AR$56\"),38,0)","v":"00:00:00"},null,{"$f":"SUMPRODUCT(ISNUMBER(MATCH(INDIRECT(\"H\"&$A$1&\"!B2:AF2\"),DimFe,0))*IFERROR(IF(\"19:00\">=IFERROR(Hgauche,0),IFERROR(hdroite-Hgauche,0),IF(durée1>0,durée1,\"00:00\")),0))+SUMPRODUCT(ISNUMBER(MATCH(INDIRECT(\"H\"&$A$1&\"!B2:AF2\"),moindimfe,0))*IFERROR(IF(\"19:00\"<=IFERROR(Hgauche,0),IF(durée4<0,0,durée4),\"00:00\"),0))","v":0},{"$f":"SUMPRODUCT(ISNUMBER(MATCH(INDIRECT(\"H\"&$A$1&\"!B2:AF2\"),DimFe,0))*IFERROR(IF(\"19:00\"<=IFERROR(Hgauche,0),IF(durée6<0,0,durée6),IF(durée<0,0,durée)),0))+SUMPRODUCT(ISNUMBER(MATCH(INDIRECT(\"H\"&$A$1&\"!B2:AF2\"),moindimfe,0))*IFERROR(IF(\"19:00\"<=IFERROR(Hgauche,0),IF(durée2<0,0,durée2),\"00:00\"),0))","v":0},{"$f":"SUMPRODUCT(1*IF(durée<0,0,durée))+SUMPRODUCT(1*IFERROR(IF(\"19:00\"<=IFERROR(Hgauche,0),IF(durée2<0,0,durée2),\"00:00\"),0))-durée5","v":0},null,{"$f":"(AB37/24)+SUMPRODUCT(($B$6:$AA$6)*(B37:AA37))","v":0},{"$f":"VLOOKUP($A37,Bilan!A37:AI85,35,FALSE)","v":0},null,{"$f":"Bilan!AN37","v":65},65,null,{"$f":"SUM(B37:R37)","v":0}]
[{"$f":"Données!$H35","v":0},0,0,0,0,0,0,0,0,0,0,0,0,0,0,0,0,0,0,0,0,0,0,0,0,0,0,"00:00:00","00:00:00",null,{"$f":"SUMPRODUCT(ISNUMBER(MATCH(INDIRECT(\"H\"&$A$1&\"!B2:AF2\"),DimFe,0))*IFERROR(IF(\"19:00\">=IFERROR(Hgauche,0),IFERROR(hdroite-Hgauche,0),IF(durée1>0,durée1,\"00:00\")),0))+SUMPRODUCT(ISNUMBER(MATCH(INDIRECT(\"H\"&$A$1&\"!B2:AF2\"),moindimfe,0))*IFERROR(IF(\"19:00\"<=IFERROR(Hgauche,0),IF(durée4<0,0,durée4),\"00:00\"),0))","v":0},{"$f":"SUMPRODUCT(ISNUMBER(MATCH(INDIRECT(\"H\"&$A$1&\"!B2:AF2\"),DimFe,0))*IFERROR(IF(\"19:00\"<=IFERROR(Hgauche,0),IF(durée6<0,0,durée6),IF(durée<0,0,durée)),0))+SUMPRODUCT(ISNUMBER(MATCH(INDIRECT(\"H\"&$A$1&\"!B2:AF2\"),moindimfe,0))*IFERROR(IF(\"19:00\"<=IFERROR(Hgauche,0),IF(durée2<0,0,durée2),\"00:00\"),0))","v":0},{"$f":"SUMPRODUCT(1*IF(durée<0,0,durée))+SUMPRODUCT(1*IFERROR(IF(\"19:00\"<=IFERROR(Hgauche,0),IF(durée2<0,0,durée2),\"00:00\"),0))-durée5","v":0},null,0,{"$f":"VLOOKUP($A38,Bilan!A38:AI86,35,FALSE)","v":0},null,{"$f":"Bilan!AN38","v":{"$error":"#VALUE!"}},65,null,0]
[{"$f":"Données!$H36","v":0},0,0,0,0,0,0,0,0,0,0,0,0,0,0,0,0,0,0,0,0,0,0,0,0,0,0,"00:00:00","00:00:00",null,{"$f":"SUMPRODUCT(ISNUMBER(MATCH(INDIRECT(\"H\"&$A$1&\"!B2:AF2\"),DimFe,0))*IFERROR(IF(\"19:00\">=IFERROR(Hgauche,0),IFERROR(hdroite-Hgauche,0),IF(durée1>0,durée1,\"00:00\")),0))+SUMPRODUCT(ISNUMBER(MATCH(INDIRECT(\"H\"&$A$1&\"!B2:AF2\"),moindimfe,0))*IFERROR(IF(\"19:00\"<=IFERROR(Hgauche,0),IF(durée4<0,0,durée4),\"00:00\"),0))","v":0},{"$f":"SUMPRODUCT(ISNUMBER(MATCH(INDIRECT(\"H\"&$A$1&\"!B2:AF2\"),DimFe,0))*IFERROR(IF(\"19:00\"<=IFERROR(Hgauche,0),IF(durée6<0,0,durée6),IF(durée<0,0,durée)),0))+SUMPRODUCT(ISNUMBER(MATCH(INDIRECT(\"H\"&$A$1&\"!B2:AF2\"),moindimfe,0))*IFERROR(IF(\"19:00\"<=IFERROR(Hgauche,0),IF(durée2<0,0,durée2),\"00:00\"),0))","v":0},{"$f":"SUMPRODUCT(1*IF(durée<0,0,durée))+SUMPRODUCT(1*IFERROR(IF(\"19:00\"<=IFERROR(Hgauche,0),IF(durée2<0,0,durée2),\"00:00\"),0))-durée5","v":0},null,0,{"$f":"VLOOKUP($A39,Bilan!A39:AI87,35,FALSE)","v":0},null,{"$f":"Bilan!AN39","v":{"$error":"#VALUE!"}},65,null,0]
[{"$f":"Données!$H37","v":0},0,0,0,0,0,0,0,0,0,0,0,0,0,0,0,0,0,0,0,0,0,0,0,0,0,0,"00:00:00","00:00:00",null,{"$f":"SUMPRODUCT(ISNUMBER(MATCH(INDIRECT(\"H\"&$A$1&\"!B2:AF2\"),DimFe,0))*IFERROR(IF(\"19:00\">=IFERROR(Hgauche,0),IFERROR(hdroite-Hgauche,0),IF(durée1>0,durée1,\"00:00\")),0))+SUMPRODUCT(ISNUMBER(MATCH(INDIRECT(\"H\"&$A$1&\"!B2:AF2\"),moindimfe,0))*IFERROR(IF(\"19:00\"<=IFERROR(Hgauche,0),IF(durée4<0,0,durée4),\"00:00\"),0))","v":0},{"$f":"SUMPRODUCT(ISNUMBER(MATCH(INDIRECT(\"H\"&$A$1&\"!B2:AF2\"),DimFe,0))*IFERROR(IF(\"19:00\"<=IFERROR(Hgauche,0),IF(durée6<0,0,durée6),IF(durée<0,0,durée)),0))+SUMPRODUCT(ISNUMBER(MATCH(INDIRECT(\"H\"&$A$1&\"!B2:AF2\"),moindimfe,0))*IFERROR(IF(\"19:00\"<=IFERROR(Hgauche,0),IF(durée2<0,0,durée2),\"00:00\"),0))","v":0},{"$f":"SUMPRODUCT(1*IF(durée<0,0,durée))+SUMPRODUCT(1*IFERROR(IF(\"19:00\"<=IFERROR(Hgauche,0),IF(durée2<0,0,durée2),\"00:00\"),0))-durée5","v":0},null,0,{"$f":"VLOOKUP($A40,Bilan!A40:AI88,35,FALSE)","v":0},null,{"$f":"Bilan!AN40","v":{"$error":"#VALUE!"}},65,null,0]
[{"$f":"Données!$H38","v":0},0,0,0,0,0,0,0,0,0,0,0,0,0,0,0,0,0,0,0,0,0,0,0,0,0,0,"00:00:00","00:00:00",null,{"$f":"SUMPRODUCT(ISNUMBER(MATCH(INDIRECT(\"H\"&$A$1&\"!B2:AF2\"),DimFe,0))*IFERROR(IF(\"19:00\">=IFERROR(Hgauche,0),IFERROR(hdroite-Hgauche,0),IF(durée1>0,durée1,\"00:00\")),0))+SUMPRODUCT(ISNUMBER(MATCH(INDIRECT(\"H\"&$A$1&\"!B2:AF2\"),moindimfe,0))*IFERROR(IF(\"19:00\"<=IFERROR(Hgauche,0),IF(durée4<0,0,durée4),\"00:00\"),0))","v":0},{"$f":"SUMPRODUCT(ISNUMBER(MATCH(INDIRECT(\"H\"&$A$1&\"!B2:AF2\"),DimFe,0))*IFERROR(IF(\"19:00\"<=IFERROR(Hgauche,0),IF(durée6<0,0,durée6),IF(durée<0,0,durée)),0))+SUMPRODUCT(ISNUMBER(MATCH(INDIRECT(\"H\"&$A$1&\"!B2:AF2\"),moindimfe,0))*IFERROR(IF(\"19:00\"<=IFERROR(Hgauche,0),IF(durée2<0,0,durée2),\"00:00\"),0))","v":0},{"$f":"SUMPRODUCT(1*IF(durée<0,0,durée))+SUMPRODUCT(1*IFERROR(IF(\"19:00\"<=IFERROR(Hgauche,0),IF(durée2<0,0,durée2),\"00:00\"),0))-durée5","v":0},null,0,{"$f":"VLOOKUP($A41,Bilan!A41:AI89,35,FALSE)","v":0},null,{"$f":"Bilan!AN41","v":{"$error":"#VALUE!"}},65,null,0]
[{"$f":"Données!$H39","v":0},0,0,0,0,0,0,0,0,0,0,0,0,0,0,0,0,0,0,0,0,0,0,0,0,0,0,"00:00:00","00:00:00",null,{"$f":"SUMPRODUCT(ISNUMBER(MATCH(INDIRECT(\"H\"&$A$1&\"!B2:AF2\"),DimFe,0))*IFERROR(IF(\"19:00\">=IFERROR(Hgauche,0),IFERROR(hdroite-Hgauche,0),IF(durée1>0,durée1,\"00:00\")),0))+SUMPRODUCT(ISNUMBER(MATCH(INDIRECT(\"H\"&$A$1&\"!B2:AF2\"),moindimfe,0))*IFERROR(IF(\"19:00\"<=IFERROR(Hgauche,0),IF(durée4<0,0,durée4),\"00:00\"),0))","v":0},{"$f":"SUMPRODUCT(ISNUMBER(MATCH(INDIRECT(\"H\"&$A$1&\"!B2:AF2\"),DimFe,0))*IFERROR(IF(\"19:00\"<=IFERROR(Hgauche,0),IF(durée6<0,0,durée6),IF(durée<0,0,durée)),0))+SUMPRODUCT(ISNUMBER(MATCH(INDIRECT(\"H\"&$A$1&\"!B2:AF2\"),moindimfe,0))*IFERROR(IF(\"19:00\"<=IFERROR(Hgauche,0),IF(durée2<0,0,durée2),\"00:00\"),0))","v":0},{"$f":"SUMPRODUCT(1*IF(durée<0,0,durée))+SUMPRODUCT(1*IFERROR(IF(\"19:00\"<=IFERROR(Hgauche,0),IF(durée2<0,0,durée2),\"00:00\"),0))-durée5","v":0},null,0,{"$f":"VLOOKUP($A42,Bilan!A42:AI90,35,FALSE)","v":0},null,{"$f":"Bilan!AN42","v":{"$error":"#VALUE!"}},65,null,0]
[{"$f":"Données!$H40","v":0},0,0,0,0,0,0,0,0,0,0,0,0,0,0,0,0,0,0,0,0,0,0,0,0,0,0,"00:00:00","00:00:00",null,{"$f":"SUMPRODUCT(ISNUMBER(MATCH(INDIRECT(\"H\"&$A$1&\"!B2:AF2\"),DimFe,0))*IFERROR(IF(\"19:00\">=IFERROR(Hgauche,0),IFERROR(hdroite-Hgauche,0),IF(durée1>0,durée1,\"00:00\")),0))+SUMPRODUCT(ISNUMBER(MATCH(INDIRECT(\"H\"&$A$1&\"!B2:AF2\"),moindimfe,0))*IFERROR(IF(\"19:00\"<=IFERROR(Hgauche,0),IF(durée4<0,0,durée4),\"00:00\"),0))","v":0},{"$f":"SUMPRODUCT(ISNUMBER(MATCH(INDIRECT(\"H\"&$A$1&\"!B2:AF2\"),DimFe,0))*IFERROR(IF(\"19:00\"<=IFERROR(Hgauche,0),IF(durée6<0,0,durée6),IF(durée<0,0,durée)),0))+SUMPRODUCT(ISNUMBER(MATCH(INDIRECT(\"H\"&$A$1&\"!B2:AF2\"),moindimfe,0))*IFERROR(IF(\"19:00\"<=IFERROR(Hgauche,0),IF(durée2<0,0,durée2),\"00:00\"),0))","v":0},{"$f":"SUMPRODUCT(1*IF(durée<0,0,durée))+SUMPRODUCT(1*IFERROR(IF(\"19:00\"<=IFERROR(Hgauche,0),IF(durée2<0,0,durée2),\"00:00\"),0))-durée5","v":0},null,0,{"$f":"VLOOKUP($A43,Bilan!A43:AI91,35,FALSE)","v":0},null,{"$f":"Bilan!AN43","v":{"$error":"#VALUE!"}},65,null,0]
[{"$f":"Données!$H41","v":0},0,0,0,0,0,0,0,0,0,0,0,0,0,0,0,0,0,0,0,0,0,0,0,0,0,0,"00:00:00","00:00:00",null,{"$f":"SUMPRODUCT(ISNUMBER(MATCH(INDIRECT(\"H\"&$A$1&\"!B2:AF2\"),DimFe,0))*IFERROR(IF(\"19:00\">=IFERROR(Hgauche,0),IFERROR(hdroite-Hgauche,0),IF(durée1>0,durée1,\"00:00\")),0))+SUMPRODUCT(ISNUMBER(MATCH(INDIRECT(\"H\"&$A$1&\"!B2:AF2\"),moindimfe,0))*IFERROR(IF(\"19:00\"<=IFERROR(Hgauche,0),IF(durée4<0,0,durée4),\"00:00\"),0))","v":0},{"$f":"SUMPRODUCT(ISNUMBER(MATCH(INDIRECT(\"H\"&$A$1&\"!B2:AF2\"),DimFe,0))*IFERROR(IF(\"19:00\"<=IFERROR(Hgauche,0),IF(durée6<0,0,durée6),IF(durée<0,0,durée)),0))+SUMPRODUCT(ISNUMBER(MATCH(INDIRECT(\"H\"&$A$1&\"!B2:AF2\"),moindimfe,0))*IFERROR(IF(\"19:00\"<=IFERROR(Hgauche,0),IF(durée2<0,0,durée2),\"00:00\"),0))","v":0},{"$f":"SUMPRODUCT(1*IF(durée<0,0,durée))+SUMPRODUCT(1*IFERROR(IF(\"19:00\"<=IFERROR(Hgauche,0),IF(durée2<0,0,durée2),\"00:00\"),0))-durée5","v":0},null,0,{"$f":"VLOOKUP($A44,Bilan!A44:AI92,35,FALSE)","v":0},null,{"$f":"Bilan!AN44","v":{"$error":"#VALUE!"}},65,null,0]
[{"$f":"Données!$H42","v":"Psychologue"}]
[{"$f":"Données!$H43","v":"O"},{"$f":"IF(SUMPRODUCT((INDIRECT(\"'\"&$A$1&\"'!$A$7:$A$56\")=$A46)*(INDIRECT(\"'\"&$A$1&\"'!$B$7:$AF$56\")=B$7))=0,\"\",SUMPRODUCT((INDIRECT(\"'\"&$A$1&\"'!$A$7:$A$56\")=$A46)*(INDIRECT(\"'\"&$A$1&\"'!$B$7:$AF$56\")=B$7)))","v":""},"","","","","","","","","","","","","","","","","","","","","","","","","",{"$f":"VLOOKUP($A46,INDIRECT(\"'\"&$A$1&\"'!$A$7:$AR$56\"),35,0)","v":"00:00:00"},{"$f":"VLOOKUP($A46,INDIRECT(\"'\"&$A$1&\"'!$A$7:$AR$56\"),36,0)","v":"00:00:00"},null,{"$f":"SUMPRODUCT(ISNUMBER(MATCH(INDIRECT(\"H\"&$A$1&\"!B2:AF2\"),DimFe,0))*IFERROR(IF(\"19:00\">=IFERROR(Hgauche,0),IFERROR(hdroite-Hgauche,0),IF(durée1>0,durée1,\"00:00\")),0))+SUMPRODUCT(ISNUMBER(MATCH(INDIRECT(\"H\"&$A$1&\"!B2:AF2\"),moindimfe,0))*IFERROR(IF(\"19:00\"<=IFERROR(Hgauche,0),IF(durée4<0,0,durée4),\"00:00\"),0))","v":0},{"$f":"SUMPRODUCT(ISNUMBER(MATCH(INDIRECT(\"H\"&$A$1&\"!B2:AF2\"),DimFe,0))*IFERROR(IF(\"19:00\"<=IFERROR(Hgauche,0),IF(durée6<0,0,durée6),IF(durée<0,0,durée)),0))+SUMPRODUCT(ISNUMBER(MATCH(INDIRECT(\"H\"&$A$1&\"!B2:AF2\"),moindimfe,0))*IFERROR(IF(\"19:00\"<=IFERROR(Hgauche,0),IF(durée2<0,0,durée2),\"00:00\"),0))","v":0},{"$f":"SUM(SUMPRODUCT(1*IFERROR(IF(\"19:00\"<=IFERROR(Hgauche,0),IF(durée2<0,0,durée2),\"00:00\"),0)),SUMPRODUCT(1*IFERROR(IF(\"19:00\"<=IFERROR(Hgauche,0),IF(durée6<0,0,durée6),\"00:00\"),0)),SUMPRODUCT(1*IFERROR(IF(\"21:00\"<=IFERROR(Hdroitesimple,0),IF(durée<0,0,durée),\"00:00\"),0)))-durée5","v":0},null,{"$f":"bilanh","v":0},{"$f":"VLOOKUP($A46,Bilan!$A$9:$AQ94,37,FALSE)","v":63},null,{"$f":"Bilan!AN46","v":65},65,null,{"$f":"Jourtravaillé","v":0}]
[{"$f":"Données!$H44","v":0},{"$f":"SUMPRODUCT((INDIRECT(\"'\"&$A$1&\"'!$A$7:$A$56\")=$A47)*(INDIRECT(\"'\"&$A$1&\"'!$B$7:$AF$56\")=B$7))","v":0},0,0,0,0,0,0,0,0,0,0,0,0,0,0,0,{"$f":"SUMPRODUCT((INDIRECT(\"'\"&$A$1&\"'!$A$7:$A$56\")=$A47)*(INDIRECT(\"'\"&$A$1&\"'!$B$7:$AF$56\")=R$7))","v":0},0,0,0,0,0,0,0,0,0,{"$f":"VLOOKUP($A47,INDIRECT(\"'H\"&$A$1&\"'!$A$7:$AR$56\"),35,0)","v":"00:00:00"},{"$f":"VLOOKUP($A47,INDIRECT(\"'H\"&$A$1&\"'!$A$7:$AR$56\"),38,0)","v":"00:00:00"},null,{"$f":"SUMPRODUCT(ISNUMBER(MATCH(INDIRECT(\"H\"&$A$1&\"!B2:AF2\"),DimFe,0))*IFERROR(IF(\"19:00\">=IFERROR(Hgauche,0),IFERROR(hdroite-Hgauche,0),IF(durée1>0,durée1,\"00:00\")),0))+SUMPRODUCT(ISNUMBER(MATCH(INDIRECT(\"H\"&$A$1&\"!B2:AF2\"),moindimfe,0))*IFERROR(IF(\"19:00\"<=IFERROR(Hgauche,0),IF(durée4<0,0,durée4),\"00:00\"),0))","v":0},{"$f":"SUMPRODUCT(ISNUMBER(MATCH(INDIRECT(\"H\"&$A$1&\"!B2:AF2\"),DimFe,0))*IFERROR(IF(\"19:00\"<=IFERROR(Hgauche,0),IF(durée6<0,0,durée6),IF(durée<0,0,durée)),0))+SUMPRODUCT(ISNUMBER(MATCH(INDIRECT(\"H\"&$A$1&\"!B2:AF2\"),moindimfe,0))*IFERROR(IF(\"19:00\"<=IFERROR(Hgauche,0),IF(durée2<0,0,durée2),\"00:00\"),0))","v":0},{"$f":"SUMPRODUCT(1*IF(durée<0,0,durée))+SUMPRODUCT(1*IFERROR(IF(\"19:00\"<=IFERROR(Hgauche,0),IF(durée2<0,0,durée2),\"00:00\"),0))-durée5","v":0},null,{"$f":"(AB47/24)+SUMPRODUCT(($B$6:$AA$6)*(B47:AA47))","v":0},{"$f":"VLOOKUP($A47,Bilan!A47:AI95,35,FALSE)","v":0},null,{"$f":"Bilan!AN47","v":65},65,null,{"$f":"SUM(B47:R47)","v":0}]
[{"$f":"Données!$H45","v":0},0,0,0,0,0,0,0,0,0,0,0,0,0,0,0,0,0,0,0,0,0,0,0,0,0,0,{"$f":"VLOOKUP($A48,INDIRECT(\"'H\"&$A$1&\"'!$A$7:$AR$56\"),35,0)","v":"00:00:00"},{"$f":"VLOOKUP($A48,INDIRECT(\"'H\"&$A$1&\"'!$A$7:$AR$56\"),38,0)","v":"00:00:00"},null,{"$f":"SUMPRODUCT(ISNUMBER(MATCH(INDIRECT(\"H\"&$A$1&\"!B2:AF2\"),DimFe,0))*IFERROR(IF(\"19:00\">=IFERROR(Hgauche,0),IFERROR(hdroite-Hgauche,0),IF(durée1>0,durée1,\"00:00\")),0))+SUMPRODUCT(ISNUMBER(MATCH(INDIRECT(\"H\"&$A$1&\"!B2:AF2\"),moindimfe,0))*IFERROR(IF(\"19:00\"<=IFERROR(Hgauche,0),IF(durée4<0,0,durée4),\"00:00\"),0))","v":0},{"$f":"SUMPRODUCT(ISNUMBER(MATCH(INDIRECT(\"H\"&$A$1&\"!B2:AF2\"),DimFe,0))*IFERROR(IF(\"19:00\"<=IFERROR(Hgauche,0),IF(durée6<0,0,durée6),IF(durée<0,0,durée)),0))+SUMPRODUCT(ISNUMBER(MATCH(INDIRECT(\"H\"&$A$1&\"!B2:AF2\"),moindimfe,0))*IFERROR(IF(\"19:00\"<=IFERROR(Hgauche,0),IF(durée2<0,0,durée2),\"00:00\"),0))","v":0},{"$f":"SUMPRODUCT(1*IF(durée<0,0,durée))+SUMPRODUCT(1*IFERROR(IF(\"19:00\"<=IFERROR(Hgauche,0),IF(durée2<0,0,durée2),\"00:00\"),0))-durée5","v":0},null,{"$f":"(AB48/24)+SUMPRODUCT(($B$6:$AA$6)*(B48:AA48))","v":0},{"$f":"VLOOKUP($A48,Bilan!A48:AI96,35,FALSE)","v":0},null,{"$f":"Bilan!AN48","v":{"$error":"#VALUE!"}},65,null,{"$f":"SUM(B48:R48)","v":0}]
[{"$f":"Données!$H46","v":"Coordinatrice"}]
[{"$f":"Données!$H47","v":"P"},{"$f":"IF(SUMPRODUCT((INDIRECT(\"'\"&$A$1&\"'!$A$7:$A$56\")=$A50)*(INDIRECT(\"'\"&$A$1&\"'!$B$7:$AF$56\")=B$7))=0,\"\",SUMPRODUCT((INDIRECT(\"'\"&$A$1&\"'!$A$7:$A$56\")=$A50)*(INDIRECT(\"'\"&$A$1&\"'!$B$7:$AF$56\")=B$7)))","v":""},"","","","","","","","","","","","","","","","","","","","","","","","","",{"$f":"VLOOKUP($A50,INDIRECT(\"'\"&$A$1&\"'!$A$7:$AR$56\"),35,0)","v":"00:00:00"},{"$f":"VLOOKUP($A50,INDIRECT(\"'\"&$A$1&\"'!$A$7:$AR$56\"),36,0)","v":"00:00:00"},null,{"$f":"SUMPRODUCT(ISNUMBER(MATCH(INDIRECT(\"H\"&$A$1&\"!B2:AF2\"),DimFe,0))*IFERROR(IF(\"19:00\">=IFERROR(Hgauche,0),IFERROR(hdroite-Hgauche,0),IF(durée1>0,durée1,\"00:00\")),0))+SUMPRODUCT(ISNUMBER(MATCH(INDIRECT(\"H\"&$A$1&\"!B2:AF2\"),moindimfe,0))*IFERROR(IF(\"19:00\"<=IFERROR(Hgauche,0),IF(durée4<0,0,durée4),\"00:00\"),0))","v":0},{"$f":"SUMPRODUCT(ISNUMBER(MATCH(INDIRECT(\"H\"&$A$1&\"!B2:AF2\"),DimFe,0))*IFERROR(IF(\"19:00\"<=IFERROR(Hgauche,0),IF(durée6<0,0,durée6),IF(durée<0,0,durée)),0))+SUMPRODUCT(ISNUMBER(MATCH(INDIRECT(\"H\"&$A$1&\"!B2:AF2\"),moindimfe,0))*IFERROR(IF(\"19:00\"<=IFERROR(Hgauche,0),IF(durée2<0,0,durée2),\"00:00\"),0))","v":0},{"$f":"SUM(SUMPRODUCT(1*IFERROR(IF(\"19:00\"<=IFERROR(Hgauche,0),IF(durée2<0,0,durée2),\"00:00\"),0)),SUMPRODUCT(1*IFERROR(IF(\"19:00\"<=IFERROR(Hgauche,0),IF(durée6<0,0,durée6),\"00:00\"),0)),SUMPRODUCT(1*IFERROR(IF(\"21:00\"<=IFERROR(Hdroitesimple,0),IF(durée<0,0,durée),\"00:00\"),0)))-durée5","v":0},null,{"$f":"bilanh","v":0},{"$f":"VLOOKUP($A50,Bilan!$A$9:$AQ98,37,FALSE)","v":63},null,{"$f":"Bilan!AN50","v":65},65,null,{"$f":"Jourtravaillé","v":0}]
[{"$f":"Données!$H48","v":0},{"$f":"SUMPRODUCT((INDIRECT(\"'\"&$A$1&\"'!$A$7:$A$56\")=$A51)*(INDIRECT(\"'\"&$A$1&\"'!$B$7:$AF$56\")=B$7))","v":0},0,0,0,0,0,0,0,0,0,0,0,0,0,0,0,{"$f":"SUMPRODUCT((INDIRECT(\"'\"&$A$1&\"'!$A$7:$A$56\")=$A51)*(INDIRECT(\"'\"&$A$1&\"'!$B$7:$AF$56\")=R$7))","v":0},0,0,0,0,0,0,0,0,0,{"$f":"VLOOKUP($A51,INDIRECT(\"'H\"&$A$1&\"'!$A$7:$AR$56\"),35,0)","v":"00:00:00"},{"$f":"VLOOKUP($A51,INDIRECT(\"'H\"&$A$1&\"'!$A$7:$AR$56\"),38,0)","v":"00:00:00"},null,{"$f":"SUMPRODUCT(ISNUMBER(MATCH(INDIRECT(\"H\"&$A$1&\"!B2:AF2\"),DimFe,0))*IFERROR(IF(\"19:00\">=IFERROR(Hgauche,0),IFERROR(hdroite-Hgauche,0),IF(durée1>0,durée1,\"00:00\")),0))+SUMPRODUCT(ISNUMBER(MATCH(INDIRECT(\"H\"&$A$1&\"!B2:AF2\"),moindimfe,0))*IFERROR(IF(\"19:00\"<=IFERROR(Hgauche,0),IF(durée4<0,0,durée4),\"00:00\"),0))","v":0},{"$f":"SUMPRODUCT(ISNUMBER(MATCH(INDIRECT(\"H\"&$A$1&\"!B2:AF2\"),DimFe,0))*IFERROR(IF(\"19:00\"<=IFERROR(Hgauche,0),IF(durée6<0,0,durée6),IF(durée<0,0,durée)),0))+SUMPRODUCT(ISNUMBER(MATCH(INDIRECT(\"H\"&$A$1&\"!B2:AF2\"),moindimfe,0))*IFERROR(IF(\"19:00\"<=IFERROR(Hgauche,0),IF(durée2<0,0,durée2),\"00:00\"),0))","v":0},{"$f":"SUMPRODUCT(1*IF(durée<0,0,durée))+SUMPRODUCT(1*IFERROR(IF(\"19:00\"<=IFERROR(Hgauche,0),IF(durée2<0,0,durée2),\"00:00\"),0))-durée5","v":0},null,{"$f":"(AB51/24)+SUMPRODUCT(($B$6:$AA$6)*(B51:AA51))","v":0},{"$f":"VLOOKUP($A51,Bilan!A51:AI99,35,FALSE)","v":0},null,{"$f":"Bilan!AN51","v":66},65,null,{"$f":"SUM(B51:R51)","v":0}]
[{"$f":"Données!$H49","v":0},0,0,0,0,0,0,0,0,0,0,0,0,0,0,0,0,0,0,0,0,0,0,0,0,0,0,{"$f":"VLOOKUP($A52,INDIRECT(\"'H\"&$A$1&\"'!$A$7:$AR$56\"),35,0)","v":"00:00:00"},{"$f":"VLOOKUP($A52,INDIRECT(\"'H\"&$A$1&\"'!$A$7:$AR$56\"),38,0)","v":"00:00:00"},null,{"$f":"SUMPRODUCT(ISNUMBER(MATCH(INDIRECT(\"H\"&$A$1&\"!B2:AF2\"),DimFe,0))*IFERROR(IF(\"19:00\">=IFERROR(Hgauche,0),IFERROR(hdroite-Hgauche,0),IF(durée1>0,durée1,\"00:00\")),0))+SUMPRODUCT(ISNUMBER(MATCH(INDIRECT(\"H\"&$A$1&\"!B2:AF2\"),moindimfe,0))*IFERROR(IF(\"19:00\"<=IFERROR(Hgauche,0),IF(durée4<0,0,durée4),\"00:00\"),0))","v":0},{"$f":"SUMPRODUCT(ISNUMBER(MATCH(INDIRECT(\"H\"&$A$1&\"!B2:AF2\"),DimFe,0))*IFERROR(IF(\"19:00\"<=IFERROR(Hgauche,0),IF(durée6<0,0,durée6),IF(durée<0,0,durée)),0))+SUMPRODUCT(ISNUMBER(MATCH(INDIRECT(\"H\"&$A$1&\"!B2:AF2\"),moindimfe,0))*IFERROR(IF(\"19:00\"<=IFERROR(Hgauche,0),IF(durée2<0,0,durée2),\"00:00\"),0))","v":0},{"$f":"SUMPRODUCT(1*IF(durée<0,0,durée))+SUMPRODUCT(1*IFERROR(IF(\"19:00\"<=IFERROR(Hgauche,0),IF(durée2<0,0,durée2),\"00:00\"),0))-durée5","v":0},null,{"$f":"(AB52/24)+SUMPRODUCT(($B$6:$AA$6)*(B52:AA52))","v":0},{"$f":"VLOOKUP($A52,Bilan!A52:AI100,35,FALSE)","v":0},null,{"$f":"Bilan!AN52","v":{"$error":"#VALUE!"}},66,null,{"$f":"SUM(B52:R52)","v":0}]
[{"$f":"Données!$H50","v":0},0,0,0,0,0,0,0,0,0,0,0,0,0,0,0,0,0,0,0,0,0,0,0,0,0,0,{"$f":"VLOOKUP($A53,INDIRECT(\"'H\"&$A$1&\"'!$A$7:$AR$56\"),35,0)","v":"00:00:00"},{"$f":"VLOOKUP($A53,INDIRECT(\"'H\"&$A$1&\"'!$A$7:$AR$56\"),38,0)","v":"00:00:00"},null,{"$f":"SUMPRODUCT(ISNUMBER(MATCH(INDIRECT(\"H\"&$A$1&\"!B2:AF2\"),DimFe,0))*IFERROR(IF(\"19:00\">=IFERROR(Hgauche,0),IFERROR(hdroite-Hgauche,0),IF(durée1>0,durée1,\"00:00\")),0))+SUMPRODUCT(ISNUMBER(MATCH(INDIRECT(\"H\"&$A$1&\"!B2:AF2\"),moindimfe,0))*IFERROR(IF(\"19:00\"<=IFERROR(Hgauche,0),IF(durée4<0,0,durée4),\"00:00\"),0))","v":0},{"$f":"SUMPRODUCT(ISNUMBER(MATCH(INDIRECT(\"H\"&$A$1&\"!B2:AF2\"),DimFe,0))*IFERROR(IF(\"19:00\"<=IFERROR(Hgauche,0),IF(durée6<0,0,durée6),IF(durée<0,0,durée)),0))+SUMPRODUCT(ISNUMBER(MATCH(INDIRECT(\"H\"&$A$1&\"!B2:AF2\"),moindimfe,0))*IFERROR(IF(\"19:00\"<=IFERROR(Hgauche,0),IF(durée2<0,0,durée2),\"00:00\"),0))","v":0},{"$f":"SUMPRODUCT(1*IF(durée<0,0,durée))+SUMPRODUCT(1*IFERROR(IF(\"19:00\"<=IFERROR(Hgauche,0),IF(durée2<0,0,durée2),\"00:00\"),0))-durée5","v":0},null,{"$f":"(AB53/24)+SUMPRODUCT(($B$6:$AA$6)*(B53:AA53))","v":0},{"$f":"VLOOKUP($A53,Bilan!A53:AI101,35,FALSE)","v":0},null,{"$f":"Bilan!AN53","v":{"$error":"#VALUE!"}},67,null,{"$f":"SUM(B53:R53)","v":0}]
[{"$f":"Données!$H51","v":0},0,0,0,0,0,0,0,0,0,0,0,0,0,0,0,0,0,0,0,0,0,0,0,0,0,0,{"$f":"VLOOKUP($A54,INDIRECT(\"'H\"&$A$1&\"'!$A$7:$AR$56\"),35,0)","v":"00:00:00"},{"$f":"VLOOKUP($A54,INDIRECT(\"'H\"&$A$1&\"'!$A$7:$AR$56\"),38,0)","v":"00:00:00"},null,{"$f":"SUMPRODUCT(ISNUMBER(MATCH(INDIRECT(\"H\"&$A$1&\"!B2:AF2\"),DimFe,0))*IFERROR(IF(\"19:00\">=IFERROR(Hgauche,0),IFERROR(hdroite-Hgauche,0),IF(durée1>0,durée1,\"00:00\")),0))+SUMPRODUCT(ISNUMBER(MATCH(INDIRECT(\"H\"&$A$1&\"!B2:AF2\"),moindimfe,0))*IFERROR(IF(\"19:00\"<=IFERROR(Hgauche,0),IF(durée4<0,0,durée4),\"00:00\"),0))","v":0},{"$f":"SUMPRODUCT(ISNUMBER(MATCH(INDIRECT(\"H\"&$A$1&\"!B2:AF2\"),DimFe,0))*IFERROR(IF(\"19:00\"<=IFERROR(Hgauche,0),IF(durée6<0,0,durée6),IF(durée<0,0,durée)),0))+SUMPRODUCT(ISNUMBER(MATCH(INDIRECT(\"H\"&$A$1&\"!B2:AF2\"),moindimfe,0))*IFERROR(IF(\"19:00\"<=IFERROR(Hgauche,0),IF(durée2<0,0,durée2),\"00:00\"),0))","v":0},{"$f":"SUMPRODUCT(1*IF(durée<0,0,durée))+SUMPRODUCT(1*IFERROR(IF(\"19:00\"<=IFERROR(Hgauche,0),IF(durée2<0,0,durée2),\"00:00\"),0))-durée5","v":0},null,{"$f":"(AB54/24)+SUMPRODUCT(($B$6:$AA$6)*(B54:AA54))","v":0},{"$f":"VLOOKUP($A54,Bilan!A54:AI102,35,FALSE)","v":0},null,{"$f":"Bilan!AN54","v":{"$error":"#VALUE!"}},68,null,{"$f":"SUM(B54:R54)","v":0}]
[{"$f":"Données!$H52","v":"Chef de service"}]
[{"$f":"Données!$H53","v":"Q"},{"$f":"IF(SUMPRODUCT((INDIRECT(\"'\"&$A$1&\"'!$A$7:$A$56\")=$A56)*(INDIRECT(\"'\"&$A$1&\"'!$B$7:$AF$56\")=B$7))=0,\"\",SUMPRODUCT((INDIRECT(\"'\"&$A$1&\"'!$A$7:$A$56\")=$A56)*(INDIRECT(\"'\"&$A$1&\"'!$B$7:$AF$56\")=B$7)))","v":""},"","","","","","","","","","","","","","","","","","","","","","","","","",{"$f":"VLOOKUP($A56,INDIRECT(\"'\"&$A$1&\"'!$A$7:$AR$56\"),35,0)","v":"00:00:00"},{"$f":"VLOOKUP($A56,INDIRECT(\"'\"&$A$1&\"'!$A$7:$AR$56\"),36,0)","v":"00:00:00"},null,{"$f":"SUMPRODUCT(ISNUMBER(MATCH(INDIRECT(\"H\"&$A$1&\"!B2:AF2\"),DimFe,0))*IFERROR(IF(\"19:00\">=IFERROR(Hgauche,0),IFERROR(hdroite-Hgauche,0),IF(durée1>0,durée1,\"00:00\")),0))+SUMPRODUCT(ISNUMBER(MATCH(INDIRECT(\"H\"&$A$1&\"!B2:AF2\"),moindimfe,0))*IFERROR(IF(\"19:00\"<=IFERROR(Hgauche,0),IF(durée4<0,0,durée4),\"00:00\"),0))","v":0},{"$f":"SUMPRODUCT(ISNUMBER(MATCH(INDIRECT(\"H\"&$A$1&\"!B2:AF2\"),DimFe,0))*IFERROR(IF(\"19:00\"<=IFERROR(Hgauche,0),IF(durée6<0,0,durée6),IF(durée<0,0,durée)),0))+SUMPRODUCT(ISNUMBER(MATCH(INDIRECT(\"H\"&$A$1&\"!B2:AF2\"),moindimfe,0))*IFERROR(IF(\"19:00\"<=IFERROR(Hgauche,0),IF(durée2<0,0,durée2),\"00:00\"),0))","v":0},{"$f":"SUM(SUMPRODUCT(1*IFERROR(IF(\"19:00\"<=IFERROR(Hgauche,0),IF(durée2<0,0,durée2),\"00:00\"),0)),SUMPRODUCT(1*IFERROR(IF(\"19:00\"<=IFERROR(Hgauche,0),IF(durée6<0,0,durée6),\"00:00\"),0)),SUMPRODUCT(1*IFERROR(IF(\"21:00\"<=IFERROR(Hdroitesimple,0),IF(durée<0,0,durée),\"00:00\"),0)))-durée5","v":0},null,{"$f":"bilanh","v":0},{"$f":"VLOOKUP($A56,Bilan!$A$9:$AQ104,37,FALSE)","v":63},null,{"$f":"Bilan!AN56","v":65},65,null,{"$f":"Jourtravaillé","v":0}]

{"sheet":"BAvril","index":29,"n_rows":56,"n_cols":66,"rows_kept":56,"cut":false,"hidden":false,"merged":[[7,37,7,38],[6,27,7,27],[6,28,7,28],[6,30,7,30],[6,31,7,31],[6,32,7,32],[7,34,7,35]]}
["Avril"]
[null,null,{"$f":"LEFT(OFFSET(INDIRECT(\"H\"&$A$1&\"!B8:AF8\"),MATCH($A9,INDIRECT(\"H\"&$A$1&\"!A9:A56\"),0),),5)","v":""}]
[null,null,{"$f":"RIGHT(OFFSET(INDIRECT(\"H\"&$A$1&\"!B8:AF8\"),MATCH($A3,INDIRECT(\"H\"&$A$1&\"!A9:A56\"),0),),5)","v":""}]
[]
[]
["Jours",{"$f":"Données!$E3","v":0.31597222222222227},{"$f":"Données!$E4","v":0.10763888888888884},{"$f":"Données!$E5","v":0.31249999999999994},{"$f":"Données!$E6","v":0.32291666666666669},{"$f":"Données!$E7","v":8.3333333333333315E-2},{"$f":"Données!$E8","v":0.47916666666666669},{"$f":"Données!$E9","v":0.3125},{"$f":"Données!$E10","v":0.48958333333333337},{"$f":"Données!$E11","v":0.47916666666666669},{"$f":"Données!$E12","v":0.51041666666666674},{"$f":"Données!$E13","v":0.51041666666666674},{"$f":"Données!$E14","v":0.44791666666666663},{"$f":"Données!$E15","v":0.49999999999999989},{"$f":"Données!$E16","v":0.49999999999999989},{"$f":"Données!$E17","v":0.5},{"$f":"Données!$E18","v":0.29166666666666669},{"$f":"Données!$E19","v":0.3125},{"$f":"Données!$E20","v":0.3125},{"$f":"Données!$E21","v":0.3125},{"$f":"Données!$E22","v":0.3125},{"$f":"Données!$E23","v":0.3125},{"$f":"Données!$E24","v":0},{"$f":"Données!$E25","v":0},{"$f":"Données!$E26","v":0},{"$f":"Données!$E27","v":0.33333333333333331},{"$f":"Données!$E28","v":0}]
[null,{"$f":"Données!$A3","v":"M"},{"$f":"Données!$A4","v":"MG"},{"$f":"Données!$A5","v":"J"},{"$f":"Données!$A6","v":"J+"},{"$f":"Données!$A7","v":"R"},{"$f":"Données!$A8","v":"RS"},{"$f":"Données!$A9","v":"S"},{"$f":"Données!$A10","v":"W"},{"$f":"Données!$A11","v":"W+"},{"$f":"Données!$A12","v":"WD"},{"$f":"Données!$A13","v":"WF"},{"$f":"Données!$A14","v":"N"},{"$f":"Données!$A15","v":"N+"},{"$f":"Données!$A16","v":"NS"},{"$f":"Données!$A17","v":"T"},{"$f":"Données!$A18","v":"F"},{"$f":"Données!$A19","v":"SYN"},{"$f":"Données!$A20","v":"AT"},{"$f":"Données!$A21","v":"AM"},{"$f":"Données!$A22","v":"EM"},{"$f":"Données!$A23","v":"CE"},{"$f":"Données!$A24","v":"CA"},{"$f":"Données!$A25","v":"CA16"},{"$f":"Données!$A26","v":"REC"},{"$f":"Données!$A27","v":"PL"},{"$f":"Données!$A28","v":"D"},"Heures\nSupplémentaires \navant 21 h","Heures\nSupplémentaires \naprès 21 h",null,"Heures dimanche","Heures de nuit dimanches","Heures apres 21 h"]
["Equipe de jour",{"$f":"IF(ISBLANK(Données!$C3),TEXT(Données!$B3,\"hh:mm\"),TEXT(Données!$B3,\"hh:mm\")&\" : \"&TEXT(Données!$C3,\"hh:mm\"))","v":"07:00 : 14:35"},{"$f":"IF(ISBLANK(Données!$C4),TEXT(Données!$B4,\"hh:mm\"),TEXT(Données!$B4,\"hh:mm\")&\" : \"&TEXT(Données!$C4,\"hh:mm\"))","v":"23:00 : 01:35"},{"$f":"IF(ISBLANK(Données!$C5),TEXT(Données!$B5,\"hh:mm\"),TEXT(Données!$B5,\"hh:mm\")&\" : \"&TEXT(Données!$C5,\"hh:mm\"))","v":"10:00 : 17:30"},{"$f":"IF(ISBLANK(Données!$C6),TEXT(Données!$B6,\"hh:mm\"),TEXT(Données!$B6,\"hh:mm\")&\" : \"&TEXT(Données!$C6,\"hh:mm\"))","v":"11:30 : 19:15"},{"$f":"IF(ISBLANK(Données!$C7),TEXT(Données!$B7,\"hh:mm\"),TEXT(Données!$B7,\"hh:mm\")&\" : \"&TEXT(Données!$C7,\"hh:mm\"))","v":"10:00 : 12:00"},{"$f":"IF(ISBLANK(Données!$C8),TEXT(Données!$B8,\"hh:mm\"),TEXT(Données!$B8,\"hh:mm\")&\" : \"&TEXT(Données!$C8,\"hh:mm\"))","v":"10:00 : 21:30"},{"$f":"IF(ISBLANK(Données!$C9),TEXT(Données!$B9,\"hh:mm\"),TEXT(Données!$B9,\"hh:mm\")&\" : \"&TEXT(Données!$C9,\"hh:mm\"))","v":"14:00 : 21:30"},{"$f":"IF(ISBLANK(Données!$C10),TEXT(Données!$B10,\"hh:mm\"),TEXT(Données!$B10,\"hh:mm\")&\" : \"&TEXT(Données!$C10,\"hh:mm\"))","v":"07:30 : 19:15"},{"$f":"IF(ISBLANK(Données!$C11),TEXT(Données!$B11,\"hh:mm\"),TEXT(Données!$B11,\"hh:mm\")&\" : \"&TEXT(Données!$C11,\"hh:mm\"))","v":"10:00 : 21:30"},{"$f":"IF(ISBLANK(Données!$C12),TEXT(Données!$B12,\"hh:mm\"),TEXT(Données!$B12,\"hh:mm\")&\" : \"&TEXT(Données!$C12,\"hh:mm\"))","v":"07:00 : 19:15"},{"$f":"IF(ISBLANK(Données!$C13),TEXT(Données!$B13,\"hh:mm\"),TEXT(Données!$B13,\"hh:mm\")&\" : \"&TEXT(Données!$C13,\"hh:mm\"))","v":"07:00 : 19:15"},{"$f":"IF(ISBLANK(Données!$C14),TEXT(Données!$B14,\"hh:mm\"),TEXT(Données!$B14,\"hh:mm\")&\" : \"&TEXT(Données!$C14,\"hh:mm\"))","v":"20:30 : 07:15"},{"$f":"IF(ISBLANK(Données!$C15),TEXT(Données!$B15,\"hh:mm\"),TEXT(Données!$B15,\"hh:mm\")&\" : \"&TEXT(Données!$C15,\"hh:mm\"))","v":"19:15 : 07:15"},{"$f":"IF(ISBLANK(Données!$C16),TEXT(Données!$B16,\"hh:mm\"),TEXT(Données!$B16,\"hh:mm\")&\" : \"&TEXT(Données!$C16,\"hh:mm\"))","v":"19:15 : 07:15"},{"$f":"IF(ISBLANK(Données!$C17),TEXT(Données!$B17,\"hh:mm\"),TEXT(Données!$B17,\"hh:mm\")&\" : \"&TEXT(Données!$C17,\"hh:mm\"))","v":"T"},{"$f":"IF(ISBLANK(Données!$C18),TEXT(Données!$B18,\"hh:mm\"),TEXT(Données!$B18,\"hh:mm\")&\" : \"&TEXT(Données!$C18,\"hh:mm\"))","v":"F"},{"$f":"IF(ISBLANK(Données!$C19),TEXT(Données!$B19,\"hh:mm\"),TEXT(Données!$B19,\"hh:mm\")&\" : \"&TEXT(Données!$C19,\"hh:mm\"))","v":"Syn"},{"$f":"IF(ISBLANK(Données!$C20),TEXT(Données!$B20,\"hh:mm\"),TEXT(Données!$B20,\"hh:mm\")&\" : \"&TEXT(Données!$C20,\"hh:mm\"))","v":"AT"},{"$f":"IF(ISBLANK(Données!$C21),TEXT(Données!$B21,\"hh:mm\"),TEXT(Données!$B21,\"hh:mm\")&\" : \"&TEXT(Données!$C21,\"hh:mm\"))","v":"AM"},{"$f":"IF(ISBLANK(Données!$C22),TEXT(Données!$B22,\"hh:mm\"),TEXT(Données!$B22,\"hh:mm\")&\" : \"&TEXT(Données!$C22,\"hh:mm\"))","v":"EM"},{"$f":"IF(ISBLANK(Données!$C23),TEXT(Données!$B23,\"hh:mm\"),TEXT(Données!$B23,\"hh:mm\")&\" : \"&TEXT(Données!$C23,\"hh:mm\"))","v":"CE"},{"$f":"IF(ISBLANK(Données!$C24),TEXT(Données!$B24,\"hh:mm\"),TEXT(Données!$B24,\"hh:mm\")&\" : \"&TEXT(Données!$C24,\"hh:mm\"))","v":"CA"},{"$f":"IF(ISBLANK(Données!$C25),TEXT(Données!$B25,\"hh:mm\"),TEXT(Données!$B25,\"hh:mm\")&\" : \"&TEXT(Données!$C25,\"hh:mm\"))","v":"CA16"},{"$f":"IF(ISBLANK(Données!$C26),TEXT(Données!$B26,\"hh:mm\"),TEXT(Données!$B26,\"hh:mm\")&\" : \"&TEXT(Données!$C26,\"hh:mm\"))","v":"REC"},{"$f":"IF(ISBLANK(Données!$C27),TEXT(Données!$B27,\"hh:mm\"),TEXT(Données!$B27,\"hh:mm\")&\" : \"&TEXT(Données!$C27,\"hh:mm\"))","v":"PL"},{"$f":"IF(ISBLANK(Données!$C28),TEXT(Données!$B28,\"hh:mm\"),TEXT(Données!$B28,\"hh:mm\")&\" : \"&TEXT(Données!$C28,\"hh:mm\"))","v":"D"},null,null,null,null,null,null,null,"Total ",null,null,"CA",null,null,"Jour travaillé"]
[{"$f":"Données!$H6","v":"A"},{"$f":"IF(SUMPRODUCT((INDIRECT(\"'\"&$A$1&\"'!$A$7:$A$56\")=$A9)*(INDIRECT(\"'\"&$A$1&\"'!$B$7:$AF$56\")=B$7))=0,\"\",SUMPRODUCT((INDIRECT(\"'\"&$A$1&\"'!$A$7:$A$56\")=$A9)*(INDIRECT(\"'\"&$A$1&\"'!$B$7:$AF$56\")=B$7)))","v":""},{"$f":"IF(SUMPRODUCT((INDIRECT(\"'\"&$A$1&\"'!$A$7:$A$56\")=$A9)*(INDIRECT(\"'\"&$A$1&\"'!$B$7:$AF$56\")=C$7))=0,\"\",SUMPRODUCT((INDIRECT(\"'\"&$A$1&\"'!$A$7:$A$56\")=$A9)*(INDIRECT(\"'\"&$A$1&\"'!$B$7:$AF$56\")=C$7)))","v":""},"","","","","","","","","","","","","","","","","","","","","","","","",{"$f":"VLOOKUP($A9,INDIRECT(\"'\"&$A$1&\"'!$A$7:$AR$56\"),35,0)","v":"00:00:00"},{"$f":"VLOOKUP($A9,INDIRECT(\"'\"&$A$1&\"'!$A$7:$AR$56\"),36,0)","v":"00:00:00"},null,{"$f":"SUMPRODUCT(ISNUMBER(MATCH(INDIRECT(\"H\"&$A$1&\"!B2:AF2\"),DimFe,0))*IFERROR(IF(\"19:00\">=IFERROR(Hgauche,0),IFERROR(hdroite-Hgauche,0),IF(durée1>0,durée1,\"00:00\")),0))+SUMPRODUCT(ISNUMBER(MATCH(INDIRECT(\"H\"&$A$1&\"!B2:AF2\"),moindimfe,0))*IFERROR(IF(\"19:00\"<=IFERROR(Hgauche,0),IF(durée4<0,0,durée4),\"00:00\"),0))","v":0},{"$f":"SUMPRODUCT(ISNUMBER(MATCH(INDIRECT(\"H\"&$A$1&\"!B2:AF2\"),DimFe,0))*IFERROR(IF(\"19:00\"<=IFERROR(Hgauche,0),IF(durée6<0,0,durée6),IF(durée<0,0,durée)),0))+SUMPRODUCT(ISNUMBER(MATCH(INDIRECT(\"H\"&$A$1&\"!B2:AF2\"),moindimfe,0))*IFERROR(IF(\"19:00\"<=IFERROR(Hgauche,0),IF(durée2<0,0,durée2),\"00:00\"),0))","v":0},{"$f":"SUM(SUMPRODUCT(1*IFERROR(IF(\"19:00\"<=IFERROR(Hgauche,0),IF(durée2<0,0,durée2),\"00:00\"),0)),SUMPRODUCT(1*IFERROR(IF(\"19:00\"<=IFERROR(Hgauche,0),IF(durée6<0,0,durée6),\"00:00\"),0)),SUMPRODUCT(1*IFERROR(IF(\"21:00\"<=IFERROR(Hdroitesimple,0),IF(durée<0,0,durée),\"00:00\"),0)))-durée5","v":0},null,{"$f":"bilanh","v":0},{"$f":"VLOOKUP($A9,Bilan!$A$9:$AQ57,37,FALSE)","v":59.5},null,{"$f":"Bilan!AN9","v":65},65,null,{"$f":"Jourtravaillé","v":0}]
[{"$f":"Données!$H7","v":0},{"$f":"IF(SUMPRODUCT((INDIRECT(\"'\"&$A$1&\"'!$A$7:$A$56\")=$A10)*(INDIRECT(\"'\"&$A$1&\"'!$B$7:$AF$56\")=B$7))=0,\"\",SUMPRODUCT((INDIRECT(\"'\"&$A$1&\"'!$A$7:$A$56\")=$A10)*(INDIRECT(\"'\"&$A$1&\"'!$B$7:$AF$56\")=B$7)))","v":""},"","","","","","","","","","","","","","","","","","","","","","","","","",{"$f":"VLOOKUP($A10,INDIRECT(\"'\"&$A$1&\"'!$A$7:$AR$56\"),35,0)","v":"00:00:00"},{"$f":"VLOOKUP($A10,INDIRECT(\"'\"&$A$1&\"'!$A$7:$AR$56\"),36,0)","v":"00:00:00"},null,{"$f":"SUMPRODUCT(ISNUMBER(MATCH(INDIRECT(\"H\"&$A$1&\"!B2:AF2\"),DimFe,0))*IFERROR(IF(\"19:00\">=IFERROR(Hgauche,0),IFERROR(hdroite-Hgauche,0),IF(durée1>0,durée1,\"00:00\")),0))+SUMPRODUCT(ISNUMBER(MATCH(INDIRECT(\"H\"&$A$1&\"!B2:AF2\"),moindimfe,0))*IFERROR(IF(\"19:00\"<=IFERROR(Hgauche,0),IF(durée4<0,0,durée4),\"00:00\"),0))","v":0},{"$f":"SUMPRODUCT(ISNUMBER(MATCH(INDIRECT(\"H\"&$A$1&\"!B2:AF2\"),DimFe,0))*IFERROR(IF(\"19:00\"<=IFERROR(Hgauche,0),IF(durée6<0,0,durée6),IF(durée<0,0,durée)),0))+SUMPRODUCT(ISNUMBER(MATCH(INDIRECT(\"H\"&$A$1&\"!B2:AF2\"),moindimfe,0))*IFERROR(IF(\"19:00\"<=IFERROR(Hgauche,0),IF(durée2<0,0,durée2),\"00:00\"),0))","v":0},{"$f":"SUM(SUMPRODUCT(1*IFERROR(IF(\"19:00\"<=IFERROR(Hgauche,0),IF(durée2<0,0,durée2),\"00:00\"),0)),SUMPRODUCT(1*IFERROR(IF(\"19:00\"<=IFERROR(Hgauche,0),IF(durée6<0,0,durée6),\"00:00\"),0)),SUMPRODUCT(1*IFERROR(IF(\"21:00\"<=IFERROR(Hdroitesimple,0),IF(durée<0,0,durée),\"00:00\"),0)))-durée5","v":0},null,0,{"$f":"VLOOKUP($A10,Bilan!$A$9:$AQ58,37,FALSE)","v":59.5},null,{"$f":"Bilan!AN10","v":65},65,null,0]
[{"$f":"Données!$H8","v":0},"","","","","","","","","","","","","","","","","","","","","","","","","","","00:00:00","00:00:00",null,{"$f":"SUMPRODUCT(ISNUMBER(MATCH(INDIRECT(\"H\"&$A$1&\"!B2:AF2\"),DimFe,0))*IFERROR(IF(\"19:00\">=IFERROR(Hgauche,0),IFERROR(hdroite-Hgauche,0),IF(durée1>0,durée1,\"00:00\")),0))+SUMPRODUCT(ISNUMBER(MATCH(INDIRECT(\"H\"&$A$1&\"!B2:AF2\"),moindimfe,0))*IFERROR(IF(\"19:00\"<=IFERROR(Hgauche,0),IF(durée4<0,0,durée4),\"00:00\"),0))","v":0},{"$f":"SUMPRODUCT(ISNUMBER(MATCH(INDIRECT(\"H\"&$A$1&\"!B2:AF2\"),DimFe,0))*IFERROR(IF(\"19:00\"<=IFERROR(Hgauche,0),IF(durée6<0,0,durée6),IF(durée<0,0,durée)),0))+SUMPRODUCT(ISNUMBER(MATCH(INDIRECT(\"H\"&$A$1&\"!B2:AF2\"),moindimfe,0))*IFERROR(IF(\"19:00\"<=IFERROR(Hgauche,0),IF(durée2<0,0,durée2),\"00:00\"),0))","v":0},{"$f":"SUM(SUMPRODUCT(1*IFERROR(IF(\"19:00\"<=IFERROR(Hgauche,0),IF(durée2<0,0,durée2),\"00:00\"),0)),SUMPRODUCT(1*IFERROR(IF(\"19:00\"<=IFERROR(Hgauche,0),IF(durée6<0,0,durée6),\"00:00\"),0)),SUMPRODUCT(1*IFERROR(IF(\"21:00\"<=IFERROR(Hdroitesimple,0),IF(durée<0,0,durée),\"00:00\"),0)))-durée5","v":0},null,0,{"$f":"VLOOKUP($A11,Bilan!$A$9:$AQ59,37,FALSE)","v":59.5},null,{"$f":"Bilan!AN11","v":65},65,null,0]
[{"$f":"Données!$H9","v":0},"","","","","","","","","","","","","","","","","","","","","","","","","","","00:00:00","00:00:00",null,{"$f":"SUMPRODUCT(ISNUMBER(MATCH(INDIRECT(\"H\"&$A$1&\"!B2:AF2\"),DimFe,0))*IFERROR(IF(\"19:00\">=IFERROR(Hgauche,0),IFERROR(hdroite-Hgauche,0),IF(durée1>0,durée1,\"00:00\")),0))+SUMPRODUCT(ISNUMBER(MATCH(INDIRECT(\"H\"&$A$1&\"!B2:AF2\"),moindimfe,0))*IFERROR(IF(\"19:00\"<=IFERROR(Hgauche,0),IF(durée4<0,0,durée4),\"00:00\"),0))","v":0},{"$f":"SUMPRODUCT(ISNUMBER(MATCH(INDIRECT(\"H\"&$A$1&\"!B2:AF2\"),DimFe,0))*IFERROR(IF(\"19:00\"<=IFERROR(Hgauche,0),IF(durée6<0,0,durée6),IF(durée<0,0,durée)),0))+SUMPRODUCT(ISNUMBER(MATCH(INDIRECT(\"H\"&$A$1&\"!B2:AF2\"),moindimfe,0))*IFERROR(IF(\"19:00\"<=IFERROR(Hgauche,0),IF(durée2<0,0,durée2),\"00:00\"),0))","v":0},{"$f":"SUM(SUMPRODUCT(1*IFERROR(IF(\"19:00\"<=IFERROR(Hgauche,0),IF(durée2<0,0,durée2),\"00:00\"),0)),SUMPRODUCT(1*IFERROR(IF(\"19:00\"<=IFERROR(Hgauche,0),IF(durée6<0,0,durée6),\"00:00\"),0)),SUMPRODUCT(1*IFERROR(IF(\"21:00\"<=IFERROR(Hdroitesimple,0),IF(durée<0,0,durée),\"00:00\"),0)))-durée5","v":0},null,0,{"$f":"VLOOKUP($A12,Bilan!$A$9:$AQ60,37,FALSE)","v":59.5},null,{"$f":"Bilan!AN12","v":65},65,null,0]
[{"$f":"Données!$H10","v":0},"","","","","","","","","","","","","","","","","","","","","","","","","","","00:00:00","00:00:00",null,{"$f":"SUMPRODUCT(ISNUMBER(MATCH(INDIRECT(\"H\"&$A$1&\"!B2:AF2\"),DimFe,0))*IFERROR(IF(\"19:00\">=IFERROR(Hgauche,0),IFERROR(hdroite-Hgauche,0),IF(durée1>0,durée1,\"00:00\")),0))+SUMPRODUCT(ISNUMBER(MATCH(INDIRECT(\"H\"&$A$1&\"!B2:AF2\"),moindimfe,0))*IFERROR(IF(\"19:00\"<=IFERROR(Hgauche,0),IF(durée4<0,0,durée4),\"00:00\"),0))","v":0},{"$f":"SUMPRODUCT(ISNUMBER(MATCH(INDIRECT(\"H\"&$A$1&\"!B2:AF2\"),DimFe,0))*IFERROR(IF(\"19:00\"<=IFERROR(Hgauche,0),IF(durée6<0,0,durée6),IF(durée<0,0,durée)),0))+SUMPRODUCT(ISNUMBER(MATCH(INDIRECT(\"H\"&$A$1&\"!B2:AF2\"),moindimfe,0))*IFERROR(IF(\"19:00\"<=IFERROR(Hgauche,0),IF(durée2<0,0,durée2),\"00:00\"),0))","v":0},{"$f":"SUM(SUMPRODUCT(1*IFERROR(IF(\"19:00\"<=IFERROR(Hgauche,0),IF(durée2<0,0,durée2),\"00:00\"),0)),SUMPRODUCT(1*IFERROR(IF(\"19:00\"<=IFERROR(Hgauche,0),IF(durée6<0,0,durée6),\"00:00\"),0)),SUMPRODUCT(1*IFERROR(IF(\"21:00\"<=IFERROR(Hdroitesimple,0),IF(durée<0,0,durée),\"00:00\"),0)))-durée5","v":0},null,0,{"$f":"VLOOKUP($A13,Bilan!$A$9:$AQ61,37,FALSE)","v":59.5},null,{"$f":"Bilan!AN13","v":65},65,null,0]
[{"$f":"Données!$H11","v":0},"","","","","","","","","","","","","","","","","","","","","","","","","","","00:00:00","00:00:00",null,{"$f":"SUMPRODUCT(ISNUMBER(MATCH(INDIRECT(\"H\"&$A$1&\"!B2:AF2\"),DimFe,0))*IFERROR(IF(\"19:00\">=IFERROR(Hgauche,0),IFERROR(hdroite-Hgauche,0),IF(durée1>0,durée1,\"00:00\")),0))+SUMPRODUCT(ISNUMBER(MATCH(INDIRECT(\"H\"&$A$1&\"!B2:AF2\"),moindimfe,0))*IFERROR(IF(\"19:00\"<=IFERROR(Hgauche,0),IF(durée4<0,0,durée4),\"00:00\"),0))","v":0},{"$f":"SUMPRODUCT(ISNUMBER(MATCH(INDIRECT(\"H\"&$A$1&\"!B2:AF2\"),DimFe,0))*IFERROR(IF(\"19:00\"<=IFERROR(Hgauche,0),IF(durée6<0,0,durée6),IF(durée<0,0,durée)),0))+SUMPRODUCT(ISNUMBER(MATCH(INDIRECT(\"H\"&$A$1&\"!B2:AF2\"),moindimfe,0))*IFERROR(IF(\"19:00\"<=IFERROR(Hgauche,0),IF(durée2<0,0,durée2),\"00:00\"),0))","v":0},{"$f":"SUM(SUMPRODUCT(1*IFERROR(IF(\"19:00\"<=IFERROR(Hgauche,0),IF(durée2<0,0,durée2),\"00:00\"),0)),SUMPRODUCT(1*IFERROR(IF(\"19:00\"<=IFERROR(Hgauche,0),IF(durée6<0,0,durée6),\"00:00\"),0)),SUMPRODUCT(1*IFERROR(IF(\"21:00\"<=IFERROR(Hdroitesimple,0),IF(durée<0,0,durée),\"00:00\"),0)))-durée5","v":0},null,0,{"$f":"VLOOKUP($A14,Bilan!$A$9:$AQ62,37,FALSE)","v":59.5},null,{"$f":"Bilan!AN14","v":65},65,null,0]
[{"$f":"Données!$H12","v":0},"","","","","","","","","","","","","","","","","","","","","","","","","","","00:00:00","00:00:00",null,{"$f":"SUMPRODUCT(ISNUMBER(MATCH(INDIRECT(\"H\"&$A$1&\"!B2:AF2\"),DimFe,0))*IFERROR(IF(\"19:00\">=IFERROR(Hgauche,0),IFERROR(hdroite-Hgauche,0),IF(durée1>0,durée1,\"00:00\")),0))+SUMPRODUCT(ISNUMBER(MATCH(INDIRECT(\"H\"&$A$1&\"!B2:AF2\"),moindimfe,0))*IFERROR(IF(\"19:00\"<=IFERROR(Hgauche,0),IF(durée4<0,0,durée4),\"00:00\"),0))","v":0},{"$f":"SUMPRODUCT(ISNUMBER(MATCH(INDIRECT(\"H\"&$A$1&\"!B2:AF2\"),DimFe,0))*IFERROR(IF(\"19:00\"<=IFERROR(Hgauche,0),IF(durée6<0,0,durée6),IF(durée<0,0,durée)),0))+SUMPRODUCT(ISNUMBER(MATCH(INDIRECT(\"H\"&$A$1&\"!B2:AF2\"),moindimfe,0))*IFERROR(IF(\"19:00\"<=IFERROR(Hgauche,0),IF(durée2<0,0,durée2),\"00:00\"),0))","v":0},{"$f":"SUM(SUMPRODUCT(1*IFERROR(IF(\"19:00\"<=IFERROR(Hgauche,0),IF(durée2<0,0,durée2),\"00:00\"),0)),SUMPRODUCT(1*IFERROR(IF(\"19:00\"<=IFERROR(Hgauche,0),IF(durée6<0,0,durée6),\"00:00\"),0)),SUMPRODUCT(1*IFERROR(IF(\"21:00\"<=IFERROR(Hdroitesimple,0),IF(durée<0,0,durée),\"00:00\"),0)))-durée5","v":0},null,0,{"$f":"VLOOKUP($A15,Bilan!$A$9:$AQ63,37,FALSE)","v":59.5},null,{"$f":"Bilan!AN15","v":65},65,null,0]
[{"$f":"Données!$H13","v":0},"","","","","","","","","","","","","","","","","","","","","","","","","","","00:00:00","00:00:00",null,{"$f":"SUMPRODUCT(ISNUMBER(MATCH(INDIRECT(\"H\"&$A$1&\"!B2:AF2\"),DimFe,0))*IFERROR(IF(\"19:00\">=IFERROR(Hgauche,0),IFERROR(hdroite-Hgauche,0),IF(durée1>0,durée1,\"00:00\")),0))+SUMPRODUCT(ISNUMBER(MATCH(INDIRECT(\"H\"&$A$1&\"!B2:AF2\"),moindimfe,0))*IFERROR(IF(\"19:00\"<=IFERROR(Hgauche,0),IF(durée4<0,0,durée4),\"00:00\"),0))","v":0},{"$f":"SUMPRODUCT(ISNUMBER(MATCH(INDIRECT(\"H\"&$A$1&\"!B2:AF2\"),DimFe,0))*IFERROR(IF(\"19:00\"<=IFERROR(Hgauche,0),IF(durée6<0,0,durée6),IF(durée<0,0,durée)),0))+SUMPRODUCT(ISNUMBER(MATCH(INDIRECT(\"H\"&$A$1&\"!B2:AF2\"),moindimfe,0))*IFERROR(IF(\"19:00\"<=IFERROR(Hgauche,0),IF(durée2<0,0,durée2),\"00:00\"),0))","v":0},{"$f":"SUM(SUMPRODUCT(1*IFERROR(IF(\"19:00\"<=IFERROR(Hgauche,0),IF(durée2<0,0,durée2),\"00:00\"),0)),SUMPRODUCT(1*IFERROR(IF(\"19:00\"<=IFERROR(Hgauche,0),IF(durée6<0,0,durée6),\"00:00\"),0)),SUMPRODUCT(1*IFERROR(IF(\"21:00\"<=IFERROR(Hdroitesimple,0),IF(durée<0,0,durée),\"00:00\"),0)))-durée5","v":0},null,0,{"$f":"VLOOKUP($A16,Bilan!$A$9:$AQ64,37,FALSE)","v":59.5},null,{"$f":"Bilan!AN16","v":65},65,null,0]
[{"$f":"Données!$H14","v":0},"","","","","","","","","","","","","","","","","","","","","","","","","","","00:00:00","00:00:00",null,{"$f":"SUMPRODUCT(ISNUMBER(MATCH(INDIRECT(\"H\"&$A$1&\"!B2:AF2\"),DimFe,0))*IFERROR(IF(\"19:00\">=IFERROR(Hgauche,0),IFERROR(hdroite-Hgauche,0),IF(durée1>0,durée1,\"00:00\")),0))+SUMPRODUCT(ISNUMBER(MATCH(INDIRECT(\"H\"&$A$1&\"!B2:AF2\"),moindimfe,0))*IFERROR(IF(\"19:00\"<=IFERROR(Hgauche,0),IF(durée4<0,0,durée4),\"00:00\"),0))","v":0},{"$f":"SUMPRODUCT(ISNUMBER(MATCH(INDIRECT(\"H\"&$A$1&\"!B2:AF2\"),DimFe,0))*IFERROR(IF(\"19:00\"<=IFERROR(Hgauche,0),IF(durée6<0,0,durée6),IF(durée<0,0,durée)),0))+SUMPRODUCT(ISNUMBER(MATCH(INDIRECT(\"H\"&$A$1&\"!B2:AF2\"),moindimfe,0))*IFERROR(IF(\"19:00\"<=IFERROR(Hgauche,0),IF(durée2<0,0,durée2),\"00:00\"),0))","v":0},{"$f":"SUM(SUMPRODUCT(1*IFERROR(IF(\"19:00\"<=IFERROR(Hgauche,0),IF(durée2<0,0,durée2),\"00:00\"),0)),SUMPRODUCT(1*IFERROR(IF(\"19:00\"<=IFERROR(Hgauche,0),IF(durée6<0,0,durée6),\"00:00\"),0)),SUMPRODUCT(1*IFERROR(IF(\"21:00\"<=IFERROR(Hdroitesimple,0),IF(durée<0,0,durée),\"00:00\"),0)))-durée5","v":0},null,0,{"$f":"VLOOKUP($A17,Bilan!$A$9:$AQ65,37,FALSE)","v":59.5},null,{"$f":"Bilan!AN17","v":65},65,null,0]
[{"$f":"Données!$H15","v":0},"","","","","","","","","","","","","","","","","","","","","","","","","","","00:00:00","00:00:00",null,{"$f":"SUMPRODUCT(ISNUMBER(MATCH(INDIRECT(\"H\"&$A$1&\"!B2:AF2\"),DimFe,0))*IFERROR(IF(\"19:00\">=IFERROR(Hgauche,0),IFERROR(hdroite-Hgauche,0),IF(durée1>0,durée1,\"00:00\")),0))+SUMPRODUCT(ISNUMBER(MATCH(INDIRECT(\"H\"&$A$1&\"!B2:AF2\"),moindimfe,0))*IFERROR(IF(\"19:00\"<=IFERROR(Hgauche,0),IF(durée4<0,0,durée4),\"00:00\"),0))","v":0},{"$f":"SUMPRODUCT(ISNUMBER(MATCH(INDIRECT(\"H\"&$A$1&\"!B2:AF2\"),DimFe,0))*IFERROR(IF(\"19:00\"<=IFERROR(Hgauche,0),IF(durée6<0,0,durée6),IF(durée<0,0,durée)),0))+SUMPRODUCT(ISNUMBER(MATCH(INDIRECT(\"H\"&$A$1&\"!B2:AF2\"),moindimfe,0))*IFERROR(IF(\"19:00\"<=IFERROR(Hgauche,0),IF(durée2<0,0,durée2),\"00:00\"),0))","v":0},{"$f":"SUM(SUMPRODUCT(1*IFERROR(IF(\"19:00\"<=IFERROR(Hgauche,0),IF(durée2<0,0,durée2),\"00:00\"),0)),SUMPRODUCT(1*IFERROR(IF(\"19:00\"<=IFERROR(Hgauche,0),IF(durée6<0,0,durée6),\"00:00\"),0)),SUMPRODUCT(1*IFERROR(IF(\"21:00\"<=IFERROR(Hdroitesimple,0),IF(durée<0,0,durée),\"00:00\"),0)))-durée5","v":0},null,0,{"$f":"VLOOKUP($A18,Bilan!$A$9:$AQ66,37,FALSE)","v":59.5},null,{"$f":"Bilan!AN18","v":65},65,null,0]
[{"$f":"Données!$H16","v":0},{"$f":"SUMPRODUCT((INDIRECT(\"'\"&$A$1&\"'!$A$7:$A$56\")=$A19)*(INDIRECT(\"'\"&$A$1&\"'!$B$7:$AF$56\")=B$7))","v":0},0,0,0,0,0,0,0,0,0,0,0,0,0,0,0,{"$f":"SUMPRODUCT((INDIRECT(\"'\"&$A$1&\"'!$A$7:$A$56\")=$A19)*(INDIRECT(\"'\"&$A$1&\"'!$B$7:$AF$56\")=R$7))","v":0},0,0,0,0,0,0,0,0,0,{"$f":"VLOOKUP($A19,INDIRECT(\"'H\"&$A$1&\"'!$A$7:$AR$56\"),35,0)","v":"00:00:00"},{"$f":"VLOOKUP($A19,INDIRECT(\"'H\"&$A$1&\"'!$A$7:$AR$56\"),38,0)","v":"00:00:00"},null,{"$f":"SUMPRODUCT(ISNUMBER(MATCH(INDIRECT(\"H\"&$A$1&\"!B2:AF2\"),DimFe,0))*IFERROR(IF(\"19:00\">=IFERROR(Hgauche,0),IFERROR(hdroite-Hgauche,0),IF(durée1>0,durée1,\"00:00\")),0))+SUMPRODUCT(ISNUMBER(MATCH(INDIRECT(\"H\"&$A$1&\"!B2:AF2\"),moindimfe,0))*IFERROR(IF(\"19:00\"<=IFERROR(Hgauche,0),IF(durée4<0,0,durée4),\"00:00\"),0))","v":0},{"$f":"SUMPRODUCT(ISNUMBER(MATCH(INDIRECT(\"H\"&$A$1&\"!B2:AF2\"),DimFe,0))*IFERROR(IF(\"19:00\"<=IFERROR(Hgauche,0),IF(durée6<0,0,durée6),IF(durée<0,0,durée)),0))+SUMPRODUCT(ISNUMBER(MATCH(INDIRECT(\"H\"&$A$1&\"!B2:AF2\"),moindimfe,0))*IFERROR(IF(\"19:00\"<=IFERROR(Hgauche,0),IF(durée2<0,0,durée2),\"00:00\"),0))","v":0},{"$f":"SUMPRODUCT(1*IF(durée<0,0,durée))+SUMPRODUCT(1*IFERROR(IF(\"19:00\"<=IFERROR(Hgauche,0),IF(durée2<0,0,durée2),\"00:00\"),0))-durée5","v":0},null,{"$f":"(AB19/24)+SUMPRODUCT(($B$6:$AA$6)*(B19:AA19))","v":0},{"$f":"VLOOKUP($A19,Bilan!A19:AI67,35,FALSE)","v":0},null,{"$f":"Bilan!AN19","v":{"$error":"#VALUE!"}},65,null,{"$f":"SUM(B19:R19)","v":0},null,null,null,null,null,null,null,null,null,null,null,null,null,null,null,null,null,null,null,null,null,null,null,{"$f":"Données!$A14","v":"N"},{"$f":"Données!$B14","v":0.85416666666666663}]
[{"$f":"Données!$H17","v":0},0,0,0,0,0,0,0,0,0,0,0,0,0,0,0,0,0,0,0,0,0,0,0,0,0,0,"00:00:00","00:00:00",null,{"$f":"SUMPRODUCT(ISNUMBER(MATCH(INDIRECT(\"H\"&$A$1&\"!B2:AF2\"),DimFe,0))*IFERROR(IF(\"19:00\">=IFERROR(Hgauche,0),IFERROR(hdroite-Hgauche,0),IF(durée1>0,durée1,\"00:00\")),0))+SUMPRODUCT(ISNUMBER(MATCH(INDIRECT(\"H\"&$A$1&\"!B2:AF2\"),moindimfe,0))*IFERROR(IF(\"19:00\"<=IFERROR(Hgauche,0),IF(durée4<0,0,durée4),\"00:00\"),0))","v":0},{"$f":"SUMPRODUCT(ISNUMBER(MATCH(INDIRECT(\"H\"&$A$1&\"!B2:AF2\"),DimFe,0))*IFERROR(IF(\"19:00\"<=IFERROR(Hgauche,0),IF(durée6<0,0,durée6),IF(durée<0,0,durée)),0))+SUMPRODUCT(ISNUMBER(MATCH(INDIRECT(\"H\"&$A$1&\"!B2:AF2\"),moindimfe,0))*IFERROR(IF(\"19:00\"<=IFERROR(Hgauche,0),IF(durée2<0,0,durée2),\"00:00\"),0))","v":0},{"$f":"SUMPRODUCT(1*IF(durée<0,0,durée))+SUMPRODUCT(1*IFERROR(IF(\"19:00\"<=IFERROR(Hgauche,0),IF(durée2<0,0,durée2),\"00:00\"),0))-durée5","v":0},null,0,{"$f":"VLOOKUP($A20,Bilan!A20:AI68,35,FALSE)","v":0},null,{"$f":"Bilan!AN20","v":{"$error":"#VALUE!"}},65,null,0,null,null,null,null,null,null,null,null,null,null,null,null,null,null,null,null,null,null,null,null,null,null,null,{"$f":"Données!$A15","v":"N+"},{"$f":"Données!$B15","v":0.80208333333333337}]
[{"$f":"Données!$H18","v":0},0,0,0,0,0,0,0,0,0,0,0,0,0,0,0,0,0,0,0,0,0,0,0,0,0,0,"00:00:00","00:00:00",null,{"$f":"SUMPRODUCT(ISNUMBER(MATCH(INDIRECT(\"H\"&$A$1&\"!B2:AF2\"),DimFe,0))*IFERROR(IF(\"19:00\">=IFERROR(Hgauche,0),IFERROR(hdroite-Hgauche,0),IF(durée1>0,durée1,\"00:00\")),0))+SUMPRODUCT(ISNUMBER(MATCH(INDIRECT(\"H\"&$A$1&\"!B2:AF2\"),moindimfe,0))*IFERROR(IF(\"19:00\"<=IFERROR(Hgauche,0),IF(durée4<0,0,durée4),\"00:00\"),0))","v":0},{"$f":"SUMPRODUCT(ISNUMBER(MATCH(INDIRECT(\"H\"&$A$1&\"!B2:AF2\"),DimFe,0))*IFERROR(IF(\"19:00\"<=IFERROR(Hgauche,0),IF(durée6<0,0,durée6),IF(durée<0,0,durée)),0))+SUMPRODUCT(ISNUMBER(MATCH(INDIRECT(\"H\"&$A$1&\"!B2:AF2\"),moindimfe,0))*IFERROR(IF(\"19:00\"<=IFERROR(Hgauche,0),IF(durée2<0,0,durée2),\"00:00\"),0))","v":0},{"$f":"SUMPRODUCT(1*IF(durée<0,0,durée))+SUMPRODUCT(1*IFERROR(IF(\"19:00\"<=IFERROR(Hgauche,0),IF(durée2<0,0,durée2),\"00:00\"),0))-durée5","v":0},null,0,{"$f":"VLOOKUP($A21,Bilan!A21:AI69,35,FALSE)","v":0},null,{"$f":"Bilan!AN21","v":{"$error":"#VALUE!"}},65,null,0,null,null,null,null,null,null,null,null,null,null,null,null,null,null,null,null,null,null,null,null,null,null,null,{"$f":"Données!$A16","v":"NS"},{"$f":"Données!$B16","v":0.80208333333333337}]
[{"$f":"Données!$H19","v":0},0,0,0,0,0,0,0,0,0,0,0,0,0,0,0,0,0,0,0,0,0,0,0,0,0,0,"00:00:00","00:00:00",null,{"$f":"SUMPRODUCT(ISNUMBER(MATCH(INDIRECT(\"H\"&$A$1&\"!B2:AF2\"),DimFe,0))*IFERROR(IF(\"19:00\">=IFERROR(Hgauche,0),IFERROR(hdroite-Hgauche,0),IF(durée1>0,durée1,\"00:00\")),0))+SUMPRODUCT(ISNUMBER(MATCH(INDIRECT(\"H\"&$A$1&\"!B2:AF2\"),moindimfe,0))*IFERROR(IF(\"19:00\"<=IFERROR(Hgauche,0),IF(durée4<0,0,durée4),\"00:00\"),0))","v":0},{"$f":"SUMPRODUCT(ISNUMBER(MATCH(INDIRECT(\"H\"&$A$1&\"!B2:AF2\"),DimFe,0))*IFERROR(IF(\"19:00\"<=IFERROR(Hgauche,0),IF(durée6<0,0,durée6),IF(durée<0,0,durée)),0))+SUMPRODUCT(ISNUMBER(MATCH(INDIRECT(\"H\"&$A$1&\"!B2:AF2\"),moindimfe,0))*IFERROR(IF(\"19:00\"<=IFERROR(Hgauche,0),IF(durée2<0,0,durée2),\"00:00\"),0))","v":0},{"$f":"SUMPRODUCT(1*IF(durée<0,0,durée))+SUMPRODUCT(1*IFERROR(IF(\"19:00\"<=IFERROR(Hgauche,0),IF(durée2<0,0,durée2),\"00:00\"),0))-durée5","v":0},null,0,{"$f":"VLOOKUP($A22,Bilan!A22:AI70,35,FALSE)","v":0},null,{"$f":"Bilan!AN22","v":{"$error":"#VALUE!"}},65,null,0,null,null,null,null,null,null,null,null,null,null,null,null,null,null,null,null,null,null,null,null,null,null,null,{"$f":"Données!$A17","v":"T"},{"$f":"Données!$B17","v":"T"}]
[{"$f":"Données!$H20","v":0},0,0,0,0,0,0,0,0,0,0,0,0,0,0,0,0,0,0,0,0,0,0,0,0,0,0,"00:00:00","00:00:00",null,{"$f":"SUMPRODUCT(ISNUMBER(MATCH(INDIRECT(\"H\"&$A$1&\"!B2:AF2\"),DimFe,0))*IFERROR(IF(\"19:00\">=IFERROR(Hgauche,0),IFERROR(hdroite-Hgauche,0),IF(durée1>0,durée1,\"00:00\")),0))+SUMPRODUCT(ISNUMBER(MATCH(INDIRECT(\"H\"&$A$1&\"!B2:AF2\"),moindimfe,0))*IFERROR(IF(\"19:00\"<=IFERROR(Hgauche,0),IF(durée4<0,0,durée4),\"00:00\"),0))","v":0},{"$f":"SUMPRODUCT(ISNUMBER(MATCH(INDIRECT(\"H\"&$A$1&\"!B2:AF2\"),DimFe,0))*IFERROR(IF(\"19:00\"<=IFERROR(Hgauche,0),IF(durée6<0,0,durée6),IF(durée<0,0,durée)),0))+SUMPRODUCT(ISNUMBER(MATCH(INDIRECT(\"H\"&$A$1&\"!B2:AF2\"),moindimfe,0))*IFERROR(IF(\"19:00\"<=IFERROR(Hgauche,0),IF(durée2<0,0,durée2),\"00:00\"),0))","v":0},{"$f":"SUMPRODUCT(1*IF(durée<0,0,durée))+SUMPRODUCT(1*IFERROR(IF(\"19:00\"<=IFERROR(Hgauche,0),IF(durée2<0,0,durée2),\"00:00\"),0))-durée5","v":0},null,0,{"$f":"VLOOKUP($A23,Bilan!A23:AI71,35,FALSE)","v":0},null,{"$f":"Bilan!AN23","v":{"$error":"#VALUE!"}},65,null,0,null,null,null,null,null,null,null,null,null,null,null,null,null,null,null,null,null,null,null,null,null,null,null,{"$f":"Données!$A18","v":"F"},{"$f":"Données!$B18","v":"F"}]
[{"$f":"Données!$H21","v":0},0,0,0,0,0,0,0,0,0,0,0,0,0,0,0,0,0,0,0,0,0,0,0,0,0,0,"00:00:00","00:00:00",null,{"$f":"SUMPRODUCT(ISNUMBER(MATCH(INDIRECT(\"H\"&$A$1&\"!B2:AF2\"),DimFe,0))*IFERROR(IF(\"19:00\">=IFERROR(Hgauche,0),IFERROR(hdroite-Hgauche,0),IF(durée1>0,durée1,\"00:00\")),0))+SUMPRODUCT(ISNUMBER(MATCH(INDIRECT(\"H\"&$A$1&\"!B2:AF2\"),moindimfe,0))*IFERROR(IF(\"19:00\"<=IFERROR(Hgauche,0),IF(durée4<0,0,durée4),\"00:00\"),0))","v":0},{"$f":"SUMPRODUCT(ISNUMBER(MATCH(INDIRECT(\"H\"&$A$1&\"!B2:AF2\"),DimFe,0))*IFERROR(IF(\"19:00\"<=IFERROR(Hgauche,0),IF(durée6<0,0,durée6),IF(durée<0,0,durée)),0))+SUMPRODUCT(ISNUMBER(MATCH(INDIRECT(\"H\"&$A$1&\"!B2:AF2\"),moindimfe,0))*IFERROR(IF(\"19:00\"<=IFERROR(Hgauche,0),IF(durée2<0,0,durée2),\"00:00\"),0))","v":0},{"$f":"SUMPRODUCT(1*IF(durée<0,0,durée))+SUMPRODUCT(1*IFERROR(IF(\"19:00\"<=IFERROR(Hgauche,0),IF(durée2<0,0,durée2),\"00:00\"),0))-durée5","v":0},null,0,{"$f":"VLOOKUP($A24,Bilan!A24:AI72,35,FALSE)","v":0},null,{"$f":"Bilan!AN24","v":{"$error":"#VALUE!"}},65,null,0,null,null,null,null,null,null,null,null,null,null,null,null,null,null,null,null,null,null,null,null,null,null,null,{"$f":"Données!$A19","v":"SYN"},{"$f":"Données!$B19","v":"Syn"}]
[{"$f":"Données!$H22","v":"Equipe de nuit"}]
[{"$f":"Données!$H23","v":"K"},{"$f":"IF(SUMPRODUCT((INDIRECT(\"'\"&$A$1&\"'!$A$7:$A$56\")=$A26)*(INDIRECT(\"'\"&$A$1&\"'!$B$7:$AF$56\")=B$7))=0,\"\",SUMPRODUCT((INDIRECT(\"'\"&$A$1&\"'!$A$7:$A$56\")=$A26)*(INDIRECT(\"'\"&$A$1&\"'!$B$7:$AF$56\")=B$7)))","v":""},"","","","","","","","","","","","","","","",{"$f":"IF(SUMPRODUCT((INDIRECT(\"'\"&$A$1&\"'!$A$7:$A$56\")=$A26)*(INDIRECT(\"'\"&$A$1&\"'!$B$7:$AF$56\")=R$7))=0,\"\",SUMPRODUCT((INDIRECT(\"'\"&$A$1&\"'!$A$7:$A$56\")=$A26)*(INDIRECT(\"'\"&$A$1&\"'!$B$7:$AF$56\")=R$7)))","v":""},"","","","","","","","","",{"$f":"VLOOKUP($A26,INDIRECT(\"'\"&$A$1&\"'!$A$7:$AR$56\"),35,0)","v":"00:00:00"},{"$f":"VLOOKUP($A26,INDIRECT(\"'\"&$A$1&\"'!$A$7:$AR$56\"),36,0)","v":"00:00:00"},null,{"$f":"SUMPRODUCT(ISNUMBER(MATCH(INDIRECT(\"H\"&$A$1&\"!B2:AF2\"),DimFe,0))*IFERROR(IF(\"19:00\">=IFERROR(Hgauche,0),IFERROR(hdroite-Hgauche,0),IF(durée1>0,durée1,\"00:00\")),0))+SUMPRODUCT(ISNUMBER(MATCH(INDIRECT(\"H\"&$A$1&\"!B2:AF2\"),moindimfe,0))*IFERROR(IF(\"19:00\"<=IFERROR(Hgauche,0),IF(durée4<0,0,durée4),\"00:00\"),0))","v":0},{"$f":"SUMPRODUCT(ISNUMBER(MATCH(INDIRECT(\"H\"&$A$1&\"!B2:AF2\"),DimFe,0))*IFERROR(IF(\"19:00\"<=IFERROR(Hgauche,0),IF(durée6<0,0,durée6),IF(durée<0,0,durée)),0))+SUMPRODUCT(ISNUMBER(MATCH(INDIRECT(\"H\"&$A$1&\"!B2:AF2\"),moindimfe,0))*IFERROR(IF(\"19:00\"<=IFERROR(Hgauche,0),IF(durée2<0,0,durée2),\"00:00\"),0))","v":0},{"$f":"SUM(SUMPRODUCT(1*IFERROR(IF(\"19:00\"<=IFERROR(Hgauche,0),IF(durée2<0,0,durée2),\"00:00\"),0)),SUMPRODUCT(1*IFERROR(IF(\"19:00\"<=IFERROR(Hgauche,0),IF(durée6<0,0,durée6),\"00:00\"),0)),SUMPRODUCT(1*IFERROR(IF(\"21:00\"<=IFERROR(Hdroitesimple,0),IF(durée<0,0,durée),\"00:00\"),0)))-durée5","v":0},null,{"$f":"bilanh","v":0},{"$f":"VLOOKUP($A26,Bilan!$A$9:$AQ74,37,FALSE)","v":57.958333333333336},null,{"$f":"Bilan!AN26","v":65},65,null,{"$f":"Jourtravaillé","v":0}]
[{"$f":"Données!$H24","v":0},"","","","","","","","","","","","","","","","","","","","","","","","","","",{"$f":"VLOOKUP($A27,INDIRECT(\"'\"&$A$1&\"'!$A$7:$AR$56\"),35,0)","v":"00:00:00"},{"$f":"VLOOKUP($A27,INDIRECT(\"'\"&$A$1&\"'!$A$7:$AR$56\"),36,0)","v":"00:00:00"},null,{"$f":"SUMPRODUCT(ISNUMBER(MATCH(INDIRECT(\"H\"&$A$1&\"!B2:AF2\"),DimFe,0))*IFERROR(IF(\"19:00\">=IFERROR(Hgauche,0),IFERROR(hdroite-Hgauche,0),IF(durée1>0,durée1,\"00:00\")),0))+SUMPRODUCT(ISNUMBER(MATCH(INDIRECT(\"H\"&$A$1&\"!B2:AF2\"),moindimfe,0))*IFERROR(IF(\"19:00\"<=IFERROR(Hgauche,0),IF(durée4<0,0,durée4),\"00:00\"),0))","v":0},{"$f":"SUMPRODUCT(ISNUMBER(MATCH(INDIRECT(\"H\"&$A$1&\"!B2:AF2\"),DimFe,0))*IFERROR(IF(\"19:00\"<=IFERROR(Hgauche,0),IF(durée6<0,0,durée6),IF(durée<0,0,durée)),0))+SUMPRODUCT(ISNUMBER(MATCH(INDIRECT(\"H\"&$A$1&\"!B2:AF2\"),moindimfe,0))*IFERROR(IF(\"19:00\"<=IFERROR(Hgauche,0),IF(durée2<0,0,durée2),\"00:00\"),0))","v":0},{"$f":"SUM(SUMPRODUCT(1*IFERROR(IF(\"19:00\"<=IFERROR(Hgauche,0),IF(durée2<0,0,durée2),\"00:00\"),0)),SUMPRODUCT(1*IFERROR(IF(\"19:00\"<=IFERROR(Hgauche,0),IF(durée6<0,0,durée6),\"00:00\"),0)),SUMPRODUCT(1*IFERROR(IF(\"21:00\"<=IFERROR(Hdroitesimple,0),IF(durée<0,0,durée),\"00:00\"),0)))-durée5","v":0},null,{"$f":"bilanh","v":0},{"$f":"VLOOKUP($A27,Bilan!$A$9:$AQ75,37,FALSE)","v":59.5},null,{"$f":"Bilan!AN27","v":65},65,null,{"$f":"Jourtravaillé","v":0}]
[{"$f":"Données!$H25","v":0},"","","","","","","","","","","","","","","","","","","","","","","","","","",{"$f":"VLOOKUP($A28,INDIRECT(\"'\"&$A$1&\"'!$A$7:$AR$56\"),35,0)","v":"00:00:00"},{"$f":"VLOOKUP($A28,INDIRECT(\"'\"&$A$1&\"'!$A$7:$AR$56\"),36,0)","v":"00:00:00"},null,{"$f":"SUMPRODUCT(ISNUMBER(MATCH(INDIRECT(\"H\"&$A$1&\"!B2:AF2\"),DimFe,0))*IFERROR(IF(\"19:00\">=IFERROR(Hgauche,0),IFERROR(hdroite-Hgauche,0),IF(durée1>0,durée1,\"00:00\")),0))+SUMPRODUCT(ISNUMBER(MATCH(INDIRECT(\"H\"&$A$1&\"!B2:AF2\"),moindimfe,0))*IFERROR(IF(\"19:00\"<=IFERROR(Hgauche,0),IF(durée4<0,0,durée4),\"00:00\"),0))","v":0},{"$f":"SUMPRODUCT(ISNUMBER(MATCH(INDIRECT(\"H\"&$A$1&\"!B2:AF2\"),DimFe,0))*IFERROR(IF(\"19:00\"<=IFERROR(Hgauche,0),IF(durée6<0,0,durée6),IF(durée<0,0,durée)),0))+SUMPRODUCT(ISNUMBER(MATCH(INDIRECT(\"H\"&$A$1&\"!B2:AF2\"),moindimfe,0))*IFERROR(IF(\"19:00\"<=IFERROR(Hgauche,0),IF(durée2<0,0,durée2),\"00:00\"),0))","v":0},{"$f":"SUM(SUMPRODUCT(1*IFERROR(IF(\"19:00\"<=IFERROR(Hgauche,0),IF(durée2<0,0,durée2),\"00:00\"),0)),SUMPRODUCT(1*IFERROR(IF(\"19:00\"<=IFERROR(Hgauche,0),IF(durée6<0,0,durée6),\"00:00\"),0)),SUMPRODUCT(1*IFERROR(IF(\"21:00\"<=IFERROR(Hdroitesimple,0),IF(durée<0,0,durée),\"00:00\"),0)))-durée5","v":0},null,{"$f":"bilanh","v":0},{"$f":"VLOOKUP($A28,Bilan!$A$9:$AQ76,37,FALSE)","v":59.5},null,{"$f":"Bilan!AN28","v":65},65,null,{"$f":"Jourtravaillé","v":0}]
[{"$f":"Données!$H26","v":0},{"$f":"SUMPRODUCT((INDIRECT(\"'\"&$A$1&\"'!$A$7:$A$56\")=$A29)*(INDIRECT(\"'\"&$A$1&\"'!$B$7:$AF$56\")=B$7))","v":0},0,0,0,0,0,0,0,0,0,0,0,0,0,0,0,{"$f":"SUMPRODUCT((INDIRECT(\"'\"&$A$1&\"'!$A$7:$A$56\")=$A29)*(INDIRECT(\"'\"&$A$1&\"'!$B$7:$AF$56\")=R$7))","v":0},0,0,0,0,0,0,0,0,0,{"$f":"VLOOKUP($A29,INDIRECT(\"'H\"&$A$1&\"'!$A$7:$AR$56\"),35,0)","v":"00:00:00"},{"$f":"VLOOKUP($A29,INDIRECT(\"'H\"&$A$1&\"'!$A$7:$AR$56\"),38,0)","v":"00:00:00"},null,{"$f":"SUMPRODUCT(ISNUMBER(MATCH(INDIRECT(\"H\"&$A$1&\"!B2:AF2\"),DimFe,0))*IFERROR(IF(\"19:00\">=IFERROR(Hgauche,0),IFERROR(hdroite-Hgauche,0),IF(durée1>0,durée1,\"00:00\")),0))+SUMPRODUCT(ISNUMBER(MATCH(INDIRECT(\"H\"&$A$1&\"!B2:AF2\"),moindimfe,0))*IFERROR(IF(\"19:00\"<=IFERROR(Hgauche,0),IF(durée4<0,0,durée4),\"00:00\"),0))","v":0},{"$f":"SUMPRODUCT(ISNUMBER(MATCH(INDIRECT(\"H\"&$A$1&\"!B2:AF2\"),DimFe,0))*IFERROR(IF(\"19:00\"<=IFERROR(Hgauche,0),IF(durée6<0,0,durée6),IF(durée<0,0,durée)),0))+SUMPRODUCT(ISNUMBER(MATCH(INDIRECT(\"H\"&$A$1&\"!B2:AF2\"),moindimfe,0))*IFERROR(IF(\"19:00\"<=IFERROR(Hgauche,0),IF(durée2<0,0,durée2),\"00:00\"),0))","v":0},{"$f":"SUMPRODUCT(1*IF(durée<0,0,durée))+SUMPRODUCT(1*IFERROR(IF(\"19:00\"<=IFERROR(Hgauche,0),IF(durée2<0,0,durée2),\"00:00\"),0))-durée5","v":0},null,{"$f":"(AB29/24)+SUMPRODUCT(($B$6:$AA$6)*(B29:AA29))","v":0},{"$f":"VLOOKUP($A29,Bilan!A29:AI77,35,FALSE)","v":0},null,{"$f":"Bilan!AN29","v":{"$error":"#VALUE!"}},65,null,{"$f":"SUM(B29:R29)","v":0},null,null,null,null,null,null,null,null,null,null,null,null,null,null,null,null,null,null,null,null,null,null,null,{"$f":"Données!$A24","v":"CA"},{"$f":"Données!$B24","v":"CA"}]
[{"$f":"Données!$H27","v":0},0,0,0,0,0,0,0,0,0,0,0,0,0,0,0,0,0,0,0,0,0,0,0,0,0,0,"00:00:00","00:00:00",null,{"$f":"SUMPRODUCT(ISNUMBER(MATCH(INDIRECT(\"H\"&$A$1&\"!B2:AF2\"),DimFe,0))*IFERROR(IF(\"19:00\">=IFERROR(Hgauche,0),IFERROR(hdroite-Hgauche,0),IF(durée1>0,durée1,\"00:00\")),0))+SUMPRODUCT(ISNUMBER(MATCH(INDIRECT(\"H\"&$A$1&\"!B2:AF2\"),moindimfe,0))*IFERROR(IF(\"19:00\"<=IFERROR(Hgauche,0),IF(durée4<0,0,durée4),\"00:00\"),0))","v":0},{"$f":"SUMPRODUCT(ISNUMBER(MATCH(INDIRECT(\"H\"&$A$1&\"!B2:AF2\"),DimFe,0))*IFERROR(IF(\"19:00\"<=IFERROR(Hgauche,0),IF(durée6<0,0,durée6),IF(durée<0,0,durée)),0))+SUMPRODUCT(ISNUMBER(MATCH(INDIRECT(\"H\"&$A$1&\"!B2:AF2\"),moindimfe,0))*IFERROR(IF(\"19:00\"<=IFERROR(Hgauche,0),IF(durée2<0,0,durée2),\"00:00\"),0))","v":0},{"$f":"SUMPRODUCT(1*IF(durée<0,0,durée))+SUMPRODUCT(1*IFERROR(IF(\"19:00\"<=IFERROR(Hgauche,0),IF(durée2<0,0,durée2),\"00:00\"),0))-durée5","v":0},null,0,{"$f":"VLOOKUP($A30,Bilan!A30:AI78,35,FALSE)","v":0},null,{"$f":"Bilan!AN30","v":{"$error":"#VALUE!"}},65,null,0,null,null,null,null,null,null,null,null,null,null,null,null,null,null,null,null,null,null,null,null,null,null,null,{"$f":"Données!$A25","v":"CA16"},{"$f":"Données!$B25","v":"CA16"}]
[{"$f":"Données!$H28","v":0},0,0,0,0,0,0,0,0,0,0,0,0,0,0,0,0,0,0,0,0,0,0,0,0,0,0,"00:00:00","00:00:00",null,{"$f":"SUMPRODUCT(ISNUMBER(MATCH(INDIRECT(\"H\"&$A$1&\"!B2:AF2\"),DimFe,0))*IFERROR(IF(\"19:00\">=IFERROR(Hgauche,0),IFERROR(hdroite-Hgauche,0),IF(durée1>0,durée1,\"00:00\")),0))+SUMPRODUCT(ISNUMBER(MATCH(INDIRECT(\"H\"&$A$1&\"!B2:AF2\"),moindimfe,0))*IFERROR(IF(\"19:00\"<=IFERROR(Hgauche,0),IF(durée4<0,0,durée4),\"00:00\"),0))","v":0},{"$f":"SUMPRODUCT(ISNUMBER(MATCH(INDIRECT(\"H\"&$A$1&\"!B2:AF2\"),DimFe,0))*IFERROR(IF(\"19:00\"<=IFERROR(Hgauche,0),IF(durée6<0,0,durée6),IF(durée<0,0,durée)),0))+SUMPRODUCT(ISNUMBER(MATCH(INDIRECT(\"H\"&$A$1&\"!B2:AF2\"),moindimfe,0))*IFERROR(IF(\"19:00\"<=IFERROR(Hgauche,0),IF(durée2<0,0,durée2),\"00:00\"),0))","v":0},{"$f":"SUMPRODUCT(1*IF(durée<0,0,durée))+SUMPRODUCT(1*IFERROR(IF(\"19:00\"<=IFERROR(Hgauche,0),IF(durée2<0,0,durée2),\"00:00\"),0))-durée5","v":0},null,0,{"$f":"VLOOKUP($A31,Bilan!A31:AI79,35,FALSE)","v":0},null,{"$f":"Bilan!AN31","v":{"$error":"#VALUE!"}},65,null,0,null,null,null,null,null,null,null,null,null,null,null,null,null,null,null,null,null,null,null,null,null,null,null,{"$f":"Données!$A26","v":"REC"},{"$f":"Données!$B26","v":"REC"}]
[{"$f":"Données!$H29","v":0},0,0,0,0,0,0,0,0,0,0,0,0,0,0,0,0,0,0,0,0,0,0,0,0,0,0,"00:00:00","00:00:00",null,{"$f":"SUMPRODUCT(ISNUMBER(MATCH(INDIRECT(\"H\"&$A$1&\"!B2:AF2\"),DimFe,0))*IFERROR(IF(\"19:00\">=IFERROR(Hgauche,0),IFERROR(hdroite-Hgauche,0),IF(durée1>0,durée1,\"00:00\")),0))+SUMPRODUCT(ISNUMBER(MATCH(INDIRECT(\"H\"&$A$1&\"!B2:AF2\"),moindimfe,0))*IFERROR(IF(\"19:00\"<=IFERROR(Hgauche,0),IF(durée4<0,0,durée4),\"00:00\"),0))","v":0},{"$f":"SUMPRODUCT(ISNUMBER(MATCH(INDIRECT(\"H\"&$A$1&\"!B2:AF2\"),DimFe,0))*IFERROR(IF(\"19:00\"<=IFERROR(Hgauche,0),IF(durée6<0,0,durée6),IF(durée<0,0,durée)),0))+SUMPRODUCT(ISNUMBER(MATCH(INDIRECT(\"H\"&$A$1&\"!B2:AF2\"),moindimfe,0))*IFERROR(IF(\"19:00\"<=IFERROR(Hgauche,0),IF(durée2<0,0,durée2),\"00:00\"),0))","v":0},{"$f":"SUMPRODUCT(1*IF(durée<0,0,durée))+SUMPRODUCT(1*IFERROR(IF(\"19:00\"<=IFERROR(Hgauche,0),IF(durée2<0,0,durée2),\"00:00\"),0))-durée5","v":0},null,0,{"$f":"VLOOKUP($A32,Bilan!A32:AI80,35,FALSE)","v":0},null,{"$f":"Bilan!AN32","v":{"$error":"#VALUE!"}},65,null,0,null,null,null,null,null,null,null,null,null,null,null,null,null,null,null,null,null,null,null,null,null,null,null,{"$f":"Données!$A27","v":"PL"},{"$f":"Données!$B27","v":"PL"}]
[{"$f":"Données!$H30","v":0},0,0,0,0,0,0,0,0,0,0,0,0,0,0,0,0,0,0,0,0,0,0,0,0,0,0,"00:00:00","00:00:00",null,{"$f":"SUMPRODUCT(ISNUMBER(MATCH(INDIRECT(\"H\"&$A$1&\"!B2:AF2\"),DimFe,0))*IFERROR(IF(\"19:00\">=IFERROR(Hgauche,0),IFERROR(hdroite-Hgauche,0),IF(durée1>0,durée1,\"00:00\")),0))+SUMPRODUCT(ISNUMBER(MATCH(INDIRECT(\"H\"&$A$1&\"!B2:AF2\"),moindimfe,0))*IFERROR(IF(\"19:00\"<=IFERROR(Hgauche,0),IF(durée4<0,0,durée4),\"00:00\"),0))","v":0},{"$f":"SUMPRODUCT(ISNUMBER(MATCH(INDIRECT(\"H\"&$A$1&\"!B2:AF2\"),DimFe,0))*IFERROR(IF(\"19:00\"<=IFERROR(Hgauche,0),IF(durée6<0,0,durée6),IF(durée<0,0,durée)),0))+SUMPRODUCT(ISNUMBER(MATCH(INDIRECT(\"H\"&$A$1&\"!B2:AF2\"),moindimfe,0))*IFERROR(IF(\"19:00\"<=IFERROR(Hgauche,0),IF(durée2<0,0,durée2),\"00:00\"),0))","v":0},{"$f":"SUMPRODUCT(1*IF(durée<0,0,durée))+SUMPRODUCT(1*IFERROR(IF(\"19:00\"<=IFERROR(Hgauche,0),IF(durée2<0,0,durée2),\"00:00\"),0))-durée5","v":0},null,0,{"$f":"VLOOKUP($A33,Bilan!A33:AI81,35,FALSE)","v":0},null,{"$f":"Bilan!AN33","v":{"$error":"#VALUE!"}},65,null,0,null,null,null,null,null,null,null,null,null,null,null,null,null,null,null,null,null,null,null,null,null,null,null,{"$f":"Données!$A28","v":"D"},{"$f":"Données!$B28","v":"D"}]
[{"$f":"Données!$H31","v":0},0,0,0,0,0,0,0,0,0,0,0,0,0,0,0,0,0,0,0,0,0,0,0,0,0,0,"00:00:00","00:00:00",null,{"$f":"SUMPRODUCT(ISNUMBER(MATCH(INDIRECT(\"H\"&$A$1&\"!B2:AF2\"),DimFe,0))*IFERROR(IF(\"19:00\">=IFERROR(Hgauche,0),IFERROR(hdroite-Hgauche,0),IF(durée1>0,durée1,\"00:00\")),0))+SUMPRODUCT(ISNUMBER(MATCH(INDIRECT(\"H\"&$A$1&\"!B2:AF2\"),moindimfe,0))*IFERROR(IF(\"19:00\"<=IFERROR(Hgauche,0),IF(durée4<0,0,durée4),\"00:00\"),0))","v":0},{"$f":"SUMPRODUCT(ISNUMBER(MATCH(INDIRECT(\"H\"&$A$1&\"!B2:AF2\"),DimFe,0))*IFERROR(IF(\"19:00\"<=IFERROR(Hgauche,0),IF(durée6<0,0,durée6),IF(durée<0,0,durée)),0))+SUMPRODUCT(ISNUMBER(MATCH(INDIRECT(\"H\"&$A$1&\"!B2:AF2\"),moindimfe,0))*IFERROR(IF(\"19:00\"<=IFERROR(Hgauche,0),IF(durée2<0,0,durée2),\"00:00\"),0))","v":0},{"$f":"SUMPRODUCT(1*IF(durée<0,0,durée))+SUMPRODUCT(1*IFERROR(IF(\"19:00\"<=IFERROR(Hgauche,0),IF(durée2<0,0,durée2),\"00:00\"),0))-durée5","v":0},null,0,{"$f":"VLOOKUP($A34,Bilan!A34:AI82,35,FALSE)","v":0},null,{"$f":"Bilan!AN34","v":{"$error":"#VALUE!"}},65,null,0]
[{"$f":"Données!$H32","v":"Maitresse de maison"}]
[{"$f":"Données!$H33","v":"N"},{"$f":"IF(SUMPRODUCT((INDIRECT(\"'\"&$A$1&\"'!$A$7:$A$56\")=$A36)*(INDIRECT(\"'\"&$A$1&\"'!$B$7:$AF$56\")=B$7))=0,\"\",SUMPRODUCT((INDIRECT(\"'\"&$A$1&\"'!$A$7:$A$56\")=$A36)*(INDIRECT(\"'\"&$A$1&\"'!$B$7:$AF$56\")=B$7)))","v":""},"","","","","","","","","","","","","","","","","","","","","","","","","",{"$f":"VLOOKUP($A36,INDIRECT(\"'\"&$A$1&\"'!$A$7:$AR$56\"),35,0)","v":"00:00:00"},{"$f":"VLOOKUP($A36,INDIRECT(\"'\"&$A$1&\"'!$A$7:$AR$56\"),36,0)","v":"00:00:00"},null,{"$f":"SUMPRODUCT(ISNUMBER(MATCH(INDIRECT(\"H\"&$A$1&\"!B2:AF2\"),DimFe,0))*IFERROR(IF(\"19:00\">=IFERROR(Hgauche,0),IFERROR(hdroite-Hgauche,0),IF(durée1>0,durée1,\"00:00\")),0))+SUMPRODUCT(ISNUMBER(MATCH(INDIRECT(\"H\"&$A$1&\"!B2:AF2\"),moindimfe,0))*IFERROR(IF(\"19:00\"<=IFERROR(Hgauche,0),IF(durée4<0,0,durée4),\"00:00\"),0))","v":0},{"$f":"SUMPRODUCT(ISNUMBER(MATCH(INDIRECT(\"H\"&$A$1&\"!B2:AF2\"),DimFe,0))*IFERROR(IF(\"19:00\"<=IFERROR(Hgauche,0),IF(durée6<0,0,durée6),IF(durée<0,0,durée)),0))+SUMPRODUCT(ISNUMBER(MATCH(INDIRECT(\"H\"&$A$1&\"!B2:AF2\"),moindimfe,0))*IFERROR(IF(\"19:00\"<=IFERROR(Hgauche,0),IF(durée2<0,0,durée2),\"00:00\"),0))","v":0},{"$f":"SUM(SUMPRODUCT(1*IFERROR(IF(\"19:00\"<=IFERROR(Hgauche,0),IF(durée2<0,0,durée2),\"00:00\"),0)),SUMPRODUCT(1*IFERROR(IF(\"19:00\"<=IFERROR(Hgauche,0),IF(durée6<0,0,durée6),\"00:00\"),0)),SUMPRODUCT(1*IFERROR(IF(\"21:00\"<=IFERROR(Hdroitesimple,0),IF(durée<0,0,durée),\"00:00\"),0)))-durée5","v":0},null,{"$f":"bilanh","v":0},{"$f":"VLOOKUP($A36,Bilan!$A$9:$AQ84,37,FALSE)","v":63},null,{"$f":"Bilan!AN36","v":65},65,null,{"$f":"Jourtravaillé","v":0}]
[{"$f":"Données!$H34","v":0},{"$f":"SUMPRODUCT((INDIRECT(\"'\"&$A$1&\"'!$A$7:$A$56\")=$A37)*(INDIRECT(\"'\"&$A$1&\"'!$B$7:$AF$56\")=B$7))","v":0},0,0,0,0,0,0,0,0,0,0,0,0,0,0,0,{"$f":"SUMPRODUCT((INDIRECT(\"'\"&$A$1&\"'!$A$7:$A$56\")=$A37)*(INDIRECT(\"'\"&$A$1&\"'!$B$7:$AF$56\")=R$7))","v":0},0,0,0,0,0,0,0,0,0,{"$f":"VLOOKUP($A37,INDIRECT(\"'H\"&$A$1&\"'!$A$7:$AR$56\"),35,0)","v":"00:00:00"},{"$f":"VLOOKUP($A37,INDIRECT(\"'H\"&$A$1&\"'!$A$7:$AR$56\"),38,0)","v":"00:00:00"},null,{"$f":"SUMPRODUCT(ISNUMBER(MATCH(INDIRECT(\"H\"&$A$1&\"!B2:AF2\"),DimFe,0))*IFERROR(IF(\"19:00\">=IFERROR(Hgauche,0),IFERROR(hdroite-Hgauche,0),IF(durée1>0,durée1,\"00:00\")),0))+SUMPRODUCT(ISNUMBER(MATCH(INDIRECT(\"H\"&$A$1&\"!B2:AF2\"),moindimfe,0))*IFERROR(IF(\"19:00\"<=IFERROR(Hgauche,0),IF(durée4<0,0,durée4),\"00:00\"),0))","v":0},{"$f":"SUMPRODUCT(ISNUMBER(MATCH(INDIRECT(\"H\"&$A$1&\"!B2:AF2\"),DimFe,0))*IFERROR(IF(\"19:00\"<=IFERROR(Hgauche,0),IF(durée6<0,0,durée6),IF(durée<0,0,durée)),0))+SUMPRODUCT(ISNUMBER(MATCH(INDIRECT(\"H\"&$A$1&\"!B2:AF2\"),moindimfe,0))*IFERROR(IF(\"19:00\"<=IFERROR(Hgauche,0),IF(durée2<0,0,durée2),\"00:00\"),0))","v":0},{"$f":"SUMPRODUCT(1*IF(durée<0,0,durée))+SUMPRODUCT(1*IFERROR(IF(\"19:00\"<=IFERROR(Hgauche,0),IF(durée2<0,0,durée2),\"00:00\"),0))-durée5","v":0},null,{"$f":"(AB37/24)+SUMPRODUCT(($B$6:$AA$6)*(B37:AA37))","v":0},{"$f":"VLOOKUP($A37,Bilan!A37:AI85,35,FALSE)","v":0},null,{"$f":"Bilan!AN37","v":65},65,null,{"$f":"SUM(B37:R37)","v":0}]
[{"$f":"Données!$H35","v":0},0,0,0,0,0,0,0,0,0,0,0,0,0,0,0,0,0,0,0,0,0,0,0,0,0,0,"00:00:00","00:00:00",null,{"$f":"SUMPRODUCT(ISNUMBER(MATCH(INDIRECT(\"H\"&$A$1&\"!B2:AF2\"),DimFe,0))*IFERROR(IF(\"19:00\">=IFERROR(Hgauche,0),IFERROR(hdroite-Hgauche,0),IF(durée1>0,durée1,\"00:00\")),0))+SUMPRODUCT(ISNUMBER(MATCH(INDIRECT(\"H\"&$A$1&\"!B2:AF2\"),moindimfe,0))*IFERROR(IF(\"19:00\"<=IFERROR(Hgauche,0),IF(durée4<0,0,durée4),\"00:00\"),0))","v":0},{"$f":"SUMPRODUCT(ISNUMBER(MATCH(INDIRECT(\"H\"&$A$1&\"!B2:AF2\"),DimFe,0))*IFERROR(IF(\"19:00\"<=IFERROR(Hgauche,0),IF(durée6<0,0,durée6),IF(durée<0,0,durée)),0))+SUMPRODUCT(ISNUMBER(MATCH(INDIRECT(\"H\"&$A$1&\"!B2:AF2\"),moindimfe,0))*IFERROR(IF(\"19:00\"<=IFERROR(Hgauche,0),IF(durée2<0,0,durée2),\"00:00\"),0))","v":0},{"$f":"SUMPRODUCT(1*IF(durée<0,0,durée))+SUMPRODUCT(1*IFERROR(IF(\"19:00\"<=IFERROR(Hgauche,0),IF(durée2<0,0,durée2),\"00:00\"),0))-durée5","v":0},null,0,{"$f":"VLOOKUP($A38,Bilan!A38:AI86,35,FALSE)","v":0},null,{"$f":"Bilan!AN38","v":{"$error":"#VALUE!"}},65,null,0]
[{"$f":"Données!$H36","v":0},0,0,0,0,0,0,0,0,0,0,0,0,0,0,0,0,0,0,0,0,0,0,0,0,0,0,"00:00:00","00:00:00",null,{"$f":"SUMPRODUCT(ISNUMBER(MATCH(INDIRECT(\"H\"&$A$1&\"!B2:AF2\"),DimFe,0))*IFERROR(IF(\"19:00\">=IFERROR(Hgauche,0),IFERROR(hdroite-Hgauche,0),IF(durée1>0,durée1,\"00:00\")),0))+SUMPRODUCT(ISNUMBER(MATCH(INDIRECT(\"H\"&$A$1&\"!B2:AF2\"),moindimfe,0))*IFERROR(IF(\"19:00\"<=IFERROR(Hgauche,0),IF(durée4<0,0,durée4),\"00:00\"),0))","v":0},{"$f":"SUMPRODUCT(ISNUMBER(MATCH(INDIRECT(\"H\"&$A$1&\"!B2:AF2\"),DimFe,0))*IFERROR(IF(\"19:00\"<=IFERROR(Hgauche,0),IF(durée6<0,0,durée6),IF(durée<0,0,durée)),0))+SUMPRODUCT(ISNUMBER(MATCH(INDIRECT(\"H\"&$A$1&\"!B2:AF2\"),moindimfe,0))*IFERROR(IF(\"19:00\"<=IFERROR(Hgauche,0),IF(durée2<0,0,durée2),\"00:00\"),0))","v":0},{"$f":"SUMPRODUCT(1*IF(durée<0,0,durée))+SUMPRODUCT(1*IFERROR(IF(\"19:00\"<=IFERROR(Hgauche,0),IF(durée2<0,0,durée2),\"00:00\"),0))-durée5","v":0},null,0,{"$f":"VLOOKUP($A39,Bilan!A39:AI87,35,FALSE)","v":0},null,{"$f":"Bilan!AN39","v":{"$error":"#VALUE!"}},65,null,0]
[{"$f":"Données!$H37","v":0},0,0,0,0,0,0,0,0,0,0,0,0,0,0,0,0,0,0,0,0,0,0,0,0,0,0,"00:00:00","00:00:00",null,{"$f":"SUMPRODUCT(ISNUMBER(MATCH(INDIRECT(\"H\"&$A$1&\"!B2:AF2\"),DimFe,0))*IFERROR(IF(\"19:00\">=IFERROR(Hgauche,0),IFERROR(hdroite-Hgauche,0),IF(durée1>0,durée1,\"00:00\")),0))+SUMPRODUCT(ISNUMBER(MATCH(INDIRECT(\"H\"&$A$1&\"!B2:AF2\"),moindimfe,0))*IFERROR(IF(\"19:00\"<=IFERROR(Hgauche,0),IF(durée4<0,0,durée4),\"00:00\"),0))","v":0},{"$f":"SUMPRODUCT(ISNUMBER(MATCH(INDIRECT(\"H\"&$A$1&\"!B2:AF2\"),DimFe,0))*IFERROR(IF(\"19:00\"<=IFERROR(Hgauche,0),IF(durée6<0,0,durée6),IF(durée<0,0,durée)),0))+SUMPRODUCT(ISNUMBER(MATCH(INDIRECT(\"H\"&$A$1&\"!B2:AF2\"),moindimfe,0))*IFERROR(IF(\"19:00\"<=IFERROR(Hgauche,0),IF(durée2<0,0,durée2),\"00:00\"),0))","v":0},{"$f":"SUMPRODUCT(1*IF(durée<0,0,durée))+SUMPRODUCT(1*IFERROR(IF(\"19:00\"<=IFERROR(Hgauche,0),IF(durée2<0,0,durée2),\"00:00\"),0))-durée5","v":0},null,0,{"$f":"VLOOKUP($A40,Bilan!A40:AI88,35,FALSE)","v":0},null,{"$f":"Bilan!AN40","v":{"$error":"#VALUE!"}},65,null,0]
[{"$f":"Données!$H38","v":0},0,0,0,0,0,0,0,0,0,0,0,0,0,0,0,0,0,0,0,0,0,0,0,0,0,0,"00:00:00","00:00:00",null,{"$f":"SUMPRODUCT(ISNUMBER(MATCH(INDIRECT(\"H\"&$A$1&\"!B2:AF2\"),DimFe,0))*IFERROR(IF(\"19:00\">=IFERROR(Hgauche,0),IFERROR(hdroite-Hgauche,0),IF(durée1>0,durée1,\"00:00\")),0))+SUMPRODUCT(ISNUMBER(MATCH(INDIRECT(\"H\"&$A$1&\"!B2:AF2\"),moindimfe,0))*IFERROR(IF(\"19:00\"<=IFERROR(Hgauche,0),IF(durée4<0,0,durée4),\"00:00\"),0))","v":0},{"$f":"SUMPRODUCT(ISNUMBER(MATCH(INDIRECT(\"H\"&$A$1&\"!B2:AF2\"),DimFe,0))*IFERROR(IF(\"19:00\"<=IFERROR(Hgauche,0),IF(durée6<0,0,durée6),IF(durée<0,0,durée)),0))+SUMPRODUCT(ISNUMBER(MATCH(INDIRECT(\"H\"&$A$1&\"!B2:AF2\"),moindimfe,0))*IFERROR(IF(\"19:00\"<=IFERROR(Hgauche,0),IF(durée2<0,0,durée2),\"00:00\"),0))","v":0},{"$f":"SUMPRODUCT(1*IF(durée<0,0,durée))+SUMPRODUCT(1*IFERROR(IF(\"19:00\"<=IFERROR(Hgauche,0),IF(durée2<0,0,durée2),\"00:00\"),0))-durée5","v":0},null,0,{"$f":"VLOOKUP($A41,Bilan!A41:AI89,35,FALSE)","v":0},null,{"$f":"Bilan!AN41","v":{"$error":"#VALUE!"}},65,null,0]
[{"$f":"Données!$H39","v":0},0,0,0,0,0,0,0,0,0,0,0,0,0,0,0,0,0,0,0,0,0,0,0,0,0,0,"00:00:00","00:00:00",null,{"$f":"SUMPRODUCT(ISNUMBER(MATCH(INDIRECT(\"H\"&$A$1&\"!B2:AF2\"),DimFe,0))*IFERROR(IF(\"19:00\">=IFERROR(Hgauche,0),IFERROR(hdroite-Hgauche,0),IF(durée1>0,durée1,\"00:00\")),0))+SUMPRODUCT(ISNUMBER(MATCH(INDIRECT(\"H\"&$A$1&\"!B2:AF2\"),moindimfe,0))*IFERROR(IF(\"19:00\"<=IFERROR(Hgauche,0),IF(durée4<0,0,durée4),\"00:00\"),0))","v":0},{"$f":"SUMPRODUCT(ISNUMBER(MATCH(INDIRECT(\"H\"&$A$1&\"!B2:AF2\"),DimFe,0))*IFERROR(IF(\"19:00\"<=IFERROR(Hgauche,0),IF(durée6<0,0,durée6),IF(durée<0,0,durée)),0))+SUMPRODUCT(ISNUMBER(MATCH(INDIRECT(\"H\"&$A$1&\"!B2:AF2\"),moindimfe,0))*IFERROR(IF(\"19:00\"<=IFERROR(Hgauche,0),IF(durée2<0,0,durée2),\"00:00\"),0))","v":0},{"$f":"SUMPRODUCT(1*IF(durée<0,0,durée))+SUMPRODUCT(1*IFERROR(IF(\"19:00\"<=IFERROR(Hgauche,0),IF(durée2<0,0,durée2),\"00:00\"),0))-durée5","v":0},null,0,{"$f":"VLOOKUP($A42,Bilan!A42:AI90,35,FALSE)","v":0},null,{"$f":"Bilan!AN42","v":{"$error":"#VALUE!"}},65,null,0]
[{"$f":"Données!$H40","v":0},0,0,0,0,0,0,0,0,0,0,0,0,0,0,0,0,0,0,0,0,0,0,0,0,0,0,"00:00:00","00:00:00",null,{"$f":"SUMPRODUCT(ISNUMBER(MATCH(INDIRECT(\"H\"&$A$1&\"!B2:AF2\"),DimFe,0))*IFERROR(IF(\"19:00\">=IFERROR(Hgauche,0),IFERROR(hdroite-Hgauche,0),IF(durée1>0,durée1,\"00:00\")),0))+SUMPRODUCT(ISNUMBER(MATCH(INDIRECT(\"H\"&$A$1&\"!B2:AF2\"),moindimfe,0))*IFERROR(IF(\"19:00\"<=IFERROR(Hgauche,0),IF(durée4<0,0,durée4),\"00:00\"),0))","v":0},{"$f":"SUMPRODUCT(ISNUMBER(MATCH(INDIRECT(\"H\"&$A$1&\"!B2:AF2\"),DimFe,0))*IFERROR(IF(\"19:00\"<=IFERROR(Hgauche,0),IF(durée6<0,0,durée6),IF(durée<0,0,durée)),0))+SUMPRODUCT(ISNUMBER(MATCH(INDIRECT(\"H\"&$A$1&\"!B2:AF2\"),moindimfe,0))*IFERROR(IF(\"19:00\"<=IFERROR(Hgauche,0),IF(durée2<0,0,durée2),\"00:00\"),0))","v":0},{"$f":"SUMPRODUCT(1*IF(durée<0,0,durée))+SUMPRODUCT(1*IFERROR(IF(\"19:00\"<=IFERROR(Hgauche,0),IF(durée2<0,0,durée2),\"00:00\"),0))-durée5","v":0},null,0,{"$f":"VLOOKUP($A43,Bilan!A43:AI91,35,FALSE)","v":0},null,{"$f":"Bilan!AN43","v":{"$error":"#VALUE!"}},65,null,0]
[{"$f":"Données!$H41","v":0},0,0,0,0,0,0,0,0,0,0,0,0,0,0,0,0,0,0,0,0,0,0,0,0,0,0,"00:00:00","00:00:00",null,{"$f":"SUMPRODUCT(ISNUMBER(MATCH(INDIRECT(\"H\"&$A$1&\"!B2:AF2\"),DimFe,0))*IFERROR(IF(\"19:00\">=IFERROR(Hgauche,0),IFERROR(hdroite-Hgauche,0),IF(durée1>0,durée1,\"00:00\")),0))+SUMPRODUCT(ISNUMBER(MATCH(INDIRECT(\"H\"&$A$1&\"!B2:AF2\"),moindimfe,0))*IFERROR(IF(\"19:00\"<=IFERROR(Hgauche,0),IF(durée4<0,0,durée4),\"00:00\"),0))","v":0},{"$f":"SUMPRODUCT(ISNUMBER(MATCH(INDIRECT(\"H\"&$A$1&\"!B2:AF2\"),DimFe,0))*IFERROR(IF(\"19:00\"<=IFERROR(Hgauche,0),IF(durée6<0,0,durée6),IF(durée<0,0,durée)),0))+SUMPRODUCT(ISNUMBER(MATCH(INDIRECT(\"H\"&$A$1&\"!B2:AF2\"),moindimfe,0))*IFERROR(IF(\"19:00\"<=IFERROR(Hgauche,0),IF(durée2<0,0,durée2),\"00:00\"),0))","v":0},{"$f":"SUMPRODUCT(1*IF(durée<0,0,durée))+SUMPRODUCT(1*IFERROR(IF(\"19:00\"<=IFERROR(Hgauche,0),IF(durée2<0,0,durée2),\"00:00\"),0))-durée5","v":0},null,0,{"$f":"VLOOKUP($A44,Bilan!A44:AI92,35,FALSE)","v":0},null,{"$f":"Bilan!AN44","v":{"$error":"#VALUE!"}},65,null,0]
[{"$f":"Données!$H42","v":"Psychologue"}]
[{"$f":"Données!$H43","v":"O"},{"$f":"IF(SUMPRODUCT((INDIRECT(\"'\"&$A$1&\"'!$A$7:$A$56\")=$A46)*(INDIRECT(\"'\"&$A$1&\"'!$B$7:$AF$56\")=B$7))=0,\"\",SUMPRODUCT((INDIRECT(\"'\"&$A$1&\"'!$A$7:$A$56\")=$A46)*(INDIRECT(\"'\"&$A$1&\"'!$B$7:$AF$56\")=B$7)))","v":""},"","","","","","","","","","","","","","","","","","","","","","","","","",{"$f":"VLOOKUP($A46,INDIRECT(\"'\"&$A$1&\"'!$A$7:$AR$56\"),35,0)","v":"00:00:00"},{"$f":"VLOOKUP($A46,INDIRECT(\"'\"&$A$1&\"'!$A$7:$AR$56\"),36,0)","v":"00:00:00"},null,{"$f":"SUMPRODUCT(ISNUMBER(MATCH(INDIRECT(\"H\"&$A$1&\"!B2:AF2\"),DimFe,0))*IFERROR(IF(\"19:00\">=IFERROR(Hgauche,0),IFERROR(hdroite-Hgauche,0),IF(durée1>0,durée1,\"00:00\")),0))+SUMPRODUCT(ISNUMBER(MATCH(INDIRECT(\"H\"&$A$1&\"!B2:AF2\"),moindimfe,0))*IFERROR(IF(\"19:00\"<=IFERROR(Hgauche,0),IF(durée4<0,0,durée4),\"00:00\"),0))","v":0},{"$f":"SUMPRODUCT(ISNUMBER(MATCH(INDIRECT(\"H\"&$A$1&\"!B2:AF2\"),DimFe,0))*IFERROR(IF(\"19:00\"<=IFERROR(Hgauche,0),IF(durée6<0,0,durée6),IF(durée<0,0,durée)),0))+SUMPRODUCT(ISNUMBER(MATCH(INDIRECT(\"H\"&$A$1&\"!B2:AF2\"),moindimfe,0))*IFERROR(IF(\"19:00\"<=IFERROR(Hgauche,0),IF(durée2<0,0,durée2),\"00:00\"),0))","v":0},{"$f":"SUM(SUMPRODUCT(1*IFERROR(IF(\"19:00\"<=IFERROR(Hgauche,0),IF(durée2<0,0,durée2),\"00:00\"),0)),SUMPRODUCT(1*IFERROR(IF(\"19:00\"<=IFERROR(Hgauche,0),IF(durée6<0,0,durée6),\"00:00\"),0)),SUMPRODUCT(1*IFERROR(IF(\"21:00\"<=IFERROR(Hdroitesimple,0),IF(durée<0,0,durée),\"00:00\"),0)))-durée5","v":0},null,{"$f":"bilanh","v":0},{"$f":"VLOOKUP($A46,Bilan!$A$9:$AQ94,37,FALSE)","v":63},null,{"$f":"Bilan!AN46","v":65},65,null,{"$f":"Jourtravaillé","v":0}]
[{"$f":"Données!$H44","v":0},{"$f":"SUMPRODUCT((INDIRECT(\"'\"&$A$1&\"'!$A$7:$A$56\")=$A47)*(INDIRECT(\"'\"&$A$1&\"'!$B$7:$AF$56\")=B$7))","v":0},0,0,0,0,0,0,0,0,0,0,0,0,0,0,0,{"$f":"SUMPRODUCT((INDIRECT(\"'\"&$A$1&\"'!$A$7:$A$56\")=$A47)*(INDIRECT(\"'\"&$A$1&\"'!$B$7:$AF$56\")=R$7))","v":0},0,0,0,0,0,0,0,0,0,{"$f":"VLOOKUP($A47,INDIRECT(\"'H\"&$A$1&\"'!$A$7:$AR$56\"),35,0)","v":"00:00:00"},{"$f":"VLOOKUP($A47,INDIRECT(\"'H\"&$A$1&\"'!$A$7:$AR$56\"),38,0)","v":"00:00:00"},null,{"$f":"SUMPRODUCT(ISNUMBER(MATCH(INDIRECT(\"H\"&$A$1&\"!B2:AF2\"),DimFe,0))*IFERROR(IF(\"19:00\">=IFERROR(Hgauche,0),IFERROR(hdroite-Hgauche,0),IF(durée1>0,durée1,\"00:00\")),0))+SUMPRODUCT(ISNUMBER(MATCH(INDIRECT(\"H\"&$A$1&\"!B2:AF2\"),moindimfe,0))*IFERROR(IF(\"19:00\"<=IFERROR(Hgauche,0),IF(durée4<0,0,durée4),\"00:00\"),0))","v":0},{"$f":"SUMPRODUCT(ISNUMBER(MATCH(INDIRECT(\"H\"&$A$1&\"!B2:AF2\"),DimFe,0))*IFERROR(IF(\"19:00\"<=IFERROR(Hgauche,0),IF(durée6<0,0,durée6),IF(durée<0,0,durée)),0))+SUMPRODUCT(ISNUMBER(MATCH(INDIRECT(\"H\"&$A$1&\"!B2:AF2\"),moindimfe,0))*IFERROR(IF(\"19:00\"<=IFERROR(Hgauche,0),IF(durée2<0,0,durée2),\"00:00\"),0))","v":0},{"$f":"SUMPRODUCT(1*IF(durée<0,0,durée))+SUMPRODUCT(1*IFERROR(IF(\"19:00\"<=IFERROR(Hgauche,0),IF(durée2<0,0,durée2),\"00:00\"),0))-durée5","v":0},null,{"$f":"(AB47/24)+SUMPRODUCT(($B$6:$AA$6)*(B47:AA47))","v":0},{"$f":"VLOOKUP($A47,Bilan!A47:AI95,35,FALSE)","v":0},null,{"$f":"Bilan!AN47","v":65},65,null,{"$f":"SUM(B47:R47)","v":0}]
[{"$f":"Données!$H45","v":0},0,0,0,0,0,0,0,0,0,0,0,0,0,0,0,0,0,0,0,0,0,0,0,0,0,0,{"$f":"VLOOKUP($A48,INDIRECT(\"'H\"&$A$1&\"'!$A$7:$AR$56\"),35,0)","v":"00:00:00"},{"$f":"VLOOKUP($A48,INDIRECT(\"'H\"&$A$1&\"'!$A$7:$AR$56\"),38,0)","v":"00:00:00"},null,{"$f":"SUMPRODUCT(ISNUMBER(MATCH(INDIRECT(\"H\"&$A$1&\"!B2:AF2\"),DimFe,0))*IFERROR(IF(\"19:00\">=IFERROR(Hgauche,0),IFERROR(hdroite-Hgauche,0),IF(durée1>0,durée1,\"00:00\")),0))+SUMPRODUCT(ISNUMBER(MATCH(INDIRECT(\"H\"&$A$1&\"!B2:AF2\"),moindimfe,0))*IFERROR(IF(\"19:00\"<=IFERROR(Hgauche,0),IF(durée4<0,0,durée4),\"00:00\"),0))","v":0},{"$f":"SUMPRODUCT(ISNUMBER(MATCH(INDIRECT(\"H\"&$A$1&\"!B2:AF2\"),DimFe,0))*IFERROR(IF(\"19:00\"<=IFERROR(Hgauche,0),IF(durée6<0,0,durée6),IF(durée<0,0,durée)),0))+SUMPRODUCT(ISNUMBER(MATCH(INDIRECT(\"H\"&$A$1&\"!B2:AF2\"),moindimfe,0))*IFERROR(IF(\"19:00\"<=IFERROR(Hgauche,0),IF(durée2<0,0,durée2),\"00:00\"),0))","v":0},{"$f":"SUMPRODUCT(1*IF(durée<0,0,durée))+SUMPRODUCT(1*IFERROR(IF(\"19:00\"<=IFERROR(Hgauche,0),IF(durée2<0,0,durée2),\"00:00\"),0))-durée5","v":0},null,{"$f":"(AB48/24)+SUMPRODUCT(($B$6:$AA$6)*(B48:AA48))","v":0},{"$f":"VLOOKUP($A48,Bilan!A48:AI96,35,FALSE)","v":0},null,{"$f":"Bilan!AN48","v":{"$error":"#VALUE!"}},65,null,{"$f":"SUM(B48:R48)","v":0}]
[{"$f":"Données!$H46","v":"Coordinatrice"}]
[{"$f":"Données!$H47","v":"P"},{"$f":"IF(SUMPRODUCT((INDIRECT(\"'\"&$A$1&\"'!$A$7:$A$56\")=$A50)*(INDIRECT(\"'\"&$A$1&\"'!$B$7:$AF$56\")=B$7))=0,\"\",SUMPRODUCT((INDIRECT(\"'\"&$A$1&\"'!$A$7:$A$56\")=$A50)*(INDIRECT(\"'\"&$A$1&\"'!$B$7:$AF$56\")=B$7)))","v":""},"","","","","","","","","","","","","","","","","","","","","","","","","",{"$f":"VLOOKUP($A50,INDIRECT(\"'\"&$A$1&\"'!$A$7:$AR$56\"),35,0)","v":"00:00:00"},{"$f":"VLOOKUP($A50,INDIRECT(\"'\"&$A$1&\"'!$A$7:$AR$56\"),36,0)","v":"00:00:00"},null,{"$f":"SUMPRODUCT(ISNUMBER(MATCH(INDIRECT(\"H\"&$A$1&\"!B2:AF2\"),DimFe,0))*IFERROR(IF(\"19:00\">=IFERROR(Hgauche,0),IFERROR(hdroite-Hgauche,0),IF(durée1>0,durée1,\"00:00\")),0))+SUMPRODUCT(ISNUMBER(MATCH(INDIRECT(\"H\"&$A$1&\"!B2:AF2\"),moindimfe,0))*IFERROR(IF(\"19:00\"<=IFERROR(Hgauche,0),IF(durée4<0,0,durée4),\"00:00\"),0))","v":0},{"$f":"SUMPRODUCT(ISNUMBER(MATCH(INDIRECT(\"H\"&$A$1&\"!B2:AF2\"),DimFe,0))*IFERROR(IF(\"19:00\"<=IFERROR(Hgauche,0),IF(durée6<0,0,durée6),IF(durée<0,0,durée)),0))+SUMPRODUCT(ISNUMBER(MATCH(INDIRECT(\"H\"&$A$1&\"!B2:AF2\"),moindimfe,0))*IFERROR(IF(\"19:00\"<=IFERROR(Hgauche,0),IF(durée2<0,0,durée2),\"00:00\"),0))","v":0},{"$f":"SUM(SUMPRODUCT(1*IFERROR(IF(\"19:00\"<=IFERROR(Hgauche,0),IF(durée2<0,0,durée2),\"00:00\"),0)),SUMPRODUCT(1*IFERROR(IF(\"19:00\"<=IFERROR(Hgauche,0),IF(durée6<0,0,durée6),\"00:00\"),0)),SUMPRODUCT(1*IFERROR(IF(\"21:00\"<=IFERROR(Hdroitesimple,0),IF(durée<0,0,durée),\"00:00\"),0)))-durée5","v":0},null,{"$f":"bilanh","v":0},{"$f":"VLOOKUP($A50,Bilan!$A$9:$AQ98,37,FALSE)","v":63},null,{"$f":"Bilan!AN50","v":65},65,null,{"$f":"Jourtravaillé","v":0}]
[{"$f":"Données!$H48","v":0},{"$f":"SUMPRODUCT((INDIRECT(\"'\"&$A$1&\"'!$A$7:$A$56\")=$A51)*(INDIRECT(\"'\"&$A$1&\"'!$B$7:$AF$56\")=B$7))","v":0},0,0,0,0,0,0,0,0,0,0,0,0,0,0,0,{"$f":"SUMPRODUCT((INDIRECT(\"'\"&$A$1&\"'!$A$7:$A$56\")=$A51)*(INDIRECT(\"'\"&$A$1&\"'!$B$7:$AF$56\")=R$7))","v":0},0,0,0,0,0,0,0,0,0,{"$f":"VLOOKUP($A51,INDIRECT(\"'H\"&$A$1&\"'!$A$7:$AR$56\"),35,0)","v":"00:00:00"},{"$f":"VLOOKUP($A51,INDIRECT(\"'H\"&$A$1&\"'!$A$7:$AR$56\"),38,0)","v":"00:00:00"},null,{"$f":"SUMPRODUCT(ISNUMBER(MATCH(INDIRECT(\"H\"&$A$1&\"!B2:AF2\"),DimFe,0))*IFERROR(IF(\"19:00\">=IFERROR(Hgauche,0),IFERROR(hdroite-Hgauche,0),IF(durée1>0,durée1,\"00:00\")),0))+SUMPRODUCT(ISNUMBER(MATCH(INDIRECT(\"H\"&$A$1&\"!B2:AF2\"),moindimfe,0))*IFERROR(IF(\"19:00\"<=IFERROR(Hgauche,0),IF(durée4<0,0,durée4),\"00:00\"),0))","v":0},{"$f":"SUMPRODUCT(ISNUMBER(MATCH(INDIRECT(\"H\"&$A$1&\"!B2:AF2\"),DimFe,0))*IFERROR(IF(\"19:00\"<=IFERROR(Hgauche,0),IF(durée6<0,0,durée6),IF(durée<0,0,durée)),0))+SUMPRODUCT(ISNUMBER(MATCH(INDIRECT(\"H\"&$A$1&\"!B2:AF2\"),moindimfe,0))*IFERROR(IF(\"19:00\"<=IFERROR(Hgauche,0),IF(durée2<0,0,durée2),\"00:00\"),0))","v":0},{"$f":"SUMPRODUCT(1*IF(durée<0,0,durée))+SUMPRODUCT(1*IFERROR(IF(\"19:00\"<=IFERROR(Hgauche,0),IF(durée2<0,0,durée2),\"00:00\"),0))-durée5","v":0},null,{"$f":"(AB51/24)+SUMPRODUCT(($B$6:$AA$6)*(B51:AA51))","v":0},{"$f":"VLOOKUP($A51,Bilan!A51:AI99,35,FALSE)","v":0},null,{"$f":"Bilan!AN51","v":66},65,null,{"$f":"SUM(B51:R51)","v":0}]
[{"$f":"Données!$H49","v":0},0,0,0,0,0,0,0,0,0,0,0,0,0,0,0,0,0,0,0,0,0,0,0,0,0,0,{"$f":"VLOOKUP($A52,INDIRECT(\"'H\"&$A$1&\"'!$A$7:$AR$56\"),35,0)","v":"00:00:00"},{"$f":"VLOOKUP($A52,INDIRECT(\"'H\"&$A$1&\"'!$A$7:$AR$56\"),38,0)","v":"00:00:00"},null,{"$f":"SUMPRODUCT(ISNUMBER(MATCH(INDIRECT(\"H\"&$A$1&\"!B2:AF2\"),DimFe,0))*IFERROR(IF(\"19:00\">=IFERROR(Hgauche,0),IFERROR(hdroite-Hgauche,0),IF(durée1>0,durée1,\"00:00\")),0))+SUMPRODUCT(ISNUMBER(MATCH(INDIRECT(\"H\"&$A$1&\"!B2:AF2\"),moindimfe,0))*IFERROR(IF(\"19:00\"<=IFERROR(Hgauche,0),IF(durée4<0,0,durée4),\"00:00\"),0))","v":0},{"$f":"SUMPRODUCT(ISNUMBER(MATCH(INDIRECT(\"H\"&$A$1&\"!B2:AF2\"),DimFe,0))*IFERROR(IF(\"19:00\"<=IFERROR(Hgauche,0),IF(durée6<0,0,durée6),IF(durée<0,0,durée)),0))+SUMPRODUCT(ISNUMBER(MATCH(INDIRECT(\"H\"&$A$1&\"!B2:AF2\"),moindimfe,0))*IFERROR(IF(\"19:00\"<=IFERROR(Hgauche,0),IF(durée2<0,0,durée2),\"00:00\"),0))","v":0},{"$f":"SUMPRODUCT(1*IF(durée<0,0,durée))+SUMPRODUCT(1*IFERROR(IF(\"19:00\"<=IFERROR(Hgauche,0),IF(durée2<0,0,durée2),\"00:00\"),0))-durée5","v":0},null,{"$f":"(AB52/24)+SUMPRODUCT(($B$6:$AA$6)*(B52:AA52))","v":0},{"$f":"VLOOKUP($A52,Bilan!A52:AI100,35,FALSE)","v":0},null,{"$f":"Bilan!AN52","v":{"$error":"#VALUE!"}},66,null,{"$f":"SUM(B52:R52)","v":0}]
[{"$f":"Données!$H50","v":0},0,0,0,0,0,0,0,0,0,0,0,0,0,0,0,0,0,0,0,0,0,0,0,0,0,0,{"$f":"VLOOKUP($A53,INDIRECT(\"'H\"&$A$1&\"'!$A$7:$AR$56\"),35,0)","v":"00:00:00"},{"$f":"VLOOKUP($A53,INDIRECT(\"'H\"&$A$1&\"'!$A$7:$AR$56\"),38,0)","v":"00:00:00"},null,{"$f":"SUMPRODUCT(ISNUMBER(MATCH(INDIRECT(\"H\"&$A$1&\"!B2:AF2\"),DimFe,0))*IFERROR(IF(\"19:00\">=IFERROR(Hgauche,0),IFERROR(hdroite-Hgauche,0),IF(durée1>0,durée1,\"00:00\")),0))+SUMPRODUCT(ISNUMBER(MATCH(INDIRECT(\"H\"&$A$1&\"!B2:AF2\"),moindimfe,0))*IFERROR(IF(\"19:00\"<=IFERROR(Hgauche,0),IF(durée4<0,0,durée4),\"00:00\"),0))","v":0},{"$f":"SUMPRODUCT(ISNUMBER(MATCH(INDIRECT(\"H\"&$A$1&\"!B2:AF2\"),DimFe,0))*IFERROR(IF(\"19:00\"<=IFERROR(Hgauche,0),IF(durée6<0,0,durée6),IF(durée<0,0,durée)),0))+SUMPRODUCT(ISNUMBER(MATCH(INDIRECT(\"H\"&$A$1&\"!B2:AF2\"),moindimfe,0))*IFERROR(IF(\"19:00\"<=IFERROR(Hgauche,0),IF(durée2<0,0,durée2),\"00:00\"),0))","v":0},{"$f":"SUMPRODUCT(1*IF(durée<0,0,durée))+SUMPRODUCT(1*IFERROR(IF(\"19:00\"<=IFERROR(Hgauche,0),IF(durée2<0,0,durée2),\"00:00\"),0))-durée5","v":0},null,{"$f":"(AB53/24)+SUMPRODUCT(($B$6:$AA$6)*(B53:AA53))","v":0},{"$f":"VLOOKUP($A53,Bilan!A53:AI101,35,FALSE)","v":0},null,{"$f":"Bilan!AN53","v":{"$error":"#VALUE!"}},67,null,{"$f":"SUM(B53:R53)","v":0}]
[{"$f":"Données!$H51","v":0},0,0,0,0,0,0,0,0,0,0,0,0,0,0,0,0,0,0,0,0,0,0,0,0,0,0,{"$f":"VLOOKUP($A54,INDIRECT(\"'H\"&$A$1&\"'!$A$7:$AR$56\"),35,0)","v":"00:00:00"},{"$f":"VLOOKUP($A54,INDIRECT(\"'H\"&$A$1&\"'!$A$7:$AR$56\"),38,0)","v":"00:00:00"},null,{"$f":"SUMPRODUCT(ISNUMBER(MATCH(INDIRECT(\"H\"&$A$1&\"!B2:AF2\"),DimFe,0))*IFERROR(IF(\"19:00\">=IFERROR(Hgauche,0),IFERROR(hdroite-Hgauche,0),IF(durée1>0,durée1,\"00:00\")),0))+SUMPRODUCT(ISNUMBER(MATCH(INDIRECT(\"H\"&$A$1&\"!B2:AF2\"),moindimfe,0))*IFERROR(IF(\"19:00\"<=IFERROR(Hgauche,0),IF(durée4<0,0,durée4),\"00:00\"),0))","v":0},{"$f":"SUMPRODUCT(ISNUMBER(MATCH(INDIRECT(\"H\"&$A$1&\"!B2:AF2\"),DimFe,0))*IFERROR(IF(\"19:00\"<=IFERROR(Hgauche,0),IF(durée6<0,0,durée6),IF(durée<0,0,durée)),0))+SUMPRODUCT(ISNUMBER(MATCH(INDIRECT(\"H\"&$A$1&\"!B2:AF2\"),moindimfe,0))*IFERROR(IF(\"19:00\"<=IFERROR(Hgauche,0),IF(durée2<0,0,durée2),\"00:00\"),0))","v":0},{"$f":"SUMPRODUCT(1*IF(durée<0,0,durée))+SUMPRODUCT(1*IFERROR(IF(\"19:00\"<=IFERROR(Hgauche,0),IF(durée2<0,0,durée2),\"00:00\"),0))-durée5","v":0},null,{"$f":"(AB54/24)+SUMPRODUCT(($B$6:$AA$6)*(B54:AA54))","v":0},{"$f":"VLOOKUP($A54,Bilan!A54:AI102,35,FALSE)","v":0},null,{"$f":"Bilan!AN54","v":{"$error":"#VALUE!"}},68,null,{"$f":"SUM(B54:R54)","v":0}]
[{"$f":"Données!$H52","v":"Chef de service"}]
[{"$f":"Données!$H53","v":"Q"},{"$f":"IF(SUMPRODUCT((INDIRECT(\"'\"&$A$1&\"'!$A$7:$A$56\")=$A56)*(INDIRECT(\"'\"&$A$1&\"'!$B$7:$AF$56\")=B$7))=0,\"\",SUMPRODUCT((INDIRECT(\"'\"&$A$1&\"'!$A$7:$A$56\")=$A56)*(INDIRECT(\"'\"&$A$1&\"'!$B$7:$AF$56\")=B$7)))","v":""},"","","","","","","","","","","","","","","","","","","","","","","","","",{"$f":"VLOOKUP($A56,INDIRECT(\"'\"&$A$1&\"'!$A$7:$AR$56\"),35,0)","v":"00:00:00"},{"$f":"VLOOKUP($A56,INDIRECT(\"'\"&$A$1&\"'!$A$7:$AR$56\"),36,0)","v":"00:00:00"},null,{"$f":"SUMPRODUCT(ISNUMBER(MATCH(INDIRECT(\"H\"&$A$1&\"!B2:AF2\"),DimFe,0))*IFERROR(IF(\"19:00\">=IFERROR(Hgauche,0),IFERROR(hdroite-Hgauche,0),IF(durée1>0,durée1,\"00:00\")),0))+SUMPRODUCT(ISNUMBER(MATCH(INDIRECT(\"H\"&$A$1&\"!B2:AF2\"),moindimfe,0))*IFERROR(IF(\"19:00\"<=IFERROR(Hgauche,0),IF(durée4<0,0,durée4),\"00:00\"),0))","v":0},{"$f":"SUMPRODUCT(ISNUMBER(MATCH(INDIRECT(\"H\"&$A$1&\"!B2:AF2\"),DimFe,0))*IFERROR(IF(\"19:00\"<=IFERROR(Hgauche,0),IF(durée6<0,0,durée6),IF(durée<0,0,durée)),0))+SUMPRODUCT(ISNUMBER(MATCH(INDIRECT(\"H\"&$A$1&\"!B2:AF2\"),moindimfe,0))*IFERROR(IF(\"19:00\"<=IFERROR(Hgauche,0),IF(durée2<0,0,durée2),\"00:00\"),0))","v":0},{"$f":"SUM(SUMPRODUCT(1*IFERROR(IF(\"19:00\"<=IFERROR(Hgauche,0),IF(durée2<0,0,durée2),\"00:00\"),0)),SUMPRODUCT(1*IFERROR(IF(\"19:00\"<=IFERROR(Hgauche,0),IF(durée6<0,0,durée6),\"00:00\"),0)),SUMPRODUCT(1*IFERROR(IF(\"21:00\"<=IFERROR(Hdroitesimple,0),IF(durée<0,0,durée),\"00:00\"),0)))-durée5","v":0},null,{"$f":"bilanh","v":0},{"$f":"VLOOKUP($A56,Bilan!$A$9:$AQ104,37,FALSE)","v":63},null,{"$f":"Bilan!AN56","v":65},65,null,{"$f":"Jourtravaillé","v":0}]

{"sheet":"BMai","index":30,"n_rows":56,"n_cols":66,"rows_kept":56,"cut":false,"hidden":false,"merged":[[7,37,7,38],[6,27,7,27],[6,28,7,28],[6,30,7,30],[6,31,7,31],[6,32,7,32],[7,34,7,35]]}
["Mai"]
[null,null,{"$f":"LEFT(OFFSET(INDIRECT(\"H\"&$A$1&\"!B8:AF8\"),MATCH($A9,INDIRECT(\"H\"&$A$1&\"!A9:A56\"),0),),5)","v":""}]
[null,null,{"$f":"RIGHT(OFFSET(INDIRECT(\"H\"&$A$1&\"!B8:AF8\"),MATCH($A3,INDIRECT(\"H\"&$A$1&\"!A9:A56\"),0),),5)","v":""}]
[]
[]
["Jours",{"$f":"Données!$E3","v":0.31597222222222227},{"$f":"Données!$E4","v":0.10763888888888884},{"$f":"Données!$E5","v":0.31249999999999994},{"$f":"Données!$E6","v":0.32291666666666669},{"$f":"Données!$E7","v":8.3333333333333315E-2},{"$f":"Données!$E8","v":0.47916666666666669},{"$f":"Données!$E9","v":0.3125},{"$f":"Données!$E10","v":0.48958333333333337},{"$f":"Données!$E11","v":0.47916666666666669},{"$f":"Données!$E12","v":0.51041666666666674},{"$f":"Données!$E13","v":0.51041666666666674},{"$f":"Données!$E14","v":0.44791666666666663},{"$f":"Données!$E15","v":0.49999999999999989},{"$f":"Données!$E16","v":0.49999999999999989},{"$f":"Données!$E17","v":0.5},{"$f":"Données!$E18","v":0.29166666666666669},{"$f":"Données!$E19","v":0.3125},{"$f":"Données!$E20","v":0.3125},{"$f":"Données!$E21","v":0.3125},{"$f":"Données!$E22","v":0.3125},{"$f":"Données!$E23","v":0.3125},{"$f":"Données!$E24","v":0},{"$f":"Données!$E25","v":0},{"$f":"Données!$E26","v":0},{"$f":"Données!$E27","v":0.33333333333333331},{"$f":"Données!$E28","v":0}]
[null,{"$f":"Données!$A3","v":"M"},{"$f":"Données!$A4","v":"MG"},{"$f":"Données!$A5","v":"J"},{"$f":"Données!$A6","v":"J+"},{"$f":"Données!$A7","v":"R"},{"$f":"Données!$A8","v":"RS"},{"$f":"Données!$A9","v":"S"},{"$f":"Données!$A10","v":"W"},{"$f":"Données!$A11","v":"W+"},{"$f":"Données!$A12","v":"WD"},{"$f":"Données!$A13","v":"WF"},{"$f":"Données!$A14","v":"N"},{"$f":"Données!$A15","v":"N+"},{"$f":"Données!$A16","v":"NS"},{"$f":"Données!$A17","v":"T"},{"$f":"Données!$A18","v":"F"},{"$f":"Données!$A19","v":"SYN"},{"$f":"Données!$A20","v":"AT"},{"$f":"Données!$A21","v":"AM"},{"$f":"Données!$A22","v":"EM"},{"$f":"Données!$A23","v":"CE"},{"$f":"Données!$A24","v":"CA"},{"$f":"Données!$A25","v":"CA16"},{"$f":"Données!$A26","v":"REC"},{"$f":"Données!$A27","v":"PL"},{"$f":"Données!$A28","v":"D"},"Heures\nSupplémentaires \navant 21 h","Heures\nSupplémentaires \naprès 21 h",null,"Heures dimanche","Heures de nuit dimanches","Heures apres 21 h"]
["Equipe de jour",{"$f":"IF(ISBLANK(Données!$C3),TEXT(Données!$B3,\"hh:mm\"),TEXT(Données!$B3,\"hh:mm\")&\" : \"&TEXT(Données!$C3,\"hh:mm\"))","v":"07:00 : 14:35"},{"$f":"IF(ISBLANK(Données!$C4),TEXT(Données!$B4,\"hh:mm\"),TEXT(Données!$B4,\"hh:mm\")&\" : \"&TEXT(Données!$C4,\"hh:mm\"))","v":"23:00 : 01:35"},{"$f":"IF(ISBLANK(Données!$C5),TEXT(Données!$B5,\"hh:mm\"),TEXT(Données!$B5,\"hh:mm\")&\" : \"&TEXT(Données!$C5,\"hh:mm\"))","v":"10:00 : 17:30"},{"$f":"IF(ISBLANK(Données!$C6),TEXT(Données!$B6,\"hh:mm\"),TEXT(Données!$B6,\"hh:mm\")&\" : \"&TEXT(Données!$C6,\"hh:mm\"))","v":"11:30 : 19:15"},{"$f":"IF(ISBLANK(Données!$C7),TEXT(Données!$B7,\"hh:mm\"),TEXT(Données!$B7,\"hh:mm\")&\" : \"&TEXT(Données!$C7,\"hh:mm\"))","v":"10:00 : 12:00"},{"$f":"IF(ISBLANK(Données!$C8),TEXT(Données!$B8,\"hh:mm\"),TEXT(Données!$B8,\"hh:mm\")&\" : \"&TEXT(Données!$C8,\"hh:mm\"))","v":"10:00 : 21:30"},{"$f":"IF(ISBLANK(Données!$C9),TEXT(Données!$B9,\"hh:mm\"),TEXT(Données!$B9,\"hh:mm\")&\" : \"&TEXT(Données!$C9,\"hh:mm\"))","v":"14:00 : 21:30"},{"$f":"IF(ISBLANK(Données!$C10),TEXT(Données!$B10,\"hh:mm\"),TEXT(Données!$B10,\"hh:mm\")&\" : \"&TEXT(Données!$C10,\"hh:mm\"))","v":"07:30 : 19:15"},{"$f":"IF(ISBLANK(Données!$C11),TEXT(Données!$B11,\"hh:mm\"),TEXT(Données!$B11,\"hh:mm\")&\" : \"&TEXT(Données!$C11,\"hh:mm\"))","v":"10:00 : 21:30"},{"$f":"IF(ISBLANK(Données!$C12),TEXT(Données!$B12,\"hh:mm\"),TEXT(Données!$B12,\"hh:mm\")&\" : \"&TEXT(Données!$C12,\"hh:mm\"))","v":"07:00 : 19:15"},{"$f":"IF(ISBLANK(Données!$C13),TEXT(Données!$B13,\"hh:mm\"),TEXT(Données!$B13,\"hh:mm\")&\" : \"&TEXT(Données!$C13,\"hh:mm\"))","v":"07:00 : 19:15"},{"$f":"IF(ISBLANK(Données!$C14),TEXT(Données!$B14,\"hh:mm\"),TEXT(Données!$B14,\"hh:mm\")&\" : \"&TEXT(Données!$C14,\"hh:mm\"))","v":"20:30 : 07:15"},{"$f":"IF(ISBLANK(Données!$C15),TEXT(Données!$B15,\"hh:mm\"),TEXT(Données!$B15,\"hh:mm\")&\" : \"&TEXT(Données!$C15,\"hh:mm\"))","v":"19:15 : 07:15"},{"$f":"IF(ISBLANK(Données!$C16),TEXT(Données!$B16,\"hh:mm\"),TEXT(Données!$B16,\"hh:mm\")&\" : \"&TEXT(Données!$C16,\"hh:mm\"))","v":"19:15 : 07:15"},{"$f":"IF(ISBLANK(Données!$C17),TEXT(Données!$B17,\"hh:mm\"),TEXT(Données!$B17,\"hh:mm\")&\" : \"&TEXT(Données!$C17,\"hh:mm\"))","v":"T"},{"$f":"IF(ISBLANK(Données!$C18),TEXT(Données!$B18,\"hh:mm\"),TEXT(Données!$B18,\"hh:mm\")&\" : \"&TEXT(Données!$C18,\"hh:mm\"))","v":"F"},{"$f":"IF(ISBLANK(Données!$C19),TEXT(Données!$B19,\"hh:mm\"),TEXT(Données!$B19,\"hh:mm\")&\" : \"&TEXT(Données!$C19,\"hh:mm\"))","v":"Syn"},{"$f":"IF(ISBLANK(Données!$C20),TEXT(Données!$B20,\"hh:mm\"),TEXT(Données!$B20,\"hh:mm\")&\" : \"&TEXT(Données!$C20,\"hh:mm\"))","v":"AT"},{"$f":"IF(ISBLANK(Données!$C21),TEXT(Données!$B21,\"hh:mm\"),TEXT(Données!$B21,\"hh:mm\")&\" : \"&TEXT(Données!$C21,\"hh:mm\"))","v":"AM"},{"$f":"IF(ISBLANK(Données!$C22),TEXT(Données!$B22,\"hh:mm\"),TEXT(Données!$B22,\"hh:mm\")&\" : \"&TEXT(Données!$C22,\"hh:mm\"))","v":"EM"},{"$f":"IF(ISBLANK(Données!$C23),TEXT(Données!$B23,\"hh:mm\"),TEXT(Données!$B23,\"hh:mm\")&\" : \"&TEXT(Données!$C23,\"hh:mm\"))","v":"CE"},{"$f":"IF(ISBLANK(Données!$C24),TEXT(Données!$B24,\"hh:mm\"),TEXT(Données!$B24,\"hh:mm\")&\" : \"&TEXT(Données!$C24,\"hh:mm\"))","v":"CA"},{"$f":"IF(ISBLANK(Données!$C25),TEXT(Données!$B25,\"hh:mm\"),TEXT(Données!$B25,\"hh:mm\")&\" : \"&TEXT(Données!$C25,\"hh:mm\"))","v":"CA16"},{"$f":"IF(ISBLANK(Données!$C26),TEXT(Données!$B26,\"hh:mm\"),TEXT(Données!$B26,\"hh:mm\")&\" : \"&TEXT(Données!$C26,\"hh:mm\"))","v":"REC"},{"$f":"IF(ISBLANK(Données!$C27),TEXT(Données!$B27,\"hh:mm\"),TEXT(Données!$B27,\"hh:mm\")&\" : \"&TEXT(Données!$C27,\"hh:mm\"))","v":"PL"},{"$f":"IF(ISBLANK(Données!$C28),TEXT(Données!$B28,\"hh:mm\"),TEXT(Données!$B28,\"hh:mm\")&\" : \"&TEXT(Données!$C28,\"hh:mm\"))","v":"D"},null,null,null,null,null,null,null,"Total ",null,null,"CA",null,null,"Jour travaillé"]
[{"$f":"Données!$H6","v":"A"},{"$f":"IF(SUMPRODUCT((INDIRECT(\"'\"&$A$1&\"'!$A$7:$A$56\")=$A9)*(INDIRECT(\"'\"&$A$1&\"'!$B$7:$AF$56\")=B$7))=0,\"\",SUMPRODUCT((INDIRECT(\"'\"&$A$1&\"'!$A$7:$A$56\")=$A9)*(INDIRECT(\"'\"&$A$1&\"'!$B$7:$AF$56\")=B$7)))","v":""},{"$f":"IF(SUMPRODUCT((INDIRECT(\"'\"&$A$1&\"'!$A$7:$A$56\")=$A9)*(INDIRECT(\"'\"&$A$1&\"'!$B$7:$AF$56\")=C$7))=0,\"\",SUMPRODUCT((INDIRECT(\"'\"&$A$1&\"'!$A$7:$A$56\")=$A9)*(INDIRECT(\"'\"&$A$1&\"'!$B$7:$AF$56\")=C$7)))","v":""},"","","","","","","","","","","","","","","","","","","","","","","","",{"$f":"VLOOKUP($A9,INDIRECT(\"'\"&$A$1&\"'!$A$7:$AR$56\"),35,0)","v":"00:00:00"},{"$f":"VLOOKUP($A9,INDIRECT(\"'\"&$A$1&\"'!$A$7:$AR$56\"),36,0)","v":"00:00:00"},null,{"$f":"SUMPRODUCT(ISNUMBER(MATCH(INDIRECT(\"H\"&$A$1&\"!B2:AF2\"),DimFe,0))*IFERROR(IF(\"19:00\">=IFERROR(Hgauche,0),IFERROR(hdroite-Hgauche,0),IF(durée1>0,durée1,\"00:00\")),0))+SUMPRODUCT(ISNUMBER(MATCH(INDIRECT(\"H\"&$A$1&\"!B2:AF2\"),moindimfe,0))*IFERROR(IF(\"19:00\"<=IFERROR(Hgauche,0),IF(durée4<0,0,durée4),\"00:00\"),0))","v":0},{"$f":"SUMPRODUCT(ISNUMBER(MATCH(INDIRECT(\"H\"&$A$1&\"!B2:AF2\"),DimFe,0))*IFERROR(IF(\"19:00\"<=IFERROR(Hgauche,0),IF(durée6<0,0,durée6),IF(durée<0,0,durée)),0))+SUMPRODUCT(ISNUMBER(MATCH(INDIRECT(\"H\"&$A$1&\"!B2:AF2\"),moindimfe,0))*IFERROR(IF(\"19:00\"<=IFERROR(Hgauche,0),IF(durée2<0,0,durée2),\"00:00\"),0))","v":0},{"$f":"SUM(SUMPRODUCT(1*IFERROR(IF(\"19:00\"<=IFERROR(Hgauche,0),IF(durée2<0,0,durée2),\"00:00\"),0)),SUMPRODUCT(1*IFERROR(IF(\"19:00\"<=IFERROR(Hgauche,0),IF(durée6<0,0,durée6),\"00:00\"),0)),SUMPRODUCT(1*IFERROR(IF(\"21:00\"<=IFERROR(Hdroitesimple,0),IF(durée<0,0,durée),\"00:00\"),0)))-durée5","v":0},null,{"$f":"bilanh","v":0},{"$f":"VLOOKUP($A9,Bilan!$A$9:$AQ57,37,FALSE)","v":59.5},null,{"$f":"Bilan!AN9","v":65},65,null,{"$f":"Jourtravaillé","v":0}]
[{"$f":"Données!$H7","v":0},{"$f":"IF(SUMPRODUCT((INDIRECT(\"'\"&$A$1&\"'!$A$7:$A$56\")=$A10)*(INDIRECT(\"'\"&$A$1&\"'!$B$7:$AF$56\")=B$7))=0,\"\",SUMPRODUCT((INDIRECT(\"'\"&$A$1&\"'!$A$7:$A$56\")=$A10)*(INDIRECT(\"'\"&$A$1&\"'!$B$7:$AF$56\")=B$7)))","v":""},"","","","","","","","","","","","","","","","","","","","","","","","","",{"$f":"VLOOKUP($A10,INDIRECT(\"'\"&$A$1&\"'!$A$7:$AR$56\"),35,0)","v":"00:00:00"},{"$f":"VLOOKUP($A10,INDIRECT(\"'\"&$A$1&\"'!$A$7:$AR$56\"),36,0)","v":"00:00:00"},null,{"$f":"SUMPRODUCT(ISNUMBER(MATCH(INDIRECT(\"H\"&$A$1&\"!B2:AF2\"),DimFe,0))*IFERROR(IF(\"19:00\">=IFERROR(Hgauche,0),IFERROR(hdroite-Hgauche,0),IF(durée1>0,durée1,\"00:00\")),0))+SUMPRODUCT(ISNUMBER(MATCH(INDIRECT(\"H\"&$A$1&\"!B2:AF2\"),moindimfe,0))*IFERROR(IF(\"19:00\"<=IFERROR(Hgauche,0),IF(durée4<0,0,durée4),\"00:00\"),0))","v":0},{"$f":"SUMPRODUCT(ISNUMBER(MATCH(INDIRECT(\"H\"&$A$1&\"!B2:AF2\"),DimFe,0))*IFERROR(IF(\"19:00\"<=IFERROR(Hgauche,0),IF(durée6<0,0,durée6),IF(durée<0,0,durée)),0))+SUMPRODUCT(ISNUMBER(MATCH(INDIRECT(\"H\"&$A$1&\"!B2:AF2\"),moindimfe,0))*IFERROR(IF(\"19:00\"<=IFERROR(Hgauche,0),IF(durée2<0,0,durée2),\"00:00\"),0))","v":0},{"$f":"SUM(SUMPRODUCT(1*IFERROR(IF(\"19:00\"<=IFERROR(Hgauche,0),IF(durée2<0,0,durée2),\"00:00\"),0)),SUMPRODUCT(1*IFERROR(IF(\"19:00\"<=IFERROR(Hgauche,0),IF(durée6<0,0,durée6),\"00:00\"),0)),SUMPRODUCT(1*IFERROR(IF(\"21:00\"<=IFERROR(Hdroitesimple,0),IF(durée<0,0,durée),\"00:00\"),0)))-durée5","v":0},null,0,{"$f":"VLOOKUP($A10,Bilan!$A$9:$AQ58,37,FALSE)","v":59.5},null,{"$f":"Bilan!AN10","v":65},65,null,0]
[{"$f":"Données!$H8","v":0},"","","","","","","","","","","","","","","","","","","","","","","","","","","00:00:00","00:00:00",null,{"$f":"SUMPRODUCT(ISNUMBER(MATCH(INDIRECT(\"H\"&$A$1&\"!B2:AF2\"),DimFe,0))*IFERROR(IF(\"19:00\">=IFERROR(Hgauche,0),IFERROR(hdroite-Hgauche,0),IF(durée1>0,durée1,\"00:00\")),0))+SUMPRODUCT(ISNUMBER(MATCH(INDIRECT(\"H\"&$A$1&\"!B2:AF2\"),moindimfe,0))*IFERROR(IF(\"19:00\"<=IFERROR(Hgauche,0),IF(durée4<0,0,durée4),\"00:00\"),0))","v":0},{"$f":"SUMPRODUCT(ISNUMBER(MATCH(INDIRECT(\"H\"&$A$1&\"!B2:AF2\"),DimFe,0))*IFERROR(IF(\"19:00\"<=IFERROR(Hgauche,0),IF(durée6<0,0,durée6),IF(durée<0,0,durée)),0))+SUMPRODUCT(ISNUMBER(MATCH(INDIRECT(\"H\"&$A$1&\"!B2:AF2\"),moindimfe,0))*IFERROR(IF(\"19:00\"<=IFERROR(Hgauche,0),IF(durée2<0,0,durée2),\"00:00\"),0))","v":0},{"$f":"SUM(SUMPRODUCT(1*IFERROR(IF(\"19:00\"<=IFERROR(Hgauche,0),IF(durée2<0,0,durée2),\"00:00\"),0)),SUMPRODUCT(1*IFERROR(IF(\"19:00\"<=IFERROR(Hgauche,0),IF(durée6<0,0,durée6),\"00:00\"),0)),SUMPRODUCT(1*IFERROR(IF(\"21:00\"<=IFERROR(Hdroitesimple,0),IF(durée<0,0,durée),\"00:00\"),0)))-durée5","v":0},null,0,{"$f":"VLOOKUP($A11,Bilan!$A$9:$AQ59,37,FALSE)","v":59.5},null,{"$f":"Bilan!AN11","v":65},65,null,0]
[{"$f":"Données!$H9","v":0},"","","","","","","","","","","","","","","","","","","","","","","","","","","00:00:00","00:00:00",null,{"$f":"SUMPRODUCT(ISNUMBER(MATCH(INDIRECT(\"H\"&$A$1&\"!B2:AF2\"),DimFe,0))*IFERROR(IF(\"19:00\">=IFERROR(Hgauche,0),IFERROR(hdroite-Hgauche,0),IF(durée1>0,durée1,\"00:00\")),0))+SUMPRODUCT(ISNUMBER(MATCH(INDIRECT(\"H\"&$A$1&\"!B2:AF2\"),moindimfe,0))*IFERROR(IF(\"19:00\"<=IFERROR(Hgauche,0),IF(durée4<0,0,durée4),\"00:00\"),0))","v":0},{"$f":"SUMPRODUCT(ISNUMBER(MATCH(INDIRECT(\"H\"&$A$1&\"!B2:AF2\"),DimFe,0))*IFERROR(IF(\"19:00\"<=IFERROR(Hgauche,0),IF(durée6<0,0,durée6),IF(durée<0,0,durée)),0))+SUMPRODUCT(ISNUMBER(MATCH(INDIRECT(\"H\"&$A$1&\"!B2:AF2\"),moindimfe,0))*IFERROR(IF(\"19:00\"<=IFERROR(Hgauche,0),IF(durée2<0,0,durée2),\"00:00\"),0))","v":0},{"$f":"SUM(SUMPRODUCT(1*IFERROR(IF(\"19:00\"<=IFERROR(Hgauche,0),IF(durée2<0,0,durée2),\"00:00\"),0)),SUMPRODUCT(1*IFERROR(IF(\"19:00\"<=IFERROR(Hgauche,0),IF(durée6<0,0,durée6),\"00:00\"),0)),SUMPRODUCT(1*IFERROR(IF(\"21:00\"<=IFERROR(Hdroitesimple,0),IF(durée<0,0,durée),\"00:00\"),0)))-durée5","v":0},null,0,{"$f":"VLOOKUP($A12,Bilan!$A$9:$AQ60,37,FALSE)","v":59.5},null,{"$f":"Bilan!AN12","v":65},65,null,0]
[{"$f":"Données!$H10","v":0},"","","","","","","","","","","","","","","","","","","","","","","","","","","00:00:00","00:00:00",null,{"$f":"SUMPRODUCT(ISNUMBER(MATCH(INDIRECT(\"H\"&$A$1&\"!B2:AF2\"),DimFe,0))*IFERROR(IF(\"19:00\">=IFERROR(Hgauche,0),IFERROR(hdroite-Hgauche,0),IF(durée1>0,durée1,\"00:00\")),0))+SUMPRODUCT(ISNUMBER(MATCH(INDIRECT(\"H\"&$A$1&\"!B2:AF2\"),moindimfe,0))*IFERROR(IF(\"19:00\"<=IFERROR(Hgauche,0),IF(durée4<0,0,durée4),\"00:00\"),0))","v":0},{"$f":"SUMPRODUCT(ISNUMBER(MATCH(INDIRECT(\"H\"&$A$1&\"!B2:AF2\"),DimFe,0))*IFERROR(IF(\"19:00\"<=IFERROR(Hgauche,0),IF(durée6<0,0,durée6),IF(durée<0,0,durée)),0))+SUMPRODUCT(ISNUMBER(MATCH(INDIRECT(\"H\"&$A$1&\"!B2:AF2\"),moindimfe,0))*IFERROR(IF(\"19:00\"<=IFERROR(Hgauche,0),IF(durée2<0,0,durée2),\"00:00\"),0))","v":0},{"$f":"SUM(SUMPRODUCT(1*IFERROR(IF(\"19:00\"<=IFERROR(Hgauche,0),IF(durée2<0,0,durée2),\"00:00\"),0)),SUMPRODUCT(1*IFERROR(IF(\"19:00\"<=IFERROR(Hgauche,0),IF(durée6<0,0,durée6),\"00:00\"),0)),SUMPRODUCT(1*IFERROR(IF(\"21:00\"<=IFERROR(Hdroitesimple,0),IF(durée<0,0,durée),\"00:00\"),0)))-durée5","v":0},null,0,{"$f":"VLOOKUP($A13,Bilan!$A$9:$AQ61,37,FALSE)","v":59.5},null,{"$f":"Bilan!AN13","v":65},65,null,0]
[{"$f":"Données!$H11","v":0},"","","","","","","","","","","","","","","","","","","","","","","","","","","00:00:00","00:00:00",null,{"$f":"SUMPRODUCT(ISNUMBER(MATCH(INDIRECT(\"H\"&$A$1&\"!B2:AF2\"),DimFe,0))*IFERROR(IF(\"19:00\">=IFERROR(Hgauche,0),IFERROR(hdroite-Hgauche,0),IF(durée1>0,durée1,\"00:00\")),0))+SUMPRODUCT(ISNUMBER(MATCH(INDIRECT(\"H\"&$A$1&\"!B2:AF2\"),moindimfe,0))*IFERROR(IF(\"19:00\"<=IFERROR(Hgauche,0),IF(durée4<0,0,durée4),\"00:00\"),0))","v":0},{"$f":"SUMPRODUCT(ISNUMBER(MATCH(INDIRECT(\"H\"&$A$1&\"!B2:AF2\"),DimFe,0))*IFERROR(IF(\"19:00\"<=IFERROR(Hgauche,0),IF(durée6<0,0,durée6),IF(durée<0,0,durée)),0))+SUMPRODUCT(ISNUMBER(MATCH(INDIRECT(\"H\"&$A$1&\"!B2:AF2\"),moindimfe,0))*IFERROR(IF(\"19:00\"<=IFERROR(Hgauche,0),IF(durée2<0,0,durée2),\"00:00\"),0))","v":0},{"$f":"SUM(SUMPRODUCT(1*IFERROR(IF(\"19:00\"<=IFERROR(Hgauche,0),IF(durée2<0,0,durée2),\"00:00\"),0)),SUMPRODUCT(1*IFERROR(IF(\"19:00\"<=IFERROR(Hgauche,0),IF(durée6<0,0,durée6),\"00:00\"),0)),SUMPRODUCT(1*IFERROR(IF(\"21:00\"<=IFERROR(Hdroitesimple,0),IF(durée<0,0,durée),\"00:00\"),0)))-durée5","v":0},null,0,{"$f":"VLOOKUP($A14,Bilan!$A$9:$AQ62,37,FALSE)","v":59.5},null,{"$f":"Bilan!AN14","v":65},65,null,0]
[{"$f":"Données!$H12","v":0},"","","","","","","","","","","","","","","","","","","","","","","","","","","00:00:00","00:00:00",null,{"$f":"SUMPRODUCT(ISNUMBER(MATCH(INDIRECT(\"H\"&$A$1&\"!B2:AF2\"),DimFe,0))*IFERROR(IF(\"19:00\">=IFERROR(Hgauche,0),IFERROR(hdroite-Hgauche,0),IF(durée1>0,durée1,\"00:00\")),0))+SUMPRODUCT(ISNUMBER(MATCH(INDIRECT(\"H\"&$A$1&\"!B2:AF2\"),moindimfe,0))*IFERROR(IF(\"19:00\"<=IFERROR(Hgauche,0),IF(durée4<0,0,durée4),\"00:00\"),0))","v":0},{"$f":"SUMPRODUCT(ISNUMBER(MATCH(INDIRECT(\"H\"&$A$1&\"!B2:AF2\"),DimFe,0))*IFERROR(IF(\"19:00\"<=IFERROR(Hgauche,0),IF(durée6<0,0,durée6),IF(durée<0,0,durée)),0))+SUMPRODUCT(ISNUMBER(MATCH(INDIRECT(\"H\"&$A$1&\"!B2:AF2\"),moindimfe,0))*IFERROR(IF(\"19:00\"<=IFERROR(Hgauche,0),IF(durée2<0,0,durée2),\"00:00\"),0))","v":0},{"$f":"SUM(SUMPRODUCT(1*IFERROR(IF(\"19:00\"<=IFERROR(Hgauche,0),IF(durée2<0,0,durée2),\"00:00\"),0)),SUMPRODUCT(1*IFERROR(IF(\"19:00\"<=IFERROR(Hgauche,0),IF(durée6<0,0,durée6),\"00:00\"),0)),SUMPRODUCT(1*IFERROR(IF(\"21:00\"<=IFERROR(Hdroitesimple,0),IF(durée<0,0,durée),\"00:00\"),0)))-durée5","v":0},null,0,{"$f":"VLOOKUP($A15,Bilan!$A$9:$AQ63,37,FALSE)","v":59.5},null,{"$f":"Bilan!AN15","v":65},65,null,0]
[{"$f":"Données!$H13","v":0},"","","","","","","","","","","","","","","","","","","","","","","","","","","00:00:00","00:00:00",null,{"$f":"SUMPRODUCT(ISNUMBER(MATCH(INDIRECT(\"H\"&$A$1&\"!B2:AF2\"),DimFe,0))*IFERROR(IF(\"19:00\">=IFERROR(Hgauche,0),IFERROR(hdroite-Hgauche,0),IF(durée1>0,durée1,\"00:00\")),0))+SUMPRODUCT(ISNUMBER(MATCH(INDIRECT(\"H\"&$A$1&\"!B2:AF2\"),moindimfe,0))*IFERROR(IF(\"19:00\"<=IFERROR(Hgauche,0),IF(durée4<0,0,durée4),\"00:00\"),0))","v":0},{"$f":"SUMPRODUCT(ISNUMBER(MATCH(INDIRECT(\"H\"&$A$1&\"!B2:AF2\"),DimFe,0))*IFERROR(IF(\"19:00\"<=IFERROR(Hgauche,0),IF(durée6<0,0,durée6),IF(durée<0,0,durée)),0))+SUMPRODUCT(ISNUMBER(MATCH(INDIRECT(\"H\"&$A$1&\"!B2:AF2\"),moindimfe,0))*IFERROR(IF(\"19:00\"<=IFERROR(Hgauche,0),IF(durée2<0,0,durée2),\"00:00\"),0))","v":0},{"$f":"SUM(SUMPRODUCT(1*IFERROR(IF(\"19:00\"<=IFERROR(Hgauche,0),IF(durée2<0,0,durée2),\"00:00\"),0)),SUMPRODUCT(1*IFERROR(IF(\"19:00\"<=IFERROR(Hgauche,0),IF(durée6<0,0,durée6),\"00:00\"),0)),SUMPRODUCT(1*IFERROR(IF(\"21:00\"<=IFERROR(Hdroitesimple,0),IF(durée<0,0,durée),\"00:00\"),0)))-durée5","v":0},null,0,{"$f":"VLOOKUP($A16,Bilan!$A$9:$AQ64,37,FALSE)","v":59.5},null,{"$f":"Bilan!AN16","v":65},65,null,0]
[{"$f":"Données!$H14","v":0},"","","","","","","","","","","","","","","","","","","","","","","","","","","00:00:00","00:00:00",null,{"$f":"SUMPRODUCT(ISNUMBER(MATCH(INDIRECT(\"H\"&$A$1&\"!B2:AF2\"),DimFe,0))*IFERROR(IF(\"19:00\">=IFERROR(Hgauche,0),IFERROR(hdroite-Hgauche,0),IF(durée1>0,durée1,\"00:00\")),0))+SUMPRODUCT(ISNUMBER(MATCH(INDIRECT(\"H\"&$A$1&\"!B2:AF2\"),moindimfe,0))*IFERROR(IF(\"19:00\"<=IFERROR(Hgauche,0),IF(durée4<0,0,durée4),\"00:00\"),0))","v":0},{"$f":"SUMPRODUCT(ISNUMBER(MATCH(INDIRECT(\"H\"&$A$1&\"!B2:AF2\"),DimFe,0))*IFERROR(IF(\"19:00\"<=IFERROR(Hgauche,0),IF(durée6<0,0,durée6),IF(durée<0,0,durée)),0))+SUMPRODUCT(ISNUMBER(MATCH(INDIRECT(\"H\"&$A$1&\"!B2:AF2\"),moindimfe,0))*IFERROR(IF(\"19:00\"<=IFERROR(Hgauche,0),IF(durée2<0,0,durée2),\"00:00\"),0))","v":0},{"$f":"SUM(SUMPRODUCT(1*IFERROR(IF(\"19:00\"<=IFERROR(Hgauche,0),IF(durée2<0,0,durée2),\"00:00\"),0)),SUMPRODUCT(1*IFERROR(IF(\"19:00\"<=IFERROR(Hgauche,0),IF(durée6<0,0,durée6),\"00:00\"),0)),SUMPRODUCT(1*IFERROR(IF(\"21:00\"<=IFERROR(Hdroitesimple,0),IF(durée<0,0,durée),\"00:00\"),0)))-durée5","v":0},null,0,{"$f":"VLOOKUP($A17,Bilan!$A$9:$AQ65,37,FALSE)","v":59.5},null,{"$f":"Bilan!AN17","v":65},65,null,0]
[{"$f":"Données!$H15","v":0},"","","","","","","","","","","","","","","","","","","","","","","","","","","00:00:00","00:00:00",null,{"$f":"SUMPRODUCT(ISNUMBER(MATCH(INDIRECT(\"H\"&$A$1&\"!B2:AF2\"),DimFe,0))*IFERROR(IF(\"19:00\">=IFERROR(Hgauche,0),IFERROR(hdroite-Hgauche,0),IF(durée1>0,durée1,\"00:00\")),0))+SUMPRODUCT(ISNUMBER(MATCH(INDIRECT(\"H\"&$A$1&\"!B2:AF2\"),moindimfe,0))*IFERROR(IF(\"19:00\"<=IFERROR(Hgauche,0),IF(durée4<0,0,durée4),\"00:00\"),0))","v":0},{"$f":"SUMPRODUCT(ISNUMBER(MATCH(INDIRECT(\"H\"&$A$1&\"!B2:AF2\"),DimFe,0))*IFERROR(IF(\"19:00\"<=IFERROR(Hgauche,0),IF(durée6<0,0,durée6),IF(durée<0,0,durée)),0))+SUMPRODUCT(ISNUMBER(MATCH(INDIRECT(\"H\"&$A$1&\"!B2:AF2\"),moindimfe,0))*IFERROR(IF(\"19:00\"<=IFERROR(Hgauche,0),IF(durée2<0,0,durée2),\"00:00\"),0))","v":0},{"$f":"SUM(SUMPRODUCT(1*IFERROR(IF(\"19:00\"<=IFERROR(Hgauche,0),IF(durée2<0,0,durée2),\"00:00\"),0)),SUMPRODUCT(1*IFERROR(IF(\"19:00\"<=IFERROR(Hgauche,0),IF(durée6<0,0,durée6),\"00:00\"),0)),SUMPRODUCT(1*IFERROR(IF(\"21:00\"<=IFERROR(Hdroitesimple,0),IF(durée<0,0,durée),\"00:00\"),0)))-durée5","v":0},null,0,{"$f":"VLOOKUP($A18,Bilan!$A$9:$AQ66,37,FALSE)","v":59.5},null,{"$f":"Bilan!AN18","v":65},65,null,0]
[{"$f":"Données!$H16","v":0},{"$f":"SUMPRODUCT((INDIRECT(\"'\"&$A$1&\"'!$A$7:$A$56\")=$A19)*(INDIRECT(\"'\"&$A$1&\"'!$B$7:$AF$56\")=B$7))","v":0},0,0,0,0,0,0,0,0,0,0,0,0,0,0,0,{"$f":"SUMPRODUCT((INDIRECT(\"'\"&$A$1&\"'!$A$7:$A$56\")=$A19)*(INDIRECT(\"'\"&$A$1&\"'!$B$7:$AF$56\")=R$7))","v":0},0,0,0,0,0,0,0,0,0,{"$f":"VLOOKUP($A19,INDIRECT(\"'H\"&$A$1&\"'!$A$7:$AR$56\"),35,0)","v":"00:00:00"},{"$f":"VLOOKUP($A19,INDIRECT(\"'H\"&$A$1&\"'!$A$7:$AR$56\"),38,0)","v":"00:00:00"},null,{"$f":"SUMPRODUCT(ISNUMBER(MATCH(INDIRECT(\"H\"&$A$1&\"!B2:AF2\"),DimFe,0))*IFERROR(IF(\"19:00\">=IFERROR(Hgauche,0),IFERROR(hdroite-Hgauche,0),IF(durée1>0,durée1,\"00:00\")),0))+SUMPRODUCT(ISNUMBER(MATCH(INDIRECT(\"H\"&$A$1&\"!B2:AF2\"),moindimfe,0))*IFERROR(IF(\"19:00\"<=IFERROR(Hgauche,0),IF(durée4<0,0,durée4),\"00:00\"),0))","v":0},{"$f":"SUMPRODUCT(ISNUMBER(MATCH(INDIRECT(\"H\"&$A$1&\"!B2:AF2\"),DimFe,0))*IFERROR(IF(\"19:00\"<=IFERROR(Hgauche,0),IF(durée6<0,0,durée6),IF(durée<0,0,durée)),0))+SUMPRODUCT(ISNUMBER(MATCH(INDIRECT(\"H\"&$A$1&\"!B2:AF2\"),moindimfe,0))*IFERROR(IF(\"19:00\"<=IFERROR(Hgauche,0),IF(durée2<0,0,durée2),\"00:00\"),0))","v":0},{"$f":"SUMPRODUCT(1*IF(durée<0,0,durée))+SUMPRODUCT(1*IFERROR(IF(\"19:00\"<=IFERROR(Hgauche,0),IF(durée2<0,0,durée2),\"00:00\"),0))-durée5","v":0},null,{"$f":"(AB19/24)+SUMPRODUCT(($B$6:$AA$6)*(B19:AA19))","v":0},{"$f":"VLOOKUP($A19,Bilan!A19:AI67,35,FALSE)","v":0},null,{"$f":"Bilan!AN19","v":{"$error":"#VALUE!"}},65,null,{"$f":"SUM(B19:R19)","v":0},null,null,null,null,null,null,null,null,null,null,null,null,null,null,null,null,null,null,null,null,null,null,null,{"$f":"Données!$A14","v":"N"},{"$f":"Données!$B14","v":0.85416666666666663}]
[{"$f":"Données!$H17","v":0},0,0,0,0,0,0,0,0,0,0,0,0,0,0,0,0,0,0,0,0,0,0,0,0,0,0,"00:00:00","00:00:00",null,{"$f":"SUMPRODUCT(ISNUMBER(MATCH(INDIRECT(\"H\"&$A$1&\"!B2:AF2\"),DimFe,0))*IFERROR(IF(\"19:00\">=IFERROR(Hgauche,0),IFERROR(hdroite-Hgauche,0),IF(durée1>0,durée1,\"00:00\")),0))+SUMPRODUCT(ISNUMBER(MATCH(INDIRECT(\"H\"&$A$1&\"!B2:AF2\"),moindimfe,0))*IFERROR(IF(\"19:00\"<=IFERROR(Hgauche,0),IF(durée4<0,0,durée4),\"00:00\"),0))","v":0},{"$f":"SUMPRODUCT(ISNUMBER(MATCH(INDIRECT(\"H\"&$A$1&\"!B2:AF2\"),DimFe,0))*IFERROR(IF(\"19:00\"<=IFERROR(Hgauche,0),IF(durée6<0,0,durée6),IF(durée<0,0,durée)),0))+SUMPRODUCT(ISNUMBER(MATCH(INDIRECT(\"H\"&$A$1&\"!B2:AF2\"),moindimfe,0))*IFERROR(IF(\"19:00\"<=IFERROR(Hgauche,0),IF(durée2<0,0,durée2),\"00:00\"),0))","v":0},{"$f":"SUMPRODUCT(1*IF(durée<0,0,durée))+SUMPRODUCT(1*IFERROR(IF(\"19:00\"<=IFERROR(Hgauche,0),IF(durée2<0,0,durée2),\"00:00\"),0))-durée5","v":0},null,0,{"$f":"VLOOKUP($A20,Bilan!A20:AI68,35,FALSE)","v":0},null,{"$f":"Bilan!AN20","v":{"$error":"#VALUE!"}},65,null,0,null,null,null,null,null,null,null,null,null,null,null,null,null,null,null,null,null,null,null,null,null,null,null,{"$f":"Données!$A15","v":"N+"},{"$f":"Données!$B15","v":0.80208333333333337}]
[{"$f":"Données!$H18","v":0},0,0,0,0,0,0,0,0,0,0,0,0,0,0,0,0,0,0,0,0,0,0,0,0,0,0,"00:00:00","00:00:00",null,{"$f":"SUMPRODUCT(ISNUMBER(MATCH(INDIRECT(\"H\"&$A$1&\"!B2:AF2\"),DimFe,0))*IFERROR(IF(\"19:00\">=IFERROR(Hgauche,0),IFERROR(hdroite-Hgauche,0),IF(durée1>0,durée1,\"00:00\")),0))+SUMPRODUCT(ISNUMBER(MATCH(INDIRECT(\"H\"&$A$1&\"!B2:AF2\"),moindimfe,0))*IFERROR(IF(\"19:00\"<=IFERROR(Hgauche,0),IF(durée4<0,0,durée4),\"00:00\"),0))","v":0},{"$f":"SUMPRODUCT(ISNUMBER(MATCH(INDIRECT(\"H\"&$A$1&\"!B2:AF2\"),DimFe,0))*IFERROR(IF(\"19:00\"<=IFERROR(Hgauche,0),IF(durée6<0,0,durée6),IF(durée<0,0,durée)),0))+SUMPRODUCT(ISNUMBER(MATCH(INDIRECT(\"H\"&$A$1&\"!B2:AF2\"),moindimfe,0))*IFERROR(IF(\"19:00\"<=IFERROR(Hgauche,0),IF(durée2<0,0,durée2),\"00:00\"),0))","v":0},{"$f":"SUMPRODUCT(1*IF(durée<0,0,durée))+SUMPRODUCT(1*IFERROR(IF(\"19:00\"<=IFERROR(Hgauche,0),IF(durée2<0,0,durée2),\"00:00\"),0))-durée5","v":0},null,0,{"$f":"VLOOKUP($A21,Bilan!A21:AI69,35,FALSE)","v":0},null,{"$f":"Bilan!AN21","v":{"$error":"#VALUE!"}},65,null,0,null,null,null,null,null,null,null,null,null,null,null,null,null,null,null,null,null,null,null,null,null,null,null,{"$f":"Données!$A16","v":"NS"},{"$f":"Données!$B16","v":0.80208333333333337}]
[{"$f":"Données!$H19","v":0},0,0,0,0,0,0,0,0,0,0,0,0,0,0,0,0,0,0,0,0,0,0,0,0,0,0,"00:00:00","00:00:00",null,{"$f":"SUMPRODUCT(ISNUMBER(MATCH(INDIRECT(\"H\"&$A$1&\"!B2:AF2\"),DimFe,0))*IFERROR(IF(\"19:00\">=IFERROR(Hgauche,0),IFERROR(hdroite-Hgauche,0),IF(durée1>0,durée1,\"00:00\")),0))+SUMPRODUCT(ISNUMBER(MATCH(INDIRECT(\"H\"&$A$1&\"!B2:AF2\"),moindimfe,0))*IFERROR(IF(\"19:00\"<=IFERROR(Hgauche,0),IF(durée4<0,0,durée4),\"00:00\"),0))","v":0},{"$f":"SUMPRODUCT(ISNUMBER(MATCH(INDIRECT(\"H\"&$A$1&\"!B2:AF2\"),DimFe,0))*IFERROR(IF(\"19:00\"<=IFERROR(Hgauche,0),IF(durée6<0,0,durée6),IF(durée<0,0,durée)),0))+SUMPRODUCT(ISNUMBER(MATCH(INDIRECT(\"H\"&$A$1&\"!B2:AF2\"),moindimfe,0))*IFERROR(IF(\"19:00\"<=IFERROR(Hgauche,0),IF(durée2<0,0,durée2),\"00:00\"),0))","v":0},{"$f":"SUMPRODUCT(1*IF(durée<0,0,durée))+SUMPRODUCT(1*IFERROR(IF(\"19:00\"<=IFERROR(Hgauche,0),IF(durée2<0,0,durée2),\"00:00\"),0))-durée5","v":0},null,0,{"$f":"VLOOKUP($A22,Bilan!A22:AI70,35,FALSE)","v":0},null,{"$f":"Bilan!AN22","v":{"$error":"#VALUE!"}},65,null,0,null,null,null,null,null,null,null,null,null,null,null,null,null,null,null,null,null,null,null,null,null,null,null,{"$f":"Données!$A17","v":"T"},{"$f":"Données!$B17","v":"T"}]
[{"$f":"Données!$H20","v":0},0,0,0,0,0,0,0,0,0,0,0,0,0,0,0,0,0,0,0,0,0,0,0,0,0,0,"00:00:00","00:00:00",null,{"$f":"SUMPRODUCT(ISNUMBER(MATCH(INDIRECT(\"H\"&$A$1&\"!B2:AF2\"),DimFe,0))*IFERROR(IF(\"19:00\">=IFERROR(Hgauche,0),IFERROR(hdroite-Hgauche,0),IF(durée1>0,durée1,\"00:00\")),0))+SUMPRODUCT(ISNUMBER(MATCH(INDIRECT(\"H\"&$A$1&\"!B2:AF2\"),moindimfe,0))*IFERROR(IF(\"19:00\"<=IFERROR(Hgauche,0),IF(durée4<0,0,durée4),\"00:00\"),0))","v":0},{"$f":"SUMPRODUCT(ISNUMBER(MATCH(INDIRECT(\"H\"&$A$1&\"!B2:AF2\"),DimFe,0))*IFERROR(IF(\"19:00\"<=IFERROR(Hgauche,0),IF(durée6<0,0,durée6),IF(durée<0,0,durée)),0))+SUMPRODUCT(ISNUMBER(MATCH(INDIRECT(\"H\"&$A$1&\"!B2:AF2\"),moindimfe,0))*IFERROR(IF(\"19:00\"<=IFERROR(Hgauche,0),IF(durée2<0,0,durée2),\"00:00\"),0))","v":0},{"$f":"SUMPRODUCT(1*IF(durée<0,0,durée))+SUMPRODUCT(1*IFERROR(IF(\"19:00\"<=IFERROR(Hgauche,0),IF(durée2<0,0,durée2),\"00:00\"),0))-durée5","v":0},null,0,{"$f":"VLOOKUP($A23,Bilan!A23:AI71,35,FALSE)","v":0},null,{"$f":"Bilan!AN23","v":{"$error":"#VALUE!"}},65,null,0,null,null,null,null,null,null,null,null,null,null,null,null,null,null,null,null,null,null,null,null,null,null,null,{"$f":"Données!$A18","v":"F"},{"$f":"Données!$B18","v":"F"}]
[{"$f":"Données!$H21","v":0},0,0,0,0,0,0,0,0,0,0,0,0,0,0,0,0,0,0,0,0,0,0,0,0,0,0,"00:00:00","00:00:00",null,{"$f":"SUMPRODUCT(ISNUMBER(MATCH(INDIRECT(\"H\"&$A$1&\"!B2:AF2\"),DimFe,0))*IFERROR(IF(\"19:00\">=IFERROR(Hgauche,0),IFERROR(hdroite-Hgauche,0),IF(durée1>0,durée1,\"00:00\")),0))+SUMPRODUCT(ISNUMBER(MATCH(INDIRECT(\"H\"&$A$1&\"!B2:AF2\"),moindimfe,0))*IFERROR(IF(\"19:00\"<=IFERROR(Hgauche,0),IF(durée4<0,0,durée4),\"00:00\"),0))","v":0},{"$f":"SUMPRODUCT(ISNUMBER(MATCH(INDIRECT(\"H\"&$A$1&\"!B2:AF2\"),DimFe,0))*IFERROR(IF(\"19:00\"<=IFERROR(Hgauche,0),IF(durée6<0,0,durée6),IF(durée<0,0,durée)),0))+SUMPRODUCT(ISNUMBER(MATCH(INDIRECT(\"H\"&$A$1&\"!B2:AF2\"),moindimfe,0))*IFERROR(IF(\"19:00\"<=IFERROR(Hgauche,0),IF(durée2<0,0,durée2),\"00:00\"),0))","v":0},{"$f":"SUMPRODUCT(1*IF(durée<0,0,durée))+SUMPRODUCT(1*IFERROR(IF(\"19:00\"<=IFERROR(Hgauche,0),IF(durée2<0,0,durée2),\"00:00\"),0))-durée5","v":0},null,0,{"$f":"VLOOKUP($A24,Bilan!A24:AI72,35,FALSE)","v":0},null,{"$f":"Bilan!AN24","v":{"$error":"#VALUE!"}},65,null,0,null,null,null,null,null,null,null,null,null,null,null,null,null,null,null,null,null,null,null,null,null,null,null,{"$f":"Données!$A19","v":"SYN"},{"$f":"Données!$B19","v":"Syn"}]
[{"$f":"Données!$H22","v":"Equipe de nuit"}]
[{"$f":"Données!$H23","v":"K"},{"$f":"IF(SUMPRODUCT((INDIRECT(\"'\"&$A$1&\"'!$A$7:$A$56\")=$A26)*(INDIRECT(\"'\"&$A$1&\"'!$B$7:$AF$56\")=B$7))=0,\"\",SUMPRODUCT((INDIRECT(\"'\"&$A$1&\"'!$A$7:$A$56\")=$A26)*(INDIRECT(\"'\"&$A$1&\"'!$B$7:$AF$56\")=B$7)))","v":""},"","","","","","","","","","","","","","","",{"$f":"IF(SUMPRODUCT((INDIRECT(\"'\"&$A$1&\"'!$A$7:$A$56\")=$A26)*(INDIRECT(\"'\"&$A$1&\"'!$B$7:$AF$56\")=R$7))=0,\"\",SUMPRODUCT((INDIRECT(\"'\"&$A$1&\"'!$A$7:$A$56\")=$A26)*(INDIRECT(\"'\"&$A$1&\"'!$B$7:$AF$56\")=R$7)))","v":""},"","","","","","","","","",{"$f":"VLOOKUP($A26,INDIRECT(\"'\"&$A$1&\"'!$A$7:$AR$56\"),35,0)","v":"00:00:00"},{"$f":"VLOOKUP($A26,INDIRECT(\"'\"&$A$1&\"'!$A$7:$AR$56\"),36,0)","v":"00:00:00"},null,{"$f":"SUMPRODUCT(ISNUMBER(MATCH(INDIRECT(\"H\"&$A$1&\"!B2:AF2\"),DimFe,0))*IFERROR(IF(\"19:00\">=IFERROR(Hgauche,0),IFERROR(hdroite-Hgauche,0),IF(durée1>0,durée1,\"00:00\")),0))+SUMPRODUCT(ISNUMBER(MATCH(INDIRECT(\"H\"&$A$1&\"!B2:AF2\"),moindimfe,0))*IFERROR(IF(\"19:00\"<=IFERROR(Hgauche,0),IF(durée4<0,0,durée4),\"00:00\"),0))","v":0},{"$f":"SUMPRODUCT(ISNUMBER(MATCH(INDIRECT(\"H\"&$A$1&\"!B2:AF2\"),DimFe,0))*IFERROR(IF(\"19:00\"<=IFERROR(Hgauche,0),IF(durée6<0,0,durée6),IF(durée<0,0,durée)),0))+SUMPRODUCT(ISNUMBER(MATCH(INDIRECT(\"H\"&$A$1&\"!B2:AF2\"),moindimfe,0))*IFERROR(IF(\"19:00\"<=IFERROR(Hgauche,0),IF(durée2<0,0,durée2),\"00:00\"),0))","v":0},{"$f":"SUM(SUMPRODUCT(1*IFERROR(IF(\"19:00\"<=IFERROR(Hgauche,0),IF(durée2<0,0,durée2),\"00:00\"),0)),SUMPRODUCT(1*IFERROR(IF(\"19:00\"<=IFERROR(Hgauche,0),IF(durée6<0,0,durée6),\"00:00\"),0)),SUMPRODUCT(1*IFERROR(IF(\"21:00\"<=IFERROR(Hdroitesimple,0),IF(durée<0,0,durée),\"00:00\"),0)))-durée5","v":0},null,{"$f":"bilanh","v":0},{"$f":"VLOOKUP($A26,Bilan!$A$9:$AQ74,37,FALSE)","v":57.958333333333336},null,{"$f":"Bilan!AN26","v":65},65,null,{"$f":"Jourtravaillé","v":0}]
[{"$f":"Données!$H24","v":0},"","","","","","","","","","","","","","","","","","","","","","","","","","",{"$f":"VLOOKUP($A27,INDIRECT(\"'\"&$A$1&\"'!$A$7:$AR$56\"),35,0)","v":"00:00:00"},{"$f":"VLOOKUP($A27,INDIRECT(\"'\"&$A$1&\"'!$A$7:$AR$56\"),36,0)","v":"00:00:00"},null,{"$f":"SUMPRODUCT(ISNUMBER(MATCH(INDIRECT(\"H\"&$A$1&\"!B2:AF2\"),DimFe,0))*IFERROR(IF(\"19:00\">=IFERROR(Hgauche,0),IFERROR(hdroite-Hgauche,0),IF(durée1>0,durée1,\"00:00\")),0))+SUMPRODUCT(ISNUMBER(MATCH(INDIRECT(\"H\"&$A$1&\"!B2:AF2\"),moindimfe,0))*IFERROR(IF(\"19:00\"<=IFERROR(Hgauche,0),IF(durée4<0,0,durée4),\"00:00\"),0))","v":0},{"$f":"SUMPRODUCT(ISNUMBER(MATCH(INDIRECT(\"H\"&$A$1&\"!B2:AF2\"),DimFe,0))*IFERROR(IF(\"19:00\"<=IFERROR(Hgauche,0),IF(durée6<0,0,durée6),IF(durée<0,0,durée)),0))+SUMPRODUCT(ISNUMBER(MATCH(INDIRECT(\"H\"&$A$1&\"!B2:AF2\"),moindimfe,0))*IFERROR(IF(\"19:00\"<=IFERROR(Hgauche,0),IF(durée2<0,0,durée2),\"00:00\"),0))","v":0},{"$f":"SUM(SUMPRODUCT(1*IFERROR(IF(\"19:00\"<=IFERROR(Hgauche,0),IF(durée2<0,0,durée2),\"00:00\"),0)),SUMPRODUCT(1*IFERROR(IF(\"19:00\"<=IFERROR(Hgauche,0),IF(durée6<0,0,durée6),\"00:00\"),0)),SUMPRODUCT(1*IFERROR(IF(\"21:00\"<=IFERROR(Hdroitesimple,0),IF(durée<0,0,durée),\"00:00\"),0)))-durée5","v":0},null,{"$f":"bilanh","v":0},{"$f":"VLOOKUP($A27,Bilan!$A$9:$AQ75,37,FALSE)","v":59.5},null,{"$f":"Bilan!AN27","v":65},65,null,{"$f":"Jourtravaillé","v":0}]
[{"$f":"Données!$H25","v":0},"","","","","","","","","","","","","","","","","","","","","","","","","","",{"$f":"VLOOKUP($A28,INDIRECT(\"'\"&$A$1&\"'!$A$7:$AR$56\"),35,0)","v":"00:00:00"},{"$f":"VLOOKUP($A28,INDIRECT(\"'\"&$A$1&\"'!$A$7:$AR$56\"),36,0)","v":"00:00:00"},null,{"$f":"SUMPRODUCT(ISNUMBER(MATCH(INDIRECT(\"H\"&$A$1&\"!B2:AF2\"),DimFe,0))*IFERROR(IF(\"19:00\">=IFERROR(Hgauche,0),IFERROR(hdroite-Hgauche,0),IF(durée1>0,durée1,\"00:00\")),0))+SUMPRODUCT(ISNUMBER(MATCH(INDIRECT(\"H\"&$A$1&\"!B2:AF2\"),moindimfe,0))*IFERROR(IF(\"19:00\"<=IFERROR(Hgauche,0),IF(durée4<0,0,durée4),\"00:00\"),0))","v":0},{"$f":"SUMPRODUCT(ISNUMBER(MATCH(INDIRECT(\"H\"&$A$1&\"!B2:AF2\"),DimFe,0))*IFERROR(IF(\"19:00\"<=IFERROR(Hgauche,0),IF(durée6<0,0,durée6),IF(durée<0,0,durée)),0))+SUMPRODUCT(ISNUMBER(MATCH(INDIRECT(\"H\"&$A$1&\"!B2:AF2\"),moindimfe,0))*IFERROR(IF(\"19:00\"<=IFERROR(Hgauche,0),IF(durée2<0,0,durée2),\"00:00\"),0))","v":0},{"$f":"SUM(SUMPRODUCT(1*IFERROR(IF(\"19:00\"<=IFERROR(Hgauche,0),IF(durée2<0,0,durée2),\"00:00\"),0)),SUMPRODUCT(1*IFERROR(IF(\"19:00\"<=IFERROR(Hgauche,0),IF(durée6<0,0,durée6),\"00:00\"),0)),SUMPRODUCT(1*IFERROR(IF(\"21:00\"<=IFERROR(Hdroitesimple,0),IF(durée<0,0,durée),\"00:00\"),0)))-durée5","v":0},null,{"$f":"bilanh","v":0},{"$f":"VLOOKUP($A28,Bilan!$A$9:$AQ76,37,FALSE)","v":59.5},null,{"$f":"Bilan!AN28","v":65},65,null,{"$f":"Jourtravaillé","v":0}]
[{"$f":"Données!$H26","v":0},{"$f":"SUMPRODUCT((INDIRECT(\"'\"&$A$1&\"'!$A$7:$A$56\")=$A29)*(INDIRECT(\"'\"&$A$1&\"'!$B$7:$AF$56\")=B$7))","v":0},0,0,0,0,0,0,0,0,0,0,0,0,0,0,0,{"$f":"SUMPRODUCT((INDIRECT(\"'\"&$A$1&\"'!$A$7:$A$56\")=$A29)*(INDIRECT(\"'\"&$A$1&\"'!$B$7:$AF$56\")=R$7))","v":0},0,0,0,0,0,0,0,0,0,{"$f":"VLOOKUP($A29,INDIRECT(\"'H\"&$A$1&\"'!$A$7:$AR$56\"),35,0)","v":"00:00:00"},{"$f":"VLOOKUP($A29,INDIRECT(\"'H\"&$A$1&\"'!$A$7:$AR$56\"),38,0)","v":"00:00:00"},null,{"$f":"SUMPRODUCT(ISNUMBER(MATCH(INDIRECT(\"H\"&$A$1&\"!B2:AF2\"),DimFe,0))*IFERROR(IF(\"19:00\">=IFERROR(Hgauche,0),IFERROR(hdroite-Hgauche,0),IF(durée1>0,durée1,\"00:00\")),0))+SUMPRODUCT(ISNUMBER(MATCH(INDIRECT(\"H\"&$A$1&\"!B2:AF2\"),moindimfe,0))*IFERROR(IF(\"19:00\"<=IFERROR(Hgauche,0),IF(durée4<0,0,durée4),\"00:00\"),0))","v":0},{"$f":"SUMPRODUCT(ISNUMBER(MATCH(INDIRECT(\"H\"&$A$1&\"!B2:AF2\"),DimFe,0))*IFERROR(IF(\"19:00\"<=IFERROR(Hgauche,0),IF(durée6<0,0,durée6),IF(durée<0,0,durée)),0))+SUMPRODUCT(ISNUMBER(MATCH(INDIRECT(\"H\"&$A$1&\"!B2:AF2\"),moindimfe,0))*IFERROR(IF(\"19:00\"<=IFERROR(Hgauche,0),IF(durée2<0,0,durée2),\"00:00\"),0))","v":0},{"$f":"SUMPRODUCT(1*IF(durée<0,0,durée))+SUMPRODUCT(1*IFERROR(IF(\"19:00\"<=IFERROR(Hgauche,0),IF(durée2<0,0,durée2),\"00:00\"),0))-durée5","v":0},null,{"$f":"(AB29/24)+SUMPRODUCT(($B$6:$AA$6)*(B29:AA29))","v":0},{"$f":"VLOOKUP($A29,Bilan!A29:AI77,35,FALSE)","v":0},null,{"$f":"Bilan!AN29","v":{"$error":"#VALUE!"}},65,null,{"$f":"SUM(B29:R29)","v":0},null,null,null,null,null,null,null,null,null,null,null,null,null,null,null,null,null,null,null,null,null,null,null,{"$f":"Données!$A24","v":"CA"},{"$f":"Données!$B24","v":"CA"}]
[{"$f":"Données!$H27","v":0},0,0,0,0,0,0,0,0,0,0,0,0,0,0,0,0,0,0,0,0,0,0,0,0,0,0,"00:00:00","00:00:00",null,{"$f":"SUMPRODUCT(ISNUMBER(MATCH(INDIRECT(\"H\"&$A$1&\"!B2:AF2\"),DimFe,0))*IFERROR(IF(\"19:00\">=IFERROR(Hgauche,0),IFERROR(hdroite-Hgauche,0),IF(durée1>0,durée1,\"00:00\")),0))+SUMPRODUCT(ISNUMBER(MATCH(INDIRECT(\"H\"&$A$1&\"!B2:AF2\"),moindimfe,0))*IFERROR(IF(\"19:00\"<=IFERROR(Hgauche,0),IF(durée4<0,0,durée4),\"00:00\"),0))","v":0},{"$f":"SUMPRODUCT(ISNUMBER(MATCH(INDIRECT(\"H\"&$A$1&\"!B2:AF2\"),DimFe,0))*IFERROR(IF(\"19:00\"<=IFERROR(Hgauche,0),IF(durée6<0,0,durée6),IF(durée<0,0,durée)),0))+SUMPRODUCT(ISNUMBER(MATCH(INDIRECT(\"H\"&$A$1&\"!B2:AF2\"),moindimfe,0))*IFERROR(IF(\"19:00\"<=IFERROR(Hgauche,0),IF(durée2<0,0,durée2),\"00:00\"),0))","v":0},{"$f":"SUMPRODUCT(1*IF(durée<0,0,durée))+SUMPRODUCT(1*IFERROR(IF(\"19:00\"<=IFERROR(Hgauche,0),IF(durée2<0,0,durée2),\"00:00\"),0))-durée5","v":0},null,0,{"$f":"VLOOKUP($A30,Bilan!A30:AI78,35,FALSE)","v":0},null,{"$f":"Bilan!AN30","v":{"$error":"#VALUE!"}},65,null,0,null,null,null,null,null,null,null,null,null,null,null,null,null,null,null,null,null,null,null,null,null,null,null,{"$f":"Données!$A25","v":"CA16"},{"$f":"Données!$B25","v":"CA16"}]
[{"$f":"Données!$H28","v":0},0,0,0,0,0,0,0,0,0,0,0,0,0,0,0,0,0,0,0,0,0,0,0,0,0,0,"00:00:00","00:00:00",null,{"$f":"SUMPRODUCT(ISNUMBER(MATCH(INDIRECT(\"H\"&$A$1&\"!B2:AF2\"),DimFe,0))*IFERROR(IF(\"19:00\">=IFERROR(Hgauche,0),IFERROR(hdroite-Hgauche,0),IF(durée1>0,durée1,\"00:00\")),0))+SUMPRODUCT(ISNUMBER(MATCH(INDIRECT(\"H\"&$A$1&\"!B2:AF2\"),moindimfe,0))*IFERROR(IF(\"19:00\"<=IFERROR(Hgauche,0),IF(durée4<0,0,durée4),\"00:00\"),0))","v":0},{"$f":"SUMPRODUCT(ISNUMBER(MATCH(INDIRECT(\"H\"&$A$1&\"!B2:AF2\"),DimFe,0))*IFERROR(IF(\"19:00\"<=IFERROR(Hgauche,0),IF(durée6<0,0,durée6),IF(durée<0,0,durée)),0))+SUMPRODUCT(ISNUMBER(MATCH(INDIRECT(\"H\"&$A$1&\"!B2:AF2\"),moindimfe,0))*IFERROR(IF(\"19:00\"<=IFERROR(Hgauche,0),IF(durée2<0,0,durée2),\"00:00\"),0))","v":0},{"$f":"SUMPRODUCT(1*IF(durée<0,0,durée))+SUMPRODUCT(1*IFERROR(IF(\"19:00\"<=IFERROR(Hgauche,0),IF(durée2<0,0,durée2),\"00:00\"),0))-durée5","v":0},null,0,{"$f":"VLOOKUP($A31,Bilan!A31:AI79,35,FALSE)","v":0},null,{"$f":"Bilan!AN31","v":{"$error":"#VALUE!"}},65,null,0,null,null,null,null,null,null,null,null,null,null,null,null,null,null,null,null,null,null,null,null,null,null,null,{"$f":"Données!$A26","v":"REC"},{"$f":"Données!$B26","v":"REC"}]
[{"$f":"Données!$H29","v":0},0,0,0,0,0,0,0,0,0,0,0,0,0,0,0,0,0,0,0,0,0,0,0,0,0,0,"00:00:00","00:00:00",null,{"$f":"SUMPRODUCT(ISNUMBER(MATCH(INDIRECT(\"H\"&$A$1&\"!B2:AF2\"),DimFe,0))*IFERROR(IF(\"19:00\">=IFERROR(Hgauche,0),IFERROR(hdroite-Hgauche,0),IF(durée1>0,durée1,\"00:00\")),0))+SUMPRODUCT(ISNUMBER(MATCH(INDIRECT(\"H\"&$A$1&\"!B2:AF2\"),moindimfe,0))*IFERROR(IF(\"19:00\"<=IFERROR(Hgauche,0),IF(durée4<0,0,durée4),\"00:00\"),0))","v":0},{"$f":"SUMPRODUCT(ISNUMBER(MATCH(INDIRECT(\"H\"&$A$1&\"!B2:AF2\"),DimFe,0))*IFERROR(IF(\"19:00\"<=IFERROR(Hgauche,0),IF(durée6<0,0,durée6),IF(durée<0,0,durée)),0))+SUMPRODUCT(ISNUMBER(MATCH(INDIRECT(\"H\"&$A$1&\"!B2:AF2\"),moindimfe,0))*IFERROR(IF(\"19:00\"<=IFERROR(Hgauche,0),IF(durée2<0,0,durée2),\"00:00\"),0))","v":0},{"$f":"SUMPRODUCT(1*IF(durée<0,0,durée))+SUMPRODUCT(1*IFERROR(IF(\"19:00\"<=IFERROR(Hgauche,0),IF(durée2<0,0,durée2),\"00:00\"),0))-durée5","v":0},null,0,{"$f":"VLOOKUP($A32,Bilan!A32:AI80,35,FALSE)","v":0},null,{"$f":"Bilan!AN32","v":{"$error":"#VALUE!"}},65,null,0,null,null,null,null,null,null,null,null,null,null,null,null,null,null,null,null,null,null,null,null,null,null,null,{"$f":"Données!$A27","v":"PL"},{"$f":"Données!$B27","v":"PL"}]
[{"$f":"Données!$H30","v":0},0,0,0,0,0,0,0,0,0,0,0,0,0,0,0,0,0,0,0,0,0,0,0,0,0,0,"00:00:00","00:00:00",null,{"$f":"SUMPRODUCT(ISNUMBER(MATCH(INDIRECT(\"H\"&$A$1&\"!B2:AF2\"),DimFe,0))*IFERROR(IF(\"19:00\">=IFERROR(Hgauche,0),IFERROR(hdroite-Hgauche,0),IF(durée1>0,durée1,\"00:00\")),0))+SUMPRODUCT(ISNUMBER(MATCH(INDIRECT(\"H\"&$A$1&\"!B2:AF2\"),moindimfe,0))*IFERROR(IF(\"19:00\"<=IFERROR(Hgauche,0),IF(durée4<0,0,durée4),\"00:00\"),0))","v":0},{"$f":"SUMPRODUCT(ISNUMBER(MATCH(INDIRECT(\"H\"&$A$1&\"!B2:AF2\"),DimFe,0))*IFERROR(IF(\"19:00\"<=IFERROR(Hgauche,0),IF(durée6<0,0,durée6),IF(durée<0,0,durée)),0))+SUMPRODUCT(ISNUMBER(MATCH(INDIRECT(\"H\"&$A$1&\"!B2:AF2\"),moindimfe,0))*IFERROR(IF(\"19:00\"<=IFERROR(Hgauche,0),IF(durée2<0,0,durée2),\"00:00\"),0))","v":0},{"$f":"SUMPRODUCT(1*IF(durée<0,0,durée))+SUMPRODUCT(1*IFERROR(IF(\"19:00\"<=IFERROR(Hgauche,0),IF(durée2<0,0,durée2),\"00:00\"),0))-durée5","v":0},null,0,{"$f":"VLOOKUP($A33,Bilan!A33:AI81,35,FALSE)","v":0},null,{"$f":"Bilan!AN33","v":{"$error":"#VALUE!"}},65,null,0,null,null,null,null,null,null,null,null,null,null,null,null,null,null,null,null,null,null,null,null,null,null,null,{"$f":"Données!$A28","v":"D"},{"$f":"Données!$B28","v":"D"}]
[{"$f":"Données!$H31","v":0},0,0,0,0,0,0,0,0,0,0,0,0,0,0,0,0,0,0,0,0,0,0,0,0,0,0,"00:00:00","00:00:00",null,{"$f":"SUMPRODUCT(ISNUMBER(MATCH(INDIRECT(\"H\"&$A$1&\"!B2:AF2\"),DimFe,0))*IFERROR(IF(\"19:00\">=IFERROR(Hgauche,0),IFERROR(hdroite-Hgauche,0),IF(durée1>0,durée1,\"00:00\")),0))+SUMPRODUCT(ISNUMBER(MATCH(INDIRECT(\"H\"&$A$1&\"!B2:AF2\"),moindimfe,0))*IFERROR(IF(\"19:00\"<=IFERROR(Hgauche,0),IF(durée4<0,0,durée4),\"00:00\"),0))","v":0},{"$f":"SUMPRODUCT(ISNUMBER(MATCH(INDIRECT(\"H\"&$A$1&\"!B2:AF2\"),DimFe,0))*IFERROR(IF(\"19:00\"<=IFERROR(Hgauche,0),IF(durée6<0,0,durée6),IF(durée<0,0,durée)),0))+SUMPRODUCT(ISNUMBER(MATCH(INDIRECT(\"H\"&$A$1&\"!B2:AF2\"),moindimfe,0))*IFERROR(IF(\"19:00\"<=IFERROR(Hgauche,0),IF(durée2<0,0,durée2),\"00:00\"),0))","v":0},{"$f":"SUMPRODUCT(1*IF(durée<0,0,durée))+SUMPRODUCT(1*IFERROR(IF(\"19:00\"<=IFERROR(Hgauche,0),IF(durée2<0,0,durée2),\"00:00\"),0))-durée5","v":0},null,0,{"$f":"VLOOKUP($A34,Bilan!A34:AI82,35,FALSE)","v":0},null,{"$f":"Bilan!AN34","v":{"$error":"#VALUE!"}},65,null,0]
[{"$f":"Données!$H32","v":"Maitresse de maison"}]
[{"$f":"Données!$H33","v":"N"},{"$f":"IF(SUMPRODUCT((INDIRECT(\"'\"&$A$1&\"'!$A$7:$A$56\")=$A36)*(INDIRECT(\"'\"&$A$1&\"'!$B$7:$AF$56\")=B$7))=0,\"\",SUMPRODUCT((INDIRECT(\"'\"&$A$1&\"'!$A$7:$A$56\")=$A36)*(INDIRECT(\"'\"&$A$1&\"'!$B$7:$AF$56\")=B$7)))","v":""},"","","","","","","","","","","","","","","","","","","","","","","","","",{"$f":"VLOOKUP($A36,INDIRECT(\"'\"&$A$1&\"'!$A$7:$AR$56\"),35,0)","v":"00:00:00"},{"$f":"VLOOKUP($A36,INDIRECT(\"'\"&$A$1&\"'!$A$7:$AR$56\"),36,0)","v":"00:00:00"},null,{"$f":"SUMPRODUCT(ISNUMBER(MATCH(INDIRECT(\"H\"&$A$1&\"!B2:AF2\"),DimFe,0))*IFERROR(IF(\"19:00\">=IFERROR(Hgauche,0),IFERROR(hdroite-Hgauche,0),IF(durée1>0,durée1,\"00:00\")),0))+SUMPRODUCT(ISNUMBER(MATCH(INDIRECT(\"H\"&$A$1&\"!B2:AF2\"),moindimfe,0))*IFERROR(IF(\"19:00\"<=IFERROR(Hgauche,0),IF(durée4<0,0,durée4),\"00:00\"),0))","v":0},{"$f":"SUMPRODUCT(ISNUMBER(MATCH(INDIRECT(\"H\"&$A$1&\"!B2:AF2\"),DimFe,0))*IFERROR(IF(\"19:00\"<=IFERROR(Hgauche,0),IF(durée6<0,0,durée6),IF(durée<0,0,durée)),0))+SUMPRODUCT(ISNUMBER(MATCH(INDIRECT(\"H\"&$A$1&\"!B2:AF2\"),moindimfe,0))*IFERROR(IF(\"19:00\"<=IFERROR(Hgauche,0),IF(durée2<0,0,durée2),\"00:00\"),0))","v":0},{"$f":"SUM(SUMPRODUCT(1*IFERROR(IF(\"19:00\"<=IFERROR(Hgauche,0),IF(durée2<0,0,durée2),\"00:00\"),0)),SUMPRODUCT(1*IFERROR(IF(\"19:00\"<=IFERROR(Hgauche,0),IF(durée6<0,0,durée6),\"00:00\"),0)),SUMPRODUCT(1*IFERROR(IF(\"21:00\"<=IFERROR(Hdroitesimple,0),IF(durée<0,0,durée),\"00:00\"),0)))-durée5","v":0},null,{"$f":"bilanh","v":0},{"$f":"VLOOKUP($A36,Bilan!$A$9:$AQ84,37,FALSE)","v":63},null,{"$f":"Bilan!AN36","v":65},65,null,{"$f":"Jourtravaillé","v":0}]
[{"$f":"Données!$H34","v":0},{"$f":"SUMPRODUCT((INDIRECT(\"'\"&$A$1&\"'!$A$7:$A$56\")=$A37)*(INDIRECT(\"'\"&$A$1&\"'!$B$7:$AF$56\")=B$7))","v":0},0,0,0,0,0,0,0,0,0,0,0,0,0,0,0,{"$f":"SUMPRODUCT((INDIRECT(\"'\"&$A$1&\"'!$A$7:$A$56\")=$A37)*(INDIRECT(\"'\"&$A$1&\"'!$B$7:$AF$56\")=R$7))","v":0},0,0,0,0,0,0,0,0,0,{"$f":"VLOOKUP($A37,INDIRECT(\"'H\"&$A$1&\"'!$A$7:$AR$56\"),35,0)","v":"00:00:00"},{"$f":"VLOOKUP($A37,INDIRECT(\"'H\"&$A$1&\"'!$A$7:$AR$56\"),38,0)","v":"00:00:00"},null,{"$f":"SUMPRODUCT(ISNUMBER(MATCH(INDIRECT(\"H\"&$A$1&\"!B2:AF2\"),DimFe,0))*IFERROR(IF(\"19:00\">=IFERROR(Hgauche,0),IFERROR(hdroite-Hgauche,0),IF(durée1>0,durée1,\"00:00\")),0))+SUMPRODUCT(ISNUMBER(MATCH(INDIRECT(\"H\"&$A$1&\"!B2:AF2\"),moindimfe,0))*IFERROR(IF(\"19:00\"<=IFERROR(Hgauche,0),IF(durée4<0,0,durée4),\"00:00\"),0))","v":0},{"$f":"SUMPRODUCT(ISNUMBER(MATCH(INDIRECT(\"H\"&$A$1&\"!B2:AF2\"),DimFe,0))*IFERROR(IF(\"19:00\"<=IFERROR(Hgauche,0),IF(durée6<0,0,durée6),IF(durée<0,0,durée)),0))+SUMPRODUCT(ISNUMBER(MATCH(INDIRECT(\"H\"&$A$1&\"!B2:AF2\"),moindimfe,0))*IFERROR(IF(\"19:00\"<=IFERROR(Hgauche,0),IF(durée2<0,0,durée2),\"00:00\"),0))","v":0},{"$f":"SUMPRODUCT(1*IF(durée<0,0,durée))+SUMPRODUCT(1*IFERROR(IF(\"19:00\"<=IFERROR(Hgauche,0),IF(durée2<0,0,durée2),\"00:00\"),0))-durée5","v":0},null,{"$f":"(AB37/24)+SUMPRODUCT(($B$6:$AA$6)*(B37:AA37))","v":0},{"$f":"VLOOKUP($A37,Bilan!A37:AI85,35,FALSE)","v":0},null,{"$f":"Bilan!AN37","v":65},65,null,{"$f":"SUM(B37:R37)","v":0}]
[{"$f":"Données!$H35","v":0},0,0,0,0,0,0,0,0,0,0,0,0,0,0,0,0,0,0,0,0,0,0,0,0,0,0,"00:00:00","00:00:00",null,{"$f":"SUMPRODUCT(ISNUMBER(MATCH(INDIRECT(\"H\"&$A$1&\"!B2:AF2\"),DimFe,0))*IFERROR(IF(\"19:00\">=IFERROR(Hgauche,0),IFERROR(hdroite-Hgauche,0),IF(durée1>0,durée1,\"00:00\")),0))+SUMPRODUCT(ISNUMBER(MATCH(INDIRECT(\"H\"&$A$1&\"!B2:AF2\"),moindimfe,0))*IFERROR(IF(\"19:00\"<=IFERROR(Hgauche,0),IF(durée4<0,0,durée4),\"00:00\"),0))","v":0},{"$f":"SUMPRODUCT(ISNUMBER(MATCH(INDIRECT(\"H\"&$A$1&\"!B2:AF2\"),DimFe,0))*IFERROR(IF(\"19:00\"<=IFERROR(Hgauche,0),IF(durée6<0,0,durée6),IF(durée<0,0,durée)),0))+SUMPRODUCT(ISNUMBER(MATCH(INDIRECT(\"H\"&$A$1&\"!B2:AF2\"),moindimfe,0))*IFERROR(IF(\"19:00\"<=IFERROR(Hgauche,0),IF(durée2<0,0,durée2),\"00:00\"),0))","v":0},{"$f":"SUMPRODUCT(1*IF(durée<0,0,durée))+SUMPRODUCT(1*IFERROR(IF(\"19:00\"<=IFERROR(Hgauche,0),IF(durée2<0,0,durée2),\"00:00\"),0))-durée5","v":0},null,0,{"$f":"VLOOKUP($A38,Bilan!A38:AI86,35,FALSE)","v":0},null,{"$f":"Bilan!AN38","v":{"$error":"#VALUE!"}},65,null,0]
[{"$f":"Données!$H36","v":0},0,0,0,0,0,0,0,0,0,0,0,0,0,0,0,0,0,0,0,0,0,0,0,0,0,0,"00:00:00","00:00:00",null,{"$f":"SUMPRODUCT(ISNUMBER(MATCH(INDIRECT(\"H\"&$A$1&\"!B2:AF2\"),DimFe,0))*IFERROR(IF(\"19:00\">=IFERROR(Hgauche,0),IFERROR(hdroite-Hgauche,0),IF(durée1>0,durée1,\"00:00\")),0))+SUMPRODUCT(ISNUMBER(MATCH(INDIRECT(\"H\"&$A$1&\"!B2:AF2\"),moindimfe,0))*IFERROR(IF(\"19:00\"<=IFERROR(Hgauche,0),IF(durée4<0,0,durée4),\"00:00\"),0))","v":0},{"$f":"SUMPRODUCT(ISNUMBER(MATCH(INDIRECT(\"H\"&$A$1&\"!B2:AF2\"),DimFe,0))*IFERROR(IF(\"19:00\"<=IFERROR(Hgauche,0),IF(durée6<0,0,durée6),IF(durée<0,0,durée)),0))+SUMPRODUCT(ISNUMBER(MATCH(INDIRECT(\"H\"&$A$1&\"!B2:AF2\"),moindimfe,0))*IFERROR(IF(\"19:00\"<=IFERROR(Hgauche,0),IF(durée2<0,0,durée2),\"00:00\"),0))","v":0},{"$f":"SUMPRODUCT(1*IF(durée<0,0,durée))+SUMPRODUCT(1*IFERROR(IF(\"19:00\"<=IFERROR(Hgauche,0),IF(durée2<0,0,durée2),\"00:00\"),0))-durée5","v":0},null,0,{"$f":"VLOOKUP($A39,Bilan!A39:AI87,35,FALSE)","v":0},null,{"$f":"Bilan!AN39","v":{"$error":"#VALUE!"}},65,null,0]
[{"$f":"Données!$H37","v":0},0,0,0,0,0,0,0,0,0,0,0,0,0,0,0,0,0,0,0,0,0,0,0,0,0,0,"00:00:00","00:00:00",null,{"$f":"SUMPRODUCT(ISNUMBER(MATCH(INDIRECT(\"H\"&$A$1&\"!B2:AF2\"),DimFe,0))*IFERROR(IF(\"19:00\">=IFERROR(Hgauche,0),IFERROR(hdroite-Hgauche,0),IF(durée1>0,durée1,\"00:00\")),0))+SUMPRODUCT(ISNUMBER(MATCH(INDIRECT(\"H\"&$A$1&\"!B2:AF2\"),moindimfe,0))*IFERROR(IF(\"19:00\"<=IFERROR(Hgauche,0),IF(durée4<0,0,durée4),\"00:00\"),0))","v":0},{"$f":"SUMPRODUCT(ISNUMBER(MATCH(INDIRECT(\"H\"&$A$1&\"!B2:AF2\"),DimFe,0))*IFERROR(IF(\"19:00\"<=IFERROR(Hgauche,0),IF(durée6<0,0,durée6),IF(durée<0,0,durée)),0))+SUMPRODUCT(ISNUMBER(MATCH(INDIRECT(\"H\"&$A$1&\"!B2:AF2\"),moindimfe,0))*IFERROR(IF(\"19:00\"<=IFERROR(Hgauche,0),IF(durée2<0,0,durée2),\"00:00\"),0))","v":0},{"$f":"SUMPRODUCT(1*IF(durée<0,0,durée))+SUMPRODUCT(1*IFERROR(IF(\"19:00\"<=IFERROR(Hgauche,0),IF(durée2<0,0,durée2),\"00:00\"),0))-durée5","v":0},null,0,{"$f":"VLOOKUP($A40,Bilan!A40:AI88,35,FALSE)","v":0},null,{"$f":"Bilan!AN40","v":{"$error":"#VALUE!"}},65,null,0]
[{"$f":"Données!$H38","v":0},0,0,0,0,0,0,0,0,0,0,0,0,0,0,0,0,0,0,0,0,0,0,0,0,0,0,"00:00:00","00:00:00",null,{"$f":"SUMPRODUCT(ISNUMBER(MATCH(INDIRECT(\"H\"&$A$1&\"!B2:AF2\"),DimFe,0))*IFERROR(IF(\"19:00\">=IFERROR(Hgauche,0),IFERROR(hdroite-Hgauche,0),IF(durée1>0,durée1,\"00:00\")),0))+SUMPRODUCT(ISNUMBER(MATCH(INDIRECT(\"H\"&$A$1&\"!B2:AF2\"),moindimfe,0))*IFERROR(IF(\"19:00\"<=IFERROR(Hgauche,0),IF(durée4<0,0,durée4),\"00:00\"),0))","v":0},{"$f":"SUMPRODUCT(ISNUMBER(MATCH(INDIRECT(\"H\"&$A$1&\"!B2:AF2\"),DimFe,0))*IFERROR(IF(\"19:00\"<=IFERROR(Hgauche,0),IF(durée6<0,0,durée6),IF(durée<0,0,durée)),0))+SUMPRODUCT(ISNUMBER(MATCH(INDIRECT(\"H\"&$A$1&\"!B2:AF2\"),moindimfe,0))*IFERROR(IF(\"19:00\"<=IFERROR(Hgauche,0),IF(durée2<0,0,durée2),\"00:00\"),0))","v":0},{"$f":"SUMPRODUCT(1*IF(durée<0,0,durée))+SUMPRODUCT(1*IFERROR(IF(\"19:00\"<=IFERROR(Hgauche,0),IF(durée2<0,0,durée2),\"00:00\"),0))-durée5","v":0},null,0,{"$f":"VLOOKUP($A41,Bilan!A41:AI89,35,FALSE)","v":0},null,{"$f":"Bilan!AN41","v":{"$error":"#VALUE!"}},65,null,0]
[{"$f":"Données!$H39","v":0},0,0,0,0,0,0,0,0,0,0,0,0,0,0,0,0,0,0,0,0,0,0,0,0,0,0,"00:00:00","00:00:00",null,{"$f":"SUMPRODUCT(ISNUMBER(MATCH(INDIRECT(\"H\"&$A$1&\"!B2:AF2\"),DimFe,0))*IFERROR(IF(\"19:00\">=IFERROR(Hgauche,0),IFERROR(hdroite-Hgauche,0),IF(durée1>0,durée1,\"00:00\")),0))+SUMPRODUCT(ISNUMBER(MATCH(INDIRECT(\"H\"&$A$1&\"!B2:AF2\"),moindimfe,0))*IFERROR(IF(\"19:00\"<=IFERROR(Hgauche,0),IF(durée4<0,0,durée4),\"00:00\"),0))","v":0},{"$f":"SUMPRODUCT(ISNUMBER(MATCH(INDIRECT(\"H\"&$A$1&\"!B2:AF2\"),DimFe,0))*IFERROR(IF(\"19:00\"<=IFERROR(Hgauche,0),IF(durée6<0,0,durée6),IF(durée<0,0,durée)),0))+SUMPRODUCT(ISNUMBER(MATCH(INDIRECT(\"H\"&$A$1&\"!B2:AF2\"),moindimfe,0))*IFERROR(IF(\"19:00\"<=IFERROR(Hgauche,0),IF(durée2<0,0,durée2),\"00:00\"),0))","v":0},{"$f":"SUMPRODUCT(1*IF(durée<0,0,durée))+SUMPRODUCT(1*IFERROR(IF(\"19:00\"<=IFERROR(Hgauche,0),IF(durée2<0,0,durée2),\"00:00\"),0))-durée5","v":0},null,0,{"$f":"VLOOKUP($A42,Bilan!A42:AI90,35,FALSE)","v":0},null,{"$f":"Bilan!AN42","v":{"$error":"#VALUE!"}},65,null,0]
[{"$f":"Données!$H40","v":0},0,0,0,0,0,0,0,0,0,0,0,0,0,0,0,0,0,0,0,0,0,0,0,0,0,0,"00:00:00","00:00:00",null,{"$f":"SUMPRODUCT(ISNUMBER(MATCH(INDIRECT(\"H\"&$A$1&\"!B2:AF2\"),DimFe,0))*IFERROR(IF(\"19:00\">=IFERROR(Hgauche,0),IFERROR(hdroite-Hgauche,0),IF(durée1>0,durée1,\"00:00\")),0))+SUMPRODUCT(ISNUMBER(MATCH(INDIRECT(\"H\"&$A$1&\"!B2:AF2\"),moindimfe,0))*IFERROR(IF(\"19:00\"<=IFERROR(Hgauche,0),IF(durée4<0,0,durée4),\"00:00\"),0))","v":0},{"$f":"SUMPRODUCT(ISNUMBER(MATCH(INDIRECT(\"H\"&$A$1&\"!B2:AF2\"),DimFe,0))*IFERROR(IF(\"19:00\"<=IFERROR(Hgauche,0),IF(durée6<0,0,durée6),IF(durée<0,0,durée)),0))+SUMPRODUCT(ISNUMBER(MATCH(INDIRECT(\"H\"&$A$1&\"!B2:AF2\"),moindimfe,0))*IFERROR(IF(\"19:00\"<=IFERROR(Hgauche,0),IF(durée2<0,0,durée2),\"00:00\"),0))","v":0},{"$f":"SUMPRODUCT(1*IF(durée<0,0,durée))+SUMPRODUCT(1*IFERROR(IF(\"19:00\"<=IFERROR(Hgauche,0),IF(durée2<0,0,durée2),\"00:00\"),0))-durée5","v":0},null,0,{"$f":"VLOOKUP($A43,Bilan!A43:AI91,35,FALSE)","v":0},null,{"$f":"Bilan!AN43","v":{"$error":"#VALUE!"}},65,null,0]
[{"$f":"Données!$H41","v":0},0,0,0,0,0,0,0,0,0,0,0,0,0,0,0,0,0,0,0,0,0,0,0,0,0,0,"00:00:00","00:00:00",null,{"$f":"SUMPRODUCT(ISNUMBER(MATCH(INDIRECT(\"H\"&$A$1&\"!B2:AF2\"),DimFe,0))*IFERROR(IF(\"19:00\">=IFERROR(Hgauche,0),IFERROR(hdroite-Hgauche,0),IF(durée1>0,durée1,\"00:00\")),0))+SUMPRODUCT(ISNUMBER(MATCH(INDIRECT(\"H\"&$A$1&\"!B2:AF2\"),moindimfe,0))*IFERROR(IF(\"19:00\"<=IFERROR(Hgauche,0),IF(durée4<0,0,durée4),\"00:00\"),0))","v":0},{"$f":"SUMPRODUCT(ISNUMBER(MATCH(INDIRECT(\"H\"&$A$1&\"!B2:AF2\"),DimFe,0))*IFERROR(IF(\"19:00\"<=IFERROR(Hgauche,0),IF(durée6<0,0,durée6),IF(durée<0,0,durée)),0))+SUMPRODUCT(ISNUMBER(MATCH(INDIRECT(\"H\"&$A$1&\"!B2:AF2\"),moindimfe,0))*IFERROR(IF(\"19:00\"<=IFERROR(Hgauche,0),IF(durée2<0,0,durée2),\"00:00\"),0))","v":0},{"$f":"SUMPRODUCT(1*IF(durée<0,0,durée))+SUMPRODUCT(1*IFERROR(IF(\"19:00\"<=IFERROR(Hgauche,0),IF(durée2<0,0,durée2),\"00:00\"),0))-durée5","v":0},null,0,{"$f":"VLOOKUP($A44,Bilan!A44:AI92,35,FALSE)","v":0},null,{"$f":"Bilan!AN44","v":{"$error":"#VALUE!"}},65,null,0]
[{"$f":"Données!$H42","v":"Psychologue"}]
[{"$f":"Données!$H43","v":"O"},{"$f":"IF(SUMPRODUCT((INDIRECT(\"'\"&$A$1&\"'!$A$7:$A$56\")=$A46)*(INDIRECT(\"'\"&$A$1&\"'!$B$7:$AF$56\")=B$7))=0,\"\",SUMPRODUCT((INDIRECT(\"'\"&$A$1&\"'!$A$7:$A$56\")=$A46)*(INDIRECT(\"'\"&$A$1&\"'!$B$7:$AF$56\")=B$7)))","v":""},"","","","","","","","","","","","","","","","","","","","","","","","","",{"$f":"VLOOKUP($A46,INDIRECT(\"'\"&$A$1&\"'!$A$7:$AR$56\"),35,0)","v":"00:00:00"},{"$f":"VLOOKUP($A46,INDIRECT(\"'\"&$A$1&\"'!$A$7:$AR$56\"),36,0)","v":"00:00:00"},null,{"$f":"SUMPRODUCT(ISNUMBER(MATCH(INDIRECT(\"H\"&$A$1&\"!B2:AF2\"),DimFe,0))*IFERROR(IF(\"19:00\">=IFERROR(Hgauche,0),IFERROR(hdroite-Hgauche,0),IF(durée1>0,durée1,\"00:00\")),0))+SUMPRODUCT(ISNUMBER(MATCH(INDIRECT(\"H\"&$A$1&\"!B2:AF2\"),moindimfe,0))*IFERROR(IF(\"19:00\"<=IFERROR(Hgauche,0),IF(durée4<0,0,durée4),\"00:00\"),0))","v":0},{"$f":"SUMPRODUCT(ISNUMBER(MATCH(INDIRECT(\"H\"&$A$1&\"!B2:AF2\"),DimFe,0))*IFERROR(IF(\"19:00\"<=IFERROR(Hgauche,0),IF(durée6<0,0,durée6),IF(durée<0,0,durée)),0))+SUMPRODUCT(ISNUMBER(MATCH(INDIRECT(\"H\"&$A$1&\"!B2:AF2\"),moindimfe,0))*IFERROR(IF(\"19:00\"<=IFERROR(Hgauche,0),IF(durée2<0,0,durée2),\"00:00\"),0))","v":0},{"$f":"SUM(SUMPRODUCT(1*IFERROR(IF(\"19:00\"<=IFERROR(Hgauche,0),IF(durée2<0,0,durée2),\"00:00\"),0)),SUMPRODUCT(1*IFERROR(IF(\"19:00\"<=IFERROR(Hgauche,0),IF(durée6<0,0,durée6),\"00:00\"),0)),SUMPRODUCT(1*IFERROR(IF(\"21:00\"<=IFERROR(Hdroitesimple,0),IF(durée<0,0,durée),\"00:00\"),0)))-durée5","v":0},null,{"$f":"bilanh","v":0},{"$f":"VLOOKUP($A46,Bilan!$A$9:$AQ94,37,FALSE)","v":63},null,{"$f":"Bilan!AN46","v":65},65,null,{"$f":"Jourtravaillé","v":0}]
[{"$f":"Données!$H44","v":0},{"$f":"SUMPRODUCT((INDIRECT(\"'\"&$A$1&\"'!$A$7:$A$56\")=$A47)*(INDIRECT(\"'\"&$A$1&\"'!$B$7:$AF$56\")=B$7))","v":0},0,0,0,0,0,0,0,0,0,0,0,0,0,0,0,{"$f":"SUMPRODUCT((INDIRECT(\"'\"&$A$1&\"'!$A$7:$A$56\")=$A47)*(INDIRECT(\"'\"&$A$1&\"'!$B$7:$AF$56\")=R$7))","v":0},0,0,0,0,0,0,0,0,0,{"$f":"VLOOKUP($A47,INDIRECT(\"'H\"&$A$1&\"'!$A$7:$AR$56\"),35,0)","v":"00:00:00"},{"$f":"VLOOKUP($A47,INDIRECT(\"'H\"&$A$1&\"'!$A$7:$AR$56\"),38,0)","v":"00:00:00"},null,{"$f":"SUMPRODUCT(ISNUMBER(MATCH(INDIRECT(\"H\"&$A$1&\"!B2:AF2\"),DimFe,0))*IFERROR(IF(\"19:00\">=IFERROR(Hgauche,0),IFERROR(hdroite-Hgauche,0),IF(durée1>0,durée1,\"00:00\")),0))+SUMPRODUCT(ISNUMBER(MATCH(INDIRECT(\"H\"&$A$1&\"!B2:AF2\"),moindimfe,0))*IFERROR(IF(\"19:00\"<=IFERROR(Hgauche,0),IF(durée4<0,0,durée4),\"00:00\"),0))","v":0},{"$f":"SUMPRODUCT(ISNUMBER(MATCH(INDIRECT(\"H\"&$A$1&\"!B2:AF2\"),DimFe,0))*IFERROR(IF(\"19:00\"<=IFERROR(Hgauche,0),IF(durée6<0,0,durée6),IF(durée<0,0,durée)),0))+SUMPRODUCT(ISNUMBER(MATCH(INDIRECT(\"H\"&$A$1&\"!B2:AF2\"),moindimfe,0))*IFERROR(IF(\"19:00\"<=IFERROR(Hgauche,0),IF(durée2<0,0,durée2),\"00:00\"),0))","v":0},{"$f":"SUMPRODUCT(1*IF(durée<0,0,durée))+SUMPRODUCT(1*IFERROR(IF(\"19:00\"<=IFERROR(Hgauche,0),IF(durée2<0,0,durée2),\"00:00\"),0))-durée5","v":0},null,{"$f":"(AB47/24)+SUMPRODUCT(($B$6:$AA$6)*(B47:AA47))","v":0},{"$f":"VLOOKUP($A47,Bilan!A47:AI95,35,FALSE)","v":0},null,{"$f":"Bilan!AN47","v":65},65,null,{"$f":"SUM(B47:R47)","v":0}]
[{"$f":"Données!$H45","v":0},0,0,0,0,0,0,0,0,0,0,0,0,0,0,0,0,0,0,0,0,0,0,0,0,0,0,{"$f":"VLOOKUP($A48,INDIRECT(\"'H\"&$A$1&\"'!$A$7:$AR$56\"),35,0)","v":"00:00:00"},{"$f":"VLOOKUP($A48,INDIRECT(\"'H\"&$A$1&\"'!$A$7:$AR$56\"),38,0)","v":"00:00:00"},null,{"$f":"SUMPRODUCT(ISNUMBER(MATCH(INDIRECT(\"H\"&$A$1&\"!B2:AF2\"),DimFe,0))*IFERROR(IF(\"19:00\">=IFERROR(Hgauche,0),IFERROR(hdroite-Hgauche,0),IF(durée1>0,durée1,\"00:00\")),0))+SUMPRODUCT(ISNUMBER(MATCH(INDIRECT(\"H\"&$A$1&\"!B2:AF2\"),moindimfe,0))*IFERROR(IF(\"19:00\"<=IFERROR(Hgauche,0),IF(durée4<0,0,durée4),\"00:00\"),0))","v":0},{"$f":"SUMPRODUCT(ISNUMBER(MATCH(INDIRECT(\"H\"&$A$1&\"!B2:AF2\"),DimFe,0))*IFERROR(IF(\"19:00\"<=IFERROR(Hgauche,0),IF(durée6<0,0,durée6),IF(durée<0,0,durée)),0))+SUMPRODUCT(ISNUMBER(MATCH(INDIRECT(\"H\"&$A$1&\"!B2:AF2\"),moindimfe,0))*IFERROR(IF(\"19:00\"<=IFERROR(Hgauche,0),IF(durée2<0,0,durée2),\"00:00\"),0))","v":0},{"$f":"SUMPRODUCT(1*IF(durée<0,0,durée))+SUMPRODUCT(1*IFERROR(IF(\"19:00\"<=IFERROR(Hgauche,0),IF(durée2<0,0,durée2),\"00:00\"),0))-durée5","v":0},null,{"$f":"(AB48/24)+SUMPRODUCT(($B$6:$AA$6)*(B48:AA48))","v":0},{"$f":"VLOOKUP($A48,Bilan!A48:AI96,35,FALSE)","v":0},null,{"$f":"Bilan!AN48","v":{"$error":"#VALUE!"}},65,null,{"$f":"SUM(B48:R48)","v":0}]
[{"$f":"Données!$H46","v":"Coordinatrice"}]
[{"$f":"Données!$H47","v":"P"},{"$f":"IF(SUMPRODUCT((INDIRECT(\"'\"&$A$1&\"'!$A$7:$A$56\")=$A50)*(INDIRECT(\"'\"&$A$1&\"'!$B$7:$AF$56\")=B$7))=0,\"\",SUMPRODUCT((INDIRECT(\"'\"&$A$1&\"'!$A$7:$A$56\")=$A50)*(INDIRECT(\"'\"&$A$1&\"'!$B$7:$AF$56\")=B$7)))","v":""},"","","","","","","","","","","","","","","","","","","","","","","","","",{"$f":"VLOOKUP($A50,INDIRECT(\"'\"&$A$1&\"'!$A$7:$AR$56\"),35,0)","v":"00:00:00"},{"$f":"VLOOKUP($A50,INDIRECT(\"'\"&$A$1&\"'!$A$7:$AR$56\"),36,0)","v":"00:00:00"},null,{"$f":"SUMPRODUCT(ISNUMBER(MATCH(INDIRECT(\"H\"&$A$1&\"!B2:AF2\"),DimFe,0))*IFERROR(IF(\"19:00\">=IFERROR(Hgauche,0),IFERROR(hdroite-Hgauche,0),IF(durée1>0,durée1,\"00:00\")),0))+SUMPRODUCT(ISNUMBER(MATCH(INDIRECT(\"H\"&$A$1&\"!B2:AF2\"),moindimfe,0))*IFERROR(IF(\"19:00\"<=IFERROR(Hgauche,0),IF(durée4<0,0,durée4),\"00:00\"),0))","v":0},{"$f":"SUMPRODUCT(ISNUMBER(MATCH(INDIRECT(\"H\"&$A$1&\"!B2:AF2\"),DimFe,0))*IFERROR(IF(\"19:00\"<=IFERROR(Hgauche,0),IF(durée6<0,0,durée6),IF(durée<0,0,durée)),0))+SUMPRODUCT(ISNUMBER(MATCH(INDIRECT(\"H\"&$A$1&\"!B2:AF2\"),moindimfe,0))*IFERROR(IF(\"19:00\"<=IFERROR(Hgauche,0),IF(durée2<0,0,durée2),\"00:00\"),0))","v":0},{"$f":"SUM(SUMPRODUCT(1*IFERROR(IF(\"19:00\"<=IFERROR(Hgauche,0),IF(durée2<0,0,durée2),\"00:00\"),0)),SUMPRODUCT(1*IFERROR(IF(\"19:00\"<=IFERROR(Hgauche,0),IF(durée6<0,0,durée6),\"00:00\"),0)),SUMPRODUCT(1*IFERROR(IF(\"21:00\"<=IFERROR(Hdroitesimple,0),IF(durée<0,0,durée),\"00:00\"),0)))-durée5","v":0},null,{"$f":"bilanh","v":0},{"$f":"VLOOKUP($A50,Bilan!$A$9:$AQ98,37,FALSE)","v":63},null,{"$f":"Bilan!AN50","v":65},65,null,{"$f":"Jourtravaillé","v":0}]
[{"$f":"Données!$H48","v":0},{"$f":"SUMPRODUCT((INDIRECT(\"'\"&$A$1&\"'!$A$7:$A$56\")=$A51)*(INDIRECT(\"'\"&$A$1&\"'!$B$7:$AF$56\")=B$7))","v":0},0,0,0,0,0,0,0,0,0,0,0,0,0,0,0,{"$f":"SUMPRODUCT((INDIRECT(\"'\"&$A$1&\"'!$A$7:$A$56\")=$A51)*(INDIRECT(\"'\"&$A$1&\"'!$B$7:$AF$56\")=R$7))","v":0},0,0,0,0,0,0,0,0,0,{"$f":"VLOOKUP($A51,INDIRECT(\"'H\"&$A$1&\"'!$A$7:$AR$56\"),35,0)","v":"00:00:00"},{"$f":"VLOOKUP($A51,INDIRECT(\"'H\"&$A$1&\"'!$A$7:$AR$56\"),38,0)","v":"00:00:00"},null,{"$f":"SUMPRODUCT(ISNUMBER(MATCH(INDIRECT(\"H\"&$A$1&\"!B2:AF2\"),DimFe,0))*IFERROR(IF(\"19:00\">=IFERROR(Hgauche,0),IFERROR(hdroite-Hgauche,0),IF(durée1>0,durée1,\"00:00\")),0))+SUMPRODUCT(ISNUMBER(MATCH(INDIRECT(\"H\"&$A$1&\"!B2:AF2\"),moindimfe,0))*IFERROR(IF(\"19:00\"<=IFERROR(Hgauche,0),IF(durée4<0,0,durée4),\"00:00\"),0))","v":0},{"$f":"SUMPRODUCT(ISNUMBER(MATCH(INDIRECT(\"H\"&$A$1&\"!B2:AF2\"),DimFe,0))*IFERROR(IF(\"19:00\"<=IFERROR(Hgauche,0),IF(durée6<0,0,durée6),IF(durée<0,0,durée)),0))+SUMPRODUCT(ISNUMBER(MATCH(INDIRECT(\"H\"&$A$1&\"!B2:AF2\"),moindimfe,0))*IFERROR(IF(\"19:00\"<=IFERROR(Hgauche,0),IF(durée2<0,0,durée2),\"00:00\"),0))","v":0},{"$f":"SUMPRODUCT(1*IF(durée<0,0,durée))+SUMPRODUCT(1*IFERROR(IF(\"19:00\"<=IFERROR(Hgauche,0),IF(durée2<0,0,durée2),\"00:00\"),0))-durée5","v":0},null,{"$f":"(AB51/24)+SUMPRODUCT(($B$6:$AA$6)*(B51:AA51))","v":0},{"$f":"VLOOKUP($A51,Bilan!A51:AI99,35,FALSE)","v":0},null,{"$f":"Bilan!AN51","v":66},65,null,{"$f":"SUM(B51:R51)","v":0}]
[{"$f":"Données!$H49","v":0},0,0,0,0,0,0,0,0,0,0,0,0,0,0,0,0,0,0,0,0,0,0,0,0,0,0,{"$f":"VLOOKUP($A52,INDIRECT(\"'H\"&$A$1&\"'!$A$7:$AR$56\"),35,0)","v":"00:00:00"},{"$f":"VLOOKUP($A52,INDIRECT(\"'H\"&$A$1&\"'!$A$7:$AR$56\"),38,0)","v":"00:00:00"},null,{"$f":"SUMPRODUCT(ISNUMBER(MATCH(INDIRECT(\"H\"&$A$1&\"!B2:AF2\"),DimFe,0))*IFERROR(IF(\"19:00\">=IFERROR(Hgauche,0),IFERROR(hdroite-Hgauche,0),IF(durée1>0,durée1,\"00:00\")),0))+SUMPRODUCT(ISNUMBER(MATCH(INDIRECT(\"H\"&$A$1&\"!B2:AF2\"),moindimfe,0))*IFERROR(IF(\"19:00\"<=IFERROR(Hgauche,0),IF(durée4<0,0,durée4),\"00:00\"),0))","v":0},{"$f":"SUMPRODUCT(ISNUMBER(MATCH(INDIRECT(\"H\"&$A$1&\"!B2:AF2\"),DimFe,0))*IFERROR(IF(\"19:00\"<=IFERROR(Hgauche,0),IF(durée6<0,0,durée6),IF(durée<0,0,durée)),0))+SUMPRODUCT(ISNUMBER(MATCH(INDIRECT(\"H\"&$A$1&\"!B2:AF2\"),moindimfe,0))*IFERROR(IF(\"19:00\"<=IFERROR(Hgauche,0),IF(durée2<0,0,durée2),\"00:00\"),0))","v":0},{"$f":"SUMPRODUCT(1*IF(durée<0,0,durée))+SUMPRODUCT(1*IFERROR(IF(\"19:00\"<=IFERROR(Hgauche,0),IF(durée2<0,0,durée2),\"00:00\"),0))-durée5","v":0},null,{"$f":"(AB52/24)+SUMPRODUCT(($B$6:$AA$6)*(B52:AA52))","v":0},{"$f":"VLOOKUP($A52,Bilan!A52:AI100,35,FALSE)","v":0},null,{"$f":"Bilan!AN52","v":{"$error":"#VALUE!"}},66,null,{"$f":"SUM(B52:R52)","v":0}]
[{"$f":"Données!$H50","v":0},0,0,0,0,0,0,0,0,0,0,0,0,0,0,0,0,0,0,0,0,0,0,0,0,0,0,{"$f":"VLOOKUP($A53,INDIRECT(\"'H\"&$A$1&\"'!$A$7:$AR$56\"),35,0)","v":"00:00:00"},{"$f":"VLOOKUP($A53,INDIRECT(\"'H\"&$A$1&\"'!$A$7:$AR$56\"),38,0)","v":"00:00:00"},null,{"$f":"SUMPRODUCT(ISNUMBER(MATCH(INDIRECT(\"H\"&$A$1&\"!B2:AF2\"),DimFe,0))*IFERROR(IF(\"19:00\">=IFERROR(Hgauche,0),IFERROR(hdroite-Hgauche,0),IF(durée1>0,durée1,\"00:00\")),0))+SUMPRODUCT(ISNUMBER(MATCH(INDIRECT(\"H\"&$A$1&\"!B2:AF2\"),moindimfe,0))*IFERROR(IF(\"19:00\"<=IFERROR(Hgauche,0),IF(durée4<0,0,durée4),\"00:00\"),0))","v":0},{"$f":"SUMPRODUCT(ISNUMBER(MATCH(INDIRECT(\"H\"&$A$1&\"!B2:AF2\"),DimFe,0))*IFERROR(IF(\"19:00\"<=IFERROR(Hgauche,0),IF(durée6<0,0,durée6),IF(durée<0,0,durée)),0))+SUMPRODUCT(ISNUMBER(MATCH(INDIRECT(\"H\"&$A$1&\"!B2:AF2\"),moindimfe,0))*IFERROR(IF(\"19:00\"<=IFERROR(Hgauche,0),IF(durée2<0,0,durée2),\"00:00\"),0))","v":0},{"$f":"SUMPRODUCT(1*IF(durée<0,0,durée))+SUMPRODUCT(1*IFERROR(IF(\"19:00\"<=IFERROR(Hgauche,0),IF(durée2<0,0,durée2),\"00:00\"),0))-durée5","v":0},null,{"$f":"(AB53/24)+SUMPRODUCT(($B$6:$AA$6)*(B53:AA53))","v":0},{"$f":"VLOOKUP($A53,Bilan!A53:AI101,35,FALSE)","v":0},null,{"$f":"Bilan!AN53","v":{"$error":"#VALUE!"}},67,null,{"$f":"SUM(B53:R53)","v":0}]
[{"$f":"Données!$H51","v":0},0,0,0,0,0,0,0,0,0,0,0,0,0,0,0,0,0,0,0,0,0,0,0,0,0,0,{"$f":"VLOOKUP($A54,INDIRECT(\"'H\"&$A$1&\"'!$A$7:$AR$56\"),35,0)","v":"00:00:00"},{"$f":"VLOOKUP($A54,INDIRECT(\"'H\"&$A$1&\"'!$A$7:$AR$56\"),38,0)","v":"00:00:00"},null,{"$f":"SUMPRODUCT(ISNUMBER(MATCH(INDIRECT(\"H\"&$A$1&\"!B2:AF2\"),DimFe,0))*IFERROR(IF(\"19:00\">=IFERROR(Hgauche,0),IFERROR(hdroite-Hgauche,0),IF(durée1>0,durée1,\"00:00\")),0))+SUMPRODUCT(ISNUMBER(MATCH(INDIRECT(\"H\"&$A$1&\"!B2:AF2\"),moindimfe,0))*IFERROR(IF(\"19:00\"<=IFERROR(Hgauche,0),IF(durée4<0,0,durée4),\"00:00\"),0))","v":0},{"$f":"SUMPRODUCT(ISNUMBER(MATCH(INDIRECT(\"H\"&$A$1&\"!B2:AF2\"),DimFe,0))*IFERROR(IF(\"19:00\"<=IFERROR(Hgauche,0),IF(durée6<0,0,durée6),IF(durée<0,0,durée)),0))+SUMPRODUCT(ISNUMBER(MATCH(INDIRECT(\"H\"&$A$1&\"!B2:AF2\"),moindimfe,0))*IFERROR(IF(\"19:00\"<=IFERROR(Hgauche,0),IF(durée2<0,0,durée2),\"00:00\"),0))","v":0},{"$f":"SUMPRODUCT(1*IF(durée<0,0,durée))+SUMPRODUCT(1*IFERROR(IF(\"19:00\"<=IFERROR(Hgauche,0),IF(durée2<0,0,durée2),\"00:00\"),0))-durée5","v":0},null,{"$f":"(AB54/24)+SUMPRODUCT(($B$6:$AA$6)*(B54:AA54))","v":0},{"$f":"VLOOKUP($A54,Bilan!A54:AI102,35,FALSE)","v":0},null,{"$f":"Bilan!AN54","v":{"$error":"#VALUE!"}},68,null,{"$f":"SUM(B54:R54)","v":0}]
[{"$f":"Données!$H52","v":"Chef de service"}]
[{"$f":"Données!$H53","v":"Q"},{"$f":"IF(SUMPRODUCT((INDIRECT(\"'\"&$A$1&\"'!$A$7:$A$56\")=$A56)*(INDIRECT(\"'\"&$A$1&\"'!$B$7:$AF$56\")=B$7))=0,\"\",SUMPRODUCT((INDIRECT(\"'\"&$A$1&\"'!$A$7:$A$56\")=$A56)*(INDIRECT(\"'\"&$A$1&\"'!$B$7:$AF$56\")=B$7)))","v":""},"","","","","","","","","","","","","","","","","","","","","","","","","",{"$f":"VLOOKUP($A56,INDIRECT(\"'\"&$A$1&\"'!$A$7:$AR$56\"),35,0)","v":"00:00:00"},{"$f":"VLOOKUP($A56,INDIRECT(\"'\"&$A$1&\"'!$A$7:$AR$56\"),36,0)","v":"00:00:00"},null,{"$f":"SUMPRODUCT(ISNUMBER(MATCH(INDIRECT(\"H\"&$A$1&\"!B2:AF2\"),DimFe,0))*IFERROR(IF(\"19:00\">=IFERROR(Hgauche,0),IFERROR(hdroite-Hgauche,0),IF(durée1>0,durée1,\"00:00\")),0))+SUMPRODUCT(ISNUMBER(MATCH(INDIRECT(\"H\"&$A$1&\"!B2:AF2\"),moindimfe,0))*IFERROR(IF(\"19:00\"<=IFERROR(Hgauche,0),IF(durée4<0,0,durée4),\"00:00\"),0))","v":0},{"$f":"SUMPRODUCT(ISNUMBER(MATCH(INDIRECT(\"H\"&$A$1&\"!B2:AF2\"),DimFe,0))*IFERROR(IF(\"19:00\"<=IFERROR(Hgauche,0),IF(durée6<0,0,durée6),IF(durée<0,0,durée)),0))+SUMPRODUCT(ISNUMBER(MATCH(INDIRECT(\"H\"&$A$1&\"!B2:AF2\"),moindimfe,0))*IFERROR(IF(\"19:00\"<=IFERROR(Hgauche,0),IF(durée2<0,0,durée2),\"00:00\"),0))","v":0},{"$f":"SUM(SUMPRODUCT(1*IFERROR(IF(\"19:00\"<=IFERROR(Hgauche,0),IF(durée2<0,0,durée2),\"00:00\"),0)),SUMPRODUCT(1*IFERROR(IF(\"19:00\"<=IFERROR(Hgauche,0),IF(durée6<0,0,durée6),\"00:00\"),0)),SUMPRODUCT(1*IFERROR(IF(\"21:00\"<=IFERROR(Hdroitesimple,0),IF(durée<0,0,durée),\"00:00\"),0)))-durée5","v":0},null,{"$f":"bilanh","v":0},{"$f":"VLOOKUP($A56,Bilan!$A$9:$AQ104,37,FALSE)","v":63},null,{"$f":"Bilan!AN56","v":65},65,null,{"$f":"Jourtravaillé","v":0}]

{"sheet":"BJuin","index":31,"n_rows":56,"n_cols":66,"rows_kept":56,"cut":false,"hidden":false,"merged":[[7,37,7,38],[6,27,7,27],[6,28,7,28],[6,30,7,30],[6,31,7,31],[6,32,7,32],[7,34,7,35]]}
["Juin"]
[null,null,{"$f":"LEFT(OFFSET(INDIRECT(\"H\"&$A$1&\"!B8:AF8\"),MATCH($A9,INDIRECT(\"H\"&$A$1&\"!A9:A56\"),0),),5)","v":""}]
[null,null,{"$f":"RIGHT(OFFSET(INDIRECT(\"H\"&$A$1&\"!B8:AF8\"),MATCH($A3,INDIRECT(\"H\"&$A$1&\"!A9:A56\"),0),),5)","v":""}]
[]
[]
["Jours",{"$f":"Données!$E3","v":0.31597222222222227},{"$f":"Données!$E4","v":0.10763888888888884},{"$f":"Données!$E5","v":0.31249999999999994},{"$f":"Données!$E6","v":0.32291666666666669},{"$f":"Données!$E7","v":8.3333333333333315E-2},{"$f":"Données!$E8","v":0.47916666666666669},{"$f":"Données!$E9","v":0.3125},{"$f":"Données!$E10","v":0.48958333333333337},{"$f":"Données!$E11","v":0.47916666666666669},{"$f":"Données!$E12","v":0.51041666666666674},{"$f":"Données!$E13","v":0.51041666666666674},{"$f":"Données!$E14","v":0.44791666666666663},{"$f":"Données!$E15","v":0.49999999999999989},{"$f":"Données!$E16","v":0.49999999999999989},{"$f":"Données!$E17","v":0.5},{"$f":"Données!$E18","v":0.29166666666666669},{"$f":"Données!$E19","v":0.3125},{"$f":"Données!$E20","v":0.3125},{"$f":"Données!$E21","v":0.3125},{"$f":"Données!$E22","v":0.3125},{"$f":"Données!$E23","v":0.3125},{"$f":"Données!$E24","v":0},{"$f":"Données!$E25","v":0},{"$f":"Données!$E26","v":0},{"$f":"Données!$E27","v":0.33333333333333331},{"$f":"Données!$E28","v":0}]
[null,{"$f":"Données!$A3","v":"M"},{"$f":"Données!$A4","v":"MG"},{"$f":"Données!$A5","v":"J"},{"$f":"Données!$A6","v":"J+"},{"$f":"Données!$A7","v":"R"},{"$f":"Données!$A8","v":"RS"},{"$f":"Données!$A9","v":"S"},{"$f":"Données!$A10","v":"W"},{"$f":"Données!$A11","v":"W+"},{"$f":"Données!$A12","v":"WD"},{"$f":"Données!$A13","v":"WF"},{"$f":"Données!$A14","v":"N"},{"$f":"Données!$A15","v":"N+"},{"$f":"Données!$A16","v":"NS"},{"$f":"Données!$A17","v":"T"},{"$f":"Données!$A18","v":"F"},{"$f":"Données!$A19","v":"SYN"},{"$f":"Données!$A20","v":"AT"},{"$f":"Données!$A21","v":"AM"},{"$f":"Données!$A22","v":"EM"},{"$f":"Données!$A23","v":"CE"},{"$f":"Données!$A24","v":"CA"},{"$f":"Données!$A25","v":"CA16"},{"$f":"Données!$A26","v":"REC"},{"$f":"Données!$A27","v":"PL"},{"$f":"Données!$A28","v":"D"},"Heures\nSupplémentaires \navant 21 h","Heures\nSupplémentaires \naprès 21 h",null,"Heures dimanche","Heures de nuit dimanches","Heures apres 21 h"]
["Equipe de jour",{"$f":"IF(ISBLANK(Données!$C3),TEXT(Données!$B3,\"hh:mm\"),TEXT(Données!$B3,\"hh:mm\")&\" : \"&TEXT(Données!$C3,\"hh:mm\"))","v":"07:00 : 14:35"},{"$f":"IF(ISBLANK(Données!$C4),TEXT(Données!$B4,\"hh:mm\"),TEXT(Données!$B4,\"hh:mm\")&\" : \"&TEXT(Données!$C4,\"hh:mm\"))","v":"23:00 : 01:35"},{"$f":"IF(ISBLANK(Données!$C5),TEXT(Données!$B5,\"hh:mm\"),TEXT(Données!$B5,\"hh:mm\")&\" : \"&TEXT(Données!$C5,\"hh:mm\"))","v":"10:00 : 17:30"},{"$f":"IF(ISBLANK(Données!$C6),TEXT(Données!$B6,\"hh:mm\"),TEXT(Données!$B6,\"hh:mm\")&\" : \"&TEXT(Données!$C6,\"hh:mm\"))","v":"11:30 : 19:15"},{"$f":"IF(ISBLANK(Données!$C7),TEXT(Données!$B7,\"hh:mm\"),TEXT(Données!$B7,\"hh:mm\")&\" : \"&TEXT(Données!$C7,\"hh:mm\"))","v":"10:00 : 12:00"},{"$f":"IF(ISBLANK(Données!$C8),TEXT(Données!$B8,\"hh:mm\"),TEXT(Données!$B8,\"hh:mm\")&\" : \"&TEXT(Données!$C8,\"hh:mm\"))","v":"10:00 : 21:30"},{"$f":"IF(ISBLANK(Données!$C9),TEXT(Données!$B9,\"hh:mm\"),TEXT(Données!$B9,\"hh:mm\")&\" : \"&TEXT(Données!$C9,\"hh:mm\"))","v":"14:00 : 21:30"},{"$f":"IF(ISBLANK(Données!$C10),TEXT(Données!$B10,\"hh:mm\"),TEXT(Données!$B10,\"hh:mm\")&\" : \"&TEXT(Données!$C10,\"hh:mm\"))","v":"07:30 : 19:15"},{"$f":"IF(ISBLANK(Données!$C11),TEXT(Données!$B11,\"hh:mm\"),TEXT(Données!$B11,\"hh:mm\")&\" : \"&TEXT(Données!$C11,\"hh:mm\"))","v":"10:00 : 21:30"},{"$f":"IF(ISBLANK(Données!$C12),TEXT(Données!$B12,\"hh:mm\"),TEXT(Données!$B12,\"hh:mm\")&\" : \"&TEXT(Données!$C12,\"hh:mm\"))","v":"07:00 : 19:15"},{"$f":"IF(ISBLANK(Données!$C13),TEXT(Données!$B13,\"hh:mm\"),TEXT(Données!$B13,\"hh:mm\")&\" : \"&TEXT(Données!$C13,\"hh:mm\"))","v":"07:00 : 19:15"},{"$f":"IF(ISBLANK(Données!$C14),TEXT(Données!$B14,\"hh:mm\"),TEXT(Données!$B14,\"hh:mm\")&\" : \"&TEXT(Données!$C14,\"hh:mm\"))","v":"20:30 : 07:15"},{"$f":"IF(ISBLANK(Données!$C15),TEXT(Données!$B15,\"hh:mm\"),TEXT(Données!$B15,\"hh:mm\")&\" : \"&TEXT(Données!$C15,\"hh:mm\"))","v":"19:15 : 07:15"},{"$f":"IF(ISBLANK(Données!$C16),TEXT(Données!$B16,\"hh:mm\"),TEXT(Données!$B16,\"hh:mm\")&\" : \"&TEXT(Données!$C16,\"hh:mm\"))","v":"19:15 : 07:15"},{"$f":"IF(ISBLANK(Données!$C17),TEXT(Données!$B17,\"hh:mm\"),TEXT(Données!$B17,\"hh:mm\")&\" : \"&TEXT(Données!$C17,\"hh:mm\"))","v":"T"},{"$f":"IF(ISBLANK(Données!$C18),TEXT(Données!$B18,\"hh:mm\"),TEXT(Données!$B18,\"hh:mm\")&\" : \"&TEXT(Données!$C18,\"hh:mm\"))","v":"F"},{"$f":"IF(ISBLANK(Données!$C19),TEXT(Données!$B19,\"hh:mm\"),TEXT(Données!$B19,\"hh:mm\")&\" : \"&TEXT(Données!$C19,\"hh:mm\"))","v":"Syn"},{"$f":"IF(ISBLANK(Données!$C20),TEXT(Données!$B20,\"hh:mm\"),TEXT(Données!$B20,\"hh:mm\")&\" : \"&TEXT(Données!$C20,\"hh:mm\"))","v":"AT"},{"$f":"IF(ISBLANK(Données!$C21),TEXT(Données!$B21,\"hh:mm\"),TEXT(Données!$B21,\"hh:mm\")&\" : \"&TEXT(Données!$C21,\"hh:mm\"))","v":"AM"},{"$f":"IF(ISBLANK(Données!$C22),TEXT(Données!$B22,\"hh:mm\"),TEXT(Données!$B22,\"hh:mm\")&\" : \"&TEXT(Données!$C22,\"hh:mm\"))","v":"EM"},{"$f":"IF(ISBLANK(Données!$C23),TEXT(Données!$B23,\"hh:mm\"),TEXT(Données!$B23,\"hh:mm\")&\" : \"&TEXT(Données!$C23,\"hh:mm\"))","v":"CE"},{"$f":"IF(ISBLANK(Données!$C24),TEXT(Données!$B24,\"hh:mm\"),TEXT(Données!$B24,\"hh:mm\")&\" : \"&TEXT(Données!$C24,\"hh:mm\"))","v":"CA"},{"$f":"IF(ISBLANK(Données!$C25),TEXT(Données!$B25,\"hh:mm\"),TEXT(Données!$B25,\"hh:mm\")&\" : \"&TEXT(Données!$C25,\"hh:mm\"))","v":"CA16"},{"$f":"IF(ISBLANK(Données!$C26),TEXT(Données!$B26,\"hh:mm\"),TEXT(Données!$B26,\"hh:mm\")&\" : \"&TEXT(Données!$C26,\"hh:mm\"))","v":"REC"},{"$f":"IF(ISBLANK(Données!$C27),TEXT(Données!$B27,\"hh:mm\"),TEXT(Données!$B27,\"hh:mm\")&\" : \"&TEXT(Données!$C27,\"hh:mm\"))","v":"PL"},{"$f":"IF(ISBLANK(Données!$C28),TEXT(Données!$B28,\"hh:mm\"),TEXT(Données!$B28,\"hh:mm\")&\" : \"&TEXT(Données!$C28,\"hh:mm\"))","v":"D"},null,null,null,null,null,null,null,"Total ",null,null,"CA",null,null,"Jour travaillé"]
[{"$f":"Données!$H6","v":"A"},{"$f":"IF(SUMPRODUCT((INDIRECT(\"'\"&$A$1&\"'!$A$7:$A$56\")=$A9)*(INDIRECT(\"'\"&$A$1&\"'!$B$7:$AF$56\")=B$7))=0,\"\",SUMPRODUCT((INDIRECT(\"'\"&$A$1&\"'!$A$7:$A$56\")=$A9)*(INDIRECT(\"'\"&$A$1&\"'!$B$7:$AF$56\")=B$7)))","v":""},{"$f":"IF(SUMPRODUCT((INDIRECT(\"'\"&$A$1&\"'!$A$7:$A$56\")=$A9)*(INDIRECT(\"'\"&$A$1&\"'!$B$7:$AF$56\")=C$7))=0,\"\",SUMPRODUCT((INDIRECT(\"'\"&$A$1&\"'!$A$7:$A$56\")=$A9)*(INDIRECT(\"'\"&$A$1&\"'!$B$7:$AF$56\")=C$7)))","v":""},"","","","","","","","","","","","","","","","","","","","","","","","",{"$f":"VLOOKUP($A9,INDIRECT(\"'\"&$A$1&\"'!$A$7:$AR$56\"),35,0)","v":"00:00:00"},{"$f":"VLOOKUP($A9,INDIRECT(\"'\"&$A$1&\"'!$A$7:$AR$56\"),36,0)","v":"00:00:00"},null,{"$f":"SUMPRODUCT(ISNUMBER(MATCH(INDIRECT(\"H\"&$A$1&\"!B2:AF2\"),DimFe,0))*IFERROR(IF(\"19:00\">=IFERROR(Hgauche,0),IFERROR(hdroite-Hgauche,0),IF(durée1>0,durée1,\"00:00\")),0))+SUMPRODUCT(ISNUMBER(MATCH(INDIRECT(\"H\"&$A$1&\"!B2:AF2\"),moindimfe,0))*IFERROR(IF(\"19:00\"<=IFERROR(Hgauche,0),IF(durée4<0,0,durée4),\"00:00\"),0))","v":0},{"$f":"SUMPRODUCT(ISNUMBER(MATCH(INDIRECT(\"H\"&$A$1&\"!B2:AF2\"),DimFe,0))*IFERROR(IF(\"19:00\"<=IFERROR(Hgauche,0),IF(durée6<0,0,durée6),IF(durée<0,0,durée)),0))+SUMPRODUCT(ISNUMBER(MATCH(INDIRECT(\"H\"&$A$1&\"!B2:AF2\"),moindimfe,0))*IFERROR(IF(\"19:00\"<=IFERROR(Hgauche,0),IF(durée2<0,0,durée2),\"00:00\"),0))","v":0},{"$f":"SUM(SUMPRODUCT(1*IFERROR(IF(\"19:00\"<=IFERROR(Hgauche,0),IF(durée2<0,0,durée2),\"00:00\"),0)),SUMPRODUCT(1*IFERROR(IF(\"19:00\"<=IFERROR(Hgauche,0),IF(durée6<0,0,durée6),\"00:00\"),0)),SUMPRODUCT(1*IFERROR(IF(\"21:00\"<=IFERROR(Hdroitesimple,0),IF(durée<0,0,durée),\"00:00\"),0)))-durée5","v":0},null,{"$f":"bilanh","v":0},{"$f":"VLOOKUP($A9,Bilan!$A$9:$AQ57,37,FALSE)","v":59.5},null,{"$f":"Bilan!AN9","v":65},65,null,{"$f":"Jourtravaillé","v":0}]
[{"$f":"Données!$H7","v":0},{"$f":"IF(SUMPRODUCT((INDIRECT(\"'\"&$A$1&\"'!$A$7:$A$56\")=$A10)*(INDIRECT(\"'\"&$A$1&\"'!$B$7:$AF$56\")=B$7))=0,\"\",SUMPRODUCT((INDIRECT(\"'\"&$A$1&\"'!$A$7:$A$56\")=$A10)*(INDIRECT(\"'\"&$A$1&\"'!$B$7:$AF$56\")=B$7)))","v":""},"","","","","","","","","","","","","","","","","","","","","","","","","",{"$f":"VLOOKUP($A10,INDIRECT(\"'\"&$A$1&\"'!$A$7:$AR$56\"),35,0)","v":"00:00:00"},{"$f":"VLOOKUP($A10,INDIRECT(\"'\"&$A$1&\"'!$A$7:$AR$56\"),36,0)","v":"00:00:00"},null,{"$f":"SUMPRODUCT(ISNUMBER(MATCH(INDIRECT(\"H\"&$A$1&\"!B2:AF2\"),DimFe,0))*IFERROR(IF(\"19:00\">=IFERROR(Hgauche,0),IFERROR(hdroite-Hgauche,0),IF(durée1>0,durée1,\"00:00\")),0))+SUMPRODUCT(ISNUMBER(MATCH(INDIRECT(\"H\"&$A$1&\"!B2:AF2\"),moindimfe,0))*IFERROR(IF(\"19:00\"<=IFERROR(Hgauche,0),IF(durée4<0,0,durée4),\"00:00\"),0))","v":0},{"$f":"SUMPRODUCT(ISNUMBER(MATCH(INDIRECT(\"H\"&$A$1&\"!B2:AF2\"),DimFe,0))*IFERROR(IF(\"19:00\"<=IFERROR(Hgauche,0),IF(durée6<0,0,durée6),IF(durée<0,0,durée)),0))+SUMPRODUCT(ISNUMBER(MATCH(INDIRECT(\"H\"&$A$1&\"!B2:AF2\"),moindimfe,0))*IFERROR(IF(\"19:00\"<=IFERROR(Hgauche,0),IF(durée2<0,0,durée2),\"00:00\"),0))","v":0},{"$f":"SUM(SUMPRODUCT(1*IFERROR(IF(\"19:00\"<=IFERROR(Hgauche,0),IF(durée2<0,0,durée2),\"00:00\"),0)),SUMPRODUCT(1*IFERROR(IF(\"19:00\"<=IFERROR(Hgauche,0),IF(durée6<0,0,durée6),\"00:00\"),0)),SUMPRODUCT(1*IFERROR(IF(\"21:00\"<=IFERROR(Hdroitesimple,0),IF(durée<0,0,durée),\"00:00\"),0)))-durée5","v":0},null,0,{"$f":"VLOOKUP($A10,Bilan!$A$9:$AQ58,37,FALSE)","v":59.5},null,{"$f":"Bilan!AN10","v":65},65,null,0]
[{"$f":"Données!$H8","v":0},"","","","","","","","","","","","","","","","","","","","","","","","","","","00:00:00","00:00:00",null,{"$f":"SUMPRODUCT(ISNUMBER(MATCH(INDIRECT(\"H\"&$A$1&\"!B2:AF2\"),DimFe,0))*IFERROR(IF(\"19:00\">=IFERROR(Hgauche,0),IFERROR(hdroite-Hgauche,0),IF(durée1>0,durée1,\"00:00\")),0))+SUMPRODUCT(ISNUMBER(MATCH(INDIRECT(\"H\"&$A$1&\"!B2:AF2\"),moindimfe,0))*IFERROR(IF(\"19:00\"<=IFERROR(Hgauche,0),IF(durée4<0,0,durée4),\"00:00\"),0))","v":0},{"$f":"SUMPRODUCT(ISNUMBER(MATCH(INDIRECT(\"H\"&$A$1&\"!B2:AF2\"),DimFe,0))*IFERROR(IF(\"19:00\"<=IFERROR(Hgauche,0),IF(durée6<0,0,durée6),IF(durée<0,0,durée)),0))+SUMPRODUCT(ISNUMBER(MATCH(INDIRECT(\"H\"&$A$1&\"!B2:AF2\"),moindimfe,0))*IFERROR(IF(\"19:00\"<=IFERROR(Hgauche,0),IF(durée2<0,0,durée2),\"00:00\"),0))","v":0},{"$f":"SUM(SUMPRODUCT(1*IFERROR(IF(\"19:00\"<=IFERROR(Hgauche,0),IF(durée2<0,0,durée2),\"00:00\"),0)),SUMPRODUCT(1*IFERROR(IF(\"19:00\"<=IFERROR(Hgauche,0),IF(durée6<0,0,durée6),\"00:00\"),0)),SUMPRODUCT(1*IFERROR(IF(\"21:00\"<=IFERROR(Hdroitesimple,0),IF(durée<0,0,durée),\"00:00\"),0)))-durée5","v":0},null,0,{"$f":"VLOOKUP($A11,Bilan!$A$9:$AQ59,37,FALSE)","v":59.5},null,{"$f":"Bilan!AN11","v":65},65,null,0]
[{"$f":"Données!$H9","v":0},"","","","","","","","","","","","","","","","","","","","","","","","","","","00:00:00","00:00:00",null,{"$f":"SUMPRODUCT(ISNUMBER(MATCH(INDIRECT(\"H\"&$A$1&\"!B2:AF2\"),DimFe,0))*IFERROR(IF(\"19:00\">=IFERROR(Hgauche,0),IFERROR(hdroite-Hgauche,0),IF(durée1>0,durée1,\"00:00\")),0))+SUMPRODUCT(ISNUMBER(MATCH(INDIRECT(\"H\"&$A$1&\"!B2:AF2\"),moindimfe,0))*IFERROR(IF(\"19:00\"<=IFERROR(Hgauche,0),IF(durée4<0,0,durée4),\"00:00\"),0))","v":0},{"$f":"SUMPRODUCT(ISNUMBER(MATCH(INDIRECT(\"H\"&$A$1&\"!B2:AF2\"),DimFe,0))*IFERROR(IF(\"19:00\"<=IFERROR(Hgauche,0),IF(durée6<0,0,durée6),IF(durée<0,0,durée)),0))+SUMPRODUCT(ISNUMBER(MATCH(INDIRECT(\"H\"&$A$1&\"!B2:AF2\"),moindimfe,0))*IFERROR(IF(\"19:00\"<=IFERROR(Hgauche,0),IF(durée2<0,0,durée2),\"00:00\"),0))","v":0},{"$f":"SUM(SUMPRODUCT(1*IFERROR(IF(\"19:00\"<=IFERROR(Hgauche,0),IF(durée2<0,0,durée2),\"00:00\"),0)),SUMPRODUCT(1*IFERROR(IF(\"19:00\"<=IFERROR(Hgauche,0),IF(durée6<0,0,durée6),\"00:00\"),0)),SUMPRODUCT(1*IFERROR(IF(\"21:00\"<=IFERROR(Hdroitesimple,0),IF(durée<0,0,durée),\"00:00\"),0)))-durée5","v":0},null,0,{"$f":"VLOOKUP($A12,Bilan!$A$9:$AQ60,37,FALSE)","v":59.5},null,{"$f":"Bilan!AN12","v":65},65,null,0]
[{"$f":"Données!$H10","v":0},"","","","","","","","","","","","","","","","","","","","","","","","","","","00:00:00","00:00:00",null,{"$f":"SUMPRODUCT(ISNUMBER(MATCH(INDIRECT(\"H\"&$A$1&\"!B2:AF2\"),DimFe,0))*IFERROR(IF(\"19:00\">=IFERROR(Hgauche,0),IFERROR(hdroite-Hgauche,0),IF(durée1>0,durée1,\"00:00\")),0))+SUMPRODUCT(ISNUMBER(MATCH(INDIRECT(\"H\"&$A$1&\"!B2:AF2\"),moindimfe,0))*IFERROR(IF(\"19:00\"<=IFERROR(Hgauche,0),IF(durée4<0,0,durée4),\"00:00\"),0))","v":0},{"$f":"SUMPRODUCT(ISNUMBER(MATCH(INDIRECT(\"H\"&$A$1&\"!B2:AF2\"),DimFe,0))*IFERROR(IF(\"19:00\"<=IFERROR(Hgauche,0),IF(durée6<0,0,durée6),IF(durée<0,0,durée)),0))+SUMPRODUCT(ISNUMBER(MATCH(INDIRECT(\"H\"&$A$1&\"!B2:AF2\"),moindimfe,0))*IFERROR(IF(\"19:00\"<=IFERROR(Hgauche,0),IF(durée2<0,0,durée2),\"00:00\"),0))","v":0},{"$f":"SUM(SUMPRODUCT(1*IFERROR(IF(\"19:00\"<=IFERROR(Hgauche,0),IF(durée2<0,0,durée2),\"00:00\"),0)),SUMPRODUCT(1*IFERROR(IF(\"19:00\"<=IFERROR(Hgauche,0),IF(durée6<0,0,durée6),\"00:00\"),0)),SUMPRODUCT(1*IFERROR(IF(\"21:00\"<=IFERROR(Hdroitesimple,0),IF(durée<0,0,durée),\"00:00\"),0)))-durée5","v":0},null,0,{"$f":"VLOOKUP($A13,Bilan!$A$9:$AQ61,37,FALSE)","v":59.5},null,{"$f":"Bilan!AN13","v":65},65,null,0]
[{"$f":"Données!$H11","v":0},"","","","","","","","","","","","","","","","","","","","","","","","","","","00:00:00","00:00:00",null,{"$f":"SUMPRODUCT(ISNUMBER(MATCH(INDIRECT(\"H\"&$A$1&\"!B2:AF2\"),DimFe,0))*IFERROR(IF(\"19:00\">=IFERROR(Hgauche,0),IFERROR(hdroite-Hgauche,0),IF(durée1>0,durée1,\"00:00\")),0))+SUMPRODUCT(ISNUMBER(MATCH(INDIRECT(\"H\"&$A$1&\"!B2:AF2\"),moindimfe,0))*IFERROR(IF(\"19:00\"<=IFERROR(Hgauche,0),IF(durée4<0,0,durée4),\"00:00\"),0))","v":0},{"$f":"SUMPRODUCT(ISNUMBER(MATCH(INDIRECT(\"H\"&$A$1&\"!B2:AF2\"),DimFe,0))*IFERROR(IF(\"19:00\"<=IFERROR(Hgauche,0),IF(durée6<0,0,durée6),IF(durée<0,0,durée)),0))+SUMPRODUCT(ISNUMBER(MATCH(INDIRECT(\"H\"&$A$1&\"!B2:AF2\"),moindimfe,0))*IFERROR(IF(\"19:00\"<=IFERROR(Hgauche,0),IF(durée2<0,0,durée2),\"00:00\"),0))","v":0},{"$f":"SUM(SUMPRODUCT(1*IFERROR(IF(\"19:00\"<=IFERROR(Hgauche,0),IF(durée2<0,0,durée2),\"00:00\"),0)),SUMPRODUCT(1*IFERROR(IF(\"19:00\"<=IFERROR(Hgauche,0),IF(durée6<0,0,durée6),\"00:00\"),0)),SUMPRODUCT(1*IFERROR(IF(\"21:00\"<=IFERROR(Hdroitesimple,0),IF(durée<0,0,durée),\"00:00\"),0)))-durée5","v":0},null,0,{"$f":"VLOOKUP($A14,Bilan!$A$9:$AQ62,37,FALSE)","v":59.5},null,{"$f":"Bilan!AN14","v":65},65,null,0]
[{"$f":"Données!$H12","v":0},"","","","","","","","","","","","","","","","","","","","","","","","","","","00:00:00","00:00:00",null,{"$f":"SUMPRODUCT(ISNUMBER(MATCH(INDIRECT(\"H\"&$A$1&\"!B2:AF2\"),DimFe,0))*IFERROR(IF(\"19:00\">=IFERROR(Hgauche,0),IFERROR(hdroite-Hgauche,0),IF(durée1>0,durée1,\"00:00\")),0))+SUMPRODUCT(ISNUMBER(MATCH(INDIRECT(\"H\"&$A$1&\"!B2:AF2\"),moindimfe,0))*IFERROR(IF(\"19:00\"<=IFERROR(Hgauche,0),IF(durée4<0,0,durée4),\"00:00\"),0))","v":0},{"$f":"SUMPRODUCT(ISNUMBER(MATCH(INDIRECT(\"H\"&$A$1&\"!B2:AF2\"),DimFe,0))*IFERROR(IF(\"19:00\"<=IFERROR(Hgauche,0),IF(durée6<0,0,durée6),IF(durée<0,0,durée)),0))+SUMPRODUCT(ISNUMBER(MATCH(INDIRECT(\"H\"&$A$1&\"!B2:AF2\"),moindimfe,0))*IFERROR(IF(\"19:00\"<=IFERROR(Hgauche,0),IF(durée2<0,0,durée2),\"00:00\"),0))","v":0},{"$f":"SUM(SUMPRODUCT(1*IFERROR(IF(\"19:00\"<=IFERROR(Hgauche,0),IF(durée2<0,0,durée2),\"00:00\"),0)),SUMPRODUCT(1*IFERROR(IF(\"19:00\"<=IFERROR(Hgauche,0),IF(durée6<0,0,durée6),\"00:00\"),0)),SUMPRODUCT(1*IFERROR(IF(\"21:00\"<=IFERROR(Hdroitesimple,0),IF(durée<0,0,durée),\"00:00\"),0)))-durée5","v":0},null,0,{"$f":"VLOOKUP($A15,Bilan!$A$9:$AQ63,37,FALSE)","v":59.5},null,{"$f":"Bilan!AN15","v":65},65,null,0]
[{"$f":"Données!$H13","v":0},"","","","","","","","","","","","","","","","","","","","","","","","","","","00:00:00","00:00:00",null,{"$f":"SUMPRODUCT(ISNUMBER(MATCH(INDIRECT(\"H\"&$A$1&\"!B2:AF2\"),DimFe,0))*IFERROR(IF(\"19:00\">=IFERROR(Hgauche,0),IFERROR(hdroite-Hgauche,0),IF(durée1>0,durée1,\"00:00\")),0))+SUMPRODUCT(ISNUMBER(MATCH(INDIRECT(\"H\"&$A$1&\"!B2:AF2\"),moindimfe,0))*IFERROR(IF(\"19:00\"<=IFERROR(Hgauche,0),IF(durée4<0,0,durée4),\"00:00\"),0))","v":0},{"$f":"SUMPRODUCT(ISNUMBER(MATCH(INDIRECT(\"H\"&$A$1&\"!B2:AF2\"),DimFe,0))*IFERROR(IF(\"19:00\"<=IFERROR(Hgauche,0),IF(durée6<0,0,durée6),IF(durée<0,0,durée)),0))+SUMPRODUCT(ISNUMBER(MATCH(INDIRECT(\"H\"&$A$1&\"!B2:AF2\"),moindimfe,0))*IFERROR(IF(\"19:00\"<=IFERROR(Hgauche,0),IF(durée2<0,0,durée2),\"00:00\"),0))","v":0},{"$f":"SUM(SUMPRODUCT(1*IFERROR(IF(\"19:00\"<=IFERROR(Hgauche,0),IF(durée2<0,0,durée2),\"00:00\"),0)),SUMPRODUCT(1*IFERROR(IF(\"19:00\"<=IFERROR(Hgauche,0),IF(durée6<0,0,durée6),\"00:00\"),0)),SUMPRODUCT(1*IFERROR(IF(\"21:00\"<=IFERROR(Hdroitesimple,0),IF(durée<0,0,durée),\"00:00\"),0)))-durée5","v":0},null,0,{"$f":"VLOOKUP($A16,Bilan!$A$9:$AQ64,37,FALSE)","v":59.5},null,{"$f":"Bilan!AN16","v":65},65,null,0]
[{"$f":"Données!$H14","v":0},"","","","","","","","","","","","","","","","","","","","","","","","","","","00:00:00","00:00:00",null,{"$f":"SUMPRODUCT(ISNUMBER(MATCH(INDIRECT(\"H\"&$A$1&\"!B2:AF2\"),DimFe,0))*IFERROR(IF(\"19:00\">=IFERROR(Hgauche,0),IFERROR(hdroite-Hgauche,0),IF(durée1>0,durée1,\"00:00\")),0))+SUMPRODUCT(ISNUMBER(MATCH(INDIRECT(\"H\"&$A$1&\"!B2:AF2\"),moindimfe,0))*IFERROR(IF(\"19:00\"<=IFERROR(Hgauche,0),IF(durée4<0,0,durée4),\"00:00\"),0))","v":0},{"$f":"SUMPRODUCT(ISNUMBER(MATCH(INDIRECT(\"H\"&$A$1&\"!B2:AF2\"),DimFe,0))*IFERROR(IF(\"19:00\"<=IFERROR(Hgauche,0),IF(durée6<0,0,durée6),IF(durée<0,0,durée)),0))+SUMPRODUCT(ISNUMBER(MATCH(INDIRECT(\"H\"&$A$1&\"!B2:AF2\"),moindimfe,0))*IFERROR(IF(\"19:00\"<=IFERROR(Hgauche,0),IF(durée2<0,0,durée2),\"00:00\"),0))","v":0},{"$f":"SUM(SUMPRODUCT(1*IFERROR(IF(\"19:00\"<=IFERROR(Hgauche,0),IF(durée2<0,0,durée2),\"00:00\"),0)),SUMPRODUCT(1*IFERROR(IF(\"19:00\"<=IFERROR(Hgauche,0),IF(durée6<0,0,durée6),\"00:00\"),0)),SUMPRODUCT(1*IFERROR(IF(\"21:00\"<=IFERROR(Hdroitesimple,0),IF(durée<0,0,durée),\"00:00\"),0)))-durée5","v":0},null,0,{"$f":"VLOOKUP($A17,Bilan!$A$9:$AQ65,37,FALSE)","v":59.5},null,{"$f":"Bilan!AN17","v":65},65,null,0]
[{"$f":"Données!$H15","v":0},"","","","","","","","","","","","","","","","","","","","","","","","","","","00:00:00","00:00:00",null,{"$f":"SUMPRODUCT(ISNUMBER(MATCH(INDIRECT(\"H\"&$A$1&\"!B2:AF2\"),DimFe,0))*IFERROR(IF(\"19:00\">=IFERROR(Hgauche,0),IFERROR(hdroite-Hgauche,0),IF(durée1>0,durée1,\"00:00\")),0))+SUMPRODUCT(ISNUMBER(MATCH(INDIRECT(\"H\"&$A$1&\"!B2:AF2\"),moindimfe,0))*IFERROR(IF(\"19:00\"<=IFERROR(Hgauche,0),IF(durée4<0,0,durée4),\"00:00\"),0))","v":0},{"$f":"SUMPRODUCT(ISNUMBER(MATCH(INDIRECT(\"H\"&$A$1&\"!B2:AF2\"),DimFe,0))*IFERROR(IF(\"19:00\"<=IFERROR(Hgauche,0),IF(durée6<0,0,durée6),IF(durée<0,0,durée)),0))+SUMPRODUCT(ISNUMBER(MATCH(INDIRECT(\"H\"&$A$1&\"!B2:AF2\"),moindimfe,0))*IFERROR(IF(\"19:00\"<=IFERROR(Hgauche,0),IF(durée2<0,0,durée2),\"00:00\"),0))","v":0},{"$f":"SUM(SUMPRODUCT(1*IFERROR(IF(\"19:00\"<=IFERROR(Hgauche,0),IF(durée2<0,0,durée2),\"00:00\"),0)),SUMPRODUCT(1*IFERROR(IF(\"19:00\"<=IFERROR(Hgauche,0),IF(durée6<0,0,durée6),\"00:00\"),0)),SUMPRODUCT(1*IFERROR(IF(\"21:00\"<=IFERROR(Hdroitesimple,0),IF(durée<0,0,durée),\"00:00\"),0)))-durée5","v":0},null,0,{"$f":"VLOOKUP($A18,Bilan!$A$9:$AQ66,37,FALSE)","v":59.5},null,{"$f":"Bilan!AN18","v":65},65,null,0]
[{"$f":"Données!$H16","v":0},{"$f":"SUMPRODUCT((INDIRECT(\"'\"&$A$1&\"'!$A$7:$A$56\")=$A19)*(INDIRECT(\"'\"&$A$1&\"'!$B$7:$AF$56\")=B$7))","v":0},0,0,0,0,0,0,0,0,0,0,0,0,0,0,0,{"$f":"SUMPRODUCT((INDIRECT(\"'\"&$A$1&\"'!$A$7:$A$56\")=$A19)*(INDIRECT(\"'\"&$A$1&\"'!$B$7:$AF$56\")=R$7))","v":0},0,0,0,0,0,0,0,0,0,{"$f":"VLOOKUP($A19,INDIRECT(\"'H\"&$A$1&\"'!$A$7:$AR$56\"),35,0)","v":"00:00:00"},{"$f":"VLOOKUP($A19,INDIRECT(\"'H\"&$A$1&\"'!$A$7:$AR$56\"),38,0)","v":"00:00:00"},null,{"$f":"SUMPRODUCT(ISNUMBER(MATCH(INDIRECT(\"H\"&$A$1&\"!B2:AF2\"),DimFe,0))*IFERROR(IF(\"19:00\">=IFERROR(Hgauche,0),IFERROR(hdroite-Hgauche,0),IF(durée1>0,durée1,\"00:00\")),0))+SUMPRODUCT(ISNUMBER(MATCH(INDIRECT(\"H\"&$A$1&\"!B2:AF2\"),moindimfe,0))*IFERROR(IF(\"19:00\"<=IFERROR(Hgauche,0),IF(durée4<0,0,durée4),\"00:00\"),0))","v":0},{"$f":"SUMPRODUCT(ISNUMBER(MATCH(INDIRECT(\"H\"&$A$1&\"!B2:AF2\"),DimFe,0))*IFERROR(IF(\"19:00\"<=IFERROR(Hgauche,0),IF(durée6<0,0,durée6),IF(durée<0,0,durée)),0))+SUMPRODUCT(ISNUMBER(MATCH(INDIRECT(\"H\"&$A$1&\"!B2:AF2\"),moindimfe,0))*IFERROR(IF(\"19:00\"<=IFERROR(Hgauche,0),IF(durée2<0,0,durée2),\"00:00\"),0))","v":0},{"$f":"SUMPRODUCT(1*IF(durée<0,0,durée))+SUMPRODUCT(1*IFERROR(IF(\"19:00\"<=IFERROR(Hgauche,0),IF(durée2<0,0,durée2),\"00:00\"),0))-durée5","v":0},null,{"$f":"(AB19/24)+SUMPRODUCT(($B$6:$AA$6)*(B19:AA19))","v":0},{"$f":"VLOOKUP($A19,Bilan!A19:AI67,35,FALSE)","v":0},null,{"$f":"Bilan!AN19","v":{"$error":"#VALUE!"}},65,null,{"$f":"SUM(B19:R19)","v":0},null,null,null,null,null,null,null,null,null,null,null,null,null,null,null,null,null,null,null,null,null,null,null,{"$f":"Données!$A14","v":"N"},{"$f":"Données!$B14","v":0.85416666666666663}]
[{"$f":"Données!$H17","v":0},0,0,0,0,0,0,0,0,0,0,0,0,0,0,0,0,0,0,0,0,0,0,0,0,0,0,"00:00:00","00:00:00",null,{"$f":"SUMPRODUCT(ISNUMBER(MATCH(INDIRECT(\"H\"&$A$1&\"!B2:AF2\"),DimFe,0))*IFERROR(IF(\"19:00\">=IFERROR(Hgauche,0),IFERROR(hdroite-Hgauche,0),IF(durée1>0,durée1,\"00:00\")),0))+SUMPRODUCT(ISNUMBER(MATCH(INDIRECT(\"H\"&$A$1&\"!B2:AF2\"),moindimfe,0))*IFERROR(IF(\"19:00\"<=IFERROR(Hgauche,0),IF(durée4<0,0,durée4),\"00:00\"),0))","v":0},{"$f":"SUMPRODUCT(ISNUMBER(MATCH(INDIRECT(\"H\"&$A$1&\"!B2:AF2\"),DimFe,0))*IFERROR(IF(\"19:00\"<=IFERROR(Hgauche,0),IF(durée6<0,0,durée6),IF(durée<0,0,durée)),0))+SUMPRODUCT(ISNUMBER(MATCH(INDIRECT(\"H\"&$A$1&\"!B2:AF2\"),moindimfe,0))*IFERROR(IF(\"19:00\"<=IFERROR(Hgauche,0),IF(durée2<0,0,durée2),\"00:00\"),0))","v":0},{"$f":"SUMPRODUCT(1*IF(durée<0,0,durée))+SUMPRODUCT(1*IFERROR(IF(\"19:00\"<=IFERROR(Hgauche,0),IF(durée2<0,0,durée2),\"00:00\"),0))-durée5","v":0},null,0,{"$f":"VLOOKUP($A20,Bilan!A20:AI68,35,FALSE)","v":0},null,{"$f":"Bilan!AN20","v":{"$error":"#VALUE!"}},65,null,0,null,null,null,null,null,null,null,null,null,null,null,null,null,null,null,null,null,null,null,null,null,null,null,{"$f":"Données!$A15","v":"N+"},{"$f":"Données!$B15","v":0.80208333333333337}]
[{"$f":"Données!$H18","v":0},0,0,0,0,0,0,0,0,0,0,0,0,0,0,0,0,0,0,0,0,0,0,0,0,0,0,"00:00:00","00:00:00",null,{"$f":"SUMPRODUCT(ISNUMBER(MATCH(INDIRECT(\"H\"&$A$1&\"!B2:AF2\"),DimFe,0))*IFERROR(IF(\"19:00\">=IFERROR(Hgauche,0),IFERROR(hdroite-Hgauche,0),IF(durée1>0,durée1,\"00:00\")),0))+SUMPRODUCT(ISNUMBER(MATCH(INDIRECT(\"H\"&$A$1&\"!B2:AF2\"),moindimfe,0))*IFERROR(IF(\"19:00\"<=IFERROR(Hgauche,0),IF(durée4<0,0,durée4),\"00:00\"),0))","v":0},{"$f":"SUMPRODUCT(ISNUMBER(MATCH(INDIRECT(\"H\"&$A$1&\"!B2:AF2\"),DimFe,0))*IFERROR(IF(\"19:00\"<=IFERROR(Hgauche,0),IF(durée6<0,0,durée6),IF(durée<0,0,durée)),0))+SUMPRODUCT(ISNUMBER(MATCH(INDIRECT(\"H\"&$A$1&\"!B2:AF2\"),moindimfe,0))*IFERROR(IF(\"19:00\"<=IFERROR(Hgauche,0),IF(durée2<0,0,durée2),\"00:00\"),0))","v":0},{"$f":"SUMPRODUCT(1*IF(durée<0,0,durée))+SUMPRODUCT(1*IFERROR(IF(\"19:00\"<=IFERROR(Hgauche,0),IF(durée2<0,0,durée2),\"00:00\"),0))-durée5","v":0},null,0,{"$f":"VLOOKUP($A21,Bilan!A21:AI69,35,FALSE)","v":0},null,{"$f":"Bilan!AN21","v":{"$error":"#VALUE!"}},65,null,0,null,null,null,null,null,null,null,null,null,null,null,null,null,null,null,null,null,null,null,null,null,null,null,{"$f":"Données!$A16","v":"NS"},{"$f":"Données!$B16","v":0.80208333333333337}]
[{"$f":"Données!$H19","v":0},0,0,0,0,0,0,0,0,0,0,0,0,0,0,0,0,0,0,0,0,0,0,0,0,0,0,"00:00:00","00:00:00",null,{"$f":"SUMPRODUCT(ISNUMBER(MATCH(INDIRECT(\"H\"&$A$1&\"!B2:AF2\"),DimFe,0))*IFERROR(IF(\"19:00\">=IFERROR(Hgauche,0),IFERROR(hdroite-Hgauche,0),IF(durée1>0,durée1,\"00:00\")),0))+SUMPRODUCT(ISNUMBER(MATCH(INDIRECT(\"H\"&$A$1&\"!B2:AF2\"),moindimfe,0))*IFERROR(IF(\"19:00\"<=IFERROR(Hgauche,0),IF(durée4<0,0,durée4),\"00:00\"),0))","v":0},{"$f":"SUMPRODUCT(ISNUMBER(MATCH(INDIRECT(\"H\"&$A$1&\"!B2:AF2\"),DimFe,0))*IFERROR(IF(\"19:00\"<=IFERROR(Hgauche,0),IF(durée6<0,0,durée6),IF(durée<0,0,durée)),0))+SUMPRODUCT(ISNUMBER(MATCH(INDIRECT(\"H\"&$A$1&\"!B2:AF2\"),moindimfe,0))*IFERROR(IF(\"19:00\"<=IFERROR(Hgauche,0),IF(durée2<0,0,durée2),\"00:00\"),0))","v":0},{"$f":"SUMPRODUCT(1*IF(durée<0,0,durée))+SUMPRODUCT(1*IFERROR(IF(\"19:00\"<=IFERROR(Hgauche,0),IF(durée2<0,0,durée2),\"00:00\"),0))-durée5","v":0},null,0,{"$f":"VLOOKUP($A22,Bilan!A22:AI70,35,FALSE)","v":0},null,{"$f":"Bilan!AN22","v":{"$error":"#VALUE!"}},65,null,0,null,null,null,null,null,null,null,null,null,null,null,null,null,null,null,null,null,null,null,null,null,null,null,{"$f":"Données!$A17","v":"T"},{"$f":"Données!$B17","v":"T"}]
[{"$f":"Données!$H20","v":0},0,0,0,0,0,0,0,0,0,0,0,0,0,0,0,0,0,0,0,0,0,0,0,0,0,0,"00:00:00","00:00:00",null,{"$f":"SUMPRODUCT(ISNUMBER(MATCH(INDIRECT(\"H\"&$A$1&\"!B2:AF2\"),DimFe,0))*IFERROR(IF(\"19:00\">=IFERROR(Hgauche,0),IFERROR(hdroite-Hgauche,0),IF(durée1>0,durée1,\"00:00\")),0))+SUMPRODUCT(ISNUMBER(MATCH(INDIRECT(\"H\"&$A$1&\"!B2:AF2\"),moindimfe,0))*IFERROR(IF(\"19:00\"<=IFERROR(Hgauche,0),IF(durée4<0,0,durée4),\"00:00\"),0))","v":0},{"$f":"SUMPRODUCT(ISNUMBER(MATCH(INDIRECT(\"H\"&$A$1&\"!B2:AF2\"),DimFe,0))*IFERROR(IF(\"19:00\"<=IFERROR(Hgauche,0),IF(durée6<0,0,durée6),IF(durée<0,0,durée)),0))+SUMPRODUCT(ISNUMBER(MATCH(INDIRECT(\"H\"&$A$1&\"!B2:AF2\"),moindimfe,0))*IFERROR(IF(\"19:00\"<=IFERROR(Hgauche,0),IF(durée2<0,0,durée2),\"00:00\"),0))","v":0},{"$f":"SUMPRODUCT(1*IF(durée<0,0,durée))+SUMPRODUCT(1*IFERROR(IF(\"19:00\"<=IFERROR(Hgauche,0),IF(durée2<0,0,durée2),\"00:00\"),0))-durée5","v":0},null,0,{"$f":"VLOOKUP($A23,Bilan!A23:AI71,35,FALSE)","v":0},null,{"$f":"Bilan!AN23","v":{"$error":"#VALUE!"}},65,null,0,null,null,null,null,null,null,null,null,null,null,null,null,null,null,null,null,null,null,null,null,null,null,null,{"$f":"Données!$A18","v":"F"},{"$f":"Données!$B18","v":"F"}]
[{"$f":"Données!$H21","v":0},0,0,0,0,0,0,0,0,0,0,0,0,0,0,0,0,0,0,0,0,0,0,0,0,0,0,"00:00:00","00:00:00",null,{"$f":"SUMPRODUCT(ISNUMBER(MATCH(INDIRECT(\"H\"&$A$1&\"!B2:AF2\"),DimFe,0))*IFERROR(IF(\"19:00\">=IFERROR(Hgauche,0),IFERROR(hdroite-Hgauche,0),IF(durée1>0,durée1,\"00:00\")),0))+SUMPRODUCT(ISNUMBER(MATCH(INDIRECT(\"H\"&$A$1&\"!B2:AF2\"),moindimfe,0))*IFERROR(IF(\"19:00\"<=IFERROR(Hgauche,0),IF(durée4<0,0,durée4),\"00:00\"),0))","v":0},{"$f":"SUMPRODUCT(ISNUMBER(MATCH(INDIRECT(\"H\"&$A$1&\"!B2:AF2\"),DimFe,0))*IFERROR(IF(\"19:00\"<=IFERROR(Hgauche,0),IF(durée6<0,0,durée6),IF(durée<0,0,durée)),0))+SUMPRODUCT(ISNUMBER(MATCH(INDIRECT(\"H\"&$A$1&\"!B2:AF2\"),moindimfe,0))*IFERROR(IF(\"19:00\"<=IFERROR(Hgauche,0),IF(durée2<0,0,durée2),\"00:00\"),0))","v":0},{"$f":"SUMPRODUCT(1*IF(durée<0,0,durée))+SUMPRODUCT(1*IFERROR(IF(\"19:00\"<=IFERROR(Hgauche,0),IF(durée2<0,0,durée2),\"00:00\"),0))-durée5","v":0},null,0,{"$f":"VLOOKUP($A24,Bilan!A24:AI72,35,FALSE)","v":0},null,{"$f":"Bilan!AN24","v":{"$error":"#VALUE!"}},65,null,0,null,null,null,null,null,null,null,null,null,null,null,null,null,null,null,null,null,null,null,null,null,null,null,{"$f":"Données!$A19","v":"SYN"},{"$f":"Données!$B19","v":"Syn"}]
[{"$f":"Données!$H22","v":"Equipe de nuit"}]
[{"$f":"Données!$H23","v":"K"},{"$f":"IF(SUMPRODUCT((INDIRECT(\"'\"&$A$1&\"'!$A$7:$A$56\")=$A26)*(INDIRECT(\"'\"&$A$1&\"'!$B$7:$AF$56\")=B$7))=0,\"\",SUMPRODUCT((INDIRECT(\"'\"&$A$1&\"'!$A$7:$A$56\")=$A26)*(INDIRECT(\"'\"&$A$1&\"'!$B$7:$AF$56\")=B$7)))","v":""},"","","","","","","","","","","","","","","",{"$f":"IF(SUMPRODUCT((INDIRECT(\"'\"&$A$1&\"'!$A$7:$A$56\")=$A26)*(INDIRECT(\"'\"&$A$1&\"'!$B$7:$AF$56\")=R$7))=0,\"\",SUMPRODUCT((INDIRECT(\"'\"&$A$1&\"'!$A$7:$A$56\")=$A26)*(INDIRECT(\"'\"&$A$1&\"'!$B$7:$AF$56\")=R$7)))","v":""},"","","","","","","","","",{"$f":"VLOOKUP($A26,INDIRECT(\"'\"&$A$1&\"'!$A$7:$AR$56\"),35,0)","v":"00:00:00"},{"$f":"VLOOKUP($A26,INDIRECT(\"'\"&$A$1&\"'!$A$7:$AR$56\"),36,0)","v":"00:00:00"},null,{"$f":"SUMPRODUCT(ISNUMBER(MATCH(INDIRECT(\"H\"&$A$1&\"!B2:AF2\"),DimFe,0))*IFERROR(IF(\"19:00\">=IFERROR(Hgauche,0),IFERROR(hdroite-Hgauche,0),IF(durée1>0,durée1,\"00:00\")),0))+SUMPRODUCT(ISNUMBER(MATCH(INDIRECT(\"H\"&$A$1&\"!B2:AF2\"),moindimfe,0))*IFERROR(IF(\"19:00\"<=IFERROR(Hgauche,0),IF(durée4<0,0,durée4),\"00:00\"),0))","v":0},{"$f":"SUMPRODUCT(ISNUMBER(MATCH(INDIRECT(\"H\"&$A$1&\"!B2:AF2\"),DimFe,0))*IFERROR(IF(\"19:00\"<=IFERROR(Hgauche,0),IF(durée6<0,0,durée6),IF(durée<0,0,durée)),0))+SUMPRODUCT(ISNUMBER(MATCH(INDIRECT(\"H\"&$A$1&\"!B2:AF2\"),moindimfe,0))*IFERROR(IF(\"19:00\"<=IFERROR(Hgauche,0),IF(durée2<0,0,durée2),\"00:00\"),0))","v":0},{"$f":"SUM(SUMPRODUCT(1*IFERROR(IF(\"19:00\"<=IFERROR(Hgauche,0),IF(durée2<0,0,durée2),\"00:00\"),0)),SUMPRODUCT(1*IFERROR(IF(\"19:00\"<=IFERROR(Hgauche,0),IF(durée6<0,0,durée6),\"00:00\"),0)),SUMPRODUCT(1*IFERROR(IF(\"21:00\"<=IFERROR(Hdroitesimple,0),IF(durée<0,0,durée),\"00:00\"),0)))-durée5","v":0},null,{"$f":"bilanh","v":0},{"$f":"VLOOKUP($A26,Bilan!$A$9:$AQ74,37,FALSE)","v":57.958333333333336},null,{"$f":"Bilan!AN26","v":65},65,null,{"$f":"Jourtravaillé","v":0}]
[{"$f":"Données!$H24","v":0},"","","","","","","","","","","","","","","","","","","","","","","","","","",{"$f":"VLOOKUP($A27,INDIRECT(\"'\"&$A$1&\"'!$A$7:$AR$56\"),35,0)","v":"00:00:00"},{"$f":"VLOOKUP($A27,INDIRECT(\"'\"&$A$1&\"'!$A$7:$AR$56\"),36,0)","v":"00:00:00"},null,{"$f":"SUMPRODUCT(ISNUMBER(MATCH(INDIRECT(\"H\"&$A$1&\"!B2:AF2\"),DimFe,0))*IFERROR(IF(\"19:00\">=IFERROR(Hgauche,0),IFERROR(hdroite-Hgauche,0),IF(durée1>0,durée1,\"00:00\")),0))+SUMPRODUCT(ISNUMBER(MATCH(INDIRECT(\"H\"&$A$1&\"!B2:AF2\"),moindimfe,0))*IFERROR(IF(\"19:00\"<=IFERROR(Hgauche,0),IF(durée4<0,0,durée4),\"00:00\"),0))","v":0},{"$f":"SUMPRODUCT(ISNUMBER(MATCH(INDIRECT(\"H\"&$A$1&\"!B2:AF2\"),DimFe,0))*IFERROR(IF(\"19:00\"<=IFERROR(Hgauche,0),IF(durée6<0,0,durée6),IF(durée<0,0,durée)),0))+SUMPRODUCT(ISNUMBER(MATCH(INDIRECT(\"H\"&$A$1&\"!B2:AF2\"),moindimfe,0))*IFERROR(IF(\"19:00\"<=IFERROR(Hgauche,0),IF(durée2<0,0,durée2),\"00:00\"),0))","v":0},{"$f":"SUM(SUMPRODUCT(1*IFERROR(IF(\"19:00\"<=IFERROR(Hgauche,0),IF(durée2<0,0,durée2),\"00:00\"),0)),SUMPRODUCT(1*IFERROR(IF(\"19:00\"<=IFERROR(Hgauche,0),IF(durée6<0,0,durée6),\"00:00\"),0)),SUMPRODUCT(1*IFERROR(IF(\"21:00\"<=IFERROR(Hdroitesimple,0),IF(durée<0,0,durée),\"00:00\"),0)))-durée5","v":0},null,{"$f":"bilanh","v":0},{"$f":"VLOOKUP($A27,Bilan!$A$9:$AQ75,37,FALSE)","v":59.5},null,{"$f":"Bilan!AN27","v":65},65,null,{"$f":"Jourtravaillé","v":0}]
[{"$f":"Données!$H25","v":0},"","","","","","","","","","","","","","","","","","","","","","","","","","",{"$f":"VLOOKUP($A28,INDIRECT(\"'\"&$A$1&\"'!$A$7:$AR$56\"),35,0)","v":"00:00:00"},{"$f":"VLOOKUP($A28,INDIRECT(\"'\"&$A$1&\"'!$A$7:$AR$56\"),36,0)","v":"00:00:00"},null,{"$f":"SUMPRODUCT(ISNUMBER(MATCH(INDIRECT(\"H\"&$A$1&\"!B2:AF2\"),DimFe,0))*IFERROR(IF(\"19:00\">=IFERROR(Hgauche,0),IFERROR(hdroite-Hgauche,0),IF(durée1>0,durée1,\"00:00\")),0))+SUMPRODUCT(ISNUMBER(MATCH(INDIRECT(\"H\"&$A$1&\"!B2:AF2\"),moindimfe,0))*IFERROR(IF(\"19:00\"<=IFERROR(Hgauche,0),IF(durée4<0,0,durée4),\"00:00\"),0))","v":0},{"$f":"SUMPRODUCT(ISNUMBER(MATCH(INDIRECT(\"H\"&$A$1&\"!B2:AF2\"),DimFe,0))*IFERROR(IF(\"19:00\"<=IFERROR(Hgauche,0),IF(durée6<0,0,durée6),IF(durée<0,0,durée)),0))+SUMPRODUCT(ISNUMBER(MATCH(INDIRECT(\"H\"&$A$1&\"!B2:AF2\"),moindimfe,0))*IFERROR(IF(\"19:00\"<=IFERROR(Hgauche,0),IF(durée2<0,0,durée2),\"00:00\"),0))","v":0},{"$f":"SUM(SUMPRODUCT(1*IFERROR(IF(\"19:00\"<=IFERROR(Hgauche,0),IF(durée2<0,0,durée2),\"00:00\"),0)),SUMPRODUCT(1*IFERROR(IF(\"19:00\"<=IFERROR(Hgauche,0),IF(durée6<0,0,durée6),\"00:00\"),0)),SUMPRODUCT(1*IFERROR(IF(\"21:00\"<=IFERROR(Hdroitesimple,0),IF(durée<0,0,durée),\"00:00\"),0)))-durée5","v":0},null,{"$f":"bilanh","v":0},{"$f":"VLOOKUP($A28,Bilan!$A$9:$AQ76,37,FALSE)","v":59.5},null,{"$f":"Bilan!AN28","v":65},65,null,{"$f":"Jourtravaillé","v":0}]
[{"$f":"Données!$H26","v":0},{"$f":"SUMPRODUCT((INDIRECT(\"'\"&$A$1&\"'!$A$7:$A$56\")=$A29)*(INDIRECT(\"'\"&$A$1&\"'!$B$7:$AF$56\")=B$7))","v":0},0,0,0,0,0,0,0,0,0,0,0,0,0,0,0,{"$f":"SUMPRODUCT((INDIRECT(\"'\"&$A$1&\"'!$A$7:$A$56\")=$A29)*(INDIRECT(\"'\"&$A$1&\"'!$B$7:$AF$56\")=R$7))","v":0},0,0,0,0,0,0,0,0,0,{"$f":"VLOOKUP($A29,INDIRECT(\"'H\"&$A$1&\"'!$A$7:$AR$56\"),35,0)","v":"00:00:00"},{"$f":"VLOOKUP($A29,INDIRECT(\"'H\"&$A$1&\"'!$A$7:$AR$56\"),38,0)","v":"00:00:00"},null,{"$f":"SUMPRODUCT(ISNUMBER(MATCH(INDIRECT(\"H\"&$A$1&\"!B2:AF2\"),DimFe,0))*IFERROR(IF(\"19:00\">=IFERROR(Hgauche,0),IFERROR(hdroite-Hgauche,0),IF(durée1>0,durée1,\"00:00\")),0))+SUMPRODUCT(ISNUMBER(MATCH(INDIRECT(\"H\"&$A$1&\"!B2:AF2\"),moindimfe,0))*IFERROR(IF(\"19:00\"<=IFERROR(Hgauche,0),IF(durée4<0,0,durée4),\"00:00\"),0))","v":0},{"$f":"SUMPRODUCT(ISNUMBER(MATCH(INDIRECT(\"H\"&$A$1&\"!B2:AF2\"),DimFe,0))*IFERROR(IF(\"19:00\"<=IFERROR(Hgauche,0),IF(durée6<0,0,durée6),IF(durée<0,0,durée)),0))+SUMPRODUCT(ISNUMBER(MATCH(INDIRECT(\"H\"&$A$1&\"!B2:AF2\"),moindimfe,0))*IFERROR(IF(\"19:00\"<=IFERROR(Hgauche,0),IF(durée2<0,0,durée2),\"00:00\"),0))","v":0},{"$f":"SUMPRODUCT(1*IF(durée<0,0,durée))+SUMPRODUCT(1*IFERROR(IF(\"19:00\"<=IFERROR(Hgauche,0),IF(durée2<0,0,durée2),\"00:00\"),0))-durée5","v":0},null,{"$f":"(AB29/24)+SUMPRODUCT(($B$6:$AA$6)*(B29:AA29))","v":0},{"$f":"VLOOKUP($A29,Bilan!A29:AI77,35,FALSE)","v":0},null,{"$f":"Bilan!AN29","v":{"$error":"#VALUE!"}},65,null,{"$f":"SUM(B29:R29)","v":0},null,null,null,null,null,null,null,null,null,null,null,null,null,null,null,null,null,null,null,null,null,null,null,{"$f":"Données!$A24","v":"CA"},{"$f":"Données!$B24","v":"CA"}]
[{"$f":"Données!$H27","v":0},0,0,0,0,0,0,0,0,0,0,0,0,0,0,0,0,0,0,0,0,0,0,0,0,0,0,"00:00:00","00:00:00",null,{"$f":"SUMPRODUCT(ISNUMBER(MATCH(INDIRECT(\"H\"&$A$1&\"!B2:AF2\"),DimFe,0))*IFERROR(IF(\"19:00\">=IFERROR(Hgauche,0),IFERROR(hdroite-Hgauche,0),IF(durée1>0,durée1,\"00:00\")),0))+SUMPRODUCT(ISNUMBER(MATCH(INDIRECT(\"H\"&$A$1&\"!B2:AF2\"),moindimfe,0))*IFERROR(IF(\"19:00\"<=IFERROR(Hgauche,0),IF(durée4<0,0,durée4),\"00:00\"),0))","v":0},{"$f":"SUMPRODUCT(ISNUMBER(MATCH(INDIRECT(\"H\"&$A$1&\"!B2:AF2\"),DimFe,0))*IFERROR(IF(\"19:00\"<=IFERROR(Hgauche,0),IF(durée6<0,0,durée6),IF(durée<0,0,durée)),0))+SUMPRODUCT(ISNUMBER(MATCH(INDIRECT(\"H\"&$A$1&\"!B2:AF2\"),moindimfe,0))*IFERROR(IF(\"19:00\"<=IFERROR(Hgauche,0),IF(durée2<0,0,durée2),\"00:00\"),0))","v":0},{"$f":"SUMPRODUCT(1*IF(durée<0,0,durée))+SUMPRODUCT(1*IFERROR(IF(\"19:00\"<=IFERROR(Hgauche,0),IF(durée2<0,0,durée2),\"00:00\"),0))-durée5","v":0},null,0,{"$f":"VLOOKUP($A30,Bilan!A30:AI78,35,FALSE)","v":0},null,{"$f":"Bilan!AN30","v":{"$error":"#VALUE!"}},65,null,0,null,null,null,null,null,null,null,null,null,null,null,null,null,null,null,null,null,null,null,null,null,null,null,{"$f":"Données!$A25","v":"CA16"},{"$f":"Données!$B25","v":"CA16"}]
[{"$f":"Données!$H28","v":0},0,0,0,0,0,0,0,0,0,0,0,0,0,0,0,0,0,0,0,0,0,0,0,0,0,0,"00:00:00","00:00:00",null,{"$f":"SUMPRODUCT(ISNUMBER(MATCH(INDIRECT(\"H\"&$A$1&\"!B2:AF2\"),DimFe,0))*IFERROR(IF(\"19:00\">=IFERROR(Hgauche,0),IFERROR(hdroite-Hgauche,0),IF(durée1>0,durée1,\"00:00\")),0))+SUMPRODUCT(ISNUMBER(MATCH(INDIRECT(\"H\"&$A$1&\"!B2:AF2\"),moindimfe,0))*IFERROR(IF(\"19:00\"<=IFERROR(Hgauche,0),IF(durée4<0,0,durée4),\"00:00\"),0))","v":0},{"$f":"SUMPRODUCT(ISNUMBER(MATCH(INDIRECT(\"H\"&$A$1&\"!B2:AF2\"),DimFe,0))*IFERROR(IF(\"19:00\"<=IFERROR(Hgauche,0),IF(durée6<0,0,durée6),IF(durée<0,0,durée)),0))+SUMPRODUCT(ISNUMBER(MATCH(INDIRECT(\"H\"&$A$1&\"!B2:AF2\"),moindimfe,0))*IFERROR(IF(\"19:00\"<=IFERROR(Hgauche,0),IF(durée2<0,0,durée2),\"00:00\"),0))","v":0},{"$f":"SUMPRODUCT(1*IF(durée<0,0,durée))+SUMPRODUCT(1*IFERROR(IF(\"19:00\"<=IFERROR(Hgauche,0),IF(durée2<0,0,durée2),\"00:00\"),0))-durée5","v":0},null,0,{"$f":"VLOOKUP($A31,Bilan!A31:AI79,35,FALSE)","v":0},null,{"$f":"Bilan!AN31","v":{"$error":"#VALUE!"}},65,null,0,null,null,null,null,null,null,null,null,null,null,null,null,null,null,null,null,null,null,null,null,null,null,null,{"$f":"Données!$A26","v":"REC"},{"$f":"Données!$B26","v":"REC"}]
[{"$f":"Données!$H29","v":0},0,0,0,0,0,0,0,0,0,0,0,0,0,0,0,0,0,0,0,0,0,0,0,0,0,0,"00:00:00","00:00:00",null,{"$f":"SUMPRODUCT(ISNUMBER(MATCH(INDIRECT(\"H\"&$A$1&\"!B2:AF2\"),DimFe,0))*IFERROR(IF(\"19:00\">=IFERROR(Hgauche,0),IFERROR(hdroite-Hgauche,0),IF(durée1>0,durée1,\"00:00\")),0))+SUMPRODUCT(ISNUMBER(MATCH(INDIRECT(\"H\"&$A$1&\"!B2:AF2\"),moindimfe,0))*IFERROR(IF(\"19:00\"<=IFERROR(Hgauche,0),IF(durée4<0,0,durée4),\"00:00\"),0))","v":0},{"$f":"SUMPRODUCT(ISNUMBER(MATCH(INDIRECT(\"H\"&$A$1&\"!B2:AF2\"),DimFe,0))*IFERROR(IF(\"19:00\"<=IFERROR(Hgauche,0),IF(durée6<0,0,durée6),IF(durée<0,0,durée)),0))+SUMPRODUCT(ISNUMBER(MATCH(INDIRECT(\"H\"&$A$1&\"!B2:AF2\"),moindimfe,0))*IFERROR(IF(\"19:00\"<=IFERROR(Hgauche,0),IF(durée2<0,0,durée2),\"00:00\"),0))","v":0},{"$f":"SUMPRODUCT(1*IF(durée<0,0,durée))+SUMPRODUCT(1*IFERROR(IF(\"19:00\"<=IFERROR(Hgauche,0),IF(durée2<0,0,durée2),\"00:00\"),0))-durée5","v":0},null,0,{"$f":"VLOOKUP($A32,Bilan!A32:AI80,35,FALSE)","v":0},null,{"$f":"Bilan!AN32","v":{"$error":"#VALUE!"}},65,null,0,null,null,null,null,null,null,null,null,null,null,null,null,null,null,null,null,null,null,null,null,null,null,null,{"$f":"Données!$A27","v":"PL"},{"$f":"Données!$B27","v":"PL"}]
[{"$f":"Données!$H30","v":0},0,0,0,0,0,0,0,0,0,0,0,0,0,0,0,0,0,0,0,0,0,0,0,0,0,0,"00:00:00","00:00:00",null,{"$f":"SUMPRODUCT(ISNUMBER(MATCH(INDIRECT(\"H\"&$A$1&\"!B2:AF2\"),DimFe,0))*IFERROR(IF(\"19:00\">=IFERROR(Hgauche,0),IFERROR(hdroite-Hgauche,0),IF(durée1>0,durée1,\"00:00\")),0))+SUMPRODUCT(ISNUMBER(MATCH(INDIRECT(\"H\"&$A$1&\"!B2:AF2\"),moindimfe,0))*IFERROR(IF(\"19:00\"<=IFERROR(Hgauche,0),IF(durée4<0,0,durée4),\"00:00\"),0))","v":0},{"$f":"SUMPRODUCT(ISNUMBER(MATCH(INDIRECT(\"H\"&$A$1&\"!B2:AF2\"),DimFe,0))*IFERROR(IF(\"19:00\"<=IFERROR(Hgauche,0),IF(durée6<0,0,durée6),IF(durée<0,0,durée)),0))+SUMPRODUCT(ISNUMBER(MATCH(INDIRECT(\"H\"&$A$1&\"!B2:AF2\"),moindimfe,0))*IFERROR(IF(\"19:00\"<=IFERROR(Hgauche,0),IF(durée2<0,0,durée2),\"00:00\"),0))","v":0},{"$f":"SUMPRODUCT(1*IF(durée<0,0,durée))+SUMPRODUCT(1*IFERROR(IF(\"19:00\"<=IFERROR(Hgauche,0),IF(durée2<0,0,durée2),\"00:00\"),0))-durée5","v":0},null,0,{"$f":"VLOOKUP($A33,Bilan!A33:AI81,35,FALSE)","v":0},null,{"$f":"Bilan!AN33","v":{"$error":"#VALUE!"}},65,null,0,null,null,null,null,null,null,null,null,null,null,null,null,null,null,null,null,null,null,null,null,null,null,null,{"$f":"Données!$A28","v":"D"},{"$f":"Données!$B28","v":"D"}]
[{"$f":"Données!$H31","v":0},0,0,0,0,0,0,0,0,0,0,0,0,0,0,0,0,0,0,0,0,0,0,0,0,0,0,"00:00:00","00:00:00",null,{"$f":"SUMPRODUCT(ISNUMBER(MATCH(INDIRECT(\"H\"&$A$1&\"!B2:AF2\"),DimFe,0))*IFERROR(IF(\"19:00\">=IFERROR(Hgauche,0),IFERROR(hdroite-Hgauche,0),IF(durée1>0,durée1,\"00:00\")),0))+SUMPRODUCT(ISNUMBER(MATCH(INDIRECT(\"H\"&$A$1&\"!B2:AF2\"),moindimfe,0))*IFERROR(IF(\"19:00\"<=IFERROR(Hgauche,0),IF(durée4<0,0,durée4),\"00:00\"),0))","v":0},{"$f":"SUMPRODUCT(ISNUMBER(MATCH(INDIRECT(\"H\"&$A$1&\"!B2:AF2\"),DimFe,0))*IFERROR(IF(\"19:00\"<=IFERROR(Hgauche,0),IF(durée6<0,0,durée6),IF(durée<0,0,durée)),0))+SUMPRODUCT(ISNUMBER(MATCH(INDIRECT(\"H\"&$A$1&\"!B2:AF2\"),moindimfe,0))*IFERROR(IF(\"19:00\"<=IFERROR(Hgauche,0),IF(durée2<0,0,durée2),\"00:00\"),0))","v":0},{"$f":"SUMPRODUCT(1*IF(durée<0,0,durée))+SUMPRODUCT(1*IFERROR(IF(\"19:00\"<=IFERROR(Hgauche,0),IF(durée2<0,0,durée2),\"00:00\"),0))-durée5","v":0},null,0,{"$f":"VLOOKUP($A34,Bilan!A34:AI82,35,FALSE)","v":0},null,{"$f":"Bilan!AN34","v":{"$error":"#VALUE!"}},65,null,0]
[{"$f":"Données!$H32","v":"Maitresse de maison"}]
[{"$f":"Données!$H33","v":"N"},{"$f":"IF(SUMPRODUCT((INDIRECT(\"'\"&$A$1&\"'!$A$7:$A$56\")=$A36)*(INDIRECT(\"'\"&$A$1&\"'!$B$7:$AF$56\")=B$7))=0,\"\",SUMPRODUCT((INDIRECT(\"'\"&$A$1&\"'!$A$7:$A$56\")=$A36)*(INDIRECT(\"'\"&$A$1&\"'!$B$7:$AF$56\")=B$7)))","v":""},"","","","","","","","","","","","","","","","","","","","","","","","","",{"$f":"VLOOKUP($A36,INDIRECT(\"'\"&$A$1&\"'!$A$7:$AR$56\"),35,0)","v":"00:00:00"},{"$f":"VLOOKUP($A36,INDIRECT(\"'\"&$A$1&\"'!$A$7:$AR$56\"),36,0)","v":"00:00:00"},null,{"$f":"SUMPRODUCT(ISNUMBER(MATCH(INDIRECT(\"H\"&$A$1&\"!B2:AF2\"),DimFe,0))*IFERROR(IF(\"19:00\">=IFERROR(Hgauche,0),IFERROR(hdroite-Hgauche,0),IF(durée1>0,durée1,\"00:00\")),0))+SUMPRODUCT(ISNUMBER(MATCH(INDIRECT(\"H\"&$A$1&\"!B2:AF2\"),moindimfe,0))*IFERROR(IF(\"19:00\"<=IFERROR(Hgauche,0),IF(durée4<0,0,durée4),\"00:00\"),0))","v":0},{"$f":"SUMPRODUCT(ISNUMBER(MATCH(INDIRECT(\"H\"&$A$1&\"!B2:AF2\"),DimFe,0))*IFERROR(IF(\"19:00\"<=IFERROR(Hgauche,0),IF(durée6<0,0,durée6),IF(durée<0,0,durée)),0))+SUMPRODUCT(ISNUMBER(MATCH(INDIRECT(\"H\"&$A$1&\"!B2:AF2\"),moindimfe,0))*IFERROR(IF(\"19:00\"<=IFERROR(Hgauche,0),IF(durée2<0,0,durée2),\"00:00\"),0))","v":0},{"$f":"SUM(SUMPRODUCT(1*IFERROR(IF(\"19:00\"<=IFERROR(Hgauche,0),IF(durée2<0,0,durée2),\"00:00\"),0)),SUMPRODUCT(1*IFERROR(IF(\"19:00\"<=IFERROR(Hgauche,0),IF(durée6<0,0,durée6),\"00:00\"),0)),SUMPRODUCT(1*IFERROR(IF(\"21:00\"<=IFERROR(Hdroitesimple,0),IF(durée<0,0,durée),\"00:00\"),0)))-durée5","v":0},null,{"$f":"bilanh","v":0},{"$f":"VLOOKUP($A36,Bilan!$A$9:$AQ84,37,FALSE)","v":63},null,{"$f":"Bilan!AN36","v":65},65,null,{"$f":"Jourtravaillé","v":0}]
[{"$f":"Données!$H34","v":0},{"$f":"SUMPRODUCT((INDIRECT(\"'\"&$A$1&\"'!$A$7:$A$56\")=$A37)*(INDIRECT(\"'\"&$A$1&\"'!$B$7:$AF$56\")=B$7))","v":0},0,0,0,0,0,0,0,0,0,0,0,0,0,0,0,{"$f":"SUMPRODUCT((INDIRECT(\"'\"&$A$1&\"'!$A$7:$A$56\")=$A37)*(INDIRECT(\"'\"&$A$1&\"'!$B$7:$AF$56\")=R$7))","v":0},0,0,0,0,0,0,0,0,0,{"$f":"VLOOKUP($A37,INDIRECT(\"'H\"&$A$1&\"'!$A$7:$AR$56\"),35,0)","v":"00:00:00"},{"$f":"VLOOKUP($A37,INDIRECT(\"'H\"&$A$1&\"'!$A$7:$AR$56\"),38,0)","v":"00:00:00"},null,{"$f":"SUMPRODUCT(ISNUMBER(MATCH(INDIRECT(\"H\"&$A$1&\"!B2:AF2\"),DimFe,0))*IFERROR(IF(\"19:00\">=IFERROR(Hgauche,0),IFERROR(hdroite-Hgauche,0),IF(durée1>0,durée1,\"00:00\")),0))+SUMPRODUCT(ISNUMBER(MATCH(INDIRECT(\"H\"&$A$1&\"!B2:AF2\"),moindimfe,0))*IFERROR(IF(\"19:00\"<=IFERROR(Hgauche,0),IF(durée4<0,0,durée4),\"00:00\"),0))","v":0},{"$f":"SUMPRODUCT(ISNUMBER(MATCH(INDIRECT(\"H\"&$A$1&\"!B2:AF2\"),DimFe,0))*IFERROR(IF(\"19:00\"<=IFERROR(Hgauche,0),IF(durée6<0,0,durée6),IF(durée<0,0,durée)),0))+SUMPRODUCT(ISNUMBER(MATCH(INDIRECT(\"H\"&$A$1&\"!B2:AF2\"),moindimfe,0))*IFERROR(IF(\"19:00\"<=IFERROR(Hgauche,0),IF(durée2<0,0,durée2),\"00:00\"),0))","v":0},{"$f":"SUMPRODUCT(1*IF(durée<0,0,durée))+SUMPRODUCT(1*IFERROR(IF(\"19:00\"<=IFERROR(Hgauche,0),IF(durée2<0,0,durée2),\"00:00\"),0))-durée5","v":0},null,{"$f":"(AB37/24)+SUMPRODUCT(($B$6:$AA$6)*(B37:AA37))","v":0},{"$f":"VLOOKUP($A37,Bilan!A37:AI85,35,FALSE)","v":0},null,{"$f":"Bilan!AN37","v":65},65,null,{"$f":"SUM(B37:R37)","v":0}]
[{"$f":"Données!$H35","v":0},0,0,0,0,0,0,0,0,0,0,0,0,0,0,0,0,0,0,0,0,0,0,0,0,0,0,"00:00:00","00:00:00",null,{"$f":"SUMPRODUCT(ISNUMBER(MATCH(INDIRECT(\"H\"&$A$1&\"!B2:AF2\"),DimFe,0))*IFERROR(IF(\"19:00\">=IFERROR(Hgauche,0),IFERROR(hdroite-Hgauche,0),IF(durée1>0,durée1,\"00:00\")),0))+SUMPRODUCT(ISNUMBER(MATCH(INDIRECT(\"H\"&$A$1&\"!B2:AF2\"),moindimfe,0))*IFERROR(IF(\"19:00\"<=IFERROR(Hgauche,0),IF(durée4<0,0,durée4),\"00:00\"),0))","v":0},{"$f":"SUMPRODUCT(ISNUMBER(MATCH(INDIRECT(\"H\"&$A$1&\"!B2:AF2\"),DimFe,0))*IFERROR(IF(\"19:00\"<=IFERROR(Hgauche,0),IF(durée6<0,0,durée6),IF(durée<0,0,durée)),0))+SUMPRODUCT(ISNUMBER(MATCH(INDIRECT(\"H\"&$A$1&\"!B2:AF2\"),moindimfe,0))*IFERROR(IF(\"19:00\"<=IFERROR(Hgauche,0),IF(durée2<0,0,durée2),\"00:00\"),0))","v":0},{"$f":"SUMPRODUCT(1*IF(durée<0,0,durée))+SUMPRODUCT(1*IFERROR(IF(\"19:00\"<=IFERROR(Hgauche,0),IF(durée2<0,0,durée2),\"00:00\"),0))-durée5","v":0},null,0,{"$f":"VLOOKUP($A38,Bilan!A38:AI86,35,FALSE)","v":0},null,{"$f":"Bilan!AN38","v":{"$error":"#VALUE!"}},65,null,0]
[{"$f":"Données!$H36","v":0},0,0,0,0,0,0,0,0,0,0,0,0,0,0,0,0,0,0,0,0,0,0,0,0,0,0,"00:00:00","00:00:00",null,{"$f":"SUMPRODUCT(ISNUMBER(MATCH(INDIRECT(\"H\"&$A$1&\"!B2:AF2\"),DimFe,0))*IFERROR(IF(\"19:00\">=IFERROR(Hgauche,0),IFERROR(hdroite-Hgauche,0),IF(durée1>0,durée1,\"00:00\")),0))+SUMPRODUCT(ISNUMBER(MATCH(INDIRECT(\"H\"&$A$1&\"!B2:AF2\"),moindimfe,0))*IFERROR(IF(\"19:00\"<=IFERROR(Hgauche,0),IF(durée4<0,0,durée4),\"00:00\"),0))","v":0},{"$f":"SUMPRODUCT(ISNUMBER(MATCH(INDIRECT(\"H\"&$A$1&\"!B2:AF2\"),DimFe,0))*IFERROR(IF(\"19:00\"<=IFERROR(Hgauche,0),IF(durée6<0,0,durée6),IF(durée<0,0,durée)),0))+SUMPRODUCT(ISNUMBER(MATCH(INDIRECT(\"H\"&$A$1&\"!B2:AF2\"),moindimfe,0))*IFERROR(IF(\"19:00\"<=IFERROR(Hgauche,0),IF(durée2<0,0,durée2),\"00:00\"),0))","v":0},{"$f":"SUMPRODUCT(1*IF(durée<0,0,durée))+SUMPRODUCT(1*IFERROR(IF(\"19:00\"<=IFERROR(Hgauche,0),IF(durée2<0,0,durée2),\"00:00\"),0))-durée5","v":0},null,0,{"$f":"VLOOKUP($A39,Bilan!A39:AI87,35,FALSE)","v":0},null,{"$f":"Bilan!AN39","v":{"$error":"#VALUE!"}},65,null,0]
[{"$f":"Données!$H37","v":0},0,0,0,0,0,0,0,0,0,0,0,0,0,0,0,0,0,0,0,0,0,0,0,0,0,0,"00:00:00","00:00:00",null,{"$f":"SUMPRODUCT(ISNUMBER(MATCH(INDIRECT(\"H\"&$A$1&\"!B2:AF2\"),DimFe,0))*IFERROR(IF(\"19:00\">=IFERROR(Hgauche,0),IFERROR(hdroite-Hgauche,0),IF(durée1>0,durée1,\"00:00\")),0))+SUMPRODUCT(ISNUMBER(MATCH(INDIRECT(\"H\"&$A$1&\"!B2:AF2\"),moindimfe,0))*IFERROR(IF(\"19:00\"<=IFERROR(Hgauche,0),IF(durée4<0,0,durée4),\"00:00\"),0))","v":0},{"$f":"SUMPRODUCT(ISNUMBER(MATCH(INDIRECT(\"H\"&$A$1&\"!B2:AF2\"),DimFe,0))*IFERROR(IF(\"19:00\"<=IFERROR(Hgauche,0),IF(durée6<0,0,durée6),IF(durée<0,0,durée)),0))+SUMPRODUCT(ISNUMBER(MATCH(INDIRECT(\"H\"&$A$1&\"!B2:AF2\"),moindimfe,0))*IFERROR(IF(\"19:00\"<=IFERROR(Hgauche,0),IF(durée2<0,0,durée2),\"00:00\"),0))","v":0},{"$f":"SUMPRODUCT(1*IF(durée<0,0,durée))+SUMPRODUCT(1*IFERROR(IF(\"19:00\"<=IFERROR(Hgauche,0),IF(durée2<0,0,durée2),\"00:00\"),0))-durée5","v":0},null,0,{"$f":"VLOOKUP($A40,Bilan!A40:AI88,35,FALSE)","v":0},null,{"$f":"Bilan!AN40","v":{"$error":"#VALUE!"}},65,null,0]
[{"$f":"Données!$H38","v":0},0,0,0,0,0,0,0,0,0,0,0,0,0,0,0,0,0,0,0,0,0,0,0,0,0,0,"00:00:00","00:00:00",null,{"$f":"SUMPRODUCT(ISNUMBER(MATCH(INDIRECT(\"H\"&$A$1&\"!B2:AF2\"),DimFe,0))*IFERROR(IF(\"19:00\">=IFERROR(Hgauche,0),IFERROR(hdroite-Hgauche,0),IF(durée1>0,durée1,\"00:00\")),0))+SUMPRODUCT(ISNUMBER(MATCH(INDIRECT(\"H\"&$A$1&\"!B2:AF2\"),moindimfe,0))*IFERROR(IF(\"19:00\"<=IFERROR(Hgauche,0),IF(durée4<0,0,durée4),\"00:00\"),0))","v":0},{"$f":"SUMPRODUCT(ISNUMBER(MATCH(INDIRECT(\"H\"&$A$1&\"!B2:AF2\"),DimFe,0))*IFERROR(IF(\"19:00\"<=IFERROR(Hgauche,0),IF(durée6<0,0,durée6),IF(durée<0,0,durée)),0))+SUMPRODUCT(ISNUMBER(MATCH(INDIRECT(\"H\"&$A$1&\"!B2:AF2\"),moindimfe,0))*IFERROR(IF(\"19:00\"<=IFERROR(Hgauche,0),IF(durée2<0,0,durée2),\"00:00\"),0))","v":0},{"$f":"SUMPRODUCT(1*IF(durée<0,0,durée))+SUMPRODUCT(1*IFERROR(IF(\"19:00\"<=IFERROR(Hgauche,0),IF(durée2<0,0,durée2),\"00:00\"),0))-durée5","v":0},null,0,{"$f":"VLOOKUP($A41,Bilan!A41:AI89,35,FALSE)","v":0},null,{"$f":"Bilan!AN41","v":{"$error":"#VALUE!"}},65,null,0]
[{"$f":"Données!$H39","v":0},0,0,0,0,0,0,0,0,0,0,0,0,0,0,0,0,0,0,0,0,0,0,0,0,0,0,"00:00:00","00:00:00",null,{"$f":"SUMPRODUCT(ISNUMBER(MATCH(INDIRECT(\"H\"&$A$1&\"!B2:AF2\"),DimFe,0))*IFERROR(IF(\"19:00\">=IFERROR(Hgauche,0),IFERROR(hdroite-Hgauche,0),IF(durée1>0,durée1,\"00:00\")),0))+SUMPRODUCT(ISNUMBER(MATCH(INDIRECT(\"H\"&$A$1&\"!B2:AF2\"),moindimfe,0))*IFERROR(IF(\"19:00\"<=IFERROR(Hgauche,0),IF(durée4<0,0,durée4),\"00:00\"),0))","v":0},{"$f":"SUMPRODUCT(ISNUMBER(MATCH(INDIRECT(\"H\"&$A$1&\"!B2:AF2\"),DimFe,0))*IFERROR(IF(\"19:00\"<=IFERROR(Hgauche,0),IF(durée6<0,0,durée6),IF(durée<0,0,durée)),0))+SUMPRODUCT(ISNUMBER(MATCH(INDIRECT(\"H\"&$A$1&\"!B2:AF2\"),moindimfe,0))*IFERROR(IF(\"19:00\"<=IFERROR(Hgauche,0),IF(durée2<0,0,durée2),\"00:00\"),0))","v":0},{"$f":"SUMPRODUCT(1*IF(durée<0,0,durée))+SUMPRODUCT(1*IFERROR(IF(\"19:00\"<=IFERROR(Hgauche,0),IF(durée2<0,0,durée2),\"00:00\"),0))-durée5","v":0},null,0,{"$f":"VLOOKUP($A42,Bilan!A42:AI90,35,FALSE)","v":0},null,{"$f":"Bilan!AN42","v":{"$error":"#VALUE!"}},65,null,0]
[{"$f":"Données!$H40","v":0},0,0,0,0,0,0,0,0,0,0,0,0,0,0,0,0,0,0,0,0,0,0,0,0,0,0,"00:00:00","00:00:00",null,{"$f":"SUMPRODUCT(ISNUMBER(MATCH(INDIRECT(\"H\"&$A$1&\"!B2:AF2\"),DimFe,0))*IFERROR(IF(\"19:00\">=IFERROR(Hgauche,0),IFERROR(hdroite-Hgauche,0),IF(durée1>0,durée1,\"00:00\")),0))+SUMPRODUCT(ISNUMBER(MATCH(INDIRECT(\"H\"&$A$1&\"!B2:AF2\"),moindimfe,0))*IFERROR(IF(\"19:00\"<=IFERROR(Hgauche,0),IF(durée4<0,0,durée4),\"00:00\"),0))","v":0},{"$f":"SUMPRODUCT(ISNUMBER(MATCH(INDIRECT(\"H\"&$A$1&\"!B2:AF2\"),DimFe,0))*IFERROR(IF(\"19:00\"<=IFERROR(Hgauche,0),IF(durée6<0,0,durée6),IF(durée<0,0,durée)),0))+SUMPRODUCT(ISNUMBER(MATCH(INDIRECT(\"H\"&$A$1&\"!B2:AF2\"),moindimfe,0))*IFERROR(IF(\"19:00\"<=IFERROR(Hgauche,0),IF(durée2<0,0,durée2),\"00:00\"),0))","v":0},{"$f":"SUMPRODUCT(1*IF(durée<0,0,durée))+SUMPRODUCT(1*IFERROR(IF(\"19:00\"<=IFERROR(Hgauche,0),IF(durée2<0,0,durée2),\"00:00\"),0))-durée5","v":0},null,0,{"$f":"VLOOKUP($A43,Bilan!A43:AI91,35,FALSE)","v":0},null,{"$f":"Bilan!AN43","v":{"$error":"#VALUE!"}},65,null,0]
[{"$f":"Données!$H41","v":0},0,0,0,0,0,0,0,0,0,0,0,0,0,0,0,0,0,0,0,0,0,0,0,0,0,0,"00:00:00","00:00:00",null,{"$f":"SUMPRODUCT(ISNUMBER(MATCH(INDIRECT(\"H\"&$A$1&\"!B2:AF2\"),DimFe,0))*IFERROR(IF(\"19:00\">=IFERROR(Hgauche,0),IFERROR(hdroite-Hgauche,0),IF(durée1>0,durée1,\"00:00\")),0))+SUMPRODUCT(ISNUMBER(MATCH(INDIRECT(\"H\"&$A$1&\"!B2:AF2\"),moindimfe,0))*IFERROR(IF(\"19:00\"<=IFERROR(Hgauche,0),IF(durée4<0,0,durée4),\"00:00\"),0))","v":0},{"$f":"SUMPRODUCT(ISNUMBER(MATCH(INDIRECT(\"H\"&$A$1&\"!B2:AF2\"),DimFe,0))*IFERROR(IF(\"19:00\"<=IFERROR(Hgauche,0),IF(durée6<0,0,durée6),IF(durée<0,0,durée)),0))+SUMPRODUCT(ISNUMBER(MATCH(INDIRECT(\"H\"&$A$1&\"!B2:AF2\"),moindimfe,0))*IFERROR(IF(\"19:00\"<=IFERROR(Hgauche,0),IF(durée2<0,0,durée2),\"00:00\"),0))","v":0},{"$f":"SUMPRODUCT(1*IF(durée<0,0,durée))+SUMPRODUCT(1*IFERROR(IF(\"19:00\"<=IFERROR(Hgauche,0),IF(durée2<0,0,durée2),\"00:00\"),0))-durée5","v":0},null,0,{"$f":"VLOOKUP($A44,Bilan!A44:AI92,35,FALSE)","v":0},null,{"$f":"Bilan!AN44","v":{"$error":"#VALUE!"}},65,null,0]
[{"$f":"Données!$H42","v":"Psychologue"}]
[{"$f":"Données!$H43","v":"O"},{"$f":"IF(SUMPRODUCT((INDIRECT(\"'\"&$A$1&\"'!$A$7:$A$56\")=$A46)*(INDIRECT(\"'\"&$A$1&\"'!$B$7:$AF$56\")=B$7))=0,\"\",SUMPRODUCT((INDIRECT(\"'\"&$A$1&\"'!$A$7:$A$56\")=$A46)*(INDIRECT(\"'\"&$A$1&\"'!$B$7:$AF$56\")=B$7)))","v":""},"","","","","","","","","","","","","","","","","","","","","","","","","",{"$f":"VLOOKUP($A46,INDIRECT(\"'\"&$A$1&\"'!$A$7:$AR$56\"),35,0)","v":"00:00:00"},{"$f":"VLOOKUP($A46,INDIRECT(\"'\"&$A$1&\"'!$A$7:$AR$56\"),36,0)","v":"00:00:00"},null,{"$f":"SUMPRODUCT(ISNUMBER(MATCH(INDIRECT(\"H\"&$A$1&\"!B2:AF2\"),DimFe,0))*IFERROR(IF(\"19:00\">=IFERROR(Hgauche,0),IFERROR(hdroite-Hgauche,0),IF(durée1>0,durée1,\"00:00\")),0))+SUMPRODUCT(ISNUMBER(MATCH(INDIRECT(\"H\"&$A$1&\"!B2:AF2\"),moindimfe,0))*IFERROR(IF(\"19:00\"<=IFERROR(Hgauche,0),IF(durée4<0,0,durée4),\"00:00\"),0))","v":0},{"$f":"SUMPRODUCT(ISNUMBER(MATCH(INDIRECT(\"H\"&$A$1&\"!B2:AF2\"),DimFe,0))*IFERROR(IF(\"19:00\"<=IFERROR(Hgauche,0),IF(durée6<0,0,durée6),IF(durée<0,0,durée)),0))+SUMPRODUCT(ISNUMBER(MATCH(INDIRECT(\"H\"&$A$1&\"!B2:AF2\"),moindimfe,0))*IFERROR(IF(\"19:00\"<=IFERROR(Hgauche,0),IF(durée2<0,0,durée2),\"00:00\"),0))","v":0},{"$f":"SUM(SUMPRODUCT(1*IFERROR(IF(\"19:00\"<=IFERROR(Hgauche,0),IF(durée2<0,0,durée2),\"00:00\"),0)),SUMPRODUCT(1*IFERROR(IF(\"19:00\"<=IFERROR(Hgauche,0),IF(durée6<0,0,durée6),\"00:00\"),0)),SUMPRODUCT(1*IFERROR(IF(\"21:00\"<=IFERROR(Hdroitesimple,0),IF(durée<0,0,durée),\"00:00\"),0)))-durée5","v":0},null,{"$f":"bilanh","v":0},{"$f":"VLOOKUP($A46,Bilan!$A$9:$AQ94,37,FALSE)","v":63},null,{"$f":"Bilan!AN46","v":65},65,null,{"$f":"Jourtravaillé","v":0}]
[{"$f":"Données!$H44","v":0},{"$f":"SUMPRODUCT((INDIRECT(\"'\"&$A$1&\"'!$A$7:$A$56\")=$A47)*(INDIRECT(\"'\"&$A$1&\"'!$B$7:$AF$56\")=B$7))","v":0},0,0,0,0,0,0,0,0,0,0,0,0,0,0,0,{"$f":"SUMPRODUCT((INDIRECT(\"'\"&$A$1&\"'!$A$7:$A$56\")=$A47)*(INDIRECT(\"'\"&$A$1&\"'!$B$7:$AF$56\")=R$7))","v":0},0,0,0,0,0,0,0,0,0,{"$f":"VLOOKUP($A47,INDIRECT(\"'H\"&$A$1&\"'!$A$7:$AR$56\"),35,0)","v":"00:00:00"},{"$f":"VLOOKUP($A47,INDIRECT(\"'H\"&$A$1&\"'!$A$7:$AR$56\"),38,0)","v":"00:00:00"},null,{"$f":"SUMPRODUCT(ISNUMBER(MATCH(INDIRECT(\"H\"&$A$1&\"!B2:AF2\"),DimFe,0))*IFERROR(IF(\"19:00\">=IFERROR(Hgauche,0),IFERROR(hdroite-Hgauche,0),IF(durée1>0,durée1,\"00:00\")),0))+SUMPRODUCT(ISNUMBER(MATCH(INDIRECT(\"H\"&$A$1&\"!B2:AF2\"),moindimfe,0))*IFERROR(IF(\"19:00\"<=IFERROR(Hgauche,0),IF(durée4<0,0,durée4),\"00:00\"),0))","v":0},{"$f":"SUMPRODUCT(ISNUMBER(MATCH(INDIRECT(\"H\"&$A$1&\"!B2:AF2\"),DimFe,0))*IFERROR(IF(\"19:00\"<=IFERROR(Hgauche,0),IF(durée6<0,0,durée6),IF(durée<0,0,durée)),0))+SUMPRODUCT(ISNUMBER(MATCH(INDIRECT(\"H\"&$A$1&\"!B2:AF2\"),moindimfe,0))*IFERROR(IF(\"19:00\"<=IFERROR(Hgauche,0),IF(durée2<0,0,durée2),\"00:00\"),0))","v":0},{"$f":"SUMPRODUCT(1*IF(durée<0,0,durée))+SUMPRODUCT(1*IFERROR(IF(\"19:00\"<=IFERROR(Hgauche,0),IF(durée2<0,0,durée2),\"00:00\"),0))-durée5","v":0},null,{"$f":"(AB47/24)+SUMPRODUCT(($B$6:$AA$6)*(B47:AA47))","v":0},{"$f":"VLOOKUP($A47,Bilan!A47:AI95,35,FALSE)","v":0},null,{"$f":"Bilan!AN47","v":65},65,null,{"$f":"SUM(B47:R47)","v":0}]
[{"$f":"Données!$H45","v":0},0,0,0,0,0,0,0,0,0,0,0,0,0,0,0,0,0,0,0,0,0,0,0,0,0,0,{"$f":"VLOOKUP($A48,INDIRECT(\"'H\"&$A$1&\"'!$A$7:$AR$56\"),35,0)","v":"00:00:00"},{"$f":"VLOOKUP($A48,INDIRECT(\"'H\"&$A$1&\"'!$A$7:$AR$56\"),38,0)","v":"00:00:00"},null,{"$f":"SUMPRODUCT(ISNUMBER(MATCH(INDIRECT(\"H\"&$A$1&\"!B2:AF2\"),DimFe,0))*IFERROR(IF(\"19:00\">=IFERROR(Hgauche,0),IFERROR(hdroite-Hgauche,0),IF(durée1>0,durée1,\"00:00\")),0))+SUMPRODUCT(ISNUMBER(MATCH(INDIRECT(\"H\"&$A$1&\"!B2:AF2\"),moindimfe,0))*IFERROR(IF(\"19:00\"<=IFERROR(Hgauche,0),IF(durée4<0,0,durée4),\"00:00\"),0))","v":0},{"$f":"SUMPRODUCT(ISNUMBER(MATCH(INDIRECT(\"H\"&$A$1&\"!B2:AF2\"),DimFe,0))*IFERROR(IF(\"19:00\"<=IFERROR(Hgauche,0),IF(durée6<0,0,durée6),IF(durée<0,0,durée)),0))+SUMPRODUCT(ISNUMBER(MATCH(INDIRECT(\"H\"&$A$1&\"!B2:AF2\"),moindimfe,0))*IFERROR(IF(\"19:00\"<=IFERROR(Hgauche,0),IF(durée2<0,0,durée2),\"00:00\"),0))","v":0},{"$f":"SUMPRODUCT(1*IF(durée<0,0,durée))+SUMPRODUCT(1*IFERROR(IF(\"19:00\"<=IFERROR(Hgauche,0),IF(durée2<0,0,durée2),\"00:00\"),0))-durée5","v":0},null,{"$f":"(AB48/24)+SUMPRODUCT(($B$6:$AA$6)*(B48:AA48))","v":0},{"$f":"VLOOKUP($A48,Bilan!A48:AI96,35,FALSE)","v":0},null,{"$f":"Bilan!AN48","v":{"$error":"#VALUE!"}},65,null,{"$f":"SUM(B48:R48)","v":0}]
[{"$f":"Données!$H46","v":"Coordinatrice"}]
[{"$f":"Données!$H47","v":"P"},{"$f":"IF(SUMPRODUCT((INDIRECT(\"'\"&$A$1&\"'!$A$7:$A$56\")=$A50)*(INDIRECT(\"'\"&$A$1&\"'!$B$7:$AF$56\")=B$7))=0,\"\",SUMPRODUCT((INDIRECT(\"'\"&$A$1&\"'!$A$7:$A$56\")=$A50)*(INDIRECT(\"'\"&$A$1&\"'!$B$7:$AF$56\")=B$7)))","v":""},"","","","","","","","","","","","","","","","","","","","","","","","","",{"$f":"VLOOKUP($A50,INDIRECT(\"'\"&$A$1&\"'!$A$7:$AR$56\"),35,0)","v":"00:00:00"},{"$f":"VLOOKUP($A50,INDIRECT(\"'\"&$A$1&\"'!$A$7:$AR$56\"),36,0)","v":"00:00:00"},null,{"$f":"SUMPRODUCT(ISNUMBER(MATCH(INDIRECT(\"H\"&$A$1&\"!B2:AF2\"),DimFe,0))*IFERROR(IF(\"19:00\">=IFERROR(Hgauche,0),IFERROR(hdroite-Hgauche,0),IF(durée1>0,durée1,\"00:00\")),0))+SUMPRODUCT(ISNUMBER(MATCH(INDIRECT(\"H\"&$A$1&\"!B2:AF2\"),moindimfe,0))*IFERROR(IF(\"19:00\"<=IFERROR(Hgauche,0),IF(durée4<0,0,durée4),\"00:00\"),0))","v":0},{"$f":"SUMPRODUCT(ISNUMBER(MATCH(INDIRECT(\"H\"&$A$1&\"!B2:AF2\"),DimFe,0))*IFERROR(IF(\"19:00\"<=IFERROR(Hgauche,0),IF(durée6<0,0,durée6),IF(durée<0,0,durée)),0))+SUMPRODUCT(ISNUMBER(MATCH(INDIRECT(\"H\"&$A$1&\"!B2:AF2\"),moindimfe,0))*IFERROR(IF(\"19:00\"<=IFERROR(Hgauche,0),IF(durée2<0,0,durée2),\"00:00\"),0))","v":0},{"$f":"SUM(SUMPRODUCT(1*IFERROR(IF(\"19:00\"<=IFERROR(Hgauche,0),IF(durée2<0,0,durée2),\"00:00\"),0)),SUMPRODUCT(1*IFERROR(IF(\"19:00\"<=IFERROR(Hgauche,0),IF(durée6<0,0,durée6),\"00:00\"),0)),SUMPRODUCT(1*IFERROR(IF(\"21:00\"<=IFERROR(Hdroitesimple,0),IF(durée<0,0,durée),\"00:00\"),0)))-durée5","v":0},null,{"$f":"bilanh","v":0},{"$f":"VLOOKUP($A50,Bilan!$A$9:$AQ98,37,FALSE)","v":63},null,{"$f":"Bilan!AN50","v":65},65,null,{"$f":"Jourtravaillé","v":0}]
[{"$f":"Données!$H48","v":0},{"$f":"SUMPRODUCT((INDIRECT(\"'\"&$A$1&\"'!$A$7:$A$56\")=$A51)*(INDIRECT(\"'\"&$A$1&\"'!$B$7:$AF$56\")=B$7))","v":0},0,0,0,0,0,0,0,0,0,0,0,0,0,0,0,{"$f":"SUMPRODUCT((INDIRECT(\"'\"&$A$1&\"'!$A$7:$A$56\")=$A51)*(INDIRECT(\"'\"&$A$1&\"'!$B$7:$AF$56\")=R$7))","v":0},0,0,0,0,0,0,0,0,0,{"$f":"VLOOKUP($A51,INDIRECT(\"'H\"&$A$1&\"'!$A$7:$AR$56\"),35,0)","v":"00:00:00"},{"$f":"VLOOKUP($A51,INDIRECT(\"'H\"&$A$1&\"'!$A$7:$AR$56\"),38,0)","v":"00:00:00"},null,{"$f":"SUMPRODUCT(ISNUMBER(MATCH(INDIRECT(\"H\"&$A$1&\"!B2:AF2\"),DimFe,0))*IFERROR(IF(\"19:00\">=IFERROR(Hgauche,0),IFERROR(hdroite-Hgauche,0),IF(durée1>0,durée1,\"00:00\")),0))+SUMPRODUCT(ISNUMBER(MATCH(INDIRECT(\"H\"&$A$1&\"!B2:AF2\"),moindimfe,0))*IFERROR(IF(\"19:00\"<=IFERROR(Hgauche,0),IF(durée4<0,0,durée4),\"00:00\"),0))","v":0},{"$f":"SUMPRODUCT(ISNUMBER(MATCH(INDIRECT(\"H\"&$A$1&\"!B2:AF2\"),DimFe,0))*IFERROR(IF(\"19:00\"<=IFERROR(Hgauche,0),IF(durée6<0,0,durée6),IF(durée<0,0,durée)),0))+SUMPRODUCT(ISNUMBER(MATCH(INDIRECT(\"H\"&$A$1&\"!B2:AF2\"),moindimfe,0))*IFERROR(IF(\"19:00\"<=IFERROR(Hgauche,0),IF(durée2<0,0,durée2),\"00:00\"),0))","v":0},{"$f":"SUMPRODUCT(1*IF(durée<0,0,durée))+SUMPRODUCT(1*IFERROR(IF(\"19:00\"<=IFERROR(Hgauche,0),IF(durée2<0,0,durée2),\"00:00\"),0))-durée5","v":0},null,{"$f":"(AB51/24)+SUMPRODUCT(($B$6:$AA$6)*(B51:AA51))","v":0},{"$f":"VLOOKUP($A51,Bilan!A51:AI99,35,FALSE)","v":0},null,{"$f":"Bilan!AN51","v":66},65,null,{"$f":"SUM(B51:R51)","v":0}]
[{"$f":"Données!$H49","v":0},0,0,0,0,0,0,0,0,0,0,0,0,0,0,0,0,0,0,0,0,0,0,0,0,0,0,{"$f":"VLOOKUP($A52,INDIRECT(\"'H\"&$A$1&\"'!$A$7:$AR$56\"),35,0)","v":"00:00:00"},{"$f":"VLOOKUP($A52,INDIRECT(\"'H\"&$A$1&\"'!$A$7:$AR$56\"),38,0)","v":"00:00:00"},null,{"$f":"SUMPRODUCT(ISNUMBER(MATCH(INDIRECT(\"H\"&$A$1&\"!B2:AF2\"),DimFe,0))*IFERROR(IF(\"19:00\">=IFERROR(Hgauche,0),IFERROR(hdroite-Hgauche,0),IF(durée1>0,durée1,\"00:00\")),0))+SUMPRODUCT(ISNUMBER(MATCH(INDIRECT(\"H\"&$A$1&\"!B2:AF2\"),moindimfe,0))*IFERROR(IF(\"19:00\"<=IFERROR(Hgauche,0),IF(durée4<0,0,durée4),\"00:00\"),0))","v":0},{"$f":"SUMPRODUCT(ISNUMBER(MATCH(INDIRECT(\"H\"&$A$1&\"!B2:AF2\"),DimFe,0))*IFERROR(IF(\"19:00\"<=IFERROR(Hgauche,0),IF(durée6<0,0,durée6),IF(durée<0,0,durée)),0))+SUMPRODUCT(ISNUMBER(MATCH(INDIRECT(\"H\"&$A$1&\"!B2:AF2\"),moindimfe,0))*IFERROR(IF(\"19:00\"<=IFERROR(Hgauche,0),IF(durée2<0,0,durée2),\"00:00\"),0))","v":0},{"$f":"SUMPRODUCT(1*IF(durée<0,0,durée))+SUMPRODUCT(1*IFERROR(IF(\"19:00\"<=IFERROR(Hgauche,0),IF(durée2<0,0,durée2),\"00:00\"),0))-durée5","v":0},null,{"$f":"(AB52/24)+SUMPRODUCT(($B$6:$AA$6)*(B52:AA52))","v":0},{"$f":"VLOOKUP($A52,Bilan!A52:AI100,35,FALSE)","v":0},null,{"$f":"Bilan!AN52","v":{"$error":"#VALUE!"}},66,null,{"$f":"SUM(B52:R52)","v":0}]
[{"$f":"Données!$H50","v":0},0,0,0,0,0,0,0,0,0,0,0,0,0,0,0,0,0,0,0,0,0,0,0,0,0,0,{"$f":"VLOOKUP($A53,INDIRECT(\"'H\"&$A$1&\"'!$A$7:$AR$56\"),35,0)","v":"00:00:00"},{"$f":"VLOOKUP($A53,INDIRECT(\"'H\"&$A$1&\"'!$A$7:$AR$56\"),38,0)","v":"00:00:00"},null,{"$f":"SUMPRODUCT(ISNUMBER(MATCH(INDIRECT(\"H\"&$A$1&\"!B2:AF2\"),DimFe,0))*IFERROR(IF(\"19:00\">=IFERROR(Hgauche,0),IFERROR(hdroite-Hgauche,0),IF(durée1>0,durée1,\"00:00\")),0))+SUMPRODUCT(ISNUMBER(MATCH(INDIRECT(\"H\"&$A$1&\"!B2:AF2\"),moindimfe,0))*IFERROR(IF(\"19:00\"<=IFERROR(Hgauche,0),IF(durée4<0,0,durée4),\"00:00\"),0))","v":0},{"$f":"SUMPRODUCT(ISNUMBER(MATCH(INDIRECT(\"H\"&$A$1&\"!B2:AF2\"),DimFe,0))*IFERROR(IF(\"19:00\"<=IFERROR(Hgauche,0),IF(durée6<0,0,durée6),IF(durée<0,0,durée)),0))+SUMPRODUCT(ISNUMBER(MATCH(INDIRECT(\"H\"&$A$1&\"!B2:AF2\"),moindimfe,0))*IFERROR(IF(\"19:00\"<=IFERROR(Hgauche,0),IF(durée2<0,0,durée2),\"00:00\"),0))","v":0},{"$f":"SUMPRODUCT(1*IF(durée<0,0,durée))+SUMPRODUCT(1*IFERROR(IF(\"19:00\"<=IFERROR(Hgauche,0),IF(durée2<0,0,durée2),\"00:00\"),0))-durée5","v":0},null,{"$f":"(AB53/24)+SUMPRODUCT(($B$6:$AA$6)*(B53:AA53))","v":0},{"$f":"VLOOKUP($A53,Bilan!A53:AI101,35,FALSE)","v":0},null,{"$f":"Bilan!AN53","v":{"$error":"#VALUE!"}},67,null,{"$f":"SUM(B53:R53)","v":0}]
[{"$f":"Données!$H51","v":0},0,0,0,0,0,0,0,0,0,0,0,0,0,0,0,0,0,0,0,0,0,0,0,0,0,0,{"$f":"VLOOKUP($A54,INDIRECT(\"'H\"&$A$1&\"'!$A$7:$AR$56\"),35,0)","v":"00:00:00"},{"$f":"VLOOKUP($A54,INDIRECT(\"'H\"&$A$1&\"'!$A$7:$AR$56\"),38,0)","v":"00:00:00"},null,{"$f":"SUMPRODUCT(ISNUMBER(MATCH(INDIRECT(\"H\"&$A$1&\"!B2:AF2\"),DimFe,0))*IFERROR(IF(\"19:00\">=IFERROR(Hgauche,0),IFERROR(hdroite-Hgauche,0),IF(durée1>0,durée1,\"00:00\")),0))+SUMPRODUCT(ISNUMBER(MATCH(INDIRECT(\"H\"&$A$1&\"!B2:AF2\"),moindimfe,0))*IFERROR(IF(\"19:00\"<=IFERROR(Hgauche,0),IF(durée4<0,0,durée4),\"00:00\"),0))","v":0},{"$f":"SUMPRODUCT(ISNUMBER(MATCH(INDIRECT(\"H\"&$A$1&\"!B2:AF2\"),DimFe,0))*IFERROR(IF(\"19:00\"<=IFERROR(Hgauche,0),IF(durée6<0,0,durée6),IF(durée<0,0,durée)),0))+SUMPRODUCT(ISNUMBER(MATCH(INDIRECT(\"H\"&$A$1&\"!B2:AF2\"),moindimfe,0))*IFERROR(IF(\"19:00\"<=IFERROR(Hgauche,0),IF(durée2<0,0,durée2),\"00:00\"),0))","v":0},{"$f":"SUMPRODUCT(1*IF(durée<0,0,durée))+SUMPRODUCT(1*IFERROR(IF(\"19:00\"<=IFERROR(Hgauche,0),IF(durée2<0,0,durée2),\"00:00\"),0))-durée5","v":0},null,{"$f":"(AB54/24)+SUMPRODUCT(($B$6:$AA$6)*(B54:AA54))","v":0},{"$f":"VLOOKUP($A54,Bilan!A54:AI102,35,FALSE)","v":0},null,{"$f":"Bilan!AN54","v":{"$error":"#VALUE!"}},68,null,{"$f":"SUM(B54:R54)","v":0}]
[{"$f":"Données!$H52","v":"Chef de service"}]
[{"$f":"Données!$H53","v":"Q"},{"$f":"IF(SUMPRODUCT((INDIRECT(\"'\"&$A$1&\"'!$A$7:$A$56\")=$A56)*(INDIRECT(\"'\"&$A$1&\"'!$B$7:$AF$56\")=B$7))=0,\"\",SUMPRODUCT((INDIRECT(\"'\"&$A$1&\"'!$A$7:$A$56\")=$A56)*(INDIRECT(\"'\"&$A$1&\"'!$B$7:$AF$56\")=B$7)))","v":""},"","","","","","","","","","","","","","","","","","","","","","","","","",{"$f":"VLOOKUP($A56,INDIRECT(\"'\"&$A$1&\"'!$A$7:$AR$56\"),35,0)","v":"00:00:00"},{"$f":"VLOOKUP($A56,INDIRECT(\"'\"&$A$1&\"'!$A$7:$AR$56\"),36,0)","v":"00:00:00"},null,{"$f":"SUMPRODUCT(ISNUMBER(MATCH(INDIRECT(\"H\"&$A$1&\"!B2:AF2\"),DimFe,0))*IFERROR(IF(\"19:00\">=IFERROR(Hgauche,0),IFERROR(hdroite-Hgauche,0),IF(durée1>0,durée1,\"00:00\")),0))+SUMPRODUCT(ISNUMBER(MATCH(INDIRECT(\"H\"&$A$1&\"!B2:AF2\"),moindimfe,0))*IFERROR(IF(\"19:00\"<=IFERROR(Hgauche,0),IF(durée4<0,0,durée4),\"00:00\"),0))","v":0},{"$f":"SUMPRODUCT(ISNUMBER(MATCH(INDIRECT(\"H\"&$A$1&\"!B2:AF2\"),DimFe,0))*IFERROR(IF(\"19:00\"<=IFERROR(Hgauche,0),IF(durée6<0,0,durée6),IF(durée<0,0,durée)),0))+SUMPRODUCT(ISNUMBER(MATCH(INDIRECT(\"H\"&$A$1&\"!B2:AF2\"),moindimfe,0))*IFERROR(IF(\"19:00\"<=IFERROR(Hgauche,0),IF(durée2<0,0,durée2),\"00:00\"),0))","v":0},{"$f":"SUM(SUMPRODUCT(1*IFERROR(IF(\"19:00\"<=IFERROR(Hgauche,0),IF(durée2<0,0,durée2),\"00:00\"),0)),SUMPRODUCT(1*IFERROR(IF(\"19:00\"<=IFERROR(Hgauche,0),IF(durée6<0,0,durée6),\"00:00\"),0)),SUMPRODUCT(1*IFERROR(IF(\"21:00\"<=IFERROR(Hdroitesimple,0),IF(durée<0,0,durée),\"00:00\"),0)))-durée5","v":0},null,{"$f":"bilanh","v":0},{"$f":"VLOOKUP($A56,Bilan!$A$9:$AQ104,37,FALSE)","v":63},null,{"$f":"Bilan!AN56","v":65},65,null,{"$f":"Jourtravaillé","v":0}]

{"sheet":"BJuillet","index":32,"n_rows":56,"n_cols":66,"rows_kept":56,"cut":false,"hidden":false,"merged":[[7,37,7,38],[6,27,7,27],[6,28,7,28],[6,30,7,30],[6,31,7,31],[6,32,7,32],[7,34,7,35]]}
["Juillet"]
[null,null,{"$f":"LEFT(OFFSET(INDIRECT(\"H\"&$A$1&\"!B8:AF8\"),MATCH($A9,INDIRECT(\"H\"&$A$1&\"!A9:A56\"),0),),5)","v":""}]
[null,null,{"$f":"RIGHT(OFFSET(INDIRECT(\"H\"&$A$1&\"!B8:AF8\"),MATCH($A3,INDIRECT(\"H\"&$A$1&\"!A9:A56\"),0),),5)","v":""}]
[]
[]
["Jours",{"$f":"Données!$E3","v":0.31597222222222227},{"$f":"Données!$E4","v":0.10763888888888884},{"$f":"Données!$E5","v":0.31249999999999994},{"$f":"Données!$E6","v":0.32291666666666669},{"$f":"Données!$E7","v":8.3333333333333315E-2},{"$f":"Données!$E8","v":0.47916666666666669},{"$f":"Données!$E9","v":0.3125},{"$f":"Données!$E10","v":0.48958333333333337},{"$f":"Données!$E11","v":0.47916666666666669},{"$f":"Données!$E12","v":0.51041666666666674},{"$f":"Données!$E13","v":0.51041666666666674},{"$f":"Données!$E14","v":0.44791666666666663},{"$f":"Données!$E15","v":0.49999999999999989},{"$f":"Données!$E16","v":0.49999999999999989},{"$f":"Données!$E17","v":0.5},{"$f":"Données!$E18","v":0.29166666666666669},{"$f":"Données!$E19","v":0.3125},{"$f":"Données!$E20","v":0.3125},{"$f":"Données!$E21","v":0.3125},{"$f":"Données!$E22","v":0.3125},{"$f":"Données!$E23","v":0.3125},{"$f":"Données!$E24","v":0},{"$f":"Données!$E25","v":0},{"$f":"Données!$E26","v":0},{"$f":"Données!$E27","v":0.33333333333333331},{"$f":"Données!$E28","v":0}]
[null,{"$f":"Données!$A3","v":"M"},{"$f":"Données!$A4","v":"MG"},{"$f":"Données!$A5","v":"J"},{"$f":"Données!$A6","v":"J+"},{"$f":"Données!$A7","v":"R"},{"$f":"Données!$A8","v":"RS"},{"$f":"Données!$A9","v":"S"},{"$f":"Données!$A10","v":"W"},{"$f":"Données!$A11","v":"W+"},{"$f":"Données!$A12","v":"WD"},{"$f":"Données!$A13","v":"WF"},{"$f":"Données!$A14","v":"N"},{"$f":"Données!$A15","v":"N+"},{"$f":"Données!$A16","v":"NS"},{"$f":"Données!$A17","v":"T"},{"$f":"Données!$A18","v":"F"},{"$f":"Données!$A19","v":"SYN"},{"$f":"Données!$A20","v":"AT"},{"$f":"Données!$A21","v":"AM"},{"$f":"Données!$A22","v":"EM"},{"$f":"Données!$A23","v":"CE"},{"$f":"Données!$A24","v":"CA"},{"$f":"Données!$A25","v":"CA16"},{"$f":"Données!$A26","v":"REC"},{"$f":"Données!$A27","v":"PL"},{"$f":"Données!$A28","v":"D"},"Heures\nSupplémentaires \navant 21 h","Heures\nSupplémentaires \naprès 21 h",null,"Heures dimanche","Heures de nuit dimanches","Heures apres 21 h"]
["Equipe de jour",{"$f":"IF(ISBLANK(Données!$C3),TEXT(Données!$B3,\"hh:mm\"),TEXT(Données!$B3,\"hh:mm\")&\" : \"&TEXT(Données!$C3,\"hh:mm\"))","v":"07:00 : 14:35"},{"$f":"IF(ISBLANK(Données!$C4),TEXT(Données!$B4,\"hh:mm\"),TEXT(Données!$B4,\"hh:mm\")&\" : \"&TEXT(Données!$C4,\"hh:mm\"))","v":"23:00 : 01:35"},{"$f":"IF(ISBLANK(Données!$C5),TEXT(Données!$B5,\"hh:mm\"),TEXT(Données!$B5,\"hh:mm\")&\" : \"&TEXT(Données!$C5,\"hh:mm\"))","v":"10:00 : 17:30"},{"$f":"IF(ISBLANK(Données!$C6),TEXT(Données!$B6,\"hh:mm\"),TEXT(Données!$B6,\"hh:mm\")&\" : \"&TEXT(Données!$C6,\"hh:mm\"))","v":"11:30 : 19:15"},{"$f":"IF(ISBLANK(Données!$C7),TEXT(Données!$B7,\"hh:mm\"),TEXT(Données!$B7,\"hh:mm\")&\" : \"&TEXT(Données!$C7,\"hh:mm\"))","v":"10:00 : 12:00"},{"$f":"IF(ISBLANK(Données!$C8),TEXT(Données!$B8,\"hh:mm\"),TEXT(Données!$B8,\"hh:mm\")&\" : \"&TEXT(Données!$C8,\"hh:mm\"))","v":"10:00 : 21:30"},{"$f":"IF(ISBLANK(Données!$C9),TEXT(Données!$B9,\"hh:mm\"),TEXT(Données!$B9,\"hh:mm\")&\" : \"&TEXT(Données!$C9,\"hh:mm\"))","v":"14:00 : 21:30"},{"$f":"IF(ISBLANK(Données!$C10),TEXT(Données!$B10,\"hh:mm\"),TEXT(Données!$B10,\"hh:mm\")&\" : \"&TEXT(Données!$C10,\"hh:mm\"))","v":"07:30 : 19:15"},{"$f":"IF(ISBLANK(Données!$C11),TEXT(Données!$B11,\"hh:mm\"),TEXT(Données!$B11,\"hh:mm\")&\" : \"&TEXT(Données!$C11,\"hh:mm\"))","v":"10:00 : 21:30"},{"$f":"IF(ISBLANK(Données!$C12),TEXT(Données!$B12,\"hh:mm\"),TEXT(Données!$B12,\"hh:mm\")&\" : \"&TEXT(Données!$C12,\"hh:mm\"))","v":"07:00 : 19:15"},{"$f":"IF(ISBLANK(Données!$C13),TEXT(Données!$B13,\"hh:mm\"),TEXT(Données!$B13,\"hh:mm\")&\" : \"&TEXT(Données!$C13,\"hh:mm\"))","v":"07:00 : 19:15"},{"$f":"IF(ISBLANK(Données!$C14),TEXT(Données!$B14,\"hh:mm\"),TEXT(Données!$B14,\"hh:mm\")&\" : \"&TEXT(Données!$C14,\"hh:mm\"))","v":"20:30 : 07:15"},{"$f":"IF(ISBLANK(Données!$C15),TEXT(Données!$B15,\"hh:mm\"),TEXT(Données!$B15,\"hh:mm\")&\" : \"&TEXT(Données!$C15,\"hh:mm\"))","v":"19:15 : 07:15"},{"$f":"IF(ISBLANK(Données!$C16),TEXT(Données!$B16,\"hh:mm\"),TEXT(Données!$B16,\"hh:mm\")&\" : \"&TEXT(Données!$C16,\"hh:mm\"))","v":"19:15 : 07:15"},{"$f":"IF(ISBLANK(Données!$C17),TEXT(Données!$B17,\"hh:mm\"),TEXT(Données!$B17,\"hh:mm\")&\" : \"&TEXT(Données!$C17,\"hh:mm\"))","v":"T"},{"$f":"IF(ISBLANK(Données!$C18),TEXT(Données!$B18,\"hh:mm\"),TEXT(Données!$B18,\"hh:mm\")&\" : \"&TEXT(Données!$C18,\"hh:mm\"))","v":"F"},{"$f":"IF(ISBLANK(Données!$C19),TEXT(Données!$B19,\"hh:mm\"),TEXT(Données!$B19,\"hh:mm\")&\" : \"&TEXT(Données!$C19,\"hh:mm\"))","v":"Syn"},{"$f":"IF(ISBLANK(Données!$C20),TEXT(Données!$B20,\"hh:mm\"),TEXT(Données!$B20,\"hh:mm\")&\" : \"&TEXT(Données!$C20,\"hh:mm\"))","v":"AT"},{"$f":"IF(ISBLANK(Données!$C21),TEXT(Données!$B21,\"hh:mm\"),TEXT(Données!$B21,\"hh:mm\")&\" : \"&TEXT(Données!$C21,\"hh:mm\"))","v":"AM"},{"$f":"IF(ISBLANK(Données!$C22),TEXT(Données!$B22,\"hh:mm\"),TEXT(Données!$B22,\"hh:mm\")&\" : \"&TEXT(Données!$C22,\"hh:mm\"))","v":"EM"},{"$f":"IF(ISBLANK(Données!$C23),TEXT(Données!$B23,\"hh:mm\"),TEXT(Données!$B23,\"hh:mm\")&\" : \"&TEXT(Données!$C23,\"hh:mm\"))","v":"CE"},{"$f":"IF(ISBLANK(Données!$C24),TEXT(Données!$B24,\"hh:mm\"),TEXT(Données!$B24,\"hh:mm\")&\" : \"&TEXT(Données!$C24,\"hh:mm\"))","v":"CA"},{"$f":"IF(ISBLANK(Données!$C25),TEXT(Données!$B25,\"hh:mm\"),TEXT(Données!$B25,\"hh:mm\")&\" : \"&TEXT(Données!$C25,\"hh:mm\"))","v":"CA16"},{"$f":"IF(ISBLANK(Données!$C26),TEXT(Données!$B26,\"hh:mm\"),TEXT(Données!$B26,\"hh:mm\")&\" : \"&TEXT(Données!$C26,\"hh:mm\"))","v":"REC"},{"$f":"IF(ISBLANK(Données!$C27),TEXT(Données!$B27,\"hh:mm\"),TEXT(Données!$B27,\"hh:mm\")&\" : \"&TEXT(Données!$C27,\"hh:mm\"))","v":"PL"},{"$f":"IF(ISBLANK(Données!$C28),TEXT(Données!$B28,\"hh:mm\"),TEXT(Données!$B28,\"hh:mm\")&\" : \"&TEXT(Données!$C28,\"hh:mm\"))","v":"D"},null,null,null,null,null,null,null,"Total ",null,null,"CA",null,null,"Jour travaillé"]
[{"$f":"Données!$H6","v":"A"},{"$f":"IF(SUMPRODUCT((INDIRECT(\"'\"&$A$1&\"'!$A$7:$A$56\")=$A9)*(INDIRECT(\"'\"&$A$1&\"'!$B$7:$AF$56\")=B$7))=0,\"\",SUMPRODUCT((INDIRECT(\"'\"&$A$1&\"'!$A$7:$A$56\")=$A9)*(INDIRECT(\"'\"&$A$1&\"'!$B$7:$AF$56\")=B$7)))","v":""},{"$f":"IF(SUMPRODUCT((INDIRECT(\"'\"&$A$1&\"'!$A$7:$A$56\")=$A9)*(INDIRECT(\"'\"&$A$1&\"'!$B$7:$AF$56\")=C$7))=0,\"\",SUMPRODUCT((INDIRECT(\"'\"&$A$1&\"'!$A$7:$A$56\")=$A9)*(INDIRECT(\"'\"&$A$1&\"'!$B$7:$AF$56\")=C$7)))","v":""},"","","","","","","","","","","","","","","","","","","","","","","","",{"$f":"VLOOKUP($A9,INDIRECT(\"'\"&$A$1&\"'!$A$7:$AR$56\"),35,0)","v":"00:00:00"},{"$f":"VLOOKUP($A9,INDIRECT(\"'\"&$A$1&\"'!$A$7:$AR$56\"),36,0)","v":"00:00:00"},null,{"$f":"SUMPRODUCT(ISNUMBER(MATCH(INDIRECT(\"H\"&$A$1&\"!B2:AF2\"),DimFe,0))*IFERROR(IF(\"19:00\">=IFERROR(Hgauche,0),IFERROR(hdroite-Hgauche,0),IF(durée1>0,durée1,\"00:00\")),0))+SUMPRODUCT(ISNUMBER(MATCH(INDIRECT(\"H\"&$A$1&\"!B2:AF2\"),moindimfe,0))*IFERROR(IF(\"19:00\"<=IFERROR(Hgauche,0),IF(durée4<0,0,durée4),\"00:00\"),0))","v":0},{"$f":"SUMPRODUCT(ISNUMBER(MATCH(INDIRECT(\"H\"&$A$1&\"!B2:AF2\"),DimFe,0))*IFERROR(IF(\"19:00\"<=IFERROR(Hgauche,0),IF(durée6<0,0,durée6),IF(durée<0,0,durée)),0))+SUMPRODUCT(ISNUMBER(MATCH(INDIRECT(\"H\"&$A$1&\"!B2:AF2\"),moindimfe,0))*IFERROR(IF(\"19:00\"<=IFERROR(Hgauche,0),IF(durée2<0,0,durée2),\"00:00\"),0))","v":0},{"$f":"SUM(SUMPRODUCT(1*IFERROR(IF(\"19:00\"<=IFERROR(Hgauche,0),IF(durée2<0,0,durée2),\"00:00\"),0)),SUMPRODUCT(1*IFERROR(IF(\"19:00\"<=IFERROR(Hgauche,0),IF(durée6<0,0,durée6),\"00:00\"),0)),SUMPRODUCT(1*IFERROR(IF(\"21:00\"<=IFERROR(Hdroitesimple,0),IF(durée<0,0,durée),\"00:00\"),0)))-durée5","v":0},null,{"$f":"bilanh","v":0},{"$f":"VLOOKUP($A9,Bilan!$A$9:$AQ57,37,FALSE)","v":59.5},null,{"$f":"Bilan!AN9","v":65},65,null,{"$f":"Jourtravaillé","v":0}]
[{"$f":"Données!$H7","v":0},{"$f":"IF(SUMPRODUCT((INDIRECT(\"'\"&$A$1&\"'!$A$7:$A$56\")=$A10)*(INDIRECT(\"'\"&$A$1&\"'!$B$7:$AF$56\")=B$7))=0,\"\",SUMPRODUCT((INDIRECT(\"'\"&$A$1&\"'!$A$7:$A$56\")=$A10)*(INDIRECT(\"'\"&$A$1&\"'!$B$7:$AF$56\")=B$7)))","v":""},"","","","","","","","","","","","","","","","","","","","","","","","","",{"$f":"VLOOKUP($A10,INDIRECT(\"'\"&$A$1&\"'!$A$7:$AR$56\"),35,0)","v":"00:00:00"},{"$f":"VLOOKUP($A10,INDIRECT(\"'\"&$A$1&\"'!$A$7:$AR$56\"),36,0)","v":"00:00:00"},null,{"$f":"SUMPRODUCT(ISNUMBER(MATCH(INDIRECT(\"H\"&$A$1&\"!B2:AF2\"),DimFe,0))*IFERROR(IF(\"19:00\">=IFERROR(Hgauche,0),IFERROR(hdroite-Hgauche,0),IF(durée1>0,durée1,\"00:00\")),0))+SUMPRODUCT(ISNUMBER(MATCH(INDIRECT(\"H\"&$A$1&\"!B2:AF2\"),moindimfe,0))*IFERROR(IF(\"19:00\"<=IFERROR(Hgauche,0),IF(durée4<0,0,durée4),\"00:00\"),0))","v":0},{"$f":"SUMPRODUCT(ISNUMBER(MATCH(INDIRECT(\"H\"&$A$1&\"!B2:AF2\"),DimFe,0))*IFERROR(IF(\"19:00\"<=IFERROR(Hgauche,0),IF(durée6<0,0,durée6),IF(durée<0,0,durée)),0))+SUMPRODUCT(ISNUMBER(MATCH(INDIRECT(\"H\"&$A$1&\"!B2:AF2\"),moindimfe,0))*IFERROR(IF(\"19:00\"<=IFERROR(Hgauche,0),IF(durée2<0,0,durée2),\"00:00\"),0))","v":0},{"$f":"SUM(SUMPRODUCT(1*IFERROR(IF(\"19:00\"<=IFERROR(Hgauche,0),IF(durée2<0,0,durée2),\"00:00\"),0)),SUMPRODUCT(1*IFERROR(IF(\"19:00\"<=IFERROR(Hgauche,0),IF(durée6<0,0,durée6),\"00:00\"),0)),SUMPRODUCT(1*IFERROR(IF(\"21:00\"<=IFERROR(Hdroitesimple,0),IF(durée<0,0,durée),\"00:00\"),0)))-durée5","v":0},null,0,{"$f":"VLOOKUP($A10,Bilan!$A$9:$AQ58,37,FALSE)","v":59.5},null,{"$f":"Bilan!AN10","v":65},65,null,0]
[{"$f":"Données!$H8","v":0},"","","","","","","","","","","","","","","","","","","","","","","","","","","00:00:00","00:00:00",null,{"$f":"SUMPRODUCT(ISNUMBER(MATCH(INDIRECT(\"H\"&$A$1&\"!B2:AF2\"),DimFe,0))*IFERROR(IF(\"19:00\">=IFERROR(Hgauche,0),IFERROR(hdroite-Hgauche,0),IF(durée1>0,durée1,\"00:00\")),0))+SUMPRODUCT(ISNUMBER(MATCH(INDIRECT(\"H\"&$A$1&\"!B2:AF2\"),moindimfe,0))*IFERROR(IF(\"19:00\"<=IFERROR(Hgauche,0),IF(durée4<0,0,durée4),\"00:00\"),0))","v":0},{"$f":"SUMPRODUCT(ISNUMBER(MATCH(INDIRECT(\"H\"&$A$1&\"!B2:AF2\"),DimFe,0))*IFERROR(IF(\"19:00\"<=IFERROR(Hgauche,0),IF(durée6<0,0,durée6),IF(durée<0,0,durée)),0))+SUMPRODUCT(ISNUMBER(MATCH(INDIRECT(\"H\"&$A$1&\"!B2:AF2\"),moindimfe,0))*IFERROR(IF(\"19:00\"<=IFERROR(Hgauche,0),IF(durée2<0,0,durée2),\"00:00\"),0))","v":0},{"$f":"SUM(SUMPRODUCT(1*IFERROR(IF(\"19:00\"<=IFERROR(Hgauche,0),IF(durée2<0,0,durée2),\"00:00\"),0)),SUMPRODUCT(1*IFERROR(IF(\"19:00\"<=IFERROR(Hgauche,0),IF(durée6<0,0,durée6),\"00:00\"),0)),SUMPRODUCT(1*IFERROR(IF(\"21:00\"<=IFERROR(Hdroitesimple,0),IF(durée<0,0,durée),\"00:00\"),0)))-durée5","v":0},null,0,{"$f":"VLOOKUP($A11,Bilan!$A$9:$AQ59,37,FALSE)","v":59.5},null,{"$f":"Bilan!AN11","v":65},65,null,0]
[{"$f":"Données!$H9","v":0},"","","","","","","","","","","","","","","","","","","","","","","","","","","00:00:00","00:00:00",null,{"$f":"SUMPRODUCT(ISNUMBER(MATCH(INDIRECT(\"H\"&$A$1&\"!B2:AF2\"),DimFe,0))*IFERROR(IF(\"19:00\">=IFERROR(Hgauche,0),IFERROR(hdroite-Hgauche,0),IF(durée1>0,durée1,\"00:00\")),0))+SUMPRODUCT(ISNUMBER(MATCH(INDIRECT(\"H\"&$A$1&\"!B2:AF2\"),moindimfe,0))*IFERROR(IF(\"19:00\"<=IFERROR(Hgauche,0),IF(durée4<0,0,durée4),\"00:00\"),0))","v":0},{"$f":"SUMPRODUCT(ISNUMBER(MATCH(INDIRECT(\"H\"&$A$1&\"!B2:AF2\"),DimFe,0))*IFERROR(IF(\"19:00\"<=IFERROR(Hgauche,0),IF(durée6<0,0,durée6),IF(durée<0,0,durée)),0))+SUMPRODUCT(ISNUMBER(MATCH(INDIRECT(\"H\"&$A$1&\"!B2:AF2\"),moindimfe,0))*IFERROR(IF(\"19:00\"<=IFERROR(Hgauche,0),IF(durée2<0,0,durée2),\"00:00\"),0))","v":0},{"$f":"SUM(SUMPRODUCT(1*IFERROR(IF(\"19:00\"<=IFERROR(Hgauche,0),IF(durée2<0,0,durée2),\"00:00\"),0)),SUMPRODUCT(1*IFERROR(IF(\"19:00\"<=IFERROR(Hgauche,0),IF(durée6<0,0,durée6),\"00:00\"),0)),SUMPRODUCT(1*IFERROR(IF(\"21:00\"<=IFERROR(Hdroitesimple,0),IF(durée<0,0,durée),\"00:00\"),0)))-durée5","v":0},null,0,{"$f":"VLOOKUP($A12,Bilan!$A$9:$AQ60,37,FALSE)","v":59.5},null,{"$f":"Bilan!AN12","v":65},65,null,0]
[{"$f":"Données!$H10","v":0},"","","","","","","","","","","","","","","","","","","","","","","","","","","00:00:00","00:00:00",null,{"$f":"SUMPRODUCT(ISNUMBER(MATCH(INDIRECT(\"H\"&$A$1&\"!B2:AF2\"),DimFe,0))*IFERROR(IF(\"19:00\">=IFERROR(Hgauche,0),IFERROR(hdroite-Hgauche,0),IF(durée1>0,durée1,\"00:00\")),0))+SUMPRODUCT(ISNUMBER(MATCH(INDIRECT(\"H\"&$A$1&\"!B2:AF2\"),moindimfe,0))*IFERROR(IF(\"19:00\"<=IFERROR(Hgauche,0),IF(durée4<0,0,durée4),\"00:00\"),0))","v":0},{"$f":"SUMPRODUCT(ISNUMBER(MATCH(INDIRECT(\"H\"&$A$1&\"!B2:AF2\"),DimFe,0))*IFERROR(IF(\"19:00\"<=IFERROR(Hgauche,0),IF(durée6<0,0,durée6),IF(durée<0,0,durée)),0))+SUMPRODUCT(ISNUMBER(MATCH(INDIRECT(\"H\"&$A$1&\"!B2:AF2\"),moindimfe,0))*IFERROR(IF(\"19:00\"<=IFERROR(Hgauche,0),IF(durée2<0,0,durée2),\"00:00\"),0))","v":0},{"$f":"SUM(SUMPRODUCT(1*IFERROR(IF(\"19:00\"<=IFERROR(Hgauche,0),IF(durée2<0,0,durée2),\"00:00\"),0)),SUMPRODUCT(1*IFERROR(IF(\"19:00\"<=IFERROR(Hgauche,0),IF(durée6<0,0,durée6),\"00:00\"),0)),SUMPRODUCT(1*IFERROR(IF(\"21:00\"<=IFERROR(Hdroitesimple,0),IF(durée<0,0,durée),\"00:00\"),0)))-durée5","v":0},null,0,{"$f":"VLOOKUP($A13,Bilan!$A$9:$AQ61,37,FALSE)","v":59.5},null,{"$f":"Bilan!AN13","v":65},65,null,0]
[{"$f":"Données!$H11","v":0},"","","","","","","","","","","","","","","","","","","","","","","","","","","00:00:00","00:00:00",null,{"$f":"SUMPRODUCT(ISNUMBER(MATCH(INDIRECT(\"H\"&$A$1&\"!B2:AF2\"),DimFe,0))*IFERROR(IF(\"19:00\">=IFERROR(Hgauche,0),IFERROR(hdroite-Hgauche,0),IF(durée1>0,durée1,\"00:00\")),0))+SUMPRODUCT(ISNUMBER(MATCH(INDIRECT(\"H\"&$A$1&\"!B2:AF2\"),moindimfe,0))*IFERROR(IF(\"19:00\"<=IFERROR(Hgauche,0),IF(durée4<0,0,durée4),\"00:00\"),0))","v":0},{"$f":"SUMPRODUCT(ISNUMBER(MATCH(INDIRECT(\"H\"&$A$1&\"!B2:AF2\"),DimFe,0))*IFERROR(IF(\"19:00\"<=IFERROR(Hgauche,0),IF(durée6<0,0,durée6),IF(durée<0,0,durée)),0))+SUMPRODUCT(ISNUMBER(MATCH(INDIRECT(\"H\"&$A$1&\"!B2:AF2\"),moindimfe,0))*IFERROR(IF(\"19:00\"<=IFERROR(Hgauche,0),IF(durée2<0,0,durée2),\"00:00\"),0))","v":0},{"$f":"SUM(SUMPRODUCT(1*IFERROR(IF(\"19:00\"<=IFERROR(Hgauche,0),IF(durée2<0,0,durée2),\"00:00\"),0)),SUMPRODUCT(1*IFERROR(IF(\"19:00\"<=IFERROR(Hgauche,0),IF(durée6<0,0,durée6),\"00:00\"),0)),SUMPRODUCT(1*IFERROR(IF(\"21:00\"<=IFERROR(Hdroitesimple,0),IF(durée<0,0,durée),\"00:00\"),0)))-durée5","v":0},null,0,{"$f":"VLOOKUP($A14,Bilan!$A$9:$AQ62,37,FALSE)","v":59.5},null,{"$f":"Bilan!AN14","v":65},65,null,0]
[{"$f":"Données!$H12","v":0},"","","","","","","","","","","","","","","","","","","","","","","","","","","00:00:00","00:00:00",null,{"$f":"SUMPRODUCT(ISNUMBER(MATCH(INDIRECT(\"H\"&$A$1&\"!B2:AF2\"),DimFe,0))*IFERROR(IF(\"19:00\">=IFERROR(Hgauche,0),IFERROR(hdroite-Hgauche,0),IF(durée1>0,durée1,\"00:00\")),0))+SUMPRODUCT(ISNUMBER(MATCH(INDIRECT(\"H\"&$A$1&\"!B2:AF2\"),moindimfe,0))*IFERROR(IF(\"19:00\"<=IFERROR(Hgauche,0),IF(durée4<0,0,durée4),\"00:00\"),0))","v":0},{"$f":"SUMPRODUCT(ISNUMBER(MATCH(INDIRECT(\"H\"&$A$1&\"!B2:AF2\"),DimFe,0))*IFERROR(IF(\"19:00\"<=IFERROR(Hgauche,0),IF(durée6<0,0,durée6),IF(durée<0,0,durée)),0))+SUMPRODUCT(ISNUMBER(MATCH(INDIRECT(\"H\"&$A$1&\"!B2:AF2\"),moindimfe,0))*IFERROR(IF(\"19:00\"<=IFERROR(Hgauche,0),IF(durée2<0,0,durée2),\"00:00\"),0))","v":0},{"$f":"SUM(SUMPRODUCT(1*IFERROR(IF(\"19:00\"<=IFERROR(Hgauche,0),IF(durée2<0,0,durée2),\"00:00\"),0)),SUMPRODUCT(1*IFERROR(IF(\"19:00\"<=IFERROR(Hgauche,0),IF(durée6<0,0,durée6),\"00:00\"),0)),SUMPRODUCT(1*IFERROR(IF(\"21:00\"<=IFERROR(Hdroitesimple,0),IF(durée<0,0,durée),\"00:00\"),0)))-durée5","v":0},null,0,{"$f":"VLOOKUP($A15,Bilan!$A$9:$AQ63,37,FALSE)","v":59.5},null,{"$f":"Bilan!AN15","v":65},65,null,0]
[{"$f":"Données!$H13","v":0},"","","","","","","","","","","","","","","","","","","","","","","","","","","00:00:00","00:00:00",null,{"$f":"SUMPRODUCT(ISNUMBER(MATCH(INDIRECT(\"H\"&$A$1&\"!B2:AF2\"),DimFe,0))*IFERROR(IF(\"19:00\">=IFERROR(Hgauche,0),IFERROR(hdroite-Hgauche,0),IF(durée1>0,durée1,\"00:00\")),0))+SUMPRODUCT(ISNUMBER(MATCH(INDIRECT(\"H\"&$A$1&\"!B2:AF2\"),moindimfe,0))*IFERROR(IF(\"19:00\"<=IFERROR(Hgauche,0),IF(durée4<0,0,durée4),\"00:00\"),0))","v":0},{"$f":"SUMPRODUCT(ISNUMBER(MATCH(INDIRECT(\"H\"&$A$1&\"!B2:AF2\"),DimFe,0))*IFERROR(IF(\"19:00\"<=IFERROR(Hgauche,0),IF(durée6<0,0,durée6),IF(durée<0,0,durée)),0))+SUMPRODUCT(ISNUMBER(MATCH(INDIRECT(\"H\"&$A$1&\"!B2:AF2\"),moindimfe,0))*IFERROR(IF(\"19:00\"<=IFERROR(Hgauche,0),IF(durée2<0,0,durée2),\"00:00\"),0))","v":0},{"$f":"SUM(SUMPRODUCT(1*IFERROR(IF(\"19:00\"<=IFERROR(Hgauche,0),IF(durée2<0,0,durée2),\"00:00\"),0)),SUMPRODUCT(1*IFERROR(IF(\"19:00\"<=IFERROR(Hgauche,0),IF(durée6<0,0,durée6),\"00:00\"),0)),SUMPRODUCT(1*IFERROR(IF(\"21:00\"<=IFERROR(Hdroitesimple,0),IF(durée<0,0,durée),\"00:00\"),0)))-durée5","v":0},null,0,{"$f":"VLOOKUP($A16,Bilan!$A$9:$AQ64,37,FALSE)","v":59.5},null,{"$f":"Bilan!AN16","v":65},65,null,0]
[{"$f":"Données!$H14","v":0},"","","","","","","","","","","","","","","","","","","","","","","","","","","00:00:00","00:00:00",null,{"$f":"SUMPRODUCT(ISNUMBER(MATCH(INDIRECT(\"H\"&$A$1&\"!B2:AF2\"),DimFe,0))*IFERROR(IF(\"19:00\">=IFERROR(Hgauche,0),IFERROR(hdroite-Hgauche,0),IF(durée1>0,durée1,\"00:00\")),0))+SUMPRODUCT(ISNUMBER(MATCH(INDIRECT(\"H\"&$A$1&\"!B2:AF2\"),moindimfe,0))*IFERROR(IF(\"19:00\"<=IFERROR(Hgauche,0),IF(durée4<0,0,durée4),\"00:00\"),0))","v":0},{"$f":"SUMPRODUCT(ISNUMBER(MATCH(INDIRECT(\"H\"&$A$1&\"!B2:AF2\"),DimFe,0))*IFERROR(IF(\"19:00\"<=IFERROR(Hgauche,0),IF(durée6<0,0,durée6),IF(durée<0,0,durée)),0))+SUMPRODUCT(ISNUMBER(MATCH(INDIRECT(\"H\"&$A$1&\"!B2:AF2\"),moindimfe,0))*IFERROR(IF(\"19:00\"<=IFERROR(Hgauche,0),IF(durée2<0,0,durée2),\"00:00\"),0))","v":0},{"$f":"SUM(SUMPRODUCT(1*IFERROR(IF(\"19:00\"<=IFERROR(Hgauche,0),IF(durée2<0,0,durée2),\"00:00\"),0)),SUMPRODUCT(1*IFERROR(IF(\"19:00\"<=IFERROR(Hgauche,0),IF(durée6<0,0,durée6),\"00:00\"),0)),SUMPRODUCT(1*IFERROR(IF(\"21:00\"<=IFERROR(Hdroitesimple,0),IF(durée<0,0,durée),\"00:00\"),0)))-durée5","v":0},null,0,{"$f":"VLOOKUP($A17,Bilan!$A$9:$AQ65,37,FALSE)","v":59.5},null,{"$f":"Bilan!AN17","v":65},65,null,0]
[{"$f":"Données!$H15","v":0},"","","","","","","","","","","","","","","","","","","","","","","","","","","00:00:00","00:00:00",null,{"$f":"SUMPRODUCT(ISNUMBER(MATCH(INDIRECT(\"H\"&$A$1&\"!B2:AF2\"),DimFe,0))*IFERROR(IF(\"19:00\">=IFERROR(Hgauche,0),IFERROR(hdroite-Hgauche,0),IF(durée1>0,durée1,\"00:00\")),0))+SUMPRODUCT(ISNUMBER(MATCH(INDIRECT(\"H\"&$A$1&\"!B2:AF2\"),moindimfe,0))*IFERROR(IF(\"19:00\"<=IFERROR(Hgauche,0),IF(durée4<0,0,durée4),\"00:00\"),0))","v":0},{"$f":"SUMPRODUCT(ISNUMBER(MATCH(INDIRECT(\"H\"&$A$1&\"!B2:AF2\"),DimFe,0))*IFERROR(IF(\"19:00\"<=IFERROR(Hgauche,0),IF(durée6<0,0,durée6),IF(durée<0,0,durée)),0))+SUMPRODUCT(ISNUMBER(MATCH(INDIRECT(\"H\"&$A$1&\"!B2:AF2\"),moindimfe,0))*IFERROR(IF(\"19:00\"<=IFERROR(Hgauche,0),IF(durée2<0,0,durée2),\"00:00\"),0))","v":0},{"$f":"SUM(SUMPRODUCT(1*IFERROR(IF(\"19:00\"<=IFERROR(Hgauche,0),IF(durée2<0,0,durée2),\"00:00\"),0)),SUMPRODUCT(1*IFERROR(IF(\"19:00\"<=IFERROR(Hgauche,0),IF(durée6<0,0,durée6),\"00:00\"),0)),SUMPRODUCT(1*IFERROR(IF(\"21:00\"<=IFERROR(Hdroitesimple,0),IF(durée<0,0,durée),\"00:00\"),0)))-durée5","v":0},null,0,{"$f":"VLOOKUP($A18,Bilan!$A$9:$AQ66,37,FALSE)","v":59.5},null,{"$f":"Bilan!AN18","v":65},65,null,0]
[{"$f":"Données!$H16","v":0},{"$f":"SUMPRODUCT((INDIRECT(\"'\"&$A$1&\"'!$A$7:$A$56\")=$A19)*(INDIRECT(\"'\"&$A$1&\"'!$B$7:$AF$56\")=B$7))","v":0},0,0,0,0,0,0,0,0,0,0,0,0,0,0,0,{"$f":"SUMPRODUCT((INDIRECT(\"'\"&$A$1&\"'!$A$7:$A$56\")=$A19)*(INDIRECT(\"'\"&$A$1&\"'!$B$7:$AF$56\")=R$7))","v":0},0,0,0,0,0,0,0,0,0,{"$f":"VLOOKUP($A19,INDIRECT(\"'H\"&$A$1&\"'!$A$7:$AR$56\"),35,0)","v":"00:00:00"},{"$f":"VLOOKUP($A19,INDIRECT(\"'H\"&$A$1&\"'!$A$7:$AR$56\"),38,0)","v":"00:00:00"},null,{"$f":"SUMPRODUCT(ISNUMBER(MATCH(INDIRECT(\"H\"&$A$1&\"!B2:AF2\"),DimFe,0))*IFERROR(IF(\"19:00\">=IFERROR(Hgauche,0),IFERROR(hdroite-Hgauche,0),IF(durée1>0,durée1,\"00:00\")),0))+SUMPRODUCT(ISNUMBER(MATCH(INDIRECT(\"H\"&$A$1&\"!B2:AF2\"),moindimfe,0))*IFERROR(IF(\"19:00\"<=IFERROR(Hgauche,0),IF(durée4<0,0,durée4),\"00:00\"),0))","v":0},{"$f":"SUMPRODUCT(ISNUMBER(MATCH(INDIRECT(\"H\"&$A$1&\"!B2:AF2\"),DimFe,0))*IFERROR(IF(\"19:00\"<=IFERROR(Hgauche,0),IF(durée6<0,0,durée6),IF(durée<0,0,durée)),0))+SUMPRODUCT(ISNUMBER(MATCH(INDIRECT(\"H\"&$A$1&\"!B2:AF2\"),moindimfe,0))*IFERROR(IF(\"19:00\"<=IFERROR(Hgauche,0),IF(durée2<0,0,durée2),\"00:00\"),0))","v":0},{"$f":"SUMPRODUCT(1*IF(durée<0,0,durée))+SUMPRODUCT(1*IFERROR(IF(\"19:00\"<=IFERROR(Hgauche,0),IF(durée2<0,0,durée2),\"00:00\"),0))-durée5","v":0},null,{"$f":"(AB19/24)+SUMPRODUCT(($B$6:$AA$6)*(B19:AA19))","v":0},{"$f":"VLOOKUP($A19,Bilan!A19:AI67,35,FALSE)","v":0},null,{"$f":"Bilan!AN19","v":{"$error":"#VALUE!"}},65,null,{"$f":"SUM(B19:R19)","v":0},null,null,null,null,null,null,null,null,null,null,null,null,null,null,null,null,null,null,null,null,null,null,null,{"$f":"Données!$A14","v":"N"},{"$f":"Données!$B14","v":0.85416666666666663}]
[{"$f":"Données!$H17","v":0},0,0,0,0,0,0,0,0,0,0,0,0,0,0,0,0,0,0,0,0,0,0,0,0,0,0,"00:00:00","00:00:00",null,{"$f":"SUMPRODUCT(ISNUMBER(MATCH(INDIRECT(\"H\"&$A$1&\"!B2:AF2\"),DimFe,0))*IFERROR(IF(\"19:00\">=IFERROR(Hgauche,0),IFERROR(hdroite-Hgauche,0),IF(durée1>0,durée1,\"00:00\")),0))+SUMPRODUCT(ISNUMBER(MATCH(INDIRECT(\"H\"&$A$1&\"!B2:AF2\"),moindimfe,0))*IFERROR(IF(\"19:00\"<=IFERROR(Hgauche,0),IF(durée4<0,0,durée4),\"00:00\"),0))","v":0},{"$f":"SUMPRODUCT(ISNUMBER(MATCH(INDIRECT(\"H\"&$A$1&\"!B2:AF2\"),DimFe,0))*IFERROR(IF(\"19:00\"<=IFERROR(Hgauche,0),IF(durée6<0,0,durée6),IF(durée<0,0,durée)),0))+SUMPRODUCT(ISNUMBER(MATCH(INDIRECT(\"H\"&$A$1&\"!B2:AF2\"),moindimfe,0))*IFERROR(IF(\"19:00\"<=IFERROR(Hgauche,0),IF(durée2<0,0,durée2),\"00:00\"),0))","v":0},{"$f":"SUMPRODUCT(1*IF(durée<0,0,durée))+SUMPRODUCT(1*IFERROR(IF(\"19:00\"<=IFERROR(Hgauche,0),IF(durée2<0,0,durée2),\"00:00\"),0))-durée5","v":0},null,0,{"$f":"VLOOKUP($A20,Bilan!A20:AI68,35,FALSE)","v":0},null,{"$f":"Bilan!AN20","v":{"$error":"#VALUE!"}},65,null,0,null,null,null,null,null,null,null,null,null,null,null,null,null,null,null,null,null,null,null,null,null,null,null,{"$f":"Données!$A15","v":"N+"},{"$f":"Données!$B15","v":0.80208333333333337}]
[{"$f":"Données!$H18","v":0},0,0,0,0,0,0,0,0,0,0,0,0,0,0,0,0,0,0,0,0,0,0,0,0,0,0,"00:00:00","00:00:00",null,{"$f":"SUMPRODUCT(ISNUMBER(MATCH(INDIRECT(\"H\"&$A$1&\"!B2:AF2\"),DimFe,0))*IFERROR(IF(\"19:00\">=IFERROR(Hgauche,0),IFERROR(hdroite-Hgauche,0),IF(durée1>0,durée1,\"00:00\")),0))+SUMPRODUCT(ISNUMBER(MATCH(INDIRECT(\"H\"&$A$1&\"!B2:AF2\"),moindimfe,0))*IFERROR(IF(\"19:00\"<=IFERROR(Hgauche,0),IF(durée4<0,0,durée4),\"00:00\"),0))","v":0},{"$f":"SUMPRODUCT(ISNUMBER(MATCH(INDIRECT(\"H\"&$A$1&\"!B2:AF2\"),DimFe,0))*IFERROR(IF(\"19:00\"<=IFERROR(Hgauche,0),IF(durée6<0,0,durée6),IF(durée<0,0,durée)),0))+SUMPRODUCT(ISNUMBER(MATCH(INDIRECT(\"H\"&$A$1&\"!B2:AF2\"),moindimfe,0))*IFERROR(IF(\"19:00\"<=IFERROR(Hgauche,0),IF(durée2<0,0,durée2),\"00:00\"),0))","v":0},{"$f":"SUMPRODUCT(1*IF(durée<0,0,durée))+SUMPRODUCT(1*IFERROR(IF(\"19:00\"<=IFERROR(Hgauche,0),IF(durée2<0,0,durée2),\"00:00\"),0))-durée5","v":0},null,0,{"$f":"VLOOKUP($A21,Bilan!A21:AI69,35,FALSE)","v":0},null,{"$f":"Bilan!AN21","v":{"$error":"#VALUE!"}},65,null,0,null,null,null,null,null,null,null,null,null,null,null,null,null,null,null,null,null,null,null,null,null,null,null,{"$f":"Données!$A16","v":"NS"},{"$f":"Données!$B16","v":0.80208333333333337}]
[{"$f":"Données!$H19","v":0},0,0,0,0,0,0,0,0,0,0,0,0,0,0,0,0,0,0,0,0,0,0,0,0,0,0,"00:00:00","00:00:00",null,{"$f":"SUMPRODUCT(ISNUMBER(MATCH(INDIRECT(\"H\"&$A$1&\"!B2:AF2\"),DimFe,0))*IFERROR(IF(\"19:00\">=IFERROR(Hgauche,0),IFERROR(hdroite-Hgauche,0),IF(durée1>0,durée1,\"00:00\")),0))+SUMPRODUCT(ISNUMBER(MATCH(INDIRECT(\"H\"&$A$1&\"!B2:AF2\"),moindimfe,0))*IFERROR(IF(\"19:00\"<=IFERROR(Hgauche,0),IF(durée4<0,0,durée4),\"00:00\"),0))","v":0},{"$f":"SUMPRODUCT(ISNUMBER(MATCH(INDIRECT(\"H\"&$A$1&\"!B2:AF2\"),DimFe,0))*IFERROR(IF(\"19:00\"<=IFERROR(Hgauche,0),IF(durée6<0,0,durée6),IF(durée<0,0,durée)),0))+SUMPRODUCT(ISNUMBER(MATCH(INDIRECT(\"H\"&$A$1&\"!B2:AF2\"),moindimfe,0))*IFERROR(IF(\"19:00\"<=IFERROR(Hgauche,0),IF(durée2<0,0,durée2),\"00:00\"),0))","v":0},{"$f":"SUMPRODUCT(1*IF(durée<0,0,durée))+SUMPRODUCT(1*IFERROR(IF(\"19:00\"<=IFERROR(Hgauche,0),IF(durée2<0,0,durée2),\"00:00\"),0))-durée5","v":0},null,0,{"$f":"VLOOKUP($A22,Bilan!A22:AI70,35,FALSE)","v":0},null,{"$f":"Bilan!AN22","v":{"$error":"#VALUE!"}},65,null,0,null,null,null,null,null,null,null,null,null,null,null,null,null,null,null,null,null,null,null,null,null,null,null,{"$f":"Données!$A17","v":"T"},{"$f":"Données!$B17","v":"T"}]
[{"$f":"Données!$H20","v":0},0,0,0,0,0,0,0,0,0,0,0,0,0,0,0,0,0,0,0,0,0,0,0,0,0,0,"00:00:00","00:00:00",null,{"$f":"SUMPRODUCT(ISNUMBER(MATCH(INDIRECT(\"H\"&$A$1&\"!B2:AF2\"),DimFe,0))*IFERROR(IF(\"19:00\">=IFERROR(Hgauche,0),IFERROR(hdroite-Hgauche,0),IF(durée1>0,durée1,\"00:00\")),0))+SUMPRODUCT(ISNUMBER(MATCH(INDIRECT(\"H\"&$A$1&\"!B2:AF2\"),moindimfe,0))*IFERROR(IF(\"19:00\"<=IFERROR(Hgauche,0),IF(durée4<0,0,durée4),\"00:00\"),0))","v":0},{"$f":"SUMPRODUCT(ISNUMBER(MATCH(INDIRECT(\"H\"&$A$1&\"!B2:AF2\"),DimFe,0))*IFERROR(IF(\"19:00\"<=IFERROR(Hgauche,0),IF(durée6<0,0,durée6),IF(durée<0,0,durée)),0))+SUMPRODUCT(ISNUMBER(MATCH(INDIRECT(\"H\"&$A$1&\"!B2:AF2\"),moindimfe,0))*IFERROR(IF(\"19:00\"<=IFERROR(Hgauche,0),IF(durée2<0,0,durée2),\"00:00\"),0))","v":0},{"$f":"SUMPRODUCT(1*IF(durée<0,0,durée))+SUMPRODUCT(1*IFERROR(IF(\"19:00\"<=IFERROR(Hgauche,0),IF(durée2<0,0,durée2),\"00:00\"),0))-durée5","v":0},null,0,{"$f":"VLOOKUP($A23,Bilan!A23:AI71,35,FALSE)","v":0},null,{"$f":"Bilan!AN23","v":{"$error":"#VALUE!"}},65,null,0,null,null,null,null,null,null,null,null,null,null,null,null,null,null,null,null,null,null,null,null,null,null,null,{"$f":"Données!$A18","v":"F"},{"$f":"Données!$B18","v":"F"}]
[{"$f":"Données!$H21","v":0},0,0,0,0,0,0,0,0,0,0,0,0,0,0,0,0,0,0,0,0,0,0,0,0,0,0,"00:00:00","00:00:00",null,{"$f":"SUMPRODUCT(ISNUMBER(MATCH(INDIRECT(\"H\"&$A$1&\"!B2:AF2\"),DimFe,0))*IFERROR(IF(\"19:00\">=IFERROR(Hgauche,0),IFERROR(hdroite-Hgauche,0),IF(durée1>0,durée1,\"00:00\")),0))+SUMPRODUCT(ISNUMBER(MATCH(INDIRECT(\"H\"&$A$1&\"!B2:AF2\"),moindimfe,0))*IFERROR(IF(\"19:00\"<=IFERROR(Hgauche,0),IF(durée4<0,0,durée4),\"00:00\"),0))","v":0},{"$f":"SUMPRODUCT(ISNUMBER(MATCH(INDIRECT(\"H\"&$A$1&\"!B2:AF2\"),DimFe,0))*IFERROR(IF(\"19:00\"<=IFERROR(Hgauche,0),IF(durée6<0,0,durée6),IF(durée<0,0,durée)),0))+SUMPRODUCT(ISNUMBER(MATCH(INDIRECT(\"H\"&$A$1&\"!B2:AF2\"),moindimfe,0))*IFERROR(IF(\"19:00\"<=IFERROR(Hgauche,0),IF(durée2<0,0,durée2),\"00:00\"),0))","v":0},{"$f":"SUMPRODUCT(1*IF(durée<0,0,durée))+SUMPRODUCT(1*IFERROR(IF(\"19:00\"<=IFERROR(Hgauche,0),IF(durée2<0,0,durée2),\"00:00\"),0))-durée5","v":0},null,0,{"$f":"VLOOKUP($A24,Bilan!A24:AI72,35,FALSE)","v":0},null,{"$f":"Bilan!AN24","v":{"$error":"#VALUE!"}},65,null,0,null,null,null,null,null,null,null,null,null,null,null,null,null,null,null,null,null,null,null,null,null,null,null,{"$f":"Données!$A19","v":"SYN"},{"$f":"Données!$B19","v":"Syn"}]
[{"$f":"Données!$H22","v":"Equipe de nuit"}]
[{"$f":"Données!$H23","v":"K"},{"$f":"IF(SUMPRODUCT((INDIRECT(\"'\"&$A$1&\"'!$A$7:$A$56\")=$A26)*(INDIRECT(\"'\"&$A$1&\"'!$B$7:$AF$56\")=B$7))=0,\"\",SUMPRODUCT((INDIRECT(\"'\"&$A$1&\"'!$A$7:$A$56\")=$A26)*(INDIRECT(\"'\"&$A$1&\"'!$B$7:$AF$56\")=B$7)))","v":""},"","","","","","","","","","","","","","","",{"$f":"IF(SUMPRODUCT((INDIRECT(\"'\"&$A$1&\"'!$A$7:$A$56\")=$A26)*(INDIRECT(\"'\"&$A$1&\"'!$B$7:$AF$56\")=R$7))=0,\"\",SUMPRODUCT((INDIRECT(\"'\"&$A$1&\"'!$A$7:$A$56\")=$A26)*(INDIRECT(\"'\"&$A$1&\"'!$B$7:$AF$56\")=R$7)))","v":""},"","","","","","","","","",{"$f":"VLOOKUP($A26,INDIRECT(\"'\"&$A$1&\"'!$A$7:$AR$56\"),35,0)","v":"00:00:00"},{"$f":"VLOOKUP($A26,INDIRECT(\"'\"&$A$1&\"'!$A$7:$AR$56\"),36,0)","v":"00:00:00"},null,{"$f":"SUMPRODUCT(ISNUMBER(MATCH(INDIRECT(\"H\"&$A$1&\"!B2:AF2\"),DimFe,0))*IFERROR(IF(\"19:00\">=IFERROR(Hgauche,0),IFERROR(hdroite-Hgauche,0),IF(durée1>0,durée1,\"00:00\")),0))+SUMPRODUCT(ISNUMBER(MATCH(INDIRECT(\"H\"&$A$1&\"!B2:AF2\"),moindimfe,0))*IFERROR(IF(\"19:00\"<=IFERROR(Hgauche,0),IF(durée4<0,0,durée4),\"00:00\"),0))","v":0},{"$f":"SUMPRODUCT(ISNUMBER(MATCH(INDIRECT(\"H\"&$A$1&\"!B2:AF2\"),DimFe,0))*IFERROR(IF(\"19:00\"<=IFERROR(Hgauche,0),IF(durée6<0,0,durée6),IF(durée<0,0,durée)),0))+SUMPRODUCT(ISNUMBER(MATCH(INDIRECT(\"H\"&$A$1&\"!B2:AF2\"),moindimfe,0))*IFERROR(IF(\"19:00\"<=IFERROR(Hgauche,0),IF(durée2<0,0,durée2),\"00:00\"),0))","v":0},{"$f":"SUM(SUMPRODUCT(1*IFERROR(IF(\"19:00\"<=IFERROR(Hgauche,0),IF(durée2<0,0,durée2),\"00:00\"),0)),SUMPRODUCT(1*IFERROR(IF(\"19:00\"<=IFERROR(Hgauche,0),IF(durée6<0,0,durée6),\"00:00\"),0)),SUMPRODUCT(1*IFERROR(IF(\"21:00\"<=IFERROR(Hdroitesimple,0),IF(durée<0,0,durée),\"00:00\"),0)))-durée5","v":0},null,{"$f":"bilanh","v":0},{"$f":"VLOOKUP($A26,Bilan!$A$9:$AQ74,37,FALSE)","v":57.958333333333336},null,{"$f":"Bilan!AN26","v":65},65,null,{"$f":"Jourtravaillé","v":0}]
[{"$f":"Données!$H24","v":0},"","","","","","","","","","","","","","","","","","","","","","","","","","",{"$f":"VLOOKUP($A27,INDIRECT(\"'\"&$A$1&\"'!$A$7:$AR$56\"),35,0)","v":"00:00:00"},{"$f":"VLOOKUP($A27,INDIRECT(\"'\"&$A$1&\"'!$A$7:$AR$56\"),36,0)","v":"00:00:00"},null,{"$f":"SUMPRODUCT(ISNUMBER(MATCH(INDIRECT(\"H\"&$A$1&\"!B2:AF2\"),DimFe,0))*IFERROR(IF(\"19:00\">=IFERROR(Hgauche,0),IFERROR(hdroite-Hgauche,0),IF(durée1>0,durée1,\"00:00\")),0))+SUMPRODUCT(ISNUMBER(MATCH(INDIRECT(\"H\"&$A$1&\"!B2:AF2\"),moindimfe,0))*IFERROR(IF(\"19:00\"<=IFERROR(Hgauche,0),IF(durée4<0,0,durée4),\"00:00\"),0))","v":0},{"$f":"SUMPRODUCT(ISNUMBER(MATCH(INDIRECT(\"H\"&$A$1&\"!B2:AF2\"),DimFe,0))*IFERROR(IF(\"19:00\"<=IFERROR(Hgauche,0),IF(durée6<0,0,durée6),IF(durée<0,0,durée)),0))+SUMPRODUCT(ISNUMBER(MATCH(INDIRECT(\"H\"&$A$1&\"!B2:AF2\"),moindimfe,0))*IFERROR(IF(\"19:00\"<=IFERROR(Hgauche,0),IF(durée2<0,0,durée2),\"00:00\"),0))","v":0},{"$f":"SUM(SUMPRODUCT(1*IFERROR(IF(\"19:00\"<=IFERROR(Hgauche,0),IF(durée2<0,0,durée2),\"00:00\"),0)),SUMPRODUCT(1*IFERROR(IF(\"19:00\"<=IFERROR(Hgauche,0),IF(durée6<0,0,durée6),\"00:00\"),0)),SUMPRODUCT(1*IFERROR(IF(\"21:00\"<=IFERROR(Hdroitesimple,0),IF(durée<0,0,durée),\"00:00\"),0)))-durée5","v":0},null,{"$f":"bilanh","v":0},{"$f":"VLOOKUP($A27,Bilan!$A$9:$AQ75,37,FALSE)","v":59.5},null,{"$f":"Bilan!AN27","v":65},65,null,{"$f":"Jourtravaillé","v":0}]
[{"$f":"Données!$H25","v":0},"","","","","","","","","","","","","","","","","","","","","","","","","","",{"$f":"VLOOKUP($A28,INDIRECT(\"'\"&$A$1&\"'!$A$7:$AR$56\"),35,0)","v":"00:00:00"},{"$f":"VLOOKUP($A28,INDIRECT(\"'\"&$A$1&\"'!$A$7:$AR$56\"),36,0)","v":"00:00:00"},null,{"$f":"SUMPRODUCT(ISNUMBER(MATCH(INDIRECT(\"H\"&$A$1&\"!B2:AF2\"),DimFe,0))*IFERROR(IF(\"19:00\">=IFERROR(Hgauche,0),IFERROR(hdroite-Hgauche,0),IF(durée1>0,durée1,\"00:00\")),0))+SUMPRODUCT(ISNUMBER(MATCH(INDIRECT(\"H\"&$A$1&\"!B2:AF2\"),moindimfe,0))*IFERROR(IF(\"19:00\"<=IFERROR(Hgauche,0),IF(durée4<0,0,durée4),\"00:00\"),0))","v":0},{"$f":"SUMPRODUCT(ISNUMBER(MATCH(INDIRECT(\"H\"&$A$1&\"!B2:AF2\"),DimFe,0))*IFERROR(IF(\"19:00\"<=IFERROR(Hgauche,0),IF(durée6<0,0,durée6),IF(durée<0,0,durée)),0))+SUMPRODUCT(ISNUMBER(MATCH(INDIRECT(\"H\"&$A$1&\"!B2:AF2\"),moindimfe,0))*IFERROR(IF(\"19:00\"<=IFERROR(Hgauche,0),IF(durée2<0,0,durée2),\"00:00\"),0))","v":0},{"$f":"SUM(SUMPRODUCT(1*IFERROR(IF(\"19:00\"<=IFERROR(Hgauche,0),IF(durée2<0,0,durée2),\"00:00\"),0)),SUMPRODUCT(1*IFERROR(IF(\"19:00\"<=IFERROR(Hgauche,0),IF(durée6<0,0,durée6),\"00:00\"),0)),SUMPRODUCT(1*IFERROR(IF(\"21:00\"<=IFERROR(Hdroitesimple,0),IF(durée<0,0,durée),\"00:00\"),0)))-durée5","v":0},null,{"$f":"bilanh","v":0},{"$f":"VLOOKUP($A28,Bilan!$A$9:$AQ76,37,FALSE)","v":59.5},null,{"$f":"Bilan!AN28","v":65},65,null,{"$f":"Jourtravaillé","v":0}]
[{"$f":"Données!$H26","v":0},{"$f":"SUMPRODUCT((INDIRECT(\"'\"&$A$1&\"'!$A$7:$A$56\")=$A29)*(INDIRECT(\"'\"&$A$1&\"'!$B$7:$AF$56\")=B$7))","v":0},0,0,0,0,0,0,0,0,0,0,0,0,0,0,0,{"$f":"SUMPRODUCT((INDIRECT(\"'\"&$A$1&\"'!$A$7:$A$56\")=$A29)*(INDIRECT(\"'\"&$A$1&\"'!$B$7:$AF$56\")=R$7))","v":0},0,0,0,0,0,0,0,0,0,{"$f":"VLOOKUP($A29,INDIRECT(\"'H\"&$A$1&\"'!$A$7:$AR$56\"),35,0)","v":"00:00:00"},{"$f":"VLOOKUP($A29,INDIRECT(\"'H\"&$A$1&\"'!$A$7:$AR$56\"),38,0)","v":"00:00:00"},null,{"$f":"SUMPRODUCT(ISNUMBER(MATCH(INDIRECT(\"H\"&$A$1&\"!B2:AF2\"),DimFe,0))*IFERROR(IF(\"19:00\">=IFERROR(Hgauche,0),IFERROR(hdroite-Hgauche,0),IF(durée1>0,durée1,\"00:00\")),0))+SUMPRODUCT(ISNUMBER(MATCH(INDIRECT(\"H\"&$A$1&\"!B2:AF2\"),moindimfe,0))*IFERROR(IF(\"19:00\"<=IFERROR(Hgauche,0),IF(durée4<0,0,durée4),\"00:00\"),0))","v":0},{"$f":"SUMPRODUCT(ISNUMBER(MATCH(INDIRECT(\"H\"&$A$1&\"!B2:AF2\"),DimFe,0))*IFERROR(IF(\"19:00\"<=IFERROR(Hgauche,0),IF(durée6<0,0,durée6),IF(durée<0,0,durée)),0))+SUMPRODUCT(ISNUMBER(MATCH(INDIRECT(\"H\"&$A$1&\"!B2:AF2\"),moindimfe,0))*IFERROR(IF(\"19:00\"<=IFERROR(Hgauche,0),IF(durée2<0,0,durée2),\"00:00\"),0))","v":0},{"$f":"SUMPRODUCT(1*IF(durée<0,0,durée))+SUMPRODUCT(1*IFERROR(IF(\"19:00\"<=IFERROR(Hgauche,0),IF(durée2<0,0,durée2),\"00:00\"),0))-durée5","v":0},null,{"$f":"(AB29/24)+SUMPRODUCT(($B$6:$AA$6)*(B29:AA29))","v":0},{"$f":"VLOOKUP($A29,Bilan!A29:AI77,35,FALSE)","v":0},null,{"$f":"Bilan!AN29","v":{"$error":"#VALUE!"}},65,null,{"$f":"SUM(B29:R29)","v":0},null,null,null,null,null,null,null,null,null,null,null,null,null,null,null,null,null,null,null,null,null,null,null,{"$f":"Données!$A24","v":"CA"},{"$f":"Données!$B24","v":"CA"}]
[{"$f":"Données!$H27","v":0},0,0,0,0,0,0,0,0,0,0,0,0,0,0,0,0,0,0,0,0,0,0,0,0,0,0,"00:00:00","00:00:00",null,{"$f":"SUMPRODUCT(ISNUMBER(MATCH(INDIRECT(\"H\"&$A$1&\"!B2:AF2\"),DimFe,0))*IFERROR(IF(\"19:00\">=IFERROR(Hgauche,0),IFERROR(hdroite-Hgauche,0),IF(durée1>0,durée1,\"00:00\")),0))+SUMPRODUCT(ISNUMBER(MATCH(INDIRECT(\"H\"&$A$1&\"!B2:AF2\"),moindimfe,0))*IFERROR(IF(\"19:00\"<=IFERROR(Hgauche,0),IF(durée4<0,0,durée4),\"00:00\"),0))","v":0},{"$f":"SUMPRODUCT(ISNUMBER(MATCH(INDIRECT(\"H\"&$A$1&\"!B2:AF2\"),DimFe,0))*IFERROR(IF(\"19:00\"<=IFERROR(Hgauche,0),IF(durée6<0,0,durée6),IF(durée<0,0,durée)),0))+SUMPRODUCT(ISNUMBER(MATCH(INDIRECT(\"H\"&$A$1&\"!B2:AF2\"),moindimfe,0))*IFERROR(IF(\"19:00\"<=IFERROR(Hgauche,0),IF(durée2<0,0,durée2),\"00:00\"),0))","v":0},{"$f":"SUMPRODUCT(1*IF(durée<0,0,durée))+SUMPRODUCT(1*IFERROR(IF(\"19:00\"<=IFERROR(Hgauche,0),IF(durée2<0,0,durée2),\"00:00\"),0))-durée5","v":0},null,0,{"$f":"VLOOKUP($A30,Bilan!A30:AI78,35,FALSE)","v":0},null,{"$f":"Bilan!AN30","v":{"$error":"#VALUE!"}},65,null,0,null,null,null,null,null,null,null,null,null,null,null,null,null,null,null,null,null,null,null,null,null,null,null,{"$f":"Données!$A25","v":"CA16"},{"$f":"Données!$B25","v":"CA16"}]
[{"$f":"Données!$H28","v":0},0,0,0,0,0,0,0,0,0,0,0,0,0,0,0,0,0,0,0,0,0,0,0,0,0,0,"00:00:00","00:00:00",null,{"$f":"SUMPRODUCT(ISNUMBER(MATCH(INDIRECT(\"H\"&$A$1&\"!B2:AF2\"),DimFe,0))*IFERROR(IF(\"19:00\">=IFERROR(Hgauche,0),IFERROR(hdroite-Hgauche,0),IF(durée1>0,durée1,\"00:00\")),0))+SUMPRODUCT(ISNUMBER(MATCH(INDIRECT(\"H\"&$A$1&\"!B2:AF2\"),moindimfe,0))*IFERROR(IF(\"19:00\"<=IFERROR(Hgauche,0),IF(durée4<0,0,durée4),\"00:00\"),0))","v":0},{"$f":"SUMPRODUCT(ISNUMBER(MATCH(INDIRECT(\"H\"&$A$1&\"!B2:AF2\"),DimFe,0))*IFERROR(IF(\"19:00\"<=IFERROR(Hgauche,0),IF(durée6<0,0,durée6),IF(durée<0,0,durée)),0))+SUMPRODUCT(ISNUMBER(MATCH(INDIRECT(\"H\"&$A$1&\"!B2:AF2\"),moindimfe,0))*IFERROR(IF(\"19:00\"<=IFERROR(Hgauche,0),IF(durée2<0,0,durée2),\"00:00\"),0))","v":0},{"$f":"SUMPRODUCT(1*IF(durée<0,0,durée))+SUMPRODUCT(1*IFERROR(IF(\"19:00\"<=IFERROR(Hgauche,0),IF(durée2<0,0,durée2),\"00:00\"),0))-durée5","v":0},null,0,{"$f":"VLOOKUP($A31,Bilan!A31:AI79,35,FALSE)","v":0},null,{"$f":"Bilan!AN31","v":{"$error":"#VALUE!"}},65,null,0,null,null,null,null,null,null,null,null,null,null,null,null,null,null,null,null,null,null,null,null,null,null,null,{"$f":"Données!$A26","v":"REC"},{"$f":"Données!$B26","v":"REC"}]
[{"$f":"Données!$H29","v":0},0,0,0,0,0,0,0,0,0,0,0,0,0,0,0,0,0,0,0,0,0,0,0,0,0,0,"00:00:00","00:00:00",null,{"$f":"SUMPRODUCT(ISNUMBER(MATCH(INDIRECT(\"H\"&$A$1&\"!B2:AF2\"),DimFe,0))*IFERROR(IF(\"19:00\">=IFERROR(Hgauche,0),IFERROR(hdroite-Hgauche,0),IF(durée1>0,durée1,\"00:00\")),0))+SUMPRODUCT(ISNUMBER(MATCH(INDIRECT(\"H\"&$A$1&\"!B2:AF2\"),moindimfe,0))*IFERROR(IF(\"19:00\"<=IFERROR(Hgauche,0),IF(durée4<0,0,durée4),\"00:00\"),0))","v":0},{"$f":"SUMPRODUCT(ISNUMBER(MATCH(INDIRECT(\"H\"&$A$1&\"!B2:AF2\"),DimFe,0))*IFERROR(IF(\"19:00\"<=IFERROR(Hgauche,0),IF(durée6<0,0,durée6),IF(durée<0,0,durée)),0))+SUMPRODUCT(ISNUMBER(MATCH(INDIRECT(\"H\"&$A$1&\"!B2:AF2\"),moindimfe,0))*IFERROR(IF(\"19:00\"<=IFERROR(Hgauche,0),IF(durée2<0,0,durée2),\"00:00\"),0))","v":0},{"$f":"SUMPRODUCT(1*IF(durée<0,0,durée))+SUMPRODUCT(1*IFERROR(IF(\"19:00\"<=IFERROR(Hgauche,0),IF(durée2<0,0,durée2),\"00:00\"),0))-durée5","v":0},null,0,{"$f":"VLOOKUP($A32,Bilan!A32:AI80,35,FALSE)","v":0},null,{"$f":"Bilan!AN32","v":{"$error":"#VALUE!"}},65,null,0,null,null,null,null,null,null,null,null,null,null,null,null,null,null,null,null,null,null,null,null,null,null,null,{"$f":"Données!$A27","v":"PL"},{"$f":"Données!$B27","v":"PL"}]
[{"$f":"Données!$H30","v":0},0,0,0,0,0,0,0,0,0,0,0,0,0,0,0,0,0,0,0,0,0,0,0,0,0,0,"00:00:00","00:00:00",null,{"$f":"SUMPRODUCT(ISNUMBER(MATCH(INDIRECT(\"H\"&$A$1&\"!B2:AF2\"),DimFe,0))*IFERROR(IF(\"19:00\">=IFERROR(Hgauche,0),IFERROR(hdroite-Hgauche,0),IF(durée1>0,durée1,\"00:00\")),0))+SUMPRODUCT(ISNUMBER(MATCH(INDIRECT(\"H\"&$A$1&\"!B2:AF2\"),moindimfe,0))*IFERROR(IF(\"19:00\"<=IFERROR(Hgauche,0),IF(durée4<0,0,durée4),\"00:00\"),0))","v":0},{"$f":"SUMPRODUCT(ISNUMBER(MATCH(INDIRECT(\"H\"&$A$1&\"!B2:AF2\"),DimFe,0))*IFERROR(IF(\"19:00\"<=IFERROR(Hgauche,0),IF(durée6<0,0,durée6),IF(durée<0,0,durée)),0))+SUMPRODUCT(ISNUMBER(MATCH(INDIRECT(\"H\"&$A$1&\"!B2:AF2\"),moindimfe,0))*IFERROR(IF(\"19:00\"<=IFERROR(Hgauche,0),IF(durée2<0,0,durée2),\"00:00\"),0))","v":0},{"$f":"SUMPRODUCT(1*IF(durée<0,0,durée))+SUMPRODUCT(1*IFERROR(IF(\"19:00\"<=IFERROR(Hgauche,0),IF(durée2<0,0,durée2),\"00:00\"),0))-durée5","v":0},null,0,{"$f":"VLOOKUP($A33,Bilan!A33:AI81,35,FALSE)","v":0},null,{"$f":"Bilan!AN33","v":{"$error":"#VALUE!"}},65,null,0,null,null,null,null,null,null,null,null,null,null,null,null,null,null,null,null,null,null,null,null,null,null,null,{"$f":"Données!$A28","v":"D"},{"$f":"Données!$B28","v":"D"}]
[{"$f":"Données!$H31","v":0},0,0,0,0,0,0,0,0,0,0,0,0,0,0,0,0,0,0,0,0,0,0,0,0,0,0,"00:00:00","00:00:00",null,{"$f":"SUMPRODUCT(ISNUMBER(MATCH(INDIRECT(\"H\"&$A$1&\"!B2:AF2\"),DimFe,0))*IFERROR(IF(\"19:00\">=IFERROR(Hgauche,0),IFERROR(hdroite-Hgauche,0),IF(durée1>0,durée1,\"00:00\")),0))+SUMPRODUCT(ISNUMBER(MATCH(INDIRECT(\"H\"&$A$1&\"!B2:AF2\"),moindimfe,0))*IFERROR(IF(\"19:00\"<=IFERROR(Hgauche,0),IF(durée4<0,0,durée4),\"00:00\"),0))","v":0},{"$f":"SUMPRODUCT(ISNUMBER(MATCH(INDIRECT(\"H\"&$A$1&\"!B2:AF2\"),DimFe,0))*IFERROR(IF(\"19:00\"<=IFERROR(Hgauche,0),IF(durée6<0,0,durée6),IF(durée<0,0,durée)),0))+SUMPRODUCT(ISNUMBER(MATCH(INDIRECT(\"H\"&$A$1&\"!B2:AF2\"),moindimfe,0))*IFERROR(IF(\"19:00\"<=IFERROR(Hgauche,0),IF(durée2<0,0,durée2),\"00:00\"),0))","v":0},{"$f":"SUMPRODUCT(1*IF(durée<0,0,durée))+SUMPRODUCT(1*IFERROR(IF(\"19:00\"<=IFERROR(Hgauche,0),IF(durée2<0,0,durée2),\"00:00\"),0))-durée5","v":0},null,0,{"$f":"VLOOKUP($A34,Bilan!A34:AI82,35,FALSE)","v":0},null,{"$f":"Bilan!AN34","v":{"$error":"#VALUE!"}},65,null,0]
[{"$f":"Données!$H32","v":"Maitresse de maison"}]
[{"$f":"Données!$H33","v":"N"},{"$f":"IF(SUMPRODUCT((INDIRECT(\"'\"&$A$1&\"'!$A$7:$A$56\")=$A36)*(INDIRECT(\"'\"&$A$1&\"'!$B$7:$AF$56\")=B$7))=0,\"\",SUMPRODUCT((INDIRECT(\"'\"&$A$1&\"'!$A$7:$A$56\")=$A36)*(INDIRECT(\"'\"&$A$1&\"'!$B$7:$AF$56\")=B$7)))","v":""},"","","","","","","","","","","","","","","","","","","","","","","","","",{"$f":"VLOOKUP($A36,INDIRECT(\"'\"&$A$1&\"'!$A$7:$AR$56\"),35,0)","v":"00:00:00"},{"$f":"VLOOKUP($A36,INDIRECT(\"'\"&$A$1&\"'!$A$7:$AR$56\"),36,0)","v":"00:00:00"},null,{"$f":"SUMPRODUCT(ISNUMBER(MATCH(INDIRECT(\"H\"&$A$1&\"!B2:AF2\"),DimFe,0))*IFERROR(IF(\"19:00\">=IFERROR(Hgauche,0),IFERROR(hdroite-Hgauche,0),IF(durée1>0,durée1,\"00:00\")),0))+SUMPRODUCT(ISNUMBER(MATCH(INDIRECT(\"H\"&$A$1&\"!B2:AF2\"),moindimfe,0))*IFERROR(IF(\"19:00\"<=IFERROR(Hgauche,0),IF(durée4<0,0,durée4),\"00:00\"),0))","v":0},{"$f":"SUMPRODUCT(ISNUMBER(MATCH(INDIRECT(\"H\"&$A$1&\"!B2:AF2\"),DimFe,0))*IFERROR(IF(\"19:00\"<=IFERROR(Hgauche,0),IF(durée6<0,0,durée6),IF(durée<0,0,durée)),0))+SUMPRODUCT(ISNUMBER(MATCH(INDIRECT(\"H\"&$A$1&\"!B2:AF2\"),moindimfe,0))*IFERROR(IF(\"19:00\"<=IFERROR(Hgauche,0),IF(durée2<0,0,durée2),\"00:00\"),0))","v":0},{"$f":"SUM(SUMPRODUCT(1*IFERROR(IF(\"19:00\"<=IFERROR(Hgauche,0),IF(durée2<0,0,durée2),\"00:00\"),0)),SUMPRODUCT(1*IFERROR(IF(\"19:00\"<=IFERROR(Hgauche,0),IF(durée6<0,0,durée6),\"00:00\"),0)),SUMPRODUCT(1*IFERROR(IF(\"21:00\"<=IFERROR(Hdroitesimple,0),IF(durée<0,0,durée),\"00:00\"),0)))-durée5","v":0},null,{"$f":"bilanh","v":0},{"$f":"VLOOKUP($A36,Bilan!$A$9:$AQ84,37,FALSE)","v":63},null,{"$f":"Bilan!AN36","v":65},65,null,{"$f":"Jourtravaillé","v":0}]
[{"$f":"Données!$H34","v":0},{"$f":"SUMPRODUCT((INDIRECT(\"'\"&$A$1&\"'!$A$7:$A$56\")=$A37)*(INDIRECT(\"'\"&$A$1&\"'!$B$7:$AF$56\")=B$7))","v":0},0,0,0,0,0,0,0,0,0,0,0,0,0,0,0,{"$f":"SUMPRODUCT((INDIRECT(\"'\"&$A$1&\"'!$A$7:$A$56\")=$A37)*(INDIRECT(\"'\"&$A$1&\"'!$B$7:$AF$56\")=R$7))","v":0},0,0,0,0,0,0,0,0,0,{"$f":"VLOOKUP($A37,INDIRECT(\"'H\"&$A$1&\"'!$A$7:$AR$56\"),35,0)","v":"00:00:00"},{"$f":"VLOOKUP($A37,INDIRECT(\"'H\"&$A$1&\"'!$A$7:$AR$56\"),38,0)","v":"00:00:00"},null,{"$f":"SUMPRODUCT(ISNUMBER(MATCH(INDIRECT(\"H\"&$A$1&\"!B2:AF2\"),DimFe,0))*IFERROR(IF(\"19:00\">=IFERROR(Hgauche,0),IFERROR(hdroite-Hgauche,0),IF(durée1>0,durée1,\"00:00\")),0))+SUMPRODUCT(ISNUMBER(MATCH(INDIRECT(\"H\"&$A$1&\"!B2:AF2\"),moindimfe,0))*IFERROR(IF(\"19:00\"<=IFERROR(Hgauche,0),IF(durée4<0,0,durée4),\"00:00\"),0))","v":0},{"$f":"SUMPRODUCT(ISNUMBER(MATCH(INDIRECT(\"H\"&$A$1&\"!B2:AF2\"),DimFe,0))*IFERROR(IF(\"19:00\"<=IFERROR(Hgauche,0),IF(durée6<0,0,durée6),IF(durée<0,0,durée)),0))+SUMPRODUCT(ISNUMBER(MATCH(INDIRECT(\"H\"&$A$1&\"!B2:AF2\"),moindimfe,0))*IFERROR(IF(\"19:00\"<=IFERROR(Hgauche,0),IF(durée2<0,0,durée2),\"00:00\"),0))","v":0},{"$f":"SUMPRODUCT(1*IF(durée<0,0,durée))+SUMPRODUCT(1*IFERROR(IF(\"19:00\"<=IFERROR(Hgauche,0),IF(durée2<0,0,durée2),\"00:00\"),0))-durée5","v":0},null,{"$f":"(AB37/24)+SUMPRODUCT(($B$6:$AA$6)*(B37:AA37))","v":0},{"$f":"VLOOKUP($A37,Bilan!A37:AI85,35,FALSE)","v":0},null,{"$f":"Bilan!AN37","v":65},65,null,{"$f":"SUM(B37:R37)","v":0}]
[{"$f":"Données!$H35","v":0},0,0,0,0,0,0,0,0,0,0,0,0,0,0,0,0,0,0,0,0,0,0,0,0,0,0,"00:00:00","00:00:00",null,{"$f":"SUMPRODUCT(ISNUMBER(MATCH(INDIRECT(\"H\"&$A$1&\"!B2:AF2\"),DimFe,0))*IFERROR(IF(\"19:00\">=IFERROR(Hgauche,0),IFERROR(hdroite-Hgauche,0),IF(durée1>0,durée1,\"00:00\")),0))+SUMPRODUCT(ISNUMBER(MATCH(INDIRECT(\"H\"&$A$1&\"!B2:AF2\"),moindimfe,0))*IFERROR(IF(\"19:00\"<=IFERROR(Hgauche,0),IF(durée4<0,0,durée4),\"00:00\"),0))","v":0},{"$f":"SUMPRODUCT(ISNUMBER(MATCH(INDIRECT(\"H\"&$A$1&\"!B2:AF2\"),DimFe,0))*IFERROR(IF(\"19:00\"<=IFERROR(Hgauche,0),IF(durée6<0,0,durée6),IF(durée<0,0,durée)),0))+SUMPRODUCT(ISNUMBER(MATCH(INDIRECT(\"H\"&$A$1&\"!B2:AF2\"),moindimfe,0))*IFERROR(IF(\"19:00\"<=IFERROR(Hgauche,0),IF(durée2<0,0,durée2),\"00:00\"),0))","v":0},{"$f":"SUMPRODUCT(1*IF(durée<0,0,durée))+SUMPRODUCT(1*IFERROR(IF(\"19:00\"<=IFERROR(Hgauche,0),IF(durée2<0,0,durée2),\"00:00\"),0))-durée5","v":0},null,0,{"$f":"VLOOKUP($A38,Bilan!A38:AI86,35,FALSE)","v":0},null,{"$f":"Bilan!AN38","v":{"$error":"#VALUE!"}},65,null,0]
[{"$f":"Données!$H36","v":0},0,0,0,0,0,0,0,0,0,0,0,0,0,0,0,0,0,0,0,0,0,0,0,0,0,0,"00:00:00","00:00:00",null,{"$f":"SUMPRODUCT(ISNUMBER(MATCH(INDIRECT(\"H\"&$A$1&\"!B2:AF2\"),DimFe,0))*IFERROR(IF(\"19:00\">=IFERROR(Hgauche,0),IFERROR(hdroite-Hgauche,0),IF(durée1>0,durée1,\"00:00\")),0))+SUMPRODUCT(ISNUMBER(MATCH(INDIRECT(\"H\"&$A$1&\"!B2:AF2\"),moindimfe,0))*IFERROR(IF(\"19:00\"<=IFERROR(Hgauche,0),IF(durée4<0,0,durée4),\"00:00\"),0))","v":0},{"$f":"SUMPRODUCT(ISNUMBER(MATCH(INDIRECT(\"H\"&$A$1&\"!B2:AF2\"),DimFe,0))*IFERROR(IF(\"19:00\"<=IFERROR(Hgauche,0),IF(durée6<0,0,durée6),IF(durée<0,0,durée)),0))+SUMPRODUCT(ISNUMBER(MATCH(INDIRECT(\"H\"&$A$1&\"!B2:AF2\"),moindimfe,0))*IFERROR(IF(\"19:00\"<=IFERROR(Hgauche,0),IF(durée2<0,0,durée2),\"00:00\"),0))","v":0},{"$f":"SUMPRODUCT(1*IF(durée<0,0,durée))+SUMPRODUCT(1*IFERROR(IF(\"19:00\"<=IFERROR(Hgauche,0),IF(durée2<0,0,durée2),\"00:00\"),0))-durée5","v":0},null,0,{"$f":"VLOOKUP($A39,Bilan!A39:AI87,35,FALSE)","v":0},null,{"$f":"Bilan!AN39","v":{"$error":"#VALUE!"}},65,null,0]
[{"$f":"Données!$H37","v":0},0,0,0,0,0,0,0,0,0,0,0,0,0,0,0,0,0,0,0,0,0,0,0,0,0,0,"00:00:00","00:00:00",null,{"$f":"SUMPRODUCT(ISNUMBER(MATCH(INDIRECT(\"H\"&$A$1&\"!B2:AF2\"),DimFe,0))*IFERROR(IF(\"19:00\">=IFERROR(Hgauche,0),IFERROR(hdroite-Hgauche,0),IF(durée1>0,durée1,\"00:00\")),0))+SUMPRODUCT(ISNUMBER(MATCH(INDIRECT(\"H\"&$A$1&\"!B2:AF2\"),moindimfe,0))*IFERROR(IF(\"19:00\"<=IFERROR(Hgauche,0),IF(durée4<0,0,durée4),\"00:00\"),0))","v":0},{"$f":"SUMPRODUCT(ISNUMBER(MATCH(INDIRECT(\"H\"&$A$1&\"!B2:AF2\"),DimFe,0))*IFERROR(IF(\"19:00\"<=IFERROR(Hgauche,0),IF(durée6<0,0,durée6),IF(durée<0,0,durée)),0))+SUMPRODUCT(ISNUMBER(MATCH(INDIRECT(\"H\"&$A$1&\"!B2:AF2\"),moindimfe,0))*IFERROR(IF(\"19:00\"<=IFERROR(Hgauche,0),IF(durée2<0,0,durée2),\"00:00\"),0))","v":0},{"$f":"SUMPRODUCT(1*IF(durée<0,0,durée))+SUMPRODUCT(1*IFERROR(IF(\"19:00\"<=IFERROR(Hgauche,0),IF(durée2<0,0,durée2),\"00:00\"),0))-durée5","v":0},null,0,{"$f":"VLOOKUP($A40,Bilan!A40:AI88,35,FALSE)","v":0},null,{"$f":"Bilan!AN40","v":{"$error":"#VALUE!"}},65,null,0]
[{"$f":"Données!$H38","v":0},0,0,0,0,0,0,0,0,0,0,0,0,0,0,0,0,0,0,0,0,0,0,0,0,0,0,"00:00:00","00:00:00",null,{"$f":"SUMPRODUCT(ISNUMBER(MATCH(INDIRECT(\"H\"&$A$1&\"!B2:AF2\"),DimFe,0))*IFERROR(IF(\"19:00\">=IFERROR(Hgauche,0),IFERROR(hdroite-Hgauche,0),IF(durée1>0,durée1,\"00:00\")),0))+SUMPRODUCT(ISNUMBER(MATCH(INDIRECT(\"H\"&$A$1&\"!B2:AF2\"),moindimfe,0))*IFERROR(IF(\"19:00\"<=IFERROR(Hgauche,0),IF(durée4<0,0,durée4),\"00:00\"),0))","v":0},{"$f":"SUMPRODUCT(ISNUMBER(MATCH(INDIRECT(\"H\"&$A$1&\"!B2:AF2\"),DimFe,0))*IFERROR(IF(\"19:00\"<=IFERROR(Hgauche,0),IF(durée6<0,0,durée6),IF(durée<0,0,durée)),0))+SUMPRODUCT(ISNUMBER(MATCH(INDIRECT(\"H\"&$A$1&\"!B2:AF2\"),moindimfe,0))*IFERROR(IF(\"19:00\"<=IFERROR(Hgauche,0),IF(durée2<0,0,durée2),\"00:00\"),0))","v":0},{"$f":"SUMPRODUCT(1*IF(durée<0,0,durée))+SUMPRODUCT(1*IFERROR(IF(\"19:00\"<=IFERROR(Hgauche,0),IF(durée2<0,0,durée2),\"00:00\"),0))-durée5","v":0},null,0,{"$f":"VLOOKUP($A41,Bilan!A41:AI89,35,FALSE)","v":0},null,{"$f":"Bilan!AN41","v":{"$error":"#VALUE!"}},65,null,0]
[{"$f":"Données!$H39","v":0},0,0,0,0,0,0,0,0,0,0,0,0,0,0,0,0,0,0,0,0,0,0,0,0,0,0,"00:00:00","00:00:00",null,{"$f":"SUMPRODUCT(ISNUMBER(MATCH(INDIRECT(\"H\"&$A$1&\"!B2:AF2\"),DimFe,0))*IFERROR(IF(\"19:00\">=IFERROR(Hgauche,0),IFERROR(hdroite-Hgauche,0),IF(durée1>0,durée1,\"00:00\")),0))+SUMPRODUCT(ISNUMBER(MATCH(INDIRECT(\"H\"&$A$1&\"!B2:AF2\"),moindimfe,0))*IFERROR(IF(\"19:00\"<=IFERROR(Hgauche,0),IF(durée4<0,0,durée4),\"00:00\"),0))","v":0},{"$f":"SUMPRODUCT(ISNUMBER(MATCH(INDIRECT(\"H\"&$A$1&\"!B2:AF2\"),DimFe,0))*IFERROR(IF(\"19:00\"<=IFERROR(Hgauche,0),IF(durée6<0,0,durée6),IF(durée<0,0,durée)),0))+SUMPRODUCT(ISNUMBER(MATCH(INDIRECT(\"H\"&$A$1&\"!B2:AF2\"),moindimfe,0))*IFERROR(IF(\"19:00\"<=IFERROR(Hgauche,0),IF(durée2<0,0,durée2),\"00:00\"),0))","v":0},{"$f":"SUMPRODUCT(1*IF(durée<0,0,durée))+SUMPRODUCT(1*IFERROR(IF(\"19:00\"<=IFERROR(Hgauche,0),IF(durée2<0,0,durée2),\"00:00\"),0))-durée5","v":0},null,0,{"$f":"VLOOKUP($A42,Bilan!A42:AI90,35,FALSE)","v":0},null,{"$f":"Bilan!AN42","v":{"$error":"#VALUE!"}},65,null,0]
[{"$f":"Données!$H40","v":0},0,0,0,0,0,0,0,0,0,0,0,0,0,0,0,0,0,0,0,0,0,0,0,0,0,0,"00:00:00","00:00:00",null,{"$f":"SUMPRODUCT(ISNUMBER(MATCH(INDIRECT(\"H\"&$A$1&\"!B2:AF2\"),DimFe,0))*IFERROR(IF(\"19:00\">=IFERROR(Hgauche,0),IFERROR(hdroite-Hgauche,0),IF(durée1>0,durée1,\"00:00\")),0))+SUMPRODUCT(ISNUMBER(MATCH(INDIRECT(\"H\"&$A$1&\"!B2:AF2\"),moindimfe,0))*IFERROR(IF(\"19:00\"<=IFERROR(Hgauche,0),IF(durée4<0,0,durée4),\"00:00\"),0))","v":0},{"$f":"SUMPRODUCT(ISNUMBER(MATCH(INDIRECT(\"H\"&$A$1&\"!B2:AF2\"),DimFe,0))*IFERROR(IF(\"19:00\"<=IFERROR(Hgauche,0),IF(durée6<0,0,durée6),IF(durée<0,0,durée)),0))+SUMPRODUCT(ISNUMBER(MATCH(INDIRECT(\"H\"&$A$1&\"!B2:AF2\"),moindimfe,0))*IFERROR(IF(\"19:00\"<=IFERROR(Hgauche,0),IF(durée2<0,0,durée2),\"00:00\"),0))","v":0},{"$f":"SUMPRODUCT(1*IF(durée<0,0,durée))+SUMPRODUCT(1*IFERROR(IF(\"19:00\"<=IFERROR(Hgauche,0),IF(durée2<0,0,durée2),\"00:00\"),0))-durée5","v":0},null,0,{"$f":"VLOOKUP($A43,Bilan!A43:AI91,35,FALSE)","v":0},null,{"$f":"Bilan!AN43","v":{"$error":"#VALUE!"}},65,null,0]
[{"$f":"Données!$H41","v":0},0,0,0,0,0,0,0,0,0,0,0,0,0,0,0,0,0,0,0,0,0,0,0,0,0,0,"00:00:00","00:00:00",null,{"$f":"SUMPRODUCT(ISNUMBER(MATCH(INDIRECT(\"H\"&$A$1&\"!B2:AF2\"),DimFe,0))*IFERROR(IF(\"19:00\">=IFERROR(Hgauche,0),IFERROR(hdroite-Hgauche,0),IF(durée1>0,durée1,\"00:00\")),0))+SUMPRODUCT(ISNUMBER(MATCH(INDIRECT(\"H\"&$A$1&\"!B2:AF2\"),moindimfe,0))*IFERROR(IF(\"19:00\"<=IFERROR(Hgauche,0),IF(durée4<0,0,durée4),\"00:00\"),0))","v":0},{"$f":"SUMPRODUCT(ISNUMBER(MATCH(INDIRECT(\"H\"&$A$1&\"!B2:AF2\"),DimFe,0))*IFERROR(IF(\"19:00\"<=IFERROR(Hgauche,0),IF(durée6<0,0,durée6),IF(durée<0,0,durée)),0))+SUMPRODUCT(ISNUMBER(MATCH(INDIRECT(\"H\"&$A$1&\"!B2:AF2\"),moindimfe,0))*IFERROR(IF(\"19:00\"<=IFERROR(Hgauche,0),IF(durée2<0,0,durée2),\"00:00\"),0))","v":0},{"$f":"SUMPRODUCT(1*IF(durée<0,0,durée))+SUMPRODUCT(1*IFERROR(IF(\"19:00\"<=IFERROR(Hgauche,0),IF(durée2<0,0,durée2),\"00:00\"),0))-durée5","v":0},null,0,{"$f":"VLOOKUP($A44,Bilan!A44:AI92,35,FALSE)","v":0},null,{"$f":"Bilan!AN44","v":{"$error":"#VALUE!"}},65,null,0]
[{"$f":"Données!$H42","v":"Psychologue"}]
[{"$f":"Données!$H43","v":"O"},{"$f":"IF(SUMPRODUCT((INDIRECT(\"'\"&$A$1&\"'!$A$7:$A$56\")=$A46)*(INDIRECT(\"'\"&$A$1&\"'!$B$7:$AF$56\")=B$7))=0,\"\",SUMPRODUCT((INDIRECT(\"'\"&$A$1&\"'!$A$7:$A$56\")=$A46)*(INDIRECT(\"'\"&$A$1&\"'!$B$7:$AF$56\")=B$7)))","v":""},"","","","","","","","","","","","","","","","","","","","","","","","","",{"$f":"VLOOKUP($A46,INDIRECT(\"'\"&$A$1&\"'!$A$7:$AR$56\"),35,0)","v":"00:00:00"},{"$f":"VLOOKUP($A46,INDIRECT(\"'\"&$A$1&\"'!$A$7:$AR$56\"),36,0)","v":"00:00:00"},null,{"$f":"SUMPRODUCT(ISNUMBER(MATCH(INDIRECT(\"H\"&$A$1&\"!B2:AF2\"),DimFe,0))*IFERROR(IF(\"19:00\">=IFERROR(Hgauche,0),IFERROR(hdroite-Hgauche,0),IF(durée1>0,durée1,\"00:00\")),0))+SUMPRODUCT(ISNUMBER(MATCH(INDIRECT(\"H\"&$A$1&\"!B2:AF2\"),moindimfe,0))*IFERROR(IF(\"19:00\"<=IFERROR(Hgauche,0),IF(durée4<0,0,durée4),\"00:00\"),0))","v":0},{"$f":"SUMPRODUCT(ISNUMBER(MATCH(INDIRECT(\"H\"&$A$1&\"!B2:AF2\"),DimFe,0))*IFERROR(IF(\"19:00\"<=IFERROR(Hgauche,0),IF(durée6<0,0,durée6),IF(durée<0,0,durée)),0))+SUMPRODUCT(ISNUMBER(MATCH(INDIRECT(\"H\"&$A$1&\"!B2:AF2\"),moindimfe,0))*IFERROR(IF(\"19:00\"<=IFERROR(Hgauche,0),IF(durée2<0,0,durée2),\"00:00\"),0))","v":0},{"$f":"SUM(SUMPRODUCT(1*IFERROR(IF(\"19:00\"<=IFERROR(Hgauche,0),IF(durée2<0,0,durée2),\"00:00\"),0)),SUMPRODUCT(1*IFERROR(IF(\"19:00\"<=IFERROR(Hgauche,0),IF(durée6<0,0,durée6),\"00:00\"),0)),SUMPRODUCT(1*IFERROR(IF(\"21:00\"<=IFERROR(Hdroitesimple,0),IF(durée<0,0,durée),\"00:00\"),0)))-durée5","v":0},null,{"$f":"bilanh","v":0},{"$f":"VLOOKUP($A46,Bilan!$A$9:$AQ94,37,FALSE)","v":63},null,{"$f":"Bilan!AN46","v":65},65,null,{"$f":"Jourtravaillé","v":0}]
[{"$f":"Données!$H44","v":0},{"$f":"SUMPRODUCT((INDIRECT(\"'\"&$A$1&\"'!$A$7:$A$56\")=$A47)*(INDIRECT(\"'\"&$A$1&\"'!$B$7:$AF$56\")=B$7))","v":0},0,0,0,0,0,0,0,0,0,0,0,0,0,0,0,{"$f":"SUMPRODUCT((INDIRECT(\"'\"&$A$1&\"'!$A$7:$A$56\")=$A47)*(INDIRECT(\"'\"&$A$1&\"'!$B$7:$AF$56\")=R$7))","v":0},0,0,0,0,0,0,0,0,0,{"$f":"VLOOKUP($A47,INDIRECT(\"'H\"&$A$1&\"'!$A$7:$AR$56\"),35,0)","v":"00:00:00"},{"$f":"VLOOKUP($A47,INDIRECT(\"'H\"&$A$1&\"'!$A$7:$AR$56\"),38,0)","v":"00:00:00"},null,{"$f":"SUMPRODUCT(ISNUMBER(MATCH(INDIRECT(\"H\"&$A$1&\"!B2:AF2\"),DimFe,0))*IFERROR(IF(\"19:00\">=IFERROR(Hgauche,0),IFERROR(hdroite-Hgauche,0),IF(durée1>0,durée1,\"00:00\")),0))+SUMPRODUCT(ISNUMBER(MATCH(INDIRECT(\"H\"&$A$1&\"!B2:AF2\"),moindimfe,0))*IFERROR(IF(\"19:00\"<=IFERROR(Hgauche,0),IF(durée4<0,0,durée4),\"00:00\"),0))","v":0},{"$f":"SUMPRODUCT(ISNUMBER(MATCH(INDIRECT(\"H\"&$A$1&\"!B2:AF2\"),DimFe,0))*IFERROR(IF(\"19:00\"<=IFERROR(Hgauche,0),IF(durée6<0,0,durée6),IF(durée<0,0,durée)),0))+SUMPRODUCT(ISNUMBER(MATCH(INDIRECT(\"H\"&$A$1&\"!B2:AF2\"),moindimfe,0))*IFERROR(IF(\"19:00\"<=IFERROR(Hgauche,0),IF(durée2<0,0,durée2),\"00:00\"),0))","v":0},{"$f":"SUMPRODUCT(1*IF(durée<0,0,durée))+SUMPRODUCT(1*IFERROR(IF(\"19:00\"<=IFERROR(Hgauche,0),IF(durée2<0,0,durée2),\"00:00\"),0))-durée5","v":0},null,{"$f":"(AB47/24)+SUMPRODUCT(($B$6:$AA$6)*(B47:AA47))","v":0},{"$f":"VLOOKUP($A47,Bilan!A47:AI95,35,FALSE)","v":0},null,{"$f":"Bilan!AN47","v":65},65,null,{"$f":"SUM(B47:R47)","v":0}]
[{"$f":"Données!$H45","v":0},0,0,0,0,0,0,0,0,0,0,0,0,0,0,0,0,0,0,0,0,0,0,0,0,0,0,{"$f":"VLOOKUP($A48,INDIRECT(\"'H\"&$A$1&\"'!$A$7:$AR$56\"),35,0)","v":"00:00:00"},{"$f":"VLOOKUP($A48,INDIRECT(\"'H\"&$A$1&\"'!$A$7:$AR$56\"),38,0)","v":"00:00:00"},null,{"$f":"SUMPRODUCT(ISNUMBER(MATCH(INDIRECT(\"H\"&$A$1&\"!B2:AF2\"),DimFe,0))*IFERROR(IF(\"19:00\">=IFERROR(Hgauche,0),IFERROR(hdroite-Hgauche,0),IF(durée1>0,durée1,\"00:00\")),0))+SUMPRODUCT(ISNUMBER(MATCH(INDIRECT(\"H\"&$A$1&\"!B2:AF2\"),moindimfe,0))*IFERROR(IF(\"19:00\"<=IFERROR(Hgauche,0),IF(durée4<0,0,durée4),\"00:00\"),0))","v":0},{"$f":"SUMPRODUCT(ISNUMBER(MATCH(INDIRECT(\"H\"&$A$1&\"!B2:AF2\"),DimFe,0))*IFERROR(IF(\"19:00\"<=IFERROR(Hgauche,0),IF(durée6<0,0,durée6),IF(durée<0,0,durée)),0))+SUMPRODUCT(ISNUMBER(MATCH(INDIRECT(\"H\"&$A$1&\"!B2:AF2\"),moindimfe,0))*IFERROR(IF(\"19:00\"<=IFERROR(Hgauche,0),IF(durée2<0,0,durée2),\"00:00\"),0))","v":0},{"$f":"SUMPRODUCT(1*IF(durée<0,0,durée))+SUMPRODUCT(1*IFERROR(IF(\"19:00\"<=IFERROR(Hgauche,0),IF(durée2<0,0,durée2),\"00:00\"),0))-durée5","v":0},null,{"$f":"(AB48/24)+SUMPRODUCT(($B$6:$AA$6)*(B48:AA48))","v":0},{"$f":"VLOOKUP($A48,Bilan!A48:AI96,35,FALSE)","v":0},null,{"$f":"Bilan!AN48","v":{"$error":"#VALUE!"}},65,null,{"$f":"SUM(B48:R48)","v":0}]
[{"$f":"Données!$H46","v":"Coordinatrice"}]
[{"$f":"Données!$H47","v":"P"},{"$f":"IF(SUMPRODUCT((INDIRECT(\"'\"&$A$1&\"'!$A$7:$A$56\")=$A50)*(INDIRECT(\"'\"&$A$1&\"'!$B$7:$AF$56\")=B$7))=0,\"\",SUMPRODUCT((INDIRECT(\"'\"&$A$1&\"'!$A$7:$A$56\")=$A50)*(INDIRECT(\"'\"&$A$1&\"'!$B$7:$AF$56\")=B$7)))","v":""},"","","","","","","","","","","","","","","","","","","","","","","","","",{"$f":"VLOOKUP($A50,INDIRECT(\"'\"&$A$1&\"'!$A$7:$AR$56\"),35,0)","v":"00:00:00"},{"$f":"VLOOKUP($A50,INDIRECT(\"'\"&$A$1&\"'!$A$7:$AR$56\"),36,0)","v":"00:00:00"},null,{"$f":"SUMPRODUCT(ISNUMBER(MATCH(INDIRECT(\"H\"&$A$1&\"!B2:AF2\"),DimFe,0))*IFERROR(IF(\"19:00\">=IFERROR(Hgauche,0),IFERROR(hdroite-Hgauche,0),IF(durée1>0,durée1,\"00:00\")),0))+SUMPRODUCT(ISNUMBER(MATCH(INDIRECT(\"H\"&$A$1&\"!B2:AF2\"),moindimfe,0))*IFERROR(IF(\"19:00\"<=IFERROR(Hgauche,0),IF(durée4<0,0,durée4),\"00:00\"),0))","v":0},{"$f":"SUMPRODUCT(ISNUMBER(MATCH(INDIRECT(\"H\"&$A$1&\"!B2:AF2\"),DimFe,0))*IFERROR(IF(\"19:00\"<=IFERROR(Hgauche,0),IF(durée6<0,0,durée6),IF(durée<0,0,durée)),0))+SUMPRODUCT(ISNUMBER(MATCH(INDIRECT(\"H\"&$A$1&\"!B2:AF2\"),moindimfe,0))*IFERROR(IF(\"19:00\"<=IFERROR(Hgauche,0),IF(durée2<0,0,durée2),\"00:00\"),0))","v":0},{"$f":"SUM(SUMPRODUCT(1*IFERROR(IF(\"19:00\"<=IFERROR(Hgauche,0),IF(durée2<0,0,durée2),\"00:00\"),0)),SUMPRODUCT(1*IFERROR(IF(\"19:00\"<=IFERROR(Hgauche,0),IF(durée6<0,0,durée6),\"00:00\"),0)),SUMPRODUCT(1*IFERROR(IF(\"21:00\"<=IFERROR(Hdroitesimple,0),IF(durée<0,0,durée),\"00:00\"),0)))-durée5","v":0},null,{"$f":"bilanh","v":0},{"$f":"VLOOKUP($A50,Bilan!$A$9:$AQ98,37,FALSE)","v":63},null,{"$f":"Bilan!AN50","v":65},65,null,{"$f":"Jourtravaillé","v":0}]
[{"$f":"Données!$H48","v":0},{"$f":"SUMPRODUCT((INDIRECT(\"'\"&$A$1&\"'!$A$7:$A$56\")=$A51)*(INDIRECT(\"'\"&$A$1&\"'!$B$7:$AF$56\")=B$7))","v":0},0,0,0,0,0,0,0,0,0,0,0,0,0,0,0,{"$f":"SUMPRODUCT((INDIRECT(\"'\"&$A$1&\"'!$A$7:$A$56\")=$A51)*(INDIRECT(\"'\"&$A$1&\"'!$B$7:$AF$56\")=R$7))","v":0},0,0,0,0,0,0,0,0,0,{"$f":"VLOOKUP($A51,INDIRECT(\"'H\"&$A$1&\"'!$A$7:$AR$56\"),35,0)","v":"00:00:00"},{"$f":"VLOOKUP($A51,INDIRECT(\"'H\"&$A$1&\"'!$A$7:$AR$56\"),38,0)","v":"00:00:00"},null,{"$f":"SUMPRODUCT(ISNUMBER(MATCH(INDIRECT(\"H\"&$A$1&\"!B2:AF2\"),DimFe,0))*IFERROR(IF(\"19:00\">=IFERROR(Hgauche,0),IFERROR(hdroite-Hgauche,0),IF(durée1>0,durée1,\"00:00\")),0))+SUMPRODUCT(ISNUMBER(MATCH(INDIRECT(\"H\"&$A$1&\"!B2:AF2\"),moindimfe,0))*IFERROR(IF(\"19:00\"<=IFERROR(Hgauche,0),IF(durée4<0,0,durée4),\"00:00\"),0))","v":0},{"$f":"SUMPRODUCT(ISNUMBER(MATCH(INDIRECT(\"H\"&$A$1&\"!B2:AF2\"),DimFe,0))*IFERROR(IF(\"19:00\"<=IFERROR(Hgauche,0),IF(durée6<0,0,durée6),IF(durée<0,0,durée)),0))+SUMPRODUCT(ISNUMBER(MATCH(INDIRECT(\"H\"&$A$1&\"!B2:AF2\"),moindimfe,0))*IFERROR(IF(\"19:00\"<=IFERROR(Hgauche,0),IF(durée2<0,0,durée2),\"00:00\"),0))","v":0},{"$f":"SUMPRODUCT(1*IF(durée<0,0,durée))+SUMPRODUCT(1*IFERROR(IF(\"19:00\"<=IFERROR(Hgauche,0),IF(durée2<0,0,durée2),\"00:00\"),0))-durée5","v":0},null,{"$f":"(AB51/24)+SUMPRODUCT(($B$6:$AA$6)*(B51:AA51))","v":0},{"$f":"VLOOKUP($A51,Bilan!A51:AI99,35,FALSE)","v":0},null,{"$f":"Bilan!AN51","v":66},65,null,{"$f":"SUM(B51:R51)","v":0}]
[{"$f":"Données!$H49","v":0},0,0,0,0,0,0,0,0,0,0,0,0,0,0,0,0,0,0,0,0,0,0,0,0,0,0,{"$f":"VLOOKUP($A52,INDIRECT(\"'H\"&$A$1&\"'!$A$7:$AR$56\"),35,0)","v":"00:00:00"},{"$f":"VLOOKUP($A52,INDIRECT(\"'H\"&$A$1&\"'!$A$7:$AR$56\"),38,0)","v":"00:00:00"},null,{"$f":"SUMPRODUCT(ISNUMBER(MATCH(INDIRECT(\"H\"&$A$1&\"!B2:AF2\"),DimFe,0))*IFERROR(IF(\"19:00\">=IFERROR(Hgauche,0),IFERROR(hdroite-Hgauche,0),IF(durée1>0,durée1,\"00:00\")),0))+SUMPRODUCT(ISNUMBER(MATCH(INDIRECT(\"H\"&$A$1&\"!B2:AF2\"),moindimfe,0))*IFERROR(IF(\"19:00\"<=IFERROR(Hgauche,0),IF(durée4<0,0,durée4),\"00:00\"),0))","v":0},{"$f":"SUMPRODUCT(ISNUMBER(MATCH(INDIRECT(\"H\"&$A$1&\"!B2:AF2\"),DimFe,0))*IFERROR(IF(\"19:00\"<=IFERROR(Hgauche,0),IF(durée6<0,0,durée6),IF(durée<0,0,durée)),0))+SUMPRODUCT(ISNUMBER(MATCH(INDIRECT(\"H\"&$A$1&\"!B2:AF2\"),moindimfe,0))*IFERROR(IF(\"19:00\"<=IFERROR(Hgauche,0),IF(durée2<0,0,durée2),\"00:00\"),0))","v":0},{"$f":"SUMPRODUCT(1*IF(durée<0,0,durée))+SUMPRODUCT(1*IFERROR(IF(\"19:00\"<=IFERROR(Hgauche,0),IF(durée2<0,0,durée2),\"00:00\"),0))-durée5","v":0},null,{"$f":"(AB52/24)+SUMPRODUCT(($B$6:$AA$6)*(B52:AA52))","v":0},{"$f":"VLOOKUP($A52,Bilan!A52:AI100,35,FALSE)","v":0},null,{"$f":"Bilan!AN52","v":{"$error":"#VALUE!"}},66,null,{"$f":"SUM(B52:R52)","v":0}]
[{"$f":"Données!$H50","v":0},0,0,0,0,0,0,0,0,0,0,0,0,0,0,0,0,0,0,0,0,0,0,0,0,0,0,{"$f":"VLOOKUP($A53,INDIRECT(\"'H\"&$A$1&\"'!$A$7:$AR$56\"),35,0)","v":"00:00:00"},{"$f":"VLOOKUP($A53,INDIRECT(\"'H\"&$A$1&\"'!$A$7:$AR$56\"),38,0)","v":"00:00:00"},null,{"$f":"SUMPRODUCT(ISNUMBER(MATCH(INDIRECT(\"H\"&$A$1&\"!B2:AF2\"),DimFe,0))*IFERROR(IF(\"19:00\">=IFERROR(Hgauche,0),IFERROR(hdroite-Hgauche,0),IF(durée1>0,durée1,\"00:00\")),0))+SUMPRODUCT(ISNUMBER(MATCH(INDIRECT(\"H\"&$A$1&\"!B2:AF2\"),moindimfe,0))*IFERROR(IF(\"19:00\"<=IFERROR(Hgauche,0),IF(durée4<0,0,durée4),\"00:00\"),0))","v":0},{"$f":"SUMPRODUCT(ISNUMBER(MATCH(INDIRECT(\"H\"&$A$1&\"!B2:AF2\"),DimFe,0))*IFERROR(IF(\"19:00\"<=IFERROR(Hgauche,0),IF(durée6<0,0,durée6),IF(durée<0,0,durée)),0))+SUMPRODUCT(ISNUMBER(MATCH(INDIRECT(\"H\"&$A$1&\"!B2:AF2\"),moindimfe,0))*IFERROR(IF(\"19:00\"<=IFERROR(Hgauche,0),IF(durée2<0,0,durée2),\"00:00\"),0))","v":0},{"$f":"SUMPRODUCT(1*IF(durée<0,0,durée))+SUMPRODUCT(1*IFERROR(IF(\"19:00\"<=IFERROR(Hgauche,0),IF(durée2<0,0,durée2),\"00:00\"),0))-durée5","v":0},null,{"$f":"(AB53/24)+SUMPRODUCT(($B$6:$AA$6)*(B53:AA53))","v":0},{"$f":"VLOOKUP($A53,Bilan!A53:AI101,35,FALSE)","v":0},null,{"$f":"Bilan!AN53","v":{"$error":"#VALUE!"}},67,null,{"$f":"SUM(B53:R53)","v":0}]
[{"$f":"Données!$H51","v":0},0,0,0,0,0,0,0,0,0,0,0,0,0,0,0,0,0,0,0,0,0,0,0,0,0,0,{"$f":"VLOOKUP($A54,INDIRECT(\"'H\"&$A$1&\"'!$A$7:$AR$56\"),35,0)","v":"00:00:00"},{"$f":"VLOOKUP($A54,INDIRECT(\"'H\"&$A$1&\"'!$A$7:$AR$56\"),38,0)","v":"00:00:00"},null,{"$f":"SUMPRODUCT(ISNUMBER(MATCH(INDIRECT(\"H\"&$A$1&\"!B2:AF2\"),DimFe,0))*IFERROR(IF(\"19:00\">=IFERROR(Hgauche,0),IFERROR(hdroite-Hgauche,0),IF(durée1>0,durée1,\"00:00\")),0))+SUMPRODUCT(ISNUMBER(MATCH(INDIRECT(\"H\"&$A$1&\"!B2:AF2\"),moindimfe,0))*IFERROR(IF(\"19:00\"<=IFERROR(Hgauche,0),IF(durée4<0,0,durée4),\"00:00\"),0))","v":0},{"$f":"SUMPRODUCT(ISNUMBER(MATCH(INDIRECT(\"H\"&$A$1&\"!B2:AF2\"),DimFe,0))*IFERROR(IF(\"19:00\"<=IFERROR(Hgauche,0),IF(durée6<0,0,durée6),IF(durée<0,0,durée)),0))+SUMPRODUCT(ISNUMBER(MATCH(INDIRECT(\"H\"&$A$1&\"!B2:AF2\"),moindimfe,0))*IFERROR(IF(\"19:00\"<=IFERROR(Hgauche,0),IF(durée2<0,0,durée2),\"00:00\"),0))","v":0},{"$f":"SUMPRODUCT(1*IF(durée<0,0,durée))+SUMPRODUCT(1*IFERROR(IF(\"19:00\"<=IFERROR(Hgauche,0),IF(durée2<0,0,durée2),\"00:00\"),0))-durée5","v":0},null,{"$f":"(AB54/24)+SUMPRODUCT(($B$6:$AA$6)*(B54:AA54))","v":0},{"$f":"VLOOKUP($A54,Bilan!A54:AI102,35,FALSE)","v":0},null,{"$f":"Bilan!AN54","v":{"$error":"#VALUE!"}},68,null,{"$f":"SUM(B54:R54)","v":0}]
[{"$f":"Données!$H52","v":"Chef de service"}]
[{"$f":"Données!$H53","v":"Q"},{"$f":"IF(SUMPRODUCT((INDIRECT(\"'\"&$A$1&\"'!$A$7:$A$56\")=$A56)*(INDIRECT(\"'\"&$A$1&\"'!$B$7:$AF$56\")=B$7))=0,\"\",SUMPRODUCT((INDIRECT(\"'\"&$A$1&\"'!$A$7:$A$56\")=$A56)*(INDIRECT(\"'\"&$A$1&\"'!$B$7:$AF$56\")=B$7)))","v":""},"","","","","","","","","","","","","","","","","","","","","","","","","",{"$f":"VLOOKUP($A56,INDIRECT(\"'\"&$A$1&\"'!$A$7:$AR$56\"),35,0)","v":"00:00:00"},{"$f":"VLOOKUP($A56,INDIRECT(\"'\"&$A$1&\"'!$A$7:$AR$56\"),36,0)","v":"00:00:00"},null,{"$f":"SUMPRODUCT(ISNUMBER(MATCH(INDIRECT(\"H\"&$A$1&\"!B2:AF2\"),DimFe,0))*IFERROR(IF(\"19:00\">=IFERROR(Hgauche,0),IFERROR(hdroite-Hgauche,0),IF(durée1>0,durée1,\"00:00\")),0))+SUMPRODUCT(ISNUMBER(MATCH(INDIRECT(\"H\"&$A$1&\"!B2:AF2\"),moindimfe,0))*IFERROR(IF(\"19:00\"<=IFERROR(Hgauche,0),IF(durée4<0,0,durée4),\"00:00\"),0))","v":0},{"$f":"SUMPRODUCT(ISNUMBER(MATCH(INDIRECT(\"H\"&$A$1&\"!B2:AF2\"),DimFe,0))*IFERROR(IF(\"19:00\"<=IFERROR(Hgauche,0),IF(durée6<0,0,durée6),IF(durée<0,0,durée)),0))+SUMPRODUCT(ISNUMBER(MATCH(INDIRECT(\"H\"&$A$1&\"!B2:AF2\"),moindimfe,0))*IFERROR(IF(\"19:00\"<=IFERROR(Hgauche,0),IF(durée2<0,0,durée2),\"00:00\"),0))","v":0},{"$f":"SUM(SUMPRODUCT(1*IFERROR(IF(\"19:00\"<=IFERROR(Hgauche,0),IF(durée2<0,0,durée2),\"00:00\"),0)),SUMPRODUCT(1*IFERROR(IF(\"19:00\"<=IFERROR(Hgauche,0),IF(durée6<0,0,durée6),\"00:00\"),0)),SUMPRODUCT(1*IFERROR(IF(\"21:00\"<=IFERROR(Hdroitesimple,0),IF(durée<0,0,durée),\"00:00\"),0)))-durée5","v":0},null,{"$f":"bilanh","v":0},{"$f":"VLOOKUP($A56,Bilan!$A$9:$AQ104,37,FALSE)","v":63},null,{"$f":"Bilan!AN56","v":65},65,null,{"$f":"Jourtravaillé","v":0}]

{"sheet":"BAout","index":33,"n_rows":56,"n_cols":66,"rows_kept":56,"cut":false,"hidden":false,"merged":[[7,37,7,38],[6,27,7,27],[6,28,7,28],[6,30,7,30],[6,31,7,31],[6,32,7,32],[7,34,7,35]]}
["Aout"]
[null,null,{"$f":"LEFT(OFFSET(INDIRECT(\"H\"&$A$1&\"!B8:AF8\"),MATCH($A9,INDIRECT(\"H\"&$A$1&\"!A9:A56\"),0),),5)","v":""}]
[null,null,{"$f":"RIGHT(OFFSET(INDIRECT(\"H\"&$A$1&\"!B8:AF8\"),MATCH($A3,INDIRECT(\"H\"&$A$1&\"!A9:A56\"),0),),5)","v":""}]
[]
[]
["Jours",{"$f":"Données!$E3","v":0.31597222222222227},{"$f":"Données!$E4","v":0.10763888888888884},{"$f":"Données!$E5","v":0.31249999999999994},{"$f":"Données!$E6","v":0.32291666666666669},{"$f":"Données!$E7","v":8.3333333333333315E-2},{"$f":"Données!$E8","v":0.47916666666666669},{"$f":"Données!$E9","v":0.3125},{"$f":"Données!$E10","v":0.48958333333333337},{"$f":"Données!$E11","v":0.47916666666666669},{"$f":"Données!$E12","v":0.51041666666666674},{"$f":"Données!$E13","v":0.51041666666666674},{"$f":"Données!$E14","v":0.44791666666666663},{"$f":"Données!$E15","v":0.49999999999999989},{"$f":"Données!$E16","v":0.49999999999999989},{"$f":"Données!$E17","v":0.5},{"$f":"Données!$E18","v":0.29166666666666669},{"$f":"Données!$E19","v":0.3125},{"$f":"Données!$E20","v":0.3125},{"$f":"Données!$E21","v":0.3125},{"$f":"Données!$E22","v":0.3125},{"$f":"Données!$E23","v":0.3125},{"$f":"Données!$E24","v":0},{"$f":"Données!$E25","v":0},{"$f":"Données!$E26","v":0},{"$f":"Données!$E27","v":0.33333333333333331},{"$f":"Données!$E28","v":0}]
[null,{"$f":"Données!$A3","v":"M"},{"$f":"Données!$A4","v":"MG"},{"$f":"Données!$A5","v":"J"},{"$f":"Données!$A6","v":"J+"},{"$f":"Données!$A7","v":"R"},{"$f":"Données!$A8","v":"RS"},{"$f":"Données!$A9","v":"S"},{"$f":"Données!$A10","v":"W"},{"$f":"Données!$A11","v":"W+"},{"$f":"Données!$A12","v":"WD"},{"$f":"Données!$A13","v":"WF"},{"$f":"Données!$A14","v":"N"},{"$f":"Données!$A15","v":"N+"},{"$f":"Données!$A16","v":"NS"},{"$f":"Données!$A17","v":"T"},{"$f":"Données!$A18","v":"F"},{"$f":"Données!$A19","v":"SYN"},{"$f":"Données!$A20","v":"AT"},{"$f":"Données!$A21","v":"AM"},{"$f":"Données!$A22","v":"EM"},{"$f":"Données!$A23","v":"CE"},{"$f":"Données!$A24","v":"CA"},{"$f":"Données!$A25","v":"CA16"},{"$f":"Données!$A26","v":"REC"},{"$f":"Données!$A27","v":"PL"},{"$f":"Données!$A28","v":"D"},"Heures\nSupplémentaires \navant 21 h","Heures\nSupplémentaires \naprès 21 h",null,"Heures dimanche","Heures de nuit dimanches","Heures apres 21 h"]
["Equipe de jour",{"$f":"IF(ISBLANK(Données!$C3),TEXT(Données!$B3,\"hh:mm\"),TEXT(Données!$B3,\"hh:mm\")&\" : \"&TEXT(Données!$C3,\"hh:mm\"))","v":"07:00 : 14:35"},{"$f":"IF(ISBLANK(Données!$C4),TEXT(Données!$B4,\"hh:mm\"),TEXT(Données!$B4,\"hh:mm\")&\" : \"&TEXT(Données!$C4,\"hh:mm\"))","v":"23:00 : 01:35"},{"$f":"IF(ISBLANK(Données!$C5),TEXT(Données!$B5,\"hh:mm\"),TEXT(Données!$B5,\"hh:mm\")&\" : \"&TEXT(Données!$C5,\"hh:mm\"))","v":"10:00 : 17:30"},{"$f":"IF(ISBLANK(Données!$C6),TEXT(Données!$B6,\"hh:mm\"),TEXT(Données!$B6,\"hh:mm\")&\" : \"&TEXT(Données!$C6,\"hh:mm\"))","v":"11:30 : 19:15"},{"$f":"IF(ISBLANK(Données!$C7),TEXT(Données!$B7,\"hh:mm\"),TEXT(Données!$B7,\"hh:mm\")&\" : \"&TEXT(Données!$C7,\"hh:mm\"))","v":"10:00 : 12:00"},{"$f":"IF(ISBLANK(Données!$C8),TEXT(Données!$B8,\"hh:mm\"),TEXT(Données!$B8,\"hh:mm\")&\" : \"&TEXT(Données!$C8,\"hh:mm\"))","v":"10:00 : 21:30"},{"$f":"IF(ISBLANK(Données!$C9),TEXT(Données!$B9,\"hh:mm\"),TEXT(Données!$B9,\"hh:mm\")&\" : \"&TEXT(Données!$C9,\"hh:mm\"))","v":"14:00 : 21:30"},{"$f":"IF(ISBLANK(Données!$C10),TEXT(Données!$B10,\"hh:mm\"),TEXT(Données!$B10,\"hh:mm\")&\" : \"&TEXT(Données!$C10,\"hh:mm\"))","v":"07:30 : 19:15"},{"$f":"IF(ISBLANK(Données!$C11),TEXT(Données!$B11,\"hh:mm\"),TEXT(Données!$B11,\"hh:mm\")&\" : \"&TEXT(Données!$C11,\"hh:mm\"))","v":"10:00 : 21:30"},{"$f":"IF(ISBLANK(Données!$C12),TEXT(Données!$B12,\"hh:mm\"),TEXT(Données!$B12,\"hh:mm\")&\" : \"&TEXT(Données!$C12,\"hh:mm\"))","v":"07:00 : 19:15"},{"$f":"IF(ISBLANK(Données!$C13),TEXT(Données!$B13,\"hh:mm\"),TEXT(Données!$B13,\"hh:mm\")&\" : \"&TEXT(Données!$C13,\"hh:mm\"))","v":"07:00 : 19:15"},{"$f":"IF(ISBLANK(Données!$C14),TEXT(Données!$B14,\"hh:mm\"),TEXT(Données!$B14,\"hh:mm\")&\" : \"&TEXT(Données!$C14,\"hh:mm\"))","v":"20:30 : 07:15"},{"$f":"IF(ISBLANK(Données!$C15),TEXT(Données!$B15,\"hh:mm\"),TEXT(Données!$B15,\"hh:mm\")&\" : \"&TEXT(Données!$C15,\"hh:mm\"))","v":"19:15 : 07:15"},{"$f":"IF(ISBLANK(Données!$C16),TEXT(Données!$B16,\"hh:mm\"),TEXT(Données!$B16,\"hh:mm\")&\" : \"&TEXT(Données!$C16,\"hh:mm\"))","v":"19:15 : 07:15"},{"$f":"IF(ISBLANK(Données!$C17),TEXT(Données!$B17,\"hh:mm\"),TEXT(Données!$B17,\"hh:mm\")&\" : \"&TEXT(Données!$C17,\"hh:mm\"))","v":"T"},{"$f":"IF(ISBLANK(Données!$C18),TEXT(Données!$B18,\"hh:mm\"),TEXT(Données!$B18,\"hh:mm\")&\" : \"&TEXT(Données!$C18,\"hh:mm\"))","v":"F"},{"$f":"IF(ISBLANK(Données!$C19),TEXT(Données!$B19,\"hh:mm\"),TEXT(Données!$B19,\"hh:mm\")&\" : \"&TEXT(Données!$C19,\"hh:mm\"))","v":"Syn"},{"$f":"IF(ISBLANK(Données!$C20),TEXT(Données!$B20,\"hh:mm\"),TEXT(Données!$B20,\"hh:mm\")&\" : \"&TEXT(Données!$C20,\"hh:mm\"))","v":"AT"},{"$f":"IF(ISBLANK(Données!$C21),TEXT(Données!$B21,\"hh:mm\"),TEXT(Données!$B21,\"hh:mm\")&\" : \"&TEXT(Données!$C21,\"hh:mm\"))","v":"AM"},{"$f":"IF(ISBLANK(Données!$C22),TEXT(Données!$B22,\"hh:mm\"),TEXT(Données!$B22,\"hh:mm\")&\" : \"&TEXT(Données!$C22,\"hh:mm\"))","v":"EM"},{"$f":"IF(ISBLANK(Données!$C23),TEXT(Données!$B23,\"hh:mm\"),TEXT(Données!$B23,\"hh:mm\")&\" : \"&TEXT(Données!$C23,\"hh:mm\"))","v":"CE"},{"$f":"IF(ISBLANK(Données!$C24),TEXT(Données!$B24,\"hh:mm\"),TEXT(Données!$B24,\"hh:mm\")&\" : \"&TEXT(Données!$C24,\"hh:mm\"))","v":"CA"},{"$f":"IF(ISBLANK(Données!$C25),TEXT(Données!$B25,\"hh:mm\"),TEXT(Données!$B25,\"hh:mm\")&\" : \"&TEXT(Données!$C25,\"hh:mm\"))","v":"CA16"},{"$f":"IF(ISBLANK(Données!$C26),TEXT(Données!$B26,\"hh:mm\"),TEXT(Données!$B26,\"hh:mm\")&\" : \"&TEXT(Données!$C26,\"hh:mm\"))","v":"REC"},{"$f":"IF(ISBLANK(Données!$C27),TEXT(Données!$B27,\"hh:mm\"),TEXT(Données!$B27,\"hh:mm\")&\" : \"&TEXT(Données!$C27,\"hh:mm\"))","v":"PL"},{"$f":"IF(ISBLANK(Données!$C28),TEXT(Données!$B28,\"hh:mm\"),TEXT(Données!$B28,\"hh:mm\")&\" : \"&TEXT(Données!$C28,\"hh:mm\"))","v":"D"},null,null,null,null,null,null,null,"Total ",null,null,"CA",null,null,"Jour travaillé"]
[{"$f":"Données!$H6","v":"A"},{"$f":"IF(SUMPRODUCT((INDIRECT(\"'\"&$A$1&\"'!$A$7:$A$56\")=$A9)*(INDIRECT(\"'\"&$A$1&\"'!$B$7:$AF$56\")=B$7))=0,\"\",SUMPRODUCT((INDIRECT(\"'\"&$A$1&\"'!$A$7:$A$56\")=$A9)*(INDIRECT(\"'\"&$A$1&\"'!$B$7:$AF$56\")=B$7)))","v":""},{"$f":"IF(SUMPRODUCT((INDIRECT(\"'\"&$A$1&\"'!$A$7:$A$56\")=$A9)*(INDIRECT(\"'\"&$A$1&\"'!$B$7:$AF$56\")=C$7))=0,\"\",SUMPRODUCT((INDIRECT(\"'\"&$A$1&\"'!$A$7:$A$56\")=$A9)*(INDIRECT(\"'\"&$A$1&\"'!$B$7:$AF$56\")=C$7)))","v":""},"","","","","","","","","","","","","","","","","","","","","","","","",{"$f":"VLOOKUP($A9,INDIRECT(\"'\"&$A$1&\"'!$A$7:$AR$56\"),35,0)","v":"00:00:00"},{"$f":"VLOOKUP($A9,INDIRECT(\"'\"&$A$1&\"'!$A$7:$AR$56\"),36,0)","v":"00:00:00"},null,{"$f":"SUMPRODUCT(ISNUMBER(MATCH(INDIRECT(\"H\"&$A$1&\"!B2:AF2\"),DimFe,0))*IFERROR(IF(\"19:00\">=IFERROR(Hgauche,0),IFERROR(hdroite-Hgauche,0),IF(durée1>0,durée1,\"00:00\")),0))+SUMPRODUCT(ISNUMBER(MATCH(INDIRECT(\"H\"&$A$1&\"!B2:AF2\"),moindimfe,0))*IFERROR(IF(\"19:00\"<=IFERROR(Hgauche,0),IF(durée4<0,0,durée4),\"00:00\"),0))","v":0},{"$f":"SUMPRODUCT(ISNUMBER(MATCH(INDIRECT(\"H\"&$A$1&\"!B2:AF2\"),DimFe,0))*IFERROR(IF(\"19:00\"<=IFERROR(Hgauche,0),IF(durée6<0,0,durée6),IF(durée<0,0,durée)),0))+SUMPRODUCT(ISNUMBER(MATCH(INDIRECT(\"H\"&$A$1&\"!B2:AF2\"),moindimfe,0))*IFERROR(IF(\"19:00\"<=IFERROR(Hgauche,0),IF(durée2<0,0,durée2),\"00:00\"),0))","v":0},{"$f":"SUM(SUMPRODUCT(1*IFERROR(IF(\"19:00\"<=IFERROR(Hgauche,0),IF(durée2<0,0,durée2),\"00:00\"),0)),SUMPRODUCT(1*IFERROR(IF(\"19:00\"<=IFERROR(Hgauche,0),IF(durée6<0,0,durée6),\"00:00\"),0)),SUMPRODUCT(1*IFERROR(IF(\"21:00\"<=IFERROR(Hdroitesimple,0),IF(durée<0,0,durée),\"00:00\"),0)))-durée5","v":0},null,{"$f":"bilanh","v":0},{"$f":"VLOOKUP($A9,Bilan!$A$9:$AQ57,37,FALSE)","v":59.5},null,{"$f":"Bilan!AN9","v":65},65,null,{"$f":"Jourtravaillé","v":0}]
[{"$f":"Données!$H7","v":0},{"$f":"IF(SUMPRODUCT((INDIRECT(\"'\"&$A$1&\"'!$A$7:$A$56\")=$A10)*(INDIRECT(\"'\"&$A$1&\"'!$B$7:$AF$56\")=B$7))=0,\"\",SUMPRODUCT((INDIRECT(\"'\"&$A$1&\"'!$A$7:$A$56\")=$A10)*(INDIRECT(\"'\"&$A$1&\"'!$B$7:$AF$56\")=B$7)))","v":""},"","","","","","","","","","","","","","","","","","","","","","","","","",{"$f":"VLOOKUP($A10,INDIRECT(\"'\"&$A$1&\"'!$A$7:$AR$56\"),35,0)","v":"00:00:00"},{"$f":"VLOOKUP($A10,INDIRECT(\"'\"&$A$1&\"'!$A$7:$AR$56\"),36,0)","v":"00:00:00"},null,{"$f":"SUMPRODUCT(ISNUMBER(MATCH(INDIRECT(\"H\"&$A$1&\"!B2:AF2\"),DimFe,0))*IFERROR(IF(\"19:00\">=IFERROR(Hgauche,0),IFERROR(hdroite-Hgauche,0),IF(durée1>0,durée1,\"00:00\")),0))+SUMPRODUCT(ISNUMBER(MATCH(INDIRECT(\"H\"&$A$1&\"!B2:AF2\"),moindimfe,0))*IFERROR(IF(\"19:00\"<=IFERROR(Hgauche,0),IF(durée4<0,0,durée4),\"00:00\"),0))","v":0},{"$f":"SUMPRODUCT(ISNUMBER(MATCH(INDIRECT(\"H\"&$A$1&\"!B2:AF2\"),DimFe,0))*IFERROR(IF(\"19:00\"<=IFERROR(Hgauche,0),IF(durée6<0,0,durée6),IF(durée<0,0,durée)),0))+SUMPRODUCT(ISNUMBER(MATCH(INDIRECT(\"H\"&$A$1&\"!B2:AF2\"),moindimfe,0))*IFERROR(IF(\"19:00\"<=IFERROR(Hgauche,0),IF(durée2<0,0,durée2),\"00:00\"),0))","v":0},{"$f":"SUM(SUMPRODUCT(1*IFERROR(IF(\"19:00\"<=IFERROR(Hgauche,0),IF(durée2<0,0,durée2),\"00:00\"),0)),SUMPRODUCT(1*IFERROR(IF(\"19:00\"<=IFERROR(Hgauche,0),IF(durée6<0,0,durée6),\"00:00\"),0)),SUMPRODUCT(1*IFERROR(IF(\"21:00\"<=IFERROR(Hdroitesimple,0),IF(durée<0,0,durée),\"00:00\"),0)))-durée5","v":0},null,0,{"$f":"VLOOKUP($A10,Bilan!$A$9:$AQ58,37,FALSE)","v":59.5},null,{"$f":"Bilan!AN10","v":65},65,null,0]
[{"$f":"Données!$H8","v":0},"","","","","","","","","","","","","","","","","","","","","","","","","","","00:00:00","00:00:00",null,{"$f":"SUMPRODUCT(ISNUMBER(MATCH(INDIRECT(\"H\"&$A$1&\"!B2:AF2\"),DimFe,0))*IFERROR(IF(\"19:00\">=IFERROR(Hgauche,0),IFERROR(hdroite-Hgauche,0),IF(durée1>0,durée1,\"00:00\")),0))+SUMPRODUCT(ISNUMBER(MATCH(INDIRECT(\"H\"&$A$1&\"!B2:AF2\"),moindimfe,0))*IFERROR(IF(\"19:00\"<=IFERROR(Hgauche,0),IF(durée4<0,0,durée4),\"00:00\"),0))","v":0},{"$f":"SUMPRODUCT(ISNUMBER(MATCH(INDIRECT(\"H\"&$A$1&\"!B2:AF2\"),DimFe,0))*IFERROR(IF(\"19:00\"<=IFERROR(Hgauche,0),IF(durée6<0,0,durée6),IF(durée<0,0,durée)),0))+SUMPRODUCT(ISNUMBER(MATCH(INDIRECT(\"H\"&$A$1&\"!B2:AF2\"),moindimfe,0))*IFERROR(IF(\"19:00\"<=IFERROR(Hgauche,0),IF(durée2<0,0,durée2),\"00:00\"),0))","v":0},{"$f":"SUM(SUMPRODUCT(1*IFERROR(IF(\"19:00\"<=IFERROR(Hgauche,0),IF(durée2<0,0,durée2),\"00:00\"),0)),SUMPRODUCT(1*IFERROR(IF(\"19:00\"<=IFERROR(Hgauche,0),IF(durée6<0,0,durée6),\"00:00\"),0)),SUMPRODUCT(1*IFERROR(IF(\"21:00\"<=IFERROR(Hdroitesimple,0),IF(durée<0,0,durée),\"00:00\"),0)))-durée5","v":0},null,0,{"$f":"VLOOKUP($A11,Bilan!$A$9:$AQ59,37,FALSE)","v":59.5},null,{"$f":"Bilan!AN11","v":65},65,null,0]
[{"$f":"Données!$H9","v":0},"","","","","","","","","","","","","","","","","","","","","","","","","","","00:00:00","00:00:00",null,{"$f":"SUMPRODUCT(ISNUMBER(MATCH(INDIRECT(\"H\"&$A$1&\"!B2:AF2\"),DimFe,0))*IFERROR(IF(\"19:00\">=IFERROR(Hgauche,0),IFERROR(hdroite-Hgauche,0),IF(durée1>0,durée1,\"00:00\")),0))+SUMPRODUCT(ISNUMBER(MATCH(INDIRECT(\"H\"&$A$1&\"!B2:AF2\"),moindimfe,0))*IFERROR(IF(\"19:00\"<=IFERROR(Hgauche,0),IF(durée4<0,0,durée4),\"00:00\"),0))","v":0},{"$f":"SUMPRODUCT(ISNUMBER(MATCH(INDIRECT(\"H\"&$A$1&\"!B2:AF2\"),DimFe,0))*IFERROR(IF(\"19:00\"<=IFERROR(Hgauche,0),IF(durée6<0,0,durée6),IF(durée<0,0,durée)),0))+SUMPRODUCT(ISNUMBER(MATCH(INDIRECT(\"H\"&$A$1&\"!B2:AF2\"),moindimfe,0))*IFERROR(IF(\"19:00\"<=IFERROR(Hgauche,0),IF(durée2<0,0,durée2),\"00:00\"),0))","v":0},{"$f":"SUM(SUMPRODUCT(1*IFERROR(IF(\"19:00\"<=IFERROR(Hgauche,0),IF(durée2<0,0,durée2),\"00:00\"),0)),SUMPRODUCT(1*IFERROR(IF(\"19:00\"<=IFERROR(Hgauche,0),IF(durée6<0,0,durée6),\"00:00\"),0)),SUMPRODUCT(1*IFERROR(IF(\"21:00\"<=IFERROR(Hdroitesimple,0),IF(durée<0,0,durée),\"00:00\"),0)))-durée5","v":0},null,0,{"$f":"VLOOKUP($A12,Bilan!$A$9:$AQ60,37,FALSE)","v":59.5},null,{"$f":"Bilan!AN12","v":65},65,null,0]
[{"$f":"Données!$H10","v":0},"","","","","","","","","","","","","","","","","","","","","","","","","","","00:00:00","00:00:00",null,{"$f":"SUMPRODUCT(ISNUMBER(MATCH(INDIRECT(\"H\"&$A$1&\"!B2:AF2\"),DimFe,0))*IFERROR(IF(\"19:00\">=IFERROR(Hgauche,0),IFERROR(hdroite-Hgauche,0),IF(durée1>0,durée1,\"00:00\")),0))+SUMPRODUCT(ISNUMBER(MATCH(INDIRECT(\"H\"&$A$1&\"!B2:AF2\"),moindimfe,0))*IFERROR(IF(\"19:00\"<=IFERROR(Hgauche,0),IF(durée4<0,0,durée4),\"00:00\"),0))","v":0},{"$f":"SUMPRODUCT(ISNUMBER(MATCH(INDIRECT(\"H\"&$A$1&\"!B2:AF2\"),DimFe,0))*IFERROR(IF(\"19:00\"<=IFERROR(Hgauche,0),IF(durée6<0,0,durée6),IF(durée<0,0,durée)),0))+SUMPRODUCT(ISNUMBER(MATCH(INDIRECT(\"H\"&$A$1&\"!B2:AF2\"),moindimfe,0))*IFERROR(IF(\"19:00\"<=IFERROR(Hgauche,0),IF(durée2<0,0,durée2),\"00:00\"),0))","v":0},{"$f":"SUM(SUMPRODUCT(1*IFERROR(IF(\"19:00\"<=IFERROR(Hgauche,0),IF(durée2<0,0,durée2),\"00:00\"),0)),SUMPRODUCT(1*IFERROR(IF(\"19:00\"<=IFERROR(Hgauche,0),IF(durée6<0,0,durée6),\"00:00\"),0)),SUMPRODUCT(1*IFERROR(IF(\"21:00\"<=IFERROR(Hdroitesimple,0),IF(durée<0,0,durée),\"00:00\"),0)))-durée5","v":0},null,0,{"$f":"VLOOKUP($A13,Bilan!$A$9:$AQ61,37,FALSE)","v":59.5},null,{"$f":"Bilan!AN13","v":65},65,null,0]
[{"$f":"Données!$H11","v":0},"","","","","","","","","","","","","","","","","","","","","","","","","","","00:00:00","00:00:00",null,{"$f":"SUMPRODUCT(ISNUMBER(MATCH(INDIRECT(\"H\"&$A$1&\"!B2:AF2\"),DimFe,0))*IFERROR(IF(\"19:00\">=IFERROR(Hgauche,0),IFERROR(hdroite-Hgauche,0),IF(durée1>0,durée1,\"00:00\")),0))+SUMPRODUCT(ISNUMBER(MATCH(INDIRECT(\"H\"&$A$1&\"!B2:AF2\"),moindimfe,0))*IFERROR(IF(\"19:00\"<=IFERROR(Hgauche,0),IF(durée4<0,0,durée4),\"00:00\"),0))","v":0},{"$f":"SUMPRODUCT(ISNUMBER(MATCH(INDIRECT(\"H\"&$A$1&\"!B2:AF2\"),DimFe,0))*IFERROR(IF(\"19:00\"<=IFERROR(Hgauche,0),IF(durée6<0,0,durée6),IF(durée<0,0,durée)),0))+SUMPRODUCT(ISNUMBER(MATCH(INDIRECT(\"H\"&$A$1&\"!B2:AF2\"),moindimfe,0))*IFERROR(IF(\"19:00\"<=IFERROR(Hgauche,0),IF(durée2<0,0,durée2),\"00:00\"),0))","v":0},{"$f":"SUM(SUMPRODUCT(1*IFERROR(IF(\"19:00\"<=IFERROR(Hgauche,0),IF(durée2<0,0,durée2),\"00:00\"),0)),SUMPRODUCT(1*IFERROR(IF(\"19:00\"<=IFERROR(Hgauche,0),IF(durée6<0,0,durée6),\"00:00\"),0)),SUMPRODUCT(1*IFERROR(IF(\"21:00\"<=IFERROR(Hdroitesimple,0),IF(durée<0,0,durée),\"00:00\"),0)))-durée5","v":0},null,0,{"$f":"VLOOKUP($A14,Bilan!$A$9:$AQ62,37,FALSE)","v":59.5},null,{"$f":"Bilan!AN14","v":65},65,null,0]
[{"$f":"Données!$H12","v":0},"","","","","","","","","","","","","","","","","","","","","","","","","","","00:00:00","00:00:00",null,{"$f":"SUMPRODUCT(ISNUMBER(MATCH(INDIRECT(\"H\"&$A$1&\"!B2:AF2\"),DimFe,0))*IFERROR(IF(\"19:00\">=IFERROR(Hgauche,0),IFERROR(hdroite-Hgauche,0),IF(durée1>0,durée1,\"00:00\")),0))+SUMPRODUCT(ISNUMBER(MATCH(INDIRECT(\"H\"&$A$1&\"!B2:AF2\"),moindimfe,0))*IFERROR(IF(\"19:00\"<=IFERROR(Hgauche,0),IF(durée4<0,0,durée4),\"00:00\"),0))","v":0},{"$f":"SUMPRODUCT(ISNUMBER(MATCH(INDIRECT(\"H\"&$A$1&\"!B2:AF2\"),DimFe,0))*IFERROR(IF(\"19:00\"<=IFERROR(Hgauche,0),IF(durée6<0,0,durée6),IF(durée<0,0,durée)),0))+SUMPRODUCT(ISNUMBER(MATCH(INDIRECT(\"H\"&$A$1&\"!B2:AF2\"),moindimfe,0))*IFERROR(IF(\"19:00\"<=IFERROR(Hgauche,0),IF(durée2<0,0,durée2),\"00:00\"),0))","v":0},{"$f":"SUM(SUMPRODUCT(1*IFERROR(IF(\"19:00\"<=IFERROR(Hgauche,0),IF(durée2<0,0,durée2),\"00:00\"),0)),SUMPRODUCT(1*IFERROR(IF(\"19:00\"<=IFERROR(Hgauche,0),IF(durée6<0,0,durée6),\"00:00\"),0)),SUMPRODUCT(1*IFERROR(IF(\"21:00\"<=IFERROR(Hdroitesimple,0),IF(durée<0,0,durée),\"00:00\"),0)))-durée5","v":0},null,0,{"$f":"VLOOKUP($A15,Bilan!$A$9:$AQ63,37,FALSE)","v":59.5},null,{"$f":"Bilan!AN15","v":65},65,null,0]
[{"$f":"Données!$H13","v":0},"","","","","","","","","","","","","","","","","","","","","","","","","","","00:00:00","00:00:00",null,{"$f":"SUMPRODUCT(ISNUMBER(MATCH(INDIRECT(\"H\"&$A$1&\"!B2:AF2\"),DimFe,0))*IFERROR(IF(\"19:00\">=IFERROR(Hgauche,0),IFERROR(hdroite-Hgauche,0),IF(durée1>0,durée1,\"00:00\")),0))+SUMPRODUCT(ISNUMBER(MATCH(INDIRECT(\"H\"&$A$1&\"!B2:AF2\"),moindimfe,0))*IFERROR(IF(\"19:00\"<=IFERROR(Hgauche,0),IF(durée4<0,0,durée4),\"00:00\"),0))","v":0},{"$f":"SUMPRODUCT(ISNUMBER(MATCH(INDIRECT(\"H\"&$A$1&\"!B2:AF2\"),DimFe,0))*IFERROR(IF(\"19:00\"<=IFERROR(Hgauche,0),IF(durée6<0,0,durée6),IF(durée<0,0,durée)),0))+SUMPRODUCT(ISNUMBER(MATCH(INDIRECT(\"H\"&$A$1&\"!B2:AF2\"),moindimfe,0))*IFERROR(IF(\"19:00\"<=IFERROR(Hgauche,0),IF(durée2<0,0,durée2),\"00:00\"),0))","v":0},{"$f":"SUM(SUMPRODUCT(1*IFERROR(IF(\"19:00\"<=IFERROR(Hgauche,0),IF(durée2<0,0,durée2),\"00:00\"),0)),SUMPRODUCT(1*IFERROR(IF(\"19:00\"<=IFERROR(Hgauche,0),IF(durée6<0,0,durée6),\"00:00\"),0)),SUMPRODUCT(1*IFERROR(IF(\"21:00\"<=IFERROR(Hdroitesimple,0),IF(durée<0,0,durée),\"00:00\"),0)))-durée5","v":0},null,0,{"$f":"VLOOKUP($A16,Bilan!$A$9:$AQ64,37,FALSE)","v":59.5},null,{"$f":"Bilan!AN16","v":65},65,null,0]
[{"$f":"Données!$H14","v":0},"","","","","","","","","","","","","","","","","","","","","","","","","","","00:00:00","00:00:00",null,{"$f":"SUMPRODUCT(ISNUMBER(MATCH(INDIRECT(\"H\"&$A$1&\"!B2:AF2\"),DimFe,0))*IFERROR(IF(\"19:00\">=IFERROR(Hgauche,0),IFERROR(hdroite-Hgauche,0),IF(durée1>0,durée1,\"00:00\")),0))+SUMPRODUCT(ISNUMBER(MATCH(INDIRECT(\"H\"&$A$1&\"!B2:AF2\"),moindimfe,0))*IFERROR(IF(\"19:00\"<=IFERROR(Hgauche,0),IF(durée4<0,0,durée4),\"00:00\"),0))","v":0},{"$f":"SUMPRODUCT(ISNUMBER(MATCH(INDIRECT(\"H\"&$A$1&\"!B2:AF2\"),DimFe,0))*IFERROR(IF(\"19:00\"<=IFERROR(Hgauche,0),IF(durée6<0,0,durée6),IF(durée<0,0,durée)),0))+SUMPRODUCT(ISNUMBER(MATCH(INDIRECT(\"H\"&$A$1&\"!B2:AF2\"),moindimfe,0))*IFERROR(IF(\"19:00\"<=IFERROR(Hgauche,0),IF(durée2<0,0,durée2),\"00:00\"),0))","v":0},{"$f":"SUM(SUMPRODUCT(1*IFERROR(IF(\"19:00\"<=IFERROR(Hgauche,0),IF(durée2<0,0,durée2),\"00:00\"),0)),SUMPRODUCT(1*IFERROR(IF(\"19:00\"<=IFERROR(Hgauche,0),IF(durée6<0,0,durée6),\"00:00\"),0)),SUMPRODUCT(1*IFERROR(IF(\"21:00\"<=IFERROR(Hdroitesimple,0),IF(durée<0,0,durée),\"00:00\"),0)))-durée5","v":0},null,0,{"$f":"VLOOKUP($A17,Bilan!$A$9:$AQ65,37,FALSE)","v":59.5},null,{"$f":"Bilan!AN17","v":65},65,null,0]
[{"$f":"Données!$H15","v":0},"","","","","","","","","","","","","","","","","","","","","","","","","","","00:00:00","00:00:00",null,{"$f":"SUMPRODUCT(ISNUMBER(MATCH(INDIRECT(\"H\"&$A$1&\"!B2:AF2\"),DimFe,0))*IFERROR(IF(\"19:00\">=IFERROR(Hgauche,0),IFERROR(hdroite-Hgauche,0),IF(durée1>0,durée1,\"00:00\")),0))+SUMPRODUCT(ISNUMBER(MATCH(INDIRECT(\"H\"&$A$1&\"!B2:AF2\"),moindimfe,0))*IFERROR(IF(\"19:00\"<=IFERROR(Hgauche,0),IF(durée4<0,0,durée4),\"00:00\"),0))","v":0},{"$f":"SUMPRODUCT(ISNUMBER(MATCH(INDIRECT(\"H\"&$A$1&\"!B2:AF2\"),DimFe,0))*IFERROR(IF(\"19:00\"<=IFERROR(Hgauche,0),IF(durée6<0,0,durée6),IF(durée<0,0,durée)),0))+SUMPRODUCT(ISNUMBER(MATCH(INDIRECT(\"H\"&$A$1&\"!B2:AF2\"),moindimfe,0))*IFERROR(IF(\"19:00\"<=IFERROR(Hgauche,0),IF(durée2<0,0,durée2),\"00:00\"),0))","v":0},{"$f":"SUM(SUMPRODUCT(1*IFERROR(IF(\"19:00\"<=IFERROR(Hgauche,0),IF(durée2<0,0,durée2),\"00:00\"),0)),SUMPRODUCT(1*IFERROR(IF(\"19:00\"<=IFERROR(Hgauche,0),IF(durée6<0,0,durée6),\"00:00\"),0)),SUMPRODUCT(1*IFERROR(IF(\"21:00\"<=IFERROR(Hdroitesimple,0),IF(durée<0,0,durée),\"00:00\"),0)))-durée5","v":0},null,0,{"$f":"VLOOKUP($A18,Bilan!$A$9:$AQ66,37,FALSE)","v":59.5},null,{"$f":"Bilan!AN18","v":65},65,null,0]
[{"$f":"Données!$H16","v":0},{"$f":"SUMPRODUCT((INDIRECT(\"'\"&$A$1&\"'!$A$7:$A$56\")=$A19)*(INDIRECT(\"'\"&$A$1&\"'!$B$7:$AF$56\")=B$7))","v":0},0,0,0,0,0,0,0,0,0,0,0,0,0,0,0,{"$f":"SUMPRODUCT((INDIRECT(\"'\"&$A$1&\"'!$A$7:$A$56\")=$A19)*(INDIRECT(\"'\"&$A$1&\"'!$B$7:$AF$56\")=R$7))","v":0},0,0,0,0,0,0,0,0,0,{"$f":"VLOOKUP($A19,INDIRECT(\"'H\"&$A$1&\"'!$A$7:$AR$56\"),35,0)","v":"00:00:00"},{"$f":"VLOOKUP($A19,INDIRECT(\"'H\"&$A$1&\"'!$A$7:$AR$56\"),38,0)","v":"00:00:00"},null,{"$f":"SUMPRODUCT(ISNUMBER(MATCH(INDIRECT(\"H\"&$A$1&\"!B2:AF2\"),DimFe,0))*IFERROR(IF(\"19:00\">=IFERROR(Hgauche,0),IFERROR(hdroite-Hgauche,0),IF(durée1>0,durée1,\"00:00\")),0))+SUMPRODUCT(ISNUMBER(MATCH(INDIRECT(\"H\"&$A$1&\"!B2:AF2\"),moindimfe,0))*IFERROR(IF(\"19:00\"<=IFERROR(Hgauche,0),IF(durée4<0,0,durée4),\"00:00\"),0))","v":0},{"$f":"SUMPRODUCT(ISNUMBER(MATCH(INDIRECT(\"H\"&$A$1&\"!B2:AF2\"),DimFe,0))*IFERROR(IF(\"19:00\"<=IFERROR(Hgauche,0),IF(durée6<0,0,durée6),IF(durée<0,0,durée)),0))+SUMPRODUCT(ISNUMBER(MATCH(INDIRECT(\"H\"&$A$1&\"!B2:AF2\"),moindimfe,0))*IFERROR(IF(\"19:00\"<=IFERROR(Hgauche,0),IF(durée2<0,0,durée2),\"00:00\"),0))","v":0},{"$f":"SUMPRODUCT(1*IF(durée<0,0,durée))+SUMPRODUCT(1*IFERROR(IF(\"19:00\"<=IFERROR(Hgauche,0),IF(durée2<0,0,durée2),\"00:00\"),0))-durée5","v":0},null,{"$f":"(AB19/24)+SUMPRODUCT(($B$6:$AA$6)*(B19:AA19))","v":0},{"$f":"VLOOKUP($A19,Bilan!A19:AI67,35,FALSE)","v":0},null,{"$f":"Bilan!AN19","v":{"$error":"#VALUE!"}},65,null,{"$f":"SUM(B19:R19)","v":0},null,null,null,null,null,null,null,null,null,null,null,null,null,null,null,null,null,null,null,null,null,null,null,{"$f":"Données!$A14","v":"N"},{"$f":"Données!$B14","v":0.85416666666666663}]
[{"$f":"Données!$H17","v":0},0,0,0,0,0,0,0,0,0,0,0,0,0,0,0,0,0,0,0,0,0,0,0,0,0,0,"00:00:00","00:00:00",null,{"$f":"SUMPRODUCT(ISNUMBER(MATCH(INDIRECT(\"H\"&$A$1&\"!B2:AF2\"),DimFe,0))*IFERROR(IF(\"19:00\">=IFERROR(Hgauche,0),IFERROR(hdroite-Hgauche,0),IF(durée1>0,durée1,\"00:00\")),0))+SUMPRODUCT(ISNUMBER(MATCH(INDIRECT(\"H\"&$A$1&\"!B2:AF2\"),moindimfe,0))*IFERROR(IF(\"19:00\"<=IFERROR(Hgauche,0),IF(durée4<0,0,durée4),\"00:00\"),0))","v":0},{"$f":"SUMPRODUCT(ISNUMBER(MATCH(INDIRECT(\"H\"&$A$1&\"!B2:AF2\"),DimFe,0))*IFERROR(IF(\"19:00\"<=IFERROR(Hgauche,0),IF(durée6<0,0,durée6),IF(durée<0,0,durée)),0))+SUMPRODUCT(ISNUMBER(MATCH(INDIRECT(\"H\"&$A$1&\"!B2:AF2\"),moindimfe,0))*IFERROR(IF(\"19:00\"<=IFERROR(Hgauche,0),IF(durée2<0,0,durée2),\"00:00\"),0))","v":0},{"$f":"SUMPRODUCT(1*IF(durée<0,0,durée))+SUMPRODUCT(1*IFERROR(IF(\"19:00\"<=IFERROR(Hgauche,0),IF(durée2<0,0,durée2),\"00:00\"),0))-durée5","v":0},null,0,{"$f":"VLOOKUP($A20,Bilan!A20:AI68,35,FALSE)","v":0},null,{"$f":"Bilan!AN20","v":{"$error":"#VALUE!"}},65,null,0,null,null,null,null,null,null,null,null,null,null,null,null,null,null,null,null,null,null,null,null,null,null,null,{"$f":"Données!$A15","v":"N+"},{"$f":"Données!$B15","v":0.80208333333333337}]
[{"$f":"Données!$H18","v":0},0,0,0,0,0,0,0,0,0,0,0,0,0,0,0,0,0,0,0,0,0,0,0,0,0,0,"00:00:00","00:00:00",null,{"$f":"SUMPRODUCT(ISNUMBER(MATCH(INDIRECT(\"H\"&$A$1&\"!B2:AF2\"),DimFe,0))*IFERROR(IF(\"19:00\">=IFERROR(Hgauche,0),IFERROR(hdroite-Hgauche,0),IF(durée1>0,durée1,\"00:00\")),0))+SUMPRODUCT(ISNUMBER(MATCH(INDIRECT(\"H\"&$A$1&\"!B2:AF2\"),moindimfe,0))*IFERROR(IF(\"19:00\"<=IFERROR(Hgauche,0),IF(durée4<0,0,durée4),\"00:00\"),0))","v":0},{"$f":"SUMPRODUCT(ISNUMBER(MATCH(INDIRECT(\"H\"&$A$1&\"!B2:AF2\"),DimFe,0))*IFERROR(IF(\"19:00\"<=IFERROR(Hgauche,0),IF(durée6<0,0,durée6),IF(durée<0,0,durée)),0))+SUMPRODUCT(ISNUMBER(MATCH(INDIRECT(\"H\"&$A$1&\"!B2:AF2\"),moindimfe,0))*IFERROR(IF(\"19:00\"<=IFERROR(Hgauche,0),IF(durée2<0,0,durée2),\"00:00\"),0))","v":0},{"$f":"SUMPRODUCT(1*IF(durée<0,0,durée))+SUMPRODUCT(1*IFERROR(IF(\"19:00\"<=IFERROR(Hgauche,0),IF(durée2<0,0,durée2),\"00:00\"),0))-durée5","v":0},null,0,{"$f":"VLOOKUP($A21,Bilan!A21:AI69,35,FALSE)","v":0},null,{"$f":"Bilan!AN21","v":{"$error":"#VALUE!"}},65,null,0,null,null,null,null,null,null,null,null,null,null,null,null,null,null,null,null,null,null,null,null,null,null,null,{"$f":"Données!$A16","v":"NS"},{"$f":"Données!$B16","v":0.80208333333333337}]
[{"$f":"Données!$H19","v":0},0,0,0,0,0,0,0,0,0,0,0,0,0,0,0,0,0,0,0,0,0,0,0,0,0,0,"00:00:00","00:00:00",null,{"$f":"SUMPRODUCT(ISNUMBER(MATCH(INDIRECT(\"H\"&$A$1&\"!B2:AF2\"),DimFe,0))*IFERROR(IF(\"19:00\">=IFERROR(Hgauche,0),IFERROR(hdroite-Hgauche,0),IF(durée1>0,durée1,\"00:00\")),0))+SUMPRODUCT(ISNUMBER(MATCH(INDIRECT(\"H\"&$A$1&\"!B2:AF2\"),moindimfe,0))*IFERROR(IF(\"19:00\"<=IFERROR(Hgauche,0),IF(durée4<0,0,durée4),\"00:00\"),0))","v":0},{"$f":"SUMPRODUCT(ISNUMBER(MATCH(INDIRECT(\"H\"&$A$1&\"!B2:AF2\"),DimFe,0))*IFERROR(IF(\"19:00\"<=IFERROR(Hgauche,0),IF(durée6<0,0,durée6),IF(durée<0,0,durée)),0))+SUMPRODUCT(ISNUMBER(MATCH(INDIRECT(\"H\"&$A$1&\"!B2:AF2\"),moindimfe,0))*IFERROR(IF(\"19:00\"<=IFERROR(Hgauche,0),IF(durée2<0,0,durée2),\"00:00\"),0))","v":0},{"$f":"SUMPRODUCT(1*IF(durée<0,0,durée))+SUMPRODUCT(1*IFERROR(IF(\"19:00\"<=IFERROR(Hgauche,0),IF(durée2<0,0,durée2),\"00:00\"),0))-durée5","v":0},null,0,{"$f":"VLOOKUP($A22,Bilan!A22:AI70,35,FALSE)","v":0},null,{"$f":"Bilan!AN22","v":{"$error":"#VALUE!"}},65,null,0,null,null,null,null,null,null,null,null,null,null,null,null,null,null,null,null,null,null,null,null,null,null,null,{"$f":"Données!$A17","v":"T"},{"$f":"Données!$B17","v":"T"}]
[{"$f":"Données!$H20","v":0},0,0,0,0,0,0,0,0,0,0,0,0,0,0,0,0,0,0,0,0,0,0,0,0,0,0,"00:00:00","00:00:00",null,{"$f":"SUMPRODUCT(ISNUMBER(MATCH(INDIRECT(\"H\"&$A$1&\"!B2:AF2\"),DimFe,0))*IFERROR(IF(\"19:00\">=IFERROR(Hgauche,0),IFERROR(hdroite-Hgauche,0),IF(durée1>0,durée1,\"00:00\")),0))+SUMPRODUCT(ISNUMBER(MATCH(INDIRECT(\"H\"&$A$1&\"!B2:AF2\"),moindimfe,0))*IFERROR(IF(\"19:00\"<=IFERROR(Hgauche,0),IF(durée4<0,0,durée4),\"00:00\"),0))","v":0},{"$f":"SUMPRODUCT(ISNUMBER(MATCH(INDIRECT(\"H\"&$A$1&\"!B2:AF2\"),DimFe,0))*IFERROR(IF(\"19:00\"<=IFERROR(Hgauche,0),IF(durée6<0,0,durée6),IF(durée<0,0,durée)),0))+SUMPRODUCT(ISNUMBER(MATCH(INDIRECT(\"H\"&$A$1&\"!B2:AF2\"),moindimfe,0))*IFERROR(IF(\"19:00\"<=IFERROR(Hgauche,0),IF(durée2<0,0,durée2),\"00:00\"),0))","v":0},{"$f":"SUMPRODUCT(1*IF(durée<0,0,durée))+SUMPRODUCT(1*IFERROR(IF(\"19:00\"<=IFERROR(Hgauche,0),IF(durée2<0,0,durée2),\"00:00\"),0))-durée5","v":0},null,0,{"$f":"VLOOKUP($A23,Bilan!A23:AI71,35,FALSE)","v":0},null,{"$f":"Bilan!AN23","v":{"$error":"#VALUE!"}},65,null,0,null,null,null,null,null,null,null,null,null,null,null,null,null,null,null,null,null,null,null,null,null,null,null,{"$f":"Données!$A18","v":"F"},{"$f":"Données!$B18","v":"F"}]
[{"$f":"Données!$H21","v":0},0,0,0,0,0,0,0,0,0,0,0,0,0,0,0,0,0,0,0,0,0,0,0,0,0,0,"00:00:00","00:00:00",null,{"$f":"SUMPRODUCT(ISNUMBER(MATCH(INDIRECT(\"H\"&$A$1&\"!B2:AF2\"),DimFe,0))*IFERROR(IF(\"19:00\">=IFERROR(Hgauche,0),IFERROR(hdroite-Hgauche,0),IF(durée1>0,durée1,\"00:00\")),0))+SUMPRODUCT(ISNUMBER(MATCH(INDIRECT(\"H\"&$A$1&\"!B2:AF2\"),moindimfe,0))*IFERROR(IF(\"19:00\"<=IFERROR(Hgauche,0),IF(durée4<0,0,durée4),\"00:00\"),0))","v":0},{"$f":"SUMPRODUCT(ISNUMBER(MATCH(INDIRECT(\"H\"&$A$1&\"!B2:AF2\"),DimFe,0))*IFERROR(IF(\"19:00\"<=IFERROR(Hgauche,0),IF(durée6<0,0,durée6),IF(durée<0,0,durée)),0))+SUMPRODUCT(ISNUMBER(MATCH(INDIRECT(\"H\"&$A$1&\"!B2:AF2\"),moindimfe,0))*IFERROR(IF(\"19:00\"<=IFERROR(Hgauche,0),IF(durée2<0,0,durée2),\"00:00\"),0))","v":0},{"$f":"SUMPRODUCT(1*IF(durée<0,0,durée))+SUMPRODUCT(1*IFERROR(IF(\"19:00\"<=IFERROR(Hgauche,0),IF(durée2<0,0,durée2),\"00:00\"),0))-durée5","v":0},null,0,{"$f":"VLOOKUP($A24,Bilan!A24:AI72,35,FALSE)","v":0},null,{"$f":"Bilan!AN24","v":{"$error":"#VALUE!"}},65,null,0,null,null,null,null,null,null,null,null,null,null,null,null,null,null,null,null,null,null,null,null,null,null,null,{"$f":"Données!$A19","v":"SYN"},{"$f":"Données!$B19","v":"Syn"}]
[{"$f":"Données!$H22","v":"Equipe de nuit"}]
[{"$f":"Données!$H23","v":"K"},{"$f":"IF(SUMPRODUCT((INDIRECT(\"'\"&$A$1&\"'!$A$7:$A$56\")=$A26)*(INDIRECT(\"'\"&$A$1&\"'!$B$7:$AF$56\")=B$7))=0,\"\",SUMPRODUCT((INDIRECT(\"'\"&$A$1&\"'!$A$7:$A$56\")=$A26)*(INDIRECT(\"'\"&$A$1&\"'!$B$7:$AF$56\")=B$7)))","v":""},"","","","","","","","","","","","","","","",{"$f":"IF(SUMPRODUCT((INDIRECT(\"'\"&$A$1&\"'!$A$7:$A$56\")=$A26)*(INDIRECT(\"'\"&$A$1&\"'!$B$7:$AF$56\")=R$7))=0,\"\",SUMPRODUCT((INDIRECT(\"'\"&$A$1&\"'!$A$7:$A$56\")=$A26)*(INDIRECT(\"'\"&$A$1&\"'!$B$7:$AF$56\")=R$7)))","v":""},"","","","","","","","","",{"$f":"VLOOKUP($A26,INDIRECT(\"'\"&$A$1&\"'!$A$7:$AR$56\"),35,0)","v":"00:00:00"},{"$f":"VLOOKUP($A26,INDIRECT(\"'\"&$A$1&\"'!$A$7:$AR$56\"),36,0)","v":"00:00:00"},null,{"$f":"SUMPRODUCT(ISNUMBER(MATCH(INDIRECT(\"H\"&$A$1&\"!B2:AF2\"),DimFe,0))*IFERROR(IF(\"19:00\">=IFERROR(Hgauche,0),IFERROR(hdroite-Hgauche,0),IF(durée1>0,durée1,\"00:00\")),0))+SUMPRODUCT(ISNUMBER(MATCH(INDIRECT(\"H\"&$A$1&\"!B2:AF2\"),moindimfe,0))*IFERROR(IF(\"19:00\"<=IFERROR(Hgauche,0),IF(durée4<0,0,durée4),\"00:00\"),0))","v":0},{"$f":"SUMPRODUCT(ISNUMBER(MATCH(INDIRECT(\"H\"&$A$1&\"!B2:AF2\"),DimFe,0))*IFERROR(IF(\"19:00\"<=IFERROR(Hgauche,0),IF(durée6<0,0,durée6),IF(durée<0,0,durée)),0))+SUMPRODUCT(ISNUMBER(MATCH(INDIRECT(\"H\"&$A$1&\"!B2:AF2\"),moindimfe,0))*IFERROR(IF(\"19:00\"<=IFERROR(Hgauche,0),IF(durée2<0,0,durée2),\"00:00\"),0))","v":0},{"$f":"SUM(SUMPRODUCT(1*IFERROR(IF(\"19:00\"<=IFERROR(Hgauche,0),IF(durée2<0,0,durée2),\"00:00\"),0)),SUMPRODUCT(1*IFERROR(IF(\"19:00\"<=IFERROR(Hgauche,0),IF(durée6<0,0,durée6),\"00:00\"),0)),SUMPRODUCT(1*IFERROR(IF(\"21:00\"<=IFERROR(Hdroitesimple,0),IF(durée<0,0,durée),\"00:00\"),0)))-durée5","v":0},null,{"$f":"bilanh","v":0},{"$f":"VLOOKUP($A26,Bilan!$A$9:$AQ74,37,FALSE)","v":57.958333333333336},null,{"$f":"Bilan!AN26","v":65},65,null,{"$f":"Jourtravaillé","v":0}]
[{"$f":"Données!$H24","v":0},"","","","","","","","","","","","","","","","","","","","","","","","","","",{"$f":"VLOOKUP($A27,INDIRECT(\"'\"&$A$1&\"'!$A$7:$AR$56\"),35,0)","v":"00:00:00"},{"$f":"VLOOKUP($A27,INDIRECT(\"'\"&$A$1&\"'!$A$7:$AR$56\"),36,0)","v":"00:00:00"},null,{"$f":"SUMPRODUCT(ISNUMBER(MATCH(INDIRECT(\"H\"&$A$1&\"!B2:AF2\"),DimFe,0))*IFERROR(IF(\"19:00\">=IFERROR(Hgauche,0),IFERROR(hdroite-Hgauche,0),IF(durée1>0,durée1,\"00:00\")),0))+SUMPRODUCT(ISNUMBER(MATCH(INDIRECT(\"H\"&$A$1&\"!B2:AF2\"),moindimfe,0))*IFERROR(IF(\"19:00\"<=IFERROR(Hgauche,0),IF(durée4<0,0,durée4),\"00:00\"),0))","v":0},{"$f":"SUMPRODUCT(ISNUMBER(MATCH(INDIRECT(\"H\"&$A$1&\"!B2:AF2\"),DimFe,0))*IFERROR(IF(\"19:00\"<=IFERROR(Hgauche,0),IF(durée6<0,0,durée6),IF(durée<0,0,durée)),0))+SUMPRODUCT(ISNUMBER(MATCH(INDIRECT(\"H\"&$A$1&\"!B2:AF2\"),moindimfe,0))*IFERROR(IF(\"19:00\"<=IFERROR(Hgauche,0),IF(durée2<0,0,durée2),\"00:00\"),0))","v":0},{"$f":"SUM(SUMPRODUCT(1*IFERROR(IF(\"19:00\"<=IFERROR(Hgauche,0),IF(durée2<0,0,durée2),\"00:00\"),0)),SUMPRODUCT(1*IFERROR(IF(\"19:00\"<=IFERROR(Hgauche,0),IF(durée6<0,0,durée6),\"00:00\"),0)),SUMPRODUCT(1*IFERROR(IF(\"21:00\"<=IFERROR(Hdroitesimple,0),IF(durée<0,0,durée),\"00:00\"),0)))-durée5","v":0},null,{"$f":"bilanh","v":0},{"$f":"VLOOKUP($A27,Bilan!$A$9:$AQ75,37,FALSE)","v":59.5},null,{"$f":"Bilan!AN27","v":65},65,null,{"$f":"Jourtravaillé","v":0}]
[{"$f":"Données!$H25","v":0},"","","","","","","","","","","","","","","","","","","","","","","","","","",{"$f":"VLOOKUP($A28,INDIRECT(\"'\"&$A$1&\"'!$A$7:$AR$56\"),35,0)","v":"00:00:00"},{"$f":"VLOOKUP($A28,INDIRECT(\"'\"&$A$1&\"'!$A$7:$AR$56\"),36,0)","v":"00:00:00"},null,{"$f":"SUMPRODUCT(ISNUMBER(MATCH(INDIRECT(\"H\"&$A$1&\"!B2:AF2\"),DimFe,0))*IFERROR(IF(\"19:00\">=IFERROR(Hgauche,0),IFERROR(hdroite-Hgauche,0),IF(durée1>0,durée1,\"00:00\")),0))+SUMPRODUCT(ISNUMBER(MATCH(INDIRECT(\"H\"&$A$1&\"!B2:AF2\"),moindimfe,0))*IFERROR(IF(\"19:00\"<=IFERROR(Hgauche,0),IF(durée4<0,0,durée4),\"00:00\"),0))","v":0},{"$f":"SUMPRODUCT(ISNUMBER(MATCH(INDIRECT(\"H\"&$A$1&\"!B2:AF2\"),DimFe,0))*IFERROR(IF(\"19:00\"<=IFERROR(Hgauche,0),IF(durée6<0,0,durée6),IF(durée<0,0,durée)),0))+SUMPRODUCT(ISNUMBER(MATCH(INDIRECT(\"H\"&$A$1&\"!B2:AF2\"),moindimfe,0))*IFERROR(IF(\"19:00\"<=IFERROR(Hgauche,0),IF(durée2<0,0,durée2),\"00:00\"),0))","v":0},{"$f":"SUM(SUMPRODUCT(1*IFERROR(IF(\"19:00\"<=IFERROR(Hgauche,0),IF(durée2<0,0,durée2),\"00:00\"),0)),SUMPRODUCT(1*IFERROR(IF(\"19:00\"<=IFERROR(Hgauche,0),IF(durée6<0,0,durée6),\"00:00\"),0)),SUMPRODUCT(1*IFERROR(IF(\"21:00\"<=IFERROR(Hdroitesimple,0),IF(durée<0,0,durée),\"00:00\"),0)))-durée5","v":0},null,{"$f":"bilanh","v":0},{"$f":"VLOOKUP($A28,Bilan!$A$9:$AQ76,37,FALSE)","v":59.5},null,{"$f":"Bilan!AN28","v":65},65,null,{"$f":"Jourtravaillé","v":0}]
[{"$f":"Données!$H26","v":0},{"$f":"SUMPRODUCT((INDIRECT(\"'\"&$A$1&\"'!$A$7:$A$56\")=$A29)*(INDIRECT(\"'\"&$A$1&\"'!$B$7:$AF$56\")=B$7))","v":0},0,0,0,0,0,0,0,0,0,0,0,0,0,0,0,{"$f":"SUMPRODUCT((INDIRECT(\"'\"&$A$1&\"'!$A$7:$A$56\")=$A29)*(INDIRECT(\"'\"&$A$1&\"'!$B$7:$AF$56\")=R$7))","v":0},0,0,0,0,0,0,0,0,0,{"$f":"VLOOKUP($A29,INDIRECT(\"'H\"&$A$1&\"'!$A$7:$AR$56\"),35,0)","v":"00:00:00"},{"$f":"VLOOKUP($A29,INDIRECT(\"'H\"&$A$1&\"'!$A$7:$AR$56\"),38,0)","v":"00:00:00"},null,{"$f":"SUMPRODUCT(ISNUMBER(MATCH(INDIRECT(\"H\"&$A$1&\"!B2:AF2\"),DimFe,0))*IFERROR(IF(\"19:00\">=IFERROR(Hgauche,0),IFERROR(hdroite-Hgauche,0),IF(durée1>0,durée1,\"00:00\")),0))+SUMPRODUCT(ISNUMBER(MATCH(INDIRECT(\"H\"&$A$1&\"!B2:AF2\"),moindimfe,0))*IFERROR(IF(\"19:00\"<=IFERROR(Hgauche,0),IF(durée4<0,0,durée4),\"00:00\"),0))","v":0},{"$f":"SUMPRODUCT(ISNUMBER(MATCH(INDIRECT(\"H\"&$A$1&\"!B2:AF2\"),DimFe,0))*IFERROR(IF(\"19:00\"<=IFERROR(Hgauche,0),IF(durée6<0,0,durée6),IF(durée<0,0,durée)),0))+SUMPRODUCT(ISNUMBER(MATCH(INDIRECT(\"H\"&$A$1&\"!B2:AF2\"),moindimfe,0))*IFERROR(IF(\"19:00\"<=IFERROR(Hgauche,0),IF(durée2<0,0,durée2),\"00:00\"),0))","v":0},{"$f":"SUMPRODUCT(1*IF(durée<0,0,durée))+SUMPRODUCT(1*IFERROR(IF(\"19:00\"<=IFERROR(Hgauche,0),IF(durée2<0,0,durée2),\"00:00\"),0))-durée5","v":0},null,{"$f":"(AB29/24)+SUMPRODUCT(($B$6:$AA$6)*(B29:AA29))","v":0},{"$f":"VLOOKUP($A29,Bilan!A29:AI77,35,FALSE)","v":0},null,{"$f":"Bilan!AN29","v":{"$error":"#VALUE!"}},65,null,{"$f":"SUM(B29:R29)","v":0},null,null,null,null,null,null,null,null,null,null,null,null,null,null,null,null,null,null,null,null,null,null,null,{"$f":"Données!$A24","v":"CA"},{"$f":"Données!$B24","v":"CA"}]
[{"$f":"Données!$H27","v":0},0,0,0,0,0,0,0,0,0,0,0,0,0,0,0,0,0,0,0,0,0,0,0,0,0,0,"00:00:00","00:00:00",null,{"$f":"SUMPRODUCT(ISNUMBER(MATCH(INDIRECT(\"H\"&$A$1&\"!B2:AF2\"),DimFe,0))*IFERROR(IF(\"19:00\">=IFERROR(Hgauche,0),IFERROR(hdroite-Hgauche,0),IF(durée1>0,durée1,\"00:00\")),0))+SUMPRODUCT(ISNUMBER(MATCH(INDIRECT(\"H\"&$A$1&\"!B2:AF2\"),moindimfe,0))*IFERROR(IF(\"19:00\"<=IFERROR(Hgauche,0),IF(durée4<0,0,durée4),\"00:00\"),0))","v":0},{"$f":"SUMPRODUCT(ISNUMBER(MATCH(INDIRECT(\"H\"&$A$1&\"!B2:AF2\"),DimFe,0))*IFERROR(IF(\"19:00\"<=IFERROR(Hgauche,0),IF(durée6<0,0,durée6),IF(durée<0,0,durée)),0))+SUMPRODUCT(ISNUMBER(MATCH(INDIRECT(\"H\"&$A$1&\"!B2:AF2\"),moindimfe,0))*IFERROR(IF(\"19:00\"<=IFERROR(Hgauche,0),IF(durée2<0,0,durée2),\"00:00\"),0))","v":0},{"$f":"SUMPRODUCT(1*IF(durée<0,0,durée))+SUMPRODUCT(1*IFERROR(IF(\"19:00\"<=IFERROR(Hgauche,0),IF(durée2<0,0,durée2),\"00:00\"),0))-durée5","v":0},null,0,{"$f":"VLOOKUP($A30,Bilan!A30:AI78,35,FALSE)","v":0},null,{"$f":"Bilan!AN30","v":{"$error":"#VALUE!"}},65,null,0,null,null,null,null,null,null,null,null,null,null,null,null,null,null,null,null,null,null,null,null,null,null,null,{"$f":"Données!$A25","v":"CA16"},{"$f":"Données!$B25","v":"CA16"}]
[{"$f":"Données!$H28","v":0},0,0,0,0,0,0,0,0,0,0,0,0,0,0,0,0,0,0,0,0,0,0,0,0,0,0,"00:00:00","00:00:00",null,{"$f":"SUMPRODUCT(ISNUMBER(MATCH(INDIRECT(\"H\"&$A$1&\"!B2:AF2\"),DimFe,0))*IFERROR(IF(\"19:00\">=IFERROR(Hgauche,0),IFERROR(hdroite-Hgauche,0),IF(durée1>0,durée1,\"00:00\")),0))+SUMPRODUCT(ISNUMBER(MATCH(INDIRECT(\"H\"&$A$1&\"!B2:AF2\"),moindimfe,0))*IFERROR(IF(\"19:00\"<=IFERROR(Hgauche,0),IF(durée4<0,0,durée4),\"00:00\"),0))","v":0},{"$f":"SUMPRODUCT(ISNUMBER(MATCH(INDIRECT(\"H\"&$A$1&\"!B2:AF2\"),DimFe,0))*IFERROR(IF(\"19:00\"<=IFERROR(Hgauche,0),IF(durée6<0,0,durée6),IF(durée<0,0,durée)),0))+SUMPRODUCT(ISNUMBER(MATCH(INDIRECT(\"H\"&$A$1&\"!B2:AF2\"),moindimfe,0))*IFERROR(IF(\"19:00\"<=IFERROR(Hgauche,0),IF(durée2<0,0,durée2),\"00:00\"),0))","v":0},{"$f":"SUMPRODUCT(1*IF(durée<0,0,durée))+SUMPRODUCT(1*IFERROR(IF(\"19:00\"<=IFERROR(Hgauche,0),IF(durée2<0,0,durée2),\"00:00\"),0))-durée5","v":0},null,0,{"$f":"VLOOKUP($A31,Bilan!A31:AI79,35,FALSE)","v":0},null,{"$f":"Bilan!AN31","v":{"$error":"#VALUE!"}},65,null,0,null,null,null,null,null,null,null,null,null,null,null,null,null,null,null,null,null,null,null,null,null,null,null,{"$f":"Données!$A26","v":"REC"},{"$f":"Données!$B26","v":"REC"}]
[{"$f":"Données!$H29","v":0},0,0,0,0,0,0,0,0,0,0,0,0,0,0,0,0,0,0,0,0,0,0,0,0,0,0,"00:00:00","00:00:00",null,{"$f":"SUMPRODUCT(ISNUMBER(MATCH(INDIRECT(\"H\"&$A$1&\"!B2:AF2\"),DimFe,0))*IFERROR(IF(\"19:00\">=IFERROR(Hgauche,0),IFERROR(hdroite-Hgauche,0),IF(durée1>0,durée1,\"00:00\")),0))+SUMPRODUCT(ISNUMBER(MATCH(INDIRECT(\"H\"&$A$1&\"!B2:AF2\"),moindimfe,0))*IFERROR(IF(\"19:00\"<=IFERROR(Hgauche,0),IF(durée4<0,0,durée4),\"00:00\"),0))","v":0},{"$f":"SUMPRODUCT(ISNUMBER(MATCH(INDIRECT(\"H\"&$A$1&\"!B2:AF2\"),DimFe,0))*IFERROR(IF(\"19:00\"<=IFERROR(Hgauche,0),IF(durée6<0,0,durée6),IF(durée<0,0,durée)),0))+SUMPRODUCT(ISNUMBER(MATCH(INDIRECT(\"H\"&$A$1&\"!B2:AF2\"),moindimfe,0))*IFERROR(IF(\"19:00\"<=IFERROR(Hgauche,0),IF(durée2<0,0,durée2),\"00:00\"),0))","v":0},{"$f":"SUMPRODUCT(1*IF(durée<0,0,durée))+SUMPRODUCT(1*IFERROR(IF(\"19:00\"<=IFERROR(Hgauche,0),IF(durée2<0,0,durée2),\"00:00\"),0))-durée5","v":0},null,0,{"$f":"VLOOKUP($A32,Bilan!A32:AI80,35,FALSE)","v":0},null,{"$f":"Bilan!AN32","v":{"$error":"#VALUE!"}},65,null,0,null,null,null,null,null,null,null,null,null,null,null,null,null,null,null,null,null,null,null,null,null,null,null,{"$f":"Données!$A27","v":"PL"},{"$f":"Données!$B27","v":"PL"}]
[{"$f":"Données!$H30","v":0},0,0,0,0,0,0,0,0,0,0,0,0,0,0,0,0,0,0,0,0,0,0,0,0,0,0,"00:00:00","00:00:00",null,{"$f":"SUMPRODUCT(ISNUMBER(MATCH(INDIRECT(\"H\"&$A$1&\"!B2:AF2\"),DimFe,0))*IFERROR(IF(\"19:00\">=IFERROR(Hgauche,0),IFERROR(hdroite-Hgauche,0),IF(durée1>0,durée1,\"00:00\")),0))+SUMPRODUCT(ISNUMBER(MATCH(INDIRECT(\"H\"&$A$1&\"!B2:AF2\"),moindimfe,0))*IFERROR(IF(\"19:00\"<=IFERROR(Hgauche,0),IF(durée4<0,0,durée4),\"00:00\"),0))","v":0},{"$f":"SUMPRODUCT(ISNUMBER(MATCH(INDIRECT(\"H\"&$A$1&\"!B2:AF2\"),DimFe,0))*IFERROR(IF(\"19:00\"<=IFERROR(Hgauche,0),IF(durée6<0,0,durée6),IF(durée<0,0,durée)),0))+SUMPRODUCT(ISNUMBER(MATCH(INDIRECT(\"H\"&$A$1&\"!B2:AF2\"),moindimfe,0))*IFERROR(IF(\"19:00\"<=IFERROR(Hgauche,0),IF(durée2<0,0,durée2),\"00:00\"),0))","v":0},{"$f":"SUMPRODUCT(1*IF(durée<0,0,durée))+SUMPRODUCT(1*IFERROR(IF(\"19:00\"<=IFERROR(Hgauche,0),IF(durée2<0,0,durée2),\"00:00\"),0))-durée5","v":0},null,0,{"$f":"VLOOKUP($A33,Bilan!A33:AI81,35,FALSE)","v":0},null,{"$f":"Bilan!AN33","v":{"$error":"#VALUE!"}},65,null,0,null,null,null,null,null,null,null,null,null,null,null,null,null,null,null,null,null,null,null,null,null,null,null,{"$f":"Données!$A28","v":"D"},{"$f":"Données!$B28","v":"D"}]
[{"$f":"Données!$H31","v":0},0,0,0,0,0,0,0,0,0,0,0,0,0,0,0,0,0,0,0,0,0,0,0,0,0,0,"00:00:00","00:00:00",null,{"$f":"SUMPRODUCT(ISNUMBER(MATCH(INDIRECT(\"H\"&$A$1&\"!B2:AF2\"),DimFe,0))*IFERROR(IF(\"19:00\">=IFERROR(Hgauche,0),IFERROR(hdroite-Hgauche,0),IF(durée1>0,durée1,\"00:00\")),0))+SUMPRODUCT(ISNUMBER(MATCH(INDIRECT(\"H\"&$A$1&\"!B2:AF2\"),moindimfe,0))*IFERROR(IF(\"19:00\"<=IFERROR(Hgauche,0),IF(durée4<0,0,durée4),\"00:00\"),0))","v":0},{"$f":"SUMPRODUCT(ISNUMBER(MATCH(INDIRECT(\"H\"&$A$1&\"!B2:AF2\"),DimFe,0))*IFERROR(IF(\"19:00\"<=IFERROR(Hgauche,0),IF(durée6<0,0,durée6),IF(durée<0,0,durée)),0))+SUMPRODUCT(ISNUMBER(MATCH(INDIRECT(\"H\"&$A$1&\"!B2:AF2\"),moindimfe,0))*IFERROR(IF(\"19:00\"<=IFERROR(Hgauche,0),IF(durée2<0,0,durée2),\"00:00\"),0))","v":0},{"$f":"SUMPRODUCT(1*IF(durée<0,0,durée))+SUMPRODUCT(1*IFERROR(IF(\"19:00\"<=IFERROR(Hgauche,0),IF(durée2<0,0,durée2),\"00:00\"),0))-durée5","v":0},null,0,{"$f":"VLOOKUP($A34,Bilan!A34:AI82,35,FALSE)","v":0},null,{"$f":"Bilan!AN34","v":{"$error":"#VALUE!"}},65,null,0]
[{"$f":"Données!$H32","v":"Maitresse de maison"}]
[{"$f":"Données!$H33","v":"N"},{"$f":"IF(SUMPRODUCT((INDIRECT(\"'\"&$A$1&\"'!$A$7:$A$56\")=$A36)*(INDIRECT(\"'\"&$A$1&\"'!$B$7:$AF$56\")=B$7))=0,\"\",SUMPRODUCT((INDIRECT(\"'\"&$A$1&\"'!$A$7:$A$56\")=$A36)*(INDIRECT(\"'\"&$A$1&\"'!$B$7:$AF$56\")=B$7)))","v":""},"","","","","","","","","","","","","","","","","","","","","","","","","",{"$f":"VLOOKUP($A36,INDIRECT(\"'\"&$A$1&\"'!$A$7:$AR$56\"),35,0)","v":"00:00:00"},{"$f":"VLOOKUP($A36,INDIRECT(\"'\"&$A$1&\"'!$A$7:$AR$56\"),36,0)","v":"00:00:00"},null,{"$f":"SUMPRODUCT(ISNUMBER(MATCH(INDIRECT(\"H\"&$A$1&\"!B2:AF2\"),DimFe,0))*IFERROR(IF(\"19:00\">=IFERROR(Hgauche,0),IFERROR(hdroite-Hgauche,0),IF(durée1>0,durée1,\"00:00\")),0))+SUMPRODUCT(ISNUMBER(MATCH(INDIRECT(\"H\"&$A$1&\"!B2:AF2\"),moindimfe,0))*IFERROR(IF(\"19:00\"<=IFERROR(Hgauche,0),IF(durée4<0,0,durée4),\"00:00\"),0))","v":0},{"$f":"SUMPRODUCT(ISNUMBER(MATCH(INDIRECT(\"H\"&$A$1&\"!B2:AF2\"),DimFe,0))*IFERROR(IF(\"19:00\"<=IFERROR(Hgauche,0),IF(durée6<0,0,durée6),IF(durée<0,0,durée)),0))+SUMPRODUCT(ISNUMBER(MATCH(INDIRECT(\"H\"&$A$1&\"!B2:AF2\"),moindimfe,0))*IFERROR(IF(\"19:00\"<=IFERROR(Hgauche,0),IF(durée2<0,0,durée2),\"00:00\"),0))","v":0},{"$f":"SUM(SUMPRODUCT(1*IFERROR(IF(\"19:00\"<=IFERROR(Hgauche,0),IF(durée2<0,0,durée2),\"00:00\"),0)),SUMPRODUCT(1*IFERROR(IF(\"19:00\"<=IFERROR(Hgauche,0),IF(durée6<0,0,durée6),\"00:00\"),0)),SUMPRODUCT(1*IFERROR(IF(\"21:00\"<=IFERROR(Hdroitesimple,0),IF(durée<0,0,durée),\"00:00\"),0)))-durée5","v":0},null,{"$f":"bilanh","v":0},{"$f":"VLOOKUP($A36,Bilan!$A$9:$AQ84,37,FALSE)","v":63},null,{"$f":"Bilan!AN36","v":65},65,null,{"$f":"Jourtravaillé","v":0}]
[{"$f":"Données!$H34","v":0},{"$f":"SUMPRODUCT((INDIRECT(\"'\"&$A$1&\"'!$A$7:$A$56\")=$A37)*(INDIRECT(\"'\"&$A$1&\"'!$B$7:$AF$56\")=B$7))","v":0},0,0,0,0,0,0,0,0,0,0,0,0,0,0,0,{"$f":"SUMPRODUCT((INDIRECT(\"'\"&$A$1&\"'!$A$7:$A$56\")=$A37)*(INDIRECT(\"'\"&$A$1&\"'!$B$7:$AF$56\")=R$7))","v":0},0,0,0,0,0,0,0,0,0,{"$f":"VLOOKUP($A37,INDIRECT(\"'H\"&$A$1&\"'!$A$7:$AR$56\"),35,0)","v":"00:00:00"},{"$f":"VLOOKUP($A37,INDIRECT(\"'H\"&$A$1&\"'!$A$7:$AR$56\"),38,0)","v":"00:00:00"},null,{"$f":"SUMPRODUCT(ISNUMBER(MATCH(INDIRECT(\"H\"&$A$1&\"!B2:AF2\"),DimFe,0))*IFERROR(IF(\"19:00\">=IFERROR(Hgauche,0),IFERROR(hdroite-Hgauche,0),IF(durée1>0,durée1,\"00:00\")),0))+SUMPRODUCT(ISNUMBER(MATCH(INDIRECT(\"H\"&$A$1&\"!B2:AF2\"),moindimfe,0))*IFERROR(IF(\"19:00\"<=IFERROR(Hgauche,0),IF(durée4<0,0,durée4),\"00:00\"),0))","v":0},{"$f":"SUMPRODUCT(ISNUMBER(MATCH(INDIRECT(\"H\"&$A$1&\"!B2:AF2\"),DimFe,0))*IFERROR(IF(\"19:00\"<=IFERROR(Hgauche,0),IF(durée6<0,0,durée6),IF(durée<0,0,durée)),0))+SUMPRODUCT(ISNUMBER(MATCH(INDIRECT(\"H\"&$A$1&\"!B2:AF2\"),moindimfe,0))*IFERROR(IF(\"19:00\"<=IFERROR(Hgauche,0),IF(durée2<0,0,durée2),\"00:00\"),0))","v":0},{"$f":"SUMPRODUCT(1*IF(durée<0,0,durée))+SUMPRODUCT(1*IFERROR(IF(\"19:00\"<=IFERROR(Hgauche,0),IF(durée2<0,0,durée2),\"00:00\"),0))-durée5","v":0},null,{"$f":"(AB37/24)+SUMPRODUCT(($B$6:$AA$6)*(B37:AA37))","v":0},{"$f":"VLOOKUP($A37,Bilan!A37:AI85,35,FALSE)","v":0},null,{"$f":"Bilan!AN37","v":65},65,null,{"$f":"SUM(B37:R37)","v":0}]
[{"$f":"Données!$H35","v":0},0,0,0,0,0,0,0,0,0,0,0,0,0,0,0,0,0,0,0,0,0,0,0,0,0,0,"00:00:00","00:00:00",null,{"$f":"SUMPRODUCT(ISNUMBER(MATCH(INDIRECT(\"H\"&$A$1&\"!B2:AF2\"),DimFe,0))*IFERROR(IF(\"19:00\">=IFERROR(Hgauche,0),IFERROR(hdroite-Hgauche,0),IF(durée1>0,durée1,\"00:00\")),0))+SUMPRODUCT(ISNUMBER(MATCH(INDIRECT(\"H\"&$A$1&\"!B2:AF2\"),moindimfe,0))*IFERROR(IF(\"19:00\"<=IFERROR(Hgauche,0),IF(durée4<0,0,durée4),\"00:00\"),0))","v":0},{"$f":"SUMPRODUCT(ISNUMBER(MATCH(INDIRECT(\"H\"&$A$1&\"!B2:AF2\"),DimFe,0))*IFERROR(IF(\"19:00\"<=IFERROR(Hgauche,0),IF(durée6<0,0,durée6),IF(durée<0,0,durée)),0))+SUMPRODUCT(ISNUMBER(MATCH(INDIRECT(\"H\"&$A$1&\"!B2:AF2\"),moindimfe,0))*IFERROR(IF(\"19:00\"<=IFERROR(Hgauche,0),IF(durée2<0,0,durée2),\"00:00\"),0))","v":0},{"$f":"SUMPRODUCT(1*IF(durée<0,0,durée))+SUMPRODUCT(1*IFERROR(IF(\"19:00\"<=IFERROR(Hgauche,0),IF(durée2<0,0,durée2),\"00:00\"),0))-durée5","v":0},null,0,{"$f":"VLOOKUP($A38,Bilan!A38:AI86,35,FALSE)","v":0},null,{"$f":"Bilan!AN38","v":{"$error":"#VALUE!"}},65,null,0]
[{"$f":"Données!$H36","v":0},0,0,0,0,0,0,0,0,0,0,0,0,0,0,0,0,0,0,0,0,0,0,0,0,0,0,"00:00:00","00:00:00",null,{"$f":"SUMPRODUCT(ISNUMBER(MATCH(INDIRECT(\"H\"&$A$1&\"!B2:AF2\"),DimFe,0))*IFERROR(IF(\"19:00\">=IFERROR(Hgauche,0),IFERROR(hdroite-Hgauche,0),IF(durée1>0,durée1,\"00:00\")),0))+SUMPRODUCT(ISNUMBER(MATCH(INDIRECT(\"H\"&$A$1&\"!B2:AF2\"),moindimfe,0))*IFERROR(IF(\"19:00\"<=IFERROR(Hgauche,0),IF(durée4<0,0,durée4),\"00:00\"),0))","v":0},{"$f":"SUMPRODUCT(ISNUMBER(MATCH(INDIRECT(\"H\"&$A$1&\"!B2:AF2\"),DimFe,0))*IFERROR(IF(\"19:00\"<=IFERROR(Hgauche,0),IF(durée6<0,0,durée6),IF(durée<0,0,durée)),0))+SUMPRODUCT(ISNUMBER(MATCH(INDIRECT(\"H\"&$A$1&\"!B2:AF2\"),moindimfe,0))*IFERROR(IF(\"19:00\"<=IFERROR(Hgauche,0),IF(durée2<0,0,durée2),\"00:00\"),0))","v":0},{"$f":"SUMPRODUCT(1*IF(durée<0,0,durée))+SUMPRODUCT(1*IFERROR(IF(\"19:00\"<=IFERROR(Hgauche,0),IF(durée2<0,0,durée2),\"00:00\"),0))-durée5","v":0},null,0,{"$f":"VLOOKUP($A39,Bilan!A39:AI87,35,FALSE)","v":0},null,{"$f":"Bilan!AN39","v":{"$error":"#VALUE!"}},65,null,0]
[{"$f":"Données!$H37","v":0},0,0,0,0,0,0,0,0,0,0,0,0,0,0,0,0,0,0,0,0,0,0,0,0,0,0,"00:00:00","00:00:00",null,{"$f":"SUMPRODUCT(ISNUMBER(MATCH(INDIRECT(\"H\"&$A$1&\"!B2:AF2\"),DimFe,0))*IFERROR(IF(\"19:00\">=IFERROR(Hgauche,0),IFERROR(hdroite-Hgauche,0),IF(durée1>0,durée1,\"00:00\")),0))+SUMPRODUCT(ISNUMBER(MATCH(INDIRECT(\"H\"&$A$1&\"!B2:AF2\"),moindimfe,0))*IFERROR(IF(\"19:00\"<=IFERROR(Hgauche,0),IF(durée4<0,0,durée4),\"00:00\"),0))","v":0},{"$f":"SUMPRODUCT(ISNUMBER(MATCH(INDIRECT(\"H\"&$A$1&\"!B2:AF2\"),DimFe,0))*IFERROR(IF(\"19:00\"<=IFERROR(Hgauche,0),IF(durée6<0,0,durée6),IF(durée<0,0,durée)),0))+SUMPRODUCT(ISNUMBER(MATCH(INDIRECT(\"H\"&$A$1&\"!B2:AF2\"),moindimfe,0))*IFERROR(IF(\"19:00\"<=IFERROR(Hgauche,0),IF(durée2<0,0,durée2),\"00:00\"),0))","v":0},{"$f":"SUMPRODUCT(1*IF(durée<0,0,durée))+SUMPRODUCT(1*IFERROR(IF(\"19:00\"<=IFERROR(Hgauche,0),IF(durée2<0,0,durée2),\"00:00\"),0))-durée5","v":0},null,0,{"$f":"VLOOKUP($A40,Bilan!A40:AI88,35,FALSE)","v":0},null,{"$f":"Bilan!AN40","v":{"$error":"#VALUE!"}},65,null,0]
[{"$f":"Données!$H38","v":0},0,0,0,0,0,0,0,0,0,0,0,0,0,0,0,0,0,0,0,0,0,0,0,0,0,0,"00:00:00","00:00:00",null,{"$f":"SUMPRODUCT(ISNUMBER(MATCH(INDIRECT(\"H\"&$A$1&\"!B2:AF2\"),DimFe,0))*IFERROR(IF(\"19:00\">=IFERROR(Hgauche,0),IFERROR(hdroite-Hgauche,0),IF(durée1>0,durée1,\"00:00\")),0))+SUMPRODUCT(ISNUMBER(MATCH(INDIRECT(\"H\"&$A$1&\"!B2:AF2\"),moindimfe,0))*IFERROR(IF(\"19:00\"<=IFERROR(Hgauche,0),IF(durée4<0,0,durée4),\"00:00\"),0))","v":0},{"$f":"SUMPRODUCT(ISNUMBER(MATCH(INDIRECT(\"H\"&$A$1&\"!B2:AF2\"),DimFe,0))*IFERROR(IF(\"19:00\"<=IFERROR(Hgauche,0),IF(durée6<0,0,durée6),IF(durée<0,0,durée)),0))+SUMPRODUCT(ISNUMBER(MATCH(INDIRECT(\"H\"&$A$1&\"!B2:AF2\"),moindimfe,0))*IFERROR(IF(\"19:00\"<=IFERROR(Hgauche,0),IF(durée2<0,0,durée2),\"00:00\"),0))","v":0},{"$f":"SUMPRODUCT(1*IF(durée<0,0,durée))+SUMPRODUCT(1*IFERROR(IF(\"19:00\"<=IFERROR(Hgauche,0),IF(durée2<0,0,durée2),\"00:00\"),0))-durée5","v":0},null,0,{"$f":"VLOOKUP($A41,Bilan!A41:AI89,35,FALSE)","v":0},null,{"$f":"Bilan!AN41","v":{"$error":"#VALUE!"}},65,null,0]
[{"$f":"Données!$H39","v":0},0,0,0,0,0,0,0,0,0,0,0,0,0,0,0,0,0,0,0,0,0,0,0,0,0,0,"00:00:00","00:00:00",null,{"$f":"SUMPRODUCT(ISNUMBER(MATCH(INDIRECT(\"H\"&$A$1&\"!B2:AF2\"),DimFe,0))*IFERROR(IF(\"19:00\">=IFERROR(Hgauche,0),IFERROR(hdroite-Hgauche,0),IF(durée1>0,durée1,\"00:00\")),0))+SUMPRODUCT(ISNUMBER(MATCH(INDIRECT(\"H\"&$A$1&\"!B2:AF2\"),moindimfe,0))*IFERROR(IF(\"19:00\"<=IFERROR(Hgauche,0),IF(durée4<0,0,durée4),\"00:00\"),0))","v":0},{"$f":"SUMPRODUCT(ISNUMBER(MATCH(INDIRECT(\"H\"&$A$1&\"!B2:AF2\"),DimFe,0))*IFERROR(IF(\"19:00\"<=IFERROR(Hgauche,0),IF(durée6<0,0,durée6),IF(durée<0,0,durée)),0))+SUMPRODUCT(ISNUMBER(MATCH(INDIRECT(\"H\"&$A$1&\"!B2:AF2\"),moindimfe,0))*IFERROR(IF(\"19:00\"<=IFERROR(Hgauche,0),IF(durée2<0,0,durée2),\"00:00\"),0))","v":0},{"$f":"SUMPRODUCT(1*IF(durée<0,0,durée))+SUMPRODUCT(1*IFERROR(IF(\"19:00\"<=IFERROR(Hgauche,0),IF(durée2<0,0,durée2),\"00:00\"),0))-durée5","v":0},null,0,{"$f":"VLOOKUP($A42,Bilan!A42:AI90,35,FALSE)","v":0},null,{"$f":"Bilan!AN42","v":{"$error":"#VALUE!"}},65,null,0]
[{"$f":"Données!$H40","v":0},0,0,0,0,0,0,0,0,0,0,0,0,0,0,0,0,0,0,0,0,0,0,0,0,0,0,"00:00:00","00:00:00",null,{"$f":"SUMPRODUCT(ISNUMBER(MATCH(INDIRECT(\"H\"&$A$1&\"!B2:AF2\"),DimFe,0))*IFERROR(IF(\"19:00\">=IFERROR(Hgauche,0),IFERROR(hdroite-Hgauche,0),IF(durée1>0,durée1,\"00:00\")),0))+SUMPRODUCT(ISNUMBER(MATCH(INDIRECT(\"H\"&$A$1&\"!B2:AF2\"),moindimfe,0))*IFERROR(IF(\"19:00\"<=IFERROR(Hgauche,0),IF(durée4<0,0,durée4),\"00:00\"),0))","v":0},{"$f":"SUMPRODUCT(ISNUMBER(MATCH(INDIRECT(\"H\"&$A$1&\"!B2:AF2\"),DimFe,0))*IFERROR(IF(\"19:00\"<=IFERROR(Hgauche,0),IF(durée6<0,0,durée6),IF(durée<0,0,durée)),0))+SUMPRODUCT(ISNUMBER(MATCH(INDIRECT(\"H\"&$A$1&\"!B2:AF2\"),moindimfe,0))*IFERROR(IF(\"19:00\"<=IFERROR(Hgauche,0),IF(durée2<0,0,durée2),\"00:00\"),0))","v":0},{"$f":"SUMPRODUCT(1*IF(durée<0,0,durée))+SUMPRODUCT(1*IFERROR(IF(\"19:00\"<=IFERROR(Hgauche,0),IF(durée2<0,0,durée2),\"00:00\"),0))-durée5","v":0},null,0,{"$f":"VLOOKUP($A43,Bilan!A43:AI91,35,FALSE)","v":0},null,{"$f":"Bilan!AN43","v":{"$error":"#VALUE!"}},65,null,0]
[{"$f":"Données!$H41","v":0},0,0,0,0,0,0,0,0,0,0,0,0,0,0,0,0,0,0,0,0,0,0,0,0,0,0,"00:00:00","00:00:00",null,{"$f":"SUMPRODUCT(ISNUMBER(MATCH(INDIRECT(\"H\"&$A$1&\"!B2:AF2\"),DimFe,0))*IFERROR(IF(\"19:00\">=IFERROR(Hgauche,0),IFERROR(hdroite-Hgauche,0),IF(durée1>0,durée1,\"00:00\")),0))+SUMPRODUCT(ISNUMBER(MATCH(INDIRECT(\"H\"&$A$1&\"!B2:AF2\"),moindimfe,0))*IFERROR(IF(\"19:00\"<=IFERROR(Hgauche,0),IF(durée4<0,0,durée4),\"00:00\"),0))","v":0},{"$f":"SUMPRODUCT(ISNUMBER(MATCH(INDIRECT(\"H\"&$A$1&\"!B2:AF2\"),DimFe,0))*IFERROR(IF(\"19:00\"<=IFERROR(Hgauche,0),IF(durée6<0,0,durée6),IF(durée<0,0,durée)),0))+SUMPRODUCT(ISNUMBER(MATCH(INDIRECT(\"H\"&$A$1&\"!B2:AF2\"),moindimfe,0))*IFERROR(IF(\"19:00\"<=IFERROR(Hgauche,0),IF(durée2<0,0,durée2),\"00:00\"),0))","v":0},{"$f":"SUMPRODUCT(1*IF(durée<0,0,durée))+SUMPRODUCT(1*IFERROR(IF(\"19:00\"<=IFERROR(Hgauche,0),IF(durée2<0,0,durée2),\"00:00\"),0))-durée5","v":0},null,0,{"$f":"VLOOKUP($A44,Bilan!A44:AI92,35,FALSE)","v":0},null,{"$f":"Bilan!AN44","v":{"$error":"#VALUE!"}},65,null,0]
[{"$f":"Données!$H42","v":"Psychologue"}]
[{"$f":"Données!$H43","v":"O"},{"$f":"IF(SUMPRODUCT((INDIRECT(\"'\"&$A$1&\"'!$A$7:$A$56\")=$A46)*(INDIRECT(\"'\"&$A$1&\"'!$B$7:$AF$56\")=B$7))=0,\"\",SUMPRODUCT((INDIRECT(\"'\"&$A$1&\"'!$A$7:$A$56\")=$A46)*(INDIRECT(\"'\"&$A$1&\"'!$B$7:$AF$56\")=B$7)))","v":""},"","","","","","","","","","","","","","","","","","","","","","","","","",{"$f":"VLOOKUP($A46,INDIRECT(\"'\"&$A$1&\"'!$A$7:$AR$56\"),35,0)","v":"00:00:00"},{"$f":"VLOOKUP($A46,INDIRECT(\"'\"&$A$1&\"'!$A$7:$AR$56\"),36,0)","v":"00:00:00"},null,{"$f":"SUMPRODUCT(ISNUMBER(MATCH(INDIRECT(\"H\"&$A$1&\"!B2:AF2\"),DimFe,0))*IFERROR(IF(\"19:00\">=IFERROR(Hgauche,0),IFERROR(hdroite-Hgauche,0),IF(durée1>0,durée1,\"00:00\")),0))+SUMPRODUCT(ISNUMBER(MATCH(INDIRECT(\"H\"&$A$1&\"!B2:AF2\"),moindimfe,0))*IFERROR(IF(\"19:00\"<=IFERROR(Hgauche,0),IF(durée4<0,0,durée4),\"00:00\"),0))","v":0},{"$f":"SUMPRODUCT(ISNUMBER(MATCH(INDIRECT(\"H\"&$A$1&\"!B2:AF2\"),DimFe,0))*IFERROR(IF(\"19:00\"<=IFERROR(Hgauche,0),IF(durée6<0,0,durée6),IF(durée<0,0,durée)),0))+SUMPRODUCT(ISNUMBER(MATCH(INDIRECT(\"H\"&$A$1&\"!B2:AF2\"),moindimfe,0))*IFERROR(IF(\"19:00\"<=IFERROR(Hgauche,0),IF(durée2<0,0,durée2),\"00:00\"),0))","v":0},{"$f":"SUM(SUMPRODUCT(1*IFERROR(IF(\"19:00\"<=IFERROR(Hgauche,0),IF(durée2<0,0,durée2),\"00:00\"),0)),SUMPRODUCT(1*IFERROR(IF(\"19:00\"<=IFERROR(Hgauche,0),IF(durée6<0,0,durée6),\"00:00\"),0)),SUMPRODUCT(1*IFERROR(IF(\"21:00\"<=IFERROR(Hdroitesimple,0),IF(durée<0,0,durée),\"00:00\"),0)))-durée5","v":0},null,{"$f":"bilanh","v":0},{"$f":"VLOOKUP($A46,Bilan!$A$9:$AQ94,37,FALSE)","v":63},null,{"$f":"Bilan!AN46","v":65},65,null,{"$f":"Jourtravaillé","v":0}]
[{"$f":"Données!$H44","v":0},{"$f":"SUMPRODUCT((INDIRECT(\"'\"&$A$1&\"'!$A$7:$A$56\")=$A47)*(INDIRECT(\"'\"&$A$1&\"'!$B$7:$AF$56\")=B$7))","v":0},0,0,0,0,0,0,0,0,0,0,0,0,0,0,0,{"$f":"SUMPRODUCT((INDIRECT(\"'\"&$A$1&\"'!$A$7:$A$56\")=$A47)*(INDIRECT(\"'\"&$A$1&\"'!$B$7:$AF$56\")=R$7))","v":0},0,0,0,0,0,0,0,0,0,{"$f":"VLOOKUP($A47,INDIRECT(\"'H\"&$A$1&\"'!$A$7:$AR$56\"),35,0)","v":"00:00:00"},{"$f":"VLOOKUP($A47,INDIRECT(\"'H\"&$A$1&\"'!$A$7:$AR$56\"),38,0)","v":"00:00:00"},null,{"$f":"SUMPRODUCT(ISNUMBER(MATCH(INDIRECT(\"H\"&$A$1&\"!B2:AF2\"),DimFe,0))*IFERROR(IF(\"19:00\">=IFERROR(Hgauche,0),IFERROR(hdroite-Hgauche,0),IF(durée1>0,durée1,\"00:00\")),0))+SUMPRODUCT(ISNUMBER(MATCH(INDIRECT(\"H\"&$A$1&\"!B2:AF2\"),moindimfe,0))*IFERROR(IF(\"19:00\"<=IFERROR(Hgauche,0),IF(durée4<0,0,durée4),\"00:00\"),0))","v":0},{"$f":"SUMPRODUCT(ISNUMBER(MATCH(INDIRECT(\"H\"&$A$1&\"!B2:AF2\"),DimFe,0))*IFERROR(IF(\"19:00\"<=IFERROR(Hgauche,0),IF(durée6<0,0,durée6),IF(durée<0,0,durée)),0))+SUMPRODUCT(ISNUMBER(MATCH(INDIRECT(\"H\"&$A$1&\"!B2:AF2\"),moindimfe,0))*IFERROR(IF(\"19:00\"<=IFERROR(Hgauche,0),IF(durée2<0,0,durée2),\"00:00\"),0))","v":0},{"$f":"SUMPRODUCT(1*IF(durée<0,0,durée))+SUMPRODUCT(1*IFERROR(IF(\"19:00\"<=IFERROR(Hgauche,0),IF(durée2<0,0,durée2),\"00:00\"),0))-durée5","v":0},null,{"$f":"(AB47/24)+SUMPRODUCT(($B$6:$AA$6)*(B47:AA47))","v":0},{"$f":"VLOOKUP($A47,Bilan!A47:AI95,35,FALSE)","v":0},null,{"$f":"Bilan!AN47","v":65},65,null,{"$f":"SUM(B47:R47)","v":0}]
[{"$f":"Données!$H45","v":0},0,0,0,0,0,0,0,0,0,0,0,0,0,0,0,0,0,0,0,0,0,0,0,0,0,0,{"$f":"VLOOKUP($A48,INDIRECT(\"'H\"&$A$1&\"'!$A$7:$AR$56\"),35,0)","v":"00:00:00"},{"$f":"VLOOKUP($A48,INDIRECT(\"'H\"&$A$1&\"'!$A$7:$AR$56\"),38,0)","v":"00:00:00"},null,{"$f":"SUMPRODUCT(ISNUMBER(MATCH(INDIRECT(\"H\"&$A$1&\"!B2:AF2\"),DimFe,0))*IFERROR(IF(\"19:00\">=IFERROR(Hgauche,0),IFERROR(hdroite-Hgauche,0),IF(durée1>0,durée1,\"00:00\")),0))+SUMPRODUCT(ISNUMBER(MATCH(INDIRECT(\"H\"&$A$1&\"!B2:AF2\"),moindimfe,0))*IFERROR(IF(\"19:00\"<=IFERROR(Hgauche,0),IF(durée4<0,0,durée4),\"00:00\"),0))","v":0},{"$f":"SUMPRODUCT(ISNUMBER(MATCH(INDIRECT(\"H\"&$A$1&\"!B2:AF2\"),DimFe,0))*IFERROR(IF(\"19:00\"<=IFERROR(Hgauche,0),IF(durée6<0,0,durée6),IF(durée<0,0,durée)),0))+SUMPRODUCT(ISNUMBER(MATCH(INDIRECT(\"H\"&$A$1&\"!B2:AF2\"),moindimfe,0))*IFERROR(IF(\"19:00\"<=IFERROR(Hgauche,0),IF(durée2<0,0,durée2),\"00:00\"),0))","v":0},{"$f":"SUMPRODUCT(1*IF(durée<0,0,durée))+SUMPRODUCT(1*IFERROR(IF(\"19:00\"<=IFERROR(Hgauche,0),IF(durée2<0,0,durée2),\"00:00\"),0))-durée5","v":0},null,{"$f":"(AB48/24)+SUMPRODUCT(($B$6:$AA$6)*(B48:AA48))","v":0},{"$f":"VLOOKUP($A48,Bilan!A48:AI96,35,FALSE)","v":0},null,{"$f":"Bilan!AN48","v":{"$error":"#VALUE!"}},65,null,{"$f":"SUM(B48:R48)","v":0}]
[{"$f":"Données!$H46","v":"Coordinatrice"}]
[{"$f":"Données!$H47","v":"P"},{"$f":"IF(SUMPRODUCT((INDIRECT(\"'\"&$A$1&\"'!$A$7:$A$56\")=$A50)*(INDIRECT(\"'\"&$A$1&\"'!$B$7:$AF$56\")=B$7))=0,\"\",SUMPRODUCT((INDIRECT(\"'\"&$A$1&\"'!$A$7:$A$56\")=$A50)*(INDIRECT(\"'\"&$A$1&\"'!$B$7:$AF$56\")=B$7)))","v":""},"","","","","","","","","","","","","","","","","","","","","","","","","",{"$f":"VLOOKUP($A50,INDIRECT(\"'\"&$A$1&\"'!$A$7:$AR$56\"),35,0)","v":"00:00:00"},{"$f":"VLOOKUP($A50,INDIRECT(\"'\"&$A$1&\"'!$A$7:$AR$56\"),36,0)","v":"00:00:00"},null,{"$f":"SUMPRODUCT(ISNUMBER(MATCH(INDIRECT(\"H\"&$A$1&\"!B2:AF2\"),DimFe,0))*IFERROR(IF(\"19:00\">=IFERROR(Hgauche,0),IFERROR(hdroite-Hgauche,0),IF(durée1>0,durée1,\"00:00\")),0))+SUMPRODUCT(ISNUMBER(MATCH(INDIRECT(\"H\"&$A$1&\"!B2:AF2\"),moindimfe,0))*IFERROR(IF(\"19:00\"<=IFERROR(Hgauche,0),IF(durée4<0,0,durée4),\"00:00\"),0))","v":0},{"$f":"SUMPRODUCT(ISNUMBER(MATCH(INDIRECT(\"H\"&$A$1&\"!B2:AF2\"),DimFe,0))*IFERROR(IF(\"19:00\"<=IFERROR(Hgauche,0),IF(durée6<0,0,durée6),IF(durée<0,0,durée)),0))+SUMPRODUCT(ISNUMBER(MATCH(INDIRECT(\"H\"&$A$1&\"!B2:AF2\"),moindimfe,0))*IFERROR(IF(\"19:00\"<=IFERROR(Hgauche,0),IF(durée2<0,0,durée2),\"00:00\"),0))","v":0},{"$f":"SUM(SUMPRODUCT(1*IFERROR(IF(\"19:00\"<=IFERROR(Hgauche,0),IF(durée2<0,0,durée2),\"00:00\"),0)),SUMPRODUCT(1*IFERROR(IF(\"19:00\"<=IFERROR(Hgauche,0),IF(durée6<0,0,durée6),\"00:00\"),0)),SUMPRODUCT(1*IFERROR(IF(\"21:00\"<=IFERROR(Hdroitesimple,0),IF(durée<0,0,durée),\"00:00\"),0)))-durée5","v":0},null,{"$f":"bilanh","v":0},{"$f":"VLOOKUP($A50,Bilan!$A$9:$AQ98,37,FALSE)","v":63},null,{"$f":"Bilan!AN50","v":65},65,null,{"$f":"Jourtravaillé","v":0}]
[{"$f":"Données!$H48","v":0},{"$f":"SUMPRODUCT((INDIRECT(\"'\"&$A$1&\"'!$A$7:$A$56\")=$A51)*(INDIRECT(\"'\"&$A$1&\"'!$B$7:$AF$56\")=B$7))","v":0},0,0,0,0,0,0,0,0,0,0,0,0,0,0,0,{"$f":"SUMPRODUCT((INDIRECT(\"'\"&$A$1&\"'!$A$7:$A$56\")=$A51)*(INDIRECT(\"'\"&$A$1&\"'!$B$7:$AF$56\")=R$7))","v":0},0,0,0,0,0,0,0,0,0,{"$f":"VLOOKUP($A51,INDIRECT(\"'H\"&$A$1&\"'!$A$7:$AR$56\"),35,0)","v":"00:00:00"},{"$f":"VLOOKUP($A51,INDIRECT(\"'H\"&$A$1&\"'!$A$7:$AR$56\"),38,0)","v":"00:00:00"},null,{"$f":"SUMPRODUCT(ISNUMBER(MATCH(INDIRECT(\"H\"&$A$1&\"!B2:AF2\"),DimFe,0))*IFERROR(IF(\"19:00\">=IFERROR(Hgauche,0),IFERROR(hdroite-Hgauche,0),IF(durée1>0,durée1,\"00:00\")),0))+SUMPRODUCT(ISNUMBER(MATCH(INDIRECT(\"H\"&$A$1&\"!B2:AF2\"),moindimfe,0))*IFERROR(IF(\"19:00\"<=IFERROR(Hgauche,0),IF(durée4<0,0,durée4),\"00:00\"),0))","v":0},{"$f":"SUMPRODUCT(ISNUMBER(MATCH(INDIRECT(\"H\"&$A$1&\"!B2:AF2\"),DimFe,0))*IFERROR(IF(\"19:00\"<=IFERROR(Hgauche,0),IF(durée6<0,0,durée6),IF(durée<0,0,durée)),0))+SUMPRODUCT(ISNUMBER(MATCH(INDIRECT(\"H\"&$A$1&\"!B2:AF2\"),moindimfe,0))*IFERROR(IF(\"19:00\"<=IFERROR(Hgauche,0),IF(durée2<0,0,durée2),\"00:00\"),0))","v":0},{"$f":"SUMPRODUCT(1*IF(durée<0,0,durée))+SUMPRODUCT(1*IFERROR(IF(\"19:00\"<=IFERROR(Hgauche,0),IF(durée2<0,0,durée2),\"00:00\"),0))-durée5","v":0},null,{"$f":"(AB51/24)+SUMPRODUCT(($B$6:$AA$6)*(B51:AA51))","v":0},{"$f":"VLOOKUP($A51,Bilan!A51:AI99,35,FALSE)","v":0},null,{"$f":"Bilan!AN51","v":66},65,null,{"$f":"SUM(B51:R51)","v":0}]
[{"$f":"Données!$H49","v":0},0,0,0,0,0,0,0,0,0,0,0,0,0,0,0,0,0,0,0,0,0,0,0,0,0,0,{"$f":"VLOOKUP($A52,INDIRECT(\"'H\"&$A$1&\"'!$A$7:$AR$56\"),35,0)","v":"00:00:00"},{"$f":"VLOOKUP($A52,INDIRECT(\"'H\"&$A$1&\"'!$A$7:$AR$56\"),38,0)","v":"00:00:00"},null,{"$f":"SUMPRODUCT(ISNUMBER(MATCH(INDIRECT(\"H\"&$A$1&\"!B2:AF2\"),DimFe,0))*IFERROR(IF(\"19:00\">=IFERROR(Hgauche,0),IFERROR(hdroite-Hgauche,0),IF(durée1>0,durée1,\"00:00\")),0))+SUMPRODUCT(ISNUMBER(MATCH(INDIRECT(\"H\"&$A$1&\"!B2:AF2\"),moindimfe,0))*IFERROR(IF(\"19:00\"<=IFERROR(Hgauche,0),IF(durée4<0,0,durée4),\"00:00\"),0))","v":0},{"$f":"SUMPRODUCT(ISNUMBER(MATCH(INDIRECT(\"H\"&$A$1&\"!B2:AF2\"),DimFe,0))*IFERROR(IF(\"19:00\"<=IFERROR(Hgauche,0),IF(durée6<0,0,durée6),IF(durée<0,0,durée)),0))+SUMPRODUCT(ISNUMBER(MATCH(INDIRECT(\"H\"&$A$1&\"!B2:AF2\"),moindimfe,0))*IFERROR(IF(\"19:00\"<=IFERROR(Hgauche,0),IF(durée2<0,0,durée2),\"00:00\"),0))","v":0},{"$f":"SUMPRODUCT(1*IF(durée<0,0,durée))+SUMPRODUCT(1*IFERROR(IF(\"19:00\"<=IFERROR(Hgauche,0),IF(durée2<0,0,durée2),\"00:00\"),0))-durée5","v":0},null,{"$f":"(AB52/24)+SUMPRODUCT(($B$6:$AA$6)*(B52:AA52))","v":0},{"$f":"VLOOKUP($A52,Bilan!A52:AI100,35,FALSE)","v":0},null,{"$f":"Bilan!AN52","v":{"$error":"#VALUE!"}},66,null,{"$f":"SUM(B52:R52)","v":0}]
[{"$f":"Données!$H50","v":0},0,0,0,0,0,0,0,0,0,0,0,0,0,0,0,0,0,0,0,0,0,0,0,0,0,0,{"$f":"VLOOKUP($A53,INDIRECT(\"'H\"&$A$1&\"'!$A$7:$AR$56\"),35,0)","v":"00:00:00"},{"$f":"VLOOKUP($A53,INDIRECT(\"'H\"&$A$1&\"'!$A$7:$AR$56\"),38,0)","v":"00:00:00"},null,{"$f":"SUMPRODUCT(ISNUMBER(MATCH(INDIRECT(\"H\"&$A$1&\"!B2:AF2\"),DimFe,0))*IFERROR(IF(\"19:00\">=IFERROR(Hgauche,0),IFERROR(hdroite-Hgauche,0),IF(durée1>0,durée1,\"00:00\")),0))+SUMPRODUCT(ISNUMBER(MATCH(INDIRECT(\"H\"&$A$1&\"!B2:AF2\"),moindimfe,0))*IFERROR(IF(\"19:00\"<=IFERROR(Hgauche,0),IF(durée4<0,0,durée4),\"00:00\"),0))","v":0},{"$f":"SUMPRODUCT(ISNUMBER(MATCH(INDIRECT(\"H\"&$A$1&\"!B2:AF2\"),DimFe,0))*IFERROR(IF(\"19:00\"<=IFERROR(Hgauche,0),IF(durée6<0,0,durée6),IF(durée<0,0,durée)),0))+SUMPRODUCT(ISNUMBER(MATCH(INDIRECT(\"H\"&$A$1&\"!B2:AF2\"),moindimfe,0))*IFERROR(IF(\"19:00\"<=IFERROR(Hgauche,0),IF(durée2<0,0,durée2),\"00:00\"),0))","v":0},{"$f":"SUMPRODUCT(1*IF(durée<0,0,durée))+SUMPRODUCT(1*IFERROR(IF(\"19:00\"<=IFERROR(Hgauche,0),IF(durée2<0,0,durée2),\"00:00\"),0))-durée5","v":0},null,{"$f":"(AB53/24)+SUMPRODUCT(($B$6:$AA$6)*(B53:AA53))","v":0},{"$f":"VLOOKUP($A53,Bilan!A53:AI101,35,FALSE)","v":0},null,{"$f":"Bilan!AN53","v":{"$error":"#VALUE!"}},67,null,{"$f":"SUM(B53:R53)","v":0}]
[{"$f":"Données!$H51","v":0},0,0,0,0,0,0,0,0,0,0,0,0,0,0,0,0,0,0,0,0,0,0,0,0,0,0,{"$f":"VLOOKUP($A54,INDIRECT(\"'H\"&$A$1&\"'!$A$7:$AR$56\"),35,0)","v":"00:00:00"},{"$f":"VLOOKUP($A54,INDIRECT(\"'H\"&$A$1&\"'!$A$7:$AR$56\"),38,0)","v":"00:00:00"},null,{"$f":"SUMPRODUCT(ISNUMBER(MATCH(INDIRECT(\"H\"&$A$1&\"!B2:AF2\"),DimFe,0))*IFERROR(IF(\"19:00\">=IFERROR(Hgauche,0),IFERROR(hdroite-Hgauche,0),IF(durée1>0,durée1,\"00:00\")),0))+SUMPRODUCT(ISNUMBER(MATCH(INDIRECT(\"H\"&$A$1&\"!B2:AF2\"),moindimfe,0))*IFERROR(IF(\"19:00\"<=IFERROR(Hgauche,0),IF(durée4<0,0,durée4),\"00:00\"),0))","v":0},{"$f":"SUMPRODUCT(ISNUMBER(MATCH(INDIRECT(\"H\"&$A$1&\"!B2:AF2\"),DimFe,0))*IFERROR(IF(\"19:00\"<=IFERROR(Hgauche,0),IF(durée6<0,0,durée6),IF(durée<0,0,durée)),0))+SUMPRODUCT(ISNUMBER(MATCH(INDIRECT(\"H\"&$A$1&\"!B2:AF2\"),moindimfe,0))*IFERROR(IF(\"19:00\"<=IFERROR(Hgauche,0),IF(durée2<0,0,durée2),\"00:00\"),0))","v":0},{"$f":"SUMPRODUCT(1*IF(durée<0,0,durée))+SUMPRODUCT(1*IFERROR(IF(\"19:00\"<=IFERROR(Hgauche,0),IF(durée2<0,0,durée2),\"00:00\"),0))-durée5","v":0},null,{"$f":"(AB54/24)+SUMPRODUCT(($B$6:$AA$6)*(B54:AA54))","v":0},{"$f":"VLOOKUP($A54,Bilan!A54:AI102,35,FALSE)","v":0},null,{"$f":"Bilan!AN54","v":{"$error":"#VALUE!"}},68,null,{"$f":"SUM(B54:R54)","v":0}]
[{"$f":"Données!$H52","v":"Chef de service"}]
[{"$f":"Données!$H53","v":"Q"},{"$f":"IF(SUMPRODUCT((INDIRECT(\"'\"&$A$1&\"'!$A$7:$A$56\")=$A56)*(INDIRECT(\"'\"&$A$1&\"'!$B$7:$AF$56\")=B$7))=0,\"\",SUMPRODUCT((INDIRECT(\"'\"&$A$1&\"'!$A$7:$A$56\")=$A56)*(INDIRECT(\"'\"&$A$1&\"'!$B$7:$AF$56\")=B$7)))","v":""},"","","","","","","","","","","","","","","","","","","","","","","","","",{"$f":"VLOOKUP($A56,INDIRECT(\"'\"&$A$1&\"'!$A$7:$AR$56\"),35,0)","v":"00:00:00"},{"$f":"VLOOKUP($A56,INDIRECT(\"'\"&$A$1&\"'!$A$7:$AR$56\"),36,0)","v":"00:00:00"},null,{"$f":"SUMPRODUCT(ISNUMBER(MATCH(INDIRECT(\"H\"&$A$1&\"!B2:AF2\"),DimFe,0))*IFERROR(IF(\"19:00\">=IFERROR(Hgauche,0),IFERROR(hdroite-Hgauche,0),IF(durée1>0,durée1,\"00:00\")),0))+SUMPRODUCT(ISNUMBER(MATCH(INDIRECT(\"H\"&$A$1&\"!B2:AF2\"),moindimfe,0))*IFERROR(IF(\"19:00\"<=IFERROR(Hgauche,0),IF(durée4<0,0,durée4),\"00:00\"),0))","v":0},{"$f":"SUMPRODUCT(ISNUMBER(MATCH(INDIRECT(\"H\"&$A$1&\"!B2:AF2\"),DimFe,0))*IFERROR(IF(\"19:00\"<=IFERROR(Hgauche,0),IF(durée6<0,0,durée6),IF(durée<0,0,durée)),0))+SUMPRODUCT(ISNUMBER(MATCH(INDIRECT(\"H\"&$A$1&\"!B2:AF2\"),moindimfe,0))*IFERROR(IF(\"19:00\"<=IFERROR(Hgauche,0),IF(durée2<0,0,durée2),\"00:00\"),0))","v":0},{"$f":"SUM(SUMPRODUCT(1*IFERROR(IF(\"19:00\"<=IFERROR(Hgauche,0),IF(durée2<0,0,durée2),\"00:00\"),0)),SUMPRODUCT(1*IFERROR(IF(\"19:00\"<=IFERROR(Hgauche,0),IF(durée6<0,0,durée6),\"00:00\"),0)),SUMPRODUCT(1*IFERROR(IF(\"21:00\"<=IFERROR(Hdroitesimple,0),IF(durée<0,0,durée),\"00:00\"),0)))-durée5","v":0},null,{"$f":"bilanh","v":0},{"$f":"VLOOKUP($A56,Bilan!$A$9:$AQ104,37,FALSE)","v":63},null,{"$f":"Bilan!AN56","v":65},65,null,{"$f":"Jourtravaillé","v":0}]

{"sheet":"BSeptembre","index":34,"n_rows":56,"n_cols":66,"rows_kept":56,"cut":false,"hidden":false,"merged":[[7,37,7,38],[6,27,7,27],[6,28,7,28],[6,30,7,30],[6,31,7,31],[6,32,7,32],[7,34,7,35]]}
["Septembre"]
[null,null,{"$f":"LEFT(OFFSET(INDIRECT(\"H\"&$A$1&\"!B8:AF8\"),MATCH($A9,INDIRECT(\"H\"&$A$1&\"!A9:A56\"),0),),5)","v":""}]
[null,null,{"$f":"RIGHT(OFFSET(INDIRECT(\"H\"&$A$1&\"!B8:AF8\"),MATCH($A3,INDIRECT(\"H\"&$A$1&\"!A9:A56\"),0),),5)","v":""}]
[]
[]
["Jours",{"$f":"Données!$E3","v":0.31597222222222227},{"$f":"Données!$E4","v":0.10763888888888884},{"$f":"Données!$E5","v":0.31249999999999994},{"$f":"Données!$E6","v":0.32291666666666669},{"$f":"Données!$E7","v":8.3333333333333315E-2},{"$f":"Données!$E8","v":0.47916666666666669},{"$f":"Données!$E9","v":0.3125},{"$f":"Données!$E10","v":0.48958333333333337},{"$f":"Données!$E11","v":0.47916666666666669},{"$f":"Données!$E12","v":0.51041666666666674},{"$f":"Données!$E13","v":0.51041666666666674},{"$f":"Données!$E14","v":0.44791666666666663},{"$f":"Données!$E15","v":0.49999999999999989},{"$f":"Données!$E16","v":0.49999999999999989},{"$f":"Données!$E17","v":0.5},{"$f":"Données!$E18","v":0.29166666666666669},{"$f":"Données!$E19","v":0.3125},{"$f":"Données!$E20","v":0.3125},{"$f":"Données!$E21","v":0.3125},{"$f":"Données!$E22","v":0.3125},{"$f":"Données!$E23","v":0.3125},{"$f":"Données!$E24","v":0},{"$f":"Données!$E25","v":0},{"$f":"Données!$E26","v":0},{"$f":"Données!$E27","v":0.33333333333333331},{"$f":"Données!$E28","v":0}]
[null,{"$f":"Données!$A3","v":"M"},{"$f":"Données!$A4","v":"MG"},{"$f":"Données!$A5","v":"J"},{"$f":"Données!$A6","v":"J+"},{"$f":"Données!$A7","v":"R"},{"$f":"Données!$A8","v":"RS"},{"$f":"Données!$A9","v":"S"},{"$f":"Données!$A10","v":"W"},{"$f":"Données!$A11","v":"W+"},{"$f":"Données!$A12","v":"WD"},{"$f":"Données!$A13","v":"WF"},{"$f":"Données!$A14","v":"N"},{"$f":"Données!$A15","v":"N+"},{"$f":"Données!$A16","v":"NS"},{"$f":"Données!$A17","v":"T"},{"$f":"Données!$A18","v":"F"},{"$f":"Données!$A19","v":"SYN"},{"$f":"Données!$A20","v":"AT"},{"$f":"Données!$A21","v":"AM"},{"$f":"Données!$A22","v":"EM"},{"$f":"Données!$A23","v":"CE"},{"$f":"Données!$A24","v":"CA"},{"$f":"Données!$A25","v":"CA16"},{"$f":"Données!$A26","v":"REC"},{"$f":"Données!$A27","v":"PL"},{"$f":"Données!$A28","v":"D"},"Heures\nSupplémentaires \navant 21 h","Heures\nSupplémentaires \naprès 21 h",null,"Heures dimanche","Heures de nuit dimanches","Heures apres 21 h"]
["Equipe de jour",{"$f":"IF(ISBLANK(Données!$C3),TEXT(Données!$B3,\"hh:mm\"),TEXT(Données!$B3,\"hh:mm\")&\" : \"&TEXT(Données!$C3,\"hh:mm\"))","v":"07:00 : 14:35"},{"$f":"IF(ISBLANK(Données!$C4),TEXT(Données!$B4,\"hh:mm\"),TEXT(Données!$B4,\"hh:mm\")&\" : \"&TEXT(Données!$C4,\"hh:mm\"))","v":"23:00 : 01:35"},{"$f":"IF(ISBLANK(Données!$C5),TEXT(Données!$B5,\"hh:mm\"),TEXT(Données!$B5,\"hh:mm\")&\" : \"&TEXT(Données!$C5,\"hh:mm\"))","v":"10:00 : 17:30"},{"$f":"IF(ISBLANK(Données!$C6),TEXT(Données!$B6,\"hh:mm\"),TEXT(Données!$B6,\"hh:mm\")&\" : \"&TEXT(Données!$C6,\"hh:mm\"))","v":"11:30 : 19:15"},{"$f":"IF(ISBLANK(Données!$C7),TEXT(Données!$B7,\"hh:mm\"),TEXT(Données!$B7,\"hh:mm\")&\" : \"&TEXT(Données!$C7,\"hh:mm\"))","v":"10:00 : 12:00"},{"$f":"IF(ISBLANK(Données!$C8),TEXT(Données!$B8,\"hh:mm\"),TEXT(Données!$B8,\"hh:mm\")&\" : \"&TEXT(Données!$C8,\"hh:mm\"))","v":"10:00 : 21:30"},{"$f":"IF(ISBLANK(Données!$C9),TEXT(Données!$B9,\"hh:mm\"),TEXT(Données!$B9,\"hh:mm\")&\" : \"&TEXT(Données!$C9,\"hh:mm\"))","v":"14:00 : 21:30"},{"$f":"IF(ISBLANK(Données!$C10),TEXT(Données!$B10,\"hh:mm\"),TEXT(Données!$B10,\"hh:mm\")&\" : \"&TEXT(Données!$C10,\"hh:mm\"))","v":"07:30 : 19:15"},{"$f":"IF(ISBLANK(Données!$C11),TEXT(Données!$B11,\"hh:mm\"),TEXT(Données!$B11,\"hh:mm\")&\" : \"&TEXT(Données!$C11,\"hh:mm\"))","v":"10:00 : 21:30"},{"$f":"IF(ISBLANK(Données!$C12),TEXT(Données!$B12,\"hh:mm\"),TEXT(Données!$B12,\"hh:mm\")&\" : \"&TEXT(Données!$C12,\"hh:mm\"))","v":"07:00 : 19:15"},{"$f":"IF(ISBLANK(Données!$C13),TEXT(Données!$B13,\"hh:mm\"),TEXT(Données!$B13,\"hh:mm\")&\" : \"&TEXT(Données!$C13,\"hh:mm\"))","v":"07:00 : 19:15"},{"$f":"IF(ISBLANK(Données!$C14),TEXT(Données!$B14,\"hh:mm\"),TEXT(Données!$B14,\"hh:mm\")&\" : \"&TEXT(Données!$C14,\"hh:mm\"))","v":"20:30 : 07:15"},{"$f":"IF(ISBLANK(Données!$C15),TEXT(Données!$B15,\"hh:mm\"),TEXT(Données!$B15,\"hh:mm\")&\" : \"&TEXT(Données!$C15,\"hh:mm\"))","v":"19:15 : 07:15"},{"$f":"IF(ISBLANK(Données!$C16),TEXT(Données!$B16,\"hh:mm\"),TEXT(Données!$B16,\"hh:mm\")&\" : \"&TEXT(Données!$C16,\"hh:mm\"))","v":"19:15 : 07:15"},{"$f":"IF(ISBLANK(Données!$C17),TEXT(Données!$B17,\"hh:mm\"),TEXT(Données!$B17,\"hh:mm\")&\" : \"&TEXT(Données!$C17,\"hh:mm\"))","v":"T"},{"$f":"IF(ISBLANK(Données!$C18),TEXT(Données!$B18,\"hh:mm\"),TEXT(Données!$B18,\"hh:mm\")&\" : \"&TEXT(Données!$C18,\"hh:mm\"))","v":"F"},{"$f":"IF(ISBLANK(Données!$C19),TEXT(Données!$B19,\"hh:mm\"),TEXT(Données!$B19,\"hh:mm\")&\" : \"&TEXT(Données!$C19,\"hh:mm\"))","v":"Syn"},{"$f":"IF(ISBLANK(Données!$C20),TEXT(Données!$B20,\"hh:mm\"),TEXT(Données!$B20,\"hh:mm\")&\" : \"&TEXT(Données!$C20,\"hh:mm\"))","v":"AT"},{"$f":"IF(ISBLANK(Données!$C21),TEXT(Données!$B21,\"hh:mm\"),TEXT(Données!$B21,\"hh:mm\")&\" : \"&TEXT(Données!$C21,\"hh:mm\"))","v":"AM"},{"$f":"IF(ISBLANK(Données!$C22),TEXT(Données!$B22,\"hh:mm\"),TEXT(Données!$B22,\"hh:mm\")&\" : \"&TEXT(Données!$C22,\"hh:mm\"))","v":"EM"},{"$f":"IF(ISBLANK(Données!$C23),TEXT(Données!$B23,\"hh:mm\"),TEXT(Données!$B23,\"hh:mm\")&\" : \"&TEXT(Données!$C23,\"hh:mm\"))","v":"CE"},{"$f":"IF(ISBLANK(Données!$C24),TEXT(Données!$B24,\"hh:mm\"),TEXT(Données!$B24,\"hh:mm\")&\" : \"&TEXT(Données!$C24,\"hh:mm\"))","v":"CA"},{"$f":"IF(ISBLANK(Données!$C25),TEXT(Données!$B25,\"hh:mm\"),TEXT(Données!$B25,\"hh:mm\")&\" : \"&TEXT(Données!$C25,\"hh:mm\"))","v":"CA16"},{"$f":"IF(ISBLANK(Données!$C26),TEXT(Données!$B26,\"hh:mm\"),TEXT(Données!$B26,\"hh:mm\")&\" : \"&TEXT(Données!$C26,\"hh:mm\"))","v":"REC"},{"$f":"IF(ISBLANK(Données!$C27),TEXT(Données!$B27,\"hh:mm\"),TEXT(Données!$B27,\"hh:mm\")&\" : \"&TEXT(Données!$C27,\"hh:mm\"))","v":"PL"},{"$f":"IF(ISBLANK(Données!$C28),TEXT(Données!$B28,\"hh:mm\"),TEXT(Données!$B28,\"hh:mm\")&\" : \"&TEXT(Données!$C28,\"hh:mm\"))","v":"D"},null,null,null,null,null,null,null,"Total ",null,null,"CA",null,null,"Jour travaillé"]
[{"$f":"Données!$H6","v":"A"},{"$f":"IF(SUMPRODUCT((INDIRECT(\"'\"&$A$1&\"'!$A$7:$A$56\")=$A9)*(INDIRECT(\"'\"&$A$1&\"'!$B$7:$AF$56\")=B$7))=0,\"\",SUMPRODUCT((INDIRECT(\"'\"&$A$1&\"'!$A$7:$A$56\")=$A9)*(INDIRECT(\"'\"&$A$1&\"'!$B$7:$AF$56\")=B$7)))","v":""},{"$f":"IF(SUMPRODUCT((INDIRECT(\"'\"&$A$1&\"'!$A$7:$A$56\")=$A9)*(INDIRECT(\"'\"&$A$1&\"'!$B$7:$AF$56\")=C$7))=0,\"\",SUMPRODUCT((INDIRECT(\"'\"&$A$1&\"'!$A$7:$A$56\")=$A9)*(INDIRECT(\"'\"&$A$1&\"'!$B$7:$AF$56\")=C$7)))","v":""},"","","","","","","","","","","","","","","","","","","","","","","","",{"$f":"VLOOKUP($A9,INDIRECT(\"'\"&$A$1&\"'!$A$7:$AR$56\"),35,0)","v":"00:00:00"},{"$f":"VLOOKUP($A9,INDIRECT(\"'\"&$A$1&\"'!$A$7:$AR$56\"),36,0)","v":"00:00:00"},null,{"$f":"SUMPRODUCT(ISNUMBER(MATCH(INDIRECT(\"H\"&$A$1&\"!B2:AF2\"),DimFe,0))*IFERROR(IF(\"19:00\">=IFERROR(Hgauche,0),IFERROR(hdroite-Hgauche,0),IF(durée1>0,durée1,\"00:00\")),0))+SUMPRODUCT(ISNUMBER(MATCH(INDIRECT(\"H\"&$A$1&\"!B2:AF2\"),moindimfe,0))*IFERROR(IF(\"19:00\"<=IFERROR(Hgauche,0),IF(durée4<0,0,durée4),\"00:00\"),0))","v":0},{"$f":"SUMPRODUCT(ISNUMBER(MATCH(INDIRECT(\"H\"&$A$1&\"!B2:AF2\"),DimFe,0))*IFERROR(IF(\"19:00\"<=IFERROR(Hgauche,0),IF(durée6<0,0,durée6),IF(durée<0,0,durée)),0))+SUMPRODUCT(ISNUMBER(MATCH(INDIRECT(\"H\"&$A$1&\"!B2:AF2\"),moindimfe,0))*IFERROR(IF(\"19:00\"<=IFERROR(Hgauche,0),IF(durée2<0,0,durée2),\"00:00\"),0))","v":0},{"$f":"SUM(SUMPRODUCT(1*IFERROR(IF(\"19:00\"<=IFERROR(Hgauche,0),IF(durée2<0,0,durée2),\"00:00\"),0)),SUMPRODUCT(1*IFERROR(IF(\"19:00\"<=IFERROR(Hgauche,0),IF(durée6<0,0,durée6),\"00:00\"),0)),SUMPRODUCT(1*IFERROR(IF(\"21:00\"<=IFERROR(Hdroitesimple,0),IF(durée<0,0,durée),\"00:00\"),0)))-durée5","v":0},null,{"$f":"bilanh","v":0},{"$f":"VLOOKUP($A9,Bilan!$A$9:$AQ57,37,FALSE)","v":59.5},null,{"$f":"Bilan!AN9","v":65},65,null,{"$f":"Jourtravaillé","v":0}]
[{"$f":"Données!$H7","v":0},{"$f":"IF(SUMPRODUCT((INDIRECT(\"'\"&$A$1&\"'!$A$7:$A$56\")=$A10)*(INDIRECT(\"'\"&$A$1&\"'!$B$7:$AF$56\")=B$7))=0,\"\",SUMPRODUCT((INDIRECT(\"'\"&$A$1&\"'!$A$7:$A$56\")=$A10)*(INDIRECT(\"'\"&$A$1&\"'!$B$7:$AF$56\")=B$7)))","v":""},"","","","","","","","","","","","","","","","","","","","","","","","","",{"$f":"VLOOKUP($A10,INDIRECT(\"'\"&$A$1&\"'!$A$7:$AR$56\"),35,0)","v":"00:00:00"},{"$f":"VLOOKUP($A10,INDIRECT(\"'\"&$A$1&\"'!$A$7:$AR$56\"),36,0)","v":"00:00:00"},null,{"$f":"SUMPRODUCT(ISNUMBER(MATCH(INDIRECT(\"H\"&$A$1&\"!B2:AF2\"),DimFe,0))*IFERROR(IF(\"19:00\">=IFERROR(Hgauche,0),IFERROR(hdroite-Hgauche,0),IF(durée1>0,durée1,\"00:00\")),0))+SUMPRODUCT(ISNUMBER(MATCH(INDIRECT(\"H\"&$A$1&\"!B2:AF2\"),moindimfe,0))*IFERROR(IF(\"19:00\"<=IFERROR(Hgauche,0),IF(durée4<0,0,durée4),\"00:00\"),0))","v":0},{"$f":"SUMPRODUCT(ISNUMBER(MATCH(INDIRECT(\"H\"&$A$1&\"!B2:AF2\"),DimFe,0))*IFERROR(IF(\"19:00\"<=IFERROR(Hgauche,0),IF(durée6<0,0,durée6),IF(durée<0,0,durée)),0))+SUMPRODUCT(ISNUMBER(MATCH(INDIRECT(\"H\"&$A$1&\"!B2:AF2\"),moindimfe,0))*IFERROR(IF(\"19:00\"<=IFERROR(Hgauche,0),IF(durée2<0,0,durée2),\"00:00\"),0))","v":0},{"$f":"SUM(SUMPRODUCT(1*IFERROR(IF(\"19:00\"<=IFERROR(Hgauche,0),IF(durée2<0,0,durée2),\"00:00\"),0)),SUMPRODUCT(1*IFERROR(IF(\"19:00\"<=IFERROR(Hgauche,0),IF(durée6<0,0,durée6),\"00:00\"),0)),SUMPRODUCT(1*IFERROR(IF(\"21:00\"<=IFERROR(Hdroitesimple,0),IF(durée<0,0,durée),\"00:00\"),0)))-durée5","v":0},null,0,{"$f":"VLOOKUP($A10,Bilan!$A$9:$AQ58,37,FALSE)","v":59.5},null,{"$f":"Bilan!AN10","v":65},65,null,0]
[{"$f":"Données!$H8","v":0},"","","","","","","","","","","","","","","","","","","","","","","","","","","00:00:00","00:00:00",null,{"$f":"SUMPRODUCT(ISNUMBER(MATCH(INDIRECT(\"H\"&$A$1&\"!B2:AF2\"),DimFe,0))*IFERROR(IF(\"19:00\">=IFERROR(Hgauche,0),IFERROR(hdroite-Hgauche,0),IF(durée1>0,durée1,\"00:00\")),0))+SUMPRODUCT(ISNUMBER(MATCH(INDIRECT(\"H\"&$A$1&\"!B2:AF2\"),moindimfe,0))*IFERROR(IF(\"19:00\"<=IFERROR(Hgauche,0),IF(durée4<0,0,durée4),\"00:00\"),0))","v":0},{"$f":"SUMPRODUCT(ISNUMBER(MATCH(INDIRECT(\"H\"&$A$1&\"!B2:AF2\"),DimFe,0))*IFERROR(IF(\"19:00\"<=IFERROR(Hgauche,0),IF(durée6<0,0,durée6),IF(durée<0,0,durée)),0))+SUMPRODUCT(ISNUMBER(MATCH(INDIRECT(\"H\"&$A$1&\"!B2:AF2\"),moindimfe,0))*IFERROR(IF(\"19:00\"<=IFERROR(Hgauche,0),IF(durée2<0,0,durée2),\"00:00\"),0))","v":0},{"$f":"SUM(SUMPRODUCT(1*IFERROR(IF(\"19:00\"<=IFERROR(Hgauche,0),IF(durée2<0,0,durée2),\"00:00\"),0)),SUMPRODUCT(1*IFERROR(IF(\"19:00\"<=IFERROR(Hgauche,0),IF(durée6<0,0,durée6),\"00:00\"),0)),SUMPRODUCT(1*IFERROR(IF(\"21:00\"<=IFERROR(Hdroitesimple,0),IF(durée<0,0,durée),\"00:00\"),0)))-durée5","v":0},null,0,{"$f":"VLOOKUP($A11,Bilan!$A$9:$AQ59,37,FALSE)","v":59.5},null,{"$f":"Bilan!AN11","v":65},65,null,0]
[{"$f":"Données!$H9","v":0},"","","","","","","","","","","","","","","","","","","","","","","","","","","00:00:00","00:00:00",null,{"$f":"SUMPRODUCT(ISNUMBER(MATCH(INDIRECT(\"H\"&$A$1&\"!B2:AF2\"),DimFe,0))*IFERROR(IF(\"19:00\">=IFERROR(Hgauche,0),IFERROR(hdroite-Hgauche,0),IF(durée1>0,durée1,\"00:00\")),0))+SUMPRODUCT(ISNUMBER(MATCH(INDIRECT(\"H\"&$A$1&\"!B2:AF2\"),moindimfe,0))*IFERROR(IF(\"19:00\"<=IFERROR(Hgauche,0),IF(durée4<0,0,durée4),\"00:00\"),0))","v":0},{"$f":"SUMPRODUCT(ISNUMBER(MATCH(INDIRECT(\"H\"&$A$1&\"!B2:AF2\"),DimFe,0))*IFERROR(IF(\"19:00\"<=IFERROR(Hgauche,0),IF(durée6<0,0,durée6),IF(durée<0,0,durée)),0))+SUMPRODUCT(ISNUMBER(MATCH(INDIRECT(\"H\"&$A$1&\"!B2:AF2\"),moindimfe,0))*IFERROR(IF(\"19:00\"<=IFERROR(Hgauche,0),IF(durée2<0,0,durée2),\"00:00\"),0))","v":0},{"$f":"SUM(SUMPRODUCT(1*IFERROR(IF(\"19:00\"<=IFERROR(Hgauche,0),IF(durée2<0,0,durée2),\"00:00\"),0)),SUMPRODUCT(1*IFERROR(IF(\"19:00\"<=IFERROR(Hgauche,0),IF(durée6<0,0,durée6),\"00:00\"),0)),SUMPRODUCT(1*IFERROR(IF(\"21:00\"<=IFERROR(Hdroitesimple,0),IF(durée<0,0,durée),\"00:00\"),0)))-durée5","v":0},null,0,{"$f":"VLOOKUP($A12,Bilan!$A$9:$AQ60,37,FALSE)","v":59.5},null,{"$f":"Bilan!AN12","v":65},65,null,0]
[{"$f":"Données!$H10","v":0},"","","","","","","","","","","","","","","","","","","","","","","","","","","00:00:00","00:00:00",null,{"$f":"SUMPRODUCT(ISNUMBER(MATCH(INDIRECT(\"H\"&$A$1&\"!B2:AF2\"),DimFe,0))*IFERROR(IF(\"19:00\">=IFERROR(Hgauche,0),IFERROR(hdroite-Hgauche,0),IF(durée1>0,durée1,\"00:00\")),0))+SUMPRODUCT(ISNUMBER(MATCH(INDIRECT(\"H\"&$A$1&\"!B2:AF2\"),moindimfe,0))*IFERROR(IF(\"19:00\"<=IFERROR(Hgauche,0),IF(durée4<0,0,durée4),\"00:00\"),0))","v":0},{"$f":"SUMPRODUCT(ISNUMBER(MATCH(INDIRECT(\"H\"&$A$1&\"!B2:AF2\"),DimFe,0))*IFERROR(IF(\"19:00\"<=IFERROR(Hgauche,0),IF(durée6<0,0,durée6),IF(durée<0,0,durée)),0))+SUMPRODUCT(ISNUMBER(MATCH(INDIRECT(\"H\"&$A$1&\"!B2:AF2\"),moindimfe,0))*IFERROR(IF(\"19:00\"<=IFERROR(Hgauche,0),IF(durée2<0,0,durée2),\"00:00\"),0))","v":0},{"$f":"SUM(SUMPRODUCT(1*IFERROR(IF(\"19:00\"<=IFERROR(Hgauche,0),IF(durée2<0,0,durée2),\"00:00\"),0)),SUMPRODUCT(1*IFERROR(IF(\"19:00\"<=IFERROR(Hgauche,0),IF(durée6<0,0,durée6),\"00:00\"),0)),SUMPRODUCT(1*IFERROR(IF(\"21:00\"<=IFERROR(Hdroitesimple,0),IF(durée<0,0,durée),\"00:00\"),0)))-durée5","v":0},null,0,{"$f":"VLOOKUP($A13,Bilan!$A$9:$AQ61,37,FALSE)","v":59.5},null,{"$f":"Bilan!AN13","v":65},65,null,0]
[{"$f":"Données!$H11","v":0},"","","","","","","","","","","","","","","","","","","","","","","","","","","00:00:00","00:00:00",null,{"$f":"SUMPRODUCT(ISNUMBER(MATCH(INDIRECT(\"H\"&$A$1&\"!B2:AF2\"),DimFe,0))*IFERROR(IF(\"19:00\">=IFERROR(Hgauche,0),IFERROR(hdroite-Hgauche,0),IF(durée1>0,durée1,\"00:00\")),0))+SUMPRODUCT(ISNUMBER(MATCH(INDIRECT(\"H\"&$A$1&\"!B2:AF2\"),moindimfe,0))*IFERROR(IF(\"19:00\"<=IFERROR(Hgauche,0),IF(durée4<0,0,durée4),\"00:00\"),0))","v":0},{"$f":"SUMPRODUCT(ISNUMBER(MATCH(INDIRECT(\"H\"&$A$1&\"!B2:AF2\"),DimFe,0))*IFERROR(IF(\"19:00\"<=IFERROR(Hgauche,0),IF(durée6<0,0,durée6),IF(durée<0,0,durée)),0))+SUMPRODUCT(ISNUMBER(MATCH(INDIRECT(\"H\"&$A$1&\"!B2:AF2\"),moindimfe,0))*IFERROR(IF(\"19:00\"<=IFERROR(Hgauche,0),IF(durée2<0,0,durée2),\"00:00\"),0))","v":0},{"$f":"SUM(SUMPRODUCT(1*IFERROR(IF(\"19:00\"<=IFERROR(Hgauche,0),IF(durée2<0,0,durée2),\"00:00\"),0)),SUMPRODUCT(1*IFERROR(IF(\"19:00\"<=IFERROR(Hgauche,0),IF(durée6<0,0,durée6),\"00:00\"),0)),SUMPRODUCT(1*IFERROR(IF(\"21:00\"<=IFERROR(Hdroitesimple,0),IF(durée<0,0,durée),\"00:00\"),0)))-durée5","v":0},null,0,{"$f":"VLOOKUP($A14,Bilan!$A$9:$AQ62,37,FALSE)","v":59.5},null,{"$f":"Bilan!AN14","v":65},65,null,0]
[{"$f":"Données!$H12","v":0},"","","","","","","","","","","","","","","","","","","","","","","","","","","00:00:00","00:00:00",null,{"$f":"SUMPRODUCT(ISNUMBER(MATCH(INDIRECT(\"H\"&$A$1&\"!B2:AF2\"),DimFe,0))*IFERROR(IF(\"19:00\">=IFERROR(Hgauche,0),IFERROR(hdroite-Hgauche,0),IF(durée1>0,durée1,\"00:00\")),0))+SUMPRODUCT(ISNUMBER(MATCH(INDIRECT(\"H\"&$A$1&\"!B2:AF2\"),moindimfe,0))*IFERROR(IF(\"19:00\"<=IFERROR(Hgauche,0),IF(durée4<0,0,durée4),\"00:00\"),0))","v":0},{"$f":"SUMPRODUCT(ISNUMBER(MATCH(INDIRECT(\"H\"&$A$1&\"!B2:AF2\"),DimFe,0))*IFERROR(IF(\"19:00\"<=IFERROR(Hgauche,0),IF(durée6<0,0,durée6),IF(durée<0,0,durée)),0))+SUMPRODUCT(ISNUMBER(MATCH(INDIRECT(\"H\"&$A$1&\"!B2:AF2\"),moindimfe,0))*IFERROR(IF(\"19:00\"<=IFERROR(Hgauche,0),IF(durée2<0,0,durée2),\"00:00\"),0))","v":0},{"$f":"SUM(SUMPRODUCT(1*IFERROR(IF(\"19:00\"<=IFERROR(Hgauche,0),IF(durée2<0,0,durée2),\"00:00\"),0)),SUMPRODUCT(1*IFERROR(IF(\"19:00\"<=IFERROR(Hgauche,0),IF(durée6<0,0,durée6),\"00:00\"),0)),SUMPRODUCT(1*IFERROR(IF(\"21:00\"<=IFERROR(Hdroitesimple,0),IF(durée<0,0,durée),\"00:00\"),0)))-durée5","v":0},null,0,{"$f":"VLOOKUP($A15,Bilan!$A$9:$AQ63,37,FALSE)","v":59.5},null,{"$f":"Bilan!AN15","v":65},65,null,0]
[{"$f":"Données!$H13","v":0},"","","","","","","","","","","","","","","","","","","","","","","","","","","00:00:00","00:00:00",null,{"$f":"SUMPRODUCT(ISNUMBER(MATCH(INDIRECT(\"H\"&$A$1&\"!B2:AF2\"),DimFe,0))*IFERROR(IF(\"19:00\">=IFERROR(Hgauche,0),IFERROR(hdroite-Hgauche,0),IF(durée1>0,durée1,\"00:00\")),0))+SUMPRODUCT(ISNUMBER(MATCH(INDIRECT(\"H\"&$A$1&\"!B2:AF2\"),moindimfe,0))*IFERROR(IF(\"19:00\"<=IFERROR(Hgauche,0),IF(durée4<0,0,durée4),\"00:00\"),0))","v":0},{"$f":"SUMPRODUCT(ISNUMBER(MATCH(INDIRECT(\"H\"&$A$1&\"!B2:AF2\"),DimFe,0))*IFERROR(IF(\"19:00\"<=IFERROR(Hgauche,0),IF(durée6<0,0,durée6),IF(durée<0,0,durée)),0))+SUMPRODUCT(ISNUMBER(MATCH(INDIRECT(\"H\"&$A$1&\"!B2:AF2\"),moindimfe,0))*IFERROR(IF(\"19:00\"<=IFERROR(Hgauche,0),IF(durée2<0,0,durée2),\"00:00\"),0))","v":0},{"$f":"SUM(SUMPRODUCT(1*IFERROR(IF(\"19:00\"<=IFERROR(Hgauche,0),IF(durée2<0,0,durée2),\"00:00\"),0)),SUMPRODUCT(1*IFERROR(IF(\"19:00\"<=IFERROR(Hgauche,0),IF(durée6<0,0,durée6),\"00:00\"),0)),SUMPRODUCT(1*IFERROR(IF(\"21:00\"<=IFERROR(Hdroitesimple,0),IF(durée<0,0,durée),\"00:00\"),0)))-durée5","v":0},null,0,{"$f":"VLOOKUP($A16,Bilan!$A$9:$AQ64,37,FALSE)","v":59.5},null,{"$f":"Bilan!AN16","v":65},65,null,0]
[{"$f":"Données!$H14","v":0},"","","","","","","","","","","","","","","","","","","","","","","","","","","00:00:00","00:00:00",null,{"$f":"SUMPRODUCT(ISNUMBER(MATCH(INDIRECT(\"H\"&$A$1&\"!B2:AF2\"),DimFe,0))*IFERROR(IF(\"19:00\">=IFERROR(Hgauche,0),IFERROR(hdroite-Hgauche,0),IF(durée1>0,durée1,\"00:00\")),0))+SUMPRODUCT(ISNUMBER(MATCH(INDIRECT(\"H\"&$A$1&\"!B2:AF2\"),moindimfe,0))*IFERROR(IF(\"19:00\"<=IFERROR(Hgauche,0),IF(durée4<0,0,durée4),\"00:00\"),0))","v":0},{"$f":"SUMPRODUCT(ISNUMBER(MATCH(INDIRECT(\"H\"&$A$1&\"!B2:AF2\"),DimFe,0))*IFERROR(IF(\"19:00\"<=IFERROR(Hgauche,0),IF(durée6<0,0,durée6),IF(durée<0,0,durée)),0))+SUMPRODUCT(ISNUMBER(MATCH(INDIRECT(\"H\"&$A$1&\"!B2:AF2\"),moindimfe,0))*IFERROR(IF(\"19:00\"<=IFERROR(Hgauche,0),IF(durée2<0,0,durée2),\"00:00\"),0))","v":0},{"$f":"SUM(SUMPRODUCT(1*IFERROR(IF(\"19:00\"<=IFERROR(Hgauche,0),IF(durée2<0,0,durée2),\"00:00\"),0)),SUMPRODUCT(1*IFERROR(IF(\"19:00\"<=IFERROR(Hgauche,0),IF(durée6<0,0,durée6),\"00:00\"),0)),SUMPRODUCT(1*IFERROR(IF(\"21:00\"<=IFERROR(Hdroitesimple,0),IF(durée<0,0,durée),\"00:00\"),0)))-durée5","v":0},null,0,{"$f":"VLOOKUP($A17,Bilan!$A$9:$AQ65,37,FALSE)","v":59.5},null,{"$f":"Bilan!AN17","v":65},65,null,0]
[{"$f":"Données!$H15","v":0},"","","","","","","","","","","","","","","","","","","","","","","","","","","00:00:00","00:00:00",null,{"$f":"SUMPRODUCT(ISNUMBER(MATCH(INDIRECT(\"H\"&$A$1&\"!B2:AF2\"),DimFe,0))*IFERROR(IF(\"19:00\">=IFERROR(Hgauche,0),IFERROR(hdroite-Hgauche,0),IF(durée1>0,durée1,\"00:00\")),0))+SUMPRODUCT(ISNUMBER(MATCH(INDIRECT(\"H\"&$A$1&\"!B2:AF2\"),moindimfe,0))*IFERROR(IF(\"19:00\"<=IFERROR(Hgauche,0),IF(durée4<0,0,durée4),\"00:00\"),0))","v":0},{"$f":"SUMPRODUCT(ISNUMBER(MATCH(INDIRECT(\"H\"&$A$1&\"!B2:AF2\"),DimFe,0))*IFERROR(IF(\"19:00\"<=IFERROR(Hgauche,0),IF(durée6<0,0,durée6),IF(durée<0,0,durée)),0))+SUMPRODUCT(ISNUMBER(MATCH(INDIRECT(\"H\"&$A$1&\"!B2:AF2\"),moindimfe,0))*IFERROR(IF(\"19:00\"<=IFERROR(Hgauche,0),IF(durée2<0,0,durée2),\"00:00\"),0))","v":0},{"$f":"SUM(SUMPRODUCT(1*IFERROR(IF(\"19:00\"<=IFERROR(Hgauche,0),IF(durée2<0,0,durée2),\"00:00\"),0)),SUMPRODUCT(1*IFERROR(IF(\"19:00\"<=IFERROR(Hgauche,0),IF(durée6<0,0,durée6),\"00:00\"),0)),SUMPRODUCT(1*IFERROR(IF(\"21:00\"<=IFERROR(Hdroitesimple,0),IF(durée<0,0,durée),\"00:00\"),0)))-durée5","v":0},null,0,{"$f":"VLOOKUP($A18,Bilan!$A$9:$AQ66,37,FALSE)","v":59.5},null,{"$f":"Bilan!AN18","v":65},65,null,0]
[{"$f":"Données!$H16","v":0},{"$f":"SUMPRODUCT((INDIRECT(\"'\"&$A$1&\"'!$A$7:$A$56\")=$A19)*(INDIRECT(\"'\"&$A$1&\"'!$B$7:$AF$56\")=B$7))","v":0},0,0,0,0,0,0,0,0,0,0,0,0,0,0,0,{"$f":"SUMPRODUCT((INDIRECT(\"'\"&$A$1&\"'!$A$7:$A$56\")=$A19)*(INDIRECT(\"'\"&$A$1&\"'!$B$7:$AF$56\")=R$7))","v":0},0,0,0,0,0,0,0,0,0,{"$f":"VLOOKUP($A19,INDIRECT(\"'H\"&$A$1&\"'!$A$7:$AR$56\"),35,0)","v":"00:00:00"},{"$f":"VLOOKUP($A19,INDIRECT(\"'H\"&$A$1&\"'!$A$7:$AR$56\"),38,0)","v":"00:00:00"},null,{"$f":"SUMPRODUCT(ISNUMBER(MATCH(INDIRECT(\"H\"&$A$1&\"!B2:AF2\"),DimFe,0))*IFERROR(IF(\"19:00\">=IFERROR(Hgauche,0),IFERROR(hdroite-Hgauche,0),IF(durée1>0,durée1,\"00:00\")),0))+SUMPRODUCT(ISNUMBER(MATCH(INDIRECT(\"H\"&$A$1&\"!B2:AF2\"),moindimfe,0))*IFERROR(IF(\"19:00\"<=IFERROR(Hgauche,0),IF(durée4<0,0,durée4),\"00:00\"),0))","v":0},{"$f":"SUMPRODUCT(ISNUMBER(MATCH(INDIRECT(\"H\"&$A$1&\"!B2:AF2\"),DimFe,0))*IFERROR(IF(\"19:00\"<=IFERROR(Hgauche,0),IF(durée6<0,0,durée6),IF(durée<0,0,durée)),0))+SUMPRODUCT(ISNUMBER(MATCH(INDIRECT(\"H\"&$A$1&\"!B2:AF2\"),moindimfe,0))*IFERROR(IF(\"19:00\"<=IFERROR(Hgauche,0),IF(durée2<0,0,durée2),\"00:00\"),0))","v":0},{"$f":"SUMPRODUCT(1*IF(durée<0,0,durée))+SUMPRODUCT(1*IFERROR(IF(\"19:00\"<=IFERROR(Hgauche,0),IF(durée2<0,0,durée2),\"00:00\"),0))-durée5","v":0},null,{"$f":"(AB19/24)+SUMPRODUCT(($B$6:$AA$6)*(B19:AA19))","v":0},{"$f":"VLOOKUP($A19,Bilan!A19:AI67,35,FALSE)","v":0},null,{"$f":"Bilan!AN19","v":{"$error":"#VALUE!"}},65,null,{"$f":"SUM(B19:R19)","v":0},null,null,null,null,null,null,null,null,null,null,null,null,null,null,null,null,null,null,null,null,null,null,null,{"$f":"Données!$A14","v":"N"},{"$f":"Données!$B14","v":0.85416666666666663}]
[{"$f":"Données!$H17","v":0},0,0,0,0,0,0,0,0,0,0,0,0,0,0,0,0,0,0,0,0,0,0,0,0,0,0,"00:00:00","00:00:00",null,{"$f":"SUMPRODUCT(ISNUMBER(MATCH(INDIRECT(\"H\"&$A$1&\"!B2:AF2\"),DimFe,0))*IFERROR(IF(\"19:00\">=IFERROR(Hgauche,0),IFERROR(hdroite-Hgauche,0),IF(durée1>0,durée1,\"00:00\")),0))+SUMPRODUCT(ISNUMBER(MATCH(INDIRECT(\"H\"&$A$1&\"!B2:AF2\"),moindimfe,0))*IFERROR(IF(\"19:00\"<=IFERROR(Hgauche,0),IF(durée4<0,0,durée4),\"00:00\"),0))","v":0},{"$f":"SUMPRODUCT(ISNUMBER(MATCH(INDIRECT(\"H\"&$A$1&\"!B2:AF2\"),DimFe,0))*IFERROR(IF(\"19:00\"<=IFERROR(Hgauche,0),IF(durée6<0,0,durée6),IF(durée<0,0,durée)),0))+SUMPRODUCT(ISNUMBER(MATCH(INDIRECT(\"H\"&$A$1&\"!B2:AF2\"),moindimfe,0))*IFERROR(IF(\"19:00\"<=IFERROR(Hgauche,0),IF(durée2<0,0,durée2),\"00:00\"),0))","v":0},{"$f":"SUMPRODUCT(1*IF(durée<0,0,durée))+SUMPRODUCT(1*IFERROR(IF(\"19:00\"<=IFERROR(Hgauche,0),IF(durée2<0,0,durée2),\"00:00\"),0))-durée5","v":0},null,0,{"$f":"VLOOKUP($A20,Bilan!A20:AI68,35,FALSE)","v":0},null,{"$f":"Bilan!AN20","v":{"$error":"#VALUE!"}},65,null,0,null,null,null,null,null,null,null,null,null,null,null,null,null,null,null,null,null,null,null,null,null,null,null,{"$f":"Données!$A15","v":"N+"},{"$f":"Données!$B15","v":0.80208333333333337}]
[{"$f":"Données!$H18","v":0},0,0,0,0,0,0,0,0,0,0,0,0,0,0,0,0,0,0,0,0,0,0,0,0,0,0,"00:00:00","00:00:00",null,{"$f":"SUMPRODUCT(ISNUMBER(MATCH(INDIRECT(\"H\"&$A$1&\"!B2:AF2\"),DimFe,0))*IFERROR(IF(\"19:00\">=IFERROR(Hgauche,0),IFERROR(hdroite-Hgauche,0),IF(durée1>0,durée1,\"00:00\")),0))+SUMPRODUCT(ISNUMBER(MATCH(INDIRECT(\"H\"&$A$1&\"!B2:AF2\"),moindimfe,0))*IFERROR(IF(\"19:00\"<=IFERROR(Hgauche,0),IF(durée4<0,0,durée4),\"00:00\"),0))","v":0},{"$f":"SUMPRODUCT(ISNUMBER(MATCH(INDIRECT(\"H\"&$A$1&\"!B2:AF2\"),DimFe,0))*IFERROR(IF(\"19:00\"<=IFERROR(Hgauche,0),IF(durée6<0,0,durée6),IF(durée<0,0,durée)),0))+SUMPRODUCT(ISNUMBER(MATCH(INDIRECT(\"H\"&$A$1&\"!B2:AF2\"),moindimfe,0))*IFERROR(IF(\"19:00\"<=IFERROR(Hgauche,0),IF(durée2<0,0,durée2),\"00:00\"),0))","v":0},{"$f":"SUMPRODUCT(1*IF(durée<0,0,durée))+SUMPRODUCT(1*IFERROR(IF(\"19:00\"<=IFERROR(Hgauche,0),IF(durée2<0,0,durée2),\"00:00\"),0))-durée5","v":0},null,0,{"$f":"VLOOKUP($A21,Bilan!A21:AI69,35,FALSE)","v":0},null,{"$f":"Bilan!AN21","v":{"$error":"#VALUE!"}},65,null,0,null,null,null,null,null,null,null,null,null,null,null,null,null,null,null,null,null,null,null,null,null,null,null,{"$f":"Données!$A16","v":"NS"},{"$f":"Données!$B16","v":0.80208333333333337}]
[{"$f":"Données!$H19","v":0},0,0,0,0,0,0,0,0,0,0,0,0,0,0,0,0,0,0,0,0,0,0,0,0,0,0,"00:00:00","00:00:00",null,{"$f":"SUMPRODUCT(ISNUMBER(MATCH(INDIRECT(\"H\"&$A$1&\"!B2:AF2\"),DimFe,0))*IFERROR(IF(\"19:00\">=IFERROR(Hgauche,0),IFERROR(hdroite-Hgauche,0),IF(durée1>0,durée1,\"00:00\")),0))+SUMPRODUCT(ISNUMBER(MATCH(INDIRECT(\"H\"&$A$1&\"!B2:AF2\"),moindimfe,0))*IFERROR(IF(\"19:00\"<=IFERROR(Hgauche,0),IF(durée4<0,0,durée4),\"00:00\"),0))","v":0},{"$f":"SUMPRODUCT(ISNUMBER(MATCH(INDIRECT(\"H\"&$A$1&\"!B2:AF2\"),DimFe,0))*IFERROR(IF(\"19:00\"<=IFERROR(Hgauche,0),IF(durée6<0,0,durée6),IF(durée<0,0,durée)),0))+SUMPRODUCT(ISNUMBER(MATCH(INDIRECT(\"H\"&$A$1&\"!B2:AF2\"),moindimfe,0))*IFERROR(IF(\"19:00\"<=IFERROR(Hgauche,0),IF(durée2<0,0,durée2),\"00:00\"),0))","v":0},{"$f":"SUMPRODUCT(1*IF(durée<0,0,durée))+SUMPRODUCT(1*IFERROR(IF(\"19:00\"<=IFERROR(Hgauche,0),IF(durée2<0,0,durée2),\"00:00\"),0))-durée5","v":0},null,0,{"$f":"VLOOKUP($A22,Bilan!A22:AI70,35,FALSE)","v":0},null,{"$f":"Bilan!AN22","v":{"$error":"#VALUE!"}},65,null,0,null,null,null,null,null,null,null,null,null,null,null,null,null,null,null,null,null,null,null,null,null,null,null,{"$f":"Données!$A17","v":"T"},{"$f":"Données!$B17","v":"T"}]
[{"$f":"Données!$H20","v":0},0,0,0,0,0,0,0,0,0,0,0,0,0,0,0,0,0,0,0,0,0,0,0,0,0,0,"00:00:00","00:00:00",null,{"$f":"SUMPRODUCT(ISNUMBER(MATCH(INDIRECT(\"H\"&$A$1&\"!B2:AF2\"),DimFe,0))*IFERROR(IF(\"19:00\">=IFERROR(Hgauche,0),IFERROR(hdroite-Hgauche,0),IF(durée1>0,durée1,\"00:00\")),0))+SUMPRODUCT(ISNUMBER(MATCH(INDIRECT(\"H\"&$A$1&\"!B2:AF2\"),moindimfe,0))*IFERROR(IF(\"19:00\"<=IFERROR(Hgauche,0),IF(durée4<0,0,durée4),\"00:00\"),0))","v":0},{"$f":"SUMPRODUCT(ISNUMBER(MATCH(INDIRECT(\"H\"&$A$1&\"!B2:AF2\"),DimFe,0))*IFERROR(IF(\"19:00\"<=IFERROR(Hgauche,0),IF(durée6<0,0,durée6),IF(durée<0,0,durée)),0))+SUMPRODUCT(ISNUMBER(MATCH(INDIRECT(\"H\"&$A$1&\"!B2:AF2\"),moindimfe,0))*IFERROR(IF(\"19:00\"<=IFERROR(Hgauche,0),IF(durée2<0,0,durée2),\"00:00\"),0))","v":0},{"$f":"SUMPRODUCT(1*IF(durée<0,0,durée))+SUMPRODUCT(1*IFERROR(IF(\"19:00\"<=IFERROR(Hgauche,0),IF(durée2<0,0,durée2),\"00:00\"),0))-durée5","v":0},null,0,{"$f":"VLOOKUP($A23,Bilan!A23:AI71,35,FALSE)","v":0},null,{"$f":"Bilan!AN23","v":{"$error":"#VALUE!"}},65,null,0,null,null,null,null,null,null,null,null,null,null,null,null,null,null,null,null,null,null,null,null,null,null,null,{"$f":"Données!$A18","v":"F"},{"$f":"Données!$B18","v":"F"}]
[{"$f":"Données!$H21","v":0},0,0,0,0,0,0,0,0,0,0,0,0,0,0,0,0,0,0,0,0,0,0,0,0,0,0,"00:00:00","00:00:00",null,{"$f":"SUMPRODUCT(ISNUMBER(MATCH(INDIRECT(\"H\"&$A$1&\"!B2:AF2\"),DimFe,0))*IFERROR(IF(\"19:00\">=IFERROR(Hgauche,0),IFERROR(hdroite-Hgauche,0),IF(durée1>0,durée1,\"00:00\")),0))+SUMPRODUCT(ISNUMBER(MATCH(INDIRECT(\"H\"&$A$1&\"!B2:AF2\"),moindimfe,0))*IFERROR(IF(\"19:00\"<=IFERROR(Hgauche,0),IF(durée4<0,0,durée4),\"00:00\"),0))","v":0},{"$f":"SUMPRODUCT(ISNUMBER(MATCH(INDIRECT(\"H\"&$A$1&\"!B2:AF2\"),DimFe,0))*IFERROR(IF(\"19:00\"<=IFERROR(Hgauche,0),IF(durée6<0,0,durée6),IF(durée<0,0,durée)),0))+SUMPRODUCT(ISNUMBER(MATCH(INDIRECT(\"H\"&$A$1&\"!B2:AF2\"),moindimfe,0))*IFERROR(IF(\"19:00\"<=IFERROR(Hgauche,0),IF(durée2<0,0,durée2),\"00:00\"),0))","v":0},{"$f":"SUMPRODUCT(1*IF(durée<0,0,durée))+SUMPRODUCT(1*IFERROR(IF(\"19:00\"<=IFERROR(Hgauche,0),IF(durée2<0,0,durée2),\"00:00\"),0))-durée5","v":0},null,0,{"$f":"VLOOKUP($A24,Bilan!A24:AI72,35,FALSE)","v":0},null,{"$f":"Bilan!AN24","v":{"$error":"#VALUE!"}},65,null,0,null,null,null,null,null,null,null,null,null,null,null,null,null,null,null,null,null,null,null,null,null,null,null,{"$f":"Données!$A19","v":"SYN"},{"$f":"Données!$B19","v":"Syn"}]
[{"$f":"Données!$H22","v":"Equipe de nuit"}]
[{"$f":"Données!$H23","v":"K"},{"$f":"IF(SUMPRODUCT((INDIRECT(\"'\"&$A$1&\"'!$A$7:$A$56\")=$A26)*(INDIRECT(\"'\"&$A$1&\"'!$B$7:$AF$56\")=B$7))=0,\"\",SUMPRODUCT((INDIRECT(\"'\"&$A$1&\"'!$A$7:$A$56\")=$A26)*(INDIRECT(\"'\"&$A$1&\"'!$B$7:$AF$56\")=B$7)))","v":""},"","","","","","","","","","","","","","","",{"$f":"IF(SUMPRODUCT((INDIRECT(\"'\"&$A$1&\"'!$A$7:$A$56\")=$A26)*(INDIRECT(\"'\"&$A$1&\"'!$B$7:$AF$56\")=R$7))=0,\"\",SUMPRODUCT((INDIRECT(\"'\"&$A$1&\"'!$A$7:$A$56\")=$A26)*(INDIRECT(\"'\"&$A$1&\"'!$B$7:$AF$56\")=R$7)))","v":""},"","","","","","","","","",{"$f":"VLOOKUP($A26,INDIRECT(\"'\"&$A$1&\"'!$A$7:$AR$56\"),35,0)","v":"00:00:00"},{"$f":"VLOOKUP($A26,INDIRECT(\"'\"&$A$1&\"'!$A$7:$AR$56\"),36,0)","v":"00:00:00"},null,{"$f":"SUMPRODUCT(ISNUMBER(MATCH(INDIRECT(\"H\"&$A$1&\"!B2:AF2\"),DimFe,0))*IFERROR(IF(\"19:00\">=IFERROR(Hgauche,0),IFERROR(hdroite-Hgauche,0),IF(durée1>0,durée1,\"00:00\")),0))+SUMPRODUCT(ISNUMBER(MATCH(INDIRECT(\"H\"&$A$1&\"!B2:AF2\"),moindimfe,0))*IFERROR(IF(\"19:00\"<=IFERROR(Hgauche,0),IF(durée4<0,0,durée4),\"00:00\"),0))","v":0},{"$f":"SUMPRODUCT(ISNUMBER(MATCH(INDIRECT(\"H\"&$A$1&\"!B2:AF2\"),DimFe,0))*IFERROR(IF(\"19:00\"<=IFERROR(Hgauche,0),IF(durée6<0,0,durée6),IF(durée<0,0,durée)),0))+SUMPRODUCT(ISNUMBER(MATCH(INDIRECT(\"H\"&$A$1&\"!B2:AF2\"),moindimfe,0))*IFERROR(IF(\"19:00\"<=IFERROR(Hgauche,0),IF(durée2<0,0,durée2),\"00:00\"),0))","v":0},{"$f":"SUM(SUMPRODUCT(1*IFERROR(IF(\"19:00\"<=IFERROR(Hgauche,0),IF(durée2<0,0,durée2),\"00:00\"),0)),SUMPRODUCT(1*IFERROR(IF(\"19:00\"<=IFERROR(Hgauche,0),IF(durée6<0,0,durée6),\"00:00\"),0)),SUMPRODUCT(1*IFERROR(IF(\"21:00\"<=IFERROR(Hdroitesimple,0),IF(durée<0,0,durée),\"00:00\"),0)))-durée5","v":0},null,{"$f":"bilanh","v":0},{"$f":"VLOOKUP($A26,Bilan!$A$9:$AQ74,37,FALSE)","v":57.958333333333336},null,{"$f":"Bilan!AN26","v":65},65,null,{"$f":"Jourtravaillé","v":0}]
[{"$f":"Données!$H24","v":0},"","","","","","","","","","","","","","","","","","","","","","","","","","",{"$f":"VLOOKUP($A27,INDIRECT(\"'\"&$A$1&\"'!$A$7:$AR$56\"),35,0)","v":"00:00:00"},{"$f":"VLOOKUP($A27,INDIRECT(\"'\"&$A$1&\"'!$A$7:$AR$56\"),36,0)","v":"00:00:00"},null,{"$f":"SUMPRODUCT(ISNUMBER(MATCH(INDIRECT(\"H\"&$A$1&\"!B2:AF2\"),DimFe,0))*IFERROR(IF(\"19:00\">=IFERROR(Hgauche,0),IFERROR(hdroite-Hgauche,0),IF(durée1>0,durée1,\"00:00\")),0))+SUMPRODUCT(ISNUMBER(MATCH(INDIRECT(\"H\"&$A$1&\"!B2:AF2\"),moindimfe,0))*IFERROR(IF(\"19:00\"<=IFERROR(Hgauche,0),IF(durée4<0,0,durée4),\"00:00\"),0))","v":0},{"$f":"SUMPRODUCT(ISNUMBER(MATCH(INDIRECT(\"H\"&$A$1&\"!B2:AF2\"),DimFe,0))*IFERROR(IF(\"19:00\"<=IFERROR(Hgauche,0),IF(durée6<0,0,durée6),IF(durée<0,0,durée)),0))+SUMPRODUCT(ISNUMBER(MATCH(INDIRECT(\"H\"&$A$1&\"!B2:AF2\"),moindimfe,0))*IFERROR(IF(\"19:00\"<=IFERROR(Hgauche,0),IF(durée2<0,0,durée2),\"00:00\"),0))","v":0},{"$f":"SUM(SUMPRODUCT(1*IFERROR(IF(\"19:00\"<=IFERROR(Hgauche,0),IF(durée2<0,0,durée2),\"00:00\"),0)),SUMPRODUCT(1*IFERROR(IF(\"19:00\"<=IFERROR(Hgauche,0),IF(durée6<0,0,durée6),\"00:00\"),0)),SUMPRODUCT(1*IFERROR(IF(\"21:00\"<=IFERROR(Hdroitesimple,0),IF(durée<0,0,durée),\"00:00\"),0)))-durée5","v":0},null,{"$f":"bilanh","v":0},{"$f":"VLOOKUP($A27,Bilan!$A$9:$AQ75,37,FALSE)","v":59.5},null,{"$f":"Bilan!AN27","v":65},65,null,{"$f":"Jourtravaillé","v":0}]
[{"$f":"Données!$H25","v":0},"","","","","","","","","","","","","","","","","","","","","","","","","","",{"$f":"VLOOKUP($A28,INDIRECT(\"'\"&$A$1&\"'!$A$7:$AR$56\"),35,0)","v":"00:00:00"},{"$f":"VLOOKUP($A28,INDIRECT(\"'\"&$A$1&\"'!$A$7:$AR$56\"),36,0)","v":"00:00:00"},null,{"$f":"SUMPRODUCT(ISNUMBER(MATCH(INDIRECT(\"H\"&$A$1&\"!B2:AF2\"),DimFe,0))*IFERROR(IF(\"19:00\">=IFERROR(Hgauche,0),IFERROR(hdroite-Hgauche,0),IF(durée1>0,durée1,\"00:00\")),0))+SUMPRODUCT(ISNUMBER(MATCH(INDIRECT(\"H\"&$A$1&\"!B2:AF2\"),moindimfe,0))*IFERROR(IF(\"19:00\"<=IFERROR(Hgauche,0),IF(durée4<0,0,durée4),\"00:00\"),0))","v":0},{"$f":"SUMPRODUCT(ISNUMBER(MATCH(INDIRECT(\"H\"&$A$1&\"!B2:AF2\"),DimFe,0))*IFERROR(IF(\"19:00\"<=IFERROR(Hgauche,0),IF(durée6<0,0,durée6),IF(durée<0,0,durée)),0))+SUMPRODUCT(ISNUMBER(MATCH(INDIRECT(\"H\"&$A$1&\"!B2:AF2\"),moindimfe,0))*IFERROR(IF(\"19:00\"<=IFERROR(Hgauche,0),IF(durée2<0,0,durée2),\"00:00\"),0))","v":0},{"$f":"SUM(SUMPRODUCT(1*IFERROR(IF(\"19:00\"<=IFERROR(Hgauche,0),IF(durée2<0,0,durée2),\"00:00\"),0)),SUMPRODUCT(1*IFERROR(IF(\"19:00\"<=IFERROR(Hgauche,0),IF(durée6<0,0,durée6),\"00:00\"),0)),SUMPRODUCT(1*IFERROR(IF(\"21:00\"<=IFERROR(Hdroitesimple,0),IF(durée<0,0,durée),\"00:00\"),0)))-durée5","v":0},null,{"$f":"bilanh","v":0},{"$f":"VLOOKUP($A28,Bilan!$A$9:$AQ76,37,FALSE)","v":59.5},null,{"$f":"Bilan!AN28","v":65},65,null,{"$f":"Jourtravaillé","v":0}]
[{"$f":"Données!$H26","v":0},{"$f":"SUMPRODUCT((INDIRECT(\"'\"&$A$1&\"'!$A$7:$A$56\")=$A29)*(INDIRECT(\"'\"&$A$1&\"'!$B$7:$AF$56\")=B$7))","v":0},0,0,0,0,0,0,0,0,0,0,0,0,0,0,0,{"$f":"SUMPRODUCT((INDIRECT(\"'\"&$A$1&\"'!$A$7:$A$56\")=$A29)*(INDIRECT(\"'\"&$A$1&\"'!$B$7:$AF$56\")=R$7))","v":0},0,0,0,0,0,0,0,0,0,{"$f":"VLOOKUP($A29,INDIRECT(\"'H\"&$A$1&\"'!$A$7:$AR$56\"),35,0)","v":"00:00:00"},{"$f":"VLOOKUP($A29,INDIRECT(\"'H\"&$A$1&\"'!$A$7:$AR$56\"),38,0)","v":"00:00:00"},null,{"$f":"SUMPRODUCT(ISNUMBER(MATCH(INDIRECT(\"H\"&$A$1&\"!B2:AF2\"),DimFe,0))*IFERROR(IF(\"19:00\">=IFERROR(Hgauche,0),IFERROR(hdroite-Hgauche,0),IF(durée1>0,durée1,\"00:00\")),0))+SUMPRODUCT(ISNUMBER(MATCH(INDIRECT(\"H\"&$A$1&\"!B2:AF2\"),moindimfe,0))*IFERROR(IF(\"19:00\"<=IFERROR(Hgauche,0),IF(durée4<0,0,durée4),\"00:00\"),0))","v":0},{"$f":"SUMPRODUCT(ISNUMBER(MATCH(INDIRECT(\"H\"&$A$1&\"!B2:AF2\"),DimFe,0))*IFERROR(IF(\"19:00\"<=IFERROR(Hgauche,0),IF(durée6<0,0,durée6),IF(durée<0,0,durée)),0))+SUMPRODUCT(ISNUMBER(MATCH(INDIRECT(\"H\"&$A$1&\"!B2:AF2\"),moindimfe,0))*IFERROR(IF(\"19:00\"<=IFERROR(Hgauche,0),IF(durée2<0,0,durée2),\"00:00\"),0))","v":0},{"$f":"SUMPRODUCT(1*IF(durée<0,0,durée))+SUMPRODUCT(1*IFERROR(IF(\"19:00\"<=IFERROR(Hgauche,0),IF(durée2<0,0,durée2),\"00:00\"),0))-durée5","v":0},null,{"$f":"(AB29/24)+SUMPRODUCT(($B$6:$AA$6)*(B29:AA29))","v":0},{"$f":"VLOOKUP($A29,Bilan!A29:AI77,35,FALSE)","v":0},null,{"$f":"Bilan!AN29","v":{"$error":"#VALUE!"}},65,null,{"$f":"SUM(B29:R29)","v":0},null,null,null,null,null,null,null,null,null,null,null,null,null,null,null,null,null,null,null,null,null,null,null,{"$f":"Données!$A24","v":"CA"},{"$f":"Données!$B24","v":"CA"}]
[{"$f":"Données!$H27","v":0},0,0,0,0,0,0,0,0,0,0,0,0,0,0,0,0,0,0,0,0,0,0,0,0,0,0,"00:00:00","00:00:00",null,{"$f":"SUMPRODUCT(ISNUMBER(MATCH(INDIRECT(\"H\"&$A$1&\"!B2:AF2\"),DimFe,0))*IFERROR(IF(\"19:00\">=IFERROR(Hgauche,0),IFERROR(hdroite-Hgauche,0),IF(durée1>0,durée1,\"00:00\")),0))+SUMPRODUCT(ISNUMBER(MATCH(INDIRECT(\"H\"&$A$1&\"!B2:AF2\"),moindimfe,0))*IFERROR(IF(\"19:00\"<=IFERROR(Hgauche,0),IF(durée4<0,0,durée4),\"00:00\"),0))","v":0},{"$f":"SUMPRODUCT(ISNUMBER(MATCH(INDIRECT(\"H\"&$A$1&\"!B2:AF2\"),DimFe,0))*IFERROR(IF(\"19:00\"<=IFERROR(Hgauche,0),IF(durée6<0,0,durée6),IF(durée<0,0,durée)),0))+SUMPRODUCT(ISNUMBER(MATCH(INDIRECT(\"H\"&$A$1&\"!B2:AF2\"),moindimfe,0))*IFERROR(IF(\"19:00\"<=IFERROR(Hgauche,0),IF(durée2<0,0,durée2),\"00:00\"),0))","v":0},{"$f":"SUMPRODUCT(1*IF(durée<0,0,durée))+SUMPRODUCT(1*IFERROR(IF(\"19:00\"<=IFERROR(Hgauche,0),IF(durée2<0,0,durée2),\"00:00\"),0))-durée5","v":0},null,0,{"$f":"VLOOKUP($A30,Bilan!A30:AI78,35,FALSE)","v":0},null,{"$f":"Bilan!AN30","v":{"$error":"#VALUE!"}},65,null,0,null,null,null,null,null,null,null,null,null,null,null,null,null,null,null,null,null,null,null,null,null,null,null,{"$f":"Données!$A25","v":"CA16"},{"$f":"Données!$B25","v":"CA16"}]
[{"$f":"Données!$H28","v":0},0,0,0,0,0,0,0,0,0,0,0,0,0,0,0,0,0,0,0,0,0,0,0,0,0,0,"00:00:00","00:00:00",null,{"$f":"SUMPRODUCT(ISNUMBER(MATCH(INDIRECT(\"H\"&$A$1&\"!B2:AF2\"),DimFe,0))*IFERROR(IF(\"19:00\">=IFERROR(Hgauche,0),IFERROR(hdroite-Hgauche,0),IF(durée1>0,durée1,\"00:00\")),0))+SUMPRODUCT(ISNUMBER(MATCH(INDIRECT(\"H\"&$A$1&\"!B2:AF2\"),moindimfe,0))*IFERROR(IF(\"19:00\"<=IFERROR(Hgauche,0),IF(durée4<0,0,durée4),\"00:00\"),0))","v":0},{"$f":"SUMPRODUCT(ISNUMBER(MATCH(INDIRECT(\"H\"&$A$1&\"!B2:AF2\"),DimFe,0))*IFERROR(IF(\"19:00\"<=IFERROR(Hgauche,0),IF(durée6<0,0,durée6),IF(durée<0,0,durée)),0))+SUMPRODUCT(ISNUMBER(MATCH(INDIRECT(\"H\"&$A$1&\"!B2:AF2\"),moindimfe,0))*IFERROR(IF(\"19:00\"<=IFERROR(Hgauche,0),IF(durée2<0,0,durée2),\"00:00\"),0))","v":0},{"$f":"SUMPRODUCT(1*IF(durée<0,0,durée))+SUMPRODUCT(1*IFERROR(IF(\"19:00\"<=IFERROR(Hgauche,0),IF(durée2<0,0,durée2),\"00:00\"),0))-durée5","v":0},null,0,{"$f":"VLOOKUP($A31,Bilan!A31:AI79,35,FALSE)","v":0},null,{"$f":"Bilan!AN31","v":{"$error":"#VALUE!"}},65,null,0,null,null,null,null,null,null,null,null,null,null,null,null,null,null,null,null,null,null,null,null,null,null,null,{"$f":"Données!$A26","v":"REC"},{"$f":"Données!$B26","v":"REC"}]
[{"$f":"Données!$H29","v":0},0,0,0,0,0,0,0,0,0,0,0,0,0,0,0,0,0,0,0,0,0,0,0,0,0,0,"00:00:00","00:00:00",null,{"$f":"SUMPRODUCT(ISNUMBER(MATCH(INDIRECT(\"H\"&$A$1&\"!B2:AF2\"),DimFe,0))*IFERROR(IF(\"19:00\">=IFERROR(Hgauche,0),IFERROR(hdroite-Hgauche,0),IF(durée1>0,durée1,\"00:00\")),0))+SUMPRODUCT(ISNUMBER(MATCH(INDIRECT(\"H\"&$A$1&\"!B2:AF2\"),moindimfe,0))*IFERROR(IF(\"19:00\"<=IFERROR(Hgauche,0),IF(durée4<0,0,durée4),\"00:00\"),0))","v":0},{"$f":"SUMPRODUCT(ISNUMBER(MATCH(INDIRECT(\"H\"&$A$1&\"!B2:AF2\"),DimFe,0))*IFERROR(IF(\"19:00\"<=IFERROR(Hgauche,0),IF(durée6<0,0,durée6),IF(durée<0,0,durée)),0))+SUMPRODUCT(ISNUMBER(MATCH(INDIRECT(\"H\"&$A$1&\"!B2:AF2\"),moindimfe,0))*IFERROR(IF(\"19:00\"<=IFERROR(Hgauche,0),IF(durée2<0,0,durée2),\"00:00\"),0))","v":0},{"$f":"SUMPRODUCT(1*IF(durée<0,0,durée))+SUMPRODUCT(1*IFERROR(IF(\"19:00\"<=IFERROR(Hgauche,0),IF(durée2<0,0,durée2),\"00:00\"),0))-durée5","v":0},null,0,{"$f":"VLOOKUP($A32,Bilan!A32:AI80,35,FALSE)","v":0},null,{"$f":"Bilan!AN32","v":{"$error":"#VALUE!"}},65,null,0,null,null,null,null,null,null,null,null,null,null,null,null,null,null,null,null,null,null,null,null,null,null,null,{"$f":"Données!$A27","v":"PL"},{"$f":"Données!$B27","v":"PL"}]
[{"$f":"Données!$H30","v":0},0,0,0,0,0,0,0,0,0,0,0,0,0,0,0,0,0,0,0,0,0,0,0,0,0,0,"00:00:00","00:00:00",null,{"$f":"SUMPRODUCT(ISNUMBER(MATCH(INDIRECT(\"H\"&$A$1&\"!B2:AF2\"),DimFe,0))*IFERROR(IF(\"19:00\">=IFERROR(Hgauche,0),IFERROR(hdroite-Hgauche,0),IF(durée1>0,durée1,\"00:00\")),0))+SUMPRODUCT(ISNUMBER(MATCH(INDIRECT(\"H\"&$A$1&\"!B2:AF2\"),moindimfe,0))*IFERROR(IF(\"19:00\"<=IFERROR(Hgauche,0),IF(durée4<0,0,durée4),\"00:00\"),0))","v":0},{"$f":"SUMPRODUCT(ISNUMBER(MATCH(INDIRECT(\"H\"&$A$1&\"!B2:AF2\"),DimFe,0))*IFERROR(IF(\"19:00\"<=IFERROR(Hgauche,0),IF(durée6<0,0,durée6),IF(durée<0,0,durée)),0))+SUMPRODUCT(ISNUMBER(MATCH(INDIRECT(\"H\"&$A$1&\"!B2:AF2\"),moindimfe,0))*IFERROR(IF(\"19:00\"<=IFERROR(Hgauche,0),IF(durée2<0,0,durée2),\"00:00\"),0))","v":0},{"$f":"SUMPRODUCT(1*IF(durée<0,0,durée))+SUMPRODUCT(1*IFERROR(IF(\"19:00\"<=IFERROR(Hgauche,0),IF(durée2<0,0,durée2),\"00:00\"),0))-durée5","v":0},null,0,{"$f":"VLOOKUP($A33,Bilan!A33:AI81,35,FALSE)","v":0},null,{"$f":"Bilan!AN33","v":{"$error":"#VALUE!"}},65,null,0,null,null,null,null,null,null,null,null,null,null,null,null,null,null,null,null,null,null,null,null,null,null,null,{"$f":"Données!$A28","v":"D"},{"$f":"Données!$B28","v":"D"}]
[{"$f":"Données!$H31","v":0},0,0,0,0,0,0,0,0,0,0,0,0,0,0,0,0,0,0,0,0,0,0,0,0,0,0,"00:00:00","00:00:00",null,{"$f":"SUMPRODUCT(ISNUMBER(MATCH(INDIRECT(\"H\"&$A$1&\"!B2:AF2\"),DimFe,0))*IFERROR(IF(\"19:00\">=IFERROR(Hgauche,0),IFERROR(hdroite-Hgauche,0),IF(durée1>0,durée1,\"00:00\")),0))+SUMPRODUCT(ISNUMBER(MATCH(INDIRECT(\"H\"&$A$1&\"!B2:AF2\"),moindimfe,0))*IFERROR(IF(\"19:00\"<=IFERROR(Hgauche,0),IF(durée4<0,0,durée4),\"00:00\"),0))","v":0},{"$f":"SUMPRODUCT(ISNUMBER(MATCH(INDIRECT(\"H\"&$A$1&\"!B2:AF2\"),DimFe,0))*IFERROR(IF(\"19:00\"<=IFERROR(Hgauche,0),IF(durée6<0,0,durée6),IF(durée<0,0,durée)),0))+SUMPRODUCT(ISNUMBER(MATCH(INDIRECT(\"H\"&$A$1&\"!B2:AF2\"),moindimfe,0))*IFERROR(IF(\"19:00\"<=IFERROR(Hgauche,0),IF(durée2<0,0,durée2),\"00:00\"),0))","v":0},{"$f":"SUMPRODUCT(1*IF(durée<0,0,durée))+SUMPRODUCT(1*IFERROR(IF(\"19:00\"<=IFERROR(Hgauche,0),IF(durée2<0,0,durée2),\"00:00\"),0))-durée5","v":0},null,0,{"$f":"VLOOKUP($A34,Bilan!A34:AI82,35,FALSE)","v":0},null,{"$f":"Bilan!AN34","v":{"$error":"#VALUE!"}},65,null,0]
[{"$f":"Données!$H32","v":"Maitresse de maison"}]
[{"$f":"Données!$H33","v":"N"},{"$f":"IF(SUMPRODUCT((INDIRECT(\"'\"&$A$1&\"'!$A$7:$A$56\")=$A36)*(INDIRECT(\"'\"&$A$1&\"'!$B$7:$AF$56\")=B$7))=0,\"\",SUMPRODUCT((INDIRECT(\"'\"&$A$1&\"'!$A$7:$A$56\")=$A36)*(INDIRECT(\"'\"&$A$1&\"'!$B$7:$AF$56\")=B$7)))","v":""},"","","","","","","","","","","","","","","","","","","","","","","","","",{"$f":"VLOOKUP($A36,INDIRECT(\"'\"&$A$1&\"'!$A$7:$AR$56\"),35,0)","v":"00:00:00"},{"$f":"VLOOKUP($A36,INDIRECT(\"'\"&$A$1&\"'!$A$7:$AR$56\"),36,0)","v":"00:00:00"},null,{"$f":"SUMPRODUCT(ISNUMBER(MATCH(INDIRECT(\"H\"&$A$1&\"!B2:AF2\"),DimFe,0))*IFERROR(IF(\"19:00\">=IFERROR(Hgauche,0),IFERROR(hdroite-Hgauche,0),IF(durée1>0,durée1,\"00:00\")),0))+SUMPRODUCT(ISNUMBER(MATCH(INDIRECT(\"H\"&$A$1&\"!B2:AF2\"),moindimfe,0))*IFERROR(IF(\"19:00\"<=IFERROR(Hgauche,0),IF(durée4<0,0,durée4),\"00:00\"),0))","v":0},{"$f":"SUMPRODUCT(ISNUMBER(MATCH(INDIRECT(\"H\"&$A$1&\"!B2:AF2\"),DimFe,0))*IFERROR(IF(\"19:00\"<=IFERROR(Hgauche,0),IF(durée6<0,0,durée6),IF(durée<0,0,durée)),0))+SUMPRODUCT(ISNUMBER(MATCH(INDIRECT(\"H\"&$A$1&\"!B2:AF2\"),moindimfe,0))*IFERROR(IF(\"19:00\"<=IFERROR(Hgauche,0),IF(durée2<0,0,durée2),\"00:00\"),0))","v":0},{"$f":"SUM(SUMPRODUCT(1*IFERROR(IF(\"19:00\"<=IFERROR(Hgauche,0),IF(durée2<0,0,durée2),\"00:00\"),0)),SUMPRODUCT(1*IFERROR(IF(\"19:00\"<=IFERROR(Hgauche,0),IF(durée6<0,0,durée6),\"00:00\"),0)),SUMPRODUCT(1*IFERROR(IF(\"21:00\"<=IFERROR(Hdroitesimple,0),IF(durée<0,0,durée),\"00:00\"),0)))-durée5","v":0},null,{"$f":"bilanh","v":0},{"$f":"VLOOKUP($A36,Bilan!$A$9:$AQ84,37,FALSE)","v":63},null,{"$f":"Bilan!AN36","v":65},65,null,{"$f":"Jourtravaillé","v":0}]
[{"$f":"Données!$H34","v":0},{"$f":"SUMPRODUCT((INDIRECT(\"'\"&$A$1&\"'!$A$7:$A$56\")=$A37)*(INDIRECT(\"'\"&$A$1&\"'!$B$7:$AF$56\")=B$7))","v":0},0,0,0,0,0,0,0,0,0,0,0,0,0,0,0,{"$f":"SUMPRODUCT((INDIRECT(\"'\"&$A$1&\"'!$A$7:$A$56\")=$A37)*(INDIRECT(\"'\"&$A$1&\"'!$B$7:$AF$56\")=R$7))","v":0},0,0,0,0,0,0,0,0,0,{"$f":"VLOOKUP($A37,INDIRECT(\"'H\"&$A$1&\"'!$A$7:$AR$56\"),35,0)","v":"00:00:00"},{"$f":"VLOOKUP($A37,INDIRECT(\"'H\"&$A$1&\"'!$A$7:$AR$56\"),38,0)","v":"00:00:00"},null,{"$f":"SUMPRODUCT(ISNUMBER(MATCH(INDIRECT(\"H\"&$A$1&\"!B2:AF2\"),DimFe,0))*IFERROR(IF(\"19:00\">=IFERROR(Hgauche,0),IFERROR(hdroite-Hgauche,0),IF(durée1>0,durée1,\"00:00\")),0))+SUMPRODUCT(ISNUMBER(MATCH(INDIRECT(\"H\"&$A$1&\"!B2:AF2\"),moindimfe,0))*IFERROR(IF(\"19:00\"<=IFERROR(Hgauche,0),IF(durée4<0,0,durée4),\"00:00\"),0))","v":0},{"$f":"SUMPRODUCT(ISNUMBER(MATCH(INDIRECT(\"H\"&$A$1&\"!B2:AF2\"),DimFe,0))*IFERROR(IF(\"19:00\"<=IFERROR(Hgauche,0),IF(durée6<0,0,durée6),IF(durée<0,0,durée)),0))+SUMPRODUCT(ISNUMBER(MATCH(INDIRECT(\"H\"&$A$1&\"!B2:AF2\"),moindimfe,0))*IFERROR(IF(\"19:00\"<=IFERROR(Hgauche,0),IF(durée2<0,0,durée2),\"00:00\"),0))","v":0},{"$f":"SUMPRODUCT(1*IF(durée<0,0,durée))+SUMPRODUCT(1*IFERROR(IF(\"19:00\"<=IFERROR(Hgauche,0),IF(durée2<0,0,durée2),\"00:00\"),0))-durée5","v":0},null,{"$f":"(AB37/24)+SUMPRODUCT(($B$6:$AA$6)*(B37:AA37))","v":0},{"$f":"VLOOKUP($A37,Bilan!A37:AI85,35,FALSE)","v":0},null,{"$f":"Bilan!AN37","v":65},65,null,{"$f":"SUM(B37:R37)","v":0}]
[{"$f":"Données!$H35","v":0},0,0,0,0,0,0,0,0,0,0,0,0,0,0,0,0,0,0,0,0,0,0,0,0,0,0,"00:00:00","00:00:00",null,{"$f":"SUMPRODUCT(ISNUMBER(MATCH(INDIRECT(\"H\"&$A$1&\"!B2:AF2\"),DimFe,0))*IFERROR(IF(\"19:00\">=IFERROR(Hgauche,0),IFERROR(hdroite-Hgauche,0),IF(durée1>0,durée1,\"00:00\")),0))+SUMPRODUCT(ISNUMBER(MATCH(INDIRECT(\"H\"&$A$1&\"!B2:AF2\"),moindimfe,0))*IFERROR(IF(\"19:00\"<=IFERROR(Hgauche,0),IF(durée4<0,0,durée4),\"00:00\"),0))","v":0},{"$f":"SUMPRODUCT(ISNUMBER(MATCH(INDIRECT(\"H\"&$A$1&\"!B2:AF2\"),DimFe,0))*IFERROR(IF(\"19:00\"<=IFERROR(Hgauche,0),IF(durée6<0,0,durée6),IF(durée<0,0,durée)),0))+SUMPRODUCT(ISNUMBER(MATCH(INDIRECT(\"H\"&$A$1&\"!B2:AF2\"),moindimfe,0))*IFERROR(IF(\"19:00\"<=IFERROR(Hgauche,0),IF(durée2<0,0,durée2),\"00:00\"),0))","v":0},{"$f":"SUMPRODUCT(1*IF(durée<0,0,durée))+SUMPRODUCT(1*IFERROR(IF(\"19:00\"<=IFERROR(Hgauche,0),IF(durée2<0,0,durée2),\"00:00\"),0))-durée5","v":0},null,0,{"$f":"VLOOKUP($A38,Bilan!A38:AI86,35,FALSE)","v":0},null,{"$f":"Bilan!AN38","v":{"$error":"#VALUE!"}},65,null,0]
[{"$f":"Données!$H36","v":0},0,0,0,0,0,0,0,0,0,0,0,0,0,0,0,0,0,0,0,0,0,0,0,0,0,0,"00:00:00","00:00:00",null,{"$f":"SUMPRODUCT(ISNUMBER(MATCH(INDIRECT(\"H\"&$A$1&\"!B2:AF2\"),DimFe,0))*IFERROR(IF(\"19:00\">=IFERROR(Hgauche,0),IFERROR(hdroite-Hgauche,0),IF(durée1>0,durée1,\"00:00\")),0))+SUMPRODUCT(ISNUMBER(MATCH(INDIRECT(\"H\"&$A$1&\"!B2:AF2\"),moindimfe,0))*IFERROR(IF(\"19:00\"<=IFERROR(Hgauche,0),IF(durée4<0,0,durée4),\"00:00\"),0))","v":0},{"$f":"SUMPRODUCT(ISNUMBER(MATCH(INDIRECT(\"H\"&$A$1&\"!B2:AF2\"),DimFe,0))*IFERROR(IF(\"19:00\"<=IFERROR(Hgauche,0),IF(durée6<0,0,durée6),IF(durée<0,0,durée)),0))+SUMPRODUCT(ISNUMBER(MATCH(INDIRECT(\"H\"&$A$1&\"!B2:AF2\"),moindimfe,0))*IFERROR(IF(\"19:00\"<=IFERROR(Hgauche,0),IF(durée2<0,0,durée2),\"00:00\"),0))","v":0},{"$f":"SUMPRODUCT(1*IF(durée<0,0,durée))+SUMPRODUCT(1*IFERROR(IF(\"19:00\"<=IFERROR(Hgauche,0),IF(durée2<0,0,durée2),\"00:00\"),0))-durée5","v":0},null,0,{"$f":"VLOOKUP($A39,Bilan!A39:AI87,35,FALSE)","v":0},null,{"$f":"Bilan!AN39","v":{"$error":"#VALUE!"}},65,null,0]
[{"$f":"Données!$H37","v":0},0,0,0,0,0,0,0,0,0,0,0,0,0,0,0,0,0,0,0,0,0,0,0,0,0,0,"00:00:00","00:00:00",null,{"$f":"SUMPRODUCT(ISNUMBER(MATCH(INDIRECT(\"H\"&$A$1&\"!B2:AF2\"),DimFe,0))*IFERROR(IF(\"19:00\">=IFERROR(Hgauche,0),IFERROR(hdroite-Hgauche,0),IF(durée1>0,durée1,\"00:00\")),0))+SUMPRODUCT(ISNUMBER(MATCH(INDIRECT(\"H\"&$A$1&\"!B2:AF2\"),moindimfe,0))*IFERROR(IF(\"19:00\"<=IFERROR(Hgauche,0),IF(durée4<0,0,durée4),\"00:00\"),0))","v":0},{"$f":"SUMPRODUCT(ISNUMBER(MATCH(INDIRECT(\"H\"&$A$1&\"!B2:AF2\"),DimFe,0))*IFERROR(IF(\"19:00\"<=IFERROR(Hgauche,0),IF(durée6<0,0,durée6),IF(durée<0,0,durée)),0))+SUMPRODUCT(ISNUMBER(MATCH(INDIRECT(\"H\"&$A$1&\"!B2:AF2\"),moindimfe,0))*IFERROR(IF(\"19:00\"<=IFERROR(Hgauche,0),IF(durée2<0,0,durée2),\"00:00\"),0))","v":0},{"$f":"SUMPRODUCT(1*IF(durée<0,0,durée))+SUMPRODUCT(1*IFERROR(IF(\"19:00\"<=IFERROR(Hgauche,0),IF(durée2<0,0,durée2),\"00:00\"),0))-durée5","v":0},null,0,{"$f":"VLOOKUP($A40,Bilan!A40:AI88,35,FALSE)","v":0},null,{"$f":"Bilan!AN40","v":{"$error":"#VALUE!"}},65,null,0]
[{"$f":"Données!$H38","v":0},0,0,0,0,0,0,0,0,0,0,0,0,0,0,0,0,0,0,0,0,0,0,0,0,0,0,"00:00:00","00:00:00",null,{"$f":"SUMPRODUCT(ISNUMBER(MATCH(INDIRECT(\"H\"&$A$1&\"!B2:AF2\"),DimFe,0))*IFERROR(IF(\"19:00\">=IFERROR(Hgauche,0),IFERROR(hdroite-Hgauche,0),IF(durée1>0,durée1,\"00:00\")),0))+SUMPRODUCT(ISNUMBER(MATCH(INDIRECT(\"H\"&$A$1&\"!B2:AF2\"),moindimfe,0))*IFERROR(IF(\"19:00\"<=IFERROR(Hgauche,0),IF(durée4<0,0,durée4),\"00:00\"),0))","v":0},{"$f":"SUMPRODUCT(ISNUMBER(MATCH(INDIRECT(\"H\"&$A$1&\"!B2:AF2\"),DimFe,0))*IFERROR(IF(\"19:00\"<=IFERROR(Hgauche,0),IF(durée6<0,0,durée6),IF(durée<0,0,durée)),0))+SUMPRODUCT(ISNUMBER(MATCH(INDIRECT(\"H\"&$A$1&\"!B2:AF2\"),moindimfe,0))*IFERROR(IF(\"19:00\"<=IFERROR(Hgauche,0),IF(durée2<0,0,durée2),\"00:00\"),0))","v":0},{"$f":"SUMPRODUCT(1*IF(durée<0,0,durée))+SUMPRODUCT(1*IFERROR(IF(\"19:00\"<=IFERROR(Hgauche,0),IF(durée2<0,0,durée2),\"00:00\"),0))-durée5","v":0},null,0,{"$f":"VLOOKUP($A41,Bilan!A41:AI89,35,FALSE)","v":0},null,{"$f":"Bilan!AN41","v":{"$error":"#VALUE!"}},65,null,0]
[{"$f":"Données!$H39","v":0},0,0,0,0,0,0,0,0,0,0,0,0,0,0,0,0,0,0,0,0,0,0,0,0,0,0,"00:00:00","00:00:00",null,{"$f":"SUMPRODUCT(ISNUMBER(MATCH(INDIRECT(\"H\"&$A$1&\"!B2:AF2\"),DimFe,0))*IFERROR(IF(\"19:00\">=IFERROR(Hgauche,0),IFERROR(hdroite-Hgauche,0),IF(durée1>0,durée1,\"00:00\")),0))+SUMPRODUCT(ISNUMBER(MATCH(INDIRECT(\"H\"&$A$1&\"!B2:AF2\"),moindimfe,0))*IFERROR(IF(\"19:00\"<=IFERROR(Hgauche,0),IF(durée4<0,0,durée4),\"00:00\"),0))","v":0},{"$f":"SUMPRODUCT(ISNUMBER(MATCH(INDIRECT(\"H\"&$A$1&\"!B2:AF2\"),DimFe,0))*IFERROR(IF(\"19:00\"<=IFERROR(Hgauche,0),IF(durée6<0,0,durée6),IF(durée<0,0,durée)),0))+SUMPRODUCT(ISNUMBER(MATCH(INDIRECT(\"H\"&$A$1&\"!B2:AF2\"),moindimfe,0))*IFERROR(IF(\"19:00\"<=IFERROR(Hgauche,0),IF(durée2<0,0,durée2),\"00:00\"),0))","v":0},{"$f":"SUMPRODUCT(1*IF(durée<0,0,durée))+SUMPRODUCT(1*IFERROR(IF(\"19:00\"<=IFERROR(Hgauche,0),IF(durée2<0,0,durée2),\"00:00\"),0))-durée5","v":0},null,0,{"$f":"VLOOKUP($A42,Bilan!A42:AI90,35,FALSE)","v":0},null,{"$f":"Bilan!AN42","v":{"$error":"#VALUE!"}},65,null,0]
[{"$f":"Données!$H40","v":0},0,0,0,0,0,0,0,0,0,0,0,0,0,0,0,0,0,0,0,0,0,0,0,0,0,0,"00:00:00","00:00:00",null,{"$f":"SUMPRODUCT(ISNUMBER(MATCH(INDIRECT(\"H\"&$A$1&\"!B2:AF2\"),DimFe,0))*IFERROR(IF(\"19:00\">=IFERROR(Hgauche,0),IFERROR(hdroite-Hgauche,0),IF(durée1>0,durée1,\"00:00\")),0))+SUMPRODUCT(ISNUMBER(MATCH(INDIRECT(\"H\"&$A$1&\"!B2:AF2\"),moindimfe,0))*IFERROR(IF(\"19:00\"<=IFERROR(Hgauche,0),IF(durée4<0,0,durée4),\"00:00\"),0))","v":0},{"$f":"SUMPRODUCT(ISNUMBER(MATCH(INDIRECT(\"H\"&$A$1&\"!B2:AF2\"),DimFe,0))*IFERROR(IF(\"19:00\"<=IFERROR(Hgauche,0),IF(durée6<0,0,durée6),IF(durée<0,0,durée)),0))+SUMPRODUCT(ISNUMBER(MATCH(INDIRECT(\"H\"&$A$1&\"!B2:AF2\"),moindimfe,0))*IFERROR(IF(\"19:00\"<=IFERROR(Hgauche,0),IF(durée2<0,0,durée2),\"00:00\"),0))","v":0},{"$f":"SUMPRODUCT(1*IF(durée<0,0,durée))+SUMPRODUCT(1*IFERROR(IF(\"19:00\"<=IFERROR(Hgauche,0),IF(durée2<0,0,durée2),\"00:00\"),0))-durée5","v":0},null,0,{"$f":"VLOOKUP($A43,Bilan!A43:AI91,35,FALSE)","v":0},null,{"$f":"Bilan!AN43","v":{"$error":"#VALUE!"}},65,null,0]
[{"$f":"Données!$H41","v":0},0,0,0,0,0,0,0,0,0,0,0,0,0,0,0,0,0,0,0,0,0,0,0,0,0,0,"00:00:00","00:00:00",null,{"$f":"SUMPRODUCT(ISNUMBER(MATCH(INDIRECT(\"H\"&$A$1&\"!B2:AF2\"),DimFe,0))*IFERROR(IF(\"19:00\">=IFERROR(Hgauche,0),IFERROR(hdroite-Hgauche,0),IF(durée1>0,durée1,\"00:00\")),0))+SUMPRODUCT(ISNUMBER(MATCH(INDIRECT(\"H\"&$A$1&\"!B2:AF2\"),moindimfe,0))*IFERROR(IF(\"19:00\"<=IFERROR(Hgauche,0),IF(durée4<0,0,durée4),\"00:00\"),0))","v":0},{"$f":"SUMPRODUCT(ISNUMBER(MATCH(INDIRECT(\"H\"&$A$1&\"!B2:AF2\"),DimFe,0))*IFERROR(IF(\"19:00\"<=IFERROR(Hgauche,0),IF(durée6<0,0,durée6),IF(durée<0,0,durée)),0))+SUMPRODUCT(ISNUMBER(MATCH(INDIRECT(\"H\"&$A$1&\"!B2:AF2\"),moindimfe,0))*IFERROR(IF(\"19:00\"<=IFERROR(Hgauche,0),IF(durée2<0,0,durée2),\"00:00\"),0))","v":0},{"$f":"SUMPRODUCT(1*IF(durée<0,0,durée))+SUMPRODUCT(1*IFERROR(IF(\"19:00\"<=IFERROR(Hgauche,0),IF(durée2<0,0,durée2),\"00:00\"),0))-durée5","v":0},null,0,{"$f":"VLOOKUP($A44,Bilan!A44:AI92,35,FALSE)","v":0},null,{"$f":"Bilan!AN44","v":{"$error":"#VALUE!"}},65,null,0]
[{"$f":"Données!$H42","v":"Psychologue"}]
[{"$f":"Données!$H43","v":"O"},{"$f":"IF(SUMPRODUCT((INDIRECT(\"'\"&$A$1&\"'!$A$7:$A$56\")=$A46)*(INDIRECT(\"'\"&$A$1&\"'!$B$7:$AF$56\")=B$7))=0,\"\",SUMPRODUCT((INDIRECT(\"'\"&$A$1&\"'!$A$7:$A$56\")=$A46)*(INDIRECT(\"'\"&$A$1&\"'!$B$7:$AF$56\")=B$7)))","v":""},"","","","","","","","","","","","","","","","","","","","","","","","","",{"$f":"VLOOKUP($A46,INDIRECT(\"'\"&$A$1&\"'!$A$7:$AR$56\"),35,0)","v":"00:00:00"},{"$f":"VLOOKUP($A46,INDIRECT(\"'\"&$A$1&\"'!$A$7:$AR$56\"),36,0)","v":"00:00:00"},null,{"$f":"SUMPRODUCT(ISNUMBER(MATCH(INDIRECT(\"H\"&$A$1&\"!B2:AF2\"),DimFe,0))*IFERROR(IF(\"19:00\">=IFERROR(Hgauche,0),IFERROR(hdroite-Hgauche,0),IF(durée1>0,durée1,\"00:00\")),0))+SUMPRODUCT(ISNUMBER(MATCH(INDIRECT(\"H\"&$A$1&\"!B2:AF2\"),moindimfe,0))*IFERROR(IF(\"19:00\"<=IFERROR(Hgauche,0),IF(durée4<0,0,durée4),\"00:00\"),0))","v":0},{"$f":"SUMPRODUCT(ISNUMBER(MATCH(INDIRECT(\"H\"&$A$1&\"!B2:AF2\"),DimFe,0))*IFERROR(IF(\"19:00\"<=IFERROR(Hgauche,0),IF(durée6<0,0,durée6),IF(durée<0,0,durée)),0))+SUMPRODUCT(ISNUMBER(MATCH(INDIRECT(\"H\"&$A$1&\"!B2:AF2\"),moindimfe,0))*IFERROR(IF(\"19:00\"<=IFERROR(Hgauche,0),IF(durée2<0,0,durée2),\"00:00\"),0))","v":0},{"$f":"SUM(SUMPRODUCT(1*IFERROR(IF(\"19:00\"<=IFERROR(Hgauche,0),IF(durée2<0,0,durée2),\"00:00\"),0)),SUMPRODUCT(1*IFERROR(IF(\"19:00\"<=IFERROR(Hgauche,0),IF(durée6<0,0,durée6),\"00:00\"),0)),SUMPRODUCT(1*IFERROR(IF(\"21:00\"<=IFERROR(Hdroitesimple,0),IF(durée<0,0,durée),\"00:00\"),0)))-durée5","v":0},null,{"$f":"bilanh","v":0},{"$f":"VLOOKUP($A46,Bilan!$A$9:$AQ94,37,FALSE)","v":63},null,{"$f":"Bilan!AN46","v":65},65,null,{"$f":"Jourtravaillé","v":0}]
[{"$f":"Données!$H44","v":0},{"$f":"SUMPRODUCT((INDIRECT(\"'\"&$A$1&\"'!$A$7:$A$56\")=$A47)*(INDIRECT(\"'\"&$A$1&\"'!$B$7:$AF$56\")=B$7))","v":0},0,0,0,0,0,0,0,0,0,0,0,0,0,0,0,{"$f":"SUMPRODUCT((INDIRECT(\"'\"&$A$1&\"'!$A$7:$A$56\")=$A47)*(INDIRECT(\"'\"&$A$1&\"'!$B$7:$AF$56\")=R$7))","v":0},0,0,0,0,0,0,0,0,0,{"$f":"VLOOKUP($A47,INDIRECT(\"'H\"&$A$1&\"'!$A$7:$AR$56\"),35,0)","v":"00:00:00"},{"$f":"VLOOKUP($A47,INDIRECT(\"'H\"&$A$1&\"'!$A$7:$AR$56\"),38,0)","v":"00:00:00"},null,{"$f":"SUMPRODUCT(ISNUMBER(MATCH(INDIRECT(\"H\"&$A$1&\"!B2:AF2\"),DimFe,0))*IFERROR(IF(\"19:00\">=IFERROR(Hgauche,0),IFERROR(hdroite-Hgauche,0),IF(durée1>0,durée1,\"00:00\")),0))+SUMPRODUCT(ISNUMBER(MATCH(INDIRECT(\"H\"&$A$1&\"!B2:AF2\"),moindimfe,0))*IFERROR(IF(\"19:00\"<=IFERROR(Hgauche,0),IF(durée4<0,0,durée4),\"00:00\"),0))","v":0},{"$f":"SUMPRODUCT(ISNUMBER(MATCH(INDIRECT(\"H\"&$A$1&\"!B2:AF2\"),DimFe,0))*IFERROR(IF(\"19:00\"<=IFERROR(Hgauche,0),IF(durée6<0,0,durée6),IF(durée<0,0,durée)),0))+SUMPRODUCT(ISNUMBER(MATCH(INDIRECT(\"H\"&$A$1&\"!B2:AF2\"),moindimfe,0))*IFERROR(IF(\"19:00\"<=IFERROR(Hgauche,0),IF(durée2<0,0,durée2),\"00:00\"),0))","v":0},{"$f":"SUMPRODUCT(1*IF(durée<0,0,durée))+SUMPRODUCT(1*IFERROR(IF(\"19:00\"<=IFERROR(Hgauche,0),IF(durée2<0,0,durée2),\"00:00\"),0))-durée5","v":0},null,{"$f":"(AB47/24)+SUMPRODUCT(($B$6:$AA$6)*(B47:AA47))","v":0},{"$f":"VLOOKUP($A47,Bilan!A47:AI95,35,FALSE)","v":0},null,{"$f":"Bilan!AN47","v":65},65,null,{"$f":"SUM(B47:R47)","v":0}]
[{"$f":"Données!$H45","v":0},0,0,0,0,0,0,0,0,0,0,0,0,0,0,0,0,0,0,0,0,0,0,0,0,0,0,{"$f":"VLOOKUP($A48,INDIRECT(\"'H\"&$A$1&\"'!$A$7:$AR$56\"),35,0)","v":"00:00:00"},{"$f":"VLOOKUP($A48,INDIRECT(\"'H\"&$A$1&\"'!$A$7:$AR$56\"),38,0)","v":"00:00:00"},null,{"$f":"SUMPRODUCT(ISNUMBER(MATCH(INDIRECT(\"H\"&$A$1&\"!B2:AF2\"),DimFe,0))*IFERROR(IF(\"19:00\">=IFERROR(Hgauche,0),IFERROR(hdroite-Hgauche,0),IF(durée1>0,durée1,\"00:00\")),0))+SUMPRODUCT(ISNUMBER(MATCH(INDIRECT(\"H\"&$A$1&\"!B2:AF2\"),moindimfe,0))*IFERROR(IF(\"19:00\"<=IFERROR(Hgauche,0),IF(durée4<0,0,durée4),\"00:00\"),0))","v":0},{"$f":"SUMPRODUCT(ISNUMBER(MATCH(INDIRECT(\"H\"&$A$1&\"!B2:AF2\"),DimFe,0))*IFERROR(IF(\"19:00\"<=IFERROR(Hgauche,0),IF(durée6<0,0,durée6),IF(durée<0,0,durée)),0))+SUMPRODUCT(ISNUMBER(MATCH(INDIRECT(\"H\"&$A$1&\"!B2:AF2\"),moindimfe,0))*IFERROR(IF(\"19:00\"<=IFERROR(Hgauche,0),IF(durée2<0,0,durée2),\"00:00\"),0))","v":0},{"$f":"SUMPRODUCT(1*IF(durée<0,0,durée))+SUMPRODUCT(1*IFERROR(IF(\"19:00\"<=IFERROR(Hgauche,0),IF(durée2<0,0,durée2),\"00:00\"),0))-durée5","v":0},null,{"$f":"(AB48/24)+SUMPRODUCT(($B$6:$AA$6)*(B48:AA48))","v":0},{"$f":"VLOOKUP($A48,Bilan!A48:AI96,35,FALSE)","v":0},null,{"$f":"Bilan!AN48","v":{"$error":"#VALUE!"}},65,null,{"$f":"SUM(B48:R48)","v":0}]
[{"$f":"Données!$H46","v":"Coordinatrice"}]
[{"$f":"Données!$H47","v":"P"},{"$f":"IF(SUMPRODUCT((INDIRECT(\"'\"&$A$1&\"'!$A$7:$A$56\")=$A50)*(INDIRECT(\"'\"&$A$1&\"'!$B$7:$AF$56\")=B$7))=0,\"\",SUMPRODUCT((INDIRECT(\"'\"&$A$1&\"'!$A$7:$A$56\")=$A50)*(INDIRECT(\"'\"&$A$1&\"'!$B$7:$AF$56\")=B$7)))","v":""},"","","","","","","","","","","","","","","","","","","","","","","","","",{"$f":"VLOOKUP($A50,INDIRECT(\"'\"&$A$1&\"'!$A$7:$AR$56\"),35,0)","v":"00:00:00"},{"$f":"VLOOKUP($A50,INDIRECT(\"'\"&$A$1&\"'!$A$7:$AR$56\"),36,0)","v":"00:00:00"},null,{"$f":"SUMPRODUCT(ISNUMBER(MATCH(INDIRECT(\"H\"&$A$1&\"!B2:AF2\"),DimFe,0))*IFERROR(IF(\"19:00\">=IFERROR(Hgauche,0),IFERROR(hdroite-Hgauche,0),IF(durée1>0,durée1,\"00:00\")),0))+SUMPRODUCT(ISNUMBER(MATCH(INDIRECT(\"H\"&$A$1&\"!B2:AF2\"),moindimfe,0))*IFERROR(IF(\"19:00\"<=IFERROR(Hgauche,0),IF(durée4<0,0,durée4),\"00:00\"),0))","v":0},{"$f":"SUMPRODUCT(ISNUMBER(MATCH(INDIRECT(\"H\"&$A$1&\"!B2:AF2\"),DimFe,0))*IFERROR(IF(\"19:00\"<=IFERROR(Hgauche,0),IF(durée6<0,0,durée6),IF(durée<0,0,durée)),0))+SUMPRODUCT(ISNUMBER(MATCH(INDIRECT(\"H\"&$A$1&\"!B2:AF2\"),moindimfe,0))*IFERROR(IF(\"19:00\"<=IFERROR(Hgauche,0),IF(durée2<0,0,durée2),\"00:00\"),0))","v":0},{"$f":"SUM(SUMPRODUCT(1*IFERROR(IF(\"19:00\"<=IFERROR(Hgauche,0),IF(durée2<0,0,durée2),\"00:00\"),0)),SUMPRODUCT(1*IFERROR(IF(\"19:00\"<=IFERROR(Hgauche,0),IF(durée6<0,0,durée6),\"00:00\"),0)),SUMPRODUCT(1*IFERROR(IF(\"21:00\"<=IFERROR(Hdroitesimple,0),IF(durée<0,0,durée),\"00:00\"),0)))-durée5","v":0},null,{"$f":"bilanh","v":0},{"$f":"VLOOKUP($A50,Bilan!$A$9:$AQ98,37,FALSE)","v":63},null,{"$f":"Bilan!AN50","v":65},65,null,{"$f":"Jourtravaillé","v":0}]
[{"$f":"Données!$H48","v":0},{"$f":"SUMPRODUCT((INDIRECT(\"'\"&$A$1&\"'!$A$7:$A$56\")=$A51)*(INDIRECT(\"'\"&$A$1&\"'!$B$7:$AF$56\")=B$7))","v":0},0,0,0,0,0,0,0,0,0,0,0,0,0,0,0,{"$f":"SUMPRODUCT((INDIRECT(\"'\"&$A$1&\"'!$A$7:$A$56\")=$A51)*(INDIRECT(\"'\"&$A$1&\"'!$B$7:$AF$56\")=R$7))","v":0},0,0,0,0,0,0,0,0,0,{"$f":"VLOOKUP($A51,INDIRECT(\"'H\"&$A$1&\"'!$A$7:$AR$56\"),35,0)","v":"00:00:00"},{"$f":"VLOOKUP($A51,INDIRECT(\"'H\"&$A$1&\"'!$A$7:$AR$56\"),38,0)","v":"00:00:00"},null,{"$f":"SUMPRODUCT(ISNUMBER(MATCH(INDIRECT(\"H\"&$A$1&\"!B2:AF2\"),DimFe,0))*IFERROR(IF(\"19:00\">=IFERROR(Hgauche,0),IFERROR(hdroite-Hgauche,0),IF(durée1>0,durée1,\"00:00\")),0))+SUMPRODUCT(ISNUMBER(MATCH(INDIRECT(\"H\"&$A$1&\"!B2:AF2\"),moindimfe,0))*IFERROR(IF(\"19:00\"<=IFERROR(Hgauche,0),IF(durée4<0,0,durée4),\"00:00\"),0))","v":0},{"$f":"SUMPRODUCT(ISNUMBER(MATCH(INDIRECT(\"H\"&$A$1&\"!B2:AF2\"),DimFe,0))*IFERROR(IF(\"19:00\"<=IFERROR(Hgauche,0),IF(durée6<0,0,durée6),IF(durée<0,0,durée)),0))+SUMPRODUCT(ISNUMBER(MATCH(INDIRECT(\"H\"&$A$1&\"!B2:AF2\"),moindimfe,0))*IFERROR(IF(\"19:00\"<=IFERROR(Hgauche,0),IF(durée2<0,0,durée2),\"00:00\"),0))","v":0},{"$f":"SUMPRODUCT(1*IF(durée<0,0,durée))+SUMPRODUCT(1*IFERROR(IF(\"19:00\"<=IFERROR(Hgauche,0),IF(durée2<0,0,durée2),\"00:00\"),0))-durée5","v":0},null,{"$f":"(AB51/24)+SUMPRODUCT(($B$6:$AA$6)*(B51:AA51))","v":0},{"$f":"VLOOKUP($A51,Bilan!A51:AI99,35,FALSE)","v":0},null,{"$f":"Bilan!AN51","v":66},65,null,{"$f":"SUM(B51:R51)","v":0}]
[{"$f":"Données!$H49","v":0},0,0,0,0,0,0,0,0,0,0,0,0,0,0,0,0,0,0,0,0,0,0,0,0,0,0,{"$f":"VLOOKUP($A52,INDIRECT(\"'H\"&$A$1&\"'!$A$7:$AR$56\"),35,0)","v":"00:00:00"},{"$f":"VLOOKUP($A52,INDIRECT(\"'H\"&$A$1&\"'!$A$7:$AR$56\"),38,0)","v":"00:00:00"},null,{"$f":"SUMPRODUCT(ISNUMBER(MATCH(INDIRECT(\"H\"&$A$1&\"!B2:AF2\"),DimFe,0))*IFERROR(IF(\"19:00\">=IFERROR(Hgauche,0),IFERROR(hdroite-Hgauche,0),IF(durée1>0,durée1,\"00:00\")),0))+SUMPRODUCT(ISNUMBER(MATCH(INDIRECT(\"H\"&$A$1&\"!B2:AF2\"),moindimfe,0))*IFERROR(IF(\"19:00\"<=IFERROR(Hgauche,0),IF(durée4<0,0,durée4),\"00:00\"),0))","v":0},{"$f":"SUMPRODUCT(ISNUMBER(MATCH(INDIRECT(\"H\"&$A$1&\"!B2:AF2\"),DimFe,0))*IFERROR(IF(\"19:00\"<=IFERROR(Hgauche,0),IF(durée6<0,0,durée6),IF(durée<0,0,durée)),0))+SUMPRODUCT(ISNUMBER(MATCH(INDIRECT(\"H\"&$A$1&\"!B2:AF2\"),moindimfe,0))*IFERROR(IF(\"19:00\"<=IFERROR(Hgauche,0),IF(durée2<0,0,durée2),\"00:00\"),0))","v":0},{"$f":"SUMPRODUCT(1*IF(durée<0,0,durée))+SUMPRODUCT(1*IFERROR(IF(\"19:00\"<=IFERROR(Hgauche,0),IF(durée2<0,0,durée2),\"00:00\"),0))-durée5","v":0},null,{"$f":"(AB52/24)+SUMPRODUCT(($B$6:$AA$6)*(B52:AA52))","v":0},{"$f":"VLOOKUP($A52,Bilan!A52:AI100,35,FALSE)","v":0},null,{"$f":"Bilan!AN52","v":{"$error":"#VALUE!"}},66,null,{"$f":"SUM(B52:R52)","v":0}]
[{"$f":"Données!$H50","v":0},0,0,0,0,0,0,0,0,0,0,0,0,0,0,0,0,0,0,0,0,0,0,0,0,0,0,{"$f":"VLOOKUP($A53,INDIRECT(\"'H\"&$A$1&\"'!$A$7:$AR$56\"),35,0)","v":"00:00:00"},{"$f":"VLOOKUP($A53,INDIRECT(\"'H\"&$A$1&\"'!$A$7:$AR$56\"),38,0)","v":"00:00:00"},null,{"$f":"SUMPRODUCT(ISNUMBER(MATCH(INDIRECT(\"H\"&$A$1&\"!B2:AF2\"),DimFe,0))*IFERROR(IF(\"19:00\">=IFERROR(Hgauche,0),IFERROR(hdroite-Hgauche,0),IF(durée1>0,durée1,\"00:00\")),0))+SUMPRODUCT(ISNUMBER(MATCH(INDIRECT(\"H\"&$A$1&\"!B2:AF2\"),moindimfe,0))*IFERROR(IF(\"19:00\"<=IFERROR(Hgauche,0),IF(durée4<0,0,durée4),\"00:00\"),0))","v":0},{"$f":"SUMPRODUCT(ISNUMBER(MATCH(INDIRECT(\"H\"&$A$1&\"!B2:AF2\"),DimFe,0))*IFERROR(IF(\"19:00\"<=IFERROR(Hgauche,0),IF(durée6<0,0,durée6),IF(durée<0,0,durée)),0))+SUMPRODUCT(ISNUMBER(MATCH(INDIRECT(\"H\"&$A$1&\"!B2:AF2\"),moindimfe,0))*IFERROR(IF(\"19:00\"<=IFERROR(Hgauche,0),IF(durée2<0,0,durée2),\"00:00\"),0))","v":0},{"$f":"SUMPRODUCT(1*IF(durée<0,0,durée))+SUMPRODUCT(1*IFERROR(IF(\"19:00\"<=IFERROR(Hgauche,0),IF(durée2<0,0,durée2),\"00:00\"),0))-durée5","v":0},null,{"$f":"(AB53/24)+SUMPRODUCT(($B$6:$AA$6)*(B53:AA53))","v":0},{"$f":"VLOOKUP($A53,Bilan!A53:AI101,35,FALSE)","v":0},null,{"$f":"Bilan!AN53","v":{"$error":"#VALUE!"}},67,null,{"$f":"SUM(B53:R53)","v":0}]
[{"$f":"Données!$H51","v":0},0,0,0,0,0,0,0,0,0,0,0,0,0,0,0,0,0,0,0,0,0,0,0,0,0,0,{"$f":"VLOOKUP($A54,INDIRECT(\"'H\"&$A$1&\"'!$A$7:$AR$56\"),35,0)","v":"00:00:00"},{"$f":"VLOOKUP($A54,INDIRECT(\"'H\"&$A$1&\"'!$A$7:$AR$56\"),38,0)","v":"00:00:00"},null,{"$f":"SUMPRODUCT(ISNUMBER(MATCH(INDIRECT(\"H\"&$A$1&\"!B2:AF2\"),DimFe,0))*IFERROR(IF(\"19:00\">=IFERROR(Hgauche,0),IFERROR(hdroite-Hgauche,0),IF(durée1>0,durée1,\"00:00\")),0))+SUMPRODUCT(ISNUMBER(MATCH(INDIRECT(\"H\"&$A$1&\"!B2:AF2\"),moindimfe,0))*IFERROR(IF(\"19:00\"<=IFERROR(Hgauche,0),IF(durée4<0,0,durée4),\"00:00\"),0))","v":0},{"$f":"SUMPRODUCT(ISNUMBER(MATCH(INDIRECT(\"H\"&$A$1&\"!B2:AF2\"),DimFe,0))*IFERROR(IF(\"19:00\"<=IFERROR(Hgauche,0),IF(durée6<0,0,durée6),IF(durée<0,0,durée)),0))+SUMPRODUCT(ISNUMBER(MATCH(INDIRECT(\"H\"&$A$1&\"!B2:AF2\"),moindimfe,0))*IFERROR(IF(\"19:00\"<=IFERROR(Hgauche,0),IF(durée2<0,0,durée2),\"00:00\"),0))","v":0},{"$f":"SUMPRODUCT(1*IF(durée<0,0,durée))+SUMPRODUCT(1*IFERROR(IF(\"19:00\"<=IFERROR(Hgauche,0),IF(durée2<0,0,durée2),\"00:00\"),0))-durée5","v":0},null,{"$f":"(AB54/24)+SUMPRODUCT(($B$6:$AA$6)*(B54:AA54))","v":0},{"$f":"VLOOKUP($A54,Bilan!A54:AI102,35,FALSE)","v":0},null,{"$f":"Bilan!AN54","v":{"$error":"#VALUE!"}},68,null,{"$f":"SUM(B54:R54)","v":0}]
[{"$f":"Données!$H52","v":"Chef de service"}]
[{"$f":"Données!$H53","v":"Q"},{"$f":"IF(SUMPRODUCT((INDIRECT(\"'\"&$A$1&\"'!$A$7:$A$56\")=$A56)*(INDIRECT(\"'\"&$A$1&\"'!$B$7:$AF$56\")=B$7))=0,\"\",SUMPRODUCT((INDIRECT(\"'\"&$A$1&\"'!$A$7:$A$56\")=$A56)*(INDIRECT(\"'\"&$A$1&\"'!$B$7:$AF$56\")=B$7)))","v":""},"","","","","","","","","","","","","","","","","","","","","","","","","",{"$f":"VLOOKUP($A56,INDIRECT(\"'\"&$A$1&\"'!$A$7:$AR$56\"),35,0)","v":"00:00:00"},{"$f":"VLOOKUP($A56,INDIRECT(\"'\"&$A$1&\"'!$A$7:$AR$56\"),36,0)","v":"00:00:00"},null,{"$f":"SUMPRODUCT(ISNUMBER(MATCH(INDIRECT(\"H\"&$A$1&\"!B2:AF2\"),DimFe,0))*IFERROR(IF(\"19:00\">=IFERROR(Hgauche,0),IFERROR(hdroite-Hgauche,0),IF(durée1>0,durée1,\"00:00\")),0))+SUMPRODUCT(ISNUMBER(MATCH(INDIRECT(\"H\"&$A$1&\"!B2:AF2\"),moindimfe,0))*IFERROR(IF(\"19:00\"<=IFERROR(Hgauche,0),IF(durée4<0,0,durée4),\"00:00\"),0))","v":0},{"$f":"SUMPRODUCT(ISNUMBER(MATCH(INDIRECT(\"H\"&$A$1&\"!B2:AF2\"),DimFe,0))*IFERROR(IF(\"19:00\"<=IFERROR(Hgauche,0),IF(durée6<0,0,durée6),IF(durée<0,0,durée)),0))+SUMPRODUCT(ISNUMBER(MATCH(INDIRECT(\"H\"&$A$1&\"!B2:AF2\"),moindimfe,0))*IFERROR(IF(\"19:00\"<=IFERROR(Hgauche,0),IF(durée2<0,0,durée2),\"00:00\"),0))","v":0},{"$f":"SUM(SUMPRODUCT(1*IFERROR(IF(\"19:00\"<=IFERROR(Hgauche,0),IF(durée2<0,0,durée2),\"00:00\"),0)),SUMPRODUCT(1*IFERROR(IF(\"19:00\"<=IFERROR(Hgauche,0),IF(durée6<0,0,durée6),\"00:00\"),0)),SUMPRODUCT(1*IFERROR(IF(\"21:00\"<=IFERROR(Hdroitesimple,0),IF(durée<0,0,durée),\"00:00\"),0)))-durée5","v":0},null,{"$f":"bilanh","v":0},{"$f":"VLOOKUP($A56,Bilan!$A$9:$AQ104,37,FALSE)","v":63},null,{"$f":"Bilan!AN56","v":65},65,null,{"$f":"Jourtravaillé","v":0}]

{"sheet":"BOctobre","index":35,"n_rows":56,"n_cols":66,"rows_kept":56,"cut":false,"hidden":false,"merged":[[7,37,7,38],[6,27,7,27],[6,28,7,28],[6,30,7,30],[6,31,7,31],[6,32,7,32],[7,34,7,35]]}
["Octobre"]
[null,null,{"$f":"LEFT(OFFSET(INDIRECT(\"H\"&$A$1&\"!B8:AF8\"),MATCH($A9,INDIRECT(\"H\"&$A$1&\"!A9:A56\"),0),),5)","v":""}]
[null,null,{"$f":"RIGHT(OFFSET(INDIRECT(\"H\"&$A$1&\"!B8:AF8\"),MATCH($A3,INDIRECT(\"H\"&$A$1&\"!A9:A56\"),0),),5)","v":""}]
[]
[]
["Jours",{"$f":"Données!$E3","v":0.31597222222222227},{"$f":"Données!$E4","v":0.10763888888888884},{"$f":"Données!$E5","v":0.31249999999999994},{"$f":"Données!$E6","v":0.32291666666666669},{"$f":"Données!$E7","v":8.3333333333333315E-2},{"$f":"Données!$E8","v":0.47916666666666669},{"$f":"Données!$E9","v":0.3125},{"$f":"Données!$E10","v":0.48958333333333337},{"$f":"Données!$E11","v":0.47916666666666669},{"$f":"Données!$E12","v":0.51041666666666674},{"$f":"Données!$E13","v":0.51041666666666674},{"$f":"Données!$E14","v":0.44791666666666663},{"$f":"Données!$E15","v":0.49999999999999989},{"$f":"Données!$E16","v":0.49999999999999989},{"$f":"Données!$E17","v":0.5},{"$f":"Données!$E18","v":0.29166666666666669},{"$f":"Données!$E19","v":0.3125},{"$f":"Données!$E20","v":0.3125},{"$f":"Données!$E21","v":0.3125},{"$f":"Données!$E22","v":0.3125},{"$f":"Données!$E23","v":0.3125},{"$f":"Données!$E24","v":0},{"$f":"Données!$E25","v":0},{"$f":"Données!$E26","v":0},{"$f":"Données!$E27","v":0.33333333333333331},{"$f":"Données!$E28","v":0}]
[null,{"$f":"Données!$A3","v":"M"},{"$f":"Données!$A4","v":"MG"},{"$f":"Données!$A5","v":"J"},{"$f":"Données!$A6","v":"J+"},{"$f":"Données!$A7","v":"R"},{"$f":"Données!$A8","v":"RS"},{"$f":"Données!$A9","v":"S"},{"$f":"Données!$A10","v":"W"},{"$f":"Données!$A11","v":"W+"},{"$f":"Données!$A12","v":"WD"},{"$f":"Données!$A13","v":"WF"},{"$f":"Données!$A14","v":"N"},{"$f":"Données!$A15","v":"N+"},{"$f":"Données!$A16","v":"NS"},{"$f":"Données!$A17","v":"T"},{"$f":"Données!$A18","v":"F"},{"$f":"Données!$A19","v":"SYN"},{"$f":"Données!$A20","v":"AT"},{"$f":"Données!$A21","v":"AM"},{"$f":"Données!$A22","v":"EM"},{"$f":"Données!$A23","v":"CE"},{"$f":"Données!$A24","v":"CA"},{"$f":"Données!$A25","v":"CA16"},{"$f":"Données!$A26","v":"REC"},{"$f":"Données!$A27","v":"PL"},{"$f":"Données!$A28","v":"D"},"Heures\nSupplémentaires \navant 21 h","Heures\nSupplémentaires \naprès 21 h",null,"Heures dimanche","Heures de nuit dimanches","Heures apres 21 h"]
["Equipe de jour",{"$f":"IF(ISBLANK(Données!$C3),TEXT(Données!$B3,\"hh:mm\"),TEXT(Données!$B3,\"hh:mm\")&\" : \"&TEXT(Données!$C3,\"hh:mm\"))","v":"07:00 : 14:35"},{"$f":"IF(ISBLANK(Données!$C4),TEXT(Données!$B4,\"hh:mm\"),TEXT(Données!$B4,\"hh:mm\")&\" : \"&TEXT(Données!$C4,\"hh:mm\"))","v":"23:00 : 01:35"},{"$f":"IF(ISBLANK(Données!$C5),TEXT(Données!$B5,\"hh:mm\"),TEXT(Données!$B5,\"hh:mm\")&\" : \"&TEXT(Données!$C5,\"hh:mm\"))","v":"10:00 : 17:30"},{"$f":"IF(ISBLANK(Données!$C6),TEXT(Données!$B6,\"hh:mm\"),TEXT(Données!$B6,\"hh:mm\")&\" : \"&TEXT(Données!$C6,\"hh:mm\"))","v":"11:30 : 19:15"},{"$f":"IF(ISBLANK(Données!$C7),TEXT(Données!$B7,\"hh:mm\"),TEXT(Données!$B7,\"hh:mm\")&\" : \"&TEXT(Données!$C7,\"hh:mm\"))","v":"10:00 : 12:00"},{"$f":"IF(ISBLANK(Données!$C8),TEXT(Données!$B8,\"hh:mm\"),TEXT(Données!$B8,\"hh:mm\")&\" : \"&TEXT(Données!$C8,\"hh:mm\"))","v":"10:00 : 21:30"},{"$f":"IF(ISBLANK(Données!$C9),TEXT(Données!$B9,\"hh:mm\"),TEXT(Données!$B9,\"hh:mm\")&\" : \"&TEXT(Données!$C9,\"hh:mm\"))","v":"14:00 : 21:30"},{"$f":"IF(ISBLANK(Données!$C10),TEXT(Données!$B10,\"hh:mm\"),TEXT(Données!$B10,\"hh:mm\")&\" : \"&TEXT(Données!$C10,\"hh:mm\"))","v":"07:30 : 19:15"},{"$f":"IF(ISBLANK(Données!$C11),TEXT(Données!$B11,\"hh:mm\"),TEXT(Données!$B11,\"hh:mm\")&\" : \"&TEXT(Données!$C11,\"hh:mm\"))","v":"10:00 : 21:30"},{"$f":"IF(ISBLANK(Données!$C12),TEXT(Données!$B12,\"hh:mm\"),TEXT(Données!$B12,\"hh:mm\")&\" : \"&TEXT(Données!$C12,\"hh:mm\"))","v":"07:00 : 19:15"},{"$f":"IF(ISBLANK(Données!$C13),TEXT(Données!$B13,\"hh:mm\"),TEXT(Données!$B13,\"hh:mm\")&\" : \"&TEXT(Données!$C13,\"hh:mm\"))","v":"07:00 : 19:15"},{"$f":"IF(ISBLANK(Données!$C14),TEXT(Données!$B14,\"hh:mm\"),TEXT(Données!$B14,\"hh:mm\")&\" : \"&TEXT(Données!$C14,\"hh:mm\"))","v":"20:30 : 07:15"},{"$f":"IF(ISBLANK(Données!$C15),TEXT(Données!$B15,\"hh:mm\"),TEXT(Données!$B15,\"hh:mm\")&\" : \"&TEXT(Données!$C15,\"hh:mm\"))","v":"19:15 : 07:15"},{"$f":"IF(ISBLANK(Données!$C16),TEXT(Données!$B16,\"hh:mm\"),TEXT(Données!$B16,\"hh:mm\")&\" : \"&TEXT(Données!$C16,\"hh:mm\"))","v":"19:15 : 07:15"},{"$f":"IF(ISBLANK(Données!$C17),TEXT(Données!$B17,\"hh:mm\"),TEXT(Données!$B17,\"hh:mm\")&\" : \"&TEXT(Données!$C17,\"hh:mm\"))","v":"T"},{"$f":"IF(ISBLANK(Données!$C18),TEXT(Données!$B18,\"hh:mm\"),TEXT(Données!$B18,\"hh:mm\")&\" : \"&TEXT(Données!$C18,\"hh:mm\"))","v":"F"},{"$f":"IF(ISBLANK(Données!$C19),TEXT(Données!$B19,\"hh:mm\"),TEXT(Données!$B19,\"hh:mm\")&\" : \"&TEXT(Données!$C19,\"hh:mm\"))","v":"Syn"},{"$f":"IF(ISBLANK(Données!$C20),TEXT(Données!$B20,\"hh:mm\"),TEXT(Données!$B20,\"hh:mm\")&\" : \"&TEXT(Données!$C20,\"hh:mm\"))","v":"AT"},{"$f":"IF(ISBLANK(Données!$C21),TEXT(Données!$B21,\"hh:mm\"),TEXT(Données!$B21,\"hh:mm\")&\" : \"&TEXT(Données!$C21,\"hh:mm\"))","v":"AM"},{"$f":"IF(ISBLANK(Données!$C22),TEXT(Données!$B22,\"hh:mm\"),TEXT(Données!$B22,\"hh:mm\")&\" : \"&TEXT(Données!$C22,\"hh:mm\"))","v":"EM"},{"$f":"IF(ISBLANK(Données!$C23),TEXT(Données!$B23,\"hh:mm\"),TEXT(Données!$B23,\"hh:mm\")&\" : \"&TEXT(Données!$C23,\"hh:mm\"))","v":"CE"},{"$f":"IF(ISBLANK(Données!$C24),TEXT(Données!$B24,\"hh:mm\"),TEXT(Données!$B24,\"hh:mm\")&\" : \"&TEXT(Données!$C24,\"hh:mm\"))","v":"CA"},{"$f":"IF(ISBLANK(Données!$C25),TEXT(Données!$B25,\"hh:mm\"),TEXT(Données!$B25,\"hh:mm\")&\" : \"&TEXT(Données!$C25,\"hh:mm\"))","v":"CA16"},{"$f":"IF(ISBLANK(Données!$C26),TEXT(Données!$B26,\"hh:mm\"),TEXT(Données!$B26,\"hh:mm\")&\" : \"&TEXT(Données!$C26,\"hh:mm\"))","v":"REC"},{"$f":"IF(ISBLANK(Données!$C27),TEXT(Données!$B27,\"hh:mm\"),TEXT(Données!$B27,\"hh:mm\")&\" : \"&TEXT(Données!$C27,\"hh:mm\"))","v":"PL"},{"$f":"IF(ISBLANK(Données!$C28),TEXT(Données!$B28,\"hh:mm\"),TEXT(Données!$B28,\"hh:mm\")&\" : \"&TEXT(Données!$C28,\"hh:mm\"))","v":"D"},null,null,null,null,null,null,null,"Total ",null,null,"CA",null,null,"Jour travaillé"]
[{"$f":"Données!$H6","v":"A"},{"$f":"IF(SUMPRODUCT((INDIRECT(\"'\"&$A$1&\"'!$A$7:$A$56\")=$A9)*(INDIRECT(\"'\"&$A$1&\"'!$B$7:$AF$56\")=B$7))=0,\"\",SUMPRODUCT((INDIRECT(\"'\"&$A$1&\"'!$A$7:$A$56\")=$A9)*(INDIRECT(\"'\"&$A$1&\"'!$B$7:$AF$56\")=B$7)))","v":""},{"$f":"IF(SUMPRODUCT((INDIRECT(\"'\"&$A$1&\"'!$A$7:$A$56\")=$A9)*(INDIRECT(\"'\"&$A$1&\"'!$B$7:$AF$56\")=C$7))=0,\"\",SUMPRODUCT((INDIRECT(\"'\"&$A$1&\"'!$A$7:$A$56\")=$A9)*(INDIRECT(\"'\"&$A$1&\"'!$B$7:$AF$56\")=C$7)))","v":""},"","","","","","","","","","","","","","","","","","","","","","","","",{"$f":"VLOOKUP($A9,INDIRECT(\"'\"&$A$1&\"'!$A$7:$AR$56\"),35,0)","v":"00:00:00"},{"$f":"VLOOKUP($A9,INDIRECT(\"'\"&$A$1&\"'!$A$7:$AR$56\"),36,0)","v":"00:00:00"},null,{"$f":"SUMPRODUCT(ISNUMBER(MATCH(INDIRECT(\"H\"&$A$1&\"!B2:AF2\"),DimFe,0))*IFERROR(IF(\"19:00\">=IFERROR(Hgauche,0),IFERROR(hdroite-Hgauche,0),IF(durée1>0,durée1,\"00:00\")),0))+SUMPRODUCT(ISNUMBER(MATCH(INDIRECT(\"H\"&$A$1&\"!B2:AF2\"),moindimfe,0))*IFERROR(IF(\"19:00\"<=IFERROR(Hgauche,0),IF(durée4<0,0,durée4),\"00:00\"),0))","v":0},{"$f":"SUMPRODUCT(ISNUMBER(MATCH(INDIRECT(\"H\"&$A$1&\"!B2:AF2\"),DimFe,0))*IFERROR(IF(\"19:00\"<=IFERROR(Hgauche,0),IF(durée6<0,0,durée6),IF(durée<0,0,durée)),0))+SUMPRODUCT(ISNUMBER(MATCH(INDIRECT(\"H\"&$A$1&\"!B2:AF2\"),moindimfe,0))*IFERROR(IF(\"19:00\"<=IFERROR(Hgauche,0),IF(durée2<0,0,durée2),\"00:00\"),0))","v":0},{"$f":"SUM(SUMPRODUCT(1*IFERROR(IF(\"19:00\"<=IFERROR(Hgauche,0),IF(durée2<0,0,durée2),\"00:00\"),0)),SUMPRODUCT(1*IFERROR(IF(\"19:00\"<=IFERROR(Hgauche,0),IF(durée6<0,0,durée6),\"00:00\"),0)),SUMPRODUCT(1*IFERROR(IF(\"21:00\"<=IFERROR(Hdroitesimple,0),IF(durée<0,0,durée),\"00:00\"),0)))-durée5","v":0},null,{"$f":"bilanh","v":0},{"$f":"VLOOKUP($A9,Bilan!$A$9:$AQ57,37,FALSE)","v":59.5},null,{"$f":"Bilan!AN9","v":65},65,null,{"$f":"Jourtravaillé","v":0}]
[{"$f":"Données!$H7","v":0},{"$f":"IF(SUMPRODUCT((INDIRECT(\"'\"&$A$1&\"'!$A$7:$A$56\")=$A10)*(INDIRECT(\"'\"&$A$1&\"'!$B$7:$AF$56\")=B$7))=0,\"\",SUMPRODUCT((INDIRECT(\"'\"&$A$1&\"'!$A$7:$A$56\")=$A10)*(INDIRECT(\"'\"&$A$1&\"'!$B$7:$AF$56\")=B$7)))","v":""},"","","","","","","","","","","","","","","","","","","","","","","","","",{"$f":"VLOOKUP($A10,INDIRECT(\"'\"&$A$1&\"'!$A$7:$AR$56\"),35,0)","v":"00:00:00"},{"$f":"VLOOKUP($A10,INDIRECT(\"'\"&$A$1&\"'!$A$7:$AR$56\"),36,0)","v":"00:00:00"},null,{"$f":"SUMPRODUCT(ISNUMBER(MATCH(INDIRECT(\"H\"&$A$1&\"!B2:AF2\"),DimFe,0))*IFERROR(IF(\"19:00\">=IFERROR(Hgauche,0),IFERROR(hdroite-Hgauche,0),IF(durée1>0,durée1,\"00:00\")),0))+SUMPRODUCT(ISNUMBER(MATCH(INDIRECT(\"H\"&$A$1&\"!B2:AF2\"),moindimfe,0))*IFERROR(IF(\"19:00\"<=IFERROR(Hgauche,0),IF(durée4<0,0,durée4),\"00:00\"),0))","v":0},{"$f":"SUMPRODUCT(ISNUMBER(MATCH(INDIRECT(\"H\"&$A$1&\"!B2:AF2\"),DimFe,0))*IFERROR(IF(\"19:00\"<=IFERROR(Hgauche,0),IF(durée6<0,0,durée6),IF(durée<0,0,durée)),0))+SUMPRODUCT(ISNUMBER(MATCH(INDIRECT(\"H\"&$A$1&\"!B2:AF2\"),moindimfe,0))*IFERROR(IF(\"19:00\"<=IFERROR(Hgauche,0),IF(durée2<0,0,durée2),\"00:00\"),0))","v":0},{"$f":"SUM(SUMPRODUCT(1*IFERROR(IF(\"19:00\"<=IFERROR(Hgauche,0),IF(durée2<0,0,durée2),\"00:00\"),0)),SUMPRODUCT(1*IFERROR(IF(\"19:00\"<=IFERROR(Hgauche,0),IF(durée6<0,0,durée6),\"00:00\"),0)),SUMPRODUCT(1*IFERROR(IF(\"21:00\"<=IFERROR(Hdroitesimple,0),IF(durée<0,0,durée),\"00:00\"),0)))-durée5","v":0},null,0,{"$f":"VLOOKUP($A10,Bilan!$A$9:$AQ58,37,FALSE)","v":59.5},null,{"$f":"Bilan!AN10","v":65},65,null,0]
[{"$f":"Données!$H8","v":0},"","","","","","","","","","","","","","","","","","","","","","","","","","","00:00:00","00:00:00",null,{"$f":"SUMPRODUCT(ISNUMBER(MATCH(INDIRECT(\"H\"&$A$1&\"!B2:AF2\"),DimFe,0))*IFERROR(IF(\"19:00\">=IFERROR(Hgauche,0),IFERROR(hdroite-Hgauche,0),IF(durée1>0,durée1,\"00:00\")),0))+SUMPRODUCT(ISNUMBER(MATCH(INDIRECT(\"H\"&$A$1&\"!B2:AF2\"),moindimfe,0))*IFERROR(IF(\"19:00\"<=IFERROR(Hgauche,0),IF(durée4<0,0,durée4),\"00:00\"),0))","v":0},{"$f":"SUMPRODUCT(ISNUMBER(MATCH(INDIRECT(\"H\"&$A$1&\"!B2:AF2\"),DimFe,0))*IFERROR(IF(\"19:00\"<=IFERROR(Hgauche,0),IF(durée6<0,0,durée6),IF(durée<0,0,durée)),0))+SUMPRODUCT(ISNUMBER(MATCH(INDIRECT(\"H\"&$A$1&\"!B2:AF2\"),moindimfe,0))*IFERROR(IF(\"19:00\"<=IFERROR(Hgauche,0),IF(durée2<0,0,durée2),\"00:00\"),0))","v":0},{"$f":"SUM(SUMPRODUCT(1*IFERROR(IF(\"19:00\"<=IFERROR(Hgauche,0),IF(durée2<0,0,durée2),\"00:00\"),0)),SUMPRODUCT(1*IFERROR(IF(\"19:00\"<=IFERROR(Hgauche,0),IF(durée6<0,0,durée6),\"00:00\"),0)),SUMPRODUCT(1*IFERROR(IF(\"21:00\"<=IFERROR(Hdroitesimple,0),IF(durée<0,0,durée),\"00:00\"),0)))-durée5","v":0},null,0,{"$f":"VLOOKUP($A11,Bilan!$A$9:$AQ59,37,FALSE)","v":59.5},null,{"$f":"Bilan!AN11","v":65},65,null,0]
[{"$f":"Données!$H9","v":0},"","","","","","","","","","","","","","","","","","","","","","","","","","","00:00:00","00:00:00",null,{"$f":"SUMPRODUCT(ISNUMBER(MATCH(INDIRECT(\"H\"&$A$1&\"!B2:AF2\"),DimFe,0))*IFERROR(IF(\"19:00\">=IFERROR(Hgauche,0),IFERROR(hdroite-Hgauche,0),IF(durée1>0,durée1,\"00:00\")),0))+SUMPRODUCT(ISNUMBER(MATCH(INDIRECT(\"H\"&$A$1&\"!B2:AF2\"),moindimfe,0))*IFERROR(IF(\"19:00\"<=IFERROR(Hgauche,0),IF(durée4<0,0,durée4),\"00:00\"),0))","v":0},{"$f":"SUMPRODUCT(ISNUMBER(MATCH(INDIRECT(\"H\"&$A$1&\"!B2:AF2\"),DimFe,0))*IFERROR(IF(\"19:00\"<=IFERROR(Hgauche,0),IF(durée6<0,0,durée6),IF(durée<0,0,durée)),0))+SUMPRODUCT(ISNUMBER(MATCH(INDIRECT(\"H\"&$A$1&\"!B2:AF2\"),moindimfe,0))*IFERROR(IF(\"19:00\"<=IFERROR(Hgauche,0),IF(durée2<0,0,durée2),\"00:00\"),0))","v":0},{"$f":"SUM(SUMPRODUCT(1*IFERROR(IF(\"19:00\"<=IFERROR(Hgauche,0),IF(durée2<0,0,durée2),\"00:00\"),0)),SUMPRODUCT(1*IFERROR(IF(\"19:00\"<=IFERROR(Hgauche,0),IF(durée6<0,0,durée6),\"00:00\"),0)),SUMPRODUCT(1*IFERROR(IF(\"21:00\"<=IFERROR(Hdroitesimple,0),IF(durée<0,0,durée),\"00:00\"),0)))-durée5","v":0},null,0,{"$f":"VLOOKUP($A12,Bilan!$A$9:$AQ60,37,FALSE)","v":59.5},null,{"$f":"Bilan!AN12","v":65},65,null,0]
[{"$f":"Données!$H10","v":0},"","","","","","","","","","","","","","","","","","","","","","","","","","","00:00:00","00:00:00",null,{"$f":"SUMPRODUCT(ISNUMBER(MATCH(INDIRECT(\"H\"&$A$1&\"!B2:AF2\"),DimFe,0))*IFERROR(IF(\"19:00\">=IFERROR(Hgauche,0),IFERROR(hdroite-Hgauche,0),IF(durée1>0,durée1,\"00:00\")),0))+SUMPRODUCT(ISNUMBER(MATCH(INDIRECT(\"H\"&$A$1&\"!B2:AF2\"),moindimfe,0))*IFERROR(IF(\"19:00\"<=IFERROR(Hgauche,0),IF(durée4<0,0,durée4),\"00:00\"),0))","v":0},{"$f":"SUMPRODUCT(ISNUMBER(MATCH(INDIRECT(\"H\"&$A$1&\"!B2:AF2\"),DimFe,0))*IFERROR(IF(\"19:00\"<=IFERROR(Hgauche,0),IF(durée6<0,0,durée6),IF(durée<0,0,durée)),0))+SUMPRODUCT(ISNUMBER(MATCH(INDIRECT(\"H\"&$A$1&\"!B2:AF2\"),moindimfe,0))*IFERROR(IF(\"19:00\"<=IFERROR(Hgauche,0),IF(durée2<0,0,durée2),\"00:00\"),0))","v":0},{"$f":"SUM(SUMPRODUCT(1*IFERROR(IF(\"19:00\"<=IFERROR(Hgauche,0),IF(durée2<0,0,durée2),\"00:00\"),0)),SUMPRODUCT(1*IFERROR(IF(\"19:00\"<=IFERROR(Hgauche,0),IF(durée6<0,0,durée6),\"00:00\"),0)),SUMPRODUCT(1*IFERROR(IF(\"21:00\"<=IFERROR(Hdroitesimple,0),IF(durée<0,0,durée),\"00:00\"),0)))-durée5","v":0},null,0,{"$f":"VLOOKUP($A13,Bilan!$A$9:$AQ61,37,FALSE)","v":59.5},null,{"$f":"Bilan!AN13","v":65},65,null,0]
[{"$f":"Données!$H11","v":0},"","","","","","","","","","","","","","","","","","","","","","","","","","","00:00:00","00:00:00",null,{"$f":"SUMPRODUCT(ISNUMBER(MATCH(INDIRECT(\"H\"&$A$1&\"!B2:AF2\"),DimFe,0))*IFERROR(IF(\"19:00\">=IFERROR(Hgauche,0),IFERROR(hdroite-Hgauche,0),IF(durée1>0,durée1,\"00:00\")),0))+SUMPRODUCT(ISNUMBER(MATCH(INDIRECT(\"H\"&$A$1&\"!B2:AF2\"),moindimfe,0))*IFERROR(IF(\"19:00\"<=IFERROR(Hgauche,0),IF(durée4<0,0,durée4),\"00:00\"),0))","v":0},{"$f":"SUMPRODUCT(ISNUMBER(MATCH(INDIRECT(\"H\"&$A$1&\"!B2:AF2\"),DimFe,0))*IFERROR(IF(\"19:00\"<=IFERROR(Hgauche,0),IF(durée6<0,0,durée6),IF(durée<0,0,durée)),0))+SUMPRODUCT(ISNUMBER(MATCH(INDIRECT(\"H\"&$A$1&\"!B2:AF2\"),moindimfe,0))*IFERROR(IF(\"19:00\"<=IFERROR(Hgauche,0),IF(durée2<0,0,durée2),\"00:00\"),0))","v":0},{"$f":"SUM(SUMPRODUCT(1*IFERROR(IF(\"19:00\"<=IFERROR(Hgauche,0),IF(durée2<0,0,durée2),\"00:00\"),0)),SUMPRODUCT(1*IFERROR(IF(\"19:00\"<=IFERROR(Hgauche,0),IF(durée6<0,0,durée6),\"00:00\"),0)),SUMPRODUCT(1*IFERROR(IF(\"21:00\"<=IFERROR(Hdroitesimple,0),IF(durée<0,0,durée),\"00:00\"),0)))-durée5","v":0},null,0,{"$f":"VLOOKUP($A14,Bilan!$A$9:$AQ62,37,FALSE)","v":59.5},null,{"$f":"Bilan!AN14","v":65},65,null,0]
[{"$f":"Données!$H12","v":0},"","","","","","","","","","","","","","","","","","","","","","","","","","","00:00:00","00:00:00",null,{"$f":"SUMPRODUCT(ISNUMBER(MATCH(INDIRECT(\"H\"&$A$1&\"!B2:AF2\"),DimFe,0))*IFERROR(IF(\"19:00\">=IFERROR(Hgauche,0),IFERROR(hdroite-Hgauche,0),IF(durée1>0,durée1,\"00:00\")),0))+SUMPRODUCT(ISNUMBER(MATCH(INDIRECT(\"H\"&$A$1&\"!B2:AF2\"),moindimfe,0))*IFERROR(IF(\"19:00\"<=IFERROR(Hgauche,0),IF(durée4<0,0,durée4),\"00:00\"),0))","v":0},{"$f":"SUMPRODUCT(ISNUMBER(MATCH(INDIRECT(\"H\"&$A$1&\"!B2:AF2\"),DimFe,0))*IFERROR(IF(\"19:00\"<=IFERROR(Hgauche,0),IF(durée6<0,0,durée6),IF(durée<0,0,durée)),0))+SUMPRODUCT(ISNUMBER(MATCH(INDIRECT(\"H\"&$A$1&\"!B2:AF2\"),moindimfe,0))*IFERROR(IF(\"19:00\"<=IFERROR(Hgauche,0),IF(durée2<0,0,durée2),\"00:00\"),0))","v":0},{"$f":"SUM(SUMPRODUCT(1*IFERROR(IF(\"19:00\"<=IFERROR(Hgauche,0),IF(durée2<0,0,durée2),\"00:00\"),0)),SUMPRODUCT(1*IFERROR(IF(\"19:00\"<=IFERROR(Hgauche,0),IF(durée6<0,0,durée6),\"00:00\"),0)),SUMPRODUCT(1*IFERROR(IF(\"21:00\"<=IFERROR(Hdroitesimple,0),IF(durée<0,0,durée),\"00:00\"),0)))-durée5","v":0},null,0,{"$f":"VLOOKUP($A15,Bilan!$A$9:$AQ63,37,FALSE)","v":59.5},null,{"$f":"Bilan!AN15","v":65},65,null,0]
[{"$f":"Données!$H13","v":0},"","","","","","","","","","","","","","","","","","","","","","","","","","","00:00:00","00:00:00",null,{"$f":"SUMPRODUCT(ISNUMBER(MATCH(INDIRECT(\"H\"&$A$1&\"!B2:AF2\"),DimFe,0))*IFERROR(IF(\"19:00\">=IFERROR(Hgauche,0),IFERROR(hdroite-Hgauche,0),IF(durée1>0,durée1,\"00:00\")),0))+SUMPRODUCT(ISNUMBER(MATCH(INDIRECT(\"H\"&$A$1&\"!B2:AF2\"),moindimfe,0))*IFERROR(IF(\"19:00\"<=IFERROR(Hgauche,0),IF(durée4<0,0,durée4),\"00:00\"),0))","v":0},{"$f":"SUMPRODUCT(ISNUMBER(MATCH(INDIRECT(\"H\"&$A$1&\"!B2:AF2\"),DimFe,0))*IFERROR(IF(\"19:00\"<=IFERROR(Hgauche,0),IF(durée6<0,0,durée6),IF(durée<0,0,durée)),0))+SUMPRODUCT(ISNUMBER(MATCH(INDIRECT(\"H\"&$A$1&\"!B2:AF2\"),moindimfe,0))*IFERROR(IF(\"19:00\"<=IFERROR(Hgauche,0),IF(durée2<0,0,durée2),\"00:00\"),0))","v":0},{"$f":"SUM(SUMPRODUCT(1*IFERROR(IF(\"19:00\"<=IFERROR(Hgauche,0),IF(durée2<0,0,durée2),\"00:00\"),0)),SUMPRODUCT(1*IFERROR(IF(\"19:00\"<=IFERROR(Hgauche,0),IF(durée6<0,0,durée6),\"00:00\"),0)),SUMPRODUCT(1*IFERROR(IF(\"21:00\"<=IFERROR(Hdroitesimple,0),IF(durée<0,0,durée),\"00:00\"),0)))-durée5","v":0},null,0,{"$f":"VLOOKUP($A16,Bilan!$A$9:$AQ64,37,FALSE)","v":59.5},null,{"$f":"Bilan!AN16","v":65},65,null,0]
[{"$f":"Données!$H14","v":0},"","","","","","","","","","","","","","","","","","","","","","","","","","","00:00:00","00:00:00",null,{"$f":"SUMPRODUCT(ISNUMBER(MATCH(INDIRECT(\"H\"&$A$1&\"!B2:AF2\"),DimFe,0))*IFERROR(IF(\"19:00\">=IFERROR(Hgauche,0),IFERROR(hdroite-Hgauche,0),IF(durée1>0,durée1,\"00:00\")),0))+SUMPRODUCT(ISNUMBER(MATCH(INDIRECT(\"H\"&$A$1&\"!B2:AF2\"),moindimfe,0))*IFERROR(IF(\"19:00\"<=IFERROR(Hgauche,0),IF(durée4<0,0,durée4),\"00:00\"),0))","v":0},{"$f":"SUMPRODUCT(ISNUMBER(MATCH(INDIRECT(\"H\"&$A$1&\"!B2:AF2\"),DimFe,0))*IFERROR(IF(\"19:00\"<=IFERROR(Hgauche,0),IF(durée6<0,0,durée6),IF(durée<0,0,durée)),0))+SUMPRODUCT(ISNUMBER(MATCH(INDIRECT(\"H\"&$A$1&\"!B2:AF2\"),moindimfe,0))*IFERROR(IF(\"19:00\"<=IFERROR(Hgauche,0),IF(durée2<0,0,durée2),\"00:00\"),0))","v":0},{"$f":"SUM(SUMPRODUCT(1*IFERROR(IF(\"19:00\"<=IFERROR(Hgauche,0),IF(durée2<0,0,durée2),\"00:00\"),0)),SUMPRODUCT(1*IFERROR(IF(\"19:00\"<=IFERROR(Hgauche,0),IF(durée6<0,0,durée6),\"00:00\"),0)),SUMPRODUCT(1*IFERROR(IF(\"21:00\"<=IFERROR(Hdroitesimple,0),IF(durée<0,0,durée),\"00:00\"),0)))-durée5","v":0},null,0,{"$f":"VLOOKUP($A17,Bilan!$A$9:$AQ65,37,FALSE)","v":59.5},null,{"$f":"Bilan!AN17","v":65},65,null,0]
[{"$f":"Données!$H15","v":0},"","","","","","","","","","","","","","","","","","","","","","","","","","","00:00:00","00:00:00",null,{"$f":"SUMPRODUCT(ISNUMBER(MATCH(INDIRECT(\"H\"&$A$1&\"!B2:AF2\"),DimFe,0))*IFERROR(IF(\"19:00\">=IFERROR(Hgauche,0),IFERROR(hdroite-Hgauche,0),IF(durée1>0,durée1,\"00:00\")),0))+SUMPRODUCT(ISNUMBER(MATCH(INDIRECT(\"H\"&$A$1&\"!B2:AF2\"),moindimfe,0))*IFERROR(IF(\"19:00\"<=IFERROR(Hgauche,0),IF(durée4<0,0,durée4),\"00:00\"),0))","v":0},{"$f":"SUMPRODUCT(ISNUMBER(MATCH(INDIRECT(\"H\"&$A$1&\"!B2:AF2\"),DimFe,0))*IFERROR(IF(\"19:00\"<=IFERROR(Hgauche,0),IF(durée6<0,0,durée6),IF(durée<0,0,durée)),0))+SUMPRODUCT(ISNUMBER(MATCH(INDIRECT(\"H\"&$A$1&\"!B2:AF2\"),moindimfe,0))*IFERROR(IF(\"19:00\"<=IFERROR(Hgauche,0),IF(durée2<0,0,durée2),\"00:00\"),0))","v":0},{"$f":"SUM(SUMPRODUCT(1*IFERROR(IF(\"19:00\"<=IFERROR(Hgauche,0),IF(durée2<0,0,durée2),\"00:00\"),0)),SUMPRODUCT(1*IFERROR(IF(\"19:00\"<=IFERROR(Hgauche,0),IF(durée6<0,0,durée6),\"00:00\"),0)),SUMPRODUCT(1*IFERROR(IF(\"21:00\"<=IFERROR(Hdroitesimple,0),IF(durée<0,0,durée),\"00:00\"),0)))-durée5","v":0},null,0,{"$f":"VLOOKUP($A18,Bilan!$A$9:$AQ66,37,FALSE)","v":59.5},null,{"$f":"Bilan!AN18","v":65},65,null,0]
[{"$f":"Données!$H16","v":0},{"$f":"SUMPRODUCT((INDIRECT(\"'\"&$A$1&\"'!$A$7:$A$56\")=$A19)*(INDIRECT(\"'\"&$A$1&\"'!$B$7:$AF$56\")=B$7))","v":0},0,0,0,0,0,0,0,0,0,0,0,0,0,0,0,{"$f":"SUMPRODUCT((INDIRECT(\"'\"&$A$1&\"'!$A$7:$A$56\")=$A19)*(INDIRECT(\"'\"&$A$1&\"'!$B$7:$AF$56\")=R$7))","v":0},0,0,0,0,0,0,0,0,0,{"$f":"VLOOKUP($A19,INDIRECT(\"'H\"&$A$1&\"'!$A$7:$AR$56\"),35,0)","v":"00:00:00"},{"$f":"VLOOKUP($A19,INDIRECT(\"'H\"&$A$1&\"'!$A$7:$AR$56\"),38,0)","v":"00:00:00"},null,{"$f":"SUMPRODUCT(ISNUMBER(MATCH(INDIRECT(\"H\"&$A$1&\"!B2:AF2\"),DimFe,0))*IFERROR(IF(\"19:00\">=IFERROR(Hgauche,0),IFERROR(hdroite-Hgauche,0),IF(durée1>0,durée1,\"00:00\")),0))+SUMPRODUCT(ISNUMBER(MATCH(INDIRECT(\"H\"&$A$1&\"!B2:AF2\"),moindimfe,0))*IFERROR(IF(\"19:00\"<=IFERROR(Hgauche,0),IF(durée4<0,0,durée4),\"00:00\"),0))","v":0},{"$f":"SUMPRODUCT(ISNUMBER(MATCH(INDIRECT(\"H\"&$A$1&\"!B2:AF2\"),DimFe,0))*IFERROR(IF(\"19:00\"<=IFERROR(Hgauche,0),IF(durée6<0,0,durée6),IF(durée<0,0,durée)),0))+SUMPRODUCT(ISNUMBER(MATCH(INDIRECT(\"H\"&$A$1&\"!B2:AF2\"),moindimfe,0))*IFERROR(IF(\"19:00\"<=IFERROR(Hgauche,0),IF(durée2<0,0,durée2),\"00:00\"),0))","v":0},{"$f":"SUMPRODUCT(1*IF(durée<0,0,durée))+SUMPRODUCT(1*IFERROR(IF(\"19:00\"<=IFERROR(Hgauche,0),IF(durée2<0,0,durée2),\"00:00\"),0))-durée5","v":0},null,{"$f":"(AB19/24)+SUMPRODUCT(($B$6:$AA$6)*(B19:AA19))","v":0},{"$f":"VLOOKUP($A19,Bilan!A19:AI67,35,FALSE)","v":0},null,{"$f":"Bilan!AN19","v":{"$error":"#VALUE!"}},65,null,{"$f":"SUM(B19:R19)","v":0},null,null,null,null,null,null,null,null,null,null,null,null,null,null,null,null,null,null,null,null,null,null,null,{"$f":"Données!$A14","v":"N"},{"$f":"Données!$B14","v":0.85416666666666663}]
[{"$f":"Données!$H17","v":0},0,0,0,0,0,0,0,0,0,0,0,0,0,0,0,0,0,0,0,0,0,0,0,0,0,0,"00:00:00","00:00:00",null,{"$f":"SUMPRODUCT(ISNUMBER(MATCH(INDIRECT(\"H\"&$A$1&\"!B2:AF2\"),DimFe,0))*IFERROR(IF(\"19:00\">=IFERROR(Hgauche,0),IFERROR(hdroite-Hgauche,0),IF(durée1>0,durée1,\"00:00\")),0))+SUMPRODUCT(ISNUMBER(MATCH(INDIRECT(\"H\"&$A$1&\"!B2:AF2\"),moindimfe,0))*IFERROR(IF(\"19:00\"<=IFERROR(Hgauche,0),IF(durée4<0,0,durée4),\"00:00\"),0))","v":0},{"$f":"SUMPRODUCT(ISNUMBER(MATCH(INDIRECT(\"H\"&$A$1&\"!B2:AF2\"),DimFe,0))*IFERROR(IF(\"19:00\"<=IFERROR(Hgauche,0),IF(durée6<0,0,durée6),IF(durée<0,0,durée)),0))+SUMPRODUCT(ISNUMBER(MATCH(INDIRECT(\"H\"&$A$1&\"!B2:AF2\"),moindimfe,0))*IFERROR(IF(\"19:00\"<=IFERROR(Hgauche,0),IF(durée2<0,0,durée2),\"00:00\"),0))","v":0},{"$f":"SUMPRODUCT(1*IF(durée<0,0,durée))+SUMPRODUCT(1*IFERROR(IF(\"19:00\"<=IFERROR(Hgauche,0),IF(durée2<0,0,durée2),\"00:00\"),0))-durée5","v":0},null,0,{"$f":"VLOOKUP($A20,Bilan!A20:AI68,35,FALSE)","v":0},null,{"$f":"Bilan!AN20","v":{"$error":"#VALUE!"}},65,null,0,null,null,null,null,null,null,null,null,null,null,null,null,null,null,null,null,null,null,null,null,null,null,null,{"$f":"Données!$A15","v":"N+"},{"$f":"Données!$B15","v":0.80208333333333337}]
[{"$f":"Données!$H18","v":0},0,0,0,0,0,0,0,0,0,0,0,0,0,0,0,0,0,0,0,0,0,0,0,0,0,0,"00:00:00","00:00:00",null,{"$f":"SUMPRODUCT(ISNUMBER(MATCH(INDIRECT(\"H\"&$A$1&\"!B2:AF2\"),DimFe,0))*IFERROR(IF(\"19:00\">=IFERROR(Hgauche,0),IFERROR(hdroite-Hgauche,0),IF(durée1>0,durée1,\"00:00\")),0))+SUMPRODUCT(ISNUMBER(MATCH(INDIRECT(\"H\"&$A$1&\"!B2:AF2\"),moindimfe,0))*IFERROR(IF(\"19:00\"<=IFERROR(Hgauche,0),IF(durée4<0,0,durée4),\"00:00\"),0))","v":0},{"$f":"SUMPRODUCT(ISNUMBER(MATCH(INDIRECT(\"H\"&$A$1&\"!B2:AF2\"),DimFe,0))*IFERROR(IF(\"19:00\"<=IFERROR(Hgauche,0),IF(durée6<0,0,durée6),IF(durée<0,0,durée)),0))+SUMPRODUCT(ISNUMBER(MATCH(INDIRECT(\"H\"&$A$1&\"!B2:AF2\"),moindimfe,0))*IFERROR(IF(\"19:00\"<=IFERROR(Hgauche,0),IF(durée2<0,0,durée2),\"00:00\"),0))","v":0},{"$f":"SUMPRODUCT(1*IF(durée<0,0,durée))+SUMPRODUCT(1*IFERROR(IF(\"19:00\"<=IFERROR(Hgauche,0),IF(durée2<0,0,durée2),\"00:00\"),0))-durée5","v":0},null,0,{"$f":"VLOOKUP($A21,Bilan!A21:AI69,35,FALSE)","v":0},null,{"$f":"Bilan!AN21","v":{"$error":"#VALUE!"}},65,null,0,null,null,null,null,null,null,null,null,null,null,null,null,null,null,null,null,null,null,null,null,null,null,null,{"$f":"Données!$A16","v":"NS"},{"$f":"Données!$B16","v":0.80208333333333337}]
[{"$f":"Données!$H19","v":0},0,0,0,0,0,0,0,0,0,0,0,0,0,0,0,0,0,0,0,0,0,0,0,0,0,0,"00:00:00","00:00:00",null,{"$f":"SUMPRODUCT(ISNUMBER(MATCH(INDIRECT(\"H\"&$A$1&\"!B2:AF2\"),DimFe,0))*IFERROR(IF(\"19:00\">=IFERROR(Hgauche,0),IFERROR(hdroite-Hgauche,0),IF(durée1>0,durée1,\"00:00\")),0))+SUMPRODUCT(ISNUMBER(MATCH(INDIRECT(\"H\"&$A$1&\"!B2:AF2\"),moindimfe,0))*IFERROR(IF(\"19:00\"<=IFERROR(Hgauche,0),IF(durée4<0,0,durée4),\"00:00\"),0))","v":0},{"$f":"SUMPRODUCT(ISNUMBER(MATCH(INDIRECT(\"H\"&$A$1&\"!B2:AF2\"),DimFe,0))*IFERROR(IF(\"19:00\"<=IFERROR(Hgauche,0),IF(durée6<0,0,durée6),IF(durée<0,0,durée)),0))+SUMPRODUCT(ISNUMBER(MATCH(INDIRECT(\"H\"&$A$1&\"!B2:AF2\"),moindimfe,0))*IFERROR(IF(\"19:00\"<=IFERROR(Hgauche,0),IF(durée2<0,0,durée2),\"00:00\"),0))","v":0},{"$f":"SUMPRODUCT(1*IF(durée<0,0,durée))+SUMPRODUCT(1*IFERROR(IF(\"19:00\"<=IFERROR(Hgauche,0),IF(durée2<0,0,durée2),\"00:00\"),0))-durée5","v":0},null,0,{"$f":"VLOOKUP($A22,Bilan!A22:AI70,35,FALSE)","v":0},null,{"$f":"Bilan!AN22","v":{"$error":"#VALUE!"}},65,null,0,null,null,null,null,null,null,null,null,null,null,null,null,null,null,null,null,null,null,null,null,null,null,null,{"$f":"Données!$A17","v":"T"},{"$f":"Données!$B17","v":"T"}]
[{"$f":"Données!$H20","v":0},0,0,0,0,0,0,0,0,0,0,0,0,0,0,0,0,0,0,0,0,0,0,0,0,0,0,"00:00:00","00:00:00",null,{"$f":"SUMPRODUCT(ISNUMBER(MATCH(INDIRECT(\"H\"&$A$1&\"!B2:AF2\"),DimFe,0))*IFERROR(IF(\"19:00\">=IFERROR(Hgauche,0),IFERROR(hdroite-Hgauche,0),IF(durée1>0,durée1,\"00:00\")),0))+SUMPRODUCT(ISNUMBER(MATCH(INDIRECT(\"H\"&$A$1&\"!B2:AF2\"),moindimfe,0))*IFERROR(IF(\"19:00\"<=IFERROR(Hgauche,0),IF(durée4<0,0,durée4),\"00:00\"),0))","v":0},{"$f":"SUMPRODUCT(ISNUMBER(MATCH(INDIRECT(\"H\"&$A$1&\"!B2:AF2\"),DimFe,0))*IFERROR(IF(\"19:00\"<=IFERROR(Hgauche,0),IF(durée6<0,0,durée6),IF(durée<0,0,durée)),0))+SUMPRODUCT(ISNUMBER(MATCH(INDIRECT(\"H\"&$A$1&\"!B2:AF2\"),moindimfe,0))*IFERROR(IF(\"19:00\"<=IFERROR(Hgauche,0),IF(durée2<0,0,durée2),\"00:00\"),0))","v":0},{"$f":"SUMPRODUCT(1*IF(durée<0,0,durée))+SUMPRODUCT(1*IFERROR(IF(\"19:00\"<=IFERROR(Hgauche,0),IF(durée2<0,0,durée2),\"00:00\"),0))-durée5","v":0},null,0,{"$f":"VLOOKUP($A23,Bilan!A23:AI71,35,FALSE)","v":0},null,{"$f":"Bilan!AN23","v":{"$error":"#VALUE!"}},65,null,0,null,null,null,null,null,null,null,null,null,null,null,null,null,null,null,null,null,null,null,null,null,null,null,{"$f":"Données!$A18","v":"F"},{"$f":"Données!$B18","v":"F"}]
[{"$f":"Données!$H21","v":0},0,0,0,0,0,0,0,0,0,0,0,0,0,0,0,0,0,0,0,0,0,0,0,0,0,0,"00:00:00","00:00:00",null,{"$f":"SUMPRODUCT(ISNUMBER(MATCH(INDIRECT(\"H\"&$A$1&\"!B2:AF2\"),DimFe,0))*IFERROR(IF(\"19:00\">=IFERROR(Hgauche,0),IFERROR(hdroite-Hgauche,0),IF(durée1>0,durée1,\"00:00\")),0))+SUMPRODUCT(ISNUMBER(MATCH(INDIRECT(\"H\"&$A$1&\"!B2:AF2\"),moindimfe,0))*IFERROR(IF(\"19:00\"<=IFERROR(Hgauche,0),IF(durée4<0,0,durée4),\"00:00\"),0))","v":0},{"$f":"SUMPRODUCT(ISNUMBER(MATCH(INDIRECT(\"H\"&$A$1&\"!B2:AF2\"),DimFe,0))*IFERROR(IF(\"19:00\"<=IFERROR(Hgauche,0),IF(durée6<0,0,durée6),IF(durée<0,0,durée)),0))+SUMPRODUCT(ISNUMBER(MATCH(INDIRECT(\"H\"&$A$1&\"!B2:AF2\"),moindimfe,0))*IFERROR(IF(\"19:00\"<=IFERROR(Hgauche,0),IF(durée2<0,0,durée2),\"00:00\"),0))","v":0},{"$f":"SUMPRODUCT(1*IF(durée<0,0,durée))+SUMPRODUCT(1*IFERROR(IF(\"19:00\"<=IFERROR(Hgauche,0),IF(durée2<0,0,durée2),\"00:00\"),0))-durée5","v":0},null,0,{"$f":"VLOOKUP($A24,Bilan!A24:AI72,35,FALSE)","v":0},null,{"$f":"Bilan!AN24","v":{"$error":"#VALUE!"}},65,null,0,null,null,null,null,null,null,null,null,null,null,null,null,null,null,null,null,null,null,null,null,null,null,null,{"$f":"Données!$A19","v":"SYN"},{"$f":"Données!$B19","v":"Syn"}]
[{"$f":"Données!$H22","v":"Equipe de nuit"}]
[{"$f":"Données!$H23","v":"K"},{"$f":"IF(SUMPRODUCT((INDIRECT(\"'\"&$A$1&\"'!$A$7:$A$56\")=$A26)*(INDIRECT(\"'\"&$A$1&\"'!$B$7:$AF$56\")=B$7))=0,\"\",SUMPRODUCT((INDIRECT(\"'\"&$A$1&\"'!$A$7:$A$56\")=$A26)*(INDIRECT(\"'\"&$A$1&\"'!$B$7:$AF$56\")=B$7)))","v":""},"","","","","","","","","","","","","","","",{"$f":"IF(SUMPRODUCT((INDIRECT(\"'\"&$A$1&\"'!$A$7:$A$56\")=$A26)*(INDIRECT(\"'\"&$A$1&\"'!$B$7:$AF$56\")=R$7))=0,\"\",SUMPRODUCT((INDIRECT(\"'\"&$A$1&\"'!$A$7:$A$56\")=$A26)*(INDIRECT(\"'\"&$A$1&\"'!$B$7:$AF$56\")=R$7)))","v":""},"","","","","","","","","",{"$f":"VLOOKUP($A26,INDIRECT(\"'\"&$A$1&\"'!$A$7:$AR$56\"),35,0)","v":"00:00:00"},{"$f":"VLOOKUP($A26,INDIRECT(\"'\"&$A$1&\"'!$A$7:$AR$56\"),36,0)","v":"00:00:00"},null,{"$f":"SUMPRODUCT(ISNUMBER(MATCH(INDIRECT(\"H\"&$A$1&\"!B2:AF2\"),DimFe,0))*IFERROR(IF(\"19:00\">=IFERROR(Hgauche,0),IFERROR(hdroite-Hgauche,0),IF(durée1>0,durée1,\"00:00\")),0))+SUMPRODUCT(ISNUMBER(MATCH(INDIRECT(\"H\"&$A$1&\"!B2:AF2\"),moindimfe,0))*IFERROR(IF(\"19:00\"<=IFERROR(Hgauche,0),IF(durée4<0,0,durée4),\"00:00\"),0))","v":0},{"$f":"SUMPRODUCT(ISNUMBER(MATCH(INDIRECT(\"H\"&$A$1&\"!B2:AF2\"),DimFe,0))*IFERROR(IF(\"19:00\"<=IFERROR(Hgauche,0),IF(durée6<0,0,durée6),IF(durée<0,0,durée)),0))+SUMPRODUCT(ISNUMBER(MATCH(INDIRECT(\"H\"&$A$1&\"!B2:AF2\"),moindimfe,0))*IFERROR(IF(\"19:00\"<=IFERROR(Hgauche,0),IF(durée2<0,0,durée2),\"00:00\"),0))","v":0},{"$f":"SUM(SUMPRODUCT(1*IFERROR(IF(\"19:00\"<=IFERROR(Hgauche,0),IF(durée2<0,0,durée2),\"00:00\"),0)),SUMPRODUCT(1*IFERROR(IF(\"19:00\"<=IFERROR(Hgauche,0),IF(durée6<0,0,durée6),\"00:00\"),0)),SUMPRODUCT(1*IFERROR(IF(\"21:00\"<=IFERROR(Hdroitesimple,0),IF(durée<0,0,durée),\"00:00\"),0)))-durée5","v":0},null,{"$f":"bilanh","v":0},{"$f":"VLOOKUP($A26,Bilan!$A$9:$AQ74,37,FALSE)","v":57.958333333333336},null,{"$f":"Bilan!AN26","v":65},65,null,{"$f":"Jourtravaillé","v":0}]
[{"$f":"Données!$H24","v":0},"","","","","","","","","","","","","","","","","","","","","","","","","","",{"$f":"VLOOKUP($A27,INDIRECT(\"'\"&$A$1&\"'!$A$7:$AR$56\"),35,0)","v":"00:00:00"},{"$f":"VLOOKUP($A27,INDIRECT(\"'\"&$A$1&\"'!$A$7:$AR$56\"),36,0)","v":"00:00:00"},null,{"$f":"SUMPRODUCT(ISNUMBER(MATCH(INDIRECT(\"H\"&$A$1&\"!B2:AF2\"),DimFe,0))*IFERROR(IF(\"19:00\">=IFERROR(Hgauche,0),IFERROR(hdroite-Hgauche,0),IF(durée1>0,durée1,\"00:00\")),0))+SUMPRODUCT(ISNUMBER(MATCH(INDIRECT(\"H\"&$A$1&\"!B2:AF2\"),moindimfe,0))*IFERROR(IF(\"19:00\"<=IFERROR(Hgauche,0),IF(durée4<0,0,durée4),\"00:00\"),0))","v":0},{"$f":"SUMPRODUCT(ISNUMBER(MATCH(INDIRECT(\"H\"&$A$1&\"!B2:AF2\"),DimFe,0))*IFERROR(IF(\"19:00\"<=IFERROR(Hgauche,0),IF(durée6<0,0,durée6),IF(durée<0,0,durée)),0))+SUMPRODUCT(ISNUMBER(MATCH(INDIRECT(\"H\"&$A$1&\"!B2:AF2\"),moindimfe,0))*IFERROR(IF(\"19:00\"<=IFERROR(Hgauche,0),IF(durée2<0,0,durée2),\"00:00\"),0))","v":0},{"$f":"SUM(SUMPRODUCT(1*IFERROR(IF(\"19:00\"<=IFERROR(Hgauche,0),IF(durée2<0,0,durée2),\"00:00\"),0)),SUMPRODUCT(1*IFERROR(IF(\"19:00\"<=IFERROR(Hgauche,0),IF(durée6<0,0,durée6),\"00:00\"),0)),SUMPRODUCT(1*IFERROR(IF(\"21:00\"<=IFERROR(Hdroitesimple,0),IF(durée<0,0,durée),\"00:00\"),0)))-durée5","v":0},null,{"$f":"bilanh","v":0},{"$f":"VLOOKUP($A27,Bilan!$A$9:$AQ75,37,FALSE)","v":59.5},null,{"$f":"Bilan!AN27","v":65},65,null,{"$f":"Jourtravaillé","v":0}]
[{"$f":"Données!$H25","v":0},"","","","","","","","","","","","","","","","","","","","","","","","","","",{"$f":"VLOOKUP($A28,INDIRECT(\"'\"&$A$1&\"'!$A$7:$AR$56\"),35,0)","v":"00:00:00"},{"$f":"VLOOKUP($A28,INDIRECT(\"'\"&$A$1&\"'!$A$7:$AR$56\"),36,0)","v":"00:00:00"},null,{"$f":"SUMPRODUCT(ISNUMBER(MATCH(INDIRECT(\"H\"&$A$1&\"!B2:AF2\"),DimFe,0))*IFERROR(IF(\"19:00\">=IFERROR(Hgauche,0),IFERROR(hdroite-Hgauche,0),IF(durée1>0,durée1,\"00:00\")),0))+SUMPRODUCT(ISNUMBER(MATCH(INDIRECT(\"H\"&$A$1&\"!B2:AF2\"),moindimfe,0))*IFERROR(IF(\"19:00\"<=IFERROR(Hgauche,0),IF(durée4<0,0,durée4),\"00:00\"),0))","v":0},{"$f":"SUMPRODUCT(ISNUMBER(MATCH(INDIRECT(\"H\"&$A$1&\"!B2:AF2\"),DimFe,0))*IFERROR(IF(\"19:00\"<=IFERROR(Hgauche,0),IF(durée6<0,0,durée6),IF(durée<0,0,durée)),0))+SUMPRODUCT(ISNUMBER(MATCH(INDIRECT(\"H\"&$A$1&\"!B2:AF2\"),moindimfe,0))*IFERROR(IF(\"19:00\"<=IFERROR(Hgauche,0),IF(durée2<0,0,durée2),\"00:00\"),0))","v":0},{"$f":"SUM(SUMPRODUCT(1*IFERROR(IF(\"19:00\"<=IFERROR(Hgauche,0),IF(durée2<0,0,durée2),\"00:00\"),0)),SUMPRODUCT(1*IFERROR(IF(\"19:00\"<=IFERROR(Hgauche,0),IF(durée6<0,0,durée6),\"00:00\"),0)),SUMPRODUCT(1*IFERROR(IF(\"21:00\"<=IFERROR(Hdroitesimple,0),IF(durée<0,0,durée),\"00:00\"),0)))-durée5","v":0},null,{"$f":"bilanh","v":0},{"$f":"VLOOKUP($A28,Bilan!$A$9:$AQ76,37,FALSE)","v":59.5},null,{"$f":"Bilan!AN28","v":65},65,null,{"$f":"Jourtravaillé","v":0}]
[{"$f":"Données!$H26","v":0},{"$f":"SUMPRODUCT((INDIRECT(\"'\"&$A$1&\"'!$A$7:$A$56\")=$A29)*(INDIRECT(\"'\"&$A$1&\"'!$B$7:$AF$56\")=B$7))","v":0},0,0,0,0,0,0,0,0,0,0,0,0,0,0,0,{"$f":"SUMPRODUCT((INDIRECT(\"'\"&$A$1&\"'!$A$7:$A$56\")=$A29)*(INDIRECT(\"'\"&$A$1&\"'!$B$7:$AF$56\")=R$7))","v":0},0,0,0,0,0,0,0,0,0,{"$f":"VLOOKUP($A29,INDIRECT(\"'H\"&$A$1&\"'!$A$7:$AR$56\"),35,0)","v":"00:00:00"},{"$f":"VLOOKUP($A29,INDIRECT(\"'H\"&$A$1&\"'!$A$7:$AR$56\"),38,0)","v":"00:00:00"},null,{"$f":"SUMPRODUCT(ISNUMBER(MATCH(INDIRECT(\"H\"&$A$1&\"!B2:AF2\"),DimFe,0))*IFERROR(IF(\"19:00\">=IFERROR(Hgauche,0),IFERROR(hdroite-Hgauche,0),IF(durée1>0,durée1,\"00:00\")),0))+SUMPRODUCT(ISNUMBER(MATCH(INDIRECT(\"H\"&$A$1&\"!B2:AF2\"),moindimfe,0))*IFERROR(IF(\"19:00\"<=IFERROR(Hgauche,0),IF(durée4<0,0,durée4),\"00:00\"),0))","v":0},{"$f":"SUMPRODUCT(ISNUMBER(MATCH(INDIRECT(\"H\"&$A$1&\"!B2:AF2\"),DimFe,0))*IFERROR(IF(\"19:00\"<=IFERROR(Hgauche,0),IF(durée6<0,0,durée6),IF(durée<0,0,durée)),0))+SUMPRODUCT(ISNUMBER(MATCH(INDIRECT(\"H\"&$A$1&\"!B2:AF2\"),moindimfe,0))*IFERROR(IF(\"19:00\"<=IFERROR(Hgauche,0),IF(durée2<0,0,durée2),\"00:00\"),0))","v":0},{"$f":"SUMPRODUCT(1*IF(durée<0,0,durée))+SUMPRODUCT(1*IFERROR(IF(\"19:00\"<=IFERROR(Hgauche,0),IF(durée2<0,0,durée2),\"00:00\"),0))-durée5","v":0},null,{"$f":"(AB29/24)+SUMPRODUCT(($B$6:$AA$6)*(B29:AA29))","v":0},{"$f":"VLOOKUP($A29,Bilan!A29:AI77,35,FALSE)","v":0},null,{"$f":"Bilan!AN29","v":{"$error":"#VALUE!"}},65,null,{"$f":"SUM(B29:R29)","v":0},null,null,null,null,null,null,null,null,null,null,null,null,null,null,null,null,null,null,null,null,null,null,null,{"$f":"Données!$A24","v":"CA"},{"$f":"Données!$B24","v":"CA"}]
[{"$f":"Données!$H27","v":0},0,0,0,0,0,0,0,0,0,0,0,0,0,0,0,0,0,0,0,0,0,0,0,0,0,0,"00:00:00","00:00:00",null,{"$f":"SUMPRODUCT(ISNUMBER(MATCH(INDIRECT(\"H\"&$A$1&\"!B2:AF2\"),DimFe,0))*IFERROR(IF(\"19:00\">=IFERROR(Hgauche,0),IFERROR(hdroite-Hgauche,0),IF(durée1>0,durée1,\"00:00\")),0))+SUMPRODUCT(ISNUMBER(MATCH(INDIRECT(\"H\"&$A$1&\"!B2:AF2\"),moindimfe,0))*IFERROR(IF(\"19:00\"<=IFERROR(Hgauche,0),IF(durée4<0,0,durée4),\"00:00\"),0))","v":0},{"$f":"SUMPRODUCT(ISNUMBER(MATCH(INDIRECT(\"H\"&$A$1&\"!B2:AF2\"),DimFe,0))*IFERROR(IF(\"19:00\"<=IFERROR(Hgauche,0),IF(durée6<0,0,durée6),IF(durée<0,0,durée)),0))+SUMPRODUCT(ISNUMBER(MATCH(INDIRECT(\"H\"&$A$1&\"!B2:AF2\"),moindimfe,0))*IFERROR(IF(\"19:00\"<=IFERROR(Hgauche,0),IF(durée2<0,0,durée2),\"00:00\"),0))","v":0},{"$f":"SUMPRODUCT(1*IF(durée<0,0,durée))+SUMPRODUCT(1*IFERROR(IF(\"19:00\"<=IFERROR(Hgauche,0),IF(durée2<0,0,durée2),\"00:00\"),0))-durée5","v":0},null,0,{"$f":"VLOOKUP($A30,Bilan!A30:AI78,35,FALSE)","v":0},null,{"$f":"Bilan!AN30","v":{"$error":"#VALUE!"}},65,null,0,null,null,null,null,null,null,null,null,null,null,null,null,null,null,null,null,null,null,null,null,null,null,null,{"$f":"Données!$A25","v":"CA16"},{"$f":"Données!$B25","v":"CA16"}]
[{"$f":"Données!$H28","v":0},0,0,0,0,0,0,0,0,0,0,0,0,0,0,0,0,0,0,0,0,0,0,0,0,0,0,"00:00:00","00:00:00",null,{"$f":"SUMPRODUCT(ISNUMBER(MATCH(INDIRECT(\"H\"&$A$1&\"!B2:AF2\"),DimFe,0))*IFERROR(IF(\"19:00\">=IFERROR(Hgauche,0),IFERROR(hdroite-Hgauche,0),IF(durée1>0,durée1,\"00:00\")),0))+SUMPRODUCT(ISNUMBER(MATCH(INDIRECT(\"H\"&$A$1&\"!B2:AF2\"),moindimfe,0))*IFERROR(IF(\"19:00\"<=IFERROR(Hgauche,0),IF(durée4<0,0,durée4),\"00:00\"),0))","v":0},{"$f":"SUMPRODUCT(ISNUMBER(MATCH(INDIRECT(\"H\"&$A$1&\"!B2:AF2\"),DimFe,0))*IFERROR(IF(\"19:00\"<=IFERROR(Hgauche,0),IF(durée6<0,0,durée6),IF(durée<0,0,durée)),0))+SUMPRODUCT(ISNUMBER(MATCH(INDIRECT(\"H\"&$A$1&\"!B2:AF2\"),moindimfe,0))*IFERROR(IF(\"19:00\"<=IFERROR(Hgauche,0),IF(durée2<0,0,durée2),\"00:00\"),0))","v":0},{"$f":"SUMPRODUCT(1*IF(durée<0,0,durée))+SUMPRODUCT(1*IFERROR(IF(\"19:00\"<=IFERROR(Hgauche,0),IF(durée2<0,0,durée2),\"00:00\"),0))-durée5","v":0},null,0,{"$f":"VLOOKUP($A31,Bilan!A31:AI79,35,FALSE)","v":0},null,{"$f":"Bilan!AN31","v":{"$error":"#VALUE!"}},65,null,0,null,null,null,null,null,null,null,null,null,null,null,null,null,null,null,null,null,null,null,null,null,null,null,{"$f":"Données!$A26","v":"REC"},{"$f":"Données!$B26","v":"REC"}]
[{"$f":"Données!$H29","v":0},0,0,0,0,0,0,0,0,0,0,0,0,0,0,0,0,0,0,0,0,0,0,0,0,0,0,"00:00:00","00:00:00",null,{"$f":"SUMPRODUCT(ISNUMBER(MATCH(INDIRECT(\"H\"&$A$1&\"!B2:AF2\"),DimFe,0))*IFERROR(IF(\"19:00\">=IFERROR(Hgauche,0),IFERROR(hdroite-Hgauche,0),IF(durée1>0,durée1,\"00:00\")),0))+SUMPRODUCT(ISNUMBER(MATCH(INDIRECT(\"H\"&$A$1&\"!B2:AF2\"),moindimfe,0))*IFERROR(IF(\"19:00\"<=IFERROR(Hgauche,0),IF(durée4<0,0,durée4),\"00:00\"),0))","v":0},{"$f":"SUMPRODUCT(ISNUMBER(MATCH(INDIRECT(\"H\"&$A$1&\"!B2:AF2\"),DimFe,0))*IFERROR(IF(\"19:00\"<=IFERROR(Hgauche,0),IF(durée6<0,0,durée6),IF(durée<0,0,durée)),0))+SUMPRODUCT(ISNUMBER(MATCH(INDIRECT(\"H\"&$A$1&\"!B2:AF2\"),moindimfe,0))*IFERROR(IF(\"19:00\"<=IFERROR(Hgauche,0),IF(durée2<0,0,durée2),\"00:00\"),0))","v":0},{"$f":"SUMPRODUCT(1*IF(durée<0,0,durée))+SUMPRODUCT(1*IFERROR(IF(\"19:00\"<=IFERROR(Hgauche,0),IF(durée2<0,0,durée2),\"00:00\"),0))-durée5","v":0},null,0,{"$f":"VLOOKUP($A32,Bilan!A32:AI80,35,FALSE)","v":0},null,{"$f":"Bilan!AN32","v":{"$error":"#VALUE!"}},65,null,0,null,null,null,null,null,null,null,null,null,null,null,null,null,null,null,null,null,null,null,null,null,null,null,{"$f":"Données!$A27","v":"PL"},{"$f":"Données!$B27","v":"PL"}]
[{"$f":"Données!$H30","v":0},0,0,0,0,0,0,0,0,0,0,0,0,0,0,0,0,0,0,0,0,0,0,0,0,0,0,"00:00:00","00:00:00",null,{"$f":"SUMPRODUCT(ISNUMBER(MATCH(INDIRECT(\"H\"&$A$1&\"!B2:AF2\"),DimFe,0))*IFERROR(IF(\"19:00\">=IFERROR(Hgauche,0),IFERROR(hdroite-Hgauche,0),IF(durée1>0,durée1,\"00:00\")),0))+SUMPRODUCT(ISNUMBER(MATCH(INDIRECT(\"H\"&$A$1&\"!B2:AF2\"),moindimfe,0))*IFERROR(IF(\"19:00\"<=IFERROR(Hgauche,0),IF(durée4<0,0,durée4),\"00:00\"),0))","v":0},{"$f":"SUMPRODUCT(ISNUMBER(MATCH(INDIRECT(\"H\"&$A$1&\"!B2:AF2\"),DimFe,0))*IFERROR(IF(\"19:00\"<=IFERROR(Hgauche,0),IF(durée6<0,0,durée6),IF(durée<0,0,durée)),0))+SUMPRODUCT(ISNUMBER(MATCH(INDIRECT(\"H\"&$A$1&\"!B2:AF2\"),moindimfe,0))*IFERROR(IF(\"19:00\"<=IFERROR(Hgauche,0),IF(durée2<0,0,durée2),\"00:00\"),0))","v":0},{"$f":"SUMPRODUCT(1*IF(durée<0,0,durée))+SUMPRODUCT(1*IFERROR(IF(\"19:00\"<=IFERROR(Hgauche,0),IF(durée2<0,0,durée2),\"00:00\"),0))-durée5","v":0},null,0,{"$f":"VLOOKUP($A33,Bilan!A33:AI81,35,FALSE)","v":0},null,{"$f":"Bilan!AN33","v":{"$error":"#VALUE!"}},65,null,0,null,null,null,null,null,null,null,null,null,null,null,null,null,null,null,null,null,null,null,null,null,null,null,{"$f":"Données!$A28","v":"D"},{"$f":"Données!$B28","v":"D"}]
[{"$f":"Données!$H31","v":0},0,0,0,0,0,0,0,0,0,0,0,0,0,0,0,0,0,0,0,0,0,0,0,0,0,0,"00:00:00","00:00:00",null,{"$f":"SUMPRODUCT(ISNUMBER(MATCH(INDIRECT(\"H\"&$A$1&\"!B2:AF2\"),DimFe,0))*IFERROR(IF(\"19:00\">=IFERROR(Hgauche,0),IFERROR(hdroite-Hgauche,0),IF(durée1>0,durée1,\"00:00\")),0))+SUMPRODUCT(ISNUMBER(MATCH(INDIRECT(\"H\"&$A$1&\"!B2:AF2\"),moindimfe,0))*IFERROR(IF(\"19:00\"<=IFERROR(Hgauche,0),IF(durée4<0,0,durée4),\"00:00\"),0))","v":0},{"$f":"SUMPRODUCT(ISNUMBER(MATCH(INDIRECT(\"H\"&$A$1&\"!B2:AF2\"),DimFe,0))*IFERROR(IF(\"19:00\"<=IFERROR(Hgauche,0),IF(durée6<0,0,durée6),IF(durée<0,0,durée)),0))+SUMPRODUCT(ISNUMBER(MATCH(INDIRECT(\"H\"&$A$1&\"!B2:AF2\"),moindimfe,0))*IFERROR(IF(\"19:00\"<=IFERROR(Hgauche,0),IF(durée2<0,0,durée2),\"00:00\"),0))","v":0},{"$f":"SUMPRODUCT(1*IF(durée<0,0,durée))+SUMPRODUCT(1*IFERROR(IF(\"19:00\"<=IFERROR(Hgauche,0),IF(durée2<0,0,durée2),\"00:00\"),0))-durée5","v":0},null,0,{"$f":"VLOOKUP($A34,Bilan!A34:AI82,35,FALSE)","v":0},null,{"$f":"Bilan!AN34","v":{"$error":"#VALUE!"}},65,null,0]
[{"$f":"Données!$H32","v":"Maitresse de maison"}]
[{"$f":"Données!$H33","v":"N"},{"$f":"IF(SUMPRODUCT((INDIRECT(\"'\"&$A$1&\"'!$A$7:$A$56\")=$A36)*(INDIRECT(\"'\"&$A$1&\"'!$B$7:$AF$56\")=B$7))=0,\"\",SUMPRODUCT((INDIRECT(\"'\"&$A$1&\"'!$A$7:$A$56\")=$A36)*(INDIRECT(\"'\"&$A$1&\"'!$B$7:$AF$56\")=B$7)))","v":""},"","","","","","","","","","","","","","","","","","","","","","","","","",{"$f":"VLOOKUP($A36,INDIRECT(\"'\"&$A$1&\"'!$A$7:$AR$56\"),35,0)","v":"00:00:00"},{"$f":"VLOOKUP($A36,INDIRECT(\"'\"&$A$1&\"'!$A$7:$AR$56\"),36,0)","v":"00:00:00"},null,{"$f":"SUMPRODUCT(ISNUMBER(MATCH(INDIRECT(\"H\"&$A$1&\"!B2:AF2\"),DimFe,0))*IFERROR(IF(\"19:00\">=IFERROR(Hgauche,0),IFERROR(hdroite-Hgauche,0),IF(durée1>0,durée1,\"00:00\")),0))+SUMPRODUCT(ISNUMBER(MATCH(INDIRECT(\"H\"&$A$1&\"!B2:AF2\"),moindimfe,0))*IFERROR(IF(\"19:00\"<=IFERROR(Hgauche,0),IF(durée4<0,0,durée4),\"00:00\"),0))","v":0},{"$f":"SUMPRODUCT(ISNUMBER(MATCH(INDIRECT(\"H\"&$A$1&\"!B2:AF2\"),DimFe,0))*IFERROR(IF(\"19:00\"<=IFERROR(Hgauche,0),IF(durée6<0,0,durée6),IF(durée<0,0,durée)),0))+SUMPRODUCT(ISNUMBER(MATCH(INDIRECT(\"H\"&$A$1&\"!B2:AF2\"),moindimfe,0))*IFERROR(IF(\"19:00\"<=IFERROR(Hgauche,0),IF(durée2<0,0,durée2),\"00:00\"),0))","v":0},{"$f":"SUM(SUMPRODUCT(1*IFERROR(IF(\"19:00\"<=IFERROR(Hgauche,0),IF(durée2<0,0,durée2),\"00:00\"),0)),SUMPRODUCT(1*IFERROR(IF(\"19:00\"<=IFERROR(Hgauche,0),IF(durée6<0,0,durée6),\"00:00\"),0)),SUMPRODUCT(1*IFERROR(IF(\"21:00\"<=IFERROR(Hdroitesimple,0),IF(durée<0,0,durée),\"00:00\"),0)))-durée5","v":0},null,{"$f":"bilanh","v":0},{"$f":"VLOOKUP($A36,Bilan!$A$9:$AQ84,37,FALSE)","v":63},null,{"$f":"Bilan!AN36","v":65},65,null,{"$f":"Jourtravaillé","v":0}]
[{"$f":"Données!$H34","v":0},{"$f":"SUMPRODUCT((INDIRECT(\"'\"&$A$1&\"'!$A$7:$A$56\")=$A37)*(INDIRECT(\"'\"&$A$1&\"'!$B$7:$AF$56\")=B$7))","v":0},0,0,0,0,0,0,0,0,0,0,0,0,0,0,0,{"$f":"SUMPRODUCT((INDIRECT(\"'\"&$A$1&\"'!$A$7:$A$56\")=$A37)*(INDIRECT(\"'\"&$A$1&\"'!$B$7:$AF$56\")=R$7))","v":0},0,0,0,0,0,0,0,0,0,{"$f":"VLOOKUP($A37,INDIRECT(\"'H\"&$A$1&\"'!$A$7:$AR$56\"),35,0)","v":"00:00:00"},{"$f":"VLOOKUP($A37,INDIRECT(\"'H\"&$A$1&\"'!$A$7:$AR$56\"),38,0)","v":"00:00:00"},null,{"$f":"SUMPRODUCT(ISNUMBER(MATCH(INDIRECT(\"H\"&$A$1&\"!B2:AF2\"),DimFe,0))*IFERROR(IF(\"19:00\">=IFERROR(Hgauche,0),IFERROR(hdroite-Hgauche,0),IF(durée1>0,durée1,\"00:00\")),0))+SUMPRODUCT(ISNUMBER(MATCH(INDIRECT(\"H\"&$A$1&\"!B2:AF2\"),moindimfe,0))*IFERROR(IF(\"19:00\"<=IFERROR(Hgauche,0),IF(durée4<0,0,durée4),\"00:00\"),0))","v":0},{"$f":"SUMPRODUCT(ISNUMBER(MATCH(INDIRECT(\"H\"&$A$1&\"!B2:AF2\"),DimFe,0))*IFERROR(IF(\"19:00\"<=IFERROR(Hgauche,0),IF(durée6<0,0,durée6),IF(durée<0,0,durée)),0))+SUMPRODUCT(ISNUMBER(MATCH(INDIRECT(\"H\"&$A$1&\"!B2:AF2\"),moindimfe,0))*IFERROR(IF(\"19:00\"<=IFERROR(Hgauche,0),IF(durée2<0,0,durée2),\"00:00\"),0))","v":0},{"$f":"SUMPRODUCT(1*IF(durée<0,0,durée))+SUMPRODUCT(1*IFERROR(IF(\"19:00\"<=IFERROR(Hgauche,0),IF(durée2<0,0,durée2),\"00:00\"),0))-durée5","v":0},null,{"$f":"(AB37/24)+SUMPRODUCT(($B$6:$AA$6)*(B37:AA37))","v":0},{"$f":"VLOOKUP($A37,Bilan!A37:AI85,35,FALSE)","v":0},null,{"$f":"Bilan!AN37","v":65},65,null,{"$f":"SUM(B37:R37)","v":0}]
[{"$f":"Données!$H35","v":0},0,0,0,0,0,0,0,0,0,0,0,0,0,0,0,0,0,0,0,0,0,0,0,0,0,0,"00:00:00","00:00:00",null,{"$f":"SUMPRODUCT(ISNUMBER(MATCH(INDIRECT(\"H\"&$A$1&\"!B2:AF2\"),DimFe,0))*IFERROR(IF(\"19:00\">=IFERROR(Hgauche,0),IFERROR(hdroite-Hgauche,0),IF(durée1>0,durée1,\"00:00\")),0))+SUMPRODUCT(ISNUMBER(MATCH(INDIRECT(\"H\"&$A$1&\"!B2:AF2\"),moindimfe,0))*IFERROR(IF(\"19:00\"<=IFERROR(Hgauche,0),IF(durée4<0,0,durée4),\"00:00\"),0))","v":0},{"$f":"SUMPRODUCT(ISNUMBER(MATCH(INDIRECT(\"H\"&$A$1&\"!B2:AF2\"),DimFe,0))*IFERROR(IF(\"19:00\"<=IFERROR(Hgauche,0),IF(durée6<0,0,durée6),IF(durée<0,0,durée)),0))+SUMPRODUCT(ISNUMBER(MATCH(INDIRECT(\"H\"&$A$1&\"!B2:AF2\"),moindimfe,0))*IFERROR(IF(\"19:00\"<=IFERROR(Hgauche,0),IF(durée2<0,0,durée2),\"00:00\"),0))","v":0},{"$f":"SUMPRODUCT(1*IF(durée<0,0,durée))+SUMPRODUCT(1*IFERROR(IF(\"19:00\"<=IFERROR(Hgauche,0),IF(durée2<0,0,durée2),\"00:00\"),0))-durée5","v":0},null,0,{"$f":"VLOOKUP($A38,Bilan!A38:AI86,35,FALSE)","v":0},null,{"$f":"Bilan!AN38","v":{"$error":"#VALUE!"}},65,null,0]
[{"$f":"Données!$H36","v":0},0,0,0,0,0,0,0,0,0,0,0,0,0,0,0,0,0,0,0,0,0,0,0,0,0,0,"00:00:00","00:00:00",null,{"$f":"SUMPRODUCT(ISNUMBER(MATCH(INDIRECT(\"H\"&$A$1&\"!B2:AF2\"),DimFe,0))*IFERROR(IF(\"19:00\">=IFERROR(Hgauche,0),IFERROR(hdroite-Hgauche,0),IF(durée1>0,durée1,\"00:00\")),0))+SUMPRODUCT(ISNUMBER(MATCH(INDIRECT(\"H\"&$A$1&\"!B2:AF2\"),moindimfe,0))*IFERROR(IF(\"19:00\"<=IFERROR(Hgauche,0),IF(durée4<0,0,durée4),\"00:00\"),0))","v":0},{"$f":"SUMPRODUCT(ISNUMBER(MATCH(INDIRECT(\"H\"&$A$1&\"!B2:AF2\"),DimFe,0))*IFERROR(IF(\"19:00\"<=IFERROR(Hgauche,0),IF(durée6<0,0,durée6),IF(durée<0,0,durée)),0))+SUMPRODUCT(ISNUMBER(MATCH(INDIRECT(\"H\"&$A$1&\"!B2:AF2\"),moindimfe,0))*IFERROR(IF(\"19:00\"<=IFERROR(Hgauche,0),IF(durée2<0,0,durée2),\"00:00\"),0))","v":0},{"$f":"SUMPRODUCT(1*IF(durée<0,0,durée))+SUMPRODUCT(1*IFERROR(IF(\"19:00\"<=IFERROR(Hgauche,0),IF(durée2<0,0,durée2),\"00:00\"),0))-durée5","v":0},null,0,{"$f":"VLOOKUP($A39,Bilan!A39:AI87,35,FALSE)","v":0},null,{"$f":"Bilan!AN39","v":{"$error":"#VALUE!"}},65,null,0]
[{"$f":"Données!$H37","v":0},0,0,0,0,0,0,0,0,0,0,0,0,0,0,0,0,0,0,0,0,0,0,0,0,0,0,"00:00:00","00:00:00",null,{"$f":"SUMPRODUCT(ISNUMBER(MATCH(INDIRECT(\"H\"&$A$1&\"!B2:AF2\"),DimFe,0))*IFERROR(IF(\"19:00\">=IFERROR(Hgauche,0),IFERROR(hdroite-Hgauche,0),IF(durée1>0,durée1,\"00:00\")),0))+SUMPRODUCT(ISNUMBER(MATCH(INDIRECT(\"H\"&$A$1&\"!B2:AF2\"),moindimfe,0))*IFERROR(IF(\"19:00\"<=IFERROR(Hgauche,0),IF(durée4<0,0,durée4),\"00:00\"),0))","v":0},{"$f":"SUMPRODUCT(ISNUMBER(MATCH(INDIRECT(\"H\"&$A$1&\"!B2:AF2\"),DimFe,0))*IFERROR(IF(\"19:00\"<=IFERROR(Hgauche,0),IF(durée6<0,0,durée6),IF(durée<0,0,durée)),0))+SUMPRODUCT(ISNUMBER(MATCH(INDIRECT(\"H\"&$A$1&\"!B2:AF2\"),moindimfe,0))*IFERROR(IF(\"19:00\"<=IFERROR(Hgauche,0),IF(durée2<0,0,durée2),\"00:00\"),0))","v":0},{"$f":"SUMPRODUCT(1*IF(durée<0,0,durée))+SUMPRODUCT(1*IFERROR(IF(\"19:00\"<=IFERROR(Hgauche,0),IF(durée2<0,0,durée2),\"00:00\"),0))-durée5","v":0},null,0,{"$f":"VLOOKUP($A40,Bilan!A40:AI88,35,FALSE)","v":0},null,{"$f":"Bilan!AN40","v":{"$error":"#VALUE!"}},65,null,0]
[{"$f":"Données!$H38","v":0},0,0,0,0,0,0,0,0,0,0,0,0,0,0,0,0,0,0,0,0,0,0,0,0,0,0,"00:00:00","00:00:00",null,{"$f":"SUMPRODUCT(ISNUMBER(MATCH(INDIRECT(\"H\"&$A$1&\"!B2:AF2\"),DimFe,0))*IFERROR(IF(\"19:00\">=IFERROR(Hgauche,0),IFERROR(hdroite-Hgauche,0),IF(durée1>0,durée1,\"00:00\")),0))+SUMPRODUCT(ISNUMBER(MATCH(INDIRECT(\"H\"&$A$1&\"!B2:AF2\"),moindimfe,0))*IFERROR(IF(\"19:00\"<=IFERROR(Hgauche,0),IF(durée4<0,0,durée4),\"00:00\"),0))","v":0},{"$f":"SUMPRODUCT(ISNUMBER(MATCH(INDIRECT(\"H\"&$A$1&\"!B2:AF2\"),DimFe,0))*IFERROR(IF(\"19:00\"<=IFERROR(Hgauche,0),IF(durée6<0,0,durée6),IF(durée<0,0,durée)),0))+SUMPRODUCT(ISNUMBER(MATCH(INDIRECT(\"H\"&$A$1&\"!B2:AF2\"),moindimfe,0))*IFERROR(IF(\"19:00\"<=IFERROR(Hgauche,0),IF(durée2<0,0,durée2),\"00:00\"),0))","v":0},{"$f":"SUMPRODUCT(1*IF(durée<0,0,durée))+SUMPRODUCT(1*IFERROR(IF(\"19:00\"<=IFERROR(Hgauche,0),IF(durée2<0,0,durée2),\"00:00\"),0))-durée5","v":0},null,0,{"$f":"VLOOKUP($A41,Bilan!A41:AI89,35,FALSE)","v":0},null,{"$f":"Bilan!AN41","v":{"$error":"#VALUE!"}},65,null,0]
[{"$f":"Données!$H39","v":0},0,0,0,0,0,0,0,0,0,0,0,0,0,0,0,0,0,0,0,0,0,0,0,0,0,0,"00:00:00","00:00:00",null,{"$f":"SUMPRODUCT(ISNUMBER(MATCH(INDIRECT(\"H\"&$A$1&\"!B2:AF2\"),DimFe,0))*IFERROR(IF(\"19:00\">=IFERROR(Hgauche,0),IFERROR(hdroite-Hgauche,0),IF(durée1>0,durée1,\"00:00\")),0))+SUMPRODUCT(ISNUMBER(MATCH(INDIRECT(\"H\"&$A$1&\"!B2:AF2\"),moindimfe,0))*IFERROR(IF(\"19:00\"<=IFERROR(Hgauche,0),IF(durée4<0,0,durée4),\"00:00\"),0))","v":0},{"$f":"SUMPRODUCT(ISNUMBER(MATCH(INDIRECT(\"H\"&$A$1&\"!B2:AF2\"),DimFe,0))*IFERROR(IF(\"19:00\"<=IFERROR(Hgauche,0),IF(durée6<0,0,durée6),IF(durée<0,0,durée)),0))+SUMPRODUCT(ISNUMBER(MATCH(INDIRECT(\"H\"&$A$1&\"!B2:AF2\"),moindimfe,0))*IFERROR(IF(\"19:00\"<=IFERROR(Hgauche,0),IF(durée2<0,0,durée2),\"00:00\"),0))","v":0},{"$f":"SUMPRODUCT(1*IF(durée<0,0,durée))+SUMPRODUCT(1*IFERROR(IF(\"19:00\"<=IFERROR(Hgauche,0),IF(durée2<0,0,durée2),\"00:00\"),0))-durée5","v":0},null,0,{"$f":"VLOOKUP($A42,Bilan!A42:AI90,35,FALSE)","v":0},null,{"$f":"Bilan!AN42","v":{"$error":"#VALUE!"}},65,null,0]
[{"$f":"Données!$H40","v":0},0,0,0,0,0,0,0,0,0,0,0,0,0,0,0,0,0,0,0,0,0,0,0,0,0,0,"00:00:00","00:00:00",null,{"$f":"SUMPRODUCT(ISNUMBER(MATCH(INDIRECT(\"H\"&$A$1&\"!B2:AF2\"),DimFe,0))*IFERROR(IF(\"19:00\">=IFERROR(Hgauche,0),IFERROR(hdroite-Hgauche,0),IF(durée1>0,durée1,\"00:00\")),0))+SUMPRODUCT(ISNUMBER(MATCH(INDIRECT(\"H\"&$A$1&\"!B2:AF2\"),moindimfe,0))*IFERROR(IF(\"19:00\"<=IFERROR(Hgauche,0),IF(durée4<0,0,durée4),\"00:00\"),0))","v":0},{"$f":"SUMPRODUCT(ISNUMBER(MATCH(INDIRECT(\"H\"&$A$1&\"!B2:AF2\"),DimFe,0))*IFERROR(IF(\"19:00\"<=IFERROR(Hgauche,0),IF(durée6<0,0,durée6),IF(durée<0,0,durée)),0))+SUMPRODUCT(ISNUMBER(MATCH(INDIRECT(\"H\"&$A$1&\"!B2:AF2\"),moindimfe,0))*IFERROR(IF(\"19:00\"<=IFERROR(Hgauche,0),IF(durée2<0,0,durée2),\"00:00\"),0))","v":0},{"$f":"SUMPRODUCT(1*IF(durée<0,0,durée))+SUMPRODUCT(1*IFERROR(IF(\"19:00\"<=IFERROR(Hgauche,0),IF(durée2<0,0,durée2),\"00:00\"),0))-durée5","v":0},null,0,{"$f":"VLOOKUP($A43,Bilan!A43:AI91,35,FALSE)","v":0},null,{"$f":"Bilan!AN43","v":{"$error":"#VALUE!"}},65,null,0]
[{"$f":"Données!$H41","v":0},0,0,0,0,0,0,0,0,0,0,0,0,0,0,0,0,0,0,0,0,0,0,0,0,0,0,"00:00:00","00:00:00",null,{"$f":"SUMPRODUCT(ISNUMBER(MATCH(INDIRECT(\"H\"&$A$1&\"!B2:AF2\"),DimFe,0))*IFERROR(IF(\"19:00\">=IFERROR(Hgauche,0),IFERROR(hdroite-Hgauche,0),IF(durée1>0,durée1,\"00:00\")),0))+SUMPRODUCT(ISNUMBER(MATCH(INDIRECT(\"H\"&$A$1&\"!B2:AF2\"),moindimfe,0))*IFERROR(IF(\"19:00\"<=IFERROR(Hgauche,0),IF(durée4<0,0,durée4),\"00:00\"),0))","v":0},{"$f":"SUMPRODUCT(ISNUMBER(MATCH(INDIRECT(\"H\"&$A$1&\"!B2:AF2\"),DimFe,0))*IFERROR(IF(\"19:00\"<=IFERROR(Hgauche,0),IF(durée6<0,0,durée6),IF(durée<0,0,durée)),0))+SUMPRODUCT(ISNUMBER(MATCH(INDIRECT(\"H\"&$A$1&\"!B2:AF2\"),moindimfe,0))*IFERROR(IF(\"19:00\"<=IFERROR(Hgauche,0),IF(durée2<0,0,durée2),\"00:00\"),0))","v":0},{"$f":"SUMPRODUCT(1*IF(durée<0,0,durée))+SUMPRODUCT(1*IFERROR(IF(\"19:00\"<=IFERROR(Hgauche,0),IF(durée2<0,0,durée2),\"00:00\"),0))-durée5","v":0},null,0,{"$f":"VLOOKUP($A44,Bilan!A44:AI92,35,FALSE)","v":0},null,{"$f":"Bilan!AN44","v":{"$error":"#VALUE!"}},65,null,0]
[{"$f":"Données!$H42","v":"Psychologue"}]
[{"$f":"Données!$H43","v":"O"},{"$f":"IF(SUMPRODUCT((INDIRECT(\"'\"&$A$1&\"'!$A$7:$A$56\")=$A46)*(INDIRECT(\"'\"&$A$1&\"'!$B$7:$AF$56\")=B$7))=0,\"\",SUMPRODUCT((INDIRECT(\"'\"&$A$1&\"'!$A$7:$A$56\")=$A46)*(INDIRECT(\"'\"&$A$1&\"'!$B$7:$AF$56\")=B$7)))","v":""},"","","","","","","","","","","","","","","","","","","","","","","","","",{"$f":"VLOOKUP($A46,INDIRECT(\"'\"&$A$1&\"'!$A$7:$AR$56\"),35,0)","v":"00:00:00"},{"$f":"VLOOKUP($A46,INDIRECT(\"'\"&$A$1&\"'!$A$7:$AR$56\"),36,0)","v":"00:00:00"},null,{"$f":"SUMPRODUCT(ISNUMBER(MATCH(INDIRECT(\"H\"&$A$1&\"!B2:AF2\"),DimFe,0))*IFERROR(IF(\"19:00\">=IFERROR(Hgauche,0),IFERROR(hdroite-Hgauche,0),IF(durée1>0,durée1,\"00:00\")),0))+SUMPRODUCT(ISNUMBER(MATCH(INDIRECT(\"H\"&$A$1&\"!B2:AF2\"),moindimfe,0))*IFERROR(IF(\"19:00\"<=IFERROR(Hgauche,0),IF(durée4<0,0,durée4),\"00:00\"),0))","v":0},{"$f":"SUMPRODUCT(ISNUMBER(MATCH(INDIRECT(\"H\"&$A$1&\"!B2:AF2\"),DimFe,0))*IFERROR(IF(\"19:00\"<=IFERROR(Hgauche,0),IF(durée6<0,0,durée6),IF(durée<0,0,durée)),0))+SUMPRODUCT(ISNUMBER(MATCH(INDIRECT(\"H\"&$A$1&\"!B2:AF2\"),moindimfe,0))*IFERROR(IF(\"19:00\"<=IFERROR(Hgauche,0),IF(durée2<0,0,durée2),\"00:00\"),0))","v":0},{"$f":"SUM(SUMPRODUCT(1*IFERROR(IF(\"19:00\"<=IFERROR(Hgauche,0),IF(durée2<0,0,durée2),\"00:00\"),0)),SUMPRODUCT(1*IFERROR(IF(\"19:00\"<=IFERROR(Hgauche,0),IF(durée6<0,0,durée6),\"00:00\"),0)),SUMPRODUCT(1*IFERROR(IF(\"21:00\"<=IFERROR(Hdroitesimple,0),IF(durée<0,0,durée),\"00:00\"),0)))-durée5","v":0},null,{"$f":"bilanh","v":0},{"$f":"VLOOKUP($A46,Bilan!$A$9:$AQ94,37,FALSE)","v":63},null,{"$f":"Bilan!AN46","v":65},65,null,{"$f":"Jourtravaillé","v":0}]
[{"$f":"Données!$H44","v":0},{"$f":"SUMPRODUCT((INDIRECT(\"'\"&$A$1&\"'!$A$7:$A$56\")=$A47)*(INDIRECT(\"'\"&$A$1&\"'!$B$7:$AF$56\")=B$7))","v":0},0,0,0,0,0,0,0,0,0,0,0,0,0,0,0,{"$f":"SUMPRODUCT((INDIRECT(\"'\"&$A$1&\"'!$A$7:$A$56\")=$A47)*(INDIRECT(\"'\"&$A$1&\"'!$B$7:$AF$56\")=R$7))","v":0},0,0,0,0,0,0,0,0,0,{"$f":"VLOOKUP($A47,INDIRECT(\"'H\"&$A$1&\"'!$A$7:$AR$56\"),35,0)","v":"00:00:00"},{"$f":"VLOOKUP($A47,INDIRECT(\"'H\"&$A$1&\"'!$A$7:$AR$56\"),38,0)","v":"00:00:00"},null,{"$f":"SUMPRODUCT(ISNUMBER(MATCH(INDIRECT(\"H\"&$A$1&\"!B2:AF2\"),DimFe,0))*IFERROR(IF(\"19:00\">=IFERROR(Hgauche,0),IFERROR(hdroite-Hgauche,0),IF(durée1>0,durée1,\"00:00\")),0))+SUMPRODUCT(ISNUMBER(MATCH(INDIRECT(\"H\"&$A$1&\"!B2:AF2\"),moindimfe,0))*IFERROR(IF(\"19:00\"<=IFERROR(Hgauche,0),IF(durée4<0,0,durée4),\"00:00\"),0))","v":0},{"$f":"SUMPRODUCT(ISNUMBER(MATCH(INDIRECT(\"H\"&$A$1&\"!B2:AF2\"),DimFe,0))*IFERROR(IF(\"19:00\"<=IFERROR(Hgauche,0),IF(durée6<0,0,durée6),IF(durée<0,0,durée)),0))+SUMPRODUCT(ISNUMBER(MATCH(INDIRECT(\"H\"&$A$1&\"!B2:AF2\"),moindimfe,0))*IFERROR(IF(\"19:00\"<=IFERROR(Hgauche,0),IF(durée2<0,0,durée2),\"00:00\"),0))","v":0},{"$f":"SUMPRODUCT(1*IF(durée<0,0,durée))+SUMPRODUCT(1*IFERROR(IF(\"19:00\"<=IFERROR(Hgauche,0),IF(durée2<0,0,durée2),\"00:00\"),0))-durée5","v":0},null,{"$f":"(AB47/24)+SUMPRODUCT(($B$6:$AA$6)*(B47:AA47))","v":0},{"$f":"VLOOKUP($A47,Bilan!A47:AI95,35,FALSE)","v":0},null,{"$f":"Bilan!AN47","v":65},65,null,{"$f":"SUM(B47:R47)","v":0}]
[{"$f":"Données!$H45","v":0},0,0,0,0,0,0,0,0,0,0,0,0,0,0,0,0,0,0,0,0,0,0,0,0,0,0,{"$f":"VLOOKUP($A48,INDIRECT(\"'H\"&$A$1&\"'!$A$7:$AR$56\"),35,0)","v":"00:00:00"},{"$f":"VLOOKUP($A48,INDIRECT(\"'H\"&$A$1&\"'!$A$7:$AR$56\"),38,0)","v":"00:00:00"},null,{"$f":"SUMPRODUCT(ISNUMBER(MATCH(INDIRECT(\"H\"&$A$1&\"!B2:AF2\"),DimFe,0))*IFERROR(IF(\"19:00\">=IFERROR(Hgauche,0),IFERROR(hdroite-Hgauche,0),IF(durée1>0,durée1,\"00:00\")),0))+SUMPRODUCT(ISNUMBER(MATCH(INDIRECT(\"H\"&$A$1&\"!B2:AF2\"),moindimfe,0))*IFERROR(IF(\"19:00\"<=IFERROR(Hgauche,0),IF(durée4<0,0,durée4),\"00:00\"),0))","v":0},{"$f":"SUMPRODUCT(ISNUMBER(MATCH(INDIRECT(\"H\"&$A$1&\"!B2:AF2\"),DimFe,0))*IFERROR(IF(\"19:00\"<=IFERROR(Hgauche,0),IF(durée6<0,0,durée6),IF(durée<0,0,durée)),0))+SUMPRODUCT(ISNUMBER(MATCH(INDIRECT(\"H\"&$A$1&\"!B2:AF2\"),moindimfe,0))*IFERROR(IF(\"19:00\"<=IFERROR(Hgauche,0),IF(durée2<0,0,durée2),\"00:00\"),0))","v":0},{"$f":"SUMPRODUCT(1*IF(durée<0,0,durée))+SUMPRODUCT(1*IFERROR(IF(\"19:00\"<=IFERROR(Hgauche,0),IF(durée2<0,0,durée2),\"00:00\"),0))-durée5","v":0},null,{"$f":"(AB48/24)+SUMPRODUCT(($B$6:$AA$6)*(B48:AA48))","v":0},{"$f":"VLOOKUP($A48,Bilan!A48:AI96,35,FALSE)","v":0},null,{"$f":"Bilan!AN48","v":{"$error":"#VALUE!"}},65,null,{"$f":"SUM(B48:R48)","v":0}]
[{"$f":"Données!$H46","v":"Coordinatrice"}]
[{"$f":"Données!$H47","v":"P"},{"$f":"IF(SUMPRODUCT((INDIRECT(\"'\"&$A$1&\"'!$A$7:$A$56\")=$A50)*(INDIRECT(\"'\"&$A$1&\"'!$B$7:$AF$56\")=B$7))=0,\"\",SUMPRODUCT((INDIRECT(\"'\"&$A$1&\"'!$A$7:$A$56\")=$A50)*(INDIRECT(\"'\"&$A$1&\"'!$B$7:$AF$56\")=B$7)))","v":""},"","","","","","","","","","","","","","","","","","","","","","","","","",{"$f":"VLOOKUP($A50,INDIRECT(\"'\"&$A$1&\"'!$A$7:$AR$56\"),35,0)","v":"00:00:00"},{"$f":"VLOOKUP($A50,INDIRECT(\"'\"&$A$1&\"'!$A$7:$AR$56\"),36,0)","v":"00:00:00"},null,{"$f":"SUMPRODUCT(ISNUMBER(MATCH(INDIRECT(\"H\"&$A$1&\"!B2:AF2\"),DimFe,0))*IFERROR(IF(\"19:00\">=IFERROR(Hgauche,0),IFERROR(hdroite-Hgauche,0),IF(durée1>0,durée1,\"00:00\")),0))+SUMPRODUCT(ISNUMBER(MATCH(INDIRECT(\"H\"&$A$1&\"!B2:AF2\"),moindimfe,0))*IFERROR(IF(\"19:00\"<=IFERROR(Hgauche,0),IF(durée4<0,0,durée4),\"00:00\"),0))","v":0},{"$f":"SUMPRODUCT(ISNUMBER(MATCH(INDIRECT(\"H\"&$A$1&\"!B2:AF2\"),DimFe,0))*IFERROR(IF(\"19:00\"<=IFERROR(Hgauche,0),IF(durée6<0,0,durée6),IF(durée<0,0,durée)),0))+SUMPRODUCT(ISNUMBER(MATCH(INDIRECT(\"H\"&$A$1&\"!B2:AF2\"),moindimfe,0))*IFERROR(IF(\"19:00\"<=IFERROR(Hgauche,0),IF(durée2<0,0,durée2),\"00:00\"),0))","v":0},{"$f":"SUM(SUMPRODUCT(1*IFERROR(IF(\"19:00\"<=IFERROR(Hgauche,0),IF(durée2<0,0,durée2),\"00:00\"),0)),SUMPRODUCT(1*IFERROR(IF(\"19:00\"<=IFERROR(Hgauche,0),IF(durée6<0,0,durée6),\"00:00\"),0)),SUMPRODUCT(1*IFERROR(IF(\"21:00\"<=IFERROR(Hdroitesimple,0),IF(durée<0,0,durée),\"00:00\"),0)))-durée5","v":0},null,{"$f":"bilanh","v":0},{"$f":"VLOOKUP($A50,Bilan!$A$9:$AQ98,37,FALSE)","v":63},null,{"$f":"Bilan!AN50","v":65},65,null,{"$f":"Jourtravaillé","v":0}]
[{"$f":"Données!$H48","v":0},{"$f":"SUMPRODUCT((INDIRECT(\"'\"&$A$1&\"'!$A$7:$A$56\")=$A51)*(INDIRECT(\"'\"&$A$1&\"'!$B$7:$AF$56\")=B$7))","v":0},0,0,0,0,0,0,0,0,0,0,0,0,0,0,0,{"$f":"SUMPRODUCT((INDIRECT(\"'\"&$A$1&\"'!$A$7:$A$56\")=$A51)*(INDIRECT(\"'\"&$A$1&\"'!$B$7:$AF$56\")=R$7))","v":0},0,0,0,0,0,0,0,0,0,{"$f":"VLOOKUP($A51,INDIRECT(\"'H\"&$A$1&\"'!$A$7:$AR$56\"),35,0)","v":"00:00:00"},{"$f":"VLOOKUP($A51,INDIRECT(\"'H\"&$A$1&\"'!$A$7:$AR$56\"),38,0)","v":"00:00:00"},null,{"$f":"SUMPRODUCT(ISNUMBER(MATCH(INDIRECT(\"H\"&$A$1&\"!B2:AF2\"),DimFe,0))*IFERROR(IF(\"19:00\">=IFERROR(Hgauche,0),IFERROR(hdroite-Hgauche,0),IF(durée1>0,durée1,\"00:00\")),0))+SUMPRODUCT(ISNUMBER(MATCH(INDIRECT(\"H\"&$A$1&\"!B2:AF2\"),moindimfe,0))*IFERROR(IF(\"19:00\"<=IFERROR(Hgauche,0),IF(durée4<0,0,durée4),\"00:00\"),0))","v":0},{"$f":"SUMPRODUCT(ISNUMBER(MATCH(INDIRECT(\"H\"&$A$1&\"!B2:AF2\"),DimFe,0))*IFERROR(IF(\"19:00\"<=IFERROR(Hgauche,0),IF(durée6<0,0,durée6),IF(durée<0,0,durée)),0))+SUMPRODUCT(ISNUMBER(MATCH(INDIRECT(\"H\"&$A$1&\"!B2:AF2\"),moindimfe,0))*IFERROR(IF(\"19:00\"<=IFERROR(Hgauche,0),IF(durée2<0,0,durée2),\"00:00\"),0))","v":0},{"$f":"SUMPRODUCT(1*IF(durée<0,0,durée))+SUMPRODUCT(1*IFERROR(IF(\"19:00\"<=IFERROR(Hgauche,0),IF(durée2<0,0,durée2),\"00:00\"),0))-durée5","v":0},null,{"$f":"(AB51/24)+SUMPRODUCT(($B$6:$AA$6)*(B51:AA51))","v":0},{"$f":"VLOOKUP($A51,Bilan!A51:AI99,35,FALSE)","v":0},null,{"$f":"Bilan!AN51","v":66},65,null,{"$f":"SUM(B51:R51)","v":0}]
[{"$f":"Données!$H49","v":0},0,0,0,0,0,0,0,0,0,0,0,0,0,0,0,0,0,0,0,0,0,0,0,0,0,0,{"$f":"VLOOKUP($A52,INDIRECT(\"'H\"&$A$1&\"'!$A$7:$AR$56\"),35,0)","v":"00:00:00"},{"$f":"VLOOKUP($A52,INDIRECT(\"'H\"&$A$1&\"'!$A$7:$AR$56\"),38,0)","v":"00:00:00"},null,{"$f":"SUMPRODUCT(ISNUMBER(MATCH(INDIRECT(\"H\"&$A$1&\"!B2:AF2\"),DimFe,0))*IFERROR(IF(\"19:00\">=IFERROR(Hgauche,0),IFERROR(hdroite-Hgauche,0),IF(durée1>0,durée1,\"00:00\")),0))+SUMPRODUCT(ISNUMBER(MATCH(INDIRECT(\"H\"&$A$1&\"!B2:AF2\"),moindimfe,0))*IFERROR(IF(\"19:00\"<=IFERROR(Hgauche,0),IF(durée4<0,0,durée4),\"00:00\"),0))","v":0},{"$f":"SUMPRODUCT(ISNUMBER(MATCH(INDIRECT(\"H\"&$A$1&\"!B2:AF2\"),DimFe,0))*IFERROR(IF(\"19:00\"<=IFERROR(Hgauche,0),IF(durée6<0,0,durée6),IF(durée<0,0,durée)),0))+SUMPRODUCT(ISNUMBER(MATCH(INDIRECT(\"H\"&$A$1&\"!B2:AF2\"),moindimfe,0))*IFERROR(IF(\"19:00\"<=IFERROR(Hgauche,0),IF(durée2<0,0,durée2),\"00:00\"),0))","v":0},{"$f":"SUMPRODUCT(1*IF(durée<0,0,durée))+SUMPRODUCT(1*IFERROR(IF(\"19:00\"<=IFERROR(Hgauche,0),IF(durée2<0,0,durée2),\"00:00\"),0))-durée5","v":0},null,{"$f":"(AB52/24)+SUMPRODUCT(($B$6:$AA$6)*(B52:AA52))","v":0},{"$f":"VLOOKUP($A52,Bilan!A52:AI100,35,FALSE)","v":0},null,{"$f":"Bilan!AN52","v":{"$error":"#VALUE!"}},66,null,{"$f":"SUM(B52:R52)","v":0}]
[{"$f":"Données!$H50","v":0},0,0,0,0,0,0,0,0,0,0,0,0,0,0,0,0,0,0,0,0,0,0,0,0,0,0,{"$f":"VLOOKUP($A53,INDIRECT(\"'H\"&$A$1&\"'!$A$7:$AR$56\"),35,0)","v":"00:00:00"},{"$f":"VLOOKUP($A53,INDIRECT(\"'H\"&$A$1&\"'!$A$7:$AR$56\"),38,0)","v":"00:00:00"},null,{"$f":"SUMPRODUCT(ISNUMBER(MATCH(INDIRECT(\"H\"&$A$1&\"!B2:AF2\"),DimFe,0))*IFERROR(IF(\"19:00\">=IFERROR(Hgauche,0),IFERROR(hdroite-Hgauche,0),IF(durée1>0,durée1,\"00:00\")),0))+SUMPRODUCT(ISNUMBER(MATCH(INDIRECT(\"H\"&$A$1&\"!B2:AF2\"),moindimfe,0))*IFERROR(IF(\"19:00\"<=IFERROR(Hgauche,0),IF(durée4<0,0,durée4),\"00:00\"),0))","v":0},{"$f":"SUMPRODUCT(ISNUMBER(MATCH(INDIRECT(\"H\"&$A$1&\"!B2:AF2\"),DimFe,0))*IFERROR(IF(\"19:00\"<=IFERROR(Hgauche,0),IF(durée6<0,0,durée6),IF(durée<0,0,durée)),0))+SUMPRODUCT(ISNUMBER(MATCH(INDIRECT(\"H\"&$A$1&\"!B2:AF2\"),moindimfe,0))*IFERROR(IF(\"19:00\"<=IFERROR(Hgauche,0),IF(durée2<0,0,durée2),\"00:00\"),0))","v":0},{"$f":"SUMPRODUCT(1*IF(durée<0,0,durée))+SUMPRODUCT(1*IFERROR(IF(\"19:00\"<=IFERROR(Hgauche,0),IF(durée2<0,0,durée2),\"00:00\"),0))-durée5","v":0},null,{"$f":"(AB53/24)+SUMPRODUCT(($B$6:$AA$6)*(B53:AA53))","v":0},{"$f":"VLOOKUP($A53,Bilan!A53:AI101,35,FALSE)","v":0},null,{"$f":"Bilan!AN53","v":{"$error":"#VALUE!"}},67,null,{"$f":"SUM(B53:R53)","v":0}]
[{"$f":"Données!$H51","v":0},0,0,0,0,0,0,0,0,0,0,0,0,0,0,0,0,0,0,0,0,0,0,0,0,0,0,{"$f":"VLOOKUP($A54,INDIRECT(\"'H\"&$A$1&\"'!$A$7:$AR$56\"),35,0)","v":"00:00:00"},{"$f":"VLOOKUP($A54,INDIRECT(\"'H\"&$A$1&\"'!$A$7:$AR$56\"),38,0)","v":"00:00:00"},null,{"$f":"SUMPRODUCT(ISNUMBER(MATCH(INDIRECT(\"H\"&$A$1&\"!B2:AF2\"),DimFe,0))*IFERROR(IF(\"19:00\">=IFERROR(Hgauche,0),IFERROR(hdroite-Hgauche,0),IF(durée1>0,durée1,\"00:00\")),0))+SUMPRODUCT(ISNUMBER(MATCH(INDIRECT(\"H\"&$A$1&\"!B2:AF2\"),moindimfe,0))*IFERROR(IF(\"19:00\"<=IFERROR(Hgauche,0),IF(durée4<0,0,durée4),\"00:00\"),0))","v":0},{"$f":"SUMPRODUCT(ISNUMBER(MATCH(INDIRECT(\"H\"&$A$1&\"!B2:AF2\"),DimFe,0))*IFERROR(IF(\"19:00\"<=IFERROR(Hgauche,0),IF(durée6<0,0,durée6),IF(durée<0,0,durée)),0))+SUMPRODUCT(ISNUMBER(MATCH(INDIRECT(\"H\"&$A$1&\"!B2:AF2\"),moindimfe,0))*IFERROR(IF(\"19:00\"<=IFERROR(Hgauche,0),IF(durée2<0,0,durée2),\"00:00\"),0))","v":0},{"$f":"SUMPRODUCT(1*IF(durée<0,0,durée))+SUMPRODUCT(1*IFERROR(IF(\"19:00\"<=IFERROR(Hgauche,0),IF(durée2<0,0,durée2),\"00:00\"),0))-durée5","v":0},null,{"$f":"(AB54/24)+SUMPRODUCT(($B$6:$AA$6)*(B54:AA54))","v":0},{"$f":"VLOOKUP($A54,Bilan!A54:AI102,35,FALSE)","v":0},null,{"$f":"Bilan!AN54","v":{"$error":"#VALUE!"}},68,null,{"$f":"SUM(B54:R54)","v":0}]
[{"$f":"Données!$H52","v":"Chef de service"}]
[{"$f":"Données!$H53","v":"Q"},{"$f":"IF(SUMPRODUCT((INDIRECT(\"'\"&$A$1&\"'!$A$7:$A$56\")=$A56)*(INDIRECT(\"'\"&$A$1&\"'!$B$7:$AF$56\")=B$7))=0,\"\",SUMPRODUCT((INDIRECT(\"'\"&$A$1&\"'!$A$7:$A$56\")=$A56)*(INDIRECT(\"'\"&$A$1&\"'!$B$7:$AF$56\")=B$7)))","v":""},"","","","","","","","","","","","","","","","","","","","","","","","","",{"$f":"VLOOKUP($A56,INDIRECT(\"'\"&$A$1&\"'!$A$7:$AR$56\"),35,0)","v":"00:00:00"},{"$f":"VLOOKUP($A56,INDIRECT(\"'\"&$A$1&\"'!$A$7:$AR$56\"),36,0)","v":"00:00:00"},null,{"$f":"SUMPRODUCT(ISNUMBER(MATCH(INDIRECT(\"H\"&$A$1&\"!B2:AF2\"),DimFe,0))*IFERROR(IF(\"19:00\">=IFERROR(Hgauche,0),IFERROR(hdroite-Hgauche,0),IF(durée1>0,durée1,\"00:00\")),0))+SUMPRODUCT(ISNUMBER(MATCH(INDIRECT(\"H\"&$A$1&\"!B2:AF2\"),moindimfe,0))*IFERROR(IF(\"19:00\"<=IFERROR(Hgauche,0),IF(durée4<0,0,durée4),\"00:00\"),0))","v":0},{"$f":"SUMPRODUCT(ISNUMBER(MATCH(INDIRECT(\"H\"&$A$1&\"!B2:AF2\"),DimFe,0))*IFERROR(IF(\"19:00\"<=IFERROR(Hgauche,0),IF(durée6<0,0,durée6),IF(durée<0,0,durée)),0))+SUMPRODUCT(ISNUMBER(MATCH(INDIRECT(\"H\"&$A$1&\"!B2:AF2\"),moindimfe,0))*IFERROR(IF(\"19:00\"<=IFERROR(Hgauche,0),IF(durée2<0,0,durée2),\"00:00\"),0))","v":0},{"$f":"SUM(SUMPRODUCT(1*IFERROR(IF(\"19:00\"<=IFERROR(Hgauche,0),IF(durée2<0,0,durée2),\"00:00\"),0)),SUMPRODUCT(1*IFERROR(IF(\"19:00\"<=IFERROR(Hgauche,0),IF(durée6<0,0,durée6),\"00:00\"),0)),SUMPRODUCT(1*IFERROR(IF(\"21:00\"<=IFERROR(Hdroitesimple,0),IF(durée<0,0,durée),\"00:00\"),0)))-durée5","v":0},null,{"$f":"bilanh","v":0},{"$f":"VLOOKUP($A56,Bilan!$A$9:$AQ104,37,FALSE)","v":63},null,{"$f":"Bilan!AN56","v":65},65,null,{"$f":"Jourtravaillé","v":0}]

{"sheet":"BNovembre","index":36,"n_rows":56,"n_cols":66,"rows_kept":56,"cut":false,"hidden":false,"merged":[[7,37,7,38],[6,27,7,27],[6,28,7,28],[6,30,7,30],[6,31,7,31],[6,32,7,32],[7,34,7,35]]}
["Novembre"]
[null,null,{"$f":"LEFT(OFFSET(INDIRECT(\"H\"&$A$1&\"!B8:AF8\"),MATCH($A9,INDIRECT(\"H\"&$A$1&\"!A9:A56\"),0),),5)","v":""}]
[null,null,{"$f":"RIGHT(OFFSET(INDIRECT(\"H\"&$A$1&\"!B8:AF8\"),MATCH($A3,INDIRECT(\"H\"&$A$1&\"!A9:A56\"),0),),5)","v":""}]
[]
[]
["Jours",{"$f":"Données!$E3","v":0.31597222222222227},{"$f":"Données!$E4","v":0.10763888888888884},{"$f":"Données!$E5","v":0.31249999999999994},{"$f":"Données!$E6","v":0.32291666666666669},{"$f":"Données!$E7","v":8.3333333333333315E-2},{"$f":"Données!$E8","v":0.47916666666666669},{"$f":"Données!$E9","v":0.3125},{"$f":"Données!$E10","v":0.48958333333333337},{"$f":"Données!$E11","v":0.47916666666666669},{"$f":"Données!$E12","v":0.51041666666666674},{"$f":"Données!$E13","v":0.51041666666666674},{"$f":"Données!$E14","v":0.44791666666666663},{"$f":"Données!$E15","v":0.49999999999999989},{"$f":"Données!$E16","v":0.49999999999999989},{"$f":"Données!$E17","v":0.5},{"$f":"Données!$E18","v":0.29166666666666669},{"$f":"Données!$E19","v":0.3125},{"$f":"Données!$E20","v":0.3125},{"$f":"Données!$E21","v":0.3125},{"$f":"Données!$E22","v":0.3125},{"$f":"Données!$E23","v":0.3125},{"$f":"Données!$E24","v":0},{"$f":"Données!$E25","v":0},{"$f":"Données!$E26","v":0},{"$f":"Données!$E27","v":0.33333333333333331},{"$f":"Données!$E28","v":0}]
[null,{"$f":"Données!$A3","v":"M"},{"$f":"Données!$A4","v":"MG"},{"$f":"Données!$A5","v":"J"},{"$f":"Données!$A6","v":"J+"},{"$f":"Données!$A7","v":"R"},{"$f":"Données!$A8","v":"RS"},{"$f":"Données!$A9","v":"S"},{"$f":"Données!$A10","v":"W"},{"$f":"Données!$A11","v":"W+"},{"$f":"Données!$A12","v":"WD"},{"$f":"Données!$A13","v":"WF"},{"$f":"Données!$A14","v":"N"},{"$f":"Données!$A15","v":"N+"},{"$f":"Données!$A16","v":"NS"},{"$f":"Données!$A17","v":"T"},{"$f":"Données!$A18","v":"F"},{"$f":"Données!$A19","v":"SYN"},{"$f":"Données!$A20","v":"AT"},{"$f":"Données!$A21","v":"AM"},{"$f":"Données!$A22","v":"EM"},{"$f":"Données!$A23","v":"CE"},{"$f":"Données!$A24","v":"CA"},{"$f":"Données!$A25","v":"CA16"},{"$f":"Données!$A26","v":"REC"},{"$f":"Données!$A27","v":"PL"},{"$f":"Données!$A28","v":"D"},"Heures\nSupplémentaires \navant 21 h","Heures\nSupplémentaires \naprès 21 h",null,"Heures dimanche","Heures de nuit dimanches","Heures apres 21 h"]
["Equipe de jour",{"$f":"IF(ISBLANK(Données!$C3),TEXT(Données!$B3,\"hh:mm\"),TEXT(Données!$B3,\"hh:mm\")&\" : \"&TEXT(Données!$C3,\"hh:mm\"))","v":"07:00 : 14:35"},{"$f":"IF(ISBLANK(Données!$C4),TEXT(Données!$B4,\"hh:mm\"),TEXT(Données!$B4,\"hh:mm\")&\" : \"&TEXT(Données!$C4,\"hh:mm\"))","v":"23:00 : 01:35"},{"$f":"IF(ISBLANK(Données!$C5),TEXT(Données!$B5,\"hh:mm\"),TEXT(Données!$B5,\"hh:mm\")&\" : \"&TEXT(Données!$C5,\"hh:mm\"))","v":"10:00 : 17:30"},{"$f":"IF(ISBLANK(Données!$C6),TEXT(Données!$B6,\"hh:mm\"),TEXT(Données!$B6,\"hh:mm\")&\" : \"&TEXT(Données!$C6,\"hh:mm\"))","v":"11:30 : 19:15"},{"$f":"IF(ISBLANK(Données!$C7),TEXT(Données!$B7,\"hh:mm\"),TEXT(Données!$B7,\"hh:mm\")&\" : \"&TEXT(Données!$C7,\"hh:mm\"))","v":"10:00 : 12:00"},{"$f":"IF(ISBLANK(Données!$C8),TEXT(Données!$B8,\"hh:mm\"),TEXT(Données!$B8,\"hh:mm\")&\" : \"&TEXT(Données!$C8,\"hh:mm\"))","v":"10:00 : 21:30"},{"$f":"IF(ISBLANK(Données!$C9),TEXT(Données!$B9,\"hh:mm\"),TEXT(Données!$B9,\"hh:mm\")&\" : \"&TEXT(Données!$C9,\"hh:mm\"))","v":"14:00 : 21:30"},{"$f":"IF(ISBLANK(Données!$C10),TEXT(Données!$B10,\"hh:mm\"),TEXT(Données!$B10,\"hh:mm\")&\" : \"&TEXT(Données!$C10,\"hh:mm\"))","v":"07:30 : 19:15"},{"$f":"IF(ISBLANK(Données!$C11),TEXT(Données!$B11,\"hh:mm\"),TEXT(Données!$B11,\"hh:mm\")&\" : \"&TEXT(Données!$C11,\"hh:mm\"))","v":"10:00 : 21:30"},{"$f":"IF(ISBLANK(Données!$C12),TEXT(Données!$B12,\"hh:mm\"),TEXT(Données!$B12,\"hh:mm\")&\" : \"&TEXT(Données!$C12,\"hh:mm\"))","v":"07:00 : 19:15"},{"$f":"IF(ISBLANK(Données!$C13),TEXT(Données!$B13,\"hh:mm\"),TEXT(Données!$B13,\"hh:mm\")&\" : \"&TEXT(Données!$C13,\"hh:mm\"))","v":"07:00 : 19:15"},{"$f":"IF(ISBLANK(Données!$C14),TEXT(Données!$B14,\"hh:mm\"),TEXT(Données!$B14,\"hh:mm\")&\" : \"&TEXT(Données!$C14,\"hh:mm\"))","v":"20:30 : 07:15"},{"$f":"IF(ISBLANK(Données!$C15),TEXT(Données!$B15,\"hh:mm\"),TEXT(Données!$B15,\"hh:mm\")&\" : \"&TEXT(Données!$C15,\"hh:mm\"))","v":"19:15 : 07:15"},{"$f":"IF(ISBLANK(Données!$C16),TEXT(Données!$B16,\"hh:mm\"),TEXT(Données!$B16,\"hh:mm\")&\" : \"&TEXT(Données!$C16,\"hh:mm\"))","v":"19:15 : 07:15"},{"$f":"IF(ISBLANK(Données!$C17),TEXT(Données!$B17,\"hh:mm\"),TEXT(Données!$B17,\"hh:mm\")&\" : \"&TEXT(Données!$C17,\"hh:mm\"))","v":"T"},{"$f":"IF(ISBLANK(Données!$C18),TEXT(Données!$B18,\"hh:mm\"),TEXT(Données!$B18,\"hh:mm\")&\" : \"&TEXT(Données!$C18,\"hh:mm\"))","v":"F"},{"$f":"IF(ISBLANK(Données!$C19),TEXT(Données!$B19,\"hh:mm\"),TEXT(Données!$B19,\"hh:mm\")&\" : \"&TEXT(Données!$C19,\"hh:mm\"))","v":"Syn"},{"$f":"IF(ISBLANK(Données!$C20),TEXT(Données!$B20,\"hh:mm\"),TEXT(Données!$B20,\"hh:mm\")&\" : \"&TEXT(Données!$C20,\"hh:mm\"))","v":"AT"},{"$f":"IF(ISBLANK(Données!$C21),TEXT(Données!$B21,\"hh:mm\"),TEXT(Données!$B21,\"hh:mm\")&\" : \"&TEXT(Données!$C21,\"hh:mm\"))","v":"AM"},{"$f":"IF(ISBLANK(Données!$C22),TEXT(Données!$B22,\"hh:mm\"),TEXT(Données!$B22,\"hh:mm\")&\" : \"&TEXT(Données!$C22,\"hh:mm\"))","v":"EM"},{"$f":"IF(ISBLANK(Données!$C23),TEXT(Données!$B23,\"hh:mm\"),TEXT(Données!$B23,\"hh:mm\")&\" : \"&TEXT(Données!$C23,\"hh:mm\"))","v":"CE"},{"$f":"IF(ISBLANK(Données!$C24),TEXT(Données!$B24,\"hh:mm\"),TEXT(Données!$B24,\"hh:mm\")&\" : \"&TEXT(Données!$C24,\"hh:mm\"))","v":"CA"},{"$f":"IF(ISBLANK(Données!$C25),TEXT(Données!$B25,\"hh:mm\"),TEXT(Données!$B25,\"hh:mm\")&\" : \"&TEXT(Données!$C25,\"hh:mm\"))","v":"CA16"},{"$f":"IF(ISBLANK(Données!$C26),TEXT(Données!$B26,\"hh:mm\"),TEXT(Données!$B26,\"hh:mm\")&\" : \"&TEXT(Données!$C26,\"hh:mm\"))","v":"REC"},{"$f":"IF(ISBLANK(Données!$C27),TEXT(Données!$B27,\"hh:mm\"),TEXT(Données!$B27,\"hh:mm\")&\" : \"&TEXT(Données!$C27,\"hh:mm\"))","v":"PL"},{"$f":"IF(ISBLANK(Données!$C28),TEXT(Données!$B28,\"hh:mm\"),TEXT(Données!$B28,\"hh:mm\")&\" : \"&TEXT(Données!$C28,\"hh:mm\"))","v":"D"},null,null,null,null,null,null,null,"Total ",null,null,"CA",null,null,"Jour travaillé"]
[{"$f":"Données!$H6","v":"A"},{"$f":"IF(SUMPRODUCT((INDIRECT(\"'\"&$A$1&\"'!$A$7:$A$56\")=$A9)*(INDIRECT(\"'\"&$A$1&\"'!$B$7:$AF$56\")=B$7))=0,\"\",SUMPRODUCT((INDIRECT(\"'\"&$A$1&\"'!$A$7:$A$56\")=$A9)*(INDIRECT(\"'\"&$A$1&\"'!$B$7:$AF$56\")=B$7)))","v":""},{"$f":"IF(SUMPRODUCT((INDIRECT(\"'\"&$A$1&\"'!$A$7:$A$56\")=$A9)*(INDIRECT(\"'\"&$A$1&\"'!$B$7:$AF$56\")=C$7))=0,\"\",SUMPRODUCT((INDIRECT(\"'\"&$A$1&\"'!$A$7:$A$56\")=$A9)*(INDIRECT(\"'\"&$A$1&\"'!$B$7:$AF$56\")=C$7)))","v":""},"","","","","","","","","","","","","","","","","","","","","","","","",{"$f":"VLOOKUP($A9,INDIRECT(\"'\"&$A$1&\"'!$A$7:$AR$56\"),35,0)","v":"00:00:00"},{"$f":"VLOOKUP($A9,INDIRECT(\"'\"&$A$1&\"'!$A$7:$AR$56\"),36,0)","v":"00:00:00"},null,{"$f":"SUMPRODUCT(ISNUMBER(MATCH(INDIRECT(\"H\"&$A$1&\"!B2:AF2\"),DimFe,0))*IFERROR(IF(\"19:00\">=IFERROR(Hgauche,0),IFERROR(hdroite-Hgauche,0),IF(durée1>0,durée1,\"00:00\")),0))+SUMPRODUCT(ISNUMBER(MATCH(INDIRECT(\"H\"&$A$1&\"!B2:AF2\"),moindimfe,0))*IFERROR(IF(\"19:00\"<=IFERROR(Hgauche,0),IF(durée4<0,0,durée4),\"00:00\"),0))","v":0},{"$f":"SUMPRODUCT(ISNUMBER(MATCH(INDIRECT(\"H\"&$A$1&\"!B2:AF2\"),DimFe,0))*IFERROR(IF(\"19:00\"<=IFERROR(Hgauche,0),IF(durée6<0,0,durée6),IF(durée<0,0,durée)),0))+SUMPRODUCT(ISNUMBER(MATCH(INDIRECT(\"H\"&$A$1&\"!B2:AF2\"),moindimfe,0))*IFERROR(IF(\"19:00\"<=IFERROR(Hgauche,0),IF(durée2<0,0,durée2),\"00:00\"),0))","v":0},{"$f":"SUM(SUMPRODUCT(1*IFERROR(IF(\"19:00\"<=IFERROR(Hgauche,0),IF(durée2<0,0,durée2),\"00:00\"),0)),SUMPRODUCT(1*IFERROR(IF(\"19:00\"<=IFERROR(Hgauche,0),IF(durée6<0,0,durée6),\"00:00\"),0)),SUMPRODUCT(1*IFERROR(IF(\"21:00\"<=IFERROR(Hdroitesimple,0),IF(durée<0,0,durée),\"00:00\"),0)))-durée5","v":0},null,{"$f":"bilanh","v":0},{"$f":"VLOOKUP($A9,Bilan!$A$9:$AQ57,37,FALSE)","v":59.5},null,{"$f":"Bilan!AN9","v":65},65,null,{"$f":"Jourtravaillé","v":0}]
[{"$f":"Données!$H7","v":0},{"$f":"IF(SUMPRODUCT((INDIRECT(\"'\"&$A$1&\"'!$A$7:$A$56\")=$A10)*(INDIRECT(\"'\"&$A$1&\"'!$B$7:$AF$56\")=B$7))=0,\"\",SUMPRODUCT((INDIRECT(\"'\"&$A$1&\"'!$A$7:$A$56\")=$A10)*(INDIRECT(\"'\"&$A$1&\"'!$B$7:$AF$56\")=B$7)))","v":""},"","","","","","","","","","","","","","","","","","","","","","","","","",{"$f":"VLOOKUP($A10,INDIRECT(\"'\"&$A$1&\"'!$A$7:$AR$56\"),35,0)","v":"00:00:00"},{"$f":"VLOOKUP($A10,INDIRECT(\"'\"&$A$1&\"'!$A$7:$AR$56\"),36,0)","v":"00:00:00"},null,{"$f":"SUMPRODUCT(ISNUMBER(MATCH(INDIRECT(\"H\"&$A$1&\"!B2:AF2\"),DimFe,0))*IFERROR(IF(\"19:00\">=IFERROR(Hgauche,0),IFERROR(hdroite-Hgauche,0),IF(durée1>0,durée1,\"00:00\")),0))+SUMPRODUCT(ISNUMBER(MATCH(INDIRECT(\"H\"&$A$1&\"!B2:AF2\"),moindimfe,0))*IFERROR(IF(\"19:00\"<=IFERROR(Hgauche,0),IF(durée4<0,0,durée4),\"00:00\"),0))","v":0},{"$f":"SUMPRODUCT(ISNUMBER(MATCH(INDIRECT(\"H\"&$A$1&\"!B2:AF2\"),DimFe,0))*IFERROR(IF(\"19:00\"<=IFERROR(Hgauche,0),IF(durée6<0,0,durée6),IF(durée<0,0,durée)),0))+SUMPRODUCT(ISNUMBER(MATCH(INDIRECT(\"H\"&$A$1&\"!B2:AF2\"),moindimfe,0))*IFERROR(IF(\"19:00\"<=IFERROR(Hgauche,0),IF(durée2<0,0,durée2),\"00:00\"),0))","v":0},{"$f":"SUM(SUMPRODUCT(1*IFERROR(IF(\"19:00\"<=IFERROR(Hgauche,0),IF(durée2<0,0,durée2),\"00:00\"),0)),SUMPRODUCT(1*IFERROR(IF(\"19:00\"<=IFERROR(Hgauche,0),IF(durée6<0,0,durée6),\"00:00\"),0)),SUMPRODUCT(1*IFERROR(IF(\"21:00\"<=IFERROR(Hdroitesimple,0),IF(durée<0,0,durée),\"00:00\"),0)))-durée5","v":0},null,0,{"$f":"VLOOKUP($A10,Bilan!$A$9:$AQ58,37,FALSE)","v":59.5},null,{"$f":"Bilan!AN10","v":65},65,null,0]
[{"$f":"Données!$H8","v":0},"","","","","","","","","","","","","","","","","","","","","","","","","","","00:00:00","00:00:00",null,{"$f":"SUMPRODUCT(ISNUMBER(MATCH(INDIRECT(\"H\"&$A$1&\"!B2:AF2\"),DimFe,0))*IFERROR(IF(\"19:00\">=IFERROR(Hgauche,0),IFERROR(hdroite-Hgauche,0),IF(durée1>0,durée1,\"00:00\")),0))+SUMPRODUCT(ISNUMBER(MATCH(INDIRECT(\"H\"&$A$1&\"!B2:AF2\"),moindimfe,0))*IFERROR(IF(\"19:00\"<=IFERROR(Hgauche,0),IF(durée4<0,0,durée4),\"00:00\"),0))","v":0},{"$f":"SUMPRODUCT(ISNUMBER(MATCH(INDIRECT(\"H\"&$A$1&\"!B2:AF2\"),DimFe,0))*IFERROR(IF(\"19:00\"<=IFERROR(Hgauche,0),IF(durée6<0,0,durée6),IF(durée<0,0,durée)),0))+SUMPRODUCT(ISNUMBER(MATCH(INDIRECT(\"H\"&$A$1&\"!B2:AF2\"),moindimfe,0))*IFERROR(IF(\"19:00\"<=IFERROR(Hgauche,0),IF(durée2<0,0,durée2),\"00:00\"),0))","v":0},{"$f":"SUM(SUMPRODUCT(1*IFERROR(IF(\"19:00\"<=IFERROR(Hgauche,0),IF(durée2<0,0,durée2),\"00:00\"),0)),SUMPRODUCT(1*IFERROR(IF(\"19:00\"<=IFERROR(Hgauche,0),IF(durée6<0,0,durée6),\"00:00\"),0)),SUMPRODUCT(1*IFERROR(IF(\"21:00\"<=IFERROR(Hdroitesimple,0),IF(durée<0,0,durée),\"00:00\"),0)))-durée5","v":0},null,0,{"$f":"VLOOKUP($A11,Bilan!$A$9:$AQ59,37,FALSE)","v":59.5},null,{"$f":"Bilan!AN11","v":65},65,null,0]
[{"$f":"Données!$H9","v":0},"","","","","","","","","","","","","","","","","","","","","","","","","","","00:00:00","00:00:00",null,{"$f":"SUMPRODUCT(ISNUMBER(MATCH(INDIRECT(\"H\"&$A$1&\"!B2:AF2\"),DimFe,0))*IFERROR(IF(\"19:00\">=IFERROR(Hgauche,0),IFERROR(hdroite-Hgauche,0),IF(durée1>0,durée1,\"00:00\")),0))+SUMPRODUCT(ISNUMBER(MATCH(INDIRECT(\"H\"&$A$1&\"!B2:AF2\"),moindimfe,0))*IFERROR(IF(\"19:00\"<=IFERROR(Hgauche,0),IF(durée4<0,0,durée4),\"00:00\"),0))","v":0},{"$f":"SUMPRODUCT(ISNUMBER(MATCH(INDIRECT(\"H\"&$A$1&\"!B2:AF2\"),DimFe,0))*IFERROR(IF(\"19:00\"<=IFERROR(Hgauche,0),IF(durée6<0,0,durée6),IF(durée<0,0,durée)),0))+SUMPRODUCT(ISNUMBER(MATCH(INDIRECT(\"H\"&$A$1&\"!B2:AF2\"),moindimfe,0))*IFERROR(IF(\"19:00\"<=IFERROR(Hgauche,0),IF(durée2<0,0,durée2),\"00:00\"),0))","v":0},{"$f":"SUM(SUMPRODUCT(1*IFERROR(IF(\"19:00\"<=IFERROR(Hgauche,0),IF(durée2<0,0,durée2),\"00:00\"),0)),SUMPRODUCT(1*IFERROR(IF(\"19:00\"<=IFERROR(Hgauche,0),IF(durée6<0,0,durée6),\"00:00\"),0)),SUMPRODUCT(1*IFERROR(IF(\"21:00\"<=IFERROR(Hdroitesimple,0),IF(durée<0,0,durée),\"00:00\"),0)))-durée5","v":0},null,0,{"$f":"VLOOKUP($A12,Bilan!$A$9:$AQ60,37,FALSE)","v":59.5},null,{"$f":"Bilan!AN12","v":65},65,null,0]
[{"$f":"Données!$H10","v":0},"","","","","","","","","","","","","","","","","","","","","","","","","","","00:00:00","00:00:00",null,{"$f":"SUMPRODUCT(ISNUMBER(MATCH(INDIRECT(\"H\"&$A$1&\"!B2:AF2\"),DimFe,0))*IFERROR(IF(\"19:00\">=IFERROR(Hgauche,0),IFERROR(hdroite-Hgauche,0),IF(durée1>0,durée1,\"00:00\")),0))+SUMPRODUCT(ISNUMBER(MATCH(INDIRECT(\"H\"&$A$1&\"!B2:AF2\"),moindimfe,0))*IFERROR(IF(\"19:00\"<=IFERROR(Hgauche,0),IF(durée4<0,0,durée4),\"00:00\"),0))","v":0},{"$f":"SUMPRODUCT(ISNUMBER(MATCH(INDIRECT(\"H\"&$A$1&\"!B2:AF2\"),DimFe,0))*IFERROR(IF(\"19:00\"<=IFERROR(Hgauche,0),IF(durée6<0,0,durée6),IF(durée<0,0,durée)),0))+SUMPRODUCT(ISNUMBER(MATCH(INDIRECT(\"H\"&$A$1&\"!B2:AF2\"),moindimfe,0))*IFERROR(IF(\"19:00\"<=IFERROR(Hgauche,0),IF(durée2<0,0,durée2),\"00:00\"),0))","v":0},{"$f":"SUM(SUMPRODUCT(1*IFERROR(IF(\"19:00\"<=IFERROR(Hgauche,0),IF(durée2<0,0,durée2),\"00:00\"),0)),SUMPRODUCT(1*IFERROR(IF(\"19:00\"<=IFERROR(Hgauche,0),IF(durée6<0,0,durée6),\"00:00\"),0)),SUMPRODUCT(1*IFERROR(IF(\"21:00\"<=IFERROR(Hdroitesimple,0),IF(durée<0,0,durée),\"00:00\"),0)))-durée5","v":0},null,0,{"$f":"VLOOKUP($A13,Bilan!$A$9:$AQ61,37,FALSE)","v":59.5},null,{"$f":"Bilan!AN13","v":65},65,null,0]
[{"$f":"Données!$H11","v":0},"","","","","","","","","","","","","","","","","","","","","","","","","","","00:00:00","00:00:00",null,{"$f":"SUMPRODUCT(ISNUMBER(MATCH(INDIRECT(\"H\"&$A$1&\"!B2:AF2\"),DimFe,0))*IFERROR(IF(\"19:00\">=IFERROR(Hgauche,0),IFERROR(hdroite-Hgauche,0),IF(durée1>0,durée1,\"00:00\")),0))+SUMPRODUCT(ISNUMBER(MATCH(INDIRECT(\"H\"&$A$1&\"!B2:AF2\"),moindimfe,0))*IFERROR(IF(\"19:00\"<=IFERROR(Hgauche,0),IF(durée4<0,0,durée4),\"00:00\"),0))","v":0},{"$f":"SUMPRODUCT(ISNUMBER(MATCH(INDIRECT(\"H\"&$A$1&\"!B2:AF2\"),DimFe,0))*IFERROR(IF(\"19:00\"<=IFERROR(Hgauche,0),IF(durée6<0,0,durée6),IF(durée<0,0,durée)),0))+SUMPRODUCT(ISNUMBER(MATCH(INDIRECT(\"H\"&$A$1&\"!B2:AF2\"),moindimfe,0))*IFERROR(IF(\"19:00\"<=IFERROR(Hgauche,0),IF(durée2<0,0,durée2),\"00:00\"),0))","v":0},{"$f":"SUM(SUMPRODUCT(1*IFERROR(IF(\"19:00\"<=IFERROR(Hgauche,0),IF(durée2<0,0,durée2),\"00:00\"),0)),SUMPRODUCT(1*IFERROR(IF(\"19:00\"<=IFERROR(Hgauche,0),IF(durée6<0,0,durée6),\"00:00\"),0)),SUMPRODUCT(1*IFERROR(IF(\"21:00\"<=IFERROR(Hdroitesimple,0),IF(durée<0,0,durée),\"00:00\"),0)))-durée5","v":0},null,0,{"$f":"VLOOKUP($A14,Bilan!$A$9:$AQ62,37,FALSE)","v":59.5},null,{"$f":"Bilan!AN14","v":65},65,null,0]
[{"$f":"Données!$H12","v":0},"","","","","","","","","","","","","","","","","","","","","","","","","","","00:00:00","00:00:00",null,{"$f":"SUMPRODUCT(ISNUMBER(MATCH(INDIRECT(\"H\"&$A$1&\"!B2:AF2\"),DimFe,0))*IFERROR(IF(\"19:00\">=IFERROR(Hgauche,0),IFERROR(hdroite-Hgauche,0),IF(durée1>0,durée1,\"00:00\")),0))+SUMPRODUCT(ISNUMBER(MATCH(INDIRECT(\"H\"&$A$1&\"!B2:AF2\"),moindimfe,0))*IFERROR(IF(\"19:00\"<=IFERROR(Hgauche,0),IF(durée4<0,0,durée4),\"00:00\"),0))","v":0},{"$f":"SUMPRODUCT(ISNUMBER(MATCH(INDIRECT(\"H\"&$A$1&\"!B2:AF2\"),DimFe,0))*IFERROR(IF(\"19:00\"<=IFERROR(Hgauche,0),IF(durée6<0,0,durée6),IF(durée<0,0,durée)),0))+SUMPRODUCT(ISNUMBER(MATCH(INDIRECT(\"H\"&$A$1&\"!B2:AF2\"),moindimfe,0))*IFERROR(IF(\"19:00\"<=IFERROR(Hgauche,0),IF(durée2<0,0,durée2),\"00:00\"),0))","v":0},{"$f":"SUM(SUMPRODUCT(1*IFERROR(IF(\"19:00\"<=IFERROR(Hgauche,0),IF(durée2<0,0,durée2),\"00:00\"),0)),SUMPRODUCT(1*IFERROR(IF(\"19:00\"<=IFERROR(Hgauche,0),IF(durée6<0,0,durée6),\"00:00\"),0)),SUMPRODUCT(1*IFERROR(IF(\"21:00\"<=IFERROR(Hdroitesimple,0),IF(durée<0,0,durée),\"00:00\"),0)))-durée5","v":0},null,0,{"$f":"VLOOKUP($A15,Bilan!$A$9:$AQ63,37,FALSE)","v":59.5},null,{"$f":"Bilan!AN15","v":65},65,null,0]
[{"$f":"Données!$H13","v":0},"","","","","","","","","","","","","","","","","","","","","","","","","","","00:00:00","00:00:00",null,{"$f":"SUMPRODUCT(ISNUMBER(MATCH(INDIRECT(\"H\"&$A$1&\"!B2:AF2\"),DimFe,0))*IFERROR(IF(\"19:00\">=IFERROR(Hgauche,0),IFERROR(hdroite-Hgauche,0),IF(durée1>0,durée1,\"00:00\")),0))+SUMPRODUCT(ISNUMBER(MATCH(INDIRECT(\"H\"&$A$1&\"!B2:AF2\"),moindimfe,0))*IFERROR(IF(\"19:00\"<=IFERROR(Hgauche,0),IF(durée4<0,0,durée4),\"00:00\"),0))","v":0},{"$f":"SUMPRODUCT(ISNUMBER(MATCH(INDIRECT(\"H\"&$A$1&\"!B2:AF2\"),DimFe,0))*IFERROR(IF(\"19:00\"<=IFERROR(Hgauche,0),IF(durée6<0,0,durée6),IF(durée<0,0,durée)),0))+SUMPRODUCT(ISNUMBER(MATCH(INDIRECT(\"H\"&$A$1&\"!B2:AF2\"),moindimfe,0))*IFERROR(IF(\"19:00\"<=IFERROR(Hgauche,0),IF(durée2<0,0,durée2),\"00:00\"),0))","v":0},{"$f":"SUM(SUMPRODUCT(1*IFERROR(IF(\"19:00\"<=IFERROR(Hgauche,0),IF(durée2<0,0,durée2),\"00:00\"),0)),SUMPRODUCT(1*IFERROR(IF(\"19:00\"<=IFERROR(Hgauche,0),IF(durée6<0,0,durée6),\"00:00\"),0)),SUMPRODUCT(1*IFERROR(IF(\"21:00\"<=IFERROR(Hdroitesimple,0),IF(durée<0,0,durée),\"00:00\"),0)))-durée5","v":0},null,0,{"$f":"VLOOKUP($A16,Bilan!$A$9:$AQ64,37,FALSE)","v":59.5},null,{"$f":"Bilan!AN16","v":65},65,null,0]
[{"$f":"Données!$H14","v":0},"","","","","","","","","","","","","","","","","","","","","","","","","","","00:00:00","00:00:00",null,{"$f":"SUMPRODUCT(ISNUMBER(MATCH(INDIRECT(\"H\"&$A$1&\"!B2:AF2\"),DimFe,0))*IFERROR(IF(\"19:00\">=IFERROR(Hgauche,0),IFERROR(hdroite-Hgauche,0),IF(durée1>0,durée1,\"00:00\")),0))+SUMPRODUCT(ISNUMBER(MATCH(INDIRECT(\"H\"&$A$1&\"!B2:AF2\"),moindimfe,0))*IFERROR(IF(\"19:00\"<=IFERROR(Hgauche,0),IF(durée4<0,0,durée4),\"00:00\"),0))","v":0},{"$f":"SUMPRODUCT(ISNUMBER(MATCH(INDIRECT(\"H\"&$A$1&\"!B2:AF2\"),DimFe,0))*IFERROR(IF(\"19:00\"<=IFERROR(Hgauche,0),IF(durée6<0,0,durée6),IF(durée<0,0,durée)),0))+SUMPRODUCT(ISNUMBER(MATCH(INDIRECT(\"H\"&$A$1&\"!B2:AF2\"),moindimfe,0))*IFERROR(IF(\"19:00\"<=IFERROR(Hgauche,0),IF(durée2<0,0,durée2),\"00:00\"),0))","v":0},{"$f":"SUM(SUMPRODUCT(1*IFERROR(IF(\"19:00\"<=IFERROR(Hgauche,0),IF(durée2<0,0,durée2),\"00:00\"),0)),SUMPRODUCT(1*IFERROR(IF(\"19:00\"<=IFERROR(Hgauche,0),IF(durée6<0,0,durée6),\"00:00\"),0)),SUMPRODUCT(1*IFERROR(IF(\"21:00\"<=IFERROR(Hdroitesimple,0),IF(durée<0,0,durée),\"00:00\"),0)))-durée5","v":0},null,0,{"$f":"VLOOKUP($A17,Bilan!$A$9:$AQ65,37,FALSE)","v":59.5},null,{"$f":"Bilan!AN17","v":65},65,null,0]
[{"$f":"Données!$H15","v":0},"","","","","","","","","","","","","","","","","","","","","","","","","","","00:00:00","00:00:00",null,{"$f":"SUMPRODUCT(ISNUMBER(MATCH(INDIRECT(\"H\"&$A$1&\"!B2:AF2\"),DimFe,0))*IFERROR(IF(\"19:00\">=IFERROR(Hgauche,0),IFERROR(hdroite-Hgauche,0),IF(durée1>0,durée1,\"00:00\")),0))+SUMPRODUCT(ISNUMBER(MATCH(INDIRECT(\"H\"&$A$1&\"!B2:AF2\"),moindimfe,0))*IFERROR(IF(\"19:00\"<=IFERROR(Hgauche,0),IF(durée4<0,0,durée4),\"00:00\"),0))","v":0},{"$f":"SUMPRODUCT(ISNUMBER(MATCH(INDIRECT(\"H\"&$A$1&\"!B2:AF2\"),DimFe,0))*IFERROR(IF(\"19:00\"<=IFERROR(Hgauche,0),IF(durée6<0,0,durée6),IF(durée<0,0,durée)),0))+SUMPRODUCT(ISNUMBER(MATCH(INDIRECT(\"H\"&$A$1&\"!B2:AF2\"),moindimfe,0))*IFERROR(IF(\"19:00\"<=IFERROR(Hgauche,0),IF(durée2<0,0,durée2),\"00:00\"),0))","v":0},{"$f":"SUM(SUMPRODUCT(1*IFERROR(IF(\"19:00\"<=IFERROR(Hgauche,0),IF(durée2<0,0,durée2),\"00:00\"),0)),SUMPRODUCT(1*IFERROR(IF(\"19:00\"<=IFERROR(Hgauche,0),IF(durée6<0,0,durée6),\"00:00\"),0)),SUMPRODUCT(1*IFERROR(IF(\"21:00\"<=IFERROR(Hdroitesimple,0),IF(durée<0,0,durée),\"00:00\"),0)))-durée5","v":0},null,0,{"$f":"VLOOKUP($A18,Bilan!$A$9:$AQ66,37,FALSE)","v":59.5},null,{"$f":"Bilan!AN18","v":65},65,null,0]
[{"$f":"Données!$H16","v":0},{"$f":"SUMPRODUCT((INDIRECT(\"'\"&$A$1&\"'!$A$7:$A$56\")=$A19)*(INDIRECT(\"'\"&$A$1&\"'!$B$7:$AF$56\")=B$7))","v":0},0,0,0,0,0,0,0,0,0,0,0,0,0,0,0,{"$f":"SUMPRODUCT((INDIRECT(\"'\"&$A$1&\"'!$A$7:$A$56\")=$A19)*(INDIRECT(\"'\"&$A$1&\"'!$B$7:$AF$56\")=R$7))","v":0},0,0,0,0,0,0,0,0,0,{"$f":"VLOOKUP($A19,INDIRECT(\"'H\"&$A$1&\"'!$A$7:$AR$56\"),35,0)","v":"00:00:00"},{"$f":"VLOOKUP($A19,INDIRECT(\"'H\"&$A$1&\"'!$A$7:$AR$56\"),38,0)","v":"00:00:00"},null,{"$f":"SUMPRODUCT(ISNUMBER(MATCH(INDIRECT(\"H\"&$A$1&\"!B2:AF2\"),DimFe,0))*IFERROR(IF(\"19:00\">=IFERROR(Hgauche,0),IFERROR(hdroite-Hgauche,0),IF(durée1>0,durée1,\"00:00\")),0))+SUMPRODUCT(ISNUMBER(MATCH(INDIRECT(\"H\"&$A$1&\"!B2:AF2\"),moindimfe,0))*IFERROR(IF(\"19:00\"<=IFERROR(Hgauche,0),IF(durée4<0,0,durée4),\"00:00\"),0))","v":0},{"$f":"SUMPRODUCT(ISNUMBER(MATCH(INDIRECT(\"H\"&$A$1&\"!B2:AF2\"),DimFe,0))*IFERROR(IF(\"19:00\"<=IFERROR(Hgauche,0),IF(durée6<0,0,durée6),IF(durée<0,0,durée)),0))+SUMPRODUCT(ISNUMBER(MATCH(INDIRECT(\"H\"&$A$1&\"!B2:AF2\"),moindimfe,0))*IFERROR(IF(\"19:00\"<=IFERROR(Hgauche,0),IF(durée2<0,0,durée2),\"00:00\"),0))","v":0},{"$f":"SUMPRODUCT(1*IF(durée<0,0,durée))+SUMPRODUCT(1*IFERROR(IF(\"19:00\"<=IFERROR(Hgauche,0),IF(durée2<0,0,durée2),\"00:00\"),0))-durée5","v":0},null,{"$f":"(AB19/24)+SUMPRODUCT(($B$6:$AA$6)*(B19:AA19))","v":0},{"$f":"VLOOKUP($A19,Bilan!A19:AI67,35,FALSE)","v":0},null,{"$f":"Bilan!AN19","v":{"$error":"#VALUE!"}},65,null,{"$f":"SUM(B19:R19)","v":0},null,null,null,null,null,null,null,null,null,null,null,null,null,null,null,null,null,null,null,null,null,null,null,{"$f":"Données!$A14","v":"N"},{"$f":"Données!$B14","v":0.85416666666666663}]
[{"$f":"Données!$H17","v":0},0,0,0,0,0,0,0,0,0,0,0,0,0,0,0,0,0,0,0,0,0,0,0,0,0,0,"00:00:00","00:00:00",null,{"$f":"SUMPRODUCT(ISNUMBER(MATCH(INDIRECT(\"H\"&$A$1&\"!B2:AF2\"),DimFe,0))*IFERROR(IF(\"19:00\">=IFERROR(Hgauche,0),IFERROR(hdroite-Hgauche,0),IF(durée1>0,durée1,\"00:00\")),0))+SUMPRODUCT(ISNUMBER(MATCH(INDIRECT(\"H\"&$A$1&\"!B2:AF2\"),moindimfe,0))*IFERROR(IF(\"19:00\"<=IFERROR(Hgauche,0),IF(durée4<0,0,durée4),\"00:00\"),0))","v":0},{"$f":"SUMPRODUCT(ISNUMBER(MATCH(INDIRECT(\"H\"&$A$1&\"!B2:AF2\"),DimFe,0))*IFERROR(IF(\"19:00\"<=IFERROR(Hgauche,0),IF(durée6<0,0,durée6),IF(durée<0,0,durée)),0))+SUMPRODUCT(ISNUMBER(MATCH(INDIRECT(\"H\"&$A$1&\"!B2:AF2\"),moindimfe,0))*IFERROR(IF(\"19:00\"<=IFERROR(Hgauche,0),IF(durée2<0,0,durée2),\"00:00\"),0))","v":0},{"$f":"SUMPRODUCT(1*IF(durée<0,0,durée))+SUMPRODUCT(1*IFERROR(IF(\"19:00\"<=IFERROR(Hgauche,0),IF(durée2<0,0,durée2),\"00:00\"),0))-durée5","v":0},null,0,{"$f":"VLOOKUP($A20,Bilan!A20:AI68,35,FALSE)","v":0},null,{"$f":"Bilan!AN20","v":{"$error":"#VALUE!"}},65,null,0,null,null,null,null,null,null,null,null,null,null,null,null,null,null,null,null,null,null,null,null,null,null,null,{"$f":"Données!$A15","v":"N+"},{"$f":"Données!$B15","v":0.80208333333333337}]
[{"$f":"Données!$H18","v":0},0,0,0,0,0,0,0,0,0,0,0,0,0,0,0,0,0,0,0,0,0,0,0,0,0,0,"00:00:00","00:00:00",null,{"$f":"SUMPRODUCT(ISNUMBER(MATCH(INDIRECT(\"H\"&$A$1&\"!B2:AF2\"),DimFe,0))*IFERROR(IF(\"19:00\">=IFERROR(Hgauche,0),IFERROR(hdroite-Hgauche,0),IF(durée1>0,durée1,\"00:00\")),0))+SUMPRODUCT(ISNUMBER(MATCH(INDIRECT(\"H\"&$A$1&\"!B2:AF2\"),moindimfe,0))*IFERROR(IF(\"19:00\"<=IFERROR(Hgauche,0),IF(durée4<0,0,durée4),\"00:00\"),0))","v":0},{"$f":"SUMPRODUCT(ISNUMBER(MATCH(INDIRECT(\"H\"&$A$1&\"!B2:AF2\"),DimFe,0))*IFERROR(IF(\"19:00\"<=IFERROR(Hgauche,0),IF(durée6<0,0,durée6),IF(durée<0,0,durée)),0))+SUMPRODUCT(ISNUMBER(MATCH(INDIRECT(\"H\"&$A$1&\"!B2:AF2\"),moindimfe,0))*IFERROR(IF(\"19:00\"<=IFERROR(Hgauche,0),IF(durée2<0,0,durée2),\"00:00\"),0))","v":0},{"$f":"SUMPRODUCT(1*IF(durée<0,0,durée))+SUMPRODUCT(1*IFERROR(IF(\"19:00\"<=IFERROR(Hgauche,0),IF(durée2<0,0,durée2),\"00:00\"),0))-durée5","v":0},null,0,{"$f":"VLOOKUP($A21,Bilan!A21:AI69,35,FALSE)","v":0},null,{"$f":"Bilan!AN21","v":{"$error":"#VALUE!"}},65,null,0,null,null,null,null,null,null,null,null,null,null,null,null,null,null,null,null,null,null,null,null,null,null,null,{"$f":"Données!$A16","v":"NS"},{"$f":"Données!$B16","v":0.80208333333333337}]
[{"$f":"Données!$H19","v":0},0,0,0,0,0,0,0,0,0,0,0,0,0,0,0,0,0,0,0,0,0,0,0,0,0,0,"00:00:00","00:00:00",null,{"$f":"SUMPRODUCT(ISNUMBER(MATCH(INDIRECT(\"H\"&$A$1&\"!B2:AF2\"),DimFe,0))*IFERROR(IF(\"19:00\">=IFERROR(Hgauche,0),IFERROR(hdroite-Hgauche,0),IF(durée1>0,durée1,\"00:00\")),0))+SUMPRODUCT(ISNUMBER(MATCH(INDIRECT(\"H\"&$A$1&\"!B2:AF2\"),moindimfe,0))*IFERROR(IF(\"19:00\"<=IFERROR(Hgauche,0),IF(durée4<0,0,durée4),\"00:00\"),0))","v":0},{"$f":"SUMPRODUCT(ISNUMBER(MATCH(INDIRECT(\"H\"&$A$1&\"!B2:AF2\"),DimFe,0))*IFERROR(IF(\"19:00\"<=IFERROR(Hgauche,0),IF(durée6<0,0,durée6),IF(durée<0,0,durée)),0))+SUMPRODUCT(ISNUMBER(MATCH(INDIRECT(\"H\"&$A$1&\"!B2:AF2\"),moindimfe,0))*IFERROR(IF(\"19:00\"<=IFERROR(Hgauche,0),IF(durée2<0,0,durée2),\"00:00\"),0))","v":0},{"$f":"SUMPRODUCT(1*IF(durée<0,0,durée))+SUMPRODUCT(1*IFERROR(IF(\"19:00\"<=IFERROR(Hgauche,0),IF(durée2<0,0,durée2),\"00:00\"),0))-durée5","v":0},null,0,{"$f":"VLOOKUP($A22,Bilan!A22:AI70,35,FALSE)","v":0},null,{"$f":"Bilan!AN22","v":{"$error":"#VALUE!"}},65,null,0,null,null,null,null,null,null,null,null,null,null,null,null,null,null,null,null,null,null,null,null,null,null,null,{"$f":"Données!$A17","v":"T"},{"$f":"Données!$B17","v":"T"}]
[{"$f":"Données!$H20","v":0},0,0,0,0,0,0,0,0,0,0,0,0,0,0,0,0,0,0,0,0,0,0,0,0,0,0,"00:00:00","00:00:00",null,{"$f":"SUMPRODUCT(ISNUMBER(MATCH(INDIRECT(\"H\"&$A$1&\"!B2:AF2\"),DimFe,0))*IFERROR(IF(\"19:00\">=IFERROR(Hgauche,0),IFERROR(hdroite-Hgauche,0),IF(durée1>0,durée1,\"00:00\")),0))+SUMPRODUCT(ISNUMBER(MATCH(INDIRECT(\"H\"&$A$1&\"!B2:AF2\"),moindimfe,0))*IFERROR(IF(\"19:00\"<=IFERROR(Hgauche,0),IF(durée4<0,0,durée4),\"00:00\"),0))","v":0},{"$f":"SUMPRODUCT(ISNUMBER(MATCH(INDIRECT(\"H\"&$A$1&\"!B2:AF2\"),DimFe,0))*IFERROR(IF(\"19:00\"<=IFERROR(Hgauche,0),IF(durée6<0,0,durée6),IF(durée<0,0,durée)),0))+SUMPRODUCT(ISNUMBER(MATCH(INDIRECT(\"H\"&$A$1&\"!B2:AF2\"),moindimfe,0))*IFERROR(IF(\"19:00\"<=IFERROR(Hgauche,0),IF(durée2<0,0,durée2),\"00:00\"),0))","v":0},{"$f":"SUMPRODUCT(1*IF(durée<0,0,durée))+SUMPRODUCT(1*IFERROR(IF(\"19:00\"<=IFERROR(Hgauche,0),IF(durée2<0,0,durée2),\"00:00\"),0))-durée5","v":0},null,0,{"$f":"VLOOKUP($A23,Bilan!A23:AI71,35,FALSE)","v":0},null,{"$f":"Bilan!AN23","v":{"$error":"#VALUE!"}},65,null,0,null,null,null,null,null,null,null,null,null,null,null,null,null,null,null,null,null,null,null,null,null,null,null,{"$f":"Données!$A18","v":"F"},{"$f":"Données!$B18","v":"F"}]
[{"$f":"Données!$H21","v":0},0,0,0,0,0,0,0,0,0,0,0,0,0,0,0,0,0,0,0,0,0,0,0,0,0,0,"00:00:00","00:00:00",null,{"$f":"SUMPRODUCT(ISNUMBER(MATCH(INDIRECT(\"H\"&$A$1&\"!B2:AF2\"),DimFe,0))*IFERROR(IF(\"19:00\">=IFERROR(Hgauche,0),IFERROR(hdroite-Hgauche,0),IF(durée1>0,durée1,\"00:00\")),0))+SUMPRODUCT(ISNUMBER(MATCH(INDIRECT(\"H\"&$A$1&\"!B2:AF2\"),moindimfe,0))*IFERROR(IF(\"19:00\"<=IFERROR(Hgauche,0),IF(durée4<0,0,durée4),\"00:00\"),0))","v":0},{"$f":"SUMPRODUCT(ISNUMBER(MATCH(INDIRECT(\"H\"&$A$1&\"!B2:AF2\"),DimFe,0))*IFERROR(IF(\"19:00\"<=IFERROR(Hgauche,0),IF(durée6<0,0,durée6),IF(durée<0,0,durée)),0))+SUMPRODUCT(ISNUMBER(MATCH(INDIRECT(\"H\"&$A$1&\"!B2:AF2\"),moindimfe,0))*IFERROR(IF(\"19:00\"<=IFERROR(Hgauche,0),IF(durée2<0,0,durée2),\"00:00\"),0))","v":0},{"$f":"SUMPRODUCT(1*IF(durée<0,0,durée))+SUMPRODUCT(1*IFERROR(IF(\"19:00\"<=IFERROR(Hgauche,0),IF(durée2<0,0,durée2),\"00:00\"),0))-durée5","v":0},null,0,{"$f":"VLOOKUP($A24,Bilan!A24:AI72,35,FALSE)","v":0},null,{"$f":"Bilan!AN24","v":{"$error":"#VALUE!"}},65,null,0,null,null,null,null,null,null,null,null,null,null,null,null,null,null,null,null,null,null,null,null,null,null,null,{"$f":"Données!$A19","v":"SYN"},{"$f":"Données!$B19","v":"Syn"}]
[{"$f":"Données!$H22","v":"Equipe de nuit"}]
[{"$f":"Données!$H23","v":"K"},{"$f":"IF(SUMPRODUCT((INDIRECT(\"'\"&$A$1&\"'!$A$7:$A$56\")=$A26)*(INDIRECT(\"'\"&$A$1&\"'!$B$7:$AF$56\")=B$7))=0,\"\",SUMPRODUCT((INDIRECT(\"'\"&$A$1&\"'!$A$7:$A$56\")=$A26)*(INDIRECT(\"'\"&$A$1&\"'!$B$7:$AF$56\")=B$7)))","v":""},"","","","","","","","","","","","","","","",{"$f":"IF(SUMPRODUCT((INDIRECT(\"'\"&$A$1&\"'!$A$7:$A$56\")=$A26)*(INDIRECT(\"'\"&$A$1&\"'!$B$7:$AF$56\")=R$7))=0,\"\",SUMPRODUCT((INDIRECT(\"'\"&$A$1&\"'!$A$7:$A$56\")=$A26)*(INDIRECT(\"'\"&$A$1&\"'!$B$7:$AF$56\")=R$7)))","v":""},"","","","","","","","","",{"$f":"VLOOKUP($A26,INDIRECT(\"'\"&$A$1&\"'!$A$7:$AR$56\"),35,0)","v":"00:00:00"},{"$f":"VLOOKUP($A26,INDIRECT(\"'\"&$A$1&\"'!$A$7:$AR$56\"),36,0)","v":"00:00:00"},null,{"$f":"SUMPRODUCT(ISNUMBER(MATCH(INDIRECT(\"H\"&$A$1&\"!B2:AF2\"),DimFe,0))*IFERROR(IF(\"19:00\">=IFERROR(Hgauche,0),IFERROR(hdroite-Hgauche,0),IF(durée1>0,durée1,\"00:00\")),0))+SUMPRODUCT(ISNUMBER(MATCH(INDIRECT(\"H\"&$A$1&\"!B2:AF2\"),moindimfe,0))*IFERROR(IF(\"19:00\"<=IFERROR(Hgauche,0),IF(durée4<0,0,durée4),\"00:00\"),0))","v":0},{"$f":"SUMPRODUCT(ISNUMBER(MATCH(INDIRECT(\"H\"&$A$1&\"!B2:AF2\"),DimFe,0))*IFERROR(IF(\"19:00\"<=IFERROR(Hgauche,0),IF(durée6<0,0,durée6),IF(durée<0,0,durée)),0))+SUMPRODUCT(ISNUMBER(MATCH(INDIRECT(\"H\"&$A$1&\"!B2:AF2\"),moindimfe,0))*IFERROR(IF(\"19:00\"<=IFERROR(Hgauche,0),IF(durée2<0,0,durée2),\"00:00\"),0))","v":0},{"$f":"SUM(SUMPRODUCT(1*IFERROR(IF(\"19:00\"<=IFERROR(Hgauche,0),IF(durée2<0,0,durée2),\"00:00\"),0)),SUMPRODUCT(1*IFERROR(IF(\"19:00\"<=IFERROR(Hgauche,0),IF(durée6<0,0,durée6),\"00:00\"),0)),SUMPRODUCT(1*IFERROR(IF(\"21:00\"<=IFERROR(Hdroitesimple,0),IF(durée<0,0,durée),\"00:00\"),0)))-durée5","v":0},null,{"$f":"bilanh","v":0},{"$f":"VLOOKUP($A26,Bilan!$A$9:$AQ74,37,FALSE)","v":57.958333333333336},null,{"$f":"Bilan!AN26","v":65},65,null,{"$f":"Jourtravaillé","v":0}]
[{"$f":"Données!$H24","v":0},"","","","","","","","","","","","","","","","","","","","","","","","","","",{"$f":"VLOOKUP($A27,INDIRECT(\"'\"&$A$1&\"'!$A$7:$AR$56\"),35,0)","v":"00:00:00"},{"$f":"VLOOKUP($A27,INDIRECT(\"'\"&$A$1&\"'!$A$7:$AR$56\"),36,0)","v":"00:00:00"},null,{"$f":"SUMPRODUCT(ISNUMBER(MATCH(INDIRECT(\"H\"&$A$1&\"!B2:AF2\"),DimFe,0))*IFERROR(IF(\"19:00\">=IFERROR(Hgauche,0),IFERROR(hdroite-Hgauche,0),IF(durée1>0,durée1,\"00:00\")),0))+SUMPRODUCT(ISNUMBER(MATCH(INDIRECT(\"H\"&$A$1&\"!B2:AF2\"),moindimfe,0))*IFERROR(IF(\"19:00\"<=IFERROR(Hgauche,0),IF(durée4<0,0,durée4),\"00:00\"),0))","v":0},{"$f":"SUMPRODUCT(ISNUMBER(MATCH(INDIRECT(\"H\"&$A$1&\"!B2:AF2\"),DimFe,0))*IFERROR(IF(\"19:00\"<=IFERROR(Hgauche,0),IF(durée6<0,0,durée6),IF(durée<0,0,durée)),0))+SUMPRODUCT(ISNUMBER(MATCH(INDIRECT(\"H\"&$A$1&\"!B2:AF2\"),moindimfe,0))*IFERROR(IF(\"19:00\"<=IFERROR(Hgauche,0),IF(durée2<0,0,durée2),\"00:00\"),0))","v":0},{"$f":"SUM(SUMPRODUCT(1*IFERROR(IF(\"19:00\"<=IFERROR(Hgauche,0),IF(durée2<0,0,durée2),\"00:00\"),0)),SUMPRODUCT(1*IFERROR(IF(\"19:00\"<=IFERROR(Hgauche,0),IF(durée6<0,0,durée6),\"00:00\"),0)),SUMPRODUCT(1*IFERROR(IF(\"21:00\"<=IFERROR(Hdroitesimple,0),IF(durée<0,0,durée),\"00:00\"),0)))-durée5","v":0},null,{"$f":"bilanh","v":0},{"$f":"VLOOKUP($A27,Bilan!$A$9:$AQ75,37,FALSE)","v":59.5},null,{"$f":"Bilan!AN27","v":65},65,null,{"$f":"Jourtravaillé","v":0}]
[{"$f":"Données!$H25","v":0},"","","","","","","","","","","","","","","","","","","","","","","","","","",{"$f":"VLOOKUP($A28,INDIRECT(\"'\"&$A$1&\"'!$A$7:$AR$56\"),35,0)","v":"00:00:00"},{"$f":"VLOOKUP($A28,INDIRECT(\"'\"&$A$1&\"'!$A$7:$AR$56\"),36,0)","v":"00:00:00"},null,{"$f":"SUMPRODUCT(ISNUMBER(MATCH(INDIRECT(\"H\"&$A$1&\"!B2:AF2\"),DimFe,0))*IFERROR(IF(\"19:00\">=IFERROR(Hgauche,0),IFERROR(hdroite-Hgauche,0),IF(durée1>0,durée1,\"00:00\")),0))+SUMPRODUCT(ISNUMBER(MATCH(INDIRECT(\"H\"&$A$1&\"!B2:AF2\"),moindimfe,0))*IFERROR(IF(\"19:00\"<=IFERROR(Hgauche,0),IF(durée4<0,0,durée4),\"00:00\"),0))","v":0},{"$f":"SUMPRODUCT(ISNUMBER(MATCH(INDIRECT(\"H\"&$A$1&\"!B2:AF2\"),DimFe,0))*IFERROR(IF(\"19:00\"<=IFERROR(Hgauche,0),IF(durée6<0,0,durée6),IF(durée<0,0,durée)),0))+SUMPRODUCT(ISNUMBER(MATCH(INDIRECT(\"H\"&$A$1&\"!B2:AF2\"),moindimfe,0))*IFERROR(IF(\"19:00\"<=IFERROR(Hgauche,0),IF(durée2<0,0,durée2),\"00:00\"),0))","v":0},{"$f":"SUM(SUMPRODUCT(1*IFERROR(IF(\"19:00\"<=IFERROR(Hgauche,0),IF(durée2<0,0,durée2),\"00:00\"),0)),SUMPRODUCT(1*IFERROR(IF(\"19:00\"<=IFERROR(Hgauche,0),IF(durée6<0,0,durée6),\"00:00\"),0)),SUMPRODUCT(1*IFERROR(IF(\"21:00\"<=IFERROR(Hdroitesimple,0),IF(durée<0,0,durée),\"00:00\"),0)))-durée5","v":0},null,{"$f":"bilanh","v":0},{"$f":"VLOOKUP($A28,Bilan!$A$9:$AQ76,37,FALSE)","v":59.5},null,{"$f":"Bilan!AN28","v":65},65,null,{"$f":"Jourtravaillé","v":0}]
[{"$f":"Données!$H26","v":0},{"$f":"SUMPRODUCT((INDIRECT(\"'\"&$A$1&\"'!$A$7:$A$56\")=$A29)*(INDIRECT(\"'\"&$A$1&\"'!$B$7:$AF$56\")=B$7))","v":0},0,0,0,0,0,0,0,0,0,0,0,0,0,0,0,{"$f":"SUMPRODUCT((INDIRECT(\"'\"&$A$1&\"'!$A$7:$A$56\")=$A29)*(INDIRECT(\"'\"&$A$1&\"'!$B$7:$AF$56\")=R$7))","v":0},0,0,0,0,0,0,0,0,0,{"$f":"VLOOKUP($A29,INDIRECT(\"'H\"&$A$1&\"'!$A$7:$AR$56\"),35,0)","v":"00:00:00"},{"$f":"VLOOKUP($A29,INDIRECT(\"'H\"&$A$1&\"'!$A$7:$AR$56\"),38,0)","v":"00:00:00"},null,{"$f":"SUMPRODUCT(ISNUMBER(MATCH(INDIRECT(\"H\"&$A$1&\"!B2:AF2\"),DimFe,0))*IFERROR(IF(\"19:00\">=IFERROR(Hgauche,0),IFERROR(hdroite-Hgauche,0),IF(durée1>0,durée1,\"00:00\")),0))+SUMPRODUCT(ISNUMBER(MATCH(INDIRECT(\"H\"&$A$1&\"!B2:AF2\"),moindimfe,0))*IFERROR(IF(\"19:00\"<=IFERROR(Hgauche,0),IF(durée4<0,0,durée4),\"00:00\"),0))","v":0},{"$f":"SUMPRODUCT(ISNUMBER(MATCH(INDIRECT(\"H\"&$A$1&\"!B2:AF2\"),DimFe,0))*IFERROR(IF(\"19:00\"<=IFERROR(Hgauche,0),IF(durée6<0,0,durée6),IF(durée<0,0,durée)),0))+SUMPRODUCT(ISNUMBER(MATCH(INDIRECT(\"H\"&$A$1&\"!B2:AF2\"),moindimfe,0))*IFERROR(IF(\"19:00\"<=IFERROR(Hgauche,0),IF(durée2<0,0,durée2),\"00:00\"),0))","v":0},{"$f":"SUMPRODUCT(1*IF(durée<0,0,durée))+SUMPRODUCT(1*IFERROR(IF(\"19:00\"<=IFERROR(Hgauche,0),IF(durée2<0,0,durée2),\"00:00\"),0))-durée5","v":0},null,{"$f":"(AB29/24)+SUMPRODUCT(($B$6:$AA$6)*(B29:AA29))","v":0},{"$f":"VLOOKUP($A29,Bilan!A29:AI77,35,FALSE)","v":0},null,{"$f":"Bilan!AN29","v":{"$error":"#VALUE!"}},65,null,{"$f":"SUM(B29:R29)","v":0},null,null,null,null,null,null,null,null,null,null,null,null,null,null,null,null,null,null,null,null,null,null,null,{"$f":"Données!$A24","v":"CA"},{"$f":"Données!$B24","v":"CA"}]
[{"$f":"Données!$H27","v":0},0,0,0,0,0,0,0,0,0,0,0,0,0,0,0,0,0,0,0,0,0,0,0,0,0,0,"00:00:00","00:00:00",null,{"$f":"SUMPRODUCT(ISNUMBER(MATCH(INDIRECT(\"H\"&$A$1&\"!B2:AF2\"),DimFe,0))*IFERROR(IF(\"19:00\">=IFERROR(Hgauche,0),IFERROR(hdroite-Hgauche,0),IF(durée1>0,durée1,\"00:00\")),0))+SUMPRODUCT(ISNUMBER(MATCH(INDIRECT(\"H\"&$A$1&\"!B2:AF2\"),moindimfe,0))*IFERROR(IF(\"19:00\"<=IFERROR(Hgauche,0),IF(durée4<0,0,durée4),\"00:00\"),0))","v":0},{"$f":"SUMPRODUCT(ISNUMBER(MATCH(INDIRECT(\"H\"&$A$1&\"!B2:AF2\"),DimFe,0))*IFERROR(IF(\"19:00\"<=IFERROR(Hgauche,0),IF(durée6<0,0,durée6),IF(durée<0,0,durée)),0))+SUMPRODUCT(ISNUMBER(MATCH(INDIRECT(\"H\"&$A$1&\"!B2:AF2\"),moindimfe,0))*IFERROR(IF(\"19:00\"<=IFERROR(Hgauche,0),IF(durée2<0,0,durée2),\"00:00\"),0))","v":0},{"$f":"SUMPRODUCT(1*IF(durée<0,0,durée))+SUMPRODUCT(1*IFERROR(IF(\"19:00\"<=IFERROR(Hgauche,0),IF(durée2<0,0,durée2),\"00:00\"),0))-durée5","v":0},null,0,{"$f":"VLOOKUP($A30,Bilan!A30:AI78,35,FALSE)","v":0},null,{"$f":"Bilan!AN30","v":{"$error":"#VALUE!"}},65,null,0,null,null,null,null,null,null,null,null,null,null,null,null,null,null,null,null,null,null,null,null,null,null,null,{"$f":"Données!$A25","v":"CA16"},{"$f":"Données!$B25","v":"CA16"}]
[{"$f":"Données!$H28","v":0},0,0,0,0,0,0,0,0,0,0,0,0,0,0,0,0,0,0,0,0,0,0,0,0,0,0,"00:00:00","00:00:00",null,{"$f":"SUMPRODUCT(ISNUMBER(MATCH(INDIRECT(\"H\"&$A$1&\"!B2:AF2\"),DimFe,0))*IFERROR(IF(\"19:00\">=IFERROR(Hgauche,0),IFERROR(hdroite-Hgauche,0),IF(durée1>0,durée1,\"00:00\")),0))+SUMPRODUCT(ISNUMBER(MATCH(INDIRECT(\"H\"&$A$1&\"!B2:AF2\"),moindimfe,0))*IFERROR(IF(\"19:00\"<=IFERROR(Hgauche,0),IF(durée4<0,0,durée4),\"00:00\"),0))","v":0},{"$f":"SUMPRODUCT(ISNUMBER(MATCH(INDIRECT(\"H\"&$A$1&\"!B2:AF2\"),DimFe,0))*IFERROR(IF(\"19:00\"<=IFERROR(Hgauche,0),IF(durée6<0,0,durée6),IF(durée<0,0,durée)),0))+SUMPRODUCT(ISNUMBER(MATCH(INDIRECT(\"H\"&$A$1&\"!B2:AF2\"),moindimfe,0))*IFERROR(IF(\"19:00\"<=IFERROR(Hgauche,0),IF(durée2<0,0,durée2),\"00:00\"),0))","v":0},{"$f":"SUMPRODUCT(1*IF(durée<0,0,durée))+SUMPRODUCT(1*IFERROR(IF(\"19:00\"<=IFERROR(Hgauche,0),IF(durée2<0,0,durée2),\"00:00\"),0))-durée5","v":0},null,0,{"$f":"VLOOKUP($A31,Bilan!A31:AI79,35,FALSE)","v":0},null,{"$f":"Bilan!AN31","v":{"$error":"#VALUE!"}},65,null,0,null,null,null,null,null,null,null,null,null,null,null,null,null,null,null,null,null,null,null,null,null,null,null,{"$f":"Données!$A26","v":"REC"},{"$f":"Données!$B26","v":"REC"}]
[{"$f":"Données!$H29","v":0},0,0,0,0,0,0,0,0,0,0,0,0,0,0,0,0,0,0,0,0,0,0,0,0,0,0,"00:00:00","00:00:00",null,{"$f":"SUMPRODUCT(ISNUMBER(MATCH(INDIRECT(\"H\"&$A$1&\"!B2:AF2\"),DimFe,0))*IFERROR(IF(\"19:00\">=IFERROR(Hgauche,0),IFERROR(hdroite-Hgauche,0),IF(durée1>0,durée1,\"00:00\")),0))+SUMPRODUCT(ISNUMBER(MATCH(INDIRECT(\"H\"&$A$1&\"!B2:AF2\"),moindimfe,0))*IFERROR(IF(\"19:00\"<=IFERROR(Hgauche,0),IF(durée4<0,0,durée4),\"00:00\"),0))","v":0},{"$f":"SUMPRODUCT(ISNUMBER(MATCH(INDIRECT(\"H\"&$A$1&\"!B2:AF2\"),DimFe,0))*IFERROR(IF(\"19:00\"<=IFERROR(Hgauche,0),IF(durée6<0,0,durée6),IF(durée<0,0,durée)),0))+SUMPRODUCT(ISNUMBER(MATCH(INDIRECT(\"H\"&$A$1&\"!B2:AF2\"),moindimfe,0))*IFERROR(IF(\"19:00\"<=IFERROR(Hgauche,0),IF(durée2<0,0,durée2),\"00:00\"),0))","v":0},{"$f":"SUMPRODUCT(1*IF(durée<0,0,durée))+SUMPRODUCT(1*IFERROR(IF(\"19:00\"<=IFERROR(Hgauche,0),IF(durée2<0,0,durée2),\"00:00\"),0))-durée5","v":0},null,0,{"$f":"VLOOKUP($A32,Bilan!A32:AI80,35,FALSE)","v":0},null,{"$f":"Bilan!AN32","v":{"$error":"#VALUE!"}},65,null,0,null,null,null,null,null,null,null,null,null,null,null,null,null,null,null,null,null,null,null,null,null,null,null,{"$f":"Données!$A27","v":"PL"},{"$f":"Données!$B27","v":"PL"}]
[{"$f":"Données!$H30","v":0},0,0,0,0,0,0,0,0,0,0,0,0,0,0,0,0,0,0,0,0,0,0,0,0,0,0,"00:00:00","00:00:00",null,{"$f":"SUMPRODUCT(ISNUMBER(MATCH(INDIRECT(\"H\"&$A$1&\"!B2:AF2\"),DimFe,0))*IFERROR(IF(\"19:00\">=IFERROR(Hgauche,0),IFERROR(hdroite-Hgauche,0),IF(durée1>0,durée1,\"00:00\")),0))+SUMPRODUCT(ISNUMBER(MATCH(INDIRECT(\"H\"&$A$1&\"!B2:AF2\"),moindimfe,0))*IFERROR(IF(\"19:00\"<=IFERROR(Hgauche,0),IF(durée4<0,0,durée4),\"00:00\"),0))","v":0},{"$f":"SUMPRODUCT(ISNUMBER(MATCH(INDIRECT(\"H\"&$A$1&\"!B2:AF2\"),DimFe,0))*IFERROR(IF(\"19:00\"<=IFERROR(Hgauche,0),IF(durée6<0,0,durée6),IF(durée<0,0,durée)),0))+SUMPRODUCT(ISNUMBER(MATCH(INDIRECT(\"H\"&$A$1&\"!B2:AF2\"),moindimfe,0))*IFERROR(IF(\"19:00\"<=IFERROR(Hgauche,0),IF(durée2<0,0,durée2),\"00:00\"),0))","v":0},{"$f":"SUMPRODUCT(1*IF(durée<0,0,durée))+SUMPRODUCT(1*IFERROR(IF(\"19:00\"<=IFERROR(Hgauche,0),IF(durée2<0,0,durée2),\"00:00\"),0))-durée5","v":0},null,0,{"$f":"VLOOKUP($A33,Bilan!A33:AI81,35,FALSE)","v":0},null,{"$f":"Bilan!AN33","v":{"$error":"#VALUE!"}},65,null,0,null,null,null,null,null,null,null,null,null,null,null,null,null,null,null,null,null,null,null,null,null,null,null,{"$f":"Données!$A28","v":"D"},{"$f":"Données!$B28","v":"D"}]
[{"$f":"Données!$H31","v":0},0,0,0,0,0,0,0,0,0,0,0,0,0,0,0,0,0,0,0,0,0,0,0,0,0,0,"00:00:00","00:00:00",null,{"$f":"SUMPRODUCT(ISNUMBER(MATCH(INDIRECT(\"H\"&$A$1&\"!B2:AF2\"),DimFe,0))*IFERROR(IF(\"19:00\">=IFERROR(Hgauche,0),IFERROR(hdroite-Hgauche,0),IF(durée1>0,durée1,\"00:00\")),0))+SUMPRODUCT(ISNUMBER(MATCH(INDIRECT(\"H\"&$A$1&\"!B2:AF2\"),moindimfe,0))*IFERROR(IF(\"19:00\"<=IFERROR(Hgauche,0),IF(durée4<0,0,durée4),\"00:00\"),0))","v":0},{"$f":"SUMPRODUCT(ISNUMBER(MATCH(INDIRECT(\"H\"&$A$1&\"!B2:AF2\"),DimFe,0))*IFERROR(IF(\"19:00\"<=IFERROR(Hgauche,0),IF(durée6<0,0,durée6),IF(durée<0,0,durée)),0))+SUMPRODUCT(ISNUMBER(MATCH(INDIRECT(\"H\"&$A$1&\"!B2:AF2\"),moindimfe,0))*IFERROR(IF(\"19:00\"<=IFERROR(Hgauche,0),IF(durée2<0,0,durée2),\"00:00\"),0))","v":0},{"$f":"SUMPRODUCT(1*IF(durée<0,0,durée))+SUMPRODUCT(1*IFERROR(IF(\"19:00\"<=IFERROR(Hgauche,0),IF(durée2<0,0,durée2),\"00:00\"),0))-durée5","v":0},null,0,{"$f":"VLOOKUP($A34,Bilan!A34:AI82,35,FALSE)","v":0},null,{"$f":"Bilan!AN34","v":{"$error":"#VALUE!"}},65,null,0]
[{"$f":"Données!$H32","v":"Maitresse de maison"}]
[{"$f":"Données!$H33","v":"N"},{"$f":"IF(SUMPRODUCT((INDIRECT(\"'\"&$A$1&\"'!$A$7:$A$56\")=$A36)*(INDIRECT(\"'\"&$A$1&\"'!$B$7:$AF$56\")=B$7))=0,\"\",SUMPRODUCT((INDIRECT(\"'\"&$A$1&\"'!$A$7:$A$56\")=$A36)*(INDIRECT(\"'\"&$A$1&\"'!$B$7:$AF$56\")=B$7)))","v":""},"","","","","","","","","","","","","","","","","","","","","","","","","",{"$f":"VLOOKUP($A36,INDIRECT(\"'\"&$A$1&\"'!$A$7:$AR$56\"),35,0)","v":"00:00:00"},{"$f":"VLOOKUP($A36,INDIRECT(\"'\"&$A$1&\"'!$A$7:$AR$56\"),36,0)","v":"00:00:00"},null,{"$f":"SUMPRODUCT(ISNUMBER(MATCH(INDIRECT(\"H\"&$A$1&\"!B2:AF2\"),DimFe,0))*IFERROR(IF(\"19:00\">=IFERROR(Hgauche,0),IFERROR(hdroite-Hgauche,0),IF(durée1>0,durée1,\"00:00\")),0))+SUMPRODUCT(ISNUMBER(MATCH(INDIRECT(\"H\"&$A$1&\"!B2:AF2\"),moindimfe,0))*IFERROR(IF(\"19:00\"<=IFERROR(Hgauche,0),IF(durée4<0,0,durée4),\"00:00\"),0))","v":0},{"$f":"SUMPRODUCT(ISNUMBER(MATCH(INDIRECT(\"H\"&$A$1&\"!B2:AF2\"),DimFe,0))*IFERROR(IF(\"19:00\"<=IFERROR(Hgauche,0),IF(durée6<0,0,durée6),IF(durée<0,0,durée)),0))+SUMPRODUCT(ISNUMBER(MATCH(INDIRECT(\"H\"&$A$1&\"!B2:AF2\"),moindimfe,0))*IFERROR(IF(\"19:00\"<=IFERROR(Hgauche,0),IF(durée2<0,0,durée2),\"00:00\"),0))","v":0},{"$f":"SUM(SUMPRODUCT(1*IFERROR(IF(\"19:00\"<=IFERROR(Hgauche,0),IF(durée2<0,0,durée2),\"00:00\"),0)),SUMPRODUCT(1*IFERROR(IF(\"19:00\"<=IFERROR(Hgauche,0),IF(durée6<0,0,durée6),\"00:00\"),0)),SUMPRODUCT(1*IFERROR(IF(\"21:00\"<=IFERROR(Hdroitesimple,0),IF(durée<0,0,durée),\"00:00\"),0)))-durée5","v":0},null,{"$f":"bilanh","v":0},{"$f":"VLOOKUP($A36,Bilan!$A$9:$AQ84,37,FALSE)","v":63},null,{"$f":"Bilan!AN36","v":65},65,null,{"$f":"Jourtravaillé","v":0}]
[{"$f":"Données!$H34","v":0},{"$f":"SUMPRODUCT((INDIRECT(\"'\"&$A$1&\"'!$A$7:$A$56\")=$A37)*(INDIRECT(\"'\"&$A$1&\"'!$B$7:$AF$56\")=B$7))","v":0},0,0,0,0,0,0,0,0,0,0,0,0,0,0,0,{"$f":"SUMPRODUCT((INDIRECT(\"'\"&$A$1&\"'!$A$7:$A$56\")=$A37)*(INDIRECT(\"'\"&$A$1&\"'!$B$7:$AF$56\")=R$7))","v":0},0,0,0,0,0,0,0,0,0,{"$f":"VLOOKUP($A37,INDIRECT(\"'H\"&$A$1&\"'!$A$7:$AR$56\"),35,0)","v":"00:00:00"},{"$f":"VLOOKUP($A37,INDIRECT(\"'H\"&$A$1&\"'!$A$7:$AR$56\"),38,0)","v":"00:00:00"},null,{"$f":"SUMPRODUCT(ISNUMBER(MATCH(INDIRECT(\"H\"&$A$1&\"!B2:AF2\"),DimFe,0))*IFERROR(IF(\"19:00\">=IFERROR(Hgauche,0),IFERROR(hdroite-Hgauche,0),IF(durée1>0,durée1,\"00:00\")),0))+SUMPRODUCT(ISNUMBER(MATCH(INDIRECT(\"H\"&$A$1&\"!B2:AF2\"),moindimfe,0))*IFERROR(IF(\"19:00\"<=IFERROR(Hgauche,0),IF(durée4<0,0,durée4),\"00:00\"),0))","v":0},{"$f":"SUMPRODUCT(ISNUMBER(MATCH(INDIRECT(\"H\"&$A$1&\"!B2:AF2\"),DimFe,0))*IFERROR(IF(\"19:00\"<=IFERROR(Hgauche,0),IF(durée6<0,0,durée6),IF(durée<0,0,durée)),0))+SUMPRODUCT(ISNUMBER(MATCH(INDIRECT(\"H\"&$A$1&\"!B2:AF2\"),moindimfe,0))*IFERROR(IF(\"19:00\"<=IFERROR(Hgauche,0),IF(durée2<0,0,durée2),\"00:00\"),0))","v":0},{"$f":"SUMPRODUCT(1*IF(durée<0,0,durée))+SUMPRODUCT(1*IFERROR(IF(\"19:00\"<=IFERROR(Hgauche,0),IF(durée2<0,0,durée2),\"00:00\"),0))-durée5","v":0},null,{"$f":"(AB37/24)+SUMPRODUCT(($B$6:$AA$6)*(B37:AA37))","v":0},{"$f":"VLOOKUP($A37,Bilan!A37:AI85,35,FALSE)","v":0},null,{"$f":"Bilan!AN37","v":65},65,null,{"$f":"SUM(B37:R37)","v":0}]
[{"$f":"Données!$H35","v":0},0,0,0,0,0,0,0,0,0,0,0,0,0,0,0,0,0,0,0,0,0,0,0,0,0,0,"00:00:00","00:00:00",null,{"$f":"SUMPRODUCT(ISNUMBER(MATCH(INDIRECT(\"H\"&$A$1&\"!B2:AF2\"),DimFe,0))*IFERROR(IF(\"19:00\">=IFERROR(Hgauche,0),IFERROR(hdroite-Hgauche,0),IF(durée1>0,durée1,\"00:00\")),0))+SUMPRODUCT(ISNUMBER(MATCH(INDIRECT(\"H\"&$A$1&\"!B2:AF2\"),moindimfe,0))*IFERROR(IF(\"19:00\"<=IFERROR(Hgauche,0),IF(durée4<0,0,durée4),\"00:00\"),0))","v":0},{"$f":"SUMPRODUCT(ISNUMBER(MATCH(INDIRECT(\"H\"&$A$1&\"!B2:AF2\"),DimFe,0))*IFERROR(IF(\"19:00\"<=IFERROR(Hgauche,0),IF(durée6<0,0,durée6),IF(durée<0,0,durée)),0))+SUMPRODUCT(ISNUMBER(MATCH(INDIRECT(\"H\"&$A$1&\"!B2:AF2\"),moindimfe,0))*IFERROR(IF(\"19:00\"<=IFERROR(Hgauche,0),IF(durée2<0,0,durée2),\"00:00\"),0))","v":0},{"$f":"SUMPRODUCT(1*IF(durée<0,0,durée))+SUMPRODUCT(1*IFERROR(IF(\"19:00\"<=IFERROR(Hgauche,0),IF(durée2<0,0,durée2),\"00:00\"),0))-durée5","v":0},null,0,{"$f":"VLOOKUP($A38,Bilan!A38:AI86,35,FALSE)","v":0},null,{"$f":"Bilan!AN38","v":{"$error":"#VALUE!"}},65,null,0]
[{"$f":"Données!$H36","v":0},0,0,0,0,0,0,0,0,0,0,0,0,0,0,0,0,0,0,0,0,0,0,0,0,0,0,"00:00:00","00:00:00",null,{"$f":"SUMPRODUCT(ISNUMBER(MATCH(INDIRECT(\"H\"&$A$1&\"!B2:AF2\"),DimFe,0))*IFERROR(IF(\"19:00\">=IFERROR(Hgauche,0),IFERROR(hdroite-Hgauche,0),IF(durée1>0,durée1,\"00:00\")),0))+SUMPRODUCT(ISNUMBER(MATCH(INDIRECT(\"H\"&$A$1&\"!B2:AF2\"),moindimfe,0))*IFERROR(IF(\"19:00\"<=IFERROR(Hgauche,0),IF(durée4<0,0,durée4),\"00:00\"),0))","v":0},{"$f":"SUMPRODUCT(ISNUMBER(MATCH(INDIRECT(\"H\"&$A$1&\"!B2:AF2\"),DimFe,0))*IFERROR(IF(\"19:00\"<=IFERROR(Hgauche,0),IF(durée6<0,0,durée6),IF(durée<0,0,durée)),0))+SUMPRODUCT(ISNUMBER(MATCH(INDIRECT(\"H\"&$A$1&\"!B2:AF2\"),moindimfe,0))*IFERROR(IF(\"19:00\"<=IFERROR(Hgauche,0),IF(durée2<0,0,durée2),\"00:00\"),0))","v":0},{"$f":"SUMPRODUCT(1*IF(durée<0,0,durée))+SUMPRODUCT(1*IFERROR(IF(\"19:00\"<=IFERROR(Hgauche,0),IF(durée2<0,0,durée2),\"00:00\"),0))-durée5","v":0},null,0,{"$f":"VLOOKUP($A39,Bilan!A39:AI87,35,FALSE)","v":0},null,{"$f":"Bilan!AN39","v":{"$error":"#VALUE!"}},65,null,0]
[{"$f":"Données!$H37","v":0},0,0,0,0,0,0,0,0,0,0,0,0,0,0,0,0,0,0,0,0,0,0,0,0,0,0,"00:00:00","00:00:00",null,{"$f":"SUMPRODUCT(ISNUMBER(MATCH(INDIRECT(\"H\"&$A$1&\"!B2:AF2\"),DimFe,0))*IFERROR(IF(\"19:00\">=IFERROR(Hgauche,0),IFERROR(hdroite-Hgauche,0),IF(durée1>0,durée1,\"00:00\")),0))+SUMPRODUCT(ISNUMBER(MATCH(INDIRECT(\"H\"&$A$1&\"!B2:AF2\"),moindimfe,0))*IFERROR(IF(\"19:00\"<=IFERROR(Hgauche,0),IF(durée4<0,0,durée4),\"00:00\"),0))","v":0},{"$f":"SUMPRODUCT(ISNUMBER(MATCH(INDIRECT(\"H\"&$A$1&\"!B2:AF2\"),DimFe,0))*IFERROR(IF(\"19:00\"<=IFERROR(Hgauche,0),IF(durée6<0,0,durée6),IF(durée<0,0,durée)),0))+SUMPRODUCT(ISNUMBER(MATCH(INDIRECT(\"H\"&$A$1&\"!B2:AF2\"),moindimfe,0))*IFERROR(IF(\"19:00\"<=IFERROR(Hgauche,0),IF(durée2<0,0,durée2),\"00:00\"),0))","v":0},{"$f":"SUMPRODUCT(1*IF(durée<0,0,durée))+SUMPRODUCT(1*IFERROR(IF(\"19:00\"<=IFERROR(Hgauche,0),IF(durée2<0,0,durée2),\"00:00\"),0))-durée5","v":0},null,0,{"$f":"VLOOKUP($A40,Bilan!A40:AI88,35,FALSE)","v":0},null,{"$f":"Bilan!AN40","v":{"$error":"#VALUE!"}},65,null,0]
[{"$f":"Données!$H38","v":0},0,0,0,0,0,0,0,0,0,0,0,0,0,0,0,0,0,0,0,0,0,0,0,0,0,0,"00:00:00","00:00:00",null,{"$f":"SUMPRODUCT(ISNUMBER(MATCH(INDIRECT(\"H\"&$A$1&\"!B2:AF2\"),DimFe,0))*IFERROR(IF(\"19:00\">=IFERROR(Hgauche,0),IFERROR(hdroite-Hgauche,0),IF(durée1>0,durée1,\"00:00\")),0))+SUMPRODUCT(ISNUMBER(MATCH(INDIRECT(\"H\"&$A$1&\"!B2:AF2\"),moindimfe,0))*IFERROR(IF(\"19:00\"<=IFERROR(Hgauche,0),IF(durée4<0,0,durée4),\"00:00\"),0))","v":0},{"$f":"SUMPRODUCT(ISNUMBER(MATCH(INDIRECT(\"H\"&$A$1&\"!B2:AF2\"),DimFe,0))*IFERROR(IF(\"19:00\"<=IFERROR(Hgauche,0),IF(durée6<0,0,durée6),IF(durée<0,0,durée)),0))+SUMPRODUCT(ISNUMBER(MATCH(INDIRECT(\"H\"&$A$1&\"!B2:AF2\"),moindimfe,0))*IFERROR(IF(\"19:00\"<=IFERROR(Hgauche,0),IF(durée2<0,0,durée2),\"00:00\"),0))","v":0},{"$f":"SUMPRODUCT(1*IF(durée<0,0,durée))+SUMPRODUCT(1*IFERROR(IF(\"19:00\"<=IFERROR(Hgauche,0),IF(durée2<0,0,durée2),\"00:00\"),0))-durée5","v":0},null,0,{"$f":"VLOOKUP($A41,Bilan!A41:AI89,35,FALSE)","v":0},null,{"$f":"Bilan!AN41","v":{"$error":"#VALUE!"}},65,null,0]
[{"$f":"Données!$H39","v":0},0,0,0,0,0,0,0,0,0,0,0,0,0,0,0,0,0,0,0,0,0,0,0,0,0,0,"00:00:00","00:00:00",null,{"$f":"SUMPRODUCT(ISNUMBER(MATCH(INDIRECT(\"H\"&$A$1&\"!B2:AF2\"),DimFe,0))*IFERROR(IF(\"19:00\">=IFERROR(Hgauche,0),IFERROR(hdroite-Hgauche,0),IF(durée1>0,durée1,\"00:00\")),0))+SUMPRODUCT(ISNUMBER(MATCH(INDIRECT(\"H\"&$A$1&\"!B2:AF2\"),moindimfe,0))*IFERROR(IF(\"19:00\"<=IFERROR(Hgauche,0),IF(durée4<0,0,durée4),\"00:00\"),0))","v":0},{"$f":"SUMPRODUCT(ISNUMBER(MATCH(INDIRECT(\"H\"&$A$1&\"!B2:AF2\"),DimFe,0))*IFERROR(IF(\"19:00\"<=IFERROR(Hgauche,0),IF(durée6<0,0,durée6),IF(durée<0,0,durée)),0))+SUMPRODUCT(ISNUMBER(MATCH(INDIRECT(\"H\"&$A$1&\"!B2:AF2\"),moindimfe,0))*IFERROR(IF(\"19:00\"<=IFERROR(Hgauche,0),IF(durée2<0,0,durée2),\"00:00\"),0))","v":0},{"$f":"SUMPRODUCT(1*IF(durée<0,0,durée))+SUMPRODUCT(1*IFERROR(IF(\"19:00\"<=IFERROR(Hgauche,0),IF(durée2<0,0,durée2),\"00:00\"),0))-durée5","v":0},null,0,{"$f":"VLOOKUP($A42,Bilan!A42:AI90,35,FALSE)","v":0},null,{"$f":"Bilan!AN42","v":{"$error":"#VALUE!"}},65,null,0]
[{"$f":"Données!$H40","v":0},0,0,0,0,0,0,0,0,0,0,0,0,0,0,0,0,0,0,0,0,0,0,0,0,0,0,"00:00:00","00:00:00",null,{"$f":"SUMPRODUCT(ISNUMBER(MATCH(INDIRECT(\"H\"&$A$1&\"!B2:AF2\"),DimFe,0))*IFERROR(IF(\"19:00\">=IFERROR(Hgauche,0),IFERROR(hdroite-Hgauche,0),IF(durée1>0,durée1,\"00:00\")),0))+SUMPRODUCT(ISNUMBER(MATCH(INDIRECT(\"H\"&$A$1&\"!B2:AF2\"),moindimfe,0))*IFERROR(IF(\"19:00\"<=IFERROR(Hgauche,0),IF(durée4<0,0,durée4),\"00:00\"),0))","v":0},{"$f":"SUMPRODUCT(ISNUMBER(MATCH(INDIRECT(\"H\"&$A$1&\"!B2:AF2\"),DimFe,0))*IFERROR(IF(\"19:00\"<=IFERROR(Hgauche,0),IF(durée6<0,0,durée6),IF(durée<0,0,durée)),0))+SUMPRODUCT(ISNUMBER(MATCH(INDIRECT(\"H\"&$A$1&\"!B2:AF2\"),moindimfe,0))*IFERROR(IF(\"19:00\"<=IFERROR(Hgauche,0),IF(durée2<0,0,durée2),\"00:00\"),0))","v":0},{"$f":"SUMPRODUCT(1*IF(durée<0,0,durée))+SUMPRODUCT(1*IFERROR(IF(\"19:00\"<=IFERROR(Hgauche,0),IF(durée2<0,0,durée2),\"00:00\"),0))-durée5","v":0},null,0,{"$f":"VLOOKUP($A43,Bilan!A43:AI91,35,FALSE)","v":0},null,{"$f":"Bilan!AN43","v":{"$error":"#VALUE!"}},65,null,0]
[{"$f":"Données!$H41","v":0},0,0,0,0,0,0,0,0,0,0,0,0,0,0,0,0,0,0,0,0,0,0,0,0,0,0,"00:00:00","00:00:00",null,{"$f":"SUMPRODUCT(ISNUMBER(MATCH(INDIRECT(\"H\"&$A$1&\"!B2:AF2\"),DimFe,0))*IFERROR(IF(\"19:00\">=IFERROR(Hgauche,0),IFERROR(hdroite-Hgauche,0),IF(durée1>0,durée1,\"00:00\")),0))+SUMPRODUCT(ISNUMBER(MATCH(INDIRECT(\"H\"&$A$1&\"!B2:AF2\"),moindimfe,0))*IFERROR(IF(\"19:00\"<=IFERROR(Hgauche,0),IF(durée4<0,0,durée4),\"00:00\"),0))","v":0},{"$f":"SUMPRODUCT(ISNUMBER(MATCH(INDIRECT(\"H\"&$A$1&\"!B2:AF2\"),DimFe,0))*IFERROR(IF(\"19:00\"<=IFERROR(Hgauche,0),IF(durée6<0,0,durée6),IF(durée<0,0,durée)),0))+SUMPRODUCT(ISNUMBER(MATCH(INDIRECT(\"H\"&$A$1&\"!B2:AF2\"),moindimfe,0))*IFERROR(IF(\"19:00\"<=IFERROR(Hgauche,0),IF(durée2<0,0,durée2),\"00:00\"),0))","v":0},{"$f":"SUMPRODUCT(1*IF(durée<0,0,durée))+SUMPRODUCT(1*IFERROR(IF(\"19:00\"<=IFERROR(Hgauche,0),IF(durée2<0,0,durée2),\"00:00\"),0))-durée5","v":0},null,0,{"$f":"VLOOKUP($A44,Bilan!A44:AI92,35,FALSE)","v":0},null,{"$f":"Bilan!AN44","v":{"$error":"#VALUE!"}},65,null,0]
[{"$f":"Données!$H42","v":"Psychologue"}]
[{"$f":"Données!$H43","v":"O"},{"$f":"IF(SUMPRODUCT((INDIRECT(\"'\"&$A$1&\"'!$A$7:$A$56\")=$A46)*(INDIRECT(\"'\"&$A$1&\"'!$B$7:$AF$56\")=B$7))=0,\"\",SUMPRODUCT((INDIRECT(\"'\"&$A$1&\"'!$A$7:$A$56\")=$A46)*(INDIRECT(\"'\"&$A$1&\"'!$B$7:$AF$56\")=B$7)))","v":""},"","","","","","","","","","","","","","","","","","","","","","","","","",{"$f":"VLOOKUP($A46,INDIRECT(\"'\"&$A$1&\"'!$A$7:$AR$56\"),35,0)","v":"00:00:00"},{"$f":"VLOOKUP($A46,INDIRECT(\"'\"&$A$1&\"'!$A$7:$AR$56\"),36,0)","v":"00:00:00"},null,{"$f":"SUMPRODUCT(ISNUMBER(MATCH(INDIRECT(\"H\"&$A$1&\"!B2:AF2\"),DimFe,0))*IFERROR(IF(\"19:00\">=IFERROR(Hgauche,0),IFERROR(hdroite-Hgauche,0),IF(durée1>0,durée1,\"00:00\")),0))+SUMPRODUCT(ISNUMBER(MATCH(INDIRECT(\"H\"&$A$1&\"!B2:AF2\"),moindimfe,0))*IFERROR(IF(\"19:00\"<=IFERROR(Hgauche,0),IF(durée4<0,0,durée4),\"00:00\"),0))","v":0},{"$f":"SUMPRODUCT(ISNUMBER(MATCH(INDIRECT(\"H\"&$A$1&\"!B2:AF2\"),DimFe,0))*IFERROR(IF(\"19:00\"<=IFERROR(Hgauche,0),IF(durée6<0,0,durée6),IF(durée<0,0,durée)),0))+SUMPRODUCT(ISNUMBER(MATCH(INDIRECT(\"H\"&$A$1&\"!B2:AF2\"),moindimfe,0))*IFERROR(IF(\"19:00\"<=IFERROR(Hgauche,0),IF(durée2<0,0,durée2),\"00:00\"),0))","v":0},{"$f":"SUM(SUMPRODUCT(1*IFERROR(IF(\"19:00\"<=IFERROR(Hgauche,0),IF(durée2<0,0,durée2),\"00:00\"),0)),SUMPRODUCT(1*IFERROR(IF(\"19:00\"<=IFERROR(Hgauche,0),IF(durée6<0,0,durée6),\"00:00\"),0)),SUMPRODUCT(1*IFERROR(IF(\"21:00\"<=IFERROR(Hdroitesimple,0),IF(durée<0,0,durée),\"00:00\"),0)))-durée5","v":0},null,{"$f":"bilanh","v":0},{"$f":"VLOOKUP($A46,Bilan!$A$9:$AQ94,37,FALSE)","v":63},null,{"$f":"Bilan!AN46","v":65},65,null,{"$f":"Jourtravaillé","v":0}]
[{"$f":"Données!$H44","v":0},{"$f":"SUMPRODUCT((INDIRECT(\"'\"&$A$1&\"'!$A$7:$A$56\")=$A47)*(INDIRECT(\"'\"&$A$1&\"'!$B$7:$AF$56\")=B$7))","v":0},0,0,0,0,0,0,0,0,0,0,0,0,0,0,0,{"$f":"SUMPRODUCT((INDIRECT(\"'\"&$A$1&\"'!$A$7:$A$56\")=$A47)*(INDIRECT(\"'\"&$A$1&\"'!$B$7:$AF$56\")=R$7))","v":0},0,0,0,0,0,0,0,0,0,{"$f":"VLOOKUP($A47,INDIRECT(\"'H\"&$A$1&\"'!$A$7:$AR$56\"),35,0)","v":"00:00:00"},{"$f":"VLOOKUP($A47,INDIRECT(\"'H\"&$A$1&\"'!$A$7:$AR$56\"),38,0)","v":"00:00:00"},null,{"$f":"SUMPRODUCT(ISNUMBER(MATCH(INDIRECT(\"H\"&$A$1&\"!B2:AF2\"),DimFe,0))*IFERROR(IF(\"19:00\">=IFERROR(Hgauche,0),IFERROR(hdroite-Hgauche,0),IF(durée1>0,durée1,\"00:00\")),0))+SUMPRODUCT(ISNUMBER(MATCH(INDIRECT(\"H\"&$A$1&\"!B2:AF2\"),moindimfe,0))*IFERROR(IF(\"19:00\"<=IFERROR(Hgauche,0),IF(durée4<0,0,durée4),\"00:00\"),0))","v":0},{"$f":"SUMPRODUCT(ISNUMBER(MATCH(INDIRECT(\"H\"&$A$1&\"!B2:AF2\"),DimFe,0))*IFERROR(IF(\"19:00\"<=IFERROR(Hgauche,0),IF(durée6<0,0,durée6),IF(durée<0,0,durée)),0))+SUMPRODUCT(ISNUMBER(MATCH(INDIRECT(\"H\"&$A$1&\"!B2:AF2\"),moindimfe,0))*IFERROR(IF(\"19:00\"<=IFERROR(Hgauche,0),IF(durée2<0,0,durée2),\"00:00\"),0))","v":0},{"$f":"SUMPRODUCT(1*IF(durée<0,0,durée))+SUMPRODUCT(1*IFERROR(IF(\"19:00\"<=IFERROR(Hgauche,0),IF(durée2<0,0,durée2),\"00:00\"),0))-durée5","v":0},null,{"$f":"(AB47/24)+SUMPRODUCT(($B$6:$AA$6)*(B47:AA47))","v":0},{"$f":"VLOOKUP($A47,Bilan!A47:AI95,35,FALSE)","v":0},null,{"$f":"Bilan!AN47","v":65},65,null,{"$f":"SUM(B47:R47)","v":0}]
[{"$f":"Données!$H45","v":0},0,0,0,0,0,0,0,0,0,0,0,0,0,0,0,0,0,0,0,0,0,0,0,0,0,0,{"$f":"VLOOKUP($A48,INDIRECT(\"'H\"&$A$1&\"'!$A$7:$AR$56\"),35,0)","v":"00:00:00"},{"$f":"VLOOKUP($A48,INDIRECT(\"'H\"&$A$1&\"'!$A$7:$AR$56\"),38,0)","v":"00:00:00"},null,{"$f":"SUMPRODUCT(ISNUMBER(MATCH(INDIRECT(\"H\"&$A$1&\"!B2:AF2\"),DimFe,0))*IFERROR(IF(\"19:00\">=IFERROR(Hgauche,0),IFERROR(hdroite-Hgauche,0),IF(durée1>0,durée1,\"00:00\")),0))+SUMPRODUCT(ISNUMBER(MATCH(INDIRECT(\"H\"&$A$1&\"!B2:AF2\"),moindimfe,0))*IFERROR(IF(\"19:00\"<=IFERROR(Hgauche,0),IF(durée4<0,0,durée4),\"00:00\"),0))","v":0},{"$f":"SUMPRODUCT(ISNUMBER(MATCH(INDIRECT(\"H\"&$A$1&\"!B2:AF2\"),DimFe,0))*IFERROR(IF(\"19:00\"<=IFERROR(Hgauche,0),IF(durée6<0,0,durée6),IF(durée<0,0,durée)),0))+SUMPRODUCT(ISNUMBER(MATCH(INDIRECT(\"H\"&$A$1&\"!B2:AF2\"),moindimfe,0))*IFERROR(IF(\"19:00\"<=IFERROR(Hgauche,0),IF(durée2<0,0,durée2),\"00:00\"),0))","v":0},{"$f":"SUMPRODUCT(1*IF(durée<0,0,durée))+SUMPRODUCT(1*IFERROR(IF(\"19:00\"<=IFERROR(Hgauche,0),IF(durée2<0,0,durée2),\"00:00\"),0))-durée5","v":0},null,{"$f":"(AB48/24)+SUMPRODUCT(($B$6:$AA$6)*(B48:AA48))","v":0},{"$f":"VLOOKUP($A48,Bilan!A48:AI96,35,FALSE)","v":0},null,{"$f":"Bilan!AN48","v":{"$error":"#VALUE!"}},65,null,{"$f":"SUM(B48:R48)","v":0}]
[{"$f":"Données!$H46","v":"Coordinatrice"}]
[{"$f":"Données!$H47","v":"P"},{"$f":"IF(SUMPRODUCT((INDIRECT(\"'\"&$A$1&\"'!$A$7:$A$56\")=$A50)*(INDIRECT(\"'\"&$A$1&\"'!$B$7:$AF$56\")=B$7))=0,\"\",SUMPRODUCT((INDIRECT(\"'\"&$A$1&\"'!$A$7:$A$56\")=$A50)*(INDIRECT(\"'\"&$A$1&\"'!$B$7:$AF$56\")=B$7)))","v":""},"","","","","","","","","","","","","","","","","","","","","","","","","",{"$f":"VLOOKUP($A50,INDIRECT(\"'\"&$A$1&\"'!$A$7:$AR$56\"),35,0)","v":"00:00:00"},{"$f":"VLOOKUP($A50,INDIRECT(\"'\"&$A$1&\"'!$A$7:$AR$56\"),36,0)","v":"00:00:00"},null,{"$f":"SUMPRODUCT(ISNUMBER(MATCH(INDIRECT(\"H\"&$A$1&\"!B2:AF2\"),DimFe,0))*IFERROR(IF(\"19:00\">=IFERROR(Hgauche,0),IFERROR(hdroite-Hgauche,0),IF(durée1>0,durée1,\"00:00\")),0))+SUMPRODUCT(ISNUMBER(MATCH(INDIRECT(\"H\"&$A$1&\"!B2:AF2\"),moindimfe,0))*IFERROR(IF(\"19:00\"<=IFERROR(Hgauche,0),IF(durée4<0,0,durée4),\"00:00\"),0))","v":0},{"$f":"SUMPRODUCT(ISNUMBER(MATCH(INDIRECT(\"H\"&$A$1&\"!B2:AF2\"),DimFe,0))*IFERROR(IF(\"19:00\"<=IFERROR(Hgauche,0),IF(durée6<0,0,durée6),IF(durée<0,0,durée)),0))+SUMPRODUCT(ISNUMBER(MATCH(INDIRECT(\"H\"&$A$1&\"!B2:AF2\"),moindimfe,0))*IFERROR(IF(\"19:00\"<=IFERROR(Hgauche,0),IF(durée2<0,0,durée2),\"00:00\"),0))","v":0},{"$f":"SUM(SUMPRODUCT(1*IFERROR(IF(\"19:00\"<=IFERROR(Hgauche,0),IF(durée2<0,0,durée2),\"00:00\"),0)),SUMPRODUCT(1*IFERROR(IF(\"19:00\"<=IFERROR(Hgauche,0),IF(durée6<0,0,durée6),\"00:00\"),0)),SUMPRODUCT(1*IFERROR(IF(\"21:00\"<=IFERROR(Hdroitesimple,0),IF(durée<0,0,durée),\"00:00\"),0)))-durée5","v":0},null,{"$f":"bilanh","v":0},{"$f":"VLOOKUP($A50,Bilan!$A$9:$AQ98,37,FALSE)","v":63},null,{"$f":"Bilan!AN50","v":65},65,null,{"$f":"Jourtravaillé","v":0}]
[{"$f":"Données!$H48","v":0},{"$f":"SUMPRODUCT((INDIRECT(\"'\"&$A$1&\"'!$A$7:$A$56\")=$A51)*(INDIRECT(\"'\"&$A$1&\"'!$B$7:$AF$56\")=B$7))","v":0},0,0,0,0,0,0,0,0,0,0,0,0,0,0,0,{"$f":"SUMPRODUCT((INDIRECT(\"'\"&$A$1&\"'!$A$7:$A$56\")=$A51)*(INDIRECT(\"'\"&$A$1&\"'!$B$7:$AF$56\")=R$7))","v":0},0,0,0,0,0,0,0,0,0,{"$f":"VLOOKUP($A51,INDIRECT(\"'H\"&$A$1&\"'!$A$7:$AR$56\"),35,0)","v":"00:00:00"},{"$f":"VLOOKUP($A51,INDIRECT(\"'H\"&$A$1&\"'!$A$7:$AR$56\"),38,0)","v":"00:00:00"},null,{"$f":"SUMPRODUCT(ISNUMBER(MATCH(INDIRECT(\"H\"&$A$1&\"!B2:AF2\"),DimFe,0))*IFERROR(IF(\"19:00\">=IFERROR(Hgauche,0),IFERROR(hdroite-Hgauche,0),IF(durée1>0,durée1,\"00:00\")),0))+SUMPRODUCT(ISNUMBER(MATCH(INDIRECT(\"H\"&$A$1&\"!B2:AF2\"),moindimfe,0))*IFERROR(IF(\"19:00\"<=IFERROR(Hgauche,0),IF(durée4<0,0,durée4),\"00:00\"),0))","v":0},{"$f":"SUMPRODUCT(ISNUMBER(MATCH(INDIRECT(\"H\"&$A$1&\"!B2:AF2\"),DimFe,0))*IFERROR(IF(\"19:00\"<=IFERROR(Hgauche,0),IF(durée6<0,0,durée6),IF(durée<0,0,durée)),0))+SUMPRODUCT(ISNUMBER(MATCH(INDIRECT(\"H\"&$A$1&\"!B2:AF2\"),moindimfe,0))*IFERROR(IF(\"19:00\"<=IFERROR(Hgauche,0),IF(durée2<0,0,durée2),\"00:00\"),0))","v":0},{"$f":"SUMPRODUCT(1*IF(durée<0,0,durée))+SUMPRODUCT(1*IFERROR(IF(\"19:00\"<=IFERROR(Hgauche,0),IF(durée2<0,0,durée2),\"00:00\"),0))-durée5","v":0},null,{"$f":"(AB51/24)+SUMPRODUCT(($B$6:$AA$6)*(B51:AA51))","v":0},{"$f":"VLOOKUP($A51,Bilan!A51:AI99,35,FALSE)","v":0},null,{"$f":"Bilan!AN51","v":66},65,null,{"$f":"SUM(B51:R51)","v":0}]
[{"$f":"Données!$H49","v":0},0,0,0,0,0,0,0,0,0,0,0,0,0,0,0,0,0,0,0,0,0,0,0,0,0,0,{"$f":"VLOOKUP($A52,INDIRECT(\"'H\"&$A$1&\"'!$A$7:$AR$56\"),35,0)","v":"00:00:00"},{"$f":"VLOOKUP($A52,INDIRECT(\"'H\"&$A$1&\"'!$A$7:$AR$56\"),38,0)","v":"00:00:00"},null,{"$f":"SUMPRODUCT(ISNUMBER(MATCH(INDIRECT(\"H\"&$A$1&\"!B2:AF2\"),DimFe,0))*IFERROR(IF(\"19:00\">=IFERROR(Hgauche,0),IFERROR(hdroite-Hgauche,0),IF(durée1>0,durée1,\"00:00\")),0))+SUMPRODUCT(ISNUMBER(MATCH(INDIRECT(\"H\"&$A$1&\"!B2:AF2\"),moindimfe,0))*IFERROR(IF(\"19:00\"<=IFERROR(Hgauche,0),IF(durée4<0,0,durée4),\"00:00\"),0))","v":0},{"$f":"SUMPRODUCT(ISNUMBER(MATCH(INDIRECT(\"H\"&$A$1&\"!B2:AF2\"),DimFe,0))*IFERROR(IF(\"19:00\"<=IFERROR(Hgauche,0),IF(durée6<0,0,durée6),IF(durée<0,0,durée)),0))+SUMPRODUCT(ISNUMBER(MATCH(INDIRECT(\"H\"&$A$1&\"!B2:AF2\"),moindimfe,0))*IFERROR(IF(\"19:00\"<=IFERROR(Hgauche,0),IF(durée2<0,0,durée2),\"00:00\"),0))","v":0},{"$f":"SUMPRODUCT(1*IF(durée<0,0,durée))+SUMPRODUCT(1*IFERROR(IF(\"19:00\"<=IFERROR(Hgauche,0),IF(durée2<0,0,durée2),\"00:00\"),0))-durée5","v":0},null,{"$f":"(AB52/24)+SUMPRODUCT(($B$6:$AA$6)*(B52:AA52))","v":0},{"$f":"VLOOKUP($A52,Bilan!A52:AI100,35,FALSE)","v":0},null,{"$f":"Bilan!AN52","v":{"$error":"#VALUE!"}},66,null,{"$f":"SUM(B52:R52)","v":0}]
[{"$f":"Données!$H50","v":0},0,0,0,0,0,0,0,0,0,0,0,0,0,0,0,0,0,0,0,0,0,0,0,0,0,0,{"$f":"VLOOKUP($A53,INDIRECT(\"'H\"&$A$1&\"'!$A$7:$AR$56\"),35,0)","v":"00:00:00"},{"$f":"VLOOKUP($A53,INDIRECT(\"'H\"&$A$1&\"'!$A$7:$AR$56\"),38,0)","v":"00:00:00"},null,{"$f":"SUMPRODUCT(ISNUMBER(MATCH(INDIRECT(\"H\"&$A$1&\"!B2:AF2\"),DimFe,0))*IFERROR(IF(\"19:00\">=IFERROR(Hgauche,0),IFERROR(hdroite-Hgauche,0),IF(durée1>0,durée1,\"00:00\")),0))+SUMPRODUCT(ISNUMBER(MATCH(INDIRECT(\"H\"&$A$1&\"!B2:AF2\"),moindimfe,0))*IFERROR(IF(\"19:00\"<=IFERROR(Hgauche,0),IF(durée4<0,0,durée4),\"00:00\"),0))","v":0},{"$f":"SUMPRODUCT(ISNUMBER(MATCH(INDIRECT(\"H\"&$A$1&\"!B2:AF2\"),DimFe,0))*IFERROR(IF(\"19:00\"<=IFERROR(Hgauche,0),IF(durée6<0,0,durée6),IF(durée<0,0,durée)),0))+SUMPRODUCT(ISNUMBER(MATCH(INDIRECT(\"H\"&$A$1&\"!B2:AF2\"),moindimfe,0))*IFERROR(IF(\"19:00\"<=IFERROR(Hgauche,0),IF(durée2<0,0,durée2),\"00:00\"),0))","v":0},{"$f":"SUMPRODUCT(1*IF(durée<0,0,durée))+SUMPRODUCT(1*IFERROR(IF(\"19:00\"<=IFERROR(Hgauche,0),IF(durée2<0,0,durée2),\"00:00\"),0))-durée5","v":0},null,{"$f":"(AB53/24)+SUMPRODUCT(($B$6:$AA$6)*(B53:AA53))","v":0},{"$f":"VLOOKUP($A53,Bilan!A53:AI101,35,FALSE)","v":0},null,{"$f":"Bilan!AN53","v":{"$error":"#VALUE!"}},67,null,{"$f":"SUM(B53:R53)","v":0}]
[{"$f":"Données!$H51","v":0},0,0,0,0,0,0,0,0,0,0,0,0,0,0,0,0,0,0,0,0,0,0,0,0,0,0,{"$f":"VLOOKUP($A54,INDIRECT(\"'H\"&$A$1&\"'!$A$7:$AR$56\"),35,0)","v":"00:00:00"},{"$f":"VLOOKUP($A54,INDIRECT(\"'H\"&$A$1&\"'!$A$7:$AR$56\"),38,0)","v":"00:00:00"},null,{"$f":"SUMPRODUCT(ISNUMBER(MATCH(INDIRECT(\"H\"&$A$1&\"!B2:AF2\"),DimFe,0))*IFERROR(IF(\"19:00\">=IFERROR(Hgauche,0),IFERROR(hdroite-Hgauche,0),IF(durée1>0,durée1,\"00:00\")),0))+SUMPRODUCT(ISNUMBER(MATCH(INDIRECT(\"H\"&$A$1&\"!B2:AF2\"),moindimfe,0))*IFERROR(IF(\"19:00\"<=IFERROR(Hgauche,0),IF(durée4<0,0,durée4),\"00:00\"),0))","v":0},{"$f":"SUMPRODUCT(ISNUMBER(MATCH(INDIRECT(\"H\"&$A$1&\"!B2:AF2\"),DimFe,0))*IFERROR(IF(\"19:00\"<=IFERROR(Hgauche,0),IF(durée6<0,0,durée6),IF(durée<0,0,durée)),0))+SUMPRODUCT(ISNUMBER(MATCH(INDIRECT(\"H\"&$A$1&\"!B2:AF2\"),moindimfe,0))*IFERROR(IF(\"19:00\"<=IFERROR(Hgauche,0),IF(durée2<0,0,durée2),\"00:00\"),0))","v":0},{"$f":"SUMPRODUCT(1*IF(durée<0,0,durée))+SUMPRODUCT(1*IFERROR(IF(\"19:00\"<=IFERROR(Hgauche,0),IF(durée2<0,0,durée2),\"00:00\"),0))-durée5","v":0},null,{"$f":"(AB54/24)+SUMPRODUCT(($B$6:$AA$6)*(B54:AA54))","v":0},{"$f":"VLOOKUP($A54,Bilan!A54:AI102,35,FALSE)","v":0},null,{"$f":"Bilan!AN54","v":{"$error":"#VALUE!"}},68,null,{"$f":"SUM(B54:R54)","v":0}]
[{"$f":"Données!$H52","v":"Chef de service"}]
[{"$f":"Données!$H53","v":"Q"},{"$f":"IF(SUMPRODUCT((INDIRECT(\"'\"&$A$1&\"'!$A$7:$A$56\")=$A56)*(INDIRECT(\"'\"&$A$1&\"'!$B$7:$AF$56\")=B$7))=0,\"\",SUMPRODUCT((INDIRECT(\"'\"&$A$1&\"'!$A$7:$A$56\")=$A56)*(INDIRECT(\"'\"&$A$1&\"'!$B$7:$AF$56\")=B$7)))","v":""},"","","","","","","","","","","","","","","","","","","","","","","","","",{"$f":"VLOOKUP($A56,INDIRECT(\"'\"&$A$1&\"'!$A$7:$AR$56\"),35,0)","v":"00:00:00"},{"$f":"VLOOKUP($A56,INDIRECT(\"'\"&$A$1&\"'!$A$7:$AR$56\"),36,0)","v":"00:00:00"},null,{"$f":"SUMPRODUCT(ISNUMBER(MATCH(INDIRECT(\"H\"&$A$1&\"!B2:AF2\"),DimFe,0))*IFERROR(IF(\"19:00\">=IFERROR(Hgauche,0),IFERROR(hdroite-Hgauche,0),IF(durée1>0,durée1,\"00:00\")),0))+SUMPRODUCT(ISNUMBER(MATCH(INDIRECT(\"H\"&$A$1&\"!B2:AF2\"),moindimfe,0))*IFERROR(IF(\"19:00\"<=IFERROR(Hgauche,0),IF(durée4<0,0,durée4),\"00:00\"),0))","v":0},{"$f":"SUMPRODUCT(ISNUMBER(MATCH(INDIRECT(\"H\"&$A$1&\"!B2:AF2\"),DimFe,0))*IFERROR(IF(\"19:00\"<=IFERROR(Hgauche,0),IF(durée6<0,0,durée6),IF(durée<0,0,durée)),0))+SUMPRODUCT(ISNUMBER(MATCH(INDIRECT(\"H\"&$A$1&\"!B2:AF2\"),moindimfe,0))*IFERROR(IF(\"19:00\"<=IFERROR(Hgauche,0),IF(durée2<0,0,durée2),\"00:00\"),0))","v":0},{"$f":"SUM(SUMPRODUCT(1*IFERROR(IF(\"19:00\"<=IFERROR(Hgauche,0),IF(durée2<0,0,durée2),\"00:00\"),0)),SUMPRODUCT(1*IFERROR(IF(\"19:00\"<=IFERROR(Hgauche,0),IF(durée6<0,0,durée6),\"00:00\"),0)),SUMPRODUCT(1*IFERROR(IF(\"21:00\"<=IFERROR(Hdroitesimple,0),IF(durée<0,0,durée),\"00:00\"),0)))-durée5","v":0},null,{"$f":"bilanh","v":0},{"$f":"VLOOKUP($A56,Bilan!$A$9:$AQ104,37,FALSE)","v":63},null,{"$f":"Bilan!AN56","v":65},65,null,{"$f":"Jourtravaillé","v":0}]

{"sheet":"BDecembre","index":37,"n_rows":56,"n_cols":66,"rows_kept":56,"cut":false,"hidden":false,"merged":[[7,37,7,38],[6,27,7,27],[6,28,7,28],[6,30,7,30],[6,31,7,31],[6,32,7,32],[7,34,7,35]]}
["Decembre"]
[null,null,{"$f":"LEFT(OFFSET(INDIRECT(\"H\"&$A$1&\"!B8:AF8\"),MATCH($A9,INDIRECT(\"H\"&$A$1&\"!A9:A56\"),0),),5)","v":""}]
[null,null,{"$f":"RIGHT(OFFSET(INDIRECT(\"H\"&$A$1&\"!B8:AF8\"),MATCH($A3,INDIRECT(\"H\"&$A$1&\"!A9:A56\"),0),),5)","v":""}]
[]
[]
["Jours",{"$f":"Données!$E3","v":0.31597222222222227},{"$f":"Données!$E4","v":0.10763888888888884},{"$f":"Données!$E5","v":0.31249999999999994},{"$f":"Données!$E6","v":0.32291666666666669},{"$f":"Données!$E7","v":8.3333333333333315E-2},{"$f":"Données!$E8","v":0.47916666666666669},{"$f":"Données!$E9","v":0.3125},{"$f":"Données!$E10","v":0.48958333333333337},{"$f":"Données!$E11","v":0.47916666666666669},{"$f":"Données!$E12","v":0.51041666666666674},{"$f":"Données!$E13","v":0.51041666666666674},{"$f":"Données!$E14","v":0.44791666666666663},{"$f":"Données!$E15","v":0.49999999999999989},{"$f":"Données!$E16","v":0.49999999999999989},{"$f":"Données!$E17","v":0.5},{"$f":"Données!$E18","v":0.29166666666666669},{"$f":"Données!$E19","v":0.3125},{"$f":"Données!$E20","v":0.3125},{"$f":"Données!$E21","v":0.3125},{"$f":"Données!$E22","v":0.3125},{"$f":"Données!$E23","v":0.3125},{"$f":"Données!$E24","v":0},{"$f":"Données!$E25","v":0},{"$f":"Données!$E26","v":0},{"$f":"Données!$E27","v":0.33333333333333331},{"$f":"Données!$E28","v":0}]
[null,{"$f":"Données!$A3","v":"M"},{"$f":"Données!$A4","v":"MG"},{"$f":"Données!$A5","v":"J"},{"$f":"Données!$A6","v":"J+"},{"$f":"Données!$A7","v":"R"},{"$f":"Données!$A8","v":"RS"},{"$f":"Données!$A9","v":"S"},{"$f":"Données!$A10","v":"W"},{"$f":"Données!$A11","v":"W+"},{"$f":"Données!$A12","v":"WD"},{"$f":"Données!$A13","v":"WF"},{"$f":"Données!$A14","v":"N"},{"$f":"Données!$A15","v":"N+"},{"$f":"Données!$A16","v":"NS"},{"$f":"Données!$A17","v":"T"},{"$f":"Données!$A18","v":"F"},{"$f":"Données!$A19","v":"SYN"},{"$f":"Données!$A20","v":"AT"},{"$f":"Données!$A21","v":"AM"},{"$f":"Données!$A22","v":"EM"},{"$f":"Données!$A23","v":"CE"},{"$f":"Données!$A24","v":"CA"},{"$f":"Données!$A25","v":"CA16"},{"$f":"Données!$A26","v":"REC"},{"$f":"Données!$A27","v":"PL"},{"$f":"Données!$A28","v":"D"},"Heures\nSupplémentaires \navant 21 h","Heures\nSupplémentaires \naprès 21 h",null,"Heures dimanche","Heures de nuit dimanches","Heures apres 21 h"]
["Equipe de jour",{"$f":"IF(ISBLANK(Données!$C3),TEXT(Données!$B3,\"hh:mm\"),TEXT(Données!$B3,\"hh:mm\")&\" : \"&TEXT(Données!$C3,\"hh:mm\"))","v":"07:00 : 14:35"},{"$f":"IF(ISBLANK(Données!$C4),TEXT(Données!$B4,\"hh:mm\"),TEXT(Données!$B4,\"hh:mm\")&\" : \"&TEXT(Données!$C4,\"hh:mm\"))","v":"23:00 : 01:35"},{"$f":"IF(ISBLANK(Données!$C5),TEXT(Données!$B5,\"hh:mm\"),TEXT(Données!$B5,\"hh:mm\")&\" : \"&TEXT(Données!$C5,\"hh:mm\"))","v":"10:00 : 17:30"},{"$f":"IF(ISBLANK(Données!$C6),TEXT(Données!$B6,\"hh:mm\"),TEXT(Données!$B6,\"hh:mm\")&\" : \"&TEXT(Données!$C6,\"hh:mm\"))","v":"11:30 : 19:15"},{"$f":"IF(ISBLANK(Données!$C7),TEXT(Données!$B7,\"hh:mm\"),TEXT(Données!$B7,\"hh:mm\")&\" : \"&TEXT(Données!$C7,\"hh:mm\"))","v":"10:00 : 12:00"},{"$f":"IF(ISBLANK(Données!$C8),TEXT(Données!$B8,\"hh:mm\"),TEXT(Données!$B8,\"hh:mm\")&\" : \"&TEXT(Données!$C8,\"hh:mm\"))","v":"10:00 : 21:30"},{"$f":"IF(ISBLANK(Données!$C9),TEXT(Données!$B9,\"hh:mm\"),TEXT(Données!$B9,\"hh:mm\")&\" : \"&TEXT(Données!$C9,\"hh:mm\"))","v":"14:00 : 21:30"},{"$f":"IF(ISBLANK(Données!$C10),TEXT(Données!$B10,\"hh:mm\"),TEXT(Données!$B10,\"hh:mm\")&\" : \"&TEXT(Données!$C10,\"hh:mm\"))","v":"07:30 : 19:15"},{"$f":"IF(ISBLANK(Données!$C11),TEXT(Données!$B11,\"hh:mm\"),TEXT(Données!$B11,\"hh:mm\")&\" : \"&TEXT(Données!$C11,\"hh:mm\"))","v":"10:00 : 21:30"},{"$f":"IF(ISBLANK(Données!$C12),TEXT(Données!$B12,\"hh:mm\"),TEXT(Données!$B12,\"hh:mm\")&\" : \"&TEXT(Données!$C12,\"hh:mm\"))","v":"07:00 : 19:15"},{"$f":"IF(ISBLANK(Données!$C13),TEXT(Données!$B13,\"hh:mm\"),TEXT(Données!$B13,\"hh:mm\")&\" : \"&TEXT(Données!$C13,\"hh:mm\"))","v":"07:00 : 19:15"},{"$f":"IF(ISBLANK(Données!$C14),TEXT(Données!$B14,\"hh:mm\"),TEXT(Données!$B14,\"hh:mm\")&\" : \"&TEXT(Données!$C14,\"hh:mm\"))","v":"20:30 : 07:15"},{"$f":"IF(ISBLANK(Données!$C15),TEXT(Données!$B15,\"hh:mm\"),TEXT(Données!$B15,\"hh:mm\")&\" : \"&TEXT(Données!$C15,\"hh:mm\"))","v":"19:15 : 07:15"},{"$f":"IF(ISBLANK(Données!$C16),TEXT(Données!$B16,\"hh:mm\"),TEXT(Données!$B16,\"hh:mm\")&\" : \"&TEXT(Données!$C16,\"hh:mm\"))","v":"19:15 : 07:15"},{"$f":"IF(ISBLANK(Données!$C17),TEXT(Données!$B17,\"hh:mm\"),TEXT(Données!$B17,\"hh:mm\")&\" : \"&TEXT(Données!$C17,\"hh:mm\"))","v":"T"},{"$f":"IF(ISBLANK(Données!$C18),TEXT(Données!$B18,\"hh:mm\"),TEXT(Données!$B18,\"hh:mm\")&\" : \"&TEXT(Données!$C18,\"hh:mm\"))","v":"F"},{"$f":"IF(ISBLANK(Données!$C19),TEXT(Données!$B19,\"hh:mm\"),TEXT(Données!$B19,\"hh:mm\")&\" : \"&TEXT(Données!$C19,\"hh:mm\"))","v":"Syn"},{"$f":"IF(ISBLANK(Données!$C20),TEXT(Données!$B20,\"hh:mm\"),TEXT(Données!$B20,\"hh:mm\")&\" : \"&TEXT(Données!$C20,\"hh:mm\"))","v":"AT"},{"$f":"IF(ISBLANK(Données!$C21),TEXT(Données!$B21,\"hh:mm\"),TEXT(Données!$B21,\"hh:mm\")&\" : \"&TEXT(Données!$C21,\"hh:mm\"))","v":"AM"},{"$f":"IF(ISBLANK(Données!$C22),TEXT(Données!$B22,\"hh:mm\"),TEXT(Données!$B22,\"hh:mm\")&\" : \"&TEXT(Données!$C22,\"hh:mm\"))","v":"EM"},{"$f":"IF(ISBLANK(Données!$C23),TEXT(Données!$B23,\"hh:mm\"),TEXT(Données!$B23,\"hh:mm\")&\" : \"&TEXT(Données!$C23,\"hh:mm\"))","v":"CE"},{"$f":"IF(ISBLANK(Données!$C24),TEXT(Données!$B24,\"hh:mm\"),TEXT(Données!$B24,\"hh:mm\")&\" : \"&TEXT(Données!$C24,\"hh:mm\"))","v":"CA"},{"$f":"IF(ISBLANK(Données!$C25),TEXT(Données!$B25,\"hh:mm\"),TEXT(Données!$B25,\"hh:mm\")&\" : \"&TEXT(Données!$C25,\"hh:mm\"))","v":"CA16"},{"$f":"IF(ISBLANK(Données!$C26),TEXT(Données!$B26,\"hh:mm\"),TEXT(Données!$B26,\"hh:mm\")&\" : \"&TEXT(Données!$C26,\"hh:mm\"))","v":"REC"},{"$f":"IF(ISBLANK(Données!$C27),TEXT(Données!$B27,\"hh:mm\"),TEXT(Données!$B27,\"hh:mm\")&\" : \"&TEXT(Données!$C27,\"hh:mm\"))","v":"PL"},{"$f":"IF(ISBLANK(Données!$C28),TEXT(Données!$B28,\"hh:mm\"),TEXT(Données!$B28,\"hh:mm\")&\" : \"&TEXT(Données!$C28,\"hh:mm\"))","v":"D"},null,null,null,null,null,null,null,"Total ",null,null,"CA",null,null,"Jour travaillé"]
[{"$f":"Données!$H6","v":"A"},{"$f":"IF(SUMPRODUCT((INDIRECT(\"'\"&$A$1&\"'!$A$7:$A$56\")=$A9)*(INDIRECT(\"'\"&$A$1&\"'!$B$7:$AF$56\")=B$7))=0,\"\",SUMPRODUCT((INDIRECT(\"'\"&$A$1&\"'!$A$7:$A$56\")=$A9)*(INDIRECT(\"'\"&$A$1&\"'!$B$7:$AF$56\")=B$7)))","v":""},{"$f":"IF(SUMPRODUCT((INDIRECT(\"'\"&$A$1&\"'!$A$7:$A$56\")=$A9)*(INDIRECT(\"'\"&$A$1&\"'!$B$7:$AF$56\")=C$7))=0,\"\",SUMPRODUCT((INDIRECT(\"'\"&$A$1&\"'!$A$7:$A$56\")=$A9)*(INDIRECT(\"'\"&$A$1&\"'!$B$7:$AF$56\")=C$7)))","v":""},"","","","","","","","","","","","","","","","","","","","","","","","",{"$f":"VLOOKUP($A9,INDIRECT(\"'\"&$A$1&\"'!$A$7:$AR$56\"),35,0)","v":"00:00:00"},{"$f":"VLOOKUP($A9,INDIRECT(\"'\"&$A$1&\"'!$A$7:$AR$56\"),36,0)","v":"00:00:00"},null,{"$f":"SUMPRODUCT(ISNUMBER(MATCH(INDIRECT(\"H\"&$A$1&\"!B2:AF2\"),DimFe,0))*IFERROR(IF(\"19:00\">=IFERROR(Hgauche,0),IFERROR(hdroite-Hgauche,0),IF(durée1>0,durée1,\"00:00\")),0))+SUMPRODUCT(ISNUMBER(MATCH(INDIRECT(\"H\"&$A$1&\"!B2:AF2\"),moindimfe,0))*IFERROR(IF(\"19:00\"<=IFERROR(Hgauche,0),IF(durée4<0,0,durée4),\"00:00\"),0))","v":0},{"$f":"SUMPRODUCT(ISNUMBER(MATCH(INDIRECT(\"H\"&$A$1&\"!B2:AF2\"),DimFe,0))*IFERROR(IF(\"19:00\"<=IFERROR(Hgauche,0),IF(durée6<0,0,durée6),IF(durée<0,0,durée)),0))+SUMPRODUCT(ISNUMBER(MATCH(INDIRECT(\"H\"&$A$1&\"!B2:AF2\"),moindimfe,0))*IFERROR(IF(\"19:00\"<=IFERROR(Hgauche,0),IF(durée2<0,0,durée2),\"00:00\"),0))","v":0},{"$f":"SUM(SUMPRODUCT(1*IFERROR(IF(\"19:00\"<=IFERROR(Hgauche,0),IF(durée2<0,0,durée2),\"00:00\"),0)),SUMPRODUCT(1*IFERROR(IF(\"19:00\"<=IFERROR(Hgauche,0),IF(durée6<0,0,durée6),\"00:00\"),0)),SUMPRODUCT(1*IFERROR(IF(\"21:00\"<=IFERROR(Hdroitesimple,0),IF(durée<0,0,durée),\"00:00\"),0)))-durée5","v":0},null,{"$f":"bilanh","v":0},{"$f":"VLOOKUP($A9,Bilan!$A$9:$AQ57,37,FALSE)","v":59.5},null,{"$f":"Bilan!AN9","v":65},65,null,{"$f":"Jourtravaillé","v":0}]
[{"$f":"Données!$H7","v":0},{"$f":"IF(SUMPRODUCT((INDIRECT(\"'\"&$A$1&\"'!$A$7:$A$56\")=$A10)*(INDIRECT(\"'\"&$A$1&\"'!$B$7:$AF$56\")=B$7))=0,\"\",SUMPRODUCT((INDIRECT(\"'\"&$A$1&\"'!$A$7:$A$56\")=$A10)*(INDIRECT(\"'\"&$A$1&\"'!$B$7:$AF$56\")=B$7)))","v":""},"","","","","","","","","","","","","","","","","","","","","","","","","",{"$f":"VLOOKUP($A10,INDIRECT(\"'\"&$A$1&\"'!$A$7:$AR$56\"),35,0)","v":"00:00:00"},{"$f":"VLOOKUP($A10,INDIRECT(\"'\"&$A$1&\"'!$A$7:$AR$56\"),36,0)","v":"00:00:00"},null,{"$f":"SUMPRODUCT(ISNUMBER(MATCH(INDIRECT(\"H\"&$A$1&\"!B2:AF2\"),DimFe,0))*IFERROR(IF(\"19:00\">=IFERROR(Hgauche,0),IFERROR(hdroite-Hgauche,0),IF(durée1>0,durée1,\"00:00\")),0))+SUMPRODUCT(ISNUMBER(MATCH(INDIRECT(\"H\"&$A$1&\"!B2:AF2\"),moindimfe,0))*IFERROR(IF(\"19:00\"<=IFERROR(Hgauche,0),IF(durée4<0,0,durée4),\"00:00\"),0))","v":0},{"$f":"SUMPRODUCT(ISNUMBER(MATCH(INDIRECT(\"H\"&$A$1&\"!B2:AF2\"),DimFe,0))*IFERROR(IF(\"19:00\"<=IFERROR(Hgauche,0),IF(durée6<0,0,durée6),IF(durée<0,0,durée)),0))+SUMPRODUCT(ISNUMBER(MATCH(INDIRECT(\"H\"&$A$1&\"!B2:AF2\"),moindimfe,0))*IFERROR(IF(\"19:00\"<=IFERROR(Hgauche,0),IF(durée2<0,0,durée2),\"00:00\"),0))","v":0},{"$f":"SUM(SUMPRODUCT(1*IFERROR(IF(\"19:00\"<=IFERROR(Hgauche,0),IF(durée2<0,0,durée2),\"00:00\"),0)),SUMPRODUCT(1*IFERROR(IF(\"19:00\"<=IFERROR(Hgauche,0),IF(durée6<0,0,durée6),\"00:00\"),0)),SUMPRODUCT(1*IFERROR(IF(\"21:00\"<=IFERROR(Hdroitesimple,0),IF(durée<0,0,durée),\"00:00\"),0)))-durée5","v":0},null,0,{"$f":"VLOOKUP($A10,Bilan!$A$9:$AQ58,37,FALSE)","v":59.5},null,{"$f":"Bilan!AN10","v":65},65,null,0]
[{"$f":"Données!$H8","v":0},"","","","","","","","","","","","","","","","","","","","","","","","","","","00:00:00","00:00:00",null,{"$f":"SUMPRODUCT(ISNUMBER(MATCH(INDIRECT(\"H\"&$A$1&\"!B2:AF2\"),DimFe,0))*IFERROR(IF(\"19:00\">=IFERROR(Hgauche,0),IFERROR(hdroite-Hgauche,0),IF(durée1>0,durée1,\"00:00\")),0))+SUMPRODUCT(ISNUMBER(MATCH(INDIRECT(\"H\"&$A$1&\"!B2:AF2\"),moindimfe,0))*IFERROR(IF(\"19:00\"<=IFERROR(Hgauche,0),IF(durée4<0,0,durée4),\"00:00\"),0))","v":0},{"$f":"SUMPRODUCT(ISNUMBER(MATCH(INDIRECT(\"H\"&$A$1&\"!B2:AF2\"),DimFe,0))*IFERROR(IF(\"19:00\"<=IFERROR(Hgauche,0),IF(durée6<0,0,durée6),IF(durée<0,0,durée)),0))+SUMPRODUCT(ISNUMBER(MATCH(INDIRECT(\"H\"&$A$1&\"!B2:AF2\"),moindimfe,0))*IFERROR(IF(\"19:00\"<=IFERROR(Hgauche,0),IF(durée2<0,0,durée2),\"00:00\"),0))","v":0},{"$f":"SUM(SUMPRODUCT(1*IFERROR(IF(\"19:00\"<=IFERROR(Hgauche,0),IF(durée2<0,0,durée2),\"00:00\"),0)),SUMPRODUCT(1*IFERROR(IF(\"19:00\"<=IFERROR(Hgauche,0),IF(durée6<0,0,durée6),\"00:00\"),0)),SUMPRODUCT(1*IFERROR(IF(\"21:00\"<=IFERROR(Hdroitesimple,0),IF(durée<0,0,durée),\"00:00\"),0)))-durée5","v":0},null,0,{"$f":"VLOOKUP($A11,Bilan!$A$9:$AQ59,37,FALSE)","v":59.5},null,{"$f":"Bilan!AN11","v":65},65,null,0]
[{"$f":"Données!$H9","v":0},"","","","","","","","","","","","","","","","","","","","","","","","","","","00:00:00","00:00:00",null,{"$f":"SUMPRODUCT(ISNUMBER(MATCH(INDIRECT(\"H\"&$A$1&\"!B2:AF2\"),DimFe,0))*IFERROR(IF(\"19:00\">=IFERROR(Hgauche,0),IFERROR(hdroite-Hgauche,0),IF(durée1>0,durée1,\"00:00\")),0))+SUMPRODUCT(ISNUMBER(MATCH(INDIRECT(\"H\"&$A$1&\"!B2:AF2\"),moindimfe,0))*IFERROR(IF(\"19:00\"<=IFERROR(Hgauche,0),IF(durée4<0,0,durée4),\"00:00\"),0))","v":0},{"$f":"SUMPRODUCT(ISNUMBER(MATCH(INDIRECT(\"H\"&$A$1&\"!B2:AF2\"),DimFe,0))*IFERROR(IF(\"19:00\"<=IFERROR(Hgauche,0),IF(durée6<0,0,durée6),IF(durée<0,0,durée)),0))+SUMPRODUCT(ISNUMBER(MATCH(INDIRECT(\"H\"&$A$1&\"!B2:AF2\"),moindimfe,0))*IFERROR(IF(\"19:00\"<=IFERROR(Hgauche,0),IF(durée2<0,0,durée2),\"00:00\"),0))","v":0},{"$f":"SUM(SUMPRODUCT(1*IFERROR(IF(\"19:00\"<=IFERROR(Hgauche,0),IF(durée2<0,0,durée2),\"00:00\"),0)),SUMPRODUCT(1*IFERROR(IF(\"19:00\"<=IFERROR(Hgauche,0),IF(durée6<0,0,durée6),\"00:00\"),0)),SUMPRODUCT(1*IFERROR(IF(\"21:00\"<=IFERROR(Hdroitesimple,0),IF(durée<0,0,durée),\"00:00\"),0)))-durée5","v":0},null,0,{"$f":"VLOOKUP($A12,Bilan!$A$9:$AQ60,37,FALSE)","v":59.5},null,{"$f":"Bilan!AN12","v":65},65,null,0]
[{"$f":"Données!$H10","v":0},"","","","","","","","","","","","","","","","","","","","","","","","","","","00:00:00","00:00:00",null,{"$f":"SUMPRODUCT(ISNUMBER(MATCH(INDIRECT(\"H\"&$A$1&\"!B2:AF2\"),DimFe,0))*IFERROR(IF(\"19:00\">=IFERROR(Hgauche,0),IFERROR(hdroite-Hgauche,0),IF(durée1>0,durée1,\"00:00\")),0))+SUMPRODUCT(ISNUMBER(MATCH(INDIRECT(\"H\"&$A$1&\"!B2:AF2\"),moindimfe,0))*IFERROR(IF(\"19:00\"<=IFERROR(Hgauche,0),IF(durée4<0,0,durée4),\"00:00\"),0))","v":0},{"$f":"SUMPRODUCT(ISNUMBER(MATCH(INDIRECT(\"H\"&$A$1&\"!B2:AF2\"),DimFe,0))*IFERROR(IF(\"19:00\"<=IFERROR(Hgauche,0),IF(durée6<0,0,durée6),IF(durée<0,0,durée)),0))+SUMPRODUCT(ISNUMBER(MATCH(INDIRECT(\"H\"&$A$1&\"!B2:AF2\"),moindimfe,0))*IFERROR(IF(\"19:00\"<=IFERROR(Hgauche,0),IF(durée2<0,0,durée2),\"00:00\"),0))","v":0},{"$f":"SUM(SUMPRODUCT(1*IFERROR(IF(\"19:00\"<=IFERROR(Hgauche,0),IF(durée2<0,0,durée2),\"00:00\"),0)),SUMPRODUCT(1*IFERROR(IF(\"19:00\"<=IFERROR(Hgauche,0),IF(durée6<0,0,durée6),\"00:00\"),0)),SUMPRODUCT(1*IFERROR(IF(\"21:00\"<=IFERROR(Hdroitesimple,0),IF(durée<0,0,durée),\"00:00\"),0)))-durée5","v":0},null,0,{"$f":"VLOOKUP($A13,Bilan!$A$9:$AQ61,37,FALSE)","v":59.5},null,{"$f":"Bilan!AN13","v":65},65,null,0]
[{"$f":"Données!$H11","v":0},"","","","","","","","","","","","","","","","","","","","","","","","","","","00:00:00","00:00:00",null,{"$f":"SUMPRODUCT(ISNUMBER(MATCH(INDIRECT(\"H\"&$A$1&\"!B2:AF2\"),DimFe,0))*IFERROR(IF(\"19:00\">=IFERROR(Hgauche,0),IFERROR(hdroite-Hgauche,0),IF(durée1>0,durée1,\"00:00\")),0))+SUMPRODUCT(ISNUMBER(MATCH(INDIRECT(\"H\"&$A$1&\"!B2:AF2\"),moindimfe,0))*IFERROR(IF(\"19:00\"<=IFERROR(Hgauche,0),IF(durée4<0,0,durée4),\"00:00\"),0))","v":0},{"$f":"SUMPRODUCT(ISNUMBER(MATCH(INDIRECT(\"H\"&$A$1&\"!B2:AF2\"),DimFe,0))*IFERROR(IF(\"19:00\"<=IFERROR(Hgauche,0),IF(durée6<0,0,durée6),IF(durée<0,0,durée)),0))+SUMPRODUCT(ISNUMBER(MATCH(INDIRECT(\"H\"&$A$1&\"!B2:AF2\"),moindimfe,0))*IFERROR(IF(\"19:00\"<=IFERROR(Hgauche,0),IF(durée2<0,0,durée2),\"00:00\"),0))","v":0},{"$f":"SUM(SUMPRODUCT(1*IFERROR(IF(\"19:00\"<=IFERROR(Hgauche,0),IF(durée2<0,0,durée2),\"00:00\"),0)),SUMPRODUCT(1*IFERROR(IF(\"19:00\"<=IFERROR(Hgauche,0),IF(durée6<0,0,durée6),\"00:00\"),0)),SUMPRODUCT(1*IFERROR(IF(\"21:00\"<=IFERROR(Hdroitesimple,0),IF(durée<0,0,durée),\"00:00\"),0)))-durée5","v":0},null,0,{"$f":"VLOOKUP($A14,Bilan!$A$9:$AQ62,37,FALSE)","v":59.5},null,{"$f":"Bilan!AN14","v":65},65,null,0]
[{"$f":"Données!$H12","v":0},"","","","","","","","","","","","","","","","","","","","","","","","","","","00:00:00","00:00:00",null,{"$f":"SUMPRODUCT(ISNUMBER(MATCH(INDIRECT(\"H\"&$A$1&\"!B2:AF2\"),DimFe,0))*IFERROR(IF(\"19:00\">=IFERROR(Hgauche,0),IFERROR(hdroite-Hgauche,0),IF(durée1>0,durée1,\"00:00\")),0))+SUMPRODUCT(ISNUMBER(MATCH(INDIRECT(\"H\"&$A$1&\"!B2:AF2\"),moindimfe,0))*IFERROR(IF(\"19:00\"<=IFERROR(Hgauche,0),IF(durée4<0,0,durée4),\"00:00\"),0))","v":0},{"$f":"SUMPRODUCT(ISNUMBER(MATCH(INDIRECT(\"H\"&$A$1&\"!B2:AF2\"),DimFe,0))*IFERROR(IF(\"19:00\"<=IFERROR(Hgauche,0),IF(durée6<0,0,durée6),IF(durée<0,0,durée)),0))+SUMPRODUCT(ISNUMBER(MATCH(INDIRECT(\"H\"&$A$1&\"!B2:AF2\"),moindimfe,0))*IFERROR(IF(\"19:00\"<=IFERROR(Hgauche,0),IF(durée2<0,0,durée2),\"00:00\"),0))","v":0},{"$f":"SUM(SUMPRODUCT(1*IFERROR(IF(\"19:00\"<=IFERROR(Hgauche,0),IF(durée2<0,0,durée2),\"00:00\"),0)),SUMPRODUCT(1*IFERROR(IF(\"19:00\"<=IFERROR(Hgauche,0),IF(durée6<0,0,durée6),\"00:00\"),0)),SUMPRODUCT(1*IFERROR(IF(\"21:00\"<=IFERROR(Hdroitesimple,0),IF(durée<0,0,durée),\"00:00\"),0)))-durée5","v":0},null,0,{"$f":"VLOOKUP($A15,Bilan!$A$9:$AQ63,37,FALSE)","v":59.5},null,{"$f":"Bilan!AN15","v":65},65,null,0]
[{"$f":"Données!$H13","v":0},"","","","","","","","","","","","","","","","","","","","","","","","","","","00:00:00","00:00:00",null,{"$f":"SUMPRODUCT(ISNUMBER(MATCH(INDIRECT(\"H\"&$A$1&\"!B2:AF2\"),DimFe,0))*IFERROR(IF(\"19:00\">=IFERROR(Hgauche,0),IFERROR(hdroite-Hgauche,0),IF(durée1>0,durée1,\"00:00\")),0))+SUMPRODUCT(ISNUMBER(MATCH(INDIRECT(\"H\"&$A$1&\"!B2:AF2\"),moindimfe,0))*IFERROR(IF(\"19:00\"<=IFERROR(Hgauche,0),IF(durée4<0,0,durée4),\"00:00\"),0))","v":0},{"$f":"SUMPRODUCT(ISNUMBER(MATCH(INDIRECT(\"H\"&$A$1&\"!B2:AF2\"),DimFe,0))*IFERROR(IF(\"19:00\"<=IFERROR(Hgauche,0),IF(durée6<0,0,durée6),IF(durée<0,0,durée)),0))+SUMPRODUCT(ISNUMBER(MATCH(INDIRECT(\"H\"&$A$1&\"!B2:AF2\"),moindimfe,0))*IFERROR(IF(\"19:00\"<=IFERROR(Hgauche,0),IF(durée2<0,0,durée2),\"00:00\"),0))","v":0},{"$f":"SUM(SUMPRODUCT(1*IFERROR(IF(\"19:00\"<=IFERROR(Hgauche,0),IF(durée2<0,0,durée2),\"00:00\"),0)),SUMPRODUCT(1*IFERROR(IF(\"19:00\"<=IFERROR(Hgauche,0),IF(durée6<0,0,durée6),\"00:00\"),0)),SUMPRODUCT(1*IFERROR(IF(\"21:00\"<=IFERROR(Hdroitesimple,0),IF(durée<0,0,durée),\"00:00\"),0)))-durée5","v":0},null,0,{"$f":"VLOOKUP($A16,Bilan!$A$9:$AQ64,37,FALSE)","v":59.5},null,{"$f":"Bilan!AN16","v":65},65,null,0]
[{"$f":"Données!$H14","v":0},"","","","","","","","","","","","","","","","","","","","","","","","","","","00:00:00","00:00:00",null,{"$f":"SUMPRODUCT(ISNUMBER(MATCH(INDIRECT(\"H\"&$A$1&\"!B2:AF2\"),DimFe,0))*IFERROR(IF(\"19:00\">=IFERROR(Hgauche,0),IFERROR(hdroite-Hgauche,0),IF(durée1>0,durée1,\"00:00\")),0))+SUMPRODUCT(ISNUMBER(MATCH(INDIRECT(\"H\"&$A$1&\"!B2:AF2\"),moindimfe,0))*IFERROR(IF(\"19:00\"<=IFERROR(Hgauche,0),IF(durée4<0,0,durée4),\"00:00\"),0))","v":0},{"$f":"SUMPRODUCT(ISNUMBER(MATCH(INDIRECT(\"H\"&$A$1&\"!B2:AF2\"),DimFe,0))*IFERROR(IF(\"19:00\"<=IFERROR(Hgauche,0),IF(durée6<0,0,durée6),IF(durée<0,0,durée)),0))+SUMPRODUCT(ISNUMBER(MATCH(INDIRECT(\"H\"&$A$1&\"!B2:AF2\"),moindimfe,0))*IFERROR(IF(\"19:00\"<=IFERROR(Hgauche,0),IF(durée2<0,0,durée2),\"00:00\"),0))","v":0},{"$f":"SUM(SUMPRODUCT(1*IFERROR(IF(\"19:00\"<=IFERROR(Hgauche,0),IF(durée2<0,0,durée2),\"00:00\"),0)),SUMPRODUCT(1*IFERROR(IF(\"19:00\"<=IFERROR(Hgauche,0),IF(durée6<0,0,durée6),\"00:00\"),0)),SUMPRODUCT(1*IFERROR(IF(\"21:00\"<=IFERROR(Hdroitesimple,0),IF(durée<0,0,durée),\"00:00\"),0)))-durée5","v":0},null,0,{"$f":"VLOOKUP($A17,Bilan!$A$9:$AQ65,37,FALSE)","v":59.5},null,{"$f":"Bilan!AN17","v":65},65,null,0]
[{"$f":"Données!$H15","v":0},"","","","","","","","","","","","","","","","","","","","","","","","","","","00:00:00","00:00:00",null,{"$f":"SUMPRODUCT(ISNUMBER(MATCH(INDIRECT(\"H\"&$A$1&\"!B2:AF2\"),DimFe,0))*IFERROR(IF(\"19:00\">=IFERROR(Hgauche,0),IFERROR(hdroite-Hgauche,0),IF(durée1>0,durée1,\"00:00\")),0))+SUMPRODUCT(ISNUMBER(MATCH(INDIRECT(\"H\"&$A$1&\"!B2:AF2\"),moindimfe,0))*IFERROR(IF(\"19:00\"<=IFERROR(Hgauche,0),IF(durée4<0,0,durée4),\"00:00\"),0))","v":0},{"$f":"SUMPRODUCT(ISNUMBER(MATCH(INDIRECT(\"H\"&$A$1&\"!B2:AF2\"),DimFe,0))*IFERROR(IF(\"19:00\"<=IFERROR(Hgauche,0),IF(durée6<0,0,durée6),IF(durée<0,0,durée)),0))+SUMPRODUCT(ISNUMBER(MATCH(INDIRECT(\"H\"&$A$1&\"!B2:AF2\"),moindimfe,0))*IFERROR(IF(\"19:00\"<=IFERROR(Hgauche,0),IF(durée2<0,0,durée2),\"00:00\"),0))","v":0},{"$f":"SUM(SUMPRODUCT(1*IFERROR(IF(\"19:00\"<=IFERROR(Hgauche,0),IF(durée2<0,0,durée2),\"00:00\"),0)),SUMPRODUCT(1*IFERROR(IF(\"19:00\"<=IFERROR(Hgauche,0),IF(durée6<0,0,durée6),\"00:00\"),0)),SUMPRODUCT(1*IFERROR(IF(\"21:00\"<=IFERROR(Hdroitesimple,0),IF(durée<0,0,durée),\"00:00\"),0)))-durée5","v":0},null,0,{"$f":"VLOOKUP($A18,Bilan!$A$9:$AQ66,37,FALSE)","v":59.5},null,{"$f":"Bilan!AN18","v":65},65,null,0]
[{"$f":"Données!$H16","v":0},{"$f":"SUMPRODUCT((INDIRECT(\"'\"&$A$1&\"'!$A$7:$A$56\")=$A19)*(INDIRECT(\"'\"&$A$1&\"'!$B$7:$AF$56\")=B$7))","v":0},0,0,0,0,0,0,0,0,0,0,0,0,0,0,0,{"$f":"SUMPRODUCT((INDIRECT(\"'\"&$A$1&\"'!$A$7:$A$56\")=$A19)*(INDIRECT(\"'\"&$A$1&\"'!$B$7:$AF$56\")=R$7))","v":0},0,0,0,0,0,0,0,0,0,{"$f":"VLOOKUP($A19,INDIRECT(\"'H\"&$A$1&\"'!$A$7:$AR$56\"),35,0)","v":"00:00:00"},{"$f":"VLOOKUP($A19,INDIRECT(\"'H\"&$A$1&\"'!$A$7:$AR$56\"),38,0)","v":"00:00:00"},null,{"$f":"SUMPRODUCT(ISNUMBER(MATCH(INDIRECT(\"H\"&$A$1&\"!B2:AF2\"),DimFe,0))*IFERROR(IF(\"19:00\">=IFERROR(Hgauche,0),IFERROR(hdroite-Hgauche,0),IF(durée1>0,durée1,\"00:00\")),0))+SUMPRODUCT(ISNUMBER(MATCH(INDIRECT(\"H\"&$A$1&\"!B2:AF2\"),moindimfe,0))*IFERROR(IF(\"19:00\"<=IFERROR(Hgauche,0),IF(durée4<0,0,durée4),\"00:00\"),0))","v":0},{"$f":"SUMPRODUCT(ISNUMBER(MATCH(INDIRECT(\"H\"&$A$1&\"!B2:AF2\"),DimFe,0))*IFERROR(IF(\"19:00\"<=IFERROR(Hgauche,0),IF(durée6<0,0,durée6),IF(durée<0,0,durée)),0))+SUMPRODUCT(ISNUMBER(MATCH(INDIRECT(\"H\"&$A$1&\"!B2:AF2\"),moindimfe,0))*IFERROR(IF(\"19:00\"<=IFERROR(Hgauche,0),IF(durée2<0,0,durée2),\"00:00\"),0))","v":0},{"$f":"SUMPRODUCT(1*IF(durée<0,0,durée))+SUMPRODUCT(1*IFERROR(IF(\"19:00\"<=IFERROR(Hgauche,0),IF(durée2<0,0,durée2),\"00:00\"),0))-durée5","v":0},null,{"$f":"(AB19/24)+SUMPRODUCT(($B$6:$AA$6)*(B19:AA19))","v":0},{"$f":"VLOOKUP($A19,Bilan!A19:AI67,35,FALSE)","v":0},null,{"$f":"Bilan!AN19","v":{"$error":"#VALUE!"}},65,null,{"$f":"SUM(B19:R19)","v":0},null,null,null,null,null,null,null,null,null,null,null,null,null,null,null,null,null,null,null,null,null,null,null,{"$f":"Données!$A14","v":"N"},{"$f":"Données!$B14","v":0.85416666666666663}]
[{"$f":"Données!$H17","v":0},0,0,0,0,0,0,0,0,0,0,0,0,0,0,0,0,0,0,0,0,0,0,0,0,0,0,"00:00:00","00:00:00",null,{"$f":"SUMPRODUCT(ISNUMBER(MATCH(INDIRECT(\"H\"&$A$1&\"!B2:AF2\"),DimFe,0))*IFERROR(IF(\"19:00\">=IFERROR(Hgauche,0),IFERROR(hdroite-Hgauche,0),IF(durée1>0,durée1,\"00:00\")),0))+SUMPRODUCT(ISNUMBER(MATCH(INDIRECT(\"H\"&$A$1&\"!B2:AF2\"),moindimfe,0))*IFERROR(IF(\"19:00\"<=IFERROR(Hgauche,0),IF(durée4<0,0,durée4),\"00:00\"),0))","v":0},{"$f":"SUMPRODUCT(ISNUMBER(MATCH(INDIRECT(\"H\"&$A$1&\"!B2:AF2\"),DimFe,0))*IFERROR(IF(\"19:00\"<=IFERROR(Hgauche,0),IF(durée6<0,0,durée6),IF(durée<0,0,durée)),0))+SUMPRODUCT(ISNUMBER(MATCH(INDIRECT(\"H\"&$A$1&\"!B2:AF2\"),moindimfe,0))*IFERROR(IF(\"19:00\"<=IFERROR(Hgauche,0),IF(durée2<0,0,durée2),\"00:00\"),0))","v":0},{"$f":"SUMPRODUCT(1*IF(durée<0,0,durée))+SUMPRODUCT(1*IFERROR(IF(\"19:00\"<=IFERROR(Hgauche,0),IF(durée2<0,0,durée2),\"00:00\"),0))-durée5","v":0},null,0,{"$f":"VLOOKUP($A20,Bilan!A20:AI68,35,FALSE)","v":0},null,{"$f":"Bilan!AN20","v":{"$error":"#VALUE!"}},65,null,0,null,null,null,null,null,null,null,null,null,null,null,null,null,null,null,null,null,null,null,null,null,null,null,{"$f":"Données!$A15","v":"N+"},{"$f":"Données!$B15","v":0.80208333333333337}]
[{"$f":"Données!$H18","v":0},0,0,0,0,0,0,0,0,0,0,0,0,0,0,0,0,0,0,0,0,0,0,0,0,0,0,"00:00:00","00:00:00",null,{"$f":"SUMPRODUCT(ISNUMBER(MATCH(INDIRECT(\"H\"&$A$1&\"!B2:AF2\"),DimFe,0))*IFERROR(IF(\"19:00\">=IFERROR(Hgauche,0),IFERROR(hdroite-Hgauche,0),IF(durée1>0,durée1,\"00:00\")),0))+SUMPRODUCT(ISNUMBER(MATCH(INDIRECT(\"H\"&$A$1&\"!B2:AF2\"),moindimfe,0))*IFERROR(IF(\"19:00\"<=IFERROR(Hgauche,0),IF(durée4<0,0,durée4),\"00:00\"),0))","v":0},{"$f":"SUMPRODUCT(ISNUMBER(MATCH(INDIRECT(\"H\"&$A$1&\"!B2:AF2\"),DimFe,0))*IFERROR(IF(\"19:00\"<=IFERROR(Hgauche,0),IF(durée6<0,0,durée6),IF(durée<0,0,durée)),0))+SUMPRODUCT(ISNUMBER(MATCH(INDIRECT(\"H\"&$A$1&\"!B2:AF2\"),moindimfe,0))*IFERROR(IF(\"19:00\"<=IFERROR(Hgauche,0),IF(durée2<0,0,durée2),\"00:00\"),0))","v":0},{"$f":"SUMPRODUCT(1*IF(durée<0,0,durée))+SUMPRODUCT(1*IFERROR(IF(\"19:00\"<=IFERROR(Hgauche,0),IF(durée2<0,0,durée2),\"00:00\"),0))-durée5","v":0},null,0,{"$f":"VLOOKUP($A21,Bilan!A21:AI69,35,FALSE)","v":0},null,{"$f":"Bilan!AN21","v":{"$error":"#VALUE!"}},65,null,0,null,null,null,null,null,null,null,null,null,null,null,null,null,null,null,null,null,null,null,null,null,null,null,{"$f":"Données!$A16","v":"NS"},{"$f":"Données!$B16","v":0.80208333333333337}]
[{"$f":"Données!$H19","v":0},0,0,0,0,0,0,0,0,0,0,0,0,0,0,0,0,0,0,0,0,0,0,0,0,0,0,"00:00:00","00:00:00",null,{"$f":"SUMPRODUCT(ISNUMBER(MATCH(INDIRECT(\"H\"&$A$1&\"!B2:AF2\"),DimFe,0))*IFERROR(IF(\"19:00\">=IFERROR(Hgauche,0),IFERROR(hdroite-Hgauche,0),IF(durée1>0,durée1,\"00:00\")),0))+SUMPRODUCT(ISNUMBER(MATCH(INDIRECT(\"H\"&$A$1&\"!B2:AF2\"),moindimfe,0))*IFERROR(IF(\"19:00\"<=IFERROR(Hgauche,0),IF(durée4<0,0,durée4),\"00:00\"),0))","v":0},{"$f":"SUMPRODUCT(ISNUMBER(MATCH(INDIRECT(\"H\"&$A$1&\"!B2:AF2\"),DimFe,0))*IFERROR(IF(\"19:00\"<=IFERROR(Hgauche,0),IF(durée6<0,0,durée6),IF(durée<0,0,durée)),0))+SUMPRODUCT(ISNUMBER(MATCH(INDIRECT(\"H\"&$A$1&\"!B2:AF2\"),moindimfe,0))*IFERROR(IF(\"19:00\"<=IFERROR(Hgauche,0),IF(durée2<0,0,durée2),\"00:00\"),0))","v":0},{"$f":"SUMPRODUCT(1*IF(durée<0,0,durée))+SUMPRODUCT(1*IFERROR(IF(\"19:00\"<=IFERROR(Hgauche,0),IF(durée2<0,0,durée2),\"00:00\"),0))-durée5","v":0},null,0,{"$f":"VLOOKUP($A22,Bilan!A22:AI70,35,FALSE)","v":0},null,{"$f":"Bilan!AN22","v":{"$error":"#VALUE!"}},65,null,0,null,null,null,null,null,null,null,null,null,null,null,null,null,null,null,null,null,null,null,null,null,null,null,{"$f":"Données!$A17","v":"T"},{"$f":"Données!$B17","v":"T"}]
[{"$f":"Données!$H20","v":0},0,0,0,0,0,0,0,0,0,0,0,0,0,0,0,0,0,0,0,0,0,0,0,0,0,0,"00:00:00","00:00:00",null,{"$f":"SUMPRODUCT(ISNUMBER(MATCH(INDIRECT(\"H\"&$A$1&\"!B2:AF2\"),DimFe,0))*IFERROR(IF(\"19:00\">=IFERROR(Hgauche,0),IFERROR(hdroite-Hgauche,0),IF(durée1>0,durée1,\"00:00\")),0))+SUMPRODUCT(ISNUMBER(MATCH(INDIRECT(\"H\"&$A$1&\"!B2:AF2\"),moindimfe,0))*IFERROR(IF(\"19:00\"<=IFERROR(Hgauche,0),IF(durée4<0,0,durée4),\"00:00\"),0))","v":0},{"$f":"SUMPRODUCT(ISNUMBER(MATCH(INDIRECT(\"H\"&$A$1&\"!B2:AF2\"),DimFe,0))*IFERROR(IF(\"19:00\"<=IFERROR(Hgauche,0),IF(durée6<0,0,durée6),IF(durée<0,0,durée)),0))+SUMPRODUCT(ISNUMBER(MATCH(INDIRECT(\"H\"&$A$1&\"!B2:AF2\"),moindimfe,0))*IFERROR(IF(\"19:00\"<=IFERROR(Hgauche,0),IF(durée2<0,0,durée2),\"00:00\"),0))","v":0},{"$f":"SUMPRODUCT(1*IF(durée<0,0,durée))+SUMPRODUCT(1*IFERROR(IF(\"19:00\"<=IFERROR(Hgauche,0),IF(durée2<0,0,durée2),\"00:00\"),0))-durée5","v":0},null,0,{"$f":"VLOOKUP($A23,Bilan!A23:AI71,35,FALSE)","v":0},null,{"$f":"Bilan!AN23","v":{"$error":"#VALUE!"}},65,null,0,null,null,null,null,null,null,null,null,null,null,null,null,null,null,null,null,null,null,null,null,null,null,null,{"$f":"Données!$A18","v":"F"},{"$f":"Données!$B18","v":"F"}]
[{"$f":"Données!$H21","v":0},0,0,0,0,0,0,0,0,0,0,0,0,0,0,0,0,0,0,0,0,0,0,0,0,0,0,"00:00:00","00:00:00",null,{"$f":"SUMPRODUCT(ISNUMBER(MATCH(INDIRECT(\"H\"&$A$1&\"!B2:AF2\"),DimFe,0))*IFERROR(IF(\"19:00\">=IFERROR(Hgauche,0),IFERROR(hdroite-Hgauche,0),IF(durée1>0,durée1,\"00:00\")),0))+SUMPRODUCT(ISNUMBER(MATCH(INDIRECT(\"H\"&$A$1&\"!B2:AF2\"),moindimfe,0))*IFERROR(IF(\"19:00\"<=IFERROR(Hgauche,0),IF(durée4<0,0,durée4),\"00:00\"),0))","v":0},{"$f":"SUMPRODUCT(ISNUMBER(MATCH(INDIRECT(\"H\"&$A$1&\"!B2:AF2\"),DimFe,0))*IFERROR(IF(\"19:00\"<=IFERROR(Hgauche,0),IF(durée6<0,0,durée6),IF(durée<0,0,durée)),0))+SUMPRODUCT(ISNUMBER(MATCH(INDIRECT(\"H\"&$A$1&\"!B2:AF2\"),moindimfe,0))*IFERROR(IF(\"19:00\"<=IFERROR(Hgauche,0),IF(durée2<0,0,durée2),\"00:00\"),0))","v":0},{"$f":"SUMPRODUCT(1*IF(durée<0,0,durée))+SUMPRODUCT(1*IFERROR(IF(\"19:00\"<=IFERROR(Hgauche,0),IF(durée2<0,0,durée2),\"00:00\"),0))-durée5","v":0},null,0,{"$f":"VLOOKUP($A24,Bilan!A24:AI72,35,FALSE)","v":0},null,{"$f":"Bilan!AN24","v":{"$error":"#VALUE!"}},65,null,0,null,null,null,null,null,null,null,null,null,null,null,null,null,null,null,null,null,null,null,null,null,null,null,{"$f":"Données!$A19","v":"SYN"},{"$f":"Données!$B19","v":"Syn"}]
[{"$f":"Données!$H22","v":"Equipe de nuit"}]
[{"$f":"Données!$H23","v":"K"},{"$f":"IF(SUMPRODUCT((INDIRECT(\"'\"&$A$1&\"'!$A$7:$A$56\")=$A26)*(INDIRECT(\"'\"&$A$1&\"'!$B$7:$AF$56\")=B$7))=0,\"\",SUMPRODUCT((INDIRECT(\"'\"&$A$1&\"'!$A$7:$A$56\")=$A26)*(INDIRECT(\"'\"&$A$1&\"'!$B$7:$AF$56\")=B$7)))","v":""},"","","","","","","","","","","","","","","",{"$f":"IF(SUMPRODUCT((INDIRECT(\"'\"&$A$1&\"'!$A$7:$A$56\")=$A26)*(INDIRECT(\"'\"&$A$1&\"'!$B$7:$AF$56\")=R$7))=0,\"\",SUMPRODUCT((INDIRECT(\"'\"&$A$1&\"'!$A$7:$A$56\")=$A26)*(INDIRECT(\"'\"&$A$1&\"'!$B$7:$AF$56\")=R$7)))","v":""},"","","","","","","","","",{"$f":"VLOOKUP($A26,INDIRECT(\"'\"&$A$1&\"'!$A$7:$AR$56\"),35,0)","v":"00:00:00"},{"$f":"VLOOKUP($A26,INDIRECT(\"'\"&$A$1&\"'!$A$7:$AR$56\"),36,0)","v":"00:00:00"},null,{"$f":"SUMPRODUCT(ISNUMBER(MATCH(INDIRECT(\"H\"&$A$1&\"!B2:AF2\"),DimFe,0))*IFERROR(IF(\"19:00\">=IFERROR(Hgauche,0),IFERROR(hdroite-Hgauche,0),IF(durée1>0,durée1,\"00:00\")),0))+SUMPRODUCT(ISNUMBER(MATCH(INDIRECT(\"H\"&$A$1&\"!B2:AF2\"),moindimfe,0))*IFERROR(IF(\"19:00\"<=IFERROR(Hgauche,0),IF(durée4<0,0,durée4),\"00:00\"),0))","v":0},{"$f":"SUMPRODUCT(ISNUMBER(MATCH(INDIRECT(\"H\"&$A$1&\"!B2:AF2\"),DimFe,0))*IFERROR(IF(\"19:00\"<=IFERROR(Hgauche,0),IF(durée6<0,0,durée6),IF(durée<0,0,durée)),0))+SUMPRODUCT(ISNUMBER(MATCH(INDIRECT(\"H\"&$A$1&\"!B2:AF2\"),moindimfe,0))*IFERROR(IF(\"19:00\"<=IFERROR(Hgauche,0),IF(durée2<0,0,durée2),\"00:00\"),0))","v":0},{"$f":"SUM(SUMPRODUCT(1*IFERROR(IF(\"19:00\"<=IFERROR(Hgauche,0),IF(durée2<0,0,durée2),\"00:00\"),0)),SUMPRODUCT(1*IFERROR(IF(\"19:00\"<=IFERROR(Hgauche,0),IF(durée6<0,0,durée6),\"00:00\"),0)),SUMPRODUCT(1*IFERROR(IF(\"21:00\"<=IFERROR(Hdroitesimple,0),IF(durée<0,0,durée),\"00:00\"),0)))-durée5","v":0},null,{"$f":"bilanh","v":0},{"$f":"VLOOKUP($A26,Bilan!$A$9:$AQ74,37,FALSE)","v":57.958333333333336},null,{"$f":"Bilan!AN26","v":65},65,null,{"$f":"Jourtravaillé","v":0}]
[{"$f":"Données!$H24","v":0},"","","","","","","","","","","","","","","","","","","","","","","","","","",{"$f":"VLOOKUP($A27,INDIRECT(\"'\"&$A$1&\"'!$A$7:$AR$56\"),35,0)","v":"00:00:00"},{"$f":"VLOOKUP($A27,INDIRECT(\"'\"&$A$1&\"'!$A$7:$AR$56\"),36,0)","v":"00:00:00"},null,{"$f":"SUMPRODUCT(ISNUMBER(MATCH(INDIRECT(\"H\"&$A$1&\"!B2:AF2\"),DimFe,0))*IFERROR(IF(\"19:00\">=IFERROR(Hgauche,0),IFERROR(hdroite-Hgauche,0),IF(durée1>0,durée1,\"00:00\")),0))+SUMPRODUCT(ISNUMBER(MATCH(INDIRECT(\"H\"&$A$1&\"!B2:AF2\"),moindimfe,0))*IFERROR(IF(\"19:00\"<=IFERROR(Hgauche,0),IF(durée4<0,0,durée4),\"00:00\"),0))","v":0},{"$f":"SUMPRODUCT(ISNUMBER(MATCH(INDIRECT(\"H\"&$A$1&\"!B2:AF2\"),DimFe,0))*IFERROR(IF(\"19:00\"<=IFERROR(Hgauche,0),IF(durée6<0,0,durée6),IF(durée<0,0,durée)),0))+SUMPRODUCT(ISNUMBER(MATCH(INDIRECT(\"H\"&$A$1&\"!B2:AF2\"),moindimfe,0))*IFERROR(IF(\"19:00\"<=IFERROR(Hgauche,0),IF(durée2<0,0,durée2),\"00:00\"),0))","v":0},{"$f":"SUM(SUMPRODUCT(1*IFERROR(IF(\"19:00\"<=IFERROR(Hgauche,0),IF(durée2<0,0,durée2),\"00:00\"),0)),SUMPRODUCT(1*IFERROR(IF(\"19:00\"<=IFERROR(Hgauche,0),IF(durée6<0,0,durée6),\"00:00\"),0)),SUMPRODUCT(1*IFERROR(IF(\"21:00\"<=IFERROR(Hdroitesimple,0),IF(durée<0,0,durée),\"00:00\"),0)))-durée5","v":0},null,{"$f":"bilanh","v":0},{"$f":"VLOOKUP($A27,Bilan!$A$9:$AQ75,37,FALSE)","v":59.5},null,{"$f":"Bilan!AN27","v":65},65,null,{"$f":"Jourtravaillé","v":0}]
[{"$f":"Données!$H25","v":0},"","","","","","","","","","","","","","","","","","","","","","","","","","",{"$f":"VLOOKUP($A28,INDIRECT(\"'\"&$A$1&\"'!$A$7:$AR$56\"),35,0)","v":"00:00:00"},{"$f":"VLOOKUP($A28,INDIRECT(\"'\"&$A$1&\"'!$A$7:$AR$56\"),36,0)","v":"00:00:00"},null,{"$f":"SUMPRODUCT(ISNUMBER(MATCH(INDIRECT(\"H\"&$A$1&\"!B2:AF2\"),DimFe,0))*IFERROR(IF(\"19:00\">=IFERROR(Hgauche,0),IFERROR(hdroite-Hgauche,0),IF(durée1>0,durée1,\"00:00\")),0))+SUMPRODUCT(ISNUMBER(MATCH(INDIRECT(\"H\"&$A$1&\"!B2:AF2\"),moindimfe,0))*IFERROR(IF(\"19:00\"<=IFERROR(Hgauche,0),IF(durée4<0,0,durée4),\"00:00\"),0))","v":0},{"$f":"SUMPRODUCT(ISNUMBER(MATCH(INDIRECT(\"H\"&$A$1&\"!B2:AF2\"),DimFe,0))*IFERROR(IF(\"19:00\"<=IFERROR(Hgauche,0),IF(durée6<0,0,durée6),IF(durée<0,0,durée)),0))+SUMPRODUCT(ISNUMBER(MATCH(INDIRECT(\"H\"&$A$1&\"!B2:AF2\"),moindimfe,0))*IFERROR(IF(\"19:00\"<=IFERROR(Hgauche,0),IF(durée2<0,0,durée2),\"00:00\"),0))","v":0},{"$f":"SUM(SUMPRODUCT(1*IFERROR(IF(\"19:00\"<=IFERROR(Hgauche,0),IF(durée2<0,0,durée2),\"00:00\"),0)),SUMPRODUCT(1*IFERROR(IF(\"19:00\"<=IFERROR(Hgauche,0),IF(durée6<0,0,durée6),\"00:00\"),0)),SUMPRODUCT(1*IFERROR(IF(\"21:00\"<=IFERROR(Hdroitesimple,0),IF(durée<0,0,durée),\"00:00\"),0)))-durée5","v":0},null,{"$f":"bilanh","v":0},{"$f":"VLOOKUP($A28,Bilan!$A$9:$AQ76,37,FALSE)","v":59.5},null,{"$f":"Bilan!AN28","v":65},65,null,{"$f":"Jourtravaillé","v":0}]
[{"$f":"Données!$H26","v":0},{"$f":"SUMPRODUCT((INDIRECT(\"'\"&$A$1&\"'!$A$7:$A$56\")=$A29)*(INDIRECT(\"'\"&$A$1&\"'!$B$7:$AF$56\")=B$7))","v":0},0,0,0,0,0,0,0,0,0,0,0,0,0,0,0,{"$f":"SUMPRODUCT((INDIRECT(\"'\"&$A$1&\"'!$A$7:$A$56\")=$A29)*(INDIRECT(\"'\"&$A$1&\"'!$B$7:$AF$56\")=R$7))","v":0},0,0,0,0,0,0,0,0,0,{"$f":"VLOOKUP($A29,INDIRECT(\"'H\"&$A$1&\"'!$A$7:$AR$56\"),35,0)","v":"00:00:00"},{"$f":"VLOOKUP($A29,INDIRECT(\"'H\"&$A$1&\"'!$A$7:$AR$56\"),38,0)","v":"00:00:00"},null,{"$f":"SUMPRODUCT(ISNUMBER(MATCH(INDIRECT(\"H\"&$A$1&\"!B2:AF2\"),DimFe,0))*IFERROR(IF(\"19:00\">=IFERROR(Hgauche,0),IFERROR(hdroite-Hgauche,0),IF(durée1>0,durée1,\"00:00\")),0))+SUMPRODUCT(ISNUMBER(MATCH(INDIRECT(\"H\"&$A$1&\"!B2:AF2\"),moindimfe,0))*IFERROR(IF(\"19:00\"<=IFERROR(Hgauche,0),IF(durée4<0,0,durée4),\"00:00\"),0))","v":0},{"$f":"SUMPRODUCT(ISNUMBER(MATCH(INDIRECT(\"H\"&$A$1&\"!B2:AF2\"),DimFe,0))*IFERROR(IF(\"19:00\"<=IFERROR(Hgauche,0),IF(durée6<0,0,durée6),IF(durée<0,0,durée)),0))+SUMPRODUCT(ISNUMBER(MATCH(INDIRECT(\"H\"&$A$1&\"!B2:AF2\"),moindimfe,0))*IFERROR(IF(\"19:00\"<=IFERROR(Hgauche,0),IF(durée2<0,0,durée2),\"00:00\"),0))","v":0},{"$f":"SUMPRODUCT(1*IF(durée<0,0,durée))+SUMPRODUCT(1*IFERROR(IF(\"19:00\"<=IFERROR(Hgauche,0),IF(durée2<0,0,durée2),\"00:00\"),0))-durée5","v":0},null,{"$f":"(AB29/24)+SUMPRODUCT(($B$6:$AA$6)*(B29:AA29))","v":0},{"$f":"VLOOKUP($A29,Bilan!A29:AI77,35,FALSE)","v":0},null,{"$f":"Bilan!AN29","v":{"$error":"#VALUE!"}},65,null,{"$f":"SUM(B29:R29)","v":0},null,null,null,null,null,null,null,null,null,null,null,null,null,null,null,null,null,null,null,null,null,null,null,{"$f":"Données!$A24","v":"CA"},{"$f":"Données!$B24","v":"CA"}]
[{"$f":"Données!$H27","v":0},0,0,0,0,0,0,0,0,0,0,0,0,0,0,0,0,0,0,0,0,0,0,0,0,0,0,"00:00:00","00:00:00",null,{"$f":"SUMPRODUCT(ISNUMBER(MATCH(INDIRECT(\"H\"&$A$1&\"!B2:AF2\"),DimFe,0))*IFERROR(IF(\"19:00\">=IFERROR(Hgauche,0),IFERROR(hdroite-Hgauche,0),IF(durée1>0,durée1,\"00:00\")),0))+SUMPRODUCT(ISNUMBER(MATCH(INDIRECT(\"H\"&$A$1&\"!B2:AF2\"),moindimfe,0))*IFERROR(IF(\"19:00\"<=IFERROR(Hgauche,0),IF(durée4<0,0,durée4),\"00:00\"),0))","v":0},{"$f":"SUMPRODUCT(ISNUMBER(MATCH(INDIRECT(\"H\"&$A$1&\"!B2:AF2\"),DimFe,0))*IFERROR(IF(\"19:00\"<=IFERROR(Hgauche,0),IF(durée6<0,0,durée6),IF(durée<0,0,durée)),0))+SUMPRODUCT(ISNUMBER(MATCH(INDIRECT(\"H\"&$A$1&\"!B2:AF2\"),moindimfe,0))*IFERROR(IF(\"19:00\"<=IFERROR(Hgauche,0),IF(durée2<0,0,durée2),\"00:00\"),0))","v":0},{"$f":"SUMPRODUCT(1*IF(durée<0,0,durée))+SUMPRODUCT(1*IFERROR(IF(\"19:00\"<=IFERROR(Hgauche,0),IF(durée2<0,0,durée2),\"00:00\"),0))-durée5","v":0},null,0,{"$f":"VLOOKUP($A30,Bilan!A30:AI78,35,FALSE)","v":0},null,{"$f":"Bilan!AN30","v":{"$error":"#VALUE!"}},65,null,0,null,null,null,null,null,null,null,null,null,null,null,null,null,null,null,null,null,null,null,null,null,null,null,{"$f":"Données!$A25","v":"CA16"},{"$f":"Données!$B25","v":"CA16"}]
[{"$f":"Données!$H28","v":0},0,0,0,0,0,0,0,0,0,0,0,0,0,0,0,0,0,0,0,0,0,0,0,0,0,0,"00:00:00","00:00:00",null,{"$f":"SUMPRODUCT(ISNUMBER(MATCH(INDIRECT(\"H\"&$A$1&\"!B2:AF2\"),DimFe,0))*IFERROR(IF(\"19:00\">=IFERROR(Hgauche,0),IFERROR(hdroite-Hgauche,0),IF(durée1>0,durée1,\"00:00\")),0))+SUMPRODUCT(ISNUMBER(MATCH(INDIRECT(\"H\"&$A$1&\"!B2:AF2\"),moindimfe,0))*IFERROR(IF(\"19:00\"<=IFERROR(Hgauche,0),IF(durée4<0,0,durée4),\"00:00\"),0))","v":0},{"$f":"SUMPRODUCT(ISNUMBER(MATCH(INDIRECT(\"H\"&$A$1&\"!B2:AF2\"),DimFe,0))*IFERROR(IF(\"19:00\"<=IFERROR(Hgauche,0),IF(durée6<0,0,durée6),IF(durée<0,0,durée)),0))+SUMPRODUCT(ISNUMBER(MATCH(INDIRECT(\"H\"&$A$1&\"!B2:AF2\"),moindimfe,0))*IFERROR(IF(\"19:00\"<=IFERROR(Hgauche,0),IF(durée2<0,0,durée2),\"00:00\"),0))","v":0},{"$f":"SUMPRODUCT(1*IF(durée<0,0,durée))+SUMPRODUCT(1*IFERROR(IF(\"19:00\"<=IFERROR(Hgauche,0),IF(durée2<0,0,durée2),\"00:00\"),0))-durée5","v":0},null,0,{"$f":"VLOOKUP($A31,Bilan!A31:AI79,35,FALSE)","v":0},null,{"$f":"Bilan!AN31","v":{"$error":"#VALUE!"}},65,null,0,null,null,null,null,null,null,null,null,null,null,null,null,null,null,null,null,null,null,null,null,null,null,null,{"$f":"Données!$A26","v":"REC"},{"$f":"Données!$B26","v":"REC"}]
[{"$f":"Données!$H29","v":0},0,0,0,0,0,0,0,0,0,0,0,0,0,0,0,0,0,0,0,0,0,0,0,0,0,0,"00:00:00","00:00:00",null,{"$f":"SUMPRODUCT(ISNUMBER(MATCH(INDIRECT(\"H\"&$A$1&\"!B2:AF2\"),DimFe,0))*IFERROR(IF(\"19:00\">=IFERROR(Hgauche,0),IFERROR(hdroite-Hgauche,0),IF(durée1>0,durée1,\"00:00\")),0))+SUMPRODUCT(ISNUMBER(MATCH(INDIRECT(\"H\"&$A$1&\"!B2:AF2\"),moindimfe,0))*IFERROR(IF(\"19:00\"<=IFERROR(Hgauche,0),IF(durée4<0,0,durée4),\"00:00\"),0))","v":0},{"$f":"SUMPRODUCT(ISNUMBER(MATCH(INDIRECT(\"H\"&$A$1&\"!B2:AF2\"),DimFe,0))*IFERROR(IF(\"19:00\"<=IFERROR(Hgauche,0),IF(durée6<0,0,durée6),IF(durée<0,0,durée)),0))+SUMPRODUCT(ISNUMBER(MATCH(INDIRECT(\"H\"&$A$1&\"!B2:AF2\"),moindimfe,0))*IFERROR(IF(\"19:00\"<=IFERROR(Hgauche,0),IF(durée2<0,0,durée2),\"00:00\"),0))","v":0},{"$f":"SUMPRODUCT(1*IF(durée<0,0,durée))+SUMPRODUCT(1*IFERROR(IF(\"19:00\"<=IFERROR(Hgauche,0),IF(durée2<0,0,durée2),\"00:00\"),0))-durée5","v":0},null,0,{"$f":"VLOOKUP($A32,Bilan!A32:AI80,35,FALSE)","v":0},null,{"$f":"Bilan!AN32","v":{"$error":"#VALUE!"}},65,null,0,null,null,null,null,null,null,null,null,null,null,null,null,null,null,null,null,null,null,null,null,null,null,null,{"$f":"Données!$A27","v":"PL"},{"$f":"Données!$B27","v":"PL"}]
[{"$f":"Données!$H30","v":0},0,0,0,0,0,0,0,0,0,0,0,0,0,0,0,0,0,0,0,0,0,0,0,0,0,0,"00:00:00","00:00:00",null,{"$f":"SUMPRODUCT(ISNUMBER(MATCH(INDIRECT(\"H\"&$A$1&\"!B2:AF2\"),DimFe,0))*IFERROR(IF(\"19:00\">=IFERROR(Hgauche,0),IFERROR(hdroite-Hgauche,0),IF(durée1>0,durée1,\"00:00\")),0))+SUMPRODUCT(ISNUMBER(MATCH(INDIRECT(\"H\"&$A$1&\"!B2:AF2\"),moindimfe,0))*IFERROR(IF(\"19:00\"<=IFERROR(Hgauche,0),IF(durée4<0,0,durée4),\"00:00\"),0))","v":0},{"$f":"SUMPRODUCT(ISNUMBER(MATCH(INDIRECT(\"H\"&$A$1&\"!B2:AF2\"),DimFe,0))*IFERROR(IF(\"19:00\"<=IFERROR(Hgauche,0),IF(durée6<0,0,durée6),IF(durée<0,0,durée)),0))+SUMPRODUCT(ISNUMBER(MATCH(INDIRECT(\"H\"&$A$1&\"!B2:AF2\"),moindimfe,0))*IFERROR(IF(\"19:00\"<=IFERROR(Hgauche,0),IF(durée2<0,0,durée2),\"00:00\"),0))","v":0},{"$f":"SUMPRODUCT(1*IF(durée<0,0,durée))+SUMPRODUCT(1*IFERROR(IF(\"19:00\"<=IFERROR(Hgauche,0),IF(durée2<0,0,durée2),\"00:00\"),0))-durée5","v":0},null,0,{"$f":"VLOOKUP($A33,Bilan!A33:AI81,35,FALSE)","v":0},null,{"$f":"Bilan!AN33","v":{"$error":"#VALUE!"}},65,null,0,null,null,null,null,null,null,null,null,null,null,null,null,null,null,null,null,null,null,null,null,null,null,null,{"$f":"Données!$A28","v":"D"},{"$f":"Données!$B28","v":"D"}]
[{"$f":"Données!$H31","v":0},0,0,0,0,0,0,0,0,0,0,0,0,0,0,0,0,0,0,0,0,0,0,0,0,0,0,"00:00:00","00:00:00",null,{"$f":"SUMPRODUCT(ISNUMBER(MATCH(INDIRECT(\"H\"&$A$1&\"!B2:AF2\"),DimFe,0))*IFERROR(IF(\"19:00\">=IFERROR(Hgauche,0),IFERROR(hdroite-Hgauche,0),IF(durée1>0,durée1,\"00:00\")),0))+SUMPRODUCT(ISNUMBER(MATCH(INDIRECT(\"H\"&$A$1&\"!B2:AF2\"),moindimfe,0))*IFERROR(IF(\"19:00\"<=IFERROR(Hgauche,0),IF(durée4<0,0,durée4),\"00:00\"),0))","v":0},{"$f":"SUMPRODUCT(ISNUMBER(MATCH(INDIRECT(\"H\"&$A$1&\"!B2:AF2\"),DimFe,0))*IFERROR(IF(\"19:00\"<=IFERROR(Hgauche,0),IF(durée6<0,0,durée6),IF(durée<0,0,durée)),0))+SUMPRODUCT(ISNUMBER(MATCH(INDIRECT(\"H\"&$A$1&\"!B2:AF2\"),moindimfe,0))*IFERROR(IF(\"19:00\"<=IFERROR(Hgauche,0),IF(durée2<0,0,durée2),\"00:00\"),0))","v":0},{"$f":"SUMPRODUCT(1*IF(durée<0,0,durée))+SUMPRODUCT(1*IFERROR(IF(\"19:00\"<=IFERROR(Hgauche,0),IF(durée2<0,0,durée2),\"00:00\"),0))-durée5","v":0},null,0,{"$f":"VLOOKUP($A34,Bilan!A34:AI82,35,FALSE)","v":0},null,{"$f":"Bilan!AN34","v":{"$error":"#VALUE!"}},65,null,0]
[{"$f":"Données!$H32","v":"Maitresse de maison"}]
[{"$f":"Données!$H33","v":"N"},{"$f":"IF(SUMPRODUCT((INDIRECT(\"'\"&$A$1&\"'!$A$7:$A$56\")=$A36)*(INDIRECT(\"'\"&$A$1&\"'!$B$7:$AF$56\")=B$7))=0,\"\",SUMPRODUCT((INDIRECT(\"'\"&$A$1&\"'!$A$7:$A$56\")=$A36)*(INDIRECT(\"'\"&$A$1&\"'!$B$7:$AF$56\")=B$7)))","v":""},"","","","","","","","","","","","","","","","","","","","","","","","","",{"$f":"VLOOKUP($A36,INDIRECT(\"'\"&$A$1&\"'!$A$7:$AR$56\"),35,0)","v":"00:00:00"},{"$f":"VLOOKUP($A36,INDIRECT(\"'\"&$A$1&\"'!$A$7:$AR$56\"),36,0)","v":"00:00:00"},null,{"$f":"SUMPRODUCT(ISNUMBER(MATCH(INDIRECT(\"H\"&$A$1&\"!B2:AF2\"),DimFe,0))*IFERROR(IF(\"19:00\">=IFERROR(Hgauche,0),IFERROR(hdroite-Hgauche,0),IF(durée1>0,durée1,\"00:00\")),0))+SUMPRODUCT(ISNUMBER(MATCH(INDIRECT(\"H\"&$A$1&\"!B2:AF2\"),moindimfe,0))*IFERROR(IF(\"19:00\"<=IFERROR(Hgauche,0),IF(durée4<0,0,durée4),\"00:00\"),0))","v":0},{"$f":"SUMPRODUCT(ISNUMBER(MATCH(INDIRECT(\"H\"&$A$1&\"!B2:AF2\"),DimFe,0))*IFERROR(IF(\"19:00\"<=IFERROR(Hgauche,0),IF(durée6<0,0,durée6),IF(durée<0,0,durée)),0))+SUMPRODUCT(ISNUMBER(MATCH(INDIRECT(\"H\"&$A$1&\"!B2:AF2\"),moindimfe,0))*IFERROR(IF(\"19:00\"<=IFERROR(Hgauche,0),IF(durée2<0,0,durée2),\"00:00\"),0))","v":0},{"$f":"SUM(SUMPRODUCT(1*IFERROR(IF(\"19:00\"<=IFERROR(Hgauche,0),IF(durée2<0,0,durée2),\"00:00\"),0)),SUMPRODUCT(1*IFERROR(IF(\"19:00\"<=IFERROR(Hgauche,0),IF(durée6<0,0,durée6),\"00:00\"),0)),SUMPRODUCT(1*IFERROR(IF(\"21:00\"<=IFERROR(Hdroitesimple,0),IF(durée<0,0,durée),\"00:00\"),0)))-durée5","v":0},null,{"$f":"bilanh","v":0},{"$f":"VLOOKUP($A36,Bilan!$A$9:$AQ84,37,FALSE)","v":63},null,{"$f":"Bilan!AN36","v":65},65,null,{"$f":"Jourtravaillé","v":0}]
[{"$f":"Données!$H34","v":0},{"$f":"SUMPRODUCT((INDIRECT(\"'\"&$A$1&\"'!$A$7:$A$56\")=$A37)*(INDIRECT(\"'\"&$A$1&\"'!$B$7:$AF$56\")=B$7))","v":0},0,0,0,0,0,0,0,0,0,0,0,0,0,0,0,{"$f":"SUMPRODUCT((INDIRECT(\"'\"&$A$1&\"'!$A$7:$A$56\")=$A37)*(INDIRECT(\"'\"&$A$1&\"'!$B$7:$AF$56\")=R$7))","v":0},0,0,0,0,0,0,0,0,0,{"$f":"VLOOKUP($A37,INDIRECT(\"'H\"&$A$1&\"'!$A$7:$AR$56\"),35,0)","v":"00:00:00"},{"$f":"VLOOKUP($A37,INDIRECT(\"'H\"&$A$1&\"'!$A$7:$AR$56\"),38,0)","v":"00:00:00"},null,{"$f":"SUMPRODUCT(ISNUMBER(MATCH(INDIRECT(\"H\"&$A$1&\"!B2:AF2\"),DimFe,0))*IFERROR(IF(\"19:00\">=IFERROR(Hgauche,0),IFERROR(hdroite-Hgauche,0),IF(durée1>0,durée1,\"00:00\")),0))+SUMPRODUCT(ISNUMBER(MATCH(INDIRECT(\"H\"&$A$1&\"!B2:AF2\"),moindimfe,0))*IFERROR(IF(\"19:00\"<=IFERROR(Hgauche,0),IF(durée4<0,0,durée4),\"00:00\"),0))","v":0},{"$f":"SUMPRODUCT(ISNUMBER(MATCH(INDIRECT(\"H\"&$A$1&\"!B2:AF2\"),DimFe,0))*IFERROR(IF(\"19:00\"<=IFERROR(Hgauche,0),IF(durée6<0,0,durée6),IF(durée<0,0,durée)),0))+SUMPRODUCT(ISNUMBER(MATCH(INDIRECT(\"H\"&$A$1&\"!B2:AF2\"),moindimfe,0))*IFERROR(IF(\"19:00\"<=IFERROR(Hgauche,0),IF(durée2<0,0,durée2),\"00:00\"),0))","v":0},{"$f":"SUMPRODUCT(1*IF(durée<0,0,durée))+SUMPRODUCT(1*IFERROR(IF(\"19:00\"<=IFERROR(Hgauche,0),IF(durée2<0,0,durée2),\"00:00\"),0))-durée5","v":0},null,{"$f":"(AB37/24)+SUMPRODUCT(($B$6:$AA$6)*(B37:AA37))","v":0},{"$f":"VLOOKUP($A37,Bilan!A37:AI85,35,FALSE)","v":0},null,{"$f":"Bilan!AN37","v":65},65,null,{"$f":"SUM(B37:R37)","v":0}]
[{"$f":"Données!$H35","v":0},0,0,0,0,0,0,0,0,0,0,0,0,0,0,0,0,0,0,0,0,0,0,0,0,0,0,"00:00:00","00:00:00",null,{"$f":"SUMPRODUCT(ISNUMBER(MATCH(INDIRECT(\"H\"&$A$1&\"!B2:AF2\"),DimFe,0))*IFERROR(IF(\"19:00\">=IFERROR(Hgauche,0),IFERROR(hdroite-Hgauche,0),IF(durée1>0,durée1,\"00:00\")),0))+SUMPRODUCT(ISNUMBER(MATCH(INDIRECT(\"H\"&$A$1&\"!B2:AF2\"),moindimfe,0))*IFERROR(IF(\"19:00\"<=IFERROR(Hgauche,0),IF(durée4<0,0,durée4),\"00:00\"),0))","v":0},{"$f":"SUMPRODUCT(ISNUMBER(MATCH(INDIRECT(\"H\"&$A$1&\"!B2:AF2\"),DimFe,0))*IFERROR(IF(\"19:00\"<=IFERROR(Hgauche,0),IF(durée6<0,0,durée6),IF(durée<0,0,durée)),0))+SUMPRODUCT(ISNUMBER(MATCH(INDIRECT(\"H\"&$A$1&\"!B2:AF2\"),moindimfe,0))*IFERROR(IF(\"19:00\"<=IFERROR(Hgauche,0),IF(durée2<0,0,durée2),\"00:00\"),0))","v":0},{"$f":"SUMPRODUCT(1*IF(durée<0,0,durée))+SUMPRODUCT(1*IFERROR(IF(\"19:00\"<=IFERROR(Hgauche,0),IF(durée2<0,0,durée2),\"00:00\"),0))-durée5","v":0},null,0,{"$f":"VLOOKUP($A38,Bilan!A38:AI86,35,FALSE)","v":0},null,{"$f":"Bilan!AN38","v":{"$error":"#VALUE!"}},65,null,0]
[{"$f":"Données!$H36","v":0},0,0,0,0,0,0,0,0,0,0,0,0,0,0,0,0,0,0,0,0,0,0,0,0,0,0,"00:00:00","00:00:00",null,{"$f":"SUMPRODUCT(ISNUMBER(MATCH(INDIRECT(\"H\"&$A$1&\"!B2:AF2\"),DimFe,0))*IFERROR(IF(\"19:00\">=IFERROR(Hgauche,0),IFERROR(hdroite-Hgauche,0),IF(durée1>0,durée1,\"00:00\")),0))+SUMPRODUCT(ISNUMBER(MATCH(INDIRECT(\"H\"&$A$1&\"!B2:AF2\"),moindimfe,0))*IFERROR(IF(\"19:00\"<=IFERROR(Hgauche,0),IF(durée4<0,0,durée4),\"00:00\"),0))","v":0},{"$f":"SUMPRODUCT(ISNUMBER(MATCH(INDIRECT(\"H\"&$A$1&\"!B2:AF2\"),DimFe,0))*IFERROR(IF(\"19:00\"<=IFERROR(Hgauche,0),IF(durée6<0,0,durée6),IF(durée<0,0,durée)),0))+SUMPRODUCT(ISNUMBER(MATCH(INDIRECT(\"H\"&$A$1&\"!B2:AF2\"),moindimfe,0))*IFERROR(IF(\"19:00\"<=IFERROR(Hgauche,0),IF(durée2<0,0,durée2),\"00:00\"),0))","v":0},{"$f":"SUMPRODUCT(1*IF(durée<0,0,durée))+SUMPRODUCT(1*IFERROR(IF(\"19:00\"<=IFERROR(Hgauche,0),IF(durée2<0,0,durée2),\"00:00\"),0))-durée5","v":0},null,0,{"$f":"VLOOKUP($A39,Bilan!A39:AI87,35,FALSE)","v":0},null,{"$f":"Bilan!AN39","v":{"$error":"#VALUE!"}},65,null,0]
[{"$f":"Données!$H37","v":0},0,0,0,0,0,0,0,0,0,0,0,0,0,0,0,0,0,0,0,0,0,0,0,0,0,0,"00:00:00","00:00:00",null,{"$f":"SUMPRODUCT(ISNUMBER(MATCH(INDIRECT(\"H\"&$A$1&\"!B2:AF2\"),DimFe,0))*IFERROR(IF(\"19:00\">=IFERROR(Hgauche,0),IFERROR(hdroite-Hgauche,0),IF(durée1>0,durée1,\"00:00\")),0))+SUMPRODUCT(ISNUMBER(MATCH(INDIRECT(\"H\"&$A$1&\"!B2:AF2\"),moindimfe,0))*IFERROR(IF(\"19:00\"<=IFERROR(Hgauche,0),IF(durée4<0,0,durée4),\"00:00\"),0))","v":0},{"$f":"SUMPRODUCT(ISNUMBER(MATCH(INDIRECT(\"H\"&$A$1&\"!B2:AF2\"),DimFe,0))*IFERROR(IF(\"19:00\"<=IFERROR(Hgauche,0),IF(durée6<0,0,durée6),IF(durée<0,0,durée)),0))+SUMPRODUCT(ISNUMBER(MATCH(INDIRECT(\"H\"&$A$1&\"!B2:AF2\"),moindimfe,0))*IFERROR(IF(\"19:00\"<=IFERROR(Hgauche,0),IF(durée2<0,0,durée2),\"00:00\"),0))","v":0},{"$f":"SUMPRODUCT(1*IF(durée<0,0,durée))+SUMPRODUCT(1*IFERROR(IF(\"19:00\"<=IFERROR(Hgauche,0),IF(durée2<0,0,durée2),\"00:00\"),0))-durée5","v":0},null,0,{"$f":"VLOOKUP($A40,Bilan!A40:AI88,35,FALSE)","v":0},null,{"$f":"Bilan!AN40","v":{"$error":"#VALUE!"}},65,null,0]
[{"$f":"Données!$H38","v":0},0,0,0,0,0,0,0,0,0,0,0,0,0,0,0,0,0,0,0,0,0,0,0,0,0,0,"00:00:00","00:00:00",null,{"$f":"SUMPRODUCT(ISNUMBER(MATCH(INDIRECT(\"H\"&$A$1&\"!B2:AF2\"),DimFe,0))*IFERROR(IF(\"19:00\">=IFERROR(Hgauche,0),IFERROR(hdroite-Hgauche,0),IF(durée1>0,durée1,\"00:00\")),0))+SUMPRODUCT(ISNUMBER(MATCH(INDIRECT(\"H\"&$A$1&\"!B2:AF2\"),moindimfe,0))*IFERROR(IF(\"19:00\"<=IFERROR(Hgauche,0),IF(durée4<0,0,durée4),\"00:00\"),0))","v":0},{"$f":"SUMPRODUCT(ISNUMBER(MATCH(INDIRECT(\"H\"&$A$1&\"!B2:AF2\"),DimFe,0))*IFERROR(IF(\"19:00\"<=IFERROR(Hgauche,0),IF(durée6<0,0,durée6),IF(durée<0,0,durée)),0))+SUMPRODUCT(ISNUMBER(MATCH(INDIRECT(\"H\"&$A$1&\"!B2:AF2\"),moindimfe,0))*IFERROR(IF(\"19:00\"<=IFERROR(Hgauche,0),IF(durée2<0,0,durée2),\"00:00\"),0))","v":0},{"$f":"SUMPRODUCT(1*IF(durée<0,0,durée))+SUMPRODUCT(1*IFERROR(IF(\"19:00\"<=IFERROR(Hgauche,0),IF(durée2<0,0,durée2),\"00:00\"),0))-durée5","v":0},null,0,{"$f":"VLOOKUP($A41,Bilan!A41:AI89,35,FALSE)","v":0},null,{"$f":"Bilan!AN41","v":{"$error":"#VALUE!"}},65,null,0]
[{"$f":"Données!$H39","v":0},0,0,0,0,0,0,0,0,0,0,0,0,0,0,0,0,0,0,0,0,0,0,0,0,0,0,"00:00:00","00:00:00",null,{"$f":"SUMPRODUCT(ISNUMBER(MATCH(INDIRECT(\"H\"&$A$1&\"!B2:AF2\"),DimFe,0))*IFERROR(IF(\"19:00\">=IFERROR(Hgauche,0),IFERROR(hdroite-Hgauche,0),IF(durée1>0,durée1,\"00:00\")),0))+SUMPRODUCT(ISNUMBER(MATCH(INDIRECT(\"H\"&$A$1&\"!B2:AF2\"),moindimfe,0))*IFERROR(IF(\"19:00\"<=IFERROR(Hgauche,0),IF(durée4<0,0,durée4),\"00:00\"),0))","v":0},{"$f":"SUMPRODUCT(ISNUMBER(MATCH(INDIRECT(\"H\"&$A$1&\"!B2:AF2\"),DimFe,0))*IFERROR(IF(\"19:00\"<=IFERROR(Hgauche,0),IF(durée6<0,0,durée6),IF(durée<0,0,durée)),0))+SUMPRODUCT(ISNUMBER(MATCH(INDIRECT(\"H\"&$A$1&\"!B2:AF2\"),moindimfe,0))*IFERROR(IF(\"19:00\"<=IFERROR(Hgauche,0),IF(durée2<0,0,durée2),\"00:00\"),0))","v":0},{"$f":"SUMPRODUCT(1*IF(durée<0,0,durée))+SUMPRODUCT(1*IFERROR(IF(\"19:00\"<=IFERROR(Hgauche,0),IF(durée2<0,0,durée2),\"00:00\"),0))-durée5","v":0},null,0,{"$f":"VLOOKUP($A42,Bilan!A42:AI90,35,FALSE)","v":0},null,{"$f":"Bilan!AN42","v":{"$error":"#VALUE!"}},65,null,0]
[{"$f":"Données!$H40","v":0},0,0,0,0,0,0,0,0,0,0,0,0,0,0,0,0,0,0,0,0,0,0,0,0,0,0,"00:00:00","00:00:00",null,{"$f":"SUMPRODUCT(ISNUMBER(MATCH(INDIRECT(\"H\"&$A$1&\"!B2:AF2\"),DimFe,0))*IFERROR(IF(\"19:00\">=IFERROR(Hgauche,0),IFERROR(hdroite-Hgauche,0),IF(durée1>0,durée1,\"00:00\")),0))+SUMPRODUCT(ISNUMBER(MATCH(INDIRECT(\"H\"&$A$1&\"!B2:AF2\"),moindimfe,0))*IFERROR(IF(\"19:00\"<=IFERROR(Hgauche,0),IF(durée4<0,0,durée4),\"00:00\"),0))","v":0},{"$f":"SUMPRODUCT(ISNUMBER(MATCH(INDIRECT(\"H\"&$A$1&\"!B2:AF2\"),DimFe,0))*IFERROR(IF(\"19:00\"<=IFERROR(Hgauche,0),IF(durée6<0,0,durée6),IF(durée<0,0,durée)),0))+SUMPRODUCT(ISNUMBER(MATCH(INDIRECT(\"H\"&$A$1&\"!B2:AF2\"),moindimfe,0))*IFERROR(IF(\"19:00\"<=IFERROR(Hgauche,0),IF(durée2<0,0,durée2),\"00:00\"),0))","v":0},{"$f":"SUMPRODUCT(1*IF(durée<0,0,durée))+SUMPRODUCT(1*IFERROR(IF(\"19:00\"<=IFERROR(Hgauche,0),IF(durée2<0,0,durée2),\"00:00\"),0))-durée5","v":0},null,0,{"$f":"VLOOKUP($A43,Bilan!A43:AI91,35,FALSE)","v":0},null,{"$f":"Bilan!AN43","v":{"$error":"#VALUE!"}},65,null,0]
[{"$f":"Données!$H41","v":0},0,0,0,0,0,0,0,0,0,0,0,0,0,0,0,0,0,0,0,0,0,0,0,0,0,0,"00:00:00","00:00:00",null,{"$f":"SUMPRODUCT(ISNUMBER(MATCH(INDIRECT(\"H\"&$A$1&\"!B2:AF2\"),DimFe,0))*IFERROR(IF(\"19:00\">=IFERROR(Hgauche,0),IFERROR(hdroite-Hgauche,0),IF(durée1>0,durée1,\"00:00\")),0))+SUMPRODUCT(ISNUMBER(MATCH(INDIRECT(\"H\"&$A$1&\"!B2:AF2\"),moindimfe,0))*IFERROR(IF(\"19:00\"<=IFERROR(Hgauche,0),IF(durée4<0,0,durée4),\"00:00\"),0))","v":0},{"$f":"SUMPRODUCT(ISNUMBER(MATCH(INDIRECT(\"H\"&$A$1&\"!B2:AF2\"),DimFe,0))*IFERROR(IF(\"19:00\"<=IFERROR(Hgauche,0),IF(durée6<0,0,durée6),IF(durée<0,0,durée)),0))+SUMPRODUCT(ISNUMBER(MATCH(INDIRECT(\"H\"&$A$1&\"!B2:AF2\"),moindimfe,0))*IFERROR(IF(\"19:00\"<=IFERROR(Hgauche,0),IF(durée2<0,0,durée2),\"00:00\"),0))","v":0},{"$f":"SUMPRODUCT(1*IF(durée<0,0,durée))+SUMPRODUCT(1*IFERROR(IF(\"19:00\"<=IFERROR(Hgauche,0),IF(durée2<0,0,durée2),\"00:00\"),0))-durée5","v":0},null,0,{"$f":"VLOOKUP($A44,Bilan!A44:AI92,35,FALSE)","v":0},null,{"$f":"Bilan!AN44","v":{"$error":"#VALUE!"}},65,null,0]
[{"$f":"Données!$H42","v":"Psychologue"}]
[{"$f":"Données!$H43","v":"O"},{"$f":"IF(SUMPRODUCT((INDIRECT(\"'\"&$A$1&\"'!$A$7:$A$56\")=$A46)*(INDIRECT(\"'\"&$A$1&\"'!$B$7:$AF$56\")=B$7))=0,\"\",SUMPRODUCT((INDIRECT(\"'\"&$A$1&\"'!$A$7:$A$56\")=$A46)*(INDIRECT(\"'\"&$A$1&\"'!$B$7:$AF$56\")=B$7)))","v":""},"","","","","","","","","","","","","","","","","","","","","","","","","",{"$f":"VLOOKUP($A46,INDIRECT(\"'\"&$A$1&\"'!$A$7:$AR$56\"),35,0)","v":"00:00:00"},{"$f":"VLOOKUP($A46,INDIRECT(\"'\"&$A$1&\"'!$A$7:$AR$56\"),36,0)","v":"00:00:00"},null,{"$f":"SUMPRODUCT(ISNUMBER(MATCH(INDIRECT(\"H\"&$A$1&\"!B2:AF2\"),DimFe,0))*IFERROR(IF(\"19:00\">=IFERROR(Hgauche,0),IFERROR(hdroite-Hgauche,0),IF(durée1>0,durée1,\"00:00\")),0))+SUMPRODUCT(ISNUMBER(MATCH(INDIRECT(\"H\"&$A$1&\"!B2:AF2\"),moindimfe,0))*IFERROR(IF(\"19:00\"<=IFERROR(Hgauche,0),IF(durée4<0,0,durée4),\"00:00\"),0))","v":0},{"$f":"SUMPRODUCT(ISNUMBER(MATCH(INDIRECT(\"H\"&$A$1&\"!B2:AF2\"),DimFe,0))*IFERROR(IF(\"19:00\"<=IFERROR(Hgauche,0),IF(durée6<0,0,durée6),IF(durée<0,0,durée)),0))+SUMPRODUCT(ISNUMBER(MATCH(INDIRECT(\"H\"&$A$1&\"!B2:AF2\"),moindimfe,0))*IFERROR(IF(\"19:00\"<=IFERROR(Hgauche,0),IF(durée2<0,0,durée2),\"00:00\"),0))","v":0},{"$f":"SUM(SUMPRODUCT(1*IFERROR(IF(\"19:00\"<=IFERROR(Hgauche,0),IF(durée2<0,0,durée2),\"00:00\"),0)),SUMPRODUCT(1*IFERROR(IF(\"19:00\"<=IFERROR(Hgauche,0),IF(durée6<0,0,durée6),\"00:00\"),0)),SUMPRODUCT(1*IFERROR(IF(\"21:00\"<=IFERROR(Hdroitesimple,0),IF(durée<0,0,durée),\"00:00\"),0)))-durée5","v":0},null,{"$f":"bilanh","v":0},{"$f":"VLOOKUP($A46,Bilan!$A$9:$AQ94,37,FALSE)","v":63},null,{"$f":"Bilan!AN46","v":65},65,null,{"$f":"Jourtravaillé","v":0}]
[{"$f":"Données!$H44","v":0},{"$f":"SUMPRODUCT((INDIRECT(\"'\"&$A$1&\"'!$A$7:$A$56\")=$A47)*(INDIRECT(\"'\"&$A$1&\"'!$B$7:$AF$56\")=B$7))","v":0},0,0,0,0,0,0,0,0,0,0,0,0,0,0,0,{"$f":"SUMPRODUCT((INDIRECT(\"'\"&$A$1&\"'!$A$7:$A$56\")=$A47)*(INDIRECT(\"'\"&$A$1&\"'!$B$7:$AF$56\")=R$7))","v":0},0,0,0,0,0,0,0,0,0,{"$f":"VLOOKUP($A47,INDIRECT(\"'H\"&$A$1&\"'!$A$7:$AR$56\"),35,0)","v":"00:00:00"},{"$f":"VLOOKUP($A47,INDIRECT(\"'H\"&$A$1&\"'!$A$7:$AR$56\"),38,0)","v":"00:00:00"},null,{"$f":"SUMPRODUCT(ISNUMBER(MATCH(INDIRECT(\"H\"&$A$1&\"!B2:AF2\"),DimFe,0))*IFERROR(IF(\"19:00\">=IFERROR(Hgauche,0),IFERROR(hdroite-Hgauche,0),IF(durée1>0,durée1,\"00:00\")),0))+SUMPRODUCT(ISNUMBER(MATCH(INDIRECT(\"H\"&$A$1&\"!B2:AF2\"),moindimfe,0))*IFERROR(IF(\"19:00\"<=IFERROR(Hgauche,0),IF(durée4<0,0,durée4),\"00:00\"),0))","v":0},{"$f":"SUMPRODUCT(ISNUMBER(MATCH(INDIRECT(\"H\"&$A$1&\"!B2:AF2\"),DimFe,0))*IFERROR(IF(\"19:00\"<=IFERROR(Hgauche,0),IF(durée6<0,0,durée6),IF(durée<0,0,durée)),0))+SUMPRODUCT(ISNUMBER(MATCH(INDIRECT(\"H\"&$A$1&\"!B2:AF2\"),moindimfe,0))*IFERROR(IF(\"19:00\"<=IFERROR(Hgauche,0),IF(durée2<0,0,durée2),\"00:00\"),0))","v":0},{"$f":"SUMPRODUCT(1*IF(durée<0,0,durée))+SUMPRODUCT(1*IFERROR(IF(\"19:00\"<=IFERROR(Hgauche,0),IF(durée2<0,0,durée2),\"00:00\"),0))-durée5","v":0},null,{"$f":"(AB47/24)+SUMPRODUCT(($B$6:$AA$6)*(B47:AA47))","v":0},{"$f":"VLOOKUP($A47,Bilan!A47:AI95,35,FALSE)","v":0},null,{"$f":"Bilan!AN47","v":65},65,null,{"$f":"SUM(B47:R47)","v":0}]
[{"$f":"Données!$H45","v":0},0,0,0,0,0,0,0,0,0,0,0,0,0,0,0,0,0,0,0,0,0,0,0,0,0,0,{"$f":"VLOOKUP($A48,INDIRECT(\"'H\"&$A$1&\"'!$A$7:$AR$56\"),35,0)","v":"00:00:00"},{"$f":"VLOOKUP($A48,INDIRECT(\"'H\"&$A$1&\"'!$A$7:$AR$56\"),38,0)","v":"00:00:00"},null,{"$f":"SUMPRODUCT(ISNUMBER(MATCH(INDIRECT(\"H\"&$A$1&\"!B2:AF2\"),DimFe,0))*IFERROR(IF(\"19:00\">=IFERROR(Hgauche,0),IFERROR(hdroite-Hgauche,0),IF(durée1>0,durée1,\"00:00\")),0))+SUMPRODUCT(ISNUMBER(MATCH(INDIRECT(\"H\"&$A$1&\"!B2:AF2\"),moindimfe,0))*IFERROR(IF(\"19:00\"<=IFERROR(Hgauche,0),IF(durée4<0,0,durée4),\"00:00\"),0))","v":0},{"$f":"SUMPRODUCT(ISNUMBER(MATCH(INDIRECT(\"H\"&$A$1&\"!B2:AF2\"),DimFe,0))*IFERROR(IF(\"19:00\"<=IFERROR(Hgauche,0),IF(durée6<0,0,durée6),IF(durée<0,0,durée)),0))+SUMPRODUCT(ISNUMBER(MATCH(INDIRECT(\"H\"&$A$1&\"!B2:AF2\"),moindimfe,0))*IFERROR(IF(\"19:00\"<=IFERROR(Hgauche,0),IF(durée2<0,0,durée2),\"00:00\"),0))","v":0},{"$f":"SUMPRODUCT(1*IF(durée<0,0,durée))+SUMPRODUCT(1*IFERROR(IF(\"19:00\"<=IFERROR(Hgauche,0),IF(durée2<0,0,durée2),\"00:00\"),0))-durée5","v":0},null,{"$f":"(AB48/24)+SUMPRODUCT(($B$6:$AA$6)*(B48:AA48))","v":0},{"$f":"VLOOKUP($A48,Bilan!A48:AI96,35,FALSE)","v":0},null,{"$f":"Bilan!AN48","v":{"$error":"#VALUE!"}},65,null,{"$f":"SUM(B48:R48)","v":0}]
[{"$f":"Données!$H46","v":"Coordinatrice"}]
[{"$f":"Données!$H47","v":"P"},{"$f":"IF(SUMPRODUCT((INDIRECT(\"'\"&$A$1&\"'!$A$7:$A$56\")=$A50)*(INDIRECT(\"'\"&$A$1&\"'!$B$7:$AF$56\")=B$7))=0,\"\",SUMPRODUCT((INDIRECT(\"'\"&$A$1&\"'!$A$7:$A$56\")=$A50)*(INDIRECT(\"'\"&$A$1&\"'!$B$7:$AF$56\")=B$7)))","v":""},"","","","","","","","","","","","","","","","","","","","","","","","","",{"$f":"VLOOKUP($A50,INDIRECT(\"'\"&$A$1&\"'!$A$7:$AR$56\"),35,0)","v":"00:00:00"},{"$f":"VLOOKUP($A50,INDIRECT(\"'\"&$A$1&\"'!$A$7:$AR$56\"),36,0)","v":"00:00:00"},null,{"$f":"SUMPRODUCT(ISNUMBER(MATCH(INDIRECT(\"H\"&$A$1&\"!B2:AF2\"),DimFe,0))*IFERROR(IF(\"19:00\">=IFERROR(Hgauche,0),IFERROR(hdroite-Hgauche,0),IF(durée1>0,durée1,\"00:00\")),0))+SUMPRODUCT(ISNUMBER(MATCH(INDIRECT(\"H\"&$A$1&\"!B2:AF2\"),moindimfe,0))*IFERROR(IF(\"19:00\"<=IFERROR(Hgauche,0),IF(durée4<0,0,durée4),\"00:00\"),0))","v":0},{"$f":"SUMPRODUCT(ISNUMBER(MATCH(INDIRECT(\"H\"&$A$1&\"!B2:AF2\"),DimFe,0))*IFERROR(IF(\"19:00\"<=IFERROR(Hgauche,0),IF(durée6<0,0,durée6),IF(durée<0,0,durée)),0))+SUMPRODUCT(ISNUMBER(MATCH(INDIRECT(\"H\"&$A$1&\"!B2:AF2\"),moindimfe,0))*IFERROR(IF(\"19:00\"<=IFERROR(Hgauche,0),IF(durée2<0,0,durée2),\"00:00\"),0))","v":0},{"$f":"SUM(SUMPRODUCT(1*IFERROR(IF(\"19:00\"<=IFERROR(Hgauche,0),IF(durée2<0,0,durée2),\"00:00\"),0)),SUMPRODUCT(1*IFERROR(IF(\"19:00\"<=IFERROR(Hgauche,0),IF(durée6<0,0,durée6),\"00:00\"),0)),SUMPRODUCT(1*IFERROR(IF(\"21:00\"<=IFERROR(Hdroitesimple,0),IF(durée<0,0,durée),\"00:00\"),0)))-durée5","v":0},null,{"$f":"bilanh","v":0},{"$f":"VLOOKUP($A50,Bilan!$A$9:$AQ98,37,FALSE)","v":63},null,{"$f":"Bilan!AN50","v":65},65,null,{"$f":"Jourtravaillé","v":0}]
[{"$f":"Données!$H48","v":0},{"$f":"SUMPRODUCT((INDIRECT(\"'\"&$A$1&\"'!$A$7:$A$56\")=$A51)*(INDIRECT(\"'\"&$A$1&\"'!$B$7:$AF$56\")=B$7))","v":0},0,0,0,0,0,0,0,0,0,0,0,0,0,0,0,{"$f":"SUMPRODUCT((INDIRECT(\"'\"&$A$1&\"'!$A$7:$A$56\")=$A51)*(INDIRECT(\"'\"&$A$1&\"'!$B$7:$AF$56\")=R$7))","v":0},0,0,0,0,0,0,0,0,0,{"$f":"VLOOKUP($A51,INDIRECT(\"'H\"&$A$1&\"'!$A$7:$AR$56\"),35,0)","v":"00:00:00"},{"$f":"VLOOKUP($A51,INDIRECT(\"'H\"&$A$1&\"'!$A$7:$AR$56\"),38,0)","v":"00:00:00"},null,{"$f":"SUMPRODUCT(ISNUMBER(MATCH(INDIRECT(\"H\"&$A$1&\"!B2:AF2\"),DimFe,0))*IFERROR(IF(\"19:00\">=IFERROR(Hgauche,0),IFERROR(hdroite-Hgauche,0),IF(durée1>0,durée1,\"00:00\")),0))+SUMPRODUCT(ISNUMBER(MATCH(INDIRECT(\"H\"&$A$1&\"!B2:AF2\"),moindimfe,0))*IFERROR(IF(\"19:00\"<=IFERROR(Hgauche,0),IF(durée4<0,0,durée4),\"00:00\"),0))","v":0},{"$f":"SUMPRODUCT(ISNUMBER(MATCH(INDIRECT(\"H\"&$A$1&\"!B2:AF2\"),DimFe,0))*IFERROR(IF(\"19:00\"<=IFERROR(Hgauche,0),IF(durée6<0,0,durée6),IF(durée<0,0,durée)),0))+SUMPRODUCT(ISNUMBER(MATCH(INDIRECT(\"H\"&$A$1&\"!B2:AF2\"),moindimfe,0))*IFERROR(IF(\"19:00\"<=IFERROR(Hgauche,0),IF(durée2<0,0,durée2),\"00:00\"),0))","v":0},{"$f":"SUMPRODUCT(1*IF(durée<0,0,durée))+SUMPRODUCT(1*IFERROR(IF(\"19:00\"<=IFERROR(Hgauche,0),IF(durée2<0,0,durée2),\"00:00\"),0))-durée5","v":0},null,{"$f":"(AB51/24)+SUMPRODUCT(($B$6:$AA$6)*(B51:AA51))","v":0},{"$f":"VLOOKUP($A51,Bilan!A51:AI99,35,FALSE)","v":0},null,{"$f":"Bilan!AN51","v":66},65,null,{"$f":"SUM(B51:R51)","v":0}]
[{"$f":"Données!$H49","v":0},0,0,0,0,0,0,0,0,0,0,0,0,0,0,0,0,0,0,0,0,0,0,0,0,0,0,{"$f":"VLOOKUP($A52,INDIRECT(\"'H\"&$A$1&\"'!$A$7:$AR$56\"),35,0)","v":"00:00:00"},{"$f":"VLOOKUP($A52,INDIRECT(\"'H\"&$A$1&\"'!$A$7:$AR$56\"),38,0)","v":"00:00:00"},null,{"$f":"SUMPRODUCT(ISNUMBER(MATCH(INDIRECT(\"H\"&$A$1&\"!B2:AF2\"),DimFe,0))*IFERROR(IF(\"19:00\">=IFERROR(Hgauche,0),IFERROR(hdroite-Hgauche,0),IF(durée1>0,durée1,\"00:00\")),0))+SUMPRODUCT(ISNUMBER(MATCH(INDIRECT(\"H\"&$A$1&\"!B2:AF2\"),moindimfe,0))*IFERROR(IF(\"19:00\"<=IFERROR(Hgauche,0),IF(durée4<0,0,durée4),\"00:00\"),0))","v":0},{"$f":"SUMPRODUCT(ISNUMBER(MATCH(INDIRECT(\"H\"&$A$1&\"!B2:AF2\"),DimFe,0))*IFERROR(IF(\"19:00\"<=IFERROR(Hgauche,0),IF(durée6<0,0,durée6),IF(durée<0,0,durée)),0))+SUMPRODUCT(ISNUMBER(MATCH(INDIRECT(\"H\"&$A$1&\"!B2:AF2\"),moindimfe,0))*IFERROR(IF(\"19:00\"<=IFERROR(Hgauche,0),IF(durée2<0,0,durée2),\"00:00\"),0))","v":0},{"$f":"SUMPRODUCT(1*IF(durée<0,0,durée))+SUMPRODUCT(1*IFERROR(IF(\"19:00\"<=IFERROR(Hgauche,0),IF(durée2<0,0,durée2),\"00:00\"),0))-durée5","v":0},null,{"$f":"(AB52/24)+SUMPRODUCT(($B$6:$AA$6)*(B52:AA52))","v":0},{"$f":"VLOOKUP($A52,Bilan!A52:AI100,35,FALSE)","v":0},null,{"$f":"Bilan!AN52","v":{"$error":"#VALUE!"}},66,null,{"$f":"SUM(B52:R52)","v":0}]
[{"$f":"Données!$H50","v":0},0,0,0,0,0,0,0,0,0,0,0,0,0,0,0,0,0,0,0,0,0,0,0,0,0,0,{"$f":"VLOOKUP($A53,INDIRECT(\"'H\"&$A$1&\"'!$A$7:$AR$56\"),35,0)","v":"00:00:00"},{"$f":"VLOOKUP($A53,INDIRECT(\"'H\"&$A$1&\"'!$A$7:$AR$56\"),38,0)","v":"00:00:00"},null,{"$f":"SUMPRODUCT(ISNUMBER(MATCH(INDIRECT(\"H\"&$A$1&\"!B2:AF2\"),DimFe,0))*IFERROR(IF(\"19:00\">=IFERROR(Hgauche,0),IFERROR(hdroite-Hgauche,0),IF(durée1>0,durée1,\"00:00\")),0))+SUMPRODUCT(ISNUMBER(MATCH(INDIRECT(\"H\"&$A$1&\"!B2:AF2\"),moindimfe,0))*IFERROR(IF(\"19:00\"<=IFERROR(Hgauche,0),IF(durée4<0,0,durée4),\"00:00\"),0))","v":0},{"$f":"SUMPRODUCT(ISNUMBER(MATCH(INDIRECT(\"H\"&$A$1&\"!B2:AF2\"),DimFe,0))*IFERROR(IF(\"19:00\"<=IFERROR(Hgauche,0),IF(durée6<0,0,durée6),IF(durée<0,0,durée)),0))+SUMPRODUCT(ISNUMBER(MATCH(INDIRECT(\"H\"&$A$1&\"!B2:AF2\"),moindimfe,0))*IFERROR(IF(\"19:00\"<=IFERROR(Hgauche,0),IF(durée2<0,0,durée2),\"00:00\"),0))","v":0},{"$f":"SUMPRODUCT(1*IF(durée<0,0,durée))+SUMPRODUCT(1*IFERROR(IF(\"19:00\"<=IFERROR(Hgauche,0),IF(durée2<0,0,durée2),\"00:00\"),0))-durée5","v":0},null,{"$f":"(AB53/24)+SUMPRODUCT(($B$6:$AA$6)*(B53:AA53))","v":0},{"$f":"VLOOKUP($A53,Bilan!A53:AI101,35,FALSE)","v":0},null,{"$f":"Bilan!AN53","v":{"$error":"#VALUE!"}},67,null,{"$f":"SUM(B53:R53)","v":0}]
[{"$f":"Données!$H51","v":0},0,0,0,0,0,0,0,0,0,0,0,0,0,0,0,0,0,0,0,0,0,0,0,0,0,0,{"$f":"VLOOKUP($A54,INDIRECT(\"'H\"&$A$1&\"'!$A$7:$AR$56\"),35,0)","v":"00:00:00"},{"$f":"VLOOKUP($A54,INDIRECT(\"'H\"&$A$1&\"'!$A$7:$AR$56\"),38,0)","v":"00:00:00"},null,{"$f":"SUMPRODUCT(ISNUMBER(MATCH(INDIRECT(\"H\"&$A$1&\"!B2:AF2\"),DimFe,0))*IFERROR(IF(\"19:00\">=IFERROR(Hgauche,0),IFERROR(hdroite-Hgauche,0),IF(durée1>0,durée1,\"00:00\")),0))+SUMPRODUCT(ISNUMBER(MATCH(INDIRECT(\"H\"&$A$1&\"!B2:AF2\"),moindimfe,0))*IFERROR(IF(\"19:00\"<=IFERROR(Hgauche,0),IF(durée4<0,0,durée4),\"00:00\"),0))","v":0},{"$f":"SUMPRODUCT(ISNUMBER(MATCH(INDIRECT(\"H\"&$A$1&\"!B2:AF2\"),DimFe,0))*IFERROR(IF(\"19:00\"<=IFERROR(Hgauche,0),IF(durée6<0,0,durée6),IF(durée<0,0,durée)),0))+SUMPRODUCT(ISNUMBER(MATCH(INDIRECT(\"H\"&$A$1&\"!B2:AF2\"),moindimfe,0))*IFERROR(IF(\"19:00\"<=IFERROR(Hgauche,0),IF(durée2<0,0,durée2),\"00:00\"),0))","v":0},{"$f":"SUMPRODUCT(1*IF(durée<0,0,durée))+SUMPRODUCT(1*IFERROR(IF(\"19:00\"<=IFERROR(Hgauche,0),IF(durée2<0,0,durée2),\"00:00\"),0))-durée5","v":0},null,{"$f":"(AB54/24)+SUMPRODUCT(($B$6:$AA$6)*(B54:AA54))","v":0},{"$f":"VLOOKUP($A54,Bilan!A54:AI102,35,FALSE)","v":0},null,{"$f":"Bilan!AN54","v":{"$error":"#VALUE!"}},68,null,{"$f":"SUM(B54:R54)","v":0}]
[{"$f":"Données!$H52","v":"Chef de service"}]
[{"$f":"Données!$H53","v":"Q"},{"$f":"IF(SUMPRODUCT((INDIRECT(\"'\"&$A$1&\"'!$A$7:$A$56\")=$A56)*(INDIRECT(\"'\"&$A$1&\"'!$B$7:$AF$56\")=B$7))=0,\"\",SUMPRODUCT((INDIRECT(\"'\"&$A$1&\"'!$A$7:$A$56\")=$A56)*(INDIRECT(\"'\"&$A$1&\"'!$B$7:$AF$56\")=B$7)))","v":""},"","","","","","","","","","","","","","","","","","","","","","","","","",{"$f":"VLOOKUP($A56,INDIRECT(\"'\"&$A$1&\"'!$A$7:$AR$56\"),35,0)","v":"00:00:00"},{"$f":"VLOOKUP($A56,INDIRECT(\"'\"&$A$1&\"'!$A$7:$AR$56\"),36,0)","v":"00:00:00"},null,{"$f":"SUMPRODUCT(ISNUMBER(MATCH(INDIRECT(\"H\"&$A$1&\"!B2:AF2\"),DimFe,0))*IFERROR(IF(\"19:00\">=IFERROR(Hgauche,0),IFERROR(hdroite-Hgauche,0),IF(durée1>0,durée1,\"00:00\")),0))+SUMPRODUCT(ISNUMBER(MATCH(INDIRECT(\"H\"&$A$1&\"!B2:AF2\"),moindimfe,0))*IFERROR(IF(\"19:00\"<=IFERROR(Hgauche,0),IF(durée4<0,0,durée4),\"00:00\"),0))","v":0},{"$f":"SUMPRODUCT(ISNUMBER(MATCH(INDIRECT(\"H\"&$A$1&\"!B2:AF2\"),DimFe,0))*IFERROR(IF(\"19:00\"<=IFERROR(Hgauche,0),IF(durée6<0,0,durée6),IF(durée<0,0,durée)),0))+SUMPRODUCT(ISNUMBER(MATCH(INDIRECT(\"H\"&$A$1&\"!B2:AF2\"),moindimfe,0))*IFERROR(IF(\"19:00\"<=IFERROR(Hgauche,0),IF(durée2<0,0,durée2),\"00:00\"),0))","v":0},{"$f":"SUM(SUMPRODUCT(1*IFERROR(IF(\"19:00\"<=IFERROR(Hgauche,0),IF(durée2<0,0,durée2),\"00:00\"),0)),SUMPRODUCT(1*IFERROR(IF(\"19:00\"<=IFERROR(Hgauche,0),IF(durée6<0,0,durée6),\"00:00\"),0)),SUMPRODUCT(1*IFERROR(IF(\"21:00\"<=IFERROR(Hdroitesimple,0),IF(durée<0,0,durée),\"00:00\"),0)))-durée5","v":0},null,{"$f":"bilanh","v":0},{"$f":"VLOOKUP($A56,Bilan!$A$9:$AQ104,37,FALSE)","v":63},null,{"$f":"Bilan!AN56","v":65},65,null,{"$f":"Jourtravaillé","v":0}]

{"sheet":"Bilan","index":38,"n_rows":56,"n_cols":43,"rows_kept":56,"cut":false,"hidden":false,"merged":[[6,34,6,36],[7,39,7,40],[6,28,7,28],[6,27,7,27],[6,30,7,30],[6,32,7,32],[6,31,7,31]]}
["Bilan"]
[]
[]
[]
["Bilan"]
["Jours",{"$f":"Données!$E3","v":0.31597222222222227},{"$f":"Données!$E4","v":0.10763888888888884},{"$f":"Données!$E5","v":0.31249999999999994},{"$f":"Données!$E6","v":0.32291666666666669},{"$f":"Données!$E7","v":8.3333333333333315E-2},{"$f":"Données!$E8","v":0.47916666666666669},{"$f":"Données!$E9","v":0.3125},{"$f":"Données!$E10","v":0.48958333333333337},{"$f":"Données!$E11","v":0.47916666666666669},{"$f":"Données!$E12","v":0.51041666666666674},{"$f":"Données!$E13","v":0.51041666666666674},{"$f":"Données!$E14","v":0.44791666666666663},{"$f":"Données!$E15","v":0.49999999999999989},{"$f":"Données!$E16","v":0.49999999999999989},{"$f":"Données!$E17","v":0.5},{"$f":"Données!$E18","v":0.29166666666666669},{"$f":"Données!$E19","v":0.3125},{"$f":"Données!$E20","v":0.3125},{"$f":"Données!$E21","v":0.3125},{"$f":"Données!$E22","v":0.3125},{"$f":"Données!$E23","v":0.3125},{"$f":"Données!$E24","v":0},{"$f":"Données!$E25","v":0},{"$f":"Données!$E26","v":0},{"$f":"Données!$E27","v":0.33333333333333331},{"$f":"Données!$E28","v":0}]
[null,{"$f":"Données!$A3","v":"M"},{"$f":"Données!$A4","v":"MG"},{"$f":"Données!$A5","v":"J"},{"$f":"Données!$A6","v":"J+"},{"$f":"Données!$A7","v":"R"},{"$f":"Données!$A8","v":"RS"},{"$f":"Données!$A9","v":"S"},{"$f":"Données!$A10","v":"W"},{"$f":"Données!$A11","v":"W+"},{"$f":"Données!$A12","v":"WD"},{"$f":"Données!$A13","v":"WF"},{"$f":"Données!$A14","v":"N"},{"$f":"Données!$A15","v":"N+"},{"$f":"Données!$A16","v":"NS"},{"$f":"Données!$A17","v":"T"},{"$f":"Données!$A18","v":"F"},{"$f":"Données!$A19","v":"SYN"},{"$f":"Données!$A20","v":"AT"},{"$f":"Données!$A21","v":"AM"},{"$f":"Données!$A22","v":"EM"},{"$f":"Données!$A23","v":"CE"},{"$f":"Données!$A24","v":"CA"},{"$f":"Données!$A25","v":"CA16"},{"$f":"Données!$A26","v":"REC"},{"$f":"Données!$A27","v":"PL"},{"$f":"Données!$A28","v":"D"},"Heure supp ","Heures Année passé",null,"Heures dimanche","Heures de nuit dimanche","Heures apres 21 h",null,"Total "]
["Equipe de jour",{"$f":"IF(ISBLANK(Données!$C3),TEXT(Données!$B3,\"hh:mm\"),TEXT(Données!$B3,\"hh:mm\")&\" : \"&TEXT(Données!$C3,\"hh:mm\"))","v":"07:00 : 14:35"},{"$f":"IF(ISBLANK(Données!$C4),TEXT(Données!$B4,\"hh:mm\"),TEXT(Données!$B4,\"hh:mm\")&\" : \"&TEXT(Données!$C4,\"hh:mm\"))","v":"23:00 : 01:35"},{"$f":"IF(ISBLANK(Données!$C5),TEXT(Données!$B5,\"hh:mm\"),TEXT(Données!$B5,\"hh:mm\")&\" : \"&TEXT(Données!$C5,\"hh:mm\"))","v":"10:00 : 17:30"},{"$f":"IF(ISBLANK(Données!$C6),TEXT(Données!$B6,\"hh:mm\"),TEXT(Données!$B6,\"hh:mm\")&\" : \"&TEXT(Données!$C6,\"hh:mm\"))","v":"11:30 : 19:15"},{"$f":"IF(ISBLANK(Données!$C7),TEXT(Données!$B7,\"hh:mm\"),TEXT(Données!$B7,\"hh:mm\")&\" : \"&TEXT(Données!$C7,\"hh:mm\"))","v":"10:00 : 12:00"},{"$f":"IF(ISBLANK(Données!$C8),TEXT(Données!$B8,\"hh:mm\"),TEXT(Données!$B8,\"hh:mm\")&\" : \"&TEXT(Données!$C8,\"hh:mm\"))","v":"10:00 : 21:30"},{"$f":"IF(ISBLANK(Données!$C9),TEXT(Données!$B9,\"hh:mm\"),TEXT(Données!$B9,\"hh:mm\")&\" : \"&TEXT(Données!$C9,\"hh:mm\"))","v":"14:00 : 21:30"},{"$f":"IF(ISBLANK(Données!$C10),TEXT(Données!$B10,\"hh:mm\"),TEXT(Données!$B10,\"hh:mm\")&\" : \"&TEXT(Données!$C10,\"hh:mm\"))","v":"07:30 : 19:15"},{"$f":"IF(ISBLANK(Données!$C11),TEXT(Données!$B11,\"hh:mm\"),TEXT(Données!$B11,\"hh:mm\")&\" : \"&TEXT(Données!$C11,\"hh:mm\"))","v":"10:00 : 21:30"},{"$f":"IF(ISBLANK(Données!$C12),TEXT(Données!$B12,\"hh:mm\"),TEXT(Données!$B12,\"hh:mm\")&\" : \"&TEXT(Données!$C12,\"hh:mm\"))","v":"07:00 : 19:15"},{"$f":"IF(ISBLANK(Données!$C13),TEXT(Données!$B13,\"hh:mm\"),TEXT(Données!$B13,\"hh:mm\")&\" : \"&TEXT(Données!$C13,\"hh:mm\"))","v":"07:00 : 19:15"},{"$f":"IF(ISBLANK(Données!$C14),TEXT(Données!$B14,\"hh:mm\"),TEXT(Données!$B14,\"hh:mm\")&\" : \"&TEXT(Données!$C14,\"hh:mm\"))","v":"20:30 : 07:15"},{"$f":"IF(ISBLANK(Données!$C15),TEXT(Données!$B15,\"hh:mm\"),TEXT(Données!$B15,\"hh:mm\")&\" : \"&TEXT(Données!$C15,\"hh:mm\"))","v":"19:15 : 07:15"},{"$f":"IF(ISBLANK(Données!$C16),TEXT(Données!$B16,\"hh:mm\"),TEXT(Données!$B16,\"hh:mm\")&\" : \"&TEXT(Données!$C16,\"hh:mm\"))","v":"19:15 : 07:15"},{"$f":"IF(ISBLANK(Données!$C17),TEXT(Données!$B17,\"hh:mm\"),TEXT(Données!$B17,\"hh:mm\")&\" : \"&TEXT(Données!$C17,\"hh:mm\"))","v":"T"},{"$f":"IF(ISBLANK(Données!$C18),TEXT(Données!$B18,\"hh:mm\"),TEXT(Données!$B18,\"hh:mm\")&\" : \"&TEXT(Données!$C18,\"hh:mm\"))","v":"F"},{"$f":"IF(ISBLANK(Données!$C19),TEXT(Données!$B19,\"hh:mm\"),TEXT(Données!$B19,\"hh:mm\")&\" : \"&TEXT(Données!$C19,\"hh:mm\"))","v":"Syn"},{"$f":"IF(ISBLANK(Données!$C20),TEXT(Données!$B20,\"hh:mm\"),TEXT(Données!$B20,\"hh:mm\")&\" : \"&TEXT(Données!$C20,\"hh:mm\"))","v":"AT"},{"$f":"IF(ISBLANK(Données!$C21),TEXT(Données!$B21,\"hh:mm\"),TEXT(Données!$B21,\"hh:mm\")&\" : \"&TEXT(Données!$C21,\"hh:mm\"))","v":"AM"},{"$f":"IF(ISBLANK(Données!$C22),TEXT(Données!$B22,\"hh:mm\"),TEXT(Données!$B22,\"hh:mm\")&\" : \"&TEXT(Données!$C22,\"hh:mm\"))","v":"EM"},{"$f":"IF(ISBLANK(Données!$C23),TEXT(Données!$B23,\"hh:mm\"),TEXT(Données!$B23,\"hh:mm\")&\" : \"&TEXT(Données!$C23,\"hh:mm\"))","v":"CE"},{"$f":"IF(ISBLANK(Données!$C24),TEXT(Données!$B24,\"hh:mm\"),TEXT(Données!$B24,\"hh:mm\")&\" : \"&TEXT(Données!$C24,\"hh:mm\"))","v":"CA"},{"$f":"IF(ISBLANK(Données!$C25),TEXT(Données!$B25,\"hh:mm\"),TEXT(Données!$B25,\"hh:mm\")&\" : \"&TEXT(Données!$C25,\"hh:mm\"))","v":"CA16"},{"$f":"IF(ISBLANK(Données!$C26),TEXT(Données!$B26,\"hh:mm\"),TEXT(Données!$B26,\"hh:mm\")&\" : \"&TEXT(Données!$C26,\"hh:mm\"))","v":"REC"},{"$f":"IF(ISBLANK(Données!$C27),TEXT(Données!$B27,\"hh:mm\"),TEXT(Données!$B27,\"hh:mm\")&\" : \"&TEXT(Données!$C27,\"hh:mm\"))","v":"PL"},{"$f":"IF(ISBLANK(Données!$C28),TEXT(Données!$B28,\"hh:mm\"),TEXT(Données!$B28,\"hh:mm\")&\" : \"&TEXT(Données!$C28,\"hh:mm\"))","v":"D"},null,null,null,null,null,null,null,"Effectuées"," Sur","Restant",null,null,"CA",null,null,"Jour travailler"]
[{"$f":"Données!$H6","v":"A"},{"$f":"IF(SUM(BJanvier!B9)=0,\"\",SUM(BJanvier!B9))","v":""},{"$f":"IF(SUM(BJanvier!C9)=0,\"\",SUM(BJanvier!C9))","v":""},{"$f":"IF(SUM(BJanvier!D9)=0,\"\",SUM(BJanvier!D9))","v":""},{"$f":"IF(SUM(BJanvier!E9)=0,\"\",SUM(BJanvier!E9))","v":""},{"$f":"IF(SUM(BJanvier!F9)=0,\"\",SUM(BJanvier!F9))","v":""},{"$f":"IF(SUM(BJanvier!G9)=0,\"\",SUM(BJanvier!G9))","v":""},{"$f":"IF(SUM(BJanvier!H9)=0,\"\",SUM(BJanvier!H9))","v":""},{"$f":"IF(SUM(BJanvier!I9)=0,\"\",SUM(BJanvier!I9))","v":""},{"$f":"IF(SUM(BJanvier!J9)=0,\"\",SUM(BJanvier!J9))","v":""},{"$f":"IF(SUM(BJanvier!K9)=0,\"\",SUM(BJanvier!K9))","v":""},{"$f":"IF(SUM(BJanvier!L9)=0,\"\",SUM(BJanvier!L9))","v":""},{"$f":"IF(SUM(BJanvier!M9)=0,\"\",SUM(BJanvier!M9))","v":""},{"$f":"IF(SUM(BJanvier!N9)=0,\"\",SUM(BJanvier!N9))","v":""},{"$f":"IF(SUM(BJanvier!O9)=0,\"\",SUM(BJanvier!O9))","v":""},{"$f":"IF(SUM(BJanvier!P9)=0,\"\",SUM(BJanvier!P9))","v":""},{"$f":"IF(SUM(BJanvier!Q9)=0,\"\",SUM(BJanvier!Q9))","v":""},{"$f":"IF(SUM(BJanvier!R9)=0,\"\",SUM(BJanvier!R9))","v":""},{"$f":"IF(SUM(BJanvier!S9)=0,\"\",SUM(BJanvier!S9))","v":""},{"$f":"IF(SUM(BJanvier!T9)=0,\"\",SUM(BJanvier!T9))","v":""},{"$f":"IF(SUM(BJanvier!U9)=0,\"\",SUM(BJanvier!U9))","v":""},{"$f":"IF(SUM(BJanvier!V9)=0,\"\",SUM(BJanvier!V9))","v":""},{"$f":"IF(SUM(BJanvier!W9)=0,\"\",SUM(BJanvier!W9))","v":""},{"$f":"IF(SUM(BJanvier!X9)=0,\"\",SUM(BJanvier!X9))","v":""},{"$f":"IF(SUM(BJanvier!Y9)=0,\"\",SUM(BJanvier!Y9))","v":""},{"$f":"IF(SUM(BJanvier!Z9)=0,\"\",SUM(BJanvier!Z9))","v":""},{"$f":"IF(SUM(BJanvier!AA9)=0,\"\",SUM(BJanvier!AA9))","v":""},{"$f":"SUM(BJanvier!AB9)","v":0},{"$f":"Janvier!AS9","v":0},null,{"$f":"SUM(BJanvier!AE9)","v":0},{"$f":"SUM(BJanvier!AF9)","v":0},{"$f":"SUM(BJanvier!AG9)","v":0},null,{"$f":"bilanh","v":0},{"$f":"Données!$J6","v":59.5},{"$f":"($AJ9)-$AI9","v":59.5},null,null,{"$f":"IFERROR($AO9-INDEX($A$9:$AA$55,MATCH($A8,$A$8:$A$54,0),MATCH(\"CA\",$A$8:$AA$8,0)),65)","v":65},65,null,{"$f":"Jourtravaillé","v":0}]
[{"$f":"Données!$H7","v":0},{"$f":"IF(SUM(BJanvier!B10)=0,\"\",SUM(BJanvier!B10))","v":""},{"$f":"IF(SUM(BJanvier!C10)=0,\"\",SUM(BJanvier!C10))","v":""},{"$f":"IF(SUM(BJanvier!D10)=0,\"\",SUM(BJanvier!D10))","v":""},{"$f":"IF(SUM(BJanvier!E10)=0,\"\",SUM(BJanvier!E10))","v":""},{"$f":"IF(SUM(BJanvier!F10)=0,\"\",SUM(BJanvier!F10))","v":""},{"$f":"IF(SUM(BJanvier!G10)=0,\"\",SUM(BJanvier!G10))","v":""},{"$f":"IF(SUM(BJanvier!H10)=0,\"\",SUM(BJanvier!H10))","v":""},{"$f":"IF(SUM(BJanvier!I10)=0,\"\",SUM(BJanvier!I10))","v":""},{"$f":"IF(SUM(BJanvier!J10)=0,\"\",SUM(BJanvier!J10))","v":""},{"$f":"IF(SUM(BJanvier!K10)=0,\"\",SUM(BJanvier!K10))","v":""},{"$f":"IF(SUM(BJanvier!L10)=0,\"\",SUM(BJanvier!L10))","v":""},{"$f":"IF(SUM(BJanvier!M10)=0,\"\",SUM(BJanvier!M10))","v":""},{"$f":"IF(SUM(BJanvier!N10)=0,\"\",SUM(BJanvier!N10))","v":""},{"$f":"IF(SUM(BJanvier!O10)=0,\"\",SUM(BJanvier!O10))","v":""},{"$f":"IF(SUM(BJanvier!P10)=0,\"\",SUM(BJanvier!P10))","v":""},{"$f":"IF(SUM(BJanvier!Q10)=0,\"\",SUM(BJanvier!Q10))","v":""},{"$f":"IF(SUM(BJanvier!R10)=0,\"\",SUM(BJanvier!R10))","v":""},{"$f":"IF(SUM(BJanvier!S10)=0,\"\",SUM(BJanvier!S10))","v":""},{"$f":"IF(SUM(BJanvier!T10)=0,\"\",SUM(BJanvier!T10))","v":""},{"$f":"IF(SUM(BJanvier!U10)=0,\"\",SUM(BJanvier!U10))","v":""},{"$f":"IF(SUM(BJanvier!V10)=0,\"\",SUM(BJanvier!V10))","v":""},null,{"$f":"IF(SUM(BJanvier!X10)=0,\"\",SUM(BJanvier!X10))","v":""},{"$f":"IF(SUM(BJanvier!Y10)=0,\"\",SUM(BJanvier!Y10))","v":""},{"$f":"IF(SUM(BJanvier!Z10)=0,\"\",SUM(BJanvier!Z10))","v":""},{"$f":"IF(SUM(BJanvier!AA10)=0,\"\",SUM(BJanvier!AA10))","v":""},{"$f":"SUM(BJanvier!AB10)","v":0},{"$f":"Janvier!AS10","v":0},null,{"$f":"SUM(BJanvier!AE10)","v":0},{"$f":"SUM(BJanvier!AF10)","v":0},{"$f":"SUM(BJanvier!AG10)","v":0},null,{"$f":"bilanh","v":0},{"$f":"Données!$J7","v":59.5},{"$f":"($AJ10)-$AI10","v":59.5},null,null,{"$f":"IFERROR($AO10-INDEX($A$9:$AA$55,MATCH($A9,$A$8:$A$54,0),MATCH(\"CA\",$A$8:$AA$8,0)),65)","v":65},65,null,0]
[{"$f":"Données!$H8","v":0},{"$f":"IF(SUM(BJanvier!B11)=0,\"\",SUM(BJanvier!B11))","v":""},{"$f":"IF(SUM(BJanvier!C11)=0,\"\",SUM(BJanvier!C11))","v":""},{"$f":"IF(SUM(BJanvier!D11)=0,\"\",SUM(BJanvier!D11))","v":""},{"$f":"IF(SUM(BJanvier!E11)=0,\"\",SUM(BJanvier!E11))","v":""},{"$f":"IF(SUM(BJanvier!F11)=0,\"\",SUM(BJanvier!F11))","v":""},{"$f":"IF(SUM(BJanvier!G11)=0,\"\",SUM(BJanvier!G11))","v":""},{"$f":"IF(SUM(BJanvier!H11)=0,\"\",SUM(BJanvier!H11))","v":""},{"$f":"IF(SUM(BJanvier!I11)=0,\"\",SUM(BJanvier!I11))","v":""},{"$f":"IF(SUM(BJanvier!J11)=0,\"\",SUM(BJanvier!J11))","v":""},{"$f":"IF(SUM(BJanvier!K11)=0,\"\",SUM(BJanvier!K11))","v":""},{"$f":"IF(SUM(BJanvier!L11)=0,\"\",SUM(BJanvier!L11))","v":""},{"$f":"IF(SUM(BJanvier!M11)=0,\"\",SUM(BJanvier!M11))","v":""},{"$f":"IF(SUM(BJanvier!N11)=0,\"\",SUM(BJanvier!N11))","v":""},{"$f":"IF(SUM(BJanvier!O11)=0,\"\",SUM(BJanvier!O11))","v":""},{"$f":"IF(SUM(BJanvier!P11)=0,\"\",SUM(BJanvier!P11))","v":""},{"$f":"IF(SUM(BJanvier!Q11)=0,\"\",SUM(BJanvier!Q11))","v":""},{"$f":"IF(SUM(BJanvier!R11)=0,\"\",SUM(BJanvier!R11))","v":""},{"$f":"IF(SUM(BJanvier!S11)=0,\"\",SUM(BJanvier!S11))","v":""},{"$f":"IF(SUM(BJanvier!T11)=0,\"\",SUM(BJanvier!T11))","v":""},{"$f":"IF(SUM(BJanvier!U11)=0,\"\",SUM(BJanvier!U11))","v":""},{"$f":"IF(SUM(BJanvier!V11)=0,\"\",SUM(BJanvier!V11))","v":""},{"$f":"IF(SUM(BJanvier!W11)=0,\"\",SUM(BJanvier!W11))","v":""},{"$f":"IF(SUM(BJanvier!X11)=0,\"\",SUM(BJanvier!X11))","v":""},{"$f":"IF(SUM(BJanvier!Y11)=0,\"\",SUM(BJanvier!Y11))","v":""},{"$f":"IF(SUM(BJanvier!Z11)=0,\"\",SUM(BJanvier!Z11))","v":""},{"$f":"IF(SUM(BJanvier!AA11)=0,\"\",SUM(BJanvier!AA11))","v":""},{"$f":"SUM(BJanvier!AB11)","v":0},{"$f":"Janvier!AS11","v":0},null,{"$f":"SUM(BJanvier!AE11)","v":0},{"$f":"SUM(BJanvier!AF11)","v":0},{"$f":"SUM(BJanvier!AG11)","v":0},null,0,{"$f":"Données!$J8","v":59.5},59.5,null,null,65,65,null,0]
[{"$f":"Données!$H9","v":0},{"$f":"IF(SUM(BJanvier!B12)=0,\"\",SUM(BJanvier!B12))","v":""},{"$f":"IF(SUM(BJanvier!C12)=0,\"\",SUM(BJanvier!C12))","v":""},{"$f":"IF(SUM(BJanvier!D12)=0,\"\",SUM(BJanvier!D12))","v":""},{"$f":"IF(SUM(BJanvier!E12)=0,\"\",SUM(BJanvier!E12))","v":""},{"$f":"IF(SUM(BJanvier!F12)=0,\"\",SUM(BJanvier!F12))","v":""},{"$f":"IF(SUM(BJanvier!G12)=0,\"\",SUM(BJanvier!G12))","v":""},{"$f":"IF(SUM(BJanvier!H12)=0,\"\",SUM(BJanvier!H12))","v":""},{"$f":"IF(SUM(BJanvier!I12)=0,\"\",SUM(BJanvier!I12))","v":""},{"$f":"IF(SUM(BJanvier!J12)=0,\"\",SUM(BJanvier!J12))","v":""},{"$f":"IF(SUM(BJanvier!K12)=0,\"\",SUM(BJanvier!K12))","v":""},{"$f":"IF(SUM(BJanvier!L12)=0,\"\",SUM(BJanvier!L12))","v":""},{"$f":"IF(SUM(BJanvier!M12)=0,\"\",SUM(BJanvier!M12))","v":""},{"$f":"IF(SUM(BJanvier!N12)=0,\"\",SUM(BJanvier!N12))","v":""},{"$f":"IF(SUM(BJanvier!O12)=0,\"\",SUM(BJanvier!O12))","v":""},{"$f":"IF(SUM(BJanvier!P12)=0,\"\",SUM(BJanvier!P12))","v":""},{"$f":"IF(SUM(BJanvier!Q12)=0,\"\",SUM(BJanvier!Q12))","v":""},{"$f":"IF(SUM(BJanvier!R12)=0,\"\",SUM(BJanvier!R12))","v":""},{"$f":"IF(SUM(BJanvier!S12)=0,\"\",SUM(BJanvier!S12))","v":""},{"$f":"IF(SUM(BJanvier!T12)=0,\"\",SUM(BJanvier!T12))","v":""},{"$f":"IF(SUM(BJanvier!U12)=0,\"\",SUM(BJanvier!U12))","v":""},{"$f":"IF(SUM(BJanvier!V12)=0,\"\",SUM(BJanvier!V12))","v":""},{"$f":"IF(SUM(BJanvier!W12)=0,\"\",SUM(BJanvier!W12))","v":""},{"$f":"IF(SUM(BJanvier!X12)=0,\"\",SUM(BJanvier!X12))","v":""},{"$f":"IF(SUM(BJanvier!Y12)=0,\"\",SUM(BJanvier!Y12))","v":""},{"$f":"IF(SUM(BJanvier!Z12)=0,\"\",SUM(BJanvier!Z12))","v":""},{"$f":"IF(SUM(BJanvier!AA12)=0,\"\",SUM(BJanvier!AA12))","v":""},{"$f":"SUM(BJanvier!AB12)","v":0},{"$f":"Janvier!AS12","v":0},null,{"$f":"SUM(BJanvier!AE12)","v":0},{"$f":"SUM(BJanvier!AF12)","v":0},{"$f":"SUM(BJanvier!AG12)","v":0},null,0,{"$f":"Données!$J9","v":59.5},59.5,null,null,65,65,null,0]
[{"$f":"Données!$H10","v":0},{"$f":"IF(SUM(BJanvier!B13)=0,\"\",SUM(BJanvier!B13))","v":""},{"$f":"IF(SUM(BJanvier!C13)=0,\"\",SUM(BJanvier!C13))","v":""},{"$f":"IF(SUM(BJanvier!D13)=0,\"\",SUM(BJanvier!D13))","v":""},{"$f":"IF(SUM(BJanvier!E13)=0,\"\",SUM(BJanvier!E13))","v":""},{"$f":"IF(SUM(BJanvier!F13)=0,\"\",SUM(BJanvier!F13))","v":""},{"$f":"IF(SUM(BJanvier!G13)=0,\"\",SUM(BJanvier!G13))","v":""},{"$f":"IF(SUM(BJanvier!H13)=0,\"\",SUM(BJanvier!H13))","v":""},{"$f":"IF(SUM(BJanvier!I13)=0,\"\",SUM(BJanvier!I13))","v":""},{"$f":"IF(SUM(BJanvier!J13)=0,\"\",SUM(BJanvier!J13))","v":""},{"$f":"IF(SUM(BJanvier!K13)=0,\"\",SUM(BJanvier!K13))","v":""},{"$f":"IF(SUM(BJanvier!L13)=0,\"\",SUM(BJanvier!L13))","v":""},{"$f":"IF(SUM(BJanvier!M13)=0,\"\",SUM(BJanvier!M13))","v":""},{"$f":"IF(SUM(BJanvier!N13)=0,\"\",SUM(BJanvier!N13))","v":""},{"$f":"IF(SUM(BJanvier!O13)=0,\"\",SUM(BJanvier!O13))","v":""},{"$f":"IF(SUM(BJanvier!P13)=0,\"\",SUM(BJanvier!P13))","v":""},{"$f":"IF(SUM(BJanvier!Q13)=0,\"\",SUM(BJanvier!Q13))","v":""},{"$f":"IF(SUM(BJanvier!R13)=0,\"\",SUM(BJanvier!R13))","v":""},{"$f":"IF(SUM(BJanvier!S13)=0,\"\",SUM(BJanvier!S13))","v":""},{"$f":"IF(SUM(BJanvier!T13)=0,\"\",SUM(BJanvier!T13))","v":""},{"$f":"IF(SUM(BJanvier!U13)=0,\"\",SUM(BJanvier!U13))","v":""},{"$f":"IF(SUM(BJanvier!V13)=0,\"\",SUM(BJanvier!V13))","v":""},{"$f":"IF(SUM(BJanvier!W13)=0,\"\",SUM(BJanvier!W13))","v":""},{"$f":"IF(SUM(BJanvier!X13)=0,\"\",SUM(BJanvier!X13))","v":""},{"$f":"IF(SUM(BJanvier!Y13)=0,\"\",SUM(BJanvier!Y13))","v":""},{"$f":"IF(SUM(BJanvier!Z13)=0,\"\",SUM(BJanvier!Z13))","v":""},{"$f":"IF(SUM(BJanvier!AA13)=0,\"\",SUM(BJanvier!AA13))","v":""},{"$f":"SUM(BJanvier!AB13)","v":0},{"$f":"Janvier!AS13","v":0},null,{"$f":"SUM(BJanvier!AE13)","v":0},{"$f":"SUM(BJanvier!AF13)","v":0},{"$f":"SUM(BJanvier!AG13)","v":0},null,0,{"$f":"Données!$J10","v":59.5},59.5,null,null,65,65,null,0]
[{"$f":"Données!$H11","v":0},{"$f":"IF(SUM(BJanvier!B14)=0,\"\",SUM(BJanvier!B14))","v":""},{"$f":"IF(SUM(BJanvier!C14)=0,\"\",SUM(BJanvier!C14))","v":""},{"$f":"IF(SUM(BJanvier!D14)=0,\"\",SUM(BJanvier!D14))","v":""},{"$f":"IF(SUM(BJanvier!E14)=0,\"\",SUM(BJanvier!E14))","v":""},{"$f":"IF(SUM(BJanvier!F14)=0,\"\",SUM(BJanvier!F14))","v":""},{"$f":"IF(SUM(BJanvier!G14)=0,\"\",SUM(BJanvier!G14))","v":""},{"$f":"IF(SUM(BJanvier!H14)=0,\"\",SUM(BJanvier!H14))","v":""},{"$f":"IF(SUM(BJanvier!I14)=0,\"\",SUM(BJanvier!I14))","v":""},{"$f":"IF(SUM(BJanvier!J14)=0,\"\",SUM(BJanvier!J14))","v":""},{"$f":"IF(SUM(BJanvier!K14)=0,\"\",SUM(BJanvier!K14))","v":""},{"$f":"IF(SUM(BJanvier!L14)=0,\"\",SUM(BJanvier!L14))","v":""},{"$f":"IF(SUM(BJanvier!M14)=0,\"\",SUM(BJanvier!M14))","v":""},{"$f":"IF(SUM(BJanvier!N14)=0,\"\",SUM(BJanvier!N14))","v":""},{"$f":"IF(SUM(BJanvier!O14)=0,\"\",SUM(BJanvier!O14))","v":""},{"$f":"IF(SUM(BJanvier!P14)=0,\"\",SUM(BJanvier!P14))","v":""},{"$f":"IF(SUM(BJanvier!Q14)=0,\"\",SUM(BJanvier!Q14))","v":""},{"$f":"IF(SUM(BJanvier!R14)=0,\"\",SUM(BJanvier!R14))","v":""},{"$f":"IF(SUM(BJanvier!S14)=0,\"\",SUM(BJanvier!S14))","v":""},{"$f":"IF(SUM(BJanvier!T14)=0,\"\",SUM(BJanvier!T14))","v":""},{"$f":"IF(SUM(BJanvier!U14)=0,\"\",SUM(BJanvier!U14))","v":""},{"$f":"IF(SUM(BJanvier!V14)=0,\"\",SUM(BJanvier!V14))","v":""},{"$f":"IF(SUM(BJanvier!W14)=0,\"\",SUM(BJanvier!W14))","v":""},{"$f":"IF(SUM(BJanvier!X14)=0,\"\",SUM(BJanvier!X14))","v":""},{"$f":"IF(SUM(BJanvier!Y14)=0,\"\",SUM(BJanvier!Y14))","v":""},{"$f":"IF(SUM(BJanvier!Z14)=0,\"\",SUM(BJanvier!Z14))","v":""},{"$f":"IF(SUM(BJanvier!AA14)=0,\"\",SUM(BJanvier!AA14))","v":""},{"$f":"SUM(BJanvier!AB14)","v":0},{"$f":"Janvier!AS14","v":0},null,{"$f":"SUM(BJanvier!AE14)","v":0},{"$f":"SUM(BJanvier!AF14)","v":0},{"$f":"SUM(BJanvier!AG14)","v":0},null,0,{"$f":"Données!$J11","v":59.5},59.5,null,null,65,65,null,0]
[{"$f":"Données!$H12","v":0},{"$f":"IF(SUM(BJanvier!B15)=0,\"\",SUM(BJanvier!B15))","v":""},{"$f":"IF(SUM(BJanvier!C15)=0,\"\",SUM(BJanvier!C15))","v":""},{"$f":"IF(SUM(BJanvier!D15)=0,\"\",SUM(BJanvier!D15))","v":""},{"$f":"IF(SUM(BJanvier!E15)=0,\"\",SUM(BJanvier!E15))","v":""},{"$f":"IF(SUM(BJanvier!F15)=0,\"\",SUM(BJanvier!F15))","v":""},{"$f":"IF(SUM(BJanvier!G15)=0,\"\",SUM(BJanvier!G15))","v":""},{"$f":"IF(SUM(BJanvier!H15)=0,\"\",SUM(BJanvier!H15))","v":""},{"$f":"IF(SUM(BJanvier!I15)=0,\"\",SUM(BJanvier!I15))","v":""},{"$f":"IF(SUM(BJanvier!J15)=0,\"\",SUM(BJanvier!J15))","v":""},{"$f":"IF(SUM(BJanvier!K15)=0,\"\",SUM(BJanvier!K15))","v":""},{"$f":"IF(SUM(BJanvier!L15)=0,\"\",SUM(BJanvier!L15))","v":""},{"$f":"IF(SUM(BJanvier!M15)=0,\"\",SUM(BJanvier!M15))","v":""},{"$f":"IF(SUM(BJanvier!N15)=0,\"\",SUM(BJanvier!N15))","v":""},{"$f":"IF(SUM(BJanvier!O15)=0,\"\",SUM(BJanvier!O15))","v":""},{"$f":"IF(SUM(BJanvier!P15)=0,\"\",SUM(BJanvier!P15))","v":""},{"$f":"IF(SUM(BJanvier!Q15)=0,\"\",SUM(BJanvier!Q15))","v":""},{"$f":"IF(SUM(BJanvier!R15)=0,\"\",SUM(BJanvier!R15))","v":""},{"$f":"IF(SUM(BJanvier!S15)=0,\"\",SUM(BJanvier!S15))","v":""},{"$f":"IF(SUM(BJanvier!T15)=0,\"\",SUM(BJanvier!T15))","v":""},{"$f":"IF(SUM(BJanvier!U15)=0,\"\",SUM(BJanvier!U15))","v":""},{"$f":"IF(SUM(BJanvier!V15)=0,\"\",SUM(BJanvier!V15))","v":""},{"$f":"IF(SUM(BJanvier!W15)=0,\"\",SUM(BJanvier!W15))","v":""},{"$f":"IF(SUM(BJanvier!X15)=0,\"\",SUM(BJanvier!X15))","v":""},{"$f":"IF(SUM(BJanvier!Y15)=0,\"\",SUM(BJanvier!Y15))","v":""},{"$f":"IF(SUM(BJanvier!Z15)=0,\"\",SUM(BJanvier!Z15))","v":""},{"$f":"IF(SUM(BJanvier!AA15)=0,\"\",SUM(BJanvier!AA15))","v":""},{"$f":"SUM(BJanvier!AB15)","v":0},{"$f":"Janvier!AS15","v":0},null,{"$f":"SUM(BJanvier!AE15)","v":0},{"$f":"SUM(BJanvier!AF15)","v":0},{"$f":"SUM(BJanvier!AG15)","v":0},null,0,{"$f":"Données!$J12","v":59.5},59.5,null,null,65,65,null,0]
[{"$f":"Données!$H13","v":0},{"$f":"IF(SUM(BJanvier!B16)=0,\"\",SUM(BJanvier!B16))","v":""},{"$f":"IF(SUM(BJanvier!C16)=0,\"\",SUM(BJanvier!C16))","v":""},{"$f":"IF(SUM(BJanvier!D16)=0,\"\",SUM(BJanvier!D16))","v":""},{"$f":"IF(SUM(BJanvier!E16)=0,\"\",SUM(BJanvier!E16))","v":""},{"$f":"IF(SUM(BJanvier!F16)=0,\"\",SUM(BJanvier!F16))","v":""},{"$f":"IF(SUM(BJanvier!G16)=0,\"\",SUM(BJanvier!G16))","v":""},{"$f":"IF(SUM(BJanvier!H16)=0,\"\",SUM(BJanvier!H16))","v":""},{"$f":"IF(SUM(BJanvier!I16)=0,\"\",SUM(BJanvier!I16))","v":""},{"$f":"IF(SUM(BJanvier!J16)=0,\"\",SUM(BJanvier!J16))","v":""},{"$f":"IF(SUM(BJanvier!K16)=0,\"\",SUM(BJanvier!K16))","v":""},{"$f":"IF(SUM(BJanvier!L16)=0,\"\",SUM(BJanvier!L16))","v":""},{"$f":"IF(SUM(BJanvier!M16)=0,\"\",SUM(BJanvier!M16))","v":""},{"$f":"IF(SUM(BJanvier!N16)=0,\"\",SUM(BJanvier!N16))","v":""},{"$f":"IF(SUM(BJanvier!O16)=0,\"\",SUM(BJanvier!O16))","v":""},{"$f":"IF(SUM(BJanvier!P16)=0,\"\",SUM(BJanvier!P16))","v":""},{"$f":"IF(SUM(BJanvier!Q16)=0,\"\",SUM(BJanvier!Q16))","v":""},{"$f":"IF(SUM(BJanvier!R16)=0,\"\",SUM(BJanvier!R16))","v":""},{"$f":"IF(SUM(BJanvier!S16)=0,\"\",SUM(BJanvier!S16))","v":""},{"$f":"IF(SUM(BJanvier!T16)=0,\"\",SUM(BJanvier!T16))","v":""},{"$f":"IF(SUM(BJanvier!U16)=0,\"\",SUM(BJanvier!U16))","v":""},{"$f":"IF(SUM(BJanvier!V16)=0,\"\",SUM(BJanvier!V16))","v":""},{"$f":"IF(SUM(BJanvier!W16)=0,\"\",SUM(BJanvier!W16))","v":""},{"$f":"IF(SUM(BJanvier!X16)=0,\"\",SUM(BJanvier!X16))","v":""},{"$f":"IF(SUM(BJanvier!Y16)=0,\"\",SUM(BJanvier!Y16))","v":""},{"$f":"IF(SUM(BJanvier!Z16)=0,\"\",SUM(BJanvier!Z16))","v":""},{"$f":"IF(SUM(BJanvier!AA16)=0,\"\",SUM(BJanvier!AA16))","v":""},{"$f":"SUM(BJanvier!AB16)","v":0},{"$f":"Janvier!AS16","v":0},null,{"$f":"SUM(BJanvier!AE16)","v":0},{"$f":"SUM(BJanvier!AF16)","v":0},{"$f":"SUM(BJanvier!AG16)","v":0},null,0,{"$f":"Données!$J13","v":59.5},59.5,null,null,65,65,null,0]
[{"$f":"Données!$H14","v":0},{"$f":"IF(SUM(BJanvier!B17)=0,\"\",SUM(BJanvier!B17))","v":""},{"$f":"IF(SUM(BJanvier!C17)=0,\"\",SUM(BJanvier!C17))","v":""},{"$f":"IF(SUM(BJanvier!D17)=0,\"\",SUM(BJanvier!D17))","v":""},{"$f":"IF(SUM(BJanvier!E17)=0,\"\",SUM(BJanvier!E17))","v":""},{"$f":"IF(SUM(BJanvier!F17)=0,\"\",SUM(BJanvier!F17))","v":""},{"$f":"IF(SUM(BJanvier!G17)=0,\"\",SUM(BJanvier!G17))","v":""},{"$f":"IF(SUM(BJanvier!H17)=0,\"\",SUM(BJanvier!H17))","v":""},{"$f":"IF(SUM(BJanvier!I17)=0,\"\",SUM(BJanvier!I17))","v":""},{"$f":"IF(SUM(BJanvier!J17)=0,\"\",SUM(BJanvier!J17))","v":""},{"$f":"IF(SUM(BJanvier!K17)=0,\"\",SUM(BJanvier!K17))","v":""},{"$f":"IF(SUM(BJanvier!L17)=0,\"\",SUM(BJanvier!L17))","v":""},{"$f":"IF(SUM(BJanvier!M17)=0,\"\",SUM(BJanvier!M17))","v":""},{"$f":"IF(SUM(BJanvier!N17)=0,\"\",SUM(BJanvier!N17))","v":""},{"$f":"IF(SUM(BJanvier!O17)=0,\"\",SUM(BJanvier!O17))","v":""},{"$f":"IF(SUM(BJanvier!P17)=0,\"\",SUM(BJanvier!P17))","v":""},{"$f":"IF(SUM(BJanvier!Q17)=0,\"\",SUM(BJanvier!Q17))","v":""},{"$f":"IF(SUM(BJanvier!R17)=0,\"\",SUM(BJanvier!R17))","v":""},{"$f":"IF(SUM(BJanvier!S17)=0,\"\",SUM(BJanvier!S17))","v":""},{"$f":"IF(SUM(BJanvier!T17)=0,\"\",SUM(BJanvier!T17))","v":""},{"$f":"IF(SUM(BJanvier!U17)=0,\"\",SUM(BJanvier!U17))","v":""},{"$f":"IF(SUM(BJanvier!V17)=0,\"\",SUM(BJanvier!V17))","v":""},{"$f":"IF(SUM(BJanvier!W17)=0,\"\",SUM(BJanvier!W17))","v":""},{"$f":"IF(SUM(BJanvier!X17)=0,\"\",SUM(BJanvier!X17))","v":""},{"$f":"IF(SUM(BJanvier!Y17)=0,\"\",SUM(BJanvier!Y17))","v":""},{"$f":"IF(SUM(BJanvier!Z17)=0,\"\",SUM(BJanvier!Z17))","v":""},{"$f":"IF(SUM(BJanvier!AA17)=0,\"\",SUM(BJanvier!AA17))","v":""},{"$f":"SUM(BJanvier!AB17)","v":0},{"$f":"Janvier!AS17","v":0},null,{"$f":"SUM(BJanvier!AE17)","v":0},{"$f":"SUM(BJanvier!AF17)","v":0},{"$f":"SUM(BJanvier!AG17)","v":0},null,0,{"$f":"Données!$J14","v":59.5},59.5,null,null,65,65,null,0]
[{"$f":"Données!$H15","v":0},{"$f":"IF(SUM(BJanvier!B18)=0,\"\",SUM(BJanvier!B18))","v":""},{"$f":"IF(SUM(BJanvier!C18)=0,\"\",SUM(BJanvier!C18))","v":""},{"$f":"IF(SUM(BJanvier!D18)=0,\"\",SUM(BJanvier!D18))","v":""},{"$f":"IF(SUM(BJanvier!E18)=0,\"\",SUM(BJanvier!E18))","v":""},{"$f":"IF(SUM(BJanvier!F18)=0,\"\",SUM(BJanvier!F18))","v":""},{"$f":"IF(SUM(BJanvier!G18)=0,\"\",SUM(BJanvier!G18))","v":""},{"$f":"IF(SUM(BJanvier!H18)=0,\"\",SUM(BJanvier!H18))","v":""},{"$f":"IF(SUM(BJanvier!I18)=0,\"\",SUM(BJanvier!I18))","v":""},{"$f":"IF(SUM(BJanvier!J18)=0,\"\",SUM(BJanvier!J18))","v":""},{"$f":"IF(SUM(BJanvier!K18)=0,\"\",SUM(BJanvier!K18))","v":""},{"$f":"IF(SUM(BJanvier!L18)=0,\"\",SUM(BJanvier!L18))","v":""},{"$f":"IF(SUM(BJanvier!M18)=0,\"\",SUM(BJanvier!M18))","v":""},{"$f":"IF(SUM(BJanvier!N18)=0,\"\",SUM(BJanvier!N18))","v":""},{"$f":"IF(SUM(BJanvier!O18)=0,\"\",SUM(BJanvier!O18))","v":""},{"$f":"IF(SUM(BJanvier!P18)=0,\"\",SUM(BJanvier!P18))","v":""},{"$f":"IF(SUM(BJanvier!Q18)=0,\"\",SUM(BJanvier!Q18))","v":""},{"$f":"IF(SUM(BJanvier!R18)=0,\"\",SUM(BJanvier!R18))","v":""},{"$f":"IF(SUM(BJanvier!S18)=0,\"\",SUM(BJanvier!S18))","v":""},{"$f":"IF(SUM(BJanvier!T18)=0,\"\",SUM(BJanvier!T18))","v":""},{"$f":"IF(SUM(BJanvier!U18)=0,\"\",SUM(BJanvier!U18))","v":""},{"$f":"IF(SUM(BJanvier!V18)=0,\"\",SUM(BJanvier!V18))","v":""},{"$f":"IF(SUM(BJanvier!W18)=0,\"\",SUM(BJanvier!W18))","v":""},{"$f":"IF(SUM(BJanvier!X18)=0,\"\",SUM(BJanvier!X18))","v":""},{"$f":"IF(SUM(BJanvier!Y18)=0,\"\",SUM(BJanvier!Y18))","v":""},{"$f":"IF(SUM(BJanvier!Z18)=0,\"\",SUM(BJanvier!Z18))","v":""},{"$f":"IF(SUM(BJanvier!AA18)=0,\"\",SUM(BJanvier!AA18))","v":""},{"$f":"SUM(BJanvier!AB18)","v":0},{"$f":"Janvier!AS18","v":0},null,{"$f":"SUM(BJanvier!AE18)","v":0},{"$f":"SUM(BJanvier!AF18)","v":0},{"$f":"SUM(BJanvier!AG18)","v":0},null,0,{"$f":"Données!$J15","v":59.5},59.5,null,null,65,65,null,0]
[{"$f":"Données!$H16","v":0},{"$f":"SUM(BJanvier!B19)","v":0},{"$f":"SUM(BJanvier!C19)","v":0},{"$f":"SUM(BJanvier!D19)","v":0},{"$f":"SUM(BJanvier!E19)","v":0},{"$f":"SUM(BJanvier!F19)","v":0},{"$f":"SUM(BJanvier!G19)","v":0},{"$f":"SUM(BJanvier!H19)","v":0},{"$f":"SUM(BJanvier!I19)","v":0},{"$f":"SUM(BJanvier!J19)","v":0},{"$f":"SUM(BJanvier!K19)","v":0},{"$f":"SUM(BJanvier!L19)","v":0},{"$f":"SUM(BJanvier!M19)","v":0},{"$f":"SUM(BJanvier!N19)","v":0},{"$f":"SUM(BJanvier!O19)","v":0},{"$f":"SUM(BJanvier!P19)","v":0},{"$f":"SUM(BJanvier!Q19)","v":0},{"$f":"SUM(BJanvier!R19)","v":0},{"$f":"SUM(BJanvier!S19)","v":0},{"$f":"SUM(BJanvier!T19)","v":0},{"$f":"SUM(BJanvier!U19)","v":0},{"$f":"SUM(BJanvier!V19)","v":0},{"$f":"SUM(BJanvier!W19)","v":0},{"$f":"SUM(BJanvier!X19)","v":0},{"$f":"SUM(BJanvier!Y19)","v":0},{"$f":"SUM(BJanvier!Z19)","v":0},{"$f":"SUM(BJanvier!AA19)","v":0},{"$f":"SUM(Janvier:Decembre!AB19)","v":0},{"$f":"Janvier!AT19","v":0},null,{"$f":"SUM(BJanvier!AE19)","v":0},{"$f":"SUM(BJanvier!AF19)","v":0},{"$f":"SUM(BJanvier!AG19)","v":0},null,{"$f":"AB19+(AC19/24)+SUMPRODUCT(($B$6:$AA$6)*($B19:$AA19))","v":0},{"$f":"Données!$J16","v":59.5},59.5,null,null,{"$f":"$AO19-INDEX($A$9:$AA$55,MATCH($A18,$A$8:$A$54,0),MATCH(\"CA\",$A$8:$AA$8,0))","v":{"$error":"#VALUE!"}},65,null,{"$f":"SUM(B19:R19)","v":0}]
[{"$f":"Données!$H17","v":0},{"$f":"SUM(BJanvier!B20)","v":0},{"$f":"SUM(BJanvier!C20)","v":0},{"$f":"SUM(BJanvier!D20)","v":0},{"$f":"SUM(BJanvier!E20)","v":0},{"$f":"SUM(BJanvier!F20)","v":0},{"$f":"SUM(BJanvier!G20)","v":0},{"$f":"SUM(BJanvier!H20)","v":0},{"$f":"SUM(BJanvier!I20)","v":0},{"$f":"SUM(BJanvier!J20)","v":0},{"$f":"SUM(BJanvier!K20)","v":0},{"$f":"SUM(BJanvier!L20)","v":0},{"$f":"SUM(BJanvier!M20)","v":0},{"$f":"SUM(BJanvier!N20)","v":0},{"$f":"SUM(BJanvier!O20)","v":0},{"$f":"SUM(BJanvier!P20)","v":0},{"$f":"SUM(BJanvier!Q20)","v":0},{"$f":"SUM(BJanvier!R20)","v":0},{"$f":"SUM(BJanvier!S20)","v":0},{"$f":"SUM(BJanvier!T20)","v":0},{"$f":"SUM(BJanvier!U20)","v":0},{"$f":"SUM(BJanvier!V20)","v":0},{"$f":"SUM(BJanvier!W20)","v":0},{"$f":"SUM(BJanvier!X20)","v":0},{"$f":"SUM(BJanvier!Y20)","v":0},{"$f":"SUM(BJanvier!Z20)","v":0},{"$f":"SUM(BJanvier!AA20)","v":0},{"$f":"SUM(Janvier:Decembre!AB20)","v":0},{"$f":"Janvier!AT20","v":0},null,{"$f":"SUM(BJanvier!AE20)","v":0},{"$f":"SUM(BJanvier!AF20)","v":0},{"$f":"SUM(BJanvier!AG20)","v":0},null,0,{"$f":"Données!$J17","v":59.5},59.5,null,null,{"$error":"#VALUE!"},65,null,0]
[{"$f":"Données!$H18","v":0},{"$f":"SUM(BJanvier!B21)","v":0},{"$f":"SUM(BJanvier!C21)","v":0},{"$f":"SUM(BJanvier!D21)","v":0},{"$f":"SUM(BJanvier!E21)","v":0},{"$f":"SUM(BJanvier!F21)","v":0},{"$f":"SUM(BJanvier!G21)","v":0},{"$f":"SUM(BJanvier!H21)","v":0},{"$f":"SUM(BJanvier!I21)","v":0},{"$f":"SUM(BJanvier!J21)","v":0},{"$f":"SUM(BJanvier!K21)","v":0},{"$f":"SUM(BJanvier!L21)","v":0},{"$f":"SUM(BJanvier!M21)","v":0},{"$f":"SUM(BJanvier!N21)","v":0},{"$f":"SUM(BJanvier!O21)","v":0},{"$f":"SUM(BJanvier!P21)","v":0},{"$f":"SUM(BJanvier!Q21)","v":0},{"$f":"SUM(BJanvier!R21)","v":0},{"$f":"SUM(BJanvier!S21)","v":0},{"$f":"SUM(BJanvier!T21)","v":0},{"$f":"SUM(BJanvier!U21)","v":0},{"$f":"SUM(BJanvier!V21)","v":0},{"$f":"SUM(BJanvier!W21)","v":0},{"$f":"SUM(BJanvier!X21)","v":0},{"$f":"SUM(BJanvier!Y21)","v":0},{"$f":"SUM(BJanvier!Z21)","v":0},{"$f":"SUM(BJanvier!AA21)","v":0},{"$f":"SUM(Janvier:Decembre!AB21)","v":0},{"$f":"Janvier!AT21","v":0},null,{"$f":"SUM(BJanvier!AE21)","v":0},{"$f":"SUM(BJanvier!AF21)","v":0},{"$f":"SUM(BJanvier!AG21)","v":0},null,0,{"$f":"Données!$J18","v":59.5},59.5,null,null,{"$error":"#VALUE!"},65,null,0]
[{"$f":"Données!$H19","v":0},{"$f":"SUM(BJanvier!B22)","v":0},{"$f":"SUM(BJanvier!C22)","v":0},{"$f":"SUM(BJanvier!D22)","v":0},{"$f":"SUM(BJanvier!E22)","v":0},{"$f":"SUM(BJanvier!F22)","v":0},{"$f":"SUM(BJanvier!G22)","v":0},{"$f":"SUM(BJanvier!H22)","v":0},{"$f":"SUM(BJanvier!I22)","v":0},{"$f":"SUM(BJanvier!J22)","v":0},{"$f":"SUM(BJanvier!K22)","v":0},{"$f":"SUM(BJanvier!L22)","v":0},{"$f":"SUM(BJanvier!M22)","v":0},{"$f":"SUM(BJanvier!N22)","v":0},{"$f":"SUM(BJanvier!O22)","v":0},{"$f":"SUM(BJanvier!P22)","v":0},{"$f":"SUM(BJanvier!Q22)","v":0},{"$f":"SUM(BJanvier!R22)","v":0},{"$f":"SUM(BJanvier!S22)","v":0},{"$f":"SUM(BJanvier!T22)","v":0},{"$f":"SUM(BJanvier!U22)","v":0},{"$f":"SUM(BJanvier!V22)","v":0},{"$f":"SUM(BJanvier!W22)","v":0},{"$f":"SUM(BJanvier!X22)","v":0},{"$f":"SUM(BJanvier!Y22)","v":0},{"$f":"SUM(BJanvier!Z22)","v":0},{"$f":"SUM(BJanvier!AA22)","v":0},{"$f":"SUM(Janvier:Decembre!AB22)","v":0},{"$f":"Janvier!AT22","v":0},null,{"$f":"SUM(BJanvier!AE22)","v":0},{"$f":"SUM(BJanvier!AF22)","v":0},{"$f":"SUM(BJanvier!AG22)","v":0},null,0,{"$f":"Données!$J19","v":59.5},59.5,null,null,{"$error":"#VALUE!"},65,null,0]
[{"$f":"Données!$H20","v":0},{"$f":"SUM(BJanvier!B23)","v":0},{"$f":"SUM(BJanvier!C23)","v":0},{"$f":"SUM(BJanvier!D23)","v":0},{"$f":"SUM(BJanvier!E23)","v":0},{"$f":"SUM(BJanvier!F23)","v":0},{"$f":"SUM(BJanvier!G23)","v":0},{"$f":"SUM(BJanvier!H23)","v":0},{"$f":"SUM(BJanvier!I23)","v":0},{"$f":"SUM(BJanvier!J23)","v":0},{"$f":"SUM(BJanvier!K23)","v":0},{"$f":"SUM(BJanvier!L23)","v":0},{"$f":"SUM(BJanvier!M23)","v":0},{"$f":"SUM(BJanvier!N23)","v":0},{"$f":"SUM(BJanvier!O23)","v":0},{"$f":"SUM(BJanvier!P23)","v":0},{"$f":"SUM(BJanvier!Q23)","v":0},{"$f":"SUM(BJanvier!R23)","v":0},{"$f":"SUM(BJanvier!S23)","v":0},{"$f":"SUM(BJanvier!T23)","v":0},{"$f":"SUM(BJanvier!U23)","v":0},{"$f":"SUM(BJanvier!V23)","v":0},{"$f":"SUM(BJanvier!W23)","v":0},{"$f":"SUM(BJanvier!X23)","v":0},{"$f":"SUM(BJanvier!Y23)","v":0},{"$f":"SUM(BJanvier!Z23)","v":0},{"$f":"SUM(BJanvier!AA23)","v":0},{"$f":"SUM(Janvier:Decembre!AB23)","v":0},{"$f":"Janvier!AT23","v":0},null,{"$f":"SUM(BJanvier!AE23)","v":0},{"$f":"SUM(BJanvier!AF23)","v":0},{"$f":"SUM(BJanvier!AG23)","v":0},null,0,{"$f":"Données!$J20","v":59.5},59.5,null,null,{"$error":"#VALUE!"},65,null,0]
[{"$f":"Données!$H21","v":0},{"$f":"SUM(BJanvier!B24)","v":0},{"$f":"SUM(BJanvier!C24)","v":0},{"$f":"SUM(BJanvier!D24)","v":0},{"$f":"SUM(BJanvier!E24)","v":0},{"$f":"SUM(BJanvier!F24)","v":0},{"$f":"SUM(BJanvier!G24)","v":0},{"$f":"SUM(BJanvier!H24)","v":0},{"$f":"SUM(BJanvier!I24)","v":0},{"$f":"SUM(BJanvier!J24)","v":0},{"$f":"SUM(BJanvier!K24)","v":0},{"$f":"SUM(BJanvier!L24)","v":0},{"$f":"SUM(BJanvier!M24)","v":0},{"$f":"SUM(BJanvier!N24)","v":0},{"$f":"SUM(BJanvier!O24)","v":0},{"$f":"SUM(BJanvier!P24)","v":0},{"$f":"SUM(BJanvier!Q24)","v":0},{"$f":"SUM(BJanvier!R24)","v":0},{"$f":"SUM(BJanvier!S24)","v":0},{"$f":"SUM(BJanvier!T24)","v":0},{"$f":"SUM(BJanvier!U24)","v":0},{"$f":"SUM(BJanvier!V24)","v":0},{"$f":"SUM(BJanvier!W24)","v":0},{"$f":"SUM(BJanvier!X24)","v":0},{"$f":"SUM(BJanvier!Y24)","v":0},{"$f":"SUM(BJanvier!Z24)","v":0},{"$f":"SUM(BJanvier!AA24)","v":0},{"$f":"SUM(Janvier:Decembre!AB24)","v":0},{"$f":"Janvier!AT24","v":0},null,{"$f":"SUM(BJanvier!AE24)","v":0},{"$f":"SUM(BJanvier!AF24)","v":0},{"$f":"SUM(BJanvier!AG24)","v":0},null,0,{"$f":"Données!$J21","v":59.5},59.5,null,null,{"$error":"#VALUE!"},65,null,0]
[{"$f":"Données!$H22","v":"Equipe de nuit"}]
[{"$f":"Données!$H23","v":"K"},{"$f":"IF(SUM(BJanvier!B26)=0,\"\",SUM(BJanvier!B26))","v":""},{"$f":"IF(SUM(BJanvier!C26)=0,\"\",SUM(BJanvier!C26))","v":""},{"$f":"IF(SUM(BJanvier!D26)=0,\"\",SUM(BJanvier!D26))","v":""},{"$f":"IF(SUM(BJanvier!E26)=0,\"\",SUM(BJanvier!E26))","v":""},{"$f":"IF(SUM(BJanvier!F26)=0,\"\",SUM(BJanvier!F26))","v":""},{"$f":"IF(SUM(BJanvier!G26)=0,\"\",SUM(BJanvier!G26))","v":""},{"$f":"IF(SUM(BJanvier!H26)=0,\"\",SUM(BJanvier!H26))","v":""},{"$f":"IF(SUM(BJanvier!I26)=0,\"\",SUM(BJanvier!I26))","v":""},{"$f":"IF(SUM(BJanvier!J26)=0,\"\",SUM(BJanvier!J26))","v":""},{"$f":"IF(SUM(BJanvier!K26)=0,\"\",SUM(BJanvier!K26))","v":""},{"$f":"IF(SUM(BJanvier!L26)=0,\"\",SUM(BJanvier!L26))","v":""},{"$f":"IF(SUM(BJanvier!M26)=0,\"\",SUM(BJanvier!M26))","v":""},{"$f":"IF(SUM(BJanvier!N26)=0,\"\",SUM(BJanvier!N26))","v":""},{"$f":"IF(SUM(BJanvier!O26)=0,\"\",SUM(BJanvier!O26))","v":""},{"$f":"IF(SUM(BJanvier!P26)=0,\"\",SUM(BJanvier!P26))","v":""},{"$f":"IF(SUM(BJanvier!Q26)=0,\"\",SUM(BJanvier!Q26))","v":""},{"$f":"IF(SUM(BJanvier!R26)=0,\"\",SUM(BJanvier!R26))","v":""},{"$f":"IF(SUM(BJanvier!S26)=0,\"\",SUM(BJanvier!S26))","v":""},{"$f":"IF(SUM(BJanvier!T26)=0,\"\",SUM(BJanvier!T26))","v":""},{"$f":"IF(SUM(BJanvier!U26)=0,\"\",SUM(BJanvier!U26))","v":""},{"$f":"IF(SUM(BJanvier!V26)=0,\"\",SUM(BJanvier!V26))","v":""},{"$f":"IF(SUM(BJanvier!W26)=0,\"\",SUM(BJanvier!W26))","v":""},{"$f":"IF(SUM(BJanvier!X26)=0,\"\",SUM(BJanvier!X26))","v":""},{"$f":"IF(SUM(BJanvier!Y26)=0,\"\",SUM(BJanvier!Y26))","v":""},{"$f":"IF(SUM(BJanvier!Z26)=0,\"\",SUM(BJanvier!Z26))","v":""},{"$f":"IF(SUM(BJanvier!AA26)=0,\"\",SUM(BJanvier!AA26))","v":""},{"$f":"SUM(BJanvier!AB26)","v":0},{"$f":"Janvier!AS26","v":0},null,{"$f":"SUM(BJanvier!AE26)","v":0},{"$f":"SUM(BJanvier!AF26)","v":0},{"$f":"SUM(BJanvier!AG26)","v":0},null,{"$f":"bilanh","v":0},{"$f":"Données!$J23","v":57.958333333333336},57.958333333333336,null,null,{"$f":"IFERROR($AO26-INDEX($A$9:$AA$55,MATCH($A25,$A$8:$A$54,0),MATCH(\"CA\",$A$8:$AA$8,0)),65)","v":65},65,null,{"$f":"Jourtravaillé","v":0}]
[{"$f":"Données!$H24","v":0},{"$f":"IF(SUM(BJanvier!B27)=0,\"\",SUM(BJanvier!B27))","v":""},{"$f":"IF(SUM(BJanvier!C27)=0,\"\",SUM(BJanvier!C27))","v":""},{"$f":"IF(SUM(BJanvier!D27)=0,\"\",SUM(BJanvier!D27))","v":""},{"$f":"IF(SUM(BJanvier!E27)=0,\"\",SUM(BJanvier!E27))","v":""},{"$f":"IF(SUM(BJanvier!F27)=0,\"\",SUM(BJanvier!F27))","v":""},{"$f":"IF(SUM(BJanvier!G27)=0,\"\",SUM(BJanvier!G27))","v":""},{"$f":"IF(SUM(BJanvier!H27)=0,\"\",SUM(BJanvier!H27))","v":""},{"$f":"IF(SUM(BJanvier!I27)=0,\"\",SUM(BJanvier!I27))","v":""},{"$f":"IF(SUM(BJanvier!J27)=0,\"\",SUM(BJanvier!J27))","v":""},{"$f":"IF(SUM(BJanvier!K27)=0,\"\",SUM(BJanvier!K27))","v":""},{"$f":"IF(SUM(BJanvier!L27)=0,\"\",SUM(BJanvier!L27))","v":""},{"$f":"IF(SUM(BJanvier!M27)=0,\"\",SUM(BJanvier!M27))","v":""},{"$f":"IF(SUM(BJanvier!N27)=0,\"\",SUM(BJanvier!N27))","v":""},{"$f":"IF(SUM(BJanvier!O27)=0,\"\",SUM(BJanvier!O27))","v":""},{"$f":"IF(SUM(BJanvier!P27)=0,\"\",SUM(BJanvier!P27))","v":""},{"$f":"IF(SUM(BJanvier!Q27)=0,\"\",SUM(BJanvier!Q27))","v":""},{"$f":"IF(SUM(BJanvier!R27)=0,\"\",SUM(BJanvier!R27))","v":""},{"$f":"IF(SUM(BJanvier!S27)=0,\"\",SUM(BJanvier!S27))","v":""},{"$f":"IF(SUM(BJanvier!T27)=0,\"\",SUM(BJanvier!T27))","v":""},{"$f":"IF(SUM(BJanvier!U27)=0,\"\",SUM(BJanvier!U27))","v":""},{"$f":"IF(SUM(BJanvier!V27)=0,\"\",SUM(BJanvier!V27))","v":""},{"$f":"IF(SUM(BJanvier!W27)=0,\"\",SUM(BJanvier!W27))","v":""},{"$f":"IF(SUM(BJanvier!X27)=0,\"\",SUM(BJanvier!X27))","v":""},{"$f":"IF(SUM(BJanvier!Y27)=0,\"\",SUM(BJanvier!Y27))","v":""},{"$f":"IF(SUM(BJanvier!Z27)=0,\"\",SUM(BJanvier!Z27))","v":""},{"$f":"IF(SUM(BJanvier!AA27)=0,\"\",SUM(BJanvier!AA27))","v":""},{"$f":"SUM(BJanvier!AB27)","v":0},{"$f":"Janvier!AS27","v":0},null,{"$f":"SUM(BJanvier!AE27)","v":0},{"$f":"SUM(BJanvier!AF27)","v":0},{"$f":"SUM(BJanvier!AG27)","v":0},null,{"$f":"bilanh","v":0},{"$f":"Données!$J24","v":57.958333333333336},57.958333333333336,null,null,{"$f":"IFERROR($AO27-INDEX($A$9:$AA$55,MATCH($A26,$A$8:$A$54,0),MATCH(\"CA\",$A$8:$AA$8,0)),65)","v":65},65,null,{"$f":"Jourtravaillé","v":0}]
[{"$f":"Données!$H25","v":0},{"$f":"IF(SUM(BJanvier!B28)=0,\"\",SUM(BJanvier!B28))","v":""},{"$f":"IF(SUM(BJanvier!C28)=0,\"\",SUM(BJanvier!C28))","v":""},{"$f":"IF(SUM(BJanvier!D28)=0,\"\",SUM(BJanvier!D28))","v":""},{"$f":"IF(SUM(BJanvier!E28)=0,\"\",SUM(BJanvier!E28))","v":""},{"$f":"IF(SUM(BJanvier!F28)=0,\"\",SUM(BJanvier!F28))","v":""},{"$f":"IF(SUM(BJanvier!G28)=0,\"\",SUM(BJanvier!G28))","v":""},{"$f":"IF(SUM(BJanvier!H28)=0,\"\",SUM(BJanvier!H28))","v":""},{"$f":"IF(SUM(BJanvier!I28)=0,\"\",SUM(BJanvier!I28))","v":""},{"$f":"IF(SUM(BJanvier!J28)=0,\"\",SUM(BJanvier!J28))","v":""},{"$f":"IF(SUM(BJanvier!K28)=0,\"\",SUM(BJanvier!K28))","v":""},{"$f":"IF(SUM(BJanvier!L28)=0,\"\",SUM(BJanvier!L28))","v":""},{"$f":"IF(SUM(BJanvier!M28)=0,\"\",SUM(BJanvier!M28))","v":""},{"$f":"IF(SUM(BJanvier!N28)=0,\"\",SUM(BJanvier!N28))","v":""},{"$f":"IF(SUM(BJanvier!O28)=0,\"\",SUM(BJanvier!O28))","v":""},{"$f":"IF(SUM(BJanvier!P28)=0,\"\",SUM(BJanvier!P28))","v":""},{"$f":"IF(SUM(BJanvier!Q28)=0,\"\",SUM(BJanvier!Q28))","v":""},{"$f":"IF(SUM(BJanvier!R28)=0,\"\",SUM(BJanvier!R28))","v":""},{"$f":"IF(SUM(BJanvier!S28)=0,\"\",SUM(BJanvier!S28))","v":""},{"$f":"IF(SUM(BJanvier!T28)=0,\"\",SUM(BJanvier!T28))","v":""},{"$f":"IF(SUM(BJanvier!U28)=0,\"\",SUM(BJanvier!U28))","v":""},{"$f":"IF(SUM(BJanvier!V28)=0,\"\",SUM(BJanvier!V28))","v":""},{"$f":"IF(SUM(BJanvier!W28)=0,\"\",SUM(BJanvier!W28))","v":""},{"$f":"IF(SUM(BJanvier!X28)=0,\"\",SUM(BJanvier!X28))","v":""},{"$f":"IF(SUM(BJanvier!Y28)=0,\"\",SUM(BJanvier!Y28))","v":""},{"$f":"IF(SUM(BJanvier!Z28)=0,\"\",SUM(BJanvier!Z28))","v":""},{"$f":"IF(SUM(BJanvier!AA28)=0,\"\",SUM(BJanvier!AA28))","v":""},{"$f":"SUM(BJanvier!AB28)","v":0},{"$f":"Janvier!AS28","v":0},null,{"$f":"SUM(BJanvier!AE28)","v":0},{"$f":"SUM(BJanvier!AF28)","v":0},{"$f":"SUM(BJanvier!AG28)","v":0},null,{"$f":"bilanh","v":0},{"$f":"Données!$J25","v":57.958333333333336},57.958333333333336,null,null,{"$f":"IFERROR($AO28-INDEX($A$9:$AA$55,MATCH($A27,$A$8:$A$54,0),MATCH(\"CA\",$A$8:$AA$8,0)),65)","v":65},65,null,{"$f":"Jourtravaillé","v":0}]
[{"$f":"Données!$H26","v":0},{"$f":"SUM(BJanvier!B29)","v":0},{"$f":"SUM(BJanvier!C29)","v":0},{"$f":"SUM(BJanvier!D29)","v":0},{"$f":"SUM(BJanvier!E29)","v":0},{"$f":"SUM(BJanvier!F29)","v":0},{"$f":"SUM(BJanvier!G29)","v":0},{"$f":"SUM(BJanvier!H29)","v":0},{"$f":"SUM(BJanvier!I29)","v":0},{"$f":"SUM(BJanvier!J29)","v":0},{"$f":"SUM(BJanvier!K29)","v":0},{"$f":"SUM(BJanvier!L29)","v":0},{"$f":"SUM(BJanvier!M29)","v":0},{"$f":"SUM(BJanvier!N29)","v":0},{"$f":"SUM(BJanvier!O29)","v":0},{"$f":"SUM(BJanvier!P29)","v":0},{"$f":"SUM(BJanvier!Q29)","v":0},{"$f":"SUM(BJanvier!R29)","v":0},{"$f":"SUM(BJanvier!S29)","v":0},{"$f":"SUM(BJanvier!T29)","v":0},{"$f":"SUM(BJanvier!U29)","v":0},{"$f":"SUM(BJanvier!V29)","v":0},{"$f":"SUM(BJanvier!W29)","v":0},{"$f":"SUM(BJanvier!X29)","v":0},{"$f":"SUM(BJanvier!Y29)","v":0},{"$f":"SUM(BJanvier!Z29)","v":0},{"$f":"SUM(BJanvier!AA29)","v":0},{"$f":"SUM(Janvier:Decembre!AB29)","v":0},{"$f":"Janvier!AT29","v":0},null,{"$f":"SUM(BJanvier!AE29)","v":0},{"$f":"SUM(BJanvier!AF29)","v":0},{"$f":"SUM(BJanvier!AG29)","v":0},null,0,{"$f":"Données!$J26","v":59.5},59.5,null,null,{"$error":"#VALUE!"},68,null,{"$f":"SUM(B29:R29)","v":0}]
[{"$f":"Données!$H27","v":0},{"$f":"SUM(BJanvier!B30)","v":0},{"$f":"SUM(BJanvier!C30)","v":0},{"$f":"SUM(BJanvier!D30)","v":0},{"$f":"SUM(BJanvier!E30)","v":0},{"$f":"SUM(BJanvier!F30)","v":0},{"$f":"SUM(BJanvier!G30)","v":0},{"$f":"SUM(BJanvier!H30)","v":0},{"$f":"SUM(BJanvier!I30)","v":0},{"$f":"SUM(BJanvier!J30)","v":0},{"$f":"SUM(BJanvier!K30)","v":0},{"$f":"SUM(BJanvier!L30)","v":0},{"$f":"SUM(BJanvier!M30)","v":0},{"$f":"SUM(BJanvier!N30)","v":0},{"$f":"SUM(BJanvier!O30)","v":0},{"$f":"SUM(BJanvier!P30)","v":0},{"$f":"SUM(BJanvier!Q30)","v":0},{"$f":"SUM(BJanvier!R30)","v":0},{"$f":"SUM(BJanvier!S30)","v":0},{"$f":"SUM(BJanvier!T30)","v":0},{"$f":"SUM(BJanvier!U30)","v":0},{"$f":"SUM(BJanvier!V30)","v":0},{"$f":"SUM(BJanvier!W30)","v":0},{"$f":"SUM(BJanvier!X30)","v":0},{"$f":"SUM(BJanvier!Y30)","v":0},{"$f":"SUM(BJanvier!Z30)","v":0},{"$f":"SUM(BJanvier!AA30)","v":0},{"$f":"SUM(Janvier:Decembre!AB30)","v":0},{"$f":"Janvier!AT30","v":0},null,{"$f":"SUM(BJanvier!AE30)","v":0},{"$f":"SUM(BJanvier!AF30)","v":0},{"$f":"SUM(BJanvier!AG30)","v":0},null,0,{"$f":"Données!$J27","v":59.5},59.5,null,null,{"$error":"#VALUE!"},69,null,0]
[{"$f":"Données!$H28","v":0},{"$f":"SUM(BJanvier!B31)","v":0},{"$f":"SUM(BJanvier!C31)","v":0},{"$f":"SUM(BJanvier!D31)","v":0},{"$f":"SUM(BJanvier!E31)","v":0},{"$f":"SUM(BJanvier!F31)","v":0},{"$f":"SUM(BJanvier!G31)","v":0},{"$f":"SUM(BJanvier!H31)","v":0},{"$f":"SUM(BJanvier!I31)","v":0},{"$f":"SUM(BJanvier!J31)","v":0},{"$f":"SUM(BJanvier!K31)","v":0},{"$f":"SUM(BJanvier!L31)","v":0},{"$f":"SUM(BJanvier!M31)","v":0},{"$f":"SUM(BJanvier!N31)","v":0},{"$f":"SUM(BJanvier!O31)","v":0},{"$f":"SUM(BJanvier!P31)","v":0},{"$f":"SUM(BJanvier!Q31)","v":0},{"$f":"SUM(BJanvier!R31)","v":0},{"$f":"SUM(BJanvier!S31)","v":0},{"$f":"SUM(BJanvier!T31)","v":0},{"$f":"SUM(BJanvier!U31)","v":0},{"$f":"SUM(BJanvier!V31)","v":0},{"$f":"SUM(BJanvier!W31)","v":0},{"$f":"SUM(BJanvier!X31)","v":0},{"$f":"SUM(BJanvier!Y31)","v":0},{"$f":"SUM(BJanvier!Z31)","v":0},{"$f":"SUM(BJanvier!AA31)","v":0},{"$f":"SUM(Janvier:Decembre!AB31)","v":0},{"$f":"Janvier!AT31","v":0},null,{"$f":"SUM(BJanvier!AE31)","v":0},{"$f":"SUM(BJanvier!AF31)","v":0},{"$f":"SUM(BJanvier!AG31)","v":0},null,0,{"$f":"Données!$J28","v":59.5},59.5,null,null,{"$error":"#VALUE!"},70,null,0]
[{"$f":"Données!$H29","v":0},{"$f":"SUM(BJanvier!B32)","v":0},{"$f":"SUM(BJanvier!C32)","v":0},{"$f":"SUM(BJanvier!D32)","v":0},{"$f":"SUM(BJanvier!E32)","v":0},{"$f":"SUM(BJanvier!F32)","v":0},{"$f":"SUM(BJanvier!G32)","v":0},{"$f":"SUM(BJanvier!H32)","v":0},{"$f":"SUM(BJanvier!I32)","v":0},{"$f":"SUM(BJanvier!J32)","v":0},{"$f":"SUM(BJanvier!K32)","v":0},{"$f":"SUM(BJanvier!L32)","v":0},{"$f":"SUM(BJanvier!M32)","v":0},{"$f":"SUM(BJanvier!N32)","v":0},{"$f":"SUM(BJanvier!O32)","v":0},{"$f":"SUM(BJanvier!P32)","v":0},{"$f":"SUM(BJanvier!Q32)","v":0},{"$f":"SUM(BJanvier!R32)","v":0},{"$f":"SUM(BJanvier!S32)","v":0},{"$f":"SUM(BJanvier!T32)","v":0},{"$f":"SUM(BJanvier!U32)","v":0},{"$f":"SUM(BJanvier!V32)","v":0},{"$f":"SUM(BJanvier!W32)","v":0},{"$f":"SUM(BJanvier!X32)","v":0},{"$f":"SUM(BJanvier!Y32)","v":0},{"$f":"SUM(BJanvier!Z32)","v":0},{"$f":"SUM(BJanvier!AA32)","v":0},{"$f":"SUM(Janvier:Decembre!AB32)","v":0},{"$f":"Janvier!AT32","v":0},null,{"$f":"SUM(BJanvier!AE32)","v":0},{"$f":"SUM(BJanvier!AF32)","v":0},{"$f":"SUM(BJanvier!AG32)","v":0},null,0,{"$f":"Données!$J29","v":59.5},59.5,null,null,{"$error":"#VALUE!"},71,null,0]
[{"$f":"Données!$H30","v":0},{"$f":"SUM(BJanvier!B33)","v":0},{"$f":"SUM(BJanvier!C33)","v":0},{"$f":"SUM(BJanvier!D33)","v":0},{"$f":"SUM(BJanvier!E33)","v":0},{"$f":"SUM(BJanvier!F33)","v":0},{"$f":"SUM(BJanvier!G33)","v":0},{"$f":"SUM(BJanvier!H33)","v":0},{"$f":"SUM(BJanvier!I33)","v":0},{"$f":"SUM(BJanvier!J33)","v":0},{"$f":"SUM(BJanvier!K33)","v":0},{"$f":"SUM(BJanvier!L33)","v":0},{"$f":"SUM(BJanvier!M33)","v":0},{"$f":"SUM(BJanvier!N33)","v":0},{"$f":"SUM(BJanvier!O33)","v":0},{"$f":"SUM(BJanvier!P33)","v":0},{"$f":"SUM(BJanvier!Q33)","v":0},{"$f":"SUM(BJanvier!R33)","v":0},{"$f":"SUM(BJanvier!S33)","v":0},{"$f":"SUM(BJanvier!T33)","v":0},{"$f":"SUM(BJanvier!U33)","v":0},{"$f":"SUM(BJanvier!V33)","v":0},{"$f":"SUM(BJanvier!W33)","v":0},{"$f":"SUM(BJanvier!X33)","v":0},{"$f":"SUM(BJanvier!Y33)","v":0},{"$f":"SUM(BJanvier!Z33)","v":0},{"$f":"SUM(BJanvier!AA33)","v":0},{"$f":"SUM(Janvier:Decembre!AB33)","v":0},{"$f":"Janvier!AT33","v":0},null,{"$f":"SUM(BJanvier!AE33)","v":0},{"$f":"SUM(BJanvier!AF33)","v":0},{"$f":"SUM(BJanvier!AG33)","v":0},null,0,{"$f":"Données!$J30","v":59.5},59.5,null,null,{"$error":"#VALUE!"},72,null,0]
[{"$f":"Données!$H31","v":0},{"$f":"SUM(BJanvier!B34)","v":0},{"$f":"SUM(BJanvier!C34)","v":0},{"$f":"SUM(BJanvier!D34)","v":0},{"$f":"SUM(BJanvier!E34)","v":0},{"$f":"SUM(BJanvier!F34)","v":0},{"$f":"SUM(BJanvier!G34)","v":0},{"$f":"SUM(BJanvier!H34)","v":0},{"$f":"SUM(BJanvier!I34)","v":0},{"$f":"SUM(BJanvier!J34)","v":0},{"$f":"SUM(BJanvier!K34)","v":0},{"$f":"SUM(BJanvier!L34)","v":0},{"$f":"SUM(BJanvier!M34)","v":0},{"$f":"SUM(BJanvier!N34)","v":0},{"$f":"SUM(BJanvier!O34)","v":0},{"$f":"SUM(BJanvier!P34)","v":0},{"$f":"SUM(BJanvier!Q34)","v":0},{"$f":"SUM(BJanvier!R34)","v":0},{"$f":"SUM(BJanvier!S34)","v":0},{"$f":"SUM(BJanvier!T34)","v":0},{"$f":"SUM(BJanvier!U34)","v":0},{"$f":"SUM(BJanvier!V34)","v":0},{"$f":"SUM(BJanvier!W34)","v":0},{"$f":"SUM(BJanvier!X34)","v":0},{"$f":"SUM(BJanvier!Y34)","v":0},{"$f":"SUM(BJanvier!Z34)","v":0},{"$f":"SUM(BJanvier!AA34)","v":0},{"$f":"SUM(Janvier:Decembre!AB34)","v":0},{"$f":"Janvier!AT34","v":0},null,{"$f":"SUM(BJanvier!AE34)","v":0},{"$f":"SUM(BJanvier!AF34)","v":0},{"$f":"SUM(BJanvier!AG34)","v":0},null,0,{"$f":"Données!$J31","v":59.5},59.5,null,null,{"$error":"#VALUE!"},73,null,0]
[{"$f":"Données!$H32","v":"Maitresse de maison"}]
[{"$f":"Données!$H33","v":"N"},{"$f":"IF(SUM(BJanvier!B36)=0,\"\",SUM(BJanvier!B36))","v":""},{"$f":"IF(SUM(BJanvier!C36)=0,\"\",SUM(BJanvier!C36))","v":""},{"$f":"IF(SUM(BJanvier!D36)=0,\"\",SUM(BJanvier!D36))","v":""},{"$f":"IF(SUM(BJanvier!E36)=0,\"\",SUM(BJanvier!E36))","v":""},{"$f":"IF(SUM(BJanvier!F36)=0,\"\",SUM(BJanvier!F36))","v":""},{"$f":"IF(SUM(BJanvier!G36)=0,\"\",SUM(BJanvier!G36))","v":""},{"$f":"IF(SUM(BJanvier!H36)=0,\"\",SUM(BJanvier!H36))","v":""},{"$f":"IF(SUM(BJanvier!I36)=0,\"\",SUM(BJanvier!I36))","v":""},{"$f":"IF(SUM(BJanvier!J36)=0,\"\",SUM(BJanvier!J36))","v":""},{"$f":"IF(SUM(BJanvier!K36)=0,\"\",SUM(BJanvier!K36))","v":""},{"$f":"IF(SUM(BJanvier!L36)=0,\"\",SUM(BJanvier!L36))","v":""},{"$f":"IF(SUM(BJanvier!M36)=0,\"\",SUM(BJanvier!M36))","v":""},{"$f":"IF(SUM(BJanvier!N36)=0,\"\",SUM(BJanvier!N36))","v":""},{"$f":"IF(SUM(BJanvier!O36)=0,\"\",SUM(BJanvier!O36))","v":""},{"$f":"IF(SUM(BJanvier!P36)=0,\"\",SUM(BJanvier!P36))","v":""},{"$f":"IF(SUM(BJanvier!Q36)=0,\"\",SUM(BJanvier!Q36))","v":""},{"$f":"IF(SUM(BJanvier!R36)=0,\"\",SUM(BJanvier!R36))","v":""},{"$f":"IF(SUM(BJanvier!S36)=0,\"\",SUM(BJanvier!S36))","v":""},{"$f":"IF(SUM(BJanvier!T36)=0,\"\",SUM(BJanvier!T36))","v":""},{"$f":"IF(SUM(BJanvier!U36)=0,\"\",SUM(BJanvier!U36))","v":""},{"$f":"IF(SUM(BJanvier!V36)=0,\"\",SUM(BJanvier!V36))","v":""},{"$f":"IF(SUM(BJanvier!W36)=0,\"\",SUM(BJanvier!W36))","v":""},{"$f":"IF(SUM(BJanvier!X36)=0,\"\",SUM(BJanvier!X36))","v":""},{"$f":"IF(SUM(BJanvier!Y36)=0,\"\",SUM(BJanvier!Y36))","v":""},{"$f":"IF(SUM(BJanvier!Z36)=0,\"\",SUM(BJanvier!Z36))","v":""},{"$f":"IF(SUM(BJanvier!AA36)=0,\"\",SUM(BJanvier!AA36))","v":""},{"$f":"SUM(BJanvier!AB36)","v":0},{"$f":"Janvier!AS36","v":0},null,{"$f":"SUM(BJanvier!AE36)","v":0},{"$f":"SUM(BJanvier!AF36)","v":0},{"$f":"SUM(BJanvier!AG36)","v":0},null,{"$f":"bilanh","v":0},{"$f":"Données!$J33","v":63},63,null,null,{"$f":"IFERROR($AO36-INDEX($A$9:$AA$55,MATCH($A35,$A$8:$A$54,0),MATCH(\"CA\",$A$8:$AA$8,0)),65)","v":65},65,null,{"$f":"Jourtravaillé","v":0}]
[{"$f":"Données!$H34","v":0},{"$f":"SUM(BJanvier!B37)","v":0},{"$f":"SUM(BJanvier!C37)","v":0},{"$f":"SUM(BJanvier!D37)","v":0},{"$f":"SUM(BJanvier!E37)","v":0},{"$f":"SUM(BJanvier!F37)","v":0},{"$f":"SUM(BJanvier!G37)","v":0},{"$f":"SUM(BJanvier!H37)","v":0},{"$f":"SUM(BJanvier!I37)","v":0},{"$f":"SUM(BJanvier!J37)","v":0},{"$f":"SUM(BJanvier!K37)","v":0},{"$f":"SUM(BJanvier!L37)","v":0},{"$f":"SUM(BJanvier!M37)","v":0},{"$f":"SUM(BJanvier!N37)","v":0},{"$f":"SUM(BJanvier!O37)","v":0},{"$f":"SUM(BJanvier!P37)","v":0},{"$f":"SUM(BJanvier!Q37)","v":0},{"$f":"SUM(BJanvier!R37)","v":0},{"$f":"SUM(BJanvier!S37)","v":0},{"$f":"SUM(BJanvier!T37)","v":0},{"$f":"SUM(BJanvier!U37)","v":0},{"$f":"SUM(BJanvier!V37)","v":0},{"$f":"SUM(BJanvier!W37)","v":0},{"$f":"SUM(BJanvier!X37)","v":0},{"$f":"SUM(BJanvier!Y37)","v":0},{"$f":"SUM(BJanvier!Z37)","v":0},{"$f":"SUM(BJanvier!AA37)","v":0},{"$f":"SUM(Janvier:Decembre!AB37)","v":0},{"$f":"Janvier!AT37","v":0},null,{"$f":"SUM(BJanvier!AE37)","v":0},{"$f":"SUM(BJanvier!AF37)","v":0},{"$f":"SUM(BJanvier!AG37)","v":0},null,0,{"$f":"Données!$J34","v":59.5},59.5,null,null,65,65,null,{"$f":"SUM(B37:R37)","v":0}]
[{"$f":"Données!$H35","v":0},{"$f":"SUM(BJanvier!B38)","v":0},{"$f":"SUM(BJanvier!C38)","v":0},{"$f":"SUM(BJanvier!D38)","v":0},{"$f":"SUM(BJanvier!E38)","v":0},{"$f":"SUM(BJanvier!F38)","v":0},{"$f":"SUM(BJanvier!G38)","v":0},{"$f":"SUM(BJanvier!H38)","v":0},{"$f":"SUM(BJanvier!I38)","v":0},{"$f":"SUM(BJanvier!J38)","v":0},{"$f":"SUM(BJanvier!K38)","v":0},{"$f":"SUM(BJanvier!L38)","v":0},{"$f":"SUM(BJanvier!M38)","v":0},{"$f":"SUM(BJanvier!N38)","v":0},{"$f":"SUM(BJanvier!O38)","v":0},{"$f":"SUM(BJanvier!P38)","v":0},{"$f":"SUM(BJanvier!Q38)","v":0},{"$f":"SUM(BJanvier!R38)","v":0},{"$f":"SUM(BJanvier!S38)","v":0},{"$f":"SUM(BJanvier!T38)","v":0},{"$f":"SUM(BJanvier!U38)","v":0},{"$f":"SUM(BJanvier!V38)","v":0},{"$f":"SUM(BJanvier!W38)","v":0},{"$f":"SUM(BJanvier!X38)","v":0},{"$f":"SUM(BJanvier!Y38)","v":0},{"$f":"SUM(BJanvier!Z38)","v":0},{"$f":"SUM(BJanvier!AA38)","v":0},{"$f":"SUM(Janvier:Decembre!AB38)","v":0},{"$f":"Janvier!AT38","v":0},null,{"$f":"SUM(BJanvier!AE38)","v":0},{"$f":"SUM(BJanvier!AF38)","v":0},{"$f":"SUM(BJanvier!AG38)","v":0},null,0,{"$f":"Données!$J35","v":59.5},59.5,null,null,{"$error":"#VALUE!"},65,null,0]
[{"$f":"Données!$H36","v":0},{"$f":"SUM(BJanvier!B39)","v":0},{"$f":"SUM(BJanvier!C39)","v":0},{"$f":"SUM(BJanvier!D39)","v":0},{"$f":"SUM(BJanvier!E39)","v":0},{"$f":"SUM(BJanvier!F39)","v":0},{"$f":"SUM(BJanvier!G39)","v":0},{"$f":"SUM(BJanvier!H39)","v":0},{"$f":"SUM(BJanvier!I39)","v":0},{"$f":"SUM(BJanvier!J39)","v":0},{"$f":"SUM(BJanvier!K39)","v":0},{"$f":"SUM(BJanvier!L39)","v":0},{"$f":"SUM(BJanvier!M39)","v":0},{"$f":"SUM(BJanvier!N39)","v":0},{"$f":"SUM(BJanvier!O39)","v":0},{"$f":"SUM(BJanvier!P39)","v":0},{"$f":"SUM(BJanvier!Q39)","v":0},{"$f":"SUM(BJanvier!R39)","v":0},{"$f":"SUM(BJanvier!S39)","v":0},{"$f":"SUM(BJanvier!T39)","v":0},{"$f":"SUM(BJanvier!U39)","v":0},{"$f":"SUM(BJanvier!V39)","v":0},{"$f":"SUM(BJanvier!W39)","v":0},{"$f":"SUM(BJanvier!X39)","v":0},{"$f":"SUM(BJanvier!Y39)","v":0},{"$f":"SUM(BJanvier!Z39)","v":0},{"$f":"SUM(BJanvier!AA39)","v":0},{"$f":"SUM(Janvier:Decembre!AB39)","v":0},{"$f":"Janvier!AT39","v":0},null,{"$f":"SUM(BJanvier!AE39)","v":0},{"$f":"SUM(BJanvier!AF39)","v":0},{"$f":"SUM(BJanvier!AG39)","v":0},null,0,{"$f":"Données!$J36","v":59.5},59.5,null,null,{"$error":"#VALUE!"},65,null,0]
[{"$f":"Données!$H37","v":0},{"$f":"SUM(BJanvier!B40)","v":0},{"$f":"SUM(BJanvier!C40)","v":0},{"$f":"SUM(BJanvier!D40)","v":0},{"$f":"SUM(BJanvier!E40)","v":0},{"$f":"SUM(BJanvier!F40)","v":0},{"$f":"SUM(BJanvier!G40)","v":0},{"$f":"SUM(BJanvier!H40)","v":0},{"$f":"SUM(BJanvier!I40)","v":0},{"$f":"SUM(BJanvier!J40)","v":0},{"$f":"SUM(BJanvier!K40)","v":0},{"$f":"SUM(BJanvier!L40)","v":0},{"$f":"SUM(BJanvier!M40)","v":0},{"$f":"SUM(BJanvier!N40)","v":0},{"$f":"SUM(BJanvier!O40)","v":0},{"$f":"SUM(BJanvier!P40)","v":0},{"$f":"SUM(BJanvier!Q40)","v":0},{"$f":"SUM(BJanvier!R40)","v":0},{"$f":"SUM(BJanvier!S40)","v":0},{"$f":"SUM(BJanvier!T40)","v":0},{"$f":"SUM(BJanvier!U40)","v":0},{"$f":"SUM(BJanvier!V40)","v":0},{"$f":"SUM(BJanvier!W40)","v":0},{"$f":"SUM(BJanvier!X40)","v":0},{"$f":"SUM(BJanvier!Y40)","v":0},{"$f":"SUM(BJanvier!Z40)","v":0},{"$f":"SUM(BJanvier!AA40)","v":0},{"$f":"SUM(Janvier:Decembre!AB40)","v":0},{"$f":"Janvier!AT40","v":0},null,{"$f":"SUM(BJanvier!AE40)","v":0},{"$f":"SUM(BJanvier!AF40)","v":0},{"$f":"SUM(BJanvier!AG40)","v":0},null,0,{"$f":"Données!$J37","v":59.5},59.5,null,null,{"$error":"#VALUE!"},65,null,0]
[{"$f":"Données!$H38","v":0},{"$f":"SUM(BJanvier!B41)","v":0},{"$f":"SUM(BJanvier!C41)","v":0},{"$f":"SUM(BJanvier!D41)","v":0},{"$f":"SUM(BJanvier!E41)","v":0},{"$f":"SUM(BJanvier!F41)","v":0},{"$f":"SUM(BJanvier!G41)","v":0},{"$f":"SUM(BJanvier!H41)","v":0},{"$f":"SUM(BJanvier!I41)","v":0},{"$f":"SUM(BJanvier!J41)","v":0},{"$f":"SUM(BJanvier!K41)","v":0},{"$f":"SUM(BJanvier!L41)","v":0},{"$f":"SUM(BJanvier!M41)","v":0},{"$f":"SUM(BJanvier!N41)","v":0},{"$f":"SUM(BJanvier!O41)","v":0},{"$f":"SUM(BJanvier!P41)","v":0},{"$f":"SUM(BJanvier!Q41)","v":0},{"$f":"SUM(BJanvier!R41)","v":0},{"$f":"SUM(BJanvier!S41)","v":0},{"$f":"SUM(BJanvier!T41)","v":0},{"$f":"SUM(BJanvier!U41)","v":0},{"$f":"SUM(BJanvier!V41)","v":0},{"$f":"SUM(BJanvier!W41)","v":0},{"$f":"SUM(BJanvier!X41)","v":0},{"$f":"SUM(BJanvier!Y41)","v":0},{"$f":"SUM(BJanvier!Z41)","v":0},{"$f":"SUM(BJanvier!AA41)","v":0},{"$f":"SUM(Janvier:Decembre!AB41)","v":0},{"$f":"Janvier!AT41","v":0},null,{"$f":"SUM(BJanvier!AE41)","v":0},{"$f":"SUM(BJanvier!AF41)","v":0},{"$f":"SUM(BJanvier!AG41)","v":0},null,0,{"$f":"Données!$J38","v":59.5},59.5,null,null,{"$error":"#VALUE!"},65,null,0]
[{"$f":"Données!$H39","v":0},{"$f":"SUM(BJanvier!B42)","v":0},{"$f":"SUM(BJanvier!C42)","v":0},{"$f":"SUM(BJanvier!D42)","v":0},{"$f":"SUM(BJanvier!E42)","v":0},{"$f":"SUM(BJanvier!F42)","v":0},{"$f":"SUM(BJanvier!G42)","v":0},{"$f":"SUM(BJanvier!H42)","v":0},{"$f":"SUM(BJanvier!I42)","v":0},{"$f":"SUM(BJanvier!J42)","v":0},{"$f":"SUM(BJanvier!K42)","v":0},{"$f":"SUM(BJanvier!L42)","v":0},{"$f":"SUM(BJanvier!M42)","v":0},{"$f":"SUM(BJanvier!N42)","v":0},{"$f":"SUM(BJanvier!O42)","v":0},{"$f":"SUM(BJanvier!P42)","v":0},{"$f":"SUM(BJanvier!Q42)","v":0},{"$f":"SUM(BJanvier!R42)","v":0},{"$f":"SUM(BJanvier!S42)","v":0},{"$f":"SUM(BJanvier!T42)","v":0},{"$f":"SUM(BJanvier!U42)","v":0},{"$f":"SUM(BJanvier!V42)","v":0},{"$f":"SUM(BJanvier!W42)","v":0},{"$f":"SUM(BJanvier!X42)","v":0},{"$f":"SUM(BJanvier!Y42)","v":0},{"$f":"SUM(BJanvier!Z42)","v":0},{"$f":"SUM(BJanvier!AA42)","v":0},{"$f":"SUM(Janvier:Decembre!AB42)","v":0},{"$f":"Janvier!AT42","v":0},null,{"$f":"SUM(BJanvier!AE42)","v":0},{"$f":"SUM(BJanvier!AF42)","v":0},{"$f":"SUM(BJanvier!AG42)","v":0},null,0,{"$f":"Données!$J39","v":59.5},59.5,null,null,{"$error":"#VALUE!"},65,null,0]
[{"$f":"Données!$H40","v":0},{"$f":"SUM(BJanvier!B43)","v":0},{"$f":"SUM(BJanvier!C43)","v":0},{"$f":"SUM(BJanvier!D43)","v":0},{"$f":"SUM(BJanvier!E43)","v":0},{"$f":"SUM(BJanvier!F43)","v":0},{"$f":"SUM(BJanvier!G43)","v":0},{"$f":"SUM(BJanvier!H43)","v":0},{"$f":"SUM(BJanvier!I43)","v":0},{"$f":"SUM(BJanvier!J43)","v":0},{"$f":"SUM(BJanvier!K43)","v":0},{"$f":"SUM(BJanvier!L43)","v":0},{"$f":"SUM(BJanvier!M43)","v":0},{"$f":"SUM(BJanvier!N43)","v":0},{"$f":"SUM(BJanvier!O43)","v":0},{"$f":"SUM(BJanvier!P43)","v":0},{"$f":"SUM(BJanvier!Q43)","v":0},{"$f":"SUM(BJanvier!R43)","v":0},{"$f":"SUM(BJanvier!S43)","v":0},{"$f":"SUM(BJanvier!T43)","v":0},{"$f":"SUM(BJanvier!U43)","v":0},{"$f":"SUM(BJanvier!V43)","v":0},{"$f":"SUM(BJanvier!W43)","v":0},{"$f":"SUM(BJanvier!X43)","v":0},{"$f":"SUM(BJanvier!Y43)","v":0},{"$f":"SUM(BJanvier!Z43)","v":0},{"$f":"SUM(BJanvier!AA43)","v":0},{"$f":"SUM(Janvier:Decembre!AB43)","v":0},{"$f":"Janvier!AT43","v":0},null,{"$f":"SUM(BJanvier!AE43)","v":0},{"$f":"SUM(BJanvier!AF43)","v":0},{"$f":"SUM(BJanvier!AG43)","v":0},null,0,{"$f":"Données!$J40","v":59.5},59.5,null,null,{"$error":"#VALUE!"},65,null,0]
[{"$f":"Données!$H41","v":0},{"$f":"SUM(BJanvier!B44)","v":0},{"$f":"SUM(BJanvier!C44)","v":0},{"$f":"SUM(BJanvier!D44)","v":0},{"$f":"SUM(BJanvier!E44)","v":0},{"$f":"SUM(BJanvier!F44)","v":0},{"$f":"SUM(BJanvier!G44)","v":0},{"$f":"SUM(BJanvier!H44)","v":0},{"$f":"SUM(BJanvier!I44)","v":0},{"$f":"SUM(BJanvier!J44)","v":0},{"$f":"SUM(BJanvier!K44)","v":0},{"$f":"SUM(BJanvier!L44)","v":0},{"$f":"SUM(BJanvier!M44)","v":0},{"$f":"SUM(BJanvier!N44)","v":0},{"$f":"SUM(BJanvier!O44)","v":0},{"$f":"SUM(BJanvier!P44)","v":0},{"$f":"SUM(BJanvier!Q44)","v":0},{"$f":"SUM(BJanvier!R44)","v":0},{"$f":"SUM(BJanvier!S44)","v":0},{"$f":"SUM(BJanvier!T44)","v":0},{"$f":"SUM(BJanvier!U44)","v":0},{"$f":"SUM(BJanvier!V44)","v":0},{"$f":"SUM(BJanvier!W44)","v":0},{"$f":"SUM(BJanvier!X44)","v":0},{"$f":"SUM(BJanvier!Y44)","v":0},{"$f":"SUM(BJanvier!Z44)","v":0},{"$f":"SUM(BJanvier!AA44)","v":0},{"$f":"SUM(Janvier:Decembre!AB44)","v":0},{"$f":"Janvier!AT44","v":0},null,{"$f":"SUM(BJanvier!AE44)","v":0},{"$f":"SUM(BJanvier!AF44)","v":0},{"$f":"SUM(BJanvier!AG44)","v":0},null,0,{"$f":"Données!$J41","v":59.5},59.5,null,null,{"$error":"#VALUE!"},65,null,0]
[{"$f":"Données!$H42","v":"Psychologue"}]
[{"$f":"Données!$H43","v":"O"},{"$f":"IF(SUM(BJanvier!B46)=0,\"\",SUM(BJanvier!B46))","v":""},{"$f":"IF(SUM(BJanvier!C46)=0,\"\",SUM(BJanvier!C46))","v":""},{"$f":"IF(SUM(BJanvier!D46)=0,\"\",SUM(BJanvier!D46))","v":""},{"$f":"IF(SUM(BJanvier!E46)=0,\"\",SUM(BJanvier!E46))","v":""},{"$f":"IF(SUM(BJanvier!F46)=0,\"\",SUM(BJanvier!F46))","v":""},{"$f":"IF(SUM(BJanvier!G46)=0,\"\",SUM(BJanvier!G46))","v":""},{"$f":"IF(SUM(BJanvier!H46)=0,\"\",SUM(BJanvier!H46))","v":""},{"$f":"IF(SUM(BJanvier!I46)=0,\"\",SUM(BJanvier!I46))","v":""},{"$f":"IF(SUM(BJanvier!J46)=0,\"\",SUM(BJanvier!J46))","v":""},{"$f":"IF(SUM(BJanvier!K46)=0,\"\",SUM(BJanvier!K46))","v":""},{"$f":"IF(SUM(BJanvier!L46)=0,\"\",SUM(BJanvier!L46))","v":""},{"$f":"IF(SUM(BJanvier!M46)=0,\"\",SUM(BJanvier!M46))","v":""},{"$f":"IF(SUM(BJanvier!N46)=0,\"\",SUM(BJanvier!N46))","v":""},{"$f":"IF(SUM(BJanvier!O46)=0,\"\",SUM(BJanvier!O46))","v":""},{"$f":"IF(SUM(BJanvier!P46)=0,\"\",SUM(BJanvier!P46))","v":""},{"$f":"IF(SUM(BJanvier!Q46)=0,\"\",SUM(BJanvier!Q46))","v":""},{"$f":"IF(SUM(BJanvier!R46)=0,\"\",SUM(BJanvier!R46))","v":""},{"$f":"IF(SUM(BJanvier!S46)=0,\"\",SUM(BJanvier!S46))","v":""},{"$f":"IF(SUM(BJanvier!T46)=0,\"\",SUM(BJanvier!T46))","v":""},{"$f":"IF(SUM(BJanvier!U46)=0,\"\",SUM(BJanvier!U46))","v":""},{"$f":"IF(SUM(BJanvier!V46)=0,\"\",SUM(BJanvier!V46))","v":""},{"$f":"IF(SUM(BJanvier!W46)=0,\"\",SUM(BJanvier!W46))","v":""},{"$f":"IF(SUM(BJanvier!X46)=0,\"\",SUM(BJanvier!X46))","v":""},{"$f":"IF(SUM(BJanvier!Y46)=0,\"\",SUM(BJanvier!Y46))","v":""},{"$f":"IF(SUM(BJanvier!Z46)=0,\"\",SUM(BJanvier!Z46))","v":""},{"$f":"IF(SUM(BJanvier!AA46)=0,\"\",SUM(BJanvier!AA46))","v":""},{"$f":"SUM(BJanvier!AB46)","v":0},{"$f":"Janvier!AS46","v":0},null,{"$f":"SUM(BJanvier!AE46)","v":0},{"$f":"SUM(BJanvier!AF46)","v":0},{"$f":"SUM(BJanvier!AG46)","v":0},null,{"$f":"bilanh","v":0},{"$f":"Données!$J43","v":63},63,null,null,{"$f":"IFERROR($AO46-INDEX($A$9:$AA$55,MATCH($A45,$A$8:$A$54,0),MATCH(\"CA\",$A$8:$AA$8,0)),65)","v":65},65,null,{"$f":"Jourtravaillé","v":0}]
[{"$f":"Données!$H44","v":0},{"$f":"SUM(BJanvier!B47)","v":0},{"$f":"SUM(BJanvier!C47)","v":0},{"$f":"SUM(BJanvier!D47)","v":0},{"$f":"SUM(BJanvier!E47)","v":0},{"$f":"SUM(BJanvier!F47)","v":0},{"$f":"SUM(BJanvier!G47)","v":0},{"$f":"SUM(BJanvier!H47)","v":0},{"$f":"SUM(BJanvier!I47)","v":0},{"$f":"SUM(BJanvier!J47)","v":0},{"$f":"SUM(BJanvier!K47)","v":0},{"$f":"SUM(BJanvier!L47)","v":0},{"$f":"SUM(BJanvier!M47)","v":0},{"$f":"SUM(BJanvier!N47)","v":0},{"$f":"SUM(BJanvier!O47)","v":0},{"$f":"SUM(BJanvier!P47)","v":0},{"$f":"SUM(BJanvier!Q47)","v":0},{"$f":"SUM(BJanvier!R47)","v":0},{"$f":"SUM(BJanvier!S47)","v":0},{"$f":"SUM(BJanvier!T47)","v":0},{"$f":"SUM(BJanvier!U47)","v":0},{"$f":"SUM(BJanvier!V47)","v":0},{"$f":"SUM(BJanvier!W47)","v":0},{"$f":"SUM(BJanvier!X47)","v":0},{"$f":"SUM(BJanvier!Y47)","v":0},{"$f":"SUM(BJanvier!Z47)","v":0},{"$f":"SUM(BJanvier!AA47)","v":0},{"$f":"SUM(Janvier:Decembre!AB47)","v":0},{"$f":"Janvier!AT47","v":0},null,{"$f":"SUM(BJanvier!AE47)","v":0},{"$f":"SUM(BJanvier!AF47)","v":0},{"$f":"SUM(BJanvier!AG47)","v":0},null,0,{"$f":"Données!$J44","v":59.5},59.5,null,null,65,65,null,{"$f":"SUM(B47:R47)","v":0}]
[{"$f":"Données!$H45","v":0},{"$f":"SUM(BJanvier!B48)","v":0},{"$f":"SUM(BJanvier!C48)","v":0},{"$f":"SUM(BJanvier!D48)","v":0},{"$f":"SUM(BJanvier!E48)","v":0},{"$f":"SUM(BJanvier!F48)","v":0},{"$f":"SUM(BJanvier!G48)","v":0},{"$f":"SUM(BJanvier!H48)","v":0},{"$f":"SUM(BJanvier!I48)","v":0},{"$f":"SUM(BJanvier!J48)","v":0},{"$f":"SUM(BJanvier!K48)","v":0},{"$f":"SUM(BJanvier!L48)","v":0},{"$f":"SUM(BJanvier!M48)","v":0},{"$f":"SUM(BJanvier!N48)","v":0},{"$f":"SUM(BJanvier!O48)","v":0},{"$f":"SUM(BJanvier!P48)","v":0},{"$f":"SUM(BJanvier!Q48)","v":0},{"$f":"SUM(BJanvier!R48)","v":0},{"$f":"SUM(BJanvier!S48)","v":0},{"$f":"SUM(BJanvier!T48)","v":0},{"$f":"SUM(BJanvier!U48)","v":0},{"$f":"SUM(BJanvier!V48)","v":0},{"$f":"SUM(BJanvier!W48)","v":0},{"$f":"SUM(BJanvier!X48)","v":0},{"$f":"SUM(BJanvier!Y48)","v":0},{"$f":"SUM(BJanvier!Z48)","v":0},{"$f":"SUM(BJanvier!AA48)","v":0},{"$f":"SUM(Janvier:Decembre!AB48)","v":0},{"$f":"Janvier!AT48","v":0},null,{"$f":"SUM(BJanvier!AE48)","v":0},{"$f":"SUM(BJanvier!AF48)","v":0},{"$f":"SUM(BJanvier!AG48)","v":0},null,0,{"$f":"Données!$J45","v":59.5},59.5,null,null,{"$error":"#VALUE!"},65,null,{"$f":"SUM(B48:R48)","v":0}]
[{"$f":"Données!$H46","v":"Coordinatrice"}]
[{"$f":"Données!$H47","v":"P"},{"$f":"IF(SUM(BJanvier!B50)=0,\"\",SUM(BJanvier!B50))","v":""},{"$f":"IF(SUM(BJanvier!C50)=0,\"\",SUM(BJanvier!C50))","v":""},{"$f":"IF(SUM(BJanvier!D50)=0,\"\",SUM(BJanvier!D50))","v":""},{"$f":"IF(SUM(BJanvier!E50)=0,\"\",SUM(BJanvier!E50))","v":""},{"$f":"IF(SUM(BJanvier!F50)=0,\"\",SUM(BJanvier!F50))","v":""},{"$f":"IF(SUM(BJanvier!G50)=0,\"\",SUM(BJanvier!G50))","v":""},{"$f":"IF(SUM(BJanvier!H50)=0,\"\",SUM(BJanvier!H50))","v":""},{"$f":"IF(SUM(BJanvier!I50)=0,\"\",SUM(BJanvier!I50))","v":""},{"$f":"IF(SUM(BJanvier!J50)=0,\"\",SUM(BJanvier!J50))","v":""},{"$f":"IF(SUM(BJanvier!K50)=0,\"\",SUM(BJanvier!K50))","v":""},{"$f":"IF(SUM(BJanvier!L50)=0,\"\",SUM(BJanvier!L50))","v":""},{"$f":"IF(SUM(BJanvier!M50)=0,\"\",SUM(BJanvier!M50))","v":""},{"$f":"IF(SUM(BJanvier!N50)=0,\"\",SUM(BJanvier!N50))","v":""},{"$f":"IF(SUM(BJanvier!O50)=0,\"\",SUM(BJanvier!O50))","v":""},{"$f":"IF(SUM(BJanvier!P50)=0,\"\",SUM(BJanvier!P50))","v":""},{"$f":"IF(SUM(BJanvier!Q50)=0,\"\",SUM(BJanvier!Q50))","v":""},{"$f":"IF(SUM(BJanvier!R50)=0,\"\",SUM(BJanvier!R50))","v":""},{"$f":"IF(SUM(BJanvier!S50)=0,\"\",SUM(BJanvier!S50))","v":""},{"$f":"IF(SUM(BJanvier!T50)=0,\"\",SUM(BJanvier!T50))","v":""},{"$f":"IF(SUM(BJanvier!U50)=0,\"\",SUM(BJanvier!U50))","v":""},{"$f":"IF(SUM(BJanvier!V50)=0,\"\",SUM(BJanvier!V50))","v":""},{"$f":"IF(SUM(BJanvier!W50)=0,\"\",SUM(BJanvier!W50))","v":""},{"$f":"IF(SUM(BJanvier!X50)=0,\"\",SUM(BJanvier!X50))","v":""},{"$f":"IF(SUM(BJanvier!Y50)=0,\"\",SUM(BJanvier!Y50))","v":""},{"$f":"IF(SUM(BJanvier!Z50)=0,\"\",SUM(BJanvier!Z50))","v":""},{"$f":"IF(SUM(BJanvier!AA50)=0,\"\",SUM(BJanvier!AA50))","v":""},{"$f":"SUM(BJanvier!AB50)","v":0},{"$f":"Janvier!AS50","v":0},null,{"$f":"SUM(BJanvier!AE50)","v":0},{"$f":"SUM(BJanvier!AF50)","v":0},{"$f":"SUM(BJanvier!AG50)","v":0},null,{"$f":"bilanh","v":0},{"$f":"Données!$J47","v":63},63,null,null,{"$f":"IFERROR($AO50-INDEX($A$9:$AA$55,MATCH($A49,$A$8:$A$54,0),MATCH(\"CA\",$A$8:$AA$8,0)),65)","v":65},65,null,{"$f":"Jourtravaillé","v":0}]
[{"$f":"Données!$H48","v":0},{"$f":"SUM(BJanvier!B51)","v":0},{"$f":"SUM(BJanvier!C51)","v":0},{"$f":"SUM(BJanvier!D51)","v":0},{"$f":"SUM(BJanvier!E51)","v":0},{"$f":"SUM(BJanvier!F51)","v":0},{"$f":"SUM(BJanvier!G51)","v":0},{"$f":"SUM(BJanvier!H51)","v":0},{"$f":"SUM(BJanvier!I51)","v":0},{"$f":"SUM(BJanvier!J51)","v":0},{"$f":"SUM(BJanvier!K51)","v":0},{"$f":"SUM(BJanvier!L51)","v":0},{"$f":"SUM(BJanvier!M51)","v":0},{"$f":"SUM(BJanvier!N51)","v":0},{"$f":"SUM(BJanvier!O51)","v":0},{"$f":"SUM(BJanvier!P51)","v":0},{"$f":"SUM(BJanvier!Q51)","v":0},{"$f":"SUM(BJanvier!R51)","v":0},{"$f":"SUM(BJanvier!S51)","v":0},{"$f":"SUM(BJanvier!T51)","v":0},{"$f":"SUM(BJanvier!U51)","v":0},{"$f":"SUM(BJanvier!V51)","v":0},{"$f":"SUM(BJanvier!W51)","v":0},{"$f":"SUM(BJanvier!X51)","v":0},{"$f":"SUM(BJanvier!Y51)","v":0},{"$f":"SUM(BJanvier!Z51)","v":0},{"$f":"SUM(BJanvier!AA51)","v":0},{"$f":"SUM(Janvier:Decembre!AB51)","v":0},{"$f":"Janvier!AT51","v":0},null,{"$f":"SUM(BJanvier!AE51)","v":0},{"$f":"SUM(BJanvier!AF51)","v":0},{"$f":"SUM(BJanvier!AG51)","v":0},null,0,{"$f":"Données!$J48","v":59.5},59.5,null,null,66,66,null,{"$f":"SUM(B51:R51)","v":0}]
[{"$f":"Données!$H49","v":0},{"$f":"SUM(BJanvier!B52)","v":0},{"$f":"SUM(BJanvier!C52)","v":0},{"$f":"SUM(BJanvier!D52)","v":0},{"$f":"SUM(BJanvier!E52)","v":0},{"$f":"SUM(BJanvier!F52)","v":0},{"$f":"SUM(BJanvier!G52)","v":0},{"$f":"SUM(BJanvier!H52)","v":0},{"$f":"SUM(BJanvier!I52)","v":0},{"$f":"SUM(BJanvier!J52)","v":0},{"$f":"SUM(BJanvier!K52)","v":0},{"$f":"SUM(BJanvier!L52)","v":0},{"$f":"SUM(BJanvier!M52)","v":0},{"$f":"SUM(BJanvier!N52)","v":0},{"$f":"SUM(BJanvier!O52)","v":0},{"$f":"SUM(BJanvier!P52)","v":0},{"$f":"SUM(BJanvier!Q52)","v":0},{"$f":"SUM(BJanvier!R52)","v":0},{"$f":"SUM(BJanvier!S52)","v":0},{"$f":"SUM(BJanvier!T52)","v":0},{"$f":"SUM(BJanvier!U52)","v":0},{"$f":"SUM(BJanvier!V52)","v":0},{"$f":"SUM(BJanvier!W52)","v":0},{"$f":"SUM(BJanvier!X52)","v":0},{"$f":"SUM(BJanvier!Y52)","v":0},{"$f":"SUM(BJanvier!Z52)","v":0},{"$f":"SUM(BJanvier!AA52)","v":0},{"$f":"SUM(Janvier:Decembre!AB52)","v":0},{"$f":"Janvier!AT52","v":0},null,{"$f":"SUM(BJanvier!AE52)","v":0},{"$f":"SUM(BJanvier!AF52)","v":0},{"$f":"SUM(BJanvier!AG52)","v":0},null,0,{"$f":"Données!$J49","v":59.5},59.5,null,null,{"$error":"#VALUE!"},67,null,{"$f":"SUM(B52:R52)","v":0}]
[{"$f":"Données!$H50","v":0},{"$f":"SUM(BJanvier!B53)","v":0},{"$f":"SUM(BJanvier!C53)","v":0},{"$f":"SUM(BJanvier!D53)","v":0},{"$f":"SUM(BJanvier!E53)","v":0},{"$f":"SUM(BJanvier!F53)","v":0},{"$f":"SUM(BJanvier!G53)","v":0},{"$f":"SUM(BJanvier!H53)","v":0},{"$f":"SUM(BJanvier!I53)","v":0},{"$f":"SUM(BJanvier!J53)","v":0},{"$f":"SUM(BJanvier!K53)","v":0},{"$f":"SUM(BJanvier!L53)","v":0},{"$f":"SUM(BJanvier!M53)","v":0},{"$f":"SUM(BJanvier!N53)","v":0},{"$f":"SUM(BJanvier!O53)","v":0},{"$f":"SUM(BJanvier!P53)","v":0},{"$f":"SUM(BJanvier!Q53)","v":0},{"$f":"SUM(BJanvier!R53)","v":0},{"$f":"SUM(BJanvier!S53)","v":0},{"$f":"SUM(BJanvier!T53)","v":0},{"$f":"SUM(BJanvier!U53)","v":0},{"$f":"SUM(BJanvier!V53)","v":0},{"$f":"SUM(BJanvier!W53)","v":0},{"$f":"SUM(BJanvier!X53)","v":0},{"$f":"SUM(BJanvier!Y53)","v":0},{"$f":"SUM(BJanvier!Z53)","v":0},{"$f":"SUM(BJanvier!AA53)","v":0},{"$f":"SUM(Janvier:Decembre!AB53)","v":0},{"$f":"Janvier!AT53","v":0},null,{"$f":"SUM(BJanvier!AE53)","v":0},{"$f":"SUM(BJanvier!AF53)","v":0},{"$f":"SUM(BJanvier!AG53)","v":0},null,0,{"$f":"Données!$J50","v":59.5},59.5,null,null,{"$error":"#VALUE!"},68,null,{"$f":"SUM(B53:R53)","v":0}]
[{"$f":"Données!$H51","v":0},{"$f":"SUM(BJanvier!B54)","v":0},{"$f":"SUM(BJanvier!C54)","v":0},{"$f":"SUM(BJanvier!D54)","v":0},{"$f":"SUM(BJanvier!E54)","v":0},{"$f":"SUM(BJanvier!F54)","v":0},{"$f":"SUM(BJanvier!G54)","v":0},{"$f":"SUM(BJanvier!H54)","v":0},{"$f":"SUM(BJanvier!I54)","v":0},{"$f":"SUM(BJanvier!J54)","v":0},{"$f":"SUM(BJanvier!K54)","v":0},{"$f":"SUM(BJanvier!L54)","v":0},{"$f":"SUM(BJanvier!M54)","v":0},{"$f":"SUM(BJanvier!N54)","v":0},{"$f":"SUM(BJanvier!O54)","v":0},{"$f":"SUM(BJanvier!P54)","v":0},{"$f":"SUM(BJanvier!Q54)","v":0},{"$f":"SUM(BJanvier!R54)","v":0},{"$f":"SUM(BJanvier!S54)","v":0},{"$f":"SUM(BJanvier!T54)","v":0},{"$f":"SUM(BJanvier!U54)","v":0},{"$f":"SUM(BJanvier!V54)","v":0},{"$f":"SUM(BJanvier!W54)","v":0},{"$f":"SUM(BJanvier!X54)","v":0},{"$f":"SUM(BJanvier!Y54)","v":0},{"$f":"SUM(BJanvier!Z54)","v":0},{"$f":"SUM(BJanvier!AA54)","v":0},{"$f":"SUM(Janvier:Decembre!AB54)","v":0},{"$f":"Janvier!AT54","v":0},null,{"$f":"SUM(BJanvier!AE54)","v":0},{"$f":"SUM(BJanvier!AF54)","v":0},{"$f":"SUM(BJanvier!AG54)","v":0},null,0,{"$f":"Données!$J51","v":59.5},59.5,null,null,{"$error":"#VALUE!"},69,null,{"$f":"SUM(B54:R54)","v":0}]
[{"$f":"Données!$H52","v":"Chef de service"}]
[{"$f":"Données!$H53","v":"Q"},{"$f":"IF(SUM(BJanvier!B56)=0,\"\",SUM(BJanvier!B56))","v":""},{"$f":"IF(SUM(BJanvier!C56)=0,\"\",SUM(BJanvier!C56))","v":""},{"$f":"IF(SUM(BJanvier!D56)=0,\"\",SUM(BJanvier!D56))","v":""},{"$f":"IF(SUM(BJanvier!E56)=0,\"\",SUM(BJanvier!E56))","v":""},{"$f":"IF(SUM(BJanvier!F56)=0,\"\",SUM(BJanvier!F56))","v":""},{"$f":"IF(SUM(BJanvier!G56)=0,\"\",SUM(BJanvier!G56))","v":""},{"$f":"IF(SUM(BJanvier!H56)=0,\"\",SUM(BJanvier!H56))","v":""},{"$f":"IF(SUM(BJanvier!I56)=0,\"\",SUM(BJanvier!I56))","v":""},{"$f":"IF(SUM(BJanvier!J56)=0,\"\",SUM(BJanvier!J56))","v":""},{"$f":"IF(SUM(BJanvier!K56)=0,\"\",SUM(BJanvier!K56))","v":""},{"$f":"IF(SUM(BJanvier!L56)=0,\"\",SUM(BJanvier!L56))","v":""},{"$f":"IF(SUM(BJanvier!M56)=0,\"\",SUM(BJanvier!M56))","v":""},{"$f":"IF(SUM(BJanvier!N56)=0,\"\",SUM(BJanvier!N56))","v":""},{"$f":"IF(SUM(BJanvier!O56)=0,\"\",SUM(BJanvier!O56))","v":""},{"$f":"IF(SUM(BJanvier!P56)=0,\"\",SUM(BJanvier!P56))","v":""},{"$f":"IF(SUM(BJanvier!Q56)=0,\"\",SUM(BJanvier!Q56))","v":""},{"$f":"IF(SUM(BJanvier!R56)=0,\"\",SUM(BJanvier!R56))","v":""},{"$f":"IF(SUM(BJanvier!S56)=0,\"\",SUM(BJanvier!S56))","v":""},{"$f":"IF(SUM(BJanvier!T56)=0,\"\",SUM(BJanvier!T56))","v":""},{"$f":"IF(SUM(BJanvier!U56)=0,\"\",SUM(BJanvier!U56))","v":""},{"$f":"IF(SUM(BJanvier!V56)=0,\"\",SUM(BJanvier!V56))","v":""},{"$f":"IF(SUM(BJanvier!W56)=0,\"\",SUM(BJanvier!W56))","v":""},{"$f":"IF(SUM(BJanvier!X56)=0,\"\",SUM(BJanvier!X56))","v":""},{"$f":"IF(SUM(BJanvier!Y56)=0,\"\",SUM(BJanvier!Y56))","v":""},{"$f":"IF(SUM(BJanvier!Z56)=0,\"\",SUM(BJanvier!Z56))","v":""},{"$f":"IF(SUM(BJanvier!AA56)=0,\"\",SUM(BJanvier!AA56))","v":""},{"$f":"SUM(BJanvier!AB56)","v":0},{"$f":"Janvier!AS56","v":0},null,{"$f":"SUM(BJanvier!AE56)","v":0},{"$f":"SUM(BJanvier!AF56)","v":0},{"$f":"SUM(BJanvier!AG56)","v":0},null,{"$f":"bilanh","v":0},{"$f":"Données!$J53","v":63},63,null,null,{"$f":"IFERROR($AO56-INDEX($A$9:$AA$55,MATCH($A55,$A$8:$A$54,0),MATCH(\"CA\",$A$8:$AA$8,0)),65)","v":65},65,null,{"$f":"Jourtravaillé","v":0}]