{"text_format":"1","workbook":"xlsx","n_sheets":8,"sheets":["Tableau de bord","Vente Jour","Clients","Journal de caisse","Suivi ventes","Réception","Fournisseur & Stock","Compte d'exploitation"],"not_rendered":{"charts":1,"images":25,"macros":1,"external_links":0,"defined_names":21,"comments":0,"pivot_tables":0},"unopened":[],"bounds":{"document_bytes":16777216,"sheet_cells":100000,"rows_first":2000,"rows_last":500,"rows_between":2000,"halvings":0,"cell_chars":16384,"cell_head_chars":4096},"cells_cut":0,"cells_raw":0,"read":"whole","date_system":"1900"}

{"sheet":"Tableau de bord","index":0,"n_rows":32,"n_cols":16,"rows_kept":32,"cut":false,"hidden":false,"merged":[[24,0,25,1],[31,4,32,15],[3,8,4,8],[0,0,0,1],[1,0,1,1],[3,0,3,1],[4,0,4,1],[3,3,4,3],[3,4,4,4],[3,5,4,5],[3,6,4,6],[3,7,4,7],[3,15,4,15],[6,3,7,3],[6,4,7,4],[6,5,7,5],[3,9,4,9],[3,10,4,10],[3,11,4,11],[3,12,4,12],[6,6,7,6],[6,7,7,7],[6,8,7,8],[6,9,7,9],[6,10,7,10],[3,13,4,13],[3,14,4,14],[6,12,7,12],[6,13,7,13],[6,14,7,14],[6,15,7,15],[9,0,9,1],[6,0,6,1],[7,0,7,1],[19,0,19,1],[6,11,7,11],[21,0,21,1],[22,0,22,1],[10,0,10,1],[12,0,12,1],[13,0,13,1],[15,0,15,1],[16,0,16,1],[18,0,18,1]]}
["CA DDA",null,null,null,"JANVIER","FÉVRIER","MARS","AVRIL","MAI","JUIN","JUILLET","AOÛT","SEPTEMBRE","OCTOBRE","NOVEMBRE","DÉCEMBRE"]
[{"$f":"'Journal de caisse'!M1","v":111086},null,null,"CA",{"$f":"'Journal de caisse'!$M4","v":0},{"$f":"'Journal de caisse'!$M36","v":0},{"$f":"'Journal de caisse'!$M65","v":0},{"$f":"'Journal de caisse'!$M97","v":0},{"$f":"'Journal de caisse'!$M128","v":0},{"$f":"'Journal de caisse'!$M160","v":0},{"$f":"'Journal de caisse'!$M191","v":0},{"$f":"'Journal de caisse'!$M223","v":0},{"$f":"'Journal de caisse'!$M255","v":111086},{"$f":"'Journal de caisse'!$M286","v":0},{"$f":"'Journal de caisse'!$M318","v":0},{"$f":"'Journal de caisse'!$M349","v":0}]
[]
["CA PRESTATIONS",null,null,"PRESTA",{"$f":"'Journal de caisse'!$O4","v":0},{"$f":"'Journal de caisse'!$O36","v":0},{"$f":"'Journal de caisse'!$O65","v":0},{"$f":"'Journal de caisse'!$O97","v":0},{"$f":"'Journal de caisse'!$O128","v":0},{"$f":"'Journal de caisse'!$O160","v":0},{"$f":"'Journal de caisse'!$O191","v":0},{"$f":"'Journal de caisse'!$O223","v":0},{"$f":"'Journal de caisse'!$O255","v":11021},{"$f":"'Journal de caisse'!$O286","v":0},{"$f":"'Journal de caisse'!$O318","v":0},{"$f":"'Journal de caisse'!$O349","v":0}]
[{"$f":"'Journal de caisse'!O2","v":11021}]
[]
["CA VENTES",null,null,"VENTES",{"$f":"'Journal de caisse'!$Q4","v":0},{"$f":"'Journal de caisse'!$Q36","v":0},{"$f":"'Journal de caisse'!$Q65","v":0},{"$f":"'Journal de caisse'!$Q97","v":0},{"$f":"'Journal de caisse'!$Q128","v":0},{"$f":"'Journal de caisse'!$Q160","v":0},{"$f":"'Journal de caisse'!$Q191","v":0},{"$f":"'Journal de caisse'!$Q223","v":0},{"$f":"'Journal de caisse'!$Q255","v":100065},{"$f":"'Journal de caisse'!$Q286","v":0},{"$f":"'Journal de caisse'!$Q318","v":0},{"$f":"'Journal de caisse'!$Q349","v":0}]
[{"$f":"'Journal de caisse'!Q2","v":100065}]
[]
["NBRES PRESTA"]
[{"$f":"'Journal de caisse'!N2","v":14}]
[]
["NBRES VENTES"]
[{"$f":"'Journal de caisse'!P2","v":537}]
[]
["TICKET MOYEN TOTAL"]
[{"$f":"A2/(A11+A14)","v":201.60798548094374}]
[]
["TICKET MOYEN PRESTA"]
[{"$f":"A5/A11","v":787.21428571428567}]
[]
["TICKET MOYEN VENTE"]
[{"$f":"A8/A14","v":186.34078212290504}]
[]
["MENU"]
[]
[]
[]
[]
[]
[]
[null,null,null,null,"EXTRAIRE STATISTIQUES MANAGER"]

{"sheet":"Vente Jour","index":1,"n_rows":65000,"n_cols":20,"rows_kept":4500,"cut":true,"hidden":false,"merged":[[17,7,18,7],[7,1,7,2],[12,7,13,7],[8,1,8,2],[23,9,24,10],[16,1,16,2],[9,1,9,2],[21,1,21,2],[23,11,24,12],[2,9,3,12],[7,9,8,10],[9,9,10,10],[7,11,8,12],[9,11,10,12],[11,10,11,12],[12,10,12,12],[13,10,13,12],[14,10,14,12],[15,10,15,12],[33,1,33,2],[22,7,23,7],[24,7,26,7],[30,1,30,2],[31,1,31,2],[32,1,32,2],[27,1,27,2],[28,1,28,2],[29,1,29,2],[26,1,26,2],[24,1,24,2],[25,1,25,2],[22,1,22,2],[23,1,23,2],[0,1,0,4],[17,1,17,2],[18,1,18,2],[19,1,19,2],[20,1,20,2],[11,1,11,2],[12,1,12,2],[13,1,13,2],[14,1,14,2],[10,1,10,2],[15,1,15,2],[6,1,6,2],[1,1,1,2],[2,1,2,2],[3,1,3,2],[5,1,5,2],[4,1,4,2],[16,10,16,12],[2,7,3,7],[6,7,7,7],[10,7,11,7],[15,7,16,7]],"bounds":{"rows_first":2000,"rows_last":500,"rows_between":2000,"halvings":0}}
[null,"CAISSE",null,null,null,null,null,{"$f":"TODAY()","v":"2017-09-30"}]
[null,"Fournisseur/produit",null,null,"QTT","PU TTC","TOTAL"]
[null,"Prestation de service",null,null,null,null,null,"Total Articles",null,"CLIENT"]
[null,"Prestation de service",null,null,null,null,{"$f":"E4*F4","v":0}]
[null,"Fournisseur ZAO",null,null,null,null,null,{"$f":"SUM(E6:E33)","v":0}]
[null,"Accessoire",null,null,null,null,{"$f":"E6*F6","v":0},null,null,null,"Neymar Jr"]
[null,"Produit vente",null,null,null,null,0,"Total Prestations"]
[null,"Testeur",null,null,null,null,0,null,null,"NOM",null,{"$f":"IFERROR(INDEX(Clients!B:B,MATCH('Vente Jour'!$K$6,Clients!S:S,0)),\"\")","v":"Neymar"}]
[null,"Fournisseur BOY DIFFUSION",null,null,null,null,null,{"$f":"SUM(E4)","v":0}]
[null,"Comsommable",null,null,null,null,0,"","","PRENOM",null,{"$f":"IFERROR(INDEX(Clients!C:C,MATCH('Vente Jour'!$K$6,Clients!S:S,0)),\"\")","v":"Jr"}]
[null,"Fournisseur ARTICLES DE PARIS",null,null,null,null,null,"Total TTC Articles",""]
[null,"Bijou",null,null,null,null,0,null,null,"ADRESSE1",{"$f":"IFERROR(INDEX(Clients!D:D,MATCH('Vente Jour'!$K$6,Clients!S:S,0)),\"\")","v":""}]
[null,"Foulard","Foulard",null,null,null,0,{"$f":"SUM(G6:G33)","v":0},null,"ADRESSE2",{"$f":"IFERROR(INDEX(Clients!E:E,MATCH('Vente Jour'!$K$6,Clients!S:S,0)),\"\")","v":""}]
[null,"Ceinture","Ceinture",null,null,null,0,null,null,"CODE POSTAL",{"$f":"IFERROR(INDEX(Clients!F:F,MATCH('Vente Jour'!$K$6,Clients!S:S,0)),\"\")","v":""},null,null,null,null,null,null,null,{"$f":"IF(Clients!B13=\"\",\"\",Clients!B13)","v":"dupond"},{"$f":"IF(Clients!C13=\"\",\"\",Clients!C13)","v":"ginette"}]
[null,"Prêt à porter","Prêt à porter",null,null,null,0,null,null,"VILLE",{"$f":"IFERROR(INDEX(Clients!G:G,MATCH('Vente Jour'!$K$6,Clients!S:S,0)),\"\")","v":""},null,null,null,null,null,null,null,{"$f":"IF(Clients!B14=\"\",\"\",Clients!B14)","v":""},{"$f":"IF(Clients!C14=\"\",\"\",Clients!C14)","v":""}]
[null,"Chapeau","Chapeau",null,null,null,0,"Total TTC Prestations",null,"TEL",{"$f":"IFERROR(INDEX(Clients!H:H,MATCH('Vente Jour'!$K$6,Clients!S:S,0)),\"\")","v":""},null,null,null,null,null,null,null,{"$f":"IF(Clients!B15=\"\",\"\",Clients!B15)","v":""},{"$f":"IF(Clients!C15=\"\",\"\",Clients!C15)","v":""}]
[null,"Sac","Sac",null,null,null,0,null,null,"MAIL",{"$f":"IFERROR(INDEX(Clients!I:I,MATCH('Vente Jour'!$K$6,Clients!S:S,0)),\"\")","v":""},null,null,null,null,null,null,null,{"$f":"IF(Clients!B16=\"\",\"\",Clients!B16)","v":""},{"$f":"IF(Clients!C16=\"\",\"\",Clients!C16)","v":""}]
[null,"Maroquinerie","Maroquinerie",null,null,null,0,{"$f":"SUM(G4)","v":0},null,null,null,"Solde du compte",{"$f":"IFERROR(INDEX(Clients!M:M,MATCH('Vente Jour'!$K$6,Clients!S:S,0)),\"\")","v":0},null,null,null,null,null,{"$f":"IF(Clients!B17=\"\",\"\",Clients!B17)","v":""},{"$f":"IF(Clients!C17=\"\",\"\",Clients!C17)","v":""}]
[null,"Chaussure","Chaussure",null,null,null,0,null,null,null,null,"Achat 6 derniers mois",{"$f":"IFERROR(INDEX(Clients!N:N,MATCH('Vente Jour'!$K$6,Clients!S:S,0)),\"\")","v":0},null,null,null,null,null,{"$f":"IF(Clients!B18=\"\",\"\",Clients!B18)","v":""},{"$f":"IF(Clients!C18=\"\",\"\",Clients!C18)","v":""}]
[null,"Divers","Divers",null,null,null,0,null,null,null,null,"Passage 6 derniers mois",{"$f":"IFERROR(INDEX(Clients!O:O,MATCH('Vente Jour'!$K$6,Clients!S:S,0)),\"\")","v":0},null,null,null,null,null,{"$f":"IF(Clients!B19=\"\",\"\",Clients!B19)","v":""},{"$f":"IF(Clients!C19=\"\",\"\",Clients!C19)","v":""}]
[null,"Fournisseur AUTOUR D'ELLE",null,null,null,null,null,null,null,null,null,"Achat 12 derniers mois",{"$f":"IFERROR(INDEX(Clients!P:P,MATCH('Vente Jour'!$K$6,Clients!S:S,0)),\"\")","v":0},null,null,null,null,null,{"$f":"IF(Clients!B20=\"\",\"\",Clients!B20)","v":""},{"$f":"IF(Clients!C20=\"\",\"\",Clients!C20)","v":""}]
[null,"Bijou",null,null,null,null,0,null,null,null,null,"Passage 12 derniers mois",{"$f":"IFERROR(INDEX(Clients!Q:Q,MATCH('Vente Jour'!$K$6,Clients!S:S,0)),\"\")","v":0},null,null,null,null,null,{"$f":"IF(Clients!B21=\"\",\"\",Clients!B21)","v":""},{"$f":"IF(Clients!C21=\"\",\"\",Clients!C21)","v":""}]
[null,"Foulard","Foulard",null,null,null,0,"MONTANT TOTAL TTC",null,null,null,null,null,null,null,null,null,null,{"$f":"IF(Clients!B22=\"\",\"\",Clients!B22)","v":""},{"$f":"IF(Clients!C22=\"\",\"\",Clients!C22)","v":""}]
[null,"Ceinture","Ceinture",null,null,null,0,null,null,"ANNIVERSAIRE",null,{"$f":"CONCATENATE(IFERROR(INDEX(Clients!J:J,MATCH('Vente Jour'!$K$6,Clients!S:S,0)),\"\"), \"/\",IFERROR(INDEX(Clients!K:K,MATCH('Vente Jour'!$K$6,Clients!S:S,0)),\"\"))","v":"/"},null,null,null,null,null,null,{"$f":"IF(Clients!B23=\"\",\"\",Clients!B23)","v":""},{"$f":"IF(Clients!C23=\"\",\"\",Clients!C23)","v":""}]
[null,"Prêt à porter","Prêt à porter",null,null,null,0,{"$f":"SUM(H13+H18)","v":0},null,null,null,null,null,null,null,null,null,null,{"$f":"IF(Clients!B24=\"\",\"\",Clients!B24)","v":""},{"$f":"IF(Clients!C24=\"\",\"\",Clients!C24)","v":""}]
[null,"Chapeau","Chapeau",null,null,null,0,null,null,null,null,null,null,null,null,null,null,null,{"$f":"IF(Clients!B25=\"\",\"\",Clients!B25)","v":""},{"$f":"IF(Clients!C25=\"\",\"\",Clients!C25)","v":""}]
[null,"Sac","Sac",null,null,null,0,null,null,null,null,null,null,null,null,null,null,null,{"$f":"IF(Clients!B26=\"\",\"\",Clients!B26)","v":""},{"$f":"IF(Clients!C26=\"\",\"\",Clients!C26)","v":""}]
[null,"Maroquinerie","Maroquinerie",null,null,null,0,null,null,null,null,null,null,null,null,null,null,null,{"$f":"IF(Clients!B27=\"\",\"\",Clients!B27)","v":""},{"$f":"IF(Clients!C27=\"\",\"\",Clients!C27)","v":""}]
[null,"Chaussure","Chaussure",null,null,null,0,null,null,null,null,null,null,null,null,null,null,null,{"$f":"IF(Clients!B28=\"\",\"\",Clients!B28)","v":""},{"$f":"IF(Clients!C28=\"\",\"\",Clients!C28)","v":""}]
[null,"Divers","Divers",null,null,null,0,null,null,null,null,null,null,null,null,null,null,null,{"$f":"IF(Clients!B29=\"\",\"\",Clients!B29)","v":""},{"$f":"IF(Clients!C29=\"\",\"\",Clients!C29)","v":""}]
[null,"Fournisseur CHARME D'ORIENT",null,null,null,null,null,null,null,null,null,null,null,null,null,null,null,null,{"$f":"IF(Clients!B30=\"\",\"\",Clients!B30)","v":""},{"$f":"IF(Clients!C30=\"\",\"\",Clients!C30)","v":""}]
[null,"CABINE",null,null,null,null,0,null,null,null,null,null,null,null,null,null,null,null,{"$f":"IF(Clients!B31=\"\",\"\",Clients!B31)","v":""},{"$f":"IF(Clients!C31=\"\",\"\",Clients!C31)","v":""}]
[null,"VENTE",null,null,null,null,0,null,null,null,null,null,null,null,null,null,null,null,{"$f":"IF(Clients!B32=\"\",\"\",Clients!B32)","v":""},{"$f":"IF(Clients!C32=\"\",\"\",Clients!C32)","v":""}]
[null,null,null,null,null,null,null,null,null,null,null,null,null,null,null,null,null,null,{"$f":"IF(Clients!B33=\"\",\"\",Clients!B33)","v":""},{"$f":"IF(Clients!C33=\"\",\"\",Clients!C33)","v":""}]
[null,null,null,null,null,null,null,null,null,null,null,null,null,null,null,null,null,null,{"$f":"IF(Clients!B34=\"\",\"\",Clients!B34)","v":""},{"$f":"IF(Clients!C34=\"\",\"\",Clients!C34)","v":""}]
[null,null,null,null,null,null,null,null,null,null,null,null,null,null,null,null,null,null,{"$f":"IF(Clients!B35=\"\",\"\",Clients!B35)","v":""},{"$f":"IF(Clients!C35=\"\",\"\",Clients!C35)","v":""}]
[null,null,null,null,null,null,null,null,null,null,null,null,null,null,null,null,null,null,{"$f":"IF(Clients!B36=\"\",\"\",Clients!B36)","v":""},{"$f":"IF(Clients!C36=\"\",\"\",Clients!C36)","v":""}]
[null,null,null,null,null,null,null,null,null,null,null,null,null,null,null,null,null,null,{"$f":"IF(Clients!B37=\"\",\"\",Clients!B37)","v":""},{"$f":"IF(Clients!C37=\"\",\"\",Clients!C37)","v":""}]
[null,null,null,null,null,null,null,null,null,null,null,null,null,null,null,null,null,null,{"$f":"IF(Clients!B38=\"\",\"\",Clients!B38)","v":""},{"$f":"IF(Clients!C38=\"\",\"\",Clients!C38)","v":""}]
[null,null,null,null,null,null,null,null,null,null,null,null,null,null,null,null,null,null,{"$f":"IF(Clients!B39=\"\",\"\",Clients!B39)","v":""},{"$f":"IF(Clients!C39=\"\",\"\",Clients!C39)","v":""}]
[null,null,null,null,null,null,null,null,null,null,null,null,null,null,null,null,null,null,{"$f":"IF(Clients!B40=\"\",\"\",Clients!B40)","v":""},{"$f":"IF(Clients!C40=\"\",\"\",Clients!C40)","v":""}]
[null,null,null,null,null,null,null,null,null,null,null,null,null,null,null,null,null,null,{"$f":"IF(Clients!B41=\"\",\"\",Clients!B41)","v":""},{"$f":"IF(Clients!C41=\"\",\"\",Clients!C41)","v":""}]
[null,null,null,null,null,null,null,null,null,null,null,null,null,null,null,null,null,null,{"$f":"IF(Clients!B42=\"\",\"\",Clients!B42)","v":""},{"$f":"IF(Clients!C42=\"\",\"\",Clients!C42)","v":""}]
[null,null,null,null,null,null,null,null,null,null,null,null,null,null,null,null,null,null,{"$f":"IF(Clients!B43=\"\",\"\",Clients!B43)","v":""},{"$f":"IF(Clients!C43=\"\",\"\",Clients!C43)","v":""}]
[null,null,null,null,null,null,null,null,null,null,null,null,null,null,null,null,null,null,{"$f":"IF(Clients!B44=\"\",\"\",Clients!B44)","v":""},{"$f":"IF(Clients!C44=\"\",\"\",Clients!C44)","v":""}]
[null,null,null,null,null,null,null,null,null,null,null,null,null,null,null,null,null,null,{"$f":"IF(Clients!B45=\"\",\"\",Clients!B45)","v":""},{"$f":"IF(Clients!C45=\"\",\"\",Clients!C45)","v":""}]
[null,null,null,null,null,null,null,null,null,null,null,null,null,null,null,null,null,null,{"$f":"IF(Clients!B46=\"\",\"\",Clients!B46)","v":""},{"$f":"IF(Clients!C46=\"\",\"\",Clients!C46)","v":""}]
[null,null,null,null,null,null,null,null,null,null,null,null,null,null,null,null,null,null,{"$f":"IF(Clients!B47=\"\",\"\",Clients!B47)","v":""},{"$f":"IF(Clients!C47=\"\",\"\",Clients!C47)","v":""}]
[null,null,null,null,null,null,null,null,null,null,null,null,null,null,null,null,null,null,{"$f":"IF(Clients!B48=\"\",\"\",Clients!B48)","v":""},{"$f":"IF(Clients!C48=\"\",\"\",Clients!C48)","v":""}]
[null,null,null,null,null,null,null,null,null,null,null,null,null,null,null,null,null,null,{"$f":"IF(Clients!B49=\"\",\"\",Clients!B49)","v":""},{"$f":"IF(Clients!C49=\"\",\"\",Clients!C49)","v":""}]
[null,null,null,null,null,null,null,null,null,null,null,null,null,null,null,null,null,null,{"$f":"IF(Clients!B50=\"\",\"\",Clients!B50)","v":""},{"$f":"IF(Clients!C50=\"\",\"\",Clients!C50)","v":""}]
[null,null,null,null,null,null,null,null,null,null,null,null,null,null,null,null,null,null,{"$f":"IF(Clients!B51=\"\",\"\",Clients!B51)","v":""},{"$f":"IF(Clients!C51=\"\",\"\",Clients!C51)","v":""}]
[null,null,null,null,null,null,null,null,null,null,null,null,null,null,null,null,null,null,{"$f":"IF(Clients!B52=\"\",\"\",Clients!B52)","v":""},{"$f":"IF(Clients!C52=\"\",\"\",Clients!C52)","v":""}]
[null,null,null,null,null,null,null,null,null,null,null,null,null,null,null,null,null,null,{"$f":"IF(Clients!B53=\"\",\"\",Clients!B53)","v":""},{"$f":"IF(Clients!C53=\"\",\"\",Clients!C53)","v":""}]
[null,null,null,null,null,null,null,null,null,null,null,null,null,null,null,null,null,null,{"$f":"IF(Clients!B54=\"\",\"\",Clients!B54)","v":""},{"$f":"IF(Clients!C54=\"\",\"\",Clients!C54)","v":""}]
[null,null,null,null,null,null,null,null,null,null,null,null,null,null,null,null,null,null,{"$f":"IF(Clients!B55=\"\",\"\",Clients!B55)","v":""},{"$f":"IF(Clients!C55=\"\",\"\",Clients!C55)","v":""}]
[null,null,null,null,null,null,null,null,null,null,null,null,null,null,null,null,null,null,{"$f":"IF(Clients!B56=\"\",\"\",Clients!B56)","v":""},{"$f":"IF(Clients!C56=\"\",\"\",Clients!C56)","v":""}]
[null,null,null,null,null,null,null,null,null,null,null,null,null,null,null,null,null,null,{"$f":"IF(Clients!B57=\"\",\"\",Clients!B57)","v":""},{"$f":"IF(Clients!C57=\"\",\"\",Clients!C57)","v":""}]
[null,null,null,null,null,null,null,null,null,null,null,null,null,null,null,null,null,null,{"$f":"IF(Clients!B58=\"\",\"\",Clients!B58)","v":""},{"$f":"IF(Clients!C58=\"\",\"\",Clients!C58)","v":""}]
[null,null,null,null,null,null,null,null,null,null,null,null,null,null,null,null,null,null,{"$f":"IF(Clients!B59=\"\",\"\",Clients!B59)","v":""},{"$f":"IF(Clients!C59=\"\",\"\",Clients!C59)","v":""}]
[null,null,null,null,null,null,null,null,null,null,null,null,null,null,null,null,null,null,{"$f":"IF(Clients!B60=\"\",\"\",Clients!B60)","v":""},{"$f":"IF(Clients!C60=\"\",\"\",Clients!C60)","v":""}]
[null,null,null,null,null,null,null,null,null,null,null,null,null,null,null,null,null,null,{"$f":"IF(Clients!B61=\"\",\"\",Clients!B61)","v":""},{"$f":"IF(Clients!C61=\"\",\"\",Clients!C61)","v":""}]
[null,null,null,null,null,null,null,null,null,null,null,null,null,null,null,null,null,null,{"$f":"IF(Clients!B62=\"\",\"\",Clients!B62)","v":""},{"$f":"IF(Clients!C62=\"\",\"\",Clients!C62)","v":""}]
[null,null,null,null,null,null,null,null,null,null,null,null,null,null,null,null,null,null,{"$f":"IF(Clients!B63=\"\",\"\",Clients!B63)","v":""},{"$f":"IF(Clients!C63=\"\",\"\",Clients!C63)","v":""}]
[null,null,null,null,null,null,null,null,null,null,null,null,null,null,null,null,null,null,{"$f":"IF(Clients!B64=\"\",\"\",Clients!B64)","v":""},{"$f":"IF(Clients!C64=\"\",\"\",Clients!C64)","v":""}]
[null,null,null,null,null,null,null,null,null,null,null,null,null,null,null,null,null,null,{"$f":"IF(Clients!B65=\"\",\"\",Clients!B65)","v":""},{"$f":"IF(Clients!C65=\"\",\"\",Clients!C65)","v":""}]
[null,null,null,null,null,null,null,null,null,null,null,null,null,null,null,null,null,null,{"$f":"IF(Clients!B66=\"\",\"\",Clients!B66)","v":""},{"$f":"IF(Clients!C66=\"\",\"\",Clients!C66)","v":""}]
[null,null,null,null,null,null,null,null,null,null,null,null,null,null,null,null,null,null,{"$f":"IF(Clients!B67=\"\",\"\",Clients!B67)","v":""},{"$f":"IF(Clients!C67=\"\",\"\",Clients!C67)","v":""}]
[null,null,null,null,null,null,null,null,null,null,"farmer",null,null,null,null,null,null,null,{"$f":"IF(Clients!B68=\"\",\"\",Clients!B68)","v":""},{"$f":"IF(Clients!C68=\"\",\"\",Clients!C68)","v":""}]
[null,null,null,null,null,null,null,null,null,null,null,null,null,null,null,null,null,null,{"$f":"IF(Clients!B69=\"\",\"\",Clients!B69)","v":""},{"$f":"IF(Clients!C69=\"\",\"\",Clients!C69)","v":""}]
[null,null,null,null,null,null,null,null,null,null,null,null,null,null,null,null,null,null,{"$f":"IF(Clients!B70=\"\",\"\",Clients!B70)","v":""},{"$f":"IF(Clients!C70=\"\",\"\",Clients!C70)","v":""}]
[null,null,null,null,null,null,null,null,null,null,null,null,null,null,null,null,null,null,{"$f":"IF(Clients!B71=\"\",\"\",Clients!B71)","v":""},{"$f":"IF(Clients!C71=\"\",\"\",Clients!C71)","v":""}]
[null,null,null,null,null,null,null,null,null,null,null,null,null,null,null,null,null,null,{"$f":"IF(Clients!B72=\"\",\"\",Clients!B72)","v":""},{"$f":"IF(Clients!C72=\"\",\"\",Clients!C72)","v":""}]
[null,null,null,null,null,null,null,null,null,null,null,null,null,null,null,null,null,null,{"$f":"IF(Clients!B73=\"\",\"\",Clients!B73)","v":""},{"$f":"IF(Clients!C73=\"\",\"\",Clients!C73)","v":""}]
[null,null,null,null,null,null,null,null,null,null,null,null,null,null,null,null,null,null,{"$f":"IF(Clients!B74=\"\",\"\",Clients!B74)","v":""},{"$f":"IF(Clients!C74=\"\",\"\",Clients!C74)","v":""}]
[null,null,null,null,null,null,null,null,null,null,null,null,null,null,null,null,null,null,{"$f":"IF(Clients!B75=\"\",\"\",Clients!B75)","v":""},{"$f":"IF(Clients!C75=\"\",\"\",Clients!C75)","v":""}]
[null,null,null,null,null,null,null,null,null,null,null,null,null,null,null,null,null,null,{"$f":"IF(Clients!B76=\"\",\"\",Clients!B76)","v":""},{"$f":"IF(Clients!C76=\"\",\"\",Clients!C76)","v":""}]
[null,null,null,null,null,null,null,null,null,null,null,null,null,null,null,null,null,null,{"$f":"IF(Clients!B77=\"\",\"\",Clients!B77)","v":""},{"$f":"IF(Clients!C77=\"\",\"\",Clients!C77)","v":""}]
[null,null,null,null,null,null,null,null,null,null,null,null,null,null,null,null,null,null,{"$f":"IF(Clients!B78=\"\",\"\",Clients!B78)","v":""},{"$f":"IF(Clients!C78=\"\",\"\",Clients!C78)","v":""}]
[null,null,null,null,null,null,null,null,null,null,null,null,null,null,null,null,null,null,{"$f":"IF(Clients!B79=\"\",\"\",Clients!B79)","v":""},{"$f":"IF(Clients!C79=\"\",\"\",Clients!C79)","v":""}]
[null,null,null,null,null,null,null,null,null,null,null,null,null,null,null,null,null,null,{"$f":"IF(Clients!B80=\"\",\"\",Clients!B80)","v":""},{"$f":"IF(Clients!C80=\"\",\"\",Clients!C80)","v":""}]
[null,null,null,null,null,null,null,null,null,null,null,null,null,null,null,null,null,null,{"$f":"IF(Clients!B81=\"\",\"\",Clients!B81)","v":""},{"$f":"IF(Clients!C81=\"\",\"\",Clients!C81)","v":""}]
[null,null,null,null,null,null,null,null,null,null,null,null,null,null,null,null,null,null,{"$f":"IF(Clients!B82=\"\",\"\",Clients!B82)","v":""},{"$f":"IF(Clients!C82=\"\",\"\",Clients!C82)","v":""}]
[null,null,null,null,null,null,null,null,null,null,null,null,null,null,null,null,null,null,{"$f":"IF(Clients!B83=\"\",\"\",Clients!B83)","v":""},{"$f":"IF(Clients!C83=\"\",\"\",Clients!C83)","v":""}]
[null,null,null,null,null,null,null,null,null,null,null,null,null,null,null,null,null,null,{"$f":"IF(Clients!B84=\"\",\"\",Clients!B84)","v":""},{"$f":"IF(Clients!C84=\"\",\"\",Clients!C84)","v":""}]
[null,null,null,null,null,null,null,null,null,null,null,null,null,null,null,null,null,null,{"$f":"IF(Clients!B85=\"\",\"\",Clients!B85)","v":""},{"$f":"IF(Clients!C85=\"\",\"\",Clients!C85)","v":""}]
[null,null,null,null,null,null,null,null,null,null,null,null,null,null,null,null,null,null,{"$f":"IF(Clients!B86=\"\",\"\",Clients!B86)","v":""},{"$f":"IF(Clients!C86=\"\",\"\",Clients!C86)","v":""}]
[null,null,null,null,null,null,null,null,null,null,null,null,null,null,null,null,null,null,{"$f":"IF(Clients!B87=\"\",\"\",Clients!B87)","v":""},{"$f":"IF(Clients!C87=\"\",\"\",Clients!C87)","v":""}]
[null,null,null,null,null,null,null,null,null,null,null,null,null,null,null,null,null,null,{"$f":"IF(Clients!B88=\"\",\"\",Clients!B88)","v":""},{"$f":"IF(Clients!C88=\"\",\"\",Clients!C88)","v":""}]
[null,null,null,null,null,null,null,null,null,null,null,null,null,null,null,null,null,null,{"$f":"IF(Clients!B89=\"\",\"\",Clients!B89)","v":""},{"$f":"IF(Clients!C89=\"\",\"\",Clients!C89)","v":""}]
[null,null,null,null,null,null,null,null,null,null,null,null,null,null,null,null,null,null,{"$f":"IF(Clients!B90=\"\",\"\",Clients!B90)","v":""},{"$f":"IF(Clients!C90=\"\",\"\",Clients!C90)","v":""}]
[null,null,null,null,null,null,null,null,null,null,null,null,null,null,null,null,null,null,{"$f":"IF(Clients!B91=\"\",\"\",Clients!B91)","v":""},{"$f":"IF(Clients!C91=\"\",\"\",Clients!C91)","v":""}]
[null,null,null,null,null,null,null,null,null,null,null,null,null,null,null,null,null,null,{"$f":"IF(Clients!B92=\"\",\"\",Clients!B92)","v":""},{"$f":"IF(Clients!C92=\"\",\"\",Clients!C92)","v":""}]
[null,null,null,null,null,null,null,null,null,null,null,null,null,null,null,null,null,null,{"$f":"IF(Clients!B93=\"\",\"\",Clients!B93)","v":""},{"$f":"IF(Clients!C93=\"\",\"\",Clients!C93)","v":""}]
[null,null,null,null,null,null,null,null,null,null,null,null,null,null,null,null,null,null,{"$f":"IF(Clients!B94=\"\",\"\",Clients!B94)","v":""},{"$f":"IF(Clients!C94=\"\",\"\",Clients!C94)","v":""}]
[null,null,null,null,null,null,null,null,null,null,null,null,null,null,null,null,null,null,{"$f":"IF(Clients!B95=\"\",\"\",Clients!B95)","v":""},{"$f":"IF(Clients!C95=\"\",\"\",Clients!C95)","v":""}]
[null,null,null,null,null,null,null,null,null,null,null,null,null,null,null,null,null,null,{"$f":"IF(Clients!B96=\"\",\"\",Clients!B96)","v":""},{"$f":"IF(Clients!C96=\"\",\"\",Clients!C96)","v":""}]
[null,null,null,null,null,null,null,null,null,null,null,null,null,null,null,null,null,null,{"$f":"IF(Clients!B97=\"\",\"\",Clients!B97)","v":""},{"$f":"IF(Clients!C97=\"\",\"\",Clients!C97)","v":""}]
[null,null,null,null,null,null,null,null,null,null,null,null,null,null,null,null,null,null,{"$f":"IF(Clients!B98=\"\",\"\",Clients!B98)","v":""},{"$f":"IF(Clients!C98=\"\",\"\",Clients!C98)","v":""}]
[null,null,null,null,null,null,null,null,null,null,null,null,null,null,null,null,null,null,{"$f":"IF(Clients!B99=\"\",\"\",Clients!B99)","v":""},{"$f":"IF(Clients!C99=\"\",\"\",Clients!C99)","v":""}]
[null,null,null,null,null,null,null,null,null,null,null,null,null,null,null,null,null,null,{"$f":"IF(Clients!B100=\"\",\"\",Clients!B100)","v":""},{"$f":"IF(Clients!C100=\"\",\"\",Clients!C100)","v":""}]
[null,null,null,null,null,null,null,null,null,null,null,null,null,null,null,null,null,null,{"$f":"IF(Clients!B101=\"\",\"\",Clients!B101)","v":""},{"$f":"IF(Clients!C101=\"\",\"\",Clients!C101)","v":""}]
[null,null,null,null,null,null,null,null,null,null,null,null,null,null,null,null,null,null,{"$f":"IF(Clients!B102=\"\",\"\",Clients!B102)","v":""},{"$f":"IF(Clients!C102=\"\",\"\",Clients!C102)","v":""}]
[null,null,null,null,null,null,null,null,null,null,null,null,null,null,null,null,null,null,{"$f":"IF(Clients!B103=\"\",\"\",Clients!B103)","v":""},{"$f":"IF(Clients!C103=\"\",\"\",Clients!C103)","v":""}]
[null,null,null,null,null,null,null,null,null,null,null,null,null,null,null,null,null,null,{"$f":"IF(Clients!B104=\"\",\"\",Clients!B104)","v":""},{"$f":"IF(Clients!C104=\"\",\"\",Clients!C104)","v":""}]
[null,null,null,null,null,null,null,null,null,null,null,null,null,null,null,null,null,null,{"$f":"IF(Clients!B105=\"\",\"\",Clients!B105)","v":""},{"$f":"IF(Clients!C105=\"\",\"\",Clients!C105)","v":""}]
[null,null,null,null,null,null,null,null,null,null,null,null,null,null,null,null,null,null,{"$f":"IF(Clients!B106=\"\",\"\",Clients!B106)","v":""},{"$f":"IF(Clients!C106=\"\",\"\",Clients!C106)","v":""}]
[null,null,null,null,null,null,null,null,null,null,null,null,null,null,null,null,null,null,{"$f":"IF(Clients!B107=\"\",\"\",Clients!B107)","v":""},{"$f":"IF(Clients!C107=\"\",\"\",Clients!C107)","v":""}]
[null,null,null,null,null,null,null,null,null,null,null,null,null,null,null,null,null,null,{"$f":"IF(Clients!B108=\"\",\"\",Clients!B108)","v":""},{"$f":"IF(Clients!C108=\"\",\"\",Clients!C108)","v":""}]
[null,null,null,null,null,null,null,null,null,null,null,null,null,null,null,null,null,null,{"$f":"IF(Clients!B109=\"\",\"\",Clients!B109)","v":""},{"$f":"IF(Clients!C109=\"\",\"\",Clients!C109)","v":""}]
[null,null,null,null,null,null,null,null,null,null,null,null,null,null,null,null,null,null,{"$f":"IF(Clients!B110=\"\",\"\",Clients!B110)","v":""},{"$f":"IF(Clients!C110=\"\",\"\",Clients!C110)","v":""}]
[null,null,null,null,null,null,null,null,null,null,null,null,null,null,null,null,null,null,{"$f":"IF(Clients!B111=\"\",\"\",Clients!B111)","v":""},{"$f":"IF(Clients!C111=\"\",\"\",Clients!C111)","v":""}]
[null,null,null,null,null,null,null,null,null,null,null,null,null,null,null,null,null,null,{"$f":"IF(Clients!B112=\"\",\"\",Clients!B112)","v":""},{"$f":"IF(Clients!C112=\"\",\"\",Clients!C112)","v":""}]
[null,null,null,null,null,null,null,null,null,null,null,null,null,null,null,null,null,null,{"$f":"IF(Clients!B113=\"\",\"\",Clients!B113)","v":""},{"$f":"IF(Clients!C113=\"\",\"\",Clients!C113)","v":""}]
[null,null,null,null,null,null,null,null,null,null,null,null,null,null,null,null,null,null,{"$f":"IF(Clients!B114=\"\",\"\",Clients!B114)","v":""},{"$f":"IF(Clients!C114=\"\",\"\",Clients!C114)","v":""}]
[null,null,null,null,null,null,null,null,null,null,null,null,null,null,null,null,null,null,{"$f":"IF(Clients!B115=\"\",\"\",Clients!B115)","v":""},{"$f":"IF(Clients!C115=\"\",\"\",Clients!C115)","v":""}]
[null,null,null,null,null,null,null,null,null,null,null,null,null,null,null,null,null,null,{"$f":"IF(Clients!B116=\"\",\"\",Clients!B116)","v":""},{"$f":"IF(Clients!C116=\"\",\"\",Clients!C116)","v":""}]
[null,null,null,null,null,null,null,null,null,null,null,null,null,null,null,null,null,null,{"$f":"IF(Clients!B117=\"\",\"\",Clients!B117)","v":""},{"$f":"IF(Clients!C117=\"\",\"\",Clients!C117)","v":""}]
[null,null,null,null,null,null,null,null,null,null,null,null,null,null,null,null,null,null,{"$f":"IF(Clients!B118=\"\",\"\",Clients!B118)","v":""},{"$f":"IF(Clients!C118=\"\",\"\",Clients!C118)","v":""}]
[null,null,null,null,null,null,null,null,null,null,null,null,null,null,null,null,null,null,{"$f":"IF(Clients!B119=\"\",\"\",Clients!B119)","v":""},{"$f":"IF(Clients!C119=\"\",\"\",Clients!C119)","v":""}]
[null,null,null,null,null,null,null,null,null,null,null,null,null,null,null,null,null,null,{"$f":"IF(Clients!B120=\"\",\"\",Clients!B120)","v":""},{"$f":"IF(Clients!C120=\"\",\"\",Clients!C120)","v":""}]
[null,null,null,null,null,null,null,null,null,null,null,null,null,null,null,null,null,null,{"$f":"IF(Clients!B121=\"\",\"\",Clients!B121)","v":""},{"$f":"IF(Clients!C121=\"\",\"\",Clients!C121)","v":""}]
[null,null,null,null,null,null,null,null,null,null,null,null,null,null,null,null,null,null,{"$f":"IF(Clients!B122=\"\",\"\",Clients!B122)","v":""},{"$f":"IF(Clients!C122=\"\",\"\",Clients!C122)","v":""}]
[null,null,null,null,null,null,null,null,null,null,null,null,null,null,null,null,null,null,{"$f":"IF(Clients!B123=\"\",\"\",Clients!B123)","v":""},{"$f":"IF(Clients!C123=\"\",\"\",Clients!C123)","v":""}]
[null,null,null,null,null,null,null,null,null,null,null,null,null,null,null,null,null,null,{"$f":"IF(Clients!B124=\"\",\"\",Clients!B124)","v":""},{"$f":"IF(Clients!C124=\"\",\"\",Clients!C124)","v":""}]
[null,null,null,null,null,null,null,null,null,null,null,null,null,null,null,null,null,null,{"$f":"IF(Clients!B125=\"\",\"\",Clients!B125)","v":""},{"$f":"IF(Clients!C125=\"\",\"\",Clients!C125)","v":""}]
[null,null,null,null,null,null,null,null,null,null,null,null,null,null,null,null,null,null,{"$f":"IF(Clients!B126=\"\",\"\",Clients!B126)","v":""},{"$f":"IF(Clients!C126=\"\",\"\",Clients!C126)","v":""}]
[null,null,null,null,null,null,null,null,null,null,null,null,null,null,null,null,null,null,{"$f":"IF(Clients!B127=\"\",\"\",Clients!B127)","v":""},{"$f":"IF(Clients!C127=\"\",\"\",Clients!C127)","v":""}]
[null,null,null,null,null,null,null,null,null,null,null,null,null,null,null,null,null,null,{"$f":"IF(Clients!B128=\"\",\"\",Clients!B128)","v":""},{"$f":"IF(Clients!C128=\"\",\"\",Clients!C128)","v":""}]
[null,null,null,null,null,null,null,null,null,null,null,null,null,null,null,null,null,null,{"$f":"IF(Clients!B129=\"\",\"\",Clients!B129)","v":""},{"$f":"IF(Clients!C129=\"\",\"\",Clients!C129)","v":""}]
[null,null,null,null,null,null,null,null,null,null,null,null,null,null,null,null,null,null,{"$f":"IF(Clients!B130=\"\",\"\",Clients!B130)","v":""},{"$f":"IF(Clients!C130=\"\",\"\",Clients!C130)","v":""}]
[null,null,null,null,null,null,null,null,null,null,null,null,null,null,null,null,null,null,{"$f":"IF(Clients!B131=\"\",\"\",Clients!B131)","v":""},{"$f":"IF(Clients!C131=\"\",\"\",Clients!C131)","v":""}]
[null,null,null,null,null,null,null,null,null,null,null,null,null,null,null,null,null,null,{"$f":"IF(Clients!B132=\"\",\"\",Clients!B132)","v":""},{"$f":"IF(Clients!C132=\"\",\"\",Clients!C132)","v":""}]
[null,null,null,null,null,null,null,null,null,null,null,null,null,null,null,null,null,null,{"$f":"IF(Clients!B133=\"\",\"\",Clients!B133)","v":""},{"$f":"IF(Clients!C133=\"\",\"\",Clients!C133)","v":""}]
[null,null,null,null,null,null,null,null,null,null,null,null,null,null,null,null,null,null,{"$f":"IF(Clients!B134=\"\",\"\",Clients!B134)","v":""},{"$f":"IF(Clients!C134=\"\",\"\",Clients!C134)","v":""}]
[null,null,null,null,null,null,null,null,null,null,null,null,null,null,null,null,null,null,{"$f":"IF(Clients!B135=\"\",\"\",Clients!B135)","v":""},{"$f":"IF(Clients!C135=\"\",\"\",Clients!C135)","v":""}]
[null,null,null,null,null,null,null,null,null,null,null,null,null,null,null,null,null,null,{"$f":"IF(Clients!B136=\"\",\"\",Clients!B136)","v":""},{"$f":"IF(Clients!C136=\"\",\"\",Clients!C136)","v":""}]
[null,null,null,null,null,null,null,null,null,null,null,null,null,null,null,null,null,null,{"$f":"IF(Clients!B137=\"\",\"\",Clients!B137)","v":""},{"$f":"IF(Clients!C137=\"\",\"\",Clients!C137)","v":""}]
[null,null,null,null,null,null,null,null,null,null,null,null,null,null,null,null,null,null,{"$f":"IF(Clients!B138=\"\",\"\",Clients!B138)","v":""},{"$f":"IF(Clients!C138=\"\",\"\",Clients!C138)","v":""}]
[null,null,null,null,null,null,null,null,null,null,null,null,null,null,null,null,null,null,{"$f":"IF(Clients!B139=\"\",\"\",Clients!B139)","v":""},{"$f":"IF(Clients!C139=\"\",\"\",Clients!C139)","v":""}]
[null,null,null,null,null,null,null,null,null,null,null,null,null,null,null,null,null,null,{"$f":"IF(Clients!B140=\"\",\"\",Clients!B140)","v":""},{"$f":"IF(Clients!C140=\"\",\"\",Clients!C140)","v":""}]
[null,null,null,null,null,null,null,null,null,null,null,null,null,null,null,null,null,null,{"$f":"IF(Clients!B141=\"\",\"\",Clients!B141)","v":""},{"$f":"IF(Clients!C141=\"\",\"\",Clients!C141)","v":""}]
[null,null,null,null,null,null,null,null,null,null,null,null,null,null,null,null,null,null,{"$f":"IF(Clients!B142=\"\",\"\",Clients!B142)","v":""},{"$f":"IF(Clients!C142=\"\",\"\",Clients!C142)","v":""}]
[null,null,null,null,null,null,null,null,null,null,null,null,null,null,null,null,null,null,{"$f":"IF(Clients!B143=\"\",\"\",Clients!B143)","v":""},{"$f":"IF(Clients!C143=\"\",\"\",Clients!C143)","v":""}]
[null,null,null,null,null,null,null,null,null,null,null,null,null,null,null,null,null,null,{"$f":"IF(Clients!B144=\"\",\"\",Clients!B144)","v":""},{"$f":"IF(Clients!C144=\"\",\"\",Clients!C144)","v":""}]
[null,null,null,null,null,null,null,null,null,null,null,null,null,null,null,null,null,null,{"$f":"IF(Clients!B145=\"\",\"\",Clients!B145)","v":""},{"$f":"IF(Clients!C145=\"\",\"\",Clients!C145)","v":""}]
[null,null,null,null,null,null,null,null,null,null,null,null,null,null,null,null,null,null,{"$f":"IF(Clients!B146=\"\",\"\",Clients!B146)","v":""},{"$f":"IF(Clients!C146=\"\",\"\",Clients!C146)","v":""}]
[null,null,null,null,null,null,null,null,null,null,null,null,null,null,null,null,null,null,{"$f":"IF(Clients!B147=\"\",\"\",Clients!B147)","v":""},{"$f":"IF(Clients!C147=\"\",\"\",Clients!C147)","v":""}]
[null,null,null,null,null,null,null,null,null,null,null,null,null,null,null,null,null,null,{"$f":"IF(Clients!B148=\"\",\"\",Clients!B148)","v":""},{"$f":"IF(Clients!C148=\"\",\"\",Clients!C148)","v":""}]
[null,null,null,null,null,null,null,null,null,null,null,null,null,null,null,null,null,null,{"$f":"IF(Clients!B149=\"\",\"\",Clients!B149)","v":""},{"$f":"IF(Clients!C149=\"\",\"\",Clients!C149)","v":""}]
[null,null,null,null,null,null,null,null,null,null,null,null,null,null,null,null,null,null,{"$f":"IF(Clients!B150=\"\",\"\",Clients!B150)","v":""},{"$f":"IF(Clients!C150=\"\",\"\",Clients!C150)","v":""}]
[null,null,null,null,null,null,null,null,null,null,null,null,null,null,null,null,null,null,{"$f":"IF(Clients!B151=\"\",\"\",Clients!B151)","v":""},{"$f":"IF(Clients!C151=\"\",\"\",Clients!C151)","v":""}]
[null,null,null,null,null,null,null,null,null,null,null,null,null,null,null,null,null,null,{"$f":"IF(Clients!B152=\"\",\"\",Clients!B152)","v":""},{"$f":"IF(Clients!C152=\"\",\"\",Clients!C152)","v":""}]
[null,null,null,null,null,null,null,null,null,null,null,null,null,null,null,null,null,null,{"$f":"IF(Clients!B153=\"\",\"\",Clients!B153)","v":""},{"$f":"IF(Clients!C153=\"\",\"\",Clients!C153)","v":""}]
[null,null,null,null,null,null,null,null,null,null,null,null,null,null,null,null,null,null,{"$f":"IF(Clients!B154=\"\",\"\",Clients!B154)","v":""},{"$f":"IF(Clients!C154=\"\",\"\",Clients!C154)","v":""}]
[null,null,null,null,null,null,null,null,null,null,null,null,null,null,null,null,null,null,{"$f":"IF(Clients!B155=\"\",\"\",Clients!B155)","v":""},{"$f":"IF(Clients!C155=\"\",\"\",Clients!C155)","v":""}]
[null,null,null,null,null,null,null,null,null,null,null,null,null,null,null,null,null,null,{"$f":"IF(Clients!B156=\"\",\"\",Clients!B156)","v":""},{"$f":"IF(Clients!C156=\"\",\"\",Clients!C156)","v":""}]
[null,null,null,null,null,null,null,null,null,null,null,null,null,null,null,null,null,null,{"$f":"IF(Clients!B157=\"\",\"\",Clients!B157)","v":""},{"$f":"IF(Clients!C157=\"\",\"\",Clients!C157)","v":""}]
[null,null,null,null,null,null,null,null,null,null,null,null,null,null,null,null,null,null,{"$f":"IF(Clients!B158=\"\",\"\",Clients!B158)","v":""},{"$f":"IF(Clients!C158=\"\",\"\",Clients!C158)","v":""}]
[null,null,null,null,null,null,null,null,null,null,null,null,null,null,null,null,null,null,{"$f":"IF(Clients!B159=\"\",\"\",Clients!B159)","v":""},{"$f":"IF(Clients!C159=\"\",\"\",Clients!C159)","v":""}]
[null,null,null,null,null,null,null,null,null,null,null,null,null,null,null,null,null,null,{"$f":"IF(Clients!B160=\"\",\"\",Clients!B160)","v":""},{"$f":"IF(Clients!C160=\"\",\"\",Clients!C160)","v":""}]
[null,null,null,null,null,null,null,null,null,null,null,null,null,null,null,null,null,null,{"$f":"IF(Clients!B161=\"\",\"\",Clients!B161)","v":""},{"$f":"IF(Clients!C161=\"\",\"\",Clients!C161)","v":""}]
[null,null,null,null,null,null,null,null,null,null,null,null,null,null,null,null,null,null,{"$f":"IF(Clients!B162=\"\",\"\",Clients!B162)","v":""},{"$f":"IF(Clients!C162=\"\",\"\",Clients!C162)","v":""}]
[null,null,null,null,null,null,null,null,null,null,null,null,null,null,null,null,null,null,{"$f":"IF(Clients!B163=\"\",\"\",Clients!B163)","v":""},{"$f":"IF(Clients!C163=\"\",\"\",Clients!C163)","v":""}]
[null,null,null,null,null,null,null,null,null,null,null,null,null,null,null,null,null,null,{"$f":"IF(Clients!B164=\"\",\"\",Clients!B164)","v":""},{"$f":"IF(Clients!C164=\"\",\"\",Clients!C164)","v":""}]
[null,null,null,null,null,null,null,null,null,null,null,null,null,null,null,null,null,null,{"$f":"IF(Clients!B165=\"\",\"\",Clients!B165)","v":""},{"$f":"IF(Clients!C165=\"\",\"\",Clients!C165)","v":""}]
[null,null,null,null,null,null,null,null,null,null,null,null,null,null,null,null,null,null,{"$f":"IF(Clients!B166=\"\",\"\",Clients!B166)","v":""},{"$f":"IF(Clients!C166=\"\",\"\",Clients!C166)","v":""}]
[null,null,null,null,null,null,null,null,null,null,null,null,null,null,null,null,null,null,{"$f":"IF(Clients!B167=\"\",\"\",Clients!B167)","v":""},{"$f":"IF(Clients!C167=\"\",\"\",Clients!C167)","v":""}]
[null,null,null,null,null,null,null,null,null,null,null,null,null,null,null,null,null,null,{"$f":"IF(Clients!B168=\"\",\"\",Clients!B168)","v":""},{"$f":"IF(Clients!C168=\"\",\"\",Clients!C168)","v":""}]
[null,null,null,null,null,null,null,null,null,null,null,null,null,null,null,null,null,null,{"$f":"IF(Clients!B169=\"\",\"\",Clients!B169)","v":""},{"$f":"IF(Clients!C169=\"\",\"\",Clients!C169)","v":""}]
[null,null,null,null,null,null,null,null,null,null,null,null,null,null,null,null,null,null,{"$f":"IF(Clients!B170=\"\",\"\",Clients!B170)","v":""},{"$f":"IF(Clients!C170=\"\",\"\",Clients!C170)","v":""}]
[null,null,null,null,null,null,null,null,null,null,null,null,null,null,null,null,null,null,{"$f":"IF(Clients!B171=\"\",\"\",Clients!B171)","v":""},{"$f":"IF(Clients!C171=\"\",\"\",Clients!C171)","v":""}]
[null,null,null,null,null,null,null,null,null,null,null,null,null,null,null,null,null,null,{"$f":"IF(Clients!B172=\"\",\"\",Clients!B172)","v":""},{"$f":"IF(Clients!C172=\"\",\"\",Clients!C172)","v":""}]
[null,null,null,null,null,null,null,null,null,null,null,null,null,null,null,null,null,null,{"$f":"IF(Clients!B173=\"\",\"\",Clients!B173)","v":""},{"$f":"IF(Clients!C173=\"\",\"\",Clients!C173)","v":""}]
[null,null,null,null,null,null,null,null,null,null,null,null,null,null,null,null,null,null,{"$f":"IF(Clients!B174=\"\",\"\",Clients!B174)","v":""},{"$f":"IF(Clients!C174=\"\",\"\",Clients!C174)","v":""}]
[null,null,null,null,null,null,null,null,null,null,null,null,null,null,null,null,null,null,{"$f":"IF(Clients!B175=\"\",\"\",Clients!B175)","v":""},{"$f":"IF(Clients!C175=\"\",\"\",Clients!C175)","v":""}]
[null,null,null,null,null,null,null,null,null,null,null,null,null,null,null,null,null,null,{"$f":"IF(Clients!B176=\"\",\"\",Clients!B176)","v":""},{"$f":"IF(Clients!C176=\"\",\"\",Clients!C176)","v":""}]
[null,null,null,null,null,null,null,null,null,null,null,null,null,null,null,null,null,null,{"$f":"IF(Clients!B177=\"\",\"\",Clients!B177)","v":""},{"$f":"IF(Clients!C177=\"\",\"\",Clients!C177)","v":""}]
[null,null,null,null,null,null,null,null,null,null,null,null,null,null,null,null,null,null,{"$f":"IF(Clients!B178=\"\",\"\",Clients!B178)","v":""},{"$f":"IF(Clients!C178=\"\",\"\",Clients!C178)","v":""}]
[null,null,null,null,null,null,null,null,null,null,null,null,null,null,null,null,null,null,{"$f":"IF(Clients!B179=\"\",\"\",Clients!B179)","v":""},{"$f":"IF(Clients!C179=\"\",\"\",Clients!C179)","v":""}]
[null,null,null,null,null,null,null,null,null,null,null,null,null,null,null,null,null,null,{"$f":"IF(Clients!B180=\"\",\"\",Clients!B180)","v":""},{"$f":"IF(Clients!C180=\"\",\"\",Clients!C180)","v":""}]
[null,null,null,null,null,null,null,null,null,null,null,null,null,null,null,null,null,null,{"$f":"IF(Clients!B181=\"\",\"\",Clients!B181)","v":""},{"$f":"IF(Clients!C181=\"\",\"\",Clients!C181)","v":""}]
[null,null,null,null,null,null,null,null,null,null,null,null,null,null,null,null,null,null,{"$f":"IF(Clients!B182=\"\",\"\",Clients!B182)","v":""},{"$f":"IF(Clients!C182=\"\",\"\",Clients!C182)","v":""}]
[null,null,null,null,null,null,null,null,null,null,null,null,null,null,null,null,null,null,{"$f":"IF(Clients!B183=\"\",\"\",Clients!B183)","v":""},{"$f":"IF(Clients!C183=\"\",\"\",Clients!C183)","v":""}]
[null,null,null,null,null,null,null,null,null,null,null,null,null,null,null,null,null,null,{"$f":"IF(Clients!B184=\"\",\"\",Clients!B184)","v":""},{"$f":"IF(Clients!C184=\"\",\"\",Clients!C184)","v":""}]
[null,null,null,null,null,null,null,null,null,null,null,null,null,null,null,null,null,null,{"$f":"IF(Clients!B185=\"\",\"\",Clients!B185)","v":""},{"$f":"IF(Clients!C185=\"\",\"\",Clients!C185)","v":""}]
[null,null,null,null,null,null,null,null,null,null,null,null,null,null,null,null,null,null,{"$f":"IF(Clients!B186=\"\",\"\",Clients!B186)","v":""},{"$f":"IF(Clients!C186=\"\",\"\",Clients!C186)","v":""}]
[null,null,null,null,null,null,null,null,null,null,null,null,null,null,null,null,null,null,{"$f":"IF(Clients!B187=\"\",\"\",Clients!B187)","v":""},{"$f":"IF(Clients!C187=\"\",\"\",Clients!C187)","v":""}]
[null,null,null,null,null,null,null,null,null,null,null,null,null,null,null,null,null,null,{"$f":"IF(Clients!B188=\"\",\"\",Clients!B188)","v":""},{"$f":"IF(Clients!C188=\"\",\"\",Clients!C188)","v":""}]
[null,null,null,null,null,null,null,null,null,null,null,null,null,null,null,null,null,null,{"$f":"IF(Clients!B189=\"\",\"\",Clients!B189)","v":""},{"$f":"IF(Clients!C189=\"\",\"\",Clients!C189)","v":""}]
[null,null,null,null,null,null,null,null,null,null,null,null,null,null,null,null,null,null,{"$f":"IF(Clients!B190=\"\",\"\",Clients!B190)","v":""},{"$f":"IF(Clients!C190=\"\",\"\",Clients!C190)","v":""}]
[null,null,null,null,null,null,null,null,null,null,null,null,null,null,null,null,null,null,{"$f":"IF(Clients!B191=\"\",\"\",Clients!B191)","v":""},{"$f":"IF(Clients!C191=\"\",\"\",Clients!C191)","v":""}]
[null,null,null,null,null,null,null,null,null,null,null,null,null,null,null,null,null,null,{"$f":"IF(Clients!B192=\"\",\"\",Clients!B192)","v":""},{"$f":"IF(Clients!C192=\"\",\"\",Clients!C192)","v":""}]
[null,null,null,null,null,null,null,null,null,null,null,null,null,null,null,null,null,null,{"$f":"IF(Clients!B193=\"\",\"\",Clients!B193)","v":""},{"$f":"IF(Clients!C193=\"\",\"\",Clients!C193)","v":""}]
[null,null,null,null,null,null,null,null,null,null,null,null,null,null,null,null,null,null,{"$f":"IF(Clients!B194=\"\",\"\",Clients!B194)","v":""},{"$f":"IF(Clients!C194=\"\",\"\",Clients!C194)","v":""}]
[null,null,null,null,null,null,null,null,null,null,null,null,null,null,null,null,null,null,{"$f":"IF(Clients!B195=\"\",\"\",Clients!B195)","v":""},{"$f":"IF(Clients!C195=\"\",\"\",Clients!C195)","v":""}]
[null,null,null,null,null,null,null,null,null,null,null,null,null,null,null,null,null,null,{"$f":"IF(Clients!B196=\"\",\"\",Clients!B196)","v":""},{"$f":"IF(Clients!C196=\"\",\"\",Clients!C196)","v":""}]
[null,null,null,null,null,null,null,null,null,null,null,null,null,null,null,null,null,null,{"$f":"IF(Clients!B197=\"\",\"\",Clients!B197)","v":""},{"$f":"IF(Clients!C197=\"\",\"\",Clients!C197)","v":""}]
[null,null,null,null,null,null,null,null,null,null,null,null,null,null,null,null,null,null,{"$f":"IF(Clients!B198=\"\",\"\",Clients!B198)","v":""},{"$f":"IF(Clients!C198=\"\",\"\",Clients!C198)","v":""}]
[null,null,null,null,null,null,null,null,null,null,null,null,null,null,null,null,null,null,{"$f":"IF(Clients!B199=\"\",\"\",Clients!B199)","v":""},{"$f":"IF(Clients!C199=\"\",\"\",Clients!C199)","v":""}]
[null,null,null,null,null,null,null,null,null,null,null,null,null,null,null,null,null,null,{"$f":"IF(Clients!B200=\"\",\"\",Clients!B200)","v":""},{"$f":"IF(Clients!C200=\"\",\"\",Clients!C200)","v":""}]
[null,null,null,null,null,null,null,null,null,null,null,null,null,null,null,null,null,null,{"$f":"IF(Clients!B201=\"\",\"\",Clients!B201)","v":""},{"$f":"IF(Clients!C201=\"\",\"\",Clients!C201)","v":""}]
[null,null,null,null,null,null,null,null,null,null,null,null,null,null,null,null,null,null,{"$f":"IF(Clients!B202=\"\",\"\",Clients!B202)","v":""},{"$f":"IF(Clients!C202=\"\",\"\",Clients!C202)","v":""}]
[null,null,null,null,null,null,null,null,null,null,null,null,null,null,null,null,null,null,{"$f":"IF(Clients!B203=\"\",\"\",Clients!B203)","v":""},{"$f":"IF(Clients!C203=\"\",\"\",Clients!C203)","v":""}]
[null,null,null,null,null,null,null,null,null,null,null,null,null,null,null,null,null,null,{"$f":"IF(Clients!B204=\"\",\"\",Clients!B204)","v":""},{"$f":"IF(Clients!C204=\"\",\"\",Clients!C204)","v":""}]
[null,null,null,null,null,null,null,null,null,null,null,null,null,null,null,null,null,null,{"$f":"IF(Clients!B205=\"\",\"\",Clients!B205)","v":""},{"$f":"IF(Clients!C205=\"\",\"\",Clients!C205)","v":""}]
[null,null,null,null,null,null,null,null,null,null,null,null,null,null,null,null,null,null,{"$f":"IF(Clients!B206=\"\",\"\",Clients!B206)","v":""},{"$f":"IF(Clients!C206=\"\",\"\",Clients!C206)","v":""}]
[null,null,null,null,null,null,null,null,null,null,null,null,null,null,null,null,null,null,{"$f":"IF(Clients!B207=\"\",\"\",Clients!B207)","v":""},{"$f":"IF(Clients!C207=\"\",\"\",Clients!C207)","v":""}]
[null,null,null,null,null,null,null,null,null,null,null,null,null,null,null,null,null,null,{"$f":"IF(Clients!B208=\"\",\"\",Clients!B208)","v":""},{"$f":"IF(Clients!C208=\"\",\"\",Clients!C208)","v":""}]
[null,null,null,null,null,null,null,null,null,null,null,null,null,null,null,null,null,null,{"$f":"IF(Clients!B209=\"\",\"\",Clients!B209)","v":""},{"$f":"IF(Clients!C209=\"\",\"\",Clients!C209)","v":""}]
[null,null,null,null,null,null,null,null,null,null,null,null,null,null,null,null,null,null,{"$f":"IF(Clients!B210=\"\",\"\",Clients!B210)","v":""},{"$f":"IF(Clients!C210=\"\",\"\",Clients!C210)","v":""}]
[null,null,null,null,null,null,null,null,null,null,null,null,null,null,null,null,null,null,{"$f":"IF(Clients!B211=\"\",\"\",Clients!B211)","v":""},{"$f":"IF(Clients!C211=\"\",\"\",Clients!C211)","v":""}]
[null,null,null,null,null,null,null,null,null,null,null,null,null,null,null,null,null,null,{"$f":"IF(Clients!B212=\"\",\"\",Clients!B212)","v":""},{"$f":"IF(Clients!C212=\"\",\"\",Clients!C212)","v":""}]
[null,null,null,null,null,null,null,null,null,null,null,null,null,null,null,null,null,null,{"$f":"IF(Clients!B213=\"\",\"\",Clients!B213)","v":""},{"$f":"IF(Clients!C213=\"\",\"\",Clients!C213)","v":""}]
[null,null,null,null,null,null,null,null,null,null,null,null,null,null,null,null,null,null,{"$f":"IF(Clients!B214=\"\",\"\",Clients!B214)","v":""},{"$f":"IF(Clients!C214=\"\",\"\",Clients!C214)","v":""}]
[null,null,null,null,null,null,null,null,null,null,null,null,null,null,null,null,null,null,{"$f":"IF(Clients!B215=\"\",\"\",Clients!B215)","v":""},{"$f":"IF(Clients!C215=\"\",\"\",Clients!C215)","v":""}]
[null,null,null,null,null,null,null,null,null,null,null,null,null,null,null,null,null,null,{"$f":"IF(Clients!B216=\"\",\"\",Clients!B216)","v":""},{"$f":"IF(Clients!C216=\"\",\"\",Clients!C216)","v":""}]
[null,null,null,null,null,null,null,null,null,null,null,null,null,null,null,null,null,null,{"$f":"IF(Clients!B217=\"\",\"\",Clients!B217)","v":""},{"$f":"IF(Clients!C217=\"\",\"\",Clients!C217)","v":""}]
[null,null,null,null,null,null,null,null,null,null,null,null,null,null,null,null,null,null,{"$f":"IF(Clients!B218=\"\",\"\",Clients!B218)","v":""},{"$f":"IF(Clients!C218=\"\",\"\",Clients!C218)","v":""}]
[null,null,null,null,null,null,null,null,null,null,null,null,null,null,null,null,null,null,{"$f":"IF(Clients!B219=\"\",\"\",Clients!B219)","v":""},{"$f":"IF(Clients!C219=\"\",\"\",Clients!C219)","v":""}]
[null,null,null,null,null,null,null,null,null,null,null,null,null,null,null,null,null,null,{"$f":"IF(Clients!B220=\"\",\"\",Clients!B220)","v":""},{"$f":"IF(Clients!C220=\"\",\"\",Clients!C220)","v":""}]
[null,null,null,null,null,null,null,null,null,null,null,null,null,null,null,null,null,null,{"$f":"IF(Clients!B221=\"\",\"\",Clients!B221)","v":""},{"$f":"IF(Clients!C221=\"\",\"\",Clients!C221)","v":""}]
[null,null,null,null,null,null,null,null,null,null,null,null,null,null,null,null,null,null,{"$f":"IF(Clients!B222=\"\",\"\",Clients!B222)","v":""},{"$f":"IF(Clients!C222=\"\",\"\",Clients!C222)","v":""}]
[null,null,null,null,null,null,null,null,null,null,null,null,null,null,null,null,null,null,{"$f":"IF(Clients!B223=\"\",\"\",Clients!B223)","v":""},{"$f":"IF(Clients!C223=\"\",\"\",Clients!C223)","v":""}]
[null,null,null,null,null,null,null,null,null,null,null,null,null,null,null,null,null,null,{"$f":"IF(Clients!B224=\"\",\"\",Clients!B224)","v":""},{"$f":"IF(Clients!C224=\"\",\"\",Clients!C224)","v":""}]
[null,null,null,null,null,null,null,null,null,null,null,null,null,null,null,null,null,null,{"$f":"IF(Clients!B225=\"\",\"\",Clients!B225)","v":""},{"$f":"IF(Clients!C225=\"\",\"\",Clients!C225)","v":""}]
[null,null,null,null,null,null,null,null,null,null,null,null,null,null,null,null,null,null,{"$f":"IF(Clients!B226=\"\",\"\",Clients!B226)","v":""},{"$f":"IF(Clients!C226=\"\",\"\",Clients!C226)","v":""}]
[null,null,null,null,null,null,null,null,null,null,null,null,null,null,null,null,null,null,{"$f":"IF(Clients!B227=\"\",\"\",Clients!B227)","v":""},{"$f":"IF(Clients!C227=\"\",\"\",Clients!C227)","v":""}]
[null,null,null,null,null,null,null,null,null,null,null,null,null,null,null,null,null,null,{"$f":"IF(Clients!B228=\"\",\"\",Clients!B228)","v":""},{"$f":"IF(Clients!C228=\"\",\"\",Clients!C228)","v":""}]
[null,null,null,null,null,null,null,null,null,null,null,null,null,null,null,null,null,null,{"$f":"IF(Clients!B229=\"\",\"\",Clients!B229)","v":""},{"$f":"IF(Clients!C229=\"\",\"\",Clients!C229)","v":""}]
[null,null,null,null,null,null,null,null,null,null,null,null,null,null,null,null,null,null,{"$f":"IF(Clients!B230=\"\",\"\",Clients!B230)","v":""},{"$f":"IF(Clients!C230=\"\",\"\",Clients!C230)","v":""}]
[null,null,null,null,null,null,null,null,null,null,null,null,null,null,null,null,null,null,{"$f":"IF(Clients!B231=\"\",\"\",Clients!B231)","v":""},{"$f":"IF(Clients!C231=\"\",\"\",Clients!C231)","v":""}]
[null,null,null,null,null,null,null,null,null,null,null,null,null,null,null,null,null,null,{"$f":"IF(Clients!B232=\"\",\"\",Clients!B232)","v":""},{"$f":"IF(Clients!C232=\"\",\"\",Clients!C232)","v":""}]
[null,null,null,null,null,null,null,null,null,null,null,null,null,null,null,null,null,null,{"$f":"IF(Clients!B233=\"\",\"\",Clients!B233)","v":""},{"$f":"IF(Clients!C233=\"\",\"\",Clients!C233)","v":""}]
[null,null,null,null,null,null,null,null,null,null,null,null,null,null,null,null,null,null,{"$f":"IF(Clients!B234=\"\",\"\",Clients!B234)","v":""},{"$f":"IF(Clients!C234=\"\",\"\",Clients!C234)","v":""}]
[null,null,null,null,null,null,null,null,null,null,null,null,null,null,null,null,null,null,{"$f":"IF(Clients!B235=\"\",\"\",Clients!B235)","v":""},{"$f":"IF(Clients!C235=\"\",\"\",Clients!C235)","v":""}]
[null,null,null,null,null,null,null,null,null,null,null,null,null,null,null,null,null,null,{"$f":"IF(Clients!B236=\"\",\"\",Clients!B236)","v":""},{"$f":"IF(Clients!C236=\"\",\"\",Clients!C236)","v":""}]
[null,null,null,null,null,null,null,null,null,null,null,null,null,null,null,null,null,null,{"$f":"IF(Clients!B237=\"\",\"\",Clients!B237)","v":""},{"$f":"IF(Clients!C237=\"\",\"\",Clients!C237)","v":""}]
[null,null,null,null,null,null,null,null,null,null,null,null,null,null,null,null,null,null,{"$f":"IF(Clients!B238=\"\",\"\",Clients!B238)","v":""},{"$f":"IF(Clients!C238=\"\",\"\",Clients!C238)","v":""}]
[null,null,null,null,null,null,null,null,null,null,null,null,null,null,null,null,null,null,{"$f":"IF(Clients!B239=\"\",\"\",Clients!B239)","v":""},{"$f":"IF(Clients!C239=\"\",\"\",Clients!C239)","v":""}]
[null,null,null,null,null,null,null,null,null,null,null,null,null,null,null,null,null,null,{"$f":"IF(Clients!B240=\"\",\"\",Clients!B240)","v":""},{"$f":"IF(Clients!C240=\"\",\"\",Clients!C240)","v":""}]
[null,null,null,null,null,null,null,null,null,null,null,null,null,null,null,null,null,null,{"$f":"IF(Clients!B241=\"\",\"\",Clients!B241)","v":""},{"$f":"IF(Clients!C241=\"\",\"\",Clients!C241)","v":""}]
[null,null,null,null,null,null,null,null,null,null,null,null,null,null,null,null,null,null,{"$f":"IF(Clients!B242=\"\",\"\",Clients!B242)","v":""},{"$f":"IF(Clients!C242=\"\",\"\",Clients!C242)","v":""}]
[null,null,null,null,null,null,null,null,null,null,null,null,null,null,null,null,null,null,{"$f":"IF(Clients!B243=\"\",\"\",Clients!B243)","v":""},{"$f":"IF(Clients!C243=\"\",\"\",Clients!C243)","v":""}]
[null,null,null,null,null,null,null,null,null,null,null,null,null,null,null,null,null,null,{"$f":"IF(Clients!B244=\"\",\"\",Clients!B244)","v":""},{"$f":"IF(Clients!C244=\"\",\"\",Clients!C244)","v":""}]
[null,null,null,null,null,null,null,null,null,null,null,null,null,null,null,null,null,null,{"$f":"IF(Clients!B245=\"\",\"\",Clients!B245)","v":""},{"$f":"IF(Clients!C245=\"\",\"\",Clients!C245)","v":""}]
[null,null,null,null,null,null,null,null,null,null,null,null,null,null,null,null,null,null,{"$f":"IF(Clients!B246=\"\",\"\",Clients!B246)","v":""},{"$f":"IF(Clients!C246=\"\",\"\",Clients!C246)","v":""}]
[null,null,null,null,null,null,null,null,null,null,null,null,null,null,null,null,null,null,{"$f":"IF(Clients!B247=\"\",\"\",Clients!B247)","v":""},{"$f":"IF(Clients!C247=\"\",\"\",Clients!C247)","v":""}]
[null,null,null,null,null,null,null,null,null,null,null,null,null,null,null,null,null,null,{"$f":"IF(Clients!B248=\"\",\"\",Clients!B248)","v":""},{"$f":"IF(Clients!C248=\"\",\"\",Clients!C248)","v":""}]
[null,null,null,null,null,null,null,null,null,null,null,null,null,null,null,null,null,null,{"$f":"IF(Clients!B249=\"\",\"\",Clients!B249)","v":""},{"$f":"IF(Clients!C249=\"\",\"\",Clients!C249)","v":""}]
[null,null,null,null,null,null,null,null,null,null,null,null,null,null,null,null,null,null,{"$f":"IF(Clients!B250=\"\",\"\",Clients!B250)","v":""},{"$f":"IF(Clients!C250=\"\",\"\",Clients!C250)","v":""}]
[null,null,null,null,null,null,null,null,null,null,null,null,null,null,null,null,null,null,{"$f":"IF(Clients!B251=\"\",\"\",Clients!B251)","v":""},{"$f":"IF(Clients!C251=\"\",\"\",Clients!C251)","v":""}]
[null,null,null,null,null,null,null,null,null,null,null,null,null,null,null,null,null,null,{"$f":"IF(Clients!B252=\"\",\"\",Clients!B252)","v":""},{"$f":"IF(Clients!C252=\"\",\"\",Clients!C252)","v":""}]
[null,null,null,null,null,null,null,null,null,null,null,null,null,null,null,null,null,null,{"$f":"IF(Clients!B253=\"\",\"\",Clients!B253)","v":""},{"$f":"IF(Clients!C253=\"\",\"\",Clients!C253)","v":""}]
[null,null,null,null,null,null,null,null,null,null,null,null,null,null,null,null,null,null,{"$f":"IF(Clients!B254=\"\",\"\",Clients!B254)","v":""},{"$f":"IF(Clients!C254=\"\",\"\",Clients!C254)","v":""}]
[null,null,null,null,null,null,null,null,null,null,null,null,null,null,null,null,null,null,{"$f":"IF(Clients!B255=\"\",\"\",Clients!B255)","v":""},{"$f":"IF(Clients!C255=\"\",\"\",Clients!C255)","v":""}]
[null,null,null,null,null,null,null,null,null,null,null,null,null,null,null,null,null,null,{"$f":"IF(Clients!B256=\"\",\"\",Clients!B256)","v":""},{"$f":"IF(Clients!C256=\"\",\"\",Clients!C256)","v":""}]
[null,null,null,null,null,null,null,null,null,null,null,null,null,null,null,null,null,null,{"$f":"IF(Clients!B257=\"\",\"\",Clients!B257)","v":""},{"$f":"IF(Clients!C257=\"\",\"\",Clients!C257)","v":""}]
[null,null,null,null,null,null,null,null,null,null,null,null,null,null,null,null,null,null,{"$f":"IF(Clients!B258=\"\",\"\",Clients!B258)","v":""},{"$f":"IF(Clients!C258=\"\",\"\",Clients!C258)","v":""}]
[null,null,null,null,null,null,null,null,null,null,null,null,null,null,null,null,null,null,{"$f":"IF(Clients!B259=\"\",\"\",Clients!B259)","v":""},{"$f":"IF(Clients!C259=\"\",\"\",Clients!C259)","v":""}]
[null,null,null,null,null,null,null,null,null,null,null,null,null,null,null,null,null,null,{"$f":"IF(Clients!B260=\"\",\"\",Clients!B260)","v":""},{"$f":"IF(Clients!C260=\"\",\"\",Clients!C260)","v":""}]
[null,null,null,null,null,null,null,null,null,null,null,null,null,null,null,null,null,null,{"$f":"IF(Clients!B261=\"\",\"\",Clients!B261)","v":""},{"$f":"IF(Clients!C261=\"\",\"\",Clients!C261)","v":""}]
[null,null,null,null,null,null,null,null,null,null,null,null,null,null,null,null,null,null,{"$f":"IF(Clients!B262=\"\",\"\",Clients!B262)","v":""},{"$f":"IF(Clients!C262=\"\",\"\",Clients!C262)","v":""}]
[null,null,null,null,null,null,null,null,null,null,null,null,null,null,null,null,null,null,{"$f":"IF(Clients!B263=\"\",\"\",Clients!B263)","v":""},{"$f":"IF(Clients!C263=\"\",\"\",Clients!C263)","v":""}]
[null,null,null,null,null,null,null,null,null,null,null,null,null,null,null,null,null,null,{"$f":"IF(Clients!B264=\"\",\"\",Clients!B264)","v":""},{"$f":"IF(Clients!C264=\"\",\"\",Clients!C264)","v":""}]
[null,null,null,null,null,null,null,null,null,null,null,null,null,null,null,null,null,null,{"$f":"IF(Clients!B265=\"\",\"\",Clients!B265)","v":""},{"$f":"IF(Clients!C265=\"\",\"\",Clients!C265)","v":""}]
[null,null,null,null,null,null,null,null,null,null,null,null,null,null,null,null,null,null,{"$f":"IF(Clients!B266=\"\",\"\",Clients!B266)","v":""},{"$f":"IF(Clients!C266=\"\",\"\",Clients!C266)","v":""}]
[null,null,null,null,null,null,null,null,null,null,null,null,null,null,null,null,null,null,{"$f":"IF(Clients!B267=\"\",\"\",Clients!B267)","v":""},{"$f":"IF(Clients!C267=\"\",\"\",Clients!C267)","v":""}]
[null,null,null,null,null,null,null,null,null,null,null,null,null,null,null,null,null,null,{"$f":"IF(Clients!B268=\"\",\"\",Clients!B268)","v":""},{"$f":"IF(Clients!C268=\"\",\"\",Clients!C268)","v":""}]
[null,null,null,null,null,null,null,null,null,null,null,null,null,null,null,null,null,null,{"$f":"IF(Clients!B269=\"\",\"\",Clients!B269)","v":""},{"$f":"IF(Clients!C269=\"\",\"\",Clients!C269)","v":""}]
[null,null,null,null,null,null,null,null,null,null,null,null,null,null,null,null,null,null,{"$f":"IF(Clients!B270=\"\",\"\",Clients!B270)","v":""},{"$f":"IF(Clients!C270=\"\",\"\",Clients!C270)","v":""}]
[null,null,null,null,null,null,null,null,null,null,null,null,null,null,null,null,null,null,{"$f":"IF(Clients!B271=\"\",\"\",Clients!B271)","v":""},{"$f":"IF(Clients!C271=\"\",\"\",Clients!C271)","v":""}]
[null,null,null,null,null,null,20,null,null,null,null,null,null,null,null,null,null,null,{"$f":"IF(Clients!B272=\"\",\"\",Clients!B272)","v":""},{"$f":"IF(Clients!C272=\"\",\"\",Clients!C272)","v":""}]
[null,null,null,null,null,null,null,null,null,null,null,null,null,null,null,null,null,null,{"$f":"IF(Clients!B273=\"\",\"\",Clients!B273)","v":""},{"$f":"IF(Clients!C273=\"\",\"\",Clients!C273)","v":""}]
[null,null,null,null,null,null,null,null,null,null,null,null,null,null,null,null,null,null,{"$f":"IF(Clients!B274=\"\",\"\",Clients!B274)","v":""},{"$f":"IF(Clients!C274=\"\",\"\",Clients!C274)","v":""}]
[null,null,null,null,null,null,null,null,null,null,null,null,null,null,null,null,null,null,{"$f":"IF(Clients!B275=\"\",\"\",Clients!B275)","v":""},{"$f":"IF(Clients!C275=\"\",\"\",Clients!C275)","v":""}]
[null,null,null,null,null,null,null,null,null,null,null,null,null,null,null,null,null,null,{"$f":"IF(Clients!B276=\"\",\"\",Clients!B276)","v":""},{"$f":"IF(Clients!C276=\"\",\"\",Clients!C276)","v":""}]
[null,null,null,null,null,null,null,null,null,null,null,null,null,null,null,null,null,null,{"$f":"IF(Clients!B277=\"\",\"\",Clients!B277)","v":""},{"$f":"IF(Clients!C277=\"\",\"\",Clients!C277)","v":""}]
[null,null,null,null,null,null,null,null,null,null,null,null,null,null,null,null,null,null,{"$f":"IF(Clients!B278=\"\",\"\",Clients!B278)","v":""},{"$f":"IF(Clients!C278=\"\",\"\",Clients!C278)","v":""}]
[null,null,null,null,null,null,null,null,null,null,null,null,null,null,null,null,null,null,{"$f":"IF(Clients!B279=\"\",\"\",Clients!B279)","v":""},{"$f":"IF(Clients!C279=\"\",\"\",Clients!C279)","v":""}]
[null,null,null,null,null,null,null,null,null,null,null,null,null,null,null,null,null,null,{"$f":"IF(Clients!B280=\"\",\"\",Clients!B280)","v":""},{"$f":"IF(Clients!C280=\"\",\"\",Clients!C280)","v":""}]
[null,null,null,null,null,null,null,null,null,null,null,null,null,null,null,null,null,null,{"$f":"IF(Clients!B281=\"\",\"\",Clients!B281)","v":""},{"$f":"IF(Clients!C281=\"\",\"\",Clients!C281)","v":""}]
[null,null,null,null,null,null,null,null,null,null,null,null,null,null,null,null,null,null,{"$f":"IF(Clients!B282=\"\",\"\",Clients!B282)","v":""},{"$f":"IF(Clients!C282=\"\",\"\",Clients!C282)","v":""}]
[null,null,null,null,null,null,null,null,null,null,null,null,null,null,null,null,null,null,{"$f":"IF(Clients!B283=\"\",\"\",Clients!B283)","v":""},{"$f":"IF(Clients!C283=\"\",\"\",Clients!C283)","v":""}]
[null,null,null,null,null,null,null,null,null,null,null,null,null,null,null,null,null,null,{"$f":"IF(Clients!B284=\"\",\"\",Clients!B284)","v":""},{"$f":"IF(Clients!C284=\"\",\"\",Clients!C284)","v":""}]
[null,null,null,null,null,null,null,null,null,null,null,null,null,null,null,null,null,null,{"$f":"IF(Clients!B285=\"\",\"\",Clients!B285)","v":""},{"$f":"IF(Clients!C285=\"\",\"\",Clients!C285)","v":""}]
[null,null,null,null,null,null,null,null,null,null,null,null,null,null,null,null,null,null,{"$f":"IF(Clients!B286=\"\",\"\",Clients!B286)","v":""},{"$f":"IF(Clients!C286=\"\",\"\",Clients!C286)","v":""}]
[null,null,null,null,null,null,null,null,null,null,null,null,null,null,null,null,null,null,{"$f":"IF(Clients!B287=\"\",\"\",Clients!B287)","v":""},{"$f":"IF(Clients!C287=\"\",\"\",Clients!C287)","v":""}]
[null,null,null,null,null,null,null,null,null,null,null,null,null,null,null,null,null,null,{"$f":"IF(Clients!B288=\"\",\"\",Clients!B288)","v":""},{"$f":"IF(Clients!C288=\"\",\"\",Clients!C288)","v":""}]
[null,null,null,null,null,null,null,null,null,null,null,null,null,null,null,null,null,null,{"$f":"IF(Clients!B289=\"\",\"\",Clients!B289)","v":""},{"$f":"IF(Clients!C289=\"\",\"\",Clients!C289)","v":""}]
[null,null,null,null,null,null,null,null,null,null,null,null,null,null,null,null,null,null,{"$f":"IF(Clients!B290=\"\",\"\",Clients!B290)","v":""},{"$f":"IF(Clients!C290=\"\",\"\",Clients!C290)","v":""}]
[null,null,null,null,null,null,null,null,null,null,null,null,null,null,null,null,null,null,{"$f":"IF(Clients!B291=\"\",\"\",Clients!B291)","v":""},{"$f":"IF(Clients!C291=\"\",\"\",Clients!C291)","v":""}]
[null,null,null,null,null,null,null,null,null,null,null,null,null,null,null,null,null,null,{"$f":"IF(Clients!B292=\"\",\"\",Clients!B292)","v":""},{"$f":"IF(Clients!C292=\"\",\"\",Clients!C292)","v":""}]
[null,null,null,null,null,null,null,null,null,null,null,null,null,null,null,null,null,null,{"$f":"IF(Clients!B293=\"\",\"\",Clients!B293)","v":""},{"$f":"IF(Clients!C293=\"\",\"\",Clients!C293)","v":""}]
[null,null,null,null,null,null,null,null,null,null,null,null,null,null,null,null,null,null,{"$f":"IF(Clients!B294=\"\",\"\",Clients!B294)","v":""},{"$f":"IF(Clients!C294=\"\",\"\",Clients!C294)","v":""}]
[null,null,null,null,null,null,null,null,null,null,null,null,null,null,null,null,null,null,{"$f":"IF(Clients!B295=\"\",\"\",Clients!B295)","v":""},{"$f":"IF(Clients!C295=\"\",\"\",Clients!C295)","v":""}]
[null,null,null,null,null,null,null,null,null,null,null,null,null,null,null,null,null,null,{"$f":"IF(Clients!B296=\"\",\"\",Clients!B296)","v":""},{"$f":"IF(Clients!C296=\"\",\"\",Clients!C296)","v":""}]
[null,null,null,null,null,null,null,null,null,null,null,null,null,null,null,null,null,null,{"$f":"IF(Clients!B297=\"\",\"\",Clients!B297)","v":""},{"$f":"IF(Clients!C297=\"\",\"\",Clients!C297)","v":""}]
[null,null,null,null,null,null,null,null,null,null,null,null,null,null,null,null,null,null,{"$f":"IF(Clients!B298=\"\",\"\",Clients!B298)","v":""},{"$f":"IF(Clients!C298=\"\",\"\",Clients!C298)","v":""}]
[null,null,null,null,null,null,null,null,null,null,null,null,null,null,null,null,null,null,{"$f":"IF(Clients!B299=\"\",\"\",Clients!B299)","v":""},{"$f":"IF(Clients!C299=\"\",\"\",Clients!C299)","v":""}]
[null,null,null,null,null,null,null,null,null,null,null,null,null,null,null,null,null,null,{"$f":"IF(Clients!B300=\"\",\"\",Clients!B300)","v":""},{"$f":"IF(Clients!C300=\"\",\"\",Clients!C300)","v":""}]
[null,null,null,null,null,null,null,null,null,null,null,null,null,null,null,null,null,null,{"$f":"IF(Clients!B301=\"\",\"\",Clients!B301)","v":""},{"$f":"IF(Clients!C301=\"\",\"\",Clients!C301)","v":""}]
[null,null,null,null,null,null,null,null,null,null,null,null,null,null,null,null,null,null,{"$f":"IF(Clients!B302=\"\",\"\",Clients!B302)","v":""},{"$f":"IF(Clients!C302=\"\",\"\",Clients!C302)","v":""}]
[null,null,null,null,null,null,null,null,null,null,null,null,null,null,null,null,null,null,{"$f":"IF(Clients!B303=\"\",\"\",Clients!B303)","v":""},{"$f":"IF(Clients!C303=\"\",\"\",Clients!C303)","v":""}]
[null,null,null,null,null,null,null,null,null,null,null,null,null,null,null,null,null,null,{"$f":"IF(Clients!B304=\"\",\"\",Clients!B304)","v":""},{"$f":"IF(Clients!C304=\"\",\"\",Clients!C304)","v":""}]
[null,null,null,null,null,null,null,null,null,null,null,null,null,null,null,null,null,null,{"$f":"IF(Clients!B305=\"\",\"\",Clients!B305)","v":""},{"$f":"IF(Clients!C305=\"\",\"\",Clients!C305)","v":""}]
[null,null,null,null,null,null,null,null,null,null,null,null,null,null,null,null,null,null,{"$f":"IF(Clients!B306=\"\",\"\",Clients!B306)","v":""},{"$f":"IF(Clients!C306=\"\",\"\",Clients!C306)","v":""}]
[null,null,null,null,null,null,null,null,null,null,null,null,null,null,null,null,null,null,{"$f":"IF(Clients!B307=\"\",\"\",Clients!B307)","v":""},{"$f":"IF(Clients!C307=\"\",\"\",Clients!C307)","v":""}]
[null,null,null,null,null,null,null,null,null,null,null,null,null,null,null,null,null,null,{"$f":"IF(Clients!B308=\"\",\"\",Clients!B308)","v":""},{"$f":"IF(Clients!C308=\"\",\"\",Clients!C308)","v":""}]
[null,null,null,null,null,null,null,null,null,null,null,null,null,null,null,null,null,null,{"$f":"IF(Clients!B309=\"\",\"\",Clients!B309)","v":""},{"$f":"IF(Clients!C309=\"\",\"\",Clients!C309)","v":""}]
[null,null,null,null,null,null,null,null,null,null,null,null,null,null,null,null,null,null,{"$f":"IF(Clients!B310=\"\",\"\",Clients!B310)","v":""},{"$f":"IF(Clients!C310=\"\",\"\",Clients!C310)","v":""}]
[null,null,null,null,null,null,null,null,null,null,null,null,null,null,null,null,null,null,{"$f":"IF(Clients!B311=\"\",\"\",Clients!B311)","v":""},{"$f":"IF(Clients!C311=\"\",\"\",Clients!C311)","v":""}]
[null,null,null,null,null,null,null,null,null,null,null,null,null,null,null,null,null,null,{"$f":"IF(Clients!B312=\"\",\"\",Clients!B312)","v":""},{"$f":"IF(Clients!C312=\"\",\"\",Clients!C312)","v":""}]
[null,null,null,null,null,null,null,null,null,null,null,null,null,null,null,null,null,null,{"$f":"IF(Clients!B313=\"\",\"\",Clients!B313)","v":""},{"$f":"IF(Clients!C313=\"\",\"\",Clients!C313)","v":""}]
[null,null,null,null,null,null,null,null,null,null,null,null,null,null,null,null,null,null,{"$f":"IF(Clients!B314=\"\",\"\",Clients!B314)","v":""},{"$f":"IF(Clients!C314=\"\",\"\",Clients!C314)","v":""}]
[null,null,null,null,null,null,null,null,null,null,null,null,null,null,null,null,null,null,{"$f":"IF(Clients!B315=\"\",\"\",Clients!B315)","v":""},{"$f":"IF(Clients!C315=\"\",\"\",Clients!C315)","v":""}]
[null,null,null,null,null,null,null,null,null,null,null,null,null,null,null,null,null,null,{"$f":"IF(Clients!B316=\"\",\"\",Clients!B316)","v":""},{"$f":"IF(Clients!C316=\"\",\"\",Clients!C316)","v":""}]
[null,null,null,null,null,null,null,null,null,null,null,null,null,null,null,null,null,null,{"$f":"IF(Clients!B317=\"\",\"\",Clients!B317)","v":""},{"$f":"IF(Clients!C317=\"\",\"\",Clients!C317)","v":""}]
[null,null,null,null,null,null,null,null,null,null,null,null,null,null,null,null,null,null,{"$f":"IF(Clients!B318=\"\",\"\",Clients!B318)","v":""},{"$f":"IF(Clients!C318=\"\",\"\",Clients!C318)","v":""}]
[null,null,null,null,null,null,null,null,null,null,null,null,null,null,null,null,null,null,{"$f":"IF(Clients!B319=\"\",\"\",Clients!B319)","v":""},{"$f":"IF(Clients!C319=\"\",\"\",Clients!C319)","v":""}]
[null,null,null,null,null,null,null,null,null,null,null,null,null,null,null,null,null,null,{"$f":"IF(Clients!B320=\"\",\"\",Clients!B320)","v":""},{"$f":"IF(Clients!C320=\"\",\"\",Clients!C320)","v":""}]
[null,null,null,null,null,null,null,null,null,null,null,null,null,null,null,null,null,null,{"$f":"IF(Clients!B321=\"\",\"\",Clients!B321)","v":""},{"$f":"IF(Clients!C321=\"\",\"\",Clients!C321)","v":""}]
[null,null,null,null,null,null,null,null,null,null,null,null,null,null,null,null,null,null,{"$f":"IF(Clients!B322=\"\",\"\",Clients!B322)","v":""},{"$f":"IF(Clients!C322=\"\",\"\",Clients!C322)","v":""}]
[null,null,null,null,null,null,null,null,null,null,null,null,null,null,null,null,null,null,{"$f":"IF(Clients!B323=\"\",\"\",Clients!B323)","v":""},{"$f":"IF(Clients!C323=\"\",\"\",Clients!C323)","v":""}]
[null,null,null,null,null,null,null,null,null,null,null,null,null,null,null,null,null,null,{"$f":"IF(Clients!B324=\"\",\"\",Clients!B324)","v":""},{"$f":"IF(Clients!C324=\"\",\"\",Clients!C324)","v":""}]
[null,null,null,null,null,null,null,null,null,null,null,null,null,null,null,null,null,null,{"$f":"IF(Clients!B325=\"\",\"\",Clients!B325)","v":""},{"$f":"IF(Clients!C325=\"\",\"\",Clients!C325)","v":""}]
[null,null,null,null,null,null,null,null,null,null,null,null,null,null,null,null,null,null,{"$f":"IF(Clients!B326=\"\",\"\",Clients!B326)","v":""},{"$f":"IF(Clients!C326=\"\",\"\",Clients!C326)","v":""}]
[null,null,null,null,null,null,null,null,null,null,null,null,null,null,null,null,null,null,{"$f":"IF(Clients!B327=\"\",\"\",Clients!B327)","v":""},{"$f":"IF(Clients!C327=\"\",\"\",Clients!C327)","v":""}]
[null,null,null,null,null,null,null,null,null,null,null,null,null,null,null,null,null,null,{"$f":"IF(Clients!B328=\"\",\"\",Clients!B328)","v":""},{"$f":"IF(Clients!C328=\"\",\"\",Clients!C328)","v":""}]
[null,null,null,null,null,null,null,null,null,null,null,null,null,null,null,null,null,null,{"$f":"IF(Clients!B329=\"\",\"\",Clients!B329)","v":""},{"$f":"IF(Clients!C329=\"\",\"\",Clients!C329)","v":""}]
[null,null,null,null,null,null,null,null,null,null,null,null,null,null,null,null,null,null,{"$f":"IF(Clients!B330=\"\",\"\",Clients!B330)","v":""},{"$f":"IF(Clients!C330=\"\",\"\",Clients!C330)","v":""}]
[null,null,null,null,null,null,null,null,null,null,null,null,null,null,null,null,null,null,{"$f":"IF(Clients!B331=\"\",\"\",Clients!B331)","v":""},{"$f":"IF(Clients!C331=\"\",\"\",Clients!C331)","v":""}]
[null,null,null,null,null,null,null,null,null,null,null,null,null,null,null,null,null,null,{"$f":"IF(Clients!B332=\"\",\"\",Clients!B332)","v":""},{"$f":"IF(Clients!C332=\"\",\"\",Clients!C332)","v":""}]
[null,null,null,null,null,null,null,null,null,null,null,null,null,null,null,null,null,null,{"$f":"IF(Clients!B333=\"\",\"\",Clients!B333)","v":""},{"$f":"IF(Clients!C333=\"\",\"\",Clients!C333)","v":""}]
[null,null,null,null,null,null,null,null,null,null,null,null,null,null,null,null,null,null,{"$f":"IF(Clients!B334=\"\",\"\",Clients!B334)","v":""},{"$f":"IF(Clients!C334=\"\",\"\",Clients!C334)","v":""}]
[null,null,null,null,null,null,null,null,null,null,null,null,null,null,null,null,null,null,{"$f":"IF(Clients!B335=\"\",\"\",Clients!B335)","v":""},{"$f":"IF(Clients!C335=\"\",\"\",Clients!C335)","v":""}]
[null,null,null,null,null,null,null,null,null,null,null,null,null,null,null,null,null,null,{"$f":"IF(Clients!B336=\"\",\"\",Clients!B336)","v":""},{"$f":"IF(Clients!C336=\"\",\"\",Clients!C336)","v":""}]
[null,null,null,null,null,null,null,null,null,null,null,null,null,null,null,null,null,null,{"$f":"IF(Clients!B337=\"\",\"\",Clients!B337)","v":""},{"$f":"IF(Clients!C337=\"\",\"\",Clients!C337)","v":""}]
[null,null,null,null,null,null,null,null,null,null,null,null,null,null,null,null,null,null,{"$f":"IF(Clients!B338=\"\",\"\",Clients!B338)","v":""},{"$f":"IF(Clients!C338=\"\",\"\",Clients!C338)","v":""}]
[null,null,null,null,null,null,null,null,null,null,null,null,null,null,null,null,null,null,{"$f":"IF(Clients!B339=\"\",\"\",Clients!B339)","v":""},{"$f":"IF(Clients!C339=\"\",\"\",Clients!C339)","v":""}]
[null,null,null,null,null,null,null,null,null,null,null,null,null,null,null,null,null,null,{"$f":"IF(Clients!B340=\"\",\"\",Clients!B340)","v":""},{"$f":"IF(Clients!C340=\"\",\"\",Clients!C340)","v":""}]
[null,null,null,null,null,null,null,null,null,null,null,null,null,null,null,null,null,null,{"$f":"IF(Clients!B341=\"\",\"\",Clients!B341)","v":""},{"$f":"IF(Clients!C341=\"\",\"\",Clients!C341)","v":""}]
[null,null,null,null,null,null,null,null,null,null,null,null,null,null,null,null,null,null,{"$f":"IF(Clients!B342=\"\",\"\",Clients!B342)","v":""},{"$f":"IF(Clients!C342=\"\",\"\",Clients!C342)","v":""}]
[null,null,null,null,null,null,null,null,null,null,null,null,null,null,null,null,null,null,{"$f":"IF(Clients!B343=\"\",\"\",Clients!B343)","v":""},{"$f":"IF(Clients!C343=\"\",\"\",Clients!C343)","v":""}]
[null,null,null,null,null,null,null,null,null,null,null,null,null,null,null,null,null,null,{"$f":"IF(Clients!B344=\"\",\"\",Clients!B344)","v":""},{"$f":"IF(Clients!C344=\"\",\"\",Clients!C344)","v":""}]
[null,null,null,null,null,null,null,null,null,null,null,null,null,null,null,null,null,null,{"$f":"IF(Clients!B345=\"\",\"\",Clients!B345)","v":""},{"$f":"IF(Clients!C345=\"\",\"\",Clients!C345)","v":""}]
[null,null,null,null,null,null,null,null,null,null,null,null,null,null,null,null,null,null,{"$f":"IF(Clients!B346=\"\",\"\",Clients!B346)","v":""},{"$f":"IF(Clients!C346=\"\",\"\",Clients!C346)","v":""}]
[null,null,null,null,null,null,null,null,null,null,null,null,null,null,null,null,null,null,{"$f":"IF(Clients!B347=\"\",\"\",Clients!B347)","v":""},{"$f":"IF(Clients!C347=\"\",\"\",Clients!C347)","v":""}]
[null,null,null,null,null,null,null,null,null,null,null,null,null,null,null,null,null,null,{"$f":"IF(Clients!B348=\"\",\"\",Clients!B348)","v":""},{"$f":"IF(Clients!C348=\"\",\"\",Clients!C348)","v":""}]
[null,null,null,null,null,null,null,null,null,null,null,null,null,null,null,null,null,null,{"$f":"IF(Clients!B349=\"\",\"\",Clients!B349)","v":""},{"$f":"IF(Clients!C349=\"\",\"\",Clients!C349)","v":""}]
[null,null,null,null,null,null,null,null,null,null,null,null,null,null,null,null,null,null,{"$f":"IF(Clients!B350=\"\",\"\",Clients!B350)","v":""},{"$f":"IF(Clients!C350=\"\",\"\",Clients!C350)","v":""}]
[null,null,null,null,null,null,null,null,null,null,null,null,null,null,null,null,null,null,{"$f":"IF(Clients!B351=\"\",\"\",Clients!B351)","v":""},{"$f":"IF(Clients!C351=\"\",\"\",Clients!C351)","v":""}]
[null,null,null,null,null,null,null,null,null,null,null,null,null,null,null,null,null,null,{"$f":"IF(Clients!B352=\"\",\"\",Clients!B352)","v":""},{"$f":"IF(Clients!C352=\"\",\"\",Clients!C352)","v":""}]
[null,null,null,null,null,null,null,null,null,null,null,null,null,null,null,null,null,null,{"$f":"IF(Clients!B353=\"\",\"\",Clients!B353)","v":""},{"$f":"IF(Clients!C353=\"\",\"\",Clients!C353)","v":""}]
[null,null,null,null,null,null,null,null,null,null,null,null,null,null,null,null,null,null,{"$f":"IF(Clients!B354=\"\",\"\",Clients!B354)","v":""},{"$f":"IF(Clients!C354=\"\",\"\",Clients!C354)","v":""}]
[null,null,null,null,null,null,null,null,null,null,null,null,null,null,null,null,null,null,{"$f":"IF(Clients!B355=\"\",\"\",Clients!B355)","v":""},{"$f":"IF(Clients!C355=\"\",\"\",Clients!C355)","v":""}]
[null,null,null,null,null,null,null,null,null,null,null,null,null,null,null,null,null,null,{"$f":"IF(Clients!B356=\"\",\"\",Clients!B356)","v":""},{"$f":"IF(Clients!C356=\"\",\"\",Clients!C356)","v":""}]
[null,null,null,null,null,null,null,null,null,null,null,null,null,null,null,null,null,null,{"$f":"IF(Clients!B357=\"\",\"\",Clients!B357)","v":""},{"$f":"IF(Clients!C357=\"\",\"\",Clients!C357)","v":""}]
[null,null,null,null,null,null,null,null,null,null,null,null,null,null,null,null,null,null,{"$f":"IF(Clients!B358=\"\",\"\",Clients!B358)","v":""},{"$f":"IF(Clients!C358=\"\",\"\",Clients!C358)","v":""}]
[null,null,null,null,null,null,null,null,null,null,null,null,null,null,null,null,null,null,{"$f":"IF(Clients!B359=\"\",\"\",Clients!B359)","v":""},{"$f":"IF(Clients!C359=\"\",\"\",Clients!C359)","v":""}]
[null,null,null,null,null,null,null,null,null,null,null,null,null,null,null,null,null,null,{"$f":"IF(Clients!B360=\"\",\"\",Clients!B360)","v":""},{"$f":"IF(Clients!C360=\"\",\"\",Clients!C360)","v":""}]
[null,null,null,null,null,null,null,null,null,null,null,null,null,null,null,null,null,null,{"$f":"IF(Clients!B361=\"\",\"\",Clients!B361)","v":""},{"$f":"IF(Clients!C361=\"\",\"\",Clients!C361)","v":""}]
[null,null,null,null,null,null,null,null,null,null,null,null,null,null,null,null,null,null,{"$f":"IF(Clients!B362=\"\",\"\",Clients!B362)","v":""},{"$f":"IF(Clients!C362=\"\",\"\",Clients!C362)","v":""}]
[null,null,null,null,null,null,null,null,null,null,null,null,null,null,null,null,null,null,{"$f":"IF(Clients!B363=\"\",\"\",Clients!B363)","v":""},{"$f":"IF(Clients!C363=\"\",\"\",Clients!C363)","v":""}]
[null,null,null,null,null,null,null,null,null,null,null,null,null,null,null,null,null,null,{"$f":"IF(Clients!B364=\"\",\"\",Clients!B364)","v":""},{"$f":"IF(Clients!C364=\"\",\"\",Clients!C364)","v":""}]
[null,null,null,null,null,null,null,null,null,null,null,null,null,null,null,null,null,null,{"$f":"IF(Clients!B365=\"\",\"\",Clients!B365)","v":""},{"$f":"IF(Clients!C365=\"\",\"\",Clients!C365)","v":""}]
[null,null,null,null,null,null,null,null,null,null,null,null,null,null,null,null,null,null,{"$f":"IF(Clients!B366=\"\",\"\",Clients!B366)","v":""},{"$f":"IF(Clients!C366=\"\",\"\",Clients!C366)","v":""}]
[null,null,null,null,null,null,null,null,null,null,null,null,null,null,null,null,null,null,{"$f":"IF(Clients!B367=\"\",\"\",Clients!B367)","v":""},{"$f":"IF(Clients!C367=\"\",\"\",Clients!C367)","v":""}]
[null,null,null,null,null,null,null,null,null,null,null,null,null,null,null,null,null,null,{"$f":"IF(Clients!B368=\"\",\"\",Clients!B368)","v":""},{"$f":"IF(Clients!C368=\"\",\"\",Clients!C368)","v":""}]
[null,null,null,null,null,null,null,null,null,null,null,null,null,null,null,null,null,null,{"$f":"IF(Clients!B369=\"\",\"\",Clients!B369)","v":""},{"$f":"IF(Clients!C369=\"\",\"\",Clients!C369)","v":""}]
[null,null,null,null,null,null,null,null,null,null,null,null,null,null,null,null,null,null,{"$f":"IF(Clients!B370=\"\",\"\",Clients!B370)","v":""},{"$f":"IF(Clients!C370=\"\",\"\",Clients!C370)","v":""}]
[null,null,null,null,null,null,null,null,null,null,null,null,null,null,null,null,null,null,{"$f":"IF(Clients!B371=\"\",\"\",Clients!B371)","v":""},{"$f":"IF(Clients!C371=\"\",\"\",Clients!C371)","v":""}]
[null,null,null,null,null,null,null,null,null,null,null,null,null,null,null,null,null,null,{"$f":"IF(Clients!B372=\"\",\"\",Clients!B372)","v":""},{"$f":"IF(Clients!C372=\"\",\"\",Clients!C372)","v":""}]
[null,null,null,null,null,null,null,null,null,null,null,null,null,null,null,null,null,null,{"$f":"IF(Clients!B373=\"\",\"\",Clients!B373)","v":""},{"$f":"IF(Clients!C373=\"\",\"\",Clients!C373)","v":""}]
[null,null,null,null,null,null,null,null,null,null,null,null,null,null,null,null,null,null,{"$f":"IF(Clients!B374=\"\",\"\",Clients!B374)","v":""},{"$f":"IF(Clients!C374=\"\",\"\",Clients!C374)","v":""}]
[null,null,null,null,null,null,null,null,null,null,null,null,null,null,null,null,null,null,{"$f":"IF(Clients!B375=\"\",\"\",Clients!B375)","v":""},{"$f":"IF(Clients!C375=\"\",\"\",Clients!C375)","v":""}]
[null,null,null,null,null,null,null,null,null,null,null,null,null,null,null,null,null,null,{"$f":"IF(Clients!B376=\"\",\"\",Clients!B376)","v":""},{"$f":"IF(Clients!C376=\"\",\"\",Clients!C376)","v":""}]
[null,null,null,null,null,null,null,null,null,null,null,null,null,null,null,null,null,null,{"$f":"IF(Clients!B377=\"\",\"\",Clients!B377)","v":""},{"$f":"IF(Clients!C377=\"\",\"\",Clients!C377)","v":""}]
[null,null,null,null,null,null,null,null,null,null,null,null,null,null,null,null,null,null,{"$f":"IF(Clients!B378=\"\",\"\",Clients!B378)","v":""},{"$f":"IF(Clients!C378=\"\",\"\",Clients!C378)","v":""}]
[null,null,null,null,null,null,null,null,null,null,null,null,null,null,null,null,null,null,{"$f":"IF(Clients!B379=\"\",\"\",Clients!B379)","v":""},{"$f":"IF(Clients!C379=\"\",\"\",Clients!C379)","v":""}]
[null,null,null,null,null,null,null,null,null,null,null,null,null,null,null,null,null,null,{"$f":"IF(Clients!B380=\"\",\"\",Clients!B380)","v":""},{"$f":"IF(Clients!C380=\"\",\"\",Clients!C380)","v":""}]
[null,null,null,null,null,null,null,null,null,null,null,null,null,null,null,null,null,null,{"$f":"IF(Clients!B381=\"\",\"\",Clients!B381)","v":""},{"$f":"IF(Clients!C381=\"\",\"\",Clients!C381)","v":""}]
[null,null,null,null,null,null,null,null,null,null,null,null,null,null,null,null,null,null,{"$f":"IF(Clients!B382=\"\",\"\",Clients!B382)","v":""},{"$f":"IF(Clients!C382=\"\",\"\",Clients!C382)","v":""}]
[null,null,null,null,null,null,null,null,null,null,null,null,null,null,null,null,null,null,{"$f":"IF(Clients!B383=\"\",\"\",Clients!B383)","v":""},{"$f":"IF(Clients!C383=\"\",\"\",Clients!C383)","v":""}]
[null,null,null,null,null,null,null,null,null,null,null,null,null,null,null,null,null,null,{"$f":"IF(Clients!B384=\"\",\"\",Clients!B384)","v":""},{"$f":"IF(Clients!C384=\"\",\"\",Clients!C384)","v":""}]
[null,null,null,null,null,null,null,null,null,null,null,null,null,null,null,null,null,null,{"$f":"IF(Clients!B385=\"\",\"\",Clients!B385)","v":""},{"$f":"IF(Clients!C385=\"\",\"\",Clients!C385)","v":""}]
[null,null,null,null,null,null,null,null,null,null,null,null,null,null,null,null,null,null,{"$f":"IF(Clients!B386=\"\",\"\",Clients!B386)","v":""},{"$f":"IF(Clients!C386=\"\",\"\",Clients!C386)","v":""}]
[null,null,null,null,null,null,null,null,null,null,null,null,null,null,null,null,null,null,{"$f":"IF(Clients!B387=\"\",\"\",Clients!B387)","v":""},{"$f":"IF(Clients!C387=\"\",\"\",Clients!C387)","v":""}]
[null,null,null,null,null,null,null,null,null,null,null,null,null,null,null,null,null,null,{"$f":"IF(Clients!B388=\"\",\"\",Clients!B388)","v":""},{"$f":"IF(Clients!C388=\"\",\"\",Clients!C388)","v":""}]
[null,null,null,null,null,null,null,null,null,null,null,null,null,null,null,null,null,null,{"$f":"IF(Clients!B389=\"\",\"\",Clients!B389)","v":""},{"$f":"IF(Clients!C389=\"\",\"\",Clients!C389)","v":""}]
[null,null,null,null,null,null,null,null,null,null,null,null,null,null,null,null,null,null,{"$f":"IF(Clients!B390=\"\",\"\",Clients!B390)","v":""},{"$f":"IF(Clients!C390=\"\",\"\",Clients!C390)","v":""}]
[null,null,null,null,null,null,null,null,null,null,null,null,null,null,null,null,null,null,{"$f":"IF(Clients!B391=\"\",\"\",Clients!B391)","v":""},{"$f":"IF(Clients!C391=\"\",\"\",Clients!C391)","v":""}]
[null,null,null,null,null,null,null,null,null,null,null,null,null,null,null,null,null,null,{"$f":"IF(Clients!B392=\"\",\"\",Clients!B392)","v":""},{"$f":"IF(Clients!C392=\"\",\"\",Clients!C392)","v":""}]
[null,null,null,null,null,null,null,null,null,null,null,null,null,null,null,null,null,null,{"$f":"IF(Clients!B393=\"\",\"\",Clients!B393)","v":""},{"$f":"IF(Clients!C393=\"\",\"\",Clients!C393)","v":""}]
[null,null,null,null,null,null,null,null,null,null,null,null,null,null,null,null,null,null,{"$f":"IF(Clients!B394=\"\",\"\",Clients!B394)","v":""},{"$f":"IF(Clients!C394=\"\",\"\",Clients!C394)","v":""}]
[null,null,null,null,null,null,null,null,null,null,null,null,null,null,null,null,null,null,{"$f":"IF(Clients!B395=\"\",\"\",Clients!B395)","v":""},{"$f":"IF(Clients!C395=\"\",\"\",Clients!C395)","v":""}]
[null,null,null,null,null,null,null,null,null,null,null,null,null,null,null,null,null,null,{"$f":"IF(Clients!B396=\"\",\"\",Clients!B396)","v":""},{"$f":"IF(Clients!C396=\"\",\"\",Clients!C396)","v":""}]
[null,null,null,null,null,null,null,null,null,null,null,null,null,null,null,null,null,null,{"$f":"IF(Clients!B397=\"\",\"\",Clients!B397)","v":""},{"$f":"IF(Clients!C397=\"\",\"\",Clients!C397)","v":""}]
[null,null,null,null,null,null,null,null,null,null,null,null,null,null,null,null,null,null,{"$f":"IF(Clients!B398=\"\",\"\",Clients!B398)","v":""},{"$f":"IF(Clients!C398=\"\",\"\",Clients!C398)","v":""}]
[null,null,null,null,null,null,null,null,null,null,null,null,null,null,null,null,null,null,{"$f":"IF(Clients!B399=\"\",\"\",Clients!B399)","v":""},{"$f":"IF(Clients!C399=\"\",\"\",Clients!C399)","v":""}]
[null,null,null,null,null,null,null,null,null,null,null,null,null,null,null,null,null,null,{"$f":"IF(Clients!B400=\"\",\"\",Clients!B400)","v":""},{"$f":"IF(Clients!C400=\"\",\"\",Clients!C400)","v":""}]
[null,null,null,null,null,null,null,null,null,null,null,null,null,null,null,null,null,null,{"$f":"IF(Clients!B401=\"\",\"\",Clients!B401)","v":""},{"$f":"IF(Clients!C401=\"\",\"\",Clients!C401)","v":""}]
[null,null,null,null,null,null,null,null,null,null,null,null,null,null,null,null,null,null,{"$f":"IF(Clients!B402=\"\",\"\",Clients!B402)","v":""},{"$f":"IF(Clients!C402=\"\",\"\",Clients!C402)","v":""}]
[null,null,null,null,null,null,null,null,null,null,null,null,null,null,null,null,null,null,{"$f":"IF(Clients!B403=\"\",\"\",Clients!B403)","v":""},{"$f":"IF(Clients!C403=\"\",\"\",Clients!C403)","v":""}]
[null,null,null,null,null,null,null,null,null,null,null,null,null,null,null,null,null,null,{"$f":"IF(Clients!B404=\"\",\"\",Clients!B404)","v":""},{"$f":"IF(Clients!C404=\"\",\"\",Clients!C404)","v":""}]
[null,null,null,null,null,null,null,null,null,null,null,null,null,null,null,null,null,null,{"$f":"IF(Clients!B405=\"\",\"\",Clients!B405)","v":""},{"$f":"IF(Clients!C405=\"\",\"\",Clients!C405)","v":""}]
[null,null,null,null,null,null,null,null,null,null,null,null,null,null,null,null,null,null,{"$f":"IF(Clients!B406=\"\",\"\",Clients!B406)","v":""},{"$f":"IF(Clients!C406=\"\",\"\",Clients!C406)","v":""}]
[null,null,null,null,null,null,null,null,null,null,null,null,null,null,null,null,null,null,{"$f":"IF(Clients!B407=\"\",\"\",Clients!B407)","v":""},{"$f":"IF(Clients!C407=\"\",\"\",Clients!C407)","v":""}]
[null,null,null,null,null,null,null,null,null,null,null,null,null,null,null,null,null,null,{"$f":"IF(Clients!B408=\"\",\"\",Clients!B408)","v":""},{"$f":"IF(Clients!C408=\"\",\"\",Clients!C408)","v":""}]
[null,null,null,null,null,null,null,null,null,null,null,null,null,null,null,null,null,null,{"$f":"IF(Clients!B409=\"\",\"\",Clients!B409)","v":""},{"$f":"IF(Clients!C409=\"\",\"\",Clients!C409)","v":""}]
[null,null,null,null,null,null,null,null,null,null,null,null,null,null,null,null,null,null,{"$f":"IF(Clients!B410=\"\",\"\",Clients!B410)","v":""},{"$f":"IF(Clients!C410=\"\",\"\",Clients!C410)","v":""}]
[null,null,null,null,null,null,null,null,null,null,null,null,null,null,null,null,null,null,{"$f":"IF(Clients!B411=\"\",\"\",Clients!B411)","v":""},{"$f":"IF(Clients!C411=\"\",\"\",Clients!C411)","v":""}]
[null,null,null,null,null,null,null,null,null,null,null,null,null,null,null,null,null,null,{"$f":"IF(Clients!B412=\"\",\"\",Clients!B412)","v":""},{"$f":"IF(Clients!C412=\"\",\"\",Clients!C412)","v":""}]
[null,null,null,null,null,null,null,null,null,null,null,null,null,null,null,null,null,null,{"$f":"IF(Clients!B413=\"\",\"\",Clients!B413)","v":""},{"$f":"IF(Clients!C413=\"\",\"\",Clients!C413)","v":""}]
[null,null,null,null,null,null,null,null,null,null,null,null,null,null,null,null,null,null,{"$f":"IF(Clients!B414=\"\",\"\",Clients!B414)","v":""},{"$f":"IF(Clients!C414=\"\",\"\",Clients!C414)","v":""}]
[null,null,null,null,null,null,null,null,null,null,null,null,null,null,null,null,null,null,{"$f":"IF(Clients!B415=\"\",\"\",Clients!B415)","v":""},{"$f":"IF(Clients!C415=\"\",\"\",Clients!C415)","v":""}]
[null,null,null,null,null,null,null,null,null,null,null,null,null,null,null,null,null,null,{"$f":"IF(Clients!B416=\"\",\"\",Clients!B416)","v":""},{"$f":"IF(Clients!C416=\"\",\"\",Clients!C416)","v":""}]
[null,null,null,null,null,null,null,null,null,null,null,null,null,null,null,null,null,null,{"$f":"IF(Clients!B417=\"\",\"\",Clients!B417)","v":""},{"$f":"IF(Clients!C417=\"\",\"\",Clients!C417)","v":""}]
[null,null,null,null,null,null,null,null,null,null,null,null,null,null,null,null,null,null,{"$f":"IF(Clients!B418=\"\",\"\",Clients!B418)","v":""},{"$f":"IF(Clients!C418=\"\",\"\",Clients!C418)","v":""}]
[null,null,null,null,null,null,null,null,null,null,null,null,null,null,null,null,null,null,{"$f":"IF(Clients!B419=\"\",\"\",Clients!B419)","v":""},{"$f":"IF(Clients!C419=\"\",\"\",Clients!C419)","v":""}]
[null,null,null,null,null,null,null,null,null,null,null,null,null,null,null,null,null,null,{"$f":"IF(Clients!B420=\"\",\"\",Clients!B420)","v":""},{"$f":"IF(Clients!C420=\"\",\"\",Clients!C420)","v":""}]
[null,null,null,null,null,null,null,null,null,null,null,null,null,null,null,null,null,null,{"$f":"IF(Clients!B421=\"\",\"\",Clients!B421)","v":""},{"$f":"IF(Clients!C421=\"\",\"\",Clients!C421)","v":""}]
[null,null,null,null,null,null,null,null,null,null,null,null,null,null,null,null,null,null,{"$f":"IF(Clients!B422=\"\",\"\",Clients!B422)","v":""},{"$f":"IF(Clients!C422=\"\",\"\",Clients!C422)","v":""}]
[null,null,null,null,null,null,null,null,null,null,null,null,null,null,null,null,null,null,{"$f":"IF(Clients!B423=\"\",\"\",Clients!B423)","v":""},{"$f":"IF(Clients!C423=\"\",\"\",Clients!C423)","v":""}]
[null,null,null,null,null,null,null,null,null,null,null,null,null,null,null,null,null,null,{"$f":"IF(Clients!B424=\"\",\"\",Clients!B424)","v":""},{"$f":"IF(Clients!C424=\"\",\"\",Clients!C424)","v":""}]
[null,null,null,null,null,null,null,null,null,null,null,null,null,null,null,null,null,null,{"$f":"IF(Clients!B425=\"\",\"\",Clients!B425)","v":""},{"$f":"IF(Clients!C425=\"\",\"\",Clients!C425)","v":""}]
[null,null,null,null,null,null,null,null,null,null,null,null,null,null,null,null,null,null,{"$f":"IF(Clients!B426=\"\",\"\",Clients!B426)","v":""},{"$f":"IF(Clients!C426=\"\",\"\",Clients!C426)","v":""}]
[null,null,null,null,null,null,null,null,null,null,null,null,null,null,null,null,null,null,{"$f":"IF(Clients!B427=\"\",\"\",Clients!B427)","v":""},{"$f":"IF(Clients!C427=\"\",\"\",Clients!C427)","v":""}]
[null,null,null,null,null,null,null,null,null,null,null,null,null,null,null,null,null,null,{"$f":"IF(Clients!B428=\"\",\"\",Clients!B428)","v":""},{"$f":"IF(Clients!C428=\"\",\"\",Clients!C428)","v":""}]
[null,null,null,null,null,null,null,null,null,null,null,null,null,null,null,null,null,null,{"$f":"IF(Clients!B429=\"\",\"\",Clients!B429)","v":""},{"$f":"IF(Clients!C429=\"\",\"\",Clients!C429)","v":""}]
[null,null,null,null,null,null,null,null,null,null,null,null,null,null,null,null,null,null,{"$f":"IF(Clients!B430=\"\",\"\",Clients!B430)","v":""},{"$f":"IF(Clients!C430=\"\",\"\",Clients!C430)","v":""}]
[null,null,null,null,null,null,null,null,null,null,null,null,null,null,null,null,null,null,{"$f":"IF(Clients!B431=\"\",\"\",Clients!B431)","v":""},{"$f":"IF(Clients!C431=\"\",\"\",Clients!C431)","v":""}]
[null,null,null,null,null,null,null,null,null,null,null,null,null,null,null,null,null,null,{"$f":"IF(Clients!B432=\"\",\"\",Clients!B432)","v":""},{"$f":"IF(Clients!C432=\"\",\"\",Clients!C432)","v":""}]
[null,null,null,null,null,null,null,null,null,null,null,null,null,null,null,null,null,null,{"$f":"IF(Clients!B433=\"\",\"\",Clients!B433)","v":""},{"$f":"IF(Clients!C433=\"\",\"\",Clients!C433)","v":""}]
[null,null,null,null,null,null,null,null,null,null,null,null,null,null,null,null,null,null,{"$f":"IF(Clients!B434=\"\",\"\",Clients!B434)","v":""},{"$f":"IF(Clients!C434=\"\",\"\",Clients!C434)","v":""}]
[null,null,null,null,null,null,null,null,null,null,null,null,null,null,null,null,null,null,{"$f":"IF(Clients!B435=\"\",\"\",Clients!B435)","v":""},{"$f":"IF(Clients!C435=\"\",\"\",Clients!C435)","v":""}]
[null,null,null,null,null,null,null,null,null,null,null,null,null,null,null,null,null,null,{"$f":"IF(Clients!B436=\"\",\"\",Clients!B436)","v":""},{"$f":"IF(Clients!C436=\"\",\"\",Clients!C436)","v":""}]
[null,null,null,null,null,null,null,null,null,null,null,null,null,null,null,null,null,null,{"$f":"IF(Clients!B437=\"\",\"\",Clients!B437)","v":""},{"$f":"IF(Clients!C437=\"\",\"\",Clients!C437)","v":""}]
[null,null,null,null,null,null,null,null,null,null,null,null,null,null,null,null,null,null,{"$f":"IF(Clients!B438=\"\",\"\",Clients!B438)","v":""},{"$f":"IF(Clients!C438=\"\",\"\",Clients!C438)","v":""}]
[null,null,null,null,null,null,null,null,null,null,null,null,null,null,null,null,null,null,{"$f":"IF(Clients!B439=\"\",\"\",Clients!B439)","v":""},{"$f":"IF(Clients!C439=\"\",\"\",Clients!C439)","v":""}]
[null,null,null,null,null,null,null,null,null,null,null,null,null,null,null,null,null,null,{"$f":"IF(Clients!B440=\"\",\"\",Clients!B440)","v":""},{"$f":"IF(Clients!C440=\"\",\"\",Clients!C440)","v":""}]
[null,null,null,null,null,null,null,null,null,null,null,null,null,null,null,null,null,null,{"$f":"IF(Clients!B441=\"\",\"\",Clients!B441)","v":""},{"$f":"IF(Clients!C441=\"\",\"\",Clients!C441)","v":""}]
[null,null,null,null,null,null,null,null,null,null,null,null,null,null,null,null,null,null,{"$f":"IF(Clients!B442=\"\",\"\",Clients!B442)","v":""},{"$f":"IF(Clients!C442=\"\",\"\",Clients!C442)","v":""}]
[null,null,null,null,null,null,null,null,null,null,null,null,null,null,null,null,null,null,{"$f":"IF(Clients!B443=\"\",\"\",Clients!B443)","v":""},{"$f":"IF(Clients!C443=\"\",\"\",Clients!C443)","v":""}]
[null,null,null,null,null,null,null,null,null,null,null,null,null,null,null,null,null,null,{"$f":"IF(Clients!B444=\"\",\"\",Clients!B444)","v":""},{"$f":"IF(Clients!C444=\"\",\"\",Clients!C444)","v":""}]
[null,null,null,null,null,null,null,null,null,null,null,null,null,null,null,null,null,null,{"$f":"IF(Clients!B445=\"\",\"\",Clients!B445)","v":""},{"$f":"IF(Clients!C445=\"\",\"\",Clients!C445)","v":""}]
[null,null,null,null,null,null,null,null,null,null,null,null,null,null,null,null,null,null,{"$f":"IF(Clients!B446=\"\",\"\",Clients!B446)","v":""},{"$f":"IF(Clients!C446=\"\",\"\",Clients!C446)","v":""}]
[null,null,null,null,null,null,null,null,null,null,null,null,null,null,null,null,null,null,{"$f":"IF(Clients!B447=\"\",\"\",Clients!B447)","v":""},{"$f":"IF(Clients!C447=\"\",\"\",Clients!C447)","v":""}]
[null,null,null,null,null,null,null,null,null,null,null,null,null,null,null,null,null,null,{"$f":"IF(Clients!B448=\"\",\"\",Clients!B448)","v":""},{"$f":"IF(Clients!C448=\"\",\"\",Clients!C448)","v":""}]
[null,null,null,null,null,null,null,null,null,null,null,null,null,null,null,null,null,null,{"$f":"IF(Clients!B449=\"\",\"\",Clients!B449)","v":""},{"$f":"IF(Clients!C449=\"\",\"\",Clients!C449)","v":""}]
[null,null,null,null,null,null,null,null,null,null,null,null,null,null,null,null,null,null,{"$f":"IF(Clients!B450=\"\",\"\",Clients!B450)","v":""},{"$f":"IF(Clients!C450=\"\",\"\",Clients!C450)","v":""}]
[null,null,null,null,null,null,null,null,null,null,null,null,null,null,null,null,null,null,{"$f":"IF(Clients!B451=\"\",\"\",Clients!B451)","v":""},{"$f":"IF(Clients!C451=\"\",\"\",Clients!C451)","v":""}]
[null,null,null,null,null,null,null,null,null,null,null,null,null,null,null,null,null,null,{"$f":"IF(Clients!B452=\"\",\"\",Clients!B452)","v":""},{"$f":"IF(Clients!C452=\"\",\"\",Clients!C452)","v":""}]
[null,null,null,null,null,null,null,null,null,null,null,null,null,null,null,null,null,null,{"$f":"IF(Clients!B453=\"\",\"\",Clients!B453)","v":""},{"$f":"IF(Clients!C453=\"\",\"\",Clients!C453)","v":""}]
[null,null,null,null,null,null,null,null,null,null,null,null,null,null,null,null,null,null,{"$f":"IF(Clients!B454=\"\",\"\",Clients!B454)","v":""},{"$f":"IF(Clients!C454=\"\",\"\",Clients!C454)","v":""}]
[null,null,null,null,null,null,null,null,null,null,null,null,null,null,null,null,null,null,{"$f":"IF(Clients!B455=\"\",\"\",Clients!B455)","v":""},{"$f":"IF(Clients!C455=\"\",\"\",Clients!C455)","v":""}]
[null,null,null,null,null,null,null,null,null,null,null,null,null,null,null,null,null,null,{"$f":"IF(Clients!B456=\"\",\"\",Clients!B456)","v":""},{"$f":"IF(Clients!C456=\"\",\"\",Clients!C456)","v":""}]
[null,null,null,null,null,null,null,null,null,null,null,null,null,null,null,null,null,null,{"$f":"IF(Clients!B457=\"\",\"\",Clients!B457)","v":""},{"$f":"IF(Clients!C457=\"\",\"\",Clients!C457)","v":""}]
[null,null,null,null,null,null,null,null,null,null,null,null,null,null,null,null,null,null,{"$f":"IF(Clients!B458=\"\",\"\",Clients!B458)","v":""},{"$f":"IF(Clients!C458=\"\",\"\",Clients!C458)","v":""}]
[null,null,null,null,null,null,null,null,null,null,null,null,null,null,null,null,null,null,{"$f":"IF(Clients!B459=\"\",\"\",Clients!B459)","v":""},{"$f":"IF(Clients!C459=\"\",\"\",Clients!C459)","v":""}]
[null,null,null,null,null,null,null,null,null,null,null,null,null,null,null,null,null,null,{"$f":"IF(Clients!B460=\"\",\"\",Clients!B460)","v":""},{"$f":"IF(Clients!C460=\"\",\"\",Clients!C460)","v":""}]
[null,null,null,null,null,null,null,null,null,null,null,null,null,null,null,null,null,null,{"$f":"IF(Clients!B461=\"\",\"\",Clients!B461)","v":""},{"$f":"IF(Clients!C461=\"\",\"\",Clients!C461)","v":""}]
[null,null,null,null,null,null,null,null,null,null,null,null,null,null,null,null,null,null,{"$f":"IF(Clients!B462=\"\",\"\",Clients!B462)","v":""},{"$f":"IF(Clients!C462=\"\",\"\",Clients!C462)","v":""}]
[null,null,null,null,null,null,null,null,null,null,null,null,null,null,null,null,null,null,{"$f":"IF(Clients!B463=\"\",\"\",Clients!B463)","v":""},{"$f":"IF(Clients!C463=\"\",\"\",Clients!C463)","v":""}]
[null,null,null,null,null,null,null,null,null,null,null,null,null,null,null,null,null,null,{"$f":"IF(Clients!B464=\"\",\"\",Clients!B464)","v":""},{"$f":"IF(Clients!C464=\"\",\"\",Clients!C464)","v":""}]
[null,null,null,null,null,null,null,null,null,null,null,null,null,null,null,null,null,null,{"$f":"IF(Clients!B465=\"\",\"\",Clients!B465)","v":""},{"$f":"IF(Clients!C465=\"\",\"\",Clients!C465)","v":""}]
[null,null,null,null,null,null,null,null,null,null,null,null,null,null,null,null,null,null,{"$f":"IF(Clients!B466=\"\",\"\",Clients!B466)","v":""},{"$f":"IF(Clients!C466=\"\",\"\",Clients!C466)","v":""}]
[null,null,null,null,null,null,null,null,null,null,null,null,null,null,null,null,null,null,{"$f":"IF(Clients!B467=\"\",\"\",Clients!B467)","v":""},{"$f":"IF(Clients!C467=\"\",\"\",Clients!C467)","v":""}]
[null,null,null,null,null,null,null,null,null,null,null,null,null,null,null,null,null,null,{"$f":"IF(Clients!B468=\"\",\"\",Clients!B468)","v":""},{"$f":"IF(Clients!C468=\"\",\"\",Clients!C468)","v":""}]
[null,null,null,null,null,null,null,null,null,null,null,null,null,null,null,null,null,null,{"$f":"IF(Clients!B469=\"\",\"\",Clients!B469)","v":""},{"$f":"IF(Clients!C469=\"\",\"\",Clients!C469)","v":""}]
[null,null,null,null,null,null,null,null,null,null,null,null,null,null,null,null,null,null,{"$f":"IF(Clients!B470=\"\",\"\",Clients!B470)","v":""},{"$f":"IF(Clients!C470=\"\",\"\",Clients!C470)","v":""}]
[null,null,null,null,null,null,null,null,null,null,null,null,null,null,null,null,null,null,{"$f":"IF(Clients!B471=\"\",\"\",Clients!B471)","v":""},{"$f":"IF(Clients!C471=\"\",\"\",Clients!C471)","v":""}]
[null,null,null,null,null,null,null,null,null,null,null,null,null,null,null,null,null,null,{"$f":"IF(Clients!B472=\"\",\"\",Clients!B472)","v":""},{"$f":"IF(Clients!C472=\"\",\"\",Clients!C472)","v":""}]
[null,null,null,null,null,null,null,null,null,null,null,null,null,null,null,null,null,null,{"$f":"IF(Clients!B473=\"\",\"\",Clients!B473)","v":""},{"$f":"IF(Clients!C473=\"\",\"\",Clients!C473)","v":""}]
[null,null,null,null,null,null,null,null,null,null,null,null,null,null,null,null,null,null,{"$f":"IF(Clients!B474=\"\",\"\",Clients!B474)","v":""},{"$f":"IF(Clients!C474=\"\",\"\",Clients!C474)","v":""}]
[null,null,null,null,null,null,null,null,null,null,null,null,null,null,null,null,null,null,{"$f":"IF(Clients!B475=\"\",\"\",Clients!B475)","v":""},{"$f":"IF(Clients!C475=\"\",\"\",Clients!C475)","v":""}]
[null,null,null,null,null,null,null,null,null,null,null,null,null,null,null,null,null,null,{"$f":"IF(Clients!B476=\"\",\"\",Clients!B476)","v":""},{"$f":"IF(Clients!C476=\"\",\"\",Clients!C476)","v":""}]
[null,null,null,null,null,null,null,null,null,null,null,null,null,null,null,null,null,null,{"$f":"IF(Clients!B477=\"\",\"\",Clients!B477)","v":""},{"$f":"IF(Clients!C477=\"\",\"\",Clients!C477)","v":""}]
[null,null,null,null,null,null,null,null,null,null,null,null,null,null,null,null,null,null,{"$f":"IF(Clients!B478=\"\",\"\",Clients!B478)","v":""},{"$f":"IF(Clients!C478=\"\",\"\",Clients!C478)","v":""}]
[null,null,null,null,null,null,null,null,null,null,null,null,null,null,null,null,null,null,{"$f":"IF(Clients!B479=\"\",\"\",Clients!B479)","v":""},{"$f":"IF(Clients!C479=\"\",\"\",Clients!C479)","v":""}]
[null,null,null,null,null,null,null,null,null,null,null,null,null,null,null,null,null,null,{"$f":"IF(Clients!B480=\"\",\"\",Clients!B480)","v":""},{"$f":"IF(Clients!C480=\"\",\"\",Clients!C480)","v":""}]
[null,null,null,null,null,null,null,null,null,null,null,null,null,null,null,null,null,null,{"$f":"IF(Clients!B481=\"\",\"\",Clients!B481)","v":""},{"$f":"IF(Clients!C481=\"\",\"\",Clients!C481)","v":""}]
[null,null,null,null,null,null,null,null,null,null,null,null,null,null,null,null,null,null,{"$f":"IF(Clients!B482=\"\",\"\",Clients!B482)","v":""},{"$f":"IF(Clients!C482=\"\",\"\",Clients!C482)","v":""}]
[null,null,null,null,null,null,null,null,null,null,null,null,null,null,null,null,null,null,{"$f":"IF(Clients!B483=\"\",\"\",Clients!B483)","v":""},{"$f":"IF(Clients!C483=\"\",\"\",Clients!C483)","v":""}]
[null,null,null,null,null,null,null,null,null,null,null,null,null,null,null,null,null,null,{"$f":"IF(Clients!B484=\"\",\"\",Clients!B484)","v":""},{"$f":"IF(Clients!C484=\"\",\"\",Clients!C484)","v":""}]
[null,null,null,null,null,null,null,null,null,null,null,null,null,null,null,null,null,null,{"$f":"IF(Clients!B485=\"\",\"\",Clients!B485)","v":""},{"$f":"IF(Clients!C485=\"\",\"\",Clients!C485)","v":""}]
[null,null,null,null,null,null,null,null,null,null,null,null,null,null,null,null,null,null,{"$f":"IF(Clients!B486=\"\",\"\",Clients!B486)","v":""},{"$f":"IF(Clients!C486=\"\",\"\",Clients!C486)","v":""}]
[null,null,null,null,null,null,null,null,null,null,null,null,null,null,null,null,null,null,{"$f":"IF(Clients!B487=\"\",\"\",Clients!B487)","v":""},{"$f":"IF(Clients!C487=\"\",\"\",Clients!C487)","v":""}]
[null,null,null,null,null,null,null,null,null,null,null,null,null,null,null,null,null,null,{"$f":"IF(Clients!B488=\"\",\"\",Clients!B488)","v":""},{"$f":"IF(Clients!C488=\"\",\"\",Clients!C488)","v":""}]
[null,null,null,null,null,null,null,null,null,null,null,null,null,null,null,null,null,null,{"$f":"IF(Clients!B489=\"\",\"\",Clients!B489)","v":""},{"$f":"IF(Clients!C489=\"\",\"\",Clients!C489)","v":""}]
[null,null,null,null,null,null,null,null,null,null,null,null,null,null,null,null,null,null,{"$f":"IF(Clients!B490=\"\",\"\",Clients!B490)","v":""},{"$f":"IF(Clients!C490=\"\",\"\",Clients!C490)","v":""}]
[null,null,null,null,null,null,null,null,null,null,null,null,null,null,null,null,null,null,{"$f":"IF(Clients!B491=\"\",\"\",Clients!B491)","v":""},{"$f":"IF(Clients!C491=\"\",\"\",Clients!C491)","v":""}]
[null,null,null,null,null,null,null,null,null,null,null,null,null,null,null,null,null,null,{"$f":"IF(Clients!B492=\"\",\"\",Clients!B492)","v":""},{"$f":"IF(Clients!C492=\"\",\"\",Clients!C492)","v":""}]
[null,null,null,null,null,null,null,null,null,null,null,null,null,null,null,null,null,null,{"$f":"IF(Clients!B493=\"\",\"\",Clients!B493)","v":""},{"$f":"IF(Clients!C493=\"\",\"\",Clients!C493)","v":""}]
[null,null,null,null,null,null,null,null,null,null,null,null,null,null,null,null,null,null,{"$f":"IF(Clients!B494=\"\",\"\",Clients!B494)","v":""},{"$f":"IF(Clients!C494=\"\",\"\",Clients!C494)","v":""}]
[null,null,null,null,null,null,null,null,null,null,null,null,null,null,null,null,null,null,{"$f":"IF(Clients!B495=\"\",\"\",Clients!B495)","v":""},{"$f":"IF(Clients!C495=\"\",\"\",Clients!C495)","v":""}]
[null,null,null,null,null,null,null,null,null,null,null,null,null,null,null,null,null,null,{"$f":"IF(Clients!B496=\"\",\"\",Clients!B496)","v":""},{"$f":"IF(Clients!C496=\"\",\"\",Clients!C496)","v":""}]
[null,null,null,null,null,null,null,null,null,null,null,null,null,null,null,null,null,null,{"$f":"IF(Clients!B497=\"\",\"\",Clients!B497)","v":""},{"$f":"IF(Clients!C497=\"\",\"\",Clients!C497)","v":""}]
[null,null,null,null,null,null,null,null,null,null,null,null,null,null,null,null,null,null,{"$f":"IF(Clients!B498=\"\",\"\",Clients!B498)","v":""},{"$f":"IF(Clients!C498=\"\",\"\",Clients!C498)","v":""}]
[null,null,null,null,null,null,null,null,null,null,null,null,null,null,null,null,null,null,{"$f":"IF(Clients!B499=\"\",\"\",Clients!B499)","v":""},{"$f":"IF(Clients!C499=\"\",\"\",Clients!C499)","v":""}]
[null,null,null,null,null,null,null,null,null,null,null,null,null,null,null,null,null,null,{"$f":"IF(Clients!B500=\"\",\"\",Clients!B500)","v":""},{"$f":"IF(Clients!C500=\"\",\"\",Clients!C500)","v":""}]
[null,null,null,null,null,null,null,null,null,null,null,null,null,null,null,null,null,null,{"$f":"IF(Clients!B501=\"\",\"\",Clients!B501)","v":""},{"$f":"IF(Clients!C501=\"\",\"\",Clients!C501)","v":""}]
[null,null,null,null,null,null,null,null,null,null,null,null,null,null,null,null,null,null,{"$f":"IF(Clients!B502=\"\",\"\",Clients!B502)","v":""},{"$f":"IF(Clients!C502=\"\",\"\",Clients!C502)","v":""}]
[null,null,null,null,null,null,null,null,null,null,null,null,null,null,null,null,null,null,{"$f":"IF(Clients!B503=\"\",\"\",Clients!B503)","v":""},{"$f":"IF(Clients!C503=\"\",\"\",Clients!C503)","v":""}]
[null,null,null,null,null,null,null,null,null,null,null,null,null,null,null,null,null,null,{"$f":"IF(Clients!B504=\"\",\"\",Clients!B504)","v":""},{"$f":"IF(Clients!C504=\"\",\"\",Clients!C504)","v":""}]
[null,null,null,null,null,null,null,null,null,null,null,null,null,null,null,null,null,null,{"$f":"IF(Clients!B505=\"\",\"\",Clients!B505)","v":""},{"$f":"IF(Clients!C505=\"\",\"\",Clients!C505)","v":""}]
[null,null,null,null,null,null,null,null,null,null,null,null,null,null,null,null,null,null,{"$f":"IF(Clients!B506=\"\",\"\",Clients!B506)","v":""},{"$f":"IF(Clients!C506=\"\",\"\",Clients!C506)","v":""}]
[null,null,null,null,null,null,null,null,null,null,null,null,null,null,null,null,null,null,{"$f":"IF(Clients!B507=\"\",\"\",Clients!B507)","v":""},{"$f":"IF(Clients!C507=\"\",\"\",Clients!C507)","v":""}]
[null,null,null,null,null,null,null,null,null,null,null,null,null,null,null,null,null,null,{"$f":"IF(Clients!B508=\"\",\"\",Clients!B508)","v":""},{"$f":"IF(Clients!C508=\"\",\"\",Clients!C508)","v":""}]
[null,null,null,null,null,null,null,null,null,null,null,null,null,null,null,null,null,null,{"$f":"IF(Clients!B509=\"\",\"\",Clients!B509)","v":""},{"$f":"IF(Clients!C509=\"\",\"\",Clients!C509)","v":""}]
[null,null,null,null,null,null,null,null,null,null,null,null,null,null,null,null,null,null,{"$f":"IF(Clients!B510=\"\",\"\",Clients!B510)","v":""},{"$f":"IF(Clients!C510=\"\",\"\",Clients!C510)","v":""}]
[null,null,null,null,null,null,null,null,null,null,null,null,null,null,null,null,null,null,{"$f":"IF(Clients!B511=\"\",\"\",Clients!B511)","v":""},{"$f":"IF(Clients!C511=\"\",\"\",Clients!C511)","v":""}]
[null,null,null,null,null,null,null,null,null,null,null,null,null,null,null,null,null,null,{"$f":"IF(Clients!B512=\"\",\"\",Clients!B512)","v":""},{"$f":"IF(Clients!C512=\"\",\"\",Clients!C512)","v":""}]
[null,null,null,null,null,null,null,null,null,null,null,null,null,null,null,null,null,null,{"$f":"IF(Clients!B513=\"\",\"\",Clients!B513)","v":""},{"$f":"IF(Clients!C513=\"\",\"\",Clients!C513)","v":""}]
[null,null,null,null,null,null,null,null,null,null,null,null,null,null,null,null,null,null,{"$f":"IF(Clients!B514=\"\",\"\",Clients!B514)","v":""},{"$f":"IF(Clients!C514=\"\",\"\",Clients!C514)","v":""}]
[null,null,null,null,null,null,null,null,null,null,null,null,null,null,null,null,null,null,{"$f":"IF(Clients!B515=\"\",\"\",Clients!B515)","v":""},{"$f":"IF(Clients!C515=\"\",\"\",Clients!C515)","v":""}]
[null,null,null,null,null,null,null,null,null,null,null,null,null,null,null,null,null,null,{"$f":"IF(Clients!B516=\"\",\"\",Clients!B516)","v":""},{"$f":"IF(Clients!C516=\"\",\"\",Clients!C516)","v":""}]
[null,null,null,null,null,null,null,null,null,null,null,null,null,null,null,null,null,null,{"$f":"IF(Clients!B517=\"\",\"\",Clients!B517)","v":""},{"$f":"IF(Clients!C517=\"\",\"\",Clients!C517)","v":""}]
[null,null,null,null,null,null,null,null,null,null,null,null,null,null,null,null,null,null,{"$f":"IF(Clients!B518=\"\",\"\",Clients!B518)","v":""},{"$f":"IF(Clients!C518=\"\",\"\",Clients!C518)","v":""}]
[null,null,null,null,null,null,null,null,null,null,null,null,null,null,null,null,null,null,{"$f":"IF(Clients!B519=\"\",\"\",Clients!B519)","v":""},{"$f":"IF(Clients!C519=\"\",\"\",Clients!C519)","v":""}]
[null,null,null,null,null,null,null,null,null,null,null,null,null,null,null,null,null,null,{"$f":"IF(Clients!B520=\"\",\"\",Clients!B520)","v":""},{"$f":"IF(Clients!C520=\"\",\"\",Clients!C520)","v":""}]
[null,null,null,null,null,null,null,null,null,null,null,null,null,null,null,null,null,null,{"$f":"IF(Clients!B521=\"\",\"\",Clients!B521)","v":""},{"$f":"IF(Clients!C521=\"\",\"\",Clients!C521)","v":""}]
[null,null,null,null,null,null,null,null,null,null,null,null,null,null,null,null,null,null,{"$f":"IF(Clients!B522=\"\",\"\",Clients!B522)","v":""},{"$f":"IF(Clients!C522=\"\",\"\",Clients!C522)","v":""}]
[null,null,null,null,null,null,null,null,null,null,null,null,null,null,null,null,null,null,{"$f":"IF(Clients!B523=\"\",\"\",Clients!B523)","v":""},{"$f":"IF(Clients!C523=\"\",\"\",Clients!C523)","v":""}]
[null,null,null,null,null,null,null,null,null,null,null,null,null,null,null,null,null,null,{"$f":"IF(Clients!B524=\"\",\"\",Clients!B524)","v":""},{"$f":"IF(Clients!C524=\"\",\"\",Clients!C524)","v":""}]
[null,null,null,null,null,null,null,null,null,null,null,null,null,null,null,null,null,null,{"$f":"IF(Clients!B525=\"\",\"\",Clients!B525)","v":""},{"$f":"IF(Clients!C525=\"\",\"\",Clients!C525)","v":""}]
[null,null,null,null,null,null,null,null,null,null,null,null,null,null,null,null,null,null,{"$f":"IF(Clients!B526=\"\",\"\",Clients!B526)","v":""},{"$f":"IF(Clients!C526=\"\",\"\",Clients!C526)","v":""}]
[null,null,null,null,null,null,null,null,null,null,null,null,null,null,null,null,null,null,{"$f":"IF(Clients!B527=\"\",\"\",Clients!B527)","v":""},{"$f":"IF(Clients!C527=\"\",\"\",Clients!C527)","v":""}]
[null,null,null,null,null,null,null,null,null,null,null,null,null,null,null,null,null,null,{"$f":"IF(Clients!B528=\"\",\"\",Clients!B528)","v":""},{"$f":"IF(Clients!C528=\"\",\"\",Clients!C528)","v":""}]
[null,null,null,null,null,null,null,null,null,null,null,null,null,null,null,null,null,null,{"$f":"IF(Clients!B529=\"\",\"\",Clients!B529)","v":""},{"$f":"IF(Clients!C529=\"\",\"\",Clients!C529)","v":""}]
[null,null,null,null,null,null,null,null,null,null,null,null,null,null,null,null,null,null,{"$f":"IF(Clients!B530=\"\",\"\",Clients!B530)","v":""},{"$f":"IF(Clients!C530=\"\",\"\",Clients!C530)","v":""}]
[null,null,null,null,null,null,null,null,null,null,null,null,null,null,null,null,null,null,{"$f":"IF(Clients!B531=\"\",\"\",Clients!B531)","v":""},{"$f":"IF(Clients!C531=\"\",\"\",Clients!C531)","v":""}]
[null,null,null,null,null,null,null,null,null,null,null,null,null,null,null,null,null,null,{"$f":"IF(Clients!B532=\"\",\"\",Clients!B532)","v":""},{"$f":"IF(Clients!C532=\"\",\"\",Clients!C532)","v":""}]
[null,null,null,null,null,null,null,null,null,null,null,null,null,null,null,null,null,null,{"$f":"IF(Clients!B533=\"\",\"\",Clients!B533)","v":""},{"$f":"IF(Clients!C533=\"\",\"\",Clients!C533)","v":""}]
[null,null,null,null,null,null,null,null,null,null,null,null,null,null,null,null,null,null,{"$f":"IF(Clients!B534=\"\",\"\",Clients!B534)","v":""},{"$f":"IF(Clients!C534=\"\",\"\",Clients!C534)","v":""}]
[null,null,null,null,null,null,null,null,null,null,null,null,null,null,null,null,null,null,{"$f":"IF(Clients!B535=\"\",\"\",Clients!B535)","v":""},{"$f":"IF(Clients!C535=\"\",\"\",Clients!C535)","v":""}]
[null,null,null,null,null,null,null,null,null,null,null,null,null,null,null,null,null,null,{"$f":"IF(Clients!B536=\"\",\"\",Clients!B536)","v":""},{"$f":"IF(Clients!C536=\"\",\"\",Clients!C536)","v":""}]
[null,null,null,null,null,null,null,null,null,null,null,null,null,null,null,null,null,null,{"$f":"IF(Clients!B537=\"\",\"\",Clients!B537)","v":""},{"$f":"IF(Clients!C537=\"\",\"\",Clients!C537)","v":""}]
[null,null,null,null,null,null,null,null,null,null,null,null,null,null,null,null,null,null,{"$f":"IF(Clients!B538=\"\",\"\",Clients!B538)","v":""},{"$f":"IF(Clients!C538=\"\",\"\",Clients!C538)","v":""}]
[null,null,null,null,null,null,null,null,null,null,null,null,null,null,null,null,null,null,{"$f":"IF(Clients!B539=\"\",\"\",Clients!B539)","v":""},{"$f":"IF(Clients!C539=\"\",\"\",Clients!C539)","v":""}]
[null,null,null,null,null,null,null,null,null,null,null,null,null,null,null,null,null,null,{"$f":"IF(Clients!B540=\"\",\"\",Clients!B540)","v":""},{"$f":"IF(Clients!C540=\"\",\"\",Clients!C540)","v":""}]
[null,null,null,null,null,null,null,null,null,null,null,null,null,null,null,null,null,null,{"$f":"IF(Clients!B541=\"\",\"\",Clients!B541)","v":""},{"$f":"IF(Clients!C541=\"\",\"\",Clients!C541)","v":""}]
[null,null,null,null,null,null,null,null,null,null,null,null,null,null,null,null,null,null,{"$f":"IF(Clients!B542=\"\",\"\",Clients!B542)","v":""},{"$f":"IF(Clients!C542=\"\",\"\",Clients!C542)","v":""}]
[null,null,null,null,null,null,null,null,null,null,null,null,null,null,null,null,null,null,{"$f":"IF(Clients!B543=\"\",\"\",Clients!B543)","v":""},{"$f":"IF(Clients!C543=\"\",\"\",Clients!C543)","v":""}]
[null,null,null,null,null,null,null,null,null,null,null,null,null,null,null,null,null,null,{"$f":"IF(Clients!B544=\"\",\"\",Clients!B544)","v":""},{"$f":"IF(Clients!C544=\"\",\"\",Clients!C544)","v":""}]
[null,null,null,null,null,null,null,null,null,null,null,null,null,null,null,null,null,null,{"$f":"IF(Clients!B545=\"\",\"\",Clients!B545)","v":""},{"$f":"IF(Clients!C545=\"\",\"\",Clients!C545)","v":""}]
[null,null,null,null,null,null,null,null,null,null,null,null,null,null,null,null,null,null,{"$f":"IF(Clients!B546=\"\",\"\",Clients!B546)","v":""},{"$f":"IF(Clients!C546=\"\",\"\",Clients!C546)","v":""}]
[null,null,null,null,null,null,null,null,null,null,null,null,null,null,null,null,null,null,{"$f":"IF(Clients!B547=\"\",\"\",Clients!B547)","v":""},{"$f":"IF(Clients!C547=\"\",\"\",Clients!C547)","v":""}]
[null,null,null,null,null,null,null,null,null,null,null,null,null,null,null,null,null,null,{"$f":"IF(Clients!B548=\"\",\"\",Clients!B548)","v":""},{"$f":"IF(Clients!C548=\"\",\"\",Clients!C548)","v":""}]
[null,null,null,null,null,null,null,null,null,null,null,null,null,null,null,null,null,null,{"$f":"IF(Clients!B549=\"\",\"\",Clients!B549)","v":""},{"$f":"IF(Clients!C549=\"\",\"\",Clients!C549)","v":""}]
[null,null,null,null,null,null,null,null,null,null,null,null,null,null,null,null,null,null,{"$f":"IF(Clients!B550=\"\",\"\",Clients!B550)","v":""},{"$f":"IF(Clients!C550=\"\",\"\",Clients!C550)","v":""}]
[null,null,null,null,null,null,null,null,null,null,null,null,null,null,null,null,null,null,{"$f":"IF(Clients!B551=\"\",\"\",Clients!B551)","v":""},{"$f":"IF(Clients!C551=\"\",\"\",Clients!C551)","v":""}]
[null,null,null,null,null,null,null,null,null,null,null,null,null,null,null,null,null,null,{"$f":"IF(Clients!B552=\"\",\"\",Clients!B552)","v":""},{"$f":"IF(Clients!C552=\"\",\"\",Clients!C552)","v":""}]
[null,null,null,null,null,null,null,null,null,null,null,null,null,null,null,null,null,null,{"$f":"IF(Clients!B553=\"\",\"\",Clients!B553)","v":""},{"$f":"IF(Clients!C553=\"\",\"\",Clients!C553)","v":""}]
[null,null,null,null,null,null,null,null,null,null,null,null,null,null,null,null,null,null,{"$f":"IF(Clients!B554=\"\",\"\",Clients!B554)","v":""},{"$f":"IF(Clients!C554=\"\",\"\",Clients!C554)","v":""}]
[null,null,null,null,null,null,null,null,null,null,null,null,null,null,null,null,null,null,{"$f":"IF(Clients!B555=\"\",\"\",Clients!B555)","v":""},{"$f":"IF(Clients!C555=\"\",\"\",Clients!C555)","v":""}]
[null,null,null,null,null,null,null,null,null,null,null,null,null,null,null,null,null,null,{"$f":"IF(Clients!B556=\"\",\"\",Clients!B556)","v":""},{"$f":"IF(Clients!C556=\"\",\"\",Clients!C556)","v":""}]
[null,null,null,null,null,null,null,null,null,null,null,null,null,null,null,null,null,null,{"$f":"IF(Clients!B557=\"\",\"\",Clients!B557)","v":""},{"$f":"IF(Clients!C557=\"\",\"\",Clients!C557)","v":""}]
[null,null,null,null,null,null,null,null,null,null,null,null,null,null,null,null,null,null,{"$f":"IF(Clients!B558=\"\",\"\",Clients!B558)","v":""},{"$f":"IF(Clients!C558=\"\",\"\",Clients!C558)","v":""}]
[null,null,null,null,null,null,null,null,null,null,null,null,null,null,null,null,null,null,{"$f":"IF(Clients!B559=\"\",\"\",Clients!B559)","v":""},{"$f":"IF(Clients!C559=\"\",\"\",Clients!C559)","v":""}]
[null,null,null,null,null,null,null,null,null,null,null,null,null,null,null,null,null,null,{"$f":"IF(Clients!B560=\"\",\"\",Clients!B560)","v":""},{"$f":"IF(Clients!C560=\"\",\"\",Clients!C560)","v":""}]
[null,null,null,null,null,null,null,null,null,null,null,null,null,null,null,null,null,null,{"$f":"IF(Clients!B561=\"\",\"\",Clients!B561)","v":""},{"$f":"IF(Clients!C561=\"\",\"\",Clients!C561)","v":""}]
[null,null,null,null,null,null,null,null,null,null,null,null,null,null,null,null,null,null,{"$f":"IF(Clients!B562=\"\",\"\",Clients!B562)","v":""},{"$f":"IF(Clients!C562=\"\",\"\",Clients!C562)","v":""}]
[null,null,null,null,null,null,null,null,null,null,null,null,null,null,null,null,null,null,{"$f":"IF(Clients!B563=\"\",\"\",Clients!B563)","v":""},{"$f":"IF(Clients!C563=\"\",\"\",Clients!C563)","v":""}]
[null,null,null,null,null,null,null,null,null,null,null,null,null,null,null,null,null,null,{"$f":"IF(Clients!B564=\"\",\"\",Clients!B564)","v":""},{"$f":"IF(Clients!C564=\"\",\"\",Clients!C564)","v":""}]
[null,null,null,null,null,null,null,null,null,null,null,null,null,null,null,null,null,null,{"$f":"IF(Clients!B565=\"\",\"\",Clients!B565)","v":""},{"$f":"IF(Clients!C565=\"\",\"\",Clients!C565)","v":""}]
[null,null,null,null,null,null,null,null,null,null,null,null,null,null,null,null,null,null,{"$f":"IF(Clients!B566=\"\",\"\",Clients!B566)","v":""},{"$f":"IF(Clients!C566=\"\",\"\",Clients!C566)","v":""}]
[null,null,null,null,null,null,null,null,null,null,null,null,null,null,null,null,null,null,{"$f":"IF(Clients!B567=\"\",\"\",Clients!B567)","v":""},{"$f":"IF(Clients!C567=\"\",\"\",Clients!C567)","v":""}]
[null,null,null,null,null,null,null,null,null,null,null,null,null,null,null,null,null,null,{"$f":"IF(Clients!B568=\"\",\"\",Clients!B568)","v":""},{"$f":"IF(Clients!C568=\"\",\"\",Clients!C568)","v":""}]
[null,null,null,null,null,null,null,null,null,null,null,null,null,null,null,null,null,null,{"$f":"IF(Clients!B569=\"\",\"\",Clients!B569)","v":""},{"$f":"IF(Clients!C569=\"\",\"\",Clients!C569)","v":""}]
[null,null,null,null,null,null,null,null,null,null,null,null,null,null,null,null,null,null,{"$f":"IF(Clients!B570=\"\",\"\",Clients!B570)","v":""},{"$f":"IF(Clients!C570=\"\",\"\",Clients!C570)","v":""}]
[null,null,null,null,null,null,null,null,null,null,null,null,null,null,null,null,null,null,{"$f":"IF(Clients!B571=\"\",\"\",Clients!B571)","v":""},{"$f":"IF(Clients!C571=\"\",\"\",Clients!C571)","v":""}]
[null,null,null,null,null,null,null,null,null,null,null,null,null,null,null,null,null,null,{"$f":"IF(Clients!B572=\"\",\"\",Clients!B572)","v":""},{"$f":"IF(Clients!C572=\"\",\"\",Clients!C572)","v":""}]
[null,null,null,null,null,null,null,null,null,null,null,null,null,null,null,null,null,null,{"$f":"IF(Clients!B573=\"\",\"\",Clients!B573)","v":""},{"$f":"IF(Clients!C573=\"\",\"\",Clients!C573)","v":""}]
[null,null,null,null,null,null,null,null,null,null,null,null,null,null,null,null,null,null,{"$f":"IF(Clients!B574=\"\",\"\",Clients!B574)","v":""},{"$f":"IF(Clients!C574=\"\",\"\",Clients!C574)","v":""}]
[null,null,null,null,null,null,null,null,null,null,null,null,null,null,null,null,null,null,{"$f":"IF(Clients!B575=\"\",\"\",Clients!B575)","v":""},{"$f":"IF(Clients!C575=\"\",\"\",Clients!C575)","v":""}]
[null,null,null,null,null,null,null,null,null,null,null,null,null,null,null,null,null,null,{"$f":"IF(Clients!B576=\"\",\"\",Clients!B576)","v":""},{"$f":"IF(Clients!C576=\"\",\"\",Clients!C576)","v":""}]
[null,null,null,null,null,null,null,null,null,null,null,null,null,null,null,null,null,null,{"$f":"IF(Clients!B577=\"\",\"\",Clients!B577)","v":""},{"$f":"IF(Clients!C577=\"\",\"\",Clients!C577)","v":""}]
[null,null,null,null,null,null,null,null,null,null,null,null,null,null,null,null,null,null,{"$f":"IF(Clients!B578=\"\",\"\",Clients!B578)","v":""},{"$f":"IF(Clients!C578=\"\",\"\",Clients!C578)","v":""}]
[null,null,null,null,null,null,null,null,null,null,null,null,null,null,null,null,null,null,{"$f":"IF(Clients!B579=\"\",\"\",Clients!B579)","v":""},{"$f":"IF(Clients!C579=\"\",\"\",Clients!C579)","v":""}]
[null,null,null,null,null,null,null,null,null,null,null,null,null,null,null,null,null,null,{"$f":"IF(Clients!B580=\"\",\"\",Clients!B580)","v":""},{"$f":"IF(Clients!C580=\"\",\"\",Clients!C580)","v":""}]
[null,null,null,null,null,null,null,null,null,null,null,null,null,null,null,null,null,null,{"$f":"IF(Clients!B581=\"\",\"\",Clients!B581)","v":""},{"$f":"IF(Clients!C581=\"\",\"\",Clients!C581)","v":""}]
[null,null,null,null,null,null,null,null,null,null,null,null,null,null,null,null,null,null,{"$f":"IF(Clients!B582=\"\",\"\",Clients!B582)","v":""},{"$f":"IF(Clients!C582=\"\",\"\",Clients!C582)","v":""}]
[null,null,null,null,null,null,null,null,null,null,null,null,null,null,null,null,null,null,{"$f":"IF(Clients!B583=\"\",\"\",Clients!B583)","v":""},{"$f":"IF(Clients!C583=\"\",\"\",Clients!C583)","v":""}]
[null,null,null,null,null,null,null,null,null,null,null,null,null,null,null,null,null,null,{"$f":"IF(Clients!B584=\"\",\"\",Clients!B584)","v":""},{"$f":"IF(Clients!C584=\"\",\"\",Clients!C584)","v":""}]
[null,null,null,null,null,null,null,null,null,null,null,null,null,null,null,null,null,null,{"$f":"IF(Clients!B585=\"\",\"\",Clients!B585)","v":""},{"$f":"IF(Clients!C585=\"\",\"\",Clients!C585)","v":""}]
[null,null,null,null,null,null,null,null,null,null,null,null,null,null,null,null,null,null,{"$f":"IF(Clients!B586=\"\",\"\",Clients!B586)","v":""},{"$f":"IF(Clients!C586=\"\",\"\",Clients!C586)","v":""}]
[null,null,null,null,null,null,null,null,null,null,null,null,null,null,null,null,null,null,{"$f":"IF(Clients!B587=\"\",\"\",Clients!B587)","v":""},{"$f":"IF(Clients!C587=\"\",\"\",Clients!C587)","v":""}]
[null,null,null,null,null,null,null,null,null,null,null,null,null,null,null,null,null,null,{"$f":"IF(Clients!B588=\"\",\"\",Clients!B588)","v":""},{"$f":"IF(Clients!C588=\"\",\"\",Clients!C588)","v":""}]
[null,null,null,null,null,null,null,null,null,null,null,null,null,null,null,null,null,null,{"$f":"IF(Clients!B589=\"\",\"\",Clients!B589)","v":""},{"$f":"IF(Clients!C589=\"\",\"\",Clients!C589)","v":""}]
[null,null,null,null,null,null,null,null,null,null,null,null,null,null,null,null,null,null,{"$f":"IF(Clients!B590=\"\",\"\",Clients!B590)","v":""},{"$f":"IF(Clients!C590=\"\",\"\",Clients!C590)","v":""}]
[null,null,null,null,null,null,null,null,null,null,null,null,null,null,null,null,null,null,{"$f":"IF(Clients!B591=\"\",\"\",Clients!B591)","v":""},{"$f":"IF(Clients!C591=\"\",\"\",Clients!C591)","v":""}]
[null,null,null,null,null,null,null,null,null,null,null,null,null,null,null,null,null,null,{"$f":"IF(Clients!B592=\"\",\"\",Clients!B592)","v":""},{"$f":"IF(Clients!C592=\"\",\"\",Clients!C592)","v":""}]
[null,null,null,null,null,null,null,null,null,null,null,null,null,null,null,null,null,null,{"$f":"IF(Clients!B593=\"\",\"\",Clients!B593)","v":""},{"$f":"IF(Clients!C593=\"\",\"\",Clients!C593)","v":""}]
[null,null,null,null,null,null,null,null,null,null,null,null,null,null,null,null,null,null,{"$f":"IF(Clients!B594=\"\",\"\",Clients!B594)","v":""},{"$f":"IF(Clients!C594=\"\",\"\",Clients!C594)","v":""}]
[null,null,null,null,null,null,null,null,null,null,null,null,null,null,null,null,null,null,{"$f":"IF(Clients!B595=\"\",\"\",Clients!B595)","v":""},{"$f":"IF(Clients!C595=\"\",\"\",Clients!C595)","v":""}]
[null,null,null,null,null,null,null,null,null,null,null,null,null,null,null,null,null,null,{"$f":"IF(Clients!B596=\"\",\"\",Clients!B596)","v":""},{"$f":"IF(Clients!C596=\"\",\"\",Clients!C596)","v":""}]
[null,null,null,null,null,null,null,null,null,null,null,null,null,null,null,null,null,null,{"$f":"IF(Clients!B597=\"\",\"\",Clients!B597)","v":""},{"$f":"IF(Clients!C597=\"\",\"\",Clients!C597)","v":""}]
[null,null,null,null,null,null,null,null,null,null,null,null,null,null,null,null,null,null,{"$f":"IF(Clients!B598=\"\",\"\",Clients!B598)","v":""},{"$f":"IF(Clients!C598=\"\",\"\",Clients!C598)","v":""}]
[null,null,null,null,null,null,null,null,null,null,null,null,null,null,null,null,null,null,{"$f":"IF(Clients!B599=\"\",\"\",Clients!B599)","v":""},{"$f":"IF(Clients!C599=\"\",\"\",Clients!C599)","v":""}]
[null,null,null,null,null,null,null,null,null,null,null,null,null,null,null,null,null,null,{"$f":"IF(Clients!B600=\"\",\"\",Clients!B600)","v":""},{"$f":"IF(Clients!C600=\"\",\"\",Clients!C600)","v":""}]
[null,null,null,null,null,null,null,null,null,null,null,null,null,null,null,null,null,null,{"$f":"IF(Clients!B601=\"\",\"\",Clients!B601)","v":""},{"$f":"IF(Clients!C601=\"\",\"\",Clients!C601)","v":""}]
[null,null,null,null,null,null,null,null,null,null,null,null,null,null,null,null,null,null,{"$f":"IF(Clients!B602=\"\",\"\",Clients!B602)","v":""},{"$f":"IF(Clients!C602=\"\",\"\",Clients!C602)","v":""}]
[null,null,null,null,null,null,null,null,null,null,null,null,null,null,null,null,null,null,{"$f":"IF(Clients!B603=\"\",\"\",Clients!B603)","v":""},{"$f":"IF(Clients!C603=\"\",\"\",Clients!C603)","v":""}]
[null,null,null,null,null,null,null,null,null,null,null,null,null,null,null,null,null,null,{"$f":"IF(Clients!B604=\"\",\"\",Clients!B604)","v":""},{"$f":"IF(Clients!C604=\"\",\"\",Clients!C604)","v":""}]
[null,null,null,null,null,null,null,null,null,null,null,null,null,null,null,null,null,null,{"$f":"IF(Clients!B605=\"\",\"\",Clients!B605)","v":""},{"$f":"IF(Clients!C605=\"\",\"\",Clients!C605)","v":""}]
[null,null,null,null,null,null,null,null,null,null,null,null,null,null,null,null,null,null,{"$f":"IF(Clients!B606=\"\",\"\",Clients!B606)","v":""},{"$f":"IF(Clients!C606=\"\",\"\",Clients!C606)","v":""}]
[null,null,null,null,null,null,null,null,null,null,null,null,null,null,null,null,null,null,{"$f":"IF(Clients!B607=\"\",\"\",Clients!B607)","v":""},{"$f":"IF(Clients!C607=\"\",\"\",Clients!C607)","v":""}]
[null,null,null,null,null,null,null,null,null,null,null,null,null,null,null,null,null,null,{"$f":"IF(Clients!B608=\"\",\"\",Clients!B608)","v":""},{"$f":"IF(Clients!C608=\"\",\"\",Clients!C608)","v":""}]
[null,null,null,null,null,null,null,null,null,null,null,null,null,null,null,null,null,null,{"$f":"IF(Clients!B609=\"\",\"\",Clients!B609)","v":""},{"$f":"IF(Clients!C609=\"\",\"\",Clients!C609)","v":""}]
[null,null,null,null,null,null,null,null,null,null,null,null,null,null,null,null,null,null,{"$f":"IF(Clients!B610=\"\",\"\",Clients!B610)","v":""},{"$f":"IF(Clients!C610=\"\",\"\",Clients!C610)","v":""}]
[null,null,null,null,null,null,null,null,null,null,null,null,null,null,null,null,null,null,{"$f":"IF(Clients!B611=\"\",\"\",Clients!B611)","v":""},{"$f":"IF(Clients!C611=\"\",\"\",Clients!C611)","v":""}]
[null,null,null,null,null,null,null,null,null,null,null,null,null,null,null,null,null,null,{"$f":"IF(Clients!B612=\"\",\"\",Clients!B612)","v":""},{"$f":"IF(Clients!C612=\"\",\"\",Clients!C612)","v":""}]
[null,null,null,null,null,null,null,null,null,null,null,null,null,null,null,null,null,null,{"$f":"IF(Clients!B613=\"\",\"\",Clients!B613)","v":""},{"$f":"IF(Clients!C613=\"\",\"\",Clients!C613)","v":""}]
[null,null,null,null,null,null,null,null,null,null,null,null,null,null,null,null,null,null,{"$f":"IF(Clients!B614=\"\",\"\",Clients!B614)","v":""},{"$f":"IF(Clients!C614=\"\",\"\",Clients!C614)","v":""}]
[null,null,null,null,null,null,null,null,null,null,null,null,null,null,null,null,null,null,{"$f":"IF(Clients!B615=\"\",\"\",Clients!B615)","v":""},{"$f":"IF(Clients!C615=\"\",\"\",Clients!C615)","v":""}]
[null,null,null,null,null,null,null,null,null,null,null,null,null,null,null,null,null,null,{"$f":"IF(Clients!B616=\"\",\"\",Clients!B616)","v":""},{"$f":"IF(Clients!C616=\"\",\"\",Clients!C616)","v":""}]
[null,null,null,null,null,null,null,null,null,null,null,null,null,null,null,null,null,null,{"$f":"IF(Clients!B617=\"\",\"\",Clients!B617)","v":""},{"$f":"IF(Clients!C617=\"\",\"\",Clients!C617)","v":""}]
[null,null,null,null,null,null,null,null,null,null,null,null,null,null,null,null,null,null,{"$f":"IF(Clients!B618=\"\",\"\",Clients!B618)","v":""},{"$f":"IF(Clients!C618=\"\",\"\",Clients!C618)","v":""}]
[null,null,null,null,null,null,null,null,null,null,null,null,null,null,null,null,null,null,{"$f":"IF(Clients!B619=\"\",\"\",Clients!B619)","v":""},{"$f":"IF(Clients!C619=\"\",\"\",Clients!C619)","v":""}]
[null,null,null,null,null,null,null,null,null,null,null,null,null,null,null,null,null,null,{"$f":"IF(Clients!B620=\"\",\"\",Clients!B620)","v":""},{"$f":"IF(Clients!C620=\"\",\"\",Clients!C620)","v":""}]
[null,null,null,null,null,null,null,null,null,null,null,null,null,null,null,null,null,null,{"$f":"IF(Clients!B621=\"\",\"\",Clients!B621)","v":""},{"$f":"IF(Clients!C621=\"\",\"\",Clients!C621)","v":""}]
[null,null,null,null,null,null,null,null,null,null,null,null,null,null,null,null,null,null,{"$f":"IF(Clients!B622=\"\",\"\",Clients!B622)","v":""},{"$f":"IF(Clients!C622=\"\",\"\",Clients!C622)","v":""}]
[null,null,null,null,null,null,null,null,null,null,null,null,null,null,null,null,null,null,{"$f":"IF(Clients!B623=\"\",\"\",Clients!B623)","v":""},{"$f":"IF(Clients!C623=\"\",\"\",Clients!C623)","v":""}]
[null,null,null,null,null,null,null,null,null,null,null,null,null,null,null,null,null,null,{"$f":"IF(Clients!B624=\"\",\"\",Clients!B624)","v":""},{"$f":"IF(Clients!C624=\"\",\"\",Clients!C624)","v":""}]
[null,null,null,null,null,null,null,null,null,null,null,null,null,null,null,null,null,null,{"$f":"IF(Clients!B625=\"\",\"\",Clients!B625)","v":""},{"$f":"IF(Clients!C625=\"\",\"\",Clients!C625)","v":""}]
[null,null,null,null,null,null,null,null,null,null,null,null,null,null,null,null,null,null,{"$f":"IF(Clients!B626=\"\",\"\",Clients!B626)","v":""},{"$f":"IF(Clients!C626=\"\",\"\",Clients!C626)","v":""}]
[null,null,null,null,null,null,null,null,null,null,null,null,null,null,null,null,null,null,{"$f":"IF(Clients!B627=\"\",\"\",Clients!B627)","v":""},{"$f":"IF(Clients!C627=\"\",\"\",Clients!C627)","v":""}]
[null,null,null,null,null,null,null,null,null,null,null,null,null,null,null,null,null,null,{"$f":"IF(Clients!B628=\"\",\"\",Clients!B628)","v":""},{"$f":"IF(Clients!C628=\"\",\"\",Clients!C628)","v":""}]
[null,null,null,null,null,null,null,null,null,null,null,null,null,null,null,null,null,null,{"$f":"IF(Clients!B629=\"\",\"\",Clients!B629)","v":""},{"$f":"IF(Clients!C629=\"\",\"\",Clients!C629)","v":""}]
[null,null,null,null,null,null,null,null,null,null,null,null,null,null,null,null,null,null,{"$f":"IF(Clients!B630=\"\",\"\",Clients!B630)","v":""},{"$f":"IF(Clients!C630=\"\",\"\",Clients!C630)","v":""}]
[null,null,null,null,null,null,null,null,null,null,null,null,null,null,null,null,null,null,{"$f":"IF(Clients!B631=\"\",\"\",Clients!B631)","v":""},{"$f":"IF(Clients!C631=\"\",\"\",Clients!C631)","v":""}]
[null,null,null,null,null,null,null,null,null,null,null,null,null,null,null,null,null,null,{"$f":"IF(Clients!B632=\"\",\"\",Clients!B632)","v":""},{"$f":"IF(Clients!C632=\"\",\"\",Clients!C632)","v":""}]
[null,null,null,null,null,null,null,null,null,null,null,null,null,null,null,null,null,null,{"$f":"IF(Clients!B633=\"\",\"\",Clients!B633)","v":""},{"$f":"IF(Clients!C633=\"\",\"\",Clients!C633)","v":""}]
[null,null,null,null,null,null,null,null,null,null,null,null,null,null,null,null,null,null,{"$f":"IF(Clients!B634=\"\",\"\",Clients!B634)","v":""},{"$f":"IF(Clients!C634=\"\",\"\",Clients!C634)","v":""}]
[null,null,null,null,null,null,null,null,null,null,null,null,null,null,null,null,null,null,{"$f":"IF(Clients!B635=\"\",\"\",Clients!B635)","v":""},{"$f":"IF(Clients!C635=\"\",\"\",Clients!C635)","v":""}]
[null,null,null,null,null,null,null,null,null,null,null,null,null,null,null,null,null,null,{"$f":"IF(Clients!B636=\"\",\"\",Clients!B636)","v":""},{"$f":"IF(Clients!C636=\"\",\"\",Clients!C636)","v":""}]
[null,null,null,null,null,null,null,null,null,null,null,null,null,null,null,null,null,null,{"$f":"IF(Clients!B637=\"\",\"\",Clients!B637)","v":""},{"$f":"IF(Clients!C637=\"\",\"\",Clients!C637)","v":""}]
[null,null,null,null,null,null,null,null,null,null,null,null,null,null,null,null,null,null,{"$f":"IF(Clients!B638=\"\",\"\",Clients!B638)","v":""},{"$f":"IF(Clients!C638=\"\",\"\",Clients!C638)","v":""}]
[null,null,null,null,null,null,null,null,null,null,null,null,null,null,null,null,null,null,{"$f":"IF(Clients!B639=\"\",\"\",Clients!B639)","v":""},{"$f":"IF(Clients!C639=\"\",\"\",Clients!C639)","v":""}]
[null,null,null,null,null,null,null,null,null,null,null,null,null,null,null,null,null,null,{"$f":"IF(Clients!B640=\"\",\"\",Clients!B640)","v":""},{"$f":"IF(Clients!C640=\"\",\"\",Clients!C640)","v":""}]
[null,null,null,null,null,null,null,null,null,null,null,null,null,null,null,null,null,null,{"$f":"IF(Clients!B641=\"\",\"\",Clients!B641)","v":""},{"$f":"IF(Clients!C641=\"\",\"\",Clients!C641)","v":""}]
[null,null,null,null,null,null,null,null,null,null,null,null,null,null,null,null,null,null,{"$f":"IF(Clients!B642=\"\",\"\",Clients!B642)","v":""},{"$f":"IF(Clients!C642=\"\",\"\",Clients!C642)","v":""}]
[null,null,null,null,null,null,null,null,null,null,null,null,null,null,null,null,null,null,{"$f":"IF(Clients!B643=\"\",\"\",Clients!B643)","v":""},{"$f":"IF(Clients!C643=\"\",\"\",Clients!C643)","v":""}]
[null,null,null,null,null,null,null,null,null,null,null,null,null,null,null,null,null,null,{"$f":"IF(Clients!B644=\"\",\"\",Clients!B644)","v":""},{"$f":"IF(Clients!C644=\"\",\"\",Clients!C644)","v":""}]
[null,null,null,null,null,null,null,null,null,null,null,null,null,null,null,null,null,null,{"$f":"IF(Clients!B645=\"\",\"\",Clients!B645)","v":""},{"$f":"IF(Clients!C645=\"\",\"\",Clients!C645)","v":""}]
[null,null,null,null,null,null,null,null,null,null,null,null,null,null,null,null,null,null,{"$f":"IF(Clients!B646=\"\",\"\",Clients!B646)","v":""},{"$f":"IF(Clients!C646=\"\",\"\",Clients!C646)","v":""}]
[null,null,null,null,null,null,null,null,null,null,null,null,null,null,null,null,null,null,{"$f":"IF(Clients!B647=\"\",\"\",Clients!B647)","v":""},{"$f":"IF(Clients!C647=\"\",\"\",Clients!C647)","v":""}]
[null,null,null,null,null,null,null,null,null,null,null,null,null,null,null,null,null,null,{"$f":"IF(Clients!B648=\"\",\"\",Clients!B648)","v":""},{"$f":"IF(Clients!C648=\"\",\"\",Clients!C648)","v":""}]
[null,null,null,null,null,null,null,null,null,null,null,null,null,null,null,null,null,null,{"$f":"IF(Clients!B649=\"\",\"\",Clients!B649)","v":""},{"$f":"IF(Clients!C649=\"\",\"\",Clients!C649)","v":""}]
[null,null,null,null,null,null,null,null,null,null,null,null,null,null,null,null,null,null,{"$f":"IF(Clients!B650=\"\",\"\",Clients!B650)","v":""},{"$f":"IF(Clients!C650=\"\",\"\",Clients!C650)","v":""}]
[null,null,null,null,null,null,null,null,null,null,null,null,null,null,null,null,null,null,{"$f":"IF(Clients!B651=\"\",\"\",Clients!B651)","v":""},{"$f":"IF(Clients!C651=\"\",\"\",Clients!C651)","v":""}]
[null,null,null,null,null,null,null,null,null,null,null,null,null,null,null,null,null,null,{"$f":"IF(Clients!B652=\"\",\"\",Clients!B652)","v":""},{"$f":"IF(Clients!C652=\"\",\"\",Clients!C652)","v":""}]
[null,null,null,null,null,null,null,null,null,null,null,null,null,null,null,null,null,null,{"$f":"IF(Clients!B653=\"\",\"\",Clients!B653)","v":""},{"$f":"IF(Clients!C653=\"\",\"\",Clients!C653)","v":""}]
[null,null,null,null,null,null,null,null,null,null,null,null,null,null,null,null,null,null,{"$f":"IF(Clients!B654=\"\",\"\",Clients!B654)","v":""},{"$f":"IF(Clients!C654=\"\",\"\",Clients!C654)","v":""}]
[null,null,null,null,null,null,null,null,null,null,null,null,null,null,null,null,null,null,{"$f":"IF(Clients!B655=\"\",\"\",Clients!B655)","v":""},{"$f":"IF(Clients!C655=\"\",\"\",Clients!C655)","v":""}]
[null,null,null,null,null,null,null,null,null,null,null,null,null,null,null,null,null,null,{"$f":"IF(Clients!B656=\"\",\"\",Clients!B656)","v":""},{"$f":"IF(Clients!C656=\"\",\"\",Clients!C656)","v":""}]
[null,null,null,null,null,null,null,null,null,null,null,null,null,null,null,null,null,null,{"$f":"IF(Clients!B657=\"\",\"\",Clients!B657)","v":""},{"$f":"IF(Clients!C657=\"\",\"\",Clients!C657)","v":""}]
[null,null,null,null,null,null,null,null,null,null,null,null,null,null,null,null,null,null,{"$f":"IF(Clients!B658=\"\",\"\",Clients!B658)","v":""},{"$f":"IF(Clients!C658=\"\",\"\",Clients!C658)","v":""}]
[null,null,null,null,null,null,null,null,null,null,null,null,null,null,null,null,null,null,{"$f":"IF(Clients!B659=\"\",\"\",Clients!B659)","v":""},{"$f":"IF(Clients!C659=\"\",\"\",Clients!C659)","v":""}]
[null,null,null,null,null,null,null,null,null,null,null,null,null,null,null,null,null,null,{"$f":"IF(Clients!B660=\"\",\"\",Clients!B660)","v":""},{"$f":"IF(Clients!C660=\"\",\"\",Clients!C660)","v":""}]
[null,null,null,null,null,null,null,null,null,null,null,null,null,null,null,null,null,null,{"$f":"IF(Clients!B661=\"\",\"\",Clients!B661)","v":""},{"$f":"IF(Clients!C661=\"\",\"\",Clients!C661)","v":""}]
[null,null,null,null,null,null,null,null,null,null,null,null,null,null,null,null,null,null,{"$f":"IF(Clients!B662=\"\",\"\",Clients!B662)","v":""},{"$f":"IF(Clients!C662=\"\",\"\",Clients!C662)","v":""}]
[null,null,null,null,null,null,null,null,null,null,null,null,null,null,null,null,null,null,{"$f":"IF(Clients!B663=\"\",\"\",Clients!B663)","v":""},{"$f":"IF(Clients!C663=\"\",\"\",Clients!C663)","v":""}]
[null,null,null,null,null,null,null,null,null,null,null,null,null,null,null,null,null,null,{"$f":"IF(Clients!B664=\"\",\"\",Clients!B664)","v":""},{"$f":"IF(Clients!C664=\"\",\"\",Clients!C664)","v":""}]
[null,null,null,null,null,null,null,null,null,null,null,null,null,null,null,null,null,null,{"$f":"IF(Clients!B665=\"\",\"\",Clients!B665)","v":""},{"$f":"IF(Clients!C665=\"\",\"\",Clients!C665)","v":""}]
[null,null,null,null,null,null,null,null,null,null,null,null,null,null,null,null,null,null,{"$f":"IF(Clients!B666=\"\",\"\",Clients!B666)","v":""},{"$f":"IF(Clients!C666=\"\",\"\",Clients!C666)","v":""}]
[null,null,null,null,null,null,null,null,null,null,null,null,null,null,null,null,null,null,{"$f":"IF(Clients!B667=\"\",\"\",Clients!B667)","v":""},{"$f":"IF(Clients!C667=\"\",\"\",Clients!C667)","v":""}]
[null,null,null,null,null,null,null,null,null,null,null,null,null,null,null,null,null,null,{"$f":"IF(Clients!B668=\"\",\"\",Clients!B668)","v":""},{"$f":"IF(Clients!C668=\"\",\"\",Clients!C668)","v":""}]
[null,null,null,null,null,null,null,null,null,null,null,null,null,null,null,null,null,null,{"$f":"IF(Clients!B669=\"\",\"\",Clients!B669)","v":""},{"$f":"IF(Clients!C669=\"\",\"\",Clients!C669)","v":""}]
[null,null,null,null,null,null,null,null,null,null,null,null,null,null,null,null,null,null,{"$f":"IF(Clients!B670=\"\",\"\",Clients!B670)","v":""},{"$f":"IF(Clients!C670=\"\",\"\",Clients!C670)","v":""}]
[null,null,null,null,null,null,null,null,null,null,null,null,null,null,null,null,null,null,{"$f":"IF(Clients!B671=\"\",\"\",Clients!B671)","v":""},{"$f":"IF(Clients!C671=\"\",\"\",Clients!C671)","v":""}]
[null,null,null,null,null,null,null,null,null,null,null,null,null,null,null,null,null,null,{"$f":"IF(Clients!B672=\"\",\"\",Clients!B672)","v":""},{"$f":"IF(Clients!C672=\"\",\"\",Clients!C672)","v":""}]
[null,null,null,null,null,null,null,null,null,null,null,null,null,null,null,null,null,null,{"$f":"IF(Clients!B673=\"\",\"\",Clients!B673)","v":""},{"$f":"IF(Clients!C673=\"\",\"\",Clients!C673)","v":""}]
[null,null,null,null,null,null,null,null,null,null,null,null,null,null,null,null,null,null,{"$f":"IF(Clients!B674=\"\",\"\",Clients!B674)","v":""},{"$f":"IF(Clients!C674=\"\",\"\",Clients!C674)","v":""}]
[null,null,null,null,null,null,null,null,null,null,null,null,null,null,null,null,null,null,{"$f":"IF(Clients!B675=\"\",\"\",Clients!B675)","v":""},{"$f":"IF(Clients!C675=\"\",\"\",Clients!C675)","v":""}]
[null,null,null,null,null,null,null,null,null,null,null,null,null,null,null,null,null,null,{"$f":"IF(Clients!B676=\"\",\"\",Clients!B676)","v":""},{"$f":"IF(Clients!C676=\"\",\"\",Clients!C676)","v":""}]
[null,null,null,null,null,null,null,null,null,null,null,null,null,null,null,null,null,null,{"$f":"IF(Clients!B677=\"\",\"\",Clients!B677)","v":""},{"$f":"IF(Clients!C677=\"\",\"\",Clients!C677)","v":""}]
[null,null,null,null,null,null,null,null,null,null,null,null,null,null,null,null,null,null,{"$f":"IF(Clients!B678=\"\",\"\",Clients!B678)","v":""},{"$f":"IF(Clients!C678=\"\",\"\",Clients!C678)","v":""}]
[null,null,null,null,null,null,null,null,null,null,null,null,null,null,null,null,null,null,{"$f":"IF(Clients!B679=\"\",\"\",Clients!B679)","v":""},{"$f":"IF(Clients!C679=\"\",\"\",Clients!C679)","v":""}]
[null,null,null,null,null,null,null,null,null,null,null,null,null,null,null,null,null,null,{"$f":"IF(Clients!B680=\"\",\"\",Clients!B680)","v":""},{"$f":"IF(Clients!C680=\"\",\"\",Clients!C680)","v":""}]
[null,null,null,null,null,null,null,null,null,null,null,null,null,null,null,null,null,null,{"$f":"IF(Clients!B681=\"\",\"\",Clients!B681)","v":""},{"$f":"IF(Clients!C681=\"\",\"\",Clients!C681)","v":""}]
[null,null,null,null,null,null,null,null,null,null,null,null,null,null,null,null,null,null,{"$f":"IF(Clients!B682=\"\",\"\",Clients!B682)","v":""},{"$f":"IF(Clients!C682=\"\",\"\",Clients!C682)","v":""}]
[null,null,null,null,null,null,null,null,null,null,null,null,null,null,null,null,null,null,{"$f":"IF(Clients!B683=\"\",\"\",Clients!B683)","v":""},{"$f":"IF(Clients!C683=\"\",\"\",Clients!C683)","v":""}]
[null,null,null,null,null,null,null,null,null,null,null,null,null,null,null,null,null,null,{"$f":"IF(Clients!B684=\"\",\"\",Clients!B684)","v":""},{"$f":"IF(Clients!C684=\"\",\"\",Clients!C684)","v":""}]
[null,null,null,null,null,null,null,null,null,null,null,null,null,null,null,null,null,null,{"$f":"IF(Clients!B685=\"\",\"\",Clients!B685)","v":""},{"$f":"IF(Clients!C685=\"\",\"\",Clients!C685)","v":""}]
[null,null,null,null,null,null,null,null,null,null,null,null,null,null,null,null,null,null,{"$f":"IF(Clients!B686=\"\",\"\",Clients!B686)","v":""},{"$f":"IF(Clients!C686=\"\",\"\",Clients!C686)","v":""}]
[null,null,null,null,null,null,null,null,null,null,null,null,null,null,null,null,null,null,{"$f":"IF(Clients!B687=\"\",\"\",Clients!B687)","v":""},{"$f":"IF(Clients!C687=\"\",\"\",Clients!C687)","v":""}]
[null,null,null,null,null,null,null,null,null,null,null,null,null,null,null,null,null,null,{"$f":"IF(Clients!B688=\"\",\"\",Clients!B688)","v":""},{"$f":"IF(Clients!C688=\"\",\"\",Clients!C688)","v":""}]
[null,null,null,null,null,null,null,null,null,null,null,null,null,null,null,null,null,null,{"$f":"IF(Clients!B689=\"\",\"\",Clients!B689)","v":""},{"$f":"IF(Clients!C689=\"\",\"\",Clients!C689)","v":""}]
[null,null,null,null,null,null,null,null,null,null,null,null,null,null,null,null,null,null,{"$f":"IF(Clients!B690=\"\",\"\",Clients!B690)","v":""},{"$f":"IF(Clients!C690=\"\",\"\",Clients!C690)","v":""}]
[null,null,null,null,null,null,null,null,null,null,null,null,null,null,null,null,null,null,{"$f":"IF(Clients!B691=\"\",\"\",Clients!B691)","v":""},{"$f":"IF(Clients!C691=\"\",\"\",Clients!C691)","v":""}]
[null,null,null,null,null,null,null,null,null,null,null,null,null,null,null,null,null,null,{"$f":"IF(Clients!B692=\"\",\"\",Clients!B692)","v":""},{"$f":"IF(Clients!C692=\"\",\"\",Clients!C692)","v":""}]
[null,null,null,null,null,null,null,null,null,null,null,null,null,null,null,null,null,null,{"$f":"IF(Clients!B693=\"\",\"\",Clients!B693)","v":""},{"$f":"IF(Clients!C693=\"\",\"\",Clients!C693)","v":""}]
[null,null,null,null,null,null,null,null,null,null,null,null,null,null,null,null,null,null,{"$f":"IF(Clients!B694=\"\",\"\",Clients!B694)","v":""},{"$f":"IF(Clients!C694=\"\",\"\",Clients!C694)","v":""}]
[null,null,null,null,null,null,null,null,null,null,null,null,null,null,null,null,null,null,{"$f":"IF(Clients!B695=\"\",\"\",Clients!B695)","v":""},{"$f":"IF(Clients!C695=\"\",\"\",Clients!C695)","v":""}]
[null,null,null,null,null,null,null,null,null,null,null,null,null,null,null,null,null,null,{"$f":"IF(Clients!B696=\"\",\"\",Clients!B696)","v":""},{"$f":"IF(Clients!C696=\"\",\"\",Clients!C696)","v":""}]
[null,null,null,null,null,null,null,null,null,null,null,null,null,null,null,null,null,null,{"$f":"IF(Clients!B697=\"\",\"\",Clients!B697)","v":""},{"$f":"IF(Clients!C697=\"\",\"\",Clients!C697)","v":""}]
[null,null,null,null,null,null,null,null,null,null,null,null,null,null,null,null,null,null,{"$f":"IF(Clients!B698=\"\",\"\",Clients!B698)","v":""},{"$f":"IF(Clients!C698=\"\",\"\",Clients!C698)","v":""}]
[null,null,null,null,null,null,null,null,null,null,null,null,null,null,null,null,null,null,{"$f":"IF(Clients!B699=\"\",\"\",Clients!B699)","v":""},{"$f":"IF(Clients!C699=\"\",\"\",Clients!C699)","v":""}]
[null,null,null,null,null,null,null,null,null,null,null,null,null,null,null,null,null,null,{"$f":"IF(Clients!B700=\"\",\"\",Clients!B700)","v":""},{"$f":"IF(Clients!C700=\"\",\"\",Clients!C700)","v":""}]
[null,null,null,null,null,null,null,null,null,null,null,null,null,null,null,null,null,null,{"$f":"IF(Clients!B701=\"\",\"\",Clients!B701)","v":""},{"$f":"IF(Clients!C701=\"\",\"\",Clients!C701)","v":""}]
[null,null,null,null,null,null,null,null,null,null,null,null,null,null,null,null,null,null,{"$f":"IF(Clients!B702=\"\",\"\",Clients!B702)","v":""},{"$f":"IF(Clients!C702=\"\",\"\",Clients!C702)","v":""}]
[null,null,null,null,null,null,null,null,null,null,null,null,null,null,null,null,null,null,{"$f":"IF(Clients!B703=\"\",\"\",Clients!B703)","v":""},{"$f":"IF(Clients!C703=\"\",\"\",Clients!C703)","v":""}]
[null,null,null,null,null,null,null,null,null,null,null,null,null,null,null,null,null,null,{"$f":"IF(Clients!B704=\"\",\"\",Clients!B704)","v":""},{"$f":"IF(Clients!C704=\"\",\"\",Clients!C704)","v":""}]
[null,null,null,null,null,null,null,null,null,null,null,null,null,null,null,null,null,null,{"$f":"IF(Clients!B705=\"\",\"\",Clients!B705)","v":""},{"$f":"IF(Clients!C705=\"\",\"\",Clients!C705)","v":""}]
[null,null,null,null,null,null,null,null,null,null,null,null,null,null,null,null,null,null,{"$f":"IF(Clients!B706=\"\",\"\",Clients!B706)","v":""},{"$f":"IF(Clients!C706=\"\",\"\",Clients!C706)","v":""}]
[null,null,null,null,null,null,null,null,null,null,null,null,null,null,null,null,null,null,{"$f":"IF(Clients!B707=\"\",\"\",Clients!B707)","v":""},{"$f":"IF(Clients!C707=\"\",\"\",Clients!C707)","v":""}]
[null,null,null,null,null,null,null,null,null,null,null,null,null,null,null,null,null,null,{"$f":"IF(Clients!B708=\"\",\"\",Clients!B708)","v":""},{"$f":"IF(Clients!C708=\"\",\"\",Clients!C708)","v":""}]
[null,null,null,null,null,null,null,null,null,null,null,null,null,null,null,null,null,null,{"$f":"IF(Clients!B709=\"\",\"\",Clients!B709)","v":""},{"$f":"IF(Clients!C709=\"\",\"\",Clients!C709)","v":""}]
[null,null,null,null,null,null,null,null,null,null,null,null,null,null,null,null,null,null,{"$f":"IF(Clients!B710=\"\",\"\",Clients!B710)","v":""},{"$f":"IF(Clients!C710=\"\",\"\",Clients!C710)","v":""}]
[null,null,null,null,null,null,null,null,null,null,null,null,null,null,null,null,null,null,{"$f":"IF(Clients!B711=\"\",\"\",Clients!B711)","v":""},{"$f":"IF(Clients!C711=\"\",\"\",Clients!C711)","v":""}]
[null,null,null,null,null,null,null,null,null,null,null,null,null,null,null,null,null,null,{"$f":"IF(Clients!B712=\"\",\"\",Clients!B712)","v":""},{"$f":"IF(Clients!C712=\"\",\"\",Clients!C712)","v":""}]
[null,null,null,null,null,null,null,null,null,null,null,null,null,null,null,null,null,null,{"$f":"IF(Clients!B713=\"\",\"\",Clients!B713)","v":""},{"$f":"IF(Clients!C713=\"\",\"\",Clients!C713)","v":""}]
[null,null,null,null,null,null,null,null,null,null,null,null,null,null,null,null,null,null,{"$f":"IF(Clients!B714=\"\",\"\",Clients!B714)","v":""},{"$f":"IF(Clients!C714=\"\",\"\",Clients!C714)","v":""}]
[null,null,null,null,null,null,null,null,null,null,null,null,null,null,null,null,null,null,{"$f":"IF(Clients!B715=\"\",\"\",Clients!B715)","v":""},{"$f":"IF(Clients!C715=\"\",\"\",Clients!C715)","v":""}]
[null,null,null,null,null,null,null,null,null,null,null,null,null,null,null,null,null,null,{"$f":"IF(Clients!B716=\"\",\"\",Clients!B716)","v":""},{"$f":"IF(Clients!C716=\"\",\"\",Clients!C716)","v":""}]
[null,null,null,null,null,null,null,null,null,null,null,null,null,null,null,null,null,null,{"$f":"IF(Clients!B717=\"\",\"\",Clients!B717)","v":""},{"$f":"IF(Clients!C717=\"\",\"\",Clients!C717)","v":""}]
[null,null,null,null,null,null,null,null,null,null,null,null,null,null,null,null,null,null,{"$f":"IF(Clients!B718=\"\",\"\",Clients!B718)","v":""},{"$f":"IF(Clients!C718=\"\",\"\",Clients!C718)","v":""}]
[null,null,null,null,null,null,null,null,null,null,null,null,null,null,null,null,null,null,{"$f":"IF(Clients!B719=\"\",\"\",Clients!B719)","v":""},{"$f":"IF(Clients!C719=\"\",\"\",Clients!C719)","v":""}]
[null,null,null,null,null,null,null,null,null,null,null,null,null,null,null,null,null,null,{"$f":"IF(Clients!B720=\"\",\"\",Clients!B720)","v":""},{"$f":"IF(Clients!C720=\"\",\"\",Clients!C720)","v":""}]
[null,null,null,null,null,null,null,null,null,null,null,null,null,null,null,null,null,null,{"$f":"IF(Clients!B721=\"\",\"\",Clients!B721)","v":""},{"$f":"IF(Clients!C721=\"\",\"\",Clients!C721)","v":""}]
[null,null,null,null,null,null,null,null,null,null,null,null,null,null,null,null,null,null,{"$f":"IF(Clients!B722=\"\",\"\",Clients!B722)","v":""},{"$f":"IF(Clients!C722=\"\",\"\",Clients!C722)","v":""}]
[null,null,null,null,null,null,null,null,null,null,null,null,null,null,null,null,null,null,{"$f":"IF(Clients!B723=\"\",\"\",Clients!B723)","v":""},{"$f":"IF(Clients!C723=\"\",\"\",Clients!C723)","v":""}]
[null,null,null,null,null,null,null,null,null,null,null,null,null,null,null,null,null,null,{"$f":"IF(Clients!B724=\"\",\"\",Clients!B724)","v":""},{"$f":"IF(Clients!C724=\"\",\"\",Clients!C724)","v":""}]
[null,null,null,null,null,null,null,null,null,null,null,null,null,null,null,null,null,null,{"$f":"IF(Clients!B725=\"\",\"\",Clients!B725)","v":""},{"$f":"IF(Clients!C725=\"\",\"\",Clients!C725)","v":""}]
[null,null,null,null,null,null,null,null,null,null,null,null,null,null,null,null,null,null,{"$f":"IF(Clients!B726=\"\",\"\",Clients!B726)","v":""},{"$f":"IF(Clients!C726=\"\",\"\",Clients!C726)","v":""}]
[null,null,null,null,null,null,null,null,null,null,null,null,null,null,null,null,null,null,{"$f":"IF(Clients!B727=\"\",\"\",Clients!B727)","v":""},{"$f":"IF(Clients!C727=\"\",\"\",Clients!C727)","v":""}]
[null,null,null,null,null,null,null,null,null,null,null,null,null,null,null,null,null,null,{"$f":"IF(Clients!B728=\"\",\"\",Clients!B728)","v":""},{"$f":"IF(Clients!C728=\"\",\"\",Clients!C728)","v":""}]
[null,null,null,null,null,null,null,null,null,null,null,null,null,null,null,null,null,null,{"$f":"IF(Clients!B729=\"\",\"\",Clients!B729)","v":""},{"$f":"IF(Clients!C729=\"\",\"\",Clients!C729)","v":""}]
[null,null,null,null,null,null,null,null,null,null,null,null,null,null,null,null,null,null,{"$f":"IF(Clients!B730=\"\",\"\",Clients!B730)","v":""},{"$f":"IF(Clients!C730=\"\",\"\",Clients!C730)","v":""}]
[null,null,null,null,null,null,null,null,null,null,null,null,null,null,null,null,null,null,{"$f":"IF(Clients!B731=\"\",\"\",Clients!B731)","v":""},{"$f":"IF(Clients!C731=\"\",\"\",Clients!C731)","v":""}]
[null,null,null,null,null,null,null,null,null,null,null,null,null,null,null,null,null,null,{"$f":"IF(Clients!B732=\"\",\"\",Clients!B732)","v":""},{"$f":"IF(Clients!C732=\"\",\"\",Clients!C732)","v":""}]
[null,null,null,null,null,null,null,null,null,null,null,null,null,null,null,null,null,null,{"$f":"IF(Clients!B733=\"\",\"\",Clients!B733)","v":""},{"$f":"IF(Clients!C733=\"\",\"\",Clients!C733)","v":""}]
[null,null,null,null,null,null,null,null,null,null,null,null,null,null,null,null,null,null,{"$f":"IF(Clients!B734=\"\",\"\",Clients!B734)","v":""},{"$f":"IF(Clients!C734=\"\",\"\",Clients!C734)","v":""}]
[null,null,null,null,null,null,null,null,null,null,null,null,null,null,null,null,null,null,{"$f":"IF(Clients!B735=\"\",\"\",Clients!B735)","v":""},{"$f":"IF(Clients!C735=\"\",\"\",Clients!C735)","v":""}]
[null,null,null,null,null,null,null,null,null,null,null,null,null,null,null,null,null,null,{"$f":"IF(Clients!B736=\"\",\"\",Clients!B736)","v":""},{"$f":"IF(Clients!C736=\"\",\"\",Clients!C736)","v":""}]
[null,null,null,null,null,null,null,null,null,null,null,null,null,null,null,null,null,null,{"$f":"IF(Clients!B737=\"\",\"\",Clients!B737)","v":""},{"$f":"IF(Clients!C737=\"\",\"\",Clients!C737)","v":""}]
[null,null,null,null,null,null,null,null,null,null,null,null,null,null,null,null,null,null,{"$f":"IF(Clients!B738=\"\",\"\",Clients!B738)","v":""},{"$f":"IF(Clients!C738=\"\",\"\",Clients!C738)","v":""}]
[null,null,null,null,null,null,null,null,null,null,null,null,null,null,null,null,null,null,{"$f":"IF(Clients!B739=\"\",\"\",Clients!B739)","v":""},{"$f":"IF(Clients!C739=\"\",\"\",Clients!C739)","v":""}]
[null,null,null,null,null,null,null,null,null,null,null,null,null,null,null,null,null,null,{"$f":"IF(Clients!B740=\"\",\"\",Clients!B740)","v":""},{"$f":"IF(Clients!C740=\"\",\"\",Clients!C740)","v":""}]
[null,null,null,null,null,null,null,null,null,null,null,null,null,null,null,null,null,null,{"$f":"IF(Clients!B741=\"\",\"\",Clients!B741)","v":""},{"$f":"IF(Clients!C741=\"\",\"\",Clients!C741)","v":""}]
[null,null,null,null,null,null,null,null,null,null,null,null,null,null,null,null,null,null,{"$f":"IF(Clients!B742=\"\",\"\",Clients!B742)","v":""},{"$f":"IF(Clients!C742=\"\",\"\",Clients!C742)","v":""}]
[null,null,null,null,null,null,null,null,null,null,null,null,null,null,null,null,null,null,{"$f":"IF(Clients!B743=\"\",\"\",Clients!B743)","v":""},{"$f":"IF(Clients!C743=\"\",\"\",Clients!C743)","v":""}]
[null,null,null,null,null,null,null,null,null,null,null,null,null,null,null,null,null,null,{"$f":"IF(Clients!B744=\"\",\"\",Clients!B744)","v":""},{"$f":"IF(Clients!C744=\"\",\"\",Clients!C744)","v":""}]
[null,null,null,null,null,null,null,null,null,null,null,null,null,null,null,null,null,null,{"$f":"IF(Clients!B745=\"\",\"\",Clients!B745)","v":""},{"$f":"IF(Clients!C745=\"\",\"\",Clients!C745)","v":""}]
[null,null,null,null,null,null,null,null,null,null,null,null,null,null,null,null,null,null,{"$f":"IF(Clients!B746=\"\",\"\",Clients!B746)","v":""},{"$f":"IF(Clients!C746=\"\",\"\",Clients!C746)","v":""}]
[null,null,null,null,null,null,null,null,null,null,null,null,null,null,null,null,null,null,{"$f":"IF(Clients!B747=\"\",\"\",Clients!B747)","v":""},{"$f":"IF(Clients!C747=\"\",\"\",Clients!C747)","v":""}]
[null,null,null,null,null,null,null,null,null,null,null,null,null,null,null,null,null,null,{"$f":"IF(Clients!B748=\"\",\"\",Clients!B748)","v":""},{"$f":"IF(Clients!C748=\"\",\"\",Clients!C748)","v":""}]
[null,null,null,null,null,null,null,null,null,null,null,null,null,null,null,null,null,null,{"$f":"IF(Clients!B749=\"\",\"\",Clients!B749)","v":""},{"$f":"IF(Clients!C749=\"\",\"\",Clients!C749)","v":""}]
[null,null,null,null,null,null,null,null,null,null,null,null,null,null,null,null,null,null,{"$f":"IF(Clients!B750=\"\",\"\",Clients!B750)","v":""},{"$f":"IF(Clients!C750=\"\",\"\",Clients!C750)","v":""}]
[null,null,null,null,null,null,null,null,null,null,null,null,null,null,null,null,null,null,{"$f":"IF(Clients!B751=\"\",\"\",Clients!B751)","v":""},{"$f":"IF(Clients!C751=\"\",\"\",Clients!C751)","v":""}]
[null,null,null,null,null,null,null,null,null,null,null,null,null,null,null,null,null,null,{"$f":"IF(Clients!B752=\"\",\"\",Clients!B752)","v":""},{"$f":"IF(Clients!C752=\"\",\"\",Clients!C752)","v":""}]
[null,null,null,null,null,null,null,null,null,null,null,null,null,null,null,null,null,null,{"$f":"IF(Clients!B753=\"\",\"\",Clients!B753)","v":""},{"$f":"IF(Clients!C753=\"\",\"\",Clients!C753)","v":""}]
[null,null,null,null,null,null,null,null,null,null,null,null,null,null,null,null,null,null,{"$f":"IF(Clients!B754=\"\",\"\",Clients!B754)","v":""},{"$f":"IF(Clients!C754=\"\",\"\",Clients!C754)","v":""}]
[null,null,null,null,null,null,null,null,null,null,null,null,null,null,null,null,null,null,{"$f":"IF(Clients!B755=\"\",\"\",Clients!B755)","v":""},{"$f":"IF(Clients!C755=\"\",\"\",Clients!C755)","v":""}]
[null,null,null,null,null,null,null,null,null,null,null,null,null,null,null,null,null,null,{"$f":"IF(Clients!B756=\"\",\"\",Clients!B756)","v":""},{"$f":"IF(Clients!C756=\"\",\"\",Clients!C756)","v":""}]
[null,null,null,null,null,null,null,null,null,null,null,null,null,null,null,null,null,null,{"$f":"IF(Clients!B757=\"\",\"\",Clients!B757)","v":""},{"$f":"IF(Clients!C757=\"\",\"\",Clients!C757)","v":""}]
[null,null,null,null,null,null,null,null,null,null,null,null,null,null,null,null,null,null,{"$f":"IF(Clients!B758=\"\",\"\",Clients!B758)","v":""},{"$f":"IF(Clients!C758=\"\",\"\",Clients!C758)","v":""}]
[null,null,null,null,null,null,null,null,null,null,null,null,null,null,null,null,null,null,{"$f":"IF(Clients!B759=\"\",\"\",Clients!B759)","v":""},{"$f":"IF(Clients!C759=\"\",\"\",Clients!C759)","v":""}]
[null,null,null,null,null,null,null,null,null,null,null,null,null,null,null,null,null,null,{"$f":"IF(Clients!B760=\"\",\"\",Clients!B760)","v":""},{"$f":"IF(Clients!C760=\"\",\"\",Clients!C760)","v":""}]
[null,null,null,null,null,null,null,null,null,null,null,null,null,null,null,null,null,null,{"$f":"IF(Clients!B761=\"\",\"\",Clients!B761)","v":""},{"$f":"IF(Clients!C761=\"\",\"\",Clients!C761)","v":""}]
[null,null,null,null,null,null,null,null,null,null,null,null,null,null,null,null,null,null,{"$f":"IF(Clients!B762=\"\",\"\",Clients!B762)","v":""},{"$f":"IF(Clients!C762=\"\",\"\",Clients!C762)","v":""}]
[null,null,null,null,null,null,null,null,null,null,null,null,null,null,null,null,null,null,{"$f":"IF(Clients!B763=\"\",\"\",Clients!B763)","v":""},{"$f":"IF(Clients!C763=\"\",\"\",Clients!C763)","v":""}]
[null,null,null,null,null,null,null,null,null,null,null,null,null,null,null,null,null,null,{"$f":"IF(Clients!B764=\"\",\"\",Clients!B764)","v":""},{"$f":"IF(Clients!C764=\"\",\"\",Clients!C764)","v":""}]
[null,null,null,null,null,null,null,null,null,null,null,null,null,null,null,null,null,null,{"$f":"IF(Clients!B765=\"\",\"\",Clients!B765)","v":""},{"$f":"IF(Clients!C765=\"\",\"\",Clients!C765)","v":""}]
[null,null,null,null,null,null,null,null,null,null,null,null,null,null,null,null,null,null,{"$f":"IF(Clients!B766=\"\",\"\",Clients!B766)","v":""},{"$f":"IF(Clients!C766=\"\",\"\",Clients!C766)","v":""}]
[null,null,null,null,null,null,null,null,null,null,null,null,null,null,null,null,null,null,{"$f":"IF(Clients!B767=\"\",\"\",Clients!B767)","v":""},{"$f":"IF(Clients!C767=\"\",\"\",Clients!C767)","v":""}]
[null,null,null,null,null,null,null,null,null,null,null,null,null,null,null,null,null,null,{"$f":"IF(Clients!B768=\"\",\"\",Clients!B768)","v":""},{"$f":"IF(Clients!C768=\"\",\"\",Clients!C768)","v":""}]
[null,null,null,null,null,null,null,null,null,null,null,null,null,null,null,null,null,null,{"$f":"IF(Clients!B769=\"\",\"\",Clients!B769)","v":""},{"$f":"IF(Clients!C769=\"\",\"\",Clients!C769)","v":""}]
[null,null,null,null,null,null,null,null,null,null,null,null,null,null,null,null,null,null,{"$f":"IF(Clients!B770=\"\",\"\",Clients!B770)","v":""},{"$f":"IF(Clients!C770=\"\",\"\",Clients!C770)","v":""}]
[null,null,null,null,null,null,null,null,null,null,null,null,null,null,null,null,null,null,{"$f":"IF(Clients!B771=\"\",\"\",Clients!B771)","v":""},{"$f":"IF(Clients!C771=\"\",\"\",Clients!C771)","v":""}]
[null,null,null,null,null,null,null,null,null,null,null,null,null,null,null,null,null,null,{"$f":"IF(Clients!B772=\"\",\"\",Clients!B772)","v":""},{"$f":"IF(Clients!C772=\"\",\"\",Clients!C772)","v":""}]
[null,null,null,null,null,null,null,null,null,null,null,null,null,null,null,null,null,null,{"$f":"IF(Clients!B773=\"\",\"\",Clients!B773)","v":""},{"$f":"IF(Clients!C773=\"\",\"\",Clients!C773)","v":""}]
[null,null,null,null,null,null,null,null,null,null,null,null,null,null,null,null,null,null,{"$f":"IF(Clients!B774=\"\",\"\",Clients!B774)","v":""},{"$f":"IF(Clients!C774=\"\",\"\",Clients!C774)","v":""}]
[null,null,null,null,null,null,null,null,null,null,null,null,null,null,null,null,null,null,{"$f":"IF(Clients!B775=\"\",\"\",Clients!B775)","v":""},{"$f":"IF(Clients!C775=\"\",\"\",Clients!C775)","v":""}]
[null,null,null,null,null,null,null,null,null,null,null,null,null,null,null,null,null,null,{"$f":"IF(Clients!B776=\"\",\"\",Clients!B776)","v":""},{"$f":"IF(Clients!C776=\"\",\"\",Clients!C776)","v":""}]
[null,null,null,null,null,null,null,null,null,null,null,null,null,null,null,null,null,null,{"$f":"IF(Clients!B777=\"\",\"\",Clients!B777)","v":""},{"$f":"IF(Clients!C777=\"\",\"\",Clients!C777)","v":""}]
[null,null,null,null,null,null,null,null,null,null,null,null,null,null,null,null,null,null,{"$f":"IF(Clients!B778=\"\",\"\",Clients!B778)","v":""},{"$f":"IF(Clients!C778=\"\",\"\",Clients!C778)","v":""}]
[null,null,null,null,null,null,null,null,null,null,null,null,null,null,null,null,null,null,{"$f":"IF(Clients!B779=\"\",\"\",Clients!B779)","v":""},{"$f":"IF(Clients!C779=\"\",\"\",Clients!C779)","v":""}]
[null,null,null,null,null,null,null,null,null,null,null,null,null,null,null,null,null,null,{"$f":"IF(Clients!B780=\"\",\"\",Clients!B780)","v":""},{"$f":"IF(Clients!C780=\"\",\"\",Clients!C780)","v":""}]
[null,null,null,null,null,null,null,null,null,null,null,null,null,null,null,null,null,null,{"$f":"IF(Clients!B781=\"\",\"\",Clients!B781)","v":""},{"$f":"IF(Clients!C781=\"\",\"\",Clients!C781)","v":""}]
[null,null,null,null,null,null,null,null,null,null,null,null,null,null,null,null,null,null,{"$f":"IF(Clients!B782=\"\",\"\",Clients!B782)","v":""},{"$f":"IF(Clients!C782=\"\",\"\",Clients!C782)","v":""}]
[null,null,null,null,null,null,null,null,null,null,null,null,null,null,null,null,null,null,{"$f":"IF(Clients!B783=\"\",\"\",Clients!B783)","v":""},{"$f":"IF(Clients!C783=\"\",\"\",Clients!C783)","v":""}]
[null,null,null,null,null,null,null,null,null,null,null,null,null,null,null,null,null,null,{"$f":"IF(Clients!B784=\"\",\"\",Clients!B784)","v":""},{"$f":"IF(Clients!C784=\"\",\"\",Clients!C784)","v":""}]
[null,null,null,null,null,null,null,null,null,null,null,null,null,null,null,null,null,null,{"$f":"IF(Clients!B785=\"\",\"\",Clients!B785)","v":""},{"$f":"IF(Clients!C785=\"\",\"\",Clients!C785)","v":""}]
[null,null,null,null,null,null,null,null,null,null,null,null,null,null,null,null,null,null,{"$f":"IF(Clients!B786=\"\",\"\",Clients!B786)","v":""},{"$f":"IF(Clients!C786=\"\",\"\",Clients!C786)","v":""}]
[null,null,null,null,null,null,null,null,null,null,null,null,null,null,null,null,null,null,{"$f":"IF(Clients!B787=\"\",\"\",Clients!B787)","v":""},{"$f":"IF(Clients!C787=\"\",\"\",Clients!C787)","v":""}]
[null,null,null,null,null,null,null,null,null,null,null,null,null,null,null,null,null,null,{"$f":"IF(Clients!B788=\"\",\"\",Clients!B788)","v":""},{"$f":"IF(Clients!C788=\"\",\"\",Clients!C788)","v":""}]
[null,null,null,null,null,null,null,null,null,null,null,null,null,null,null,null,null,null,{"$f":"IF(Clients!B789=\"\",\"\",Clients!B789)","v":""},{"$f":"IF(Clients!C789=\"\",\"\",Clients!C789)","v":""}]
[null,null,null,null,null,null,null,null,null,null,null,null,null,null,null,null,null,null,{"$f":"IF(Clients!B790=\"\",\"\",Clients!B790)","v":""},{"$f":"IF(Clients!C790=\"\",\"\",Clients!C790)","v":""}]
[null,null,null,null,null,null,null,null,null,null,null,null,null,null,null,null,null,null,{"$f":"IF(Clients!B791=\"\",\"\",Clients!B791)","v":""},{"$f":"IF(Clients!C791=\"\",\"\",Clients!C791)","v":""}]
[null,null,null,null,null,null,null,null,null,null,null,null,null,null,null,null,null,null,{"$f":"IF(Clients!B792=\"\",\"\",Clients!B792)","v":""},{"$f":"IF(Clients!C792=\"\",\"\",Clients!C792)","v":""}]
[null,null,null,null,null,null,null,null,null,null,null,null,null,null,null,null,null,null,{"$f":"IF(Clients!B793=\"\",\"\",Clients!B793)","v":""},{"$f":"IF(Clients!C793=\"\",\"\",Clients!C793)","v":""}]
[null,null,null,null,null,null,null,null,null,null,null,null,null,null,null,null,null,null,{"$f":"IF(Clients!B794=\"\",\"\",Clients!B794)","v":""},{"$f":"IF(Clients!C794=\"\",\"\",Clients!C794)","v":""}]
[null,null,null,null,null,null,null,null,null,null,null,null,null,null,null,null,null,null,{"$f":"IF(Clients!B795=\"\",\"\",Clients!B795)","v":""},{"$f":"IF(Clients!C795=\"\",\"\",Clients!C795)","v":""}]
[null,null,null,null,null,null,null,null,null,null,null,null,null,null,null,null,null,null,{"$f":"IF(Clients!B796=\"\",\"\",Clients!B796)","v":""},{"$f":"IF(Clients!C796=\"\",\"\",Clients!C796)","v":""}]
[null,null,null,null,null,null,null,null,null,null,null,null,null,null,null,null,null,null,{"$f":"IF(Clients!B797=\"\",\"\",Clients!B797)","v":""},{"$f":"IF(Clients!C797=\"\",\"\",Clients!C797)","v":""}]
[null,null,null,null,null,null,null,null,null,null,null,null,null,null,null,null,null,null,{"$f":"IF(Clients!B798=\"\",\"\",Clients!B798)","v":""},{"$f":"IF(Clients!C798=\"\",\"\",Clients!C798)","v":""}]
[null,null,null,null,null,null,null,null,null,null,null,null,null,null,null,null,null,null,{"$f":"IF(Clients!B799=\"\",\"\",Clients!B799)","v":""},{"$f":"IF(Clients!C799=\"\",\"\",Clients!C799)","v":""}]
[null,null,null,null,null,null,null,null,null,null,null,null,null,null,null,null,null,null,{"$f":"IF(Clients!B800=\"\",\"\",Clients!B800)","v":""},{"$f":"IF(Clients!C800=\"\",\"\",Clients!C800)","v":""}]
[null,null,null,null,null,null,null,null,null,null,null,null,null,null,null,null,null,null,{"$f":"IF(Clients!B801=\"\",\"\",Clients!B801)","v":""},{"$f":"IF(Clients!C801=\"\",\"\",Clients!C801)","v":""}]
[null,null,null,null,null,null,null,null,null,null,null,null,null,null,null,null,null,null,{"$f":"IF(Clients!B802=\"\",\"\",Clients!B802)","v":""},{"$f":"IF(Clients!C802=\"\",\"\",Clients!C802)","v":""}]
[null,null,null,null,null,null,null,null,null,null,null,null,null,null,null,null,null,null,{"$f":"IF(Clients!B803=\"\",\"\",Clients!B803)","v":""},{"$f":"IF(Clients!C803=\"\",\"\",Clients!C803)","v":""}]
[null,null,null,null,null,null,null,null,null,null,null,null,null,null,null,null,null,null,{"$f":"IF(Clients!B804=\"\",\"\",Clients!B804)","v":""},{"$f":"IF(Clients!C804=\"\",\"\",Clients!C804)","v":""}]
[null,null,null,null,null,null,null,null,null,null,null,null,null,null,null,null,null,null,{"$f":"IF(Clients!B805=\"\",\"\",Clients!B805)","v":""},{"$f":"IF(Clients!C805=\"\",\"\",Clients!C805)","v":""}]
[null,null,null,null,null,null,null,null,null,null,null,null,null,null,null,null,null,null,{"$f":"IF(Clients!B806=\"\",\"\",Clients!B806)","v":""},{"$f":"IF(Clients!C806=\"\",\"\",Clients!C806)","v":""}]
[null,null,null,null,null,null,null,null,null,null,null,null,null,null,null,null,null,null,{"$f":"IF(Clients!B807=\"\",\"\",Clients!B807)","v":""},{"$f":"IF(Clients!C807=\"\",\"\",Clients!C807)","v":""}]
[null,null,null,null,null,null,null,null,null,null,null,null,null,null,null,null,null,null,{"$f":"IF(Clients!B808=\"\",\"\",Clients!B808)","v":""},{"$f":"IF(Clients!C808=\"\",\"\",Clients!C808)","v":""}]
[null,null,null,null,null,null,null,null,null,null,null,null,null,null,null,null,null,null,{"$f":"IF(Clients!B809=\"\",\"\",Clients!B809)","v":""},{"$f":"IF(Clients!C809=\"\",\"\",Clients!C809)","v":""}]
[null,null,null,null,null,null,null,null,null,null,null,null,null,null,null,null,null,null,{"$f":"IF(Clients!B810=\"\",\"\",Clients!B810)","v":""},{"$f":"IF(Clients!C810=\"\",\"\",Clients!C810)","v":""}]
[null,null,null,null,null,null,null,null,null,null,null,null,null,null,null,null,null,null,{"$f":"IF(Clients!B811=\"\",\"\",Clients!B811)","v":""},{"$f":"IF(Clients!C811=\"\",\"\",Clients!C811)","v":""}]
[null,null,null,null,null,null,null,null,null,null,null,null,null,null,null,null,null,null,{"$f":"IF(Clients!B812=\"\",\"\",Clients!B812)","v":""},{"$f":"IF(Clients!C812=\"\",\"\",Clients!C812)","v":""}]
[null,null,null,null,null,null,null,null,null,null,null,null,null,null,null,null,null,null,{"$f":"IF(Clients!B813=\"\",\"\",Clients!B813)","v":""},{"$f":"IF(Clients!C813=\"\",\"\",Clients!C813)","v":""}]
[null,null,null,null,null,null,null,null,null,null,null,null,null,null,null,null,null,null,{"$f":"IF(Clients!B814=\"\",\"\",Clients!B814)","v":""},{"$f":"IF(Clients!C814=\"\",\"\",Clients!C814)","v":""}]
[null,null,null,null,null,null,null,null,null,null,null,null,null,null,null,null,null,null,{"$f":"IF(Clients!B815=\"\",\"\",Clients!B815)","v":""},{"$f":"IF(Clients!C815=\"\",\"\",Clients!C815)","v":""}]
[null,null,null,null,null,null,null,null,null,null,null,null,null,null,null,null,null,null,{"$f":"IF(Clients!B816=\"\",\"\",Clients!B816)","v":""},{"$f":"IF(Clients!C816=\"\",\"\",Clients!C816)","v":""}]
[null,null,null,null,null,null,null,null,null,null,null,null,null,null,null,null,null,null,{"$f":"IF(Clients!B817=\"\",\"\",Clients!B817)","v":""},{"$f":"IF(Clients!C817=\"\",\"\",Clients!C817)","v":""}]
[null,null,null,null,null,null,null,null,null,null,null,null,null,null,null,null,null,null,{"$f":"IF(Clients!B818=\"\",\"\",Clients!B818)","v":""},{"$f":"IF(Clients!C818=\"\",\"\",Clients!C818)","v":""}]
[null,null,null,null,null,null,null,null,null,null,null,null,null,null,null,null,null,null,{"$f":"IF(Clients!B819=\"\",\"\",Clients!B819)","v":""},{"$f":"IF(Clients!C819=\"\",\"\",Clients!C819)","v":""}]
[null,null,null,null,null,null,null,null,null,null,null,null,null,null,null,null,null,null,{"$f":"IF(Clients!B820=\"\",\"\",Clients!B820)","v":""},{"$f":"IF(Clients!C820=\"\",\"\",Clients!C820)","v":""}]
[null,null,null,null,null,null,null,null,null,null,null,null,null,null,null,null,null,null,{"$f":"IF(Clients!B821=\"\",\"\",Clients!B821)","v":""},{"$f":"IF(Clients!C821=\"\",\"\",Clients!C821)","v":""}]
[null,null,null,null,null,null,null,null,null,null,null,null,null,null,null,null,null,null,{"$f":"IF(Clients!B822=\"\",\"\",Clients!B822)","v":""},{"$f":"IF(Clients!C822=\"\",\"\",Clients!C822)","v":""}]
[null,null,null,null,null,null,null,null,null,null,null,null,null,null,null,null,null,null,{"$f":"IF(Clients!B823=\"\",\"\",Clients!B823)","v":""},{"$f":"IF(Clients!C823=\"\",\"\",Clients!C823)","v":""}]
[null,null,null,null,null,null,null,null,null,null,null,null,null,null,null,null,null,null,{"$f":"IF(Clients!B824=\"\",\"\",Clients!B824)","v":""},{"$f":"IF(Clients!C824=\"\",\"\",Clients!C824)","v":""}]
[null,null,null,null,null,null,null,null,null,null,null,null,null,null,null,null,null,null,{"$f":"IF(Clients!B825=\"\",\"\",Clients!B825)","v":""},{"$f":"IF(Clients!C825=\"\",\"\",Clients!C825)","v":""}]
[null,null,null,null,null,null,null,null,null,null,null,null,null,null,null,null,null,null,{"$f":"IF(Clients!B826=\"\",\"\",Clients!B826)","v":""},{"$f":"IF(Clients!C826=\"\",\"\",Clients!C826)","v":""}]
[null,null,null,null,null,null,null,null,null,null,null,null,null,null,null,null,null,null,{"$f":"IF(Clients!B827=\"\",\"\",Clients!B827)","v":""},{"$f":"IF(Clients!C827=\"\",\"\",Clients!C827)","v":""}]
[null,null,null,null,null,null,null,null,null,null,null,null,null,null,null,null,null,null,{"$f":"IF(Clients!B828=\"\",\"\",Clients!B828)","v":""},{"$f":"IF(Clients!C828=\"\",\"\",Clients!C828)","v":""}]
[null,null,null,null,null,null,null,null,null,null,null,null,null,null,null,null,null,null,{"$f":"IF(Clients!B829=\"\",\"\",Clients!B829)","v":""},{"$f":"IF(Clients!C829=\"\",\"\",Clients!C829)","v":""}]
[null,null,null,null,null,null,null,null,null,null,null,null,null,null,null,null,null,null,{"$f":"IF(Clients!B830=\"\",\"\",Clients!B830)","v":""},{"$f":"IF(Clients!C830=\"\",\"\",Clients!C830)","v":""}]
[null,null,null,null,null,null,null,null,null,null,null,null,null,null,null,null,null,null,{"$f":"IF(Clients!B831=\"\",\"\",Clients!B831)","v":""},{"$f":"IF(Clients!C831=\"\",\"\",Clients!C831)","v":""}]
[null,null,null,null,null,null,null,null,null,null,null,null,null,null,null,null,null,null,{"$f":"IF(Clients!B832=\"\",\"\",Clients!B832)","v":""},{"$f":"IF(Clients!C832=\"\",\"\",Clients!C832)","v":""}]
[null,null,null,null,null,null,null,null,null,null,null,null,null,null,null,null,null,null,{"$f":"IF(Clients!B833=\"\",\"\",Clients!B833)","v":""},{"$f":"IF(Clients!C833=\"\",\"\",Clients!C833)","v":""}]
[null,null,null,null,null,null,null,null,null,null,null,null,null,null,null,null,null,null,{"$f":"IF(Clients!B834=\"\",\"\",Clients!B834)","v":""},{"$f":"IF(Clients!C834=\"\",\"\",Clients!C834)","v":""}]
[null,null,null,null,null,null,null,null,null,null,null,null,null,null,null,null,null,null,{"$f":"IF(Clients!B835=\"\",\"\",Clients!B835)","v":""},{"$f":"IF(Clients!C835=\"\",\"\",Clients!C835)","v":""}]
[null,null,null,null,null,null,null,null,null,null,null,null,null,null,null,null,null,null,{"$f":"IF(Clients!B836=\"\",\"\",Clients!B836)","v":""},{"$f":"IF(Clients!C836=\"\",\"\",Clients!C836)","v":""}]
[null,null,null,null,null,null,null,null,null,null,null,null,null,null,null,null,null,null,{"$f":"IF(Clients!B837=\"\",\"\",Clients!B837)","v":""},{"$f":"IF(Clients!C837=\"\",\"\",Clients!C837)","v":""}]
[null,null,null,null,null,null,null,null,null,null,null,null,null,null,null,null,null,null,{"$f":"IF(Clients!B838=\"\",\"\",Clients!B838)","v":""},{"$f":"IF(Clients!C838=\"\",\"\",Clients!C838)","v":""}]
[null,null,null,null,null,null,null,null,null,null,null,null,null,null,null,null,null,null,{"$f":"IF(Clients!B839=\"\",\"\",Clients!B839)","v":""},{"$f":"IF(Clients!C839=\"\",\"\",Clients!C839)","v":""}]
[null,null,null,null,null,null,null,null,null,null,null,null,null,null,null,null,null,null,{"$f":"IF(Clients!B840=\"\",\"\",Clients!B840)","v":""},{"$f":"IF(Clients!C840=\"\",\"\",Clients!C840)","v":""}]
[null,null,null,null,null,null,null,null,null,null,null,null,null,null,null,null,null,null,{"$f":"IF(Clients!B841=\"\",\"\",Clients!B841)","v":""},{"$f":"IF(Clients!C841=\"\",\"\",Clients!C841)","v":""}]
[null,null,null,null,null,null,null,null,null,null,null,null,null,null,null,null,null,null,{"$f":"IF(Clients!B842=\"\",\"\",Clients!B842)","v":""},{"$f":"IF(Clients!C842=\"\",\"\",Clients!C842)","v":""}]
[null,null,null,null,null,null,null,null,null,null,null,null,null,null,null,null,null,null,{"$f":"IF(Clients!B843=\"\",\"\",Clients!B843)","v":""},{"$f":"IF(Clients!C843=\"\",\"\",Clients!C843)","v":""}]
[null,null,null,null,null,null,null,null,null,null,null,null,null,null,null,null,null,null,{"$f":"IF(Clients!B844=\"\",\"\",Clients!B844)","v":""},{"$f":"IF(Clients!C844=\"\",\"\",Clients!C844)","v":""}]
[null,null,null,null,null,null,null,null,null,null,null,null,null,null,null,null,null,null,{"$f":"IF(Clients!B845=\"\",\"\",Clients!B845)","v":""},{"$f":"IF(Clients!C845=\"\",\"\",Clients!C845)","v":""}]
[null,null,null,null,null,null,null,null,null,null,null,null,null,null,null,null,null,null,{"$f":"IF(Clients!B846=\"\",\"\",Clients!B846)","v":""},{"$f":"IF(Clients!C846=\"\",\"\",Clients!C846)","v":""}]
[null,null,null,null,null,null,null,null,null,null,null,null,null,null,null,null,null,null,{"$f":"IF(Clients!B847=\"\",\"\",Clients!B847)","v":""},{"$f":"IF(Clients!C847=\"\",\"\",Clients!C847)","v":""}]
[null,null,null,null,null,null,null,null,null,null,null,null,null,null,null,null,null,null,{"$f":"IF(Clients!B848=\"\",\"\",Clients!B848)","v":""},{"$f":"IF(Clients!C848=\"\",\"\",Clients!C848)","v":""}]
[null,null,null,null,null,null,null,null,null,null,null,null,null,null,null,null,null,null,{"$f":"IF(Clients!B849=\"\",\"\",Clients!B849)","v":""},{"$f":"IF(Clients!C849=\"\",\"\",Clients!C849)","v":""}]
[null,null,null,null,null,null,null,null,null,null,null,null,null,null,null,null,null,null,{"$f":"IF(Clients!B850=\"\",\"\",Clients!B850)","v":""},{"$f":"IF(Clients!C850=\"\",\"\",Clients!C850)","v":""}]
[null,null,null,null,null,null,null,null,null,null,null,null,null,null,null,null,null,null,{"$f":"IF(Clients!B851=\"\",\"\",Clients!B851)","v":""},{"$f":"IF(Clients!C851=\"\",\"\",Clients!C851)","v":""}]
[null,null,null,null,null,null,null,null,null,null,null,null,null,null,null,null,null,null,{"$f":"IF(Clients!B852=\"\",\"\",Clients!B852)","v":""},{"$f":"IF(Clients!C852=\"\",\"\",Clients!C852)","v":""}]
[null,null,null,null,null,null,null,null,null,null,null,null,null,null,null,null,null,null,{"$f":"IF(Clients!B853=\"\",\"\",Clients!B853)","v":""},{"$f":"IF(Clients!C853=\"\",\"\",Clients!C853)","v":""}]
[null,null,null,null,null,null,null,null,null,null,null,null,null,null,null,null,null,null,{"$f":"IF(Clients!B854=\"\",\"\",Clients!B854)","v":""},{"$f":"IF(Clients!C854=\"\",\"\",Clients!C854)","v":""}]
[null,null,null,null,null,null,null,null,null,null,null,null,null,null,null,null,null,null,{"$f":"IF(Clients!B855=\"\",\"\",Clients!B855)","v":""},{"$f":"IF(Clients!C855=\"\",\"\",Clients!C855)","v":""}]
[null,null,null,null,null,null,null,null,null,null,null,null,null,null,null,null,null,null,{"$f":"IF(Clients!B856=\"\",\"\",Clients!B856)","v":""},{"$f":"IF(Clients!C856=\"\",\"\",Clients!C856)","v":""}]
[null,null,null,null,null,null,null,null,null,null,null,null,null,null,null,null,null,null,{"$f":"IF(Clients!B857=\"\",\"\",Clients!B857)","v":""},{"$f":"IF(Clients!C857=\"\",\"\",Clients!C857)","v":""}]
[null,null,null,null,null,null,null,null,null,null,null,null,null,null,null,null,null,null,{"$f":"IF(Clients!B858=\"\",\"\",Clients!B858)","v":""},{"$f":"IF(Clients!C858=\"\",\"\",Clients!C858)","v":""}]
[null,null,null,null,null,null,null,null,null,null,null,null,null,null,null,null,null,null,{"$f":"IF(Clients!B859=\"\",\"\",Clients!B859)","v":""},{"$f":"IF(Clients!C859=\"\",\"\",Clients!C859)","v":""}]
[null,null,null,null,null,null,null,null,null,null,null,null,null,null,null,null,null,null,{"$f":"IF(Clients!B860=\"\",\"\",Clients!B860)","v":""},{"$f":"IF(Clients!C860=\"\",\"\",Clients!C860)","v":""}]
[null,null,null,null,null,null,null,null,null,null,null,null,null,null,null,null,null,null,{"$f":"IF(Clients!B861=\"\",\"\",Clients!B861)","v":""},{"$f":"IF(Clients!C861=\"\",\"\",Clients!C861)","v":""}]
[null,null,null,null,null,null,null,null,null,null,null,null,null,null,null,null,null,null,{"$f":"IF(Clients!B862=\"\",\"\",Clients!B862)","v":""},{"$f":"IF(Clients!C862=\"\",\"\",Clients!C862)","v":""}]
[null,null,null,null,null,null,null,null,null,null,null,null,null,null,null,null,null,null,{"$f":"IF(Clients!B863=\"\",\"\",Clients!B863)","v":""},{"$f":"IF(Clients!C863=\"\",\"\",Clients!C863)","v":""}]
[null,null,null,null,null,null,null,null,null,null,null,null,null,null,null,null,null,null,{"$f":"IF(Clients!B864=\"\",\"\",Clients!B864)","v":""},{"$f":"IF(Clients!C864=\"\",\"\",Clients!C864)","v":""}]
[null,null,null,null,null,null,null,null,null,null,null,null,null,null,null,null,null,null,{"$f":"IF(Clients!B865=\"\",\"\",Clients!B865)","v":""},{"$f":"IF(Clients!C865=\"\",\"\",Clients!C865)","v":""}]
[null,null,null,null,null,null,null,null,null,null,null,null,null,null,null,null,null,null,{"$f":"IF(Clients!B866=\"\",\"\",Clients!B866)","v":""},{"$f":"IF(Clients!C866=\"\",\"\",Clients!C866)","v":""}]
[null,null,null,null,null,null,null,null,null,null,null,null,null,null,null,null,null,null,{"$f":"IF(Clients!B867=\"\",\"\",Clients!B867)","v":""},{"$f":"IF(Clients!C867=\"\",\"\",Clients!C867)","v":""}]
[null,null,null,null,null,null,null,null,null,null,null,null,null,null,null,null,null,null,{"$f":"IF(Clients!B868=\"\",\"\",Clients!B868)","v":""},{"$f":"IF(Clients!C868=\"\",\"\",Clients!C868)","v":""}]
[null,null,null,null,null,null,null,null,null,null,null,null,null,null,null,null,null,null,{"$f":"IF(Clients!B869=\"\",\"\",Clients!B869)","v":""},{"$f":"IF(Clients!C869=\"\",\"\",Clients!C869)","v":""}]
[null,null,null,null,null,null,null,null,null,null,null,null,null,null,null,null,null,null,{"$f":"IF(Clients!B870=\"\",\"\",Clients!B870)","v":""},{"$f":"IF(Clients!C870=\"\",\"\",Clients!C870)","v":""}]
[null,null,null,null,null,null,null,null,null,null,null,null,null,null,null,null,null,null,{"$f":"IF(Clients!B871=\"\",\"\",Clients!B871)","v":""},{"$f":"IF(Clients!C871=\"\",\"\",Clients!C871)","v":""}]
[null,null,null,null,null,null,null,null,null,null,null,null,null,null,null,null,null,null,{"$f":"IF(Clients!B872=\"\",\"\",Clients!B872)","v":""},{"$f":"IF(Clients!C872=\"\",\"\",Clients!C872)","v":""}]
[null,null,null,null,null,null,null,null,null,null,null,null,null,null,null,null,null,null,{"$f":"IF(Clients!B873=\"\",\"\",Clients!B873)","v":""},{"$f":"IF(Clients!C873=\"\",\"\",Clients!C873)","v":""}]
[null,null,null,null,null,null,null,null,null,null,null,null,null,null,null,null,null,null,{"$f":"IF(Clients!B874=\"\",\"\",Clients!B874)","v":""},{"$f":"IF(Clients!C874=\"\",\"\",Clients!C874)","v":""}]
[null,null,null,null,null,null,null,null,null,null,null,null,null,null,null,null,null,null,{"$f":"IF(Clients!B875=\"\",\"\",Clients!B875)","v":""},{"$f":"IF(Clients!C875=\"\",\"\",Clients!C875)","v":""}]
[null,null,null,null,null,null,null,null,null,null,null,null,null,null,null,null,null,null,{"$f":"IF(Clients!B876=\"\",\"\",Clients!B876)","v":""},{"$f":"IF(Clients!C876=\"\",\"\",Clients!C876)","v":""}]
[null,null,null,null,null,null,null,null,null,null,null,null,null,null,null,null,null,null,{"$f":"IF(Clients!B877=\"\",\"\",Clients!B877)","v":""},{"$f":"IF(Clients!C877=\"\",\"\",Clients!C877)","v":""}]
[null,null,null,null,null,null,null,null,null,null,null,null,null,null,null,null,null,null,{"$f":"IF(Clients!B878=\"\",\"\",Clients!B878)","v":""},{"$f":"IF(Clients!C878=\"\",\"\",Clients!C878)","v":""}]
[null,null,null,null,null,null,null,null,null,null,null,null,null,null,null,null,null,null,{"$f":"IF(Clients!B879=\"\",\"\",Clients!B879)","v":""},{"$f":"IF(Clients!C879=\"\",\"\",Clients!C879)","v":""}]
[null,null,null,null,null,null,null,null,null,null,null,null,null,null,null,null,null,null,{"$f":"IF(Clients!B880=\"\",\"\",Clients!B880)","v":""},{"$f":"IF(Clients!C880=\"\",\"\",Clients!C880)","v":""}]
[null,null,null,null,null,null,null,null,null,null,null,null,null,null,null,null,null,null,{"$f":"IF(Clients!B881=\"\",\"\",Clients!B881)","v":""},{"$f":"IF(Clients!C881=\"\",\"\",Clients!C881)","v":""}]
[null,null,null,null,null,null,null,null,null,null,null,null,null,null,null,null,null,null,{"$f":"IF(Clients!B882=\"\",\"\",Clients!B882)","v":""},{"$f":"IF(Clients!C882=\"\",\"\",Clients!C882)","v":""}]
[null,null,null,null,null,null,null,null,null,null,null,null,null,null,null,null,null,null,{"$f":"IF(Clients!B883=\"\",\"\",Clients!B883)","v":""},{"$f":"IF(Clients!C883=\"\",\"\",Clients!C883)","v":""}]
[null,null,null,null,null,null,null,null,null,null,null,null,null,null,null,null,null,null,{"$f":"IF(Clients!B884=\"\",\"\",Clients!B884)","v":""},{"$f":"IF(Clients!C884=\"\",\"\",Clients!C884)","v":""}]
[null,null,null,null,null,null,null,null,null,null,null,null,null,null,null,null,null,null,{"$f":"IF(Clients!B885=\"\",\"\",Clients!B885)","v":""},{"$f":"IF(Clients!C885=\"\",\"\",Clients!C885)","v":""}]
[null,null,null,null,null,null,null,null,null,null,null,null,null,null,null,null,null,null,{"$f":"IF(Clients!B886=\"\",\"\",Clients!B886)","v":""},{"$f":"IF(Clients!C886=\"\",\"\",Clients!C886)","v":""}]
[null,null,null,null,null,null,null,null,null,null,null,null,null,null,null,null,null,null,{"$f":"IF(Clients!B887=\"\",\"\",Clients!B887)","v":""},{"$f":"IF(Clients!C887=\"\",\"\",Clients!C887)","v":""}]
[null,null,null,null,null,null,null,null,null,null,null,null,null,null,null,null,null,null,{"$f":"IF(Clients!B888=\"\",\"\",Clients!B888)","v":""},{"$f":"IF(Clients!C888=\"\",\"\",Clients!C888)","v":""}]
[null,null,null,null,null,null,null,null,null,null,null,null,null,null,null,null,null,null,{"$f":"IF(Clients!B889=\"\",\"\",Clients!B889)","v":""},{"$f":"IF(Clients!C889=\"\",\"\",Clients!C889)","v":""}]
[null,null,null,null,null,null,null,null,null,null,null,null,null,null,null,null,null,null,{"$f":"IF(Clients!B890=\"\",\"\",Clients!B890)","v":""},{"$f":"IF(Clients!C890=\"\",\"\",Clients!C890)","v":""}]
[null,null,null,null,null,null,null,null,null,null,null,null,null,null,null,null,null,null,{"$f":"IF(Clients!B891=\"\",\"\",Clients!B891)","v":""},{"$f":"IF(Clients!C891=\"\",\"\",Clients!C891)","v":""}]
[null,null,null,null,null,null,null,null,null,null,null,null,null,null,null,null,null,null,{"$f":"IF(Clients!B892=\"\",\"\",Clients!B892)","v":""},{"$f":"IF(Clients!C892=\"\",\"\",Clients!C892)","v":""}]
[null,null,null,null,null,null,null,null,null,null,null,null,null,null,null,null,null,null,{"$f":"IF(Clients!B893=\"\",\"\",Clients!B893)","v":""},{"$f":"IF(Clients!C893=\"\",\"\",Clients!C893)","v":""}]
[null,null,null,null,null,null,null,null,null,null,null,null,null,null,null,null,null,null,{"$f":"IF(Clients!B894=\"\",\"\",Clients!B894)","v":""},{"$f":"IF(Clients!C894=\"\",\"\",Clients!C894)","v":""}]
[null,null,null,null,null,null,null,null,null,null,null,null,null,null,null,null,null,null,{"$f":"IF(Clients!B895=\"\",\"\",Clients!B895)","v":""},{"$f":"IF(Clients!C895=\"\",\"\",Clients!C895)","v":""}]
[null,null,null,null,null,null,null,null,null,null,null,null,null,null,null,null,null,null,{"$f":"IF(Clients!B896=\"\",\"\",Clients!B896)","v":""},{"$f":"IF(Clients!C896=\"\",\"\",Clients!C896)","v":""}]
[null,null,null,null,null,null,null,null,null,null,null,null,null,null,null,null,null,null,{"$f":"IF(Clients!B897=\"\",\"\",Clients!B897)","v":""},{"$f":"IF(Clients!C897=\"\",\"\",Clients!C897)","v":""}]
[null,null,null,null,null,null,null,null,null,null,null,null,null,null,null,null,null,null,{"$f":"IF(Clients!B898=\"\",\"\",Clients!B898)","v":""},{"$f":"IF(Clients!C898=\"\",\"\",Clients!C898)","v":""}]
[null,null,null,null,null,null,null,null,null,null,null,null,null,null,null,null,null,null,{"$f":"IF(Clients!B899=\"\",\"\",Clients!B899)","v":""},{"$f":"IF(Clients!C899=\"\",\"\",Clients!C899)","v":""}]
[null,null,null,null,null,null,null,null,null,null,null,null,null,null,null,null,null,null,{"$f":"IF(Clients!B900=\"\",\"\",Clients!B900)","v":""},{"$f":"IF(Clients!C900=\"\",\"\",Clients!C900)","v":""}]
[null,null,null,null,null,null,null,null,null,null,null,null,null,null,null,null,null,null,{"$f":"IF(Clients!B901=\"\",\"\",Clients!B901)","v":""},{"$f":"IF(Clients!C901=\"\",\"\",Clients!C901)","v":""}]
[null,null,null,null,null,null,null,null,null,null,null,null,null,null,null,null,null,null,{"$f":"IF(Clients!B902=\"\",\"\",Clients!B902)","v":""},{"$f":"IF(Clients!C902=\"\",\"\",Clients!C902)","v":""}]
[null,null,null,null,null,null,null,null,null,null,null,null,null,null,null,null,null,null,{"$f":"IF(Clients!B903=\"\",\"\",Clients!B903)","v":""},{"$f":"IF(Clients!C903=\"\",\"\",Clients!C903)","v":""}]
[null,null,null,null,null,null,null,null,null,null,null,null,null,null,null,null,null,null,{"$f":"IF(Clients!B904=\"\",\"\",Clients!B904)","v":""},{"$f":"IF(Clients!C904=\"\",\"\",Clients!C904)","v":""}]
[null,null,null,null,null,null,null,null,null,null,null,null,null,null,null,null,null,null,{"$f":"IF(Clients!B905=\"\",\"\",Clients!B905)","v":""},{"$f":"IF(Clients!C905=\"\",\"\",Clients!C905)","v":""}]
[null,null,null,null,null,null,null,null,null,null,null,null,null,null,null,null,null,null,{"$f":"IF(Clients!B906=\"\",\"\",Clients!B906)","v":""},{"$f":"IF(Clients!C906=\"\",\"\",Clients!C906)","v":""}]
[null,null,null,null,null,null,null,null,null,null,null,null,null,null,null,null,null,null,{"$f":"IF(Clients!B907=\"\",\"\",Clients!B907)","v":""},{"$f":"IF(Clients!C907=\"\",\"\",Clients!C907)","v":""}]
[null,null,null,null,null,null,null,null,null,null,null,null,null,null,null,null,null,null,{"$f":"IF(Clients!B908=\"\",\"\",Clients!B908)","v":""},{"$f":"IF(Clients!C908=\"\",\"\",Clients!C908)","v":""}]
[null,null,null,null,null,null,null,null,null,null,null,null,null,null,null,null,null,null,{"$f":"IF(Clients!B909=\"\",\"\",Clients!B909)","v":""},{"$f":"IF(Clients!C909=\"\",\"\",Clients!C909)","v":""}]
[null,null,null,null,null,null,null,null,null,null,null,null,null,null,null,null,null,null,{"$f":"IF(Clients!B910=\"\",\"\",Clients!B910)","v":""},{"$f":"IF(Clients!C910=\"\",\"\",Clients!C910)","v":""}]
[null,null,null,null,null,null,null,null,null,null,null,null,null,null,null,null,null,null,{"$f":"IF(Clients!B911=\"\",\"\",Clients!B911)","v":""},{"$f":"IF(Clients!C911=\"\",\"\",Clients!C911)","v":""}]
[null,null,null,null,null,null,null,null,null,null,null,null,null,null,null,null,null,null,{"$f":"IF(Clients!B912=\"\",\"\",Clients!B912)","v":""},{"$f":"IF(Clients!C912=\"\",\"\",Clients!C912)","v":""}]
[null,null,null,null,null,null,null,null,null,null,null,null,null,null,null,null,null,null,{"$f":"IF(Clients!B913=\"\",\"\",Clients!B913)","v":""},{"$f":"IF(Clients!C913=\"\",\"\",Clients!C913)","v":""}]
[null,null,null,null,null,null,null,null,null,null,null,null,null,null,null,null,null,null,{"$f":"IF(Clients!B914=\"\",\"\",Clients!B914)","v":""},{"$f":"IF(Clients!C914=\"\",\"\",Clients!C914)","v":""}]
[null,null,null,null,null,null,null,null,null,null,null,null,null,null,null,null,null,null,{"$f":"IF(Clients!B915=\"\",\"\",Clients!B915)","v":""},{"$f":"IF(Clients!C915=\"\",\"\",Clients!C915)","v":""}]
[null,null,null,null,null,null,null,null,null,null,null,null,null,null,null,null,null,null,{"$f":"IF(Clients!B916=\"\",\"\",Clients!B916)","v":""},{"$f":"IF(Clients!C916=\"\",\"\",Clients!C916)","v":""}]
[null,null,null,null,null,null,null,null,null,null,null,null,null,null,null,null,null,null,{"$f":"IF(Clients!B917=\"\",\"\",Clients!B917)","v":""},{"$f":"IF(Clients!C917=\"\",\"\",Clients!C917)","v":""}]
[null,null,null,null,null,null,null,null,null,null,null,null,null,null,null,null,null,null,{"$f":"IF(Clients!B918=\"\",\"\",Clients!B918)","v":""},{"$f":"IF(Clients!C918=\"\",\"\",Clients!C918)","v":""}]
[null,null,null,null,null,null,null,null,null,null,null,null,null,null,null,null,null,null,{"$f":"IF(Clients!B919=\"\",\"\",Clients!B919)","v":""},{"$f":"IF(Clients!C919=\"\",\"\",Clients!C919)","v":""}]
[null,null,null,null,null,null,null,null,null,null,null,null,null,null,null,null,null,null,{"$f":"IF(Clients!B920=\"\",\"\",Clients!B920)","v":""},{"$f":"IF(Clients!C920=\"\",\"\",Clients!C920)","v":""}]
[null,null,null,null,null,null,null,null,null,null,null,null,null,null,null,null,null,null,{"$f":"IF(Clients!B921=\"\",\"\",Clients!B921)","v":""},{"$f":"IF(Clients!C921=\"\",\"\",Clients!C921)","v":""}]
[null,null,null,null,null,null,null,null,null,null,null,null,null,null,null,null,null,null,{"$f":"IF(Clients!B922=\"\",\"\",Clients!B922)","v":""},{"$f":"IF(Clients!C922=\"\",\"\",Clients!C922)","v":""}]
[null,null,null,null,null,null,null,null,null,null,null,null,null,null,null,null,null,null,{"$f":"IF(Clients!B923=\"\",\"\",Clients!B923)","v":""},{"$f":"IF(Clients!C923=\"\",\"\",Clients!C923)","v":""}]
[null,null,null,null,null,null,null,null,null,null,null,null,null,null,null,null,null,null,{"$f":"IF(Clients!B924=\"\",\"\",Clients!B924)","v":""},{"$f":"IF(Clients!C924=\"\",\"\",Clients!C924)","v":""}]
[null,null,null,null,null,null,null,null,null,null,null,null,null,null,null,null,null,null,{"$f":"IF(Clients!B925=\"\",\"\",Clients!B925)","v":""},{"$f":"IF(Clients!C925=\"\",\"\",Clients!C925)","v":""}]
[null,null,null,null,null,null,null,null,null,null,null,null,null,null,null,null,null,null,{"$f":"IF(Clients!B926=\"\",\"\",Clients!B926)","v":""},{"$f":"IF(Clients!C926=\"\",\"\",Clients!C926)","v":""}]
[null,null,null,null,null,null,null,null,null,null,null,null,null,null,null,null,null,null,{"$f":"IF(Clients!B927=\"\",\"\",Clients!B927)","v":""},{"$f":"IF(Clients!C927=\"\",\"\",Clients!C927)","v":""}]
[null,null,null,null,null,null,null,null,null,null,null,null,null,null,null,null,null,null,{"$f":"IF(Clients!B928=\"\",\"\",Clients!B928)","v":""},{"$f":"IF(Clients!C928=\"\",\"\",Clients!C928)","v":""}]
[null,null,null,null,null,null,null,null,null,null,null,null,null,null,null,null,null,null,{"$f":"IF(Clients!B929=\"\",\"\",Clients!B929)","v":""},{"$f":"IF(Clients!C929=\"\",\"\",Clients!C929)","v":""}]
[null,null,null,null,null,null,null,null,null,null,null,null,null,null,null,null,null,null,{"$f":"IF(Clients!B930=\"\",\"\",Clients!B930)","v":""},{"$f":"IF(Clients!C930=\"\",\"\",Clients!C930)","v":""}]
[null,null,null,null,null,null,null,null,null,null,null,null,null,null,null,null,null,null,{"$f":"IF(Clients!B931=\"\",\"\",Clients!B931)","v":""},{"$f":"IF(Clients!C931=\"\",\"\",Clients!C931)","v":""}]
[null,null,null,null,null,null,null,null,null,null,null,null,null,null,null,null,null,null,{"$f":"IF(Clients!B932=\"\",\"\",Clients!B932)","v":""},{"$f":"IF(Clients!C932=\"\",\"\",Clients!C932)","v":""}]
[null,null,null,null,null,null,null,null,null,null,null,null,null,null,null,null,null,null,{"$f":"IF(Clients!B933=\"\",\"\",Clients!B933)","v":""},{"$f":"IF(Clients!C933=\"\",\"\",Clients!C933)","v":""}]
[null,null,null,null,null,null,null,null,null,null,null,null,null,null,null,null,null,null,{"$f":"IF(Clients!B934=\"\",\"\",Clients!B934)","v":""},{"$f":"IF(Clients!C934=\"\",\"\",Clients!C934)","v":""}]
[null,null,null,null,null,null,null,null,null,null,null,null,null,null,null,null,null,null,{"$f":"IF(Clients!B935=\"\",\"\",Clients!B935)","v":""},{"$f":"IF(Clients!C935=\"\",\"\",Clients!C935)","v":""}]
[null,null,null,null,null,null,null,null,null,null,null,null,null,null,null,null,null,null,{"$f":"IF(Clients!B936=\"\",\"\",Clients!B936)","v":""},{"$f":"IF(Clients!C936=\"\",\"\",Clients!C936)","v":""}]
[null,null,null,null,null,null,null,null,null,null,null,null,null,null,null,null,null,null,{"$f":"IF(Clients!B937=\"\",\"\",Clients!B937)","v":""},{"$f":"IF(Clients!C937=\"\",\"\",Clients!C937)","v":""}]
[null,null,null,null,null,null,null,null,null,null,null,null,null,null,null,null,null,null,{"$f":"IF(Clients!B938=\"\",\"\",Clients!B938)","v":""},{"$f":"IF(Clients!C938=\"\",\"\",Clients!C938)","v":""}]
[null,null,null,null,null,null,null,null,null,null,null,null,null,null,null,null,null,null,{"$f":"IF(Clients!B939=\"\",\"\",Clients!B939)","v":""},{"$f":"IF(Clients!C939=\"\",\"\",Clients!C939)","v":""}]
[null,null,null,null,null,null,null,null,null,null,null,null,null,null,null,null,null,null,{"$f":"IF(Clients!B940=\"\",\"\",Clients!B940)","v":""},{"$f":"IF(Clients!C940=\"\",\"\",Clients!C940)","v":""}]
[null,null,null,null,null,null,null,null,null,null,null,null,null,null,null,null,null,null,{"$f":"IF(Clients!B941=\"\",\"\",Clients!B941)","v":""},{"$f":"IF(Clients!C941=\"\",\"\",Clients!C941)","v":""}]
[null,null,null,null,null,null,null,null,null,null,null,null,null,null,null,null,null,null,{"$f":"IF(Clients!B942=\"\",\"\",Clients!B942)","v":""},{"$f":"IF(Clients!C942=\"\",\"\",Clients!C942)","v":""}]
[null,null,null,null,null,null,null,null,null,null,null,null,null,null,null,null,null,null,{"$f":"IF(Clients!B943=\"\",\"\",Clients!B943)","v":""},{"$f":"IF(Clients!C943=\"\",\"\",Clients!C943)","v":""}]
[null,null,null,null,null,null,null,null,null,null,null,null,null,null,null,null,null,null,{"$f":"IF(Clients!B944=\"\",\"\",Clients!B944)","v":""},{"$f":"IF(Clients!C944=\"\",\"\",Clients!C944)","v":""}]
[null,null,null,null,null,null,null,null,null,null,null,null,null,null,null,null,null,null,{"$f":"IF(Clients!B945=\"\",\"\",Clients!B945)","v":""},{"$f":"IF(Clients!C945=\"\",\"\",Clients!C945)","v":""}]
[null,null,null,null,null,null,null,null,null,null,null,null,null,null,null,null,null,null,{"$f":"IF(Clients!B946=\"\",\"\",Clients!B946)","v":""},{"$f":"IF(Clients!C946=\"\",\"\",Clients!C946)","v":""}]
[null,null,null,null,null,null,null,null,null,null,null,null,null,null,null,null,null,null,{"$f":"IF(Clients!B947=\"\",\"\",Clients!B947)","v":""},{"$f":"IF(Clients!C947=\"\",\"\",Clients!C947)","v":""}]
[null,null,null,null,null,null,null,null,null,null,null,null,null,null,null,null,null,null,{"$f":"IF(Clients!B948=\"\",\"\",Clients!B948)","v":""},{"$f":"IF(Clients!C948=\"\",\"\",Clients!C948)","v":""}]
[null,null,null,null,null,null,null,null,null,null,null,null,null,null,null,null,null,null,{"$f":"IF(Clients!B949=\"\",\"\",Clients!B949)","v":""},{"$f":"IF(Clients!C949=\"\",\"\",Clients!C949)","v":""}]
[null,null,null,null,null,null,null,null,null,null,null,null,null,null,null,null,null,null,{"$f":"IF(Clients!B950=\"\",\"\",Clients!B950)","v":""},{"$f":"IF(Clients!C950=\"\",\"\",Clients!C950)","v":""}]
[null,null,null,null,null,null,null,null,null,null,null,null,null,null,null,null,null,null,{"$f":"IF(Clients!B951=\"\",\"\",Clients!B951)","v":""},{"$f":"IF(Clients!C951=\"\",\"\",Clients!C951)","v":""}]
[null,null,null,null,null,null,null,null,null,null,null,null,null,null,null,null,null,null,{"$f":"IF(Clients!B952=\"\",\"\",Clients!B952)","v":""},{"$f":"IF(Clients!C952=\"\",\"\",Clients!C952)","v":""}]
[null,null,null,null,null,null,null,null,null,null,null,null,null,null,null,null,null,null,{"$f":"IF(Clients!B953=\"\",\"\",Clients!B953)","v":""},{"$f":"IF(Clients!C953=\"\",\"\",Clients!C953)","v":""}]
[null,null,null,null,null,null,null,null,null,null,null,null,null,null,null,null,null,null,{"$f":"IF(Clients!B954=\"\",\"\",Clients!B954)","v":""},{"$f":"IF(Clients!C954=\"\",\"\",Clients!C954)","v":""}]
[null,null,null,null,null,null,null,null,null,null,null,null,null,null,null,null,null,null,{"$f":"IF(Clients!B955=\"\",\"\",Clients!B955)","v":""},{"$f":"IF(Clients!C955=\"\",\"\",Clients!C955)","v":""}]
[null,null,null,null,null,null,null,null,null,null,null,null,null,null,null,null,null,null,{"$f":"IF(Clients!B956=\"\",\"\",Clients!B956)","v":""},{"$f":"IF(Clients!C956=\"\",\"\",Clients!C956)","v":""}]
[null,null,null,null,null,null,null,null,null,null,null,null,null,null,null,null,null,null,{"$f":"IF(Clients!B957=\"\",\"\",Clients!B957)","v":""},{"$f":"IF(Clients!C957=\"\",\"\",Clients!C957)","v":""}]
[null,null,null,null,null,null,null,null,null,null,null,null,null,null,null,null,null,null,{"$f":"IF(Clients!B958=\"\",\"\",Clients!B958)","v":""},{"$f":"IF(Clients!C958=\"\",\"\",Clients!C958)","v":""}]
[null,null,null,null,null,null,null,null,null,null,null,null,null,null,null,null,null,null,{"$f":"IF(Clients!B959=\"\",\"\",Clients!B959)","v":""},{"$f":"IF(Clients!C959=\"\",\"\",Clients!C959)","v":""}]
[null,null,null,null,null,null,null,null,null,null,null,null,null,null,null,null,null,null,{"$f":"IF(Clients!B960=\"\",\"\",Clients!B960)","v":""},{"$f":"IF(Clients!C960=\"\",\"\",Clients!C960)","v":""}]
[null,null,null,null,null,null,null,null,null,null,null,null,null,null,null,null,null,null,{"$f":"IF(Clients!B961=\"\",\"\",Clients!B961)","v":""},{"$f":"IF(Clients!C961=\"\",\"\",Clients!C961)","v":""}]
[null,null,null,null,null,null,null,null,null,null,null,null,null,null,null,null,null,null,{"$f":"IF(Clients!B962=\"\",\"\",Clients!B962)","v":""},{"$f":"IF(Clients!C962=\"\",\"\",Clients!C962)","v":""}]
[null,null,null,null,null,null,null,null,null,null,null,null,null,null,null,null,null,null,{"$f":"IF(Clients!B963=\"\",\"\",Clients!B963)","v":""},{"$f":"IF(Clients!C963=\"\",\"\",Clients!C963)","v":""}]
[null,null,null,null,null,null,null,null,null,null,null,null,null,null,null,null,null,null,{"$f":"IF(Clients!B964=\"\",\"\",Clients!B964)","v":""},{"$f":"IF(Clients!C964=\"\",\"\",Clients!C964)","v":""}]
[null,null,null,null,null,null,null,null,null,null,null,null,null,null,null,null,null,null,{"$f":"IF(Clients!B965=\"\",\"\",Clients!B965)","v":""},{"$f":"IF(Clients!C965=\"\",\"\",Clients!C965)","v":""}]
[null,null,null,null,null,null,null,null,null,null,null,null,null,null,null,null,null,null,{"$f":"IF(Clients!B966=\"\",\"\",Clients!B966)","v":""},{"$f":"IF(Clients!C966=\"\",\"\",Clients!C966)","v":""}]
[null,null,null,null,null,null,null,null,null,null,null,null,null,null,null,null,null,null,{"$f":"IF(Clients!B967=\"\",\"\",Clients!B967)","v":""},{"$f":"IF(Clients!C967=\"\",\"\",Clients!C967)","v":""}]
[null,null,null,null,null,null,null,null,null,null,null,null,null,null,null,null,null,null,{"$f":"IF(Clients!B968=\"\",\"\",Clients!B968)","v":""},{"$f":"IF(Clients!C968=\"\",\"\",Clients!C968)","v":""}]
[null,null,null,null,null,null,null,null,null,null,null,null,null,null,null,null,null,null,{"$f":"IF(Clients!B969=\"\",\"\",Clients!B969)","v":""},{"$f":"IF(Clients!C969=\"\",\"\",Clients!C969)","v":""}]
[null,null,null,null,null,null,null,null,null,null,null,null,null,null,null,null,null,null,{"$f":"IF(Clients!B970=\"\",\"\",Clients!B970)","v":""},{"$f":"IF(Clients!C970=\"\",\"\",Clients!C970)","v":""}]
[null,null,null,null,null,null,null,null,null,null,null,null,null,null,null,null,null,null,{"$f":"IF(Clients!B971=\"\",\"\",Clients!B971)","v":""},{"$f":"IF(Clients!C971=\"\",\"\",Clients!C971)","v":""}]
[null,null,null,null,null,null,null,null,null,null,null,null,null,null,null,null,null,null,{"$f":"IF(Clients!B972=\"\",\"\",Clients!B972)","v":""},{"$f":"IF(Clients!C972=\"\",\"\",Clients!C972)","v":""}]
[null,null,null,null,null,null,null,null,null,null,null,null,null,null,null,null,null,null,{"$f":"IF(Clients!B973=\"\",\"\",Clients!B973)","v":""},{"$f":"IF(Clients!C973=\"\",\"\",Clients!C973)","v":""}]
[null,null,null,null,null,null,null,null,null,null,null,null,null,null,null,null,null,null,{"$f":"IF(Clients!B974=\"\",\"\",Clients!B974)","v":""},{"$f":"IF(Clients!C974=\"\",\"\",Clients!C974)","v":""}]
[null,null,null,null,null,null,null,null,null,null,null,null,null,null,null,null,null,null,{"$f":"IF(Clients!B975=\"\",\"\",Clients!B975)","v":""},{"$f":"IF(Clients!C975=\"\",\"\",Clients!C975)","v":""}]
[null,null,null,null,null,null,null,null,null,null,null,null,null,null,null,null,null,null,{"$f":"IF(Clients!B976=\"\",\"\",Clients!B976)","v":""},{"$f":"IF(Clients!C976=\"\",\"\",Clients!C976)","v":""}]
[null,null,null,null,null,null,null,null,null,null,null,null,null,null,null,null,null,null,{"$f":"IF(Clients!B977=\"\",\"\",Clients!B977)","v":""},{"$f":"IF(Clients!C977=\"\",\"\",Clients!C977)","v":""}]
[null,null,null,null,null,null,null,null,null,null,null,null,null,null,null,null,null,null,{"$f":"IF(Clients!B978=\"\",\"\",Clients!B978)","v":""},{"$f":"IF(Clients!C978=\"\",\"\",Clients!C978)","v":""}]
[null,null,null,null,null,null,null,null,null,null,null,null,null,null,null,null,null,null,{"$f":"IF(Clients!B979=\"\",\"\",Clients!B979)","v":""},{"$f":"IF(Clients!C979=\"\",\"\",Clients!C979)","v":""}]
[null,null,null,null,null,null,null,null,null,null,null,null,null,null,null,null,null,null,{"$f":"IF(Clients!B980=\"\",\"\",Clients!B980)","v":""},{"$f":"IF(Clients!C980=\"\",\"\",Clients!C980)","v":""}]
[null,null,null,null,null,null,null,null,null,null,null,null,null,null,null,null,null,null,{"$f":"IF(Clients!B981=\"\",\"\",Clients!B981)","v":""},{"$f":"IF(Clients!C981=\"\",\"\",Clients!C981)","v":""}]
[null,null,null,null,null,null,null,null,null,null,null,null,null,null,null,null,null,null,{"$f":"IF(Clients!B982=\"\",\"\",Clients!B982)","v":""},{"$f":"IF(Clients!C982=\"\",\"\",Clients!C982)","v":""}]
[null,null,null,null,null,null,null,null,null,null,null,null,null,null,null,null,null,null,{"$f":"IF(Clients!B983=\"\",\"\",Clients!B983)","v":""},{"$f":"IF(Clients!C983=\"\",\"\",Clients!C983)","v":""}]
[null,null,null,null,null,null,null,null,null,null,null,null,null,null,null,null,null,null,{"$f":"IF(Clients!B984=\"\",\"\",Clients!B984)","v":""},{"$f":"IF(Clients!C984=\"\",\"\",Clients!C984)","v":""}]
[null,null,null,null,null,null,null,null,null,null,null,null,null,null,null,null,null,null,{"$f":"IF(Clients!B985=\"\",\"\",Clients!B985)","v":""},{"$f":"IF(Clients!C985=\"\",\"\",Clients!C985)","v":""}]
[null,null,null,null,null,null,null,null,null,null,null,null,null,null,null,null,null,null,{"$f":"IF(Clients!B986=\"\",\"\",Clients!B986)","v":""},{"$f":"IF(Clients!C986=\"\",\"\",Clients!C986)","v":""}]
[null,null,null,null,null,null,null,null,null,null,null,null,null,null,null,null,null,null,{"$f":"IF(Clients!B987=\"\",\"\",Clients!B987)","v":""},{"$f":"IF(Clients!C987=\"\",\"\",Clients!C987)","v":""}]
[null,null,null,null,null,null,null,null,null,null,null,null,null,null,null,null,null,null,{"$f":"IF(Clients!B988=\"\",\"\",Clients!B988)","v":""},{"$f":"IF(Clients!C988=\"\",\"\",Clients!C988)","v":""}]
[null,null,null,null,null,null,null,null,null,null,null,null,null,null,null,null,null,null,{"$f":"IF(Clients!B989=\"\",\"\",Clients!B989)","v":""},{"$f":"IF(Clients!C989=\"\",\"\",Clients!C989)","v":""}]
[null,null,null,null,null,null,null,null,null,null,null,null,null,null,null,null,null,null,{"$f":"IF(Clients!B990=\"\",\"\",Clients!B990)","v":""},{"$f":"IF(Clients!C990=\"\",\"\",Clients!C990)","v":""}]
[null,null,null,null,null,null,null,null,null,null,null,null,null,null,null,null,null,null,{"$f":"IF(Clients!B991=\"\",\"\",Clients!B991)","v":""},{"$f":"IF(Clients!C991=\"\",\"\",Clients!C991)","v":""}]
[null,null,null,null,null,null,null,null,null,null,null,null,null,null,null,null,null,null,{"$f":"IF(Clients!B992=\"\",\"\",Clients!B992)","v":""},{"$f":"IF(Clients!C992=\"\",\"\",Clients!C992)","v":""}]
[null,null,null,null,null,null,null,null,null,null,null,null,null,null,null,null,null,null,{"$f":"IF(Clients!B993=\"\",\"\",Clients!B993)","v":""},{"$f":"IF(Clients!C993=\"\",\"\",Clients!C993)","v":""}]
[null,null,null,null,null,null,null,null,null,null,null,null,null,null,null,null,null,null,{"$f":"IF(Clients!B994=\"\",\"\",Clients!B994)","v":""},{"$f":"IF(Clients!C994=\"\",\"\",Clients!C994)","v":""}]
[null,null,null,null,null,null,null,null,null,null,null,null,null,null,null,null,null,null,{"$f":"IF(Clients!B995=\"\",\"\",Clients!B995)","v":""},{"$f":"IF(Clients!C995=\"\",\"\",Clients!C995)","v":""}]
[null,null,null,null,null,null,null,null,null,null,null,null,null,null,null,null,null,null,{"$f":"IF(Clients!B996=\"\",\"\",Clients!B996)","v":""},{"$f":"IF(Clients!C996=\"\",\"\",Clients!C996)","v":""}]
[null,null,null,null,null,null,null,null,null,null,null,null,null,null,null,null,null,null,{"$f":"IF(Clients!B997=\"\",\"\",Clients!B997)","v":""},{"$f":"IF(Clients!C997=\"\",\"\",Clients!C997)","v":""}]
[null,null,null,null,null,null,null,null,null,null,null,null,null,null,null,null,null,null,{"$f":"IF(Clients!B998=\"\",\"\",Clients!B998)","v":""},{"$f":"IF(Clients!C998=\"\",\"\",Clients!C998)","v":""}]
[null,null,null,null,null,null,null,null,null,null,null,null,null,null,null,null,null,null,{"$f":"IF(Clients!B999=\"\",\"\",Clients!B999)","v":""},{"$f":"IF(Clients!C999=\"\",\"\",Clients!C999)","v":""}]
[null,null,null,null,null,null,null,null,null,null,null,null,null,null,null,null,null,null,{"$f":"IF(Clients!B1000=\"\",\"\",Clients!B1000)","v":""},{"$f":"IF(Clients!C1000=\"\",\"\",Clients!C1000)","v":""}]
[null,null,null,null,null,null,null,null,null,null,null,null,null,null,null,null,null,null,{"$f":"IF(Clients!B1001=\"\",\"\",Clients!B1001)","v":""},{"$f":"IF(Clients!C1001=\"\",\"\",Clients!C1001)","v":""}]
[null,null,null,null,null,null,null,null,null,null,null,null,null,null,null,null,null,null,{"$f":"IF(Clients!B1002=\"\",\"\",Clients!B1002)","v":""},{"$f":"IF(Clients!C1002=\"\",\"\",Clients!C1002)","v":""}]
[null,null,null,null,null,null,null,null,null,null,null,null,null,null,null,null,null,null,{"$f":"IF(Clients!B1003=\"\",\"\",Clients!B1003)","v":""},{"$f":"IF(Clients!C1003=\"\",\"\",Clients!C1003)","v":""}]
[null,null,null,null,null,null,null,null,null,null,null,null,null,null,null,null,null,null,{"$f":"IF(Clients!B1004=\"\",\"\",Clients!B1004)","v":""},{"$f":"IF(Clients!C1004=\"\",\"\",Clients!C1004)","v":""}]
[null,null,null,null,null,null,null,null,null,null,null,null,null,null,null,null,null,null,{"$f":"IF(Clients!B1005=\"\",\"\",Clients!B1005)","v":""},{"$f":"IF(Clients!C1005=\"\",\"\",Clients!C1005)","v":""}]
[null,null,null,null,null,null,null,null,null,null,null,null,null,null,null,null,null,null,{"$f":"IF(Clients!B1006=\"\",\"\",Clients!B1006)","v":""},{"$f":"IF(Clients!C1006=\"\",\"\",Clients!C1006)","v":""}]
[null,null,null,null,null,null,null,null,null,null,null,null,null,null,null,null,null,null,{"$f":"IF(Clients!B1007=\"\",\"\",Clients!B1007)","v":""},{"$f":"IF(Clients!C1007=\"\",\"\",Clients!C1007)","v":""}]
[null,null,null,null,null,null,null,null,null,null,null,null,null,null,null,null,null,null,{"$f":"IF(Clients!B1008=\"\",\"\",Clients!B1008)","v":""},{"$f":"IF(Clients!C1008=\"\",\"\",Clients!C1008)","v":""}]
[null,null,null,null,null,null,null,null,null,null,null,null,null,null,null,null,null,null,{"$f":"IF(Clients!B1009=\"\",\"\",Clients!B1009)","v":""},{"$f":"IF(Clients!C1009=\"\",\"\",Clients!C1009)","v":""}]
[null,null,null,null,null,null,null,null,null,null,null,null,null,null,null,null,null,null,{"$f":"IF(Clients!B1010=\"\",\"\",Clients!B1010)","v":""},{"$f":"IF(Clients!C1010=\"\",\"\",Clients!C1010)","v":""}]
[null,null,null,null,null,null,null,null,null,null,null,null,null,null,null,null,null,null,{"$f":"IF(Clients!B1011=\"\",\"\",Clients!B1011)","v":""},{"$f":"IF(Clients!C1011=\"\",\"\",Clients!C1011)","v":""}]
[null,null,null,null,null,null,null,null,null,null,null,null,null,null,null,null,null,null,{"$f":"IF(Clients!B1012=\"\",\"\",Clients!B1012)","v":""},{"$f":"IF(Clients!C1012=\"\",\"\",Clients!C1012)","v":""}]
[null,null,null,null,null,null,null,null,null,null,null,null,null,null,null,null,null,null,{"$f":"IF(Clients!B1013=\"\",\"\",Clients!B1013)","v":""},{"$f":"IF(Clients!C1013=\"\",\"\",Clients!C1013)","v":""}]
[null,null,null,null,null,null,null,null,null,null,null,null,null,null,null,null,null,null,{"$f":"IF(Clients!B1014=\"\",\"\",Clients!B1014)","v":""},{"$f":"IF(Clients!C1014=\"\",\"\",Clients!C1014)","v":""}]
[null,null,null,null,null,null,null,null,null,null,null,null,null,null,null,null,null,null,{"$f":"IF(Clients!B1015=\"\",\"\",Clients!B1015)","v":""},{"$f":"IF(Clients!C1015=\"\",\"\",Clients!C1015)","v":""}]
[null,null,null,null,null,null,null,null,null,null,null,null,null,null,null,null,null,null,{"$f":"IF(Clients!B1016=\"\",\"\",Clients!B1016)","v":""},{"$f":"IF(Clients!C1016=\"\",\"\",Clients!C1016)","v":""}]
[null,null,null,null,null,null,null,null,null,null,null,null,null,null,null,null,null,null,{"$f":"IF(Clients!B1017=\"\",\"\",Clients!B1017)","v":""},{"$f":"IF(Clients!C1017=\"\",\"\",Clients!C1017)","v":""}]
[null,null,null,null,null,null,null,null,null,null,null,null,null,null,null,null,null,null,{"$f":"IF(Clients!B1018=\"\",\"\",Clients!B1018)","v":""},{"$f":"IF(Clients!C1018=\"\",\"\",Clients!C1018)","v":""}]
[null,null,null,null,null,null,null,null,null,null,null,null,null,null,null,null,null,null,{"$f":"IF(Clients!B1019=\"\",\"\",Clients!B1019)","v":""},{"$f":"IF(Clients!C1019=\"\",\"\",Clients!C1019)","v":""}]
[null,null,null,null,null,null,null,null,null,null,null,null,null,null,null,null,null,null,{"$f":"IF(Clients!B1020=\"\",\"\",Clients!B1020)","v":""},{"$f":"IF(Clients!C1020=\"\",\"\",Clients!C1020)","v":""}]
[null,null,null,null,null,null,null,null,null,null,null,null,null,null,null,null,null,null,{"$f":"IF(Clients!B1021=\"\",\"\",Clients!B1021)","v":""},{"$f":"IF(Clients!C1021=\"\",\"\",Clients!C1021)","v":""}]
[null,null,null,null,null,null,null,null,null,null,null,null,null,null,null,null,null,null,{"$f":"IF(Clients!B1022=\"\",\"\",Clients!B1022)","v":""},{"$f":"IF(Clients!C1022=\"\",\"\",Clients!C1022)","v":""}]
[null,null,null,null,null,null,null,null,null,null,null,null,null,null,null,null,null,null,{"$f":"IF(Clients!B1023=\"\",\"\",Clients!B1023)","v":""},{"$f":"IF(Clients!C1023=\"\",\"\",Clients!C1023)","v":""}]
[null,null,null,null,null,null,null,null,null,null,null,null,null,null,null,null,null,null,{"$f":"IF(Clients!B1024=\"\",\"\",Clients!B1024)","v":""},{"$f":"IF(Clients!C1024=\"\",\"\",Clients!C1024)","v":""}]
[null,null,null,null,null,null,null,null,null,null,null,null,null,null,null,null,null,null,{"$f":"IF(Clients!B1025=\"\",\"\",Clients!B1025)","v":""},{"$f":"IF(Clients!C1025=\"\",\"\",Clients!C1025)","v":""}]
[null,null,null,null,null,null,null,null,null,null,null,null,null,null,null,null,null,null,{"$f":"IF(Clients!B1026=\"\",\"\",Clients!B1026)","v":""},{"$f":"IF(Clients!C1026=\"\",\"\",Clients!C1026)","v":""}]
[null,null,null,null,null,null,null,null,null,null,null,null,null,null,null,null,null,null,{"$f":"IF(Clients!B1027=\"\",\"\",Clients!B1027)","v":""},{"$f":"IF(Clients!C1027=\"\",\"\",Clients!C1027)","v":""}]
[null,null,null,null,null,null,null,null,null,null,null,null,null,null,null,null,null,null,{"$f":"IF(Clients!B1028=\"\",\"\",Clients!B1028)","v":""},{"$f":"IF(Clients!C1028=\"\",\"\",Clients!C1028)","v":""}]
[null,null,null,null,null,null,null,null,null,null,null,null,null,null,null,null,null,null,{"$f":"IF(Clients!B1029=\"\",\"\",Clients!B1029)","v":""},{"$f":"IF(Clients!C1029=\"\",\"\",Clients!C1029)","v":""}]
[null,null,null,null,null,null,null,null,null,null,null,null,null,null,null,null,null,null,{"$f":"IF(Clients!B1030=\"\",\"\",Clients!B1030)","v":""},{"$f":"IF(Clients!C1030=\"\",\"\",Clients!C1030)","v":""}]
[null,null,null,null,null,null,null,null,null,null,null,null,null,null,null,null,null,null,{"$f":"IF(Clients!B1031=\"\",\"\",Clients!B1031)","v":""},{"$f":"IF(Clients!C1031=\"\",\"\",Clients!C1031)","v":""}]
[null,null,null,null,null,null,null,null,null,null,null,null,null,null,null,null,null,null,{"$f":"IF(Clients!B1032=\"\",\"\",Clients!B1032)","v":""},{"$f":"IF(Clients!C1032=\"\",\"\",Clients!C1032)","v":""}]
[null,null,null,null,null,null,null,null,null,null,null,null,null,null,null,null,null,null,{"$f":"IF(Clients!B1033=\"\",\"\",Clients!B1033)","v":""},{"$f":"IF(Clients!C1033=\"\",\"\",Clients!C1033)","v":""}]
[null,null,null,null,null,null,null,null,null,null,null,null,null,null,null,null,null,null,{"$f":"IF(Clients!B1034=\"\",\"\",Clients!B1034)","v":""},{"$f":"IF(Clients!C1034=\"\",\"\",Clients!C1034)","v":""}]
[null,null,null,null,null,null,null,null,null,null,null,null,null,null,null,null,null,null,{"$f":"IF(Clients!B1035=\"\",\"\",Clients!B1035)","v":""},{"$f":"IF(Clients!C1035=\"\",\"\",Clients!C1035)","v":""}]
[null,null,null,null,null,null,null,null,null,null,null,null,null,null,null,null,null,null,{"$f":"IF(Clients!B1036=\"\",\"\",Clients!B1036)","v":""},{"$f":"IF(Clients!C1036=\"\",\"\",Clients!C1036)","v":""}]
[null,null,null,null,null,null,null,null,null,null,null,null,null,null,null,null,null,null,{"$f":"IF(Clients!B1037=\"\",\"\",Clients!B1037)","v":""},{"$f":"IF(Clients!C1037=\"\",\"\",Clients!C1037)","v":""}]
[null,null,null,null,null,null,null,null,null,null,null,null,null,null,null,null,null,null,{"$f":"IF(Clients!B1038=\"\",\"\",Clients!B1038)","v":""},{"$f":"IF(Clients!C1038=\"\",\"\",Clients!C1038)","v":""}]
[null,null,null,null,null,null,null,null,null,null,null,null,null,null,null,null,null,null,{"$f":"IF(Clients!B1039=\"\",\"\",Clients!B1039)","v":""},{"$f":"IF(Clients!C1039=\"\",\"\",Clients!C1039)","v":""}]
[null,null,null,null,null,null,null,null,null,null,null,null,null,null,null,null,null,null,{"$f":"IF(Clients!B1040=\"\",\"\",Clients!B1040)","v":""},{"$f":"IF(Clients!C1040=\"\",\"\",Clients!C1040)","v":""}]
[null,null,null,null,null,null,null,null,null,null,null,null,null,null,null,null,null,null,{"$f":"IF(Clients!B1041=\"\",\"\",Clients!B1041)","v":""},{"$f":"IF(Clients!C1041=\"\",\"\",Clients!C1041)","v":""}]
[null,null,null,null,null,null,null,null,null,null,null,null,null,null,null,null,null,null,{"$f":"IF(Clients!B1042=\"\",\"\",Clients!B1042)","v":""},{"$f":"IF(Clients!C1042=\"\",\"\",Clients!C1042)","v":""}]
[null,null,null,null,null,null,null,null,null,null,null,null,null,null,null,null,null,null,{"$f":"IF(Clients!B1043=\"\",\"\",Clients!B1043)","v":""},{"$f":"IF(Clients!C1043=\"\",\"\",Clients!C1043)","v":""}]
[null,null,null,null,null,null,null,null,null,null,null,null,null,null,null,null,null,null,{"$f":"IF(Clients!B1044=\"\",\"\",Clients!B1044)","v":""},{"$f":"IF(Clients!C1044=\"\",\"\",Clients!C1044)","v":""}]
[null,null,null,null,null,null,null,null,null,null,null,null,null,null,null,null,null,null,{"$f":"IF(Clients!B1045=\"\",\"\",Clients!B1045)","v":""},{"$f":"IF(Clients!C1045=\"\",\"\",Clients!C1045)","v":""}]
[null,null,null,null,null,null,null,null,null,null,null,null,null,null,null,null,null,null,{"$f":"IF(Clients!B1046=\"\",\"\",Clients!B1046)","v":""},{"$f":"IF(Clients!C1046=\"\",\"\",Clients!C1046)","v":""}]
[null,null,null,null,null,null,null,null,null,null,null,null,null,null,null,null,null,null,{"$f":"IF(Clients!B1047=\"\",\"\",Clients!B1047)","v":""},{"$f":"IF(Clients!C1047=\"\",\"\",Clients!C1047)","v":""}]
[null,null,null,null,null,null,null,null,null,null,null,null,null,null,null,null,null,null,{"$f":"IF(Clients!B1048=\"\",\"\",Clients!B1048)","v":""},{"$f":"IF(Clients!C1048=\"\",\"\",Clients!C1048)","v":""}]
[null,null,null,null,null,null,null,null,null,null,null,null,null,null,null,null,null,null,{"$f":"IF(Clients!B1049=\"\",\"\",Clients!B1049)","v":""},{"$f":"IF(Clients!C1049=\"\",\"\",Clients!C1049)","v":""}]
[null,null,null,null,null,null,null,null,null,null,null,null,null,null,null,null,null,null,{"$f":"IF(Clients!B1050=\"\",\"\",Clients!B1050)","v":""},{"$f":"IF(Clients!C1050=\"\",\"\",Clients!C1050)","v":""}]
[null,null,null,null,null,null,null,null,null,null,null,null,null,null,null,null,null,null,{"$f":"IF(Clients!B1051=\"\",\"\",Clients!B1051)","v":""},{"$f":"IF(Clients!C1051=\"\",\"\",Clients!C1051)","v":""}]
[null,null,null,null,null,null,null,null,null,null,null,null,null,null,null,null,null,null,{"$f":"IF(Clients!B1052=\"\",\"\",Clients!B1052)","v":""},{"$f":"IF(Clients!C1052=\"\",\"\",Clients!C1052)","v":""}]
[null,null,null,null,null,null,null,null,null,null,null,null,null,null,null,null,null,null,{"$f":"IF(Clients!B1053=\"\",\"\",Clients!B1053)","v":""},{"$f":"IF(Clients!C1053=\"\",\"\",Clients!C1053)","v":""}]
[null,null,null,null,null,null,null,null,null,null,null,null,null,null,null,null,null,null,{"$f":"IF(Clients!B1054=\"\",\"\",Clients!B1054)","v":""},{"$f":"IF(Clients!C1054=\"\",\"\",Clients!C1054)","v":""}]
[null,null,null,null,null,null,null,null,null,null,null,null,null,null,null,null,null,null,{"$f":"IF(Clients!B1055=\"\",\"\",Clients!B1055)","v":""},{"$f":"IF(Clients!C1055=\"\",\"\",Clients!C1055)","v":""}]
[null,null,null,null,null,null,null,null,null,null,null,null,null,null,null,null,null,null,{"$f":"IF(Clients!B1056=\"\",\"\",Clients!B1056)","v":""},{"$f":"IF(Clients!C1056=\"\",\"\",Clients!C1056)","v":""}]
[null,null,null,null,null,null,null,null,null,null,null,null,null,null,null,null,null,null,{"$f":"IF(Clients!B1057=\"\",\"\",Clients!B1057)","v":""},{"$f":"IF(Clients!C1057=\"\",\"\",Clients!C1057)","v":""}]
[null,null,null,null,null,null,null,null,null,null,null,null,null,null,null,null,null,null,{"$f":"IF(Clients!B1058=\"\",\"\",Clients!B1058)","v":""},{"$f":"IF(Clients!C1058=\"\",\"\",Clients!C1058)","v":""}]
[null,null,null,null,null,null,null,null,null,null,null,null,null,null,null,null,null,null,{"$f":"IF(Clients!B1059=\"\",\"\",Clients!B1059)","v":""},{"$f":"IF(Clients!C1059=\"\",\"\",Clients!C1059)","v":""}]
[null,null,null,null,null,null,null,null,null,null,null,null,null,null,null,null,null,null,{"$f":"IF(Clients!B1060=\"\",\"\",Clients!B1060)","v":""},{"$f":"IF(Clients!C1060=\"\",\"\",Clients!C1060)","v":""}]
[null,null,null,null,null,null,null,null,null,null,null,null,null,null,null,null,null,null,{"$f":"IF(Clients!B1061=\"\",\"\",Clients!B1061)","v":""},{"$f":"IF(Clients!C1061=\"\",\"\",Clients!C1061)","v":""}]
[null,null,null,null,null,null,null,null,null,null,null,null,null,null,null,null,null,null,{"$f":"IF(Clients!B1062=\"\",\"\",Clients!B1062)","v":""},{"$f":"IF(Clients!C1062=\"\",\"\",Clients!C1062)","v":""}]
[null,null,null,null,null,null,null,null,null,null,null,null,null,null,null,null,null,null,{"$f":"IF(Clients!B1063=\"\",\"\",Clients!B1063)","v":""},{"$f":"IF(Clients!C1063=\"\",\"\",Clients!C1063)","v":""}]
[null,null,null,null,null,null,null,null,null,null,null,null,null,null,null,null,null,null,{"$f":"IF(Clients!B1064=\"\",\"\",Clients!B1064)","v":""},{"$f":"IF(Clients!C1064=\"\",\"\",Clients!C1064)","v":""}]
[null,null,null,null,null,null,null,null,null,null,null,null,null,null,null,null,null,null,{"$f":"IF(Clients!B1065=\"\",\"\",Clients!B1065)","v":""},{"$f":"IF(Clients!C1065=\"\",\"\",Clients!C1065)","v":""}]
[null,null,null,null,null,null,null,null,null,null,null,null,null,null,null,null,null,null,{"$f":"IF(Clients!B1066=\"\",\"\",Clients!B1066)","v":""},{"$f":"IF(Clients!C1066=\"\",\"\",Clients!C1066)","v":""}]
[null,null,null,null,null,null,null,null,null,null,null,null,null,null,null,null,null,null,{"$f":"IF(Clients!B1067=\"\",\"\",Clients!B1067)","v":""},{"$f":"IF(Clients!C1067=\"\",\"\",Clients!C1067)","v":""}]
[null,null,null,null,null,null,null,null,null,null,null,null,null,null,null,null,null,null,{"$f":"IF(Clients!B1068=\"\",\"\",Clients!B1068)","v":""},{"$f":"IF(Clients!C1068=\"\",\"\",Clients!C1068)","v":""}]
[null,null,null,null,null,null,null,null,null,null,null,null,null,null,null,null,null,null,{"$f":"IF(Clients!B1069=\"\",\"\",Clients!B1069)","v":""},{"$f":"IF(Clients!C1069=\"\",\"\",Clients!C1069)","v":""}]
[null,null,null,null,null,null,null,null,null,null,null,null,null,null,null,null,null,null,{"$f":"IF(Clients!B1070=\"\",\"\",Clients!B1070)","v":""},{"$f":"IF(Clients!C1070=\"\",\"\",Clients!C1070)","v":""}]
[null,null,null,null,null,null,null,null,null,null,null,null,null,null,null,null,null,null,{"$f":"IF(Clients!B1071=\"\",\"\",Clients!B1071)","v":""},{"$f":"IF(Clients!C1071=\"\",\"\",Clients!C1071)","v":""}]
[null,null,null,null,null,null,null,null,null,null,null,null,null,null,null,null,null,null,{"$f":"IF(Clients!B1072=\"\",\"\",Clients!B1072)","v":""},{"$f":"IF(Clients!C1072=\"\",\"\",Clients!C1072)","v":""}]
[null,null,null,null,null,null,null,null,null,null,null,null,null,null,null,null,null,null,{"$f":"IF(Clients!B1073=\"\",\"\",Clients!B1073)","v":""},{"$f":"IF(Clients!C1073=\"\",\"\",Clients!C1073)","v":""}]
[null,null,null,null,null,null,null,null,null,null,null,null,null,null,null,null,null,null,{"$f":"IF(Clients!B1074=\"\",\"\",Clients!B1074)","v":""},{"$f":"IF(Clients!C1074=\"\",\"\",Clients!C1074)","v":""}]
[null,null,null,null,null,null,null,null,null,null,null,null,null,null,null,null,null,null,{"$f":"IF(Clients!B1075=\"\",\"\",Clients!B1075)","v":""},{"$f":"IF(Clients!C1075=\"\",\"\",Clients!C1075)","v":""}]
[null,null,null,null,null,null,null,null,null,null,null,null,null,null,null,null,null,null,{"$f":"IF(Clients!B1076=\"\",\"\",Clients!B1076)","v":""},{"$f":"IF(Clients!C1076=\"\",\"\",Clients!C1076)","v":""}]
[null,null,null,null,null,null,null,null,null,null,null,null,null,null,null,null,null,null,{"$f":"IF(Clients!B1077=\"\",\"\",Clients!B1077)","v":""},{"$f":"IF(Clients!C1077=\"\",\"\",Clients!C1077)","v":""}]
[null,null,null,null,null,null,null,null,null,null,null,null,null,null,null,null,null,null,{"$f":"IF(Clients!B1078=\"\",\"\",Clients!B1078)","v":""},{"$f":"IF(Clients!C1078=\"\",\"\",Clients!C1078)","v":""}]
[null,null,null,null,null,null,null,null,null,null,null,null,null,null,null,null,null,null,{"$f":"IF(Clients!B1079=\"\",\"\",Clients!B1079)","v":""},{"$f":"IF(Clients!C1079=\"\",\"\",Clients!C1079)","v":""}]
[null,null,null,null,null,null,null,null,null,null,null,null,null,null,null,null,null,null,{"$f":"IF(Clients!B1080=\"\",\"\",Clients!B1080)","v":""},{"$f":"IF(Clients!C1080=\"\",\"\",Clients!C1080)","v":""}]
[null,null,null,null,null,null,null,null,null,null,null,null,null,null,null,null,null,null,{"$f":"IF(Clients!B1081=\"\",\"\",Clients!B1081)","v":""},{"$f":"IF(Clients!C1081=\"\",\"\",Clients!C1081)","v":""}]
[null,null,null,null,null,null,null,null,null,null,null,null,null,null,null,null,null,null,{"$f":"IF(Clients!B1082=\"\",\"\",Clients!B1082)","v":""},{"$f":"IF(Clients!C1082=\"\",\"\",Clients!C1082)","v":""}]
[null,null,null,null,null,null,null,null,null,null,null,null,null,null,null,null,null,null,{"$f":"IF(Clients!B1083=\"\",\"\",Clients!B1083)","v":""},{"$f":"IF(Clients!C1083=\"\",\"\",Clients!C1083)","v":""}]
[null,null,null,null,null,null,null,null,null,null,null,null,null,null,null,null,null,null,{"$f":"IF(Clients!B1084=\"\",\"\",Clients!B1084)","v":""},{"$f":"IF(Clients!C1084=\"\",\"\",Clients!C1084)","v":""}]
[null,null,null,null,null,null,null,null,null,null,null,null,null,null,null,null,null,null,{"$f":"IF(Clients!B1085=\"\",\"\",Clients!B1085)","v":""},{"$f":"IF(Clients!C1085=\"\",\"\",Clients!C1085)","v":""}]
[null,null,null,null,null,null,null,null,null,null,null,null,null,null,null,null,null,null,{"$f":"IF(Clients!B1086=\"\",\"\",Clients!B1086)","v":""},{"$f":"IF(Clients!C1086=\"\",\"\",Clients!C1086)","v":""}]
[null,null,null,null,null,null,null,null,null,null,null,null,null,null,null,null,null,null,{"$f":"IF(Clients!B1087=\"\",\"\",Clients!B1087)","v":""},{"$f":"IF(Clients!C1087=\"\",\"\",Clients!C1087)","v":""}]
[null,null,null,null,null,null,null,null,null,null,null,null,null,null,null,null,null,null,{"$f":"IF(Clients!B1088=\"\",\"\",Clients!B1088)","v":""},{"$f":"IF(Clients!C1088=\"\",\"\",Clients!C1088)","v":""}]
[null,null,null,null,null,null,null,null,null,null,null,null,null,null,null,null,null,null,{"$f":"IF(Clients!B1089=\"\",\"\",Clients!B1089)","v":""},{"$f":"IF(Clients!C1089=\"\",\"\",Clients!C1089)","v":""}]
[null,null,null,null,null,null,null,null,null,null,null,null,null,null,null,null,null,null,{"$f":"IF(Clients!B1090=\"\",\"\",Clients!B1090)","v":""},{"$f":"IF(Clients!C1090=\"\",\"\",Clients!C1090)","v":""}]
[null,null,null,null,null,null,null,null,null,null,null,null,null,null,null,null,null,null,{"$f":"IF(Clients!B1091=\"\",\"\",Clients!B1091)","v":""},{"$f":"IF(Clients!C1091=\"\",\"\",Clients!C1091)","v":""}]
[null,null,null,null,null,null,null,null,null,null,null,null,null,null,null,null,null,null,{"$f":"IF(Clients!B1092=\"\",\"\",Clients!B1092)","v":""},{"$f":"IF(Clients!C1092=\"\",\"\",Clients!C1092)","v":""}]
[null,null,null,null,null,null,null,null,null,null,null,null,null,null,null,null,null,null,{"$f":"IF(Clients!B1093=\"\",\"\",Clients!B1093)","v":""},{"$f":"IF(Clients!C1093=\"\",\"\",Clients!C1093)","v":""}]
[null,null,null,null,null,null,null,null,null,null,null,null,null,null,null,null,null,null,{"$f":"IF(Clients!B1094=\"\",\"\",Clients!B1094)","v":""},{"$f":"IF(Clients!C1094=\"\",\"\",Clients!C1094)","v":""}]
[null,null,null,null,null,null,null,null,null,null,null,null,null,null,null,null,null,null,{"$f":"IF(Clients!B1095=\"\",\"\",Clients!B1095)","v":""},{"$f":"IF(Clients!C1095=\"\",\"\",Clients!C1095)","v":""}]
[null,null,null,null,null,null,null,null,null,null,null,null,null,null,null,null,null,null,{"$f":"IF(Clients!B1096=\"\",\"\",Clients!B1096)","v":""},{"$f":"IF(Clients!C1096=\"\",\"\",Clients!C1096)","v":""}]
[null,null,null,null,null,null,null,null,null,null,null,null,null,null,null,null,null,null,{"$f":"IF(Clients!B1097=\"\",\"\",Clients!B1097)","v":""},{"$f":"IF(Clients!C1097=\"\",\"\",Clients!C1097)","v":""}]
[null,null,null,null,null,null,null,null,null,null,null,null,null,null,null,null,null,null,{"$f":"IF(Clients!B1098=\"\",\"\",Clients!B1098)","v":""},{"$f":"IF(Clients!C1098=\"\",\"\",Clients!C1098)","v":""}]
[null,null,null,null,null,null,null,null,null,null,null,null,null,null,null,null,null,null,{"$f":"IF(Clients!B1099=\"\",\"\",Clients!B1099)","v":""},{"$f":"IF(Clients!C1099=\"\",\"\",Clients!C1099)","v":""}]
[null,null,null,null,null,null,null,null,null,null,null,null,null,null,null,null,null,null,{"$f":"IF(Clients!B1100=\"\",\"\",Clients!B1100)","v":""},{"$f":"IF(Clients!C1100=\"\",\"\",Clients!C1100)","v":""}]
[null,null,null,null,null,null,null,null,null,null,null,null,null,null,null,null,null,null,{"$f":"IF(Clients!B1101=\"\",\"\",Clients!B1101)","v":""},{"$f":"IF(Clients!C1101=\"\",\"\",Clients!C1101)","v":""}]
[null,null,null,null,null,null,null,null,null,null,null,null,null,null,null,null,null,null,{"$f":"IF(Clients!B1102=\"\",\"\",Clients!B1102)","v":""},{"$f":"IF(Clients!C1102=\"\",\"\",Clients!C1102)","v":""}]
[null,null,null,null,null,null,null,null,null,null,null,null,null,null,null,null,null,null,{"$f":"IF(Clients!B1103=\"\",\"\",Clients!B1103)","v":""},{"$f":"IF(Clients!C1103=\"\",\"\",Clients!C1103)","v":""}]
[null,null,null,null,null,null,null,null,null,null,null,null,null,null,null,null,null,null,{"$f":"IF(Clients!B1104=\"\",\"\",Clients!B1104)","v":""},{"$f":"IF(Clients!C1104=\"\",\"\",Clients!C1104)","v":""}]
[null,null,null,null,null,null,null,null,null,null,null,null,null,null,null,null,null,null,{"$f":"IF(Clients!B1105=\"\",\"\",Clients!B1105)","v":""},{"$f":"IF(Clients!C1105=\"\",\"\",Clients!C1105)","v":""}]
[null,null,null,null,null,null,null,null,null,null,null,null,null,null,null,null,null,null,{"$f":"IF(Clients!B1106=\"\",\"\",Clients!B1106)","v":""},{"$f":"IF(Clients!C1106=\"\",\"\",Clients!C1106)","v":""}]
[null,null,null,null,null,null,null,null,null,null,null,null,null,null,null,null,null,null,{"$f":"IF(Clients!B1107=\"\",\"\",Clients!B1107)","v":""},{"$f":"IF(Clients!C1107=\"\",\"\",Clients!C1107)","v":""}]
[null,null,null,null,null,null,null,null,null,null,null,null,null,null,null,null,null,null,{"$f":"IF(Clients!B1108=\"\",\"\",Clients!B1108)","v":""},{"$f":"IF(Clients!C1108=\"\",\"\",Clients!C1108)","v":""}]
[null,null,null,null,null,null,null,null,null,null,null,null,null,null,null,null,null,null,{"$f":"IF(Clients!B1109=\"\",\"\",Clients!B1109)","v":""},{"$f":"IF(Clients!C1109=\"\",\"\",Clients!C1109)","v":""}]
[null,null,null,null,null,null,null,null,null,null,null,null,null,null,null,null,null,null,{"$f":"IF(Clients!B1110=\"\",\"\",Clients!B1110)","v":""},{"$f":"IF(Clients!C1110=\"\",\"\",Clients!C1110)","v":""}]
[null,null,null,null,null,null,null,null,null,null,null,null,null,null,null,null,null,null,{"$f":"IF(Clients!B1111=\"\",\"\",Clients!B1111)","v":""},{"$f":"IF(Clients!C1111=\"\",\"\",Clients!C1111)","v":""}]
[null,null,null,null,null,null,null,null,null,null,null,null,null,null,null,null,null,null,{"$f":"IF(Clients!B1112=\"\",\"\",Clients!B1112)","v":""},{"$f":"IF(Clients!C1112=\"\",\"\",Clients!C1112)","v":""}]
[null,null,null,null,null,null,null,null,null,null,null,null,null,null,null,null,null,null,{"$f":"IF(Clients!B1113=\"\",\"\",Clients!B1113)","v":""},{"$f":"IF(Clients!C1113=\"\",\"\",Clients!C1113)","v":""}]
[null,null,null,null,null,null,null,null,null,null,null,null,null,null,null,null,null,null,{"$f":"IF(Clients!B1114=\"\",\"\",Clients!B1114)","v":""},{"$f":"IF(Clients!C1114=\"\",\"\",Clients!C1114)","v":""}]
[null,null,null,null,null,null,null,null,null,null,null,null,null,null,null,null,null,null,{"$f":"IF(Clients!B1115=\"\",\"\",Clients!B1115)","v":""},{"$f":"IF(Clients!C1115=\"\",\"\",Clients!C1115)","v":""}]
[null,null,null,null,null,null,null,null,null,null,null,null,null,null,null,null,null,null,{"$f":"IF(Clients!B1116=\"\",\"\",Clients!B1116)","v":""},{"$f":"IF(Clients!C1116=\"\",\"\",Clients!C1116)","v":""}]
[null,null,null,null,null,null,null,null,null,null,null,null,null,null,null,null,null,null,{"$f":"IF(Clients!B1117=\"\",\"\",Clients!B1117)","v":""},{"$f":"IF(Clients!C1117=\"\",\"\",Clients!C1117)","v":""}]
[null,null,null,null,null,null,null,null,null,null,null,null,null,null,null,null,null,null,{"$f":"IF(Clients!B1118=\"\",\"\",Clients!B1118)","v":""},{"$f":"IF(Clients!C1118=\"\",\"\",Clients!C1118)","v":""}]
[null,null,null,null,null,null,null,null,null,null,null,null,null,null,null,null,null,null,{"$f":"IF(Clients!B1119=\"\",\"\",Clients!B1119)","v":""},{"$f":"IF(Clients!C1119=\"\",\"\",Clients!C1119)","v":""}]
[null,null,null,null,null,null,null,null,null,null,null,null,null,null,null,null,null,null,{"$f":"IF(Clients!B1120=\"\",\"\",Clients!B1120)","v":""},{"$f":"IF(Clients!C1120=\"\",\"\",Clients!C1120)","v":""}]
[null,null,null,null,null,null,null,null,null,null,null,null,null,null,null,null,null,null,{"$f":"IF(Clients!B1121=\"\",\"\",Clients!B1121)","v":""},{"$f":"IF(Clients!C1121=\"\",\"\",Clients!C1121)","v":""}]
[null,null,null,null,null,null,null,null,null,null,null,null,null,null,null,null,null,null,{"$f":"IF(Clients!B1122=\"\",\"\",Clients!B1122)","v":""},{"$f":"IF(Clients!C1122=\"\",\"\",Clients!C1122)","v":""}]
[null,null,null,null,null,null,null,null,null,null,null,null,null,null,null,null,null,null,{"$f":"IF(Clients!B1123=\"\",\"\",Clients!B1123)","v":""},{"$f":"IF(Clients!C1123=\"\",\"\",Clients!C1123)","v":""}]
[null,null,null,null,null,null,null,null,null,null,null,null,null,null,null,null,null,null,{"$f":"IF(Clients!B1124=\"\",\"\",Clients!B1124)","v":""},{"$f":"IF(Clients!C1124=\"\",\"\",Clients!C1124)","v":""}]
[null,null,null,null,null,null,null,null,null,null,null,null,null,null,null,null,null,null,{"$f":"IF(Clients!B1125=\"\",\"\",Clients!B1125)","v":""},{"$f":"IF(Clients!C1125=\"\",\"\",Clients!C1125)","v":""}]
[null,null,null,null,null,null,null,null,null,null,null,null,null,null,null,null,null,null,{"$f":"IF(Clients!B1126=\"\",\"\",Clients!B1126)","v":""},{"$f":"IF(Clients!C1126=\"\",\"\",Clients!C1126)","v":""}]
[null,null,null,null,null,null,null,null,null,null,null,null,null,null,null,null,null,null,{"$f":"IF(Clients!B1127=\"\",\"\",Clients!B1127)","v":""},{"$f":"IF(Clients!C1127=\"\",\"\",Clients!C1127)","v":""}]
[null,null,null,null,null,null,null,null,null,null,null,null,null,null,null,null,null,null,{"$f":"IF(Clients!B1128=\"\",\"\",Clients!B1128)","v":""},{"$f":"IF(Clients!C1128=\"\",\"\",Clients!C1128)","v":""}]
[null,null,null,null,null,null,null,null,null,null,null,null,null,null,null,null,null,null,{"$f":"IF(Clients!B1129=\"\",\"\",Clients!B1129)","v":""},{"$f":"IF(Clients!C1129=\"\",\"\",Clients!C1129)","v":""}]
[null,null,null,null,null,null,null,null,null,null,null,null,null,null,null,null,null,null,{"$f":"IF(Clients!B1130=\"\",\"\",Clients!B1130)","v":""},{"$f":"IF(Clients!C1130=\"\",\"\",Clients!C1130)","v":""}]
[null,null,null,null,null,null,null,null,null,null,null,null,null,null,null,null,null,null,{"$f":"IF(Clients!B1131=\"\",\"\",Clients!B1131)","v":""},{"$f":"IF(Clients!C1131=\"\",\"\",Clients!C1131)","v":""}]
[null,null,null,null,null,null,null,null,null,null,null,null,null,null,null,null,null,null,{"$f":"IF(Clients!B1132=\"\",\"\",Clients!B1132)","v":""},{"$f":"IF(Clients!C1132=\"\",\"\",Clients!C1132)","v":""}]
[null,null,null,null,null,null,null,null,null,null,null,null,null,null,null,null,null,null,{"$f":"IF(Clients!B1133=\"\",\"\",Clients!B1133)","v":""},{"$f":"IF(Clients!C1133=\"\",\"\",Clients!C1133)","v":""}]
[null,null,null,null,null,null,null,null,null,null,null,null,null,null,null,null,null,null,{"$f":"IF(Clients!B1134=\"\",\"\",Clients!B1134)","v":""},{"$f":"IF(Clients!C1134=\"\",\"\",Clients!C1134)","v":""}]
[null,null,null,null,null,null,null,null,null,null,null,null,null,null,null,null,null,null,{"$f":"IF(Clients!B1135=\"\",\"\",Clients!B1135)","v":""},{"$f":"IF(Clients!C1135=\"\",\"\",Clients!C1135)","v":""}]
[null,null,null,null,null,null,null,null,null,null,null,null,null,null,null,null,null,null,{"$f":"IF(Clients!B1136=\"\",\"\",Clients!B1136)","v":""},{"$f":"IF(Clients!C1136=\"\",\"\",Clients!C1136)","v":""}]
[null,null,null,null,null,null,null,null,null,null,null,null,null,null,null,null,null,null,{"$f":"IF(Clients!B1137=\"\",\"\",Clients!B1137)","v":""},{"$f":"IF(Clients!C1137=\"\",\"\",Clients!C1137)","v":""}]
[null,null,null,null,null,null,null,null,null,null,null,null,null,null,null,null,null,null,{"$f":"IF(Clients!B1138=\"\",\"\",Clients!B1138)","v":""},{"$f":"IF(Clients!C1138=\"\",\"\",Clients!C1138)","v":""}]
[null,null,null,null,null,null,null,null,null,null,null,null,null,null,null,null,null,null,{"$f":"IF(Clients!B1139=\"\",\"\",Clients!B1139)","v":""},{"$f":"IF(Clients!C1139=\"\",\"\",Clients!C1139)","v":""}]
[null,null,null,null,null,null,null,null,null,null,null,null,null,null,null,null,null,null,{"$f":"IF(Clients!B1140=\"\",\"\",Clients!B1140)","v":""},{"$f":"IF(Clients!C1140=\"\",\"\",Clients!C1140)","v":""}]
[null,null,null,null,null,null,null,null,null,null,null,null,null,null,null,null,null,null,{"$f":"IF(Clients!B1141=\"\",\"\",Clients!B1141)","v":""},{"$f":"IF(Clients!C1141=\"\",\"\",Clients!C1141)","v":""}]
[null,null,null,null,null,null,null,null,null,null,null,null,null,null,null,null,null,null,{"$f":"IF(Clients!B1142=\"\",\"\",Clients!B1142)","v":""},{"$f":"IF(Clients!C1142=\"\",\"\",Clients!C1142)","v":""}]
[null,null,null,null,null,null,null,null,null,null,null,null,null,null,null,null,null,null,{"$f":"IF(Clients!B1143=\"\",\"\",Clients!B1143)","v":""},{"$f":"IF(Clients!C1143=\"\",\"\",Clients!C1143)","v":""}]
[null,null,null,null,null,null,null,null,null,null,null,null,null,null,null,null,null,null,{"$f":"IF(Clients!B1144=\"\",\"\",Clients!B1144)","v":""},{"$f":"IF(Clients!C1144=\"\",\"\",Clients!C1144)","v":""}]
[null,null,null,null,null,null,null,null,null,null,null,null,null,null,null,null,null,null,{"$f":"IF(Clients!B1145=\"\",\"\",Clients!B1145)","v":""},{"$f":"IF(Clients!C1145=\"\",\"\",Clients!C1145)","v":""}]
[null,null,null,null,null,null,null,null,null,null,null,null,null,null,null,null,null,null,{"$f":"IF(Clients!B1146=\"\",\"\",Clients!B1146)","v":""},{"$f":"IF(Clients!C1146=\"\",\"\",Clients!C1146)","v":""}]
[null,null,null,null,null,null,null,null,null,null,null,null,null,null,null,null,null,null,{"$f":"IF(Clients!B1147=\"\",\"\",Clients!B1147)","v":""},{"$f":"IF(Clients!C1147=\"\",\"\",Clients!C1147)","v":""}]
[null,null,null,null,null,null,null,null,null,null,null,null,null,null,null,null,null,null,{"$f":"IF(Clients!B1148=\"\",\"\",Clients!B1148)","v":""},{"$f":"IF(Clients!C1148=\"\",\"\",Clients!C1148)","v":""}]
[null,null,null,null,null,null,null,null,null,null,null,null,null,null,null,null,null,null,{"$f":"IF(Clients!B1149=\"\",\"\",Clients!B1149)","v":""},{"$f":"IF(Clients!C1149=\"\",\"\",Clients!C1149)","v":""}]
[null,null,null,null,null,null,null,null,null,null,null,null,null,null,null,null,null,null,{"$f":"IF(Clients!B1150=\"\",\"\",Clients!B1150)","v":""},{"$f":"IF(Clients!C1150=\"\",\"\",Clients!C1150)","v":""}]
[null,null,null,null,null,null,null,null,null,null,null,null,null,null,null,null,null,null,{"$f":"IF(Clients!B1151=\"\",\"\",Clients!B1151)","v":""},{"$f":"IF(Clients!C1151=\"\",\"\",Clients!C1151)","v":""}]
[null,null,null,null,null,null,null,null,null,null,null,null,null,null,null,null,null,null,{"$f":"IF(Clients!B1152=\"\",\"\",Clients!B1152)","v":""},{"$f":"IF(Clients!C1152=\"\",\"\",Clients!C1152)","v":""}]
[null,null,null,null,null,null,null,null,null,null,null,null,null,null,null,null,null,null,{"$f":"IF(Clients!B1153=\"\",\"\",Clients!B1153)","v":""},{"$f":"IF(Clients!C1153=\"\",\"\",Clients!C1153)","v":""}]
[null,null,null,null,null,null,null,null,null,null,null,null,null,null,null,null,null,null,{"$f":"IF(Clients!B1154=\"\",\"\",Clients!B1154)","v":""},{"$f":"IF(Clients!C1154=\"\",\"\",Clients!C1154)","v":""}]
[null,null,null,null,null,null,null,null,null,null,null,null,null,null,null,null,null,null,{"$f":"IF(Clients!B1155=\"\",\"\",Clients!B1155)","v":""},{"$f":"IF(Clients!C1155=\"\",\"\",Clients!C1155)","v":""}]
[null,null,null,null,null,null,null,null,null,null,null,null,null,null,null,null,null,null,{"$f":"IF(Clients!B1156=\"\",\"\",Clients!B1156)","v":""},{"$f":"IF(Clients!C1156=\"\",\"\",Clients!C1156)","v":""}]
[null,null,null,null,null,null,null,null,null,null,null,null,null,null,null,null,null,null,{"$f":"IF(Clients!B1157=\"\",\"\",Clients!B1157)","v":""},{"$f":"IF(Clients!C1157=\"\",\"\",Clients!C1157)","v":""}]
[null,null,null,null,null,null,null,null,null,null,null,null,null,null,null,null,null,null,{"$f":"IF(Clients!B1158=\"\",\"\",Clients!B1158)","v":""},{"$f":"IF(Clients!C1158=\"\",\"\",Clients!C1158)","v":""}]
[null,null,null,null,null,null,null,null,null,null,null,null,null,null,null,null,null,null,{"$f":"IF(Clients!B1159=\"\",\"\",Clients!B1159)","v":""},{"$f":"IF(Clients!C1159=\"\",\"\",Clients!C1159)","v":""}]
[null,null,null,null,null,null,null,null,null,null,null,null,null,null,null,null,null,null,{"$f":"IF(Clients!B1160=\"\",\"\",Clients!B1160)","v":""},{"$f":"IF(Clients!C1160=\"\",\"\",Clients!C1160)","v":""}]
[null,null,null,null,null,null,null,null,null,null,null,null,null,null,null,null,null,null,{"$f":"IF(Clients!B1161=\"\",\"\",Clients!B1161)","v":""},{"$f":"IF(Clients!C1161=\"\",\"\",Clients!C1161)","v":""}]
[null,null,null,null,null,null,null,null,null,null,null,null,null,null,null,null,null,null,{"$f":"IF(Clients!B1162=\"\",\"\",Clients!B1162)","v":""},{"$f":"IF(Clients!C1162=\"\",\"\",Clients!C1162)","v":""}]
[null,null,null,null,null,null,null,null,null,null,null,null,null,null,null,null,null,null,{"$f":"IF(Clients!B1163=\"\",\"\",Clients!B1163)","v":""},{"$f":"IF(Clients!C1163=\"\",\"\",Clients!C1163)","v":""}]
[null,null,null,null,null,null,null,null,null,null,null,null,null,null,null,null,null,null,{"$f":"IF(Clients!B1164=\"\",\"\",Clients!B1164)","v":""},{"$f":"IF(Clients!C1164=\"\",\"\",Clients!C1164)","v":""}]
[null,null,null,null,null,null,null,null,null,null,null,null,null,null,null,null,null,null,{"$f":"IF(Clients!B1165=\"\",\"\",Clients!B1165)","v":""},{"$f":"IF(Clients!C1165=\"\",\"\",Clients!C1165)","v":""}]
[null,null,null,null,null,null,null,null,null,null,null,null,null,null,null,null,null,null,{"$f":"IF(Clients!B1166=\"\",\"\",Clients!B1166)","v":""},{"$f":"IF(Clients!C1166=\"\",\"\",Clients!C1166)","v":""}]
[null,null,null,null,null,null,null,null,null,null,null,null,null,null,null,null,null,null,{"$f":"IF(Clients!B1167=\"\",\"\",Clients!B1167)","v":""},{"$f":"IF(Clients!C1167=\"\",\"\",Clients!C1167)","v":""}]
[null,null,null,null,null,null,null,null,null,null,null,null,null,null,null,null,null,null,{"$f":"IF(Clients!B1168=\"\",\"\",Clients!B1168)","v":""},{"$f":"IF(Clients!C1168=\"\",\"\",Clients!C1168)","v":""}]
[null,null,null,null,null,null,null,null,null,null,null,null,null,null,null,null,null,null,{"$f":"IF(Clients!B1169=\"\",\"\",Clients!B1169)","v":""},{"$f":"IF(Clients!C1169=\"\",\"\",Clients!C1169)","v":""}]
[null,null,null,null,null,null,null,null,null,null,null,null,null,null,null,null,null,null,{"$f":"IF(Clients!B1170=\"\",\"\",Clients!B1170)","v":""},{"$f":"IF(Clients!C1170=\"\",\"\",Clients!C1170)","v":""}]
[null,null,null,null,null,null,null,null,null,null,null,null,null,null,null,null,null,null,{"$f":"IF(Clients!B1171=\"\",\"\",Clients!B1171)","v":""},{"$f":"IF(Clients!C1171=\"\",\"\",Clients!C1171)","v":""}]
[null,null,null,null,null,null,null,null,null,null,null,null,null,null,null,null,null,null,{"$f":"IF(Clients!B1172=\"\",\"\",Clients!B1172)","v":""},{"$f":"IF(Clients!C1172=\"\",\"\",Clients!C1172)","v":""}]
[null,null,null,null,null,null,null,null,null,null,null,null,null,null,null,null,null,null,{"$f":"IF(Clients!B1173=\"\",\"\",Clients!B1173)","v":""},{"$f":"IF(Clients!C1173=\"\",\"\",Clients!C1173)","v":""}]
[null,null,null,null,null,null,null,null,null,null,null,null,null,null,null,null,null,null,{"$f":"IF(Clients!B1174=\"\",\"\",Clients!B1174)","v":""},{"$f":"IF(Clients!C1174=\"\",\"\",Clients!C1174)","v":""}]
[null,null,null,null,null,null,null,null,null,null,null,null,null,null,null,null,null,null,{"$f":"IF(Clients!B1175=\"\",\"\",Clients!B1175)","v":""},{"$f":"IF(Clients!C1175=\"\",\"\",Clients!C1175)","v":""}]
[null,null,null,null,null,null,null,null,null,null,null,null,null,null,null,null,null,null,{"$f":"IF(Clients!B1176=\"\",\"\",Clients!B1176)","v":""},{"$f":"IF(Clients!C1176=\"\",\"\",Clients!C1176)","v":""}]
[null,null,null,null,null,null,null,null,null,null,null,null,null,null,null,null,null,null,{"$f":"IF(Clients!B1177=\"\",\"\",Clients!B1177)","v":""},{"$f":"IF(Clients!C1177=\"\",\"\",Clients!C1177)","v":""}]
[null,null,null,null,null,null,null,null,null,null,null,null,null,null,null,null,null,null,{"$f":"IF(Clients!B1178=\"\",\"\",Clients!B1178)","v":""},{"$f":"IF(Clients!C1178=\"\",\"\",Clients!C1178)","v":""}]
[null,null,null,null,null,null,null,null,null,null,null,null,null,null,null,null,null,null,{"$f":"IF(Clients!B1179=\"\",\"\",Clients!B1179)","v":""},{"$f":"IF(Clients!C1179=\"\",\"\",Clients!C1179)","v":""}]
[null,null,null,null,null,null,null,null,null,null,null,null,null,null,null,null,null,null,{"$f":"IF(Clients!B1180=\"\",\"\",Clients!B1180)","v":""},{"$f":"IF(Clients!C1180=\"\",\"\",Clients!C1180)","v":""}]
[null,null,null,null,null,null,null,null,null,null,null,null,null,null,null,null,null,null,{"$f":"IF(Clients!B1181=\"\",\"\",Clients!B1181)","v":""},{"$f":"IF(Clients!C1181=\"\",\"\",Clients!C1181)","v":""}]
[null,null,null,null,null,null,null,null,null,null,null,null,null,null,null,null,null,null,{"$f":"IF(Clients!B1182=\"\",\"\",Clients!B1182)","v":""},{"$f":"IF(Clients!C1182=\"\",\"\",Clients!C1182)","v":""}]
[null,null,null,null,null,null,null,null,null,null,null,null,null,null,null,null,null,null,{"$f":"IF(Clients!B1183=\"\",\"\",Clients!B1183)","v":""},{"$f":"IF(Clients!C1183=\"\",\"\",Clients!C1183)","v":""}]
[null,null,null,null,null,null,null,null,null,null,null,null,null,null,null,null,null,null,{"$f":"IF(Clients!B1184=\"\",\"\",Clients!B1184)","v":""},{"$f":"IF(Clients!C1184=\"\",\"\",Clients!C1184)","v":""}]
[null,null,null,null,null,null,null,null,null,null,null,null,null,null,null,null,null,null,{"$f":"IF(Clients!B1185=\"\",\"\",Clients!B1185)","v":""},{"$f":"IF(Clients!C1185=\"\",\"\",Clients!C1185)","v":""}]
[null,null,null,null,null,null,null,null,null,null,null,null,null,null,null,null,null,null,{"$f":"IF(Clients!B1186=\"\",\"\",Clients!B1186)","v":""},{"$f":"IF(Clients!C1186=\"\",\"\",Clients!C1186)","v":""}]
[null,null,null,null,null,null,null,null,null,null,null,null,null,null,null,null,null,null,{"$f":"IF(Clients!B1187=\"\",\"\",Clients!B1187)","v":""},{"$f":"IF(Clients!C1187=\"\",\"\",Clients!C1187)","v":""}]
[null,null,null,null,null,null,null,null,null,null,null,null,null,null,null,null,null,null,{"$f":"IF(Clients!B1188=\"\",\"\",Clients!B1188)","v":""},{"$f":"IF(Clients!C1188=\"\",\"\",Clients!C1188)","v":""}]
[null,null,null,null,null,null,null,null,null,null,null,null,null,null,null,null,null,null,{"$f":"IF(Clients!B1189=\"\",\"\",Clients!B1189)","v":""},{"$f":"IF(Clients!C1189=\"\",\"\",Clients!C1189)","v":""}]
[null,null,null,null,null,null,null,null,null,null,null,null,null,null,null,null,null,null,{"$f":"IF(Clients!B1190=\"\",\"\",Clients!B1190)","v":""},{"$f":"IF(Clients!C1190=\"\",\"\",Clients!C1190)","v":""}]
[null,null,null,null,null,null,null,null,null,null,null,null,null,null,null,null,null,null,{"$f":"IF(Clients!B1191=\"\",\"\",Clients!B1191)","v":""},{"$f":"IF(Clients!C1191=\"\",\"\",Clients!C1191)","v":""}]
[null,null,null,null,null,null,null,null,null,null,null,null,null,null,null,null,null,null,{"$f":"IF(Clients!B1192=\"\",\"\",Clients!B1192)","v":""},{"$f":"IF(Clients!C1192=\"\",\"\",Clients!C1192)","v":""}]
[null,null,null,null,null,null,null,null,null,null,null,null,null,null,null,null,null,null,{"$f":"IF(Clients!B1193=\"\",\"\",Clients!B1193)","v":""},{"$f":"IF(Clients!C1193=\"\",\"\",Clients!C1193)","v":""}]
[null,null,null,null,null,null,null,null,null,null,null,null,null,null,null,null,null,null,{"$f":"IF(Clients!B1194=\"\",\"\",Clients!B1194)","v":""},{"$f":"IF(Clients!C1194=\"\",\"\",Clients!C1194)","v":""}]
[null,null,null,null,null,null,null,null,null,null,null,null,null,null,null,null,null,null,{"$f":"IF(Clients!B1195=\"\",\"\",Clients!B1195)","v":""},{"$f":"IF(Clients!C1195=\"\",\"\",Clients!C1195)","v":""}]
[null,null,null,null,null,null,null,null,null,null,null,null,null,null,null,null,null,null,{"$f":"IF(Clients!B1196=\"\",\"\",Clients!B1196)","v":""},{"$f":"IF(Clients!C1196=\"\",\"\",Clients!C1196)","v":""}]
[null,null,null,null,null,null,null,null,null,null,null,null,null,null,null,null,null,null,{"$f":"IF(Clients!B1197=\"\",\"\",Clients!B1197)","v":""},{"$f":"IF(Clients!C1197=\"\",\"\",Clients!C1197)","v":""}]
[null,null,null,null,null,null,null,null,null,null,null,null,null,null,null,null,null,null,{"$f":"IF(Clients!B1198=\"\",\"\",Clients!B1198)","v":""},{"$f":"IF(Clients!C1198=\"\",\"\",Clients!C1198)","v":""}]
[null,null,null,null,null,null,null,null,null,null,null,null,null,null,null,null,null,null,{"$f":"IF(Clients!B1199=\"\",\"\",Clients!B1199)","v":""},{"$f":"IF(Clients!C1199=\"\",\"\",Clients!C1199)","v":""}]
[null,null,null,null,null,null,null,null,null,null,null,null,null,null,null,null,null,null,{"$f":"IF(Clients!B1200=\"\",\"\",Clients!B1200)","v":""},{"$f":"IF(Clients!C1200=\"\",\"\",Clients!C1200)","v":""}]
[null,null,null,null,null,null,null,null,null,null,null,null,null,null,null,null,null,null,{"$f":"IF(Clients!B1201=\"\",\"\",Clients!B1201)","v":""},{"$f":"IF(Clients!C1201=\"\",\"\",Clients!C1201)","v":""}]
[null,null,null,null,null,null,null,null,null,null,null,null,null,null,null,null,null,null,{"$f":"IF(Clients!B1202=\"\",\"\",Clients!B1202)","v":""},{"$f":"IF(Clients!C1202=\"\",\"\",Clients!C1202)","v":""}]
[null,null,null,null,null,null,null,null,null,null,null,null,null,null,null,null,null,null,{"$f":"IF(Clients!B1203=\"\",\"\",Clients!B1203)","v":""},{"$f":"IF(Clients!C1203=\"\",\"\",Clients!C1203)","v":""}]
[null,null,null,null,null,null,null,null,null,null,null,null,null,null,null,null,null,null,{"$f":"IF(Clients!B1204=\"\",\"\",Clients!B1204)","v":""},{"$f":"IF(Clients!C1204=\"\",\"\",Clients!C1204)","v":""}]
[null,null,null,null,null,null,null,null,null,null,null,null,null,null,null,null,null,null,{"$f":"IF(Clients!B1205=\"\",\"\",Clients!B1205)","v":""},{"$f":"IF(Clients!C1205=\"\",\"\",Clients!C1205)","v":""}]
[null,null,null,null,null,null,null,null,null,null,null,null,null,null,null,null,null,null,{"$f":"IF(Clients!B1206=\"\",\"\",Clients!B1206)","v":""},{"$f":"IF(Clients!C1206=\"\",\"\",Clients!C1206)","v":""}]
[null,null,null,null,null,null,null,null,null,null,null,null,null,null,null,null,null,null,{"$f":"IF(Clients!B1207=\"\",\"\",Clients!B1207)","v":""},{"$f":"IF(Clients!C1207=\"\",\"\",Clients!C1207)","v":""}]
[null,null,null,null,null,null,null,null,null,null,null,null,null,null,null,null,null,null,{"$f":"IF(Clients!B1208=\"\",\"\",Clients!B1208)","v":""},{"$f":"IF(Clients!C1208=\"\",\"\",Clients!C1208)","v":""}]
[null,null,null,null,null,null,null,null,null,null,null,null,null,null,null,null,null,null,{"$f":"IF(Clients!B1209=\"\",\"\",Clients!B1209)","v":""},{"$f":"IF(Clients!C1209=\"\",\"\",Clients!C1209)","v":""}]
[null,null,null,null,null,null,null,null,null,null,null,null,null,null,null,null,null,null,{"$f":"IF(Clients!B1210=\"\",\"\",Clients!B1210)","v":""},{"$f":"IF(Clients!C1210=\"\",\"\",Clients!C1210)","v":""}]
[null,null,null,null,null,null,null,null,null,null,null,null,null,null,null,null,null,null,{"$f":"IF(Clients!B1211=\"\",\"\",Clients!B1211)","v":""},{"$f":"IF(Clients!C1211=\"\",\"\",Clients!C1211)","v":""}]
[null,null,null,null,null,null,null,null,null,null,null,null,null,null,null,null,null,null,{"$f":"IF(Clients!B1212=\"\",\"\",Clients!B1212)","v":""},{"$f":"IF(Clients!C1212=\"\",\"\",Clients!C1212)","v":""}]
[null,null,null,null,null,null,null,null,null,null,null,null,null,null,null,null,null,null,{"$f":"IF(Clients!B1213=\"\",\"\",Clients!B1213)","v":""},{"$f":"IF(Clients!C1213=\"\",\"\",Clients!C1213)","v":""}]
[null,null,null,null,null,null,null,null,null,null,null,null,null,null,null,null,null,null,{"$f":"IF(Clients!B1214=\"\",\"\",Clients!B1214)","v":""},{"$f":"IF(Clients!C1214=\"\",\"\",Clients!C1214)","v":""}]
[null,null,null,null,null,null,null,null,null,null,null,null,null,null,null,null,null,null,{"$f":"IF(Clients!B1215=\"\",\"\",Clients!B1215)","v":""},{"$f":"IF(Clients!C1215=\"\",\"\",Clients!C1215)","v":""}]
[null,null,null,null,null,null,null,null,null,null,null,null,null,null,null,null,null,null,{"$f":"IF(Clients!B1216=\"\",\"\",Clients!B1216)","v":""},{"$f":"IF(Clients!C1216=\"\",\"\",Clients!C1216)","v":""}]
[null,null,null,null,null,null,null,null,null,null,null,null,null,null,null,null,null,null,{"$f":"IF(Clients!B1217=\"\",\"\",Clients!B1217)","v":""},{"$f":"IF(Clients!C1217=\"\",\"\",Clients!C1217)","v":""}]
[null,null,null,null,null,null,null,null,null,null,null,null,null,null,null,null,null,null,{"$f":"IF(Clients!B1218=\"\",\"\",Clients!B1218)","v":""},{"$f":"IF(Clients!C1218=\"\",\"\",Clients!C1218)","v":""}]
[null,null,null,null,null,null,null,null,null,null,null,null,null,null,null,null,null,null,{"$f":"IF(Clients!B1219=\"\",\"\",Clients!B1219)","v":""},{"$f":"IF(Clients!C1219=\"\",\"\",Clients!C1219)","v":""}]
[null,null,null,null,null,null,null,null,null,null,null,null,null,null,null,null,null,null,{"$f":"IF(Clients!B1220=\"\",\"\",Clients!B1220)","v":""},{"$f":"IF(Clients!C1220=\"\",\"\",Clients!C1220)","v":""}]
[null,null,null,null,null,null,null,null,null,null,null,null,null,null,null,null,null,null,{"$f":"IF(Clients!B1221=\"\",\"\",Clients!B1221)","v":""},{"$f":"IF(Clients!C1221=\"\",\"\",Clients!C1221)","v":""}]
[null,null,null,null,null,null,null,null,null,null,null,null,null,null,null,null,null,null,{"$f":"IF(Clients!B1222=\"\",\"\",Clients!B1222)","v":""},{"$f":"IF(Clients!C1222=\"\",\"\",Clients!C1222)","v":""}]
[null,null,null,null,null,null,null,null,null,null,null,null,null,null,null,null,null,null,{"$f":"IF(Clients!B1223=\"\",\"\",Clients!B1223)","v":""},{"$f":"IF(Clients!C1223=\"\",\"\",Clients!C1223)","v":""}]
[null,null,null,null,null,null,null,null,null,null,null,null,null,null,null,null,null,null,{"$f":"IF(Clients!B1224=\"\",\"\",Clients!B1224)","v":""},{"$f":"IF(Clients!C1224=\"\",\"\",Clients!C1224)","v":""}]
[null,null,null,null,null,null,null,null,null,null,null,null,null,null,null,null,null,null,{"$f":"IF(Clients!B1225=\"\",\"\",Clients!B1225)","v":""},{"$f":"IF(Clients!C1225=\"\",\"\",Clients!C1225)","v":""}]
[null,null,null,null,null,null,null,null,null,null,null,null,null,null,null,null,null,null,{"$f":"IF(Clients!B1226=\"\",\"\",Clients!B1226)","v":""},{"$f":"IF(Clients!C1226=\"\",\"\",Clients!C1226)","v":""}]
[null,null,null,null,null,null,null,null,null,null,null,null,null,null,null,null,null,null,{"$f":"IF(Clients!B1227=\"\",\"\",Clients!B1227)","v":""},{"$f":"IF(Clients!C1227=\"\",\"\",Clients!C1227)","v":""}]
[null,null,null,null,null,null,null,null,null,null,null,null,null,null,null,null,null,null,{"$f":"IF(Clients!B1228=\"\",\"\",Clients!B1228)","v":""},{"$f":"IF(Clients!C1228=\"\",\"\",Clients!C1228)","v":""}]
[null,null,null,null,null,null,null,null,null,null,null,null,null,null,null,null,null,null,{"$f":"IF(Clients!B1229=\"\",\"\",Clients!B1229)","v":""},{"$f":"IF(Clients!C1229=\"\",\"\",Clients!C1229)","v":""}]
[null,null,null,null,null,null,null,null,null,null,null,null,null,null,null,null,null,null,{"$f":"IF(Clients!B1230=\"\",\"\",Clients!B1230)","v":""},{"$f":"IF(Clients!C1230=\"\",\"\",Clients!C1230)","v":""}]
[null,null,null,null,null,null,null,null,null,null,null,null,null,null,null,null,null,null,{"$f":"IF(Clients!B1231=\"\",\"\",Clients!B1231)","v":""},{"$f":"IF(Clients!C1231=\"\",\"\",Clients!C1231)","v":""}]
[null,null,null,null,null,null,null,null,null,null,null,null,null,null,null,null,null,null,{"$f":"IF(Clients!B1232=\"\",\"\",Clients!B1232)","v":""},{"$f":"IF(Clients!C1232=\"\",\"\",Clients!C1232)","v":""}]
[null,null,null,null,null,null,null,null,null,null,null,null,null,null,null,null,null,null,{"$f":"IF(Clients!B1233=\"\",\"\",Clients!B1233)","v":""},{"$f":"IF(Clients!C1233=\"\",\"\",Clients!C1233)","v":""}]
[null,null,null,null,null,null,null,null,null,null,null,null,null,null,null,null,null,null,{"$f":"IF(Clients!B1234=\"\",\"\",Clients!B1234)","v":""},{"$f":"IF(Clients!C1234=\"\",\"\",Clients!C1234)","v":""}]
[null,null,null,null,null,null,null,null,null,null,null,null,null,null,null,null,null,null,{"$f":"IF(Clients!B1235=\"\",\"\",Clients!B1235)","v":""},{"$f":"IF(Clients!C1235=\"\",\"\",Clients!C1235)","v":""}]
[null,null,null,null,null,null,null,null,null,null,null,null,null,null,null,null,null,null,{"$f":"IF(Clients!B1236=\"\",\"\",Clients!B1236)","v":""},{"$f":"IF(Clients!C1236=\"\",\"\",Clients!C1236)","v":""}]
[null,null,null,null,null,null,null,null,null,null,null,null,null,null,null,null,null,null,{"$f":"IF(Clients!B1237=\"\",\"\",Clients!B1237)","v":""},{"$f":"IF(Clients!C1237=\"\",\"\",Clients!C1237)","v":""}]
[null,null,null,null,null,null,null,null,null,null,null,null,null,null,null,null,null,null,{"$f":"IF(Clients!B1238=\"\",\"\",Clients!B1238)","v":""},{"$f":"IF(Clients!C1238=\"\",\"\",Clients!C1238)","v":""}]
[null,null,null,null,null,null,null,null,null,null,null,null,null,null,null,null,null,null,{"$f":"IF(Clients!B1239=\"\",\"\",Clients!B1239)","v":""},{"$f":"IF(Clients!C1239=\"\",\"\",Clients!C1239)","v":""}]
[null,null,null,null,null,null,null,null,null,null,null,null,null,null,null,null,null,null,{"$f":"IF(Clients!B1240=\"\",\"\",Clients!B1240)","v":""},{"$f":"IF(Clients!C1240=\"\",\"\",Clients!C1240)","v":""}]
[null,null,null,null,null,null,null,null,null,null,null,null,null,null,null,null,null,null,{"$f":"IF(Clients!B1241=\"\",\"\",Clients!B1241)","v":""},{"$f":"IF(Clients!C1241=\"\",\"\",Clients!C1241)","v":""}]
[null,null,null,null,null,null,null,null,null,null,null,null,null,null,null,null,null,null,{"$f":"IF(Clients!B1242=\"\",\"\",Clients!B1242)","v":""},{"$f":"IF(Clients!C1242=\"\",\"\",Clients!C1242)","v":""}]
[null,null,null,null,null,null,null,null,null,null,null,null,null,null,null,null,null,null,{"$f":"IF(Clients!B1243=\"\",\"\",Clients!B1243)","v":""},{"$f":"IF(Clients!C1243=\"\",\"\",Clients!C1243)","v":""}]
[null,null,null,null,null,null,null,null,null,null,null,null,null,null,null,null,null,null,{"$f":"IF(Clients!B1244=\"\",\"\",Clients!B1244)","v":""},{"$f":"IF(Clients!C1244=\"\",\"\",Clients!C1244)","v":""}]
[null,null,null,null,null,null,null,null,null,null,null,null,null,null,null,null,null,null,{"$f":"IF(Clients!B1245=\"\",\"\",Clients!B1245)","v":""},{"$f":"IF(Clients!C1245=\"\",\"\",Clients!C1245)","v":""}]
[null,null,null,null,null,null,null,null,null,null,null,null,null,null,null,null,null,null,{"$f":"IF(Clients!B1246=\"\",\"\",Clients!B1246)","v":""},{"$f":"IF(Clients!C1246=\"\",\"\",Clients!C1246)","v":""}]
[null,null,null,null,null,null,null,null,null,null,null,null,null,null,null,null,null,null,{"$f":"IF(Clients!B1247=\"\",\"\",Clients!B1247)","v":""},{"$f":"IF(Clients!C1247=\"\",\"\",Clients!C1247)","v":""}]
[null,null,null,null,null,null,null,null,null,null,null,null,null,null,null,null,null,null,{"$f":"IF(Clients!B1248=\"\",\"\",Clients!B1248)","v":""},{"$f":"IF(Clients!C1248=\"\",\"\",Clients!C1248)","v":""}]
[null,null,null,null,null,null,null,null,null,null,null,null,null,null,null,null,null,null,{"$f":"IF(Clients!B1249=\"\",\"\",Clients!B1249)","v":""},{"$f":"IF(Clients!C1249=\"\",\"\",Clients!C1249)","v":""}]
[null,null,null,null,null,null,null,null,null,null,null,null,null,null,null,null,null,null,{"$f":"IF(Clients!B1250=\"\",\"\",Clients!B1250)","v":""},{"$f":"IF(Clients!C1250=\"\",\"\",Clients!C1250)","v":""}]
[null,null,null,null,null,null,null,null,null,null,null,null,null,null,null,null,null,null,{"$f":"IF(Clients!B1251=\"\",\"\",Clients!B1251)","v":""},{"$f":"IF(Clients!C1251=\"\",\"\",Clients!C1251)","v":""}]
[null,null,null,null,null,null,null,null,null,null,null,null,null,null,null,null,null,null,{"$f":"IF(Clients!B1252=\"\",\"\",Clients!B1252)","v":""},{"$f":"IF(Clients!C1252=\"\",\"\",Clients!C1252)","v":""}]
[null,null,null,null,null,null,null,null,null,null,null,null,null,null,null,null,null,null,{"$f":"IF(Clients!B1253=\"\",\"\",Clients!B1253)","v":""},{"$f":"IF(Clients!C1253=\"\",\"\",Clients!C1253)","v":""}]
[null,null,null,null,null,null,null,null,null,null,null,null,null,null,null,null,null,null,{"$f":"IF(Clients!B1254=\"\",\"\",Clients!B1254)","v":""},{"$f":"IF(Clients!C1254=\"\",\"\",Clients!C1254)","v":""}]
[null,null,null,null,null,null,null,null,null,null,null,null,null,null,null,null,null,null,{"$f":"IF(Clients!B1255=\"\",\"\",Clients!B1255)","v":""},{"$f":"IF(Clients!C1255=\"\",\"\",Clients!C1255)","v":""}]
[null,null,null,null,null,null,null,null,null,null,null,null,null,null,null,null,null,null,{"$f":"IF(Clients!B1256=\"\",\"\",Clients!B1256)","v":""},{"$f":"IF(Clients!C1256=\"\",\"\",Clients!C1256)","v":""}]
[null,null,null,null,null,null,null,null,null,null,null,null,null,null,null,null,null,null,{"$f":"IF(Clients!B1257=\"\",\"\",Clients!B1257)","v":""},{"$f":"IF(Clients!C1257=\"\",\"\",Clients!C1257)","v":""}]
[null,null,null,null,null,null,null,null,null,null,null,null,null,null,null,null,null,null,{"$f":"IF(Clients!B1258=\"\",\"\",Clients!B1258)","v":""},{"$f":"IF(Clients!C1258=\"\",\"\",Clients!C1258)","v":""}]
[null,null,null,null,null,null,null,null,null,null,null,null,null,null,null,null,null,null,{"$f":"IF(Clients!B1259=\"\",\"\",Clients!B1259)","v":""},{"$f":"IF(Clients!C1259=\"\",\"\",Clients!C1259)","v":""}]
[null,null,null,null,null,null,null,null,null,null,null,null,null,null,null,null,null,null,{"$f":"IF(Clients!B1260=\"\",\"\",Clients!B1260)","v":""},{"$f":"IF(Clients!C1260=\"\",\"\",Clients!C1260)","v":""}]
[null,null,null,null,null,null,null,null,null,null,null,null,null,null,null,null,null,null,{"$f":"IF(Clients!B1261=\"\",\"\",Clients!B1261)","v":""},{"$f":"IF(Clients!C1261=\"\",\"\",Clients!C1261)","v":""}]
[null,null,null,null,null,null,null,null,null,null,null,null,null,null,null,null,null,null,{"$f":"IF(Clients!B1262=\"\",\"\",Clients!B1262)","v":""},{"$f":"IF(Clients!C1262=\"\",\"\",Clients!C1262)","v":""}]
[null,null,null,null,null,null,null,null,null,null,null,null,null,null,null,null,null,null,{"$f":"IF(Clients!B1263=\"\",\"\",Clients!B1263)","v":""},{"$f":"IF(Clients!C1263=\"\",\"\",Clients!C1263)","v":""}]
[null,null,null,null,null,null,null,null,null,null,null,null,null,null,null,null,null,null,{"$f":"IF(Clients!B1264=\"\",\"\",Clients!B1264)","v":""},{"$f":"IF(Clients!C1264=\"\",\"\",Clients!C1264)","v":""}]
[null,null,null,null,null,null,null,null,null,null,null,null,null,null,null,null,null,null,{"$f":"IF(Clients!B1265=\"\",\"\",Clients!B1265)","v":""},{"$f":"IF(Clients!C1265=\"\",\"\",Clients!C1265)","v":""}]
[null,null,null,null,null,null,null,null,null,null,null,null,null,null,null,null,null,null,{"$f":"IF(Clients!B1266=\"\",\"\",Clients!B1266)","v":""},{"$f":"IF(Clients!C1266=\"\",\"\",Clients!C1266)","v":""}]
[null,null,null,null,null,null,null,null,null,null,null,null,null,null,null,null,null,null,{"$f":"IF(Clients!B1267=\"\",\"\",Clients!B1267)","v":""},{"$f":"IF(Clients!C1267=\"\",\"\",Clients!C1267)","v":""}]
[null,null,null,null,null,null,null,null,null,null,null,null,null,null,null,null,null,null,{"$f":"IF(Clients!B1268=\"\",\"\",Clients!B1268)","v":""},{"$f":"IF(Clients!C1268=\"\",\"\",Clients!C1268)","v":""}]
[null,null,null,null,null,null,null,null,null,null,null,null,null,null,null,null,null,null,{"$f":"IF(Clients!B1269=\"\",\"\",Clients!B1269)","v":""},{"$f":"IF(Clients!C1269=\"\",\"\",Clients!C1269)","v":""}]
[null,null,null,null,null,null,null,null,null,null,null,null,null,null,null,null,null,null,{"$f":"IF(Clients!B1270=\"\",\"\",Clients!B1270)","v":""},{"$f":"IF(Clients!C1270=\"\",\"\",Clients!C1270)","v":""}]
[null,null,null,null,null,null,null,null,null,null,null,null,null,null,null,null,null,null,{"$f":"IF(Clients!B1271=\"\",\"\",Clients!B1271)","v":""},{"$f":"IF(Clients!C1271=\"\",\"\",Clients!C1271)","v":""}]
[null,null,null,null,null,null,null,null,null,null,null,null,null,null,null,null,null,null,{"$f":"IF(Clients!B1272=\"\",\"\",Clients!B1272)","v":""},{"$f":"IF(Clients!C1272=\"\",\"\",Clients!C1272)","v":""}]
[null,null,null,null,null,null,null,null,null,null,null,null,null,null,null,null,null,null,{"$f":"IF(Clients!B1273=\"\",\"\",Clients!B1273)","v":""},{"$f":"IF(Clients!C1273=\"\",\"\",Clients!C1273)","v":""}]
[null,null,null,null,null,null,null,null,null,null,null,null,null,null,null,null,null,null,{"$f":"IF(Clients!B1274=\"\",\"\",Clients!B1274)","v":""},{"$f":"IF(Clients!C1274=\"\",\"\",Clients!C1274)","v":""}]
[null,null,null,null,null,null,null,null,null,null,null,null,null,null,null,null,null,null,{"$f":"IF(Clients!B1275=\"\",\"\",Clients!B1275)","v":""},{"$f":"IF(Clients!C1275=\"\",\"\",Clients!C1275)","v":""}]
[null,null,null,null,null,null,null,null,null,null,null,null,null,null,null,null,null,null,{"$f":"IF(Clients!B1276=\"\",\"\",Clients!B1276)","v":""},{"$f":"IF(Clients!C1276=\"\",\"\",Clients!C1276)","v":""}]
[null,null,null,null,null,null,null,null,null,null,null,null,null,null,null,null,null,null,{"$f":"IF(Clients!B1277=\"\",\"\",Clients!B1277)","v":""},{"$f":"IF(Clients!C1277=\"\",\"\",Clients!C1277)","v":""}]
[null,null,null,null,null,null,null,null,null,null,null,null,null,null,null,null,null,null,{"$f":"IF(Clients!B1278=\"\",\"\",Clients!B1278)","v":""},{"$f":"IF(Clients!C1278=\"\",\"\",Clients!C1278)","v":""}]
[null,null,null,null,null,null,null,null,null,null,null,null,null,null,null,null,null,null,{"$f":"IF(Clients!B1279=\"\",\"\",Clients!B1279)","v":""},{"$f":"IF(Clients!C1279=\"\",\"\",Clients!C1279)","v":""}]
[null,null,null,null,null,null,null,null,null,null,null,null,null,null,null,null,null,null,{"$f":"IF(Clients!B1280=\"\",\"\",Clients!B1280)","v":""},{"$f":"IF(Clients!C1280=\"\",\"\",Clients!C1280)","v":""}]
[null,null,null,null,null,null,null,null,null,null,null,null,null,null,null,null,null,null,{"$f":"IF(Clients!B1281=\"\",\"\",Clients!B1281)","v":""},{"$f":"IF(Clients!C1281=\"\",\"\",Clients!C1281)","v":""}]
[null,null,null,null,null,null,null,null,null,null,null,null,null,null,null,null,null,null,{"$f":"IF(Clients!B1282=\"\",\"\",Clients!B1282)","v":""},{"$f":"IF(Clients!C1282=\"\",\"\",Clients!C1282)","v":""}]
[null,null,null,null,null,null,null,null,null,null,null,null,null,null,null,null,null,null,{"$f":"IF(Clients!B1283=\"\",\"\",Clients!B1283)","v":""},{"$f":"IF(Clients!C1283=\"\",\"\",Clients!C1283)","v":""}]
[null,null,null,null,null,null,null,null,null,null,null,null,null,null,null,null,null,null,{"$f":"IF(Clients!B1284=\"\",\"\",Clients!B1284)","v":""},{"$f":"IF(Clients!C1284=\"\",\"\",Clients!C1284)","v":""}]
[null,null,null,null,null,null,null,null,null,null,null,null,null,null,null,null,null,null,{"$f":"IF(Clients!B1285=\"\",\"\",Clients!B1285)","v":""},{"$f":"IF(Clients!C1285=\"\",\"\",Clients!C1285)","v":""}]
[null,null,null,null,null,null,null,null,null,null,null,null,null,null,null,null,null,null,{"$f":"IF(Clients!B1286=\"\",\"\",Clients!B1286)","v":""},{"$f":"IF(Clients!C1286=\"\",\"\",Clients!C1286)","v":""}]
[null,null,null,null,null,null,null,null,null,null,null,null,null,null,null,null,null,null,{"$f":"IF(Clients!B1287=\"\",\"\",Clients!B1287)","v":""},{"$f":"IF(Clients!C1287=\"\",\"\",Clients!C1287)","v":""}]
[null,null,null,null,null,null,null,null,null,null,null,null,null,null,null,null,null,null,{"$f":"IF(Clients!B1288=\"\",\"\",Clients!B1288)","v":""},{"$f":"IF(Clients!C1288=\"\",\"\",Clients!C1288)","v":""}]
[null,null,null,null,null,null,null,null,null,null,null,null,null,null,null,null,null,null,{"$f":"IF(Clients!B1289=\"\",\"\",Clients!B1289)","v":""},{"$f":"IF(Clients!C1289=\"\",\"\",Clients!C1289)","v":""}]
[null,null,null,null,null,null,null,null,null,null,null,null,null,null,null,null,null,null,{"$f":"IF(Clients!B1290=\"\",\"\",Clients!B1290)","v":""},{"$f":"IF(Clients!C1290=\"\",\"\",Clients!C1290)","v":""}]
[null,null,null,null,null,null,null,null,null,null,null,null,null,null,null,null,null,null,{"$f":"IF(Clients!B1291=\"\",\"\",Clients!B1291)","v":""},{"$f":"IF(Clients!C1291=\"\",\"\",Clients!C1291)","v":""}]
[null,null,null,null,null,null,null,null,null,null,null,null,null,null,null,null,null,null,{"$f":"IF(Clients!B1292=\"\",\"\",Clients!B1292)","v":""},{"$f":"IF(Clients!C1292=\"\",\"\",Clients!C1292)","v":""}]
[null,null,null,null,null,null,null,null,null,null,null,null,null,null,null,null,null,null,{"$f":"IF(Clients!B1293=\"\",\"\",Clients!B1293)","v":""},{"$f":"IF(Clients!C1293=\"\",\"\",Clients!C1293)","v":""}]
[null,null,null,null,null,null,null,null,null,null,null,null,null,null,null,null,null,null,{"$f":"IF(Clients!B1294=\"\",\"\",Clients!B1294)","v":""},{"$f":"IF(Clients!C1294=\"\",\"\",Clients!C1294)","v":""}]
[null,null,null,null,null,null,null,null,null,null,null,null,null,null,null,null,null,null,{"$f":"IF(Clients!B1295=\"\",\"\",Clients!B1295)","v":""},{"$f":"IF(Clients!C1295=\"\",\"\",Clients!C1295)","v":""}]
[null,null,null,null,null,null,null,null,null,null,null,null,null,null,null,null,null,null,{"$f":"IF(Clients!B1296=\"\",\"\",Clients!B1296)","v":""},{"$f":"IF(Clients!C1296=\"\",\"\",Clients!C1296)","v":""}]
[null,null,null,null,null,null,null,null,null,null,null,null,null,null,null,null,null,null,{"$f":"IF(Clients!B1297=\"\",\"\",Clients!B1297)","v":""},{"$f":"IF(Clients!C1297=\"\",\"\",Clients!C1297)","v":""}]
[null,null,null,null,null,null,null,null,null,null,null,null,null,null,null,null,null,null,{"$f":"IF(Clients!B1298=\"\",\"\",Clients!B1298)","v":""},{"$f":"IF(Clients!C1298=\"\",\"\",Clients!C1298)","v":""}]
[null,null,null,null,null,null,null,null,null,null,null,null,null,null,null,null,null,null,{"$f":"IF(Clients!B1299=\"\",\"\",Clients!B1299)","v":""},{"$f":"IF(Clients!C1299=\"\",\"\",Clients!C1299)","v":""}]
[null,null,null,null,null,null,null,null,null,null,null,null,null,null,null,null,null,null,{"$f":"IF(Clients!B1300=\"\",\"\",Clients!B1300)","v":""},{"$f":"IF(Clients!C1300=\"\",\"\",Clients!C1300)","v":""}]
[null,null,null,null,null,null,null,null,null,null,null,null,null,null,null,null,null,null,{"$f":"IF(Clients!B1301=\"\",\"\",Clients!B1301)","v":""},{"$f":"IF(Clients!C1301=\"\",\"\",Clients!C1301)","v":""}]
[null,null,null,null,null,null,null,null,null,null,null,null,null,null,null,null,null,null,{"$f":"IF(Clients!B1302=\"\",\"\",Clients!B1302)","v":""},{"$f":"IF(Clients!C1302=\"\",\"\",Clients!C1302)","v":""}]
[null,null,null,null,null,null,null,null,null,null,null,null,null,null,null,null,null,null,{"$f":"IF(Clients!B1303=\"\",\"\",Clients!B1303)","v":""},{"$f":"IF(Clients!C1303=\"\",\"\",Clients!C1303)","v":""}]
[null,null,null,null,null,null,null,null,null,null,null,null,null,null,null,null,null,null,{"$f":"IF(Clients!B1304=\"\",\"\",Clients!B1304)","v":""},{"$f":"IF(Clients!C1304=\"\",\"\",Clients!C1304)","v":""}]
[null,null,null,null,null,null,null,null,null,null,null,null,null,null,null,null,null,null,{"$f":"IF(Clients!B1305=\"\",\"\",Clients!B1305)","v":""},{"$f":"IF(Clients!C1305=\"\",\"\",Clients!C1305)","v":""}]
[null,null,null,null,null,null,null,null,null,null,null,null,null,null,null,null,null,null,{"$f":"IF(Clients!B1306=\"\",\"\",Clients!B1306)","v":""},{"$f":"IF(Clients!C1306=\"\",\"\",Clients!C1306)","v":""}]
[null,null,null,null,null,null,null,null,null,null,null,null,null,null,null,null,null,null,{"$f":"IF(Clients!B1307=\"\",\"\",Clients!B1307)","v":""},{"$f":"IF(Clients!C1307=\"\",\"\",Clients!C1307)","v":""}]
[null,null,null,null,null,null,null,null,null,null,null,null,null,null,null,null,null,null,{"$f":"IF(Clients!B1308=\"\",\"\",Clients!B1308)","v":""},{"$f":"IF(Clients!C1308=\"\",\"\",Clients!C1308)","v":""}]
[null,null,null,null,null,null,null,null,null,null,null,null,null,null,null,null,null,null,{"$f":"IF(Clients!B1309=\"\",\"\",Clients!B1309)","v":""},{"$f":"IF(Clients!C1309=\"\",\"\",Clients!C1309)","v":""}]
[null,null,null,null,null,null,null,null,null,null,null,null,null,null,null,null,null,null,{"$f":"IF(Clients!B1310=\"\",\"\",Clients!B1310)","v":""},{"$f":"IF(Clients!C1310=\"\",\"\",Clients!C1310)","v":""}]
[null,null,null,null,null,null,null,null,null,null,null,null,null,null,null,null,null,null,{"$f":"IF(Clients!B1311=\"\",\"\",Clients!B1311)","v":""},{"$f":"IF(Clients!C1311=\"\",\"\",Clients!C1311)","v":""}]
[null,null,null,null,null,null,null,null,null,null,null,null,null,null,null,null,null,null,{"$f":"IF(Clients!B1312=\"\",\"\",Clients!B1312)","v":""},{"$f":"IF(Clients!C1312=\"\",\"\",Clients!C1312)","v":""}]
[null,null,null,null,null,null,null,null,null,null,null,null,null,null,null,null,null,null,{"$f":"IF(Clients!B1313=\"\",\"\",Clients!B1313)","v":""},{"$f":"IF(Clients!C1313=\"\",\"\",Clients!C1313)","v":""}]
[null,null,null,null,null,null,null,null,null,null,null,null,null,null,null,null,null,null,{"$f":"IF(Clients!B1314=\"\",\"\",Clients!B1314)","v":""},{"$f":"IF(Clients!C1314=\"\",\"\",Clients!C1314)","v":""}]
[null,null,null,null,null,null,null,null,null,null,null,null,null,null,null,null,null,null,{"$f":"IF(Clients!B1315=\"\",\"\",Clients!B1315)","v":""},{"$f":"IF(Clients!C1315=\"\",\"\",Clients!C1315)","v":""}]
[null,null,null,null,null,null,null,null,null,null,null,null,null,null,null,null,null,null,{"$f":"IF(Clients!B1316=\"\",\"\",Clients!B1316)","v":""},{"$f":"IF(Clients!C1316=\"\",\"\",Clients!C1316)","v":""}]
[null,null,null,null,null,null,null,null,null,null,null,null,null,null,null,null,null,null,{"$f":"IF(Clients!B1317=\"\",\"\",Clients!B1317)","v":""},{"$f":"IF(Clients!C1317=\"\",\"\",Clients!C1317)","v":""}]
[null,null,null,null,null,null,null,null,null,null,null,null,null,null,null,null,null,null,{"$f":"IF(Clients!B1318=\"\",\"\",Clients!B1318)","v":""},{"$f":"IF(Clients!C1318=\"\",\"\",Clients!C1318)","v":""}]
[null,null,null,null,null,null,null,null,null,null,null,null,null,null,null,null,null,null,{"$f":"IF(Clients!B1319=\"\",\"\",Clients!B1319)","v":""},{"$f":"IF(Clients!C1319=\"\",\"\",Clients!C1319)","v":""}]
[null,null,null,null,null,null,null,null,null,null,null,null,null,null,null,null,null,null,{"$f":"IF(Clients!B1320=\"\",\"\",Clients!B1320)","v":""},{"$f":"IF(Clients!C1320=\"\",\"\",Clients!C1320)","v":""}]
[null,null,null,null,null,null,null,null,null,null,null,null,null,null,null,null,null,null,{"$f":"IF(Clients!B1321=\"\",\"\",Clients!B1321)","v":""},{"$f":"IF(Clients!C1321=\"\",\"\",Clients!C1321)","v":""}]
[null,null,null,null,null,null,null,null,null,null,null,null,null,null,null,null,null,null,{"$f":"IF(Clients!B1322=\"\",\"\",Clients!B1322)","v":""},{"$f":"IF(Clients!C1322=\"\",\"\",Clients!C1322)","v":""}]
[null,null,null,null,null,null,null,null,null,null,null,null,null,null,null,null,null,null,{"$f":"IF(Clients!B1323=\"\",\"\",Clients!B1323)","v":""},{"$f":"IF(Clients!C1323=\"\",\"\",Clients!C1323)","v":""}]
[null,null,null,null,null,null,null,null,null,null,null,null,null,null,null,null,null,null,{"$f":"IF(Clients!B1324=\"\",\"\",Clients!B1324)","v":""},{"$f":"IF(Clients!C1324=\"\",\"\",Clients!C1324)","v":""}]
[null,null,null,null,null,null,null,null,null,null,null,null,null,null,null,null,null,null,{"$f":"IF(Clients!B1325=\"\",\"\",Clients!B1325)","v":""},{"$f":"IF(Clients!C1325=\"\",\"\",Clients!C1325)","v":""}]
[null,null,null,null,null,null,null,null,null,null,null,null,null,null,null,null,null,null,{"$f":"IF(Clients!B1326=\"\",\"\",Clients!B1326)","v":""},{"$f":"IF(Clients!C1326=\"\",\"\",Clients!C1326)","v":""}]
[null,null,null,null,null,null,null,null,null,null,null,null,null,null,null,null,null,null,{"$f":"IF(Clients!B1327=\"\",\"\",Clients!B1327)","v":""},{"$f":"IF(Clients!C1327=\"\",\"\",Clients!C1327)","v":""}]
[null,null,null,null,null,null,null,null,null,null,null,null,null,null,null,null,null,null,{"$f":"IF(Clients!B1328=\"\",\"\",Clients!B1328)","v":""},{"$f":"IF(Clients!C1328=\"\",\"\",Clients!C1328)","v":""}]
[null,null,null,null,null,null,null,null,null,null,null,null,null,null,null,null,null,null,{"$f":"IF(Clients!B1329=\"\",\"\",Clients!B1329)","v":""},{"$f":"IF(Clients!C1329=\"\",\"\",Clients!C1329)","v":""}]
[null,null,null,null,null,null,null,null,null,null,null,null,null,null,null,null,null,null,{"$f":"IF(Clients!B1330=\"\",\"\",Clients!B1330)","v":""},{"$f":"IF(Clients!C1330=\"\",\"\",Clients!C1330)","v":""}]
[null,null,null,null,null,null,null,null,null,null,null,null,null,null,null,null,null,null,{"$f":"IF(Clients!B1331=\"\",\"\",Clients!B1331)","v":""},{"$f":"IF(Clients!C1331=\"\",\"\",Clients!C1331)","v":""}]
[null,null,null,null,null,null,null,null,null,null,null,null,null,null,null,null,null,null,{"$f":"IF(Clients!B1332=\"\",\"\",Clients!B1332)","v":""},{"$f":"IF(Clients!C1332=\"\",\"\",Clients!C1332)","v":""}]
[null,null,null,null,null,null,null,null,null,null,null,null,null,null,null,null,null,null,{"$f":"IF(Clients!B1333=\"\",\"\",Clients!B1333)","v":""},{"$f":"IF(Clients!C1333=\"\",\"\",Clients!C1333)","v":""}]
[null,null,null,null,null,null,null,null,null,null,null,null,null,null,null,null,null,null,{"$f":"IF(Clients!B1334=\"\",\"\",Clients!B1334)","v":""},{"$f":"IF(Clients!C1334=\"\",\"\",Clients!C1334)","v":""}]
[null,null,null,null,null,null,null,null,null,null,null,null,null,null,null,null,null,null,{"$f":"IF(Clients!B1335=\"\",\"\",Clients!B1335)","v":""},{"$f":"IF(Clients!C1335=\"\",\"\",Clients!C1335)","v":""}]
[null,null,null,null,null,null,null,null,null,null,null,null,null,null,null,null,null,null,{"$f":"IF(Clients!B1336=\"\",\"\",Clients!B1336)","v":""},{"$f":"IF(Clients!C1336=\"\",\"\",Clients!C1336)","v":""}]
[null,null,null,null,null,null,null,null,null,null,null,null,null,null,null,null,null,null,{"$f":"IF(Clients!B1337=\"\",\"\",Clients!B1337)","v":""},{"$f":"IF(Clients!C1337=\"\",\"\",Clients!C1337)","v":""}]
[null,null,null,null,null,null,null,null,null,null,null,null,null,null,null,null,null,null,{"$f":"IF(Clients!B1338=\"\",\"\",Clients!B1338)","v":""},{"$f":"IF(Clients!C1338=\"\",\"\",Clients!C1338)","v":""}]
[null,null,null,null,null,null,null,null,null,null,null,null,null,null,null,null,null,null,{"$f":"IF(Clients!B1339=\"\",\"\",Clients!B1339)","v":""},{"$f":"IF(Clients!C1339=\"\",\"\",Clients!C1339)","v":""}]
[null,null,null,null,null,null,null,null,null,null,null,null,null,null,null,null,null,null,{"$f":"IF(Clients!B1340=\"\",\"\",Clients!B1340)","v":""},{"$f":"IF(Clients!C1340=\"\",\"\",Clients!C1340)","v":""}]
[null,null,null,null,null,null,null,null,null,null,null,null,null,null,null,null,null,null,{"$f":"IF(Clients!B1341=\"\",\"\",Clients!B1341)","v":""},{"$f":"IF(Clients!C1341=\"\",\"\",Clients!C1341)","v":""}]
[null,null,null,null,null,null,null,null,null,null,null,null,null,null,null,null,null,null,{"$f":"IF(Clients!B1342=\"\",\"\",Clients!B1342)","v":""},{"$f":"IF(Clients!C1342=\"\",\"\",Clients!C1342)","v":""}]
[null,null,null,null,null,null,null,null,null,null,null,null,null,null,null,null,null,null,{"$f":"IF(Clients!B1343=\"\",\"\",Clients!B1343)","v":""},{"$f":"IF(Clients!C1343=\"\",\"\",Clients!C1343)","v":""}]
[null,null,null,null,null,null,null,null,null,null,null,null,null,null,null,null,null,null,{"$f":"IF(Clients!B1344=\"\",\"\",Clients!B1344)","v":""},{"$f":"IF(Clients!C1344=\"\",\"\",Clients!C1344)","v":""}]
[null,null,null,null,null,null,null,null,null,null,null,null,null,null,null,null,null,null,{"$f":"IF(Clients!B1345=\"\",\"\",Clients!B1345)","v":""},{"$f":"IF(Clients!C1345=\"\",\"\",Clients!C1345)","v":""}]
[null,null,null,null,null,null,null,null,null,null,null,null,null,null,null,null,null,null,{"$f":"IF(Clients!B1346=\"\",\"\",Clients!B1346)","v":""},{"$f":"IF(Clients!C1346=\"\",\"\",Clients!C1346)","v":""}]
[null,null,null,null,null,null,null,null,null,null,null,null,null,null,null,null,null,null,{"$f":"IF(Clients!B1347=\"\",\"\",Clients!B1347)","v":""},{"$f":"IF(Clients!C1347=\"\",\"\",Clients!C1347)","v":""}]
[null,null,null,null,null,null,null,null,null,null,null,null,null,null,null,null,null,null,{"$f":"IF(Clients!B1348=\"\",\"\",Clients!B1348)","v":""},{"$f":"IF(Clients!C1348=\"\",\"\",Clients!C1348)","v":""}]
[null,null,null,null,null,null,null,null,null,null,null,null,null,null,null,null,null,null,{"$f":"IF(Clients!B1349=\"\",\"\",Clients!B1349)","v":""},{"$f":"IF(Clients!C1349=\"\",\"\",Clients!C1349)","v":""}]
[null,null,null,null,null,null,null,null,null,null,null,null,null,null,null,null,null,null,{"$f":"IF(Clients!B1350=\"\",\"\",Clients!B1350)","v":""},{"$f":"IF(Clients!C1350=\"\",\"\",Clients!C1350)","v":""}]
[null,null,null,null,null,null,null,null,null,null,null,null,null,null,null,null,null,null,{"$f":"IF(Clients!B1351=\"\",\"\",Clients!B1351)","v":""},{"$f":"IF(Clients!C1351=\"\",\"\",Clients!C1351)","v":""}]
[null,null,null,null,null,null,null,null,null,null,null,null,null,null,null,null,null,null,{"$f":"IF(Clients!B1352=\"\",\"\",Clients!B1352)","v":""},{"$f":"IF(Clients!C1352=\"\",\"\",Clients!C1352)","v":""}]
[null,null,null,null,null,null,null,null,null,null,null,null,null,null,null,null,null,null,{"$f":"IF(Clients!B1353=\"\",\"\",Clients!B1353)","v":""},{"$f":"IF(Clients!C1353=\"\",\"\",Clients!C1353)","v":""}]
[null,null,null,null,null,null,null,null,null,null,null,null,null,null,null,null,null,null,{"$f":"IF(Clients!B1354=\"\",\"\",Clients!B1354)","v":""},{"$f":"IF(Clients!C1354=\"\",\"\",Clients!C1354)","v":""}]
[null,null,null,null,null,null,null,null,null,null,null,null,null,null,null,null,null,null,{"$f":"IF(Clients!B1355=\"\",\"\",Clients!B1355)","v":""},{"$f":"IF(Clients!C1355=\"\",\"\",Clients!C1355)","v":""}]
[null,null,null,null,null,null,null,null,null,null,null,null,null,null,null,null,null,null,{"$f":"IF(Clients!B1356=\"\",\"\",Clients!B1356)","v":""},{"$f":"IF(Clients!C1356=\"\",\"\",Clients!C1356)","v":""}]
[null,null,null,null,null,null,null,null,null,null,null,null,null,null,null,null,null,null,{"$f":"IF(Clients!B1357=\"\",\"\",Clients!B1357)","v":""},{"$f":"IF(Clients!C1357=\"\",\"\",Clients!C1357)","v":""}]
[null,null,null,null,null,null,null,null,null,null,null,null,null,null,null,null,null,null,{"$f":"IF(Clients!B1358=\"\",\"\",Clients!B1358)","v":""},{"$f":"IF(Clients!C1358=\"\",\"\",Clients!C1358)","v":""}]
[null,null,null,null,null,null,null,null,null,null,null,null,null,null,null,null,null,null,{"$f":"IF(Clients!B1359=\"\",\"\",Clients!B1359)","v":""},{"$f":"IF(Clients!C1359=\"\",\"\",Clients!C1359)","v":""}]
[null,null,null,null,null,null,null,null,null,null,null,null,null,null,null,null,null,null,{"$f":"IF(Clients!B1360=\"\",\"\",Clients!B1360)","v":""},{"$f":"IF(Clients!C1360=\"\",\"\",Clients!C1360)","v":""}]
[null,null,null,null,null,null,null,null,null,null,null,null,null,null,null,null,null,null,{"$f":"IF(Clients!B1361=\"\",\"\",Clients!B1361)","v":""},{"$f":"IF(Clients!C1361=\"\",\"\",Clients!C1361)","v":""}]
[null,null,null,null,null,null,null,null,null,null,null,null,null,null,null,null,null,null,{"$f":"IF(Clients!B1362=\"\",\"\",Clients!B1362)","v":""},{"$f":"IF(Clients!C1362=\"\",\"\",Clients!C1362)","v":""}]
[null,null,null,null,null,null,null,null,null,null,null,null,null,null,null,null,null,null,{"$f":"IF(Clients!B1363=\"\",\"\",Clients!B1363)","v":""},{"$f":"IF(Clients!C1363=\"\",\"\",Clients!C1363)","v":""}]
[null,null,null,null,null,null,null,null,null,null,null,null,null,null,null,null,null,null,{"$f":"IF(Clients!B1364=\"\",\"\",Clients!B1364)","v":""},{"$f":"IF(Clients!C1364=\"\",\"\",Clients!C1364)","v":""}]
[null,null,null,null,null,null,null,null,null,null,null,null,null,null,null,null,null,null,{"$f":"IF(Clients!B1365=\"\",\"\",Clients!B1365)","v":""},{"$f":"IF(Clients!C1365=\"\",\"\",Clients!C1365)","v":""}]
[null,null,null,null,null,null,null,null,null,null,null,null,null,null,null,null,null,null,{"$f":"IF(Clients!B1366=\"\",\"\",Clients!B1366)","v":""},{"$f":"IF(Clients!C1366=\"\",\"\",Clients!C1366)","v":""}]
[null,null,null,null,null,null,null,null,null,null,null,null,null,null,null,null,null,null,{"$f":"IF(Clients!B1367=\"\",\"\",Clients!B1367)","v":""},{"$f":"IF(Clients!C1367=\"\",\"\",Clients!C1367)","v":""}]
[null,null,null,null,null,null,null,null,null,null,null,null,null,null,null,null,null,null,{"$f":"IF(Clients!B1368=\"\",\"\",Clients!B1368)","v":""},{"$f":"IF(Clients!C1368=\"\",\"\",Clients!C1368)","v":""}]
[null,null,null,null,null,null,null,null,null,null,null,null,null,null,null,null,null,null,{"$f":"IF(Clients!B1369=\"\",\"\",Clients!B1369)","v":""},{"$f":"IF(Clients!C1369=\"\",\"\",Clients!C1369)","v":""}]
[null,null,null,null,null,null,null,null,null,null,null,null,null,null,null,null,null,null,{"$f":"IF(Clients!B1370=\"\",\"\",Clients!B1370)","v":""},{"$f":"IF(Clients!C1370=\"\",\"\",Clients!C1370)","v":""}]
[null,null,null,null,null,null,null,null,null,null,null,null,null,null,null,null,null,null,{"$f":"IF(Clients!B1371=\"\",\"\",Clients!B1371)","v":""},{"$f":"IF(Clients!C1371=\"\",\"\",Clients!C1371)","v":""}]
[null,null,null,null,null,null,null,null,null,null,null,null,null,null,null,null,null,null,{"$f":"IF(Clients!B1372=\"\",\"\",Clients!B1372)","v":""},{"$f":"IF(Clients!C1372=\"\",\"\",Clients!C1372)","v":""}]
[null,null,null,null,null,null,null,null,null,null,null,null,null,null,null,null,null,null,{"$f":"IF(Clients!B1373=\"\",\"\",Clients!B1373)","v":""},{"$f":"IF(Clients!C1373=\"\",\"\",Clients!C1373)","v":""}]
[null,null,null,null,null,null,null,null,null,null,null,null,null,null,null,null,null,null,{"$f":"IF(Clients!B1374=\"\",\"\",Clients!B1374)","v":""},{"$f":"IF(Clients!C1374=\"\",\"\",Clients!C1374)","v":""}]
[null,null,null,null,null,null,null,null,null,null,null,null,null,null,null,null,null,null,{"$f":"IF(Clients!B1375=\"\",\"\",Clients!B1375)","v":""},{"$f":"IF(Clients!C1375=\"\",\"\",Clients!C1375)","v":""}]
[null,null,null,null,null,null,null,null,null,null,null,null,null,null,null,null,null,null,{"$f":"IF(Clients!B1376=\"\",\"\",Clients!B1376)","v":""},{"$f":"IF(Clients!C1376=\"\",\"\",Clients!C1376)","v":""}]
[null,null,null,null,null,null,null,null,null,null,null,null,null,null,null,null,null,null,{"$f":"IF(Clients!B1377=\"\",\"\",Clients!B1377)","v":""},{"$f":"IF(Clients!C1377=\"\",\"\",Clients!C1377)","v":""}]
[null,null,null,null,null,null,null,null,null,null,null,null,null,null,null,null,null,null,{"$f":"IF(Clients!B1378=\"\",\"\",Clients!B1378)","v":""},{"$f":"IF(Clients!C1378=\"\",\"\",Clients!C1378)","v":""}]
[null,null,null,null,null,null,null,null,null,null,null,null,null,null,null,null,null,null,{"$f":"IF(Clients!B1379=\"\",\"\",Clients!B1379)","v":""},{"$f":"IF(Clients!C1379=\"\",\"\",Clients!C1379)","v":""}]
[null,null,null,null,null,null,null,null,null,null,null,null,null,null,null,null,null,null,{"$f":"IF(Clients!B1380=\"\",\"\",Clients!B1380)","v":""},{"$f":"IF(Clients!C1380=\"\",\"\",Clients!C1380)","v":""}]
[null,null,null,null,null,null,null,null,null,null,null,null,null,null,null,null,null,null,{"$f":"IF(Clients!B1381=\"\",\"\",Clients!B1381)","v":""},{"$f":"IF(Clients!C1381=\"\",\"\",Clients!C1381)","v":""}]
[null,null,null,null,null,null,null,null,null,null,null,null,null,null,null,null,null,null,{"$f":"IF(Clients!B1382=\"\",\"\",Clients!B1382)","v":""},{"$f":"IF(Clients!C1382=\"\",\"\",Clients!C1382)","v":""}]
[null,null,null,null,null,null,null,null,null,null,null,null,null,null,null,null,null,null,{"$f":"IF(Clients!B1383=\"\",\"\",Clients!B1383)","v":""},{"$f":"IF(Clients!C1383=\"\",\"\",Clients!C1383)","v":""}]
[null,null,null,null,null,null,null,null,null,null,null,null,null,null,null,null,null,null,{"$f":"IF(Clients!B1384=\"\",\"\",Clients!B1384)","v":""},{"$f":"IF(Clients!C1384=\"\",\"\",Clients!C1384)","v":""}]
[null,null,null,null,null,null,null,null,null,null,null,null,null,null,null,null,null,null,{"$f":"IF(Clients!B1385=\"\",\"\",Clients!B1385)","v":""},{"$f":"IF(Clients!C1385=\"\",\"\",Clients!C1385)","v":""}]
[null,null,null,null,null,null,null,null,null,null,null,null,null,null,null,null,null,null,{"$f":"IF(Clients!B1386=\"\",\"\",Clients!B1386)","v":""},{"$f":"IF(Clients!C1386=\"\",\"\",Clients!C1386)","v":""}]
[null,null,null,null,null,null,null,null,null,null,null,null,null,null,null,null,null,null,{"$f":"IF(Clients!B1387=\"\",\"\",Clients!B1387)","v":""},{"$f":"IF(Clients!C1387=\"\",\"\",Clients!C1387)","v":""}]
[null,null,null,null,null,null,null,null,null,null,null,null,null,null,null,null,null,null,{"$f":"IF(Clients!B1388=\"\",\"\",Clients!B1388)","v":""},{"$f":"IF(Clients!C1388=\"\",\"\",Clients!C1388)","v":""}]
[null,null,null,null,null,null,null,null,null,null,null,null,null,null,null,null,null,null,{"$f":"IF(Clients!B1389=\"\",\"\",Clients!B1389)","v":""},{"$f":"IF(Clients!C1389=\"\",\"\",Clients!C1389)","v":""}]
[null,null,null,null,null,null,null,null,null,null,null,null,null,null,null,null,null,null,{"$f":"IF(Clients!B1390=\"\",\"\",Clients!B1390)","v":""},{"$f":"IF(Clients!C1390=\"\",\"\",Clients!C1390)","v":""}]
[null,null,null,null,null,null,null,null,null,null,null,null,null,null,null,null,null,null,{"$f":"IF(Clients!B1391=\"\",\"\",Clients!B1391)","v":""},{"$f":"IF(Clients!C1391=\"\",\"\",Clients!C1391)","v":""}]
[null,null,null,null,null,null,null,null,null,null,null,null,null,null,null,null,null,null,{"$f":"IF(Clients!B1392=\"\",\"\",Clients!B1392)","v":""},{"$f":"IF(Clients!C1392=\"\",\"\",Clients!C1392)","v":""}]
[null,null,null,null,null,null,null,null,null,null,null,null,null,null,null,null,null,null,{"$f":"IF(Clients!B1393=\"\",\"\",Clients!B1393)","v":""},{"$f":"IF(Clients!C1393=\"\",\"\",Clients!C1393)","v":""}]
[null,null,null,null,null,null,null,null,null,null,null,null,null,null,null,null,null,null,{"$f":"IF(Clients!B1394=\"\",\"\",Clients!B1394)","v":""},{"$f":"IF(Clients!C1394=\"\",\"\",Clients!C1394)","v":""}]
[null,null,null,null,null,null,null,null,null,null,null,null,null,null,null,null,null,null,{"$f":"IF(Clients!B1395=\"\",\"\",Clients!B1395)","v":""},{"$f":"IF(Clients!C1395=\"\",\"\",Clients!C1395)","v":""}]
[null,null,null,null,null,null,null,null,null,null,null,null,null,null,null,null,null,null,{"$f":"IF(Clients!B1396=\"\",\"\",Clients!B1396)","v":""},{"$f":"IF(Clients!C1396=\"\",\"\",Clients!C1396)","v":""}]
[null,null,null,null,null,null,null,null,null,null,null,null,null,null,null,null,null,null,{"$f":"IF(Clients!B1397=\"\",\"\",Clients!B1397)","v":""},{"$f":"IF(Clients!C1397=\"\",\"\",Clients!C1397)","v":""}]
[null,null,null,null,null,null,null,null,null,null,null,null,null,null,null,null,null,null,{"$f":"IF(Clients!B1398=\"\",\"\",Clients!B1398)","v":""},{"$f":"IF(Clients!C1398=\"\",\"\",Clients!C1398)","v":""}]
[null,null,null,null,null,null,null,null,null,null,null,null,null,null,null,null,null,null,{"$f":"IF(Clients!B1399=\"\",\"\",Clients!B1399)","v":""},{"$f":"IF(Clients!C1399=\"\",\"\",Clients!C1399)","v":""}]
[null,null,null,null,null,null,null,null,null,null,null,null,null,null,null,null,null,null,{"$f":"IF(Clients!B1400=\"\",\"\",Clients!B1400)","v":""},{"$f":"IF(Clients!C1400=\"\",\"\",Clients!C1400)","v":""}]
[null,null,null,null,null,null,null,null,null,null,null,null,null,null,null,null,null,null,{"$f":"IF(Clients!B1401=\"\",\"\",Clients!B1401)","v":""},{"$f":"IF(Clients!C1401=\"\",\"\",Clients!C1401)","v":""}]
[null,null,null,null,null,null,null,null,null,null,null,null,null,null,null,null,null,null,{"$f":"IF(Clients!B1402=\"\",\"\",Clients!B1402)","v":""},{"$f":"IF(Clients!C1402=\"\",\"\",Clients!C1402)","v":""}]
[null,null,null,null,null,null,null,null,null,null,null,null,null,null,null,null,null,null,{"$f":"IF(Clients!B1403=\"\",\"\",Clients!B1403)","v":""},{"$f":"IF(Clients!C1403=\"\",\"\",Clients!C1403)","v":""}]
[null,null,null,null,null,null,null,null,null,null,null,null,null,null,null,null,null,null,{"$f":"IF(Clients!B1404=\"\",\"\",Clients!B1404)","v":""},{"$f":"IF(Clients!C1404=\"\",\"\",Clients!C1404)","v":""}]
[null,null,null,null,null,null,null,null,null,null,null,null,null,null,null,null,null,null,{"$f":"IF(Clients!B1405=\"\",\"\",Clients!B1405)","v":""},{"$f":"IF(Clients!C1405=\"\",\"\",Clients!C1405)","v":""}]
[null,null,null,null,null,null,null,null,null,null,null,null,null,null,null,null,null,null,{"$f":"IF(Clients!B1406=\"\",\"\",Clients!B1406)","v":""},{"$f":"IF(Clients!C1406=\"\",\"\",Clients!C1406)","v":""}]
[null,null,null,null,null,null,null,null,null,null,null,null,null,null,null,null,null,null,{"$f":"IF(Clients!B1407=\"\",\"\",Clients!B1407)","v":""},{"$f":"IF(Clients!C1407=\"\",\"\",Clients!C1407)","v":""}]
[null,null,null,null,null,null,null,null,null,null,null,null,null,null,null,null,null,null,{"$f":"IF(Clients!B1408=\"\",\"\",Clients!B1408)","v":""},{"$f":"IF(Clients!C1408=\"\",\"\",Clients!C1408)","v":""}]
[null,null,null,null,null,null,null,null,null,null,null,null,null,null,null,null,null,null,{"$f":"IF(Clients!B1409=\"\",\"\",Clients!B1409)","v":""},{"$f":"IF(Clients!C1409=\"\",\"\",Clients!C1409)","v":""}]
[null,null,null,null,null,null,null,null,null,null,null,null,null,null,null,null,null,null,{"$f":"IF(Clients!B1410=\"\",\"\",Clients!B1410)","v":""},{"$f":"IF(Clients!C1410=\"\",\"\",Clients!C1410)","v":""}]
[null,null,null,null,null,null,null,null,null,null,null,null,null,null,null,null,null,null,{"$f":"IF(Clients!B1411=\"\",\"\",Clients!B1411)","v":""},{"$f":"IF(Clients!C1411=\"\",\"\",Clients!C1411)","v":""}]
[null,null,null,null,null,null,null,null,null,null,null,null,null,null,null,null,null,null,{"$f":"IF(Clients!B1412=\"\",\"\",Clients!B1412)","v":""},{"$f":"IF(Clients!C1412=\"\",\"\",Clients!C1412)","v":""}]
[null,null,null,null,null,null,null,null,null,null,null,null,null,null,null,null,null,null,{"$f":"IF(Clients!B1413=\"\",\"\",Clients!B1413)","v":""},{"$f":"IF(Clients!C1413=\"\",\"\",Clients!C1413)","v":""}]
[null,null,null,null,null,null,null,null,null,null,null,null,null,null,null,null,null,null,{"$f":"IF(Clients!B1414=\"\",\"\",Clients!B1414)","v":""},{"$f":"IF(Clients!C1414=\"\",\"\",Clients!C1414)","v":""}]
[null,null,null,null,null,null,null,null,null,null,null,null,null,null,null,null,null,null,{"$f":"IF(Clients!B1415=\"\",\"\",Clients!B1415)","v":""},{"$f":"IF(Clients!C1415=\"\",\"\",Clients!C1415)","v":""}]
[null,null,null,null,null,null,null,null,null,null,null,null,null,null,null,null,null,null,{"$f":"IF(Clients!B1416=\"\",\"\",Clients!B1416)","v":""},{"$f":"IF(Clients!C1416=\"\",\"\",Clients!C1416)","v":""}]
[null,null,null,null,null,null,null,null,null,null,null,null,null,null,null,null,null,null,{"$f":"IF(Clients!B1417=\"\",\"\",Clients!B1417)","v":""},{"$f":"IF(Clients!C1417=\"\",\"\",Clients!C1417)","v":""}]
[null,null,null,null,null,null,null,null,null,null,null,null,null,null,null,null,null,null,{"$f":"IF(Clients!B1418=\"\",\"\",Clients!B1418)","v":""},{"$f":"IF(Clients!C1418=\"\",\"\",Clients!C1418)","v":""}]
[null,null,null,null,null,null,null,null,null,null,null,null,null,null,null,null,null,null,{"$f":"IF(Clients!B1419=\"\",\"\",Clients!B1419)","v":""},{"$f":"IF(Clients!C1419=\"\",\"\",Clients!C1419)","v":""}]
[null,null,null,null,null,null,null,null,null,null,null,null,null,null,null,null,null,null,{"$f":"IF(Clients!B1420=\"\",\"\",Clients!B1420)","v":""},{"$f":"IF(Clients!C1420=\"\",\"\",Clients!C1420)","v":""}]
[null,null,null,null,null,null,null,null,null,null,null,null,null,null,null,null,null,null,{"$f":"IF(Clients!B1421=\"\",\"\",Clients!B1421)","v":""},{"$f":"IF(Clients!C1421=\"\",\"\",Clients!C1421)","v":""}]
[null,null,null,null,null,null,null,null,null,null,null,null,null,null,null,null,null,null,{"$f":"IF(Clients!B1422=\"\",\"\",Clients!B1422)","v":""},{"$f":"IF(Clients!C1422=\"\",\"\",Clients!C1422)","v":""}]
[null,null,null,null,null,null,null,null,null,null,null,null,null,null,null,null,null,null,{"$f":"IF(Clients!B1423=\"\",\"\",Clients!B1423)","v":""},{"$f":"IF(Clients!C1423=\"\",\"\",Clients!C1423)","v":""}]
[null,null,null,null,null,null,null,null,null,null,null,null,null,null,null,null,null,null,{"$f":"IF(Clients!B1424=\"\",\"\",Clients!B1424)","v":""},{"$f":"IF(Clients!C1424=\"\",\"\",Clients!C1424)","v":""}]
[null,null,null,null,null,null,null,null,null,null,null,null,null,null,null,null,null,null,{"$f":"IF(Clients!B1425=\"\",\"\",Clients!B1425)","v":""},{"$f":"IF(Clients!C1425=\"\",\"\",Clients!C1425)","v":""}]
[null,null,null,null,null,null,null,null,null,null,null,null,null,null,null,null,null,null,{"$f":"IF(Clients!B1426=\"\",\"\",Clients!B1426)","v":""},{"$f":"IF(Clients!C1426=\"\",\"\",Clients!C1426)","v":""}]
[null,null,null,null,null,null,null,null,null,null,null,null,null,null,null,null,null,null,{"$f":"IF(Clients!B1427=\"\",\"\",Clients!B1427)","v":""},{"$f":"IF(Clients!C1427=\"\",\"\",Clients!C1427)","v":""}]
[null,null,null,null,null,null,null,null,null,null,null,null,null,null,null,null,null,null,{"$f":"IF(Clients!B1428=\"\",\"\",Clients!B1428)","v":""},{"$f":"IF(Clients!C1428=\"\",\"\",Clients!C1428)","v":""}]
[null,null,null,null,null,null,null,null,null,null,null,null,null,null,null,null,null,null,{"$f":"IF(Clients!B1429=\"\",\"\",Clients!B1429)","v":""},{"$f":"IF(Clients!C1429=\"\",\"\",Clients!C1429)","v":""}]
[null,null,null,null,null,null,null,null,null,null,null,null,null,null,null,null,null,null,{"$f":"IF(Clients!B1430=\"\",\"\",Clients!B1430)","v":""},{"$f":"IF(Clients!C1430=\"\",\"\",Clients!C1430)","v":""}]
[null,null,null,null,null,null,null,null,null,null,null,null,null,null,null,null,null,null,{"$f":"IF(Clients!B1431=\"\",\"\",Clients!B1431)","v":""},{"$f":"IF(Clients!C1431=\"\",\"\",Clients!C1431)","v":""}]
[null,null,null,null,null,null,null,null,null,null,null,null,null,null,null,null,null,null,{"$f":"IF(Clients!B1432=\"\",\"\",Clients!B1432)","v":""},{"$f":"IF(Clients!C1432=\"\",\"\",Clients!C1432)","v":""}]
[null,null,null,null,null,null,null,null,null,null,null,null,null,null,null,null,null,null,{"$f":"IF(Clients!B1433=\"\",\"\",Clients!B1433)","v":""},{"$f":"IF(Clients!C1433=\"\",\"\",Clients!C1433)","v":""}]
[null,null,null,null,null,null,null,null,null,null,null,null,null,null,null,null,null,null,{"$f":"IF(Clients!B1434=\"\",\"\",Clients!B1434)","v":""},{"$f":"IF(Clients!C1434=\"\",\"\",Clients!C1434)","v":""}]
[null,null,null,null,null,null,null,null,null,null,null,null,null,null,null,null,null,null,{"$f":"IF(Clients!B1435=\"\",\"\",Clients!B1435)","v":""},{"$f":"IF(Clients!C1435=\"\",\"\",Clients!C1435)","v":""}]
[null,null,null,null,null,null,null,null,null,null,null,null,null,null,null,null,null,null,{"$f":"IF(Clients!B1436=\"\",\"\",Clients!B1436)","v":""},{"$f":"IF(Clients!C1436=\"\",\"\",Clients!C1436)","v":""}]
[null,null,null,null,null,null,null,null,null,null,null,null,null,null,null,null,null,null,{"$f":"IF(Clients!B1437=\"\",\"\",Clients!B1437)","v":""},{"$f":"IF(Clients!C1437=\"\",\"\",Clients!C1437)","v":""}]
[null,null,null,null,null,null,null,null,null,null,null,null,null,null,null,null,null,null,{"$f":"IF(Clients!B1438=\"\",\"\",Clients!B1438)","v":""},{"$f":"IF(Clients!C1438=\"\",\"\",Clients!C1438)","v":""}]
[null,null,null,null,null,null,null,null,null,null,null,null,null,null,null,null,null,null,{"$f":"IF(Clients!B1439=\"\",\"\",Clients!B1439)","v":""},{"$f":"IF(Clients!C1439=\"\",\"\",Clients!C1439)","v":""}]
[null,null,null,null,null,null,null,null,null,null,null,null,null,null,null,null,null,null,{"$f":"IF(Clients!B1440=\"\",\"\",Clients!B1440)","v":""},{"$f":"IF(Clients!C1440=\"\",\"\",Clients!C1440)","v":""}]
[null,null,null,null,null,null,null,null,null,null,null,null,null,null,null,null,null,null,{"$f":"IF(Clients!B1441=\"\",\"\",Clients!B1441)","v":""},{"$f":"IF(Clients!C1441=\"\",\"\",Clients!C1441)","v":""}]
[null,null,null,null,null,null,null,null,null,null,null,null,null,null,null,null,null,null,{"$f":"IF(Clients!B1442=\"\",\"\",Clients!B1442)","v":""},{"$f":"IF(Clients!C1442=\"\",\"\",Clients!C1442)","v":""}]
[null,null,null,null,null,null,null,null,null,null,null,null,null,null,null,null,null,null,{"$f":"IF(Clients!B1443=\"\",\"\",Clients!B1443)","v":""},{"$f":"IF(Clients!C1443=\"\",\"\",Clients!C1443)","v":""}]
[null,null,null,null,null,null,null,null,null,null,null,null,null,null,null,null,null,null,{"$f":"IF(Clients!B1444=\"\",\"\",Clients!B1444)","v":""},{"$f":"IF(Clients!C1444=\"\",\"\",Clients!C1444)","v":""}]
[null,null,null,null,null,null,null,null,null,null,null,null,null,null,null,null,null,null,{"$f":"IF(Clients!B1445=\"\",\"\",Clients!B1445)","v":""},{"$f":"IF(Clients!C1445=\"\",\"\",Clients!C1445)","v":""}]
[null,null,null,null,null,null,null,null,null,null,null,null,null,null,null,null,null,null,{"$f":"IF(Clients!B1446=\"\",\"\",Clients!B1446)","v":""},{"$f":"IF(Clients!C1446=\"\",\"\",Clients!C1446)","v":""}]
[null,null,null,null,null,null,null,null,null,null,null,null,null,null,null,null,null,null,{"$f":"IF(Clients!B1447=\"\",\"\",Clients!B1447)","v":""},{"$f":"IF(Clients!C1447=\"\",\"\",Clients!C1447)","v":""}]
[null,null,null,null,null,null,null,null,null,null,null,null,null,null,null,null,null,null,{"$f":"IF(Clients!B1448=\"\",\"\",Clients!B1448)","v":""},{"$f":"IF(Clients!C1448=\"\",\"\",Clients!C1448)","v":""}]
[null,null,null,null,null,null,null,null,null,null,null,null,null,null,null,null,null,null,{"$f":"IF(Clients!B1449=\"\",\"\",Clients!B1449)","v":""},{"$f":"IF(Clients!C1449=\"\",\"\",Clients!C1449)","v":""}]
[null,null,null,null,null,null,null,null,null,null,null,null,null,null,null,null,null,null,{"$f":"IF(Clients!B1450=\"\",\"\",Clients!B1450)","v":""},{"$f":"IF(Clients!C1450=\"\",\"\",Clients!C1450)","v":""}]
[null,null,null,null,null,null,null,null,null,null,null,null,null,null,null,null,null,null,{"$f":"IF(Clients!B1451=\"\",\"\",Clients!B1451)","v":""},{"$f":"IF(Clients!C1451=\"\",\"\",Clients!C1451)","v":""}]
[null,null,null,null,null,null,null,null,null,null,null,null,null,null,null,null,null,null,{"$f":"IF(Clients!B1452=\"\",\"\",Clients!B1452)","v":""},{"$f":"IF(Clients!C1452=\"\",\"\",Clients!C1452)","v":""}]
[null,null,null,null,null,null,null,null,null,null,null,null,null,null,null,null,null,null,{"$f":"IF(Clients!B1453=\"\",\"\",Clients!B1453)","v":""},{"$f":"IF(Clients!C1453=\"\",\"\",Clients!C1453)","v":""}]
[null,null,null,null,null,null,null,null,null,null,null,null,null,null,null,null,null,null,{"$f":"IF(Clients!B1454=\"\",\"\",Clients!B1454)","v":""},{"$f":"IF(Clients!C1454=\"\",\"\",Clients!C1454)","v":""}]
[null,null,null,null,null,null,null,null,null,null,null,null,null,null,null,null,null,null,{"$f":"IF(Clients!B1455=\"\",\"\",Clients!B1455)","v":""},{"$f":"IF(Clients!C1455=\"\",\"\",Clients!C1455)","v":""}]
[null,null,null,null,null,null,null,null,null,null,null,null,null,null,null,null,null,null,{"$f":"IF(Clients!B1456=\"\",\"\",Clients!B1456)","v":""},{"$f":"IF(Clients!C1456=\"\",\"\",Clients!C1456)","v":""}]
[null,null,null,null,null,null,null,null,null,null,null,null,null,null,null,null,null,null,{"$f":"IF(Clients!B1457=\"\",\"\",Clients!B1457)","v":""},{"$f":"IF(Clients!C1457=\"\",\"\",Clients!C1457)","v":""}]
[null,null,null,null,null,null,null,null,null,null,null,null,null,null,null,null,null,null,{"$f":"IF(Clients!B1458=\"\",\"\",Clients!B1458)","v":""},{"$f":"IF(Clients!C1458=\"\",\"\",Clients!C1458)","v":""}]
[null,null,null,null,null,null,null,null,null,null,null,null,null,null,null,null,null,null,{"$f":"IF(Clients!B1459=\"\",\"\",Clients!B1459)","v":""},{"$f":"IF(Clients!C1459=\"\",\"\",Clients!C1459)","v":""}]
[null,null,null,null,null,null,null,null,null,null,null,null,null,null,null,null,null,null,{"$f":"IF(Clients!B1460=\"\",\"\",Clients!B1460)","v":""},{"$f":"IF(Clients!C1460=\"\",\"\",Clients!C1460)","v":""}]
[null,null,null,null,null,null,null,null,null,null,null,null,null,null,null,null,null,null,{"$f":"IF(Clients!B1461=\"\",\"\",Clients!B1461)","v":""},{"$f":"IF(Clients!C1461=\"\",\"\",Clients!C1461)","v":""}]
[null,null,null,null,null,null,null,null,null,null,null,null,null,null,null,null,null,null,{"$f":"IF(Clients!B1462=\"\",\"\",Clients!B1462)","v":""},{"$f":"IF(Clients!C1462=\"\",\"\",Clients!C1462)","v":""}]
[null,null,null,null,null,null,null,null,null,null,null,null,null,null,null,null,null,null,{"$f":"IF(Clients!B1463=\"\",\"\",Clients!B1463)","v":""},{"$f":"IF(Clients!C1463=\"\",\"\",Clients!C1463)","v":""}]
[null,null,null,null,null,null,null,null,null,null,null,null,null,null,null,null,null,null,{"$f":"IF(Clients!B1464=\"\",\"\",Clients!B1464)","v":""},{"$f":"IF(Clients!C1464=\"\",\"\",Clients!C1464)","v":""}]
[null,null,null,null,null,null,null,null,null,null,null,null,null,null,null,null,null,null,{"$f":"IF(Clients!B1465=\"\",\"\",Clients!B1465)","v":""},{"$f":"IF(Clients!C1465=\"\",\"\",Clients!C1465)","v":""}]
[null,null,null,null,null,null,null,null,null,null,null,null,null,null,null,null,null,null,{"$f":"IF(Clients!B1466=\"\",\"\",Clients!B1466)","v":""},{"$f":"IF(Clients!C1466=\"\",\"\",Clients!C1466)","v":""}]
[null,null,null,null,null,null,null,null,null,null,null,null,null,null,null,null,null,null,{"$f":"IF(Clients!B1467=\"\",\"\",Clients!B1467)","v":""},{"$f":"IF(Clients!C1467=\"\",\"\",Clients!C1467)","v":""}]
[null,null,null,null,null,null,null,null,null,null,null,null,null,null,null,null,null,null,{"$f":"IF(Clients!B1468=\"\",\"\",Clients!B1468)","v":""},{"$f":"IF(Clients!C1468=\"\",\"\",Clients!C1468)","v":""}]
[null,null,null,null,null,null,null,null,null,null,null,null,null,null,null,null,null,null,{"$f":"IF(Clients!B1469=\"\",\"\",Clients!B1469)","v":""},{"$f":"IF(Clients!C1469=\"\",\"\",Clients!C1469)","v":""}]
[null,null,null,null,null,null,null,null,null,null,null,null,null,null,null,null,null,null,{"$f":"IF(Clients!B1470=\"\",\"\",Clients!B1470)","v":""},{"$f":"IF(Clients!C1470=\"\",\"\",Clients!C1470)","v":""}]
[null,null,null,null,null,null,null,null,null,null,null,null,null,null,null,null,null,null,{"$f":"IF(Clients!B1471=\"\",\"\",Clients!B1471)","v":""},{"$f":"IF(Clients!C1471=\"\",\"\",Clients!C1471)","v":""}]
[null,null,null,null,null,null,null,null,null,null,null,null,null,null,null,null,null,null,{"$f":"IF(Clients!B1472=\"\",\"\",Clients!B1472)","v":""},{"$f":"IF(Clients!C1472=\"\",\"\",Clients!C1472)","v":""}]
[null,null,null,null,null,null,null,null,null,null,null,null,null,null,null,null,null,null,{"$f":"IF(Clients!B1473=\"\",\"\",Clients!B1473)","v":""},{"$f":"IF(Clients!C1473=\"\",\"\",Clients!C1473)","v":""}]
[null,null,null,null,null,null,null,null,null,null,null,null,null,null,null,null,null,null,{"$f":"IF(Clients!B1474=\"\",\"\",Clients!B1474)","v":""},{"$f":"IF(Clients!C1474=\"\",\"\",Clients!C1474)","v":""}]
[null,null,null,null,null,null,null,null,null,null,null,null,null,null,null,null,null,null,{"$f":"IF(Clients!B1475=\"\",\"\",Clients!B1475)","v":""},{"$f":"IF(Clients!C1475=\"\",\"\",Clients!C1475)","v":""}]
[null,null,null,null,null,null,null,null,null,null,null,null,null,null,null,null,null,null,{"$f":"IF(Clients!B1476=\"\",\"\",Clients!B1476)","v":""},{"$f":"IF(Clients!C1476=\"\",\"\",Clients!C1476)","v":""}]
[null,null,null,null,null,null,null,null,null,null,null,null,null,null,null,null,null,null,{"$f":"IF(Clients!B1477=\"\",\"\",Clients!B1477)","v":""},{"$f":"IF(Clients!C1477=\"\",\"\",Clients!C1477)","v":""}]
[null,null,null,null,null,null,null,null,null,null,null,null,null,null,null,null,null,null,{"$f":"IF(Clients!B1478=\"\",\"\",Clients!B1478)","v":""},{"$f":"IF(Clients!C1478=\"\",\"\",Clients!C1478)","v":""}]
[null,null,null,null,null,null,null,null,null,null,null,null,null,null,null,null,null,null,{"$f":"IF(Clients!B1479=\"\",\"\",Clients!B1479)","v":""},{"$f":"IF(Clients!C1479=\"\",\"\",Clients!C1479)","v":""}]
[null,null,null,null,null,null,null,null,null,null,null,null,null,null,null,null,null,null,{"$f":"IF(Clients!B1480=\"\",\"\",Clients!B1480)","v":""},{"$f":"IF(Clients!C1480=\"\",\"\",Clients!C1480)","v":""}]
[null,null,null,null,null,null,null,null,null,null,null,null,null,null,null,null,null,null,{"$f":"IF(Clients!B1481=\"\",\"\",Clients!B1481)","v":""},{"$f":"IF(Clients!C1481=\"\",\"\",Clients!C1481)","v":""}]
[null,null,null,null,null,null,null,null,null,null,null,null,null,null,null,null,null,null,{"$f":"IF(Clients!B1482=\"\",\"\",Clients!B1482)","v":""},{"$f":"IF(Clients!C1482=\"\",\"\",Clients!C1482)","v":""}]
[null,null,null,null,null,null,null,null,null,null,null,null,null,null,null,null,null,null,{"$f":"IF(Clients!B1483=\"\",\"\",Clients!B1483)","v":""},{"$f":"IF(Clients!C1483=\"\",\"\",Clients!C1483)","v":""}]
[null,null,null,null,null,null,null,null,null,null,null,null,null,null,null,null,null,null,{"$f":"IF(Clients!B1484=\"\",\"\",Clients!B1484)","v":""},{"$f":"IF(Clients!C1484=\"\",\"\",Clients!C1484)","v":""}]
[null,null,null,null,null,null,null,null,null,null,null,null,null,null,null,null,null,null,{"$f":"IF(Clients!B1485=\"\",\"\",Clients!B1485)","v":""},{"$f":"IF(Clients!C1485=\"\",\"\",Clients!C1485)","v":""}]
[null,null,null,null,null,null,null,null,null,null,null,null,null,null,null,null,null,null,{"$f":"IF(Clients!B1486=\"\",\"\",Clients!B1486)","v":""},{"$f":"IF(Clients!C1486=\"\",\"\",Clients!C1486)","v":""}]
[null,null,null,null,null,null,null,null,null,null,null,null,null,null,null,null,null,null,{"$f":"IF(Clients!B1487=\"\",\"\",Clients!B1487)","v":""},{"$f":"IF(Clients!C1487=\"\",\"\",Clients!C1487)","v":""}]
[null,null,null,null,null,null,null,null,null,null,null,null,null,null,null,null,null,null,{"$f":"IF(Clients!B1488=\"\",\"\",Clients!B1488)","v":""},{"$f":"IF(Clients!C1488=\"\",\"\",Clients!C1488)","v":""}]
[null,null,null,null,null,null,null,null,null,null,null,null,null,null,null,null,null,null,{"$f":"IF(Clients!B1489=\"\",\"\",Clients!B1489)","v":""},{"$f":"IF(Clients!C1489=\"\",\"\",Clients!C1489)","v":""}]
[null,null,null,null,null,null,null,null,null,null,null,null,null,null,null,null,null,null,{"$f":"IF(Clients!B1490=\"\",\"\",Clients!B1490)","v":""},{"$f":"IF(Clients!C1490=\"\",\"\",Clients!C1490)","v":""}]
[null,null,null,null,null,null,null,null,null,null,null,null,null,null,null,null,null,null,{"$f":"IF(Clients!B1491=\"\",\"\",Clients!B1491)","v":""},{"$f":"IF(Clients!C1491=\"\",\"\",Clients!C1491)","v":""}]
[null,null,null,null,null,null,null,null,null,null,null,null,null,null,null,null,null,null,{"$f":"IF(Clients!B1492=\"\",\"\",Clients!B1492)","v":""},{"$f":"IF(Clients!C1492=\"\",\"\",Clients!C1492)","v":""}]
[null,null,null,null,null,null,null,null,null,null,null,null,null,null,null,null,null,null,{"$f":"IF(Clients!B1493=\"\",\"\",Clients!B1493)","v":""},{"$f":"IF(Clients!C1493=\"\",\"\",Clients!C1493)","v":""}]
[null,null,null,null,null,null,null,null,null,null,null,null,null,null,null,null,null,null,{"$f":"IF(Clients!B1494=\"\",\"\",Clients!B1494)","v":""},{"$f":"IF(Clients!C1494=\"\",\"\",Clients!C1494)","v":""}]
[null,null,null,null,null,null,null,null,null,null,null,null,null,null,null,null,null,null,{"$f":"IF(Clients!B1495=\"\",\"\",Clients!B1495)","v":""},{"$f":"IF(Clients!C1495=\"\",\"\",Clients!C1495)","v":""}]
[null,null,null,null,null,null,null,null,null,null,null,null,null,null,null,null,null,null,{"$f":"IF(Clients!B1496=\"\",\"\",Clients!B1496)","v":""},{"$f":"IF(Clients!C1496=\"\",\"\",Clients!C1496)","v":""}]
[null,null,null,null,null,null,null,null,null,null,null,null,null,null,null,null,null,null,{"$f":"IF(Clients!B1497=\"\",\"\",Clients!B1497)","v":""},{"$f":"IF(Clients!C1497=\"\",\"\",Clients!C1497)","v":""}]
[null,null,null,null,null,null,null,null,null,null,null,null,null,null,null,null,null,null,{"$f":"IF(Clients!B1498=\"\",\"\",Clients!B1498)","v":""},{"$f":"IF(Clients!C1498=\"\",\"\",Clients!C1498)","v":""}]
[null,null,null,null,null,null,null,null,null,null,null,null,null,null,null,null,null,null,{"$f":"IF(Clients!B1499=\"\",\"\",Clients!B1499)","v":""},{"$f":"IF(Clients!C1499=\"\",\"\",Clients!C1499)","v":""}]
[null,null,null,null,null,null,null,null,null,null,null,null,null,null,null,null,null,null,{"$f":"IF(Clients!B1500=\"\",\"\",Clients!B1500)","v":""},{"$f":"IF(Clients!C1500=\"\",\"\",Clients!C1500)","v":""}]
[null,null,null,null,null,null,null,null,null,null,null,null,null,null,null,null,null,null,{"$f":"IF(Clients!B1501=\"\",\"\",Clients!B1501)","v":""},{"$f":"IF(Clients!C1501=\"\",\"\",Clients!C1501)","v":""}]
[null,null,null,null,null,null,null,null,null,null,null,null,null,null,null,null,null,null,{"$f":"IF(Clients!B1502=\"\",\"\",Clients!B1502)","v":""},{"$f":"IF(Clients!C1502=\"\",\"\",Clients!C1502)","v":""}]
[null,null,null,null,null,null,null,null,null,null,null,null,null,null,null,null,null,null,{"$f":"IF(Clients!B1503=\"\",\"\",Clients!B1503)","v":""},{"$f":"IF(Clients!C1503=\"\",\"\",Clients!C1503)","v":""}]
[null,null,null,null,null,null,null,null,null,null,null,null,null,null,null,null,null,null,{"$f":"IF(Clients!B1504=\"\",\"\",Clients!B1504)","v":""},{"$f":"IF(Clients!C1504=\"\",\"\",Clients!C1504)","v":""}]
[null,null,null,null,null,null,null,null,null,null,null,null,null,null,null,null,null,null,{"$f":"IF(Clients!B1505=\"\",\"\",Clients!B1505)","v":""},{"$f":"IF(Clients!C1505=\"\",\"\",Clients!C1505)","v":""}]
[null,null,null,null,null,null,null,null,null,null,null,null,null,null,null,null,null,null,{"$f":"IF(Clients!B1506=\"\",\"\",Clients!B1506)","v":""},{"$f":"IF(Clients!C1506=\"\",\"\",Clients!C1506)","v":""}]
[null,null,null,null,null,null,null,null,null,null,null,null,null,null,null,null,null,null,{"$f":"IF(Clients!B1507=\"\",\"\",Clients!B1507)","v":""},{"$f":"IF(Clients!C1507=\"\",\"\",Clients!C1507)","v":""}]
[null,null,null,null,null,null,null,null,null,null,null,null,null,null,null,null,null,null,{"$f":"IF(Clients!B1508=\"\",\"\",Clients!B1508)","v":""},{"$f":"IF(Clients!C1508=\"\",\"\",Clients!C1508)","v":""}]
[null,null,null,null,null,null,null,null,null,null,null,null,null,null,null,null,null,null,{"$f":"IF(Clients!B1509=\"\",\"\",Clients!B1509)","v":""},{"$f":"IF(Clients!C1509=\"\",\"\",Clients!C1509)","v":""}]
[null,null,null,null,null,null,null,null,null,null,null,null,null,null,null,null,null,null,{"$f":"IF(Clients!B1510=\"\",\"\",Clients!B1510)","v":""},{"$f":"IF(Clients!C1510=\"\",\"\",Clients!C1510)","v":""}]
[null,null,null,null,null,null,null,null,null,null,null,null,null,null,null,null,null,null,{"$f":"IF(Clients!B1511=\"\",\"\",Clients!B1511)","v":""},{"$f":"IF(Clients!C1511=\"\",\"\",Clients!C1511)","v":""}]
[null,null,null,null,null,null,null,null,null,null,null,null,null,null,null,null,null,null,{"$f":"IF(Clients!B1512=\"\",\"\",Clients!B1512)","v":""},{"$f":"IF(Clients!C1512=\"\",\"\",Clients!C1512)","v":""}]
[null,null,null,null,null,null,null,null,null,null,null,null,null,null,null,null,null,null,{"$f":"IF(Clients!B1513=\"\",\"\",Clients!B1513)","v":""},{"$f":"IF(Clients!C1513=\"\",\"\",Clients!C1513)","v":""}]
[null,null,null,null,null,null,null,null,null,null,null,null,null,null,null,null,null,null,{"$f":"IF(Clients!B1514=\"\",\"\",Clients!B1514)","v":""},{"$f":"IF(Clients!C1514=\"\",\"\",Clients!C1514)","v":""}]
[null,null,null,null,null,null,null,null,null,null,null,null,null,null,null,null,null,null,{"$f":"IF(Clients!B1515=\"\",\"\",Clients!B1515)","v":""},{"$f":"IF(Clients!C1515=\"\",\"\",Clients!C1515)","v":""}]
[null,null,null,null,null,null,null,null,null,null,null,null,null,null,null,null,null,null,{"$f":"IF(Clients!B1516=\"\",\"\",Clients!B1516)","v":""},{"$f":"IF(Clients!C1516=\"\",\"\",Clients!C1516)","v":""}]
[null,null,null,null,null,null,null,null,null,null,null,null,null,null,null,null,null,null,{"$f":"IF(Clients!B1517=\"\",\"\",Clients!B1517)","v":""},{"$f":"IF(Clients!C1517=\"\",\"\",Clients!C1517)","v":""}]
[null,null,null,null,null,null,null,null,null,null,null,null,null,null,null,null,null,null,{"$f":"IF(Clients!B1518=\"\",\"\",Clients!B1518)","v":""},{"$f":"IF(Clients!C1518=\"\",\"\",Clients!C1518)","v":""}]
[null,null,null,null,null,null,null,null,null,null,null,null,null,null,null,null,null,null,{"$f":"IF(Clients!B1519=\"\",\"\",Clients!B1519)","v":""},{"$f":"IF(Clients!C1519=\"\",\"\",Clients!C1519)","v":""}]
[null,null,null,null,null,null,null,null,null,null,null,null,null,null,null,null,null,null,{"$f":"IF(Clients!B1520=\"\",\"\",Clients!B1520)","v":""},{"$f":"IF(Clients!C1520=\"\",\"\",Clients!C1520)","v":""}]
[null,null,null,null,null,null,null,null,null,null,null,null,null,null,null,null,null,null,{"$f":"IF(Clients!B1521=\"\",\"\",Clients!B1521)","v":""},{"$f":"IF(Clients!C1521=\"\",\"\",Clients!C1521)","v":""}]
[null,null,null,null,null,null,null,null,null,null,null,null,null,null,null,null,null,null,{"$f":"IF(Clients!B1522=\"\",\"\",Clients!B1522)","v":""},{"$f":"IF(Clients!C1522=\"\",\"\",Clients!C1522)","v":""}]
[null,null,null,null,null,null,null,null,null,null,null,null,null,null,null,null,null,null,{"$f":"IF(Clients!B1523=\"\",\"\",Clients!B1523)","v":""},{"$f":"IF(Clients!C1523=\"\",\"\",Clients!C1523)","v":""}]
[null,null,null,null,null,null,null,null,null,null,null,null,null,null,null,null,null,null,{"$f":"IF(Clients!B1524=\"\",\"\",Clients!B1524)","v":""},{"$f":"IF(Clients!C1524=\"\",\"\",Clients!C1524)","v":""}]
[null,null,null,null,null,null,null,null,null,null,null,null,null,null,null,null,null,null,{"$f":"IF(Clients!B1525=\"\",\"\",Clients!B1525)","v":""},{"$f":"IF(Clients!C1525=\"\",\"\",Clients!C1525)","v":""}]
[null,null,null,null,null,null,null,null,null,null,null,null,null,null,null,null,null,null,{"$f":"IF(Clients!B1526=\"\",\"\",Clients!B1526)","v":""},{"$f":"IF(Clients!C1526=\"\",\"\",Clients!C1526)","v":""}]
[null,null,null,null,null,null,null,null,null,null,null,null,null,null,null,null,null,null,{"$f":"IF(Clients!B1527=\"\",\"\",Clients!B1527)","v":""},{"$f":"IF(Clients!C1527=\"\",\"\",Clients!C1527)","v":""}]
[null,null,null,null,null,null,null,null,null,null,null,null,null,null,null,null,null,null,{"$f":"IF(Clients!B1528=\"\",\"\",Clients!B1528)","v":""},{"$f":"IF(Clients!C1528=\"\",\"\",Clients!C1528)","v":""}]
[null,null,null,null,null,null,null,null,null,null,null,null,null,null,null,null,null,null,{"$f":"IF(Clients!B1529=\"\",\"\",Clients!B1529)","v":""},{"$f":"IF(Clients!C1529=\"\",\"\",Clients!C1529)","v":""}]
[null,null,null,null,null,null,null,null,null,null,null,null,null,null,null,null,null,null,{"$f":"IF(Clients!B1530=\"\",\"\",Clients!B1530)","v":""},{"$f":"IF(Clients!C1530=\"\",\"\",Clients!C1530)","v":""}]
[null,null,null,null,null,null,null,null,null,null,null,null,null,null,null,null,null,null,{"$f":"IF(Clients!B1531=\"\",\"\",Clients!B1531)","v":""},{"$f":"IF(Clients!C1531=\"\",\"\",Clients!C1531)","v":""}]
[null,null,null,null,null,null,null,null,null,null,null,null,null,null,null,null,null,null,{"$f":"IF(Clients!B1532=\"\",\"\",Clients!B1532)","v":""},{"$f":"IF(Clients!C1532=\"\",\"\",Clients!C1532)","v":""}]
[null,null,null,null,null,null,null,null,null,null,null,null,null,null,null,null,null,null,{"$f":"IF(Clients!B1533=\"\",\"\",Clients!B1533)","v":""},{"$f":"IF(Clients!C1533=\"\",\"\",Clients!C1533)","v":""}]
[null,null,null,null,null,null,null,null,null,null,null,null,null,null,null,null,null,null,{"$f":"IF(Clients!B1534=\"\",\"\",Clients!B1534)","v":""},{"$f":"IF(Clients!C1534=\"\",\"\",Clients!C1534)","v":""}]
[null,null,null,null,null,null,null,null,null,null,null,null,null,null,null,null,null,null,{"$f":"IF(Clients!B1535=\"\",\"\",Clients!B1535)","v":""},{"$f":"IF(Clients!C1535=\"\",\"\",Clients!C1535)","v":""}]
[null,null,null,null,null,null,null,null,null,null,null,null,null,null,null,null,null,null,{"$f":"IF(Clients!B1536=\"\",\"\",Clients!B1536)","v":""},{"$f":"IF(Clients!C1536=\"\",\"\",Clients!C1536)","v":""}]
[null,null,null,null,null,null,null,null,null,null,null,null,null,null,null,null,null,null,{"$f":"IF(Clients!B1537=\"\",\"\",Clients!B1537)","v":""},{"$f":"IF(Clients!C1537=\"\",\"\",Clients!C1537)","v":""}]
[null,null,null,null,null,null,null,null,null,null,null,null,null,null,null,null,null,null,{"$f":"IF(Clients!B1538=\"\",\"\",Clients!B1538)","v":""},{"$f":"IF(Clients!C1538=\"\",\"\",Clients!C1538)","v":""}]
[null,null,null,null,null,null,null,null,null,null,null,null,null,null,null,null,null,null,{"$f":"IF(Clients!B1539=\"\",\"\",Clients!B1539)","v":""},{"$f":"IF(Clients!C1539=\"\",\"\",Clients!C1539)","v":""}]
[null,null,null,null,null,null,null,null,null,null,null,null,null,null,null,null,null,null,{"$f":"IF(Clients!B1540=\"\",\"\",Clients!B1540)","v":""},{"$f":"IF(Clients!C1540=\"\",\"\",Clients!C1540)","v":""}]
[null,null,null,null,null,null,null,null,null,null,null,null,null,null,null,null,null,null,{"$f":"IF(Clients!B1541=\"\",\"\",Clients!B1541)","v":""},{"$f":"IF(Clients!C1541=\"\",\"\",Clients!C1541)","v":""}]
[null,null,null,null,null,null,null,null,null,null,null,null,null,null,null,null,null,null,{"$f":"IF(Clients!B1542=\"\",\"\",Clients!B1542)","v":""},{"$f":"IF(Clients!C1542=\"\",\"\",Clients!C1542)","v":""}]
[null,null,null,null,null,null,null,null,null,null,null,null,null,null,null,null,null,null,{"$f":"IF(Clients!B1543=\"\",\"\",Clients!B1543)","v":""},{"$f":"IF(Clients!C1543=\"\",\"\",Clients!C1543)","v":""}]
[null,null,null,null,null,null,null,null,null,null,null,null,null,null,null,null,null,null,{"$f":"IF(Clients!B1544=\"\",\"\",Clients!B1544)","v":""},{"$f":"IF(Clients!C1544=\"\",\"\",Clients!C1544)","v":""}]
[null,null,null,null,null,null,null,null,null,null,null,null,null,null,null,null,null,null,{"$f":"IF(Clients!B1545=\"\",\"\",Clients!B1545)","v":""},{"$f":"IF(Clients!C1545=\"\",\"\",Clients!C1545)","v":""}]
[null,null,null,null,null,null,null,null,null,null,null,null,null,null,null,null,null,null,{"$f":"IF(Clients!B1546=\"\",\"\",Clients!B1546)","v":""},{"$f":"IF(Clients!C1546=\"\",\"\",Clients!C1546)","v":""}]
[null,null,null,null,null,null,null,null,null,null,null,null,null,null,null,null,null,null,{"$f":"IF(Clients!B1547=\"\",\"\",Clients!B1547)","v":""},{"$f":"IF(Clients!C1547=\"\",\"\",Clients!C1547)","v":""}]
[null,null,null,null,null,null,null,null,null,null,null,null,null,null,null,null,null,null,{"$f":"IF(Clients!B1548=\"\",\"\",Clients!B1548)","v":""},{"$f":"IF(Clients!C1548=\"\",\"\",Clients!C1548)","v":""}]
[null,null,null,null,null,null,null,null,null,null,null,null,null,null,null,null,null,null,{"$f":"IF(Clients!B1549=\"\",\"\",Clients!B1549)","v":""},{"$f":"IF(Clients!C1549=\"\",\"\",Clients!C1549)","v":""}]
[null,null,null,null,null,null,null,null,null,null,null,null,null,null,null,null,null,null,{"$f":"IF(Clients!B1550=\"\",\"\",Clients!B1550)","v":""},{"$f":"IF(Clients!C1550=\"\",\"\",Clients!C1550)","v":""}]
[null,null,null,null,null,null,null,null,null,null,null,null,null,null,null,null,null,null,{"$f":"IF(Clients!B1551=\"\",\"\",Clients!B1551)","v":""},{"$f":"IF(Clients!C1551=\"\",\"\",Clients!C1551)","v":""}]
[null,null,null,null,null,null,null,null,null,null,null,null,null,null,null,null,null,null,{"$f":"IF(Clients!B1552=\"\",\"\",Clients!B1552)","v":""},{"$f":"IF(Clients!C1552=\"\",\"\",Clients!C1552)","v":""}]
[null,null,null,null,null,null,null,null,null,null,null,null,null,null,null,null,null,null,{"$f":"IF(Clients!B1553=\"\",\"\",Clients!B1553)","v":""},{"$f":"IF(Clients!C1553=\"\",\"\",Clients!C1553)","v":""}]
[null,null,null,null,null,null,null,null,null,null,null,null,null,null,null,null,null,null,{"$f":"IF(Clients!B1554=\"\",\"\",Clients!B1554)","v":""},{"$f":"IF(Clients!C1554=\"\",\"\",Clients!C1554)","v":""}]
[null,null,null,null,null,null,null,null,null,null,null,null,null,null,null,null,null,null,{"$f":"IF(Clients!B1555=\"\",\"\",Clients!B1555)","v":""},{"$f":"IF(Clients!C1555=\"\",\"\",Clients!C1555)","v":""}]
[null,null,null,null,null,null,null,null,null,null,null,null,null,null,null,null,null,null,{"$f":"IF(Clients!B1556=\"\",\"\",Clients!B1556)","v":""},{"$f":"IF(Clients!C1556=\"\",\"\",Clients!C1556)","v":""}]
[null,null,null,null,null,null,null,null,null,null,null,null,null,null,null,null,null,null,{"$f":"IF(Clients!B1557=\"\",\"\",Clients!B1557)","v":""},{"$f":"IF(Clients!C1557=\"\",\"\",Clients!C1557)","v":""}]
[null,null,null,null,null,null,null,null,null,null,null,null,null,null,null,null,null,null,{"$f":"IF(Clients!B1558=\"\",\"\",Clients!B1558)","v":""},{"$f":"IF(Clients!C1558=\"\",\"\",Clients!C1558)","v":""}]
[null,null,null,null,null,null,null,null,null,null,null,null,null,null,null,null,null,null,{"$f":"IF(Clients!B1559=\"\",\"\",Clients!B1559)","v":""},{"$f":"IF(Clients!C1559=\"\",\"\",Clients!C1559)","v":""}]
[null,null,null,null,null,null,null,null,null,null,null,null,null,null,null,null,null,null,{"$f":"IF(Clients!B1560=\"\",\"\",Clients!B1560)","v":""},{"$f":"IF(Clients!C1560=\"\",\"\",Clients!C1560)","v":""}]
[null,null,null,null,null,null,null,null,null,null,null,null,null,null,null,null,null,null,{"$f":"IF(Clients!B1561=\"\",\"\",Clients!B1561)","v":""},{"$f":"IF(Clients!C1561=\"\",\"\",Clients!C1561)","v":""}]
[null,null,null,null,null,null,null,null,null,null,null,null,null,null,null,null,null,null,{"$f":"IF(Clients!B1562=\"\",\"\",Clients!B1562)","v":""},{"$f":"IF(Clients!C1562=\"\",\"\",Clients!C1562)","v":""}]
[null,null,null,null,null,null,null,null,null,null,null,null,null,null,null,null,null,null,{"$f":"IF(Clients!B1563=\"\",\"\",Clients!B1563)","v":""},{"$f":"IF(Clients!C1563=\"\",\"\",Clients!C1563)","v":""}]
[null,null,null,null,null,null,null,null,null,null,null,null,null,null,null,null,null,null,{"$f":"IF(Clients!B1564=\"\",\"\",Clients!B1564)","v":""},{"$f":"IF(Clients!C1564=\"\",\"\",Clients!C1564)","v":""}]
[null,null,null,null,null,null,null,null,null,null,null,null,null,null,null,null,null,null,{"$f":"IF(Clients!B1565=\"\",\"\",Clients!B1565)","v":""},{"$f":"IF(Clients!C1565=\"\",\"\",Clients!C1565)","v":""}]
[null,null,null,null,null,null,null,null,null,null,null,null,null,null,null,null,null,null,{"$f":"IF(Clients!B1566=\"\",\"\",Clients!B1566)","v":""},{"$f":"IF(Clients!C1566=\"\",\"\",Clients!C1566)","v":""}]
[null,null,null,null,null,null,null,null,null,null,null,null,null,null,null,null,null,null,{"$f":"IF(Clients!B1567=\"\",\"\",Clients!B1567)","v":""},{"$f":"IF(Clients!C1567=\"\",\"\",Clients!C1567)","v":""}]
[null,null,null,null,null,null,null,null,null,null,null,null,null,null,null,null,null,null,{"$f":"IF(Clients!B1568=\"\",\"\",Clients!B1568)","v":""},{"$f":"IF(Clients!C1568=\"\",\"\",Clients!C1568)","v":""}]
[null,null,null,null,null,null,null,null,null,null,null,null,null,null,null,null,null,null,{"$f":"IF(Clients!B1569=\"\",\"\",Clients!B1569)","v":""},{"$f":"IF(Clients!C1569=\"\",\"\",Clients!C1569)","v":""}]
[null,null,null,null,null,null,null,null,null,null,null,null,null,null,null,null,null,null,{"$f":"IF(Clients!B1570=\"\",\"\",Clients!B1570)","v":""},{"$f":"IF(Clients!C1570=\"\",\"\",Clients!C1570)","v":""}]
[null,null,null,null,null,null,null,null,null,null,null,null,null,null,null,null,null,null,{"$f":"IF(Clients!B1571=\"\",\"\",Clients!B1571)","v":""},{"$f":"IF(Clients!C1571=\"\",\"\",Clients!C1571)","v":""}]
[null,null,null,null,null,null,null,null,null,null,null,null,null,null,null,null,null,null,{"$f":"IF(Clients!B1572=\"\",\"\",Clients!B1572)","v":""},{"$f":"IF(Clients!C1572=\"\",\"\",Clients!C1572)","v":""}]
[null,null,null,null,null,null,null,null,null,null,null,null,null,null,null,null,null,null,{"$f":"IF(Clients!B1573=\"\",\"\",Clients!B1573)","v":""},{"$f":"IF(Clients!C1573=\"\",\"\",Clients!C1573)","v":""}]
[null,null,null,null,null,null,null,null,null,null,null,null,null,null,null,null,null,null,{"$f":"IF(Clients!B1574=\"\",\"\",Clients!B1574)","v":""},{"$f":"IF(Clients!C1574=\"\",\"\",Clients!C1574)","v":""}]
[null,null,null,null,null,null,null,null,null,null,null,null,null,null,null,null,null,null,{"$f":"IF(Clients!B1575=\"\",\"\",Clients!B1575)","v":""},{"$f":"IF(Clients!C1575=\"\",\"\",Clients!C1575)","v":""}]
[null,null,null,null,null,null,null,null,null,null,null,null,null,null,null,null,null,null,{"$f":"IF(Clients!B1576=\"\",\"\",Clients!B1576)","v":""},{"$f":"IF(Clients!C1576=\"\",\"\",Clients!C1576)","v":""}]
[null,null,null,null,null,null,null,null,null,null,null,null,null,null,null,null,null,null,{"$f":"IF(Clients!B1577=\"\",\"\",Clients!B1577)","v":""},{"$f":"IF(Clients!C1577=\"\",\"\",Clients!C1577)","v":""}]
[null,null,null,null,null,null,null,null,null,null,null,null,null,null,null,null,null,null,{"$f":"IF(Clients!B1578=\"\",\"\",Clients!B1578)","v":""},{"$f":"IF(Clients!C1578=\"\",\"\",Clients!C1578)","v":""}]
[null,null,null,null,null,null,null,null,null,null,null,null,null,null,null,null,null,null,{"$f":"IF(Clients!B1579=\"\",\"\",Clients!B1579)","v":""},{"$f":"IF(Clients!C1579=\"\",\"\",Clients!C1579)","v":""}]
[null,null,null,null,null,null,null,null,null,null,null,null,null,null,null,null,null,null,{"$f":"IF(Clients!B1580=\"\",\"\",Clients!B1580)","v":""},{"$f":"IF(Clients!C1580=\"\",\"\",Clients!C1580)","v":""}]
[null,null,null,null,null,null,null,null,null,null,null,null,null,null,null,null,null,null,{"$f":"IF(Clients!B1581=\"\",\"\",Clients!B1581)","v":""},{"$f":"IF(Clients!C1581=\"\",\"\",Clients!C1581)","v":""}]
[null,null,null,null,null,null,null,null,null,null,null,null,null,null,null,null,null,null,{"$f":"IF(Clients!B1582=\"\",\"\",Clients!B1582)","v":""},{"$f":"IF(Clients!C1582=\"\",\"\",Clients!C1582)","v":""}]
[null,null,null,null,null,null,null,null,null,null,null,null,null,null,null,null,null,null,{"$f":"IF(Clients!B1583=\"\",\"\",Clients!B1583)","v":""},{"$f":"IF(Clients!C1583=\"\",\"\",Clients!C1583)","v":""}]
[null,null,null,null,null,null,null,null,null,null,null,null,null,null,null,null,null,null,{"$f":"IF(Clients!B1584=\"\",\"\",Clients!B1584)","v":""},{"$f":"IF(Clients!C1584=\"\",\"\",Clients!C1584)","v":""}]
[null,null,null,null,null,null,null,null,null,null,null,null,null,null,null,null,null,null,{"$f":"IF(Clients!B1585=\"\",\"\",Clients!B1585)","v":""},{"$f":"IF(Clients!C1585=\"\",\"\",Clients!C1585)","v":""}]
[null,null,null,null,null,null,null,null,null,null,null,null,null,null,null,null,null,null,{"$f":"IF(Clients!B1586=\"\",\"\",Clients!B1586)","v":""},{"$f":"IF(Clients!C1586=\"\",\"\",Clients!C1586)","v":""}]
[null,null,null,null,null,null,null,null,null,null,null,null,null,null,null,null,null,null,{"$f":"IF(Clients!B1587=\"\",\"\",Clients!B1587)","v":""},{"$f":"IF(Clients!C1587=\"\",\"\",Clients!C1587)","v":""}]
[null,null,null,null,null,null,null,null,null,null,null,null,null,null,null,null,null,null,{"$f":"IF(Clients!B1588=\"\",\"\",Clients!B1588)","v":""},{"$f":"IF(Clients!C1588=\"\",\"\",Clients!C1588)","v":""}]
[null,null,null,null,null,null,null,null,null,null,null,null,null,null,null,null,null,null,{"$f":"IF(Clients!B1589=\"\",\"\",Clients!B1589)","v":""},{"$f":"IF(Clients!C1589=\"\",\"\",Clients!C1589)","v":""}]
[null,null,null,null,null,null,null,null,null,null,null,null,null,null,null,null,null,null,{"$f":"IF(Clients!B1590=\"\",\"\",Clients!B1590)","v":""},{"$f":"IF(Clients!C1590=\"\",\"\",Clients!C1590)","v":""}]
[null,null,null,null,null,null,null,null,null,null,null,null,null,null,null,null,null,null,{"$f":"IF(Clients!B1591=\"\",\"\",Clients!B1591)","v":""},{"$f":"IF(Clients!C1591=\"\",\"\",Clients!C1591)","v":""}]
[null,null,null,null,null,null,null,null,null,null,null,null,null,null,null,null,null,null,{"$f":"IF(Clients!B1592=\"\",\"\",Clients!B1592)","v":""},{"$f":"IF(Clients!C1592=\"\",\"\",Clients!C1592)","v":""}]
[null,null,null,null,null,null,null,null,null,null,null,null,null,null,null,null,null,null,{"$f":"IF(Clients!B1593=\"\",\"\",Clients!B1593)","v":""},{"$f":"IF(Clients!C1593=\"\",\"\",Clients!C1593)","v":""}]
[null,null,null,null,null,null,null,null,null,null,null,null,null,null,null,null,null,null,{"$f":"IF(Clients!B1594=\"\",\"\",Clients!B1594)","v":""},{"$f":"IF(Clients!C1594=\"\",\"\",Clients!C1594)","v":""}]
[null,null,null,null,null,null,null,null,null,null,null,null,null,null,null,null,null,null,{"$f":"IF(Clients!B1595=\"\",\"\",Clients!B1595)","v":""},{"$f":"IF(Clients!C1595=\"\",\"\",Clients!C1595)","v":""}]
[null,null,null,null,null,null,null,null,null,null,null,null,null,null,null,null,null,null,{"$f":"IF(Clients!B1596=\"\",\"\",Clients!B1596)","v":""},{"$f":"IF(Clients!C1596=\"\",\"\",Clients!C1596)","v":""}]
[null,null,null,null,null,null,null,null,null,null,null,null,null,null,null,null,null,null,{"$f":"IF(Clients!B1597=\"\",\"\",Clients!B1597)","v":""},{"$f":"IF(Clients!C1597=\"\",\"\",Clients!C1597)","v":""}]
[null,null,null,null,null,null,null,null,null,null,null,null,null,null,null,null,null,null,{"$f":"IF(Clients!B1598=\"\",\"\",Clients!B1598)","v":""},{"$f":"IF(Clients!C1598=\"\",\"\",Clients!C1598)","v":""}]
[null,null,null,null,null,null,null,null,null,null,null,null,null,null,null,null,null,null,{"$f":"IF(Clients!B1599=\"\",\"\",Clients!B1599)","v":""},{"$f":"IF(Clients!C1599=\"\",\"\",Clients!C1599)","v":""}]
[null,null,null,null,null,null,null,null,null,null,null,null,null,null,null,null,null,null,{"$f":"IF(Clients!B1600=\"\",\"\",Clients!B1600)","v":""},{"$f":"IF(Clients!C1600=\"\",\"\",Clients!C1600)","v":""}]
[null,null,null,null,null,null,null,null,null,null,null,null,null,null,null,null,null,null,{"$f":"IF(Clients!B1601=\"\",\"\",Clients!B1601)","v":""},{"$f":"IF(Clients!C1601=\"\",\"\",Clients!C1601)","v":""}]
[null,null,null,null,null,null,null,null,null,null,null,null,null,null,null,null,null,null,{"$f":"IF(Clients!B1602=\"\",\"\",Clients!B1602)","v":""},{"$f":"IF(Clients!C1602=\"\",\"\",Clients!C1602)","v":""}]
[null,null,null,null,null,null,null,null,null,null,null,null,null,null,null,null,null,null,{"$f":"IF(Clients!B1603=\"\",\"\",Clients!B1603)","v":""},{"$f":"IF(Clients!C1603=\"\",\"\",Clients!C1603)","v":""}]
[null,null,null,null,null,null,null,null,null,null,null,null,null,null,null,null,null,null,{"$f":"IF(Clients!B1604=\"\",\"\",Clients!B1604)","v":""},{"$f":"IF(Clients!C1604=\"\",\"\",Clients!C1604)","v":""}]
[null,null,null,null,null,null,null,null,null,null,null,null,null,null,null,null,null,null,{"$f":"IF(Clients!B1605=\"\",\"\",Clients!B1605)","v":""},{"$f":"IF(Clients!C1605=\"\",\"\",Clients!C1605)","v":""}]
[null,null,null,null,null,null,null,null,null,null,null,null,null,null,null,null,null,null,{"$f":"IF(Clients!B1606=\"\",\"\",Clients!B1606)","v":""},{"$f":"IF(Clients!C1606=\"\",\"\",Clients!C1606)","v":""}]
[null,null,null,null,null,null,null,null,null,null,null,null,null,null,null,null,null,null,{"$f":"IF(Clients!B1607=\"\",\"\",Clients!B1607)","v":""},{"$f":"IF(Clients!C1607=\"\",\"\",Clients!C1607)","v":""}]
[null,null,null,null,null,null,null,null,null,null,null,null,null,null,null,null,null,null,{"$f":"IF(Clients!B1608=\"\",\"\",Clients!B1608)","v":""},{"$f":"IF(Clients!C1608=\"\",\"\",Clients!C1608)","v":""}]
[null,null,null,null,null,null,null,null,null,null,null,null,null,null,null,null,null,null,{"$f":"IF(Clients!B1609=\"\",\"\",Clients!B1609)","v":""},{"$f":"IF(Clients!C1609=\"\",\"\",Clients!C1609)","v":""}]
[null,null,null,null,null,null,null,null,null,null,null,null,null,null,null,null,null,null,{"$f":"IF(Clients!B1610=\"\",\"\",Clients!B1610)","v":""},{"$f":"IF(Clients!C1610=\"\",\"\",Clients!C1610)","v":""}]
[null,null,null,null,null,null,null,null,null,null,null,null,null,null,null,null,null,null,{"$f":"IF(Clients!B1611=\"\",\"\",Clients!B1611)","v":""},{"$f":"IF(Clients!C1611=\"\",\"\",Clients!C1611)","v":""}]
[null,null,null,null,null,null,null,null,null,null,null,null,null,null,null,null,null,null,{"$f":"IF(Clients!B1612=\"\",\"\",Clients!B1612)","v":""},{"$f":"IF(Clients!C1612=\"\",\"\",Clients!C1612)","v":""}]
[null,null,null,null,null,null,null,null,null,null,null,null,null,null,null,null,null,null,{"$f":"IF(Clients!B1613=\"\",\"\",Clients!B1613)","v":""},{"$f":"IF(Clients!C1613=\"\",\"\",Clients!C1613)","v":""}]
[null,null,null,null,null,null,null,null,null,null,null,null,null,null,null,null,null,null,{"$f":"IF(Clients!B1614=\"\",\"\",Clients!B1614)","v":""},{"$f":"IF(Clients!C1614=\"\",\"\",Clients!C1614)","v":""}]
[null,null,null,null,null,null,null,null,null,null,null,null,null,null,null,null,null,null,{"$f":"IF(Clients!B1615=\"\",\"\",Clients!B1615)","v":""},{"$f":"IF(Clients!C1615=\"\",\"\",Clients!C1615)","v":""}]
[null,null,null,null,null,null,null,null,null,null,null,null,null,null,null,null,null,null,{"$f":"IF(Clients!B1616=\"\",\"\",Clients!B1616)","v":""},{"$f":"IF(Clients!C1616=\"\",\"\",Clients!C1616)","v":""}]
[null,null,null,null,null,null,null,null,null,null,null,null,null,null,null,null,null,null,{"$f":"IF(Clients!B1617=\"\",\"\",Clients!B1617)","v":""},{"$f":"IF(Clients!C1617=\"\",\"\",Clients!C1617)","v":""}]
[null,null,null,null,null,null,null,null,null,null,null,null,null,null,null,null,null,null,{"$f":"IF(Clients!B1618=\"\",\"\",Clients!B1618)","v":""},{"$f":"IF(Clients!C1618=\"\",\"\",Clients!C1618)","v":""}]
[null,null,null,null,null,null,null,null,null,null,null,null,null,null,null,null,null,null,{"$f":"IF(Clients!B1619=\"\",\"\",Clients!B1619)","v":""},{"$f":"IF(Clients!C1619=\"\",\"\",Clients!C1619)","v":""}]
[null,null,null,null,null,null,null,null,null,null,null,null,null,null,null,null,null,null,{"$f":"IF(Clients!B1620=\"\",\"\",Clients!B1620)","v":""},{"$f":"IF(Clients!C1620=\"\",\"\",Clients!C1620)","v":""}]
[null,null,null,null,null,null,null,null,null,null,null,null,null,null,null,null,null,null,{"$f":"IF(Clients!B1621=\"\",\"\",Clients!B1621)","v":""},{"$f":"IF(Clients!C1621=\"\",\"\",Clients!C1621)","v":""}]
[null,null,null,null,null,null,null,null,null,null,null,null,null,null,null,null,null,null,{"$f":"IF(Clients!B1622=\"\",\"\",Clients!B1622)","v":""},{"$f":"IF(Clients!C1622=\"\",\"\",Clients!C1622)","v":""}]
[null,null,null,null,null,null,null,null,null,null,null,null,null,null,null,null,null,null,{"$f":"IF(Clients!B1623=\"\",\"\",Clients!B1623)","v":""},{"$f":"IF(Clients!C1623=\"\",\"\",Clients!C1623)","v":""}]
[null,null,null,null,null,null,null,null,null,null,null,null,null,null,null,null,null,null,{"$f":"IF(Clients!B1624=\"\",\"\",Clients!B1624)","v":""},{"$f":"IF(Clients!C1624=\"\",\"\",Clients!C1624)","v":""}]
[null,null,null,null,null,null,null,null,null,null,null,null,null,null,null,null,null,null,{"$f":"IF(Clients!B1625=\"\",\"\",Clients!B1625)","v":""},{"$f":"IF(Clients!C1625=\"\",\"\",Clients!C1625)","v":""}]
[null,null,null,null,null,null,null,null,null,null,null,null,null,null,null,null,null,null,{"$f":"IF(Clients!B1626=\"\",\"\",Clients!B1626)","v":""},{"$f":"IF(Clients!C1626=\"\",\"\",Clients!C1626)","v":""}]
[null,null,null,null,null,null,null,null,null,null,null,null,null,null,null,null,null,null,{"$f":"IF(Clients!B1627=\"\",\"\",Clients!B1627)","v":""},{"$f":"IF(Clients!C1627=\"\",\"\",Clients!C1627)","v":""}]
[null,null,null,null,null,null,null,null,null,null,null,null,null,null,null,null,null,null,{"$f":"IF(Clients!B1628=\"\",\"\",Clients!B1628)","v":""},{"$f":"IF(Clients!C1628=\"\",\"\",Clients!C1628)","v":""}]
[null,null,null,null,null,null,null,null,null,null,null,null,null,null,null,null,null,null,{"$f":"IF(Clients!B1629=\"\",\"\",Clients!B1629)","v":""},{"$f":"IF(Clients!C1629=\"\",\"\",Clients!C1629)","v":""}]
[null,null,null,null,null,null,null,null,null,null,null,null,null,null,null,null,null,null,{"$f":"IF(Clients!B1630=\"\",\"\",Clients!B1630)","v":""},{"$f":"IF(Clients!C1630=\"\",\"\",Clients!C1630)","v":""}]
[null,null,null,null,null,null,null,null,null,null,null,null,null,null,null,null,null,null,{"$f":"IF(Clients!B1631=\"\",\"\",Clients!B1631)","v":""},{"$f":"IF(Clients!C1631=\"\",\"\",Clients!C1631)","v":""}]
[null,null,null,null,null,null,null,null,null,null,null,null,null,null,null,null,null,null,{"$f":"IF(Clients!B1632=\"\",\"\",Clients!B1632)","v":""},{"$f":"IF(Clients!C1632=\"\",\"\",Clients!C1632)","v":""}]
[null,null,null,null,null,null,null,null,null,null,null,null,null,null,null,null,null,null,{"$f":"IF(Clients!B1633=\"\",\"\",Clients!B1633)","v":""},{"$f":"IF(Clients!C1633=\"\",\"\",Clients!C1633)","v":""}]
[null,null,null,null,null,null,null,null,null,null,null,null,null,null,null,null,null,null,{"$f":"IF(Clients!B1634=\"\",\"\",Clients!B1634)","v":""},{"$f":"IF(Clients!C1634=\"\",\"\",Clients!C1634)","v":""}]
[null,null,null,null,null,null,null,null,null,null,null,null,null,null,null,null,null,null,{"$f":"IF(Clients!B1635=\"\",\"\",Clients!B1635)","v":""},{"$f":"IF(Clients!C1635=\"\",\"\",Clients!C1635)","v":""}]
[null,null,null,null,null,null,null,null,null,null,null,null,null,null,null,null,null,null,{"$f":"IF(Clients!B1636=\"\",\"\",Clients!B1636)","v":""},{"$f":"IF(Clients!C1636=\"\",\"\",Clients!C1636)","v":""}]
[null,null,null,null,null,null,null,null,null,null,null,null,null,null,null,null,null,null,{"$f":"IF(Clients!B1637=\"\",\"\",Clients!B1637)","v":""},{"$f":"IF(Clients!C1637=\"\",\"\",Clients!C1637)","v":""}]
[null,null,null,null,null,null,null,null,null,null,null,null,null,null,null,null,null,null,{"$f":"IF(Clients!B1638=\"\",\"\",Clients!B1638)","v":""},{"$f":"IF(Clients!C1638=\"\",\"\",Clients!C1638)","v":""}]
[null,null,null,null,null,null,null,null,null,null,null,null,null,null,null,null,null,null,{"$f":"IF(Clients!B1639=\"\",\"\",Clients!B1639)","v":""},{"$f":"IF(Clients!C1639=\"\",\"\",Clients!C1639)","v":""}]
[null,null,null,null,null,null,null,null,null,null,null,null,null,null,null,null,null,null,{"$f":"IF(Clients!B1640=\"\",\"\",Clients!B1640)","v":""},{"$f":"IF(Clients!C1640=\"\",\"\",Clients!C1640)","v":""}]
[null,null,null,null,null,null,null,null,null,null,null,null,null,null,null,null,null,null,{"$f":"IF(Clients!B1641=\"\",\"\",Clients!B1641)","v":""},{"$f":"IF(Clients!C1641=\"\",\"\",Clients!C1641)","v":""}]
[null,null,null,null,null,null,null,null,null,null,null,null,null,null,null,null,null,null,{"$f":"IF(Clients!B1642=\"\",\"\",Clients!B1642)","v":""},{"$f":"IF(Clients!C1642=\"\",\"\",Clients!C1642)","v":""}]
[null,null,null,null,null,null,null,null,null,null,null,null,null,null,null,null,null,null,{"$f":"IF(Clients!B1643=\"\",\"\",Clients!B1643)","v":""},{"$f":"IF(Clients!C1643=\"\",\"\",Clients!C1643)","v":""}]
[null,null,null,null,null,null,null,null,null,null,null,null,null,null,null,null,null,null,{"$f":"IF(Clients!B1644=\"\",\"\",Clients!B1644)","v":""},{"$f":"IF(Clients!C1644=\"\",\"\",Clients!C1644)","v":""}]
[null,null,null,null,null,null,null,null,null,null,null,null,null,null,null,null,null,null,{"$f":"IF(Clients!B1645=\"\",\"\",Clients!B1645)","v":""},{"$f":"IF(Clients!C1645=\"\",\"\",Clients!C1645)","v":""}]
[null,null,null,null,null,null,null,null,null,null,null,null,null,null,null,null,null,null,{"$f":"IF(Clients!B1646=\"\",\"\",Clients!B1646)","v":""},{"$f":"IF(Clients!C1646=\"\",\"\",Clients!C1646)","v":""}]
[null,null,null,null,null,null,null,null,null,null,null,null,null,null,null,null,null,null,{"$f":"IF(Clients!B1647=\"\",\"\",Clients!B1647)","v":""},{"$f":"IF(Clients!C1647=\"\",\"\",Clients!C1647)","v":""}]
[null,null,null,null,null,null,null,null,null,null,null,null,null,null,null,null,null,null,{"$f":"IF(Clients!B1648=\"\",\"\",Clients!B1648)","v":""},{"$f":"IF(Clients!C1648=\"\",\"\",Clients!C1648)","v":""}]
[null,null,null,null,null,null,null,null,null,null,null,null,null,null,null,null,null,null,{"$f":"IF(Clients!B1649=\"\",\"\",Clients!B1649)","v":""},{"$f":"IF(Clients!C1649=\"\",\"\",Clients!C1649)","v":""}]
[null,null,null,null,null,null,null,null,null,null,null,null,null,null,null,null,null,null,{"$f":"IF(Clients!B1650=\"\",\"\",Clients!B1650)","v":""},{"$f":"IF(Clients!C1650=\"\",\"\",Clients!C1650)","v":""}]
[null,null,null,null,null,null,null,null,null,null,null,null,null,null,null,null,null,null,{"$f":"IF(Clients!B1651=\"\",\"\",Clients!B1651)","v":""},{"$f":"IF(Clients!C1651=\"\",\"\",Clients!C1651)","v":""}]
[null,null,null,null,null,null,null,null,null,null,null,null,null,null,null,null,null,null,{"$f":"IF(Clients!B1652=\"\",\"\",Clients!B1652)","v":""},{"$f":"IF(Clients!C1652=\"\",\"\",Clients!C1652)","v":""}]
[null,null,null,null,null,null,null,null,null,null,null,null,null,null,null,null,null,null,{"$f":"IF(Clients!B1653=\"\",\"\",Clients!B1653)","v":""},{"$f":"IF(Clients!C1653=\"\",\"\",Clients!C1653)","v":""}]
[null,null,null,null,null,null,null,null,null,null,null,null,null,null,null,null,null,null,{"$f":"IF(Clients!B1654=\"\",\"\",Clients!B1654)","v":""},{"$f":"IF(Clients!C1654=\"\",\"\",Clients!C1654)","v":""}]
[null,null,null,null,null,null,null,null,null,null,null,null,null,null,null,null,null,null,{"$f":"IF(Clients!B1655=\"\",\"\",Clients!B1655)","v":""},{"$f":"IF(Clients!C1655=\"\",\"\",Clients!C1655)","v":""}]
[null,null,null,null,null,null,null,null,null,null,null,null,null,null,null,null,null,null,{"$f":"IF(Clients!B1656=\"\",\"\",Clients!B1656)","v":""},{"$f":"IF(Clients!C1656=\"\",\"\",Clients!C1656)","v":""}]
[null,null,null,null,null,null,null,null,null,null,null,null,null,null,null,null,null,null,{"$f":"IF(Clients!B1657=\"\",\"\",Clients!B1657)","v":""},{"$f":"IF(Clients!C1657=\"\",\"\",Clients!C1657)","v":""}]
[null,null,null,null,null,null,null,null,null,null,null,null,null,null,null,null,null,null,{"$f":"IF(Clients!B1658=\"\",\"\",Clients!B1658)","v":""},{"$f":"IF(Clients!C1658=\"\",\"\",Clients!C1658)","v":""}]
[null,null,null,null,null,null,null,null,null,null,null,null,null,null,null,null,null,null,{"$f":"IF(Clients!B1659=\"\",\"\",Clients!B1659)","v":""},{"$f":"IF(Clients!C1659=\"\",\"\",Clients!C1659)","v":""}]
[null,null,null,null,null,null,null,null,null,null,null,null,null,null,null,null,null,null,{"$f":"IF(Clients!B1660=\"\",\"\",Clients!B1660)","v":""},{"$f":"IF(Clients!C1660=\"\",\"\",Clients!C1660)","v":""}]
[null,null,null,null,null,null,null,null,null,null,null,null,null,null,null,null,null,null,{"$f":"IF(Clients!B1661=\"\",\"\",Clients!B1661)","v":""},{"$f":"IF(Clients!C1661=\"\",\"\",Clients!C1661)","v":""}]
[null,null,null,null,null,null,null,null,null,null,null,null,null,null,null,null,null,null,{"$f":"IF(Clients!B1662=\"\",\"\",Clients!B1662)","v":""},{"$f":"IF(Clients!C1662=\"\",\"\",Clients!C1662)","v":""}]
[null,null,null,null,null,null,null,null,null,null,null,null,null,null,null,null,null,null,{"$f":"IF(Clients!B1663=\"\",\"\",Clients!B1663)","v":""},{"$f":"IF(Clients!C1663=\"\",\"\",Clients!C1663)","v":""}]
[null,null,null,null,null,null,null,null,null,null,null,null,null,null,null,null,null,null,{"$f":"IF(Clients!B1664=\"\",\"\",Clients!B1664)","v":""},{"$f":"IF(Clients!C1664=\"\",\"\",Clients!C1664)","v":""}]
[null,null,null,null,null,null,null,null,null,null,null,null,null,null,null,null,null,null,{"$f":"IF(Clients!B1665=\"\",\"\",Clients!B1665)","v":""},{"$f":"IF(Clients!C1665=\"\",\"\",Clients!C1665)","v":""}]
[null,null,null,null,null,null,null,null,null,null,null,null,null,null,null,null,null,null,{"$f":"IF(Clients!B1666=\"\",\"\",Clients!B1666)","v":""},{"$f":"IF(Clients!C1666=\"\",\"\",Clients!C1666)","v":""}]
[null,null,null,null,null,null,null,null,null,null,null,null,null,null,null,null,null,null,{"$f":"IF(Clients!B1667=\"\",\"\",Clients!B1667)","v":""},{"$f":"IF(Clients!C1667=\"\",\"\",Clients!C1667)","v":""}]
[null,null,null,null,null,null,null,null,null,null,null,null,null,null,null,null,null,null,{"$f":"IF(Clients!B1668=\"\",\"\",Clients!B1668)","v":""},{"$f":"IF(Clients!C1668=\"\",\"\",Clients!C1668)","v":""}]
[null,null,null,null,null,null,null,null,null,null,null,null,null,null,null,null,null,null,{"$f":"IF(Clients!B1669=\"\",\"\",Clients!B1669)","v":""},{"$f":"IF(Clients!C1669=\"\",\"\",Clients!C1669)","v":""}]
[null,null,null,null,null,null,null,null,null,null,null,null,null,null,null,null,null,null,{"$f":"IF(Clients!B1670=\"\",\"\",Clients!B1670)","v":""},{"$f":"IF(Clients!C1670=\"\",\"\",Clients!C1670)","v":""}]
[null,null,null,null,null,null,null,null,null,null,null,null,null,null,null,null,null,null,{"$f":"IF(Clients!B1671=\"\",\"\",Clients!B1671)","v":""},{"$f":"IF(Clients!C1671=\"\",\"\",Clients!C1671)","v":""}]
[null,null,null,null,null,null,null,null,null,null,null,null,null,null,null,null,null,null,{"$f":"IF(Clients!B1672=\"\",\"\",Clients!B1672)","v":""},{"$f":"IF(Clients!C1672=\"\",\"\",Clients!C1672)","v":""}]
[null,null,null,null,null,null,null,null,null,null,null,null,null,null,null,null,null,null,{"$f":"IF(Clients!B1673=\"\",\"\",Clients!B1673)","v":""},{"$f":"IF(Clients!C1673=\"\",\"\",Clients!C1673)","v":""}]
[null,null,null,null,null,null,null,null,null,null,null,null,null,null,null,null,null,null,{"$f":"IF(Clients!B1674=\"\",\"\",Clients!B1674)","v":""},{"$f":"IF(Clients!C1674=\"\",\"\",Clients!C1674)","v":""}]
[null,null,null,null,null,null,null,null,null,null,null,null,null,null,null,null,null,null,{"$f":"IF(Clients!B1675=\"\",\"\",Clients!B1675)","v":""},{"$f":"IF(Clients!C1675=\"\",\"\",Clients!C1675)","v":""}]
[null,null,null,null,null,null,null,null,null,null,null,null,null,null,null,null,null,null,{"$f":"IF(Clients!B1676=\"\",\"\",Clients!B1676)","v":""},{"$f":"IF(Clients!C1676=\"\",\"\",Clients!C1676)","v":""}]
[null,null,null,null,null,null,null,null,null,null,null,null,null,null,null,null,null,null,{"$f":"IF(Clients!B1677=\"\",\"\",Clients!B1677)","v":""},{"$f":"IF(Clients!C1677=\"\",\"\",Clients!C1677)","v":""}]
[null,null,null,null,null,null,null,null,null,null,null,null,null,null,null,null,null,null,{"$f":"IF(Clients!B1678=\"\",\"\",Clients!B1678)","v":""},{"$f":"IF(Clients!C1678=\"\",\"\",Clients!C1678)","v":""}]
[null,null,null,null,null,null,null,null,null,null,null,null,null,null,null,null,null,null,{"$f":"IF(Clients!B1679=\"\",\"\",Clients!B1679)","v":""},{"$f":"IF(Clients!C1679=\"\",\"\",Clients!C1679)","v":""}]
[null,null,null,null,null,null,null,null,null,null,null,null,null,null,null,null,null,null,{"$f":"IF(Clients!B1680=\"\",\"\",Clients!B1680)","v":""},{"$f":"IF(Clients!C1680=\"\",\"\",Clients!C1680)","v":""}]
[null,null,null,null,null,null,null,null,null,null,null,null,null,null,null,null,null,null,{"$f":"IF(Clients!B1681=\"\",\"\",Clients!B1681)","v":""},{"$f":"IF(Clients!C1681=\"\",\"\",Clients!C1681)","v":""}]
[null,null,null,null,null,null,null,null,null,null,null,null,null,null,null,null,null,null,{"$f":"IF(Clients!B1682=\"\",\"\",Clients!B1682)","v":""},{"$f":"IF(Clients!C1682=\"\",\"\",Clients!C1682)","v":""}]
[null,null,null,null,null,null,null,null,null,null,null,null,null,null,null,null,null,null,{"$f":"IF(Clients!B1683=\"\",\"\",Clients!B1683)","v":""},{"$f":"IF(Clients!C1683=\"\",\"\",Clients!C1683)","v":""}]
[null,null,null,null,null,null,null,null,null,null,null,null,null,null,null,null,null,null,{"$f":"IF(Clients!B1684=\"\",\"\",Clients!B1684)","v":""},{"$f":"IF(Clients!C1684=\"\",\"\",Clients!C1684)","v":""}]
[null,null,null,null,null,null,null,null,null,null,null,null,null,null,null,null,null,null,{"$f":"IF(Clients!B1685=\"\",\"\",Clients!B1685)","v":""},{"$f":"IF(Clients!C1685=\"\",\"\",Clients!C1685)","v":""}]
[null,null,null,null,null,null,null,null,null,null,null,null,null,null,null,null,null,null,{"$f":"IF(Clients!B1686=\"\",\"\",Clients!B1686)","v":""},{"$f":"IF(Clients!C1686=\"\",\"\",Clients!C1686)","v":""}]
[null,null,null,null,null,null,null,null,null,null,null,null,null,null,null,null,null,null,{"$f":"IF(Clients!B1687=\"\",\"\",Clients!B1687)","v":""},{"$f":"IF(Clients!C1687=\"\",\"\",Clients!C1687)","v":""}]
[null,null,null,null,null,null,null,null,null,null,null,null,null,null,null,null,null,null,{"$f":"IF(Clients!B1688=\"\",\"\",Clients!B1688)","v":""},{"$f":"IF(Clients!C1688=\"\",\"\",Clients!C1688)","v":""}]
[null,null,null,null,null,null,null,null,null,null,null,null,null,null,null,null,null,null,{"$f":"IF(Clients!B1689=\"\",\"\",Clients!B1689)","v":""},{"$f":"IF(Clients!C1689=\"\",\"\",Clients!C1689)","v":""}]
[null,null,null,null,null,null,null,null,null,null,null,null,null,null,null,null,null,null,{"$f":"IF(Clients!B1690=\"\",\"\",Clients!B1690)","v":""},{"$f":"IF(Clients!C1690=\"\",\"\",Clients!C1690)","v":""}]
[null,null,null,null,null,null,null,null,null,null,null,null,null,null,null,null,null,null,{"$f":"IF(Clients!B1691=\"\",\"\",Clients!B1691)","v":""},{"$f":"IF(Clients!C1691=\"\",\"\",Clients!C1691)","v":""}]
[null,null,null,null,null,null,null,null,null,null,null,null,null,null,null,null,null,null,{"$f":"IF(Clients!B1692=\"\",\"\",Clients!B1692)","v":""},{"$f":"IF(Clients!C1692=\"\",\"\",Clients!C1692)","v":""}]
[null,null,null,null,null,null,null,null,null,null,null,null,null,null,null,null,null,null,{"$f":"IF(Clients!B1693=\"\",\"\",Clients!B1693)","v":""},{"$f":"IF(Clients!C1693=\"\",\"\",Clients!C1693)","v":""}]
[null,null,null,null,null,null,null,null,null,null,null,null,null,null,null,null,null,null,{"$f":"IF(Clients!B1694=\"\",\"\",Clients!B1694)","v":""},{"$f":"IF(Clients!C1694=\"\",\"\",Clients!C1694)","v":""}]
[null,null,null,null,null,null,null,null,null,null,null,null,null,null,null,null,null,null,{"$f":"IF(Clients!B1695=\"\",\"\",Clients!B1695)","v":""},{"$f":"IF(Clients!C1695=\"\",\"\",Clients!C1695)","v":""}]
[null,null,null,null,null,null,null,null,null,null,null,null,null,null,null,null,null,null,{"$f":"IF(Clients!B1696=\"\",\"\",Clients!B1696)","v":""},{"$f":"IF(Clients!C1696=\"\",\"\",Clients!C1696)","v":""}]
[null,null,null,null,null,null,null,null,null,null,null,null,null,null,null,null,null,null,{"$f":"IF(Clients!B1697=\"\",\"\",Clients!B1697)","v":""},{"$f":"IF(Clients!C1697=\"\",\"\",Clients!C1697)","v":""}]
[null,null,null,null,null,null,null,null,null,null,null,null,null,null,null,null,null,null,{"$f":"IF(Clients!B1698=\"\",\"\",Clients!B1698)","v":""},{"$f":"IF(Clients!C1698=\"\",\"\",Clients!C1698)","v":""}]
[null,null,null,null,null,null,null,null,null,null,null,null,null,null,null,null,null,null,{"$f":"IF(Clients!B1699=\"\",\"\",Clients!B1699)","v":""},{"$f":"IF(Clients!C1699=\"\",\"\",Clients!C1699)","v":""}]
[null,null,null,null,null,null,null,null,null,null,null,null,null,null,null,null,null,null,{"$f":"IF(Clients!B1700=\"\",\"\",Clients!B1700)","v":""},{"$f":"IF(Clients!C1700=\"\",\"\",Clients!C1700)","v":""}]
[null,null,null,null,null,null,null,null,null,null,null,null,null,null,null,null,null,null,{"$f":"IF(Clients!B1701=\"\",\"\",Clients!B1701)","v":""},{"$f":"IF(Clients!C1701=\"\",\"\",Clients!C1701)","v":""}]
[null,null,null,null,null,null,null,null,null,null,null,null,null,null,null,null,null,null,{"$f":"IF(Clients!B1702=\"\",\"\",Clients!B1702)","v":""},{"$f":"IF(Clients!C1702=\"\",\"\",Clients!C1702)","v":""}]
[null,null,null,null,null,null,null,null,null,null,null,null,null,null,null,null,null,null,{"$f":"IF(Clients!B1703=\"\",\"\",Clients!B1703)","v":""},{"$f":"IF(Clients!C1703=\"\",\"\",Clients!C1703)","v":""}]
[null,null,null,null,null,null,null,null,null,null,null,null,null,null,null,null,null,null,{"$f":"IF(Clients!B1704=\"\",\"\",Clients!B1704)","v":""},{"$f":"IF(Clients!C1704=\"\",\"\",Clients!C1704)","v":""}]
[null,null,null,null,null,null,null,null,null,null,null,null,null,null,null,null,null,null,{"$f":"IF(Clients!B1705=\"\",\"\",Clients!B1705)","v":""},{"$f":"IF(Clients!C1705=\"\",\"\",Clients!C1705)","v":""}]
[null,null,null,null,null,null,null,null,null,null,null,null,null,null,null,null,null,null,{"$f":"IF(Clients!B1706=\"\",\"\",Clients!B1706)","v":""},{"$f":"IF(Clients!C1706=\"\",\"\",Clients!C1706)","v":""}]
[null,null,null,null,null,null,null,null,null,null,null,null,null,null,null,null,null,null,{"$f":"IF(Clients!B1707=\"\",\"\",Clients!B1707)","v":""},{"$f":"IF(Clients!C1707=\"\",\"\",Clients!C1707)","v":""}]
[null,null,null,null,null,null,null,null,null,null,null,null,null,null,null,null,null,null,{"$f":"IF(Clients!B1708=\"\",\"\",Clients!B1708)","v":""},{"$f":"IF(Clients!C1708=\"\",\"\",Clients!C1708)","v":""}]
[null,null,null,null,null,null,null,null,null,null,null,null,null,null,null,null,null,null,{"$f":"IF(Clients!B1709=\"\",\"\",Clients!B1709)","v":""},{"$f":"IF(Clients!C1709=\"\",\"\",Clients!C1709)","v":""}]
[null,null,null,null,null,null,null,null,null,null,null,null,null,null,null,null,null,null,{"$f":"IF(Clients!B1710=\"\",\"\",Clients!B1710)","v":""},{"$f":"IF(Clients!C1710=\"\",\"\",Clients!C1710)","v":""}]
[null,null,null,null,null,null,null,null,null,null,null,null,null,null,null,null,null,null,{"$f":"IF(Clients!B1711=\"\",\"\",Clients!B1711)","v":""},{"$f":"IF(Clients!C1711=\"\",\"\",Clients!C1711)","v":""}]
[null,null,null,null,null,null,null,null,null,null,null,null,null,null,null,null,null,null,{"$f":"IF(Clients!B1712=\"\",\"\",Clients!B1712)","v":""},{"$f":"IF(Clients!C1712=\"\",\"\",Clients!C1712)","v":""}]
[null,null,null,null,null,null,null,null,null,null,null,null,null,null,null,null,null,null,{"$f":"IF(Clients!B1713=\"\",\"\",Clients!B1713)","v":""},{"$f":"IF(Clients!C1713=\"\",\"\",Clients!C1713)","v":""}]
[null,null,null,null,null,null,null,null,null,null,null,null,null,null,null,null,null,null,{"$f":"IF(Clients!B1714=\"\",\"\",Clients!B1714)","v":""},{"$f":"IF(Clients!C1714=\"\",\"\",Clients!C1714)","v":""}]
[null,null,null,null,null,null,null,null,null,null,null,null,null,null,null,null,null,null,{"$f":"IF(Clients!B1715=\"\",\"\",Clients!B1715)","v":""},{"$f":"IF(Clients!C1715=\"\",\"\",Clients!C1715)","v":""}]
[null,null,null,null,null,null,null,null,null,null,null,null,null,null,null,null,null,null,{"$f":"IF(Clients!B1716=\"\",\"\",Clients!B1716)","v":""},{"$f":"IF(Clients!C1716=\"\",\"\",Clients!C1716)","v":""}]
[null,null,null,null,null,null,null,null,null,null,null,null,null,null,null,null,null,null,{"$f":"IF(Clients!B1717=\"\",\"\",Clients!B1717)","v":""},{"$f":"IF(Clients!C1717=\"\",\"\",Clients!C1717)","v":""}]
[null,null,null,null,null,null,null,null,null,null,null,null,null,null,null,null,null,null,{"$f":"IF(Clients!B1718=\"\",\"\",Clients!B1718)","v":""},{"$f":"IF(Clients!C1718=\"\",\"\",Clients!C1718)","v":""}]
[null,null,null,null,null,null,null,null,null,null,null,null,null,null,null,null,null,null,{"$f":"IF(Clients!B1719=\"\",\"\",Clients!B1719)","v":""},{"$f":"IF(Clients!C1719=\"\",\"\",Clients!C1719)","v":""}]
[null,null,null,null,null,null,null,null,null,null,null,null,null,null,null,null,null,null,{"$f":"IF(Clients!B1720=\"\",\"\",Clients!B1720)","v":""},{"$f":"IF(Clients!C1720=\"\",\"\",Clients!C1720)","v":""}]
[null,null,null,null,null,null,null,null,null,null,null,null,null,null,null,null,null,null,{"$f":"IF(Clients!B1721=\"\",\"\",Clients!B1721)","v":""},{"$f":"IF(Clients!C1721=\"\",\"\",Clients!C1721)","v":""}]
[null,null,null,null,null,null,null,null,null,null,null,null,null,null,null,null,null,null,{"$f":"IF(Clients!B1722=\"\",\"\",Clients!B1722)","v":""},{"$f":"IF(Clients!C1722=\"\",\"\",Clients!C1722)","v":""}]
[null,null,null,null,null,null,null,null,null,null,null,null,null,null,null,null,null,null,{"$f":"IF(Clients!B1723=\"\",\"\",Clients!B1723)","v":""},{"$f":"IF(Clients!C1723=\"\",\"\",Clients!C1723)","v":""}]
[null,null,null,null,null,null,null,null,null,null,null,null,null,null,null,null,null,null,{"$f":"IF(Clients!B1724=\"\",\"\",Clients!B1724)","v":""},{"$f":"IF(Clients!C1724=\"\",\"\",Clients!C1724)","v":""}]
[null,null,null,null,null,null,null,null,null,null,null,null,null,null,null,null,null,null,{"$f":"IF(Clients!B1725=\"\",\"\",Clients!B1725)","v":""},{"$f":"IF(Clients!C1725=\"\",\"\",Clients!C1725)","v":""}]
[null,null,null,null,null,null,null,null,null,null,null,null,null,null,null,null,null,null,{"$f":"IF(Clients!B1726=\"\",\"\",Clients!B1726)","v":""},{"$f":"IF(Clients!C1726=\"\",\"\",Clients!C1726)","v":""}]
[null,null,null,null,null,null,null,null,null,null,null,null,null,null,null,null,null,null,{"$f":"IF(Clients!B1727=\"\",\"\",Clients!B1727)","v":""},{"$f":"IF(Clients!C1727=\"\",\"\",Clients!C1727)","v":""}]
[null,null,null,null,null,null,null,null,null,null,null,null,null,null,null,null,null,null,{"$f":"IF(Clients!B1728=\"\",\"\",Clients!B1728)","v":""},{"$f":"IF(Clients!C1728=\"\",\"\",Clients!C1728)","v":""}]
[null,null,null,null,null,null,null,null,null,null,null,null,null,null,null,null,null,null,{"$f":"IF(Clients!B1729=\"\",\"\",Clients!B1729)","v":""},{"$f":"IF(Clients!C1729=\"\",\"\",Clients!C1729)","v":""}]
[null,null,null,null,null,null,null,null,null,null,null,null,null,null,null,null,null,null,{"$f":"IF(Clients!B1730=\"\",\"\",Clients!B1730)","v":""},{"$f":"IF(Clients!C1730=\"\",\"\",Clients!C1730)","v":""}]
[null,null,null,null,null,null,null,null,null,null,null,null,null,null,null,null,null,null,{"$f":"IF(Clients!B1731=\"\",\"\",Clients!B1731)","v":""},{"$f":"IF(Clients!C1731=\"\",\"\",Clients!C1731)","v":""}]
[null,null,null,null,null,null,null,null,null,null,null,null,null,null,null,null,null,null,{"$f":"IF(Clients!B1732=\"\",\"\",Clients!B1732)","v":""},{"$f":"IF(Clients!C1732=\"\",\"\",Clients!C1732)","v":""}]
[null,null,null,null,null,null,null,null,null,null,null,null,null,null,null,null,null,null,{"$f":"IF(Clients!B1733=\"\",\"\",Clients!B1733)","v":""},{"$f":"IF(Clients!C1733=\"\",\"\",Clients!C1733)","v":""}]
[null,null,null,null,null,null,null,null,null,null,null,null,null,null,null,null,null,null,{"$f":"IF(Clients!B1734=\"\",\"\",Clients!B1734)","v":""},{"$f":"IF(Clients!C1734=\"\",\"\",Clients!C1734)","v":""}]
[null,null,null,null,null,null,null,null,null,null,null,null,null,null,null,null,null,null,{"$f":"IF(Clients!B1735=\"\",\"\",Clients!B1735)","v":""},{"$f":"IF(Clients!C1735=\"\",\"\",Clients!C1735)","v":""}]
[null,null,null,null,null,null,null,null,null,null,null,null,null,null,null,null,null,null,{"$f":"IF(Clients!B1736=\"\",\"\",Clients!B1736)","v":""},{"$f":"IF(Clients!C1736=\"\",\"\",Clients!C1736)","v":""}]
[null,null,null,null,null,null,null,null,null,null,null,null,null,null,null,null,null,null,{"$f":"IF(Clients!B1737=\"\",\"\",Clients!B1737)","v":""},{"$f":"IF(Clients!C1737=\"\",\"\",Clients!C1737)","v":""}]
[null,null,null,null,null,null,null,null,null,null,null,null,null,null,null,null,null,null,{"$f":"IF(Clients!B1738=\"\",\"\",Clients!B1738)","v":""},{"$f":"IF(Clients!C1738=\"\",\"\",Clients!C1738)","v":""}]
[null,null,null,null,null,null,null,null,null,null,null,null,null,null,null,null,null,null,{"$f":"IF(Clients!B1739=\"\",\"\",Clients!B1739)","v":""},{"$f":"IF(Clients!C1739=\"\",\"\",Clients!C1739)","v":""}]
[null,null,null,null,null,null,null,null,null,null,null,null,null,null,null,null,null,null,{"$f":"IF(Clients!B1740=\"\",\"\",Clients!B1740)","v":""},{"$f":"IF(Clients!C1740=\"\",\"\",Clients!C1740)","v":""}]
[null,null,null,null,null,null,null,null,null,null,null,null,null,null,null,null,null,null,{"$f":"IF(Clients!B1741=\"\",\"\",Clients!B1741)","v":""},{"$f":"IF(Clients!C1741=\"\",\"\",Clients!C1741)","v":""}]
[null,null,null,null,null,null,null,null,null,null,null,null,null,null,null,null,null,null,{"$f":"IF(Clients!B1742=\"\",\"\",Clients!B1742)","v":""},{"$f":"IF(Clients!C1742=\"\",\"\",Clients!C1742)","v":""}]
[null,null,null,null,null,null,null,null,null,null,null,null,null,null,null,null,null,null,{"$f":"IF(Clients!B1743=\"\",\"\",Clients!B1743)","v":""},{"$f":"IF(Clients!C1743=\"\",\"\",Clients!C1743)","v":""}]
[null,null,null,null,null,null,null,null,null,null,null,null,null,null,null,null,null,null,{"$f":"IF(Clients!B1744=\"\",\"\",Clients!B1744)","v":""},{"$f":"IF(Clients!C1744=\"\",\"\",Clients!C1744)","v":""}]
[null,null,null,null,null,null,null,null,null,null,null,null,null,null,null,null,null,null,{"$f":"IF(Clients!B1745=\"\",\"\",Clients!B1745)","v":""},{"$f":"IF(Clients!C1745=\"\",\"\",Clients!C1745)","v":""}]
[null,null,null,null,null,null,null,null,null,null,null,null,null,null,null,null,null,null,{"$f":"IF(Clients!B1746=\"\",\"\",Clients!B1746)","v":""},{"$f":"IF(Clients!C1746=\"\",\"\",Clients!C1746)","v":""}]
[null,null,null,null,null,null,null,null,null,null,null,null,null,null,null,null,null,null,{"$f":"IF(Clients!B1747=\"\",\"\",Clients!B1747)","v":""},{"$f":"IF(Clients!C1747=\"\",\"\",Clients!C1747)","v":""}]
[null,null,null,null,null,null,null,null,null,null,null,null,null,null,null,null,null,null,{"$f":"IF(Clients!B1748=\"\",\"\",Clients!B1748)","v":""},{"$f":"IF(Clients!C1748=\"\",\"\",Clients!C1748)","v":""}]
[null,null,null,null,null,null,null,null,null,null,null,null,null,null,null,null,null,null,{"$f":"IF(Clients!B1749=\"\",\"\",Clients!B1749)","v":""},{"$f":"IF(Clients!C1749=\"\",\"\",Clients!C1749)","v":""}]
[null,null,null,null,null,null,null,null,null,null,null,null,null,null,null,null,null,null,{"$f":"IF(Clients!B1750=\"\",\"\",Clients!B1750)","v":""},{"$f":"IF(Clients!C1750=\"\",\"\",Clients!C1750)","v":""}]
[null,null,null,null,null,null,null,null,null,null,null,null,null,null,null,null,null,null,{"$f":"IF(Clients!B1751=\"\",\"\",Clients!B1751)","v":""},{"$f":"IF(Clients!C1751=\"\",\"\",Clients!C1751)","v":""}]
[null,null,null,null,null,null,null,null,null,null,null,null,null,null,null,null,null,null,{"$f":"IF(Clients!B1752=\"\",\"\",Clients!B1752)","v":""},{"$f":"IF(Clients!C1752=\"\",\"\",Clients!C1752)","v":""}]
[null,null,null,null,null,null,null,null,null,null,null,null,null,null,null,null,null,null,{"$f":"IF(Clients!B1753=\"\",\"\",Clients!B1753)","v":""},{"$f":"IF(Clients!C1753=\"\",\"\",Clients!C1753)","v":""}]
[null,null,null,null,null,null,null,null,null,null,null,null,null,null,null,null,null,null,{"$f":"IF(Clients!B1754=\"\",\"\",Clients!B1754)","v":""},{"$f":"IF(Clients!C1754=\"\",\"\",Clients!C1754)","v":""}]
[null,null,null,null,null,null,null,null,null,null,null,null,null,null,null,null,null,null,{"$f":"IF(Clients!B1755=\"\",\"\",Clients!B1755)","v":""},{"$f":"IF(Clients!C1755=\"\",\"\",Clients!C1755)","v":""}]
[null,null,null,null,null,null,null,null,null,null,null,null,null,null,null,null,null,null,{"$f":"IF(Clients!B1756=\"\",\"\",Clients!B1756)","v":""},{"$f":"IF(Clients!C1756=\"\",\"\",Clients!C1756)","v":""}]
[null,null,null,null,null,null,null,null,null,null,null,null,null,null,null,null,null,null,{"$f":"IF(Clients!B1757=\"\",\"\",Clients!B1757)","v":""},{"$f":"IF(Clients!C1757=\"\",\"\",Clients!C1757)","v":""}]
[null,null,null,null,null,null,null,null,null,null,null,null,null,null,null,null,null,null,{"$f":"IF(Clients!B1758=\"\",\"\",Clients!B1758)","v":""},{"$f":"IF(Clients!C1758=\"\",\"\",Clients!C1758)","v":""}]
[null,null,null,null,null,null,null,null,null,null,null,null,null,null,null,null,null,null,{"$f":"IF(Clients!B1759=\"\",\"\",Clients!B1759)","v":""},{"$f":"IF(Clients!C1759=\"\",\"\",Clients!C1759)","v":""}]
[null,null,null,null,null,null,null,null,null,null,null,null,null,null,null,null,null,null,{"$f":"IF(Clients!B1760=\"\",\"\",Clients!B1760)","v":""},{"$f":"IF(Clients!C1760=\"\",\"\",Clients!C1760)","v":""}]
[null,null,null,null,null,null,null,null,null,null,null,null,null,null,null,null,null,null,{"$f":"IF(Clients!B1761=\"\",\"\",Clients!B1761)","v":""},{"$f":"IF(Clients!C1761=\"\",\"\",Clients!C1761)","v":""}]
[null,null,null,null,null,null,null,null,null,null,null,null,null,null,null,null,null,null,{"$f":"IF(Clients!B1762=\"\",\"\",Clients!B1762)","v":""},{"$f":"IF(Clients!C1762=\"\",\"\",Clients!C1762)","v":""}]
[null,null,null,null,null,null,null,null,null,null,null,null,null,null,null,null,null,null,{"$f":"IF(Clients!B1763=\"\",\"\",Clients!B1763)","v":""},{"$f":"IF(Clients!C1763=\"\",\"\",Clients!C1763)","v":""}]
[null,null,null,null,null,null,null,null,null,null,null,null,null,null,null,null,null,null,{"$f":"IF(Clients!B1764=\"\",\"\",Clients!B1764)","v":""},{"$f":"IF(Clients!C1764=\"\",\"\",Clients!C1764)","v":""}]
[null,null,null,null,null,null,null,null,null,null,null,null,null,null,null,null,null,null,{"$f":"IF(Clients!B1765=\"\",\"\",Clients!B1765)","v":""},{"$f":"IF(Clients!C1765=\"\",\"\",Clients!C1765)","v":""}]
[null,null,null,null,null,null,null,null,null,null,null,null,null,null,null,null,null,null,{"$f":"IF(Clients!B1766=\"\",\"\",Clients!B1766)","v":""},{"$f":"IF(Clients!C1766=\"\",\"\",Clients!C1766)","v":""}]
[null,null,null,null,null,null,null,null,null,null,null,null,null,null,null,null,null,null,{"$f":"IF(Clients!B1767=\"\",\"\",Clients!B1767)","v":""},{"$f":"IF(Clients!C1767=\"\",\"\",Clients!C1767)","v":""}]
[null,null,null,null,null,null,null,null,null,null,null,null,null,null,null,null,null,null,{"$f":"IF(Clients!B1768=\"\",\"\",Clients!B1768)","v":""},{"$f":"IF(Clients!C1768=\"\",\"\",Clients!C1768)","v":""}]
[null,null,null,null,null,null,null,null,null,null,null,null,null,null,null,null,null,null,{"$f":"IF(Clients!B1769=\"\",\"\",Clients!B1769)","v":""},{"$f":"IF(Clients!C1769=\"\",\"\",Clients!C1769)","v":""}]
[null,null,null,null,null,null,null,null,null,null,null,null,null,null,null,null,null,null,{"$f":"IF(Clients!B1770=\"\",\"\",Clients!B1770)","v":""},{"$f":"IF(Clients!C1770=\"\",\"\",Clients!C1770)","v":""}]
[null,null,null,null,null,null,null,null,null,null,null,null,null,null,null,null,null,null,{"$f":"IF(Clients!B1771=\"\",\"\",Clients!B1771)","v":""},{"$f":"IF(Clients!C1771=\"\",\"\",Clients!C1771)","v":""}]
[null,null,null,null,null,null,null,null,null,null,null,null,null,null,null,null,null,null,{"$f":"IF(Clients!B1772=\"\",\"\",Clients!B1772)","v":""},{"$f":"IF(Clients!C1772=\"\",\"\",Clients!C1772)","v":""}]
[null,null,null,null,null,null,null,null,null,null,null,null,null,null,null,null,null,null,{"$f":"IF(Clients!B1773=\"\",\"\",Clients!B1773)","v":""},{"$f":"IF(Clients!C1773=\"\",\"\",Clients!C1773)","v":""}]
[null,null,null,null,null,null,null,null,null,null,null,null,null,null,null,null,null,null,{"$f":"IF(Clients!B1774=\"\",\"\",Clients!B1774)","v":""},{"$f":"IF(Clients!C1774=\"\",\"\",Clients!C1774)","v":""}]
[null,null,null,null,null,null,null,null,null,null,null,null,null,null,null,null,null,null,{"$f":"IF(Clients!B1775=\"\",\"\",Clients!B1775)","v":""},{"$f":"IF(Clients!C1775=\"\",\"\",Clients!C1775)","v":""}]
[null,null,null,null,null,null,null,null,null,null,null,null,null,null,null,null,null,null,{"$f":"IF(Clients!B1776=\"\",\"\",Clients!B1776)","v":""},{"$f":"IF(Clients!C1776=\"\",\"\",Clients!C1776)","v":""}]
[null,null,null,null,null,null,null,null,null,null,null,null,null,null,null,null,null,null,{"$f":"IF(Clients!B1777=\"\",\"\",Clients!B1777)","v":""},{"$f":"IF(Clients!C1777=\"\",\"\",Clients!C1777)","v":""}]
[null,null,null,null,null,null,null,null,null,null,null,null,null,null,null,null,null,null,{"$f":"IF(Clients!B1778=\"\",\"\",Clients!B1778)","v":""},{"$f":"IF(Clients!C1778=\"\",\"\",Clients!C1778)","v":""}]
[null,null,null,null,null,null,null,null,null,null,null,null,null,null,null,null,null,null,{"$f":"IF(Clients!B1779=\"\",\"\",Clients!B1779)","v":""},{"$f":"IF(Clients!C1779=\"\",\"\",Clients!C1779)","v":""}]
[null,null,null,null,null,null,null,null,null,null,null,null,null,null,null,null,null,null,{"$f":"IF(Clients!B1780=\"\",\"\",Clients!B1780)","v":""},{"$f":"IF(Clients!C1780=\"\",\"\",Clients!C1780)","v":""}]
[null,null,null,null,null,null,null,null,null,null,null,null,null,null,null,null,null,null,{"$f":"IF(Clients!B1781=\"\",\"\",Clients!B1781)","v":""},{"$f":"IF(Clients!C1781=\"\",\"\",Clients!C1781)","v":""}]
[null,null,null,null,null,null,null,null,null,null,null,null,null,null,null,null,null,null,{"$f":"IF(Clients!B1782=\"\",\"\",Clients!B1782)","v":""},{"$f":"IF(Clients!C1782=\"\",\"\",Clients!C1782)","v":""}]
[null,null,null,null,null,null,null,null,null,null,null,null,null,null,null,null,null,null,{"$f":"IF(Clients!B1783=\"\",\"\",Clients!B1783)","v":""},{"$f":"IF(Clients!C1783=\"\",\"\",Clients!C1783)","v":""}]
[null,null,null,null,null,null,null,null,null,null,null,null,null,null,null,null,null,null,{"$f":"IF(Clients!B1784=\"\",\"\",Clients!B1784)","v":""},{"$f":"IF(Clients!C1784=\"\",\"\",Clients!C1784)","v":""}]
[null,null,null,null,null,null,null,null,null,null,null,null,null,null,null,null,null,null,{"$f":"IF(Clients!B1785=\"\",\"\",Clients!B1785)","v":""},{"$f":"IF(Clients!C1785=\"\",\"\",Clients!C1785)","v":""}]
[null,null,null,null,null,null,null,null,null,null,null,null,null,null,null,null,null,null,{"$f":"IF(Clients!B1786=\"\",\"\",Clients!B1786)","v":""},{"$f":"IF(Clients!C1786=\"\",\"\",Clients!C1786)","v":""}]
[null,null,null,null,null,null,null,null,null,null,null,null,null,null,null,null,null,null,{"$f":"IF(Clients!B1787=\"\",\"\",Clients!B1787)","v":""},{"$f":"IF(Clients!C1787=\"\",\"\",Clients!C1787)","v":""}]
[null,null,null,null,null,null,null,null,null,null,null,null,null,null,null,null,null,null,{"$f":"IF(Clients!B1788=\"\",\"\",Clients!B1788)","v":""},{"$f":"IF(Clients!C1788=\"\",\"\",Clients!C1788)","v":""}]
[null,null,null,null,null,null,null,null,null,null,null,null,null,null,null,null,null,null,{"$f":"IF(Clients!B1789=\"\",\"\",Clients!B1789)","v":""},{"$f":"IF(Clients!C1789=\"\",\"\",Clients!C1789)","v":""}]
[null,null,null,null,null,null,null,null,null,null,null,null,null,null,null,null,null,null,{"$f":"IF(Clients!B1790=\"\",\"\",Clients!B1790)","v":""},{"$f":"IF(Clients!C1790=\"\",\"\",Clients!C1790)","v":""}]
[null,null,null,null,null,null,null,null,null,null,null,null,null,null,null,null,null,null,{"$f":"IF(Clients!B1791=\"\",\"\",Clients!B1791)","v":""},{"$f":"IF(Clients!C1791=\"\",\"\",Clients!C1791)","v":""}]
[null,null,null,null,null,null,null,null,null,null,null,null,null,null,null,null,null,null,{"$f":"IF(Clients!B1792=\"\",\"\",Clients!B1792)","v":""},{"$f":"IF(Clients!C1792=\"\",\"\",Clients!C1792)","v":""}]
[null,null,null,null,null,null,null,null,null,null,null,null,null,null,null,null,null,null,{"$f":"IF(Clients!B1793=\"\",\"\",Clients!B1793)","v":""},{"$f":"IF(Clients!C1793=\"\",\"\",Clients!C1793)","v":""}]
[null,null,null,null,null,null,null,null,null,null,null,null,null,null,null,null,null,null,{"$f":"IF(Clients!B1794=\"\",\"\",Clients!B1794)","v":""},{"$f":"IF(Clients!C1794=\"\",\"\",Clients!C1794)","v":""}]
[null,null,null,null,null,null,null,null,null,null,null,null,null,null,null,null,null,null,{"$f":"IF(Clients!B1795=\"\",\"\",Clients!B1795)","v":""},{"$f":"IF(Clients!C1795=\"\",\"\",Clients!C1795)","v":""}]
[null,null,null,null,null,null,null,null,null,null,null,null,null,null,null,null,null,null,{"$f":"IF(Clients!B1796=\"\",\"\",Clients!B1796)","v":""},{"$f":"IF(Clients!C1796=\"\",\"\",Clients!C1796)","v":""}]
[null,null,null,null,null,null,null,null,null,null,null,null,null,null,null,null,null,null,{"$f":"IF(Clients!B1797=\"\",\"\",Clients!B1797)","v":""},{"$f":"IF(Clients!C1797=\"\",\"\",Clients!C1797)","v":""}]
[null,null,null,null,null,null,null,null,null,null,null,null,null,null,null,null,null,null,{"$f":"IF(Clients!B1798=\"\",\"\",Clients!B1798)","v":""},{"$f":"IF(Clients!C1798=\"\",\"\",Clients!C1798)","v":""}]
[null,null,null,null,null,null,null,null,null,null,null,null,null,null,null,null,null,null,{"$f":"IF(Clients!B1799=\"\",\"\",Clients!B1799)","v":""},{"$f":"IF(Clients!C1799=\"\",\"\",Clients!C1799)","v":""}]
[null,null,null,null,null,null,null,null,null,null,null,null,null,null,null,null,null,null,{"$f":"IF(Clients!B1800=\"\",\"\",Clients!B1800)","v":""},{"$f":"IF(Clients!C1800=\"\",\"\",Clients!C1800)","v":""}]
[null,null,null,null,null,null,null,null,null,null,null,null,null,null,null,null,null,null,{"$f":"IF(Clients!B1801=\"\",\"\",Clients!B1801)","v":""},{"$f":"IF(Clients!C1801=\"\",\"\",Clients!C1801)","v":""}]
[null,null,null,null,null,null,null,null,null,null,null,null,null,null,null,null,null,null,{"$f":"IF(Clients!B1802=\"\",\"\",Clients!B1802)","v":""},{"$f":"IF(Clients!C1802=\"\",\"\",Clients!C1802)","v":""}]
[null,null,null,null,null,null,null,null,null,null,null,null,null,null,null,null,null,null,{"$f":"IF(Clients!B1803=\"\",\"\",Clients!B1803)","v":""},{"$f":"IF(Clients!C1803=\"\",\"\",Clients!C1803)","v":""}]
[null,null,null,null,null,null,null,null,null,null,null,null,null,null,null,null,null,null,{"$f":"IF(Clients!B1804=\"\",\"\",Clients!B1804)","v":""},{"$f":"IF(Clients!C1804=\"\",\"\",Clients!C1804)","v":""}]
[null,null,null,null,null,null,null,null,null,null,null,null,null,null,null,null,null,null,{"$f":"IF(Clients!B1805=\"\",\"\",Clients!B1805)","v":""},{"$f":"IF(Clients!C1805=\"\",\"\",Clients!C1805)","v":""}]
[null,null,null,null,null,null,null,null,null,null,null,null,null,null,null,null,null,null,{"$f":"IF(Clients!B1806=\"\",\"\",Clients!B1806)","v":""},{"$f":"IF(Clients!C1806=\"\",\"\",Clients!C1806)","v":""}]
[null,null,null,null,null,null,null,null,null,null,null,null,null,null,null,null,null,null,{"$f":"IF(Clients!B1807=\"\",\"\",Clients!B1807)","v":""},{"$f":"IF(Clients!C1807=\"\",\"\",Clients!C1807)","v":""}]
[null,null,null,null,null,null,null,null,null,null,null,null,null,null,null,null,null,null,{"$f":"IF(Clients!B1808=\"\",\"\",Clients!B1808)","v":""},{"$f":"IF(Clients!C1808=\"\",\"\",Clients!C1808)","v":""}]
[null,null,null,null,null,null,null,null,null,null,null,null,null,null,null,null,null,null,{"$f":"IF(Clients!B1809=\"\",\"\",Clients!B1809)","v":""},{"$f":"IF(Clients!C1809=\"\",\"\",Clients!C1809)","v":""}]
[null,null,null,null,null,null,null,null,null,null,null,null,null,null,null,null,null,null,{"$f":"IF(Clients!B1810=\"\",\"\",Clients!B1810)","v":""},{"$f":"IF(Clients!C1810=\"\",\"\",Clients!C1810)","v":""}]
[null,null,null,null,null,null,null,null,null,null,null,null,null,null,null,null,null,null,{"$f":"IF(Clients!B1811=\"\",\"\",Clients!B1811)","v":""},{"$f":"IF(Clients!C1811=\"\",\"\",Clients!C1811)","v":""}]
[null,null,null,null,null,null,null,null,null,null,null,null,null,null,null,null,null,null,{"$f":"IF(Clients!B1812=\"\",\"\",Clients!B1812)","v":""},{"$f":"IF(Clients!C1812=\"\",\"\",Clients!C1812)","v":""}]
[null,null,null,null,null,null,null,null,null,null,null,null,null,null,null,null,null,null,{"$f":"IF(Clients!B1813=\"\",\"\",Clients!B1813)","v":""},{"$f":"IF(Clients!C1813=\"\",\"\",Clients!C1813)","v":""}]
[null,null,null,null,null,null,null,null,null,null,null,null,null,null,null,null,null,null,{"$f":"IF(Clients!B1814=\"\",\"\",Clients!B1814)","v":""},{"$f":"IF(Clients!C1814=\"\",\"\",Clients!C1814)","v":""}]
[null,null,null,null,null,null,null,null,null,null,null,null,null,null,null,null,null,null,{"$f":"IF(Clients!B1815=\"\",\"\",Clients!B1815)","v":""},{"$f":"IF(Clients!C1815=\"\",\"\",Clients!C1815)","v":""}]
[null,null,null,null,null,null,null,null,null,null,null,null,null,null,null,null,null,null,{"$f":"IF(Clients!B1816=\"\",\"\",Clients!B1816)","v":""},{"$f":"IF(Clients!C1816=\"\",\"\",Clients!C1816)","v":""}]
[null,null,null,null,null,null,null,null,null,null,null,null,null,null,null,null,null,null,{"$f":"IF(Clients!B1817=\"\",\"\",Clients!B1817)","v":""},{"$f":"IF(Clients!C1817=\"\",\"\",Clients!C1817)","v":""}]
[null,null,null,null,null,null,null,null,null,null,null,null,null,null,null,null,null,null,{"$f":"IF(Clients!B1818=\"\",\"\",Clients!B1818)","v":""},{"$f":"IF(Clients!C1818=\"\",\"\",Clients!C1818)","v":""}]
[null,null,null,null,null,null,null,null,null,null,null,null,null,null,null,null,null,null,{"$f":"IF(Clients!B1819=\"\",\"\",Clients!B1819)","v":""},{"$f":"IF(Clients!C1819=\"\",\"\",Clients!C1819)","v":""}]
[null,null,null,null,null,null,null,null,null,null,null,null,null,null,null,null,null,null,{"$f":"IF(Clients!B1820=\"\",\"\",Clients!B1820)","v":""},{"$f":"IF(Clients!C1820=\"\",\"\",Clients!C1820)","v":""}]
[null,null,null,null,null,null,null,null,null,null,null,null,null,null,null,null,null,null,{"$f":"IF(Clients!B1821=\"\",\"\",Clients!B1821)","v":""},{"$f":"IF(Clients!C1821=\"\",\"\",Clients!C1821)","v":""}]
[null,null,null,null,null,null,null,null,null,null,null,null,null,null,null,null,null,null,{"$f":"IF(Clients!B1822=\"\",\"\",Clients!B1822)","v":""},{"$f":"IF(Clients!C1822=\"\",\"\",Clients!C1822)","v":""}]
[null,null,null,null,null,null,null,null,null,null,null,null,null,null,null,null,null,null,{"$f":"IF(Clients!B1823=\"\",\"\",Clients!B1823)","v":""},{"$f":"IF(Clients!C1823=\"\",\"\",Clients!C1823)","v":""}]
[null,null,null,null,null,null,null,null,null,null,null,null,null,null,null,null,null,null,{"$f":"IF(Clients!B1824=\"\",\"\",Clients!B1824)","v":""},{"$f":"IF(Clients!C1824=\"\",\"\",Clients!C1824)","v":""}]
[null,null,null,null,null,null,null,null,null,null,null,null,null,null,null,null,null,null,{"$f":"IF(Clients!B1825=\"\",\"\",Clients!B1825)","v":""},{"$f":"IF(Clients!C1825=\"\",\"\",Clients!C1825)","v":""}]
[null,null,null,null,null,null,null,null,null,null,null,null,null,null,null,null,null,null,{"$f":"IF(Clients!B1826=\"\",\"\",Clients!B1826)","v":""},{"$f":"IF(Clients!C1826=\"\",\"\",Clients!C1826)","v":""}]
[null,null,null,null,null,null,null,null,null,null,null,null,null,null,null,null,null,null,{"$f":"IF(Clients!B1827=\"\",\"\",Clients!B1827)","v":""},{"$f":"IF(Clients!C1827=\"\",\"\",Clients!C1827)","v":""}]
[null,null,null,null,null,null,null,null,null,null,null,null,null,null,null,null,null,null,{"$f":"IF(Clients!B1828=\"\",\"\",Clients!B1828)","v":""},{"$f":"IF(Clients!C1828=\"\",\"\",Clients!C1828)","v":""}]
[null,null,null,null,null,null,null,null,null,null,null,null,null,null,null,null,null,null,{"$f":"IF(Clients!B1829=\"\",\"\",Clients!B1829)","v":""},{"$f":"IF(Clients!C1829=\"\",\"\",Clients!C1829)","v":""}]
[null,null,null,null,null,null,null,null,null,null,null,null,null,null,null,null,null,null,{"$f":"IF(Clients!B1830=\"\",\"\",Clients!B1830)","v":""},{"$f":"IF(Clients!C1830=\"\",\"\",Clients!C1830)","v":""}]
[null,null,null,null,null,null,null,null,null,null,null,null,null,null,null,null,null,null,{"$f":"IF(Clients!B1831=\"\",\"\",Clients!B1831)","v":""},{"$f":"IF(Clients!C1831=\"\",\"\",Clients!C1831)","v":""}]
[null,null,null,null,null,null,null,null,null,null,null,null,null,null,null,null,null,null,{"$f":"IF(Clients!B1832=\"\",\"\",Clients!B1832)","v":""},{"$f":"IF(Clients!C1832=\"\",\"\",Clients!C1832)","v":""}]
[null,null,null,null,null,null,null,null,null,null,null,null,null,null,null,null,null,null,{"$f":"IF(Clients!B1833=\"\",\"\",Clients!B1833)","v":""},{"$f":"IF(Clients!C1833=\"\",\"\",Clients!C1833)","v":""}]
[null,null,null,null,null,null,null,null,null,null,null,null,null,null,null,null,null,null,{"$f":"IF(Clients!B1834=\"\",\"\",Clients!B1834)","v":""},{"$f":"IF(Clients!C1834=\"\",\"\",Clients!C1834)","v":""}]
[null,null,null,null,null,null,null,null,null,null,null,null,null,null,null,null,null,null,{"$f":"IF(Clients!B1835=\"\",\"\",Clients!B1835)","v":""},{"$f":"IF(Clients!C1835=\"\",\"\",Clients!C1835)","v":""}]
[null,null,null,null,null,null,null,null,null,null,null,null,null,null,null,null,null,null,{"$f":"IF(Clients!B1836=\"\",\"\",Clients!B1836)","v":""},{"$f":"IF(Clients!C1836=\"\",\"\",Clients!C1836)","v":""}]
[null,null,null,null,null,null,null,null,null,null,null,null,null,null,null,null,null,null,{"$f":"IF(Clients!B1837=\"\",\"\",Clients!B1837)","v":""},{"$f":"IF(Clients!C1837=\"\",\"\",Clients!C1837)","v":""}]
[null,null,null,null,null,null,null,null,null,null,null,null,null,null,null,null,null,null,{"$f":"IF(Clients!B1838=\"\",\"\",Clients!B1838)","v":""},{"$f":"IF(Clients!C1838=\"\",\"\",Clients!C1838)","v":""}]
[null,null,null,null,null,null,null,null,null,null,null,null,null,null,null,null,null,null,{"$f":"IF(Clients!B1839=\"\",\"\",Clients!B1839)","v":""},{"$f":"IF(Clients!C1839=\"\",\"\",Clients!C1839)","v":""}]
[null,null,null,null,null,null,null,null,null,null,null,null,null,null,null,null,null,null,{"$f":"IF(Clients!B1840=\"\",\"\",Clients!B1840)","v":""},{"$f":"IF(Clients!C1840=\"\",\"\",Clients!C1840)","v":""}]
[null,null,null,null,null,null,null,null,null,null,null,null,null,null,null,null,null,null,{"$f":"IF(Clients!B1841=\"\",\"\",Clients!B1841)","v":""},{"$f":"IF(Clients!C1841=\"\",\"\",Clients!C1841)","v":""}]
[null,null,null,null,null,null,null,null,null,null,null,null,null,null,null,null,null,null,{"$f":"IF(Clients!B1842=\"\",\"\",Clients!B1842)","v":""},{"$f":"IF(Clients!C1842=\"\",\"\",Clients!C1842)","v":""}]
[null,null,null,null,null,null,null,null,null,null,null,null,null,null,null,null,null,null,{"$f":"IF(Clients!B1843=\"\",\"\",Clients!B1843)","v":""},{"$f":"IF(Clients!C1843=\"\",\"\",Clients!C1843)","v":""}]
[null,null,null,null,null,null,null,null,null,null,null,null,null,null,null,null,null,null,{"$f":"IF(Clients!B1844=\"\",\"\",Clients!B1844)","v":""},{"$f":"IF(Clients!C1844=\"\",\"\",Clients!C1844)","v":""}]
[null,null,null,null,null,null,null,null,null,null,null,null,null,null,null,null,null,null,{"$f":"IF(Clients!B1845=\"\",\"\",Clients!B1845)","v":""},{"$f":"IF(Clients!C1845=\"\",\"\",Clients!C1845)","v":""}]
[null,null,null,null,null,null,null,null,null,null,null,null,null,null,null,null,null,null,{"$f":"IF(Clients!B1846=\"\",\"\",Clients!B1846)","v":""},{"$f":"IF(Clients!C1846=\"\",\"\",Clients!C1846)","v":""}]
[null,null,null,null,null,null,null,null,null,null,null,null,null,null,null,null,null,null,{"$f":"IF(Clients!B1847=\"\",\"\",Clients!B1847)","v":""},{"$f":"IF(Clients!C1847=\"\",\"\",Clients!C1847)","v":""}]
[null,null,null,null,null,null,null,null,null,null,null,null,null,null,null,null,null,null,{"$f":"IF(Clients!B1848=\"\",\"\",Clients!B1848)","v":""},{"$f":"IF(Clients!C1848=\"\",\"\",Clients!C1848)","v":""}]
[null,null,null,null,null,null,null,null,null,null,null,null,null,null,null,null,null,null,{"$f":"IF(Clients!B1849=\"\",\"\",Clients!B1849)","v":""},{"$f":"IF(Clients!C1849=\"\",\"\",Clients!C1849)","v":""}]
[null,null,null,null,null,null,null,null,null,null,null,null,null,null,null,null,null,null,{"$f":"IF(Clients!B1850=\"\",\"\",Clients!B1850)","v":""},{"$f":"IF(Clients!C1850=\"\",\"\",Clients!C1850)","v":""}]
[null,null,null,null,null,null,null,null,null,null,null,null,null,null,null,null,null,null,{"$f":"IF(Clients!B1851=\"\",\"\",Clients!B1851)","v":""},{"$f":"IF(Clients!C1851=\"\",\"\",Clients!C1851)","v":""}]
[null,null,null,null,null,null,null,null,null,null,null,null,null,null,null,null,null,null,{"$f":"IF(Clients!B1852=\"\",\"\",Clients!B1852)","v":""},{"$f":"IF(Clients!C1852=\"\",\"\",Clients!C1852)","v":""}]
[null,null,null,null,null,null,null,null,null,null,null,null,null,null,null,null,null,null,{"$f":"IF(Clients!B1853=\"\",\"\",Clients!B1853)","v":""},{"$f":"IF(Clients!C1853=\"\",\"\",Clients!C1853)","v":""}]
[null,null,null,null,null,null,null,null,null,null,null,null,null,null,null,null,null,null,{"$f":"IF(Clients!B1854=\"\",\"\",Clients!B1854)","v":""},{"$f":"IF(Clients!C1854=\"\",\"\",Clients!C1854)","v":""}]
[null,null,null,null,null,null,null,null,null,null,null,null,null,null,null,null,null,null,{"$f":"IF(Clients!B1855=\"\",\"\",Clients!B1855)","v":""},{"$f":"IF(Clients!C1855=\"\",\"\",Clients!C1855)","v":""}]
[null,null,null,null,null,null,null,null,null,null,null,null,null,null,null,null,null,null,{"$f":"IF(Clients!B1856=\"\",\"\",Clients!B1856)","v":""},{"$f":"IF(Clients!C1856=\"\",\"\",Clients!C1856)","v":""}]
[null,null,null,null,null,null,null,null,null,null,null,null,null,null,null,null,null,null,{"$f":"IF(Clients!B1857=\"\",\"\",Clients!B1857)","v":""},{"$f":"IF(Clients!C1857=\"\",\"\",Clients!C1857)","v":""}]
[null,null,null,null,null,null,null,null,null,null,null,null,null,null,null,null,null,null,{"$f":"IF(Clients!B1858=\"\",\"\",Clients!B1858)","v":""},{"$f":"IF(Clients!C1858=\"\",\"\",Clients!C1858)","v":""}]
[null,null,null,null,null,null,null,null,null,null,null,null,null,null,null,null,null,null,{"$f":"IF(Clients!B1859=\"\",\"\",Clients!B1859)","v":""},{"$f":"IF(Clients!C1859=\"\",\"\",Clients!C1859)","v":""}]
[null,null,null,null,null,null,null,null,null,null,null,null,null,null,null,null,null,null,{"$f":"IF(Clients!B1860=\"\",\"\",Clients!B1860)","v":""},{"$f":"IF(Clients!C1860=\"\",\"\",Clients!C1860)","v":""}]
[null,null,null,null,null,null,null,null,null,null,null,null,null,null,null,null,null,null,{"$f":"IF(Clients!B1861=\"\",\"\",Clients!B1861)","v":""},{"$f":"IF(Clients!C1861=\"\",\"\",Clients!C1861)","v":""}]
[null,null,null,null,null,null,null,null,null,null,null,null,null,null,null,null,null,null,{"$f":"IF(Clients!B1862=\"\",\"\",Clients!B1862)","v":""},{"$f":"IF(Clients!C1862=\"\",\"\",Clients!C1862)","v":""}]
[null,null,null,null,null,null,null,null,null,null,null,null,null,null,null,null,null,null,{"$f":"IF(Clients!B1863=\"\",\"\",Clients!B1863)","v":""},{"$f":"IF(Clients!C1863=\"\",\"\",Clients!C1863)","v":""}]
[null,null,null,null,null,null,null,null,null,null,null,null,null,null,null,null,null,null,{"$f":"IF(Clients!B1864=\"\",\"\",Clients!B1864)","v":""},{"$f":"IF(Clients!C1864=\"\",\"\",Clients!C1864)","v":""}]
[null,null,null,null,null,null,null,null,null,null,null,null,null,null,null,null,null,null,{"$f":"IF(Clients!B1865=\"\",\"\",Clients!B1865)","v":""},{"$f":"IF(Clients!C1865=\"\",\"\",Clients!C1865)","v":""}]
[null,null,null,null,null,null,null,null,null,null,null,null,null,null,null,null,null,null,{"$f":"IF(Clients!B1866=\"\",\"\",Clients!B1866)","v":""},{"$f":"IF(Clients!C1866=\"\",\"\",Clients!C1866)","v":""}]
[null,null,null,null,null,null,null,null,null,null,null,null,null,null,null,null,null,null,{"$f":"IF(Clients!B1867=\"\",\"\",Clients!B1867)","v":""},{"$f":"IF(Clients!C1867=\"\",\"\",Clients!C1867)","v":""}]
[null,null,null,null,null,null,null,null,null,null,null,null,null,null,null,null,null,null,{"$f":"IF(Clients!B1868=\"\",\"\",Clients!B1868)","v":""},{"$f":"IF(Clients!C1868=\"\",\"\",Clients!C1868)","v":""}]
[null,null,null,null,null,null,null,null,null,null,null,null,null,null,null,null,null,null,{"$f":"IF(Clients!B1869=\"\",\"\",Clients!B1869)","v":""},{"$f":"IF(Clients!C1869=\"\",\"\",Clients!C1869)","v":""}]
[null,null,null,null,null,null,null,null,null,null,null,null,null,null,null,null,null,null,{"$f":"IF(Clients!B1870=\"\",\"\",Clients!B1870)","v":""},{"$f":"IF(Clients!C1870=\"\",\"\",Clients!C1870)","v":""}]
[null,null,null,null,null,null,null,null,null,null,null,null,null,null,null,null,null,null,{"$f":"IF(Clients!B1871=\"\",\"\",Clients!B1871)","v":""},{"$f":"IF(Clients!C1871=\"\",\"\",Clients!C1871)","v":""}]
[null,null,null,null,null,null,null,null,null,null,null,null,null,null,null,null,null,null,{"$f":"IF(Clients!B1872=\"\",\"\",Clients!B1872)","v":""},{"$f":"IF(Clients!C1872=\"\",\"\",Clients!C1872)","v":""}]
[null,null,null,null,null,null,null,null,null,null,null,null,null,null,null,null,null,null,{"$f":"IF(Clients!B1873=\"\",\"\",Clients!B1873)","v":""},{"$f":"IF(Clients!C1873=\"\",\"\",Clients!C1873)","v":""}]
[null,null,null,null,null,null,null,null,null,null,null,null,null,null,null,null,null,null,{"$f":"IF(Clients!B1874=\"\",\"\",Clients!B1874)","v":""},{"$f":"IF(Clients!C1874=\"\",\"\",Clients!C1874)","v":""}]
[null,null,null,null,null,null,null,null,null,null,null,null,null,null,null,null,null,null,{"$f":"IF(Clients!B1875=\"\",\"\",Clients!B1875)","v":""},{"$f":"IF(Clients!C1875=\"\",\"\",Clients!C1875)","v":""}]
[null,null,null,null,null,null,null,null,null,null,null,null,null,null,null,null,null,null,{"$f":"IF(Clients!B1876=\"\",\"\",Clients!B1876)","v":""},{"$f":"IF(Clients!C1876=\"\",\"\",Clients!C1876)","v":""}]
[null,null,null,null,null,null,null,null,null,null,null,null,null,null,null,null,null,null,{"$f":"IF(Clients!B1877=\"\",\"\",Clients!B1877)","v":""},{"$f":"IF(Clients!C1877=\"\",\"\",Clients!C1877)","v":""}]
[null,null,null,null,null,null,null,null,null,null,null,null,null,null,null,null,null,null,{"$f":"IF(Clients!B1878=\"\",\"\",Clients!B1878)","v":""},{"$f":"IF(Clients!C1878=\"\",\"\",Clients!C1878)","v":""}]
[null,null,null,null,null,null,null,null,null,null,null,null,null,null,null,null,null,null,{"$f":"IF(Clients!B1879=\"\",\"\",Clients!B1879)","v":""},{"$f":"IF(Clients!C1879=\"\",\"\",Clients!C1879)","v":""}]
[null,null,null,null,null,null,null,null,null,null,null,null,null,null,null,null,null,null,{"$f":"IF(Clients!B1880=\"\",\"\",Clients!B1880)","v":""},{"$f":"IF(Clients!C1880=\"\",\"\",Clients!C1880)","v":""}]
[null,null,null,null,null,null,null,null,null,null,null,null,null,null,null,null,null,null,{"$f":"IF(Clients!B1881=\"\",\"\",Clients!B1881)","v":""},{"$f":"IF(Clients!C1881=\"\",\"\",Clients!C1881)","v":""}]
[null,null,null,null,null,null,null,null,null,null,null,null,null,null,null,null,null,null,{"$f":"IF(Clients!B1882=\"\",\"\",Clients!B1882)","v":""},{"$f":"IF(Clients!C1882=\"\",\"\",Clients!C1882)","v":""}]
[null,null,null,null,null,null,null,null,null,null,null,null,null,null,null,null,null,null,{"$f":"IF(Clients!B1883=\"\",\"\",Clients!B1883)","v":""},{"$f":"IF(Clients!C1883=\"\",\"\",Clients!C1883)","v":""}]
[null,null,null,null,null,null,null,null,null,null,null,null,null,null,null,null,null,null,{"$f":"IF(Clients!B1884=\"\",\"\",Clients!B1884)","v":""},{"$f":"IF(Clients!C1884=\"\",\"\",Clients!C1884)","v":""}]
[null,null,null,null,null,null,null,null,null,null,null,null,null,null,null,null,null,null,{"$f":"IF(Clients!B1885=\"\",\"\",Clients!B1885)","v":""},{"$f":"IF(Clients!C1885=\"\",\"\",Clients!C1885)","v":""}]
[null,null,null,null,null,null,null,null,null,null,null,null,null,null,null,null,null,null,{"$f":"IF(Clients!B1886=\"\",\"\",Clients!B1886)","v":""},{"$f":"IF(Clients!C1886=\"\",\"\",Clients!C1886)","v":""}]
[null,null,null,null,null,null,null,null,null,null,null,null,null,null,null,null,null,null,{"$f":"IF(Clients!B1887=\"\",\"\",Clients!B1887)","v":""},{"$f":"IF(Clients!C1887=\"\",\"\",Clients!C1887)","v":""}]
[null,null,null,null,null,null,null,null,null,null,null,null,null,null,null,null,null,null,{"$f":"IF(Clients!B1888=\"\",\"\",Clients!B1888)","v":""},{"$f":"IF(Clients!C1888=\"\",\"\",Clients!C1888)","v":""}]
[null,null,null,null,null,null,null,null,null,null,null,null,null,null,null,null,null,null,{"$f":"IF(Clients!B1889=\"\",\"\",Clients!B1889)","v":""},{"$f":"IF(Clients!C1889=\"\",\"\",Clients!C1889)","v":""}]
[null,null,null,null,null,null,null,null,null,null,null,null,null,null,null,null,null,null,{"$f":"IF(Clients!B1890=\"\",\"\",Clients!B1890)","v":""},{"$f":"IF(Clients!C1890=\"\",\"\",Clients!C1890)","v":""}]
[null,null,null,null,null,null,null,null,null,null,null,null,null,null,null,null,null,null,{"$f":"IF(Clients!B1891=\"\",\"\",Clients!B1891)","v":""},{"$f":"IF(Clients!C1891=\"\",\"\",Clients!C1891)","v":""}]
[null,null,null,null,null,null,null,null,null,null,null,null,null,null,null,null,null,null,{"$f":"IF(Clients!B1892=\"\",\"\",Clients!B1892)","v":""},{"$f":"IF(Clients!C1892=\"\",\"\",Clients!C1892)","v":""}]
[null,null,null,null,null,null,null,null,null,null,null,null,null,null,null,null,null,null,{"$f":"IF(Clients!B1893=\"\",\"\",Clients!B1893)","v":""},{"$f":"IF(Clients!C1893=\"\",\"\",Clients!C1893)","v":""}]
[null,null,null,null,null,null,null,null,null,null,null,null,null,null,null,null,null,null,{"$f":"IF(Clients!B1894=\"\",\"\",Clients!B1894)","v":""},{"$f":"IF(Clients!C1894=\"\",\"\",Clients!C1894)","v":""}]
[null,null,null,null,null,null,null,null,null,null,null,null,null,null,null,null,null,null,{"$f":"IF(Clients!B1895=\"\",\"\",Clients!B1895)","v":""},{"$f":"IF(Clients!C1895=\"\",\"\",Clients!C1895)","v":""}]
[null,null,null,null,null,null,null,null,null,null,null,null,null,null,null,null,null,null,{"$f":"IF(Clients!B1896=\"\",\"\",Clients!B1896)","v":""},{"$f":"IF(Clients!C1896=\"\",\"\",Clients!C1896)","v":""}]
[null,null,null,null,null,null,null,null,null,null,null,null,null,null,null,null,null,null,{"$f":"IF(Clients!B1897=\"\",\"\",Clients!B1897)","v":""},{"$f":"IF(Clients!C1897=\"\",\"\",Clients!C1897)","v":""}]
[null,null,null,null,null,null,null,null,null,null,null,null,null,null,null,null,null,null,{"$f":"IF(Clients!B1898=\"\",\"\",Clients!B1898)","v":""},{"$f":"IF(Clients!C1898=\"\",\"\",Clients!C1898)","v":""}]
[null,null,null,null,null,null,null,null,null,null,null,null,null,null,null,null,null,null,{"$f":"IF(Clients!B1899=\"\",\"\",Clients!B1899)","v":""},{"$f":"IF(Clients!C1899=\"\",\"\",Clients!C1899)","v":""}]
[null,null,null,null,null,null,null,null,null,null,null,null,null,null,null,null,null,null,{"$f":"IF(Clients!B1900=\"\",\"\",Clients!B1900)","v":""},{"$f":"IF(Clients!C1900=\"\",\"\",Clients!C1900)","v":""}]
[null,null,null,null,null,null,null,null,null,null,null,null,null,null,null,null,null,null,{"$f":"IF(Clients!B1901=\"\",\"\",Clients!B1901)","v":""},{"$f":"IF(Clients!C1901=\"\",\"\",Clients!C1901)","v":""}]
[null,null,null,null,null,null,null,null,null,null,null,null,null,null,null,null,null,null,{"$f":"IF(Clients!B1902=\"\",\"\",Clients!B1902)","v":""},{"$f":"IF(Clients!C1902=\"\",\"\",Clients!C1902)","v":""}]
[null,null,null,null,null,null,null,null,null,null,null,null,null,null,null,null,null,null,{"$f":"IF(Clients!B1903=\"\",\"\",Clients!B1903)","v":""},{"$f":"IF(Clients!C1903=\"\",\"\",Clients!C1903)","v":""}]
[null,null,null,null,null,null,null,null,null,null,null,null,null,null,null,null,null,null,{"$f":"IF(Clients!B1904=\"\",\"\",Clients!B1904)","v":""},{"$f":"IF(Clients!C1904=\"\",\"\",Clients!C1904)","v":""}]
[null,null,null,null,null,null,null,null,null,null,null,null,null,null,null,null,null,null,{"$f":"IF(Clients!B1905=\"\",\"\",Clients!B1905)","v":""},{"$f":"IF(Clients!C1905=\"\",\"\",Clients!C1905)","v":""}]
[null,null,null,null,null,null,null,null,null,null,null,null,null,null,null,null,null,null,{"$f":"IF(Clients!B1906=\"\",\"\",Clients!B1906)","v":""},{"$f":"IF(Clients!C1906=\"\",\"\",Clients!C1906)","v":""}]
[null,null,null,null,null,null,null,null,null,null,null,null,null,null,null,null,null,null,{"$f":"IF(Clients!B1907=\"\",\"\",Clients!B1907)","v":""},{"$f":"IF(Clients!C1907=\"\",\"\",Clients!C1907)","v":""}]
[null,null,null,null,null,null,null,null,null,null,null,null,null,null,null,null,null,null,{"$f":"IF(Clients!B1908=\"\",\"\",Clients!B1908)","v":""},{"$f":"IF(Clients!C1908=\"\",\"\",Clients!C1908)","v":""}]
[null,null,null,null,null,null,null,null,null,null,null,null,null,null,null,null,null,null,{"$f":"IF(Clients!B1909=\"\",\"\",Clients!B1909)","v":""},{"$f":"IF(Clients!C1909=\"\",\"\",Clients!C1909)","v":""}]
[null,null,null,null,null,null,null,null,null,null,null,null,null,null,null,null,null,null,{"$f":"IF(Clients!B1910=\"\",\"\",Clients!B1910)","v":""},{"$f":"IF(Clients!C1910=\"\",\"\",Clients!C1910)","v":""}]
[null,null,null,null,null,null,null,null,null,null,null,null,null,null,null,null,null,null,{"$f":"IF(Clients!B1911=\"\",\"\",Clients!B1911)","v":""},{"$f":"IF(Clients!C1911=\"\",\"\",Clients!C1911)","v":""}]
[null,null,null,null,null,null,null,null,null,null,null,null,null,null,null,null,null,null,{"$f":"IF(Clients!B1912=\"\",\"\",Clients!B1912)","v":""},{"$f":"IF(Clients!C1912=\"\",\"\",Clients!C1912)","v":""}]
[null,null,null,null,null,null,null,null,null,null,null,null,null,null,null,null,null,null,{"$f":"IF(Clients!B1913=\"\",\"\",Clients!B1913)","v":""},{"$f":"IF(Clients!C1913=\"\",\"\",Clients!C1913)","v":""}]
[null,null,null,null,null,null,null,null,null,null,null,null,null,null,null,null,null,null,{"$f":"IF(Clients!B1914=\"\",\"\",Clients!B1914)","v":""},{"$f":"IF(Clients!C1914=\"\",\"\",Clients!C1914)","v":""}]
[null,null,null,null,null,null,null,null,null,null,null,null,null,null,null,null,null,null,{"$f":"IF(Clients!B1915=\"\",\"\",Clients!B1915)","v":""},{"$f":"IF(Clients!C1915=\"\",\"\",Clients!C1915)","v":""}]
[null,null,null,null,null,null,null,null,null,null,null,null,null,null,null,null,null,null,{"$f":"IF(Clients!B1916=\"\",\"\",Clients!B1916)","v":""},{"$f":"IF(Clients!C1916=\"\",\"\",Clients!C1916)","v":""}]
[null,null,null,null,null,null,null,null,null,null,null,null,null,null,null,null,null,null,{"$f":"IF(Clients!B1917=\"\",\"\",Clients!B1917)","v":""},{"$f":"IF(Clients!C1917=\"\",\"\",Clients!C1917)","v":""}]
[null,null,null,null,null,null,null,null,null,null,null,null,null,null,null,null,null,null,{"$f":"IF(Clients!B1918=\"\",\"\",Clients!B1918)","v":""},{"$f":"IF(Clients!C1918=\"\",\"\",Clients!C1918)","v":""}]
[null,null,null,null,null,null,null,null,null,null,null,null,null,null,null,null,null,null,{"$f":"IF(Clients!B1919=\"\",\"\",Clients!B1919)","v":""},{"$f":"IF(Clients!C1919=\"\",\"\",Clients!C1919)","v":""}]
[null,null,null,null,null,null,null,null,null,null,null,null,null,null,null,null,null,null,{"$f":"IF(Clients!B1920=\"\",\"\",Clients!B1920)","v":""},{"$f":"IF(Clients!C1920=\"\",\"\",Clients!C1920)","v":""}]
[null,null,null,null,null,null,null,null,null,null,null,null,null,null,null,null,null,null,{"$f":"IF(Clients!B1921=\"\",\"\",Clients!B1921)","v":""},{"$f":"IF(Clients!C1921=\"\",\"\",Clients!C1921)","v":""}]
[null,null,null,null,null,null,null,null,null,null,null,null,null,null,null,null,null,null,{"$f":"IF(Clients!B1922=\"\",\"\",Clients!B1922)","v":""},{"$f":"IF(Clients!C1922=\"\",\"\",Clients!C1922)","v":""}]
[null,null,null,null,null,null,null,null,null,null,null,null,null,null,null,null,null,null,{"$f":"IF(Clients!B1923=\"\",\"\",Clients!B1923)","v":""},{"$f":"IF(Clients!C1923=\"\",\"\",Clients!C1923)","v":""}]
[null,null,null,null,null,null,null,null,null,null,null,null,null,null,null,null,null,null,{"$f":"IF(Clients!B1924=\"\",\"\",Clients!B1924)","v":""},{"$f":"IF(Clients!C1924=\"\",\"\",Clients!C1924)","v":""}]
[null,null,null,null,null,null,null,null,null,null,null,null,null,null,null,null,null,null,{"$f":"IF(Clients!B1925=\"\",\"\",Clients!B1925)","v":""},{"$f":"IF(Clients!C1925=\"\",\"\",Clients!C1925)","v":""}]
[null,null,null,null,null,null,null,null,null,null,null,null,null,null,null,null,null,null,{"$f":"IF(Clients!B1926=\"\",\"\",Clients!B1926)","v":""},{"$f":"IF(Clients!C1926=\"\",\"\",Clients!C1926)","v":""}]
[null,null,null,null,null,null,null,null,null,null,null,null,null,null,null,null,null,null,{"$f":"IF(Clients!B1927=\"\",\"\",Clients!B1927)","v":""},{"$f":"IF(Clients!C1927=\"\",\"\",Clients!C1927)","v":""}]
[null,null,null,null,null,null,null,null,null,null,null,null,null,null,null,null,null,null,{"$f":"IF(Clients!B1928=\"\",\"\",Clients!B1928)","v":""},{"$f":"IF(Clients!C1928=\"\",\"\",Clients!C1928)","v":""}]
[null,null,null,null,null,null,null,null,null,null,null,null,null,null,null,null,null,null,{"$f":"IF(Clients!B1929=\"\",\"\",Clients!B1929)","v":""},{"$f":"IF(Clients!C1929=\"\",\"\",Clients!C1929)","v":""}]
[null,null,null,null,null,null,null,null,null,null,null,null,null,null,null,null,null,null,{"$f":"IF(Clients!B1930=\"\",\"\",Clients!B1930)","v":""},{"$f":"IF(Clients!C1930=\"\",\"\",Clients!C1930)","v":""}]
[null,null,null,null,null,null,null,null,null,null,null,null,null,null,null,null,null,null,{"$f":"IF(Clients!B1931=\"\",\"\",Clients!B1931)","v":""},{"$f":"IF(Clients!C1931=\"\",\"\",Clients!C1931)","v":""}]
[null,null,null,null,null,null,null,null,null,null,null,null,null,null,null,null,null,null,{"$f":"IF(Clients!B1932=\"\",\"\",Clients!B1932)","v":""},{"$f":"IF(Clients!C1932=\"\",\"\",Clients!C1932)","v":""}]
[null,null,null,null,null,null,null,null,null,null,null,null,null,null,null,null,null,null,{"$f":"IF(Clients!B1933=\"\",\"\",Clients!B1933)","v":""},{"$f":"IF(Clients!C1933=\"\",\"\",Clients!C1933)","v":""}]
[null,null,null,null,null,null,null,null,null,null,null,null,null,null,null,null,null,null,{"$f":"IF(Clients!B1934=\"\",\"\",Clients!B1934)","v":""},{"$f":"IF(Clients!C1934=\"\",\"\",Clients!C1934)","v":""}]
[null,null,null,null,null,null,null,null,null,null,null,null,null,null,null,null,null,null,{"$f":"IF(Clients!B1935=\"\",\"\",Clients!B1935)","v":""},{"$f":"IF(Clients!C1935=\"\",\"\",Clients!C1935)","v":""}]
[null,null,null,null,null,null,null,null,null,null,null,null,null,null,null,null,null,null,{"$f":"IF(Clients!B1936=\"\",\"\",Clients!B1936)","v":""},{"$f":"IF(Clients!C1936=\"\",\"\",Clients!C1936)","v":""}]
[null,null,null,null,null,null,null,null,null,null,null,null,null,null,null,null,null,null,{"$f":"IF(Clients!B1937=\"\",\"\",Clients!B1937)","v":""},{"$f":"IF(Clients!C1937=\"\",\"\",Clients!C1937)","v":""}]
[null,null,null,null,null,null,null,null,null,null,null,null,null,null,null,null,null,null,{"$f":"IF(Clients!B1938=\"\",\"\",Clients!B1938)","v":""},{"$f":"IF(Clients!C1938=\"\",\"\",Clients!C1938)","v":""}]
[null,null,null,null,null,null,null,null,null,null,null,null,null,null,null,null,null,null,{"$f":"IF(Clients!B1939=\"\",\"\",Clients!B1939)","v":""},{"$f":"IF(Clients!C1939=\"\",\"\",Clients!C1939)","v":""}]
[null,null,null,null,null,null,null,null,null,null,null,null,null,null,null,null,null,null,{"$f":"IF(Clients!B1940=\"\",\"\",Clients!B1940)","v":""},{"$f":"IF(Clients!C1940=\"\",\"\",Clients!C1940)","v":""}]
[null,null,null,null,null,null,null,null,null,null,null,null,null,null,null,null,null,null,{"$f":"IF(Clients!B1941=\"\",\"\",Clients!B1941)","v":""},{"$f":"IF(Clients!C1941=\"\",\"\",Clients!C1941)","v":""}]
[null,null,null,null,null,null,null,null,null,null,null,null,null,null,null,null,null,null,{"$f":"IF(Clients!B1942=\"\",\"\",Clients!B1942)","v":""},{"$f":"IF(Clients!C1942=\"\",\"\",Clients!C1942)","v":""}]
[null,null,null,null,null,null,null,null,null,null,null,null,null,null,null,null,null,null,{"$f":"IF(Clients!B1943=\"\",\"\",Clients!B1943)","v":""},{"$f":"IF(Clients!C1943=\"\",\"\",Clients!C1943)","v":""}]
[null,null,null,null,null,null,null,null,null,null,null,null,null,null,null,null,null,null,{"$f":"IF(Clients!B1944=\"\",\"\",Clients!B1944)","v":""},{"$f":"IF(Clients!C1944=\"\",\"\",Clients!C1944)","v":""}]
[null,null,null,null,null,null,null,null,null,null,null,null,null,null,null,null,null,null,{"$f":"IF(Clients!B1945=\"\",\"\",Clients!B1945)","v":""},{"$f":"IF(Clients!C1945=\"\",\"\",Clients!C1945)","v":""}]
[null,null,null,null,null,null,null,null,null,null,null,null,null,null,null,null,null,null,{"$f":"IF(Clients!B1946=\"\",\"\",Clients!B1946)","v":""},{"$f":"IF(Clients!C1946=\"\",\"\",Clients!C1946)","v":""}]
[null,null,null,null,null,null,null,null,null,null,null,null,null,null,null,null,null,null,{"$f":"IF(Clients!B1947=\"\",\"\",Clients!B1947)","v":""},{"$f":"IF(Clients!C1947=\"\",\"\",Clients!C1947)","v":""}]
[null,null,null,null,null,null,null,null,null,null,null,null,null,null,null,null,null,null,{"$f":"IF(Clients!B1948=\"\",\"\",Clients!B1948)","v":""},{"$f":"IF(Clients!C1948=\"\",\"\",Clients!C1948)","v":""}]
[null,null,null,null,null,null,null,null,null,null,null,null,null,null,null,null,null,null,{"$f":"IF(Clients!B1949=\"\",\"\",Clients!B1949)","v":""},{"$f":"IF(Clients!C1949=\"\",\"\",Clients!C1949)","v":""}]
[null,null,null,null,null,null,null,null,null,null,null,null,null,null,null,null,null,null,{"$f":"IF(Clients!B1950=\"\",\"\",Clients!B1950)","v":""},{"$f":"IF(Clients!C1950=\"\",\"\",Clients!C1950)","v":""}]
[null,null,null,null,null,null,null,null,null,null,null,null,null,null,null,null,null,null,{"$f":"IF(Clients!B1951=\"\",\"\",Clients!B1951)","v":""},{"$f":"IF(Clients!C1951=\"\",\"\",Clients!C1951)","v":""}]
[null,null,null,null,null,null,null,null,null,null,null,null,null,null,null,null,null,null,{"$f":"IF(Clients!B1952=\"\",\"\",Clients!B1952)","v":""},{"$f":"IF(Clients!C1952=\"\",\"\",Clients!C1952)","v":""}]
[null,null,null,null,null,null,null,null,null,null,null,null,null,null,null,null,null,null,{"$f":"IF(Clients!B1953=\"\",\"\",Clients!B1953)","v":""},{"$f":"IF(Clients!C1953=\"\",\"\",Clients!C1953)","v":""}]
[null,null,null,null,null,null,null,null,null,null,null,null,null,null,null,null,null,null,{"$f":"IF(Clients!B1954=\"\",\"\",Clients!B1954)","v":""},{"$f":"IF(Clients!C1954=\"\",\"\",Clients!C1954)","v":""}]
[null,null,null,null,null,null,null,null,null,null,null,null,null,null,null,null,null,null,{"$f":"IF(Clients!B1955=\"\",\"\",Clients!B1955)","v":""},{"$f":"IF(Clients!C1955=\"\",\"\",Clients!C1955)","v":""}]
[null,null,null,null,null,null,null,null,null,null,null,null,null,null,null,null,null,null,{"$f":"IF(Clients!B1956=\"\",\"\",Clients!B1956)","v":""},{"$f":"IF(Clients!C1956=\"\",\"\",Clients!C1956)","v":""}]
[null,null,null,null,null,null,null,null,null,null,null,null,null,null,null,null,null,null,{"$f":"IF(Clients!B1957=\"\",\"\",Clients!B1957)","v":""},{"$f":"IF(Clients!C1957=\"\",\"\",Clients!C1957)","v":""}]
[null,null,null,null,null,null,null,null,null,null,null,null,null,null,null,null,null,null,{"$f":"IF(Clients!B1958=\"\",\"\",Clients!B1958)","v":""},{"$f":"IF(Clients!C1958=\"\",\"\",Clients!C1958)","v":""}]
[null,null,null,null,null,null,null,null,null,null,null,null,null,null,null,null,null,null,{"$f":"IF(Clients!B1959=\"\",\"\",Clients!B1959)","v":""},{"$f":"IF(Clients!C1959=\"\",\"\",Clients!C1959)","v":""}]
[null,null,null,null,null,null,null,null,null,null,null,null,null,null,null,null,null,null,{"$f":"IF(Clients!B1960=\"\",\"\",Clients!B1960)","v":""},{"$f":"IF(Clients!C1960=\"\",\"\",Clients!C1960)","v":""}]
[null,null,null,null,null,null,null,null,null,null,null,null,null,null,null,null,null,null,{"$f":"IF(Clients!B1961=\"\",\"\",Clients!B1961)","v":""},{"$f":"IF(Clients!C1961=\"\",\"\",Clients!C1961)","v":""}]
[null,null,null,null,null,null,null,null,null,null,null,null,null,null,null,null,null,null,{"$f":"IF(Clients!B1962=\"\",\"\",Clients!B1962)","v":""},{"$f":"IF(Clients!C1962=\"\",\"\",Clients!C1962)","v":""}]
[null,null,null,null,null,null,null,null,null,null,null,null,null,null,null,null,null,null,{"$f":"IF(Clients!B1963=\"\",\"\",Clients!B1963)","v":""},{"$f":"IF(Clients!C1963=\"\",\"\",Clients!C1963)","v":""}]
[null,null,null,null,null,null,null,null,null,null,null,null,null,null,null,null,null,null,{"$f":"IF(Clients!B1964=\"\",\"\",Clients!B1964)","v":""},{"$f":"IF(Clients!C1964=\"\",\"\",Clients!C1964)","v":""}]
[null,null,null,null,null,null,null,null,null,null,null,null,null,null,null,null,null,null,{"$f":"IF(Clients!B1965=\"\",\"\",Clients!B1965)","v":""},{"$f":"IF(Clients!C1965=\"\",\"\",Clients!C1965)","v":""}]
[null,null,null,null,null,null,null,null,null,null,null,null,null,null,null,null,null,null,{"$f":"IF(Clients!B1966=\"\",\"\",Clients!B1966)","v":""},{"$f":"IF(Clients!C1966=\"\",\"\",Clients!C1966)","v":""}]
[null,null,null,null,null,null,null,null,null,null,null,null,null,null,null,null,null,null,{"$f":"IF(Clients!B1967=\"\",\"\",Clients!B1967)","v":""},{"$f":"IF(Clients!C1967=\"\",\"\",Clients!C1967)","v":""}]
[null,null,null,null,null,null,null,null,null,null,null,null,null,null,null,null,null,null,{"$f":"IF(Clients!B1968=\"\",\"\",Clients!B1968)","v":""},{"$f":"IF(Clients!C1968=\"\",\"\",Clients!C1968)","v":""}]
[null,null,null,null,null,null,null,null,null,null,null,null,null,null,null,null,null,null,{"$f":"IF(Clients!B1969=\"\",\"\",Clients!B1969)","v":""},{"$f":"IF(Clients!C1969=\"\",\"\",Clients!C1969)","v":""}]
[null,null,null,null,null,null,null,null,null,null,null,null,null,null,null,null,null,null,{"$f":"IF(Clients!B1970=\"\",\"\",Clients!B1970)","v":""},{"$f":"IF(Clients!C1970=\"\",\"\",Clients!C1970)","v":""}]
[null,null,null,null,null,null,null,null,null,null,null,null,null,null,null,null,null,null,{"$f":"IF(Clients!B1971=\"\",\"\",Clients!B1971)","v":""},{"$f":"IF(Clients!C1971=\"\",\"\",Clients!C1971)","v":""}]
[null,null,null,null,null,null,null,null,null,null,null,null,null,null,null,null,null,null,{"$f":"IF(Clients!B1972=\"\",\"\",Clients!B1972)","v":""},{"$f":"IF(Clients!C1972=\"\",\"\",Clients!C1972)","v":""}]
[null,null,null,null,null,null,null,null,null,null,null,null,null,null,null,null,null,null,{"$f":"IF(Clients!B1973=\"\",\"\",Clients!B1973)","v":""},{"$f":"IF(Clients!C1973=\"\",\"\",Clients!C1973)","v":""}]
[null,null,null,null,null,null,null,null,null,null,null,null,null,null,null,null,null,null,{"$f":"IF(Clients!B1974=\"\",\"\",Clients!B1974)","v":""},{"$f":"IF(Clients!C1974=\"\",\"\",Clients!C1974)","v":""}]
[null,null,null,null,null,null,null,null,null,null,null,null,null,null,null,null,null,null,{"$f":"IF(Clients!B1975=\"\",\"\",Clients!B1975)","v":""},{"$f":"IF(Clients!C1975=\"\",\"\",Clients!C1975)","v":""}]
[null,null,null,null,null,null,null,null,null,null,null,null,null,null,null,null,null,null,{"$f":"IF(Clients!B1976=\"\",\"\",Clients!B1976)","v":""},{"$f":"IF(Clients!C1976=\"\",\"\",Clients!C1976)","v":""}]
[null,null,null,null,null,null,null,null,null,null,null,null,null,null,null,null,null,null,{"$f":"IF(Clients!B1977=\"\",\"\",Clients!B1977)","v":""},{"$f":"IF(Clients!C1977=\"\",\"\",Clients!C1977)","v":""}]
[null,null,null,null,null,null,null,null,null,null,null,null,null,null,null,null,null,null,{"$f":"IF(Clients!B1978=\"\",\"\",Clients!B1978)","v":""},{"$f":"IF(Clients!C1978=\"\",\"\",Clients!C1978)","v":""}]
[null,null,null,null,null,null,null,null,null,null,null,null,null,null,null,null,null,null,{"$f":"IF(Clients!B1979=\"\",\"\",Clients!B1979)","v":""},{"$f":"IF(Clients!C1979=\"\",\"\",Clients!C1979)","v":""}]
[null,null,null,null,null,null,null,null,null,null,null,null,null,null,null,null,null,null,{"$f":"IF(Clients!B1980=\"\",\"\",Clients!B1980)","v":""},{"$f":"IF(Clients!C1980=\"\",\"\",Clients!C1980)","v":""}]
[null,null,null,null,null,null,null,null,null,null,null,null,null,null,null,null,null,null,{"$f":"IF(Clients!B1981=\"\",\"\",Clients!B1981)","v":""},{"$f":"IF(Clients!C1981=\"\",\"\",Clients!C1981)","v":""}]
[null,null,null,null,null,null,null,null,null,null,null,null,null,null,null,null,null,null,{"$f":"IF(Clients!B1982=\"\",\"\",Clients!B1982)","v":""},{"$f":"IF(Clients!C1982=\"\",\"\",Clients!C1982)","v":""}]
[null,null,null,null,null,null,null,null,null,null,null,null,null,null,null,null,null,null,{"$f":"IF(Clients!B1983=\"\",\"\",Clients!B1983)","v":""},{"$f":"IF(Clients!C1983=\"\",\"\",Clients!C1983)","v":""}]
[null,null,null,null,null,null,null,null,null,null,null,null,null,null,null,null,null,null,{"$f":"IF(Clients!B1984=\"\",\"\",Clients!B1984)","v":""},{"$f":"IF(Clients!C1984=\"\",\"\",Clients!C1984)","v":""}]
[null,null,null,null,null,null,null,null,null,null,null,null,null,null,null,null,null,null,{"$f":"IF(Clients!B1985=\"\",\"\",Clients!B1985)","v":""},{"$f":"IF(Clients!C1985=\"\",\"\",Clients!C1985)","v":""}]
[null,null,null,null,null,null,null,null,null,null,null,null,null,null,null,null,null,null,{"$f":"IF(Clients!B1986=\"\",\"\",Clients!B1986)","v":""},{"$f":"IF(Clients!C1986=\"\",\"\",Clients!C1986)","v":""}]
[null,null,null,null,null,null,null,null,null,null,null,null,null,null,null,null,null,null,{"$f":"IF(Clients!B1987=\"\",\"\",Clients!B1987)","v":""},{"$f":"IF(Clients!C1987=\"\",\"\",Clients!C1987)","v":""}]
[null,null,null,null,null,null,null,null,null,null,null,null,null,null,null,null,null,null,{"$f":"IF(Clients!B1988=\"\",\"\",Clients!B1988)","v":""},{"$f":"IF(Clients!C1988=\"\",\"\",Clients!C1988)","v":""}]
[null,null,null,null,null,null,null,null,null,null,null,null,null,null,null,null,null,null,{"$f":"IF(Clients!B1989=\"\",\"\",Clients!B1989)","v":""},{"$f":"IF(Clients!C1989=\"\",\"\",Clients!C1989)","v":""}]
[null,null,null,null,null,null,null,null,null,null,null,null,null,null,null,null,null,null,{"$f":"IF(Clients!B1990=\"\",\"\",Clients!B1990)","v":""},{"$f":"IF(Clients!C1990=\"\",\"\",Clients!C1990)","v":""}]
[null,null,null,null,null,null,null,null,null,null,null,null,null,null,null,null,null,null,{"$f":"IF(Clients!B1991=\"\",\"\",Clients!B1991)","v":""},{"$f":"IF(Clients!C1991=\"\",\"\",Clients!C1991)","v":""}]
[null,null,null,null,null,null,null,null,null,null,null,null,null,null,null,null,null,null,{"$f":"IF(Clients!B1992=\"\",\"\",Clients!B1992)","v":""},{"$f":"IF(Clients!C1992=\"\",\"\",Clients!C1992)","v":""}]
[null,null,null,null,null,null,null,null,null,null,null,null,null,null,null,null,null,null,{"$f":"IF(Clients!B1993=\"\",\"\",Clients!B1993)","v":""},{"$f":"IF(Clients!C1993=\"\",\"\",Clients!C1993)","v":""}]
[null,null,null,null,null,null,null,null,null,null,null,null,null,null,null,null,null,null,{"$f":"IF(Clients!B1994=\"\",\"\",Clients!B1994)","v":""},{"$f":"IF(Clients!C1994=\"\",\"\",Clients!C1994)","v":""}]
[null,null,null,null,null,null,null,null,null,null,null,null,null,null,null,null,null,null,{"$f":"IF(Clients!B1995=\"\",\"\",Clients!B1995)","v":""},{"$f":"IF(Clients!C1995=\"\",\"\",Clients!C1995)","v":""}]
[null,null,null,null,null,null,null,null,null,null,null,null,null,null,null,null,null,null,{"$f":"IF(Clients!B1996=\"\",\"\",Clients!B1996)","v":""},{"$f":"IF(Clients!C1996=\"\",\"\",Clients!C1996)","v":""}]
[null,null,null,null,null,null,null,null,null,null,null,null,null,null,null,null,null,null,{"$f":"IF(Clients!B1997=\"\",\"\",Clients!B1997)","v":""},{"$f":"IF(Clients!C1997=\"\",\"\",Clients!C1997)","v":""}]
[null,null,null,null,null,null,null,null,null,null,null,null,null,null,null,null,null,null,{"$f":"IF(Clients!B1998=\"\",\"\",Clients!B1998)","v":""},{"$f":"IF(Clients!C1998=\"\",\"\",Clients!C1998)","v":""}]
[null,null,null,null,null,null,null,null,null,null,null,null,null,null,null,null,null,null,{"$f":"IF(Clients!B1999=\"\",\"\",Clients!B1999)","v":""},{"$f":"IF(Clients!C1999=\"\",\"\",Clients!C1999)","v":""}]
[null,null,null,null,null,null,null,null,null,null,null,null,null,null,null,null,null,null,{"$f":"IF(Clients!B2007=\"\",\"\",Clients!B2007)","v":""},{"$f":"IF(Clients!C2007=\"\",\"\",Clients!C2007)","v":""}]
[null,null,null,null,null,null,null,null,null,null,null,null,null,null,null,null,null,null,{"$f":"IF(Clients!B2039=\"\",\"\",Clients!B2039)","v":""},{"$f":"IF(Clients!C2039=\"\",\"\",Clients!C2039)","v":""}]
[null,null,null,null,null,null,null,null,null,null,null,null,null,null,null,null,null,null,{"$f":"IF(Clients!B2067=\"\",\"\",Clients!B2067)","v":""},{"$f":"IF(Clients!C2067=\"\",\"\",Clients!C2067)","v":""}]
[null,null,null,null,null,null,null,null,null,null,null,null,null,null,null,null,null,null,{"$f":"IF(Clients!B2105=\"\",\"\",Clients!B2105)","v":""},{"$f":"IF(Clients!C2105=\"\",\"\",Clients!C2105)","v":""}]
[null,null,null,null,null,null,null,null,null,null,null,null,null,null,null,null,null,null,{"$f":"IF(Clients!B2128=\"\",\"\",Clients!B2128)","v":""},{"$f":"IF(Clients!C2128=\"\",\"\",Clients!C2128)","v":""}]
[null,null,null,null,null,null,null,null,null,null,null,null,null,null,null,null,null,null,{"$f":"IF(Clients!B2156=\"\",\"\",Clients!B2156)","v":""},{"$f":"IF(Clients!C2156=\"\",\"\",Clients!C2156)","v":""}]
[null,null,null,null,null,null,null,null,null,null,null,null,null,null,null,null,null,null,{"$f":"IF(Clients!B2188=\"\",\"\",Clients!B2188)","v":""},{"$f":"IF(Clients!C2188=\"\",\"\",Clients!C2188)","v":""}]
[null,null,null,null,null,null,null,null,null,null,null,null,null,null,null,null,null,null,{"$f":"IF(Clients!B2234=\"\",\"\",Clients!B2234)","v":""},{"$f":"IF(Clients!C2234=\"\",\"\",Clients!C2234)","v":""}]
[null,null,null,null,null,null,null,null,null,null,null,null,null,null,null,null,null,null,{"$f":"IF(Clients!B2280=\"\",\"\",Clients!B2280)","v":""},{"$f":"IF(Clients!C2280=\"\",\"\",Clients!C2280)","v":""}]
[null,null,null,null,null,null,null,null,null,null,null,null,null,null,null,null,null,null,{"$f":"IF(Clients!B2308=\"\",\"\",Clients!B2308)","v":""},{"$f":"IF(Clients!C2308=\"\",\"\",Clients!C2308)","v":""}]
[null,null,null,null,null,null,null,null,null,null,null,null,null,null,null,null,null,null,{"$f":"IF(Clients!B2336=\"\",\"\",Clients!B2336)","v":""},{"$f":"IF(Clients!C2336=\"\",\"\",Clients!C2336)","v":""}]
[null,null,null,null,null,null,null,null,null,null,null,null,null,null,null,null,null,null,{"$f":"IF(Clients!B2363=\"\",\"\",Clients!B2363)","v":""},{"$f":"IF(Clients!C2363=\"\",\"\",Clients!C2363)","v":""}]
[null,null,null,null,null,null,null,null,null,null,null,null,null,null,null,null,null,null,{"$f":"IF(Clients!B2397=\"\",\"\",Clients!B2397)","v":""},{"$f":"IF(Clients!C2397=\"\",\"\",Clients!C2397)","v":""}]
[null,null,null,null,null,null,null,null,null,null,null,null,null,null,null,null,null,null,{"$f":"IF(Clients!B2425=\"\",\"\",Clients!B2425)","v":""},{"$f":"IF(Clients!C2425=\"\",\"\",Clients!C2425)","v":""}]
[null,null,null,null,null,null,null,null,null,null,null,null,null,null,null,null,null,null,{"$f":"IF(Clients!B2457=\"\",\"\",Clients!B2457)","v":""},{"$f":"IF(Clients!C2457=\"\",\"\",Clients!C2457)","v":""}]
[null,null,null,null,null,null,null,null,null,null,null,null,null,null,null,null,null,null,{"$f":"IF(Clients!B2492=\"\",\"\",Clients!B2492)","v":""},{"$f":"IF(Clients!C2492=\"\",\"\",Clients!C2492)","v":""}]
[null,null,null,null,null,null,null,null,null,null,null,null,null,null,null,null,null,null,{"$f":"IF(Clients!B2518=\"\",\"\",Clients!B2518)","v":""},{"$f":"IF(Clients!C2518=\"\",\"\",Clients!C2518)","v":""}]
[null,null,null,null,null,null,null,null,null,null,null,null,null,null,null,null,null,null,{"$f":"IF(Clients!B2546=\"\",\"\",Clients!B2546)","v":""},{"$f":"IF(Clients!C2546=\"\",\"\",Clients!C2546)","v":""}]
[null,null,null,null,null,null,null,null,null,null,null,null,null,null,null,null,null,null,{"$f":"IF(Clients!B2574=\"\",\"\",Clients!B2574)","v":""},{"$f":"IF(Clients!C2574=\"\",\"\",Clients!C2574)","v":""}]
[null,null,null,null,null,null,null,null,null,null,null,null,null,null,null,null,null,null,{"$f":"IF(Clients!B2621=\"\",\"\",Clients!B2621)","v":""},{"$f":"IF(Clients!C2621=\"\",\"\",Clients!C2621)","v":""}]
[null,null,null,null,null,null,null,null,null,null,null,null,null,null,null,null,null,null,{"$f":"IF(Clients!B2635=\"\",\"\",Clients!B2635)","v":""},{"$f":"IF(Clients!C2635=\"\",\"\",Clients!C2635)","v":""}]
[null,null,null,null,null,null,null,null,null,null,null,null,null,null,null,null,null,null,{"$f":"IF(Clients!B2667=\"\",\"\",Clients!B2667)","v":""},{"$f":"IF(Clients!C2667=\"\",\"\",Clients!C2667)","v":""}]
[null,null,null,null,null,null,null,null,null,null,null,null,null,null,null,null,null,null,{"$f":"IF(Clients!B2695=\"\",\"\",Clients!B2695)","v":""},{"$f":"IF(Clients!C2695=\"\",\"\",Clients!C2695)","v":""}]
[null,null,null,null,null,null,null,null,null,null,null,null,null,null,null,null,null,null,{"$f":"IF(Clients!B2718=\"\",\"\",Clients!B2718)","v":""},{"$f":"IF(Clients!C2718=\"\",\"\",Clients!C2718)","v":""}]
[null,null,null,null,null,null,null,null,null,null,null,null,null,null,null,null,null,null,{"$f":"IF(Clients!B2756=\"\",\"\",Clients!B2756)","v":""},{"$f":"IF(Clients!C2756=\"\",\"\",Clients!C2756)","v":""}]
[null,null,null,null,null,null,null,null,null,null,null,null,null,null,null,null,null,null,{"$f":"IF(Clients!B2784=\"\",\"\",Clients!B2784)","v":""},{"$f":"IF(Clients!C2784=\"\",\"\",Clients!C2784)","v":""}]
[null,null,null,null,null,null,null,null,null,null,null,null,null,null,null,null,null,null,{"$f":"IF(Clients!B2812=\"\",\"\",Clients!B2812)","v":""},{"$f":"IF(Clients!C2812=\"\",\"\",Clients!C2812)","v":""}]
[null,null,null,null,null,null,null,null,null,null,null,null,null,null,null,null,null,null,{"$f":"IF(Clients!B2847=\"\",\"\",Clients!B2847)","v":""},{"$f":"IF(Clients!C2847=\"\",\"\",Clients!C2847)","v":""}]
[null,null,null,null,null,null,null,null,null,null,null,null,null,null,null,null,null,null,{"$f":"IF(Clients!B2904=\"\",\"\",Clients!B2904)","v":""},{"$f":"IF(Clients!C2904=\"\",\"\",Clients!C2904)","v":""}]
[null,null,null,null,null,null,null,null,null,null,null,null,null,null,null,null,null,null,{"$f":"IF(Clients!B2936=\"\",\"\",Clients!B2936)","v":""},{"$f":"IF(Clients!C2936=\"\",\"\",Clients!C2936)","v":""}]
[null,null,null,null,null,null,null,null,null,null,null,null,null,null,null,null,null,null,{"$f":"IF(Clients!B2964=\"\",\"\",Clients!B2964)","v":""},{"$f":"IF(Clients!C2964=\"\",\"\",Clients!C2964)","v":""}]
[null,null,null,null,null,null,null,null,null,null,null,null,null,null,null,null,null,null,{"$f":"IF(Clients!B2976=\"\",\"\",Clients!B2976)","v":""},{"$f":"IF(Clients!C2976=\"\",\"\",Clients!C2976)","v":""}]
[null,null,null,null,null,null,null,null,null,null,null,null,null,null,null,null,null,null,{"$f":"IF(Clients!B3025=\"\",\"\",Clients!B3025)","v":""},{"$f":"IF(Clients!C3025=\"\",\"\",Clients!C3025)","v":""}]
[null,null,null,null,null,null,null,null,null,null,null,null,null,null,null,null,null,null,{"$f":"IF(Clients!B3053=\"\",\"\",Clients!B3053)","v":""},{"$f":"IF(Clients!C3053=\"\",\"\",Clients!C3053)","v":""}]
[null,null,null,null,null,null,null,null,null,null,null,null,null,null,null,null,null,null,{"$f":"IF(Clients!B3081=\"\",\"\",Clients!B3081)","v":""},{"$f":"IF(Clients!C3081=\"\",\"\",Clients!C3081)","v":""}]
[null,null,null,null,null,null,null,null,null,null,null,null,null,null,null,null,null,null,{"$f":"IF(Clients!B3105=\"\",\"\",Clients!B3105)","v":""},{"$f":"IF(Clients!C3105=\"\",\"\",Clients!C3105)","v":""}]
[null,null,null,null,null,null,null,null,null,null,null,null,null,null,null,null,null,null,{"$f":"IF(Clients!B3142=\"\",\"\",Clients!B3142)","v":""},{"$f":"IF(Clients!C3142=\"\",\"\",Clients!C3142)","v":""}]
[null,null,null,null,null,null,null,null,null,null,null,null,null,null,null,null,null,null,{"$f":"IF(Clients!B3174=\"\",\"\",Clients!B3174)","v":""},{"$f":"IF(Clients!C3174=\"\",\"\",Clients!C3174)","v":""}]
[null,null,null,null,null,null,null,null,null,null,null,null,null,null,null,null,null,null,{"$f":"IF(Clients!B3202=\"\",\"\",Clients!B3202)","v":""},{"$f":"IF(Clients!C3202=\"\",\"\",Clients!C3202)","v":""}]
[null,null,null,null,null,null,null,null,null,null,null,null,null,null,null,null,null,null,{"$f":"IF(Clients!B3234=\"\",\"\",Clients!B3234)","v":""},{"$f":"IF(Clients!C3234=\"\",\"\",Clients!C3234)","v":""}]
[null,null,null,null,null,null,null,null,null,null,null,null,null,null,null,null,null,null,{"$f":"IF(Clients!B3263=\"\",\"\",Clients!B3263)","v":""},{"$f":"IF(Clients!C3263=\"\",\"\",Clients!C3263)","v":""}]
[null,null,null,null,null,null,null,null,null,null,null,null,null,null,null,null,null,null,{"$f":"IF(Clients!B3291=\"\",\"\",Clients!B3291)","v":""},{"$f":"IF(Clients!C3291=\"\",\"\",Clients!C3291)","v":""}]
[null,null,null,null,null,null,null,null,null,null,null,null,null,null,null,null,null,null,{"$f":"IF(Clients!B3323=\"\",\"\",Clients!B3323)","v":""},{"$f":"IF(Clients!C3323=\"\",\"\",Clients!C3323)","v":""}]
[null,null,null,null,null,null,null,null,null,null,null,null,null,null,null,null,null,null,{"$f":"IF(Clients!B3363=\"\",\"\",Clients!B3363)","v":""},{"$f":"IF(Clients!C3363=\"\",\"\",Clients!C3363)","v":""}]
[null,null,null,null,null,null,null,null,null,null,null,null,null,null,null,null,null,null,{"$f":"IF(Clients!B3380=\"\",\"\",Clients!B3380)","v":""},{"$f":"IF(Clients!C3380=\"\",\"\",Clients!C3380)","v":""}]
[null,null,null,null,null,null,null,null,null,null,null,null,null,null,null,null,null,null,{"$f":"IF(Clients!B3412=\"\",\"\",Clients!B3412)","v":""},{"$f":"IF(Clients!C3412=\"\",\"\",Clients!C3412)","v":""}]
[null,null,null,null,null,null,null,null,null,null,null,null,null,null,null,null,null,null,{"$f":"IF(Clients!B3440=\"\",\"\",Clients!B3440)","v":""},{"$f":"IF(Clients!C3440=\"\",\"\",Clients!C3440)","v":""}]
[null,null,null,null,null,null,null,null,null,null,null,null,null,null,null,null,null,null,{"$f":"IF(Clients!B3492=\"\",\"\",Clients!B3492)","v":""},{"$f":"IF(Clients!C3492=\"\",\"\",Clients!C3492)","v":""}]
[null,null,null,null,null,null,null,null,null,null,null,null,null,null,null,null,null,null,{"$f":"IF(Clients!B3501=\"\",\"\",Clients!B3501)","v":""},{"$f":"IF(Clients!C3501=\"\",\"\",Clients!C3501)","v":""}]
[null,null,null,null,null,null,null,null,null,null,null,null,null,null,null,null,null,null,{"$f":"IF(Clients!B3560=\"\",\"\",Clients!B3560)","v":""},{"$f":"IF(Clients!C3560=\"\",\"\",Clients!C3560)","v":""}]
[null,null,null,null,null,null,null,null,null,null,null,null,null,null,null,null,null,null,{"$f":"IF(Clients!B3592=\"\",\"\",Clients!B3592)","v":""},{"$f":"IF(Clients!C3592=\"\",\"\",Clients!C3592)","v":""}]
[null,null,null,null,null,null,null,null,null,null,null,null,null,null,null,null,null,null,{"$f":"IF(Clients!B3621=\"\",\"\",Clients!B3621)","v":""},{"$f":"IF(Clients!C3621=\"\",\"\",Clients!C3621)","v":""}]
[null,null,null,null,null,null,null,null,null,null,null,null,null,null,null,null,null,null,{"$f":"IF(Clients!B3649=\"\",\"\",Clients!B3649)","v":""},{"$f":"IF(Clients!C3649=\"\",\"\",Clients!C3649)","v":""}]
[null,null,null,null,null,null,null,null,null,null,null,null,null,null,null,null,null,null,{"$f":"IF(Clients!B3681=\"\",\"\",Clients!B3681)","v":""},{"$f":"IF(Clients!C3681=\"\",\"\",Clients!C3681)","v":""}]
[null,null,null,null,null,null,null,null,null,null,null,null,null,null,null,null,null,null,{"$f":"IF(Clients!B3709=\"\",\"\",Clients!B3709)","v":""},{"$f":"IF(Clients!C3709=\"\",\"\",Clients!C3709)","v":""}]
[null,null,null,null,null,null,null,null,null,null,null,null,null,null,null,null,null,null,{"$f":"IF(Clients!B3718=\"\",\"\",Clients!B3718)","v":""},{"$f":"IF(Clients!C3718=\"\",\"\",Clients!C3718)","v":""}]
[null,null,null,null,null,null,null,null,null,null,null,null,null,null,null,null,null,null,{"$f":"IF(Clients!B3770=\"\",\"\",Clients!B3770)","v":""},{"$f":"IF(Clients!C3770=\"\",\"\",Clients!C3770)","v":""}]
[null,null,null,null,null,null,null,null,null,null,null,null,null,null,null,null,null,null,{"$f":"IF(Clients!B3798=\"\",\"\",Clients!B3798)","v":""},{"$f":"IF(Clients!C3798=\"\",\"\",Clients!C3798)","v":""}]
[null,null,null,null,null,null,null,null,null,null,null,null,null,null,null,null,null,null,{"$f":"IF(Clients!B3830=\"\",\"\",Clients!B3830)","v":""},{"$f":"IF(Clients!C3830=\"\",\"\",Clients!C3830)","v":""}]
[null,null,null,null,null,null,null,null,null,null,null,null,null,null,null,null,null,null,{"$f":"IF(Clients!B3847=\"\",\"\",Clients!B3847)","v":""},{"$f":"IF(Clients!C3847=\"\",\"\",Clients!C3847)","v":""}]
[null,null,null,null,null,null,null,null,null,null,null,null,null,null,null,null,null,null,{"$f":"IF(Clients!B3887=\"\",\"\",Clients!B3887)","v":""},{"$f":"IF(Clients!C3887=\"\",\"\",Clients!C3887)","v":""}]
[null,null,null,null,null,null,null,null,null,null,null,null,null,null,null,null,null,null,{"$f":"IF(Clients!B3919=\"\",\"\",Clients!B3919)","v":""},{"$f":"IF(Clients!C3919=\"\",\"\",Clients!C3919)","v":""}]
[null,null,null,null,null,null,null,null,null,null,null,null,null,null,null,null,null,null,{"$f":"IF(Clients!B3947=\"\",\"\",Clients!B3947)","v":""},{"$f":"IF(Clients!C3947=\"\",\"\",Clients!C3947)","v":""}]
[null,null,null,null,null,null,null,null,null,null,null,null,null,null,null,null,null,null,{"$f":"IF(Clients!B3976=\"\",\"\",Clients!B3976)","v":""},{"$f":"IF(Clients!C3976=\"\",\"\",Clients!C3976)","v":""}]
[null,null,null,null,null,null,null,null,null,null,null,null,null,null,null,null,null,null,{"$f":"IF(Clients!B4008=\"\",\"\",Clients!B4008)","v":""},{"$f":"IF(Clients!C4008=\"\",\"\",Clients!C4008)","v":""}]
[null,null,null,null,null,null,null,null,null,null,null,null,null,null,null,null,null,null,{"$f":"IF(Clients!B4036=\"\",\"\",Clients!B4036)","v":""},{"$f":"IF(Clients!C4036=\"\",\"\",Clients!C4036)","v":""}]
[null,null,null,null,null,null,null,null,null,null,null,null,null,null,null,null,null,null,{"$f":"IF(Clients!B4068=\"\",\"\",Clients!B4068)","v":""},{"$f":"IF(Clients!C4068=\"\",\"\",Clients!C4068)","v":""}]
[null,null,null,null,null,null,null,null,null,null,null,null,null,null,null,null,null,null,{"$f":"IF(Clients!B4105=\"\",\"\",Clients!B4105)","v":""},{"$f":"IF(Clients!C4105=\"\",\"\",Clients!C4105)","v":""}]
[null,null,null,null,null,null,null,null,null,null,null,null,null,null,null,null,null,null,{"$f":"IF(Clients!B4125=\"\",\"\",Clients!B4125)","v":""},{"$f":"IF(Clients!C4125=\"\",\"\",Clients!C4125)","v":""}]
[null,null,null,null,null,null,null,null,null,null,null,null,null,null,null,null,null,null,{"$f":"IF(Clients!B4157=\"\",\"\",Clients!B4157)","v":""},{"$f":"IF(Clients!C4157=\"\",\"\",Clients!C4157)","v":""}]
[null,null,null,null,null,null,null,null,null,null,null,null,null,null,null,null,null,null,{"$f":"IF(Clients!B4216=\"\",\"\",Clients!B4216)","v":""},{"$f":"IF(Clients!C4216=\"\",\"\",Clients!C4216)","v":""}]
[null,null,null,null,null,null,null,null,null,null,null,null,null,null,null,null,null,null,{"$f":"IF(Clients!B4234=\"\",\"\",Clients!B4234)","v":""},{"$f":"IF(Clients!C4234=\"\",\"\",Clients!C4234)","v":""}]
[null,null,null,null,null,null,null,null,null,null,null,null,null,null,null,null,null,null,{"$f":"IF(Clients!B4277=\"\",\"\",Clients!B4277)","v":""},{"$f":"IF(Clients!C4277=\"\",\"\",Clients!C4277)","v":""}]
[null,null,null,null,null,null,null,null,null,null,null,null,null,null,null,null,null,null,{"$f":"IF(Clients!B4305=\"\",\"\",Clients!B4305)","v":""},{"$f":"IF(Clients!C4305=\"\",\"\",Clients!C4305)","v":""}]
[null,null,null,null,null,null,null,null,null,null,null,null,null,null,null,null,null,null,{"$f":"IF(Clients!B4337=\"\",\"\",Clients!B4337)","v":""},{"$f":"IF(Clients!C4337=\"\",\"\",Clients!C4337)","v":""}]
[null,null,null,null,null,null,null,null,null,null,null,null,null,null,null,null,null,null,{"$f":"IF(Clients!B4363=\"\",\"\",Clients!B4363)","v":""},{"$f":"IF(Clients!C4363=\"\",\"\",Clients!C4363)","v":""}]
[null,null,null,null,null,null,null,null,null,null,null,null,null,null,null,null,null,null,{"$f":"IF(Clients!B4398=\"\",\"\",Clients!B4398)","v":""},{"$f":"IF(Clients!C4398=\"\",\"\",Clients!C4398)","v":""}]
[null,null,null,null,null,null,null,null,null,null,null,null,null,null,null,null,null,null,{"$f":"IF(Clients!B4426=\"\",\"\",Clients!B4426)","v":""},{"$f":"IF(Clients!C4426=\"\",\"\",Clients!C4426)","v":""}]
[null,null,null,null,null,null,null,null,null,null,null,null,null,null,null,null,null,null,{"$f":"IF(Clients!B4454=\"\",\"\",Clients!B4454)","v":""},{"$f":"IF(Clients!C4454=\"\",\"\",Clients!C4454)","v":""}]
[null,null,null,null,null,null,null,null,null,null,null,null,null,null,null,null,null,null,{"$f":"IF(Clients!B4492=\"\",\"\",Clients!B4492)","v":""},{"$f":"IF(Clients!C4492=\"\",\"\",Clients!C4492)","v":""}]
[null,null,null,null,null,null,null,null,null,null,null,null,null,null,null,null,null,null,{"$f":"IF(Clients!B4515=\"\",\"\",Clients!B4515)","v":""},{"$f":"IF(Clients!C4515=\"\",\"\",Clients!C4515)","v":""}]
[null,null,null,null,null,null,null,null,null,null,null,null,null,null,null,null,null,null,{"$f":"IF(Clients!B4543=\"\",\"\",Clients!B4543)","v":""},{"$f":"IF(Clients!C4543=\"\",\"\",Clients!C4543)","v":""}]
[null,null,null,null,null,null,null,null,null,null,null,null,null,null,null,null,null,null,{"$f":"IF(Clients!B4575=\"\",\"\",Clients!B4575)","v":""},{"$f":"IF(Clients!C4575=\"\",\"\",Clients!C4575)","v":""}]
[null,null,null,null,null,null,null,null,null,null,null,null,null,null,null,null,null,null,{"$f":"IF(Clients!B4621=\"\",\"\",Clients!B4621)","v":""},{"$f":"IF(Clients!C4621=\"\",\"\",Clients!C4621)","v":""}]
[null,null,null,null,null,null,null,null,null,null,null,null,null,null,null,null,null,null,{"$f":"IF(Clients!B4636=\"\",\"\",Clients!B4636)","v":""},{"$f":"IF(Clients!C4636=\"\",\"\",Clients!C4636)","v":""}]
[null,null,null,null,null,null,null,null,null,null,null,null,null,null,null,null,null,null,{"$f":"IF(Clients!B4664=\"\",\"\",Clients!B4664)","v":""},{"$f":"IF(Clients!C4664=\"\",\"\",Clients!C4664)","v":""}]
[null,null,null,null,null,null,null,null,null,null,null,null,null,null,null,null,null,null,{"$f":"IF(Clients!B4692=\"\",\"\",Clients!B4692)","v":""},{"$f":"IF(Clients!C4692=\"\",\"\",Clients!C4692)","v":""}]
[null,null,null,null,null,null,null,null,null,null,null,null,null,null,null,null,null,null,{"$f":"IF(Clients!B4718=\"\",\"\",Clients!B4718)","v":""},{"$f":"IF(Clients!C4718=\"\",\"\",Clients!C4718)","v":""}]
[null,null,null,null,null,null,null,null,null,null,null,null,null,null,null,null,null,null,{"$f":"IF(Clients!B4753=\"\",\"\",Clients!B4753)","v":""},{"$f":"IF(Clients!C4753=\"\",\"\",Clients!C4753)","v":""}]
[null,null,null,null,null,null,null,null,null,null,null,null,null,null,null,null,null,null,{"$f":"IF(Clients!B4781=\"\",\"\",Clients!B4781)","v":""},{"$f":"IF(Clients!C4781=\"\",\"\",Clients!C4781)","v":""}]
[null,null,null,null,null,null,null,null,null,null,null,null,null,null,null,null,null,null,{"$f":"IF(Clients!B4813=\"\",\"\",Clients!B4813)","v":""},{"$f":"IF(Clients!C4813=\"\",\"\",Clients!C4813)","v":""}]
[null,null,null,null,null,null,null,null,null,null,null,null,null,null,null,null,null,null,{"$f":"IF(Clients!B4847=\"\",\"\",Clients!B4847)","v":""},{"$f":"IF(Clients!C4847=\"\",\"\",Clients!C4847)","v":""}]
[null,null,null,null,null,null,null,null,null,null,null,null,null,null,null,null,null,null,{"$f":"IF(Clients!B4905=\"\",\"\",Clients!B4905)","v":""},{"$f":"IF(Clients!C4905=\"\",\"\",Clients!C4905)","v":""}]
[null,null,null,null,null,null,null,null,null,null,null,null,null,null,null,null,null,null,{"$f":"IF(Clients!B4933=\"\",\"\",Clients!B4933)","v":""},{"$f":"IF(Clients!C4933=\"\",\"\",Clients!C4933)","v":""}]
[null,null,null,null,null,null,null,null,null,null,null,null,null,null,null,null,null,null,{"$f":"IF(Clients!B4961=\"\",\"\",Clients!B4961)","v":""},{"$f":"IF(Clients!C4961=\"\",\"\",Clients!C4961)","v":""}]
[null,null,null,null,null,null,null,null,null,null,null,null,null,null,null,null,null,null,{"$f":"IF(Clients!B4976=\"\",\"\",Clients!B4976)","v":""},{"$f":"IF(Clients!C4976=\"\",\"\",Clients!C4976)","v":""}]
[null,null,null,null,null,null,null,null,null,null,null,null,null,null,null,null,null,null,{"$f":"IF(Clients!B5022=\"\",\"\",Clients!B5022)","v":""},{"$f":"IF(Clients!C5022=\"\",\"\",Clients!C5022)","v":""}]
[null,null,null,null,null,null,null,null,null,null,null,null,null,null,null,null,null,null,{"$f":"IF(Clients!B5054=\"\",\"\",Clients!B5054)","v":""},{"$f":"IF(Clients!C5054=\"\",\"\",Clients!C5054)","v":""}]
[null,null,null,null,null,null,null,null,null,null,null,null,null,null,null,null,null,null,{"$f":"IF(Clients!B5082=\"\",\"\",Clients!B5082)","v":""},{"$f":"IF(Clients!C5082=\"\",\"\",Clients!C5082)","v":""}]
[null,null,null,null,null,null,null,null,null,null,null,null,null,null,null,null,null,null,{"$f":"IF(Clients!B5105=\"\",\"\",Clients!B5105)","v":""},{"$f":"IF(Clients!C5105=\"\",\"\",Clients!C5105)","v":""}]
[null,null,null,null,null,null,null,null,null,null,null,null,null,null,null,null,null,null,{"$f":"IF(Clients!B5143=\"\",\"\",Clients!B5143)","v":""},{"$f":"IF(Clients!C5143=\"\",\"\",Clients!C5143)","v":""}]
[null,null,null,null,null,null,null,null,null,null,null,null,null,null,null,null,null,null,{"$f":"IF(Clients!B5171=\"\",\"\",Clients!B5171)","v":""},{"$f":"IF(Clients!C5171=\"\",\"\",Clients!C5171)","v":""}]
[null,null,null,null,null,null,null,null,null,null,null,null,null,null,null,null,null,null,{"$f":"IF(Clients!B5199=\"\",\"\",Clients!B5199)","v":""},{"$f":"IF(Clients!C5199=\"\",\"\",Clients!C5199)","v":""}]
[null,null,null,null,null,null,null,null,null,null,null,null,null,null,null,null,null,null,{"$f":"IF(Clients!B5234=\"\",\"\",Clients!B5234)","v":""},{"$f":"IF(Clients!C5234=\"\",\"\",Clients!C5234)","v":""}]
[null,null,null,null,null,null,null,null,null,null,null,null,null,null,null,null,null,null,{"$f":"IF(Clients!B5260=\"\",\"\",Clients!B5260)","v":""},{"$f":"IF(Clients!C5260=\"\",\"\",Clients!C5260)","v":""}]
[null,null,null,null,null,null,null,null,null,null,null,null,null,null,null,null,null,null,{"$f":"IF(Clients!B5292=\"\",\"\",Clients!B5292)","v":""},{"$f":"IF(Clients!C5292=\"\",\"\",Clients!C5292)","v":""}]
[null,null,null,null,null,null,null,null,null,null,null,null,null,null,null,null,null,null,{"$f":"IF(Clients!B5320=\"\",\"\",Clients!B5320)","v":""},{"$f":"IF(Clients!C5320=\"\",\"\",Clients!C5320)","v":""}]
[null,null,null,null,null,null,null,null,null,null,null,null,null,null,null,null,null,null,{"$f":"IF(Clients!B5363=\"\",\"\",Clients!B5363)","v":""},{"$f":"IF(Clients!C5363=\"\",\"\",Clients!C5363)","v":""}]
[null,null,null,null,null,null,null,null,null,null,null,null,null,null,null,null,null,null,{"$f":"IF(Clients!B5381=\"\",\"\",Clients!B5381)","v":""},{"$f":"IF(Clients!C5381=\"\",\"\",Clients!C5381)","v":""}]
[null,null,null,null,null,null,null,null,null,null,null,null,null,null,null,null,null,null,{"$f":"IF(Clients!B5409=\"\",\"\",Clients!B5409)","v":""},{"$f":"IF(Clients!C5409=\"\",\"\",Clients!C5409)","v":""}]
[null,null,null,null,null,null,null,null,null,null,null,null,null,null,null,null,null,null,{"$f":"IF(Clients!B5441=\"\",\"\",Clients!B5441)","v":""},{"$f":"IF(Clients!C5441=\"\",\"\",Clients!C5441)","v":""}]
[null,null,null,null,null,null,null,null,null,null,null,null,null,null,null,null,null,null,{"$f":"IF(Clients!B5492=\"\",\"\",Clients!B5492)","v":""},{"$f":"IF(Clients!C5492=\"\",\"\",Clients!C5492)","v":""}]
[null,null,null,null,null,null,null,null,null,null,null,null,null,null,null,null,null,null,{"$f":"IF(Clients!B5529=\"\",\"\",Clients!B5529)","v":""},{"$f":"IF(Clients!C5529=\"\",\"\",Clients!C5529)","v":""}]
[null,null,null,null,null,null,null,null,null,null,null,null,null,null,null,null,null,null,{"$f":"IF(Clients!B5561=\"\",\"\",Clients!B5561)","v":""},{"$f":"IF(Clients!C5561=\"\",\"\",Clients!C5561)","v":""}]
[null,null,null,null,null,null,null,null,null,null,null,null,null,null,null,null,null,null,{"$f":"IF(Clients!B5589=\"\",\"\",Clients!B5589)","v":""},{"$f":"IF(Clients!C5589=\"\",\"\",Clients!C5589)","v":""}]
[null,null,null,null,null,null,null,null,null,null,null,null,null,null,null,null,null,null,{"$f":"IF(Clients!B5621=\"\",\"\",Clients!B5621)","v":""},{"$f":"IF(Clients!C5621=\"\",\"\",Clients!C5621)","v":""}]
[null,null,null,null,null,null,null,null,null,null,null,null,null,null,null,null,null,null,{"$f":"IF(Clients!B5650=\"\",\"\",Clients!B5650)","v":""},{"$f":"IF(Clients!C5650=\"\",\"\",Clients!C5650)","v":""}]
[null,null,null,null,null,null,null,null,null,null,null,null,null,null,null,null,null,null,{"$f":"IF(Clients!B5678=\"\",\"\",Clients!B5678)","v":""},{"$f":"IF(Clients!C5678=\"\",\"\",Clients!C5678)","v":""}]
[null,null,null,null,null,null,null,null,null,null,null,null,null,null,null,null,null,null,{"$f":"IF(Clients!B5710=\"\",\"\",Clients!B5710)","v":""},{"$f":"IF(Clients!C5710=\"\",\"\",Clients!C5710)","v":""}]
[null,null,null,null,null,null,null,null,null,null,null,null,null,null,null,null,null,null,{"$f":"IF(Clients!B5718=\"\",\"\",Clients!B5718)","v":""},{"$f":"IF(Clients!C5718=\"\",\"\",Clients!C5718)","v":""}]
[null,null,null,null,null,null,null,null,null,null,null,null,null,null,null,null,null,null,{"$f":"IF(Clients!B5767=\"\",\"\",Clients!B5767)","v":""},{"$f":"IF(Clients!C5767=\"\",\"\",Clients!C5767)","v":""}]
[null,null,null,null,null,null,null,null,null,null,null,null,null,null,null,null,null,null,{"$f":"IF(Clients!B5799=\"\",\"\",Clients!B5799)","v":""},{"$f":"IF(Clients!C5799=\"\",\"\",Clients!C5799)","v":""}]
[null,null,null,null,null,null,null,null,null,null,null,null,null,null,null,null,null,null,{"$f":"IF(Clients!B5827=\"\",\"\",Clients!B5827)","v":""},{"$f":"IF(Clients!C5827=\"\",\"\",Clients!C5827)","v":""}]
[null,null,null,null,null,null,null,null,null,null,null,null,null,null,null,null,null,null,{"$f":"IF(Clients!B5847=\"\",\"\",Clients!B5847)","v":""},{"$f":"IF(Clients!C5847=\"\",\"\",Clients!C5847)","v":""}]
[null,null,null,null,null,null,null,null,null,null,null,null,null,null,null,null,null,null,{"$f":"IF(Clients!B5888=\"\",\"\",Clients!B5888)","v":""},{"$f":"IF(Clients!C5888=\"\",\"\",Clients!C5888)","v":""}]
[null,null,null,null,null,null,null,null,null,null,null,null,null,null,null,null,null,null,{"$f":"IF(Clients!B5916=\"\",\"\",Clients!B5916)","v":""},{"$f":"IF(Clients!C5916=\"\",\"\",Clients!C5916)","v":""}]
[null,null,null,null,null,null,null,null,null,null,null,null,null,null,null,null,null,null,{"$f":"IF(Clients!B5948=\"\",\"\",Clients!B5948)","v":""},{"$f":"IF(Clients!C5948=\"\",\"\",Clients!C5948)","v":""}]
[null,null,null,null,null,null,null,null,null,null,null,null,null,null,null,null,null,null,{"$f":"IF(Clients!B5976=\"\",\"\",Clients!B5976)","v":""},{"$f":"IF(Clients!C5976=\"\",\"\",Clients!C5976)","v":""}]
[null,null,null,null,null,null,null,null,null,null,null,null,null,null,null,null,null,null,{"$f":"IF(Clients!B6005=\"\",\"\",Clients!B6005)","v":""},{"$f":"IF(Clients!C6005=\"\",\"\",Clients!C6005)","v":""}]
[null,null,null,null,null,null,null,null,null,null,null,null,null,null,null,null,null,null,{"$f":"IF(Clients!B6037=\"\",\"\",Clients!B6037)","v":""},{"$f":"IF(Clients!C6037=\"\",\"\",Clients!C6037)","v":""}]
[null,null,null,null,null,null,null,null,null,null,null,null,null,null,null,null,null,null,{"$f":"IF(Clients!B6065=\"\",\"\",Clients!B6065)","v":""},{"$f":"IF(Clients!C6065=\"\",\"\",Clients!C6065)","v":""}]
[null,null,null,null,null,null,null,null,null,null,null,null,null,null,null,null,null,null,{"$f":"IF(Clients!B6105=\"\",\"\",Clients!B6105)","v":""},{"$f":"IF(Clients!C6105=\"\",\"\",Clients!C6105)","v":""}]
[null,null,null,null,null,null,null,null,null,null,null,null,null,null,null,null,null,null,{"$f":"IF(Clients!B6126=\"\",\"\",Clients!B6126)","v":""},{"$f":"IF(Clients!C6126=\"\",\"\",Clients!C6126)","v":""}]
[null,null,null,null,null,null,null,null,null,null,null,null,null,null,null,null,null,null,{"$f":"IF(Clients!B6185=\"\",\"\",Clients!B6185)","v":""},{"$f":"IF(Clients!C6185=\"\",\"\",Clients!C6185)","v":""}]
[null,null,null,null,null,null,null,null,null,null,null,null,null,null,null,null,null,null,{"$f":"IF(Clients!B6217=\"\",\"\",Clients!B6217)","v":""},{"$f":"IF(Clients!C6217=\"\",\"\",Clients!C6217)","v":""}]
[null,null,null,null,null,null,null,null,null,null,null,null,null,null,null,null,null,null,{"$f":"IF(Clients!B6234=\"\",\"\",Clients!B6234)","v":""},{"$f":"IF(Clients!C6234=\"\",\"\",Clients!C6234)","v":""}]
[null,null,null,null,null,null,null,null,null,null,null,null,null,null,null,null,null,null,{"$f":"IF(Clients!B6274=\"\",\"\",Clients!B6274)","v":""},{"$f":"IF(Clients!C6274=\"\",\"\",Clients!C6274)","v":""}]
[null,null,null,null,null,null,null,null,null,null,null,null,null,null,null,null,null,null,{"$f":"IF(Clients!B6306=\"\",\"\",Clients!B6306)","v":""},{"$f":"IF(Clients!C6306=\"\",\"\",Clients!C6306)","v":""}]
[null,null,null,null,null,null,null,null,null,null,null,null,null,null,null,null,null,null,{"$f":"IF(Clients!B6334=\"\",\"\",Clients!B6334)","v":""},{"$f":"IF(Clients!C6334=\"\",\"\",Clients!C6334)","v":""}]
[null,null,null,null,null,null,null,null,null,null,null,null,null,null,null,null,null,null,{"$f":"IF(Clients!B6363=\"\",\"\",Clients!B6363)","v":""},{"$f":"IF(Clients!C6363=\"\",\"\",Clients!C6363)","v":""}]
[null,null,null,null,null,null,null,null,null,null,null,null,null,null,null,null,null,null,{"$f":"IF(Clients!B6395=\"\",\"\",Clients!B6395)","v":""},{"$f":"IF(Clients!C6395=\"\",\"\",Clients!C6395)","v":""}]
[null,null,null,null,null,null,null,null,null,null,null,null,null,null,null,null,null,null,{"$f":"IF(Clients!B6423=\"\",\"\",Clients!B6423)","v":""},{"$f":"IF(Clients!C6423=\"\",\"\",Clients!C6423)","v":""}]
[null,null,null,null,null,null,null,null,null,null,null,null,null,null,null,null,null,null,{"$f":"IF(Clients!B6455=\"\",\"\",Clients!B6455)","v":""},{"$f":"IF(Clients!C6455=\"\",\"\",Clients!C6455)","v":""}]
[null,null,null,null,null,null,null,null,null,null,null,null,null,null,null,null,null,null,{"$f":"IF(Clients!B6492=\"\",\"\",Clients!B6492)","v":""},{"$f":"IF(Clients!C6492=\"\",\"\",Clients!C6492)","v":""}]
[null,null,null,null,null,null,null,null,null,null,null,null,null,null,null,null,null,null,{"$f":"IF(Clients!B6516=\"\",\"\",Clients!B6516)","v":""},{"$f":"IF(Clients!C6516=\"\",\"\",Clients!C6516)","v":""}]
[null,null,null,null,null,null,null,null,null,null,null,null,null,null,null,null,null,null,{"$f":"IF(Clients!B6544=\"\",\"\",Clients!B6544)","v":""},{"$f":"IF(Clients!C6544=\"\",\"\",Clients!C6544)","v":""}]
[null,null,null,null,null,null,null,null,null,null,null,null,null,null,null,null,null,null,{"$f":"IF(Clients!B6572=\"\",\"\",Clients!B6572)","v":""},{"$f":"IF(Clients!C6572=\"\",\"\",Clients!C6572)","v":""}]
[null,null,null,null,null,null,null,null,null,null,null,null,null,null,null,null,null,null,{"$f":"IF(Clients!B6621=\"\",\"\",Clients!B6621)","v":""},{"$f":"IF(Clients!C6621=\"\",\"\",Clients!C6621)","v":""}]
[null,null,null,null,null,null,null,null,null,null,null,null,null,null,null,null,null,null,{"$f":"IF(Clients!B6633=\"\",\"\",Clients!B6633)","v":""},{"$f":"IF(Clients!C6633=\"\",\"\",Clients!C6633)","v":""}]
[null,null,null,null,null,null,null,null,null,null,null,null,null,null,null,null,null,null,{"$f":"IF(Clients!B6661=\"\",\"\",Clients!B6661)","v":""},{"$f":"IF(Clients!C6661=\"\",\"\",Clients!C6661)","v":""}]
[null,null,null,null,null,null,null,null,null,null,null,null,null,null,null,null,null,null,{"$f":"IF(Clients!B6693=\"\",\"\",Clients!B6693)","v":""},{"$f":"IF(Clients!C6693=\"\",\"\",Clients!C6693)","v":""}]
[null,null,null,null,null,null,null,null,null,null,null,null,null,null,null,null,null,null,{"$f":"IF(Clients!B6718=\"\",\"\",Clients!B6718)","v":""},{"$f":"IF(Clients!C6718=\"\",\"\",Clients!C6718)","v":""}]
[null,null,null,null,null,null,null,null,null,null,null,null,null,null,null,null,null,null,{"$f":"IF(Clients!B6754=\"\",\"\",Clients!B6754)","v":""},{"$f":"IF(Clients!C6754=\"\",\"\",Clients!C6754)","v":""}]
[null,null,null,null,null,null,null,null,null,null,null,null,null,null,null,null,null,null,{"$f":"IF(Clients!B6782=\"\",\"\",Clients!B6782)","v":""},{"$f":"IF(Clients!C6782=\"\",\"\",Clients!C6782)","v":""}]
[null,null,null,null,null,null,null,null,null,null,null,null,null,null,null,null,null,null,{"$f":"IF(Clients!B6841=\"\",\"\",Clients!B6841)","v":""},{"$f":"IF(Clients!C6841=\"\",\"\",Clients!C6841)","v":""}]
[null,null,null,null,null,null,null,null,null,null,null,null,null,null,null,null,null,null,{"$f":"IF(Clients!B6847=\"\",\"\",Clients!B6847)","v":""},{"$f":"IF(Clients!C6847=\"\",\"\",Clients!C6847)","v":""}]
[null,null,null,null,null,null,null,null,null,null,null,null,null,null,null,null,null,null,{"$f":"IF(Clients!B6902=\"\",\"\",Clients!B6902)","v":""},{"$f":"IF(Clients!C6902=\"\",\"\",Clients!C6902)","v":""}]
[null,null,null,null,null,null,null,null,null,null,null,null,null,null,null,null,null,null,{"$f":"IF(Clients!B6930=\"\",\"\",Clients!B6930)","v":""},{"$f":"IF(Clients!C6930=\"\",\"\",Clients!C6930)","v":""}]
[null,null,null,null,null,null,null,null,null,null,null,null,null,null,null,null,null,null,{"$f":"IF(Clients!B6962=\"\",\"\",Clients!B6962)","v":""},{"$f":"IF(Clients!C6962=\"\",\"\",Clients!C6962)","v":""}]
[null,null,null,null,null,null,null,null,null,null,null,null,null,null,null,null,null,null,{"$f":"IF(Clients!B6976=\"\",\"\",Clients!B6976)","v":""},{"$f":"IF(Clients!C6976=\"\",\"\",Clients!C6976)","v":""}]
[null,null,null,null,null,null,null,null,null,null,null,null,null,null,null,null,null,null,{"$f":"IF(Clients!B7023=\"\",\"\",Clients!B7023)","v":""},{"$f":"IF(Clients!C7023=\"\",\"\",Clients!C7023)","v":""}]
[null,null,null,null,null,null,null,null,null,null,null,null,null,null,null,null,null,null,{"$f":"IF(Clients!B7051=\"\",\"\",Clients!B7051)","v":""},{"$f":"IF(Clients!C7051=\"\",\"\",Clients!C7051)","v":""}]
[null,null,null,null,null,null,null,null,null,null,null,null,null,null,null,null,null,null,{"$f":"IF(Clients!B7079=\"\",\"\",Clients!B7079)","v":""},{"$f":"IF(Clients!C7079=\"\",\"\",Clients!C7079)","v":""}]
[null,null,null,null,null,null,null,null,null,null,null,null,null,null,null,null,null,null,{"$f":"IF(Clients!B7105=\"\",\"\",Clients!B7105)","v":""},{"$f":"IF(Clients!C7105=\"\",\"\",Clients!C7105)","v":""}]
[null,null,null,null,null,null,null,null,null,null,null,null,null,null,null,null,null,null,{"$f":"IF(Clients!B7140=\"\",\"\",Clients!B7140)","v":""},{"$f":"IF(Clients!C7140=\"\",\"\",Clients!C7140)","v":""}]
[null,null,null,null,null,null,null,null,null,null,null,null,null,null,null,null,null,null,{"$f":"IF(Clients!B7172=\"\",\"\",Clients!B7172)","v":""},{"$f":"IF(Clients!C7172=\"\",\"\",Clients!C7172)","v":""}]
[null,null,null,null,null,null,null,null,null,null,null,null,null,null,null,null,null,null,{"$f":"IF(Clients!B7200=\"\",\"\",Clients!B7200)","v":""},{"$f":"IF(Clients!C7200=\"\",\"\",Clients!C7200)","v":""}]
[null,null,null,null,null,null,null,null,null,null,null,null,null,null,null,null,null,null,{"$f":"IF(Clients!B7234=\"\",\"\",Clients!B7234)","v":""},{"$f":"IF(Clients!C7234=\"\",\"\",Clients!C7234)","v":""}]
[null,null,null,null,null,null,null,null,null,null,null,null,null,null,null,null,null,null,{"$f":"IF(Clients!B7261=\"\",\"\",Clients!B7261)","v":""},{"$f":"IF(Clients!C7261=\"\",\"\",Clients!C7261)","v":""}]
[null,null,null,null,null,null,null,null,null,null,null,null,null,null,null,null,null,null,{"$f":"IF(Clients!B7289=\"\",\"\",Clients!B7289)","v":""},{"$f":"IF(Clients!C7289=\"\",\"\",Clients!C7289)","v":""}]
[null,null,null,null,null,null,null,null,null,null,null,null,null,null,null,null,null,null,{"$f":"IF(Clients!B7317=\"\",\"\",Clients!B7317)","v":""},{"$f":"IF(Clients!C7317=\"\",\"\",Clients!C7317)","v":""}]
[null,null,null,null,null,null,null,null,null,null,null,null,null,null,null,null,null,null,{"$f":"IF(Clients!B7363=\"\",\"\",Clients!B7363)","v":""},{"$f":"IF(Clients!C7363=\"\",\"\",Clients!C7363)","v":""}]
[null,null,null,null,null,null,null,null,null,null,null,null,null,null,null,null,null,null,{"$f":"IF(Clients!B7378=\"\",\"\",Clients!B7378)","v":""},{"$f":"IF(Clients!C7378=\"\",\"\",Clients!C7378)","v":""}]
[null,null,null,null,null,null,null,null,null,null,null,null,null,null,null,null,null,null,{"$f":"IF(Clients!B7410=\"\",\"\",Clients!B7410)","v":""},{"$f":"IF(Clients!C7410=\"\",\"\",Clients!C7410)","v":""}]
[null,null,null,null,null,null,null,null,null,null,null,null,null,null,null,null,null,null,{"$f":"IF(Clients!B7438=\"\",\"\",Clients!B7438)","v":""},{"$f":"IF(Clients!C7438=\"\",\"\",Clients!C7438)","v":""}]
[null,null,null,null,null,null,null,null,null,null,null,null,null,null,null,null,null,null,{"$f":"IF(Clients!B7492=\"\",\"\",Clients!B7492)","v":""},{"$f":"IF(Clients!C7492=\"\",\"\",Clients!C7492)","v":""}]
[null,null,null,null,null,null,null,null,null,null,null,null,null,null,null,null,null,null,{"$f":"IF(Clients!B7530=\"\",\"\",Clients!B7530)","v":""},{"$f":"IF(Clients!C7530=\"\",\"\",Clients!C7530)","v":""}]
[null,null,null,null,null,null,null,null,null,null,null,null,null,null,null,null,null,null,{"$f":"IF(Clients!B7558=\"\",\"\",Clients!B7558)","v":""},{"$f":"IF(Clients!C7558=\"\",\"\",Clients!C7558)","v":""}]
[null,null,null,null,null,null,null,null,null,null,null,null,null,null,null,null,null,null,{"$f":"IF(Clients!B7586=\"\",\"\",Clients!B7586)","v":""},{"$f":"IF(Clients!C7586=\"\",\"\",Clients!C7586)","v":""}]
[null,null,null,null,null,null,null,null,null,null,null,null,null,null,null,null,null,null,{"$f":"IF(Clients!B7621=\"\",\"\",Clients!B7621)","v":""},{"$f":"IF(Clients!C7621=\"\",\"\",Clients!C7621)","v":""}]
[null,null,null,null,null,null,null,null,null,null,null,null,null,null,null,null,null,null,{"$f":"IF(Clients!B7647=\"\",\"\",Clients!B7647)","v":""},{"$f":"IF(Clients!C7647=\"\",\"\",Clients!C7647)","v":""}]
[null,null,null,null,null,null,null,null,null,null,null,null,null,null,null,null,null,null,{"$f":"IF(Clients!B7679=\"\",\"\",Clients!B7679)","v":""},{"$f":"IF(Clients!C7679=\"\",\"\",Clients!C7679)","v":""}]
[null,null,null,null,null,null,null,null,null,null,null,null,null,null,null,null,null,null,{"$f":"IF(Clients!B7707=\"\",\"\",Clients!B7707)","v":""},{"$f":"IF(Clients!C7707=\"\",\"\",Clients!C7707)","v":""}]
[null,null,null,null,null,null,null,null,null,null,null,null,null,null,null,null,null,null,{"$f":"IF(Clients!B7718=\"\",\"\",Clients!B7718)","v":""},{"$f":"IF(Clients!C7718=\"\",\"\",Clients!C7718)","v":""}]
[null,null,null,null,null,null,null,null,null,null,null,null,null,null,null,null,null,null,{"$f":"IF(Clients!B7768=\"\",\"\",Clients!B7768)","v":""},{"$f":"IF(Clients!C7768=\"\",\"\",Clients!C7768)","v":""}]
[null,null,null,null,null,null,null,null,null,null,null,null,null,null,null,null,null,null,{"$f":"IF(Clients!B7796=\"\",\"\",Clients!B7796)","v":""},{"$f":"IF(Clients!C7796=\"\",\"\",Clients!C7796)","v":""}]
[null,null,null,null,null,null,null,null,null,null,null,null,null,null,null,null,null,null,{"$f":"IF(Clients!B7828=\"\",\"\",Clients!B7828)","v":""},{"$f":"IF(Clients!C7828=\"\",\"\",Clients!C7828)","v":""}]
[null,null,null,null,null,null,null,null,null,null,null,null,null,null,null,null,null,null,{"$f":"IF(Clients!B7847=\"\",\"\",Clients!B7847)","v":""},{"$f":"IF(Clients!C7847=\"\",\"\",Clients!C7847)","v":""}]
[null,null,null,null,null,null,null,null,null,null,null,null,null,null,null,null,null,null,{"$f":"IF(Clients!B7885=\"\",\"\",Clients!B7885)","v":""},{"$f":"IF(Clients!C7885=\"\",\"\",Clients!C7885)","v":""}]
[null,null,null,null,null,null,null,null,null,null,null,null,null,null,null,null,null,null,{"$f":"IF(Clients!B7917=\"\",\"\",Clients!B7917)","v":""},{"$f":"IF(Clients!C7917=\"\",\"\",Clients!C7917)","v":""}]
[null,null,null,null,null,null,null,null,null,null,null,null,null,null,null,null,null,null,{"$f":"IF(Clients!B7945=\"\",\"\",Clients!B7945)","v":""},{"$f":"IF(Clients!C7945=\"\",\"\",Clients!C7945)","v":""}]
[null,null,null,null,null,null,null,null,null,null,null,null,null,null,null,null,null,null,{"$f":"IF(Clients!B7976=\"\",\"\",Clients!B7976)","v":""},{"$f":"IF(Clients!C7976=\"\",\"\",Clients!C7976)","v":""}]
[null,null,null,null,null,null,null,null,null,null,null,null,null,null,null,null,null,null,{"$f":"IF(Clients!B8006=\"\",\"\",Clients!B8006)","v":""},{"$f":"IF(Clients!C8006=\"\",\"\",Clients!C8006)","v":""}]
[null,null,null,null,null,null,null,null,null,null,null,null,null,null,null,null,null,null,{"$f":"IF(Clients!B8034=\"\",\"\",Clients!B8034)","v":""},{"$f":"IF(Clients!C8034=\"\",\"\",Clients!C8034)","v":""}]
[null,null,null,null,null,null,null,null,null,null,null,null,null,null,null,null,null,null,{"$f":"IF(Clients!B8066=\"\",\"\",Clients!B8066)","v":""},{"$f":"IF(Clients!C8066=\"\",\"\",Clients!C8066)","v":""}]
[null,null,null,null,null,null,null,null,null,null,null,null,null,null,null,null,null,null,{"$f":"IF(Clients!B8105=\"\",\"\",Clients!B8105)","v":""},{"$f":"IF(Clients!C8105=\"\",\"\",Clients!C8105)","v":""}]
[null,null,null,null,null,null,null,null,null,null,null,null,null,null,null,null,null,null,{"$f":"IF(Clients!B8154=\"\",\"\",Clients!B8154)","v":""},{"$f":"IF(Clients!C8154=\"\",\"\",Clients!C8154)","v":""}]
[null,null,null,null,null,null,null,null,null,null,null,null,null,null,null,null,null,null,{"$f":"IF(Clients!B8186=\"\",\"\",Clients!B8186)","v":""},{"$f":"IF(Clients!C8186=\"\",\"\",Clients!C8186)","v":""}]
[null,null,null,null,null,null,null,null,null,null,null,null,null,null,null,null,null,null,{"$f":"IF(Clients!B8214=\"\",\"\",Clients!B8214)","v":""},{"$f":"IF(Clients!C8214=\"\",\"\",Clients!C8214)","v":""}]
[null,null,null,null,null,null,null,null,null,null,null,null,null,null,null,null,null,null,{"$f":"IF(Clients!B8234=\"\",\"\",Clients!B8234)","v":""},{"$f":"IF(Clients!C8234=\"\",\"\",Clients!C8234)","v":""}]
[null,null,null,null,null,null,null,null,null,null,null,null,null,null,null,null,null,null,{"$f":"IF(Clients!B8275=\"\",\"\",Clients!B8275)","v":""},{"$f":"IF(Clients!C8275=\"\",\"\",Clients!C8275)","v":""}]
[null,null,null,null,null,null,null,null,null,null,null,null,null,null,null,null,null,null,{"$f":"IF(Clients!B8303=\"\",\"\",Clients!B8303)","v":""},{"$f":"IF(Clients!C8303=\"\",\"\",Clients!C8303)","v":""}]
[null,null,null,null,null,null,null,null,null,null,null,null,null,null,null,null,null,null,{"$f":"IF(Clients!B8335=\"\",\"\",Clients!B8335)","v":""},{"$f":"IF(Clients!C8335=\"\",\"\",Clients!C8335)","v":""}]
[null,null,null,null,null,null,null,null,null,null,null,null,null,null,null,null,null,null,{"$f":"IF(Clients!B8363=\"\",\"\",Clients!B8363)","v":""},{"$f":"IF(Clients!C8363=\"\",\"\",Clients!C8363)","v":""}]
[null,null,null,null,null,null,null,null,null,null,null,null,null,null,null,null,null,null,{"$f":"IF(Clients!B8392=\"\",\"\",Clients!B8392)","v":""},{"$f":"IF(Clients!C8392=\"\",\"\",Clients!C8392)","v":""}]
[null,null,null,null,null,null,null,null,null,null,null,null,null,null,null,null,null,null,{"$f":"IF(Clients!B8424=\"\",\"\",Clients!B8424)","v":""},{"$f":"IF(Clients!C8424=\"\",\"\",Clients!C8424)","v":""}]
[null,null,null,null,null,null,null,null,null,null,null,null,null,null,null,null,null,null,{"$f":"IF(Clients!B8452=\"\",\"\",Clients!B8452)","v":""},{"$f":"IF(Clients!C8452=\"\",\"\",Clients!C8452)","v":""}]
[null,null,null,null,null,null,null,null,null,null,null,null,null,null,null,null,null,null,{"$f":"IF(Clients!B8492=\"\",\"\",Clients!B8492)","v":""},{"$f":"IF(Clients!C8492=\"\",\"\",Clients!C8492)","v":""}]
[null,null,null,null,null,null,null,null,null,null,null,null,null,null,null,null,null,null,{"$f":"IF(Clients!B8513=\"\",\"\",Clients!B8513)","v":""},{"$f":"IF(Clients!C8513=\"\",\"\",Clients!C8513)","v":""}]
[null,null,null,null,null,null,null,null,null,null,null,null,null,null,null,null,null,null,{"$f":"IF(Clients!B8541=\"\",\"\",Clients!B8541)","v":""},{"$f":"IF(Clients!C8541=\"\",\"\",Clients!C8541)","v":""}]
[null,null,null,null,null,null,null,null,null,null,null,null,null,null,null,null,null,null,{"$f":"IF(Clients!B8573=\"\",\"\",Clients!B8573)","v":""},{"$f":"IF(Clients!C8573=\"\",\"\",Clients!C8573)","v":""}]
[null,null,null,null,null,null,null,null,null,null,null,null,null,null,null,null,null,null,{"$f":"IF(Clients!B8621=\"\",\"\",Clients!B8621)","v":""},{"$f":"IF(Clients!C8621=\"\",\"\",Clients!C8621)","v":""}]
[null,null,null,null,null,null,null,null,null,null,null,null,null,null,null,null,null,null,{"$f":"IF(Clients!B8630=\"\",\"\",Clients!B8630)","v":""},{"$f":"IF(Clients!C8630=\"\",\"\",Clients!C8630)","v":""}]
[null,null,null,null,null,null,null,null,null,null,null,null,null,null,null,null,null,null,{"$f":"IF(Clients!B8662=\"\",\"\",Clients!B8662)","v":""},{"$f":"IF(Clients!C8662=\"\",\"\",Clients!C8662)","v":""}]
[null,null,null,null,null,null,null,null,null,null,null,null,null,null,null,null,null,null,{"$f":"IF(Clients!B8690=\"\",\"\",Clients!B8690)","v":""},{"$f":"IF(Clients!C8690=\"\",\"\",Clients!C8690)","v":""}]
[null,null,null,null,null,null,null,null,null,null,null,null,null,null,null,null,null,null,{"$f":"IF(Clients!B8718=\"\",\"\",Clients!B8718)","v":""},{"$f":"IF(Clients!C8718=\"\",\"\",Clients!C8718)","v":""}]
[null,null,null,null,null,null,null,null,null,null,null,null,null,null,null,null,null,null,{"$f":"IF(Clients!B8751=\"\",\"\",Clients!B8751)","v":""},{"$f":"IF(Clients!C8751=\"\",\"\",Clients!C8751)","v":""}]
[null,null,null,null,null,null,null,null,null,null,null,null,null,null,null,null,null,null,{"$f":"IF(Clients!B8810=\"\",\"\",Clients!B8810)","v":""},{"$f":"IF(Clients!C8810=\"\",\"\",Clients!C8810)","v":""}]
[null,null,null,null,null,null,null,null,null,null,null,null,null,null,null,null,null,null,{"$f":"IF(Clients!B8842=\"\",\"\",Clients!B8842)","v":""},{"$f":"IF(Clients!C8842=\"\",\"\",Clients!C8842)","v":""}]
[null,null,null,null,null,null,null,null,null,null,null,null,null,null,null,null,null,null,{"$f":"IF(Clients!B8847=\"\",\"\",Clients!B8847)","v":""},{"$f":"IF(Clients!C8847=\"\",\"\",Clients!C8847)","v":""}]
[null,null,null,null,null,null,null,null,null,null,null,null,null,null,null,null,null,null,{"$f":"IF(Clients!B8903=\"\",\"\",Clients!B8903)","v":""},{"$f":"IF(Clients!C8903=\"\",\"\",Clients!C8903)","v":""}]
[null,null,null,null,null,null,null,null,null,null,null,null,null,null,null,null,null,null,{"$f":"IF(Clients!B8931=\"\",\"\",Clients!B8931)","v":""},{"$f":"IF(Clients!C8931=\"\",\"\",Clients!C8931)","v":""}]
[null,null,null,null,null,null,null,null,null,null,null,null,null,null,null,null,null,null,{"$f":"IF(Clients!B8959=\"\",\"\",Clients!B8959)","v":""},{"$f":"IF(Clients!C8959=\"\",\"\",Clients!C8959)","v":""}]
[null,null,null,null,null,null,null,null,null,null,null,null,null,null,null,null,null,null,{"$f":"IF(Clients!B8976=\"\",\"\",Clients!B8976)","v":""},{"$f":"IF(Clients!C8976=\"\",\"\",Clients!C8976)","v":""}]
[null,null,null,null,null,null,null,null,null,null,null,null,null,null,null,null,null,null,{"$f":"IF(Clients!B9020=\"\",\"\",Clients!B9020)","v":""},{"$f":"IF(Clients!C9020=\"\",\"\",Clients!C9020)","v":""}]
[null,null,null,null,null,null,null,null,null,null,null,null,null,null,null,null,null,null,{"$f":"IF(Clients!B9048=\"\",\"\",Clients!B9048)","v":""},{"$f":"IF(Clients!C9048=\"\",\"\",Clients!C9048)","v":""}]
[null,null,null,null,null,null,null,null,null,null,null,null,null,null,null,null,null,null,{"$f":"IF(Clients!B9080=\"\",\"\",Clients!B9080)","v":""},{"$f":"IF(Clients!C9080=\"\",\"\",Clients!C9080)","v":""}]
[null,null,null,null,null,null,null,null,null,null,null,null,null,null,null,null,null,null,{"$f":"IF(Clients!B9105=\"\",\"\",Clients!B9105)","v":""},{"$f":"IF(Clients!C9105=\"\",\"\",Clients!C9105)","v":""}]
[null,null,null,null,null,null,null,null,null,null,null,null,null,null,null,null,null,null,{"$f":"IF(Clients!B9141=\"\",\"\",Clients!B9141)","v":""},{"$f":"IF(Clients!C9141=\"\",\"\",Clients!C9141)","v":""}]
[null,null,null,null,null,null,null,null,null,null,null,null,null,null,null,null,null,null,{"$f":"IF(Clients!B9169=\"\",\"\",Clients!B9169)","v":""},{"$f":"IF(Clients!C9169=\"\",\"\",Clients!C9169)","v":""}]
[null,null,null,null,null,null,null,null,null,null,null,null,null,null,null,null,null,null,{"$f":"IF(Clients!B9197=\"\",\"\",Clients!B9197)","v":""},{"$f":"IF(Clients!C9197=\"\",\"\",Clients!C9197)","v":""}]
[null,null,null,null,null,null,null,null,null,null,null,null,null,null,null,null,null,null,{"$f":"IF(Clients!B9234=\"\",\"\",Clients!B9234)","v":""},{"$f":"IF(Clients!C9234=\"\",\"\",Clients!C9234)","v":""}]
[null,null,null,null,null,null,null,null,null,null,null,null,null,null,null,null,null,null,{"$f":"IF(Clients!B9258=\"\",\"\",Clients!B9258)","v":""},{"$f":"IF(Clients!C9258=\"\",\"\",Clients!C9258)","v":""}]
[null,null,null,null,null,null,null,null,null,null,null,null,null,null,null,null,null,null,{"$f":"IF(Clients!B9286=\"\",\"\",Clients!B9286)","v":""},{"$f":"IF(Clients!C9286=\"\",\"\",Clients!C9286)","v":""}]
[null,null,null,null,null,null,null,null,null,null,null,null,null,null,null,null,null,null,{"$f":"IF(Clients!B9318=\"\",\"\",Clients!B9318)","v":""},{"$f":"IF(Clients!C9318=\"\",\"\",Clients!C9318)","v":""}]
[null,null,null,null,null,null,null,null,null,null,null,null,null,null,null,null,null,null,{"$f":"IF(Clients!B9363=\"\",\"\",Clients!B9363)","v":""},{"$f":"IF(Clients!C9363=\"\",\"\",Clients!C9363)","v":""}]
[null,null,null,null,null,null,null,null,null,null,null,null,null,null,null,null,null,null,{"$f":"IF(Clients!B9379=\"\",\"\",Clients!B9379)","v":""},{"$f":"IF(Clients!C9379=\"\",\"\",Clients!C9379)","v":""}]
[null,null,null,null,null,null,null,null,null,null,null,null,null,null,null,null,null,null,{"$f":"IF(Clients!B9407=\"\",\"\",Clients!B9407)","v":""},{"$f":"IF(Clients!C9407=\"\",\"\",Clients!C9407)","v":""}]
[null,null,null,null,null,null,null,null,null,null,null,null,null,null,null,null,null,null,{"$f":"IF(Clients!B9466=\"\",\"\",Clients!B9466)","v":""},{"$f":"IF(Clients!C9466=\"\",\"\",Clients!C9466)","v":""}]
[null,null,null,null,null,null,null,null,null,null,null,null,null,null,null,null,null,null,{"$f":"IF(Clients!B9492=\"\",\"\",Clients!B9492)","v":""},{"$f":"IF(Clients!C9492=\"\",\"\",Clients!C9492)","v":""}]
[null,null,null,null,null,null,null,null,null,null,null,null,null,null,null,null,null,null,{"$f":"IF(Clients!B9527=\"\",\"\",Clients!B9527)","v":""},{"$f":"IF(Clients!C9527=\"\",\"\",Clients!C9527)","v":""}]
[null,null,null,null,null,null,null,null,null,null,null,null,null,null,null,null,null,null,{"$f":"IF(Clients!B9559=\"\",\"\",Clients!B9559)","v":""},{"$f":"IF(Clients!C9559=\"\",\"\",Clients!C9559)","v":""}]
[null,null,null,null,null,null,null,null,null,null,null,null,null,null,null,null,null,null,{"$f":"IF(Clients!B9587=\"\",\"\",Clients!B9587)","v":""},{"$f":"IF(Clients!C9587=\"\",\"\",Clients!C9587)","v":""}]
[null,null,null,null,null,null,null,null,null,null,null,null,null,null,null,null,null,null,{"$f":"IF(Clients!B9621=\"\",\"\",Clients!B9621)","v":""},{"$f":"IF(Clients!C9621=\"\",\"\",Clients!C9621)","v":""}]
[null,null,null,null,null,null,null,null,null,null,null,null,null,null,null,null,null,null,{"$f":"IF(Clients!B9648=\"\",\"\",Clients!B9648)","v":""},{"$f":"IF(Clients!C9648=\"\",\"\",Clients!C9648)","v":""}]
[null,null,null,null,null,null,null,null,null,null,null,null,null,null,null,null,null,null,{"$f":"IF(Clients!B9676=\"\",\"\",Clients!B9676)","v":""},{"$f":"IF(Clients!C9676=\"\",\"\",Clients!C9676)","v":""}]
[null,null,null,null,null,null,null,null,null,null,null,null,null,null,null,null,null,null,{"$f":"IF(Clients!B9704=\"\",\"\",Clients!B9704)","v":""},{"$f":"IF(Clients!C9704=\"\",\"\",Clients!C9704)","v":""}]
[null,null,null,null,null,null,null,null,null,null,null,null,null,null,null,null,null,null,{"$f":"IF(Clients!B9718=\"\",\"\",Clients!B9718)","v":""},{"$f":"IF(Clients!C9718=\"\",\"\",Clients!C9718)","v":""}]
[null,null,null,null,null,null,null,null,null,null,null,null,null,null,null,null,null,null,{"$f":"IF(Clients!B9765=\"\",\"\",Clients!B9765)","v":""},{"$f":"IF(Clients!C9765=\"\",\"\",Clients!C9765)","v":""}]
[null,null,null,null,null,null,null,null,null,null,null,null,null,null,null,null,null,null,{"$f":"IF(Clients!B9797=\"\",\"\",Clients!B9797)","v":""},{"$f":"IF(Clients!C9797=\"\",\"\",Clients!C9797)","v":""}]
[null,null,null,null,null,null,null,null,null,null,null,null,null,null,null,null,null,null,{"$f":"IF(Clients!B9825=\"\",\"\",Clients!B9825)","v":""},{"$f":"IF(Clients!C9825=\"\",\"\",Clients!C9825)","v":""}]
[null,null,null,null,null,null,null,null,null,null,null,null,null,null,null,null,null,null,{"$f":"IF(Clients!B9847=\"\",\"\",Clients!B9847)","v":""},{"$f":"IF(Clients!C9847=\"\",\"\",Clients!C9847)","v":""}]
[null,null,null,null,null,null,null,null,null,null,null,null,null,null,null,null,null,null,{"$f":"IF(Clients!B9886=\"\",\"\",Clients!B9886)","v":""},{"$f":"IF(Clients!C9886=\"\",\"\",Clients!C9886)","v":""}]
[null,null,null,null,null,null,null,null,null,null,null,null,null,null,null,null,null,null,{"$f":"IF(Clients!B9914=\"\",\"\",Clients!B9914)","v":""},{"$f":"IF(Clients!C9914=\"\",\"\",Clients!C9914)","v":""}]
[null,null,null,null,null,null,null,null,null,null,null,null,null,null,null,null,null,null,{"$f":"IF(Clients!B9946=\"\",\"\",Clients!B9946)","v":""},{"$f":"IF(Clients!C9946=\"\",\"\",Clients!C9946)","v":""}]
[null,null,null,null,null,null,null,null,null,null,null,null,null,null,null,null,null,null,{"$f":"IF(Clients!B9976=\"\",\"\",Clients!B9976)","v":""},{"$f":"IF(Clients!C9976=\"\",\"\",Clients!C9976)","v":""}]
[null,null,null,null,null,null,null,null,null,null,null,null,null,null,null,null,null,null,{"$f":"IF(Clients!B10003=\"\",\"\",Clients!B10003)","v":""},{"$f":"IF(Clients!C10003=\"\",\"\",Clients!C10003)","v":""}]
[null,null,null,null,null,null,null,null,null,null,null,null,null,null,null,null,null,null,{"$f":"IF(Clients!B10035=\"\",\"\",Clients!B10035)","v":""},{"$f":"IF(Clients!C10035=\"\",\"\",Clients!C10035)","v":""}]
[null,null,null,null,null,null,null,null,null,null,null,null,null,null,null,null,null,null,{"$f":"IF(Clients!B10063=\"\",\"\",Clients!B10063)","v":""},{"$f":"IF(Clients!C10063=\"\",\"\",Clients!C10063)","v":""}]
[null,null,null,null,null,null,null,null,null,null,null,null,null,null,null,null,null,null,{"$f":"IF(Clients!B10105=\"\",\"\",Clients!B10105)","v":""},{"$f":"IF(Clients!C10105=\"\",\"\",Clients!C10105)","v":""}]
[null,null,null,null,null,null,null,null,null,null,null,null,null,null,null,null,null,null,{"$f":"IF(Clients!B10155=\"\",\"\",Clients!B10155)","v":""},{"$f":"IF(Clients!C10155=\"\",\"\",Clients!C10155)","v":""}]
[null,null,null,null,null,null,null,null,null,null,null,null,null,null,null,null,null,null,{"$f":"IF(Clients!B10183=\"\",\"\",Clients!B10183)","v":""},{"$f":"IF(Clients!C10183=\"\",\"\",Clients!C10183)","v":""}]
[null,null,null,null,null,null,null,null,null,null,null,null,null,null,null,null,null,null,{"$f":"IF(Clients!B10215=\"\",\"\",Clients!B10215)","v":""},{"$f":"IF(Clients!C10215=\"\",\"\",Clients!C10215)","v":""}]
[null,null,null,null,null,null,null,null,null,null,null,null,null,null,null,null,null,null,{"$f":"IF(Clients!B10234=\"\",\"\",Clients!B10234)","v":""},{"$f":"IF(Clients!C10234=\"\",\"\",Clients!C10234)","v":""}]
[null,null,null,null,null,null,null,null,null,null,null,null,null,null,null,null,null,null,{"$f":"IF(Clients!B10272=\"\",\"\",Clients!B10272)","v":""},{"$f":"IF(Clients!C10272=\"\",\"\",Clients!C10272)","v":""}]
[null,null,null,null,null,null,null,null,null,null,null,null,null,null,null,null,null,null,{"$f":"IF(Clients!B10304=\"\",\"\",Clients!B10304)","v":""},{"$f":"IF(Clients!C10304=\"\",\"\",Clients!C10304)","v":""}]
[null,null,null,null,null,null,null,null,null,null,null,null,null,null,null,null,null,null,{"$f":"IF(Clients!B10332=\"\",\"\",Clients!B10332)","v":""},{"$f":"IF(Clients!C10332=\"\",\"\",Clients!C10332)","v":""}]
[null,null,null,null,null,null,null,null,null,null,null,null,null,null,null,null,null,null,{"$f":"IF(Clients!B10363=\"\",\"\",Clients!B10363)","v":""},{"$f":"IF(Clients!C10363=\"\",\"\",Clients!C10363)","v":""}]
[null,null,null,null,null,null,null,null,null,null,null,null,null,null,null,null,null,null,{"$f":"IF(Clients!B10393=\"\",\"\",Clients!B10393)","v":""},{"$f":"IF(Clients!C10393=\"\",\"\",Clients!C10393)","v":""}]
[null,null,null,null,null,null,null,null,null,null,null,null,null,null,null,null,null,null,{"$f":"IF(Clients!B10421=\"\",\"\",Clients!B10421)","v":""},{"$f":"IF(Clients!C10421=\"\",\"\",Clients!C10421)","v":""}]
[null,null,null,null,null,null,null,null,null,null,null,null,null,null,null,null,null,null,{"$f":"IF(Clients!B10453=\"\",\"\",Clients!B10453)","v":""},{"$f":"IF(Clients!C10453=\"\",\"\",Clients!C10453)","v":""}]
[null,null,null,null,null,null,null,null,null,null,null,null,null,null,null,null,null,null,{"$f":"IF(Clients!B10492=\"\",\"\",Clients!B10492)","v":""},{"$f":"IF(Clients!C10492=\"\",\"\",Clients!C10492)","v":""}]
[null,null,null,null,null,null,null,null,null,null,null,null,null,null,null,null,null,null,{"$f":"IF(Clients!B10510=\"\",\"\",Clients!B10510)","v":""},{"$f":"IF(Clients!C10510=\"\",\"\",Clients!C10510)","v":""}]
[null,null,null,null,null,null,null,null,null,null,null,null,null,null,null,null,null,null,{"$f":"IF(Clients!B10542=\"\",\"\",Clients!B10542)","v":""},{"$f":"IF(Clients!C10542=\"\",\"\",Clients!C10542)","v":""}]
[null,null,null,null,null,null,null,null,null,null,null,null,null,null,null,null,null,null,{"$f":"IF(Clients!B10570=\"\",\"\",Clients!B10570)","v":""},{"$f":"IF(Clients!C10570=\"\",\"\",Clients!C10570)","v":""}]
[null,null,null,null,null,null,null,null,null,null,null,null,null,null,null,null,null,null,{"$f":"IF(Clients!B10621=\"\",\"\",Clients!B10621)","v":""},{"$f":"IF(Clients!C10621=\"\",\"\",Clients!C10621)","v":""}]
[null,null,null,null,null,null,null,null,null,null,null,null,null,null,null,null,null,null,{"$f":"IF(Clients!B10631=\"\",\"\",Clients!B10631)","v":""},{"$f":"IF(Clients!C10631=\"\",\"\",Clients!C10631)","v":""}]
[null,null,null,null,null,null,null,null,null,null,null,null,null,null,null,null,null,null,{"$f":"IF(Clients!B10659=\"\",\"\",Clients!B10659)","v":""},{"$f":"IF(Clients!C10659=\"\",\"\",Clients!C10659)","v":""}]
[null,null,null,null,null,null,null,null,null,null,null,null,null,null,null,null,null,null,{"$f":"IF(Clients!B10691=\"\",\"\",Clients!B10691)","v":""},{"$f":"IF(Clients!C10691=\"\",\"\",Clients!C10691)","v":""}]
[null,null,null,null,null,null,null,null,null,null,null,null,null,null,null,null,null,null,{"$f":"IF(Clients!B10718=\"\",\"\",Clients!B10718)","v":""},{"$f":"IF(Clients!C10718=\"\",\"\",Clients!C10718)","v":""}]
[null,null,null,null,null,null,null,null,null,null,null,null,null,null,null,null,null,null,{"$f":"IF(Clients!B10779=\"\",\"\",Clients!B10779)","v":""},{"$f":"IF(Clients!C10779=\"\",\"\",Clients!C10779)","v":""}]
[null,null,null,null,null,null,null,null,null,null,null,null,null,null,null,null,null,null,{"$f":"IF(Clients!B10811=\"\",\"\",Clients!B10811)","v":""},{"$f":"IF(Clients!C10811=\"\",\"\",Clients!C10811)","v":""}]
[null,null,null,null,null,null,null,null,null,null,null,null,null,null,null,null,null,null,{"$f":"IF(Clients!B10839=\"\",\"\",Clients!B10839)","v":""},{"$f":"IF(Clients!C10839=\"\",\"\",Clients!C10839)","v":""}]
[null,null,null,null,null,null,null,null,null,null,null,null,null,null,null,null,null,null,{"$f":"IF(Clients!B10847=\"\",\"\",Clients!B10847)","v":""},{"$f":"IF(Clients!C10847=\"\",\"\",Clients!C10847)","v":""}]
[null,null,null,null,null,null,null,null,null,null,null,null,null,null,null,null,null,null,{"$f":"IF(Clients!B10900=\"\",\"\",Clients!B10900)","v":""},{"$f":"IF(Clients!C10900=\"\",\"\",Clients!C10900)","v":""}]
[null,null,null,null,null,null,null,null,null,null,null,null,null,null,null,null,null,null,{"$f":"IF(Clients!B10928=\"\",\"\",Clients!B10928)","v":""},{"$f":"IF(Clients!C10928=\"\",\"\",Clients!C10928)","v":""}]
[null,null,null,null,null,null,null,null,null,null,null,null,null,null,null,null,null,null,{"$f":"IF(Clients!B10960=\"\",\"\",Clients!B10960)","v":""},{"$f":"IF(Clients!C10960=\"\",\"\",Clients!C10960)","v":""}]
[null,null,null,null,null,null,null,null,null,null,null,null,null,null,null,null,null,null,{"$f":"IF(Clients!B10976=\"\",\"\",Clients!B10976)","v":""},{"$f":"IF(Clients!C10976=\"\",\"\",Clients!C10976)","v":""}]
[null,null,null,null,null,null,null,null,null,null,null,null,null,null,null,null,null,null,{"$f":"IF(Clients!B11021=\"\",\"\",Clients!B11021)","v":""},{"$f":"IF(Clients!C11021=\"\",\"\",Clients!C11021)","v":""}]
[null,null,null,null,null,null,null,null,null,null,null,null,null,null,null,null,null,null,{"$f":"IF(Clients!B11049=\"\",\"\",Clients!B11049)","v":""},{"$f":"IF(Clients!C11049=\"\",\"\",Clients!C11049)","v":""}]
[null,null,null,null,null,null,null,null,null,null,null,null,null,null,null,null,null,null,{"$f":"IF(Clients!B11077=\"\",\"\",Clients!B11077)","v":""},{"$f":"IF(Clients!C11077=\"\",\"\",Clients!C11077)","v":""}]
[null,null,null,null,null,null,null,null,null,null,null,null,null,null,null,null,null,null,{"$f":"IF(Clients!B11105=\"\",\"\",Clients!B11105)","v":""},{"$f":"IF(Clients!C11105=\"\",\"\",Clients!C11105)","v":""}]
[null,null,null,null,null,null,null,null,null,null,null,null,null,null,null,null,null,null,{"$f":"IF(Clients!B11138=\"\",\"\",Clients!B11138)","v":""},{"$f":"IF(Clients!C11138=\"\",\"\",Clients!C11138)","v":""}]
[null,null,null,null,null,null,null,null,null,null,null,null,null,null,null,null,null,null,{"$f":"IF(Clients!B11166=\"\",\"\",Clients!B11166)","v":""},{"$f":"IF(Clients!C11166=\"\",\"\",Clients!C11166)","v":""}]
[null,null,null,null,null,null,null,null,null,null,null,null,null,null,null,null,null,null,{"$f":"IF(Clients!B11198=\"\",\"\",Clients!B11198)","v":""},{"$f":"IF(Clients!C11198=\"\",\"\",Clients!C11198)","v":""}]
[null,null,null,null,null,null,null,null,null,null,null,null,null,null,null,null,null,null,{"$f":"IF(Clients!B11234=\"\",\"\",Clients!B11234)","v":""},{"$f":"IF(Clients!C11234=\"\",\"\",Clients!C11234)","v":""}]
[null,null,null,null,null,null,null,null,null,null,null,null,null,null,null,null,null,null,{"$f":"IF(Clients!B11259=\"\",\"\",Clients!B11259)","v":""},{"$f":"IF(Clients!C11259=\"\",\"\",Clients!C11259)","v":""}]
[null,null,null,null,null,null,null,null,null,null,null,null,null,null,null,null,null,null,{"$f":"IF(Clients!B11287=\"\",\"\",Clients!B11287)","v":""},{"$f":"IF(Clients!C11287=\"\",\"\",Clients!C11287)","v":""}]
[null,null,null,null,null,null,null,null,null,null,null,null,null,null,null,null,null,null,{"$f":"IF(Clients!B11315=\"\",\"\",Clients!B11315)","v":""},{"$f":"IF(Clients!C11315=\"\",\"\",Clients!C11315)","v":""}]
[null,null,null,null,null,null,null,null,null,null,null,null,null,null,null,null,null,null,{"$f":"IF(Clients!B11363=\"\",\"\",Clients!B11363)","v":""},{"$f":"IF(Clients!C11363=\"\",\"\",Clients!C11363)","v":""}]
[null,null,null,null,null,null,null,null,null,null,null,null,null,null,null,null,null,null,{"$f":"IF(Clients!B11376=\"\",\"\",Clients!B11376)","v":""},{"$f":"IF(Clients!C11376=\"\",\"\",Clients!C11376)","v":""}]
[null,null,null,null,null,null,null,null,null,null,null,null,null,null,null,null,null,null,{"$f":"IF(Clients!B11435=\"\",\"\",Clients!B11435)","v":""},{"$f":"IF(Clients!C11435=\"\",\"\",Clients!C11435)","v":""}]
[null,null,null,null,null,null,null,null,null,null,null,null,null,null,null,null,null,null,{"$f":"IF(Clients!B11467=\"\",\"\",Clients!B11467)","v":""},{"$f":"IF(Clients!C11467=\"\",\"\",Clients!C11467)","v":""}]
[null,null,null,null,null,null,null,null,null,null,null,null,null,null,null,null,null,null,{"$f":"IF(Clients!B11492=\"\",\"\",Clients!B11492)","v":""},{"$f":"IF(Clients!C11492=\"\",\"\",Clients!C11492)","v":""}]
[null,null,null,null,null,null,null,null,null,null,null,null,null,null,null,null,null,null,{"$f":"IF(Clients!B11528=\"\",\"\",Clients!B11528)","v":""},{"$f":"IF(Clients!C11528=\"\",\"\",Clients!C11528)","v":""}]
[null,null,null,null,null,null,null,null,null,null,null,null,null,null,null,null,null,null,{"$f":"IF(Clients!B11556=\"\",\"\",Clients!B11556)","v":""},{"$f":"IF(Clients!C11556=\"\",\"\",Clients!C11556)","v":""}]
[null,null,null,null,null,null,null,null,null,null,null,null,null,null,null,null,null,null,{"$f":"IF(Clients!B11584=\"\",\"\",Clients!B11584)","v":""},{"$f":"IF(Clients!C11584=\"\",\"\",Clients!C11584)","v":""}]
[null,null,null,null,null,null,null,null,null,null,null,null,null,null,null,null,null,null,{"$f":"IF(Clients!B11621=\"\",\"\",Clients!B11621)","v":""},{"$f":"IF(Clients!C11621=\"\",\"\",Clients!C11621)","v":""}]
[null,null,null,null,null,null,null,null,null,null,null,null,null,null,null,null,null,null,{"$f":"IF(Clients!B11645=\"\",\"\",Clients!B11645)","v":""},{"$f":"IF(Clients!C11645=\"\",\"\",Clients!C11645)","v":""}]
[null,null,null,null,null,null,null,null,null,null,null,null,null,null,null,null,null,null,{"$f":"IF(Clients!B11677=\"\",\"\",Clients!B11677)","v":""},{"$f":"IF(Clients!C11677=\"\",\"\",Clients!C11677)","v":""}]
[null,null,null,null,null,null,null,null,null,null,null,null,null,null,null,null,null,null,{"$f":"IF(Clients!B11705=\"\",\"\",Clients!B11705)","v":""},{"$f":"IF(Clients!C11705=\"\",\"\",Clients!C11705)","v":""}]
[null,null,null,null,null,null,null,null,null,null,null,null,null,null,null,null,null,null,{"$f":"IF(Clients!B11718=\"\",\"\",Clients!B11718)","v":""},{"$f":"IF(Clients!C11718=\"\",\"\",Clients!C11718)","v":""}]
[null,null,null,null,null,null,null,null,null,null,null,null,null,null,null,null,null,null,{"$f":"IF(Clients!B11766=\"\",\"\",Clients!B11766)","v":""},{"$f":"IF(Clients!C11766=\"\",\"\",Clients!C11766)","v":""}]
[null,null,null,null,null,null,null,null,null,null,null,null,null,null,null,null,null,null,{"$f":"IF(Clients!B11794=\"\",\"\",Clients!B11794)","v":""},{"$f":"IF(Clients!C11794=\"\",\"\",Clients!C11794)","v":""}]
[null,null,null,null,null,null,null,null,null,null,null,null,null,null,null,null,null,null,{"$f":"IF(Clients!B11822=\"\",\"\",Clients!B11822)","v":""},{"$f":"IF(Clients!C11822=\"\",\"\",Clients!C11822)","v":""}]
[null,null,null,null,null,null,null,null,null,null,null,null,null,null,null,null,null,null,{"$f":"IF(Clients!B11847=\"\",\"\",Clients!B11847)","v":""},{"$f":"IF(Clients!C11847=\"\",\"\",Clients!C11847)","v":""}]
[null,null,null,null,null,null,null,null,null,null,null,null,null,null,null,null,null,null,{"$f":"IF(Clients!B11883=\"\",\"\",Clients!B11883)","v":""},{"$f":"IF(Clients!C11883=\"\",\"\",Clients!C11883)","v":""}]
[null,null,null,null,null,null,null,null,null,null,null,null,null,null,null,null,null,null,{"$f":"IF(Clients!B11915=\"\",\"\",Clients!B11915)","v":""},{"$f":"IF(Clients!C11915=\"\",\"\",Clients!C11915)","v":""}]
[null,null,null,null,null,null,null,null,null,null,null,null,null,null,null,null,null,null,{"$f":"IF(Clients!B11943=\"\",\"\",Clients!B11943)","v":""},{"$f":"IF(Clients!C11943=\"\",\"\",Clients!C11943)","v":""}]
[null,null,null,null,null,null,null,null,null,null,null,null,null,null,null,null,null,null,{"$f":"IF(Clients!B11976=\"\",\"\",Clients!B11976)","v":""},{"$f":"IF(Clients!C11976=\"\",\"\",Clients!C11976)","v":""}]
[null,null,null,null,null,null,null,null,null,null,null,null,null,null,null,null,null,null,{"$f":"IF(Clients!B12004=\"\",\"\",Clients!B12004)","v":""},{"$f":"IF(Clients!C12004=\"\",\"\",Clients!C12004)","v":""}]
[null,null,null,null,null,null,null,null,null,null,null,null,null,null,null,null,null,null,{"$f":"IF(Clients!B12032=\"\",\"\",Clients!B12032)","v":""},{"$f":"IF(Clients!C12032=\"\",\"\",Clients!C12032)","v":""}]
[null,null,null,null,null,null,null,null,null,null,null,null,null,null,null,null,null,null,{"$f":"IF(Clients!B12091=\"\",\"\",Clients!B12091)","v":""},{"$f":"IF(Clients!C12091=\"\",\"\",Clients!C12091)","v":""}]
[null,null,null,null,null,null,null,null,null,null,null,null,null,null,null,null,null,null,{"$f":"IF(Clients!B12105=\"\",\"\",Clients!B12105)","v":""},{"$f":"IF(Clients!C12105=\"\",\"\",Clients!C12105)","v":""}]
[null,null,null,null,null,null,null,null,null,null,null,null,null,null,null,null,null,null,{"$f":"IF(Clients!B12152=\"\",\"\",Clients!B12152)","v":""},{"$f":"IF(Clients!C12152=\"\",\"\",Clients!C12152)","v":""}]
[null,null,null,null,null,null,null,null,null,null,null,null,null,null,null,null,null,null,{"$f":"IF(Clients!B12184=\"\",\"\",Clients!B12184)","v":""},{"$f":"IF(Clients!C12184=\"\",\"\",Clients!C12184)","v":""}]
[null,null,null,null,null,null,null,null,null,null,null,null,null,null,null,null,null,null,{"$f":"IF(Clients!B12212=\"\",\"\",Clients!B12212)","v":""},{"$f":"IF(Clients!C12212=\"\",\"\",Clients!C12212)","v":""}]
[null,null,null,null,null,null,null,null,null,null,null,null,null,null,null,null,null,null,{"$f":"IF(Clients!B12234=\"\",\"\",Clients!B12234)","v":""},{"$f":"IF(Clients!C12234=\"\",\"\",Clients!C12234)","v":""}]
[null,null,null,null,null,null,null,null,null,null,null,null,null,null,null,null,null,null,{"$f":"IF(Clients!B12273=\"\",\"\",Clients!B12273)","v":""},{"$f":"IF(Clients!C12273=\"\",\"\",Clients!C12273)","v":""}]
[null,null,null,null,null,null,null,null,null,null,null,null,null,null,null,null,null,null,{"$f":"IF(Clients!B12301=\"\",\"\",Clients!B12301)","v":""},{"$f":"IF(Clients!C12301=\"\",\"\",Clients!C12301)","v":""}]
[null,null,null,null,null,null,null,null,null,null,null,null,null,null,null,null,null,null,{"$f":"IF(Clients!B12333=\"\",\"\",Clients!B12333)","v":""},{"$f":"IF(Clients!C12333=\"\",\"\",Clients!C12333)","v":""}]
[null,null,null,null,null,null,null,null,null,null,null,null,null,null,null,null,null,null,{"$f":"IF(Clients!B12363=\"\",\"\",Clients!B12363)","v":""},{"$f":"IF(Clients!C12363=\"\",\"\",Clients!C12363)","v":""}]
[null,null,null,null,null,null,null,null,null,null,null,null,null,null,null,null,null,null,{"$f":"IF(Clients!B12390=\"\",\"\",Clients!B12390)","v":""},{"$f":"IF(Clients!C12390=\"\",\"\",Clients!C12390)","v":""}]
[null,null,null,null,null,null,null,null,null,null,null,null,null,null,null,null,null,null,{"$f":"IF(Clients!B12422=\"\",\"\",Clients!B12422)","v":""},{"$f":"IF(Clients!C12422=\"\",\"\",Clients!C12422)","v":""}]
[null,null,null,null,null,null,null,null,null,null,null,null,null,null,null,null,null,null,{"$f":"IF(Clients!B12450=\"\",\"\",Clients!B12450)","v":""},{"$f":"IF(Clients!C12450=\"\",\"\",Clients!C12450)","v":""}]
[null,null,null,null,null,null,null,null,null,null,null,null,null,null,null,null,null,null,{"$f":"IF(Clients!B12492=\"\",\"\",Clients!B12492)","v":""},{"$f":"IF(Clients!C12492=\"\",\"\",Clients!C12492)","v":""}]
[null,null,null,null,null,null,null,null,null,null,null,null,null,null,null,null,null,null,{"$f":"IF(Clients!B12511=\"\",\"\",Clients!B12511)","v":""},{"$f":"IF(Clients!C12511=\"\",\"\",Clients!C12511)","v":""}]
[null,null,null,null,null,null,null,null,null,null,null,null,null,null,null,null,null,null,{"$f":"IF(Clients!B12539=\"\",\"\",Clients!B12539)","v":""},{"$f":"IF(Clients!C12539=\"\",\"\",Clients!C12539)","v":""}]
[null,null,null,null,null,null,null,null,null,null,null,null,null,null,null,null,null,null,{"$f":"IF(Clients!B12571=\"\",\"\",Clients!B12571)","v":""},{"$f":"IF(Clients!C12571=\"\",\"\",Clients!C12571)","v":""}]
[null,null,null,null,null,null,null,null,null,null,null,null,null,null,null,null,null,null,{"$f":"IF(Clients!B12621=\"\",\"\",Clients!B12621)","v":""},{"$f":"IF(Clients!C12621=\"\",\"\",Clients!C12621)","v":""}]
[null,null,null,null,null,null,null,null,null,null,null,null,null,null,null,null,null,null,{"$f":"IF(Clients!B12628=\"\",\"\",Clients!B12628)","v":""},{"$f":"IF(Clients!C12628=\"\",\"\",Clients!C12628)","v":""}]
[null,null,null,null,null,null,null,null,null,null,null,null,null,null,null,null,null,null,{"$f":"IF(Clients!B12660=\"\",\"\",Clients!B12660)","v":""},{"$f":"IF(Clients!C12660=\"\",\"\",Clients!C12660)","v":""}]
[null,null,null,null,null,null,null,null,null,null,null,null,null,null,null,null,null,null,{"$f":"IF(Clients!B12688=\"\",\"\",Clients!B12688)","v":""},{"$f":"IF(Clients!C12688=\"\",\"\",Clients!C12688)","v":""}]
[null,null,null,null,null,null,null,null,null,null,null,null,null,null,null,null,null,null,{"$f":"IF(Clients!B12718=\"\",\"\",Clients!B12718)","v":""},{"$f":"IF(Clients!C12718=\"\",\"\",Clients!C12718)","v":""}]
[null,null,null,null,null,null,null,null,null,null,null,null,null,null,null,null,null,null,{"$f":"IF(Clients!B12780=\"\",\"\",Clients!B12780)","v":""},{"$f":"IF(Clients!C12780=\"\",\"\",Clients!C12780)","v":""}]
[null,null,null,null,null,null,null,null,null,null,null,null,null,null,null,null,null,null,{"$f":"IF(Clients!B12808=\"\",\"\",Clients!B12808)","v":""},{"$f":"IF(Clients!C12808=\"\",\"\",Clients!C12808)","v":""}]
[null,null,null,null,null,null,null,null,null,null,null,null,null,null,null,null,null,null,{"$f":"IF(Clients!B12840=\"\",\"\",Clients!B12840)","v":""},{"$f":"IF(Clients!C12840=\"\",\"\",Clients!C12840)","v":""}]
[null,null,null,null,null,null,null,null,null,null,null,null,null,null,null,null,null,null,{"$f":"IF(Clients!B12847=\"\",\"\",Clients!B12847)","v":""},{"$f":"IF(Clients!C12847=\"\",\"\",Clients!C12847)","v":""}]
[null,null,null,null,null,null,null,null,null,null,null,null,null,null,null,null,null,null,{"$f":"IF(Clients!B12897=\"\",\"\",Clients!B12897)","v":""},{"$f":"IF(Clients!C12897=\"\",\"\",Clients!C12897)","v":""}]
[null,null,null,null,null,null,null,null,null,null,null,null,null,null,null,null,null,null,{"$f":"IF(Clients!B12929=\"\",\"\",Clients!B12929)","v":""},{"$f":"IF(Clients!C12929=\"\",\"\",Clients!C12929)","v":""}]
[null,null,null,null,null,null,null,null,null,null,null,null,null,null,null,null,null,null,{"$f":"IF(Clients!B12957=\"\",\"\",Clients!B12957)","v":""},{"$f":"IF(Clients!C12957=\"\",\"\",Clients!C12957)","v":""}]
[null,null,null,null,null,null,null,null,null,null,null,null,null,null,null,null,null,null,{"$f":"IF(Clients!B12976=\"\",\"\",Clients!B12976)","v":""},{"$f":"IF(Clients!C12976=\"\",\"\",Clients!C12976)","v":""}]
[null,null,null,null,null,null,null,null,null,null,null,null,null,null,null,null,null,null,{"$f":"IF(Clients!B13018=\"\",\"\",Clients!B13018)","v":""},{"$f":"IF(Clients!C13018=\"\",\"\",Clients!C13018)","v":""}]
[null,null,null,null,null,null,null,null,null,null,null,null,null,null,null,null,null,null,{"$f":"IF(Clients!B13046=\"\",\"\",Clients!B13046)","v":""},{"$f":"IF(Clients!C13046=\"\",\"\",Clients!C13046)","v":""}]
[null,null,null,null,null,null,null,null,null,null,null,null,null,null,null,null,null,null,{"$f":"IF(Clients!B13078=\"\",\"\",Clients!B13078)","v":""},{"$f":"IF(Clients!C13078=\"\",\"\",Clients!C13078)","v":""}]
[null,null,null,null,null,null,null,null,null,null,null,null,null,null,null,null,null,null,{"$f":"IF(Clients!B13105=\"\",\"\",Clients!B13105)","v":""},{"$f":"IF(Clients!C13105=\"\",\"\",Clients!C13105)","v":""}]
[null,null,null,null,null,null,null,null,null,null,null,null,null,null,null,null,null,null,{"$f":"IF(Clients!B13135=\"\",\"\",Clients!B13135)","v":""},{"$f":"IF(Clients!C13135=\"\",\"\",Clients!C13135)","v":""}]
[null,null,null,null,null,null,null,null,null,null,null,null,null,null,null,null,null,null,{"$f":"IF(Clients!B13167=\"\",\"\",Clients!B13167)","v":""},{"$f":"IF(Clients!C13167=\"\",\"\",Clients!C13167)","v":""}]
[null,null,null,null,null,null,null,null,null,null,null,null,null,null,null,null,null,null,{"$f":"IF(Clients!B13195=\"\",\"\",Clients!B13195)","v":""},{"$f":"IF(Clients!C13195=\"\",\"\",Clients!C13195)","v":""}]
[null,null,null,null,null,null,null,null,null,null,null,null,null,null,null,null,null,null,{"$f":"IF(Clients!B13234=\"\",\"\",Clients!B13234)","v":""},{"$f":"IF(Clients!C13234=\"\",\"\",Clients!C13234)","v":""}]
[null,null,null,null,null,null,null,null,null,null,null,null,null,null,null,null,null,null,{"$f":"IF(Clients!B13256=\"\",\"\",Clients!B13256)","v":""},{"$f":"IF(Clients!C13256=\"\",\"\",Clients!C13256)","v":""}]
[null,null,null,null,null,null,null,null,null,null,null,null,null,null,null,null,null,null,{"$f":"IF(Clients!B13284=\"\",\"\",Clients!B13284)","v":""},{"$f":"IF(Clients!C13284=\"\",\"\",Clients!C13284)","v":""}]
[null,null,null,null,null,null,null,null,null,null,null,null,null,null,null,null,null,null,{"$f":"IF(Clients!B13316=\"\",\"\",Clients!B13316)","v":""},{"$f":"IF(Clients!C13316=\"\",\"\",Clients!C13316)","v":""}]
[null,null,null,null,null,null,null,null,null,null,null,null,null,null,null,null,null,null,{"$f":"IF(Clients!B13363=\"\",\"\",Clients!B13363)","v":""},{"$f":"IF(Clients!C13363=\"\",\"\",Clients!C13363)","v":""}]
[null,null,null,null,null,null,null,null,null,null,null,null,null,null,null,null,null,null,{"$f":"IF(Clients!B13377=\"\",\"\",Clients!B13377)","v":""},{"$f":"IF(Clients!C13377=\"\",\"\",Clients!C13377)","v":""}]
[null,null,null,null,null,null,null,null,null,null,null,null,null,null,null,null,null,null,{"$f":"IF(Clients!B13436=\"\",\"\",Clients!B13436)","v":""},{"$f":"IF(Clients!C13436=\"\",\"\",Clients!C13436)","v":""}]
[null,null,null,null,null,null,null,null,null,null,null,null,null,null,null,null,null,null,{"$f":"IF(Clients!B13464=\"\",\"\",Clients!B13464)","v":""},{"$f":"IF(Clients!C13464=\"\",\"\",Clients!C13464)","v":""}]
[null,null,null,null,null,null,null,null,null,null,null,null,null,null,null,null,null,null,{"$f":"IF(Clients!B13492=\"\",\"\",Clients!B13492)","v":""},{"$f":"IF(Clients!C13492=\"\",\"\",Clients!C13492)","v":""}]
[null,null,null,null,null,null,null,null,null,null,null,null,null,null,null,null,null,null,{"$f":"IF(Clients!B13525=\"\",\"\",Clients!B13525)","v":""},{"$f":"IF(Clients!C13525=\"\",\"\",Clients!C13525)","v":""}]
[null,null,null,null,null,null,null,null,null,null,null,null,null,null,null,null,null,null,{"$f":"IF(Clients!B13553=\"\",\"\",Clients!B13553)","v":""},{"$f":"IF(Clients!C13553=\"\",\"\",Clients!C13553)","v":""}]
[null,null,null,null,null,null,null,null,null,null,null,null,null,null,null,null,null,null,{"$f":"IF(Clients!B13585=\"\",\"\",Clients!B13585)","v":""},{"$f":"IF(Clients!C13585=\"\",\"\",Clients!C13585)","v":""}]
[null,null,null,null,null,null,null,null,null,null,null,null,null,null,null,null,null,null,{"$f":"IF(Clients!B13621=\"\",\"\",Clients!B13621)","v":""},{"$f":"IF(Clients!C13621=\"\",\"\",Clients!C13621)","v":""}]
[null,null,null,null,null,null,null,null,null,null,null,null,null,null,null,null,null,null,{"$f":"IF(Clients!B13646=\"\",\"\",Clients!B13646)","v":""},{"$f":"IF(Clients!C13646=\"\",\"\",Clients!C13646)","v":""}]
[null,null,null,null,null,null,null,null,null,null,null,null,null,null,null,null,null,null,{"$f":"IF(Clients!B13674=\"\",\"\",Clients!B13674)","v":""},{"$f":"IF(Clients!C13674=\"\",\"\",Clients!C13674)","v":""}]
[null,null,null,null,null,null,null,null,null,null,null,null,null,null,null,null,null,null,{"$f":"IF(Clients!B13702=\"\",\"\",Clients!B13702)","v":""},{"$f":"IF(Clients!C13702=\"\",\"\",Clients!C13702)","v":""}]
[null,null,null,null,null,null,null,null,null,null,null,null,null,null,null,null,null,null,{"$f":"IF(Clients!B13718=\"\",\"\",Clients!B13718)","v":""},{"$f":"IF(Clients!C13718=\"\",\"\",Clients!C13718)","v":""}]
[null,null,null,null,null,null,null,null,null,null,null,null,null,null,null,null,null,null,{"$f":"IF(Clients!B13763=\"\",\"\",Clients!B13763)","v":""},{"$f":"IF(Clients!C13763=\"\",\"\",Clients!C13763)","v":""}]
[null,null,null,null,null,null,null,null,null,null,null,null,null,null,null,null,null,null,{"$f":"IF(Clients!B13795=\"\",\"\",Clients!B13795)","v":""},{"$f":"IF(Clients!C13795=\"\",\"\",Clients!C13795)","v":""}]
[null,null,null,null,null,null,null,null,null,null,null,null,null,null,null,null,null,null,{"$f":"IF(Clients!B13823=\"\",\"\",Clients!B13823)","v":""},{"$f":"IF(Clients!C13823=\"\",\"\",Clients!C13823)","v":""}]
[null,null,null,null,null,null,null,null,null,null,null,null,null,null,null,null,null,null,{"$f":"IF(Clients!B13847=\"\",\"\",Clients!B13847)","v":""},{"$f":"IF(Clients!C13847=\"\",\"\",Clients!C13847)","v":""}]
[null,null,null,null,null,null,null,null,null,null,null,null,null,null,null,null,null,null,{"$f":"IF(Clients!B13884=\"\",\"\",Clients!B13884)","v":""},{"$f":"IF(Clients!C13884=\"\",\"\",Clients!C13884)","v":""}]
[null,null,null,null,null,null,null,null,null,null,null,null,null,null,null,null,null,null,{"$f":"IF(Clients!B13912=\"\",\"\",Clients!B13912)","v":""},{"$f":"IF(Clients!C13912=\"\",\"\",Clients!C13912)","v":""}]
[null,null,null,null,null,null,null,null,null,null,null,null,null,null,null,null,null,null,{"$f":"IF(Clients!B13940=\"\",\"\",Clients!B13940)","v":""},{"$f":"IF(Clients!C13940=\"\",\"\",Clients!C13940)","v":""}]
[null,null,null,null,null,null,null,null,null,null,null,null,null,null,null,null,null,null,{"$f":"IF(Clients!B13976=\"\",\"\",Clients!B13976)","v":""},{"$f":"IF(Clients!C13976=\"\",\"\",Clients!C13976)","v":""}]
[null,null,null,null,null,null,null,null,null,null,null,null,null,null,null,null,null,null,{"$f":"IF(Clients!B14001=\"\",\"\",Clients!B14001)","v":""},{"$f":"IF(Clients!C14001=\"\",\"\",Clients!C14001)","v":""}]
[null,null,null,null,null,null,null,null,null,null,null,null,null,null,null,null,null,null,{"$f":"IF(Clients!B14033=\"\",\"\",Clients!B14033)","v":""},{"$f":"IF(Clients!C14033=\"\",\"\",Clients!C14033)","v":""}]
[null,null,null,null,null,null,null,null,null,null,null,null,null,null,null,null,null,null,{"$f":"IF(Clients!B14092=\"\",\"\",Clients!B14092)","v":""},{"$f":"IF(Clients!C14092=\"\",\"\",Clients!C14092)","v":""}]
[null,null,null,null,null,null,null,null,null,null,null,null,null,null,null,null,null,null,{"$f":"IF(Clients!B14105=\"\",\"\",Clients!B14105)","v":""},{"$f":"IF(Clients!C14105=\"\",\"\",Clients!C14105)","v":""}]
[null,null,null,null,null,null,null,null,null,null,null,null,null,null,null,null,null,null,{"$f":"IF(Clients!B14153=\"\",\"\",Clients!B14153)","v":""},{"$f":"IF(Clients!C14153=\"\",\"\",Clients!C14153)","v":""}]
[null,null,null,null,null,null,null,null,null,null,null,null,null,null,null,null,null,null,{"$f":"IF(Clients!B14181=\"\",\"\",Clients!B14181)","v":""},{"$f":"IF(Clients!C14181=\"\",\"\",Clients!C14181)","v":""}]
[null,null,null,null,null,null,null,null,null,null,null,null,null,null,null,null,null,null,{"$f":"IF(Clients!B14209=\"\",\"\",Clients!B14209)","v":""},{"$f":"IF(Clients!C14209=\"\",\"\",Clients!C14209)","v":""}]
[null,null,null,null,null,null,null,null,null,null,null,null,null,null,null,null,null,null,{"$f":"IF(Clients!B14234=\"\",\"\",Clients!B14234)","v":""},{"$f":"IF(Clients!C14234=\"\",\"\",Clients!C14234)","v":""}]
[null,null,null,null,null,null,null,null,null,null,null,null,null,null,null,null,null,null,{"$f":"IF(Clients!B14270=\"\",\"\",Clients!B14270)","v":""},{"$f":"IF(Clients!C14270=\"\",\"\",Clients!C14270)","v":""}]
[null,null,null,null,null,null,null,null,null,null,null,null,null,null,null,null,null,null,{"$f":"IF(Clients!B14302=\"\",\"\",Clients!B14302)","v":""},{"$f":"IF(Clients!C14302=\"\",\"\",Clients!C14302)","v":""}]
[null,null,null,null,null,null,null,null,null,null,null,null,null,null,null,null,null,null,{"$f":"IF(Clients!B14330=\"\",\"\",Clients!B14330)","v":""},{"$f":"IF(Clients!C14330=\"\",\"\",Clients!C14330)","v":""}]
[null,null,null,null,null,null,null,null,null,null,null,null,null,null,null,null,null,null,{"$f":"IF(Clients!B14363=\"\",\"\",Clients!B14363)","v":""},{"$f":"IF(Clients!C14363=\"\",\"\",Clients!C14363)","v":""}]
[null,null,null,null,null,null,null,null,null,null,null,null,null,null,null,null,null,null,{"$f":"IF(Clients!B14391=\"\",\"\",Clients!B14391)","v":""},{"$f":"IF(Clients!C14391=\"\",\"\",Clients!C14391)","v":""}]
[null,null,null,null,null,null,null,null,null,null,null,null,null,null,null,null,null,null,{"$f":"IF(Clients!B14419=\"\",\"\",Clients!B14419)","v":""},{"$f":"IF(Clients!C14419=\"\",\"\",Clients!C14419)","v":""}]
[null,null,null,null,null,null,null,null,null,null,null,null,null,null,null,null,null,null,{"$f":"IF(Clients!B14451=\"\",\"\",Clients!B14451)","v":""},{"$f":"IF(Clients!C14451=\"\",\"\",Clients!C14451)","v":""}]
[null,null,null,null,null,null,null,null,null,null,null,null,null,null,null,null,null,null,{"$f":"IF(Clients!B14492=\"\",\"\",Clients!B14492)","v":""},{"$f":"IF(Clients!C14492=\"\",\"\",Clients!C14492)","v":""}]
[null,null,null,null,null,null,null,null,null,null,null,null,null,null,null,null,null,null,{"$f":"IF(Clients!B14508=\"\",\"\",Clients!B14508)","v":""},{"$f":"IF(Clients!C14508=\"\",\"\",Clients!C14508)","v":""}]
[null,null,null,null,null,null,null,null,null,null,null,null,null,null,null,null,null,null,{"$f":"IF(Clients!B14540=\"\",\"\",Clients!B14540)","v":""},{"$f":"IF(Clients!C14540=\"\",\"\",Clients!C14540)","v":""}]
[null,null,null,null,null,null,null,null,null,null,null,null,null,null,null,null,null,null,{"$f":"IF(Clients!B14568=\"\",\"\",Clients!B14568)","v":""},{"$f":"IF(Clients!C14568=\"\",\"\",Clients!C14568)","v":""}]
[null,null,null,null,null,null,null,null,null,null,null,null,null,null,null,null,null,null,{"$f":"IF(Clients!B14621=\"\",\"\",Clients!B14621)","v":""},{"$f":"IF(Clients!C14621=\"\",\"\",Clients!C14621)","v":""}]
[null,null,null,null,null,null,null,null,null,null,null,null,null,null,null,null,null,null,{"$f":"IF(Clients!B14629=\"\",\"\",Clients!B14629)","v":""},{"$f":"IF(Clients!C14629=\"\",\"\",Clients!C14629)","v":""}]
[null,null,null,null,null,null,null,null,null,null,null,null,null,null,null,null,null,null,{"$f":"IF(Clients!B14657=\"\",\"\",Clients!B14657)","v":""},{"$f":"IF(Clients!C14657=\"\",\"\",Clients!C14657)","v":""}]
[null,null,null,null,null,null,null,null,null,null,null,null,null,null,null,null,null,null,{"$f":"IF(Clients!B14689=\"\",\"\",Clients!B14689)","v":""},{"$f":"IF(Clients!C14689=\"\",\"\",Clients!C14689)","v":""}]
[null,null,null,null,null,null,null,null,null,null,null,null,null,null,null,null,null,null,{"$f":"IF(Clients!B14718=\"\",\"\",Clients!B14718)","v":""},{"$f":"IF(Clients!C14718=\"\",\"\",Clients!C14718)","v":""}]
[null,null,null,null,null,null,null,null,null,null,null,null,null,null,null,null,null,null,{"$f":"IF(Clients!B14777=\"\",\"\",Clients!B14777)","v":""},{"$f":"IF(Clients!C14777=\"\",\"\",Clients!C14777)","v":""}]
[null,null,null,null,null,null,null,null,null,null,null,null,null,null,null,null,null,null,{"$f":"IF(Clients!B14809=\"\",\"\",Clients!B14809)","v":""},{"$f":"IF(Clients!C14809=\"\",\"\",Clients!C14809)","v":""}]
[null,null,null,null,null,null,null,null,null,null,null,null,null,null,null,null,null,null,{"$f":"IF(Clients!B14837=\"\",\"\",Clients!B14837)","v":""},{"$f":"IF(Clients!C14837=\"\",\"\",Clients!C14837)","v":""}]
[null,null,null,null,null,null,null,null,null,null,null,null,null,null,null,null,null,null,{"$f":"IF(Clients!B14847=\"\",\"\",Clients!B14847)","v":""},{"$f":"IF(Clients!C14847=\"\",\"\",Clients!C14847)","v":""}]
[null,null,null,null,null,null,null,null,null,null,null,null,null,null,null,null,null,null,{"$f":"IF(Clients!B14898=\"\",\"\",Clients!B14898)","v":""},{"$f":"IF(Clients!C14898=\"\",\"\",Clients!C14898)","v":""}]
[null,null,null,null,null,null,null,null,null,null,null,null,null,null,null,null,null,null,{"$f":"IF(Clients!B14926=\"\",\"\",Clients!B14926)","v":""},{"$f":"IF(Clients!C14926=\"\",\"\",Clients!C14926)","v":""}]
[null,null,null,null,null,null,null,null,null,null,null,null,null,null,null,null,null,null,{"$f":"IF(Clients!B14958=\"\",\"\",Clients!B14958)","v":""},{"$f":"IF(Clients!C14958=\"\",\"\",Clients!C14958)","v":""}]
[null,null,null,null,null,null,null,null,null,null,null,null,null,null,null,null,null,null,{"$f":"IF(Clients!B14976=\"\",\"\",Clients!B14976)","v":""},{"$f":"IF(Clients!C14976=\"\",\"\",Clients!C14976)","v":""}]
[null,null,null,null,null,null,null,null,null,null,null,null,null,null,null,null,null,null,{"$f":"IF(Clients!B15015=\"\",\"\",Clients!B15015)","v":""},{"$f":"IF(Clients!C15015=\"\",\"\",Clients!C15015)","v":""}]
[null,null,null,null,null,null,null,null,null,null,null,null,null,null,null,null,null,null,{"$f":"IF(Clients!B15047=\"\",\"\",Clients!B15047)","v":""},{"$f":"IF(Clients!C15047=\"\",\"\",Clients!C15047)","v":""}]
[null,null,null,null,null,null,null,null,null,null,null,null,null,null,null,null,null,null,{"$f":"IF(Clients!B15075=\"\",\"\",Clients!B15075)","v":""},{"$f":"IF(Clients!C15075=\"\",\"\",Clients!C15075)","v":""}]
[null,null,null,null,null,null,null,null,null,null,null,null,null,null,null,null,null,null,{"$f":"IF(Clients!B15105=\"\",\"\",Clients!B15105)","v":""},{"$f":"IF(Clients!C15105=\"\",\"\",Clients!C15105)","v":""}]
[null,null,null,null,null,null,null,null,null,null,null,null,null,null,null,null,null,null,{"$f":"IF(Clients!B15136=\"\",\"\",Clients!B15136)","v":""},{"$f":"IF(Clients!C15136=\"\",\"\",Clients!C15136)","v":""}]
[null,null,null,null,null,null,null,null,null,null,null,null,null,null,null,null,null,null,{"$f":"IF(Clients!B15164=\"\",\"\",Clients!B15164)","v":""},{"$f":"IF(Clients!C15164=\"\",\"\",Clients!C15164)","v":""}]
[null,null,null,null,null,null,null,null,null,null,null,null,null,null,null,null,null,null,{"$f":"IF(Clients!B15196=\"\",\"\",Clients!B15196)","v":""},{"$f":"IF(Clients!C15196=\"\",\"\",Clients!C15196)","v":""}]
[null,null,null,null,null,null,null,null,null,null,null,null,null,null,null,null,null,null,{"$f":"IF(Clients!B15234=\"\",\"\",Clients!B15234)","v":""},{"$f":"IF(Clients!C15234=\"\",\"\",Clients!C15234)","v":""}]
[null,null,null,null,null,null,null,null,null,null,null,null,null,null,null,null,null,null,{"$f":"IF(Clients!B15253=\"\",\"\",Clients!B15253)","v":""},{"$f":"IF(Clients!C15253=\"\",\"\",Clients!C15253)","v":""}]
[null,null,null,null,null,null,null,null,null,null,null,null,null,null,null,null,null,null,{"$f":"IF(Clients!B15285=\"\",\"\",Clients!B15285)","v":""},{"$f":"IF(Clients!C15285=\"\",\"\",Clients!C15285)","v":""}]
[null,null,null,null,null,null,null,null,null,null,null,null,null,null,null,null,null,null,{"$f":"IF(Clients!B15313=\"\",\"\",Clients!B15313)","v":""},{"$f":"IF(Clients!C15313=\"\",\"\",Clients!C15313)","v":""}]
[null,null,null,null,null,null,null,null,null,null,null,null,null,null,null,null,null,null,{"$f":"IF(Clients!B15363=\"\",\"\",Clients!B15363)","v":""},{"$f":"IF(Clients!C15363=\"\",\"\",Clients!C15363)","v":""}]
[null,null,null,null,null,null,null,null,null,null,null,null,null,null,null,null,null,null,{"$f":"IF(Clients!B15405=\"\",\"\",Clients!B15405)","v":""},{"$f":"IF(Clients!C15405=\"\",\"\",Clients!C15405)","v":""}]
[null,null,null,null,null,null,null,null,null,null,null,null,null,null,null,null,null,null,{"$f":"IF(Clients!B15433=\"\",\"\",Clients!B15433)","v":""},{"$f":"IF(Clients!C15433=\"\",\"\",Clients!C15433)","v":""}]
[null,null,null,null,null,null,null,null,null,null,null,null,null,null,null,null,null,null,{"$f":"IF(Clients!B15465=\"\",\"\",Clients!B15465)","v":""},{"$f":"IF(Clients!C15465=\"\",\"\",Clients!C15465)","v":""}]
[null,null,null,null,null,null,null,null,null,null,null,null,null,null,null,null,null,null,{"$f":"IF(Clients!B15492=\"\",\"\",Clients!B15492)","v":""},{"$f":"IF(Clients!C15492=\"\",\"\",Clients!C15492)","v":""}]
[null,null,null,null,null,null,null,null,null,null,null,null,null,null,null,null,null,null,{"$f":"IF(Clients!B15526=\"\",\"\",Clients!B15526)","v":""},{"$f":"IF(Clients!C15526=\"\",\"\",Clients!C15526)","v":""}]
[null,null,null,null,null,null,null,null,null,null,null,null,null,null,null,null,null,null,{"$f":"IF(Clients!B15554=\"\",\"\",Clients!B15554)","v":""},{"$f":"IF(Clients!C15554=\"\",\"\",Clients!C15554)","v":""}]
[null,null,null,null,null,null,null,null,null,null,null,null,null,null,null,null,null,null,{"$f":"IF(Clients!B15582=\"\",\"\",Clients!B15582)","v":""},{"$f":"IF(Clients!C15582=\"\",\"\",Clients!C15582)","v":""}]
[null,null,null,null,null,null,null,null,null,null,null,null,null,null,null,null,null,null,{"$f":"IF(Clients!B15621=\"\",\"\",Clients!B15621)","v":""},{"$f":"IF(Clients!C15621=\"\",\"\",Clients!C15621)","v":""}]
[null,null,null,null,null,null,null,null,null,null,null,null,null,null,null,null,null,null,{"$f":"IF(Clients!B15643=\"\",\"\",Clients!B15643)","v":""},{"$f":"IF(Clients!C15643=\"\",\"\",Clients!C15643)","v":""}]
[null,null,null,null,null,null,null,null,null,null,null,null,null,null,null,null,null,null,{"$f":"IF(Clients!B15671=\"\",\"\",Clients!B15671)","v":""},{"$f":"IF(Clients!C15671=\"\",\"\",Clients!C15671)","v":""}]
[null,null,null,null,null,null,null,null,null,null,null,null,null,null,null,null,null,null,{"$f":"IF(Clients!B15703=\"\",\"\",Clients!B15703)","v":""},{"$f":"IF(Clients!C15703=\"\",\"\",Clients!C15703)","v":""}]
[null,null,null,null,null,null,null,null,null,null,null,null,null,null,null,null,null,null,{"$f":"IF(Clients!B15718=\"\",\"\",Clients!B15718)","v":""},{"$f":"IF(Clients!C15718=\"\",\"\",Clients!C15718)","v":""}]
[null,null,null,null,null,null,null,null,null,null,null,null,null,null,null,null,null,null,{"$f":"IF(Clients!B15764=\"\",\"\",Clients!B15764)","v":""},{"$f":"IF(Clients!C15764=\"\",\"\",Clients!C15764)","v":""}]
[null,null,null,null,null,null,null,null,null,null,null,null,null,null,null,null,null,null,{"$f":"IF(Clients!B15792=\"\",\"\",Clients!B15792)","v":""},{"$f":"IF(Clients!C15792=\"\",\"\",Clients!C15792)","v":""}]
[null,null,null,null,null,null,null,null,null,null,null,null,null,null,null,null,null,null,{"$f":"IF(Clients!B15820=\"\",\"\",Clients!B15820)","v":""},{"$f":"IF(Clients!C15820=\"\",\"\",Clients!C15820)","v":""}]
[null,null,null,null,null,null,null,null,null,null,null,null,null,null,null,null,null,null,{"$f":"IF(Clients!B15847=\"\",\"\",Clients!B15847)","v":""},{"$f":"IF(Clients!C15847=\"\",\"\",Clients!C15847)","v":""}]
[null,null,null,null,null,null,null,null,null,null,null,null,null,null,null,null,null,null,{"$f":"IF(Clients!B15881=\"\",\"\",Clients!B15881)","v":""},{"$f":"IF(Clients!C15881=\"\",\"\",Clients!C15881)","v":""}]
[null,null,null,null,null,null,null,null,null,null,null,null,null,null,null,null,null,null,{"$f":"IF(Clients!B15909=\"\",\"\",Clients!B15909)","v":""},{"$f":"IF(Clients!C15909=\"\",\"\",Clients!C15909)","v":""}]
[null,null,null,null,null,null,null,null,null,null,null,null,null,null,null,null,null,null,{"$f":"IF(Clients!B15941=\"\",\"\",Clients!B15941)","v":""},{"$f":"IF(Clients!C15941=\"\",\"\",Clients!C15941)","v":""}]
[null,null,null,null,null,null,null,null,null,null,null,null,null,null,null,null,null,null,{"$f":"IF(Clients!B15976=\"\",\"\",Clients!B15976)","v":""},{"$f":"IF(Clients!C15976=\"\",\"\",Clients!C15976)","v":""}]
[null,null,null,null,null,null,null,null,null,null,null,null,null,null,null,null,null,null,{"$f":"IF(Clients!B16002=\"\",\"\",Clients!B16002)","v":""},{"$f":"IF(Clients!C16002=\"\",\"\",Clients!C16002)","v":""}]
[null,null,null,null,null,null,null,null,null,null,null,null,null,null,null,null,null,null,{"$f":"IF(Clients!B16061=\"\",\"\",Clients!B16061)","v":""},{"$f":"IF(Clients!C16061=\"\",\"\",Clients!C16061)","v":""}]
[null,null,null,null,null,null,null,null,null,null,null,null,null,null,null,null,null,null,{"$f":"IF(Clients!B16089=\"\",\"\",Clients!B16089)","v":""},{"$f":"IF(Clients!C16089=\"\",\"\",Clients!C16089)","v":""}]
[null,null,null,null,null,null,null,null,null,null,null,null,null,null,null,null,null,null,{"$f":"IF(Clients!B16105=\"\",\"\",Clients!B16105)","v":""},{"$f":"IF(Clients!C16105=\"\",\"\",Clients!C16105)","v":""}]
[null,null,null,null,null,null,null,null,null,null,null,null,null,null,null,null,null,null,{"$f":"IF(Clients!B16150=\"\",\"\",Clients!B16150)","v":""},{"$f":"IF(Clients!C16150=\"\",\"\",Clients!C16150)","v":""}]
[null,null,null,null,null,null,null,null,null,null,null,null,null,null,null,null,null,null,{"$f":"IF(Clients!B16182=\"\",\"\",Clients!B16182)","v":""},{"$f":"IF(Clients!C16182=\"\",\"\",Clients!C16182)","v":""}]
[null,null,null,null,null,null,null,null,null,null,null,null,null,null,null,null,null,null,{"$f":"IF(Clients!B16210=\"\",\"\",Clients!B16210)","v":""},{"$f":"IF(Clients!C16210=\"\",\"\",Clients!C16210)","v":""}]
[null,null,null,null,null,null,null,null,null,null,null,null,null,null,null,null,null,null,{"$f":"IF(Clients!B16234=\"\",\"\",Clients!B16234)","v":""},{"$f":"IF(Clients!C16234=\"\",\"\",Clients!C16234)","v":""}]
[null,null,null,null,null,null,null,null,null,null,null,null,null,null,null,null,null,null,{"$f":"IF(Clients!B16271=\"\",\"\",Clients!B16271)","v":""},{"$f":"IF(Clients!C16271=\"\",\"\",Clients!C16271)","v":""}]
[null,null,null,null,null,null,null,null,null,null,null,null,null,null,null,null,null,null,{"$f":"IF(Clients!B16299=\"\",\"\",Clients!B16299)","v":""},{"$f":"IF(Clients!C16299=\"\",\"\",Clients!C16299)","v":""}]
[null,null,null,null,null,null,null,null,null,null,null,null,null,null,null,null,null,null,{"$f":"IF(Clients!B16327=\"\",\"\",Clients!B16327)","v":""},{"$f":"IF(Clients!C16327=\"\",\"\",Clients!C16327)","v":""}]
[null,null,null,null,null,null,null,null,null,null,null,null,null,null,null,null,null,null,{"$f":"IF(Clients!B16363=\"\",\"\",Clients!B16363)","v":""},{"$f":"IF(Clients!C16363=\"\",\"\",Clients!C16363)","v":""}]
[null,null,null,null,null,null,null,null,null,null,null,null,null,null,null,null,null,null,{"$f":"IF(Clients!B16388=\"\",\"\",Clients!B16388)","v":""},{"$f":"IF(Clients!C16388=\"\",\"\",Clients!C16388)","v":""}]
[null,null,null,null,null,null,null,null,null,null,null,null,null,null,null,null,null,null,{"$f":"IF(Clients!B16420=\"\",\"\",Clients!B16420)","v":""},{"$f":"IF(Clients!C16420=\"\",\"\",Clients!C16420)","v":""}]
[null,null,null,null,null,null,null,null,null,null,null,null,null,null,null,null,null,null,{"$f":"IF(Clients!B16448=\"\",\"\",Clients!B16448)","v":""},{"$f":"IF(Clients!C16448=\"\",\"\",Clients!C16448)","v":""}]
[null,null,null,null,null,null,null,null,null,null,null,null,null,null,null,null,null,null,{"$f":"IF(Clients!B16492=\"\",\"\",Clients!B16492)","v":""},{"$f":"IF(Clients!C16492=\"\",\"\",Clients!C16492)","v":""}]
[null,null,null,null,null,null,null,null,null,null,null,null,null,null,null,null,null,null,{"$f":"IF(Clients!B16509=\"\",\"\",Clients!B16509)","v":""},{"$f":"IF(Clients!C16509=\"\",\"\",Clients!C16509)","v":""}]
[null,null,null,null,null,null,null,null,null,null,null,null,null,null,null,null,null,null,{"$f":"IF(Clients!B16537=\"\",\"\",Clients!B16537)","v":""},{"$f":"IF(Clients!C16537=\"\",\"\",Clients!C16537)","v":""}]
[null,null,null,null,null,null,null,null,null,null,null,null,null,null,null,null,null,null,{"$f":"IF(Clients!B16565=\"\",\"\",Clients!B16565)","v":""},{"$f":"IF(Clients!C16565=\"\",\"\",Clients!C16565)","v":""}]
[null,null,null,null,null,null,null,null,null,null,null,null,null,null,null,null,null,null,{"$f":"IF(Clients!B16621=\"\",\"\",Clients!B16621)","v":""},{"$f":"IF(Clients!C16621=\"\",\"\",Clients!C16621)","v":""}]
[null,null,null,null,null,null,null,null,null,null,null,null,null,null,null,null,null,null,{"$f":"IF(Clients!B16626=\"\",\"\",Clients!B16626)","v":""},{"$f":"IF(Clients!C16626=\"\",\"\",Clients!C16626)","v":""}]
[null,null,null,null,null,null,null,null,null,null,null,null,null,null,null,null,null,null,{"$f":"IF(Clients!B16658=\"\",\"\",Clients!B16658)","v":""},{"$f":"IF(Clients!C16658=\"\",\"\",Clients!C16658)","v":""}]
[null,null,null,null,null,null,null,null,null,null,null,null,null,null,null,null,null,null,{"$f":"IF(Clients!B16717=\"\",\"\",Clients!B16717)","v":""},{"$f":"IF(Clients!C16717=\"\",\"\",Clients!C16717)","v":""}]
[null,null,null,null,null,null,null,null,null,null,null,null,null,null,null,null,null,null,{"$f":"IF(Clients!B16718=\"\",\"\",Clients!B16718)","v":""},{"$f":"IF(Clients!C16718=\"\",\"\",Clients!C16718)","v":""}]
[null,null,null,null,null,null,null,null,null,null,null,null,null,null,null,null,null,null,{"$f":"IF(Clients!B16778=\"\",\"\",Clients!B16778)","v":""},{"$f":"IF(Clients!C16778=\"\",\"\",Clients!C16778)","v":""}]
[null,null,null,null,null,null,null,null,null,null,null,null,null,null,null,null,null,null,{"$f":"IF(Clients!B16806=\"\",\"\",Clients!B16806)","v":""},{"$f":"IF(Clients!C16806=\"\",\"\",Clients!C16806)","v":""}]
[null,null,null,null,null,null,null,null,null,null,null,null,null,null,null,null,null,null,{"$f":"IF(Clients!B16838=\"\",\"\",Clients!B16838)","v":""},{"$f":"IF(Clients!C16838=\"\",\"\",Clients!C16838)","v":""}]
[null,null,null,null,null,null,null,null,null,null,null,null,null,null,null,null,null,null,{"$f":"IF(Clients!B16847=\"\",\"\",Clients!B16847)","v":""},{"$f":"IF(Clients!C16847=\"\",\"\",Clients!C16847)","v":""}]
[null,null,null,null,null,null,null,null,null,null,null,null,null,null,null,null,null,null,{"$f":"IF(Clients!B16895=\"\",\"\",Clients!B16895)","v":""},{"$f":"IF(Clients!C16895=\"\",\"\",Clients!C16895)","v":""}]
[null,null,null,null,null,null,null,null,null,null,null,null,null,null,null,null,null,null,{"$f":"IF(Clients!B16927=\"\",\"\",Clients!B16927)","v":""},{"$f":"IF(Clients!C16927=\"\",\"\",Clients!C16927)","v":""}]
[null,null,null,null,null,null,null,null,null,null,null,null,null,null,null,null,null,null,{"$f":"IF(Clients!B16955=\"\",\"\",Clients!B16955)","v":""},{"$f":"IF(Clients!C16955=\"\",\"\",Clients!C16955)","v":""}]
[null,null,null,null,null,null,null,null,null,null,null,null,null,null,null,null,null,null,{"$f":"IF(Clients!B16976=\"\",\"\",Clients!B16976)","v":""},{"$f":"IF(Clients!C16976=\"\",\"\",Clients!C16976)","v":""}]
[null,null,null,null,null,null,null,null,null,null,null,null,null,null,null,null,null,null,{"$f":"IF(Clients!B17016=\"\",\"\",Clients!B17016)","v":""},{"$f":"IF(Clients!C17016=\"\",\"\",Clients!C17016)","v":""}]
[null,null,null,null,null,null,null,null,null,null,null,null,null,null,null,null,null,null,{"$f":"IF(Clients!B17044=\"\",\"\",Clients!B17044)","v":""},{"$f":"IF(Clients!C17044=\"\",\"\",Clients!C17044)","v":""}]
[null,null,null,null,null,null,null,null,null,null,null,null,null,null,null,null,null,null,{"$f":"IF(Clients!B17076=\"\",\"\",Clients!B17076)","v":""},{"$f":"IF(Clients!C17076=\"\",\"\",Clients!C17076)","v":""}]
[null,null,null,null,null,null,null,null,null,null,null,null,null,null,null,null,null,null,{"$f":"IF(Clients!B17105=\"\",\"\",Clients!B17105)","v":""},{"$f":"IF(Clients!C17105=\"\",\"\",Clients!C17105)","v":""}]
[null,null,null,null,null,null,null,null,null,null,null,null,null,null,null,null,null,null,{"$f":"IF(Clients!B17133=\"\",\"\",Clients!B17133)","v":""},{"$f":"IF(Clients!C17133=\"\",\"\",Clients!C17133)","v":""}]
[null,null,null,null,null,null,null,null,null,null,null,null,null,null,null,null,null,null,{"$f":"IF(Clients!B17165=\"\",\"\",Clients!B17165)","v":""},{"$f":"IF(Clients!C17165=\"\",\"\",Clients!C17165)","v":""}]
[null,null,null,null,null,null,null,null,null,null,null,null,null,null,null,null,null,null,{"$f":"IF(Clients!B17193=\"\",\"\",Clients!B17193)","v":""},{"$f":"IF(Clients!C17193=\"\",\"\",Clients!C17193)","v":""}]
[null,null,null,null,null,null,null,null,null,null,null,null,null,null,null,null,null,null,{"$f":"IF(Clients!B17234=\"\",\"\",Clients!B17234)","v":""},{"$f":"IF(Clients!C17234=\"\",\"\",Clients!C17234)","v":""}]
[null,null,null,null,null,null,null,null,null,null,null,null,null,null,null,null,null,null,{"$f":"IF(Clients!B17254=\"\",\"\",Clients!B17254)","v":""},{"$f":"IF(Clients!C17254=\"\",\"\",Clients!C17254)","v":""}]
[null,null,null,null,null,null,null,null,null,null,null,null,null,null,null,null,null,null,{"$f":"IF(Clients!B17282=\"\",\"\",Clients!B17282)","v":""},{"$f":"IF(Clients!C17282=\"\",\"\",Clients!C17282)","v":""}]
[null,null,null,null,null,null,null,null,null,null,null,null,null,null,null,null,null,null,{"$f":"IF(Clients!B17314=\"\",\"\",Clients!B17314)","v":""},{"$f":"IF(Clients!C17314=\"\",\"\",Clients!C17314)","v":""}]
[null,null,null,null,null,null,null,null,null,null,null,null,null,null,null,null,null,null,{"$f":"IF(Clients!B17363=\"\",\"\",Clients!B17363)","v":""},{"$f":"IF(Clients!C17363=\"\",\"\",Clients!C17363)","v":""}]
[null,null,null,null,null,null,null,null,null,null,null,null,null,null,null,null,null,null,{"$f":"IF(Clients!B17402=\"\",\"\",Clients!B17402)","v":""},{"$f":"IF(Clients!C17402=\"\",\"\",Clients!C17402)","v":""}]
[null,null,null,null,null,null,null,null,null,null,null,null,null,null,null,null,null,null,{"$f":"IF(Clients!B17434=\"\",\"\",Clients!B17434)","v":""},{"$f":"IF(Clients!C17434=\"\",\"\",Clients!C17434)","v":""}]
[null,null,null,null,null,null,null,null,null,null,null,null,null,null,null,null,null,null,{"$f":"IF(Clients!B17462=\"\",\"\",Clients!B17462)","v":""},{"$f":"IF(Clients!C17462=\"\",\"\",Clients!C17462)","v":""}]
[null,null,null,null,null,null,null,null,null,null,null,null,null,null,null,null,null,null,{"$f":"IF(Clients!B17492=\"\",\"\",Clients!B17492)","v":""},{"$f":"IF(Clients!C17492=\"\",\"\",Clients!C17492)","v":""}]
[null,null,null,null,null,null,null,null,null,null,null,null,null,null,null,null,null,null,{"$f":"IF(Clients!B17523=\"\",\"\",Clients!B17523)","v":""},{"$f":"IF(Clients!C17523=\"\",\"\",Clients!C17523)","v":""}]
[null,null,null,null,null,null,null,null,null,null,null,null,null,null,null,null,null,null,{"$f":"IF(Clients!B17551=\"\",\"\",Clients!B17551)","v":""},{"$f":"IF(Clients!C17551=\"\",\"\",Clients!C17551)","v":""}]
[null,null,null,null,null,null,null,null,null,null,null,null,null,null,null,null,null,null,{"$f":"IF(Clients!B17583=\"\",\"\",Clients!B17583)","v":""},{"$f":"IF(Clients!C17583=\"\",\"\",Clients!C17583)","v":""}]
[null,null,null,null,null,null,null,null,null,null,null,null,null,null,null,null,null,null,{"$f":"IF(Clients!B17621=\"\",\"\",Clients!B17621)","v":""},{"$f":"IF(Clients!C17621=\"\",\"\",Clients!C17621)","v":""}]
[null,null,null,null,null,null,null,null,null,null,null,null,null,null,null,null,null,null,{"$f":"IF(Clients!B17640=\"\",\"\",Clients!B17640)","v":""},{"$f":"IF(Clients!C17640=\"\",\"\",Clients!C17640)","v":""}]
[null,null,null,null,null,null,null,null,null,null,null,null,null,null,null,null,null,null,{"$f":"IF(Clients!B17672=\"\",\"\",Clients!B17672)","v":""},{"$f":"IF(Clients!C17672=\"\",\"\",Clients!C17672)","v":""}]
[null,null,null,null,null,null,null,null,null,null,null,null,null,null,null,null,null,null,{"$f":"IF(Clients!B17700=\"\",\"\",Clients!B17700)","v":""},{"$f":"IF(Clients!C17700=\"\",\"\",Clients!C17700)","v":""}]
[null,null,null,null,null,null,null,null,null,null,null,null,null,null,null,null,null,null,{"$f":"IF(Clients!B17718=\"\",\"\",Clients!B17718)","v":""},{"$f":"IF(Clients!C17718=\"\",\"\",Clients!C17718)","v":""}]
[null,null,null,null,null,null,null,null,null,null,null,null,null,null,null,null,null,null,{"$f":"IF(Clients!B17761=\"\",\"\",Clients!B17761)","v":""},{"$f":"IF(Clients!C17761=\"\",\"\",Clients!C17761)","v":""}]
[null,null,null,null,null,null,null,null,null,null,null,null,null,null,null,null,null,null,{"$f":"IF(Clients!B17789=\"\",\"\",Clients!B17789)","v":""},{"$f":"IF(Clients!C17789=\"\",\"\",Clients!C17789)","v":""}]
[null,null,null,null,null,null,null,null,null,null,null,null,null,null,null,null,null,null,{"$f":"IF(Clients!B17821=\"\",\"\",Clients!B17821)","v":""},{"$f":"IF(Clients!C17821=\"\",\"\",Clients!C17821)","v":""}]
[null,null,null,null,null,null,null,null,null,null,null,null,null,null,null,null,null,null,{"$f":"IF(Clients!B17847=\"\",\"\",Clients!B17847)","v":""},{"$f":"IF(Clients!C17847=\"\",\"\",Clients!C17847)","v":""}]
[null,null,null,null,null,null,null,null,null,null,null,null,null,null,null,null,null,null,{"$f":"IF(Clients!B17882=\"\",\"\",Clients!B17882)","v":""},{"$f":"IF(Clients!C17882=\"\",\"\",Clients!C17882)","v":""}]
[null,null,null,null,null,null,null,null,null,null,null,null,null,null,null,null,null,null,{"$f":"IF(Clients!B17910=\"\",\"\",Clients!B17910)","v":""},{"$f":"IF(Clients!C17910=\"\",\"\",Clients!C17910)","v":""}]
[null,null,null,null,null,null,null,null,null,null,null,null,null,null,null,null,null,null,{"$f":"IF(Clients!B17938=\"\",\"\",Clients!B17938)","v":""},{"$f":"IF(Clients!C17938=\"\",\"\",Clients!C17938)","v":""}]
[null,null,null,null,null,null,null,null,null,null,null,null,null,null,null,null,null,null,{"$f":"IF(Clients!B17976=\"\",\"\",Clients!B17976)","v":""},{"$f":"IF(Clients!C17976=\"\",\"\",Clients!C17976)","v":""}]
[null,null,null,null,null,null,null,null,null,null,null,null,null,null,null,null,null,null,{"$f":"IF(Clients!B18030=\"\",\"\",Clients!B18030)","v":""},{"$f":"IF(Clients!C18030=\"\",\"\",Clients!C18030)","v":""}]
[null,null,null,null,null,null,null,null,null,null,null,null,null,null,null,null,null,null,{"$f":"IF(Clients!B18058=\"\",\"\",Clients!B18058)","v":""},{"$f":"IF(Clients!C18058=\"\",\"\",Clients!C18058)","v":""}]
[null,null,null,null,null,null,null,null,null,null,null,null,null,null,null,null,null,null,{"$f":"IF(Clients!B18090=\"\",\"\",Clients!B18090)","v":""},{"$f":"IF(Clients!C18090=\"\",\"\",Clients!C18090)","v":""}]
[null,null,null,null,null,null,null,null,null,null,null,null,null,null,null,null,null,null,{"$f":"IF(Clients!B18105=\"\",\"\",Clients!B18105)","v":""},{"$f":"IF(Clients!C18105=\"\",\"\",Clients!C18105)","v":""}]
[null,null,null,null,null,null,null,null,null,null,null,null,null,null,null,null,null,null,{"$f":"IF(Clients!B18151=\"\",\"\",Clients!B18151)","v":""},{"$f":"IF(Clients!C18151=\"\",\"\",Clients!C18151)","v":""}]
[null,null,null,null,null,null,null,null,null,null,null,null,null,null,null,null,null,null,{"$f":"IF(Clients!B18179=\"\",\"\",Clients!B18179)","v":""},{"$f":"IF(Clients!C18179=\"\",\"\",Clients!C18179)","v":""}]
[null,null,null,null,null,null,null,null,null,null,null,null,null,null,null,null,null,null,{"$f":"IF(Clients!B18207=\"\",\"\",Clients!B18207)","v":""},{"$f":"IF(Clients!C18207=\"\",\"\",Clients!C18207)","v":""}]
[null,null,null,null,null,null,null,null,null,null,null,null,null,null,null,null,null,null,{"$f":"IF(Clients!B18234=\"\",\"\",Clients!B18234)","v":""},{"$f":"IF(Clients!C18234=\"\",\"\",Clients!C18234)","v":""}]
[null,null,null,null,null,null,null,null,null,null,null,null,null,null,null,null,null,null,{"$f":"IF(Clients!B18268=\"\",\"\",Clients!B18268)","v":""},{"$f":"IF(Clients!C18268=\"\",\"\",Clients!C18268)","v":""}]
[null,null,null,null,null,null,null,null,null,null,null,null,null,null,null,null,null,null,{"$f":"IF(Clients!B18300=\"\",\"\",Clients!B18300)","v":""},{"$f":"IF(Clients!C18300=\"\",\"\",Clients!C18300)","v":""}]
[null,null,null,null,null,null,null,null,null,null,null,null,null,null,null,null,null,null,{"$f":"IF(Clients!B18328=\"\",\"\",Clients!B18328)","v":""},{"$f":"IF(Clients!C18328=\"\",\"\",Clients!C18328)","v":""}]
[null,null,null,null,null,null,null,null,null,null,null,null,null,null,null,null,null,null,{"$f":"IF(Clients!B18363=\"\",\"\",Clients!B18363)","v":""},{"$f":"IF(Clients!C18363=\"\",\"\",Clients!C18363)","v":""}]
[null,null,null,null,null,null,null,null,null,null,null,null,null,null,null,null,null,null,{"$f":"IF(Clients!B18389=\"\",\"\",Clients!B18389)","v":""},{"$f":"IF(Clients!C18389=\"\",\"\",Clients!C18389)","v":""}]
[null,null,null,null,null,null,null,null,null,null,null,null,null,null,null,null,null,null,{"$f":"IF(Clients!B18417=\"\",\"\",Clients!B18417)","v":""},{"$f":"IF(Clients!C18417=\"\",\"\",Clients!C18417)","v":""}]
[null,null,null,null,null,null,null,null,null,null,null,null,null,null,null,null,null,null,{"$f":"IF(Clients!B18445=\"\",\"\",Clients!B18445)","v":""},{"$f":"IF(Clients!C18445=\"\",\"\",Clients!C18445)","v":""}]
[null,null,null,null,null,null,null,null,null,null,null,null,null,null,null,null,null,null,{"$f":"IF(Clients!B18492=\"\",\"\",Clients!B18492)","v":""},{"$f":"IF(Clients!C18492=\"\",\"\",Clients!C18492)","v":""}]
[null,null,null,null,null,null,null,null,null,null,null,null,null,null,null,null,null,null,{"$f":"IF(Clients!B18506=\"\",\"\",Clients!B18506)","v":""},{"$f":"IF(Clients!C18506=\"\",\"\",Clients!C18506)","v":""}]
[null,null,null,null,null,null,null,null,null,null,null,null,null,null,null,null,null,null,{"$f":"IF(Clients!B18538=\"\",\"\",Clients!B18538)","v":""},{"$f":"IF(Clients!C18538=\"\",\"\",Clients!C18538)","v":""}]
[null,null,null,null,null,null,null,null,null,null,null,null,null,null,null,null,null,null,{"$f":"IF(Clients!B18566=\"\",\"\",Clients!B18566)","v":""},{"$f":"IF(Clients!C18566=\"\",\"\",Clients!C18566)","v":""}]
[null,null,null,null,null,null,null,null,null,null,null,null,null,null,null,null,null,null,{"$f":"IF(Clients!B18621=\"\",\"\",Clients!B18621)","v":""},{"$f":"IF(Clients!C18621=\"\",\"\",Clients!C18621)","v":""}]
[null,null,null,null,null,null,null,null,null,null,null,null,null,null,null,null,null,null,{"$f":"IF(Clients!B18627=\"\",\"\",Clients!B18627)","v":""},{"$f":"IF(Clients!C18627=\"\",\"\",Clients!C18627)","v":""}]
[null,null,null,null,null,null,null,null,null,null,null,null,null,null,null,null,null,null,{"$f":"IF(Clients!B18686=\"\",\"\",Clients!B18686)","v":""},{"$f":"IF(Clients!C18686=\"\",\"\",Clients!C18686)","v":""}]
[null,null,null,null,null,null,null,null,null,null,null,null,null,null,null,null,null,null,{"$f":"IF(Clients!B18714=\"\",\"\",Clients!B18714)","v":""},{"$f":"IF(Clients!C18714=\"\",\"\",Clients!C18714)","v":""}]
[null,null,null,null,null,null,null,null,null,null,null,null,null,null,null,null,null,null,{"$f":"IF(Clients!B18718=\"\",\"\",Clients!B18718)","v":""},{"$f":"IF(Clients!C18718=\"\",\"\",Clients!C18718)","v":""}]
[null,null,null,null,null,null,null,null,null,null,null,null,null,null,null,null,null,null,{"$f":"IF(Clients!B18775=\"\",\"\",Clients!B18775)","v":""},{"$f":"IF(Clients!C18775=\"\",\"\",Clients!C18775)","v":""}]
[null,null,null,null,null,null,null,null,null,null,null,null,null,null,null,null,null,null,{"$f":"IF(Clients!B18807=\"\",\"\",Clients!B18807)","v":""},{"$f":"IF(Clients!C18807=\"\",\"\",Clients!C18807)","v":""}]
[null,null,null,null,null,null,null,null,null,null,null,null,null,null,null,null,null,null,{"$f":"IF(Clients!B18835=\"\",\"\",Clients!B18835)","v":""},{"$f":"IF(Clients!C18835=\"\",\"\",Clients!C18835)","v":""}]
[null,null,null,null,null,null,null,null,null,null,null,null,null,null,null,null,null,null,{"$f":"IF(Clients!B18847=\"\",\"\",Clients!B18847)","v":""},{"$f":"IF(Clients!C18847=\"\",\"\",Clients!C18847)","v":""}]
[null,null,null,null,null,null,null,null,null,null,null,null,null,null,null,null,null,null,{"$f":"IF(Clients!B18896=\"\",\"\",Clients!B18896)","v":""},{"$f":"IF(Clients!C18896=\"\",\"\",Clients!C18896)","v":""}]
[null,null,null,null,null,null,null,null,null,null,null,null,null,null,null,null,null,null,{"$f":"IF(Clients!B18924=\"\",\"\",Clients!B18924)","v":""},{"$f":"IF(Clients!C18924=\"\",\"\",Clients!C18924)","v":""}]
[null,null,null,null,null,null,null,null,null,null,null,null,null,null,null,null,null,null,{"$f":"IF(Clients!B18956=\"\",\"\",Clients!B18956)","v":""},{"$f":"IF(Clients!C18956=\"\",\"\",Clients!C18956)","v":""}]
[null,null,null,null,null,null,null,null,null,null,null,null,null,null,null,null,null,null,{"$f":"IF(Clients!B18976=\"\",\"\",Clients!B18976)","v":""},{"$f":"IF(Clients!C18976=\"\",\"\",Clients!C18976)","v":""}]
[null,null,null,null,null,null,null,null,null,null,null,null,null,null,null,null,null,null,{"$f":"IF(Clients!B19013=\"\",\"\",Clients!B19013)","v":""},{"$f":"IF(Clients!C19013=\"\",\"\",Clients!C19013)","v":""}]
[null,null,null,null,null,null,null,null,null,null,null,null,null,null,null,null,null,null,{"$f":"IF(Clients!B19045=\"\",\"\",Clients!B19045)","v":""},{"$f":"IF(Clients!C19045=\"\",\"\",Clients!C19045)","v":""}]
[null,null,null,null,null,null,null,null,null,null,null,null,null,null,null,null,null,null,{"$f":"IF(Clients!B19073=\"\",\"\",Clients!B19073)","v":""},{"$f":"IF(Clients!C19073=\"\",\"\",Clients!C19073)","v":""}]
[null,null,null,null,null,null,null,null,null,null,null,null,null,null,null,null,null,null,{"$f":"IF(Clients!B19105=\"\",\"\",Clients!B19105)","v":""},{"$f":"IF(Clients!C19105=\"\",\"\",Clients!C19105)","v":""}]
[null,null,null,null,null,null,null,null,null,null,null,null,null,null,null,null,null,null,{"$f":"IF(Clients!B19134=\"\",\"\",Clients!B19134)","v":""},{"$f":"IF(Clients!C19134=\"\",\"\",Clients!C19134)","v":""}]
[null,null,null,null,null,null,null,null,null,null,null,null,null,null,null,null,null,null,{"$f":"IF(Clients!B19162=\"\",\"\",Clients!B19162)","v":""},{"$f":"IF(Clients!C19162=\"\",\"\",Clients!C19162)","v":""}]
[null,null,null,null,null,null,null,null,null,null,null,null,null,null,null,null,null,null,{"$f":"IF(Clients!B19194=\"\",\"\",Clients!B19194)","v":""},{"$f":"IF(Clients!C19194=\"\",\"\",Clients!C19194)","v":""}]
[null,null,null,null,null,null,null,null,null,null,null,null,null,null,null,null,null,null,{"$f":"IF(Clients!B19234=\"\",\"\",Clients!B19234)","v":""},{"$f":"IF(Clients!C19234=\"\",\"\",Clients!C19234)","v":""}]
[null,null,null,null,null,null,null,null,null,null,null,null,null,null,null,null,null,null,{"$f":"IF(Clients!B19251=\"\",\"\",Clients!B19251)","v":""},{"$f":"IF(Clients!C19251=\"\",\"\",Clients!C19251)","v":""}]
[null,null,null,null,null,null,null,null,null,null,null,null,null,null,null,null,null,null,{"$f":"IF(Clients!B19283=\"\",\"\",Clients!B19283)","v":""},{"$f":"IF(Clients!C19283=\"\",\"\",Clients!C19283)","v":""}]
[null,null,null,null,null,null,null,null,null,null,null,null,null,null,null,null,null,null,{"$f":"IF(Clients!B19342=\"\",\"\",Clients!B19342)","v":""},{"$f":"IF(Clients!C19342=\"\",\"\",Clients!C19342)","v":""}]
[null,null,null,null,null,null,null,null,null,null,null,null,null,null,null,null,null,null,{"$f":"IF(Clients!B19363=\"\",\"\",Clients!B19363)","v":""},{"$f":"IF(Clients!C19363=\"\",\"\",Clients!C19363)","v":""}]
[null,null,null,null,null,null,null,null,null,null,null,null,null,null,null,null,null,null,{"$f":"IF(Clients!B19403=\"\",\"\",Clients!B19403)","v":""},{"$f":"IF(Clients!C19403=\"\",\"\",Clients!C19403)","v":""}]
[null,null,null,null,null,null,null,null,null,null,null,null,null,null,null,null,null,null,{"$f":"IF(Clients!B19431=\"\",\"\",Clients!B19431)","v":""},{"$f":"IF(Clients!C19431=\"\",\"\",Clients!C19431)","v":""}]
[null,null,null,null,null,null,null,null,null,null,null,null,null,null,null,null,null,null,{"$f":"IF(Clients!B19463=\"\",\"\",Clients!B19463)","v":""},{"$f":"IF(Clients!C19463=\"\",\"\",Clients!C19463)","v":""}]
[null,null,null,null,null,null,null,null,null,null,null,null,null,null,null,null,null,null,{"$f":"IF(Clients!B19492=\"\",\"\",Clients!B19492)","v":""},{"$f":"IF(Clients!C19492=\"\",\"\",Clients!C19492)","v":""}]
[null,null,null,null,null,null,null,null,null,null,null,null,null,null,null,null,null,null,{"$f":"IF(Clients!B19520=\"\",\"\",Clients!B19520)","v":""},{"$f":"IF(Clients!C19520=\"\",\"\",Clients!C19520)","v":""}]
[null,null,null,null,null,null,null,null,null,null,null,null,null,null,null,null,null,null,{"$f":"IF(Clients!B19552=\"\",\"\",Clients!B19552)","v":""},{"$f":"IF(Clients!C19552=\"\",\"\",Clients!C19552)","v":""}]
[null,null,null,null,null,null,null,null,null,null,null,null,null,null,null,null,null,null,{"$f":"IF(Clients!B19580=\"\",\"\",Clients!B19580)","v":""},{"$f":"IF(Clients!C19580=\"\",\"\",Clients!C19580)","v":""}]
[null,null,null,null,null,null,null,null,null,null,null,null,null,null,null,null,null,null,{"$f":"IF(Clients!B19621=\"\",\"\",Clients!B19621)","v":""},{"$f":"IF(Clients!C19621=\"\",\"\",Clients!C19621)","v":""}]
[null,null,null,null,null,null,null,null,null,null,null,null,null,null,null,null,null,null,{"$f":"IF(Clients!B19641=\"\",\"\",Clients!B19641)","v":""},{"$f":"IF(Clients!C19641=\"\",\"\",Clients!C19641)","v":""}]
[null,null,null,null,null,null,null,null,null,null,null,null,null,null,null,null,null,null,{"$f":"IF(Clients!B19669=\"\",\"\",Clients!B19669)","v":""},{"$f":"IF(Clients!C19669=\"\",\"\",Clients!C19669)","v":""}]
[null,null,null,null,null,null,null,null,null,null,null,null,null,null,null,null,null,null,{"$f":"IF(Clients!B19701=\"\",\"\",Clients!B19701)","v":""},{"$f":"IF(Clients!C19701=\"\",\"\",Clients!C19701)","v":""}]
[null,null,null,null,null,null,null,null,null,null,null,null,null,null,null,null,null,null,{"$f":"IF(Clients!B19718=\"\",\"\",Clients!B19718)","v":""},{"$f":"IF(Clients!C19718=\"\",\"\",Clients!C19718)","v":""}]
[null,null,null,null,null,null,null,null,null,null,null,null,null,null,null,null,null,null,{"$f":"IF(Clients!B19758=\"\",\"\",Clients!B19758)","v":""},{"$f":"IF(Clients!C19758=\"\",\"\",Clients!C19758)","v":""}]
[null,null,null,null,null,null,null,null,null,null,null,null,null,null,null,null,null,null,{"$f":"IF(Clients!B19790=\"\",\"\",Clients!B19790)","v":""},{"$f":"IF(Clients!C19790=\"\",\"\",Clients!C19790)","v":""}]
[null,null,null,null,null,null,null,null,null,null,null,null,null,null,null,null,null,null,{"$f":"IF(Clients!B19818=\"\",\"\",Clients!B19818)","v":""},{"$f":"IF(Clients!C19818=\"\",\"\",Clients!C19818)","v":""}]
[null,null,null,null,null,null,null,null,null,null,null,null,null,null,null,null,null,null,{"$f":"IF(Clients!B19847=\"\",\"\",Clients!B19847)","v":""},{"$f":"IF(Clients!C19847=\"\",\"\",Clients!C19847)","v":""}]
[null,null,null,null,null,null,null,null,null,null,null,null,null,null,null,null,null,null,{"$f":"IF(Clients!B19879=\"\",\"\",Clients!B19879)","v":""},{"$f":"IF(Clients!C19879=\"\",\"\",Clients!C19879)","v":""}]
[null,null,null,null,null,null,null,null,null,null,null,null,null,null,null,null,null,null,{"$f":"IF(Clients!B19907=\"\",\"\",Clients!B19907)","v":""},{"$f":"IF(Clients!C19907=\"\",\"\",Clients!C19907)","v":""}]
[null,null,null,null,null,null,null,null,null,null,null,null,null,null,null,null,null,null,{"$f":"IF(Clients!B19939=\"\",\"\",Clients!B19939)","v":""},{"$f":"IF(Clients!C19939=\"\",\"\",Clients!C19939)","v":""}]
[null,null,null,null,null,null,null,null,null,null,null,null,null,null,null,null,null,null,{"$f":"IF(Clients!B19976=\"\",\"\",Clients!B19976)","v":""},{"$f":"IF(Clients!C19976=\"\",\"\",Clients!C19976)","v":""}]
[null,null,null,null,null,null,null,null,null,null,null,null,null,null,null,null,null,null,{"$f":"IF(Clients!B20000=\"\",\"\",Clients!B20000)","v":""},{"$f":"IF(Clients!C20000=\"\",\"\",Clients!C20000)","v":""}]
[null,null,null,null,null,null,null,null,null,null,null,null,null,null,null,null,null,null,{"$f":"IF(Clients!B20059=\"\",\"\",Clients!B20059)","v":""},{"$f":"IF(Clients!C20059=\"\",\"\",Clients!C20059)","v":""}]
[null,null,null,null,null,null,null,null,null,null,null,null,null,null,null,null,null,null,{"$f":"IF(Clients!B20087=\"\",\"\",Clients!B20087)","v":""},{"$f":"IF(Clients!C20087=\"\",\"\",Clients!C20087)","v":""}]
[null,null,null,null,null,null,null,null,null,null,null,null,null,null,null,null,null,null,{"$f":"IF(Clients!B20105=\"\",\"\",Clients!B20105)","v":""},{"$f":"IF(Clients!C20105=\"\",\"\",Clients!C20105)","v":""}]
[null,null,null,null,null,null,null,null,null,null,null,null,null,null,null,null,null,null,{"$f":"IF(Clients!B20148=\"\",\"\",Clients!B20148)","v":""},{"$f":"IF(Clients!C20148=\"\",\"\",Clients!C20148)","v":""}]
[null,null,null,null,null,null,null,null,null,null,null,null,null,null,null,null,null,null,{"$f":"IF(Clients!B20176=\"\",\"\",Clients!B20176)","v":""},{"$f":"IF(Clients!C20176=\"\",\"\",Clients!C20176)","v":""}]
[null,null,null,null,null,null,null,null,null,null,null,null,null,null,null,null,null,null,{"$f":"IF(Clients!B20208=\"\",\"\",Clients!B20208)","v":""},{"$f":"IF(Clients!C20208=\"\",\"\",Clients!C20208)","v":""}]
[null,null,null,null,null,null,null,null,null,null,null,null,null,null,null,null,null,null,{"$f":"IF(Clients!B20234=\"\",\"\",Clients!B20234)","v":""},{"$f":"IF(Clients!C20234=\"\",\"\",Clients!C20234)","v":""}]
[null,null,null,null,null,null,null,null,null,null,null,null,null,null,null,null,null,null,{"$f":"IF(Clients!B20269=\"\",\"\",Clients!B20269)","v":""},{"$f":"IF(Clients!C20269=\"\",\"\",Clients!C20269)","v":""}]
[null,null,null,null,null,null,null,null,null,null,null,null,null,null,null,null,null,null,{"$f":"IF(Clients!B20297=\"\",\"\",Clients!B20297)","v":""},{"$f":"IF(Clients!C20297=\"\",\"\",Clients!C20297)","v":""}]
[null,null,null,null,null,null,null,null,null,null,null,null,null,null,null,null,null,null,{"$f":"IF(Clients!B20325=\"\",\"\",Clients!B20325)","v":""},{"$f":"IF(Clients!C20325=\"\",\"\",Clients!C20325)","v":""}]
[null,null,null,null,null,null,null,null,null,null,null,null,null,null,null,null,null,null,{"$f":"IF(Clients!B20363=\"\",\"\",Clients!B20363)","v":""},{"$f":"IF(Clients!C20363=\"\",\"\",Clients!C20363)","v":""}]
[null,null,null,null,null,null,null,null,null,null,null,null,null,null,null,null,null,null,{"$f":"IF(Clients!B20386=\"\",\"\",Clients!B20386)","v":""},{"$f":"IF(Clients!C20386=\"\",\"\",Clients!C20386)","v":""}]
[null,null,null,null,null,null,null,null,null,null,null,null,null,null,null,null,null,null,{"$f":"IF(Clients!B20414=\"\",\"\",Clients!B20414)","v":""},{"$f":"IF(Clients!C20414=\"\",\"\",Clients!C20414)","v":""}]
[null,null,null,null,null,null,null,null,null,null,null,null,null,null,null,null,null,null,{"$f":"IF(Clients!B20446=\"\",\"\",Clients!B20446)","v":""},{"$f":"IF(Clients!C20446=\"\",\"\",Clients!C20446)","v":""}]
[null,null,null,null,null,null,null,null,null,null,null,null,null,null,null,null,null,null,{"$f":"IF(Clients!B20492=\"\",\"\",Clients!B20492)","v":""},{"$f":"IF(Clients!C20492=\"\",\"\",Clients!C20492)","v":""}]
[null,null,null,null,null,null,null,null,null,null,null,null,null,null,null,null,null,null,{"$f":"IF(Clients!B20507=\"\",\"\",Clients!B20507)","v":""},{"$f":"IF(Clients!C20507=\"\",\"\",Clients!C20507)","v":""}]
[null,null,null,null,null,null,null,null,null,null,null,null,null,null,null,null,null,null,{"$f":"IF(Clients!B20535=\"\",\"\",Clients!B20535)","v":""},{"$f":"IF(Clients!C20535=\"\",\"\",Clients!C20535)","v":""}]
[null,null,null,null,null,null,null,null,null,null,null,null,null,null,null,null,null,null,{"$f":"IF(Clients!B20563=\"\",\"\",Clients!B20563)","v":""},{"$f":"IF(Clients!C20563=\"\",\"\",Clients!C20563)","v":""}]
[null,null,null,null,null,null,null,null,null,null,null,null,null,null,null,null,null,null,{"$f":"IF(Clients!B20621=\"\",\"\",Clients!B20621)","v":""},{"$f":"IF(Clients!C20621=\"\",\"\",Clients!C20621)","v":""}]
[null,null,null,null,null,null,null,null,null,null,null,null,null,null,null,null,null,null,{"$f":"IF(Clients!B20655=\"\",\"\",Clients!B20655)","v":""},{"$f":"IF(Clients!C20655=\"\",\"\",Clients!C20655)","v":""}]
[null,null,null,null,null,null,null,null,null,null,null,null,null,null,null,null,null,null,{"$f":"IF(Clients!B20656=\"\",\"\",Clients!B20656)","v":""},{"$f":"IF(Clients!C20656=\"\",\"\",Clients!C20656)","v":""}]
[null,null,null,null,null,null,null,null,null,null,null,null,null,null,null,null,null,null,{"$f":"IF(Clients!B20715=\"\",\"\",Clients!B20715)","v":""},{"$f":"IF(Clients!C20715=\"\",\"\",Clients!C20715)","v":""}]
[null,null,null,null,null,null,null,null,null,null,null,null,null,null,null,null,null,null,{"$f":"IF(Clients!B20718=\"\",\"\",Clients!B20718)","v":""},{"$f":"IF(Clients!C20718=\"\",\"\",Clients!C20718)","v":""}]
[null,null,null,null,null,null,null,null,null,null,null,null,null,null,null,null,null,null,{"$f":"IF(Clients!B20776=\"\",\"\",Clients!B20776)","v":""},{"$f":"IF(Clients!C20776=\"\",\"\",Clients!C20776)","v":""}]
[null,null,null,null,null,null,null,null,null,null,null,null,null,null,null,null,null,null,{"$f":"IF(Clients!B20804=\"\",\"\",Clients!B20804)","v":""},{"$f":"IF(Clients!C20804=\"\",\"\",Clients!C20804)","v":""}]
[null,null,null,null,null,null,null,null,null,null,null,null,null,null,null,null,null,null,{"$f":"IF(Clients!B20832=\"\",\"\",Clients!B20832)","v":""},{"$f":"IF(Clients!C20832=\"\",\"\",Clients!C20832)","v":""}]
[null,null,null,null,null,null,null,null,null,null,null,null,null,null,null,null,null,null,{"$f":"IF(Clients!B20847=\"\",\"\",Clients!B20847)","v":""},{"$f":"IF(Clients!C20847=\"\",\"\",Clients!C20847)","v":""}]
[null,null,null,null,null,null,null,null,null,null,null,null,null,null,null,null,null,null,{"$f":"IF(Clients!B20893=\"\",\"\",Clients!B20893)","v":""},{"$f":"IF(Clients!C20893=\"\",\"\",Clients!C20893)","v":""}]
[null,null,null,null,null,null,null,null,null,null,null,null,null,null,null,null,null,null,{"$f":"IF(Clients!B20925=\"\",\"\",Clients!B20925)","v":""},{"$f":"IF(Clients!C20925=\"\",\"\",Clients!C20925)","v":""}]
[null,null,null,null,null,null,null,null,null,null,null,null,null,null,null,null,null,null,{"$f":"IF(Clients!B20953=\"\",\"\",Clients!B20953)","v":""},{"$f":"IF(Clients!C20953=\"\",\"\",Clients!C20953)","v":""}]
[null,null,null,null,null,null,null,null,null,null,null,null,null,null,null,null,null,null,{"$f":"IF(Clients!B20976=\"\",\"\",Clients!B20976)","v":""},{"$f":"IF(Clients!C20976=\"\",\"\",Clients!C20976)","v":""}]
[null,null,null,null,null,null,null,null,null,null,null,null,null,null,null,null,null,null,{"$f":"IF(Clients!B21014=\"\",\"\",Clients!B21014)","v":""},{"$f":"IF(Clients!C21014=\"\",\"\",Clients!C21014)","v":""}]
[null,null,null,null,null,null,null,null,null,null,null,null,null,null,null,null,null,null,{"$f":"IF(Clients!B21042=\"\",\"\",Clients!B21042)","v":""},{"$f":"IF(Clients!C21042=\"\",\"\",Clients!C21042)","v":""}]
[null,null,null,null,null,null,null,null,null,null,null,null,null,null,null,null,null,null,{"$f":"IF(Clients!B21070=\"\",\"\",Clients!B21070)","v":""},{"$f":"IF(Clients!C21070=\"\",\"\",Clients!C21070)","v":""}]
[null,null,null,null,null,null,null,null,null,null,null,null,null,null,null,null,null,null,{"$f":"IF(Clients!B21105=\"\",\"\",Clients!B21105)","v":""},{"$f":"IF(Clients!C21105=\"\",\"\",Clients!C21105)","v":""}]
[null,null,null,null,null,null,null,null,null,null,null,null,null,null,null,null,null,null,{"$f":"IF(Clients!B21131=\"\",\"\",Clients!B21131)","v":""},{"$f":"IF(Clients!C21131=\"\",\"\",Clients!C21131)","v":""}]
[null,null,null,null,null,null,null,null,null,null,null,null,null,null,null,null,null,null,{"$f":"IF(Clients!B21163=\"\",\"\",Clients!B21163)","v":""},{"$f":"IF(Clients!C21163=\"\",\"\",Clients!C21163)","v":""}]
[null,null,null,null,null,null,null,null,null,null,null,null,null,null,null,null,null,null,{"$f":"IF(Clients!B21191=\"\",\"\",Clients!B21191)","v":""},{"$f":"IF(Clients!C21191=\"\",\"\",Clients!C21191)","v":""}]
[null,null,null,null,null,null,null,null,null,null,null,null,null,null,null,null,null,null,{"$f":"IF(Clients!B21234=\"\",\"\",Clients!B21234)","v":""},{"$f":"IF(Clients!C21234=\"\",\"\",Clients!C21234)","v":""}]
[null,null,null,null,null,null,null,null,null,null,null,null,null,null,null,null,null,null,{"$f":"IF(Clients!B21252=\"\",\"\",Clients!B21252)","v":""},{"$f":"IF(Clients!C21252=\"\",\"\",Clients!C21252)","v":""}]
[null,null,null,null,null,null,null,null,null,null,null,null,null,null,null,null,null,null,{"$f":"IF(Clients!B21311=\"\",\"\",Clients!B21311)","v":""},{"$f":"IF(Clients!C21311=\"\",\"\",Clients!C21311)","v":""}]
[null,null,null,null,null,null,null,null,null,null,null,null,null,null,null,null,null,null,{"$f":"IF(Clients!B21312=\"\",\"\",Clients!B21312)","v":""},{"$f":"IF(Clients!C21312=\"\",\"\",Clients!C21312)","v":""}]
[null,null,null,null,null,null,null,null,null,null,null,null,null,null,null,null,null,null,{"$f":"IF(Clients!B21363=\"\",\"\",Clients!B21363)","v":""},{"$f":"IF(Clients!C21363=\"\",\"\",Clients!C21363)","v":""}]
[null,null,null,null,null,null,null,null,null,null,null,null,null,null,null,null,null,null,{"$f":"IF(Clients!B21400=\"\",\"\",Clients!B21400)","v":""},{"$f":"IF(Clients!C21400=\"\",\"\",Clients!C21400)","v":""}]
[null,null,null,null,null,null,null,null,null,null,null,null,null,null,null,null,null,null,{"$f":"IF(Clients!B21432=\"\",\"\",Clients!B21432)","v":""},{"$f":"IF(Clients!C21432=\"\",\"\",Clients!C21432)","v":""}]
[null,null,null,null,null,null,null,null,null,null,null,null,null,null,null,null,null,null,{"$f":"IF(Clients!B21460=\"\",\"\",Clients!B21460)","v":""},{"$f":"IF(Clients!C21460=\"\",\"\",Clients!C21460)","v":""}]
[null,null,null,null,null,null,null,null,null,null,null,null,null,null,null,null,null,null,{"$f":"IF(Clients!B21492=\"\",\"\",Clients!B21492)","v":""},{"$f":"IF(Clients!C21492=\"\",\"\",Clients!C21492)","v":""}]
[null,null,null,null,null,null,null,null,null,null,null,null,null,null,null,null,null,null,{"$f":"IF(Clients!B21521=\"\",\"\",Clients!B21521)","v":""},{"$f":"IF(Clients!C21521=\"\",\"\",Clients!C21521)","v":""}]
[null,null,null,null,null,null,null,null,null,null,null,null,null,null,null,null,null,null,{"$f":"IF(Clients!B21549=\"\",\"\",Clients!B21549)","v":""},{"$f":"IF(Clients!C21549=\"\",\"\",Clients!C21549)","v":""}]
[null,null,null,null,null,null,null,null,null,null,null,null,null,null,null,null,null,null,{"$f":"IF(Clients!B21581=\"\",\"\",Clients!B21581)","v":""},{"$f":"IF(Clients!C21581=\"\",\"\",Clients!C21581)","v":""}]
[null,null,null,null,null,null,null,null,null,null,null,null,null,null,null,null,null,null,{"$f":"IF(Clients!B21621=\"\",\"\",Clients!B21621)","v":""},{"$f":"IF(Clients!C21621=\"\",\"\",Clients!C21621)","v":""}]
[null,null,null,null,null,null,null,null,null,null,null,null,null,null,null,null,null,null,{"$f":"IF(Clients!B21638=\"\",\"\",Clients!B21638)","v":""},{"$f":"IF(Clients!C21638=\"\",\"\",Clients!C21638)","v":""}]
[null,null,null,null,null,null,null,null,null,null,null,null,null,null,null,null,null,null,{"$f":"IF(Clients!B21670=\"\",\"\",Clients!B21670)","v":""},{"$f":"IF(Clients!C21670=\"\",\"\",Clients!C21670)","v":""}]
[null,null,null,null,null,null,null,null,null,null,null,null,null,null,null,null,null,null,{"$f":"IF(Clients!B21698=\"\",\"\",Clients!B21698)","v":""},{"$f":"IF(Clients!C21698=\"\",\"\",Clients!C21698)","v":""}]
[null,null,null,null,null,null,null,null,null,null,null,null,null,null,null,null,null,null,{"$f":"IF(Clients!B21718=\"\",\"\",Clients!B21718)","v":""},{"$f":"IF(Clients!C21718=\"\",\"\",Clients!C21718)","v":""}]
[null,null,null,null,null,null,null,null,null,null,null,null,null,null,null,null,null,null,{"$f":"IF(Clients!B21759=\"\",\"\",Clients!B21759)","v":""},{"$f":"IF(Clients!C21759=\"\",\"\",Clients!C21759)","v":""}]
[null,null,null,null,null,null,null,null,null,null,null,null,null,null,null,null,null,null,{"$f":"IF(Clients!B21787=\"\",\"\",Clients!B21787)","v":""},{"$f":"IF(Clients!C21787=\"\",\"\",Clients!C21787)","v":""}]
[null,null,null,null,null,null,null,null,null,null,null,null,null,null,null,null,null,null,{"$f":"IF(Clients!B21819=\"\",\"\",Clients!B21819)","v":""},{"$f":"IF(Clients!C21819=\"\",\"\",Clients!C21819)","v":""}]
[null,null,null,null,null,null,null,null,null,null,null,null,null,null,null,null,null,null,{"$f":"IF(Clients!B21847=\"\",\"\",Clients!B21847)","v":""},{"$f":"IF(Clients!C21847=\"\",\"\",Clients!C21847)","v":""}]
[null,null,null,null,null,null,null,null,null,null,null,null,null,null,null,null,null,null,{"$f":"IF(Clients!B21876=\"\",\"\",Clients!B21876)","v":""},{"$f":"IF(Clients!C21876=\"\",\"\",Clients!C21876)","v":""}]
[null,null,null,null,null,null,null,null,null,null,null,null,null,null,null,null,null,null,{"$f":"IF(Clients!B21908=\"\",\"\",Clients!B21908)","v":""},{"$f":"IF(Clients!C21908=\"\",\"\",Clients!C21908)","v":""}]
[null,null,null,null,null,null,null,null,null,null,null,null,null,null,null,null,null,null,{"$f":"IF(Clients!B21967=\"\",\"\",Clients!B21967)","v":""},{"$f":"IF(Clients!C21967=\"\",\"\",Clients!C21967)","v":""}]
[null,null,null,null,null,null,null,null,null,null,null,null,null,null,null,null,null,null,{"$f":"IF(Clients!B21976=\"\",\"\",Clients!B21976)","v":""},{"$f":"IF(Clients!C21976=\"\",\"\",Clients!C21976)","v":""}]
[null,null,null,null,null,null,null,null,null,null,null,null,null,null,null,null,null,null,{"$f":"IF(Clients!B22028=\"\",\"\",Clients!B22028)","v":""},{"$f":"IF(Clients!C22028=\"\",\"\",Clients!C22028)","v":""}]
[null,null,null,null,null,null,null,null,null,null,null,null,null,null,null,null,null,null,{"$f":"IF(Clients!B22056=\"\",\"\",Clients!B22056)","v":""},{"$f":"IF(Clients!C22056=\"\",\"\",Clients!C22056)","v":""}]
[null,null,null,null,null,null,null,null,null,null,null,null,null,null,null,null,null,null,{"$f":"IF(Clients!B22088=\"\",\"\",Clients!B22088)","v":""},{"$f":"IF(Clients!C22088=\"\",\"\",Clients!C22088)","v":""}]
[null,null,null,null,null,null,null,null,null,null,null,null,null,null,null,null,null,null,{"$f":"IF(Clients!B22105=\"\",\"\",Clients!B22105)","v":""},{"$f":"IF(Clients!C22105=\"\",\"\",Clients!C22105)","v":""}]
[null,null,null,null,null,null,null,null,null,null,null,null,null,null,null,null,null,null,{"$f":"IF(Clients!B22145=\"\",\"\",Clients!B22145)","v":""},{"$f":"IF(Clients!C22145=\"\",\"\",Clients!C22145)","v":""}]
[null,null,null,null,null,null,null,null,null,null,null,null,null,null,null,null,null,null,{"$f":"IF(Clients!B22177=\"\",\"\",Clients!B22177)","v":""},{"$f":"IF(Clients!C22177=\"\",\"\",Clients!C22177)","v":""}]
[null,null,null,null,null,null,null,null,null,null,null,null,null,null,null,null,null,null,{"$f":"IF(Clients!B22205=\"\",\"\",Clients!B22205)","v":""},{"$f":"IF(Clients!C22205=\"\",\"\",Clients!C22205)","v":""}]
[null,null,null,null,null,null,null,null,null,null,null,null,null,null,null,null,null,null,{"$f":"IF(Clients!B22234=\"\",\"\",Clients!B22234)","v":""},{"$f":"IF(Clients!C22234=\"\",\"\",Clients!C22234)","v":""}]
[null,null,null,null,null,null,null,null,null,null,null,null,null,null,null,null,null,null,{"$f":"IF(Clients!B22266=\"\",\"\",Clients!B22266)","v":""},{"$f":"IF(Clients!C22266=\"\",\"\",Clients!C22266)","v":""}]
[null,null,null,null,null,null,null,null,null,null,null,null,null,null,null,null,null,null,{"$f":"IF(Clients!B22294=\"\",\"\",Clients!B22294)","v":""},{"$f":"IF(Clients!C22294=\"\",\"\",Clients!C22294)","v":""}]
[null,null,null,null,null,null,null,null,null,null,null,null,null,null,null,null,null,null,{"$f":"IF(Clients!B22326=\"\",\"\",Clients!B22326)","v":""},{"$f":"IF(Clients!C22326=\"\",\"\",Clients!C22326)","v":""}]
[null,null,null,null,null,null,null,null,null,null,null,null,null,null,null,null,null,null,{"$f":"IF(Clients!B22363=\"\",\"\",Clients!B22363)","v":""},{"$f":"IF(Clients!C22363=\"\",\"\",Clients!C22363)","v":""}]
[null,null,null,null,null,null,null,null,null,null,null,null,null,null,null,null,null,null,{"$f":"IF(Clients!B22387=\"\",\"\",Clients!B22387)","v":""},{"$f":"IF(Clients!C22387=\"\",\"\",Clients!C22387)","v":""}]
[null,null,null,null,null,null,null,null,null,null,null,null,null,null,null,null,null,null,{"$f":"IF(Clients!B22415=\"\",\"\",Clients!B22415)","v":""},{"$f":"IF(Clients!C22415=\"\",\"\",Clients!C22415)","v":""}]
[null,null,null,null,null,null,null,null,null,null,null,null,null,null,null,null,null,null,{"$f":"IF(Clients!B22443=\"\",\"\",Clients!B22443)","v":""},{"$f":"IF(Clients!C22443=\"\",\"\",Clients!C22443)","v":""}]
[null,null,null,null,null,null,null,null,null,null,null,null,null,null,null,null,null,null,{"$f":"IF(Clients!B22492=\"\",\"\",Clients!B22492)","v":""},{"$f":"IF(Clients!C22492=\"\",\"\",Clients!C22492)","v":""}]
[null,null,null,null,null,null,null,null,null,null,null,null,null,null,null,null,null,null,{"$f":"IF(Clients!B22504=\"\",\"\",Clients!B22504)","v":""},{"$f":"IF(Clients!C22504=\"\",\"\",Clients!C22504)","v":""}]
[null,null,null,null,null,null,null,null,null,null,null,null,null,null,null,null,null,null,{"$f":"IF(Clients!B22532=\"\",\"\",Clients!B22532)","v":""},{"$f":"IF(Clients!C22532=\"\",\"\",Clients!C22532)","v":""}]
[null,null,null,null,null,null,null,null,null,null,null,null,null,null,null,null,null,null,{"$f":"IF(Clients!B22564=\"\",\"\",Clients!B22564)","v":""},{"$f":"IF(Clients!C22564=\"\",\"\",Clients!C22564)","v":""}]
[null,null,null,null,null,null,null,null,null,null,null,null,null,null,null,null,null,null,{"$f":"IF(Clients!B22621=\"\",\"\",Clients!B22621)","v":""},{"$f":"IF(Clients!C22621=\"\",\"\",Clients!C22621)","v":""}]
[null,null,null,null,null,null,null,null,null,null,null,null,null,null,null,null,null,null,{"$f":"IF(Clients!B22625=\"\",\"\",Clients!B22625)","v":""},{"$f":"IF(Clients!C22625=\"\",\"\",Clients!C22625)","v":""}]
[null,null,null,null,null,null,null,null,null,null,null,null,null,null,null,null,null,null,{"$f":"IF(Clients!B22684=\"\",\"\",Clients!B22684)","v":""},{"$f":"IF(Clients!C22684=\"\",\"\",Clients!C22684)","v":""}]
[null,null,null,null,null,null,null,null,null,null,null,null,null,null,null,null,null,null,{"$f":"IF(Clients!B22712=\"\",\"\",Clients!B22712)","v":""},{"$f":"IF(Clients!C22712=\"\",\"\",Clients!C22712)","v":""}]
[null,null,null,null,null,null,null,null,null,null,null,null,null,null,null,null,null,null,{"$f":"IF(Clients!B22718=\"\",\"\",Clients!B22718)","v":""},{"$f":"IF(Clients!C22718=\"\",\"\",Clients!C22718)","v":""}]
[null,null,null,null,null,null,null,null,null,null,null,null,null,null,null,null,null,null,{"$f":"IF(Clients!B22773=\"\",\"\",Clients!B22773)","v":""},{"$f":"IF(Clients!C22773=\"\",\"\",Clients!C22773)","v":""}]
[null,null,null,null,null,null,null,null,null,null,null,null,null,null,null,null,null,null,{"$f":"IF(Clients!B22805=\"\",\"\",Clients!B22805)","v":""},{"$f":"IF(Clients!C22805=\"\",\"\",Clients!C22805)","v":""}]
[null,null,null,null,null,null,null,null,null,null,null,null,null,null,null,null,null,null,{"$f":"IF(Clients!B22833=\"\",\"\",Clients!B22833)","v":""},{"$f":"IF(Clients!C22833=\"\",\"\",Clients!C22833)","v":""}]
[null,null,null,null,null,null,null,null,null,null,null,null,null,null,null,null,null,null,{"$f":"IF(Clients!B22847=\"\",\"\",Clients!B22847)","v":""},{"$f":"IF(Clients!C22847=\"\",\"\",Clients!C22847)","v":""}]
[null,null,null,null,null,null,null,null,null,null,null,null,null,null,null,null,null,null,{"$f":"IF(Clients!B22894=\"\",\"\",Clients!B22894)","v":""},{"$f":"IF(Clients!C22894=\"\",\"\",Clients!C22894)","v":""}]
[null,null,null,null,null,null,null,null,null,null,null,null,null,null,null,null,null,null,{"$f":"IF(Clients!B22922=\"\",\"\",Clients!B22922)","v":""},{"$f":"IF(Clients!C22922=\"\",\"\",Clients!C22922)","v":""}]
[null,null,null,null,null,null,null,null,null,null,null,null,null,null,null,null,null,null,{"$f":"IF(Clients!B22950=\"\",\"\",Clients!B22950)","v":""},{"$f":"IF(Clients!C22950=\"\",\"\",Clients!C22950)","v":""}]
[null,null,null,null,null,null,null,null,null,null,null,null,null,null,null,null,null,null,{"$f":"IF(Clients!B22976=\"\",\"\",Clients!B22976)","v":""},{"$f":"IF(Clients!C22976=\"\",\"\",Clients!C22976)","v":""}]
[null,null,null,null,null,null,null,null,null,null,null,null,null,null,null,null,null,null,{"$f":"IF(Clients!B23011=\"\",\"\",Clients!B23011)","v":""},{"$f":"IF(Clients!C23011=\"\",\"\",Clients!C23011)","v":""}]
[null,null,null,null,null,null,null,null,null,null,null,null,null,null,null,null,null,null,{"$f":"IF(Clients!B23043=\"\",\"\",Clients!B23043)","v":""},{"$f":"IF(Clients!C23043=\"\",\"\",Clients!C23043)","v":""}]
[null,null,null,null,null,null,null,null,null,null,null,null,null,null,null,null,null,null,{"$f":"IF(Clients!B23071=\"\",\"\",Clients!B23071)","v":""},{"$f":"IF(Clients!C23071=\"\",\"\",Clients!C23071)","v":""}]
[null,null,null,null,null,null,null,null,null,null,null,null,null,null,null,null,null,null,{"$f":"IF(Clients!B23105=\"\",\"\",Clients!B23105)","v":""},{"$f":"IF(Clients!C23105=\"\",\"\",Clients!C23105)","v":""}]
[null,null,null,null,null,null,null,null,null,null,null,null,null,null,null,null,null,null,{"$f":"IF(Clients!B23132=\"\",\"\",Clients!B23132)","v":""},{"$f":"IF(Clients!C23132=\"\",\"\",Clients!C23132)","v":""}]
[null,null,null,null,null,null,null,null,null,null,null,null,null,null,null,null,null,null,{"$f":"IF(Clients!B23160=\"\",\"\",Clients!B23160)","v":""},{"$f":"IF(Clients!C23160=\"\",\"\",Clients!C23160)","v":""}]
[null,null,null,null,null,null,null,null,null,null,null,null,null,null,null,null,null,null,{"$f":"IF(Clients!B23188=\"\",\"\",Clients!B23188)","v":""},{"$f":"IF(Clients!C23188=\"\",\"\",Clients!C23188)","v":""}]
[null,null,null,null,null,null,null,null,null,null,null,null,null,null,null,null,null,null,{"$f":"IF(Clients!B23234=\"\",\"\",Clients!B23234)","v":""},{"$f":"IF(Clients!C23234=\"\",\"\",Clients!C23234)","v":""}]
[null,null,null,null,null,null,null,null,null,null,null,null,null,null,null,null,null,null,{"$f":"IF(Clients!B23280=\"\",\"\",Clients!B23280)","v":""},{"$f":"IF(Clients!C23280=\"\",\"\",Clients!C23280)","v":""}]
[null,null,null,null,null,null,null,null,null,null,null,null,null,null,null,null,null,null,{"$f":"IF(Clients!B23281=\"\",\"\",Clients!B23281)","v":""},{"$f":"IF(Clients!C23281=\"\",\"\",Clients!C23281)","v":""}]
[null,null,null,null,null,null,null,null,null,null,null,null,null,null,null,null,null,null,{"$f":"IF(Clients!B23340=\"\",\"\",Clients!B23340)","v":""},{"$f":"IF(Clients!C23340=\"\",\"\",Clients!C23340)","v":""}]
[null,null,null,null,null,null,null,null,null,null,null,null,null,null,null,null,null,null,{"$f":"IF(Clients!B23363=\"\",\"\",Clients!B23363)","v":""},{"$f":"IF(Clients!C23363=\"\",\"\",Clients!C23363)","v":""}]
[null,null,null,null,null,null,null,null,null,null,null,null,null,null,null,null,null,null,{"$f":"IF(Clients!B23401=\"\",\"\",Clients!B23401)","v":""},{"$f":"IF(Clients!C23401=\"\",\"\",Clients!C23401)","v":""}]
[null,null,null,null,null,null,null,null,null,null,null,null,null,null,null,null,null,null,{"$f":"IF(Clients!B23429=\"\",\"\",Clients!B23429)","v":""},{"$f":"IF(Clients!C23429=\"\",\"\",Clients!C23429)","v":""}]
[null,null,null,null,null,null,null,null,null,null,null,null,null,null,null,null,null,null,{"$f":"IF(Clients!B23461=\"\",\"\",Clients!B23461)","v":""},{"$f":"IF(Clients!C23461=\"\",\"\",Clients!C23461)","v":""}]
[null,null,null,null,null,null,null,null,null,null,null,null,null,null,null,null,null,null,{"$f":"IF(Clients!B23492=\"\",\"\",Clients!B23492)","v":""},{"$f":"IF(Clients!C23492=\"\",\"\",Clients!C23492)","v":""}]
[null,null,null,null,null,null,null,null,null,null,null,null,null,null,null,null,null,null,{"$f":"IF(Clients!B23518=\"\",\"\",Clients!B23518)","v":""},{"$f":"IF(Clients!C23518=\"\",\"\",Clients!C23518)","v":""}]
[null,null,null,null,null,null,null,null,null,null,null,null,null,null,null,null,null,null,{"$f":"IF(Clients!B23550=\"\",\"\",Clients!B23550)","v":""},{"$f":"IF(Clients!C23550=\"\",\"\",Clients!C23550)","v":""}]
[null,null,null,null,null,null,null,null,null,null,null,null,null,null,null,null,null,null,{"$f":"IF(Clients!B23578=\"\",\"\",Clients!B23578)","v":""},{"$f":"IF(Clients!C23578=\"\",\"\",Clients!C23578)","v":""}]
[null,null,null,null,null,null,null,null,null,null,null,null,null,null,null,null,null,null,{"$f":"IF(Clients!B23621=\"\",\"\",Clients!B23621)","v":""},{"$f":"IF(Clients!C23621=\"\",\"\",Clients!C23621)","v":""}]
[null,null,null,null,null,null,null,null,null,null,null,null,null,null,null,null,null,null,{"$f":"IF(Clients!B23639=\"\",\"\",Clients!B23639)","v":""},{"$f":"IF(Clients!C23639=\"\",\"\",Clients!C23639)","v":""}]
[null,null,null,null,null,null,null,null,null,null,null,null,null,null,null,null,null,null,{"$f":"IF(Clients!B23667=\"\",\"\",Clients!B23667)","v":""},{"$f":"IF(Clients!C23667=\"\",\"\",Clients!C23667)","v":""}]
[null,null,null,null,null,null,null,null,null,null,null,null,null,null,null,null,null,null,{"$f":"IF(Clients!B23699=\"\",\"\",Clients!B23699)","v":""},{"$f":"IF(Clients!C23699=\"\",\"\",Clients!C23699)","v":""}]
[null,null,null,null,null,null,null,null,null,null,null,null,null,null,null,null,null,null,{"$f":"IF(Clients!B23718=\"\",\"\",Clients!B23718)","v":""},{"$f":"IF(Clients!C23718=\"\",\"\",Clients!C23718)","v":""}]
[null,null,null,null,null,null,null,null,null,null,null,null,null,null,null,null,null,null,{"$f":"IF(Clients!B23756=\"\",\"\",Clients!B23756)","v":""},{"$f":"IF(Clients!C23756=\"\",\"\",Clients!C23756)","v":""}]
[null,null,null,null,null,null,null,null,null,null,null,null,null,null,null,null,null,null,{"$f":"IF(Clients!B23788=\"\",\"\",Clients!B23788)","v":""},{"$f":"IF(Clients!C23788=\"\",\"\",Clients!C23788)","v":""}]
[null,null,null,null,null,null,null,null,null,null,null,null,null,null,null,null,null,null,{"$f":"IF(Clients!B23816=\"\",\"\",Clients!B23816)","v":""},{"$f":"IF(Clients!C23816=\"\",\"\",Clients!C23816)","v":""}]
[null,null,null,null,null,null,null,null,null,null,null,null,null,null,null,null,null,null,{"$f":"IF(Clients!B23847=\"\",\"\",Clients!B23847)","v":""},{"$f":"IF(Clients!C23847=\"\",\"\",Clients!C23847)","v":""}]
[null,null,null,null,null,null,null,null,null,null,null,null,null,null,null,null,null,null,{"$f":"IF(Clients!B23877=\"\",\"\",Clients!B23877)","v":""},{"$f":"IF(Clients!C23877=\"\",\"\",Clients!C23877)","v":""}]
[null,null,null,null,null,null,null,null,null,null,null,null,null,null,null,null,null,null,{"$f":"IF(Clients!B23936=\"\",\"\",Clients!B23936)","v":""},{"$f":"IF(Clients!C23936=\"\",\"\",Clients!C23936)","v":""}]
[null,null,null,null,null,null,null,null,null,null,null,null,null,null,null,null,null,null,{"$f":"IF(Clients!B23937=\"\",\"\",Clients!B23937)","v":""},{"$f":"IF(Clients!C23937=\"\",\"\",Clients!C23937)","v":""}]
[null,null,null,null,null,null,null,null,null,null,null,null,null,null,null,null,null,null,{"$f":"IF(Clients!B23976=\"\",\"\",Clients!B23976)","v":""},{"$f":"IF(Clients!C23976=\"\",\"\",Clients!C23976)","v":""}]
[null,null,null,null,null,null,null,null,null,null,null,null,null,null,null,null,null,null,{"$f":"IF(Clients!B24025=\"\",\"\",Clients!B24025)","v":""},{"$f":"IF(Clients!C24025=\"\",\"\",Clients!C24025)","v":""}]
[null,null,null,null,null,null,null,null,null,null,null,null,null,null,null,null,null,null,{"$f":"IF(Clients!B24057=\"\",\"\",Clients!B24057)","v":""},{"$f":"IF(Clients!C24057=\"\",\"\",Clients!C24057)","v":""}]
[null,null,null,null,null,null,null,null,null,null,null,null,null,null,null,null,null,null,{"$f":"IF(Clients!B24085=\"\",\"\",Clients!B24085)","v":""},{"$f":"IF(Clients!C24085=\"\",\"\",Clients!C24085)","v":""}]
[null,null,null,null,null,null,null,null,null,null,null,null,null,null,null,null,null,null,{"$f":"IF(Clients!B24105=\"\",\"\",Clients!B24105)","v":""},{"$f":"IF(Clients!C24105=\"\",\"\",Clients!C24105)","v":""}]
[null,null,null,null,null,null,null,null,null,null,null,null,null,null,null,null,null,null,{"$f":"IF(Clients!B24146=\"\",\"\",Clients!B24146)","v":""},{"$f":"IF(Clients!C24146=\"\",\"\",Clients!C24146)","v":""}]
[null,null,null,null,null,null,null,null,null,null,null,null,null,null,null,null,null,null,{"$f":"IF(Clients!B24174=\"\",\"\",Clients!B24174)","v":""},{"$f":"IF(Clients!C24174=\"\",\"\",Clients!C24174)","v":""}]
[null,null,null,null,null,null,null,null,null,null,null,null,null,null,null,null,null,null,{"$f":"IF(Clients!B24206=\"\",\"\",Clients!B24206)","v":""},{"$f":"IF(Clients!C24206=\"\",\"\",Clients!C24206)","v":""}]
[null,null,null,null,null,null,null,null,null,null,null,null,null,null,null,null,null,null,{"$f":"IF(Clients!B24234=\"\",\"\",Clients!B24234)","v":""},{"$f":"IF(Clients!C24234=\"\",\"\",Clients!C24234)","v":""}]
[null,null,null,null,null,null,null,null,null,null,null,null,null,null,null,null,null,null,{"$f":"IF(Clients!B24263=\"\",\"\",Clients!B24263)","v":""},{"$f":"IF(Clients!C24263=\"\",\"\",Clients!C24263)","v":""}]
[null,null,null,null,null,null,null,null,null,null,null,null,null,null,null,null,null,null,{"$f":"IF(Clients!B24295=\"\",\"\",Clients!B24295)","v":""},{"$f":"IF(Clients!C24295=\"\",\"\",Clients!C24295)","v":""}]
[null,null,null,null,null,null,null,null,null,null,null,null,null,null,null,null,null,null,{"$f":"IF(Clients!B24323=\"\",\"\",Clients!B24323)","v":""},{"$f":"IF(Clients!C24323=\"\",\"\",Clients!C24323)","v":""}]
[null,null,null,null,null,null,null,null,null,null,null,null,null,null,null,null,null,null,{"$f":"IF(Clients!B24363=\"\",\"\",Clients!B24363)","v":""},{"$f":"IF(Clients!C24363=\"\",\"\",Clients!C24363)","v":""}]
[null,null,null,null,null,null,null,null,null,null,null,null,null,null,null,null,null,null,{"$f":"IF(Clients!B24384=\"\",\"\",Clients!B24384)","v":""},{"$f":"IF(Clients!C24384=\"\",\"\",Clients!C24384)","v":""}]
[null,null,null,null,null,null,null,null,null,null,null,null,null,null,null,null,null,null,{"$f":"IF(Clients!B24412=\"\",\"\",Clients!B24412)","v":""},{"$f":"IF(Clients!C24412=\"\",\"\",Clients!C24412)","v":""}]
[null,null,null,null,null,null,null,null,null,null,null,null,null,null,null,null,null,null,{"$f":"IF(Clients!B24444=\"\",\"\",Clients!B24444)","v":""},{"$f":"IF(Clients!C24444=\"\",\"\",Clients!C24444)","v":""}]
[null,null,null,null,null,null,null,null,null,null,null,null,null,null,null,null,null,null,{"$f":"IF(Clients!B24492=\"\",\"\",Clients!B24492)","v":""},{"$f":"IF(Clients!C24492=\"\",\"\",Clients!C24492)","v":""}]
[null,null,null,null,null,null,null,null,null,null,null,null,null,null,null,null,null,null,{"$f":"IF(Clients!B24505=\"\",\"\",Clients!B24505)","v":""},{"$f":"IF(Clients!C24505=\"\",\"\",Clients!C24505)","v":""}]
[null,null,null,null,null,null,null,null,null,null,null,null,null,null,null,null,null,null,{"$f":"IF(Clients!B24533=\"\",\"\",Clients!B24533)","v":""},{"$f":"IF(Clients!C24533=\"\",\"\",Clients!C24533)","v":""}]
[null,null,null,null,null,null,null,null,null,null,null,null,null,null,null,null,null,null,{"$f":"IF(Clients!B24592=\"\",\"\",Clients!B24592)","v":""},{"$f":"IF(Clients!C24592=\"\",\"\",Clients!C24592)","v":""}]
[null,null,null,null,null,null,null,null,null,null,null,null,null,null,null,null,null,null,{"$f":"IF(Clients!B24621=\"\",\"\",Clients!B24621)","v":""},{"$f":"IF(Clients!C24621=\"\",\"\",Clients!C24621)","v":""}]
[null,null,null,null,null,null,null,null,null,null,null,null,null,null,null,null,null,null,{"$f":"IF(Clients!B24653=\"\",\"\",Clients!B24653)","v":""},{"$f":"IF(Clients!C24653=\"\",\"\",Clients!C24653)","v":""}]
[null,null,null,null,null,null,null,null,null,null,null,null,null,null,null,null,null,null,{"$f":"IF(Clients!B24681=\"\",\"\",Clients!B24681)","v":""},{"$f":"IF(Clients!C24681=\"\",\"\",Clients!C24681)","v":""}]
[null,null,null,null,null,null,null,null,null,null,null,null,null,null,null,null,null,null,{"$f":"IF(Clients!B24713=\"\",\"\",Clients!B24713)","v":""},{"$f":"IF(Clients!C24713=\"\",\"\",Clients!C24713)","v":""}]
[null,null,null,null,null,null,null,null,null,null,null,null,null,null,null,null,null,null,{"$f":"IF(Clients!B24718=\"\",\"\",Clients!B24718)","v":""},{"$f":"IF(Clients!C24718=\"\",\"\",Clients!C24718)","v":""}]
[null,null,null,null,null,null,null,null,null,null,null,null,null,null,null,null,null,null,{"$f":"IF(Clients!B24774=\"\",\"\",Clients!B24774)","v":""},{"$f":"IF(Clients!C24774=\"\",\"\",Clients!C24774)","v":""}]
[null,null,null,null,null,null,null,null,null,null,null,null,null,null,null,null,null,null,{"$f":"IF(Clients!B24802=\"\",\"\",Clients!B24802)","v":""},{"$f":"IF(Clients!C24802=\"\",\"\",Clients!C24802)","v":""}]
[null,null,null,null,null,null,null,null,null,null,null,null,null,null,null,null,null,null,{"$f":"IF(Clients!B24830=\"\",\"\",Clients!B24830)","v":""},{"$f":"IF(Clients!C24830=\"\",\"\",Clients!C24830)","v":""}]
[null,null,null,null,null,null,null,null,null,null,null,null,null,null,null,null,null,null,{"$f":"IF(Clients!B24847=\"\",\"\",Clients!B24847)","v":""},{"$f":"IF(Clients!C24847=\"\",\"\",Clients!C24847)","v":""}]
[null,null,null,null,null,null,null,null,null,null,null,null,null,null,null,null,null,null,{"$f":"IF(Clients!B24891=\"\",\"\",Clients!B24891)","v":""},{"$f":"IF(Clients!C24891=\"\",\"\",Clients!C24891)","v":""}]
[null,null,null,null,null,null,null,null,null,null,null,null,null,null,null,null,null,null,{"$f":"IF(Clients!B24919=\"\",\"\",Clients!B24919)","v":""},{"$f":"IF(Clients!C24919=\"\",\"\",Clients!C24919)","v":""}]
[null,null,null,null,null,null,null,null,null,null,null,null,null,null,null,null,null,null,{"$f":"IF(Clients!B24951=\"\",\"\",Clients!B24951)","v":""},{"$f":"IF(Clients!C24951=\"\",\"\",Clients!C24951)","v":""}]
[null,null,null,null,null,null,null,null,null,null,null,null,null,null,null,null,null,null,{"$f":"IF(Clients!B24976=\"\",\"\",Clients!B24976)","v":""},{"$f":"IF(Clients!C24976=\"\",\"\",Clients!C24976)","v":""}]
[null,null,null,null,null,null,null,null,null,null,null,null,null,null,null,null,null,null,{"$f":"IF(Clients!B25012=\"\",\"\",Clients!B25012)","v":""},{"$f":"IF(Clients!C25012=\"\",\"\",Clients!C25012)","v":""}]
[null,null,null,null,null,null,null,null,null,null,null,null,null,null,null,null,null,null,{"$f":"IF(Clients!B25040=\"\",\"\",Clients!B25040)","v":""},{"$f":"IF(Clients!C25040=\"\",\"\",Clients!C25040)","v":""}]
[null,null,null,null,null,null,null,null,null,null,null,null,null,null,null,null,null,null,{"$f":"IF(Clients!B25068=\"\",\"\",Clients!B25068)","v":""},{"$f":"IF(Clients!C25068=\"\",\"\",Clients!C25068)","v":""}]
[null,null,null,null,null,null,null,null,null,null,null,null,null,null,null,null,null,null,{"$f":"IF(Clients!B25105=\"\",\"\",Clients!B25105)","v":""},{"$f":"IF(Clients!C25105=\"\",\"\",Clients!C25105)","v":""}]
[null,null,null,null,null,null,null,null,null,null,null,null,null,null,null,null,null,null,{"$f":"IF(Clients!B25129=\"\",\"\",Clients!B25129)","v":""},{"$f":"IF(Clients!C25129=\"\",\"\",Clients!C25129)","v":""}]
[null,null,null,null,null,null,null,null,null,null,null,null,null,null,null,null,null,null,{"$f":"IF(Clients!B25161=\"\",\"\",Clients!B25161)","v":""},{"$f":"IF(Clients!C25161=\"\",\"\",Clients!C25161)","v":""}]
[null,null,null,null,null,null,null,null,null,null,null,null,null,null,null,null,null,null,{"$f":"IF(Clients!B25189=\"\",\"\",Clients!B25189)","v":""},{"$f":"IF(Clients!C25189=\"\",\"\",Clients!C25189)","v":""}]
[null,null,null,null,null,null,null,null,null,null,null,null,null,null,null,null,null,null,{"$f":"IF(Clients!B25234=\"\",\"\",Clients!B25234)","v":""},{"$f":"IF(Clients!C25234=\"\",\"\",Clients!C25234)","v":""}]
[null,null,null,null,null,null,null,null,null,null,null,null,null,null,null,null,null,null,{"$f":"IF(Clients!B25250=\"\",\"\",Clients!B25250)","v":""},{"$f":"IF(Clients!C25250=\"\",\"\",Clients!C25250)","v":""}]
[null,null,null,null,null,null,null,null,null,null,null,null,null,null,null,null,null,null,{"$f":"IF(Clients!B25309=\"\",\"\",Clients!B25309)","v":""},{"$f":"IF(Clients!C25309=\"\",\"\",Clients!C25309)","v":""}]
[null,null,null,null,null,null,null,null,null,null,null,null,null,null,null,null,null,null,{"$f":"IF(Clients!B25337=\"\",\"\",Clients!B25337)","v":""},{"$f":"IF(Clients!C25337=\"\",\"\",Clients!C25337)","v":""}]
[null,null,null,null,null,null,null,null,null,null,null,null,null,null,null,null,null,null,{"$f":"IF(Clients!B25363=\"\",\"\",Clients!B25363)","v":""},{"$f":"IF(Clients!C25363=\"\",\"\",Clients!C25363)","v":""}]
[null,null,null,null,null,null,null,null,null,null,null,null,null,null,null,null,null,null,{"$f":"IF(Clients!B25398=\"\",\"\",Clients!B25398)","v":""},{"$f":"IF(Clients!C25398=\"\",\"\",Clients!C25398)","v":""}]
[null,null,null,null,null,null,null,null,null,null,null,null,null,null,null,null,null,null,{"$f":"IF(Clients!B25430=\"\",\"\",Clients!B25430)","v":""},{"$f":"IF(Clients!C25430=\"\",\"\",Clients!C25430)","v":""}]
[null,null,null,null,null,null,null,null,null,null,null,null,null,null,null,null,null,null,{"$f":"IF(Clients!B25458=\"\",\"\",Clients!B25458)","v":""},{"$f":"IF(Clients!C25458=\"\",\"\",Clients!C25458)","v":""}]
[null,null,null,null,null,null,null,null,null,null,null,null,null,null,null,null,null,null,{"$f":"IF(Clients!B25492=\"\",\"\",Clients!B25492)","v":""},{"$f":"IF(Clients!C25492=\"\",\"\",Clients!C25492)","v":""}]
[null,null,null,null,null,null,null,null,null,null,null,null,null,null,null,null,null,null,{"$f":"IF(Clients!B25519=\"\",\"\",Clients!B25519)","v":""},{"$f":"IF(Clients!C25519=\"\",\"\",Clients!C25519)","v":""}]
[null,null,null,null,null,null,null,null,null,null,null,null,null,null,null,null,null,null,{"$f":"IF(Clients!B25547=\"\",\"\",Clients!B25547)","v":""},{"$f":"IF(Clients!C25547=\"\",\"\",Clients!C25547)","v":""}]
[null,null,null,null,null,null,null,null,null,null,null,null,null,null,null,null,null,null,{"$f":"IF(Clients!B25579=\"\",\"\",Clients!B25579)","v":""},{"$f":"IF(Clients!C25579=\"\",\"\",Clients!C25579)","v":""}]
[null,null,null,null,null,null,null,null,null,null,null,null,null,null,null,null,null,null,{"$f":"IF(Clients!B25621=\"\",\"\",Clients!B25621)","v":""},{"$f":"IF(Clients!C25621=\"\",\"\",Clients!C25621)","v":""}]
[null,null,null,null,null,null,null,null,null,null,null,null,null,null,null,null,null,null,{"$f":"IF(Clients!B25636=\"\",\"\",Clients!B25636)","v":""},{"$f":"IF(Clients!C25636=\"\",\"\",Clients!C25636)","v":""}]
[null,null,null,null,null,null,null,null,null,null,null,null,null,null,null,null,null,null,{"$f":"IF(Clients!B25668=\"\",\"\",Clients!B25668)","v":""},{"$f":"IF(Clients!C25668=\"\",\"\",Clients!C25668)","v":""}]
[null,null,null,null,null,null,null,null,null,null,null,null,null,null,null,null,null,null,{"$f":"IF(Clients!B25696=\"\",\"\",Clients!B25696)","v":""},{"$f":"IF(Clients!C25696=\"\",\"\",Clients!C25696)","v":""}]
[null,null,null,null,null,null,null,null,null,null,null,null,null,null,null,null,null,null,{"$f":"IF(Clients!B25718=\"\",\"\",Clients!B25718)","v":""},{"$f":"IF(Clients!C25718=\"\",\"\",Clients!C25718)","v":""}]
[null,null,null,null,null,null,null,null,null,null,null,null,null,null,null,null,null,null,{"$f":"IF(Clients!B25757=\"\",\"\",Clients!B25757)","v":""},{"$f":"IF(Clients!C25757=\"\",\"\",Clients!C25757)","v":""}]
[null,null,null,null,null,null,null,null,null,null,null,null,null,null,null,null,null,null,{"$f":"IF(Clients!B25785=\"\",\"\",Clients!B25785)","v":""},{"$f":"IF(Clients!C25785=\"\",\"\",Clients!C25785)","v":""}]
[null,null,null,null,null,null,null,null,null,null,null,null,null,null,null,null,null,null,{"$f":"IF(Clients!B25817=\"\",\"\",Clients!B25817)","v":""},{"$f":"IF(Clients!C25817=\"\",\"\",Clients!C25817)","v":""}]
[null,null,null,null,null,null,null,null,null,null,null,null,null,null,null,null,null,null,{"$f":"IF(Clients!B25847=\"\",\"\",Clients!B25847)","v":""},{"$f":"IF(Clients!C25847=\"\",\"\",Clients!C25847)","v":""}]
[null,null,null,null,null,null,null,null,null,null,null,null,null,null,null,null,null,null,{"$f":"IF(Clients!B25905=\"\",\"\",Clients!B25905)","v":""},{"$f":"IF(Clients!C25905=\"\",\"\",Clients!C25905)","v":""}]
[null,null,null,null,null,null,null,null,null,null,null,null,null,null,null,null,null,null,{"$f":"IF(Clients!B25906=\"\",\"\",Clients!B25906)","v":""},{"$f":"IF(Clients!C25906=\"\",\"\",Clients!C25906)","v":""}]
[null,null,null,null,null,null,null,null,null,null,null,null,null,null,null,null,null,null,{"$f":"IF(Clients!B25965=\"\",\"\",Clients!B25965)","v":""},{"$f":"IF(Clients!C25965=\"\",\"\",Clients!C25965)","v":""}]
[null,null,null,null,null,null,null,null,null,null,null,null,null,null,null,null,null,null,{"$f":"IF(Clients!B25976=\"\",\"\",Clients!B25976)","v":""},{"$f":"IF(Clients!C25976=\"\",\"\",Clients!C25976)","v":""}]
[null,null,null,null,null,null,null,null,null,null,null,null,null,null,null,null,null,null,{"$f":"IF(Clients!B26026=\"\",\"\",Clients!B26026)","v":""},{"$f":"IF(Clients!C26026=\"\",\"\",Clients!C26026)","v":""}]
[null,null,null,null,null,null,null,null,null,null,null,null,null,null,null,null,null,null,{"$f":"IF(Clients!B26054=\"\",\"\",Clients!B26054)","v":""},{"$f":"IF(Clients!C26054=\"\",\"\",Clients!C26054)","v":""}]
[null,null,null,null,null,null,null,null,null,null,null,null,null,null,null,null,null,null,{"$f":"IF(Clients!B26086=\"\",\"\",Clients!B26086)","v":""},{"$f":"IF(Clients!C26086=\"\",\"\",Clients!C26086)","v":""}]
[null,null,null,null,null,null,null,null,null,null,null,null,null,null,null,null,null,null,{"$f":"IF(Clients!B26105=\"\",\"\",Clients!B26105)","v":""},{"$f":"IF(Clients!C26105=\"\",\"\",Clients!C26105)","v":""}]
[null,null,null,null,null,null,null,null,null,null,null,null,null,null,null,null,null,null,{"$f":"IF(Clients!B26143=\"\",\"\",Clients!B26143)","v":""},{"$f":"IF(Clients!C26143=\"\",\"\",Clients!C26143)","v":""}]
[null,null,null,null,null,null,null,null,null,null,null,null,null,null,null,null,null,null,{"$f":"IF(Clients!B26175=\"\",\"\",Clients!B26175)","v":""},{"$f":"IF(Clients!C26175=\"\",\"\",Clients!C26175)","v":""}]
[null,null,null,null,null,null,null,null,null,null,null,null,null,null,null,null,null,null,{"$f":"IF(Clients!B26203=\"\",\"\",Clients!B26203)","v":""},{"$f":"IF(Clients!C26203=\"\",\"\",Clients!C26203)","v":""}]
[null,null,null,null,null,null,null,null,null,null,null,null,null,null,null,null,null,null,{"$f":"IF(Clients!B26234=\"\",\"\",Clients!B26234)","v":""},{"$f":"IF(Clients!C26234=\"\",\"\",Clients!C26234)","v":""}]
[null,null,null,null,null,null,null,null,null,null,null,null,null,null,null,null,null,null,{"$f":"IF(Clients!B26264=\"\",\"\",Clients!B26264)","v":""},{"$f":"IF(Clients!C26264=\"\",\"\",Clients!C26264)","v":""}]
[null,null,null,null,null,null,null,null,null,null,null,null,null,null,null,null,null,null,{"$f":"IF(Clients!B26292=\"\",\"\",Clients!B26292)","v":""},{"$f":"IF(Clients!C26292=\"\",\"\",Clients!C26292)","v":""}]
[null,null,null,null,null,null,null,null,null,null,null,null,null,null,null,null,null,null,{"$f":"IF(Clients!B26324=\"\",\"\",Clients!B26324)","v":""},{"$f":"IF(Clients!C26324=\"\",\"\",Clients!C26324)","v":""}]
[null,null,null,null,null,null,null,null,null,null,null,null,null,null,null,null,null,null,{"$f":"IF(Clients!B26363=\"\",\"\",Clients!B26363)","v":""},{"$f":"IF(Clients!C26363=\"\",\"\",Clients!C26363)","v":""}]
[null,null,null,null,null,null,null,null,null,null,null,null,null,null,null,null,null,null,{"$f":"IF(Clients!B26381=\"\",\"\",Clients!B26381)","v":""},{"$f":"IF(Clients!C26381=\"\",\"\",Clients!C26381)","v":""}]
[null,null,null,null,null,null,null,null,null,null,null,null,null,null,null,null,null,null,{"$f":"IF(Clients!B26413=\"\",\"\",Clients!B26413)","v":""},{"$f":"IF(Clients!C26413=\"\",\"\",Clients!C26413)","v":""}]
[null,null,null,null,null,null,null,null,null,null,null,null,null,null,null,null,null,null,{"$f":"IF(Clients!B26441=\"\",\"\",Clients!B26441)","v":""},{"$f":"IF(Clients!C26441=\"\",\"\",Clients!C26441)","v":""}]
[null,null,null,null,null,null,null,null,null,null,null,null,null,null,null,null,null,null,{"$f":"IF(Clients!B26492=\"\",\"\",Clients!B26492)","v":""},{"$f":"IF(Clients!C26492=\"\",\"\",Clients!C26492)","v":""}]
[null,null,null,null,null,null,null,null,null,null,null,null,null,null,null,null,null,null,{"$f":"IF(Clients!B26502=\"\",\"\",Clients!B26502)","v":""},{"$f":"IF(Clients!C26502=\"\",\"\",Clients!C26502)","v":""}]
[null,null,null,null,null,null,null,null,null,null,null,null,null,null,null,null,null,null,{"$f":"IF(Clients!B26561=\"\",\"\",Clients!B26561)","v":""},{"$f":"IF(Clients!C26561=\"\",\"\",Clients!C26561)","v":""}]
[null,null,null,null,null,null,null,null,null,null,null,null,null,null,null,null,null,null,{"$f":"IF(Clients!B26562=\"\",\"\",Clients!B26562)","v":""},{"$f":"IF(Clients!C26562=\"\",\"\",Clients!C26562)","v":""}]
[null,null,null,null,null,null,null,null,null,null,null,null,null,null,null,null,null,null,{"$f":"IF(Clients!B26621=\"\",\"\",Clients!B26621)","v":""},{"$f":"IF(Clients!C26621=\"\",\"\",Clients!C26621)","v":""}]
[null,null,null,null,null,null,null,null,null,null,null,null,null,null,null,null,null,null,{"$f":"IF(Clients!B26650=\"\",\"\",Clients!B26650)","v":""},{"$f":"IF(Clients!C26650=\"\",\"\",Clients!C26650)","v":""}]
[null,null,null,null,null,null,null,null,null,null,null,null,null,null,null,null,null,null,{"$f":"IF(Clients!B26682=\"\",\"\",Clients!B26682)","v":""},{"$f":"IF(Clients!C26682=\"\",\"\",Clients!C26682)","v":""}]
[null,null,null,null,null,null,null,null,null,null,null,null,null,null,null,null,null,null,{"$f":"IF(Clients!B26710=\"\",\"\",Clients!B26710)","v":""},{"$f":"IF(Clients!C26710=\"\",\"\",Clients!C26710)","v":""}]
[null,null,null,null,null,null,null,null,null,null,null,null,null,null,null,null,null,null,{"$f":"IF(Clients!B26718=\"\",\"\",Clients!B26718)","v":""},{"$f":"IF(Clients!C26718=\"\",\"\",Clients!C26718)","v":""}]
[null,null,null,null,null,null,null,null,null,null,null,null,null,null,null,null,null,null,{"$f":"IF(Clients!B26771=\"\",\"\",Clients!B26771)","v":""},{"$f":"IF(Clients!C26771=\"\",\"\",Clients!C26771)","v":""}]
[null,null,null,null,null,null,null,null,null,null,null,null,null,null,null,null,null,null,{"$f":"IF(Clients!B26799=\"\",\"\",Clients!B26799)","v":""},{"$f":"IF(Clients!C26799=\"\",\"\",Clients!C26799)","v":""}]
[null,null,null,null,null,null,null,null,null,null,null,null,null,null,null,null,null,null,{"$f":"IF(Clients!B26831=\"\",\"\",Clients!B26831)","v":""},{"$f":"IF(Clients!C26831=\"\",\"\",Clients!C26831)","v":""}]
[null,null,null,null,null,null,null,null,null,null,null,null,null,null,null,null,null,null,{"$f":"IF(Clients!B26847=\"\",\"\",Clients!B26847)","v":""},{"$f":"IF(Clients!C26847=\"\",\"\",Clients!C26847)","v":""}]
[null,null,null,null,null,null,null,null,null,null,null,null,null,null,null,null,null,null,{"$f":"IF(Clients!B26892=\"\",\"\",Clients!B26892)","v":""},{"$f":"IF(Clients!C26892=\"\",\"\",Clients!C26892)","v":""}]
[null,null,null,null,null,null,null,null,null,null,null,null,null,null,null,null,null,null,{"$f":"IF(Clients!B26920=\"\",\"\",Clients!B26920)","v":""},{"$f":"IF(Clients!C26920=\"\",\"\",Clients!C26920)","v":""}]
[null,null,null,null,null,null,null,null,null,null,null,null,null,null,null,null,null,null,{"$f":"IF(Clients!B26948=\"\",\"\",Clients!B26948)","v":""},{"$f":"IF(Clients!C26948=\"\",\"\",Clients!C26948)","v":""}]
[null,null,null,null,null,null,null,null,null,null,null,null,null,null,null,null,null,null,{"$f":"IF(Clients!B26976=\"\",\"\",Clients!B26976)","v":""},{"$f":"IF(Clients!C26976=\"\",\"\",Clients!C26976)","v":""}]
[null,null,null,null,null,null,null,null,null,null,null,null,null,null,null,null,null,null,{"$f":"IF(Clients!B27009=\"\",\"\",Clients!B27009)","v":""},{"$f":"IF(Clients!C27009=\"\",\"\",Clients!C27009)","v":""}]
[null,null,null,null,null,null,null,null,null,null,null,null,null,null,null,null,null,null,{"$f":"IF(Clients!B27037=\"\",\"\",Clients!B27037)","v":""},{"$f":"IF(Clients!C27037=\"\",\"\",Clients!C27037)","v":""}]
[null,null,null,null,null,null,null,null,null,null,null,null,null,null,null,null,null,null,{"$f":"IF(Clients!B27069=\"\",\"\",Clients!B27069)","v":""},{"$f":"IF(Clients!C27069=\"\",\"\",Clients!C27069)","v":""}]
[null,null,null,null,null,null,null,null,null,null,null,null,null,null,null,null,null,null,{"$f":"IF(Clients!B27105=\"\",\"\",Clients!B27105)","v":""},{"$f":"IF(Clients!C27105=\"\",\"\",Clients!C27105)","v":""}]
[null,null,null,null,null,null,null,null,null,null,null,null,null,null,null,null,null,null,{"$f":"IF(Clients!B27130=\"\",\"\",Clients!B27130)","v":""},{"$f":"IF(Clients!C27130=\"\",\"\",Clients!C27130)","v":""}]
[null,null,null,null,null,null,null,null,null,null,null,null,null,null,null,null,null,null,{"$f":"IF(Clients!B27158=\"\",\"\",Clients!B27158)","v":""},{"$f":"IF(Clients!C27158=\"\",\"\",Clients!C27158)","v":""}]
[null,null,null,null,null,null,null,null,null,null,null,null,null,null,null,null,null,null,{"$f":"IF(Clients!B27217=\"\",\"\",Clients!B27217)","v":""},{"$f":"IF(Clients!C27217=\"\",\"\",Clients!C27217)","v":""}]
[null,null,null,null,null,null,null,null,null,null,null,null,null,null,null,null,null,null,{"$f":"IF(Clients!B27234=\"\",\"\",Clients!B27234)","v":""},{"$f":"IF(Clients!C27234=\"\",\"\",Clients!C27234)","v":""}]
[null,null,null,null,null,null,null,null,null,null,null,null,null,null,null,null,null,null,{"$f":"IF(Clients!B27278=\"\",\"\",Clients!B27278)","v":""},{"$f":"IF(Clients!C27278=\"\",\"\",Clients!C27278)","v":""}]
[null,null,null,null,null,null,null,null,null,null,null,null,null,null,null,null,null,null,{"$f":"IF(Clients!B27310=\"\",\"\",Clients!B27310)","v":""},{"$f":"IF(Clients!C27310=\"\",\"\",Clients!C27310)","v":""}]
[null,null,null,null,null,null,null,null,null,null,null,null,null,null,null,null,null,null,{"$f":"IF(Clients!B27338=\"\",\"\",Clients!B27338)","v":""},{"$f":"IF(Clients!C27338=\"\",\"\",Clients!C27338)","v":""}]
[null,null,null,null,null,null,null,null,null,null,null,null,null,null,null,null,null,null,{"$f":"IF(Clients!B27363=\"\",\"\",Clients!B27363)","v":""},{"$f":"IF(Clients!C27363=\"\",\"\",Clients!C27363)","v":""}]
[null,null,null,null,null,null,null,null,null,null,null,null,null,null,null,null,null,null,{"$f":"IF(Clients!B27399=\"\",\"\",Clients!B27399)","v":""},{"$f":"IF(Clients!C27399=\"\",\"\",Clients!C27399)","v":""}]
[null,null,null,null,null,null,null,null,null,null,null,null,null,null,null,null,null,null,{"$f":"IF(Clients!B27427=\"\",\"\",Clients!B27427)","v":""},{"$f":"IF(Clients!C27427=\"\",\"\",Clients!C27427)","v":""}]
[null,null,null,null,null,null,null,null,null,null,null,null,null,null,null,null,null,null,{"$f":"IF(Clients!B27455=\"\",\"\",Clients!B27455)","v":""},{"$f":"IF(Clients!C27455=\"\",\"\",Clients!C27455)","v":""}]
[null,null,null,null,null,null,null,null,null,null,null,null,null,null,null,null,null,null,{"$f":"IF(Clients!B27492=\"\",\"\",Clients!B27492)","v":""},{"$f":"IF(Clients!C27492=\"\",\"\",Clients!C27492)","v":""}]
[null,null,null,null,null,null,null,null,null,null,null,null,null,null,null,null,null,null,{"$f":"IF(Clients!B27516=\"\",\"\",Clients!B27516)","v":""},{"$f":"IF(Clients!C27516=\"\",\"\",Clients!C27516)","v":""}]
[null,null,null,null,null,null,null,null,null,null,null,null,null,null,null,null,null,null,{"$f":"IF(Clients!B27548=\"\",\"\",Clients!B27548)","v":""},{"$f":"IF(Clients!C27548=\"\",\"\",Clients!C27548)","v":""}]
[null,null,null,null,null,null,null,null,null,null,null,null,null,null,null,null,null,null,{"$f":"IF(Clients!B27576=\"\",\"\",Clients!B27576)","v":""},{"$f":"IF(Clients!C27576=\"\",\"\",Clients!C27576)","v":""}]
[null,null,null,null,null,null,null,null,null,null,null,null,null,null,null,null,null,null,{"$f":"IF(Clients!B27621=\"\",\"\",Clients!B27621)","v":""},{"$f":"IF(Clients!C27621=\"\",\"\",Clients!C27621)","v":""}]
[null,null,null,null,null,null,null,null,null,null,null,null,null,null,null,null,null,null,{"$f":"IF(Clients!B27637=\"\",\"\",Clients!B27637)","v":""},{"$f":"IF(Clients!C27637=\"\",\"\",Clients!C27637)","v":""}]
[null,null,null,null,null,null,null,null,null,null,null,null,null,null,null,null,null,null,{"$f":"IF(Clients!B27665=\"\",\"\",Clients!B27665)","v":""},{"$f":"IF(Clients!C27665=\"\",\"\",Clients!C27665)","v":""}]
[null,null,null,null,null,null,null,null,null,null,null,null,null,null,null,null,null,null,{"$f":"IF(Clients!B27693=\"\",\"\",Clients!B27693)","v":""},{"$f":"IF(Clients!C27693=\"\",\"\",Clients!C27693)","v":""}]
[null,null,null,null,null,null,null,null,null,null,null,null,null,null,null,null,null,null,{"$f":"IF(Clients!B27718=\"\",\"\",Clients!B27718)","v":""},{"$f":"IF(Clients!C27718=\"\",\"\",Clients!C27718)","v":""}]
[null,null,null,null,null,null,null,null,null,null,null,null,null,null,null,null,null,null,{"$f":"IF(Clients!B27754=\"\",\"\",Clients!B27754)","v":""},{"$f":"IF(Clients!C27754=\"\",\"\",Clients!C27754)","v":""}]
[null,null,null,null,null,null,null,null,null,null,null,null,null,null,null,null,null,null,{"$f":"IF(Clients!B27786=\"\",\"\",Clients!B27786)","v":""},{"$f":"IF(Clients!C27786=\"\",\"\",Clients!C27786)","v":""}]
[null,null,null,null,null,null,null,null,null,null,null,null,null,null,null,null,null,null,{"$f":"IF(Clients!B27814=\"\",\"\",Clients!B27814)","v":""},{"$f":"IF(Clients!C27814=\"\",\"\",Clients!C27814)","v":""}]
[null,null,null,null,null,null,null,null,null,null,null,null,null,null,null,null,null,null,{"$f":"IF(Clients!B27847=\"\",\"\",Clients!B27847)","v":""},{"$f":"IF(Clients!C27847=\"\",\"\",Clients!C27847)","v":""}]
[null,null,null,null,null,null,null,null,null,null,null,null,null,null,null,null,null,null,{"$f":"IF(Clients!B27875=\"\",\"\",Clients!B27875)","v":""},{"$f":"IF(Clients!C27875=\"\",\"\",Clients!C27875)","v":""}]
[null,null,null,null,null,null,null,null,null,null,null,null,null,null,null,null,null,null,{"$f":"IF(Clients!B27934=\"\",\"\",Clients!B27934)","v":""},{"$f":"IF(Clients!C27934=\"\",\"\",Clients!C27934)","v":""}]
[null,null,null,null,null,null,null,null,null,null,null,null,null,null,null,null,null,null,{"$f":"IF(Clients!B27966=\"\",\"\",Clients!B27966)","v":""},{"$f":"IF(Clients!C27966=\"\",\"\",Clients!C27966)","v":""}]
[null,null,null,null,null,null,null,null,null,null,null,null,null,null,null,null,null,null,{"$f":"IF(Clients!B27976=\"\",\"\",Clients!B27976)","v":""},{"$f":"IF(Clients!C27976=\"\",\"\",Clients!C27976)","v":""}]
[null,null,null,null,null,null,null,null,null,null,null,null,null,null,null,null,null,null,{"$f":"IF(Clients!B28023=\"\",\"\",Clients!B28023)","v":""},{"$f":"IF(Clients!C28023=\"\",\"\",Clients!C28023)","v":""}]
[null,null,null,null,null,null,null,null,null,null,null,null,null,null,null,null,null,null,{"$f":"IF(Clients!B28055=\"\",\"\",Clients!B28055)","v":""},{"$f":"IF(Clients!C28055=\"\",\"\",Clients!C28055)","v":""}]
[null,null,null,null,null,null,null,null,null,null,null,null,null,null,null,null,null,null,{"$f":"IF(Clients!B28083=\"\",\"\",Clients!B28083)","v":""},{"$f":"IF(Clients!C28083=\"\",\"\",Clients!C28083)","v":""}]
[null,null,null,null,null,null,null,null,null,null,null,null,null,null,null,null,null,null,{"$f":"IF(Clients!B28105=\"\",\"\",Clients!B28105)","v":""},{"$f":"IF(Clients!C28105=\"\",\"\",Clients!C28105)","v":""}]
[null,null,null,null,null,null,null,null,null,null,null,null,null,null,null,null,null,null,{"$f":"IF(Clients!B28144=\"\",\"\",Clients!B28144)","v":""},{"$f":"IF(Clients!C28144=\"\",\"\",Clients!C28144)","v":""}]
[null,null,null,null,null,null,null,null,null,null,null,null,null,null,null,null,null,null,{"$f":"IF(Clients!B28172=\"\",\"\",Clients!B28172)","v":""},{"$f":"IF(Clients!C28172=\"\",\"\",Clients!C28172)","v":""}]
[null,null,null,null,null,null,null,null,null,null,null,null,null,null,null,null,null,null,{"$f":"IF(Clients!B28204=\"\",\"\",Clients!B28204)","v":""},{"$f":"IF(Clients!C28204=\"\",\"\",Clients!C28204)","v":""}]
[null,null,null,null,null,null,null,null,null,null,null,null,null,null,null,null,null,null,{"$f":"IF(Clients!B28234=\"\",\"\",Clients!B28234)","v":""},{"$f":"IF(Clients!C28234=\"\",\"\",Clients!C28234)","v":""}]
[null,null,null,null,null,null,null,null,null,null,null,null,null,null,null,null,null,null,{"$f":"IF(Clients!B28261=\"\",\"\",Clients!B28261)","v":""},{"$f":"IF(Clients!C28261=\"\",\"\",Clients!C28261)","v":""}]
[null,null,null,null,null,null,null,null,null,null,null,null,null,null,null,null,null,null,{"$f":"IF(Clients!B28293=\"\",\"\",Clients!B28293)","v":""},{"$f":"IF(Clients!C28293=\"\",\"\",Clients!C28293)","v":""}]
[null,null,null,null,null,null,null,null,null,null,null,null,null,null,null,null,null,null,{"$f":"IF(Clients!B28321=\"\",\"\",Clients!B28321)","v":""},{"$f":"IF(Clients!C28321=\"\",\"\",Clients!C28321)","v":""}]
[null,null,null,null,null,null,null,null,null,null,null,null,null,null,null,null,null,null,{"$f":"IF(Clients!B28363=\"\",\"\",Clients!B28363)","v":""},{"$f":"IF(Clients!C28363=\"\",\"\",Clients!C28363)","v":""}]
[null,null,null,null,null,null,null,null,null,null,null,null,null,null,null,null,null,null,{"$f":"IF(Clients!B28382=\"\",\"\",Clients!B28382)","v":""},{"$f":"IF(Clients!C28382=\"\",\"\",Clients!C28382)","v":""}]
[null,null,null,null,null,null,null,null,null,null,null,null,null,null,null,null,null,null,{"$f":"IF(Clients!B28410=\"\",\"\",Clients!B28410)","v":""},{"$f":"IF(Clients!C28410=\"\",\"\",Clients!C28410)","v":""}]
[null,null,null,null,null,null,null,null,null,null,null,null,null,null,null,null,null,null,{"$f":"IF(Clients!B28442=\"\",\"\",Clients!B28442)","v":""},{"$f":"IF(Clients!C28442=\"\",\"\",Clients!C28442)","v":""}]
[null,null,null,null,null,null,null,null,null,null,null,null,null,null,null,null,null,null,{"$f":"IF(Clients!B28492=\"\",\"\",Clients!B28492)","v":""},{"$f":"IF(Clients!C28492=\"\",\"\",Clients!C28492)","v":""}]
[null,null,null,null,null,null,null,null,null,null,null,null,null,null,null,null,null,null,{"$f":"IF(Clients!B28530=\"\",\"\",Clients!B28530)","v":""},{"$f":"IF(Clients!C28530=\"\",\"\",Clients!C28530)","v":""}]
[null,null,null,null,null,null,null,null,null,null,null,null,null,null,null,null,null,null,{"$f":"IF(Clients!B28531=\"\",\"\",Clients!B28531)","v":""},{"$f":"IF(Clients!C28531=\"\",\"\",Clients!C28531)","v":""}]
[null,null,null,null,null,null,null,null,null,null,null,null,null,null,null,null,null,null,{"$f":"IF(Clients!B28590=\"\",\"\",Clients!B28590)","v":""},{"$f":"IF(Clients!C28590=\"\",\"\",Clients!C28590)","v":""}]
[null,null,null,null,null,null,null,null,null,null,null,null,null,null,null,null,null,null,{"$f":"IF(Clients!B28621=\"\",\"\",Clients!B28621)","v":""},{"$f":"IF(Clients!C28621=\"\",\"\",Clients!C28621)","v":""}]
[null,null,null,null,null,null,null,null,null,null,null,null,null,null,null,null,null,null,{"$f":"IF(Clients!B28651=\"\",\"\",Clients!B28651)","v":""},{"$f":"IF(Clients!C28651=\"\",\"\",Clients!C28651)","v":""}]
[null,null,null,null,null,null,null,null,null,null,null,null,null,null,null,null,null,null,{"$f":"IF(Clients!B28679=\"\",\"\",Clients!B28679)","v":""},{"$f":"IF(Clients!C28679=\"\",\"\",Clients!C28679)","v":""}]
[null,null,null,null,null,null,null,null,null,null,null,null,null,null,null,null,null,null,{"$f":"IF(Clients!B28711=\"\",\"\",Clients!B28711)","v":""},{"$f":"IF(Clients!C28711=\"\",\"\",Clients!C28711)","v":""}]
[null,null,null,null,null,null,null,null,null,null,null,null,null,null,null,null,null,null,{"$f":"IF(Clients!B28718=\"\",\"\",Clients!B28718)","v":""},{"$f":"IF(Clients!C28718=\"\",\"\",Clients!C28718)","v":""}]
[null,null,null,null,null,null,null,null,null,null,null,null,null,null,null,null,null,null,{"$f":"IF(Clients!B28768=\"\",\"\",Clients!B28768)","v":""},{"$f":"IF(Clients!C28768=\"\",\"\",Clients!C28768)","v":""}]
[null,null,null,null,null,null,null,null,null,null,null,null,null,null,null,null,null,null,{"$f":"IF(Clients!B28800=\"\",\"\",Clients!B28800)","v":""},{"$f":"IF(Clients!C28800=\"\",\"\",Clients!C28800)","v":""}]
[null,null,null,null,null,null,null,null,null,null,null,null,null,null,null,null,null,null,{"$f":"IF(Clients!B28828=\"\",\"\",Clients!B28828)","v":""},{"$f":"IF(Clients!C28828=\"\",\"\",Clients!C28828)","v":""}]
[null,null,null,null,null,null,null,null,null,null,null,null,null,null,null,null,null,null,{"$f":"IF(Clients!B28847=\"\",\"\",Clients!B28847)","v":""},{"$f":"IF(Clients!C28847=\"\",\"\",Clients!C28847)","v":""}]
[null,null,null,null,null,null,null,null,null,null,null,null,null,null,null,null,null,null,{"$f":"IF(Clients!B28889=\"\",\"\",Clients!B28889)","v":""},{"$f":"IF(Clients!C28889=\"\",\"\",Clients!C28889)","v":""}]
[null,null,null,null,null,null,null,null,null,null,null,null,null,null,null,null,null,null,{"$f":"IF(Clients!B28917=\"\",\"\",Clients!B28917)","v":""},{"$f":"IF(Clients!C28917=\"\",\"\",Clients!C28917)","v":""}]
[null,null,null,null,null,null,null,null,null,null,null,null,null,null,null,null,null,null,{"$f":"IF(Clients!B28949=\"\",\"\",Clients!B28949)","v":""},{"$f":"IF(Clients!C28949=\"\",\"\",Clients!C28949)","v":""}]
[null,null,null,null,null,null,null,null,null,null,null,null,null,null,null,null,null,null,{"$f":"IF(Clients!B28976=\"\",\"\",Clients!B28976)","v":""},{"$f":"IF(Clients!C28976=\"\",\"\",Clients!C28976)","v":""}]
[null,null,null,null,null,null,null,null,null,null,null,null,null,null,null,null,null,null,{"$f":"IF(Clients!B29010=\"\",\"\",Clients!B29010)","v":""},{"$f":"IF(Clients!C29010=\"\",\"\",Clients!C29010)","v":""}]
[null,null,null,null,null,null,null,null,null,null,null,null,null,null,null,null,null,null,{"$f":"IF(Clients!B29038=\"\",\"\",Clients!B29038)","v":""},{"$f":"IF(Clients!C29038=\"\",\"\",Clients!C29038)","v":""}]
[null,null,null,null,null,null,null,null,null,null,null,null,null,null,null,null,null,null,{"$f":"IF(Clients!B29066=\"\",\"\",Clients!B29066)","v":""},{"$f":"IF(Clients!C29066=\"\",\"\",Clients!C29066)","v":""}]
[null,null,null,null,null,null,null,null,null,null,null,null,null,null,null,null,null,null,{"$f":"IF(Clients!B29105=\"\",\"\",Clients!B29105)","v":""},{"$f":"IF(Clients!C29105=\"\",\"\",Clients!C29105)","v":""}]
[null,null,null,null,null,null,null,null,null,null,null,null,null,null,null,null,null,null,{"$f":"IF(Clients!B29127=\"\",\"\",Clients!B29127)","v":""},{"$f":"IF(Clients!C29127=\"\",\"\",Clients!C29127)","v":""}]
[null,null,null,null,null,null,null,null,null,null,null,null,null,null,null,null,null,null,{"$f":"IF(Clients!B29186=\"\",\"\",Clients!B29186)","v":""},{"$f":"IF(Clients!C29186=\"\",\"\",Clients!C29186)","v":""}]
[null,null,null,null,null,null,null,null,null,null,null,null,null,null,null,null,null,null,{"$f":"IF(Clients!B29187=\"\",\"\",Clients!B29187)","v":""},{"$f":"IF(Clients!C29187=\"\",\"\",Clients!C29187)","v":""}]
[null,null,null,null,null,null,null,null,null,null,null,null,null,null,null,null,null,null,{"$f":"IF(Clients!B29234=\"\",\"\",Clients!B29234)","v":""},{"$f":"IF(Clients!C29234=\"\",\"\",Clients!C29234)","v":""}]
[null,null,null,null,null,null,null,null,null,null,null,null,null,null,null,null,null,null,{"$f":"IF(Clients!B29279=\"\",\"\",Clients!B29279)","v":""},{"$f":"IF(Clients!C29279=\"\",\"\",Clients!C29279)","v":""}]
[null,null,null,null,null,null,null,null,null,null,null,null,null,null,null,null,null,null,{"$f":"IF(Clients!B29307=\"\",\"\",Clients!B29307)","v":""},{"$f":"IF(Clients!C29307=\"\",\"\",Clients!C29307)","v":""}]
[null,null,null,null,null,null,null,null,null,null,null,null,null,null,null,null,null,null,{"$f":"IF(Clients!B29335=\"\",\"\",Clients!B29335)","v":""},{"$f":"IF(Clients!C29335=\"\",\"\",Clients!C29335)","v":""}]
[null,null,null,null,null,null,null,null,null,null,null,null,null,null,null,null,null,null,{"$f":"IF(Clients!B29363=\"\",\"\",Clients!B29363)","v":""},{"$f":"IF(Clients!C29363=\"\",\"\",Clients!C29363)","v":""}]
[null,null,null,null,null,null,null,null,null,null,null,null,null,null,null,null,null,null,{"$f":"IF(Clients!B29396=\"\",\"\",Clients!B29396)","v":""},{"$f":"IF(Clients!C29396=\"\",\"\",Clients!C29396)","v":""}]
[null,null,null,null,null,null,null,null,null,null,null,null,null,null,null,null,null,null,{"$f":"IF(Clients!B29424=\"\",\"\",Clients!B29424)","v":""},{"$f":"IF(Clients!C29424=\"\",\"\",Clients!C29424)","v":""}]
[null,null,null,null,null,null,null,null,null,null,null,null,null,null,null,null,null,null,{"$f":"IF(Clients!B29456=\"\",\"\",Clients!B29456)","v":""},{"$f":"IF(Clients!C29456=\"\",\"\",Clients!C29456)","v":""}]
[null,null,null,null,null,null,null,null,null,null,null,null,null,null,null,null,null,null,{"$f":"IF(Clients!B29492=\"\",\"\",Clients!B29492)","v":""},{"$f":"IF(Clients!C29492=\"\",\"\",Clients!C29492)","v":""}]
[null,null,null,null,null,null,null,null,null,null,null,null,null,null,null,null,null,null,{"$f":"IF(Clients!B29517=\"\",\"\",Clients!B29517)","v":""},{"$f":"IF(Clients!C29517=\"\",\"\",Clients!C29517)","v":""}]
[null,null,null,null,null,null,null,null,null,null,null,null,null,null,null,null,null,null,{"$f":"IF(Clients!B29545=\"\",\"\",Clients!B29545)","v":""},{"$f":"IF(Clients!C29545=\"\",\"\",Clients!C29545)","v":""}]
[null,null,null,null,null,null,null,null,null,null,null,null,null,null,null,null,null,null,{"$f":"IF(Clients!B29573=\"\",\"\",Clients!B29573)","v":""},{"$f":"IF(Clients!C29573=\"\",\"\",Clients!C29573)","v":""}]
[null,null,null,null,null,null,null,null,null,null,null,null,null,null,null,null,null,null,{"$f":"IF(Clients!B29621=\"\",\"\",Clients!B29621)","v":""},{"$f":"IF(Clients!C29621=\"\",\"\",Clients!C29621)","v":""}]
[null,null,null,null,null,null,null,null,null,null,null,null,null,null,null,null,null,null,{"$f":"IF(Clients!B29634=\"\",\"\",Clients!B29634)","v":""},{"$f":"IF(Clients!C29634=\"\",\"\",Clients!C29634)","v":""}]
[null,null,null,null,null,null,null,null,null,null,null,null,null,null,null,null,null,null,{"$f":"IF(Clients!B29666=\"\",\"\",Clients!B29666)","v":""},{"$f":"IF(Clients!C29666=\"\",\"\",Clients!C29666)","v":""}]
[null,null,null,null,null,null,null,null,null,null,null,null,null,null,null,null,null,null,{"$f":"IF(Clients!B29694=\"\",\"\",Clients!B29694)","v":""},{"$f":"IF(Clients!C29694=\"\",\"\",Clients!C29694)","v":""}]
[null,null,null,null,null,null,null,null,null,null,null,null,null,null,null,null,null,null,{"$f":"IF(Clients!B29718=\"\",\"\",Clients!B29718)","v":""},{"$f":"IF(Clients!C29718=\"\",\"\",Clients!C29718)","v":""}]
[null,null,null,null,null,null,null,null,null,null,null,null,null,null,null,null,null,null,{"$f":"IF(Clients!B29755=\"\",\"\",Clients!B29755)","v":""},{"$f":"IF(Clients!C29755=\"\",\"\",Clients!C29755)","v":""}]
[null,null,null,null,null,null,null,null,null,null,null,null,null,null,null,null,null,null,{"$f":"IF(Clients!B29783=\"\",\"\",Clients!B29783)","v":""},{"$f":"IF(Clients!C29783=\"\",\"\",Clients!C29783)","v":""}]
[null,null,null,null,null,null,null,null,null,null,null,null,null,null,null,null,null,null,{"$f":"IF(Clients!B29842=\"\",\"\",Clients!B29842)","v":""},{"$f":"IF(Clients!C29842=\"\",\"\",Clients!C29842)","v":""}]
[null,null,null,null,null,null,null,null,null,null,null,null,null,null,null,null,null,null,{"$f":"IF(Clients!B29847=\"\",\"\",Clients!B29847)","v":""},{"$f":"IF(Clients!C29847=\"\",\"\",Clients!C29847)","v":""}]
[null,null,null,null,null,null,null,null,null,null,null,null,null,null,null,null,null,null,{"$f":"IF(Clients!B29903=\"\",\"\",Clients!B29903)","v":""},{"$f":"IF(Clients!C29903=\"\",\"\",Clients!C29903)","v":""}]
[null,null,null,null,null,null,null,null,null,null,null,null,null,null,null,null,null,null,{"$f":"IF(Clients!B29935=\"\",\"\",Clients!B29935)","v":""},{"$f":"IF(Clients!C29935=\"\",\"\",Clients!C29935)","v":""}]
[null,null,null,null,null,null,null,null,null,null,null,null,null,null,null,null,null,null,{"$f":"IF(Clients!B29963=\"\",\"\",Clients!B29963)","v":""},{"$f":"IF(Clients!C29963=\"\",\"\",Clients!C29963)","v":""}]
[null,null,null,null,null,null,null,null,null,null,null,null,null,null,null,null,null,null,{"$f":"IF(Clients!B29976=\"\",\"\",Clients!B29976)","v":""},{"$f":"IF(Clients!C29976=\"\",\"\",Clients!C29976)","v":""}]
[null,null,null,null,null,null,null,null,null,null,null,null,null,null,null,null,null,null,{"$f":"IF(Clients!B30024=\"\",\"\",Clients!B30024)","v":""},{"$f":"IF(Clients!C30024=\"\",\"\",Clients!C30024)","v":""}]
[null,null,null,null,null,null,null,null,null,null,null,null,null,null,null,null,null,null,{"$f":"IF(Clients!B30052=\"\",\"\",Clients!B30052)","v":""},{"$f":"IF(Clients!C30052=\"\",\"\",Clients!C30052)","v":""}]
[null,null,null,null,null,null,null,null,null,null,null,null,null,null,null,null,null,null,{"$f":"IF(Clients!B30084=\"\",\"\",Clients!B30084)","v":""},{"$f":"IF(Clients!C30084=\"\",\"\",Clients!C30084)","v":""}]
[null,null,null,null,null,null,null,null,null,null,null,null,null,null,null,null,null,null,{"$f":"IF(Clients!B30105=\"\",\"\",Clients!B30105)","v":""},{"$f":"IF(Clients!C30105=\"\",\"\",Clients!C30105)","v":""}]
[null,null,null,null,null,null,null,null,null,null,null,null,null,null,null,null,null,null,{"$f":"IF(Clients!B30141=\"\",\"\",Clients!B30141)","v":""},{"$f":"IF(Clients!C30141=\"\",\"\",Clients!C30141)","v":""}]
[null,null,null,null,null,null,null,null,null,null,null,null,null,null,null,null,null,null,{"$f":"IF(Clients!B30173=\"\",\"\",Clients!B30173)","v":""},{"$f":"IF(Clients!C30173=\"\",\"\",Clients!C30173)","v":""}]
[null,null,null,null,null,null,null,null,null,null,null,null,null,null,null,null,null,null,{"$f":"IF(Clients!B30201=\"\",\"\",Clients!B30201)","v":""},{"$f":"IF(Clients!C30201=\"\",\"\",Clients!C30201)","v":""}]
[null,null,null,null,null,null,null,null,null,null,null,null,null,null,null,null,null,null,{"$f":"IF(Clients!B30234=\"\",\"\",Clients!B30234)","v":""},{"$f":"IF(Clients!C30234=\"\",\"\",Clients!C30234)","v":""}]
[null,null,null,null,null,null,null,null,null,null,null,null,null,null,null,null,null,null,{"$f":"IF(Clients!B30262=\"\",\"\",Clients!B30262)","v":""},{"$f":"IF(Clients!C30262=\"\",\"\",Clients!C30262)","v":""}]
[null,null,null,null,null,null,null,null,null,null,null,null,null,null,null,null,null,null,{"$f":"IF(Clients!B30290=\"\",\"\",Clients!B30290)","v":""},{"$f":"IF(Clients!C30290=\"\",\"\",Clients!C30290)","v":""}]
[null,null,null,null,null,null,null,null,null,null,null,null,null,null,null,null,null,null,{"$f":"IF(Clients!B30322=\"\",\"\",Clients!B30322)","v":""},{"$f":"IF(Clients!C30322=\"\",\"\",Clients!C30322)","v":""}]
[null,null,null,null,null,null,null,null,null,null,null,null,null,null,null,null,null,null,{"$f":"IF(Clients!B30363=\"\",\"\",Clients!B30363)","v":""},{"$f":"IF(Clients!C30363=\"\",\"\",Clients!C30363)","v":""}]
[null,null,null,null,null,null,null,null,null,null,null,null,null,null,null,null,null,null,{"$f":"IF(Clients!B30379=\"\",\"\",Clients!B30379)","v":""},{"$f":"IF(Clients!C30379=\"\",\"\",Clients!C30379)","v":""}]
[null,null,null,null,null,null,null,null,null,null,null,null,null,null,null,null,null,null,{"$f":"IF(Clients!B30411=\"\",\"\",Clients!B30411)","v":""},{"$f":"IF(Clients!C30411=\"\",\"\",Clients!C30411)","v":""}]
[null,null,null,null,null,null,null,null,null,null,null,null,null,null,null,null,null,null,{"$f":"IF(Clients!B30439=\"\",\"\",Clients!B30439)","v":""},{"$f":"IF(Clients!C30439=\"\",\"\",Clients!C30439)","v":""}]
[null,null,null,null,null,null,null,null,null,null,null,null,null,null,null,null,null,null,{"$f":"IF(Clients!B30492=\"\",\"\",Clients!B30492)","v":""},{"$f":"IF(Clients!C30492=\"\",\"\",Clients!C30492)","v":""}]
[null,null,null,null,null,null,null,null,null,null,null,null,null,null,null,null,null,null,{"$f":"IF(Clients!B30500=\"\",\"\",Clients!B30500)","v":""},{"$f":"IF(Clients!C30500=\"\",\"\",Clients!C30500)","v":""}]
[null,null,null,null,null,null,null,null,null,null,null,null,null,null,null,null,null,null,{"$f":"IF(Clients!B30559=\"\",\"\",Clients!B30559)","v":""},{"$f":"IF(Clients!C30559=\"\",\"\",Clients!C30559)","v":""}]
[null,null,null,null,null,null,null,null,null,null,null,null,null,null,null,null,null,null,{"$f":"IF(Clients!B30591=\"\",\"\",Clients!B30591)","v":""},{"$f":"IF(Clients!C30591=\"\",\"\",Clients!C30591)","v":""}]
[null,null,null,null,null,null,null,null,null,null,null,null,null,null,null,null,null,null,{"$f":"IF(Clients!B30621=\"\",\"\",Clients!B30621)","v":""},{"$f":"IF(Clients!C30621=\"\",\"\",Clients!C30621)","v":""}]
[null,null,null,null,null,null,null,null,null,null,null,null,null,null,null,null,null,null,{"$f":"IF(Clients!B30648=\"\",\"\",Clients!B30648)","v":""},{"$f":"IF(Clients!C30648=\"\",\"\",Clients!C30648)","v":""}]
[null,null,null,null,null,null,null,null,null,null,null,null,null,null,null,null,null,null,{"$f":"IF(Clients!B30680=\"\",\"\",Clients!B30680)","v":""},{"$f":"IF(Clients!C30680=\"\",\"\",Clients!C30680)","v":""}]
[null,null,null,null,null,null,null,null,null,null,null,null,null,null,null,null,null,null,{"$f":"IF(Clients!B30708=\"\",\"\",Clients!B30708)","v":""},{"$f":"IF(Clients!C30708=\"\",\"\",Clients!C30708)","v":""}]
[null,null,null,null,null,null,null,null,null,null,null,null,null,null,null,null,null,null,{"$f":"IF(Clients!B30718=\"\",\"\",Clients!B30718)","v":""},{"$f":"IF(Clients!C30718=\"\",\"\",Clients!C30718)","v":""}]
[null,null,null,null,null,null,null,null,null,null,null,null,null,null,null,null,null,null,{"$f":"IF(Clients!B30769=\"\",\"\",Clients!B30769)","v":""},{"$f":"IF(Clients!C30769=\"\",\"\",Clients!C30769)","v":""}]
[null,null,null,null,null,null,null,null,null,null,null,null,null,null,null,null,null,null,{"$f":"IF(Clients!B30797=\"\",\"\",Clients!B30797)","v":""},{"$f":"IF(Clients!C30797=\"\",\"\",Clients!C30797)","v":""}]
[null,null,null,null,null,null,null,null,null,null,null,null,null,null,null,null,null,null,{"$f":"IF(Clients!B30829=\"\",\"\",Clients!B30829)","v":""},{"$f":"IF(Clients!C30829=\"\",\"\",Clients!C30829)","v":""}]
[null,null,null,null,null,null,null,null,null,null,null,null,null,null,null,null,null,null,{"$f":"IF(Clients!B30847=\"\",\"\",Clients!B30847)","v":""},{"$f":"IF(Clients!C30847=\"\",\"\",Clients!C30847)","v":""}]
[null,null,null,null,null,null,null,null,null,null,null,null,null,null,null,null,null,null,{"$f":"IF(Clients!B30886=\"\",\"\",Clients!B30886)","v":""},{"$f":"IF(Clients!C30886=\"\",\"\",Clients!C30886)","v":""}]
[null,null,null,null,null,null,null,null,null,null,null,null,null,null,null,null,null,null,{"$f":"IF(Clients!B30918=\"\",\"\",Clients!B30918)","v":""},{"$f":"IF(Clients!C30918=\"\",\"\",Clients!C30918)","v":""}]
[null,null,null,null,null,null,null,null,null,null,null,null,null,null,null,null,null,null,{"$f":"IF(Clients!B30946=\"\",\"\",Clients!B30946)","v":""},{"$f":"IF(Clients!C30946=\"\",\"\",Clients!C30946)","v":""}]
[null,null,null,null,null,null,null,null,null,null,null,null,null,null,null,null,null,null,{"$f":"IF(Clients!B30976=\"\",\"\",Clients!B30976)","v":""},{"$f":"IF(Clients!C30976=\"\",\"\",Clients!C30976)","v":""}]
[null,null,null,null,null,null,null,null,null,null,null,null,null,null,null,null,null,null,{"$f":"IF(Clients!B31007=\"\",\"\",Clients!B31007)","v":""},{"$f":"IF(Clients!C31007=\"\",\"\",Clients!C31007)","v":""}]
[null,null,null,null,null,null,null,null,null,null,null,null,null,null,null,null,null,null,{"$f":"IF(Clients!B31035=\"\",\"\",Clients!B31035)","v":""},{"$f":"IF(Clients!C31035=\"\",\"\",Clients!C31035)","v":""}]
[null,null,null,null,null,null,null,null,null,null,null,null,null,null,null,null,null,null,{"$f":"IF(Clients!B31067=\"\",\"\",Clients!B31067)","v":""},{"$f":"IF(Clients!C31067=\"\",\"\",Clients!C31067)","v":""}]
[null,null,null,null,null,null,null,null,null,null,null,null,null,null,null,null,null,null,{"$f":"IF(Clients!B31105=\"\",\"\",Clients!B31105)","v":""},{"$f":"IF(Clients!C31105=\"\",\"\",Clients!C31105)","v":""}]
[null,null,null,null,null,null,null,null,null,null,null,null,null,null,null,null,null,null,{"$f":"IF(Clients!B31155=\"\",\"\",Clients!B31155)","v":""},{"$f":"IF(Clients!C31155=\"\",\"\",Clients!C31155)","v":""}]
[null,null,null,null,null,null,null,null,null,null,null,null,null,null,null,null,null,null,{"$f":"IF(Clients!B31156=\"\",\"\",Clients!B31156)","v":""},{"$f":"IF(Clients!C31156=\"\",\"\",Clients!C31156)","v":""}]
[null,null,null,null,null,null,null,null,null,null,null,null,null,null,null,null,null,null,{"$f":"IF(Clients!B31215=\"\",\"\",Clients!B31215)","v":""},{"$f":"IF(Clients!C31215=\"\",\"\",Clients!C31215)","v":""}]
[null,null,null,null,null,null,null,null,null,null,null,null,null,null,null,null,null,null,{"$f":"IF(Clients!B31234=\"\",\"\",Clients!B31234)","v":""},{"$f":"IF(Clients!C31234=\"\",\"\",Clients!C31234)","v":""}]
[null,null,null,null,null,null,null,null,null,null,null,null,null,null,null,null,null,null,{"$f":"IF(Clients!B31276=\"\",\"\",Clients!B31276)","v":""},{"$f":"IF(Clients!C31276=\"\",\"\",Clients!C31276)","v":""}]
[null,null,null,null,null,null,null,null,null,null,null,null,null,null,null,null,null,null,{"$f":"IF(Clients!B31304=\"\",\"\",Clients!B31304)","v":""},{"$f":"IF(Clients!C31304=\"\",\"\",Clients!C31304)","v":""}]
[null,null,null,null,null,null,null,null,null,null,null,null,null,null,null,null,null,null,{"$f":"IF(Clients!B31336=\"\",\"\",Clients!B31336)","v":""},{"$f":"IF(Clients!C31336=\"\",\"\",Clients!C31336)","v":""}]
[null,null,null,null,null,null,null,null,null,null,null,null,null,null,null,null,null,null,{"$f":"IF(Clients!B31363=\"\",\"\",Clients!B31363)","v":""},{"$f":"IF(Clients!C31363=\"\",\"\",Clients!C31363)","v":""}]
[null,null,null,null,null,null,null,null,null,null,null,null,null,null,null,null,null,null,{"$f":"IF(Clients!B31397=\"\",\"\",Clients!B31397)","v":""},{"$f":"IF(Clients!C31397=\"\",\"\",Clients!C31397)","v":""}]
[null,null,null,null,null,null,null,null,null,null,null,null,null,null,null,null,null,null,{"$f":"IF(Clients!B31425=\"\",\"\",Clients!B31425)","v":""},{"$f":"IF(Clients!C31425=\"\",\"\",Clients!C31425)","v":""}]
[null,null,null,null,null,null,null,null,null,null,null,null,null,null,null,null,null,null,{"$f":"IF(Clients!B31453=\"\",\"\",Clients!B31453)","v":""},{"$f":"IF(Clients!C31453=\"\",\"\",Clients!C31453)","v":""}]
[null,null,null,null,null,null,null,null,null,null,null,null,null,null,null,null,null,null,{"$f":"IF(Clients!B31492=\"\",\"\",Clients!B31492)","v":""},{"$f":"IF(Clients!C31492=\"\",\"\",Clients!C31492)","v":""}]
[null,null,null,null,null,null,null,null,null,null,null,null,null,null,null,null,null,null,{"$f":"IF(Clients!B31514=\"\",\"\",Clients!B31514)","v":""},{"$f":"IF(Clients!C31514=\"\",\"\",Clients!C31514)","v":""}]
[null,null,null,null,null,null,null,null,null,null,null,null,null,null,null,null,null,null,{"$f":"IF(Clients!B31542=\"\",\"\",Clients!B31542)","v":""},{"$f":"IF(Clients!C31542=\"\",\"\",Clients!C31542)","v":""}]
[null,null,null,null,null,null,null,null,null,null,null,null,null,null,null,null,null,null,{"$f":"IF(Clients!B31574=\"\",\"\",Clients!B31574)","v":""},{"$f":"IF(Clients!C31574=\"\",\"\",Clients!C31574)","v":""}]
[null,null,null,null,null,null,null,null,null,null,null,null,null,null,null,null,null,null,{"$f":"IF(Clients!B31621=\"\",\"\",Clients!B31621)","v":""},{"$f":"IF(Clients!C31621=\"\",\"\",Clients!C31621)","v":""}]
[null,null,null,null,null,null,null,null,null,null,null,null,null,null,null,null,null,null,{"$f":"IF(Clients!B31635=\"\",\"\",Clients!B31635)","v":""},{"$f":"IF(Clients!C31635=\"\",\"\",Clients!C31635)","v":""}]
[null,null,null,null,null,null,null,null,null,null,null,null,null,null,null,null,null,null,{"$f":"IF(Clients!B31663=\"\",\"\",Clients!B31663)","v":""},{"$f":"IF(Clients!C31663=\"\",\"\",Clients!C31663)","v":""}]
[null,null,null,null,null,null,null,null,null,null,null,null,null,null,null,null,null,null,{"$f":"IF(Clients!B31691=\"\",\"\",Clients!B31691)","v":""},{"$f":"IF(Clients!C31691=\"\",\"\",Clients!C31691)","v":""}]
[null,null,null,null,null,null,null,null,null,null,null,null,null,null,null,null,null,null,{"$f":"IF(Clients!B31718=\"\",\"\",Clients!B31718)","v":""},{"$f":"IF(Clients!C31718=\"\",\"\",Clients!C31718)","v":""}]
[null,null,null,null,null,null,null,null,null,null,null,null,null,null,null,null,null,null,{"$f":"IF(Clients!B31752=\"\",\"\",Clients!B31752)","v":""},{"$f":"IF(Clients!C31752=\"\",\"\",Clients!C31752)","v":""}]
[null,null,null,null,null,null,null,null,null,null,null,null,null,null,null,null,null,null,{"$f":"IF(Clients!B31784=\"\",\"\",Clients!B31784)","v":""},{"$f":"IF(Clients!C31784=\"\",\"\",Clients!C31784)","v":""}]
[null,null,null,null,null,null,null,null,null,null,null,null,null,null,null,null,null,null,{"$f":"IF(Clients!B31812=\"\",\"\",Clients!B31812)","v":""},{"$f":"IF(Clients!C31812=\"\",\"\",Clients!C31812)","v":""}]
[null,null,null,null,null,null,null,null,null,null,null,null,null,null,null,null,null,null,{"$f":"IF(Clients!B31847=\"\",\"\",Clients!B31847)","v":""},{"$f":"IF(Clients!C31847=\"\",\"\",Clients!C31847)","v":""}]
[null,null,null,null,null,null,null,null,null,null,null,null,null,null,null,null,null,null,{"$f":"IF(Clients!B31904=\"\",\"\",Clients!B31904)","v":""},{"$f":"IF(Clients!C31904=\"\",\"\",Clients!C31904)","v":""}]
[null,null,null,null,null,null,null,null,null,null,null,null,null,null,null,null,null,null,{"$f":"IF(Clients!B31932=\"\",\"\",Clients!B31932)","v":""},{"$f":"IF(Clients!C31932=\"\",\"\",Clients!C31932)","v":""}]
[null,null,null,null,null,null,null,null,null,null,null,null,null,null,null,null,null,null,{"$f":"IF(Clients!B31960=\"\",\"\",Clients!B31960)","v":""},{"$f":"IF(Clients!C31960=\"\",\"\",Clients!C31960)","v":""}]
[null,null,null,null,null,null,null,null,null,null,null,null,null,null,null,null,null,null,{"$f":"IF(Clients!B31976=\"\",\"\",Clients!B31976)","v":""},{"$f":"IF(Clients!C31976=\"\",\"\",Clients!C31976)","v":""}]
[null,null,null,null,null,null,null,null,null,null,null,null,null,null,null,null,null,null,{"$f":"IF(Clients!B32021=\"\",\"\",Clients!B32021)","v":""},{"$f":"IF(Clients!C32021=\"\",\"\",Clients!C32021)","v":""}]
[null,null,null,null,null,null,null,null,null,null,null,null,null,null,null,null,null,null,{"$f":"IF(Clients!B32053=\"\",\"\",Clients!B32053)","v":""},{"$f":"IF(Clients!C32053=\"\",\"\",Clients!C32053)","v":""}]
[null,null,null,null,null,null,null,null,null,null,null,null,null,null,null,null,null,null,{"$f":"IF(Clients!B32081=\"\",\"\",Clients!B32081)","v":""},{"$f":"IF(Clients!C32081=\"\",\"\",Clients!C32081)","v":""}]
[null,null,null,null,null,null,null,null,null,null,null,null,null,null,null,null,null,null,{"$f":"IF(Clients!B32105=\"\",\"\",Clients!B32105)","v":""},{"$f":"IF(Clients!C32105=\"\",\"\",Clients!C32105)","v":""}]
[null,null,null,null,null,null,null,null,null,null,null,null,null,null,null,null,null,null,{"$f":"IF(Clients!B32142=\"\",\"\",Clients!B32142)","v":""},{"$f":"IF(Clients!C32142=\"\",\"\",Clients!C32142)","v":""}]
[null,null,null,null,null,null,null,null,null,null,null,null,null,null,null,null,null,null,{"$f":"IF(Clients!B32170=\"\",\"\",Clients!B32170)","v":""},{"$f":"IF(Clients!C32170=\"\",\"\",Clients!C32170)","v":""}]
[null,null,null,null,null,null,null,null,null,null,null,null,null,null,null,null,null,null,{"$f":"IF(Clients!B32198=\"\",\"\",Clients!B32198)","v":""},{"$f":"IF(Clients!C32198=\"\",\"\",Clients!C32198)","v":""}]
[null,null,null,null,null,null,null,null,null,null,null,null,null,null,null,null,null,null,{"$f":"IF(Clients!B32234=\"\",\"\",Clients!B32234)","v":""},{"$f":"IF(Clients!C32234=\"\",\"\",Clients!C32234)","v":""}]
[null,null,null,null,null,null,null,null,null,null,null,null,null,null,null,null,null,null,{"$f":"IF(Clients!B32259=\"\",\"\",Clients!B32259)","v":""},{"$f":"IF(Clients!C32259=\"\",\"\",Clients!C32259)","v":""}]
[null,null,null,null,null,null,null,null,null,null,null,null,null,null,null,null,null,null,{"$f":"IF(Clients!B32291=\"\",\"\",Clients!B32291)","v":""},{"$f":"IF(Clients!C32291=\"\",\"\",Clients!C32291)","v":""}]
[null,null,null,null,null,null,null,null,null,null,null,null,null,null,null,null,null,null,{"$f":"IF(Clients!B32319=\"\",\"\",Clients!B32319)","v":""},{"$f":"IF(Clients!C32319=\"\",\"\",Clients!C32319)","v":""}]
[null,null,null,null,null,null,null,null,null,null,null,null,null,null,null,null,null,null,{"$f":"IF(Clients!B32363=\"\",\"\",Clients!B32363)","v":""},{"$f":"IF(Clients!C32363=\"\",\"\",Clients!C32363)","v":""}]
[null,null,null,null,null,null,null,null,null,null,null,null,null,null,null,null,null,null,{"$f":"IF(Clients!B32380=\"\",\"\",Clients!B32380)","v":""},{"$f":"IF(Clients!C32380=\"\",\"\",Clients!C32380)","v":""}]
[null,null,null,null,null,null,null,null,null,null,null,null,null,null,null,null,null,null,{"$f":"IF(Clients!B32408=\"\",\"\",Clients!B32408)","v":""},{"$f":"IF(Clients!C32408=\"\",\"\",Clients!C32408)","v":""}]
[null,null,null,null,null,null,null,null,null,null,null,null,null,null,null,null,null,null,{"$f":"IF(Clients!B32440=\"\",\"\",Clients!B32440)","v":""},{"$f":"IF(Clients!C32440=\"\",\"\",Clients!C32440)","v":""}]
[null,null,null,null,null,null,null,null,null,null,null,null,null,null,null,null,null,null,{"$f":"IF(Clients!B32492=\"\",\"\",Clients!B32492)","v":""},{"$f":"IF(Clients!C32492=\"\",\"\",Clients!C32492)","v":""}]
[null,null,null,null,null,null,null,null,null,null,null,null,null,null,null,null,null,null,{"$f":"IF(Clients!B32528=\"\",\"\",Clients!B32528)","v":""},{"$f":"IF(Clients!C32528=\"\",\"\",Clients!C32528)","v":""}]
[null,null,null,null,null,null,null,null,null,null,null,null,null,null,null,null,null,null,{"$f":"IF(Clients!B32560=\"\",\"\",Clients!B32560)","v":""},{"$f":"IF(Clients!C32560=\"\",\"\",Clients!C32560)","v":""}]
[null,null,null,null,null,null,null,null,null,null,null,null,null,null,null,null,null,null,{"$f":"IF(Clients!B32588=\"\",\"\",Clients!B32588)","v":""},{"$f":"IF(Clients!C32588=\"\",\"\",Clients!C32588)","v":""}]
[null,null,null,null,null,null,null,null,null,null,null,null,null,null,null,null,null,null,{"$f":"IF(Clients!B32621=\"\",\"\",Clients!B32621)","v":""},{"$f":"IF(Clients!C32621=\"\",\"\",Clients!C32621)","v":""}]
[null,null,null,null,null,null,null,null,null,null,null,null,null,null,null,null,null,null,{"$f":"IF(Clients!B32649=\"\",\"\",Clients!B32649)","v":""},{"$f":"IF(Clients!C32649=\"\",\"\",Clients!C32649)","v":""}]
[null,null,null,null,null,null,null,null,null,null,null,null,null,null,null,null,null,null,{"$f":"IF(Clients!B32677=\"\",\"\",Clients!B32677)","v":""},{"$f":"IF(Clients!C32677=\"\",\"\",Clients!C32677)","v":""}]
[null,null,null,null,null,null,null,null,null,null,null,null,null,null,null,null,null,null,{"$f":"IF(Clients!B32709=\"\",\"\",Clients!B32709)","v":""},{"$f":"IF(Clients!C32709=\"\",\"\",Clients!C32709)","v":""}]
[null,null,null,null,null,null,null,null,null,null,null,null,null,null,null,null,null,null,{"$f":"IF(Clients!B32718=\"\",\"\",Clients!B32718)","v":""},{"$f":"IF(Clients!C32718=\"\",\"\",Clients!C32718)","v":""}]
[null,null,null,null,null,null,null,null,null,null,null,null,null,null,null,null,null,null,{"$f":"IF(Clients!B32766=\"\",\"\",Clients!B32766)","v":""},{"$f":"IF(Clients!C32766=\"\",\"\",Clients!C32766)","v":""}]
[null,null,null,null,null,null,null,null,null,null,null,null,null,null,null,null,null,null,{"$f":"IF(Clients!B32798=\"\",\"\",Clients!B32798)","v":""},{"$f":"IF(Clients!C32798=\"\",\"\",Clients!C32798)","v":""}]
[null,null,null,null,null,null,null,null,null,null,null,null,null,null,null,null,null,null,{"$f":"IF(Clients!B32826=\"\",\"\",Clients!B32826)","v":""},{"$f":"IF(Clients!C32826=\"\",\"\",Clients!C32826)","v":""}]
[null,null,null,null,null,null,null,null,null,null,null,null,null,null,null,null,null,null,{"$f":"IF(Clients!B32847=\"\",\"\",Clients!B32847)","v":""},{"$f":"IF(Clients!C32847=\"\",\"\",Clients!C32847)","v":""}]
[null,null,null,null,null,null,null,null,null,null,null,null,null,null,null,null,null,null,{"$f":"IF(Clients!B32887=\"\",\"\",Clients!B32887)","v":""},{"$f":"IF(Clients!C32887=\"\",\"\",Clients!C32887)","v":""}]
[null,null,null,null,null,null,null,null,null,null,null,null,null,null,null,null,null,null,{"$f":"IF(Clients!B32915=\"\",\"\",Clients!B32915)","v":""},{"$f":"IF(Clients!C32915=\"\",\"\",Clients!C32915)","v":""}]
[null,null,null,null,null,null,null,null,null,null,null,null,null,null,null,null,null,null,{"$f":"IF(Clients!B32947=\"\",\"\",Clients!B32947)","v":""},{"$f":"IF(Clients!C32947=\"\",\"\",Clients!C32947)","v":""}]
[null,null,null,null,null,null,null,null,null,null,null,null,null,null,null,null,null,null,{"$f":"IF(Clients!B32976=\"\",\"\",Clients!B32976)","v":""},{"$f":"IF(Clients!C32976=\"\",\"\",Clients!C32976)","v":""}]
[null,null,null,null,null,null,null,null,null,null,null,null,null,null,null,null,null,null,{"$f":"IF(Clients!B33004=\"\",\"\",Clients!B33004)","v":""},{"$f":"IF(Clients!C33004=\"\",\"\",Clients!C33004)","v":""}]
[null,null,null,null,null,null,null,null,null,null,null,null,null,null,null,null,null,null,{"$f":"IF(Clients!B33036=\"\",\"\",Clients!B33036)","v":""},{"$f":"IF(Clients!C33036=\"\",\"\",Clients!C33036)","v":""}]
[null,null,null,null,null,null,null,null,null,null,null,null,null,null,null,null,null,null,{"$f":"IF(Clients!B33064=\"\",\"\",Clients!B33064)","v":""},{"$f":"IF(Clients!C33064=\"\",\"\",Clients!C33064)","v":""}]
[null,null,null,null,null,null,null,null,null,null,null,null,null,null,null,null,null,null,{"$f":"IF(Clients!B33105=\"\",\"\",Clients!B33105)","v":""},{"$f":"IF(Clients!C33105=\"\",\"\",Clients!C33105)","v":""}]
[null,null,null,null,null,null,null,null,null,null,null,null,null,null,null,null,null,null,{"$f":"IF(Clients!B33125=\"\",\"\",Clients!B33125)","v":""},{"$f":"IF(Clients!C33125=\"\",\"\",Clients!C33125)","v":""}]
[null,null,null,null,null,null,null,null,null,null,null,null,null,null,null,null,null,null,{"$f":"IF(Clients!B33184=\"\",\"\",Clients!B33184)","v":""},{"$f":"IF(Clients!C33184=\"\",\"\",Clients!C33184)","v":""}]
[null,null,null,null,null,null,null,null,null,null,null,null,null,null,null,null,null,null,{"$f":"IF(Clients!B33216=\"\",\"\",Clients!B33216)","v":""},{"$f":"IF(Clients!C33216=\"\",\"\",Clients!C33216)","v":""}]
[null,null,null,null,null,null,null,null,null,null,null,null,null,null,null,null,null,null,{"$f":"IF(Clients!B33234=\"\",\"\",Clients!B33234)","v":""},{"$f":"IF(Clients!C33234=\"\",\"\",Clients!C33234)","v":""}]
[null,null,null,null,null,null,null,null,null,null,null,null,null,null,null,null,null,null,{"$f":"IF(Clients!B33273=\"\",\"\",Clients!B33273)","v":""},{"$f":"IF(Clients!C33273=\"\",\"\",Clients!C33273)","v":""}]
[null,null,null,null,null,null,null,null,null,null,null,null,null,null,null,null,null,null,{"$f":"IF(Clients!B33305=\"\",\"\",Clients!B33305)","v":""},{"$f":"IF(Clients!C33305=\"\",\"\",Clients!C33305)","v":""}]
[null,null,null,null,null,null,null,null,null,null,null,null,null,null,null,null,null,null,{"$f":"IF(Clients!B33333=\"\",\"\",Clients!B33333)","v":""},{"$f":"IF(Clients!C33333=\"\",\"\",Clients!C33333)","v":""}]
[null,null,null,null,null,null,null,null,null,null,null,null,null,null,null,null,null,null,{"$f":"IF(Clients!B33363=\"\",\"\",Clients!B33363)","v":""},{"$f":"IF(Clients!C33363=\"\",\"\",Clients!C33363)","v":""}]
[null,null,null,null,null,null,null,null,null,null,null,null,null,null,null,null,null,null,{"$f":"IF(Clients!B33394=\"\",\"\",Clients!B33394)","v":""},{"$f":"IF(Clients!C33394=\"\",\"\",Clients!C33394)","v":""}]
[null,null,null,null,null,null,null,null,null,null,null,null,null,null,null,null,null,null,{"$f":"IF(Clients!B33422=\"\",\"\",Clients!B33422)","v":""},{"$f":"IF(Clients!C33422=\"\",\"\",Clients!C33422)","v":""}]
[null,null,null,null,null,null,null,null,null,null,null,null,null,null,null,null,null,null,{"$f":"IF(Clients!B33454=\"\",\"\",Clients!B33454)","v":""},{"$f":"IF(Clients!C33454=\"\",\"\",Clients!C33454)","v":""}]
[null,null,null,null,null,null,null,null,null,null,null,null,null,null,null,null,null,null,{"$f":"IF(Clients!B33492=\"\",\"\",Clients!B33492)","v":""},{"$f":"IF(Clients!C33492=\"\",\"\",Clients!C33492)","v":""}]
[null,null,null,null,null,null,null,null,null,null,null,null,null,null,null,null,null,null,{"$f":"IF(Clients!B33515=\"\",\"\",Clients!B33515)","v":""},{"$f":"IF(Clients!C33515=\"\",\"\",Clients!C33515)","v":""}]
[null,null,null,null,null,null,null,null,null,null,null,null,null,null,null,null,null,null,{"$f":"IF(Clients!B33543=\"\",\"\",Clients!B33543)","v":""},{"$f":"IF(Clients!C33543=\"\",\"\",Clients!C33543)","v":""}]
[null,null,null,null,null,null,null,null,null,null,null,null,null,null,null,null,null,null,{"$f":"IF(Clients!B33571=\"\",\"\",Clients!B33571)","v":""},{"$f":"IF(Clients!C33571=\"\",\"\",Clients!C33571)","v":""}]
[null,null,null,null,null,null,null,null,null,null,null,null,null,null,null,null,null,null,{"$f":"IF(Clients!B33621=\"\",\"\",Clients!B33621)","v":""},{"$f":"IF(Clients!C33621=\"\",\"\",Clients!C33621)","v":""}]
[null,null,null,null,null,null,null,null,null,null,null,null,null,null,null,null,null,null,{"$f":"IF(Clients!B33632=\"\",\"\",Clients!B33632)","v":""},{"$f":"IF(Clients!C33632=\"\",\"\",Clients!C33632)","v":""}]
[null,null,null,null,null,null,null,null,null,null,null,null,null,null,null,null,null,null,{"$f":"IF(Clients!B33660=\"\",\"\",Clients!B33660)","v":""},{"$f":"IF(Clients!C33660=\"\",\"\",Clients!C33660)","v":""}]
[null,null,null,null,null,null,null,null,null,null,null,null,null,null,null,null,null,null,{"$f":"IF(Clients!B33692=\"\",\"\",Clients!B33692)","v":""},{"$f":"IF(Clients!C33692=\"\",\"\",Clients!C33692)","v":""}]
[null,null,null,null,null,null,null,null,null,null,null,null,null,null,null,null,null,null,{"$f":"IF(Clients!B33718=\"\",\"\",Clients!B33718)","v":""},{"$f":"IF(Clients!C33718=\"\",\"\",Clients!C33718)","v":""}]
[null,null,null,null,null,null,null,null,null,null,null,null,null,null,null,null,null,null,{"$f":"IF(Clients!B33753=\"\",\"\",Clients!B33753)","v":""},{"$f":"IF(Clients!C33753=\"\",\"\",Clients!C33753)","v":""}]
[null,null,null,null,null,null,null,null,null,null,null,null,null,null,null,null,null,null,{"$f":"IF(Clients!B33781=\"\",\"\",Clients!B33781)","v":""},{"$f":"IF(Clients!C33781=\"\",\"\",Clients!C33781)","v":""}]
[null,null,null,null,null,null,null,null,null,null,null,null,null,null,null,null,null,null,{"$f":"IF(Clients!B33840=\"\",\"\",Clients!B33840)","v":""},{"$f":"IF(Clients!C33840=\"\",\"\",Clients!C33840)","v":""}]
[null,null,null,null,null,null,null,null,null,null,null,null,null,null,null,null,null,null,{"$f":"IF(Clients!B33847=\"\",\"\",Clients!B33847)","v":""},{"$f":"IF(Clients!C33847=\"\",\"\",Clients!C33847)","v":""}]
[null,null,null,null,null,null,null,null,null,null,null,null,null,null,null,null,null,null,{"$f":"IF(Clients!B33901=\"\",\"\",Clients!B33901)","v":""},{"$f":"IF(Clients!C33901=\"\",\"\",Clients!C33901)","v":""}]
[null,null,null,null,null,null,null,null,null,null,null,null,null,null,null,null,null,null,{"$f":"IF(Clients!B33929=\"\",\"\",Clients!B33929)","v":""},{"$f":"IF(Clients!C33929=\"\",\"\",Clients!C33929)","v":""}]
[null,null,null,null,null,null,null,null,null,null,null,null,null,null,null,null,null,null,{"$f":"IF(Clients!B33961=\"\",\"\",Clients!B33961)","v":""},{"$f":"IF(Clients!C33961=\"\",\"\",Clients!C33961)","v":""}]
[null,null,null,null,null,null,null,null,null,null,null,null,null,null,null,null,null,null,{"$f":"IF(Clients!B33976=\"\",\"\",Clients!B33976)","v":""},{"$f":"IF(Clients!C33976=\"\",\"\",Clients!C33976)","v":""}]
[null,null,null,null,null,null,null,null,null,null,null,null,null,null,null,null,null,null,{"$f":"IF(Clients!B34022=\"\",\"\",Clients!B34022)","v":""},{"$f":"IF(Clients!C34022=\"\",\"\",Clients!C34022)","v":""}]
[null,null,null,null,null,null,null,null,null,null,null,null,null,null,null,null,null,null,{"$f":"IF(Clients!B34050=\"\",\"\",Clients!B34050)","v":""},{"$f":"IF(Clients!C34050=\"\",\"\",Clients!C34050)","v":""}]
[null,null,null,null,null,null,null,null,null,null,null,null,null,null,null,null,null,null,{"$f":"IF(Clients!B34078=\"\",\"\",Clients!B34078)","v":""},{"$f":"IF(Clients!C34078=\"\",\"\",Clients!C34078)","v":""}]
[null,null,null,null,null,null,null,null,null,null,null,null,null,null,null,null,null,null,{"$f":"IF(Clients!B34105=\"\",\"\",Clients!B34105)","v":""},{"$f":"IF(Clients!C34105=\"\",\"\",Clients!C34105)","v":""}]
[null,null,null,null,null,null,null,null,null,null,null,null,null,null,null,null,null,null,{"$f":"IF(Clients!B34139=\"\",\"\",Clients!B34139)","v":""},{"$f":"IF(Clients!C34139=\"\",\"\",Clients!C34139)","v":""}]
[null,null,null,null,null,null,null,null,null,null,null,null,null,null,null,null,null,null,{"$f":"IF(Clients!B34171=\"\",\"\",Clients!B34171)","v":""},{"$f":"IF(Clients!C34171=\"\",\"\",Clients!C34171)","v":""}]
[null,null,null,null,null,null,null,null,null,null,null,null,null,null,null,null,null,null,{"$f":"IF(Clients!B34199=\"\",\"\",Clients!B34199)","v":""},{"$f":"IF(Clients!C34199=\"\",\"\",Clients!C34199)","v":""}]
[null,null,null,null,null,null,null,null,null,null,null,null,null,null,null,null,null,null,{"$f":"IF(Clients!B34234=\"\",\"\",Clients!B34234)","v":""},{"$f":"IF(Clients!C34234=\"\",\"\",Clients!C34234)","v":""}]
[null,null,null,null,null,null,null,null,null,null,null,null,null,null,null,null,null,null,{"$f":"IF(Clients!B34260=\"\",\"\",Clients!B34260)","v":""},{"$f":"IF(Clients!C34260=\"\",\"\",Clients!C34260)","v":""}]
[null,null,null,null,null,null,null,null,null,null,null,null,null,null,null,null,null,null,{"$f":"IF(Clients!B34288=\"\",\"\",Clients!B34288)","v":""},{"$f":"IF(Clients!C34288=\"\",\"\",Clients!C34288)","v":""}]
[null,null,null,null,null,null,null,null,null,null,null,null,null,null,null,null,null,null,{"$f":"IF(Clients!B34316=\"\",\"\",Clients!B34316)","v":""},{"$f":"IF(Clients!C34316=\"\",\"\",Clients!C34316)","v":""}]
[null,null,null,null,null,null,null,null,null,null,null,null,null,null,null,null,null,null,{"$f":"IF(Clients!B34363=\"\",\"\",Clients!B34363)","v":""},{"$f":"IF(Clients!C34363=\"\",\"\",Clients!C34363)","v":""}]
[null,null,null,null,null,null,null,null,null,null,null,null,null,null,null,null,null,null,{"$f":"IF(Clients!B34377=\"\",\"\",Clients!B34377)","v":""},{"$f":"IF(Clients!C34377=\"\",\"\",Clients!C34377)","v":""}]
[null,null,null,null,null,null,null,null,null,null,null,null,null,null,null,null,null,null,{"$f":"IF(Clients!B34409=\"\",\"\",Clients!B34409)","v":""},{"$f":"IF(Clients!C34409=\"\",\"\",Clients!C34409)","v":""}]
[null,null,null,null,null,null,null,null,null,null,null,null,null,null,null,null,null,null,{"$f":"IF(Clients!B34437=\"\",\"\",Clients!B34437)","v":""},{"$f":"IF(Clients!C34437=\"\",\"\",Clients!C34437)","v":""}]
[null,null,null,null,null,null,null,null,null,null,null,null,null,null,null,null,null,null,{"$f":"IF(Clients!B34492=\"\",\"\",Clients!B34492)","v":""},{"$f":"IF(Clients!C34492=\"\",\"\",Clients!C34492)","v":""}]
[null,null,null,null,null,null,null,null,null,null,null,null,null,null,null,null,null,null,{"$f":"IF(Clients!B34529=\"\",\"\",Clients!B34529)","v":""},{"$f":"IF(Clients!C34529=\"\",\"\",Clients!C34529)","v":""}]
[null,null,null,null,null,null,null,null,null,null,null,null,null,null,null,null,null,null,{"$f":"IF(Clients!B34557=\"\",\"\",Clients!B34557)","v":""},{"$f":"IF(Clients!C34557=\"\",\"\",Clients!C34557)","v":""}]
[null,null,null,null,null,null,null,null,null,null,null,null,null,null,null,null,null,null,{"$f":"IF(Clients!B34589=\"\",\"\",Clients!B34589)","v":""},{"$f":"IF(Clients!C34589=\"\",\"\",Clients!C34589)","v":""}]
[null,null,null,null,null,null,null,null,null,null,null,null,null,null,null,null,null,null,{"$f":"IF(Clients!B34621=\"\",\"\",Clients!B34621)","v":""},{"$f":"IF(Clients!C34621=\"\",\"\",Clients!C34621)","v":""}]
[null,null,null,null,null,null,null,null,null,null,null,null,null,null,null,null,null,null,{"$f":"IF(Clients!B34646=\"\",\"\",Clients!B34646)","v":""},{"$f":"IF(Clients!C34646=\"\",\"\",Clients!C34646)","v":""}]
[null,null,null,null,null,null,null,null,null,null,null,null,null,null,null,null,null,null,{"$f":"IF(Clients!B34678=\"\",\"\",Clients!B34678)","v":""},{"$f":"IF(Clients!C34678=\"\",\"\",Clients!C34678)","v":""}]
[null,null,null,null,null,null,null,null,null,null,null,null,null,null,null,null,null,null,{"$f":"IF(Clients!B34706=\"\",\"\",Clients!B34706)","v":""},{"$f":"IF(Clients!C34706=\"\",\"\",Clients!C34706)","v":""}]
[null,null,null,null,null,null,null,null,null,null,null,null,null,null,null,null,null,null,{"$f":"IF(Clients!B34718=\"\",\"\",Clients!B34718)","v":""},{"$f":"IF(Clients!C34718=\"\",\"\",Clients!C34718)","v":""}]
[null,null,null,null,null,null,null,null,null,null,null,null,null,null,null,null,null,null,{"$f":"IF(Clients!B34767=\"\",\"\",Clients!B34767)","v":""},{"$f":"IF(Clients!C34767=\"\",\"\",Clients!C34767)","v":""}]
[null,null,null,null,null,null,null,null,null,null,null,null,null,null,null,null,null,null,{"$f":"IF(Clients!B34795=\"\",\"\",Clients!B34795)","v":""},{"$f":"IF(Clients!C34795=\"\",\"\",Clients!C34795)","v":""}]
[null,null,null,null,null,null,null,null,null,null,null,null,null,null,null,null,null,null,{"$f":"IF(Clients!B34827=\"\",\"\",Clients!B34827)","v":""},{"$f":"IF(Clients!C34827=\"\",\"\",Clients!C34827)","v":""}]
[null,null,null,null,null,null,null,null,null,null,null,null,null,null,null,null,null,null,{"$f":"IF(Clients!B34847=\"\",\"\",Clients!B34847)","v":""},{"$f":"IF(Clients!C34847=\"\",\"\",Clients!C34847)","v":""}]
[null,null,null,null,null,null,null,null,null,null,null,null,null,null,null,null,null,null,{"$f":"IF(Clients!B34884=\"\",\"\",Clients!B34884)","v":""},{"$f":"IF(Clients!C34884=\"\",\"\",Clients!C34884)","v":""}]
[null,null,null,null,null,null,null,null,null,null,null,null,null,null,null,null,null,null,{"$f":"IF(Clients!B34916=\"\",\"\",Clients!B34916)","v":""},{"$f":"IF(Clients!C34916=\"\",\"\",Clients!C34916)","v":""}]
[null,null,null,null,null,null,null,null,null,null,null,null,null,null,null,null,null,null,{"$f":"IF(Clients!B34944=\"\",\"\",Clients!B34944)","v":""},{"$f":"IF(Clients!C34944=\"\",\"\",Clients!C34944)","v":""}]
[null,null,null,null,null,null,null,null,null,null,null,null,null,null,null,null,null,null,{"$f":"IF(Clients!B34976=\"\",\"\",Clients!B34976)","v":""},{"$f":"IF(Clients!C34976=\"\",\"\",Clients!C34976)","v":""}]
[null,null,null,null,null,null,null,null,null,null,null,null,null,null,null,null,null,null,{"$f":"IF(Clients!B35005=\"\",\"\",Clients!B35005)","v":""},{"$f":"IF(Clients!C35005=\"\",\"\",Clients!C35005)","v":""}]
[null,null,null,null,null,null,null,null,null,null,null,null,null,null,null,null,null,null,{"$f":"IF(Clients!B35033=\"\",\"\",Clients!B35033)","v":""},{"$f":"IF(Clients!C35033=\"\",\"\",Clients!C35033)","v":""}]
[null,null,null,null,null,null,null,null,null,null,null,null,null,null,null,null,null,null,{"$f":"IF(Clients!B35065=\"\",\"\",Clients!B35065)","v":""},{"$f":"IF(Clients!C35065=\"\",\"\",Clients!C35065)","v":""}]
[null,null,null,null,null,null,null,null,null,null,null,null,null,null,null,null,null,null,{"$f":"IF(Clients!B35105=\"\",\"\",Clients!B35105)","v":""},{"$f":"IF(Clients!C35105=\"\",\"\",Clients!C35105)","v":""}]
[null,null,null,null,null,null,null,null,null,null,null,null,null,null,null,null,null,null,{"$f":"IF(Clients!B35153=\"\",\"\",Clients!B35153)","v":""},{"$f":"IF(Clients!C35153=\"\",\"\",Clients!C35153)","v":""}]
[null,null,null,null,null,null,null,null,null,null,null,null,null,null,null,null,null,null,{"$f":"IF(Clients!B35185=\"\",\"\",Clients!B35185)","v":""},{"$f":"IF(Clients!C35185=\"\",\"\",Clients!C35185)","v":""}]
[null,null,null,null,null,null,null,null,null,null,null,null,null,null,null,null,null,null,{"$f":"IF(Clients!B35213=\"\",\"\",Clients!B35213)","v":""},{"$f":"IF(Clients!C35213=\"\",\"\",Clients!C35213)","v":""}]
[null,null,null,null,null,null,null,null,null,null,null,null,null,null,null,null,null,null,{"$f":"IF(Clients!B35234=\"\",\"\",Clients!B35234)","v":""},{"$f":"IF(Clients!C35234=\"\",\"\",Clients!C35234)","v":""}]
[null,null,null,null,null,null,null,null,null,null,null,null,null,null,null,null,null,null,{"$f":"IF(Clients!B35274=\"\",\"\",Clients!B35274)","v":""},{"$f":"IF(Clients!C35274=\"\",\"\",Clients!C35274)","v":""}]
[null,null,null,null,null,null,null,null,null,null,null,null,null,null,null,null,null,null,{"$f":"IF(Clients!B35302=\"\",\"\",Clients!B35302)","v":""},{"$f":"IF(Clients!C35302=\"\",\"\",Clients!C35302)","v":""}]
[null,null,null,null,null,null,null,null,null,null,null,null,null,null,null,null,null,null,{"$f":"IF(Clients!B35334=\"\",\"\",Clients!B35334)","v":""},{"$f":"IF(Clients!C35334=\"\",\"\",Clients!C35334)","v":""}]
[null,null,null,null,null,null,null,null,null,null,null,null,null,null,null,null,null,null,{"$f":"IF(Clients!B35363=\"\",\"\",Clients!B35363)","v":""},{"$f":"IF(Clients!C35363=\"\",\"\",Clients!C35363)","v":""}]
[null,null,null,null,null,null,null,null,null,null,null,null,null,null,null,null,null,null,{"$f":"IF(Clients!B35391=\"\",\"\",Clients!B35391)","v":""},{"$f":"IF(Clients!C35391=\"\",\"\",Clients!C35391)","v":""}]
[null,null,null,null,null,null,null,null,null,null,null,null,null,null,null,null,null,null,{"$f":"IF(Clients!B35423=\"\",\"\",Clients!B35423)","v":""},{"$f":"IF(Clients!C35423=\"\",\"\",Clients!C35423)","v":""}]
[null,null,null,null,null,null,null,null,null,null,null,null,null,null,null,null,null,null,{"$f":"IF(Clients!B35451=\"\",\"\",Clients!B35451)","v":""},{"$f":"IF(Clients!C35451=\"\",\"\",Clients!C35451)","v":""}]
[null,null,null,null,null,null,null,null,null,null,null,null,null,null,null,null,null,null,{"$f":"IF(Clients!B35492=\"\",\"\",Clients!B35492)","v":""},{"$f":"IF(Clients!C35492=\"\",\"\",Clients!C35492)","v":""}]
[null,null,null,null,null,null,null,null,null,null,null,null,null,null,null,null,null,null,{"$f":"IF(Clients!B35512=\"\",\"\",Clients!B35512)","v":""},{"$f":"IF(Clients!C35512=\"\",\"\",Clients!C35512)","v":""}]
[null,null,null,null,null,null,null,null,null,null,null,null,null,null,null,null,null,null,{"$f":"IF(Clients!B35540=\"\",\"\",Clients!B35540)","v":""},{"$f":"IF(Clients!C35540=\"\",\"\",Clients!C35540)","v":""}]
[null,null,null,null,null,null,null,null,null,null,null,null,null,null,null,null,null,null,{"$f":"IF(Clients!B35572=\"\",\"\",Clients!B35572)","v":""},{"$f":"IF(Clients!C35572=\"\",\"\",Clients!C35572)","v":""}]
[null,null,null,null,null,null,null,null,null,null,null,null,null,null,null,null,null,null,{"$f":"IF(Clients!B35621=\"\",\"\",Clients!B35621)","v":""},{"$f":"IF(Clients!C35621=\"\",\"\",Clients!C35621)","v":""}]
[null,null,null,null,null,null,null,null,null,null,null,null,null,null,null,null,null,null,{"$f":"IF(Clients!B35629=\"\",\"\",Clients!B35629)","v":""},{"$f":"IF(Clients!C35629=\"\",\"\",Clients!C35629)","v":""}]
[null,null,null,null,null,null,null,null,null,null,null,null,null,null,null,null,null,null,{"$f":"IF(Clients!B35661=\"\",\"\",Clients!B35661)","v":""},{"$f":"IF(Clients!C35661=\"\",\"\",Clients!C35661)","v":""}]
[null,null,null,null,null,null,null,null,null,null,null,null,null,null,null,null,null,null,{"$f":"IF(Clients!B35689=\"\",\"\",Clients!B35689)","v":""},{"$f":"IF(Clients!C35689=\"\",\"\",Clients!C35689)","v":""}]
[null,null,null,null,null,null,null,null,null,null,null,null,null,null,null,null,null,null,{"$f":"IF(Clients!B35718=\"\",\"\",Clients!B35718)","v":""},{"$f":"IF(Clients!C35718=\"\",\"\",Clients!C35718)","v":""}]
[null,null,null,null,null,null,null,null,null,null,null,null,null,null,null,null,null,null,{"$f":"IF(Clients!B35750=\"\",\"\",Clients!B35750)","v":""},{"$f":"IF(Clients!C35750=\"\",\"\",Clients!C35750)","v":""}]
[null,null,null,null,null,null,null,null,null,null,null,null,null,null,null,null,null,null,{"$f":"IF(Clients!B35809=\"\",\"\",Clients!B35809)","v":""},{"$f":"IF(Clients!C35809=\"\",\"\",Clients!C35809)","v":""}]
[null,null,null,null,null,null,null,null,null,null,null,null,null,null,null,null,null,null,{"$f":"IF(Clients!B35841=\"\",\"\",Clients!B35841)","v":""},{"$f":"IF(Clients!C35841=\"\",\"\",Clients!C35841)","v":""}]
[null,null,null,null,null,null,null,null,null,null,null,null,null,null,null,null,null,null,{"$f":"IF(Clients!B35847=\"\",\"\",Clients!B35847)","v":""},{"$f":"IF(Clients!C35847=\"\",\"\",Clients!C35847)","v":""}]
[null,null,null,null,null,null,null,null,null,null,null,null,null,null,null,null,null,null,{"$f":"IF(Clients!B35902=\"\",\"\",Clients!B35902)","v":""},{"$f":"IF(Clients!C35902=\"\",\"\",Clients!C35902)","v":""}]
[null,null,null,null,null,null,null,null,null,null,null,null,null,null,null,null,null,null,{"$f":"IF(Clients!B35930=\"\",\"\",Clients!B35930)","v":""},{"$f":"IF(Clients!C35930=\"\",\"\",Clients!C35930)","v":""}]
[null,null,null,null,null,null,null,null,null,null,null,null,null,null,null,null,null,null,{"$f":"IF(Clients!B35958=\"\",\"\",Clients!B35958)","v":""},{"$f":"IF(Clients!C35958=\"\",\"\",Clients!C35958)","v":""}]
[null,null,null,null,null,null,null,null,null,null,null,null,null,null,null,null,null,null,{"$f":"IF(Clients!B35976=\"\",\"\",Clients!B35976)","v":""},{"$f":"IF(Clients!C35976=\"\",\"\",Clients!C35976)","v":""}]
[null,null,null,null,null,null,null,null,null,null,null,null,null,null,null,null,null,null,{"$f":"IF(Clients!B36019=\"\",\"\",Clients!B36019)","v":""},{"$f":"IF(Clients!C36019=\"\",\"\",Clients!C36019)","v":""}]
[null,null,null,null,null,null,null,null,null,null,null,null,null,null,null,null,null,null,{"$f":"IF(Clients!B36047=\"\",\"\",Clients!B36047)","v":""},{"$f":"IF(Clients!C36047=\"\",\"\",Clients!C36047)","v":""}]
[null,null,null,null,null,null,null,null,null,null,null,null,null,null,null,null,null,null,{"$f":"IF(Clients!B36079=\"\",\"\",Clients!B36079)","v":""},{"$f":"IF(Clients!C36079=\"\",\"\",Clients!C36079)","v":""}]
[null,null,null,null,null,null,null,null,null,null,null,null,null,null,null,null,null,null,{"$f":"IF(Clients!B36105=\"\",\"\",Clients!B36105)","v":""},{"$f":"IF(Clients!C36105=\"\",\"\",Clients!C36105)","v":""}]
[null,null,null,null,null,null,null,null,null,null,null,null,null,null,null,null,null,null,{"$f":"IF(Clients!B36140=\"\",\"\",Clients!B36140)","v":""},{"$f":"IF(Clients!C36140=\"\",\"\",Clients!C36140)","v":""}]
[null,null,null,null,null,null,null,null,null,null,null,null,null,null,null,null,null,null,{"$f":"IF(Clients!B36168=\"\",\"\",Clients!B36168)","v":""},{"$f":"IF(Clients!C36168=\"\",\"\",Clients!C36168)","v":""}]
[null,null,null,null,null,null,null,null,null,null,null,null,null,null,null,null,null,null,{"$f":"IF(Clients!B36196=\"\",\"\",Clients!B36196)","v":""},{"$f":"IF(Clients!C36196=\"\",\"\",Clients!C36196)","v":""}]
[null,null,null,null,null,null,null,null,null,null,null,null,null,null,null,null,null,null,{"$f":"IF(Clients!B36234=\"\",\"\",Clients!B36234)","v":""},{"$f":"IF(Clients!C36234=\"\",\"\",Clients!C36234)","v":""}]
[null,null,null,null,null,null,null,null,null,null,null,null,null,null,null,null,null,null,{"$f":"IF(Clients!B36257=\"\",\"\",Clients!B36257)","v":""},{"$f":"IF(Clients!C36257=\"\",\"\",Clients!C36257)","v":""}]
[null,null,null,null,null,null,null,null,null,null,null,null,null,null,null,null,null,null,{"$f":"IF(Clients!B36289=\"\",\"\",Clients!B36289)","v":""},{"$f":"IF(Clients!C36289=\"\",\"\",Clients!C36289)","v":""}]
[null,null,null,null,null,null,null,null,null,null,null,null,null,null,null,null,null,null,{"$f":"IF(Clients!B36317=\"\",\"\",Clients!B36317)","v":""},{"$f":"IF(Clients!C36317=\"\",\"\",Clients!C36317)","v":""}]
[null,null,null,null,null,null,null,null,null,null,null,null,null,null,null,null,null,null,{"$f":"IF(Clients!B36363=\"\",\"\",Clients!B36363)","v":""},{"$f":"IF(Clients!C36363=\"\",\"\",Clients!C36363)","v":""}]
[null,null,null,null,null,null,null,null,null,null,null,null,null,null,null,null,null,null,{"$f":"IF(Clients!B36378=\"\",\"\",Clients!B36378)","v":""},{"$f":"IF(Clients!C36378=\"\",\"\",Clients!C36378)","v":""}]
[null,null,null,null,null,null,null,null,null,null,null,null,null,null,null,null,null,null,{"$f":"IF(Clients!B36406=\"\",\"\",Clients!B36406)","v":""},{"$f":"IF(Clients!C36406=\"\",\"\",Clients!C36406)","v":""}]
[null,null,null,null,null,null,null,null,null,null,null,null,null,null,null,null,null,null,{"$f":"IF(Clients!B36465=\"\",\"\",Clients!B36465)","v":""},{"$f":"IF(Clients!C36465=\"\",\"\",Clients!C36465)","v":""}]
[null,null,null,null,null,null,null,null,null,null,null,null,null,null,null,null,null,null,{"$f":"IF(Clients!B36492=\"\",\"\",Clients!B36492)","v":""},{"$f":"IF(Clients!C36492=\"\",\"\",Clients!C36492)","v":""}]
[null,null,null,null,null,null,null,null,null,null,null,null,null,null,null,null,null,null,{"$f":"IF(Clients!B36526=\"\",\"\",Clients!B36526)","v":""},{"$f":"IF(Clients!C36526=\"\",\"\",Clients!C36526)","v":""}]
[null,null,null,null,null,null,null,null,null,null,null,null,null,null,null,null,null,null,{"$f":"IF(Clients!B36558=\"\",\"\",Clients!B36558)","v":""},{"$f":"IF(Clients!C36558=\"\",\"\",Clients!C36558)","v":""}]
[null,null,null,null,null,null,null,null,null,null,null,null,null,null,null,null,null,null,{"$f":"IF(Clients!B36586=\"\",\"\",Clients!B36586)","v":""},{"$f":"IF(Clients!C36586=\"\",\"\",Clients!C36586)","v":""}]
[null,null,null,null,null,null,null,null,null,null,null,null,null,null,null,null,null,null,{"$f":"IF(Clients!B36621=\"\",\"\",Clients!B36621)","v":""},{"$f":"IF(Clients!C36621=\"\",\"\",Clients!C36621)","v":""}]
[null,null,null,null,null,null,null,null,null,null,null,null,null,null,null,null,null,null,{"$f":"IF(Clients!B36647=\"\",\"\",Clients!B36647)","v":""},{"$f":"IF(Clients!C36647=\"\",\"\",Clients!C36647)","v":""}]
[null,null,null,null,null,null,null,null,null,null,null,null,null,null,null,null,null,null,{"$f":"IF(Clients!B36675=\"\",\"\",Clients!B36675)","v":""},{"$f":"IF(Clients!C36675=\"\",\"\",Clients!C36675)","v":""}]
[null,null,null,null,null,null,null,null,null,null,null,null,null,null,null,null,null,null,{"$f":"IF(Clients!B36703=\"\",\"\",Clients!B36703)","v":""},{"$f":"IF(Clients!C36703=\"\",\"\",Clients!C36703)","v":""}]
[null,null,null,null,null,null,null,null,null,null,null,null,null,null,null,null,null,null,{"$f":"IF(Clients!B36718=\"\",\"\",Clients!B36718)","v":""},{"$f":"IF(Clients!C36718=\"\",\"\",Clients!C36718)","v":""}]
[null,null,null,null,null,null,null,null,null,null,null,null,null,null,null,null,null,null,{"$f":"IF(Clients!B36764=\"\",\"\",Clients!B36764)","v":""},{"$f":"IF(Clients!C36764=\"\",\"\",Clients!C36764)","v":""}]
[null,null,null,null,null,null,null,null,null,null,null,null,null,null,null,null,null,null,{"$f":"IF(Clients!B36796=\"\",\"\",Clients!B36796)","v":""},{"$f":"IF(Clients!C36796=\"\",\"\",Clients!C36796)","v":""}]
[null,null,null,null,null,null,null,null,null,null,null,null,null,null,null,null,null,null,{"$f":"IF(Clients!B36824=\"\",\"\",Clients!B36824)","v":""},{"$f":"IF(Clients!C36824=\"\",\"\",Clients!C36824)","v":""}]
[null,null,null,null,null,null,null,null,null,null,null,null,null,null,null,null,null,null,{"$f":"IF(Clients!B36847=\"\",\"\",Clients!B36847)","v":""},{"$f":"IF(Clients!C36847=\"\",\"\",Clients!C36847)","v":""}]
[null,null,null,null,null,null,null,null,null,null,null,null,null,null,null,null,null,null,{"$f":"IF(Clients!B36885=\"\",\"\",Clients!B36885)","v":""},{"$f":"IF(Clients!C36885=\"\",\"\",Clients!C36885)","v":""}]
[null,null,null,null,null,null,null,null,null,null,null,null,null,null,null,null,null,null,{"$f":"IF(Clients!B36913=\"\",\"\",Clients!B36913)","v":""},{"$f":"IF(Clients!C36913=\"\",\"\",Clients!C36913)","v":""}]
[null,null,null,null,null,null,null,null,null,null,null,null,null,null,null,null,null,null,{"$f":"IF(Clients!B36945=\"\",\"\",Clients!B36945)","v":""},{"$f":"IF(Clients!C36945=\"\",\"\",Clients!C36945)","v":""}]
[null,null,null,null,null,null,null,null,null,null,null,null,null,null,null,null,null,null,{"$f":"IF(Clients!B36976=\"\",\"\",Clients!B36976)","v":""},{"$f":"IF(Clients!C36976=\"\",\"\",Clients!C36976)","v":""}]
[null,null,null,null,null,null,null,null,null,null,null,null,null,null,null,null,null,null,{"$f":"IF(Clients!B37002=\"\",\"\",Clients!B37002)","v":""},{"$f":"IF(Clients!C37002=\"\",\"\",Clients!C37002)","v":""}]
[null,null,null,null,null,null,null,null,null,null,null,null,null,null,null,null,null,null,{"$f":"IF(Clients!B37034=\"\",\"\",Clients!B37034)","v":""},{"$f":"IF(Clients!C37034=\"\",\"\",Clients!C37034)","v":""}]
[null,null,null,null,null,null,null,null,null,null,null,null,null,null,null,null,null,null,{"$f":"IF(Clients!B37062=\"\",\"\",Clients!B37062)","v":""},{"$f":"IF(Clients!C37062=\"\",\"\",Clients!C37062)","v":""}]
[null,null,null,null,null,null,null,null,null,null,null,null,null,null,null,null,null,null,{"$f":"IF(Clients!B37105=\"\",\"\",Clients!B37105)","v":""},{"$f":"IF(Clients!C37105=\"\",\"\",Clients!C37105)","v":""}]
[null,null,null,null,null,null,null,null,null,null,null,null,null,null,null,null,null,null,{"$f":"IF(Clients!B37154=\"\",\"\",Clients!B37154)","v":""},{"$f":"IF(Clients!C37154=\"\",\"\",Clients!C37154)","v":""}]
[null,null,null,null,null,null,null,null,null,null,null,null,null,null,null,null,null,null,{"$f":"IF(Clients!B37182=\"\",\"\",Clients!B37182)","v":""},{"$f":"IF(Clients!C37182=\"\",\"\",Clients!C37182)","v":""}]
[null,null,null,null,null,null,null,null,null,null,null,null,null,null,null,null,null,null,{"$f":"IF(Clients!B37214=\"\",\"\",Clients!B37214)","v":""},{"$f":"IF(Clients!C37214=\"\",\"\",Clients!C37214)","v":""}]
[null,null,null,null,null,null,null,null,null,null,null,null,null,null,null,null,null,null,{"$f":"IF(Clients!B37234=\"\",\"\",Clients!B37234)","v":""},{"$f":"IF(Clients!C37234=\"\",\"\",Clients!C37234)","v":""}]
[null,null,null,null,null,null,null,null,null,null,null,null,null,null,null,null,null,null,{"$f":"IF(Clients!B37271=\"\",\"\",Clients!B37271)","v":""},{"$f":"IF(Clients!C37271=\"\",\"\",Clients!C37271)","v":""}]
[null,null,null,null,null,null,null,null,null,null,null,null,null,null,null,null,null,null,{"$f":"IF(Clients!B37303=\"\",\"\",Clients!B37303)","v":""},{"$f":"IF(Clients!C37303=\"\",\"\",Clients!C37303)","v":""}]
[null,null,null,null,null,null,null,null,null,null,null,null,null,null,null,null,null,null,{"$f":"IF(Clients!B37331=\"\",\"\",Clients!B37331)","v":""},{"$f":"IF(Clients!C37331=\"\",\"\",Clients!C37331)","v":""}]
[null,null,null,null,null,null,null,null,null,null,null,null,null,null,null,null,null,null,{"$f":"IF(Clients!B37363=\"\",\"\",Clients!B37363)","v":""},{"$f":"IF(Clients!C37363=\"\",\"\",Clients!C37363)","v":""}]
[null,null,null,null,null,null,null,null,null,null,null,null,null,null,null,null,null,null,{"$f":"IF(Clients!B37392=\"\",\"\",Clients!B37392)","v":""},{"$f":"IF(Clients!C37392=\"\",\"\",Clients!C37392)","v":""}]
[null,null,null,null,null,null,null,null,null,null,null,null,null,null,null,null,null,null,{"$f":"IF(Clients!B37420=\"\",\"\",Clients!B37420)","v":""},{"$f":"IF(Clients!C37420=\"\",\"\",Clients!C37420)","v":""}]
[null,null,null,null,null,null,null,null,null,null,null,null,null,null,null,null,null,null,{"$f":"IF(Clients!B37452=\"\",\"\",Clients!B37452)","v":""},{"$f":"IF(Clients!C37452=\"\",\"\",Clients!C37452)","v":""}]
[null,null,null,null,null,null,null,null,null,null,null,null,null,null,null,null,null,null,{"$f":"IF(Clients!B37492=\"\",\"\",Clients!B37492)","v":""},{"$f":"IF(Clients!C37492=\"\",\"\",Clients!C37492)","v":""}]
[null,null,null,null,null,null,null,null,null,null,null,null,null,null,null,null,null,null,{"$f":"IF(Clients!B37509=\"\",\"\",Clients!B37509)","v":""},{"$f":"IF(Clients!C37509=\"\",\"\",Clients!C37509)","v":""}]
[null,null,null,null,null,null,null,null,null,null,null,null,null,null,null,null,null,null,{"$f":"IF(Clients!B37541=\"\",\"\",Clients!B37541)","v":""},{"$f":"IF(Clients!C37541=\"\",\"\",Clients!C37541)","v":""}]
[null,null,null,null,null,null,null,null,null,null,null,null,null,null,null,null,null,null,{"$f":"IF(Clients!B37569=\"\",\"\",Clients!B37569)","v":""},{"$f":"IF(Clients!C37569=\"\",\"\",Clients!C37569)","v":""}]
[null,null,null,null,null,null,null,null,null,null,null,null,null,null,null,null,null,null,{"$f":"IF(Clients!B37621=\"\",\"\",Clients!B37621)","v":""},{"$f":"IF(Clients!C37621=\"\",\"\",Clients!C37621)","v":""}]
[null,null,null,null,null,null,null,null,null,null,null,null,null,null,null,null,null,null,{"$f":"IF(Clients!B37630=\"\",\"\",Clients!B37630)","v":""},{"$f":"IF(Clients!C37630=\"\",\"\",Clients!C37630)","v":""}]
[null,null,null,null,null,null,null,null,null,null,null,null,null,null,null,null,null,null,{"$f":"IF(Clients!B37658=\"\",\"\",Clients!B37658)","v":""},{"$f":"IF(Clients!C37658=\"\",\"\",Clients!C37658)","v":""}]
[null,null,null,null,null,null,null,null,null,null,null,null,null,null,null,null,null,null,{"$f":"IF(Clients!B37690=\"\",\"\",Clients!B37690)","v":""},{"$f":"IF(Clients!C37690=\"\",\"\",Clients!C37690)","v":""}]
[null,null,null,null,null,null,null,null,null,null,null,null,null,null,null,null,null,null,{"$f":"IF(Clients!B37718=\"\",\"\",Clients!B37718)","v":""},{"$f":"IF(Clients!C37718=\"\",\"\",Clients!C37718)","v":""}]
[null,null,null,null,null,null,null,null,null,null,null,null,null,null,null,null,null,null,{"$f":"IF(Clients!B37778=\"\",\"\",Clients!B37778)","v":""},{"$f":"IF(Clients!C37778=\"\",\"\",Clients!C37778)","v":""}]
[null,null,null,null,null,null,null,null,null,null,null,null,null,null,null,null,null,null,{"$f":"IF(Clients!B37810=\"\",\"\",Clients!B37810)","v":""},{"$f":"IF(Clients!C37810=\"\",\"\",Clients!C37810)","v":""}]
[null,null,null,null,null,null,null,null,null,null,null,null,null,null,null,null,null,null,{"$f":"IF(Clients!B37838=\"\",\"\",Clients!B37838)","v":""},{"$f":"IF(Clients!C37838=\"\",\"\",Clients!C37838)","v":""}]
[null,null,null,null,null,null,null,null,null,null,null,null,null,null,null,null,null,null,{"$f":"IF(Clients!B37847=\"\",\"\",Clients!B37847)","v":""},{"$f":"IF(Clients!C37847=\"\",\"\",Clients!C37847)","v":""}]
[null,null,null,null,null,null,null,null,null,null,null,null,null,null,null,null,null,null,{"$f":"IF(Clients!B37899=\"\",\"\",Clients!B37899)","v":""},{"$f":"IF(Clients!C37899=\"\",\"\",Clients!C37899)","v":""}]
[null,null,null,null,null,null,null,null,null,null,null,null,null,null,null,null,null,null,{"$f":"IF(Clients!B37927=\"\",\"\",Clients!B37927)","v":""},{"$f":"IF(Clients!C37927=\"\",\"\",Clients!C37927)","v":""}]
[null,null,null,null,null,null,null,null,null,null,null,null,null,null,null,null,null,null,{"$f":"IF(Clients!B37959=\"\",\"\",Clients!B37959)","v":""},{"$f":"IF(Clients!C37959=\"\",\"\",Clients!C37959)","v":""}]
[null,null,null,null,null,null,null,null,null,null,null,null,null,null,null,null,null,null,{"$f":"IF(Clients!B37976=\"\",\"\",Clients!B37976)","v":""},{"$f":"IF(Clients!C37976=\"\",\"\",Clients!C37976)","v":""}]
[null,null,null,null,null,null,null,null,null,null,null,null,null,null,null,null,null,null,{"$f":"IF(Clients!B38020=\"\",\"\",Clients!B38020)","v":""},{"$f":"IF(Clients!C38020=\"\",\"\",Clients!C38020)","v":""}]
[null,null,null,null,null,null,null,null,null,null,null,null,null,null,null,null,null,null,{"$f":"IF(Clients!B38048=\"\",\"\",Clients!B38048)","v":""},{"$f":"IF(Clients!C38048=\"\",\"\",Clients!C38048)","v":""}]
[null,null,null,null,null,null,null,null,null,null,null,null,null,null,null,null,null,null,{"$f":"IF(Clients!B38076=\"\",\"\",Clients!B38076)","v":""},{"$f":"IF(Clients!C38076=\"\",\"\",Clients!C38076)","v":""}]
[null,null,null,null,null,null,null,null,null,null,null,null,null,null,null,null,null,null,{"$f":"IF(Clients!B38105=\"\",\"\",Clients!B38105)","v":""},{"$f":"IF(Clients!C38105=\"\",\"\",Clients!C38105)","v":""}]
[null,null,null,null,null,null,null,null,null,null,null,null,null,null,null,null,null,null,{"$f":"IF(Clients!B38137=\"\",\"\",Clients!B38137)","v":""},{"$f":"IF(Clients!C38137=\"\",\"\",Clients!C38137)","v":""}]
[null,null,null,null,null,null,null,null,null,null,null,null,null,null,null,null,null,null,{"$f":"IF(Clients!B38165=\"\",\"\",Clients!B38165)","v":""},{"$f":"IF(Clients!C38165=\"\",\"\",Clients!C38165)","v":""}]
[null,null,null,null,null,null,null,null,null,null,null,null,null,null,null,null,null,null,{"$f":"IF(Clients!B38197=\"\",\"\",Clients!B38197)","v":""},{"$f":"IF(Clients!C38197=\"\",\"\",Clients!C38197)","v":""}]
[null,null,null,null,null,null,null,null,null,null,null,null,null,null,null,null,null,null,{"$f":"IF(Clients!B38234=\"\",\"\",Clients!B38234)","v":""},{"$f":"IF(Clients!C38234=\"\",\"\",Clients!C38234)","v":""}]
[null,null,null,null,null,null,null,null,null,null,null,null,null,null,null,null,null,null,{"$f":"IF(Clients!B38258=\"\",\"\",Clients!B38258)","v":""},{"$f":"IF(Clients!C38258=\"\",\"\",Clients!C38258)","v":""}]
[null,null,null,null,null,null,null,null,null,null,null,null,null,null,null,null,null,null,{"$f":"IF(Clients!B38286=\"\",\"\",Clients!B38286)","v":""},{"$f":"IF(Clients!C38286=\"\",\"\",Clients!C38286)","v":""}]
[null,null,null,null,null,null,null,null,null,null,null,null,null,null,null,null,null,null,{"$f":"IF(Clients!B38314=\"\",\"\",Clients!B38314)","v":""},{"$f":"IF(Clients!C38314=\"\",\"\",Clients!C38314)","v":""}]
[null,null,null,null,null,null,null,null,null,null,null,null,null,null,null,null,null,null,{"$f":"IF(Clients!B38363=\"\",\"\",Clients!B38363)","v":""},{"$f":"IF(Clients!C38363=\"\",\"\",Clients!C38363)","v":""}]
[null,null,null,null,null,null,null,null,null,null,null,null,null,null,null,null,null,null,{"$f":"IF(Clients!B38375=\"\",\"\",Clients!B38375)","v":""},{"$f":"IF(Clients!C38375=\"\",\"\",Clients!C38375)","v":""}]
[null,null,null,null,null,null,null,null,null,null,null,null,null,null,null,null,null,null,{"$f":"IF(Clients!B38434=\"\",\"\",Clients!B38434)","v":""},{"$f":"IF(Clients!C38434=\"\",\"\",Clients!C38434)","v":""}]
[null,null,null,null,null,null,null,null,null,null,null,null,null,null,null,null,null,null,{"$f":"IF(Clients!B38466=\"\",\"\",Clients!B38466)","v":""},{"$f":"IF(Clients!C38466=\"\",\"\",Clients!C38466)","v":""}]
[null,null,null,null,null,null,null,null,null,null,null,null,null,null,null,null,null,null,{"$f":"IF(Clients!B38492=\"\",\"\",Clients!B38492)","v":""},{"$f":"IF(Clients!C38492=\"\",\"\",Clients!C38492)","v":""}]
[null,null,null,null,null,null,null,null,null,null,null,null,null,null,null,null,null,null,{"$f":"IF(Clients!B38527=\"\",\"\",Clients!B38527)","v":""},{"$f":"IF(Clients!C38527=\"\",\"\",Clients!C38527)","v":""}]
[null,null,null,null,null,null,null,null,null,null,null,null,null,null,null,null,null,null,{"$f":"IF(Clients!B38555=\"\",\"\",Clients!B38555)","v":""},{"$f":"IF(Clients!C38555=\"\",\"\",Clients!C38555)","v":""}]
[null,null,null,null,null,null,null,null,null,null,null,null,null,null,null,null,null,null,{"$f":"IF(Clients!B38583=\"\",\"\",Clients!B38583)","v":""},{"$f":"IF(Clients!C38583=\"\",\"\",Clients!C38583)","v":""}]
[null,null,null,null,null,null,null,null,null,null,null,null,null,null,null,null,null,null,{"$f":"IF(Clients!B38621=\"\",\"\",Clients!B38621)","v":""},{"$f":"IF(Clients!C38621=\"\",\"\",Clients!C38621)","v":""}]
[null,null,null,null,null,null,null,null,null,null,null,null,null,null,null,null,null,null,{"$f":"IF(Clients!B38644=\"\",\"\",Clients!B38644)","v":""},{"$f":"IF(Clients!C38644=\"\",\"\",Clients!C38644)","v":""}]
[null,null,null,null,null,null,null,null,null,null,null,null,null,null,null,null,null,null,{"$f":"IF(Clients!B38676=\"\",\"\",Clients!B38676)","v":""},{"$f":"IF(Clients!C38676=\"\",\"\",Clients!C38676)","v":""}]
[null,null,null,null,null,null,null,null,null,null,null,null,null,null,null,null,null,null,{"$f":"IF(Clients!B38704=\"\",\"\",Clients!B38704)","v":""},{"$f":"IF(Clients!C38704=\"\",\"\",Clients!C38704)","v":""}]
[null,null,null,null,null,null,null,null,null,null,null,null,null,null,null,null,null,null,{"$f":"IF(Clients!B38718=\"\",\"\",Clients!B38718)","v":""},{"$f":"IF(Clients!C38718=\"\",\"\",Clients!C38718)","v":""}]
[null,null,null,null,null,null,null,null,null,null,null,null,null,null,null,null,null,null,{"$f":"IF(Clients!B38765=\"\",\"\",Clients!B38765)","v":""},{"$f":"IF(Clients!C38765=\"\",\"\",Clients!C38765)","v":""}]
[null,null,null,null,null,null,null,null,null,null,null,null,null,null,null,null,null,null,{"$f":"IF(Clients!B38793=\"\",\"\",Clients!B38793)","v":""},{"$f":"IF(Clients!C38793=\"\",\"\",Clients!C38793)","v":""}]
[null,null,null,null,null,null,null,null,null,null,null,null,null,null,null,null,null,null,{"$f":"IF(Clients!B38821=\"\",\"\",Clients!B38821)","v":""},{"$f":"IF(Clients!C38821=\"\",\"\",Clients!C38821)","v":""}]
[null,null,null,null,null,null,null,null,null,null,null,null,null,null,null,null,null,null,{"$f":"IF(Clients!B38847=\"\",\"\",Clients!B38847)","v":""},{"$f":"IF(Clients!C38847=\"\",\"\",Clients!C38847)","v":""}]
[null,null,null,null,null,null,null,null,null,null,null,null,null,null,null,null,null,null,{"$f":"IF(Clients!B38882=\"\",\"\",Clients!B38882)","v":""},{"$f":"IF(Clients!C38882=\"\",\"\",Clients!C38882)","v":""}]
[null,null,null,null,null,null,null,null,null,null,null,null,null,null,null,null,null,null,{"$f":"IF(Clients!B38914=\"\",\"\",Clients!B38914)","v":""},{"$f":"IF(Clients!C38914=\"\",\"\",Clients!C38914)","v":""}]
[null,null,null,null,null,null,null,null,null,null,null,null,null,null,null,null,null,null,{"$f":"IF(Clients!B38942=\"\",\"\",Clients!B38942)","v":""},{"$f":"IF(Clients!C38942=\"\",\"\",Clients!C38942)","v":""}]
[null,null,null,null,null,null,null,null,null,null,null,null,null,null,null,null,null,null,{"$f":"IF(Clients!B38976=\"\",\"\",Clients!B38976)","v":""},{"$f":"IF(Clients!C38976=\"\",\"\",Clients!C38976)","v":""}]
[null,null,null,null,null,null,null,null,null,null,null,null,null,null,null,null,null,null,{"$f":"IF(Clients!B39003=\"\",\"\",Clients!B39003)","v":""},{"$f":"IF(Clients!C39003=\"\",\"\",Clients!C39003)","v":""}]
[null,null,null,null,null,null,null,null,null,null,null,null,null,null,null,null,null,null,{"$f":"IF(Clients!B39031=\"\",\"\",Clients!B39031)","v":""},{"$f":"IF(Clients!C39031=\"\",\"\",Clients!C39031)","v":""}]
[null,null,null,null,null,null,null,null,null,null,null,null,null,null,null,null,null,null,{"$f":"IF(Clients!B39063=\"\",\"\",Clients!B39063)","v":""},{"$f":"IF(Clients!C39063=\"\",\"\",Clients!C39063)","v":""}]
[null,null,null,null,null,null,null,null,null,null,null,null,null,null,null,null,null,null,{"$f":"IF(Clients!B39105=\"\",\"\",Clients!B39105)","v":""},{"$f":"IF(Clients!C39105=\"\",\"\",Clients!C39105)","v":""}]
[null,null,null,null,null,null,null,null,null,null,null,null,null,null,null,null,null,null,{"$f":"IF(Clients!B39151=\"\",\"\",Clients!B39151)","v":""},{"$f":"IF(Clients!C39151=\"\",\"\",Clients!C39151)","v":""}]
[null,null,null,null,null,null,null,null,null,null,null,null,null,null,null,null,null,null,{"$f":"IF(Clients!B39183=\"\",\"\",Clients!B39183)","v":""},{"$f":"IF(Clients!C39183=\"\",\"\",Clients!C39183)","v":""}]
[null,null,null,null,null,null,null,null,null,null,null,null,null,null,null,null,null,null,{"$f":"IF(Clients!B39211=\"\",\"\",Clients!B39211)","v":""},{"$f":"IF(Clients!C39211=\"\",\"\",Clients!C39211)","v":""}]
[null,null,null,null,null,null,null,null,null,null,null,null,null,null,null,null,null,null,{"$f":"IF(Clients!B39234=\"\",\"\",Clients!B39234)","v":""},{"$f":"IF(Clients!C39234=\"\",\"\",Clients!C39234)","v":""}]
[null,null,null,null,null,null,null,null,null,null,null,null,null,null,null,null,null,null,{"$f":"IF(Clients!B39272=\"\",\"\",Clients!B39272)","v":""},{"$f":"IF(Clients!C39272=\"\",\"\",Clients!C39272)","v":""}]
[null,null,null,null,null,null,null,null,null,null,null,null,null,null,null,null,null,null,{"$f":"IF(Clients!B39300=\"\",\"\",Clients!B39300)","v":""},{"$f":"IF(Clients!C39300=\"\",\"\",Clients!C39300)","v":""}]
[null,null,null,null,null,null,null,null,null,null,null,null,null,null,null,null,null,null,{"$f":"IF(Clients!B39332=\"\",\"\",Clients!B39332)","v":""},{"$f":"IF(Clients!C39332=\"\",\"\",Clients!C39332)","v":""}]
[null,null,null,null,null,null,null,null,null,null,null,null,null,null,null,null,null,null,{"$f":"IF(Clients!B39363=\"\",\"\",Clients!B39363)","v":""},{"$f":"IF(Clients!C39363=\"\",\"\",Clients!C39363)","v":""}]
[null,null,null,null,null,null,null,null,null,null,null,null,null,null,null,null,null,null,{"$f":"IF(Clients!B39389=\"\",\"\",Clients!B39389)","v":""},{"$f":"IF(Clients!C39389=\"\",\"\",Clients!C39389)","v":""}]
[null,null,null,null,null,null,null,null,null,null,null,null,null,null,null,null,null,null,{"$f":"IF(Clients!B39421=\"\",\"\",Clients!B39421)","v":""},{"$f":"IF(Clients!C39421=\"\",\"\",Clients!C39421)","v":""}]
[null,null,null,null,null,null,null,null,null,null,null,null,null,null,null,null,null,null,{"$f":"IF(Clients!B39449=\"\",\"\",Clients!B39449)","v":""},{"$f":"IF(Clients!C39449=\"\",\"\",Clients!C39449)","v":""}]
[null,null,null,null,null,null,null,null,null,null,null,null,null,null,null,null,null,null,{"$f":"IF(Clients!B39492=\"\",\"\",Clients!B39492)","v":""},{"$f":"IF(Clients!C39492=\"\",\"\",Clients!C39492)","v":""}]
[null,null,null,null,null,null,null,null,null,null,null,null,null,null,null,null,null,null,{"$f":"IF(Clients!B39510=\"\",\"\",Clients!B39510)","v":""},{"$f":"IF(Clients!C39510=\"\",\"\",Clients!C39510)","v":""}]
[null,null,null,null,null,null,null,null,null,null,null,null,null,null,null,null,null,null,{"$f":"IF(Clients!B39538=\"\",\"\",Clients!B39538)","v":""},{"$f":"IF(Clients!C39538=\"\",\"\",Clients!C39538)","v":""}]
[null,null,null,null,null,null,null,null,null,null,null,null,null,null,null,null,null,null,{"$f":"IF(Clients!B39570=\"\",\"\",Clients!B39570)","v":""},{"$f":"IF(Clients!C39570=\"\",\"\",Clients!C39570)","v":""}]
[null,null,null,null,null,null,null,null,null,null,null,null,null,null,null,null,null,null,{"$f":"IF(Clients!B39621=\"\",\"\",Clients!B39621)","v":""},{"$f":"IF(Clients!C39621=\"\",\"\",Clients!C39621)","v":""}]
[null,null,null,null,null,null,null,null,null,null,null,null,null,null,null,null,null,null,{"$f":"IF(Clients!B39627=\"\",\"\",Clients!B39627)","v":""},{"$f":"IF(Clients!C39627=\"\",\"\",Clients!C39627)","v":""}]
[null,null,null,null,null,null,null,null,null,null,null,null,null,null,null,null,null,null,{"$f":"IF(Clients!B39659=\"\",\"\",Clients!B39659)","v":""},{"$f":"IF(Clients!C39659=\"\",\"\",Clients!C39659)","v":""}]
[null,null,null,null,null,null,null,null,null,null,null,null,null,null,null,null,null,null,{"$f":"IF(Clients!B39687=\"\",\"\",Clients!B39687)","v":""},{"$f":"IF(Clients!C39687=\"\",\"\",Clients!C39687)","v":""}]
[null,null,null,null,null,null,null,null,null,null,null,null,null,null,null,null,null,null,{"$f":"IF(Clients!B39718=\"\",\"\",Clients!B39718)","v":""},{"$f":"IF(Clients!C39718=\"\",\"\",Clients!C39718)","v":""}]
[null,null,null,null,null,null,null,null,null,null,null,null,null,null,null,null,null,null,{"$f":"IF(Clients!B39779=\"\",\"\",Clients!B39779)","v":""},{"$f":"IF(Clients!C39779=\"\",\"\",Clients!C39779)","v":""}]
[null,null,null,null,null,null,null,null,null,null,null,null,null,null,null,null,null,null,{"$f":"IF(Clients!B39807=\"\",\"\",Clients!B39807)","v":""},{"$f":"IF(Clients!C39807=\"\",\"\",Clients!C39807)","v":""}]
[null,null,null,null,null,null,null,null,null,null,null,null,null,null,null,null,null,null,{"$f":"IF(Clients!B39839=\"\",\"\",Clients!B39839)","v":""},{"$f":"IF(Clients!C39839=\"\",\"\",Clients!C39839)","v":""}]
[null,null,null,null,null,null,null,null,null,null,null,null,null,null,null,null,null,null,{"$f":"IF(Clients!B39847=\"\",\"\",Clients!B39847)","v":""},{"$f":"IF(Clients!C39847=\"\",\"\",Clients!C39847)","v":""}]
[null,null,null,null,null,null,null,null,null,null,null,null,null,null,null,null,null,null,{"$f":"IF(Clients!B39896=\"\",\"\",Clients!B39896)","v":""},{"$f":"IF(Clients!C39896=\"\",\"\",Clients!C39896)","v":""}]
[null,null,null,null,null,null,null,null,null,null,null,null,null,null,null,null,null,null,{"$f":"IF(Clients!B39928=\"\",\"\",Clients!B39928)","v":""},{"$f":"IF(Clients!C39928=\"\",\"\",Clients!C39928)","v":""}]
[null,null,null,null,null,null,null,null,null,null,null,null,null,null,null,null,null,null,{"$f":"IF(Clients!B39956=\"\",\"\",Clients!B39956)","v":""},{"$f":"IF(Clients!C39956=\"\",\"\",Clients!C39956)","v":""}]
[null,null,null,null,null,null,null,null,null,null,null,null,null,null,null,null,null,null,{"$f":"IF(Clients!B39976=\"\",\"\",Clients!B39976)","v":""},{"$f":"IF(Clients!C39976=\"\",\"\",Clients!C39976)","v":""}]
[null,null,null,null,null,null,null,null,null,null,null,null,null,null,null,null,null,null,{"$f":"IF(Clients!B40017=\"\",\"\",Clients!B40017)","v":""},{"$f":"IF(Clients!C40017=\"\",\"\",Clients!C40017)","v":""}]
[null,null,null,null,null,null,null,null,null,null,null,null,null,null,null,null,null,null,{"$f":"IF(Clients!B40045=\"\",\"\",Clients!B40045)","v":""},{"$f":"IF(Clients!C40045=\"\",\"\",Clients!C40045)","v":""}]
[null,null,null,null,null,null,null,null,null,null,null,null,null,null,null,null,null,null,{"$f":"IF(Clients!B40077=\"\",\"\",Clients!B40077)","v":""},{"$f":"IF(Clients!C40077=\"\",\"\",Clients!C40077)","v":""}]
[null,null,null,null,null,null,null,null,null,null,null,null,null,null,null,null,null,null,{"$f":"IF(Clients!B40105=\"\",\"\",Clients!B40105)","v":""},{"$f":"IF(Clients!C40105=\"\",\"\",Clients!C40105)","v":""}]
[null,null,null,null,null,null,null,null,null,null,null,null,null,null,null,null,null,null,{"$f":"IF(Clients!B40134=\"\",\"\",Clients!B40134)","v":""},{"$f":"IF(Clients!C40134=\"\",\"\",Clients!C40134)","v":""}]
[null,null,null,null,null,null,null,null,null,null,null,null,null,null,null,null,null,null,{"$f":"IF(Clients!B40166=\"\",\"\",Clients!B40166)","v":""},{"$f":"IF(Clients!C40166=\"\",\"\",Clients!C40166)","v":""}]
[null,null,null,null,null,null,null,null,null,null,null,null,null,null,null,null,null,null,{"$f":"IF(Clients!B40194=\"\",\"\",Clients!B40194)","v":""},{"$f":"IF(Clients!C40194=\"\",\"\",Clients!C40194)","v":""}]
[null,null,null,null,null,null,null,null,null,null,null,null,null,null,null,null,null,null,{"$f":"IF(Clients!B40234=\"\",\"\",Clients!B40234)","v":""},{"$f":"IF(Clients!C40234=\"\",\"\",Clients!C40234)","v":""}]
[null,null,null,null,null,null,null,null,null,null,null,null,null,null,null,null,null,null,{"$f":"IF(Clients!B40255=\"\",\"\",Clients!B40255)","v":""},{"$f":"IF(Clients!C40255=\"\",\"\",Clients!C40255)","v":""}]
[null,null,null,null,null,null,null,null,null,null,null,null,null,null,null,null,null,null,{"$f":"IF(Clients!B40283=\"\",\"\",Clients!B40283)","v":""},{"$f":"IF(Clients!C40283=\"\",\"\",Clients!C40283)","v":""}]
[null,null,null,null,null,null,null,null,null,null,null,null,null,null,null,null,null,null,{"$f":"IF(Clients!B40315=\"\",\"\",Clients!B40315)","v":""},{"$f":"IF(Clients!C40315=\"\",\"\",Clients!C40315)","v":""}]
[null,null,null,null,null,null,null,null,null,null,null,null,null,null,null,null,null,null,{"$f":"IF(Clients!B40363=\"\",\"\",Clients!B40363)","v":""},{"$f":"IF(Clients!C40363=\"\",\"\",Clients!C40363)","v":""}]
[null,null,null,null,null,null,null,null,null,null,null,null,null,null,null,null,null,null,{"$f":"IF(Clients!B40376=\"\",\"\",Clients!B40376)","v":""},{"$f":"IF(Clients!C40376=\"\",\"\",Clients!C40376)","v":""}]
[null,null,null,null,null,null,null,null,null,null,null,null,null,null,null,null,null,null,{"$f":"IF(Clients!B40435=\"\",\"\",Clients!B40435)","v":""},{"$f":"IF(Clients!C40435=\"\",\"\",Clients!C40435)","v":""}]
[null,null,null,null,null,null,null,null,null,null,null,null,null,null,null,null,null,null,{"$f":"IF(Clients!B40463=\"\",\"\",Clients!B40463)","v":""},{"$f":"IF(Clients!C40463=\"\",\"\",Clients!C40463)","v":""}]
[null,null,null,null,null,null,null,null,null,null,null,null,null,null,null,null,null,null,{"$f":"IF(Clients!B40492=\"\",\"\",Clients!B40492)","v":""},{"$f":"IF(Clients!C40492=\"\",\"\",Clients!C40492)","v":""}]
[null,null,null,null,null,null,null,null,null,null,null,null,null,null,null,null,null,null,{"$f":"IF(Clients!B40524=\"\",\"\",Clients!B40524)","v":""},{"$f":"IF(Clients!C40524=\"\",\"\",Clients!C40524)","v":""}]
[null,null,null,null,null,null,null,null,null,null,null,null,null,null,null,null,null,null,{"$f":"IF(Clients!B40552=\"\",\"\",Clients!B40552)","v":""},{"$f":"IF(Clients!C40552=\"\",\"\",Clients!C40552)","v":""}]
[null,null,null,null,null,null,null,null,null,null,null,null,null,null,null,null,null,null,{"$f":"IF(Clients!B40584=\"\",\"\",Clients!B40584)","v":""},{"$f":"IF(Clients!C40584=\"\",\"\",Clients!C40584)","v":""}]
[null,null,null,null,null,null,null,null,null,null,null,null,null,null,null,null,null,null,{"$f":"IF(Clients!B40621=\"\",\"\",Clients!B40621)","v":""},{"$f":"IF(Clients!C40621=\"\",\"\",Clients!C40621)","v":""}]
[null,null,null,null,null,null,null,null,null,null,null,null,null,null,null,null,null,null,{"$f":"IF(Clients!B40645=\"\",\"\",Clients!B40645)","v":""},{"$f":"IF(Clients!C40645=\"\",\"\",Clients!C40645)","v":""}]
[null,null,null,null,null,null,null,null,null,null,null,null,null,null,null,null,null,null,{"$f":"IF(Clients!B40673=\"\",\"\",Clients!B40673)","v":""},{"$f":"IF(Clients!C40673=\"\",\"\",Clients!C40673)","v":""}]
[null,null,null,null,null,null,null,null,null,null,null,null,null,null,null,null,null,null,{"$f":"IF(Clients!B40701=\"\",\"\",Clients!B40701)","v":""},{"$f":"IF(Clients!C40701=\"\",\"\",Clients!C40701)","v":""}]
[null,null,null,null,null,null,null,null,null,null,null,null,null,null,null,null,null,null,{"$f":"IF(Clients!B40718=\"\",\"\",Clients!B40718)","v":""},{"$f":"IF(Clients!C40718=\"\",\"\",Clients!C40718)","v":""}]
[null,null,null,null,null,null,null,null,null,null,null,null,null,null,null,null,null,null,{"$f":"IF(Clients!B40762=\"\",\"\",Clients!B40762)","v":""},{"$f":"IF(Clients!C40762=\"\",\"\",Clients!C40762)","v":""}]
[null,null,null,null,null,null,null,null,null,null,null,null,null,null,null,null,null,null,{"$f":"IF(Clients!B40794=\"\",\"\",Clients!B40794)","v":""},{"$f":"IF(Clients!C40794=\"\",\"\",Clients!C40794)","v":""}]
[null,null,null,null,null,null,null,null,null,null,null,null,null,null,null,null,null,null,{"$f":"IF(Clients!B40822=\"\",\"\",Clients!B40822)","v":""},{"$f":"IF(Clients!C40822=\"\",\"\",Clients!C40822)","v":""}]
[null,null,null,null,null,null,null,null,null,null,null,null,null,null,null,null,null,null,{"$f":"IF(Clients!B40847=\"\",\"\",Clients!B40847)","v":""},{"$f":"IF(Clients!C40847=\"\",\"\",Clients!C40847)","v":""}]
[null,null,null,null,null,null,null,null,null,null,null,null,null,null,null,null,null,null,{"$f":"IF(Clients!B40883=\"\",\"\",Clients!B40883)","v":""},{"$f":"IF(Clients!C40883=\"\",\"\",Clients!C40883)","v":""}]
[null,null,null,null,null,null,null,null,null,null,null,null,null,null,null,null,null,null,{"$f":"IF(Clients!B40911=\"\",\"\",Clients!B40911)","v":""},{"$f":"IF(Clients!C40911=\"\",\"\",Clients!C40911)","v":""}]
[null,null,null,null,null,null,null,null,null,null,null,null,null,null,null,null,null,null,{"$f":"IF(Clients!B40939=\"\",\"\",Clients!B40939)","v":""},{"$f":"IF(Clients!C40939=\"\",\"\",Clients!C40939)","v":""}]
[null,null,null,null,null,null,null,null,null,null,null,null,null,null,null,null,null,null,{"$f":"IF(Clients!B40976=\"\",\"\",Clients!B40976)","v":""},{"$f":"IF(Clients!C40976=\"\",\"\",Clients!C40976)","v":""}]
[null,null,null,null,null,null,null,null,null,null,null,null,null,null,null,null,null,null,{"$f":"IF(Clients!B41000=\"\",\"\",Clients!B41000)","v":""},{"$f":"IF(Clients!C41000=\"\",\"\",Clients!C41000)","v":""}]
[null,null,null,null,null,null,null,null,null,null,null,null,null,null,null,null,null,null,{"$f":"IF(Clients!B41032=\"\",\"\",Clients!B41032)","v":""},{"$f":"IF(Clients!C41032=\"\",\"\",Clients!C41032)","v":""}]
[null,null,null,null,null,null,null,null,null,null,null,null,null,null,null,null,null,null,{"$f":"IF(Clients!B41091=\"\",\"\",Clients!B41091)","v":""},{"$f":"IF(Clients!C41091=\"\",\"\",Clients!C41091)","v":""}]
[null,null,null,null,null,null,null,null,null,null,null,null,null,null,null,null,null,null,{"$f":"IF(Clients!B41105=\"\",\"\",Clients!B41105)","v":""},{"$f":"IF(Clients!C41105=\"\",\"\",Clients!C41105)","v":""}]
[null,null,null,null,null,null,null,null,null,null,null,null,null,null,null,null,null,null,{"$f":"IF(Clients!B41152=\"\",\"\",Clients!B41152)","v":""},{"$f":"IF(Clients!C41152=\"\",\"\",Clients!C41152)","v":""}]
[null,null,null,null,null,null,null,null,null,null,null,null,null,null,null,null,null,null,{"$f":"IF(Clients!B41180=\"\",\"\",Clients!B41180)","v":""},{"$f":"IF(Clients!C41180=\"\",\"\",Clients!C41180)","v":""}]
[null,null,null,null,null,null,null,null,null,null,null,null,null,null,null,null,null,null,{"$f":"IF(Clients!B41208=\"\",\"\",Clients!B41208)","v":""},{"$f":"IF(Clients!C41208=\"\",\"\",Clients!C41208)","v":""}]
[null,null,null,null,null,null,null,null,null,null,null,null,null,null,null,null,null,null,{"$f":"IF(Clients!B41234=\"\",\"\",Clients!B41234)","v":""},{"$f":"IF(Clients!C41234=\"\",\"\",Clients!C41234)","v":""}]
[null,null,null,null,null,null,null,null,null,null,null,null,null,null,null,null,null,null,{"$f":"IF(Clients!B41269=\"\",\"\",Clients!B41269)","v":""},{"$f":"IF(Clients!C41269=\"\",\"\",Clients!C41269)","v":""}]
[null,null,null,null,null,null,null,null,null,null,null,null,null,null,null,null,null,null,{"$f":"IF(Clients!B41301=\"\",\"\",Clients!B41301)","v":""},{"$f":"IF(Clients!C41301=\"\",\"\",Clients!C41301)","v":""}]
[null,null,null,null,null,null,null,null,null,null,null,null,null,null,null,null,null,null,{"$f":"IF(Clients!B41329=\"\",\"\",Clients!B41329)","v":""},{"$f":"IF(Clients!C41329=\"\",\"\",Clients!C41329)","v":""}]
[null,null,null,null,null,null,null,null,null,null,null,null,null,null,null,null,null,null,{"$f":"IF(Clients!B41363=\"\",\"\",Clients!B41363)","v":""},{"$f":"IF(Clients!C41363=\"\",\"\",Clients!C41363)","v":""}]
[null,null,null,null,null,null,null,null,null,null,null,null,null,null,null,null,null,null,{"$f":"IF(Clients!B41390=\"\",\"\",Clients!B41390)","v":""},{"$f":"IF(Clients!C41390=\"\",\"\",Clients!C41390)","v":""}]
[null,null,null,null,null,null,null,null,null,null,null,null,null,null,null,null,null,null,{"$f":"IF(Clients!B41418=\"\",\"\",Clients!B41418)","v":""},{"$f":"IF(Clients!C41418=\"\",\"\",Clients!C41418)","v":""}]
[null,null,null,null,null,null,null,null,null,null,null,null,null,null,null,null,null,null,{"$f":"IF(Clients!B41450=\"\",\"\",Clients!B41450)","v":""},{"$f":"IF(Clients!C41450=\"\",\"\",Clients!C41450)","v":""}]
[null,null,null,null,null,null,null,null,null,null,null,null,null,null,null,null,null,null,{"$f":"IF(Clients!B41492=\"\",\"\",Clients!B41492)","v":""},{"$f":"IF(Clients!C41492=\"\",\"\",Clients!C41492)","v":""}]
[null,null,null,null,null,null,null,null,null,null,null,null,null,null,null,null,null,null,{"$f":"IF(Clients!B41507=\"\",\"\",Clients!B41507)","v":""},{"$f":"IF(Clients!C41507=\"\",\"\",Clients!C41507)","v":""}]
[null,null,null,null,null,null,null,null,null,null,null,null,null,null,null,null,null,null,{"$f":"IF(Clients!B41539=\"\",\"\",Clients!B41539)","v":""},{"$f":"IF(Clients!C41539=\"\",\"\",Clients!C41539)","v":""}]
[null,null,null,null,null,null,null,null,null,null,null,null,null,null,null,null,null,null,{"$f":"IF(Clients!B41567=\"\",\"\",Clients!B41567)","v":""},{"$f":"IF(Clients!C41567=\"\",\"\",Clients!C41567)","v":""}]
[null,null,null,null,null,null,null,null,null,null,null,null,null,null,null,null,null,null,{"$f":"IF(Clients!B41621=\"\",\"\",Clients!B41621)","v":""},{"$f":"IF(Clients!C41621=\"\",\"\",Clients!C41621)","v":""}]
[null,null,null,null,null,null,null,null,null,null,null,null,null,null,null,null,null,null,{"$f":"IF(Clients!B41628=\"\",\"\",Clients!B41628)","v":""},{"$f":"IF(Clients!C41628=\"\",\"\",Clients!C41628)","v":""}]
[null,null,null,null,null,null,null,null,null,null,null,null,null,null,null,null,null,null,{"$f":"IF(Clients!B41656=\"\",\"\",Clients!B41656)","v":""},{"$f":"IF(Clients!C41656=\"\",\"\",Clients!C41656)","v":""}]
[null,null,null,null,null,null,null,null,null,null,null,null,null,null,null,null,null,null,{"$f":"IF(Clients!B41688=\"\",\"\",Clients!B41688)","v":""},{"$f":"IF(Clients!C41688=\"\",\"\",Clients!C41688)","v":""}]
[null,null,null,null,null,null,null,null,null,null,null,null,null,null,null,null,null,null,{"$f":"IF(Clients!B41718=\"\",\"\",Clients!B41718)","v":""},{"$f":"IF(Clients!C41718=\"\",\"\",Clients!C41718)","v":""}]
[null,null,null,null,null,null,null,null,null,null,null,null,null,null,null,null,null,null,{"$f":"IF(Clients!B41776=\"\",\"\",Clients!B41776)","v":""},{"$f":"IF(Clients!C41776=\"\",\"\",Clients!C41776)","v":""}]
[null,null,null,null,null,null,null,null,null,null,null,null,null,null,null,null,null,null,{"$f":"IF(Clients!B41808=\"\",\"\",Clients!B41808)","v":""},{"$f":"IF(Clients!C41808=\"\",\"\",Clients!C41808)","v":""}]
[null,null,null,null,null,null,null,null,null,null,null,null,null,null,null,null,null,null,{"$f":"IF(Clients!B41836=\"\",\"\",Clients!B41836)","v":""},{"$f":"IF(Clients!C41836=\"\",\"\",Clients!C41836)","v":""}]
[null,null,null,null,null,null,null,null,null,null,null,null,null,null,null,null,null,null,{"$f":"IF(Clients!B41847=\"\",\"\",Clients!B41847)","v":""},{"$f":"IF(Clients!C41847=\"\",\"\",Clients!C41847)","v":""}]
[null,null,null,null,null,null,null,null,null,null,null,null,null,null,null,null,null,null,{"$f":"IF(Clients!B41897=\"\",\"\",Clients!B41897)","v":""},{"$f":"IF(Clients!C41897=\"\",\"\",Clients!C41897)","v":""}]
[null,null,null,null,null,null,null,null,null,null,null,null,null,null,null,null,null,null,{"$f":"IF(Clients!B41925=\"\",\"\",Clients!B41925)","v":""},{"$f":"IF(Clients!C41925=\"\",\"\",Clients!C41925)","v":""}]
[null,null,null,null,null,null,null,null,null,null,null,null,null,null,null,null,null,null,{"$f":"IF(Clients!B41957=\"\",\"\",Clients!B41957)","v":""},{"$f":"IF(Clients!C41957=\"\",\"\",Clients!C41957)","v":""}]
[null,null,null,null,null,null,null,null,null,null,null,null,null,null,null,null,null,null,{"$f":"IF(Clients!B41976=\"\",\"\",Clients!B41976)","v":""},{"$f":"IF(Clients!C41976=\"\",\"\",Clients!C41976)","v":""}]
[null,null,null,null,null,null,null,null,null,null,null,null,null,null,null,null,null,null,{"$f":"IF(Clients!B42014=\"\",\"\",Clients!B42014)","v":""},{"$f":"IF(Clients!C42014=\"\",\"\",Clients!C42014)","v":""}]
[null,null,null,null,null,null,null,null,null,null,null,null,null,null,null,null,null,null,{"$f":"IF(Clients!B42046=\"\",\"\",Clients!B42046)","v":""},{"$f":"IF(Clients!C42046=\"\",\"\",Clients!C42046)","v":""}]
[null,null,null,null,null,null,null,null,null,null,null,null,null,null,null,null,null,null,{"$f":"IF(Clients!B42074=\"\",\"\",Clients!B42074)","v":""},{"$f":"IF(Clients!C42074=\"\",\"\",Clients!C42074)","v":""}]
[null,null,null,null,null,null,null,null,null,null,null,null,null,null,null,null,null,null,{"$f":"IF(Clients!B42105=\"\",\"\",Clients!B42105)","v":""},{"$f":"IF(Clients!C42105=\"\",\"\",Clients!C42105)","v":""}]
[null,null,null,null,null,null,null,null,null,null,null,null,null,null,null,null,null,null,{"$f":"IF(Clients!B42135=\"\",\"\",Clients!B42135)","v":""},{"$f":"IF(Clients!C42135=\"\",\"\",Clients!C42135)","v":""}]
[null,null,null,null,null,null,null,null,null,null,null,null,null,null,null,null,null,null,{"$f":"IF(Clients!B42163=\"\",\"\",Clients!B42163)","v":""},{"$f":"IF(Clients!C42163=\"\",\"\",Clients!C42163)","v":""}]
[null,null,null,null,null,null,null,null,null,null,null,null,null,null,null,null,null,null,{"$f":"IF(Clients!B42195=\"\",\"\",Clients!B42195)","v":""},{"$f":"IF(Clients!C42195=\"\",\"\",Clients!C42195)","v":""}]
[null,null,null,null,null,null,null,null,null,null,null,null,null,null,null,null,null,null,{"$f":"IF(Clients!B42234=\"\",\"\",Clients!B42234)","v":""},{"$f":"IF(Clients!C42234=\"\",\"\",Clients!C42234)","v":""}]
[null,null,null,null,null,null,null,null,null,null,null,null,null,null,null,null,null,null,{"$f":"IF(Clients!B42252=\"\",\"\",Clients!B42252)","v":""},{"$f":"IF(Clients!C42252=\"\",\"\",Clients!C42252)","v":""}]
[null,null,null,null,null,null,null,null,null,null,null,null,null,null,null,null,null,null,{"$f":"IF(Clients!B42284=\"\",\"\",Clients!B42284)","v":""},{"$f":"IF(Clients!C42284=\"\",\"\",Clients!C42284)","v":""}]
[null,null,null,null,null,null,null,null,null,null,null,null,null,null,null,null,null,null,{"$f":"IF(Clients!B42312=\"\",\"\",Clients!B42312)","v":""},{"$f":"IF(Clients!C42312=\"\",\"\",Clients!C42312)","v":""}]
[null,null,null,null,null,null,null,null,null,null,null,null,null,null,null,null,null,null,{"$f":"IF(Clients!B42363=\"\",\"\",Clients!B42363)","v":""},{"$f":"IF(Clients!C42363=\"\",\"\",Clients!C42363)","v":""}]
[null,null,null,null,null,null,null,null,null,null,null,null,null,null,null,null,null,null,{"$f":"IF(Clients!B42404=\"\",\"\",Clients!B42404)","v":""},{"$f":"IF(Clients!C42404=\"\",\"\",Clients!C42404)","v":""}]
[null,null,null,null,null,null,null,null,null,null,null,null,null,null,null,null,null,null,{"$f":"IF(Clients!B42432=\"\",\"\",Clients!B42432)","v":""},{"$f":"IF(Clients!C42432=\"\",\"\",Clients!C42432)","v":""}]
[null,null,null,null,null,null,null,null,null,null,null,null,null,null,null,null,null,null,{"$f":"IF(Clients!B42464=\"\",\"\",Clients!B42464)","v":""},{"$f":"IF(Clients!C42464=\"\",\"\",Clients!C42464)","v":""}]
[null,null,null,null,null,null,null,null,null,null,null,null,null,null,null,null,null,null,{"$f":"IF(Clients!B42492=\"\",\"\",Clients!B42492)","v":""},{"$f":"IF(Clients!C42492=\"\",\"\",Clients!C42492)","v":""}]
[null,null,null,null,null,null,null,null,null,null,null,null,null,null,null,null,null,null,{"$f":"IF(Clients!B42525=\"\",\"\",Clients!B42525)","v":""},{"$f":"IF(Clients!C42525=\"\",\"\",Clients!C42525)","v":""}]
[null,null,null,null,null,null,null,null,null,null,null,null,null,null,null,null,null,null,{"$f":"IF(Clients!B42553=\"\",\"\",Clients!B42553)","v":""},{"$f":"IF(Clients!C42553=\"\",\"\",Clients!C42553)","v":""}]
[null,null,null,null,null,null,null,null,null,null,null,null,null,null,null,null,null,null,{"$f":"IF(Clients!B42581=\"\",\"\",Clients!B42581)","v":""},{"$f":"IF(Clients!C42581=\"\",\"\",Clients!C42581)","v":""}]
[null,null,null,null,null,null,null,null,null,null,null,null,null,null,null,null,null,null,{"$f":"IF(Clients!B42621=\"\",\"\",Clients!B42621)","v":""},{"$f":"IF(Clients!C42621=\"\",\"\",Clients!C42621)","v":""}]
[null,null,null,null,null,null,null,null,null,null,null,null,null,null,null,null,null,null,{"$f":"IF(Clients!B42642=\"\",\"\",Clients!B42642)","v":""},{"$f":"IF(Clients!C42642=\"\",\"\",Clients!C42642)","v":""}]
[null,null,null,null,null,null,null,null,null,null,null,null,null,null,null,null,null,null,{"$f":"IF(Clients!B42670=\"\",\"\",Clients!B42670)","v":""},{"$f":"IF(Clients!C42670=\"\",\"\",Clients!C42670)","v":""}]
[null,null,null,null,null,null,null,null,null,null,null,null,null,null,null,null,null,null,{"$f":"IF(Clients!B42702=\"\",\"\",Clients!B42702)","v":""},{"$f":"IF(Clients!C42702=\"\",\"\",Clients!C42702)","v":""}]
[null,null,null,null,null,null,null,null,null,null,null,null,null,null,null,null,null,null,{"$f":"IF(Clients!B42718=\"\",\"\",Clients!B42718)","v":""},{"$f":"IF(Clients!C42718=\"\",\"\",Clients!C42718)","v":""}]
[null,null,null,null,null,null,null,null,null,null,null,null,null,null,null,null,null,null,{"$f":"IF(Clients!B42763=\"\",\"\",Clients!B42763)","v":""},{"$f":"IF(Clients!C42763=\"\",\"\",Clients!C42763)","v":""}]
[null,null,null,null,null,null,null,null,null,null,null,null,null,null,null,null,null,null,{"$f":"IF(Clients!B42791=\"\",\"\",Clients!B42791)","v":""},{"$f":"IF(Clients!C42791=\"\",\"\",Clients!C42791)","v":""}]
[null,null,null,null,null,null,null,null,null,null,null,null,null,null,null,null,null,null,{"$f":"IF(Clients!B42819=\"\",\"\",Clients!B42819)","v":""},{"$f":"IF(Clients!C42819=\"\",\"\",Clients!C42819)","v":""}]
[null,null,null,null,null,null,null,null,null,null,null,null,null,null,null,null,null,null,{"$f":"IF(Clients!B42847=\"\",\"\",Clients!B42847)","v":""},{"$f":"IF(Clients!C42847=\"\",\"\",Clients!C42847)","v":""}]
[null,null,null,null,null,null,null,null,null,null,null,null,null,null,null,null,null,null,{"$f":"IF(Clients!B42880=\"\",\"\",Clients!B42880)","v":""},{"$f":"IF(Clients!C42880=\"\",\"\",Clients!C42880)","v":""}]
[null,null,null,null,null,null,null,null,null,null,null,null,null,null,null,null,null,null,{"$f":"IF(Clients!B42908=\"\",\"\",Clients!B42908)","v":""},{"$f":"IF(Clients!C42908=\"\",\"\",Clients!C42908)","v":""}]
[null,null,null,null,null,null,null,null,null,null,null,null,null,null,null,null,null,null,{"$f":"IF(Clients!B42940=\"\",\"\",Clients!B42940)","v":""},{"$f":"IF(Clients!C42940=\"\",\"\",Clients!C42940)","v":""}]
[null,null,null,null,null,null,null,null,null,null,null,null,null,null,null,null,null,null,{"$f":"IF(Clients!B42976=\"\",\"\",Clients!B42976)","v":""},{"$f":"IF(Clients!C42976=\"\",\"\",Clients!C42976)","v":""}]
[null,null,null,null,null,null,null,null,null,null,null,null,null,null,null,null,null,null,{"$f":"IF(Clients!B43001=\"\",\"\",Clients!B43001)","v":""},{"$f":"IF(Clients!C43001=\"\",\"\",Clients!C43001)","v":""}]
[null,null,null,null,null,null,null,null,null,null,null,null,null,null,null,null,null,null,{"$f":"IF(Clients!B43060=\"\",\"\",Clients!B43060)","v":""},{"$f":"IF(Clients!C43060=\"\",\"\",Clients!C43060)","v":""}]
[null,null,null,null,null,null,null,null,null,null,null,null,null,null,null,null,null,null,{"$f":"IF(Clients!B43088=\"\",\"\",Clients!B43088)","v":""},{"$f":"IF(Clients!C43088=\"\",\"\",Clients!C43088)","v":""}]
[null,null,null,null,null,null,null,null,null,null,null,null,null,null,null,null,null,null,{"$f":"IF(Clients!B43105=\"\",\"\",Clients!B43105)","v":""},{"$f":"IF(Clients!C43105=\"\",\"\",Clients!C43105)","v":""}]
[null,null,null,null,null,null,null,null,null,null,null,null,null,null,null,null,null,null,{"$f":"IF(Clients!B43149=\"\",\"\",Clients!B43149)","v":""},{"$f":"IF(Clients!C43149=\"\",\"\",Clients!C43149)","v":""}]
[null,null,null,null,null,null,null,null,null,null,null,null,null,null,null,null,null,null,{"$f":"IF(Clients!B43181=\"\",\"\",Clients!B43181)","v":""},{"$f":"IF(Clients!C43181=\"\",\"\",Clients!C43181)","v":""}]
[null,null,null,null,null,null,null,null,null,null,null,null,null,null,null,null,null,null,{"$f":"IF(Clients!B43209=\"\",\"\",Clients!B43209)","v":""},{"$f":"IF(Clients!C43209=\"\",\"\",Clients!C43209)","v":""}]
[null,null,null,null,null,null,null,null,null,null,null,null,null,null,null,null,null,null,{"$f":"IF(Clients!B43234=\"\",\"\",Clients!B43234)","v":""},{"$f":"IF(Clients!C43234=\"\",\"\",Clients!C43234)","v":""}]
[null,null,null,null,null,null,null,null,null,null,null,null,null,null,null,null,null,null,{"$f":"IF(Clients!B43270=\"\",\"\",Clients!B43270)","v":""},{"$f":"IF(Clients!C43270=\"\",\"\",Clients!C43270)","v":""}]
[null,null,null,null,null,null,null,null,null,null,null,null,null,null,null,null,null,null,{"$f":"IF(Clients!B43298=\"\",\"\",Clients!B43298)","v":""},{"$f":"IF(Clients!C43298=\"\",\"\",Clients!C43298)","v":""}]
[null,null,null,null,null,null,null,null,null,null,null,null,null,null,null,null,null,null,{"$f":"IF(Clients!B43326=\"\",\"\",Clients!B43326)","v":""},{"$f":"IF(Clients!C43326=\"\",\"\",Clients!C43326)","v":""}]
[null,null,null,null,null,null,null,null,null,null,null,null,null,null,null,null,null,null,{"$f":"IF(Clients!B43363=\"\",\"\",Clients!B43363)","v":""},{"$f":"IF(Clients!C43363=\"\",\"\",Clients!C43363)","v":""}]
[null,null,null,null,null,null,null,null,null,null,null,null,null,null,null,null,null,null,{"$f":"IF(Clients!B43387=\"\",\"\",Clients!B43387)","v":""},{"$f":"IF(Clients!C43387=\"\",\"\",Clients!C43387)","v":""}]
[null,null,null,null,null,null,null,null,null,null,null,null,null,null,null,null,null,null,{"$f":"IF(Clients!B43419=\"\",\"\",Clients!B43419)","v":""},{"$f":"IF(Clients!C43419=\"\",\"\",Clients!C43419)","v":""}]
[null,null,null,null,null,null,null,null,null,null,null,null,null,null,null,null,null,null,{"$f":"IF(Clients!B43447=\"\",\"\",Clients!B43447)","v":""},{"$f":"IF(Clients!C43447=\"\",\"\",Clients!C43447)","v":""}]
[null,null,null,null,null,null,null,null,null,null,null,null,null,null,null,null,null,null,{"$f":"IF(Clients!B43492=\"\",\"\",Clients!B43492)","v":""},{"$f":"IF(Clients!C43492=\"\",\"\",Clients!C43492)","v":""}]
[null,null,null,null,null,null,null,null,null,null,null,null,null,null,null,null,null,null,{"$f":"IF(Clients!B43508=\"\",\"\",Clients!B43508)","v":""},{"$f":"IF(Clients!C43508=\"\",\"\",Clients!C43508)","v":""}]
[null,null,null,null,null,null,null,null,null,null,null,null,null,null,null,null,null,null,{"$f":"IF(Clients!B43536=\"\",\"\",Clients!B43536)","v":""},{"$f":"IF(Clients!C43536=\"\",\"\",Clients!C43536)","v":""}]
[null,null,null,null,null,null,null,null,null,null,null,null,null,null,null,null,null,null,{"$f":"IF(Clients!B43568=\"\",\"\",Clients!B43568)","v":""},{"$f":"IF(Clients!C43568=\"\",\"\",Clients!C43568)","v":""}]
[null,null,null,null,null,null,null,null,null,null,null,null,null,null,null,null,null,null,{"$f":"IF(Clients!B43621=\"\",\"\",Clients!B43621)","v":""},{"$f":"IF(Clients!C43621=\"\",\"\",Clients!C43621)","v":""}]
[null,null,null,null,null,null,null,null,null,null,null,null,null,null,null,null,null,null,{"$f":"IF(Clients!B43625=\"\",\"\",Clients!B43625)","v":""},{"$f":"IF(Clients!C43625=\"\",\"\",Clients!C43625)","v":""}]
[null,null,null,null,null,null,null,null,null,null,null,null,null,null,null,null,null,null,{"$f":"IF(Clients!B43657=\"\",\"\",Clients!B43657)","v":""},{"$f":"IF(Clients!C43657=\"\",\"\",Clients!C43657)","v":""}]
[null,null,null,null,null,null,null,null,null,null,null,null,null,null,null,null,null,null,{"$f":"IF(Clients!B43716=\"\",\"\",Clients!B43716)","v":""},{"$f":"IF(Clients!C43716=\"\",\"\",Clients!C43716)","v":""}]
[null,null,null,null,null,null,null,null,null,null,null,null,null,null,null,null,null,null,{"$f":"IF(Clients!B43718=\"\",\"\",Clients!B43718)","v":""},{"$f":"IF(Clients!C43718=\"\",\"\",Clients!C43718)","v":""}]
[null,null,null,null,null,null,null,null,null,null,null,null,null,null,null,null,null,null,{"$f":"IF(Clients!B43777=\"\",\"\",Clients!B43777)","v":""},{"$f":"IF(Clients!C43777=\"\",\"\",Clients!C43777)","v":""}]
[null,null,null,null,null,null,null,null,null,null,null,null,null,null,null,null,null,null,{"$f":"IF(Clients!B43805=\"\",\"\",Clients!B43805)","v":""},{"$f":"IF(Clients!C43805=\"\",\"\",Clients!C43805)","v":""}]
[null,null,null,null,null,null,null,null,null,null,null,null,null,null,null,null,null,null,{"$f":"IF(Clients!B43837=\"\",\"\",Clients!B43837)","v":""},{"$f":"IF(Clients!C43837=\"\",\"\",Clients!C43837)","v":""}]
[null,null,null,null,null,null,null,null,null,null,null,null,null,null,null,null,null,null,{"$f":"IF(Clients!B43847=\"\",\"\",Clients!B43847)","v":""},{"$f":"IF(Clients!C43847=\"\",\"\",Clients!C43847)","v":""}]
[null,null,null,null,null,null,null,null,null,null,null,null,null,null,null,null,null,null,{"$f":"IF(Clients!B43894=\"\",\"\",Clients!B43894)","v":""},{"$f":"IF(Clients!C43894=\"\",\"\",Clients!C43894)","v":""}]
[null,null,null,null,null,null,null,null,null,null,null,null,null,null,null,null,null,null,{"$f":"IF(Clients!B43926=\"\",\"\",Clients!B43926)","v":""},{"$f":"IF(Clients!C43926=\"\",\"\",Clients!C43926)","v":""}]
[null,null,null,null,null,null,null,null,null,null,null,null,null,null,null,null,null,null,{"$f":"IF(Clients!B43954=\"\",\"\",Clients!B43954)","v":""},{"$f":"IF(Clients!C43954=\"\",\"\",Clients!C43954)","v":""}]
[null,null,null,null,null,null,null,null,null,null,null,null,null,null,null,null,null,null,{"$f":"IF(Clients!B43976=\"\",\"\",Clients!B43976)","v":""},{"$f":"IF(Clients!C43976=\"\",\"\",Clients!C43976)","v":""}]
[null,null,null,null,null,null,null,null,null,null,null,null,null,null,null,null,null,null,{"$f":"IF(Clients!B44015=\"\",\"\",Clients!B44015)","v":""},{"$f":"IF(Clients!C44015=\"\",\"\",Clients!C44015)","v":""}]
[null,null,null,null,null,null,null,null,null,null,null,null,null,null,null,null,null,null,{"$f":"IF(Clients!B44043=\"\",\"\",Clients!B44043)","v":""},{"$f":"IF(Clients!C44043=\"\",\"\",Clients!C44043)","v":""}]
[null,null,null,null,null,null,null,null,null,null,null,null,null,null,null,null,null,null,{"$f":"IF(Clients!B44075=\"\",\"\",Clients!B44075)","v":""},{"$f":"IF(Clients!C44075=\"\",\"\",Clients!C44075)","v":""}]
[null,null,null,null,null,null,null,null,null,null,null,null,null,null,null,null,null,null,{"$f":"IF(Clients!B44105=\"\",\"\",Clients!B44105)","v":""},{"$f":"IF(Clients!C44105=\"\",\"\",Clients!C44105)","v":""}]
[null,null,null,null,null,null,null,null,null,null,null,null,null,null,null,null,null,null,{"$f":"IF(Clients!B44132=\"\",\"\",Clients!B44132)","v":""},{"$f":"IF(Clients!C44132=\"\",\"\",Clients!C44132)","v":""}]
[null,null,null,null,null,null,null,null,null,null,null,null,null,null,null,null,null,null,{"$f":"IF(Clients!B44164=\"\",\"\",Clients!B44164)","v":""},{"$f":"IF(Clients!C44164=\"\",\"\",Clients!C44164)","v":""}]
[null,null,null,null,null,null,null,null,null,null,null,null,null,null,null,null,null,null,{"$f":"IF(Clients!B44192=\"\",\"\",Clients!B44192)","v":""},{"$f":"IF(Clients!C44192=\"\",\"\",Clients!C44192)","v":""}]
[null,null,null,null,null,null,null,null,null,null,null,null,null,null,null,null,null,null,{"$f":"IF(Clients!B44234=\"\",\"\",Clients!B44234)","v":""},{"$f":"IF(Clients!C44234=\"\",\"\",Clients!C44234)","v":""}]
[null,null,null,null,null,null,null,null,null,null,null,null,null,null,null,null,null,null,{"$f":"IF(Clients!B44253=\"\",\"\",Clients!B44253)","v":""},{"$f":"IF(Clients!C44253=\"\",\"\",Clients!C44253)","v":""}]
[null,null,null,null,null,null,null,null,null,null,null,null,null,null,null,null,null,null,{"$f":"IF(Clients!B44281=\"\",\"\",Clients!B44281)","v":""},{"$f":"IF(Clients!C44281=\"\",\"\",Clients!C44281)","v":""}]
[null,null,null,null,null,null,null,null,null,null,null,null,null,null,null,null,null,null,{"$f":"IF(Clients!B44313=\"\",\"\",Clients!B44313)","v":""},{"$f":"IF(Clients!C44313=\"\",\"\",Clients!C44313)","v":""}]
[null,null,null,null,null,null,null,null,null,null,null,null,null,null,null,null,null,null,{"$f":"IF(Clients!B44363=\"\",\"\",Clients!B44363)","v":""},{"$f":"IF(Clients!C44363=\"\",\"\",Clients!C44363)","v":""}]
[null,null,null,null,null,null,null,null,null,null,null,null,null,null,null,null,null,null,{"$f":"IF(Clients!B44401=\"\",\"\",Clients!B44401)","v":""},{"$f":"IF(Clients!C44401=\"\",\"\",Clients!C44401)","v":""}]
[null,null,null,null,null,null,null,null,null,null,null,null,null,null,null,null,null,null,{"$f":"IF(Clients!B44433=\"\",\"\",Clients!B44433)","v":""},{"$f":"IF(Clients!C44433=\"\",\"\",Clients!C44433)","v":""}]
[null,null,null,null,null,null,null,null,null,null,null,null,null,null,null,null,null,null,{"$f":"IF(Clients!B44461=\"\",\"\",Clients!B44461)","v":""},{"$f":"IF(Clients!C44461=\"\",\"\",Clients!C44461)","v":""}]
[null,null,null,null,null,null,null,null,null,null,null,null,null,null,null,null,null,null,{"$f":"IF(Clients!B44492=\"\",\"\",Clients!B44492)","v":""},{"$f":"IF(Clients!C44492=\"\",\"\",Clients!C44492)","v":""}]
[null,null,null,null,null,null,null,null,null,null,null,null,null,null,null,null,null,null,{"$f":"IF(Clients!B44522=\"\",\"\",Clients!B44522)","v":""},{"$f":"IF(Clients!C44522=\"\",\"\",Clients!C44522)","v":""}]
[null,null,null,null,null,null,null,null,null,null,null,null,null,null,null,null,null,null,{"$f":"IF(Clients!B44550=\"\",\"\",Clients!B44550)","v":""},{"$f":"IF(Clients!C44550=\"\",\"\",Clients!C44550)","v":""}]
[null,null,null,null,null,null,null,null,null,null,null,null,null,null,null,null,null,null,{"$f":"IF(Clients!B44582=\"\",\"\",Clients!B44582)","v":""},{"$f":"IF(Clients!C44582=\"\",\"\",Clients!C44582)","v":""}]
[null,null,null,null,null,null,null,null,null,null,null,null,null,null,null,null,null,null,{"$f":"IF(Clients!B44621=\"\",\"\",Clients!B44621)","v":""},{"$f":"IF(Clients!C44621=\"\",\"\",Clients!C44621)","v":""}]
[null,null,null,null,null,null,null,null,null,null,null,null,null,null,null,null,null,null,{"$f":"IF(Clients!B44643=\"\",\"\",Clients!B44643)","v":""},{"$f":"IF(Clients!C44643=\"\",\"\",Clients!C44643)","v":""}]
[null,null,null,null,null,null,null,null,null,null,null,null,null,null,null,null,null,null,{"$f":"IF(Clients!B44671=\"\",\"\",Clients!B44671)","v":""},{"$f":"IF(Clients!C44671=\"\",\"\",Clients!C44671)","v":""}]
[null,null,null,null,null,null,null,null,null,null,null,null,null,null,null,null,null,null,{"$f":"IF(Clients!B44699=\"\",\"\",Clients!B44699)","v":""},{"$f":"IF(Clients!C44699=\"\",\"\",Clients!C44699)","v":""}]
[null,null,null,null,null,null,null,null,null,null,null,null,null,null,null,null,null,null,{"$f":"IF(Clients!B44718=\"\",\"\",Clients!B44718)","v":""},{"$f":"IF(Clients!C44718=\"\",\"\",Clients!C44718)","v":""}]
[null,null,null,null,null,null,null,null,null,null,null,null,null,null,null,null,null,null,{"$f":"IF(Clients!B44760=\"\",\"\",Clients!B44760)","v":""},{"$f":"IF(Clients!C44760=\"\",\"\",Clients!C44760)","v":""}]
[null,null,null,null,null,null,null,null,null,null,null,null,null,null,null,null,null,null,{"$f":"IF(Clients!B44788=\"\",\"\",Clients!B44788)","v":""},{"$f":"IF(Clients!C44788=\"\",\"\",Clients!C44788)","v":""}]
[null,null,null,null,null,null,null,null,null,null,null,null,null,null,null,null,null,null,{"$f":"IF(Clients!B44820=\"\",\"\",Clients!B44820)","v":""},{"$f":"IF(Clients!C44820=\"\",\"\",Clients!C44820)","v":""}]
[null,null,null,null,null,null,null,null,null,null,null,null,null,null,null,null,null,null,{"$f":"IF(Clients!B44847=\"\",\"\",Clients!B44847)","v":""},{"$f":"IF(Clients!C44847=\"\",\"\",Clients!C44847)","v":""}]
[null,null,null,null,null,null,null,null,null,null,null,null,null,null,null,null,null,null,{"$f":"IF(Clients!B44881=\"\",\"\",Clients!B44881)","v":""},{"$f":"IF(Clients!C44881=\"\",\"\",Clients!C44881)","v":""}]
[null,null,null,null,null,null,null,null,null,null,null,null,null,null,null,null,null,null,{"$f":"IF(Clients!B44909=\"\",\"\",Clients!B44909)","v":""},{"$f":"IF(Clients!C44909=\"\",\"\",Clients!C44909)","v":""}]
[null,null,null,null,null,null,null,null,null,null,null,null,null,null,null,null,null,null,{"$f":"IF(Clients!B44937=\"\",\"\",Clients!B44937)","v":""},{"$f":"IF(Clients!C44937=\"\",\"\",Clients!C44937)","v":""}]
[null,null,null,null,null,null,null,null,null,null,null,null,null,null,null,null,null,null,{"$f":"IF(Clients!B44976=\"\",\"\",Clients!B44976)","v":""},{"$f":"IF(Clients!C44976=\"\",\"\",Clients!C44976)","v":""}]
[null,null,null,null,null,null,null,null,null,null,null,null,null,null,null,null,null,null,{"$f":"IF(Clients!B45029=\"\",\"\",Clients!B45029)","v":""},{"$f":"IF(Clients!C45029=\"\",\"\",Clients!C45029)","v":""}]
[null,null,null,null,null,null,null,null,null,null,null,null,null,null,null,null,null,null,{"$f":"IF(Clients!B45057=\"\",\"\",Clients!B45057)","v":""},{"$f":"IF(Clients!C45057=\"\",\"\",Clients!C45057)","v":""}]
[null,null,null,null,null,null,null,null,null,null,null,null,null,null,null,null,null,null,{"$f":"IF(Clients!B45089=\"\",\"\",Clients!B45089)","v":""},{"$f":"IF(Clients!C45089=\"\",\"\",Clients!C45089)","v":""}]
[null,null,null,null,null,null,null,null,null,null,null,null,null,null,null,null,null,null,{"$f":"IF(Clients!B45105=\"\",\"\",Clients!B45105)","v":""},{"$f":"IF(Clients!C45105=\"\",\"\",Clients!C45105)","v":""}]
[null,null,null,null,null,null,null,null,null,null,null,null,null,null,null,null,null,null,{"$f":"IF(Clients!B45150=\"\",\"\",Clients!B45150)","v":""},{"$f":"IF(Clients!C45150=\"\",\"\",Clients!C45150)","v":""}]
[null,null,null,null,null,null,null,null,null,null,null,null,null,null,null,null,null,null,{"$f":"IF(Clients!B45178=\"\",\"\",Clients!B45178)","v":""},{"$f":"IF(Clients!C45178=\"\",\"\",Clients!C45178)","v":""}]
[null,null,null,null,null,null,null,null,null,null,null,null,null,null,null,null,null,null,{"$f":"IF(Clients!B45206=\"\",\"\",Clients!B45206)","v":""},{"$f":"IF(Clients!C45206=\"\",\"\",Clients!C45206)","v":""}]
[null,null,null,null,null,null,null,null,null,null,null,null,null,null,null,null,null,null,{"$f":"IF(Clients!B45234=\"\",\"\",Clients!B45234)","v":""},{"$f":"IF(Clients!C45234=\"\",\"\",Clients!C45234)","v":""}]
[null,null,null,null,null,null,null,null,null,null,null,null,null,null,null,null,null,null,{"$f":"IF(Clients!B45267=\"\",\"\",Clients!B45267)","v":""},{"$f":"IF(Clients!C45267=\"\",\"\",Clients!C45267)","v":""}]
[null,null,null,null,null,null,null,null,null,null,null,null,null,null,null,null,null,null,{"$f":"IF(Clients!B45299=\"\",\"\",Clients!B45299)","v":""},{"$f":"IF(Clients!C45299=\"\",\"\",Clients!C45299)","v":""}]
[null,null,null,null,null,null,null,null,null,null,null,null,null,null,null,null,null,null,{"$f":"IF(Clients!B45327=\"\",\"\",Clients!B45327)","v":""},{"$f":"IF(Clients!C45327=\"\",\"\",Clients!C45327)","v":""}]
[null,null,null,null,null,null,null,null,null,null,null,null,null,null,null,null,null,null,{"$f":"IF(Clients!B45363=\"\",\"\",Clients!B45363)","v":""},{"$f":"IF(Clients!C45363=\"\",\"\",Clients!C45363)","v":""}]
[null,null,null,null,null,null,null,null,null,null,null,null,null,null,null,null,null,null,{"$f":"IF(Clients!B45388=\"\",\"\",Clients!B45388)","v":""},{"$f":"IF(Clients!C45388=\"\",\"\",Clients!C45388)","v":""}]
[null,null,null,null,null,null,null,null,null,null,null,null,null,null,null,null,null,null,{"$f":"IF(Clients!B45416=\"\",\"\",Clients!B45416)","v":""},{"$f":"IF(Clients!C45416=\"\",\"\",Clients!C45416)","v":""}]
[null,null,null,null,null,null,null,null,null,null,null,null,null,null,null,null,null,null,{"$f":"IF(Clients!B45444=\"\",\"\",Clients!B45444)","v":""},{"$f":"IF(Clients!C45444=\"\",\"\",Clients!C45444)","v":""}]
[null,null,null,null,null,null,null,null,null,null,null,null,null,null,null,null,null,null,{"$f":"IF(Clients!B45492=\"\",\"\",Clients!B45492)","v":""},{"$f":"IF(Clients!C45492=\"\",\"\",Clients!C45492)","v":""}]
[null,null,null,null,null,null,null,null,null,null,null,null,null,null,null,null,null,null,{"$f":"IF(Clients!B45505=\"\",\"\",Clients!B45505)","v":""},{"$f":"IF(Clients!C45505=\"\",\"\",Clients!C45505)","v":""}]
[null,null,null,null,null,null,null,null,null,null,null,null,null,null,null,null,null,null,{"$f":"IF(Clients!B45537=\"\",\"\",Clients!B45537)","v":""},{"$f":"IF(Clients!C45537=\"\",\"\",Clients!C45537)","v":""}]
[null,null,null,null,null,null,null,null,null,null,null,null,null,null,null,null,null,null,{"$f":"IF(Clients!B45565=\"\",\"\",Clients!B45565)","v":""},{"$f":"IF(Clients!C45565=\"\",\"\",Clients!C45565)","v":""}]
[null,null,null,null,null,null,null,null,null,null,null,null,null,null,null,null,null,null,{"$f":"IF(Clients!B45621=\"\",\"\",Clients!B45621)","v":""},{"$f":"IF(Clients!C45621=\"\",\"\",Clients!C45621)","v":""}]
[null,null,null,null,null,null,null,null,null,null,null,null,null,null,null,null,null,null,{"$f":"IF(Clients!B45626=\"\",\"\",Clients!B45626)","v":""},{"$f":"IF(Clients!C45626=\"\",\"\",Clients!C45626)","v":""}]
[null,null,null,null,null,null,null,null,null,null,null,null,null,null,null,null,null,null,{"$f":"IF(Clients!B45685=\"\",\"\",Clients!B45685)","v":""},{"$f":"IF(Clients!C45685=\"\",\"\",Clients!C45685)","v":""}]
[null,null,null,null,null,null,null,null,null,null,null,null,null,null,null,null,null,null,{"$f":"IF(Clients!B45713=\"\",\"\",Clients!B45713)","v":""},{"$f":"IF(Clients!C45713=\"\",\"\",Clients!C45713)","v":""}]
[null,null,null,null,null,null,null,null,null,null,null,null,null,null,null,null,null,null,{"$f":"IF(Clients!B45718=\"\",\"\",Clients!B45718)","v":""},{"$f":"IF(Clients!C45718=\"\",\"\",Clients!C45718)","v":""}]
[null,null,null,null,null,null,null,null,null,null,null,null,null,null,null,null,null,null,{"$f":"IF(Clients!B45774=\"\",\"\",Clients!B45774)","v":""},{"$f":"IF(Clients!C45774=\"\",\"\",Clients!C45774)","v":""}]
[null,null,null,null,null,null,null,null,null,null,null,null,null,null,null,null,null,null,{"$f":"IF(Clients!B45806=\"\",\"\",Clients!B45806)","v":""},{"$f":"IF(Clients!C45806=\"\",\"\",Clients!C45806)","v":""}]
[null,null,null,null,null,null,null,null,null,null,null,null,null,null,null,null,null,null,{"$f":"IF(Clients!B45834=\"\",\"\",Clients!B45834)","v":""},{"$f":"IF(Clients!C45834=\"\",\"\",Clients!C45834)","v":""}]
[null,null,null,null,null,null,null,null,null,null,null,null,null,null,null,null,null,null,{"$f":"IF(Clients!B45847=\"\",\"\",Clients!B45847)","v":""},{"$f":"IF(Clients!C45847=\"\",\"\",Clients!C45847)","v":""}]
[null,null,null,null,null,null,null,null,null,null,null,null,null,null,null,null,null,null,{"$f":"IF(Clients!B45895=\"\",\"\",Clients!B45895)","v":""},{"$f":"IF(Clients!C45895=\"\",\"\",Clients!C45895)","v":""}]
[null,null,null,null,null,null,null,null,null,null,null,null,null,null,null,null,null,null,{"$f":"IF(Clients!B45923=\"\",\"\",Clients!B45923)","v":""},{"$f":"IF(Clients!C45923=\"\",\"\",Clients!C45923)","v":""}]
[null,null,null,null,null,null,null,null,null,null,null,null,null,null,null,null,null,null,{"$f":"IF(Clients!B45955=\"\",\"\",Clients!B45955)","v":""},{"$f":"IF(Clients!C45955=\"\",\"\",Clients!C45955)","v":""}]
[null,null,null,null,null,null,null,null,null,null,null,null,null,null,null,null,null,null,{"$f":"IF(Clients!B45976=\"\",\"\",Clients!B45976)","v":""},{"$f":"IF(Clients!C45976=\"\",\"\",Clients!C45976)","v":""}]
[null,null,null,null,null,null,null,null,null,null,null,null,null,null,null,null,null,null,{"$f":"IF(Clients!B46012=\"\",\"\",Clients!B46012)","v":""},{"$f":"IF(Clients!C46012=\"\",\"\",Clients!C46012)","v":""}]
[null,null,null,null,null,null,null,null,null,null,null,null,null,null,null,null,null,null,{"$f":"IF(Clients!B46044=\"\",\"\",Clients!B46044)","v":""},{"$f":"IF(Clients!C46044=\"\",\"\",Clients!C46044)","v":""}]
[null,null,null,null,null,null,null,null,null,null,null,null,null,null,null,null,null,null,{"$f":"IF(Clients!B46072=\"\",\"\",Clients!B46072)","v":""},{"$f":"IF(Clients!C46072=\"\",\"\",Clients!C46072)","v":""}]
[null,null,null,null,null,null,null,null,null,null,null,null,null,null,null,null,null,null,{"$f":"IF(Clients!B46105=\"\",\"\",Clients!B46105)","v":""},{"$f":"IF(Clients!C46105=\"\",\"\",Clients!C46105)","v":""}]
[null,null,null,null,null,null,null,null,null,null,null,null,null,null,null,null,null,null,{"$f":"IF(Clients!B46133=\"\",\"\",Clients!B46133)","v":""},{"$f":"IF(Clients!C46133=\"\",\"\",Clients!C46133)","v":""}]
[null,null,null,null,null,null,null,null,null,null,null,null,null,null,null,null,null,null,{"$f":"IF(Clients!B46161=\"\",\"\",Clients!B46161)","v":""},{"$f":"IF(Clients!C46161=\"\",\"\",Clients!C46161)","v":""}]
[null,null,null,null,null,null,null,null,null,null,null,null,null,null,null,null,null,null,{"$f":"IF(Clients!B46193=\"\",\"\",Clients!B46193)","v":""},{"$f":"IF(Clients!C46193=\"\",\"\",Clients!C46193)","v":""}]
[null,null,null,null,null,null,null,null,null,null,null,null,null,null,null,null,null,null,{"$f":"IF(Clients!B46234=\"\",\"\",Clients!B46234)","v":""},{"$f":"IF(Clients!C46234=\"\",\"\",Clients!C46234)","v":""}]
[null,null,null,null,null,null,null,null,null,null,null,null,null,null,null,null,null,null,{"$f":"IF(Clients!B46250=\"\",\"\",Clients!B46250)","v":""},{"$f":"IF(Clients!C46250=\"\",\"\",Clients!C46250)","v":""}]
[null,null,null,null,null,null,null,null,null,null,null,null,null,null,null,null,null,null,{"$f":"IF(Clients!B46282=\"\",\"\",Clients!B46282)","v":""},{"$f":"IF(Clients!C46282=\"\",\"\",Clients!C46282)","v":""}]
[null,null,null,null,null,null,null,null,null,null,null,null,null,null,null,null,null,null,{"$f":"IF(Clients!B46341=\"\",\"\",Clients!B46341)","v":""},{"$f":"IF(Clients!C46341=\"\",\"\",Clients!C46341)","v":""}]
[null,null,null,null,null,null,null,null,null,null,null,null,null,null,null,null,null,null,{"$f":"IF(Clients!B46363=\"\",\"\",Clients!B46363)","v":""},{"$f":"IF(Clients!C46363=\"\",\"\",Clients!C46363)","v":""}]
[null,null,null,null,null,null,null,null,null,null,null,null,null,null,null,null,null,null,{"$f":"IF(Clients!B46402=\"\",\"\",Clients!B46402)","v":""},{"$f":"IF(Clients!C46402=\"\",\"\",Clients!C46402)","v":""}]
[null,null,null,null,null,null,null,null,null,null,null,null,null,null,null,null,null,null,{"$f":"IF(Clients!B46430=\"\",\"\",Clients!B46430)","v":""},{"$f":"IF(Clients!C46430=\"\",\"\",Clients!C46430)","v":""}]
[null,null,null,null,null,null,null,null,null,null,null,null,null,null,null,null,null,null,{"$f":"IF(Clients!B46462=\"\",\"\",Clients!B46462)","v":""},{"$f":"IF(Clients!C46462=\"\",\"\",Clients!C46462)","v":""}]
[null,null,null,null,null,null,null,null,null,null,null,null,null,null,null,null,null,null,{"$f":"IF(Clients!B46492=\"\",\"\",Clients!B46492)","v":""},{"$f":"IF(Clients!C46492=\"\",\"\",Clients!C46492)","v":""}]
[null,null,null,null,null,null,null,null,null,null,null,null,null,null,null,null,null,null,{"$f":"IF(Clients!B46519=\"\",\"\",Clients!B46519)","v":""},{"$f":"IF(Clients!C46519=\"\",\"\",Clients!C46519)","v":""}]
[null,null,null,null,null,null,null,null,null,null,null,null,null,null,null,null,null,null,{"$f":"IF(Clients!B46551=\"\",\"\",Clients!B46551)","v":""},{"$f":"IF(Clients!C46551=\"\",\"\",Clients!C46551)","v":""}]
[null,null,null,null,null,null,null,null,null,null,null,null,null,null,null,null,null,null,{"$f":"IF(Clients!B46579=\"\",\"\",Clients!B46579)","v":""},{"$f":"IF(Clients!C46579=\"\",\"\",Clients!C46579)","v":""}]
[null,null,null,null,null,null,null,null,null,null,null,null,null,null,null,null,null,null,{"$f":"IF(Clients!B46621=\"\",\"\",Clients!B46621)","v":""},{"$f":"IF(Clients!C46621=\"\",\"\",Clients!C46621)","v":""}]
[null,null,null,null,null,null,null,null,null,null,null,null,null,null,null,null,null,null,{"$f":"IF(Clients!B46640=\"\",\"\",Clients!B46640)","v":""},{"$f":"IF(Clients!C46640=\"\",\"\",Clients!C46640)","v":""}]
[null,null,null,null,null,null,null,null,null,null,null,null,null,null,null,null,null,null,{"$f":"IF(Clients!B46668=\"\",\"\",Clients!B46668)","v":""},{"$f":"IF(Clients!C46668=\"\",\"\",Clients!C46668)","v":""}]
[null,null,null,null,null,null,null,null,null,null,null,null,null,null,null,null,null,null,{"$f":"IF(Clients!B46700=\"\",\"\",Clients!B46700)","v":""},{"$f":"IF(Clients!C46700=\"\",\"\",Clients!C46700)","v":""}]
[null,null,null,null,null,null,null,null,null,null,null,null,null,null,null,null,null,null,{"$f":"IF(Clients!B46718=\"\",\"\",Clients!B46718)","v":""},{"$f":"IF(Clients!C46718=\"\",\"\",Clients!C46718)","v":""}]
[null,null,null,null,null,null,null,null,null,null,null,null,null,null,null,null,null,null,{"$f":"IF(Clients!B46757=\"\",\"\",Clients!B46757)","v":""},{"$f":"IF(Clients!C46757=\"\",\"\",Clients!C46757)","v":""}]
[null,null,null,null,null,null,null,null,null,null,null,null,null,null,null,null,null,null,{"$f":"IF(Clients!B46789=\"\",\"\",Clients!B46789)","v":""},{"$f":"IF(Clients!C46789=\"\",\"\",Clients!C46789)","v":""}]
[null,null,null,null,null,null,null,null,null,null,null,null,null,null,null,null,null,null,{"$f":"IF(Clients!B46817=\"\",\"\",Clients!B46817)","v":""},{"$f":"IF(Clients!C46817=\"\",\"\",Clients!C46817)","v":""}]
[null,null,null,null,null,null,null,null,null,null,null,null,null,null,null,null,null,null,{"$f":"IF(Clients!B46847=\"\",\"\",Clients!B46847)","v":""},{"$f":"IF(Clients!C46847=\"\",\"\",Clients!C46847)","v":""}]
[null,null,null,null,null,null,null,null,null,null,null,null,null,null,null,null,null,null,{"$f":"IF(Clients!B46878=\"\",\"\",Clients!B46878)","v":""},{"$f":"IF(Clients!C46878=\"\",\"\",Clients!C46878)","v":""}]
[null,null,null,null,null,null,null,null,null,null,null,null,null,null,null,null,null,null,{"$f":"IF(Clients!B46906=\"\",\"\",Clients!B46906)","v":""},{"$f":"IF(Clients!C46906=\"\",\"\",Clients!C46906)","v":""}]
[null,null,null,null,null,null,null,null,null,null,null,null,null,null,null,null,null,null,{"$f":"IF(Clients!B46938=\"\",\"\",Clients!B46938)","v":""},{"$f":"IF(Clients!C46938=\"\",\"\",Clients!C46938)","v":""}]
[null,null,null,null,null,null,null,null,null,null,null,null,null,null,null,null,null,null,{"$f":"IF(Clients!B46976=\"\",\"\",Clients!B46976)","v":""},{"$f":"IF(Clients!C46976=\"\",\"\",Clients!C46976)","v":""}]
[null,null,null,null,null,null,null,null,null,null,null,null,null,null,null,null,null,null,{"$f":"IF(Clients!B47030=\"\",\"\",Clients!B47030)","v":""},{"$f":"IF(Clients!C47030=\"\",\"\",Clients!C47030)","v":""}]
[null,null,null,null,null,null,null,null,null,null,null,null,null,null,null,null,null,null,{"$f":"IF(Clients!B47058=\"\",\"\",Clients!B47058)","v":""},{"$f":"IF(Clients!C47058=\"\",\"\",Clients!C47058)","v":""}]
[null,null,null,null,null,null,null,null,null,null,null,null,null,null,null,null,null,null,{"$f":"IF(Clients!B47086=\"\",\"\",Clients!B47086)","v":""},{"$f":"IF(Clients!C47086=\"\",\"\",Clients!C47086)","v":""}]
[null,null,null,null,null,null,null,null,null,null,null,null,null,null,null,null,null,null,{"$f":"IF(Clients!B47105=\"\",\"\",Clients!B47105)","v":""},{"$f":"IF(Clients!C47105=\"\",\"\",Clients!C47105)","v":""}]
[null,null,null,null,null,null,null,null,null,null,null,null,null,null,null,null,null,null,{"$f":"IF(Clients!B47147=\"\",\"\",Clients!B47147)","v":""},{"$f":"IF(Clients!C47147=\"\",\"\",Clients!C47147)","v":""}]
[null,null,null,null,null,null,null,null,null,null,null,null,null,null,null,null,null,null,{"$f":"IF(Clients!B47175=\"\",\"\",Clients!B47175)","v":""},{"$f":"IF(Clients!C47175=\"\",\"\",Clients!C47175)","v":""}]
[null,null,null,null,null,null,null,null,null,null,null,null,null,null,null,null,null,null,{"$f":"IF(Clients!B47207=\"\",\"\",Clients!B47207)","v":""},{"$f":"IF(Clients!C47207=\"\",\"\",Clients!C47207)","v":""}]
[null,null,null,null,null,null,null,null,null,null,null,null,null,null,null,null,null,null,{"$f":"IF(Clients!B47234=\"\",\"\",Clients!B47234)","v":""},{"$f":"IF(Clients!C47234=\"\",\"\",Clients!C47234)","v":""}]
[null,null,null,null,null,null,null,null,null,null,null,null,null,null,null,null,null,null,{"$f":"IF(Clients!B47268=\"\",\"\",Clients!B47268)","v":""},{"$f":"IF(Clients!C47268=\"\",\"\",Clients!C47268)","v":""}]
[null,null,null,null,null,null,null,null,null,null,null,null,null,null,null,null,null,null,{"$f":"IF(Clients!B47296=\"\",\"\",Clients!B47296)","v":""},{"$f":"IF(Clients!C47296=\"\",\"\",Clients!C47296)","v":""}]
[null,null,null,null,null,null,null,null,null,null,null,null,null,null,null,null,null,null,{"$f":"IF(Clients!B47324=\"\",\"\",Clients!B47324)","v":""},{"$f":"IF(Clients!C47324=\"\",\"\",Clients!C47324)","v":""}]
[null,null,null,null,null,null,null,null,null,null,null,null,null,null,null,null,null,null,{"$f":"IF(Clients!B47363=\"\",\"\",Clients!B47363)","v":""},{"$f":"IF(Clients!C47363=\"\",\"\",Clients!C47363)","v":""}]
[null,null,null,null,null,null,null,null,null,null,null,null,null,null,null,null,null,null,{"$f":"IF(Clients!B47385=\"\",\"\",Clients!B47385)","v":""},{"$f":"IF(Clients!C47385=\"\",\"\",Clients!C47385)","v":""}]
[null,null,null,null,null,null,null,null,null,null,null,null,null,null,null,null,null,null,{"$f":"IF(Clients!B47413=\"\",\"\",Clients!B47413)","v":""},{"$f":"IF(Clients!C47413=\"\",\"\",Clients!C47413)","v":""}]
[null,null,null,null,null,null,null,null,null,null,null,null,null,null,null,null,null,null,{"$f":"IF(Clients!B47445=\"\",\"\",Clients!B47445)","v":""},{"$f":"IF(Clients!C47445=\"\",\"\",Clients!C47445)","v":""}]
[null,null,null,null,null,null,null,null,null,null,null,null,null,null,null,null,null,null,{"$f":"IF(Clients!B47492=\"\",\"\",Clients!B47492)","v":""},{"$f":"IF(Clients!C47492=\"\",\"\",Clients!C47492)","v":""}]
[null,null,null,null,null,null,null,null,null,null,null,null,null,null,null,null,null,null,{"$f":"IF(Clients!B47506=\"\",\"\",Clients!B47506)","v":""},{"$f":"IF(Clients!C47506=\"\",\"\",Clients!C47506)","v":""}]
[null,null,null,null,null,null,null,null,null,null,null,null,null,null,null,null,null,null,{"$f":"IF(Clients!B47534=\"\",\"\",Clients!B47534)","v":""},{"$f":"IF(Clients!C47534=\"\",\"\",Clients!C47534)","v":""}]
[null,null,null,null,null,null,null,null,null,null,null,null,null,null,null,null,null,null,{"$f":"IF(Clients!B47562=\"\",\"\",Clients!B47562)","v":""},{"$f":"IF(Clients!C47562=\"\",\"\",Clients!C47562)","v":""}]
[null,null,null,null,null,null,null,null,null,null,null,null,null,null,null,null,null,null,{"$f":"IF(Clients!B47621=\"\",\"\",Clients!B47621)","v":""},{"$f":"IF(Clients!C47621=\"\",\"\",Clients!C47621)","v":""}]
[null,null,null,null,null,null,null,null,null,null,null,null,null,null,null,null,null,null,{"$f":"IF(Clients!B47654=\"\",\"\",Clients!B47654)","v":""},{"$f":"IF(Clients!C47654=\"\",\"\",Clients!C47654)","v":""}]
[null,null,null,null,null,null,null,null,null,null,null,null,null,null,null,null,null,null,{"$f":"IF(Clients!B47686=\"\",\"\",Clients!B47686)","v":""},{"$f":"IF(Clients!C47686=\"\",\"\",Clients!C47686)","v":""}]
[null,null,null,null,null,null,null,null,null,null,null,null,null,null,null,null,null,null,{"$f":"IF(Clients!B47714=\"\",\"\",Clients!B47714)","v":""},{"$f":"IF(Clients!C47714=\"\",\"\",Clients!C47714)","v":""}]
[null,null,null,null,null,null,null,null,null,null,null,null,null,null,null,null,null,null,{"$f":"IF(Clients!B47718=\"\",\"\",Clients!B47718)","v":""},{"$f":"IF(Clients!C47718=\"\",\"\",Clients!C47718)","v":""}]
[null,null,null,null,null,null,null,null,null,null,null,null,null,null,null,null,null,null,{"$f":"IF(Clients!B47775=\"\",\"\",Clients!B47775)","v":""},{"$f":"IF(Clients!C47775=\"\",\"\",Clients!C47775)","v":""}]
[null,null,null,null,null,null,null,null,null,null,null,null,null,null,null,null,null,null,{"$f":"IF(Clients!B47803=\"\",\"\",Clients!B47803)","v":""},{"$f":"IF(Clients!C47803=\"\",\"\",Clients!C47803)","v":""}]
[null,null,null,null,null,null,null,null,null,null,null,null,null,null,null,null,null,null,{"$f":"IF(Clients!B47831=\"\",\"\",Clients!B47831)","v":""},{"$f":"IF(Clients!C47831=\"\",\"\",Clients!C47831)","v":""}]
[null,null,null,null,null,null,null,null,null,null,null,null,null,null,null,null,null,null,{"$f":"IF(Clients!B47847=\"\",\"\",Clients!B47847)","v":""},{"$f":"IF(Clients!C47847=\"\",\"\",Clients!C47847)","v":""}]
[null,null,null,null,null,null,null,null,null,null,null,null,null,null,null,null,null,null,{"$f":"IF(Clients!B47892=\"\",\"\",Clients!B47892)","v":""},{"$f":"IF(Clients!C47892=\"\",\"\",Clients!C47892)","v":""}]
[null,null,null,null,null,null,null,null,null,null,null,null,null,null,null,null,null,null,{"$f":"IF(Clients!B47924=\"\",\"\",Clients!B47924)","v":""},{"$f":"IF(Clients!C47924=\"\",\"\",Clients!C47924)","v":""}]
[null,null,null,null,null,null,null,null,null,null,null,null,null,null,null,null,null,null,{"$f":"IF(Clients!B47952=\"\",\"\",Clients!B47952)","v":""},{"$f":"IF(Clients!C47952=\"\",\"\",Clients!C47952)","v":""}]
[null,null,null,null,null,null,null,null,null,null,null,null,null,null,null,null,null,null,{"$f":"IF(Clients!B47976=\"\",\"\",Clients!B47976)","v":""},{"$f":"IF(Clients!C47976=\"\",\"\",Clients!C47976)","v":""}]
[null,null,null,null,null,null,null,null,null,null,null,null,null,null,null,null,null,null,{"$f":"IF(Clients!B48013=\"\",\"\",Clients!B48013)","v":""},{"$f":"IF(Clients!C48013=\"\",\"\",Clients!C48013)","v":""}]
[null,null,null,null,null,null,null,null,null,null,null,null,null,null,null,null,null,null,{"$f":"IF(Clients!B48041=\"\",\"\",Clients!B48041)","v":""},{"$f":"IF(Clients!C48041=\"\",\"\",Clients!C48041)","v":""}]
[null,null,null,null,null,null,null,null,null,null,null,null,null,null,null,null,null,null,{"$f":"IF(Clients!B48073=\"\",\"\",Clients!B48073)","v":""},{"$f":"IF(Clients!C48073=\"\",\"\",Clients!C48073)","v":""}]
[null,null,null,null,null,null,null,null,null,null,null,null,null,null,null,null,null,null,{"$f":"IF(Clients!B48105=\"\",\"\",Clients!B48105)","v":""},{"$f":"IF(Clients!C48105=\"\",\"\",Clients!C48105)","v":""}]
[null,null,null,null,null,null,null,null,null,null,null,null,null,null,null,null,null,null,{"$f":"IF(Clients!B48130=\"\",\"\",Clients!B48130)","v":""},{"$f":"IF(Clients!C48130=\"\",\"\",Clients!C48130)","v":""}]
[null,null,null,null,null,null,null,null,null,null,null,null,null,null,null,null,null,null,{"$f":"IF(Clients!B48162=\"\",\"\",Clients!B48162)","v":""},{"$f":"IF(Clients!C48162=\"\",\"\",Clients!C48162)","v":""}]
[null,null,null,null,null,null,null,null,null,null,null,null,null,null,null,null,null,null,{"$f":"IF(Clients!B48190=\"\",\"\",Clients!B48190)","v":""},{"$f":"IF(Clients!C48190=\"\",\"\",Clients!C48190)","v":""}]
[null,null,null,null,null,null,null,null,null,null,null,null,null,null,null,null,null,null,{"$f":"IF(Clients!B48234=\"\",\"\",Clients!B48234)","v":""},{"$f":"IF(Clients!C48234=\"\",\"\",Clients!C48234)","v":""}]
[null,null,null,null,null,null,null,null,null,null,null,null,null,null,null,null,null,null,{"$f":"IF(Clients!B48251=\"\",\"\",Clients!B48251)","v":""},{"$f":"IF(Clients!C48251=\"\",\"\",Clients!C48251)","v":""}]
[null,null,null,null,null,null,null,null,null,null,null,null,null,null,null,null,null,null,{"$f":"IF(Clients!B48310=\"\",\"\",Clients!B48310)","v":""},{"$f":"IF(Clients!C48310=\"\",\"\",Clients!C48310)","v":""}]
[null,null,null,null,null,null,null,null,null,null,null,null,null,null,null,null,null,null,{"$f":"IF(Clients!B48342=\"\",\"\",Clients!B48342)","v":""},{"$f":"IF(Clients!C48342=\"\",\"\",Clients!C48342)","v":""}]
[null,null,null,null,null,null,null,null,null,null,null,null,null,null,null,null,null,null,{"$f":"IF(Clients!B48363=\"\",\"\",Clients!B48363)","v":""},{"$f":"IF(Clients!C48363=\"\",\"\",Clients!C48363)","v":""}]
[null,null,null,null,null,null,null,null,null,null,null,null,null,null,null,null,null,null,{"$f":"IF(Clients!B48399=\"\",\"\",Clients!B48399)","v":""},{"$f":"IF(Clients!C48399=\"\",\"\",Clients!C48399)","v":""}]
[null,null,null,null,null,null,null,null,null,null,null,null,null,null,null,null,null,null,{"$f":"IF(Clients!B48431=\"\",\"\",Clients!B48431)","v":""},{"$f":"IF(Clients!C48431=\"\",\"\",Clients!C48431)","v":""}]
[null,null,null,null,null,null,null,null,null,null,null,null,null,null,null,null,null,null,{"$f":"IF(Clients!B48459=\"\",\"\",Clients!B48459)","v":""},{"$f":"IF(Clients!C48459=\"\",\"\",Clients!C48459)","v":""}]
[null,null,null,null,null,null,null,null,null,null,null,null,null,null,null,null,null,null,{"$f":"IF(Clients!B48492=\"\",\"\",Clients!B48492)","v":""},{"$f":"IF(Clients!C48492=\"\",\"\",Clients!C48492)","v":""}]
[null,null,null,null,null,null,null,null,null,null,null,null,null,null,null,null,null,null,{"$f":"IF(Clients!B48520=\"\",\"\",Clients!B48520)","v":""},{"$f":"IF(Clients!C48520=\"\",\"\",Clients!C48520)","v":""}]
[null,null,null,null,null,null,null,null,null,null,null,null,null,null,null,null,null,null,{"$f":"IF(Clients!B48548=\"\",\"\",Clients!B48548)","v":""},{"$f":"IF(Clients!C48548=\"\",\"\",Clients!C48548)","v":""}]
[null,null,null,null,null,null,null,null,null,null,null,null,null,null,null,null,null,null,{"$f":"IF(Clients!B48580=\"\",\"\",Clients!B48580)","v":""},{"$f":"IF(Clients!C48580=\"\",\"\",Clients!C48580)","v":""}]
[null,null,null,null,null,null,null,null,null,null,null,null,null,null,null,null,null,null,{"$f":"IF(Clients!B48621=\"\",\"\",Clients!B48621)","v":""},{"$f":"IF(Clients!C48621=\"\",\"\",Clients!C48621)","v":""}]
[null,null,null,null,null,null,null,null,null,null,null,null,null,null,null,null,null,null,{"$f":"IF(Clients!B48637=\"\",\"\",Clients!B48637)","v":""},{"$f":"IF(Clients!C48637=\"\",\"\",Clients!C48637)","v":""}]
[null,null,null,null,null,null,null,null,null,null,null,null,null,null,null,null,null,null,{"$f":"IF(Clients!B48669=\"\",\"\",Clients!B48669)","v":""},{"$f":"IF(Clients!C48669=\"\",\"\",Clients!C48669)","v":""}]
[null,null,null,null,null,null,null,null,null,null,null,null,null,null,null,null,null,null,{"$f":"IF(Clients!B48697=\"\",\"\",Clients!B48697)","v":""},{"$f":"IF(Clients!C48697=\"\",\"\",Clients!C48697)","v":""}]
[null,null,null,null,null,null,null,null,null,null,null,null,null,null,null,null,null,null,{"$f":"IF(Clients!B48718=\"\",\"\",Clients!B48718)","v":""},{"$f":"IF(Clients!C48718=\"\",\"\",Clients!C48718)","v":""}]
[null,null,null,null,null,null,null,null,null,null,null,null,null,null,null,null,null,null,{"$f":"IF(Clients!B48758=\"\",\"\",Clients!B48758)","v":""},{"$f":"IF(Clients!C48758=\"\",\"\",Clients!C48758)","v":""}]
[null,null,null,null,null,null,null,null,null,null,null,null,null,null,null,null,null,null,{"$f":"IF(Clients!B48786=\"\",\"\",Clients!B48786)","v":""},{"$f":"IF(Clients!C48786=\"\",\"\",Clients!C48786)","v":""}]
[null,null,null,null,null,null,null,null,null,null,null,null,null,null,null,null,null,null,{"$f":"IF(Clients!B48818=\"\",\"\",Clients!B48818)","v":""},{"$f":"IF(Clients!C48818=\"\",\"\",Clients!C48818)","v":""}]
[null,null,null,null,null,null,null,null,null,null,null,null,null,null,null,null,null,null,{"$f":"IF(Clients!B48847=\"\",\"\",Clients!B48847)","v":""},{"$f":"IF(Clients!C48847=\"\",\"\",Clients!C48847)","v":""}]
[null,null,null,null,null,null,null,null,null,null,null,null,null,null,null,null,null,null,{"$f":"IF(Clients!B48875=\"\",\"\",Clients!B48875)","v":""},{"$f":"IF(Clients!C48875=\"\",\"\",Clients!C48875)","v":""}]
[null,null,null,null,null,null,null,null,null,null,null,null,null,null,null,null,null,null,{"$f":"IF(Clients!B48907=\"\",\"\",Clients!B48907)","v":""},{"$f":"IF(Clients!C48907=\"\",\"\",Clients!C48907)","v":""}]
[null,null,null,null,null,null,null,null,null,null,null,null,null,null,null,null,null,null,{"$f":"IF(Clients!B48966=\"\",\"\",Clients!B48966)","v":""},{"$f":"IF(Clients!C48966=\"\",\"\",Clients!C48966)","v":""}]
[null,null,null,null,null,null,null,null,null,null,null,null,null,null,null,null,null,null,{"$f":"IF(Clients!B48976=\"\",\"\",Clients!B48976)","v":""},{"$f":"IF(Clients!C48976=\"\",\"\",Clients!C48976)","v":""}]
[null,null,null,null,null,null,null,null,null,null,null,null,null,null,null,null,null,null,{"$f":"IF(Clients!B49027=\"\",\"\",Clients!B49027)","v":""},{"$f":"IF(Clients!C49027=\"\",\"\",Clients!C49027)","v":""}]
[null,null,null,null,null,null,null,null,null,null,null,null,null,null,null,null,null,null,{"$f":"IF(Clients!B49055=\"\",\"\",Clients!B49055)","v":""},{"$f":"IF(Clients!C49055=\"\",\"\",Clients!C49055)","v":""}]
[null,null,null,null,null,null,null,null,null,null,null,null,null,null,null,null,null,null,{"$f":"IF(Clients!B49087=\"\",\"\",Clients!B49087)","v":""},{"$f":"IF(Clients!C49087=\"\",\"\",Clients!C49087)","v":""}]
[null,null,null,null,null,null,null,null,null,null,null,null,null,null,null,null,null,null,{"$f":"IF(Clients!B49105=\"\",\"\",Clients!B49105)","v":""},{"$f":"IF(Clients!C49105=\"\",\"\",Clients!C49105)","v":""}]
[null,null,null,null,null,null,null,null,null,null,null,null,null,null,null,null,null,null,{"$f":"IF(Clients!B49148=\"\",\"\",Clients!B49148)","v":""},{"$f":"IF(Clients!C49148=\"\",\"\",Clients!C49148)","v":""}]
[null,null,null,null,null,null,null,null,null,null,null,null,null,null,null,null,null,null,{"$f":"IF(Clients!B49176=\"\",\"\",Clients!B49176)","v":""},{"$f":"IF(Clients!C49176=\"\",\"\",Clients!C49176)","v":""}]
[null,null,null,null,null,null,null,null,null,null,null,null,null,null,null,null,null,null,{"$f":"IF(Clients!B49204=\"\",\"\",Clients!B49204)","v":""},{"$f":"IF(Clients!C49204=\"\",\"\",Clients!C49204)","v":""}]
[null,null,null,null,null,null,null,null,null,null,null,null,null,null,null,null,null,null,{"$f":"IF(Clients!B49234=\"\",\"\",Clients!B49234)","v":""},{"$f":"IF(Clients!C49234=\"\",\"\",Clients!C49234)","v":""}]
[null,null,null,null,null,null,null,null,null,null,null,null,null,null,null,null,null,null,{"$f":"IF(Clients!B49265=\"\",\"\",Clients!B49265)","v":""},{"$f":"IF(Clients!C49265=\"\",\"\",Clients!C49265)","v":""}]
[null,null,null,null,null,null,null,null,null,null,null,null,null,null,null,null,null,null,{"$f":"IF(Clients!B49293=\"\",\"\",Clients!B49293)","v":""},{"$f":"IF(Clients!C49293=\"\",\"\",Clients!C49293)","v":""}]
[null,null,null,null,null,null,null,null,null,null,null,null,null,null,null,null,null,null,{"$f":"IF(Clients!B49325=\"\",\"\",Clients!B49325)","v":""},{"$f":"IF(Clients!C49325=\"\",\"\",Clients!C49325)","v":""}]
[null,null,null,null,null,null,null,null,null,null,null,null,null,null,null,null,null,null,{"$f":"IF(Clients!B49363=\"\",\"\",Clients!B49363)","v":""},{"$f":"IF(Clients!C49363=\"\",\"\",Clients!C49363)","v":""}]
[null,null,null,null,null,null,null,null,null,null,null,null,null,null,null,null,null,null,{"$f":"IF(Clients!B49386=\"\",\"\",Clients!B49386)","v":""},{"$f":"IF(Clients!C49386=\"\",\"\",Clients!C49386)","v":""}]
[null,null,null,null,null,null,null,null,null,null,null,null,null,null,null,null,null,null,{"$f":"IF(Clients!B49414=\"\",\"\",Clients!B49414)","v":""},{"$f":"IF(Clients!C49414=\"\",\"\",Clients!C49414)","v":""}]
[null,null,null,null,null,null,null,null,null,null,null,null,null,null,null,null,null,null,{"$f":"IF(Clients!B49442=\"\",\"\",Clients!B49442)","v":""},{"$f":"IF(Clients!C49442=\"\",\"\",Clients!C49442)","v":""}]
[null,null,null,null,null,null,null,null,null,null,null,null,null,null,null,null,null,null,{"$f":"IF(Clients!B49492=\"\",\"\",Clients!B49492)","v":""},{"$f":"IF(Clients!C49492=\"\",\"\",Clients!C49492)","v":""}]
[null,null,null,null,null,null,null,null,null,null,null,null,null,null,null,null,null,null,{"$f":"IF(Clients!B49503=\"\",\"\",Clients!B49503)","v":""},{"$f":"IF(Clients!C49503=\"\",\"\",Clients!C49503)","v":""}]
[null,null,null,null,null,null,null,null,null,null,null,null,null,null,null,null,null,null,{"$f":"IF(Clients!B49531=\"\",\"\",Clients!B49531)","v":""},{"$f":"IF(Clients!C49531=\"\",\"\",Clients!C49531)","v":""}]
[null,null,null,null,null,null,null,null,null,null,null,null,null,null,null,null,null,null,{"$f":"IF(Clients!B49563=\"\",\"\",Clients!B49563)","v":""},{"$f":"IF(Clients!C49563=\"\",\"\",Clients!C49563)","v":""}]
[null,null,null,null,null,null,null,null,null,null,null,null,null,null,null,null,null,null,{"$f":"IF(Clients!B49621=\"\",\"\",Clients!B49621)","v":""},{"$f":"IF(Clients!C49621=\"\",\"\",Clients!C49621)","v":""}]
[null,null,null,null,null,null,null,null,null,null,null,null,null,null,null,null,null,null,{"$f":"IF(Clients!B49655=\"\",\"\",Clients!B49655)","v":""},{"$f":"IF(Clients!C49655=\"\",\"\",Clients!C49655)","v":""}]
[null,null,null,null,null,null,null,null,null,null,null,null,null,null,null,null,null,null,{"$f":"IF(Clients!B49683=\"\",\"\",Clients!B49683)","v":""},{"$f":"IF(Clients!C49683=\"\",\"\",Clients!C49683)","v":""}]
[null,null,null,null,null,null,null,null,null,null,null,null,null,null,null,null,null,null,{"$f":"IF(Clients!B49711=\"\",\"\",Clients!B49711)","v":""},{"$f":"IF(Clients!C49711=\"\",\"\",Clients!C49711)","v":""}]
[null,null,null,null,null,null,null,null,null,null,null,null,null,null,null,null,null,null,{"$f":"IF(Clients!B49718=\"\",\"\",Clients!B49718)","v":""},{"$f":"IF(Clients!C49718=\"\",\"\",Clients!C49718)","v":""}]
[null,null,null,null,null,null,null,null,null,null,null,null,null,null,null,null,null,null,{"$f":"IF(Clients!B49772=\"\",\"\",Clients!B49772)","v":""},{"$f":"IF(Clients!C49772=\"\",\"\",Clients!C49772)","v":""}]
[null,null,null,null,null,null,null,null,null,null,null,null,null,null,null,null,null,null,{"$f":"IF(Clients!B49804=\"\",\"\",Clients!B49804)","v":""},{"$f":"IF(Clients!C49804=\"\",\"\",Clients!C49804)","v":""}]
[null,null,null,null,null,null,null,null,null,null,null,null,null,null,null,null,null,null,{"$f":"IF(Clients!B49832=\"\",\"\",Clients!B49832)","v":""},{"$f":"IF(Clients!C49832=\"\",\"\",Clients!C49832)","v":""}]
[null,null,null,null,null,null,null,null,null,null,null,null,null,null,null,null,null,null,{"$f":"IF(Clients!B49847=\"\",\"\",Clients!B49847)","v":""},{"$f":"IF(Clients!C49847=\"\",\"\",Clients!C49847)","v":""}]
[null,null,null,null,null,null,null,null,null,null,null,null,null,null,null,null,null,null,{"$f":"IF(Clients!B49893=\"\",\"\",Clients!B49893)","v":""},{"$f":"IF(Clients!C49893=\"\",\"\",Clients!C49893)","v":""}]
[null,null,null,null,null,null,null,null,null,null,null,null,null,null,null,null,null,null,{"$f":"IF(Clients!B49921=\"\",\"\",Clients!B49921)","v":""},{"$f":"IF(Clients!C49921=\"\",\"\",Clients!C49921)","v":""}]
[null,null,null,null,null,null,null,null,null,null,null,null,null,null,null,null,null,null,{"$f":"IF(Clients!B49949=\"\",\"\",Clients!B49949)","v":""},{"$f":"IF(Clients!C49949=\"\",\"\",Clients!C49949)","v":""}]
[null,null,null,null,null,null,null,null,null,null,null,null,null,null,null,null,null,null,{"$f":"IF(Clients!B49976=\"\",\"\",Clients!B49976)","v":""},{"$f":"IF(Clients!C49976=\"\",\"\",Clients!C49976)","v":""}]
[null,null,null,null,null,null,null,null,null,null,null,null,null,null,null,null,null,null,{"$f":"IF(Clients!B50010=\"\",\"\",Clients!B50010)","v":""},{"$f":"IF(Clients!C50010=\"\",\"\",Clients!C50010)","v":""}]
[null,null,null,null,null,null,null,null,null,null,null,null,null,null,null,null,null,null,{"$f":"IF(Clients!B50042=\"\",\"\",Clients!B50042)","v":""},{"$f":"IF(Clients!C50042=\"\",\"\",Clients!C50042)","v":""}]
[null,null,null,null,null,null,null,null,null,null,null,null,null,null,null,null,null,null,{"$f":"IF(Clients!B50070=\"\",\"\",Clients!B50070)","v":""},{"$f":"IF(Clients!C50070=\"\",\"\",Clients!C50070)","v":""}]
[null,null,null,null,null,null,null,null,null,null,null,null,null,null,null,null,null,null,{"$f":"IF(Clients!B50105=\"\",\"\",Clients!B50105)","v":""},{"$f":"IF(Clients!C50105=\"\",\"\",Clients!C50105)","v":""}]
[null,null,null,null,null,null,null,null,null,null,null,null,null,null,null,null,null,null,{"$f":"IF(Clients!B50131=\"\",\"\",Clients!B50131)","v":""},{"$f":"IF(Clients!C50131=\"\",\"\",Clients!C50131)","v":""}]
[null,null,null,null,null,null,null,null,null,null,null,null,null,null,null,null,null,null,{"$f":"IF(Clients!B50159=\"\",\"\",Clients!B50159)","v":""},{"$f":"IF(Clients!C50159=\"\",\"\",Clients!C50159)","v":""}]
[null,null,null,null,null,null,null,null,null,null,null,null,null,null,null,null,null,null,{"$f":"IF(Clients!B50187=\"\",\"\",Clients!B50187)","v":""},{"$f":"IF(Clients!C50187=\"\",\"\",Clients!C50187)","v":""}]
[null,null,null,null,null,null,null,null,null,null,null,null,null,null,null,null,null,null,{"$f":"IF(Clients!B50234=\"\",\"\",Clients!B50234)","v":""},{"$f":"IF(Clients!C50234=\"\",\"\",Clients!C50234)","v":""}]
[null,null,null,null,null,null,null,null,null,null,null,null,null,null,null,null,null,null,{"$f":"IF(Clients!B50279=\"\",\"\",Clients!B50279)","v":""},{"$f":"IF(Clients!C50279=\"\",\"\",Clients!C50279)","v":""}]
[null,null,null,null,null,null,null,null,null,null,null,null,null,null,null,null,null,null,{"$f":"IF(Clients!B50311=\"\",\"\",Clients!B50311)","v":""},{"$f":"IF(Clients!C50311=\"\",\"\",Clients!C50311)","v":""}]
[null,null,null,null,null,null,null,null,null,null,null,null,null,null,null,null,null,null,{"$f":"IF(Clients!B50339=\"\",\"\",Clients!B50339)","v":""},{"$f":"IF(Clients!C50339=\"\",\"\",Clients!C50339)","v":""}]
[null,null,null,null,null,null,null,null,null,null,null,null,null,null,null,null,null,null,{"$f":"IF(Clients!B50363=\"\",\"\",Clients!B50363)","v":""},{"$f":"IF(Clients!C50363=\"\",\"\",Clients!C50363)","v":""}]
[null,null,null,null,null,null,null,null,null,null,null,null,null,null,null,null,null,null,{"$f":"IF(Clients!B50400=\"\",\"\",Clients!B50400)","v":""},{"$f":"IF(Clients!C50400=\"\",\"\",Clients!C50400)","v":""}]
[null,null,null,null,null,null,null,null,null,null,null,null,null,null,null,null,null,null,{"$f":"IF(Clients!B50428=\"\",\"\",Clients!B50428)","v":""},{"$f":"IF(Clients!C50428=\"\",\"\",Clients!C50428)","v":""}]
[null,null,null,null,null,null,null,null,null,null,null,null,null,null,null,null,null,null,{"$f":"IF(Clients!B50460=\"\",\"\",Clients!B50460)","v":""},{"$f":"IF(Clients!C50460=\"\",\"\",Clients!C50460)","v":""}]
[null,null,null,null,null,null,null,null,null,null,null,null,null,null,null,null,null,null,{"$f":"IF(Clients!B50492=\"\",\"\",Clients!B50492)","v":""},{"$f":"IF(Clients!C50492=\"\",\"\",Clients!C50492)","v":""}]
[null,null,null,null,null,null,null,null,null,null,null,null,null,null,null,null,null,null,{"$f":"IF(Clients!B50517=\"\",\"\",Clients!B50517)","v":""},{"$f":"IF(Clients!C50517=\"\",\"\",Clients!C50517)","v":""}]
[null,null,null,null,null,null,null,null,null,null,null,null,null,null,null,null,null,null,{"$f":"IF(Clients!B50549=\"\",\"\",Clients!B50549)","v":""},{"$f":"IF(Clients!C50549=\"\",\"\",Clients!C50549)","v":""}]
[null,null,null,null,null,null,null,null,null,null,null,null,null,null,null,null,null,null,{"$f":"IF(Clients!B50577=\"\",\"\",Clients!B50577)","v":""},{"$f":"IF(Clients!C50577=\"\",\"\",Clients!C50577)","v":""}]
[null,null,null,null,null,null,null,null,null,null,null,null,null,null,null,null,null,null,{"$f":"IF(Clients!B50621=\"\",\"\",Clients!B50621)","v":""},{"$f":"IF(Clients!C50621=\"\",\"\",Clients!C50621)","v":""}]
[null,null,null,null,null,null,null,null,null,null,null,null,null,null,null,null,null,null,{"$f":"IF(Clients!B50638=\"\",\"\",Clients!B50638)","v":""},{"$f":"IF(Clients!C50638=\"\",\"\",Clients!C50638)","v":""}]
[null,null,null,null,null,null,null,null,null,null,null,null,null,null,null,null,null,null,{"$f":"IF(Clients!B50666=\"\",\"\",Clients!B50666)","v":""},{"$f":"IF(Clients!C50666=\"\",\"\",Clients!C50666)","v":""}]
[null,null,null,null,null,null,null,null,null,null,null,null,null,null,null,null,null,null,{"$f":"IF(Clients!B50698=\"\",\"\",Clients!B50698)","v":""},{"$f":"IF(Clients!C50698=\"\",\"\",Clients!C50698)","v":""}]
[null,null,null,null,null,null,null,null,null,null,null,null,null,null,null,null,null,null,{"$f":"IF(Clients!B50718=\"\",\"\",Clients!B50718)","v":""},{"$f":"IF(Clients!C50718=\"\",\"\",Clients!C50718)","v":""}]
[null,null,null,null,null,null,null,null,null,null,null,null,null,null,null,null,null,null,{"$f":"IF(Clients!B50755=\"\",\"\",Clients!B50755)","v":""},{"$f":"IF(Clients!C50755=\"\",\"\",Clients!C50755)","v":""}]
[null,null,null,null,null,null,null,null,null,null,null,null,null,null,null,null,null,null,{"$f":"IF(Clients!B50787=\"\",\"\",Clients!B50787)","v":""},{"$f":"IF(Clients!C50787=\"\",\"\",Clients!C50787)","v":""}]
[null,null,null,null,null,null,null,null,null,null,null,null,null,null,null,null,null,null,{"$f":"IF(Clients!B50815=\"\",\"\",Clients!B50815)","v":""},{"$f":"IF(Clients!C50815=\"\",\"\",Clients!C50815)","v":""}]
[null,null,null,null,null,null,null,null,null,null,null,null,null,null,null,null,null,null,{"$f":"IF(Clients!B50847=\"\",\"\",Clients!B50847)","v":""},{"$f":"IF(Clients!C50847=\"\",\"\",Clients!C50847)","v":""}]
[null,null,null,null,null,null,null,null,null,null,null,null,null,null,null,null,null,null,{"$f":"IF(Clients!B50876=\"\",\"\",Clients!B50876)","v":""},{"$f":"IF(Clients!C50876=\"\",\"\",Clients!C50876)","v":""}]
[null,null,null,null,null,null,null,null,null,null,null,null,null,null,null,null,null,null,{"$f":"IF(Clients!B50935=\"\",\"\",Clients!B50935)","v":""},{"$f":"IF(Clients!C50935=\"\",\"\",Clients!C50935)","v":""}]
[null,null,null,null,null,null,null,null,null,null,null,null,null,null,null,null,null,null,{"$f":"IF(Clients!B50967=\"\",\"\",Clients!B50967)","v":""},{"$f":"IF(Clients!C50967=\"\",\"\",Clients!C50967)","v":""}]
[null,null,null,null,null,null,null,null,null,null,null,null,null,null,null,null,null,null,{"$f":"IF(Clients!B50976=\"\",\"\",Clients!B50976)","v":""},{"$f":"IF(Clients!C50976=\"\",\"\",Clients!C50976)","v":""}]
[null,null,null,null,null,null,null,null,null,null,null,null,null,null,null,null,null,null,{"$f":"IF(Clients!B51024=\"\",\"\",Clients!B51024)","v":""},{"$f":"IF(Clients!C51024=\"\",\"\",Clients!C51024)","v":""}]
[null,null,null,null,null,null,null,null,null,null,null,null,null,null,null,null,null,null,{"$f":"IF(Clients!B51056=\"\",\"\",Clients!B51056)","v":""},{"$f":"IF(Clients!C51056=\"\",\"\",Clients!C51056)","v":""}]
[null,null,null,null,null,null,null,null,null,null,null,null,null,null,null,null,null,null,{"$f":"IF(Clients!B51084=\"\",\"\",Clients!B51084)","v":""},{"$f":"IF(Clients!C51084=\"\",\"\",Clients!C51084)","v":""}]
[null,null,null,null,null,null,null,null,null,null,null,null,null,null,null,null,null,null,{"$f":"IF(Clients!B51105=\"\",\"\",Clients!B51105)","v":""},{"$f":"IF(Clients!C51105=\"\",\"\",Clients!C51105)","v":""}]
[null,null,null,null,null,null,null,null,null,null,null,null,null,null,null,null,null,null,{"$f":"IF(Clients!B51145=\"\",\"\",Clients!B51145)","v":""},{"$f":"IF(Clients!C51145=\"\",\"\",Clients!C51145)","v":""}]
[null,null,null,null,null,null,null,null,null,null,null,null,null,null,null,null,null,null,{"$f":"IF(Clients!B51173=\"\",\"\",Clients!B51173)","v":""},{"$f":"IF(Clients!C51173=\"\",\"\",Clients!C51173)","v":""}]
[null,null,null,null,null,null,null,null,null,null,null,null,null,null,null,null,null,null,{"$f":"IF(Clients!B51205=\"\",\"\",Clients!B51205)","v":""},{"$f":"IF(Clients!C51205=\"\",\"\",Clients!C51205)","v":""}]
[null,null,null,null,null,null,null,null,null,null,null,null,null,null,null,null,null,null,{"$f":"IF(Clients!B51234=\"\",\"\",Clients!B51234)","v":""},{"$f":"IF(Clients!C51234=\"\",\"\",Clients!C51234)","v":""}]
[null,null,null,null,null,null,null,null,null,null,null,null,null,null,null,null,null,null,{"$f":"IF(Clients!B51262=\"\",\"\",Clients!B51262)","v":""},{"$f":"IF(Clients!C51262=\"\",\"\",Clients!C51262)","v":""}]
[null,null,null,null,null,null,null,null,null,null,null,null,null,null,null,null,null,null,{"$f":"IF(Clients!B51294=\"\",\"\",Clients!B51294)","v":""},{"$f":"IF(Clients!C51294=\"\",\"\",Clients!C51294)","v":""}]
[null,null,null,null,null,null,null,null,null,null,null,null,null,null,null,null,null,null,{"$f":"IF(Clients!B51322=\"\",\"\",Clients!B51322)","v":""},{"$f":"IF(Clients!C51322=\"\",\"\",Clients!C51322)","v":""}]
[null,null,null,null,null,null,null,null,null,null,null,null,null,null,null,null,null,null,{"$f":"IF(Clients!B51363=\"\",\"\",Clients!B51363)","v":""},{"$f":"IF(Clients!C51363=\"\",\"\",Clients!C51363)","v":""}]
[null,null,null,null,null,null,null,null,null,null,null,null,null,null,null,null,null,null,{"$f":"IF(Clients!B51383=\"\",\"\",Clients!B51383)","v":""},{"$f":"IF(Clients!C51383=\"\",\"\",Clients!C51383)","v":""}]
[null,null,null,null,null,null,null,null,null,null,null,null,null,null,null,null,null,null,{"$f":"IF(Clients!B51411=\"\",\"\",Clients!B51411)","v":""},{"$f":"IF(Clients!C51411=\"\",\"\",Clients!C51411)","v":""}]
[null,null,null,null,null,null,null,null,null,null,null,null,null,null,null,null,null,null,{"$f":"IF(Clients!B51443=\"\",\"\",Clients!B51443)","v":""},{"$f":"IF(Clients!C51443=\"\",\"\",Clients!C51443)","v":""}]
[null,null,null,null,null,null,null,null,null,null,null,null,null,null,null,null,null,null,{"$f":"IF(Clients!B51492=\"\",\"\",Clients!B51492)","v":""},{"$f":"IF(Clients!C51492=\"\",\"\",Clients!C51492)","v":""}]
[null,null,null,null,null,null,null,null,null,null,null,null,null,null,null,null,null,null,{"$f":"IF(Clients!B51504=\"\",\"\",Clients!B51504)","v":""},{"$f":"IF(Clients!C51504=\"\",\"\",Clients!C51504)","v":""}]
[null,null,null,null,null,null,null,null,null,null,null,null,null,null,null,null,null,null,{"$f":"IF(Clients!B51532=\"\",\"\",Clients!B51532)","v":""},{"$f":"IF(Clients!C51532=\"\",\"\",Clients!C51532)","v":""}]
[null,null,null,null,null,null,null,null,null,null,null,null,null,null,null,null,null,null,{"$f":"IF(Clients!B51591=\"\",\"\",Clients!B51591)","v":""},{"$f":"IF(Clients!C51591=\"\",\"\",Clients!C51591)","v":""}]
[null,null,null,null,null,null,null,null,null,null,null,null,null,null,null,null,null,null,{"$f":"IF(Clients!B51621=\"\",\"\",Clients!B51621)","v":""},{"$f":"IF(Clients!C51621=\"\",\"\",Clients!C51621)","v":""}]
[null,null,null,null,null,null,null,null,null,null,null,null,null,null,null,null,null,null,{"$f":"IF(Clients!B51652=\"\",\"\",Clients!B51652)","v":""},{"$f":"IF(Clients!C51652=\"\",\"\",Clients!C51652)","v":""}]
[null,null,null,null,null,null,null,null,null,null,null,null,null,null,null,null,null,null,{"$f":"IF(Clients!B51680=\"\",\"\",Clients!B51680)","v":""},{"$f":"IF(Clients!C51680=\"\",\"\",Clients!C51680)","v":""}]
[null,null,null,null,null,null,null,null,null,null,null,null,null,null,null,null,null,null,{"$f":"IF(Clients!B51712=\"\",\"\",Clients!B51712)","v":""},{"$f":"IF(Clients!C51712=\"\",\"\",Clients!C51712)","v":""}]
[null,null,null,null,null,null,null,null,null,null,null,null,null,null,null,null,null,null,{"$f":"IF(Clients!B51718=\"\",\"\",Clients!B51718)","v":""},{"$f":"IF(Clients!C51718=\"\",\"\",Clients!C51718)","v":""}]
[null,null,null,null,null,null,null,null,null,null,null,null,null,null,null,null,null,null,{"$f":"IF(Clients!B51773=\"\",\"\",Clients!B51773)","v":""},{"$f":"IF(Clients!C51773=\"\",\"\",Clients!C51773)","v":""}]
[null,null,null,null,null,null,null,null,null,null,null,null,null,null,null,null,null,null,{"$f":"IF(Clients!B51801=\"\",\"\",Clients!B51801)","v":""},{"$f":"IF(Clients!C51801=\"\",\"\",Clients!C51801)","v":""}]
[null,null,null,null,null,null,null,null,null,null,null,null,null,null,null,null,null,null,{"$f":"IF(Clients!B51829=\"\",\"\",Clients!B51829)","v":""},{"$f":"IF(Clients!C51829=\"\",\"\",Clients!C51829)","v":""}]
[null,null,null,null,null,null,null,null,null,null,null,null,null,null,null,null,null,null,{"$f":"IF(Clients!B51847=\"\",\"\",Clients!B51847)","v":""},{"$f":"IF(Clients!C51847=\"\",\"\",Clients!C51847)","v":""}]
[null,null,null,null,null,null,null,null,null,null,null,null,null,null,null,null,null,null,{"$f":"IF(Clients!B51890=\"\",\"\",Clients!B51890)","v":""},{"$f":"IF(Clients!C51890=\"\",\"\",Clients!C51890)","v":""}]
[null,null,null,null,null,null,null,null,null,null,null,null,null,null,null,null,null,null,{"$f":"IF(Clients!B51918=\"\",\"\",Clients!B51918)","v":""},{"$f":"IF(Clients!C51918=\"\",\"\",Clients!C51918)","v":""}]
[null,null,null,null,null,null,null,null,null,null,null,null,null,null,null,null,null,null,{"$f":"IF(Clients!B51950=\"\",\"\",Clients!B51950)","v":""},{"$f":"IF(Clients!C51950=\"\",\"\",Clients!C51950)","v":""}]
[null,null,null,null,null,null,null,null,null,null,null,null,null,null,null,null,null,null,{"$f":"IF(Clients!B51976=\"\",\"\",Clients!B51976)","v":""},{"$f":"IF(Clients!C51976=\"\",\"\",Clients!C51976)","v":""}]
[null,null,null,null,null,null,null,null,null,null,null,null,null,null,null,null,null,null,{"$f":"IF(Clients!B52011=\"\",\"\",Clients!B52011)","v":""},{"$f":"IF(Clients!C52011=\"\",\"\",Clients!C52011)","v":""}]
[null,null,null,null,null,null,null,null,null,null,null,null,null,null,null,null,null,null,{"$f":"IF(Clients!B52039=\"\",\"\",Clients!B52039)","v":""},{"$f":"IF(Clients!C52039=\"\",\"\",Clients!C52039)","v":""}]
[null,null,null,null,null,null,null,null,null,null,null,null,null,null,null,null,null,null,{"$f":"IF(Clients!B52067=\"\",\"\",Clients!B52067)","v":""},{"$f":"IF(Clients!C52067=\"\",\"\",Clients!C52067)","v":""}]
[null,null,null,null,null,null,null,null,null,null,null,null,null,null,null,null,null,null,{"$f":"IF(Clients!B52105=\"\",\"\",Clients!B52105)","v":""},{"$f":"IF(Clients!C52105=\"\",\"\",Clients!C52105)","v":""}]
[null,null,null,null,null,null,null,null,null,null,null,null,null,null,null,null,null,null,{"$f":"IF(Clients!B52128=\"\",\"\",Clients!B52128)","v":""},{"$f":"IF(Clients!C52128=\"\",\"\",Clients!C52128)","v":""}]
[null,null,null,null,null,null,null,null,null,null,null,null,null,null,null,null,null,null,{"$f":"IF(Clients!B52160=\"\",\"\",Clients!B52160)","v":""},{"$f":"IF(Clients!C52160=\"\",\"\",Clients!C52160)","v":""}]
[null,null,null,null,null,null,null,null,null,null,null,null,null,null,null,null,null,null,{"$f":"IF(Clients!B52188=\"\",\"\",Clients!B52188)","v":""},{"$f":"IF(Clients!C52188=\"\",\"\",Clients!C52188)","v":""}]
[null,null,null,null,null,null,null,null,null,null,null,null,null,null,null,null,null,null,{"$f":"IF(Clients!B52234=\"\",\"\",Clients!B52234)","v":""},{"$f":"IF(Clients!C52234=\"\",\"\",Clients!C52234)","v":""}]
[null,null,null,null,null,null,null,null,null,null,null,null,null,null,null,null,null,null,{"$f":"IF(Clients!B52280=\"\",\"\",Clients!B52280)","v":""},{"$f":"IF(Clients!C52280=\"\",\"\",Clients!C52280)","v":""}]
[null,null,null,null,null,null,null,null,null,null,null,null,null,null,null,null,null,null,{"$f":"IF(Clients!B52308=\"\",\"\",Clients!B52308)","v":""},{"$f":"IF(Clients!C52308=\"\",\"\",Clients!C52308)","v":""}]
[null,null,null,null,null,null,null,null,null,null,null,null,null,null,null,null,null,null,{"$f":"IF(Clients!B52336=\"\",\"\",Clients!B52336)","v":""},{"$f":"IF(Clients!C52336=\"\",\"\",Clients!C52336)","v":""}]
[null,null,null,null,null,null,null,null,null,null,null,null,null,null,null,null,null,null,{"$f":"IF(Clients!B52363=\"\",\"\",Clients!B52363)","v":""},{"$f":"IF(Clients!C52363=\"\",\"\",Clients!C52363)","v":""}]
[null,null,null,null,null,null,null,null,null,null,null,null,null,null,null,null,null,null,{"$f":"IF(Clients!B52397=\"\",\"\",Clients!B52397)","v":""},{"$f":"IF(Clients!C52397=\"\",\"\",Clients!C52397)","v":""}]
[null,null,null,null,null,null,null,null,null,null,null,null,null,null,null,null,null,null,{"$f":"IF(Clients!B52429=\"\",\"\",Clients!B52429)","v":""},{"$f":"IF(Clients!C52429=\"\",\"\",Clients!C52429)","v":""}]
[null,null,null,null,null,null,null,null,null,null,null,null,null,null,null,null,null,null,{"$f":"IF(Clients!B52457=\"\",\"\",Clients!B52457)","v":""},{"$f":"IF(Clients!C52457=\"\",\"\",Clients!C52457)","v":""}]
[null,null,null,null,null,null,null,null,null,null,null,null,null,null,null,null,null,null,{"$f":"IF(Clients!B52492=\"\",\"\",Clients!B52492)","v":""},{"$f":"IF(Clients!C52492=\"\",\"\",Clients!C52492)","v":""}]
[null,null,null,null,null,null,null,null,null,null,null,null,null,null,null,null,null,null,{"$f":"IF(Clients!B52518=\"\",\"\",Clients!B52518)","v":""},{"$f":"IF(Clients!C52518=\"\",\"\",Clients!C52518)","v":""}]
[null,null,null,null,null,null,null,null,null,null,null,null,null,null,null,null,null,null,{"$f":"IF(Clients!B52546=\"\",\"\",Clients!B52546)","v":""},{"$f":"IF(Clients!C52546=\"\",\"\",Clients!C52546)","v":""}]
[null,null,null,null,null,null,null,null,null,null,null,null,null,null,null,null,null,null,{"$f":"IF(Clients!B52578=\"\",\"\",Clients!B52578)","v":""},{"$f":"IF(Clients!C52578=\"\",\"\",Clients!C52578)","v":""}]
[null,null,null,null,null,null,null,null,null,null,null,null,null,null,null,null,null,null,{"$f":"IF(Clients!B52621=\"\",\"\",Clients!B52621)","v":""},{"$f":"IF(Clients!C52621=\"\",\"\",Clients!C52621)","v":""}]
[null,null,null,null,null,null,null,null,null,null,null,null,null,null,null,null,null,null,{"$f":"IF(Clients!B52635=\"\",\"\",Clients!B52635)","v":""},{"$f":"IF(Clients!C52635=\"\",\"\",Clients!C52635)","v":""}]
[null,null,null,null,null,null,null,null,null,null,null,null,null,null,null,null,null,null,{"$f":"IF(Clients!B52667=\"\",\"\",Clients!B52667)","v":""},{"$f":"IF(Clients!C52667=\"\",\"\",Clients!C52667)","v":""}]
[null,null,null,null,null,null,null,null,null,null,null,null,null,null,null,null,null,null,{"$f":"IF(Clients!B52695=\"\",\"\",Clients!B52695)","v":""},{"$f":"IF(Clients!C52695=\"\",\"\",Clients!C52695)","v":""}]
[null,null,null,null,null,null,null,null,null,null,null,null,null,null,null,null,null,null,{"$f":"IF(Clients!B52718=\"\",\"\",Clients!B52718)","v":""},{"$f":"IF(Clients!C52718=\"\",\"\",Clients!C52718)","v":""}]
[null,null,null,null,null,null,null,null,null,null,null,null,null,null,null,null,null,null,{"$f":"IF(Clients!B52756=\"\",\"\",Clients!B52756)","v":""},{"$f":"IF(Clients!C52756=\"\",\"\",Clients!C52756)","v":""}]
[null,null,null,null,null,null,null,null,null,null,null,null,null,null,null,null,null,null,{"$f":"IF(Clients!B52784=\"\",\"\",Clients!B52784)","v":""},{"$f":"IF(Clients!C52784=\"\",\"\",Clients!C52784)","v":""}]
[null,null,null,null,null,null,null,null,null,null,null,null,null,null,null,null,null,null,{"$f":"IF(Clients!B52816=\"\",\"\",Clients!B52816)","v":""},{"$f":"IF(Clients!C52816=\"\",\"\",Clients!C52816)","v":""}]
[null,null,null,null,null,null,null,null,null,null,null,null,null,null,null,null,null,null,{"$f":"IF(Clients!B52847=\"\",\"\",Clients!B52847)","v":""},{"$f":"IF(Clients!C52847=\"\",\"\",Clients!C52847)","v":""}]
[null,null,null,null,null,null,null,null,null,null,null,null,null,null,null,null,null,null,{"$f":"IF(Clients!B52904=\"\",\"\",Clients!B52904)","v":""},{"$f":"IF(Clients!C52904=\"\",\"\",Clients!C52904)","v":""}]
[null,null,null,null,null,null,null,null,null,null,null,null,null,null,null,null,null,null,{"$f":"IF(Clients!B52936=\"\",\"\",Clients!B52936)","v":""},{"$f":"IF(Clients!C52936=\"\",\"\",Clients!C52936)","v":""}]
[null,null,null,null,null,null,null,null,null,null,null,null,null,null,null,null,null,null,{"$f":"IF(Clients!B52964=\"\",\"\",Clients!B52964)","v":""},{"$f":"IF(Clients!C52964=\"\",\"\",Clients!C52964)","v":""}]
[null,null,null,null,null,null,null,null,null,null,null,null,null,null,null,null,null,null,{"$f":"IF(Clients!B52976=\"\",\"\",Clients!B52976)","v":""},{"$f":"IF(Clients!C52976=\"\",\"\",Clients!C52976)","v":""}]
[null,null,null,null,null,null,null,null,null,null,null,null,null,null,null,null,null,null,{"$f":"IF(Clients!B53025=\"\",\"\",Clients!B53025)","v":""},{"$f":"IF(Clients!C53025=\"\",\"\",Clients!C53025)","v":""}]
[null,null,null,null,null,null,null,null,null,null,null,null,null,null,null,null,null,null,{"$f":"IF(Clients!B53053=\"\",\"\",Clients!B53053)","v":""},{"$f":"IF(Clients!C53053=\"\",\"\",Clients!C53053)","v":""}]
[null,null,null,null,null,null,null,null,null,null,null,null,null,null,null,null,null,null,{"$f":"IF(Clients!B53085=\"\",\"\",Clients!B53085)","v":""},{"$f":"IF(Clients!C53085=\"\",\"\",Clients!C53085)","v":""}]
[null,null,null,null,null,null,null,null,null,null,null,null,null,null,null,null,null,null,{"$f":"IF(Clients!B53105=\"\",\"\",Clients!B53105)","v":""},{"$f":"IF(Clients!C53105=\"\",\"\",Clients!C53105)","v":""}]
[null,null,null,null,null,null,null,null,null,null,null,null,null,null,null,null,null,null,{"$f":"IF(Clients!B53142=\"\",\"\",Clients!B53142)","v":""},{"$f":"IF(Clients!C53142=\"\",\"\",Clients!C53142)","v":""}]
[null,null,null,null,null,null,null,null,null,null,null,null,null,null,null,null,null,null,{"$f":"IF(Clients!B53174=\"\",\"\",Clients!B53174)","v":""},{"$f":"IF(Clients!C53174=\"\",\"\",Clients!C53174)","v":""}]
[null,null,null,null,null,null,null,null,null,null,null,null,null,null,null,null,null,null,{"$f":"IF(Clients!B53202=\"\",\"\",Clients!B53202)","v":""},{"$f":"IF(Clients!C53202=\"\",\"\",Clients!C53202)","v":""}]
[null,null,null,null,null,null,null,null,null,null,null,null,null,null,null,null,null,null,{"$f":"IF(Clients!B53234=\"\",\"\",Clients!B53234)","v":""},{"$f":"IF(Clients!C53234=\"\",\"\",Clients!C53234)","v":""}]
[null,null,null,null,null,null,null,null,null,null,null,null,null,null,null,null,null,null,{"$f":"IF(Clients!B53263=\"\",\"\",Clients!B53263)","v":""},{"$f":"IF(Clients!C53263=\"\",\"\",Clients!C53263)","v":""}]
[null,null,null,null,null,null,null,null,null,null,null,null,null,null,null,null,null,null,{"$f":"IF(Clients!B53291=\"\",\"\",Clients!B53291)","v":""},{"$f":"IF(Clients!C53291=\"\",\"\",Clients!C53291)","v":""}]
[null,null,null,null,null,null,null,null,null,null,null,null,null,null,null,null,null,null,{"$f":"IF(Clients!B53323=\"\",\"\",Clients!B53323)","v":""},{"$f":"IF(Clients!C53323=\"\",\"\",Clients!C53323)","v":""}]
[null,null,null,null,null,null,null,null,null,null,null,null,null,null,null,null,null,null,{"$f":"IF(Clients!B53363=\"\",\"\",Clients!B53363)","v":""},{"$f":"IF(Clients!C53363=\"\",\"\",Clients!C53363)","v":""}]
[null,null,null,null,null,null,null,null,null,null,null,null,null,null,null,null,null,null,{"$f":"IF(Clients!B53380=\"\",\"\",Clients!B53380)","v":""},{"$f":"IF(Clients!C53380=\"\",\"\",Clients!C53380)","v":""}]
[null,null,null,null,null,null,null,null,null,null,null,null,null,null,null,null,null,null,{"$f":"IF(Clients!B53412=\"\",\"\",Clients!B53412)","v":""},{"$f":"IF(Clients!C53412=\"\",\"\",Clients!C53412)","v":""}]
[null,null,null,null,null,null,null,null,null,null,null,null,null,null,null,null,null,null,{"$f":"IF(Clients!B53440=\"\",\"\",Clients!B53440)","v":""},{"$f":"IF(Clients!C53440=\"\",\"\",Clients!C53440)","v":""}]
[null,null,null,null,null,null,null,null,null,null,null,null,null,null,null,null,null,null,{"$f":"IF(Clients!B53492=\"\",\"\",Clients!B53492)","v":""},{"$f":"IF(Clients!C53492=\"\",\"\",Clients!C53492)","v":""}]
[null,null,null,null,null,null,null,null,null,null,null,null,null,null,null,null,null,null,{"$f":"IF(Clients!B53501=\"\",\"\",Clients!B53501)","v":""},{"$f":"IF(Clients!C53501=\"\",\"\",Clients!C53501)","v":""}]
[null,null,null,null,null,null,null,null,null,null,null,null,null,null,null,null,null,null,{"$f":"IF(Clients!B53560=\"\",\"\",Clients!B53560)","v":""},{"$f":"IF(Clients!C53560=\"\",\"\",Clients!C53560)","v":""}]
[null,null,null,null,null,null,null,null,null,null,null,null,null,null,null,null,null,null,{"$f":"IF(Clients!B53592=\"\",\"\",Clients!B53592)","v":""},{"$f":"IF(Clients!C53592=\"\",\"\",Clients!C53592)","v":""}]
[null,null,null,null,null,null,null,null,null,null,null,null,null,null,null,null,null,null,{"$f":"IF(Clients!B53621=\"\",\"\",Clients!B53621)","v":""},{"$f":"IF(Clients!C53621=\"\",\"\",Clients!C53621)","v":""}]
[null,null,null,null,null,null,null,null,null,null,null,null,null,null,null,null,null,null,{"$f":"IF(Clients!B53653=\"\",\"\",Clients!B53653)","v":""},{"$f":"IF(Clients!C53653=\"\",\"\",Clients!C53653)","v":""}]
[null,null,null,null,null,null,null,null,null,null,null,null,null,null,null,null,null,null,{"$f":"IF(Clients!B53681=\"\",\"\",Clients!B53681)","v":""},{"$f":"IF(Clients!C53681=\"\",\"\",Clients!C53681)","v":""}]
[null,null,null,null,null,null,null,null,null,null,null,null,null,null,null,null,null,null,{"$f":"IF(Clients!B53709=\"\",\"\",Clients!B53709)","v":""},{"$f":"IF(Clients!C53709=\"\",\"\",Clients!C53709)","v":""}]
[null,null,null,null,null,null,null,null,null,null,null,null,null,null,null,null,null,null,{"$f":"IF(Clients!B53718=\"\",\"\",Clients!B53718)","v":""},{"$f":"IF(Clients!C53718=\"\",\"\",Clients!C53718)","v":""}]
[null,null,null,null,null,null,null,null,null,null,null,null,null,null,null,null,null,null,{"$f":"IF(Clients!B53770=\"\",\"\",Clients!B53770)","v":""},{"$f":"IF(Clients!C53770=\"\",\"\",Clients!C53770)","v":""}]
[null,null,null,null,null,null,null,null,null,null,null,null,null,null,null,null,null,null,{"$f":"IF(Clients!B53798=\"\",\"\",Clients!B53798)","v":""},{"$f":"IF(Clients!C53798=\"\",\"\",Clients!C53798)","v":""}]
[null,null,null,null,null,null,null,null,null,null,null,null,null,null,null,null,null,null,{"$f":"IF(Clients!B53830=\"\",\"\",Clients!B53830)","v":""},{"$f":"IF(Clients!C53830=\"\",\"\",Clients!C53830)","v":""}]
[null,null,null,null,null,null,null,null,null,null,null,null,null,null,null,null,null,null,{"$f":"IF(Clients!B53847=\"\",\"\",Clients!B53847)","v":""},{"$f":"IF(Clients!C53847=\"\",\"\",Clients!C53847)","v":""}]
[null,null,null,null,null,null,null,null,null,null,null,null,null,null,null,null,null,null,{"$f":"IF(Clients!B53891=\"\",\"\",Clients!B53891)","v":""},{"$f":"IF(Clients!C53891=\"\",\"\",Clients!C53891)","v":""}]
[null,null,null,null,null,null,null,null,null,null,null,null,null,null,null,null,null,null,{"$f":"IF(Clients!B53919=\"\",\"\",Clients!B53919)","v":""},{"$f":"IF(Clients!C53919=\"\",\"\",Clients!C53919)","v":""}]
[null,null,null,null,null,null,null,null,null,null,null,null,null,null,null,null,null,null,{"$f":"IF(Clients!B53947=\"\",\"\",Clients!B53947)","v":""},{"$f":"IF(Clients!C53947=\"\",\"\",Clients!C53947)","v":""}]
[null,null,null,null,null,null,null,null,null,null,null,null,null,null,null,null,null,null,{"$f":"IF(Clients!B53976=\"\",\"\",Clients!B53976)","v":""},{"$f":"IF(Clients!C53976=\"\",\"\",Clients!C53976)","v":""}]
[null,null,null,null,null,null,null,null,null,null,null,null,null,null,null,null,null,null,{"$f":"IF(Clients!B54008=\"\",\"\",Clients!B54008)","v":""},{"$f":"IF(Clients!C54008=\"\",\"\",Clients!C54008)","v":""}]
[null,null,null,null,null,null,null,null,null,null,null,null,null,null,null,null,null,null,{"$f":"IF(Clients!B54036=\"\",\"\",Clients!B54036)","v":""},{"$f":"IF(Clients!C54036=\"\",\"\",Clients!C54036)","v":""}]
[null,null,null,null,null,null,null,null,null,null,null,null,null,null,null,null,null,null,{"$f":"IF(Clients!B54068=\"\",\"\",Clients!B54068)","v":""},{"$f":"IF(Clients!C54068=\"\",\"\",Clients!C54068)","v":""}]
[null,null,null,null,null,null,null,null,null,null,null,null,null,null,null,null,null,null,{"$f":"IF(Clients!B54105=\"\",\"\",Clients!B54105)","v":""},{"$f":"IF(Clients!C54105=\"\",\"\",Clients!C54105)","v":""}]
[null,null,null,null,null,null,null,null,null,null,null,null,null,null,null,null,null,null,{"$f":"IF(Clients!B54129=\"\",\"\",Clients!B54129)","v":""},{"$f":"IF(Clients!C54129=\"\",\"\",Clients!C54129)","v":""}]
[null,null,null,null,null,null,null,null,null,null,null,null,null,null,null,null,null,null,{"$f":"IF(Clients!B54157=\"\",\"\",Clients!B54157)","v":""},{"$f":"IF(Clients!C54157=\"\",\"\",Clients!C54157)","v":""}]
[null,null,null,null,null,null,null,null,null,null,null,null,null,null,null,null,null,null,{"$f":"IF(Clients!B54216=\"\",\"\",Clients!B54216)","v":""},{"$f":"IF(Clients!C54216=\"\",\"\",Clients!C54216)","v":""}]
[null,null,null,null,null,null,null,null,null,null,null,null,null,null,null,null,null,null,{"$f":"IF(Clients!B54234=\"\",\"\",Clients!B54234)","v":""},{"$f":"IF(Clients!C54234=\"\",\"\",Clients!C54234)","v":""}]
[null,null,null,null,null,null,null,null,null,null,null,null,null,null,null,null,null,null,{"$f":"IF(Clients!B54277=\"\",\"\",Clients!B54277)","v":""},{"$f":"IF(Clients!C54277=\"\",\"\",Clients!C54277)","v":""}]
[null,null,null,null,null,null,null,null,null,null,null,null,null,null,null,null,null,null,{"$f":"IF(Clients!B54309=\"\",\"\",Clients!B54309)","v":""},{"$f":"IF(Clients!C54309=\"\",\"\",Clients!C54309)","v":""}]
[null,null,null,null,null,null,null,null,null,null,null,null,null,null,null,null,null,null,{"$f":"IF(Clients!B54337=\"\",\"\",Clients!B54337)","v":""},{"$f":"IF(Clients!C54337=\"\",\"\",Clients!C54337)","v":""}]
[null,null,null,null,null,null,null,null,null,null,null,null,null,null,null,null,null,null,{"$f":"IF(Clients!B54363=\"\",\"\",Clients!B54363)","v":""},{"$f":"IF(Clients!C54363=\"\",\"\",Clients!C54363)","v":""}]
[null,null,null,null,null,null,null,null,null,null,null,null,null,null,null,null,null,null,{"$f":"IF(Clients!B54398=\"\",\"\",Clients!B54398)","v":""},{"$f":"IF(Clients!C54398=\"\",\"\",Clients!C54398)","v":""}]
[null,null,null,null,null,null,null,null,null,null,null,null,null,null,null,null,null,null,{"$f":"IF(Clients!B54426=\"\",\"\",Clients!B54426)","v":""},{"$f":"IF(Clients!C54426=\"\",\"\",Clients!C54426)","v":""}]
[null,null,null,null,null,null,null,null,null,null,null,null,null,null,null,null,null,null,{"$f":"IF(Clients!B54454=\"\",\"\",Clients!B54454)","v":""},{"$f":"IF(Clients!C54454=\"\",\"\",Clients!C54454)","v":""}]
[null,null,null,null,null,null,null,null,null,null,null,null,null,null,null,null,null,null,{"$f":"IF(Clients!B54492=\"\",\"\",Clients!B54492)","v":""},{"$f":"IF(Clients!C54492=\"\",\"\",Clients!C54492)","v":""}]
[null,null,null,null,null,null,null,null,null,null,null,null,null,null,null,null,null,null,{"$f":"IF(Clients!B54515=\"\",\"\",Clients!B54515)","v":""},{"$f":"IF(Clients!C54515=\"\",\"\",Clients!C54515)","v":""}]
[null,null,null,null,null,null,null,null,null,null,null,null,null,null,null,null,null,null,{"$f":"IF(Clients!B54547=\"\",\"\",Clients!B54547)","v":""},{"$f":"IF(Clients!C54547=\"\",\"\",Clients!C54547)","v":""}]
[null,null,null,null,null,null,null,null,null,null,null,null,null,null,null,null,null,null,{"$f":"IF(Clients!B54575=\"\",\"\",Clients!B54575)","v":""},{"$f":"IF(Clients!C54575=\"\",\"\",Clients!C54575)","v":""}]
[null,null,null,null,null,null,null,null,null,null,null,null,null,null,null,null,null,null,{"$f":"IF(Clients!B54621=\"\",\"\",Clients!B54621)","v":""},{"$f":"IF(Clients!C54621=\"\",\"\",Clients!C54621)","v":""}]
[null,null,null,null,null,null,null,null,null,null,null,null,null,null,null,null,null,null,{"$f":"IF(Clients!B54636=\"\",\"\",Clients!B54636)","v":""},{"$f":"IF(Clients!C54636=\"\",\"\",Clients!C54636)","v":""}]
[null,null,null,null,null,null,null,null,null,null,null,null,null,null,null,null,null,null,{"$f":"IF(Clients!B54664=\"\",\"\",Clients!B54664)","v":""},{"$f":"IF(Clients!C54664=\"\",\"\",Clients!C54664)","v":""}]
[null,null,null,null,null,null,null,null,null,null,null,null,null,null,null,null,null,null,{"$f":"IF(Clients!B54692=\"\",\"\",Clients!B54692)","v":""},{"$f":"IF(Clients!C54692=\"\",\"\",Clients!C54692)","v":""}]
[null,null,null,null,null,null,null,null,null,null,null,null,null,null,null,null,null,null,{"$f":"IF(Clients!B54718=\"\",\"\",Clients!B54718)","v":""},{"$f":"IF(Clients!C54718=\"\",\"\",Clients!C54718)","v":""}]
[null,null,null,null,null,null,null,null,null,null,null,null,null,null,null,null,null,null,{"$f":"IF(Clients!B54753=\"\",\"\",Clients!B54753)","v":""},{"$f":"IF(Clients!C54753=\"\",\"\",Clients!C54753)","v":""}]
[null,null,null,null,null,null,null,null,null,null,null,null,null,null,null,null,null,null,{"$f":"IF(Clients!B54785=\"\",\"\",Clients!B54785)","v":""},{"$f":"IF(Clients!C54785=\"\",\"\",Clients!C54785)","v":""}]
[null,null,null,null,null,null,null,null,null,null,null,null,null,null,null,null,null,null,{"$f":"IF(Clients!B54813=\"\",\"\",Clients!B54813)","v":""},{"$f":"IF(Clients!C54813=\"\",\"\",Clients!C54813)","v":""}]
[null,null,null,null,null,null,null,null,null,null,null,null,null,null,null,null,null,null,{"$f":"IF(Clients!B54847=\"\",\"\",Clients!B54847)","v":""},{"$f":"IF(Clients!C54847=\"\",\"\",Clients!C54847)","v":""}]
[null,null,null,null,null,null,null,null,null,null,null,null,null,null,null,null,null,null,{"$f":"IF(Clients!B54905=\"\",\"\",Clients!B54905)","v":""},{"$f":"IF(Clients!C54905=\"\",\"\",Clients!C54905)","v":""}]
[null,null,null,null,null,null,null,null,null,null,null,null,null,null,null,null,null,null,{"$f":"IF(Clients!B54933=\"\",\"\",Clients!B54933)","v":""},{"$f":"IF(Clients!C54933=\"\",\"\",Clients!C54933)","v":""}]
[null,null,null,null,null,null,null,null,null,null,null,null,null,null,null,null,null,null,{"$f":"IF(Clients!B54965=\"\",\"\",Clients!B54965)","v":""},{"$f":"IF(Clients!C54965=\"\",\"\",Clients!C54965)","v":""}]
[null,null,null,null,null,null,null,null,null,null,null,null,null,null,null,null,null,null,{"$f":"IF(Clients!B54976=\"\",\"\",Clients!B54976)","v":""},{"$f":"IF(Clients!C54976=\"\",\"\",Clients!C54976)","v":""}]
[null,null,null,null,null,null,null,null,null,null,null,null,null,null,null,null,null,null,{"$f":"IF(Clients!B55022=\"\",\"\",Clients!B55022)","v":""},{"$f":"IF(Clients!C55022=\"\",\"\",Clients!C55022)","v":""}]
[null,null,null,null,null,null,null,null,null,null,null,null,null,null,null,null,null,null,{"$f":"IF(Clients!B55054=\"\",\"\",Clients!B55054)","v":""},{"$f":"IF(Clients!C55054=\"\",\"\",Clients!C55054)","v":""}]
[null,null,null,null,null,null,null,null,null,null,null,null,null,null,null,null,null,null,{"$f":"IF(Clients!B55082=\"\",\"\",Clients!B55082)","v":""},{"$f":"IF(Clients!C55082=\"\",\"\",Clients!C55082)","v":""}]
[null,null,null,null,null,null,null,null,null,null,null,null,null,null,null,null,null,null,{"$f":"IF(Clients!B55105=\"\",\"\",Clients!B55105)","v":""},{"$f":"IF(Clients!C55105=\"\",\"\",Clients!C55105)","v":""}]
[null,null,null,null,null,null,null,null,null,null,null,null,null,null,null,null,null,null,{"$f":"IF(Clients!B55143=\"\",\"\",Clients!B55143)","v":""},{"$f":"IF(Clients!C55143=\"\",\"\",Clients!C55143)","v":""}]
[null,null,null,null,null,null,null,null,null,null,null,null,null,null,null,null,null,null,{"$f":"IF(Clients!B55171=\"\",\"\",Clients!B55171)","v":""},{"$f":"IF(Clients!C55171=\"\",\"\",Clients!C55171)","v":""}]
[null,null,null,null,null,null,null,null,null,null,null,null,null,null,null,null,null,null,{"$f":"IF(Clients!B55203=\"\",\"\",Clients!B55203)","v":""},{"$f":"IF(Clients!C55203=\"\",\"\",Clients!C55203)","v":""}]
[null,null,null,null,null,null,null,null,null,null,null,null,null,null,null,null,null,null,{"$f":"IF(Clients!B55234=\"\",\"\",Clients!B55234)","v":""},{"$f":"IF(Clients!C55234=\"\",\"\",Clients!C55234)","v":""}]
[null,null,null,null,null,null,null,null,null,null,null,null,null,null,null,null,null,null,{"$f":"IF(Clients!B55260=\"\",\"\",Clients!B55260)","v":""},{"$f":"IF(Clients!C55260=\"\",\"\",Clients!C55260)","v":""}]
[null,null,null,null,null,null,null,null,null,null,null,null,null,null,null,null,null,null,{"$f":"IF(Clients!B55292=\"\",\"\",Clients!B55292)","v":""},{"$f":"IF(Clients!C55292=\"\",\"\",Clients!C55292)","v":""}]
[null,null,null,null,null,null,null,null,null,null,null,null,null,null,null,null,null,null,{"$f":"IF(Clients!B55320=\"\",\"\",Clients!B55320)","v":""},{"$f":"IF(Clients!C55320=\"\",\"\",Clients!C55320)","v":""}]
[null,null,null,null,null,null,null,null,null,null,null,null,null,null,null,null,null,null,{"$f":"IF(Clients!B55363=\"\",\"\",Clients!B55363)","v":""},{"$f":"IF(Clients!C55363=\"\",\"\",Clients!C55363)","v":""}]
[null,null,null,null,null,null,null,null,null,null,null,null,null,null,null,null,null,null,{"$f":"IF(Clients!B55381=\"\",\"\",Clients!B55381)","v":""},{"$f":"IF(Clients!C55381=\"\",\"\",Clients!C55381)","v":""}]
[null,null,null,null,null,null,null,null,null,null,null,null,null,null,null,null,null,null,{"$f":"IF(Clients!B55409=\"\",\"\",Clients!B55409)","v":""},{"$f":"IF(Clients!C55409=\"\",\"\",Clients!C55409)","v":""}]
[null,null,null,null,null,null,null,null,null,null,null,null,null,null,null,null,null,null,{"$f":"IF(Clients!B55441=\"\",\"\",Clients!B55441)","v":""},{"$f":"IF(Clients!C55441=\"\",\"\",Clients!C55441)","v":""}]
[null,null,null,null,null,null,null,null,null,null,null,null,null,null,null,null,null,null,{"$f":"IF(Clients!B55492=\"\",\"\",Clients!B55492)","v":""},{"$f":"IF(Clients!C55492=\"\",\"\",Clients!C55492)","v":""}]
[null,null,null,null,null,null,null,null,null,null,null,null,null,null,null,null,null,null,{"$f":"IF(Clients!B55529=\"\",\"\",Clients!B55529)","v":""},{"$f":"IF(Clients!C55529=\"\",\"\",Clients!C55529)","v":""}]
[null,null,null,null,null,null,null,null,null,null,null,null,null,null,null,null,null,null,{"$f":"IF(Clients!B55561=\"\",\"\",Clients!B55561)","v":""},{"$f":"IF(Clients!C55561=\"\",\"\",Clients!C55561)","v":""}]
[null,null,null,null,null,null,null,null,null,null,null,null,null,null,null,null,null,null,{"$f":"IF(Clients!B55589=\"\",\"\",Clients!B55589)","v":""},{"$f":"IF(Clients!C55589=\"\",\"\",Clients!C55589)","v":""}]
[null,null,null,null,null,null,null,null,null,null,null,null,null,null,null,null,null,null,{"$f":"IF(Clients!B55621=\"\",\"\",Clients!B55621)","v":""},{"$f":"IF(Clients!C55621=\"\",\"\",Clients!C55621)","v":""}]
[null,null,null,null,null,null,null,null,null,null,null,null,null,null,null,null,null,null,{"$f":"IF(Clients!B55650=\"\",\"\",Clients!B55650)","v":""},{"$f":"IF(Clients!C55650=\"\",\"\",Clients!C55650)","v":""}]
[null,null,null,null,null,null,null,null,null,null,null,null,null,null,null,null,null,null,{"$f":"IF(Clients!B55678=\"\",\"\",Clients!B55678)","v":""},{"$f":"IF(Clients!C55678=\"\",\"\",Clients!C55678)","v":""}]
[null,null,null,null,null,null,null,null,null,null,null,null,null,null,null,null,null,null,{"$f":"IF(Clients!B55710=\"\",\"\",Clients!B55710)","v":""},{"$f":"IF(Clients!C55710=\"\",\"\",Clients!C55710)","v":""}]
[null,null,null,null,null,null,null,null,null,null,null,null,null,null,null,null,null,null,{"$f":"IF(Clients!B55718=\"\",\"\",Clients!B55718)","v":""},{"$f":"IF(Clients!C55718=\"\",\"\",Clients!C55718)","v":""}]
[null,null,null,null,null,null,null,null,null,null,null,null,null,null,null,null,null,null,{"$f":"IF(Clients!B55767=\"\",\"\",Clients!B55767)","v":""},{"$f":"IF(Clients!C55767=\"\",\"\",Clients!C55767)","v":""}]
[null,null,null,null,null,null,null,null,null,null,null,null,null,null,null,null,null,null,{"$f":"IF(Clients!B55799=\"\",\"\",Clients!B55799)","v":""},{"$f":"IF(Clients!C55799=\"\",\"\",Clients!C55799)","v":""}]
[null,null,null,null,null,null,null,null,null,null,null,null,null,null,null,null,null,null,{"$f":"IF(Clients!B55827=\"\",\"\",Clients!B55827)","v":""},{"$f":"IF(Clients!C55827=\"\",\"\",Clients!C55827)","v":""}]
[null,null,null,null,null,null,null,null,null,null,null,null,null,null,null,null,null,null,{"$f":"IF(Clients!B55847=\"\",\"\",Clients!B55847)","v":""},{"$f":"IF(Clients!C55847=\"\",\"\",Clients!C55847)","v":""}]
[null,null,null,null,null,null,null,null,null,null,null,null,null,null,null,null,null,null,{"$f":"IF(Clients!B55888=\"\",\"\",Clients!B55888)","v":""},{"$f":"IF(Clients!C55888=\"\",\"\",Clients!C55888)","v":""}]
[null,null,null,null,null,null,null,null,null,null,null,null,null,null,null,null,null,null,{"$f":"IF(Clients!B55916=\"\",\"\",Clients!B55916)","v":""},{"$f":"IF(Clients!C55916=\"\",\"\",Clients!C55916)","v":""}]
[null,null,null,null,null,null,null,null,null,null,null,null,null,null,null,null,null,null,{"$f":"IF(Clients!B55948=\"\",\"\",Clients!B55948)","v":""},{"$f":"IF(Clients!C55948=\"\",\"\",Clients!C55948)","v":""}]
[null,null,null,null,null,null,null,null,null,null,null,null,null,null,null,null,null,null,{"$f":"IF(Clients!B55976=\"\",\"\",Clients!B55976)","v":""},{"$f":"IF(Clients!C55976=\"\",\"\",Clients!C55976)","v":""}]
[null,null,null,null,null,null,null,null,null,null,null,null,null,null,null,null,null,null,{"$f":"IF(Clients!B56009=\"\",\"\",Clients!B56009)","v":""},{"$f":"IF(Clients!C56009=\"\",\"\",Clients!C56009)","v":""}]
[null,null,null,null,null,null,null,null,null,null,null,null,null,null,null,null,null,null,{"$f":"IF(Clients!B56037=\"\",\"\",Clients!B56037)","v":""},{"$f":"IF(Clients!C56037=\"\",\"\",Clients!C56037)","v":""}]
[null,null,null,null,null,null,null,null,null,null,null,null,null,null,null,null,null,null,{"$f":"IF(Clients!B56065=\"\",\"\",Clients!B56065)","v":""},{"$f":"IF(Clients!C56065=\"\",\"\",Clients!C56065)","v":""}]
[null,null,null,null,null,null,null,null,null,null,null,null,null,null,null,null,null,null,{"$f":"IF(Clients!B56105=\"\",\"\",Clients!B56105)","v":""},{"$f":"IF(Clients!C56105=\"\",\"\",Clients!C56105)","v":""}]
[null,null,null,null,null,null,null,null,null,null,null,null,null,null,null,null,null,null,{"$f":"IF(Clients!B56126=\"\",\"\",Clients!B56126)","v":""},{"$f":"IF(Clients!C56126=\"\",\"\",Clients!C56126)","v":""}]
[null,null,null,null,null,null,null,null,null,null,null,null,null,null,null,null,null,null,{"$f":"IF(Clients!B56185=\"\",\"\",Clients!B56185)","v":""},{"$f":"IF(Clients!C56185=\"\",\"\",Clients!C56185)","v":""}]
[null,null,null,null,null,null,null,null,null,null,null,null,null,null,null,null,null,null,{"$f":"IF(Clients!B56217=\"\",\"\",Clients!B56217)","v":""},{"$f":"IF(Clients!C56217=\"\",\"\",Clients!C56217)","v":""}]
[null,null,null,null,null,null,null,null,null,null,null,null,null,null,null,null,null,null,{"$f":"IF(Clients!B56234=\"\",\"\",Clients!B56234)","v":""},{"$f":"IF(Clients!C56234=\"\",\"\",Clients!C56234)","v":""}]
[null,null,null,null,null,null,null,null,null,null,null,null,null,null,null,null,null,null,{"$f":"IF(Clients!B56278=\"\",\"\",Clients!B56278)","v":""},{"$f":"IF(Clients!C56278=\"\",\"\",Clients!C56278)","v":""}]
[null,null,null,null,null,null,null,null,null,null,null,null,null,null,null,null,null,null,{"$f":"IF(Clients!B56306=\"\",\"\",Clients!B56306)","v":""},{"$f":"IF(Clients!C56306=\"\",\"\",Clients!C56306)","v":""}]
[null,null,null,null,null,null,null,null,null,null,null,null,null,null,null,null,null,null,{"$f":"IF(Clients!B56334=\"\",\"\",Clients!B56334)","v":""},{"$f":"IF(Clients!C56334=\"\",\"\",Clients!C56334)","v":""}]
[null,null,null,null,null,null,null,null,null,null,null,null,null,null,null,null,null,null,{"$f":"IF(Clients!B56363=\"\",\"\",Clients!B56363)","v":""},{"$f":"IF(Clients!C56363=\"\",\"\",Clients!C56363)","v":""}]
[null,null,null,null,null,null,null,null,null,null,null,null,null,null,null,null,null,null,{"$f":"IF(Clients!B56395=\"\",\"\",Clients!B56395)","v":""},{"$f":"IF(Clients!C56395=\"\",\"\",Clients!C56395)","v":""}]
[null,null,null,null,null,null,null,null,null,null,null,null,null,null,null,null,null,null,{"$f":"IF(Clients!B56427=\"\",\"\",Clients!B56427)","v":""},{"$f":"IF(Clients!C56427=\"\",\"\",Clients!C56427)","v":""}]
[null,null,null,null,null,null,null,null,null,null,null,null,null,null,null,null,null,null,{"$f":"IF(Clients!B56455=\"\",\"\",Clients!B56455)","v":""},{"$f":"IF(Clients!C56455=\"\",\"\",Clients!C56455)","v":""}]
[null,null,null,null,null,null,null,null,null,null,null,null,null,null,null,null,null,null,{"$f":"IF(Clients!B56492=\"\",\"\",Clients!B56492)","v":""},{"$f":"IF(Clients!C56492=\"\",\"\",Clients!C56492)","v":""}]
[null,null,null,null,null,null,null,null,null,null,null,null,null,null,null,null,null,null,{"$f":"IF(Clients!B56516=\"\",\"\",Clients!B56516)","v":""},{"$f":"IF(Clients!C56516=\"\",\"\",Clients!C56516)","v":""}]
[null,null,null,null,null,null,null,null,null,null,null,null,null,null,null,null,null,null,{"$f":"IF(Clients!B56544=\"\",\"\",Clients!B56544)","v":""},{"$f":"IF(Clients!C56544=\"\",\"\",Clients!C56544)","v":""}]
[null,null,null,null,null,null,null,null,null,null,null,null,null,null,null,null,null,null,{"$f":"IF(Clients!B56572=\"\",\"\",Clients!B56572)","v":""},{"$f":"IF(Clients!C56572=\"\",\"\",Clients!C56572)","v":""}]
[null,null,null,null,null,null,null,null,null,null,null,null,null,null,null,null,null,null,{"$f":"IF(Clients!B56621=\"\",\"\",Clients!B56621)","v":""},{"$f":"IF(Clients!C56621=\"\",\"\",Clients!C56621)","v":""}]
[null,null,null,null,null,null,null,null,null,null,null,null,null,null,null,null,null,null,{"$f":"IF(Clients!B56633=\"\",\"\",Clients!B56633)","v":""},{"$f":"IF(Clients!C56633=\"\",\"\",Clients!C56633)","v":""}]
[null,null,null,null,null,null,null,null,null,null,null,null,null,null,null,null,null,null,{"$f":"IF(Clients!B56665=\"\",\"\",Clients!B56665)","v":""},{"$f":"IF(Clients!C56665=\"\",\"\",Clients!C56665)","v":""}]
[null,null,null,null,null,null,null,null,null,null,null,null,null,null,null,null,null,null,{"$f":"IF(Clients!B56693=\"\",\"\",Clients!B56693)","v":""},{"$f":"IF(Clients!C56693=\"\",\"\",Clients!C56693)","v":""}]
[null,null,null,null,null,null,null,null,null,null,null,null,null,null,null,null,null,null,{"$f":"IF(Clients!B56718=\"\",\"\",Clients!B56718)","v":""},{"$f":"IF(Clients!C56718=\"\",\"\",Clients!C56718)","v":""}]
[null,null,null,null,null,null,null,null,null,null,null,null,null,null,null,null,null,null,{"$f":"IF(Clients!B56754=\"\",\"\",Clients!B56754)","v":""},{"$f":"IF(Clients!C56754=\"\",\"\",Clients!C56754)","v":""}]
[null,null,null,null,null,null,null,null,null,null,null,null,null,null,null,null,null,null,{"$f":"IF(Clients!B56782=\"\",\"\",Clients!B56782)","v":""},{"$f":"IF(Clients!C56782=\"\",\"\",Clients!C56782)","v":""}]
[null,null,null,null,null,null,null,null,null,null,null,null,null,null,null,null,null,null,{"$f":"IF(Clients!B56841=\"\",\"\",Clients!B56841)","v":""},{"$f":"IF(Clients!C56841=\"\",\"\",Clients!C56841)","v":""}]
[null,null,null,null,null,null,null,null,null,null,null,null,null,null,null,null,null,null,{"$f":"IF(Clients!B56847=\"\",\"\",Clients!B56847)","v":""},{"$f":"IF(Clients!C56847=\"\",\"\",Clients!C56847)","v":""}]
[null,null,null,null,null,null,null,null,null,null,null,null,null,null,null,null,null,null,{"$f":"IF(Clients!B56902=\"\",\"\",Clients!B56902)","v":""},{"$f":"IF(Clients!C56902=\"\",\"\",Clients!C56902)","v":""}]
[null,null,null,null,null,null,null,null,null,null,null,null,null,null,null,null,null,null,{"$f":"IF(Clients!B56934=\"\",\"\",Clients!B56934)","v":""},{"$f":"IF(Clients!C56934=\"\",\"\",Clients!C56934)","v":""}]
[null,null,null,null,null,null,null,null,null,null,null,null,null,null,null,null,null,null,{"$f":"IF(Clients!B56962=\"\",\"\",Clients!B56962)","v":""},{"$f":"IF(Clients!C56962=\"\",\"\",Clients!C56962)","v":""}]
[null,null,null,null,null,null,null,null,null,null,null,null,null,null,null,null,null,null,{"$f":"IF(Clients!B56976=\"\",\"\",Clients!B56976)","v":""},{"$f":"IF(Clients!C56976=\"\",\"\",Clients!C56976)","v":""}]
[null,null,null,null,null,null,null,null,null,null,null,null,null,null,null,null,null,null,{"$f":"IF(Clients!B57023=\"\",\"\",Clients!B57023)","v":""},{"$f":"IF(Clients!C57023=\"\",\"\",Clients!C57023)","v":""}]
[null,null,null,null,null,null,null,null,null,null,null,null,null,null,null,null,null,null,{"$f":"IF(Clients!B57051=\"\",\"\",Clients!B57051)","v":""},{"$f":"IF(Clients!C57051=\"\",\"\",Clients!C57051)","v":""}]
[null,null,null,null,null,null,null,null,null,null,null,null,null,null,null,null,null,null,{"$f":"IF(Clients!B57083=\"\",\"\",Clients!B57083)","v":""},{"$f":"IF(Clients!C57083=\"\",\"\",Clients!C57083)","v":""}]
[null,null,null,null,null,null,null,null,null,null,null,null,null,null,null,null,null,null,{"$f":"IF(Clients!B57105=\"\",\"\",Clients!B57105)","v":""},{"$f":"IF(Clients!C57105=\"\",\"\",Clients!C57105)","v":""}]
[null,null,null,null,null,null,null,null,null,null,null,null,null,null,null,null,null,null,{"$f":"IF(Clients!B57140=\"\",\"\",Clients!B57140)","v":""},{"$f":"IF(Clients!C57140=\"\",\"\",Clients!C57140)","v":""}]
[null,null,null,null,null,null,null,null,null,null,null,null,null,null,null,null,null,null,{"$f":"IF(Clients!B57172=\"\",\"\",Clients!B57172)","v":""},{"$f":"IF(Clients!C57172=\"\",\"\",Clients!C57172)","v":""}]
[null,null,null,null,null,null,null,null,null,null,null,null,null,null,null,null,null,null,{"$f":"IF(Clients!B57200=\"\",\"\",Clients!B57200)","v":""},{"$f":"IF(Clients!C57200=\"\",\"\",Clients!C57200)","v":""}]
[null,null,null,null,null,null,null,null,null,null,null,null,null,null,null,null,null,null,{"$f":"IF(Clients!B57234=\"\",\"\",Clients!B57234)","v":""},{"$f":"IF(Clients!C57234=\"\",\"\",Clients!C57234)","v":""}]
[null,null,null,null,null,null,null,null,null,null,null,null,null,null,null,null,null,null,{"$f":"IF(Clients!B57261=\"\",\"\",Clients!B57261)","v":""},{"$f":"IF(Clients!C57261=\"\",\"\",Clients!C57261)","v":""}]
[null,null,null,null,null,null,null,null,null,null,null,null,null,null,null,null,null,null,{"$f":"IF(Clients!B57289=\"\",\"\",Clients!B57289)","v":""},{"$f":"IF(Clients!C57289=\"\",\"\",Clients!C57289)","v":""}]
[null,null,null,null,null,null,null,null,null,null,null,null,null,null,null,null,null,null,{"$f":"IF(Clients!B57321=\"\",\"\",Clients!B57321)","v":""},{"$f":"IF(Clients!C57321=\"\",\"\",Clients!C57321)","v":""}]
[null,null,null,null,null,null,null,null,null,null,null,null,null,null,null,null,null,null,{"$f":"IF(Clients!B57363=\"\",\"\",Clients!B57363)","v":""},{"$f":"IF(Clients!C57363=\"\",\"\",Clients!C57363)","v":""}]
[null,null,null,null,null,null,null,null,null,null,null,null,null,null,null,null,null,null,{"$f":"IF(Clients!B57378=\"\",\"\",Clients!B57378)","v":""},{"$f":"IF(Clients!C57378=\"\",\"\",Clients!C57378)","v":""}]
[null,null,null,null,null,null,null,null,null,null,null,null,null,null,null,null,null,null,{"$f":"IF(Clients!B57410=\"\",\"\",Clients!B57410)","v":""},{"$f":"IF(Clients!C57410=\"\",\"\",Clients!C57410)","v":""}]
[null,null,null,null,null,null,null,null,null,null,null,null,null,null,null,null,null,null,{"$f":"IF(Clients!B57438=\"\",\"\",Clients!B57438)","v":""},{"$f":"IF(Clients!C57438=\"\",\"\",Clients!C57438)","v":""}]
[null,null,null,null,null,null,null,null,null,null,null,null,null,null,null,null,null,null,{"$f":"IF(Clients!B57492=\"\",\"\",Clients!B57492)","v":""},{"$f":"IF(Clients!C57492=\"\",\"\",Clients!C57492)","v":""}]
[null,null,null,null,null,null,null,null,null,null,null,null,null,null,null,null,null,null,{"$f":"IF(Clients!B57530=\"\",\"\",Clients!B57530)","v":""},{"$f":"IF(Clients!C57530=\"\",\"\",Clients!C57530)","v":""}]
[null,null,null,null,null,null,null,null,null,null,null,null,null,null,null,null,null,null,{"$f":"IF(Clients!B57558=\"\",\"\",Clients!B57558)","v":""},{"$f":"IF(Clients!C57558=\"\",\"\",Clients!C57558)","v":""}]
[null,null,null,null,null,null,null,null,null,null,null,null,null,null,null,null,null,null,{"$f":"IF(Clients!B57590=\"\",\"\",Clients!B57590)","v":""},{"$f":"IF(Clients!C57590=\"\",\"\",Clients!C57590)","v":""}]
[null,null,null,null,null,null,null,null,null,null,null,null,null,null,null,null,null,null,{"$f":"IF(Clients!B57621=\"\",\"\",Clients!B57621)","v":""},{"$f":"IF(Clients!C57621=\"\",\"\",Clients!C57621)","v":""}]
[null,null,null,null,null,null,null,null,null,null,null,null,null,null,null,null,null,null,{"$f":"IF(Clients!B57647=\"\",\"\",Clients!B57647)","v":""},{"$f":"IF(Clients!C57647=\"\",\"\",Clients!C57647)","v":""}]
[null,null,null,null,null,null,null,null,null,null,null,null,null,null,null,null,null,null,{"$f":"IF(Clients!B57679=\"\",\"\",Clients!B57679)","v":""},{"$f":"IF(Clients!C57679=\"\",\"\",Clients!C57679)","v":""}]
[null,null,null,null,null,null,null,null,null,null,null,null,null,null,null,null,null,null,{"$f":"IF(Clients!B57707=\"\",\"\",Clients!B57707)","v":""},{"$f":"IF(Clients!C57707=\"\",\"\",Clients!C57707)","v":""}]
[null,null,null,null,null,null,null,null,null,null,null,null,null,null,null,null,null,null,{"$f":"IF(Clients!B57718=\"\",\"\",Clients!B57718)","v":""},{"$f":"IF(Clients!C57718=\"\",\"\",Clients!C57718)","v":""}]
[null,null,null,null,null,null,null,null,null,null,null,null,null,null,null,null,null,null,{"$f":"IF(Clients!B57768=\"\",\"\",Clients!B57768)","v":""},{"$f":"IF(Clients!C57768=\"\",\"\",Clients!C57768)","v":""}]
[null,null,null,null,null,null,null,null,null,null,null,null,null,null,null,null,null,null,{"$f":"IF(Clients!B57796=\"\",\"\",Clients!B57796)","v":""},{"$f":"IF(Clients!C57796=\"\",\"\",Clients!C57796)","v":""}]
[null,null,null,null,null,null,null,null,null,null,null,null,null,null,null,null,null,null,{"$f":"IF(Clients!B57828=\"\",\"\",Clients!B57828)","v":""},{"$f":"IF(Clients!C57828=\"\",\"\",Clients!C57828)","v":""}]
[null,null,null,null,null,null,null,null,null,null,null,null,null,null,null,null,null,null,{"$f":"IF(Clients!B57847=\"\",\"\",Clients!B57847)","v":""},{"$f":"IF(Clients!C57847=\"\",\"\",Clients!C57847)","v":""}]
[null,null,null,null,null,null,null,null,null,null,null,null,null,null,null,null,null,null,{"$f":"IF(Clients!B57885=\"\",\"\",Clients!B57885)","v":""},{"$f":"IF(Clients!C57885=\"\",\"\",Clients!C57885)","v":""}]
[null,null,null,null,null,null,null,null,null,null,null,null,null,null,null,null,null,null,{"$f":"IF(Clients!B57917=\"\",\"\",Clients!B57917)","v":""},{"$f":"IF(Clients!C57917=\"\",\"\",Clients!C57917)","v":""}]
[null,null,null,null,null,null,null,null,null,null,null,null,null,null,null,null,null,null,{"$f":"IF(Clients!B57945=\"\",\"\",Clients!B57945)","v":""},{"$f":"IF(Clients!C57945=\"\",\"\",Clients!C57945)","v":""}]
[null,null,null,null,null,null,null,null,null,null,null,null,null,null,null,null,null,null,{"$f":"IF(Clients!B57976=\"\",\"\",Clients!B57976)","v":""},{"$f":"IF(Clients!C57976=\"\",\"\",Clients!C57976)","v":""}]
[null,null,null,null,null,null,null,null,null,null,null,null,null,null,null,null,null,null,{"$f":"IF(Clients!B58006=\"\",\"\",Clients!B58006)","v":""},{"$f":"IF(Clients!C58006=\"\",\"\",Clients!C58006)","v":""}]
[null,null,null,null,null,null,null,null,null,null,null,null,null,null,null,null,null,null,{"$f":"IF(Clients!B58034=\"\",\"\",Clients!B58034)","v":""},{"$f":"IF(Clients!C58034=\"\",\"\",Clients!C58034)","v":""}]
[null,null,null,null,null,null,null,null,null,null,null,null,null,null,null,null,null,null,{"$f":"IF(Clients!B58066=\"\",\"\",Clients!B58066)","v":""},{"$f":"IF(Clients!C58066=\"\",\"\",Clients!C58066)","v":""}]
[null,null,null,null,null,null,null,null,null,null,null,null,null,null,null,null,null,null,{"$f":"IF(Clients!B58105=\"\",\"\",Clients!B58105)","v":""},{"$f":"IF(Clients!C58105=\"\",\"\",Clients!C58105)","v":""}]
[null,null,null,null,null,null,null,null,null,null,null,null,null,null,null,null,null,null,{"$f":"IF(Clients!B58127=\"\",\"\",Clients!B58127)","v":""},{"$f":"IF(Clients!C58127=\"\",\"\",Clients!C58127)","v":""}]
[null,null,null,null,null,null,null,null,null,null,null,null,null,null,null,null,null,null,{"$f":"IF(Clients!B58186=\"\",\"\",Clients!B58186)","v":""},{"$f":"IF(Clients!C58186=\"\",\"\",Clients!C58186)","v":""}]
[null,null,null,null,null,null,null,null,null,null,null,null,null,null,null,null,null,null,{"$f":"IF(Clients!B58214=\"\",\"\",Clients!B58214)","v":""},{"$f":"IF(Clients!C58214=\"\",\"\",Clients!C58214)","v":""}]
[null,null,null,null,null,null,null,null,null,null,null,null,null,null,null,null,null,null,{"$f":"IF(Clients!B58234=\"\",\"\",Clients!B58234)","v":""},{"$f":"IF(Clients!C58234=\"\",\"\",Clients!C58234)","v":""}]
[null,null,null,null,null,null,null,null,null,null,null,null,null,null,null,null,null,null,{"$f":"IF(Clients!B58275=\"\",\"\",Clients!B58275)","v":""},{"$f":"IF(Clients!C58275=\"\",\"\",Clients!C58275)","v":""}]
[null,null,null,null,null,null,null,null,null,null,null,null,null,null,null,null,null,null,{"$f":"IF(Clients!B58303=\"\",\"\",Clients!B58303)","v":""},{"$f":"IF(Clients!C58303=\"\",\"\",Clients!C58303)","v":""}]
[null,null,null,null,null,null,null,null,null,null,null,null,null,null,null,null,null,null,{"$f":"IF(Clients!B58335=\"\",\"\",Clients!B58335)","v":""},{"$f":"IF(Clients!C58335=\"\",\"\",Clients!C58335)","v":""}]
[null,null,null,null,null,null,null,null,null,null,null,null,null,null,null,null,null,null,{"$f":"IF(Clients!B58363=\"\",\"\",Clients!B58363)","v":""},{"$f":"IF(Clients!C58363=\"\",\"\",Clients!C58363)","v":""}]
[null,null,null,null,null,null,null,null,null,null,null,null,null,null,null,null,null,null,{"$f":"IF(Clients!B58396=\"\",\"\",Clients!B58396)","v":""},{"$f":"IF(Clients!C58396=\"\",\"\",Clients!C58396)","v":""}]
[null,null,null,null,null,null,null,null,null,null,null,null,null,null,null,null,null,null,{"$f":"IF(Clients!B58424=\"\",\"\",Clients!B58424)","v":""},{"$f":"IF(Clients!C58424=\"\",\"\",Clients!C58424)","v":""}]
[null,null,null,null,null,null,null,null,null,null,null,null,null,null,null,null,null,null,{"$f":"IF(Clients!B58452=\"\",\"\",Clients!B58452)","v":""},{"$f":"IF(Clients!C58452=\"\",\"\",Clients!C58452)","v":""}]
[null,null,null,null,null,null,null,null,null,null,null,null,null,null,null,null,null,null,{"$f":"IF(Clients!B58492=\"\",\"\",Clients!B58492)","v":""},{"$f":"IF(Clients!C58492=\"\",\"\",Clients!C58492)","v":""}]
[null,null,null,null,null,null,null,null,null,null,null,null,null,null,null,null,null,null,{"$f":"IF(Clients!B58513=\"\",\"\",Clients!B58513)","v":""},{"$f":"IF(Clients!C58513=\"\",\"\",Clients!C58513)","v":""}]
[null,null,null,null,null,null,null,null,null,null,null,null,null,null,null,null,null,null,{"$f":"IF(Clients!B58541=\"\",\"\",Clients!B58541)","v":""},{"$f":"IF(Clients!C58541=\"\",\"\",Clients!C58541)","v":""}]
[null,null,null,null,null,null,null,null,null,null,null,null,null,null,null,null,null,null,{"$f":"IF(Clients!B58573=\"\",\"\",Clients!B58573)","v":""},{"$f":"IF(Clients!C58573=\"\",\"\",Clients!C58573)","v":""}]
[null,null,null,null,null,null,null,null,null,null,null,null,null,null,null,null,null,null,{"$f":"IF(Clients!B58621=\"\",\"\",Clients!B58621)","v":""},{"$f":"IF(Clients!C58621=\"\",\"\",Clients!C58621)","v":""}]
[null,null,null,null,null,null,null,null,null,null,null,null,null,null,null,null,null,null,{"$f":"IF(Clients!B58634=\"\",\"\",Clients!B58634)","v":""},{"$f":"IF(Clients!C58634=\"\",\"\",Clients!C58634)","v":""}]
[null,null,null,null,null,null,null,null,null,null,null,null,null,null,null,null,null,null,{"$f":"IF(Clients!B58662=\"\",\"\",Clients!B58662)","v":""},{"$f":"IF(Clients!C58662=\"\",\"\",Clients!C58662)","v":""}]
[null,null,null,null,null,null,null,null,null,null,null,null,null,null,null,null,null,null,{"$f":"IF(Clients!B58690=\"\",\"\",Clients!B58690)","v":""},{"$f":"IF(Clients!C58690=\"\",\"\",Clients!C58690)","v":""}]
[null,null,null,null,null,null,null,null,null,null,null,null,null,null,null,null,null,null,{"$f":"IF(Clients!B58718=\"\",\"\",Clients!B58718)","v":""},{"$f":"IF(Clients!C58718=\"\",\"\",Clients!C58718)","v":""}]
[null,null,null,null,null,null,null,null,null,null,null,null,null,null,null,null,null,null,{"$f":"IF(Clients!B58751=\"\",\"\",Clients!B58751)","v":""},{"$f":"IF(Clients!C58751=\"\",\"\",Clients!C58751)","v":""}]
[null,null,null,null,null,null,null,null,null,null,null,null,null,null,null,null,null,null,{"$f":"IF(Clients!B58783=\"\",\"\",Clients!B58783)","v":""},{"$f":"IF(Clients!C58783=\"\",\"\",Clients!C58783)","v":""}]
[null,null,null,null,null,null,null,null,null,null,null,null,null,null,null,null,null,null,{"$f":"IF(Clients!B58842=\"\",\"\",Clients!B58842)","v":""},{"$f":"IF(Clients!C58842=\"\",\"\",Clients!C58842)","v":""}]
[null,null,null,null,null,null,null,null,null,null,null,null,null,null,null,null,null,null,{"$f":"IF(Clients!B58847=\"\",\"\",Clients!B58847)","v":""},{"$f":"IF(Clients!C58847=\"\",\"\",Clients!C58847)","v":""}]
[null,null,null,null,null,null,null,null,null,null,null,null,null,null,null,null,null,null,{"$f":"IF(Clients!B58903=\"\",\"\",Clients!B58903)","v":""},{"$f":"IF(Clients!C58903=\"\",\"\",Clients!C58903)","v":""}]
[null,null,null,null,null,null,null,null,null,null,null,null,null,null,null,null,null,null,{"$f":"IF(Clients!B58931=\"\",\"\",Clients!B58931)","v":""},{"$f":"IF(Clients!C58931=\"\",\"\",Clients!C58931)","v":""}]
[null,null,null,null,null,null,null,null,null,null,null,null,null,null,null,null,null,null,{"$f":"IF(Clients!B58959=\"\",\"\",Clients!B58959)","v":""},{"$f":"IF(Clients!C58959=\"\",\"\",Clients!C58959)","v":""}]
[null,null,null,null,null,null,null,null,null,null,null,null,null,null,null,null,null,null,{"$f":"IF(Clients!B58976=\"\",\"\",Clients!B58976)","v":""},{"$f":"IF(Clients!C58976=\"\",\"\",Clients!C58976)","v":""}]
[null,null,null,null,null,null,null,null,null,null,null,null,null,null,null,null,null,null,{"$f":"IF(Clients!B59020=\"\",\"\",Clients!B59020)","v":""},{"$f":"IF(Clients!C59020=\"\",\"\",Clients!C59020)","v":""}]
[null,null,null,null,null,null,null,null,null,null,null,null,null,null,null,null,null,null,{"$f":"IF(Clients!B59052=\"\",\"\",Clients!B59052)","v":""},{"$f":"IF(Clients!C59052=\"\",\"\",Clients!C59052)","v":""}]
[null,null,null,null,null,null,null,null,null,null,null,null,null,null,null,null,null,null,{"$f":"IF(Clients!B59080=\"\",\"\",Clients!B59080)","v":""},{"$f":"IF(Clients!C59080=\"\",\"\",Clients!C59080)","v":""}]
[null,null,null,null,null,null,null,null,null,null,null,null,null,null,null,null,null,null,{"$f":"IF(Clients!B59105=\"\",\"\",Clients!B59105)","v":""},{"$f":"IF(Clients!C59105=\"\",\"\",Clients!C59105)","v":""}]
[null,null,null,null,null,null,null,null,null,null,null,null,null,null,null,null,null,null,{"$f":"IF(Clients!B59141=\"\",\"\",Clients!B59141)","v":""},{"$f":"IF(Clients!C59141=\"\",\"\",Clients!C59141)","v":""}]
[null,null,null,null,null,null,null,null,null,null,null,null,null,null,null,null,null,null,{"$f":"IF(Clients!B59169=\"\",\"\",Clients!B59169)","v":""},{"$f":"IF(Clients!C59169=\"\",\"\",Clients!C59169)","v":""}]
[null,null,null,null,null,null,null,null,null,null,null,null,null,null,null,null,null,null,{"$f":"IF(Clients!B59197=\"\",\"\",Clients!B59197)","v":""},{"$f":"IF(Clients!C59197=\"\",\"\",Clients!C59197)","v":""}]
[null,null,null,null,null,null,null,null,null,null,null,null,null,null,null,null,null,null,{"$f":"IF(Clients!B59234=\"\",\"\",Clients!B59234)","v":""},{"$f":"IF(Clients!C59234=\"\",\"\",Clients!C59234)","v":""}]
[null,null,null,null,null,null,null,null,null,null,null,null,null,null,null,null,null,null,{"$f":"IF(Clients!B59258=\"\",\"\",Clients!B59258)","v":""},{"$f":"IF(Clients!C59258=\"\",\"\",Clients!C59258)","v":""}]
[null,null,null,null,null,null,null,null,null,null,null,null,null,null,null,null,null,null,{"$f":"IF(Clients!B59290=\"\",\"\",Clients!B59290)","v":""},{"$f":"IF(Clients!C59290=\"\",\"\",Clients!C59290)","v":""}]
[null,null,null,null,null,null,null,null,null,null,null,null,null,null,null,null,null,null,{"$f":"IF(Clients!B59318=\"\",\"\",Clients!B59318)","v":""},{"$f":"IF(Clients!C59318=\"\",\"\",Clients!C59318)","v":""}]
[null,null,null,null,null,null,null,null,null,null,null,null,null,null,null,null,null,null,{"$f":"IF(Clients!B59363=\"\",\"\",Clients!B59363)","v":""},{"$f":"IF(Clients!C59363=\"\",\"\",Clients!C59363)","v":""}]
[null,null,null,null,null,null,null,null,null,null,null,null,null,null,null,null,null,null,{"$f":"IF(Clients!B59379=\"\",\"\",Clients!B59379)","v":""},{"$f":"IF(Clients!C59379=\"\",\"\",Clients!C59379)","v":""}]
[null,null,null,null,null,null,null,null,null,null,null,null,null,null,null,null,null,null,{"$f":"IF(Clients!B59407=\"\",\"\",Clients!B59407)","v":""},{"$f":"IF(Clients!C59407=\"\",\"\",Clients!C59407)","v":""}]
[null,null,null,null,null,null,null,null,null,null,null,null,null,null,null,null,null,null,{"$f":"IF(Clients!B59439=\"\",\"\",Clients!B59439)","v":""},{"$f":"IF(Clients!C59439=\"\",\"\",Clients!C59439)","v":""}]
[null,null,null,null,null,null,null,null,null,null,null,null,null,null,null,null,null,null,{"$f":"IF(Clients!B59492=\"\",\"\",Clients!B59492)","v":""},{"$f":"IF(Clients!C59492=\"\",\"\",Clients!C59492)","v":""}]
[null,null,null,null,null,null,null,null,null,null,null,null,null,null,null,null,null,null,{"$f":"IF(Clients!B59527=\"\",\"\",Clients!B59527)","v":""},{"$f":"IF(Clients!C59527=\"\",\"\",Clients!C59527)","v":""}]
[null,null,null,null,null,null,null,null,null,null,null,null,null,null,null,null,null,null,{"$f":"IF(Clients!B59559=\"\",\"\",Clients!B59559)","v":""},{"$f":"IF(Clients!C59559=\"\",\"\",Clients!C59559)","v":""}]
[null,null,null,null,null,null,null,null,null,null,null,null,null,null,null,null,null,null,{"$f":"IF(Clients!B59587=\"\",\"\",Clients!B59587)","v":""},{"$f":"IF(Clients!C59587=\"\",\"\",Clients!C59587)","v":""}]
[null,null,null,null,null,null,null,null,null,null,null,null,null,null,null,null,null,null,{"$f":"IF(Clients!B59621=\"\",\"\",Clients!B59621)","v":""},{"$f":"IF(Clients!C59621=\"\",\"\",Clients!C59621)","v":""}]
[null,null,null,null,null,null,null,null,null,null,null,null,null,null,null,null,null,null,{"$f":"IF(Clients!B59648=\"\",\"\",Clients!B59648)","v":""},{"$f":"IF(Clients!C59648=\"\",\"\",Clients!C59648)","v":""}]
[null,null,null,null,null,null,null,null,null,null,null,null,null,null,null,null,null,null,{"$f":"IF(Clients!B59676=\"\",\"\",Clients!B59676)","v":""},{"$f":"IF(Clients!C59676=\"\",\"\",Clients!C59676)","v":""}]
[null,null,null,null,null,null,null,null,null,null,null,null,null,null,null,null,null,null,{"$f":"IF(Clients!B59708=\"\",\"\",Clients!B59708)","v":""},{"$f":"IF(Clients!C59708=\"\",\"\",Clients!C59708)","v":""}]
[null,null,null,null,null,null,null,null,null,null,null,null,null,null,null,null,null,null,{"$f":"IF(Clients!B59718=\"\",\"\",Clients!B59718)","v":""},{"$f":"IF(Clients!C59718=\"\",\"\",Clients!C59718)","v":""}]
[null,null,null,null,null,null,null,null,null,null,null,null,null,null,null,null,null,null,{"$f":"IF(Clients!B59765=\"\",\"\",Clients!B59765)","v":""},{"$f":"IF(Clients!C59765=\"\",\"\",Clients!C59765)","v":""}]
[null,null,null,null,null,null,null,null,null,null,null,null,null,null,null,null,null,null,{"$f":"IF(Clients!B59797=\"\",\"\",Clients!B59797)","v":""},{"$f":"IF(Clients!C59797=\"\",\"\",Clients!C59797)","v":""}]
[null,null,null,null,null,null,null,null,null,null,null,null,null,null,null,null,null,null,{"$f":"IF(Clients!B59825=\"\",\"\",Clients!B59825)","v":""},{"$f":"IF(Clients!C59825=\"\",\"\",Clients!C59825)","v":""}]
[null,null,null,null,null,null,null,null,null,null,null,null,null,null,null,null,null,null,{"$f":"IF(Clients!B59847=\"\",\"\",Clients!B59847)","v":""},{"$f":"IF(Clients!C59847=\"\",\"\",Clients!C59847)","v":""}]
[null,null,null,null,null,null,null,null,null,null,null,null,null,null,null,null,null,null,{"$f":"IF(Clients!B59886=\"\",\"\",Clients!B59886)","v":""},{"$f":"IF(Clients!C59886=\"\",\"\",Clients!C59886)","v":""}]
[null,null,null,null,null,null,null,null,null,null,null,null,null,null,null,null,null,null,{"$f":"IF(Clients!B59914=\"\",\"\",Clients!B59914)","v":""},{"$f":"IF(Clients!C59914=\"\",\"\",Clients!C59914)","v":""}]
[null,null,null,null,null,null,null,null,null,null,null,null,null,null,null,null,null,null,{"$f":"IF(Clients!B59946=\"\",\"\",Clients!B59946)","v":""},{"$f":"IF(Clients!C59946=\"\",\"\",Clients!C59946)","v":""}]
[null,null,null,null,null,null,null,null,null,null,null,null,null,null,null,null,null,null,{"$f":"IF(Clients!B59976=\"\",\"\",Clients!B59976)","v":""},{"$f":"IF(Clients!C59976=\"\",\"\",Clients!C59976)","v":""}]
[null,null,null,null,null,null,null,null,null,null,null,null,null,null,null,null,null,null,{"$f":"IF(Clients!B60003=\"\",\"\",Clients!B60003)","v":""},{"$f":"IF(Clients!C60003=\"\",\"\",Clients!C60003)","v":""}]
[null,null,null,null,null,null,null,null,null,null,null,null,null,null,null,null,null,null,{"$f":"IF(Clients!B60035=\"\",\"\",Clients!B60035)","v":""},{"$f":"IF(Clients!C60035=\"\",\"\",Clients!C60035)","v":""}]
[null,null,null,null,null,null,null,null,null,null,null,null,null,null,null,null,null,null,{"$f":"IF(Clients!B60063=\"\",\"\",Clients!B60063)","v":""},{"$f":"IF(Clients!C60063=\"\",\"\",Clients!C60063)","v":""}]
[null,null,null,null,null,null,null,null,null,null,null,null,null,null,null,null,null,null,{"$f":"IF(Clients!B60105=\"\",\"\",Clients!B60105)","v":""},{"$f":"IF(Clients!C60105=\"\",\"\",Clients!C60105)","v":""}]
[null,null,null,null,null,null,null,null,null,null,null,null,null,null,null,null,null,null,{"$f":"IF(Clients!B60155=\"\",\"\",Clients!B60155)","v":""},{"$f":"IF(Clients!C60155=\"\",\"\",Clients!C60155)","v":""}]
[null,null,null,null,null,null,null,null,null,null,null,null,null,null,null,null,null,null,{"$f":"IF(Clients!B60183=\"\",\"\",Clients!B60183)","v":""},{"$f":"IF(Clients!C60183=\"\",\"\",Clients!C60183)","v":""}]
[null,null,null,null,null,null,null,null,null,null,null,null,null,null,null,null,null,null,{"$f":"IF(Clients!B60215=\"\",\"\",Clients!B60215)","v":""},{"$f":"IF(Clients!C60215=\"\",\"\",Clients!C60215)","v":""}]
[null,null,null,null,null,null,null,null,null,null,null,null,null,null,null,null,null,null,{"$f":"IF(Clients!B60234=\"\",\"\",Clients!B60234)","v":""},{"$f":"IF(Clients!C60234=\"\",\"\",Clients!C60234)","v":""}]
[null,null,null,null,null,null,null,null,null,null,null,null,null,null,null,null,null,null,{"$f":"IF(Clients!B60272=\"\",\"\",Clients!B60272)","v":""},{"$f":"IF(Clients!C60272=\"\",\"\",Clients!C60272)","v":""}]
[null,null,null,null,null,null,null,null,null,null,null,null,null,null,null,null,null,null,{"$f":"IF(Clients!B60304=\"\",\"\",Clients!B60304)","v":""},{"$f":"IF(Clients!C60304=\"\",\"\",Clients!C60304)","v":""}]
[null,null,null,null,null,null,null,null,null,null,null,null,null,null,null,null,null,null,{"$f":"IF(Clients!B60332=\"\",\"\",Clients!B60332)","v":""},{"$f":"IF(Clients!C60332=\"\",\"\",Clients!C60332)","v":""}]
[null,null,null,null,null,null,null,null,null,null,null,null,null,null,null,null,null,null,{"$f":"IF(Clients!B60363=\"\",\"\",Clients!B60363)","v":""},{"$f":"IF(Clients!C60363=\"\",\"\",Clients!C60363)","v":""}]
[null,null,null,null,null,null,null,null,null,null,null,null,null,null,null,null,null,null,{"$f":"IF(Clients!B60393=\"\",\"\",Clients!B60393)","v":""},{"$f":"IF(Clients!C60393=\"\",\"\",Clients!C60393)","v":""}]
[null,null,null,null,null,null,null,null,null,null,null,null,null,null,null,null,null,null,{"$f":"IF(Clients!B60421=\"\",\"\",Clients!B60421)","v":""},{"$f":"IF(Clients!C60421=\"\",\"\",Clients!C60421)","v":""}]
[null,null,null,null,null,null,null,null,null,null,null,null,null,null,null,null,null,null,{"$f":"IF(Clients!B60453=\"\",\"\",Clients!B60453)","v":""},{"$f":"IF(Clients!C60453=\"\",\"\",Clients!C60453)","v":""}]
[null,null,null,null,null,null,null,null,null,null,null,null,null,null,null,null,null,null,{"$f":"IF(Clients!B60492=\"\",\"\",Clients!B60492)","v":""},{"$f":"IF(Clients!C60492=\"\",\"\",Clients!C60492)","v":""}]
[null,null,null,null,null,null,null,null,null,null,null,null,null,null,null,null,null,null,{"$f":"IF(Clients!B60514=\"\",\"\",Clients!B60514)","v":""},{"$f":"IF(Clients!C60514=\"\",\"\",Clients!C60514)","v":""}]
[null,null,null,null,null,null,null,null,null,null,null,null,null,null,null,null,null,null,{"$f":"IF(Clients!B60542=\"\",\"\",Clients!B60542)","v":""},{"$f":"IF(Clients!C60542=\"\",\"\",Clients!C60542)","v":""}]
[null,null,null,null,null,null,null,null,null,null,null,null,null,null,null,null,null,null,{"$f":"IF(Clients!B60570=\"\",\"\",Clients!B60570)","v":""},{"$f":"IF(Clients!C60570=\"\",\"\",Clients!C60570)","v":""}]
[null,null,null,null,null,null,null,null,null,null,null,null,null,null,null,null,null,null,{"$f":"IF(Clients!B60621=\"\",\"\",Clients!B60621)","v":""},{"$f":"IF(Clients!C60621=\"\",\"\",Clients!C60621)","v":""}]
[null,null,null,null,null,null,null,null,null,null,null,null,null,null,null,null,null,null,{"$f":"IF(Clients!B60631=\"\",\"\",Clients!B60631)","v":""},{"$f":"IF(Clients!C60631=\"\",\"\",Clients!C60631)","v":""}]
[null,null,null,null,null,null,null,null,null,null,null,null,null,null,null,null,null,null,{"$f":"IF(Clients!B60659=\"\",\"\",Clients!B60659)","v":""},{"$f":"IF(Clients!C60659=\"\",\"\",Clients!C60659)","v":""}]
[null,null,null,null,null,null,null,null,null,null,null,null,null,null,null,null,null,null,{"$f":"IF(Clients!B60691=\"\",\"\",Clients!B60691)","v":""},{"$f":"IF(Clients!C60691=\"\",\"\",Clients!C60691)","v":""}]
[null,null,null,null,null,null,null,null,null,null,null,null,null,null,null,null,null,null,{"$f":"IF(Clients!B60718=\"\",\"\",Clients!B60718)","v":""},{"$f":"IF(Clients!C60718=\"\",\"\",Clients!C60718)","v":""}]
[null,null,null,null,null,null,null,null,null,null,null,null,null,null,null,null,null,null,{"$f":"IF(Clients!B60752=\"\",\"\",Clients!B60752)","v":""},{"$f":"IF(Clients!C60752=\"\",\"\",Clients!C60752)","v":""}]
[null,null,null,null,null,null,null,null,null,null,null,null,null,null,null,null,null,null,{"$f":"IF(Clients!B60811=\"\",\"\",Clients!B60811)","v":""},{"$f":"IF(Clients!C60811=\"\",\"\",Clients!C60811)","v":""}]
[null,null,null,null,null,null,null,null,null,null,null,null,null,null,null,null,null,null,{"$f":"IF(Clients!B60839=\"\",\"\",Clients!B60839)","v":""},{"$f":"IF(Clients!C60839=\"\",\"\",Clients!C60839)","v":""}]
[null,null,null,null,null,null,null,null,null,null,null,null,null,null,null,null,null,null,{"$f":"IF(Clients!B60847=\"\",\"\",Clients!B60847)","v":""},{"$f":"IF(Clients!C60847=\"\",\"\",Clients!C60847)","v":""}]
[null,null,null,null,null,null,null,null,null,null,null,null,null,null,null,null,null,null,{"$f":"IF(Clients!B60900=\"\",\"\",Clients!B60900)","v":""},{"$f":"IF(Clients!C60900=\"\",\"\",Clients!C60900)","v":""}]
[null,null,null,null,null,null,null,null,null,null,null,null,null,null,null,null,null,null,{"$f":"IF(Clients!B60932=\"\",\"\",Clients!B60932)","v":""},{"$f":"IF(Clients!C60932=\"\",\"\",Clients!C60932)","v":""}]
[null,null,null,null,null,null,null,null,null,null,null,null,null,null,null,null,null,null,{"$f":"IF(Clients!B60960=\"\",\"\",Clients!B60960)","v":""},{"$f":"IF(Clients!C60960=\"\",\"\",Clients!C60960)","v":""}]
[null,null,null,null,null,null,null,null,null,null,null,null,null,null,null,null,null,null,{"$f":"IF(Clients!B60976=\"\",\"\",Clients!B60976)","v":""},{"$f":"IF(Clients!C60976=\"\",\"\",Clients!C60976)","v":""}]
[null,null,null,null,null,null,null,null,null,null,null,null,null,null,null,null,null,null,{"$f":"IF(Clients!B61021=\"\",\"\",Clients!B61021)","v":""},{"$f":"IF(Clients!C61021=\"\",\"\",Clients!C61021)","v":""}]
[null,null,null,null,null,null,null,null,null,null,null,null,null,null,null,null,null,null,{"$f":"IF(Clients!B61049=\"\",\"\",Clients!B61049)","v":""},{"$f":"IF(Clients!C61049=\"\",\"\",Clients!C61049)","v":""}]
[null,null,null,null,null,null,null,null,null,null,null,null,null,null,null,null,null,null,{"$f":"IF(Clients!B61077=\"\",\"\",Clients!B61077)","v":""},{"$f":"IF(Clients!C61077=\"\",\"\",Clients!C61077)","v":""}]
[null,null,null,null,null,null,null,null,null,null,null,null,null,null,null,null,null,null,{"$f":"IF(Clients!B61105=\"\",\"\",Clients!B61105)","v":""},{"$f":"IF(Clients!C61105=\"\",\"\",Clients!C61105)","v":""}]
[null,null,null,null,null,null,null,null,null,null,null,null,null,null,null,null,null,null,{"$f":"IF(Clients!B61138=\"\",\"\",Clients!B61138)","v":""},{"$f":"IF(Clients!C61138=\"\",\"\",Clients!C61138)","v":""}]
[null,null,null,null,null,null,null,null,null,null,null,null,null,null,null,null,null,null,{"$f":"IF(Clients!B61170=\"\",\"\",Clients!B61170)","v":""},{"$f":"IF(Clients!C61170=\"\",\"\",Clients!C61170)","v":""}]
[null,null,null,null,null,null,null,null,null,null,null,null,null,null,null,null,null,null,{"$f":"IF(Clients!B61198=\"\",\"\",Clients!B61198)","v":""},{"$f":"IF(Clients!C61198=\"\",\"\",Clients!C61198)","v":""}]
[null,null,null,null,null,null,null,null,null,null,null,null,null,null,null,null,null,null,{"$f":"IF(Clients!B61234=\"\",\"\",Clients!B61234)","v":""},{"$f":"IF(Clients!C61234=\"\",\"\",Clients!C61234)","v":""}]
[null,null,null,null,null,null,null,null,null,null,null,null,null,null,null,null,null,null,{"$f":"IF(Clients!B61259=\"\",\"\",Clients!B61259)","v":""},{"$f":"IF(Clients!C61259=\"\",\"\",Clients!C61259)","v":""}]
[null,null,null,null,null,null,null,null,null,null,null,null,null,null,null,null,null,null,{"$f":"IF(Clients!B61287=\"\",\"\",Clients!B61287)","v":""},{"$f":"IF(Clients!C61287=\"\",\"\",Clients!C61287)","v":""}]
[null,null,null,null,null,null,null,null,null,null,null,null,null,null,null,null,null,null,{"$f":"IF(Clients!B61315=\"\",\"\",Clients!B61315)","v":""},{"$f":"IF(Clients!C61315=\"\",\"\",Clients!C61315)","v":""}]
[null,null,null,null,null,null,null,null,null,null,null,null,null,null,null,null,null,null,{"$f":"IF(Clients!B61363=\"\",\"\",Clients!B61363)","v":""},{"$f":"IF(Clients!C61363=\"\",\"\",Clients!C61363)","v":""}]
[null,null,null,null,null,null,null,null,null,null,null,null,null,null,null,null,null,null,{"$f":"IF(Clients!B61376=\"\",\"\",Clients!B61376)","v":""},{"$f":"IF(Clients!C61376=\"\",\"\",Clients!C61376)","v":""}]
[null,null,null,null,null,null,null,null,null,null,null,null,null,null,null,null,null,null,{"$f":"IF(Clients!B61408=\"\",\"\",Clients!B61408)","v":""},{"$f":"IF(Clients!C61408=\"\",\"\",Clients!C61408)","v":""}]
[null,null,null,null,null,null,null,null,null,null,null,null,null,null,null,null,null,null,{"$f":"IF(Clients!B61467=\"\",\"\",Clients!B61467)","v":""},{"$f":"IF(Clients!C61467=\"\",\"\",Clients!C61467)","v":""}]
[null,null,null,null,null,null,null,null,null,null,null,null,null,null,null,null,null,null,{"$f":"IF(Clients!B61492=\"\",\"\",Clients!B61492)","v":""},{"$f":"IF(Clients!C61492=\"\",\"\",Clients!C61492)","v":""}]
[null,null,null,null,null,null,null,null,null,null,null,null,null,null,null,null,null,null,{"$f":"IF(Clients!B61528=\"\",\"\",Clients!B61528)","v":""},{"$f":"IF(Clients!C61528=\"\",\"\",Clients!C61528)","v":""}]
[null,null,null,null,null,null,null,null,null,null,null,null,null,null,null,null,null,null,{"$f":"IF(Clients!B61556=\"\",\"\",Clients!B61556)","v":""},{"$f":"IF(Clients!C61556=\"\",\"\",Clients!C61556)","v":""}]
[null,null,null,null,null,null,null,null,null,null,null,null,null,null,null,null,null,null,{"$f":"IF(Clients!B61588=\"\",\"\",Clients!B61588)","v":""},{"$f":"IF(Clients!C61588=\"\",\"\",Clients!C61588)","v":""}]
[null,null,null,null,null,null,null,null,null,null,null,null,null,null,null,null,null,null,{"$f":"IF(Clients!B61621=\"\",\"\",Clients!B61621)","v":""},{"$f":"IF(Clients!C61621=\"\",\"\",Clients!C61621)","v":""}]
[null,null,null,null,null,null,null,null,null,null,null,null,null,null,null,null,null,null,{"$f":"IF(Clients!B61645=\"\",\"\",Clients!B61645)","v":""},{"$f":"IF(Clients!C61645=\"\",\"\",Clients!C61645)","v":""}]
[null,null,null,null,null,null,null,null,null,null,null,null,null,null,null,null,null,null,{"$f":"IF(Clients!B61677=\"\",\"\",Clients!B61677)","v":""},{"$f":"IF(Clients!C61677=\"\",\"\",Clients!C61677)","v":""}]
[null,null,null,null,null,null,null,null,null,null,null,null,null,null,null,null,null,null,{"$f":"IF(Clients!B61705=\"\",\"\",Clients!B61705)","v":""},{"$f":"IF(Clients!C61705=\"\",\"\",Clients!C61705)","v":""}]
[null,null,null,null,null,null,null,null,null,null,null,null,null,null,null,null,null,null,{"$f":"IF(Clients!B61718=\"\",\"\",Clients!B61718)","v":""},{"$f":"IF(Clients!C61718=\"\",\"\",Clients!C61718)","v":""}]
[null,null,null,null,null,null,null,null,null,null,null,null,null,null,null,null,null,null,{"$f":"IF(Clients!B61766=\"\",\"\",Clients!B61766)","v":""},{"$f":"IF(Clients!C61766=\"\",\"\",Clients!C61766)","v":""}]
[null,null,null,null,null,null,null,null,null,null,null,null,null,null,null,null,null,null,{"$f":"IF(Clients!B61794=\"\",\"\",Clients!B61794)","v":""},{"$f":"IF(Clients!C61794=\"\",\"\",Clients!C61794)","v":""}]
[null,null,null,null,null,null,null,null,null,null,null,null,null,null,null,null,null,null,{"$f":"IF(Clients!B61826=\"\",\"\",Clients!B61826)","v":""},{"$f":"IF(Clients!C61826=\"\",\"\",Clients!C61826)","v":""}]
[null,null,null,null,null,null,null,null,null,null,null,null,null,null,null,null,null,null,{"$f":"IF(Clients!B61847=\"\",\"\",Clients!B61847)","v":""},{"$f":"IF(Clients!C61847=\"\",\"\",Clients!C61847)","v":""}]
[null,null,null,null,null,null,null,null,null,null,null,null,null,null,null,null,null,null,{"$f":"IF(Clients!B61883=\"\",\"\",Clients!B61883)","v":""},{"$f":"IF(Clients!C61883=\"\",\"\",Clients!C61883)","v":""}]
[null,null,null,null,null,null,null,null,null,null,null,null,null,null,null,null,null,null,{"$f":"IF(Clients!B61915=\"\",\"\",Clients!B61915)","v":""},{"$f":"IF(Clients!C61915=\"\",\"\",Clients!C61915)","v":""}]
[null,null,null,null,null,null,null,null,null,null,null,null,null,null,null,null,null,null,{"$f":"IF(Clients!B61943=\"\",\"\",Clients!B61943)","v":""},{"$f":"IF(Clients!C61943=\"\",\"\",Clients!C61943)","v":""}]
[null,null,null,null,null,null,null,null,null,null,null,null,null,null,null,null,null,null,{"$f":"IF(Clients!B61976=\"\",\"\",Clients!B61976)","v":""},{"$f":"IF(Clients!C61976=\"\",\"\",Clients!C61976)","v":""}]
[null,null,null,null,null,null,null,null,null,null,null,null,null,null,null,null,null,null,{"$f":"IF(Clients!B62004=\"\",\"\",Clients!B62004)","v":""},{"$f":"IF(Clients!C62004=\"\",\"\",Clients!C62004)","v":""}]
[null,null,null,null,null,null,null,null,null,null,null,null,null,null,null,null,null,null,{"$f":"IF(Clients!B62032=\"\",\"\",Clients!B62032)","v":""},{"$f":"IF(Clients!C62032=\"\",\"\",Clients!C62032)","v":""}]
[null,null,null,null,null,null,null,null,null,null,null,null,null,null,null,null,null,null,{"$f":"IF(Clients!B62064=\"\",\"\",Clients!B62064)","v":""},{"$f":"IF(Clients!C62064=\"\",\"\",Clients!C62064)","v":""}]
[null,null,null,null,null,null,null,null,null,null,null,null,null,null,null,null,null,null,{"$f":"IF(Clients!B62105=\"\",\"\",Clients!B62105)","v":""},{"$f":"IF(Clients!C62105=\"\",\"\",Clients!C62105)","v":""}]
[null,null,null,null,null,null,null,null,null,null,null,null,null,null,null,null,null,null,{"$f":"IF(Clients!B62152=\"\",\"\",Clients!B62152)","v":""},{"$f":"IF(Clients!C62152=\"\",\"\",Clients!C62152)","v":""}]
[null,null,null,null,null,null,null,null,null,null,null,null,null,null,null,null,null,null,{"$f":"IF(Clients!B62184=\"\",\"\",Clients!B62184)","v":""},{"$f":"IF(Clients!C62184=\"\",\"\",Clients!C62184)","v":""}]
[null,null,null,null,null,null,null,null,null,null,null,null,null,null,null,null,null,null,{"$f":"IF(Clients!B62212=\"\",\"\",Clients!B62212)","v":""},{"$f":"IF(Clients!C62212=\"\",\"\",Clients!C62212)","v":""}]
[null,null,null,null,null,null,null,null,null,null,null,null,null,null,null,null,null,null,{"$f":"IF(Clients!B62234=\"\",\"\",Clients!B62234)","v":""},{"$f":"IF(Clients!C62234=\"\",\"\",Clients!C62234)","v":""}]
[null,null,null,null,null,null,null,null,null,null,null,null,null,null,null,null,null,null,{"$f":"IF(Clients!B62273=\"\",\"\",Clients!B62273)","v":""},{"$f":"IF(Clients!C62273=\"\",\"\",Clients!C62273)","v":""}]
[null,null,null,null,null,null,null,null,null,null,null,null,null,null,null,null,null,null,{"$f":"IF(Clients!B62301=\"\",\"\",Clients!B62301)","v":""},{"$f":"IF(Clients!C62301=\"\",\"\",Clients!C62301)","v":""}]
[null,null,null,null,null,null,null,null,null,null,null,null,null,null,null,null,null,null,{"$f":"IF(Clients!B62333=\"\",\"\",Clients!B62333)","v":""},{"$f":"IF(Clients!C62333=\"\",\"\",Clients!C62333)","v":""}]
[null,null,null,null,null,null,null,null,null,null,null,null,null,null,null,null,null,null,{"$f":"IF(Clients!B62363=\"\",\"\",Clients!B62363)","v":""},{"$f":"IF(Clients!C62363=\"\",\"\",Clients!C62363)","v":""}]
[null,null,null,null,null,null,null,null,null,null,null,null,null,null,null,null,null,null,{"$f":"IF(Clients!B62390=\"\",\"\",Clients!B62390)","v":""},{"$f":"IF(Clients!C62390=\"\",\"\",Clients!C62390)","v":""}]
[null,null,null,null,null,null,null,null,null,null,null,null,null,null,null,null,null,null,{"$f":"IF(Clients!B62422=\"\",\"\",Clients!B62422)","v":""},{"$f":"IF(Clients!C62422=\"\",\"\",Clients!C62422)","v":""}]
[null,null,null,null,null,null,null,null,null,null,null,null,null,null,null,null,null,null,{"$f":"IF(Clients!B62450=\"\",\"\",Clients!B62450)","v":""},{"$f":"IF(Clients!C62450=\"\",\"\",Clients!C62450)","v":""}]
[null,null,null,null,null,null,null,null,null,null,null,null,null,null,null,null,null,null,{"$f":"IF(Clients!B62492=\"\",\"\",Clients!B62492)","v":""},{"$f":"IF(Clients!C62492=\"\",\"\",Clients!C62492)","v":""}]
[null,null,null,null,null,null,null,null,null,null,null,null,null,null,null,null,null,null,{"$f":"IF(Clients!B62511=\"\",\"\",Clients!B62511)","v":""},{"$f":"IF(Clients!C62511=\"\",\"\",Clients!C62511)","v":""}]
[null,null,null,null,null,null,null,null,null,null,null,null,null,null,null,null,null,null,{"$f":"IF(Clients!B62539=\"\",\"\",Clients!B62539)","v":""},{"$f":"IF(Clients!C62539=\"\",\"\",Clients!C62539)","v":""}]
[null,null,null,null,null,null,null,null,null,null,null,null,null,null,null,null,null,null,{"$f":"IF(Clients!B62571=\"\",\"\",Clients!B62571)","v":""},{"$f":"IF(Clients!C62571=\"\",\"\",Clients!C62571)","v":""}]
[null,null,null,null,null,null,null,null,null,null,null,null,null,null,null,null,null,null,{"$f":"IF(Clients!B62621=\"\",\"\",Clients!B62621)","v":""},{"$f":"IF(Clients!C62621=\"\",\"\",Clients!C62621)","v":""}]
[null,null,null,null,null,null,null,null,null,null,null,null,null,null,null,null,null,null,{"$f":"IF(Clients!B62632=\"\",\"\",Clients!B62632)","v":""},{"$f":"IF(Clients!C62632=\"\",\"\",Clients!C62632)","v":""}]
[null,null,null,null,null,null,null,null,null,null,null,null,null,null,null,null,null,null,{"$f":"IF(Clients!B62660=\"\",\"\",Clients!B62660)","v":""},{"$f":"IF(Clients!C62660=\"\",\"\",Clients!C62660)","v":""}]
[null,null,null,null,null,null,null,null,null,null,null,null,null,null,null,null,null,null,{"$f":"IF(Clients!B62688=\"\",\"\",Clients!B62688)","v":""},{"$f":"IF(Clients!C62688=\"\",\"\",Clients!C62688)","v":""}]
[null,null,null,null,null,null,null,null,null,null,null,null,null,null,null,null,null,null,{"$f":"IF(Clients!B62718=\"\",\"\",Clients!B62718)","v":""},{"$f":"IF(Clients!C62718=\"\",\"\",Clients!C62718)","v":""}]
[null,null,null,null,null,null,null,null,null,null,null,null,null,null,null,null,null,null,{"$f":"IF(Clients!B62780=\"\",\"\",Clients!B62780)","v":""},{"$f":"IF(Clients!C62780=\"\",\"\",Clients!C62780)","v":""}]
[null,null,null,null,null,null,null,null,null,null,null,null,null,null,null,null,null,null,{"$f":"IF(Clients!B62808=\"\",\"\",Clients!B62808)","v":""},{"$f":"IF(Clients!C62808=\"\",\"\",Clients!C62808)","v":""}]
[null,null,null,null,null,null,null,null,null,null,null,null,null,null,null,null,null,null,{"$f":"IF(Clients!B62840=\"\",\"\",Clients!B62840)","v":""},{"$f":"IF(Clients!C62840=\"\",\"\",Clients!C62840)","v":""}]
[null,null,null,null,null,null,null,null,null,null,null,null,null,null,null,null,null,null,{"$f":"IF(Clients!B62847=\"\",\"\",Clients!B62847)","v":""},{"$f":"IF(Clients!C62847=\"\",\"\",Clients!C62847)","v":""}]
[null,null,null,null,null,null,null,null,null,null,null,null,null,null,null,null,null,null,{"$f":"IF(Clients!B62901=\"\",\"\",Clients!B62901)","v":""},{"$f":"IF(Clients!C62901=\"\",\"\",Clients!C62901)","v":""}]
[null,null,null,null,null,null,null,null,null,null,null,null,null,null,null,null,null,null,{"$f":"IF(Clients!B62929=\"\",\"\",Clients!B62929)","v":""},{"$f":"IF(Clients!C62929=\"\",\"\",Clients!C62929)","v":""}]
[null,null,null,null,null,null,null,null,null,null,null,null,null,null,null,null,null,null,{"$f":"IF(Clients!B62957=\"\",\"\",Clients!B62957)","v":""},{"$f":"IF(Clients!C62957=\"\",\"\",Clients!C62957)","v":""}]
[null,null,null,null,null,null,null,null,null,null,null,null,null,null,null,null,null,null,{"$f":"IF(Clients!B62976=\"\",\"\",Clients!B62976)","v":""},{"$f":"IF(Clients!C62976=\"\",\"\",Clients!C62976)","v":""}]
[null,null,null,null,null,null,null,null,null,null,null,null,null,null,null,null,null,null,{"$f":"IF(Clients!B63018=\"\",\"\",Clients!B63018)","v":""},{"$f":"IF(Clients!C63018=\"\",\"\",Clients!C63018)","v":""}]
[null,null,null,null,null,null,null,null,null,null,null,null,null,null,null,null,null,null,{"$f":"IF(Clients!B63046=\"\",\"\",Clients!B63046)","v":""},{"$f":"IF(Clients!C63046=\"\",\"\",Clients!C63046)","v":""}]
[null,null,null,null,null,null,null,null,null,null,null,null,null,null,null,null,null,null,{"$f":"IF(Clients!B63078=\"\",\"\",Clients!B63078)","v":""},{"$f":"IF(Clients!C63078=\"\",\"\",Clients!C63078)","v":""}]
[null,null,null,null,null,null,null,null,null,null,null,null,null,null,null,null,null,null,{"$f":"IF(Clients!B63105=\"\",\"\",Clients!B63105)","v":""},{"$f":"IF(Clients!C63105=\"\",\"\",Clients!C63105)","v":""}]
[null,null,null,null,null,null,null,null,null,null,null,null,null,null,null,null,null,null,{"$f":"IF(Clients!B63139=\"\",\"\",Clients!B63139)","v":""},{"$f":"IF(Clients!C63139=\"\",\"\",Clients!C63139)","v":""}]
[null,null,null,null,null,null,null,null,null,null,null,null,null,null,null,null,null,null,{"$f":"IF(Clients!B63167=\"\",\"\",Clients!B63167)","v":""},{"$f":"IF(Clients!C63167=\"\",\"\",Clients!C63167)","v":""}]
[null,null,null,null,null,null,null,null,null,null,null,null,null,null,null,null,null,null,{"$f":"IF(Clients!B63195=\"\",\"\",Clients!B63195)","v":""},{"$f":"IF(Clients!C63195=\"\",\"\",Clients!C63195)","v":""}]
[null,null,null,null,null,null,null,null,null,null,null,null,null,null,null,null,null,null,{"$f":"IF(Clients!B63234=\"\",\"\",Clients!B63234)","v":""},{"$f":"IF(Clients!C63234=\"\",\"\",Clients!C63234)","v":""}]
[null,null,null,null,null,null,null,null,null,null,null,null,null,null,null,null,null,null,{"$f":"IF(Clients!B63256=\"\",\"\",Clients!B63256)","v":""},{"$f":"IF(Clients!C63256=\"\",\"\",Clients!C63256)","v":""}]
[null,null,null,null,null,null,null,null,null,null,null,null,null,null,null,null,null,null,{"$f":"IF(Clients!B63288=\"\",\"\",Clients!B63288)","v":""},{"$f":"IF(Clients!C63288=\"\",\"\",Clients!C63288)","v":""}]
[null,null,null,null,null,null,null,null,null,null,null,null,null,null,null,null,null,null,{"$f":"IF(Clients!B63316=\"\",\"\",Clients!B63316)","v":""},{"$f":"IF(Clients!C63316=\"\",\"\",Clients!C63316)","v":""}]
[null,null,null,null,null,null,null,null,null,null,null,null,null,null,null,null,null,null,{"$f":"IF(Clients!B63363=\"\",\"\",Clients!B63363)","v":""},{"$f":"IF(Clients!C63363=\"\",\"\",Clients!C63363)","v":""}]
[null,null,null,null,null,null,null,null,null,null,null,null,null,null,null,null,null,null,{"$f":"IF(Clients!B63377=\"\",\"\",Clients!B63377)","v":""},{"$f":"IF(Clients!C63377=\"\",\"\",Clients!C63377)","v":""}]
[null,null,null,null,null,null,null,null,null,null,null,null,null,null,null,null,null,null,{"$f":"IF(Clients!B63436=\"\",\"\",Clients!B63436)","v":""},{"$f":"IF(Clients!C63436=\"\",\"\",Clients!C63436)","v":""}]
[null,null,null,null,null,null,null,null,null,null,null,null,null,null,null,null,null,null,{"$f":"IF(Clients!B63464=\"\",\"\",Clients!B63464)","v":""},{"$f":"IF(Clients!C63464=\"\",\"\",Clients!C63464)","v":""}]
[null,null,null,null,null,null,null,null,null,null,null,null,null,null,null,null,null,null,{"$f":"IF(Clients!B63492=\"\",\"\",Clients!B63492)","v":""},{"$f":"IF(Clients!C63492=\"\",\"\",Clients!C63492)","v":""}]
[null,null,null,null,null,null,null,null,null,null,null,null,null,null,null,null,null,null,{"$f":"IF(Clients!B63525=\"\",\"\",Clients!B63525)","v":""},{"$f":"IF(Clients!C63525=\"\",\"\",Clients!C63525)","v":""}]
[null,null,null,null,null,null,null,null,null,null,null,null,null,null,null,null,null,null,{"$f":"IF(Clients!B63557=\"\",\"\",Clients!B63557)","v":""},{"$f":"IF(Clients!C63557=\"\",\"\",Clients!C63557)","v":""}]
[null,null,null,null,null,null,null,null,null,null,null,null,null,null,null,null,null,null,{"$f":"IF(Clients!B63585=\"\",\"\",Clients!B63585)","v":""},{"$f":"IF(Clients!C63585=\"\",\"\",Clients!C63585)","v":""}]
[null,null,null,null,null,null,null,null,null,null,null,null,null,null,null,null,null,null,{"$f":"IF(Clients!B63621=\"\",\"\",Clients!B63621)","v":""},{"$f":"IF(Clients!C63621=\"\",\"\",Clients!C63621)","v":""}]
[null,null,null,null,null,null,null,null,null,null,null,null,null,null,null,null,null,null,{"$f":"IF(Clients!B63646=\"\",\"\",Clients!B63646)","v":""},{"$f":"IF(Clients!C63646=\"\",\"\",Clients!C63646)","v":""}]
[null,null,null,null,null,null,null,null,null,null,null,null,null,null,null,null,null,null,{"$f":"IF(Clients!B63674=\"\",\"\",Clients!B63674)","v":""},{"$f":"IF(Clients!C63674=\"\",\"\",Clients!C63674)","v":""}]
[null,null,null,null,null,null,null,null,null,null,null,null,null,null,null,null,null,null,{"$f":"IF(Clients!B63706=\"\",\"\",Clients!B63706)","v":""},{"$f":"IF(Clients!C63706=\"\",\"\",Clients!C63706)","v":""}]
[null,null,null,null,null,null,null,null,null,null,null,null,null,null,null,null,null,null,{"$f":"IF(Clients!B63718=\"\",\"\",Clients!B63718)","v":""},{"$f":"IF(Clients!C63718=\"\",\"\",Clients!C63718)","v":""}]
[null,null,null,null,null,null,null,null,null,null,null,null,null,null,null,null,null,null,{"$f":"IF(Clients!B63763=\"\",\"\",Clients!B63763)","v":""},{"$f":"IF(Clients!C63763=\"\",\"\",Clients!C63763)","v":""}]
[null,null,null,null,null,null,null,null,null,null,null,null,null,null,null,null,null,null,{"$f":"IF(Clients!B63795=\"\",\"\",Clients!B63795)","v":""},{"$f":"IF(Clients!C63795=\"\",\"\",Clients!C63795)","v":""}]
[null,null,null,null,null,null,null,null,null,null,null,null,null,null,null,null,null,null,{"$f":"IF(Clients!B63823=\"\",\"\",Clients!B63823)","v":""},{"$f":"IF(Clients!C63823=\"\",\"\",Clients!C63823)","v":""}]
[null,null,null,null,null,null,null,null,null,null,null,null,null,null,null,null,null,null,{"$f":"IF(Clients!B63847=\"\",\"\",Clients!B63847)","v":""},{"$f":"IF(Clients!C63847=\"\",\"\",Clients!C63847)","v":""}]
[null,null,null,null,null,null,null,null,null,null,null,null,null,null,null,null,null,null,{"$f":"IF(Clients!B63884=\"\",\"\",Clients!B63884)","v":""},{"$f":"IF(Clients!C63884=\"\",\"\",Clients!C63884)","v":""}]
[null,null,null,null,null,null,null,null,null,null,null,null,null,null,null,null,null,null,{"$f":"IF(Clients!B63912=\"\",\"\",Clients!B63912)","v":""},{"$f":"IF(Clients!C63912=\"\",\"\",Clients!C63912)","v":""}]
[null,null,null,null,null,null,null,null,null,null,null,null,null,null,null,null,null,null,{"$f":"IF(Clients!B63944=\"\",\"\",Clients!B63944)","v":""},{"$f":"IF(Clients!C63944=\"\",\"\",Clients!C63944)","v":""}]
[null,null,null,null,null,null,null,null,null,null,null,null,null,null,null,null,null,null,{"$f":"IF(Clients!B63976=\"\",\"\",Clients!B63976)","v":""},{"$f":"IF(Clients!C63976=\"\",\"\",Clients!C63976)","v":""}]
[null,null,null,null,null,null,null,null,null,null,null,null,null,null,null,null,null,null,{"$f":"IF(Clients!B64001=\"\",\"\",Clients!B64001)","v":""},{"$f":"IF(Clients!C64001=\"\",\"\",Clients!C64001)","v":""}]
[null,null,null,null,null,null,null,null,null,null,null,null,null,null,null,null,null,null,{"$f":"IF(Clients!B64033=\"\",\"\",Clients!B64033)","v":""},{"$f":"IF(Clients!C64033=\"\",\"\",Clients!C64033)","v":""}]
[null,null,null,null,null,null,null,null,null,null,null,null,null,null,null,null,null,null,{"$f":"IF(Clients!B64092=\"\",\"\",Clients!B64092)","v":""},{"$f":"IF(Clients!C64092=\"\",\"\",Clients!C64092)","v":""}]
[null,null,null,null,null,null,null,null,null,null,null,null,null,null,null,null,null,null,{"$f":"IF(Clients!B64105=\"\",\"\",Clients!B64105)","v":""},{"$f":"IF(Clients!C64105=\"\",\"\",Clients!C64105)","v":""}]
[null,null,null,null,null,null,null,null,null,null,null,null,null,null,null,null,null,null,{"$f":"IF(Clients!B64153=\"\",\"\",Clients!B64153)","v":""},{"$f":"IF(Clients!C64153=\"\",\"\",Clients!C64153)","v":""}]
[null,null,null,null,null,null,null,null,null,null,null,null,null,null,null,null,null,null,{"$f":"IF(Clients!B64181=\"\",\"\",Clients!B64181)","v":""},{"$f":"IF(Clients!C64181=\"\",\"\",Clients!C64181)","v":""}]
[null,null,null,null,null,null,null,null,null,null,null,null,null,null,null,null,null,null,{"$f":"IF(Clients!B64213=\"\",\"\",Clients!B64213)","v":""},{"$f":"IF(Clients!C64213=\"\",\"\",Clients!C64213)","v":""}]
[null,null,null,null,null,null,null,null,null,null,null,null,null,null,null,null,null,null,{"$f":"IF(Clients!B64234=\"\",\"\",Clients!B64234)","v":""},{"$f":"IF(Clients!C64234=\"\",\"\",Clients!C64234)","v":""}]
[null,null,null,null,null,null,null,null,null,null,null,null,null,null,null,null,null,null,{"$f":"IF(Clients!B64270=\"\",\"\",Clients!B64270)","v":""},{"$f":"IF(Clients!C64270=\"\",\"\",Clients!C64270)","v":""}]
[null,null,null,null,null,null,null,null,null,null,null,null,null,null,null,null,null,null,{"$f":"IF(Clients!B64302=\"\",\"\",Clients!B64302)","v":""},{"$f":"IF(Clients!C64302=\"\",\"\",Clients!C64302)","v":""}]
[null,null,null,null,null,null,null,null,null,null,null,null,null,null,null,null,null,null,{"$f":"IF(Clients!B64330=\"\",\"\",Clients!B64330)","v":""},{"$f":"IF(Clients!C64330=\"\",\"\",Clients!C64330)","v":""}]
[null,null,null,null,null,null,null,null,null,null,null,null,null,null,null,null,null,null,{"$f":"IF(Clients!B64363=\"\",\"\",Clients!B64363)","v":""},{"$f":"IF(Clients!C64363=\"\",\"\",Clients!C64363)","v":""}]
[null,null,null,null,null,null,null,null,null,null,null,null,null,null,null,null,null,null,{"$f":"IF(Clients!B64391=\"\",\"\",Clients!B64391)","v":""},{"$f":"IF(Clients!C64391=\"\",\"\",Clients!C64391)","v":""}]
[null,null,null,null,null,null,null,null,null,null,null,null,null,null,null,null,null,null,{"$f":"IF(Clients!B64419=\"\",\"\",Clients!B64419)","v":""},{"$f":"IF(Clients!C64419=\"\",\"\",Clients!C64419)","v":""}]
[null,null,null,null,null,null,null,null,null,null,null,null,null,null,null,null,null,null,{"$f":"IF(Clients!B64451=\"\",\"\",Clients!B64451)","v":""},{"$f":"IF(Clients!C64451=\"\",\"\",Clients!C64451)","v":""}]
[null,null,null,null,null,null,null,null,null,null,null,null,null,null,null,null,null,null,{"$f":"IF(Clients!B64492=\"\",\"\",Clients!B64492)","v":""},{"$f":"IF(Clients!C64492=\"\",\"\",Clients!C64492)","v":""}]
[null,null,null,null,null,null,null,null,null,null,null,null,null,null,null,null,null,null,{"$f":"IF(Clients!B64500=\"\",\"\",Clients!B64500)","v":""},{"$f":"IF(Clients!C64500=\"\",\"\",Clients!C64500)","v":""}]
[null,null,null,null,null,null,null,null,null,null,null,null,null,null,null,null,null,null,{"$f":"IF(Clients!B64501=\"\",\"\",Clients!B64501)","v":""},{"$f":"IF(Clients!C64501=\"\",\"\",Clients!C64501)","v":""}]
[null,null,null,null,null,null,null,null,null,null,null,null,null,null,null,null,null,null,{"$f":"IF(Clients!B64502=\"\",\"\",Clients!B64502)","v":""},{"$f":"IF(Clients!C64502=\"\",\"\",Clients!C64502)","v":""}]
[null,null,null,null,null,null,null,null,null,null,null,null,null,null,null,null,null,null,{"$f":"IF(Clients!B64503=\"\",\"\",Clients!B64503)","v":""},{"$f":"IF(Clients!C64503=\"\",\"\",Clients!C64503)","v":""}]
[null,null,null,null,null,null,null,null,null,null,null,null,null,null,null,null,null,null,{"$f":"IF(Clients!B64504=\"\",\"\",Clients!B64504)","v":""},{"$f":"IF(Clients!C64504=\"\",\"\",Clients!C64504)","v":""}]
[null,null,null,null,null,null,null,null,null,null,null,null,null,null,null,null,null,null,{"$f":"IF(Clients!B64505=\"\",\"\",Clients!B64505)","v":""},{"$f":"IF(Clients!C64505=\"\",\"\",Clients!C64505)","v":""}]
[null,null,null,null,null,null,null,null,null,null,null,null,null,null,null,null,null,null,{"$f":"IF(Clients!B64506=\"\",\"\",Clients!B64506)","v":""},{"$f":"IF(Clients!C64506=\"\",\"\",Clients!C64506)","v":""}]
[null,null,null,null,null,null,null,null,null,null,null,null,null,null,null,null,null,null,{"$f":"IF(Clients!B64507=\"\",\"\",Clients!B64507)","v":""},{"$f":"IF(Clients!C64507=\"\",\"\",Clients!C64507)","v":""}]
[null,null,null,null,null,null,null,null,null,null,null,null,null,null,null,null,null,null,{"$f":"IF(Clients!B64508=\"\",\"\",Clients!B64508)","v":""},{"$f":"IF(Clients!C64508=\"\",\"\",Clients!C64508)","v":""}]
[null,null,null,null,null,null,null,null,null,null,null,null,null,null,null,null,null,null,{"$f":"IF(Clients!B64509=\"\",\"\",Clients!B64509)","v":""},{"$f":"IF(Clients!C64509=\"\",\"\",Clients!C64509)","v":""}]
[null,null,null,null,null,null,null,null,null,null,null,null,null,null,null,null,null,null,{"$f":"IF(Clients!B64510=\"\",\"\",Clients!B64510)","v":""},{"$f":"IF(Clients!C64510=\"\",\"\",Clients!C64510)","v":""}]
[null,null,null,null,null,null,null,null,null,null,null,null,null,null,null,null,null,null,{"$f":"IF(Clients!B64511=\"\",\"\",Clients!B64511)","v":""},{"$f":"IF(Clients!C64511=\"\",\"\",Clients!C64511)","v":""}]
[null,null,null,null,null,null,null,null,null,null,null,null,null,null,null,null,null,null,{"$f":"IF(Clients!B64512=\"\",\"\",Clients!B64512)","v":""},{"$f":"IF(Clients!C64512=\"\",\"\",Clients!C64512)","v":""}]
[null,null,null,null,null,null,null,null,null,null,null,null,null,null,null,null,null,null,{"$f":"IF(Clients!B64513=\"\",\"\",Clients!B64513)","v":""},{"$f":"IF(Clients!C64513=\"\",\"\",Clients!C64513)","v":""}]
[null,null,null,null,null,null,null,null,null,null,null,null,null,null,null,null,null,null,{"$f":"IF(Clients!B64514=\"\",\"\",Clients!B64514)","v":""},{"$f":"IF(Clients!C64514=\"\",\"\",Clients!C64514)","v":""}]
[null,null,null,null,null,null,null,null,null,null,null,null,null,null,null,null,null,null,{"$f":"IF(Clients!B64515=\"\",\"\",Clients!B64515)","v":""},{"$f":"IF(Clients!C64515=\"\",\"\",Clients!C64515)","v":""}]
[null,null,null,null,null,null,null,null,null,null,null,null,null,null,null,null,null,null,{"$f":"IF(Clients!B64516=\"\",\"\",Clients!B64516)","v":""},{"$f":"IF(Clients!C64516=\"\",\"\",Clients!C64516)","v":""}]
[null,null,null,null,null,null,null,null,null,null,null,null,null,null,null,null,null,null,{"$f":"IF(Clients!B64517=\"\",\"\",Clients!B64517)","v":""},{"$f":"IF(Clients!C64517=\"\",\"\",Clients!C64517)","v":""}]
[null,null,null,null,null,null,null,null,null,null,null,null,null,null,null,null,null,null,{"$f":"IF(Clients!B64518=\"\",\"\",Clients!B64518)","v":""},{"$f":"IF(Clients!C64518=\"\",\"\",Clients!C64518)","v":""}]
[null,null,null,null,null,null,null,null,null,null,null,null,null,null,null,null,null,null,{"$f":"IF(Clients!B64519=\"\",\"\",Clients!B64519)","v":""},{"$f":"IF(Clients!C64519=\"\",\"\",Clients!C64519)","v":""}]
[null,null,null,null,null,null,null,null,null,null,null,null,null,null,null,null,null,null,{"$f":"IF(Clients!B64520=\"\",\"\",Clients!B64520)","v":""},{"$f":"IF(Clients!C64520=\"\",\"\",Clients!C64520)","v":""}]
[null,null,null,null,null,null,null,null,null,null,null,null,null,null,null,null,null,null,{"$f":"IF(Clients!B64521=\"\",\"\",Clients!B64521)","v":""},{"$f":"IF(Clients!C64521=\"\",\"\",Clients!C64521)","v":""}]
[null,null,null,null,null,null,null,null,null,null,null,null,null,null,null,null,null,null,{"$f":"IF(Clients!B64522=\"\",\"\",Clients!B64522)","v":""},{"$f":"IF(Clients!C64522=\"\",\"\",Clients!C64522)","v":""}]
[null,null,null,null,null,null,null,null,null,null,null,null,null,null,null,null,null,null,{"$f":"IF(Clients!B64523=\"\",\"\",Clients!B64523)","v":""},{"$f":"IF(Clients!C64523=\"\",\"\",Clients!C64523)","v":""}]
[null,null,null,null,null,null,null,null,null,null,null,null,null,null,null,null,null,null,{"$f":"IF(Clients!B64524=\"\",\"\",Clients!B64524)","v":""},{"$f":"IF(Clients!C64524=\"\",\"\",Clients!C64524)","v":""}]
[null,null,null,null,null,null,null,null,null,null,null,null,null,null,null,null,null,null,{"$f":"IF(Clients!B64525=\"\",\"\",Clients!B64525)","v":""},{"$f":"IF(Clients!C64525=\"\",\"\",Clients!C64525)","v":""}]
[null,null,null,null,null,null,null,null,null,null,null,null,null,null,null,null,null,null,{"$f":"IF(Clients!B64526=\"\",\"\",Clients!B64526)","v":""},{"$f":"IF(Clients!C64526=\"\",\"\",Clients!C64526)","v":""}]
[null,null,null,null,null,null,null,null,null,null,null,null,null,null,null,null,null,null,{"$f":"IF(Clients!B64527=\"\",\"\",Clients!B64527)","v":""},{"$f":"IF(Clients!C64527=\"\",\"\",Clients!C64527)","v":""}]
[null,null,null,null,null,null,null,null,null,null,null,null,null,null,null,null,null,null,{"$f":"IF(Clients!B64528=\"\",\"\",Clients!B64528)","v":""},{"$f":"IF(Clients!C64528=\"\",\"\",Clients!C64528)","v":""}]
[null,null,null,null,null,null,null,null,null,null,null,null,null,null,null,null,null,null,{"$f":"IF(Clients!B64529=\"\",\"\",Clients!B64529)","v":""},{"$f":"IF(Clients!C64529=\"\",\"\",Clients!C64529)","v":""}]
[null,null,null,null,null,null,null,null,null,null,null,null,null,null,null,null,null,null,{"$f":"IF(Clients!B64530=\"\",\"\",Clients!B64530)","v":""},{"$f":"IF(Clients!C64530=\"\",\"\",Clients!C64530)","v":""}]
[null,null,null,null,null,null,null,null,null,null,null,null,null,null,null,null,null,null,{"$f":"IF(Clients!B64531=\"\",\"\",Clients!B64531)","v":""},{"$f":"IF(Clients!C64531=\"\",\"\",Clients!C64531)","v":""}]
[null,null,null,null,null,null,null,null,null,null,null,null,null,null,null,null,null,null,{"$f":"IF(Clients!B64532=\"\",\"\",Clients!B64532)","v":""},{"$f":"IF(Clients!C64532=\"\",\"\",Clients!C64532)","v":""}]
[null,null,null,null,null,null,null,null,null,null,null,null,null,null,null,null,null,null,{"$f":"IF(Clients!B64533=\"\",\"\",Clients!B64533)","v":""},{"$f":"IF(Clients!C64533=\"\",\"\",Clients!C64533)","v":""}]
[null,null,null,null,null,null,null,null,null,null,null,null,null,null,null,null,null,null,{"$f":"IF(Clients!B64534=\"\",\"\",Clients!B64534)","v":""},{"$f":"IF(Clients!C64534=\"\",\"\",Clients!C64534)","v":""}]
[null,null,null,null,null,null,null,null,null,null,null,null,null,null,null,null,null,null,{"$f":"IF(Clients!B64535=\"\",\"\",Clients!B64535)","v":""},{"$f":"IF(Clients!C64535=\"\",\"\",Clients!C64535)","v":""}]
[null,null,null,null,null,null,null,null,null,null,null,null,null,null,null,null,null,null,{"$f":"IF(Clients!B64536=\"\",\"\",Clients!B64536)","v":""},{"$f":"IF(Clients!C64536=\"\",\"\",Clients!C64536)","v":""}]
[null,null,null,null,null,null,null,null,null,null,null,null,null,null,null,null,null,null,{"$f":"IF(Clients!B64537=\"\",\"\",Clients!B64537)","v":""},{"$f":"IF(Clients!C64537=\"\",\"\",Clients!C64537)","v":""}]
[null,null,null,null,null,null,null,null,null,null,null,null,null,null,null,null,null,null,{"$f":"IF(Clients!B64538=\"\",\"\",Clients!B64538)","v":""},{"$f":"IF(Clients!C64538=\"\",\"\",Clients!C64538)","v":""}]
[null,null,null,null,null,null,null,null,null,null,null,null,null,null,null,null,null,null,{"$f":"IF(Clients!B64539=\"\",\"\",Clients!B64539)","v":""},{"$f":"IF(Clients!C64539=\"\",\"\",Clients!C64539)","v":""}]
[null,null,null,null,null,null,null,null,null,null,null,null,null,null,null,null,null,null,{"$f":"IF(Clients!B64540=\"\",\"\",Clients!B64540)","v":""},{"$f":"IF(Clients!C64540=\"\",\"\",Clients!C64540)","v":""}]
[null,null,null,null,null,null,null,null,null,null,null,null,null,null,null,null,null,null,{"$f":"IF(Clients!B64541=\"\",\"\",Clients!B64541)","v":""},{"$f":"IF(Clients!C64541=\"\",\"\",Clients!C64541)","v":""}]
[null,null,null,null,null,null,null,null,null,null,null,null,null,null,null,null,null,null,{"$f":"IF(Clients!B64542=\"\",\"\",Clients!B64542)","v":""},{"$f":"IF(Clients!C64542=\"\",\"\",Clients!C64542)","v":""}]
[null,null,null,null,null,null,null,null,null,null,null,null,null,null,null,null,null,null,{"$f":"IF(Clients!B64543=\"\",\"\",Clients!B64543)","v":""},{"$f":"IF(Clients!C64543=\"\",\"\",Clients!C64543)","v":""}]
[null,null,null,null,null,null,null,null,null,null,null,null,null,null,null,null,null,null,{"$f":"IF(Clients!B64544=\"\",\"\",Clients!B64544)","v":""},{"$f":"IF(Clients!C64544=\"\",\"\",Clients!C64544)","v":""}]
[null,null,null,null,null,null,null,null,null,null,null,null,null,null,null,null,null,null,{"$f":"IF(Clients!B64545=\"\",\"\",Clients!B64545)","v":""},{"$f":"IF(Clients!C64545=\"\",\"\",Clients!C64545)","v":""}]
[null,null,null,null,null,null,null,null,null,null,null,null,null,null,null,null,null,null,{"$f":"IF(Clients!B64546=\"\",\"\",Clients!B64546)","v":""},{"$f":"IF(Clients!C64546=\"\",\"\",Clients!C64546)","v":""}]
[null,null,null,null,null,null,null,null,null,null,null,null,null,null,null,null,null,null,{"$f":"IF(Clients!B64547=\"\",\"\",Clients!B64547)","v":""},{"$f":"IF(Clients!C64547=\"\",\"\",Clients!C64547)","v":""}]
[null,null,null,null,null,null,null,null,null,null,null,null,null,null,null,null,null,null,{"$f":"IF(Clients!B64548=\"\",\"\",Clients!B64548)","v":""},{"$f":"IF(Clients!C64548=\"\",\"\",Clients!C64548)","v":""}]
[null,null,null,null,null,null,null,null,null,null,null,null,null,null,null,null,null,null,{"$f":"IF(Clients!B64549=\"\",\"\",Clients!B64549)","v":""},{"$f":"IF(Clients!C64549=\"\",\"\",Clients!C64549)","v":""}]
[null,null,null,null,null,null,null,null,null,null,null,null,null,null,null,null,null,null,{"$f":"IF(Clients!B64550=\"\",\"\",Clients!B64550)","v":""},{"$f":"IF(Clients!C64550=\"\",\"\",Clients!C64550)","v":""}]
[null,null,null,null,null,null,null,null,null,null,null,null,null,null,null,null,null,null,{"$f":"IF(Clients!B64551=\"\",\"\",Clients!B64551)","v":""},{"$f":"IF(Clients!C64551=\"\",\"\",Clients!C64551)","v":""}]
[null,null,null,null,null,null,null,null,null,null,null,null,null,null,null,null,null,null,{"$f":"IF(Clients!B64552=\"\",\"\",Clients!B64552)","v":""},{"$f":"IF(Clients!C64552=\"\",\"\",Clients!C64552)","v":""}]
[null,null,null,null,null,null,null,null,null,null,null,null,null,null,null,null,null,null,{"$f":"IF(Clients!B64553=\"\",\"\",Clients!B64553)","v":""},{"$f":"IF(Clients!C64553=\"\",\"\",Clients!C64553)","v":""}]
[null,null,null,null,null,null,null,null,null,null,null,null,null,null,null,null,null,null,{"$f":"IF(Clients!B64554=\"\",\"\",Clients!B64554)","v":""},{"$f":"IF(Clients!C64554=\"\",\"\",Clients!C64554)","v":""}]
[null,null,null,null,null,null,null,null,null,null,null,null,null,null,null,null,null,null,{"$f":"IF(Clients!B64555=\"\",\"\",Clients!B64555)","v":""},{"$f":"IF(Clients!C64555=\"\",\"\",Clients!C64555)","v":""}]
[null,null,null,null,null,null,null,null,null,null,null,null,null,null,null,null,null,null,{"$f":"IF(Clients!B64556=\"\",\"\",Clients!B64556)","v":""},{"$f":"IF(Clients!C64556=\"\",\"\",Clients!C64556)","v":""}]
[null,null,null,null,null,null,null,null,null,null,null,null,null,null,null,null,null,null,{"$f":"IF(Clients!B64557=\"\",\"\",Clients!B64557)","v":""},{"$f":"IF(Clients!C64557=\"\",\"\",Clients!C64557)","v":""}]
[null,null,null,null,null,null,null,null,null,null,null,null,null,null,null,null,null,null,{"$f":"IF(Clients!B64558=\"\",\"\",Clients!B64558)","v":""},{"$f":"IF(Clients!C64558=\"\",\"\",Clients!C64558)","v":""}]
[null,null,null,null,null,null,null,null,null,null,null,null,null,null,null,null,null,null,{"$f":"IF(Clients!B64559=\"\",\"\",Clients!B64559)","v":""},{"$f":"IF(Clients!C64559=\"\",\"\",Clients!C64559)","v":""}]
[null,null,null,null,null,null,null,null,null,null,null,null,null,null,null,null,null,null,{"$f":"IF(Clients!B64560=\"\",\"\",Clients!B64560)","v":""},{"$f":"IF(Clients!C64560=\"\",\"\",Clients!C64560)","v":""}]
[null,null,null,null,null,null,null,null,null,null,null,null,null,null,null,null,null,null,{"$f":"IF(Clients!B64561=\"\",\"\",Clients!B64561)","v":""},{"$f":"IF(Clients!C64561=\"\",\"\",Clients!C64561)","v":""}]
[null,null,null,null,null,null,null,null,null,null,null,null,null,null,null,null,null,null,{"$f":"IF(Clients!B64562=\"\",\"\",Clients!B64562)","v":""},{"$f":"IF(Clients!C64562=\"\",\"\",Clients!C64562)","v":""}]
[null,null,null,null,null,null,null,null,null,null,null,null,null,null,null,null,null,null,{"$f":"IF(Clients!B64563=\"\",\"\",Clients!B64563)","v":""},{"$f":"IF(Clients!C64563=\"\",\"\",Clients!C64563)","v":""}]
[null,null,null,null,null,null,null,null,null,null,null,null,null,null,null,null,null,null,{"$f":"IF(Clients!B64564=\"\",\"\",Clients!B64564)","v":""},{"$f":"IF(Clients!C64564=\"\",\"\",Clients!C64564)","v":""}]
[null,null,null,null,null,null,null,null,null,null,null,null,null,null,null,null,null,null,{"$f":"IF(Clients!B64565=\"\",\"\",Clients!B64565)","v":""},{"$f":"IF(Clients!C64565=\"\",\"\",Clients!C64565)","v":""}]
[null,null,null,null,null,null,null,null,null,null,null,null,null,null,null,null,null,null,{"$f":"IF(Clients!B64566=\"\",\"\",Clients!B64566)","v":""},{"$f":"IF(Clients!C64566=\"\",\"\",Clients!C64566)","v":""}]
[null,null,null,null,null,null,null,null,null,null,null,null,null,null,null,null,null,null,{"$f":"IF(Clients!B64567=\"\",\"\",Clients!B64567)","v":""},{"$f":"IF(Clients!C64567=\"\",\"\",Clients!C64567)","v":""}]
[null,null,null,null,null,null,null,null,null,null,null,null,null,null,null,null,null,null,{"$f":"IF(Clients!B64568=\"\",\"\",Clients!B64568)","v":""},{"$f":"IF(Clients!C64568=\"\",\"\",Clients!C64568)","v":""}]
[null,null,null,null,null,null,null,null,null,null,null,null,null,null,null,null,null,null,{"$f":"IF(Clients!B64569=\"\",\"\",Clients!B64569)","v":""},{"$f":"IF(Clients!C64569=\"\",\"\",Clients!C64569)","v":""}]
[null,null,null,null,null,null,null,null,null,null,null,null,null,null,null,null,null,null,{"$f":"IF(Clients!B64570=\"\",\"\",Clients!B64570)","v":""},{"$f":"IF(Clients!C64570=\"\",\"\",Clients!C64570)","v":""}]
[null,null,null,null,null,null,null,null,null,null,null,null,null,null,null,null,null,null,{"$f":"IF(Clients!B64571=\"\",\"\",Clients!B64571)","v":""},{"$f":"IF(Clients!C64571=\"\",\"\",Clients!C64571)","v":""}]
[null,null,null,null,null,null,null,null,null,null,null,null,null,null,null,null,null,null,{"$f":"IF(Clients!B64572=\"\",\"\",Clients!B64572)","v":""},{"$f":"IF(Clients!C64572=\"\",\"\",Clients!C64572)","v":""}]
[null,null,null,null,null,null,null,null,null,null,null,null,null,null,null,null,null,null,{"$f":"IF(Clients!B64573=\"\",\"\",Clients!B64573)","v":""},{"$f":"IF(Clients!C64573=\"\",\"\",Clients!C64573)","v":""}]
[null,null,null,null,null,null,null,null,null,null,null,null,null,null,null,null,null,null,{"$f":"IF(Clients!B64574=\"\",\"\",Clients!B64574)","v":""},{"$f":"IF(Clients!C64574=\"\",\"\",Clients!C64574)","v":""}]
[null,null,null,null,null,null,null,null,null,null,null,null,null,null,null,null,null,null,{"$f":"IF(Clients!B64575=\"\",\"\",Clients!B64575)","v":""},{"$f":"IF(Clients!C64575=\"\",\"\",Clients!C64575)","v":""}]
[null,null,null,null,null,null,null,null,null,null,null,null,null,null,null,null,null,null,{"$f":"IF(Clients!B64576=\"\",\"\",Clients!B64576)","v":""},{"$f":"IF(Clients!C64576=\"\",\"\",Clients!C64576)","v":""}]
[null,null,null,null,null,null,null,null,null,null,null,null,null,null,null,null,null,null,{"$f":"IF(Clients!B64577=\"\",\"\",Clients!B64577)","v":""},{"$f":"IF(Clients!C64577=\"\",\"\",Clients!C64577)","v":""}]
[null,null,null,null,null,null,null,null,null,null,null,null,null,null,null,null,null,null,{"$f":"IF(Clients!B64578=\"\",\"\",Clients!B64578)","v":""},{"$f":"IF(Clients!C64578=\"\",\"\",Clients!C64578)","v":""}]
[null,null,null,null,null,null,null,null,null,null,null,null,null,null,null,null,null,null,{"$f":"IF(Clients!B64579=\"\",\"\",Clients!B64579)","v":""},{"$f":"IF(Clients!C64579=\"\",\"\",Clients!C64579)","v":""}]
[null,null,null,null,null,null,null,null,null,null,null,null,null,null,null,null,null,null,{"$f":"IF(Clients!B64580=\"\",\"\",Clients!B64580)","v":""},{"$f":"IF(Clients!C64580=\"\",\"\",Clients!C64580)","v":""}]
[null,null,null,null,null,null,null,null,null,null,null,null,null,null,null,null,null,null,{"$f":"IF(Clients!B64581=\"\",\"\",Clients!B64581)","v":""},{"$f":"IF(Clients!C64581=\"\",\"\",Clients!C64581)","v":""}]
[null,null,null,null,null,null,null,null,null,null,null,null,null,null,null,null,null,null,{"$f":"IF(Clients!B64582=\"\",\"\",Clients!B64582)","v":""},{"$f":"IF(Clients!C64582=\"\",\"\",Clients!C64582)","v":""}]
[null,null,null,null,null,null,null,null,null,null,null,null,null,null,null,null,null,null,{"$f":"IF(Clients!B64583=\"\",\"\",Clients!B64583)","v":""},{"$f":"IF(Clients!C64583=\"\",\"\",Clients!C64583)","v":""}]
[null,null,null,null,null,null,null,null,null,null,null,null,null,null,null,null,null,null,{"$f":"IF(Clients!B64584=\"\",\"\",Clients!B64584)","v":""},{"$f":"IF(Clients!C64584=\"\",\"\",Clients!C64584)","v":""}]
[null,null,null,null,null,null,null,null,null,null,null,null,null,null,null,null,null,null,{"$f":"IF(Clients!B64585=\"\",\"\",Clients!B64585)","v":""},{"$f":"IF(Clients!C64585=\"\",\"\",Clients!C64585)","v":""}]
[null,null,null,null,null,null,null,null,null,null,null,null,null,null,null,null,null,null,{"$f":"IF(Clients!B64586=\"\",\"\",Clients!B64586)","v":""},{"$f":"IF(Clients!C64586=\"\",\"\",Clients!C64586)","v":""}]
[null,null,null,null,null,null,null,null,null,null,null,null,null,null,null,null,null,null,{"$f":"IF(Clients!B64587=\"\",\"\",Clients!B64587)","v":""},{"$f":"IF(Clients!C64587=\"\",\"\",Clients!C64587)","v":""}]
[null,null,null,null,null,null,null,null,null,null,null,null,null,null,null,null,null,null,{"$f":"IF(Clients!B64588=\"\",\"\",Clients!B64588)","v":""},{"$f":"IF(Clients!C64588=\"\",\"\",Clients!C64588)","v":""}]
[null,null,null,null,null,null,null,null,null,null,null,null,null,null,null,null,null,null,{"$f":"IF(Clients!B64589=\"\",\"\",Clients!B64589)","v":""},{"$f":"IF(Clients!C64589=\"\",\"\",Clients!C64589)","v":""}]
[null,null,null,null,null,null,null,null,null,null,null,null,null,null,null,null,null,null,{"$f":"IF(Clients!B64590=\"\",\"\",Clients!B64590)","v":""},{"$f":"IF(Clients!C64590=\"\",\"\",Clients!C64590)","v":""}]
[null,null,null,null,null,null,null,null,null,null,null,null,null,null,null,null,null,null,{"$f":"IF(Clients!B64591=\"\",\"\",Clients!B64591)","v":""},{"$f":"IF(Clients!C64591=\"\",\"\",Clients!C64591)","v":""}]
[null,null,null,null,null,null,null,null,null,null,null,null,null,null,null,null,null,null,{"$f":"IF(Clients!B64592=\"\",\"\",Clients!B64592)","v":""},{"$f":"IF(Clients!C64592=\"\",\"\",Clients!C64592)","v":""}]
[null,null,null,null,null,null,null,null,null,null,null,null,null,null,null,null,null,null,{"$f":"IF(Clients!B64593=\"\",\"\",Clients!B64593)","v":""},{"$f":"IF(Clients!C64593=\"\",\"\",Clients!C64593)","v":""}]
[null,null,null,null,null,null,null,null,null,null,null,null,null,null,null,null,null,null,{"$f":"IF(Clients!B64594=\"\",\"\",Clients!B64594)","v":""},{"$f":"IF(Clients!C64594=\"\",\"\",Clients!C64594)","v":""}]
[null,null,null,null,null,null,null,null,null,null,null,null,null,null,null,null,null,null,{"$f":"IF(Clients!B64595=\"\",\"\",Clients!B64595)","v":""},{"$f":"IF(Clients!C64595=\"\",\"\",Clients!C64595)","v":""}]
[null,null,null,null,null,null,null,null,null,null,null,null,null,null,null,null,null,null,{"$f":"IF(Clients!B64596=\"\",\"\",Clients!B64596)","v":""},{"$f":"IF(Clients!C64596=\"\",\"\",Clients!C64596)","v":""}]
[null,null,null,null,null,null,null,null,null,null,null,null,null,null,null,null,null,null,{"$f":"IF(Clients!B64597=\"\",\"\",Clients!B64597)","v":""},{"$f":"IF(Clients!C64597=\"\",\"\",Clients!C64597)","v":""}]
[null,null,null,null,null,null,null,null,null,null,null,null,null,null,null,null,null,null,{"$f":"IF(Clients!B64598=\"\",\"\",Clients!B64598)","v":""},{"$f":"IF(Clients!C64598=\"\",\"\",Clients!C64598)","v":""}]
[null,null,null,null,null,null,null,null,null,null,null,null,null,null,null,null,null,null,{"$f":"IF(Clients!B64599=\"\",\"\",Clients!B64599)","v":""},{"$f":"IF(Clients!C64599=\"\",\"\",Clients!C64599)","v":""}]
[null,null,null,null,null,null,null,null,null,null,null,null,null,null,null,null,null,null,{"$f":"IF(Clients!B64600=\"\",\"\",Clients!B64600)","v":""},{"$f":"IF(Clients!C64600=\"\",\"\",Clients!C64600)","v":""}]
[null,null,null,null,null,null,null,null,null,null,null,null,null,null,null,null,null,null,{"$f":"IF(Clients!B64601=\"\",\"\",Clients!B64601)","v":""},{"$f":"IF(Clients!C64601=\"\",\"\",Clients!C64601)","v":""}]
[null,null,null,null,null,null,null,null,null,null,null,null,null,null,null,null,null,null,{"$f":"IF(Clients!B64602=\"\",\"\",Clients!B64602)","v":""},{"$f":"IF(Clients!C64602=\"\",\"\",Clients!C64602)","v":""}]
[null,null,null,null,null,null,null,null,null,null,null,null,null,null,null,null,null,null,{"$f":"IF(Clients!B64603=\"\",\"\",Clients!B64603)","v":""},{"$f":"IF(Clients!C64603=\"\",\"\",Clients!C64603)","v":""}]
[null,null,null,null,null,null,null,null,null,null,null,null,null,null,null,null,null,null,{"$f":"IF(Clients!B64604=\"\",\"\",Clients!B64604)","v":""},{"$f":"IF(Clients!C64604=\"\",\"\",Clients!C64604)","v":""}]
[null,null,null,null,null,null,null,null,null,null,null,null,null,null,null,null,null,null,{"$f":"IF(Clients!B64605=\"\",\"\",Clients!B64605)","v":""},{"$f":"IF(Clients!C64605=\"\",\"\",Clients!C64605)","v":""}]
[null,null,null,null,null,null,null,null,null,null,null,null,null,null,null,null,null,null,{"$f":"IF(Clients!B64606=\"\",\"\",Clients!B64606)","v":""},{"$f":"IF(Clients!C64606=\"\",\"\",Clients!C64606)","v":""}]
[null,null,null,null,null,null,null,null,null,null,null,null,null,null,null,null,null,null,{"$f":"IF(Clients!B64607=\"\",\"\",Clients!B64607)","v":""},{"$f":"IF(Clients!C64607=\"\",\"\",Clients!C64607)","v":""}]
[null,null,null,null,null,null,null,null,null,null,null,null,null,null,null,null,null,null,{"$f":"IF(Clients!B64608=\"\",\"\",Clients!B64608)","v":""},{"$f":"IF(Clients!C64608=\"\",\"\",Clients!C64608)","v":""}]
[null,null,null,null,null,null,null,null,null,null,null,null,null,null,null,null,null,null,{"$f":"IF(Clients!B64609=\"\",\"\",Clients!B64609)","v":""},{"$f":"IF(Clients!C64609=\"\",\"\",Clients!C64609)","v":""}]
[null,null,null,null,null,null,null,null,null,null,null,null,null,null,null,null,null,null,{"$f":"IF(Clients!B64610=\"\",\"\",Clients!B64610)","v":""},{"$f":"IF(Clients!C64610=\"\",\"\",Clients!C64610)","v":""}]
[null,null,null,null,null,null,null,null,null,null,null,null,null,null,null,null,null,null,{"$f":"IF(Clients!B64611=\"\",\"\",Clients!B64611)","v":""},{"$f":"IF(Clients!C64611=\"\",\"\",Clients!C64611)","v":""}]
[null,null,null,null,null,null,null,null,null,null,null,null,null,null,null,null,null,null,{"$f":"IF(Clients!B64612=\"\",\"\",Clients!B64612)","v":""},{"$f":"IF(Clients!C64612=\"\",\"\",Clients!C64612)","v":""}]
[null,null,null,null,null,null,null,null,null,null,null,null,null,null,null,null,null,null,{"$f":"IF(Clients!B64613=\"\",\"\",Clients!B64613)","v":""},{"$f":"IF(Clients!C64613=\"\",\"\",Clients!C64613)","v":""}]
[null,null,null,null,null,null,null,null,null,null,null,null,null,null,null,null,null,null,{"$f":"IF(Clients!B64614=\"\",\"\",Clients!B64614)","v":""},{"$f":"IF(Clients!C64614=\"\",\"\",Clients!C64614)","v":""}]
[null,null,null,null,null,null,null,null,null,null,null,null,null,null,null,null,null,null,{"$f":"IF(Clients!B64615=\"\",\"\",Clients!B64615)","v":""},{"$f":"IF(Clients!C64615=\"\",\"\",Clients!C64615)","v":""}]
[null,null,null,null,null,null,null,null,null,null,null,null,null,null,null,null,null,null,{"$f":"IF(Clients!B64616=\"\",\"\",Clients!B64616)","v":""},{"$f":"IF(Clients!C64616=\"\",\"\",Clients!C64616)","v":""}]
[null,null,null,null,null,null,null,null,null,null,null,null,null,null,null,null,null,null,{"$f":"IF(Clients!B64617=\"\",\"\",Clients!B64617)","v":""},{"$f":"IF(Clients!C64617=\"\",\"\",Clients!C64617)","v":""}]
[null,null,null,null,null,null,null,null,null,null,null,null,null,null,null,null,null,null,{"$f":"IF(Clients!B64618=\"\",\"\",Clients!B64618)","v":""},{"$f":"IF(Clients!C64618=\"\",\"\",Clients!C64618)","v":""}]
[null,null,null,null,null,null,null,null,null,null,null,null,null,null,null,null,null,null,{"$f":"IF(Clients!B64619=\"\",\"\",Clients!B64619)","v":""},{"$f":"IF(Clients!C64619=\"\",\"\",Clients!C64619)","v":""}]
[null,null,null,null,null,null,null,null,null,null,null,null,null,null,null,null,null,null,{"$f":"IF(Clients!B64620=\"\",\"\",Clients!B64620)","v":""},{"$f":"IF(Clients!C64620=\"\",\"\",Clients!C64620)","v":""}]
[null,null,null,null,null,null,null,null,null,null,null,null,null,null,null,null,null,null,{"$f":"IF(Clients!B64621=\"\",\"\",Clients!B64621)","v":""},{"$f":"IF(Clients!C64621=\"\",\"\",Clients!C64621)","v":""}]
[null,null,null,null,null,null,null,null,null,null,null,null,null,null,null,null,null,null,{"$f":"IF(Clients!B64622=\"\",\"\",Clients!B64622)","v":""},{"$f":"IF(Clients!C64622=\"\",\"\",Clients!C64622)","v":""}]
[null,null,null,null,null,null,null,null,null,null,null,null,null,null,null,null,null,null,{"$f":"IF(Clients!B64623=\"\",\"\",Clients!B64623)","v":""},{"$f":"IF(Clients!C64623=\"\",\"\",Clients!C64623)","v":""}]
[null,null,null,null,null,null,null,null,null,null,null,null,null,null,null,null,null,null,{"$f":"IF(Clients!B64624=\"\",\"\",Clients!B64624)","v":""},{"$f":"IF(Clients!C64624=\"\",\"\",Clients!C64624)","v":""}]
[null,null,null,null,null,null,null,null,null,null,null,null,null,null,null,null,null,null,{"$f":"IF(Clients!B64625=\"\",\"\",Clients!B64625)","v":""},{"$f":"IF(Clients!C64625=\"\",\"\",Clients!C64625)","v":""}]
[null,null,null,null,null,null,null,null,null,null,null,null,null,null,null,null,null,null,{"$f":"IF(Clients!B64626=\"\",\"\",Clients!B64626)","v":""},{"$f":"IF(Clients!C64626=\"\",\"\",Clients!C64626)","v":""}]
[null,null,null,null,null,null,null,null,null,null,null,null,null,null,null,null,null,null,{"$f":"IF(Clients!B64627=\"\",\"\",Clients!B64627)","v":""},{"$f":"IF(Clients!C64627=\"\",\"\",Clients!C64627)","v":""}]
[null,null,null,null,null,null,null,null,null,null,null,null,null,null,null,null,null,null,{"$f":"IF(Clients!B64628=\"\",\"\",Clients!B64628)","v":""},{"$f":"IF(Clients!C64628=\"\",\"\",Clients!C64628)","v":""}]
[null,null,null,null,null,null,null,null,null,null,null,null,null,null,null,null,null,null,{"$f":"IF(Clients!B64629=\"\",\"\",Clients!B64629)","v":""},{"$f":"IF(Clients!C64629=\"\",\"\",Clients!C64629)","v":""}]
[null,null,null,null,null,null,null,null,null,null,null,null,null,null,null,null,null,null,{"$f":"IF(Clients!B64630=\"\",\"\",Clients!B64630)","v":""},{"$f":"IF(Clients!C64630=\"\",\"\",Clients!C64630)","v":""}]
[null,null,null,null,null,null,null,null,null,null,null,null,null,null,null,null,null,null,{"$f":"IF(Clients!B64631=\"\",\"\",Clients!B64631)","v":""},{"$f":"IF(Clients!C64631=\"\",\"\",Clients!C64631)","v":""}]
[null,null,null,null,null,null,null,null,null,null,null,null,null,null,null,null,null,null,{"$f":"IF(Clients!B64632=\"\",\"\",Clients!B64632)","v":""},{"$f":"IF(Clients!C64632=\"\",\"\",Clients!C64632)","v":""}]
[null,null,null,null,null,null,null,null,null,null,null,null,null,null,null,null,null,null,{"$f":"IF(Clients!B64633=\"\",\"\",Clients!B64633)","v":""},{"$f":"IF(Clients!C64633=\"\",\"\",Clients!C64633)","v":""}]
[null,null,null,null,null,null,null,null,null,null,null,null,null,null,null,null,null,null,{"$f":"IF(Clients!B64634=\"\",\"\",Clients!B64634)","v":""},{"$f":"IF(Clients!C64634=\"\",\"\",Clients!C64634)","v":""}]
[null,null,null,null,null,null,null,null,null,null,null,null,null,null,null,null,null,null,{"$f":"IF(Clients!B64635=\"\",\"\",Clients!B64635)","v":""},{"$f":"IF(Clients!C64635=\"\",\"\",Clients!C64635)","v":""}]
[null,null,null,null,null,null,null,null,null,null,null,null,null,null,null,null,null,null,{"$f":"IF(Clients!B64636=\"\",\"\",Clients!B64636)","v":""},{"$f":"IF(Clients!C64636=\"\",\"\",Clients!C64636)","v":""}]
[null,null,null,null,null,null,null,null,null,null,null,null,null,null,null,null,null,null,{"$f":"IF(Clients!B64637=\"\",\"\",Clients!B64637)","v":""},{"$f":"IF(Clients!C64637=\"\",\"\",Clients!C64637)","v":""}]
[null,null,null,null,null,null,null,null,null,null,null,null,null,null,null,null,null,null,{"$f":"IF(Clients!B64638=\"\",\"\",Clients!B64638)","v":""},{"$f":"IF(Clients!C64638=\"\",\"\",Clients!C64638)","v":""}]
[null,null,null,null,null,null,null,null,null,null,null,null,null,null,null,null,null,null,{"$f":"IF(Clients!B64639=\"\",\"\",Clients!B64639)","v":""},{"$f":"IF(Clients!C64639=\"\",\"\",Clients!C64639)","v":""}]
[null,null,null,null,null,null,null,null,null,null,null,null,null,null,null,null,null,null,{"$f":"IF(Clients!B64640=\"\",\"\",Clients!B64640)","v":""},{"$f":"IF(Clients!C64640=\"\",\"\",Clients!C64640)","v":""}]
[null,null,null,null,null,null,null,null,null,null,null,null,null,null,null,null,null,null,{"$f":"IF(Clients!B64641=\"\",\"\",Clients!B64641)","v":""},{"$f":"IF(Clients!C64641=\"\",\"\",Clients!C64641)","v":""}]
[null,null,null,null,null,null,null,null,null,null,null,null,null,null,null,null,null,null,{"$f":"IF(Clients!B64642=\"\",\"\",Clients!B64642)","v":""},{"$f":"IF(Clients!C64642=\"\",\"\",Clients!C64642)","v":""}]
[null,null,null,null,null,null,null,null,null,null,null,null,null,null,null,null,null,null,{"$f":"IF(Clients!B64643=\"\",\"\",Clients!B64643)","v":""},{"$f":"IF(Clients!C64643=\"\",\"\",Clients!C64643)","v":""}]
[null,null,null,null,null,null,null,null,null,null,null,null,null,null,null,null,null,null,{"$f":"IF(Clients!B64644=\"\",\"\",Clients!B64644)","v":""},{"$f":"IF(Clients!C64644=\"\",\"\",Clients!C64644)","v":""}]
[null,null,null,null,null,null,null,null,null,null,null,null,null,null,null,null,null,null,{"$f":"IF(Clients!B64645=\"\",\"\",Clients!B64645)","v":""},{"$f":"IF(Clients!C64645=\"\",\"\",Clients!C64645)","v":""}]
[null,null,null,null,null,null,null,null,null,null,null,null,null,null,null,null,null,null,{"$f":"IF(Clients!B64646=\"\",\"\",Clients!B64646)","v":""},{"$f":"IF(Clients!C64646=\"\",\"\",Clients!C64646)","v":""}]
[null,null,null,null,null,null,null,null,null,null,null,null,null,null,null,null,null,null,{"$f":"IF(Clients!B64647=\"\",\"\",Clients!B64647)","v":""},{"$f":"IF(Clients!C64647=\"\",\"\",Clients!C64647)","v":""}]
[null,null,null,null,null,null,null,null,null,null,null,null,null,null,null,null,null,null,{"$f":"IF(Clients!B64648=\"\",\"\",Clients!B64648)","v":""},{"$f":"IF(Clients!C64648=\"\",\"\",Clients!C64648)","v":""}]
[null,null,null,null,null,null,null,null,null,null,null,null,null,null,null,null,null,null,{"$f":"IF(Clients!B64649=\"\",\"\",Clients!B64649)","v":""},{"$f":"IF(Clients!C64649=\"\",\"\",Clients!C64649)","v":""}]
[null,null,null,null,null,null,null,null,null,null,null,null,null,null,null,null,null,null,{"$f":"IF(Clients!B64650=\"\",\"\",Clients!B64650)","v":""},{"$f":"IF(Clients!C64650=\"\",\"\",Clients!C64650)","v":""}]
[null,null,null,null,null,null,null,null,null,null,null,null,null,null,null,null,null,null,{"$f":"IF(Clients!B64651=\"\",\"\",Clients!B64651)","v":""},{"$f":"IF(Clients!C64651=\"\",\"\",Clients!C64651)","v":""}]
[null,null,null,null,null,null,null,null,null,null,null,null,null,null,null,null,null,null,{"$f":"IF(Clients!B64652=\"\",\"\",Clients!B64652)","v":""},{"$f":"IF(Clients!C64652=\"\",\"\",Clients!C64652)","v":""}]
[null,null,null,null,null,null,null,null,null,null,null,null,null,null,null,null,null,null,{"$f":"IF(Clients!B64653=\"\",\"\",Clients!B64653)","v":""},{"$f":"IF(Clients!C64653=\"\",\"\",Clients!C64653)","v":""}]
[null,null,null,null,null,null,null,null,null,null,null,null,null,null,null,null,null,null,{"$f":"IF(Clients!B64654=\"\",\"\",Clients!B64654)","v":""},{"$f":"IF(Clients!C64654=\"\",\"\",Clients!C64654)","v":""}]
[null,null,null,null,null,null,null,null,null,null,null,null,null,null,null,null,null,null,{"$f":"IF(Clients!B64655=\"\",\"\",Clients!B64655)","v":""},{"$f":"IF(Clients!C64655=\"\",\"\",Clients!C64655)","v":""}]
[null,null,null,null,null,null,null,null,null,null,null,null,null,null,null,null,null,null,{"$f":"IF(Clients!B64656=\"\",\"\",Clients!B64656)","v":""},{"$f":"IF(Clients!C64656=\"\",\"\",Clients!C64656)","v":""}]
[null,null,null,null,null,null,null,null,null,null,null,null,null,null,null,null,null,null,{"$f":"IF(Clients!B64657=\"\",\"\",Clients!B64657)","v":""},{"$f":"IF(Clients!C64657=\"\",\"\",Clients!C64657)","v":""}]
[null,null,null,null,null,null,null,null,null,null,null,null,null,null,null,null,null,null,{"$f":"IF(Clients!B64658=\"\",\"\",Clients!B64658)","v":""},{"$f":"IF(Clients!C64658=\"\",\"\",Clients!C64658)","v":""}]
[null,null,null,null,null,null,null,null,null,null,null,null,null,null,null,null,null,null,{"$f":"IF(Clients!B64659=\"\",\"\",Clients!B64659)","v":""},{"$f":"IF(Clients!C64659=\"\",\"\",Clients!C64659)","v":""}]
[null,null,null,null,null,null,null,null,null,null,null,null,null,null,null,null,null,null,{"$f":"IF(Clients!B64660=\"\",\"\",Clients!B64660)","v":""},{"$f":"IF(Clients!C64660=\"\",\"\",Clients!C64660)","v":""}]
[null,null,null,null,null,null,null,null,null,null,null,null,null,null,null,null,null,null,{"$f":"IF(Clients!B64661=\"\",\"\",Clients!B64661)","v":""},{"$f":"IF(Clients!C64661=\"\",\"\",Clients!C64661)","v":""}]
[null,null,null,null,null,null,null,null,null,null,null,null,null,null,null,null,null,null,{"$f":"IF(Clients!B64662=\"\",\"\",Clients!B64662)","v":""},{"$f":"IF(Clients!C64662=\"\",\"\",Clients!C64662)","v":""}]
[null,null,null,null,null,null,null,null,null,null,null,null,null,null,null,null,null,null,{"$f":"IF(Clients!B64663=\"\",\"\",Clients!B64663)","v":""},{"$f":"IF(Clients!C64663=\"\",\"\",Clients!C64663)","v":""}]
[null,null,null,null,null,null,null,null,null,null,null,null,null,null,null,null,null,null,{"$f":"IF(Clients!B64664=\"\",\"\",Clients!B64664)","v":""},{"$f":"IF(Clients!C64664=\"\",\"\",Clients!C64664)","v":""}]
[null,null,null,null,null,null,null,null,null,null,null,null,null,null,null,null,null,null,{"$f":"IF(Clients!B64665=\"\",\"\",Clients!B64665)","v":""},{"$f":"IF(Clients!C64665=\"\",\"\",Clients!C64665)","v":""}]
[null,null,null,null,null,null,null,null,null,null,null,null,null,null,null,null,null,null,{"$f":"IF(Clients!B64666=\"\",\"\",Clients!B64666)","v":""},{"$f":"IF(Clients!C64666=\"\",\"\",Clients!C64666)","v":""}]
[null,null,null,null,null,null,null,null,null,null,null,null,null,null,null,null,null,null,{"$f":"IF(Clients!B64667=\"\",\"\",Clients!B64667)","v":""},{"$f":"IF(Clients!C64667=\"\",\"\",Clients!C64667)","v":""}]
[null,null,null,null,null,null,null,null,null,null,null,null,null,null,null,null,null,null,{"$f":"IF(Clients!B64668=\"\",\"\",Clients!B64668)","v":""},{"$f":"IF(Clients!C64668=\"\",\"\",Clients!C64668)","v":""}]
[null,null,null,null,null,null,null,null,null,null,null,null,null,null,null,null,null,null,{"$f":"IF(Clients!B64669=\"\",\"\",Clients!B64669)","v":""},{"$f":"IF(Clients!C64669=\"\",\"\",Clients!C64669)","v":""}]
[null,null,null,null,null,null,null,null,null,null,null,null,null,null,null,null,null,null,{"$f":"IF(Clients!B64670=\"\",\"\",Clients!B64670)","v":""},{"$f":"IF(Clients!C64670=\"\",\"\",Clients!C64670)","v":""}]
[null,null,null,null,null,null,null,null,null,null,null,null,null,null,null,null,null,null,{"$f":"IF(Clients!B64671=\"\",\"\",Clients!B64671)","v":""},{"$f":"IF(Clients!C64671=\"\",\"\",Clients!C64671)","v":""}]
[null,null,null,null,null,null,null,null,null,null,null,null,null,null,null,null,null,null,{"$f":"IF(Clients!B64672=\"\",\"\",Clients!B64672)","v":""},{"$f":"IF(Clients!C64672=\"\",\"\",Clients!C64672)","v":""}]
[null,null,null,null,null,null,null,null,null,null,null,null,null,null,null,null,null,null,{"$f":"IF(Clients!B64673=\"\",\"\",Clients!B64673)","v":""},{"$f":"IF(Clients!C64673=\"\",\"\",Clients!C64673)","v":""}]
[null,null,null,null,null,null,null,null,null,null,null,null,null,null,null,null,null,null,{"$f":"IF(Clients!B64674=\"\",\"\",Clients!B64674)","v":""},{"$f":"IF(Clients!C64674=\"\",\"\",Clients!C64674)","v":""}]
[null,null,null,null,null,null,null,null,null,null,null,null,null,null,null,null,null,null,{"$f":"IF(Clients!B64675=\"\",\"\",Clients!B64675)","v":""},{"$f":"IF(Clients!C64675=\"\",\"\",Clients!C64675)","v":""}]
[null,null,null,null,null,null,null,null,null,null,null,null,null,null,null,null,null,null,{"$f":"IF(Clients!B64676=\"\",\"\",Clients!B64676)","v":""},{"$f":"IF(Clients!C64676=\"\",\"\",Clients!C64676)","v":""}]
[null,null,null,null,null,null,null,null,null,null,null,null,null,null,null,null,null,null,{"$f":"IF(Clients!B64677=\"\",\"\",Clients!B64677)","v":""},{"$f":"IF(Clients!C64677=\"\",\"\",Clients!C64677)","v":""}]
[null,null,null,null,null,null,null,null,null,null,null,null,null,null,null,null,null,null,{"$f":"IF(Clients!B64678=\"\",\"\",Clients!B64678)","v":""},{"$f":"IF(Clients!C64678=\"\",\"\",Clients!C64678)","v":""}]
[null,null,null,null,null,null,null,null,null,null,null,null,null,null,null,null,null,null,{"$f":"IF(Clients!B64679=\"\",\"\",Clients!B64679)","v":""},{"$f":"IF(Clients!C64679=\"\",\"\",Clients!C64679)","v":""}]
[null,null,null,null,null,null,null,null,null,null,null,null,null,null,null,null,null,null,{"$f":"IF(Clients!B64680=\"\",\"\",Clients!B64680)","v":""},{"$f":"IF(Clients!C64680=\"\",\"\",Clients!C64680)","v":""}]
[null,null,null,null,null,null,null,null,null,null,null,null,null,null,null,null,null,null,{"$f":"IF(Clients!B64681=\"\",\"\",Clients!B64681)","v":""},{"$f":"IF(Clients!C64681=\"\",\"\",Clients!C64681)","v":""}]
[null,null,null,null,null,null,null,null,null,null,null,null,null,null,null,null,null,null,{"$f":"IF(Clients!B64682=\"\",\"\",Clients!B64682)","v":""},{"$f":"IF(Clients!C64682=\"\",\"\",Clients!C64682)","v":""}]
[null,null,null,null,null,null,null,null,null,null,null,null,null,null,null,null,null,null,{"$f":"IF(Clients!B64683=\"\",\"\",Clients!B64683)","v":""},{"$f":"IF(Clients!C64683=\"\",\"\",Clients!C64683)","v":""}]
[null,null,null,null,null,null,null,null,null,null,null,null,null,null,null,null,null,null,{"$f":"IF(Clients!B64684=\"\",\"\",Clients!B64684)","v":""},{"$f":"IF(Clients!C64684=\"\",\"\",Clients!C64684)","v":""}]
[null,null,null,null,null,null,null,null,null,null,null,null,null,null,null,null,null,null,{"$f":"IF(Clients!B64685=\"\",\"\",Clients!B64685)","v":""},{"$f":"IF(Clients!C64685=\"\",\"\",Clients!C64685)","v":""}]
[null,null,null,null,null,null,null,null,null,null,null,null,null,null,null,null,null,null,{"$f":"IF(Clients!B64686=\"\",\"\",Clients!B64686)","v":""},{"$f":"IF(Clients!C64686=\"\",\"\",Clients!C64686)","v":""}]
[null,null,null,null,null,null,null,null,null,null,null,null,null,null,null,null,null,null,{"$f":"IF(Clients!B64687=\"\",\"\",Clients!B64687)","v":""},{"$f":"IF(Clients!C64687=\"\",\"\",Clients!C64687)","v":""}]
[null,null,null,null,null,null,null,null,null,null,null,null,null,null,null,null,null,null,{"$f":"IF(Clients!B64688=\"\",\"\",Clients!B64688)","v":""},{"$f":"IF(Clients!C64688=\"\",\"\",Clients!C64688)","v":""}]
[null,null,null,null,null,null,null,null,null,null,null,null,null,null,null,null,null,null,{"$f":"IF(Clients!B64689=\"\",\"\",Clients!B64689)","v":""},{"$f":"IF(Clients!C64689=\"\",\"\",Clients!C64689)","v":""}]
[null,null,null,null,null,null,null,null,null,null,null,null,null,null,null,null,null,null,{"$f":"IF(Clients!B64690=\"\",\"\",Clients!B64690)","v":""},{"$f":"IF(Clients!C64690=\"\",\"\",Clients!C64690)","v":""}]
[null,null,null,null,null,null,null,null,null,null,null,null,null,null,null,null,null,null,{"$f":"IF(Clients!B64691=\"\",\"\",Clients!B64691)","v":""},{"$f":"IF(Clients!C64691=\"\",\"\",Clients!C64691)","v":""}]
[null,null,null,null,null,null,null,null,null,null,null,null,null,null,null,null,null,null,{"$f":"IF(Clients!B64692=\"\",\"\",Clients!B64692)","v":""},{"$f":"IF(Clients!C64692=\"\",\"\",Clients!C64692)","v":""}]
[null,null,null,null,null,null,null,null,null,null,null,null,null,null,null,null,null,null,{"$f":"IF(Clients!B64693=\"\",\"\",Clients!B64693)","v":""},{"$f":"IF(Clients!C64693=\"\",\"\",Clients!C64693)","v":""}]
[null,null,null,null,null,null,null,null,null,null,null,null,null,null,null,null,null,null,{"$f":"IF(Clients!B64694=\"\",\"\",Clients!B64694)","v":""},{"$f":"IF(Clients!C64694=\"\",\"\",Clients!C64694)","v":""}]
[null,null,null,null,null,null,null,null,null,null,null,null,null,null,null,null,null,null,{"$f":"IF(Clients!B64695=\"\",\"\",Clients!B64695)","v":""},{"$f":"IF(Clients!C64695=\"\",\"\",Clients!C64695)","v":""}]
[null,null,null,null,null,null,null,null,null,null,null,null,null,null,null,null,null,null,{"$f":"IF(Clients!B64696=\"\",\"\",Clients!B64696)","v":""},{"$f":"IF(Clients!C64696=\"\",\"\",Clients!C64696)","v":""}]
[null,null,null,null,null,null,null,null,null,null,null,null,null,null,null,null,null,null,{"$f":"IF(Clients!B64697=\"\",\"\",Clients!B64697)","v":""},{"$f":"IF(Clients!C64697=\"\",\"\",Clients!C64697)","v":""}]
[null,null,null,null,null,null,null,null,null,null,null,null,null,null,null,null,null,null,{"$f":"IF(Clients!B64698=\"\",\"\",Clients!B64698)","v":""},{"$f":"IF(Clients!C64698=\"\",\"\",Clients!C64698)","v":""}]
[null,null,null,null,null,null,null,null,null,null,null,null,null,null,null,null,null,null,{"$f":"IF(Clients!B64699=\"\",\"\",Clients!B64699)","v":""},{"$f":"IF(Clients!C64699=\"\",\"\",Clients!C64699)","v":""}]
[null,null,null,null,null,null,null,null,null,null,null,null,null,null,null,null,null,null,{"$f":"IF(Clients!B64700=\"\",\"\",Clients!B64700)","v":""},{"$f":"IF(Clients!C64700=\"\",\"\",Clients!C64700)","v":""}]
[null,null,null,null,null,null,null,null,null,null,null,null,null,null,null,null,null,null,{"$f":"IF(Clients!B64701=\"\",\"\",Clients!B64701)","v":""},{"$f":"IF(Clients!C64701=\"\",\"\",Clients!C64701)","v":""}]
[null,null,null,null,null,null,null,null,null,null,null,null,null,null,null,null,null,null,{"$f":"IF(Clients!B64702=\"\",\"\",Clients!B64702)","v":""},{"$f":"IF(Clients!C64702=\"\",\"\",Clients!C64702)","v":""}]
[null,null,null,null,null,null,null,null,null,null,null,null,null,null,null,null,null,null,{"$f":"IF(Clients!B64703=\"\",\"\",Clients!B64703)","v":""},{"$f":"IF(Clients!C64703=\"\",\"\",Clients!C64703)","v":""}]
[null,null,null,null,null,null,null,null,null,null,null,null,null,null,null,null,null,null,{"$f":"IF(Clients!B64704=\"\",\"\",Clients!B64704)","v":""},{"$f":"IF(Clients!C64704=\"\",\"\",Clients!C64704)","v":""}]
[null,null,null,null,null,null,null,null,null,null,null,null,null,null,null,null,null,null,{"$f":"IF(Clients!B64705=\"\",\"\",Clients!B64705)","v":""},{"$f":"IF(Clients!C64705=\"\",\"\",Clients!C64705)","v":""}]
[null,null,null,null,null,null,null,null,null,null,null,null,null,null,null,null,null,null,{"$f":"IF(Clients!B64706=\"\",\"\",Clients!B64706)","v":""},{"$f":"IF(Clients!C64706=\"\",\"\",Clients!C64706)","v":""}]
[null,null,null,null,null,null,null,null,null,null,null,null,null,null,null,null,null,null,{"$f":"IF(Clients!B64707=\"\",\"\",Clients!B64707)","v":""},{"$f":"IF(Clients!C64707=\"\",\"\",Clients!C64707)","v":""}]
[null,null,null,null,null,null,null,null,null,null,null,null,null,null,null,null,null,null,{"$f":"IF(Clients!B64708=\"\",\"\",Clients!B64708)","v":""},{"$f":"IF(Clients!C64708=\"\",\"\",Clients!C64708)","v":""}]
[null,null,null,null,null,null,null,null,null,null,null,null,null,null,null,null,null,null,{"$f":"IF(Clients!B64709=\"\",\"\",Clients!B64709)","v":""},{"$f":"IF(Clients!C64709=\"\",\"\",Clients!C64709)","v":""}]
[null,null,null,null,null,null,null,null,null,null,null,null,null,null,null,null,null,null,{"$f":"IF(Clients!B64710=\"\",\"\",Clients!B64710)","v":""},{"$f":"IF(Clients!C64710=\"\",\"\",Clients!C64710)","v":""}]
[null,null,null,null,null,null,null,null,null,null,null,null,null,null,null,null,null,null,{"$f":"IF(Clients!B64711=\"\",\"\",Clients!B64711)","v":""},{"$f":"IF(Clients!C64711=\"\",\"\",Clients!C64711)","v":""}]
[null,null,null,null,null,null,null,null,null,null,null,null,null,null,null,null,null,null,{"$f":"IF(Clients!B64712=\"\",\"\",Clients!B64712)","v":""},{"$f":"IF(Clients!C64712=\"\",\"\",Clients!C64712)","v":""}]
[null,null,null,null,null,null,null,null,null,null,null,null,null,null,null,null,null,null,{"$f":"IF(Clients!B64713=\"\",\"\",Clients!B64713)","v":""},{"$f":"IF(Clients!C64713=\"\",\"\",Clients!C64713)","v":""}]
[null,null,null,null,null,null,null,null,null,null,null,null,null,null,null,null,null,null,{"$f":"IF(Clients!B64714=\"\",\"\",Clients!B64714)","v":""},{"$f":"IF(Clients!C64714=\"\",\"\",Clients!C64714)","v":""}]
[null,null,null,null,null,null,null,null,null,null,null,null,null,null,null,null,null,null,{"$f":"IF(Clients!B64715=\"\",\"\",Clients!B64715)","v":""},{"$f":"IF(Clients!C64715=\"\",\"\",Clients!C64715)","v":""}]
[null,null,null,null,null,null,null,null,null,null,null,null,null,null,null,null,null,null,{"$f":"IF(Clients!B64716=\"\",\"\",Clients!B64716)","v":""},{"$f":"IF(Clients!C64716=\"\",\"\",Clients!C64716)","v":""}]
[null,null,null,null,null,null,null,null,null,null,null,null,null,null,null,null,null,null,{"$f":"IF(Clients!B64717=\"\",\"\",Clients!B64717)","v":""},{"$f":"IF(Clients!C64717=\"\",\"\",Clients!C64717)","v":""}]
[null,null,null,null,null,null,null,null,null,null,null,null,null,null,null,null,null,null,{"$f":"IF(Clients!B64718=\"\",\"\",Clients!B64718)","v":""},{"$f":"IF(Clients!C64718=\"\",\"\",Clients!C64718)","v":""}]
[null,null,null,null,null,null,null,null,null,null,null,null,null,null,null,null,null,null,{"$f":"IF(Clients!B64719=\"\",\"\",Clients!B64719)","v":""},{"$f":"IF(Clients!C64719=\"\",\"\",Clients!C64719)","v":""}]
[null,null,null,null,null,null,null,null,null,null,null,null,null,null,null,null,null,null,{"$f":"IF(Clients!B64720=\"\",\"\",Clients!B64720)","v":""},{"$f":"IF(Clients!C64720=\"\",\"\",Clients!C64720)","v":""}]
[null,null,null,null,null,null,null,null,null,null,null,null,null,null,null,null,null,null,{"$f":"IF(Clients!B64721=\"\",\"\",Clients!B64721)","v":""},{"$f":"IF(Clients!C64721=\"\",\"\",Clients!C64721)","v":""}]
[null,null,null,null,null,null,null,null,null,null,null,null,null,null,null,null,null,null,{"$f":"IF(Clients!B64722=\"\",\"\",Clients!B64722)","v":""},{"$f":"IF(Clients!C64722=\"\",\"\",Clients!C64722)","v":""}]
[null,null,null,null,null,null,null,null,null,null,null,null,null,null,null,null,null,null,{"$f":"IF(Clients!B64723=\"\",\"\",Clients!B64723)","v":""},{"$f":"IF(Clients!C64723=\"\",\"\",Clients!C64723)","v":""}]
[null,null,null,null,null,null,null,null,null,null,null,null,null,null,null,null,null,null,{"$f":"IF(Clients!B64724=\"\",\"\",Clients!B64724)","v":""},{"$f":"IF(Clients!C64724=\"\",\"\",Clients!C64724)","v":""}]
[null,null,null,null,null,null,null,null,null,null,null,null,null,null,null,null,null,null,{"$f":"IF(Clients!B64725=\"\",\"\",Clients!B64725)","v":""},{"$f":"IF(Clients!C64725=\"\",\"\",Clients!C64725)","v":""}]
[null,null,null,null,null,null,null,null,null,null,null,null,null,null,null,null,null,null,{"$f":"IF(Clients!B64726=\"\",\"\",Clients!B64726)","v":""},{"$f":"IF(Clients!C64726=\"\",\"\",Clients!C64726)","v":""}]
[null,null,null,null,null,null,null,null,null,null,null,null,null,null,null,null,null,null,{"$f":"IF(Clients!B64727=\"\",\"\",Clients!B64727)","v":""},{"$f":"IF(Clients!C64727=\"\",\"\",Clients!C64727)","v":""}]
[null,null,null,null,null,null,null,null,null,null,null,null,null,null,null,null,null,null,{"$f":"IF(Clients!B64728=\"\",\"\",Clients!B64728)","v":""},{"$f":"IF(Clients!C64728=\"\",\"\",Clients!C64728)","v":""}]
[null,null,null,null,null,null,null,null,null,null,null,null,null,null,null,null,null,null,{"$f":"IF(Clients!B64729=\"\",\"\",Clients!B64729)","v":""},{"$f":"IF(Clients!C64729=\"\",\"\",Clients!C64729)","v":""}]
[null,null,null,null,null,null,null,null,null,null,null,null,null,null,null,null,null,null,{"$f":"IF(Clients!B64730=\"\",\"\",Clients!B64730)","v":""},{"$f":"IF(Clients!C64730=\"\",\"\",Clients!C64730)","v":""}]
[null,null,null,null,null,null,null,null,null,null,null,null,null,null,null,null,null,null,{"$f":"IF(Clients!B64731=\"\",\"\",Clients!B64731)","v":""},{"$f":"IF(Clients!C64731=\"\",\"\",Clients!C64731)","v":""}]
[null,null,null,null,null,null,null,null,null,null,null,null,null,null,null,null,null,null,{"$f":"IF(Clients!B64732=\"\",\"\",Clients!B64732)","v":""},{"$f":"IF(Clients!C64732=\"\",\"\",Clients!C64732)","v":""}]
[null,null,null,null,null,null,null,null,null,null,null,null,null,null,null,null,null,null,{"$f":"IF(Clients!B64733=\"\",\"\",Clients!B64733)","v":""},{"$f":"IF(Clients!C64733=\"\",\"\",Clients!C64733)","v":""}]
[null,null,null,null,null,null,null,null,null,null,null,null,null,null,null,null,null,null,{"$f":"IF(Clients!B64734=\"\",\"\",Clients!B64734)","v":""},{"$f":"IF(Clients!C64734=\"\",\"\",Clients!C64734)","v":""}]
[null,null,null,null,null,null,null,null,null,null,null,null,null,null,null,null,null,null,{"$f":"IF(Clients!B64735=\"\",\"\",Clients!B64735)","v":""},{"$f":"IF(Clients!C64735=\"\",\"\",Clients!C64735)","v":""}]
[null,null,null,null,null,null,null,null,null,null,null,null,null,null,null,null,null,null,{"$f":"IF(Clients!B64736=\"\",\"\",Clients!B64736)","v":""},{"$f":"IF(Clients!C64736=\"\",\"\",Clients!C64736)","v":""}]
[null,null,null,null,null,null,null,null,null,null,null,null,null,null,null,null,null,null,{"$f":"IF(Clients!B64737=\"\",\"\",Clients!B64737)","v":""},{"$f":"IF(Clients!C64737=\"\",\"\",Clients!C64737)","v":""}]
[null,null,null,null,null,null,null,null,null,null,null,null,null,null,null,null,null,null,{"$f":"IF(Clients!B64738=\"\",\"\",Clients!B64738)","v":""},{"$f":"IF(Clients!C64738=\"\",\"\",Clients!C64738)","v":""}]
[null,null,null,null,null,null,null,null,null,null,null,null,null,null,null,null,null,null,{"$f":"IF(Clients!B64739=\"\",\"\",Clients!B64739)","v":""},{"$f":"IF(Clients!C64739=\"\",\"\",Clients!C64739)","v":""}]
[null,null,null,null,null,null,null,null,null,null,null,null,null,null,null,null,null,null,{"$f":"IF(Clients!B64740=\"\",\"\",Clients!B64740)","v":""},{"$f":"IF(Clients!C64740=\"\",\"\",Clients!C64740)","v":""}]
[null,null,null,null,null,null,null,null,null,null,null,null,null,null,null,null,null,null,{"$f":"IF(Clients!B64741=\"\",\"\",Clients!B64741)","v":""},{"$f":"IF(Clients!C64741=\"\",\"\",Clients!C64741)","v":""}]
[null,null,null,null,null,null,null,null,null,null,null,null,null,null,null,null,null,null,{"$f":"IF(Clients!B64742=\"\",\"\",Clients!B64742)","v":""},{"$f":"IF(Clients!C64742=\"\",\"\",Clients!C64742)","v":""}]
[null,null,null,null,null,null,null,null,null,null,null,null,null,null,null,null,null,null,{"$f":"IF(Clients!B64743=\"\",\"\",Clients!B64743)","v":""},{"$f":"IF(Clients!C64743=\"\",\"\",Clients!C64743)","v":""}]
[null,null,null,null,null,null,null,null,null,null,null,null,null,null,null,null,null,null,{"$f":"IF(Clients!B64744=\"\",\"\",Clients!B64744)","v":""},{"$f":"IF(Clients!C64744=\"\",\"\",Clients!C64744)","v":""}]
[null,null,null,null,null,null,null,null,null,null,null,null,null,null,null,null,null,null,{"$f":"IF(Clients!B64745=\"\",\"\",Clients!B64745)","v":""},{"$f":"IF(Clients!C64745=\"\",\"\",Clients!C64745)","v":""}]
[null,null,null,null,null,null,null,null,null,null,null,null,null,null,null,null,null,null,{"$f":"IF(Clients!B64746=\"\",\"\",Clients!B64746)","v":""},{"$f":"IF(Clients!C64746=\"\",\"\",Clients!C64746)","v":""}]
[null,null,null,null,null,null,null,null,null,null,null,null,null,null,null,null,null,null,{"$f":"IF(Clients!B64747=\"\",\"\",Clients!B64747)","v":""},{"$f":"IF(Clients!C64747=\"\",\"\",Clients!C64747)","v":""}]
[null,null,null,null,null,null,null,null,null,null,null,null,null,null,null,null,null,null,{"$f":"IF(Clients!B64748=\"\",\"\",Clients!B64748)","v":""},{"$f":"IF(Clients!C64748=\"\",\"\",Clients!C64748)","v":""}]
[null,null,null,null,null,null,null,null,null,null,null,null,null,null,null,null,null,null,{"$f":"IF(Clients!B64749=\"\",\"\",Clients!B64749)","v":""},{"$f":"IF(Clients!C64749=\"\",\"\",Clients!C64749)","v":""}]
[null,null,null,null,null,null,null,null,null,null,null,null,null,null,null,null,null,null,{"$f":"IF(Clients!B64750=\"\",\"\",Clients!B64750)","v":""},{"$f":"IF(Clients!C64750=\"\",\"\",Clients!C64750)","v":""}]
[null,null,null,null,null,null,null,null,null,null,null,null,null,null,null,null,null,null,{"$f":"IF(Clients!B64751=\"\",\"\",Clients!B64751)","v":""},{"$f":"IF(Clients!C64751=\"\",\"\",Clients!C64751)","v":""}]
[null,null,null,null,null,null,null,null,null,null,null,null,null,null,null,null,null,null,{"$f":"IF(Clients!B64752=\"\",\"\",Clients!B64752)","v":""},{"$f":"IF(Clients!C64752=\"\",\"\",Clients!C64752)","v":""}]
[null,null,null,null,null,null,null,null,null,null,null,null,null,null,null,null,null,null,{"$f":"IF(Clients!B64753=\"\",\"\",Clients!B64753)","v":""},{"$f":"IF(Clients!C64753=\"\",\"\",Clients!C64753)","v":""}]
[null,null,null,null,null,null,null,null,null,null,null,null,null,null,null,null,null,null,{"$f":"IF(Clients!B64754=\"\",\"\",Clients!B64754)","v":""},{"$f":"IF(Clients!C64754=\"\",\"\",Clients!C64754)","v":""}]
[null,null,null,null,null,null,null,null,null,null,null,null,null,null,null,null,null,null,{"$f":"IF(Clients!B64755=\"\",\"\",Clients!B64755)","v":""},{"$f":"IF(Clients!C64755=\"\",\"\",Clients!C64755)","v":""}]
[null,null,null,null,null,null,null,null,null,null,null,null,null,null,null,null,null,null,{"$f":"IF(Clients!B64756=\"\",\"\",Clients!B64756)","v":""},{"$f":"IF(Clients!C64756=\"\",\"\",Clients!C64756)","v":""}]
[null,null,null,null,null,null,null,null,null,null,null,null,null,null,null,null,null,null,{"$f":"IF(Clients!B64757=\"\",\"\",Clients!B64757)","v":""},{"$f":"IF(Clients!C64757=\"\",\"\",Clients!C64757)","v":""}]
[null,null,null,null,null,null,null,null,null,null,null,null,null,null,null,null,null,null,{"$f":"IF(Clients!B64758=\"\",\"\",Clients!B64758)","v":""},{"$f":"IF(Clients!C64758=\"\",\"\",Clients!C64758)","v":""}]
[null,null,null,null,null,null,null,null,null,null,null,null,null,null,null,null,null,null,{"$f":"IF(Clients!B64759=\"\",\"\",Clients!B64759)","v":""},{"$f":"IF(Clients!C64759=\"\",\"\",Clients!C64759)","v":""}]
[null,null,null,null,null,null,null,null,null,null,null,null,null,null,null,null,null,null,{"$f":"IF(Clients!B64760=\"\",\"\",Clients!B64760)","v":""},{"$f":"IF(Clients!C64760=\"\",\"\",Clients!C64760)","v":""}]
[null,null,null,null,null,null,null,null,null,null,null,null,null,null,null,null,null,null,{"$f":"IF(Clients!B64761=\"\",\"\",Clients!B64761)","v":""},{"$f":"IF(Clients!C64761=\"\",\"\",Clients!C64761)","v":""}]
[null,null,null,null,null,null,null,null,null,null,null,null,null,null,null,null,null,null,{"$f":"IF(Clients!B64762=\"\",\"\",Clients!B64762)","v":""},{"$f":"IF(Clients!C64762=\"\",\"\",Clients!C64762)","v":""}]
[null,null,null,null,null,null,null,null,null,null,null,null,null,null,null,null,null,null,{"$f":"IF(Clients!B64763=\"\",\"\",Clients!B64763)","v":""},{"$f":"IF(Clients!C64763=\"\",\"\",Clients!C64763)","v":""}]
[null,null,null,null,null,null,null,null,null,null,null,null,null,null,null,null,null,null,{"$f":"IF(Clients!B64764=\"\",\"\",Clients!B64764)","v":""},{"$f":"IF(Clients!C64764=\"\",\"\",Clients!C64764)","v":""}]
[null,null,null,null,null,null,null,null,null,null,null,null,null,null,null,null,null,null,{"$f":"IF(Clients!B64765=\"\",\"\",Clients!B64765)","v":""},{"$f":"IF(Clients!C64765=\"\",\"\",Clients!C64765)","v":""}]
[null,null,null,null,null,null,null,null,null,null,null,null,null,null,null,null,null,null,{"$f":"IF(Clients!B64766=\"\",\"\",Clients!B64766)","v":""},{"$f":"IF(Clients!C64766=\"\",\"\",Clients!C64766)","v":""}]
[null,null,null,null,null,null,null,null,null,null,null,null,null,null,null,null,null,null,{"$f":"IF(Clients!B64767=\"\",\"\",Clients!B64767)","v":""},{"$f":"IF(Clients!C64767=\"\",\"\",Clients!C64767)","v":""}]
[null,null,null,null,null,null,null,null,null,null,null,null,null,null,null,null,null,null,{"$f":"IF(Clients!B64768=\"\",\"\",Clients!B64768)","v":""},{"$f":"IF(Clients!C64768=\"\",\"\",Clients!C64768)","v":""}]
[null,null,null,null,null,null,null,null,null,null,null,null,null,null,null,null,null,null,{"$f":"IF(Clients!B64769=\"\",\"\",Clients!B64769)","v":""},{"$f":"IF(Clients!C64769=\"\",\"\",Clients!C64769)","v":""}]
[null,null,null,null,null,null,null,null,null,null,null,null,null,null,null,null,null,null,{"$f":"IF(Clients!B64770=\"\",\"\",Clients!B64770)","v":""},{"$f":"IF(Clients!C64770=\"\",\"\",Clients!C64770)","v":""}]
[null,null,null,null,null,null,null,null,null,null,null,null,null,null,null,null,null,null,{"$f":"IF(Clients!B64771=\"\",\"\",Clients!B64771)","v":""},{"$f":"IF(Clients!C64771=\"\",\"\",Clients!C64771)","v":""}]
[null,null,null,null,null,null,null,null,null,null,null,null,null,null,null,null,null,null,{"$f":"IF(Clients!B64772=\"\",\"\",Clients!B64772)","v":""},{"$f":"IF(Clients!C64772=\"\",\"\",Clients!C64772)","v":""}]
[null,null,null,null,null,null,null,null,null,null,null,null,null,null,null,null,null,null,{"$f":"IF(Clients!B64773=\"\",\"\",Clients!B64773)","v":""},{"$f":"IF(Clients!C64773=\"\",\"\",Clients!C64773)","v":""}]
[null,null,null,null,null,null,null,null,null,null,null,null,null,null,null,null,null,null,{"$f":"IF(Clients!B64774=\"\",\"\",Clients!B64774)","v":""},{"$f":"IF(Clients!C64774=\"\",\"\",Clients!C64774)","v":""}]
[null,null,null,null,null,null,null,null,null,null,null,null,null,null,null,null,null,null,{"$f":"IF(Clients!B64775=\"\",\"\",Clients!B64775)","v":""},{"$f":"IF(Clients!C64775=\"\",\"\",Clients!C64775)","v":""}]
[null,null,null,null,null,null,null,null,null,null,null,null,null,null,null,null,null,null,{"$f":"IF(Clients!B64776=\"\",\"\",Clients!B64776)","v":""},{"$f":"IF(Clients!C64776=\"\",\"\",Clients!C64776)","v":""}]
[null,null,null,null,null,null,null,null,null,null,null,null,null,null,null,null,null,null,{"$f":"IF(Clients!B64777=\"\",\"\",Clients!B64777)","v":""},{"$f":"IF(Clients!C64777=\"\",\"\",Clients!C64777)","v":""}]
[null,null,null,null,null,null,null,null,null,null,null,null,null,null,null,null,null,null,{"$f":"IF(Clients!B64778=\"\",\"\",Clients!B64778)","v":""},{"$f":"IF(Clients!C64778=\"\",\"\",Clients!C64778)","v":""}]
[null,null,null,null,null,null,null,null,null,null,null,null,null,null,null,null,null,null,{"$f":"IF(Clients!B64779=\"\",\"\",Clients!B64779)","v":""},{"$f":"IF(Clients!C64779=\"\",\"\",Clients!C64779)","v":""}]
[null,null,null,null,null,null,null,null,null,null,null,null,null,null,null,null,null,null,{"$f":"IF(Clients!B64780=\"\",\"\",Clients!B64780)","v":""},{"$f":"IF(Clients!C64780=\"\",\"\",Clients!C64780)","v":""}]
[null,null,null,null,null,null,null,null,null,null,null,null,null,null,null,null,null,null,{"$f":"IF(Clients!B64781=\"\",\"\",Clients!B64781)","v":""},{"$f":"IF(Clients!C64781=\"\",\"\",Clients!C64781)","v":""}]
[null,null,null,null,null,null,null,null,null,null,null,null,null,null,null,null,null,null,{"$f":"IF(Clients!B64782=\"\",\"\",Clients!B64782)","v":""},{"$f":"IF(Clients!C64782=\"\",\"\",Clients!C64782)","v":""}]
[null,null,null,null,null,null,null,null,null,null,null,null,null,null,null,null,null,null,{"$f":"IF(Clients!B64783=\"\",\"\",Clients!B64783)","v":""},{"$f":"IF(Clients!C64783=\"\",\"\",Clients!C64783)","v":""}]
[null,null,null,null,null,null,null,null,null,null,null,null,null,null,null,null,null,null,{"$f":"IF(Clients!B64784=\"\",\"\",Clients!B64784)","v":""},{"$f":"IF(Clients!C64784=\"\",\"\",Clients!C64784)","v":""}]
[null,null,null,null,null,null,null,null,null,null,null,null,null,null,null,null,null,null,{"$f":"IF(Clients!B64785=\"\",\"\",Clients!B64785)","v":""},{"$f":"IF(Clients!C64785=\"\",\"\",Clients!C64785)","v":""}]
[null,null,null,null,null,null,null,null,null,null,null,null,null,null,null,null,null,null,{"$f":"IF(Clients!B64786=\"\",\"\",Clients!B64786)","v":""},{"$f":"IF(Clients!C64786=\"\",\"\",Clients!C64786)","v":""}]
[null,null,null,null,null,null,null,null,null,null,null,null,null,null,null,null,null,null,{"$f":"IF(Clients!B64787=\"\",\"\",Clients!B64787)","v":""},{"$f":"IF(Clients!C64787=\"\",\"\",Clients!C64787)","v":""}]
[null,null,null,null,null,null,null,null,null,null,null,null,null,null,null,null,null,null,{"$f":"IF(Clients!B64788=\"\",\"\",Clients!B64788)","v":""},{"$f":"IF(Clients!C64788=\"\",\"\",Clients!C64788)","v":""}]
[null,null,null,null,null,null,null,null,null,null,null,null,null,null,null,null,null,null,{"$f":"IF(Clients!B64789=\"\",\"\",Clients!B64789)","v":""},{"$f":"IF(Clients!C64789=\"\",\"\",Clients!C64789)","v":""}]
[null,null,null,null,null,null,null,null,null,null,null,null,null,null,null,null,null,null,{"$f":"IF(Clients!B64790=\"\",\"\",Clients!B64790)","v":""},{"$f":"IF(Clients!C64790=\"\",\"\",Clients!C64790)","v":""}]
[null,null,null,null,null,null,null,null,null,null,null,null,null,null,null,null,null,null,{"$f":"IF(Clients!B64791=\"\",\"\",Clients!B64791)","v":""},{"$f":"IF(Clients!C64791=\"\",\"\",Clients!C64791)","v":""}]
[null,null,null,null,null,null,null,null,null,null,null,null,null,null,null,null,null,null,{"$f":"IF(Clients!B64792=\"\",\"\",Clients!B64792)","v":""},{"$f":"IF(Clients!C64792=\"\",\"\",Clients!C64792)","v":""}]
[null,null,null,null,null,null,null,null,null,null,null,null,null,null,null,null,null,null,{"$f":"IF(Clients!B64793=\"\",\"\",Clients!B64793)","v":""},{"$f":"IF(Clients!C64793=\"\",\"\",Clients!C64793)","v":""}]
[null,null,null,null,null,null,null,null,null,null,null,null,null,null,null,null,null,null,{"$f":"IF(Clients!B64794=\"\",\"\",Clients!B64794)","v":""},{"$f":"IF(Clients!C64794=\"\",\"\",Clients!C64794)","v":""}]
[null,null,null,null,null,null,null,null,null,null,null,null,null,null,null,null,null,null,{"$f":"IF(Clients!B64795=\"\",\"\",Clients!B64795)","v":""},{"$f":"IF(Clients!C64795=\"\",\"\",Clients!C64795)","v":""}]
[null,null,null,null,null,null,null,null,null,null,null,null,null,null,null,null,null,null,{"$f":"IF(Clients!B64796=\"\",\"\",Clients!B64796)","v":""},{"$f":"IF(Clients!C64796=\"\",\"\",Clients!C64796)","v":""}]
[null,null,null,null,null,null,null,null,null,null,null,null,null,null,null,null,null,null,{"$f":"IF(Clients!B64797=\"\",\"\",Clients!B64797)","v":""},{"$f":"IF(Clients!C64797=\"\",\"\",Clients!C64797)","v":""}]
[null,null,null,null,null,null,null,null,null,null,null,null,null,null,null,null,null,null,{"$f":"IF(Clients!B64798=\"\",\"\",Clients!B64798)","v":""},{"$f":"IF(Clients!C64798=\"\",\"\",Clients!C64798)","v":""}]
[null,null,null,null,null,null,null,null,null,null,null,null,null,null,null,null,null,null,{"$f":"IF(Clients!B64799=\"\",\"\",Clients!B64799)","v":""},{"$f":"IF(Clients!C64799=\"\",\"\",Clients!C64799)","v":""}]
[null,null,null,null,null,null,null,null,null,null,null,null,null,null,null,null,null,null,{"$f":"IF(Clients!B64800=\"\",\"\",Clients!B64800)","v":""},{"$f":"IF(Clients!C64800=\"\",\"\",Clients!C64800)","v":""}]
[null,null,null,null,null,null,null,null,null,null,null,null,null,null,null,null,null,null,{"$f":"IF(Clients!B64801=\"\",\"\",Clients!B64801)","v":""},{"$f":"IF(Clients!C64801=\"\",\"\",Clients!C64801)","v":""}]
[null,null,null,null,null,null,null,null,null,null,null,null,null,null,null,null,null,null,{"$f":"IF(Clients!B64802=\"\",\"\",Clients!B64802)","v":""},{"$f":"IF(Clients!C64802=\"\",\"\",Clients!C64802)","v":""}]
[null,null,null,null,null,null,null,null,null,null,null,null,null,null,null,null,null,null,{"$f":"IF(Clients!B64803=\"\",\"\",Clients!B64803)","v":""},{"$f":"IF(Clients!C64803=\"\",\"\",Clients!C64803)","v":""}]
[null,null,null,null,null,null,null,null,null,null,null,null,null,null,null,null,null,null,{"$f":"IF(Clients!B64804=\"\",\"\",Clients!B64804)","v":""},{"$f":"IF(Clients!C64804=\"\",\"\",Clients!C64804)","v":""}]
[null,null,null,null,null,null,null,null,null,null,null,null,null,null,null,null,null,null,{"$f":"IF(Clients!B64805=\"\",\"\",Clients!B64805)","v":""},{"$f":"IF(Clients!C64805=\"\",\"\",Clients!C64805)","v":""}]
[null,null,null,null,null,null,null,null,null,null,null,null,null,null,null,null,null,null,{"$f":"IF(Clients!B64806=\"\",\"\",Clients!B64806)","v":""},{"$f":"IF(Clients!C64806=\"\",\"\",Clients!C64806)","v":""}]
[null,null,null,null,null,null,null,null,null,null,null,null,null,null,null,null,null,null,{"$f":"IF(Clients!B64807=\"\",\"\",Clients!B64807)","v":""},{"$f":"IF(Clients!C64807=\"\",\"\",Clients!C64807)","v":""}]
[null,null,null,null,null,null,null,null,null,null,null,null,null,null,null,null,null,null,{"$f":"IF(Clients!B64808=\"\",\"\",Clients!B64808)","v":""},{"$f":"IF(Clients!C64808=\"\",\"\",Clients!C64808)","v":""}]
[null,null,null,null,null,null,null,null,null,null,null,null,null,null,null,null,null,null,{"$f":"IF(Clients!B64809=\"\",\"\",Clients!B64809)","v":""},{"$f":"IF(Clients!C64809=\"\",\"\",Clients!C64809)","v":""}]
[null,null,null,null,null,null,null,null,null,null,null,null,null,null,null,null,null,null,{"$f":"IF(Clients!B64810=\"\",\"\",Clients!B64810)","v":""},{"$f":"IF(Clients!C64810=\"\",\"\",Clients!C64810)","v":""}]
[null,null,null,null,null,null,null,null,null,null,null,null,null,null,null,null,null,null,{"$f":"IF(Clients!B64811=\"\",\"\",Clients!B64811)","v":""},{"$f":"IF(Clients!C64811=\"\",\"\",Clients!C64811)","v":""}]
[null,null,null,null,null,null,null,null,null,null,null,null,null,null,null,null,null,null,{"$f":"IF(Clients!B64812=\"\",\"\",Clients!B64812)","v":""},{"$f":"IF(Clients!C64812=\"\",\"\",Clients!C64812)","v":""}]
[null,null,null,null,null,null,null,null,null,null,null,null,null,null,null,null,null,null,{"$f":"IF(Clients!B64813=\"\",\"\",Clients!B64813)","v":""},{"$f":"IF(Clients!C64813=\"\",\"\",Clients!C64813)","v":""}]
[null,null,null,null,null,null,null,null,null,null,null,null,null,null,null,null,null,null,{"$f":"IF(Clients!B64814=\"\",\"\",Clients!B64814)","v":""},{"$f":"IF(Clients!C64814=\"\",\"\",Clients!C64814)","v":""}]
[null,null,null,null,null,null,null,null,null,null,null,null,null,null,null,null,null,null,{"$f":"IF(Clients!B64815=\"\",\"\",Clients!B64815)","v":""},{"$f":"IF(Clients!C64815=\"\",\"\",Clients!C64815)","v":""}]
[null,null,null,null,null,null,null,null,null,null,null,null,null,null,null,null,null,null,{"$f":"IF(Clients!B64816=\"\",\"\",Clients!B64816)","v":""},{"$f":"IF(Clients!C64816=\"\",\"\",Clients!C64816)","v":""}]
[null,null,null,null,null,null,null,null,null,null,null,null,null,null,null,null,null,null,{"$f":"IF(Clients!B64817=\"\",\"\",Clients!B64817)","v":""},{"$f":"IF(Clients!C64817=\"\",\"\",Clients!C64817)","v":""}]
[null,null,null,null,null,null,null,null,null,null,null,null,null,null,null,null,null,null,{"$f":"IF(Clients!B64818=\"\",\"\",Clients!B64818)","v":""},{"$f":"IF(Clients!C64818=\"\",\"\",Clients!C64818)","v":""}]
[null,null,null,null,null,null,null,null,null,null,null,null,null,null,null,null,null,null,{"$f":"IF(Clients!B64819=\"\",\"\",Clients!B64819)","v":""},{"$f":"IF(Clients!C64819=\"\",\"\",Clients!C64819)","v":""}]
[null,null,null,null,null,null,null,null,null,null,null,null,null,null,null,null,null,null,{"$f":"IF(Clients!B64820=\"\",\"\",Clients!B64820)","v":""},{"$f":"IF(Clients!C64820=\"\",\"\",Clients!C64820)","v":""}]
[null,null,null,null,null,null,null,null,null,null,null,null,null,null,null,null,null,null,{"$f":"IF(Clients!B64821=\"\",\"\",Clients!B64821)","v":""},{"$f":"IF(Clients!C64821=\"\",\"\",Clients!C64821)","v":""}]
[null,null,null,null,null,null,null,null,null,null,null,null,null,null,null,null,null,null,{"$f":"IF(Clients!B64822=\"\",\"\",Clients!B64822)","v":""},{"$f":"IF(Clients!C64822=\"\",\"\",Clients!C64822)","v":""}]
[null,null,null,null,null,null,null,null,null,null,null,null,null,null,null,null,null,null,{"$f":"IF(Clients!B64823=\"\",\"\",Clients!B64823)","v":""},{"$f":"IF(Clients!C64823=\"\",\"\",Clients!C64823)","v":""}]
[null,null,null,null,null,null,null,null,null,null,null,null,null,null,null,null,null,null,{"$f":"IF(Clients!B64824=\"\",\"\",Clients!B64824)","v":""},{"$f":"IF(Clients!C64824=\"\",\"\",Clients!C64824)","v":""}]
[null,null,null,null,null,null,null,null,null,null,null,null,null,null,null,null,null,null,{"$f":"IF(Clients!B64825=\"\",\"\",Clients!B64825)","v":""},{"$f":"IF(Clients!C64825=\"\",\"\",Clients!C64825)","v":""}]
[null,null,null,null,null,null,null,null,null,null,null,null,null,null,null,null,null,null,{"$f":"IF(Clients!B64826=\"\",\"\",Clients!B64826)","v":""},{"$f":"IF(Clients!C64826=\"\",\"\",Clients!C64826)","v":""}]
[null,null,null,null,null,null,null,null,null,null,null,null,null,null,null,null,null,null,{"$f":"IF(Clients!B64827=\"\",\"\",Clients!B64827)","v":""},{"$f":"IF(Clients!C64827=\"\",\"\",Clients!C64827)","v":""}]
[null,null,null,null,null,null,null,null,null,null,null,null,null,null,null,null,null,null,{"$f":"IF(Clients!B64828=\"\",\"\",Clients!B64828)","v":""},{"$f":"IF(Clients!C64828=\"\",\"\",Clients!C64828)","v":""}]
[null,null,null,null,null,null,null,null,null,null,null,null,null,null,null,null,null,null,{"$f":"IF(Clients!B64829=\"\",\"\",Clients!B64829)","v":""},{"$f":"IF(Clients!C64829=\"\",\"\",Clients!C64829)","v":""}]
[null,null,null,null,null,null,null,null,null,null,null,null,null,null,null,null,null,null,{"$f":"IF(Clients!B64830=\"\",\"\",Clients!B64830)","v":""},{"$f":"IF(Clients!C64830=\"\",\"\",Clients!C64830)","v":""}]
[null,null,null,null,null,null,null,null,null,null,null,null,null,null,null,null,null,null,{"$f":"IF(Clients!B64831=\"\",\"\",Clients!B64831)","v":""},{"$f":"IF(Clients!C64831=\"\",\"\",Clients!C64831)","v":""}]
[null,null,null,null,null,null,null,null,null,null,null,null,null,null,null,null,null,null,{"$f":"IF(Clients!B64832=\"\",\"\",Clients!B64832)","v":""},{"$f":"IF(Clients!C64832=\"\",\"\",Clients!C64832)","v":""}]
[null,null,null,null,null,null,null,null,null,null,null,null,null,null,null,null,null,null,{"$f":"IF(Clients!B64833=\"\",\"\",Clients!B64833)","v":""},{"$f":"IF(Clients!C64833=\"\",\"\",Clients!C64833)","v":""}]
[null,null,null,null,null,null,null,null,null,null,null,null,null,null,null,null,null,null,{"$f":"IF(Clients!B64834=\"\",\"\",Clients!B64834)","v":""},{"$f":"IF(Clients!C64834=\"\",\"\",Clients!C64834)","v":""}]
[null,null,null,null,null,null,null,null,null,null,null,null,null,null,null,null,null,null,{"$f":"IF(Clients!B64835=\"\",\"\",Clients!B64835)","v":""},{"$f":"IF(Clients!C64835=\"\",\"\",Clients!C64835)","v":""}]
[null,null,null,null,null,null,null,null,null,null,null,null,null,null,null,null,null,null,{"$f":"IF(Clients!B64836=\"\",\"\",Clients!B64836)","v":""},{"$f":"IF(Clients!C64836=\"\",\"\",Clients!C64836)","v":""}]
[null,null,null,null,null,null,null,null,null,null,null,null,null,null,null,null,null,null,{"$f":"IF(Clients!B64837=\"\",\"\",Clients!B64837)","v":""},{"$f":"IF(Clients!C64837=\"\",\"\",Clients!C64837)","v":""}]
[null,null,null,null,null,null,null,null,null,null,null,null,null,null,null,null,null,null,{"$f":"IF(Clients!B64838=\"\",\"\",Clients!B64838)","v":""},{"$f":"IF(Clients!C64838=\"\",\"\",Clients!C64838)","v":""}]
[null,null,null,null,null,null,null,null,null,null,null,null,null,null,null,null,null,null,{"$f":"IF(Clients!B64839=\"\",\"\",Clients!B64839)","v":""},{"$f":"IF(Clients!C64839=\"\",\"\",Clients!C64839)","v":""}]
[null,null,null,null,null,null,null,null,null,null,null,null,null,null,null,null,null,null,{"$f":"IF(Clients!B64840=\"\",\"\",Clients!B64840)","v":""},{"$f":"IF(Clients!C64840=\"\",\"\",Clients!C64840)","v":""}]
[null,null,null,null,null,null,null,null,null,null,null,null,null,null,null,null,null,null,{"$f":"IF(Clients!B64841=\"\",\"\",Clients!B64841)","v":""},{"$f":"IF(Clients!C64841=\"\",\"\",Clients!C64841)","v":""}]
[null,null,null,null,null,null,null,null,null,null,null,null,null,null,null,null,null,null,{"$f":"IF(Clients!B64842=\"\",\"\",Clients!B64842)","v":""},{"$f":"IF(Clients!C64842=\"\",\"\",Clients!C64842)","v":""}]
[null,null,null,null,null,null,null,null,null,null,null,null,null,null,null,null,null,null,{"$f":"IF(Clients!B64843=\"\",\"\",Clients!B64843)","v":""},{"$f":"IF(Clients!C64843=\"\",\"\",Clients!C64843)","v":""}]
[null,null,null,null,null,null,null,null,null,null,null,null,null,null,null,null,null,null,{"$f":"IF(Clients!B64844=\"\",\"\",Clients!B64844)","v":""},{"$f":"IF(Clients!C64844=\"\",\"\",Clients!C64844)","v":""}]
[null,null,null,null,null,null,null,null,null,null,null,null,null,null,null,null,null,null,{"$f":"IF(Clients!B64845=\"\",\"\",Clients!B64845)","v":""},{"$f":"IF(Clients!C64845=\"\",\"\",Clients!C64845)","v":""}]
[null,null,null,null,null,null,null,null,null,null,null,null,null,null,null,null,null,null,{"$f":"IF(Clients!B64846=\"\",\"\",Clients!B64846)","v":""},{"$f":"IF(Clients!C64846=\"\",\"\",Clients!C64846)","v":""}]
[null,null,null,null,null,null,null,null,null,null,null,null,null,null,null,null,null,null,{"$f":"IF(Clients!B64847=\"\",\"\",Clients!B64847)","v":""},{"$f":"IF(Clients!C64847=\"\",\"\",Clients!C64847)","v":""}]
[null,null,null,null,null,null,null,null,null,null,null,null,null,null,null,null,null,null,{"$f":"IF(Clients!B64848=\"\",\"\",Clients!B64848)","v":""},{"$f":"IF(Clients!C64848=\"\",\"\",Clients!C64848)","v":""}]
[null,null,null,null,null,null,null,null,null,null,null,null,null,null,null,null,null,null,{"$f":"IF(Clients!B64849=\"\",\"\",Clients!B64849)","v":""},{"$f":"IF(Clients!C64849=\"\",\"\",Clients!C64849)","v":""}]
[null,null,null,null,null,null,null,null,null,null,null,null,null,null,null,null,null,null,{"$f":"IF(Clients!B64850=\"\",\"\",Clients!B64850)","v":""},{"$f":"IF(Clients!C64850=\"\",\"\",Clients!C64850)","v":""}]
[null,null,null,null,null,null,null,null,null,null,null,null,null,null,null,null,null,null,{"$f":"IF(Clients!B64851=\"\",\"\",Clients!B64851)","v":""},{"$f":"IF(Clients!C64851=\"\",\"\",Clients!C64851)","v":""}]
[null,null,null,null,null,null,null,null,null,null,null,null,null,null,null,null,null,null,{"$f":"IF(Clients!B64852=\"\",\"\",Clients!B64852)","v":""},{"$f":"IF(Clients!C64852=\"\",\"\",Clients!C64852)","v":""}]
[null,null,null,null,null,null,null,null,null,null,null,null,null,null,null,null,null,null,{"$f":"IF(Clients!B64853=\"\",\"\",Clients!B64853)","v":""},{"$f":"IF(Clients!C64853=\"\",\"\",Clients!C64853)","v":""}]
[null,null,null,null,null,null,null,null,null,null,null,null,null,null,null,null,null,null,{"$f":"IF(Clients!B64854=\"\",\"\",Clients!B64854)","v":""},{"$f":"IF(Clients!C64854=\"\",\"\",Clients!C64854)","v":""}]
[null,null,null,null,null,null,null,null,null,null,null,null,null,null,null,null,null,null,{"$f":"IF(Clients!B64855=\"\",\"\",Clients!B64855)","v":""},{"$f":"IF(Clients!C64855=\"\",\"\",Clients!C64855)","v":""}]
[null,null,null,null,null,null,null,null,null,null,null,null,null,null,null,null,null,null,{"$f":"IF(Clients!B64856=\"\",\"\",Clients!B64856)","v":""},{"$f":"IF(Clients!C64856=\"\",\"\",Clients!C64856)","v":""}]
[null,null,null,null,null,null,null,null,null,null,null,null,null,null,null,null,null,null,{"$f":"IF(Clients!B64857=\"\",\"\",Clients!B64857)","v":""},{"$f":"IF(Clients!C64857=\"\",\"\",Clients!C64857)","v":""}]
[null,null,null,null,null,null,null,null,null,null,null,null,null,null,null,null,null,null,{"$f":"IF(Clients!B64858=\"\",\"\",Clients!B64858)","v":""},{"$f":"IF(Clients!C64858=\"\",\"\",Clients!C64858)","v":""}]
[null,null,null,null,null,null,null,null,null,null,null,null,null,null,null,null,null,null,{"$f":"IF(Clients!B64859=\"\",\"\",Clients!B64859)","v":""},{"$f":"IF(Clients!C64859=\"\",\"\",Clients!C64859)","v":""}]
[null,null,null,null,null,null,null,null,null,null,null,null,null,null,null,null,null,null,{"$f":"IF(Clients!B64860=\"\",\"\",Clients!B64860)","v":""},{"$f":"IF(Clients!C64860=\"\",\"\",Clients!C64860)","v":""}]
[null,null,null,null,null,null,null,null,null,null,null,null,null,null,null,null,null,null,{"$f":"IF(Clients!B64861=\"\",\"\",Clients!B64861)","v":""},{"$f":"IF(Clients!C64861=\"\",\"\",Clients!C64861)","v":""}]
[null,null,null,null,null,null,null,null,null,null,null,null,null,null,null,null,null,null,{"$f":"IF(Clients!B64862=\"\",\"\",Clients!B64862)","v":""},{"$f":"IF(Clients!C64862=\"\",\"\",Clients!C64862)","v":""}]
[null,null,null,null,null,null,null,null,null,null,null,null,null,null,null,null,null,null,{"$f":"IF(Clients!B64863=\"\",\"\",Clients!B64863)","v":""},{"$f":"IF(Clients!C64863=\"\",\"\",Clients!C64863)","v":""}]
[null,null,null,null,null,null,null,null,null,null,null,null,null,null,null,null,null,null,{"$f":"IF(Clients!B64864=\"\",\"\",Clients!B64864)","v":""},{"$f":"IF(Clients!C64864=\"\",\"\",Clients!C64864)","v":""}]
[null,null,null,null,null,null,null,null,null,null,null,null,null,null,null,null,null,null,{"$f":"IF(Clients!B64865=\"\",\"\",Clients!B64865)","v":""},{"$f":"IF(Clients!C64865=\"\",\"\",Clients!C64865)","v":""}]
[null,null,null,null,null,null,null,null,null,null,null,null,null,null,null,null,null,null,{"$f":"IF(Clients!B64866=\"\",\"\",Clients!B64866)","v":""},{"$f":"IF(Clients!C64866=\"\",\"\",Clients!C64866)","v":""}]
[null,null,null,null,null,null,null,null,null,null,null,null,null,null,null,null,null,null,{"$f":"IF(Clients!B64867=\"\",\"\",Clients!B64867)","v":""},{"$f":"IF(Clients!C64867=\"\",\"\",Clients!C64867)","v":""}]
[null,null,null,null,null,null,null,null,null,null,null,null,null,null,null,null,null,null,{"$f":"IF(Clients!B64868=\"\",\"\",Clients!B64868)","v":""},{"$f":"IF(Clients!C64868=\"\",\"\",Clients!C64868)","v":""}]
[null,null,null,null,null,null,null,null,null,null,null,null,null,null,null,null,null,null,{"$f":"IF(Clients!B64869=\"\",\"\",Clients!B64869)","v":""},{"$f":"IF(Clients!C64869=\"\",\"\",Clients!C64869)","v":""}]
[null,null,null,null,null,null,null,null,null,null,null,null,null,null,null,null,null,null,{"$f":"IF(Clients!B64870=\"\",\"\",Clients!B64870)","v":""},{"$f":"IF(Clients!C64870=\"\",\"\",Clients!C64870)","v":""}]
[null,null,null,null,null,null,null,null,null,null,null,null,null,null,null,null,null,null,{"$f":"IF(Clients!B64871=\"\",\"\",Clients!B64871)","v":""},{"$f":"IF(Clients!C64871=\"\",\"\",Clients!C64871)","v":""}]
[null,null,null,null,null,null,null,null,null,null,null,null,null,null,null,null,null,null,{"$f":"IF(Clients!B64872=\"\",\"\",Clients!B64872)","v":""},{"$f":"IF(Clients!C64872=\"\",\"\",Clients!C64872)","v":""}]
[null,null,null,null,null,null,null,null,null,null,null,null,null,null,null,null,null,null,{"$f":"IF(Clients!B64873=\"\",\"\",Clients!B64873)","v":""},{"$f":"IF(Clients!C64873=\"\",\"\",Clients!C64873)","v":""}]
[null,null,null,null,null,null,null,null,null,null,null,null,null,null,null,null,null,null,{"$f":"IF(Clients!B64874=\"\",\"\",Clients!B64874)","v":""},{"$f":"IF(Clients!C64874=\"\",\"\",Clients!C64874)","v":""}]
[null,null,null,null,null,null,null,null,null,null,null,null,null,null,null,null,null,null,{"$f":"IF(Clients!B64875=\"\",\"\",Clients!B64875)","v":""},{"$f":"IF(Clients!C64875=\"\",\"\",Clients!C64875)","v":""}]
[null,null,null,null,null,null,null,null,null,null,null,null,null,null,null,null,null,null,{"$f":"IF(Clients!B64876=\"\",\"\",Clients!B64876)","v":""},{"$f":"IF(Clients!C64876=\"\",\"\",Clients!C64876)","v":""}]
[null,null,null,null,null,null,null,null,null,null,null,null,null,null,null,null,null,null,{"$f":"IF(Clients!B64877=\"\",\"\",Clients!B64877)","v":""},{"$f":"IF(Clients!C64877=\"\",\"\",Clients!C64877)","v":""}]
[null,null,null,null,null,null,null,null,null,null,null,null,null,null,null,null,null,null,{"$f":"IF(Clients!B64878=\"\",\"\",Clients!B64878)","v":""},{"$f":"IF(Clients!C64878=\"\",\"\",Clients!C64878)","v":""}]
[null,null,null,null,null,null,null,null,null,null,null,null,null,null,null,null,null,null,{"$f":"IF(Clients!B64879=\"\",\"\",Clients!B64879)","v":""},{"$f":"IF(Clients!C64879=\"\",\"\",Clients!C64879)","v":""}]
[null,null,null,null,null,null,null,null,null,null,null,null,null,null,null,null,null,null,{"$f":"IF(Clients!B64880=\"\",\"\",Clients!B64880)","v":""},{"$f":"IF(Clients!C64880=\"\",\"\",Clients!C64880)","v":""}]
[null,null,null,null,null,null,null,null,null,null,null,null,null,null,null,null,null,null,{"$f":"IF(Clients!B64881=\"\",\"\",Clients!B64881)","v":""},{"$f":"IF(Clients!C64881=\"\",\"\",Clients!C64881)","v":""}]
[null,null,null,null,null,null,null,null,null,null,null,null,null,null,null,null,null,null,{"$f":"IF(Clients!B64882=\"\",\"\",Clients!B64882)","v":""},{"$f":"IF(Clients!C64882=\"\",\"\",Clients!C64882)","v":""}]
[null,null,null,null,null,null,null,null,null,null,null,null,null,null,null,null,null,null,{"$f":"IF(Clients!B64883=\"\",\"\",Clients!B64883)","v":""},{"$f":"IF(Clients!C64883=\"\",\"\",Clients!C64883)","v":""}]
[null,null,null,null,null,null,null,null,null,null,null,null,null,null,null,null,null,null,{"$f":"IF(Clients!B64884=\"\",\"\",Clients!B64884)","v":""},{"$f":"IF(Clients!C64884=\"\",\"\",Clients!C64884)","v":""}]
[null,null,null,null,null,null,null,null,null,null,null,null,null,null,null,null,null,null,{"$f":"IF(Clients!B64885=\"\",\"\",Clients!B64885)","v":""},{"$f":"IF(Clients!C64885=\"\",\"\",Clients!C64885)","v":""}]
[null,null,null,null,null,null,null,null,null,null,null,null,null,null,null,null,null,null,{"$f":"IF(Clients!B64886=\"\",\"\",Clients!B64886)","v":""},{"$f":"IF(Clients!C64886=\"\",\"\",Clients!C64886)","v":""}]
[null,null,null,null,null,null,null,null,null,null,null,null,null,null,null,null,null,null,{"$f":"IF(Clients!B64887=\"\",\"\",Clients!B64887)","v":""},{"$f":"IF(Clients!C64887=\"\",\"\",Clients!C64887)","v":""}]
[null,null,null,null,null,null,null,null,null,null,null,null,null,null,null,null,null,null,{"$f":"IF(Clients!B64888=\"\",\"\",Clients!B64888)","v":""},{"$f":"IF(Clients!C64888=\"\",\"\",Clients!C64888)","v":""}]
[null,null,null,null,null,null,null,null,null,null,null,null,null,null,null,null,null,null,{"$f":"IF(Clients!B64889=\"\",\"\",Clients!B64889)","v":""},{"$f":"IF(Clients!C64889=\"\",\"\",Clients!C64889)","v":""}]
[null,null,null,null,null,null,null,null,null,null,null,null,null,null,null,null,null,null,{"$f":"IF(Clients!B64890=\"\",\"\",Clients!B64890)","v":""},{"$f":"IF(Clients!C64890=\"\",\"\",Clients!C64890)","v":""}]
[null,null,null,null,null,null,null,null,null,null,null,null,null,null,null,null,null,null,{"$f":"IF(Clients!B64891=\"\",\"\",Clients!B64891)","v":""},{"$f":"IF(Clients!C64891=\"\",\"\",Clients!C64891)","v":""}]
[null,null,null,null,null,null,null,null,null,null,null,null,null,null,null,null,null,null,{"$f":"IF(Clients!B64892=\"\",\"\",Clients!B64892)","v":""},{"$f":"IF(Clients!C64892=\"\",\"\",Clients!C64892)","v":""}]
[null,null,null,null,null,null,null,null,null,null,null,null,null,null,null,null,null,null,{"$f":"IF(Clients!B64893=\"\",\"\",Clients!B64893)","v":""},{"$f":"IF(Clients!C64893=\"\",\"\",Clients!C64893)","v":""}]
[null,null,null,null,null,null,null,null,null,null,null,null,null,null,null,null,null,null,{"$f":"IF(Clients!B64894=\"\",\"\",Clients!B64894)","v":""},{"$f":"IF(Clients!C64894=\"\",\"\",Clients!C64894)","v":""}]
[null,null,null,null,null,null,null,null,null,null,null,null,null,null,null,null,null,null,{"$f":"IF(Clients!B64895=\"\",\"\",Clients!B64895)","v":""},{"$f":"IF(Clients!C64895=\"\",\"\",Clients!C64895)","v":""}]
[null,null,null,null,null,null,null,null,null,null,null,null,null,null,null,null,null,null,{"$f":"IF(Clients!B64896=\"\",\"\",Clients!B64896)","v":""},{"$f":"IF(Clients!C64896=\"\",\"\",Clients!C64896)","v":""}]
[null,null,null,null,null,null,null,null,null,null,null,null,null,null,null,null,null,null,{"$f":"IF(Clients!B64897=\"\",\"\",Clients!B64897)","v":""},{"$f":"IF(Clients!C64897=\"\",\"\",Clients!C64897)","v":""}]
[null,null,null,null,null,null,null,null,null,null,null,null,null,null,null,null,null,null,{"$f":"IF(Clients!B64898=\"\",\"\",Clients!B64898)","v":""},{"$f":"IF(Clients!C64898=\"\",\"\",Clients!C64898)","v":""}]
[null,null,null,null,null,null,null,null,null,null,null,null,null,null,null,null,null,null,{"$f":"IF(Clients!B64899=\"\",\"\",Clients!B64899)","v":""},{"$f":"IF(Clients!C64899=\"\",\"\",Clients!C64899)","v":""}]
[null,null,null,null,null,null,null,null,null,null,null,null,null,null,null,null,null,null,{"$f":"IF(Clients!B64900=\"\",\"\",Clients!B64900)","v":""},{"$f":"IF(Clients!C64900=\"\",\"\",Clients!C64900)","v":""}]
[null,null,null,null,null,null,null,null,null,null,null,null,null,null,null,null,null,null,{"$f":"IF(Clients!B64901=\"\",\"\",Clients!B64901)","v":""},{"$f":"IF(Clients!C64901=\"\",\"\",Clients!C64901)","v":""}]
[null,null,null,null,null,null,null,null,null,null,null,null,null,null,null,null,null,null,{"$f":"IF(Clients!B64902=\"\",\"\",Clients!B64902)","v":""},{"$f":"IF(Clients!C64902=\"\",\"\",Clients!C64902)","v":""}]
[null,null,null,null,null,null,null,null,null,null,null,null,null,null,null,null,null,null,{"$f":"IF(Clients!B64903=\"\",\"\",Clients!B64903)","v":""},{"$f":"IF(Clients!C64903=\"\",\"\",Clients!C64903)","v":""}]
[null,null,null,null,null,null,null,null,null,null,null,null,null,null,null,null,null,null,{"$f":"IF(Clients!B64904=\"\",\"\",Clients!B64904)","v":""},{"$f":"IF(Clients!C64904=\"\",\"\",Clients!C64904)","v":""}]
[null,null,null,null,null,null,null,null,null,null,null,null,null,null,null,null,null,null,{"$f":"IF(Clients!B64905=\"\",\"\",Clients!B64905)","v":""},{"$f":"IF(Clients!C64905=\"\",\"\",Clients!C64905)","v":""}]
[null,null,null,null,null,null,null,null,null,null,null,null,null,null,null,null,null,null,{"$f":"IF(Clients!B64906=\"\",\"\",Clients!B64906)","v":""},{"$f":"IF(Clients!C64906=\"\",\"\",Clients!C64906)","v":""}]
[null,null,null,null,null,null,null,null,null,null,null,null,null,null,null,null,null,null,{"$f":"IF(Clients!B64907=\"\",\"\",Clients!B64907)","v":""},{"$f":"IF(Clients!C64907=\"\",\"\",Clients!C64907)","v":""}]
[null,null,null,null,null,null,null,null,null,null,null,null,null,null,null,null,null,null,{"$f":"IF(Clients!B64908=\"\",\"\",Clients!B64908)","v":""},{"$f":"IF(Clients!C64908=\"\",\"\",Clients!C64908)","v":""}]
[null,null,null,null,null,null,null,null,null,null,null,null,null,null,null,null,null,null,{"$f":"IF(Clients!B64909=\"\",\"\",Clients!B64909)","v":""},{"$f":"IF(Clients!C64909=\"\",\"\",Clients!C64909)","v":""}]
[null,null,null,null,null,null,null,null,null,null,null,null,null,null,null,null,null,null,{"$f":"IF(Clients!B64910=\"\",\"\",Clients!B64910)","v":""},{"$f":"IF(Clients!C64910=\"\",\"\",Clients!C64910)","v":""}]
[null,null,null,null,null,null,null,null,null,null,null,null,null,null,null,null,null,null,{"$f":"IF(Clients!B64911=\"\",\"\",Clients!B64911)","v":""},{"$f":"IF(Clients!C64911=\"\",\"\",Clients!C64911)","v":""}]
[null,null,null,null,null,null,null,null,null,null,null,null,null,null,null,null,null,null,{"$f":"IF(Clients!B64912=\"\",\"\",Clients!B64912)","v":""},{"$f":"IF(Clients!C64912=\"\",\"\",Clients!C64912)","v":""}]
[null,null,null,null,null,null,null,null,null,null,null,null,null,null,null,null,null,null,{"$f":"IF(Clients!B64913=\"\",\"\",Clients!B64913)","v":""},{"$f":"IF(Clients!C64913=\"\",\"\",Clients!C64913)","v":""}]
[null,null,null,null,null,null,null,null,null,null,null,null,null,null,null,null,null,null,{"$f":"IF(Clients!B64914=\"\",\"\",Clients!B64914)","v":""},{"$f":"IF(Clients!C64914=\"\",\"\",Clients!C64914)","v":""}]
[null,null,null,null,null,null,null,null,null,null,null,null,null,null,null,null,null,null,{"$f":"IF(Clients!B64915=\"\",\"\",Clients!B64915)","v":""},{"$f":"IF(Clients!C64915=\"\",\"\",Clients!C64915)","v":""}]
[null,null,null,null,null,null,null,null,null,null,null,null,null,null,null,null,null,null,{"$f":"IF(Clients!B64916=\"\",\"\",Clients!B64916)","v":""},{"$f":"IF(Clients!C64916=\"\",\"\",Clients!C64916)","v":""}]
[null,null,null,null,null,null,null,null,null,null,null,null,null,null,null,null,null,null,{"$f":"IF(Clients!B64917=\"\",\"\",Clients!B64917)","v":""},{"$f":"IF(Clients!C64917=\"\",\"\",Clients!C64917)","v":""}]
[null,null,null,null,null,null,null,null,null,null,null,null,null,null,null,null,null,null,{"$f":"IF(Clients!B64918=\"\",\"\",Clients!B64918)","v":""},{"$f":"IF(Clients!C64918=\"\",\"\",Clients!C64918)","v":""}]
[null,null,null,null,null,null,null,null,null,null,null,null,null,null,null,null,null,null,{"$f":"IF(Clients!B64919=\"\",\"\",Clients!B64919)","v":""},{"$f":"IF(Clients!C64919=\"\",\"\",Clients!C64919)","v":""}]
[null,null,null,null,null,null,null,null,null,null,null,null,null,null,null,null,null,null,{"$f":"IF(Clients!B64920=\"\",\"\",Clients!B64920)","v":""},{"$f":"IF(Clients!C64920=\"\",\"\",Clients!C64920)","v":""}]
[null,null,null,null,null,null,null,null,null,null,null,null,null,null,null,null,null,null,{"$f":"IF(Clients!B64921=\"\",\"\",Clients!B64921)","v":""},{"$f":"IF(Clients!C64921=\"\",\"\",Clients!C64921)","v":""}]
[null,null,null,null,null,null,null,null,null,null,null,null,null,null,null,null,null,null,{"$f":"IF(Clients!B64922=\"\",\"\",Clients!B64922)","v":""},{"$f":"IF(Clients!C64922=\"\",\"\",Clients!C64922)","v":""}]
[null,null,null,null,null,null,null,null,null,null,null,null,null,null,null,null,null,null,{"$f":"IF(Clients!B64923=\"\",\"\",Clients!B64923)","v":""},{"$f":"IF(Clients!C64923=\"\",\"\",Clients!C64923)","v":""}]
[null,null,null,null,null,null,null,null,null,null,null,null,null,null,null,null,null,null,{"$f":"IF(Clients!B64924=\"\",\"\",Clients!B64924)","v":""},{"$f":"IF(Clients!C64924=\"\",\"\",Clients!C64924)","v":""}]
[null,null,null,null,null,null,null,null,null,null,null,null,null,null,null,null,null,null,{"$f":"IF(Clients!B64925=\"\",\"\",Clients!B64925)","v":""},{"$f":"IF(Clients!C64925=\"\",\"\",Clients!C64925)","v":""}]
[null,null,null,null,null,null,null,null,null,null,null,null,null,null,null,null,null,null,{"$f":"IF(Clients!B64926=\"\",\"\",Clients!B64926)","v":""},{"$f":"IF(Clients!C64926=\"\",\"\",Clients!C64926)","v":""}]
[null,null,null,null,null,null,null,null,null,null,null,null,null,null,null,null,null,null,{"$f":"IF(Clients!B64927=\"\",\"\",Clients!B64927)","v":""},{"$f":"IF(Clients!C64927=\"\",\"\",Clients!C64927)","v":""}]
[null,null,null,null,null,null,null,null,null,null,null,null,null,null,null,null,null,null,{"$f":"IF(Clients!B64928=\"\",\"\",Clients!B64928)","v":""},{"$f":"IF(Clients!C64928=\"\",\"\",Clients!C64928)","v":""}]
[null,null,null,null,null,null,null,null,null,null,null,null,null,null,null,null,null,null,{"$f":"IF(Clients!B64929=\"\",\"\",Clients!B64929)","v":""},{"$f":"IF(Clients!C64929=\"\",\"\",Clients!C64929)","v":""}]
[null,null,null,null,null,null,null,null,null,null,null,null,null,null,null,null,null,null,{"$f":"IF(Clients!B64930=\"\",\"\",Clients!B64930)","v":""},{"$f":"IF(Clients!C64930=\"\",\"\",Clients!C64930)","v":""}]
[null,null,null,null,null,null,null,null,null,null,null,null,null,null,null,null,null,null,{"$f":"IF(Clients!B64931=\"\",\"\",Clients!B64931)","v":""},{"$f":"IF(Clients!C64931=\"\",\"\",Clients!C64931)","v":""}]
[null,null,null,null,null,null,null,null,null,null,null,null,null,null,null,null,null,null,{"$f":"IF(Clients!B64932=\"\",\"\",Clients!B64932)","v":""},{"$f":"IF(Clients!C64932=\"\",\"\",Clients!C64932)","v":""}]
[null,null,null,null,null,null,null,null,null,null,null,null,null,null,null,null,null,null,{"$f":"IF(Clients!B64933=\"\",\"\",Clients!B64933)","v":""},{"$f":"IF(Clients!C64933=\"\",\"\",Clients!C64933)","v":""}]
[null,null,null,null,null,null,null,null,null,null,null,null,null,null,null,null,null,null,{"$f":"IF(Clients!B64934=\"\",\"\",Clients!B64934)","v":""},{"$f":"IF(Clients!C64934=\"\",\"\",Clients!C64934)","v":""}]
[null,null,null,null,null,null,null,null,null,null,null,null,null,null,null,null,null,null,{"$f":"IF(Clients!B64935=\"\",\"\",Clients!B64935)","v":""},{"$f":"IF(Clients!C64935=\"\",\"\",Clients!C64935)","v":""}]
[null,null,null,null,null,null,null,null,null,null,null,null,null,null,null,null,null,null,{"$f":"IF(Clients!B64936=\"\",\"\",Clients!B64936)","v":""},{"$f":"IF(Clients!C64936=\"\",\"\",Clients!C64936)","v":""}]
[null,null,null,null,null,null,null,null,null,null,null,null,null,null,null,null,null,null,{"$f":"IF(Clients!B64937=\"\",\"\",Clients!B64937)","v":""},{"$f":"IF(Clients!C64937=\"\",\"\",Clients!C64937)","v":""}]
[null,null,null,null,null,null,null,null,null,null,null,null,null,null,null,null,null,null,{"$f":"IF(Clients!B64938=\"\",\"\",Clients!B64938)","v":""},{"$f":"IF(Clients!C64938=\"\",\"\",Clients!C64938)","v":""}]
[null,null,null,null,null,null,null,null,null,null,null,null,null,null,null,null,null,null,{"$f":"IF(Clients!B64939=\"\",\"\",Clients!B64939)","v":""},{"$f":"IF(Clients!C64939=\"\",\"\",Clients!C64939)","v":""}]
[null,null,null,null,null,null,null,null,null,null,null,null,null,null,null,null,null,null,{"$f":"IF(Clients!B64940=\"\",\"\",Clients!B64940)","v":""},{"$f":"IF(Clients!C64940=\"\",\"\",Clients!C64940)","v":""}]
[null,null,null,null,null,null,null,null,null,null,null,null,null,null,null,null,null,null,{"$f":"IF(Clients!B64941=\"\",\"\",Clients!B64941)","v":""},{"$f":"IF(Clients!C64941=\"\",\"\",Clients!C64941)","v":""}]
[null,null,null,null,null,null,null,null,null,null,null,null,null,null,null,null,null,null,{"$f":"IF(Clients!B64942=\"\",\"\",Clients!B64942)","v":""},{"$f":"IF(Clients!C64942=\"\",\"\",Clients!C64942)","v":""}]
[null,null,null,null,null,null,null,null,null,null,null,null,null,null,null,null,null,null,{"$f":"IF(Clients!B64943=\"\",\"\",Clients!B64943)","v":""},{"$f":"IF(Clients!C64943=\"\",\"\",Clients!C64943)","v":""}]
[null,null,null,null,null,null,null,null,null,null,null,null,null,null,null,null,null,null,{"$f":"IF(Clients!B64944=\"\",\"\",Clients!B64944)","v":""},{"$f":"IF(Clients!C64944=\"\",\"\",Clients!C64944)","v":""}]
[null,null,null,null,null,null,null,null,null,null,null,null,null,null,null,null,null,null,{"$f":"IF(Clients!B64945=\"\",\"\",Clients!B64945)","v":""},{"$f":"IF(Clients!C64945=\"\",\"\",Clients!C64945)","v":""}]
[null,null,null,null,null,null,null,null,null,null,null,null,null,null,null,null,null,null,{"$f":"IF(Clients!B64946=\"\",\"\",Clients!B64946)","v":""},{"$f":"IF(Clients!C64946=\"\",\"\",Clients!C64946)","v":""}]
[null,null,null,null,null,null,null,null,null,null,null,null,null,null,null,null,null,null,{"$f":"IF(Clients!B64947=\"\",\"\",Clients!B64947)","v":""},{"$f":"IF(Clients!C64947=\"\",\"\",Clients!C64947)","v":""}]
[null,null,null,null,null,null,null,null,null,null,null,null,null,null,null,null,null,null,{"$f":"IF(Clients!B64948=\"\",\"\",Clients!B64948)","v":""},{"$f":"IF(Clients!C64948=\"\",\"\",Clients!C64948)","v":""}]
[null,null,null,null,null,null,null,null,null,null,null,null,null,null,null,null,null,null,{"$f":"IF(Clients!B64949=\"\",\"\",Clients!B64949)","v":""},{"$f":"IF(Clients!C64949=\"\",\"\",Clients!C64949)","v":""}]
[null,null,null,null,null,null,null,null,null,null,null,null,null,null,null,null,null,null,{"$f":"IF(Clients!B64950=\"\",\"\",Clients!B64950)","v":""},{"$f":"IF(Clients!C64950=\"\",\"\",Clients!C64950)","v":""}]
[null,null,null,null,null,null,null,null,null,null,null,null,null,null,null,null,null,null,{"$f":"IF(Clients!B64951=\"\",\"\",Clients!B64951)","v":""},{"$f":"IF(Clients!C64951=\"\",\"\",Clients!C64951)","v":""}]
[null,null,null,null,null,null,null,null,null,null,null,null,null,null,null,null,null,null,{"$f":"IF(Clients!B64952=\"\",\"\",Clients!B64952)","v":""},{"$f":"IF(Clients!C64952=\"\",\"\",Clients!C64952)","v":""}]
[null,null,null,null,null,null,null,null,null,null,null,null,null,null,null,null,null,null,{"$f":"IF(Clients!B64953=\"\",\"\",Clients!B64953)","v":""},{"$f":"IF(Clients!C64953=\"\",\"\",Clients!C64953)","v":""}]
[null,null,null,null,null,null,null,null,null,null,null,null,null,null,null,null,null,null,{"$f":"IF(Clients!B64954=\"\",\"\",Clients!B64954)","v":""},{"$f":"IF(Clients!C64954=\"\",\"\",Clients!C64954)","v":""}]
[null,null,null,null,null,null,null,null,null,null,null,null,null,null,null,null,null,null,{"$f":"IF(Clients!B64955=\"\",\"\",Clients!B64955)","v":""},{"$f":"IF(Clients!C64955=\"\",\"\",Clients!C64955)","v":""}]
[null,null,null,null,null,null,null,null,null,null,null,null,null,null,null,null,null,null,{"$f":"IF(Clients!B64956=\"\",\"\",Clients!B64956)","v":""},{"$f":"IF(Clients!C64956=\"\",\"\",Clients!C64956)","v":""}]
[null,null,null,null,null,null,null,null,null,null,null,null,null,null,null,null,null,null,{"$f":"IF(Clients!B64957=\"\",\"\",Clients!B64957)","v":""},{"$f":"IF(Clients!C64957=\"\",\"\",Clients!C64957)","v":""}]
[null,null,null,null,null,null,null,null,null,null,null,null,null,null,null,null,null,null,{"$f":"IF(Clients!B64958=\"\",\"\",Clients!B64958)","v":""},{"$f":"IF(Clients!C64958=\"\",\"\",Clients!C64958)","v":""}]
[null,null,null,null,null,null,null,null,null,null,null,null,null,null,null,null,null,null,{"$f":"IF(Clients!B64959=\"\",\"\",Clients!B64959)","v":""},{"$f":"IF(Clients!C64959=\"\",\"\",Clients!C64959)","v":""}]
[null,null,null,null,null,null,null,null,null,null,null,null,null,null,null,null,null,null,{"$f":"IF(Clients!B64960=\"\",\"\",Clients!B64960)","v":""},{"$f":"IF(Clients!C64960=\"\",\"\",Clients!C64960)","v":""}]
[null,null,null,null,null,null,null,null,null,null,null,null,null,null,null,null,null,null,{"$f":"IF(Clients!B64961=\"\",\"\",Clients!B64961)","v":""},{"$f":"IF(Clients!C64961=\"\",\"\",Clients!C64961)","v":""}]
[null,null,null,null,null,null,null,null,null,null,null,null,null,null,null,null,null,null,{"$f":"IF(Clients!B64962=\"\",\"\",Clients!B64962)","v":""},{"$f":"IF(Clients!C64962=\"\",\"\",Clients!C64962)","v":""}]
[null,null,null,null,null,null,null,null,null,null,null,null,null,null,null,null,null,null,{"$f":"IF(Clients!B64963=\"\",\"\",Clients!B64963)","v":""},{"$f":"IF(Clients!C64963=\"\",\"\",Clients!C64963)","v":""}]
[null,null,null,null,null,null,null,null,null,null,null,null,null,null,null,null,null,null,{"$f":"IF(Clients!B64964=\"\",\"\",Clients!B64964)","v":""},{"$f":"IF(Clients!C64964=\"\",\"\",Clients!C64964)","v":""}]
[null,null,null,null,null,null,null,null,null,null,null,null,null,null,null,null,null,null,{"$f":"IF(Clients!B64965=\"\",\"\",Clients!B64965)","v":""},{"$f":"IF(Clients!C64965=\"\",\"\",Clients!C64965)","v":""}]
[null,null,null,null,null,null,null,null,null,null,null,null,null,null,null,null,null,null,{"$f":"IF(Clients!B64966=\"\",\"\",Clients!B64966)","v":""},{"$f":"IF(Clients!C64966=\"\",\"\",Clients!C64966)","v":""}]
[null,null,null,null,null,null,null,null,null,null,null,null,null,null,null,null,null,null,{"$f":"IF(Clients!B64967=\"\",\"\",Clients!B64967)","v":""},{"$f":"IF(Clients!C64967=\"\",\"\",Clients!C64967)","v":""}]
[null,null,null,null,null,null,null,null,null,null,null,null,null,null,null,null,null,null,{"$f":"IF(Clients!B64968=\"\",\"\",Clients!B64968)","v":""},{"$f":"IF(Clients!C64968=\"\",\"\",Clients!C64968)","v":""}]
[null,null,null,null,null,null,null,null,null,null,null,null,null,null,null,null,null,null,{"$f":"IF(Clients!B64969=\"\",\"\",Clients!B64969)","v":""},{"$f":"IF(Clients!C64969=\"\",\"\",Clients!C64969)","v":""}]
[null,null,null,null,null,null,null,null,null,null,null,null,null,null,null,null,null,null,{"$f":"IF(Clients!B64970=\"\",\"\",Clients!B64970)","v":""},{"$f":"IF(Clients!C64970=\"\",\"\",Clients!C64970)","v":""}]
[null,null,null,null,null,null,null,null,null,null,null,null,null,null,null,null,null,null,{"$f":"IF(Clients!B64971=\"\",\"\",Clients!B64971)","v":""},{"$f":"IF(Clients!C64971=\"\",\"\",Clients!C64971)","v":""}]
[null,null,null,null,null,null,null,null,null,null,null,null,null,null,null,null,null,null,{"$f":"IF(Clients!B64972=\"\",\"\",Clients!B64972)","v":""},{"$f":"IF(Clients!C64972=\"\",\"\",Clients!C64972)","v":""}]
[null,null,null,null,null,null,null,null,null,null,null,null,null,null,null,null,null,null,{"$f":"IF(Clients!B64973=\"\",\"\",Clients!B64973)","v":""},{"$f":"IF(Clients!C64973=\"\",\"\",Clients!C64973)","v":""}]
[null,null,null,null,null,null,null,null,null,null,null,null,null,null,null,null,null,null,{"$f":"IF(Clients!B64974=\"\",\"\",Clients!B64974)","v":""},{"$f":"IF(Clients!C64974=\"\",\"\",Clients!C64974)","v":""}]
[null,null,null,null,null,null,null,null,null,null,null,null,null,null,null,null,null,null,{"$f":"IF(Clients!B64975=\"\",\"\",Clients!B64975)","v":""},{"$f":"IF(Clients!C64975=\"\",\"\",Clients!C64975)","v":""}]
[null,null,null,null,null,null,null,null,null,null,null,null,null,null,null,null,null,null,{"$f":"IF(Clients!B64976=\"\",\"\",Clients!B64976)","v":""},{"$f":"IF(Clients!C64976=\"\",\"\",Clients!C64976)","v":""}]
[null,null,null,null,null,null,null,null,null,null,null,null,null,null,null,null,null,null,{"$f":"IF(Clients!B64977=\"\",\"\",Clients!B64977)","v":""},{"$f":"IF(Clients!C64977=\"\",\"\",Clients!C64977)","v":""}]
[null,null,null,null,null,null,null,null,null,null,null,null,null,null,null,null,null,null,{"$f":"IF(Clients!B64978=\"\",\"\",Clients!B64978)","v":""},{"$f":"IF(Clients!C64978=\"\",\"\",Clients!C64978)","v":""}]
[null,null,null,null,null,null,null,null,null,null,null,null,null,null,null,null,null,null,{"$f":"IF(Clients!B64979=\"\",\"\",Clients!B64979)","v":""},{"$f":"IF(Clients!C64979=\"\",\"\",Clients!C64979)","v":""}]
[null,null,null,null,null,null,null,null,null,null,null,null,null,null,null,null,null,null,{"$f":"IF(Clients!B64980=\"\",\"\",Clients!B64980)","v":""},{"$f":"IF(Clients!C64980=\"\",\"\",Clients!C64980)","v":""}]
[null,null,null,null,null,null,null,null,null,null,null,null,null,null,null,null,null,null,{"$f":"IF(Clients!B64981=\"\",\"\",Clients!B64981)","v":""},{"$f":"IF(Clients!C64981=\"\",\"\",Clients!C64981)","v":""}]
[null,null,null,null,null,null,null,null,null,null,null,null,null,null,null,null,null,null,{"$f":"IF(Clients!B64982=\"\",\"\",Clients!B64982)","v":""},{"$f":"IF(Clients!C64982=\"\",\"\",Clients!C64982)","v":""}]
[null,null,null,null,null,null,null,null,null,null,null,null,null,null,null,null,null,null,{"$f":"IF(Clients!B64983=\"\",\"\",Clients!B64983)","v":""},{"$f":"IF(Clients!C64983=\"\",\"\",Clients!C64983)","v":""}]
[null,null,null,null,null,null,null,null,null,null,null,null,null,null,null,null,null,null,{"$f":"IF(Clients!B64984=\"\",\"\",Clients!B64984)","v":""},{"$f":"IF(Clients!C64984=\"\",\"\",Clients!C64984)","v":""}]
[null,null,null,null,null,null,null,null,null,null,null,null,null,null,null,null,null,null,{"$f":"IF(Clients!B64985=\"\",\"\",Clients!B64985)","v":""},{"$f":"IF(Clients!C64985=\"\",\"\",Clients!C64985)","v":""}]
[null,null,null,null,null,null,null,null,null,null,null,null,null,null,null,null,null,null,{"$f":"IF(Clients!B64986=\"\",\"\",Clients!B64986)","v":""},{"$f":"IF(Clients!C64986=\"\",\"\",Clients!C64986)","v":""}]
[null,null,null,null,null,null,null,null,null,null,null,null,null,null,null,null,null,null,{"$f":"IF(Clients!B64987=\"\",\"\",Clients!B64987)","v":""},{"$f":"IF(Clients!C64987=\"\",\"\",Clients!C64987)","v":""}]
[null,null,null,null,null,null,null,null,null,null,null,null,null,null,null,null,null,null,{"$f":"IF(Clients!B64988=\"\",\"\",Clients!B64988)","v":""},{"$f":"IF(Clients!C64988=\"\",\"\",Clients!C64988)","v":""}]
[null,null,null,null,null,null,null,null,null,null,null,null,null,null,null,null,null,null,{"$f":"IF(Clients!B64989=\"\",\"\",Clients!B64989)","v":""},{"$f":"IF(Clients!C64989=\"\",\"\",Clients!C64989)","v":""}]
[null,null,null,null,null,null,null,null,null,null,null,null,null,null,null,null,null,null,{"$f":"IF(Clients!B64990=\"\",\"\",Clients!B64990)","v":""},{"$f":"IF(Clients!C64990=\"\",\"\",Clients!C64990)","v":""}]
[null,null,null,null,null,null,null,null,null,null,null,null,null,null,null,null,null,null,{"$f":"IF(Clients!B64991=\"\",\"\",Clients!B64991)","v":""},{"$f":"IF(Clients!C64991=\"\",\"\",Clients!C64991)","v":""}]
[null,null,null,null,null,null,null,null,null,null,null,null,null,null,null,null,null,null,{"$f":"IF(Clients!B64992=\"\",\"\",Clients!B64992)","v":""},{"$f":"IF(Clients!C64992=\"\",\"\",Clients!C64992)","v":""}]
[null,null,null,null,null,null,null,null,null,null,null,null,null,null,null,null,null,null,{"$f":"IF(Clients!B64993=\"\",\"\",Clients!B64993)","v":""},{"$f":"IF(Clients!C64993=\"\",\"\",Clients!C64993)","v":""}]
[null,null,null,null,null,null,null,null,null,null,null,null,null,null,null,null,null,null,{"$f":"IF(Clients!B64994=\"\",\"\",Clients!B64994)","v":""},{"$f":"IF(Clients!C64994=\"\",\"\",Clients!C64994)","v":""}]
[null,null,null,null,null,null,null,null,null,null,null,null,null,null,null,null,null,null,{"$f":"IF(Clients!B64995=\"\",\"\",Clients!B64995)","v":""},{"$f":"IF(Clients!C64995=\"\",\"\",Clients!C64995)","v":""}]
[null,null,null,null,null,null,null,null,null,null,null,null,null,null,null,null,null,null,{"$f":"IF(Clients!B64996=\"\",\"\",Clients!B64996)","v":""},{"$f":"IF(Clients!C64996=\"\",\"\",Clients!C64996)","v":""}]
[null,null,null,null,null,null,null,null,null,null,null,null,null,null,null,null,null,null,{"$f":"IF(Clients!B64997=\"\",\"\",Clients!B64997)","v":""},{"$f":"IF(Clients!C64997=\"\",\"\",Clients!C64997)","v":""}]
[null,null,null,null,null,null,null,null,null,null,null,null,null,null,null,null,null,null,{"$f":"IF(Clients!B64998=\"\",\"\",Clients!B64998)","v":""},{"$f":"IF(Clients!C64998=\"\",\"\",Clients!C64998)","v":""}]
[null,null,null,null,null,null,null,null,null,null,null,null,null,null,null,null,null,null,{"$f":"IF(Clients!B64999=\"\",\"\",Clients!B64999)","v":""},{"$f":"IF(Clients!C64999=\"\",\"\",Clients!C64999)","v":""}]

{"sheet":"Clients","index":2,"n_rows":1000,"n_cols":22,"rows_kept":1000,"cut":false,"hidden":false,"merged":[[1,9,1,11]]}
[]
["N°","NOM","PRENOM","ADRESSE 1","ADRESSE 2","CODE POSTAL","VILLE","TEL  PORTABLE","EMAIL","DATE NAISSANCE",null,null,"SOLDE COMPTE","6 MOIS","QTT","12 MOIS","QTT"]
[{"$f":"IF(B3=\"\",\"\",1)","v":1},"despues","rene","appart1…","rue de 1",82001,"ville",101010101,"despues.rene@gmail.com",25,10,1983,-100,100,1,1000,10,null,{"$f":"CONCATENATE(B3,\" \",C3)","v":"despues rene"},{"$f":"--ISNUMBER(IFERROR(SEARCH('Vente Jour'!$K$6,S3,1),\"\"))","v":0},{"$f":"IF(T3=1,COUNTIF($T$3:T3,1),\"\")","v":""},{"$f":"IFERROR(INDEX(Cherche1,MATCH(ROWS($U$3:U3),Classement,0)),\"\")","v":"Neymar Jr"}]
[{"$f":"IF(B4=\"\",\"\",A3+1)","v":2},"dupond","jules","appart2…","rue de 2",82002,"ville",202020202,"dupond.jules@gmail.com",2,2,1984,-200,200,2,1000,20,null,"dupond jules",{"$f":"--ISNUMBER(IFERROR(SEARCH('Vente Jour'!$K$6,S4,1),\"\"))","v":0},{"$f":"IF(T4=1,COUNTIF($T$3:T4,1),\"\")","v":""},{"$f":"IFERROR(INDEX(Cherche1,MATCH(ROWS($U$3:U4),Classement,0)),\"\")","v":""}]
[{"$f":"IF(B5=\"\",\"\",A4+1)","v":3},"dupont","henry","appart3…","rue de 3",82003,"ville",303030303,"dupont.henry@gmail.com",3,3,1985,-300,300,3,1000,30,null,"dupont henry",{"$f":"--ISNUMBER(IFERROR(SEARCH('Vente Jour'!$K$6,S5,1),\"\"))","v":0},{"$f":"IF(T5=1,COUNTIF($T$3:T5,1),\"\")","v":""},{"$f":"IFERROR(INDEX(Cherche1,MATCH(ROWS($U$3:U5),Classement,0)),\"\")","v":""}]
[4,"martin","francois","appart4…","rue de 4",82004,"ville",303030303,"martin.francois@gmail.com",4,4,1986,-400,400,4,1000,40,null,"martin francois",{"$f":"--ISNUMBER(IFERROR(SEARCH('Vente Jour'!$K$6,S6,1),\"\"))","v":0},{"$f":"IF(T6=1,COUNTIF($T$3:T6,1),\"\")","v":""},{"$f":"IFERROR(INDEX(Cherche1,MATCH(ROWS($U$3:U6),Classement,0)),\"\")","v":""}]
[5,"zidane","zinedine","appart5…","rue de 5",82005,"ville",303030303,"zidane.zinedine@gmail.com",5,5,1987,-500,500,5,1000,50,null,"zidane zinedine",{"$f":"--ISNUMBER(IFERROR(SEARCH('Vente Jour'!$K$6,S7,1),\"\"))","v":0},{"$f":"IF(T7=1,COUNTIF($T$3:T7,1),\"\")","v":""},{"$f":"IFERROR(INDEX(Cherche1,MATCH(ROWS($U$3:U7),Classement,0)),\"\")","v":""}]
[{"$f":"IF(B8=\"\",\"\",A7+1)","v":6},"jackson","Mickael","","","","","","","","","",null,null,null,null,null,null,"jackson Mickael",{"$f":"--ISNUMBER(IFERROR(SEARCH('Vente Jour'!$K$6,S8,1),\"\"))","v":0},{"$f":"IF(T8=1,COUNTIF($T$3:T8,1),\"\")","v":""},{"$f":"IFERROR(INDEX(Cherche1,MATCH(ROWS($U$3:U8),Classement,0)),\"\")","v":""}]
[7,"Neymar","Jr","","","","","","","","","",null,null,null,null,null,null,"Neymar Jr",{"$f":"--ISNUMBER(IFERROR(SEARCH('Vente Jour'!$K$6,S9,1),\"\"))","v":1},{"$f":"IF(T9=1,COUNTIF($T$3:T9,1),\"\")","v":1},{"$f":"IFERROR(INDEX(Cherche1,MATCH(ROWS($U$3:U9),Classement,0)),\"\")","v":""}]
[8,"Leblanc","Juste","","","","","","","","","",null,null,null,null,null,null,"Leblanc Juste",{"$f":"--ISNUMBER(IFERROR(SEARCH('Vente Jour'!$K$6,S10,1),\"\"))","v":0},{"$f":"IF(T10=1,COUNTIF($T$3:T10,1),\"\")","v":""},{"$f":"IFERROR(INDEX(Cherche1,MATCH(ROWS($U$3:U10),Classement,0)),\"\")","v":""}]
[9,"fer","","","","","","","","","","",null,null,null,null,null,null,"fer ",{"$f":"--ISNUMBER(IFERROR(SEARCH('Vente Jour'!$K$6,S11,1),\"\"))","v":0},{"$f":"IF(T11=1,COUNTIF($T$3:T11,1),\"\")","v":""},{"$f":"IFERROR(INDEX(Cherche1,MATCH(ROWS($U$3:U11),Classement,0)),\"\")","v":""}]
[10,"dupond","marie","","","","","","","","","",null,null,null,null,null,null,"dupond marie",{"$f":"--ISNUMBER(IFERROR(SEARCH('Vente Jour'!$K$6,S12,1),\"\"))","v":0},{"$f":"IF(T12=1,COUNTIF($T$3:T12,1),\"\")","v":""},{"$f":"IFERROR(INDEX(Cherche1,MATCH(ROWS($U$3:U12),Classement,0)),\"\")","v":""}]
[11,"dupond","ginette",null,null,null,null,null,null,null,null,null,null,null,null,null,null,null,"dupond ginette",{"$f":"--ISNUMBER(IFERROR(SEARCH('Vente Jour'!$K$6,S13,1),\"\"))","v":0},{"$f":"IF(T13=1,COUNTIF($T$3:T13,1),\"\")","v":""},{"$f":"IFERROR(INDEX(Cherche1,MATCH(ROWS($U$3:U13),Classement,0)),\"\")","v":""}]
["",null,null,null,null,null,null,null,null,null,null,null,null,null,null,null,null,null,{"$f":"CONCATENATE(B14,\" \",C14)","v":" "},{"$f":"--ISNUMBER(IFERROR(SEARCH('Vente Jour'!$K$6,S14,1),\"\"))","v":0},{"$f":"IF(T14=1,COUNTIF($T$3:T14,1),\"\")","v":""},{"$f":"IFERROR(INDEX(Cherche1,MATCH(ROWS($U$3:U14),Classement,0)),\"\")","v":""}]
["",null,null,null,null,null,null,null,null,null,null,null,null,null,null,null,null,null,{"$f":"CONCATENATE(B15,\" \",C15)","v":" "},{"$f":"--ISNUMBER(IFERROR(SEARCH('Vente Jour'!$K$6,S15,1),\"\"))","v":0},{"$f":"IF(T15=1,COUNTIF($T$3:T15,1),\"\")","v":""},{"$f":"IFERROR(INDEX(Cherche1,MATCH(ROWS($U$3:U15),Classement,0)),\"\")","v":""}]
["",null,null,null,null,null,null,null,null,null,null,null,null,null,null,null,null,null," ",{"$f":"--ISNUMBER(IFERROR(SEARCH('Vente Jour'!$K$6,S16,1),\"\"))","v":0},{"$f":"IF(T16=1,COUNTIF($T$3:T16,1),\"\")","v":""},{"$f":"IFERROR(INDEX(Cherche1,MATCH(ROWS($U$3:U16),Classement,0)),\"\")","v":""}]
["",null,null,null,null,null,null,null,null,null,null,null,null,null,null,null,null,null," ",{"$f":"--ISNUMBER(IFERROR(SEARCH('Vente Jour'!$K$6,S17,1),\"\"))","v":0},{"$f":"IF(T17=1,COUNTIF($T$3:T17,1),\"\")","v":""},{"$f":"IFERROR(INDEX(Cherche1,MATCH(ROWS($U$3:U17),Classement,0)),\"\")","v":""}]
["",null,null,null,null,null,null,null,null,null,null,null,null,null,null,null,null,null," ",{"$f":"--ISNUMBER(IFERROR(SEARCH('Vente Jour'!$K$6,S18,1),\"\"))","v":0},{"$f":"IF(T18=1,COUNTIF($T$3:T18,1),\"\")","v":""},{"$f":"IFERROR(INDEX(Cherche1,MATCH(ROWS($U$3:U18),Classement,0)),\"\")","v":""}]
["",null,null,null,null,null,null,null,null,null,null,null,null,null,null,null,null,null," ",{"$f":"--ISNUMBER(IFERROR(SEARCH('Vente Jour'!$K$6,S19,1),\"\"))","v":0},{"$f":"IF(T19=1,COUNTIF($T$3:T19,1),\"\")","v":""},{"$f":"IFERROR(INDEX(Cherche1,MATCH(ROWS($U$3:U19),Classement,0)),\"\")","v":""}]
["",null,null,null,null,null,null,null,null,null,null,null,null,null,null,null,null,null," ",{"$f":"--ISNUMBER(IFERROR(SEARCH('Vente Jour'!$K$6,S20,1),\"\"))","v":0},{"$f":"IF(T20=1,COUNTIF($T$3:T20,1),\"\")","v":""},{"$f":"IFERROR(INDEX(Cherche1,MATCH(ROWS($U$3:U20),Classement,0)),\"\")","v":""}]
["",null,null,null,null,null,null,null,null,null,null,null,null,null,null,null,null,null," ",{"$f":"--ISNUMBER(IFERROR(SEARCH('Vente Jour'!$K$6,S21,1),\"\"))","v":0},{"$f":"IF(T21=1,COUNTIF($T$3:T21,1),\"\")","v":""},{"$f":"IFERROR(INDEX(Cherche1,MATCH(ROWS($U$3:U21),Classement,0)),\"\")","v":""}]
["",null,null,null,null,null,null,null,null,null,null,null,null,null,null,null,null,null," ",{"$f":"--ISNUMBER(IFERROR(SEARCH('Vente Jour'!$K$6,S22,1),\"\"))","v":0},{"$f":"IF(T22=1,COUNTIF($T$3:T22,1),\"\")","v":""},{"$f":"IFERROR(INDEX(Cherche1,MATCH(ROWS($U$3:U22),Classement,0)),\"\")","v":""}]
["",null,null,null,null,null,null,null,null,null,null,null,null,null,null,null,null,null," ",{"$f":"--ISNUMBER(IFERROR(SEARCH('Vente Jour'!$K$6,S23,1),\"\"))","v":0},{"$f":"IF(T23=1,COUNTIF($T$3:T23,1),\"\")","v":""},{"$f":"IFERROR(INDEX(Cherche1,MATCH(ROWS($U$3:U23),Classement,0)),\"\")","v":""}]
["",null,null,null,null,null,null,null,null,null,null,null,null,null,null,null,null,null," ",{"$f":"--ISNUMBER(IFERROR(SEARCH('Vente Jour'!$K$6,S24,1),\"\"))","v":0},{"$f":"IF(T24=1,COUNTIF($T$3:T24,1),\"\")","v":""},{"$f":"IFERROR(INDEX(Cherche1,MATCH(ROWS($U$3:U24),Classement,0)),\"\")","v":""}]
["",null,null,null,null,null,null,null,null,null,null,null,null,null,null,null,null,null," ",{"$f":"--ISNUMBER(IFERROR(SEARCH('Vente Jour'!$K$6,S25,1),\"\"))","v":0},{"$f":"IF(T25=1,COUNTIF($T$3:T25,1),\"\")","v":""},{"$f":"IFERROR(INDEX(Cherche1,MATCH(ROWS($U$3:U25),Classement,0)),\"\")","v":""}]
["",null,null,null,null,null,null,null,null,null,null,null,null,null,null,null,null,null," ",{"$f":"--ISNUMBER(IFERROR(SEARCH('Vente Jour'!$K$6,S26,1),\"\"))","v":0},{"$f":"IF(T26=1,COUNTIF($T$3:T26,1),\"\")","v":""},{"$f":"IFERROR(INDEX(Cherche1,MATCH(ROWS($U$3:U26),Classement,0)),\"\")","v":""}]
["",null,null,null,null,null,null,null,null,null,null,null,null,null,null,null,null,null," ",{"$f":"--ISNUMBER(IFERROR(SEARCH('Vente Jour'!$K$6,S27,1),\"\"))","v":0},{"$f":"IF(T27=1,COUNTIF($T$3:T27,1),\"\")","v":""},{"$f":"IFERROR(INDEX(Cherche1,MATCH(ROWS($U$3:U27),Classement,0)),\"\")","v":""}]
["",null,null,null,null,null,null,null,null,null,null,null,null,null,null,null,null,null," ",{"$f":"--ISNUMBER(IFERROR(SEARCH('Vente Jour'!$K$6,S28,1),\"\"))","v":0},{"$f":"IF(T28=1,COUNTIF($T$3:T28,1),\"\")","v":""},{"$f":"IFERROR(INDEX(Cherche1,MATCH(ROWS($U$3:U28),Classement,0)),\"\")","v":""}]
["",null,null,null,null,null,null,null,null,null,null,null,null,null,null,null,null,null," ",{"$f":"--ISNUMBER(IFERROR(SEARCH('Vente Jour'!$K$6,S29,1),\"\"))","v":0},{"$f":"IF(T29=1,COUNTIF($T$3:T29,1),\"\")","v":""},{"$f":"IFERROR(INDEX(Cherche1,MATCH(ROWS($U$3:U29),Classement,0)),\"\")","v":""}]
["",null,null,null,null,null,null,null,null,null,null,null,null,null,null,null,null,null," ",{"$f":"--ISNUMBER(IFERROR(SEARCH('Vente Jour'!$K$6,S30,1),\"\"))","v":0},{"$f":"IF(T30=1,COUNTIF($T$3:T30,1),\"\")","v":""},{"$f":"IFERROR(INDEX(Cherche1,MATCH(ROWS($U$3:U30),Classement,0)),\"\")","v":""}]
["",null,null,null,null,null,null,null,null,null,null,null,null,null,null,null,null,null," ",{"$f":"--ISNUMBER(IFERROR(SEARCH('Vente Jour'!$K$6,S31,1),\"\"))","v":0},{"$f":"IF(T31=1,COUNTIF($T$3:T31,1),\"\")","v":""},{"$f":"IFERROR(INDEX(Cherche1,MATCH(ROWS($U$3:U31),Classement,0)),\"\")","v":""}]
["",null,null,null,null,null,null,null,null,null,null,null,null,null,null,null,null,null," ",{"$f":"--ISNUMBER(IFERROR(SEARCH('Vente Jour'!$K$6,S32,1),\"\"))","v":0},{"$f":"IF(T32=1,COUNTIF($T$3:T32,1),\"\")","v":""},{"$f":"IFERROR(INDEX(Cherche1,MATCH(ROWS($U$3:U32),Classement,0)),\"\")","v":""}]
["",null,null,null,null,null,null,null,null,null,null,null,null,null,null,null,null,null," ",{"$f":"--ISNUMBER(IFERROR(SEARCH('Vente Jour'!$K$6,S33,1),\"\"))","v":0},{"$f":"IF(T33=1,COUNTIF($T$3:T33,1),\"\")","v":""},{"$f":"IFERROR(INDEX(Cherche1,MATCH(ROWS($U$3:U33),Classement,0)),\"\")","v":""}]
["",null,null,null,null,null,null,null,null,null,null,null,null,null,null,null,null,null," ",{"$f":"--ISNUMBER(IFERROR(SEARCH('Vente Jour'!$K$6,S34,1),\"\"))","v":0},{"$f":"IF(T34=1,COUNTIF($T$3:T34,1),\"\")","v":""},{"$f":"IFERROR(INDEX(Cherche1,MATCH(ROWS($U$3:U34),Classement,0)),\"\")","v":""}]
["",null,null,null,null,null,null,null,null,null,null,null,null,null,null,null,null,null," ",{"$f":"--ISNUMBER(IFERROR(SEARCH('Vente Jour'!$K$6,S35,1),\"\"))","v":0},{"$f":"IF(T35=1,COUNTIF($T$3:T35,1),\"\")","v":""},{"$f":"IFERROR(INDEX(Cherche1,MATCH(ROWS($U$3:U35),Classement,0)),\"\")","v":""}]
["",null,null,null,null,null,null,null,null,null,null,null,null,null,null,null,null,null," ",{"$f":"--ISNUMBER(IFERROR(SEARCH('Vente Jour'!$K$6,S36,1),\"\"))","v":0},{"$f":"IF(T36=1,COUNTIF($T$3:T36,1),\"\")","v":""},{"$f":"IFERROR(INDEX(Cherche1,MATCH(ROWS($U$3:U36),Classement,0)),\"\")","v":""}]
["",null,null,null,null,null,null,null,null,null,null,null,null,null,null,null,null,null," ",{"$f":"--ISNUMBER(IFERROR(SEARCH('Vente Jour'!$K$6,S37,1),\"\"))","v":0},{"$f":"IF(T37=1,COUNTIF($T$3:T37,1),\"\")","v":""},{"$f":"IFERROR(INDEX(Cherche1,MATCH(ROWS($U$3:U37),Classement,0)),\"\")","v":""}]
["",null,null,null,null,null,null,null,null,null,null,null,null,null,null,null,null,null," ",{"$f":"--ISNUMBER(IFERROR(SEARCH('Vente Jour'!$K$6,S38,1),\"\"))","v":0},{"$f":"IF(T38=1,COUNTIF($T$3:T38,1),\"\")","v":""},{"$f":"IFERROR(INDEX(Cherche1,MATCH(ROWS($U$3:U38),Classement,0)),\"\")","v":""}]
["",null,null,null,null,null,null,null,null,null,null,null,null,null,null,null,null,null," ",{"$f":"--ISNUMBER(IFERROR(SEARCH('Vente Jour'!$K$6,S39,1),\"\"))","v":0},{"$f":"IF(T39=1,COUNTIF($T$3:T39,1),\"\")","v":""},{"$f":"IFERROR(INDEX(Cherche1,MATCH(ROWS($U$3:U39),Classement,0)),\"\")","v":""}]
["",null,null,null,null,null,null,null,null,null,null,null,null,null,null,null,null,null," ",{"$f":"--ISNUMBER(IFERROR(SEARCH('Vente Jour'!$K$6,S40,1),\"\"))","v":0},{"$f":"IF(T40=1,COUNTIF($T$3:T40,1),\"\")","v":""},{"$f":"IFERROR(INDEX(Cherche1,MATCH(ROWS($U$3:U40),Classement,0)),\"\")","v":""}]
["",null,null,null,null,null,null,null,null,null,null,null,null,null,null,null,null,null," ",{"$f":"--ISNUMBER(IFERROR(SEARCH('Vente Jour'!$K$6,S41,1),\"\"))","v":0},{"$f":"IF(T41=1,COUNTIF($T$3:T41,1),\"\")","v":""},{"$f":"IFERROR(INDEX(Cherche1,MATCH(ROWS($U$3:U41),Classement,0)),\"\")","v":""}]
["",null,null,null,null,null,null,null,null,null,null,null,null,null,null,null,null,null," ",{"$f":"--ISNUMBER(IFERROR(SEARCH('Vente Jour'!$K$6,S42,1),\"\"))","v":0},{"$f":"IF(T42=1,COUNTIF($T$3:T42,1),\"\")","v":""},{"$f":"IFERROR(INDEX(Cherche1,MATCH(ROWS($U$3:U42),Classement,0)),\"\")","v":""}]
["",null,null,null,null,null,null,null,null,null,null,null,null,null,null,null,null,null," ",{"$f":"--ISNUMBER(IFERROR(SEARCH('Vente Jour'!$K$6,S43,1),\"\"))","v":0},{"$f":"IF(T43=1,COUNTIF($T$3:T43,1),\"\")","v":""},{"$f":"IFERROR(INDEX(Cherche1,MATCH(ROWS($U$3:U43),Classement,0)),\"\")","v":""}]
["",null,null,null,null,null,null,null,null,null,null,null,null,null,null,null,null,null," ",{"$f":"--ISNUMBER(IFERROR(SEARCH('Vente Jour'!$K$6,S44,1),\"\"))","v":0},{"$f":"IF(T44=1,COUNTIF($T$3:T44,1),\"\")","v":""},{"$f":"IFERROR(INDEX(Cherche1,MATCH(ROWS($U$3:U44),Classement,0)),\"\")","v":""}]
["",null,null,null,null,null,null,null,null,null,null,null,null,null,null,null,null,null," ",{"$f":"--ISNUMBER(IFERROR(SEARCH('Vente Jour'!$K$6,S45,1),\"\"))","v":0},{"$f":"IF(T45=1,COUNTIF($T$3:T45,1),\"\")","v":""},{"$f":"IFERROR(INDEX(Cherche1,MATCH(ROWS($U$3:U45),Classement,0)),\"\")","v":""}]
["",null,null,null,null,null,null,null,null,null,null,null,null,null,null,null,null,null," ",{"$f":"--ISNUMBER(IFERROR(SEARCH('Vente Jour'!$K$6,S46,1),\"\"))","v":0},{"$f":"IF(T46=1,COUNTIF($T$3:T46,1),\"\")","v":""},{"$f":"IFERROR(INDEX(Cherche1,MATCH(ROWS($U$3:U46),Classement,0)),\"\")","v":""}]
["",null,null,null,null,null,null,null,null,null,null,null,null,null,null,null,null,null," ",{"$f":"--ISNUMBER(IFERROR(SEARCH('Vente Jour'!$K$6,S47,1),\"\"))","v":0},{"$f":"IF(T47=1,COUNTIF($T$3:T47,1),\"\")","v":""},{"$f":"IFERROR(INDEX(Cherche1,MATCH(ROWS($U$3:U47),Classement,0)),\"\")","v":""}]
["",null,null,null,null,null,null,null,null,null,null,null,null,null,null,null,null,null," ",{"$f":"--ISNUMBER(IFERROR(SEARCH('Vente Jour'!$K$6,S48,1),\"\"))","v":0},{"$f":"IF(T48=1,COUNTIF($T$3:T48,1),\"\")","v":""},{"$f":"IFERROR(INDEX(Cherche1,MATCH(ROWS($U$3:U48),Classement,0)),\"\")","v":""}]
["",null,null,null,null,null,null,null,null,null,null,null,null,null,null,null,null,null," ",{"$f":"--ISNUMBER(IFERROR(SEARCH('Vente Jour'!$K$6,S49,1),\"\"))","v":0},{"$f":"IF(T49=1,COUNTIF($T$3:T49,1),\"\")","v":""},{"$f":"IFERROR(INDEX(Cherche1,MATCH(ROWS($U$3:U49),Classement,0)),\"\")","v":""}]
["",null,null,null,null,null,null,null,null,null,null,null,null,null,null,null,null,null," ",{"$f":"--ISNUMBER(IFERROR(SEARCH('Vente Jour'!$K$6,S50,1),\"\"))","v":0},{"$f":"IF(T50=1,COUNTIF($T$3:T50,1),\"\")","v":""},{"$f":"IFERROR(INDEX(Cherche1,MATCH(ROWS($U$3:U50),Classement,0)),\"\")","v":""}]
["",null,null,null,null,null,null,null,null,null,null,null,null,null,null,null,null,null," ",{"$f":"--ISNUMBER(IFERROR(SEARCH('Vente Jour'!$K$6,S51,1),\"\"))","v":0},{"$f":"IF(T51=1,COUNTIF($T$3:T51,1),\"\")","v":""},{"$f":"IFERROR(INDEX(Cherche1,MATCH(ROWS($U$3:U51),Classement,0)),\"\")","v":""}]
["",null,null,null,null,null,null,null,null,null,null,null,null,null,null,null,null,null," ",{"$f":"--ISNUMBER(IFERROR(SEARCH('Vente Jour'!$K$6,S52,1),\"\"))","v":0},{"$f":"IF(T52=1,COUNTIF($T$3:T52,1),\"\")","v":""},{"$f":"IFERROR(INDEX(Cherche1,MATCH(ROWS($U$3:U52),Classement,0)),\"\")","v":""}]
["",null,null,null,null,null,null,null,null,null,null,null,null,null,null,null,null,null," ",{"$f":"--ISNUMBER(IFERROR(SEARCH('Vente Jour'!$K$6,S53,1),\"\"))","v":0},{"$f":"IF(T53=1,COUNTIF($T$3:T53,1),\"\")","v":""},{"$f":"IFERROR(INDEX(Cherche1,MATCH(ROWS($U$3:U53),Classement,0)),\"\")","v":""}]
["",null,null,null,null,null,null,null,null,null,null,null,null,null,null,null,null,null," ",{"$f":"--ISNUMBER(IFERROR(SEARCH('Vente Jour'!$K$6,S54,1),\"\"))","v":0},{"$f":"IF(T54=1,COUNTIF($T$3:T54,1),\"\")","v":""},{"$f":"IFERROR(INDEX(Cherche1,MATCH(ROWS($U$3:U54),Classement,0)),\"\")","v":""}]
["",null,null,null,null,null,null,null,null,null,null,null,null,null,null,null,null,null," ",{"$f":"--ISNUMBER(IFERROR(SEARCH('Vente Jour'!$K$6,S55,1),\"\"))","v":0},{"$f":"IF(T55=1,COUNTIF($T$3:T55,1),\"\")","v":""},{"$f":"IFERROR(INDEX(Cherche1,MATCH(ROWS($U$3:U55),Classement,0)),\"\")","v":""}]
["",null,null,null,null,null,null,null,null,null,null,null,null,null,null,null,null,null," ",{"$f":"--ISNUMBER(IFERROR(SEARCH('Vente Jour'!$K$6,S56,1),\"\"))","v":0},{"$f":"IF(T56=1,COUNTIF($T$3:T56,1),\"\")","v":""},{"$f":"IFERROR(INDEX(Cherche1,MATCH(ROWS($U$3:U56),Classement,0)),\"\")","v":""}]
["",null,null,null,null,null,null,null,null,null,null,null,null,null,null,null,null,null," ",{"$f":"--ISNUMBER(IFERROR(SEARCH('Vente Jour'!$K$6,S57,1),\"\"))","v":0},{"$f":"IF(T57=1,COUNTIF($T$3:T57,1),\"\")","v":""},{"$f":"IFERROR(INDEX(Cherche1,MATCH(ROWS($U$3:U57),Classement,0)),\"\")","v":""}]
["",null,null,null,null,null,null,null,null,null,null,null,null,null,null,null,null,null," ",{"$f":"--ISNUMBER(IFERROR(SEARCH('Vente Jour'!$K$6,S58,1),\"\"))","v":0},{"$f":"IF(T58=1,COUNTIF($T$3:T58,1),\"\")","v":""},{"$f":"IFERROR(INDEX(Cherche1,MATCH(ROWS($U$3:U58),Classement,0)),\"\")","v":""}]
["",null,null,null,null,null,null,null,null,null,null,null,null,null,null,null,null,null," ",{"$f":"--ISNUMBER(IFERROR(SEARCH('Vente Jour'!$K$6,S59,1),\"\"))","v":0},{"$f":"IF(T59=1,COUNTIF($T$3:T59,1),\"\")","v":""},{"$f":"IFERROR(INDEX(Cherche1,MATCH(ROWS($U$3:U59),Classement,0)),\"\")","v":""}]
["",null,null,null,null,null,null,null,null,null,null,null,null,null,null,null,null,null," ",{"$f":"--ISNUMBER(IFERROR(SEARCH('Vente Jour'!$K$6,S60,1),\"\"))","v":0},{"$f":"IF(T60=1,COUNTIF($T$3:T60,1),\"\")","v":""},{"$f":"IFERROR(INDEX(Cherche1,MATCH(ROWS($U$3:U60),Classement,0)),\"\")","v":""}]
["",null,null,null,null,null,null,null,null,null,null,null,null,null,null,null,null,null," ",{"$f":"--ISNUMBER(IFERROR(SEARCH('Vente Jour'!$K$6,S61,1),\"\"))","v":0},{"$f":"IF(T61=1,COUNTIF($T$3:T61,1),\"\")","v":""},{"$f":"IFERROR(INDEX(Cherche1,MATCH(ROWS($U$3:U61),Classement,0)),\"\")","v":""}]
["",null,null,null,null,null,null,null,null,null,null,null,null,null,null,null,null,null," ",{"$f":"--ISNUMBER(IFERROR(SEARCH('Vente Jour'!$K$6,S62,1),\"\"))","v":0},{"$f":"IF(T62=1,COUNTIF($T$3:T62,1),\"\")","v":""},{"$f":"IFERROR(INDEX(Cherche1,MATCH(ROWS($U$3:U62),Classement,0)),\"\")","v":""}]
["",null,null,null,null,null,null,null,null,null,null,null,null,null,null,null,null,null," ",{"$f":"--ISNUMBER(IFERROR(SEARCH('Vente Jour'!$K$6,S63,1),\"\"))","v":0},{"$f":"IF(T63=1,COUNTIF($T$3:T63,1),\"\")","v":""},{"$f":"IFERROR(INDEX(Cherche1,MATCH(ROWS($U$3:U63),Classement,0)),\"\")","v":""}]
["",null,null,null,null,null,null,null,null,null,null,null,null,null,null,null,null,null," ",{"$f":"--ISNUMBER(IFERROR(SEARCH('Vente Jour'!$K$6,S64,1),\"\"))","v":0},{"$f":"IF(T64=1,COUNTIF($T$3:T64,1),\"\")","v":""},{"$f":"IFERROR(INDEX(Cherche1,MATCH(ROWS($U$3:U64),Classement,0)),\"\")","v":""}]
["",null,null,null,null,null,null,null,null,null,null,null,null,null,null,null,null,null," ",{"$f":"--ISNUMBER(IFERROR(SEARCH('Vente Jour'!$K$6,S65,1),\"\"))","v":0},{"$f":"IF(T65=1,COUNTIF($T$3:T65,1),\"\")","v":""},{"$f":"IFERROR(INDEX(Cherche1,MATCH(ROWS($U$3:U65),Classement,0)),\"\")","v":""}]
["",null,null,null,null,null,null,null,null,null,null,null,null,null,null,null,null,null," ",{"$f":"--ISNUMBER(IFERROR(SEARCH('Vente Jour'!$K$6,S66,1),\"\"))","v":0},{"$f":"IF(T66=1,COUNTIF($T$3:T66,1),\"\")","v":""},{"$f":"IFERROR(INDEX(Cherche1,MATCH(ROWS($U$3:U66),Classement,0)),\"\")","v":""}]
["",null,null,null,null,null,null,null,null,null,null,null,null,null,null,null,null,null," ",{"$f":"--ISNUMBER(IFERROR(SEARCH('Vente Jour'!$K$6,S67,1),\"\"))","v":0},{"$f":"IF(T67=1,COUNTIF($T$3:T67,1),\"\")","v":""},{"$f":"IFERROR(INDEX(Cherche1,MATCH(ROWS($U$3:U67),Classement,0)),\"\")","v":""}]
["",null,null,null,null,null,null,null,null,null,null,null,null,null,null,null,null,null," ",{"$f":"--ISNUMBER(IFERROR(SEARCH('Vente Jour'!$K$6,S68,1),\"\"))","v":0},{"$f":"IF(T68=1,COUNTIF($T$3:T68,1),\"\")","v":""},{"$f":"IFERROR(INDEX(Cherche1,MATCH(ROWS($U$3:U68),Classement,0)),\"\")","v":""}]
[{"$f":"IF(B69=\"\",\"\",A68+1)","v":""},null,null,null,null,null,null,null,null,null,null,null,null,null,null,null,null,null," ",{"$f":"--ISNUMBER(IFERROR(SEARCH('Vente Jour'!$K$6,S69,1),\"\"))","v":0},{"$f":"IF(T69=1,COUNTIF($T$3:T69,1),\"\")","v":""},{"$f":"IFERROR(INDEX(Cherche1,MATCH(ROWS($U$3:U69),Classement,0)),\"\")","v":""}]
["",null,null,null,null,null,null,null,null,null,null,null,null,null,null,null,null,null," ",{"$f":"--ISNUMBER(IFERROR(SEARCH('Vente Jour'!$K$6,S70,1),\"\"))","v":0},{"$f":"IF(T70=1,COUNTIF($T$3:T70,1),\"\")","v":""},{"$f":"IFERROR(INDEX(Cherche1,MATCH(ROWS($U$3:U70),Classement,0)),\"\")","v":""}]
["",null,null,null,null,null,null,null,null,null,null,null,null,null,null,null,null,null," ",{"$f":"--ISNUMBER(IFERROR(SEARCH('Vente Jour'!$K$6,S71,1),\"\"))","v":0},{"$f":"IF(T71=1,COUNTIF($T$3:T71,1),\"\")","v":""},{"$f":"IFERROR(INDEX(Cherche1,MATCH(ROWS($U$3:U71),Classement,0)),\"\")","v":""}]
["",null,null,null,null,null,null,null,null,null,null,null,null,null,null,null,null,null," ",{"$f":"--ISNUMBER(IFERROR(SEARCH('Vente Jour'!$K$6,S72,1),\"\"))","v":0},{"$f":"IF(T72=1,COUNTIF($T$3:T72,1),\"\")","v":""},{"$f":"IFERROR(INDEX(Cherche1,MATCH(ROWS($U$3:U72),Classement,0)),\"\")","v":""}]
["",null,null,null,null,null,null,null,null,null,null,null,null,null,null,null,null,null," ",{"$f":"--ISNUMBER(IFERROR(SEARCH('Vente Jour'!$K$6,S73,1),\"\"))","v":0},{"$f":"IF(T73=1,COUNTIF($T$3:T73,1),\"\")","v":""},{"$f":"IFERROR(INDEX(Cherche1,MATCH(ROWS($U$3:U73),Classement,0)),\"\")","v":""}]
["",null,null,null,null,null,null,null,null,null,null,null,null,null,null,null,null,null," ",{"$f":"--ISNUMBER(IFERROR(SEARCH('Vente Jour'!$K$6,S74,1),\"\"))","v":0},{"$f":"IF(T74=1,COUNTIF($T$3:T74,1),\"\")","v":""},{"$f":"IFERROR(INDEX(Cherche1,MATCH(ROWS($U$3:U74),Classement,0)),\"\")","v":""}]
["",null,null,null,null,null,null,null,null,null,null,null,null,null,null,null,null,null," ",{"$f":"--ISNUMBER(IFERROR(SEARCH('Vente Jour'!$K$6,S75,1),\"\"))","v":0},{"$f":"IF(T75=1,COUNTIF($T$3:T75,1),\"\")","v":""},{"$f":"IFERROR(INDEX(Cherche1,MATCH(ROWS($U$3:U75),Classement,0)),\"\")","v":""}]
["",null,null,null,null,null,null,null,null,null,null,null,null,null,null,null,null,null," ",{"$f":"--ISNUMBER(IFERROR(SEARCH('Vente Jour'!$K$6,S76,1),\"\"))","v":0},{"$f":"IF(T76=1,COUNTIF($T$3:T76,1),\"\")","v":""},{"$f":"IFERROR(INDEX(Cherche1,MATCH(ROWS($U$3:U76),Classement,0)),\"\")","v":""}]
["",null,null,null,null,null,null,null,null,null,null,null,null,null,null,null,null,null," ",{"$f":"--ISNUMBER(IFERROR(SEARCH('Vente Jour'!$K$6,S77,1),\"\"))","v":0},{"$f":"IF(T77=1,COUNTIF($T$3:T77,1),\"\")","v":""},{"$f":"IFERROR(INDEX(Cherche1,MATCH(ROWS($U$3:U77),Classement,0)),\"\")","v":""}]
["",null,null,null,null,null,null,null,null,null,null,null,null,null,null,null,null,null," ",{"$f":"--ISNUMBER(IFERROR(SEARCH('Vente Jour'!$K$6,S78,1),\"\"))","v":0},{"$f":"IF(T78=1,COUNTIF($T$3:T78,1),\"\")","v":""},{"$f":"IFERROR(INDEX(Cherche1,MATCH(ROWS($U$3:U78),Classement,0)),\"\")","v":""}]
["",null,null,null,null,null,null,null,null,null,null,null,null,null,null,null,null,null,{"$f":"CONCATENATE(B79,\" \",C79)","v":" "},{"$f":"--ISNUMBER(IFERROR(SEARCH('Vente Jour'!$K$6,S79,1),\"\"))","v":0},{"$f":"IF(T79=1,COUNTIF($T$3:T79,1),\"\")","v":""},{"$f":"IFERROR(INDEX(Cherche1,MATCH(ROWS($U$3:U79),Classement,0)),\"\")","v":""}]
["",null,null,null,null,null,null,null,null,null,null,null,null,null,null,null,null,null," ",{"$f":"--ISNUMBER(IFERROR(SEARCH('Vente Jour'!$K$6,S80,1),\"\"))","v":0},{"$f":"IF(T80=1,COUNTIF($T$3:T80,1),\"\")","v":""},{"$f":"IFERROR(INDEX(Cherche1,MATCH(ROWS($U$3:U80),Classement,0)),\"\")","v":""}]
["",null,null,null,null,null,null,null,null,null,null,null,null,null,null,null,null,null," ",{"$f":"--ISNUMBER(IFERROR(SEARCH('Vente Jour'!$K$6,S81,1),\"\"))","v":0},{"$f":"IF(T81=1,COUNTIF($T$3:T81,1),\"\")","v":""},{"$f":"IFERROR(INDEX(Cherche1,MATCH(ROWS($U$3:U81),Classement,0)),\"\")","v":""}]
["",null,null,null,null,null,null,null,null,null,null,null,null,null,null,null,null,null," ",{"$f":"--ISNUMBER(IFERROR(SEARCH('Vente Jour'!$K$6,S82,1),\"\"))","v":0},{"$f":"IF(T82=1,COUNTIF($T$3:T82,1),\"\")","v":""},{"$f":"IFERROR(INDEX(Cherche1,MATCH(ROWS($U$3:U82),Classement,0)),\"\")","v":""}]
["",null,null,null,null,null,null,null,null,null,null,null,null,null,null,null,null,null," ",{"$f":"--ISNUMBER(IFERROR(SEARCH('Vente Jour'!$K$6,S83,1),\"\"))","v":0},{"$f":"IF(T83=1,COUNTIF($T$3:T83,1),\"\")","v":""},{"$f":"IFERROR(INDEX(Cherche1,MATCH(ROWS($U$3:U83),Classement,0)),\"\")","v":""}]
["",null,null,null,null,null,null,null,null,null,null,null,null,null,null,null,null,null," ",{"$f":"--ISNUMBER(IFERROR(SEARCH('Vente Jour'!$K$6,S84,1),\"\"))","v":0},{"$f":"IF(T84=1,COUNTIF($T$3:T84,1),\"\")","v":""},{"$f":"IFERROR(INDEX(Cherche1,MATCH(ROWS($U$3:U84),Classement,0)),\"\")","v":""}]
["",null,null,null,null,null,null,null,null,null,null,null,null,null,null,null,null,null," ",{"$f":"--ISNUMBER(IFERROR(SEARCH('Vente Jour'!$K$6,S85,1),\"\"))","v":0},{"$f":"IF(T85=1,COUNTIF($T$3:T85,1),\"\")","v":""},{"$f":"IFERROR(INDEX(Cherche1,MATCH(ROWS($U$3:U85),Classement,0)),\"\")","v":""}]
["",null,null,null,null,null,null,null,null,null,null,null,null,null,null,null,null,null," ",{"$f":"--ISNUMBER(IFERROR(SEARCH('Vente Jour'!$K$6,S86,1),\"\"))","v":0},{"$f":"IF(T86=1,COUNTIF($T$3:T86,1),\"\")","v":""},{"$f":"IFERROR(INDEX(Cherche1,MATCH(ROWS($U$3:U86),Classement,0)),\"\")","v":""}]
["",null,null,null,null,null,null,null,null,null,null,null,null,null,null,null,null,null," ",{"$f":"--ISNUMBER(IFERROR(SEARCH('Vente Jour'!$K$6,S87,1),\"\"))","v":0},{"$f":"IF(T87=1,COUNTIF($T$3:T87,1),\"\")","v":""},{"$f":"IFERROR(INDEX(Cherche1,MATCH(ROWS($U$3:U87),Classement,0)),\"\")","v":""}]
["",null,null,null,null,null,null,null,null,null,null,null,null,null,null,null,null,null," ",{"$f":"--ISNUMBER(IFERROR(SEARCH('Vente Jour'!$K$6,S88,1),\"\"))","v":0},{"$f":"IF(T88=1,COUNTIF($T$3:T88,1),\"\")","v":""},{"$f":"IFERROR(INDEX(Cherche1,MATCH(ROWS($U$3:U88),Classement,0)),\"\")","v":""}]
["",null,null,null,null,null,null,null,null,null,null,null,null,null,null,null,null,null," ",{"$f":"--ISNUMBER(IFERROR(SEARCH('Vente Jour'!$K$6,S89,1),\"\"))","v":0},{"$f":"IF(T89=1,COUNTIF($T$3:T89,1),\"\")","v":""},{"$f":"IFERROR(INDEX(Cherche1,MATCH(ROWS($U$3:U89),Classement,0)),\"\")","v":""}]
["",null,null,null,null,null,null,null,null,null,null,null,null,null,null,null,null,null," ",{"$f":"--ISNUMBER(IFERROR(SEARCH('Vente Jour'!$K$6,S90,1),\"\"))","v":0},{"$f":"IF(T90=1,COUNTIF($T$3:T90,1),\"\")","v":""},{"$f":"IFERROR(INDEX(Cherche1,MATCH(ROWS($U$3:U90),Classement,0)),\"\")","v":""}]
["",null,null,null,null,null,null,null,null,null,null,null,null,null,null,null,null,null," ",{"$f":"--ISNUMBER(IFERROR(SEARCH('Vente Jour'!$K$6,S91,1),\"\"))","v":0},{"$f":"IF(T91=1,COUNTIF($T$3:T91,1),\"\")","v":""},{"$f":"IFERROR(INDEX(Cherche1,MATCH(ROWS($U$3:U91),Classement,0)),\"\")","v":""}]
["",null,null,null,null,null,null,null,null,null,null,null,null,null,null,null,null,null," ",{"$f":"--ISNUMBER(IFERROR(SEARCH('Vente Jour'!$K$6,S92,1),\"\"))","v":0},{"$f":"IF(T92=1,COUNTIF($T$3:T92,1),\"\")","v":""},{"$f":"IFERROR(INDEX(Cherche1,MATCH(ROWS($U$3:U92),Classement,0)),\"\")","v":""}]
["",null,null,null,null,null,null,null,null,null,null,null,null,null,null,null,null,null," ",{"$f":"--ISNUMBER(IFERROR(SEARCH('Vente Jour'!$K$6,S93,1),\"\"))","v":0},{"$f":"IF(T93=1,COUNTIF($T$3:T93,1),\"\")","v":""},{"$f":"IFERROR(INDEX(Cherche1,MATCH(ROWS($U$3:U93),Classement,0)),\"\")","v":""}]
["",null,null,null,null,null,null,null,null,null,null,null,null,null,null,null,null,null," ",{"$f":"--ISNUMBER(IFERROR(SEARCH('Vente Jour'!$K$6,S94,1),\"\"))","v":0},{"$f":"IF(T94=1,COUNTIF($T$3:T94,1),\"\")","v":""},{"$f":"IFERROR(INDEX(Cherche1,MATCH(ROWS($U$3:U94),Classement,0)),\"\")","v":""}]
["",null,null,null,null,null,null,null,null,null,null,null,null,null,null,null,null,null," ",{"$f":"--ISNUMBER(IFERROR(SEARCH('Vente Jour'!$K$6,S95,1),\"\"))","v":0},{"$f":"IF(T95=1,COUNTIF($T$3:T95,1),\"\")","v":""},{"$f":"IFERROR(INDEX(Cherche1,MATCH(ROWS($U$3:U95),Classement,0)),\"\")","v":""}]
["",null,null,null,null,null,null,null,null,null,null,null,null,null,null,null,null,null," ",{"$f":"--ISNUMBER(IFERROR(SEARCH('Vente Jour'!$K$6,S96,1),\"\"))","v":0},{"$f":"IF(T96=1,COUNTIF($T$3:T96,1),\"\")","v":""},{"$f":"IFERROR(INDEX(Cherche1,MATCH(ROWS($U$3:U96),Classement,0)),\"\")","v":""}]
["",null,null,null,null,null,null,null,null,null,null,null,null,null,null,null,null,null," ",{"$f":"--ISNUMBER(IFERROR(SEARCH('Vente Jour'!$K$6,S97,1),\"\"))","v":0},{"$f":"IF(T97=1,COUNTIF($T$3:T97,1),\"\")","v":""},{"$f":"IFERROR(INDEX(Cherche1,MATCH(ROWS($U$3:U97),Classement,0)),\"\")","v":""}]
["",null,null,null,null,null,null,null,null,null,null,null,null,null,null,null,null,null," ",{"$f":"--ISNUMBER(IFERROR(SEARCH('Vente Jour'!$K$6,S98,1),\"\"))","v":0},{"$f":"IF(T98=1,COUNTIF($T$3:T98,1),\"\")","v":""},{"$f":"IFERROR(INDEX(Cherche1,MATCH(ROWS($U$3:U98),Classement,0)),\"\")","v":""}]
["",null,null,null,null,null,null,null,null,null,null,null,null,null,null,null,null,null," ",{"$f":"--ISNUMBER(IFERROR(SEARCH('Vente Jour'!$K$6,S99,1),\"\"))","v":0},{"$f":"IF(T99=1,COUNTIF($T$3:T99,1),\"\")","v":""},{"$f":"IFERROR(INDEX(Cherche1,MATCH(ROWS($U$3:U99),Classement,0)),\"\")","v":""}]
["",null,null,null,null,null,null,null,null,null,null,null,null,null,null,null,null,null," ",{"$f":"--ISNUMBER(IFERROR(SEARCH('Vente Jour'!$K$6,S100,1),\"\"))","v":0},{"$f":"IF(T100=1,COUNTIF($T$3:T100,1),\"\")","v":""},{"$f":"IFERROR(INDEX(Cherche1,MATCH(ROWS($U$3:U100),Classement,0)),\"\")","v":""}]
["",null,null,null,null,null,null,null,null,null,null,null,null,null,null,null,null,null," ",{"$f":"--ISNUMBER(IFERROR(SEARCH('Vente Jour'!$K$6,S101,1),\"\"))","v":0},{"$f":"IF(T101=1,COUNTIF($T$3:T101,1),\"\")","v":""},{"$f":"IFERROR(INDEX(Cherche1,MATCH(ROWS($U$3:U101),Classement,0)),\"\")","v":""}]
["",null,null,null,null,null,null,null,null,null,null,null,null,null,null,null,null,null," ",{"$f":"--ISNUMBER(IFERROR(SEARCH('Vente Jour'!$K$6,S102,1),\"\"))","v":0},{"$f":"IF(T102=1,COUNTIF($T$3:T102,1),\"\")","v":""},{"$f":"IFERROR(INDEX(Cherche1,MATCH(ROWS($U$3:U102),Classement,0)),\"\")","v":""}]
["",null,null,null,null,null,null,null,null,null,null,null,null,null,null,null,null,null," ",{"$f":"--ISNUMBER(IFERROR(SEARCH('Vente Jour'!$K$6,S103,1),\"\"))","v":0},{"$f":"IF(T103=1,COUNTIF($T$3:T103,1),\"\")","v":""},{"$f":"IFERROR(INDEX(Cherche1,MATCH(ROWS($U$3:U103),Classement,0)),\"\")","v":""}]
["",null,null,null,null,null,null,null,null,null,null,null,null,null,null,null,null,null," ",{"$f":"--ISNUMBER(IFERROR(SEARCH('Vente Jour'!$K$6,S104,1),\"\"))","v":0},{"$f":"IF(T104=1,COUNTIF($T$3:T104,1),\"\")","v":""},{"$f":"IFERROR(INDEX(Cherche1,MATCH(ROWS($U$3:U104),Classement,0)),\"\")","v":""}]
["",null,null,null,null,null,null,null,null,null,null,null,null,null,null,null,null,null," ",{"$f":"--ISNUMBER(IFERROR(SEARCH('Vente Jour'!$K$6,S105,1),\"\"))","v":0},{"$f":"IF(T105=1,COUNTIF($T$3:T105,1),\"\")","v":""},{"$f":"IFERROR(INDEX(Cherche1,MATCH(ROWS($U$3:U105),Classement,0)),\"\")","v":""}]
["",null,null,null,null,null,null,null,null,null,null,null,null,null,null,null,null,null," ",{"$f":"--ISNUMBER(IFERROR(SEARCH('Vente Jour'!$K$6,S106,1),\"\"))","v":0},{"$f":"IF(T106=1,COUNTIF($T$3:T106,1),\"\")","v":""},{"$f":"IFERROR(INDEX(Cherche1,MATCH(ROWS($U$3:U106),Classement,0)),\"\")","v":""}]
["",null,null,null,null,null,null,null,null,null,null,null,null,null,null,null,null,null," ",{"$f":"--ISNUMBER(IFERROR(SEARCH('Vente Jour'!$K$6,S107,1),\"\"))","v":0},{"$f":"IF(T107=1,COUNTIF($T$3:T107,1),\"\")","v":""},{"$f":"IFERROR(INDEX(Cherche1,MATCH(ROWS($U$3:U107),Classement,0)),\"\")","v":""}]
["",null,null,null,null,null,null,null,null,null,null,null,null,null,null,null,null,null," ",{"$f":"--ISNUMBER(IFERROR(SEARCH('Vente Jour'!$K$6,S108,1),\"\"))","v":0},{"$f":"IF(T108=1,COUNTIF($T$3:T108,1),\"\")","v":""},{"$f":"IFERROR(INDEX(Cherche1,MATCH(ROWS($U$3:U108),Classement,0)),\"\")","v":""}]
["",null,null,null,null,null,null,null,null,null,null,null,null,null,null,null,null,null," ",{"$f":"--ISNUMBER(IFERROR(SEARCH('Vente Jour'!$K$6,S109,1),\"\"))","v":0},{"$f":"IF(T109=1,COUNTIF($T$3:T109,1),\"\")","v":""},{"$f":"IFERROR(INDEX(Cherche1,MATCH(ROWS($U$3:U109),Classement,0)),\"\")","v":""}]
["",null,null,null,null,null,null,null,null,null,null,null,null,null,null,null,null,null," ",{"$f":"--ISNUMBER(IFERROR(SEARCH('Vente Jour'!$K$6,S110,1),\"\"))","v":0},{"$f":"IF(T110=1,COUNTIF($T$3:T110,1),\"\")","v":""},{"$f":"IFERROR(INDEX(Cherche1,MATCH(ROWS($U$3:U110),Classement,0)),\"\")","v":""}]
["",null,null,null,null,null,null,null,null,null,null,null,null,null,null,null,null,null," ",{"$f":"--ISNUMBER(IFERROR(SEARCH('Vente Jour'!$K$6,S111,1),\"\"))","v":0},{"$f":"IF(T111=1,COUNTIF($T$3:T111,1),\"\")","v":""},{"$f":"IFERROR(INDEX(Cherche1,MATCH(ROWS($U$3:U111),Classement,0)),\"\")","v":""}]
["",null,null,null,null,null,null,null,null,null,null,null,null,null,null,null,null,null," ",{"$f":"--ISNUMBER(IFERROR(SEARCH('Vente Jour'!$K$6,S112,1),\"\"))","v":0},{"$f":"IF(T112=1,COUNTIF($T$3:T112,1),\"\")","v":""},{"$f":"IFERROR(INDEX(Cherche1,MATCH(ROWS($U$3:U112),Classement,0)),\"\")","v":""}]
["",null,null,null,null,null,null,null,null,null,null,null,null,null,null,null,null,null," ",{"$f":"--ISNUMBER(IFERROR(SEARCH('Vente Jour'!$K$6,S113,1),\"\"))","v":0},{"$f":"IF(T113=1,COUNTIF($T$3:T113,1),\"\")","v":""},{"$f":"IFERROR(INDEX(Cherche1,MATCH(ROWS($U$3:U113),Classement,0)),\"\")","v":""}]
["",null,null,null,null,null,null,null,null,null,null,null,null,null,null,null,null,null," ",{"$f":"--ISNUMBER(IFERROR(SEARCH('Vente Jour'!$K$6,S114,1),\"\"))","v":0},{"$f":"IF(T114=1,COUNTIF($T$3:T114,1),\"\")","v":""},{"$f":"IFERROR(INDEX(Cherche1,MATCH(ROWS($U$3:U114),Classement,0)),\"\")","v":""}]
["",null,null,null,null,null,null,null,null,null,null,null,null,null,null,null,null,null," ",{"$f":"--ISNUMBER(IFERROR(SEARCH('Vente Jour'!$K$6,S115,1),\"\"))","v":0},{"$f":"IF(T115=1,COUNTIF($T$3:T115,1),\"\")","v":""},{"$f":"IFERROR(INDEX(Cherche1,MATCH(ROWS($U$3:U115),Classement,0)),\"\")","v":""}]
["",null,null,null,null,null,null,null,null,null,null,null,null,null,null,null,null,null," ",{"$f":"--ISNUMBER(IFERROR(SEARCH('Vente Jour'!$K$6,S116,1),\"\"))","v":0},{"$f":"IF(T116=1,COUNTIF($T$3:T116,1),\"\")","v":""},{"$f":"IFERROR(INDEX(Cherche1,MATCH(ROWS($U$3:U116),Classement,0)),\"\")","v":""}]
["",null,null,null,null,null,null,null,null,null,null,null,null,null,null,null,null,null," ",{"$f":"--ISNUMBER(IFERROR(SEARCH('Vente Jour'!$K$6,S117,1),\"\"))","v":0},{"$f":"IF(T117=1,COUNTIF($T$3:T117,1),\"\")","v":""},{"$f":"IFERROR(INDEX(Cherche1,MATCH(ROWS($U$3:U117),Classement,0)),\"\")","v":""}]
["",null,null,null,null,null,null,null,null,null,null,null,null,null,null,null,null,null," ",{"$f":"--ISNUMBER(IFERROR(SEARCH('Vente Jour'!$K$6,S118,1),\"\"))","v":0},{"$f":"IF(T118=1,COUNTIF($T$3:T118,1),\"\")","v":""},{"$f":"IFERROR(INDEX(Cherche1,MATCH(ROWS($U$3:U118),Classement,0)),\"\")","v":""}]
["",null,null,null,null,null,null,null,null,null,null,null,null,null,null,null,null,null," ",{"$f":"--ISNUMBER(IFERROR(SEARCH('Vente Jour'!$K$6,S119,1),\"\"))","v":0},{"$f":"IF(T119=1,COUNTIF($T$3:T119,1),\"\")","v":""},{"$f":"IFERROR(INDEX(Cherche1,MATCH(ROWS($U$3:U119),Classement,0)),\"\")","v":""}]
["",null,null,null,null,null,null,null,null,null,null,null,null,null,null,null,null,null," ",{"$f":"--ISNUMBER(IFERROR(SEARCH('Vente Jour'!$K$6,S120,1),\"\"))","v":0},{"$f":"IF(T120=1,COUNTIF($T$3:T120,1),\"\")","v":""},{"$f":"IFERROR(INDEX(Cherche1,MATCH(ROWS($U$3:U120),Classement,0)),\"\")","v":""}]
["",null,null,null,null,null,null,null,null,null,null,null,null,null,null,null,null,null," ",{"$f":"--ISNUMBER(IFERROR(SEARCH('Vente Jour'!$K$6,S121,1),\"\"))","v":0},{"$f":"IF(T121=1,COUNTIF($T$3:T121,1),\"\")","v":""},{"$f":"IFERROR(INDEX(Cherche1,MATCH(ROWS($U$3:U121),Classement,0)),\"\")","v":""}]
["",null,null,null,null,null,null,null,null,null,null,null,null,null,null,null,null,null," ",{"$f":"--ISNUMBER(IFERROR(SEARCH('Vente Jour'!$K$6,S122,1),\"\"))","v":0},{"$f":"IF(T122=1,COUNTIF($T$3:T122,1),\"\")","v":""},{"$f":"IFERROR(INDEX(Cherche1,MATCH(ROWS($U$3:U122),Classement,0)),\"\")","v":""}]
["",null,null,null,null,null,null,null,null,null,null,null,null,null,null,null,null,null," ",{"$f":"--ISNUMBER(IFERROR(SEARCH('Vente Jour'!$K$6,S123,1),\"\"))","v":0},{"$f":"IF(T123=1,COUNTIF($T$3:T123,1),\"\")","v":""},{"$f":"IFERROR(INDEX(Cherche1,MATCH(ROWS($U$3:U123),Classement,0)),\"\")","v":""}]
["",null,null,null,null,null,null,null,null,null,null,null,null,null,null,null,null,null," ",{"$f":"--ISNUMBER(IFERROR(SEARCH('Vente Jour'!$K$6,S124,1),\"\"))","v":0},{"$f":"IF(T124=1,COUNTIF($T$3:T124,1),\"\")","v":""},{"$f":"IFERROR(INDEX(Cherche1,MATCH(ROWS($U$3:U124),Classement,0)),\"\")","v":""}]
["",null,null,null,null,null,null,null,null,null,null,null,null,null,null,null,null,null," ",{"$f":"--ISNUMBER(IFERROR(SEARCH('Vente Jour'!$K$6,S125,1),\"\"))","v":0},{"$f":"IF(T125=1,COUNTIF($T$3:T125,1),\"\")","v":""},{"$f":"IFERROR(INDEX(Cherche1,MATCH(ROWS($U$3:U125),Classement,0)),\"\")","v":""}]
["",null,null,null,null,null,null,null,null,null,null,null,null,null,null,null,null,null," ",{"$f":"--ISNUMBER(IFERROR(SEARCH('Vente Jour'!$K$6,S126,1),\"\"))","v":0},{"$f":"IF(T126=1,COUNTIF($T$3:T126,1),\"\")","v":""},{"$f":"IFERROR(INDEX(Cherche1,MATCH(ROWS($U$3:U126),Classement,0)),\"\")","v":""}]
["",null,null,null,null,null,null,null,null,null,null,null,null,null,null,null,null,null," ",{"$f":"--ISNUMBER(IFERROR(SEARCH('Vente Jour'!$K$6,S127,1),\"\"))","v":0},{"$f":"IF(T127=1,COUNTIF($T$3:T127,1),\"\")","v":""},{"$f":"IFERROR(INDEX(Cherche1,MATCH(ROWS($U$3:U127),Classement,0)),\"\")","v":""}]
["",null,null,null,null,null,null,null,null,null,null,null,null,null,null,null,null,null," ",{"$f":"--ISNUMBER(IFERROR(SEARCH('Vente Jour'!$K$6,S128,1),\"\"))","v":0},{"$f":"IF(T128=1,COUNTIF($T$3:T128,1),\"\")","v":""},{"$f":"IFERROR(INDEX(Cherche1,MATCH(ROWS($U$3:U128),Classement,0)),\"\")","v":""}]
["",null,null,null,null,null,null,null,null,null,null,null,null,null,null,null,null,null," ",{"$f":"--ISNUMBER(IFERROR(SEARCH('Vente Jour'!$K$6,S129,1),\"\"))","v":0},{"$f":"IF(T129=1,COUNTIF($T$3:T129,1),\"\")","v":""},{"$f":"IFERROR(INDEX(Cherche1,MATCH(ROWS($U$3:U129),Classement,0)),\"\")","v":""}]
["",null,null,null,null,null,null,null,null,null,null,null,null,null,null,null,null,null," ",{"$f":"--ISNUMBER(IFERROR(SEARCH('Vente Jour'!$K$6,S130,1),\"\"))","v":0},{"$f":"IF(T130=1,COUNTIF($T$3:T130,1),\"\")","v":""},{"$f":"IFERROR(INDEX(Cherche1,MATCH(ROWS($U$3:U130),Classement,0)),\"\")","v":""}]
["",null,null,null,null,null,null,null,null,null,null,null,null,null,null,null,null,null," ",{"$f":"--ISNUMBER(IFERROR(SEARCH('Vente Jour'!$K$6,S131,1),\"\"))","v":0},{"$f":"IF(T131=1,COUNTIF($T$3:T131,1),\"\")","v":""},{"$f":"IFERROR(INDEX(Cherche1,MATCH(ROWS($U$3:U131),Classement,0)),\"\")","v":""}]
["",null,null,null,null,null,null,null,null,null,null,null,null,null,null,null,null,null," ",{"$f":"--ISNUMBER(IFERROR(SEARCH('Vente Jour'!$K$6,S132,1),\"\"))","v":0},{"$f":"IF(T132=1,COUNTIF($T$3:T132,1),\"\")","v":""},{"$f":"IFERROR(INDEX(Cherche1,MATCH(ROWS($U$3:U132),Classement,0)),\"\")","v":""}]
[{"$f":"IF(B133=\"\",\"\",A132+1)","v":""},null,null,null,null,null,null,null,null,null,null,null,null,null,null,null,null,null," ",{"$f":"--ISNUMBER(IFERROR(SEARCH('Vente Jour'!$K$6,S133,1),\"\"))","v":0},{"$f":"IF(T133=1,COUNTIF($T$3:T133,1),\"\")","v":""},{"$f":"IFERROR(INDEX(Cherche1,MATCH(ROWS($U$3:U133),Classement,0)),\"\")","v":""}]
["",null,null,null,null,null,null,null,null,null,null,null,null,null,null,null,null,null," ",{"$f":"--ISNUMBER(IFERROR(SEARCH('Vente Jour'!$K$6,S134,1),\"\"))","v":0},{"$f":"IF(T134=1,COUNTIF($T$3:T134,1),\"\")","v":""},{"$f":"IFERROR(INDEX(Cherche1,MATCH(ROWS($U$3:U134),Classement,0)),\"\")","v":""}]
["",null,null,null,null,null,null,null,null,null,null,null,null,null,null,null,null,null," ",{"$f":"--ISNUMBER(IFERROR(SEARCH('Vente Jour'!$K$6,S135,1),\"\"))","v":0},{"$f":"IF(T135=1,COUNTIF($T$3:T135,1),\"\")","v":""},{"$f":"IFERROR(INDEX(Cherche1,MATCH(ROWS($U$3:U135),Classement,0)),\"\")","v":""}]
["",null,null,null,null,null,null,null,null,null,null,null,null,null,null,null,null,null," ",{"$f":"--ISNUMBER(IFERROR(SEARCH('Vente Jour'!$K$6,S136,1),\"\"))","v":0},{"$f":"IF(T136=1,COUNTIF($T$3:T136,1),\"\")","v":""},{"$f":"IFERROR(INDEX(Cherche1,MATCH(ROWS($U$3:U136),Classement,0)),\"\")","v":""}]
["",null,null,null,null,null,null,null,null,null,null,null,null,null,null,null,null,null," ",{"$f":"--ISNUMBER(IFERROR(SEARCH('Vente Jour'!$K$6,S137,1),\"\"))","v":0},{"$f":"IF(T137=1,COUNTIF($T$3:T137,1),\"\")","v":""},{"$f":"IFERROR(INDEX(Cherche1,MATCH(ROWS($U$3:U137),Classement,0)),\"\")","v":""}]
["",null,null,null,null,null,null,null,null,null,null,null,null,null,null,null,null,null," ",{"$f":"--ISNUMBER(IFERROR(SEARCH('Vente Jour'!$K$6,S138,1),\"\"))","v":0},{"$f":"IF(T138=1,COUNTIF($T$3:T138,1),\"\")","v":""},{"$f":"IFERROR(INDEX(Cherche1,MATCH(ROWS($U$3:U138),Classement,0)),\"\")","v":""}]
["",null,null,null,null,null,null,null,null,null,null,null,null,null,null,null,null,null," ",{"$f":"--ISNUMBER(IFERROR(SEARCH('Vente Jour'!$K$6,S139,1),\"\"))","v":0},{"$f":"IF(T139=1,COUNTIF($T$3:T139,1),\"\")","v":""},{"$f":"IFERROR(INDEX(Cherche1,MATCH(ROWS($U$3:U139),Classement,0)),\"\")","v":""}]
["",null,null,null,null,null,null,null,null,null,null,null,null,null,null,null,null,null," ",{"$f":"--ISNUMBER(IFERROR(SEARCH('Vente Jour'!$K$6,S140,1),\"\"))","v":0},{"$f":"IF(T140=1,COUNTIF($T$3:T140,1),\"\")","v":""},{"$f":"IFERROR(INDEX(Cherche1,MATCH(ROWS($U$3:U140),Classement,0)),\"\")","v":""}]
["",null,null,null,null,null,null,null,null,null,null,null,null,null,null,null,null,null," ",{"$f":"--ISNUMBER(IFERROR(SEARCH('Vente Jour'!$K$6,S141,1),\"\"))","v":0},{"$f":"IF(T141=1,COUNTIF($T$3:T141,1),\"\")","v":""},{"$f":"IFERROR(INDEX(Cherche1,MATCH(ROWS($U$3:U141),Classement,0)),\"\")","v":""}]
["",null,null,null,null,null,null,null,null,null,null,null,null,null,null,null,null,null," ",{"$f":"--ISNUMBER(IFERROR(SEARCH('Vente Jour'!$K$6,S142,1),\"\"))","v":0},{"$f":"IF(T142=1,COUNTIF($T$3:T142,1),\"\")","v":""},{"$f":"IFERROR(INDEX(Cherche1,MATCH(ROWS($U$3:U142),Classement,0)),\"\")","v":""}]
["",null,null,null,null,null,null,null,null,null,null,null,null,null,null,null,null,null,{"$f":"CONCATENATE(B143,\" \",C143)","v":" "},{"$f":"--ISNUMBER(IFERROR(SEARCH('Vente Jour'!$K$6,S143,1),\"\"))","v":0},{"$f":"IF(T143=1,COUNTIF($T$3:T143,1),\"\")","v":""},{"$f":"IFERROR(INDEX(Cherche1,MATCH(ROWS($U$3:U143),Classement,0)),\"\")","v":""}]
["",null,null,null,null,null,null,null,null,null,null,null,null,null,null,null,null,null," ",{"$f":"--ISNUMBER(IFERROR(SEARCH('Vente Jour'!$K$6,S144,1),\"\"))","v":0},{"$f":"IF(T144=1,COUNTIF($T$3:T144,1),\"\")","v":""},{"$f":"IFERROR(INDEX(Cherche1,MATCH(ROWS($U$3:U144),Classement,0)),\"\")","v":""}]
["",null,null,null,null,null,null,null,null,null,null,null,null,null,null,null,null,null," ",{"$f":"--ISNUMBER(IFERROR(SEARCH('Vente Jour'!$K$6,S145,1),\"\"))","v":0},{"$f":"IF(T145=1,COUNTIF($T$3:T145,1),\"\")","v":""},{"$f":"IFERROR(INDEX(Cherche1,MATCH(ROWS($U$3:U145),Classement,0)),\"\")","v":""}]
["",null,null,null,null,null,null,null,null,null,null,null,null,null,null,null,null,null," ",{"$f":"--ISNUMBER(IFERROR(SEARCH('Vente Jour'!$K$6,S146,1),\"\"))","v":0},{"$f":"IF(T146=1,COUNTIF($T$3:T146,1),\"\")","v":""},{"$f":"IFERROR(INDEX(Cherche1,MATCH(ROWS($U$3:U146),Classement,0)),\"\")","v":""}]
["",null,null,null,null,null,null,null,null,null,null,null,null,null,null,null,null,null," ",{"$f":"--ISNUMBER(IFERROR(SEARCH('Vente Jour'!$K$6,S147,1),\"\"))","v":0},{"$f":"IF(T147=1,COUNTIF($T$3:T147,1),\"\")","v":""},{"$f":"IFERROR(INDEX(Cherche1,MATCH(ROWS($U$3:U147),Classement,0)),\"\")","v":""}]
["",null,null,null,null,null,null,null,null,null,null,null,null,null,null,null,null,null," ",{"$f":"--ISNUMBER(IFERROR(SEARCH('Vente Jour'!$K$6,S148,1),\"\"))","v":0},{"$f":"IF(T148=1,COUNTIF($T$3:T148,1),\"\")","v":""},{"$f":"IFERROR(INDEX(Cherche1,MATCH(ROWS($U$3:U148),Classement,0)),\"\")","v":""}]
["",null,null,null,null,null,null,null,null,null,null,null,null,null,null,null,null,null," ",{"$f":"--ISNUMBER(IFERROR(SEARCH('Vente Jour'!$K$6,S149,1),\"\"))","v":0},{"$f":"IF(T149=1,COUNTIF($T$3:T149,1),\"\")","v":""},{"$f":"IFERROR(INDEX(Cherche1,MATCH(ROWS($U$3:U149),Classement,0)),\"\")","v":""}]
["",null,null,null,null,null,null,null,null,null,null,null,null,null,null,null,null,null," ",{"$f":"--ISNUMBER(IFERROR(SEARCH('Vente Jour'!$K$6,S150,1),\"\"))","v":0},{"$f":"IF(T150=1,COUNTIF($T$3:T150,1),\"\")","v":""},{"$f":"IFERROR(INDEX(Cherche1,MATCH(ROWS($U$3:U150),Classement,0)),\"\")","v":""}]
["",null,null,null,null,null,null,null,null,null,null,null,null,null,null,null,null,null," ",{"$f":"--ISNUMBER(IFERROR(SEARCH('Vente Jour'!$K$6,S151,1),\"\"))","v":0},{"$f":"IF(T151=1,COUNTIF($T$3:T151,1),\"\")","v":""},{"$f":"IFERROR(INDEX(Cherche1,MATCH(ROWS($U$3:U151),Classement,0)),\"\")","v":""}]
["",null,null,null,null,null,null,null,null,null,null,null,null,null,null,null,null,null," ",{"$f":"--ISNUMBER(IFERROR(SEARCH('Vente Jour'!$K$6,S152,1),\"\"))","v":0},{"$f":"IF(T152=1,COUNTIF($T$3:T152,1),\"\")","v":""},{"$f":"IFERROR(INDEX(Cherche1,MATCH(ROWS($U$3:U152),Classement,0)),\"\")","v":""}]
["",null,null,null,null,null,null,null,null,null,null,null,null,null,null,null,null,null," ",{"$f":"--ISNUMBER(IFERROR(SEARCH('Vente Jour'!$K$6,S153,1),\"\"))","v":0},{"$f":"IF(T153=1,COUNTIF($T$3:T153,1),\"\")","v":""},{"$f":"IFERROR(INDEX(Cherche1,MATCH(ROWS($U$3:U153),Classement,0)),\"\")","v":""}]
["",null,null,null,null,null,null,null,null,null,null,null,null,null,null,null,null,null," ",{"$f":"--ISNUMBER(IFERROR(SEARCH('Vente Jour'!$K$6,S154,1),\"\"))","v":0},{"$f":"IF(T154=1,COUNTIF($T$3:T154,1),\"\")","v":""},{"$f":"IFERROR(INDEX(Cherche1,MATCH(ROWS($U$3:U154),Classement,0)),\"\")","v":""}]
["",null,null,null,null,null,null,null,null,null,null,null,null,null,null,null,null,null," ",{"$f":"--ISNUMBER(IFERROR(SEARCH('Vente Jour'!$K$6,S155,1),\"\"))","v":0},{"$f":"IF(T155=1,COUNTIF($T$3:T155,1),\"\")","v":""},{"$f":"IFERROR(INDEX(Cherche1,MATCH(ROWS($U$3:U155),Classement,0)),\"\")","v":""}]
["",null,null,null,null,null,null,null,null,null,null,null,null,null,null,null,null,null," ",{"$f":"--ISNUMBER(IFERROR(SEARCH('Vente Jour'!$K$6,S156,1),\"\"))","v":0},{"$f":"IF(T156=1,COUNTIF($T$3:T156,1),\"\")","v":""},{"$f":"IFERROR(INDEX(Cherche1,MATCH(ROWS($U$3:U156),Classement,0)),\"\")","v":""}]
["",null,null,null,null,null,null,null,null,null,null,null,null,null,null,null,null,null," ",{"$f":"--ISNUMBER(IFERROR(SEARCH('Vente Jour'!$K$6,S157,1),\"\"))","v":0},{"$f":"IF(T157=1,COUNTIF($T$3:T157,1),\"\")","v":""},{"$f":"IFERROR(INDEX(Cherche1,MATCH(ROWS($U$3:U157),Classement,0)),\"\")","v":""}]
["",null,null,null,null,null,null,null,null,null,null,null,null,null,null,null,null,null," ",{"$f":"--ISNUMBER(IFERROR(SEARCH('Vente Jour'!$K$6,S158,1),\"\"))","v":0},{"$f":"IF(T158=1,COUNTIF($T$3:T158,1),\"\")","v":""},{"$f":"IFERROR(INDEX(Cherche1,MATCH(ROWS($U$3:U158),Classement,0)),\"\")","v":""}]
["",null,null,null,null,null,null,null,null,null,null,null,null,null,null,null,null,null," ",{"$f":"--ISNUMBER(IFERROR(SEARCH('Vente Jour'!$K$6,S159,1),\"\"))","v":0},{"$f":"IF(T159=1,COUNTIF($T$3:T159,1),\"\")","v":""},{"$f":"IFERROR(INDEX(Cherche1,MATCH(ROWS($U$3:U159),Classement,0)),\"\")","v":""}]
["",null,null,null,null,null,null,null,null,null,null,null,null,null,null,null,null,null," ",{"$f":"--ISNUMBER(IFERROR(SEARCH('Vente Jour'!$K$6,S160,1),\"\"))","v":0},{"$f":"IF(T160=1,COUNTIF($T$3:T160,1),\"\")","v":""},{"$f":"IFERROR(INDEX(Cherche1,MATCH(ROWS($U$3:U160),Classement,0)),\"\")","v":""}]
["",null,null,null,null,null,null,null,null,null,null,null,null,null,null,null,null,null," ",{"$f":"--ISNUMBER(IFERROR(SEARCH('Vente Jour'!$K$6,S161,1),\"\"))","v":0},{"$f":"IF(T161=1,COUNTIF($T$3:T161,1),\"\")","v":""},{"$f":"IFERROR(INDEX(Cherche1,MATCH(ROWS($U$3:U161),Classement,0)),\"\")","v":""}]
["",null,null,null,null,null,null,null,null,null,null,null,null,null,null,null,null,null," ",{"$f":"--ISNUMBER(IFERROR(SEARCH('Vente Jour'!$K$6,S162,1),\"\"))","v":0},{"$f":"IF(T162=1,COUNTIF($T$3:T162,1),\"\")","v":""},{"$f":"IFERROR(INDEX(Cherche1,MATCH(ROWS($U$3:U162),Classement,0)),\"\")","v":""}]
["",null,null,null,null,null,null,null,null,null,null,null,null,null,null,null,null,null," ",{"$f":"--ISNUMBER(IFERROR(SEARCH('Vente Jour'!$K$6,S163,1),\"\"))","v":0},{"$f":"IF(T163=1,COUNTIF($T$3:T163,1),\"\")","v":""},{"$f":"IFERROR(INDEX(Cherche1,MATCH(ROWS($U$3:U163),Classement,0)),\"\")","v":""}]
["",null,null,null,null,null,null,null,null,null,null,null,null,null,null,null,null,null," ",{"$f":"--ISNUMBER(IFERROR(SEARCH('Vente Jour'!$K$6,S164,1),\"\"))","v":0},{"$f":"IF(T164=1,COUNTIF($T$3:T164,1),\"\")","v":""},{"$f":"IFERROR(INDEX(Cherche1,MATCH(ROWS($U$3:U164),Classement,0)),\"\")","v":""}]
["",null,null,null,null,null,null,null,null,null,null,null,null,null,null,null,null,null," ",{"$f":"--ISNUMBER(IFERROR(SEARCH('Vente Jour'!$K$6,S165,1),\"\"))","v":0},{"$f":"IF(T165=1,COUNTIF($T$3:T165,1),\"\")","v":""},{"$f":"IFERROR(INDEX(Cherche1,MATCH(ROWS($U$3:U165),Classement,0)),\"\")","v":""}]
["",null,null,null,null,null,null,null,null,null,null,null,null,null,null,null,null,null," ",{"$f":"--ISNUMBER(IFERROR(SEARCH('Vente Jour'!$K$6,S166,1),\"\"))","v":0},{"$f":"IF(T166=1,COUNTIF($T$3:T166,1),\"\")","v":""},{"$f":"IFERROR(INDEX(Cherche1,MATCH(ROWS($U$3:U166),Classement,0)),\"\")","v":""}]
["",null,null,null,null,null,null,null,null,null,null,null,null,null,null,null,null,null," ",{"$f":"--ISNUMBER(IFERROR(SEARCH('Vente Jour'!$K$6,S167,1),\"\"))","v":0},{"$f":"IF(T167=1,COUNTIF($T$3:T167,1),\"\")","v":""},{"$f":"IFERROR(INDEX(Cherche1,MATCH(ROWS($U$3:U167),Classement,0)),\"\")","v":""}]
["",null,null,null,null,null,null,null,null,null,null,null,null,null,null,null,null,null," ",{"$f":"--ISNUMBER(IFERROR(SEARCH('Vente Jour'!$K$6,S168,1),\"\"))","v":0},{"$f":"IF(T168=1,COUNTIF($T$3:T168,1),\"\")","v":""},{"$f":"IFERROR(INDEX(Cherche1,MATCH(ROWS($U$3:U168),Classement,0)),\"\")","v":""}]
["",null,null,null,null,null,null,null,null,null,null,null,null,null,null,null,null,null," ",{"$f":"--ISNUMBER(IFERROR(SEARCH('Vente Jour'!$K$6,S169,1),\"\"))","v":0},{"$f":"IF(T169=1,COUNTIF($T$3:T169,1),\"\")","v":""},{"$f":"IFERROR(INDEX(Cherche1,MATCH(ROWS($U$3:U169),Classement,0)),\"\")","v":""}]
["",null,null,null,null,null,null,null,null,null,null,null,null,null,null,null,null,null," ",{"$f":"--ISNUMBER(IFERROR(SEARCH('Vente Jour'!$K$6,S170,1),\"\"))","v":0},{"$f":"IF(T170=1,COUNTIF($T$3:T170,1),\"\")","v":""},{"$f":"IFERROR(INDEX(Cherche1,MATCH(ROWS($U$3:U170),Classement,0)),\"\")","v":""}]
["",null,null,null,null,null,null,null,null,null,null,null,null,null,null,null,null,null," ",{"$f":"--ISNUMBER(IFERROR(SEARCH('Vente Jour'!$K$6,S171,1),\"\"))","v":0},{"$f":"IF(T171=1,COUNTIF($T$3:T171,1),\"\")","v":""},{"$f":"IFERROR(INDEX(Cherche1,MATCH(ROWS($U$3:U171),Classement,0)),\"\")","v":""}]
["",null,null,null,null,null,null,null,null,null,null,null,null,null,null,null,null,null," ",{"$f":"--ISNUMBER(IFERROR(SEARCH('Vente Jour'!$K$6,S172,1),\"\"))","v":0},{"$f":"IF(T172=1,COUNTIF($T$3:T172,1),\"\")","v":""},{"$f":"IFERROR(INDEX(Cherche1,MATCH(ROWS($U$3:U172),Classement,0)),\"\")","v":""}]
["",null,null,null,null,null,null,null,null,null,null,null,null,null,null,null,null,null," ",{"$f":"--ISNUMBER(IFERROR(SEARCH('Vente Jour'!$K$6,S173,1),\"\"))","v":0},{"$f":"IF(T173=1,COUNTIF($T$3:T173,1),\"\")","v":""},{"$f":"IFERROR(INDEX(Cherche1,MATCH(ROWS($U$3:U173),Classement,0)),\"\")","v":""}]
["",null,null,null,null,null,null,null,null,null,null,null,null,null,null,null,null,null," ",{"$f":"--ISNUMBER(IFERROR(SEARCH('Vente Jour'!$K$6,S174,1),\"\"))","v":0},{"$f":"IF(T174=1,COUNTIF($T$3:T174,1),\"\")","v":""},{"$f":"IFERROR(INDEX(Cherche1,MATCH(ROWS($U$3:U174),Classement,0)),\"\")","v":""}]
["",null,null,null,null,null,null,null,null,null,null,null,null,null,null,null,null,null," ",{"$f":"--ISNUMBER(IFERROR(SEARCH('Vente Jour'!$K$6,S175,1),\"\"))","v":0},{"$f":"IF(T175=1,COUNTIF($T$3:T175,1),\"\")","v":""},{"$f":"IFERROR(INDEX(Cherche1,MATCH(ROWS($U$3:U175),Classement,0)),\"\")","v":""}]
["",null,null,null,null,null,null,null,null,null,null,null,null,null,null,null,null,null," ",{"$f":"--ISNUMBER(IFERROR(SEARCH('Vente Jour'!$K$6,S176,1),\"\"))","v":0},{"$f":"IF(T176=1,COUNTIF($T$3:T176,1),\"\")","v":""},{"$f":"IFERROR(INDEX(Cherche1,MATCH(ROWS($U$3:U176),Classement,0)),\"\")","v":""}]
["",null,null,null,null,null,null,null,null,null,null,null,null,null,null,null,null,null," ",{"$f":"--ISNUMBER(IFERROR(SEARCH('Vente Jour'!$K$6,S177,1),\"\"))","v":0},{"$f":"IF(T177=1,COUNTIF($T$3:T177,1),\"\")","v":""},{"$f":"IFERROR(INDEX(Cherche1,MATCH(ROWS($U$3:U177),Classement,0)),\"\")","v":""}]
["",null,null,null,null,null,null,null,null,null,null,null,null,null,null,null,null,null," ",{"$f":"--ISNUMBER(IFERROR(SEARCH('Vente Jour'!$K$6,S178,1),\"\"))","v":0},{"$f":"IF(T178=1,COUNTIF($T$3:T178,1),\"\")","v":""},{"$f":"IFERROR(INDEX(Cherche1,MATCH(ROWS($U$3:U178),Classement,0)),\"\")","v":""}]
["",null,null,null,null,null,null,null,null,null,null,null,null,null,null,null,null,null," ",{"$f":"--ISNUMBER(IFERROR(SEARCH('Vente Jour'!$K$6,S179,1),\"\"))","v":0},{"$f":"IF(T179=1,COUNTIF($T$3:T179,1),\"\")","v":""},{"$f":"IFERROR(INDEX(Cherche1,MATCH(ROWS($U$3:U179),Classement,0)),\"\")","v":""}]
["",null,null,null,null,null,null,null,null,null,null,null,null,null,null,null,null,null," ",{"$f":"--ISNUMBER(IFERROR(SEARCH('Vente Jour'!$K$6,S180,1),\"\"))","v":0},{"$f":"IF(T180=1,COUNTIF($T$3:T180,1),\"\")","v":""},{"$f":"IFERROR(INDEX(Cherche1,MATCH(ROWS($U$3:U180),Classement,0)),\"\")","v":""}]
["",null,null,null,null,null,null,null,null,null,null,null,null,null,null,null,null,null," ",{"$f":"--ISNUMBER(IFERROR(SEARCH('Vente Jour'!$K$6,S181,1),\"\"))","v":0},{"$f":"IF(T181=1,COUNTIF($T$3:T181,1),\"\")","v":""},{"$f":"IFERROR(INDEX(Cherche1,MATCH(ROWS($U$3:U181),Classement,0)),\"\")","v":""}]
["",null,null,null,null,null,null,null,null,null,null,null,null,null,null,null,null,null," ",{"$f":"--ISNUMBER(IFERROR(SEARCH('Vente Jour'!$K$6,S182,1),\"\"))","v":0},{"$f":"IF(T182=1,COUNTIF($T$3:T182,1),\"\")","v":""},{"$f":"IFERROR(INDEX(Cherche1,MATCH(ROWS($U$3:U182),Classement,0)),\"\")","v":""}]
["",null,null,null,null,null,null,null,null,null,null,null,null,null,null,null,null,null," ",{"$f":"--ISNUMBER(IFERROR(SEARCH('Vente Jour'!$K$6,S183,1),\"\"))","v":0},{"$f":"IF(T183=1,COUNTIF($T$3:T183,1),\"\")","v":""},{"$f":"IFERROR(INDEX(Cherche1,MATCH(ROWS($U$3:U183),Classement,0)),\"\")","v":""}]
["",null,null,null,null,null,null,null,null,null,null,null,null,null,null,null,null,null," ",{"$f":"--ISNUMBER(IFERROR(SEARCH('Vente Jour'!$K$6,S184,1),\"\"))","v":0},{"$f":"IF(T184=1,COUNTIF($T$3:T184,1),\"\")","v":""},{"$f":"IFERROR(INDEX(Cherche1,MATCH(ROWS($U$3:U184),Classement,0)),\"\")","v":""}]
["",null,null,null,null,null,null,null,null,null,null,null,null,null,null,null,null,null," ",{"$f":"--ISNUMBER(IFERROR(SEARCH('Vente Jour'!$K$6,S185,1),\"\"))","v":0},{"$f":"IF(T185=1,COUNTIF($T$3:T185,1),\"\")","v":""},{"$f":"IFERROR(INDEX(Cherche1,MATCH(ROWS($U$3:U185),Classement,0)),\"\")","v":""}]
["",null,null,null,null,null,null,null,null,null,null,null,null,null,null,null,null,null," ",{"$f":"--ISNUMBER(IFERROR(SEARCH('Vente Jour'!$K$6,S186,1),\"\"))","v":0},{"$f":"IF(T186=1,COUNTIF($T$3:T186,1),\"\")","v":""},{"$f":"IFERROR(INDEX(Cherche1,MATCH(ROWS($U$3:U186),Classement,0)),\"\")","v":""}]
["",null,null,null,null,null,null,null,null,null,null,null,null,null,null,null,null,null," ",{"$f":"--ISNUMBER(IFERROR(SEARCH('Vente Jour'!$K$6,S187,1),\"\"))","v":0},{"$f":"IF(T187=1,COUNTIF($T$3:T187,1),\"\")","v":""},{"$f":"IFERROR(INDEX(Cherche1,MATCH(ROWS($U$3:U187),Classement,0)),\"\")","v":""}]
["",null,null,null,null,null,null,null,null,null,null,null,null,null,null,null,null,null," ",{"$f":"--ISNUMBER(IFERROR(SEARCH('Vente Jour'!$K$6,S188,1),\"\"))","v":0},{"$f":"IF(T188=1,COUNTIF($T$3:T188,1),\"\")","v":""},{"$f":"IFERROR(INDEX(Cherche1,MATCH(ROWS($U$3:U188),Classement,0)),\"\")","v":""}]
["",null,null,null,null,null,null,null,null,null,null,null,null,null,null,null,null,null," ",{"$f":"--ISNUMBER(IFERROR(SEARCH('Vente Jour'!$K$6,S189,1),\"\"))","v":0},{"$f":"IF(T189=1,COUNTIF($T$3:T189,1),\"\")","v":""},{"$f":"IFERROR(INDEX(Cherche1,MATCH(ROWS($U$3:U189),Classement,0)),\"\")","v":""}]
["",null,null,null,null,null,null,null,null,null,null,null,null,null,null,null,null,null," ",{"$f":"--ISNUMBER(IFERROR(SEARCH('Vente Jour'!$K$6,S190,1),\"\"))","v":0},{"$f":"IF(T190=1,COUNTIF($T$3:T190,1),\"\")","v":""},{"$f":"IFERROR(INDEX(Cherche1,MATCH(ROWS($U$3:U190),Classement,0)),\"\")","v":""}]
["",null,null,null,null,null,null,null,null,null,null,null,null,null,null,null,null,null," ",{"$f":"--ISNUMBER(IFERROR(SEARCH('Vente Jour'!$K$6,S191,1),\"\"))","v":0},{"$f":"IF(T191=1,COUNTIF($T$3:T191,1),\"\")","v":""},{"$f":"IFERROR(INDEX(Cherche1,MATCH(ROWS($U$3:U191),Classement,0)),\"\")","v":""}]
["",null,null,null,null,null,null,null,null,null,null,null,null,null,null,null,null,null," ",{"$f":"--ISNUMBER(IFERROR(SEARCH('Vente Jour'!$K$6,S192,1),\"\"))","v":0},{"$f":"IF(T192=1,COUNTIF($T$3:T192,1),\"\")","v":""},{"$f":"IFERROR(INDEX(Cherche1,MATCH(ROWS($U$3:U192),Classement,0)),\"\")","v":""}]
["",null,null,null,null,null,null,null,null,null,null,null,null,null,null,null,null,null," ",{"$f":"--ISNUMBER(IFERROR(SEARCH('Vente Jour'!$K$6,S193,1),\"\"))","v":0},{"$f":"IF(T193=1,COUNTIF($T$3:T193,1),\"\")","v":""},{"$f":"IFERROR(INDEX(Cherche1,MATCH(ROWS($U$3:U193),Classement,0)),\"\")","v":""}]
["",null,null,null,null,null,null,null,null,null,null,null,null,null,null,null,null,null," ",{"$f":"--ISNUMBER(IFERROR(SEARCH('Vente Jour'!$K$6,S194,1),\"\"))","v":0},{"$f":"IF(T194=1,COUNTIF($T$3:T194,1),\"\")","v":""},{"$f":"IFERROR(INDEX(Cherche1,MATCH(ROWS($U$3:U194),Classement,0)),\"\")","v":""}]
["",null,null,null,null,null,null,null,null,null,null,null,null,null,null,null,null,null," ",{"$f":"--ISNUMBER(IFERROR(SEARCH('Vente Jour'!$K$6,S195,1),\"\"))","v":0},{"$f":"IF(T195=1,COUNTIF($T$3:T195,1),\"\")","v":""},{"$f":"IFERROR(INDEX(Cherche1,MATCH(ROWS($U$3:U195),Classement,0)),\"\")","v":""}]
["",null,null,null,null,null,null,null,null,null,null,null,null,null,null,null,null,null," ",{"$f":"--ISNUMBER(IFERROR(SEARCH('Vente Jour'!$K$6,S196,1),\"\"))","v":0},{"$f":"IF(T196=1,COUNTIF($T$3:T196,1),\"\")","v":""},{"$f":"IFERROR(INDEX(Cherche1,MATCH(ROWS($U$3:U196),Classement,0)),\"\")","v":""}]
[{"$f":"IF(B197=\"\",\"\",A196+1)","v":""},null,null,null,null,null,null,null,null,null,null,null,null,null,null,null,null,null," ",{"$f":"--ISNUMBER(IFERROR(SEARCH('Vente Jour'!$K$6,S197,1),\"\"))","v":0},{"$f":"IF(T197=1,COUNTIF($T$3:T197,1),\"\")","v":""},{"$f":"IFERROR(INDEX(Cherche1,MATCH(ROWS($U$3:U197),Classement,0)),\"\")","v":""}]
["",null,null,null,null,null,null,null,null,null,null,null,null,null,null,null,null,null," ",{"$f":"--ISNUMBER(IFERROR(SEARCH('Vente Jour'!$K$6,S198,1),\"\"))","v":0},{"$f":"IF(T198=1,COUNTIF($T$3:T198,1),\"\")","v":""},{"$f":"IFERROR(INDEX(Cherche1,MATCH(ROWS($U$3:U198),Classement,0)),\"\")","v":""}]
["",null,null,null,null,null,null,null,null,null,null,null,null,null,null,null,null,null," ",{"$f":"--ISNUMBER(IFERROR(SEARCH('Vente Jour'!$K$6,S199,1),\"\"))","v":0},{"$f":"IF(T199=1,COUNTIF($T$3:T199,1),\"\")","v":""},{"$f":"IFERROR(INDEX(Cherche1,MATCH(ROWS($U$3:U199),Classement,0)),\"\")","v":""}]
["",null,null,null,null,null,null,null,null,null,null,null,null,null,null,null,null,null," ",{"$f":"--ISNUMBER(IFERROR(SEARCH('Vente Jour'!$K$6,S200,1),\"\"))","v":0},{"$f":"IF(T200=1,COUNTIF($T$3:T200,1),\"\")","v":""},{"$f":"IFERROR(INDEX(Cherche1,MATCH(ROWS($U$3:U200),Classement,0)),\"\")","v":""}]
["",null,null,null,null,null,null,null,null,null,null,null,null,null,null,null,null,null," ",{"$f":"--ISNUMBER(IFERROR(SEARCH('Vente Jour'!$K$6,S201,1),\"\"))","v":0},{"$f":"IF(T201=1,COUNTIF($T$3:T201,1),\"\")","v":""},{"$f":"IFERROR(INDEX(Cherche1,MATCH(ROWS($U$3:U201),Classement,0)),\"\")","v":""}]
["",null,null,null,null,null,null,null,null,null,null,null,null,null,null,null,null,null," ",{"$f":"--ISNUMBER(IFERROR(SEARCH('Vente Jour'!$K$6,S202,1),\"\"))","v":0},{"$f":"IF(T202=1,COUNTIF($T$3:T202,1),\"\")","v":""},{"$f":"IFERROR(INDEX(Cherche1,MATCH(ROWS($U$3:U202),Classement,0)),\"\")","v":""}]
["",null,null,null,null,null,null,null,null,null,null,null,null,null,null,null,null,null," ",{"$f":"--ISNUMBER(IFERROR(SEARCH('Vente Jour'!$K$6,S203,1),\"\"))","v":0},{"$f":"IF(T203=1,COUNTIF($T$3:T203,1),\"\")","v":""},{"$f":"IFERROR(INDEX(Cherche1,MATCH(ROWS($U$3:U203),Classement,0)),\"\")","v":""}]
["",null,null,null,null,null,null,null,null,null,null,null,null,null,null,null,null,null," ",{"$f":"--ISNUMBER(IFERROR(SEARCH('Vente Jour'!$K$6,S204,1),\"\"))","v":0},{"$f":"IF(T204=1,COUNTIF($T$3:T204,1),\"\")","v":""},{"$f":"IFERROR(INDEX(Cherche1,MATCH(ROWS($U$3:U204),Classement,0)),\"\")","v":""}]
["",null,null,null,null,null,null,null,null,null,null,null,null,null,null,null,null,null," ",{"$f":"--ISNUMBER(IFERROR(SEARCH('Vente Jour'!$K$6,S205,1),\"\"))","v":0},{"$f":"IF(T205=1,COUNTIF($T$3:T205,1),\"\")","v":""},{"$f":"IFERROR(INDEX(Cherche1,MATCH(ROWS($U$3:U205),Classement,0)),\"\")","v":""}]
["",null,null,null,null,null,null,null,null,null,null,null,null,null,null,null,null,null," ",{"$f":"--ISNUMBER(IFERROR(SEARCH('Vente Jour'!$K$6,S206,1),\"\"))","v":0},{"$f":"IF(T206=1,COUNTIF($T$3:T206,1),\"\")","v":""},{"$f":"IFERROR(INDEX(Cherche1,MATCH(ROWS($U$3:U206),Classement,0)),\"\")","v":""}]
["",null,null,null,null,null,null,null,null,null,null,null,null,null,null,null,null,null,{"$f":"CONCATENATE(B207,\" \",C207)","v":" "},{"$f":"--ISNUMBER(IFERROR(SEARCH('Vente Jour'!$K$6,S207,1),\"\"))","v":0},{"$f":"IF(T207=1,COUNTIF($T$3:T207,1),\"\")","v":""},{"$f":"IFERROR(INDEX(Cherche1,MATCH(ROWS($U$3:U207),Classement,0)),\"\")","v":""}]
["",null,null,null,null,null,null,null,null,null,null,null,null,null,null,null,null,null," ",{"$f":"--ISNUMBER(IFERROR(SEARCH('Vente Jour'!$K$6,S208,1),\"\"))","v":0},{"$f":"IF(T208=1,COUNTIF($T$3:T208,1),\"\")","v":""},{"$f":"IFERROR(INDEX(Cherche1,MATCH(ROWS($U$3:U208),Classement,0)),\"\")","v":""}]
["",null,null,null,null,null,null,null,null,null,null,null,null,null,null,null,null,null," ",{"$f":"--ISNUMBER(IFERROR(SEARCH('Vente Jour'!$K$6,S209,1),\"\"))","v":0},{"$f":"IF(T209=1,COUNTIF($T$3:T209,1),\"\")","v":""},{"$f":"IFERROR(INDEX(Cherche1,MATCH(ROWS($U$3:U209),Classement,0)),\"\")","v":""}]
["",null,null,null,null,null,null,null,null,null,null,null,null,null,null,null,null,null," ",{"$f":"--ISNUMBER(IFERROR(SEARCH('Vente Jour'!$K$6,S210,1),\"\"))","v":0},{"$f":"IF(T210=1,COUNTIF($T$3:T210,1),\"\")","v":""},{"$f":"IFERROR(INDEX(Cherche1,MATCH(ROWS($U$3:U210),Classement,0)),\"\")","v":""}]
["",null,null,null,null,null,null,null,null,null,null,null,null,null,null,null,null,null," ",{"$f":"--ISNUMBER(IFERROR(SEARCH('Vente Jour'!$K$6,S211,1),\"\"))","v":0},{"$f":"IF(T211=1,COUNTIF($T$3:T211,1),\"\")","v":""},{"$f":"IFERROR(INDEX(Cherche1,MATCH(ROWS($U$3:U211),Classement,0)),\"\")","v":""}]
["",null,null,null,null,null,null,null,null,null,null,null,null,null,null,null,null,null," ",{"$f":"--ISNUMBER(IFERROR(SEARCH('Vente Jour'!$K$6,S212,1),\"\"))","v":0},{"$f":"IF(T212=1,COUNTIF($T$3:T212,1),\"\")","v":""},{"$f":"IFERROR(INDEX(Cherche1,MATCH(ROWS($U$3:U212),Classement,0)),\"\")","v":""}]
["",null,null,null,null,null,null,null,null,null,null,null,null,null,null,null,null,null," ",{"$f":"--ISNUMBER(IFERROR(SEARCH('Vente Jour'!$K$6,S213,1),\"\"))","v":0},{"$f":"IF(T213=1,COUNTIF($T$3:T213,1),\"\")","v":""},{"$f":"IFERROR(INDEX(Cherche1,MATCH(ROWS($U$3:U213),Classement,0)),\"\")","v":""}]
["",null,null,null,null,null,null,null,null,null,null,null,null,null,null,null,null,null," ",{"$f":"--ISNUMBER(IFERROR(SEARCH('Vente Jour'!$K$6,S214,1),\"\"))","v":0},{"$f":"IF(T214=1,COUNTIF($T$3:T214,1),\"\")","v":""},{"$f":"IFERROR(INDEX(Cherche1,MATCH(ROWS($U$3:U214),Classement,0)),\"\")","v":""}]
["",null,null,null,null,null,null,null,null,null,null,null,null,null,null,null,null,null," ",{"$f":"--ISNUMBER(IFERROR(SEARCH('Vente Jour'!$K$6,S215,1),\"\"))","v":0},{"$f":"IF(T215=1,COUNTIF($T$3:T215,1),\"\")","v":""},{"$f":"IFERROR(INDEX(Cherche1,MATCH(ROWS($U$3:U215),Classement,0)),\"\")","v":""}]
["",null,null,null,null,null,null,null,null,null,null,null,null,null,null,null,null,null," ",{"$f":"--ISNUMBER(IFERROR(SEARCH('Vente Jour'!$K$6,S216,1),\"\"))","v":0},{"$f":"IF(T216=1,COUNTIF($T$3:T216,1),\"\")","v":""},{"$f":"IFERROR(INDEX(Cherche1,MATCH(ROWS($U$3:U216),Classement,0)),\"\")","v":""}]
["",null,null,null,null,null,null,null,null,null,null,null,null,null,null,null,null,null," ",{"$f":"--ISNUMBER(IFERROR(SEARCH('Vente Jour'!$K$6,S217,1),\"\"))","v":0},{"$f":"IF(T217=1,COUNTIF($T$3:T217,1),\"\")","v":""},{"$f":"IFERROR(INDEX(Cherche1,MATCH(ROWS($U$3:U217),Classement,0)),\"\")","v":""}]
["",null,null,null,null,null,null,null,null,null,null,null,null,null,null,null,null,null," ",{"$f":"--ISNUMBER(IFERROR(SEARCH('Vente Jour'!$K$6,S218,1),\"\"))","v":0},{"$f":"IF(T218=1,COUNTIF($T$3:T218,1),\"\")","v":""},{"$f":"IFERROR(INDEX(Cherche1,MATCH(ROWS($U$3:U218),Classement,0)),\"\")","v":""}]
["",null,null,null,null,null,null,null,null,null,null,null,null,null,null,null,null,null," ",{"$f":"--ISNUMBER(IFERROR(SEARCH('Vente Jour'!$K$6,S219,1),\"\"))","v":0},{"$f":"IF(T219=1,COUNTIF($T$3:T219,1),\"\")","v":""},{"$f":"IFERROR(INDEX(Cherche1,MATCH(ROWS($U$3:U219),Classement,0)),\"\")","v":""}]
["",null,null,null,null,null,null,null,null,null,null,null,null,null,null,null,null,null," ",{"$f":"--ISNUMBER(IFERROR(SEARCH('Vente Jour'!$K$6,S220,1),\"\"))","v":0},{"$f":"IF(T220=1,COUNTIF($T$3:T220,1),\"\")","v":""},{"$f":"IFERROR(INDEX(Cherche1,MATCH(ROWS($U$3:U220),Classement,0)),\"\")","v":""}]
["",null,null,null,null,null,null,null,null,null,null,null,null,null,null,null,null,null," ",{"$f":"--ISNUMBER(IFERROR(SEARCH('Vente Jour'!$K$6,S221,1),\"\"))","v":0},{"$f":"IF(T221=1,COUNTIF($T$3:T221,1),\"\")","v":""},{"$f":"IFERROR(INDEX(Cherche1,MATCH(ROWS($U$3:U221),Classement,0)),\"\")","v":""}]
["",null,null,null,null,null,null,null,null,null,null,null,null,null,null,null,null,null," ",{"$f":"--ISNUMBER(IFERROR(SEARCH('Vente Jour'!$K$6,S222,1),\"\"))","v":0},{"$f":"IF(T222=1,COUNTIF($T$3:T222,1),\"\")","v":""},{"$f":"IFERROR(INDEX(Cherche1,MATCH(ROWS($U$3:U222),Classement,0)),\"\")","v":""}]
["",null,null,null,null,null,null,null,null,null,null,null,null,null,null,null,null,null," ",{"$f":"--ISNUMBER(IFERROR(SEARCH('Vente Jour'!$K$6,S223,1),\"\"))","v":0},{"$f":"IF(T223=1,COUNTIF($T$3:T223,1),\"\")","v":""},{"$f":"IFERROR(INDEX(Cherche1,MATCH(ROWS($U$3:U223),Classement,0)),\"\")","v":""}]
["",null,null,null,null,null,null,null,null,null,null,null,null,null,null,null,null,null," ",{"$f":"--ISNUMBER(IFERROR(SEARCH('Vente Jour'!$K$6,S224,1),\"\"))","v":0},{"$f":"IF(T224=1,COUNTIF($T$3:T224,1),\"\")","v":""},{"$f":"IFERROR(INDEX(Cherche1,MATCH(ROWS($U$3:U224),Classement,0)),\"\")","v":""}]
["",null,null,null,null,null,null,null,null,null,null,null,null,null,null,null,null,null," ",{"$f":"--ISNUMBER(IFERROR(SEARCH('Vente Jour'!$K$6,S225,1),\"\"))","v":0},{"$f":"IF(T225=1,COUNTIF($T$3:T225,1),\"\")","v":""},{"$f":"IFERROR(INDEX(Cherche1,MATCH(ROWS($U$3:U225),Classement,0)),\"\")","v":""}]
["",null,null,null,null,null,null,null,null,null,null,null,null,null,null,null,null,null," ",{"$f":"--ISNUMBER(IFERROR(SEARCH('Vente Jour'!$K$6,S226,1),\"\"))","v":0},{"$f":"IF(T226=1,COUNTIF($T$3:T226,1),\"\")","v":""},{"$f":"IFERROR(INDEX(Cherche1,MATCH(ROWS($U$3:U226),Classement,0)),\"\")","v":""}]
["",null,null,null,null,null,null,null,null,null,null,null,null,null,null,null,null,null," ",{"$f":"--ISNUMBER(IFERROR(SEARCH('Vente Jour'!$K$6,S227,1),\"\"))","v":0},{"$f":"IF(T227=1,COUNTIF($T$3:T227,1),\"\")","v":""},{"$f":"IFERROR(INDEX(Cherche1,MATCH(ROWS($U$3:U227),Classement,0)),\"\")","v":""}]
["",null,null,null,null,null,null,null,null,null,null,null,null,null,null,null,null,null," ",{"$f":"--ISNUMBER(IFERROR(SEARCH('Vente Jour'!$K$6,S228,1),\"\"))","v":0},{"$f":"IF(T228=1,COUNTIF($T$3:T228,1),\"\")","v":""},{"$f":"IFERROR(INDEX(Cherche1,MATCH(ROWS($U$3:U228),Classement,0)),\"\")","v":""}]
["",null,null,null,null,null,null,null,null,null,null,null,null,null,null,null,null,null," ",{"$f":"--ISNUMBER(IFERROR(SEARCH('Vente Jour'!$K$6,S229,1),\"\"))","v":0},{"$f":"IF(T229=1,COUNTIF($T$3:T229,1),\"\")","v":""},{"$f":"IFERROR(INDEX(Cherche1,MATCH(ROWS($U$3:U229),Classement,0)),\"\")","v":""}]
["",null,null,null,null,null,null,null,null,null,null,null,null,null,null,null,null,null," ",{"$f":"--ISNUMBER(IFERROR(SEARCH('Vente Jour'!$K$6,S230,1),\"\"))","v":0},{"$f":"IF(T230=1,COUNTIF($T$3:T230,1),\"\")","v":""},{"$f":"IFERROR(INDEX(Cherche1,MATCH(ROWS($U$3:U230),Classement,0)),\"\")","v":""}]
["",null,null,null,null,null,null,null,null,null,null,null,null,null,null,null,null,null," ",{"$f":"--ISNUMBER(IFERROR(SEARCH('Vente Jour'!$K$6,S231,1),\"\"))","v":0},{"$f":"IF(T231=1,COUNTIF($T$3:T231,1),\"\")","v":""},{"$f":"IFERROR(INDEX(Cherche1,MATCH(ROWS($U$3:U231),Classement,0)),\"\")","v":""}]
["",null,null,null,null,null,null,null,null,null,null,null,null,null,null,null,null,null," ",{"$f":"--ISNUMBER(IFERROR(SEARCH('Vente Jour'!$K$6,S232,1),\"\"))","v":0},{"$f":"IF(T232=1,COUNTIF($T$3:T232,1),\"\")","v":""},{"$f":"IFERROR(INDEX(Cherche1,MATCH(ROWS($U$3:U232),Classement,0)),\"\")","v":""}]
["",null,null,null,null,null,null,null,null,null,null,null,null,null,null,null,null,null," ",{"$f":"--ISNUMBER(IFERROR(SEARCH('Vente Jour'!$K$6,S233,1),\"\"))","v":0},{"$f":"IF(T233=1,COUNTIF($T$3:T233,1),\"\")","v":""},{"$f":"IFERROR(INDEX(Cherche1,MATCH(ROWS($U$3:U233),Classement,0)),\"\")","v":""}]
["",null,null,null,null,null,null,null,null,null,null,null,null,null,null,null,null,null," ",{"$f":"--ISNUMBER(IFERROR(SEARCH('Vente Jour'!$K$6,S234,1),\"\"))","v":0},{"$f":"IF(T234=1,COUNTIF($T$3:T234,1),\"\")","v":""},{"$f":"IFERROR(INDEX(Cherche1,MATCH(ROWS($U$3:U234),Classement,0)),\"\")","v":""}]
["",null,null,null,null,null,null,null,null,null,null,null,null,null,null,null,null,null," ",{"$f":"--ISNUMBER(IFERROR(SEARCH('Vente Jour'!$K$6,S235,1),\"\"))","v":0},{"$f":"IF(T235=1,COUNTIF($T$3:T235,1),\"\")","v":""},{"$f":"IFERROR(INDEX(Cherche1,MATCH(ROWS($U$3:U235),Classement,0)),\"\")","v":""}]
["",null,null,null,null,null,null,null,null,null,null,null,null,null,null,null,null,null," ",{"$f":"--ISNUMBER(IFERROR(SEARCH('Vente Jour'!$K$6,S236,1),\"\"))","v":0},{"$f":"IF(T236=1,COUNTIF($T$3:T236,1),\"\")","v":""},{"$f":"IFERROR(INDEX(Cherche1,MATCH(ROWS($U$3:U236),Classement,0)),\"\")","v":""}]
["",null,null,null,null,null,null,null,null,null,null,null,null,null,null,null,null,null," ",{"$f":"--ISNUMBER(IFERROR(SEARCH('Vente Jour'!$K$6,S237,1),\"\"))","v":0},{"$f":"IF(T237=1,COUNTIF($T$3:T237,1),\"\")","v":""},{"$f":"IFERROR(INDEX(Cherche1,MATCH(ROWS($U$3:U237),Classement,0)),\"\")","v":""}]
["",null,null,null,null,null,null,null,null,null,null,null,null,null,null,null,null,null," ",{"$f":"--ISNUMBER(IFERROR(SEARCH('Vente Jour'!$K$6,S238,1),\"\"))","v":0},{"$f":"IF(T238=1,COUNTIF($T$3:T238,1),\"\")","v":""},{"$f":"IFERROR(INDEX(Cherche1,MATCH(ROWS($U$3:U238),Classement,0)),\"\")","v":""}]
["",null,null,null,null,null,null,null,null,null,null,null,null,null,null,null,null,null," ",{"$f":"--ISNUMBER(IFERROR(SEARCH('Vente Jour'!$K$6,S239,1),\"\"))","v":0},{"$f":"IF(T239=1,COUNTIF($T$3:T239,1),\"\")","v":""},{"$f":"IFERROR(INDEX(Cherche1,MATCH(ROWS($U$3:U239),Classement,0)),\"\")","v":""}]
["",null,null,null,null,null,null,null,null,null,null,null,null,null,null,null,null,null," ",{"$f":"--ISNUMBER(IFERROR(SEARCH('Vente Jour'!$K$6,S240,1),\"\"))","v":0},{"$f":"IF(T240=1,COUNTIF($T$3:T240,1),\"\")","v":""},{"$f":"IFERROR(INDEX(Cherche1,MATCH(ROWS($U$3:U240),Classement,0)),\"\")","v":""}]
["",null,null,null,null,null,null,null,null,null,null,null,null,null,null,null,null,null," ",{"$f":"--ISNUMBER(IFERROR(SEARCH('Vente Jour'!$K$6,S241,1),\"\"))","v":0},{"$f":"IF(T241=1,COUNTIF($T$3:T241,1),\"\")","v":""},{"$f":"IFERROR(INDEX(Cherche1,MATCH(ROWS($U$3:U241),Classement,0)),\"\")","v":""}]
["",null,null,null,null,null,null,null,null,null,null,null,null,null,null,null,null,null," ",{"$f":"--ISNUMBER(IFERROR(SEARCH('Vente Jour'!$K$6,S242,1),\"\"))","v":0},{"$f":"IF(T242=1,COUNTIF($T$3:T242,1),\"\")","v":""},{"$f":"IFERROR(INDEX(Cherche1,MATCH(ROWS($U$3:U242),Classement,0)),\"\")","v":""}]
["",null,null,null,null,null,null,null,null,null,null,null,null,null,null,null,null,null," ",{"$f":"--ISNUMBER(IFERROR(SEARCH('Vente Jour'!$K$6,S243,1),\"\"))","v":0},{"$f":"IF(T243=1,COUNTIF($T$3:T243,1),\"\")","v":""},{"$f":"IFERROR(INDEX(Cherche1,MATCH(ROWS($U$3:U243),Classement,0)),\"\")","v":""}]
["",null,null,null,null,null,null,null,null,null,null,null,null,null,null,null,null,null," ",{"$f":"--ISNUMBER(IFERROR(SEARCH('Vente Jour'!$K$6,S244,1),\"\"))","v":0},{"$f":"IF(T244=1,COUNTIF($T$3:T244,1),\"\")","v":""},{"$f":"IFERROR(INDEX(Cherche1,MATCH(ROWS($U$3:U244),Classement,0)),\"\")","v":""}]
["",null,null,null,null,null,null,null,null,null,null,null,null,null,null,null,null,null," ",{"$f":"--ISNUMBER(IFERROR(SEARCH('Vente Jour'!$K$6,S245,1),\"\"))","v":0},{"$f":"IF(T245=1,COUNTIF($T$3:T245,1),\"\")","v":""},{"$f":"IFERROR(INDEX(Cherche1,MATCH(ROWS($U$3:U245),Classement,0)),\"\")","v":""}]
["",null,null,null,null,null,null,null,null,null,null,null,null,null,null,null,null,null," ",{"$f":"--ISNUMBER(IFERROR(SEARCH('Vente Jour'!$K$6,S246,1),\"\"))","v":0},{"$f":"IF(T246=1,COUNTIF($T$3:T246,1),\"\")","v":""},{"$f":"IFERROR(INDEX(Cherche1,MATCH(ROWS($U$3:U246),Classement,0)),\"\")","v":""}]
["",null,null,null,null,null,null,null,null,null,null,null,null,null,null,null,null,null," ",{"$f":"--ISNUMBER(IFERROR(SEARCH('Vente Jour'!$K$6,S247,1),\"\"))","v":0},{"$f":"IF(T247=1,COUNTIF($T$3:T247,1),\"\")","v":""},{"$f":"IFERROR(INDEX(Cherche1,MATCH(ROWS($U$3:U247),Classement,0)),\"\")","v":""}]
["",null,null,null,null,null,null,null,null,null,null,null,null,null,null,null,null,null," ",{"$f":"--ISNUMBER(IFERROR(SEARCH('Vente Jour'!$K$6,S248,1),\"\"))","v":0},{"$f":"IF(T248=1,COUNTIF($T$3:T248,1),\"\")","v":""},{"$f":"IFERROR(INDEX(Cherche1,MATCH(ROWS($U$3:U248),Classement,0)),\"\")","v":""}]
["",null,null,null,null,null,null,null,null,null,null,null,null,null,null,null,null,null," ",{"$f":"--ISNUMBER(IFERROR(SEARCH('Vente Jour'!$K$6,S249,1),\"\"))","v":0},{"$f":"IF(T249=1,COUNTIF($T$3:T249,1),\"\")","v":""},{"$f":"IFERROR(INDEX(Cherche1,MATCH(ROWS($U$3:U249),Classement,0)),\"\")","v":""}]
["",null,null,null,null,null,null,null,null,null,null,null,null,null,null,null,null,null," ",{"$f":"--ISNUMBER(IFERROR(SEARCH('Vente Jour'!$K$6,S250,1),\"\"))","v":0},{"$f":"IF(T250=1,COUNTIF($T$3:T250,1),\"\")","v":""},{"$f":"IFERROR(INDEX(Cherche1,MATCH(ROWS($U$3:U250),Classement,0)),\"\")","v":""}]
["",null,null,null,null,null,null,null,null,null,null,null,null,null,null,null,null,null," ",{"$f":"--ISNUMBER(IFERROR(SEARCH('Vente Jour'!$K$6,S251,1),\"\"))","v":0},{"$f":"IF(T251=1,COUNTIF($T$3:T251,1),\"\")","v":""},{"$f":"IFERROR(INDEX(Cherche1,MATCH(ROWS($U$3:U251),Classement,0)),\"\")","v":""}]
["",null,null,null,null,null,null,null,null,null,null,null,null,null,null,null,null,null," ",{"$f":"--ISNUMBER(IFERROR(SEARCH('Vente Jour'!$K$6,S252,1),\"\"))","v":0},{"$f":"IF(T252=1,COUNTIF($T$3:T252,1),\"\")","v":""},{"$f":"IFERROR(INDEX(Cherche1,MATCH(ROWS($U$3:U252),Classement,0)),\"\")","v":""}]
["",null,null,null,null,null,null,null,null,null,null,null,null,null,null,null,null,null," ",{"$f":"--ISNUMBER(IFERROR(SEARCH('Vente Jour'!$K$6,S253,1),\"\"))","v":0},{"$f":"IF(T253=1,COUNTIF($T$3:T253,1),\"\")","v":""},{"$f":"IFERROR(INDEX(Cherche1,MATCH(ROWS($U$3:U253),Classement,0)),\"\")","v":""}]
["",null,null,null,null,null,null,null,null,null,null,null,null,null,null,null,null,null," ",{"$f":"--ISNUMBER(IFERROR(SEARCH('Vente Jour'!$K$6,S254,1),\"\"))","v":0},{"$f":"IF(T254=1,COUNTIF($T$3:T254,1),\"\")","v":""},{"$f":"IFERROR(INDEX(Cherche1,MATCH(ROWS($U$3:U254),Classement,0)),\"\")","v":""}]
["",null,null,null,null,null,null,null,null,null,null,null,null,null,null,null,null,null," ",{"$f":"--ISNUMBER(IFERROR(SEARCH('Vente Jour'!$K$6,S255,1),\"\"))","v":0},{"$f":"IF(T255=1,COUNTIF($T$3:T255,1),\"\")","v":""},{"$f":"IFERROR(INDEX(Cherche1,MATCH(ROWS($U$3:U255),Classement,0)),\"\")","v":""}]
["",null,null,null,null,null,null,null,null,null,null,null,null,null,null,null,null,null," ",{"$f":"--ISNUMBER(IFERROR(SEARCH('Vente Jour'!$K$6,S256,1),\"\"))","v":0},{"$f":"IF(T256=1,COUNTIF($T$3:T256,1),\"\")","v":""},{"$f":"IFERROR(INDEX(Cherche1,MATCH(ROWS($U$3:U256),Classement,0)),\"\")","v":""}]
["",null,null,null,null,null,null,null,null,null,null,null,null,null,null,null,null,null," ",{"$f":"--ISNUMBER(IFERROR(SEARCH('Vente Jour'!$K$6,S257,1),\"\"))","v":0},{"$f":"IF(T257=1,COUNTIF($T$3:T257,1),\"\")","v":""},{"$f":"IFERROR(INDEX(Cherche1,MATCH(ROWS($U$3:U257),Classement,0)),\"\")","v":""}]
["",null,null,null,null,null,null,null,null,null,null,null,null,null,null,null,null,null," ",{"$f":"--ISNUMBER(IFERROR(SEARCH('Vente Jour'!$K$6,S258,1),\"\"))","v":0},{"$f":"IF(T258=1,COUNTIF($T$3:T258,1),\"\")","v":""},{"$f":"IFERROR(INDEX(Cherche1,MATCH(ROWS($U$3:U258),Classement,0)),\"\")","v":""}]
["",null,null,null,null,null,null,null,null,null,null,null,null,null,null,null,null,null," ",{"$f":"--ISNUMBER(IFERROR(SEARCH('Vente Jour'!$K$6,S259,1),\"\"))","v":0},{"$f":"IF(T259=1,COUNTIF($T$3:T259,1),\"\")","v":""},{"$f":"IFERROR(INDEX(Cherche1,MATCH(ROWS($U$3:U259),Classement,0)),\"\")","v":""}]
["",null,null,null,null,null,null,null,null,null,null,null,null,null,null,null,null,null," ",{"$f":"--ISNUMBER(IFERROR(SEARCH('Vente Jour'!$K$6,S260,1),\"\"))","v":0},{"$f":"IF(T260=1,COUNTIF($T$3:T260,1),\"\")","v":""},{"$f":"IFERROR(INDEX(Cherche1,MATCH(ROWS($U$3:U260),Classement,0)),\"\")","v":""}]
[{"$f":"IF(B261=\"\",\"\",A260+1)","v":""},null,null,null,null,null,null,null,null,null,null,null,null,null,null,null,null,null," ",{"$f":"--ISNUMBER(IFERROR(SEARCH('Vente Jour'!$K$6,S261,1),\"\"))","v":0},{"$f":"IF(T261=1,COUNTIF($T$3:T261,1),\"\")","v":""},{"$f":"IFERROR(INDEX(Cherche1,MATCH(ROWS($U$3:U261),Classement,0)),\"\")","v":""}]
["",null,null,null,null,null,null,null,null,null,null,null,null,null,null,null,null,null," ",{"$f":"--ISNUMBER(IFERROR(SEARCH('Vente Jour'!$K$6,S262,1),\"\"))","v":0},{"$f":"IF(T262=1,COUNTIF($T$3:T262,1),\"\")","v":""},{"$f":"IFERROR(INDEX(Cherche1,MATCH(ROWS($U$3:U262),Classement,0)),\"\")","v":""}]
["",null,null,null,null,null,null,null,null,null,null,null,null,null,null,null,null,null," ",{"$f":"--ISNUMBER(IFERROR(SEARCH('Vente Jour'!$K$6,S263,1),\"\"))","v":0},{"$f":"IF(T263=1,COUNTIF($T$3:T263,1),\"\")","v":""},{"$f":"IFERROR(INDEX(Cherche1,MATCH(ROWS($U$3:U263),Classement,0)),\"\")","v":""}]
["",null,null,null,null,null,null,null,null,null,null,null,null,null,null,null,null,null," ",{"$f":"--ISNUMBER(IFERROR(SEARCH('Vente Jour'!$K$6,S264,1),\"\"))","v":0},{"$f":"IF(T264=1,COUNTIF($T$3:T264,1),\"\")","v":""},{"$f":"IFERROR(INDEX(Cherche1,MATCH(ROWS($U$3:U264),Classement,0)),\"\")","v":""}]
["",null,null,null,null,null,null,null,null,null,null,null,null,null,null,null,null,null," ",{"$f":"--ISNUMBER(IFERROR(SEARCH('Vente Jour'!$K$6,S265,1),\"\"))","v":0},{"$f":"IF(T265=1,COUNTIF($T$3:T265,1),\"\")","v":""},{"$f":"IFERROR(INDEX(Cherche1,MATCH(ROWS($U$3:U265),Classement,0)),\"\")","v":""}]
["",null,null,null,null,null,null,null,null,null,null,null,null,null,null,null,null,null," ",{"$f":"--ISNUMBER(IFERROR(SEARCH('Vente Jour'!$K$6,S266,1),\"\"))","v":0},{"$f":"IF(T266=1,COUNTIF($T$3:T266,1),\"\")","v":""},{"$f":"IFERROR(INDEX(Cherche1,MATCH(ROWS($U$3:U266),Classement,0)),\"\")","v":""}]
["",null,null,null,null,null,null,null,null,null,null,null,null,null,null,null,null,null," ",{"$f":"--ISNUMBER(IFERROR(SEARCH('Vente Jour'!$K$6,S267,1),\"\"))","v":0},{"$f":"IF(T267=1,COUNTIF($T$3:T267,1),\"\")","v":""},{"$f":"IFERROR(INDEX(Cherche1,MATCH(ROWS($U$3:U267),Classement,0)),\"\")","v":""}]
["",null,null,null,null,null,null,null,null,null,null,null,null,null,null,null,null,null," ",{"$f":"--ISNUMBER(IFERROR(SEARCH('Vente Jour'!$K$6,S268,1),\"\"))","v":0},{"$f":"IF(T268=1,COUNTIF($T$3:T268,1),\"\")","v":""},{"$f":"IFERROR(INDEX(Cherche1,MATCH(ROWS($U$3:U268),Classement,0)),\"\")","v":""}]
["",null,null,null,null,null,null,null,null,null,null,null,null,null,null,null,null,null," ",{"$f":"--ISNUMBER(IFERROR(SEARCH('Vente Jour'!$K$6,S269,1),\"\"))","v":0},{"$f":"IF(T269=1,COUNTIF($T$3:T269,1),\"\")","v":""},{"$f":"IFERROR(INDEX(Cherche1,MATCH(ROWS($U$3:U269),Classement,0)),\"\")","v":""}]
["",null,null,null,null,null,null,null,null,null,null,null,null,null,null,null,null,null," ",{"$f":"--ISNUMBER(IFERROR(SEARCH('Vente Jour'!$K$6,S270,1),\"\"))","v":0},{"$f":"IF(T270=1,COUNTIF($T$3:T270,1),\"\")","v":""},{"$f":"IFERROR(INDEX(Cherche1,MATCH(ROWS($U$3:U270),Classement,0)),\"\")","v":""}]
["",null,null,null,null,null,null,null,null,null,null,null,null,null,null,null,null,null,{"$f":"CONCATENATE(B271,\" \",C271)","v":" "},{"$f":"--ISNUMBER(IFERROR(SEARCH('Vente Jour'!$K$6,S271,1),\"\"))","v":0},{"$f":"IF(T271=1,COUNTIF($T$3:T271,1),\"\")","v":""},{"$f":"IFERROR(INDEX(Cherche1,MATCH(ROWS($U$3:U271),Classement,0)),\"\")","v":""}]
["",null,null,null,null,null,null,null,null,null,null,null,null,null,null,null,null,null," ",{"$f":"--ISNUMBER(IFERROR(SEARCH('Vente Jour'!$K$6,S272,1),\"\"))","v":0},{"$f":"IF(T272=1,COUNTIF($T$3:T272,1),\"\")","v":""},{"$f":"IFERROR(INDEX(Cherche1,MATCH(ROWS($U$3:U272),Classement,0)),\"\")","v":""}]
["",null,null,null,null,null,null,null,null,null,null,null,null,null,null,null,null,null," ",{"$f":"--ISNUMBER(IFERROR(SEARCH('Vente Jour'!$K$6,S273,1),\"\"))","v":0},{"$f":"IF(T273=1,COUNTIF($T$3:T273,1),\"\")","v":""},{"$f":"IFERROR(INDEX(Cherche1,MATCH(ROWS($U$3:U273),Classement,0)),\"\")","v":""}]
["",null,null,null,null,null,null,null,null,null,null,null,null,null,null,null,null,null," ",{"$f":"--ISNUMBER(IFERROR(SEARCH('Vente Jour'!$K$6,S274,1),\"\"))","v":0},{"$f":"IF(T274=1,COUNTIF($T$3:T274,1),\"\")","v":""},{"$f":"IFERROR(INDEX(Cherche1,MATCH(ROWS($U$3:U274),Classement,0)),\"\")","v":""}]
["",null,null,null,null,null,null,null,null,null,null,null,null,null,null,null,null,null," ",{"$f":"--ISNUMBER(IFERROR(SEARCH('Vente Jour'!$K$6,S275,1),\"\"))","v":0},{"$f":"IF(T275=1,COUNTIF($T$3:T275,1),\"\")","v":""},{"$f":"IFERROR(INDEX(Cherche1,MATCH(ROWS($U$3:U275),Classement,0)),\"\")","v":""}]
["",null,null,null,null,null,null,null,null,null,null,null,null,null,null,null,null,null," ",{"$f":"--ISNUMBER(IFERROR(SEARCH('Vente Jour'!$K$6,S276,1),\"\"))","v":0},{"$f":"IF(T276=1,COUNTIF($T$3:T276,1),\"\")","v":""},{"$f":"IFERROR(INDEX(Cherche1,MATCH(ROWS($U$3:U276),Classement,0)),\"\")","v":""}]
["",null,null,null,null,null,null,null,null,null,null,null,null,null,null,null,null,null," ",{"$f":"--ISNUMBER(IFERROR(SEARCH('Vente Jour'!$K$6,S277,1),\"\"))","v":0},{"$f":"IF(T277=1,COUNTIF($T$3:T277,1),\"\")","v":""},{"$f":"IFERROR(INDEX(Cherche1,MATCH(ROWS($U$3:U277),Classement,0)),\"\")","v":""}]
["",null,null,null,null,null,null,null,null,null,null,null,null,null,null,null,null,null," ",{"$f":"--ISNUMBER(IFERROR(SEARCH('Vente Jour'!$K$6,S278,1),\"\"))","v":0},{"$f":"IF(T278=1,COUNTIF($T$3:T278,1),\"\")","v":""},{"$f":"IFERROR(INDEX(Cherche1,MATCH(ROWS($U$3:U278),Classement,0)),\"\")","v":""}]
["",null,null,null,null,null,null,null,null,null,null,null,null,null,null,null,null,null," ",{"$f":"--ISNUMBER(IFERROR(SEARCH('Vente Jour'!$K$6,S279,1),\"\"))","v":0},{"$f":"IF(T279=1,COUNTIF($T$3:T279,1),\"\")","v":""},{"$f":"IFERROR(INDEX(Cherche1,MATCH(ROWS($U$3:U279),Classement,0)),\"\")","v":""}]
["",null,null,null,null,null,null,null,null,null,null,null,null,null,null,null,null,null," ",{"$f":"--ISNUMBER(IFERROR(SEARCH('Vente Jour'!$K$6,S280,1),\"\"))","v":0},{"$f":"IF(T280=1,COUNTIF($T$3:T280,1),\"\")","v":""},{"$f":"IFERROR(INDEX(Cherche1,MATCH(ROWS($U$3:U280),Classement,0)),\"\")","v":""}]
["",null,null,null,null,null,null,null,null,null,null,null,null,null,null,null,null,null," ",{"$f":"--ISNUMBER(IFERROR(SEARCH('Vente Jour'!$K$6,S281,1),\"\"))","v":0},{"$f":"IF(T281=1,COUNTIF($T$3:T281,1),\"\")","v":""},{"$f":"IFERROR(INDEX(Cherche1,MATCH(ROWS($U$3:U281),Classement,0)),\"\")","v":""}]
["",null,null,null,null,null,null,null,null,null,null,null,null,null,null,null,null,null," ",{"$f":"--ISNUMBER(IFERROR(SEARCH('Vente Jour'!$K$6,S282,1),\"\"))","v":0},{"$f":"IF(T282=1,COUNTIF($T$3:T282,1),\"\")","v":""},{"$f":"IFERROR(INDEX(Cherche1,MATCH(ROWS($U$3:U282),Classement,0)),\"\")","v":""}]
["",null,null,null,null,null,null,null,null,null,null,null,null,null,null,null,null,null," ",{"$f":"--ISNUMBER(IFERROR(SEARCH('Vente Jour'!$K$6,S283,1),\"\"))","v":0},{"$f":"IF(T283=1,COUNTIF($T$3:T283,1),\"\")","v":""},{"$f":"IFERROR(INDEX(Cherche1,MATCH(ROWS($U$3:U283),Classement,0)),\"\")","v":""}]
["",null,null,null,null,null,null,null,null,null,null,null,null,null,null,null,null,null," ",{"$f":"--ISNUMBER(IFERROR(SEARCH('Vente Jour'!$K$6,S284,1),\"\"))","v":0},{"$f":"IF(T284=1,COUNTIF($T$3:T284,1),\"\")","v":""},{"$f":"IFERROR(INDEX(Cherche1,MATCH(ROWS($U$3:U284),Classement,0)),\"\")","v":""}]
["",null,null,null,null,null,null,null,null,null,null,null,null,null,null,null,null,null," ",{"$f":"--ISNUMBER(IFERROR(SEARCH('Vente Jour'!$K$6,S285,1),\"\"))","v":0},{"$f":"IF(T285=1,COUNTIF($T$3:T285,1),\"\")","v":""},{"$f":"IFERROR(INDEX(Cherche1,MATCH(ROWS($U$3:U285),Classement,0)),\"\")","v":""}]
["",null,null,null,null,null,null,null,null,null,null,null,null,null,null,null,null,null," ",{"$f":"--ISNUMBER(IFERROR(SEARCH('Vente Jour'!$K$6,S286,1),\"\"))","v":0},{"$f":"IF(T286=1,COUNTIF($T$3:T286,1),\"\")","v":""},{"$f":"IFERROR(INDEX(Cherche1,MATCH(ROWS($U$3:U286),Classement,0)),\"\")","v":""}]
["",null,null,null,null,null,null,null,null,null,null,null,null,null,null,null,null,null," ",{"$f":"--ISNUMBER(IFERROR(SEARCH('Vente Jour'!$K$6,S287,1),\"\"))","v":0},{"$f":"IF(T287=1,COUNTIF($T$3:T287,1),\"\")","v":""},{"$f":"IFERROR(INDEX(Cherche1,MATCH(ROWS($U$3:U287),Classement,0)),\"\")","v":""}]
["",null,null,null,null,null,null,null,null,null,null,null,null,null,null,null,null,null," ",{"$f":"--ISNUMBER(IFERROR(SEARCH('Vente Jour'!$K$6,S288,1),\"\"))","v":0},{"$f":"IF(T288=1,COUNTIF($T$3:T288,1),\"\")","v":""},{"$f":"IFERROR(INDEX(Cherche1,MATCH(ROWS($U$3:U288),Classement,0)),\"\")","v":""}]
["",null,null,null,null,null,null,null,null,null,null,null,null,null,null,null,null,null," ",{"$f":"--ISNUMBER(IFERROR(SEARCH('Vente Jour'!$K$6,S289,1),\"\"))","v":0},{"$f":"IF(T289=1,COUNTIF($T$3:T289,1),\"\")","v":""},{"$f":"IFERROR(INDEX(Cherche1,MATCH(ROWS($U$3:U289),Classement,0)),\"\")","v":""}]
["",null,null,null,null,null,null,null,null,null,null,null,null,null,null,null,null,null," ",{"$f":"--ISNUMBER(IFERROR(SEARCH('Vente Jour'!$K$6,S290,1),\"\"))","v":0},{"$f":"IF(T290=1,COUNTIF($T$3:T290,1),\"\")","v":""},{"$f":"IFERROR(INDEX(Cherche1,MATCH(ROWS($U$3:U290),Classement,0)),\"\")","v":""}]
["",null,null,null,null,null,null,null,null,null,null,null,null,null,null,null,null,null," ",{"$f":"--ISNUMBER(IFERROR(SEARCH('Vente Jour'!$K$6,S291,1),\"\"))","v":0},{"$f":"IF(T291=1,COUNTIF($T$3:T291,1),\"\")","v":""},{"$f":"IFERROR(INDEX(Cherche1,MATCH(ROWS($U$3:U291),Classement,0)),\"\")","v":""}]
["",null,null,null,null,null,null,null,null,null,null,null,null,null,null,null,null,null," ",{"$f":"--ISNUMBER(IFERROR(SEARCH('Vente Jour'!$K$6,S292,1),\"\"))","v":0},{"$f":"IF(T292=1,COUNTIF($T$3:T292,1),\"\")","v":""},{"$f":"IFERROR(INDEX(Cherche1,MATCH(ROWS($U$3:U292),Classement,0)),\"\")","v":""}]
["",null,null,null,null,null,null,null,null,null,null,null,null,null,null,null,null,null," ",{"$f":"--ISNUMBER(IFERROR(SEARCH('Vente Jour'!$K$6,S293,1),\"\"))","v":0},{"$f":"IF(T293=1,COUNTIF($T$3:T293,1),\"\")","v":""},{"$f":"IFERROR(INDEX(Cherche1,MATCH(ROWS($U$3:U293),Classement,0)),\"\")","v":""}]
["",null,null,null,null,null,null,null,null,null,null,null,null,null,null,null,null,null," ",{"$f":"--ISNUMBER(IFERROR(SEARCH('Vente Jour'!$K$6,S294,1),\"\"))","v":0},{"$f":"IF(T294=1,COUNTIF($T$3:T294,1),\"\")","v":""},{"$f":"IFERROR(INDEX(Cherche1,MATCH(ROWS($U$3:U294),Classement,0)),\"\")","v":""}]
["",null,null,null,null,null,null,null,null,null,null,null,null,null,null,null,null,null," ",{"$f":"--ISNUMBER(IFERROR(SEARCH('Vente Jour'!$K$6,S295,1),\"\"))","v":0},{"$f":"IF(T295=1,COUNTIF($T$3:T295,1),\"\")","v":""},{"$f":"IFERROR(INDEX(Cherche1,MATCH(ROWS($U$3:U295),Classement,0)),\"\")","v":""}]
["",null,null,null,null,null,null,null,null,null,null,null,null,null,null,null,null,null," ",{"$f":"--ISNUMBER(IFERROR(SEARCH('Vente Jour'!$K$6,S296,1),\"\"))","v":0},{"$f":"IF(T296=1,COUNTIF($T$3:T296,1),\"\")","v":""},{"$f":"IFERROR(INDEX(Cherche1,MATCH(ROWS($U$3:U296),Classement,0)),\"\")","v":""}]
["",null,null,null,null,null,null,null,null,null,null,null,null,null,null,null,null,null," ",{"$f":"--ISNUMBER(IFERROR(SEARCH('Vente Jour'!$K$6,S297,1),\"\"))","v":0},{"$f":"IF(T297=1,COUNTIF($T$3:T297,1),\"\")","v":""},{"$f":"IFERROR(INDEX(Cherche1,MATCH(ROWS($U$3:U297),Classement,0)),\"\")","v":""}]
["",null,null,null,null,null,null,null,null,null,null,null,null,null,null,null,null,null," ",{"$f":"--ISNUMBER(IFERROR(SEARCH('Vente Jour'!$K$6,S298,1),\"\"))","v":0},{"$f":"IF(T298=1,COUNTIF($T$3:T298,1),\"\")","v":""},{"$f":"IFERROR(INDEX(Cherche1,MATCH(ROWS($U$3:U298),Classement,0)),\"\")","v":""}]
["",null,null,null,null,null,null,null,null,null,null,null,null,null,null,null,null,null," ",{"$f":"--ISNUMBER(IFERROR(SEARCH('Vente Jour'!$K$6,S299,1),\"\"))","v":0},{"$f":"IF(T299=1,COUNTIF($T$3:T299,1),\"\")","v":""},{"$f":"IFERROR(INDEX(Cherche1,MATCH(ROWS($U$3:U299),Classement,0)),\"\")","v":""}]
["",null,null,null,null,null,null,null,null,null,null,null,null,null,null,null,null,null," ",{"$f":"--ISNUMBER(IFERROR(SEARCH('Vente Jour'!$K$6,S300,1),\"\"))","v":0},{"$f":"IF(T300=1,COUNTIF($T$3:T300,1),\"\")","v":""},{"$f":"IFERROR(INDEX(Cherche1,MATCH(ROWS($U$3:U300),Classement,0)),\"\")","v":""}]
["",null,null,null,null,null,null,null,null,null,null,null,null,null,null,null,null,null," ",{"$f":"--ISNUMBER(IFERROR(SEARCH('Vente Jour'!$K$6,S301,1),\"\"))","v":0},{"$f":"IF(T301=1,COUNTIF($T$3:T301,1),\"\")","v":""},{"$f":"IFERROR(INDEX(Cherche1,MATCH(ROWS($U$3:U301),Classement,0)),\"\")","v":""}]
["",null,null,null,null,null,null,null,null,null,null,null,null,null,null,null,null,null," ",{"$f":"--ISNUMBER(IFERROR(SEARCH('Vente Jour'!$K$6,S302,1),\"\"))","v":0},{"$f":"IF(T302=1,COUNTIF($T$3:T302,1),\"\")","v":""},{"$f":"IFERROR(INDEX(Cherche1,MATCH(ROWS($U$3:U302),Classement,0)),\"\")","v":""}]
["",null,null,null,null,null,null,null,null,null,null,null,null,null,null,null,null,null," ",{"$f":"--ISNUMBER(IFERROR(SEARCH('Vente Jour'!$K$6,S303,1),\"\"))","v":0},{"$f":"IF(T303=1,COUNTIF($T$3:T303,1),\"\")","v":""},{"$f":"IFERROR(INDEX(Cherche1,MATCH(ROWS($U$3:U303),Classement,0)),\"\")","v":""}]
["",null,null,null,null,null,null,null,null,null,null,null,null,null,null,null,null,null," ",{"$f":"--ISNUMBER(IFERROR(SEARCH('Vente Jour'!$K$6,S304,1),\"\"))","v":0},{"$f":"IF(T304=1,COUNTIF($T$3:T304,1),\"\")","v":""},{"$f":"IFERROR(INDEX(Cherche1,MATCH(ROWS($U$3:U304),Classement,0)),\"\")","v":""}]
["",null,null,null,null,null,null,null,null,null,null,null,null,null,null,null,null,null," ",{"$f":"--ISNUMBER(IFERROR(SEARCH('Vente Jour'!$K$6,S305,1),\"\"))","v":0},{"$f":"IF(T305=1,COUNTIF($T$3:T305,1),\"\")","v":""},{"$f":"IFERROR(INDEX(Cherche1,MATCH(ROWS($U$3:U305),Classement,0)),\"\")","v":""}]
["",null,null,null,null,null,null,null,null,null,null,null,null,null,null,null,null,null," ",{"$f":"--ISNUMBER(IFERROR(SEARCH('Vente Jour'!$K$6,S306,1),\"\"))","v":0},{"$f":"IF(T306=1,COUNTIF($T$3:T306,1),\"\")","v":""},{"$f":"IFERROR(INDEX(Cherche1,MATCH(ROWS($U$3:U306),Classement,0)),\"\")","v":""}]
["",null,null,null,null,null,null,null,null,null,null,null,null,null,null,null,null,null," ",{"$f":"--ISNUMBER(IFERROR(SEARCH('Vente Jour'!$K$6,S307,1),\"\"))","v":0},{"$f":"IF(T307=1,COUNTIF($T$3:T307,1),\"\")","v":""},{"$f":"IFERROR(INDEX(Cherche1,MATCH(ROWS($U$3:U307),Classement,0)),\"\")","v":""}]
["",null,null,null,null,null,null,null,null,null,null,null,null,null,null,null,null,null," ",{"$f":"--ISNUMBER(IFERROR(SEARCH('Vente Jour'!$K$6,S308,1),\"\"))","v":0},{"$f":"IF(T308=1,COUNTIF($T$3:T308,1),\"\")","v":""},{"$f":"IFERROR(INDEX(Cherche1,MATCH(ROWS($U$3:U308),Classement,0)),\"\")","v":""}]
["",null,null,null,null,null,null,null,null,null,null,null,null,null,null,null,null,null," ",{"$f":"--ISNUMBER(IFERROR(SEARCH('Vente Jour'!$K$6,S309,1),\"\"))","v":0},{"$f":"IF(T309=1,COUNTIF($T$3:T309,1),\"\")","v":""},{"$f":"IFERROR(INDEX(Cherche1,MATCH(ROWS($U$3:U309),Classement,0)),\"\")","v":""}]
["",null,null,null,null,null,null,null,null,null,null,null,null,null,null,null,null,null," ",{"$f":"--ISNUMBER(IFERROR(SEARCH('Vente Jour'!$K$6,S310,1),\"\"))","v":0},{"$f":"IF(T310=1,COUNTIF($T$3:T310,1),\"\")","v":""},{"$f":"IFERROR(INDEX(Cherche1,MATCH(ROWS($U$3:U310),Classement,0)),\"\")","v":""}]
["",null,null,null,null,null,null,null,null,null,null,null,null,null,null,null,null,null," ",{"$f":"--ISNUMBER(IFERROR(SEARCH('Vente Jour'!$K$6,S311,1),\"\"))","v":0},{"$f":"IF(T311=1,COUNTIF($T$3:T311,1),\"\")","v":""},{"$f":"IFERROR(INDEX(Cherche1,MATCH(ROWS($U$3:U311),Classement,0)),\"\")","v":""}]
["",null,null,null,null,null,null,null,null,null,null,null,null,null,null,null,null,null," ",{"$f":"--ISNUMBER(IFERROR(SEARCH('Vente Jour'!$K$6,S312,1),\"\"))","v":0},{"$f":"IF(T312=1,COUNTIF($T$3:T312,1),\"\")","v":""},{"$f":"IFERROR(INDEX(Cherche1,MATCH(ROWS($U$3:U312),Classement,0)),\"\")","v":""}]
["",null,null,null,null,null,null,null,null,null,null,null,null,null,null,null,null,null," ",{"$f":"--ISNUMBER(IFERROR(SEARCH('Vente Jour'!$K$6,S313,1),\"\"))","v":0},{"$f":"IF(T313=1,COUNTIF($T$3:T313,1),\"\")","v":""},{"$f":"IFERROR(INDEX(Cherche1,MATCH(ROWS($U$3:U313),Classement,0)),\"\")","v":""}]
["",null,null,null,null,null,null,null,null,null,null,null,null,null,null,null,null,null," ",{"$f":"--ISNUMBER(IFERROR(SEARCH('Vente Jour'!$K$6,S314,1),\"\"))","v":0},{"$f":"IF(T314=1,COUNTIF($T$3:T314,1),\"\")","v":""},{"$f":"IFERROR(INDEX(Cherche1,MATCH(ROWS($U$3:U314),Classement,0)),\"\")","v":""}]
["",null,null,null,null,null,null,null,null,null,null,null,null,null,null,null,null,null," ",{"$f":"--ISNUMBER(IFERROR(SEARCH('Vente Jour'!$K$6,S315,1),\"\"))","v":0},{"$f":"IF(T315=1,COUNTIF($T$3:T315,1),\"\")","v":""},{"$f":"IFERROR(INDEX(Cherche1,MATCH(ROWS($U$3:U315),Classement,0)),\"\")","v":""}]
["",null,null,null,null,null,null,null,null,null,null,null,null,null,null,null,null,null," ",{"$f":"--ISNUMBER(IFERROR(SEARCH('Vente Jour'!$K$6,S316,1),\"\"))","v":0},{"$f":"IF(T316=1,COUNTIF($T$3:T316,1),\"\")","v":""},{"$f":"IFERROR(INDEX(Cherche1,MATCH(ROWS($U$3:U316),Classement,0)),\"\")","v":""}]
["",null,null,null,null,null,null,null,null,null,null,null,null,null,null,null,null,null," ",{"$f":"--ISNUMBER(IFERROR(SEARCH('Vente Jour'!$K$6,S317,1),\"\"))","v":0},{"$f":"IF(T317=1,COUNTIF($T$3:T317,1),\"\")","v":""},{"$f":"IFERROR(INDEX(Cherche1,MATCH(ROWS($U$3:U317),Classement,0)),\"\")","v":""}]
["",null,null,null,null,null,null,null,null,null,null,null,null,null,null,null,null,null," ",{"$f":"--ISNUMBER(IFERROR(SEARCH('Vente Jour'!$K$6,S318,1),\"\"))","v":0},{"$f":"IF(T318=1,COUNTIF($T$3:T318,1),\"\")","v":""},{"$f":"IFERROR(INDEX(Cherche1,MATCH(ROWS($U$3:U318),Classement,0)),\"\")","v":""}]
["",null,null,null,null,null,null,null,null,null,null,null,null,null,null,null,null,null," ",{"$f":"--ISNUMBER(IFERROR(SEARCH('Vente Jour'!$K$6,S319,1),\"\"))","v":0},{"$f":"IF(T319=1,COUNTIF($T$3:T319,1),\"\")","v":""},{"$f":"IFERROR(INDEX(Cherche1,MATCH(ROWS($U$3:U319),Classement,0)),\"\")","v":""}]
["",null,null,null,null,null,null,null,null,null,null,null,null,null,null,null,null,null," ",{"$f":"--ISNUMBER(IFERROR(SEARCH('Vente Jour'!$K$6,S320,1),\"\"))","v":0},{"$f":"IF(T320=1,COUNTIF($T$3:T320,1),\"\")","v":""},{"$f":"IFERROR(INDEX(Cherche1,MATCH(ROWS($U$3:U320),Classement,0)),\"\")","v":""}]
["",null,null,null,null,null,null,null,null,null,null,null,null,null,null,null,null,null," ",{"$f":"--ISNUMBER(IFERROR(SEARCH('Vente Jour'!$K$6,S321,1),\"\"))","v":0},{"$f":"IF(T321=1,COUNTIF($T$3:T321,1),\"\")","v":""},{"$f":"IFERROR(INDEX(Cherche1,MATCH(ROWS($U$3:U321),Classement,0)),\"\")","v":""}]
["",null,null,null,null,null,null,null,null,null,null,null,null,null,null,null,null,null," ",{"$f":"--ISNUMBER(IFERROR(SEARCH('Vente Jour'!$K$6,S322,1),\"\"))","v":0},{"$f":"IF(T322=1,COUNTIF($T$3:T322,1),\"\")","v":""},{"$f":"IFERROR(INDEX(Cherche1,MATCH(ROWS($U$3:U322),Classement,0)),\"\")","v":""}]
["",null,null,null,null,null,null,null,null,null,null,null,null,null,null,null,null,null," ",{"$f":"--ISNUMBER(IFERROR(SEARCH('Vente Jour'!$K$6,S323,1),\"\"))","v":0},{"$f":"IF(T323=1,COUNTIF($T$3:T323,1),\"\")","v":""},{"$f":"IFERROR(INDEX(Cherche1,MATCH(ROWS($U$3:U323),Classement,0)),\"\")","v":""}]
["",null,null,null,null,null,null,null,null,null,null,null,null,null,null,null,null,null," ",{"$f":"--ISNUMBER(IFERROR(SEARCH('Vente Jour'!$K$6,S324,1),\"\"))","v":0},{"$f":"IF(T324=1,COUNTIF($T$3:T324,1),\"\")","v":""},{"$f":"IFERROR(INDEX(Cherche1,MATCH(ROWS($U$3:U324),Classement,0)),\"\")","v":""}]
[{"$f":"IF(B325=\"\",\"\",A324+1)","v":""},null,null,null,null,null,null,null,null,null,null,null,null,null,null,null,null,null," ",{"$f":"--ISNUMBER(IFERROR(SEARCH('Vente Jour'!$K$6,S325,1),\"\"))","v":0},{"$f":"IF(T325=1,COUNTIF($T$3:T325,1),\"\")","v":""},{"$f":"IFERROR(INDEX(Cherche1,MATCH(ROWS($U$3:U325),Classement,0)),\"\")","v":""}]
["",null,null,null,null,null,null,null,null,null,null,null,null,null,null,null,null,null," ",{"$f":"--ISNUMBER(IFERROR(SEARCH('Vente Jour'!$K$6,S326,1),\"\"))","v":0},{"$f":"IF(T326=1,COUNTIF($T$3:T326,1),\"\")","v":""},{"$f":"IFERROR(INDEX(Cherche1,MATCH(ROWS($U$3:U326),Classement,0)),\"\")","v":""}]
["",null,null,null,null,null,null,null,null,null,null,null,null,null,null,null,null,null," ",{"$f":"--ISNUMBER(IFERROR(SEARCH('Vente Jour'!$K$6,S327,1),\"\"))","v":0},{"$f":"IF(T327=1,COUNTIF($T$3:T327,1),\"\")","v":""},{"$f":"IFERROR(INDEX(Cherche1,MATCH(ROWS($U$3:U327),Classement,0)),\"\")","v":""}]
["",null,null,null,null,null,null,null,null,null,null,null,null,null,null,null,null,null," ",{"$f":"--ISNUMBER(IFERROR(SEARCH('Vente Jour'!$K$6,S328,1),\"\"))","v":0},{"$f":"IF(T328=1,COUNTIF($T$3:T328,1),\"\")","v":""},{"$f":"IFERROR(INDEX(Cherche1,MATCH(ROWS($U$3:U328),Classement,0)),\"\")","v":""}]
["",null,null,null,null,null,null,null,null,null,null,null,null,null,null,null,null,null," ",{"$f":"--ISNUMBER(IFERROR(SEARCH('Vente Jour'!$K$6,S329,1),\"\"))","v":0},{"$f":"IF(T329=1,COUNTIF($T$3:T329,1),\"\")","v":""},{"$f":"IFERROR(INDEX(Cherche1,MATCH(ROWS($U$3:U329),Classement,0)),\"\")","v":""}]
["",null,null,null,null,null,null,null,null,null,null,null,null,null,null,null,null,null," ",{"$f":"--ISNUMBER(IFERROR(SEARCH('Vente Jour'!$K$6,S330,1),\"\"))","v":0},{"$f":"IF(T330=1,COUNTIF($T$3:T330,1),\"\")","v":""},{"$f":"IFERROR(INDEX(Cherche1,MATCH(ROWS($U$3:U330),Classement,0)),\"\")","v":""}]
["",null,null,null,null,null,null,null,null,null,null,null,null,null,null,null,null,null," ",{"$f":"--ISNUMBER(IFERROR(SEARCH('Vente Jour'!$K$6,S331,1),\"\"))","v":0},{"$f":"IF(T331=1,COUNTIF($T$3:T331,1),\"\")","v":""},{"$f":"IFERROR(INDEX(Cherche1,MATCH(ROWS($U$3:U331),Classement,0)),\"\")","v":""}]
["",null,null,null,null,null,null,null,null,null,null,null,null,null,null,null,null,null," ",{"$f":"--ISNUMBER(IFERROR(SEARCH('Vente Jour'!$K$6,S332,1),\"\"))","v":0},{"$f":"IF(T332=1,COUNTIF($T$3:T332,1),\"\")","v":""},{"$f":"IFERROR(INDEX(Cherche1,MATCH(ROWS($U$3:U332),Classement,0)),\"\")","v":""}]
["",null,null,null,null,null,null,null,null,null,null,null,null,null,null,null,null,null," ",{"$f":"--ISNUMBER(IFERROR(SEARCH('Vente Jour'!$K$6,S333,1),\"\"))","v":0},{"$f":"IF(T333=1,COUNTIF($T$3:T333,1),\"\")","v":""},{"$f":"IFERROR(INDEX(Cherche1,MATCH(ROWS($U$3:U333),Classement,0)),\"\")","v":""}]
["",null,null,null,null,null,null,null,null,null,null,null,null,null,null,null,null,null," ",{"$f":"--ISNUMBER(IFERROR(SEARCH('Vente Jour'!$K$6,S334,1),\"\"))","v":0},{"$f":"IF(T334=1,COUNTIF($T$3:T334,1),\"\")","v":""},{"$f":"IFERROR(INDEX(Cherche1,MATCH(ROWS($U$3:U334),Classement,0)),\"\")","v":""}]
["",null,null,null,null,null,null,null,null,null,null,null,null,null,null,null,null,null,{"$f":"CONCATENATE(B335,\" \",C335)","v":" "},{"$f":"--ISNUMBER(IFERROR(SEARCH('Vente Jour'!$K$6,S335,1),\"\"))","v":0},{"$f":"IF(T335=1,COUNTIF($T$3:T335,1),\"\")","v":""},{"$f":"IFERROR(INDEX(Cherche1,MATCH(ROWS($U$3:U335),Classement,0)),\"\")","v":""}]
["",null,null,null,null,null,null,null,null,null,null,null,null,null,null,null,null,null," ",{"$f":"--ISNUMBER(IFERROR(SEARCH('Vente Jour'!$K$6,S336,1),\"\"))","v":0},{"$f":"IF(T336=1,COUNTIF($T$3:T336,1),\"\")","v":""},{"$f":"IFERROR(INDEX(Cherche1,MATCH(ROWS($U$3:U336),Classement,0)),\"\")","v":""}]
["",null,null,null,null,null,null,null,null,null,null,null,null,null,null,null,null,null," ",{"$f":"--ISNUMBER(IFERROR(SEARCH('Vente Jour'!$K$6,S337,1),\"\"))","v":0},{"$f":"IF(T337=1,COUNTIF($T$3:T337,1),\"\")","v":""},{"$f":"IFERROR(INDEX(Cherche1,MATCH(ROWS($U$3:U337),Classement,0)),\"\")","v":""}]
["",null,null,null,null,null,null,null,null,null,null,null,null,null,null,null,null,null," ",{"$f":"--ISNUMBER(IFERROR(SEARCH('Vente Jour'!$K$6,S338,1),\"\"))","v":0},{"$f":"IF(T338=1,COUNTIF($T$3:T338,1),\"\")","v":""},{"$f":"IFERROR(INDEX(Cherche1,MATCH(ROWS($U$3:U338),Classement,0)),\"\")","v":""}]
["",null,null,null,null,null,null,null,null,null,null,null,null,null,null,null,null,null," ",{"$f":"--ISNUMBER(IFERROR(SEARCH('Vente Jour'!$K$6,S339,1),\"\"))","v":0},{"$f":"IF(T339=1,COUNTIF($T$3:T339,1),\"\")","v":""},{"$f":"IFERROR(INDEX(Cherche1,MATCH(ROWS($U$3:U339),Classement,0)),\"\")","v":""}]
["",null,null,null,null,null,null,null,null,null,null,null,null,null,null,null,null,null," ",{"$f":"--ISNUMBER(IFERROR(SEARCH('Vente Jour'!$K$6,S340,1),\"\"))","v":0},{"$f":"IF(T340=1,COUNTIF($T$3:T340,1),\"\")","v":""},{"$f":"IFERROR(INDEX(Cherche1,MATCH(ROWS($U$3:U340),Classement,0)),\"\")","v":""}]
["",null,null,null,null,null,null,null,null,null,null,null,null,null,null,null,null,null," ",{"$f":"--ISNUMBER(IFERROR(SEARCH('Vente Jour'!$K$6,S341,1),\"\"))","v":0},{"$f":"IF(T341=1,COUNTIF($T$3:T341,1),\"\")","v":""},{"$f":"IFERROR(INDEX(Cherche1,MATCH(ROWS($U$3:U341),Classement,0)),\"\")","v":""}]
["",null,null,null,null,null,null,null,null,null,null,null,null,null,null,null,null,null," ",{"$f":"--ISNUMBER(IFERROR(SEARCH('Vente Jour'!$K$6,S342,1),\"\"))","v":0},{"$f":"IF(T342=1,COUNTIF($T$3:T342,1),\"\")","v":""},{"$f":"IFERROR(INDEX(Cherche1,MATCH(ROWS($U$3:U342),Classement,0)),\"\")","v":""}]
["",null,null,null,null,null,null,null,null,null,null,null,null,null,null,null,null,null," ",{"$f":"--ISNUMBER(IFERROR(SEARCH('Vente Jour'!$K$6,S343,1),\"\"))","v":0},{"$f":"IF(T343=1,COUNTIF($T$3:T343,1),\"\")","v":""},{"$f":"IFERROR(INDEX(Cherche1,MATCH(ROWS($U$3:U343),Classement,0)),\"\")","v":""}]
["",null,null,null,null,null,null,null,null,null,null,null,null,null,null,null,null,null," ",{"$f":"--ISNUMBER(IFERROR(SEARCH('Vente Jour'!$K$6,S344,1),\"\"))","v":0},{"$f":"IF(T344=1,COUNTIF($T$3:T344,1),\"\")","v":""},{"$f":"IFERROR(INDEX(Cherche1,MATCH(ROWS($U$3:U344),Classement,0)),\"\")","v":""}]
["",null,null,null,null,null,null,null,null,null,null,null,null,null,null,null,null,null," ",{"$f":"--ISNUMBER(IFERROR(SEARCH('Vente Jour'!$K$6,S345,1),\"\"))","v":0},{"$f":"IF(T345=1,COUNTIF($T$3:T345,1),\"\")","v":""},{"$f":"IFERROR(INDEX(Cherche1,MATCH(ROWS($U$3:U345),Classement,0)),\"\")","v":""}]
["",null,null,null,null,null,null,null,null,null,null,null,null,null,null,null,null,null," ",{"$f":"--ISNUMBER(IFERROR(SEARCH('Vente Jour'!$K$6,S346,1),\"\"))","v":0},{"$f":"IF(T346=1,COUNTIF($T$3:T346,1),\"\")","v":""},{"$f":"IFERROR(INDEX(Cherche1,MATCH(ROWS($U$3:U346),Classement,0)),\"\")","v":""}]
["",null,null,null,null,null,null,null,null,null,null,null,null,null,null,null,null,null," ",{"$f":"--ISNUMBER(IFERROR(SEARCH('Vente Jour'!$K$6,S347,1),\"\"))","v":0},{"$f":"IF(T347=1,COUNTIF($T$3:T347,1),\"\")","v":""},{"$f":"IFERROR(INDEX(Cherche1,MATCH(ROWS($U$3:U347),Classement,0)),\"\")","v":""}]
["",null,null,null,null,null,null,null,null,null,null,null,null,null,null,null,null,null," ",{"$f":"--ISNUMBER(IFERROR(SEARCH('Vente Jour'!$K$6,S348,1),\"\"))","v":0},{"$f":"IF(T348=1,COUNTIF($T$3:T348,1),\"\")","v":""},{"$f":"IFERROR(INDEX(Cherche1,MATCH(ROWS($U$3:U348),Classement,0)),\"\")","v":""}]
["",null,null,null,null,null,null,null,null,null,null,null,null,null,null,null,null,null," ",{"$f":"--ISNUMBER(IFERROR(SEARCH('Vente Jour'!$K$6,S349,1),\"\"))","v":0},{"$f":"IF(T349=1,COUNTIF($T$3:T349,1),\"\")","v":""},{"$f":"IFERROR(INDEX(Cherche1,MATCH(ROWS($U$3:U349),Classement,0)),\"\")","v":""}]
["",null,null,null,null,null,null,null,null,null,null,null,null,null,null,null,null,null," ",{"$f":"--ISNUMBER(IFERROR(SEARCH('Vente Jour'!$K$6,S350,1),\"\"))","v":0},{"$f":"IF(T350=1,COUNTIF($T$3:T350,1),\"\")","v":""},{"$f":"IFERROR(INDEX(Cherche1,MATCH(ROWS($U$3:U350),Classement,0)),\"\")","v":""}]
["",null,null,null,null,null,null,null,null,null,null,null,null,null,null,null,null,null," ",{"$f":"--ISNUMBER(IFERROR(SEARCH('Vente Jour'!$K$6,S351,1),\"\"))","v":0},{"$f":"IF(T351=1,COUNTIF($T$3:T351,1),\"\")","v":""},{"$f":"IFERROR(INDEX(Cherche1,MATCH(ROWS($U$3:U351),Classement,0)),\"\")","v":""}]
["",null,null,null,null,null,null,null,null,null,null,null,null,null,null,null,null,null," ",{"$f":"--ISNUMBER(IFERROR(SEARCH('Vente Jour'!$K$6,S352,1),\"\"))","v":0},{"$f":"IF(T352=1,COUNTIF($T$3:T352,1),\"\")","v":""},{"$f":"IFERROR(INDEX(Cherche1,MATCH(ROWS($U$3:U352),Classement,0)),\"\")","v":""}]
["",null,null,null,null,null,null,null,null,null,null,null,null,null,null,null,null,null," ",{"$f":"--ISNUMBER(IFERROR(SEARCH('Vente Jour'!$K$6,S353,1),\"\"))","v":0},{"$f":"IF(T353=1,COUNTIF($T$3:T353,1),\"\")","v":""},{"$f":"IFERROR(INDEX(Cherche1,MATCH(ROWS($U$3:U353),Classement,0)),\"\")","v":""}]
["",null,null,null,null,null,null,null,null,null,null,null,null,null,null,null,null,null," ",{"$f":"--ISNUMBER(IFERROR(SEARCH('Vente Jour'!$K$6,S354,1),\"\"))","v":0},{"$f":"IF(T354=1,COUNTIF($T$3:T354,1),\"\")","v":""},{"$f":"IFERROR(INDEX(Cherche1,MATCH(ROWS($U$3:U354),Classement,0)),\"\")","v":""}]
["",null,null,null,null,null,null,null,null,null,null,null,null,null,null,null,null,null," ",{"$f":"--ISNUMBER(IFERROR(SEARCH('Vente Jour'!$K$6,S355,1),\"\"))","v":0},{"$f":"IF(T355=1,COUNTIF($T$3:T355,1),\"\")","v":""},{"$f":"IFERROR(INDEX(Cherche1,MATCH(ROWS($U$3:U355),Classement,0)),\"\")","v":""}]
["",null,null,null,null,null,null,null,null,null,null,null,null,null,null,null,null,null," ",{"$f":"--ISNUMBER(IFERROR(SEARCH('Vente Jour'!$K$6,S356,1),\"\"))","v":0},{"$f":"IF(T356=1,COUNTIF($T$3:T356,1),\"\")","v":""},{"$f":"IFERROR(INDEX(Cherche1,MATCH(ROWS($U$3:U356),Classement,0)),\"\")","v":""}]
["",null,null,null,null,null,null,null,null,null,null,null,null,null,null,null,null,null," ",{"$f":"--ISNUMBER(IFERROR(SEARCH('Vente Jour'!$K$6,S357,1),\"\"))","v":0},{"$f":"IF(T357=1,COUNTIF($T$3:T357,1),\"\")","v":""},{"$f":"IFERROR(INDEX(Cherche1,MATCH(ROWS($U$3:U357),Classement,0)),\"\")","v":""}]
["",null,null,null,null,null,null,null,null,null,null,null,null,null,null,null,null,null," ",{"$f":"--ISNUMBER(IFERROR(SEARCH('Vente Jour'!$K$6,S358,1),\"\"))","v":0},{"$f":"IF(T358=1,COUNTIF($T$3:T358,1),\"\")","v":""},{"$f":"IFERROR(INDEX(Cherche1,MATCH(ROWS($U$3:U358),Classement,0)),\"\")","v":""}]
["",null,null,null,null,null,null,null,null,null,null,null,null,null,null,null,null,null," ",{"$f":"--ISNUMBER(IFERROR(SEARCH('Vente Jour'!$K$6,S359,1),\"\"))","v":0},{"$f":"IF(T359=1,COUNTIF($T$3:T359,1),\"\")","v":""},{"$f":"IFERROR(INDEX(Cherche1,MATCH(ROWS($U$3:U359),Classement,0)),\"\")","v":""}]
["",null,null,null,null,null,null,null,null,null,null,null,null,null,null,null,null,null," ",{"$f":"--ISNUMBER(IFERROR(SEARCH('Vente Jour'!$K$6,S360,1),\"\"))","v":0},{"$f":"IF(T360=1,COUNTIF($T$3:T360,1),\"\")","v":""},{"$f":"IFERROR(INDEX(Cherche1,MATCH(ROWS($U$3:U360),Classement,0)),\"\")","v":""}]
["",null,null,null,null,null,null,null,null,null,null,null,null,null,null,null,null,null," ",{"$f":"--ISNUMBER(IFERROR(SEARCH('Vente Jour'!$K$6,S361,1),\"\"))","v":0},{"$f":"IF(T361=1,COUNTIF($T$3:T361,1),\"\")","v":""},{"$f":"IFERROR(INDEX(Cherche1,MATCH(ROWS($U$3:U361),Classement,0)),\"\")","v":""}]
["",null,null,null,null,null,null,null,null,null,null,null,null,null,null,null,null,null," ",{"$f":"--ISNUMBER(IFERROR(SEARCH('Vente Jour'!$K$6,S362,1),\"\"))","v":0},{"$f":"IF(T362=1,COUNTIF($T$3:T362,1),\"\")","v":""},{"$f":"IFERROR(INDEX(Cherche1,MATCH(ROWS($U$3:U362),Classement,0)),\"\")","v":""}]
["",null,null,null,null,null,null,null,null,null,null,null,null,null,null,null,null,null," ",{"$f":"--ISNUMBER(IFERROR(SEARCH('Vente Jour'!$K$6,S363,1),\"\"))","v":0},{"$f":"IF(T363=1,COUNTIF($T$3:T363,1),\"\")","v":""},{"$f":"IFERROR(INDEX(Cherche1,MATCH(ROWS($U$3:U363),Classement,0)),\"\")","v":""}]
["",null,null,null,null,null,null,null,null,null,null,null,null,null,null,null,null,null," ",{"$f":"--ISNUMBER(IFERROR(SEARCH('Vente Jour'!$K$6,S364,1),\"\"))","v":0},{"$f":"IF(T364=1,COUNTIF($T$3:T364,1),\"\")","v":""},{"$f":"IFERROR(INDEX(Cherche1,MATCH(ROWS($U$3:U364),Classement,0)),\"\")","v":""}]
["",null,null,null,null,null,null,null,null,null,null,null,null,null,null,null,null,null," ",{"$f":"--ISNUMBER(IFERROR(SEARCH('Vente Jour'!$K$6,S365,1),\"\"))","v":0},{"$f":"IF(T365=1,COUNTIF($T$3:T365,1),\"\")","v":""},{"$f":"IFERROR(INDEX(Cherche1,MATCH(ROWS($U$3:U365),Classement,0)),\"\")","v":""}]
["",null,null,null,null,null,null,null,null,null,null,null,null,null,null,null,null,null," ",{"$f":"--ISNUMBER(IFERROR(SEARCH('Vente Jour'!$K$6,S366,1),\"\"))","v":0},{"$f":"IF(T366=1,COUNTIF($T$3:T366,1),\"\")","v":""},{"$f":"IFERROR(INDEX(Cherche1,MATCH(ROWS($U$3:U366),Classement,0)),\"\")","v":""}]
["",null,null,null,null,null,null,null,null,null,null,null,null,null,null,null,null,null," ",{"$f":"--ISNUMBER(IFERROR(SEARCH('Vente Jour'!$K$6,S367,1),\"\"))","v":0},{"$f":"IF(T367=1,COUNTIF($T$3:T367,1),\"\")","v":""},{"$f":"IFERROR(INDEX(Cherche1,MATCH(ROWS($U$3:U367),Classement,0)),\"\")","v":""}]
["",null,null,null,null,null,null,null,null,null,null,null,null,null,null,null,null,null," ",{"$f":"--ISNUMBER(IFERROR(SEARCH('Vente Jour'!$K$6,S368,1),\"\"))","v":0},{"$f":"IF(T368=1,COUNTIF($T$3:T368,1),\"\")","v":""},{"$f":"IFERROR(INDEX(Cherche1,MATCH(ROWS($U$3:U368),Classement,0)),\"\")","v":""}]
["",null,null,null,null,null,null,null,null,null,null,null,null,null,null,null,null,null," ",{"$f":"--ISNUMBER(IFERROR(SEARCH('Vente Jour'!$K$6,S369,1),\"\"))","v":0},{"$f":"IF(T369=1,COUNTIF($T$3:T369,1),\"\")","v":""},{"$f":"IFERROR(INDEX(Cherche1,MATCH(ROWS($U$3:U369),Classement,0)),\"\")","v":""}]
["",null,null,null,null,null,null,null,null,null,null,null,null,null,null,null,null,null," ",{"$f":"--ISNUMBER(IFERROR(SEARCH('Vente Jour'!$K$6,S370,1),\"\"))","v":0},{"$f":"IF(T370=1,COUNTIF($T$3:T370,1),\"\")","v":""},{"$f":"IFERROR(INDEX(Cherche1,MATCH(ROWS($U$3:U370),Classement,0)),\"\")","v":""}]
["",null,null,null,null,null,null,null,null,null,null,null,null,null,null,null,null,null," ",{"$f":"--ISNUMBER(IFERROR(SEARCH('Vente Jour'!$K$6,S371,1),\"\"))","v":0},{"$f":"IF(T371=1,COUNTIF($T$3:T371,1),\"\")","v":""},{"$f":"IFERROR(INDEX(Cherche1,MATCH(ROWS($U$3:U371),Classement,0)),\"\")","v":""}]
["",null,null,null,null,null,null,null,null,null,null,null,null,null,null,null,null,null," ",{"$f":"--ISNUMBER(IFERROR(SEARCH('Vente Jour'!$K$6,S372,1),\"\"))","v":0},{"$f":"IF(T372=1,COUNTIF($T$3:T372,1),\"\")","v":""},{"$f":"IFERROR(INDEX(Cherche1,MATCH(ROWS($U$3:U372),Classement,0)),\"\")","v":""}]
["",null,null,null,null,null,null,null,null,null,null,null,null,null,null,null,null,null," ",{"$f":"--ISNUMBER(IFERROR(SEARCH('Vente Jour'!$K$6,S373,1),\"\"))","v":0},{"$f":"IF(T373=1,COUNTIF($T$3:T373,1),\"\")","v":""},{"$f":"IFERROR(INDEX(Cherche1,MATCH(ROWS($U$3:U373),Classement,0)),\"\")","v":""}]
["",null,null,null,null,null,null,null,null,null,null,null,null,null,null,null,null,null," ",{"$f":"--ISNUMBER(IFERROR(SEARCH('Vente Jour'!$K$6,S374,1),\"\"))","v":0},{"$f":"IF(T374=1,COUNTIF($T$3:T374,1),\"\")","v":""},{"$f":"IFERROR(INDEX(Cherche1,MATCH(ROWS($U$3:U374),Classement,0)),\"\")","v":""}]
["",null,null,null,null,null,null,null,null,null,null,null,null,null,null,null,null,null," ",{"$f":"--ISNUMBER(IFERROR(SEARCH('Vente Jour'!$K$6,S375,1),\"\"))","v":0},{"$f":"IF(T375=1,COUNTIF($T$3:T375,1),\"\")","v":""},{"$f":"IFERROR(INDEX(Cherche1,MATCH(ROWS($U$3:U375),Classement,0)),\"\")","v":""}]
["",null,null,null,null,null,null,null,null,null,null,null,null,null,null,null,null,null," ",{"$f":"--ISNUMBER(IFERROR(SEARCH('Vente Jour'!$K$6,S376,1),\"\"))","v":0},{"$f":"IF(T376=1,COUNTIF($T$3:T376,1),\"\")","v":""},{"$f":"IFERROR(INDEX(Cherche1,MATCH(ROWS($U$3:U376),Classement,0)),\"\")","v":""}]
["",null,null,null,null,null,null,null,null,null,null,null,null,null,null,null,null,null," ",{"$f":"--ISNUMBER(IFERROR(SEARCH('Vente Jour'!$K$6,S377,1),\"\"))","v":0},{"$f":"IF(T377=1,COUNTIF($T$3:T377,1),\"\")","v":""},{"$f":"IFERROR(INDEX(Cherche1,MATCH(ROWS($U$3:U377),Classement,0)),\"\")","v":""}]
["",null,null,null,null,null,null,null,null,null,null,null,null,null,null,null,null,null," ",{"$f":"--ISNUMBER(IFERROR(SEARCH('Vente Jour'!$K$6,S378,1),\"\"))","v":0},{"$f":"IF(T378=1,COUNTIF($T$3:T378,1),\"\")","v":""},{"$f":"IFERROR(INDEX(Cherche1,MATCH(ROWS($U$3:U378),Classement,0)),\"\")","v":""}]
["",null,null,null,null,null,null,null,null,null,null,null,null,null,null,null,null,null," ",{"$f":"--ISNUMBER(IFERROR(SEARCH('Vente Jour'!$K$6,S379,1),\"\"))","v":0},{"$f":"IF(T379=1,COUNTIF($T$3:T379,1),\"\")","v":""},{"$f":"IFERROR(INDEX(Cherche1,MATCH(ROWS($U$3:U379),Classement,0)),\"\")","v":""}]
["",null,null,null,null,null,null,null,null,null,null,null,null,null,null,null,null,null," ",{"$f":"--ISNUMBER(IFERROR(SEARCH('Vente Jour'!$K$6,S380,1),\"\"))","v":0},{"$f":"IF(T380=1,COUNTIF($T$3:T380,1),\"\")","v":""},{"$f":"IFERROR(INDEX(Cherche1,MATCH(ROWS($U$3:U380),Classement,0)),\"\")","v":""}]
["",null,null,null,null,null,null,null,null,null,null,null,null,null,null,null,null,null," ",{"$f":"--ISNUMBER(IFERROR(SEARCH('Vente Jour'!$K$6,S381,1),\"\"))","v":0},{"$f":"IF(T381=1,COUNTIF($T$3:T381,1),\"\")","v":""},{"$f":"IFERROR(INDEX(Cherche1,MATCH(ROWS($U$3:U381),Classement,0)),\"\")","v":""}]
["",null,null,null,null,null,null,null,null,null,null,null,null,null,null,null,null,null," ",{"$f":"--ISNUMBER(IFERROR(SEARCH('Vente Jour'!$K$6,S382,1),\"\"))","v":0},{"$f":"IF(T382=1,COUNTIF($T$3:T382,1),\"\")","v":""},{"$f":"IFERROR(INDEX(Cherche1,MATCH(ROWS($U$3:U382),Classement,0)),\"\")","v":""}]
["",null,null,null,null,null,null,null,null,null,null,null,null,null,null,null,null,null," ",{"$f":"--ISNUMBER(IFERROR(SEARCH('Vente Jour'!$K$6,S383,1),\"\"))","v":0},{"$f":"IF(T383=1,COUNTIF($T$3:T383,1),\"\")","v":""},{"$f":"IFERROR(INDEX(Cherche1,MATCH(ROWS($U$3:U383),Classement,0)),\"\")","v":""}]
["",null,null,null,null,null,null,null,null,null,null,null,null,null,null,null,null,null," ",{"$f":"--ISNUMBER(IFERROR(SEARCH('Vente Jour'!$K$6,S384,1),\"\"))","v":0},{"$f":"IF(T384=1,COUNTIF($T$3:T384,1),\"\")","v":""},{"$f":"IFERROR(INDEX(Cherche1,MATCH(ROWS($U$3:U384),Classement,0)),\"\")","v":""}]
["",null,null,null,null,null,null,null,null,null,null,null,null,null,null,null,null,null," ",{"$f":"--ISNUMBER(IFERROR(SEARCH('Vente Jour'!$K$6,S385,1),\"\"))","v":0},{"$f":"IF(T385=1,COUNTIF($T$3:T385,1),\"\")","v":""},{"$f":"IFERROR(INDEX(Cherche1,MATCH(ROWS($U$3:U385),Classement,0)),\"\")","v":""}]
["",null,null,null,null,null,null,null,null,null,null,null,null,null,null,null,null,null," ",{"$f":"--ISNUMBER(IFERROR(SEARCH('Vente Jour'!$K$6,S386,1),\"\"))","v":0},{"$f":"IF(T386=1,COUNTIF($T$3:T386,1),\"\")","v":""},{"$f":"IFERROR(INDEX(Cherche1,MATCH(ROWS($U$3:U386),Classement,0)),\"\")","v":""}]
["",null,null,null,null,null,null,null,null,null,null,null,null,null,null,null,null,null," ",{"$f":"--ISNUMBER(IFERROR(SEARCH('Vente Jour'!$K$6,S387,1),\"\"))","v":0},{"$f":"IF(T387=1,COUNTIF($T$3:T387,1),\"\")","v":""},{"$f":"IFERROR(INDEX(Cherche1,MATCH(ROWS($U$3:U387),Classement,0)),\"\")","v":""}]
["",null,null,null,null,null,null,null,null,null,null,null,null,null,null,null,null,null," ",{"$f":"--ISNUMBER(IFERROR(SEARCH('Vente Jour'!$K$6,S388,1),\"\"))","v":0},{"$f":"IF(T388=1,COUNTIF($T$3:T388,1),\"\")","v":""},{"$f":"IFERROR(INDEX(Cherche1,MATCH(ROWS($U$3:U388),Classement,0)),\"\")","v":""}]
[{"$f":"IF(B389=\"\",\"\",A388+1)","v":""},null,null,null,null,null,null,null,null,null,null,null,null,null,null,null,null,null," ",{"$f":"--ISNUMBER(IFERROR(SEARCH('Vente Jour'!$K$6,S389,1),\"\"))","v":0},{"$f":"IF(T389=1,COUNTIF($T$3:T389,1),\"\")","v":""},{"$f":"IFERROR(INDEX(Cherche1,MATCH(ROWS($U$3:U389),Classement,0)),\"\")","v":""}]
["",null,null,null,null,null,null,null,null,null,null,null,null,null,null,null,null,null," ",{"$f":"--ISNUMBER(IFERROR(SEARCH('Vente Jour'!$K$6,S390,1),\"\"))","v":0},{"$f":"IF(T390=1,COUNTIF($T$3:T390,1),\"\")","v":""},{"$f":"IFERROR(INDEX(Cherche1,MATCH(ROWS($U$3:U390),Classement,0)),\"\")","v":""}]
["",null,null,null,null,null,null,null,null,null,null,null,null,null,null,null,null,null," ",{"$f":"--ISNUMBER(IFERROR(SEARCH('Vente Jour'!$K$6,S391,1),\"\"))","v":0},{"$f":"IF(T391=1,COUNTIF($T$3:T391,1),\"\")","v":""},{"$f":"IFERROR(INDEX(Cherche1,MATCH(ROWS($U$3:U391),Classement,0)),\"\")","v":""}]
["",null,null,null,null,null,null,null,null,null,null,null,null,null,null,null,null,null," ",{"$f":"--ISNUMBER(IFERROR(SEARCH('Vente Jour'!$K$6,S392,1),\"\"))","v":0},{"$f":"IF(T392=1,COUNTIF($T$3:T392,1),\"\")","v":""},{"$f":"IFERROR(INDEX(Cherche1,MATCH(ROWS($U$3:U392),Classement,0)),\"\")","v":""}]
["",null,null,null,null,null,null,null,null,null,null,null,null,null,null,null,null,null," ",{"$f":"--ISNUMBER(IFERROR(SEARCH('Vente Jour'!$K$6,S393,1),\"\"))","v":0},{"$f":"IF(T393=1,COUNTIF($T$3:T393,1),\"\")","v":""},{"$f":"IFERROR(INDEX(Cherche1,MATCH(ROWS($U$3:U393),Classement,0)),\"\")","v":""}]
["",null,null,null,null,null,null,null,null,null,null,null,null,null,null,null,null,null," ",{"$f":"--ISNUMBER(IFERROR(SEARCH('Vente Jour'!$K$6,S394,1),\"\"))","v":0},{"$f":"IF(T394=1,COUNTIF($T$3:T394,1),\"\")","v":""},{"$f":"IFERROR(INDEX(Cherche1,MATCH(ROWS($U$3:U394),Classement,0)),\"\")","v":""}]
["",null,null,null,null,null,null,null,null,null,null,null,null,null,null,null,null,null," ",{"$f":"--ISNUMBER(IFERROR(SEARCH('Vente Jour'!$K$6,S395,1),\"\"))","v":0},{"$f":"IF(T395=1,COUNTIF($T$3:T395,1),\"\")","v":""},{"$f":"IFERROR(INDEX(Cherche1,MATCH(ROWS($U$3:U395),Classement,0)),\"\")","v":""}]
["",null,null,null,null,null,null,null,null,null,null,null,null,null,null,null,null,null," ",{"$f":"--ISNUMBER(IFERROR(SEARCH('Vente Jour'!$K$6,S396,1),\"\"))","v":0},{"$f":"IF(T396=1,COUNTIF($T$3:T396,1),\"\")","v":""},{"$f":"IFERROR(INDEX(Cherche1,MATCH(ROWS($U$3:U396),Classement,0)),\"\")","v":""}]
["",null,null,null,null,null,null,null,null,null,null,null,null,null,null,null,null,null," ",{"$f":"--ISNUMBER(IFERROR(SEARCH('Vente Jour'!$K$6,S397,1),\"\"))","v":0},{"$f":"IF(T397=1,COUNTIF($T$3:T397,1),\"\")","v":""},{"$f":"IFERROR(INDEX(Cherche1,MATCH(ROWS($U$3:U397),Classement,0)),\"\")","v":""}]
["",null,null,null,null,null,null,null,null,null,null,null,null,null,null,null,null,null," ",{"$f":"--ISNUMBER(IFERROR(SEARCH('Vente Jour'!$K$6,S398,1),\"\"))","v":0},{"$f":"IF(T398=1,COUNTIF($T$3:T398,1),\"\")","v":""},{"$f":"IFERROR(INDEX(Cherche1,MATCH(ROWS($U$3:U398),Classement,0)),\"\")","v":""}]
["",null,null,null,null,null,null,null,null,null,null,null,null,null,null,null,null,null,{"$f":"CONCATENATE(B399,\" \",C399)","v":" "},{"$f":"--ISNUMBER(IFERROR(SEARCH('Vente Jour'!$K$6,S399,1),\"\"))","v":0},{"$f":"IF(T399=1,COUNTIF($T$3:T399,1),\"\")","v":""},{"$f":"IFERROR(INDEX(Cherche1,MATCH(ROWS($U$3:U399),Classement,0)),\"\")","v":""}]
["",null,null,null,null,null,null,null,null,null,null,null,null,null,null,null,null,null," ",{"$f":"--ISNUMBER(IFERROR(SEARCH('Vente Jour'!$K$6,S400,1),\"\"))","v":0},{"$f":"IF(T400=1,COUNTIF($T$3:T400,1),\"\")","v":""},{"$f":"IFERROR(INDEX(Cherche1,MATCH(ROWS($U$3:U400),Classement,0)),\"\")","v":""}]
["",null,null,null,null,null,null,null,null,null,null,null,null,null,null,null,null,null," ",{"$f":"--ISNUMBER(IFERROR(SEARCH('Vente Jour'!$K$6,S401,1),\"\"))","v":0},{"$f":"IF(T401=1,COUNTIF($T$3:T401,1),\"\")","v":""},{"$f":"IFERROR(INDEX(Cherche1,MATCH(ROWS($U$3:U401),Classement,0)),\"\")","v":""}]
["",null,null,null,null,null,null,null,null,null,null,null,null,null,null,null,null,null," ",{"$f":"--ISNUMBER(IFERROR(SEARCH('Vente Jour'!$K$6,S402,1),\"\"))","v":0},{"$f":"IF(T402=1,COUNTIF($T$3:T402,1),\"\")","v":""},{"$f":"IFERROR(INDEX(Cherche1,MATCH(ROWS($U$3:U402),Classement,0)),\"\")","v":""}]
["",null,null,null,null,null,null,null,null,null,null,null,null,null,null,null,null,null," ",{"$f":"--ISNUMBER(IFERROR(SEARCH('Vente Jour'!$K$6,S403,1),\"\"))","v":0},{"$f":"IF(T403=1,COUNTIF($T$3:T403,1),\"\")","v":""},{"$f":"IFERROR(INDEX(Cherche1,MATCH(ROWS($U$3:U403),Classement,0)),\"\")","v":""}]
["",null,null,null,null,null,null,null,null,null,null,null,null,null,null,null,null,null," ",{"$f":"--ISNUMBER(IFERROR(SEARCH('Vente Jour'!$K$6,S404,1),\"\"))","v":0},{"$f":"IF(T404=1,COUNTIF($T$3:T404,1),\"\")","v":""},{"$f":"IFERROR(INDEX(Cherche1,MATCH(ROWS($U$3:U404),Classement,0)),\"\")","v":""}]
["",null,null,null,null,null,null,null,null,null,null,null,null,null,null,null,null,null," ",{"$f":"--ISNUMBER(IFERROR(SEARCH('Vente Jour'!$K$6,S405,1),\"\"))","v":0},{"$f":"IF(T405=1,COUNTIF($T$3:T405,1),\"\")","v":""},{"$f":"IFERROR(INDEX(Cherche1,MATCH(ROWS($U$3:U405),Classement,0)),\"\")","v":""}]
["",null,null,null,null,null,null,null,null,null,null,null,null,null,null,null,null,null," ",{"$f":"--ISNUMBER(IFERROR(SEARCH('Vente Jour'!$K$6,S406,1),\"\"))","v":0},{"$f":"IF(T406=1,COUNTIF($T$3:T406,1),\"\")","v":""},{"$f":"IFERROR(INDEX(Cherche1,MATCH(ROWS($U$3:U406),Classement,0)),\"\")","v":""}]
["",null,null,null,null,null,null,null,null,null,null,null,null,null,null,null,null,null," ",{"$f":"--ISNUMBER(IFERROR(SEARCH('Vente Jour'!$K$6,S407,1),\"\"))","v":0},{"$f":"IF(T407=1,COUNTIF($T$3:T407,1),\"\")","v":""},{"$f":"IFERROR(INDEX(Cherche1,MATCH(ROWS($U$3:U407),Classement,0)),\"\")","v":""}]
["",null,null,null,null,null,null,null,null,null,null,null,null,null,null,null,null,null," ",{"$f":"--ISNUMBER(IFERROR(SEARCH('Vente Jour'!$K$6,S408,1),\"\"))","v":0},{"$f":"IF(T408=1,COUNTIF($T$3:T408,1),\"\")","v":""},{"$f":"IFERROR(INDEX(Cherche1,MATCH(ROWS($U$3:U408),Classement,0)),\"\")","v":""}]
["",null,null,null,null,null,null,null,null,null,null,null,null,null,null,null,null,null," ",{"$f":"--ISNUMBER(IFERROR(SEARCH('Vente Jour'!$K$6,S409,1),\"\"))","v":0},{"$f":"IF(T409=1,COUNTIF($T$3:T409,1),\"\")","v":""},{"$f":"IFERROR(INDEX(Cherche1,MATCH(ROWS($U$3:U409),Classement,0)),\"\")","v":""}]
["",null,null,null,null,null,null,null,null,null,null,null,null,null,null,null,null,null," ",{"$f":"--ISNUMBER(IFERROR(SEARCH('Vente Jour'!$K$6,S410,1),\"\"))","v":0},{"$f":"IF(T410=1,COUNTIF($T$3:T410,1),\"\")","v":""},{"$f":"IFERROR(INDEX(Cherche1,MATCH(ROWS($U$3:U410),Classement,0)),\"\")","v":""}]
["",null,null,null,null,null,null,null,null,null,null,null,null,null,null,null,null,null," ",{"$f":"--ISNUMBER(IFERROR(SEARCH('Vente Jour'!$K$6,S411,1),\"\"))","v":0},{"$f":"IF(T411=1,COUNTIF($T$3:T411,1),\"\")","v":""},{"$f":"IFERROR(INDEX(Cherche1,MATCH(ROWS($U$3:U411),Classement,0)),\"\")","v":""}]
["",null,null,null,null,null,null,null,null,null,null,null,null,null,null,null,null,null," ",{"$f":"--ISNUMBER(IFERROR(SEARCH('Vente Jour'!$K$6,S412,1),\"\"))","v":0},{"$f":"IF(T412=1,COUNTIF($T$3:T412,1),\"\")","v":""},{"$f":"IFERROR(INDEX(Cherche1,MATCH(ROWS($U$3:U412),Classement,0)),\"\")","v":""}]
["",null,null,null,null,null,null,null,null,null,null,null,null,null,null,null,null,null," ",{"$f":"--ISNUMBER(IFERROR(SEARCH('Vente Jour'!$K$6,S413,1),\"\"))","v":0},{"$f":"IF(T413=1,COUNTIF($T$3:T413,1),\"\")","v":""},{"$f":"IFERROR(INDEX(Cherche1,MATCH(ROWS($U$3:U413),Classement,0)),\"\")","v":""}]
["",null,null,null,null,null,null,null,null,null,null,null,null,null,null,null,null,null," ",{"$f":"--ISNUMBER(IFERROR(SEARCH('Vente Jour'!$K$6,S414,1),\"\"))","v":0},{"$f":"IF(T414=1,COUNTIF($T$3:T414,1),\"\")","v":""},{"$f":"IFERROR(INDEX(Cherche1,MATCH(ROWS($U$3:U414),Classement,0)),\"\")","v":""}]
["",null,null,null,null,null,null,null,null,null,null,null,null,null,null,null,null,null," ",{"$f":"--ISNUMBER(IFERROR(SEARCH('Vente Jour'!$K$6,S415,1),\"\"))","v":0},{"$f":"IF(T415=1,COUNTIF($T$3:T415,1),\"\")","v":""},{"$f":"IFERROR(INDEX(Cherche1,MATCH(ROWS($U$3:U415),Classement,0)),\"\")","v":""}]
["",null,null,null,null,null,null,null,null,null,null,null,null,null,null,null,null,null," ",{"$f":"--ISNUMBER(IFERROR(SEARCH('Vente Jour'!$K$6,S416,1),\"\"))","v":0},{"$f":"IF(T416=1,COUNTIF($T$3:T416,1),\"\")","v":""},{"$f":"IFERROR(INDEX(Cherche1,MATCH(ROWS($U$3:U416),Classement,0)),\"\")","v":""}]
["",null,null,null,null,null,null,null,null,null,null,null,null,null,null,null,null,null," ",{"$f":"--ISNUMBER(IFERROR(SEARCH('Vente Jour'!$K$6,S417,1),\"\"))","v":0},{"$f":"IF(T417=1,COUNTIF($T$3:T417,1),\"\")","v":""},{"$f":"IFERROR(INDEX(Cherche1,MATCH(ROWS($U$3:U417),Classement,0)),\"\")","v":""}]
["",null,null,null,null,null,null,null,null,null,null,null,null,null,null,null,null,null," ",{"$f":"--ISNUMBER(IFERROR(SEARCH('Vente Jour'!$K$6,S418,1),\"\"))","v":0},{"$f":"IF(T418=1,COUNTIF($T$3:T418,1),\"\")","v":""},{"$f":"IFERROR(INDEX(Cherche1,MATCH(ROWS($U$3:U418),Classement,0)),\"\")","v":""}]
["",null,null,null,null,null,null,null,null,null,null,null,null,null,null,null,null,null," ",{"$f":"--ISNUMBER(IFERROR(SEARCH('Vente Jour'!$K$6,S419,1),\"\"))","v":0},{"$f":"IF(T419=1,COUNTIF($T$3:T419,1),\"\")","v":""},{"$f":"IFERROR(INDEX(Cherche1,MATCH(ROWS($U$3:U419),Classement,0)),\"\")","v":""}]
["",null,null,null,null,null,null,null,null,null,null,null,null,null,null,null,null,null," ",{"$f":"--ISNUMBER(IFERROR(SEARCH('Vente Jour'!$K$6,S420,1),\"\"))","v":0},{"$f":"IF(T420=1,COUNTIF($T$3:T420,1),\"\")","v":""},{"$f":"IFERROR(INDEX(Cherche1,MATCH(ROWS($U$3:U420),Classement,0)),\"\")","v":""}]
["",null,null,null,null,null,null,null,null,null,null,null,null,null,null,null,null,null," ",{"$f":"--ISNUMBER(IFERROR(SEARCH('Vente Jour'!$K$6,S421,1),\"\"))","v":0},{"$f":"IF(T421=1,COUNTIF($T$3:T421,1),\"\")","v":""},{"$f":"IFERROR(INDEX(Cherche1,MATCH(ROWS($U$3:U421),Classement,0)),\"\")","v":""}]
["",null,null,null,null,null,null,null,null,null,null,null,null,null,null,null,null,null," ",{"$f":"--ISNUMBER(IFERROR(SEARCH('Vente Jour'!$K$6,S422,1),\"\"))","v":0},{"$f":"IF(T422=1,COUNTIF($T$3:T422,1),\"\")","v":""},{"$f":"IFERROR(INDEX(Cherche1,MATCH(ROWS($U$3:U422),Classement,0)),\"\")","v":""}]
["",null,null,null,null,null,null,null,null,null,null,null,null,null,null,null,null,null," ",{"$f":"--ISNUMBER(IFERROR(SEARCH('Vente Jour'!$K$6,S423,1),\"\"))","v":0},{"$f":"IF(T423=1,COUNTIF($T$3:T423,1),\"\")","v":""},{"$f":"IFERROR(INDEX(Cherche1,MATCH(ROWS($U$3:U423),Classement,0)),\"\")","v":""}]
["",null,null,null,null,null,null,null,null,null,null,null,null,null,null,null,null,null," ",{"$f":"--ISNUMBER(IFERROR(SEARCH('Vente Jour'!$K$6,S424,1),\"\"))","v":0},{"$f":"IF(T424=1,COUNTIF($T$3:T424,1),\"\")","v":""},{"$f":"IFERROR(INDEX(Cherche1,MATCH(ROWS($U$3:U424),Classement,0)),\"\")","v":""}]
["",null,null,null,null,null,null,null,null,null,null,null,null,null,null,null,null,null," ",{"$f":"--ISNUMBER(IFERROR(SEARCH('Vente Jour'!$K$6,S425,1),\"\"))","v":0},{"$f":"IF(T425=1,COUNTIF($T$3:T425,1),\"\")","v":""},{"$f":"IFERROR(INDEX(Cherche1,MATCH(ROWS($U$3:U425),Classement,0)),\"\")","v":""}]
["",null,null,null,null,null,null,null,null,null,null,null,null,null,null,null,null,null," ",{"$f":"--ISNUMBER(IFERROR(SEARCH('Vente Jour'!$K$6,S426,1),\"\"))","v":0},{"$f":"IF(T426=1,COUNTIF($T$3:T426,1),\"\")","v":""},{"$f":"IFERROR(INDEX(Cherche1,MATCH(ROWS($U$3:U426),Classement,0)),\"\")","v":""}]
["",null,null,null,null,null,null,null,null,null,null,null,null,null,null,null,null,null," ",{"$f":"--ISNUMBER(IFERROR(SEARCH('Vente Jour'!$K$6,S427,1),\"\"))","v":0},{"$f":"IF(T427=1,COUNTIF($T$3:T427,1),\"\")","v":""},{"$f":"IFERROR(INDEX(Cherche1,MATCH(ROWS($U$3:U427),Classement,0)),\"\")","v":""}]
["",null,null,null,null,null,null,null,null,null,null,null,null,null,null,null,null,null," ",{"$f":"--ISNUMBER(IFERROR(SEARCH('Vente Jour'!$K$6,S428,1),\"\"))","v":0},{"$f":"IF(T428=1,COUNTIF($T$3:T428,1),\"\")","v":""},{"$f":"IFERROR(INDEX(Cherche1,MATCH(ROWS($U$3:U428),Classement,0)),\"\")","v":""}]
["",null,null,null,null,null,null,null,null,null,null,null,null,null,null,null,null,null," ",{"$f":"--ISNUMBER(IFERROR(SEARCH('Vente Jour'!$K$6,S429,1),\"\"))","v":0},{"$f":"IF(T429=1,COUNTIF($T$3:T429,1),\"\")","v":""},{"$f":"IFERROR(INDEX(Cherche1,MATCH(ROWS($U$3:U429),Classement,0)),\"\")","v":""}]
["",null,null,null,null,null,null,null,null,null,null,null,null,null,null,null,null,null," ",{"$f":"--ISNUMBER(IFERROR(SEARCH('Vente Jour'!$K$6,S430,1),\"\"))","v":0},{"$f":"IF(T430=1,COUNTIF($T$3:T430,1),\"\")","v":""},{"$f":"IFERROR(INDEX(Cherche1,MATCH(ROWS($U$3:U430),Classement,0)),\"\")","v":""}]
["",null,null,null,null,null,null,null,null,null,null,null,null,null,null,null,null,null," ",{"$f":"--ISNUMBER(IFERROR(SEARCH('Vente Jour'!$K$6,S431,1),\"\"))","v":0},{"$f":"IF(T431=1,COUNTIF($T$3:T431,1),\"\")","v":""},{"$f":"IFERROR(INDEX(Cherche1,MATCH(ROWS($U$3:U431),Classement,0)),\"\")","v":""}]
["",null,null,null,null,null,null,null,null,null,null,null,null,null,null,null,null,null," ",{"$f":"--ISNUMBER(IFERROR(SEARCH('Vente Jour'!$K$6,S432,1),\"\"))","v":0},{"$f":"IF(T432=1,COUNTIF($T$3:T432,1),\"\")","v":""},{"$f":"IFERROR(INDEX(Cherche1,MATCH(ROWS($U$3:U432),Classement,0)),\"\")","v":""}]
["",null,null,null,null,null,null,null,null,null,null,null,null,null,null,null,null,null," ",{"$f":"--ISNUMBER(IFERROR(SEARCH('Vente Jour'!$K$6,S433,1),\"\"))","v":0},{"$f":"IF(T433=1,COUNTIF($T$3:T433,1),\"\")","v":""},{"$f":"IFERROR(INDEX(Cherche1,MATCH(ROWS($U$3:U433),Classement,0)),\"\")","v":""}]
["",null,null,null,null,null,null,null,null,null,null,null,null,null,null,null,null,null," ",{"$f":"--ISNUMBER(IFERROR(SEARCH('Vente Jour'!$K$6,S434,1),\"\"))","v":0},{"$f":"IF(T434=1,COUNTIF($T$3:T434,1),\"\")","v":""},{"$f":"IFERROR(INDEX(Cherche1,MATCH(ROWS($U$3:U434),Classement,0)),\"\")","v":""}]
["",null,null,null,null,null,null,null,null,null,null,null,null,null,null,null,null,null," ",{"$f":"--ISNUMBER(IFERROR(SEARCH('Vente Jour'!$K$6,S435,1),\"\"))","v":0},{"$f":"IF(T435=1,COUNTIF($T$3:T435,1),\"\")","v":""},{"$f":"IFERROR(INDEX(Cherche1,MATCH(ROWS($U$3:U435),Classement,0)),\"\")","v":""}]
["",null,null,null,null,null,null,null,null,null,null,null,null,null,null,null,null,null," ",{"$f":"--ISNUMBER(IFERROR(SEARCH('Vente Jour'!$K$6,S436,1),\"\"))","v":0},{"$f":"IF(T436=1,COUNTIF($T$3:T436,1),\"\")","v":""},{"$f":"IFERROR(INDEX(Cherche1,MATCH(ROWS($U$3:U436),Classement,0)),\"\")","v":""}]
["",null,null,null,null,null,null,null,null,null,null,null,null,null,null,null,null,null," ",{"$f":"--ISNUMBER(IFERROR(SEARCH('Vente Jour'!$K$6,S437,1),\"\"))","v":0},{"$f":"IF(T437=1,COUNTIF($T$3:T437,1),\"\")","v":""},{"$f":"IFERROR(INDEX(Cherche1,MATCH(ROWS($U$3:U437),Classement,0)),\"\")","v":""}]
["",null,null,null,null,null,null,null,null,null,null,null,null,null,null,null,null,null," ",{"$f":"--ISNUMBER(IFERROR(SEARCH('Vente Jour'!$K$6,S438,1),\"\"))","v":0},{"$f":"IF(T438=1,COUNTIF($T$3:T438,1),\"\")","v":""},{"$f":"IFERROR(INDEX(Cherche1,MATCH(ROWS($U$3:U438),Classement,0)),\"\")","v":""}]
["",null,null,null,null,null,null,null,null,null,null,null,null,null,null,null,null,null," ",{"$f":"--ISNUMBER(IFERROR(SEARCH('Vente Jour'!$K$6,S439,1),\"\"))","v":0},{"$f":"IF(T439=1,COUNTIF($T$3:T439,1),\"\")","v":""},{"$f":"IFERROR(INDEX(Cherche1,MATCH(ROWS($U$3:U439),Classement,0)),\"\")","v":""}]
["",null,null,null,null,null,null,null,null,null,null,null,null,null,null,null,null,null," ",{"$f":"--ISNUMBER(IFERROR(SEARCH('Vente Jour'!$K$6,S440,1),\"\"))","v":0},{"$f":"IF(T440=1,COUNTIF($T$3:T440,1),\"\")","v":""},{"$f":"IFERROR(INDEX(Cherche1,MATCH(ROWS($U$3:U440),Classement,0)),\"\")","v":""}]
["",null,null,null,null,null,null,null,null,null,null,null,null,null,null,null,null,null," ",{"$f":"--ISNUMBER(IFERROR(SEARCH('Vente Jour'!$K$6,S441,1),\"\"))","v":0},{"$f":"IF(T441=1,COUNTIF($T$3:T441,1),\"\")","v":""},{"$f":"IFERROR(INDEX(Cherche1,MATCH(ROWS($U$3:U441),Classement,0)),\"\")","v":""}]
["",null,null,null,null,null,null,null,null,null,null,null,null,null,null,null,null,null," ",{"$f":"--ISNUMBER(IFERROR(SEARCH('Vente Jour'!$K$6,S442,1),\"\"))","v":0},{"$f":"IF(T442=1,COUNTIF($T$3:T442,1),\"\")","v":""},{"$f":"IFERROR(INDEX(Cherche1,MATCH(ROWS($U$3:U442),Classement,0)),\"\")","v":""}]
["",null,null,null,null,null,null,null,null,null,null,null,null,null,null,null,null,null," ",{"$f":"--ISNUMBER(IFERROR(SEARCH('Vente Jour'!$K$6,S443,1),\"\"))","v":0},{"$f":"IF(T443=1,COUNTIF($T$3:T443,1),\"\")","v":""},{"$f":"IFERROR(INDEX(Cherche1,MATCH(ROWS($U$3:U443),Classement,0)),\"\")","v":""}]
["",null,null,null,null,null,null,null,null,null,null,null,null,null,null,null,null,null," ",{"$f":"--ISNUMBER(IFERROR(SEARCH('Vente Jour'!$K$6,S444,1),\"\"))","v":0},{"$f":"IF(T444=1,COUNTIF($T$3:T444,1),\"\")","v":""},{"$f":"IFERROR(INDEX(Cherche1,MATCH(ROWS($U$3:U444),Classement,0)),\"\")","v":""}]
["",null,null,null,null,null,null,null,null,null,null,null,null,null,null,null,null,null," ",{"$f":"--ISNUMBER(IFERROR(SEARCH('Vente Jour'!$K$6,S445,1),\"\"))","v":0},{"$f":"IF(T445=1,COUNTIF($T$3:T445,1),\"\")","v":""},{"$f":"IFERROR(INDEX(Cherche1,MATCH(ROWS($U$3:U445),Classement,0)),\"\")","v":""}]
["",null,null,null,null,null,null,null,null,null,null,null,null,null,null,null,null,null," ",{"$f":"--ISNUMBER(IFERROR(SEARCH('Vente Jour'!$K$6,S446,1),\"\"))","v":0},{"$f":"IF(T446=1,COUNTIF($T$3:T446,1),\"\")","v":""},{"$f":"IFERROR(INDEX(Cherche1,MATCH(ROWS($U$3:U446),Classement,0)),\"\")","v":""}]
["",null,null,null,null,null,null,null,null,null,null,null,null,null,null,null,null,null," ",{"$f":"--ISNUMBER(IFERROR(SEARCH('Vente Jour'!$K$6,S447,1),\"\"))","v":0},{"$f":"IF(T447=1,COUNTIF($T$3:T447,1),\"\")","v":""},{"$f":"IFERROR(INDEX(Cherche1,MATCH(ROWS($U$3:U447),Classement,0)),\"\")","v":""}]
["",null,null,null,null,null,null,null,null,null,null,null,null,null,null,null,null,null," ",{"$f":"--ISNUMBER(IFERROR(SEARCH('Vente Jour'!$K$6,S448,1),\"\"))","v":0},{"$f":"IF(T448=1,COUNTIF($T$3:T448,1),\"\")","v":""},{"$f":"IFERROR(INDEX(Cherche1,MATCH(ROWS($U$3:U448),Classement,0)),\"\")","v":""}]
["",null,null,null,null,null,null,null,null,null,null,null,null,null,null,null,null,null," ",{"$f":"--ISNUMBER(IFERROR(SEARCH('Vente Jour'!$K$6,S449,1),\"\"))","v":0},{"$f":"IF(T449=1,COUNTIF($T$3:T449,1),\"\")","v":""},{"$f":"IFERROR(INDEX(Cherche1,MATCH(ROWS($U$3:U449),Classement,0)),\"\")","v":""}]
["",null,null,null,null,null,null,null,null,null,null,null,null,null,null,null,null,null," ",{"$f":"--ISNUMBER(IFERROR(SEARCH('Vente Jour'!$K$6,S450,1),\"\"))","v":0},{"$f":"IF(T450=1,COUNTIF($T$3:T450,1),\"\")","v":""},{"$f":"IFERROR(INDEX(Cherche1,MATCH(ROWS($U$3:U450),Classement,0)),\"\")","v":""}]
["",null,null,null,null,null,null,null,null,null,null,null,null,null,null,null,null,null," ",{"$f":"--ISNUMBER(IFERROR(SEARCH('Vente Jour'!$K$6,S451,1),\"\"))","v":0},{"$f":"IF(T451=1,COUNTIF($T$3:T451,1),\"\")","v":""},{"$f":"IFERROR(INDEX(Cherche1,MATCH(ROWS($U$3:U451),Classement,0)),\"\")","v":""}]
["",null,null,null,null,null,null,null,null,null,null,null,null,null,null,null,null,null," ",{"$f":"--ISNUMBER(IFERROR(SEARCH('Vente Jour'!$K$6,S452,1),\"\"))","v":0},{"$f":"IF(T452=1,COUNTIF($T$3:T452,1),\"\")","v":""},{"$f":"IFERROR(INDEX(Cherche1,MATCH(ROWS($U$3:U452),Classement,0)),\"\")","v":""}]
[{"$f":"IF(B453=\"\",\"\",A452+1)","v":""},null,null,null,null,null,null,null,null,null,null,null,null,null,null,null,null,null," ",{"$f":"--ISNUMBER(IFERROR(SEARCH('Vente Jour'!$K$6,S453,1),\"\"))","v":0},{"$f":"IF(T453=1,COUNTIF($T$3:T453,1),\"\")","v":""},{"$f":"IFERROR(INDEX(Cherche1,MATCH(ROWS($U$3:U453),Classement,0)),\"\")","v":""}]
["",null,null,null,null,null,null,null,null,null,null,null,null,null,null,null,null,null," ",{"$f":"--ISNUMBER(IFERROR(SEARCH('Vente Jour'!$K$6,S454,1),\"\"))","v":0},{"$f":"IF(T454=1,COUNTIF($T$3:T454,1),\"\")","v":""},{"$f":"IFERROR(INDEX(Cherche1,MATCH(ROWS($U$3:U454),Classement,0)),\"\")","v":""}]
["",null,null,null,null,null,null,null,null,null,null,null,null,null,null,null,null,null," ",{"$f":"--ISNUMBER(IFERROR(SEARCH('Vente Jour'!$K$6,S455,1),\"\"))","v":0},{"$f":"IF(T455=1,COUNTIF($T$3:T455,1),\"\")","v":""},{"$f":"IFERROR(INDEX(Cherche1,MATCH(ROWS($U$3:U455),Classement,0)),\"\")","v":""}]
["",null,null,null,null,null,null,null,null,null,null,null,null,null,null,null,null,null," ",{"$f":"--ISNUMBER(IFERROR(SEARCH('Vente Jour'!$K$6,S456,1),\"\"))","v":0},{"$f":"IF(T456=1,COUNTIF($T$3:T456,1),\"\")","v":""},{"$f":"IFERROR(INDEX(Cherche1,MATCH(ROWS($U$3:U456),Classement,0)),\"\")","v":""}]
["",null,null,null,null,null,null,null,null,null,null,null,null,null,null,null,null,null," ",{"$f":"--ISNUMBER(IFERROR(SEARCH('Vente Jour'!$K$6,S457,1),\"\"))","v":0},{"$f":"IF(T457=1,COUNTIF($T$3:T457,1),\"\")","v":""},{"$f":"IFERROR(INDEX(Cherche1,MATCH(ROWS($U$3:U457),Classement,0)),\"\")","v":""}]
["",null,null,null,null,null,null,null,null,null,null,null,null,null,null,null,null,null," ",{"$f":"--ISNUMBER(IFERROR(SEARCH('Vente Jour'!$K$6,S458,1),\"\"))","v":0},{"$f":"IF(T458=1,COUNTIF($T$3:T458,1),\"\")","v":""},{"$f":"IFERROR(INDEX(Cherche1,MATCH(ROWS($U$3:U458),Classement,0)),\"\")","v":""}]
["",null,null,null,null,null,null,null,null,null,null,null,null,null,null,null,null,null," ",{"$f":"--ISNUMBER(IFERROR(SEARCH('Vente Jour'!$K$6,S459,1),\"\"))","v":0},{"$f":"IF(T459=1,COUNTIF($T$3:T459,1),\"\")","v":""},{"$f":"IFERROR(INDEX(Cherche1,MATCH(ROWS($U$3:U459),Classement,0)),\"\")","v":""}]
["",null,null,null,null,null,null,null,null,null,null,null,null,null,null,null,null,null," ",{"$f":"--ISNUMBER(IFERROR(SEARCH('Vente Jour'!$K$6,S460,1),\"\"))","v":0},{"$f":"IF(T460=1,COUNTIF($T$3:T460,1),\"\")","v":""},{"$f":"IFERROR(INDEX(Cherche1,MATCH(ROWS($U$3:U460),Classement,0)),\"\")","v":""}]
["",null,null,null,null,null,null,null,null,null,null,null,null,null,null,null,null,null," ",{"$f":"--ISNUMBER(IFERROR(SEARCH('Vente Jour'!$K$6,S461,1),\"\"))","v":0},{"$f":"IF(T461=1,COUNTIF($T$3:T461,1),\"\")","v":""},{"$f":"IFERROR(INDEX(Cherche1,MATCH(ROWS($U$3:U461),Classement,0)),\"\")","v":""}]
["",null,null,null,null,null,null,null,null,null,null,null,null,null,null,null,null,null," ",{"$f":"--ISNUMBER(IFERROR(SEARCH('Vente Jour'!$K$6,S462,1),\"\"))","v":0},{"$f":"IF(T462=1,COUNTIF($T$3:T462,1),\"\")","v":""},{"$f":"IFERROR(INDEX(Cherche1,MATCH(ROWS($U$3:U462),Classement,0)),\"\")","v":""}]
["",null,null,null,null,null,null,null,null,null,null,null,null,null,null,null,null,null,{"$f":"CONCATENATE(B463,\" \",C463)","v":" "},{"$f":"--ISNUMBER(IFERROR(SEARCH('Vente Jour'!$K$6,S463,1),\"\"))","v":0},{"$f":"IF(T463=1,COUNTIF($T$3:T463,1),\"\")","v":""},{"$f":"IFERROR(INDEX(Cherche1,MATCH(ROWS($U$3:U463),Classement,0)),\"\")","v":""}]
["",null,null,null,null,null,null,null,null,null,null,null,null,null,null,null,null,null," ",{"$f":"--ISNUMBER(IFERROR(SEARCH('Vente Jour'!$K$6,S464,1),\"\"))","v":0},{"$f":"IF(T464=1,COUNTIF($T$3:T464,1),\"\")","v":""},{"$f":"IFERROR(INDEX(Cherche1,MATCH(ROWS($U$3:U464),Classement,0)),\"\")","v":""}]
["",null,null,null,null,null,null,null,null,null,null,null,null,null,null,null,null,null," ",{"$f":"--ISNUMBER(IFERROR(SEARCH('Vente Jour'!$K$6,S465,1),\"\"))","v":0},{"$f":"IF(T465=1,COUNTIF($T$3:T465,1),\"\")","v":""},{"$f":"IFERROR(INDEX(Cherche1,MATCH(ROWS($U$3:U465),Classement,0)),\"\")","v":""}]
["",null,null,null,null,null,null,null,null,null,null,null,null,null,null,null,null,null," ",{"$f":"--ISNUMBER(IFERROR(SEARCH('Vente Jour'!$K$6,S466,1),\"\"))","v":0},{"$f":"IF(T466=1,COUNTIF($T$3:T466,1),\"\")","v":""},{"$f":"IFERROR(INDEX(Cherche1,MATCH(ROWS($U$3:U466),Classement,0)),\"\")","v":""}]
["",null,null,null,null,null,null,null,null,null,null,null,null,null,null,null,null,null," ",{"$f":"--ISNUMBER(IFERROR(SEARCH('Vente Jour'!$K$6,S467,1),\"\"))","v":0},{"$f":"IF(T467=1,COUNTIF($T$3:T467,1),\"\")","v":""},{"$f":"IFERROR(INDEX(Cherche1,MATCH(ROWS($U$3:U467),Classement,0)),\"\")","v":""}]
["",null,null,null,null,null,null,null,null,null,null,null,null,null,null,null,null,null," ",{"$f":"--ISNUMBER(IFERROR(SEARCH('Vente Jour'!$K$6,S468,1),\"\"))","v":0},{"$f":"IF(T468=1,COUNTIF($T$3:T468,1),\"\")","v":""},{"$f":"IFERROR(INDEX(Cherche1,MATCH(ROWS($U$3:U468),Classement,0)),\"\")","v":""}]
["",null,null,null,null,null,null,null,null,null,null,null,null,null,null,null,null,null," ",{"$f":"--ISNUMBER(IFERROR(SEARCH('Vente Jour'!$K$6,S469,1),\"\"))","v":0},{"$f":"IF(T469=1,COUNTIF($T$3:T469,1),\"\")","v":""},{"$f":"IFERROR(INDEX(Cherche1,MATCH(ROWS($U$3:U469),Classement,0)),\"\")","v":""}]
["",null,null,null,null,null,null,null,null,null,null,null,null,null,null,null,null,null," ",{"$f":"--ISNUMBER(IFERROR(SEARCH('Vente Jour'!$K$6,S470,1),\"\"))","v":0},{"$f":"IF(T470=1,COUNTIF($T$3:T470,1),\"\")","v":""},{"$f":"IFERROR(INDEX(Cherche1,MATCH(ROWS($U$3:U470),Classement,0)),\"\")","v":""}]
["",null,null,null,null,null,null,null,null,null,null,null,null,null,null,null,null,null," ",{"$f":"--ISNUMBER(IFERROR(SEARCH('Vente Jour'!$K$6,S471,1),\"\"))","v":0},{"$f":"IF(T471=1,COUNTIF($T$3:T471,1),\"\")","v":""},{"$f":"IFERROR(INDEX(Cherche1,MATCH(ROWS($U$3:U471),Classement,0)),\"\")","v":""}]
["",null,null,null,null,null,null,null,null,null,null,null,null,null,null,null,null,null," ",{"$f":"--ISNUMBER(IFERROR(SEARCH('Vente Jour'!$K$6,S472,1),\"\"))","v":0},{"$f":"IF(T472=1,COUNTIF($T$3:T472,1),\"\")","v":""},{"$f":"IFERROR(INDEX(Cherche1,MATCH(ROWS($U$3:U472),Classement,0)),\"\")","v":""}]
["",null,null,null,null,null,null,null,null,null,null,null,null,null,null,null,null,null," ",{"$f":"--ISNUMBER(IFERROR(SEARCH('Vente Jour'!$K$6,S473,1),\"\"))","v":0},{"$f":"IF(T473=1,COUNTIF($T$3:T473,1),\"\")","v":""},{"$f":"IFERROR(INDEX(Cherche1,MATCH(ROWS($U$3:U473),Classement,0)),\"\")","v":""}]
["",null,null,null,null,null,null,null,null,null,null,null,null,null,null,null,null,null," ",{"$f":"--ISNUMBER(IFERROR(SEARCH('Vente Jour'!$K$6,S474,1),\"\"))","v":0},{"$f":"IF(T474=1,COUNTIF($T$3:T474,1),\"\")","v":""},{"$f":"IFERROR(INDEX(Cherche1,MATCH(ROWS($U$3:U474),Classement,0)),\"\")","v":""}]
["",null,null,null,null,null,null,null,null,null,null,null,null,null,null,null,null,null," ",{"$f":"--ISNUMBER(IFERROR(SEARCH('Vente Jour'!$K$6,S475,1),\"\"))","v":0},{"$f":"IF(T475=1,COUNTIF($T$3:T475,1),\"\")","v":""},{"$f":"IFERROR(INDEX(Cherche1,MATCH(ROWS($U$3:U475),Classement,0)),\"\")","v":""}]
["",null,null,null,null,null,null,null,null,null,null,null,null,null,null,null,null,null," ",{"$f":"--ISNUMBER(IFERROR(SEARCH('Vente Jour'!$K$6,S476,1),\"\"))","v":0},{"$f":"IF(T476=1,COUNTIF($T$3:T476,1),\"\")","v":""},{"$f":"IFERROR(INDEX(Cherche1,MATCH(ROWS($U$3:U476),Classement,0)),\"\")","v":""}]
["",null,null,null,null,null,null,null,null,null,null,null,null,null,null,null,null,null," ",{"$f":"--ISNUMBER(IFERROR(SEARCH('Vente Jour'!$K$6,S477,1),\"\"))","v":0},{"$f":"IF(T477=1,COUNTIF($T$3:T477,1),\"\")","v":""},{"$f":"IFERROR(INDEX(Cherche1,MATCH(ROWS($U$3:U477),Classement,0)),\"\")","v":""}]
["",null,null,null,null,null,null,null,null,null,null,null,null,null,null,null,null,null," ",{"$f":"--ISNUMBER(IFERROR(SEARCH('Vente Jour'!$K$6,S478,1),\"\"))","v":0},{"$f":"IF(T478=1,COUNTIF($T$3:T478,1),\"\")","v":""},{"$f":"IFERROR(INDEX(Cherche1,MATCH(ROWS($U$3:U478),Classement,0)),\"\")","v":""}]
["",null,null,null,null,null,null,null,null,null,null,null,null,null,null,null,null,null," ",{"$f":"--ISNUMBER(IFERROR(SEARCH('Vente Jour'!$K$6,S479,1),\"\"))","v":0},{"$f":"IF(T479=1,COUNTIF($T$3:T479,1),\"\")","v":""},{"$f":"IFERROR(INDEX(Cherche1,MATCH(ROWS($U$3:U479),Classement,0)),\"\")","v":""}]
["",null,null,null,null,null,null,null,null,null,null,null,null,null,null,null,null,null," ",{"$f":"--ISNUMBER(IFERROR(SEARCH('Vente Jour'!$K$6,S480,1),\"\"))","v":0},{"$f":"IF(T480=1,COUNTIF($T$3:T480,1),\"\")","v":""},{"$f":"IFERROR(INDEX(Cherche1,MATCH(ROWS($U$3:U480),Classement,0)),\"\")","v":""}]
["",null,null,null,null,null,null,null,null,null,null,null,null,null,null,null,null,null," ",{"$f":"--ISNUMBER(IFERROR(SEARCH('Vente Jour'!$K$6,S481,1),\"\"))","v":0},{"$f":"IF(T481=1,COUNTIF($T$3:T481,1),\"\")","v":""},{"$f":"IFERROR(INDEX(Cherche1,MATCH(ROWS($U$3:U481),Classement,0)),\"\")","v":""}]
["",null,null,null,null,null,null,null,null,null,null,null,null,null,null,null,null,null," ",{"$f":"--ISNUMBER(IFERROR(SEARCH('Vente Jour'!$K$6,S482,1),\"\"))","v":0},{"$f":"IF(T482=1,COUNTIF($T$3:T482,1),\"\")","v":""},{"$f":"IFERROR(INDEX(Cherche1,MATCH(ROWS($U$3:U482),Classement,0)),\"\")","v":""}]
["",null,null,null,null,null,null,null,null,null,null,null,null,null,null,null,null,null," ",{"$f":"--ISNUMBER(IFERROR(SEARCH('Vente Jour'!$K$6,S483,1),\"\"))","v":0},{"$f":"IF(T483=1,COUNTIF($T$3:T483,1),\"\")","v":""},{"$f":"IFERROR(INDEX(Cherche1,MATCH(ROWS($U$3:U483),Classement,0)),\"\")","v":""}]
["",null,null,null,null,null,null,null,null,null,null,null,null,null,null,null,null,null," ",{"$f":"--ISNUMBER(IFERROR(SEARCH('Vente Jour'!$K$6,S484,1),\"\"))","v":0},{"$f":"IF(T484=1,COUNTIF($T$3:T484,1),\"\")","v":""},{"$f":"IFERROR(INDEX(Cherche1,MATCH(ROWS($U$3:U484),Classement,0)),\"\")","v":""}]
["",null,null,null,null,null,null,null,null,null,null,null,null,null,null,null,null,null," ",{"$f":"--ISNUMBER(IFERROR(SEARCH('Vente Jour'!$K$6,S485,1),\"\"))","v":0},{"$f":"IF(T485=1,COUNTIF($T$3:T485,1),\"\")","v":""},{"$f":"IFERROR(INDEX(Cherche1,MATCH(ROWS($U$3:U485),Classement,0)),\"\")","v":""}]
["",null,null,null,null,null,null,null,null,null,null,null,null,null,null,null,null,null," ",{"$f":"--ISNUMBER(IFERROR(SEARCH('Vente Jour'!$K$6,S486,1),\"\"))","v":0},{"$f":"IF(T486=1,COUNTIF($T$3:T486,1),\"\")","v":""},{"$f":"IFERROR(INDEX(Cherche1,MATCH(ROWS($U$3:U486),Classement,0)),\"\")","v":""}]
["",null,null,null,null,null,null,null,null,null,null,null,null,null,null,null,null,null," ",{"$f":"--ISNUMBER(IFERROR(SEARCH('Vente Jour'!$K$6,S487,1),\"\"))","v":0},{"$f":"IF(T487=1,COUNTIF($T$3:T487,1),\"\")","v":""},{"$f":"IFERROR(INDEX(Cherche1,MATCH(ROWS($U$3:U487),Classement,0)),\"\")","v":""}]
["",null,null,null,null,null,null,null,null,null,null,null,null,null,null,null,null,null," ",{"$f":"--ISNUMBER(IFERROR(SEARCH('Vente Jour'!$K$6,S488,1),\"\"))","v":0},{"$f":"IF(T488=1,COUNTIF($T$3:T488,1),\"\")","v":""},{"$f":"IFERROR(INDEX(Cherche1,MATCH(ROWS($U$3:U488),Classement,0)),\"\")","v":""}]
["",null,null,null,null,null,null,null,null,null,null,null,null,null,null,null,null,null," ",{"$f":"--ISNUMBER(IFERROR(SEARCH('Vente Jour'!$K$6,S489,1),\"\"))","v":0},{"$f":"IF(T489=1,COUNTIF($T$3:T489,1),\"\")","v":""},{"$f":"IFERROR(INDEX(Cherche1,MATCH(ROWS($U$3:U489),Classement,0)),\"\")","v":""}]
["",null,null,null,null,null,null,null,null,null,null,null,null,null,null,null,null,null," ",{"$f":"--ISNUMBER(IFERROR(SEARCH('Vente Jour'!$K$6,S490,1),\"\"))","v":0},{"$f":"IF(T490=1,COUNTIF($T$3:T490,1),\"\")","v":""},{"$f":"IFERROR(INDEX(Cherche1,MATCH(ROWS($U$3:U490),Classement,0)),\"\")","v":""}]
["",null,null,null,null,null,null,null,null,null,null,null,null,null,null,null,null,null," ",{"$f":"--ISNUMBER(IFERROR(SEARCH('Vente Jour'!$K$6,S491,1),\"\"))","v":0},{"$f":"IF(T491=1,COUNTIF($T$3:T491,1),\"\")","v":""},{"$f":"IFERROR(INDEX(Cherche1,MATCH(ROWS($U$3:U491),Classement,0)),\"\")","v":""}]
["",null,null,null,null,null,null,null,null,null,null,null,null,null,null,null,null,null," ",{"$f":"--ISNUMBER(IFERROR(SEARCH('Vente Jour'!$K$6,S492,1),\"\"))","v":0},{"$f":"IF(T492=1,COUNTIF($T$3:T492,1),\"\")","v":""},{"$f":"IFERROR(INDEX(Cherche1,MATCH(ROWS($U$3:U492),Classement,0)),\"\")","v":""}]
["",null,null,null,null,null,null,null,null,null,null,null,null,null,null,null,null,null," ",{"$f":"--ISNUMBER(IFERROR(SEARCH('Vente Jour'!$K$6,S493,1),\"\"))","v":0},{"$f":"IF(T493=1,COUNTIF($T$3:T493,1),\"\")","v":""},{"$f":"IFERROR(INDEX(Cherche1,MATCH(ROWS($U$3:U493),Classement,0)),\"\")","v":""}]
["",null,null,null,null,null,null,null,null,null,null,null,null,null,null,null,null,null," ",{"$f":"--ISNUMBER(IFERROR(SEARCH('Vente Jour'!$K$6,S494,1),\"\"))","v":0},{"$f":"IF(T494=1,COUNTIF($T$3:T494,1),\"\")","v":""},{"$f":"IFERROR(INDEX(Cherche1,MATCH(ROWS($U$3:U494),Classement,0)),\"\")","v":""}]
["",null,null,null,null,null,null,null,null,null,null,null,null,null,null,null,null,null," ",{"$f":"--ISNUMBER(IFERROR(SEARCH('Vente Jour'!$K$6,S495,1),\"\"))","v":0},{"$f":"IF(T495=1,COUNTIF($T$3:T495,1),\"\")","v":""},{"$f":"IFERROR(INDEX(Cherche1,MATCH(ROWS($U$3:U495),Classement,0)),\"\")","v":""}]
["",null,null,null,null,null,null,null,null,null,null,null,null,null,null,null,null,null," ",{"$f":"--ISNUMBER(IFERROR(SEARCH('Vente Jour'!$K$6,S496,1),\"\"))","v":0},{"$f":"IF(T496=1,COUNTIF($T$3:T496,1),\"\")","v":""},{"$f":"IFERROR(INDEX(Cherche1,MATCH(ROWS($U$3:U496),Classement,0)),\"\")","v":""}]
["",null,null,null,null,null,null,null,null,null,null,null,null,null,null,null,null,null," ",{"$f":"--ISNUMBER(IFERROR(SEARCH('Vente Jour'!$K$6,S497,1),\"\"))","v":0},{"$f":"IF(T497=1,COUNTIF($T$3:T497,1),\"\")","v":""},{"$f":"IFERROR(INDEX(Cherche1,MATCH(ROWS($U$3:U497),Classement,0)),\"\")","v":""}]
["",null,null,null,null,null,null,null,null,null,null,null,null,null,null,null,null,null," ",{"$f":"--ISNUMBER(IFERROR(SEARCH('Vente Jour'!$K$6,S498,1),\"\"))","v":0},{"$f":"IF(T498=1,COUNTIF($T$3:T498,1),\"\")","v":""},{"$f":"IFERROR(INDEX(Cherche1,MATCH(ROWS($U$3:U498),Classement,0)),\"\")","v":""}]
["",null,null,null,null,null,null,null,null,null,null,null,null,null,null,null,null,null," ",{"$f":"--ISNUMBER(IFERROR(SEARCH('Vente Jour'!$K$6,S499,1),\"\"))","v":0},{"$f":"IF(T499=1,COUNTIF($T$3:T499,1),\"\")","v":""},{"$f":"IFERROR(INDEX(Cherche1,MATCH(ROWS($U$3:U499),Classement,0)),\"\")","v":""}]
["",null,null,null,null,null,null,null,null,null,null,null,null,null,null,null,null,null," ",{"$f":"--ISNUMBER(IFERROR(SEARCH('Vente Jour'!$K$6,S500,1),\"\"))","v":0},{"$f":"IF(T500=1,COUNTIF($T$3:T500,1),\"\")","v":""},{"$f":"IFERROR(INDEX(Cherche1,MATCH(ROWS($U$3:U500),Classement,0)),\"\")","v":""}]
["",null,null,null,null,null,null,null,null,null,null,null,null,null,null,null,null,null," ",{"$f":"--ISNUMBER(IFERROR(SEARCH('Vente Jour'!$K$6,S501,1),\"\"))","v":0},{"$f":"IF(T501=1,COUNTIF($T$3:T501,1),\"\")","v":""},{"$f":"IFERROR(INDEX(Cherche1,MATCH(ROWS($U$3:U501),Classement,0)),\"\")","v":""}]
["",null,null,null,null,null,null,null,null,null,null,null,null,null,null,null,null,null," ",{"$f":"--ISNUMBER(IFERROR(SEARCH('Vente Jour'!$K$6,S502,1),\"\"))","v":0},{"$f":"IF(T502=1,COUNTIF($T$3:T502,1),\"\")","v":""},{"$f":"IFERROR(INDEX(Cherche1,MATCH(ROWS($U$3:U502),Classement,0)),\"\")","v":""}]
["",null,null,null,null,null,null,null,null,null,null,null,null,null,null,null,null,null," ",{"$f":"--ISNUMBER(IFERROR(SEARCH('Vente Jour'!$K$6,S503,1),\"\"))","v":0},{"$f":"IF(T503=1,COUNTIF($T$3:T503,1),\"\")","v":""},{"$f":"IFERROR(INDEX(Cherche1,MATCH(ROWS($U$3:U503),Classement,0)),\"\")","v":""}]
["",null,null,null,null,null,null,null,null,null,null,null,null,null,null,null,null,null," ",{"$f":"--ISNUMBER(IFERROR(SEARCH('Vente Jour'!$K$6,S504,1),\"\"))","v":0},{"$f":"IF(T504=1,COUNTIF($T$3:T504,1),\"\")","v":""},{"$f":"IFERROR(INDEX(Cherche1,MATCH(ROWS($U$3:U504),Classement,0)),\"\")","v":""}]
["",null,null,null,null,null,null,null,null,null,null,null,null,null,null,null,null,null," ",{"$f":"--ISNUMBER(IFERROR(SEARCH('Vente Jour'!$K$6,S505,1),\"\"))","v":0},{"$f":"IF(T505=1,COUNTIF($T$3:T505,1),\"\")","v":""},{"$f":"IFERROR(INDEX(Cherche1,MATCH(ROWS($U$3:U505),Classement,0)),\"\")","v":""}]
["",null,null,null,null,null,null,null,null,null,null,null,null,null,null,null,null,null," ",{"$f":"--ISNUMBER(IFERROR(SEARCH('Vente Jour'!$K$6,S506,1),\"\"))","v":0},{"$f":"IF(T506=1,COUNTIF($T$3:T506,1),\"\")","v":""},{"$f":"IFERROR(INDEX(Cherche1,MATCH(ROWS($U$3:U506),Classement,0)),\"\")","v":""}]
["",null,null,null,null,null,null,null,null,null,null,null,null,null,null,null,null,null," ",{"$f":"--ISNUMBER(IFERROR(SEARCH('Vente Jour'!$K$6,S507,1),\"\"))","v":0},{"$f":"IF(T507=1,COUNTIF($T$3:T507,1),\"\")","v":""},{"$f":"IFERROR(INDEX(Cherche1,MATCH(ROWS($U$3:U507),Classement,0)),\"\")","v":""}]
["",null,null,null,null,null,null,null,null,null,null,null,null,null,null,null,null,null," ",{"$f":"--ISNUMBER(IFERROR(SEARCH('Vente Jour'!$K$6,S508,1),\"\"))","v":0},{"$f":"IF(T508=1,COUNTIF($T$3:T508,1),\"\")","v":""},{"$f":"IFERROR(INDEX(Cherche1,MATCH(ROWS($U$3:U508),Classement,0)),\"\")","v":""}]
["",null,null,null,null,null,null,null,null,null,null,null,null,null,null,null,null,null," ",{"$f":"--ISNUMBER(IFERROR(SEARCH('Vente Jour'!$K$6,S509,1),\"\"))","v":0},{"$f":"IF(T509=1,COUNTIF($T$3:T509,1),\"\")","v":""},{"$f":"IFERROR(INDEX(Cherche1,MATCH(ROWS($U$3:U509),Classement,0)),\"\")","v":""}]
["",null,null,null,null,null,null,null,null,null,null,null,null,null,null,null,null,null," ",{"$f":"--ISNUMBER(IFERROR(SEARCH('Vente Jour'!$K$6,S510,1),\"\"))","v":0},{"$f":"IF(T510=1,COUNTIF($T$3:T510,1),\"\")","v":""},{"$f":"IFERROR(INDEX(Cherche1,MATCH(ROWS($U$3:U510),Classement,0)),\"\")","v":""}]
["",null,null,null,null,null,null,null,null,null,null,null,null,null,null,null,null,null," ",{"$f":"--ISNUMBER(IFERROR(SEARCH('Vente Jour'!$K$6,S511,1),\"\"))","v":0},{"$f":"IF(T511=1,COUNTIF($T$3:T511,1),\"\")","v":""},{"$f":"IFERROR(INDEX(Cherche1,MATCH(ROWS($U$3:U511),Classement,0)),\"\")","v":""}]
["",null,null,null,null,null,null,null,null,null,null,null,null,null,null,null,null,null," ",{"$f":"--ISNUMBER(IFERROR(SEARCH('Vente Jour'!$K$6,S512,1),\"\"))","v":0},{"$f":"IF(T512=1,COUNTIF($T$3:T512,1),\"\")","v":""},{"$f":"IFERROR(INDEX(Cherche1,MATCH(ROWS($U$3:U512),Classement,0)),\"\")","v":""}]
["",null,null,null,null,null,null,null,null,null,null,null,null,null,null,null,null,null," ",{"$f":"--ISNUMBER(IFERROR(SEARCH('Vente Jour'!$K$6,S513,1),\"\"))","v":0},{"$f":"IF(T513=1,COUNTIF($T$3:T513,1),\"\")","v":""},{"$f":"IFERROR(INDEX(Cherche1,MATCH(ROWS($U$3:U513),Classement,0)),\"\")","v":""}]
["",null,null,null,null,null,null,null,null,null,null,null,null,null,null,null,null,null," ",{"$f":"--ISNUMBER(IFERROR(SEARCH('Vente Jour'!$K$6,S514,1),\"\"))","v":0},{"$f":"IF(T514=1,COUNTIF($T$3:T514,1),\"\")","v":""},{"$f":"IFERROR(INDEX(Cherche1,MATCH(ROWS($U$3:U514),Classement,0)),\"\")","v":""}]
["",null,null,null,null,null,null,null,null,null,null,null,null,null,null,null,null,null," ",{"$f":"--ISNUMBER(IFERROR(SEARCH('Vente Jour'!$K$6,S515,1),\"\"))","v":0},{"$f":"IF(T515=1,COUNTIF($T$3:T515,1),\"\")","v":""},{"$f":"IFERROR(INDEX(Cherche1,MATCH(ROWS($U$3:U515),Classement,0)),\"\")","v":""}]
["",null,null,null,null,null,null,null,null,null,null,null,null,null,null,null,null,null," ",{"$f":"--ISNUMBER(IFERROR(SEARCH('Vente Jour'!$K$6,S516,1),\"\"))","v":0},{"$f":"IF(T516=1,COUNTIF($T$3:T516,1),\"\")","v":""},{"$f":"IFERROR(INDEX(Cherche1,MATCH(ROWS($U$3:U516),Classement,0)),\"\")","v":""}]
[{"$f":"IF(B517=\"\",\"\",A516+1)","v":""},null,null,null,null,null,null,null,null,null,null,null,null,null,null,null,null,null," ",{"$f":"--ISNUMBER(IFERROR(SEARCH('Vente Jour'!$K$6,S517,1),\"\"))","v":0},{"$f":"IF(T517=1,COUNTIF($T$3:T517,1),\"\")","v":""},{"$f":"IFERROR(INDEX(Cherche1,MATCH(ROWS($U$3:U517),Classement,0)),\"\")","v":""}]
["",null,null,null,null,null,null,null,null,null,null,null,null,null,null,null,null,null," ",{"$f":"--ISNUMBER(IFERROR(SEARCH('Vente Jour'!$K$6,S518,1),\"\"))","v":0},{"$f":"IF(T518=1,COUNTIF($T$3:T518,1),\"\")","v":""},{"$f":"IFERROR(INDEX(Cherche1,MATCH(ROWS($U$3:U518),Classement,0)),\"\")","v":""}]
["",null,null,null,null,null,null,null,null,null,null,null,null,null,null,null,null,null," ",{"$f":"--ISNUMBER(IFERROR(SEARCH('Vente Jour'!$K$6,S519,1),\"\"))","v":0},{"$f":"IF(T519=1,COUNTIF($T$3:T519,1),\"\")","v":""},{"$f":"IFERROR(INDEX(Cherche1,MATCH(ROWS($U$3:U519),Classement,0)),\"\")","v":""}]
["",null,null,null,null,null,null,null,null,null,null,null,null,null,null,null,null,null," ",{"$f":"--ISNUMBER(IFERROR(SEARCH('Vente Jour'!$K$6,S520,1),\"\"))","v":0},{"$f":"IF(T520=1,COUNTIF($T$3:T520,1),\"\")","v":""},{"$f":"IFERROR(INDEX(Cherche1,MATCH(ROWS($U$3:U520),Classement,0)),\"\")","v":""}]
["",null,null,null,null,null,null,null,null,null,null,null,null,null,null,null,null,null," ",{"$f":"--ISNUMBER(IFERROR(SEARCH('Vente Jour'!$K$6,S521,1),\"\"))","v":0},{"$f":"IF(T521=1,COUNTIF($T$3:T521,1),\"\")","v":""},{"$f":"IFERROR(INDEX(Cherche1,MATCH(ROWS($U$3:U521),Classement,0)),\"\")","v":""}]
["",null,null,null,null,null,null,null,null,null,null,null,null,null,null,null,null,null," ",{"$f":"--ISNUMBER(IFERROR(SEARCH('Vente Jour'!$K$6,S522,1),\"\"))","v":0},{"$f":"IF(T522=1,COUNTIF($T$3:T522,1),\"\")","v":""},{"$f":"IFERROR(INDEX(Cherche1,MATCH(ROWS($U$3:U522),Classement,0)),\"\")","v":""}]
["",null,null,null,null,null,null,null,null,null,null,null,null,null,null,null,null,null," ",{"$f":"--ISNUMBER(IFERROR(SEARCH('Vente Jour'!$K$6,S523,1),\"\"))","v":0},{"$f":"IF(T523=1,COUNTIF($T$3:T523,1),\"\")","v":""},{"$f":"IFERROR(INDEX(Cherche1,MATCH(ROWS($U$3:U523),Classement,0)),\"\")","v":""}]
["",null,null,null,null,null,null,null,null,null,null,null,null,null,null,null,null,null," ",{"$f":"--ISNUMBER(IFERROR(SEARCH('Vente Jour'!$K$6,S524,1),\"\"))","v":0},{"$f":"IF(T524=1,COUNTIF($T$3:T524,1),\"\")","v":""},{"$f":"IFERROR(INDEX(Cherche1,MATCH(ROWS($U$3:U524),Classement,0)),\"\")","v":""}]
["",null,null,null,null,null,null,null,null,null,null,null,null,null,null,null,null,null," ",{"$f":"--ISNUMBER(IFERROR(SEARCH('Vente Jour'!$K$6,S525,1),\"\"))","v":0},{"$f":"IF(T525=1,COUNTIF($T$3:T525,1),\"\")","v":""},{"$f":"IFERROR(INDEX(Cherche1,MATCH(ROWS($U$3:U525),Classement,0)),\"\")","v":""}]
["",null,null,null,null,null,null,null,null,null,null,null,null,null,null,null,null,null," ",{"$f":"--ISNUMBER(IFERROR(SEARCH('Vente Jour'!$K$6,S526,1),\"\"))","v":0},{"$f":"IF(T526=1,COUNTIF($T$3:T526,1),\"\")","v":""},{"$f":"IFERROR(INDEX(Cherche1,MATCH(ROWS($U$3:U526),Classement,0)),\"\")","v":""}]
["",null,null,null,null,null,null,null,null,null,null,null,null,null,null,null,null,null,{"$f":"CONCATENATE(B527,\" \",C527)","v":" "},{"$f":"--ISNUMBER(IFERROR(SEARCH('Vente Jour'!$K$6,S527,1),\"\"))","v":0},{"$f":"IF(T527=1,COUNTIF($T$3:T527,1),\"\")","v":""},{"$f":"IFERROR(INDEX(Cherche1,MATCH(ROWS($U$3:U527),Classement,0)),\"\")","v":""}]
["",null,null,null,null,null,null,null,null,null,null,null,null,null,null,null,null,null," ",{"$f":"--ISNUMBER(IFERROR(SEARCH('Vente Jour'!$K$6,S528,1),\"\"))","v":0},{"$f":"IF(T528=1,COUNTIF($T$3:T528,1),\"\")","v":""},{"$f":"IFERROR(INDEX(Cherche1,MATCH(ROWS($U$3:U528),Classement,0)),\"\")","v":""}]
["",null,null,null,null,null,null,null,null,null,null,null,null,null,null,null,null,null," ",{"$f":"--ISNUMBER(IFERROR(SEARCH('Vente Jour'!$K$6,S529,1),\"\"))","v":0},{"$f":"IF(T529=1,COUNTIF($T$3:T529,1),\"\")","v":""},{"$f":"IFERROR(INDEX(Cherche1,MATCH(ROWS($U$3:U529),Classement,0)),\"\")","v":""}]
["",null,null,null,null,null,null,null,null,null,null,null,null,null,null,null,null,null," ",{"$f":"--ISNUMBER(IFERROR(SEARCH('Vente Jour'!$K$6,S530,1),\"\"))","v":0},{"$f":"IF(T530=1,COUNTIF($T$3:T530,1),\"\")","v":""},{"$f":"IFERROR(INDEX(Cherche1,MATCH(ROWS($U$3:U530),Classement,0)),\"\")","v":""}]
["",null,null,null,null,null,null,null,null,null,null,null,null,null,null,null,null,null," ",{"$f":"--ISNUMBER(IFERROR(SEARCH('Vente Jour'!$K$6,S531,1),\"\"))","v":0},{"$f":"IF(T531=1,COUNTIF($T$3:T531,1),\"\")","v":""},{"$f":"IFERROR(INDEX(Cherche1,MATCH(ROWS($U$3:U531),Classement,0)),\"\")","v":""}]
["",null,null,null,null,null,null,null,null,null,null,null,null,null,null,null,null,null," ",{"$f":"--ISNUMBER(IFERROR(SEARCH('Vente Jour'!$K$6,S532,1),\"\"))","v":0},{"$f":"IF(T532=1,COUNTIF($T$3:T532,1),\"\")","v":""},{"$f":"IFERROR(INDEX(Cherche1,MATCH(ROWS($U$3:U532),Classement,0)),\"\")","v":""}]
["",null,null,null,null,null,null,null,null,null,null,null,null,null,null,null,null,null," ",{"$f":"--ISNUMBER(IFERROR(SEARCH('Vente Jour'!$K$6,S533,1),\"\"))","v":0},{"$f":"IF(T533=1,COUNTIF($T$3:T533,1),\"\")","v":""},{"$f":"IFERROR(INDEX(Cherche1,MATCH(ROWS($U$3:U533),Classement,0)),\"\")","v":""}]
["",null,null,null,null,null,null,null,null,null,null,null,null,null,null,null,null,null," ",{"$f":"--ISNUMBER(IFERROR(SEARCH('Vente Jour'!$K$6,S534,1),\"\"))","v":0},{"$f":"IF(T534=1,COUNTIF($T$3:T534,1),\"\")","v":""},{"$f":"IFERROR(INDEX(Cherche1,MATCH(ROWS($U$3:U534),Classement,0)),\"\")","v":""}]
["",null,null,null,null,null,null,null,null,null,null,null,null,null,null,null,null,null," ",{"$f":"--ISNUMBER(IFERROR(SEARCH('Vente Jour'!$K$6,S535,1),\"\"))","v":0},{"$f":"IF(T535=1,COUNTIF($T$3:T535,1),\"\")","v":""},{"$f":"IFERROR(INDEX(Cherche1,MATCH(ROWS($U$3:U535),Classement,0)),\"\")","v":""}]
["",null,null,null,null,null,null,null,null,null,null,null,null,null,null,null,null,null," ",{"$f":"--ISNUMBER(IFERROR(SEARCH('Vente Jour'!$K$6,S536,1),\"\"))","v":0},{"$f":"IF(T536=1,COUNTIF($T$3:T536,1),\"\")","v":""},{"$f":"IFERROR(INDEX(Cherche1,MATCH(ROWS($U$3:U536),Classement,0)),\"\")","v":""}]
["",null,null,null,null,null,null,null,null,null,null,null,null,null,null,null,null,null," ",{"$f":"--ISNUMBER(IFERROR(SEARCH('Vente Jour'!$K$6,S537,1),\"\"))","v":0},{"$f":"IF(T537=1,COUNTIF($T$3:T537,1),\"\")","v":""},{"$f":"IFERROR(INDEX(Cherche1,MATCH(ROWS($U$3:U537),Classement,0)),\"\")","v":""}]
["",null,null,null,null,null,null,null,null,null,null,null,null,null,null,null,null,null," ",{"$f":"--ISNUMBER(IFERROR(SEARCH('Vente Jour'!$K$6,S538,1),\"\"))","v":0},{"$f":"IF(T538=1,COUNTIF($T$3:T538,1),\"\")","v":""},{"$f":"IFERROR(INDEX(Cherche1,MATCH(ROWS($U$3:U538),Classement,0)),\"\")","v":""}]
["",null,null,null,null,null,null,null,null,null,null,null,null,null,null,null,null,null," ",{"$f":"--ISNUMBER(IFERROR(SEARCH('Vente Jour'!$K$6,S539,1),\"\"))","v":0},{"$f":"IF(T539=1,COUNTIF($T$3:T539,1),\"\")","v":""},{"$f":"IFERROR(INDEX(Cherche1,MATCH(ROWS($U$3:U539),Classement,0)),\"\")","v":""}]
["",null,null,null,null,null,null,null,null,null,null,null,null,null,null,null,null,null," ",{"$f":"--ISNUMBER(IFERROR(SEARCH('Vente Jour'!$K$6,S540,1),\"\"))","v":0},{"$f":"IF(T540=1,COUNTIF($T$3:T540,1),\"\")","v":""},{"$f":"IFERROR(INDEX(Cherche1,MATCH(ROWS($U$3:U540),Classement,0)),\"\")","v":""}]
["",null,null,null,null,null,null,null,null,null,null,null,null,null,null,null,null,null," ",{"$f":"--ISNUMBER(IFERROR(SEARCH('Vente Jour'!$K$6,S541,1),\"\"))","v":0},{"$f":"IF(T541=1,COUNTIF($T$3:T541,1),\"\")","v":""},{"$f":"IFERROR(INDEX(Cherche1,MATCH(ROWS($U$3:U541),Classement,0)),\"\")","v":""}]
["",null,null,null,null,null,null,null,null,null,null,null,null,null,null,null,null,null," ",{"$f":"--ISNUMBER(IFERROR(SEARCH('Vente Jour'!$K$6,S542,1),\"\"))","v":0},{"$f":"IF(T542=1,COUNTIF($T$3:T542,1),\"\")","v":""},{"$f":"IFERROR(INDEX(Cherche1,MATCH(ROWS($U$3:U542),Classement,0)),\"\")","v":""}]
["",null,null,null,null,null,null,null,null,null,null,null,null,null,null,null,null,null," ",{"$f":"--ISNUMBER(IFERROR(SEARCH('Vente Jour'!$K$6,S543,1),\"\"))","v":0},{"$f":"IF(T543=1,COUNTIF($T$3:T543,1),\"\")","v":""},{"$f":"IFERROR(INDEX(Cherche1,MATCH(ROWS($U$3:U543),Classement,0)),\"\")","v":""}]
["",null,null,null,null,null,null,null,null,null,null,null,null,null,null,null,null,null," ",{"$f":"--ISNUMBER(IFERROR(SEARCH('Vente Jour'!$K$6,S544,1),\"\"))","v":0},{"$f":"IF(T544=1,COUNTIF($T$3:T544,1),\"\")","v":""},{"$f":"IFERROR(INDEX(Cherche1,MATCH(ROWS($U$3:U544),Classement,0)),\"\")","v":""}]
["",null,null,null,null,null,null,null,null,null,null,null,null,null,null,null,null,null," ",{"$f":"--ISNUMBER(IFERROR(SEARCH('Vente Jour'!$K$6,S545,1),\"\"))","v":0},{"$f":"IF(T545=1,COUNTIF($T$3:T545,1),\"\")","v":""},{"$f":"IFERROR(INDEX(Cherche1,MATCH(ROWS($U$3:U545),Classement,0)),\"\")","v":""}]
["",null,null,null,null,null,null,null,null,null,null,null,null,null,null,null,null,null," ",{"$f":"--ISNUMBER(IFERROR(SEARCH('Vente Jour'!$K$6,S546,1),\"\"))","v":0},{"$f":"IF(T546=1,COUNTIF($T$3:T546,1),\"\")","v":""},{"$f":"IFERROR(INDEX(Cherche1,MATCH(ROWS($U$3:U546),Classement,0)),\"\")","v":""}]
["",null,null,null,null,null,null,null,null,null,null,null,null,null,null,null,null,null," ",{"$f":"--ISNUMBER(IFERROR(SEARCH('Vente Jour'!$K$6,S547,1),\"\"))","v":0},{"$f":"IF(T547=1,COUNTIF($T$3:T547,1),\"\")","v":""},{"$f":"IFERROR(INDEX(Cherche1,MATCH(ROWS($U$3:U547),Classement,0)),\"\")","v":""}]
["",null,null,null,null,null,null,null,null,null,null,null,null,null,null,null,null,null," ",{"$f":"--ISNUMBER(IFERROR(SEARCH('Vente Jour'!$K$6,S548,1),\"\"))","v":0},{"$f":"IF(T548=1,COUNTIF($T$3:T548,1),\"\")","v":""},{"$f":"IFERROR(INDEX(Cherche1,MATCH(ROWS($U$3:U548),Classement,0)),\"\")","v":""}]
["",null,null,null,null,null,null,null,null,null,null,null,null,null,null,null,null,null," ",{"$f":"--ISNUMBER(IFERROR(SEARCH('Vente Jour'!$K$6,S549,1),\"\"))","v":0},{"$f":"IF(T549=1,COUNTIF($T$3:T549,1),\"\")","v":""},{"$f":"IFERROR(INDEX(Cherche1,MATCH(ROWS($U$3:U549),Classement,0)),\"\")","v":""}]
["",null,null,null,null,null,null,null,null,null,null,null,null,null,null,null,null,null," ",{"$f":"--ISNUMBER(IFERROR(SEARCH('Vente Jour'!$K$6,S550,1),\"\"))","v":0},{"$f":"IF(T550=1,COUNTIF($T$3:T550,1),\"\")","v":""},{"$f":"IFERROR(INDEX(Cherche1,MATCH(ROWS($U$3:U550),Classement,0)),\"\")","v":""}]
["",null,null,null,null,null,null,null,null,null,null,null,null,null,null,null,null,null," ",{"$f":"--ISNUMBER(IFERROR(SEARCH('Vente Jour'!$K$6,S551,1),\"\"))","v":0},{"$f":"IF(T551=1,COUNTIF($T$3:T551,1),\"\")","v":""},{"$f":"IFERROR(INDEX(Cherche1,MATCH(ROWS($U$3:U551),Classement,0)),\"\")","v":""}]
["",null,null,null,null,null,null,null,null,null,null,null,null,null,null,null,null,null," ",{"$f":"--ISNUMBER(IFERROR(SEARCH('Vente Jour'!$K$6,S552,1),\"\"))","v":0},{"$f":"IF(T552=1,COUNTIF($T$3:T552,1),\"\")","v":""},{"$f":"IFERROR(INDEX(Cherche1,MATCH(ROWS($U$3:U552),Classement,0)),\"\")","v":""}]
["",null,null,null,null,null,null,null,null,null,null,null,null,null,null,null,null,null," ",{"$f":"--ISNUMBER(IFERROR(SEARCH('Vente Jour'!$K$6,S553,1),\"\"))","v":0},{"$f":"IF(T553=1,COUNTIF($T$3:T553,1),\"\")","v":""},{"$f":"IFERROR(INDEX(Cherche1,MATCH(ROWS($U$3:U553),Classement,0)),\"\")","v":""}]
["",null,null,null,null,null,null,null,null,null,null,null,null,null,null,null,null,null," ",{"$f":"--ISNUMBER(IFERROR(SEARCH('Vente Jour'!$K$6,S554,1),\"\"))","v":0},{"$f":"IF(T554=1,COUNTIF($T$3:T554,1),\"\")","v":""},{"$f":"IFERROR(INDEX(Cherche1,MATCH(ROWS($U$3:U554),Classement,0)),\"\")","v":""}]
["",null,null,null,null,null,null,null,null,null,null,null,null,null,null,null,null,null," ",{"$f":"--ISNUMBER(IFERROR(SEARCH('Vente Jour'!$K$6,S555,1),\"\"))","v":0},{"$f":"IF(T555=1,COUNTIF($T$3:T555,1),\"\")","v":""},{"$f":"IFERROR(INDEX(Cherche1,MATCH(ROWS($U$3:U555),Classement,0)),\"\")","v":""}]
["",null,null,null,null,null,null,null,null,null,null,null,null,null,null,null,null,null," ",{"$f":"--ISNUMBER(IFERROR(SEARCH('Vente Jour'!$K$6,S556,1),\"\"))","v":0},{"$f":"IF(T556=1,COUNTIF($T$3:T556,1),\"\")","v":""},{"$f":"IFERROR(INDEX(Cherche1,MATCH(ROWS($U$3:U556),Classement,0)),\"\")","v":""}]
["",null,null,null,null,null,null,null,null,null,null,null,null,null,null,null,null,null," ",{"$f":"--ISNUMBER(IFERROR(SEARCH('Vente Jour'!$K$6,S557,1),\"\"))","v":0},{"$f":"IF(T557=1,COUNTIF($T$3:T557,1),\"\")","v":""},{"$f":"IFERROR(INDEX(Cherche1,MATCH(ROWS($U$3:U557),Classement,0)),\"\")","v":""}]
["",null,null,null,null,null,null,null,null,null,null,null,null,null,null,null,null,null," ",{"$f":"--ISNUMBER(IFERROR(SEARCH('Vente Jour'!$K$6,S558,1),\"\"))","v":0},{"$f":"IF(T558=1,COUNTIF($T$3:T558,1),\"\")","v":""},{"$f":"IFERROR(INDEX(Cherche1,MATCH(ROWS($U$3:U558),Classement,0)),\"\")","v":""}]
["",null,null,null,null,null,null,null,null,null,null,null,null,null,null,null,null,null," ",{"$f":"--ISNUMBER(IFERROR(SEARCH('Vente Jour'!$K$6,S559,1),\"\"))","v":0},{"$f":"IF(T559=1,COUNTIF($T$3:T559,1),\"\")","v":""},{"$f":"IFERROR(INDEX(Cherche1,MATCH(ROWS($U$3:U559),Classement,0)),\"\")","v":""}]
["",null,null,null,null,null,null,null,null,null,null,null,null,null,null,null,null,null," ",{"$f":"--ISNUMBER(IFERROR(SEARCH('Vente Jour'!$K$6,S560,1),\"\"))","v":0},{"$f":"IF(T560=1,COUNTIF($T$3:T560,1),\"\")","v":""},{"$f":"IFERROR(INDEX(Cherche1,MATCH(ROWS($U$3:U560),Classement,0)),\"\")","v":""}]
["",null,null,null,null,null,null,null,null,null,null,null,null,null,null,null,null,null," ",{"$f":"--ISNUMBER(IFERROR(SEARCH('Vente Jour'!$K$6,S561,1),\"\"))","v":0},{"$f":"IF(T561=1,COUNTIF($T$3:T561,1),\"\")","v":""},{"$f":"IFERROR(INDEX(Cherche1,MATCH(ROWS($U$3:U561),Classement,0)),\"\")","v":""}]
["",null,null,null,null,null,null,null,null,null,null,null,null,null,null,null,null,null," ",{"$f":"--ISNUMBER(IFERROR(SEARCH('Vente Jour'!$K$6,S562,1),\"\"))","v":0},{"$f":"IF(T562=1,COUNTIF($T$3:T562,1),\"\")","v":""},{"$f":"IFERROR(INDEX(Cherche1,MATCH(ROWS($U$3:U562),Classement,0)),\"\")","v":""}]
["",null,null,null,null,null,null,null,null,null,null,null,null,null,null,null,null,null," ",{"$f":"--ISNUMBER(IFERROR(SEARCH('Vente Jour'!$K$6,S563,1),\"\"))","v":0},{"$f":"IF(T563=1,COUNTIF($T$3:T563,1),\"\")","v":""},{"$f":"IFERROR(INDEX(Cherche1,MATCH(ROWS($U$3:U563),Classement,0)),\"\")","v":""}]
["",null,null,null,null,null,null,null,null,null,null,null,null,null,null,null,null,null," ",{"$f":"--ISNUMBER(IFERROR(SEARCH('Vente Jour'!$K$6,S564,1),\"\"))","v":0},{"$f":"IF(T564=1,COUNTIF($T$3:T564,1),\"\")","v":""},{"$f":"IFERROR(INDEX(Cherche1,MATCH(ROWS($U$3:U564),Classement,0)),\"\")","v":""}]
["",null,null,null,null,null,null,null,null,null,null,null,null,null,null,null,null,null," ",{"$f":"--ISNUMBER(IFERROR(SEARCH('Vente Jour'!$K$6,S565,1),\"\"))","v":0},{"$f":"IF(T565=1,COUNTIF($T$3:T565,1),\"\")","v":""},{"$f":"IFERROR(INDEX(Cherche1,MATCH(ROWS($U$3:U565),Classement,0)),\"\")","v":""}]
["",null,null,null,null,null,null,null,null,null,null,null,null,null,null,null,null,null," ",{"$f":"--ISNUMBER(IFERROR(SEARCH('Vente Jour'!$K$6,S566,1),\"\"))","v":0},{"$f":"IF(T566=1,COUNTIF($T$3:T566,1),\"\")","v":""},{"$f":"IFERROR(INDEX(Cherche1,MATCH(ROWS($U$3:U566),Classement,0)),\"\")","v":""}]
["",null,null,null,null,null,null,null,null,null,null,null,null,null,null,null,null,null," ",{"$f":"--ISNUMBER(IFERROR(SEARCH('Vente Jour'!$K$6,S567,1),\"\"))","v":0},{"$f":"IF(T567=1,COUNTIF($T$3:T567,1),\"\")","v":""},{"$f":"IFERROR(INDEX(Cherche1,MATCH(ROWS($U$3:U567),Classement,0)),\"\")","v":""}]
["",null,null,null,null,null,null,null,null,null,null,null,null,null,null,null,null,null," ",{"$f":"--ISNUMBER(IFERROR(SEARCH('Vente Jour'!$K$6,S568,1),\"\"))","v":0},{"$f":"IF(T568=1,COUNTIF($T$3:T568,1),\"\")","v":""},{"$f":"IFERROR(INDEX(Cherche1,MATCH(ROWS($U$3:U568),Classement,0)),\"\")","v":""}]
["",null,null,null,null,null,null,null,null,null,null,null,null,null,null,null,null,null," ",{"$f":"--ISNUMBER(IFERROR(SEARCH('Vente Jour'!$K$6,S569,1),\"\"))","v":0},{"$f":"IF(T569=1,COUNTIF($T$3:T569,1),\"\")","v":""},{"$f":"IFERROR(INDEX(Cherche1,MATCH(ROWS($U$3:U569),Classement,0)),\"\")","v":""}]
["",null,null,null,null,null,null,null,null,null,null,null,null,null,null,null,null,null," ",{"$f":"--ISNUMBER(IFERROR(SEARCH('Vente Jour'!$K$6,S570,1),\"\"))","v":0},{"$f":"IF(T570=1,COUNTIF($T$3:T570,1),\"\")","v":""},{"$f":"IFERROR(INDEX(Cherche1,MATCH(ROWS($U$3:U570),Classement,0)),\"\")","v":""}]
["",null,null,null,null,null,null,null,null,null,null,null,null,null,null,null,null,null," ",{"$f":"--ISNUMBER(IFERROR(SEARCH('Vente Jour'!$K$6,S571,1),\"\"))","v":0},{"$f":"IF(T571=1,COUNTIF($T$3:T571,1),\"\")","v":""},{"$f":"IFERROR(INDEX(Cherche1,MATCH(ROWS($U$3:U571),Classement,0)),\"\")","v":""}]
["",null,null,null,null,null,null,null,null,null,null,null,null,null,null,null,null,null," ",{"$f":"--ISNUMBER(IFERROR(SEARCH('Vente Jour'!$K$6,S572,1),\"\"))","v":0},{"$f":"IF(T572=1,COUNTIF($T$3:T572,1),\"\")","v":""},{"$f":"IFERROR(INDEX(Cherche1,MATCH(ROWS($U$3:U572),Classement,0)),\"\")","v":""}]
["",null,null,null,null,null,null,null,null,null,null,null,null,null,null,null,null,null," ",{"$f":"--ISNUMBER(IFERROR(SEARCH('Vente Jour'!$K$6,S573,1),\"\"))","v":0},{"$f":"IF(T573=1,COUNTIF($T$3:T573,1),\"\")","v":""},{"$f":"IFERROR(INDEX(Cherche1,MATCH(ROWS($U$3:U573),Classement,0)),\"\")","v":""}]
["",null,null,null,null,null,null,null,null,null,null,null,null,null,null,null,null,null," ",{"$f":"--ISNUMBER(IFERROR(SEARCH('Vente Jour'!$K$6,S574,1),\"\"))","v":0},{"$f":"IF(T574=1,COUNTIF($T$3:T574,1),\"\")","v":""},{"$f":"IFERROR(INDEX(Cherche1,MATCH(ROWS($U$3:U574),Classement,0)),\"\")","v":""}]
["",null,null,null,null,null,null,null,null,null,null,null,null,null,null,null,null,null," ",{"$f":"--ISNUMBER(IFERROR(SEARCH('Vente Jour'!$K$6,S575,1),\"\"))","v":0},{"$f":"IF(T575=1,COUNTIF($T$3:T575,1),\"\")","v":""},{"$f":"IFERROR(INDEX(Cherche1,MATCH(ROWS($U$3:U575),Classement,0)),\"\")","v":""}]
["",null,null,null,null,null,null,null,null,null,null,null,null,null,null,null,null,null," ",{"$f":"--ISNUMBER(IFERROR(SEARCH('Vente Jour'!$K$6,S576,1),\"\"))","v":0},{"$f":"IF(T576=1,COUNTIF($T$3:T576,1),\"\")","v":""},{"$f":"IFERROR(INDEX(Cherche1,MATCH(ROWS($U$3:U576),Classement,0)),\"\")","v":""}]
["",null,null,null,null,null,null,null,null,null,null,null,null,null,null,null,null,null," ",{"$f":"--ISNUMBER(IFERROR(SEARCH('Vente Jour'!$K$6,S577,1),\"\"))","v":0},{"$f":"IF(T577=1,COUNTIF($T$3:T577,1),\"\")","v":""},{"$f":"IFERROR(INDEX(Cherche1,MATCH(ROWS($U$3:U577),Classement,0)),\"\")","v":""}]
["",null,null,null,null,null,null,null,null,null,null,null,null,null,null,null,null,null," ",{"$f":"--ISNUMBER(IFERROR(SEARCH('Vente Jour'!$K$6,S578,1),\"\"))","v":0},{"$f":"IF(T578=1,COUNTIF($T$3:T578,1),\"\")","v":""},{"$f":"IFERROR(INDEX(Cherche1,MATCH(ROWS($U$3:U578),Classement,0)),\"\")","v":""}]
["",null,null,null,null,null,null,null,null,null,null,null,null,null,null,null,null,null," ",{"$f":"--ISNUMBER(IFERROR(SEARCH('Vente Jour'!$K$6,S579,1),\"\"))","v":0},{"$f":"IF(T579=1,COUNTIF($T$3:T579,1),\"\")","v":""},{"$f":"IFERROR(INDEX(Cherche1,MATCH(ROWS($U$3:U579),Classement,0)),\"\")","v":""}]
["",null,null,null,null,null,null,null,null,null,null,null,null,null,null,null,null,null," ",{"$f":"--ISNUMBER(IFERROR(SEARCH('Vente Jour'!$K$6,S580,1),\"\"))","v":0},{"$f":"IF(T580=1,COUNTIF($T$3:T580,1),\"\")","v":""},{"$f":"IFERROR(INDEX(Cherche1,MATCH(ROWS($U$3:U580),Classement,0)),\"\")","v":""}]
[{"$f":"IF(B581=\"\",\"\",A580+1)","v":""},null,null,null,null,null,null,null,null,null,null,null,null,null,null,null,null,null," ",{"$f":"--ISNUMBER(IFERROR(SEARCH('Vente Jour'!$K$6,S581,1),\"\"))","v":0},{"$f":"IF(T581=1,COUNTIF($T$3:T581,1),\"\")","v":""},{"$f":"IFERROR(INDEX(Cherche1,MATCH(ROWS($U$3:U581),Classement,0)),\"\")","v":""}]
["",null,null,null,null,null,null,null,null,null,null,null,null,null,null,null,null,null," ",{"$f":"--ISNUMBER(IFERROR(SEARCH('Vente Jour'!$K$6,S582,1),\"\"))","v":0},{"$f":"IF(T582=1,COUNTIF($T$3:T582,1),\"\")","v":""},{"$f":"IFERROR(INDEX(Cherche1,MATCH(ROWS($U$3:U582),Classement,0)),\"\")","v":""}]
["",null,null,null,null,null,null,null,null,null,null,null,null,null,null,null,null,null," ",{"$f":"--ISNUMBER(IFERROR(SEARCH('Vente Jour'!$K$6,S583,1),\"\"))","v":0},{"$f":"IF(T583=1,COUNTIF($T$3:T583,1),\"\")","v":""},{"$f":"IFERROR(INDEX(Cherche1,MATCH(ROWS($U$3:U583),Classement,0)),\"\")","v":""}]
["",null,null,null,null,null,null,null,null,null,null,null,null,null,null,null,null,null," ",{"$f":"--ISNUMBER(IFERROR(SEARCH('Vente Jour'!$K$6,S584,1),\"\"))","v":0},{"$f":"IF(T584=1,COUNTIF($T$3:T584,1),\"\")","v":""},{"$f":"IFERROR(INDEX(Cherche1,MATCH(ROWS($U$3:U584),Classement,0)),\"\")","v":""}]
["",null,null,null,null,null,null,null,null,null,null,null,null,null,null,null,null,null," ",{"$f":"--ISNUMBER(IFERROR(SEARCH('Vente Jour'!$K$6,S585,1),\"\"))","v":0},{"$f":"IF(T585=1,COUNTIF($T$3:T585,1),\"\")","v":""},{"$f":"IFERROR(INDEX(Cherche1,MATCH(ROWS($U$3:U585),Classement,0)),\"\")","v":""}]
["",null,null,null,null,null,null,null,null,null,null,null,null,null,null,null,null,null," ",{"$f":"--ISNUMBER(IFERROR(SEARCH('Vente Jour'!$K$6,S586,1),\"\"))","v":0},{"$f":"IF(T586=1,COUNTIF($T$3:T586,1),\"\")","v":""},{"$f":"IFERROR(INDEX(Cherche1,MATCH(ROWS($U$3:U586),Classement,0)),\"\")","v":""}]
["",null,null,null,null,null,null,null,null,null,null,null,null,null,null,null,null,null," ",{"$f":"--ISNUMBER(IFERROR(SEARCH('Vente Jour'!$K$6,S587,1),\"\"))","v":0},{"$f":"IF(T587=1,COUNTIF($T$3:T587,1),\"\")","v":""},{"$f":"IFERROR(INDEX(Cherche1,MATCH(ROWS($U$3:U587),Classement,0)),\"\")","v":""}]
["",null,null,null,null,null,null,null,null,null,null,null,null,null,null,null,null,null," ",{"$f":"--ISNUMBER(IFERROR(SEARCH('Vente Jour'!$K$6,S588,1),\"\"))","v":0},{"$f":"IF(T588=1,COUNTIF($T$3:T588,1),\"\")","v":""},{"$f":"IFERROR(INDEX(Cherche1,MATCH(ROWS($U$3:U588),Classement,0)),\"\")","v":""}]
["",null,null,null,null,null,null,null,null,null,null,null,null,null,null,null,null,null," ",{"$f":"--ISNUMBER(IFERROR(SEARCH('Vente Jour'!$K$6,S589,1),\"\"))","v":0},{"$f":"IF(T589=1,COUNTIF($T$3:T589,1),\"\")","v":""},{"$f":"IFERROR(INDEX(Cherche1,MATCH(ROWS($U$3:U589),Classement,0)),\"\")","v":""}]
["",null,null,null,null,null,null,null,null,null,null,null,null,null,null,null,null,null," ",{"$f":"--ISNUMBER(IFERROR(SEARCH('Vente Jour'!$K$6,S590,1),\"\"))","v":0},{"$f":"IF(T590=1,COUNTIF($T$3:T590,1),\"\")","v":""},{"$f":"IFERROR(INDEX(Cherche1,MATCH(ROWS($U$3:U590),Classement,0)),\"\")","v":""}]
["",null,null,null,null,null,null,null,null,null,null,null,null,null,null,null,null,null,{"$f":"CONCATENATE(B591,\" \",C591)","v":" "},{"$f":"--ISNUMBER(IFERROR(SEARCH('Vente Jour'!$K$6,S591,1),\"\"))","v":0},{"$f":"IF(T591=1,COUNTIF($T$3:T591,1),\"\")","v":""},{"$f":"IFERROR(INDEX(Cherche1,MATCH(ROWS($U$3:U591),Classement,0)),\"\")","v":""}]
["",null,null,null,null,null,null,null,null,null,null,null,null,null,null,null,null,null," ",{"$f":"--ISNUMBER(IFERROR(SEARCH('Vente Jour'!$K$6,S592,1),\"\"))","v":0},{"$f":"IF(T592=1,COUNTIF($T$3:T592,1),\"\")","v":""},{"$f":"IFERROR(INDEX(Cherche1,MATCH(ROWS($U$3:U592),Classement,0)),\"\")","v":""}]
["",null,null,null,null,null,null,null,null,null,null,null,null,null,null,null,null,null," ",{"$f":"--ISNUMBER(IFERROR(SEARCH('Vente Jour'!$K$6,S593,1),\"\"))","v":0},{"$f":"IF(T593=1,COUNTIF($T$3:T593,1),\"\")","v":""},{"$f":"IFERROR(INDEX(Cherche1,MATCH(ROWS($U$3:U593),Classement,0)),\"\")","v":""}]
["",null,null,null,null,null,null,null,null,null,null,null,null,null,null,null,null,null," ",{"$f":"--ISNUMBER(IFERROR(SEARCH('Vente Jour'!$K$6,S594,1),\"\"))","v":0},{"$f":"IF(T594=1,COUNTIF($T$3:T594,1),\"\")","v":""},{"$f":"IFERROR(INDEX(Cherche1,MATCH(ROWS($U$3:U594),Classement,0)),\"\")","v":""}]
["",null,null,null,null,null,null,null,null,null,null,null,null,null,null,null,null,null," ",{"$f":"--ISNUMBER(IFERROR(SEARCH('Vente Jour'!$K$6,S595,1),\"\"))","v":0},{"$f":"IF(T595=1,COUNTIF($T$3:T595,1),\"\")","v":""},{"$f":"IFERROR(INDEX(Cherche1,MATCH(ROWS($U$3:U595),Classement,0)),\"\")","v":""}]
["",null,null,null,null,null,null,null,null,null,null,null,null,null,null,null,null,null," ",{"$f":"--ISNUMBER(IFERROR(SEARCH('Vente Jour'!$K$6,S596,1),\"\"))","v":0},{"$f":"IF(T596=1,COUNTIF($T$3:T596,1),\"\")","v":""},{"$f":"IFERROR(INDEX(Cherche1,MATCH(ROWS($U$3:U596),Classement,0)),\"\")","v":""}]
["",null,null,null,null,null,null,null,null,null,null,null,null,null,null,null,null,null," ",{"$f":"--ISNUMBER(IFERROR(SEARCH('Vente Jour'!$K$6,S597,1),\"\"))","v":0},{"$f":"IF(T597=1,COUNTIF($T$3:T597,1),\"\")","v":""},{"$f":"IFERROR(INDEX(Cherche1,MATCH(ROWS($U$3:U597),Classement,0)),\"\")","v":""}]
["",null,null,null,null,null,null,null,null,null,null,null,null,null,null,null,null,null," ",{"$f":"--ISNUMBER(IFERROR(SEARCH('Vente Jour'!$K$6,S598,1),\"\"))","v":0},{"$f":"IF(T598=1,COUNTIF($T$3:T598,1),\"\")","v":""},{"$f":"IFERROR(INDEX(Cherche1,MATCH(ROWS($U$3:U598),Classement,0)),\"\")","v":""}]
["",null,null,null,null,null,null,null,null,null,null,null,null,null,null,null,null,null," ",{"$f":"--ISNUMBER(IFERROR(SEARCH('Vente Jour'!$K$6,S599,1),\"\"))","v":0},{"$f":"IF(T599=1,COUNTIF($T$3:T599,1),\"\")","v":""},{"$f":"IFERROR(INDEX(Cherche1,MATCH(ROWS($U$3:U599),Classement,0)),\"\")","v":""}]
["",null,null,null,null,null,null,null,null,null,null,null,null,null,null,null,null,null," ",{"$f":"--ISNUMBER(IFERROR(SEARCH('Vente Jour'!$K$6,S600,1),\"\"))","v":0},{"$f":"IF(T600=1,COUNTIF($T$3:T600,1),\"\")","v":""},{"$f":"IFERROR(INDEX(Cherche1,MATCH(ROWS($U$3:U600),Classement,0)),\"\")","v":""}]
["",null,null,null,null,null,null,null,null,null,null,null,null,null,null,null,null,null," ",{"$f":"--ISNUMBER(IFERROR(SEARCH('Vente Jour'!$K$6,S601,1),\"\"))","v":0},{"$f":"IF(T601=1,COUNTIF($T$3:T601,1),\"\")","v":""},{"$f":"IFERROR(INDEX(Cherche1,MATCH(ROWS($U$3:U601),Classement,0)),\"\")","v":""}]
["",null,null,null,null,null,null,null,null,null,null,null,null,null,null,null,null,null," ",{"$f":"--ISNUMBER(IFERROR(SEARCH('Vente Jour'!$K$6,S602,1),\"\"))","v":0},{"$f":"IF(T602=1,COUNTIF($T$3:T602,1),\"\")","v":""},{"$f":"IFERROR(INDEX(Cherche1,MATCH(ROWS($U$3:U602),Classement,0)),\"\")","v":""}]
["",null,null,null,null,null,null,null,null,null,null,null,null,null,null,null,null,null," ",{"$f":"--ISNUMBER(IFERROR(SEARCH('Vente Jour'!$K$6,S603,1),\"\"))","v":0},{"$f":"IF(T603=1,COUNTIF($T$3:T603,1),\"\")","v":""},{"$f":"IFERROR(INDEX(Cherche1,MATCH(ROWS($U$3:U603),Classement,0)),\"\")","v":""}]
["",null,null,null,null,null,null,null,null,null,null,null,null,null,null,null,null,null," ",{"$f":"--ISNUMBER(IFERROR(SEARCH('Vente Jour'!$K$6,S604,1),\"\"))","v":0},{"$f":"IF(T604=1,COUNTIF($T$3:T604,1),\"\")","v":""},{"$f":"IFERROR(INDEX(Cherche1,MATCH(ROWS($U$3:U604),Classement,0)),\"\")","v":""}]
["",null,null,null,null,null,null,null,null,null,null,null,null,null,null,null,null,null," ",{"$f":"--ISNUMBER(IFERROR(SEARCH('Vente Jour'!$K$6,S605,1),\"\"))","v":0},{"$f":"IF(T605=1,COUNTIF($T$3:T605,1),\"\")","v":""},{"$f":"IFERROR(INDEX(Cherche1,MATCH(ROWS($U$3:U605),Classement,0)),\"\")","v":""}]
["",null,null,null,null,null,null,null,null,null,null,null,null,null,null,null,null,null," ",{"$f":"--ISNUMBER(IFERROR(SEARCH('Vente Jour'!$K$6,S606,1),\"\"))","v":0},{"$f":"IF(T606=1,COUNTIF($T$3:T606,1),\"\")","v":""},{"$f":"IFERROR(INDEX(Cherche1,MATCH(ROWS($U$3:U606),Classement,0)),\"\")","v":""}]
["",null,null,null,null,null,null,null,null,null,null,null,null,null,null,null,null,null," ",{"$f":"--ISNUMBER(IFERROR(SEARCH('Vente Jour'!$K$6,S607,1),\"\"))","v":0},{"$f":"IF(T607=1,COUNTIF($T$3:T607,1),\"\")","v":""},{"$f":"IFERROR(INDEX(Cherche1,MATCH(ROWS($U$3:U607),Classement,0)),\"\")","v":""}]
["",null,null,null,null,null,null,null,null,null,null,null,null,null,null,null,null,null," ",{"$f":"--ISNUMBER(IFERROR(SEARCH('Vente Jour'!$K$6,S608,1),\"\"))","v":0},{"$f":"IF(T608=1,COUNTIF($T$3:T608,1),\"\")","v":""},{"$f":"IFERROR(INDEX(Cherche1,MATCH(ROWS($U$3:U608),Classement,0)),\"\")","v":""}]
["",null,null,null,null,null,null,null,null,null,null,null,null,null,null,null,null,null," ",{"$f":"--ISNUMBER(IFERROR(SEARCH('Vente Jour'!$K$6,S609,1),\"\"))","v":0},{"$f":"IF(T609=1,COUNTIF($T$3:T609,1),\"\")","v":""},{"$f":"IFERROR(INDEX(Cherche1,MATCH(ROWS($U$3:U609),Classement,0)),\"\")","v":""}]
["",null,null,null,null,null,null,null,null,null,null,null,null,null,null,null,null,null," ",{"$f":"--ISNUMBER(IFERROR(SEARCH('Vente Jour'!$K$6,S610,1),\"\"))","v":0},{"$f":"IF(T610=1,COUNTIF($T$3:T610,1),\"\")","v":""},{"$f":"IFERROR(INDEX(Cherche1,MATCH(ROWS($U$3:U610),Classement,0)),\"\")","v":""}]
["",null,null,null,null,null,null,null,null,null,null,null,null,null,null,null,null,null," ",{"$f":"--ISNUMBER(IFERROR(SEARCH('Vente Jour'!$K$6,S611,1),\"\"))","v":0},{"$f":"IF(T611=1,COUNTIF($T$3:T611,1),\"\")","v":""},{"$f":"IFERROR(INDEX(Cherche1,MATCH(ROWS($U$3:U611),Classement,0)),\"\")","v":""}]
["",null,null,null,null,null,null,null,null,null,null,null,null,null,null,null,null,null," ",{"$f":"--ISNUMBER(IFERROR(SEARCH('Vente Jour'!$K$6,S612,1),\"\"))","v":0},{"$f":"IF(T612=1,COUNTIF($T$3:T612,1),\"\")","v":""},{"$f":"IFERROR(INDEX(Cherche1,MATCH(ROWS($U$3:U612),Classement,0)),\"\")","v":""}]
["",null,null,null,null,null,null,null,null,null,null,null,null,null,null,null,null,null," ",{"$f":"--ISNUMBER(IFERROR(SEARCH('Vente Jour'!$K$6,S613,1),\"\"))","v":0},{"$f":"IF(T613=1,COUNTIF($T$3:T613,1),\"\")","v":""},{"$f":"IFERROR(INDEX(Cherche1,MATCH(ROWS($U$3:U613),Classement,0)),\"\")","v":""}]
["",null,null,null,null,null,null,null,null,null,null,null,null,null,null,null,null,null," ",{"$f":"--ISNUMBER(IFERROR(SEARCH('Vente Jour'!$K$6,S614,1),\"\"))","v":0},{"$f":"IF(T614=1,COUNTIF($T$3:T614,1),\"\")","v":""},{"$f":"IFERROR(INDEX(Cherche1,MATCH(ROWS($U$3:U614),Classement,0)),\"\")","v":""}]
["",null,null,null,null,null,null,null,null,null,null,null,null,null,null,null,null,null," ",{"$f":"--ISNUMBER(IFERROR(SEARCH('Vente Jour'!$K$6,S615,1),\"\"))","v":0},{"$f":"IF(T615=1,COUNTIF($T$3:T615,1),\"\")","v":""},{"$f":"IFERROR(INDEX(Cherche1,MATCH(ROWS($U$3:U615),Classement,0)),\"\")","v":""}]
["",null,null,null,null,null,null,null,null,null,null,null,null,null,null,null,null,null," ",{"$f":"--ISNUMBER(IFERROR(SEARCH('Vente Jour'!$K$6,S616,1),\"\"))","v":0},{"$f":"IF(T616=1,COUNTIF($T$3:T616,1),\"\")","v":""},{"$f":"IFERROR(INDEX(Cherche1,MATCH(ROWS($U$3:U616),Classement,0)),\"\")","v":""}]
["",null,null,null,null,null,null,null,null,null,null,null,null,null,null,null,null,null," ",{"$f":"--ISNUMBER(IFERROR(SEARCH('Vente Jour'!$K$6,S617,1),\"\"))","v":0},{"$f":"IF(T617=1,COUNTIF($T$3:T617,1),\"\")","v":""},{"$f":"IFERROR(INDEX(Cherche1,MATCH(ROWS($U$3:U617),Classement,0)),\"\")","v":""}]
["",null,null,null,null,null,null,null,null,null,null,null,null,null,null,null,null,null," ",{"$f":"--ISNUMBER(IFERROR(SEARCH('Vente Jour'!$K$6,S618,1),\"\"))","v":0},{"$f":"IF(T618=1,COUNTIF($T$3:T618,1),\"\")","v":""},{"$f":"IFERROR(INDEX(Cherche1,MATCH(ROWS($U$3:U618),Classement,0)),\"\")","v":""}]
["",null,null,null,null,null,null,null,null,null,null,null,null,null,null,null,null,null," ",{"$f":"--ISNUMBER(IFERROR(SEARCH('Vente Jour'!$K$6,S619,1),\"\"))","v":0},{"$f":"IF(T619=1,COUNTIF($T$3:T619,1),\"\")","v":""},{"$f":"IFERROR(INDEX(Cherche1,MATCH(ROWS($U$3:U619),Classement,0)),\"\")","v":""}]
["",null,null,null,null,null,null,null,null,null,null,null,null,null,null,null,null,null," ",{"$f":"--ISNUMBER(IFERROR(SEARCH('Vente Jour'!$K$6,S620,1),\"\"))","v":0},{"$f":"IF(T620=1,COUNTIF($T$3:T620,1),\"\")","v":""},{"$f":"IFERROR(INDEX(Cherche1,MATCH(ROWS($U$3:U620),Classement,0)),\"\")","v":""}]
["",null,null,null,null,null,null,null,null,null,null,null,null,null,null,null,null,null," ",{"$f":"--ISNUMBER(IFERROR(SEARCH('Vente Jour'!$K$6,S621,1),\"\"))","v":0},{"$f":"IF(T621=1,COUNTIF($T$3:T621,1),\"\")","v":""},{"$f":"IFERROR(INDEX(Cherche1,MATCH(ROWS($U$3:U621),Classement,0)),\"\")","v":""}]
["",null,null,null,null,null,null,null,null,null,null,null,null,null,null,null,null,null," ",{"$f":"--ISNUMBER(IFERROR(SEARCH('Vente Jour'!$K$6,S622,1),\"\"))","v":0},{"$f":"IF(T622=1,COUNTIF($T$3:T622,1),\"\")","v":""},{"$f":"IFERROR(INDEX(Cherche1,MATCH(ROWS($U$3:U622),Classement,0)),\"\")","v":""}]
["",null,null,null,null,null,null,null,null,null,null,null,null,null,null,null,null,null," ",{"$f":"--ISNUMBER(IFERROR(SEARCH('Vente Jour'!$K$6,S623,1),\"\"))","v":0},{"$f":"IF(T623=1,COUNTIF($T$3:T623,1),\"\")","v":""},{"$f":"IFERROR(INDEX(Cherche1,MATCH(ROWS($U$3:U623),Classement,0)),\"\")","v":""}]
["",null,null,null,null,null,null,null,null,null,null,null,null,null,null,null,null,null," ",{"$f":"--ISNUMBER(IFERROR(SEARCH('Vente Jour'!$K$6,S624,1),\"\"))","v":0},{"$f":"IF(T624=1,COUNTIF($T$3:T624,1),\"\")","v":""},{"$f":"IFERROR(INDEX(Cherche1,MATCH(ROWS($U$3:U624),Classement,0)),\"\")","v":""}]
["",null,null,null,null,null,null,null,null,null,null,null,null,null,null,null,null,null," ",{"$f":"--ISNUMBER(IFERROR(SEARCH('Vente Jour'!$K$6,S625,1),\"\"))","v":0},{"$f":"IF(T625=1,COUNTIF($T$3:T625,1),\"\")","v":""},{"$f":"IFERROR(INDEX(Cherche1,MATCH(ROWS($U$3:U625),Classement,0)),\"\")","v":""}]
["",null,null,null,null,null,null,null,null,null,null,null,null,null,null,null,null,null," ",{"$f":"--ISNUMBER(IFERROR(SEARCH('Vente Jour'!$K$6,S626,1),\"\"))","v":0},{"$f":"IF(T626=1,COUNTIF($T$3:T626,1),\"\")","v":""},{"$f":"IFERROR(INDEX(Cherche1,MATCH(ROWS($U$3:U626),Classement,0)),\"\")","v":""}]
["",null,null,null,null,null,null,null,null,null,null,null,null,null,null,null,null,null," ",{"$f":"--ISNUMBER(IFERROR(SEARCH('Vente Jour'!$K$6,S627,1),\"\"))","v":0},{"$f":"IF(T627=1,COUNTIF($T$3:T627,1),\"\")","v":""},{"$f":"IFERROR(INDEX(Cherche1,MATCH(ROWS($U$3:U627),Classement,0)),\"\")","v":""}]
["",null,null,null,null,null,null,null,null,null,null,null,null,null,null,null,null,null," ",{"$f":"--ISNUMBER(IFERROR(SEARCH('Vente Jour'!$K$6,S628,1),\"\"))","v":0},{"$f":"IF(T628=1,COUNTIF($T$3:T628,1),\"\")","v":""},{"$f":"IFERROR(INDEX(Cherche1,MATCH(ROWS($U$3:U628),Classement,0)),\"\")","v":""}]
["",null,null,null,null,null,null,null,null,null,null,null,null,null,null,null,null,null," ",{"$f":"--ISNUMBER(IFERROR(SEARCH('Vente Jour'!$K$6,S629,1),\"\"))","v":0},{"$f":"IF(T629=1,COUNTIF($T$3:T629,1),\"\")","v":""},{"$f":"IFERROR(INDEX(Cherche1,MATCH(ROWS($U$3:U629),Classement,0)),\"\")","v":""}]
["",null,null,null,null,null,null,null,null,null,null,null,null,null,null,null,null,null," ",{"$f":"--ISNUMBER(IFERROR(SEARCH('Vente Jour'!$K$6,S630,1),\"\"))","v":0},{"$f":"IF(T630=1,COUNTIF($T$3:T630,1),\"\")","v":""},{"$f":"IFERROR(INDEX(Cherche1,MATCH(ROWS($U$3:U630),Classement,0)),\"\")","v":""}]
["",null,null,null,null,null,null,null,null,null,null,null,null,null,null,null,null,null," ",{"$f":"--ISNUMBER(IFERROR(SEARCH('Vente Jour'!$K$6,S631,1),\"\"))","v":0},{"$f":"IF(T631=1,COUNTIF($T$3:T631,1),\"\")","v":""},{"$f":"IFERROR(INDEX(Cherche1,MATCH(ROWS($U$3:U631),Classement,0)),\"\")","v":""}]
["",null,null,null,null,null,null,null,null,null,null,null,null,null,null,null,null,null," ",{"$f":"--ISNUMBER(IFERROR(SEARCH('Vente Jour'!$K$6,S632,1),\"\"))","v":0},{"$f":"IF(T632=1,COUNTIF($T$3:T632,1),\"\")","v":""},{"$f":"IFERROR(INDEX(Cherche1,MATCH(ROWS($U$3:U632),Classement,0)),\"\")","v":""}]
["",null,null,null,null,null,null,null,null,null,null,null,null,null,null,null,null,null," ",{"$f":"--ISNUMBER(IFERROR(SEARCH('Vente Jour'!$K$6,S633,1),\"\"))","v":0},{"$f":"IF(T633=1,COUNTIF($T$3:T633,1),\"\")","v":""},{"$f":"IFERROR(INDEX(Cherche1,MATCH(ROWS($U$3:U633),Classement,0)),\"\")","v":""}]
["",null,null,null,null,null,null,null,null,null,null,null,null,null,null,null,null,null," ",{"$f":"--ISNUMBER(IFERROR(SEARCH('Vente Jour'!$K$6,S634,1),\"\"))","v":0},{"$f":"IF(T634=1,COUNTIF($T$3:T634,1),\"\")","v":""},{"$f":"IFERROR(INDEX(Cherche1,MATCH(ROWS($U$3:U634),Classement,0)),\"\")","v":""}]
["",null,null,null,null,null,null,null,null,null,null,null,null,null,null,null,null,null," ",{"$f":"--ISNUMBER(IFERROR(SEARCH('Vente Jour'!$K$6,S635,1),\"\"))","v":0},{"$f":"IF(T635=1,COUNTIF($T$3:T635,1),\"\")","v":""},{"$f":"IFERROR(INDEX(Cherche1,MATCH(ROWS($U$3:U635),Classement,0)),\"\")","v":""}]
["",null,null,null,null,null,null,null,null,null,null,null,null,null,null,null,null,null," ",{"$f":"--ISNUMBER(IFERROR(SEARCH('Vente Jour'!$K$6,S636,1),\"\"))","v":0},{"$f":"IF(T636=1,COUNTIF($T$3:T636,1),\"\")","v":""},{"$f":"IFERROR(INDEX(Cherche1,MATCH(ROWS($U$3:U636),Classement,0)),\"\")","v":""}]
["",null,null,null,null,null,null,null,null,null,null,null,null,null,null,null,null,null," ",{"$f":"--ISNUMBER(IFERROR(SEARCH('Vente Jour'!$K$6,S637,1),\"\"))","v":0},{"$f":"IF(T637=1,COUNTIF($T$3:T637,1),\"\")","v":""},{"$f":"IFERROR(INDEX(Cherche1,MATCH(ROWS($U$3:U637),Classement,0)),\"\")","v":""}]
["",null,null,null,null,null,null,null,null,null,null,null,null,null,null,null,null,null," ",{"$f":"--ISNUMBER(IFERROR(SEARCH('Vente Jour'!$K$6,S638,1),\"\"))","v":0},{"$f":"IF(T638=1,COUNTIF($T$3:T638,1),\"\")","v":""},{"$f":"IFERROR(INDEX(Cherche1,MATCH(ROWS($U$3:U638),Classement,0)),\"\")","v":""}]
["",null,null,null,null,null,null,null,null,null,null,null,null,null,null,null,null,null," ",{"$f":"--ISNUMBER(IFERROR(SEARCH('Vente Jour'!$K$6,S639,1),\"\"))","v":0},{"$f":"IF(T639=1,COUNTIF($T$3:T639,1),\"\")","v":""},{"$f":"IFERROR(INDEX(Cherche1,MATCH(ROWS($U$3:U639),Classement,0)),\"\")","v":""}]
["",null,null,null,null,null,null,null,null,null,null,null,null,null,null,null,null,null," ",{"$f":"--ISNUMBER(IFERROR(SEARCH('Vente Jour'!$K$6,S640,1),\"\"))","v":0},{"$f":"IF(T640=1,COUNTIF($T$3:T640,1),\"\")","v":""},{"$f":"IFERROR(INDEX(Cherche1,MATCH(ROWS($U$3:U640),Classement,0)),\"\")","v":""}]
["",null,null,null,null,null,null,null,null,null,null,null,null,null,null,null,null,null," ",{"$f":"--ISNUMBER(IFERROR(SEARCH('Vente Jour'!$K$6,S641,1),\"\"))","v":0},{"$f":"IF(T641=1,COUNTIF($T$3:T641,1),\"\")","v":""},{"$f":"IFERROR(INDEX(Cherche1,MATCH(ROWS($U$3:U641),Classement,0)),\"\")","v":""}]
["",null,null,null,null,null,null,null,null,null,null,null,null,null,null,null,null,null," ",{"$f":"--ISNUMBER(IFERROR(SEARCH('Vente Jour'!$K$6,S642,1),\"\"))","v":0},{"$f":"IF(T642=1,COUNTIF($T$3:T642,1),\"\")","v":""},{"$f":"IFERROR(INDEX(Cherche1,MATCH(ROWS($U$3:U642),Classement,0)),\"\")","v":""}]
["",null,null,null,null,null,null,null,null,null,null,null,null,null,null,null,null,null," ",{"$f":"--ISNUMBER(IFERROR(SEARCH('Vente Jour'!$K$6,S643,1),\"\"))","v":0},{"$f":"IF(T643=1,COUNTIF($T$3:T643,1),\"\")","v":""},{"$f":"IFERROR(INDEX(Cherche1,MATCH(ROWS($U$3:U643),Classement,0)),\"\")","v":""}]
["",null,null,null,null,null,null,null,null,null,null,null,null,null,null,null,null,null," ",{"$f":"--ISNUMBER(IFERROR(SEARCH('Vente Jour'!$K$6,S644,1),\"\"))","v":0},{"$f":"IF(T644=1,COUNTIF($T$3:T644,1),\"\")","v":""},{"$f":"IFERROR(INDEX(Cherche1,MATCH(ROWS($U$3:U644),Classement,0)),\"\")","v":""}]
[{"$f":"IF(B645=\"\",\"\",A644+1)","v":""},null,null,null,null,null,null,null,null,null,null,null,null,null,null,null,null,null," ",{"$f":"--ISNUMBER(IFERROR(SEARCH('Vente Jour'!$K$6,S645,1),\"\"))","v":0},{"$f":"IF(T645=1,COUNTIF($T$3:T645,1),\"\")","v":""},{"$f":"IFERROR(INDEX(Cherche1,MATCH(ROWS($U$3:U645),Classement,0)),\"\")","v":""}]
["",null,null,null,null,null,null,null,null,null,null,null,null,null,null,null,null,null," ",{"$f":"--ISNUMBER(IFERROR(SEARCH('Vente Jour'!$K$6,S646,1),\"\"))","v":0},{"$f":"IF(T646=1,COUNTIF($T$3:T646,1),\"\")","v":""},{"$f":"IFERROR(INDEX(Cherche1,MATCH(ROWS($U$3:U646),Classement,0)),\"\")","v":""}]
["",null,null,null,null,null,null,null,null,null,null,null,null,null,null,null,null,null," ",{"$f":"--ISNUMBER(IFERROR(SEARCH('Vente Jour'!$K$6,S647,1),\"\"))","v":0},{"$f":"IF(T647=1,COUNTIF($T$3:T647,1),\"\")","v":""},{"$f":"IFERROR(INDEX(Cherche1,MATCH(ROWS($U$3:U647),Classement,0)),\"\")","v":""}]
["",null,null,null,null,null,null,null,null,null,null,null,null,null,null,null,null,null," ",{"$f":"--ISNUMBER(IFERROR(SEARCH('Vente Jour'!$K$6,S648,1),\"\"))","v":0},{"$f":"IF(T648=1,COUNTIF($T$3:T648,1),\"\")","v":""},{"$f":"IFERROR(INDEX(Cherche1,MATCH(ROWS($U$3:U648),Classement,0)),\"\")","v":""}]
["",null,null,null,null,null,null,null,null,null,null,null,null,null,null,null,null,null," ",{"$f":"--ISNUMBER(IFERROR(SEARCH('Vente Jour'!$K$6,S649,1),\"\"))","v":0},{"$f":"IF(T649=1,COUNTIF($T$3:T649,1),\"\")","v":""},{"$f":"IFERROR(INDEX(Cherche1,MATCH(ROWS($U$3:U649),Classement,0)),\"\")","v":""}]
["",null,null,null,null,null,null,null,null,null,null,null,null,null,null,null,null,null," ",{"$f":"--ISNUMBER(IFERROR(SEARCH('Vente Jour'!$K$6,S650,1),\"\"))","v":0},{"$f":"IF(T650=1,COUNTIF($T$3:T650,1),\"\")","v":""},{"$f":"IFERROR(INDEX(Cherche1,MATCH(ROWS($U$3:U650),Classement,0)),\"\")","v":""}]
["",null,null,null,null,null,null,null,null,null,null,null,null,null,null,null,null,null," ",{"$f":"--ISNUMBER(IFERROR(SEARCH('Vente Jour'!$K$6,S651,1),\"\"))","v":0},{"$f":"IF(T651=1,COUNTIF($T$3:T651,1),\"\")","v":""},{"$f":"IFERROR(INDEX(Cherche1,MATCH(ROWS($U$3:U651),Classement,0)),\"\")","v":""}]
["",null,null,null,null,null,null,null,null,null,null,null,null,null,null,null,null,null," ",{"$f":"--ISNUMBER(IFERROR(SEARCH('Vente Jour'!$K$6,S652,1),\"\"))","v":0},{"$f":"IF(T652=1,COUNTIF($T$3:T652,1),\"\")","v":""},{"$f":"IFERROR(INDEX(Cherche1,MATCH(ROWS($U$3:U652),Classement,0)),\"\")","v":""}]
["",null,null,null,null,null,null,null,null,null,null,null,null,null,null,null,null,null," ",{"$f":"--ISNUMBER(IFERROR(SEARCH('Vente Jour'!$K$6,S653,1),\"\"))","v":0},{"$f":"IF(T653=1,COUNTIF($T$3:T653,1),\"\")","v":""},{"$f":"IFERROR(INDEX(Cherche1,MATCH(ROWS($U$3:U653),Classement,0)),\"\")","v":""}]
["",null,null,null,null,null,null,null,null,null,null,null,null,null,null,null,null,null," ",{"$f":"--ISNUMBER(IFERROR(SEARCH('Vente Jour'!$K$6,S654,1),\"\"))","v":0},{"$f":"IF(T654=1,COUNTIF($T$3:T654,1),\"\")","v":""},{"$f":"IFERROR(INDEX(Cherche1,MATCH(ROWS($U$3:U654),Classement,0)),\"\")","v":""}]
["",null,null,null,null,null,null,null,null,null,null,null,null,null,null,null,null,null,{"$f":"CONCATENATE(B655,\" \",C655)","v":" "},{"$f":"--ISNUMBER(IFERROR(SEARCH('Vente Jour'!$K$6,S655,1),\"\"))","v":0},{"$f":"IF(T655=1,COUNTIF($T$3:T655,1),\"\")","v":""},{"$f":"IFERROR(INDEX(Cherche1,MATCH(ROWS($U$3:U655),Classement,0)),\"\")","v":""}]
["",null,null,null,null,null,null,null,null,null,null,null,null,null,null,null,null,null," ",{"$f":"--ISNUMBER(IFERROR(SEARCH('Vente Jour'!$K$6,S656,1),\"\"))","v":0},{"$f":"IF(T656=1,COUNTIF($T$3:T656,1),\"\")","v":""},{"$f":"IFERROR(INDEX(Cherche1,MATCH(ROWS($U$3:U656),Classement,0)),\"\")","v":""}]
["",null,null,null,null,null,null,null,null,null,null,null,null,null,null,null,null,null," ",{"$f":"--ISNUMBER(IFERROR(SEARCH('Vente Jour'!$K$6,S657,1),\"\"))","v":0},{"$f":"IF(T657=1,COUNTIF($T$3:T657,1),\"\")","v":""},{"$f":"IFERROR(INDEX(Cherche1,MATCH(ROWS($U$3:U657),Classement,0)),\"\")","v":""}]
["",null,null,null,null,null,null,null,null,null,null,null,null,null,null,null,null,null," ",{"$f":"--ISNUMBER(IFERROR(SEARCH('Vente Jour'!$K$6,S658,1),\"\"))","v":0},{"$f":"IF(T658=1,COUNTIF($T$3:T658,1),\"\")","v":""},{"$f":"IFERROR(INDEX(Cherche1,MATCH(ROWS($U$3:U658),Classement,0)),\"\")","v":""}]
["",null,null,null,null,null,null,null,null,null,null,null,null,null,null,null,null,null," ",{"$f":"--ISNUMBER(IFERROR(SEARCH('Vente Jour'!$K$6,S659,1),\"\"))","v":0},{"$f":"IF(T659=1,COUNTIF($T$3:T659,1),\"\")","v":""},{"$f":"IFERROR(INDEX(Cherche1,MATCH(ROWS($U$3:U659),Classement,0)),\"\")","v":""}]
["",null,null,null,null,null,null,null,null,null,null,null,null,null,null,null,null,null," ",{"$f":"--ISNUMBER(IFERROR(SEARCH('Vente Jour'!$K$6,S660,1),\"\"))","v":0},{"$f":"IF(T660=1,COUNTIF($T$3:T660,1),\"\")","v":""},{"$f":"IFERROR(INDEX(Cherche1,MATCH(ROWS($U$3:U660),Classement,0)),\"\")","v":""}]
["",null,null,null,null,null,null,null,null,null,null,null,null,null,null,null,null,null," ",{"$f":"--ISNUMBER(IFERROR(SEARCH('Vente Jour'!$K$6,S661,1),\"\"))","v":0},{"$f":"IF(T661=1,COUNTIF($T$3:T661,1),\"\")","v":""},{"$f":"IFERROR(INDEX(Cherche1,MATCH(ROWS($U$3:U661),Classement,0)),\"\")","v":""}]
["",null,null,null,null,null,null,null,null,null,null,null,null,null,null,null,null,null," ",{"$f":"--ISNUMBER(IFERROR(SEARCH('Vente Jour'!$K$6,S662,1),\"\"))","v":0},{"$f":"IF(T662=1,COUNTIF($T$3:T662,1),\"\")","v":""},{"$f":"IFERROR(INDEX(Cherche1,MATCH(ROWS($U$3:U662),Classement,0)),\"\")","v":""}]
["",null,null,null,null,null,null,null,null,null,null,null,null,null,null,null,null,null," ",{"$f":"--ISNUMBER(IFERROR(SEARCH('Vente Jour'!$K$6,S663,1),\"\"))","v":0},{"$f":"IF(T663=1,COUNTIF($T$3:T663,1),\"\")","v":""},{"$f":"IFERROR(INDEX(Cherche1,MATCH(ROWS($U$3:U663),Classement,0)),\"\")","v":""}]
["",null,null,null,null,null,null,null,null,null,null,null,null,null,null,null,null,null," ",{"$f":"--ISNUMBER(IFERROR(SEARCH('Vente Jour'!$K$6,S664,1),\"\"))","v":0},{"$f":"IF(T664=1,COUNTIF($T$3:T664,1),\"\")","v":""},{"$f":"IFERROR(INDEX(Cherche1,MATCH(ROWS($U$3:U664),Classement,0)),\"\")","v":""}]
["",null,null,null,null,null,null,null,null,null,null,null,null,null,null,null,null,null," ",{"$f":"--ISNUMBER(IFERROR(SEARCH('Vente Jour'!$K$6,S665,1),\"\"))","v":0},{"$f":"IF(T665=1,COUNTIF($T$3:T665,1),\"\")","v":""},{"$f":"IFERROR(INDEX(Cherche1,MATCH(ROWS($U$3:U665),Classement,0)),\"\")","v":""}]
["",null,null,null,null,null,null,null,null,null,null,null,null,null,null,null,null,null," ",{"$f":"--ISNUMBER(IFERROR(SEARCH('Vente Jour'!$K$6,S666,1),\"\"))","v":0},{"$f":"IF(T666=1,COUNTIF($T$3:T666,1),\"\")","v":""},{"$f":"IFERROR(INDEX(Cherche1,MATCH(ROWS($U$3:U666),Classement,0)),\"\")","v":""}]
["",null,null,null,null,null,null,null,null,null,null,null,null,null,null,null,null,null," ",{"$f":"--ISNUMBER(IFERROR(SEARCH('Vente Jour'!$K$6,S667,1),\"\"))","v":0},{"$f":"IF(T667=1,COUNTIF($T$3:T667,1),\"\")","v":""},{"$f":"IFERROR(INDEX(Cherche1,MATCH(ROWS($U$3:U667),Classement,0)),\"\")","v":""}]
["",null,null,null,null,null,null,null,null,null,null,null,null,null,null,null,null,null," ",{"$f":"--ISNUMBER(IFERROR(SEARCH('Vente Jour'!$K$6,S668,1),\"\"))","v":0},{"$f":"IF(T668=1,COUNTIF($T$3:T668,1),\"\")","v":""},{"$f":"IFERROR(INDEX(Cherche1,MATCH(ROWS($U$3:U668),Classement,0)),\"\")","v":""}]
["",null,null,null,null,null,null,null,null,null,null,null,null,null,null,null,null,null," ",{"$f":"--ISNUMBER(IFERROR(SEARCH('Vente Jour'!$K$6,S669,1),\"\"))","v":0},{"$f":"IF(T669=1,COUNTIF($T$3:T669,1),\"\")","v":""},{"$f":"IFERROR(INDEX(Cherche1,MATCH(ROWS($U$3:U669),Classement,0)),\"\")","v":""}]
["",null,null,null,null,null,null,null,null,null,null,null,null,null,null,null,null,null," ",{"$f":"--ISNUMBER(IFERROR(SEARCH('Vente Jour'!$K$6,S670,1),\"\"))","v":0},{"$f":"IF(T670=1,COUNTIF($T$3:T670,1),\"\")","v":""},{"$f":"IFERROR(INDEX(Cherche1,MATCH(ROWS($U$3:U670),Classement,0)),\"\")","v":""}]
["",null,null,null,null,null,null,null,null,null,null,null,null,null,null,null,null,null," ",{"$f":"--ISNUMBER(IFERROR(SEARCH('Vente Jour'!$K$6,S671,1),\"\"))","v":0},{"$f":"IF(T671=1,COUNTIF($T$3:T671,1),\"\")","v":""},{"$f":"IFERROR(INDEX(Cherche1,MATCH(ROWS($U$3:U671),Classement,0)),\"\")","v":""}]
["",null,null,null,null,null,null,null,null,null,null,null,null,null,null,null,null,null," ",{"$f":"--ISNUMBER(IFERROR(SEARCH('Vente Jour'!$K$6,S672,1),\"\"))","v":0},{"$f":"IF(T672=1,COUNTIF($T$3:T672,1),\"\")","v":""},{"$f":"IFERROR(INDEX(Cherche1,MATCH(ROWS($U$3:U672),Classement,0)),\"\")","v":""}]
["",null,null,null,null,null,null,null,null,null,null,null,null,null,null,null,null,null," ",{"$f":"--ISNUMBER(IFERROR(SEARCH('Vente Jour'!$K$6,S673,1),\"\"))","v":0},{"$f":"IF(T673=1,COUNTIF($T$3:T673,1),\"\")","v":""},{"$f":"IFERROR(INDEX(Cherche1,MATCH(ROWS($U$3:U673),Classement,0)),\"\")","v":""}]
["",null,null,null,null,null,null,null,null,null,null,null,null,null,null,null,null,null," ",{"$f":"--ISNUMBER(IFERROR(SEARCH('Vente Jour'!$K$6,S674,1),\"\"))","v":0},{"$f":"IF(T674=1,COUNTIF($T$3:T674,1),\"\")","v":""},{"$f":"IFERROR(INDEX(Cherche1,MATCH(ROWS($U$3:U674),Classement,0)),\"\")","v":""}]
["",null,null,null,null,null,null,null,null,null,null,null,null,null,null,null,null,null," ",{"$f":"--ISNUMBER(IFERROR(SEARCH('Vente Jour'!$K$6,S675,1),\"\"))","v":0},{"$f":"IF(T675=1,COUNTIF($T$3:T675,1),\"\")","v":""},{"$f":"IFERROR(INDEX(Cherche1,MATCH(ROWS($U$3:U675),Classement,0)),\"\")","v":""}]
["",null,null,null,null,null,null,null,null,null,null,null,null,null,null,null,null,null," ",{"$f":"--ISNUMBER(IFERROR(SEARCH('Vente Jour'!$K$6,S676,1),\"\"))","v":0},{"$f":"IF(T676=1,COUNTIF($T$3:T676,1),\"\")","v":""},{"$f":"IFERROR(INDEX(Cherche1,MATCH(ROWS($U$3:U676),Classement,0)),\"\")","v":""}]
["",null,null,null,null,null,null,null,null,null,null,null,null,null,null,null,null,null," ",{"$f":"--ISNUMBER(IFERROR(SEARCH('Vente Jour'!$K$6,S677,1),\"\"))","v":0},{"$f":"IF(T677=1,COUNTIF($T$3:T677,1),\"\")","v":""},{"$f":"IFERROR(INDEX(Cherche1,MATCH(ROWS($U$3:U677),Classement,0)),\"\")","v":""}]
["",null,null,null,null,null,null,null,null,null,null,null,null,null,null,null,null,null," ",{"$f":"--ISNUMBER(IFERROR(SEARCH('Vente Jour'!$K$6,S678,1),\"\"))","v":0},{"$f":"IF(T678=1,COUNTIF($T$3:T678,1),\"\")","v":""},{"$f":"IFERROR(INDEX(Cherche1,MATCH(ROWS($U$3:U678),Classement,0)),\"\")","v":""}]
["",null,null,null,null,null,null,null,null,null,null,null,null,null,null,null,null,null," ",{"$f":"--ISNUMBER(IFERROR(SEARCH('Vente Jour'!$K$6,S679,1),\"\"))","v":0},{"$f":"IF(T679=1,COUNTIF($T$3:T679,1),\"\")","v":""},{"$f":"IFERROR(INDEX(Cherche1,MATCH(ROWS($U$3:U679),Classement,0)),\"\")","v":""}]
["",null,null,null,null,null,null,null,null,null,null,null,null,null,null,null,null,null," ",{"$f":"--ISNUMBER(IFERROR(SEARCH('Vente Jour'!$K$6,S680,1),\"\"))","v":0},{"$f":"IF(T680=1,COUNTIF($T$3:T680,1),\"\")","v":""},{"$f":"IFERROR(INDEX(Cherche1,MATCH(ROWS($U$3:U680),Classement,0)),\"\")","v":""}]
["",null,null,null,null,null,null,null,null,null,null,null,null,null,null,null,null,null," ",{"$f":"--ISNUMBER(IFERROR(SEARCH('Vente Jour'!$K$6,S681,1),\"\"))","v":0},{"$f":"IF(T681=1,COUNTIF($T$3:T681,1),\"\")","v":""},{"$f":"IFERROR(INDEX(Cherche1,MATCH(ROWS($U$3:U681),Classement,0)),\"\")","v":""}]
["",null,null,null,null,null,null,null,null,null,null,null,null,null,null,null,null,null," ",{"$f":"--ISNUMBER(IFERROR(SEARCH('Vente Jour'!$K$6,S682,1),\"\"))","v":0},{"$f":"IF(T682=1,COUNTIF($T$3:T682,1),\"\")","v":""},{"$f":"IFERROR(INDEX(Cherche1,MATCH(ROWS($U$3:U682),Classement,0)),\"\")","v":""}]
["",null,null,null,null,null,null,null,null,null,null,null,null,null,null,null,null,null," ",{"$f":"--ISNUMBER(IFERROR(SEARCH('Vente Jour'!$K$6,S683,1),\"\"))","v":0},{"$f":"IF(T683=1,COUNTIF($T$3:T683,1),\"\")","v":""},{"$f":"IFERROR(INDEX(Cherche1,MATCH(ROWS($U$3:U683),Classement,0)),\"\")","v":""}]
["",null,null,null,null,null,null,null,null,null,null,null,null,null,null,null,null,null," ",{"$f":"--ISNUMBER(IFERROR(SEARCH('Vente Jour'!$K$6,S684,1),\"\"))","v":0},{"$f":"IF(T684=1,COUNTIF($T$3:T684,1),\"\")","v":""},{"$f":"IFERROR(INDEX(Cherche1,MATCH(ROWS($U$3:U684),Classement,0)),\"\")","v":""}]
["",null,null,null,null,null,null,null,null,null,null,null,null,null,null,null,null,null," ",{"$f":"--ISNUMBER(IFERROR(SEARCH('Vente Jour'!$K$6,S685,1),\"\"))","v":0},{"$f":"IF(T685=1,COUNTIF($T$3:T685,1),\"\")","v":""},{"$f":"IFERROR(INDEX(Cherche1,MATCH(ROWS($U$3:U685),Classement,0)),\"\")","v":""}]
["",null,null,null,null,null,null,null,null,null,null,null,null,null,null,null,null,null," ",{"$f":"--ISNUMBER(IFERROR(SEARCH('Vente Jour'!$K$6,S686,1),\"\"))","v":0},{"$f":"IF(T686=1,COUNTIF($T$3:T686,1),\"\")","v":""},{"$f":"IFERROR(INDEX(Cherche1,MATCH(ROWS($U$3:U686),Classement,0)),\"\")","v":""}]
["",null,null,null,null,null,null,null,null,null,null,null,null,null,null,null,null,null," ",{"$f":"--ISNUMBER(IFERROR(SEARCH('Vente Jour'!$K$6,S687,1),\"\"))","v":0},{"$f":"IF(T687=1,COUNTIF($T$3:T687,1),\"\")","v":""},{"$f":"IFERROR(INDEX(Cherche1,MATCH(ROWS($U$3:U687),Classement,0)),\"\")","v":""}]
["",null,null,null,null,null,null,null,null,null,null,null,null,null,null,null,null,null," ",{"$f":"--ISNUMBER(IFERROR(SEARCH('Vente Jour'!$K$6,S688,1),\"\"))","v":0},{"$f":"IF(T688=1,COUNTIF($T$3:T688,1),\"\")","v":""},{"$f":"IFERROR(INDEX(Cherche1,MATCH(ROWS($U$3:U688),Classement,0)),\"\")","v":""}]
["",null,null,null,null,null,null,null,null,null,null,null,null,null,null,null,null,null," ",{"$f":"--ISNUMBER(IFERROR(SEARCH('Vente Jour'!$K$6,S689,1),\"\"))","v":0},{"$f":"IF(T689=1,COUNTIF($T$3:T689,1),\"\")","v":""},{"$f":"IFERROR(INDEX(Cherche1,MATCH(ROWS($U$3:U689),Classement,0)),\"\")","v":""}]
["",null,null,null,null,null,null,null,null,null,null,null,null,null,null,null,null,null," ",{"$f":"--ISNUMBER(IFERROR(SEARCH('Vente Jour'!$K$6,S690,1),\"\"))","v":0},{"$f":"IF(T690=1,COUNTIF($T$3:T690,1),\"\")","v":""},{"$f":"IFERROR(INDEX(Cherche1,MATCH(ROWS($U$3:U690),Classement,0)),\"\")","v":""}]
["",null,null,null,null,null,null,null,null,null,null,null,null,null,null,null,null,null," ",{"$f":"--ISNUMBER(IFERROR(SEARCH('Vente Jour'!$K$6,S691,1),\"\"))","v":0},{"$f":"IF(T691=1,COUNTIF($T$3:T691,1),\"\")","v":""},{"$f":"IFERROR(INDEX(Cherche1,MATCH(ROWS($U$3:U691),Classement,0)),\"\")","v":""}]
["",null,null,null,null,null,null,null,null,null,null,null,null,null,null,null,null,null," ",{"$f":"--ISNUMBER(IFERROR(SEARCH('Vente Jour'!$K$6,S692,1),\"\"))","v":0},{"$f":"IF(T692=1,COUNTIF($T$3:T692,1),\"\")","v":""},{"$f":"IFERROR(INDEX(Cherche1,MATCH(ROWS($U$3:U692),Classement,0)),\"\")","v":""}]
["",null,null,null,null,null,null,null,null,null,null,null,null,null,null,null,null,null," ",{"$f":"--ISNUMBER(IFERROR(SEARCH('Vente Jour'!$K$6,S693,1),\"\"))","v":0},{"$f":"IF(T693=1,COUNTIF($T$3:T693,1),\"\")","v":""},{"$f":"IFERROR(INDEX(Cherche1,MATCH(ROWS($U$3:U693),Classement,0)),\"\")","v":""}]
["",null,null,null,null,null,null,null,null,null,null,null,null,null,null,null,null,null," ",{"$f":"--ISNUMBER(IFERROR(SEARCH('Vente Jour'!$K$6,S694,1),\"\"))","v":0},{"$f":"IF(T694=1,COUNTIF($T$3:T694,1),\"\")","v":""},{"$f":"IFERROR(INDEX(Cherche1,MATCH(ROWS($U$3:U694),Classement,0)),\"\")","v":""}]
["",null,null,null,null,null,null,null,null,null,null,null,null,null,null,null,null,null," ",{"$f":"--ISNUMBER(IFERROR(SEARCH('Vente Jour'!$K$6,S695,1),\"\"))","v":0},{"$f":"IF(T695=1,COUNTIF($T$3:T695,1),\"\")","v":""},{"$f":"IFERROR(INDEX(Cherche1,MATCH(ROWS($U$3:U695),Classement,0)),\"\")","v":""}]
["",null,null,null,null,null,null,null,null,null,null,null,null,null,null,null,null,null," ",{"$f":"--ISNUMBER(IFERROR(SEARCH('Vente Jour'!$K$6,S696,1),\"\"))","v":0},{"$f":"IF(T696=1,COUNTIF($T$3:T696,1),\"\")","v":""},{"$f":"IFERROR(INDEX(Cherche1,MATCH(ROWS($U$3:U696),Classement,0)),\"\")","v":""}]
["",null,null,null,null,null,null,null,null,null,null,null,null,null,null,null,null,null," ",{"$f":"--ISNUMBER(IFERROR(SEARCH('Vente Jour'!$K$6,S697,1),\"\"))","v":0},{"$f":"IF(T697=1,COUNTIF($T$3:T697,1),\"\")","v":""},{"$f":"IFERROR(INDEX(Cherche1,MATCH(ROWS($U$3:U697),Classement,0)),\"\")","v":""}]
["",null,null,null,null,null,null,null,null,null,null,null,null,null,null,null,null,null," ",{"$f":"--ISNUMBER(IFERROR(SEARCH('Vente Jour'!$K$6,S698,1),\"\"))","v":0},{"$f":"IF(T698=1,COUNTIF($T$3:T698,1),\"\")","v":""},{"$f":"IFERROR(INDEX(Cherche1,MATCH(ROWS($U$3:U698),Classement,0)),\"\")","v":""}]
["",null,null,null,null,null,null,null,null,null,null,null,null,null,null,null,null,null," ",{"$f":"--ISNUMBER(IFERROR(SEARCH('Vente Jour'!$K$6,S699,1),\"\"))","v":0},{"$f":"IF(T699=1,COUNTIF($T$3:T699,1),\"\")","v":""},{"$f":"IFERROR(INDEX(Cherche1,MATCH(ROWS($U$3:U699),Classement,0)),\"\")","v":""}]
["",null,null,null,null,null,null,null,null,null,null,null,null,null,null,null,null,null," ",{"$f":"--ISNUMBER(IFERROR(SEARCH('Vente Jour'!$K$6,S700,1),\"\"))","v":0},{"$f":"IF(T700=1,COUNTIF($T$3:T700,1),\"\")","v":""},{"$f":"IFERROR(INDEX(Cherche1,MATCH(ROWS($U$3:U700),Classement,0)),\"\")","v":""}]
["",null,null,null,null,null,null,null,null,null,null,null,null,null,null,null,null,null," ",{"$f":"--ISNUMBER(IFERROR(SEARCH('Vente Jour'!$K$6,S701,1),\"\"))","v":0},{"$f":"IF(T701=1,COUNTIF($T$3:T701,1),\"\")","v":""},{"$f":"IFERROR(INDEX(Cherche1,MATCH(ROWS($U$3:U701),Classement,0)),\"\")","v":""}]
["",null,null,null,null,null,null,null,null,null,null,null,null,null,null,null,null,null," ",{"$f":"--ISNUMBER(IFERROR(SEARCH('Vente Jour'!$K$6,S702,1),\"\"))","v":0},{"$f":"IF(T702=1,COUNTIF($T$3:T702,1),\"\")","v":""},{"$f":"IFERROR(INDEX(Cherche1,MATCH(ROWS($U$3:U702),Classement,0)),\"\")","v":""}]
["",null,null,null,null,null,null,null,null,null,null,null,null,null,null,null,null,null," ",{"$f":"--ISNUMBER(IFERROR(SEARCH('Vente Jour'!$K$6,S703,1),\"\"))","v":0},{"$f":"IF(T703=1,COUNTIF($T$3:T703,1),\"\")","v":""},{"$f":"IFERROR(INDEX(Cherche1,MATCH(ROWS($U$3:U703),Classement,0)),\"\")","v":""}]
["",null,null,null,null,null,null,null,null,null,null,null,null,null,null,null,null,null," ",{"$f":"--ISNUMBER(IFERROR(SEARCH('Vente Jour'!$K$6,S704,1),\"\"))","v":0},{"$f":"IF(T704=1,COUNTIF($T$3:T704,1),\"\")","v":""},{"$f":"IFERROR(INDEX(Cherche1,MATCH(ROWS($U$3:U704),Classement,0)),\"\")","v":""}]
["",null,null,null,null,null,null,null,null,null,null,null,null,null,null,null,null,null," ",{"$f":"--ISNUMBER(IFERROR(SEARCH('Vente Jour'!$K$6,S705,1),\"\"))","v":0},{"$f":"IF(T705=1,COUNTIF($T$3:T705,1),\"\")","v":""},{"$f":"IFERROR(INDEX(Cherche1,MATCH(ROWS($U$3:U705),Classement,0)),\"\")","v":""}]
["",null,null,null,null,null,null,null,null,null,null,null,null,null,null,null,null,null," ",{"$f":"--ISNUMBER(IFERROR(SEARCH('Vente Jour'!$K$6,S706,1),\"\"))","v":0},{"$f":"IF(T706=1,COUNTIF($T$3:T706,1),\"\")","v":""},{"$f":"IFERROR(INDEX(Cherche1,MATCH(ROWS($U$3:U706),Classement,0)),\"\")","v":""}]
["",null,null,null,null,null,null,null,null,null,null,null,null,null,null,null,null,null," ",{"$f":"--ISNUMBER(IFERROR(SEARCH('Vente Jour'!$K$6,S707,1),\"\"))","v":0},{"$f":"IF(T707=1,COUNTIF($T$3:T707,1),\"\")","v":""},{"$f":"IFERROR(INDEX(Cherche1,MATCH(ROWS($U$3:U707),Classement,0)),\"\")","v":""}]
["",null,null,null,null,null,null,null,null,null,null,null,null,null,null,null,null,null," ",{"$f":"--ISNUMBER(IFERROR(SEARCH('Vente Jour'!$K$6,S708,1),\"\"))","v":0},{"$f":"IF(T708=1,COUNTIF($T$3:T708,1),\"\")","v":""},{"$f":"IFERROR(INDEX(Cherche1,MATCH(ROWS($U$3:U708),Classement,0)),\"\")","v":""}]
[{"$f":"IF(B709=\"\",\"\",A708+1)","v":""},null,null,null,null,null,null,null,null,null,null,null,null,null,null,null,null,null," ",{"$f":"--ISNUMBER(IFERROR(SEARCH('Vente Jour'!$K$6,S709,1),\"\"))","v":0},{"$f":"IF(T709=1,COUNTIF($T$3:T709,1),\"\")","v":""},{"$f":"IFERROR(INDEX(Cherche1,MATCH(ROWS($U$3:U709),Classement,0)),\"\")","v":""}]
["",null,null,null,null,null,null,null,null,null,null,null,null,null,null,null,null,null," ",{"$f":"--ISNUMBER(IFERROR(SEARCH('Vente Jour'!$K$6,S710,1),\"\"))","v":0},{"$f":"IF(T710=1,COUNTIF($T$3:T710,1),\"\")","v":""},{"$f":"IFERROR(INDEX(Cherche1,MATCH(ROWS($U$3:U710),Classement,0)),\"\")","v":""}]
["",null,null,null,null,null,null,null,null,null,null,null,null,null,null,null,null,null," ",{"$f":"--ISNUMBER(IFERROR(SEARCH('Vente Jour'!$K$6,S711,1),\"\"))","v":0},{"$f":"IF(T711=1,COUNTIF($T$3:T711,1),\"\")","v":""},{"$f":"IFERROR(INDEX(Cherche1,MATCH(ROWS($U$3:U711),Classement,0)),\"\")","v":""}]
["",null,null,null,null,null,null,null,null,null,null,null,null,null,null,null,null,null," ",{"$f":"--ISNUMBER(IFERROR(SEARCH('Vente Jour'!$K$6,S712,1),\"\"))","v":0},{"$f":"IF(T712=1,COUNTIF($T$3:T712,1),\"\")","v":""},{"$f":"IFERROR(INDEX(Cherche1,MATCH(ROWS($U$3:U712),Classement,0)),\"\")","v":""}]
["",null,null,null,null,null,null,null,null,null,null,null,null,null,null,null,null,null," ",{"$f":"--ISNUMBER(IFERROR(SEARCH('Vente Jour'!$K$6,S713,1),\"\"))","v":0},{"$f":"IF(T713=1,COUNTIF($T$3:T713,1),\"\")","v":""},{"$f":"IFERROR(INDEX(Cherche1,MATCH(ROWS($U$3:U713),Classement,0)),\"\")","v":""}]
["",null,null,null,null,null,null,null,null,null,null,null,null,null,null,null,null,null," ",{"$f":"--ISNUMBER(IFERROR(SEARCH('Vente Jour'!$K$6,S714,1),\"\"))","v":0},{"$f":"IF(T714=1,COUNTIF($T$3:T714,1),\"\")","v":""},{"$f":"IFERROR(INDEX(Cherche1,MATCH(ROWS($U$3:U714),Classement,0)),\"\")","v":""}]
["",null,null,null,null,null,null,null,null,null,null,null,null,null,null,null,null,null," ",{"$f":"--ISNUMBER(IFERROR(SEARCH('Vente Jour'!$K$6,S715,1),\"\"))","v":0},{"$f":"IF(T715=1,COUNTIF($T$3:T715,1),\"\")","v":""},{"$f":"IFERROR(INDEX(Cherche1,MATCH(ROWS($U$3:U715),Classement,0)),\"\")","v":""}]
["",null,null,null,null,null,null,null,null,null,null,null,null,null,null,null,null,null," ",{"$f":"--ISNUMBER(IFERROR(SEARCH('Vente Jour'!$K$6,S716,1),\"\"))","v":0},{"$f":"IF(T716=1,COUNTIF($T$3:T716,1),\"\")","v":""},{"$f":"IFERROR(INDEX(Cherche1,MATCH(ROWS($U$3:U716),Classement,0)),\"\")","v":""}]
["",null,null,null,null,null,null,null,null,null,null,null,null,null,null,null,null,null," ",{"$f":"--ISNUMBER(IFERROR(SEARCH('Vente Jour'!$K$6,S717,1),\"\"))","v":0},{"$f":"IF(T717=1,COUNTIF($T$3:T717,1),\"\")","v":""},{"$f":"IFERROR(INDEX(Cherche1,MATCH(ROWS($U$3:U717),Classement,0)),\"\")","v":""}]
["",null,null,null,null,null,null,null,null,null,null,null,null,null,null,null,null,null," ",{"$f":"--ISNUMBER(IFERROR(SEARCH('Vente Jour'!$K$6,S718,1),\"\"))","v":0},{"$f":"IF(T718=1,COUNTIF($T$3:T718,1),\"\")","v":""},{"$f":"IFERROR(INDEX(Cherche1,MATCH(ROWS($U$3:U718),Classement,0)),\"\")","v":""}]
["",null,null,null,null,null,null,null,null,null,null,null,null,null,null,null,null,null,{"$f":"CONCATENATE(B719,\" \",C719)","v":" "},{"$f":"--ISNUMBER(IFERROR(SEARCH('Vente Jour'!$K$6,S719,1),\"\"))","v":0},{"$f":"IF(T719=1,COUNTIF($T$3:T719,1),\"\")","v":""},{"$f":"IFERROR(INDEX(Cherche1,MATCH(ROWS($U$3:U719),Classement,0)),\"\")","v":""}]
["",null,null,null,null,null,null,null,null,null,null,null,null,null,null,null,null,null," ",{"$f":"--ISNUMBER(IFERROR(SEARCH('Vente Jour'!$K$6,S720,1),\"\"))","v":0},{"$f":"IF(T720=1,COUNTIF($T$3:T720,1),\"\")","v":""},{"$f":"IFERROR(INDEX(Cherche1,MATCH(ROWS($U$3:U720),Classement,0)),\"\")","v":""}]
["",null,null,null,null,null,null,null,null,null,null,null,null,null,null,null,null,null," ",{"$f":"--ISNUMBER(IFERROR(SEARCH('Vente Jour'!$K$6,S721,1),\"\"))","v":0},{"$f":"IF(T721=1,COUNTIF($T$3:T721,1),\"\")","v":""},{"$f":"IFERROR(INDEX(Cherche1,MATCH(ROWS($U$3:U721),Classement,0)),\"\")","v":""}]
["",null,null,null,null,null,null,null,null,null,null,null,null,null,null,null,null,null," ",{"$f":"--ISNUMBER(IFERROR(SEARCH('Vente Jour'!$K$6,S722,1),\"\"))","v":0},{"$f":"IF(T722=1,COUNTIF($T$3:T722,1),\"\")","v":""},{"$f":"IFERROR(INDEX(Cherche1,MATCH(ROWS($U$3:U722),Classement,0)),\"\")","v":""}]
["",null,null,null,null,null,null,null,null,null,null,null,null,null,null,null,null,null," ",{"$f":"--ISNUMBER(IFERROR(SEARCH('Vente Jour'!$K$6,S723,1),\"\"))","v":0},{"$f":"IF(T723=1,COUNTIF($T$3:T723,1),\"\")","v":""},{"$f":"IFERROR(INDEX(Cherche1,MATCH(ROWS($U$3:U723),Classement,0)),\"\")","v":""}]
["",null,null,null,null,null,null,null,null,null,null,null,null,null,null,null,null,null," ",{"$f":"--ISNUMBER(IFERROR(SEARCH('Vente Jour'!$K$6,S724,1),\"\"))","v":0},{"$f":"IF(T724=1,COUNTIF($T$3:T724,1),\"\")","v":""},{"$f":"IFERROR(INDEX(Cherche1,MATCH(ROWS($U$3:U724),Classement,0)),\"\")","v":""}]
["",null,null,null,null,null,null,null,null,null,null,null,null,null,null,null,null,null," ",{"$f":"--ISNUMBER(IFERROR(SEARCH('Vente Jour'!$K$6,S725,1),\"\"))","v":0},{"$f":"IF(T725=1,COUNTIF($T$3:T725,1),\"\")","v":""},{"$f":"IFERROR(INDEX(Cherche1,MATCH(ROWS($U$3:U725),Classement,0)),\"\")","v":""}]
["",null,null,null,null,null,null,null,null,null,null,null,null,null,null,null,null,null," ",{"$f":"--ISNUMBER(IFERROR(SEARCH('Vente Jour'!$K$6,S726,1),\"\"))","v":0},{"$f":"IF(T726=1,COUNTIF($T$3:T726,1),\"\")","v":""},{"$f":"IFERROR(INDEX(Cherche1,MATCH(ROWS($U$3:U726),Classement,0)),\"\")","v":""}]
["",null,null,null,null,null,null,null,null,null,null,null,null,null,null,null,null,null," ",{"$f":"--ISNUMBER(IFERROR(SEARCH('Vente Jour'!$K$6,S727,1),\"\"))","v":0},{"$f":"IF(T727=1,COUNTIF($T$3:T727,1),\"\")","v":""},{"$f":"IFERROR(INDEX(Cherche1,MATCH(ROWS($U$3:U727),Classement,0)),\"\")","v":""}]
["",null,null,null,null,null,null,null,null,null,null,null,null,null,null,null,null,null," ",{"$f":"--ISNUMBER(IFERROR(SEARCH('Vente Jour'!$K$6,S728,1),\"\"))","v":0},{"$f":"IF(T728=1,COUNTIF($T$3:T728,1),\"\")","v":""},{"$f":"IFERROR(INDEX(Cherche1,MATCH(ROWS($U$3:U728),Classement,0)),\"\")","v":""}]
["",null,null,null,null,null,null,null,null,null,null,null,null,null,null,null,null,null," ",{"$f":"--ISNUMBER(IFERROR(SEARCH('Vente Jour'!$K$6,S729,1),\"\"))","v":0},{"$f":"IF(T729=1,COUNTIF($T$3:T729,1),\"\")","v":""},{"$f":"IFERROR(INDEX(Cherche1,MATCH(ROWS($U$3:U729),Classement,0)),\"\")","v":""}]
["",null,null,null,null,null,null,null,null,null,null,null,null,null,null,null,null,null," ",{"$f":"--ISNUMBER(IFERROR(SEARCH('Vente Jour'!$K$6,S730,1),\"\"))","v":0},{"$f":"IF(T730=1,COUNTIF($T$3:T730,1),\"\")","v":""},{"$f":"IFERROR(INDEX(Cherche1,MATCH(ROWS($U$3:U730),Classement,0)),\"\")","v":""}]
["",null,null,null,null,null,null,null,null,null,null,null,null,null,null,null,null,null," ",{"$f":"--ISNUMBER(IFERROR(SEARCH('Vente Jour'!$K$6,S731,1),\"\"))","v":0},{"$f":"IF(T731=1,COUNTIF($T$3:T731,1),\"\")","v":""},{"$f":"IFERROR(INDEX(Cherche1,MATCH(ROWS($U$3:U731),Classement,0)),\"\")","v":""}]
["",null,null,null,null,null,null,null,null,null,null,null,null,null,null,null,null,null," ",{"$f":"--ISNUMBER(IFERROR(SEARCH('Vente Jour'!$K$6,S732,1),\"\"))","v":0},{"$f":"IF(T732=1,COUNTIF($T$3:T732,1),\"\")","v":""},{"$f":"IFERROR(INDEX(Cherche1,MATCH(ROWS($U$3:U732),Classement,0)),\"\")","v":""}]
["",null,null,null,null,null,null,null,null,null,null,null,null,null,null,null,null,null," ",{"$f":"--ISNUMBER(IFERROR(SEARCH('Vente Jour'!$K$6,S733,1),\"\"))","v":0},{"$f":"IF(T733=1,COUNTIF($T$3:T733,1),\"\")","v":""},{"$f":"IFERROR(INDEX(Cherche1,MATCH(ROWS($U$3:U733),Classement,0)),\"\")","v":""}]
["",null,null,null,null,null,null,null,null,null,null,null,null,null,null,null,null,null," ",{"$f":"--ISNUMBER(IFERROR(SEARCH('Vente Jour'!$K$6,S734,1),\"\"))","v":0},{"$f":"IF(T734=1,COUNTIF($T$3:T734,1),\"\")","v":""},{"$f":"IFERROR(INDEX(Cherche1,MATCH(ROWS($U$3:U734),Classement,0)),\"\")","v":""}]
["",null,null,null,null,null,null,null,null,null,null,null,null,null,null,null,null,null," ",{"$f":"--ISNUMBER(IFERROR(SEARCH('Vente Jour'!$K$6,S735,1),\"\"))","v":0},{"$f":"IF(T735=1,COUNTIF($T$3:T735,1),\"\")","v":""},{"$f":"IFERROR(INDEX(Cherche1,MATCH(ROWS($U$3:U735),Classement,0)),\"\")","v":""}]
["",null,null,null,null,null,null,null,null,null,null,null,null,null,null,null,null,null," ",{"$f":"--ISNUMBER(IFERROR(SEARCH('Vente Jour'!$K$6,S736,1),\"\"))","v":0},{"$f":"IF(T736=1,COUNTIF($T$3:T736,1),\"\")","v":""},{"$f":"IFERROR(INDEX(Cherche1,MATCH(ROWS($U$3:U736),Classement,0)),\"\")","v":""}]
["",null,null,null,null,null,null,null,null,null,null,null,null,null,null,null,null,null," ",{"$f":"--ISNUMBER(IFERROR(SEARCH('Vente Jour'!$K$6,S737,1),\"\"))","v":0},{"$f":"IF(T737=1,COUNTIF($T$3:T737,1),\"\")","v":""},{"$f":"IFERROR(INDEX(Cherche1,MATCH(ROWS($U$3:U737),Classement,0)),\"\")","v":""}]
["",null,null,null,null,null,null,null,null,null,null,null,null,null,null,null,null,null," ",{"$f":"--ISNUMBER(IFERROR(SEARCH('Vente Jour'!$K$6,S738,1),\"\"))","v":0},{"$f":"IF(T738=1,COUNTIF($T$3:T738,1),\"\")","v":""},{"$f":"IFERROR(INDEX(Cherche1,MATCH(ROWS($U$3:U738),Classement,0)),\"\")","v":""}]
["",null,null,null,null,null,null,null,null,null,null,null,null,null,null,null,null,null," ",{"$f":"--ISNUMBER(IFERROR(SEARCH('Vente Jour'!$K$6,S739,1),\"\"))","v":0},{"$f":"IF(T739=1,COUNTIF($T$3:T739,1),\"\")","v":""},{"$f":"IFERROR(INDEX(Cherche1,MATCH(ROWS($U$3:U739),Classement,0)),\"\")","v":""}]
["",null,null,null,null,null,null,null,null,null,null,null,null,null,null,null,null,null," ",{"$f":"--ISNUMBER(IFERROR(SEARCH('Vente Jour'!$K$6,S740,1),\"\"))","v":0},{"$f":"IF(T740=1,COUNTIF($T$3:T740,1),\"\")","v":""},{"$f":"IFERROR(INDEX(Cherche1,MATCH(ROWS($U$3:U740),Classement,0)),\"\")","v":""}]
["",null,null,null,null,null,null,null,null,null,null,null,null,null,null,null,null,null," ",{"$f":"--ISNUMBER(IFERROR(SEARCH('Vente Jour'!$K$6,S741,1),\"\"))","v":0},{"$f":"IF(T741=1,COUNTIF($T$3:T741,1),\"\")","v":""},{"$f":"IFERROR(INDEX(Cherche1,MATCH(ROWS($U$3:U741),Classement,0)),\"\")","v":""}]
["",null,null,null,null,null,null,null,null,null,null,null,null,null,null,null,null,null," ",{"$f":"--ISNUMBER(IFERROR(SEARCH('Vente Jour'!$K$6,S742,1),\"\"))","v":0},{"$f":"IF(T742=1,COUNTIF($T$3:T742,1),\"\")","v":""},{"$f":"IFERROR(INDEX(Cherche1,MATCH(ROWS($U$3:U742),Classement,0)),\"\")","v":""}]
["",null,null,null,null,null,null,null,null,null,null,null,null,null,null,null,null,null," ",{"$f":"--ISNUMBER(IFERROR(SEARCH('Vente Jour'!$K$6,S743,1),\"\"))","v":0},{"$f":"IF(T743=1,COUNTIF($T$3:T743,1),\"\")","v":""},{"$f":"IFERROR(INDEX(Cherche1,MATCH(ROWS($U$3:U743),Classement,0)),\"\")","v":""}]
["",null,null,null,null,null,null,null,null,null,null,null,null,null,null,null,null,null," ",{"$f":"--ISNUMBER(IFERROR(SEARCH('Vente Jour'!$K$6,S744,1),\"\"))","v":0},{"$f":"IF(T744=1,COUNTIF($T$3:T744,1),\"\")","v":""},{"$f":"IFERROR(INDEX(Cherche1,MATCH(ROWS($U$3:U744),Classement,0)),\"\")","v":""}]
["",null,null,null,null,null,null,null,null,null,null,null,null,null,null,null,null,null," ",{"$f":"--ISNUMBER(IFERROR(SEARCH('Vente Jour'!$K$6,S745,1),\"\"))","v":0},{"$f":"IF(T745=1,COUNTIF($T$3:T745,1),\"\")","v":""},{"$f":"IFERROR(INDEX(Cherche1,MATCH(ROWS($U$3:U745),Classement,0)),\"\")","v":""}]
["",null,null,null,null,null,null,null,null,null,null,null,null,null,null,null,null,null," ",{"$f":"--ISNUMBER(IFERROR(SEARCH('Vente Jour'!$K$6,S746,1),\"\"))","v":0},{"$f":"IF(T746=1,COUNTIF($T$3:T746,1),\"\")","v":""},{"$f":"IFERROR(INDEX(Cherche1,MATCH(ROWS($U$3:U746),Classement,0)),\"\")","v":""}]
["",null,null,null,null,null,null,null,null,null,null,null,null,null,null,null,null,null," ",{"$f":"--ISNUMBER(IFERROR(SEARCH('Vente Jour'!$K$6,S747,1),\"\"))","v":0},{"$f":"IF(T747=1,COUNTIF($T$3:T747,1),\"\")","v":""},{"$f":"IFERROR(INDEX(Cherche1,MATCH(ROWS($U$3:U747),Classement,0)),\"\")","v":""}]
["",null,null,null,null,null,null,null,null,null,null,null,null,null,null,null,null,null," ",{"$f":"--ISNUMBER(IFERROR(SEARCH('Vente Jour'!$K$6,S748,1),\"\"))","v":0},{"$f":"IF(T748=1,COUNTIF($T$3:T748,1),\"\")","v":""},{"$f":"IFERROR(INDEX(Cherche1,MATCH(ROWS($U$3:U748),Classement,0)),\"\")","v":""}]
["",null,null,null,null,null,null,null,null,null,null,null,null,null,null,null,null,null," ",{"$f":"--ISNUMBER(IFERROR(SEARCH('Vente Jour'!$K$6,S749,1),\"\"))","v":0},{"$f":"IF(T749=1,COUNTIF($T$3:T749,1),\"\")","v":""},{"$f":"IFERROR(INDEX(Cherche1,MATCH(ROWS($U$3:U749),Classement,0)),\"\")","v":""}]
["",null,null,null,null,null,null,null,null,null,null,null,null,null,null,null,null,null," ",{"$f":"--ISNUMBER(IFERROR(SEARCH('Vente Jour'!$K$6,S750,1),\"\"))","v":0},{"$f":"IF(T750=1,COUNTIF($T$3:T750,1),\"\")","v":""},{"$f":"IFERROR(INDEX(Cherche1,MATCH(ROWS($U$3:U750),Classement,0)),\"\")","v":""}]
["",null,null,null,null,null,null,null,null,null,null,null,null,null,null,null,null,null," ",{"$f":"--ISNUMBER(IFERROR(SEARCH('Vente Jour'!$K$6,S751,1),\"\"))","v":0},{"$f":"IF(T751=1,COUNTIF($T$3:T751,1),\"\")","v":""},{"$f":"IFERROR(INDEX(Cherche1,MATCH(ROWS($U$3:U751),Classement,0)),\"\")","v":""}]
["",null,null,null,null,null,null,null,null,null,null,null,null,null,null,null,null,null," ",{"$f":"--ISNUMBER(IFERROR(SEARCH('Vente Jour'!$K$6,S752,1),\"\"))","v":0},{"$f":"IF(T752=1,COUNTIF($T$3:T752,1),\"\")","v":""},{"$f":"IFERROR(INDEX(Cherche1,MATCH(ROWS($U$3:U752),Classement,0)),\"\")","v":""}]
["",null,null,null,null,null,null,null,null,null,null,null,null,null,null,null,null,null," ",{"$f":"--ISNUMBER(IFERROR(SEARCH('Vente Jour'!$K$6,S753,1),\"\"))","v":0},{"$f":"IF(T753=1,COUNTIF($T$3:T753,1),\"\")","v":""},{"$f":"IFERROR(INDEX(Cherche1,MATCH(ROWS($U$3:U753),Classement,0)),\"\")","v":""}]
["",null,null,null,null,null,null,null,null,null,null,null,null,null,null,null,null,null," ",{"$f":"--ISNUMBER(IFERROR(SEARCH('Vente Jour'!$K$6,S754,1),\"\"))","v":0},{"$f":"IF(T754=1,COUNTIF($T$3:T754,1),\"\")","v":""},{"$f":"IFERROR(INDEX(Cherche1,MATCH(ROWS($U$3:U754),Classement,0)),\"\")","v":""}]
["",null,null,null,null,null,null,null,null,null,null,null,null,null,null,null,null,null," ",{"$f":"--ISNUMBER(IFERROR(SEARCH('Vente Jour'!$K$6,S755,1),\"\"))","v":0},{"$f":"IF(T755=1,COUNTIF($T$3:T755,1),\"\")","v":""},{"$f":"IFERROR(INDEX(Cherche1,MATCH(ROWS($U$3:U755),Classement,0)),\"\")","v":""}]
["",null,null,null,null,null,null,null,null,null,null,null,null,null,null,null,null,null," ",{"$f":"--ISNUMBER(IFERROR(SEARCH('Vente Jour'!$K$6,S756,1),\"\"))","v":0},{"$f":"IF(T756=1,COUNTIF($T$3:T756,1),\"\")","v":""},{"$f":"IFERROR(INDEX(Cherche1,MATCH(ROWS($U$3:U756),Classement,0)),\"\")","v":""}]
["",null,null,null,null,null,null,null,null,null,null,null,null,null,null,null,null,null," ",{"$f":"--ISNUMBER(IFERROR(SEARCH('Vente Jour'!$K$6,S757,1),\"\"))","v":0},{"$f":"IF(T757=1,COUNTIF($T$3:T757,1),\"\")","v":""},{"$f":"IFERROR(INDEX(Cherche1,MATCH(ROWS($U$3:U757),Classement,0)),\"\")","v":""}]
["",null,null,null,null,null,null,null,null,null,null,null,null,null,null,null,null,null," ",{"$f":"--ISNUMBER(IFERROR(SEARCH('Vente Jour'!$K$6,S758,1),\"\"))","v":0},{"$f":"IF(T758=1,COUNTIF($T$3:T758,1),\"\")","v":""},{"$f":"IFERROR(INDEX(Cherche1,MATCH(ROWS($U$3:U758),Classement,0)),\"\")","v":""}]
["",null,null,null,null,null,null,null,null,null,null,null,null,null,null,null,null,null," ",{"$f":"--ISNUMBER(IFERROR(SEARCH('Vente Jour'!$K$6,S759,1),\"\"))","v":0},{"$f":"IF(T759=1,COUNTIF($T$3:T759,1),\"\")","v":""},{"$f":"IFERROR(INDEX(Cherche1,MATCH(ROWS($U$3:U759),Classement,0)),\"\")","v":""}]
["",null,null,null,null,null,null,null,null,null,null,null,null,null,null,null,null,null," ",{"$f":"--ISNUMBER(IFERROR(SEARCH('Vente Jour'!$K$6,S760,1),\"\"))","v":0},{"$f":"IF(T760=1,COUNTIF($T$3:T760,1),\"\")","v":""},{"$f":"IFERROR(INDEX(Cherche1,MATCH(ROWS($U$3:U760),Classement,0)),\"\")","v":""}]
["",null,null,null,null,null,null,null,null,null,null,null,null,null,null,null,null,null," ",{"$f":"--ISNUMBER(IFERROR(SEARCH('Vente Jour'!$K$6,S761,1),\"\"))","v":0},{"$f":"IF(T761=1,COUNTIF($T$3:T761,1),\"\")","v":""},{"$f":"IFERROR(INDEX(Cherche1,MATCH(ROWS($U$3:U761),Classement,0)),\"\")","v":""}]
["",null,null,null,null,null,null,null,null,null,null,null,null,null,null,null,null,null," ",{"$f":"--ISNUMBER(IFERROR(SEARCH('Vente Jour'!$K$6,S762,1),\"\"))","v":0},{"$f":"IF(T762=1,COUNTIF($T$3:T762,1),\"\")","v":""},{"$f":"IFERROR(INDEX(Cherche1,MATCH(ROWS($U$3:U762),Classement,0)),\"\")","v":""}]
["",null,null,null,null,null,null,null,null,null,null,null,null,null,null,null,null,null," ",{"$f":"--ISNUMBER(IFERROR(SEARCH('Vente Jour'!$K$6,S763,1),\"\"))","v":0},{"$f":"IF(T763=1,COUNTIF($T$3:T763,1),\"\")","v":""},{"$f":"IFERROR(INDEX(Cherche1,MATCH(ROWS($U$3:U763),Classement,0)),\"\")","v":""}]
["",null,null,null,null,null,null,null,null,null,null,null,null,null,null,null,null,null," ",{"$f":"--ISNUMBER(IFERROR(SEARCH('Vente Jour'!$K$6,S764,1),\"\"))","v":0},{"$f":"IF(T764=1,COUNTIF($T$3:T764,1),\"\")","v":""},{"$f":"IFERROR(INDEX(Cherche1,MATCH(ROWS($U$3:U764),Classement,0)),\"\")","v":""}]
["",null,null,null,null,null,null,null,null,null,null,null,null,null,null,null,null,null," ",{"$f":"--ISNUMBER(IFERROR(SEARCH('Vente Jour'!$K$6,S765,1),\"\"))","v":0},{"$f":"IF(T765=1,COUNTIF($T$3:T765,1),\"\")","v":""},{"$f":"IFERROR(INDEX(Cherche1,MATCH(ROWS($U$3:U765),Classement,0)),\"\")","v":""}]
["",null,null,null,null,null,null,null,null,null,null,null,null,null,null,null,null,null," ",{"$f":"--ISNUMBER(IFERROR(SEARCH('Vente Jour'!$K$6,S766,1),\"\"))","v":0},{"$f":"IF(T766=1,COUNTIF($T$3:T766,1),\"\")","v":""},{"$f":"IFERROR(INDEX(Cherche1,MATCH(ROWS($U$3:U766),Classement,0)),\"\")","v":""}]
["",null,null,null,null,null,null,null,null,null,null,null,null,null,null,null,null,null," ",{"$f":"--ISNUMBER(IFERROR(SEARCH('Vente Jour'!$K$6,S767,1),\"\"))","v":0},{"$f":"IF(T767=1,COUNTIF($T$3:T767,1),\"\")","v":""},{"$f":"IFERROR(INDEX(Cherche1,MATCH(ROWS($U$3:U767),Classement,0)),\"\")","v":""}]
["",null,null,null,null,null,null,null,null,null,null,null,null,null,null,null,null,null," ",{"$f":"--ISNUMBER(IFERROR(SEARCH('Vente Jour'!$K$6,S768,1),\"\"))","v":0},{"$f":"IF(T768=1,COUNTIF($T$3:T768,1),\"\")","v":""},{"$f":"IFERROR(INDEX(Cherche1,MATCH(ROWS($U$3:U768),Classement,0)),\"\")","v":""}]
["",null,null,null,null,null,null,null,null,null,null,null,null,null,null,null,null,null," ",{"$f":"--ISNUMBER(IFERROR(SEARCH('Vente Jour'!$K$6,S769,1),\"\"))","v":0},{"$f":"IF(T769=1,COUNTIF($T$3:T769,1),\"\")","v":""},{"$f":"IFERROR(INDEX(Cherche1,MATCH(ROWS($U$3:U769),Classement,0)),\"\")","v":""}]
["",null,null,null,null,null,null,null,null,null,null,null,null,null,null,null,null,null," ",{"$f":"--ISNUMBER(IFERROR(SEARCH('Vente Jour'!$K$6,S770,1),\"\"))","v":0},{"$f":"IF(T770=1,COUNTIF($T$3:T770,1),\"\")","v":""},{"$f":"IFERROR(INDEX(Cherche1,MATCH(ROWS($U$3:U770),Classement,0)),\"\")","v":""}]
["",null,null,null,null,null,null,null,null,null,null,null,null,null,null,null,null,null," ",{"$f":"--ISNUMBER(IFERROR(SEARCH('Vente Jour'!$K$6,S771,1),\"\"))","v":0},{"$f":"IF(T771=1,COUNTIF($T$3:T771,1),\"\")","v":""},{"$f":"IFERROR(INDEX(Cherche1,MATCH(ROWS($U$3:U771),Classement,0)),\"\")","v":""}]
["",null,null,null,null,null,null,null,null,null,null,null,null,null,null,null,null,null," ",{"$f":"--ISNUMBER(IFERROR(SEARCH('Vente Jour'!$K$6,S772,1),\"\"))","v":0},{"$f":"IF(T772=1,COUNTIF($T$3:T772,1),\"\")","v":""},{"$f":"IFERROR(INDEX(Cherche1,MATCH(ROWS($U$3:U772),Classement,0)),\"\")","v":""}]
[{"$f":"IF(B773=\"\",\"\",A772+1)","v":""},null,null,null,null,null,null,null,null,null,null,null,null,null,null,null,null,null," ",{"$f":"--ISNUMBER(IFERROR(SEARCH('Vente Jour'!$K$6,S773,1),\"\"))","v":0},{"$f":"IF(T773=1,COUNTIF($T$3:T773,1),\"\")","v":""},{"$f":"IFERROR(INDEX(Cherche1,MATCH(ROWS($U$3:U773),Classement,0)),\"\")","v":""}]
["",null,null,null,null,null,null,null,null,null,null,null,null,null,null,null,null,null," ",{"$f":"--ISNUMBER(IFERROR(SEARCH('Vente Jour'!$K$6,S774,1),\"\"))","v":0},{"$f":"IF(T774=1,COUNTIF($T$3:T774,1),\"\")","v":""},{"$f":"IFERROR(INDEX(Cherche1,MATCH(ROWS($U$3:U774),Classement,0)),\"\")","v":""}]
["",null,null,null,null,null,null,null,null,null,null,null,null,null,null,null,null,null," ",{"$f":"--ISNUMBER(IFERROR(SEARCH('Vente Jour'!$K$6,S775,1),\"\"))","v":0},{"$f":"IF(T775=1,COUNTIF($T$3:T775,1),\"\")","v":""},{"$f":"IFERROR(INDEX(Cherche1,MATCH(ROWS($U$3:U775),Classement,0)),\"\")","v":""}]
["",null,null,null,null,null,null,null,null,null,null,null,null,null,null,null,null,null," ",{"$f":"--ISNUMBER(IFERROR(SEARCH('Vente Jour'!$K$6,S776,1),\"\"))","v":0},{"$f":"IF(T776=1,COUNTIF($T$3:T776,1),\"\")","v":""},{"$f":"IFERROR(INDEX(Cherche1,MATCH(ROWS($U$3:U776),Classement,0)),\"\")","v":""}]
["",null,null,null,null,null,null,null,null,null,null,null,null,null,null,null,null,null," ",{"$f":"--ISNUMBER(IFERROR(SEARCH('Vente Jour'!$K$6,S777,1),\"\"))","v":0},{"$f":"IF(T777=1,COUNTIF($T$3:T777,1),\"\")","v":""},{"$f":"IFERROR(INDEX(Cherche1,MATCH(ROWS($U$3:U777),Classement,0)),\"\")","v":""}]
["",null,null,null,null,null,null,null,null,null,null,null,null,null,null,null,null,null," ",{"$f":"--ISNUMBER(IFERROR(SEARCH('Vente Jour'!$K$6,S778,1),\"\"))","v":0},{"$f":"IF(T778=1,COUNTIF($T$3:T778,1),\"\")","v":""},{"$f":"IFERROR(INDEX(Cherche1,MATCH(ROWS($U$3:U778),Classement,0)),\"\")","v":""}]
["",null,null,null,null,null,null,null,null,null,null,null,null,null,null,null,null,null," ",{"$f":"--ISNUMBER(IFERROR(SEARCH('Vente Jour'!$K$6,S779,1),\"\"))","v":0},{"$f":"IF(T779=1,COUNTIF($T$3:T779,1),\"\")","v":""},{"$f":"IFERROR(INDEX(Cherche1,MATCH(ROWS($U$3:U779),Classement,0)),\"\")","v":""}]
["",null,null,null,null,null,null,null,null,null,null,null,null,null,null,null,null,null," ",{"$f":"--ISNUMBER(IFERROR(SEARCH('Vente Jour'!$K$6,S780,1),\"\"))","v":0},{"$f":"IF(T780=1,COUNTIF($T$3:T780,1),\"\")","v":""},{"$f":"IFERROR(INDEX(Cherche1,MATCH(ROWS($U$3:U780),Classement,0)),\"\")","v":""}]
["",null,null,null,null,null,null,null,null,null,null,null,null,null,null,null,null,null," ",{"$f":"--ISNUMBER(IFERROR(SEARCH('Vente Jour'!$K$6,S781,1),\"\"))","v":0},{"$f":"IF(T781=1,COUNTIF($T$3:T781,1),\"\")","v":""},{"$f":"IFERROR(INDEX(Cherche1,MATCH(ROWS($U$3:U781),Classement,0)),\"\")","v":""}]
["",null,null,null,null,null,null,null,null,null,null,null,null,null,null,null,null,null," ",{"$f":"--ISNUMBER(IFERROR(SEARCH('Vente Jour'!$K$6,S782,1),\"\"))","v":0},{"$f":"IF(T782=1,COUNTIF($T$3:T782,1),\"\")","v":""},{"$f":"IFERROR(INDEX(Cherche1,MATCH(ROWS($U$3:U782),Classement,0)),\"\")","v":""}]
["",null,null,null,null,null,null,null,null,null,null,null,null,null,null,null,null,null,{"$f":"CONCATENATE(B783,\" \",C783)","v":" "},{"$f":"--ISNUMBER(IFERROR(SEARCH('Vente Jour'!$K$6,S783,1),\"\"))","v":0},{"$f":"IF(T783=1,COUNTIF($T$3:T783,1),\"\")","v":""},{"$f":"IFERROR(INDEX(Cherche1,MATCH(ROWS($U$3:U783),Classement,0)),\"\")","v":""}]
["",null,null,null,null,null,null,null,null,null,null,null,null,null,null,null,null,null," ",{"$f":"--ISNUMBER(IFERROR(SEARCH('Vente Jour'!$K$6,S784,1),\"\"))","v":0},{"$f":"IF(T784=1,COUNTIF($T$3:T784,1),\"\")","v":""},{"$f":"IFERROR(INDEX(Cherche1,MATCH(ROWS($U$3:U784),Classement,0)),\"\")","v":""}]
["",null,null,null,null,null,null,null,null,null,null,null,null,null,null,null,null,null," ",{"$f":"--ISNUMBER(IFERROR(SEARCH('Vente Jour'!$K$6,S785,1),\"\"))","v":0},{"$f":"IF(T785=1,COUNTIF($T$3:T785,1),\"\")","v":""},{"$f":"IFERROR(INDEX(Cherche1,MATCH(ROWS($U$3:U785),Classement,0)),\"\")","v":""}]
["",null,null,null,null,null,null,null,null,null,null,null,null,null,null,null,null,null," ",{"$f":"--ISNUMBER(IFERROR(SEARCH('Vente Jour'!$K$6,S786,1),\"\"))","v":0},{"$f":"IF(T786=1,COUNTIF($T$3:T786,1),\"\")","v":""},{"$f":"IFERROR(INDEX(Cherche1,MATCH(ROWS($U$3:U786),Classement,0)),\"\")","v":""}]
["",null,null,null,null,null,null,null,null,null,null,null,null,null,null,null,null,null," ",{"$f":"--ISNUMBER(IFERROR(SEARCH('Vente Jour'!$K$6,S787,1),\"\"))","v":0},{"$f":"IF(T787=1,COUNTIF($T$3:T787,1),\"\")","v":""},{"$f":"IFERROR(INDEX(Cherche1,MATCH(ROWS($U$3:U787),Classement,0)),\"\")","v":""}]
["",null,null,null,null,null,null,null,null,null,null,null,null,null,null,null,null,null," ",{"$f":"--ISNUMBER(IFERROR(SEARCH('Vente Jour'!$K$6,S788,1),\"\"))","v":0},{"$f":"IF(T788=1,COUNTIF($T$3:T788,1),\"\")","v":""},{"$f":"IFERROR(INDEX(Cherche1,MATCH(ROWS($U$3:U788),Classement,0)),\"\")","v":""}]
["",null,null,null,null,null,null,null,null,null,null,null,null,null,null,null,null,null," ",{"$f":"--ISNUMBER(IFERROR(SEARCH('Vente Jour'!$K$6,S789,1),\"\"))","v":0},{"$f":"IF(T789=1,COUNTIF($T$3:T789,1),\"\")","v":""},{"$f":"IFERROR(INDEX(Cherche1,MATCH(ROWS($U$3:U789),Classement,0)),\"\")","v":""}]
["",null,null,null,null,null,null,null,null,null,null,null,null,null,null,null,null,null," ",{"$f":"--ISNUMBER(IFERROR(SEARCH('Vente Jour'!$K$6,S790,1),\"\"))","v":0},{"$f":"IF(T790=1,COUNTIF($T$3:T790,1),\"\")","v":""},{"$f":"IFERROR(INDEX(Cherche1,MATCH(ROWS($U$3:U790),Classement,0)),\"\")","v":""}]
["",null,null,null,null,null,null,null,null,null,null,null,null,null,null,null,null,null," ",{"$f":"--ISNUMBER(IFERROR(SEARCH('Vente Jour'!$K$6,S791,1),\"\"))","v":0},{"$f":"IF(T791=1,COUNTIF($T$3:T791,1),\"\")","v":""},{"$f":"IFERROR(INDEX(Cherche1,MATCH(ROWS($U$3:U791),Classement,0)),\"\")","v":""}]
["",null,null,null,null,null,null,null,null,null,null,null,null,null,null,null,null,null," ",{"$f":"--ISNUMBER(IFERROR(SEARCH('Vente Jour'!$K$6,S792,1),\"\"))","v":0},{"$f":"IF(T792=1,COUNTIF($T$3:T792,1),\"\")","v":""},{"$f":"IFERROR(INDEX(Cherche1,MATCH(ROWS($U$3:U792),Classement,0)),\"\")","v":""}]
["",null,null,null,null,null,null,null,null,null,null,null,null,null,null,null,null,null," ",{"$f":"--ISNUMBER(IFERROR(SEARCH('Vente Jour'!$K$6,S793,1),\"\"))","v":0},{"$f":"IF(T793=1,COUNTIF($T$3:T793,1),\"\")","v":""},{"$f":"IFERROR(INDEX(Cherche1,MATCH(ROWS($U$3:U793),Classement,0)),\"\")","v":""}]
["",null,null,null,null,null,null,null,null,null,null,null,null,null,null,null,null,null," ",{"$f":"--ISNUMBER(IFERROR(SEARCH('Vente Jour'!$K$6,S794,1),\"\"))","v":0},{"$f":"IF(T794=1,COUNTIF($T$3:T794,1),\"\")","v":""},{"$f":"IFERROR(INDEX(Cherche1,MATCH(ROWS($U$3:U794),Classement,0)),\"\")","v":""}]
["",null,null,null,null,null,null,null,null,null,null,null,null,null,null,null,null,null," ",{"$f":"--ISNUMBER(IFERROR(SEARCH('Vente Jour'!$K$6,S795,1),\"\"))","v":0},{"$f":"IF(T795=1,COUNTIF($T$3:T795,1),\"\")","v":""},{"$f":"IFERROR(INDEX(Cherche1,MATCH(ROWS($U$3:U795),Classement,0)),\"\")","v":""}]
["",null,null,null,null,null,null,null,null,null,null,null,null,null,null,null,null,null," ",{"$f":"--ISNUMBER(IFERROR(SEARCH('Vente Jour'!$K$6,S796,1),\"\"))","v":0},{"$f":"IF(T796=1,COUNTIF($T$3:T796,1),\"\")","v":""},{"$f":"IFERROR(INDEX(Cherche1,MATCH(ROWS($U$3:U796),Classement,0)),\"\")","v":""}]
["",null,null,null,null,null,null,null,null,null,null,null,null,null,null,null,null,null," ",{"$f":"--ISNUMBER(IFERROR(SEARCH('Vente Jour'!$K$6,S797,1),\"\"))","v":0},{"$f":"IF(T797=1,COUNTIF($T$3:T797,1),\"\")","v":""},{"$f":"IFERROR(INDEX(Cherche1,MATCH(ROWS($U$3:U797),Classement,0)),\"\")","v":""}]
["",null,null,null,null,null,null,null,null,null,null,null,null,null,null,null,null,null," ",{"$f":"--ISNUMBER(IFERROR(SEARCH('Vente Jour'!$K$6,S798,1),\"\"))","v":0},{"$f":"IF(T798=1,COUNTIF($T$3:T798,1),\"\")","v":""},{"$f":"IFERROR(INDEX(Cherche1,MATCH(ROWS($U$3:U798),Classement,0)),\"\")","v":""}]
["",null,null,null,null,null,null,null,null,null,null,null,null,null,null,null,null,null," ",{"$f":"--ISNUMBER(IFERROR(SEARCH('Vente Jour'!$K$6,S799,1),\"\"))","v":0},{"$f":"IF(T799=1,COUNTIF($T$3:T799,1),\"\")","v":""},{"$f":"IFERROR(INDEX(Cherche1,MATCH(ROWS($U$3:U799),Classement,0)),\"\")","v":""}]
["",null,null,null,null,null,null,null,null,null,null,null,null,null,null,null,null,null," ",{"$f":"--ISNUMBER(IFERROR(SEARCH('Vente Jour'!$K$6,S800,1),\"\"))","v":0},{"$f":"IF(T800=1,COUNTIF($T$3:T800,1),\"\")","v":""},{"$f":"IFERROR(INDEX(Cherche1,MATCH(ROWS($U$3:U800),Classement,0)),\"\")","v":""}]
["",null,null,null,null,null,null,null,null,null,null,null,null,null,null,null,null,null," ",{"$f":"--ISNUMBER(IFERROR(SEARCH('Vente Jour'!$K$6,S801,1),\"\"))","v":0},{"$f":"IF(T801=1,COUNTIF($T$3:T801,1),\"\")","v":""},{"$f":"IFERROR(INDEX(Cherche1,MATCH(ROWS($U$3:U801),Classement,0)),\"\")","v":""}]
["",null,null,null,null,null,null,null,null,null,null,null,null,null,null,null,null,null," ",{"$f":"--ISNUMBER(IFERROR(SEARCH('Vente Jour'!$K$6,S802,1),\"\"))","v":0},{"$f":"IF(T802=1,COUNTIF($T$3:T802,1),\"\")","v":""},{"$f":"IFERROR(INDEX(Cherche1,MATCH(ROWS($U$3:U802),Classement,0)),\"\")","v":""}]
["",null,null,null,null,null,null,null,null,null,null,null,null,null,null,null,null,null," ",{"$f":"--ISNUMBER(IFERROR(SEARCH('Vente Jour'!$K$6,S803,1),\"\"))","v":0},{"$f":"IF(T803=1,COUNTIF($T$3:T803,1),\"\")","v":""},{"$f":"IFERROR(INDEX(Cherche1,MATCH(ROWS($U$3:U803),Classement,0)),\"\")","v":""}]
["",null,null,null,null,null,null,null,null,null,null,null,null,null,null,null,null,null," ",{"$f":"--ISNUMBER(IFERROR(SEARCH('Vente Jour'!$K$6,S804,1),\"\"))","v":0},{"$f":"IF(T804=1,COUNTIF($T$3:T804,1),\"\")","v":""},{"$f":"IFERROR(INDEX(Cherche1,MATCH(ROWS($U$3:U804),Classement,0)),\"\")","v":""}]
["",null,null,null,null,null,null,null,null,null,null,null,null,null,null,null,null,null," ",{"$f":"--ISNUMBER(IFERROR(SEARCH('Vente Jour'!$K$6,S805,1),\"\"))","v":0},{"$f":"IF(T805=1,COUNTIF($T$3:T805,1),\"\")","v":""},{"$f":"IFERROR(INDEX(Cherche1,MATCH(ROWS($U$3:U805),Classement,0)),\"\")","v":""}]
["",null,null,null,null,null,null,null,null,null,null,null,null,null,null,null,null,null," ",{"$f":"--ISNUMBER(IFERROR(SEARCH('Vente Jour'!$K$6,S806,1),\"\"))","v":0},{"$f":"IF(T806=1,COUNTIF($T$3:T806,1),\"\")","v":""},{"$f":"IFERROR(INDEX(Cherche1,MATCH(ROWS($U$3:U806),Classement,0)),\"\")","v":""}]
["",null,null,null,null,null,null,null,null,null,null,null,null,null,null,null,null,null," ",{"$f":"--ISNUMBER(IFERROR(SEARCH('Vente Jour'!$K$6,S807,1),\"\"))","v":0},{"$f":"IF(T807=1,COUNTIF($T$3:T807,1),\"\")","v":""},{"$f":"IFERROR(INDEX(Cherche1,MATCH(ROWS($U$3:U807),Classement,0)),\"\")","v":""}]
["",null,null,null,null,null,null,null,null,null,null,null,null,null,null,null,null,null," ",{"$f":"--ISNUMBER(IFERROR(SEARCH('Vente Jour'!$K$6,S808,1),\"\"))","v":0},{"$f":"IF(T808=1,COUNTIF($T$3:T808,1),\"\")","v":""},{"$f":"IFERROR(INDEX(Cherche1,MATCH(ROWS($U$3:U808),Classement,0)),\"\")","v":""}]
["",null,null,null,null,null,null,null,null,null,null,null,null,null,null,null,null,null," ",{"$f":"--ISNUMBER(IFERROR(SEARCH('Vente Jour'!$K$6,S809,1),\"\"))","v":0},{"$f":"IF(T809=1,COUNTIF($T$3:T809,1),\"\")","v":""},{"$f":"IFERROR(INDEX(Cherche1,MATCH(ROWS($U$3:U809),Classement,0)),\"\")","v":""}]
["",null,null,null,null,null,null,null,null,null,null,null,null,null,null,null,null,null," ",{"$f":"--ISNUMBER(IFERROR(SEARCH('Vente Jour'!$K$6,S810,1),\"\"))","v":0},{"$f":"IF(T810=1,COUNTIF($T$3:T810,1),\"\")","v":""},{"$f":"IFERROR(INDEX(Cherche1,MATCH(ROWS($U$3:U810),Classement,0)),\"\")","v":""}]
["",null,null,null,null,null,null,null,null,null,null,null,null,null,null,null,null,null," ",{"$f":"--ISNUMBER(IFERROR(SEARCH('Vente Jour'!$K$6,S811,1),\"\"))","v":0},{"$f":"IF(T811=1,COUNTIF($T$3:T811,1),\"\")","v":""},{"$f":"IFERROR(INDEX(Cherche1,MATCH(ROWS($U$3:U811),Classement,0)),\"\")","v":""}]
["",null,null,null,null,null,null,null,null,null,null,null,null,null,null,null,null,null," ",{"$f":"--ISNUMBER(IFERROR(SEARCH('Vente Jour'!$K$6,S812,1),\"\"))","v":0},{"$f":"IF(T812=1,COUNTIF($T$3:T812,1),\"\")","v":""},{"$f":"IFERROR(INDEX(Cherche1,MATCH(ROWS($U$3:U812),Classement,0)),\"\")","v":""}]
["",null,null,null,null,null,null,null,null,null,null,null,null,null,null,null,null,null," ",{"$f":"--ISNUMBER(IFERROR(SEARCH('Vente Jour'!$K$6,S813,1),\"\"))","v":0},{"$f":"IF(T813=1,COUNTIF($T$3:T813,1),\"\")","v":""},{"$f":"IFERROR(INDEX(Cherche1,MATCH(ROWS($U$3:U813),Classement,0)),\"\")","v":""}]
["",null,null,null,null,null,null,null,null,null,null,null,null,null,null,null,null,null," ",{"$f":"--ISNUMBER(IFERROR(SEARCH('Vente Jour'!$K$6,S814,1),\"\"))","v":0},{"$f":"IF(T814=1,COUNTIF($T$3:T814,1),\"\")","v":""},{"$f":"IFERROR(INDEX(Cherche1,MATCH(ROWS($U$3:U814),Classement,0)),\"\")","v":""}]
["",null,null,null,null,null,null,null,null,null,null,null,null,null,null,null,null,null," ",{"$f":"--ISNUMBER(IFERROR(SEARCH('Vente Jour'!$K$6,S815,1),\"\"))","v":0},{"$f":"IF(T815=1,COUNTIF($T$3:T815,1),\"\")","v":""},{"$f":"IFERROR(INDEX(Cherche1,MATCH(ROWS($U$3:U815),Classement,0)),\"\")","v":""}]
["",null,null,null,null,null,null,null,null,null,null,null,null,null,null,null,null,null," ",{"$f":"--ISNUMBER(IFERROR(SEARCH('Vente Jour'!$K$6,S816,1),\"\"))","v":0},{"$f":"IF(T816=1,COUNTIF($T$3:T816,1),\"\")","v":""},{"$f":"IFERROR(INDEX(Cherche1,MATCH(ROWS($U$3:U816),Classement,0)),\"\")","v":""}]
["",null,null,null,null,null,null,null,null,null,null,null,null,null,null,null,null,null," ",{"$f":"--ISNUMBER(IFERROR(SEARCH('Vente Jour'!$K$6,S817,1),\"\"))","v":0},{"$f":"IF(T817=1,COUNTIF($T$3:T817,1),\"\")","v":""},{"$f":"IFERROR(INDEX(Cherche1,MATCH(ROWS($U$3:U817),Classement,0)),\"\")","v":""}]
["",null,null,null,null,null,null,null,null,null,null,null,null,null,null,null,null,null," ",{"$f":"--ISNUMBER(IFERROR(SEARCH('Vente Jour'!$K$6,S818,1),\"\"))","v":0},{"$f":"IF(T818=1,COUNTIF($T$3:T818,1),\"\")","v":""},{"$f":"IFERROR(INDEX(Cherche1,MATCH(ROWS($U$3:U818),Classement,0)),\"\")","v":""}]
["",null,null,null,null,null,null,null,null,null,null,null,null,null,null,null,null,null," ",{"$f":"--ISNUMBER(IFERROR(SEARCH('Vente Jour'!$K$6,S819,1),\"\"))","v":0},{"$f":"IF(T819=1,COUNTIF($T$3:T819,1),\"\")","v":""},{"$f":"IFERROR(INDEX(Cherche1,MATCH(ROWS($U$3:U819),Classement,0)),\"\")","v":""}]
["",null,null,null,null,null,null,null,null,null,null,null,null,null,null,null,null,null," ",{"$f":"--ISNUMBER(IFERROR(SEARCH('Vente Jour'!$K$6,S820,1),\"\"))","v":0},{"$f":"IF(T820=1,COUNTIF($T$3:T820,1),\"\")","v":""},{"$f":"IFERROR(INDEX(Cherche1,MATCH(ROWS($U$3:U820),Classement,0)),\"\")","v":""}]
["",null,null,null,null,null,null,null,null,null,null,null,null,null,null,null,null,null," ",{"$f":"--ISNUMBER(IFERROR(SEARCH('Vente Jour'!$K$6,S821,1),\"\"))","v":0},{"$f":"IF(T821=1,COUNTIF($T$3:T821,1),\"\")","v":""},{"$f":"IFERROR(INDEX(Cherche1,MATCH(ROWS($U$3:U821),Classement,0)),\"\")","v":""}]
["",null,null,null,null,null,null,null,null,null,null,null,null,null,null,null,null,null," ",{"$f":"--ISNUMBER(IFERROR(SEARCH('Vente Jour'!$K$6,S822,1),\"\"))","v":0},{"$f":"IF(T822=1,COUNTIF($T$3:T822,1),\"\")","v":""},{"$f":"IFERROR(INDEX(Cherche1,MATCH(ROWS($U$3:U822),Classement,0)),\"\")","v":""}]
["",null,null,null,null,null,null,null,null,null,null,null,null,null,null,null,null,null," ",{"$f":"--ISNUMBER(IFERROR(SEARCH('Vente Jour'!$K$6,S823,1),\"\"))","v":0},{"$f":"IF(T823=1,COUNTIF($T$3:T823,1),\"\")","v":""},{"$f":"IFERROR(INDEX(Cherche1,MATCH(ROWS($U$3:U823),Classement,0)),\"\")","v":""}]
["",null,null,null,null,null,null,null,null,null,null,null,null,null,null,null,null,null," ",{"$f":"--ISNUMBER(IFERROR(SEARCH('Vente Jour'!$K$6,S824,1),\"\"))","v":0},{"$f":"IF(T824=1,COUNTIF($T$3:T824,1),\"\")","v":""},{"$f":"IFERROR(INDEX(Cherche1,MATCH(ROWS($U$3:U824),Classement,0)),\"\")","v":""}]
["",null,null,null,null,null,null,null,null,null,null,null,null,null,null,null,null,null," ",{"$f":"--ISNUMBER(IFERROR(SEARCH('Vente Jour'!$K$6,S825,1),\"\"))","v":0},{"$f":"IF(T825=1,COUNTIF($T$3:T825,1),\"\")","v":""},{"$f":"IFERROR(INDEX(Cherche1,MATCH(ROWS($U$3:U825),Classement,0)),\"\")","v":""}]
["",null,null,null,null,null,null,null,null,null,null,null,null,null,null,null,null,null," ",{"$f":"--ISNUMBER(IFERROR(SEARCH('Vente Jour'!$K$6,S826,1),\"\"))","v":0},{"$f":"IF(T826=1,COUNTIF($T$3:T826,1),\"\")","v":""},{"$f":"IFERROR(INDEX(Cherche1,MATCH(ROWS($U$3:U826),Classement,0)),\"\")","v":""}]
["",null,null,null,null,null,null,null,null,null,null,null,null,null,null,null,null,null," ",{"$f":"--ISNUMBER(IFERROR(SEARCH('Vente Jour'!$K$6,S827,1),\"\"))","v":0},{"$f":"IF(T827=1,COUNTIF($T$3:T827,1),\"\")","v":""},{"$f":"IFERROR(INDEX(Cherche1,MATCH(ROWS($U$3:U827),Classement,0)),\"\")","v":""}]
["",null,null,null,null,null,null,null,null,null,null,null,null,null,null,null,null,null," ",{"$f":"--ISNUMBER(IFERROR(SEARCH('Vente Jour'!$K$6,S828,1),\"\"))","v":0},{"$f":"IF(T828=1,COUNTIF($T$3:T828,1),\"\")","v":""},{"$f":"IFERROR(INDEX(Cherche1,MATCH(ROWS($U$3:U828),Classement,0)),\"\")","v":""}]
["",null,null,null,null,null,null,null,null,null,null,null,null,null,null,null,null,null," ",{"$f":"--ISNUMBER(IFERROR(SEARCH('Vente Jour'!$K$6,S829,1),\"\"))","v":0},{"$f":"IF(T829=1,COUNTIF($T$3:T829,1),\"\")","v":""},{"$f":"IFERROR(INDEX(Cherche1,MATCH(ROWS($U$3:U829),Classement,0)),\"\")","v":""}]
["",null,null,null,null,null,null,null,null,null,null,null,null,null,null,null,null,null," ",{"$f":"--ISNUMBER(IFERROR(SEARCH('Vente Jour'!$K$6,S830,1),\"\"))","v":0},{"$f":"IF(T830=1,COUNTIF($T$3:T830,1),\"\")","v":""},{"$f":"IFERROR(INDEX(Cherche1,MATCH(ROWS($U$3:U830),Classement,0)),\"\")","v":""}]
["",null,null,null,null,null,null,null,null,null,null,null,null,null,null,null,null,null," ",{"$f":"--ISNUMBER(IFERROR(SEARCH('Vente Jour'!$K$6,S831,1),\"\"))","v":0},{"$f":"IF(T831=1,COUNTIF($T$3:T831,1),\"\")","v":""},{"$f":"IFERROR(INDEX(Cherche1,MATCH(ROWS($U$3:U831),Classement,0)),\"\")","v":""}]
["",null,null,null,null,null,null,null,null,null,null,null,null,null,null,null,null,null," ",{"$f":"--ISNUMBER(IFERROR(SEARCH('Vente Jour'!$K$6,S832,1),\"\"))","v":0},{"$f":"IF(T832=1,COUNTIF($T$3:T832,1),\"\")","v":""},{"$f":"IFERROR(INDEX(Cherche1,MATCH(ROWS($U$3:U832),Classement,0)),\"\")","v":""}]
["",null,null,null,null,null,null,null,null,null,null,null,null,null,null,null,null,null," ",{"$f":"--ISNUMBER(IFERROR(SEARCH('Vente Jour'!$K$6,S833,1),\"\"))","v":0},{"$f":"IF(T833=1,COUNTIF($T$3:T833,1),\"\")","v":""},{"$f":"IFERROR(INDEX(Cherche1,MATCH(ROWS($U$3:U833),Classement,0)),\"\")","v":""}]
["",null,null,null,null,null,null,null,null,null,null,null,null,null,null,null,null,null," ",{"$f":"--ISNUMBER(IFERROR(SEARCH('Vente Jour'!$K$6,S834,1),\"\"))","v":0},{"$f":"IF(T834=1,COUNTIF($T$3:T834,1),\"\")","v":""},{"$f":"IFERROR(INDEX(Cherche1,MATCH(ROWS($U$3:U834),Classement,0)),\"\")","v":""}]
["",null,null,null,null,null,null,null,null,null,null,null,null,null,null,null,null,null," ",{"$f":"--ISNUMBER(IFERROR(SEARCH('Vente Jour'!$K$6,S835,1),\"\"))","v":0},{"$f":"IF(T835=1,COUNTIF($T$3:T835,1),\"\")","v":""},{"$f":"IFERROR(INDEX(Cherche1,MATCH(ROWS($U$3:U835),Classement,0)),\"\")","v":""}]
["",null,null,null,null,null,null,null,null,null,null,null,null,null,null,null,null,null," ",{"$f":"--ISNUMBER(IFERROR(SEARCH('Vente Jour'!$K$6,S836,1),\"\"))","v":0},{"$f":"IF(T836=1,COUNTIF($T$3:T836,1),\"\")","v":""},{"$f":"IFERROR(INDEX(Cherche1,MATCH(ROWS($U$3:U836),Classement,0)),\"\")","v":""}]
[{"$f":"IF(B837=\"\",\"\",A836+1)","v":""},null,null,null,null,null,null,null,null,null,null,null,null,null,null,null,null,null," ",{"$f":"--ISNUMBER(IFERROR(SEARCH('Vente Jour'!$K$6,S837,1),\"\"))","v":0},{"$f":"IF(T837=1,COUNTIF($T$3:T837,1),\"\")","v":""},{"$f":"IFERROR(INDEX(Cherche1,MATCH(ROWS($U$3:U837),Classement,0)),\"\")","v":""}]
["",null,null,null,null,null,null,null,null,null,null,null,null,null,null,null,null,null," ",{"$f":"--ISNUMBER(IFERROR(SEARCH('Vente Jour'!$K$6,S838,1),\"\"))","v":0},{"$f":"IF(T838=1,COUNTIF($T$3:T838,1),\"\")","v":""},{"$f":"IFERROR(INDEX(Cherche1,MATCH(ROWS($U$3:U838),Classement,0)),\"\")","v":""}]
["",null,null,null,null,null,null,null,null,null,null,null,null,null,null,null,null,null," ",{"$f":"--ISNUMBER(IFERROR(SEARCH('Vente Jour'!$K$6,S839,1),\"\"))","v":0},{"$f":"IF(T839=1,COUNTIF($T$3:T839,1),\"\")","v":""},{"$f":"IFERROR(INDEX(Cherche1,MATCH(ROWS($U$3:U839),Classement,0)),\"\")","v":""}]
["",null,null,null,null,null,null,null,null,null,null,null,null,null,null,null,null,null," ",{"$f":"--ISNUMBER(IFERROR(SEARCH('Vente Jour'!$K$6,S840,1),\"\"))","v":0},{"$f":"IF(T840=1,COUNTIF($T$3:T840,1),\"\")","v":""},{"$f":"IFERROR(INDEX(Cherche1,MATCH(ROWS($U$3:U840),Classement,0)),\"\")","v":""}]
["",null,null,null,null,null,null,null,null,null,null,null,null,null,null,null,null,null," ",{"$f":"--ISNUMBER(IFERROR(SEARCH('Vente Jour'!$K$6,S841,1),\"\"))","v":0},{"$f":"IF(T841=1,COUNTIF($T$3:T841,1),\"\")","v":""},{"$f":"IFERROR(INDEX(Cherche1,MATCH(ROWS($U$3:U841),Classement,0)),\"\")","v":""}]
["",null,null,null,null,null,null,null,null,null,null,null,null,null,null,null,null,null," ",{"$f":"--ISNUMBER(IFERROR(SEARCH('Vente Jour'!$K$6,S842,1),\"\"))","v":0},{"$f":"IF(T842=1,COUNTIF($T$3:T842,1),\"\")","v":""},{"$f":"IFERROR(INDEX(Cherche1,MATCH(ROWS($U$3:U842),Classement,0)),\"\")","v":""}]
["",null,null,null,null,null,null,null,null,null,null,null,null,null,null,null,null,null," ",{"$f":"--ISNUMBER(IFERROR(SEARCH('Vente Jour'!$K$6,S843,1),\"\"))","v":0},{"$f":"IF(T843=1,COUNTIF($T$3:T843,1),\"\")","v":""},{"$f":"IFERROR(INDEX(Cherche1,MATCH(ROWS($U$3:U843),Classement,0)),\"\")","v":""}]
["",null,null,null,null,null,null,null,null,null,null,null,null,null,null,null,null,null," ",{"$f":"--ISNUMBER(IFERROR(SEARCH('Vente Jour'!$K$6,S844,1),\"\"))","v":0},{"$f":"IF(T844=1,COUNTIF($T$3:T844,1),\"\")","v":""},{"$f":"IFERROR(INDEX(Cherche1,MATCH(ROWS($U$3:U844),Classement,0)),\"\")","v":""}]
["",null,null,null,null,null,null,null,null,null,null,null,null,null,null,null,null,null," ",{"$f":"--ISNUMBER(IFERROR(SEARCH('Vente Jour'!$K$6,S845,1),\"\"))","v":0},{"$f":"IF(T845=1,COUNTIF($T$3:T845,1),\"\")","v":""},{"$f":"IFERROR(INDEX(Cherche1,MATCH(ROWS($U$3:U845),Classement,0)),\"\")","v":""}]
["",null,null,null,null,null,null,null,null,null,null,null,null,null,null,null,null,null," ",{"$f":"--ISNUMBER(IFERROR(SEARCH('Vente Jour'!$K$6,S846,1),\"\"))","v":0},{"$f":"IF(T846=1,COUNTIF($T$3:T846,1),\"\")","v":""},{"$f":"IFERROR(INDEX(Cherche1,MATCH(ROWS($U$3:U846),Classement,0)),\"\")","v":""}]
["",null,null,null,null,null,null,null,null,null,null,null,null,null,null,null,null,null,{"$f":"CONCATENATE(B847,\" \",C847)","v":" "},{"$f":"--ISNUMBER(IFERROR(SEARCH('Vente Jour'!$K$6,S847,1),\"\"))","v":0},{"$f":"IF(T847=1,COUNTIF($T$3:T847,1),\"\")","v":""},{"$f":"IFERROR(INDEX(Cherche1,MATCH(ROWS($U$3:U847),Classement,0)),\"\")","v":""}]
["",null,null,null,null,null,null,null,null,null,null,null,null,null,null,null,null,null," ",{"$f":"--ISNUMBER(IFERROR(SEARCH('Vente Jour'!$K$6,S848,1),\"\"))","v":0},{"$f":"IF(T848=1,COUNTIF($T$3:T848,1),\"\")","v":""},{"$f":"IFERROR(INDEX(Cherche1,MATCH(ROWS($U$3:U848),Classement,0)),\"\")","v":""}]
["",null,null,null,null,null,null,null,null,null,null,null,null,null,null,null,null,null," ",{"$f":"--ISNUMBER(IFERROR(SEARCH('Vente Jour'!$K$6,S849,1),\"\"))","v":0},{"$f":"IF(T849=1,COUNTIF($T$3:T849,1),\"\")","v":""},{"$f":"IFERROR(INDEX(Cherche1,MATCH(ROWS($U$3:U849),Classement,0)),\"\")","v":""}]
["",null,null,null,null,null,null,null,null,null,null,null,null,null,null,null,null,null," ",{"$f":"--ISNUMBER(IFERROR(SEARCH('Vente Jour'!$K$6,S850,1),\"\"))","v":0},{"$f":"IF(T850=1,COUNTIF($T$3:T850,1),\"\")","v":""},{"$f":"IFERROR(INDEX(Cherche1,MATCH(ROWS($U$3:U850),Classement,0)),\"\")","v":""}]
["",null,null,null,null,null,null,null,null,null,null,null,null,null,null,null,null,null," ",{"$f":"--ISNUMBER(IFERROR(SEARCH('Vente Jour'!$K$6,S851,1),\"\"))","v":0},{"$f":"IF(T851=1,COUNTIF($T$3:T851,1),\"\")","v":""},{"$f":"IFERROR(INDEX(Cherche1,MATCH(ROWS($U$3:U851),Classement,0)),\"\")","v":""}]
["",null,null,null,null,null,null,null,null,null,null,null,null,null,null,null,null,null," ",{"$f":"--ISNUMBER(IFERROR(SEARCH('Vente Jour'!$K$6,S852,1),\"\"))","v":0},{"$f":"IF(T852=1,COUNTIF($T$3:T852,1),\"\")","v":""},{"$f":"IFERROR(INDEX(Cherche1,MATCH(ROWS($U$3:U852),Classement,0)),\"\")","v":""}]
["",null,null,null,null,null,null,null,null,null,null,null,null,null,null,null,null,null," ",{"$f":"--ISNUMBER(IFERROR(SEARCH('Vente Jour'!$K$6,S853,1),\"\"))","v":0},{"$f":"IF(T853=1,COUNTIF($T$3:T853,1),\"\")","v":""},{"$f":"IFERROR(INDEX(Cherche1,MATCH(ROWS($U$3:U853),Classement,0)),\"\")","v":""}]
["",null,null,null,null,null,null,null,null,null,null,null,null,null,null,null,null,null," ",{"$f":"--ISNUMBER(IFERROR(SEARCH('Vente Jour'!$K$6,S854,1),\"\"))","v":0},{"$f":"IF(T854=1,COUNTIF($T$3:T854,1),\"\")","v":""},{"$f":"IFERROR(INDEX(Cherche1,MATCH(ROWS($U$3:U854),Classement,0)),\"\")","v":""}]
["",null,null,null,null,null,null,null,null,null,null,null,null,null,null,null,null,null," ",{"$f":"--ISNUMBER(IFERROR(SEARCH('Vente Jour'!$K$6,S855,1),\"\"))","v":0},{"$f":"IF(T855=1,COUNTIF($T$3:T855,1),\"\")","v":""},{"$f":"IFERROR(INDEX(Cherche1,MATCH(ROWS($U$3:U855),Classement,0)),\"\")","v":""}]
["",null,null,null,null,null,null,null,null,null,null,null,null,null,null,null,null,null," ",{"$f":"--ISNUMBER(IFERROR(SEARCH('Vente Jour'!$K$6,S856,1),\"\"))","v":0},{"$f":"IF(T856=1,COUNTIF($T$3:T856,1),\"\")","v":""},{"$f":"IFERROR(INDEX(Cherche1,MATCH(ROWS($U$3:U856),Classement,0)),\"\")","v":""}]
["",null,null,null,null,null,null,null,null,null,null,null,null,null,null,null,null,null," ",{"$f":"--ISNUMBER(IFERROR(SEARCH('Vente Jour'!$K$6,S857,1),\"\"))","v":0},{"$f":"IF(T857=1,COUNTIF($T$3:T857,1),\"\")","v":""},{"$f":"IFERROR(INDEX(Cherche1,MATCH(ROWS($U$3:U857),Classement,0)),\"\")","v":""}]
["",null,null,null,null,null,null,null,null,null,null,null,null,null,null,null,null,null," ",{"$f":"--ISNUMBER(IFERROR(SEARCH('Vente Jour'!$K$6,S858,1),\"\"))","v":0},{"$f":"IF(T858=1,COUNTIF($T$3:T858,1),\"\")","v":""},{"$f":"IFERROR(INDEX(Cherche1,MATCH(ROWS($U$3:U858),Classement,0)),\"\")","v":""}]
["",null,null,null,null,null,null,null,null,null,null,null,null,null,null,null,null,null," ",{"$f":"--ISNUMBER(IFERROR(SEARCH('Vente Jour'!$K$6,S859,1),\"\"))","v":0},{"$f":"IF(T859=1,COUNTIF($T$3:T859,1),\"\")","v":""},{"$f":"IFERROR(INDEX(Cherche1,MATCH(ROWS($U$3:U859),Classement,0)),\"\")","v":""}]
["",null,null,null,null,null,null,null,null,null,null,null,null,null,null,null,null,null," ",{"$f":"--ISNUMBER(IFERROR(SEARCH('Vente Jour'!$K$6,S860,1),\"\"))","v":0},{"$f":"IF(T860=1,COUNTIF($T$3:T860,1),\"\")","v":""},{"$f":"IFERROR(INDEX(Cherche1,MATCH(ROWS($U$3:U860),Classement,0)),\"\")","v":""}]
["",null,null,null,null,null,null,null,null,null,null,null,null,null,null,null,null,null," ",{"$f":"--ISNUMBER(IFERROR(SEARCH('Vente Jour'!$K$6,S861,1),\"\"))","v":0},{"$f":"IF(T861=1,COUNTIF($T$3:T861,1),\"\")","v":""},{"$f":"IFERROR(INDEX(Cherche1,MATCH(ROWS($U$3:U861),Classement,0)),\"\")","v":""}]
["",null,null,null,null,null,null,null,null,null,null,null,null,null,null,null,null,null," ",{"$f":"--ISNUMBER(IFERROR(SEARCH('Vente Jour'!$K$6,S862,1),\"\"))","v":0},{"$f":"IF(T862=1,COUNTIF($T$3:T862,1),\"\")","v":""},{"$f":"IFERROR(INDEX(Cherche1,MATCH(ROWS($U$3:U862),Classement,0)),\"\")","v":""}]
["",null,null,null,null,null,null,null,null,null,null,null,null,null,null,null,null,null," ",{"$f":"--ISNUMBER(IFERROR(SEARCH('Vente Jour'!$K$6,S863,1),\"\"))","v":0},{"$f":"IF(T863=1,COUNTIF($T$3:T863,1),\"\")","v":""},{"$f":"IFERROR(INDEX(Cherche1,MATCH(ROWS($U$3:U863),Classement,0)),\"\")","v":""}]
["",null,null,null,null,null,null,null,null,null,null,null,null,null,null,null,null,null," ",{"$f":"--ISNUMBER(IFERROR(SEARCH('Vente Jour'!$K$6,S864,1),\"\"))","v":0},{"$f":"IF(T864=1,COUNTIF($T$3:T864,1),\"\")","v":""},{"$f":"IFERROR(INDEX(Cherche1,MATCH(ROWS($U$3:U864),Classement,0)),\"\")","v":""}]
["",null,null,null,null,null,null,null,null,null,null,null,null,null,null,null,null,null," ",{"$f":"--ISNUMBER(IFERROR(SEARCH('Vente Jour'!$K$6,S865,1),\"\"))","v":0},{"$f":"IF(T865=1,COUNTIF($T$3:T865,1),\"\")","v":""},{"$f":"IFERROR(INDEX(Cherche1,MATCH(ROWS($U$3:U865),Classement,0)),\"\")","v":""}]
["",null,null,null,null,null,null,null,null,null,null,null,null,null,null,null,null,null," ",{"$f":"--ISNUMBER(IFERROR(SEARCH('Vente Jour'!$K$6,S866,1),\"\"))","v":0},{"$f":"IF(T866=1,COUNTIF($T$3:T866,1),\"\")","v":""},{"$f":"IFERROR(INDEX(Cherche1,MATCH(ROWS($U$3:U866),Classement,0)),\"\")","v":""}]
["",null,null,null,null,null,null,null,null,null,null,null,null,null,null,null,null,null," ",{"$f":"--ISNUMBER(IFERROR(SEARCH('Vente Jour'!$K$6,S867,1),\"\"))","v":0},{"$f":"IF(T867=1,COUNTIF($T$3:T867,1),\"\")","v":""},{"$f":"IFERROR(INDEX(Cherche1,MATCH(ROWS($U$3:U867),Classement,0)),\"\")","v":""}]
["",null,null,null,null,null,null,null,null,null,null,null,null,null,null,null,null,null," ",{"$f":"--ISNUMBER(IFERROR(SEARCH('Vente Jour'!$K$6,S868,1),\"\"))","v":0},{"$f":"IF(T868=1,COUNTIF($T$3:T868,1),\"\")","v":""},{"$f":"IFERROR(INDEX(Cherche1,MATCH(ROWS($U$3:U868),Classement,0)),\"\")","v":""}]
["",null,null,null,null,null,null,null,null,null,null,null,null,null,null,null,null,null," ",{"$f":"--ISNUMBER(IFERROR(SEARCH('Vente Jour'!$K$6,S869,1),\"\"))","v":0},{"$f":"IF(T869=1,COUNTIF($T$3:T869,1),\"\")","v":""},{"$f":"IFERROR(INDEX(Cherche1,MATCH(ROWS($U$3:U869),Classement,0)),\"\")","v":""}]
["",null,null,null,null,null,null,null,null,null,null,null,null,null,null,null,null,null," ",{"$f":"--ISNUMBER(IFERROR(SEARCH('Vente Jour'!$K$6,S870,1),\"\"))","v":0},{"$f":"IF(T870=1,COUNTIF($T$3:T870,1),\"\")","v":""},{"$f":"IFERROR(INDEX(Cherche1,MATCH(ROWS($U$3:U870),Classement,0)),\"\")","v":""}]
["",null,null,null,null,null,null,null,null,null,null,null,null,null,null,null,null,null," ",{"$f":"--ISNUMBER(IFERROR(SEARCH('Vente Jour'!$K$6,S871,1),\"\"))","v":0},{"$f":"IF(T871=1,COUNTIF($T$3:T871,1),\"\")","v":""},{"$f":"IFERROR(INDEX(Cherche1,MATCH(ROWS($U$3:U871),Classement,0)),\"\")","v":""}]
["",null,null,null,null,null,null,null,null,null,null,null,null,null,null,null,null,null," ",{"$f":"--ISNUMBER(IFERROR(SEARCH('Vente Jour'!$K$6,S872,1),\"\"))","v":0},{"$f":"IF(T872=1,COUNTIF($T$3:T872,1),\"\")","v":""},{"$f":"IFERROR(INDEX(Cherche1,MATCH(ROWS($U$3:U872),Classement,0)),\"\")","v":""}]
["",null,null,null,null,null,null,null,null,null,null,null,null,null,null,null,null,null," ",{"$f":"--ISNUMBER(IFERROR(SEARCH('Vente Jour'!$K$6,S873,1),\"\"))","v":0},{"$f":"IF(T873=1,COUNTIF($T$3:T873,1),\"\")","v":""},{"$f":"IFERROR(INDEX(Cherche1,MATCH(ROWS($U$3:U873),Classement,0)),\"\")","v":""}]
["",null,null,null,null,null,null,null,null,null,null,null,null,null,null,null,null,null," ",{"$f":"--ISNUMBER(IFERROR(SEARCH('Vente Jour'!$K$6,S874,1),\"\"))","v":0},{"$f":"IF(T874=1,COUNTIF($T$3:T874,1),\"\")","v":""},{"$f":"IFERROR(INDEX(Cherche1,MATCH(ROWS($U$3:U874),Classement,0)),\"\")","v":""}]
["",null,null,null,null,null,null,null,null,null,null,null,null,null,null,null,null,null," ",{"$f":"--ISNUMBER(IFERROR(SEARCH('Vente Jour'!$K$6,S875,1),\"\"))","v":0},{"$f":"IF(T875=1,COUNTIF($T$3:T875,1),\"\")","v":""},{"$f":"IFERROR(INDEX(Cherche1,MATCH(ROWS($U$3:U875),Classement,0)),\"\")","v":""}]
["",null,null,null,null,null,null,null,null,null,null,null,null,null,null,null,null,null," ",{"$f":"--ISNUMBER(IFERROR(SEARCH('Vente Jour'!$K$6,S876,1),\"\"))","v":0},{"$f":"IF(T876=1,COUNTIF($T$3:T876,1),\"\")","v":""},{"$f":"IFERROR(INDEX(Cherche1,MATCH(ROWS($U$3:U876),Classement,0)),\"\")","v":""}]
["",null,null,null,null,null,null,null,null,null,null,null,null,null,null,null,null,null," ",{"$f":"--ISNUMBER(IFERROR(SEARCH('Vente Jour'!$K$6,S877,1),\"\"))","v":0},{"$f":"IF(T877=1,COUNTIF($T$3:T877,1),\"\")","v":""},{"$f":"IFERROR(INDEX(Cherche1,MATCH(ROWS($U$3:U877),Classement,0)),\"\")","v":""}]
["",null,null,null,null,null,null,null,null,null,null,null,null,null,null,null,null,null," ",{"$f":"--ISNUMBER(IFERROR(SEARCH('Vente Jour'!$K$6,S878,1),\"\"))","v":0},{"$f":"IF(T878=1,COUNTIF($T$3:T878,1),\"\")","v":""},{"$f":"IFERROR(INDEX(Cherche1,MATCH(ROWS($U$3:U878),Classement,0)),\"\")","v":""}]
["",null,null,null,null,null,null,null,null,null,null,null,null,null,null,null,null,null," ",{"$f":"--ISNUMBER(IFERROR(SEARCH('Vente Jour'!$K$6,S879,1),\"\"))","v":0},{"$f":"IF(T879=1,COUNTIF($T$3:T879,1),\"\")","v":""},{"$f":"IFERROR(INDEX(Cherche1,MATCH(ROWS($U$3:U879),Classement,0)),\"\")","v":""}]
["",null,null,null,null,null,null,null,null,null,null,null,null,null,null,null,null,null," ",{"$f":"--ISNUMBER(IFERROR(SEARCH('Vente Jour'!$K$6,S880,1),\"\"))","v":0},{"$f":"IF(T880=1,COUNTIF($T$3:T880,1),\"\")","v":""},{"$f":"IFERROR(INDEX(Cherche1,MATCH(ROWS($U$3:U880),Classement,0)),\"\")","v":""}]
["",null,null,null,null,null,null,null,null,null,null,null,null,null,null,null,null,null," ",{"$f":"--ISNUMBER(IFERROR(SEARCH('Vente Jour'!$K$6,S881,1),\"\"))","v":0},{"$f":"IF(T881=1,COUNTIF($T$3:T881,1),\"\")","v":""},{"$f":"IFERROR(INDEX(Cherche1,MATCH(ROWS($U$3:U881),Classement,0)),\"\")","v":""}]
["",null,null,null,null,null,null,null,null,null,null,null,null,null,null,null,null,null," ",{"$f":"--ISNUMBER(IFERROR(SEARCH('Vente Jour'!$K$6,S882,1),\"\"))","v":0},{"$f":"IF(T882=1,COUNTIF($T$3:T882,1),\"\")","v":""},{"$f":"IFERROR(INDEX(Cherche1,MATCH(ROWS($U$3:U882),Classement,0)),\"\")","v":""}]
["",null,null,null,null,null,null,null,null,null,null,null,null,null,null,null,null,null," ",{"$f":"--ISNUMBER(IFERROR(SEARCH('Vente Jour'!$K$6,S883,1),\"\"))","v":0},{"$f":"IF(T883=1,COUNTIF($T$3:T883,1),\"\")","v":""},{"$f":"IFERROR(INDEX(Cherche1,MATCH(ROWS($U$3:U883),Classement,0)),\"\")","v":""}]
["",null,null,null,null,null,null,null,null,null,null,null,null,null,null,null,null,null," ",{"$f":"--ISNUMBER(IFERROR(SEARCH('Vente Jour'!$K$6,S884,1),\"\"))","v":0},{"$f":"IF(T884=1,COUNTIF($T$3:T884,1),\"\")","v":""},{"$f":"IFERROR(INDEX(Cherche1,MATCH(ROWS($U$3:U884),Classement,0)),\"\")","v":""}]
["",null,null,null,null,null,null,null,null,null,null,null,null,null,null,null,null,null," ",{"$f":"--ISNUMBER(IFERROR(SEARCH('Vente Jour'!$K$6,S885,1),\"\"))","v":0},{"$f":"IF(T885=1,COUNTIF($T$3:T885,1),\"\")","v":""},{"$f":"IFERROR(INDEX(Cherche1,MATCH(ROWS($U$3:U885),Classement,0)),\"\")","v":""}]
["",null,null,null,null,null,null,null,null,null,null,null,null,null,null,null,null,null," ",{"$f":"--ISNUMBER(IFERROR(SEARCH('Vente Jour'!$K$6,S886,1),\"\"))","v":0},{"$f":"IF(T886=1,COUNTIF($T$3:T886,1),\"\")","v":""},{"$f":"IFERROR(INDEX(Cherche1,MATCH(ROWS($U$3:U886),Classement,0)),\"\")","v":""}]
["",null,null,null,null,null,null,null,null,null,null,null,null,null,null,null,null,null," ",{"$f":"--ISNUMBER(IFERROR(SEARCH('Vente Jour'!$K$6,S887,1),\"\"))","v":0},{"$f":"IF(T887=1,COUNTIF($T$3:T887,1),\"\")","v":""},{"$f":"IFERROR(INDEX(Cherche1,MATCH(ROWS($U$3:U887),Classement,0)),\"\")","v":""}]
["",null,null,null,null,null,null,null,null,null,null,null,null,null,null,null,null,null," ",{"$f":"--ISNUMBER(IFERROR(SEARCH('Vente Jour'!$K$6,S888,1),\"\"))","v":0},{"$f":"IF(T888=1,COUNTIF($T$3:T888,1),\"\")","v":""},{"$f":"IFERROR(INDEX(Cherche1,MATCH(ROWS($U$3:U888),Classement,0)),\"\")","v":""}]
["",null,null,null,null,null,null,null,null,null,null,null,null,null,null,null,null,null," ",{"$f":"--ISNUMBER(IFERROR(SEARCH('Vente Jour'!$K$6,S889,1),\"\"))","v":0},{"$f":"IF(T889=1,COUNTIF($T$3:T889,1),\"\")","v":""},{"$f":"IFERROR(INDEX(Cherche1,MATCH(ROWS($U$3:U889),Classement,0)),\"\")","v":""}]
["",null,null,null,null,null,null,null,null,null,null,null,null,null,null,null,null,null," ",{"$f":"--ISNUMBER(IFERROR(SEARCH('Vente Jour'!$K$6,S890,1),\"\"))","v":0},{"$f":"IF(T890=1,COUNTIF($T$3:T890,1),\"\")","v":""},{"$f":"IFERROR(INDEX(Cherche1,MATCH(ROWS($U$3:U890),Classement,0)),\"\")","v":""}]
["",null,null,null,null,null,null,null,null,null,null,null,null,null,null,null,null,null," ",{"$f":"--ISNUMBER(IFERROR(SEARCH('Vente Jour'!$K$6,S891,1),\"\"))","v":0},{"$f":"IF(T891=1,COUNTIF($T$3:T891,1),\"\")","v":""},{"$f":"IFERROR(INDEX(Cherche1,MATCH(ROWS($U$3:U891),Classement,0)),\"\")","v":""}]
["",null,null,null,null,null,null,null,null,null,null,null,null,null,null,null,null,null," ",{"$f":"--ISNUMBER(IFERROR(SEARCH('Vente Jour'!$K$6,S892,1),\"\"))","v":0},{"$f":"IF(T892=1,COUNTIF($T$3:T892,1),\"\")","v":""},{"$f":"IFERROR(INDEX(Cherche1,MATCH(ROWS($U$3:U892),Classement,0)),\"\")","v":""}]
["",null,null,null,null,null,null,null,null,null,null,null,null,null,null,null,null,null," ",{"$f":"--ISNUMBER(IFERROR(SEARCH('Vente Jour'!$K$6,S893,1),\"\"))","v":0},{"$f":"IF(T893=1,COUNTIF($T$3:T893,1),\"\")","v":""},{"$f":"IFERROR(INDEX(Cherche1,MATCH(ROWS($U$3:U893),Classement,0)),\"\")","v":""}]
["",null,null,null,null,null,null,null,null,null,null,null,null,null,null,null,null,null," ",{"$f":"--ISNUMBER(IFERROR(SEARCH('Vente Jour'!$K$6,S894,1),\"\"))","v":0},{"$f":"IF(T894=1,COUNTIF($T$3:T894,1),\"\")","v":""},{"$f":"IFERROR(INDEX(Cherche1,MATCH(ROWS($U$3:U894),Classement,0)),\"\")","v":""}]
["",null,null,null,null,null,null,null,null,null,null,null,null,null,null,null,null,null," ",{"$f":"--ISNUMBER(IFERROR(SEARCH('Vente Jour'!$K$6,S895,1),\"\"))","v":0},{"$f":"IF(T895=1,COUNTIF($T$3:T895,1),\"\")","v":""},{"$f":"IFERROR(INDEX(Cherche1,MATCH(ROWS($U$3:U895),Classement,0)),\"\")","v":""}]
["",null,null,null,null,null,null,null,null,null,null,null,null,null,null,null,null,null," ",{"$f":"--ISNUMBER(IFERROR(SEARCH('Vente Jour'!$K$6,S896,1),\"\"))","v":0},{"$f":"IF(T896=1,COUNTIF($T$3:T896,1),\"\")","v":""},{"$f":"IFERROR(INDEX(Cherche1,MATCH(ROWS($U$3:U896),Classement,0)),\"\")","v":""}]
["",null,null,null,null,null,null,null,null,null,null,null,null,null,null,null,null,null," ",{"$f":"--ISNUMBER(IFERROR(SEARCH('Vente Jour'!$K$6,S897,1),\"\"))","v":0},{"$f":"IF(T897=1,COUNTIF($T$3:T897,1),\"\")","v":""},{"$f":"IFERROR(INDEX(Cherche1,MATCH(ROWS($U$3:U897),Classement,0)),\"\")","v":""}]
["",null,null,null,null,null,null,null,null,null,null,null,null,null,null,null,null,null," ",{"$f":"--ISNUMBER(IFERROR(SEARCH('Vente Jour'!$K$6,S898,1),\"\"))","v":0},{"$f":"IF(T898=1,COUNTIF($T$3:T898,1),\"\")","v":""},{"$f":"IFERROR(INDEX(Cherche1,MATCH(ROWS($U$3:U898),Classement,0)),\"\")","v":""}]
["",null,null,null,null,null,null,null,null,null,null,null,null,null,null,null,null,null," ",{"$f":"--ISNUMBER(IFERROR(SEARCH('Vente Jour'!$K$6,S899,1),\"\"))","v":0},{"$f":"IF(T899=1,COUNTIF($T$3:T899,1),\"\")","v":""},{"$f":"IFERROR(INDEX(Cherche1,MATCH(ROWS($U$3:U899),Classement,0)),\"\")","v":""}]
["",null,null,null,null,null,null,null,null,null,null,null,null,null,null,null,null,null," ",{"$f":"--ISNUMBER(IFERROR(SEARCH('Vente Jour'!$K$6,S900,1),\"\"))","v":0},{"$f":"IF(T900=1,COUNTIF($T$3:T900,1),\"\")","v":""},{"$f":"IFERROR(INDEX(Cherche1,MATCH(ROWS($U$3:U900),Classement,0)),\"\")","v":""}]
[{"$f":"IF(B901=\"\",\"\",A900+1)","v":""},null,null,null,null,null,null,null,null,null,null,null,null,null,null,null,null,null," ",{"$f":"--ISNUMBER(IFERROR(SEARCH('Vente Jour'!$K$6,S901,1),\"\"))","v":0},{"$f":"IF(T901=1,COUNTIF($T$3:T901,1),\"\")","v":""},{"$f":"IFERROR(INDEX(Cherche1,MATCH(ROWS($U$3:U901),Classement,0)),\"\")","v":""}]
["",null,null,null,null,null,null,null,null,null,null,null,null,null,null,null,null,null," ",{"$f":"--ISNUMBER(IFERROR(SEARCH('Vente Jour'!$K$6,S902,1),\"\"))","v":0},{"$f":"IF(T902=1,COUNTIF($T$3:T902,1),\"\")","v":""},{"$f":"IFERROR(INDEX(Cherche1,MATCH(ROWS($U$3:U902),Classement,0)),\"\")","v":""}]
["",null,null,null,null,null,null,null,null,null,null,null,null,null,null,null,null,null," ",{"$f":"--ISNUMBER(IFERROR(SEARCH('Vente Jour'!$K$6,S903,1),\"\"))","v":0},{"$f":"IF(T903=1,COUNTIF($T$3:T903,1),\"\")","v":""},{"$f":"IFERROR(INDEX(Cherche1,MATCH(ROWS($U$3:U903),Classement,0)),\"\")","v":""}]
["",null,null,null,null,null,null,null,null,null,null,null,null,null,null,null,null,null," ",{"$f":"--ISNUMBER(IFERROR(SEARCH('Vente Jour'!$K$6,S904,1),\"\"))","v":0},{"$f":"IF(T904=1,COUNTIF($T$3:T904,1),\"\")","v":""},{"$f":"IFERROR(INDEX(Cherche1,MATCH(ROWS($U$3:U904),Classement,0)),\"\")","v":""}]
["",null,null,null,null,null,null,null,null,null,null,null,null,null,null,null,null,null," ",{"$f":"--ISNUMBER(IFERROR(SEARCH('Vente Jour'!$K$6,S905,1),\"\"))","v":0},{"$f":"IF(T905=1,COUNTIF($T$3:T905,1),\"\")","v":""},{"$f":"IFERROR(INDEX(Cherche1,MATCH(ROWS($U$3:U905),Classement,0)),\"\")","v":""}]
["",null,null,null,null,null,null,null,null,null,null,null,null,null,null,null,null,null," ",{"$f":"--ISNUMBER(IFERROR(SEARCH('Vente Jour'!$K$6,S906,1),\"\"))","v":0},{"$f":"IF(T906=1,COUNTIF($T$3:T906,1),\"\")","v":""},{"$f":"IFERROR(INDEX(Cherche1,MATCH(ROWS($U$3:U906),Classement,0)),\"\")","v":""}]
["",null,null,null,null,null,null,null,null,null,null,null,null,null,null,null,null,null," ",{"$f":"--ISNUMBER(IFERROR(SEARCH('Vente Jour'!$K$6,S907,1),\"\"))","v":0},{"$f":"IF(T907=1,COUNTIF($T$3:T907,1),\"\")","v":""},{"$f":"IFERROR(INDEX(Cherche1,MATCH(ROWS($U$3:U907),Classement,0)),\"\")","v":""}]
["",null,null,null,null,null,null,null,null,null,null,null,null,null,null,null,null,null," ",{"$f":"--ISNUMBER(IFERROR(SEARCH('Vente Jour'!$K$6,S908,1),\"\"))","v":0},{"$f":"IF(T908=1,COUNTIF($T$3:T908,1),\"\")","v":""},{"$f":"IFERROR(INDEX(Cherche1,MATCH(ROWS($U$3:U908),Classement,0)),\"\")","v":""}]
["",null,null,null,null,null,null,null,null,null,null,null,null,null,null,null,null,null," ",{"$f":"--ISNUMBER(IFERROR(SEARCH('Vente Jour'!$K$6,S909,1),\"\"))","v":0},{"$f":"IF(T909=1,COUNTIF($T$3:T909,1),\"\")","v":""},{"$f":"IFERROR(INDEX(Cherche1,MATCH(ROWS($U$3:U909),Classement,0)),\"\")","v":""}]
["",null,null,null,null,null,null,null,null,null,null,null,null,null,null,null,null,null," ",{"$f":"--ISNUMBER(IFERROR(SEARCH('Vente Jour'!$K$6,S910,1),\"\"))","v":0},{"$f":"IF(T910=1,COUNTIF($T$3:T910,1),\"\")","v":""},{"$f":"IFERROR(INDEX(Cherche1,MATCH(ROWS($U$3:U910),Classement,0)),\"\")","v":""}]
["",null,null,null,null,null,null,null,null,null,null,null,null,null,null,null,null,null,{"$f":"CONCATENATE(B911,\" \",C911)","v":" "},{"$f":"--ISNUMBER(IFERROR(SEARCH('Vente Jour'!$K$6,S911,1),\"\"))","v":0},{"$f":"IF(T911=1,COUNTIF($T$3:T911,1),\"\")","v":""},{"$f":"IFERROR(INDEX(Cherche1,MATCH(ROWS($U$3:U911),Classement,0)),\"\")","v":""}]
["",null,null,null,null,null,null,null,null,null,null,null,null,null,null,null,null,null," ",{"$f":"--ISNUMBER(IFERROR(SEARCH('Vente Jour'!$K$6,S912,1),\"\"))","v":0},{"$f":"IF(T912=1,COUNTIF($T$3:T912,1),\"\")","v":""},{"$f":"IFERROR(INDEX(Cherche1,MATCH(ROWS($U$3:U912),Classement,0)),\"\")","v":""}]
["",null,null,null,null,null,null,null,null,null,null,null,null,null,null,null,null,null," ",{"$f":"--ISNUMBER(IFERROR(SEARCH('Vente Jour'!$K$6,S913,1),\"\"))","v":0},{"$f":"IF(T913=1,COUNTIF($T$3:T913,1),\"\")","v":""},{"$f":"IFERROR(INDEX(Cherche1,MATCH(ROWS($U$3:U913),Classement,0)),\"\")","v":""}]
["",null,null,null,null,null,null,null,null,null,null,null,null,null,null,null,null,null," ",{"$f":"--ISNUMBER(IFERROR(SEARCH('Vente Jour'!$K$6,S914,1),\"\"))","v":0},{"$f":"IF(T914=1,COUNTIF($T$3:T914,1),\"\")","v":""},{"$f":"IFERROR(INDEX(Cherche1,MATCH(ROWS($U$3:U914),Classement,0)),\"\")","v":""}]
["",null,null,null,null,null,null,null,null,null,null,null,null,null,null,null,null,null," ",{"$f":"--ISNUMBER(IFERROR(SEARCH('Vente Jour'!$K$6,S915,1),\"\"))","v":0},{"$f":"IF(T915=1,COUNTIF($T$3:T915,1),\"\")","v":""},{"$f":"IFERROR(INDEX(Cherche1,MATCH(ROWS($U$3:U915),Classement,0)),\"\")","v":""}]
["",null,null,null,null,null,null,null,null,null,null,null,null,null,null,null,null,null," ",{"$f":"--ISNUMBER(IFERROR(SEARCH('Vente Jour'!$K$6,S916,1),\"\"))","v":0},{"$f":"IF(T916=1,COUNTIF($T$3:T916,1),\"\")","v":""},{"$f":"IFERROR(INDEX(Cherche1,MATCH(ROWS($U$3:U916),Classement,0)),\"\")","v":""}]
["",null,null,null,null,null,null,null,null,null,null,null,null,null,null,null,null,null," ",{"$f":"--ISNUMBER(IFERROR(SEARCH('Vente Jour'!$K$6,S917,1),\"\"))","v":0},{"$f":"IF(T917=1,COUNTIF($T$3:T917,1),\"\")","v":""},{"$f":"IFERROR(INDEX(Cherche1,MATCH(ROWS($U$3:U917),Classement,0)),\"\")","v":""}]
["",null,null,null,null,null,null,null,null,null,null,null,null,null,null,null,null,null," ",{"$f":"--ISNUMBER(IFERROR(SEARCH('Vente Jour'!$K$6,S918,1),\"\"))","v":0},{"$f":"IF(T918=1,COUNTIF($T$3:T918,1),\"\")","v":""},{"$f":"IFERROR(INDEX(Cherche1,MATCH(ROWS($U$3:U918),Classement,0)),\"\")","v":""}]
["",null,null,null,null,null,null,null,null,null,null,null,null,null,null,null,null,null," ",{"$f":"--ISNUMBER(IFERROR(SEARCH('Vente Jour'!$K$6,S919,1),\"\"))","v":0},{"$f":"IF(T919=1,COUNTIF($T$3:T919,1),\"\")","v":""},{"$f":"IFERROR(INDEX(Cherche1,MATCH(ROWS($U$3:U919),Classement,0)),\"\")","v":""}]
["",null,null,null,null,null,null,null,null,null,null,null,null,null,null,null,null,null," ",{"$f":"--ISNUMBER(IFERROR(SEARCH('Vente Jour'!$K$6,S920,1),\"\"))","v":0},{"$f":"IF(T920=1,COUNTIF($T$3:T920,1),\"\")","v":""},{"$f":"IFERROR(INDEX(Cherche1,MATCH(ROWS($U$3:U920),Classement,0)),\"\")","v":""}]
["",null,null,null,null,null,null,null,null,null,null,null,null,null,null,null,null,null," ",{"$f":"--ISNUMBER(IFERROR(SEARCH('Vente Jour'!$K$6,S921,1),\"\"))","v":0},{"$f":"IF(T921=1,COUNTIF($T$3:T921,1),\"\")","v":""},{"$f":"IFERROR(INDEX(Cherche1,MATCH(ROWS($U$3:U921),Classement,0)),\"\")","v":""}]
["",null,null,null,null,null,null,null,null,null,null,null,null,null,null,null,null,null," ",{"$f":"--ISNUMBER(IFERROR(SEARCH('Vente Jour'!$K$6,S922,1),\"\"))","v":0},{"$f":"IF(T922=1,COUNTIF($T$3:T922,1),\"\")","v":""},{"$f":"IFERROR(INDEX(Cherche1,MATCH(ROWS($U$3:U922),Classement,0)),\"\")","v":""}]
["",null,null,null,null,null,null,null,null,null,null,null,null,null,null,null,null,null," ",{"$f":"--ISNUMBER(IFERROR(SEARCH('Vente Jour'!$K$6,S923,1),\"\"))","v":0},{"$f":"IF(T923=1,COUNTIF($T$3:T923,1),\"\")","v":""},{"$f":"IFERROR(INDEX(Cherche1,MATCH(ROWS($U$3:U923),Classement,0)),\"\")","v":""}]
["",null,null,null,null,null,null,null,null,null,null,null,null,null,null,null,null,null," ",{"$f":"--ISNUMBER(IFERROR(SEARCH('Vente Jour'!$K$6,S924,1),\"\"))","v":0},{"$f":"IF(T924=1,COUNTIF($T$3:T924,1),\"\")","v":""},{"$f":"IFERROR(INDEX(Cherche1,MATCH(ROWS($U$3:U924),Classement,0)),\"\")","v":""}]
["",null,null,null,null,null,null,null,null,null,null,null,null,null,null,null,null,null," ",{"$f":"--ISNUMBER(IFERROR(SEARCH('Vente Jour'!$K$6,S925,1),\"\"))","v":0},{"$f":"IF(T925=1,COUNTIF($T$3:T925,1),\"\")","v":""},{"$f":"IFERROR(INDEX(Cherche1,MATCH(ROWS($U$3:U925),Classement,0)),\"\")","v":""}]
["",null,null,null,null,null,null,null,null,null,null,null,null,null,null,null,null,null," ",{"$f":"--ISNUMBER(IFERROR(SEARCH('Vente Jour'!$K$6,S926,1),\"\"))","v":0},{"$f":"IF(T926=1,COUNTIF($T$3:T926,1),\"\")","v":""},{"$f":"IFERROR(INDEX(Cherche1,MATCH(ROWS($U$3:U926),Classement,0)),\"\")","v":""}]
["",null,null,null,null,null,null,null,null,null,null,null,null,null,null,null,null,null," ",{"$f":"--ISNUMBER(IFERROR(SEARCH('Vente Jour'!$K$6,S927,1),\"\"))","v":0},{"$f":"IF(T927=1,COUNTIF($T$3:T927,1),\"\")","v":""},{"$f":"IFERROR(INDEX(Cherche1,MATCH(ROWS($U$3:U927),Classement,0)),\"\")","v":""}]
["",null,null,null,null,null,null,null,null,null,null,null,null,null,null,null,null,null," ",{"$f":"--ISNUMBER(IFERROR(SEARCH('Vente Jour'!$K$6,S928,1),\"\"))","v":0},{"$f":"IF(T928=1,COUNTIF($T$3:T928,1),\"\")","v":""},{"$f":"IFERROR(INDEX(Cherche1,MATCH(ROWS($U$3:U928),Classement,0)),\"\")","v":""}]
["",null,null,null,null,null,null,null,null,null,null,null,null,null,null,null,null,null," ",{"$f":"--ISNUMBER(IFERROR(SEARCH('Vente Jour'!$K$6,S929,1),\"\"))","v":0},{"$f":"IF(T929=1,COUNTIF($T$3:T929,1),\"\")","v":""},{"$f":"IFERROR(INDEX(Cherche1,MATCH(ROWS($U$3:U929),Classement,0)),\"\")","v":""}]
["",null,null,null,null,null,null,null,null,null,null,null,null,null,null,null,null,null," ",{"$f":"--ISNUMBER(IFERROR(SEARCH('Vente Jour'!$K$6,S930,1),\"\"))","v":0},{"$f":"IF(T930=1,COUNTIF($T$3:T930,1),\"\")","v":""},{"$f":"IFERROR(INDEX(Cherche1,MATCH(ROWS($U$3:U930),Classement,0)),\"\")","v":""}]
["",null,null,null,null,null,null,null,null,null,null,null,null,null,null,null,null,null," ",{"$f":"--ISNUMBER(IFERROR(SEARCH('Vente Jour'!$K$6,S931,1),\"\"))","v":0},{"$f":"IF(T931=1,COUNTIF($T$3:T931,1),\"\")","v":""},{"$f":"IFERROR(INDEX(Cherche1,MATCH(ROWS($U$3:U931),Classement,0)),\"\")","v":""}]
["",null,null,null,null,null,null,null,null,null,null,null,null,null,null,null,null,null," ",{"$f":"--ISNUMBER(IFERROR(SEARCH('Vente Jour'!$K$6,S932,1),\"\"))","v":0},{"$f":"IF(T932=1,COUNTIF($T$3:T932,1),\"\")","v":""},{"$f":"IFERROR(INDEX(Cherche1,MATCH(ROWS($U$3:U932),Classement,0)),\"\")","v":""}]
["",null,null,null,null,null,null,null,null,null,null,null,null,null,null,null,null,null," ",{"$f":"--ISNUMBER(IFERROR(SEARCH('Vente Jour'!$K$6,S933,1),\"\"))","v":0},{"$f":"IF(T933=1,COUNTIF($T$3:T933,1),\"\")","v":""},{"$f":"IFERROR(INDEX(Cherche1,MATCH(ROWS($U$3:U933),Classement,0)),\"\")","v":""}]
["",null,null,null,null,null,null,null,null,null,null,null,null,null,null,null,null,null," ",{"$f":"--ISNUMBER(IFERROR(SEARCH('Vente Jour'!$K$6,S934,1),\"\"))","v":0},{"$f":"IF(T934=1,COUNTIF($T$3:T934,1),\"\")","v":""},{"$f":"IFERROR(INDEX(Cherche1,MATCH(ROWS($U$3:U934),Classement,0)),\"\")","v":""}]
["",null,null,null,null,null,null,null,null,null,null,null,null,null,null,null,null,null," ",{"$f":"--ISNUMBER(IFERROR(SEARCH('Vente Jour'!$K$6,S935,1),\"\"))","v":0},{"$f":"IF(T935=1,COUNTIF($T$3:T935,1),\"\")","v":""},{"$f":"IFERROR(INDEX(Cherche1,MATCH(ROWS($U$3:U935),Classement,0)),\"\")","v":""}]
["",null,null,null,null,null,null,null,null,null,null,null,null,null,null,null,null,null," ",{"$f":"--ISNUMBER(IFERROR(SEARCH('Vente Jour'!$K$6,S936,1),\"\"))","v":0},{"$f":"IF(T936=1,COUNTIF($T$3:T936,1),\"\")","v":""},{"$f":"IFERROR(INDEX(Cherche1,MATCH(ROWS($U$3:U936),Classement,0)),\"\")","v":""}]
["",null,null,null,null,null,null,null,null,null,null,null,null,null,null,null,null,null," ",{"$f":"--ISNUMBER(IFERROR(SEARCH('Vente Jour'!$K$6,S937,1),\"\"))","v":0},{"$f":"IF(T937=1,COUNTIF($T$3:T937,1),\"\")","v":""},{"$f":"IFERROR(INDEX(Cherche1,MATCH(ROWS($U$3:U937),Classement,0)),\"\")","v":""}]
["",null,null,null,null,null,null,null,null,null,null,null,null,null,null,null,null,null," ",{"$f":"--ISNUMBER(IFERROR(SEARCH('Vente Jour'!$K$6,S938,1),\"\"))","v":0},{"$f":"IF(T938=1,COUNTIF($T$3:T938,1),\"\")","v":""},{"$f":"IFERROR(INDEX(Cherche1,MATCH(ROWS($U$3:U938),Classement,0)),\"\")","v":""}]
["",null,null,null,null,null,null,null,null,null,null,null,null,null,null,null,null,null," ",{"$f":"--ISNUMBER(IFERROR(SEARCH('Vente Jour'!$K$6,S939,1),\"\"))","v":0},{"$f":"IF(T939=1,COUNTIF($T$3:T939,1),\"\")","v":""},{"$f":"IFERROR(INDEX(Cherche1,MATCH(ROWS($U$3:U939),Classement,0)),\"\")","v":""}]
["",null,null,null,null,null,null,null,null,null,null,null,null,null,null,null,null,null," ",{"$f":"--ISNUMBER(IFERROR(SEARCH('Vente Jour'!$K$6,S940,1),\"\"))","v":0},{"$f":"IF(T940=1,COUNTIF($T$3:T940,1),\"\")","v":""},{"$f":"IFERROR(INDEX(Cherche1,MATCH(ROWS($U$3:U940),Classement,0)),\"\")","v":""}]
["",null,null,null,null,null,null,null,null,null,null,null,null,null,null,null,null,null," ",{"$f":"--ISNUMBER(IFERROR(SEARCH('Vente Jour'!$K$6,S941,1),\"\"))","v":0},{"$f":"IF(T941=1,COUNTIF($T$3:T941,1),\"\")","v":""},{"$f":"IFERROR(INDEX(Cherche1,MATCH(ROWS($U$3:U941),Classement,0)),\"\")","v":""}]
["",null,null,null,null,null,null,null,null,null,null,null,null,null,null,null,null,null," ",{"$f":"--ISNUMBER(IFERROR(SEARCH('Vente Jour'!$K$6,S942,1),\"\"))","v":0},{"$f":"IF(T942=1,COUNTIF($T$3:T942,1),\"\")","v":""},{"$f":"IFERROR(INDEX(Cherche1,MATCH(ROWS($U$3:U942),Classement,0)),\"\")","v":""}]
["",null,null,null,null,null,null,null,null,null,null,null,null,null,null,null,null,null," ",{"$f":"--ISNUMBER(IFERROR(SEARCH('Vente Jour'!$K$6,S943,1),\"\"))","v":0},{"$f":"IF(T943=1,COUNTIF($T$3:T943,1),\"\")","v":""},{"$f":"IFERROR(INDEX(Cherche1,MATCH(ROWS($U$3:U943),Classement,0)),\"\")","v":""}]
["",null,null,null,null,null,null,null,null,null,null,null,null,null,null,null,null,null," ",{"$f":"--ISNUMBER(IFERROR(SEARCH('Vente Jour'!$K$6,S944,1),\"\"))","v":0},{"$f":"IF(T944=1,COUNTIF($T$3:T944,1),\"\")","v":""},{"$f":"IFERROR(INDEX(Cherche1,MATCH(ROWS($U$3:U944),Classement,0)),\"\")","v":""}]
["",null,null,null,null,null,null,null,null,null,null,null,null,null,null,null,null,null," ",{"$f":"--ISNUMBER(IFERROR(SEARCH('Vente Jour'!$K$6,S945,1),\"\"))","v":0},{"$f":"IF(T945=1,COUNTIF($T$3:T945,1),\"\")","v":""},{"$f":"IFERROR(INDEX(Cherche1,MATCH(ROWS($U$3:U945),Classement,0)),\"\")","v":""}]
["",null,null,null,null,null,null,null,null,null,null,null,null,null,null,null,null,null," ",{"$f":"--ISNUMBER(IFERROR(SEARCH('Vente Jour'!$K$6,S946,1),\"\"))","v":0},{"$f":"IF(T946=1,COUNTIF($T$3:T946,1),\"\")","v":""},{"$f":"IFERROR(INDEX(Cherche1,MATCH(ROWS($U$3:U946),Classement,0)),\"\")","v":""}]
["",null,null,null,null,null,null,null,null,null,null,null,null,null,null,null,null,null," ",{"$f":"--ISNUMBER(IFERROR(SEARCH('Vente Jour'!$K$6,S947,1),\"\"))","v":0},{"$f":"IF(T947=1,COUNTIF($T$3:T947,1),\"\")","v":""},{"$f":"IFERROR(INDEX(Cherche1,MATCH(ROWS($U$3:U947),Classement,0)),\"\")","v":""}]
["",null,null,null,null,null,null,null,null,null,null,null,null,null,null,null,null,null," ",{"$f":"--ISNUMBER(IFERROR(SEARCH('Vente Jour'!$K$6,S948,1),\"\"))","v":0},{"$f":"IF(T948=1,COUNTIF($T$3:T948,1),\"\")","v":""},{"$f":"IFERROR(INDEX(Cherche1,MATCH(ROWS($U$3:U948),Classement,0)),\"\")","v":""}]
["",null,null,null,null,null,null,null,null,null,null,null,null,null,null,null,null,null," ",{"$f":"--ISNUMBER(IFERROR(SEARCH('Vente Jour'!$K$6,S949,1),\"\"))","v":0},{"$f":"IF(T949=1,COUNTIF($T$3:T949,1),\"\")","v":""},{"$f":"IFERROR(INDEX(Cherche1,MATCH(ROWS($U$3:U949),Classement,0)),\"\")","v":""}]
["",null,null,null,null,null,null,null,null,null,null,null,null,null,null,null,null,null," ",{"$f":"--ISNUMBER(IFERROR(SEARCH('Vente Jour'!$K$6,S950,1),\"\"))","v":0},{"$f":"IF(T950=1,COUNTIF($T$3:T950,1),\"\")","v":""},{"$f":"IFERROR(INDEX(Cherche1,MATCH(ROWS($U$3:U950),Classement,0)),\"\")","v":""}]
["",null,null,null,null,null,null,null,null,null,null,null,null,null,null,null,null,null," ",{"$f":"--ISNUMBER(IFERROR(SEARCH('Vente Jour'!$K$6,S951,1),\"\"))","v":0},{"$f":"IF(T951=1,COUNTIF($T$3:T951,1),\"\")","v":""},{"$f":"IFERROR(INDEX(Cherche1,MATCH(ROWS($U$3:U951),Classement,0)),\"\")","v":""}]
["",null,null,null,null,null,null,null,null,null,null,null,null,null,null,null,null,null," ",{"$f":"--ISNUMBER(IFERROR(SEARCH('Vente Jour'!$K$6,S952,1),\"\"))","v":0},{"$f":"IF(T952=1,COUNTIF($T$3:T952,1),\"\")","v":""},{"$f":"IFERROR(INDEX(Cherche1,MATCH(ROWS($U$3:U952),Classement,0)),\"\")","v":""}]
["",null,null,null,null,null,null,null,null,null,null,null,null,null,null,null,null,null," ",{"$f":"--ISNUMBER(IFERROR(SEARCH('Vente Jour'!$K$6,S953,1),\"\"))","v":0},{"$f":"IF(T953=1,COUNTIF($T$3:T953,1),\"\")","v":""},{"$f":"IFERROR(INDEX(Cherche1,MATCH(ROWS($U$3:U953),Classement,0)),\"\")","v":""}]
["",null,null,null,null,null,null,null,null,null,null,null,null,null,null,null,null,null," ",{"$f":"--ISNUMBER(IFERROR(SEARCH('Vente Jour'!$K$6,S954,1),\"\"))","v":0},{"$f":"IF(T954=1,COUNTIF($T$3:T954,1),\"\")","v":""},{"$f":"IFERROR(INDEX(Cherche1,MATCH(ROWS($U$3:U954),Classement,0)),\"\")","v":""}]
["",null,null,null,null,null,null,null,null,null,null,null,null,null,null,null,null,null," ",{"$f":"--ISNUMBER(IFERROR(SEARCH('Vente Jour'!$K$6,S955,1),\"\"))","v":0},{"$f":"IF(T955=1,COUNTIF($T$3:T955,1),\"\")","v":""},{"$f":"IFERROR(INDEX(Cherche1,MATCH(ROWS($U$3:U955),Classement,0)),\"\")","v":""}]
["",null,null,null,null,null,null,null,null,null,null,null,null,null,null,null,null,null," ",{"$f":"--ISNUMBER(IFERROR(SEARCH('Vente Jour'!$K$6,S956,1),\"\"))","v":0},{"$f":"IF(T956=1,COUNTIF($T$3:T956,1),\"\")","v":""},{"$f":"IFERROR(INDEX(Cherche1,MATCH(ROWS($U$3:U956),Classement,0)),\"\")","v":""}]
["",null,null,null,null,null,null,null,null,null,null,null,null,null,null,null,null,null," ",{"$f":"--ISNUMBER(IFERROR(SEARCH('Vente Jour'!$K$6,S957,1),\"\"))","v":0},{"$f":"IF(T957=1,COUNTIF($T$3:T957,1),\"\")","v":""},{"$f":"IFERROR(INDEX(Cherche1,MATCH(ROWS($U$3:U957),Classement,0)),\"\")","v":""}]
["",null,null,null,null,null,null,null,null,null,null,null,null,null,null,null,null,null," ",{"$f":"--ISNUMBER(IFERROR(SEARCH('Vente Jour'!$K$6,S958,1),\"\"))","v":0},{"$f":"IF(T958=1,COUNTIF($T$3:T958,1),\"\")","v":""},{"$f":"IFERROR(INDEX(Cherche1,MATCH(ROWS($U$3:U958),Classement,0)),\"\")","v":""}]
["",null,null,null,null,null,null,null,null,null,null,null,null,null,null,null,null,null," ",{"$f":"--ISNUMBER(IFERROR(SEARCH('Vente Jour'!$K$6,S959,1),\"\"))","v":0},{"$f":"IF(T959=1,COUNTIF($T$3:T959,1),\"\")","v":""},{"$f":"IFERROR(INDEX(Cherche1,MATCH(ROWS($U$3:U959),Classement,0)),\"\")","v":""}]
["",null,null,null,null,null,null,null,null,null,null,null,null,null,null,null,null,null," ",{"$f":"--ISNUMBER(IFERROR(SEARCH('Vente Jour'!$K$6,S960,1),\"\"))","v":0},{"$f":"IF(T960=1,COUNTIF($T$3:T960,1),\"\")","v":""},{"$f":"IFERROR(INDEX(Cherche1,MATCH(ROWS($U$3:U960),Classement,0)),\"\")","v":""}]
["",null,null,null,null,null,null,null,null,null,null,null,null,null,null,null,null,null," ",{"$f":"--ISNUMBER(IFERROR(SEARCH('Vente Jour'!$K$6,S961,1),\"\"))","v":0},{"$f":"IF(T961=1,COUNTIF($T$3:T961,1),\"\")","v":""},{"$f":"IFERROR(INDEX(Cherche1,MATCH(ROWS($U$3:U961),Classement,0)),\"\")","v":""}]
["",null,null,null,null,null,null,null,null,null,null,null,null,null,null,null,null,null," ",{"$f":"--ISNUMBER(IFERROR(SEARCH('Vente Jour'!$K$6,S962,1),\"\"))","v":0},{"$f":"IF(T962=1,COUNTIF($T$3:T962,1),\"\")","v":""},{"$f":"IFERROR(INDEX(Cherche1,MATCH(ROWS($U$3:U962),Classement,0)),\"\")","v":""}]
["",null,null,null,null,null,null,null,null,null,null,null,null,null,null,null,null,null," ",{"$f":"--ISNUMBER(IFERROR(SEARCH('Vente Jour'!$K$6,S963,1),\"\"))","v":0},{"$f":"IF(T963=1,COUNTIF($T$3:T963,1),\"\")","v":""},{"$f":"IFERROR(INDEX(Cherche1,MATCH(ROWS($U$3:U963),Classement,0)),\"\")","v":""}]
["",null,null,null,null,null,null,null,null,null,null,null,null,null,null,null,null,null," ",{"$f":"--ISNUMBER(IFERROR(SEARCH('Vente Jour'!$K$6,S964,1),\"\"))","v":0},{"$f":"IF(T964=1,COUNTIF($T$3:T964,1),\"\")","v":""},{"$f":"IFERROR(INDEX(Cherche1,MATCH(ROWS($U$3:U964),Classement,0)),\"\")","v":""}]
[{"$f":"IF(B965=\"\",\"\",A964+1)","v":""},null,null,null,null,null,null,null,null,null,null,null,null,null,null,null,null,null," ",{"$f":"--ISNUMBER(IFERROR(SEARCH('Vente Jour'!$K$6,S965,1),\"\"))","v":0},{"$f":"IF(T965=1,COUNTIF($T$3:T965,1),\"\")","v":""},{"$f":"IFERROR(INDEX(Cherche1,MATCH(ROWS($U$3:U965),Classement,0)),\"\")","v":""}]
["",null,null,null,null,null,null,null,null,null,null,null,null,null,null,null,null,null," ",{"$f":"--ISNUMBER(IFERROR(SEARCH('Vente Jour'!$K$6,S966,1),\"\"))","v":0},{"$f":"IF(T966=1,COUNTIF($T$3:T966,1),\"\")","v":""},{"$f":"IFERROR(INDEX(Cherche1,MATCH(ROWS($U$3:U966),Classement,0)),\"\")","v":""}]
["",null,null,null,null,null,null,null,null,null,null,null,null,null,null,null,null,null," ",{"$f":"--ISNUMBER(IFERROR(SEARCH('Vente Jour'!$K$6,S967,1),\"\"))","v":0},{"$f":"IF(T967=1,COUNTIF($T$3:T967,1),\"\")","v":""},{"$f":"IFERROR(INDEX(Cherche1,MATCH(ROWS($U$3:U967),Classement,0)),\"\")","v":""}]
["",null,null,null,null,null,null,null,null,null,null,null,null,null,null,null,null,null," ",{"$f":"--ISNUMBER(IFERROR(SEARCH('Vente Jour'!$K$6,S968,1),\"\"))","v":0},{"$f":"IF(T968=1,COUNTIF($T$3:T968,1),\"\")","v":""},{"$f":"IFERROR(INDEX(Cherche1,MATCH(ROWS($U$3:U968),Classement,0)),\"\")","v":""}]
["",null,null,null,null,null,null,null,null,null,null,null,null,null,null,null,null,null," ",{"$f":"--ISNUMBER(IFERROR(SEARCH('Vente Jour'!$K$6,S969,1),\"\"))","v":0},{"$f":"IF(T969=1,COUNTIF($T$3:T969,1),\"\")","v":""},{"$f":"IFERROR(INDEX(Cherche1,MATCH(ROWS($U$3:U969),Classement,0)),\"\")","v":""}]
["",null,null,null,null,null,null,null,null,null,null,null,null,null,null,null,null,null," ",{"$f":"--ISNUMBER(IFERROR(SEARCH('Vente Jour'!$K$6,S970,1),\"\"))","v":0},{"$f":"IF(T970=1,COUNTIF($T$3:T970,1),\"\")","v":""},{"$f":"IFERROR(INDEX(Cherche1,MATCH(ROWS($U$3:U970),Classement,0)),\"\")","v":""}]
["",null,null,null,null,null,null,null,null,null,null,null,null,null,null,null,null,null," ",{"$f":"--ISNUMBER(IFERROR(SEARCH('Vente Jour'!$K$6,S971,1),\"\"))","v":0},{"$f":"IF(T971=1,COUNTIF($T$3:T971,1),\"\")","v":""},{"$f":"IFERROR(INDEX(Cherche1,MATCH(ROWS($U$3:U971),Classement,0)),\"\")","v":""}]
["",null,null,null,null,null,null,null,null,null,null,null,null,null,null,null,null,null," ",{"$f":"--ISNUMBER(IFERROR(SEARCH('Vente Jour'!$K$6,S972,1),\"\"))","v":0},{"$f":"IF(T972=1,COUNTIF($T$3:T972,1),\"\")","v":""},{"$f":"IFERROR(INDEX(Cherche1,MATCH(ROWS($U$3:U972),Classement,0)),\"\")","v":""}]
["",null,null,null,null,null,null,null,null,null,null,null,null,null,null,null,null,null," ",{"$f":"--ISNUMBER(IFERROR(SEARCH('Vente Jour'!$K$6,S973,1),\"\"))","v":0},{"$f":"IF(T973=1,COUNTIF($T$3:T973,1),\"\")","v":""},{"$f":"IFERROR(INDEX(Cherche1,MATCH(ROWS($U$3:U973),Classement,0)),\"\")","v":""}]
["",null,null,null,null,null,null,null,null,null,null,null,null,null,null,null,null,null," ",{"$f":"--ISNUMBER(IFERROR(SEARCH('Vente Jour'!$K$6,S974,1),\"\"))","v":0},{"$f":"IF(T974=1,COUNTIF($T$3:T974,1),\"\")","v":""},{"$f":"IFERROR(INDEX(Cherche1,MATCH(ROWS($U$3:U974),Classement,0)),\"\")","v":""}]
["",null,null,null,null,null,null,null,null,null,null,null,null,null,null,null,null,null,{"$f":"CONCATENATE(B975,\" \",C975)","v":" "},{"$f":"--ISNUMBER(IFERROR(SEARCH('Vente Jour'!$K$6,S975,1),\"\"))","v":0},{"$f":"IF(T975=1,COUNTIF($T$3:T975,1),\"\")","v":""},{"$f":"IFERROR(INDEX(Cherche1,MATCH(ROWS($U$3:U975),Classement,0)),\"\")","v":""}]
["",null,null,null,null,null,null,null,null,null,null,null,null,null,null,null,null,null," ",{"$f":"--ISNUMBER(IFERROR(SEARCH('Vente Jour'!$K$6,S976,1),\"\"))","v":0},{"$f":"IF(T976=1,COUNTIF($T$3:T976,1),\"\")","v":""},{"$f":"IFERROR(INDEX(Cherche1,MATCH(ROWS($U$3:U976),Classement,0)),\"\")","v":""}]
["",null,null,null,null,null,null,null,null,null,null,null,null,null,null,null,null,null," ",{"$f":"--ISNUMBER(IFERROR(SEARCH('Vente Jour'!$K$6,S977,1),\"\"))","v":0},{"$f":"IF(T977=1,COUNTIF($T$3:T977,1),\"\")","v":""},{"$f":"IFERROR(INDEX(Cherche1,MATCH(ROWS($U$3:U977),Classement,0)),\"\")","v":""}]
["",null,null,null,null,null,null,null,null,null,null,null,null,null,null,null,null,null," ",{"$f":"--ISNUMBER(IFERROR(SEARCH('Vente Jour'!$K$6,S978,1),\"\"))","v":0},{"$f":"IF(T978=1,COUNTIF($T$3:T978,1),\"\")","v":""},{"$f":"IFERROR(INDEX(Cherche1,MATCH(ROWS($U$3:U978),Classement,0)),\"\")","v":""}]
["",null,null,null,null,null,null,null,null,null,null,null,null,null,null,null,null,null," ",{"$f":"--ISNUMBER(IFERROR(SEARCH('Vente Jour'!$K$6,S979,1),\"\"))","v":0},{"$f":"IF(T979=1,COUNTIF($T$3:T979,1),\"\")","v":""},{"$f":"IFERROR(INDEX(Cherche1,MATCH(ROWS($U$3:U979),Classement,0)),\"\")","v":""}]
["",null,null,null,null,null,null,null,null,null,null,null,null,null,null,null,null,null," ",{"$f":"--ISNUMBER(IFERROR(SEARCH('Vente Jour'!$K$6,S980,1),\"\"))","v":0},{"$f":"IF(T980=1,COUNTIF($T$3:T980,1),\"\")","v":""},{"$f":"IFERROR(INDEX(Cherche1,MATCH(ROWS($U$3:U980),Classement,0)),\"\")","v":""}]
["",null,null,null,null,null,null,null,null,null,null,null,null,null,null,null,null,null," ",{"$f":"--ISNUMBER(IFERROR(SEARCH('Vente Jour'!$K$6,S981,1),\"\"))","v":0},{"$f":"IF(T981=1,COUNTIF($T$3:T981,1),\"\")","v":""},{"$f":"IFERROR(INDEX(Cherche1,MATCH(ROWS($U$3:U981),Classement,0)),\"\")","v":""}]
["",null,null,null,null,null,null,null,null,null,null,null,null,null,null,null,null,null," ",{"$f":"--ISNUMBER(IFERROR(SEARCH('Vente Jour'!$K$6,S982,1),\"\"))","v":0},{"$f":"IF(T982=1,COUNTIF($T$3:T982,1),\"\")","v":""},{"$f":"IFERROR(INDEX(Cherche1,MATCH(ROWS($U$3:U982),Classement,0)),\"\")","v":""}]
["",null,null,null,null,null,null,null,null,null,null,null,null,null,null,null,null,null," ",{"$f":"--ISNUMBER(IFERROR(SEARCH('Vente Jour'!$K$6,S983,1),\"\"))","v":0},{"$f":"IF(T983=1,COUNTIF($T$3:T983,1),\"\")","v":""},{"$f":"IFERROR(INDEX(Cherche1,MATCH(ROWS($U$3:U983),Classement,0)),\"\")","v":""}]
["",null,null,null,null,null,null,null,null,null,null,null,null,null,null,null,null,null," ",{"$f":"--ISNUMBER(IFERROR(SEARCH('Vente Jour'!$K$6,S984,1),\"\"))","v":0},{"$f":"IF(T984=1,COUNTIF($T$3:T984,1),\"\")","v":""},{"$f":"IFERROR(INDEX(Cherche1,MATCH(ROWS($U$3:U984),Classement,0)),\"\")","v":""}]
["",null,null,null,null,null,null,null,null,null,null,null,null,null,null,null,null,null," ",{"$f":"--ISNUMBER(IFERROR(SEARCH('Vente Jour'!$K$6,S985,1),\"\"))","v":0},{"$f":"IF(T985=1,COUNTIF($T$3:T985,1),\"\")","v":""},{"$f":"IFERROR(INDEX(Cherche1,MATCH(ROWS($U$3:U985),Classement,0)),\"\")","v":""}]
["",null,null,null,null,null,null,null,null,null,null,null,null,null,null,null,null,null," ",{"$f":"--ISNUMBER(IFERROR(SEARCH('Vente Jour'!$K$6,S986,1),\"\"))","v":0},{"$f":"IF(T986=1,COUNTIF($T$3:T986,1),\"\")","v":""},{"$f":"IFERROR(INDEX(Cherche1,MATCH(ROWS($U$3:U986),Classement,0)),\"\")","v":""}]
["",null,null,null,null,null,null,null,null,null,null,null,null,null,null,null,null,null," ",{"$f":"--ISNUMBER(IFERROR(SEARCH('Vente Jour'!$K$6,S987,1),\"\"))","v":0},{"$f":"IF(T987=1,COUNTIF($T$3:T987,1),\"\")","v":""},{"$f":"IFERROR(INDEX(Cherche1,MATCH(ROWS($U$3:U987),Classement,0)),\"\")","v":""}]
["",null,null,null,null,null,null,null,null,null,null,null,null,null,null,null,null,null," ",{"$f":"--ISNUMBER(IFERROR(SEARCH('Vente Jour'!$K$6,S988,1),\"\"))","v":0},{"$f":"IF(T988=1,COUNTIF($T$3:T988,1),\"\")","v":""},{"$f":"IFERROR(INDEX(Cherche1,MATCH(ROWS($U$3:U988),Classement,0)),\"\")","v":""}]
["",null,null,null,null,null,null,null,null,null,null,null,null,null,null,null,null,null," ",{"$f":"--ISNUMBER(IFERROR(SEARCH('Vente Jour'!$K$6,S989,1),\"\"))","v":0},{"$f":"IF(T989=1,COUNTIF($T$3:T989,1),\"\")","v":""},{"$f":"IFERROR(INDEX(Cherche1,MATCH(ROWS($U$3:U989),Classement,0)),\"\")","v":""}]
["",null,null,null,null,null,null,null,null,null,null,null,null,null,null,null,null,null," ",{"$f":"--ISNUMBER(IFERROR(SEARCH('Vente Jour'!$K$6,S990,1),\"\"))","v":0},{"$f":"IF(T990=1,COUNTIF($T$3:T990,1),\"\")","v":""},{"$f":"IFERROR(INDEX(Cherche1,MATCH(ROWS($U$3:U990),Classement,0)),\"\")","v":""}]
["",null,null,null,null,null,null,null,null,null,null,null,null,null,null,null,null,null," ",{"$f":"--ISNUMBER(IFERROR(SEARCH('Vente Jour'!$K$6,S991,1),\"\"))","v":0},{"$f":"IF(T991=1,COUNTIF($T$3:T991,1),\"\")","v":""},{"$f":"IFERROR(INDEX(Cherche1,MATCH(ROWS($U$3:U991),Classement,0)),\"\")","v":""}]
["",null,null,null,null,null,null,null,null,null,null,null,null,null,null,null,null,null," ",{"$f":"--ISNUMBER(IFERROR(SEARCH('Vente Jour'!$K$6,S992,1),\"\"))","v":0},{"$f":"IF(T992=1,COUNTIF($T$3:T992,1),\"\")","v":""},{"$f":"IFERROR(INDEX(Cherche1,MATCH(ROWS($U$3:U992),Classement,0)),\"\")","v":""}]
["",null,null,null,null,null,null,null,null,null,null,null,null,null,null,null,null,null," ",{"$f":"--ISNUMBER(IFERROR(SEARCH('Vente Jour'!$K$6,S993,1),\"\"))","v":0},{"$f":"IF(T993=1,COUNTIF($T$3:T993,1),\"\")","v":""},{"$f":"IFERROR(INDEX(Cherche1,MATCH(ROWS($U$3:U993),Classement,0)),\"\")","v":""}]
["",null,null,null,null,null,null,null,null,null,null,null,null,null,null,null,null,null," ",{"$f":"--ISNUMBER(IFERROR(SEARCH('Vente Jour'!$K$6,S994,1),\"\"))","v":0},{"$f":"IF(T994=1,COUNTIF($T$3:T994,1),\"\")","v":""},{"$f":"IFERROR(INDEX(Cherche1,MATCH(ROWS($U$3:U994),Classement,0)),\"\")","v":""}]
["",null,null,null,null,null,null,null,null,null,null,null,null,null,null,null,null,null," ",{"$f":"--ISNUMBER(IFERROR(SEARCH('Vente Jour'!$K$6,S995,1),\"\"))","v":0},{"$f":"IF(T995=1,COUNTIF($T$3:T995,1),\"\")","v":""},{"$f":"IFERROR(INDEX(Cherche1,MATCH(ROWS($U$3:U995),Classement,0)),\"\")","v":""}]
["",null,null,null,null,null,null,null,null,null,null,null,null,null,null,null,null,null," ",{"$f":"--ISNUMBER(IFERROR(SEARCH('Vente Jour'!$K$6,S996,1),\"\"))","v":0},{"$f":"IF(T996=1,COUNTIF($T$3:T996,1),\"\")","v":""},{"$f":"IFERROR(INDEX(Cherche1,MATCH(ROWS($U$3:U996),Classement,0)),\"\")","v":""}]
["",null,null,null,null,null,null,null,null,null,null,null,null,null,null,null,null,null," ",{"$f":"--ISNUMBER(IFERROR(SEARCH('Vente Jour'!$K$6,S997,1),\"\"))","v":0},{"$f":"IF(T997=1,COUNTIF($T$3:T997,1),\"\")","v":""},{"$f":"IFERROR(INDEX(Cherche1,MATCH(ROWS($U$3:U997),Classement,0)),\"\")","v":""}]
["",null,null,null,null,null,null,null,null,null,null,null,null,null,null,null,null,null," ",{"$f":"--ISNUMBER(IFERROR(SEARCH('Vente Jour'!$K$6,S998,1),\"\"))","v":0},{"$f":"IF(T998=1,COUNTIF($T$3:T998,1),\"\")","v":""},{"$f":"IFERROR(INDEX(Cherche1,MATCH(ROWS($U$3:U998),Classement,0)),\"\")","v":""}]
["",null,null,null,null,null,null,null,null,null,null,null,null,null,null,null,null,null," ",{"$f":"--ISNUMBER(IFERROR(SEARCH('Vente Jour'!$K$6,S999,1),\"\"))","v":0},{"$f":"IF(T999=1,COUNTIF($T$3:T999,1),\"\")","v":""},{"$f":"IFERROR(INDEX(Cherche1,MATCH(ROWS($U$3:U999),Classement,0)),\"\")","v":""}]
["",null,null,null,null,null,null,null,null,null,null,null,null,null,null,null,null,null," ",{"$f":"--ISNUMBER(IFERROR(SEARCH('Vente Jour'!$K$6,S1000,1),\"\"))","v":0},{"$f":"IF(T1000=1,COUNTIF($T$3:T1000,1),\"\")","v":""},{"$f":"IFERROR(INDEX(Cherche1,MATCH(ROWS($U$3:U1000),Classement,0)),\"\")","v":""}]

{"sheet":"Journal de caisse","index":3,"n_rows":380,"n_cols":17,"rows_kept":380,"cut":false,"hidden":false,"merged":[[348,1,348,11],[159,1,159,11],[190,1,190,11],[222,1,222,11],[254,1,254,11],[285,1,285,11],[317,1,317,11],[0,9,0,10],[127,1,127,11],[3,1,3,11],[35,1,35,11],[64,1,64,11],[96,1,96,11],[1,3,1,4],[1,5,1,6]]}
[null,null,null,null,null,null,null,null,null,"TOTAL CA",null,null,{"$f":"SUM(M4+M36+M65+M97+M128+M160+M191+M223+M255+M286+M318+M349)","v":111086},null,"CA PRESTA",null,"CA VENTE"]
[null,"DATE",null,"PRESTA",null,"VENTE",null,null,"ESPECE","CB","CHEQUE",null,"TOTAL ",{"$f":"SUM(D350:D380,D319:D348,D287:D317,D256:D285,D224:D254,D192:D222,D161:D190,D98:D127,D129:D159,D66:D96,D37:D64,D5:D35)","v":14},{"$f":"SUM(E350:E380,E319:E348,E287:E317,E256:E285,E224:E254,E192:E222,E161:E190,E98:E127,E129:E159,E66:E96,E37:E64,E5:E35)","v":11021},{"$f":"SUM(F350:F380,F319:F348,F287:F317,F256:F285,F224:F254,F192:F222,F161:F190,F98:F127,F129:F159,F66:F96,F37:F64,F5:F35)","v":537},{"$f":"SUM(G350:G380,G319:G348,G287:G317,G256:G285,G224:G254,G192:G222,G161:G190,G98:G127,G129:G159,G66:G96,G37:G64,G5:G35)","v":100065}]
[null,null,null,"QTT","€","QTT","€"]
[null,"JANVIER",null,null,null,null,null,null,null,null,null,null,{"$f":"SUM(M5:M35)","v":0},{"$f":"SUM(D5:D35)","v":0},{"$f":"SUM(E5:E35)","v":0},{"$f":"SUM(F5:F35)","v":0},{"$f":"SUM(G5:G35)","v":0}]
[null,"2017-01-01",null,null,null,null,null,null,null,null,null,null,{"$f":"IF(AND(AND(AND(I5=\"\"),J5=\"\"),K5=\"\"),\"\",SUM(I5:K5))","v":""}]
[null,"2017-01-02",null,null,null,null,null,null,null,null,null,null,{"$f":"IF(AND(AND(AND(I6=\"\"),J6=\"\"),K6=\"\"),\"\",SUM(I6:K6))","v":""}]
[null,"2017-01-03",null,null,null,null,null,null,null,null,null,null,""]
[null,"2017-01-04",null,null,null,null,null,null,null,null,null,null,""]
[null,"2017-01-05",null,null,null,null,null,null,null,null,null,null,""]
[null,"2017-01-06",null,null,null,null,null,null,null,null,null,null,""]
[null,"2017-01-07",null,null,null,null,null,null,null,null,null,null,""]
[null,"2017-01-08",null,null,null,null,null,null,null,null,null,null,""]
[null,"2017-01-09",null,null,null,null,null,null,null,null,null,null,""]
[null,"2017-01-10",null,null,null,null,null,null,null,null,null,null,""]
[null,"2017-01-11",null,null,null,null,null,null,null,null,null,null,""]
[null,"2017-01-12",null,null,null,null,null,null,null,null,null,null,""]
[null,"2017-01-13",null,null,null,null,null,null,null,null,null,null,""]
[null,"2017-01-14",null,null,null,null,null,null,null,null,null,null,""]
[null,"2017-01-15",null,null,null,null,null,null,null,null,null,null,""]
[null,"2017-01-16",null,null,null,null,null,null,null,null,null,null,""]
[null,"2017-01-17",null,null,null,null,null,null,null,null,null,null,""]
[null,"2017-01-18",null,null,null,null,null,null,null,null,null,null,""]
[null,"2017-01-19",null,null,null,null,null,null,null,null,null,null,""]
[null,"2017-01-20",null,null,null,null,null,null,null,null,null,null,""]
[null,"2017-01-21",null,null,null,null,null,null,null,null,null,null,""]
[null,"2017-01-22",null,null,null,null,null,null,null,null,null,null,""]
[null,"2017-01-23",null,null,null,null,null,null,null,null,null,null,""]
[null,"2017-01-24",null,null,null,null,null,null,null,null,null,null,""]
[null,"2017-01-25",null,null,null,null,null,null,null,null,null,null,""]
[null,"2017-01-26",null,null,null,null,null,null,null,null,null,null,""]
[null,"2017-01-27",null,null,null,null,null,null,null,null,null,null,""]
[null,"2017-01-28",null,null,null,null,null,null,null,null,null,null,""]
[null,"2017-01-29",null,null,null,null,null,null,null,null,null,null,""]
[null,"2017-01-30",null,null,null,null,null,null,null,null,null,null,""]
[null,"2017-01-31",null,null,null,null,null,null,null,null,null,null,""]
[null,"FEVRIER",null,null,null,null,null,null,null,null,null,null,{"$f":"SUM(M37:M64)","v":0},{"$f":"SUM(D37:D64)","v":0},{"$f":"SUM(E37:E64)","v":0},{"$f":"SUM(F37:F64)","v":0},{"$f":"SUM(G37:G64)","v":0}]
[null,"2017-02-01",null,null,null,null,null,null,null,null,null,null,""]
[null,"2017-02-02",null,null,null,null,null,null,null,null,null,null,""]
[null,"2017-02-03",null,null,null,null,null,null,null,null,null,null,""]
[null,"2017-02-04",null,null,null,null,null,null,null,null,null,null,""]
[null,"2017-02-05",null,null,null,null,null,null,null,null,null,null,""]
[null,"2017-02-06",null,null,null,null,null,null,null,null,null,null,""]
[null,"2017-02-07",null,null,null,null,null,null,null,null,null,null,""]
[null,"2017-02-08",null,null,null,null,null,null,null,null,null,null,""]
[null,"2017-02-09",null,null,null,null,null,null,null,null,null,null,""]
[null,"2017-02-10",null,null,null,null,null,null,null,null,null,null,""]
[null,"2017-02-11",null,null,null,null,null,null,null,null,null,null,""]
[null,"2017-02-12",null,null,null,null,null,null,null,null,null,null,""]
[null,"2017-02-13",null,null,null,null,null,null,null,null,null,null,""]
[null,"2017-02-14",null,null,null,null,null,null,null,null,null,null,""]
[null,"2017-02-15",null,null,null,null,null,null,null,null,null,null,""]
[null,"2017-02-16",null,null,null,null,null,null,null,null,null,null,""]
[null,"2017-02-17",null,null,null,null,null,null,null,null,null,null,""]
[null,"2017-02-18",null,null,null,null,null,null,null,null,null,null,""]
[null,"2017-02-19",null,null,null,null,null,null,null,null,null,null,""]
[null,"2017-02-20",null,null,null,null,null,null,null,null,null,null,""]
[null,"2017-02-21",null,null,null,null,null,null,null,null,null,null,""]
[null,"2017-02-22",null,null,null,null,null,null,null,null,null,null,""]
[null,"2017-02-23",null,null,null,null,null,null,null,null,null,null,""]
[null,"2017-02-24",null,null,null,null,null,null,null,null,null,null,""]
[null,"2017-02-25",null,null,null,null,null,null,null,null,null,null,""]
[null,"2017-02-26",null,null,null,null,null,null,null,null,null,null,""]
[null,"2017-02-27",null,null,null,null,null,null,null,null,null,null,""]
[null,"2017-02-28",null,null,null,null,null,null,null,null,null,null,""]
[null,"MARS",null,null,null,null,null,null,null,null,null,null,{"$f":"SUM(M68:M96)","v":0},{"$f":"SUM(D66:D96)","v":0},{"$f":"SUM(E66:E96)","v":0},{"$f":"SUM(F66:F96)","v":0},{"$f":"SUM(G66:G96)","v":0}]
[null,"2017-03-01",null,null,null,null,null,null,null,null,null,null,""]
[null,"2017-03-02",null,null,null,null,null,null,null,null,null,null,""]
[null,"2017-03-03",null,null,null,null,null,null,null,null,null,null,""]
[null,"2017-03-04",null,null,null,null,null,null,null,null,null,null,""]
[null,"2017-03-05",null,null,null,null,null,null,null,null,null,null,{"$f":"IF(AND(AND(AND(I70=\"\"),J70=\"\"),K70=\"\"),\"\",SUM(I70:K70))","v":""}]
[null,"2017-03-06",null,null,null,null,null,null,null,null,null,null,""]
[null,"2017-03-07",null,null,null,null,null,null,null,null,null,null,""]
[null,"2017-03-08",null,null,null,null,null,null,null,null,null,null,""]
[null,"2017-03-09",null,null,null,null,null,null,null,null,null,null,""]
[null,"2017-03-10",null,null,null,null,null,null,null,null,null,null,""]
[null,"2017-03-11",null,null,null,null,null,null,null,null,null,null,""]
[null,"2017-03-12",null,null,null,null,null,null,null,null,null,null,""]
[null,"2017-03-13",null,null,null,null,null,null,null,null,null,null,""]
[null,"2017-03-14",null,null,null,null,null,null,null,null,null,null,""]
[null,"2017-03-15",null,null,null,null,null,null,null,null,null,null,""]
[null,"2017-03-16",null,null,null,null,null,null,null,null,null,null,""]
[null,"2017-03-17",null,null,null,null,null,null,null,null,null,null,""]
[null,"2017-03-18",null,null,null,null,null,null,null,null,null,null,""]
[null,"2017-03-19",null,null,null,null,null,null,null,null,null,null,""]
[null,"2017-03-20",null,null,null,null,null,null,null,null,null,null,""]
[null,"2017-03-21",null,null,null,null,null,null,null,null,null,null,""]
[null,"2017-03-22",null,null,null,null,null,null,null,null,null,null,""]
[null,"2017-03-23",null,null,null,null,null,null,null,null,null,null,""]
[null,"2017-03-24",null,null,null,null,null,null,null,null,null,null,""]
[null,"2017-03-25",null,null,null,null,null,null,null,null,null,null,""]
[null,"2017-03-26",null,null,null,null,null,null,null,null,null,null,""]
[null,"2017-03-27",null,null,null,null,null,null,null,null,null,null,""]
[null,"2017-03-28",null,null,null,null,null,null,null,null,null,null,""]
[null,"2017-03-29",null,null,null,null,null,null,null,null,null,null,""]
[null,"2017-03-30",null,null,null,null,null,null,null,null,null,null,""]
[null,"2017-03-31",null,null,null,null,null,null,null,null,null,null,""]
[null,"AVRIL",null,null,null,null,null,null,null,null,null,null,{"$f":"SUM(M98:M127)","v":0},{"$f":"SUM(D98:D127)","v":0},{"$f":"SUM(E98:E127)","v":0},{"$f":"SUM(F98:F127)","v":0},{"$f":"SUM(G98:G127)","v":0}]
[null,"2017-04-01",null,null,null,null,null,null,null,null,null,null,""]
[null,"2017-04-02",null,null,null,null,null,null,null,null,null,null,""]
[null,"2017-04-03",null,null,null,null,null,null,null,null,null,null,""]
[null,"2017-04-04",null,null,null,null,null,null,null,null,null,null,""]
[null,"2017-04-05",null,null,null,null,null,null,null,null,null,null,""]
[null,"2017-04-06",null,null,null,null,null,null,null,null,null,null,""]
[null,"2017-04-07",null,null,null,null,null,null,null,null,null,null,""]
[null,"2017-04-08",null,null,null,null,null,null,null,null,null,null,""]
[null,"2017-04-09",null,null,null,null,null,null,null,null,null,null,""]
[null,"2017-04-10",null,null,null,null,null,null,null,null,null,null,""]
[null,"2017-04-11",null,null,null,null,null,null,null,null,null,null,""]
[null,"2017-04-12",null,null,null,null,null,null,null,null,null,null,""]
[null,"2017-04-13",null,null,null,null,null,null,null,null,null,null,""]
[null,"2017-04-14",null,null,null,null,null,null,null,null,null,null,""]
[null,"2017-04-15",null,null,null,null,null,null,null,null,null,null,""]
[null,"2017-04-16",null,null,null,null,null,null,null,null,null,null,""]
[null,"2017-04-17",null,null,null,null,null,null,null,null,null,null,""]
[null,"2017-04-18",null,null,null,null,null,null,null,null,null,null,""]
[null,"2017-04-19",null,null,null,null,null,null,null,null,null,null,""]
[null,"2017-04-20",null,null,null,null,null,null,null,null,null,null,""]
[null,"2017-04-21",null,null,null,null,null,null,null,null,null,null,""]
[null,"2017-04-22",null,null,null,null,null,null,null,null,null,null,""]
[null,"2017-04-23",null,null,null,null,null,null,null,null,null,null,""]
[null,"2017-04-24",null,null,null,null,null,null,null,null,null,null,""]
[null,"2017-04-25",null,null,null,null,null,null,null,null,null,null,""]
[null,"2017-04-26",null,null,null,null,null,null,null,null,null,null,""]
[null,"2017-04-27",null,null,null,null,null,null,null,null,null,null,""]
[null,"2017-04-28",null,null,null,null,null,null,null,null,null,null,""]
[null,"2017-04-29",null,null,null,null,null,null,null,null,null,null,""]
[null,"2017-04-30",null,null,null,null,null,null,null,null,null,null,""]
[null,"MAI",null,null,null,null,null,null,null,null,null,null,{"$f":"SUM(M129:M159)","v":0},{"$f":"SUM(D129:D159)","v":0},{"$f":"SUM(E129:E159)","v":0},{"$f":"SUM(F129:F159)","v":0},{"$f":"SUM(G129:G159)","v":0}]
[null,"2017-05-01",null,null,null,null,null,null,null,null,null,null,""]
[null,"2017-05-02",null,null,null,null,null,null,null,null,null,null,""]
[null,"2017-05-03",null,null,null,null,null,null,null,null,null,null,""]
[null,"2017-05-04",null,null,null,null,null,null,null,null,null,null,""]
[null,"2017-05-05",null,null,null,null,null,null,null,null,null,null,""]
[null,"2017-05-06",null,null,null,null,null,null,null,null,null,null,{"$f":"IF(AND(AND(AND(I134=\"\"),J134=\"\"),K134=\"\"),\"\",SUM(I134:K134))","v":""}]
[null,"2017-05-07",null,null,null,null,null,null,null,null,null,null,""]
[null,"2017-05-08",null,null,null,null,null,null,null,null,null,null,""]
[null,"2017-05-09",null,null,null,null,null,null,null,null,null,null,""]
[null,"2017-05-10",null,null,null,null,null,null,null,null,null,null,""]
[null,"2017-05-11",null,null,null,null,null,null,null,null,null,null,""]
[null,"2017-05-12",null,null,null,null,null,null,null,null,null,null,""]
[null,"2017-05-13",null,null,null,null,null,null,null,null,null,null,""]
[null,"2017-05-14",null,null,null,null,null,null,null,null,null,null,""]
[null,"2017-05-15",null,null,null,null,null,null,null,null,null,null,""]
[null,"2017-05-16",null,null,null,null,null,null,null,null,null,null,""]
[null,"2017-05-17",null,null,null,null,null,null,null,null,null,null,""]
[null,"2017-05-18",null,null,null,null,null,null,null,null,null,null,""]
[null,"2017-05-19",null,null,null,null,null,null,null,null,null,null,""]
[null,"2017-05-20",null,null,null,null,null,null,null,null,null,null,""]
[null,"2017-05-21",null,null,null,null,null,null,null,null,null,null,""]
[null,"2017-05-22",null,null,null,null,null,null,null,null,null,null,""]
[null,"2017-05-23",null,null,null,null,null,null,null,null,null,null,""]
[null,"2017-05-24",null,null,null,null,null,null,null,null,null,null,""]
[null,"2017-05-25",null,null,null,null,null,null,null,null,null,null,""]
[null,"2017-05-26",null,null,null,null,null,null,null,null,null,null,""]
[null,"2017-05-27",null,null,null,null,null,null,null,null,null,null,""]
[null,"2017-05-28",null,null,null,null,null,null,null,null,null,null,""]
[null,"2017-05-29",null,null,null,null,null,null,null,null,null,null,""]
[null,"2017-05-30",null,null,null,null,null,null,null,null,null,null,""]
[null,"2017-05-31",null,null,null,null,null,null,null,null,null,null,""]
[null,"JUIN",null,null,null,null,null,null,null,null,null,null,{"$f":"SUM(M161:M190)","v":0},{"$f":"SUM(D161:D190)","v":0},{"$f":"SUM(E161:E190)","v":0},{"$f":"SUM(F161:F190)","v":0},{"$f":"SUM(G161:G190)","v":0}]
[null,"2017-06-01",null,null,null,null,null,null,null,null,null,null,""]
[null,"2017-06-02",null,null,null,null,null,null,null,null,null,null,""]
[null,"2017-06-03",null,null,null,null,null,null,null,null,null,null,""]
[null,"2017-06-04",null,null,null,null,null,null,null,null,null,null,""]
[null,"2017-06-05",null,null,null,null,null,null,null,null,null,null,""]
[null,"2017-06-06",null,null,null,null,null,null,null,null,null,null,""]
[null,"2017-06-07",null,null,null,null,null,null,null,null,null,null,""]
[null,"2017-06-08",null,null,null,null,null,null,null,null,null,null,""]
[null,"2017-06-09",null,null,null,null,null,null,null,null,null,null,""]
[null,"2017-06-10",null,null,null,null,null,null,null,null,null,null,""]
[null,"2017-06-11",null,null,null,null,null,null,null,null,null,null,""]
[null,"2017-06-12",null,null,null,null,null,null,null,null,null,null,""]
[null,"2017-06-13",null,null,null,null,null,null,null,null,null,null,""]
[null,"2017-06-14",null,null,null,null,null,null,null,null,null,null,""]
[null,"2017-06-15",null,null,null,null,null,null,null,null,null,null,""]
[null,"2017-06-16",null,null,null,null,null,null,null,null,null,null,""]
[null,"2017-06-17",null,null,null,null,null,null,null,null,null,null,""]
[null,"2017-06-18",null,null,null,null,null,null,null,null,null,null,""]
[null,"2017-06-19",null,null,null,null,null,null,null,null,null,null,""]
[null,"2017-06-20",null,null,null,null,null,null,null,null,null,null,""]
[null,"2017-06-21",null,null,null,null,null,null,null,null,null,null,""]
[null,"2017-06-22",null,null,null,null,null,null,null,null,null,null,""]
[null,"2017-06-23",null,null,null,null,null,null,null,null,null,null,""]
[null,"2017-06-24",null,null,null,null,null,null,null,null,null,null,""]
[null,"2017-06-25",null,null,null,null,null,null,null,null,null,null,""]
[null,"2017-06-26",null,null,null,null,null,null,null,null,null,null,""]
[null,"2017-06-27",null,null,null,null,null,null,null,null,null,null,""]
[null,"2017-06-28",null,null,null,null,null,null,null,null,null,null,""]
[null,"2017-06-29",null,null,null,null,null,null,null,null,null,null,""]
[null,"2017-06-30",null,null,null,null,null,null,null,null,null,null,""]
[null,"JUILLET",null,null,null,null,null,null,null,null,null,null,{"$f":"SUM(M192:M222)","v":0},{"$f":"SUM(D192:D222)","v":0},{"$f":"SUM(E192:E222)","v":0},{"$f":"SUM(F192:F222)","v":0},{"$f":"SUM(G192:G222)","v":0}]
[null,"2017-07-01",null,null,null,null,null,null,null,null,null,null,""]
[null,"2017-07-02",null,null,null,null,null,null,null,null,null,null,""]
[null,"2017-07-03",null,null,null,null,null,null,null,null,null,null,""]
[null,"2017-07-04",null,null,null,null,null,null,null,null,null,null,""]
[null,"2017-07-05",null,null,null,null,null,null,null,null,null,null,""]
[null,"2017-07-06",null,null,null,null,null,null,null,null,null,null,""]
[null,"2017-07-07",null,null,null,null,null,null,null,null,null,null,{"$f":"IF(AND(AND(AND(I198=\"\"),J198=\"\"),K198=\"\"),\"\",SUM(I198:K198))","v":""}]
[null,"2017-07-08",null,null,null,null,null,null,null,null,null,null,""]
[null,"2017-07-09",null,null,null,null,null,null,null,null,null,null,""]
[null,"2017-07-10",null,null,null,null,null,null,null,null,null,null,""]
[null,"2017-07-11",null,null,null,null,null,null,null,null,null,null,""]
[null,"2017-07-12",null,null,null,null,null,null,null,null,null,null,""]
[null,"2017-07-13",null,null,null,null,null,null,null,null,null,null,""]
[null,"2017-07-14",null,null,null,null,null,null,null,null,null,null,""]
[null,"2017-07-15",null,null,null,null,null,null,null,null,null,null,""]
[null,"2017-07-16",null,null,null,null,null,null,null,null,null,null,""]
[null,"2017-07-17",null,null,null,null,null,null,null,null,null,null,""]
[null,"2017-07-18",null,null,null,null,null,null,null,null,null,null,""]
[null,"2017-07-19",null,null,null,null,null,null,null,null,null,null,""]
[null,"2017-07-20",null,null,null,null,null,null,null,null,null,null,""]
[null,"2017-07-21",null,null,null,null,null,null,null,null,null,null,""]
[null,"2017-07-22",null,null,null,null,null,null,null,null,null,null,""]
[null,"2017-07-23",null,null,null,null,null,null,null,null,null,null,""]
[null,"2017-07-24",null,null,null,null,null,null,null,null,null,null,""]
[null,"2017-07-25",null,null,null,null,null,null,null,null,null,null,""]
[null,"2017-07-26",null,null,null,null,null,null,null,null,null,null,""]
[null,"2017-07-27",null,null,null,null,null,null,null,null,null,null,""]
[null,"2017-07-28",null,null,null,null,null,null,null,null,null,null,""]
[null,"2017-07-29",null,null,null,null,null,null,null,null,null,null,""]
[null,"2017-07-30",null,null,null,null,null,null,null,null,null,null,""]
[null,"2017-07-31",null,null,null,null,null,null,null,null,null,null,""]
[null,"AOUT",null,null,null,null,null,null,null,null,null,null,{"$f":"SUM(M224:M254)","v":0},{"$f":"SUM(D224:D254)","v":0},{"$f":"SUM(E224:E254)","v":0},{"$f":"SUM(F224:F254)","v":0},{"$f":"SUM(G224:G254)","v":0}]
[null,"2017-08-01",null,null,null,null,null,null,null,null,null,null,""]
[null,"2017-08-02",null,null,null,null,null,null,null,null,null,null,""]
[null,"2017-08-03",null,null,null,null,null,null,null,null,null,null,""]
[null,"2017-08-04",null,null,null,null,null,null,null,null,null,null,""]
[null,"2017-08-05",null,null,null,null,null,null,null,null,null,null,""]
[null,"2017-08-06",null,null,null,null,null,null,null,null,null,null,""]
[null,"2017-08-07",null,null,null,null,null,null,null,null,null,null,""]
[null,"2017-08-08",null,null,null,null,null,null,null,null,null,null,""]
[null,"2017-08-09",null,null,null,null,null,null,null,null,null,null,""]
[null,"2017-08-10",null,null,null,null,null,null,null,null,null,null,""]
[null,"2017-08-11",null,null,null,null,null,null,null,null,null,null,""]
[null,"2017-08-12",null,null,null,null,null,null,null,null,null,null,""]
[null,"2017-08-13",null,null,null,null,null,null,null,null,null,null,""]
[null,"2017-08-14",null,null,null,null,null,null,null,null,null,null,""]
[null,"2017-08-15",null,null,null,null,null,null,null,null,null,null,""]
[null,"2017-08-16",null,null,null,null,null,null,null,null,null,null,""]
[null,"2017-08-17",null,null,null,null,null,null,null,null,null,null,""]
[null,"2017-08-18",null,null,null,null,null,null,null,null,null,null,""]
[null,"2017-08-19",null,null,null,null,null,null,null,null,null,null,""]
[null,"2017-08-20",null,null,null,null,null,null,null,null,null,null,""]
[null,"2017-08-21",null,null,null,null,null,null,null,null,null,null,""]
[null,"2017-08-22",null,null,null,null,null,null,null,null,null,null,""]
[null,"2017-08-23",null,null,null,null,null,null,null,null,null,null,""]
[null,"2017-08-24",null,null,null,null,null,null,null,null,null,null,""]
[null,"2017-08-25",null,null,null,null,null,null,null,null,null,null,""]
[null,"2017-08-26",null,null,null,null,null,null,null,null,null,null,""]
[null,"2017-08-27",null,null,null,null,null,null,null,null,null,null,""]
[null,"2017-08-28",null,null,null,null,null,null,null,null,null,null,""]
[null,"2017-08-29",null,null,null,null,null,null,null,null,null,null,""]
[null,"2017-08-30",null,null,null,null,null,null,null,null,null,null,""]
[null,"2017-08-31",null,null,null,null,null,null,null,null,null,null,""]
[null,"SEPTEMBRE",null,null,null,null,null,null,null,null,null,null,{"$f":"SUM(M256:M285)","v":111086},{"$f":"SUM(D256:D285)","v":14},{"$f":"SUM(E256:E285)","v":11021},{"$f":"SUM(F256:F285)","v":537},{"$f":"SUM(G256:G285)","v":100065}]
[null,"2017-09-01",null,null,null,null,null,null,null,null,null,null,""]
[null,"2017-09-02",null,null,null,null,null,null,null,null,null,null,""]
[null,"2017-09-03",null,null,null,null,null,null,null,null,null,null,""]
[null,"2017-09-04",null,null,null,null,null,null,null,null,null,null,""]
[null,"2017-09-05",null,null,null,null,null,null,null,null,null,null,""]
[null,"2017-09-06",null,null,null,null,null,null,null,null,null,null,""]
[null,"2017-09-07",null,null,null,null,null,null,null,null,null,null,{"$f":"IF(AND(AND(AND(I262=\"\"),J262=\"\"),K262=\"\"),\"\",SUM(I262:K262))","v":""}]
[null,"2017-09-08",null,null,null,null,null,null,null,null,null,null,""]
[null,"2017-09-09",null,null,null,null,null,null,null,null,null,null,""]
[null,"2017-09-10",null,null,null,null,null,null,null,null,null,null,""]
[null,"2017-09-11",null,null,null,null,null,null,null,null,null,null,""]
[null,"2017-09-12",null,null,null,null,null,null,null,null,null,null,""]
[null,"2017-09-13",null,null,null,null,null,null,null,null,null,null,""]
[null,"2017-09-14",null,null,null,null,null,null,null,null,null,null,""]
[null,"2017-09-15",null,null,null,null,null,null,null,null,null,null,""]
[null,"2017-09-16",null,null,null,null,null,null,null,null,null,null,""]
[null,"2017-09-17",null,null,null,null,null,null,null,null,null,null,""]
[null,"2017-09-18",null,null,null,null,null,null,null,null,null,null,""]
[null,"2017-09-19",null,null,null,null,null,null,null,null,null,null,""]
[null,"2017-09-20",null,null,null,null,null,null,null,null,null,null,""]
[null,"2017-09-21",null,null,null,null,null,null,null,null,null,null,""]
[null,"2017-09-22",null,null,null,null,null,null,null,null,null,null,""]
[null,"2017-09-23",null,null,null,10,100,null,null,100,null,null,100]
[null,"2017-09-24",null,null,null,null,null,null,null,null,null,null,""]
[null,"2017-09-25",null,null,null,null,null,null,null,null,null,null,""]
[null,"2017-09-26",null,null,null,null,null,null,null,null,null,null,""]
[null,"2017-09-27",null,null,null,null,null,null,null,null,null,null,""]
[null,"2017-09-28",null,null,null,null,null,null,null,null,null,null,""]
[null,"2017-09-29",null,null,null,null,null,null,null,null,null,null,""]
[null,"2017-09-30",null,14,11021,527,99965,null,94426,238,16322,null,110986]
[null,"OCTOBRE",null,null,null,null,null,null,null,null,null,null,{"$f":"SUM(M287:M317)","v":0},{"$f":"SUM(D287:D317)","v":0},{"$f":"SUM(E287:E317)","v":0},{"$f":"SUM(F287:F317)","v":0},{"$f":"SUM(G287:G317)","v":0}]
[null,"2017-10-01",null,null,null,null,null,null,null,null,null,null,""]
[null,"2017-10-02",null,null,null,null,null,null,null,null,null,null,""]
[null,"2017-10-03",null,null,null,null,null,null,null,null,null,null,""]
[null,"2017-10-04",null,null,null,null,null,null,null,null,null,null,""]
[null,"2017-10-05",null,null,null,null,null,null,null,null,null,null,""]
[null,"2017-10-06",null,null,null,null,null,null,null,null,null,null,""]
[null,"2017-10-07",null,null,null,null,null,null,null,null,null,null,""]
[null,"2017-10-08",null,null,null,null,null,null,null,null,null,null,""]
[null,"2017-10-09",null,null,null,null,null,null,null,null,null,null,""]
[null,"2017-10-10",null,null,null,null,null,null,null,null,null,null,""]
[null,"2017-10-11",null,null,null,null,null,null,null,null,null,null,""]
[null,"2017-10-12",null,null,null,null,null,null,null,null,null,null,""]
[null,"2017-10-13",null,null,null,null,null,null,null,null,null,null,""]
[null,"2017-10-14",null,null,null,null,null,null,null,null,null,null,""]
[null,"2017-10-15",null,null,null,null,null,null,null,null,null,null,""]
[null,"2017-10-16",null,null,null,null,null,null,null,null,null,null,""]
[null,"2017-10-17",null,null,null,null,null,null,null,null,null,null,""]
[null,"2017-10-18",null,null,null,null,null,null,null,null,null,null,""]
[null,"2017-10-19",null,null,null,null,null,null,null,null,null,null,""]
[null,"2017-10-20",null,null,null,null,null,null,null,null,null,null,""]
[null,"2017-10-21",null,null,null,null,null,null,null,null,null,null,""]
[null,"2017-10-22",null,null,null,null,null,null,null,null,null,null,""]
[null,"2017-10-23",null,null,null,null,null,null,null,null,null,null,""]
[null,"2017-10-24",null,null,null,null,null,null,null,null,null,null,""]
[null,"2017-10-25",null,null,null,null,null,null,null,null,null,null,""]
[null,"2017-10-26",null,null,null,null,null,null,null,null,null,null,""]
[null,"2017-10-27",null,null,null,null,null,null,null,null,null,null,""]
[null,"2017-10-28",null,null,null,null,null,null,null,null,null,null,""]
[null,"2017-10-29",null,null,null,null,null,null,null,null,null,null,""]
[null,"2017-10-30",null,null,null,null,null,null,null,null,null,null,""]
[null,"2017-10-31",null,null,null,null,null,null,null,null,null,null,""]
[null,"NOVEMBRE",null,null,null,null,null,null,null,null,null,null,{"$f":"SUM(M319:M348)","v":0},{"$f":"SUM(D319:D348)","v":0},{"$f":"SUM(E319:E348)","v":0},{"$f":"SUM(F319:F348)","v":0},{"$f":"SUM(G319:G348)","v":0}]
[null,"2017-11-01",null,null,null,null,null,null,null,null,null,null,""]
[null,"2017-11-02",null,null,null,null,null,null,null,null,null,null,""]
[null,"2017-11-03",null,null,null,null,null,null,null,null,null,null,""]
[null,"2017-11-04",null,null,null,null,null,null,null,null,null,null,""]
[null,"2017-11-05",null,null,null,null,null,null,null,null,null,null,""]
[null,"2017-11-06",null,null,null,null,null,null,null,null,null,null,""]
[null,"2017-11-07",null,null,null,null,null,null,null,null,null,null,""]
[null,"2017-11-08",null,null,null,null,null,null,null,null,null,null,{"$f":"IF(AND(AND(AND(I326=\"\"),J326=\"\"),K326=\"\"),\"\",SUM(I326:K326))","v":""}]
[null,"2017-11-09",null,null,null,null,null,null,null,null,null,null,""]
[null,"2017-11-10",null,null,null,null,null,null,null,null,null,null,""]
[null,"2017-11-11",null,null,null,null,null,null,null,null,null,null,""]
[null,"2017-11-12",null,null,null,null,null,null,null,null,null,null,""]
[null,"2017-11-13",null,null,null,null,null,null,null,null,null,null,""]
[null,"2017-11-14",null,null,null,null,null,null,null,null,null,null,""]
[null,"2017-11-15",null,null,null,null,null,null,null,null,null,null,""]
[null,"2017-11-16",null,null,null,null,null,null,null,null,null,null,""]
[null,"2017-11-17",null,null,null,null,null,null,null,null,null,null,""]
[null,"2017-11-18",null,null,null,null,null,null,null,null,null,null,""]
[null,"2017-11-19",null,null,null,null,null,null,null,null,null,null,""]
[null,"2017-11-20",null,null,null,null,null,null,null,null,null,null,""]
[null,"2017-11-21",null,null,null,null,null,null,null,null,null,null,""]
[null,"2017-11-22",null,null,null,null,null,null,null,null,null,null,""]
[null,"2017-11-23",null,null,null,null,null,null,null,null,null,null,""]
[null,"2017-11-24",null,null,null,null,null,null,null,null,null,null,""]
[null,"2017-11-25",null,null,null,null,null,null,null,null,null,null,""]
[null,"2017-11-26",null,null,null,null,null,null,null,null,null,null,""]
[null,"2017-11-27",null,null,null,null,null,null,null,null,null,null,""]
[null,"2017-11-28",null,null,null,null,null,null,null,null,null,null,""]
[null,"2017-11-29",null,null,null,null,null,null,null,null,null,null,""]
[null,"2017-11-30",null,null,null,null,null,null,null,null,null,null,""]
[null,"DECEMBRE",null,null,null,null,null,null,null,null,null,null,{"$f":"SUM(M350:M380)","v":0},{"$f":"SUM(D350:D380)","v":0},{"$f":"SUM(E350:E380)","v":0},{"$f":"SUM(F350:F380)","v":0},{"$f":"SUM(G350:G380)","v":0}]
[null,"2017-12-01",null,null,null,null,null,null,null,null,null,null,""]
[null,"2017-12-02",null,null,null,null,null,null,null,null,null,null,""]
[null,"2017-12-03",null,null,null,null,null,null,null,null,null,null,""]
[null,"2017-12-04",null,null,null,null,null,null,null,null,null,null,""]
[null,"2017-12-05",null,null,null,null,null,null,null,null,null,null,""]
[null,"2017-12-06",null,null,null,null,null,null,null,null,null,null,""]
[null,"2017-12-07",null,null,null,null,null,null,null,null,null,null,""]
[null,"2017-12-08",null,null,null,null,null,null,null,null,null,null,""]
[null,"2017-12-09",null,null,null,null,null,null,null,null,null,null,""]
[null,"2017-12-10",null,null,null,null,null,null,null,null,null,null,""]
[null,"2017-12-11",null,null,null,null,null,null,null,null,null,null,""]
[null,"2017-12-12",null,null,null,null,null,null,null,null,null,null,""]
[null,"2017-12-13",null,null,null,null,null,null,null,null,null,null,""]
[null,"2017-12-14",null,null,null,null,null,null,null,null,null,null,""]
[null,"2017-12-15",null,null,null,null,null,null,null,null,null,null,""]
[null,"2017-12-16",null,null,null,null,null,null,null,null,null,null,""]
[null,"2017-12-17",null,null,null,null,null,null,null,null,null,null,""]
[null,"2017-12-18",null,null,null,null,null,null,null,null,null,null,""]
[null,"2017-12-19",null,null,null,null,null,null,null,null,null,null,""]
[null,"2017-12-20",null,null,null,null,null,null,null,null,null,null,""]
[null,"2017-12-21",null,null,null,null,null,null,null,null,null,null,""]
[null,"2017-12-22",null,null,null,null,null,null,null,null,null,null,""]
[null,"2017-12-23",null,null,null,null,null,null,null,null,null,null,""]
[null,"2017-12-24",null,null,null,null,null,null,null,null,null,null,""]
[null,"2017-12-25",null,null,null,null,null,null,null,null,null,null,""]
[null,"2017-12-26",null,null,null,null,null,null,null,null,null,null,""]
[null,"2017-12-27",null,null,null,null,null,null,null,null,null,null,""]
[null,"2017-12-28",null,null,null,null,null,null,null,null,null,null,""]
[null,"2017-12-29",null,null,null,null,null,null,null,null,null,null,""]
[null,"2017-12-30",null,null,null,null,null,null,null,null,null,null,""]
[null,"2017-12-31",null,null,null,null,null,null,null,null,null,null,""]

{"sheet":"Suivi ventes","index":4,"n_rows":1000,"n_cols":14,"rows_kept":1000,"cut":false,"hidden":false,"merged":[]}
[]
[null,"DATE","FOURNISSEUR","ARTICLE","PRESTA","QTT","PU TTC","TOTAL TTC","CLIENT","MOIS"]
[null,{"$f":"IF(H3=\"\",\"\",TODAY())","v":"2017-09-30"},{"$f":"IF(D3=\"\",\"\",INDEX($N$3:$N$26,MATCH(D3,$M$3:$M$26,0)))","v":"ZAO"},"Accessoire",null,1,10,{"$f":"IF(F3=\"\",\"\",F3*G3)","v":10},"despues rene",{"$f":"PROPER(TEXT(B3,\"mmmm\"))","v":"Septembre"},null,null,"Accessoire","ZAO"]
[null,"2017-09-30",{"$f":"IF(D4=\"\",\"\",INDEX($N$3:$N$26,MATCH(D4,$M$3:$M$26,0)))","v":"ZAO"},"Accessoire",null,1,10,{"$f":"IF(F4=\"\",\"\",F4*G4)","v":10},"despues rene",{"$f":"PROPER(TEXT(B4,\"mmmm\"))","v":"Septembre"},null,null,"Produit vente","ZAO"]
[null,"2017-09-30","ZAO","Produit vente",null,1,10,10,"despues rene","Septembre",null,null,"Testeur","ZAO"]
[null,"2017-09-30","ZAO","Testeur",null,1,10,10,"despues rene","Septembre",null,null,"Comsommable","BOY DIFFUSION"]
[null,"2017-09-30","BOY DIFFUSION","Comsommable",null,1,10,10,"despues rene","Septembre",null,null,"Bijou","ARTICLES DE PARIS"]
[null,"2017-09-30","ARTICLES DE PARIS","Bijou",null,1,10,10,"despues rene","Septembre",null,null,"Foulard","ARTICLES DE PARIS"]
[null,"2017-09-30","ARTICLES DE PARIS","Foulard",null,1,10,10,"despues rene","Septembre",null,null,"Ceinture","ARTICLES DE PARIS"]
[null,"2017-09-30","ARTICLES DE PARIS","Ceinture",null,1,10,10,"despues rene","Septembre",null,null,"Prêt à porter","ARTICLES DE PARIS"]
[null,"2017-09-30","ARTICLES DE PARIS","Prêt à porter",null,1,10,10,"despues rene","Septembre",null,null,"Chapeau","ARTICLES DE PARIS"]
[null,"2017-09-30","ARTICLES DE PARIS","Chapeau",null,1,10,10,"despues rene","Septembre",null,null,"Sac","ARTICLES DE PARIS"]
[null,"2017-09-30","ARTICLES DE PARIS","Sac",null,1,10,10,"despues rene","Septembre",null,null,"Maroquinerie","ARTICLES DE PARIS"]
[null,"2017-09-30","ARTICLES DE PARIS","Maroquinerie",null,1,10,10,"despues rene","Septembre",null,null,"Chaussure","ARTICLES DE PARIS"]
[null,"2017-09-30","ARTICLES DE PARIS","Chaussure",null,1,10,10,"despues rene","Septembre",null,null,"Divers","ARTICLES DE PARIS"]
[null,"2017-09-30","ARTICLES DE PARIS","Divers",null,1,10,10,"despues rene","Septembre",null,null,"Bijou*","AUTOUR D'ELLE"]
[null,"2017-09-30","ARTICLES DE PARIS","Bijou",null,1,10,10,"despues rene","Septembre",null,null,"Foulard*","AUTOUR D'ELLE"]
[null,"2017-09-30","ARTICLES DE PARIS","Foulard",null,1,10,10,"despues rene","Septembre",null,null,"Ceinture*","AUTOUR D'ELLE"]
[null,"2017-09-30","ARTICLES DE PARIS","Ceinture",null,1,10,10,"despues rene","Septembre",null,null,"Prêt à porter*","AUTOUR D'ELLE"]
[null,"2017-09-30","ARTICLES DE PARIS","Prêt à porter",null,1,10,10,"despues rene","Septembre",null,null,"Chapeau*","AUTOUR D'ELLE"]
[null,"2017-09-30","ARTICLES DE PARIS","Chapeau",null,1,10,10,"despues rene","Septembre",null,null,"Sac*","AUTOUR D'ELLE"]
[null,"2017-09-30","ARTICLES DE PARIS","Sac",null,1,10,10,"despues rene","Septembre",null,null,"Maroquinerie*","AUTOUR D'ELLE"]
[null,"2017-09-30","ARTICLES DE PARIS","Maroquinerie",null,1,10,10,"despues rene","Septembre",null,null,"Chaussure*","AUTOUR D'ELLE"]
[null,"2017-09-30","ARTICLES DE PARIS","Chaussure",null,1,10,10,"despues rene","Septembre",null,null,"Divers*","AUTOUR D'ELLE"]
[null,"2017-09-30","ARTICLES DE PARIS","Divers",null,1,10,10,"despues rene","Septembre",null,null,"CABINE","CHARME D'ORIENT"]
[null,"2017-09-30","CHARME D'ORIENT","CABINE",null,1,10,10,"despues rene","Septembre",null,null,"VENTE","CHARME D'ORIENT"]
[null,"2017-09-30","CHARME D'ORIENT","VENTE",null,1,10,10,"despues rene","Septembre"]
[null,"2017-09-30","",null,"Prestation",1,1,1,"jackson Mickael","Septembre"]
[null,"2017-09-30","ZAO","Accessoire",null,1,1,1,"jackson Mickael","Septembre"]
[null,"2017-09-30","ZAO","Produit vente",null,1,1,1,"jackson Mickael","Septembre"]
[null,"2017-09-30","ZAO","Testeur",null,1,1,1,"jackson Mickael","Septembre"]
[null,"2017-09-30","BOY DIFFUSION","Comsommable",null,1,1,1,"jackson Mickael","Septembre"]
[null,"2017-09-30","ARTICLES DE PARIS","Bijou",null,1,1,1,"jackson Mickael","Septembre"]
[null,"2017-09-30","ARTICLES DE PARIS","Foulard",null,1,1,1,"jackson Mickael","Septembre"]
[null,"2017-09-30","ARTICLES DE PARIS","Ceinture",null,1,1,1,"jackson Mickael","Septembre"]
[null,"2017-09-30","ARTICLES DE PARIS","Prêt à porter",null,1,1,1,"jackson Mickael","Septembre"]
[null,"2017-09-30","ARTICLES DE PARIS","Chapeau",null,1,1,1,"jackson Mickael","Septembre"]
[null,"2017-09-30","ARTICLES DE PARIS","Sac",null,1,1,1,"jackson Mickael","Septembre"]
[null,"2017-09-30","ARTICLES DE PARIS","Maroquinerie",null,1,1,1,"jackson Mickael","Septembre"]
[null,"2017-09-30","ARTICLES DE PARIS","Chaussure",null,1,1,1,"jackson Mickael","Septembre"]
[null,"2017-09-30","ARTICLES DE PARIS","Divers",null,1,1,1,"jackson Mickael","Septembre"]
[null,"2017-09-30","ARTICLES DE PARIS","Bijou",null,1,1,1,"jackson Mickael","Septembre"]
[null,"2017-09-30","ARTICLES DE PARIS","Foulard",null,1,1,1,"jackson Mickael","Septembre"]
[null,"2017-09-30","ARTICLES DE PARIS","Ceinture",null,1,1,1,"jackson Mickael","Septembre"]
[null,"2017-09-30","ARTICLES DE PARIS","Prêt à porter",null,1,1,1,"jackson Mickael","Septembre"]
[null,"2017-09-30","ARTICLES DE PARIS","Chapeau",null,1,1,1,"jackson Mickael","Septembre"]
[null,"2017-09-30","ARTICLES DE PARIS","Sac",null,1,1,1,"jackson Mickael","Septembre"]
[null,"2017-09-30","ARTICLES DE PARIS","Maroquinerie",null,1,1,1,"jackson Mickael","Septembre"]
[null,"2017-09-30","ARTICLES DE PARIS","Chaussure",null,1,1,1,"jackson Mickael","Septembre"]
[null,"2017-09-30","ARTICLES DE PARIS","Divers",null,1,1,1,"jackson Mickael","Septembre"]
[null,"2017-09-30","CHARME D'ORIENT","CABINE",null,1,1,1,"jackson Mickael","Septembre"]
[null,"2017-09-30","CHARME D'ORIENT","VENTE",null,1,1,1,"jackson Mickael","Septembre"]
[null,"2017-09-30","",null,"Prestation",1,10,10,"jackson Mickael","Septembre"]
[null,"2017-09-30","ZAO","Accessoire",null,1,10,10,"jackson Mickael","Septembre"]
[null,"2017-09-30","ZAO","Produit vente",null,1,10,10,"jackson Mickael","Septembre"]
[null,"2017-09-30","ZAO","Testeur",null,1,10,10,"jackson Mickael","Septembre"]
[null,"2017-09-30","BOY DIFFUSION","Comsommable",null,1,10,10,"jackson Mickael","Septembre"]
[null,"2017-09-30","ARTICLES DE PARIS","Bijou",null,1,10,10,"jackson Mickael","Septembre"]
[null,"2017-09-30","ARTICLES DE PARIS","Foulard",null,1,10,10,"jackson Mickael","Septembre"]
[null,"2017-09-30","ARTICLES DE PARIS","Ceinture",null,1,10,10,"jackson Mickael","Septembre"]
[null,"2017-09-30","ARTICLES DE PARIS","Prêt à porter",null,1,10,10,"jackson Mickael","Septembre"]
[null,"2017-09-30","ARTICLES DE PARIS","Chapeau",null,1,10,10,"jackson Mickael","Septembre"]
[null,"2017-09-30","ARTICLES DE PARIS","Sac",null,1,10,10,"jackson Mickael","Septembre"]
[null,"2017-09-30","ARTICLES DE PARIS","Maroquinerie",null,1,10,10,"jackson Mickael","Septembre"]
[null,"2017-09-30","ARTICLES DE PARIS","Chaussure",null,1,10,10,"jackson Mickael","Septembre"]
[null,"2017-09-30","ARTICLES DE PARIS","Divers",null,1,10,10,"jackson Mickael","Septembre"]
[null,"2017-09-30","ARTICLES DE PARIS","Bijou",null,1,10,10,"jackson Mickael","Septembre"]
[null,{"$f":"IF(H68=\"\",\"\",TODAY())","v":"2017-09-30"},{"$f":"IF(D68=\"\",\"\",INDEX($N$3:$N$26,MATCH(D68,$M$3:$M$26,0)))","v":"ARTICLES DE PARIS"},"Foulard",null,1,10,{"$f":"IF(F68=\"\",\"\",F68*G68)","v":10},"jackson Mickael",{"$f":"PROPER(TEXT(B68,\"mmmm\"))","v":"Septembre"}]
[null,"2017-09-30","ARTICLES DE PARIS","Ceinture",null,1,1,1,"jackson Mickael","Septembre"]
[null,"2017-09-30","ARTICLES DE PARIS","Prêt à porter",null,1,10,10,"jackson Mickael","Septembre"]
[null,"2017-09-30","ARTICLES DE PARIS","Chapeau",null,1,10,10,"jackson Mickael","Septembre"]
[null,"2017-09-30","ARTICLES DE PARIS","Sac",null,1,10,10,"jackson Mickael","Septembre"]
[null,"2017-09-30","ARTICLES DE PARIS","Maroquinerie",null,1,10,10,"jackson Mickael","Septembre"]
[null,"2017-09-30","ARTICLES DE PARIS","Chaussure",null,1,1,1,"jackson Mickael","Septembre"]
[null,"2017-09-30","ARTICLES DE PARIS","Divers",null,1,10,10,"jackson Mickael","Septembre"]
[null,"2017-09-30","CHARME D'ORIENT","CABINE",null,1,10,10,"jackson Mickael","Septembre"]
[null,"2017-09-30","CHARME D'ORIENT","VENTE",null,1,10,10,"jackson Mickael","Septembre"]
[null,"2017-09-30","",null,"Prestation",1,10,10," ","Septembre"]
[null,"2017-09-30","ZAO","Accessoire",null,1,10,10," ","Septembre"]
[null,"2017-09-30","",null,"Prestation",1,10,10,"dupont henry","Septembre"]
[null,"2017-09-30","ZAO","Accessoire",null,1,10,10,"dupont henry","Septembre"]
[null,"2017-09-30","",null,"Prestation",1,10,10,"dupont henry","Septembre"]
[null,"2017-09-30","ZAO","Accessoire",null,10,10,100,"dupont henry","Septembre"]
[null,"2017-09-30","",null,"Prestation",1,10,10,"dupont henry","Septembre"]
[null,"2017-09-30","ZAO","Accessoire",null,1,100,100,"dupont henry","Septembre"]
[null,"2017-09-30","",null,"Prestation",1,100,100,"dupont henry","Septembre"]
[null,"2017-09-30","",null,"Prestation",1,100,100,"dupont henry","Septembre"]
[null,"2017-09-30","",null,"Prestation",1,100,100,"dupont henry","Septembre"]
[null,"2017-09-30","",null,"Prestation",1,100,100,"dupont henry","Septembre"]
[null,"2017-09-30","ZAO","Accessoire",null,1,100,100,"dupont henry","Septembre"]
[null,"2017-09-30","",null,"Prestation",1,100,100,"dupont henry","Septembre"]
[null,"2017-09-30","",null,"Prestation",1,100,100,"dupont henry","Septembre"]
[null,"2017-09-30","",null,"Prestation",1,100,100,"dupont henry","Septembre"]
[null,"2017-09-30","",null,"Prestation",1,100,100,"dupont henry","Septembre"]
[null,"2017-09-30","",null,"Prestation",1,100,100,"dupont henry","Septembre"]
[null,"2017-09-30","ZAO","Accessoire",null,1,10,10,"dupont henry","Septembre"]
[null,"2017-09-30","",null,"Prestation",1,10,10,"dupond jules","Septembre"]
[null,"2017-09-30","ZAO","Accessoire",null,1,10,10,"dupond jules","Septembre"]
[null,"2017-09-30","ZAO","Produit vente",null,1,10,10,"dupond jules","Septembre"]
[null,"2017-09-30","ZAO","Testeur",null,1,10,10,"dupond jules","Septembre"]
[null,"2017-09-30","BOY DIFFUSION","Comsommable",null,1,10,10,"dupond jules","Septembre"]
[null,"2017-09-30","ARTICLES DE PARIS","Bijou",null,1,10,10,"dupond jules","Septembre"]
[null,"2017-09-30","ARTICLES DE PARIS","Foulard",null,1,10,10,"dupond jules","Septembre"]
[null,"2017-09-30","ARTICLES DE PARIS","Ceinture",null,1,10,10,"dupond jules","Septembre"]
[null,"2017-09-30","ARTICLES DE PARIS","Prêt à porter",null,1,10,10,"dupond jules","Septembre"]
[null,"2017-09-30","ARTICLES DE PARIS","Chapeau",null,1,10,10,"dupond jules","Septembre"]
[null,"2017-09-30","ARTICLES DE PARIS","Sac",null,1,10,10,"dupond jules","Septembre"]
[null,"2017-09-30","ARTICLES DE PARIS","Maroquinerie",null,1,10,10,"dupond jules","Septembre"]
[null,"2017-09-30","ARTICLES DE PARIS","Chaussure",null,1,10,10,"dupond jules","Septembre"]
[null,"2017-09-30","ARTICLES DE PARIS","Divers",null,1,10,10,"dupond jules","Septembre"]
[null,"2017-09-30","ARTICLES DE PARIS","Bijou",null,1,10,10,"dupond jules","Septembre"]
[null,"2017-09-30","ARTICLES DE PARIS","Foulard",null,1,10,10,"dupond jules","Septembre"]
[null,"2017-09-30","ARTICLES DE PARIS","Ceinture",null,1,10,10,"dupond jules","Septembre"]
[null,"2017-09-30","ARTICLES DE PARIS","Prêt à porter",null,1,10,10,"dupond jules","Septembre"]
[null,"2017-09-30","ARTICLES DE PARIS","Chapeau",null,1,10,10,"dupond jules","Septembre"]
[null,"2017-09-30","ARTICLES DE PARIS","Sac",null,1,10,10,"dupond jules","Septembre"]
[null,"2017-09-30","ARTICLES DE PARIS","Maroquinerie",null,1,10,10,"dupond jules","Septembre"]
[null,"2017-09-30","ARTICLES DE PARIS","Chaussure",null,1,10,10,"dupond jules","Septembre"]
[null,"2017-09-30","ARTICLES DE PARIS","Divers",null,1,10,10,"dupond jules","Septembre"]
[null,"2017-09-30","CHARME D'ORIENT","CABINE",null,1,10,10,"dupond jules","Septembre"]
[null,"2017-09-30","CHARME D'ORIENT","VENTE",null,1,10,10,"dupond jules","Septembre"]
[null,"2017-09-30","ZAO","Accessoire",null,1,10,10,"dupond jules","Septembre"]
[null,"2017-09-30","ZAO","Accessoire",null,10,100,1000,"dupond jules","Septembre"]
[null,"2017-09-30","ZAO","Accessoire",null,10,100,1000,"dupond jules","Septembre"]
[null,"2017-09-30","ZAO","Accessoire",null,10,100,1000,"dupond jules","Septembre"]
[null,"2017-09-30","ZAO","Accessoire",null,10,1000,10000,"dupond jules","Septembre"]
[null,"2017-09-30","ZAO","Accessoire",null,10,1000,10000,"dupond jules","Septembre"]
[null,"2017-09-30","ZAO","Accessoire",null,10,1000,10000,"dupond jules","Septembre"]
[null,"2017-09-30","ZAO","Accessoire",null,10,1000,10000,"dupond jules","Septembre"]
[null,"2017-09-30","ZAO","Produit vente",null,10,100,1000,"dupond jules","Septembre"]
[null,"2017-09-30","ZAO","Accessoire",null,10,1000,10000,"dupond jules","Septembre"]
[null,{"$f":"IF(H132=\"\",\"\",TODAY())","v":"2017-09-30"},{"$f":"IF(D132=\"\",\"\",INDEX($N$3:$N$26,MATCH(D132,$M$3:$M$26,0)))","v":"ZAO"},"Accessoire",null,10,1000,{"$f":"IF(F132=\"\",\"\",F132*G132)","v":10000},"dupond jules",{"$f":"PROPER(TEXT(B132,\"mmmm\"))","v":"Septembre"}]
[null,"2017-09-30","ZAO","Accessoire",null,10,1000,10000,"dupond jules","Septembre"]
[null,"2017-09-30","ZAO","Accessoire",null,10,1000,10000,"dupond jules","Septembre"]
[null,"2017-09-30","ZAO","Accessoire",null,10,1000,10000,"dupond jules","Septembre"]
[null,"2017-09-30","ZAO","Accessoire",null,10,1000,10000,"dupond jules","Septembre"]
[null,"2017-09-30","ZAO","Accessoire",null,10,1000,10000,"dupond jules","Septembre"]
[null,"2017-09-30","ZAO","Accessoire",null,10,1000,10000,"dupond jules","Septembre"]
[null,"2017-09-30","ZAO","Accessoire",null,10,1000,10000,"dupond jules","Septembre"]
[null,"2017-09-30","",null,"Prestation",10,1000,10000,"dupond jules","Septembre"]
[null,"2017-09-30","ZAO","Accessoire",null,10,1000,10000,"dupond jules","Septembre"]
[null,"2017-09-30","ZAO","Produit vente",null,10,1000,10000,"dupond jules","Septembre"]
[null,"2017-09-30","ZAO","Accessoire",null,10,1000,10000,"dupond jules","Septembre"]
[null,"2017-09-30","ZAO","Produit vente",null,10,1000,10000,"dupond jules","Septembre"]
[null,"2017-09-30","ZAO","Accessoire",null,10,1,10,"dupond jules","Septembre"]
[null,"2017-09-30","ZAO","Accessoire",null,10,10,100,"dupond jules","Septembre"]
[null,"2017-09-30","ZAO","Accessoire",null,18,1,18,"dupond jules","Septembre"]
[null,"2017-09-30","ZAO","Accessoire",null,18,1,18,"dupond jules","Septembre"]
[null,"2017-09-30","ZAO","Accessoire",null,50,18,900,"dupont henry","Septembre"]
[null,"2017-09-30","ZAO","Produit vente",null,50,10,500,"dupont henry","Septembre"]
[null,"2017-09-30","ZAO","Testeur",null,50,10,500,"dupont henry","Septembre"]
[null,"2017-09-30","BOY DIFFUSION","Comsommable",null,50,10,500,"dupont henry","Septembre"]
[null,"2017-09-30","ARTICLES DE PARIS","Bijou",null,50,10,500,"dupont henry","Septembre"]
[null,"2017-09-30","",null,"Prestation",1,1,1,"dupont henry","Septembre"]
[null,"2017-09-30","ZAO","Accessoire",null,1,1,1,"dupont henry","Septembre"]
[null,"2017-09-30","ZAO","Produit vente",null,1,1,1,"dupont henry","Septembre"]
[null,"2017-09-30","ZAO","Testeur",null,1,1,1,"dupont henry","Septembre"]
[null,"2017-09-30","BOY DIFFUSION","Comsommable",null,1,1,1,"dupont henry","Septembre"]
[null,"2017-09-30","ARTICLES DE PARIS","Bijou",null,1,1,1,"dupont henry","Septembre"]
[null,"2017-09-30","ARTICLES DE PARIS","Foulard",null,1,1,1,"dupont henry","Septembre"]
[null,"2017-09-30","ARTICLES DE PARIS","Ceinture",null,1,1,1,"dupont henry","Septembre"]
[null,"2017-09-30","ARTICLES DE PARIS","Prêt à porter",null,1,1,1,"dupont henry","Septembre"]
[null,"2017-09-30","ARTICLES DE PARIS","Chapeau",null,1,1,1,"dupont henry","Septembre"]
[null,"2017-09-30","ARTICLES DE PARIS","Sac",null,1,1,1,"dupont henry","Septembre"]
[null,"2017-09-30","ARTICLES DE PARIS","Maroquinerie",null,1,1,1,"dupont henry","Septembre"]
[null,"2017-09-30","ARTICLES DE PARIS","Chaussure",null,1,1,1,"dupont henry","Septembre"]
[null,"2017-09-30","ARTICLES DE PARIS","Divers",null,1,1,1,"dupont henry","Septembre"]
[null,"2017-09-30","ARTICLES DE PARIS","Bijou",null,1,1,1,"dupont henry","Septembre"]
[null,"2017-09-30","ARTICLES DE PARIS","Foulard",null,1,1,1,"dupont henry","Septembre"]
[null,"2017-09-30","ARTICLES DE PARIS","Ceinture",null,1,1,1,"dupont henry","Septembre"]
[null,"2017-09-30","ARTICLES DE PARIS","Prêt à porter",null,1,1,1,"dupont henry","Septembre"]
[null,"2017-09-30","ARTICLES DE PARIS","Chapeau",null,1,1,1,"dupont henry","Septembre"]
[null,"2017-09-30","ARTICLES DE PARIS","Sac",null,1,1,1,"dupont henry","Septembre"]
[null,"2017-09-30","ARTICLES DE PARIS","Maroquinerie",null,1,1,1,"dupont henry","Septembre"]
[null,"2017-09-30","ARTICLES DE PARIS","Chaussure",null,1,1,1,"dupont henry","Septembre"]
[null,"2017-09-30","ARTICLES DE PARIS","Divers",null,1,1,1,"dupont henry","Septembre"]
[null,"2017-09-30","CHARME D'ORIENT","CABINE",null,1,1,1,"dupont henry","Septembre"]
[null,"2017-09-30","CHARME D'ORIENT","VENTE",null,1,1,1,"dupont henry","Septembre"]
[null,"2017-09-30","ZAO","Accessoire",null,10,8,80,"dupont henry","Septembre"]
[null,"2017-09-30","ZAO","Accessoire",null,1,10,10,"dupont henry","Septembre"]
[null,"2017-09-30","ZAO","Accessoire",null,10,100,1000,"dupont henry","Septembre"]
[null,"2017-09-30","ZAO","Accessoire",null,10,10,100,"dupont henry","Septembre"]
[null,"2017-09-30","ZAO","Accessoire",null,10,10,100,"dupont henry","Septembre"]
[null,"2017-09-30","ZAO","Accessoire",null,2,10,20,"dupont henry","Septembre"]
[null,"2017-09-30","ZAO","Accessoire",null,1,30,30,"dupont henry","Septembre"]
[null,"2017-09-30","ZAO","Accessoire",null,1,40,40,"dupont henry","Septembre"]
[null,"2017-09-30","",null,"Prestation",1,10,10,"Neymar Jr","Septembre"]
[null,"2017-09-30","ZAO","Accessoire",null,1,10,10,"Neymar Jr","Septembre"]
[null,"2017-09-30","ZAO","Produit vente",null,1,10,10,"Neymar Jr","Septembre"]
[null,"2017-09-30","ZAO","Testeur",null,1,10,10,"Neymar Jr","Septembre"]
[null,"2017-09-30","BOY DIFFUSION","Comsommable",null,1,10,10,"Neymar Jr","Septembre"]
[null,"2017-09-30","ARTICLES DE PARIS","Bijou",null,1,10,10,"Neymar Jr","Septembre"]
[null,"2017-09-30","ARTICLES DE PARIS","Foulard",null,1,10,10,"Neymar Jr","Septembre"]
[null,"2017-09-30","ARTICLES DE PARIS","Ceinture",null,1,10,10,"Neymar Jr","Septembre"]
[null,"2017-09-30","ARTICLES DE PARIS","Prêt à porter",null,1,0,0,"Neymar Jr","Septembre"]
[null,{"$f":"IF(H196=\"\",\"\",TODAY())","v":"2017-09-30"},{"$f":"IF(D196=\"\",\"\",INDEX($N$3:$N$26,MATCH(D196,$M$3:$M$26,0)))","v":"ARTICLES DE PARIS"},"Chapeau",null,1,1,{"$f":"IF(F196=\"\",\"\",F196*G196)","v":1},"Neymar Jr",{"$f":"PROPER(TEXT(B196,\"mmmm\"))","v":"Septembre"}]
[null,"2017-09-30","ARTICLES DE PARIS","Sac",null,1,1,1,"Neymar Jr","Septembre"]
[null,"2017-09-30","ARTICLES DE PARIS","Maroquinerie",null,1,1,1,"Neymar Jr","Septembre"]
[null,"2017-09-30","ARTICLES DE PARIS","Chaussure",null,1,10,10,"Neymar Jr","Septembre"]
[null,"2017-09-30","ARTICLES DE PARIS","Divers",null,1,10,10,"Neymar Jr","Septembre"]
[null,"2017-09-30","ARTICLES DE PARIS","Bijou",null,1,10,10,"Neymar Jr","Septembre"]
[null,"2017-09-30","ARTICLES DE PARIS","Foulard",null,1,10,10,"Neymar Jr","Septembre"]
[null,"2017-09-30","ARTICLES DE PARIS","Ceinture",null,1,10,10,"Neymar Jr","Septembre"]
[null,"2017-09-30","ARTICLES DE PARIS","Prêt à porter",null,1,10,10,"Neymar Jr","Septembre"]
[null,"2017-09-30","ARTICLES DE PARIS","Chapeau",null,1,10,10,"Neymar Jr","Septembre"]
[null,"2017-09-30","ARTICLES DE PARIS","Sac",null,1,10,10,"Neymar Jr","Septembre"]
[null,"2017-09-30","ARTICLES DE PARIS","Maroquinerie",null,1,10,10,"Neymar Jr","Septembre"]
[null,"2017-09-30","ARTICLES DE PARIS","Chaussure",null,1,10,10,"Neymar Jr","Septembre"]
[null,"2017-09-30","ARTICLES DE PARIS","Divers",null,1,10,10,"Neymar Jr","Septembre"]
[null,"2017-09-30","CHARME D'ORIENT","CABINE",null,1,10,10,"Neymar Jr","Septembre"]
[null,"2017-09-30","CHARME D'ORIENT","VENTE",null,1,10,10,"Neymar Jr","Septembre"]
[null,{"$f":"IF(H212=\"\",\"\",TODAY())","v":""},"",null,null,null,null,{"$f":"IF(F212=\"\",\"\",F212*G212)","v":""},null,{"$f":"PROPER(TEXT(B212,\"mmmm\"))","v":""}]
[null,"","",null,null,null,null,"",null,""]
[null,"","",null,null,null,null,"",null,""]
[null,"","",null,null,null,null,"",null,""]
[null,"","",null,null,null,null,"",null,""]
[null,"","",null,null,null,null,"",null,""]
[null,"","",null,null,null,null,"",null,""]
[null,"","",null,null,null,null,"",null,""]
[null,"","",null,null,null,null,"",null,""]
[null,"","",null,null,null,null,"",null,""]
[null,"","",null,null,null,null,"",null,""]
[null,"","",null,null,null,null,"",null,""]
[null,"","",null,null,null,null,"",null,""]
[null,"","",null,null,null,null,"",null,""]
[null,"","",null,null,null,null,"",null,""]
[null,"","",null,null,null,null,"",null,""]
[null,"","",null,null,null,null,"",null,""]
[null,"","",null,null,null,null,"",null,""]
[null,"","",null,null,null,null,"",null,""]
[null,"","",null,null,null,null,"",null,""]
[null,"","",null,null,null,null,"",null,""]
[null,"","",null,null,null,null,"",null,""]
[null,"","",null,null,null,null,"",null,""]
[null,"","",null,null,null,null,"",null,""]
[null,"","",null,null,null,null,"",null,""]
[null,"","",null,null,null,null,"",null,""]
[null,"","",null,null,null,null,"",null,""]
[null,"","",null,null,null,null,"",null,""]
[null,"","",null,null,null,null,"",null,""]
[null,"","",null,null,null,null,"",null,""]
[null,"","",null,null,null,null,"",null,""]
[null,"","",null,null,null,null,"",null,""]
[null,"","",null,null,null,null,"",null,""]
[null,"","",null,null,null,null,"",null,""]
[null,"","",null,null,null,null,"",null,""]
[null,"","",null,null,null,null,"",null,""]
[null,"","",null,null,null,null,"",null,""]
[null,"","",null,null,null,null,"",null,""]
[null,"","",null,null,null,null,"",null,""]
[null,"","",null,null,null,null,"",null,""]
[null,"","",null,null,null,null,"",null,""]
[null,"","",null,null,null,null,"",null,""]
[null,"","",null,null,null,null,"",null,""]
[null,"","",null,null,null,null,"",null,""]
[null,"","",null,null,null,null,"",null,""]
[null,"","",null,null,null,null,"",null,""]
[null,"","",null,null,null,null,"",null,""]
[null,"","",null,null,null,null,"",null,""]
[null,{"$f":"IF(H260=\"\",\"\",TODAY())","v":""},{"$f":"IF(D260=\"\",\"\",INDEX($N$3:$N$26,MATCH(D260,$M$3:$M$26,0)))","v":""},null,null,null,null,{"$f":"IF(F260=\"\",\"\",F260*G260)","v":""},null,{"$f":"PROPER(TEXT(B260,\"mmmm\"))","v":""}]
[null,"","",null,null,null,null,"",null,""]
[null,"","",null,null,null,null,"",null,""]
[null,"","",null,null,null,null,"",null,""]
[null,"","",null,null,null,null,"",null,""]
[null,"","",null,null,null,null,"",null,""]
[null,"","",null,null,null,null,"",null,""]
[null,"","",null,null,null,null,"",null,""]
[null,"","",null,null,null,null,"",null,""]
[null,"","",null,null,null,null,"",null,""]
[null,"","",null,null,null,null,"",null,""]
[null,"","",null,null,null,null,"",null,""]
[null,"","",null,null,null,null,"",null,""]
[null,"","",null,null,null,null,"",null,""]
[null,"","",null,null,null,null,"",null,""]
[null,"","",null,null,null,null,"",null,""]
[null,"","",null,null,null,null,"",null,""]
[null,"","",null,null,null,null,"",null,""]
[null,"","",null,null,null,null,"",null,""]
[null,"","",null,null,null,null,"",null,""]
[null,"","",null,null,null,null,"",null,""]
[null,"","",null,null,null,null,"",null,""]
[null,"","",null,null,null,null,"",null,""]
[null,"","",null,null,null,null,"",null,""]
[null,"2017-09-30","",null,null,1,null,0,null,"Septembre"]
[null,"2017-09-30","",null,null,1,null,0,null,"Septembre"]
[null,"2017-09-30","",null,null,1,null,0,null,"Septembre"]
[null,"2017-09-30","",null,null,1,null,0,null,"Septembre"]
[null,"","",null,null,null,null,"",null,""]
[null,"","",null,null,null,null,"",null,""]
[null,"","",null,null,null,null,"",null,""]
[null,"","",null,null,null,null,"",null,""]
[null,"","",null,null,null,null,"",null,""]
[null,"","",null,null,null,null,"",null,""]
[null,"","",null,null,null,null,"",null,""]
[null,"","",null,null,null,null,"",null,""]
[null,"","",null,null,null,null,"",null,""]
[null,"","",null,null,null,null,"",null,""]
[null,"","",null,null,null,null,"",null,""]
[null,"","",null,null,null,null,"",null,""]
[null,"","",null,null,null,null,"",null,""]
[null,"","",null,null,null,null,"",null,""]
[null,"","",null,null,null,null,"",null,""]
[null,"","",null,null,null,null,"",null,""]
[null,"","",null,null,null,null,"",null,""]
[null,"","",null,null,null,null,"",null,""]
[null,"","",null,null,null,null,"",null,""]
[null,"","",null,null,null,null,"",null,""]
[null,"","",null,null,null,null,"",null,""]
[null,"","",null,null,null,null,"",null,""]
[null,"","",null,null,null,null,"",null,""]
[null,"","",null,null,null,null,"",null,""]
[null,"","",null,null,null,null,"",null,""]
[null,"","",null,null,null,null,"",null,""]
[null,"","",null,null,null,null,"",null,""]
[null,"","",null,null,null,null,"",null,""]
[null,"","",null,null,null,null,"",null,""]
[null,"","",null,null,null,null,"",null,""]
[null,"","",null,null,null,null,"",null,""]
[null,"","",null,null,null,null,"",null,""]
[null,"","",null,null,null,null,"",null,""]
[null,"","",null,null,null,null,"",null,""]
[null,"","",null,null,null,null,"",null,""]
[null,"","",null,null,null,null,"",null,""]
[null,{"$f":"IF(H324=\"\",\"\",TODAY())","v":""},{"$f":"IF(D324=\"\",\"\",INDEX($N$3:$N$26,MATCH(D324,$M$3:$M$26,0)))","v":""},null,null,null,null,{"$f":"IF(F324=\"\",\"\",F324*G324)","v":""},null,{"$f":"PROPER(TEXT(B324,\"mmmm\"))","v":""}]
[null,"","",null,null,null,null,"",null,""]
[null,"","",null,null,null,null,"",null,""]
[null,"","",null,null,null,null,"",null,""]
[null,"","",null,null,null,null,"",null,""]
[null,"","",null,null,null,null,"",null,""]
[null,"","",null,null,null,null,"",null,""]
[null,"","",null,null,null,null,"",null,""]
[null,"","",null,null,null,null,"",null,""]
[null,"","",null,null,null,null,"",null,""]
[null,"","",null,null,null,null,"",null,""]
[null,"","",null,null,null,null,"",null,""]
[null,"","",null,null,null,null,"",null,""]
[null,"","",null,null,null,null,"",null,""]
[null,"","",null,null,null,null,"",null,""]
[null,"","",null,null,null,null,"",null,""]
[null,"","",null,null,null,null,"",null,""]
[null,"","",null,null,null,null,"",null,""]
[null,"","",null,null,null,null,"",null,""]
[null,"","",null,null,null,null,"",null,""]
[null,"","",null,null,null,null,"",null,""]
[null,"","",null,null,null,null,"",null,""]
[null,"","",null,null,null,null,"",null,""]
[null,"","",null,null,null,null,"",null,""]
[null,"","",null,null,null,null,"",null,""]
[null,"","",null,null,null,null,"",null,""]
[null,"","",null,null,null,null,"",null,""]
[null,"","",null,null,null,null,"",null,""]
[null,"","",null,null,null,null,"",null,""]
[null,"","",null,null,null,null,"",null,""]
[null,"","",null,null,null,null,"",null,""]
[null,"","",null,null,null,null,"",null,""]
[null,"","",null,null,null,null,"",null,""]
[null,"","",null,null,null,null,"",null,""]
[null,"","",null,null,null,null,"",null,""]
[null,"","",null,null,null,null,"",null,""]
[null,"","",null,null,null,null,"",null,""]
[null,"","",null,null,null,null,"",null,""]
[null,"","",null,null,null,null,"",null,""]
[null,"","",null,null,null,null,"",null,""]
[null,"","",null,null,null,null,"",null,""]
[null,"","",null,null,null,null,"",null,""]
[null,"","",null,null,null,null,"",null,""]
[null,"","",null,null,null,null,"",null,""]
[null,"","",null,null,null,null,"",null,""]
[null,"","",null,null,null,null,"",null,""]
[null,"","",null,null,null,null,"",null,""]
[null,"","",null,null,null,null,"",null,""]
[null,"","",null,null,null,null,"",null,""]
[null,"","",null,null,null,null,"",null,""]
[null,"","",null,null,null,null,"",null,""]
[null,"","",null,null,null,null,"",null,""]
[null,"","",null,null,null,null,"",null,""]
[null,"","",null,null,null,null,"",null,""]
[null,"","",null,null,null,null,"",null,""]
[null,"","",null,null,null,null,"",null,""]
[null,"","",null,null,null,null,"",null,""]
[null,"","",null,null,null,null,"",null,""]
[null,"","",null,null,null,null,"",null,""]
[null,"","",null,null,null,null,"",null,""]
[null,"","",null,null,null,null,"",null,""]
[null,"","",null,null,null,null,"",null,""]
[null,"","",null,null,null,null,"",null,""]
[null,"","",null,null,null,null,"",null,""]
[null,{"$f":"IF(H388=\"\",\"\",TODAY())","v":""},{"$f":"IF(D388=\"\",\"\",INDEX($N$3:$N$26,MATCH(D388,$M$3:$M$26,0)))","v":""},null,null,null,null,{"$f":"IF(F388=\"\",\"\",F388*G388)","v":""},null,{"$f":"PROPER(TEXT(B388,\"mmmm\"))","v":""}]
[null,"","",null,null,null,null,"",null,""]
[null,"","",null,null,null,null,"",null,""]
[null,"","",null,null,null,null,"",null,""]
[null,"","",null,null,null,null,"",null,""]
[null,"","",null,null,null,null,"",null,""]
[null,"","",null,null,null,null,"",null,""]
[null,"","",null,null,null,null,"",null,""]
[null,"","",null,null,null,null,"",null,""]
[null,"","",null,null,null,null,"",null,""]
[null,"","",null,null,null,null,"",null,""]
[null,"","",null,null,null,null,"",null,""]
[null,"","",null,null,null,null,"",null,""]
[null,"","",null,null,null,null,"",null,""]
[null,"","",null,null,null,null,"",null,""]
[null,"","",null,null,null,null,"",null,""]
[null,"","",null,null,null,null,"",null,""]
[null,"","",null,null,null,null,"",null,""]
[null,"","",null,null,null,null,"",null,""]
[null,"","",null,null,null,null,"",null,""]
[null,"","",null,null,null,null,"",null,""]
[null,"","",null,null,null,null,"",null,""]
[null,"","",null,null,null,null,"",null,""]
[null,"","",null,null,null,null,"",null,""]
[null,"","",null,null,null,null,"",null,""]
[null,"","",null,null,null,null,"",null,""]
[null,"","",null,null,null,null,"",null,""]
[null,"","",null,null,null,null,"",null,""]
[null,"","",null,null,null,null,"",null,""]
[null,"","",null,null,null,null,"",null,""]
[null,"","",null,null,null,null,"",null,""]
[null,"","",null,null,null,null,"",null,""]
[null,"","",null,null,null,null,"",null,""]
[null,"","",null,null,null,null,"",null,""]
[null,"","",null,null,null,null,"",null,""]
[null,"","",null,null,null,null,"",null,""]
[null,"","",null,null,null,null,"",null,""]
[null,"","",null,null,null,null,"",null,""]
[null,"","",null,null,null,null,"",null,""]
[null,"","",null,null,null,null,"",null,""]
[null,"","",null,null,null,null,"",null,""]
[null,"","",null,null,null,null,"",null,""]
[null,"","",null,null,null,null,"",null,""]
[null,"","",null,null,null,null,"",null,""]
[null,"","",null,null,null,null,"",null,""]
[null,"","",null,null,null,null,"",null,""]
[null,"","",null,null,null,null,"",null,""]
[null,"","",null,null,null,null,"",null,""]
[null,"","",null,null,null,null,"",null,""]
[null,"","",null,null,null,null,"",null,""]
[null,"","",null,null,null,null,"",null,""]
[null,"","",null,null,null,null,"",null,""]
[null,"","",null,null,null,null,"",null,""]
[null,"","",null,null,null,null,"",null,""]
[null,"","",null,null,null,null,"",null,""]
[null,"","",null,null,null,null,"",null,""]
[null,"","",null,null,null,null,"",null,""]
[null,"","",null,null,null,null,"",null,""]
[null,"","",null,null,null,null,"",null,""]
[null,"","",null,null,null,null,"",null,""]
[null,"","",null,null,null,null,"",null,""]
[null,"","",null,null,null,null,"",null,""]
[null,"","",null,null,null,null,"",null,""]
[null,"","",null,null,null,null,"",null,""]
[null,{"$f":"IF(H452=\"\",\"\",TODAY())","v":""},{"$f":"IF(D452=\"\",\"\",INDEX($N$3:$N$26,MATCH(D452,$M$3:$M$26,0)))","v":""},null,null,null,null,{"$f":"IF(F452=\"\",\"\",F452*G452)","v":""},null,{"$f":"PROPER(TEXT(B452,\"mmmm\"))","v":""}]
[null,"","",null,null,null,null,"",null,""]
[null,"","",null,null,null,null,"",null,""]
[null,"","",null,null,null,null,"",null,""]
[null,"","",null,null,null,null,"",null,""]
[null,"","",null,null,null,null,"",null,""]
[null,"","",null,null,null,null,"",null,""]
[null,"","",null,null,null,null,"",null,""]
[null,"","",null,null,null,null,"",null,""]
[null,"","",null,null,null,null,"",null,""]
[null,"","",null,null,null,null,"",null,""]
[null,"","",null,null,null,null,"",null,""]
[null,"","",null,null,null,null,"",null,""]
[null,"","",null,null,null,null,"",null,""]
[null,"","",null,null,null,null,"",null,""]
[null,"","",null,null,null,null,"",null,""]
[null,"","",null,null,null,null,"",null,""]
[null,"","",null,null,null,null,"",null,""]
[null,"","",null,null,null,null,"",null,""]
[null,"","",null,null,null,null,"",null,""]
[null,"","",null,null,null,null,"",null,""]
[null,"","",null,null,null,null,"",null,""]
[null,"","",null,null,null,null,"",null,""]
[null,"","",null,null,null,null,"",null,""]
[null,"","",null,null,null,null,"",null,""]
[null,"","",null,null,null,null,"",null,""]
[null,"","",null,null,null,null,"",null,""]
[null,"","",null,null,null,null,"",null,""]
[null,"","",null,null,null,null,"",null,""]
[null,"","",null,null,null,null,"",null,""]
[null,"","",null,null,null,null,"",null,""]
[null,"","",null,null,null,null,"",null,""]
[null,"","",null,null,null,null,"",null,""]
[null,"","",null,null,null,null,"",null,""]
[null,"","",null,null,null,null,"",null,""]
[null,"","",null,null,null,null,"",null,""]
[null,"","",null,null,null,null,"",null,""]
[null,"","",null,null,null,null,"",null,""]
[null,"","",null,null,null,null,"",null,""]
[null,"","",null,null,null,null,"",null,""]
[null,"","",null,null,null,null,"",null,""]
[null,"","",null,null,null,null,"",null,""]
[null,"","",null,null,null,null,"",null,""]
[null,"","",null,null,null,null,"",null,""]
[null,"","",null,null,null,null,"",null,""]
[null,"","",null,null,null,null,"",null,""]
[null,"","",null,null,null,null,"",null,""]
[null,"","",null,null,null,null,"",null,""]
[null,"","",null,null,null,null,"",null,""]
[null,"","",null,null,null,null,"",null,""]
[null,"","",null,null,null,null,"",null,""]
[null,"","",null,null,null,null,"",null,""]
[null,"","",null,null,null,null,"",null,""]
[null,"","",null,null,null,null,"",null,""]
[null,"","",null,null,null,null,"",null,""]
[null,"","",null,null,null,null,"",null,""]
[null,"","",null,null,null,null,"",null,""]
[null,"","",null,null,null,null,"",null,""]
[null,"","",null,null,null,null,"",null,""]
[null,"","",null,null,null,null,"",null,""]
[null,"","",null,null,null,null,"",null,""]
[null,"","",null,null,null,null,"",null,""]
[null,"","",null,null,null,null,"",null,""]
[null,"","",null,null,null,null,"",null,""]
[null,{"$f":"IF(H516=\"\",\"\",TODAY())","v":""},{"$f":"IF(D516=\"\",\"\",INDEX($N$3:$N$26,MATCH(D516,$M$3:$M$26,0)))","v":""},null,null,null,null,{"$f":"IF(F516=\"\",\"\",F516*G516)","v":""},null,{"$f":"PROPER(TEXT(B516,\"mmmm\"))","v":""}]
[null,"","",null,null,null,null,"",null,""]
[null,"","",null,null,null,null,"",null,""]
[null,"","",null,null,null,null,"",null,""]
[null,"","",null,null,null,null,"",null,""]
[null,"","",null,null,null,null,"",null,""]
[null,"","",null,null,null,null,"",null,""]
[null,"","",null,null,null,null,"",null,""]
[null,"","",null,null,null,null,"",null,""]
[null,"","",null,null,null,null,"",null,""]
[null,"","",null,null,null,null,"",null,""]
[null,"","",null,null,null,null,"",null,""]
[null,"","",null,null,null,null,"",null,""]
[null,"","",null,null,null,null,"",null,""]
[null,"","",null,null,null,null,"",null,""]
[null,"","",null,null,null,null,"",null,""]
[null,"","",null,null,null,null,"",null,""]
[null,"","",null,null,null,null,"",null,""]
[null,"","",null,null,null,null,"",null,""]
[null,"","",null,null,null,null,"",null,""]
[null,"","",null,null,null,null,"",null,""]
[null,"","",null,null,null,null,"",null,""]
[null,"","",null,null,null,null,"",null,""]
[null,"","",null,null,null,null,"",null,""]
[null,"","",null,null,null,null,"",null,""]
[null,"","",null,null,null,null,"",null,""]
[null,"","",null,null,null,null,"",null,""]
[null,"","",null,null,null,null,"",null,""]
[null,"","",null,null,null,null,"",null,""]
[null,"","",null,null,null,null,"",null,""]
[null,"","",null,null,null,null,"",null,""]
[null,"","",null,null,null,null,"",null,""]
[null,"","",null,null,null,null,"",null,""]
[null,"","",null,null,null,null,"",null,""]
[null,"","",null,null,null,null,"",null,""]
[null,"","",null,null,null,null,"",null,""]
[null,"","",null,null,null,null,"",null,""]
[null,"","",null,null,null,null,"",null,""]
[null,"","",null,null,null,null,"",null,""]
[null,"","",null,null,null,null,"",null,""]
[null,"","",null,null,null,null,"",null,""]
[null,"","",null,null,null,null,"",null,""]
[null,"","",null,null,null,null,"",null,""]
[null,"","",null,null,null,null,"",null,""]
[null,"","",null,null,null,null,"",null,""]
[null,"","",null,null,null,null,"",null,""]
[null,"","",null,null,null,null,"",null,""]
[null,"","",null,null,null,null,"",null,""]
[null,"","",null,null,null,null,"",null,""]
[null,"","",null,null,null,null,"",null,""]
[null,"","",null,null,null,null,"",null,""]
[null,"","",null,null,null,null,"",null,""]
[null,"","",null,null,null,null,"",null,""]
[null,"","",null,null,null,null,"",null,""]
[null,"","",null,null,null,null,"",null,""]
[null,"","",null,null,null,null,"",null,""]
[null,"","",null,null,null,null,"",null,""]
[null,"","",null,null,null,null,"",null,""]
[null,"","",null,null,null,null,"",null,""]
[null,"","",null,null,null,null,"",null,""]
[null,"","",null,null,null,null,"",null,""]
[null,"","",null,null,null,null,"",null,""]
[null,"","",null,null,null,null,"",null,""]
[null,"","",null,null,null,null,"",null,""]
[null,{"$f":"IF(H580=\"\",\"\",TODAY())","v":""},{"$f":"IF(D580=\"\",\"\",INDEX($N$3:$N$26,MATCH(D580,$M$3:$M$26,0)))","v":""},null,null,null,null,{"$f":"IF(F580=\"\",\"\",F580*G580)","v":""},null,{"$f":"PROPER(TEXT(B580,\"mmmm\"))","v":""}]
[null,"","",null,null,null,null,"",null,""]
[null,"","",null,null,null,null,"",null,""]
[null,"","",null,null,null,null,"",null,""]
[null,"","",null,null,null,null,"",null,""]
[null,"","",null,null,null,null,"",null,""]
[null,"","",null,null,null,null,"",null,""]
[null,"","",null,null,null,null,"",null,""]
[null,"","",null,null,null,null,"",null,""]
[null,"","",null,null,null,null,"",null,""]
[null,"","",null,null,null,null,"",null,""]
[null,"","",null,null,null,null,"",null,""]
[null,"","",null,null,null,null,"",null,""]
[null,"","",null,null,null,null,"",null,""]
[null,"","",null,null,null,null,"",null,""]
[null,"","",null,null,null,null,"",null,""]
[null,"","",null,null,null,null,"",null,""]
[null,"","",null,null,null,null,"",null,""]
[null,"","",null,null,null,null,"",null,""]
[null,"","",null,null,null,null,"",null,""]
[null,"","",null,null,null,null,"",null,""]
[null,"","",null,null,null,null,"",null,""]
[null,"","",null,null,null,null,"",null,""]
[null,"","",null,null,null,null,"",null,""]
[null,"","",null,null,null,null,"",null,""]
[null,"","",null,null,null,null,"",null,""]
[null,"","",null,null,null,null,"",null,""]
[null,"","",null,null,null,null,"",null,""]
[null,"","",null,null,null,null,"",null,""]
[null,"","",null,null,null,null,"",null,""]
[null,"","",null,null,null,null,"",null,""]
[null,"","",null,null,null,null,"",null,""]
[null,"","",null,null,null,null,"",null,""]
[null,"","",null,null,null,null,"",null,""]
[null,"","",null,null,null,null,"",null,""]
[null,"","",null,null,null,null,"",null,""]
[null,"","",null,null,null,null,"",null,""]
[null,"","",null,null,null,null,"",null,""]
[null,"","",null,null,null,null,"",null,""]
[null,"","",null,null,null,null,"",null,""]
[null,"","",null,null,null,null,"",null,""]
[null,"","",null,null,null,null,"",null,""]
[null,"","",null,null,null,null,"",null,""]
[null,"","",null,null,null,null,"",null,""]
[null,"","",null,null,null,null,"",null,""]
[null,"","",null,null,null,null,"",null,""]
[null,"","",null,null,null,null,"",null,""]
[null,"","",null,null,null,null,"",null,""]
[null,"","",null,null,null,null,"",null,""]
[null,"","",null,null,null,null,"",null,""]
[null,"","",null,null,null,null,"",null,""]
[null,"","",null,null,null,null,"",null,""]
[null,"","",null,null,null,null,"",null,""]
[null,"","",null,null,null,null,"",null,""]
[null,"","",null,null,null,null,"",null,""]
[null,"","",null,null,null,null,"",null,""]
[null,"","",null,null,null,null,"",null,""]
[null,"","",null,null,null,null,"",null,""]
[null,"","",null,null,null,null,"",null,""]
[null,"","",null,null,null,null,"",null,""]
[null,"","",null,null,null,null,"",null,""]
[null,"","",null,null,null,null,"",null,""]
[null,"","",null,null,null,null,"",null,""]
[null,"","",null,null,null,null,"",null,""]
[null,{"$f":"IF(H644=\"\",\"\",TODAY())","v":""},{"$f":"IF(D644=\"\",\"\",INDEX($N$3:$N$26,MATCH(D644,$M$3:$M$26,0)))","v":""},null,null,null,null,{"$f":"IF(F644=\"\",\"\",F644*G644)","v":""},null,{"$f":"PROPER(TEXT(B644,\"mmmm\"))","v":""}]
[null,"","",null,null,null,null,"",null,""]
[null,"","",null,null,null,null,"",null,""]
[null,"","",null,null,null,null,"",null,""]
[null,"","",null,null,null,null,"",null,""]
[null,"","",null,null,null,null,"",null,""]
[null,"","",null,null,null,null,"",null,""]
[null,"","",null,null,null,null,"",null,""]
[null,"","",null,null,null,null,"",null,""]
[null,"","",null,null,null,null,"",null,""]
[null,"","",null,null,null,null,"",null,""]
[null,"","",null,null,null,null,"",null,""]
[null,"","",null,null,null,null,"",null,""]
[null,"","",null,null,null,null,"",null,""]
[null,"","",null,null,null,null,"",null,""]
[null,"","",null,null,null,null,"",null,""]
[null,"","",null,null,null,null,"",null,""]
[null,"","",null,null,null,null,"",null,""]
[null,"","",null,null,null,null,"",null,""]
[null,"","",null,null,null,null,"",null,""]
[null,"","",null,null,null,null,"",null,""]
[null,"","",null,null,null,null,"",null,""]
[null,"","",null,null,null,null,"",null,""]
[null,"","",null,null,null,null,"",null,""]
[null,"","",null,null,null,null,"",null,""]
[null,"","",null,null,null,null,"",null,""]
[null,"","",null,null,null,null,"",null,""]
[null,"","",null,null,null,null,"",null,""]
[null,"","",null,null,null,null,"",null,""]
[null,"","",null,null,null,null,"",null,""]
[null,"","",null,null,null,null,"",null,""]
[null,"","",null,null,null,null,"",null,""]
[null,"","",null,null,null,null,"",null,""]
[null,"","",null,null,null,null,"",null,""]
[null,"","",null,null,null,null,"",null,""]
[null,"","",null,null,null,null,"",null,""]
[null,"","",null,null,null,null,"",null,""]
[null,"","",null,null,null,null,"",null,""]
[null,"","",null,null,null,null,"",null,""]
[null,"","",null,null,null,null,"",null,""]
[null,"","",null,null,null,null,"",null,""]
[null,"","",null,null,null,null,"",null,""]
[null,"","",null,null,null,null,"",null,""]
[null,"","",null,null,null,null,"",null,""]
[null,"","",null,null,null,null,"",null,""]
[null,"","",null,null,null,null,"",null,""]
[null,"","",null,null,null,null,"",null,""]
[null,"","",null,null,null,null,"",null,""]
[null,"","",null,null,null,null,"",null,""]
[null,"","",null,null,null,null,"",null,""]
[null,"","",null,null,null,null,"",null,""]
[null,"","",null,null,null,null,"",null,""]
[null,"","",null,null,null,null,"",null,""]
[null,"","",null,null,null,null,"",null,""]
[null,"","",null,null,null,null,"",null,""]
[null,"","",null,null,null,null,"",null,""]
[null,"","",null,null,null,null,"",null,""]
[null,"","",null,null,null,null,"",null,""]
[null,"","",null,null,null,null,"",null,""]
[null,"","",null,null,null,null,"",null,""]
[null,"","",null,null,null,null,"",null,""]
[null,"","",null,null,null,null,"",null,""]
[null,"","",null,null,null,null,"",null,""]
[null,"","",null,null,null,null,"",null,""]
[null,{"$f":"IF(H708=\"\",\"\",TODAY())","v":""},{"$f":"IF(D708=\"\",\"\",INDEX($N$3:$N$26,MATCH(D708,$M$3:$M$26,0)))","v":""},null,null,null,null,{"$f":"IF(F708=\"\",\"\",F708*G708)","v":""},null,{"$f":"PROPER(TEXT(B708,\"mmmm\"))","v":""}]
[null,"","",null,null,null,null,"",null,""]
[null,"","",null,null,null,null,"",null,""]
[null,"","",null,null,null,null,"",null,""]
[null,"","",null,null,null,null,"",null,""]
[null,"","",null,null,null,null,"",null,""]
[null,"","",null,null,null,null,"",null,""]
[null,"","",null,null,null,null,"",null,""]
[null,"","",null,null,null,null,"",null,""]
[null,"","",null,null,null,null,"",null,""]
[null,"","",null,null,null,null,"",null,""]
[null,"","",null,null,null,null,"",null,""]
[null,"","",null,null,null,null,"",null,""]
[null,"","",null,null,null,null,"",null,""]
[null,"","",null,null,null,null,"",null,""]
[null,"","",null,null,null,null,"",null,""]
[null,"","",null,null,null,null,"",null,""]
[null,"","",null,null,null,null,"",null,""]
[null,"","",null,null,null,null,"",null,""]
[null,"","",null,null,null,null,"",null,""]
[null,"","",null,null,null,null,"",null,""]
[null,"","",null,null,null,null,"",null,""]
[null,"","",null,null,null,null,"",null,""]
[null,"","",null,null,null,null,"",null,""]
[null,"","",null,null,null,null,"",null,""]
[null,"","",null,null,null,null,"",null,""]
[null,"","",null,null,null,null,"",null,""]
[null,"","",null,null,null,null,"",null,""]
[null,"","",null,null,null,null,"",null,""]
[null,"","",null,null,null,null,"",null,""]
[null,"","",null,null,null,null,"",null,""]
[null,"","",null,null,null,null,"",null,""]
[null,"","",null,null,null,null,"",null,""]
[null,"","",null,null,null,null,"",null,""]
[null,"","",null,null,null,null,"",null,""]
[null,"","",null,null,null,null,"",null,""]
[null,"","",null,null,null,null,"",null,""]
[null,"","",null,null,null,null,"",null,""]
[null,"","",null,null,null,null,"",null,""]
[null,"","",null,null,null,null,"",null,""]
[null,"","",null,null,null,null,"",null,""]
[null,"","",null,null,null,null,"",null,""]
[null,"","",null,null,null,null,"",null,""]
[null,"","",null,null,null,null,"",null,""]
[null,"","",null,null,null,null,"",null,""]
[null,"","",null,null,null,null,"",null,""]
[null,"","",null,null,null,null,"",null,""]
[null,"","",null,null,null,null,"",null,""]
[null,"","",null,null,null,null,"",null,""]
[null,"","",null,null,null,null,"",null,""]
[null,"","",null,null,null,null,"",null,""]
[null,"","",null,null,null,null,"",null,""]
[null,"","",null,null,null,null,"",null,""]
[null,"","",null,null,null,null,"",null,""]
[null,"","",null,null,null,null,"",null,""]
[null,"","",null,null,null,null,"",null,""]
[null,"","",null,null,null,null,"",null,""]
[null,"","",null,null,null,null,"",null,""]
[null,"","",null,null,null,null,"",null,""]
[null,"","",null,null,null,null,"",null,""]
[null,"","",null,null,null,null,"",null,""]
[null,"","",null,null,null,null,"",null,""]
[null,"","",null,null,null,null,"",null,""]
[null,"","",null,null,null,null,"",null,""]
[null,{"$f":"IF(H772=\"\",\"\",TODAY())","v":""},{"$f":"IF(D772=\"\",\"\",INDEX($N$3:$N$26,MATCH(D772,$M$3:$M$26,0)))","v":""},null,null,null,null,{"$f":"IF(F772=\"\",\"\",F772*G772)","v":""},null,{"$f":"PROPER(TEXT(B772,\"mmmm\"))","v":""}]
[null,"","",null,null,null,null,"",null,""]
[null,"","",null,null,null,null,"",null,""]
[null,"","",null,null,null,null,"",null,""]
[null,"","",null,null,null,null,"",null,""]
[null,"","",null,null,null,null,"",null,""]
[null,"","",null,null,null,null,"",null,""]
[null,"","",null,null,null,null,"",null,""]
[null,"","",null,null,null,null,"",null,""]
[null,"","",null,null,null,null,"",null,""]
[null,"","",null,null,null,null,"",null,""]
[null,"","",null,null,null,null,"",null,""]
[null,"","",null,null,null,null,"",null,""]
[null,"","",null,null,null,null,"",null,""]
[null,"","",null,null,null,null,"",null,""]
[null,"","",null,null,null,null,"",null,""]
[null,"","",null,null,null,null,"",null,""]
[null,"","",null,null,null,null,"",null,""]
[null,"","",null,null,null,null,"",null,""]
[null,"","",null,null,null,null,"",null,""]
[null,"","",null,null,null,null,"",null,""]
[null,"","",null,null,null,null,"",null,""]
[null,"","",null,null,null,null,"",null,""]
[null,"","",null,null,null,null,"",null,""]
[null,"","",null,null,null,null,"",null,""]
[null,"","",null,null,null,null,"",null,""]
[null,"","",null,null,null,null,"",null,""]
[null,"","",null,null,null,null,"",null,""]
[null,"","",null,null,null,null,"",null,""]
[null,"","",null,null,null,null,"",null,""]
[null,"","",null,null,null,null,"",null,""]
[null,"","",null,null,null,null,"",null,""]
[null,"","",null,null,null,null,"",null,""]
[null,"","",null,null,null,null,"",null,""]
[null,"","",null,null,null,null,"",null,""]
[null,"","",null,null,null,null,"",null,""]
[null,"","",null,null,null,null,"",null,""]
[null,"","",null,null,null,null,"",null,""]
[null,"","",null,null,null,null,"",null,""]
[null,"","",null,null,null,null,"",null,""]
[null,"","",null,null,null,null,"",null,""]
[null,"","",null,null,null,null,"",null,""]
[null,"","",null,null,null,null,"",null,""]
[null,"","",null,null,null,null,"",null,""]
[null,"","",null,null,null,null,"",null,""]
[null,"","",null,null,null,null,"",null,""]
[null,"","",null,null,null,null,"",null,""]
[null,"","",null,null,null,null,"",null,""]
[null,"","",null,null,null,null,"",null,""]
[null,"","",null,null,null,null,"",null,""]
[null,"","",null,null,null,null,"",null,""]
[null,"","",null,null,null,null,"",null,""]
[null,"","",null,null,null,null,"",null,""]
[null,"","",null,null,null,null,"",null,""]
[null,"","",null,null,null,null,"",null,""]
[null,"","",null,null,null,null,"",null,""]
[null,"","",null,null,null,null,"",null,""]
[null,"","",null,null,null,null,"",null,""]
[null,"","",null,null,null,null,"",null,""]
[null,"","",null,null,null,null,"",null,""]
[null,"","",null,null,null,null,"",null,""]
[null,"","",null,null,null,null,"",null,""]
[null,"","",null,null,null,null,"",null,""]
[null,"","",null,null,null,null,"",null,""]
[null,{"$f":"IF(H836=\"\",\"\",TODAY())","v":""},{"$f":"IF(D836=\"\",\"\",INDEX($N$3:$N$26,MATCH(D836,$M$3:$M$26,0)))","v":""},null,null,null,null,{"$f":"IF(F836=\"\",\"\",F836*G836)","v":""},null,{"$f":"PROPER(TEXT(B836,\"mmmm\"))","v":""}]
[null,"","",null,null,null,null,"",null,""]
[null,"","",null,null,null,null,"",null,""]
[null,"","",null,null,null,null,"",null,""]
[null,"","",null,null,null,null,"",null,""]
[null,"","",null,null,null,null,"",null,""]
[null,"","",null,null,null,null,"",null,""]
[null,"","",null,null,null,null,"",null,""]
[null,"","",null,null,null,null,"",null,""]
[null,"","",null,null,null,null,"",null,""]
[null,"","",null,null,null,null,"",null,""]
[null,"","",null,null,null,null,"",null,""]
[null,"","",null,null,null,null,"",null,""]
[null,"","",null,null,null,null,"",null,""]
[null,"","",null,null,null,null,"",null,""]
[null,"","",null,null,null,null,"",null,""]
[null,"","",null,null,null,null,"",null,""]
[null,"","",null,null,null,null,"",null,""]
[null,"","",null,null,null,null,"",null,""]
[null,"","",null,null,null,null,"",null,""]
[null,"","",null,null,null,null,"",null,""]
[null,"","",null,null,null,null,"",null,""]
[null,"","",null,null,null,null,"",null,""]
[null,"","",null,null,null,null,"",null,""]
[null,"","",null,null,null,null,"",null,""]
[null,"","",null,null,null,null,"",null,""]
[null,"","",null,null,null,null,"",null,""]
[null,"","",null,null,null,null,"",null,""]
[null,"","",null,null,null,null,"",null,""]
[null,"","",null,null,null,null,"",null,""]
[null,"","",null,null,null,null,"",null,""]
[null,"","",null,null,null,null,"",null,""]
[null,"","",null,null,null,null,"",null,""]
[null,"","",null,null,null,null,"",null,""]
[null,"","",null,null,null,null,"",null,""]
[null,"","",null,null,null,null,"",null,""]
[null,"","",null,null,null,null,"",null,""]
[null,"","",null,null,null,null,"",null,""]
[null,"","",null,null,null,null,"",null,""]
[null,"","",null,null,null,null,"",null,""]
[null,"","",null,null,null,null,"",null,""]
[null,"","",null,null,null,null,"",null,""]
[null,"","",null,null,null,null,"",null,""]
[null,"","",null,null,null,null,"",null,""]
[null,"","",null,null,null,null,"",null,""]
[null,"","",null,null,null,null,"",null,""]
[null,"","",null,null,null,null,"",null,""]
[null,"","",null,null,null,null,"",null,""]
[null,"","",null,null,null,null,"",null,""]
[null,"","",null,null,null,null,"",null,""]
[null,"","",null,null,null,null,"",null,""]
[null,"","",null,null,null,null,"",null,""]
[null,"","",null,null,null,null,"",null,""]
[null,"","",null,null,null,null,"",null,""]
[null,"","",null,null,null,null,"",null,""]
[null,"","",null,null,null,null,"",null,""]
[null,"","",null,null,null,null,"",null,""]
[null,"","",null,null,null,null,"",null,""]
[null,"","",null,null,null,null,"",null,""]
[null,"","",null,null,null,null,"",null,""]
[null,"","",null,null,null,null,"",null,""]
[null,"","",null,null,null,null,"",null,""]
[null,"","",null,null,null,null,"",null,""]
[null,"","",null,null,null,null,"",null,""]
[null,{"$f":"IF(H900=\"\",\"\",TODAY())","v":""},{"$f":"IF(D900=\"\",\"\",INDEX($N$3:$N$26,MATCH(D900,$M$3:$M$26,0)))","v":""},null,null,null,null,{"$f":"IF(F900=\"\",\"\",F900*G900)","v":""},null,{"$f":"PROPER(TEXT(B900,\"mmmm\"))","v":""}]
[null,"","",null,null,null,null,"",null,""]
[null,"","",null,null,null,null,"",null,""]
[null,"","",null,null,null,null,"",null,""]
[null,"","",null,null,null,null,"",null,""]
[null,"","",null,null,null,null,"",null,""]
[null,"","",null,null,null,null,"",null,""]
[null,"","",null,null,null,null,"",null,""]
[null,"","",null,null,null,null,"",null,""]
[null,"","",null,null,null,null,"",null,""]
[null,"","",null,null,null,null,"",null,""]
[null,"","",null,null,null,null,"",null,""]
[null,"","",null,null,null,null,"",null,""]
[null,"","",null,null,null,null,"",null,""]
[null,"","",null,null,null,null,"",null,""]
[null,"","",null,null,null,null,"",null,""]
[null,"","",null,null,null,null,"",null,""]
[null,"","",null,null,null,null,"",null,""]
[null,"","",null,null,null,null,"",null,""]
[null,"","",null,null,null,null,"",null,""]
[null,"","",null,null,null,null,"",null,""]
[null,"","",null,null,null,null,"",null,""]
[null,"","",null,null,null,null,"",null,""]
[null,"","",null,null,null,null,"",null,""]
[null,"","",null,null,null,null,"",null,""]
[null,"","",null,null,null,null,"",null,""]
[null,"","",null,null,null,null,"",null,""]
[null,"","",null,null,null,null,"",null,""]
[null,"","",null,null,null,null,"",null,""]
[null,"","",null,null,null,null,"",null,""]
[null,"","",null,null,null,null,"",null,""]
[null,"","",null,null,null,null,"",null,""]
[null,"","",null,null,null,null,"",null,""]
[null,"","",null,null,null,null,"",null,""]
[null,"","",null,null,null,null,"",null,""]
[null,"","",null,null,null,null,"",null,""]
[null,"","",null,null,null,null,"",null,""]
[null,"","",null,null,null,null,"",null,""]
[null,"","",null,null,null,null,"",null,""]
[null,"","",null,null,null,null,"",null,""]
[null,"","",null,null,null,null,"",null,""]
[null,"","",null,null,null,null,"",null,""]
[null,"","",null,null,null,null,"",null,""]
[null,"","",null,null,null,null,"",null,""]
[null,"","",null,null,null,null,"",null,""]
[null,"","",null,null,null,null,"",null,""]
[null,"","",null,null,null,null,"",null,""]
[null,"","",null,null,null,null,"",null,""]
[null,"","",null,null,null,null,"",null,""]
[null,"","",null,null,null,null,"",null,""]
[null,"","",null,null,null,null,"",null,""]
[null,"","",null,null,null,null,"",null,""]
[null,"","",null,null,null,null,"",null,""]
[null,"","",null,null,null,null,"",null,""]
[null,"","",null,null,null,null,"",null,""]
[null,"","",null,null,null,null,"",null,""]
[null,"","",null,null,null,null,"",null,""]
[null,"","",null,null,null,null,"",null,""]
[null,"","",null,null,null,null,"",null,""]
[null,"","",null,null,null,null,"",null,""]
[null,"","",null,null,null,null,"",null,""]
[null,"","",null,null,null,null,"",null,""]
[null,"","",null,null,null,null,"",null,""]
[null,"","",null,null,null,null,"",null,""]
[null,{"$f":"IF(H964=\"\",\"\",TODAY())","v":""},{"$f":"IF(D964=\"\",\"\",INDEX($N$3:$N$26,MATCH(D964,$M$3:$M$26,0)))","v":""},null,null,null,null,{"$f":"IF(F964=\"\",\"\",F964*G964)","v":""},null,{"$f":"PROPER(TEXT(B964,\"mmmm\"))","v":""}]
[null,"","",null,null,null,null,"",null,""]
[null,"","",null,null,null,null,"",null,""]
[null,"","",null,null,null,null,"",null,""]
[null,"","",null,null,null,null,"",null,""]
[null,"","",null,null,null,null,"",null,""]
[null,"","",null,null,null,null,"",null,""]
[null,"","",null,null,null,null,"",null,""]
[null,"","",null,null,null,null,"",null,""]
[null,"","",null,null,null,null,"",null,""]
[null,"","",null,null,null,null,"",null,""]
[null,"","",null,null,null,null,"",null,""]
[null,"","",null,null,null,null,"",null,""]
[null,"","",null,null,null,null,"",null,""]
[null,"","",null,null,null,null,"",null,""]
[null,"","",null,null,null,null,"",null,""]
[null,"","",null,null,null,null,"",null,""]
[null,"","",null,null,null,null,"",null,""]
[null,"","",null,null,null,null,"",null,""]
[null,"","",null,null,null,null,"",null,""]
[null,"","",null,null,null,null,"",null,""]
[null,"","",null,null,null,null,"",null,""]
[null,"","",null,null,null,null,"",null,""]
[null,"","",null,null,null,null,"",null,""]
[null,"","",null,null,null,null,"",null,""]
[null,"","",null,null,null,null,"",null,""]
[null,"","",null,null,null,null,"",null,""]
[null,"","",null,null,null,null,"",null,""]
[null,"","",null,null,null,null,"",null,""]
[null,"",{"$f":"IF(D993=\"\",\"\",INDEX($N$3:$N$26,MATCH(D993,$M$3:$M$26,0)))","v":""},null,null,null,null,"",null,""]
[null,"",{"$f":"IF(D994=\"\",\"\",INDEX($N$3:$N$26,MATCH(D994,$M$3:$M$26,0)))","v":""},null,null,null,null,"",null,""]
[null,"","",null,null,null,null,"",null,""]
[null,"","",null,null,null,null,"",null,""]
[null,"","",null,null,null,null,"",null,""]
[null,"","",null,null,null,null,"",null,{"$f":"PROPER(TEXT(B998,\"mmmm\"))","v":""}]
[null,"","",null,null,null,null,"",null,{"$f":"PROPER(TEXT(B999,\"mmmm\"))","v":""}]
[null,"","",null,null,null,null,{"$f":"IF(F1000=\"\",\"\",F1000*G1000)","v":""},null,""]

{"sheet":"Réception","index":5,"n_rows":30,"n_cols":13,"rows_kept":30,"cut":false,"hidden":false,"merged":[[0,1,0,9],[1,1,1,2],[5,1,5,2],[6,1,6,2],[6,4,6,5],[1,7,1,8],[1,4,1,5]]}
[null,"RECEPTION MARCHANDISE"]
[null,"ZAO",null,null,"BOY DIFFUSION",null,null,"CHARME D'ORIENT",null,null,null,"ZAO"]
[null,"Accessoire",null,null,"Consommable",null,null,"Cabine",null,null,null,"ACCESS",{"$f":"C3+'Fournisseur & Stock'!C5","v":-49}]
[null,"Produit vente",null,null,null,null,null,"Vente",null,null,null,"PDT VTE",{"$f":"C4+'Fournisseur & Stock'!C6","v":-4}]
[null,"Testeur",null,null,null,null,null,null,null,null,null,"TESTEUR",{"$f":"C5+'Fournisseur & Stock'!C7","v":-4}]
[null,null,null,null,null,null,null,null,null,null,null,"BOY"]
[null,"ARTICLES DE PARIS",null,null,"AUTOUR D'ELLE",null,null,null,null,null,null,"CONSOMMABLE",{"$f":"F3+'Fournisseur & Stock'!C9","v":-4}]
[null,"Bijou",null,null,"Bijou",null,null,null,null,null,null,"PARIS"]
[null,"Foulard",null,null,"Foulard",null,null,null,null,null,null,"Bijou",{"$f":"C8+'Fournisseur & Stock'!C11","v":-4}]
[null,"Ceinture",null,null,"Ceinture",null,null,null,null,null,null,"Foulard",{"$f":"C9+'Fournisseur & Stock'!C12","v":-4}]
[null,"Prêt à porter",null,null,"Prêt à porter",null,null,null,null,null,null,"Ceinture",{"$f":"C10+'Fournisseur & Stock'!C13","v":-4}]
[null,"Chapeau",null,null,"Chapeau",null,null,null,null,null,null,"Prêt à porter",{"$f":"C11+'Fournisseur & Stock'!C14","v":-4}]
[null,"Sac",null,null,"Sac",null,null,null,null,null,null,"Chapeau",{"$f":"C12+'Fournisseur & Stock'!C15","v":-4}]
[null,"Maroquinerie",null,null,"Maroquinerie",null,null,null,null,null,null,"Sac",{"$f":"C13+'Fournisseur & Stock'!C16","v":-4}]
[null,"Chaussure",null,null,"Chaussure",null,null,null,null,null,null,"Maroquinerie",{"$f":"C14+'Fournisseur & Stock'!C17","v":-4}]
[null,"Divers",null,null,"Divers",null,null,null,null,null,null,"Chaussure",{"$f":"C15+'Fournisseur & Stock'!C18","v":-4}]
[null,null,null,null,null,null,null,null,null,null,null,"Divers",{"$f":"C16+'Fournisseur & Stock'!C19","v":-4}]
[null,null,null,null,null,null,null,null,null,null,null,"AUTOUR"]
[null,null,null,null,null,null,null,null,null,null,null,"Bijou",{"$f":"F8+'Fournisseur & Stock'!C21","v":-4}]
[null,null,null,null,null,null,null,null,null,null,null,"Foulard",{"$f":"F9+'Fournisseur & Stock'!C22","v":-4}]
[null,null,null,null,null,null,null,null,null,null,null,"Ceinture",{"$f":"F10+'Fournisseur & Stock'!C23","v":-4}]
[null,null,null,null,null,null,null,null,null,null,null,"Prêt à porter",{"$f":"F11+'Fournisseur & Stock'!C24","v":-4}]
[null,null,null,null,null,null,null,null,null,null,null,"Chapeau",{"$f":"F12+'Fournisseur & Stock'!C25","v":-4}]
[null,null,null,null,null,null,null,null,null,null,null,"Sac",{"$f":"F13+'Fournisseur & Stock'!C26","v":-4}]
[null,null,null,null,null,null,null,null,null,null,null,"Maroquinerie",{"$f":"F14+'Fournisseur & Stock'!C27","v":-4}]
[null,null,null,null,null,null,null,null,null,null,null,"Chaussure",{"$f":"F15+'Fournisseur & Stock'!C28","v":-4}]
[null,null,null,null,null,null,null,null,null,null,null,"Divers",{"$f":"F16+'Fournisseur & Stock'!C29","v":-4}]
[null,null,null,null,null,null,null,null,null,null,null,"CHARME"]
[null,null,null,null,null,null,null,null,null,null,null,"CABINE",{"$f":"I3+'Fournisseur & Stock'!C31","v":-4}]
[null,null,null,null,null,null,null,null,null,null,null,"VENTE",{"$f":"I4+'Fournisseur & Stock'!C32","v":-4}]

{"sheet":"Fournisseur & Stock","index":6,"n_rows":5275,"n_cols":10,"rows_kept":5275,"cut":false,"hidden":false,"merged":[[9,1,9,5],[19,1,19,5],[29,1,29,5],[0,1,0,5],[3,1,3,5],[7,1,7,5]]}
[null,"STOCK"]
[null,"SOUS FAMILLE","QTT EN STOCK","STOCK IDEAL","RUPTURE","QTT A COMMANDER"]
[]
[null,"FOURNISSEUR ZAO",null,null,null,null,null,null,"ZAO"]
[null,"Accessoire",-49,8,{"$f":"IF(C5<D5,\"Rupture\",\"\")","v":"Rupture"},{"$f":"IF(E5=\"\",\"\",D5-C5)","v":57},null,null,"ACCESS",12]
[null,"Produit vente",-4,8,{"$f":"IF(C6<D6,\"Rupture\",\"\")","v":"Rupture"},{"$f":"IF(E6=\"\",\"\",D6-C6)","v":12},null,null,"PDT VTE",12]
[null,"Testeur",-4,8,"Rupture",12,null,null,"TESTEUR",30]
[null,"FOURNISSEUR BOY DIFFUSION",null,null,null,null,null,null,"BOY"]
[null,"Consommable",-4,8,"Rupture",12,null,null,"CONSOMMABLE",3]
[null,"FOURNISSEUR Article de Paris",null,null,null,null,null,null,"PARIS"]
[null,"Bijou",-4,8,"Rupture",12,null,null,"Bijou",2]
[null,"Foulard",-4,8,"Rupture",12,null,null,"Foulard",2]
[null,"Ceinture",-4,8,"Rupture",12,null,null,"Ceinture",2]
[null,"Prêt à porter",-4,8,"Rupture",12,null,null,"Prêt à porter",2]
[null,"Chapeau",-4,8,"Rupture",12,null,null,"Chapeau",2]
[null,"Sac",-4,8,"Rupture",12,null,null,"Sac",2]
[null,"Maroquinerie",-4,8,"Rupture",12,null,null,"Maroquinerie",2]
[null,"Chaussure",-4,8,"Rupture",12,null,null,"Chaussure",3]
[null,"Divers",-4,8,"Rupture",12,null,null,"Divers",3]
[null,"FOURNISSEUR Autour d'Elle",null,null,null,null,null,null,"AUTOUR"]
[null,"Bijou",-4,8,"Rupture",{"$f":"IF(E21=\"\",\"\",D21-C21)","v":12},null,null,"Bijou",2]
[null,"Foulard",-4,8,"Rupture",12,null,null,"Foulard",2]
[null,"Ceinture",-4,8,"Rupture",12,null,null,"Ceinture",2]
[null,"Prêt à porter",-4,8,"Rupture",12,null,null,"Prêt à porter",2]
[null,"Chapeau",-4,8,"Rupture",12,null,null,"Chapeau",2]
[null,"Sac",-4,8,"Rupture",12,null,null,"Sac",2]
[null,"Maroquinerie",-4,8,"Rupture",12,null,null,"Maroquinerie",2]
[null,"Chaussure",-4,8,"Rupture",12,null,null,"Chaussure",3]
[null,"Divers",-4,8,"Rupture",12,null,null,"Divers",103]
[null,"FOURNISSEUR Charme d'Orient",null,null,null,null,null,null,"CHARME"]
[null,"Cabine",-4,8,"Rupture",{"$f":"IF(E31=\"\",\"\",D31-C31)","v":12},null,null,"CABINE",2]
[null,"Vente",-4,8,"Rupture",{"$f":"IF(E32=\"\",\"\",D32-C32)","v":12},null,null,"VENTE",3]
[]
[]
[]
[]
[]
[]
[]
[]
[]
[]
[]
[]
[]
[]
[]
[]
[]
[]
[]
[]
[]
[]
[]
[]
[]
[]
[]
[]
[]
[]
[]
[]
[]
[]
[]
[]
[]
[]
[]
[]
[]
[]
[]
[]
[]
[]
[]
[]
[]
[]
[]
[]
[]
[]
[]
[]
[]
[]
[]
[]
[]
[]
[]
[]
[]
[]
[]
[]
[]
[]
[]
[]
[]
[]
[]
[]
[]
[]
[]
[]
[]
[]
[]
[]
[]
[]
[]
[]
[]
[]
[]
[]
[]
[]
[]
[]
[]
[]
[]
[]
[]
[]
[]
[]
[]
[]
[]
[]
[]
[]
[]
[]
[]
[]
[]
[]
[]
[]
[]
[]
[]
[]
[]
[]
[]
[]
[]
[]
[]
[]
[]
[]
[]
[]
[]
[]
[]
[]
[]
[]
[]
[]
[]
[]
[]
[]
[]
[]
[]
[]
[]
[]
[]
[]
[]
[]
[]
[]
[]
[]
[]
[]
[]
[]
[]
[]
[]
[]
[]
[]
[]
[]
[]
[]
[]
[]
[]
[]
[]
[]
[]
[]
[]
[]
[]
[]
[]
[]
[]
[]
[]
[]
[]
[]
[]
[]
[]
[]
[]
[]
[]
[]
[]
[]
[]
[]
[]
[]
[]
[]
[]
[]
[]
[]
[]
[]
[]
[]
[]
[]
[]
[]
[]
[]
[]
[]
[]
[]
[]
[]
[]
[]
[]
[]
[]
[]
[]
[]
[]
[]
[]
[]
[null,null,null,null,1]
[]
[]
[]
[]
[]
[]
[]
[]
[]
[]
[]
[]
[]
[]
[]
[]
[]
[]
[]
[]
[]
[]
[]
[]
[]
[]
[]
[]
[]
[]
[]
[]
[]
[]
[]
[]
[]
[]
[]
[]
[]
[]
[]
[]
[]
[]
[]
[]
[]
[]
[]
[]
[]
[]
[]
[]
[]
[]
[]
[]
[]
[]
[]
[]
[]
[]
[]
[]
[]
[]
[]
[]
[]
[]
[]
[]
[]
[]
[]
[]
[]
[]
[]
[]
[]
[]
[]
[]
[]
[]
[]
[]
[]
[]
[]
[]
[]
[]
[]
[]
[]
[]
[]
[]
[]
[]
[]
[]
[]
[]
[]
[]
[]
[]
[]
[]
[]
[]
[]
[]
[]
[]
[]
[]
[]
[]
[]
[]
[]
[]
[]
[]
[]
[]
[]
[]
[]
[]
[]
[]
[]
[]
[]
[]
[]
[]
[]
[]
[]
[]
[]
[]
[]
[]
[]
[]
[]
[]
[]
[]
[]
[]
[]
[]
[]
[]
[]
[]
[]
[]
[]
[]
[]
[]
[]
[]
[]
[]
[]
[]
[]
[]
[]
[]
[]
[]
[]
[]
[]
[]
[]
[]
[]
[]
[]
[]
[]
[]
[]
[]
[]
[]
[]
[]
[]
[]
[]
[]
[]
[]
[]
[]
[]
[]
[]
[]
[]
[]
[]
[]
[]
[]
[]
[]
[]
[]
[]
[]
[]
[]
[]
[]
[]
[]
[]
[]
[]
[]
[]
[]
[]
[]
[]
[]
[]
[]
[]
[]
[]
[]
[]
[]
[]
[]
[]
[]
[]
[]
[]
[]
[]
[]
[]
[]
[]
[]
[]
[]
[]
[]
[]
[]
[]
[]
[]
[]
[]
[]
[]
[]
[]
[]
[]
[]
[]
[]
[]
[]
[]
[]
[]
[]
[]
[]
[]
[]
[]
[]
[]
[]
[]
[]
[]
[]
[]
[]
[]
[]
[]
[]
[]
[]
[]
[]
[]
[]
[]
[]
[]
[]
[]
[]
[]
[]
[]
[]
[]
[]
[]
[]
[]
[]
[]
[]
[]
[]
[]
[]
[]
[]
[]
[]
[]
[]
[]
[]
[]
[]
[]
[]
[]
[]
[]
[]
[]
[]
[]
[]
[]
[]
[]
[]
[]
[]
[]
[]
[]
[]
[]
[]
[]
[]
[]
[]
[]
[]
[]
[]
[]
[]
[]
[]
[]
[]
[]
[]
[]
[]
[]
[]
[]
[]
[]
[]
[]
[]
[]
[]
[]
[]
[]
[]
[]
[]
[]
[]
[]
[]
[]
[]
[]
[]
[]
[]
[]
[]
[]
[]
[]
[]
[]
[]
[]
[]
[]
[]
[]
[]
[]
[]
[]
[]
[]
[]
[]
[]
[]
[]
[]
[]
[]
[]
[]
[]
[]
[]
[]
[]
[]
[]
[]
[]
[]
[]
[]
[]
[]
[]
[]
[]
[]
[]
[]
[]
[]
[]
[]
[]
[]
[]
[]
[]
[]
[]
[]
[]
[]
[]
[]
[]
[]
[]
[]
[]
[]
[]
[]
[]
[]
[]
[]
[]
[]
[]
[]
[]
[]
[]
[]
[]
[]
[]
[]
[]
[]
[]
[]
[]
[]
[]
[]
[]
[]
[]
[]
[]
[]
[]
[]
[]
[]
[]
[]
[]
[]
[]
[]
[]
[]
[]
[]
[]
[]
[]
[]
[]
[]
[]
[]
[]
[]
[]
[]
[]
[]
[]
[]
[]
[]
[]
[]
[]
[]
[]
[]
[]
[]
[]
[]
[]
[]
[]
[]
[]
[]
[]
[]
[]
[]
[]
[]
[]
[]
[]
[]
[]
[]
[]
[]
[]
[]
[]
[]
[]
[]
[]
[]
[]
[]
[]
[]
[]
[]
[]
[]
[]
[]
[]
[]
[]
[]
[]
[]
[]
[]
[]
[]
[]
[]
[]
[]
[]
[]
[]
[]
[]
[]
[]
[]
[]
[]
[]
[]
[]
[]
[]
[]
[]
[]
[]
[]
[]
[]
[]
[]
[]
[]
[]
[]
[]
[]
[]
[]
[]
[]
[]
[]
[]
[]
[]
[]
[]
[]
[]
[]
[]
[]
[]
[]
[]
[]
[]
[]
[]
[]
[]
[]
[]
[]
[]
[]
[]
[]
[]
[]
[]
[]
[]
[]
[]
[]
[]
[]
[]
[]
[]
[]
[]
[]
[]
[]
[]
[]
[]
[]
[]
[]
[]
[]
[]
[]
[]
[]
[]
[]
[]
[]
[]
[]
[]
[]
[]
[]
[]
[]
[]
[]
[]
[]
[]
[]
[]
[]
[]
[]
[]
[]
[]
[]
[]
[]
[]
[]
[]
[]
[]
[]
[]
[]
[]
[]
[]
[]
[]
[]
[]
[]
[]
[]
[]
[]
[]
[]
[]
[]
[]
[]
[]
[]
[]
[]
[]
[]
[]
[]
[]
[]
[]
[]
[]
[]
[]
[]
[]
[]
[]
[]
[]
[]
[]
[]
[]
[]
[]
[]
[]
[]
[]
[]
[]
[]
[]
[]
[]
[]
[]
[]
[]
[]
[]
[]
[]
[]
[]
[]
[]
[]
[]
[]
[]
[]
[]
[]
[]
[]
[]
[]
[]
[]
[]
[]
[]
[]
[]
[]
[]
[]
[]
[]
[]
[]
[]
[]
[]
[]
[]
[]
[]
[]
[]
[]
[]
[]
[]
[]
[]
[]
[]
[]
[]
[]
[]
[]
[]
[]
[]
[]
[]
[]
[]
[]
[]
[]
[]
[]
[]
[]
[]
[]
[]
[]
[]
[]
[]
[]
[]
[]
[]
[]
[]
[]
[]
[]
[]
[]
[]
[]
[]
[]
[]
[]
[]
[]
[]
[]
[]
[]
[]
[]
[]
[]
[]
[]
[]
[]
[]
[]
[]
[]
[]
[]
[]
[]
[]
[]
[]
[]
[]
[]
[]
[]
[]
[]
[]
[]
[]
[]
[]
[]
[]
[]
[]
[]
[]
[]
[]
[]
[]
[]
[]
[]
[]
[]
[]
[]
[]
[]
[]
[]
[]
[]
[]
[]
[]
[]
[]
[]
[]
[]
[]
[]
[]
[]
[]
[]
[]
[]
[]
[]
[]
[]
[]
[]
[]
[]
[]
[]
[]
[]
[]
[]
[]
[]
[]
[]
[]
[]
[]
[]
[]
[]
[]
[]
[]
[]
[]
[]
[]
[]
[]
[]
[]
[]
[]
[]
[]
[]
[]
[]
[]
[]
[]
[]
[]
[]
[]
[]
[]
[]
[]
[]
[]
[]
[]
[]
[]
[]
[]
[]
[]
[]
[]
[]
[]
[]
[]
[]
[]
[]
[]
[]
[]
[]
[]
[]
[]
[]
[]
[]
[]
[]
[]
[]
[]
[]
[]
[]
[]
[]
[]
[]
[]
[]
[]
[]
[]
[]
[]
[]
[]
[]
[]
[]
[]
[]
[]
[]
[]
[]
[]
[]
[]
[]
[]
[]
[]
[]
[]
[]
[]
[]
[]
[]
[]
[]
[]
[]
[]
[]
[]
[]
[]
[]
[]
[]
[]
[]
[]
[]
[]
[]
[]
[]
[]
[]
[]
[]
[]
[]
[]
[]
[]
[]
[]
[]
[]
[]
[]
[]
[]
[]
[]
[]
[]
[]
[]
[]
[]
[]
[]
[]
[]
[]
[]
[]
[]
[]
[]
[]
[]
[]
[]
[]
[]
[]
[]
[]
[]
[]
[]
[]
[]
[]
[]
[]
[]
[]
[]
[]
[]
[]
[]
[]
[]
[]
[]
[]
[]
[]
[]
[]
[]
[]
[]
[]
[]
[]
[]
[]
[]
[]
[]
[]
[]
[]
[]
[]
[]
[]
[]
[]
[]
[]
[]
[]
[]
[]
[]
[]
[]
[]
[]
[]
[]
[]
[]
[]
[]
[]
[]
[]
[]
[]
[]
[]
[]
[]
[]
[]
[]
[]
[]
[]
[]
[]
[]
[]
[]
[]
[]
[]
[]
[]
[]
[]
[]
[]
[]
[]
[]
[]
[]
[]
[]
[]
[]
[]
[]
[]
[]
[]
[]
[]
[]
[]
[]
[]
[]
[]
[]
[]
[]
[]
[]
[]
[]
[]
[]
[]
[]
[]
[]
[]
[]
[]
[]
[]
[]
[]
[]
[]
[]
[]
[]
[]
[]
[]
[]
[]
[]
[]
[]
[]
[]
[]
[]
[]
[]
[]
[]
[]
[]
[]
[]
[]
[]
[]
[]
[]
[]
[]
[]
[]
[]
[]
[]
[]
[]
[]
[]
[]
[]
[]
[]
[]
[]
[]
[]
[]
[]
[]
[]
[]
[]
[]
[]
[]
[]
[]
[]
[]
[]
[]
[]
[]
[]
[]
[]
[]
[]
[]
[]
[]
[]
[]
[]
[]
[]
[]
[]
[]
[]
[]
[]
[]
[]
[]
[]
[]
[]
[]
[]
[]
[]
[]
[]
[]
[]
[]
[]
[]
[]
[]
[]
[]
[]
[]
[]
[]
[]
[]
[]
[]
[]
[]
[]
[]
[]
[]
[]
[]
[]
[]
[]
[]
[]
[]
[]
[]
[]
[]
[]
[]
[]
[]
[]
[]
[]
[]
[]
[]
[]
[]
[]
[]
[]
[]
[]
[]
[]
[]
[]
[]
[]
[]
[]
[]
[]
[]
[]
[]
[]
[]
[]
[]
[]
[]
[]
[]
[]
[]
[]
[]
[]
[]
[]
[]
[]
[]
[]
[]
[]
[]
[]
[]
[]
[]
[]
[]
[]
[]
[]
[]
[]
[]
[]
[]
[]
[]
[]
[]
[]
[]
[]
[]
[]
[]
[]
[]
[]
[]
[]
[]
[]
[]
[]
[]
[]
[]
[]
[]
[]
[]
[]
[]
[]
[]
[]
[]
[]
[]
[]
[]
[]
[]
[]
[]
[]
[]
[]
[]
[]
[]
[]
[]
[]
[]
[]
[]
[]
[]
[]
[]
[]
[]
[]
[]
[]
[]
[]
[]
[]
[]
[]
[]
[]
[]
[]
[]
[]
[]
[]
[]
[]
[]
[]
[]
[]
[]
[]
[]
[]
[]
[]
[]
[]
[]
[]
[]
[]
[]
[]
[]
[]
[]
[]
[]
[]
[]
[]
[]
[]
[]
[]
[]
[]
[]
[]
[]
[]
[]
[]
[]
[]
[]
[]
[]
[]
[]
[]
[]
[]
[]
[]
[]
[]
[]
[]
[]
[]
[]
[]
[]
[]
[]
[]
[]
[]
[]
[]
[]
[]
[]
[]
[]
[]
[]
[]
[]
[]
[]
[]
[]
[]
[]
[]
[]
[]
[]
[]
[]
[]
[]
[]
[]
[]
[]
[]
[]
[]
[]
[]
[]
[]
[]
[]
[]
[]
[]
[]
[]
[]
[]
[]
[]
[]
[]
[]
[]
[]
[]
[]
[]
[]
[]
[]
[]
[]
[]
[]
[]
[]
[]
[]
[]
[]
[]
[]
[]
[]
[]
[]
[]
[]
[]
[]
[]
[]
[]
[]
[]
[]
[]
[]
[]
[]
[]
[]
[]
[]
[]
[]
[]
[]
[]
[]
[]
[]
[]
[]
[]
[]
[]
[]
[]
[]
[]
[]
[]
[]
[]
[]
[]
[]
[]
[]
[]
[]
[]
[]
[]
[]
[]
[]
[]
[]
[]
[]
[]
[]
[]
[]
[]
[]
[]
[]
[]
[]
[]
[]
[]
[]
[]
[]
[]
[]
[]
[]
[]
[]
[]
[]
[]
[]
[]
[]
[]
[]
[]
[]
[]
[]
[]
[]
[]
[]
[]
[]
[]
[]
[]
[]
[]
[]
[]
[]
[]
[]
[]
[]
[]
[]
[]
[]
[]
[]
[]
[]
[]
[]
[]
[]
[]
[]
[]
[]
[]
[]
[]
[]
[]
[]
[]
[]
[]
[]
[]
[]
[]
[]
[]
[]
[]
[]
[]
[]
[]
[]
[]
[]
[]
[]
[]
[]
[]
[]
[]
[]
[]
[]
[]
[]
[]
[]
[]
[]
[]
[]
[]
[]
[]
[]
[]
[]
[]
[]
[]
[]
[]
[]
[]
[]
[]
[]
[]
[]
[]
[]
[]
[]
[]
[]
[]
[]
[]
[]
[]
[]
[]
[]
[]
[]
[]
[]
[]
[]
[]
[]
[]
[]
[]
[]
[]
[]
[]
[]
[]
[]
[]
[]
[]
[]
[]
[]
[]
[]
[]
[]
[]
[]
[]
[]
[]
[]
[]
[]
[]
[]
[]
[]
[]
[]
[]
[]
[]
[]
[]
[]
[]
[]
[]
[]
[]
[]
[]
[]
[]
[]
[]
[]
[]
[]
[]
[]
[]
[]
[]
[]
[]
[]
[]
[]
[]
[]
[]
[]
[]
[]
[]
[]
[]
[]
[]
[]
[]
[]
[]
[]
[]
[]
[]
[]
[]
[]
[]
[]
[]
[]
[]
[]
[]
[]
[]
[]
[]
[]
[]
[]
[]
[]
[]
[]
[]
[]
[]
[]
[]
[]
[]
[]
[]
[]
[]
[]
[]
[]
[]
[]
[]
[]
[]
[]
[]
[]
[]
[]
[]
[]
[]
[]
[]
[]
[]
[]
[]
[]
[]
[]
[]
[]
[]
[]
[]
[]
[]
[]
[]
[]
[]
[]
[]
[]
[]
[]
[]
[]
[]
[]
[]
[]
[]
[]
[]
[]
[]
[]
[]
[]
[]
[]
[]
[]
[]
[]
[]
[]
[]
[]
[]
[]
[]
[]
[]
[]
[]
[]
[]
[]
[]
[]
[]
[]
[]
[]
[]
[]
[]
[]
[]
[]
[]
[]
[]
[]
[]
[]
[]
[]
[]
[]
[]
[]
[]
[]
[]
[]
[]
[]
[]
[]
[]
[]
[]
[]
[]
[]
[]
[]
[]
[]
[]
[]
[]
[]
[]
[]
[]
[]
[]
[]
[]
[]
[]
[]
[]
[]
[]
[]
[]
[]
[]
[]
[]
[]
[]
[]
[]
[]
[]
[]
[]
[]
[]
[]
[]
[]
[]
[]
[]
[]
[]
[]
[]
[]
[]
[]
[]
[]
[]
[]
[]
[]
[]
[]
[]
[]
[]
[]
[]
[]
[]
[]
[]
[]
[]
[]
[]
[]
[]
[]
[]
[]
[]
[]
[]
[]
[]
[]
[]
[]
[]
[]
[]
[]
[]
[]
[]
[]
[]
[]
[]
[]
[]
[]
[]
[]
[]
[]
[]
[]
[]
[]
[]
[]
[]
[]
[]
[]
[]
[]
[]
[]
[]
[]
[]
[]
[]
[]
[]
[]
[]
[]
[]
[]
[]
[]
[]
[]
[]
[]
[]
[]
[]
[]
[]
[]
[]
[]
[]
[]
[]
[]
[]
[]
[]
[]
[]
[]
[]
[]
[]
[]
[]
[]
[]
[]
[]
[]
[]
[]
[]
[]
[]
[]
[]
[]
[]
[]
[]
[]
[]
[]
[]
[]
[]
[]
[]
[]
[]
[]
[]
[]
[]
[]
[]
[]
[]
[]
[]
[]
[]
[]
[]
[]
[]
[]
[]
[]
[]
[]
[]
[]
[]
[]
[]
[]
[]
[]
[]
[]
[]
[]
[]
[]
[]
[]
[]
[]
[]
[]
[]
[]
[]
[]
[]
[]
[]
[]
[]
[]
[]
[]
[]
[]
[]
[]
[]
[]
[]
[]
[]
[]
[]
[]
[]
[]
[]
[]
[]
[]
[]
[]
[]
[]
[]
[]
[]
[]
[]
[]
[]
[]
[]
[]
[]
[]
[]
[]
[]
[]
[]
[]
[]
[]
[]
[]
[]
[]
[]
[]
[]
[]
[]
[]
[]
[]
[]
[]
[]
[]
[]
[]
[]
[]
[]
[]
[]
[]
[]
[]
[]
[]
[]
[]
[]
[]
[]
[]
[]
[]
[]
[]
[]
[]
[]
[]
[]
[]
[]
[]
[]
[]
[]
[]
[]
[]
[]
[]
[]
[]
[]
[]
[]
[]
[]
[]
[]
[]
[]
[]
[]
[]
[]
[]
[]
[]
[]
[]
[]
[]
[]
[]
[]
[]
[]
[]
[]
[]
[]
[]
[]
[]
[]
[]
[]
[]
[]
[]
[]
[]
[]
[]
[]
[]
[]
[]
[]
[]
[]
[]
[]
[]
[]
[]
[]
[]
[]
[]
[]
[]
[]
[]
[]
[]
[]
[]
[]
[]
[]
[]
[]
[]
[]
[]
[]
[]
[]
[]
[]
[]
[]
[]
[]
[]
[]
[]
[]
[]
[]
[]
[]
[]
[]
[]
[]
[]
[]
[]
[]
[]
[]
[]
[]
[]
[]
[]
[]
[]
[]
[]
[]
[]
[]
[]
[]
[]
[]
[]
[]
[]
[]
[]
[]
[]
[]
[]
[]
[]
[]
[]
[]
[]
[]
[]
[]
[]
[]
[]
[]
[]
[]
[]
[]
[]
[]
[]
[]
[]
[]
[]
[]
[]
[]
[]
[]
[]
[]
[]
[]
[]
[]
[]
[]
[]
[]
[]
[]
[]
[]
[]
[]
[]
[]
[]
[]
[]
[]
[]
[]
[]
[]
[]
[]
[]
[]
[]
[]
[]
[]
[]
[]
[]
[]
[]
[]
[]
[]
[]
[]
[]
[]
[]
[]
[]
[]
[]
[]
[]
[]
[]
[]
[]
[]
[]
[]
[]
[]
[]
[]
[]
[]
[]
[]
[]
[]
[]
[]
[]
[]
[]
[]
[]
[]
[]
[]
[]
[]
[]
[]
[]
[]
[]
[]
[]
[]
[]
[]
[]
[]
[]
[]
[]
[]
[]
[]
[]
[]
[]
[]
[]
[]
[]
[]
[]
[]
[]
[]
[]
[]
[]
[]
[]
[]
[]
[]
[]
[]
[]
[]
[]
[]
[]
[]
[]
[]
[]
[]
[]
[]
[]
[]
[]
[]
[]
[]
[]
[]
[]
[]
[]
[]
[]
[]
[]
[]
[]
[]
[]
[]
[]
[]
[]
[]
[]
[]
[]
[]
[]
[]
[]
[]
[]
[]
[]
[]
[]
[]
[]
[]
[]
[]
[]
[]
[]
[]
[]
[]
[]
[]
[]
[]
[]
[]
[]
[]
[]
[]
[]
[]
[]
[]
[]
[]
[]
[]
[]
[]
[]
[]
[]
[]
[]
[]
[]
[]
[]
[]
[]
[]
[]
[]
[]
[]
[]
[]
[]
[]
[]
[]
[]
[]
[]
[]
[]
[]
[]
[]
[]
[]
[]
[]
[]
[]
[]
[]
[]
[]
[]
[]
[]
[]
[]
[]
[]
[]
[]
[]
[]
[]
[]
[]
[]
[]
[]
[]
[]
[]
[]
[]
[]
[]
[]
[]
[]
[]
[]
[]
[]
[]
[]
[]
[]
[]
[]
[]
[]
[]
[]
[]
[]
[]
[]
[]
[]
[]
[]
[]
[]
[]
[]
[]
[]
[]
[]
[]
[]
[]
[]
[]
[]
[]
[]
[]
[]
[]
[]
[]
[]
[]
[]
[]
[]
[]
[]
[]
[]
[]
[]
[]
[]
[]
[]
[]
[]
[]
[]
[]
[]
[]
[]
[]
[]
[]
[]
[]
[]
[]
[]
[]
[]
[]
[]
[]
[]
[]
[]
[]
[]
[]
[]
[]
[]
[]
[]
[]
[]
[]
[]
[]
[]
[]
[]
[]
[]
[]
[]
[]
[]
[]
[]
[]
[]
[]
[]
[]
[]
[]
[]
[]
[]
[]
[]
[]
[]
[]
[]
[]
[]
[]
[]
[]
[]
[]
[]
[]
[]
[]
[]
[]
[]
[]
[]
[]
[]
[]
[]
[]
[]
[]
[]
[]
[]
[]
[]
[]
[]
[]
[]
[]
[]
[]
[]
[]
[]
[]
[]
[]
[]
[]
[]
[]
[]
[]
[]
[]
[]
[]
[]
[]
[]
[]
[]
[]
[]
[]
[]
[]
[]
[]
[]
[]
[]
[]
[]
[]
[]
[]
[]
[]
[]
[]
[]
[]
[]
[]
[]
[]
[]
[]
[]
[]
[]
[]
[]
[]
[]
[]
[]
[]
[]
[]
[]
[]
[]
[]
[]
[]
[]
[]
[]
[]
[]
[]
[]
[]
[]
[]
[]
[]
[]
[]
[]
[]
[]
[]
[]
[]
[]
[]
[]
[]
[]
[]
[]
[]
[]
[]
[]
[]
[]
[]
[]
[]
[]
[]
[]
[]
[]
[]
[]
[]
[]
[]
[]
[]
[]
[]
[]
[]
[]
[]
[]
[]
[]
[]
[]
[]
[]
[]
[]
[]
[]
[]
[]
[]
[]
[]
[]
[]
[]
[]
[]
[]
[]
[]
[]
[]
[]
[]
[]
[]
[]
[]
[]
[]
[]
[]
[]
[]
[]
[]
[]
[]
[]
[]
[]
[]
[]
[]
[]
[]
[]
[]
[]
[]
[]
[]
[]
[]
[]
[]
[]
[]
[]
[]
[]
[]
[]
[]
[]
[]
[]
[]
[]
[]
[]
[]
[]
[]
[]
[]
[]
[]
[]
[]
[]
[]
[]
[]
[]
[]
[]
[]
[]
[]
[]
[]
[]
[]
[]
[]
[]
[]
[]
[]
[]
[]
[]
[]
[]
[]
[]
[]
[]
[]
[]
[]
[]
[]
[]
[]
[]
[]
[]
[]
[]
[]
[]
[]
[]
[]
[]
[]
[]
[]
[]
[]
[]
[]
[]
[]
[]
[]
[]
[]
[]
[]
[]
[]
[]
[]
[]
[]
[]
[]
[]
[]
[]
[]
[]
[]
[]
[]
[]
[]
[]
[]
[]
[]
[]
[]
[]
[]
[]
[]
[]
[]
[]
[]
[]
[]
[]
[]
[]
[]
[]
[]
[]
[]
[]
[]
[]
[]
[]
[]
[]
[]
[]
[]
[]
[]
[]
[]
[]
[]
[]
[]
[]
[]
[]
[]
[]
[]
[]
[]
[]
[]
[]
[]
[]
[]
[]
[]
[]
[]
[]
[]
[]
[]
[]
[]
[]
[]
[]
[]
[]
[]
[]
[]
[]
[]
[]
[]
[]
[]
[]
[]
[]
[]
[]
[]
[]
[]
[]
[]
[]
[]
[]
[]
[]
[]
[]
[]
[]
[]
[]
[]
[]
[]
[]
[]
[]
[]
[]
[]
[]
[]
[]
[]
[]
[]
[]
[]
[]
[]
[]
[]
[]
[]
[]
[]
[]
[]
[]
[]
[]
[]
[]
[]
[]
[]
[]
[]
[]
[]
[]
[]
[]
[]
[]
[]
[]
[]
[]
[]
[]
[]
[]
[]
[]
[]
[]
[]
[]
[]
[]
[]
[]
[]
[]
[]
[]
[]
[]
[]
[]
[]
[]
[]
[]
[]
[]
[]
[]
[]
[]
[]
[]
[]
[]
[]
[]
[]
[]
[]
[]
[]
[]
[]
[]
[]
[]
[]
[]
[]
[]
[]
[]
[]
[]
[]
[]
[]
[]
[]
[]
[]
[]
[]
[]
[]
[]
[]
[]
[]
[]
[]
[]
[]
[]
[]
[]
[]
[]
[]
[]
[]
[]
[]
[]
[]
[]
[]
[]
[]
[]
[]
[]
[]
[]
[]
[]
[]
[]
[]
[]
[]
[]
[]
[]
[]
[]
[]
[]
[]
[]
[]
[]
[]
[]
[]
[]
[]
[]
[]
[]
[]
[]
[]
[]
[]
[]
[]
[]
[]
[]
[]
[]
[]
[]
[]
[]
[]
[]
[]
[]
[]
[]
[]
[]
[]
[]
[]
[]
[]
[]
[]
[]
[]
[]
[]
[]
[]
[]
[]
[]
[]
[]
[]
[]
[]
[]
[]
[]
[]
[]
[]
[]
[]
[]
[]
[]
[]
[]
[]
[]
[]
[]
[]
[]
[]
[]
[]
[]
[]
[]
[]
[]
[]
[]
[]
[]
[]
[]
[]
[]
[]
[]
[]
[]
[]
[]
[]
[]
[]
[]
[]
[]
[]
[]
[]
[]
[]
[]
[]
[]
[]
[]
[]
[]
[]
[]
[]
[]
[]
[]
[]
[]
[]
[]
[]
[]
[]
[]
[]
[]
[]
[]
[]
[]
[]
[]
[]
[]
[]
[]
[]
[]
[]
[]
[]
[]
[]
[]
[]
[]
[]
[]
[]
[]
[]
[]
[]
[]
[]
[]
[]
[]
[]
[]
[]
[]
[]
[]
[]
[]
[]
[]
[]
[]
[]
[]
[]
[]
[]
[]
[]
[]
[]
[]
[]
[]
[]
[]
[]
[]
[]
[]
[]
[]
[]
[]
[]
[]
[]
[]
[]
[]
[]
[]
[]
[]
[]
[]
[]
[]
[]
[]
[]
[]
[]
[]
[]
[]
[]
[]
[]
[]
[]
[]
[]
[]
[]
[]
[]
[]
[]
[]
[]
[]
[]
[]
[]
[]
[]
[]
[]
[]
[]
[]
[]
[]
[]
[]
[]
[]
[]
[]
[]
[]
[]
[]
[]
[]
[]
[]
[]
[]
[]
[]
[]
[]
[]
[]
[]
[]
[]
[]
[]
[]
[]
[]
[]
[]
[]
[]
[]
[]
[]
[]
[]
[]
[]
[]
[]
[]
[]
[]
[]
[]
[]
[]
[]
[]
[]
[]
[]
[]
[]
[]
[]
[]
[]
[]
[]
[]
[]
[]
[]
[]
[]
[]
[]
[]
[]
[]
[]
[]
[]
[]
[]
[]
[]
[]
[]
[]
[]
[]
[]
[]
[]
[]
[]
[]
[]
[]
[]
[]
[]
[]
[]
[]
[]
[]
[]
[]
[]
[]
[]
[]
[]
[]
[]
[]
[]
[]
[]
[]
[]
[]
[]
[]
[]
[]
[]
[]
[]
[]
[]
[]
[]
[]
[]
[]
[]
[]
[]
[]
[]
[]
[]
[]
[]
[]
[]
[]
[]
[]
[]
[]
[]
[]
[]
[]
[]
[]
[]
[]
[]
[]
[]
[]
[]
[]
[]
[]
[]
[]
[]
[]
[]
[]
[]
[]
[]
[]
[]
[]
[]
[]
[]
[]
[]
[]
[]
[]
[]
[]
[]
[]
[]
[]
[]
[]
[]
[]
[]
[]
[]
[]
[]
[]
[]
[]
[]
[]
[]
[]
[]
[]
[]
[]
[]
[]
[]
[]
[]
[]
[]
[]
[]
[]
[]
[]
[]
[]
[]
[]
[]
[]
[]
[]
[]
[]
[]
[]
[]
[]
[]
[]
[]
[]
[]
[]
[]
[]
[]
[]
[]
[]
[]
[]
[]
[]
[]
[]
[]
[]
[]
[]
[]
[]
[]
[]
[]
[]
[]
[]
[]
[]
[]
[]
[]
[]
[]
[]
[]
[]
[]
[]
[]
[]
[]
[]
[]
[]
[]
[]
[]
[]
[]
[]
[]
[]
[]
[]
[]
[]
[]
[]
[]
[]
[]
[]
[]
[]
[]
[]
[]
[]
[]
[]
[]
[]
[]
[]
[]
[]
[]
[]
[]
[]
[]
[]
[]
[]
[]
[]
[]
[]
[]
[]
[]
[]
[]
[]
[]
[]
[]
[]
[]
[]
[]
[]
[]
[]
[]
[]
[]
[]
[]
[]
[]
[]
[]
[]
[]
[]
[]
[]
[]
[]
[]
[]
[]
[]
[]
[]
[]
[]
[]
[]
[]
[]
[]
[]
[]
[]
[]
[]
[]
[]
[]
[]
[]
[]
[]
[]
[]
[]
[]
[]
[]
[]
[]
[]
[]
[]
[]
[]
[]
[]
[]
[]
[]
[]
[]
[]
[]
[]
[]
[]
[]
[]
[]
[]
[]
[]
[]
[]
[]
[]
[]
[]
[]
[]
[]
[]
[]
[]
[]
[]
[]
[]
[]
[]
[]
[]
[]
[]
[]
[]
[]
[]
[]
[]
[]
[]
[]
[]
[]
[]
[]
[]
[]
[]
[]
[]
[]
[]
[]
[]
[]
[]
[]
[]
[]
[]
[]
[]
[]
[]
[]
[]
[]
[]
[]
[]
[]
[]
[]
[]
[]
[]
[]
[]
[]
[]
[]
[]
[]
[]
[]
[]
[]
[]
[]
[]
[]
[]
[]
[]
[]
[]
[]
[]
[]
[]
[]
[]
[]
[]
[]
[]
[]
[]
[]
[]
[]
[]
[]
[]
[]
[]
[]
[]
[]
[]
[]
[]
[]
[]
[]
[]
[]
[]
[]
[]
[]
[]
[]
[]
[]
[]
[]
[]
[]
[]
[]
[]
[]
[]
[]
[]
[]
[]
[]
[]
[]
[]
[]
[]
[]
[]
[]
[]
[]
[]
[]
[]
[]
[]
[]
[]
[]
[]
[]
[]
[]
[]
[]
[]
[]
[]
[]
[]
[]
[]
[]
[]
[]
[]
[]
[]
[]
[]
[]
[]
[]
[]
[]
[]
[]
[]
[]
[]
[]
[]
[]
[]
[]
[]
[]
[]
[]
[]
[]
[]
[]
[]
[]
[]
[]
[]
[]
[]
[]
[]
[]
[]
[]
[]
[]
[]
[]
[]
[]
[]
[]
[]
[]
[]
[]
[]
[]
[]
[]
[]
[]
[]
[]
[]
[]
[]
[]
[]
[]
[]
[]
[]
[]
[]
[]
[]
[]
[]
[]
[]
[]
[]
[]
[]
[]
[]
[]
[]
[]
[]
[]
[]
[]
[]
[]
[]
[]
[]
[]
[]
[]
[]
[]
[]
[]
[]
[]
[]
[]
[]
[]
[]
[]
[]
[]
[]
[]
[]
[]
[]
[]
[]
[]
[]
[]
[]
[]
[]
[]
[]
[]
[]
[]
[]
[]
[]
[]
[]
[]
[]
[]
[]
[]
[]
[]
[]
[]
[]
[]
[]
[]
[]
[]
[]
[]
[]
[]
[]
[]
[]
[]
[]
[]
[]
[]
[]
[]
[]
[]
[]
[]
[]
[]
[]
[]
[]
[]
[]
[]
[]
[]
[]
[]
[]
[]
[]
[]
[]
[]
[]
[]
[]
[]
[]
[]
[]
[]
[]
[]
[]
[]
[]
[]
[]
[]
[]
[]
[]
[]
[]
[]
[]
[]
[]
[]
[]
[]
[]
[]
[]
[]
[]
[]
[]
[]
[]
[]
[]
[]
[]
[]
[]
[]
[]
[]
[]
[]
[]
[]
[]
[]
[]
[]
[]
[]
[]
[]
[]
[]
[]
[]
[]
[]
[]
[]
[]
[]
[]
[]
[]
[]
[]
[]
[]
[]
[]
[]
[]
[]
[]
[]
[]
[]
[]
[]
[]
[]
[]
[]
[]
[]
[]
[]
[]
[]
[]
[]
[]
[]
[]
[]
[]
[]
[]
[]
[]
[]
[]
[]
[]
[]
[]
[]
[]
[]
[]
[]
[]
[]
[]
[]
[]
[]
[]
[]
[]
[]
[]
[]
[]
[]
[]
[]
[]
[]
[]
[]
[]
[]
[]
[]
[]
[]
[]
[]
[]
[]
[]
[]
[]
[]
[]
[]
[]
[]
[]
[]
[]
[]
[]
[]
[]
[]
[]
[]
[]
[]
[]
[]
[]
[]
[]
[]
[]
[]
[]
[]
[]
[]
[]
[]
[]
[]
[]
[]
[]
[]
[]
[]
[]
[]
[]
[]
[]
[]
[]
[]
[]
[]
[]
[]
[]
[]
[]
[]
[]
[]
[]
[]
[]
[]
[]
[]
[]
[]
[]
[]
[]
[]
[]
[]
[]
[]
[]
[]
[]
[]
[]
[]
[]
[]
[]
[]
[]
[]
[]
[]
[]
[]
[]
[]
[]
[]
[]
[]
[]
[]
[]
[]
[]
[]
[]
[]
[]
[]
[]
[]
[]
[]
[]
[]
[]
[]
[]
[]
[]
[]
[]
[]
[]
[]
[]
[]
[]
[]
[]
[]
[]
[]
[]
[]
[]
[]
[]
[]
[]
[]
[]
[]
[]
[]
[]
[]
[]
[]
[]
[]
[]
[]
[]
[]
[]
[]
[]
[]
[]
[]
[]
[]
[]
[]
[]
[]
[]
[]
[]
[]
[]
[]
[]
[]
[]
[]
[]
[]
[]
[]
[]
[]
[]
[]
[]
[]
[]
[]
[]
[]
[]
[]
[]
[]
[]
[]
[]
[]
[]
[]
[]
[]
[]
[]
[]
[]
[]
[]
[]
[]
[]
[]
[]
[]
[]
[]
[]
[]
[]
[]
[]
[]
[]
[]
[]
[]
[]
[]
[]
[]
[]
[]
[]
[]
[null,null,10]

{"sheet":"Compte d'exploitation","index":7,"n_rows":0,"n_cols":0,"rows_kept":0,"cut":false,"hidden":false,"merged":[]}