{"text_format":"1","workbook":"xlsx","n_sheets":7,"sheets":["Planning","Planning par magasin","Solde d'heure collaborateur","Horaires","envoi planning","Feuil2","Feuil1"],"not_rendered":{"charts":0,"images":0,"macros":1,"external_links":1,"defined_names":4,"comments":0,"pivot_tables":0},"unopened":[],"bounds":{"document_bytes":16777216,"sheet_cells":100000,"rows_first":2000,"rows_last":500,"rows_between":2000,"halvings":0,"cell_chars":16384,"cell_head_chars":4096},"cells_cut":0,"cells_raw":0,"read":"whole","date_system":"1900"}

{"sheet":"Planning","index":0,"n_rows":51,"n_cols":57,"rows_kept":51,"cut":false,"hidden":false,"merged":[[35,0,37,0]]}
[]
[null,null,null,null,null,"Jeune Genevois"]
[null,null,"2013-11-04",{"$f":"SUM(C3+1)","v":"2013-11-05"},{"$f":"SUM(D3+1)","v":"2013-11-06"},{"$f":"SUM(E3+1)","v":"2013-11-07"},{"$f":"SUM(F3+1)","v":"2013-11-08"},{"$f":"SUM(G3+1)","v":"2013-11-09"},{"$f":"SUM(H3+2)","v":"2013-11-11"},{"$f":"SUM(I3+1)","v":"2013-11-12"},{"$f":"SUM(J3+1)","v":"2013-11-13"},{"$f":"SUM(K3+1)","v":"2013-11-14"},{"$f":"SUM(L3+1)","v":"2013-11-15"},{"$f":"SUM(M3+1)","v":"2013-11-16"},{"$f":"SUM(N3+2)","v":"2013-11-18"},{"$f":"SUM(O3+1)","v":"2013-11-19"},{"$f":"SUM(P3+1)","v":"2013-11-20"},{"$f":"SUM(Q3+1)","v":"2013-11-21"},{"$f":"SUM(R3+1)","v":"2013-11-22"},{"$f":"SUM(S3+1)","v":"2013-11-23"},{"$f":"SUM(T3+2)","v":"2013-11-25"},{"$f":"SUM(U3+1)","v":"2013-11-26"},{"$f":"SUM(V3+1)","v":"2013-11-27"},{"$f":"SUM(W3+1)","v":"2013-11-28"},{"$f":"SUM(X3+1)","v":"2013-11-29"},{"$f":"SUM(Y3+1)","v":"2013-11-30"},{"$f":"SUM(Z3+2)","v":"2013-12-02"},{"$f":"SUM(AA3+1)","v":"2013-12-03"},{"$f":"SUM(AB3+1)","v":"2013-12-04"},{"$f":"SUM(AC3+1)","v":"2013-12-05"},{"$f":"SUM(AD3+1)","v":"2013-12-06"},{"$f":"SUM(AE3+1)","v":"2013-12-07"},{"$f":"SUM(AF3+2)","v":"2013-12-09"},{"$f":"SUM(AG3+1)","v":"2013-12-10"},{"$f":"SUM(AH3+1)","v":"2013-12-11"},{"$f":"SUM(AI3+1)","v":"2013-12-12"},{"$f":"SUM(AJ3+1)","v":"2013-12-13"},{"$f":"SUM(AK3+1)","v":"2013-12-14"},{"$f":"SUM(AL3+2)","v":"2013-12-16"},{"$f":"SUM(AM3+1)","v":"2013-12-17"},{"$f":"SUM(AN3+1)","v":"2013-12-18"},{"$f":"SUM(AO3+1)","v":"2013-12-19"},{"$f":"SUM(AP3+1)","v":"2013-12-20"},{"$f":"SUM(AQ3+1)","v":"2013-12-21"},{"$f":"SUM(AR3+2)","v":"2013-12-23"},{"$f":"SUM(AS3+1)","v":"2013-12-24"},{"$f":"SUM(AT3+1)","v":"2013-12-25"},{"$f":"SUM(AU3+1)","v":"2013-12-26"},{"$f":"SUM(AV3+1)","v":"2013-12-27"},{"$f":"SUM(AW3+1)","v":"2013-12-28"},{"$f":"SUM(AX3+2)","v":"2013-12-30"},{"$f":"SUM(AY3+1)","v":"2013-12-31"},{"$f":"SUM(AZ3+1)","v":"2014-01-01"},{"$f":"SUM(BA3+1)","v":"2014-01-02"},{"$f":"SUM(BB3+1)","v":"2014-01-03"},{"$f":"SUM(BC3+1)","v":"2014-01-04"}]
[null,"Aurélien","R","R","Nav1","Nav2","Nav2","Nav3","nav1","Nav1","Nav1","Nav2","R","R","R","R","Nav1","Nav2","Nav2","Nav3","nav1","Nav1","Nav1","Nav2","R","R","R","R","Nav1","Nav2","Nav2","Nav3","nav1","Nav1","Nav1","Recup","R","R","R","R","Nav1","Nav2","Nav2","Nav3","Nav1","Nav1","F","Nav2","R","R","R","Nav1","F","Nav1","Nav2","Nav3"]
[null,"Fabrice","V","V","V","V","R","R","R","Pom1","Pom1","Pom2","Pom2","R","R","Pom1","R","Pom2","Pom2","Pom3","R","Pom1","Pom1","Pom2","recup","R","R","recup","R","Pom2","Pom2","pom3","R","Pom1","Pom1","Pom2","Pom2","R","R","Pom1","R","Pom2","Pom2","Pom3","R","Pom1","F","Pom2","Pom2","Pom3","Pom1","Pom1","F","Tour1","Pom2","R"]
[null,"Jacques","M","M","M","M","R","R","M","M","M","M","R","R","M","M","M","M","R","R","M","M","M","M","R","R","M","M","M","M","R","R","M","M","M","M","R","R","M","M","M","M","R","R","M","M","M","M","R","R","M","M","M","M","R","R"]
[null,"Fréderic D","vib1","Vib1","X","X","X","X","vib1","Vib1","X","X","X","X","Vib1","Vib1","X","X","X","X","Vib1","Vib1","X","X","X","X","vib1","Vib1","X","X","X","X","Vib1","Vib1","X","X","X","X","Vib1","Vib1","X","X","X","X","Vib1","Vib1","X","X","X","X","Vib1","Vib1","X","X","X","X"]
[null,"Henri","Onex1","Onex1","Onex1","Onex2","R","R","onex1","Onex1","R","R","onex2","Onex3","Onex1","Onex1","Onex1","Onex2","R","R","Onex1","Onex1","Onex1","Onex2","R","R","Onex1","Onex1","Onex1","R","R","Recup","Onex1","Onex1","Onex1","R","R","Onex3","Onex1","Onex1","Onex1","Onex2","R","R","Onex1","Onex1","F","Onex2","R","Onex3","Onex1","Onex1","F","Onex1","Onex2","R"]
[null,"Virginie","one1","X","Onex1","X","X","X","onex1","X","Onex1","X","X","X","Onex1","X","Onex1","X","X","X","Onex1","X","Onex1","X","X","X","recup","X","Onex1","X","X","X","Onex1","X","Onex1","X","X","X","Onex1","X","Onex1","X","X","X","Onex1","X","F","X","X","X","Onex1","Onex1","F","X","X","X"]
[null,"Nicolas","R","R","Tour1","Nyon1","Onex2","Onex3","R","R","Onex1","onex2","tour2","tour3","R","R","tour1","tour2","onex2","onex3","R","R","recup","onex2","onex2","onex3","R","onex1","R","onex2","onex2","Onex3","R","R","Recup","onex2","onex2","onex3","R","R","pom1","Onex2","onex2","onex3","R","Onex1","F","Onex2","Onex2","Onex3","R","Tour1","F","Onex1","Onex2","Onex3"]
[null,"Véronique","R","Plo1","Plo1","R","Plo2","Plo3","V","V","V","Recup","R","R","R","Plo1","Plo1","R","Plo2","Plo3","R","Plo1","Plo1","R","Plo2","Plo3","plo1","Plo1","R","Plo2","Recup","R","R","Plo1","Plo1","R","Plo2","Plo3","R","Plo1","Plo1","R","Plo2","Plo3","Plo1","Plo1","F","R","Plo2","Plo3","Plo1","Plo1","F","Plo1","R","Plo3"]
[null,"Paulo","Thon1","Thon1","R","Thon2","R","Thon3","thon1","Thon1","Thon1","Thon2","R","R","Thon1","Thon1","R","Thon2","R","Thon3","Thon1","Thon1","Thon1","Thon2","R","R","Thon1","Thon1","R","Thon2","R","Thon3","thon1","Thon1","Thon1","Thon2","R","R","Thon1","Thon1","R","Thon2","R","Thon3","thon1","Thon1","F","Thon2","R","R","Thon1","Thon1","F","thon1","R","Thon3"]
[null,"J-Christophe","pom1","pom1","Nyon1","pom1","R","R","plo1","plo1","R","Nyon1","R","Pom3","plo1","R","ves1","R","thon2","Vib3","R","R","Vib1","Nyon1","pom2","pom3","Onex1","pom1","pom1","R","R","recup","R","R","recup","nav2","Vib2","pom3","R","R","Nav1","Nav2","Nav2","Nav3","pom1","Vid1","F","R","nav2","nav3","nav1","Pom1","F","Tour1","Pom2","vid3"]
[null,"David","M","X","X","X","M","M","M","X","X","X","M","M","M","X","X","X","M","M","M","X","X","X","M","M","M","X","X","X","M","M","M","X","X","X","M","M","M","X","X","X","M","M","M","X","X","X","M","M","M","X","X","X","M","M"]
[null,"Hubert","Nyon1","Nyon1","R","R","recup","pom3","nyon1","Nyon1","Nyon1","plo2","R","R","R","R","Nyon1","Nyon1","Nyon1","Nyon2","Nyon1","Nyon1","R","R","Nyon1","Nyon2","Nyon1","Nyon1","Nyon1","Nyon1","R","R","R","R","Nyon1","Nyon1","Nyon1","Nyon2","Nyon1","Nyon1","R","R","Nyon1","Nyon2","R","Nyon1","F","Nyon1","Nyon1","Nyon2","R","Nyon1","F","Nav1","Nyon1","Nyon2"]
[null,"Izabella","Aca1","Onex1","R","Onex2","Nyon1","Nyon2","vid1","Vid1","R","R","Nyon1","Nyon2","Nyon1","Nyon1","R","R","recup","Vid3","Vid1","Vid1","Nyon1","recup","R","R","R","R","Vid1","Vid2","Nyon1","Nyon2","Nyon1","Nyon1","R","R","Vid2","Vid3","Vid1","Vid1","Nyon1","Nyon1","R","Nyon2","Nyon1","Vid1","F","R","R","Nyon2","Nyon1","Nyon1","F","Vid1","Nyon1","R"]
[null,"Julien","nav1","nav1","pom1","tour2","R","R","pom1","onex1","R","R","nav2","nav3","tour1","R","R","vibferm","vib2","nav3","pom1","Onex1","R","R","nav2","nav3","nav1","nav1","R","R","tour2","tour3","R","R","tour1","tour2","nav2","nav3","nav1","nav1","Vib1","vibferm","R","Vib3","R","tour1","F","tour2","vib2","R","nav1","nav1","F","Aca1","R","pom3"]
[null,"Arnaud","Aca*","R","vib1","Vibferm","vib2","Vib3","R","R","Vib1","vibferm","vib2","vib3","pom1","nav1","pom1","Recup","R","R","R","R","Vib1","vibferm","vib2","Vib3","R","R","Vib1","vibferm","Vib2","Vib3","pom1","Nav1","Vib1","vibferm","R","R","pom1","tour1","R","R","Vib2","recup","R","Nav1","F","vibferm","nav2","nav3","R","Vib1","F","vib1","vib2","Nav3"]
[null,"Pascal","R","R","Vib1","Vibjeu","Vib2","Vib3","R","R","Vib1","Vibjeu","Vib2","Vib3","R","R","Vib1","Vibjeu","Vib2","Vib3","R","R","recup","Vibjeu","Vib2","Vib3","R","R","Vib1","Vibjeu","Vib2","Vib3","R","R","Vib1","Vibjeu","Vib2","Vib3","R","R","Vib1","Vibjeu","Vib2","Vib3","R","Vib1","F","vibjeu","vib2","vib3","R","Vib1","F","vib1","vib2","vib3"]
[null,"Lidia","Aca1","R","R","Aca2","Aca2","Aca3","Aca1","Aca1","Aca1","R","R","Aca3","Aca1","Aca1","Aca1","Aca2","R","R","Aca1","R","R","Aca2","Aca2","Aca3","Aca1","Aca1","Aca1","R","R","Aca3","Aca1","Aca1","Aca1","Aca2","R","R","Aca1","R","R","Aca2","Aca2","Aca3","R","Aca1","F","Aca2","R","aca3","Aca1","Aca1","F","Aca1","Aca2","R"]
[null,"Fréderic M","vib1","R","Ves1","Ves2","Ves2","R","R","R","Ves1","Ves2","Ves2","Ves3","R","R","recup","Ves2","Ves2","Ves3","R","R","Ves1","Ves2","Ves2","Ves3","R","R","Ves1","Ves2","Ves2","Ves3","R","R","Ves1","Ves2","Ves2","Ves3","R","R","Ves1","Ves2","Ves2","Ves3","R","Ves1","F","Ves2","Ves2","Ves3","R","R","F","ves1","Ves2","Ves3"]
[null,"Vincent","Ves1","Ves1","X","X","X","X","ves1","Ves1","X","X","X","X","Ves1","Ves1","X","X","X","X","Ves1","Ves1","X","X","X","X","ves1","Ves1","X","X","X","X","Ves1","Ves1","X","X","X","X","Ves1","Ves1","X","X","X","X","Ves1","Ves1","X","X","X","X","Ves1","Ves1","X","X","X","X"]
[null,"Hervé","Plo1","Aca1","Aca1","Plo2","R","R","R","R","Plo1","Aca1","Aca1","Plo1","recup","R","R","Plo2","Aca2","Aca3","Plo1","Aca1","Aca1","Plo2","R","R","R","R","Plo1","Aca1","Aca1","Plo1","Plo1","R","R","Plo2","Aca2","Aca3","Plo1","Aca1","Aca1","Plo2","R","Plo2","Aca1","Plo1","F","Plo1","R","R","R","Plo1","F","Plo1","Plo2","Aca3"]
[null,"Nathalie","Vid1","Vid1","R","R","Onex2","Onex3","recup","R","R","Onex2","Onex2","onex3","nav1","onex1","R","Onex2","onex2","R","tour1","tour1","R","R","onex2","onex3","pom1","R","R","onex2","onex2","Nav3","R","Onex1","R","onex2","onex2","Vib3","tour1","onex1","R","R","onex2","onex3","Onex1","pom1","F","R","Onex2","R","Onex1","Onex1","F","ves1","R","Onex3"]
[null,"Lionel","X","X","X","X","X","X","X","X","X","X","X","X","X","X","X","X","X","X","X","X","X","X","X","X","X","X","X","X","X","X","X","X","X","X","X","X","X","X","X","X","X","X","X","X","X","X","X","X","X","X","X","X","X","X"]
[null,"Adilia","R","R","Vid1","Vid2","Vid2","Vid3","R","R","Vid1","Vid2","Vid2","Vid3","Vid1","Vid1","Vid1","Vid2","R","R","R","R","Vid1","Vid2","Vid2","Vid3","Vid1","Vid1","R","R","Vid2","Vid3","Vid1","Vid1","Vid1","Vid2","R","R","R","R","Vid1","Vid2","Vid2","Vid3","Vid1","R","F","R","Vid2","Vid3","Vid1","Vid1","F","Vid1","vid2","R"]
[null,"Guillaume","R","vib1","Thon1","R","Thon2","Ves3","vib1","Vib1","R","R","Thon2","Thon3","Vib1","Vib1","thon2","R","recup","R","Vib1","Vib1","R","R","Thon2","Thon3","Vib1","vib1","Thon1","R","Thon2","R","vib1","Vib1","R","R","Thon2","Thon3","Vib1","Vib1","thon2","R","recup","R","Vib1","Thon1","F","R","thon2","thon3","R","Thon1","F","thon1","thon2","vib3"]
[null,"Jeremy","tour1","tour1","R","R","tour2","tour3","tour1","tour1","tour1","tour2","R","R","R","tour1","vib1","R","tour2","tour3","R","R","tour1","tour2","tour2","tour3","tour1","tour1","tour1","tour2","R","R","tour1","tour1","R","R","recup","recup","R","R","tour1","tour2","tour2","tour3","tour1","tour1","F","R","tour2","tour3","tour1","Tour1","F","plo1","tour2","tour3"]
[null,"Xavier","vib1","X","X","X","pom2","Nav3","X","X","X","X","plo2","nav3","X","X","X","X","vid2","onex3","X","X","X","X","X","nav3","X","X","X","X","plo2","Onex3","X","X","X","X","tour2","tour3","X","X","X","X","thon2","Vib3","R","Onex1","F","vid2","aca2","vib3","Vib1","ves1","F","X","X","X"]
[null,"M. Durand","X","X","X","X","X","X","X","X","X","X","X","X","X","X","X","X","X","X","X","X","X","X","X","X","X","X","X","X","X","X","X","X","X","X","X","X","X","X","X","X","X","ves3","Nav1","Vib1","X","X","X","X","X","X","X","X","X","X"]
[null,"M. Romanens","X","X","X","X","X","X","X","X","X","X","X","X","X","X","X","X","X","X","X","X","X","X","X","X","X","X","X","X","X","X","X","X","X","X","X","X","X","X","X","X","X","onex3","Nyon1","Nyon1","X","X","X","X","X","X","X","X","X","X"]
[null,"Mme Romanens","X","X","X","X","X","X","X","X","X","X","X","X","X","X","X","X","X","X","X","X","X","X","X","X","X","X","X","X","X","X","X","X","X","X","X","X","X","X","X","X","X","Pom3","X","X","X","X","X","X","X","X","X","X","X","X"]
[null,null,"X","X","X","X","X","X","X","X","X","X","X","X","X","X","X","X","X","X","X","X","X","X","X","X","X","X","X","X","X","X","X","X","X","X","X","X","X","X","X","X","X","X","X","X","X","X","X","X","X","X","X","X","X","X"]
[null,null,"X","X","X","X","X","X","X","X","X","X","X","X","X","X","X","X","X","X","X","X","X","X","X","X","X","X","X","X","X","X","X","X","X","X","X","X","X","X","X","X","X","X","X","X","X","X","X","X","X","X","X","X","X","X"]
[null,null,"X","X","X","X","X","X","X","X","X","X","X","X","X","X","X","X","X","X","X","X","X","X","X","X","X","X","X","X","X","X","X","X","X","X","X","X","X","X","X","X","X","X","X","X","X","X","X","X","X","X","X","X","X","X"]
["Totaux","Présent",{"$f":"COUNTIF(C4:C35,\"\")+C51","v":15},{"$f":"COUNTIF(D4:D35,\"\")+D51","v":13},{"$f":"COUNTIF(E4:E35,\"\")+E51","v":13},13,13,14,13,13,13,13,13,14,13,13,13,13,13,14,13,13,13,13,13,14,13,13,13,13,13,14,13,14,13,13,13,13,13,13,14,14,14,20,16,23,0,13,14,15,15,22,0,19,15,14]
[null,"Besoin",13,13,13,13,13,14,13,13,13,13,13,14,13,13,13,13,13,14,13,13,13,13,13,14,13,13,13,13,13,14,13,13,13,13,13,14,13,13,14,14,14,20,16,23,0,13,14,15,15,22,0,18,15,14]
[null,"Différence",{"$f":"C36-C37","v":2},{"$f":"D36-D37","v":0},0,0,0,0,{"$f":"I36-I37","v":0},{"$f":"J36-J37","v":0},{"$f":"K36-K37","v":0},{"$f":"L36-L37","v":0},{"$f":"M36-M37","v":0},{"$f":"N36-N37","v":0},{"$f":"O36-O37","v":0},{"$f":"P36-P37","v":0},{"$f":"Q36-Q37","v":0},{"$f":"R36-R37","v":0},{"$f":"S36-S37","v":0},{"$f":"T36-T37","v":0},{"$f":"U36-U37","v":0},{"$f":"V36-V37","v":0},{"$f":"W36-W37","v":0},{"$f":"X36-X37","v":0},{"$f":"Y36-Y37","v":0},{"$f":"Z36-Z37","v":0},{"$f":"AA36-AA37","v":0},{"$f":"AB36-AB37","v":0},{"$f":"AC36-AC37","v":0},{"$f":"AD36-AD37","v":0},{"$f":"AE36-AE37","v":0},{"$f":"AF36-AF37","v":0},{"$f":"AG36-AG37","v":0},{"$f":"AH36-AH37","v":1},{"$f":"AI36-AI37","v":0},{"$f":"AJ36-AJ37","v":0},{"$f":"AK36-AK37","v":0},{"$f":"AL36-AL37","v":-1},{"$f":"AM36-AM37","v":0},{"$f":"AN36-AN37","v":0},{"$f":"AO36-AO37","v":0},{"$f":"AP36-AP37","v":0},{"$f":"AQ36-AQ37","v":0},{"$f":"AR36-AR37","v":0},{"$f":"AS36-AS37","v":0},{"$f":"AT36-AT37","v":0},{"$f":"AU36-AU37","v":0},{"$f":"AV36-AV37","v":0},{"$f":"AW36-AW37","v":0},{"$f":"AX36-AX37","v":0},{"$f":"AY36-AY37","v":0},{"$f":"AZ36-AZ37","v":0},{"$f":"BA36-BA37","v":0},{"$f":"BB36-BB37","v":1},{"$f":"BC36-BC37","v":0},{"$f":"BD36-BD37","v":0},"total jours à faire récuperer"]
[]
[null,"*Aca*",{"$f":"COUNTIF(C4:C35,$B$40)","v":3},{"$f":"COUNTIF(D4:D35,$B$40)","v":1},1,1,1,1,1,1,1,1,1,1,1,1,1,1,1,1,1,1,1,1,1,1,1,1,1,1,1,1,1,1,1,1,1,1,1,1,1,1,1,1,1,1,0,1,1,1,1,1,0,2,1,1]
[null,"*Nav*",{"$f":"COUNTIF(C4:C35,$B$41)","v":1},{"$f":"COUNTIF(D4:D35,$B$41)","v":1},1,1,1,2,1,1,1,1,1,2,1,1,1,1,1,2,1,1,1,1,1,2,1,1,1,1,1,2,1,2,1,1,1,1,1,1,2,2,2,2,2,2,0,1,2,2,2,2,0,2,1,2]
[null,"*Nyon*",{"$f":"COUNTIF(C4:C35,$B$42)","v":1},{"$f":"COUNTIF(D4:D35,$B$42)","v":1},1,1,1,1,1,1,1,1,1,1,1,1,1,1,1,1,1,1,1,1,1,1,1,1,1,1,1,1,1,1,1,1,1,1,1,1,1,1,1,2,2,2,0,1,1,2,1,2,0,0,2,1]
[null,"*Onex*",{"$f":"COUNTIF(C4:C35,$B$43)","v":1},{"$f":"COUNTIF(D4:D35,$B$43)","v":2},2,2,2,2,2,2,2,2,2,2,2,2,2,2,2,2,2,2,2,2,2,2,2,2,2,2,2,2,2,2,2,2,2,2,2,2,2,2,2,3,3,3,0,2,2,2,3,3,0,2,2,2]
[null,"*Plo*",{"$f":"COUNTIF(C4:C35,$B$44)","v":1},{"$f":"COUNTIF(D4:D35,$B$44)","v":1},1,1,1,1,1,1,1,1,1,1,1,1,1,1,1,1,1,1,1,1,1,1,1,1,1,1,1,1,1,1,1,1,1,1,1,1,1,1,1,2,1,2,0,1,1,1,1,2,0,3,1,1]
[null,"*Pom*",{"$f":"COUNTIF(C4:C35,$B$45)","v":1},{"$f":"COUNTIF(D4:D35,$B$45)","v":1},1,1,1,1,1,1,1,1,1,1,1,1,1,1,1,1,1,1,1,1,1,1,1,1,1,1,1,1,1,1,1,1,1,1,1,1,1,1,1,2,1,2,0,1,1,1,1,2,0,0,2,1]
[null,"*Thon*",{"$f":"COUNTIF(C4:C35,$B$46)","v":1},{"$f":"COUNTIF(D4:D35,$B$46)","v":1},1,1,1,1,1,1,1,1,1,1,1,1,1,1,1,1,1,1,1,1,1,1,1,1,1,1,1,1,1,1,1,1,1,1,1,1,1,1,1,1,1,2,0,1,1,1,1,2,0,2,1,1]
[null,"*tour*",{"$f":"COUNTIF(C4:C35,$B$47)","v":1},{"$f":"COUNTIF(D4:D35,$B$47)","v":1},1,1,1,1,1,1,1,1,1,1,1,1,1,1,1,1,1,1,1,1,1,1,1,1,1,1,1,1,1,1,1,1,1,1,1,1,1,1,1,1,1,2,0,1,1,1,1,2,0,2,1,1]
[null,"*ves*",{"$f":"COUNTIF(C4:C35,$B$48)","v":1},{"$f":"COUNTIF(D4:D35,$B$48)","v":1},1,1,1,1,1,1,1,1,1,1,1,1,1,1,1,1,1,1,1,1,1,1,1,1,1,1,1,1,1,1,1,1,1,1,1,1,1,1,1,2,1,2,0,1,1,1,1,2,0,2,1,1]
[null,"*vib*",{"$f":"COUNTIF(C4:C35,$B$49)","v":3},{"$f":"COUNTIF(D4:D35,$B$49)","v":2},2,2,2,2,2,2,2,2,2,2,2,2,2,2,2,2,2,2,2,2,2,2,2,2,2,2,2,2,2,2,2,2,2,2,2,2,2,2,2,3,2,3,0,2,2,2,2,3,0,2,2,2]
[null,"*vid*",{"$f":"COUNTIF(C4:C35,$B$50)","v":1},{"$f":"COUNTIF(D4:D35,$B$50)","v":1},1,1,1,1,1,1,1,1,1,1,1,1,1,1,1,1,1,1,1,1,1,1,1,1,1,1,1,1,1,1,1,1,1,1,1,1,1,1,1,1,1,2,0,1,1,1,1,1,0,2,1,1]
[null,"Total",{"$f":"SUM(C40:C50)","v":15},{"$f":"SUM(D40:D50)","v":13},13,13,13,14,13,13,13,13,13,14,13,13,13,13,13,14,13,13,13,13,13,14,13,13,13,13,13,14,13,14,13,13,13,13,13,13,14,14,14,20,16,23,0,13,14,15,15,22,0,19,15,14]

{"sheet":"Planning par magasin","index":1,"n_rows":144,"n_cols":56,"rows_kept":144,"cut":false,"hidden":false,"merged":[]}
[]
[null,null,{"$f":"Planning!C3","v":"2013-11-04"},{"$f":"Planning!D3","v":"2013-11-05"},{"$f":"Planning!E3","v":"2013-11-06"},{"$f":"Planning!F3","v":"2013-11-07"},{"$f":"Planning!G3","v":"2013-11-08"},{"$f":"Planning!H3","v":"2013-11-09"},{"$f":"Planning!I3","v":"2013-11-11"},{"$f":"Planning!J3","v":"2013-11-12"},{"$f":"Planning!K3","v":"2013-11-13"},{"$f":"Planning!L3","v":"2013-11-14"},{"$f":"Planning!M3","v":"2013-11-15"},{"$f":"Planning!N3","v":"2013-11-16"},{"$f":"Planning!O3","v":"2013-11-18"},{"$f":"Planning!P3","v":"2013-11-19"},{"$f":"Planning!Q3","v":"2013-11-20"},{"$f":"Planning!R3","v":"2013-11-21"},{"$f":"Planning!S3","v":"2013-11-22"},{"$f":"Planning!T3","v":"2013-11-23"},{"$f":"Planning!U3","v":"2013-11-25"},{"$f":"Planning!V3","v":"2013-11-26"},{"$f":"Planning!W3","v":"2013-11-27"},{"$f":"Planning!X3","v":"2013-11-28"},{"$f":"Planning!Y3","v":"2013-11-29"},{"$f":"Planning!Z3","v":"2013-11-30"},{"$f":"Planning!AA3","v":"2013-12-02"},{"$f":"Planning!AB3","v":"2013-12-03"},{"$f":"Planning!AC3","v":"2013-12-04"},{"$f":"Planning!AD3","v":"2013-12-05"},{"$f":"Planning!AE3","v":"2013-12-06"},{"$f":"Planning!AF3","v":"2013-12-07"},{"$f":"Planning!AG3","v":"2013-12-09"},{"$f":"Planning!AH3","v":"2013-12-10"},{"$f":"Planning!AI3","v":"2013-12-11"},{"$f":"Planning!AJ3","v":"2013-12-12"},{"$f":"Planning!AK3","v":"2013-12-13"},{"$f":"Planning!AL3","v":"2013-12-14"},{"$f":"Planning!AM3","v":"2013-12-16"},{"$f":"Planning!AN3","v":"2013-12-17"},{"$f":"Planning!AO3","v":"2013-12-18"},{"$f":"Planning!AP3","v":"2013-12-19"},{"$f":"Planning!AQ3","v":"2013-12-20"},{"$f":"Planning!AR3","v":"2013-12-21"},{"$f":"Planning!AS3","v":"2013-12-23"},{"$f":"Planning!AT3","v":"2013-12-24"},{"$f":"Planning!AU3","v":"2013-12-25"},{"$f":"Planning!AV3","v":"2013-12-26"},{"$f":"Planning!AW3","v":"2013-12-27"},{"$f":"Planning!AX3","v":"2013-12-28"},{"$f":"Planning!AY3","v":"2013-12-30"},{"$f":"Planning!AZ3","v":"2013-12-31"},{"$f":"Planning!BA3","v":"2014-01-01"},{"$f":"Planning!BB3","v":"2014-01-02"},{"$f":"Planning!BC3","v":"2014-01-03"},{"$f":"Planning!BD3","v":"2014-01-04"}]
["Acacias","Aca*","Izabella","Hervé"]
[null,"Aca*","Arnaud"]
[null,"Aca*","Lidia"]
[null,"Aca*"]
[null,"Aca*"]
["Navigation","Nav*","Julien","Julien"]
[null,"Nav*"]
[null,"Nav*"]
[null,"Nav*"]
[null,"Nav*"]
["Nyon","Nyon*","Hubert","Hubert"]
[null,"Nyon*"]
[null,"Nyon*"]
[null,"Nyon*"]
[null,"Nyon*"]
["Onex","Onex*","Henri","Henri"]
[null,"Onex*",null,"Izabella"]
[null,"Onex*"]
[null,"Onex*"]
[null,"Onex*"]
["Plo","Plo*","Hervé","Véronique"]
[null,"Plo*"]
[null,"Plo*"]
[null,"Plo*"]
[null,"Plo*"]
["Pommier","Pom*","J-Christophe","J-Christophe"]
[null,"Pom*"]
[null,"Pom*"]
[null,"Pom*"]
[null,"Pom*"]
["Thonex","Thon*","Paulo","Paulo"]
[null,"Thon*"]
[null,"Thon*"]
[null,"Thon*"]
[null,"Thon*"]
["Tourelle","Tour*","Jeremy","Jeremy"]
[null,"Tour*"]
[null,"Tour*"]
[null,"Tour*"]
[null,"Tour*"]
["Vesenaz","Ves*","Vincent","Vincent"]
[]
[]
[]
[]
["Vibert","Vib*","Fréderic D","Fréderic D"]
[null,null,"Fréderic M","Guillaume"]
[null,null,"Xavier"]
[]
[]
["Vidollet","Vid*","Nathalie","Nathalie"]
[]
[]
[]
[]
["Vacances","V","Fabrice","Fabrice"]
[]
[]
[]
[]
[]
[]
[]
[]
[]
[]
[]
[]
[]
[]
[]
[]
[]
[]
[]
[]
[]
[]
[]
[]
[]
[]
[]
[]
[]
[]
[]
[]
[]
[]
[]
[]
[]
[null,null,null,null,"Fréderic M"]
[]
[]
[]
[]
[]
[]
[]
[]
[]
[]
[]
[]
[]
[]
[]
[]
[]
[]
[]
[]
[]
[]
[]
[]
[]
[]
[]
[]
[]
[]
[]
[]
[]
[]
[]
[]
[]
[]
[]
[]
[]
[]
[]
[]
[]
[]
[]
[null,null,null,null,null,null,"Xavier"]

{"sheet":"Solde d'heure collaborateur","index":2,"n_rows":81,"n_cols":129,"rows_kept":81,"cut":false,"hidden":false,"merged":[]}
[]
[null,null,null,{"$f":"Planning!B4","v":"Aurélien"},null,null,null,{"$f":"Planning!B5","v":"Fabrice"},null,null,null,{"$f":"Planning!B6","v":"Jacques"},null,null,null,{"$f":"Planning!B7","v":"Fréderic D"},null,null,null,{"$f":"Planning!B8","v":"Henri"},null,null,null,{"$f":"Planning!B9","v":"Virginie"},null,null,null,{"$f":"Planning!B10","v":"Nicolas"},null,null,null,{"$f":"Planning!B11","v":"Véronique"},null,null,null,{"$f":"Planning!B12","v":"Paulo"},null,null,null,{"$f":"Planning!B13","v":"J-Christophe"},null,null,null,{"$f":"Planning!B14","v":"David"},null,null,null,{"$f":"Planning!B15","v":"Hubert"},null,null,null,{"$f":"Planning!B16","v":"Izabella"},null,null,null,{"$f":"Planning!B17","v":"Julien"},null,null,null,{"$f":"Planning!B18","v":"Arnaud"},null,null,null,{"$f":"Planning!B19","v":"Pascal"},null,null,null,{"$f":"Planning!B20","v":"Lidia"},null,null,null,{"$f":"Planning!B21","v":"Fréderic M"},null,null,null,{"$f":"Planning!B22","v":"Vincent"},null,null,null,{"$f":"Planning!B23","v":"Hervé"},null,null,null,{"$f":"Planning!B24","v":"Nathalie"},null,null,null,{"$f":"Planning!B25","v":"Lionel"},null,null,null,{"$f":"Planning!B26","v":"Adilia"},null,null,null,{"$f":"Planning!B27","v":"Guillaume"},null,null,null,{"$f":"Planning!B28","v":"Jeremy"},null,null,null,{"$f":"Planning!B29","v":"Xavier"},null,null,null,{"$f":"Planning!B30","v":"M. Durand"},null,null,null,{"$f":"Planning!B31","v":"M. Romanens"},null,null,null,{"$f":"Planning!B32","v":"Mme Romanens"},null,null,null,{"$f":"Planning!B33","v":0},null,null,null,{"$f":"Planning!B34","v":0},null,null,null,{"$f":"Planning!B35","v":0}]
[]
[{"$f":"Planning!C3","v":"2013-11-04"},null,{"$f":"INDEX(Planning!$4:$4,MATCH('Solde d''heure collaborateur'!A4,Planning!$3:$3,0))","v":"R"},{"$f":"VLOOKUP(C4,Horaires!$A$3:$E$49,2,)","v":"Congé"},{"$f":"IF(D4=\"vacances\",INDEX(Horaires!$H$3:$L$42,MATCH('Solde d''heure collaborateur'!D$2,Horaires!$H$3:$H$40,0),4),IF(D4=\"maladie\",INDEX(Horaires!$H$3:$L$42,MATCH('Solde d''heure collaborateur'!D$2,Horaires!$H$3:$H$40,0),5),VLOOKUP(C4,Horaires!$A$3:$E$60,5,)))","v":0},null,{"$f":"INDEX(Planning!$5:$5,MATCH('Solde d''heure collaborateur'!A4,Planning!$3:$3))","v":"V"},{"$f":"VLOOKUP(G4,Horaires!$A$3:$E$49,2,)","v":"Vacances"},{"$f":"IF(H4=\"vacances\",INDEX(Horaires!$H$3:$L$42,MATCH('Solde d''heure collaborateur'!H$2,Horaires!$H$3:$H$40,0),4),IF(H4=\"maladie\",INDEX(Horaires!$H$3:$L$42,MATCH('Solde d''heure collaborateur'!H$2,Horaires!$H$3:$H$40,0),5),VLOOKUP(G4,Horaires!$A$3:$E$60,5,)))","v":0.35000000000000003},null,{"$f":"INDEX(Planning!$6:$6,MATCH('Solde d''heure collaborateur'!A4,Planning!$3:$3))","v":"M"},{"$f":"VLOOKUP(K4,Horaires!$A$3:$E$49,2,)","v":"Maladie"},{"$f":"IF(L4=\"vacances\",INDEX(Horaires!$H$3:$L$42,MATCH('Solde d''heure collaborateur'!L$2,Horaires!$H$3:$H$40,0),4),IF(L4=\"maladie\",INDEX(Horaires!$H$3:$L$42,MATCH('Solde d''heure collaborateur'!L$2,Horaires!$H$3:$H$40,0),5),VLOOKUP(K4,Horaires!$A$3:$E$60,5,)))","v":0.4375},null,{"$f":"INDEX(Planning!$7:$7,MATCH('Solde d''heure collaborateur'!$A4,Planning!$3:$3))","v":"vib1"},{"$f":"VLOOKUP(O4,Horaires!$A$3:$E$49,2,)","v":"Vibert"},{"$f":"IF(P4=\"vacances\",INDEX(Horaires!$H$3:$L$42,MATCH('Solde d''heure collaborateur'!P$2,Horaires!$H$3:$H$40,0),4),IF(P4=\"maladie\",INDEX(Horaires!$H$3:$L$42,MATCH('Solde d''heure collaborateur'!P$2,Horaires!$H$3:$H$40,0),5),VLOOKUP(O4,Horaires!$A$3:$E$60,5,)))","v":0.46875000000000006},null,{"$f":"INDEX(Planning!$8:$8,MATCH('Solde d''heure collaborateur'!$A4,Planning!$3:$3))","v":"Onex1"},{"$f":"VLOOKUP(S4,Horaires!$A$3:$E$49,2,)","v":"Onex"},{"$f":"IF(T4=\"vacances\",INDEX(Horaires!$H$3:$L$42,MATCH('Solde d''heure collaborateur'!T$2,Horaires!$H$3:$H$40,0),4),IF(T4=\"maladie\",INDEX(Horaires!$H$3:$L$42,MATCH('Solde d''heure collaborateur'!T$2,Horaires!$H$3:$H$40,0),5),VLOOKUP(S4,Horaires!$A$3:$E$60,5,)))","v":0.46875000000000006},null,{"$f":"INDEX(Planning!$9:$9,MATCH('Solde d''heure collaborateur'!$A4,Planning!$3:$3))","v":"one1"},{"$f":"VLOOKUP(W4,Horaires!$A$3:$E$49,2,)","v":{"$error":"#N/A"}},{"$f":"IF(X4=\"vacances\",INDEX(Horaires!$H$3:$L$42,MATCH('Solde d''heure collaborateur'!X$2,Horaires!$H$3:$H$40,0),4),IF(X4=\"maladie\",INDEX(Horaires!$H$3:$L$42,MATCH('Solde d''heure collaborateur'!X$2,Horaires!$H$3:$H$40,0),5),VLOOKUP(W4,Horaires!$A$3:$E$60,5,)))","v":{"$error":"#N/A"}},null,{"$f":"INDEX(Planning!$10:$10,MATCH('Solde d''heure collaborateur'!$A4,Planning!$3:$3))","v":"R"},{"$f":"VLOOKUP(AA4,Horaires!$A$3:$E$49,2,)","v":"Congé"},{"$f":"IF(AB4=\"vacances\",INDEX(Horaires!$H$3:$L$42,MATCH('Solde d''heure collaborateur'!AB$2,Horaires!$H$3:$H$40,0),4),IF(AB4=\"maladie\",INDEX(Horaires!$H$3:$L$42,MATCH('Solde d''heure collaborateur'!AB$2,Horaires!$H$3:$H$40,0),5),VLOOKUP(AA4,Horaires!$A$3:$E$60,5,)))","v":0},null,{"$f":"INDEX(Planning!$11:$11,MATCH('Solde d''heure collaborateur'!$A4,Planning!$3:$3))","v":"R"},{"$f":"VLOOKUP(AE4,Horaires!$A$3:$E$49,2,)","v":"Congé"},{"$f":"IF(AF4=\"vacances\",INDEX(Horaires!$H$3:$L$42,MATCH('Solde d''heure collaborateur'!AF$2,Horaires!$H$3:$H$40,0),4),IF(AF4=\"maladie\",INDEX(Horaires!$H$3:$L$42,MATCH('Solde d''heure collaborateur'!AF$2,Horaires!$H$3:$H$40,0),5),VLOOKUP(AE4,Horaires!$A$3:$E$60,5,)))","v":0},null,{"$f":"INDEX(Planning!$12:$12,MATCH('Solde d''heure collaborateur'!$A4,Planning!$3:$3))","v":"Thon1"},{"$f":"VLOOKUP(AI4,Horaires!$A$3:$E$49,2,)","v":"Thonex"},{"$f":"IF(AJ4=\"vacances\",INDEX(Horaires!$H$3:$L$42,MATCH('Solde d''heure collaborateur'!AJ$2,Horaires!$H$3:$H$40,0),4),IF(AJ4=\"maladie\",INDEX(Horaires!$H$3:$L$42,MATCH('Solde d''heure collaborateur'!AJ$2,Horaires!$H$3:$H$40,0),5),VLOOKUP(AI4,Horaires!$A$3:$E$60,5,)))","v":0.44791666666666669},null,{"$f":"INDEX(Planning!$13:$13,MATCH('Solde d''heure collaborateur'!$A4,Planning!$3:$3))","v":"pom1"},{"$f":"VLOOKUP(AM4,Horaires!$A$3:$E$49,2,)","v":"Pommier"},{"$f":"IF(AN4=\"vacances\",INDEX(Horaires!$H$3:$L$42,MATCH('Solde d''heure collaborateur'!AN$2,Horaires!$H$3:$H$40,0),4),IF(AN4=\"maladie\",INDEX(Horaires!$H$3:$L$42,MATCH('Solde d''heure collaborateur'!AN$2,Horaires!$H$3:$H$40,0),5),VLOOKUP(AM4,Horaires!$A$3:$E$60,5,)))","v":0.44791666666666669},null,{"$f":"INDEX(Planning!$14:$14,MATCH('Solde d''heure collaborateur'!$A4,Planning!$3:$3))","v":"M"},{"$f":"VLOOKUP(AQ4,Horaires!$A$3:$E$49,2,)","v":"Maladie"},{"$f":"IF(AR4=\"vacances\",INDEX(Horaires!$H$3:$L$42,MATCH('Solde d''heure collaborateur'!AR$2,Horaires!$H$3:$H$40,0),4),IF(AR4=\"maladie\",INDEX(Horaires!$H$3:$L$42,MATCH('Solde d''heure collaborateur'!AR$2,Horaires!$H$3:$H$40,0),5),VLOOKUP(AQ4,Horaires!$A$3:$E$60,5,)))","v":0.46180555555555558},null,{"$f":"INDEX(Planning!$15:$15,MATCH('Solde d''heure collaborateur'!$A4,Planning!$3:$3))","v":"Nyon1"},{"$f":"VLOOKUP(AU4,Horaires!$A$3:$E$49,2,)","v":"Nyon"},{"$f":"IF(AV4=\"vacances\",INDEX(Horaires!$H$3:$L$42,MATCH('Solde d''heure collaborateur'!AV$2,Horaires!$H$3:$H$40,0),4),IF(AV4=\"maladie\",INDEX(Horaires!$H$3:$L$42,MATCH('Solde d''heure collaborateur'!AV$2,Horaires!$H$3:$H$40,0),5),VLOOKUP(AU4,Horaires!$A$3:$E$60,5,)))","v":0.44791666666666669},null,{"$f":"INDEX(Planning!$16:$16,MATCH('Solde d''heure collaborateur'!$A4,Planning!$3:$3))","v":"Aca1"},{"$f":"VLOOKUP(AY4,Horaires!$A$3:$E$49,2,)","v":"Acacias"},{"$f":"IF(AZ4=\"vacances\",INDEX(Horaires!$H$3:$L$42,MATCH('Solde d''heure collaborateur'!AZ$2,Horaires!$H$3:$H$40,0),4),IF(AZ4=\"maladie\",INDEX(Horaires!$H$3:$L$42,MATCH('Solde d''heure collaborateur'!AZ$2,Horaires!$H$3:$H$40,0),5),VLOOKUP(AY4,Horaires!$A$3:$E$60,5,)))","v":0.44791666666666669},null,{"$f":"INDEX(Planning!$17:$17,MATCH('Solde d''heure collaborateur'!$A4,Planning!$3:$3))","v":"nav1"},{"$f":"VLOOKUP(BC4,Horaires!$A$3:$E$49,2,)","v":"Navigation"},{"$f":"IF(BD4=\"vacances\",INDEX(Horaires!$H$3:$L$42,MATCH('Solde d''heure collaborateur'!BD$2,Horaires!$H$3:$H$40,0),4),IF(BD4=\"maladie\",INDEX(Horaires!$H$3:$L$42,MATCH('Solde d''heure collaborateur'!BD$2,Horaires!$H$3:$H$40,0),5),VLOOKUP(BC4,Horaires!$A$3:$E$60,5,)))","v":0.44791666666666669},null,{"$f":"INDEX(Planning!$18:$18,MATCH('Solde d''heure collaborateur'!$A4,Planning!$3:$3))","v":"Aca*"},{"$f":"VLOOKUP(BG4,Horaires!$A$3:$E$49,2,)","v":"Acacias"},{"$f":"IF(BH4=\"vacances\",INDEX(Horaires!$H$3:$L$42,MATCH('Solde d''heure collaborateur'!BH$2,Horaires!$H$3:$H$40,0),4),IF(BH4=\"maladie\",INDEX(Horaires!$H$3:$L$42,MATCH('Solde d''heure collaborateur'!BH$2,Horaires!$H$3:$H$40,0),5),VLOOKUP(BG4,Horaires!$A$3:$E$60,5,)))","v":0.44791666666666669},null,{"$f":"INDEX(Planning!$19:$19,MATCH('Solde d''heure collaborateur'!$A4,Planning!$3:$3))","v":"R"},{"$f":"VLOOKUP(BK4,Horaires!$A$3:$E$49,2,)","v":"Congé"},{"$f":"IF(BL4=\"vacances\",INDEX(Horaires!$H$3:$L$42,MATCH('Solde d''heure collaborateur'!BL$2,Horaires!$H$3:$H$40,0),4),IF(BL4=\"maladie\",INDEX(Horaires!$H$3:$L$42,MATCH('Solde d''heure collaborateur'!BL$2,Horaires!$H$3:$H$40,0),5),VLOOKUP(BK4,Horaires!$A$3:$E$60,5,)))","v":0},null,{"$f":"INDEX(Planning!$20:$20,MATCH('Solde d''heure collaborateur'!$A4,Planning!$3:$3))","v":"Aca1"},{"$f":"VLOOKUP(BO4,Horaires!$A$3:$E$49,2,)","v":"Acacias"},{"$f":"IF(BP4=\"vacances\",INDEX(Horaires!$H$3:$L$42,MATCH('Solde d''heure collaborateur'!BP$2,Horaires!$H$3:$H$40,0),4),IF(BP4=\"maladie\",INDEX(Horaires!$H$3:$L$42,MATCH('Solde d''heure collaborateur'!BP$2,Horaires!$H$3:$H$40,0),5),VLOOKUP(BO4,Horaires!$A$3:$E$60,5,)))","v":0.44791666666666669},null,{"$f":"INDEX(Planning!$21:$21,MATCH('Solde d''heure collaborateur'!$A4,Planning!$3:$3))","v":"vib1"},{"$f":"VLOOKUP(BS4,Horaires!$A$3:$E$49,2,)","v":"Vibert"},{"$f":"IF(BT4=\"vacances\",INDEX(Horaires!$H$3:$L$42,MATCH('Solde d''heure collaborateur'!BT$2,Horaires!$H$3:$H$40,0),4),IF(BT4=\"maladie\",INDEX(Horaires!$H$3:$L$42,MATCH('Solde d''heure collaborateur'!BT$2,Horaires!$H$3:$H$40,0),5),VLOOKUP(BS4,Horaires!$A$3:$E$60,5,)))","v":0.46875000000000006},null,{"$f":"INDEX(Planning!$22:$22,MATCH('Solde d''heure collaborateur'!$A4,Planning!$3:$3))","v":"Ves1"},{"$f":"VLOOKUP(BW4,Horaires!$A$3:$E$49,2,)","v":"Vesenaz"},{"$f":"IF(BX4=\"vacances\",INDEX(Horaires!$H$3:$L$42,MATCH('Solde d''heure collaborateur'!BX$2,Horaires!$H$3:$H$40,0),4),IF(BX4=\"maladie\",INDEX(Horaires!$H$3:$L$42,MATCH('Solde d''heure collaborateur'!BX$2,Horaires!$H$3:$H$40,0),5),VLOOKUP(BW4,Horaires!$A$3:$E$60,5,)))","v":0.44791666666666669},null,{"$f":"INDEX(Planning!$23:$23,MATCH('Solde d''heure collaborateur'!$A4,Planning!$3:$3))","v":"Plo1"},{"$f":"VLOOKUP(CA4,Horaires!$A$3:$E$49,2,)","v":"Plan les Ouates"},{"$f":"IF(CB4=\"vacances\",INDEX(Horaires!$H$3:$L$42,MATCH('Solde d''heure collaborateur'!CB$2,Horaires!$H$3:$H$40,0),4),IF(CB4=\"maladie\",INDEX(Horaires!$H$3:$L$42,MATCH('Solde d''heure collaborateur'!CB$2,Horaires!$H$3:$H$40,0),5),VLOOKUP(CA4,Horaires!$A$3:$E$60,5,)))","v":0.46875000000000006},null,{"$f":"INDEX(Planning!$24:$24,MATCH('Solde d''heure collaborateur'!$A4,Planning!$3:$3))","v":"Vid1"},{"$f":"VLOOKUP(CE4,Horaires!$A$3:$E$49,2,)","v":"Vidollet"},{"$f":"IF(CF4=\"vacances\",INDEX(Horaires!$H$3:$L$42,MATCH('Solde d''heure collaborateur'!CF$2,Horaires!$H$3:$H$40,0),4),IF(CF4=\"maladie\",INDEX(Horaires!$H$3:$L$42,MATCH('Solde d''heure collaborateur'!CF$2,Horaires!$H$3:$H$40,0),5),VLOOKUP(CE4,Horaires!$A$3:$E$60,5,)))","v":0.44791666666666669},null,{"$f":"INDEX(Planning!$25:$25,MATCH('Solde d''heure collaborateur'!$A4,Planning!$3:$3))","v":"X"},{"$f":"VLOOKUP(CI4,Horaires!$A$3:$E$49,2,)","v":"XXX"},{"$f":"IF(CJ4=\"vacances\",INDEX(Horaires!$H$3:$L$42,MATCH('Solde d''heure collaborateur'!CJ$2,Horaires!$H$3:$H$40,0),4),IF(CJ4=\"maladie\",INDEX(Horaires!$H$3:$L$42,MATCH('Solde d''heure collaborateur'!CJ$2,Horaires!$H$3:$H$40,0),5),VLOOKUP(CI4,Horaires!$A$3:$E$60,5,)))","v":0},null,{"$f":"INDEX(Planning!$26:$26,MATCH('Solde d''heure collaborateur'!$A4,Planning!$3:$3))","v":"R"},{"$f":"VLOOKUP(CM4,Horaires!$A$3:$E$49,2,)","v":"Congé"},{"$f":"IF(CN4=\"vacances\",INDEX(Horaires!$H$3:$L$42,MATCH('Solde d''heure collaborateur'!CN$2,Horaires!$H$3:$H$40,0),4),IF(CN4=\"maladie\",INDEX(Horaires!$H$3:$L$42,MATCH('Solde d''heure collaborateur'!CN$2,Horaires!$H$3:$H$40,0),5),VLOOKUP(CM4,Horaires!$A$3:$E$60,5,)))","v":0},null,{"$f":"INDEX(Planning!$27:$27,MATCH('Solde d''heure collaborateur'!$A4,Planning!$3:$3))","v":"R"},{"$f":"VLOOKUP(CQ4,Horaires!$A$3:$E$49,2,)","v":"Congé"},{"$f":"IF(CR4=\"vacances\",INDEX(Horaires!$H$3:$L$42,MATCH('Solde d''heure collaborateur'!CR$2,Horaires!$H$3:$H$40,0),4),IF(CR4=\"maladie\",INDEX(Horaires!$H$3:$L$42,MATCH('Solde d''heure collaborateur'!CR$2,Horaires!$H$3:$H$40,0),5),VLOOKUP(CQ4,Horaires!$A$3:$E$60,5,)))","v":0},null,{"$f":"INDEX(Planning!$28:$28,MATCH('Solde d''heure collaborateur'!$A4,Planning!$3:$3))","v":"tour1"},{"$f":"VLOOKUP(CU4,Horaires!$A$3:$E$49,2,)","v":"Tourelle"},{"$f":"IF(CV4=\"vacances\",INDEX(Horaires!$H$3:$L$42,MATCH('Solde d''heure collaborateur'!CV$2,Horaires!$H$3:$H$40,0),4),IF(CV4=\"maladie\",INDEX(Horaires!$H$3:$L$42,MATCH('Solde d''heure collaborateur'!CV$2,Horaires!$H$3:$H$40,0),5),VLOOKUP(CU4,Horaires!$A$3:$E$60,5,)))","v":0.46875000000000006},null,{"$f":"INDEX(Planning!$29:$29,MATCH('Solde d''heure collaborateur'!$A4,Planning!$3:$3))","v":"vib1"},{"$f":"VLOOKUP(CY4,Horaires!$A$3:$E$49,2,)","v":"Vibert"},{"$f":"IF(CZ4=\"vacances\",INDEX(Horaires!$H$3:$L$42,MATCH('Solde d''heure collaborateur'!CZ$2,Horaires!$H$3:$H$40,0),4),IF(CZ4=\"maladie\",INDEX(Horaires!$H$3:$L$42,MATCH('Solde d''heure collaborateur'!CZ$2,Horaires!$H$3:$H$40,0),5),VLOOKUP(CY4,Horaires!$A$3:$E$60,5,)))","v":0.46875000000000006},null,{"$f":"INDEX(Planning!$30:$30,MATCH('Solde d''heure collaborateur'!$A4,Planning!$3:$3))","v":"X"},{"$f":"VLOOKUP(DC4,Horaires!$A$3:$E$49,2,)","v":"XXX"},{"$f":"IF(DD4=\"vacances\",INDEX(Horaires!$H$3:$L$42,MATCH('Solde d''heure collaborateur'!DD$2,Horaires!$H$3:$H$40,0),4),IF(DD4=\"maladie\",INDEX(Horaires!$H$3:$L$42,MATCH('Solde d''heure collaborateur'!DD$2,Horaires!$H$3:$H$40,0),5),VLOOKUP(DC4,Horaires!$A$3:$E$60,5,)))","v":0},null,{"$f":"INDEX(Planning!$31:$31,MATCH('Solde d''heure collaborateur'!$A4,Planning!$3:$3))","v":"X"},{"$f":"VLOOKUP(DG4,Horaires!$A$3:$E$49,2,)","v":"XXX"},{"$f":"IF(DH4=\"vacances\",INDEX(Horaires!$H$3:$L$42,MATCH('Solde d''heure collaborateur'!DH$2,Horaires!$H$3:$H$40,0),4),IF(DH4=\"maladie\",INDEX(Horaires!$H$3:$L$42,MATCH('Solde d''heure collaborateur'!DH$2,Horaires!$H$3:$H$40,0),5),VLOOKUP(DG4,Horaires!$A$3:$E$60,5,)))","v":0},null,{"$f":"INDEX(Planning!$32:$32,MATCH('Solde d''heure collaborateur'!$A4,Planning!$3:$3))","v":"X"},{"$f":"VLOOKUP(DK4,Horaires!$A$3:$E$49,2,)","v":"XXX"},{"$f":"IF(DL4=\"vacances\",INDEX(Horaires!$H$3:$L$42,MATCH('Solde d''heure collaborateur'!DL$2,Horaires!$H$3:$H$40,0),4),IF(DL4=\"maladie\",INDEX(Horaires!$H$3:$L$42,MATCH('Solde d''heure collaborateur'!DL$2,Horaires!$H$3:$H$40,0),5),VLOOKUP(DK4,Horaires!$A$3:$E$60,5,)))","v":0},null,{"$f":"INDEX(Planning!$33:$33,MATCH('Solde d''heure collaborateur'!$A4,Planning!$3:$3))","v":"X"},{"$f":"VLOOKUP(DO4,Horaires!$A$3:$E$49,2,)","v":"XXX"},{"$f":"IF(DP4=\"vacances\",INDEX(Horaires!$H$3:$L$42,MATCH('Solde d''heure collaborateur'!DP$2,Horaires!$H$3:$H$40,0),4),IF(DP4=\"maladie\",INDEX(Horaires!$H$3:$L$42,MATCH('Solde d''heure collaborateur'!DP$2,Horaires!$H$3:$H$40,0),5),VLOOKUP(DO4,Horaires!$A$3:$E$60,5,)))","v":0},null,{"$f":"INDEX(Planning!$34:$34,MATCH('Solde d''heure collaborateur'!$A4,Planning!$3:$3))","v":"X"},{"$f":"VLOOKUP(DS4,Horaires!$A$3:$E$49,2,)","v":"XXX"},{"$f":"IF(DT4=\"vacances\",INDEX(Horaires!$H$3:$L$42,MATCH('Solde d''heure collaborateur'!DT$2,Horaires!$H$3:$H$40,0),4),IF(DT4=\"maladie\",INDEX(Horaires!$H$3:$L$42,MATCH('Solde d''heure collaborateur'!DT$2,Horaires!$H$3:$H$40,0),5),VLOOKUP(DS4,Horaires!$A$3:$E$60,5,)))","v":0},null,{"$f":"INDEX(Planning!$35:$35,MATCH('Solde d''heure collaborateur'!$A4,Planning!$3:$3))","v":"X"},{"$f":"VLOOKUP(DW4,Horaires!$A$3:$E$49,2,)","v":"XXX"},{"$f":"IF(DX4=\"vacances\",INDEX(Horaires!$H$3:$L$42,MATCH('Solde d''heure collaborateur'!DX$2,Horaires!$H$3:$H$40,0),4),IF(DX4=\"maladie\",INDEX(Horaires!$H$3:$L$42,MATCH('Solde d''heure collaborateur'!DX$2,Horaires!$H$3:$H$40,0),5),VLOOKUP(DW4,Horaires!$A$3:$E$60,5,)))","v":0}]
[{"$f":"A4+1","v":"2013-11-05"},null,{"$f":"INDEX(Planning!$4:$4,MATCH('Solde d''heure collaborateur'!A5,Planning!$3:$3,0))","v":"R"},{"$f":"VLOOKUP(C5,Horaires!$A$3:$E$49,2,)","v":"Congé"},{"$f":"IF(D5=\"vacances\",INDEX(Horaires!$H$3:$L$42,MATCH('Solde d''heure collaborateur'!D$2,Horaires!$H$3:$H$40,0),4),IF(D5=\"maladie\",INDEX(Horaires!$H$3:$L$42,MATCH('Solde d''heure collaborateur'!D$2,Horaires!$H$3:$H$40,0),5),VLOOKUP(C5,Horaires!$A$3:$E$60,5,)))","v":0},null,{"$f":"INDEX(Planning!$5:$5,MATCH('Solde d''heure collaborateur'!A5,Planning!$3:$3))","v":"V"},{"$f":"VLOOKUP(G5,Horaires!$A$3:$E$49,2,)","v":"Vacances"},{"$f":"IF(H5=\"vacances\",INDEX(Horaires!$H$3:$L$42,MATCH('Solde d''heure collaborateur'!H$2,Horaires!$H$3:$H$40,0),4),IF(H5=\"maladie\",INDEX(Horaires!$H$3:$L$42,MATCH('Solde d''heure collaborateur'!H$2,Horaires!$H$3:$H$40,0),5),VLOOKUP(G5,Horaires!$A$3:$E$60,5,)))","v":0.35000000000000003},null,{"$f":"INDEX(Planning!$6:$6,MATCH('Solde d''heure collaborateur'!A5,Planning!$3:$3))","v":"M"},{"$f":"VLOOKUP(K5,Horaires!$A$3:$E$49,2,)","v":"Maladie"},{"$f":"IF(L5=\"vacances\",INDEX(Horaires!$H$3:$L$42,MATCH('Solde d''heure collaborateur'!L$2,Horaires!$H$3:$H$40,0),4),IF(L5=\"maladie\",INDEX(Horaires!$H$3:$L$42,MATCH('Solde d''heure collaborateur'!L$2,Horaires!$H$3:$H$40,0),5),VLOOKUP(K5,Horaires!$A$3:$E$60,5,)))","v":0.4375},null,{"$f":"INDEX(Planning!$7:$7,MATCH('Solde d''heure collaborateur'!$A5,Planning!$3:$3))","v":"Vib1"},{"$f":"VLOOKUP(O5,Horaires!$A$3:$E$49,2,)","v":"Vibert"},{"$f":"IF(P5=\"vacances\",INDEX(Horaires!$H$3:$L$42,MATCH('Solde d''heure collaborateur'!P$2,Horaires!$H$3:$H$40,0),4),IF(P5=\"maladie\",INDEX(Horaires!$H$3:$L$42,MATCH('Solde d''heure collaborateur'!P$2,Horaires!$H$3:$H$40,0),5),VLOOKUP(O5,Horaires!$A$3:$E$60,5,)))","v":0.46875000000000006},null,{"$f":"INDEX(Planning!$8:$8,MATCH('Solde d''heure collaborateur'!$A5,Planning!$3:$3))","v":"Onex1"},{"$f":"VLOOKUP(S5,Horaires!$A$3:$E$49,2,)","v":"Onex"},{"$f":"IF(T5=\"vacances\",INDEX(Horaires!$H$3:$L$42,MATCH('Solde d''heure collaborateur'!T$2,Horaires!$H$3:$H$40,0),4),IF(T5=\"maladie\",INDEX(Horaires!$H$3:$L$42,MATCH('Solde d''heure collaborateur'!T$2,Horaires!$H$3:$H$40,0),5),VLOOKUP(S5,Horaires!$A$3:$E$60,5,)))","v":0.46875000000000006},null,{"$f":"INDEX(Planning!$9:$9,MATCH('Solde d''heure collaborateur'!$A5,Planning!$3:$3))","v":"X"},{"$f":"VLOOKUP(W5,Horaires!$A$3:$E$49,2,)","v":"XXX"},{"$f":"IF(X5=\"vacances\",INDEX(Horaires!$H$3:$L$42,MATCH('Solde d''heure collaborateur'!X$2,Horaires!$H$3:$H$40,0),4),IF(X5=\"maladie\",INDEX(Horaires!$H$3:$L$42,MATCH('Solde d''heure collaborateur'!X$2,Horaires!$H$3:$H$40,0),5),VLOOKUP(W5,Horaires!$A$3:$E$60,5,)))","v":0},null,{"$f":"INDEX(Planning!$10:$10,MATCH('Solde d''heure collaborateur'!$A5,Planning!$3:$3))","v":"R"},{"$f":"VLOOKUP(AA5,Horaires!$A$3:$E$49,2,)","v":"Congé"},{"$f":"IF(AB5=\"vacances\",INDEX(Horaires!$H$3:$L$42,MATCH('Solde d''heure collaborateur'!AB$2,Horaires!$H$3:$H$40,0),4),IF(AB5=\"maladie\",INDEX(Horaires!$H$3:$L$42,MATCH('Solde d''heure collaborateur'!AB$2,Horaires!$H$3:$H$40,0),5),VLOOKUP(AA5,Horaires!$A$3:$E$60,5,)))","v":0},null,{"$f":"INDEX(Planning!$11:$11,MATCH('Solde d''heure collaborateur'!$A5,Planning!$3:$3))","v":"Plo1"},{"$f":"VLOOKUP(AE5,Horaires!$A$3:$E$49,2,)","v":"Plan les Ouates"},{"$f":"IF(AF5=\"vacances\",INDEX(Horaires!$H$3:$L$42,MATCH('Solde d''heure collaborateur'!AF$2,Horaires!$H$3:$H$40,0),4),IF(AF5=\"maladie\",INDEX(Horaires!$H$3:$L$42,MATCH('Solde d''heure collaborateur'!AF$2,Horaires!$H$3:$H$40,0),5),VLOOKUP(AE5,Horaires!$A$3:$E$60,5,)))","v":0.46875000000000006},null,{"$f":"INDEX(Planning!$12:$12,MATCH('Solde d''heure collaborateur'!$A5,Planning!$3:$3))","v":"Thon1"},{"$f":"VLOOKUP(AI5,Horaires!$A$3:$E$49,2,)","v":"Thonex"},{"$f":"IF(AJ5=\"vacances\",INDEX(Horaires!$H$3:$L$42,MATCH('Solde d''heure collaborateur'!AJ$2,Horaires!$H$3:$H$40,0),4),IF(AJ5=\"maladie\",INDEX(Horaires!$H$3:$L$42,MATCH('Solde d''heure collaborateur'!AJ$2,Horaires!$H$3:$H$40,0),5),VLOOKUP(AI5,Horaires!$A$3:$E$60,5,)))","v":0.44791666666666669},null,{"$f":"INDEX(Planning!$13:$13,MATCH('Solde d''heure collaborateur'!$A5,Planning!$3:$3))","v":"pom1"},{"$f":"VLOOKUP(AM5,Horaires!$A$3:$E$49,2,)","v":"Pommier"},{"$f":"IF(AN5=\"vacances\",INDEX(Horaires!$H$3:$L$42,MATCH('Solde d''heure collaborateur'!AN$2,Horaires!$H$3:$H$40,0),4),IF(AN5=\"maladie\",INDEX(Horaires!$H$3:$L$42,MATCH('Solde d''heure collaborateur'!AN$2,Horaires!$H$3:$H$40,0),5),VLOOKUP(AM5,Horaires!$A$3:$E$60,5,)))","v":0.44791666666666669},null,{"$f":"INDEX(Planning!$14:$14,MATCH('Solde d''heure collaborateur'!$A5,Planning!$3:$3))","v":"X"},{"$f":"VLOOKUP(AQ5,Horaires!$A$3:$E$49,2,)","v":"XXX"},{"$f":"IF(AR5=\"vacances\",INDEX(Horaires!$H$3:$L$42,MATCH('Solde d''heure collaborateur'!AR$2,Horaires!$H$3:$H$40,0),4),IF(AR5=\"maladie\",INDEX(Horaires!$H$3:$L$42,MATCH('Solde d''heure collaborateur'!AR$2,Horaires!$H$3:$H$40,0),5),VLOOKUP(AQ5,Horaires!$A$3:$E$60,5,)))","v":0},null,{"$f":"INDEX(Planning!$15:$15,MATCH('Solde d''heure collaborateur'!$A5,Planning!$3:$3))","v":"Nyon1"},{"$f":"VLOOKUP(AU5,Horaires!$A$3:$E$49,2,)","v":"Nyon"},{"$f":"IF(AV5=\"vacances\",INDEX(Horaires!$H$3:$L$42,MATCH('Solde d''heure collaborateur'!AV$2,Horaires!$H$3:$H$40,0),4),IF(AV5=\"maladie\",INDEX(Horaires!$H$3:$L$42,MATCH('Solde d''heure collaborateur'!AV$2,Horaires!$H$3:$H$40,0),5),VLOOKUP(AU5,Horaires!$A$3:$E$60,5,)))","v":0.44791666666666669},null,{"$f":"INDEX(Planning!$16:$16,MATCH('Solde d''heure collaborateur'!$A5,Planning!$3:$3))","v":"Onex1"},{"$f":"VLOOKUP(AY5,Horaires!$A$3:$E$49,2,)","v":"Onex"},{"$f":"IF(AZ5=\"vacances\",INDEX(Horaires!$H$3:$L$42,MATCH('Solde d''heure collaborateur'!AZ$2,Horaires!$H$3:$H$40,0),4),IF(AZ5=\"maladie\",INDEX(Horaires!$H$3:$L$42,MATCH('Solde d''heure collaborateur'!AZ$2,Horaires!$H$3:$H$40,0),5),VLOOKUP(AY5,Horaires!$A$3:$E$60,5,)))","v":0.46875000000000006},null,{"$f":"INDEX(Planning!$17:$17,MATCH('Solde d''heure collaborateur'!$A5,Planning!$3:$3))","v":"nav1"},{"$f":"VLOOKUP(BC5,Horaires!$A$3:$E$49,2,)","v":"Navigation"},{"$f":"IF(BD5=\"vacances\",INDEX(Horaires!$H$3:$L$42,MATCH('Solde d''heure collaborateur'!BD$2,Horaires!$H$3:$H$40,0),4),IF(BD5=\"maladie\",INDEX(Horaires!$H$3:$L$42,MATCH('Solde d''heure collaborateur'!BD$2,Horaires!$H$3:$H$40,0),5),VLOOKUP(BC5,Horaires!$A$3:$E$60,5,)))","v":0.44791666666666669},null,{"$f":"INDEX(Planning!$18:$18,MATCH('Solde d''heure collaborateur'!$A5,Planning!$3:$3))","v":"R"},{"$f":"VLOOKUP(BG5,Horaires!$A$3:$E$49,2,)","v":"Congé"},{"$f":"IF(BH5=\"vacances\",INDEX(Horaires!$H$3:$L$42,MATCH('Solde d''heure collaborateur'!BH$2,Horaires!$H$3:$H$40,0),4),IF(BH5=\"maladie\",INDEX(Horaires!$H$3:$L$42,MATCH('Solde d''heure collaborateur'!BH$2,Horaires!$H$3:$H$40,0),5),VLOOKUP(BG5,Horaires!$A$3:$E$60,5,)))","v":0},null,{"$f":"INDEX(Planning!$19:$19,MATCH('Solde d''heure collaborateur'!$A5,Planning!$3:$3))","v":"R"},{"$f":"VLOOKUP(BK5,Horaires!$A$3:$E$49,2,)","v":"Congé"},{"$f":"IF(BL5=\"vacances\",INDEX(Horaires!$H$3:$L$42,MATCH('Solde d''heure collaborateur'!BL$2,Horaires!$H$3:$H$40,0),4),IF(BL5=\"maladie\",INDEX(Horaires!$H$3:$L$42,MATCH('Solde d''heure collaborateur'!BL$2,Horaires!$H$3:$H$40,0),5),VLOOKUP(BK5,Horaires!$A$3:$E$60,5,)))","v":0},null,{"$f":"INDEX(Planning!$20:$20,MATCH('Solde d''heure collaborateur'!$A5,Planning!$3:$3))","v":"R"},{"$f":"VLOOKUP(BO5,Horaires!$A$3:$E$49,2,)","v":"Congé"},{"$f":"IF(BP5=\"vacances\",INDEX(Horaires!$H$3:$L$42,MATCH('Solde d''heure collaborateur'!BP$2,Horaires!$H$3:$H$40,0),4),IF(BP5=\"maladie\",INDEX(Horaires!$H$3:$L$42,MATCH('Solde d''heure collaborateur'!BP$2,Horaires!$H$3:$H$40,0),5),VLOOKUP(BO5,Horaires!$A$3:$E$60,5,)))","v":0},null,{"$f":"INDEX(Planning!$21:$21,MATCH('Solde d''heure collaborateur'!$A5,Planning!$3:$3))","v":"R"},{"$f":"VLOOKUP(BS5,Horaires!$A$3:$E$49,2,)","v":"Congé"},{"$f":"IF(BT5=\"vacances\",INDEX(Horaires!$H$3:$L$42,MATCH('Solde d''heure collaborateur'!BT$2,Horaires!$H$3:$H$40,0),4),IF(BT5=\"maladie\",INDEX(Horaires!$H$3:$L$42,MATCH('Solde d''heure collaborateur'!BT$2,Horaires!$H$3:$H$40,0),5),VLOOKUP(BS5,Horaires!$A$3:$E$60,5,)))","v":0},null,{"$f":"INDEX(Planning!$22:$22,MATCH('Solde d''heure collaborateur'!$A5,Planning!$3:$3))","v":"Ves1"},{"$f":"VLOOKUP(BW5,Horaires!$A$3:$E$49,2,)","v":"Vesenaz"},{"$f":"IF(BX5=\"vacances\",INDEX(Horaires!$H$3:$L$42,MATCH('Solde d''heure collaborateur'!BX$2,Horaires!$H$3:$H$40,0),4),IF(BX5=\"maladie\",INDEX(Horaires!$H$3:$L$42,MATCH('Solde d''heure collaborateur'!BX$2,Horaires!$H$3:$H$40,0),5),VLOOKUP(BW5,Horaires!$A$3:$E$60,5,)))","v":0.44791666666666669},null,{"$f":"INDEX(Planning!$23:$23,MATCH('Solde d''heure collaborateur'!$A5,Planning!$3:$3))","v":"Aca1"},{"$f":"VLOOKUP(CA5,Horaires!$A$3:$E$49,2,)","v":"Acacias"},{"$f":"IF(CB5=\"vacances\",INDEX(Horaires!$H$3:$L$42,MATCH('Solde d''heure collaborateur'!CB$2,Horaires!$H$3:$H$40,0),4),IF(CB5=\"maladie\",INDEX(Horaires!$H$3:$L$42,MATCH('Solde d''heure collaborateur'!CB$2,Horaires!$H$3:$H$40,0),5),VLOOKUP(CA5,Horaires!$A$3:$E$60,5,)))","v":0.44791666666666669},null,{"$f":"INDEX(Planning!$24:$24,MATCH('Solde d''heure collaborateur'!$A5,Planning!$3:$3))","v":"Vid1"},{"$f":"VLOOKUP(CE5,Horaires!$A$3:$E$49,2,)","v":"Vidollet"},{"$f":"IF(CF5=\"vacances\",INDEX(Horaires!$H$3:$L$42,MATCH('Solde d''heure collaborateur'!CF$2,Horaires!$H$3:$H$40,0),4),IF(CF5=\"maladie\",INDEX(Horaires!$H$3:$L$42,MATCH('Solde d''heure collaborateur'!CF$2,Horaires!$H$3:$H$40,0),5),VLOOKUP(CE5,Horaires!$A$3:$E$60,5,)))","v":0.44791666666666669},null,{"$f":"INDEX(Planning!$25:$25,MATCH('Solde d''heure collaborateur'!$A5,Planning!$3:$3))","v":"X"},{"$f":"VLOOKUP(CI5,Horaires!$A$3:$E$49,2,)","v":"XXX"},{"$f":"IF(CJ5=\"vacances\",INDEX(Horaires!$H$3:$L$42,MATCH('Solde d''heure collaborateur'!CJ$2,Horaires!$H$3:$H$40,0),4),IF(CJ5=\"maladie\",INDEX(Horaires!$H$3:$L$42,MATCH('Solde d''heure collaborateur'!CJ$2,Horaires!$H$3:$H$40,0),5),VLOOKUP(CI5,Horaires!$A$3:$E$60,5,)))","v":0},null,{"$f":"INDEX(Planning!$26:$26,MATCH('Solde d''heure collaborateur'!$A5,Planning!$3:$3))","v":"R"},{"$f":"VLOOKUP(CM5,Horaires!$A$3:$E$49,2,)","v":"Congé"},{"$f":"IF(CN5=\"vacances\",INDEX(Horaires!$H$3:$L$42,MATCH('Solde d''heure collaborateur'!CN$2,Horaires!$H$3:$H$40,0),4),IF(CN5=\"maladie\",INDEX(Horaires!$H$3:$L$42,MATCH('Solde d''heure collaborateur'!CN$2,Horaires!$H$3:$H$40,0),5),VLOOKUP(CM5,Horaires!$A$3:$E$60,5,)))","v":0},null,{"$f":"INDEX(Planning!$27:$27,MATCH('Solde d''heure collaborateur'!$A5,Planning!$3:$3))","v":"vib1"},{"$f":"VLOOKUP(CQ5,Horaires!$A$3:$E$49,2,)","v":"Vibert"},{"$f":"IF(CR5=\"vacances\",INDEX(Horaires!$H$3:$L$42,MATCH('Solde d''heure collaborateur'!CR$2,Horaires!$H$3:$H$40,0),4),IF(CR5=\"maladie\",INDEX(Horaires!$H$3:$L$42,MATCH('Solde d''heure collaborateur'!CR$2,Horaires!$H$3:$H$40,0),5),VLOOKUP(CQ5,Horaires!$A$3:$E$60,5,)))","v":0.46875000000000006},null,{"$f":"INDEX(Planning!$28:$28,MATCH('Solde d''heure collaborateur'!$A5,Planning!$3:$3))","v":"tour1"},{"$f":"VLOOKUP(CU5,Horaires!$A$3:$E$49,2,)","v":"Tourelle"},{"$f":"IF(CV5=\"vacances\",INDEX(Horaires!$H$3:$L$42,MATCH('Solde d''heure collaborateur'!CV$2,Horaires!$H$3:$H$40,0),4),IF(CV5=\"maladie\",INDEX(Horaires!$H$3:$L$42,MATCH('Solde d''heure collaborateur'!CV$2,Horaires!$H$3:$H$40,0),5),VLOOKUP(CU5,Horaires!$A$3:$E$60,5,)))","v":0.46875000000000006},null,{"$f":"INDEX(Planning!$29:$29,MATCH('Solde d''heure collaborateur'!$A5,Planning!$3:$3))","v":"X"},{"$f":"VLOOKUP(CY5,Horaires!$A$3:$E$49,2,)","v":"XXX"},{"$f":"IF(CZ5=\"vacances\",INDEX(Horaires!$H$3:$L$42,MATCH('Solde d''heure collaborateur'!CZ$2,Horaires!$H$3:$H$40,0),4),IF(CZ5=\"maladie\",INDEX(Horaires!$H$3:$L$42,MATCH('Solde d''heure collaborateur'!CZ$2,Horaires!$H$3:$H$40,0),5),VLOOKUP(CY5,Horaires!$A$3:$E$60,5,)))","v":0},null,{"$f":"INDEX(Planning!$30:$30,MATCH('Solde d''heure collaborateur'!$A5,Planning!$3:$3))","v":"X"},{"$f":"VLOOKUP(DC5,Horaires!$A$3:$E$49,2,)","v":"XXX"},{"$f":"IF(DD5=\"vacances\",INDEX(Horaires!$H$3:$L$42,MATCH('Solde d''heure collaborateur'!DD$2,Horaires!$H$3:$H$40,0),4),IF(DD5=\"maladie\",INDEX(Horaires!$H$3:$L$42,MATCH('Solde d''heure collaborateur'!DD$2,Horaires!$H$3:$H$40,0),5),VLOOKUP(DC5,Horaires!$A$3:$E$60,5,)))","v":0},null,{"$f":"INDEX(Planning!$31:$31,MATCH('Solde d''heure collaborateur'!$A5,Planning!$3:$3))","v":"X"},{"$f":"VLOOKUP(DG5,Horaires!$A$3:$E$49,2,)","v":"XXX"},{"$f":"IF(DH5=\"vacances\",INDEX(Horaires!$H$3:$L$42,MATCH('Solde d''heure collaborateur'!DH$2,Horaires!$H$3:$H$40,0),4),IF(DH5=\"maladie\",INDEX(Horaires!$H$3:$L$42,MATCH('Solde d''heure collaborateur'!DH$2,Horaires!$H$3:$H$40,0),5),VLOOKUP(DG5,Horaires!$A$3:$E$60,5,)))","v":0},null,{"$f":"INDEX(Planning!$32:$32,MATCH('Solde d''heure collaborateur'!$A5,Planning!$3:$3))","v":"X"},{"$f":"VLOOKUP(DK5,Horaires!$A$3:$E$49,2,)","v":"XXX"},{"$f":"IF(DL5=\"vacances\",INDEX(Horaires!$H$3:$L$42,MATCH('Solde d''heure collaborateur'!DL$2,Horaires!$H$3:$H$40,0),4),IF(DL5=\"maladie\",INDEX(Horaires!$H$3:$L$42,MATCH('Solde d''heure collaborateur'!DL$2,Horaires!$H$3:$H$40,0),5),VLOOKUP(DK5,Horaires!$A$3:$E$60,5,)))","v":0},null,{"$f":"INDEX(Planning!$33:$33,MATCH('Solde d''heure collaborateur'!$A5,Planning!$3:$3))","v":"X"},{"$f":"VLOOKUP(DO5,Horaires!$A$3:$E$49,2,)","v":"XXX"},{"$f":"IF(DP5=\"vacances\",INDEX(Horaires!$H$3:$L$42,MATCH('Solde d''heure collaborateur'!DP$2,Horaires!$H$3:$H$40,0),4),IF(DP5=\"maladie\",INDEX(Horaires!$H$3:$L$42,MATCH('Solde d''heure collaborateur'!DP$2,Horaires!$H$3:$H$40,0),5),VLOOKUP(DO5,Horaires!$A$3:$E$60,5,)))","v":0},null,{"$f":"INDEX(Planning!$34:$34,MATCH('Solde d''heure collaborateur'!$A5,Planning!$3:$3))","v":"X"},{"$f":"VLOOKUP(DS5,Horaires!$A$3:$E$49,2,)","v":"XXX"},{"$f":"IF(DT5=\"vacances\",INDEX(Horaires!$H$3:$L$42,MATCH('Solde d''heure collaborateur'!DT$2,Horaires!$H$3:$H$40,0),4),IF(DT5=\"maladie\",INDEX(Horaires!$H$3:$L$42,MATCH('Solde d''heure collaborateur'!DT$2,Horaires!$H$3:$H$40,0),5),VLOOKUP(DS5,Horaires!$A$3:$E$60,5,)))","v":0},null,{"$f":"INDEX(Planning!$35:$35,MATCH('Solde d''heure collaborateur'!$A5,Planning!$3:$3))","v":"X"},{"$f":"VLOOKUP(DW5,Horaires!$A$3:$E$49,2,)","v":"XXX"},{"$f":"IF(DX5=\"vacances\",INDEX(Horaires!$H$3:$L$42,MATCH('Solde d''heure collaborateur'!DX$2,Horaires!$H$3:$H$40,0),4),IF(DX5=\"maladie\",INDEX(Horaires!$H$3:$L$42,MATCH('Solde d''heure collaborateur'!DX$2,Horaires!$H$3:$H$40,0),5),VLOOKUP(DW5,Horaires!$A$3:$E$60,5,)))","v":0}]
[{"$f":"A5+1","v":"2013-11-06"},null,{"$f":"INDEX(Planning!$4:$4,MATCH('Solde d''heure collaborateur'!A6,Planning!$3:$3,0))","v":"Nav1"},{"$f":"VLOOKUP(C6,Horaires!$A$3:$E$49,2,)","v":"Navigation"},{"$f":"IF(D6=\"vacances\",INDEX(Horaires!$H$3:$L$42,MATCH('Solde d''heure collaborateur'!D$2,Horaires!$H$3:$H$40,0),4),IF(D6=\"maladie\",INDEX(Horaires!$H$3:$L$42,MATCH('Solde d''heure collaborateur'!D$2,Horaires!$H$3:$H$40,0),5),VLOOKUP(C6,Horaires!$A$3:$E$60,5,)))","v":0.44791666666666669},null,{"$f":"INDEX(Planning!$5:$5,MATCH('Solde d''heure collaborateur'!A6,Planning!$3:$3))","v":"V"},{"$f":"VLOOKUP(G6,Horaires!$A$3:$E$49,2,)","v":"Vacances"},{"$f":"IF(H6=\"vacances\",INDEX(Horaires!$H$3:$L$42,MATCH('Solde d''heure collaborateur'!H$2,Horaires!$H$3:$H$40,0),4),IF(H6=\"maladie\",INDEX(Horaires!$H$3:$L$42,MATCH('Solde d''heure collaborateur'!H$2,Horaires!$H$3:$H$40,0),5),VLOOKUP(G6,Horaires!$A$3:$E$60,5,)))","v":0.35000000000000003},null,{"$f":"INDEX(Planning!$6:$6,MATCH('Solde d''heure collaborateur'!A6,Planning!$3:$3))","v":"M"},{"$f":"VLOOKUP(K6,Horaires!$A$3:$E$49,2,)","v":"Maladie"},{"$f":"IF(L6=\"vacances\",INDEX(Horaires!$H$3:$L$42,MATCH('Solde d''heure collaborateur'!L$2,Horaires!$H$3:$H$40,0),4),IF(L6=\"maladie\",INDEX(Horaires!$H$3:$L$42,MATCH('Solde d''heure collaborateur'!L$2,Horaires!$H$3:$H$40,0),5),VLOOKUP(K6,Horaires!$A$3:$E$60,5,)))","v":0.4375},null,{"$f":"INDEX(Planning!$7:$7,MATCH('Solde d''heure collaborateur'!$A6,Planning!$3:$3))","v":"X"},{"$f":"VLOOKUP(O6,Horaires!$A$3:$E$49,2,)","v":"XXX"},{"$f":"IF(P6=\"vacances\",INDEX(Horaires!$H$3:$L$42,MATCH('Solde d''heure collaborateur'!P$2,Horaires!$H$3:$H$40,0),4),IF(P6=\"maladie\",INDEX(Horaires!$H$3:$L$42,MATCH('Solde d''heure collaborateur'!P$2,Horaires!$H$3:$H$40,0),5),VLOOKUP(O6,Horaires!$A$3:$E$60,5,)))","v":0},null,{"$f":"INDEX(Planning!$8:$8,MATCH('Solde d''heure collaborateur'!$A6,Planning!$3:$3))","v":"Onex1"},{"$f":"VLOOKUP(S6,Horaires!$A$3:$E$49,2,)","v":"Onex"},{"$f":"IF(T6=\"vacances\",INDEX(Horaires!$H$3:$L$42,MATCH('Solde d''heure collaborateur'!T$2,Horaires!$H$3:$H$40,0),4),IF(T6=\"maladie\",INDEX(Horaires!$H$3:$L$42,MATCH('Solde d''heure collaborateur'!T$2,Horaires!$H$3:$H$40,0),5),VLOOKUP(S6,Horaires!$A$3:$E$60,5,)))","v":0.46875000000000006},null,{"$f":"INDEX(Planning!$9:$9,MATCH('Solde d''heure collaborateur'!$A6,Planning!$3:$3))","v":"Onex1"},{"$f":"VLOOKUP(W6,Horaires!$A$3:$E$49,2,)","v":"Onex"},{"$f":"IF(X6=\"vacances\",INDEX(Horaires!$H$3:$L$42,MATCH('Solde d''heure collaborateur'!X$2,Horaires!$H$3:$H$40,0),4),IF(X6=\"maladie\",INDEX(Horaires!$H$3:$L$42,MATCH('Solde d''heure collaborateur'!X$2,Horaires!$H$3:$H$40,0),5),VLOOKUP(W6,Horaires!$A$3:$E$60,5,)))","v":0.46875000000000006},null,{"$f":"INDEX(Planning!$10:$10,MATCH('Solde d''heure collaborateur'!$A6,Planning!$3:$3))","v":"Tour1"},{"$f":"VLOOKUP(AA6,Horaires!$A$3:$E$49,2,)","v":"Tourelle"},{"$f":"IF(AB6=\"vacances\",INDEX(Horaires!$H$3:$L$42,MATCH('Solde d''heure collaborateur'!AB$2,Horaires!$H$3:$H$40,0),4),IF(AB6=\"maladie\",INDEX(Horaires!$H$3:$L$42,MATCH('Solde d''heure collaborateur'!AB$2,Horaires!$H$3:$H$40,0),5),VLOOKUP(AA6,Horaires!$A$3:$E$60,5,)))","v":0.46875000000000006},null,{"$f":"INDEX(Planning!$11:$11,MATCH('Solde d''heure collaborateur'!$A6,Planning!$3:$3))","v":"Plo1"},{"$f":"VLOOKUP(AE6,Horaires!$A$3:$E$49,2,)","v":"Plan les Ouates"},{"$f":"IF(AF6=\"vacances\",INDEX(Horaires!$H$3:$L$42,MATCH('Solde d''heure collaborateur'!AF$2,Horaires!$H$3:$H$40,0),4),IF(AF6=\"maladie\",INDEX(Horaires!$H$3:$L$42,MATCH('Solde d''heure collaborateur'!AF$2,Horaires!$H$3:$H$40,0),5),VLOOKUP(AE6,Horaires!$A$3:$E$60,5,)))","v":0.46875000000000006},null,{"$f":"INDEX(Planning!$12:$12,MATCH('Solde d''heure collaborateur'!$A6,Planning!$3:$3))","v":"R"},{"$f":"VLOOKUP(AI6,Horaires!$A$3:$E$49,2,)","v":"Congé"},{"$f":"IF(AJ6=\"vacances\",INDEX(Horaires!$H$3:$L$42,MATCH('Solde d''heure collaborateur'!AJ$2,Horaires!$H$3:$H$40,0),4),IF(AJ6=\"maladie\",INDEX(Horaires!$H$3:$L$42,MATCH('Solde d''heure collaborateur'!AJ$2,Horaires!$H$3:$H$40,0),5),VLOOKUP(AI6,Horaires!$A$3:$E$60,5,)))","v":0},null,{"$f":"INDEX(Planning!$13:$13,MATCH('Solde d''heure collaborateur'!$A6,Planning!$3:$3))","v":"Nyon1"},{"$f":"VLOOKUP(AM6,Horaires!$A$3:$E$49,2,)","v":"Nyon"},{"$f":"IF(AN6=\"vacances\",INDEX(Horaires!$H$3:$L$42,MATCH('Solde d''heure collaborateur'!AN$2,Horaires!$H$3:$H$40,0),4),IF(AN6=\"maladie\",INDEX(Horaires!$H$3:$L$42,MATCH('Solde d''heure collaborateur'!AN$2,Horaires!$H$3:$H$40,0),5),VLOOKUP(AM6,Horaires!$A$3:$E$60,5,)))","v":0.44791666666666669},null,{"$f":"INDEX(Planning!$14:$14,MATCH('Solde d''heure collaborateur'!$A6,Planning!$3:$3))","v":"X"},{"$f":"VLOOKUP(AQ6,Horaires!$A$3:$E$49,2,)","v":"XXX"},{"$f":"IF(AR6=\"vacances\",INDEX(Horaires!$H$3:$L$42,MATCH('Solde d''heure collaborateur'!AR$2,Horaires!$H$3:$H$40,0),4),IF(AR6=\"maladie\",INDEX(Horaires!$H$3:$L$42,MATCH('Solde d''heure collaborateur'!AR$2,Horaires!$H$3:$H$40,0),5),VLOOKUP(AQ6,Horaires!$A$3:$E$60,5,)))","v":0},null,{"$f":"INDEX(Planning!$15:$15,MATCH('Solde d''heure collaborateur'!$A6,Planning!$3:$3))","v":"R"},{"$f":"VLOOKUP(AU6,Horaires!$A$3:$E$49,2,)","v":"Congé"},{"$f":"IF(AV6=\"vacances\",INDEX(Horaires!$H$3:$L$42,MATCH('Solde d''heure collaborateur'!AV$2,Horaires!$H$3:$H$40,0),4),IF(AV6=\"maladie\",INDEX(Horaires!$H$3:$L$42,MATCH('Solde d''heure collaborateur'!AV$2,Horaires!$H$3:$H$40,0),5),VLOOKUP(AU6,Horaires!$A$3:$E$60,5,)))","v":0},null,{"$f":"INDEX(Planning!$16:$16,MATCH('Solde d''heure collaborateur'!$A6,Planning!$3:$3))","v":"R"},{"$f":"VLOOKUP(AY6,Horaires!$A$3:$E$49,2,)","v":"Congé"},{"$f":"IF(AZ6=\"vacances\",INDEX(Horaires!$H$3:$L$42,MATCH('Solde d''heure collaborateur'!AZ$2,Horaires!$H$3:$H$40,0),4),IF(AZ6=\"maladie\",INDEX(Horaires!$H$3:$L$42,MATCH('Solde d''heure collaborateur'!AZ$2,Horaires!$H$3:$H$40,0),5),VLOOKUP(AY6,Horaires!$A$3:$E$60,5,)))","v":0},null,{"$f":"INDEX(Planning!$17:$17,MATCH('Solde d''heure collaborateur'!$A6,Planning!$3:$3))","v":"pom1"},{"$f":"VLOOKUP(BC6,Horaires!$A$3:$E$49,2,)","v":"Pommier"},{"$f":"IF(BD6=\"vacances\",INDEX(Horaires!$H$3:$L$42,MATCH('Solde d''heure collaborateur'!BD$2,Horaires!$H$3:$H$40,0),4),IF(BD6=\"maladie\",INDEX(Horaires!$H$3:$L$42,MATCH('Solde d''heure collaborateur'!BD$2,Horaires!$H$3:$H$40,0),5),VLOOKUP(BC6,Horaires!$A$3:$E$60,5,)))","v":0.44791666666666669},null,{"$f":"INDEX(Planning!$18:$18,MATCH('Solde d''heure collaborateur'!$A6,Planning!$3:$3))","v":"vib1"},{"$f":"VLOOKUP(BG6,Horaires!$A$3:$E$49,2,)","v":"Vibert"},{"$f":"IF(BH6=\"vacances\",INDEX(Horaires!$H$3:$L$42,MATCH('Solde d''heure collaborateur'!BH$2,Horaires!$H$3:$H$40,0),4),IF(BH6=\"maladie\",INDEX(Horaires!$H$3:$L$42,MATCH('Solde d''heure collaborateur'!BH$2,Horaires!$H$3:$H$40,0),5),VLOOKUP(BG6,Horaires!$A$3:$E$60,5,)))","v":0.46875000000000006},null,{"$f":"INDEX(Planning!$19:$19,MATCH('Solde d''heure collaborateur'!$A6,Planning!$3:$3))","v":"Vib1"},{"$f":"VLOOKUP(BK6,Horaires!$A$3:$E$49,2,)","v":"Vibert"},{"$f":"IF(BL6=\"vacances\",INDEX(Horaires!$H$3:$L$42,MATCH('Solde d''heure collaborateur'!BL$2,Horaires!$H$3:$H$40,0),4),IF(BL6=\"maladie\",INDEX(Horaires!$H$3:$L$42,MATCH('Solde d''heure collaborateur'!BL$2,Horaires!$H$3:$H$40,0),5),VLOOKUP(BK6,Horaires!$A$3:$E$60,5,)))","v":0.46875000000000006},null,{"$f":"INDEX(Planning!$20:$20,MATCH('Solde d''heure collaborateur'!$A6,Planning!$3:$3))","v":"R"},{"$f":"VLOOKUP(BO6,Horaires!$A$3:$E$49,2,)","v":"Congé"},{"$f":"IF(BP6=\"vacances\",INDEX(Horaires!$H$3:$L$42,MATCH('Solde d''heure collaborateur'!BP$2,Horaires!$H$3:$H$40,0),4),IF(BP6=\"maladie\",INDEX(Horaires!$H$3:$L$42,MATCH('Solde d''heure collaborateur'!BP$2,Horaires!$H$3:$H$40,0),5),VLOOKUP(BO6,Horaires!$A$3:$E$60,5,)))","v":0},null,{"$f":"INDEX(Planning!$21:$21,MATCH('Solde d''heure collaborateur'!$A6,Planning!$3:$3))","v":"Ves1"},{"$f":"VLOOKUP(BS6,Horaires!$A$3:$E$49,2,)","v":"Vesenaz"},{"$f":"IF(BT6=\"vacances\",INDEX(Horaires!$H$3:$L$42,MATCH('Solde d''heure collaborateur'!BT$2,Horaires!$H$3:$H$40,0),4),IF(BT6=\"maladie\",INDEX(Horaires!$H$3:$L$42,MATCH('Solde d''heure collaborateur'!BT$2,Horaires!$H$3:$H$40,0),5),VLOOKUP(BS6,Horaires!$A$3:$E$60,5,)))","v":0.44791666666666669},null,{"$f":"INDEX(Planning!$22:$22,MATCH('Solde d''heure collaborateur'!$A6,Planning!$3:$3))","v":"X"},{"$f":"VLOOKUP(BW6,Horaires!$A$3:$E$49,2,)","v":"XXX"},{"$f":"IF(BX6=\"vacances\",INDEX(Horaires!$H$3:$L$42,MATCH('Solde d''heure collaborateur'!BX$2,Horaires!$H$3:$H$40,0),4),IF(BX6=\"maladie\",INDEX(Horaires!$H$3:$L$42,MATCH('Solde d''heure collaborateur'!BX$2,Horaires!$H$3:$H$40,0),5),VLOOKUP(BW6,Horaires!$A$3:$E$60,5,)))","v":0},null,{"$f":"INDEX(Planning!$23:$23,MATCH('Solde d''heure collaborateur'!$A6,Planning!$3:$3))","v":"Aca1"},{"$f":"VLOOKUP(CA6,Horaires!$A$3:$E$49,2,)","v":"Acacias"},{"$f":"IF(CB6=\"vacances\",INDEX(Horaires!$H$3:$L$42,MATCH('Solde d''heure collaborateur'!CB$2,Horaires!$H$3:$H$40,0),4),IF(CB6=\"maladie\",INDEX(Horaires!$H$3:$L$42,MATCH('Solde d''heure collaborateur'!CB$2,Horaires!$H$3:$H$40,0),5),VLOOKUP(CA6,Horaires!$A$3:$E$60,5,)))","v":0.44791666666666669},null,{"$f":"INDEX(Planning!$24:$24,MATCH('Solde d''heure collaborateur'!$A6,Planning!$3:$3))","v":"R"},{"$f":"VLOOKUP(CE6,Horaires!$A$3:$E$49,2,)","v":"Congé"},{"$f":"IF(CF6=\"vacances\",INDEX(Horaires!$H$3:$L$42,MATCH('Solde d''heure collaborateur'!CF$2,Horaires!$H$3:$H$40,0),4),IF(CF6=\"maladie\",INDEX(Horaires!$H$3:$L$42,MATCH('Solde d''heure collaborateur'!CF$2,Horaires!$H$3:$H$40,0),5),VLOOKUP(CE6,Horaires!$A$3:$E$60,5,)))","v":0},null,{"$f":"INDEX(Planning!$25:$25,MATCH('Solde d''heure collaborateur'!$A6,Planning!$3:$3))","v":"X"},{"$f":"VLOOKUP(CI6,Horaires!$A$3:$E$49,2,)","v":"XXX"},{"$f":"IF(CJ6=\"vacances\",INDEX(Horaires!$H$3:$L$42,MATCH('Solde d''heure collaborateur'!CJ$2,Horaires!$H$3:$H$40,0),4),IF(CJ6=\"maladie\",INDEX(Horaires!$H$3:$L$42,MATCH('Solde d''heure collaborateur'!CJ$2,Horaires!$H$3:$H$40,0),5),VLOOKUP(CI6,Horaires!$A$3:$E$60,5,)))","v":0},null,{"$f":"INDEX(Planning!$26:$26,MATCH('Solde d''heure collaborateur'!$A6,Planning!$3:$3))","v":"Vid1"},{"$f":"VLOOKUP(CM6,Horaires!$A$3:$E$49,2,)","v":"Vidollet"},{"$f":"IF(CN6=\"vacances\",INDEX(Horaires!$H$3:$L$42,MATCH('Solde d''heure collaborateur'!CN$2,Horaires!$H$3:$H$40,0),4),IF(CN6=\"maladie\",INDEX(Horaires!$H$3:$L$42,MATCH('Solde d''heure collaborateur'!CN$2,Horaires!$H$3:$H$40,0),5),VLOOKUP(CM6,Horaires!$A$3:$E$60,5,)))","v":0.44791666666666669},null,{"$f":"INDEX(Planning!$27:$27,MATCH('Solde d''heure collaborateur'!$A6,Planning!$3:$3))","v":"Thon1"},{"$f":"VLOOKUP(CQ6,Horaires!$A$3:$E$49,2,)","v":"Thonex"},{"$f":"IF(CR6=\"vacances\",INDEX(Horaires!$H$3:$L$42,MATCH('Solde d''heure collaborateur'!CR$2,Horaires!$H$3:$H$40,0),4),IF(CR6=\"maladie\",INDEX(Horaires!$H$3:$L$42,MATCH('Solde d''heure collaborateur'!CR$2,Horaires!$H$3:$H$40,0),5),VLOOKUP(CQ6,Horaires!$A$3:$E$60,5,)))","v":0.44791666666666669},null,{"$f":"INDEX(Planning!$28:$28,MATCH('Solde d''heure collaborateur'!$A6,Planning!$3:$3))","v":"R"},{"$f":"VLOOKUP(CU6,Horaires!$A$3:$E$49,2,)","v":"Congé"},{"$f":"IF(CV6=\"vacances\",INDEX(Horaires!$H$3:$L$42,MATCH('Solde d''heure collaborateur'!CV$2,Horaires!$H$3:$H$40,0),4),IF(CV6=\"maladie\",INDEX(Horaires!$H$3:$L$42,MATCH('Solde d''heure collaborateur'!CV$2,Horaires!$H$3:$H$40,0),5),VLOOKUP(CU6,Horaires!$A$3:$E$60,5,)))","v":0},null,{"$f":"INDEX(Planning!$29:$29,MATCH('Solde d''heure collaborateur'!$A6,Planning!$3:$3))","v":"X"},{"$f":"VLOOKUP(CY6,Horaires!$A$3:$E$49,2,)","v":"XXX"},{"$f":"IF(CZ6=\"vacances\",INDEX(Horaires!$H$3:$L$42,MATCH('Solde d''heure collaborateur'!CZ$2,Horaires!$H$3:$H$40,0),4),IF(CZ6=\"maladie\",INDEX(Horaires!$H$3:$L$42,MATCH('Solde d''heure collaborateur'!CZ$2,Horaires!$H$3:$H$40,0),5),VLOOKUP(CY6,Horaires!$A$3:$E$60,5,)))","v":0},null,{"$f":"INDEX(Planning!$30:$30,MATCH('Solde d''heure collaborateur'!$A6,Planning!$3:$3))","v":"X"},{"$f":"VLOOKUP(DC6,Horaires!$A$3:$E$49,2,)","v":"XXX"},{"$f":"IF(DD6=\"vacances\",INDEX(Horaires!$H$3:$L$42,MATCH('Solde d''heure collaborateur'!DD$2,Horaires!$H$3:$H$40,0),4),IF(DD6=\"maladie\",INDEX(Horaires!$H$3:$L$42,MATCH('Solde d''heure collaborateur'!DD$2,Horaires!$H$3:$H$40,0),5),VLOOKUP(DC6,Horaires!$A$3:$E$60,5,)))","v":0},null,{"$f":"INDEX(Planning!$31:$31,MATCH('Solde d''heure collaborateur'!$A6,Planning!$3:$3))","v":"X"},{"$f":"VLOOKUP(DG6,Horaires!$A$3:$E$49,2,)","v":"XXX"},{"$f":"IF(DH6=\"vacances\",INDEX(Horaires!$H$3:$L$42,MATCH('Solde d''heure collaborateur'!DH$2,Horaires!$H$3:$H$40,0),4),IF(DH6=\"maladie\",INDEX(Horaires!$H$3:$L$42,MATCH('Solde d''heure collaborateur'!DH$2,Horaires!$H$3:$H$40,0),5),VLOOKUP(DG6,Horaires!$A$3:$E$60,5,)))","v":0},null,{"$f":"INDEX(Planning!$32:$32,MATCH('Solde d''heure collaborateur'!$A6,Planning!$3:$3))","v":"X"},{"$f":"VLOOKUP(DK6,Horaires!$A$3:$E$49,2,)","v":"XXX"},{"$f":"IF(DL6=\"vacances\",INDEX(Horaires!$H$3:$L$42,MATCH('Solde d''heure collaborateur'!DL$2,Horaires!$H$3:$H$40,0),4),IF(DL6=\"maladie\",INDEX(Horaires!$H$3:$L$42,MATCH('Solde d''heure collaborateur'!DL$2,Horaires!$H$3:$H$40,0),5),VLOOKUP(DK6,Horaires!$A$3:$E$60,5,)))","v":0},null,{"$f":"INDEX(Planning!$33:$33,MATCH('Solde d''heure collaborateur'!$A6,Planning!$3:$3))","v":"X"},{"$f":"VLOOKUP(DO6,Horaires!$A$3:$E$49,2,)","v":"XXX"},{"$f":"IF(DP6=\"vacances\",INDEX(Horaires!$H$3:$L$42,MATCH('Solde d''heure collaborateur'!DP$2,Horaires!$H$3:$H$40,0),4),IF(DP6=\"maladie\",INDEX(Horaires!$H$3:$L$42,MATCH('Solde d''heure collaborateur'!DP$2,Horaires!$H$3:$H$40,0),5),VLOOKUP(DO6,Horaires!$A$3:$E$60,5,)))","v":0},null,{"$f":"INDEX(Planning!$34:$34,MATCH('Solde d''heure collaborateur'!$A6,Planning!$3:$3))","v":"X"},{"$f":"VLOOKUP(DS6,Horaires!$A$3:$E$49,2,)","v":"XXX"},{"$f":"IF(DT6=\"vacances\",INDEX(Horaires!$H$3:$L$42,MATCH('Solde d''heure collaborateur'!DT$2,Horaires!$H$3:$H$40,0),4),IF(DT6=\"maladie\",INDEX(Horaires!$H$3:$L$42,MATCH('Solde d''heure collaborateur'!DT$2,Horaires!$H$3:$H$40,0),5),VLOOKUP(DS6,Horaires!$A$3:$E$60,5,)))","v":0},null,{"$f":"INDEX(Planning!$35:$35,MATCH('Solde d''heure collaborateur'!$A6,Planning!$3:$3))","v":"X"},{"$f":"VLOOKUP(DW6,Horaires!$A$3:$E$49,2,)","v":"XXX"},{"$f":"IF(DX6=\"vacances\",INDEX(Horaires!$H$3:$L$42,MATCH('Solde d''heure collaborateur'!DX$2,Horaires!$H$3:$H$40,0),4),IF(DX6=\"maladie\",INDEX(Horaires!$H$3:$L$42,MATCH('Solde d''heure collaborateur'!DX$2,Horaires!$H$3:$H$40,0),5),VLOOKUP(DW6,Horaires!$A$3:$E$60,5,)))","v":0}]
[{"$f":"A6+1","v":"2013-11-07"},null,{"$f":"INDEX(Planning!$4:$4,MATCH('Solde d''heure collaborateur'!A7,Planning!$3:$3,0))","v":"Nav2"},{"$f":"VLOOKUP(C7,Horaires!$A$3:$E$49,2,)","v":"Navigation"},{"$f":"IF(D7=\"vacances\",INDEX(Horaires!$H$3:$L$42,MATCH('Solde d''heure collaborateur'!D$2,Horaires!$H$3:$H$40,0),4),IF(D7=\"maladie\",INDEX(Horaires!$H$3:$L$42,MATCH('Solde d''heure collaborateur'!D$2,Horaires!$H$3:$H$40,0),5),VLOOKUP(C7,Horaires!$A$3:$E$60,5,)))","v":0.46874999999999994},null,{"$f":"INDEX(Planning!$5:$5,MATCH('Solde d''heure collaborateur'!A7,Planning!$3:$3))","v":"V"},{"$f":"VLOOKUP(G7,Horaires!$A$3:$E$49,2,)","v":"Vacances"},{"$f":"IF(H7=\"vacances\",INDEX(Horaires!$H$3:$L$42,MATCH('Solde d''heure collaborateur'!H$2,Horaires!$H$3:$H$40,0),4),IF(H7=\"maladie\",INDEX(Horaires!$H$3:$L$42,MATCH('Solde d''heure collaborateur'!H$2,Horaires!$H$3:$H$40,0),5),VLOOKUP(G7,Horaires!$A$3:$E$60,5,)))","v":0.35000000000000003},null,{"$f":"INDEX(Planning!$6:$6,MATCH('Solde d''heure collaborateur'!A7,Planning!$3:$3))","v":"M"},{"$f":"VLOOKUP(K7,Horaires!$A$3:$E$49,2,)","v":"Maladie"},{"$f":"IF(L7=\"vacances\",INDEX(Horaires!$H$3:$L$42,MATCH('Solde d''heure collaborateur'!L$2,Horaires!$H$3:$H$40,0),4),IF(L7=\"maladie\",INDEX(Horaires!$H$3:$L$42,MATCH('Solde d''heure collaborateur'!L$2,Horaires!$H$3:$H$40,0),5),VLOOKUP(K7,Horaires!$A$3:$E$60,5,)))","v":0.4375},null,{"$f":"INDEX(Planning!$7:$7,MATCH('Solde d''heure collaborateur'!$A7,Planning!$3:$3))","v":"X"},{"$f":"VLOOKUP(O7,Horaires!$A$3:$E$49,2,)","v":"XXX"},{"$f":"IF(P7=\"vacances\",INDEX(Horaires!$H$3:$L$42,MATCH('Solde d''heure collaborateur'!P$2,Horaires!$H$3:$H$40,0),4),IF(P7=\"maladie\",INDEX(Horaires!$H$3:$L$42,MATCH('Solde d''heure collaborateur'!P$2,Horaires!$H$3:$H$40,0),5),VLOOKUP(O7,Horaires!$A$3:$E$60,5,)))","v":0},null,{"$f":"INDEX(Planning!$8:$8,MATCH('Solde d''heure collaborateur'!$A7,Planning!$3:$3))","v":"Onex2"},{"$f":"VLOOKUP(S7,Horaires!$A$3:$E$49,2,)","v":"Onex"},{"$f":"IF(T7=\"vacances\",INDEX(Horaires!$H$3:$L$42,MATCH('Solde d''heure collaborateur'!T$2,Horaires!$H$3:$H$40,0),4),IF(T7=\"maladie\",INDEX(Horaires!$H$3:$L$42,MATCH('Solde d''heure collaborateur'!T$2,Horaires!$H$3:$H$40,0),5),VLOOKUP(S7,Horaires!$A$3:$E$60,5,)))","v":0.48958333333333331},null,{"$f":"INDEX(Planning!$9:$9,MATCH('Solde d''heure collaborateur'!$A7,Planning!$3:$3))","v":"X"},{"$f":"VLOOKUP(W7,Horaires!$A$3:$E$49,2,)","v":"XXX"},{"$f":"IF(X7=\"vacances\",INDEX(Horaires!$H$3:$L$42,MATCH('Solde d''heure collaborateur'!X$2,Horaires!$H$3:$H$40,0),4),IF(X7=\"maladie\",INDEX(Horaires!$H$3:$L$42,MATCH('Solde d''heure collaborateur'!X$2,Horaires!$H$3:$H$40,0),5),VLOOKUP(W7,Horaires!$A$3:$E$60,5,)))","v":0},null,{"$f":"INDEX(Planning!$10:$10,MATCH('Solde d''heure collaborateur'!$A7,Planning!$3:$3))","v":"Nyon1"},{"$f":"VLOOKUP(AA7,Horaires!$A$3:$E$49,2,)","v":"Nyon"},{"$f":"IF(AB7=\"vacances\",INDEX(Horaires!$H$3:$L$42,MATCH('Solde d''heure collaborateur'!AB$2,Horaires!$H$3:$H$40,0),4),IF(AB7=\"maladie\",INDEX(Horaires!$H$3:$L$42,MATCH('Solde d''heure collaborateur'!AB$2,Horaires!$H$3:$H$40,0),5),VLOOKUP(AA7,Horaires!$A$3:$E$60,5,)))","v":0.44791666666666669},null,{"$f":"INDEX(Planning!$11:$11,MATCH('Solde d''heure collaborateur'!$A7,Planning!$3:$3))","v":"R"},{"$f":"VLOOKUP(AE7,Horaires!$A$3:$E$49,2,)","v":"Congé"},{"$f":"IF(AF7=\"vacances\",INDEX(Horaires!$H$3:$L$42,MATCH('Solde d''heure collaborateur'!AF$2,Horaires!$H$3:$H$40,0),4),IF(AF7=\"maladie\",INDEX(Horaires!$H$3:$L$42,MATCH('Solde d''heure collaborateur'!AF$2,Horaires!$H$3:$H$40,0),5),VLOOKUP(AE7,Horaires!$A$3:$E$60,5,)))","v":0},null,{"$f":"INDEX(Planning!$12:$12,MATCH('Solde d''heure collaborateur'!$A7,Planning!$3:$3))","v":"Thon2"},{"$f":"VLOOKUP(AI7,Horaires!$A$3:$E$49,2,)","v":"Thonex"},{"$f":"IF(AJ7=\"vacances\",INDEX(Horaires!$H$3:$L$42,MATCH('Solde d''heure collaborateur'!AJ$2,Horaires!$H$3:$H$40,0),4),IF(AJ7=\"maladie\",INDEX(Horaires!$H$3:$L$42,MATCH('Solde d''heure collaborateur'!AJ$2,Horaires!$H$3:$H$40,0),5),VLOOKUP(AI7,Horaires!$A$3:$E$60,5,)))","v":0.46874999999999994},null,{"$f":"INDEX(Planning!$13:$13,MATCH('Solde d''heure collaborateur'!$A7,Planning!$3:$3))","v":"pom1"},{"$f":"VLOOKUP(AM7,Horaires!$A$3:$E$49,2,)","v":"Pommier"},{"$f":"IF(AN7=\"vacances\",INDEX(Horaires!$H$3:$L$42,MATCH('Solde d''heure collaborateur'!AN$2,Horaires!$H$3:$H$40,0),4),IF(AN7=\"maladie\",INDEX(Horaires!$H$3:$L$42,MATCH('Solde d''heure collaborateur'!AN$2,Horaires!$H$3:$H$40,0),5),VLOOKUP(AM7,Horaires!$A$3:$E$60,5,)))","v":0.44791666666666669},null,{"$f":"INDEX(Planning!$14:$14,MATCH('Solde d''heure collaborateur'!$A7,Planning!$3:$3))","v":"X"},{"$f":"VLOOKUP(AQ7,Horaires!$A$3:$E$49,2,)","v":"XXX"},{"$f":"IF(AR7=\"vacances\",INDEX(Horaires!$H$3:$L$42,MATCH('Solde d''heure collaborateur'!AR$2,Horaires!$H$3:$H$40,0),4),IF(AR7=\"maladie\",INDEX(Horaires!$H$3:$L$42,MATCH('Solde d''heure collaborateur'!AR$2,Horaires!$H$3:$H$40,0),5),VLOOKUP(AQ7,Horaires!$A$3:$E$60,5,)))","v":0},null,{"$f":"INDEX(Planning!$15:$15,MATCH('Solde d''heure collaborateur'!$A7,Planning!$3:$3))","v":"R"},{"$f":"VLOOKUP(AU7,Horaires!$A$3:$E$49,2,)","v":"Congé"},{"$f":"IF(AV7=\"vacances\",INDEX(Horaires!$H$3:$L$42,MATCH('Solde d''heure collaborateur'!AV$2,Horaires!$H$3:$H$40,0),4),IF(AV7=\"maladie\",INDEX(Horaires!$H$3:$L$42,MATCH('Solde d''heure collaborateur'!AV$2,Horaires!$H$3:$H$40,0),5),VLOOKUP(AU7,Horaires!$A$3:$E$60,5,)))","v":0},null,{"$f":"INDEX(Planning!$16:$16,MATCH('Solde d''heure collaborateur'!$A7,Planning!$3:$3))","v":"Onex2"},{"$f":"VLOOKUP(AY7,Horaires!$A$3:$E$49,2,)","v":"Onex"},{"$f":"IF(AZ7=\"vacances\",INDEX(Horaires!$H$3:$L$42,MATCH('Solde d''heure collaborateur'!AZ$2,Horaires!$H$3:$H$40,0),4),IF(AZ7=\"maladie\",INDEX(Horaires!$H$3:$L$42,MATCH('Solde d''heure collaborateur'!AZ$2,Horaires!$H$3:$H$40,0),5),VLOOKUP(AY7,Horaires!$A$3:$E$60,5,)))","v":0.48958333333333331},null,{"$f":"INDEX(Planning!$17:$17,MATCH('Solde d''heure collaborateur'!$A7,Planning!$3:$3))","v":"tour2"},{"$f":"VLOOKUP(BC7,Horaires!$A$3:$E$49,2,)","v":"Tourelle"},{"$f":"IF(BD7=\"vacances\",INDEX(Horaires!$H$3:$L$42,MATCH('Solde d''heure collaborateur'!BD$2,Horaires!$H$3:$H$40,0),4),IF(BD7=\"maladie\",INDEX(Horaires!$H$3:$L$42,MATCH('Solde d''heure collaborateur'!BD$2,Horaires!$H$3:$H$40,0),5),VLOOKUP(BC7,Horaires!$A$3:$E$60,5,)))","v":0.48958333333333331},null,{"$f":"INDEX(Planning!$18:$18,MATCH('Solde d''heure collaborateur'!$A7,Planning!$3:$3))","v":"Vibferm"},{"$f":"VLOOKUP(BG7,Horaires!$A$3:$E$49,2,)","v":"Vibert ferm"},{"$f":"IF(BH7=\"vacances\",INDEX(Horaires!$H$3:$L$42,MATCH('Solde d''heure collaborateur'!BH$2,Horaires!$H$3:$H$40,0),4),IF(BH7=\"maladie\",INDEX(Horaires!$H$3:$L$42,MATCH('Solde d''heure collaborateur'!BH$2,Horaires!$H$3:$H$40,0),5),VLOOKUP(BG7,Horaires!$A$3:$E$60,5,)))","v":0.42708333333333331},null,{"$f":"INDEX(Planning!$19:$19,MATCH('Solde d''heure collaborateur'!$A7,Planning!$3:$3))","v":"Vibjeu"},{"$f":"VLOOKUP(BK7,Horaires!$A$3:$E$49,2,)","v":"Vibert"},{"$f":"IF(BL7=\"vacances\",INDEX(Horaires!$H$3:$L$42,MATCH('Solde d''heure collaborateur'!BL$2,Horaires!$H$3:$H$40,0),4),IF(BL7=\"maladie\",INDEX(Horaires!$H$3:$L$42,MATCH('Solde d''heure collaborateur'!BL$2,Horaires!$H$3:$H$40,0),5),VLOOKUP(BK7,Horaires!$A$3:$E$60,5,)))","v":0.45833333333333331},null,{"$f":"INDEX(Planning!$20:$20,MATCH('Solde d''heure collaborateur'!$A7,Planning!$3:$3))","v":"Aca2"},{"$f":"VLOOKUP(BO7,Horaires!$A$3:$E$49,2,)","v":"Acacias"},{"$f":"IF(BP7=\"vacances\",INDEX(Horaires!$H$3:$L$42,MATCH('Solde d''heure collaborateur'!BP$2,Horaires!$H$3:$H$40,0),4),IF(BP7=\"maladie\",INDEX(Horaires!$H$3:$L$42,MATCH('Solde d''heure collaborateur'!BP$2,Horaires!$H$3:$H$40,0),5),VLOOKUP(BO7,Horaires!$A$3:$E$60,5,)))","v":0.46874999999999994},null,{"$f":"INDEX(Planning!$21:$21,MATCH('Solde d''heure collaborateur'!$A7,Planning!$3:$3))","v":"Ves2"},{"$f":"VLOOKUP(BS7,Horaires!$A$3:$E$49,2,)","v":"Vesenaz"},{"$f":"IF(BT7=\"vacances\",INDEX(Horaires!$H$3:$L$42,MATCH('Solde d''heure collaborateur'!BT$2,Horaires!$H$3:$H$40,0),4),IF(BT7=\"maladie\",INDEX(Horaires!$H$3:$L$42,MATCH('Solde d''heure collaborateur'!BT$2,Horaires!$H$3:$H$40,0),5),VLOOKUP(BS7,Horaires!$A$3:$E$60,5,)))","v":0.46874999999999994},null,{"$f":"INDEX(Planning!$22:$22,MATCH('Solde d''heure collaborateur'!$A7,Planning!$3:$3))","v":"X"},{"$f":"VLOOKUP(BW7,Horaires!$A$3:$E$49,2,)","v":"XXX"},{"$f":"IF(BX7=\"vacances\",INDEX(Horaires!$H$3:$L$42,MATCH('Solde d''heure collaborateur'!BX$2,Horaires!$H$3:$H$40,0),4),IF(BX7=\"maladie\",INDEX(Horaires!$H$3:$L$42,MATCH('Solde d''heure collaborateur'!BX$2,Horaires!$H$3:$H$40,0),5),VLOOKUP(BW7,Horaires!$A$3:$E$60,5,)))","v":0},null,{"$f":"INDEX(Planning!$23:$23,MATCH('Solde d''heure collaborateur'!$A7,Planning!$3:$3))","v":"Plo2"},{"$f":"VLOOKUP(CA7,Horaires!$A$3:$E$49,2,)","v":"Plan les Ouates"},{"$f":"IF(CB7=\"vacances\",INDEX(Horaires!$H$3:$L$42,MATCH('Solde d''heure collaborateur'!CB$2,Horaires!$H$3:$H$40,0),4),IF(CB7=\"maladie\",INDEX(Horaires!$H$3:$L$42,MATCH('Solde d''heure collaborateur'!CB$2,Horaires!$H$3:$H$40,0),5),VLOOKUP(CA7,Horaires!$A$3:$E$60,5,)))","v":0.48958333333333331},null,{"$f":"INDEX(Planning!$24:$24,MATCH('Solde d''heure collaborateur'!$A7,Planning!$3:$3))","v":"R"},{"$f":"VLOOKUP(CE7,Horaires!$A$3:$E$49,2,)","v":"Congé"},{"$f":"IF(CF7=\"vacances\",INDEX(Horaires!$H$3:$L$42,MATCH('Solde d''heure collaborateur'!CF$2,Horaires!$H$3:$H$40,0),4),IF(CF7=\"maladie\",INDEX(Horaires!$H$3:$L$42,MATCH('Solde d''heure collaborateur'!CF$2,Horaires!$H$3:$H$40,0),5),VLOOKUP(CE7,Horaires!$A$3:$E$60,5,)))","v":0},null,{"$f":"INDEX(Planning!$25:$25,MATCH('Solde d''heure collaborateur'!$A7,Planning!$3:$3))","v":"X"},{"$f":"VLOOKUP(CI7,Horaires!$A$3:$E$49,2,)","v":"XXX"},{"$f":"IF(CJ7=\"vacances\",INDEX(Horaires!$H$3:$L$42,MATCH('Solde d''heure collaborateur'!CJ$2,Horaires!$H$3:$H$40,0),4),IF(CJ7=\"maladie\",INDEX(Horaires!$H$3:$L$42,MATCH('Solde d''heure collaborateur'!CJ$2,Horaires!$H$3:$H$40,0),5),VLOOKUP(CI7,Horaires!$A$3:$E$60,5,)))","v":0},null,{"$f":"INDEX(Planning!$26:$26,MATCH('Solde d''heure collaborateur'!$A7,Planning!$3:$3))","v":"Vid2"},{"$f":"VLOOKUP(CM7,Horaires!$A$3:$E$49,2,)","v":"Vidollet"},{"$f":"IF(CN7=\"vacances\",INDEX(Horaires!$H$3:$L$42,MATCH('Solde d''heure collaborateur'!CN$2,Horaires!$H$3:$H$40,0),4),IF(CN7=\"maladie\",INDEX(Horaires!$H$3:$L$42,MATCH('Solde d''heure collaborateur'!CN$2,Horaires!$H$3:$H$40,0),5),VLOOKUP(CM7,Horaires!$A$3:$E$60,5,)))","v":0.46874999999999994},null,{"$f":"INDEX(Planning!$27:$27,MATCH('Solde d''heure collaborateur'!$A7,Planning!$3:$3))","v":"R"},{"$f":"VLOOKUP(CQ7,Horaires!$A$3:$E$49,2,)","v":"Congé"},{"$f":"IF(CR7=\"vacances\",INDEX(Horaires!$H$3:$L$42,MATCH('Solde d''heure collaborateur'!CR$2,Horaires!$H$3:$H$40,0),4),IF(CR7=\"maladie\",INDEX(Horaires!$H$3:$L$42,MATCH('Solde d''heure collaborateur'!CR$2,Horaires!$H$3:$H$40,0),5),VLOOKUP(CQ7,Horaires!$A$3:$E$60,5,)))","v":0},null,{"$f":"INDEX(Planning!$28:$28,MATCH('Solde d''heure collaborateur'!$A7,Planning!$3:$3))","v":"R"},{"$f":"VLOOKUP(CU7,Horaires!$A$3:$E$49,2,)","v":"Congé"},{"$f":"IF(CV7=\"vacances\",INDEX(Horaires!$H$3:$L$42,MATCH('Solde d''heure collaborateur'!CV$2,Horaires!$H$3:$H$40,0),4),IF(CV7=\"maladie\",INDEX(Horaires!$H$3:$L$42,MATCH('Solde d''heure collaborateur'!CV$2,Horaires!$H$3:$H$40,0),5),VLOOKUP(CU7,Horaires!$A$3:$E$60,5,)))","v":0},null,{"$f":"INDEX(Planning!$29:$29,MATCH('Solde d''heure collaborateur'!$A7,Planning!$3:$3))","v":"X"},{"$f":"VLOOKUP(CY7,Horaires!$A$3:$E$49,2,)","v":"XXX"},{"$f":"IF(CZ7=\"vacances\",INDEX(Horaires!$H$3:$L$42,MATCH('Solde d''heure collaborateur'!CZ$2,Horaires!$H$3:$H$40,0),4),IF(CZ7=\"maladie\",INDEX(Horaires!$H$3:$L$42,MATCH('Solde d''heure collaborateur'!CZ$2,Horaires!$H$3:$H$40,0),5),VLOOKUP(CY7,Horaires!$A$3:$E$60,5,)))","v":0},null,{"$f":"INDEX(Planning!$30:$30,MATCH('Solde d''heure collaborateur'!$A7,Planning!$3:$3))","v":"X"},{"$f":"VLOOKUP(DC7,Horaires!$A$3:$E$49,2,)","v":"XXX"},{"$f":"IF(DD7=\"vacances\",INDEX(Horaires!$H$3:$L$42,MATCH('Solde d''heure collaborateur'!DD$2,Horaires!$H$3:$H$40,0),4),IF(DD7=\"maladie\",INDEX(Horaires!$H$3:$L$42,MATCH('Solde d''heure collaborateur'!DD$2,Horaires!$H$3:$H$40,0),5),VLOOKUP(DC7,Horaires!$A$3:$E$60,5,)))","v":0},null,{"$f":"INDEX(Planning!$31:$31,MATCH('Solde d''heure collaborateur'!$A7,Planning!$3:$3))","v":"X"},{"$f":"VLOOKUP(DG7,Horaires!$A$3:$E$49,2,)","v":"XXX"},{"$f":"IF(DH7=\"vacances\",INDEX(Horaires!$H$3:$L$42,MATCH('Solde d''heure collaborateur'!DH$2,Horaires!$H$3:$H$40,0),4),IF(DH7=\"maladie\",INDEX(Horaires!$H$3:$L$42,MATCH('Solde d''heure collaborateur'!DH$2,Horaires!$H$3:$H$40,0),5),VLOOKUP(DG7,Horaires!$A$3:$E$60,5,)))","v":0},null,{"$f":"INDEX(Planning!$32:$32,MATCH('Solde d''heure collaborateur'!$A7,Planning!$3:$3))","v":"X"},{"$f":"VLOOKUP(DK7,Horaires!$A$3:$E$49,2,)","v":"XXX"},{"$f":"IF(DL7=\"vacances\",INDEX(Horaires!$H$3:$L$42,MATCH('Solde d''heure collaborateur'!DL$2,Horaires!$H$3:$H$40,0),4),IF(DL7=\"maladie\",INDEX(Horaires!$H$3:$L$42,MATCH('Solde d''heure collaborateur'!DL$2,Horaires!$H$3:$H$40,0),5),VLOOKUP(DK7,Horaires!$A$3:$E$60,5,)))","v":0},null,{"$f":"INDEX(Planning!$33:$33,MATCH('Solde d''heure collaborateur'!$A7,Planning!$3:$3))","v":"X"},{"$f":"VLOOKUP(DO7,Horaires!$A$3:$E$49,2,)","v":"XXX"},{"$f":"IF(DP7=\"vacances\",INDEX(Horaires!$H$3:$L$42,MATCH('Solde d''heure collaborateur'!DP$2,Horaires!$H$3:$H$40,0),4),IF(DP7=\"maladie\",INDEX(Horaires!$H$3:$L$42,MATCH('Solde d''heure collaborateur'!DP$2,Horaires!$H$3:$H$40,0),5),VLOOKUP(DO7,Horaires!$A$3:$E$60,5,)))","v":0},null,{"$f":"INDEX(Planning!$34:$34,MATCH('Solde d''heure collaborateur'!$A7,Planning!$3:$3))","v":"X"},{"$f":"VLOOKUP(DS7,Horaires!$A$3:$E$49,2,)","v":"XXX"},{"$f":"IF(DT7=\"vacances\",INDEX(Horaires!$H$3:$L$42,MATCH('Solde d''heure collaborateur'!DT$2,Horaires!$H$3:$H$40,0),4),IF(DT7=\"maladie\",INDEX(Horaires!$H$3:$L$42,MATCH('Solde d''heure collaborateur'!DT$2,Horaires!$H$3:$H$40,0),5),VLOOKUP(DS7,Horaires!$A$3:$E$60,5,)))","v":0},null,{"$f":"INDEX(Planning!$35:$35,MATCH('Solde d''heure collaborateur'!$A7,Planning!$3:$3))","v":"X"},{"$f":"VLOOKUP(DW7,Horaires!$A$3:$E$49,2,)","v":"XXX"},{"$f":"IF(DX7=\"vacances\",INDEX(Horaires!$H$3:$L$42,MATCH('Solde d''heure collaborateur'!DX$2,Horaires!$H$3:$H$40,0),4),IF(DX7=\"maladie\",INDEX(Horaires!$H$3:$L$42,MATCH('Solde d''heure collaborateur'!DX$2,Horaires!$H$3:$H$40,0),5),VLOOKUP(DW7,Horaires!$A$3:$E$60,5,)))","v":0}]
[{"$f":"A7+1","v":"2013-11-08"},null,{"$f":"INDEX(Planning!$4:$4,MATCH('Solde d''heure collaborateur'!A8,Planning!$3:$3,0))","v":"Nav2"},{"$f":"VLOOKUP(C8,Horaires!$A$3:$E$49,2,)","v":"Navigation"},{"$f":"IF(D8=\"vacances\",INDEX(Horaires!$H$3:$L$42,MATCH('Solde d''heure collaborateur'!D$2,Horaires!$H$3:$H$40,0),4),IF(D8=\"maladie\",INDEX(Horaires!$H$3:$L$42,MATCH('Solde d''heure collaborateur'!D$2,Horaires!$H$3:$H$40,0),5),VLOOKUP(C8,Horaires!$A$3:$E$60,5,)))","v":0.46874999999999994},null,{"$f":"INDEX(Planning!$5:$5,MATCH('Solde d''heure collaborateur'!A8,Planning!$3:$3))","v":"R"},{"$f":"VLOOKUP(G8,Horaires!$A$3:$E$49,2,)","v":"Congé"},{"$f":"IF(H8=\"vacances\",INDEX(Horaires!$H$3:$L$42,MATCH('Solde d''heure collaborateur'!H$2,Horaires!$H$3:$H$40,0),4),IF(H8=\"maladie\",INDEX(Horaires!$H$3:$L$42,MATCH('Solde d''heure collaborateur'!H$2,Horaires!$H$3:$H$40,0),5),VLOOKUP(G8,Horaires!$A$3:$E$60,5,)))","v":0},null,{"$f":"INDEX(Planning!$6:$6,MATCH('Solde d''heure collaborateur'!A8,Planning!$3:$3))","v":"R"},{"$f":"VLOOKUP(K8,Horaires!$A$3:$E$49,2,)","v":"Congé"},{"$f":"IF(L8=\"vacances\",INDEX(Horaires!$H$3:$L$42,MATCH('Solde d''heure collaborateur'!L$2,Horaires!$H$3:$H$40,0),4),IF(L8=\"maladie\",INDEX(Horaires!$H$3:$L$42,MATCH('Solde d''heure collaborateur'!L$2,Horaires!$H$3:$H$40,0),5),VLOOKUP(K8,Horaires!$A$3:$E$60,5,)))","v":0},null,{"$f":"INDEX(Planning!$7:$7,MATCH('Solde d''heure collaborateur'!$A8,Planning!$3:$3))","v":"X"},{"$f":"VLOOKUP(O8,Horaires!$A$3:$E$49,2,)","v":"XXX"},{"$f":"IF(P8=\"vacances\",INDEX(Horaires!$H$3:$L$42,MATCH('Solde d''heure collaborateur'!P$2,Horaires!$H$3:$H$40,0),4),IF(P8=\"maladie\",INDEX(Horaires!$H$3:$L$42,MATCH('Solde d''heure collaborateur'!P$2,Horaires!$H$3:$H$40,0),5),VLOOKUP(O8,Horaires!$A$3:$E$60,5,)))","v":0},null,{"$f":"INDEX(Planning!$8:$8,MATCH('Solde d''heure collaborateur'!$A8,Planning!$3:$3))","v":"R"},{"$f":"VLOOKUP(S8,Horaires!$A$3:$E$49,2,)","v":"Congé"},{"$f":"IF(T8=\"vacances\",INDEX(Horaires!$H$3:$L$42,MATCH('Solde d''heure collaborateur'!T$2,Horaires!$H$3:$H$40,0),4),IF(T8=\"maladie\",INDEX(Horaires!$H$3:$L$42,MATCH('Solde d''heure collaborateur'!T$2,Horaires!$H$3:$H$40,0),5),VLOOKUP(S8,Horaires!$A$3:$E$60,5,)))","v":0},null,{"$f":"INDEX(Planning!$9:$9,MATCH('Solde d''heure collaborateur'!$A8,Planning!$3:$3))","v":"X"},{"$f":"VLOOKUP(W8,Horaires!$A$3:$E$49,2,)","v":"XXX"},{"$f":"IF(X8=\"vacances\",INDEX(Horaires!$H$3:$L$42,MATCH('Solde d''heure collaborateur'!X$2,Horaires!$H$3:$H$40,0),4),IF(X8=\"maladie\",INDEX(Horaires!$H$3:$L$42,MATCH('Solde d''heure collaborateur'!X$2,Horaires!$H$3:$H$40,0),5),VLOOKUP(W8,Horaires!$A$3:$E$60,5,)))","v":0},null,{"$f":"INDEX(Planning!$10:$10,MATCH('Solde d''heure collaborateur'!$A8,Planning!$3:$3))","v":"Onex2"},{"$f":"VLOOKUP(AA8,Horaires!$A$3:$E$49,2,)","v":"Onex"},{"$f":"IF(AB8=\"vacances\",INDEX(Horaires!$H$3:$L$42,MATCH('Solde d''heure collaborateur'!AB$2,Horaires!$H$3:$H$40,0),4),IF(AB8=\"maladie\",INDEX(Horaires!$H$3:$L$42,MATCH('Solde d''heure collaborateur'!AB$2,Horaires!$H$3:$H$40,0),5),VLOOKUP(AA8,Horaires!$A$3:$E$60,5,)))","v":0.48958333333333331},null,{"$f":"INDEX(Planning!$11:$11,MATCH('Solde d''heure collaborateur'!$A8,Planning!$3:$3))","v":"Plo2"},{"$f":"VLOOKUP(AE8,Horaires!$A$3:$E$49,2,)","v":"Plan les Ouates"},{"$f":"IF(AF8=\"vacances\",INDEX(Horaires!$H$3:$L$42,MATCH('Solde d''heure collaborateur'!AF$2,Horaires!$H$3:$H$40,0),4),IF(AF8=\"maladie\",INDEX(Horaires!$H$3:$L$42,MATCH('Solde d''heure collaborateur'!AF$2,Horaires!$H$3:$H$40,0),5),VLOOKUP(AE8,Horaires!$A$3:$E$60,5,)))","v":0.48958333333333331},null,{"$f":"INDEX(Planning!$12:$12,MATCH('Solde d''heure collaborateur'!$A8,Planning!$3:$3))","v":"R"},{"$f":"VLOOKUP(AI8,Horaires!$A$3:$E$49,2,)","v":"Congé"},{"$f":"IF(AJ8=\"vacances\",INDEX(Horaires!$H$3:$L$42,MATCH('Solde d''heure collaborateur'!AJ$2,Horaires!$H$3:$H$40,0),4),IF(AJ8=\"maladie\",INDEX(Horaires!$H$3:$L$42,MATCH('Solde d''heure collaborateur'!AJ$2,Horaires!$H$3:$H$40,0),5),VLOOKUP(AI8,Horaires!$A$3:$E$60,5,)))","v":0},null,{"$f":"INDEX(Planning!$13:$13,MATCH('Solde d''heure collaborateur'!$A8,Planning!$3:$3))","v":"R"},{"$f":"VLOOKUP(AM8,Horaires!$A$3:$E$49,2,)","v":"Congé"},{"$f":"IF(AN8=\"vacances\",INDEX(Horaires!$H$3:$L$42,MATCH('Solde d''heure collaborateur'!AN$2,Horaires!$H$3:$H$40,0),4),IF(AN8=\"maladie\",INDEX(Horaires!$H$3:$L$42,MATCH('Solde d''heure collaborateur'!AN$2,Horaires!$H$3:$H$40,0),5),VLOOKUP(AM8,Horaires!$A$3:$E$60,5,)))","v":0},null,{"$f":"INDEX(Planning!$14:$14,MATCH('Solde d''heure collaborateur'!$A8,Planning!$3:$3))","v":"M"},{"$f":"VLOOKUP(AQ8,Horaires!$A$3:$E$49,2,)","v":"Maladie"},{"$f":"IF(AR8=\"vacances\",INDEX(Horaires!$H$3:$L$42,MATCH('Solde d''heure collaborateur'!AR$2,Horaires!$H$3:$H$40,0),4),IF(AR8=\"maladie\",INDEX(Horaires!$H$3:$L$42,MATCH('Solde d''heure collaborateur'!AR$2,Horaires!$H$3:$H$40,0),5),VLOOKUP(AQ8,Horaires!$A$3:$E$60,5,)))","v":0.46180555555555558},null,{"$f":"INDEX(Planning!$15:$15,MATCH('Solde d''heure collaborateur'!$A8,Planning!$3:$3))","v":"recup"},{"$f":"VLOOKUP(AU8,Horaires!$A$3:$E$49,2,)","v":"Récupération"},{"$f":"IF(AV8=\"vacances\",INDEX(Horaires!$H$3:$L$42,MATCH('Solde d''heure collaborateur'!AV$2,Horaires!$H$3:$H$40,0),4),IF(AV8=\"maladie\",INDEX(Horaires!$H$3:$L$42,MATCH('Solde d''heure collaborateur'!AV$2,Horaires!$H$3:$H$40,0),5),VLOOKUP(AU8,Horaires!$A$3:$E$60,5,)))","v":0},null,{"$f":"INDEX(Planning!$16:$16,MATCH('Solde d''heure collaborateur'!$A8,Planning!$3:$3))","v":"Nyon1"},{"$f":"VLOOKUP(AY8,Horaires!$A$3:$E$49,2,)","v":"Nyon"},{"$f":"IF(AZ8=\"vacances\",INDEX(Horaires!$H$3:$L$42,MATCH('Solde d''heure collaborateur'!AZ$2,Horaires!$H$3:$H$40,0),4),IF(AZ8=\"maladie\",INDEX(Horaires!$H$3:$L$42,MATCH('Solde d''heure collaborateur'!AZ$2,Horaires!$H$3:$H$40,0),5),VLOOKUP(AY8,Horaires!$A$3:$E$60,5,)))","v":0.44791666666666669},null,{"$f":"INDEX(Planning!$17:$17,MATCH('Solde d''heure collaborateur'!$A8,Planning!$3:$3))","v":"R"},{"$f":"VLOOKUP(BC8,Horaires!$A$3:$E$49,2,)","v":"Congé"},{"$f":"IF(BD8=\"vacances\",INDEX(Horaires!$H$3:$L$42,MATCH('Solde d''heure collaborateur'!BD$2,Horaires!$H$3:$H$40,0),4),IF(BD8=\"maladie\",INDEX(Horaires!$H$3:$L$42,MATCH('Solde d''heure collaborateur'!BD$2,Horaires!$H$3:$H$40,0),5),VLOOKUP(BC8,Horaires!$A$3:$E$60,5,)))","v":0},null,{"$f":"INDEX(Planning!$18:$18,MATCH('Solde d''heure collaborateur'!$A8,Planning!$3:$3))","v":"vib2"},{"$f":"VLOOKUP(BG8,Horaires!$A$3:$E$49,2,)","v":"Vibert"},{"$f":"IF(BH8=\"vacances\",INDEX(Horaires!$H$3:$L$42,MATCH('Solde d''heure collaborateur'!BH$2,Horaires!$H$3:$H$40,0),4),IF(BH8=\"maladie\",INDEX(Horaires!$H$3:$L$42,MATCH('Solde d''heure collaborateur'!BH$2,Horaires!$H$3:$H$40,0),5),VLOOKUP(BG8,Horaires!$A$3:$E$60,5,)))","v":0.48958333333333331},null,{"$f":"INDEX(Planning!$19:$19,MATCH('Solde d''heure collaborateur'!$A8,Planning!$3:$3))","v":"Vib2"},{"$f":"VLOOKUP(BK8,Horaires!$A$3:$E$49,2,)","v":"Vibert"},{"$f":"IF(BL8=\"vacances\",INDEX(Horaires!$H$3:$L$42,MATCH('Solde d''heure collaborateur'!BL$2,Horaires!$H$3:$H$40,0),4),IF(BL8=\"maladie\",INDEX(Horaires!$H$3:$L$42,MATCH('Solde d''heure collaborateur'!BL$2,Horaires!$H$3:$H$40,0),5),VLOOKUP(BK8,Horaires!$A$3:$E$60,5,)))","v":0.48958333333333331},null,{"$f":"INDEX(Planning!$20:$20,MATCH('Solde d''heure collaborateur'!$A8,Planning!$3:$3))","v":"Aca2"},{"$f":"VLOOKUP(BO8,Horaires!$A$3:$E$49,2,)","v":"Acacias"},{"$f":"IF(BP8=\"vacances\",INDEX(Horaires!$H$3:$L$42,MATCH('Solde d''heure collaborateur'!BP$2,Horaires!$H$3:$H$40,0),4),IF(BP8=\"maladie\",INDEX(Horaires!$H$3:$L$42,MATCH('Solde d''heure collaborateur'!BP$2,Horaires!$H$3:$H$40,0),5),VLOOKUP(BO8,Horaires!$A$3:$E$60,5,)))","v":0.46874999999999994},null,{"$f":"INDEX(Planning!$21:$21,MATCH('Solde d''heure collaborateur'!$A8,Planning!$3:$3))","v":"Ves2"},{"$f":"VLOOKUP(BS8,Horaires!$A$3:$E$49,2,)","v":"Vesenaz"},{"$f":"IF(BT8=\"vacances\",INDEX(Horaires!$H$3:$L$42,MATCH('Solde d''heure collaborateur'!BT$2,Horaires!$H$3:$H$40,0),4),IF(BT8=\"maladie\",INDEX(Horaires!$H$3:$L$42,MATCH('Solde d''heure collaborateur'!BT$2,Horaires!$H$3:$H$40,0),5),VLOOKUP(BS8,Horaires!$A$3:$E$60,5,)))","v":0.46874999999999994},null,{"$f":"INDEX(Planning!$22:$22,MATCH('Solde d''heure collaborateur'!$A8,Planning!$3:$3))","v":"X"},{"$f":"VLOOKUP(BW8,Horaires!$A$3:$E$49,2,)","v":"XXX"},{"$f":"IF(BX8=\"vacances\",INDEX(Horaires!$H$3:$L$42,MATCH('Solde d''heure collaborateur'!BX$2,Horaires!$H$3:$H$40,0),4),IF(BX8=\"maladie\",INDEX(Horaires!$H$3:$L$42,MATCH('Solde d''heure collaborateur'!BX$2,Horaires!$H$3:$H$40,0),5),VLOOKUP(BW8,Horaires!$A$3:$E$60,5,)))","v":0},null,{"$f":"INDEX(Planning!$23:$23,MATCH('Solde d''heure collaborateur'!$A8,Planning!$3:$3))","v":"R"},{"$f":"VLOOKUP(CA8,Horaires!$A$3:$E$49,2,)","v":"Congé"},{"$f":"IF(CB8=\"vacances\",INDEX(Horaires!$H$3:$L$42,MATCH('Solde d''heure collaborateur'!CB$2,Horaires!$H$3:$H$40,0),4),IF(CB8=\"maladie\",INDEX(Horaires!$H$3:$L$42,MATCH('Solde d''heure collaborateur'!CB$2,Horaires!$H$3:$H$40,0),5),VLOOKUP(CA8,Horaires!$A$3:$E$60,5,)))","v":0},null,{"$f":"INDEX(Planning!$24:$24,MATCH('Solde d''heure collaborateur'!$A8,Planning!$3:$3))","v":"Onex2"},{"$f":"VLOOKUP(CE8,Horaires!$A$3:$E$49,2,)","v":"Onex"},{"$f":"IF(CF8=\"vacances\",INDEX(Horaires!$H$3:$L$42,MATCH('Solde d''heure collaborateur'!CF$2,Horaires!$H$3:$H$40,0),4),IF(CF8=\"maladie\",INDEX(Horaires!$H$3:$L$42,MATCH('Solde d''heure collaborateur'!CF$2,Horaires!$H$3:$H$40,0),5),VLOOKUP(CE8,Horaires!$A$3:$E$60,5,)))","v":0.48958333333333331},null,{"$f":"INDEX(Planning!$25:$25,MATCH('Solde d''heure collaborateur'!$A8,Planning!$3:$3))","v":"X"},{"$f":"VLOOKUP(CI8,Horaires!$A$3:$E$49,2,)","v":"XXX"},{"$f":"IF(CJ8=\"vacances\",INDEX(Horaires!$H$3:$L$42,MATCH('Solde d''heure collaborateur'!CJ$2,Horaires!$H$3:$H$40,0),4),IF(CJ8=\"maladie\",INDEX(Horaires!$H$3:$L$42,MATCH('Solde d''heure collaborateur'!CJ$2,Horaires!$H$3:$H$40,0),5),VLOOKUP(CI8,Horaires!$A$3:$E$60,5,)))","v":0},null,{"$f":"INDEX(Planning!$26:$26,MATCH('Solde d''heure collaborateur'!$A8,Planning!$3:$3))","v":"Vid2"},{"$f":"VLOOKUP(CM8,Horaires!$A$3:$E$49,2,)","v":"Vidollet"},{"$f":"IF(CN8=\"vacances\",INDEX(Horaires!$H$3:$L$42,MATCH('Solde d''heure collaborateur'!CN$2,Horaires!$H$3:$H$40,0),4),IF(CN8=\"maladie\",INDEX(Horaires!$H$3:$L$42,MATCH('Solde d''heure collaborateur'!CN$2,Horaires!$H$3:$H$40,0),5),VLOOKUP(CM8,Horaires!$A$3:$E$60,5,)))","v":0.46874999999999994},null,{"$f":"INDEX(Planning!$27:$27,MATCH('Solde d''heure collaborateur'!$A8,Planning!$3:$3))","v":"Thon2"},{"$f":"VLOOKUP(CQ8,Horaires!$A$3:$E$49,2,)","v":"Thonex"},{"$f":"IF(CR8=\"vacances\",INDEX(Horaires!$H$3:$L$42,MATCH('Solde d''heure collaborateur'!CR$2,Horaires!$H$3:$H$40,0),4),IF(CR8=\"maladie\",INDEX(Horaires!$H$3:$L$42,MATCH('Solde d''heure collaborateur'!CR$2,Horaires!$H$3:$H$40,0),5),VLOOKUP(CQ8,Horaires!$A$3:$E$60,5,)))","v":0.46874999999999994},null,{"$f":"INDEX(Planning!$28:$28,MATCH('Solde d''heure collaborateur'!$A8,Planning!$3:$3))","v":"tour2"},{"$f":"VLOOKUP(CU8,Horaires!$A$3:$E$49,2,)","v":"Tourelle"},{"$f":"IF(CV8=\"vacances\",INDEX(Horaires!$H$3:$L$42,MATCH('Solde d''heure collaborateur'!CV$2,Horaires!$H$3:$H$40,0),4),IF(CV8=\"maladie\",INDEX(Horaires!$H$3:$L$42,MATCH('Solde d''heure collaborateur'!CV$2,Horaires!$H$3:$H$40,0),5),VLOOKUP(CU8,Horaires!$A$3:$E$60,5,)))","v":0.48958333333333331},null,{"$f":"INDEX(Planning!$29:$29,MATCH('Solde d''heure collaborateur'!$A8,Planning!$3:$3))","v":"pom2"},{"$f":"VLOOKUP(CY8,Horaires!$A$3:$E$49,2,)","v":"Pommier"},{"$f":"IF(CZ8=\"vacances\",INDEX(Horaires!$H$3:$L$42,MATCH('Solde d''heure collaborateur'!CZ$2,Horaires!$H$3:$H$40,0),4),IF(CZ8=\"maladie\",INDEX(Horaires!$H$3:$L$42,MATCH('Solde d''heure collaborateur'!CZ$2,Horaires!$H$3:$H$40,0),5),VLOOKUP(CY8,Horaires!$A$3:$E$60,5,)))","v":0.46874999999999994},null,{"$f":"INDEX(Planning!$30:$30,MATCH('Solde d''heure collaborateur'!$A8,Planning!$3:$3))","v":"X"},{"$f":"VLOOKUP(DC8,Horaires!$A$3:$E$49,2,)","v":"XXX"},{"$f":"IF(DD8=\"vacances\",INDEX(Horaires!$H$3:$L$42,MATCH('Solde d''heure collaborateur'!DD$2,Horaires!$H$3:$H$40,0),4),IF(DD8=\"maladie\",INDEX(Horaires!$H$3:$L$42,MATCH('Solde d''heure collaborateur'!DD$2,Horaires!$H$3:$H$40,0),5),VLOOKUP(DC8,Horaires!$A$3:$E$60,5,)))","v":0},null,{"$f":"INDEX(Planning!$31:$31,MATCH('Solde d''heure collaborateur'!$A8,Planning!$3:$3))","v":"X"},{"$f":"VLOOKUP(DG8,Horaires!$A$3:$E$49,2,)","v":"XXX"},{"$f":"IF(DH8=\"vacances\",INDEX(Horaires!$H$3:$L$42,MATCH('Solde d''heure collaborateur'!DH$2,Horaires!$H$3:$H$40,0),4),IF(DH8=\"maladie\",INDEX(Horaires!$H$3:$L$42,MATCH('Solde d''heure collaborateur'!DH$2,Horaires!$H$3:$H$40,0),5),VLOOKUP(DG8,Horaires!$A$3:$E$60,5,)))","v":0},null,{"$f":"INDEX(Planning!$32:$32,MATCH('Solde d''heure collaborateur'!$A8,Planning!$3:$3))","v":"X"},{"$f":"VLOOKUP(DK8,Horaires!$A$3:$E$49,2,)","v":"XXX"},{"$f":"IF(DL8=\"vacances\",INDEX(Horaires!$H$3:$L$42,MATCH('Solde d''heure collaborateur'!DL$2,Horaires!$H$3:$H$40,0),4),IF(DL8=\"maladie\",INDEX(Horaires!$H$3:$L$42,MATCH('Solde d''heure collaborateur'!DL$2,Horaires!$H$3:$H$40,0),5),VLOOKUP(DK8,Horaires!$A$3:$E$60,5,)))","v":0},null,{"$f":"INDEX(Planning!$33:$33,MATCH('Solde d''heure collaborateur'!$A8,Planning!$3:$3))","v":"X"},{"$f":"VLOOKUP(DO8,Horaires!$A$3:$E$49,2,)","v":"XXX"},{"$f":"IF(DP8=\"vacances\",INDEX(Horaires!$H$3:$L$42,MATCH('Solde d''heure collaborateur'!DP$2,Horaires!$H$3:$H$40,0),4),IF(DP8=\"maladie\",INDEX(Horaires!$H$3:$L$42,MATCH('Solde d''heure collaborateur'!DP$2,Horaires!$H$3:$H$40,0),5),VLOOKUP(DO8,Horaires!$A$3:$E$60,5,)))","v":0},null,{"$f":"INDEX(Planning!$34:$34,MATCH('Solde d''heure collaborateur'!$A8,Planning!$3:$3))","v":"X"},{"$f":"VLOOKUP(DS8,Horaires!$A$3:$E$49,2,)","v":"XXX"},{"$f":"IF(DT8=\"vacances\",INDEX(Horaires!$H$3:$L$42,MATCH('Solde d''heure collaborateur'!DT$2,Horaires!$H$3:$H$40,0),4),IF(DT8=\"maladie\",INDEX(Horaires!$H$3:$L$42,MATCH('Solde d''heure collaborateur'!DT$2,Horaires!$H$3:$H$40,0),5),VLOOKUP(DS8,Horaires!$A$3:$E$60,5,)))","v":0},null,{"$f":"INDEX(Planning!$35:$35,MATCH('Solde d''heure collaborateur'!$A8,Planning!$3:$3))","v":"X"},{"$f":"VLOOKUP(DW8,Horaires!$A$3:$E$49,2,)","v":"XXX"},{"$f":"IF(DX8=\"vacances\",INDEX(Horaires!$H$3:$L$42,MATCH('Solde d''heure collaborateur'!DX$2,Horaires!$H$3:$H$40,0),4),IF(DX8=\"maladie\",INDEX(Horaires!$H$3:$L$42,MATCH('Solde d''heure collaborateur'!DX$2,Horaires!$H$3:$H$40,0),5),VLOOKUP(DW8,Horaires!$A$3:$E$60,5,)))","v":0}]
[{"$f":"A8+1","v":"2013-11-09"},null,{"$f":"INDEX(Planning!$4:$4,MATCH('Solde d''heure collaborateur'!A9,Planning!$3:$3,0))","v":"Nav3"},{"$f":"VLOOKUP(C9,Horaires!$A$3:$E$49,2,)","v":"Navigation"},{"$f":"IF(D9=\"vacances\",INDEX(Horaires!$H$3:$L$42,MATCH('Solde d''heure collaborateur'!D$2,Horaires!$H$3:$H$40,0),4),IF(D9=\"maladie\",INDEX(Horaires!$H$3:$L$42,MATCH('Solde d''heure collaborateur'!D$2,Horaires!$H$3:$H$40,0),5),VLOOKUP(C9,Horaires!$A$3:$E$60,5,)))","v":0.40624999999999994},null,{"$f":"INDEX(Planning!$5:$5,MATCH('Solde d''heure collaborateur'!A9,Planning!$3:$3))","v":"R"},{"$f":"VLOOKUP(G9,Horaires!$A$3:$E$49,2,)","v":"Congé"},{"$f":"IF(H9=\"vacances\",INDEX(Horaires!$H$3:$L$42,MATCH('Solde d''heure collaborateur'!H$2,Horaires!$H$3:$H$40,0),4),IF(H9=\"maladie\",INDEX(Horaires!$H$3:$L$42,MATCH('Solde d''heure collaborateur'!H$2,Horaires!$H$3:$H$40,0),5),VLOOKUP(G9,Horaires!$A$3:$E$60,5,)))","v":0},null,{"$f":"INDEX(Planning!$6:$6,MATCH('Solde d''heure collaborateur'!A9,Planning!$3:$3))","v":"R"},{"$f":"VLOOKUP(K9,Horaires!$A$3:$E$49,2,)","v":"Congé"},{"$f":"IF(L9=\"vacances\",INDEX(Horaires!$H$3:$L$42,MATCH('Solde d''heure collaborateur'!L$2,Horaires!$H$3:$H$40,0),4),IF(L9=\"maladie\",INDEX(Horaires!$H$3:$L$42,MATCH('Solde d''heure collaborateur'!L$2,Horaires!$H$3:$H$40,0),5),VLOOKUP(K9,Horaires!$A$3:$E$60,5,)))","v":0},null,{"$f":"INDEX(Planning!$7:$7,MATCH('Solde d''heure collaborateur'!$A9,Planning!$3:$3))","v":"X"},{"$f":"VLOOKUP(O9,Horaires!$A$3:$E$49,2,)","v":"XXX"},{"$f":"IF(P9=\"vacances\",INDEX(Horaires!$H$3:$L$42,MATCH('Solde d''heure collaborateur'!P$2,Horaires!$H$3:$H$40,0),4),IF(P9=\"maladie\",INDEX(Horaires!$H$3:$L$42,MATCH('Solde d''heure collaborateur'!P$2,Horaires!$H$3:$H$40,0),5),VLOOKUP(O9,Horaires!$A$3:$E$60,5,)))","v":0},null,{"$f":"INDEX(Planning!$8:$8,MATCH('Solde d''heure collaborateur'!$A9,Planning!$3:$3))","v":"R"},{"$f":"VLOOKUP(S9,Horaires!$A$3:$E$49,2,)","v":"Congé"},{"$f":"IF(T9=\"vacances\",INDEX(Horaires!$H$3:$L$42,MATCH('Solde d''heure collaborateur'!T$2,Horaires!$H$3:$H$40,0),4),IF(T9=\"maladie\",INDEX(Horaires!$H$3:$L$42,MATCH('Solde d''heure collaborateur'!T$2,Horaires!$H$3:$H$40,0),5),VLOOKUP(S9,Horaires!$A$3:$E$60,5,)))","v":0},null,{"$f":"INDEX(Planning!$9:$9,MATCH('Solde d''heure collaborateur'!$A9,Planning!$3:$3))","v":"X"},{"$f":"VLOOKUP(W9,Horaires!$A$3:$E$49,2,)","v":"XXX"},{"$f":"IF(X9=\"vacances\",INDEX(Horaires!$H$3:$L$42,MATCH('Solde d''heure collaborateur'!X$2,Horaires!$H$3:$H$40,0),4),IF(X9=\"maladie\",INDEX(Horaires!$H$3:$L$42,MATCH('Solde d''heure collaborateur'!X$2,Horaires!$H$3:$H$40,0),5),VLOOKUP(W9,Horaires!$A$3:$E$60,5,)))","v":0},null,{"$f":"INDEX(Planning!$10:$10,MATCH('Solde d''heure collaborateur'!$A9,Planning!$3:$3))","v":"Onex3"},{"$f":"VLOOKUP(AA9,Horaires!$A$3:$E$49,2,)","v":"Onex"},{"$f":"IF(AB9=\"vacances\",INDEX(Horaires!$H$3:$L$42,MATCH('Solde d''heure collaborateur'!AB$2,Horaires!$H$3:$H$40,0),4),IF(AB9=\"maladie\",INDEX(Horaires!$H$3:$L$42,MATCH('Solde d''heure collaborateur'!AB$2,Horaires!$H$3:$H$40,0),5),VLOOKUP(AA9,Horaires!$A$3:$E$60,5,)))","v":0.42708333333333331},null,{"$f":"INDEX(Planning!$11:$11,MATCH('Solde d''heure collaborateur'!$A9,Planning!$3:$3))","v":"Plo3"},{"$f":"VLOOKUP(AE9,Horaires!$A$3:$E$49,2,)","v":"Plan les Ouates"},{"$f":"IF(AF9=\"vacances\",INDEX(Horaires!$H$3:$L$42,MATCH('Solde d''heure collaborateur'!AF$2,Horaires!$H$3:$H$40,0),4),IF(AF9=\"maladie\",INDEX(Horaires!$H$3:$L$42,MATCH('Solde d''heure collaborateur'!AF$2,Horaires!$H$3:$H$40,0),5),VLOOKUP(AE9,Horaires!$A$3:$E$60,5,)))","v":0.42708333333333331},null,{"$f":"INDEX(Planning!$12:$12,MATCH('Solde d''heure collaborateur'!$A9,Planning!$3:$3))","v":"Thon3"},{"$f":"VLOOKUP(AI9,Horaires!$A$3:$E$49,2,)","v":"Thonex"},{"$f":"IF(AJ9=\"vacances\",INDEX(Horaires!$H$3:$L$42,MATCH('Solde d''heure collaborateur'!AJ$2,Horaires!$H$3:$H$40,0),4),IF(AJ9=\"maladie\",INDEX(Horaires!$H$3:$L$42,MATCH('Solde d''heure collaborateur'!AJ$2,Horaires!$H$3:$H$40,0),5),VLOOKUP(AI9,Horaires!$A$3:$E$60,5,)))","v":0.40624999999999994},null,{"$f":"INDEX(Planning!$13:$13,MATCH('Solde d''heure collaborateur'!$A9,Planning!$3:$3))","v":"R"},{"$f":"VLOOKUP(AM9,Horaires!$A$3:$E$49,2,)","v":"Congé"},{"$f":"IF(AN9=\"vacances\",INDEX(Horaires!$H$3:$L$42,MATCH('Solde d''heure collaborateur'!AN$2,Horaires!$H$3:$H$40,0),4),IF(AN9=\"maladie\",INDEX(Horaires!$H$3:$L$42,MATCH('Solde d''heure collaborateur'!AN$2,Horaires!$H$3:$H$40,0),5),VLOOKUP(AM9,Horaires!$A$3:$E$60,5,)))","v":0},null,{"$f":"INDEX(Planning!$14:$14,MATCH('Solde d''heure collaborateur'!$A9,Planning!$3:$3))","v":"M"},{"$f":"VLOOKUP(AQ9,Horaires!$A$3:$E$49,2,)","v":"Maladie"},{"$f":"IF(AR9=\"vacances\",INDEX(Horaires!$H$3:$L$42,MATCH('Solde d''heure collaborateur'!AR$2,Horaires!$H$3:$H$40,0),4),IF(AR9=\"maladie\",INDEX(Horaires!$H$3:$L$42,MATCH('Solde d''heure collaborateur'!AR$2,Horaires!$H$3:$H$40,0),5),VLOOKUP(AQ9,Horaires!$A$3:$E$60,5,)))","v":0.46180555555555558},null,{"$f":"INDEX(Planning!$15:$15,MATCH('Solde d''heure collaborateur'!$A9,Planning!$3:$3))","v":"pom3"},{"$f":"VLOOKUP(AU9,Horaires!$A$3:$E$49,2,)","v":"Pommier"},{"$f":"IF(AV9=\"vacances\",INDEX(Horaires!$H$3:$L$42,MATCH('Solde d''heure collaborateur'!AV$2,Horaires!$H$3:$H$40,0),4),IF(AV9=\"maladie\",INDEX(Horaires!$H$3:$L$42,MATCH('Solde d''heure collaborateur'!AV$2,Horaires!$H$3:$H$40,0),5),VLOOKUP(AU9,Horaires!$A$3:$E$60,5,)))","v":0.42708333333333331},null,{"$f":"INDEX(Planning!$16:$16,MATCH('Solde d''heure collaborateur'!$A9,Planning!$3:$3))","v":"Nyon2"},{"$f":"VLOOKUP(AY9,Horaires!$A$3:$E$49,2,)","v":"Nyon"},{"$f":"IF(AZ9=\"vacances\",INDEX(Horaires!$H$3:$L$42,MATCH('Solde d''heure collaborateur'!AZ$2,Horaires!$H$3:$H$40,0),4),IF(AZ9=\"maladie\",INDEX(Horaires!$H$3:$L$42,MATCH('Solde d''heure collaborateur'!AZ$2,Horaires!$H$3:$H$40,0),5),VLOOKUP(AY9,Horaires!$A$3:$E$60,5,)))","v":0.40624999999999994},null,{"$f":"INDEX(Planning!$17:$17,MATCH('Solde d''heure collaborateur'!$A9,Planning!$3:$3))","v":"R"},{"$f":"VLOOKUP(BC9,Horaires!$A$3:$E$49,2,)","v":"Congé"},{"$f":"IF(BD9=\"vacances\",INDEX(Horaires!$H$3:$L$42,MATCH('Solde d''heure collaborateur'!BD$2,Horaires!$H$3:$H$40,0),4),IF(BD9=\"maladie\",INDEX(Horaires!$H$3:$L$42,MATCH('Solde d''heure collaborateur'!BD$2,Horaires!$H$3:$H$40,0),5),VLOOKUP(BC9,Horaires!$A$3:$E$60,5,)))","v":0},null,{"$f":"INDEX(Planning!$18:$18,MATCH('Solde d''heure collaborateur'!$A9,Planning!$3:$3))","v":"Vib3"},{"$f":"VLOOKUP(BG9,Horaires!$A$3:$E$49,2,)","v":"Vibert"},{"$f":"IF(BH9=\"vacances\",INDEX(Horaires!$H$3:$L$42,MATCH('Solde d''heure collaborateur'!BH$2,Horaires!$H$3:$H$40,0),4),IF(BH9=\"maladie\",INDEX(Horaires!$H$3:$L$42,MATCH('Solde d''heure collaborateur'!BH$2,Horaires!$H$3:$H$40,0),5),VLOOKUP(BG9,Horaires!$A$3:$E$60,5,)))","v":0.42708333333333331},null,{"$f":"INDEX(Planning!$19:$19,MATCH('Solde d''heure collaborateur'!$A9,Planning!$3:$3))","v":"Vib3"},{"$f":"VLOOKUP(BK9,Horaires!$A$3:$E$49,2,)","v":"Vibert"},{"$f":"IF(BL9=\"vacances\",INDEX(Horaires!$H$3:$L$42,MATCH('Solde d''heure collaborateur'!BL$2,Horaires!$H$3:$H$40,0),4),IF(BL9=\"maladie\",INDEX(Horaires!$H$3:$L$42,MATCH('Solde d''heure collaborateur'!BL$2,Horaires!$H$3:$H$40,0),5),VLOOKUP(BK9,Horaires!$A$3:$E$60,5,)))","v":0.42708333333333331},null,{"$f":"INDEX(Planning!$20:$20,MATCH('Solde d''heure collaborateur'!$A9,Planning!$3:$3))","v":"Aca3"},{"$f":"VLOOKUP(BO9,Horaires!$A$3:$E$49,2,)","v":"Acacias"},{"$f":"IF(BP9=\"vacances\",INDEX(Horaires!$H$3:$L$42,MATCH('Solde d''heure collaborateur'!BP$2,Horaires!$H$3:$H$40,0),4),IF(BP9=\"maladie\",INDEX(Horaires!$H$3:$L$42,MATCH('Solde d''heure collaborateur'!BP$2,Horaires!$H$3:$H$40,0),5),VLOOKUP(BO9,Horaires!$A$3:$E$60,5,)))","v":0.40624999999999994},null,{"$f":"INDEX(Planning!$21:$21,MATCH('Solde d''heure collaborateur'!$A9,Planning!$3:$3))","v":"R"},{"$f":"VLOOKUP(BS9,Horaires!$A$3:$E$49,2,)","v":"Congé"},{"$f":"IF(BT9=\"vacances\",INDEX(Horaires!$H$3:$L$42,MATCH('Solde d''heure collaborateur'!BT$2,Horaires!$H$3:$H$40,0),4),IF(BT9=\"maladie\",INDEX(Horaires!$H$3:$L$42,MATCH('Solde d''heure collaborateur'!BT$2,Horaires!$H$3:$H$40,0),5),VLOOKUP(BS9,Horaires!$A$3:$E$60,5,)))","v":0},null,{"$f":"INDEX(Planning!$22:$22,MATCH('Solde d''heure collaborateur'!$A9,Planning!$3:$3))","v":"X"},{"$f":"VLOOKUP(BW9,Horaires!$A$3:$E$49,2,)","v":"XXX"},{"$f":"IF(BX9=\"vacances\",INDEX(Horaires!$H$3:$L$42,MATCH('Solde d''heure collaborateur'!BX$2,Horaires!$H$3:$H$40,0),4),IF(BX9=\"maladie\",INDEX(Horaires!$H$3:$L$42,MATCH('Solde d''heure collaborateur'!BX$2,Horaires!$H$3:$H$40,0),5),VLOOKUP(BW9,Horaires!$A$3:$E$60,5,)))","v":0},null,{"$f":"INDEX(Planning!$23:$23,MATCH('Solde d''heure collaborateur'!$A9,Planning!$3:$3))","v":"R"},{"$f":"VLOOKUP(CA9,Horaires!$A$3:$E$49,2,)","v":"Congé"},{"$f":"IF(CB9=\"vacances\",INDEX(Horaires!$H$3:$L$42,MATCH('Solde d''heure collaborateur'!CB$2,Horaires!$H$3:$H$40,0),4),IF(CB9=\"maladie\",INDEX(Horaires!$H$3:$L$42,MATCH('Solde d''heure collaborateur'!CB$2,Horaires!$H$3:$H$40,0),5),VLOOKUP(CA9,Horaires!$A$3:$E$60,5,)))","v":0},null,{"$f":"INDEX(Planning!$24:$24,MATCH('Solde d''heure collaborateur'!$A9,Planning!$3:$3))","v":"Onex3"},{"$f":"VLOOKUP(CE9,Horaires!$A$3:$E$49,2,)","v":"Onex"},{"$f":"IF(CF9=\"vacances\",INDEX(Horaires!$H$3:$L$42,MATCH('Solde d''heure collaborateur'!CF$2,Horaires!$H$3:$H$40,0),4),IF(CF9=\"maladie\",INDEX(Horaires!$H$3:$L$42,MATCH('Solde d''heure collaborateur'!CF$2,Horaires!$H$3:$H$40,0),5),VLOOKUP(CE9,Horaires!$A$3:$E$60,5,)))","v":0.42708333333333331},null,{"$f":"INDEX(Planning!$25:$25,MATCH('Solde d''heure collaborateur'!$A9,Planning!$3:$3))","v":"X"},{"$f":"VLOOKUP(CI9,Horaires!$A$3:$E$49,2,)","v":"XXX"},{"$f":"IF(CJ9=\"vacances\",INDEX(Horaires!$H$3:$L$42,MATCH('Solde d''heure collaborateur'!CJ$2,Horaires!$H$3:$H$40,0),4),IF(CJ9=\"maladie\",INDEX(Horaires!$H$3:$L$42,MATCH('Solde d''heure collaborateur'!CJ$2,Horaires!$H$3:$H$40,0),5),VLOOKUP(CI9,Horaires!$A$3:$E$60,5,)))","v":0},null,{"$f":"INDEX(Planning!$26:$26,MATCH('Solde d''heure collaborateur'!$A9,Planning!$3:$3))","v":"Vid3"},{"$f":"VLOOKUP(CM9,Horaires!$A$3:$E$49,2,)","v":"Vidollet"},{"$f":"IF(CN9=\"vacances\",INDEX(Horaires!$H$3:$L$42,MATCH('Solde d''heure collaborateur'!CN$2,Horaires!$H$3:$H$40,0),4),IF(CN9=\"maladie\",INDEX(Horaires!$H$3:$L$42,MATCH('Solde d''heure collaborateur'!CN$2,Horaires!$H$3:$H$40,0),5),VLOOKUP(CM9,Horaires!$A$3:$E$60,5,)))","v":0.40624999999999994},null,{"$f":"INDEX(Planning!$27:$27,MATCH('Solde d''heure collaborateur'!$A9,Planning!$3:$3))","v":"Ves3"},{"$f":"VLOOKUP(CQ9,Horaires!$A$3:$E$49,2,)","v":"Vesenaz"},{"$f":"IF(CR9=\"vacances\",INDEX(Horaires!$H$3:$L$42,MATCH('Solde d''heure collaborateur'!CR$2,Horaires!$H$3:$H$40,0),4),IF(CR9=\"maladie\",INDEX(Horaires!$H$3:$L$42,MATCH('Solde d''heure collaborateur'!CR$2,Horaires!$H$3:$H$40,0),5),VLOOKUP(CQ9,Horaires!$A$3:$E$60,5,)))","v":0.40624999999999994},null,{"$f":"INDEX(Planning!$28:$28,MATCH('Solde d''heure collaborateur'!$A9,Planning!$3:$3))","v":"tour3"},{"$f":"VLOOKUP(CU9,Horaires!$A$3:$E$49,2,)","v":"Tourelle"},{"$f":"IF(CV9=\"vacances\",INDEX(Horaires!$H$3:$L$42,MATCH('Solde d''heure collaborateur'!CV$2,Horaires!$H$3:$H$40,0),4),IF(CV9=\"maladie\",INDEX(Horaires!$H$3:$L$42,MATCH('Solde d''heure collaborateur'!CV$2,Horaires!$H$3:$H$40,0),5),VLOOKUP(CU9,Horaires!$A$3:$E$60,5,)))","v":0.42708333333333331},null,{"$f":"INDEX(Planning!$29:$29,MATCH('Solde d''heure collaborateur'!$A9,Planning!$3:$3))","v":"Nav3"},{"$f":"VLOOKUP(CY9,Horaires!$A$3:$E$49,2,)","v":"Navigation"},{"$f":"IF(CZ9=\"vacances\",INDEX(Horaires!$H$3:$L$42,MATCH('Solde d''heure collaborateur'!CZ$2,Horaires!$H$3:$H$40,0),4),IF(CZ9=\"maladie\",INDEX(Horaires!$H$3:$L$42,MATCH('Solde d''heure collaborateur'!CZ$2,Horaires!$H$3:$H$40,0),5),VLOOKUP(CY9,Horaires!$A$3:$E$60,5,)))","v":0.40624999999999994},null,{"$f":"INDEX(Planning!$30:$30,MATCH('Solde d''heure collaborateur'!$A9,Planning!$3:$3))","v":"X"},{"$f":"VLOOKUP(DC9,Horaires!$A$3:$E$49,2,)","v":"XXX"},{"$f":"IF(DD9=\"vacances\",INDEX(Horaires!$H$3:$L$42,MATCH('Solde d''heure collaborateur'!DD$2,Horaires!$H$3:$H$40,0),4),IF(DD9=\"maladie\",INDEX(Horaires!$H$3:$L$42,MATCH('Solde d''heure collaborateur'!DD$2,Horaires!$H$3:$H$40,0),5),VLOOKUP(DC9,Horaires!$A$3:$E$60,5,)))","v":0},null,{"$f":"INDEX(Planning!$31:$31,MATCH('Solde d''heure collaborateur'!$A9,Planning!$3:$3))","v":"X"},{"$f":"VLOOKUP(DG9,Horaires!$A$3:$E$49,2,)","v":"XXX"},{"$f":"IF(DH9=\"vacances\",INDEX(Horaires!$H$3:$L$42,MATCH('Solde d''heure collaborateur'!DH$2,Horaires!$H$3:$H$40,0),4),IF(DH9=\"maladie\",INDEX(Horaires!$H$3:$L$42,MATCH('Solde d''heure collaborateur'!DH$2,Horaires!$H$3:$H$40,0),5),VLOOKUP(DG9,Horaires!$A$3:$E$60,5,)))","v":0},null,{"$f":"INDEX(Planning!$32:$32,MATCH('Solde d''heure collaborateur'!$A9,Planning!$3:$3))","v":"X"},{"$f":"VLOOKUP(DK9,Horaires!$A$3:$E$49,2,)","v":"XXX"},{"$f":"IF(DL9=\"vacances\",INDEX(Horaires!$H$3:$L$42,MATCH('Solde d''heure collaborateur'!DL$2,Horaires!$H$3:$H$40,0),4),IF(DL9=\"maladie\",INDEX(Horaires!$H$3:$L$42,MATCH('Solde d''heure collaborateur'!DL$2,Horaires!$H$3:$H$40,0),5),VLOOKUP(DK9,Horaires!$A$3:$E$60,5,)))","v":0},null,{"$f":"INDEX(Planning!$33:$33,MATCH('Solde d''heure collaborateur'!$A9,Planning!$3:$3))","v":"X"},{"$f":"VLOOKUP(DO9,Horaires!$A$3:$E$49,2,)","v":"XXX"},{"$f":"IF(DP9=\"vacances\",INDEX(Horaires!$H$3:$L$42,MATCH('Solde d''heure collaborateur'!DP$2,Horaires!$H$3:$H$40,0),4),IF(DP9=\"maladie\",INDEX(Horaires!$H$3:$L$42,MATCH('Solde d''heure collaborateur'!DP$2,Horaires!$H$3:$H$40,0),5),VLOOKUP(DO9,Horaires!$A$3:$E$60,5,)))","v":0},null,{"$f":"INDEX(Planning!$34:$34,MATCH('Solde d''heure collaborateur'!$A9,Planning!$3:$3))","v":"X"},{"$f":"VLOOKUP(DS9,Horaires!$A$3:$E$49,2,)","v":"XXX"},{"$f":"IF(DT9=\"vacances\",INDEX(Horaires!$H$3:$L$42,MATCH('Solde d''heure collaborateur'!DT$2,Horaires!$H$3:$H$40,0),4),IF(DT9=\"maladie\",INDEX(Horaires!$H$3:$L$42,MATCH('Solde d''heure collaborateur'!DT$2,Horaires!$H$3:$H$40,0),5),VLOOKUP(DS9,Horaires!$A$3:$E$60,5,)))","v":0},null,{"$f":"INDEX(Planning!$35:$35,MATCH('Solde d''heure collaborateur'!$A9,Planning!$3:$3))","v":"X"},{"$f":"VLOOKUP(DW9,Horaires!$A$3:$E$49,2,)","v":"XXX"},{"$f":"IF(DX9=\"vacances\",INDEX(Horaires!$H$3:$L$42,MATCH('Solde d''heure collaborateur'!DX$2,Horaires!$H$3:$H$40,0),4),IF(DX9=\"maladie\",INDEX(Horaires!$H$3:$L$42,MATCH('Solde d''heure collaborateur'!DX$2,Horaires!$H$3:$H$40,0),5),VLOOKUP(DW9,Horaires!$A$3:$E$60,5,)))","v":0}]
[null,null,null,{"$f":"SUM(E10-INDEX(Horaires!$H$3:$L$37,MATCH('Solde d''heure collaborateur'!D$2,Horaires!$H$3:$H$37,0),2))","v":1},{"$f":"SUM(E4:E9)*24","v":43},null,null,{"$f":"SUM(I10-INDEX(Horaires!$H$3:$L$37,MATCH('Solde d''heure collaborateur'!H$2,Horaires!$H$3:$H$37,0),2))","v":-8.3999999999999986},{"$f":"SUM(I4:I9)*24","v":33.6},null,null,{"$f":"SUM(M10-INDEX(Horaires!$H$3:$L$37,MATCH('Solde d''heure collaborateur'!L$2,Horaires!$H$3:$H$37,0),2))","v":0},{"$f":"SUM(M4:M9)*24","v":42},null,null,{"$f":"SUM(Q10-INDEX(Horaires!$H$3:$L$37,MATCH('Solde d''heure collaborateur'!P$2,Horaires!$H$3:$H$37,0),2))","v":3.5527136788005009E-15},{"$f":"SUM(Q4:Q9)*24","v":22.500000000000004},null,null,{"$f":"SUM(U10-INDEX(Horaires!$H$3:$L$37,MATCH('Solde d''heure collaborateur'!T$2,Horaires!$H$3:$H$37,0),2))","v":3.5},{"$f":"SUM(U4:U9)*24","v":45.5},null,null,{"$f":"SUM(Y10-INDEX(Horaires!$H$3:$L$37,MATCH('Solde d''heure collaborateur'!X$2,Horaires!$H$3:$H$37,0),2))","v":{"$error":"#N/A"}},{"$f":"SUM(Y4:Y9)*24","v":{"$error":"#N/A"}},null,null,{"$f":"SUM(AC10-INDEX(Horaires!$H$3:$L$37,MATCH('Solde d''heure collaborateur'!AB$2,Horaires!$H$3:$H$37,0),2))","v":2},{"$f":"SUM(AC4:AC9)*24","v":44},null,null,{"$f":"SUM(AG10-INDEX(Horaires!$H$3:$L$37,MATCH('Solde d''heure collaborateur'!AF$2,Horaires!$H$3:$H$37,0),2))","v":2.5},{"$f":"SUM(AG4:AG9)*24","v":44.5},null,null,{"$f":"SUM(AK10-INDEX(Horaires!$H$3:$L$37,MATCH('Solde d''heure collaborateur'!AJ$2,Horaires!$H$3:$H$37,0),2))","v":0.5},{"$f":"SUM(AK4:AK9)*24","v":42.5},null,null,{"$f":"SUM(AO10-INDEX(Horaires!$H$3:$L$37,MATCH('Solde d''heure collaborateur'!AN$2,Horaires!$H$3:$H$37,0),2))","v":1},{"$f":"SUM(AO4:AO9)*24","v":43},null,null,{"$f":"SUM(AS10-INDEX(Horaires!$H$3:$L$37,MATCH('Solde d''heure collaborateur'!AR$2,Horaires!$H$3:$H$37,0),2))","v":0},{"$f":"SUM(AS4:AS9)*24","v":33.25},null,null,{"$f":"SUM(AW10-INDEX(Horaires!$H$3:$L$37,MATCH('Solde d''heure collaborateur'!AV$2,Horaires!$H$3:$H$37,0),2))","v":-10.25},{"$f":"SUM(AW4:AW9)*24","v":31.75},null,null,{"$f":"SUM(BA10-INDEX(Horaires!$H$3:$L$37,MATCH('Solde d''heure collaborateur'!AZ$2,Horaires!$H$3:$H$37,0),2))","v":12.25},{"$f":"SUM(BA4:BA9)*24","v":54.25},null,null,{"$f":"SUM(BE10-INDEX(Horaires!$H$3:$L$37,MATCH('Solde d''heure collaborateur'!BD$2,Horaires!$H$3:$H$37,0),2))","v":2},{"$f":"SUM(BE4:BE9)*24","v":44},null,null,{"$f":"SUM(BI10-INDEX(Horaires!$H$3:$L$37,MATCH('Solde d''heure collaborateur'!BH$2,Horaires!$H$3:$H$37,0),2))","v":12.25},{"$f":"SUM(BI4:BI9)*24","v":54.25},null,null,{"$f":"SUM(BM10-INDEX(Horaires!$H$3:$L$37,MATCH('Solde d''heure collaborateur'!BL$2,Horaires!$H$3:$H$37,0),2))","v":2.25},{"$f":"SUM(BM4:BM9)*24","v":44.25},null,null,{"$f":"SUM(BQ10-INDEX(Horaires!$H$3:$L$37,MATCH('Solde d''heure collaborateur'!BP$2,Horaires!$H$3:$H$37,0),2))","v":1},{"$f":"SUM(BQ4:BQ9)*24","v":43},null,null,{"$f":"SUM(BU10-INDEX(Horaires!$H$3:$L$37,MATCH('Solde d''heure collaborateur'!BT$2,Horaires!$H$3:$H$37,0),2))","v":2.5},{"$f":"SUM(BU4:BU9)*24","v":44.5},null,null,{"$f":"SUM(BY10-INDEX(Horaires!$H$3:$L$37,MATCH('Solde d''heure collaborateur'!BX$2,Horaires!$H$3:$H$37,0),2))","v":0},{"$f":"SUM(BY4:BY9)*24","v":21.5},null,null,{"$f":"SUM(CC10-INDEX(Horaires!$H$3:$L$37,MATCH('Solde d''heure collaborateur'!CB$2,Horaires!$H$3:$H$37,0),2))","v":2.5},{"$f":"SUM(CC4:CC9)*24","v":44.5},null,null,{"$f":"SUM(CG10-INDEX(Horaires!$H$3:$L$37,MATCH('Solde d''heure collaborateur'!CF$2,Horaires!$H$3:$H$37,0),2))","v":1.5},{"$f":"SUM(CG4:CG9)*24","v":43.5},null,null,{"$f":"SUM(CK10-INDEX(Horaires!$H$3:$L$37,MATCH('Solde d''heure collaborateur'!CJ$2,Horaires!$H$3:$H$37,0),2))","v":-42},{"$f":"SUM(CK4:CK9)*24","v":0},null,null,{"$f":"SUM(CO10-INDEX(Horaires!$H$3:$L$37,MATCH('Solde d''heure collaborateur'!CN$2,Horaires!$H$3:$H$37,0),2))","v":1},{"$f":"SUM(CO4:CO9)*24","v":43},null,null,{"$f":"SUM(CS10-INDEX(Horaires!$H$3:$L$37,MATCH('Solde d''heure collaborateur'!CR$2,Horaires!$H$3:$H$37,0),2))","v":1},{"$f":"SUM(CS4:CS9)*24","v":43},null,null,{"$f":"SUM(CW10-INDEX(Horaires!$H$3:$L$37,MATCH('Solde d''heure collaborateur'!CV$2,Horaires!$H$3:$H$37,0),2))","v":2.5},{"$f":"SUM(CW4:CW9)*24","v":44.5},null,null,{"$f":"SUM(DA10-INDEX(Horaires!$H$3:$L$37,MATCH('Solde d''heure collaborateur'!CZ$2,Horaires!$H$3:$H$37,0),2))","v":32.25},{"$f":"SUM(DA4:DA9)*24","v":32.25},null,null,{"$f":"SUM(DE10-INDEX(Horaires!$H$3:$L$37,MATCH('Solde d''heure collaborateur'!DD$2,Horaires!$H$3:$H$37,0),2))","v":{"$error":"#N/A"}},{"$f":"SUM(DE4:DE9)*24","v":0},null,null,{"$f":"SUM(DI10-INDEX(Horaires!$H$3:$L$37,MATCH('Solde d''heure collaborateur'!DH$2,Horaires!$H$3:$H$37,0),2))","v":0},{"$f":"SUM(DI4:DI9)*24","v":0},null,null,{"$f":"SUM(DM10-INDEX(Horaires!$H$3:$L$37,MATCH('Solde d''heure collaborateur'!DL$2,Horaires!$H$3:$H$37,0),2))","v":0},{"$f":"SUM(DM4:DM9)*24","v":0},null,null,{"$f":"SUM(DQ10-INDEX(Horaires!$H$3:$L$37,MATCH('Solde d''heure collaborateur'!DP$2,Horaires!$H$3:$H$37,0),2))","v":0},{"$f":"SUM(DQ4:DQ9)*24","v":0},null,null,{"$f":"SUM(DU10-INDEX(Horaires!$H$3:$L$37,MATCH('Solde d''heure collaborateur'!DT$2,Horaires!$H$3:$H$37,0),2))","v":0},{"$f":"SUM(DU4:DU9)*24","v":0},null,null,{"$f":"SUM(DY10-INDEX(Horaires!$H$3:$L$37,MATCH('Solde d''heure collaborateur'!DX$2,Horaires!$H$3:$H$37,0),2))","v":0},{"$f":"SUM(DY4:DY9)*24","v":0}]
[]
[{"$f":"A9+2","v":"2013-11-11"},null,{"$f":"INDEX(Planning!$4:$4,MATCH('Solde d''heure collaborateur'!A12,Planning!$3:$3,0))","v":"nav1"},{"$f":"VLOOKUP(C12,Horaires!$A$3:$E$49,2,)","v":"Navigation"},{"$f":"IF(D12=\"vacances\",INDEX(Horaires!$H$3:$L$42,MATCH('Solde d''heure collaborateur'!D$2,Horaires!$H$3:$H$40,0),4),IF(D12=\"maladie\",INDEX(Horaires!$H$3:$L$42,MATCH('Solde d''heure collaborateur'!D$2,Horaires!$H$3:$H$40,0),5),VLOOKUP(C12,Horaires!$A$3:$E$60,5,)))","v":0.44791666666666669},null,{"$f":"INDEX(Planning!$5:$5,MATCH('Solde d''heure collaborateur'!A12,Planning!$3:$3))","v":"R"},{"$f":"VLOOKUP(G12,Horaires!$A$3:$E$49,2,)","v":"Congé"},{"$f":"IF(H12=\"vacances\",INDEX(Horaires!$H$3:$L$42,MATCH('Solde d''heure collaborateur'!H$2,Horaires!$H$3:$H$40,0),4),IF(H12=\"maladie\",INDEX(Horaires!$H$3:$L$42,MATCH('Solde d''heure collaborateur'!H$2,Horaires!$H$3:$H$40,0),5),VLOOKUP(G12,Horaires!$A$3:$E$60,5,)))","v":0},null,{"$f":"INDEX(Planning!$6:$6,MATCH('Solde d''heure collaborateur'!A12,Planning!$3:$3))","v":"M"},{"$f":"VLOOKUP(K12,Horaires!$A$3:$E$49,2,)","v":"Maladie"},{"$f":"IF(L12=\"vacances\",INDEX(Horaires!$H$3:$L$42,MATCH('Solde d''heure collaborateur'!L$2,Horaires!$H$3:$H$40,0),4),IF(L12=\"maladie\",INDEX(Horaires!$H$3:$L$42,MATCH('Solde d''heure collaborateur'!L$2,Horaires!$H$3:$H$40,0),5),VLOOKUP(K12,Horaires!$A$3:$E$60,5,)))","v":0.4375},null,{"$f":"INDEX(Planning!$7:$7,MATCH('Solde d''heure collaborateur'!$A12,Planning!$3:$3))","v":"vib1"},{"$f":"VLOOKUP(O12,Horaires!$A$3:$E$49,2,)","v":"Vibert"},{"$f":"IF(P12=\"vacances\",INDEX(Horaires!$H$3:$L$42,MATCH('Solde d''heure collaborateur'!P$2,Horaires!$H$3:$H$40,0),4),IF(P12=\"maladie\",INDEX(Horaires!$H$3:$L$42,MATCH('Solde d''heure collaborateur'!P$2,Horaires!$H$3:$H$40,0),5),VLOOKUP(O12,Horaires!$A$3:$E$60,5,)))","v":0.46875000000000006},null,{"$f":"INDEX(Planning!$8:$8,MATCH('Solde d''heure collaborateur'!$A12,Planning!$3:$3))","v":"onex1"},{"$f":"VLOOKUP(S12,Horaires!$A$3:$E$49,2,)","v":"Onex"},{"$f":"IF(T12=\"vacances\",INDEX(Horaires!$H$3:$L$42,MATCH('Solde d''heure collaborateur'!T$2,Horaires!$H$3:$H$40,0),4),IF(T12=\"maladie\",INDEX(Horaires!$H$3:$L$42,MATCH('Solde d''heure collaborateur'!T$2,Horaires!$H$3:$H$40,0),5),VLOOKUP(S12,Horaires!$A$3:$E$60,5,)))","v":0.46875000000000006},null,{"$f":"INDEX(Planning!$9:$9,MATCH('Solde d''heure collaborateur'!$A12,Planning!$3:$3))","v":"onex1"},{"$f":"VLOOKUP(W12,Horaires!$A$3:$E$49,2,)","v":"Onex"},{"$f":"IF(X12=\"vacances\",INDEX(Horaires!$H$3:$L$42,MATCH('Solde d''heure collaborateur'!X$2,Horaires!$H$3:$H$40,0),4),IF(X12=\"maladie\",INDEX(Horaires!$H$3:$L$42,MATCH('Solde d''heure collaborateur'!X$2,Horaires!$H$3:$H$40,0),5),VLOOKUP(W12,Horaires!$A$3:$E$60,5,)))","v":0.46875000000000006},null,{"$f":"INDEX(Planning!$10:$10,MATCH('Solde d''heure collaborateur'!$A12,Planning!$3:$3))","v":"R"},{"$f":"VLOOKUP(AA12,Horaires!$A$3:$E$49,2,)","v":"Congé"},{"$f":"IF(AB12=\"vacances\",INDEX(Horaires!$H$3:$L$42,MATCH('Solde d''heure collaborateur'!AB$2,Horaires!$H$3:$H$40,0),4),IF(AB12=\"maladie\",INDEX(Horaires!$H$3:$L$42,MATCH('Solde d''heure collaborateur'!AB$2,Horaires!$H$3:$H$40,0),5),VLOOKUP(AA12,Horaires!$A$3:$E$60,5,)))","v":0},null,{"$f":"INDEX(Planning!$11:$11,MATCH('Solde d''heure collaborateur'!$A12,Planning!$3:$3))","v":"V"},{"$f":"VLOOKUP(AE12,Horaires!$A$3:$E$49,2,)","v":"Vacances"},{"$f":"IF(AF12=\"vacances\",INDEX(Horaires!$H$3:$L$42,MATCH('Solde d''heure collaborateur'!AF$2,Horaires!$H$3:$H$40,0),4),IF(AF12=\"maladie\",INDEX(Horaires!$H$3:$L$42,MATCH('Solde d''heure collaborateur'!AF$2,Horaires!$H$3:$H$40,0),5),VLOOKUP(AE12,Horaires!$A$3:$E$60,5,)))","v":0.35000000000000003},null,{"$f":"INDEX(Planning!$12:$12,MATCH('Solde d''heure collaborateur'!$A12,Planning!$3:$3))","v":"thon1"},{"$f":"VLOOKUP(AI12,Horaires!$A$3:$E$49,2,)","v":"Thonex"},{"$f":"IF(AJ12=\"vacances\",INDEX(Horaires!$H$3:$L$42,MATCH('Solde d''heure collaborateur'!AJ$2,Horaires!$H$3:$H$40,0),4),IF(AJ12=\"maladie\",INDEX(Horaires!$H$3:$L$42,MATCH('Solde d''heure collaborateur'!AJ$2,Horaires!$H$3:$H$40,0),5),VLOOKUP(AI12,Horaires!$A$3:$E$60,5,)))","v":0.44791666666666669},null,{"$f":"INDEX(Planning!$13:$13,MATCH('Solde d''heure collaborateur'!$A12,Planning!$3:$3))","v":"plo1"},{"$f":"VLOOKUP(AM12,Horaires!$A$3:$E$49,2,)","v":"Plan les Ouates"},{"$f":"IF(AN12=\"vacances\",INDEX(Horaires!$H$3:$L$42,MATCH('Solde d''heure collaborateur'!AN$2,Horaires!$H$3:$H$40,0),4),IF(AN12=\"maladie\",INDEX(Horaires!$H$3:$L$42,MATCH('Solde d''heure collaborateur'!AN$2,Horaires!$H$3:$H$40,0),5),VLOOKUP(AM12,Horaires!$A$3:$E$60,5,)))","v":0.46875000000000006},null,{"$f":"INDEX(Planning!$14:$14,MATCH('Solde d''heure collaborateur'!$A12,Planning!$3:$3))","v":"M"},{"$f":"VLOOKUP(AQ12,Horaires!$A$3:$E$49,2,)","v":"Maladie"},{"$f":"IF(AR12=\"vacances\",INDEX(Horaires!$H$3:$L$42,MATCH('Solde d''heure collaborateur'!AR$2,Horaires!$H$3:$H$40,0),4),IF(AR12=\"maladie\",INDEX(Horaires!$H$3:$L$42,MATCH('Solde d''heure collaborateur'!AR$2,Horaires!$H$3:$H$40,0),5),VLOOKUP(AQ12,Horaires!$A$3:$E$60,5,)))","v":0.46180555555555558},null,{"$f":"INDEX(Planning!$15:$15,MATCH('Solde d''heure collaborateur'!$A12,Planning!$3:$3))","v":"nyon1"},{"$f":"VLOOKUP(AU12,Horaires!$A$3:$E$49,2,)","v":"Nyon"},{"$f":"IF(AV12=\"vacances\",INDEX(Horaires!$H$3:$L$42,MATCH('Solde d''heure collaborateur'!AV$2,Horaires!$H$3:$H$40,0),4),IF(AV12=\"maladie\",INDEX(Horaires!$H$3:$L$42,MATCH('Solde d''heure collaborateur'!AV$2,Horaires!$H$3:$H$40,0),5),VLOOKUP(AU12,Horaires!$A$3:$E$60,5,)))","v":0.44791666666666669},null,{"$f":"INDEX(Planning!$16:$16,MATCH('Solde d''heure collaborateur'!$A12,Planning!$3:$3))","v":"vid1"},{"$f":"VLOOKUP(AY12,Horaires!$A$3:$E$49,2,)","v":"Vidollet"},{"$f":"IF(AZ12=\"vacances\",INDEX(Horaires!$H$3:$L$42,MATCH('Solde d''heure collaborateur'!AZ$2,Horaires!$H$3:$H$40,0),4),IF(AZ12=\"maladie\",INDEX(Horaires!$H$3:$L$42,MATCH('Solde d''heure collaborateur'!AZ$2,Horaires!$H$3:$H$40,0),5),VLOOKUP(AY12,Horaires!$A$3:$E$60,5,)))","v":0.44791666666666669},null,{"$f":"INDEX(Planning!$17:$17,MATCH('Solde d''heure collaborateur'!$A12,Planning!$3:$3))","v":"pom1"},{"$f":"VLOOKUP(BC12,Horaires!$A$3:$E$49,2,)","v":"Pommier"},{"$f":"IF(BD12=\"vacances\",INDEX(Horaires!$H$3:$L$42,MATCH('Solde d''heure collaborateur'!BD$2,Horaires!$H$3:$H$40,0),4),IF(BD12=\"maladie\",INDEX(Horaires!$H$3:$L$42,MATCH('Solde d''heure collaborateur'!BD$2,Horaires!$H$3:$H$40,0),5),VLOOKUP(BC12,Horaires!$A$3:$E$60,5,)))","v":0.44791666666666669},null,{"$f":"INDEX(Planning!$18:$18,MATCH('Solde d''heure collaborateur'!$A12,Planning!$3:$3))","v":"R"},{"$f":"VLOOKUP(BG12,Horaires!$A$3:$E$49,2,)","v":"Congé"},{"$f":"IF(BH12=\"vacances\",INDEX(Horaires!$H$3:$L$42,MATCH('Solde d''heure collaborateur'!BH$2,Horaires!$H$3:$H$40,0),4),IF(BH12=\"maladie\",INDEX(Horaires!$H$3:$L$42,MATCH('Solde d''heure collaborateur'!BH$2,Horaires!$H$3:$H$40,0),5),VLOOKUP(BG12,Horaires!$A$3:$E$60,5,)))","v":0},null,{"$f":"INDEX(Planning!$19:$19,MATCH('Solde d''heure collaborateur'!$A12,Planning!$3:$3))","v":"R"},{"$f":"VLOOKUP(BK12,Horaires!$A$3:$E$49,2,)","v":"Congé"},{"$f":"IF(BL12=\"vacances\",INDEX(Horaires!$H$3:$L$42,MATCH('Solde d''heure collaborateur'!BL$2,Horaires!$H$3:$H$40,0),4),IF(BL12=\"maladie\",INDEX(Horaires!$H$3:$L$42,MATCH('Solde d''heure collaborateur'!BL$2,Horaires!$H$3:$H$40,0),5),VLOOKUP(BK12,Horaires!$A$3:$E$60,5,)))","v":0},null,{"$f":"INDEX(Planning!$20:$20,MATCH('Solde d''heure collaborateur'!$A12,Planning!$3:$3))","v":"Aca1"},{"$f":"VLOOKUP(BO12,Horaires!$A$3:$E$49,2,)","v":"Acacias"},{"$f":"IF(BP12=\"vacances\",INDEX(Horaires!$H$3:$L$42,MATCH('Solde d''heure collaborateur'!BP$2,Horaires!$H$3:$H$40,0),4),IF(BP12=\"maladie\",INDEX(Horaires!$H$3:$L$42,MATCH('Solde d''heure collaborateur'!BP$2,Horaires!$H$3:$H$40,0),5),VLOOKUP(BO12,Horaires!$A$3:$E$60,5,)))","v":0.44791666666666669},null,{"$f":"INDEX(Planning!$21:$21,MATCH('Solde d''heure collaborateur'!$A12,Planning!$3:$3))","v":"R"},{"$f":"VLOOKUP(BS12,Horaires!$A$3:$E$49,2,)","v":"Congé"},{"$f":"IF(BT12=\"vacances\",INDEX(Horaires!$H$3:$L$42,MATCH('Solde d''heure collaborateur'!BT$2,Horaires!$H$3:$H$40,0),4),IF(BT12=\"maladie\",INDEX(Horaires!$H$3:$L$42,MATCH('Solde d''heure collaborateur'!BT$2,Horaires!$H$3:$H$40,0),5),VLOOKUP(BS12,Horaires!$A$3:$E$60,5,)))","v":0},null,{"$f":"INDEX(Planning!$22:$22,MATCH('Solde d''heure collaborateur'!$A12,Planning!$3:$3))","v":"ves1"},{"$f":"VLOOKUP(BW12,Horaires!$A$3:$E$49,2,)","v":"Vesenaz"},{"$f":"IF(BX12=\"vacances\",INDEX(Horaires!$H$3:$L$42,MATCH('Solde d''heure collaborateur'!BX$2,Horaires!$H$3:$H$40,0),4),IF(BX12=\"maladie\",INDEX(Horaires!$H$3:$L$42,MATCH('Solde d''heure collaborateur'!BX$2,Horaires!$H$3:$H$40,0),5),VLOOKUP(BW12,Horaires!$A$3:$E$60,5,)))","v":0.44791666666666669},null,{"$f":"INDEX(Planning!$23:$23,MATCH('Solde d''heure collaborateur'!$A12,Planning!$3:$3))","v":"R"},{"$f":"VLOOKUP(CA12,Horaires!$A$3:$E$49,2,)","v":"Congé"},{"$f":"IF(CB12=\"vacances\",INDEX(Horaires!$H$3:$L$42,MATCH('Solde d''heure collaborateur'!CB$2,Horaires!$H$3:$H$40,0),4),IF(CB12=\"maladie\",INDEX(Horaires!$H$3:$L$42,MATCH('Solde d''heure collaborateur'!CB$2,Horaires!$H$3:$H$40,0),5),VLOOKUP(CA12,Horaires!$A$3:$E$60,5,)))","v":0},null,{"$f":"INDEX(Planning!$24:$24,MATCH('Solde d''heure collaborateur'!$A12,Planning!$3:$3))","v":"recup"},{"$f":"VLOOKUP(CE12,Horaires!$A$3:$E$49,2,)","v":"Récupération"},{"$f":"IF(CF12=\"vacances\",INDEX(Horaires!$H$3:$L$42,MATCH('Solde d''heure collaborateur'!CF$2,Horaires!$H$3:$H$40,0),4),IF(CF12=\"maladie\",INDEX(Horaires!$H$3:$L$42,MATCH('Solde d''heure collaborateur'!CF$2,Horaires!$H$3:$H$40,0),5),VLOOKUP(CE12,Horaires!$A$3:$E$60,5,)))","v":0},null,{"$f":"INDEX(Planning!$25:$25,MATCH('Solde d''heure collaborateur'!$A12,Planning!$3:$3))","v":"X"},{"$f":"VLOOKUP(CI12,Horaires!$A$3:$E$49,2,)","v":"XXX"},{"$f":"IF(CJ12=\"vacances\",INDEX(Horaires!$H$3:$L$42,MATCH('Solde d''heure collaborateur'!CJ$2,Horaires!$H$3:$H$40,0),4),IF(CJ12=\"maladie\",INDEX(Horaires!$H$3:$L$42,MATCH('Solde d''heure collaborateur'!CJ$2,Horaires!$H$3:$H$40,0),5),VLOOKUP(CI12,Horaires!$A$3:$E$60,5,)))","v":0},null,{"$f":"INDEX(Planning!$26:$26,MATCH('Solde d''heure collaborateur'!$A12,Planning!$3:$3))","v":"R"},{"$f":"VLOOKUP(CM12,Horaires!$A$3:$E$49,2,)","v":"Congé"},{"$f":"IF(CN12=\"vacances\",INDEX(Horaires!$H$3:$L$42,MATCH('Solde d''heure collaborateur'!CN$2,Horaires!$H$3:$H$40,0),4),IF(CN12=\"maladie\",INDEX(Horaires!$H$3:$L$42,MATCH('Solde d''heure collaborateur'!CN$2,Horaires!$H$3:$H$40,0),5),VLOOKUP(CM12,Horaires!$A$3:$E$60,5,)))","v":0},null,{"$f":"INDEX(Planning!$27:$27,MATCH('Solde d''heure collaborateur'!$A12,Planning!$3:$3))","v":"vib1"},{"$f":"VLOOKUP(CQ12,Horaires!$A$3:$E$49,2,)","v":"Vibert"},{"$f":"IF(CR12=\"vacances\",INDEX(Horaires!$H$3:$L$42,MATCH('Solde d''heure collaborateur'!CR$2,Horaires!$H$3:$H$40,0),4),IF(CR12=\"maladie\",INDEX(Horaires!$H$3:$L$42,MATCH('Solde d''heure collaborateur'!CR$2,Horaires!$H$3:$H$40,0),5),VLOOKUP(CQ12,Horaires!$A$3:$E$60,5,)))","v":0.46875000000000006},null,{"$f":"INDEX(Planning!$28:$28,MATCH('Solde d''heure collaborateur'!$A12,Planning!$3:$3))","v":"tour1"},{"$f":"VLOOKUP(CU12,Horaires!$A$3:$E$49,2,)","v":"Tourelle"},{"$f":"IF(CV12=\"vacances\",INDEX(Horaires!$H$3:$L$42,MATCH('Solde d''heure collaborateur'!CV$2,Horaires!$H$3:$H$40,0),4),IF(CV12=\"maladie\",INDEX(Horaires!$H$3:$L$42,MATCH('Solde d''heure collaborateur'!CV$2,Horaires!$H$3:$H$40,0),5),VLOOKUP(CU12,Horaires!$A$3:$E$60,5,)))","v":0.46875000000000006},null,{"$f":"INDEX(Planning!$29:$29,MATCH('Solde d''heure collaborateur'!$A12,Planning!$3:$3))","v":"X"},{"$f":"VLOOKUP(CY12,Horaires!$A$3:$E$49,2,)","v":"XXX"},{"$f":"IF(CZ12=\"vacances\",INDEX(Horaires!$H$3:$L$42,MATCH('Solde d''heure collaborateur'!CZ$2,Horaires!$H$3:$H$40,0),4),IF(CZ12=\"maladie\",INDEX(Horaires!$H$3:$L$42,MATCH('Solde d''heure collaborateur'!CZ$2,Horaires!$H$3:$H$40,0),5),VLOOKUP(CY12,Horaires!$A$3:$E$60,5,)))","v":0},null,{"$f":"INDEX(Planning!$30:$30,MATCH('Solde d''heure collaborateur'!$A12,Planning!$3:$3))","v":"X"},{"$f":"VLOOKUP(DC12,Horaires!$A$3:$E$49,2,)","v":"XXX"},{"$f":"IF(DD12=\"vacances\",INDEX(Horaires!$H$3:$L$42,MATCH('Solde d''heure collaborateur'!DD$2,Horaires!$H$3:$H$40,0),4),IF(DD12=\"maladie\",INDEX(Horaires!$H$3:$L$42,MATCH('Solde d''heure collaborateur'!DD$2,Horaires!$H$3:$H$40,0),5),VLOOKUP(DC12,Horaires!$A$3:$E$60,5,)))","v":0},null,{"$f":"INDEX(Planning!$31:$31,MATCH('Solde d''heure collaborateur'!$A12,Planning!$3:$3))","v":"X"},{"$f":"VLOOKUP(DG12,Horaires!$A$3:$E$49,2,)","v":"XXX"},{"$f":"IF(DH12=\"vacances\",INDEX(Horaires!$H$3:$L$42,MATCH('Solde d''heure collaborateur'!DH$2,Horaires!$H$3:$H$40,0),4),IF(DH12=\"maladie\",INDEX(Horaires!$H$3:$L$42,MATCH('Solde d''heure collaborateur'!DH$2,Horaires!$H$3:$H$40,0),5),VLOOKUP(DG12,Horaires!$A$3:$E$60,5,)))","v":0},null,{"$f":"INDEX(Planning!$32:$32,MATCH('Solde d''heure collaborateur'!$A12,Planning!$3:$3))","v":"X"},{"$f":"VLOOKUP(DK12,Horaires!$A$3:$E$49,2,)","v":"XXX"},{"$f":"IF(DL12=\"vacances\",INDEX(Horaires!$H$3:$L$42,MATCH('Solde d''heure collaborateur'!DL$2,Horaires!$H$3:$H$40,0),4),IF(DL12=\"maladie\",INDEX(Horaires!$H$3:$L$42,MATCH('Solde d''heure collaborateur'!DL$2,Horaires!$H$3:$H$40,0),5),VLOOKUP(DK12,Horaires!$A$3:$E$60,5,)))","v":0},null,{"$f":"INDEX(Planning!$33:$33,MATCH('Solde d''heure collaborateur'!$A12,Planning!$3:$3))","v":"X"},{"$f":"VLOOKUP(DO12,Horaires!$A$3:$E$49,2,)","v":"XXX"},{"$f":"IF(DP12=\"vacances\",INDEX(Horaires!$H$3:$L$42,MATCH('Solde d''heure collaborateur'!DP$2,Horaires!$H$3:$H$40,0),4),IF(DP12=\"maladie\",INDEX(Horaires!$H$3:$L$42,MATCH('Solde d''heure collaborateur'!DP$2,Horaires!$H$3:$H$40,0),5),VLOOKUP(DO12,Horaires!$A$3:$E$60,5,)))","v":0},null,{"$f":"INDEX(Planning!$34:$34,MATCH('Solde d''heure collaborateur'!$A12,Planning!$3:$3))","v":"X"},{"$f":"VLOOKUP(DS12,Horaires!$A$3:$E$49,2,)","v":"XXX"},{"$f":"IF(DT12=\"vacances\",INDEX(Horaires!$H$3:$L$42,MATCH('Solde d''heure collaborateur'!DT$2,Horaires!$H$3:$H$40,0),4),IF(DT12=\"maladie\",INDEX(Horaires!$H$3:$L$42,MATCH('Solde d''heure collaborateur'!DT$2,Horaires!$H$3:$H$40,0),5),VLOOKUP(DS12,Horaires!$A$3:$E$60,5,)))","v":0},null,{"$f":"INDEX(Planning!$35:$35,MATCH('Solde d''heure collaborateur'!$A12,Planning!$3:$3))","v":"X"},{"$f":"VLOOKUP(DW12,Horaires!$A$3:$E$49,2,)","v":"XXX"},{"$f":"IF(DX12=\"vacances\",INDEX(Horaires!$H$3:$L$42,MATCH('Solde d''heure collaborateur'!DX$2,Horaires!$H$3:$H$40,0),4),IF(DX12=\"maladie\",INDEX(Horaires!$H$3:$L$42,MATCH('Solde d''heure collaborateur'!DX$2,Horaires!$H$3:$H$40,0),5),VLOOKUP(DW12,Horaires!$A$3:$E$60,5,)))","v":0}]
[{"$f":"A12+1","v":"2013-11-12"},null,{"$f":"INDEX(Planning!$4:$4,MATCH('Solde d''heure collaborateur'!A13,Planning!$3:$3,0))","v":"Nav1"},{"$f":"VLOOKUP(C13,Horaires!$A$3:$E$49,2,)","v":"Navigation"},{"$f":"IF(D13=\"vacances\",INDEX(Horaires!$H$3:$L$42,MATCH('Solde d''heure collaborateur'!D$2,Horaires!$H$3:$H$40,0),4),IF(D13=\"maladie\",INDEX(Horaires!$H$3:$L$42,MATCH('Solde d''heure collaborateur'!D$2,Horaires!$H$3:$H$40,0),5),VLOOKUP(C13,Horaires!$A$3:$E$60,5,)))","v":0.44791666666666669},null,{"$f":"INDEX(Planning!$5:$5,MATCH('Solde d''heure collaborateur'!A13,Planning!$3:$3))","v":"Pom1"},{"$f":"VLOOKUP(G13,Horaires!$A$3:$E$49,2,)","v":"Pommier"},{"$f":"IF(H13=\"vacances\",INDEX(Horaires!$H$3:$L$42,MATCH('Solde d''heure collaborateur'!H$2,Horaires!$H$3:$H$40,0),4),IF(H13=\"maladie\",INDEX(Horaires!$H$3:$L$42,MATCH('Solde d''heure collaborateur'!H$2,Horaires!$H$3:$H$40,0),5),VLOOKUP(G13,Horaires!$A$3:$E$60,5,)))","v":0.44791666666666669},null,{"$f":"INDEX(Planning!$6:$6,MATCH('Solde d''heure collaborateur'!A13,Planning!$3:$3))","v":"M"},{"$f":"VLOOKUP(K13,Horaires!$A$3:$E$49,2,)","v":"Maladie"},{"$f":"IF(L13=\"vacances\",INDEX(Horaires!$H$3:$L$42,MATCH('Solde d''heure collaborateur'!L$2,Horaires!$H$3:$H$40,0),4),IF(L13=\"maladie\",INDEX(Horaires!$H$3:$L$42,MATCH('Solde d''heure collaborateur'!L$2,Horaires!$H$3:$H$40,0),5),VLOOKUP(K13,Horaires!$A$3:$E$60,5,)))","v":0.4375},null,{"$f":"INDEX(Planning!$7:$7,MATCH('Solde d''heure collaborateur'!$A13,Planning!$3:$3))","v":"Vib1"},{"$f":"VLOOKUP(O13,Horaires!$A$3:$E$49,2,)","v":"Vibert"},{"$f":"IF(P13=\"vacances\",INDEX(Horaires!$H$3:$L$42,MATCH('Solde d''heure collaborateur'!P$2,Horaires!$H$3:$H$40,0),4),IF(P13=\"maladie\",INDEX(Horaires!$H$3:$L$42,MATCH('Solde d''heure collaborateur'!P$2,Horaires!$H$3:$H$40,0),5),VLOOKUP(O13,Horaires!$A$3:$E$60,5,)))","v":0.46875000000000006},null,{"$f":"INDEX(Planning!$8:$8,MATCH('Solde d''heure collaborateur'!$A13,Planning!$3:$3))","v":"Onex1"},{"$f":"VLOOKUP(S13,Horaires!$A$3:$E$49,2,)","v":"Onex"},{"$f":"IF(T13=\"vacances\",INDEX(Horaires!$H$3:$L$42,MATCH('Solde d''heure collaborateur'!T$2,Horaires!$H$3:$H$40,0),4),IF(T13=\"maladie\",INDEX(Horaires!$H$3:$L$42,MATCH('Solde d''heure collaborateur'!T$2,Horaires!$H$3:$H$40,0),5),VLOOKUP(S13,Horaires!$A$3:$E$60,5,)))","v":0.46875000000000006},null,{"$f":"INDEX(Planning!$9:$9,MATCH('Solde d''heure collaborateur'!$A13,Planning!$3:$3))","v":"X"},{"$f":"VLOOKUP(W13,Horaires!$A$3:$E$49,2,)","v":"XXX"},{"$f":"IF(X13=\"vacances\",INDEX(Horaires!$H$3:$L$42,MATCH('Solde d''heure collaborateur'!X$2,Horaires!$H$3:$H$40,0),4),IF(X13=\"maladie\",INDEX(Horaires!$H$3:$L$42,MATCH('Solde d''heure collaborateur'!X$2,Horaires!$H$3:$H$40,0),5),VLOOKUP(W13,Horaires!$A$3:$E$60,5,)))","v":0},null,{"$f":"INDEX(Planning!$10:$10,MATCH('Solde d''heure collaborateur'!$A13,Planning!$3:$3))","v":"R"},{"$f":"VLOOKUP(AA13,Horaires!$A$3:$E$49,2,)","v":"Congé"},{"$f":"IF(AB13=\"vacances\",INDEX(Horaires!$H$3:$L$42,MATCH('Solde d''heure collaborateur'!AB$2,Horaires!$H$3:$H$40,0),4),IF(AB13=\"maladie\",INDEX(Horaires!$H$3:$L$42,MATCH('Solde d''heure collaborateur'!AB$2,Horaires!$H$3:$H$40,0),5),VLOOKUP(AA13,Horaires!$A$3:$E$60,5,)))","v":0},null,{"$f":"INDEX(Planning!$11:$11,MATCH('Solde d''heure collaborateur'!$A13,Planning!$3:$3))","v":"V"},{"$f":"VLOOKUP(AE13,Horaires!$A$3:$E$49,2,)","v":"Vacances"},{"$f":"IF(AF13=\"vacances\",INDEX(Horaires!$H$3:$L$42,MATCH('Solde d''heure collaborateur'!AF$2,Horaires!$H$3:$H$40,0),4),IF(AF13=\"maladie\",INDEX(Horaires!$H$3:$L$42,MATCH('Solde d''heure collaborateur'!AF$2,Horaires!$H$3:$H$40,0),5),VLOOKUP(AE13,Horaires!$A$3:$E$60,5,)))","v":0.35000000000000003},null,{"$f":"INDEX(Planning!$12:$12,MATCH('Solde d''heure collaborateur'!$A13,Planning!$3:$3))","v":"Thon1"},{"$f":"VLOOKUP(AI13,Horaires!$A$3:$E$49,2,)","v":"Thonex"},{"$f":"IF(AJ13=\"vacances\",INDEX(Horaires!$H$3:$L$42,MATCH('Solde d''heure collaborateur'!AJ$2,Horaires!$H$3:$H$40,0),4),IF(AJ13=\"maladie\",INDEX(Horaires!$H$3:$L$42,MATCH('Solde d''heure collaborateur'!AJ$2,Horaires!$H$3:$H$40,0),5),VLOOKUP(AI13,Horaires!$A$3:$E$60,5,)))","v":0.44791666666666669},null,{"$f":"INDEX(Planning!$13:$13,MATCH('Solde d''heure collaborateur'!$A13,Planning!$3:$3))","v":"plo1"},{"$f":"VLOOKUP(AM13,Horaires!$A$3:$E$49,2,)","v":"Plan les Ouates"},{"$f":"IF(AN13=\"vacances\",INDEX(Horaires!$H$3:$L$42,MATCH('Solde d''heure collaborateur'!AN$2,Horaires!$H$3:$H$40,0),4),IF(AN13=\"maladie\",INDEX(Horaires!$H$3:$L$42,MATCH('Solde d''heure collaborateur'!AN$2,Horaires!$H$3:$H$40,0),5),VLOOKUP(AM13,Horaires!$A$3:$E$60,5,)))","v":0.46875000000000006},null,{"$f":"INDEX(Planning!$14:$14,MATCH('Solde d''heure collaborateur'!$A13,Planning!$3:$3))","v":"X"},{"$f":"VLOOKUP(AQ13,Horaires!$A$3:$E$49,2,)","v":"XXX"},{"$f":"IF(AR13=\"vacances\",INDEX(Horaires!$H$3:$L$42,MATCH('Solde d''heure collaborateur'!AR$2,Horaires!$H$3:$H$40,0),4),IF(AR13=\"maladie\",INDEX(Horaires!$H$3:$L$42,MATCH('Solde d''heure collaborateur'!AR$2,Horaires!$H$3:$H$40,0),5),VLOOKUP(AQ13,Horaires!$A$3:$E$60,5,)))","v":0},null,{"$f":"INDEX(Planning!$15:$15,MATCH('Solde d''heure collaborateur'!$A13,Planning!$3:$3))","v":"Nyon1"},{"$f":"VLOOKUP(AU13,Horaires!$A$3:$E$49,2,)","v":"Nyon"},{"$f":"IF(AV13=\"vacances\",INDEX(Horaires!$H$3:$L$42,MATCH('Solde d''heure collaborateur'!AV$2,Horaires!$H$3:$H$40,0),4),IF(AV13=\"maladie\",INDEX(Horaires!$H$3:$L$42,MATCH('Solde d''heure collaborateur'!AV$2,Horaires!$H$3:$H$40,0),5),VLOOKUP(AU13,Horaires!$A$3:$E$60,5,)))","v":0.44791666666666669},null,{"$f":"INDEX(Planning!$16:$16,MATCH('Solde d''heure collaborateur'!$A13,Planning!$3:$3))","v":"Vid1"},{"$f":"VLOOKUP(AY13,Horaires!$A$3:$E$49,2,)","v":"Vidollet"},{"$f":"IF(AZ13=\"vacances\",INDEX(Horaires!$H$3:$L$42,MATCH('Solde d''heure collaborateur'!AZ$2,Horaires!$H$3:$H$40,0),4),IF(AZ13=\"maladie\",INDEX(Horaires!$H$3:$L$42,MATCH('Solde d''heure collaborateur'!AZ$2,Horaires!$H$3:$H$40,0),5),VLOOKUP(AY13,Horaires!$A$3:$E$60,5,)))","v":0.44791666666666669},null,{"$f":"INDEX(Planning!$17:$17,MATCH('Solde d''heure collaborateur'!$A13,Planning!$3:$3))","v":"onex1"},{"$f":"VLOOKUP(BC13,Horaires!$A$3:$E$49,2,)","v":"Onex"},{"$f":"IF(BD13=\"vacances\",INDEX(Horaires!$H$3:$L$42,MATCH('Solde d''heure collaborateur'!BD$2,Horaires!$H$3:$H$40,0),4),IF(BD13=\"maladie\",INDEX(Horaires!$H$3:$L$42,MATCH('Solde d''heure collaborateur'!BD$2,Horaires!$H$3:$H$40,0),5),VLOOKUP(BC13,Horaires!$A$3:$E$60,5,)))","v":0.46875000000000006},null,{"$f":"INDEX(Planning!$18:$18,MATCH('Solde d''heure collaborateur'!$A13,Planning!$3:$3))","v":"R"},{"$f":"VLOOKUP(BG13,Horaires!$A$3:$E$49,2,)","v":"Congé"},{"$f":"IF(BH13=\"vacances\",INDEX(Horaires!$H$3:$L$42,MATCH('Solde d''heure collaborateur'!BH$2,Horaires!$H$3:$H$40,0),4),IF(BH13=\"maladie\",INDEX(Horaires!$H$3:$L$42,MATCH('Solde d''heure collaborateur'!BH$2,Horaires!$H$3:$H$40,0),5),VLOOKUP(BG13,Horaires!$A$3:$E$60,5,)))","v":0},null,{"$f":"INDEX(Planning!$19:$19,MATCH('Solde d''heure collaborateur'!$A13,Planning!$3:$3))","v":"R"},{"$f":"VLOOKUP(BK13,Horaires!$A$3:$E$49,2,)","v":"Congé"},{"$f":"IF(BL13=\"vacances\",INDEX(Horaires!$H$3:$L$42,MATCH('Solde d''heure collaborateur'!BL$2,Horaires!$H$3:$H$40,0),4),IF(BL13=\"maladie\",INDEX(Horaires!$H$3:$L$42,MATCH('Solde d''heure collaborateur'!BL$2,Horaires!$H$3:$H$40,0),5),VLOOKUP(BK13,Horaires!$A$3:$E$60,5,)))","v":0},null,{"$f":"INDEX(Planning!$20:$20,MATCH('Solde d''heure collaborateur'!$A13,Planning!$3:$3))","v":"Aca1"},{"$f":"VLOOKUP(BO13,Horaires!$A$3:$E$49,2,)","v":"Acacias"},{"$f":"IF(BP13=\"vacances\",INDEX(Horaires!$H$3:$L$42,MATCH('Solde d''heure collaborateur'!BP$2,Horaires!$H$3:$H$40,0),4),IF(BP13=\"maladie\",INDEX(Horaires!$H$3:$L$42,MATCH('Solde d''heure collaborateur'!BP$2,Horaires!$H$3:$H$40,0),5),VLOOKUP(BO13,Horaires!$A$3:$E$60,5,)))","v":0.44791666666666669},null,{"$f":"INDEX(Planning!$21:$21,MATCH('Solde d''heure collaborateur'!$A13,Planning!$3:$3))","v":"R"},{"$f":"VLOOKUP(BS13,Horaires!$A$3:$E$49,2,)","v":"Congé"},{"$f":"IF(BT13=\"vacances\",INDEX(Horaires!$H$3:$L$42,MATCH('Solde d''heure collaborateur'!BT$2,Horaires!$H$3:$H$40,0),4),IF(BT13=\"maladie\",INDEX(Horaires!$H$3:$L$42,MATCH('Solde d''heure collaborateur'!BT$2,Horaires!$H$3:$H$40,0),5),VLOOKUP(BS13,Horaires!$A$3:$E$60,5,)))","v":0},null,{"$f":"INDEX(Planning!$22:$22,MATCH('Solde d''heure collaborateur'!$A13,Planning!$3:$3))","v":"Ves1"},{"$f":"VLOOKUP(BW13,Horaires!$A$3:$E$49,2,)","v":"Vesenaz"},{"$f":"IF(BX13=\"vacances\",INDEX(Horaires!$H$3:$L$42,MATCH('Solde d''heure collaborateur'!BX$2,Horaires!$H$3:$H$40,0),4),IF(BX13=\"maladie\",INDEX(Horaires!$H$3:$L$42,MATCH('Solde d''heure collaborateur'!BX$2,Horaires!$H$3:$H$40,0),5),VLOOKUP(BW13,Horaires!$A$3:$E$60,5,)))","v":0.44791666666666669},null,{"$f":"INDEX(Planning!$23:$23,MATCH('Solde d''heure collaborateur'!$A13,Planning!$3:$3))","v":"R"},{"$f":"VLOOKUP(CA13,Horaires!$A$3:$E$49,2,)","v":"Congé"},{"$f":"IF(CB13=\"vacances\",INDEX(Horaires!$H$3:$L$42,MATCH('Solde d''heure collaborateur'!CB$2,Horaires!$H$3:$H$40,0),4),IF(CB13=\"maladie\",INDEX(Horaires!$H$3:$L$42,MATCH('Solde d''heure collaborateur'!CB$2,Horaires!$H$3:$H$40,0),5),VLOOKUP(CA13,Horaires!$A$3:$E$60,5,)))","v":0},null,{"$f":"INDEX(Planning!$24:$24,MATCH('Solde d''heure collaborateur'!$A13,Planning!$3:$3))","v":"R"},{"$f":"VLOOKUP(CE13,Horaires!$A$3:$E$49,2,)","v":"Congé"},{"$f":"IF(CF13=\"vacances\",INDEX(Horaires!$H$3:$L$42,MATCH('Solde d''heure collaborateur'!CF$2,Horaires!$H$3:$H$40,0),4),IF(CF13=\"maladie\",INDEX(Horaires!$H$3:$L$42,MATCH('Solde d''heure collaborateur'!CF$2,Horaires!$H$3:$H$40,0),5),VLOOKUP(CE13,Horaires!$A$3:$E$60,5,)))","v":0},null,{"$f":"INDEX(Planning!$25:$25,MATCH('Solde d''heure collaborateur'!$A13,Planning!$3:$3))","v":"X"},{"$f":"VLOOKUP(CI13,Horaires!$A$3:$E$49,2,)","v":"XXX"},{"$f":"IF(CJ13=\"vacances\",INDEX(Horaires!$H$3:$L$42,MATCH('Solde d''heure collaborateur'!CJ$2,Horaires!$H$3:$H$40,0),4),IF(CJ13=\"maladie\",INDEX(Horaires!$H$3:$L$42,MATCH('Solde d''heure collaborateur'!CJ$2,Horaires!$H$3:$H$40,0),5),VLOOKUP(CI13,Horaires!$A$3:$E$60,5,)))","v":0},null,{"$f":"INDEX(Planning!$26:$26,MATCH('Solde d''heure collaborateur'!$A13,Planning!$3:$3))","v":"R"},{"$f":"VLOOKUP(CM13,Horaires!$A$3:$E$49,2,)","v":"Congé"},{"$f":"IF(CN13=\"vacances\",INDEX(Horaires!$H$3:$L$42,MATCH('Solde d''heure collaborateur'!CN$2,Horaires!$H$3:$H$40,0),4),IF(CN13=\"maladie\",INDEX(Horaires!$H$3:$L$42,MATCH('Solde d''heure collaborateur'!CN$2,Horaires!$H$3:$H$40,0),5),VLOOKUP(CM13,Horaires!$A$3:$E$60,5,)))","v":0},null,{"$f":"INDEX(Planning!$27:$27,MATCH('Solde d''heure collaborateur'!$A13,Planning!$3:$3))","v":"Vib1"},{"$f":"VLOOKUP(CQ13,Horaires!$A$3:$E$49,2,)","v":"Vibert"},{"$f":"IF(CR13=\"vacances\",INDEX(Horaires!$H$3:$L$42,MATCH('Solde d''heure collaborateur'!CR$2,Horaires!$H$3:$H$40,0),4),IF(CR13=\"maladie\",INDEX(Horaires!$H$3:$L$42,MATCH('Solde d''heure collaborateur'!CR$2,Horaires!$H$3:$H$40,0),5),VLOOKUP(CQ13,Horaires!$A$3:$E$60,5,)))","v":0.46875000000000006},null,{"$f":"INDEX(Planning!$28:$28,MATCH('Solde d''heure collaborateur'!$A13,Planning!$3:$3))","v":"tour1"},{"$f":"VLOOKUP(CU13,Horaires!$A$3:$E$49,2,)","v":"Tourelle"},{"$f":"IF(CV13=\"vacances\",INDEX(Horaires!$H$3:$L$42,MATCH('Solde d''heure collaborateur'!CV$2,Horaires!$H$3:$H$40,0),4),IF(CV13=\"maladie\",INDEX(Horaires!$H$3:$L$42,MATCH('Solde d''heure collaborateur'!CV$2,Horaires!$H$3:$H$40,0),5),VLOOKUP(CU13,Horaires!$A$3:$E$60,5,)))","v":0.46875000000000006},null,{"$f":"INDEX(Planning!$29:$29,MATCH('Solde d''heure collaborateur'!$A13,Planning!$3:$3))","v":"X"},{"$f":"VLOOKUP(CY13,Horaires!$A$3:$E$49,2,)","v":"XXX"},{"$f":"IF(CZ13=\"vacances\",INDEX(Horaires!$H$3:$L$42,MATCH('Solde d''heure collaborateur'!CZ$2,Horaires!$H$3:$H$40,0),4),IF(CZ13=\"maladie\",INDEX(Horaires!$H$3:$L$42,MATCH('Solde d''heure collaborateur'!CZ$2,Horaires!$H$3:$H$40,0),5),VLOOKUP(CY13,Horaires!$A$3:$E$60,5,)))","v":0},null,{"$f":"INDEX(Planning!$30:$30,MATCH('Solde d''heure collaborateur'!$A13,Planning!$3:$3))","v":"X"},{"$f":"VLOOKUP(DC13,Horaires!$A$3:$E$49,2,)","v":"XXX"},{"$f":"IF(DD13=\"vacances\",INDEX(Horaires!$H$3:$L$42,MATCH('Solde d''heure collaborateur'!DD$2,Horaires!$H$3:$H$40,0),4),IF(DD13=\"maladie\",INDEX(Horaires!$H$3:$L$42,MATCH('Solde d''heure collaborateur'!DD$2,Horaires!$H$3:$H$40,0),5),VLOOKUP(DC13,Horaires!$A$3:$E$60,5,)))","v":0},null,{"$f":"INDEX(Planning!$31:$31,MATCH('Solde d''heure collaborateur'!$A13,Planning!$3:$3))","v":"X"},{"$f":"VLOOKUP(DG13,Horaires!$A$3:$E$49,2,)","v":"XXX"},{"$f":"IF(DH13=\"vacances\",INDEX(Horaires!$H$3:$L$42,MATCH('Solde d''heure collaborateur'!DH$2,Horaires!$H$3:$H$40,0),4),IF(DH13=\"maladie\",INDEX(Horaires!$H$3:$L$42,MATCH('Solde d''heure collaborateur'!DH$2,Horaires!$H$3:$H$40,0),5),VLOOKUP(DG13,Horaires!$A$3:$E$60,5,)))","v":0},null,{"$f":"INDEX(Planning!$32:$32,MATCH('Solde d''heure collaborateur'!$A13,Planning!$3:$3))","v":"X"},{"$f":"VLOOKUP(DK13,Horaires!$A$3:$E$49,2,)","v":"XXX"},{"$f":"IF(DL13=\"vacances\",INDEX(Horaires!$H$3:$L$42,MATCH('Solde d''heure collaborateur'!DL$2,Horaires!$H$3:$H$40,0),4),IF(DL13=\"maladie\",INDEX(Horaires!$H$3:$L$42,MATCH('Solde d''heure collaborateur'!DL$2,Horaires!$H$3:$H$40,0),5),VLOOKUP(DK13,Horaires!$A$3:$E$60,5,)))","v":0},null,{"$f":"INDEX(Planning!$33:$33,MATCH('Solde d''heure collaborateur'!$A13,Planning!$3:$3))","v":"X"},{"$f":"VLOOKUP(DO13,Horaires!$A$3:$E$49,2,)","v":"XXX"},{"$f":"IF(DP13=\"vacances\",INDEX(Horaires!$H$3:$L$42,MATCH('Solde d''heure collaborateur'!DP$2,Horaires!$H$3:$H$40,0),4),IF(DP13=\"maladie\",INDEX(Horaires!$H$3:$L$42,MATCH('Solde d''heure collaborateur'!DP$2,Horaires!$H$3:$H$40,0),5),VLOOKUP(DO13,Horaires!$A$3:$E$60,5,)))","v":0},null,{"$f":"INDEX(Planning!$34:$34,MATCH('Solde d''heure collaborateur'!$A13,Planning!$3:$3))","v":"X"},{"$f":"VLOOKUP(DS13,Horaires!$A$3:$E$49,2,)","v":"XXX"},{"$f":"IF(DT13=\"vacances\",INDEX(Horaires!$H$3:$L$42,MATCH('Solde d''heure collaborateur'!DT$2,Horaires!$H$3:$H$40,0),4),IF(DT13=\"maladie\",INDEX(Horaires!$H$3:$L$42,MATCH('Solde d''heure collaborateur'!DT$2,Horaires!$H$3:$H$40,0),5),VLOOKUP(DS13,Horaires!$A$3:$E$60,5,)))","v":0},null,{"$f":"INDEX(Planning!$35:$35,MATCH('Solde d''heure collaborateur'!$A13,Planning!$3:$3))","v":"X"},{"$f":"VLOOKUP(DW13,Horaires!$A$3:$E$49,2,)","v":"XXX"},{"$f":"IF(DX13=\"vacances\",INDEX(Horaires!$H$3:$L$42,MATCH('Solde d''heure collaborateur'!DX$2,Horaires!$H$3:$H$40,0),4),IF(DX13=\"maladie\",INDEX(Horaires!$H$3:$L$42,MATCH('Solde d''heure collaborateur'!DX$2,Horaires!$H$3:$H$40,0),5),VLOOKUP(DW13,Horaires!$A$3:$E$60,5,)))","v":0}]
[{"$f":"A13+1","v":"2013-11-13"},null,{"$f":"INDEX(Planning!$4:$4,MATCH('Solde d''heure collaborateur'!A14,Planning!$3:$3,0))","v":"Nav1"},{"$f":"VLOOKUP(C14,Horaires!$A$3:$E$49,2,)","v":"Navigation"},{"$f":"IF(D14=\"vacances\",INDEX(Horaires!$H$3:$L$42,MATCH('Solde d''heure collaborateur'!D$2,Horaires!$H$3:$H$40,0),4),IF(D14=\"maladie\",INDEX(Horaires!$H$3:$L$42,MATCH('Solde d''heure collaborateur'!D$2,Horaires!$H$3:$H$40,0),5),VLOOKUP(C14,Horaires!$A$3:$E$60,5,)))","v":0.44791666666666669},null,{"$f":"INDEX(Planning!$5:$5,MATCH('Solde d''heure collaborateur'!A14,Planning!$3:$3))","v":"Pom1"},{"$f":"VLOOKUP(G14,Horaires!$A$3:$E$49,2,)","v":"Pommier"},{"$f":"IF(H14=\"vacances\",INDEX(Horaires!$H$3:$L$42,MATCH('Solde d''heure collaborateur'!H$2,Horaires!$H$3:$H$40,0),4),IF(H14=\"maladie\",INDEX(Horaires!$H$3:$L$42,MATCH('Solde d''heure collaborateur'!H$2,Horaires!$H$3:$H$40,0),5),VLOOKUP(G14,Horaires!$A$3:$E$60,5,)))","v":0.44791666666666669},null,{"$f":"INDEX(Planning!$6:$6,MATCH('Solde d''heure collaborateur'!A14,Planning!$3:$3))","v":"M"},{"$f":"VLOOKUP(K14,Horaires!$A$3:$E$49,2,)","v":"Maladie"},{"$f":"IF(L14=\"vacances\",INDEX(Horaires!$H$3:$L$42,MATCH('Solde d''heure collaborateur'!L$2,Horaires!$H$3:$H$40,0),4),IF(L14=\"maladie\",INDEX(Horaires!$H$3:$L$42,MATCH('Solde d''heure collaborateur'!L$2,Horaires!$H$3:$H$40,0),5),VLOOKUP(K14,Horaires!$A$3:$E$60,5,)))","v":0.4375},null,{"$f":"INDEX(Planning!$7:$7,MATCH('Solde d''heure collaborateur'!$A14,Planning!$3:$3))","v":"X"},{"$f":"VLOOKUP(O14,Horaires!$A$3:$E$49,2,)","v":"XXX"},{"$f":"IF(P14=\"vacances\",INDEX(Horaires!$H$3:$L$42,MATCH('Solde d''heure collaborateur'!P$2,Horaires!$H$3:$H$40,0),4),IF(P14=\"maladie\",INDEX(Horaires!$H$3:$L$42,MATCH('Solde d''heure collaborateur'!P$2,Horaires!$H$3:$H$40,0),5),VLOOKUP(O14,Horaires!$A$3:$E$60,5,)))","v":0},null,{"$f":"INDEX(Planning!$8:$8,MATCH('Solde d''heure collaborateur'!$A14,Planning!$3:$3))","v":"R"},{"$f":"VLOOKUP(S14,Horaires!$A$3:$E$49,2,)","v":"Congé"},{"$f":"IF(T14=\"vacances\",INDEX(Horaires!$H$3:$L$42,MATCH('Solde d''heure collaborateur'!T$2,Horaires!$H$3:$H$40,0),4),IF(T14=\"maladie\",INDEX(Horaires!$H$3:$L$42,MATCH('Solde d''heure collaborateur'!T$2,Horaires!$H$3:$H$40,0),5),VLOOKUP(S14,Horaires!$A$3:$E$60,5,)))","v":0},null,{"$f":"INDEX(Planning!$9:$9,MATCH('Solde d''heure collaborateur'!$A14,Planning!$3:$3))","v":"Onex1"},{"$f":"VLOOKUP(W14,Horaires!$A$3:$E$49,2,)","v":"Onex"},{"$f":"IF(X14=\"vacances\",INDEX(Horaires!$H$3:$L$42,MATCH('Solde d''heure collaborateur'!X$2,Horaires!$H$3:$H$40,0),4),IF(X14=\"maladie\",INDEX(Horaires!$H$3:$L$42,MATCH('Solde d''heure collaborateur'!X$2,Horaires!$H$3:$H$40,0),5),VLOOKUP(W14,Horaires!$A$3:$E$60,5,)))","v":0.46875000000000006},null,{"$f":"INDEX(Planning!$10:$10,MATCH('Solde d''heure collaborateur'!$A14,Planning!$3:$3))","v":"Onex1"},{"$f":"VLOOKUP(AA14,Horaires!$A$3:$E$49,2,)","v":"Onex"},{"$f":"IF(AB14=\"vacances\",INDEX(Horaires!$H$3:$L$42,MATCH('Solde d''heure collaborateur'!AB$2,Horaires!$H$3:$H$40,0),4),IF(AB14=\"maladie\",INDEX(Horaires!$H$3:$L$42,MATCH('Solde d''heure collaborateur'!AB$2,Horaires!$H$3:$H$40,0),5),VLOOKUP(AA14,Horaires!$A$3:$E$60,5,)))","v":0.46875000000000006},null,{"$f":"INDEX(Planning!$11:$11,MATCH('Solde d''heure collaborateur'!$A14,Planning!$3:$3))","v":"V"},{"$f":"VLOOKUP(AE14,Horaires!$A$3:$E$49,2,)","v":"Vacances"},{"$f":"IF(AF14=\"vacances\",INDEX(Horaires!$H$3:$L$42,MATCH('Solde d''heure collaborateur'!AF$2,Horaires!$H$3:$H$40,0),4),IF(AF14=\"maladie\",INDEX(Horaires!$H$3:$L$42,MATCH('Solde d''heure collaborateur'!AF$2,Horaires!$H$3:$H$40,0),5),VLOOKUP(AE14,Horaires!$A$3:$E$60,5,)))","v":0.35000000000000003},null,{"$f":"INDEX(Planning!$12:$12,MATCH('Solde d''heure collaborateur'!$A14,Planning!$3:$3))","v":"Thon1"},{"$f":"VLOOKUP(AI14,Horaires!$A$3:$E$49,2,)","v":"Thonex"},{"$f":"IF(AJ14=\"vacances\",INDEX(Horaires!$H$3:$L$42,MATCH('Solde d''heure collaborateur'!AJ$2,Horaires!$H$3:$H$40,0),4),IF(AJ14=\"maladie\",INDEX(Horaires!$H$3:$L$42,MATCH('Solde d''heure collaborateur'!AJ$2,Horaires!$H$3:$H$40,0),5),VLOOKUP(AI14,Horaires!$A$3:$E$60,5,)))","v":0.44791666666666669},null,{"$f":"INDEX(Planning!$13:$13,MATCH('Solde d''heure collaborateur'!$A14,Planning!$3:$3))","v":"R"},{"$f":"VLOOKUP(AM14,Horaires!$A$3:$E$49,2,)","v":"Congé"},{"$f":"IF(AN14=\"vacances\",INDEX(Horaires!$H$3:$L$42,MATCH('Solde d''heure collaborateur'!AN$2,Horaires!$H$3:$H$40,0),4),IF(AN14=\"maladie\",INDEX(Horaires!$H$3:$L$42,MATCH('Solde d''heure collaborateur'!AN$2,Horaires!$H$3:$H$40,0),5),VLOOKUP(AM14,Horaires!$A$3:$E$60,5,)))","v":0},null,{"$f":"INDEX(Planning!$14:$14,MATCH('Solde d''heure collaborateur'!$A14,Planning!$3:$3))","v":"X"},{"$f":"VLOOKUP(AQ14,Horaires!$A$3:$E$49,2,)","v":"XXX"},{"$f":"IF(AR14=\"vacances\",INDEX(Horaires!$H$3:$L$42,MATCH('Solde d''heure collaborateur'!AR$2,Horaires!$H$3:$H$40,0),4),IF(AR14=\"maladie\",INDEX(Horaires!$H$3:$L$42,MATCH('Solde d''heure collaborateur'!AR$2,Horaires!$H$3:$H$40,0),5),VLOOKUP(AQ14,Horaires!$A$3:$E$60,5,)))","v":0},null,{"$f":"INDEX(Planning!$15:$15,MATCH('Solde d''heure collaborateur'!$A14,Planning!$3:$3))","v":"Nyon1"},{"$f":"VLOOKUP(AU14,Horaires!$A$3:$E$49,2,)","v":"Nyon"},{"$f":"IF(AV14=\"vacances\",INDEX(Horaires!$H$3:$L$42,MATCH('Solde d''heure collaborateur'!AV$2,Horaires!$H$3:$H$40,0),4),IF(AV14=\"maladie\",INDEX(Horaires!$H$3:$L$42,MATCH('Solde d''heure collaborateur'!AV$2,Horaires!$H$3:$H$40,0),5),VLOOKUP(AU14,Horaires!$A$3:$E$60,5,)))","v":0.44791666666666669},null,{"$f":"INDEX(Planning!$16:$16,MATCH('Solde d''heure collaborateur'!$A14,Planning!$3:$3))","v":"R"},{"$f":"VLOOKUP(AY14,Horaires!$A$3:$E$49,2,)","v":"Congé"},{"$f":"IF(AZ14=\"vacances\",INDEX(Horaires!$H$3:$L$42,MATCH('Solde d''heure collaborateur'!AZ$2,Horaires!$H$3:$H$40,0),4),IF(AZ14=\"maladie\",INDEX(Horaires!$H$3:$L$42,MATCH('Solde d''heure collaborateur'!AZ$2,Horaires!$H$3:$H$40,0),5),VLOOKUP(AY14,Horaires!$A$3:$E$60,5,)))","v":0},null,{"$f":"INDEX(Planning!$17:$17,MATCH('Solde d''heure collaborateur'!$A14,Planning!$3:$3))","v":"R"},{"$f":"VLOOKUP(BC14,Horaires!$A$3:$E$49,2,)","v":"Congé"},{"$f":"IF(BD14=\"vacances\",INDEX(Horaires!$H$3:$L$42,MATCH('Solde d''heure collaborateur'!BD$2,Horaires!$H$3:$H$40,0),4),IF(BD14=\"maladie\",INDEX(Horaires!$H$3:$L$42,MATCH('Solde d''heure collaborateur'!BD$2,Horaires!$H$3:$H$40,0),5),VLOOKUP(BC14,Horaires!$A$3:$E$60,5,)))","v":0},null,{"$f":"INDEX(Planning!$18:$18,MATCH('Solde d''heure collaborateur'!$A14,Planning!$3:$3))","v":"Vib1"},{"$f":"VLOOKUP(BG14,Horaires!$A$3:$E$49,2,)","v":"Vibert"},{"$f":"IF(BH14=\"vacances\",INDEX(Horaires!$H$3:$L$42,MATCH('Solde d''heure collaborateur'!BH$2,Horaires!$H$3:$H$40,0),4),IF(BH14=\"maladie\",INDEX(Horaires!$H$3:$L$42,MATCH('Solde d''heure collaborateur'!BH$2,Horaires!$H$3:$H$40,0),5),VLOOKUP(BG14,Horaires!$A$3:$E$60,5,)))","v":0.46875000000000006},null,{"$f":"INDEX(Planning!$19:$19,MATCH('Solde d''heure collaborateur'!$A14,Planning!$3:$3))","v":"Vib1"},{"$f":"VLOOKUP(BK14,Horaires!$A$3:$E$49,2,)","v":"Vibert"},{"$f":"IF(BL14=\"vacances\",INDEX(Horaires!$H$3:$L$42,MATCH('Solde d''heure collaborateur'!BL$2,Horaires!$H$3:$H$40,0),4),IF(BL14=\"maladie\",INDEX(Horaires!$H$3:$L$42,MATCH('Solde d''heure collaborateur'!BL$2,Horaires!$H$3:$H$40,0),5),VLOOKUP(BK14,Horaires!$A$3:$E$60,5,)))","v":0.46875000000000006},null,{"$f":"INDEX(Planning!$20:$20,MATCH('Solde d''heure collaborateur'!$A14,Planning!$3:$3))","v":"Aca1"},{"$f":"VLOOKUP(BO14,Horaires!$A$3:$E$49,2,)","v":"Acacias"},{"$f":"IF(BP14=\"vacances\",INDEX(Horaires!$H$3:$L$42,MATCH('Solde d''heure collaborateur'!BP$2,Horaires!$H$3:$H$40,0),4),IF(BP14=\"maladie\",INDEX(Horaires!$H$3:$L$42,MATCH('Solde d''heure collaborateur'!BP$2,Horaires!$H$3:$H$40,0),5),VLOOKUP(BO14,Horaires!$A$3:$E$60,5,)))","v":0.44791666666666669},null,{"$f":"INDEX(Planning!$21:$21,MATCH('Solde d''heure collaborateur'!$A14,Planning!$3:$3))","v":"Ves1"},{"$f":"VLOOKUP(BS14,Horaires!$A$3:$E$49,2,)","v":"Vesenaz"},{"$f":"IF(BT14=\"vacances\",INDEX(Horaires!$H$3:$L$42,MATCH('Solde d''heure collaborateur'!BT$2,Horaires!$H$3:$H$40,0),4),IF(BT14=\"maladie\",INDEX(Horaires!$H$3:$L$42,MATCH('Solde d''heure collaborateur'!BT$2,Horaires!$H$3:$H$40,0),5),VLOOKUP(BS14,Horaires!$A$3:$E$60,5,)))","v":0.44791666666666669},null,{"$f":"INDEX(Planning!$22:$22,MATCH('Solde d''heure collaborateur'!$A14,Planning!$3:$3))","v":"X"},{"$f":"VLOOKUP(BW14,Horaires!$A$3:$E$49,2,)","v":"XXX"},{"$f":"IF(BX14=\"vacances\",INDEX(Horaires!$H$3:$L$42,MATCH('Solde d''heure collaborateur'!BX$2,Horaires!$H$3:$H$40,0),4),IF(BX14=\"maladie\",INDEX(Horaires!$H$3:$L$42,MATCH('Solde d''heure collaborateur'!BX$2,Horaires!$H$3:$H$40,0),5),VLOOKUP(BW14,Horaires!$A$3:$E$60,5,)))","v":0},null,{"$f":"INDEX(Planning!$23:$23,MATCH('Solde d''heure collaborateur'!$A14,Planning!$3:$3))","v":"Plo1"},{"$f":"VLOOKUP(CA14,Horaires!$A$3:$E$49,2,)","v":"Plan les Ouates"},{"$f":"IF(CB14=\"vacances\",INDEX(Horaires!$H$3:$L$42,MATCH('Solde d''heure collaborateur'!CB$2,Horaires!$H$3:$H$40,0),4),IF(CB14=\"maladie\",INDEX(Horaires!$H$3:$L$42,MATCH('Solde d''heure collaborateur'!CB$2,Horaires!$H$3:$H$40,0),5),VLOOKUP(CA14,Horaires!$A$3:$E$60,5,)))","v":0.46875000000000006},null,{"$f":"INDEX(Planning!$24:$24,MATCH('Solde d''heure collaborateur'!$A14,Planning!$3:$3))","v":"R"},{"$f":"VLOOKUP(CE14,Horaires!$A$3:$E$49,2,)","v":"Congé"},{"$f":"IF(CF14=\"vacances\",INDEX(Horaires!$H$3:$L$42,MATCH('Solde d''heure collaborateur'!CF$2,Horaires!$H$3:$H$40,0),4),IF(CF14=\"maladie\",INDEX(Horaires!$H$3:$L$42,MATCH('Solde d''heure collaborateur'!CF$2,Horaires!$H$3:$H$40,0),5),VLOOKUP(CE14,Horaires!$A$3:$E$60,5,)))","v":0},null,{"$f":"INDEX(Planning!$25:$25,MATCH('Solde d''heure collaborateur'!$A14,Planning!$3:$3))","v":"X"},{"$f":"VLOOKUP(CI14,Horaires!$A$3:$E$49,2,)","v":"XXX"},{"$f":"IF(CJ14=\"vacances\",INDEX(Horaires!$H$3:$L$42,MATCH('Solde d''heure collaborateur'!CJ$2,Horaires!$H$3:$H$40,0),4),IF(CJ14=\"maladie\",INDEX(Horaires!$H$3:$L$42,MATCH('Solde d''heure collaborateur'!CJ$2,Horaires!$H$3:$H$40,0),5),VLOOKUP(CI14,Horaires!$A$3:$E$60,5,)))","v":0},null,{"$f":"INDEX(Planning!$26:$26,MATCH('Solde d''heure collaborateur'!$A14,Planning!$3:$3))","v":"Vid1"},{"$f":"VLOOKUP(CM14,Horaires!$A$3:$E$49,2,)","v":"Vidollet"},{"$f":"IF(CN14=\"vacances\",INDEX(Horaires!$H$3:$L$42,MATCH('Solde d''heure collaborateur'!CN$2,Horaires!$H$3:$H$40,0),4),IF(CN14=\"maladie\",INDEX(Horaires!$H$3:$L$42,MATCH('Solde d''heure collaborateur'!CN$2,Horaires!$H$3:$H$40,0),5),VLOOKUP(CM14,Horaires!$A$3:$E$60,5,)))","v":0.44791666666666669},null,{"$f":"INDEX(Planning!$27:$27,MATCH('Solde d''heure collaborateur'!$A14,Planning!$3:$3))","v":"R"},{"$f":"VLOOKUP(CQ14,Horaires!$A$3:$E$49,2,)","v":"Congé"},{"$f":"IF(CR14=\"vacances\",INDEX(Horaires!$H$3:$L$42,MATCH('Solde d''heure collaborateur'!CR$2,Horaires!$H$3:$H$40,0),4),IF(CR14=\"maladie\",INDEX(Horaires!$H$3:$L$42,MATCH('Solde d''heure collaborateur'!CR$2,Horaires!$H$3:$H$40,0),5),VLOOKUP(CQ14,Horaires!$A$3:$E$60,5,)))","v":0},null,{"$f":"INDEX(Planning!$28:$28,MATCH('Solde d''heure collaborateur'!$A14,Planning!$3:$3))","v":"tour1"},{"$f":"VLOOKUP(CU14,Horaires!$A$3:$E$49,2,)","v":"Tourelle"},{"$f":"IF(CV14=\"vacances\",INDEX(Horaires!$H$3:$L$42,MATCH('Solde d''heure collaborateur'!CV$2,Horaires!$H$3:$H$40,0),4),IF(CV14=\"maladie\",INDEX(Horaires!$H$3:$L$42,MATCH('Solde d''heure collaborateur'!CV$2,Horaires!$H$3:$H$40,0),5),VLOOKUP(CU14,Horaires!$A$3:$E$60,5,)))","v":0.46875000000000006},null,{"$f":"INDEX(Planning!$29:$29,MATCH('Solde d''heure collaborateur'!$A14,Planning!$3:$3))","v":"X"},{"$f":"VLOOKUP(CY14,Horaires!$A$3:$E$49,2,)","v":"XXX"},{"$f":"IF(CZ14=\"vacances\",INDEX(Horaires!$H$3:$L$42,MATCH('Solde d''heure collaborateur'!CZ$2,Horaires!$H$3:$H$40,0),4),IF(CZ14=\"maladie\",INDEX(Horaires!$H$3:$L$42,MATCH('Solde d''heure collaborateur'!CZ$2,Horaires!$H$3:$H$40,0),5),VLOOKUP(CY14,Horaires!$A$3:$E$60,5,)))","v":0},null,{"$f":"INDEX(Planning!$30:$30,MATCH('Solde d''heure collaborateur'!$A14,Planning!$3:$3))","v":"X"},{"$f":"VLOOKUP(DC14,Horaires!$A$3:$E$49,2,)","v":"XXX"},{"$f":"IF(DD14=\"vacances\",INDEX(Horaires!$H$3:$L$42,MATCH('Solde d''heure collaborateur'!DD$2,Horaires!$H$3:$H$40,0),4),IF(DD14=\"maladie\",INDEX(Horaires!$H$3:$L$42,MATCH('Solde d''heure collaborateur'!DD$2,Horaires!$H$3:$H$40,0),5),VLOOKUP(DC14,Horaires!$A$3:$E$60,5,)))","v":0},null,{"$f":"INDEX(Planning!$31:$31,MATCH('Solde d''heure collaborateur'!$A14,Planning!$3:$3))","v":"X"},{"$f":"VLOOKUP(DG14,Horaires!$A$3:$E$49,2,)","v":"XXX"},{"$f":"IF(DH14=\"vacances\",INDEX(Horaires!$H$3:$L$42,MATCH('Solde d''heure collaborateur'!DH$2,Horaires!$H$3:$H$40,0),4),IF(DH14=\"maladie\",INDEX(Horaires!$H$3:$L$42,MATCH('Solde d''heure collaborateur'!DH$2,Horaires!$H$3:$H$40,0),5),VLOOKUP(DG14,Horaires!$A$3:$E$60,5,)))","v":0},null,{"$f":"INDEX(Planning!$32:$32,MATCH('Solde d''heure collaborateur'!$A14,Planning!$3:$3))","v":"X"},{"$f":"VLOOKUP(DK14,Horaires!$A$3:$E$49,2,)","v":"XXX"},{"$f":"IF(DL14=\"vacances\",INDEX(Horaires!$H$3:$L$42,MATCH('Solde d''heure collaborateur'!DL$2,Horaires!$H$3:$H$40,0),4),IF(DL14=\"maladie\",INDEX(Horaires!$H$3:$L$42,MATCH('Solde d''heure collaborateur'!DL$2,Horaires!$H$3:$H$40,0),5),VLOOKUP(DK14,Horaires!$A$3:$E$60,5,)))","v":0},null,{"$f":"INDEX(Planning!$33:$33,MATCH('Solde d''heure collaborateur'!$A14,Planning!$3:$3))","v":"X"},{"$f":"VLOOKUP(DO14,Horaires!$A$3:$E$49,2,)","v":"XXX"},{"$f":"IF(DP14=\"vacances\",INDEX(Horaires!$H$3:$L$42,MATCH('Solde d''heure collaborateur'!DP$2,Horaires!$H$3:$H$40,0),4),IF(DP14=\"maladie\",INDEX(Horaires!$H$3:$L$42,MATCH('Solde d''heure collaborateur'!DP$2,Horaires!$H$3:$H$40,0),5),VLOOKUP(DO14,Horaires!$A$3:$E$60,5,)))","v":0},null,{"$f":"INDEX(Planning!$34:$34,MATCH('Solde d''heure collaborateur'!$A14,Planning!$3:$3))","v":"X"},{"$f":"VLOOKUP(DS14,Horaires!$A$3:$E$49,2,)","v":"XXX"},{"$f":"IF(DT14=\"vacances\",INDEX(Horaires!$H$3:$L$42,MATCH('Solde d''heure collaborateur'!DT$2,Horaires!$H$3:$H$40,0),4),IF(DT14=\"maladie\",INDEX(Horaires!$H$3:$L$42,MATCH('Solde d''heure collaborateur'!DT$2,Horaires!$H$3:$H$40,0),5),VLOOKUP(DS14,Horaires!$A$3:$E$60,5,)))","v":0},null,{"$f":"INDEX(Planning!$35:$35,MATCH('Solde d''heure collaborateur'!$A14,Planning!$3:$3))","v":"X"},{"$f":"VLOOKUP(DW14,Horaires!$A$3:$E$49,2,)","v":"XXX"},{"$f":"IF(DX14=\"vacances\",INDEX(Horaires!$H$3:$L$42,MATCH('Solde d''heure collaborateur'!DX$2,Horaires!$H$3:$H$40,0),4),IF(DX14=\"maladie\",INDEX(Horaires!$H$3:$L$42,MATCH('Solde d''heure collaborateur'!DX$2,Horaires!$H$3:$H$40,0),5),VLOOKUP(DW14,Horaires!$A$3:$E$60,5,)))","v":0}]
[{"$f":"A14+1","v":"2013-11-14"},null,{"$f":"INDEX(Planning!$4:$4,MATCH('Solde d''heure collaborateur'!A15,Planning!$3:$3,0))","v":"Nav2"},{"$f":"VLOOKUP(C15,Horaires!$A$3:$E$49,2,)","v":"Navigation"},{"$f":"IF(D15=\"vacances\",INDEX(Horaires!$H$3:$L$42,MATCH('Solde d''heure collaborateur'!D$2,Horaires!$H$3:$H$40,0),4),IF(D15=\"maladie\",INDEX(Horaires!$H$3:$L$42,MATCH('Solde d''heure collaborateur'!D$2,Horaires!$H$3:$H$40,0),5),VLOOKUP(C15,Horaires!$A$3:$E$60,5,)))","v":0.46874999999999994},null,{"$f":"INDEX(Planning!$5:$5,MATCH('Solde d''heure collaborateur'!A15,Planning!$3:$3))","v":"Pom2"},{"$f":"VLOOKUP(G15,Horaires!$A$3:$E$49,2,)","v":"Pommier"},{"$f":"IF(H15=\"vacances\",INDEX(Horaires!$H$3:$L$42,MATCH('Solde d''heure collaborateur'!H$2,Horaires!$H$3:$H$40,0),4),IF(H15=\"maladie\",INDEX(Horaires!$H$3:$L$42,MATCH('Solde d''heure collaborateur'!H$2,Horaires!$H$3:$H$40,0),5),VLOOKUP(G15,Horaires!$A$3:$E$60,5,)))","v":0.46874999999999994},null,{"$f":"INDEX(Planning!$6:$6,MATCH('Solde d''heure collaborateur'!A15,Planning!$3:$3))","v":"M"},{"$f":"VLOOKUP(K15,Horaires!$A$3:$E$49,2,)","v":"Maladie"},{"$f":"IF(L15=\"vacances\",INDEX(Horaires!$H$3:$L$42,MATCH('Solde d''heure collaborateur'!L$2,Horaires!$H$3:$H$40,0),4),IF(L15=\"maladie\",INDEX(Horaires!$H$3:$L$42,MATCH('Solde d''heure collaborateur'!L$2,Horaires!$H$3:$H$40,0),5),VLOOKUP(K15,Horaires!$A$3:$E$60,5,)))","v":0.4375},null,{"$f":"INDEX(Planning!$7:$7,MATCH('Solde d''heure collaborateur'!$A15,Planning!$3:$3))","v":"X"},{"$f":"VLOOKUP(O15,Horaires!$A$3:$E$49,2,)","v":"XXX"},{"$f":"IF(P15=\"vacances\",INDEX(Horaires!$H$3:$L$42,MATCH('Solde d''heure collaborateur'!P$2,Horaires!$H$3:$H$40,0),4),IF(P15=\"maladie\",INDEX(Horaires!$H$3:$L$42,MATCH('Solde d''heure collaborateur'!P$2,Horaires!$H$3:$H$40,0),5),VLOOKUP(O15,Horaires!$A$3:$E$60,5,)))","v":0},null,{"$f":"INDEX(Planning!$8:$8,MATCH('Solde d''heure collaborateur'!$A15,Planning!$3:$3))","v":"R"},{"$f":"VLOOKUP(S15,Horaires!$A$3:$E$49,2,)","v":"Congé"},{"$f":"IF(T15=\"vacances\",INDEX(Horaires!$H$3:$L$42,MATCH('Solde d''heure collaborateur'!T$2,Horaires!$H$3:$H$40,0),4),IF(T15=\"maladie\",INDEX(Horaires!$H$3:$L$42,MATCH('Solde d''heure collaborateur'!T$2,Horaires!$H$3:$H$40,0),5),VLOOKUP(S15,Horaires!$A$3:$E$60,5,)))","v":0},null,{"$f":"INDEX(Planning!$9:$9,MATCH('Solde d''heure collaborateur'!$A15,Planning!$3:$3))","v":"X"},{"$f":"VLOOKUP(W15,Horaires!$A$3:$E$49,2,)","v":"XXX"},{"$f":"IF(X15=\"vacances\",INDEX(Horaires!$H$3:$L$42,MATCH('Solde d''heure collaborateur'!X$2,Horaires!$H$3:$H$40,0),4),IF(X15=\"maladie\",INDEX(Horaires!$H$3:$L$42,MATCH('Solde d''heure collaborateur'!X$2,Horaires!$H$3:$H$40,0),5),VLOOKUP(W15,Horaires!$A$3:$E$60,5,)))","v":0},null,{"$f":"INDEX(Planning!$10:$10,MATCH('Solde d''heure collaborateur'!$A15,Planning!$3:$3))","v":"onex2"},{"$f":"VLOOKUP(AA15,Horaires!$A$3:$E$49,2,)","v":"Onex"},{"$f":"IF(AB15=\"vacances\",INDEX(Horaires!$H$3:$L$42,MATCH('Solde d''heure collaborateur'!AB$2,Horaires!$H$3:$H$40,0),4),IF(AB15=\"maladie\",INDEX(Horaires!$H$3:$L$42,MATCH('Solde d''heure collaborateur'!AB$2,Horaires!$H$3:$H$40,0),5),VLOOKUP(AA15,Horaires!$A$3:$E$60,5,)))","v":0.48958333333333331},null,{"$f":"INDEX(Planning!$11:$11,MATCH('Solde d''heure collaborateur'!$A15,Planning!$3:$3))","v":"Recup"},{"$f":"VLOOKUP(AE15,Horaires!$A$3:$E$49,2,)","v":"Récupération"},{"$f":"IF(AF15=\"vacances\",INDEX(Horaires!$H$3:$L$42,MATCH('Solde d''heure collaborateur'!AF$2,Horaires!$H$3:$H$40,0),4),IF(AF15=\"maladie\",INDEX(Horaires!$H$3:$L$42,MATCH('Solde d''heure collaborateur'!AF$2,Horaires!$H$3:$H$40,0),5),VLOOKUP(AE15,Horaires!$A$3:$E$60,5,)))","v":0},null,{"$f":"INDEX(Planning!$12:$12,MATCH('Solde d''heure collaborateur'!$A15,Planning!$3:$3))","v":"Thon2"},{"$f":"VLOOKUP(AI15,Horaires!$A$3:$E$49,2,)","v":"Thonex"},{"$f":"IF(AJ15=\"vacances\",INDEX(Horaires!$H$3:$L$42,MATCH('Solde d''heure collaborateur'!AJ$2,Horaires!$H$3:$H$40,0),4),IF(AJ15=\"maladie\",INDEX(Horaires!$H$3:$L$42,MATCH('Solde d''heure collaborateur'!AJ$2,Horaires!$H$3:$H$40,0),5),VLOOKUP(AI15,Horaires!$A$3:$E$60,5,)))","v":0.46874999999999994},null,{"$f":"INDEX(Planning!$13:$13,MATCH('Solde d''heure collaborateur'!$A15,Planning!$3:$3))","v":"Nyon1"},{"$f":"VLOOKUP(AM15,Horaires!$A$3:$E$49,2,)","v":"Nyon"},{"$f":"IF(AN15=\"vacances\",INDEX(Horaires!$H$3:$L$42,MATCH('Solde d''heure collaborateur'!AN$2,Horaires!$H$3:$H$40,0),4),IF(AN15=\"maladie\",INDEX(Horaires!$H$3:$L$42,MATCH('Solde d''heure collaborateur'!AN$2,Horaires!$H$3:$H$40,0),5),VLOOKUP(AM15,Horaires!$A$3:$E$60,5,)))","v":0.44791666666666669},null,{"$f":"INDEX(Planning!$14:$14,MATCH('Solde d''heure collaborateur'!$A15,Planning!$3:$3))","v":"X"},{"$f":"VLOOKUP(AQ15,Horaires!$A$3:$E$49,2,)","v":"XXX"},{"$f":"IF(AR15=\"vacances\",INDEX(Horaires!$H$3:$L$42,MATCH('Solde d''heure collaborateur'!AR$2,Horaires!$H$3:$H$40,0),4),IF(AR15=\"maladie\",INDEX(Horaires!$H$3:$L$42,MATCH('Solde d''heure collaborateur'!AR$2,Horaires!$H$3:$H$40,0),5),VLOOKUP(AQ15,Horaires!$A$3:$E$60,5,)))","v":0},null,{"$f":"INDEX(Planning!$15:$15,MATCH('Solde d''heure collaborateur'!$A15,Planning!$3:$3))","v":"plo2"},{"$f":"VLOOKUP(AU15,Horaires!$A$3:$E$49,2,)","v":"Plan les Ouates"},{"$f":"IF(AV15=\"vacances\",INDEX(Horaires!$H$3:$L$42,MATCH('Solde d''heure collaborateur'!AV$2,Horaires!$H$3:$H$40,0),4),IF(AV15=\"maladie\",INDEX(Horaires!$H$3:$L$42,MATCH('Solde d''heure collaborateur'!AV$2,Horaires!$H$3:$H$40,0),5),VLOOKUP(AU15,Horaires!$A$3:$E$60,5,)))","v":0.48958333333333331},null,{"$f":"INDEX(Planning!$16:$16,MATCH('Solde d''heure collaborateur'!$A15,Planning!$3:$3))","v":"R"},{"$f":"VLOOKUP(AY15,Horaires!$A$3:$E$49,2,)","v":"Congé"},{"$f":"IF(AZ15=\"vacances\",INDEX(Horaires!$H$3:$L$42,MATCH('Solde d''heure collaborateur'!AZ$2,Horaires!$H$3:$H$40,0),4),IF(AZ15=\"maladie\",INDEX(Horaires!$H$3:$L$42,MATCH('Solde d''heure collaborateur'!AZ$2,Horaires!$H$3:$H$40,0),5),VLOOKUP(AY15,Horaires!$A$3:$E$60,5,)))","v":0},null,{"$f":"INDEX(Planning!$17:$17,MATCH('Solde d''heure collaborateur'!$A15,Planning!$3:$3))","v":"R"},{"$f":"VLOOKUP(BC15,Horaires!$A$3:$E$49,2,)","v":"Congé"},{"$f":"IF(BD15=\"vacances\",INDEX(Horaires!$H$3:$L$42,MATCH('Solde d''heure collaborateur'!BD$2,Horaires!$H$3:$H$40,0),4),IF(BD15=\"maladie\",INDEX(Horaires!$H$3:$L$42,MATCH('Solde d''heure collaborateur'!BD$2,Horaires!$H$3:$H$40,0),5),VLOOKUP(BC15,Horaires!$A$3:$E$60,5,)))","v":0},null,{"$f":"INDEX(Planning!$18:$18,MATCH('Solde d''heure collaborateur'!$A15,Planning!$3:$3))","v":"vibferm"},{"$f":"VLOOKUP(BG15,Horaires!$A$3:$E$49,2,)","v":"Vibert ferm"},{"$f":"IF(BH15=\"vacances\",INDEX(Horaires!$H$3:$L$42,MATCH('Solde d''heure collaborateur'!BH$2,Horaires!$H$3:$H$40,0),4),IF(BH15=\"maladie\",INDEX(Horaires!$H$3:$L$42,MATCH('Solde d''heure collaborateur'!BH$2,Horaires!$H$3:$H$40,0),5),VLOOKUP(BG15,Horaires!$A$3:$E$60,5,)))","v":0.42708333333333331},null,{"$f":"INDEX(Planning!$19:$19,MATCH('Solde d''heure collaborateur'!$A15,Planning!$3:$3))","v":"Vibjeu"},{"$f":"VLOOKUP(BK15,Horaires!$A$3:$E$49,2,)","v":"Vibert"},{"$f":"IF(BL15=\"vacances\",INDEX(Horaires!$H$3:$L$42,MATCH('Solde d''heure collaborateur'!BL$2,Horaires!$H$3:$H$40,0),4),IF(BL15=\"maladie\",INDEX(Horaires!$H$3:$L$42,MATCH('Solde d''heure collaborateur'!BL$2,Horaires!$H$3:$H$40,0),5),VLOOKUP(BK15,Horaires!$A$3:$E$60,5,)))","v":0.45833333333333331},null,{"$f":"INDEX(Planning!$20:$20,MATCH('Solde d''heure collaborateur'!$A15,Planning!$3:$3))","v":"R"},{"$f":"VLOOKUP(BO15,Horaires!$A$3:$E$49,2,)","v":"Congé"},{"$f":"IF(BP15=\"vacances\",INDEX(Horaires!$H$3:$L$42,MATCH('Solde d''heure collaborateur'!BP$2,Horaires!$H$3:$H$40,0),4),IF(BP15=\"maladie\",INDEX(Horaires!$H$3:$L$42,MATCH('Solde d''heure collaborateur'!BP$2,Horaires!$H$3:$H$40,0),5),VLOOKUP(BO15,Horaires!$A$3:$E$60,5,)))","v":0},null,{"$f":"INDEX(Planning!$21:$21,MATCH('Solde d''heure collaborateur'!$A15,Planning!$3:$3))","v":"Ves2"},{"$f":"VLOOKUP(BS15,Horaires!$A$3:$E$49,2,)","v":"Vesenaz"},{"$f":"IF(BT15=\"vacances\",INDEX(Horaires!$H$3:$L$42,MATCH('Solde d''heure collaborateur'!BT$2,Horaires!$H$3:$H$40,0),4),IF(BT15=\"maladie\",INDEX(Horaires!$H$3:$L$42,MATCH('Solde d''heure collaborateur'!BT$2,Horaires!$H$3:$H$40,0),5),VLOOKUP(BS15,Horaires!$A$3:$E$60,5,)))","v":0.46874999999999994},null,{"$f":"INDEX(Planning!$22:$22,MATCH('Solde d''heure collaborateur'!$A15,Planning!$3:$3))","v":"X"},{"$f":"VLOOKUP(BW15,Horaires!$A$3:$E$49,2,)","v":"XXX"},{"$f":"IF(BX15=\"vacances\",INDEX(Horaires!$H$3:$L$42,MATCH('Solde d''heure collaborateur'!BX$2,Horaires!$H$3:$H$40,0),4),IF(BX15=\"maladie\",INDEX(Horaires!$H$3:$L$42,MATCH('Solde d''heure collaborateur'!BX$2,Horaires!$H$3:$H$40,0),5),VLOOKUP(BW15,Horaires!$A$3:$E$60,5,)))","v":0},null,{"$f":"INDEX(Planning!$23:$23,MATCH('Solde d''heure collaborateur'!$A15,Planning!$3:$3))","v":"Aca1"},{"$f":"VLOOKUP(CA15,Horaires!$A$3:$E$49,2,)","v":"Acacias"},{"$f":"IF(CB15=\"vacances\",INDEX(Horaires!$H$3:$L$42,MATCH('Solde d''heure collaborateur'!CB$2,Horaires!$H$3:$H$40,0),4),IF(CB15=\"maladie\",INDEX(Horaires!$H$3:$L$42,MATCH('Solde d''heure collaborateur'!CB$2,Horaires!$H$3:$H$40,0),5),VLOOKUP(CA15,Horaires!$A$3:$E$60,5,)))","v":0.44791666666666669},null,{"$f":"INDEX(Planning!$24:$24,MATCH('Solde d''heure collaborateur'!$A15,Planning!$3:$3))","v":"Onex2"},{"$f":"VLOOKUP(CE15,Horaires!$A$3:$E$49,2,)","v":"Onex"},{"$f":"IF(CF15=\"vacances\",INDEX(Horaires!$H$3:$L$42,MATCH('Solde d''heure collaborateur'!CF$2,Horaires!$H$3:$H$40,0),4),IF(CF15=\"maladie\",INDEX(Horaires!$H$3:$L$42,MATCH('Solde d''heure collaborateur'!CF$2,Horaires!$H$3:$H$40,0),5),VLOOKUP(CE15,Horaires!$A$3:$E$60,5,)))","v":0.48958333333333331},null,{"$f":"INDEX(Planning!$25:$25,MATCH('Solde d''heure collaborateur'!$A15,Planning!$3:$3))","v":"X"},{"$f":"VLOOKUP(CI15,Horaires!$A$3:$E$49,2,)","v":"XXX"},{"$f":"IF(CJ15=\"vacances\",INDEX(Horaires!$H$3:$L$42,MATCH('Solde d''heure collaborateur'!CJ$2,Horaires!$H$3:$H$40,0),4),IF(CJ15=\"maladie\",INDEX(Horaires!$H$3:$L$42,MATCH('Solde d''heure collaborateur'!CJ$2,Horaires!$H$3:$H$40,0),5),VLOOKUP(CI15,Horaires!$A$3:$E$60,5,)))","v":0},null,{"$f":"INDEX(Planning!$26:$26,MATCH('Solde d''heure collaborateur'!$A15,Planning!$3:$3))","v":"Vid2"},{"$f":"VLOOKUP(CM15,Horaires!$A$3:$E$49,2,)","v":"Vidollet"},{"$f":"IF(CN15=\"vacances\",INDEX(Horaires!$H$3:$L$42,MATCH('Solde d''heure collaborateur'!CN$2,Horaires!$H$3:$H$40,0),4),IF(CN15=\"maladie\",INDEX(Horaires!$H$3:$L$42,MATCH('Solde d''heure collaborateur'!CN$2,Horaires!$H$3:$H$40,0),5),VLOOKUP(CM15,Horaires!$A$3:$E$60,5,)))","v":0.46874999999999994},null,{"$f":"INDEX(Planning!$27:$27,MATCH('Solde d''heure collaborateur'!$A15,Planning!$3:$3))","v":"R"},{"$f":"VLOOKUP(CQ15,Horaires!$A$3:$E$49,2,)","v":"Congé"},{"$f":"IF(CR15=\"vacances\",INDEX(Horaires!$H$3:$L$42,MATCH('Solde d''heure collaborateur'!CR$2,Horaires!$H$3:$H$40,0),4),IF(CR15=\"maladie\",INDEX(Horaires!$H$3:$L$42,MATCH('Solde d''heure collaborateur'!CR$2,Horaires!$H$3:$H$40,0),5),VLOOKUP(CQ15,Horaires!$A$3:$E$60,5,)))","v":0},null,{"$f":"INDEX(Planning!$28:$28,MATCH('Solde d''heure collaborateur'!$A15,Planning!$3:$3))","v":"tour2"},{"$f":"VLOOKUP(CU15,Horaires!$A$3:$E$49,2,)","v":"Tourelle"},{"$f":"IF(CV15=\"vacances\",INDEX(Horaires!$H$3:$L$42,MATCH('Solde d''heure collaborateur'!CV$2,Horaires!$H$3:$H$40,0),4),IF(CV15=\"maladie\",INDEX(Horaires!$H$3:$L$42,MATCH('Solde d''heure collaborateur'!CV$2,Horaires!$H$3:$H$40,0),5),VLOOKUP(CU15,Horaires!$A$3:$E$60,5,)))","v":0.48958333333333331},null,{"$f":"INDEX(Planning!$29:$29,MATCH('Solde d''heure collaborateur'!$A15,Planning!$3:$3))","v":"X"},{"$f":"VLOOKUP(CY15,Horaires!$A$3:$E$49,2,)","v":"XXX"},{"$f":"IF(CZ15=\"vacances\",INDEX(Horaires!$H$3:$L$42,MATCH('Solde d''heure collaborateur'!CZ$2,Horaires!$H$3:$H$40,0),4),IF(CZ15=\"maladie\",INDEX(Horaires!$H$3:$L$42,MATCH('Solde d''heure collaborateur'!CZ$2,Horaires!$H$3:$H$40,0),5),VLOOKUP(CY15,Horaires!$A$3:$E$60,5,)))","v":0},null,{"$f":"INDEX(Planning!$30:$30,MATCH('Solde d''heure collaborateur'!$A15,Planning!$3:$3))","v":"X"},{"$f":"VLOOKUP(DC15,Horaires!$A$3:$E$49,2,)","v":"XXX"},{"$f":"IF(DD15=\"vacances\",INDEX(Horaires!$H$3:$L$42,MATCH('Solde d''heure collaborateur'!DD$2,Horaires!$H$3:$H$40,0),4),IF(DD15=\"maladie\",INDEX(Horaires!$H$3:$L$42,MATCH('Solde d''heure collaborateur'!DD$2,Horaires!$H$3:$H$40,0),5),VLOOKUP(DC15,Horaires!$A$3:$E$60,5,)))","v":0},null,{"$f":"INDEX(Planning!$31:$31,MATCH('Solde d''heure collaborateur'!$A15,Planning!$3:$3))","v":"X"},{"$f":"VLOOKUP(DG15,Horaires!$A$3:$E$49,2,)","v":"XXX"},{"$f":"IF(DH15=\"vacances\",INDEX(Horaires!$H$3:$L$42,MATCH('Solde d''heure collaborateur'!DH$2,Horaires!$H$3:$H$40,0),4),IF(DH15=\"maladie\",INDEX(Horaires!$H$3:$L$42,MATCH('Solde d''heure collaborateur'!DH$2,Horaires!$H$3:$H$40,0),5),VLOOKUP(DG15,Horaires!$A$3:$E$60,5,)))","v":0},null,{"$f":"INDEX(Planning!$32:$32,MATCH('Solde d''heure collaborateur'!$A15,Planning!$3:$3))","v":"X"},{"$f":"VLOOKUP(DK15,Horaires!$A$3:$E$49,2,)","v":"XXX"},{"$f":"IF(DL15=\"vacances\",INDEX(Horaires!$H$3:$L$42,MATCH('Solde d''heure collaborateur'!DL$2,Horaires!$H$3:$H$40,0),4),IF(DL15=\"maladie\",INDEX(Horaires!$H$3:$L$42,MATCH('Solde d''heure collaborateur'!DL$2,Horaires!$H$3:$H$40,0),5),VLOOKUP(DK15,Horaires!$A$3:$E$60,5,)))","v":0},null,{"$f":"INDEX(Planning!$33:$33,MATCH('Solde d''heure collaborateur'!$A15,Planning!$3:$3))","v":"X"},{"$f":"VLOOKUP(DO15,Horaires!$A$3:$E$49,2,)","v":"XXX"},{"$f":"IF(DP15=\"vacances\",INDEX(Horaires!$H$3:$L$42,MATCH('Solde d''heure collaborateur'!DP$2,Horaires!$H$3:$H$40,0),4),IF(DP15=\"maladie\",INDEX(Horaires!$H$3:$L$42,MATCH('Solde d''heure collaborateur'!DP$2,Horaires!$H$3:$H$40,0),5),VLOOKUP(DO15,Horaires!$A$3:$E$60,5,)))","v":0},null,{"$f":"INDEX(Planning!$34:$34,MATCH('Solde d''heure collaborateur'!$A15,Planning!$3:$3))","v":"X"},{"$f":"VLOOKUP(DS15,Horaires!$A$3:$E$49,2,)","v":"XXX"},{"$f":"IF(DT15=\"vacances\",INDEX(Horaires!$H$3:$L$42,MATCH('Solde d''heure collaborateur'!DT$2,Horaires!$H$3:$H$40,0),4),IF(DT15=\"maladie\",INDEX(Horaires!$H$3:$L$42,MATCH('Solde d''heure collaborateur'!DT$2,Horaires!$H$3:$H$40,0),5),VLOOKUP(DS15,Horaires!$A$3:$E$60,5,)))","v":0},null,{"$f":"INDEX(Planning!$35:$35,MATCH('Solde d''heure collaborateur'!$A15,Planning!$3:$3))","v":"X"},{"$f":"VLOOKUP(DW15,Horaires!$A$3:$E$49,2,)","v":"XXX"},{"$f":"IF(DX15=\"vacances\",INDEX(Horaires!$H$3:$L$42,MATCH('Solde d''heure collaborateur'!DX$2,Horaires!$H$3:$H$40,0),4),IF(DX15=\"maladie\",INDEX(Horaires!$H$3:$L$42,MATCH('Solde d''heure collaborateur'!DX$2,Horaires!$H$3:$H$40,0),5),VLOOKUP(DW15,Horaires!$A$3:$E$60,5,)))","v":0}]
[{"$f":"A15+1","v":"2013-11-15"},null,{"$f":"INDEX(Planning!$4:$4,MATCH('Solde d''heure collaborateur'!A16,Planning!$3:$3,0))","v":"R"},{"$f":"VLOOKUP(C16,Horaires!$A$3:$E$49,2,)","v":"Congé"},{"$f":"IF(D16=\"vacances\",INDEX(Horaires!$H$3:$L$42,MATCH('Solde d''heure collaborateur'!D$2,Horaires!$H$3:$H$40,0),4),IF(D16=\"maladie\",INDEX(Horaires!$H$3:$L$42,MATCH('Solde d''heure collaborateur'!D$2,Horaires!$H$3:$H$40,0),5),VLOOKUP(C16,Horaires!$A$3:$E$60,5,)))","v":0},null,{"$f":"INDEX(Planning!$5:$5,MATCH('Solde d''heure collaborateur'!A16,Planning!$3:$3))","v":"Pom2"},{"$f":"VLOOKUP(G16,Horaires!$A$3:$E$49,2,)","v":"Pommier"},{"$f":"IF(H16=\"vacances\",INDEX(Horaires!$H$3:$L$42,MATCH('Solde d''heure collaborateur'!H$2,Horaires!$H$3:$H$40,0),4),IF(H16=\"maladie\",INDEX(Horaires!$H$3:$L$42,MATCH('Solde d''heure collaborateur'!H$2,Horaires!$H$3:$H$40,0),5),VLOOKUP(G16,Horaires!$A$3:$E$60,5,)))","v":0.46874999999999994},null,{"$f":"INDEX(Planning!$6:$6,MATCH('Solde d''heure collaborateur'!A16,Planning!$3:$3))","v":"R"},{"$f":"VLOOKUP(K16,Horaires!$A$3:$E$49,2,)","v":"Congé"},{"$f":"IF(L16=\"vacances\",INDEX(Horaires!$H$3:$L$42,MATCH('Solde d''heure collaborateur'!L$2,Horaires!$H$3:$H$40,0),4),IF(L16=\"maladie\",INDEX(Horaires!$H$3:$L$42,MATCH('Solde d''heure collaborateur'!L$2,Horaires!$H$3:$H$40,0),5),VLOOKUP(K16,Horaires!$A$3:$E$60,5,)))","v":0},null,{"$f":"INDEX(Planning!$7:$7,MATCH('Solde d''heure collaborateur'!$A16,Planning!$3:$3))","v":"X"},{"$f":"VLOOKUP(O16,Horaires!$A$3:$E$49,2,)","v":"XXX"},{"$f":"IF(P16=\"vacances\",INDEX(Horaires!$H$3:$L$42,MATCH('Solde d''heure collaborateur'!P$2,Horaires!$H$3:$H$40,0),4),IF(P16=\"maladie\",INDEX(Horaires!$H$3:$L$42,MATCH('Solde d''heure collaborateur'!P$2,Horaires!$H$3:$H$40,0),5),VLOOKUP(O16,Horaires!$A$3:$E$60,5,)))","v":0},null,{"$f":"INDEX(Planning!$8:$8,MATCH('Solde d''heure collaborateur'!$A16,Planning!$3:$3))","v":"onex2"},{"$f":"VLOOKUP(S16,Horaires!$A$3:$E$49,2,)","v":"Onex"},{"$f":"IF(T16=\"vacances\",INDEX(Horaires!$H$3:$L$42,MATCH('Solde d''heure collaborateur'!T$2,Horaires!$H$3:$H$40,0),4),IF(T16=\"maladie\",INDEX(Horaires!$H$3:$L$42,MATCH('Solde d''heure collaborateur'!T$2,Horaires!$H$3:$H$40,0),5),VLOOKUP(S16,Horaires!$A$3:$E$60,5,)))","v":0.48958333333333331},null,{"$f":"INDEX(Planning!$9:$9,MATCH('Solde d''heure collaborateur'!$A16,Planning!$3:$3))","v":"X"},{"$f":"VLOOKUP(W16,Horaires!$A$3:$E$49,2,)","v":"XXX"},{"$f":"IF(X16=\"vacances\",INDEX(Horaires!$H$3:$L$42,MATCH('Solde d''heure collaborateur'!X$2,Horaires!$H$3:$H$40,0),4),IF(X16=\"maladie\",INDEX(Horaires!$H$3:$L$42,MATCH('Solde d''heure collaborateur'!X$2,Horaires!$H$3:$H$40,0),5),VLOOKUP(W16,Horaires!$A$3:$E$60,5,)))","v":0},null,{"$f":"INDEX(Planning!$10:$10,MATCH('Solde d''heure collaborateur'!$A16,Planning!$3:$3))","v":"tour2"},{"$f":"VLOOKUP(AA16,Horaires!$A$3:$E$49,2,)","v":"Tourelle"},{"$f":"IF(AB16=\"vacances\",INDEX(Horaires!$H$3:$L$42,MATCH('Solde d''heure collaborateur'!AB$2,Horaires!$H$3:$H$40,0),4),IF(AB16=\"maladie\",INDEX(Horaires!$H$3:$L$42,MATCH('Solde d''heure collaborateur'!AB$2,Horaires!$H$3:$H$40,0),5),VLOOKUP(AA16,Horaires!$A$3:$E$60,5,)))","v":0.48958333333333331},null,{"$f":"INDEX(Planning!$11:$11,MATCH('Solde d''heure collaborateur'!$A16,Planning!$3:$3))","v":"R"},{"$f":"VLOOKUP(AE16,Horaires!$A$3:$E$49,2,)","v":"Congé"},{"$f":"IF(AF16=\"vacances\",INDEX(Horaires!$H$3:$L$42,MATCH('Solde d''heure collaborateur'!AF$2,Horaires!$H$3:$H$40,0),4),IF(AF16=\"maladie\",INDEX(Horaires!$H$3:$L$42,MATCH('Solde d''heure collaborateur'!AF$2,Horaires!$H$3:$H$40,0),5),VLOOKUP(AE16,Horaires!$A$3:$E$60,5,)))","v":0},null,{"$f":"INDEX(Planning!$12:$12,MATCH('Solde d''heure collaborateur'!$A16,Planning!$3:$3))","v":"R"},{"$f":"VLOOKUP(AI16,Horaires!$A$3:$E$49,2,)","v":"Congé"},{"$f":"IF(AJ16=\"vacances\",INDEX(Horaires!$H$3:$L$42,MATCH('Solde d''heure collaborateur'!AJ$2,Horaires!$H$3:$H$40,0),4),IF(AJ16=\"maladie\",INDEX(Horaires!$H$3:$L$42,MATCH('Solde d''heure collaborateur'!AJ$2,Horaires!$H$3:$H$40,0),5),VLOOKUP(AI16,Horaires!$A$3:$E$60,5,)))","v":0},null,{"$f":"INDEX(Planning!$13:$13,MATCH('Solde d''heure collaborateur'!$A16,Planning!$3:$3))","v":"R"},{"$f":"VLOOKUP(AM16,Horaires!$A$3:$E$49,2,)","v":"Congé"},{"$f":"IF(AN16=\"vacances\",INDEX(Horaires!$H$3:$L$42,MATCH('Solde d''heure collaborateur'!AN$2,Horaires!$H$3:$H$40,0),4),IF(AN16=\"maladie\",INDEX(Horaires!$H$3:$L$42,MATCH('Solde d''heure collaborateur'!AN$2,Horaires!$H$3:$H$40,0),5),VLOOKUP(AM16,Horaires!$A$3:$E$60,5,)))","v":0},null,{"$f":"INDEX(Planning!$14:$14,MATCH('Solde d''heure collaborateur'!$A16,Planning!$3:$3))","v":"M"},{"$f":"VLOOKUP(AQ16,Horaires!$A$3:$E$49,2,)","v":"Maladie"},{"$f":"IF(AR16=\"vacances\",INDEX(Horaires!$H$3:$L$42,MATCH('Solde d''heure collaborateur'!AR$2,Horaires!$H$3:$H$40,0),4),IF(AR16=\"maladie\",INDEX(Horaires!$H$3:$L$42,MATCH('Solde d''heure collaborateur'!AR$2,Horaires!$H$3:$H$40,0),5),VLOOKUP(AQ16,Horaires!$A$3:$E$60,5,)))","v":0.46180555555555558},null,{"$f":"INDEX(Planning!$15:$15,MATCH('Solde d''heure collaborateur'!$A16,Planning!$3:$3))","v":"R"},{"$f":"VLOOKUP(AU16,Horaires!$A$3:$E$49,2,)","v":"Congé"},{"$f":"IF(AV16=\"vacances\",INDEX(Horaires!$H$3:$L$42,MATCH('Solde d''heure collaborateur'!AV$2,Horaires!$H$3:$H$40,0),4),IF(AV16=\"maladie\",INDEX(Horaires!$H$3:$L$42,MATCH('Solde d''heure collaborateur'!AV$2,Horaires!$H$3:$H$40,0),5),VLOOKUP(AU16,Horaires!$A$3:$E$60,5,)))","v":0},null,{"$f":"INDEX(Planning!$16:$16,MATCH('Solde d''heure collaborateur'!$A16,Planning!$3:$3))","v":"Nyon1"},{"$f":"VLOOKUP(AY16,Horaires!$A$3:$E$49,2,)","v":"Nyon"},{"$f":"IF(AZ16=\"vacances\",INDEX(Horaires!$H$3:$L$42,MATCH('Solde d''heure collaborateur'!AZ$2,Horaires!$H$3:$H$40,0),4),IF(AZ16=\"maladie\",INDEX(Horaires!$H$3:$L$42,MATCH('Solde d''heure collaborateur'!AZ$2,Horaires!$H$3:$H$40,0),5),VLOOKUP(AY16,Horaires!$A$3:$E$60,5,)))","v":0.44791666666666669},null,{"$f":"INDEX(Planning!$17:$17,MATCH('Solde d''heure collaborateur'!$A16,Planning!$3:$3))","v":"nav2"},{"$f":"VLOOKUP(BC16,Horaires!$A$3:$E$49,2,)","v":"Navigation"},{"$f":"IF(BD16=\"vacances\",INDEX(Horaires!$H$3:$L$42,MATCH('Solde d''heure collaborateur'!BD$2,Horaires!$H$3:$H$40,0),4),IF(BD16=\"maladie\",INDEX(Horaires!$H$3:$L$42,MATCH('Solde d''heure collaborateur'!BD$2,Horaires!$H$3:$H$40,0),5),VLOOKUP(BC16,Horaires!$A$3:$E$60,5,)))","v":0.46874999999999994},null,{"$f":"INDEX(Planning!$18:$18,MATCH('Solde d''heure collaborateur'!$A16,Planning!$3:$3))","v":"vib2"},{"$f":"VLOOKUP(BG16,Horaires!$A$3:$E$49,2,)","v":"Vibert"},{"$f":"IF(BH16=\"vacances\",INDEX(Horaires!$H$3:$L$42,MATCH('Solde d''heure collaborateur'!BH$2,Horaires!$H$3:$H$40,0),4),IF(BH16=\"maladie\",INDEX(Horaires!$H$3:$L$42,MATCH('Solde d''heure collaborateur'!BH$2,Horaires!$H$3:$H$40,0),5),VLOOKUP(BG16,Horaires!$A$3:$E$60,5,)))","v":0.48958333333333331},null,{"$f":"INDEX(Planning!$19:$19,MATCH('Solde d''heure collaborateur'!$A16,Planning!$3:$3))","v":"Vib2"},{"$f":"VLOOKUP(BK16,Horaires!$A$3:$E$49,2,)","v":"Vibert"},{"$f":"IF(BL16=\"vacances\",INDEX(Horaires!$H$3:$L$42,MATCH('Solde d''heure collaborateur'!BL$2,Horaires!$H$3:$H$40,0),4),IF(BL16=\"maladie\",INDEX(Horaires!$H$3:$L$42,MATCH('Solde d''heure collaborateur'!BL$2,Horaires!$H$3:$H$40,0),5),VLOOKUP(BK16,Horaires!$A$3:$E$60,5,)))","v":0.48958333333333331},null,{"$f":"INDEX(Planning!$20:$20,MATCH('Solde d''heure collaborateur'!$A16,Planning!$3:$3))","v":"R"},{"$f":"VLOOKUP(BO16,Horaires!$A$3:$E$49,2,)","v":"Congé"},{"$f":"IF(BP16=\"vacances\",INDEX(Horaires!$H$3:$L$42,MATCH('Solde d''heure collaborateur'!BP$2,Horaires!$H$3:$H$40,0),4),IF(BP16=\"maladie\",INDEX(Horaires!$H$3:$L$42,MATCH('Solde d''heure collaborateur'!BP$2,Horaires!$H$3:$H$40,0),5),VLOOKUP(BO16,Horaires!$A$3:$E$60,5,)))","v":0},null,{"$f":"INDEX(Planning!$21:$21,MATCH('Solde d''heure collaborateur'!$A16,Planning!$3:$3))","v":"Ves2"},{"$f":"VLOOKUP(BS16,Horaires!$A$3:$E$49,2,)","v":"Vesenaz"},{"$f":"IF(BT16=\"vacances\",INDEX(Horaires!$H$3:$L$42,MATCH('Solde d''heure collaborateur'!BT$2,Horaires!$H$3:$H$40,0),4),IF(BT16=\"maladie\",INDEX(Horaires!$H$3:$L$42,MATCH('Solde d''heure collaborateur'!BT$2,Horaires!$H$3:$H$40,0),5),VLOOKUP(BS16,Horaires!$A$3:$E$60,5,)))","v":0.46874999999999994},null,{"$f":"INDEX(Planning!$22:$22,MATCH('Solde d''heure collaborateur'!$A16,Planning!$3:$3))","v":"X"},{"$f":"VLOOKUP(BW16,Horaires!$A$3:$E$49,2,)","v":"XXX"},{"$f":"IF(BX16=\"vacances\",INDEX(Horaires!$H$3:$L$42,MATCH('Solde d''heure collaborateur'!BX$2,Horaires!$H$3:$H$40,0),4),IF(BX16=\"maladie\",INDEX(Horaires!$H$3:$L$42,MATCH('Solde d''heure collaborateur'!BX$2,Horaires!$H$3:$H$40,0),5),VLOOKUP(BW16,Horaires!$A$3:$E$60,5,)))","v":0},null,{"$f":"INDEX(Planning!$23:$23,MATCH('Solde d''heure collaborateur'!$A16,Planning!$3:$3))","v":"Aca1"},{"$f":"VLOOKUP(CA16,Horaires!$A$3:$E$49,2,)","v":"Acacias"},{"$f":"IF(CB16=\"vacances\",INDEX(Horaires!$H$3:$L$42,MATCH('Solde d''heure collaborateur'!CB$2,Horaires!$H$3:$H$40,0),4),IF(CB16=\"maladie\",INDEX(Horaires!$H$3:$L$42,MATCH('Solde d''heure collaborateur'!CB$2,Horaires!$H$3:$H$40,0),5),VLOOKUP(CA16,Horaires!$A$3:$E$60,5,)))","v":0.44791666666666669},null,{"$f":"INDEX(Planning!$24:$24,MATCH('Solde d''heure collaborateur'!$A16,Planning!$3:$3))","v":"Onex2"},{"$f":"VLOOKUP(CE16,Horaires!$A$3:$E$49,2,)","v":"Onex"},{"$f":"IF(CF16=\"vacances\",INDEX(Horaires!$H$3:$L$42,MATCH('Solde d''heure collaborateur'!CF$2,Horaires!$H$3:$H$40,0),4),IF(CF16=\"maladie\",INDEX(Horaires!$H$3:$L$42,MATCH('Solde d''heure collaborateur'!CF$2,Horaires!$H$3:$H$40,0),5),VLOOKUP(CE16,Horaires!$A$3:$E$60,5,)))","v":0.48958333333333331},null,{"$f":"INDEX(Planning!$25:$25,MATCH('Solde d''heure collaborateur'!$A16,Planning!$3:$3))","v":"X"},{"$f":"VLOOKUP(CI16,Horaires!$A$3:$E$49,2,)","v":"XXX"},{"$f":"IF(CJ16=\"vacances\",INDEX(Horaires!$H$3:$L$42,MATCH('Solde d''heure collaborateur'!CJ$2,Horaires!$H$3:$H$40,0),4),IF(CJ16=\"maladie\",INDEX(Horaires!$H$3:$L$42,MATCH('Solde d''heure collaborateur'!CJ$2,Horaires!$H$3:$H$40,0),5),VLOOKUP(CI16,Horaires!$A$3:$E$60,5,)))","v":0},null,{"$f":"INDEX(Planning!$26:$26,MATCH('Solde d''heure collaborateur'!$A16,Planning!$3:$3))","v":"Vid2"},{"$f":"VLOOKUP(CM16,Horaires!$A$3:$E$49,2,)","v":"Vidollet"},{"$f":"IF(CN16=\"vacances\",INDEX(Horaires!$H$3:$L$42,MATCH('Solde d''heure collaborateur'!CN$2,Horaires!$H$3:$H$40,0),4),IF(CN16=\"maladie\",INDEX(Horaires!$H$3:$L$42,MATCH('Solde d''heure collaborateur'!CN$2,Horaires!$H$3:$H$40,0),5),VLOOKUP(CM16,Horaires!$A$3:$E$60,5,)))","v":0.46874999999999994},null,{"$f":"INDEX(Planning!$27:$27,MATCH('Solde d''heure collaborateur'!$A16,Planning!$3:$3))","v":"Thon2"},{"$f":"VLOOKUP(CQ16,Horaires!$A$3:$E$49,2,)","v":"Thonex"},{"$f":"IF(CR16=\"vacances\",INDEX(Horaires!$H$3:$L$42,MATCH('Solde d''heure collaborateur'!CR$2,Horaires!$H$3:$H$40,0),4),IF(CR16=\"maladie\",INDEX(Horaires!$H$3:$L$42,MATCH('Solde d''heure collaborateur'!CR$2,Horaires!$H$3:$H$40,0),5),VLOOKUP(CQ16,Horaires!$A$3:$E$60,5,)))","v":0.46874999999999994},null,{"$f":"INDEX(Planning!$28:$28,MATCH('Solde d''heure collaborateur'!$A16,Planning!$3:$3))","v":"R"},{"$f":"VLOOKUP(CU16,Horaires!$A$3:$E$49,2,)","v":"Congé"},{"$f":"IF(CV16=\"vacances\",INDEX(Horaires!$H$3:$L$42,MATCH('Solde d''heure collaborateur'!CV$2,Horaires!$H$3:$H$40,0),4),IF(CV16=\"maladie\",INDEX(Horaires!$H$3:$L$42,MATCH('Solde d''heure collaborateur'!CV$2,Horaires!$H$3:$H$40,0),5),VLOOKUP(CU16,Horaires!$A$3:$E$60,5,)))","v":0},null,{"$f":"INDEX(Planning!$29:$29,MATCH('Solde d''heure collaborateur'!$A16,Planning!$3:$3))","v":"plo2"},{"$f":"VLOOKUP(CY16,Horaires!$A$3:$E$49,2,)","v":"Plan les Ouates"},{"$f":"IF(CZ16=\"vacances\",INDEX(Horaires!$H$3:$L$42,MATCH('Solde d''heure collaborateur'!CZ$2,Horaires!$H$3:$H$40,0),4),IF(CZ16=\"maladie\",INDEX(Horaires!$H$3:$L$42,MATCH('Solde d''heure collaborateur'!CZ$2,Horaires!$H$3:$H$40,0),5),VLOOKUP(CY16,Horaires!$A$3:$E$60,5,)))","v":0.48958333333333331},null,{"$f":"INDEX(Planning!$30:$30,MATCH('Solde d''heure collaborateur'!$A16,Planning!$3:$3))","v":"X"},{"$f":"VLOOKUP(DC16,Horaires!$A$3:$E$49,2,)","v":"XXX"},{"$f":"IF(DD16=\"vacances\",INDEX(Horaires!$H$3:$L$42,MATCH('Solde d''heure collaborateur'!DD$2,Horaires!$H$3:$H$40,0),4),IF(DD16=\"maladie\",INDEX(Horaires!$H$3:$L$42,MATCH('Solde d''heure collaborateur'!DD$2,Horaires!$H$3:$H$40,0),5),VLOOKUP(DC16,Horaires!$A$3:$E$60,5,)))","v":0},null,{"$f":"INDEX(Planning!$31:$31,MATCH('Solde d''heure collaborateur'!$A16,Planning!$3:$3))","v":"X"},{"$f":"VLOOKUP(DG16,Horaires!$A$3:$E$49,2,)","v":"XXX"},{"$f":"IF(DH16=\"vacances\",INDEX(Horaires!$H$3:$L$42,MATCH('Solde d''heure collaborateur'!DH$2,Horaires!$H$3:$H$40,0),4),IF(DH16=\"maladie\",INDEX(Horaires!$H$3:$L$42,MATCH('Solde d''heure collaborateur'!DH$2,Horaires!$H$3:$H$40,0),5),VLOOKUP(DG16,Horaires!$A$3:$E$60,5,)))","v":0},null,{"$f":"INDEX(Planning!$32:$32,MATCH('Solde d''heure collaborateur'!$A16,Planning!$3:$3))","v":"X"},{"$f":"VLOOKUP(DK16,Horaires!$A$3:$E$49,2,)","v":"XXX"},{"$f":"IF(DL16=\"vacances\",INDEX(Horaires!$H$3:$L$42,MATCH('Solde d''heure collaborateur'!DL$2,Horaires!$H$3:$H$40,0),4),IF(DL16=\"maladie\",INDEX(Horaires!$H$3:$L$42,MATCH('Solde d''heure collaborateur'!DL$2,Horaires!$H$3:$H$40,0),5),VLOOKUP(DK16,Horaires!$A$3:$E$60,5,)))","v":0},null,{"$f":"INDEX(Planning!$33:$33,MATCH('Solde d''heure collaborateur'!$A16,Planning!$3:$3))","v":"X"},{"$f":"VLOOKUP(DO16,Horaires!$A$3:$E$49,2,)","v":"XXX"},{"$f":"IF(DP16=\"vacances\",INDEX(Horaires!$H$3:$L$42,MATCH('Solde d''heure collaborateur'!DP$2,Horaires!$H$3:$H$40,0),4),IF(DP16=\"maladie\",INDEX(Horaires!$H$3:$L$42,MATCH('Solde d''heure collaborateur'!DP$2,Horaires!$H$3:$H$40,0),5),VLOOKUP(DO16,Horaires!$A$3:$E$60,5,)))","v":0},null,{"$f":"INDEX(Planning!$34:$34,MATCH('Solde d''heure collaborateur'!$A16,Planning!$3:$3))","v":"X"},{"$f":"VLOOKUP(DS16,Horaires!$A$3:$E$49,2,)","v":"XXX"},{"$f":"IF(DT16=\"vacances\",INDEX(Horaires!$H$3:$L$42,MATCH('Solde d''heure collaborateur'!DT$2,Horaires!$H$3:$H$40,0),4),IF(DT16=\"maladie\",INDEX(Horaires!$H$3:$L$42,MATCH('Solde d''heure collaborateur'!DT$2,Horaires!$H$3:$H$40,0),5),VLOOKUP(DS16,Horaires!$A$3:$E$60,5,)))","v":0},null,{"$f":"INDEX(Planning!$35:$35,MATCH('Solde d''heure collaborateur'!$A16,Planning!$3:$3))","v":"X"},{"$f":"VLOOKUP(DW16,Horaires!$A$3:$E$49,2,)","v":"XXX"},{"$f":"IF(DX16=\"vacances\",INDEX(Horaires!$H$3:$L$42,MATCH('Solde d''heure collaborateur'!DX$2,Horaires!$H$3:$H$40,0),4),IF(DX16=\"maladie\",INDEX(Horaires!$H$3:$L$42,MATCH('Solde d''heure collaborateur'!DX$2,Horaires!$H$3:$H$40,0),5),VLOOKUP(DW16,Horaires!$A$3:$E$60,5,)))","v":0}]
[{"$f":"A16+1","v":"2013-11-16"},null,{"$f":"INDEX(Planning!$4:$4,MATCH('Solde d''heure collaborateur'!A17,Planning!$3:$3,0))","v":"R"},{"$f":"VLOOKUP(C17,Horaires!$A$3:$E$49,2,)","v":"Congé"},{"$f":"IF(D17=\"vacances\",INDEX(Horaires!$H$3:$L$42,MATCH('Solde d''heure collaborateur'!D$2,Horaires!$H$3:$H$40,0),4),IF(D17=\"maladie\",INDEX(Horaires!$H$3:$L$42,MATCH('Solde d''heure collaborateur'!D$2,Horaires!$H$3:$H$40,0),5),VLOOKUP(C17,Horaires!$A$3:$E$60,5,)))","v":0},null,{"$f":"INDEX(Planning!$5:$5,MATCH('Solde d''heure collaborateur'!A17,Planning!$3:$3))","v":"R"},{"$f":"VLOOKUP(G17,Horaires!$A$3:$E$49,2,)","v":"Congé"},{"$f":"IF(H17=\"vacances\",INDEX(Horaires!$H$3:$L$42,MATCH('Solde d''heure collaborateur'!H$2,Horaires!$H$3:$H$40,0),4),IF(H17=\"maladie\",INDEX(Horaires!$H$3:$L$42,MATCH('Solde d''heure collaborateur'!H$2,Horaires!$H$3:$H$40,0),5),VLOOKUP(G17,Horaires!$A$3:$E$60,5,)))","v":0},null,{"$f":"INDEX(Planning!$6:$6,MATCH('Solde d''heure collaborateur'!A17,Planning!$3:$3))","v":"R"},{"$f":"VLOOKUP(K17,Horaires!$A$3:$E$49,2,)","v":"Congé"},{"$f":"IF(L17=\"vacances\",INDEX(Horaires!$H$3:$L$42,MATCH('Solde d''heure collaborateur'!L$2,Horaires!$H$3:$H$40,0),4),IF(L17=\"maladie\",INDEX(Horaires!$H$3:$L$42,MATCH('Solde d''heure collaborateur'!L$2,Horaires!$H$3:$H$40,0),5),VLOOKUP(K17,Horaires!$A$3:$E$60,5,)))","v":0},null,{"$f":"INDEX(Planning!$7:$7,MATCH('Solde d''heure collaborateur'!$A17,Planning!$3:$3))","v":"X"},{"$f":"VLOOKUP(O17,Horaires!$A$3:$E$49,2,)","v":"XXX"},{"$f":"IF(P17=\"vacances\",INDEX(Horaires!$H$3:$L$42,MATCH('Solde d''heure collaborateur'!P$2,Horaires!$H$3:$H$40,0),4),IF(P17=\"maladie\",INDEX(Horaires!$H$3:$L$42,MATCH('Solde d''heure collaborateur'!P$2,Horaires!$H$3:$H$40,0),5),VLOOKUP(O17,Horaires!$A$3:$E$60,5,)))","v":0},null,{"$f":"INDEX(Planning!$8:$8,MATCH('Solde d''heure collaborateur'!$A17,Planning!$3:$3))","v":"Onex3"},{"$f":"VLOOKUP(S17,Horaires!$A$3:$E$49,2,)","v":"Onex"},{"$f":"IF(T17=\"vacances\",INDEX(Horaires!$H$3:$L$42,MATCH('Solde d''heure collaborateur'!T$2,Horaires!$H$3:$H$40,0),4),IF(T17=\"maladie\",INDEX(Horaires!$H$3:$L$42,MATCH('Solde d''heure collaborateur'!T$2,Horaires!$H$3:$H$40,0),5),VLOOKUP(S17,Horaires!$A$3:$E$60,5,)))","v":0.42708333333333331},null,{"$f":"INDEX(Planning!$9:$9,MATCH('Solde d''heure collaborateur'!$A17,Planning!$3:$3))","v":"X"},{"$f":"VLOOKUP(W17,Horaires!$A$3:$E$49,2,)","v":"XXX"},{"$f":"IF(X17=\"vacances\",INDEX(Horaires!$H$3:$L$42,MATCH('Solde d''heure collaborateur'!X$2,Horaires!$H$3:$H$40,0),4),IF(X17=\"maladie\",INDEX(Horaires!$H$3:$L$42,MATCH('Solde d''heure collaborateur'!X$2,Horaires!$H$3:$H$40,0),5),VLOOKUP(W17,Horaires!$A$3:$E$60,5,)))","v":0},null,{"$f":"INDEX(Planning!$10:$10,MATCH('Solde d''heure collaborateur'!$A17,Planning!$3:$3))","v":"tour3"},{"$f":"VLOOKUP(AA17,Horaires!$A$3:$E$49,2,)","v":"Tourelle"},{"$f":"IF(AB17=\"vacances\",INDEX(Horaires!$H$3:$L$42,MATCH('Solde d''heure collaborateur'!AB$2,Horaires!$H$3:$H$40,0),4),IF(AB17=\"maladie\",INDEX(Horaires!$H$3:$L$42,MATCH('Solde d''heure collaborateur'!AB$2,Horaires!$H$3:$H$40,0),5),VLOOKUP(AA17,Horaires!$A$3:$E$60,5,)))","v":0.42708333333333331},null,{"$f":"INDEX(Planning!$11:$11,MATCH('Solde d''heure collaborateur'!$A17,Planning!$3:$3))","v":"R"},{"$f":"VLOOKUP(AE17,Horaires!$A$3:$E$49,2,)","v":"Congé"},{"$f":"IF(AF17=\"vacances\",INDEX(Horaires!$H$3:$L$42,MATCH('Solde d''heure collaborateur'!AF$2,Horaires!$H$3:$H$40,0),4),IF(AF17=\"maladie\",INDEX(Horaires!$H$3:$L$42,MATCH('Solde d''heure collaborateur'!AF$2,Horaires!$H$3:$H$40,0),5),VLOOKUP(AE17,Horaires!$A$3:$E$60,5,)))","v":0},null,{"$f":"INDEX(Planning!$12:$12,MATCH('Solde d''heure collaborateur'!$A17,Planning!$3:$3))","v":"R"},{"$f":"VLOOKUP(AI17,Horaires!$A$3:$E$49,2,)","v":"Congé"},{"$f":"IF(AJ17=\"vacances\",INDEX(Horaires!$H$3:$L$42,MATCH('Solde d''heure collaborateur'!AJ$2,Horaires!$H$3:$H$40,0),4),IF(AJ17=\"maladie\",INDEX(Horaires!$H$3:$L$42,MATCH('Solde d''heure collaborateur'!AJ$2,Horaires!$H$3:$H$40,0),5),VLOOKUP(AI17,Horaires!$A$3:$E$60,5,)))","v":0},null,{"$f":"INDEX(Planning!$13:$13,MATCH('Solde d''heure collaborateur'!$A17,Planning!$3:$3))","v":"Pom3"},{"$f":"VLOOKUP(AM17,Horaires!$A$3:$E$49,2,)","v":"Pommier"},{"$f":"IF(AN17=\"vacances\",INDEX(Horaires!$H$3:$L$42,MATCH('Solde d''heure collaborateur'!AN$2,Horaires!$H$3:$H$40,0),4),IF(AN17=\"maladie\",INDEX(Horaires!$H$3:$L$42,MATCH('Solde d''heure collaborateur'!AN$2,Horaires!$H$3:$H$40,0),5),VLOOKUP(AM17,Horaires!$A$3:$E$60,5,)))","v":0.42708333333333331},null,{"$f":"INDEX(Planning!$14:$14,MATCH('Solde d''heure collaborateur'!$A17,Planning!$3:$3))","v":"M"},{"$f":"VLOOKUP(AQ17,Horaires!$A$3:$E$49,2,)","v":"Maladie"},{"$f":"IF(AR17=\"vacances\",INDEX(Horaires!$H$3:$L$42,MATCH('Solde d''heure collaborateur'!AR$2,Horaires!$H$3:$H$40,0),4),IF(AR17=\"maladie\",INDEX(Horaires!$H$3:$L$42,MATCH('Solde d''heure collaborateur'!AR$2,Horaires!$H$3:$H$40,0),5),VLOOKUP(AQ17,Horaires!$A$3:$E$60,5,)))","v":0.46180555555555558},null,{"$f":"INDEX(Planning!$15:$15,MATCH('Solde d''heure collaborateur'!$A17,Planning!$3:$3))","v":"R"},{"$f":"VLOOKUP(AU17,Horaires!$A$3:$E$49,2,)","v":"Congé"},{"$f":"IF(AV17=\"vacances\",INDEX(Horaires!$H$3:$L$42,MATCH('Solde d''heure collaborateur'!AV$2,Horaires!$H$3:$H$40,0),4),IF(AV17=\"maladie\",INDEX(Horaires!$H$3:$L$42,MATCH('Solde d''heure collaborateur'!AV$2,Horaires!$H$3:$H$40,0),5),VLOOKUP(AU17,Horaires!$A$3:$E$60,5,)))","v":0},null,{"$f":"INDEX(Planning!$16:$16,MATCH('Solde d''heure collaborateur'!$A17,Planning!$3:$3))","v":"Nyon2"},{"$f":"VLOOKUP(AY17,Horaires!$A$3:$E$49,2,)","v":"Nyon"},{"$f":"IF(AZ17=\"vacances\",INDEX(Horaires!$H$3:$L$42,MATCH('Solde d''heure collaborateur'!AZ$2,Horaires!$H$3:$H$40,0),4),IF(AZ17=\"maladie\",INDEX(Horaires!$H$3:$L$42,MATCH('Solde d''heure collaborateur'!AZ$2,Horaires!$H$3:$H$40,0),5),VLOOKUP(AY17,Horaires!$A$3:$E$60,5,)))","v":0.40624999999999994},null,{"$f":"INDEX(Planning!$17:$17,MATCH('Solde d''heure collaborateur'!$A17,Planning!$3:$3))","v":"nav3"},{"$f":"VLOOKUP(BC17,Horaires!$A$3:$E$49,2,)","v":"Navigation"},{"$f":"IF(BD17=\"vacances\",INDEX(Horaires!$H$3:$L$42,MATCH('Solde d''heure collaborateur'!BD$2,Horaires!$H$3:$H$40,0),4),IF(BD17=\"maladie\",INDEX(Horaires!$H$3:$L$42,MATCH('Solde d''heure collaborateur'!BD$2,Horaires!$H$3:$H$40,0),5),VLOOKUP(BC17,Horaires!$A$3:$E$60,5,)))","v":0.40624999999999994},null,{"$f":"INDEX(Planning!$18:$18,MATCH('Solde d''heure collaborateur'!$A17,Planning!$3:$3))","v":"vib3"},{"$f":"VLOOKUP(BG17,Horaires!$A$3:$E$49,2,)","v":"Vibert"},{"$f":"IF(BH17=\"vacances\",INDEX(Horaires!$H$3:$L$42,MATCH('Solde d''heure collaborateur'!BH$2,Horaires!$H$3:$H$40,0),4),IF(BH17=\"maladie\",INDEX(Horaires!$H$3:$L$42,MATCH('Solde d''heure collaborateur'!BH$2,Horaires!$H$3:$H$40,0),5),VLOOKUP(BG17,Horaires!$A$3:$E$60,5,)))","v":0.42708333333333331},null,{"$f":"INDEX(Planning!$19:$19,MATCH('Solde d''heure collaborateur'!$A17,Planning!$3:$3))","v":"Vib3"},{"$f":"VLOOKUP(BK17,Horaires!$A$3:$E$49,2,)","v":"Vibert"},{"$f":"IF(BL17=\"vacances\",INDEX(Horaires!$H$3:$L$42,MATCH('Solde d''heure collaborateur'!BL$2,Horaires!$H$3:$H$40,0),4),IF(BL17=\"maladie\",INDEX(Horaires!$H$3:$L$42,MATCH('Solde d''heure collaborateur'!BL$2,Horaires!$H$3:$H$40,0),5),VLOOKUP(BK17,Horaires!$A$3:$E$60,5,)))","v":0.42708333333333331},null,{"$f":"INDEX(Planning!$20:$20,MATCH('Solde d''heure collaborateur'!$A17,Planning!$3:$3))","v":"Aca3"},{"$f":"VLOOKUP(BO17,Horaires!$A$3:$E$49,2,)","v":"Acacias"},{"$f":"IF(BP17=\"vacances\",INDEX(Horaires!$H$3:$L$42,MATCH('Solde d''heure collaborateur'!BP$2,Horaires!$H$3:$H$40,0),4),IF(BP17=\"maladie\",INDEX(Horaires!$H$3:$L$42,MATCH('Solde d''heure collaborateur'!BP$2,Horaires!$H$3:$H$40,0),5),VLOOKUP(BO17,Horaires!$A$3:$E$60,5,)))","v":0.40624999999999994},null,{"$f":"INDEX(Planning!$21:$21,MATCH('Solde d''heure collaborateur'!$A17,Planning!$3:$3))","v":"Ves3"},{"$f":"VLOOKUP(BS17,Horaires!$A$3:$E$49,2,)","v":"Vesenaz"},{"$f":"IF(BT17=\"vacances\",INDEX(Horaires!$H$3:$L$42,MATCH('Solde d''heure collaborateur'!BT$2,Horaires!$H$3:$H$40,0),4),IF(BT17=\"maladie\",INDEX(Horaires!$H$3:$L$42,MATCH('Solde d''heure collaborateur'!BT$2,Horaires!$H$3:$H$40,0),5),VLOOKUP(BS17,Horaires!$A$3:$E$60,5,)))","v":0.40624999999999994},null,{"$f":"INDEX(Planning!$22:$22,MATCH('Solde d''heure collaborateur'!$A17,Planning!$3:$3))","v":"X"},{"$f":"VLOOKUP(BW17,Horaires!$A$3:$E$49,2,)","v":"XXX"},{"$f":"IF(BX17=\"vacances\",INDEX(Horaires!$H$3:$L$42,MATCH('Solde d''heure collaborateur'!BX$2,Horaires!$H$3:$H$40,0),4),IF(BX17=\"maladie\",INDEX(Horaires!$H$3:$L$42,MATCH('Solde d''heure collaborateur'!BX$2,Horaires!$H$3:$H$40,0),5),VLOOKUP(BW17,Horaires!$A$3:$E$60,5,)))","v":0},null,{"$f":"INDEX(Planning!$23:$23,MATCH('Solde d''heure collaborateur'!$A17,Planning!$3:$3))","v":"Plo1"},{"$f":"VLOOKUP(CA17,Horaires!$A$3:$E$49,2,)","v":"Plan les Ouates"},{"$f":"IF(CB17=\"vacances\",INDEX(Horaires!$H$3:$L$42,MATCH('Solde d''heure collaborateur'!CB$2,Horaires!$H$3:$H$40,0),4),IF(CB17=\"maladie\",INDEX(Horaires!$H$3:$L$42,MATCH('Solde d''heure collaborateur'!CB$2,Horaires!$H$3:$H$40,0),5),VLOOKUP(CA17,Horaires!$A$3:$E$60,5,)))","v":0.46875000000000006},null,{"$f":"INDEX(Planning!$24:$24,MATCH('Solde d''heure collaborateur'!$A17,Planning!$3:$3))","v":"onex3"},{"$f":"VLOOKUP(CE17,Horaires!$A$3:$E$49,2,)","v":"Onex"},{"$f":"IF(CF17=\"vacances\",INDEX(Horaires!$H$3:$L$42,MATCH('Solde d''heure collaborateur'!CF$2,Horaires!$H$3:$H$40,0),4),IF(CF17=\"maladie\",INDEX(Horaires!$H$3:$L$42,MATCH('Solde d''heure collaborateur'!CF$2,Horaires!$H$3:$H$40,0),5),VLOOKUP(CE17,Horaires!$A$3:$E$60,5,)))","v":0.42708333333333331},null,{"$f":"INDEX(Planning!$25:$25,MATCH('Solde d''heure collaborateur'!$A17,Planning!$3:$3))","v":"X"},{"$f":"VLOOKUP(CI17,Horaires!$A$3:$E$49,2,)","v":"XXX"},{"$f":"IF(CJ17=\"vacances\",INDEX(Horaires!$H$3:$L$42,MATCH('Solde d''heure collaborateur'!CJ$2,Horaires!$H$3:$H$40,0),4),IF(CJ17=\"maladie\",INDEX(Horaires!$H$3:$L$42,MATCH('Solde d''heure collaborateur'!CJ$2,Horaires!$H$3:$H$40,0),5),VLOOKUP(CI17,Horaires!$A$3:$E$60,5,)))","v":0},null,{"$f":"INDEX(Planning!$26:$26,MATCH('Solde d''heure collaborateur'!$A17,Planning!$3:$3))","v":"Vid3"},{"$f":"VLOOKUP(CM17,Horaires!$A$3:$E$49,2,)","v":"Vidollet"},{"$f":"IF(CN17=\"vacances\",INDEX(Horaires!$H$3:$L$42,MATCH('Solde d''heure collaborateur'!CN$2,Horaires!$H$3:$H$40,0),4),IF(CN17=\"maladie\",INDEX(Horaires!$H$3:$L$42,MATCH('Solde d''heure collaborateur'!CN$2,Horaires!$H$3:$H$40,0),5),VLOOKUP(CM17,Horaires!$A$3:$E$60,5,)))","v":0.40624999999999994},null,{"$f":"INDEX(Planning!$27:$27,MATCH('Solde d''heure collaborateur'!$A17,Planning!$3:$3))","v":"Thon3"},{"$f":"VLOOKUP(CQ17,Horaires!$A$3:$E$49,2,)","v":"Thonex"},{"$f":"IF(CR17=\"vacances\",INDEX(Horaires!$H$3:$L$42,MATCH('Solde d''heure collaborateur'!CR$2,Horaires!$H$3:$H$40,0),4),IF(CR17=\"maladie\",INDEX(Horaires!$H$3:$L$42,MATCH('Solde d''heure collaborateur'!CR$2,Horaires!$H$3:$H$40,0),5),VLOOKUP(CQ17,Horaires!$A$3:$E$60,5,)))","v":0.40624999999999994},null,{"$f":"INDEX(Planning!$28:$28,MATCH('Solde d''heure collaborateur'!$A17,Planning!$3:$3))","v":"R"},{"$f":"VLOOKUP(CU17,Horaires!$A$3:$E$49,2,)","v":"Congé"},{"$f":"IF(CV17=\"vacances\",INDEX(Horaires!$H$3:$L$42,MATCH('Solde d''heure collaborateur'!CV$2,Horaires!$H$3:$H$40,0),4),IF(CV17=\"maladie\",INDEX(Horaires!$H$3:$L$42,MATCH('Solde d''heure collaborateur'!CV$2,Horaires!$H$3:$H$40,0),5),VLOOKUP(CU17,Horaires!$A$3:$E$60,5,)))","v":0},null,{"$f":"INDEX(Planning!$29:$29,MATCH('Solde d''heure collaborateur'!$A17,Planning!$3:$3))","v":"nav3"},{"$f":"VLOOKUP(CY17,Horaires!$A$3:$E$49,2,)","v":"Navigation"},{"$f":"IF(CZ17=\"vacances\",INDEX(Horaires!$H$3:$L$42,MATCH('Solde d''heure collaborateur'!CZ$2,Horaires!$H$3:$H$40,0),4),IF(CZ17=\"maladie\",INDEX(Horaires!$H$3:$L$42,MATCH('Solde d''heure collaborateur'!CZ$2,Horaires!$H$3:$H$40,0),5),VLOOKUP(CY17,Horaires!$A$3:$E$60,5,)))","v":0.40624999999999994},null,{"$f":"INDEX(Planning!$30:$30,MATCH('Solde d''heure collaborateur'!$A17,Planning!$3:$3))","v":"X"},{"$f":"VLOOKUP(DC17,Horaires!$A$3:$E$49,2,)","v":"XXX"},{"$f":"IF(DD17=\"vacances\",INDEX(Horaires!$H$3:$L$42,MATCH('Solde d''heure collaborateur'!DD$2,Horaires!$H$3:$H$40,0),4),IF(DD17=\"maladie\",INDEX(Horaires!$H$3:$L$42,MATCH('Solde d''heure collaborateur'!DD$2,Horaires!$H$3:$H$40,0),5),VLOOKUP(DC17,Horaires!$A$3:$E$60,5,)))","v":0},null,{"$f":"INDEX(Planning!$31:$31,MATCH('Solde d''heure collaborateur'!$A17,Planning!$3:$3))","v":"X"},{"$f":"VLOOKUP(DG17,Horaires!$A$3:$E$49,2,)","v":"XXX"},{"$f":"IF(DH17=\"vacances\",INDEX(Horaires!$H$3:$L$42,MATCH('Solde d''heure collaborateur'!DH$2,Horaires!$H$3:$H$40,0),4),IF(DH17=\"maladie\",INDEX(Horaires!$H$3:$L$42,MATCH('Solde d''heure collaborateur'!DH$2,Horaires!$H$3:$H$40,0),5),VLOOKUP(DG17,Horaires!$A$3:$E$60,5,)))","v":0},null,{"$f":"INDEX(Planning!$32:$32,MATCH('Solde d''heure collaborateur'!$A17,Planning!$3:$3))","v":"X"},{"$f":"VLOOKUP(DK17,Horaires!$A$3:$E$49,2,)","v":"XXX"},{"$f":"IF(DL17=\"vacances\",INDEX(Horaires!$H$3:$L$42,MATCH('Solde d''heure collaborateur'!DL$2,Horaires!$H$3:$H$40,0),4),IF(DL17=\"maladie\",INDEX(Horaires!$H$3:$L$42,MATCH('Solde d''heure collaborateur'!DL$2,Horaires!$H$3:$H$40,0),5),VLOOKUP(DK17,Horaires!$A$3:$E$60,5,)))","v":0},null,{"$f":"INDEX(Planning!$33:$33,MATCH('Solde d''heure collaborateur'!$A17,Planning!$3:$3))","v":"X"},{"$f":"VLOOKUP(DO17,Horaires!$A$3:$E$49,2,)","v":"XXX"},{"$f":"IF(DP17=\"vacances\",INDEX(Horaires!$H$3:$L$42,MATCH('Solde d''heure collaborateur'!DP$2,Horaires!$H$3:$H$40,0),4),IF(DP17=\"maladie\",INDEX(Horaires!$H$3:$L$42,MATCH('Solde d''heure collaborateur'!DP$2,Horaires!$H$3:$H$40,0),5),VLOOKUP(DO17,Horaires!$A$3:$E$60,5,)))","v":0},null,{"$f":"INDEX(Planning!$34:$34,MATCH('Solde d''heure collaborateur'!$A17,Planning!$3:$3))","v":"X"},{"$f":"VLOOKUP(DS17,Horaires!$A$3:$E$49,2,)","v":"XXX"},{"$f":"IF(DT17=\"vacances\",INDEX(Horaires!$H$3:$L$42,MATCH('Solde d''heure collaborateur'!DT$2,Horaires!$H$3:$H$40,0),4),IF(DT17=\"maladie\",INDEX(Horaires!$H$3:$L$42,MATCH('Solde d''heure collaborateur'!DT$2,Horaires!$H$3:$H$40,0),5),VLOOKUP(DS17,Horaires!$A$3:$E$60,5,)))","v":0},null,{"$f":"INDEX(Planning!$35:$35,MATCH('Solde d''heure collaborateur'!$A17,Planning!$3:$3))","v":"X"},{"$f":"VLOOKUP(DW17,Horaires!$A$3:$E$49,2,)","v":"XXX"},{"$f":"IF(DX17=\"vacances\",INDEX(Horaires!$H$3:$L$42,MATCH('Solde d''heure collaborateur'!DX$2,Horaires!$H$3:$H$40,0),4),IF(DX17=\"maladie\",INDEX(Horaires!$H$3:$L$42,MATCH('Solde d''heure collaborateur'!DX$2,Horaires!$H$3:$H$40,0),5),VLOOKUP(DW17,Horaires!$A$3:$E$60,5,)))","v":0}]
[null,null,null,{"$f":"SUM(E18-INDEX(Horaires!$H$3:$L$37,MATCH('Solde d''heure collaborateur'!D$2,Horaires!$H$3:$H$37,0),2))","v":1.5},{"$f":"SUM(E12:E17)*24","v":43.5},null,null,{"$f":"SUM(I18-INDEX(Horaires!$H$3:$L$37,MATCH('Solde d''heure collaborateur'!H$2,Horaires!$H$3:$H$37,0),2))","v":2},{"$f":"SUM(I12:I17)*24","v":44},null,null,{"$f":"SUM(M18-INDEX(Horaires!$H$3:$L$37,MATCH('Solde d''heure collaborateur'!L$2,Horaires!$H$3:$H$37,0),2))","v":0},{"$f":"SUM(M12:M17)*24","v":42},null,null,{"$f":"SUM(Q18-INDEX(Horaires!$H$3:$L$37,MATCH('Solde d''heure collaborateur'!P$2,Horaires!$H$3:$H$37,0),2))","v":3.5527136788005009E-15},{"$f":"SUM(Q12:Q17)*24","v":22.500000000000004},null,null,{"$f":"SUM(U18-INDEX(Horaires!$H$3:$L$37,MATCH('Solde d''heure collaborateur'!T$2,Horaires!$H$3:$H$37,0),2))","v":2.5},{"$f":"SUM(U12:U17)*24","v":44.5},null,null,{"$f":"SUM(Y18-INDEX(Horaires!$H$3:$L$37,MATCH('Solde d''heure collaborateur'!X$2,Horaires!$H$3:$H$37,0),2))","v":3.5527136788005009E-15},{"$f":"SUM(Y12:Y17)*24","v":22.500000000000004},null,null,{"$f":"SUM(AC18-INDEX(Horaires!$H$3:$L$37,MATCH('Solde d''heure collaborateur'!AB$2,Horaires!$H$3:$H$37,0),2))","v":3},{"$f":"SUM(AC12:AC17)*24","v":45},null,null,{"$f":"SUM(AG18-INDEX(Horaires!$H$3:$L$37,MATCH('Solde d''heure collaborateur'!AF$2,Horaires!$H$3:$H$37,0),2))","v":-16.799999999999997},{"$f":"SUM(AG12:AG17)*24","v":25.200000000000003},null,null,{"$f":"SUM(AK18-INDEX(Horaires!$H$3:$L$37,MATCH('Solde d''heure collaborateur'!AJ$2,Horaires!$H$3:$H$37,0),2))","v":1.5},{"$f":"SUM(AK12:AK17)*24","v":43.5},null,null,{"$f":"SUM(AO18-INDEX(Horaires!$H$3:$L$37,MATCH('Solde d''heure collaborateur'!AN$2,Horaires!$H$3:$H$37,0),2))","v":1.5},{"$f":"SUM(AO12:AO17)*24","v":43.5},null,null,{"$f":"SUM(AS18-INDEX(Horaires!$H$3:$L$37,MATCH('Solde d''heure collaborateur'!AR$2,Horaires!$H$3:$H$37,0),2))","v":0},{"$f":"SUM(AS12:AS17)*24","v":33.25},null,null,{"$f":"SUM(AW18-INDEX(Horaires!$H$3:$L$37,MATCH('Solde d''heure collaborateur'!AV$2,Horaires!$H$3:$H$37,0),2))","v":2},{"$f":"SUM(AW12:AW17)*24","v":44},null,null,{"$f":"SUM(BA18-INDEX(Horaires!$H$3:$L$37,MATCH('Solde d''heure collaborateur'!AZ$2,Horaires!$H$3:$H$37,0),2))","v":0},{"$f":"SUM(BA12:BA17)*24","v":42},null,null,{"$f":"SUM(BE18-INDEX(Horaires!$H$3:$L$37,MATCH('Solde d''heure collaborateur'!BD$2,Horaires!$H$3:$H$37,0),2))","v":1},{"$f":"SUM(BE12:BE17)*24","v":43},null,null,{"$f":"SUM(BI18-INDEX(Horaires!$H$3:$L$37,MATCH('Solde d''heure collaborateur'!BH$2,Horaires!$H$3:$H$37,0),2))","v":1.5},{"$f":"SUM(BI12:BI17)*24","v":43.5},null,null,{"$f":"SUM(BM18-INDEX(Horaires!$H$3:$L$37,MATCH('Solde d''heure collaborateur'!BL$2,Horaires!$H$3:$H$37,0),2))","v":2.25},{"$f":"SUM(BM12:BM17)*24","v":44.25},null,null,{"$f":"SUM(BQ18-INDEX(Horaires!$H$3:$L$37,MATCH('Solde d''heure collaborateur'!BP$2,Horaires!$H$3:$H$37,0),2))","v":0},{"$f":"SUM(BQ12:BQ17)*24","v":42},null,null,{"$f":"SUM(BU18-INDEX(Horaires!$H$3:$L$37,MATCH('Solde d''heure collaborateur'!BT$2,Horaires!$H$3:$H$37,0),2))","v":1},{"$f":"SUM(BU12:BU17)*24","v":43},null,null,{"$f":"SUM(BY18-INDEX(Horaires!$H$3:$L$37,MATCH('Solde d''heure collaborateur'!BX$2,Horaires!$H$3:$H$37,0),2))","v":0},{"$f":"SUM(BY12:BY17)*24","v":21.5},null,null,{"$f":"SUM(CC18-INDEX(Horaires!$H$3:$L$37,MATCH('Solde d''heure collaborateur'!CB$2,Horaires!$H$3:$H$37,0),2))","v":2},{"$f":"SUM(CC12:CC17)*24","v":44},null,null,{"$f":"SUM(CG18-INDEX(Horaires!$H$3:$L$37,MATCH('Solde d''heure collaborateur'!CF$2,Horaires!$H$3:$H$37,0),2))","v":-8.25},{"$f":"SUM(CG12:CG17)*24","v":33.75},null,null,{"$f":"SUM(CK18-INDEX(Horaires!$H$3:$L$37,MATCH('Solde d''heure collaborateur'!CJ$2,Horaires!$H$3:$H$37,0),2))","v":-42},{"$f":"SUM(CK12:CK17)*24","v":0},null,null,{"$f":"SUM(CO18-INDEX(Horaires!$H$3:$L$37,MATCH('Solde d''heure collaborateur'!CN$2,Horaires!$H$3:$H$37,0),2))","v":1},{"$f":"SUM(CO12:CO17)*24","v":43},null,null,{"$f":"SUM(CS18-INDEX(Horaires!$H$3:$L$37,MATCH('Solde d''heure collaborateur'!CR$2,Horaires!$H$3:$H$37,0),2))","v":1.5},{"$f":"SUM(CS12:CS17)*24","v":43.5},null,null,{"$f":"SUM(CW18-INDEX(Horaires!$H$3:$L$37,MATCH('Solde d''heure collaborateur'!CV$2,Horaires!$H$3:$H$37,0),2))","v":3.5},{"$f":"SUM(CW12:CW17)*24","v":45.5},null,null,{"$f":"SUM(DA18-INDEX(Horaires!$H$3:$L$37,MATCH('Solde d''heure collaborateur'!CZ$2,Horaires!$H$3:$H$37,0),2))","v":21.5},{"$f":"SUM(DA12:DA17)*24","v":21.5},null,null,{"$f":"SUM(DE18-INDEX(Horaires!$H$3:$L$37,MATCH('Solde d''heure collaborateur'!DD$2,Horaires!$H$3:$H$37,0),2))","v":{"$error":"#N/A"}},{"$f":"SUM(DE12:DE17)*24","v":0},null,null,{"$f":"SUM(DI18-INDEX(Horaires!$H$3:$L$37,MATCH('Solde d''heure collaborateur'!DH$2,Horaires!$H$3:$H$37,0),2))","v":0},{"$f":"SUM(DI12:DI17)*24","v":0},null,null,{"$f":"SUM(DM18-INDEX(Horaires!$H$3:$L$37,MATCH('Solde d''heure collaborateur'!DL$2,Horaires!$H$3:$H$37,0),2))","v":0},{"$f":"SUM(DM12:DM17)*24","v":0},null,null,{"$f":"SUM(DQ18-INDEX(Horaires!$H$3:$L$37,MATCH('Solde d''heure collaborateur'!DP$2,Horaires!$H$3:$H$37,0),2))","v":0},{"$f":"SUM(DQ12:DQ17)*24","v":0},null,null,{"$f":"SUM(DU18-INDEX(Horaires!$H$3:$L$37,MATCH('Solde d''heure collaborateur'!DT$2,Horaires!$H$3:$H$37,0),2))","v":0},{"$f":"SUM(DU12:DU17)*24","v":0},null,null,{"$f":"SUM(DY18-INDEX(Horaires!$H$3:$L$37,MATCH('Solde d''heure collaborateur'!DX$2,Horaires!$H$3:$H$37,0),2))","v":0},{"$f":"SUM(DY12:DY17)*24","v":0}]
[]
[{"$f":"A17+2","v":"2013-11-18"},null,{"$f":"INDEX(Planning!$4:$4,MATCH('Solde d''heure collaborateur'!A20,Planning!$3:$3,0))","v":"R"},{"$f":"VLOOKUP(C20,Horaires!$A$3:$E$49,2,)","v":"Congé"},{"$f":"IF(D20=\"vacances\",INDEX(Horaires!$H$3:$L$42,MATCH('Solde d''heure collaborateur'!D$2,Horaires!$H$3:$H$40,0),4),IF(D20=\"maladie\",INDEX(Horaires!$H$3:$L$42,MATCH('Solde d''heure collaborateur'!D$2,Horaires!$H$3:$H$40,0),5),VLOOKUP(C20,Horaires!$A$3:$E$60,5,)))","v":0},null,{"$f":"INDEX(Planning!$5:$5,MATCH('Solde d''heure collaborateur'!A20,Planning!$3:$3))","v":"R"},{"$f":"VLOOKUP(G20,Horaires!$A$3:$E$49,2,)","v":"Congé"},{"$f":"IF(H20=\"vacances\",INDEX(Horaires!$H$3:$L$42,MATCH('Solde d''heure collaborateur'!H$2,Horaires!$H$3:$H$40,0),4),IF(H20=\"maladie\",INDEX(Horaires!$H$3:$L$42,MATCH('Solde d''heure collaborateur'!H$2,Horaires!$H$3:$H$40,0),5),VLOOKUP(G20,Horaires!$A$3:$E$60,5,)))","v":0},null,{"$f":"INDEX(Planning!$6:$6,MATCH('Solde d''heure collaborateur'!A20,Planning!$3:$3))","v":"M"},{"$f":"VLOOKUP(K20,Horaires!$A$3:$E$49,2,)","v":"Maladie"},{"$f":"IF(L20=\"vacances\",INDEX(Horaires!$H$3:$L$42,MATCH('Solde d''heure collaborateur'!L$2,Horaires!$H$3:$H$40,0),4),IF(L20=\"maladie\",INDEX(Horaires!$H$3:$L$42,MATCH('Solde d''heure collaborateur'!L$2,Horaires!$H$3:$H$40,0),5),VLOOKUP(K20,Horaires!$A$3:$E$60,5,)))","v":0.4375},null,{"$f":"INDEX(Planning!$7:$7,MATCH('Solde d''heure collaborateur'!$A20,Planning!$3:$3))","v":"Vib1"},{"$f":"VLOOKUP(O20,Horaires!$A$3:$E$49,2,)","v":"Vibert"},{"$f":"IF(P20=\"vacances\",INDEX(Horaires!$H$3:$L$42,MATCH('Solde d''heure collaborateur'!P$2,Horaires!$H$3:$H$40,0),4),IF(P20=\"maladie\",INDEX(Horaires!$H$3:$L$42,MATCH('Solde d''heure collaborateur'!P$2,Horaires!$H$3:$H$40,0),5),VLOOKUP(O20,Horaires!$A$3:$E$60,5,)))","v":0.46875000000000006},null,{"$f":"INDEX(Planning!$8:$8,MATCH('Solde d''heure collaborateur'!$A20,Planning!$3:$3))","v":"Onex1"},{"$f":"VLOOKUP(S20,Horaires!$A$3:$E$49,2,)","v":"Onex"},{"$f":"IF(T20=\"vacances\",INDEX(Horaires!$H$3:$L$42,MATCH('Solde d''heure collaborateur'!T$2,Horaires!$H$3:$H$40,0),4),IF(T20=\"maladie\",INDEX(Horaires!$H$3:$L$42,MATCH('Solde d''heure collaborateur'!T$2,Horaires!$H$3:$H$40,0),5),VLOOKUP(S20,Horaires!$A$3:$E$60,5,)))","v":0.46875000000000006},null,{"$f":"INDEX(Planning!$9:$9,MATCH('Solde d''heure collaborateur'!$A20,Planning!$3:$3))","v":"Onex1"},{"$f":"VLOOKUP(W20,Horaires!$A$3:$E$49,2,)","v":"Onex"},{"$f":"IF(X20=\"vacances\",INDEX(Horaires!$H$3:$L$42,MATCH('Solde d''heure collaborateur'!X$2,Horaires!$H$3:$H$40,0),4),IF(X20=\"maladie\",INDEX(Horaires!$H$3:$L$42,MATCH('Solde d''heure collaborateur'!X$2,Horaires!$H$3:$H$40,0),5),VLOOKUP(W20,Horaires!$A$3:$E$60,5,)))","v":0.46875000000000006},null,{"$f":"INDEX(Planning!$10:$10,MATCH('Solde d''heure collaborateur'!$A20,Planning!$3:$3))","v":"R"},{"$f":"VLOOKUP(AA20,Horaires!$A$3:$E$49,2,)","v":"Congé"},{"$f":"IF(AB20=\"vacances\",INDEX(Horaires!$H$3:$L$42,MATCH('Solde d''heure collaborateur'!AB$2,Horaires!$H$3:$H$40,0),4),IF(AB20=\"maladie\",INDEX(Horaires!$H$3:$L$42,MATCH('Solde d''heure collaborateur'!AB$2,Horaires!$H$3:$H$40,0),5),VLOOKUP(AA20,Horaires!$A$3:$E$60,5,)))","v":0},null,{"$f":"INDEX(Planning!$11:$11,MATCH('Solde d''heure collaborateur'!$A20,Planning!$3:$3))","v":"R"},{"$f":"VLOOKUP(AE20,Horaires!$A$3:$E$49,2,)","v":"Congé"},{"$f":"IF(AF20=\"vacances\",INDEX(Horaires!$H$3:$L$42,MATCH('Solde d''heure collaborateur'!AF$2,Horaires!$H$3:$H$40,0),4),IF(AF20=\"maladie\",INDEX(Horaires!$H$3:$L$42,MATCH('Solde d''heure collaborateur'!AF$2,Horaires!$H$3:$H$40,0),5),VLOOKUP(AE20,Horaires!$A$3:$E$60,5,)))","v":0},null,{"$f":"INDEX(Planning!$12:$12,MATCH('Solde d''heure collaborateur'!$A20,Planning!$3:$3))","v":"Thon1"},{"$f":"VLOOKUP(AI20,Horaires!$A$3:$E$49,2,)","v":"Thonex"},{"$f":"IF(AJ20=\"vacances\",INDEX(Horaires!$H$3:$L$42,MATCH('Solde d''heure collaborateur'!AJ$2,Horaires!$H$3:$H$40,0),4),IF(AJ20=\"maladie\",INDEX(Horaires!$H$3:$L$42,MATCH('Solde d''heure collaborateur'!AJ$2,Horaires!$H$3:$H$40,0),5),VLOOKUP(AI20,Horaires!$A$3:$E$60,5,)))","v":0.44791666666666669},null,{"$f":"INDEX(Planning!$13:$13,MATCH('Solde d''heure collaborateur'!$A20,Planning!$3:$3))","v":"plo1"},{"$f":"VLOOKUP(AM20,Horaires!$A$3:$E$49,2,)","v":"Plan les Ouates"},{"$f":"IF(AN20=\"vacances\",INDEX(Horaires!$H$3:$L$42,MATCH('Solde d''heure collaborateur'!AN$2,Horaires!$H$3:$H$40,0),4),IF(AN20=\"maladie\",INDEX(Horaires!$H$3:$L$42,MATCH('Solde d''heure collaborateur'!AN$2,Horaires!$H$3:$H$40,0),5),VLOOKUP(AM20,Horaires!$A$3:$E$60,5,)))","v":0.46875000000000006},null,{"$f":"INDEX(Planning!$14:$14,MATCH('Solde d''heure collaborateur'!$A20,Planning!$3:$3))","v":"M"},{"$f":"VLOOKUP(AQ20,Horaires!$A$3:$E$49,2,)","v":"Maladie"},{"$f":"IF(AR20=\"vacances\",INDEX(Horaires!$H$3:$L$42,MATCH('Solde d''heure collaborateur'!AR$2,Horaires!$H$3:$H$40,0),4),IF(AR20=\"maladie\",INDEX(Horaires!$H$3:$L$42,MATCH('Solde d''heure collaborateur'!AR$2,Horaires!$H$3:$H$40,0),5),VLOOKUP(AQ20,Horaires!$A$3:$E$60,5,)))","v":0.46180555555555558},null,{"$f":"INDEX(Planning!$15:$15,MATCH('Solde d''heure collaborateur'!$A20,Planning!$3:$3))","v":"R"},{"$f":"VLOOKUP(AU20,Horaires!$A$3:$E$49,2,)","v":"Congé"},{"$f":"IF(AV20=\"vacances\",INDEX(Horaires!$H$3:$L$42,MATCH('Solde d''heure collaborateur'!AV$2,Horaires!$H$3:$H$40,0),4),IF(AV20=\"maladie\",INDEX(Horaires!$H$3:$L$42,MATCH('Solde d''heure collaborateur'!AV$2,Horaires!$H$3:$H$40,0),5),VLOOKUP(AU20,Horaires!$A$3:$E$60,5,)))","v":0},null,{"$f":"INDEX(Planning!$16:$16,MATCH('Solde d''heure collaborateur'!$A20,Planning!$3:$3))","v":"Nyon1"},{"$f":"VLOOKUP(AY20,Horaires!$A$3:$E$49,2,)","v":"Nyon"},{"$f":"IF(AZ20=\"vacances\",INDEX(Horaires!$H$3:$L$42,MATCH('Solde d''heure collaborateur'!AZ$2,Horaires!$H$3:$H$40,0),4),IF(AZ20=\"maladie\",INDEX(Horaires!$H$3:$L$42,MATCH('Solde d''heure collaborateur'!AZ$2,Horaires!$H$3:$H$40,0),5),VLOOKUP(AY20,Horaires!$A$3:$E$60,5,)))","v":0.44791666666666669},null,{"$f":"INDEX(Planning!$17:$17,MATCH('Solde d''heure collaborateur'!$A20,Planning!$3:$3))","v":"tour1"},{"$f":"VLOOKUP(BC20,Horaires!$A$3:$E$49,2,)","v":"Tourelle"},{"$f":"IF(BD20=\"vacances\",INDEX(Horaires!$H$3:$L$42,MATCH('Solde d''heure collaborateur'!BD$2,Horaires!$H$3:$H$40,0),4),IF(BD20=\"maladie\",INDEX(Horaires!$H$3:$L$42,MATCH('Solde d''heure collaborateur'!BD$2,Horaires!$H$3:$H$40,0),5),VLOOKUP(BC20,Horaires!$A$3:$E$60,5,)))","v":0.46875000000000006},null,{"$f":"INDEX(Planning!$18:$18,MATCH('Solde d''heure collaborateur'!$A20,Planning!$3:$3))","v":"pom1"},{"$f":"VLOOKUP(BG20,Horaires!$A$3:$E$49,2,)","v":"Pommier"},{"$f":"IF(BH20=\"vacances\",INDEX(Horaires!$H$3:$L$42,MATCH('Solde d''heure collaborateur'!BH$2,Horaires!$H$3:$H$40,0),4),IF(BH20=\"maladie\",INDEX(Horaires!$H$3:$L$42,MATCH('Solde d''heure collaborateur'!BH$2,Horaires!$H$3:$H$40,0),5),VLOOKUP(BG20,Horaires!$A$3:$E$60,5,)))","v":0.44791666666666669},null,{"$f":"INDEX(Planning!$19:$19,MATCH('Solde d''heure collaborateur'!$A20,Planning!$3:$3))","v":"R"},{"$f":"VLOOKUP(BK20,Horaires!$A$3:$E$49,2,)","v":"Congé"},{"$f":"IF(BL20=\"vacances\",INDEX(Horaires!$H$3:$L$42,MATCH('Solde d''heure collaborateur'!BL$2,Horaires!$H$3:$H$40,0),4),IF(BL20=\"maladie\",INDEX(Horaires!$H$3:$L$42,MATCH('Solde d''heure collaborateur'!BL$2,Horaires!$H$3:$H$40,0),5),VLOOKUP(BK20,Horaires!$A$3:$E$60,5,)))","v":0},null,{"$f":"INDEX(Planning!$20:$20,MATCH('Solde d''heure collaborateur'!$A20,Planning!$3:$3))","v":"Aca1"},{"$f":"VLOOKUP(BO20,Horaires!$A$3:$E$49,2,)","v":"Acacias"},{"$f":"IF(BP20=\"vacances\",INDEX(Horaires!$H$3:$L$42,MATCH('Solde d''heure collaborateur'!BP$2,Horaires!$H$3:$H$40,0),4),IF(BP20=\"maladie\",INDEX(Horaires!$H$3:$L$42,MATCH('Solde d''heure collaborateur'!BP$2,Horaires!$H$3:$H$40,0),5),VLOOKUP(BO20,Horaires!$A$3:$E$60,5,)))","v":0.44791666666666669},null,{"$f":"INDEX(Planning!$21:$21,MATCH('Solde d''heure collaborateur'!$A20,Planning!$3:$3))","v":"R"},{"$f":"VLOOKUP(BS20,Horaires!$A$3:$E$49,2,)","v":"Congé"},{"$f":"IF(BT20=\"vacances\",INDEX(Horaires!$H$3:$L$42,MATCH('Solde d''heure collaborateur'!BT$2,Horaires!$H$3:$H$40,0),4),IF(BT20=\"maladie\",INDEX(Horaires!$H$3:$L$42,MATCH('Solde d''heure collaborateur'!BT$2,Horaires!$H$3:$H$40,0),5),VLOOKUP(BS20,Horaires!$A$3:$E$60,5,)))","v":0},null,{"$f":"INDEX(Planning!$22:$22,MATCH('Solde d''heure collaborateur'!$A20,Planning!$3:$3))","v":"Ves1"},{"$f":"VLOOKUP(BW20,Horaires!$A$3:$E$49,2,)","v":"Vesenaz"},{"$f":"IF(BX20=\"vacances\",INDEX(Horaires!$H$3:$L$42,MATCH('Solde d''heure collaborateur'!BX$2,Horaires!$H$3:$H$40,0),4),IF(BX20=\"maladie\",INDEX(Horaires!$H$3:$L$42,MATCH('Solde d''heure collaborateur'!BX$2,Horaires!$H$3:$H$40,0),5),VLOOKUP(BW20,Horaires!$A$3:$E$60,5,)))","v":0.44791666666666669},null,{"$f":"INDEX(Planning!$23:$23,MATCH('Solde d''heure collaborateur'!$A20,Planning!$3:$3))","v":"recup"},{"$f":"VLOOKUP(CA20,Horaires!$A$3:$E$49,2,)","v":"Récupération"},{"$f":"IF(CB20=\"vacances\",INDEX(Horaires!$H$3:$L$42,MATCH('Solde d''heure collaborateur'!CB$2,Horaires!$H$3:$H$40,0),4),IF(CB20=\"maladie\",INDEX(Horaires!$H$3:$L$42,MATCH('Solde d''heure collaborateur'!CB$2,Horaires!$H$3:$H$40,0),5),VLOOKUP(CA20,Horaires!$A$3:$E$60,5,)))","v":0},null,{"$f":"INDEX(Planning!$24:$24,MATCH('Solde d''heure collaborateur'!$A20,Planning!$3:$3))","v":"nav1"},{"$f":"VLOOKUP(CE20,Horaires!$A$3:$E$49,2,)","v":"Navigation"},{"$f":"IF(CF20=\"vacances\",INDEX(Horaires!$H$3:$L$42,MATCH('Solde d''heure collaborateur'!CF$2,Horaires!$H$3:$H$40,0),4),IF(CF20=\"maladie\",INDEX(Horaires!$H$3:$L$42,MATCH('Solde d''heure collaborateur'!CF$2,Horaires!$H$3:$H$40,0),5),VLOOKUP(CE20,Horaires!$A$3:$E$60,5,)))","v":0.44791666666666669},null,{"$f":"INDEX(Planning!$25:$25,MATCH('Solde d''heure collaborateur'!$A20,Planning!$3:$3))","v":"X"},{"$f":"VLOOKUP(CI20,Horaires!$A$3:$E$49,2,)","v":"XXX"},{"$f":"IF(CJ20=\"vacances\",INDEX(Horaires!$H$3:$L$42,MATCH('Solde d''heure collaborateur'!CJ$2,Horaires!$H$3:$H$40,0),4),IF(CJ20=\"maladie\",INDEX(Horaires!$H$3:$L$42,MATCH('Solde d''heure collaborateur'!CJ$2,Horaires!$H$3:$H$40,0),5),VLOOKUP(CI20,Horaires!$A$3:$E$60,5,)))","v":0},null,{"$f":"INDEX(Planning!$26:$26,MATCH('Solde d''heure collaborateur'!$A20,Planning!$3:$3))","v":"Vid1"},{"$f":"VLOOKUP(CM20,Horaires!$A$3:$E$49,2,)","v":"Vidollet"},{"$f":"IF(CN20=\"vacances\",INDEX(Horaires!$H$3:$L$42,MATCH('Solde d''heure collaborateur'!CN$2,Horaires!$H$3:$H$40,0),4),IF(CN20=\"maladie\",INDEX(Horaires!$H$3:$L$42,MATCH('Solde d''heure collaborateur'!CN$2,Horaires!$H$3:$H$40,0),5),VLOOKUP(CM20,Horaires!$A$3:$E$60,5,)))","v":0.44791666666666669},null,{"$f":"INDEX(Planning!$27:$27,MATCH('Solde d''heure collaborateur'!$A20,Planning!$3:$3))","v":"Vib1"},{"$f":"VLOOKUP(CQ20,Horaires!$A$3:$E$49,2,)","v":"Vibert"},{"$f":"IF(CR20=\"vacances\",INDEX(Horaires!$H$3:$L$42,MATCH('Solde d''heure collaborateur'!CR$2,Horaires!$H$3:$H$40,0),4),IF(CR20=\"maladie\",INDEX(Horaires!$H$3:$L$42,MATCH('Solde d''heure collaborateur'!CR$2,Horaires!$H$3:$H$40,0),5),VLOOKUP(CQ20,Horaires!$A$3:$E$60,5,)))","v":0.46875000000000006},null,{"$f":"INDEX(Planning!$28:$28,MATCH('Solde d''heure collaborateur'!$A20,Planning!$3:$3))","v":"R"},{"$f":"VLOOKUP(CU20,Horaires!$A$3:$E$49,2,)","v":"Congé"},{"$f":"IF(CV20=\"vacances\",INDEX(Horaires!$H$3:$L$42,MATCH('Solde d''heure collaborateur'!CV$2,Horaires!$H$3:$H$40,0),4),IF(CV20=\"maladie\",INDEX(Horaires!$H$3:$L$42,MATCH('Solde d''heure collaborateur'!CV$2,Horaires!$H$3:$H$40,0),5),VLOOKUP(CU20,Horaires!$A$3:$E$60,5,)))","v":0},null,{"$f":"INDEX(Planning!$29:$29,MATCH('Solde d''heure collaborateur'!$A20,Planning!$3:$3))","v":"X"},{"$f":"VLOOKUP(CY20,Horaires!$A$3:$E$49,2,)","v":"XXX"},{"$f":"IF(CZ20=\"vacances\",INDEX(Horaires!$H$3:$L$42,MATCH('Solde d''heure collaborateur'!CZ$2,Horaires!$H$3:$H$40,0),4),IF(CZ20=\"maladie\",INDEX(Horaires!$H$3:$L$42,MATCH('Solde d''heure collaborateur'!CZ$2,Horaires!$H$3:$H$40,0),5),VLOOKUP(CY20,Horaires!$A$3:$E$60,5,)))","v":0},null,{"$f":"INDEX(Planning!$30:$30,MATCH('Solde d''heure collaborateur'!$A20,Planning!$3:$3))","v":"X"},{"$f":"VLOOKUP(DC20,Horaires!$A$3:$E$49,2,)","v":"XXX"},{"$f":"IF(DD20=\"vacances\",INDEX(Horaires!$H$3:$L$42,MATCH('Solde d''heure collaborateur'!DD$2,Horaires!$H$3:$H$40,0),4),IF(DD20=\"maladie\",INDEX(Horaires!$H$3:$L$42,MATCH('Solde d''heure collaborateur'!DD$2,Horaires!$H$3:$H$40,0),5),VLOOKUP(DC20,Horaires!$A$3:$E$60,5,)))","v":0},null,{"$f":"INDEX(Planning!$31:$31,MATCH('Solde d''heure collaborateur'!$A20,Planning!$3:$3))","v":"X"},{"$f":"VLOOKUP(DG20,Horaires!$A$3:$E$49,2,)","v":"XXX"},{"$f":"IF(DH20=\"vacances\",INDEX(Horaires!$H$3:$L$42,MATCH('Solde d''heure collaborateur'!DH$2,Horaires!$H$3:$H$40,0),4),IF(DH20=\"maladie\",INDEX(Horaires!$H$3:$L$42,MATCH('Solde d''heure collaborateur'!DH$2,Horaires!$H$3:$H$40,0),5),VLOOKUP(DG20,Horaires!$A$3:$E$60,5,)))","v":0},null,{"$f":"INDEX(Planning!$32:$32,MATCH('Solde d''heure collaborateur'!$A20,Planning!$3:$3))","v":"X"},{"$f":"VLOOKUP(DK20,Horaires!$A$3:$E$49,2,)","v":"XXX"},{"$f":"IF(DL20=\"vacances\",INDEX(Horaires!$H$3:$L$42,MATCH('Solde d''heure collaborateur'!DL$2,Horaires!$H$3:$H$40,0),4),IF(DL20=\"maladie\",INDEX(Horaires!$H$3:$L$42,MATCH('Solde d''heure collaborateur'!DL$2,Horaires!$H$3:$H$40,0),5),VLOOKUP(DK20,Horaires!$A$3:$E$60,5,)))","v":0},null,{"$f":"INDEX(Planning!$33:$33,MATCH('Solde d''heure collaborateur'!$A20,Planning!$3:$3))","v":"X"},{"$f":"VLOOKUP(DO20,Horaires!$A$3:$E$49,2,)","v":"XXX"},{"$f":"IF(DP20=\"vacances\",INDEX(Horaires!$H$3:$L$42,MATCH('Solde d''heure collaborateur'!DP$2,Horaires!$H$3:$H$40,0),4),IF(DP20=\"maladie\",INDEX(Horaires!$H$3:$L$42,MATCH('Solde d''heure collaborateur'!DP$2,Horaires!$H$3:$H$40,0),5),VLOOKUP(DO20,Horaires!$A$3:$E$60,5,)))","v":0},null,{"$f":"INDEX(Planning!$34:$34,MATCH('Solde d''heure collaborateur'!$A20,Planning!$3:$3))","v":"X"},{"$f":"VLOOKUP(DS20,Horaires!$A$3:$E$49,2,)","v":"XXX"},{"$f":"IF(DT20=\"vacances\",INDEX(Horaires!$H$3:$L$42,MATCH('Solde d''heure collaborateur'!DT$2,Horaires!$H$3:$H$40,0),4),IF(DT20=\"maladie\",INDEX(Horaires!$H$3:$L$42,MATCH('Solde d''heure collaborateur'!DT$2,Horaires!$H$3:$H$40,0),5),VLOOKUP(DS20,Horaires!$A$3:$E$60,5,)))","v":0},null,{"$f":"INDEX(Planning!$35:$35,MATCH('Solde d''heure collaborateur'!$A20,Planning!$3:$3))","v":"X"},{"$f":"VLOOKUP(DW20,Horaires!$A$3:$E$49,2,)","v":"XXX"},{"$f":"IF(DX20=\"vacances\",INDEX(Horaires!$H$3:$L$42,MATCH('Solde d''heure collaborateur'!DX$2,Horaires!$H$3:$H$40,0),4),IF(DX20=\"maladie\",INDEX(Horaires!$H$3:$L$42,MATCH('Solde d''heure collaborateur'!DX$2,Horaires!$H$3:$H$40,0),5),VLOOKUP(DW20,Horaires!$A$3:$E$60,5,)))","v":0}]
[{"$f":"A20+1","v":"2013-11-19"},null,{"$f":"INDEX(Planning!$4:$4,MATCH('Solde d''heure collaborateur'!A21,Planning!$3:$3,0))","v":"R"},{"$f":"VLOOKUP(C21,Horaires!$A$3:$E$49,2,)","v":"Congé"},{"$f":"IF(D21=\"vacances\",INDEX(Horaires!$H$3:$L$42,MATCH('Solde d''heure collaborateur'!D$2,Horaires!$H$3:$H$40,0),4),IF(D21=\"maladie\",INDEX(Horaires!$H$3:$L$42,MATCH('Solde d''heure collaborateur'!D$2,Horaires!$H$3:$H$40,0),5),VLOOKUP(C21,Horaires!$A$3:$E$60,5,)))","v":0},null,{"$f":"INDEX(Planning!$5:$5,MATCH('Solde d''heure collaborateur'!A21,Planning!$3:$3))","v":"Pom1"},{"$f":"VLOOKUP(G21,Horaires!$A$3:$E$49,2,)","v":"Pommier"},{"$f":"IF(H21=\"vacances\",INDEX(Horaires!$H$3:$L$42,MATCH('Solde d''heure collaborateur'!H$2,Horaires!$H$3:$H$40,0),4),IF(H21=\"maladie\",INDEX(Horaires!$H$3:$L$42,MATCH('Solde d''heure collaborateur'!H$2,Horaires!$H$3:$H$40,0),5),VLOOKUP(G21,Horaires!$A$3:$E$60,5,)))","v":0.44791666666666669},null,{"$f":"INDEX(Planning!$6:$6,MATCH('Solde d''heure collaborateur'!A21,Planning!$3:$3))","v":"M"},{"$f":"VLOOKUP(K21,Horaires!$A$3:$E$49,2,)","v":"Maladie"},{"$f":"IF(L21=\"vacances\",INDEX(Horaires!$H$3:$L$42,MATCH('Solde d''heure collaborateur'!L$2,Horaires!$H$3:$H$40,0),4),IF(L21=\"maladie\",INDEX(Horaires!$H$3:$L$42,MATCH('Solde d''heure collaborateur'!L$2,Horaires!$H$3:$H$40,0),5),VLOOKUP(K21,Horaires!$A$3:$E$60,5,)))","v":0.4375},null,{"$f":"INDEX(Planning!$7:$7,MATCH('Solde d''heure collaborateur'!$A21,Planning!$3:$3))","v":"Vib1"},{"$f":"VLOOKUP(O21,Horaires!$A$3:$E$49,2,)","v":"Vibert"},{"$f":"IF(P21=\"vacances\",INDEX(Horaires!$H$3:$L$42,MATCH('Solde d''heure collaborateur'!P$2,Horaires!$H$3:$H$40,0),4),IF(P21=\"maladie\",INDEX(Horaires!$H$3:$L$42,MATCH('Solde d''heure collaborateur'!P$2,Horaires!$H$3:$H$40,0),5),VLOOKUP(O21,Horaires!$A$3:$E$60,5,)))","v":0.46875000000000006},null,{"$f":"INDEX(Planning!$8:$8,MATCH('Solde d''heure collaborateur'!$A21,Planning!$3:$3))","v":"Onex1"},{"$f":"VLOOKUP(S21,Horaires!$A$3:$E$49,2,)","v":"Onex"},{"$f":"IF(T21=\"vacances\",INDEX(Horaires!$H$3:$L$42,MATCH('Solde d''heure collaborateur'!T$2,Horaires!$H$3:$H$40,0),4),IF(T21=\"maladie\",INDEX(Horaires!$H$3:$L$42,MATCH('Solde d''heure collaborateur'!T$2,Horaires!$H$3:$H$40,0),5),VLOOKUP(S21,Horaires!$A$3:$E$60,5,)))","v":0.46875000000000006},null,{"$f":"INDEX(Planning!$9:$9,MATCH('Solde d''heure collaborateur'!$A21,Planning!$3:$3))","v":"X"},{"$f":"VLOOKUP(W21,Horaires!$A$3:$E$49,2,)","v":"XXX"},{"$f":"IF(X21=\"vacances\",INDEX(Horaires!$H$3:$L$42,MATCH('Solde d''heure collaborateur'!X$2,Horaires!$H$3:$H$40,0),4),IF(X21=\"maladie\",INDEX(Horaires!$H$3:$L$42,MATCH('Solde d''heure collaborateur'!X$2,Horaires!$H$3:$H$40,0),5),VLOOKUP(W21,Horaires!$A$3:$E$60,5,)))","v":0},null,{"$f":"INDEX(Planning!$10:$10,MATCH('Solde d''heure collaborateur'!$A21,Planning!$3:$3))","v":"R"},{"$f":"VLOOKUP(AA21,Horaires!$A$3:$E$49,2,)","v":"Congé"},{"$f":"IF(AB21=\"vacances\",INDEX(Horaires!$H$3:$L$42,MATCH('Solde d''heure collaborateur'!AB$2,Horaires!$H$3:$H$40,0),4),IF(AB21=\"maladie\",INDEX(Horaires!$H$3:$L$42,MATCH('Solde d''heure collaborateur'!AB$2,Horaires!$H$3:$H$40,0),5),VLOOKUP(AA21,Horaires!$A$3:$E$60,5,)))","v":0},null,{"$f":"INDEX(Planning!$11:$11,MATCH('Solde d''heure collaborateur'!$A21,Planning!$3:$3))","v":"Plo1"},{"$f":"VLOOKUP(AE21,Horaires!$A$3:$E$49,2,)","v":"Plan les Ouates"},{"$f":"IF(AF21=\"vacances\",INDEX(Horaires!$H$3:$L$42,MATCH('Solde d''heure collaborateur'!AF$2,Horaires!$H$3:$H$40,0),4),IF(AF21=\"maladie\",INDEX(Horaires!$H$3:$L$42,MATCH('Solde d''heure collaborateur'!AF$2,Horaires!$H$3:$H$40,0),5),VLOOKUP(AE21,Horaires!$A$3:$E$60,5,)))","v":0.46875000000000006},null,{"$f":"INDEX(Planning!$12:$12,MATCH('Solde d''heure collaborateur'!$A21,Planning!$3:$3))","v":"Thon1"},{"$f":"VLOOKUP(AI21,Horaires!$A$3:$E$49,2,)","v":"Thonex"},{"$f":"IF(AJ21=\"vacances\",INDEX(Horaires!$H$3:$L$42,MATCH('Solde d''heure collaborateur'!AJ$2,Horaires!$H$3:$H$40,0),4),IF(AJ21=\"maladie\",INDEX(Horaires!$H$3:$L$42,MATCH('Solde d''heure collaborateur'!AJ$2,Horaires!$H$3:$H$40,0),5),VLOOKUP(AI21,Horaires!$A$3:$E$60,5,)))","v":0.44791666666666669},null,{"$f":"INDEX(Planning!$13:$13,MATCH('Solde d''heure collaborateur'!$A21,Planning!$3:$3))","v":"R"},{"$f":"VLOOKUP(AM21,Horaires!$A$3:$E$49,2,)","v":"Congé"},{"$f":"IF(AN21=\"vacances\",INDEX(Horaires!$H$3:$L$42,MATCH('Solde d''heure collaborateur'!AN$2,Horaires!$H$3:$H$40,0),4),IF(AN21=\"maladie\",INDEX(Horaires!$H$3:$L$42,MATCH('Solde d''heure collaborateur'!AN$2,Horaires!$H$3:$H$40,0),5),VLOOKUP(AM21,Horaires!$A$3:$E$60,5,)))","v":0},null,{"$f":"INDEX(Planning!$14:$14,MATCH('Solde d''heure collaborateur'!$A21,Planning!$3:$3))","v":"X"},{"$f":"VLOOKUP(AQ21,Horaires!$A$3:$E$49,2,)","v":"XXX"},{"$f":"IF(AR21=\"vacances\",INDEX(Horaires!$H$3:$L$42,MATCH('Solde d''heure collaborateur'!AR$2,Horaires!$H$3:$H$40,0),4),IF(AR21=\"maladie\",INDEX(Horaires!$H$3:$L$42,MATCH('Solde d''heure collaborateur'!AR$2,Horaires!$H$3:$H$40,0),5),VLOOKUP(AQ21,Horaires!$A$3:$E$60,5,)))","v":0},null,{"$f":"INDEX(Planning!$15:$15,MATCH('Solde d''heure collaborateur'!$A21,Planning!$3:$3))","v":"R"},{"$f":"VLOOKUP(AU21,Horaires!$A$3:$E$49,2,)","v":"Congé"},{"$f":"IF(AV21=\"vacances\",INDEX(Horaires!$H$3:$L$42,MATCH('Solde d''heure collaborateur'!AV$2,Horaires!$H$3:$H$40,0),4),IF(AV21=\"maladie\",INDEX(Horaires!$H$3:$L$42,MATCH('Solde d''heure collaborateur'!AV$2,Horaires!$H$3:$H$40,0),5),VLOOKUP(AU21,Horaires!$A$3:$E$60,5,)))","v":0},null,{"$f":"INDEX(Planning!$16:$16,MATCH('Solde d''heure collaborateur'!$A21,Planning!$3:$3))","v":"Nyon1"},{"$f":"VLOOKUP(AY21,Horaires!$A$3:$E$49,2,)","v":"Nyon"},{"$f":"IF(AZ21=\"vacances\",INDEX(Horaires!$H$3:$L$42,MATCH('Solde d''heure collaborateur'!AZ$2,Horaires!$H$3:$H$40,0),4),IF(AZ21=\"maladie\",INDEX(Horaires!$H$3:$L$42,MATCH('Solde d''heure collaborateur'!AZ$2,Horaires!$H$3:$H$40,0),5),VLOOKUP(AY21,Horaires!$A$3:$E$60,5,)))","v":0.44791666666666669},null,{"$f":"INDEX(Planning!$17:$17,MATCH('Solde d''heure collaborateur'!$A21,Planning!$3:$3))","v":"R"},{"$f":"VLOOKUP(BC21,Horaires!$A$3:$E$49,2,)","v":"Congé"},{"$f":"IF(BD21=\"vacances\",INDEX(Horaires!$H$3:$L$42,MATCH('Solde d''heure collaborateur'!BD$2,Horaires!$H$3:$H$40,0),4),IF(BD21=\"maladie\",INDEX(Horaires!$H$3:$L$42,MATCH('Solde d''heure collaborateur'!BD$2,Horaires!$H$3:$H$40,0),5),VLOOKUP(BC21,Horaires!$A$3:$E$60,5,)))","v":0},null,{"$f":"INDEX(Planning!$18:$18,MATCH('Solde d''heure collaborateur'!$A21,Planning!$3:$3))","v":"nav1"},{"$f":"VLOOKUP(BG21,Horaires!$A$3:$E$49,2,)","v":"Navigation"},{"$f":"IF(BH21=\"vacances\",INDEX(Horaires!$H$3:$L$42,MATCH('Solde d''heure collaborateur'!BH$2,Horaires!$H$3:$H$40,0),4),IF(BH21=\"maladie\",INDEX(Horaires!$H$3:$L$42,MATCH('Solde d''heure collaborateur'!BH$2,Horaires!$H$3:$H$40,0),5),VLOOKUP(BG21,Horaires!$A$3:$E$60,5,)))","v":0.44791666666666669},null,{"$f":"INDEX(Planning!$19:$19,MATCH('Solde d''heure collaborateur'!$A21,Planning!$3:$3))","v":"R"},{"$f":"VLOOKUP(BK21,Horaires!$A$3:$E$49,2,)","v":"Congé"},{"$f":"IF(BL21=\"vacances\",INDEX(Horaires!$H$3:$L$42,MATCH('Solde d''heure collaborateur'!BL$2,Horaires!$H$3:$H$40,0),4),IF(BL21=\"maladie\",INDEX(Horaires!$H$3:$L$42,MATCH('Solde d''heure collaborateur'!BL$2,Horaires!$H$3:$H$40,0),5),VLOOKUP(BK21,Horaires!$A$3:$E$60,5,)))","v":0},null,{"$f":"INDEX(Planning!$20:$20,MATCH('Solde d''heure collaborateur'!$A21,Planning!$3:$3))","v":"Aca1"},{"$f":"VLOOKUP(BO21,Horaires!$A$3:$E$49,2,)","v":"Acacias"},{"$f":"IF(BP21=\"vacances\",INDEX(Horaires!$H$3:$L$42,MATCH('Solde d''heure collaborateur'!BP$2,Horaires!$H$3:$H$40,0),4),IF(BP21=\"maladie\",INDEX(Horaires!$H$3:$L$42,MATCH('Solde d''heure collaborateur'!BP$2,Horaires!$H$3:$H$40,0),5),VLOOKUP(BO21,Horaires!$A$3:$E$60,5,)))","v":0.44791666666666669},null,{"$f":"INDEX(Planning!$21:$21,MATCH('Solde d''heure collaborateur'!$A21,Planning!$3:$3))","v":"R"},{"$f":"VLOOKUP(BS21,Horaires!$A$3:$E$49,2,)","v":"Congé"},{"$f":"IF(BT21=\"vacances\",INDEX(Horaires!$H$3:$L$42,MATCH('Solde d''heure collaborateur'!BT$2,Horaires!$H$3:$H$40,0),4),IF(BT21=\"maladie\",INDEX(Horaires!$H$3:$L$42,MATCH('Solde d''heure collaborateur'!BT$2,Horaires!$H$3:$H$40,0),5),VLOOKUP(BS21,Horaires!$A$3:$E$60,5,)))","v":0},null,{"$f":"INDEX(Planning!$22:$22,MATCH('Solde d''heure collaborateur'!$A21,Planning!$3:$3))","v":"Ves1"},{"$f":"VLOOKUP(BW21,Horaires!$A$3:$E$49,2,)","v":"Vesenaz"},{"$f":"IF(BX21=\"vacances\",INDEX(Horaires!$H$3:$L$42,MATCH('Solde d''heure collaborateur'!BX$2,Horaires!$H$3:$H$40,0),4),IF(BX21=\"maladie\",INDEX(Horaires!$H$3:$L$42,MATCH('Solde d''heure collaborateur'!BX$2,Horaires!$H$3:$H$40,0),5),VLOOKUP(BW21,Horaires!$A$3:$E$60,5,)))","v":0.44791666666666669},null,{"$f":"INDEX(Planning!$23:$23,MATCH('Solde d''heure collaborateur'!$A21,Planning!$3:$3))","v":"R"},{"$f":"VLOOKUP(CA21,Horaires!$A$3:$E$49,2,)","v":"Congé"},{"$f":"IF(CB21=\"vacances\",INDEX(Horaires!$H$3:$L$42,MATCH('Solde d''heure collaborateur'!CB$2,Horaires!$H$3:$H$40,0),4),IF(CB21=\"maladie\",INDEX(Horaires!$H$3:$L$42,MATCH('Solde d''heure collaborateur'!CB$2,Horaires!$H$3:$H$40,0),5),VLOOKUP(CA21,Horaires!$A$3:$E$60,5,)))","v":0},null,{"$f":"INDEX(Planning!$24:$24,MATCH('Solde d''heure collaborateur'!$A21,Planning!$3:$3))","v":"onex1"},{"$f":"VLOOKUP(CE21,Horaires!$A$3:$E$49,2,)","v":"Onex"},{"$f":"IF(CF21=\"vacances\",INDEX(Horaires!$H$3:$L$42,MATCH('Solde d''heure collaborateur'!CF$2,Horaires!$H$3:$H$40,0),4),IF(CF21=\"maladie\",INDEX(Horaires!$H$3:$L$42,MATCH('Solde d''heure collaborateur'!CF$2,Horaires!$H$3:$H$40,0),5),VLOOKUP(CE21,Horaires!$A$3:$E$60,5,)))","v":0.46875000000000006},null,{"$f":"INDEX(Planning!$25:$25,MATCH('Solde d''heure collaborateur'!$A21,Planning!$3:$3))","v":"X"},{"$f":"VLOOKUP(CI21,Horaires!$A$3:$E$49,2,)","v":"XXX"},{"$f":"IF(CJ21=\"vacances\",INDEX(Horaires!$H$3:$L$42,MATCH('Solde d''heure collaborateur'!CJ$2,Horaires!$H$3:$H$40,0),4),IF(CJ21=\"maladie\",INDEX(Horaires!$H$3:$L$42,MATCH('Solde d''heure collaborateur'!CJ$2,Horaires!$H$3:$H$40,0),5),VLOOKUP(CI21,Horaires!$A$3:$E$60,5,)))","v":0},null,{"$f":"INDEX(Planning!$26:$26,MATCH('Solde d''heure collaborateur'!$A21,Planning!$3:$3))","v":"Vid1"},{"$f":"VLOOKUP(CM21,Horaires!$A$3:$E$49,2,)","v":"Vidollet"},{"$f":"IF(CN21=\"vacances\",INDEX(Horaires!$H$3:$L$42,MATCH('Solde d''heure collaborateur'!CN$2,Horaires!$H$3:$H$40,0),4),IF(CN21=\"maladie\",INDEX(Horaires!$H$3:$L$42,MATCH('Solde d''heure collaborateur'!CN$2,Horaires!$H$3:$H$40,0),5),VLOOKUP(CM21,Horaires!$A$3:$E$60,5,)))","v":0.44791666666666669},null,{"$f":"INDEX(Planning!$27:$27,MATCH('Solde d''heure collaborateur'!$A21,Planning!$3:$3))","v":"Vib1"},{"$f":"VLOOKUP(CQ21,Horaires!$A$3:$E$49,2,)","v":"Vibert"},{"$f":"IF(CR21=\"vacances\",INDEX(Horaires!$H$3:$L$42,MATCH('Solde d''heure collaborateur'!CR$2,Horaires!$H$3:$H$40,0),4),IF(CR21=\"maladie\",INDEX(Horaires!$H$3:$L$42,MATCH('Solde d''heure collaborateur'!CR$2,Horaires!$H$3:$H$40,0),5),VLOOKUP(CQ21,Horaires!$A$3:$E$60,5,)))","v":0.46875000000000006},null,{"$f":"INDEX(Planning!$28:$28,MATCH('Solde d''heure collaborateur'!$A21,Planning!$3:$3))","v":"tour1"},{"$f":"VLOOKUP(CU21,Horaires!$A$3:$E$49,2,)","v":"Tourelle"},{"$f":"IF(CV21=\"vacances\",INDEX(Horaires!$H$3:$L$42,MATCH('Solde d''heure collaborateur'!CV$2,Horaires!$H$3:$H$40,0),4),IF(CV21=\"maladie\",INDEX(Horaires!$H$3:$L$42,MATCH('Solde d''heure collaborateur'!CV$2,Horaires!$H$3:$H$40,0),5),VLOOKUP(CU21,Horaires!$A$3:$E$60,5,)))","v":0.46875000000000006},null,{"$f":"INDEX(Planning!$29:$29,MATCH('Solde d''heure collaborateur'!$A21,Planning!$3:$3))","v":"X"},{"$f":"VLOOKUP(CY21,Horaires!$A$3:$E$49,2,)","v":"XXX"},{"$f":"IF(CZ21=\"vacances\",INDEX(Horaires!$H$3:$L$42,MATCH('Solde d''heure collaborateur'!CZ$2,Horaires!$H$3:$H$40,0),4),IF(CZ21=\"maladie\",INDEX(Horaires!$H$3:$L$42,MATCH('Solde d''heure collaborateur'!CZ$2,Horaires!$H$3:$H$40,0),5),VLOOKUP(CY21,Horaires!$A$3:$E$60,5,)))","v":0},null,{"$f":"INDEX(Planning!$30:$30,MATCH('Solde d''heure collaborateur'!$A21,Planning!$3:$3))","v":"X"},{"$f":"VLOOKUP(DC21,Horaires!$A$3:$E$49,2,)","v":"XXX"},{"$f":"IF(DD21=\"vacances\",INDEX(Horaires!$H$3:$L$42,MATCH('Solde d''heure collaborateur'!DD$2,Horaires!$H$3:$H$40,0),4),IF(DD21=\"maladie\",INDEX(Horaires!$H$3:$L$42,MATCH('Solde d''heure collaborateur'!DD$2,Horaires!$H$3:$H$40,0),5),VLOOKUP(DC21,Horaires!$A$3:$E$60,5,)))","v":0},null,{"$f":"INDEX(Planning!$31:$31,MATCH('Solde d''heure collaborateur'!$A21,Planning!$3:$3))","v":"X"},{"$f":"VLOOKUP(DG21,Horaires!$A$3:$E$49,2,)","v":"XXX"},{"$f":"IF(DH21=\"vacances\",INDEX(Horaires!$H$3:$L$42,MATCH('Solde d''heure collaborateur'!DH$2,Horaires!$H$3:$H$40,0),4),IF(DH21=\"maladie\",INDEX(Horaires!$H$3:$L$42,MATCH('Solde d''heure collaborateur'!DH$2,Horaires!$H$3:$H$40,0),5),VLOOKUP(DG21,Horaires!$A$3:$E$60,5,)))","v":0},null,{"$f":"INDEX(Planning!$32:$32,MATCH('Solde d''heure collaborateur'!$A21,Planning!$3:$3))","v":"X"},{"$f":"VLOOKUP(DK21,Horaires!$A$3:$E$49,2,)","v":"XXX"},{"$f":"IF(DL21=\"vacances\",INDEX(Horaires!$H$3:$L$42,MATCH('Solde d''heure collaborateur'!DL$2,Horaires!$H$3:$H$40,0),4),IF(DL21=\"maladie\",INDEX(Horaires!$H$3:$L$42,MATCH('Solde d''heure collaborateur'!DL$2,Horaires!$H$3:$H$40,0),5),VLOOKUP(DK21,Horaires!$A$3:$E$60,5,)))","v":0},null,{"$f":"INDEX(Planning!$33:$33,MATCH('Solde d''heure collaborateur'!$A21,Planning!$3:$3))","v":"X"},{"$f":"VLOOKUP(DO21,Horaires!$A$3:$E$49,2,)","v":"XXX"},{"$f":"IF(DP21=\"vacances\",INDEX(Horaires!$H$3:$L$42,MATCH('Solde d''heure collaborateur'!DP$2,Horaires!$H$3:$H$40,0),4),IF(DP21=\"maladie\",INDEX(Horaires!$H$3:$L$42,MATCH('Solde d''heure collaborateur'!DP$2,Horaires!$H$3:$H$40,0),5),VLOOKUP(DO21,Horaires!$A$3:$E$60,5,)))","v":0},null,{"$f":"INDEX(Planning!$34:$34,MATCH('Solde d''heure collaborateur'!$A21,Planning!$3:$3))","v":"X"},{"$f":"VLOOKUP(DS21,Horaires!$A$3:$E$49,2,)","v":"XXX"},{"$f":"IF(DT21=\"vacances\",INDEX(Horaires!$H$3:$L$42,MATCH('Solde d''heure collaborateur'!DT$2,Horaires!$H$3:$H$40,0),4),IF(DT21=\"maladie\",INDEX(Horaires!$H$3:$L$42,MATCH('Solde d''heure collaborateur'!DT$2,Horaires!$H$3:$H$40,0),5),VLOOKUP(DS21,Horaires!$A$3:$E$60,5,)))","v":0},null,{"$f":"INDEX(Planning!$35:$35,MATCH('Solde d''heure collaborateur'!$A21,Planning!$3:$3))","v":"X"},{"$f":"VLOOKUP(DW21,Horaires!$A$3:$E$49,2,)","v":"XXX"},{"$f":"IF(DX21=\"vacances\",INDEX(Horaires!$H$3:$L$42,MATCH('Solde d''heure collaborateur'!DX$2,Horaires!$H$3:$H$40,0),4),IF(DX21=\"maladie\",INDEX(Horaires!$H$3:$L$42,MATCH('Solde d''heure collaborateur'!DX$2,Horaires!$H$3:$H$40,0),5),VLOOKUP(DW21,Horaires!$A$3:$E$60,5,)))","v":0}]
[{"$f":"A21+1","v":"2013-11-20"},null,{"$f":"INDEX(Planning!$4:$4,MATCH('Solde d''heure collaborateur'!A22,Planning!$3:$3,0))","v":"Nav1"},{"$f":"VLOOKUP(C22,Horaires!$A$3:$E$49,2,)","v":"Navigation"},{"$f":"IF(D22=\"vacances\",INDEX(Horaires!$H$3:$L$42,MATCH('Solde d''heure collaborateur'!D$2,Horaires!$H$3:$H$40,0),4),IF(D22=\"maladie\",INDEX(Horaires!$H$3:$L$42,MATCH('Solde d''heure collaborateur'!D$2,Horaires!$H$3:$H$40,0),5),VLOOKUP(C22,Horaires!$A$3:$E$60,5,)))","v":0.44791666666666669},null,{"$f":"INDEX(Planning!$5:$5,MATCH('Solde d''heure collaborateur'!A22,Planning!$3:$3))","v":"R"},{"$f":"VLOOKUP(G22,Horaires!$A$3:$E$49,2,)","v":"Congé"},{"$f":"IF(H22=\"vacances\",INDEX(Horaires!$H$3:$L$42,MATCH('Solde d''heure collaborateur'!H$2,Horaires!$H$3:$H$40,0),4),IF(H22=\"maladie\",INDEX(Horaires!$H$3:$L$42,MATCH('Solde d''heure collaborateur'!H$2,Horaires!$H$3:$H$40,0),5),VLOOKUP(G22,Horaires!$A$3:$E$60,5,)))","v":0},null,{"$f":"INDEX(Planning!$6:$6,MATCH('Solde d''heure collaborateur'!A22,Planning!$3:$3))","v":"M"},{"$f":"VLOOKUP(K22,Horaires!$A$3:$E$49,2,)","v":"Maladie"},{"$f":"IF(L22=\"vacances\",INDEX(Horaires!$H$3:$L$42,MATCH('Solde d''heure collaborateur'!L$2,Horaires!$H$3:$H$40,0),4),IF(L22=\"maladie\",INDEX(Horaires!$H$3:$L$42,MATCH('Solde d''heure collaborateur'!L$2,Horaires!$H$3:$H$40,0),5),VLOOKUP(K22,Horaires!$A$3:$E$60,5,)))","v":0.4375},null,{"$f":"INDEX(Planning!$7:$7,MATCH('Solde d''heure collaborateur'!$A22,Planning!$3:$3))","v":"X"},{"$f":"VLOOKUP(O22,Horaires!$A$3:$E$49,2,)","v":"XXX"},{"$f":"IF(P22=\"vacances\",INDEX(Horaires!$H$3:$L$42,MATCH('Solde d''heure collaborateur'!P$2,Horaires!$H$3:$H$40,0),4),IF(P22=\"maladie\",INDEX(Horaires!$H$3:$L$42,MATCH('Solde d''heure collaborateur'!P$2,Horaires!$H$3:$H$40,0),5),VLOOKUP(O22,Horaires!$A$3:$E$60,5,)))","v":0},null,{"$f":"INDEX(Planning!$8:$8,MATCH('Solde d''heure collaborateur'!$A22,Planning!$3:$3))","v":"Onex1"},{"$f":"VLOOKUP(S22,Horaires!$A$3:$E$49,2,)","v":"Onex"},{"$f":"IF(T22=\"vacances\",INDEX(Horaires!$H$3:$L$42,MATCH('Solde d''heure collaborateur'!T$2,Horaires!$H$3:$H$40,0),4),IF(T22=\"maladie\",INDEX(Horaires!$H$3:$L$42,MATCH('Solde d''heure collaborateur'!T$2,Horaires!$H$3:$H$40,0),5),VLOOKUP(S22,Horaires!$A$3:$E$60,5,)))","v":0.46875000000000006},null,{"$f":"INDEX(Planning!$9:$9,MATCH('Solde d''heure collaborateur'!$A22,Planning!$3:$3))","v":"Onex1"},{"$f":"VLOOKUP(W22,Horaires!$A$3:$E$49,2,)","v":"Onex"},{"$f":"IF(X22=\"vacances\",INDEX(Horaires!$H$3:$L$42,MATCH('Solde d''heure collaborateur'!X$2,Horaires!$H$3:$H$40,0),4),IF(X22=\"maladie\",INDEX(Horaires!$H$3:$L$42,MATCH('Solde d''heure collaborateur'!X$2,Horaires!$H$3:$H$40,0),5),VLOOKUP(W22,Horaires!$A$3:$E$60,5,)))","v":0.46875000000000006},null,{"$f":"INDEX(Planning!$10:$10,MATCH('Solde d''heure collaborateur'!$A22,Planning!$3:$3))","v":"tour1"},{"$f":"VLOOKUP(AA22,Horaires!$A$3:$E$49,2,)","v":"Tourelle"},{"$f":"IF(AB22=\"vacances\",INDEX(Horaires!$H$3:$L$42,MATCH('Solde d''heure collaborateur'!AB$2,Horaires!$H$3:$H$40,0),4),IF(AB22=\"maladie\",INDEX(Horaires!$H$3:$L$42,MATCH('Solde d''heure collaborateur'!AB$2,Horaires!$H$3:$H$40,0),5),VLOOKUP(AA22,Horaires!$A$3:$E$60,5,)))","v":0.46875000000000006},null,{"$f":"INDEX(Planning!$11:$11,MATCH('Solde d''heure collaborateur'!$A22,Planning!$3:$3))","v":"Plo1"},{"$f":"VLOOKUP(AE22,Horaires!$A$3:$E$49,2,)","v":"Plan les Ouates"},{"$f":"IF(AF22=\"vacances\",INDEX(Horaires!$H$3:$L$42,MATCH('Solde d''heure collaborateur'!AF$2,Horaires!$H$3:$H$40,0),4),IF(AF22=\"maladie\",INDEX(Horaires!$H$3:$L$42,MATCH('Solde d''heure collaborateur'!AF$2,Horaires!$H$3:$H$40,0),5),VLOOKUP(AE22,Horaires!$A$3:$E$60,5,)))","v":0.46875000000000006},null,{"$f":"INDEX(Planning!$12:$12,MATCH('Solde d''heure collaborateur'!$A22,Planning!$3:$3))","v":"R"},{"$f":"VLOOKUP(AI22,Horaires!$A$3:$E$49,2,)","v":"Congé"},{"$f":"IF(AJ22=\"vacances\",INDEX(Horaires!$H$3:$L$42,MATCH('Solde d''heure collaborateur'!AJ$2,Horaires!$H$3:$H$40,0),4),IF(AJ22=\"maladie\",INDEX(Horaires!$H$3:$L$42,MATCH('Solde d''heure collaborateur'!AJ$2,Horaires!$H$3:$H$40,0),5),VLOOKUP(AI22,Horaires!$A$3:$E$60,5,)))","v":0},null,{"$f":"INDEX(Planning!$13:$13,MATCH('Solde d''heure collaborateur'!$A22,Planning!$3:$3))","v":"ves1"},{"$f":"VLOOKUP(AM22,Horaires!$A$3:$E$49,2,)","v":"Vesenaz"},{"$f":"IF(AN22=\"vacances\",INDEX(Horaires!$H$3:$L$42,MATCH('Solde d''heure collaborateur'!AN$2,Horaires!$H$3:$H$40,0),4),IF(AN22=\"maladie\",INDEX(Horaires!$H$3:$L$42,MATCH('Solde d''heure collaborateur'!AN$2,Horaires!$H$3:$H$40,0),5),VLOOKUP(AM22,Horaires!$A$3:$E$60,5,)))","v":0.44791666666666669},null,{"$f":"INDEX(Planning!$14:$14,MATCH('Solde d''heure collaborateur'!$A22,Planning!$3:$3))","v":"X"},{"$f":"VLOOKUP(AQ22,Horaires!$A$3:$E$49,2,)","v":"XXX"},{"$f":"IF(AR22=\"vacances\",INDEX(Horaires!$H$3:$L$42,MATCH('Solde d''heure collaborateur'!AR$2,Horaires!$H$3:$H$40,0),4),IF(AR22=\"maladie\",INDEX(Horaires!$H$3:$L$42,MATCH('Solde d''heure collaborateur'!AR$2,Horaires!$H$3:$H$40,0),5),VLOOKUP(AQ22,Horaires!$A$3:$E$60,5,)))","v":0},null,{"$f":"INDEX(Planning!$15:$15,MATCH('Solde d''heure collaborateur'!$A22,Planning!$3:$3))","v":"Nyon1"},{"$f":"VLOOKUP(AU22,Horaires!$A$3:$E$49,2,)","v":"Nyon"},{"$f":"IF(AV22=\"vacances\",INDEX(Horaires!$H$3:$L$42,MATCH('Solde d''heure collaborateur'!AV$2,Horaires!$H$3:$H$40,0),4),IF(AV22=\"maladie\",INDEX(Horaires!$H$3:$L$42,MATCH('Solde d''heure collaborateur'!AV$2,Horaires!$H$3:$H$40,0),5),VLOOKUP(AU22,Horaires!$A$3:$E$60,5,)))","v":0.44791666666666669},null,{"$f":"INDEX(Planning!$16:$16,MATCH('Solde d''heure collaborateur'!$A22,Planning!$3:$3))","v":"R"},{"$f":"VLOOKUP(AY22,Horaires!$A$3:$E$49,2,)","v":"Congé"},{"$f":"IF(AZ22=\"vacances\",INDEX(Horaires!$H$3:$L$42,MATCH('Solde d''heure collaborateur'!AZ$2,Horaires!$H$3:$H$40,0),4),IF(AZ22=\"maladie\",INDEX(Horaires!$H$3:$L$42,MATCH('Solde d''heure collaborateur'!AZ$2,Horaires!$H$3:$H$40,0),5),VLOOKUP(AY22,Horaires!$A$3:$E$60,5,)))","v":0},null,{"$f":"INDEX(Planning!$17:$17,MATCH('Solde d''heure collaborateur'!$A22,Planning!$3:$3))","v":"R"},{"$f":"VLOOKUP(BC22,Horaires!$A$3:$E$49,2,)","v":"Congé"},{"$f":"IF(BD22=\"vacances\",INDEX(Horaires!$H$3:$L$42,MATCH('Solde d''heure collaborateur'!BD$2,Horaires!$H$3:$H$40,0),4),IF(BD22=\"maladie\",INDEX(Horaires!$H$3:$L$42,MATCH('Solde d''heure collaborateur'!BD$2,Horaires!$H$3:$H$40,0),5),VLOOKUP(BC22,Horaires!$A$3:$E$60,5,)))","v":0},null,{"$f":"INDEX(Planning!$18:$18,MATCH('Solde d''heure collaborateur'!$A22,Planning!$3:$3))","v":"pom1"},{"$f":"VLOOKUP(BG22,Horaires!$A$3:$E$49,2,)","v":"Pommier"},{"$f":"IF(BH22=\"vacances\",INDEX(Horaires!$H$3:$L$42,MATCH('Solde d''heure collaborateur'!BH$2,Horaires!$H$3:$H$40,0),4),IF(BH22=\"maladie\",INDEX(Horaires!$H$3:$L$42,MATCH('Solde d''heure collaborateur'!BH$2,Horaires!$H$3:$H$40,0),5),VLOOKUP(BG22,Horaires!$A$3:$E$60,5,)))","v":0.44791666666666669},null,{"$f":"INDEX(Planning!$19:$19,MATCH('Solde d''heure collaborateur'!$A22,Planning!$3:$3))","v":"Vib1"},{"$f":"VLOOKUP(BK22,Horaires!$A$3:$E$49,2,)","v":"Vibert"},{"$f":"IF(BL22=\"vacances\",INDEX(Horaires!$H$3:$L$42,MATCH('Solde d''heure collaborateur'!BL$2,Horaires!$H$3:$H$40,0),4),IF(BL22=\"maladie\",INDEX(Horaires!$H$3:$L$42,MATCH('Solde d''heure collaborateur'!BL$2,Horaires!$H$3:$H$40,0),5),VLOOKUP(BK22,Horaires!$A$3:$E$60,5,)))","v":0.46875000000000006},null,{"$f":"INDEX(Planning!$20:$20,MATCH('Solde d''heure collaborateur'!$A22,Planning!$3:$3))","v":"Aca1"},{"$f":"VLOOKUP(BO22,Horaires!$A$3:$E$49,2,)","v":"Acacias"},{"$f":"IF(BP22=\"vacances\",INDEX(Horaires!$H$3:$L$42,MATCH('Solde d''heure collaborateur'!BP$2,Horaires!$H$3:$H$40,0),4),IF(BP22=\"maladie\",INDEX(Horaires!$H$3:$L$42,MATCH('Solde d''heure collaborateur'!BP$2,Horaires!$H$3:$H$40,0),5),VLOOKUP(BO22,Horaires!$A$3:$E$60,5,)))","v":0.44791666666666669},null,{"$f":"INDEX(Planning!$21:$21,MATCH('Solde d''heure collaborateur'!$A22,Planning!$3:$3))","v":"recup"},{"$f":"VLOOKUP(BS22,Horaires!$A$3:$E$49,2,)","v":"Récupération"},{"$f":"IF(BT22=\"vacances\",INDEX(Horaires!$H$3:$L$42,MATCH('Solde d''heure collaborateur'!BT$2,Horaires!$H$3:$H$40,0),4),IF(BT22=\"maladie\",INDEX(Horaires!$H$3:$L$42,MATCH('Solde d''heure collaborateur'!BT$2,Horaires!$H$3:$H$40,0),5),VLOOKUP(BS22,Horaires!$A$3:$E$60,5,)))","v":0},null,{"$f":"INDEX(Planning!$22:$22,MATCH('Solde d''heure collaborateur'!$A22,Planning!$3:$3))","v":"X"},{"$f":"VLOOKUP(BW22,Horaires!$A$3:$E$49,2,)","v":"XXX"},{"$f":"IF(BX22=\"vacances\",INDEX(Horaires!$H$3:$L$42,MATCH('Solde d''heure collaborateur'!BX$2,Horaires!$H$3:$H$40,0),4),IF(BX22=\"maladie\",INDEX(Horaires!$H$3:$L$42,MATCH('Solde d''heure collaborateur'!BX$2,Horaires!$H$3:$H$40,0),5),VLOOKUP(BW22,Horaires!$A$3:$E$60,5,)))","v":0},null,{"$f":"INDEX(Planning!$23:$23,MATCH('Solde d''heure collaborateur'!$A22,Planning!$3:$3))","v":"R"},{"$f":"VLOOKUP(CA22,Horaires!$A$3:$E$49,2,)","v":"Congé"},{"$f":"IF(CB22=\"vacances\",INDEX(Horaires!$H$3:$L$42,MATCH('Solde d''heure collaborateur'!CB$2,Horaires!$H$3:$H$40,0),4),IF(CB22=\"maladie\",INDEX(Horaires!$H$3:$L$42,MATCH('Solde d''heure collaborateur'!CB$2,Horaires!$H$3:$H$40,0),5),VLOOKUP(CA22,Horaires!$A$3:$E$60,5,)))","v":0},null,{"$f":"INDEX(Planning!$24:$24,MATCH('Solde d''heure collaborateur'!$A22,Planning!$3:$3))","v":"R"},{"$f":"VLOOKUP(CE22,Horaires!$A$3:$E$49,2,)","v":"Congé"},{"$f":"IF(CF22=\"vacances\",INDEX(Horaires!$H$3:$L$42,MATCH('Solde d''heure collaborateur'!CF$2,Horaires!$H$3:$H$40,0),4),IF(CF22=\"maladie\",INDEX(Horaires!$H$3:$L$42,MATCH('Solde d''heure collaborateur'!CF$2,Horaires!$H$3:$H$40,0),5),VLOOKUP(CE22,Horaires!$A$3:$E$60,5,)))","v":0},null,{"$f":"INDEX(Planning!$25:$25,MATCH('Solde d''heure collaborateur'!$A22,Planning!$3:$3))","v":"X"},{"$f":"VLOOKUP(CI22,Horaires!$A$3:$E$49,2,)","v":"XXX"},{"$f":"IF(CJ22=\"vacances\",INDEX(Horaires!$H$3:$L$42,MATCH('Solde d''heure collaborateur'!CJ$2,Horaires!$H$3:$H$40,0),4),IF(CJ22=\"maladie\",INDEX(Horaires!$H$3:$L$42,MATCH('Solde d''heure collaborateur'!CJ$2,Horaires!$H$3:$H$40,0),5),VLOOKUP(CI22,Horaires!$A$3:$E$60,5,)))","v":0},null,{"$f":"INDEX(Planning!$26:$26,MATCH('Solde d''heure collaborateur'!$A22,Planning!$3:$3))","v":"Vid1"},{"$f":"VLOOKUP(CM22,Horaires!$A$3:$E$49,2,)","v":"Vidollet"},{"$f":"IF(CN22=\"vacances\",INDEX(Horaires!$H$3:$L$42,MATCH('Solde d''heure collaborateur'!CN$2,Horaires!$H$3:$H$40,0),4),IF(CN22=\"maladie\",INDEX(Horaires!$H$3:$L$42,MATCH('Solde d''heure collaborateur'!CN$2,Horaires!$H$3:$H$40,0),5),VLOOKUP(CM22,Horaires!$A$3:$E$60,5,)))","v":0.44791666666666669},null,{"$f":"INDEX(Planning!$27:$27,MATCH('Solde d''heure collaborateur'!$A22,Planning!$3:$3))","v":"thon2"},{"$f":"VLOOKUP(CQ22,Horaires!$A$3:$E$49,2,)","v":"Thonex"},{"$f":"IF(CR22=\"vacances\",INDEX(Horaires!$H$3:$L$42,MATCH('Solde d''heure collaborateur'!CR$2,Horaires!$H$3:$H$40,0),4),IF(CR22=\"maladie\",INDEX(Horaires!$H$3:$L$42,MATCH('Solde d''heure collaborateur'!CR$2,Horaires!$H$3:$H$40,0),5),VLOOKUP(CQ22,Horaires!$A$3:$E$60,5,)))","v":0.46874999999999994},null,{"$f":"INDEX(Planning!$28:$28,MATCH('Solde d''heure collaborateur'!$A22,Planning!$3:$3))","v":"vib1"},{"$f":"VLOOKUP(CU22,Horaires!$A$3:$E$49,2,)","v":"Vibert"},{"$f":"IF(CV22=\"vacances\",INDEX(Horaires!$H$3:$L$42,MATCH('Solde d''heure collaborateur'!CV$2,Horaires!$H$3:$H$40,0),4),IF(CV22=\"maladie\",INDEX(Horaires!$H$3:$L$42,MATCH('Solde d''heure collaborateur'!CV$2,Horaires!$H$3:$H$40,0),5),VLOOKUP(CU22,Horaires!$A$3:$E$60,5,)))","v":0.46875000000000006},null,{"$f":"INDEX(Planning!$29:$29,MATCH('Solde d''heure collaborateur'!$A22,Planning!$3:$3))","v":"X"},{"$f":"VLOOKUP(CY22,Horaires!$A$3:$E$49,2,)","v":"XXX"},{"$f":"IF(CZ22=\"vacances\",INDEX(Horaires!$H$3:$L$42,MATCH('Solde d''heure collaborateur'!CZ$2,Horaires!$H$3:$H$40,0),4),IF(CZ22=\"maladie\",INDEX(Horaires!$H$3:$L$42,MATCH('Solde d''heure collaborateur'!CZ$2,Horaires!$H$3:$H$40,0),5),VLOOKUP(CY22,Horaires!$A$3:$E$60,5,)))","v":0},null,{"$f":"INDEX(Planning!$30:$30,MATCH('Solde d''heure collaborateur'!$A22,Planning!$3:$3))","v":"X"},{"$f":"VLOOKUP(DC22,Horaires!$A$3:$E$49,2,)","v":"XXX"},{"$f":"IF(DD22=\"vacances\",INDEX(Horaires!$H$3:$L$42,MATCH('Solde d''heure collaborateur'!DD$2,Horaires!$H$3:$H$40,0),4),IF(DD22=\"maladie\",INDEX(Horaires!$H$3:$L$42,MATCH('Solde d''heure collaborateur'!DD$2,Horaires!$H$3:$H$40,0),5),VLOOKUP(DC22,Horaires!$A$3:$E$60,5,)))","v":0},null,{"$f":"INDEX(Planning!$31:$31,MATCH('Solde d''heure collaborateur'!$A22,Planning!$3:$3))","v":"X"},{"$f":"VLOOKUP(DG22,Horaires!$A$3:$E$49,2,)","v":"XXX"},{"$f":"IF(DH22=\"vacances\",INDEX(Horaires!$H$3:$L$42,MATCH('Solde d''heure collaborateur'!DH$2,Horaires!$H$3:$H$40,0),4),IF(DH22=\"maladie\",INDEX(Horaires!$H$3:$L$42,MATCH('Solde d''heure collaborateur'!DH$2,Horaires!$H$3:$H$40,0),5),VLOOKUP(DG22,Horaires!$A$3:$E$60,5,)))","v":0},null,{"$f":"INDEX(Planning!$32:$32,MATCH('Solde d''heure collaborateur'!$A22,Planning!$3:$3))","v":"X"},{"$f":"VLOOKUP(DK22,Horaires!$A$3:$E$49,2,)","v":"XXX"},{"$f":"IF(DL22=\"vacances\",INDEX(Horaires!$H$3:$L$42,MATCH('Solde d''heure collaborateur'!DL$2,Horaires!$H$3:$H$40,0),4),IF(DL22=\"maladie\",INDEX(Horaires!$H$3:$L$42,MATCH('Solde d''heure collaborateur'!DL$2,Horaires!$H$3:$H$40,0),5),VLOOKUP(DK22,Horaires!$A$3:$E$60,5,)))","v":0},null,{"$f":"INDEX(Planning!$33:$33,MATCH('Solde d''heure collaborateur'!$A22,Planning!$3:$3))","v":"X"},{"$f":"VLOOKUP(DO22,Horaires!$A$3:$E$49,2,)","v":"XXX"},{"$f":"IF(DP22=\"vacances\",INDEX(Horaires!$H$3:$L$42,MATCH('Solde d''heure collaborateur'!DP$2,Horaires!$H$3:$H$40,0),4),IF(DP22=\"maladie\",INDEX(Horaires!$H$3:$L$42,MATCH('Solde d''heure collaborateur'!DP$2,Horaires!$H$3:$H$40,0),5),VLOOKUP(DO22,Horaires!$A$3:$E$60,5,)))","v":0},null,{"$f":"INDEX(Planning!$34:$34,MATCH('Solde d''heure collaborateur'!$A22,Planning!$3:$3))","v":"X"},{"$f":"VLOOKUP(DS22,Horaires!$A$3:$E$49,2,)","v":"XXX"},{"$f":"IF(DT22=\"vacances\",INDEX(Horaires!$H$3:$L$42,MATCH('Solde d''heure collaborateur'!DT$2,Horaires!$H$3:$H$40,0),4),IF(DT22=\"maladie\",INDEX(Horaires!$H$3:$L$42,MATCH('Solde d''heure collaborateur'!DT$2,Horaires!$H$3:$H$40,0),5),VLOOKUP(DS22,Horaires!$A$3:$E$60,5,)))","v":0},null,{"$f":"INDEX(Planning!$35:$35,MATCH('Solde d''heure collaborateur'!$A22,Planning!$3:$3))","v":"X"},{"$f":"VLOOKUP(DW22,Horaires!$A$3:$E$49,2,)","v":"XXX"},{"$f":"IF(DX22=\"vacances\",INDEX(Horaires!$H$3:$L$42,MATCH('Solde d''heure collaborateur'!DX$2,Horaires!$H$3:$H$40,0),4),IF(DX22=\"maladie\",INDEX(Horaires!$H$3:$L$42,MATCH('Solde d''heure collaborateur'!DX$2,Horaires!$H$3:$H$40,0),5),VLOOKUP(DW22,Horaires!$A$3:$E$60,5,)))","v":0}]
[{"$f":"A22+1","v":"2013-11-21"},null,{"$f":"INDEX(Planning!$4:$4,MATCH('Solde d''heure collaborateur'!A23,Planning!$3:$3,0))","v":"Nav2"},{"$f":"VLOOKUP(C23,Horaires!$A$3:$E$49,2,)","v":"Navigation"},{"$f":"IF(D23=\"vacances\",INDEX(Horaires!$H$3:$L$42,MATCH('Solde d''heure collaborateur'!D$2,Horaires!$H$3:$H$40,0),4),IF(D23=\"maladie\",INDEX(Horaires!$H$3:$L$42,MATCH('Solde d''heure collaborateur'!D$2,Horaires!$H$3:$H$40,0),5),VLOOKUP(C23,Horaires!$A$3:$E$60,5,)))","v":0.46874999999999994},null,{"$f":"INDEX(Planning!$5:$5,MATCH('Solde d''heure collaborateur'!A23,Planning!$3:$3))","v":"Pom2"},{"$f":"VLOOKUP(G23,Horaires!$A$3:$E$49,2,)","v":"Pommier"},{"$f":"IF(H23=\"vacances\",INDEX(Horaires!$H$3:$L$42,MATCH('Solde d''heure collaborateur'!H$2,Horaires!$H$3:$H$40,0),4),IF(H23=\"maladie\",INDEX(Horaires!$H$3:$L$42,MATCH('Solde d''heure collaborateur'!H$2,Horaires!$H$3:$H$40,0),5),VLOOKUP(G23,Horaires!$A$3:$E$60,5,)))","v":0.46874999999999994},null,{"$f":"INDEX(Planning!$6:$6,MATCH('Solde d''heure collaborateur'!A23,Planning!$3:$3))","v":"M"},{"$f":"VLOOKUP(K23,Horaires!$A$3:$E$49,2,)","v":"Maladie"},{"$f":"IF(L23=\"vacances\",INDEX(Horaires!$H$3:$L$42,MATCH('Solde d''heure collaborateur'!L$2,Horaires!$H$3:$H$40,0),4),IF(L23=\"maladie\",INDEX(Horaires!$H$3:$L$42,MATCH('Solde d''heure collaborateur'!L$2,Horaires!$H$3:$H$40,0),5),VLOOKUP(K23,Horaires!$A$3:$E$60,5,)))","v":0.4375},null,{"$f":"INDEX(Planning!$7:$7,MATCH('Solde d''heure collaborateur'!$A23,Planning!$3:$3))","v":"X"},{"$f":"VLOOKUP(O23,Horaires!$A$3:$E$49,2,)","v":"XXX"},{"$f":"IF(P23=\"vacances\",INDEX(Horaires!$H$3:$L$42,MATCH('Solde d''heure collaborateur'!P$2,Horaires!$H$3:$H$40,0),4),IF(P23=\"maladie\",INDEX(Horaires!$H$3:$L$42,MATCH('Solde d''heure collaborateur'!P$2,Horaires!$H$3:$H$40,0),5),VLOOKUP(O23,Horaires!$A$3:$E$60,5,)))","v":0},null,{"$f":"INDEX(Planning!$8:$8,MATCH('Solde d''heure collaborateur'!$A23,Planning!$3:$3))","v":"Onex2"},{"$f":"VLOOKUP(S23,Horaires!$A$3:$E$49,2,)","v":"Onex"},{"$f":"IF(T23=\"vacances\",INDEX(Horaires!$H$3:$L$42,MATCH('Solde d''heure collaborateur'!T$2,Horaires!$H$3:$H$40,0),4),IF(T23=\"maladie\",INDEX(Horaires!$H$3:$L$42,MATCH('Solde d''heure collaborateur'!T$2,Horaires!$H$3:$H$40,0),5),VLOOKUP(S23,Horaires!$A$3:$E$60,5,)))","v":0.48958333333333331},null,{"$f":"INDEX(Planning!$9:$9,MATCH('Solde d''heure collaborateur'!$A23,Planning!$3:$3))","v":"X"},{"$f":"VLOOKUP(W23,Horaires!$A$3:$E$49,2,)","v":"XXX"},{"$f":"IF(X23=\"vacances\",INDEX(Horaires!$H$3:$L$42,MATCH('Solde d''heure collaborateur'!X$2,Horaires!$H$3:$H$40,0),4),IF(X23=\"maladie\",INDEX(Horaires!$H$3:$L$42,MATCH('Solde d''heure collaborateur'!X$2,Horaires!$H$3:$H$40,0),5),VLOOKUP(W23,Horaires!$A$3:$E$60,5,)))","v":0},null,{"$f":"INDEX(Planning!$10:$10,MATCH('Solde d''heure collaborateur'!$A23,Planning!$3:$3))","v":"tour2"},{"$f":"VLOOKUP(AA23,Horaires!$A$3:$E$49,2,)","v":"Tourelle"},{"$f":"IF(AB23=\"vacances\",INDEX(Horaires!$H$3:$L$42,MATCH('Solde d''heure collaborateur'!AB$2,Horaires!$H$3:$H$40,0),4),IF(AB23=\"maladie\",INDEX(Horaires!$H$3:$L$42,MATCH('Solde d''heure collaborateur'!AB$2,Horaires!$H$3:$H$40,0),5),VLOOKUP(AA23,Horaires!$A$3:$E$60,5,)))","v":0.48958333333333331},null,{"$f":"INDEX(Planning!$11:$11,MATCH('Solde d''heure collaborateur'!$A23,Planning!$3:$3))","v":"R"},{"$f":"VLOOKUP(AE23,Horaires!$A$3:$E$49,2,)","v":"Congé"},{"$f":"IF(AF23=\"vacances\",INDEX(Horaires!$H$3:$L$42,MATCH('Solde d''heure collaborateur'!AF$2,Horaires!$H$3:$H$40,0),4),IF(AF23=\"maladie\",INDEX(Horaires!$H$3:$L$42,MATCH('Solde d''heure collaborateur'!AF$2,Horaires!$H$3:$H$40,0),5),VLOOKUP(AE23,Horaires!$A$3:$E$60,5,)))","v":0},null,{"$f":"INDEX(Planning!$12:$12,MATCH('Solde d''heure collaborateur'!$A23,Planning!$3:$3))","v":"Thon2"},{"$f":"VLOOKUP(AI23,Horaires!$A$3:$E$49,2,)","v":"Thonex"},{"$f":"IF(AJ23=\"vacances\",INDEX(Horaires!$H$3:$L$42,MATCH('Solde d''heure collaborateur'!AJ$2,Horaires!$H$3:$H$40,0),4),IF(AJ23=\"maladie\",INDEX(Horaires!$H$3:$L$42,MATCH('Solde d''heure collaborateur'!AJ$2,Horaires!$H$3:$H$40,0),5),VLOOKUP(AI23,Horaires!$A$3:$E$60,5,)))","v":0.46874999999999994},null,{"$f":"INDEX(Planning!$13:$13,MATCH('Solde d''heure collaborateur'!$A23,Planning!$3:$3))","v":"R"},{"$f":"VLOOKUP(AM23,Horaires!$A$3:$E$49,2,)","v":"Congé"},{"$f":"IF(AN23=\"vacances\",INDEX(Horaires!$H$3:$L$42,MATCH('Solde d''heure collaborateur'!AN$2,Horaires!$H$3:$H$40,0),4),IF(AN23=\"maladie\",INDEX(Horaires!$H$3:$L$42,MATCH('Solde d''heure collaborateur'!AN$2,Horaires!$H$3:$H$40,0),5),VLOOKUP(AM23,Horaires!$A$3:$E$60,5,)))","v":0},null,{"$f":"INDEX(Planning!$14:$14,MATCH('Solde d''heure collaborateur'!$A23,Planning!$3:$3))","v":"X"},{"$f":"VLOOKUP(AQ23,Horaires!$A$3:$E$49,2,)","v":"XXX"},{"$f":"IF(AR23=\"vacances\",INDEX(Horaires!$H$3:$L$42,MATCH('Solde d''heure collaborateur'!AR$2,Horaires!$H$3:$H$40,0),4),IF(AR23=\"maladie\",INDEX(Horaires!$H$3:$L$42,MATCH('Solde d''heure collaborateur'!AR$2,Horaires!$H$3:$H$40,0),5),VLOOKUP(AQ23,Horaires!$A$3:$E$60,5,)))","v":0},null,{"$f":"INDEX(Planning!$15:$15,MATCH('Solde d''heure collaborateur'!$A23,Planning!$3:$3))","v":"Nyon1"},{"$f":"VLOOKUP(AU23,Horaires!$A$3:$E$49,2,)","v":"Nyon"},{"$f":"IF(AV23=\"vacances\",INDEX(Horaires!$H$3:$L$42,MATCH('Solde d''heure collaborateur'!AV$2,Horaires!$H$3:$H$40,0),4),IF(AV23=\"maladie\",INDEX(Horaires!$H$3:$L$42,MATCH('Solde d''heure collaborateur'!AV$2,Horaires!$H$3:$H$40,0),5),VLOOKUP(AU23,Horaires!$A$3:$E$60,5,)))","v":0.44791666666666669},null,{"$f":"INDEX(Planning!$16:$16,MATCH('Solde d''heure collaborateur'!$A23,Planning!$3:$3))","v":"R"},{"$f":"VLOOKUP(AY23,Horaires!$A$3:$E$49,2,)","v":"Congé"},{"$f":"IF(AZ23=\"vacances\",INDEX(Horaires!$H$3:$L$42,MATCH('Solde d''heure collaborateur'!AZ$2,Horaires!$H$3:$H$40,0),4),IF(AZ23=\"maladie\",INDEX(Horaires!$H$3:$L$42,MATCH('Solde d''heure collaborateur'!AZ$2,Horaires!$H$3:$H$40,0),5),VLOOKUP(AY23,Horaires!$A$3:$E$60,5,)))","v":0},null,{"$f":"INDEX(Planning!$17:$17,MATCH('Solde d''heure collaborateur'!$A23,Planning!$3:$3))","v":"vibferm"},{"$f":"VLOOKUP(BC23,Horaires!$A$3:$E$49,2,)","v":"Vibert ferm"},{"$f":"IF(BD23=\"vacances\",INDEX(Horaires!$H$3:$L$42,MATCH('Solde d''heure collaborateur'!BD$2,Horaires!$H$3:$H$40,0),4),IF(BD23=\"maladie\",INDEX(Horaires!$H$3:$L$42,MATCH('Solde d''heure collaborateur'!BD$2,Horaires!$H$3:$H$40,0),5),VLOOKUP(BC23,Horaires!$A$3:$E$60,5,)))","v":0.42708333333333331},null,{"$f":"INDEX(Planning!$18:$18,MATCH('Solde d''heure collaborateur'!$A23,Planning!$3:$3))","v":"Recup"},{"$f":"VLOOKUP(BG23,Horaires!$A$3:$E$49,2,)","v":"Récupération"},{"$f":"IF(BH23=\"vacances\",INDEX(Horaires!$H$3:$L$42,MATCH('Solde d''heure collaborateur'!BH$2,Horaires!$H$3:$H$40,0),4),IF(BH23=\"maladie\",INDEX(Horaires!$H$3:$L$42,MATCH('Solde d''heure collaborateur'!BH$2,Horaires!$H$3:$H$40,0),5),VLOOKUP(BG23,Horaires!$A$3:$E$60,5,)))","v":0},null,{"$f":"INDEX(Planning!$19:$19,MATCH('Solde d''heure collaborateur'!$A23,Planning!$3:$3))","v":"Vibjeu"},{"$f":"VLOOKUP(BK23,Horaires!$A$3:$E$49,2,)","v":"Vibert"},{"$f":"IF(BL23=\"vacances\",INDEX(Horaires!$H$3:$L$42,MATCH('Solde d''heure collaborateur'!BL$2,Horaires!$H$3:$H$40,0),4),IF(BL23=\"maladie\",INDEX(Horaires!$H$3:$L$42,MATCH('Solde d''heure collaborateur'!BL$2,Horaires!$H$3:$H$40,0),5),VLOOKUP(BK23,Horaires!$A$3:$E$60,5,)))","v":0.45833333333333331},null,{"$f":"INDEX(Planning!$20:$20,MATCH('Solde d''heure collaborateur'!$A23,Planning!$3:$3))","v":"Aca2"},{"$f":"VLOOKUP(BO23,Horaires!$A$3:$E$49,2,)","v":"Acacias"},{"$f":"IF(BP23=\"vacances\",INDEX(Horaires!$H$3:$L$42,MATCH('Solde d''heure collaborateur'!BP$2,Horaires!$H$3:$H$40,0),4),IF(BP23=\"maladie\",INDEX(Horaires!$H$3:$L$42,MATCH('Solde d''heure collaborateur'!BP$2,Horaires!$H$3:$H$40,0),5),VLOOKUP(BO23,Horaires!$A$3:$E$60,5,)))","v":0.46874999999999994},null,{"$f":"INDEX(Planning!$21:$21,MATCH('Solde d''heure collaborateur'!$A23,Planning!$3:$3))","v":"Ves2"},{"$f":"VLOOKUP(BS23,Horaires!$A$3:$E$49,2,)","v":"Vesenaz"},{"$f":"IF(BT23=\"vacances\",INDEX(Horaires!$H$3:$L$42,MATCH('Solde d''heure collaborateur'!BT$2,Horaires!$H$3:$H$40,0),4),IF(BT23=\"maladie\",INDEX(Horaires!$H$3:$L$42,MATCH('Solde d''heure collaborateur'!BT$2,Horaires!$H$3:$H$40,0),5),VLOOKUP(BS23,Horaires!$A$3:$E$60,5,)))","v":0.46874999999999994},null,{"$f":"INDEX(Planning!$22:$22,MATCH('Solde d''heure collaborateur'!$A23,Planning!$3:$3))","v":"X"},{"$f":"VLOOKUP(BW23,Horaires!$A$3:$E$49,2,)","v":"XXX"},{"$f":"IF(BX23=\"vacances\",INDEX(Horaires!$H$3:$L$42,MATCH('Solde d''heure collaborateur'!BX$2,Horaires!$H$3:$H$40,0),4),IF(BX23=\"maladie\",INDEX(Horaires!$H$3:$L$42,MATCH('Solde d''heure collaborateur'!BX$2,Horaires!$H$3:$H$40,0),5),VLOOKUP(BW23,Horaires!$A$3:$E$60,5,)))","v":0},null,{"$f":"INDEX(Planning!$23:$23,MATCH('Solde d''heure collaborateur'!$A23,Planning!$3:$3))","v":"Plo2"},{"$f":"VLOOKUP(CA23,Horaires!$A$3:$E$49,2,)","v":"Plan les Ouates"},{"$f":"IF(CB23=\"vacances\",INDEX(Horaires!$H$3:$L$42,MATCH('Solde d''heure collaborateur'!CB$2,Horaires!$H$3:$H$40,0),4),IF(CB23=\"maladie\",INDEX(Horaires!$H$3:$L$42,MATCH('Solde d''heure collaborateur'!CB$2,Horaires!$H$3:$H$40,0),5),VLOOKUP(CA23,Horaires!$A$3:$E$60,5,)))","v":0.48958333333333331},null,{"$f":"INDEX(Planning!$24:$24,MATCH('Solde d''heure collaborateur'!$A23,Planning!$3:$3))","v":"Onex2"},{"$f":"VLOOKUP(CE23,Horaires!$A$3:$E$49,2,)","v":"Onex"},{"$f":"IF(CF23=\"vacances\",INDEX(Horaires!$H$3:$L$42,MATCH('Solde d''heure collaborateur'!CF$2,Horaires!$H$3:$H$40,0),4),IF(CF23=\"maladie\",INDEX(Horaires!$H$3:$L$42,MATCH('Solde d''heure collaborateur'!CF$2,Horaires!$H$3:$H$40,0),5),VLOOKUP(CE23,Horaires!$A$3:$E$60,5,)))","v":0.48958333333333331},null,{"$f":"INDEX(Planning!$25:$25,MATCH('Solde d''heure collaborateur'!$A23,Planning!$3:$3))","v":"X"},{"$f":"VLOOKUP(CI23,Horaires!$A$3:$E$49,2,)","v":"XXX"},{"$f":"IF(CJ23=\"vacances\",INDEX(Horaires!$H$3:$L$42,MATCH('Solde d''heure collaborateur'!CJ$2,Horaires!$H$3:$H$40,0),4),IF(CJ23=\"maladie\",INDEX(Horaires!$H$3:$L$42,MATCH('Solde d''heure collaborateur'!CJ$2,Horaires!$H$3:$H$40,0),5),VLOOKUP(CI23,Horaires!$A$3:$E$60,5,)))","v":0},null,{"$f":"INDEX(Planning!$26:$26,MATCH('Solde d''heure collaborateur'!$A23,Planning!$3:$3))","v":"Vid2"},{"$f":"VLOOKUP(CM23,Horaires!$A$3:$E$49,2,)","v":"Vidollet"},{"$f":"IF(CN23=\"vacances\",INDEX(Horaires!$H$3:$L$42,MATCH('Solde d''heure collaborateur'!CN$2,Horaires!$H$3:$H$40,0),4),IF(CN23=\"maladie\",INDEX(Horaires!$H$3:$L$42,MATCH('Solde d''heure collaborateur'!CN$2,Horaires!$H$3:$H$40,0),5),VLOOKUP(CM23,Horaires!$A$3:$E$60,5,)))","v":0.46874999999999994},null,{"$f":"INDEX(Planning!$27:$27,MATCH('Solde d''heure collaborateur'!$A23,Planning!$3:$3))","v":"R"},{"$f":"VLOOKUP(CQ23,Horaires!$A$3:$E$49,2,)","v":"Congé"},{"$f":"IF(CR23=\"vacances\",INDEX(Horaires!$H$3:$L$42,MATCH('Solde d''heure collaborateur'!CR$2,Horaires!$H$3:$H$40,0),4),IF(CR23=\"maladie\",INDEX(Horaires!$H$3:$L$42,MATCH('Solde d''heure collaborateur'!CR$2,Horaires!$H$3:$H$40,0),5),VLOOKUP(CQ23,Horaires!$A$3:$E$60,5,)))","v":0},null,{"$f":"INDEX(Planning!$28:$28,MATCH('Solde d''heure collaborateur'!$A23,Planning!$3:$3))","v":"R"},{"$f":"VLOOKUP(CU23,Horaires!$A$3:$E$49,2,)","v":"Congé"},{"$f":"IF(CV23=\"vacances\",INDEX(Horaires!$H$3:$L$42,MATCH('Solde d''heure collaborateur'!CV$2,Horaires!$H$3:$H$40,0),4),IF(CV23=\"maladie\",INDEX(Horaires!$H$3:$L$42,MATCH('Solde d''heure collaborateur'!CV$2,Horaires!$H$3:$H$40,0),5),VLOOKUP(CU23,Horaires!$A$3:$E$60,5,)))","v":0},null,{"$f":"INDEX(Planning!$29:$29,MATCH('Solde d''heure collaborateur'!$A23,Planning!$3:$3))","v":"X"},{"$f":"VLOOKUP(CY23,Horaires!$A$3:$E$49,2,)","v":"XXX"},{"$f":"IF(CZ23=\"vacances\",INDEX(Horaires!$H$3:$L$42,MATCH('Solde d''heure collaborateur'!CZ$2,Horaires!$H$3:$H$40,0),4),IF(CZ23=\"maladie\",INDEX(Horaires!$H$3:$L$42,MATCH('Solde d''heure collaborateur'!CZ$2,Horaires!$H$3:$H$40,0),5),VLOOKUP(CY23,Horaires!$A$3:$E$60,5,)))","v":0},null,{"$f":"INDEX(Planning!$30:$30,MATCH('Solde d''heure collaborateur'!$A23,Planning!$3:$3))","v":"X"},{"$f":"VLOOKUP(DC23,Horaires!$A$3:$E$49,2,)","v":"XXX"},{"$f":"IF(DD23=\"vacances\",INDEX(Horaires!$H$3:$L$42,MATCH('Solde d''heure collaborateur'!DD$2,Horaires!$H$3:$H$40,0),4),IF(DD23=\"maladie\",INDEX(Horaires!$H$3:$L$42,MATCH('Solde d''heure collaborateur'!DD$2,Horaires!$H$3:$H$40,0),5),VLOOKUP(DC23,Horaires!$A$3:$E$60,5,)))","v":0},null,{"$f":"INDEX(Planning!$31:$31,MATCH('Solde d''heure collaborateur'!$A23,Planning!$3:$3))","v":"X"},{"$f":"VLOOKUP(DG23,Horaires!$A$3:$E$49,2,)","v":"XXX"},{"$f":"IF(DH23=\"vacances\",INDEX(Horaires!$H$3:$L$42,MATCH('Solde d''heure collaborateur'!DH$2,Horaires!$H$3:$H$40,0),4),IF(DH23=\"maladie\",INDEX(Horaires!$H$3:$L$42,MATCH('Solde d''heure collaborateur'!DH$2,Horaires!$H$3:$H$40,0),5),VLOOKUP(DG23,Horaires!$A$3:$E$60,5,)))","v":0},null,{"$f":"INDEX(Planning!$32:$32,MATCH('Solde d''heure collaborateur'!$A23,Planning!$3:$3))","v":"X"},{"$f":"VLOOKUP(DK23,Horaires!$A$3:$E$49,2,)","v":"XXX"},{"$f":"IF(DL23=\"vacances\",INDEX(Horaires!$H$3:$L$42,MATCH('Solde d''heure collaborateur'!DL$2,Horaires!$H$3:$H$40,0),4),IF(DL23=\"maladie\",INDEX(Horaires!$H$3:$L$42,MATCH('Solde d''heure collaborateur'!DL$2,Horaires!$H$3:$H$40,0),5),VLOOKUP(DK23,Horaires!$A$3:$E$60,5,)))","v":0},null,{"$f":"INDEX(Planning!$33:$33,MATCH('Solde d''heure collaborateur'!$A23,Planning!$3:$3))","v":"X"},{"$f":"VLOOKUP(DO23,Horaires!$A$3:$E$49,2,)","v":"XXX"},{"$f":"IF(DP23=\"vacances\",INDEX(Horaires!$H$3:$L$42,MATCH('Solde d''heure collaborateur'!DP$2,Horaires!$H$3:$H$40,0),4),IF(DP23=\"maladie\",INDEX(Horaires!$H$3:$L$42,MATCH('Solde d''heure collaborateur'!DP$2,Horaires!$H$3:$H$40,0),5),VLOOKUP(DO23,Horaires!$A$3:$E$60,5,)))","v":0},null,{"$f":"INDEX(Planning!$34:$34,MATCH('Solde d''heure collaborateur'!$A23,Planning!$3:$3))","v":"X"},{"$f":"VLOOKUP(DS23,Horaires!$A$3:$E$49,2,)","v":"XXX"},{"$f":"IF(DT23=\"vacances\",INDEX(Horaires!$H$3:$L$42,MATCH('Solde d''heure collaborateur'!DT$2,Horaires!$H$3:$H$40,0),4),IF(DT23=\"maladie\",INDEX(Horaires!$H$3:$L$42,MATCH('Solde d''heure collaborateur'!DT$2,Horaires!$H$3:$H$40,0),5),VLOOKUP(DS23,Horaires!$A$3:$E$60,5,)))","v":0},null,{"$f":"INDEX(Planning!$35:$35,MATCH('Solde d''heure collaborateur'!$A23,Planning!$3:$3))","v":"X"},{"$f":"VLOOKUP(DW23,Horaires!$A$3:$E$49,2,)","v":"XXX"},{"$f":"IF(DX23=\"vacances\",INDEX(Horaires!$H$3:$L$42,MATCH('Solde d''heure collaborateur'!DX$2,Horaires!$H$3:$H$40,0),4),IF(DX23=\"maladie\",INDEX(Horaires!$H$3:$L$42,MATCH('Solde d''heure collaborateur'!DX$2,Horaires!$H$3:$H$40,0),5),VLOOKUP(DW23,Horaires!$A$3:$E$60,5,)))","v":0}]
[{"$f":"A23+1","v":"2013-11-22"},null,{"$f":"INDEX(Planning!$4:$4,MATCH('Solde d''heure collaborateur'!A24,Planning!$3:$3,0))","v":"Nav2"},{"$f":"VLOOKUP(C24,Horaires!$A$3:$E$49,2,)","v":"Navigation"},{"$f":"IF(D24=\"vacances\",INDEX(Horaires!$H$3:$L$42,MATCH('Solde d''heure collaborateur'!D$2,Horaires!$H$3:$H$40,0),4),IF(D24=\"maladie\",INDEX(Horaires!$H$3:$L$42,MATCH('Solde d''heure collaborateur'!D$2,Horaires!$H$3:$H$40,0),5),VLOOKUP(C24,Horaires!$A$3:$E$60,5,)))","v":0.46874999999999994},null,{"$f":"INDEX(Planning!$5:$5,MATCH('Solde d''heure collaborateur'!A24,Planning!$3:$3))","v":"Pom2"},{"$f":"VLOOKUP(G24,Horaires!$A$3:$E$49,2,)","v":"Pommier"},{"$f":"IF(H24=\"vacances\",INDEX(Horaires!$H$3:$L$42,MATCH('Solde d''heure collaborateur'!H$2,Horaires!$H$3:$H$40,0),4),IF(H24=\"maladie\",INDEX(Horaires!$H$3:$L$42,MATCH('Solde d''heure collaborateur'!H$2,Horaires!$H$3:$H$40,0),5),VLOOKUP(G24,Horaires!$A$3:$E$60,5,)))","v":0.46874999999999994},null,{"$f":"INDEX(Planning!$6:$6,MATCH('Solde d''heure collaborateur'!A24,Planning!$3:$3))","v":"R"},{"$f":"VLOOKUP(K24,Horaires!$A$3:$E$49,2,)","v":"Congé"},{"$f":"IF(L24=\"vacances\",INDEX(Horaires!$H$3:$L$42,MATCH('Solde d''heure collaborateur'!L$2,Horaires!$H$3:$H$40,0),4),IF(L24=\"maladie\",INDEX(Horaires!$H$3:$L$42,MATCH('Solde d''heure collaborateur'!L$2,Horaires!$H$3:$H$40,0),5),VLOOKUP(K24,Horaires!$A$3:$E$60,5,)))","v":0},null,{"$f":"INDEX(Planning!$7:$7,MATCH('Solde d''heure collaborateur'!$A24,Planning!$3:$3))","v":"X"},{"$f":"VLOOKUP(O24,Horaires!$A$3:$E$49,2,)","v":"XXX"},{"$f":"IF(P24=\"vacances\",INDEX(Horaires!$H$3:$L$42,MATCH('Solde d''heure collaborateur'!P$2,Horaires!$H$3:$H$40,0),4),IF(P24=\"maladie\",INDEX(Horaires!$H$3:$L$42,MATCH('Solde d''heure collaborateur'!P$2,Horaires!$H$3:$H$40,0),5),VLOOKUP(O24,Horaires!$A$3:$E$60,5,)))","v":0},null,{"$f":"INDEX(Planning!$8:$8,MATCH('Solde d''heure collaborateur'!$A24,Planning!$3:$3))","v":"R"},{"$f":"VLOOKUP(S24,Horaires!$A$3:$E$49,2,)","v":"Congé"},{"$f":"IF(T24=\"vacances\",INDEX(Horaires!$H$3:$L$42,MATCH('Solde d''heure collaborateur'!T$2,Horaires!$H$3:$H$40,0),4),IF(T24=\"maladie\",INDEX(Horaires!$H$3:$L$42,MATCH('Solde d''heure collaborateur'!T$2,Horaires!$H$3:$H$40,0),5),VLOOKUP(S24,Horaires!$A$3:$E$60,5,)))","v":0},null,{"$f":"INDEX(Planning!$9:$9,MATCH('Solde d''heure collaborateur'!$A24,Planning!$3:$3))","v":"X"},{"$f":"VLOOKUP(W24,Horaires!$A$3:$E$49,2,)","v":"XXX"},{"$f":"IF(X24=\"vacances\",INDEX(Horaires!$H$3:$L$42,MATCH('Solde d''heure collaborateur'!X$2,Horaires!$H$3:$H$40,0),4),IF(X24=\"maladie\",INDEX(Horaires!$H$3:$L$42,MATCH('Solde d''heure collaborateur'!X$2,Horaires!$H$3:$H$40,0),5),VLOOKUP(W24,Horaires!$A$3:$E$60,5,)))","v":0},null,{"$f":"INDEX(Planning!$10:$10,MATCH('Solde d''heure collaborateur'!$A24,Planning!$3:$3))","v":"onex2"},{"$f":"VLOOKUP(AA24,Horaires!$A$3:$E$49,2,)","v":"Onex"},{"$f":"IF(AB24=\"vacances\",INDEX(Horaires!$H$3:$L$42,MATCH('Solde d''heure collaborateur'!AB$2,Horaires!$H$3:$H$40,0),4),IF(AB24=\"maladie\",INDEX(Horaires!$H$3:$L$42,MATCH('Solde d''heure collaborateur'!AB$2,Horaires!$H$3:$H$40,0),5),VLOOKUP(AA24,Horaires!$A$3:$E$60,5,)))","v":0.48958333333333331},null,{"$f":"INDEX(Planning!$11:$11,MATCH('Solde d''heure collaborateur'!$A24,Planning!$3:$3))","v":"Plo2"},{"$f":"VLOOKUP(AE24,Horaires!$A$3:$E$49,2,)","v":"Plan les Ouates"},{"$f":"IF(AF24=\"vacances\",INDEX(Horaires!$H$3:$L$42,MATCH('Solde d''heure collaborateur'!AF$2,Horaires!$H$3:$H$40,0),4),IF(AF24=\"maladie\",INDEX(Horaires!$H$3:$L$42,MATCH('Solde d''heure collaborateur'!AF$2,Horaires!$H$3:$H$40,0),5),VLOOKUP(AE24,Horaires!$A$3:$E$60,5,)))","v":0.48958333333333331},null,{"$f":"INDEX(Planning!$12:$12,MATCH('Solde d''heure collaborateur'!$A24,Planning!$3:$3))","v":"R"},{"$f":"VLOOKUP(AI24,Horaires!$A$3:$E$49,2,)","v":"Congé"},{"$f":"IF(AJ24=\"vacances\",INDEX(Horaires!$H$3:$L$42,MATCH('Solde d''heure collaborateur'!AJ$2,Horaires!$H$3:$H$40,0),4),IF(AJ24=\"maladie\",INDEX(Horaires!$H$3:$L$42,MATCH('Solde d''heure collaborateur'!AJ$2,Horaires!$H$3:$H$40,0),5),VLOOKUP(AI24,Horaires!$A$3:$E$60,5,)))","v":0},null,{"$f":"INDEX(Planning!$13:$13,MATCH('Solde d''heure collaborateur'!$A24,Planning!$3:$3))","v":"thon2"},{"$f":"VLOOKUP(AM24,Horaires!$A$3:$E$49,2,)","v":"Thonex"},{"$f":"IF(AN24=\"vacances\",INDEX(Horaires!$H$3:$L$42,MATCH('Solde d''heure collaborateur'!AN$2,Horaires!$H$3:$H$40,0),4),IF(AN24=\"maladie\",INDEX(Horaires!$H$3:$L$42,MATCH('Solde d''heure collaborateur'!AN$2,Horaires!$H$3:$H$40,0),5),VLOOKUP(AM24,Horaires!$A$3:$E$60,5,)))","v":0.46874999999999994},null,{"$f":"INDEX(Planning!$14:$14,MATCH('Solde d''heure collaborateur'!$A24,Planning!$3:$3))","v":"M"},{"$f":"VLOOKUP(AQ24,Horaires!$A$3:$E$49,2,)","v":"Maladie"},{"$f":"IF(AR24=\"vacances\",INDEX(Horaires!$H$3:$L$42,MATCH('Solde d''heure collaborateur'!AR$2,Horaires!$H$3:$H$40,0),4),IF(AR24=\"maladie\",INDEX(Horaires!$H$3:$L$42,MATCH('Solde d''heure collaborateur'!AR$2,Horaires!$H$3:$H$40,0),5),VLOOKUP(AQ24,Horaires!$A$3:$E$60,5,)))","v":0.46180555555555558},null,{"$f":"INDEX(Planning!$15:$15,MATCH('Solde d''heure collaborateur'!$A24,Planning!$3:$3))","v":"Nyon1"},{"$f":"VLOOKUP(AU24,Horaires!$A$3:$E$49,2,)","v":"Nyon"},{"$f":"IF(AV24=\"vacances\",INDEX(Horaires!$H$3:$L$42,MATCH('Solde d''heure collaborateur'!AV$2,Horaires!$H$3:$H$40,0),4),IF(AV24=\"maladie\",INDEX(Horaires!$H$3:$L$42,MATCH('Solde d''heure collaborateur'!AV$2,Horaires!$H$3:$H$40,0),5),VLOOKUP(AU24,Horaires!$A$3:$E$60,5,)))","v":0.44791666666666669},null,{"$f":"INDEX(Planning!$16:$16,MATCH('Solde d''heure collaborateur'!$A24,Planning!$3:$3))","v":"recup"},{"$f":"VLOOKUP(AY24,Horaires!$A$3:$E$49,2,)","v":"Récupération"},{"$f":"IF(AZ24=\"vacances\",INDEX(Horaires!$H$3:$L$42,MATCH('Solde d''heure collaborateur'!AZ$2,Horaires!$H$3:$H$40,0),4),IF(AZ24=\"maladie\",INDEX(Horaires!$H$3:$L$42,MATCH('Solde d''heure collaborateur'!AZ$2,Horaires!$H$3:$H$40,0),5),VLOOKUP(AY24,Horaires!$A$3:$E$60,5,)))","v":0},null,{"$f":"INDEX(Planning!$17:$17,MATCH('Solde d''heure collaborateur'!$A24,Planning!$3:$3))","v":"vib2"},{"$f":"VLOOKUP(BC24,Horaires!$A$3:$E$49,2,)","v":"Vibert"},{"$f":"IF(BD24=\"vacances\",INDEX(Horaires!$H$3:$L$42,MATCH('Solde d''heure collaborateur'!BD$2,Horaires!$H$3:$H$40,0),4),IF(BD24=\"maladie\",INDEX(Horaires!$H$3:$L$42,MATCH('Solde d''heure collaborateur'!BD$2,Horaires!$H$3:$H$40,0),5),VLOOKUP(BC24,Horaires!$A$3:$E$60,5,)))","v":0.48958333333333331},null,{"$f":"INDEX(Planning!$18:$18,MATCH('Solde d''heure collaborateur'!$A24,Planning!$3:$3))","v":"R"},{"$f":"VLOOKUP(BG24,Horaires!$A$3:$E$49,2,)","v":"Congé"},{"$f":"IF(BH24=\"vacances\",INDEX(Horaires!$H$3:$L$42,MATCH('Solde d''heure collaborateur'!BH$2,Horaires!$H$3:$H$40,0),4),IF(BH24=\"maladie\",INDEX(Horaires!$H$3:$L$42,MATCH('Solde d''heure collaborateur'!BH$2,Horaires!$H$3:$H$40,0),5),VLOOKUP(BG24,Horaires!$A$3:$E$60,5,)))","v":0},null,{"$f":"INDEX(Planning!$19:$19,MATCH('Solde d''heure collaborateur'!$A24,Planning!$3:$3))","v":"Vib2"},{"$f":"VLOOKUP(BK24,Horaires!$A$3:$E$49,2,)","v":"Vibert"},{"$f":"IF(BL24=\"vacances\",INDEX(Horaires!$H$3:$L$42,MATCH('Solde d''heure collaborateur'!BL$2,Horaires!$H$3:$H$40,0),4),IF(BL24=\"maladie\",INDEX(Horaires!$H$3:$L$42,MATCH('Solde d''heure collaborateur'!BL$2,Horaires!$H$3:$H$40,0),5),VLOOKUP(BK24,Horaires!$A$3:$E$60,5,)))","v":0.48958333333333331},null,{"$f":"INDEX(Planning!$20:$20,MATCH('Solde d''heure collaborateur'!$A24,Planning!$3:$3))","v":"R"},{"$f":"VLOOKUP(BO24,Horaires!$A$3:$E$49,2,)","v":"Congé"},{"$f":"IF(BP24=\"vacances\",INDEX(Horaires!$H$3:$L$42,MATCH('Solde d''heure collaborateur'!BP$2,Horaires!$H$3:$H$40,0),4),IF(BP24=\"maladie\",INDEX(Horaires!$H$3:$L$42,MATCH('Solde d''heure collaborateur'!BP$2,Horaires!$H$3:$H$40,0),5),VLOOKUP(BO24,Horaires!$A$3:$E$60,5,)))","v":0},null,{"$f":"INDEX(Planning!$21:$21,MATCH('Solde d''heure collaborateur'!$A24,Planning!$3:$3))","v":"Ves2"},{"$f":"VLOOKUP(BS24,Horaires!$A$3:$E$49,2,)","v":"Vesenaz"},{"$f":"IF(BT24=\"vacances\",INDEX(Horaires!$H$3:$L$42,MATCH('Solde d''heure collaborateur'!BT$2,Horaires!$H$3:$H$40,0),4),IF(BT24=\"maladie\",INDEX(Horaires!$H$3:$L$42,MATCH('Solde d''heure collaborateur'!BT$2,Horaires!$H$3:$H$40,0),5),VLOOKUP(BS24,Horaires!$A$3:$E$60,5,)))","v":0.46874999999999994},null,{"$f":"INDEX(Planning!$22:$22,MATCH('Solde d''heure collaborateur'!$A24,Planning!$3:$3))","v":"X"},{"$f":"VLOOKUP(BW24,Horaires!$A$3:$E$49,2,)","v":"XXX"},{"$f":"IF(BX24=\"vacances\",INDEX(Horaires!$H$3:$L$42,MATCH('Solde d''heure collaborateur'!BX$2,Horaires!$H$3:$H$40,0),4),IF(BX24=\"maladie\",INDEX(Horaires!$H$3:$L$42,MATCH('Solde d''heure collaborateur'!BX$2,Horaires!$H$3:$H$40,0),5),VLOOKUP(BW24,Horaires!$A$3:$E$60,5,)))","v":0},null,{"$f":"INDEX(Planning!$23:$23,MATCH('Solde d''heure collaborateur'!$A24,Planning!$3:$3))","v":"Aca2"},{"$f":"VLOOKUP(CA24,Horaires!$A$3:$E$49,2,)","v":"Acacias"},{"$f":"IF(CB24=\"vacances\",INDEX(Horaires!$H$3:$L$42,MATCH('Solde d''heure collaborateur'!CB$2,Horaires!$H$3:$H$40,0),4),IF(CB24=\"maladie\",INDEX(Horaires!$H$3:$L$42,MATCH('Solde d''heure collaborateur'!CB$2,Horaires!$H$3:$H$40,0),5),VLOOKUP(CA24,Horaires!$A$3:$E$60,5,)))","v":0.46874999999999994},null,{"$f":"INDEX(Planning!$24:$24,MATCH('Solde d''heure collaborateur'!$A24,Planning!$3:$3))","v":"onex2"},{"$f":"VLOOKUP(CE24,Horaires!$A$3:$E$49,2,)","v":"Onex"},{"$f":"IF(CF24=\"vacances\",INDEX(Horaires!$H$3:$L$42,MATCH('Solde d''heure collaborateur'!CF$2,Horaires!$H$3:$H$40,0),4),IF(CF24=\"maladie\",INDEX(Horaires!$H$3:$L$42,MATCH('Solde d''heure collaborateur'!CF$2,Horaires!$H$3:$H$40,0),5),VLOOKUP(CE24,Horaires!$A$3:$E$60,5,)))","v":0.48958333333333331},null,{"$f":"INDEX(Planning!$25:$25,MATCH('Solde d''heure collaborateur'!$A24,Planning!$3:$3))","v":"X"},{"$f":"VLOOKUP(CI24,Horaires!$A$3:$E$49,2,)","v":"XXX"},{"$f":"IF(CJ24=\"vacances\",INDEX(Horaires!$H$3:$L$42,MATCH('Solde d''heure collaborateur'!CJ$2,Horaires!$H$3:$H$40,0),4),IF(CJ24=\"maladie\",INDEX(Horaires!$H$3:$L$42,MATCH('Solde d''heure collaborateur'!CJ$2,Horaires!$H$3:$H$40,0),5),VLOOKUP(CI24,Horaires!$A$3:$E$60,5,)))","v":0},null,{"$f":"INDEX(Planning!$26:$26,MATCH('Solde d''heure collaborateur'!$A24,Planning!$3:$3))","v":"R"},{"$f":"VLOOKUP(CM24,Horaires!$A$3:$E$49,2,)","v":"Congé"},{"$f":"IF(CN24=\"vacances\",INDEX(Horaires!$H$3:$L$42,MATCH('Solde d''heure collaborateur'!CN$2,Horaires!$H$3:$H$40,0),4),IF(CN24=\"maladie\",INDEX(Horaires!$H$3:$L$42,MATCH('Solde d''heure collaborateur'!CN$2,Horaires!$H$3:$H$40,0),5),VLOOKUP(CM24,Horaires!$A$3:$E$60,5,)))","v":0},null,{"$f":"INDEX(Planning!$27:$27,MATCH('Solde d''heure collaborateur'!$A24,Planning!$3:$3))","v":"recup"},{"$f":"VLOOKUP(CQ24,Horaires!$A$3:$E$49,2,)","v":"Récupération"},{"$f":"IF(CR24=\"vacances\",INDEX(Horaires!$H$3:$L$42,MATCH('Solde d''heure collaborateur'!CR$2,Horaires!$H$3:$H$40,0),4),IF(CR24=\"maladie\",INDEX(Horaires!$H$3:$L$42,MATCH('Solde d''heure collaborateur'!CR$2,Horaires!$H$3:$H$40,0),5),VLOOKUP(CQ24,Horaires!$A$3:$E$60,5,)))","v":0},null,{"$f":"INDEX(Planning!$28:$28,MATCH('Solde d''heure collaborateur'!$A24,Planning!$3:$3))","v":"tour2"},{"$f":"VLOOKUP(CU24,Horaires!$A$3:$E$49,2,)","v":"Tourelle"},{"$f":"IF(CV24=\"vacances\",INDEX(Horaires!$H$3:$L$42,MATCH('Solde d''heure collaborateur'!CV$2,Horaires!$H$3:$H$40,0),4),IF(CV24=\"maladie\",INDEX(Horaires!$H$3:$L$42,MATCH('Solde d''heure collaborateur'!CV$2,Horaires!$H$3:$H$40,0),5),VLOOKUP(CU24,Horaires!$A$3:$E$60,5,)))","v":0.48958333333333331},null,{"$f":"INDEX(Planning!$29:$29,MATCH('Solde d''heure collaborateur'!$A24,Planning!$3:$3))","v":"vid2"},{"$f":"VLOOKUP(CY24,Horaires!$A$3:$E$49,2,)","v":"Vidollet"},{"$f":"IF(CZ24=\"vacances\",INDEX(Horaires!$H$3:$L$42,MATCH('Solde d''heure collaborateur'!CZ$2,Horaires!$H$3:$H$40,0),4),IF(CZ24=\"maladie\",INDEX(Horaires!$H$3:$L$42,MATCH('Solde d''heure collaborateur'!CZ$2,Horaires!$H$3:$H$40,0),5),VLOOKUP(CY24,Horaires!$A$3:$E$60,5,)))","v":0.46874999999999994},null,{"$f":"INDEX(Planning!$30:$30,MATCH('Solde d''heure collaborateur'!$A24,Planning!$3:$3))","v":"X"},{"$f":"VLOOKUP(DC24,Horaires!$A$3:$E$49,2,)","v":"XXX"},{"$f":"IF(DD24=\"vacances\",INDEX(Horaires!$H$3:$L$42,MATCH('Solde d''heure collaborateur'!DD$2,Horaires!$H$3:$H$40,0),4),IF(DD24=\"maladie\",INDEX(Horaires!$H$3:$L$42,MATCH('Solde d''heure collaborateur'!DD$2,Horaires!$H$3:$H$40,0),5),VLOOKUP(DC24,Horaires!$A$3:$E$60,5,)))","v":0},null,{"$f":"INDEX(Planning!$31:$31,MATCH('Solde d''heure collaborateur'!$A24,Planning!$3:$3))","v":"X"},{"$f":"VLOOKUP(DG24,Horaires!$A$3:$E$49,2,)","v":"XXX"},{"$f":"IF(DH24=\"vacances\",INDEX(Horaires!$H$3:$L$42,MATCH('Solde d''heure collaborateur'!DH$2,Horaires!$H$3:$H$40,0),4),IF(DH24=\"maladie\",INDEX(Horaires!$H$3:$L$42,MATCH('Solde d''heure collaborateur'!DH$2,Horaires!$H$3:$H$40,0),5),VLOOKUP(DG24,Horaires!$A$3:$E$60,5,)))","v":0},null,{"$f":"INDEX(Planning!$32:$32,MATCH('Solde d''heure collaborateur'!$A24,Planning!$3:$3))","v":"X"},{"$f":"VLOOKUP(DK24,Horaires!$A$3:$E$49,2,)","v":"XXX"},{"$f":"IF(DL24=\"vacances\",INDEX(Horaires!$H$3:$L$42,MATCH('Solde d''heure collaborateur'!DL$2,Horaires!$H$3:$H$40,0),4),IF(DL24=\"maladie\",INDEX(Horaires!$H$3:$L$42,MATCH('Solde d''heure collaborateur'!DL$2,Horaires!$H$3:$H$40,0),5),VLOOKUP(DK24,Horaires!$A$3:$E$60,5,)))","v":0},null,{"$f":"INDEX(Planning!$33:$33,MATCH('Solde d''heure collaborateur'!$A24,Planning!$3:$3))","v":"X"},{"$f":"VLOOKUP(DO24,Horaires!$A$3:$E$49,2,)","v":"XXX"},{"$f":"IF(DP24=\"vacances\",INDEX(Horaires!$H$3:$L$42,MATCH('Solde d''heure collaborateur'!DP$2,Horaires!$H$3:$H$40,0),4),IF(DP24=\"maladie\",INDEX(Horaires!$H$3:$L$42,MATCH('Solde d''heure collaborateur'!DP$2,Horaires!$H$3:$H$40,0),5),VLOOKUP(DO24,Horaires!$A$3:$E$60,5,)))","v":0},null,{"$f":"INDEX(Planning!$34:$34,MATCH('Solde d''heure collaborateur'!$A24,Planning!$3:$3))","v":"X"},{"$f":"VLOOKUP(DS24,Horaires!$A$3:$E$49,2,)","v":"XXX"},{"$f":"IF(DT24=\"vacances\",INDEX(Horaires!$H$3:$L$42,MATCH('Solde d''heure collaborateur'!DT$2,Horaires!$H$3:$H$40,0),4),IF(DT24=\"maladie\",INDEX(Horaires!$H$3:$L$42,MATCH('Solde d''heure collaborateur'!DT$2,Horaires!$H$3:$H$40,0),5),VLOOKUP(DS24,Horaires!$A$3:$E$60,5,)))","v":0},null,{"$f":"INDEX(Planning!$35:$35,MATCH('Solde d''heure collaborateur'!$A24,Planning!$3:$3))","v":"X"},{"$f":"VLOOKUP(DW24,Horaires!$A$3:$E$49,2,)","v":"XXX"},{"$f":"IF(DX24=\"vacances\",INDEX(Horaires!$H$3:$L$42,MATCH('Solde d''heure collaborateur'!DX$2,Horaires!$H$3:$H$40,0),4),IF(DX24=\"maladie\",INDEX(Horaires!$H$3:$L$42,MATCH('Solde d''heure collaborateur'!DX$2,Horaires!$H$3:$H$40,0),5),VLOOKUP(DW24,Horaires!$A$3:$E$60,5,)))","v":0}]
[{"$f":"A24+1","v":"2013-11-23"},null,{"$f":"INDEX(Planning!$4:$4,MATCH('Solde d''heure collaborateur'!A25,Planning!$3:$3,0))","v":"Nav3"},{"$f":"VLOOKUP(C25,Horaires!$A$3:$E$49,2,)","v":"Navigation"},{"$f":"IF(D25=\"vacances\",INDEX(Horaires!$H$3:$L$42,MATCH('Solde d''heure collaborateur'!D$2,Horaires!$H$3:$H$40,0),4),IF(D25=\"maladie\",INDEX(Horaires!$H$3:$L$42,MATCH('Solde d''heure collaborateur'!D$2,Horaires!$H$3:$H$40,0),5),VLOOKUP(C25,Horaires!$A$3:$E$60,5,)))","v":0.40624999999999994},null,{"$f":"INDEX(Planning!$5:$5,MATCH('Solde d''heure collaborateur'!A25,Planning!$3:$3))","v":"Pom3"},{"$f":"VLOOKUP(G25,Horaires!$A$3:$E$49,2,)","v":"Pommier"},{"$f":"IF(H25=\"vacances\",INDEX(Horaires!$H$3:$L$42,MATCH('Solde d''heure collaborateur'!H$2,Horaires!$H$3:$H$40,0),4),IF(H25=\"maladie\",INDEX(Horaires!$H$3:$L$42,MATCH('Solde d''heure collaborateur'!H$2,Horaires!$H$3:$H$40,0),5),VLOOKUP(G25,Horaires!$A$3:$E$60,5,)))","v":0.42708333333333331},null,{"$f":"INDEX(Planning!$6:$6,MATCH('Solde d''heure collaborateur'!A25,Planning!$3:$3))","v":"R"},{"$f":"VLOOKUP(K25,Horaires!$A$3:$E$49,2,)","v":"Congé"},{"$f":"IF(L25=\"vacances\",INDEX(Horaires!$H$3:$L$42,MATCH('Solde d''heure collaborateur'!L$2,Horaires!$H$3:$H$40,0),4),IF(L25=\"maladie\",INDEX(Horaires!$H$3:$L$42,MATCH('Solde d''heure collaborateur'!L$2,Horaires!$H$3:$H$40,0),5),VLOOKUP(K25,Horaires!$A$3:$E$60,5,)))","v":0},null,{"$f":"INDEX(Planning!$7:$7,MATCH('Solde d''heure collaborateur'!$A25,Planning!$3:$3))","v":"X"},{"$f":"VLOOKUP(O25,Horaires!$A$3:$E$49,2,)","v":"XXX"},{"$f":"IF(P25=\"vacances\",INDEX(Horaires!$H$3:$L$42,MATCH('Solde d''heure collaborateur'!P$2,Horaires!$H$3:$H$40,0),4),IF(P25=\"maladie\",INDEX(Horaires!$H$3:$L$42,MATCH('Solde d''heure collaborateur'!P$2,Horaires!$H$3:$H$40,0),5),VLOOKUP(O25,Horaires!$A$3:$E$60,5,)))","v":0},null,{"$f":"INDEX(Planning!$8:$8,MATCH('Solde d''heure collaborateur'!$A25,Planning!$3:$3))","v":"R"},{"$f":"VLOOKUP(S25,Horaires!$A$3:$E$49,2,)","v":"Congé"},{"$f":"IF(T25=\"vacances\",INDEX(Horaires!$H$3:$L$42,MATCH('Solde d''heure collaborateur'!T$2,Horaires!$H$3:$H$40,0),4),IF(T25=\"maladie\",INDEX(Horaires!$H$3:$L$42,MATCH('Solde d''heure collaborateur'!T$2,Horaires!$H$3:$H$40,0),5),VLOOKUP(S25,Horaires!$A$3:$E$60,5,)))","v":0},null,{"$f":"INDEX(Planning!$9:$9,MATCH('Solde d''heure collaborateur'!$A25,Planning!$3:$3))","v":"X"},{"$f":"VLOOKUP(W25,Horaires!$A$3:$E$49,2,)","v":"XXX"},{"$f":"IF(X25=\"vacances\",INDEX(Horaires!$H$3:$L$42,MATCH('Solde d''heure collaborateur'!X$2,Horaires!$H$3:$H$40,0),4),IF(X25=\"maladie\",INDEX(Horaires!$H$3:$L$42,MATCH('Solde d''heure collaborateur'!X$2,Horaires!$H$3:$H$40,0),5),VLOOKUP(W25,Horaires!$A$3:$E$60,5,)))","v":0},null,{"$f":"INDEX(Planning!$10:$10,MATCH('Solde d''heure collaborateur'!$A25,Planning!$3:$3))","v":"onex3"},{"$f":"VLOOKUP(AA25,Horaires!$A$3:$E$49,2,)","v":"Onex"},{"$f":"IF(AB25=\"vacances\",INDEX(Horaires!$H$3:$L$42,MATCH('Solde d''heure collaborateur'!AB$2,Horaires!$H$3:$H$40,0),4),IF(AB25=\"maladie\",INDEX(Horaires!$H$3:$L$42,MATCH('Solde d''heure collaborateur'!AB$2,Horaires!$H$3:$H$40,0),5),VLOOKUP(AA25,Horaires!$A$3:$E$60,5,)))","v":0.42708333333333331},null,{"$f":"INDEX(Planning!$11:$11,MATCH('Solde d''heure collaborateur'!$A25,Planning!$3:$3))","v":"Plo3"},{"$f":"VLOOKUP(AE25,Horaires!$A$3:$E$49,2,)","v":"Plan les Ouates"},{"$f":"IF(AF25=\"vacances\",INDEX(Horaires!$H$3:$L$42,MATCH('Solde d''heure collaborateur'!AF$2,Horaires!$H$3:$H$40,0),4),IF(AF25=\"maladie\",INDEX(Horaires!$H$3:$L$42,MATCH('Solde d''heure collaborateur'!AF$2,Horaires!$H$3:$H$40,0),5),VLOOKUP(AE25,Horaires!$A$3:$E$60,5,)))","v":0.42708333333333331},null,{"$f":"INDEX(Planning!$12:$12,MATCH('Solde d''heure collaborateur'!$A25,Planning!$3:$3))","v":"Thon3"},{"$f":"VLOOKUP(AI25,Horaires!$A$3:$E$49,2,)","v":"Thonex"},{"$f":"IF(AJ25=\"vacances\",INDEX(Horaires!$H$3:$L$42,MATCH('Solde d''heure collaborateur'!AJ$2,Horaires!$H$3:$H$40,0),4),IF(AJ25=\"maladie\",INDEX(Horaires!$H$3:$L$42,MATCH('Solde d''heure collaborateur'!AJ$2,Horaires!$H$3:$H$40,0),5),VLOOKUP(AI25,Horaires!$A$3:$E$60,5,)))","v":0.40624999999999994},null,{"$f":"INDEX(Planning!$13:$13,MATCH('Solde d''heure collaborateur'!$A25,Planning!$3:$3))","v":"Vib3"},{"$f":"VLOOKUP(AM25,Horaires!$A$3:$E$49,2,)","v":"Vibert"},{"$f":"IF(AN25=\"vacances\",INDEX(Horaires!$H$3:$L$42,MATCH('Solde d''heure collaborateur'!AN$2,Horaires!$H$3:$H$40,0),4),IF(AN25=\"maladie\",INDEX(Horaires!$H$3:$L$42,MATCH('Solde d''heure collaborateur'!AN$2,Horaires!$H$3:$H$40,0),5),VLOOKUP(AM25,Horaires!$A$3:$E$60,5,)))","v":0.42708333333333331},null,{"$f":"INDEX(Planning!$14:$14,MATCH('Solde d''heure collaborateur'!$A25,Planning!$3:$3))","v":"M"},{"$f":"VLOOKUP(AQ25,Horaires!$A$3:$E$49,2,)","v":"Maladie"},{"$f":"IF(AR25=\"vacances\",INDEX(Horaires!$H$3:$L$42,MATCH('Solde d''heure collaborateur'!AR$2,Horaires!$H$3:$H$40,0),4),IF(AR25=\"maladie\",INDEX(Horaires!$H$3:$L$42,MATCH('Solde d''heure collaborateur'!AR$2,Horaires!$H$3:$H$40,0),5),VLOOKUP(AQ25,Horaires!$A$3:$E$60,5,)))","v":0.46180555555555558},null,{"$f":"INDEX(Planning!$15:$15,MATCH('Solde d''heure collaborateur'!$A25,Planning!$3:$3))","v":"Nyon2"},{"$f":"VLOOKUP(AU25,Horaires!$A$3:$E$49,2,)","v":"Nyon"},{"$f":"IF(AV25=\"vacances\",INDEX(Horaires!$H$3:$L$42,MATCH('Solde d''heure collaborateur'!AV$2,Horaires!$H$3:$H$40,0),4),IF(AV25=\"maladie\",INDEX(Horaires!$H$3:$L$42,MATCH('Solde d''heure collaborateur'!AV$2,Horaires!$H$3:$H$40,0),5),VLOOKUP(AU25,Horaires!$A$3:$E$60,5,)))","v":0.40624999999999994},null,{"$f":"INDEX(Planning!$16:$16,MATCH('Solde d''heure collaborateur'!$A25,Planning!$3:$3))","v":"Vid3"},{"$f":"VLOOKUP(AY25,Horaires!$A$3:$E$49,2,)","v":"Vidollet"},{"$f":"IF(AZ25=\"vacances\",INDEX(Horaires!$H$3:$L$42,MATCH('Solde d''heure collaborateur'!AZ$2,Horaires!$H$3:$H$40,0),4),IF(AZ25=\"maladie\",INDEX(Horaires!$H$3:$L$42,MATCH('Solde d''heure collaborateur'!AZ$2,Horaires!$H$3:$H$40,0),5),VLOOKUP(AY25,Horaires!$A$3:$E$60,5,)))","v":0.40624999999999994},null,{"$f":"INDEX(Planning!$17:$17,MATCH('Solde d''heure collaborateur'!$A25,Planning!$3:$3))","v":"nav3"},{"$f":"VLOOKUP(BC25,Horaires!$A$3:$E$49,2,)","v":"Navigation"},{"$f":"IF(BD25=\"vacances\",INDEX(Horaires!$H$3:$L$42,MATCH('Solde d''heure collaborateur'!BD$2,Horaires!$H$3:$H$40,0),4),IF(BD25=\"maladie\",INDEX(Horaires!$H$3:$L$42,MATCH('Solde d''heure collaborateur'!BD$2,Horaires!$H$3:$H$40,0),5),VLOOKUP(BC25,Horaires!$A$3:$E$60,5,)))","v":0.40624999999999994},null,{"$f":"INDEX(Planning!$18:$18,MATCH('Solde d''heure collaborateur'!$A25,Planning!$3:$3))","v":"R"},{"$f":"VLOOKUP(BG25,Horaires!$A$3:$E$49,2,)","v":"Congé"},{"$f":"IF(BH25=\"vacances\",INDEX(Horaires!$H$3:$L$42,MATCH('Solde d''heure collaborateur'!BH$2,Horaires!$H$3:$H$40,0),4),IF(BH25=\"maladie\",INDEX(Horaires!$H$3:$L$42,MATCH('Solde d''heure collaborateur'!BH$2,Horaires!$H$3:$H$40,0),5),VLOOKUP(BG25,Horaires!$A$3:$E$60,5,)))","v":0},null,{"$f":"INDEX(Planning!$19:$19,MATCH('Solde d''heure collaborateur'!$A25,Planning!$3:$3))","v":"Vib3"},{"$f":"VLOOKUP(BK25,Horaires!$A$3:$E$49,2,)","v":"Vibert"},{"$f":"IF(BL25=\"vacances\",INDEX(Horaires!$H$3:$L$42,MATCH('Solde d''heure collaborateur'!BL$2,Horaires!$H$3:$H$40,0),4),IF(BL25=\"maladie\",INDEX(Horaires!$H$3:$L$42,MATCH('Solde d''heure collaborateur'!BL$2,Horaires!$H$3:$H$40,0),5),VLOOKUP(BK25,Horaires!$A$3:$E$60,5,)))","v":0.42708333333333331},null,{"$f":"INDEX(Planning!$20:$20,MATCH('Solde d''heure collaborateur'!$A25,Planning!$3:$3))","v":"R"},{"$f":"VLOOKUP(BO25,Horaires!$A$3:$E$49,2,)","v":"Congé"},{"$f":"IF(BP25=\"vacances\",INDEX(Horaires!$H$3:$L$42,MATCH('Solde d''heure collaborateur'!BP$2,Horaires!$H$3:$H$40,0),4),IF(BP25=\"maladie\",INDEX(Horaires!$H$3:$L$42,MATCH('Solde d''heure collaborateur'!BP$2,Horaires!$H$3:$H$40,0),5),VLOOKUP(BO25,Horaires!$A$3:$E$60,5,)))","v":0},null,{"$f":"INDEX(Planning!$21:$21,MATCH('Solde d''heure collaborateur'!$A25,Planning!$3:$3))","v":"Ves3"},{"$f":"VLOOKUP(BS25,Horaires!$A$3:$E$49,2,)","v":"Vesenaz"},{"$f":"IF(BT25=\"vacances\",INDEX(Horaires!$H$3:$L$42,MATCH('Solde d''heure collaborateur'!BT$2,Horaires!$H$3:$H$40,0),4),IF(BT25=\"maladie\",INDEX(Horaires!$H$3:$L$42,MATCH('Solde d''heure collaborateur'!BT$2,Horaires!$H$3:$H$40,0),5),VLOOKUP(BS25,Horaires!$A$3:$E$60,5,)))","v":0.40624999999999994},null,{"$f":"INDEX(Planning!$22:$22,MATCH('Solde d''heure collaborateur'!$A25,Planning!$3:$3))","v":"X"},{"$f":"VLOOKUP(BW25,Horaires!$A$3:$E$49,2,)","v":"XXX"},{"$f":"IF(BX25=\"vacances\",INDEX(Horaires!$H$3:$L$42,MATCH('Solde d''heure collaborateur'!BX$2,Horaires!$H$3:$H$40,0),4),IF(BX25=\"maladie\",INDEX(Horaires!$H$3:$L$42,MATCH('Solde d''heure collaborateur'!BX$2,Horaires!$H$3:$H$40,0),5),VLOOKUP(BW25,Horaires!$A$3:$E$60,5,)))","v":0},null,{"$f":"INDEX(Planning!$23:$23,MATCH('Solde d''heure collaborateur'!$A25,Planning!$3:$3))","v":"Aca3"},{"$f":"VLOOKUP(CA25,Horaires!$A$3:$E$49,2,)","v":"Acacias"},{"$f":"IF(CB25=\"vacances\",INDEX(Horaires!$H$3:$L$42,MATCH('Solde d''heure collaborateur'!CB$2,Horaires!$H$3:$H$40,0),4),IF(CB25=\"maladie\",INDEX(Horaires!$H$3:$L$42,MATCH('Solde d''heure collaborateur'!CB$2,Horaires!$H$3:$H$40,0),5),VLOOKUP(CA25,Horaires!$A$3:$E$60,5,)))","v":0.40624999999999994},null,{"$f":"INDEX(Planning!$24:$24,MATCH('Solde d''heure collaborateur'!$A25,Planning!$3:$3))","v":"R"},{"$f":"VLOOKUP(CE25,Horaires!$A$3:$E$49,2,)","v":"Congé"},{"$f":"IF(CF25=\"vacances\",INDEX(Horaires!$H$3:$L$42,MATCH('Solde d''heure collaborateur'!CF$2,Horaires!$H$3:$H$40,0),4),IF(CF25=\"maladie\",INDEX(Horaires!$H$3:$L$42,MATCH('Solde d''heure collaborateur'!CF$2,Horaires!$H$3:$H$40,0),5),VLOOKUP(CE25,Horaires!$A$3:$E$60,5,)))","v":0},null,{"$f":"INDEX(Planning!$25:$25,MATCH('Solde d''heure collaborateur'!$A25,Planning!$3:$3))","v":"X"},{"$f":"VLOOKUP(CI25,Horaires!$A$3:$E$49,2,)","v":"XXX"},{"$f":"IF(CJ25=\"vacances\",INDEX(Horaires!$H$3:$L$42,MATCH('Solde d''heure collaborateur'!CJ$2,Horaires!$H$3:$H$40,0),4),IF(CJ25=\"maladie\",INDEX(Horaires!$H$3:$L$42,MATCH('Solde d''heure collaborateur'!CJ$2,Horaires!$H$3:$H$40,0),5),VLOOKUP(CI25,Horaires!$A$3:$E$60,5,)))","v":0},null,{"$f":"INDEX(Planning!$26:$26,MATCH('Solde d''heure collaborateur'!$A25,Planning!$3:$3))","v":"R"},{"$f":"VLOOKUP(CM25,Horaires!$A$3:$E$49,2,)","v":"Congé"},{"$f":"IF(CN25=\"vacances\",INDEX(Horaires!$H$3:$L$42,MATCH('Solde d''heure collaborateur'!CN$2,Horaires!$H$3:$H$40,0),4),IF(CN25=\"maladie\",INDEX(Horaires!$H$3:$L$42,MATCH('Solde d''heure collaborateur'!CN$2,Horaires!$H$3:$H$40,0),5),VLOOKUP(CM25,Horaires!$A$3:$E$60,5,)))","v":0},null,{"$f":"INDEX(Planning!$27:$27,MATCH('Solde d''heure collaborateur'!$A25,Planning!$3:$3))","v":"R"},{"$f":"VLOOKUP(CQ25,Horaires!$A$3:$E$49,2,)","v":"Congé"},{"$f":"IF(CR25=\"vacances\",INDEX(Horaires!$H$3:$L$42,MATCH('Solde d''heure collaborateur'!CR$2,Horaires!$H$3:$H$40,0),4),IF(CR25=\"maladie\",INDEX(Horaires!$H$3:$L$42,MATCH('Solde d''heure collaborateur'!CR$2,Horaires!$H$3:$H$40,0),5),VLOOKUP(CQ25,Horaires!$A$3:$E$60,5,)))","v":0},null,{"$f":"INDEX(Planning!$28:$28,MATCH('Solde d''heure collaborateur'!$A25,Planning!$3:$3))","v":"tour3"},{"$f":"VLOOKUP(CU25,Horaires!$A$3:$E$49,2,)","v":"Tourelle"},{"$f":"IF(CV25=\"vacances\",INDEX(Horaires!$H$3:$L$42,MATCH('Solde d''heure collaborateur'!CV$2,Horaires!$H$3:$H$40,0),4),IF(CV25=\"maladie\",INDEX(Horaires!$H$3:$L$42,MATCH('Solde d''heure collaborateur'!CV$2,Horaires!$H$3:$H$40,0),5),VLOOKUP(CU25,Horaires!$A$3:$E$60,5,)))","v":0.42708333333333331},null,{"$f":"INDEX(Planning!$29:$29,MATCH('Solde d''heure collaborateur'!$A25,Planning!$3:$3))","v":"onex3"},{"$f":"VLOOKUP(CY25,Horaires!$A$3:$E$49,2,)","v":"Onex"},{"$f":"IF(CZ25=\"vacances\",INDEX(Horaires!$H$3:$L$42,MATCH('Solde d''heure collaborateur'!CZ$2,Horaires!$H$3:$H$40,0),4),IF(CZ25=\"maladie\",INDEX(Horaires!$H$3:$L$42,MATCH('Solde d''heure collaborateur'!CZ$2,Horaires!$H$3:$H$40,0),5),VLOOKUP(CY25,Horaires!$A$3:$E$60,5,)))","v":0.42708333333333331},null,{"$f":"INDEX(Planning!$30:$30,MATCH('Solde d''heure collaborateur'!$A25,Planning!$3:$3))","v":"X"},{"$f":"VLOOKUP(DC25,Horaires!$A$3:$E$49,2,)","v":"XXX"},{"$f":"IF(DD25=\"vacances\",INDEX(Horaires!$H$3:$L$42,MATCH('Solde d''heure collaborateur'!DD$2,Horaires!$H$3:$H$40,0),4),IF(DD25=\"maladie\",INDEX(Horaires!$H$3:$L$42,MATCH('Solde d''heure collaborateur'!DD$2,Horaires!$H$3:$H$40,0),5),VLOOKUP(DC25,Horaires!$A$3:$E$60,5,)))","v":0},null,{"$f":"INDEX(Planning!$31:$31,MATCH('Solde d''heure collaborateur'!$A25,Planning!$3:$3))","v":"X"},{"$f":"VLOOKUP(DG25,Horaires!$A$3:$E$49,2,)","v":"XXX"},{"$f":"IF(DH25=\"vacances\",INDEX(Horaires!$H$3:$L$42,MATCH('Solde d''heure collaborateur'!DH$2,Horaires!$H$3:$H$40,0),4),IF(DH25=\"maladie\",INDEX(Horaires!$H$3:$L$42,MATCH('Solde d''heure collaborateur'!DH$2,Horaires!$H$3:$H$40,0),5),VLOOKUP(DG25,Horaires!$A$3:$E$60,5,)))","v":0},null,{"$f":"INDEX(Planning!$32:$32,MATCH('Solde d''heure collaborateur'!$A25,Planning!$3:$3))","v":"X"},{"$f":"VLOOKUP(DK25,Horaires!$A$3:$E$49,2,)","v":"XXX"},{"$f":"IF(DL25=\"vacances\",INDEX(Horaires!$H$3:$L$42,MATCH('Solde d''heure collaborateur'!DL$2,Horaires!$H$3:$H$40,0),4),IF(DL25=\"maladie\",INDEX(Horaires!$H$3:$L$42,MATCH('Solde d''heure collaborateur'!DL$2,Horaires!$H$3:$H$40,0),5),VLOOKUP(DK25,Horaires!$A$3:$E$60,5,)))","v":0},null,{"$f":"INDEX(Planning!$33:$33,MATCH('Solde d''heure collaborateur'!$A25,Planning!$3:$3))","v":"X"},{"$f":"VLOOKUP(DO25,Horaires!$A$3:$E$49,2,)","v":"XXX"},{"$f":"IF(DP25=\"vacances\",INDEX(Horaires!$H$3:$L$42,MATCH('Solde d''heure collaborateur'!DP$2,Horaires!$H$3:$H$40,0),4),IF(DP25=\"maladie\",INDEX(Horaires!$H$3:$L$42,MATCH('Solde d''heure collaborateur'!DP$2,Horaires!$H$3:$H$40,0),5),VLOOKUP(DO25,Horaires!$A$3:$E$60,5,)))","v":0},null,{"$f":"INDEX(Planning!$34:$34,MATCH('Solde d''heure collaborateur'!$A25,Planning!$3:$3))","v":"X"},{"$f":"VLOOKUP(DS25,Horaires!$A$3:$E$49,2,)","v":"XXX"},{"$f":"IF(DT25=\"vacances\",INDEX(Horaires!$H$3:$L$42,MATCH('Solde d''heure collaborateur'!DT$2,Horaires!$H$3:$H$40,0),4),IF(DT25=\"maladie\",INDEX(Horaires!$H$3:$L$42,MATCH('Solde d''heure collaborateur'!DT$2,Horaires!$H$3:$H$40,0),5),VLOOKUP(DS25,Horaires!$A$3:$E$60,5,)))","v":0},null,{"$f":"INDEX(Planning!$35:$35,MATCH('Solde d''heure collaborateur'!$A25,Planning!$3:$3))","v":"X"},{"$f":"VLOOKUP(DW25,Horaires!$A$3:$E$49,2,)","v":"XXX"},{"$f":"IF(DX25=\"vacances\",INDEX(Horaires!$H$3:$L$42,MATCH('Solde d''heure collaborateur'!DX$2,Horaires!$H$3:$H$40,0),4),IF(DX25=\"maladie\",INDEX(Horaires!$H$3:$L$42,MATCH('Solde d''heure collaborateur'!DX$2,Horaires!$H$3:$H$40,0),5),VLOOKUP(DW25,Horaires!$A$3:$E$60,5,)))","v":0}]
[null,null,null,{"$f":"SUM(E26-INDEX(Horaires!$H$3:$L$37,MATCH('Solde d''heure collaborateur'!D$2,Horaires!$H$3:$H$37,0),2))","v":1},{"$f":"SUM(E20:E25)*24","v":43},null,null,{"$f":"SUM(I26-INDEX(Horaires!$H$3:$L$37,MATCH('Solde d''heure collaborateur'!H$2,Horaires!$H$3:$H$37,0),2))","v":1.4999999999999929},{"$f":"SUM(I20:I25)*24","v":43.499999999999993},null,null,{"$f":"SUM(M26-INDEX(Horaires!$H$3:$L$37,MATCH('Solde d''heure collaborateur'!L$2,Horaires!$H$3:$H$37,0),2))","v":0},{"$f":"SUM(M20:M25)*24","v":42},null,null,{"$f":"SUM(Q26-INDEX(Horaires!$H$3:$L$37,MATCH('Solde d''heure collaborateur'!P$2,Horaires!$H$3:$H$37,0),2))","v":3.5527136788005009E-15},{"$f":"SUM(Q20:Q25)*24","v":22.500000000000004},null,null,{"$f":"SUM(U26-INDEX(Horaires!$H$3:$L$37,MATCH('Solde d''heure collaborateur'!T$2,Horaires!$H$3:$H$37,0),2))","v":3.5},{"$f":"SUM(U20:U25)*24","v":45.5},null,null,{"$f":"SUM(Y26-INDEX(Horaires!$H$3:$L$37,MATCH('Solde d''heure collaborateur'!X$2,Horaires!$H$3:$H$37,0),2))","v":3.5527136788005009E-15},{"$f":"SUM(Y20:Y25)*24","v":22.500000000000004},null,null,{"$f":"SUM(AC26-INDEX(Horaires!$H$3:$L$37,MATCH('Solde d''heure collaborateur'!AB$2,Horaires!$H$3:$H$37,0),2))","v":3},{"$f":"SUM(AC20:AC25)*24","v":45},null,null,{"$f":"SUM(AG26-INDEX(Horaires!$H$3:$L$37,MATCH('Solde d''heure collaborateur'!AF$2,Horaires!$H$3:$H$37,0),2))","v":2.5},{"$f":"SUM(AG20:AG25)*24","v":44.5},null,null,{"$f":"SUM(AK26-INDEX(Horaires!$H$3:$L$37,MATCH('Solde d''heure collaborateur'!AJ$2,Horaires!$H$3:$H$37,0),2))","v":0.5},{"$f":"SUM(AK20:AK25)*24","v":42.5},null,null,{"$f":"SUM(AO26-INDEX(Horaires!$H$3:$L$37,MATCH('Solde d''heure collaborateur'!AN$2,Horaires!$H$3:$H$37,0),2))","v":1.5},{"$f":"SUM(AO20:AO25)*24","v":43.5},null,null,{"$f":"SUM(AS26-INDEX(Horaires!$H$3:$L$37,MATCH('Solde d''heure collaborateur'!AR$2,Horaires!$H$3:$H$37,0),2))","v":0},{"$f":"SUM(AS20:AS25)*24","v":33.25},null,null,{"$f":"SUM(AW26-INDEX(Horaires!$H$3:$L$37,MATCH('Solde d''heure collaborateur'!AV$2,Horaires!$H$3:$H$37,0),2))","v":0},{"$f":"SUM(AW20:AW25)*24","v":42},null,null,{"$f":"SUM(BA26-INDEX(Horaires!$H$3:$L$37,MATCH('Solde d''heure collaborateur'!AZ$2,Horaires!$H$3:$H$37,0),2))","v":-10.75},{"$f":"SUM(BA20:BA25)*24","v":31.25},null,null,{"$f":"SUM(BE26-INDEX(Horaires!$H$3:$L$37,MATCH('Solde d''heure collaborateur'!BD$2,Horaires!$H$3:$H$37,0),2))","v":1},{"$f":"SUM(BE20:BE25)*24","v":43},null,null,{"$f":"SUM(BI26-INDEX(Horaires!$H$3:$L$37,MATCH('Solde d''heure collaborateur'!BH$2,Horaires!$H$3:$H$37,0),2))","v":-9.75},{"$f":"SUM(BI20:BI25)*24","v":32.25},null,null,{"$f":"SUM(BM26-INDEX(Horaires!$H$3:$L$37,MATCH('Solde d''heure collaborateur'!BL$2,Horaires!$H$3:$H$37,0),2))","v":2.25},{"$f":"SUM(BM20:BM25)*24","v":44.25},null,null,{"$f":"SUM(BQ26-INDEX(Horaires!$H$3:$L$37,MATCH('Solde d''heure collaborateur'!BP$2,Horaires!$H$3:$H$37,0),2))","v":1.5},{"$f":"SUM(BQ20:BQ25)*24","v":43.5},null,null,{"$f":"SUM(BU26-INDEX(Horaires!$H$3:$L$37,MATCH('Solde d''heure collaborateur'!BT$2,Horaires!$H$3:$H$37,0),2))","v":-9.7500000000000071},{"$f":"SUM(BU20:BU25)*24","v":32.249999999999993},null,null,{"$f":"SUM(BY26-INDEX(Horaires!$H$3:$L$37,MATCH('Solde d''heure collaborateur'!BX$2,Horaires!$H$3:$H$37,0),2))","v":0},{"$f":"SUM(BY20:BY25)*24","v":21.5},null,null,{"$f":"SUM(CC26-INDEX(Horaires!$H$3:$L$37,MATCH('Solde d''heure collaborateur'!CB$2,Horaires!$H$3:$H$37,0),2))","v":-9.25},{"$f":"SUM(CC20:CC25)*24","v":32.75},null,null,{"$f":"SUM(CG26-INDEX(Horaires!$H$3:$L$37,MATCH('Solde d''heure collaborateur'!CF$2,Horaires!$H$3:$H$37,0),2))","v":3.5},{"$f":"SUM(CG20:CG25)*24","v":45.5},null,null,{"$f":"SUM(CK26-INDEX(Horaires!$H$3:$L$37,MATCH('Solde d''heure collaborateur'!CJ$2,Horaires!$H$3:$H$37,0),2))","v":-42},{"$f":"SUM(CK20:CK25)*24","v":0},null,null,{"$f":"SUM(CO26-INDEX(Horaires!$H$3:$L$37,MATCH('Solde d''heure collaborateur'!CN$2,Horaires!$H$3:$H$37,0),2))","v":1.5},{"$f":"SUM(CO20:CO25)*24","v":43.5},null,null,{"$f":"SUM(CS26-INDEX(Horaires!$H$3:$L$37,MATCH('Solde d''heure collaborateur'!CR$2,Horaires!$H$3:$H$37,0),2))","v":-8.25},{"$f":"SUM(CS20:CS25)*24","v":33.75},null,null,{"$f":"SUM(CW26-INDEX(Horaires!$H$3:$L$37,MATCH('Solde d''heure collaborateur'!CV$2,Horaires!$H$3:$H$37,0),2))","v":2.5},{"$f":"SUM(CW20:CW25)*24","v":44.5},null,null,{"$f":"SUM(DA26-INDEX(Horaires!$H$3:$L$37,MATCH('Solde d''heure collaborateur'!CZ$2,Horaires!$H$3:$H$37,0),2))","v":21.5},{"$f":"SUM(DA20:DA25)*24","v":21.5},null,null,{"$f":"SUM(DE26-INDEX(Horaires!$H$3:$L$37,MATCH('Solde d''heure collaborateur'!DD$2,Horaires!$H$3:$H$37,0),2))","v":{"$error":"#N/A"}},{"$f":"SUM(DE20:DE25)*24","v":0},null,null,{"$f":"SUM(DI26-INDEX(Horaires!$H$3:$L$37,MATCH('Solde d''heure collaborateur'!DH$2,Horaires!$H$3:$H$37,0),2))","v":0},{"$f":"SUM(DI20:DI25)*24","v":0},null,null,{"$f":"SUM(DM26-INDEX(Horaires!$H$3:$L$37,MATCH('Solde d''heure collaborateur'!DL$2,Horaires!$H$3:$H$37,0),2))","v":0},{"$f":"SUM(DM20:DM25)*24","v":0},null,null,{"$f":"SUM(DQ26-INDEX(Horaires!$H$3:$L$37,MATCH('Solde d''heure collaborateur'!DP$2,Horaires!$H$3:$H$37,0),2))","v":0},{"$f":"SUM(DQ20:DQ25)*24","v":0},null,null,{"$f":"SUM(DU26-INDEX(Horaires!$H$3:$L$37,MATCH('Solde d''heure collaborateur'!DT$2,Horaires!$H$3:$H$37,0),2))","v":0},{"$f":"SUM(DU20:DU25)*24","v":0},null,null,{"$f":"SUM(DY26-INDEX(Horaires!$H$3:$L$37,MATCH('Solde d''heure collaborateur'!DX$2,Horaires!$H$3:$H$37,0),2))","v":0},{"$f":"SUM(DY20:DY25)*24","v":0}]
[]
[{"$f":"A25+2","v":"2013-11-25"},null,{"$f":"INDEX(Planning!$4:$4,MATCH('Solde d''heure collaborateur'!A28,Planning!$3:$3,0))","v":"nav1"},{"$f":"VLOOKUP(C28,Horaires!$A$3:$E$49,2,)","v":"Navigation"},{"$f":"IF(D28=\"vacances\",INDEX(Horaires!$H$3:$L$42,MATCH('Solde d''heure collaborateur'!D$2,Horaires!$H$3:$H$40,0),4),IF(D28=\"maladie\",INDEX(Horaires!$H$3:$L$42,MATCH('Solde d''heure collaborateur'!D$2,Horaires!$H$3:$H$40,0),5),VLOOKUP(C28,Horaires!$A$3:$E$60,5,)))","v":0.44791666666666669},null,{"$f":"INDEX(Planning!$5:$5,MATCH('Solde d''heure collaborateur'!A28,Planning!$3:$3))","v":"R"},{"$f":"VLOOKUP(G28,Horaires!$A$3:$E$49,2,)","v":"Congé"},{"$f":"IF(H28=\"vacances\",INDEX(Horaires!$H$3:$L$42,MATCH('Solde d''heure collaborateur'!H$2,Horaires!$H$3:$H$40,0),4),IF(H28=\"maladie\",INDEX(Horaires!$H$3:$L$42,MATCH('Solde d''heure collaborateur'!H$2,Horaires!$H$3:$H$40,0),5),VLOOKUP(G28,Horaires!$A$3:$E$60,5,)))","v":0},null,{"$f":"INDEX(Planning!$6:$6,MATCH('Solde d''heure collaborateur'!A28,Planning!$3:$3))","v":"M"},{"$f":"VLOOKUP(K28,Horaires!$A$3:$E$49,2,)","v":"Maladie"},{"$f":"IF(L28=\"vacances\",INDEX(Horaires!$H$3:$L$42,MATCH('Solde d''heure collaborateur'!L$2,Horaires!$H$3:$H$40,0),4),IF(L28=\"maladie\",INDEX(Horaires!$H$3:$L$42,MATCH('Solde d''heure collaborateur'!L$2,Horaires!$H$3:$H$40,0),5),VLOOKUP(K28,Horaires!$A$3:$E$60,5,)))","v":0.4375},null,{"$f":"INDEX(Planning!$7:$7,MATCH('Solde d''heure collaborateur'!$A28,Planning!$3:$3))","v":"Vib1"},{"$f":"VLOOKUP(O28,Horaires!$A$3:$E$49,2,)","v":"Vibert"},{"$f":"IF(P28=\"vacances\",INDEX(Horaires!$H$3:$L$42,MATCH('Solde d''heure collaborateur'!P$2,Horaires!$H$3:$H$40,0),4),IF(P28=\"maladie\",INDEX(Horaires!$H$3:$L$42,MATCH('Solde d''heure collaborateur'!P$2,Horaires!$H$3:$H$40,0),5),VLOOKUP(O28,Horaires!$A$3:$E$60,5,)))","v":0.46875000000000006},null,{"$f":"INDEX(Planning!$8:$8,MATCH('Solde d''heure collaborateur'!$A28,Planning!$3:$3))","v":"Onex1"},{"$f":"VLOOKUP(S28,Horaires!$A$3:$E$49,2,)","v":"Onex"},{"$f":"IF(T28=\"vacances\",INDEX(Horaires!$H$3:$L$42,MATCH('Solde d''heure collaborateur'!T$2,Horaires!$H$3:$H$40,0),4),IF(T28=\"maladie\",INDEX(Horaires!$H$3:$L$42,MATCH('Solde d''heure collaborateur'!T$2,Horaires!$H$3:$H$40,0),5),VLOOKUP(S28,Horaires!$A$3:$E$60,5,)))","v":0.46875000000000006},null,{"$f":"INDEX(Planning!$9:$9,MATCH('Solde d''heure collaborateur'!$A28,Planning!$3:$3))","v":"Onex1"},{"$f":"VLOOKUP(W28,Horaires!$A$3:$E$49,2,)","v":"Onex"},{"$f":"IF(X28=\"vacances\",INDEX(Horaires!$H$3:$L$42,MATCH('Solde d''heure collaborateur'!X$2,Horaires!$H$3:$H$40,0),4),IF(X28=\"maladie\",INDEX(Horaires!$H$3:$L$42,MATCH('Solde d''heure collaborateur'!X$2,Horaires!$H$3:$H$40,0),5),VLOOKUP(W28,Horaires!$A$3:$E$60,5,)))","v":0.46875000000000006},null,{"$f":"INDEX(Planning!$10:$10,MATCH('Solde d''heure collaborateur'!$A28,Planning!$3:$3))","v":"R"},{"$f":"VLOOKUP(AA28,Horaires!$A$3:$E$49,2,)","v":"Congé"},{"$f":"IF(AB28=\"vacances\",INDEX(Horaires!$H$3:$L$42,MATCH('Solde d''heure collaborateur'!AB$2,Horaires!$H$3:$H$40,0),4),IF(AB28=\"maladie\",INDEX(Horaires!$H$3:$L$42,MATCH('Solde d''heure collaborateur'!AB$2,Horaires!$H$3:$H$40,0),5),VLOOKUP(AA28,Horaires!$A$3:$E$60,5,)))","v":0},null,{"$f":"INDEX(Planning!$11:$11,MATCH('Solde d''heure collaborateur'!$A28,Planning!$3:$3))","v":"R"},{"$f":"VLOOKUP(AE28,Horaires!$A$3:$E$49,2,)","v":"Congé"},{"$f":"IF(AF28=\"vacances\",INDEX(Horaires!$H$3:$L$42,MATCH('Solde d''heure collaborateur'!AF$2,Horaires!$H$3:$H$40,0),4),IF(AF28=\"maladie\",INDEX(Horaires!$H$3:$L$42,MATCH('Solde d''heure collaborateur'!AF$2,Horaires!$H$3:$H$40,0),5),VLOOKUP(AE28,Horaires!$A$3:$E$60,5,)))","v":0},null,{"$f":"INDEX(Planning!$12:$12,MATCH('Solde d''heure collaborateur'!$A28,Planning!$3:$3))","v":"Thon1"},{"$f":"VLOOKUP(AI28,Horaires!$A$3:$E$49,2,)","v":"Thonex"},{"$f":"IF(AJ28=\"vacances\",INDEX(Horaires!$H$3:$L$42,MATCH('Solde d''heure collaborateur'!AJ$2,Horaires!$H$3:$H$40,0),4),IF(AJ28=\"maladie\",INDEX(Horaires!$H$3:$L$42,MATCH('Solde d''heure collaborateur'!AJ$2,Horaires!$H$3:$H$40,0),5),VLOOKUP(AI28,Horaires!$A$3:$E$60,5,)))","v":0.44791666666666669},null,{"$f":"INDEX(Planning!$13:$13,MATCH('Solde d''heure collaborateur'!$A28,Planning!$3:$3))","v":"R"},{"$f":"VLOOKUP(AM28,Horaires!$A$3:$E$49,2,)","v":"Congé"},{"$f":"IF(AN28=\"vacances\",INDEX(Horaires!$H$3:$L$42,MATCH('Solde d''heure collaborateur'!AN$2,Horaires!$H$3:$H$40,0),4),IF(AN28=\"maladie\",INDEX(Horaires!$H$3:$L$42,MATCH('Solde d''heure collaborateur'!AN$2,Horaires!$H$3:$H$40,0),5),VLOOKUP(AM28,Horaires!$A$3:$E$60,5,)))","v":0},null,{"$f":"INDEX(Planning!$14:$14,MATCH('Solde d''heure collaborateur'!$A28,Planning!$3:$3))","v":"M"},{"$f":"VLOOKUP(AQ28,Horaires!$A$3:$E$49,2,)","v":"Maladie"},{"$f":"IF(AR28=\"vacances\",INDEX(Horaires!$H$3:$L$42,MATCH('Solde d''heure collaborateur'!AR$2,Horaires!$H$3:$H$40,0),4),IF(AR28=\"maladie\",INDEX(Horaires!$H$3:$L$42,MATCH('Solde d''heure collaborateur'!AR$2,Horaires!$H$3:$H$40,0),5),VLOOKUP(AQ28,Horaires!$A$3:$E$60,5,)))","v":0.46180555555555558},null,{"$f":"INDEX(Planning!$15:$15,MATCH('Solde d''heure collaborateur'!$A28,Planning!$3:$3))","v":"Nyon1"},{"$f":"VLOOKUP(AU28,Horaires!$A$3:$E$49,2,)","v":"Nyon"},{"$f":"IF(AV28=\"vacances\",INDEX(Horaires!$H$3:$L$42,MATCH('Solde d''heure collaborateur'!AV$2,Horaires!$H$3:$H$40,0),4),IF(AV28=\"maladie\",INDEX(Horaires!$H$3:$L$42,MATCH('Solde d''heure collaborateur'!AV$2,Horaires!$H$3:$H$40,0),5),VLOOKUP(AU28,Horaires!$A$3:$E$60,5,)))","v":0.44791666666666669},null,{"$f":"INDEX(Planning!$16:$16,MATCH('Solde d''heure collaborateur'!$A28,Planning!$3:$3))","v":"Vid1"},{"$f":"VLOOKUP(AY28,Horaires!$A$3:$E$49,2,)","v":"Vidollet"},{"$f":"IF(AZ28=\"vacances\",INDEX(Horaires!$H$3:$L$42,MATCH('Solde d''heure collaborateur'!AZ$2,Horaires!$H$3:$H$40,0),4),IF(AZ28=\"maladie\",INDEX(Horaires!$H$3:$L$42,MATCH('Solde d''heure collaborateur'!AZ$2,Horaires!$H$3:$H$40,0),5),VLOOKUP(AY28,Horaires!$A$3:$E$60,5,)))","v":0.44791666666666669},null,{"$f":"INDEX(Planning!$17:$17,MATCH('Solde d''heure collaborateur'!$A28,Planning!$3:$3))","v":"pom1"},{"$f":"VLOOKUP(BC28,Horaires!$A$3:$E$49,2,)","v":"Pommier"},{"$f":"IF(BD28=\"vacances\",INDEX(Horaires!$H$3:$L$42,MATCH('Solde d''heure collaborateur'!BD$2,Horaires!$H$3:$H$40,0),4),IF(BD28=\"maladie\",INDEX(Horaires!$H$3:$L$42,MATCH('Solde d''heure collaborateur'!BD$2,Horaires!$H$3:$H$40,0),5),VLOOKUP(BC28,Horaires!$A$3:$E$60,5,)))","v":0.44791666666666669},null,{"$f":"INDEX(Planning!$18:$18,MATCH('Solde d''heure collaborateur'!$A28,Planning!$3:$3))","v":"R"},{"$f":"VLOOKUP(BG28,Horaires!$A$3:$E$49,2,)","v":"Congé"},{"$f":"IF(BH28=\"vacances\",INDEX(Horaires!$H$3:$L$42,MATCH('Solde d''heure collaborateur'!BH$2,Horaires!$H$3:$H$40,0),4),IF(BH28=\"maladie\",INDEX(Horaires!$H$3:$L$42,MATCH('Solde d''heure collaborateur'!BH$2,Horaires!$H$3:$H$40,0),5),VLOOKUP(BG28,Horaires!$A$3:$E$60,5,)))","v":0},null,{"$f":"INDEX(Planning!$19:$19,MATCH('Solde d''heure collaborateur'!$A28,Planning!$3:$3))","v":"R"},{"$f":"VLOOKUP(BK28,Horaires!$A$3:$E$49,2,)","v":"Congé"},{"$f":"IF(BL28=\"vacances\",INDEX(Horaires!$H$3:$L$42,MATCH('Solde d''heure collaborateur'!BL$2,Horaires!$H$3:$H$40,0),4),IF(BL28=\"maladie\",INDEX(Horaires!$H$3:$L$42,MATCH('Solde d''heure collaborateur'!BL$2,Horaires!$H$3:$H$40,0),5),VLOOKUP(BK28,Horaires!$A$3:$E$60,5,)))","v":0},null,{"$f":"INDEX(Planning!$20:$20,MATCH('Solde d''heure collaborateur'!$A28,Planning!$3:$3))","v":"Aca1"},{"$f":"VLOOKUP(BO28,Horaires!$A$3:$E$49,2,)","v":"Acacias"},{"$f":"IF(BP28=\"vacances\",INDEX(Horaires!$H$3:$L$42,MATCH('Solde d''heure collaborateur'!BP$2,Horaires!$H$3:$H$40,0),4),IF(BP28=\"maladie\",INDEX(Horaires!$H$3:$L$42,MATCH('Solde d''heure collaborateur'!BP$2,Horaires!$H$3:$H$40,0),5),VLOOKUP(BO28,Horaires!$A$3:$E$60,5,)))","v":0.44791666666666669},null,{"$f":"INDEX(Planning!$21:$21,MATCH('Solde d''heure collaborateur'!$A28,Planning!$3:$3))","v":"R"},{"$f":"VLOOKUP(BS28,Horaires!$A$3:$E$49,2,)","v":"Congé"},{"$f":"IF(BT28=\"vacances\",INDEX(Horaires!$H$3:$L$42,MATCH('Solde d''heure collaborateur'!BT$2,Horaires!$H$3:$H$40,0),4),IF(BT28=\"maladie\",INDEX(Horaires!$H$3:$L$42,MATCH('Solde d''heure collaborateur'!BT$2,Horaires!$H$3:$H$40,0),5),VLOOKUP(BS28,Horaires!$A$3:$E$60,5,)))","v":0},null,{"$f":"INDEX(Planning!$22:$22,MATCH('Solde d''heure collaborateur'!$A28,Planning!$3:$3))","v":"Ves1"},{"$f":"VLOOKUP(BW28,Horaires!$A$3:$E$49,2,)","v":"Vesenaz"},{"$f":"IF(BX28=\"vacances\",INDEX(Horaires!$H$3:$L$42,MATCH('Solde d''heure collaborateur'!BX$2,Horaires!$H$3:$H$40,0),4),IF(BX28=\"maladie\",INDEX(Horaires!$H$3:$L$42,MATCH('Solde d''heure collaborateur'!BX$2,Horaires!$H$3:$H$40,0),5),VLOOKUP(BW28,Horaires!$A$3:$E$60,5,)))","v":0.44791666666666669},null,{"$f":"INDEX(Planning!$23:$23,MATCH('Solde d''heure collaborateur'!$A28,Planning!$3:$3))","v":"Plo1"},{"$f":"VLOOKUP(CA28,Horaires!$A$3:$E$49,2,)","v":"Plan les Ouates"},{"$f":"IF(CB28=\"vacances\",INDEX(Horaires!$H$3:$L$42,MATCH('Solde d''heure collaborateur'!CB$2,Horaires!$H$3:$H$40,0),4),IF(CB28=\"maladie\",INDEX(Horaires!$H$3:$L$42,MATCH('Solde d''heure collaborateur'!CB$2,Horaires!$H$3:$H$40,0),5),VLOOKUP(CA28,Horaires!$A$3:$E$60,5,)))","v":0.46875000000000006},null,{"$f":"INDEX(Planning!$24:$24,MATCH('Solde d''heure collaborateur'!$A28,Planning!$3:$3))","v":"tour1"},{"$f":"VLOOKUP(CE28,Horaires!$A$3:$E$49,2,)","v":"Tourelle"},{"$f":"IF(CF28=\"vacances\",INDEX(Horaires!$H$3:$L$42,MATCH('Solde d''heure collaborateur'!CF$2,Horaires!$H$3:$H$40,0),4),IF(CF28=\"maladie\",INDEX(Horaires!$H$3:$L$42,MATCH('Solde d''heure collaborateur'!CF$2,Horaires!$H$3:$H$40,0),5),VLOOKUP(CE28,Horaires!$A$3:$E$60,5,)))","v":0.46875000000000006},null,{"$f":"INDEX(Planning!$25:$25,MATCH('Solde d''heure collaborateur'!$A28,Planning!$3:$3))","v":"X"},{"$f":"VLOOKUP(CI28,Horaires!$A$3:$E$49,2,)","v":"XXX"},{"$f":"IF(CJ28=\"vacances\",INDEX(Horaires!$H$3:$L$42,MATCH('Solde d''heure collaborateur'!CJ$2,Horaires!$H$3:$H$40,0),4),IF(CJ28=\"maladie\",INDEX(Horaires!$H$3:$L$42,MATCH('Solde d''heure collaborateur'!CJ$2,Horaires!$H$3:$H$40,0),5),VLOOKUP(CI28,Horaires!$A$3:$E$60,5,)))","v":0},null,{"$f":"INDEX(Planning!$26:$26,MATCH('Solde d''heure collaborateur'!$A28,Planning!$3:$3))","v":"R"},{"$f":"VLOOKUP(CM28,Horaires!$A$3:$E$49,2,)","v":"Congé"},{"$f":"IF(CN28=\"vacances\",INDEX(Horaires!$H$3:$L$42,MATCH('Solde d''heure collaborateur'!CN$2,Horaires!$H$3:$H$40,0),4),IF(CN28=\"maladie\",INDEX(Horaires!$H$3:$L$42,MATCH('Solde d''heure collaborateur'!CN$2,Horaires!$H$3:$H$40,0),5),VLOOKUP(CM28,Horaires!$A$3:$E$60,5,)))","v":0},null,{"$f":"INDEX(Planning!$27:$27,MATCH('Solde d''heure collaborateur'!$A28,Planning!$3:$3))","v":"Vib1"},{"$f":"VLOOKUP(CQ28,Horaires!$A$3:$E$49,2,)","v":"Vibert"},{"$f":"IF(CR28=\"vacances\",INDEX(Horaires!$H$3:$L$42,MATCH('Solde d''heure collaborateur'!CR$2,Horaires!$H$3:$H$40,0),4),IF(CR28=\"maladie\",INDEX(Horaires!$H$3:$L$42,MATCH('Solde d''heure collaborateur'!CR$2,Horaires!$H$3:$H$40,0),5),VLOOKUP(CQ28,Horaires!$A$3:$E$60,5,)))","v":0.46875000000000006},null,{"$f":"INDEX(Planning!$28:$28,MATCH('Solde d''heure collaborateur'!$A28,Planning!$3:$3))","v":"R"},{"$f":"VLOOKUP(CU28,Horaires!$A$3:$E$49,2,)","v":"Congé"},{"$f":"IF(CV28=\"vacances\",INDEX(Horaires!$H$3:$L$42,MATCH('Solde d''heure collaborateur'!CV$2,Horaires!$H$3:$H$40,0),4),IF(CV28=\"maladie\",INDEX(Horaires!$H$3:$L$42,MATCH('Solde d''heure collaborateur'!CV$2,Horaires!$H$3:$H$40,0),5),VLOOKUP(CU28,Horaires!$A$3:$E$60,5,)))","v":0},null,{"$f":"INDEX(Planning!$29:$29,MATCH('Solde d''heure collaborateur'!$A28,Planning!$3:$3))","v":"X"},{"$f":"VLOOKUP(CY28,Horaires!$A$3:$E$49,2,)","v":"XXX"},{"$f":"IF(CZ28=\"vacances\",INDEX(Horaires!$H$3:$L$42,MATCH('Solde d''heure collaborateur'!CZ$2,Horaires!$H$3:$H$40,0),4),IF(CZ28=\"maladie\",INDEX(Horaires!$H$3:$L$42,MATCH('Solde d''heure collaborateur'!CZ$2,Horaires!$H$3:$H$40,0),5),VLOOKUP(CY28,Horaires!$A$3:$E$60,5,)))","v":0},null,{"$f":"INDEX(Planning!$30:$30,MATCH('Solde d''heure collaborateur'!$A28,Planning!$3:$3))","v":"X"},{"$f":"VLOOKUP(DC28,Horaires!$A$3:$E$49,2,)","v":"XXX"},{"$f":"IF(DD28=\"vacances\",INDEX(Horaires!$H$3:$L$42,MATCH('Solde d''heure collaborateur'!DD$2,Horaires!$H$3:$H$40,0),4),IF(DD28=\"maladie\",INDEX(Horaires!$H$3:$L$42,MATCH('Solde d''heure collaborateur'!DD$2,Horaires!$H$3:$H$40,0),5),VLOOKUP(DC28,Horaires!$A$3:$E$60,5,)))","v":0},null,{"$f":"INDEX(Planning!$31:$31,MATCH('Solde d''heure collaborateur'!$A28,Planning!$3:$3))","v":"X"},{"$f":"VLOOKUP(DG28,Horaires!$A$3:$E$49,2,)","v":"XXX"},{"$f":"IF(DH28=\"vacances\",INDEX(Horaires!$H$3:$L$42,MATCH('Solde d''heure collaborateur'!DH$2,Horaires!$H$3:$H$40,0),4),IF(DH28=\"maladie\",INDEX(Horaires!$H$3:$L$42,MATCH('Solde d''heure collaborateur'!DH$2,Horaires!$H$3:$H$40,0),5),VLOOKUP(DG28,Horaires!$A$3:$E$60,5,)))","v":0},null,{"$f":"INDEX(Planning!$32:$32,MATCH('Solde d''heure collaborateur'!$A28,Planning!$3:$3))","v":"X"},{"$f":"VLOOKUP(DK28,Horaires!$A$3:$E$49,2,)","v":"XXX"},{"$f":"IF(DL28=\"vacances\",INDEX(Horaires!$H$3:$L$42,MATCH('Solde d''heure collaborateur'!DL$2,Horaires!$H$3:$H$40,0),4),IF(DL28=\"maladie\",INDEX(Horaires!$H$3:$L$42,MATCH('Solde d''heure collaborateur'!DL$2,Horaires!$H$3:$H$40,0),5),VLOOKUP(DK28,Horaires!$A$3:$E$60,5,)))","v":0},null,{"$f":"INDEX(Planning!$33:$33,MATCH('Solde d''heure collaborateur'!$A28,Planning!$3:$3))","v":"X"},{"$f":"VLOOKUP(DO28,Horaires!$A$3:$E$49,2,)","v":"XXX"},{"$f":"IF(DP28=\"vacances\",INDEX(Horaires!$H$3:$L$42,MATCH('Solde d''heure collaborateur'!DP$2,Horaires!$H$3:$H$40,0),4),IF(DP28=\"maladie\",INDEX(Horaires!$H$3:$L$42,MATCH('Solde d''heure collaborateur'!DP$2,Horaires!$H$3:$H$40,0),5),VLOOKUP(DO28,Horaires!$A$3:$E$60,5,)))","v":0},null,{"$f":"INDEX(Planning!$34:$34,MATCH('Solde d''heure collaborateur'!$A28,Planning!$3:$3))","v":"X"},{"$f":"VLOOKUP(DS28,Horaires!$A$3:$E$49,2,)","v":"XXX"},{"$f":"IF(DT28=\"vacances\",INDEX(Horaires!$H$3:$L$42,MATCH('Solde d''heure collaborateur'!DT$2,Horaires!$H$3:$H$40,0),4),IF(DT28=\"maladie\",INDEX(Horaires!$H$3:$L$42,MATCH('Solde d''heure collaborateur'!DT$2,Horaires!$H$3:$H$40,0),5),VLOOKUP(DS28,Horaires!$A$3:$E$60,5,)))","v":0},null,{"$f":"INDEX(Planning!$35:$35,MATCH('Solde d''heure collaborateur'!$A28,Planning!$3:$3))","v":"X"},{"$f":"VLOOKUP(DW28,Horaires!$A$3:$E$49,2,)","v":"XXX"},{"$f":"IF(DX28=\"vacances\",INDEX(Horaires!$H$3:$L$42,MATCH('Solde d''heure collaborateur'!DX$2,Horaires!$H$3:$H$40,0),4),IF(DX28=\"maladie\",INDEX(Horaires!$H$3:$L$42,MATCH('Solde d''heure collaborateur'!DX$2,Horaires!$H$3:$H$40,0),5),VLOOKUP(DW28,Horaires!$A$3:$E$60,5,)))","v":0}]
[{"$f":"A28+1","v":"2013-11-26"},null,{"$f":"INDEX(Planning!$4:$4,MATCH('Solde d''heure collaborateur'!A29,Planning!$3:$3,0))","v":"Nav1"},{"$f":"VLOOKUP(C29,Horaires!$A$3:$E$49,2,)","v":"Navigation"},{"$f":"IF(D29=\"vacances\",INDEX(Horaires!$H$3:$L$42,MATCH('Solde d''heure collaborateur'!D$2,Horaires!$H$3:$H$40,0),4),IF(D29=\"maladie\",INDEX(Horaires!$H$3:$L$42,MATCH('Solde d''heure collaborateur'!D$2,Horaires!$H$3:$H$40,0),5),VLOOKUP(C29,Horaires!$A$3:$E$60,5,)))","v":0.44791666666666669},null,{"$f":"INDEX(Planning!$5:$5,MATCH('Solde d''heure collaborateur'!A29,Planning!$3:$3))","v":"Pom1"},{"$f":"VLOOKUP(G29,Horaires!$A$3:$E$49,2,)","v":"Pommier"},{"$f":"IF(H29=\"vacances\",INDEX(Horaires!$H$3:$L$42,MATCH('Solde d''heure collaborateur'!H$2,Horaires!$H$3:$H$40,0),4),IF(H29=\"maladie\",INDEX(Horaires!$H$3:$L$42,MATCH('Solde d''heure collaborateur'!H$2,Horaires!$H$3:$H$40,0),5),VLOOKUP(G29,Horaires!$A$3:$E$60,5,)))","v":0.44791666666666669},null,{"$f":"INDEX(Planning!$6:$6,MATCH('Solde d''heure collaborateur'!A29,Planning!$3:$3))","v":"M"},{"$f":"VLOOKUP(K29,Horaires!$A$3:$E$49,2,)","v":"Maladie"},{"$f":"IF(L29=\"vacances\",INDEX(Horaires!$H$3:$L$42,MATCH('Solde d''heure collaborateur'!L$2,Horaires!$H$3:$H$40,0),4),IF(L29=\"maladie\",INDEX(Horaires!$H$3:$L$42,MATCH('Solde d''heure collaborateur'!L$2,Horaires!$H$3:$H$40,0),5),VLOOKUP(K29,Horaires!$A$3:$E$60,5,)))","v":0.4375},null,{"$f":"INDEX(Planning!$7:$7,MATCH('Solde d''heure collaborateur'!$A29,Planning!$3:$3))","v":"Vib1"},{"$f":"VLOOKUP(O29,Horaires!$A$3:$E$49,2,)","v":"Vibert"},{"$f":"IF(P29=\"vacances\",INDEX(Horaires!$H$3:$L$42,MATCH('Solde d''heure collaborateur'!P$2,Horaires!$H$3:$H$40,0),4),IF(P29=\"maladie\",INDEX(Horaires!$H$3:$L$42,MATCH('Solde d''heure collaborateur'!P$2,Horaires!$H$3:$H$40,0),5),VLOOKUP(O29,Horaires!$A$3:$E$60,5,)))","v":0.46875000000000006},null,{"$f":"INDEX(Planning!$8:$8,MATCH('Solde d''heure collaborateur'!$A29,Planning!$3:$3))","v":"Onex1"},{"$f":"VLOOKUP(S29,Horaires!$A$3:$E$49,2,)","v":"Onex"},{"$f":"IF(T29=\"vacances\",INDEX(Horaires!$H$3:$L$42,MATCH('Solde d''heure collaborateur'!T$2,Horaires!$H$3:$H$40,0),4),IF(T29=\"maladie\",INDEX(Horaires!$H$3:$L$42,MATCH('Solde d''heure collaborateur'!T$2,Horaires!$H$3:$H$40,0),5),VLOOKUP(S29,Horaires!$A$3:$E$60,5,)))","v":0.46875000000000006},null,{"$f":"INDEX(Planning!$9:$9,MATCH('Solde d''heure collaborateur'!$A29,Planning!$3:$3))","v":"X"},{"$f":"VLOOKUP(W29,Horaires!$A$3:$E$49,2,)","v":"XXX"},{"$f":"IF(X29=\"vacances\",INDEX(Horaires!$H$3:$L$42,MATCH('Solde d''heure collaborateur'!X$2,Horaires!$H$3:$H$40,0),4),IF(X29=\"maladie\",INDEX(Horaires!$H$3:$L$42,MATCH('Solde d''heure collaborateur'!X$2,Horaires!$H$3:$H$40,0),5),VLOOKUP(W29,Horaires!$A$3:$E$60,5,)))","v":0},null,{"$f":"INDEX(Planning!$10:$10,MATCH('Solde d''heure collaborateur'!$A29,Planning!$3:$3))","v":"R"},{"$f":"VLOOKUP(AA29,Horaires!$A$3:$E$49,2,)","v":"Congé"},{"$f":"IF(AB29=\"vacances\",INDEX(Horaires!$H$3:$L$42,MATCH('Solde d''heure collaborateur'!AB$2,Horaires!$H$3:$H$40,0),4),IF(AB29=\"maladie\",INDEX(Horaires!$H$3:$L$42,MATCH('Solde d''heure collaborateur'!AB$2,Horaires!$H$3:$H$40,0),5),VLOOKUP(AA29,Horaires!$A$3:$E$60,5,)))","v":0},null,{"$f":"INDEX(Planning!$11:$11,MATCH('Solde d''heure collaborateur'!$A29,Planning!$3:$3))","v":"Plo1"},{"$f":"VLOOKUP(AE29,Horaires!$A$3:$E$49,2,)","v":"Plan les Ouates"},{"$f":"IF(AF29=\"vacances\",INDEX(Horaires!$H$3:$L$42,MATCH('Solde d''heure collaborateur'!AF$2,Horaires!$H$3:$H$40,0),4),IF(AF29=\"maladie\",INDEX(Horaires!$H$3:$L$42,MATCH('Solde d''heure collaborateur'!AF$2,Horaires!$H$3:$H$40,0),5),VLOOKUP(AE29,Horaires!$A$3:$E$60,5,)))","v":0.46875000000000006},null,{"$f":"INDEX(Planning!$12:$12,MATCH('Solde d''heure collaborateur'!$A29,Planning!$3:$3))","v":"Thon1"},{"$f":"VLOOKUP(AI29,Horaires!$A$3:$E$49,2,)","v":"Thonex"},{"$f":"IF(AJ29=\"vacances\",INDEX(Horaires!$H$3:$L$42,MATCH('Solde d''heure collaborateur'!AJ$2,Horaires!$H$3:$H$40,0),4),IF(AJ29=\"maladie\",INDEX(Horaires!$H$3:$L$42,MATCH('Solde d''heure collaborateur'!AJ$2,Horaires!$H$3:$H$40,0),5),VLOOKUP(AI29,Horaires!$A$3:$E$60,5,)))","v":0.44791666666666669},null,{"$f":"INDEX(Planning!$13:$13,MATCH('Solde d''heure collaborateur'!$A29,Planning!$3:$3))","v":"R"},{"$f":"VLOOKUP(AM29,Horaires!$A$3:$E$49,2,)","v":"Congé"},{"$f":"IF(AN29=\"vacances\",INDEX(Horaires!$H$3:$L$42,MATCH('Solde d''heure collaborateur'!AN$2,Horaires!$H$3:$H$40,0),4),IF(AN29=\"maladie\",INDEX(Horaires!$H$3:$L$42,MATCH('Solde d''heure collaborateur'!AN$2,Horaires!$H$3:$H$40,0),5),VLOOKUP(AM29,Horaires!$A$3:$E$60,5,)))","v":0},null,{"$f":"INDEX(Planning!$14:$14,MATCH('Solde d''heure collaborateur'!$A29,Planning!$3:$3))","v":"X"},{"$f":"VLOOKUP(AQ29,Horaires!$A$3:$E$49,2,)","v":"XXX"},{"$f":"IF(AR29=\"vacances\",INDEX(Horaires!$H$3:$L$42,MATCH('Solde d''heure collaborateur'!AR$2,Horaires!$H$3:$H$40,0),4),IF(AR29=\"maladie\",INDEX(Horaires!$H$3:$L$42,MATCH('Solde d''heure collaborateur'!AR$2,Horaires!$H$3:$H$40,0),5),VLOOKUP(AQ29,Horaires!$A$3:$E$60,5,)))","v":0},null,{"$f":"INDEX(Planning!$15:$15,MATCH('Solde d''heure collaborateur'!$A29,Planning!$3:$3))","v":"Nyon1"},{"$f":"VLOOKUP(AU29,Horaires!$A$3:$E$49,2,)","v":"Nyon"},{"$f":"IF(AV29=\"vacances\",INDEX(Horaires!$H$3:$L$42,MATCH('Solde d''heure collaborateur'!AV$2,Horaires!$H$3:$H$40,0),4),IF(AV29=\"maladie\",INDEX(Horaires!$H$3:$L$42,MATCH('Solde d''heure collaborateur'!AV$2,Horaires!$H$3:$H$40,0),5),VLOOKUP(AU29,Horaires!$A$3:$E$60,5,)))","v":0.44791666666666669},null,{"$f":"INDEX(Planning!$16:$16,MATCH('Solde d''heure collaborateur'!$A29,Planning!$3:$3))","v":"Vid1"},{"$f":"VLOOKUP(AY29,Horaires!$A$3:$E$49,2,)","v":"Vidollet"},{"$f":"IF(AZ29=\"vacances\",INDEX(Horaires!$H$3:$L$42,MATCH('Solde d''heure collaborateur'!AZ$2,Horaires!$H$3:$H$40,0),4),IF(AZ29=\"maladie\",INDEX(Horaires!$H$3:$L$42,MATCH('Solde d''heure collaborateur'!AZ$2,Horaires!$H$3:$H$40,0),5),VLOOKUP(AY29,Horaires!$A$3:$E$60,5,)))","v":0.44791666666666669},null,{"$f":"INDEX(Planning!$17:$17,MATCH('Solde d''heure collaborateur'!$A29,Planning!$3:$3))","v":"Onex1"},{"$f":"VLOOKUP(BC29,Horaires!$A$3:$E$49,2,)","v":"Onex"},{"$f":"IF(BD29=\"vacances\",INDEX(Horaires!$H$3:$L$42,MATCH('Solde d''heure collaborateur'!BD$2,Horaires!$H$3:$H$40,0),4),IF(BD29=\"maladie\",INDEX(Horaires!$H$3:$L$42,MATCH('Solde d''heure collaborateur'!BD$2,Horaires!$H$3:$H$40,0),5),VLOOKUP(BC29,Horaires!$A$3:$E$60,5,)))","v":0.46875000000000006},null,{"$f":"INDEX(Planning!$18:$18,MATCH('Solde d''heure collaborateur'!$A29,Planning!$3:$3))","v":"R"},{"$f":"VLOOKUP(BG29,Horaires!$A$3:$E$49,2,)","v":"Congé"},{"$f":"IF(BH29=\"vacances\",INDEX(Horaires!$H$3:$L$42,MATCH('Solde d''heure collaborateur'!BH$2,Horaires!$H$3:$H$40,0),4),IF(BH29=\"maladie\",INDEX(Horaires!$H$3:$L$42,MATCH('Solde d''heure collaborateur'!BH$2,Horaires!$H$3:$H$40,0),5),VLOOKUP(BG29,Horaires!$A$3:$E$60,5,)))","v":0},null,{"$f":"INDEX(Planning!$19:$19,MATCH('Solde d''heure collaborateur'!$A29,Planning!$3:$3))","v":"R"},{"$f":"VLOOKUP(BK29,Horaires!$A$3:$E$49,2,)","v":"Congé"},{"$f":"IF(BL29=\"vacances\",INDEX(Horaires!$H$3:$L$42,MATCH('Solde d''heure collaborateur'!BL$2,Horaires!$H$3:$H$40,0),4),IF(BL29=\"maladie\",INDEX(Horaires!$H$3:$L$42,MATCH('Solde d''heure collaborateur'!BL$2,Horaires!$H$3:$H$40,0),5),VLOOKUP(BK29,Horaires!$A$3:$E$60,5,)))","v":0},null,{"$f":"INDEX(Planning!$20:$20,MATCH('Solde d''heure collaborateur'!$A29,Planning!$3:$3))","v":"R"},{"$f":"VLOOKUP(BO29,Horaires!$A$3:$E$49,2,)","v":"Congé"},{"$f":"IF(BP29=\"vacances\",INDEX(Horaires!$H$3:$L$42,MATCH('Solde d''heure collaborateur'!BP$2,Horaires!$H$3:$H$40,0),4),IF(BP29=\"maladie\",INDEX(Horaires!$H$3:$L$42,MATCH('Solde d''heure collaborateur'!BP$2,Horaires!$H$3:$H$40,0),5),VLOOKUP(BO29,Horaires!$A$3:$E$60,5,)))","v":0},null,{"$f":"INDEX(Planning!$21:$21,MATCH('Solde d''heure collaborateur'!$A29,Planning!$3:$3))","v":"R"},{"$f":"VLOOKUP(BS29,Horaires!$A$3:$E$49,2,)","v":"Congé"},{"$f":"IF(BT29=\"vacances\",INDEX(Horaires!$H$3:$L$42,MATCH('Solde d''heure collaborateur'!BT$2,Horaires!$H$3:$H$40,0),4),IF(BT29=\"maladie\",INDEX(Horaires!$H$3:$L$42,MATCH('Solde d''heure collaborateur'!BT$2,Horaires!$H$3:$H$40,0),5),VLOOKUP(BS29,Horaires!$A$3:$E$60,5,)))","v":0},null,{"$f":"INDEX(Planning!$22:$22,MATCH('Solde d''heure collaborateur'!$A29,Planning!$3:$3))","v":"Ves1"},{"$f":"VLOOKUP(BW29,Horaires!$A$3:$E$49,2,)","v":"Vesenaz"},{"$f":"IF(BX29=\"vacances\",INDEX(Horaires!$H$3:$L$42,MATCH('Solde d''heure collaborateur'!BX$2,Horaires!$H$3:$H$40,0),4),IF(BX29=\"maladie\",INDEX(Horaires!$H$3:$L$42,MATCH('Solde d''heure collaborateur'!BX$2,Horaires!$H$3:$H$40,0),5),VLOOKUP(BW29,Horaires!$A$3:$E$60,5,)))","v":0.44791666666666669},null,{"$f":"INDEX(Planning!$23:$23,MATCH('Solde d''heure collaborateur'!$A29,Planning!$3:$3))","v":"Aca1"},{"$f":"VLOOKUP(CA29,Horaires!$A$3:$E$49,2,)","v":"Acacias"},{"$f":"IF(CB29=\"vacances\",INDEX(Horaires!$H$3:$L$42,MATCH('Solde d''heure collaborateur'!CB$2,Horaires!$H$3:$H$40,0),4),IF(CB29=\"maladie\",INDEX(Horaires!$H$3:$L$42,MATCH('Solde d''heure collaborateur'!CB$2,Horaires!$H$3:$H$40,0),5),VLOOKUP(CA29,Horaires!$A$3:$E$60,5,)))","v":0.44791666666666669},null,{"$f":"INDEX(Planning!$24:$24,MATCH('Solde d''heure collaborateur'!$A29,Planning!$3:$3))","v":"tour1"},{"$f":"VLOOKUP(CE29,Horaires!$A$3:$E$49,2,)","v":"Tourelle"},{"$f":"IF(CF29=\"vacances\",INDEX(Horaires!$H$3:$L$42,MATCH('Solde d''heure collaborateur'!CF$2,Horaires!$H$3:$H$40,0),4),IF(CF29=\"maladie\",INDEX(Horaires!$H$3:$L$42,MATCH('Solde d''heure collaborateur'!CF$2,Horaires!$H$3:$H$40,0),5),VLOOKUP(CE29,Horaires!$A$3:$E$60,5,)))","v":0.46875000000000006},null,{"$f":"INDEX(Planning!$25:$25,MATCH('Solde d''heure collaborateur'!$A29,Planning!$3:$3))","v":"X"},{"$f":"VLOOKUP(CI29,Horaires!$A$3:$E$49,2,)","v":"XXX"},{"$f":"IF(CJ29=\"vacances\",INDEX(Horaires!$H$3:$L$42,MATCH('Solde d''heure collaborateur'!CJ$2,Horaires!$H$3:$H$40,0),4),IF(CJ29=\"maladie\",INDEX(Horaires!$H$3:$L$42,MATCH('Solde d''heure collaborateur'!CJ$2,Horaires!$H$3:$H$40,0),5),VLOOKUP(CI29,Horaires!$A$3:$E$60,5,)))","v":0},null,{"$f":"INDEX(Planning!$26:$26,MATCH('Solde d''heure collaborateur'!$A29,Planning!$3:$3))","v":"R"},{"$f":"VLOOKUP(CM29,Horaires!$A$3:$E$49,2,)","v":"Congé"},{"$f":"IF(CN29=\"vacances\",INDEX(Horaires!$H$3:$L$42,MATCH('Solde d''heure collaborateur'!CN$2,Horaires!$H$3:$H$40,0),4),IF(CN29=\"maladie\",INDEX(Horaires!$H$3:$L$42,MATCH('Solde d''heure collaborateur'!CN$2,Horaires!$H$3:$H$40,0),5),VLOOKUP(CM29,Horaires!$A$3:$E$60,5,)))","v":0},null,{"$f":"INDEX(Planning!$27:$27,MATCH('Solde d''heure collaborateur'!$A29,Planning!$3:$3))","v":"Vib1"},{"$f":"VLOOKUP(CQ29,Horaires!$A$3:$E$49,2,)","v":"Vibert"},{"$f":"IF(CR29=\"vacances\",INDEX(Horaires!$H$3:$L$42,MATCH('Solde d''heure collaborateur'!CR$2,Horaires!$H$3:$H$40,0),4),IF(CR29=\"maladie\",INDEX(Horaires!$H$3:$L$42,MATCH('Solde d''heure collaborateur'!CR$2,Horaires!$H$3:$H$40,0),5),VLOOKUP(CQ29,Horaires!$A$3:$E$60,5,)))","v":0.46875000000000006},null,{"$f":"INDEX(Planning!$28:$28,MATCH('Solde d''heure collaborateur'!$A29,Planning!$3:$3))","v":"R"},{"$f":"VLOOKUP(CU29,Horaires!$A$3:$E$49,2,)","v":"Congé"},{"$f":"IF(CV29=\"vacances\",INDEX(Horaires!$H$3:$L$42,MATCH('Solde d''heure collaborateur'!CV$2,Horaires!$H$3:$H$40,0),4),IF(CV29=\"maladie\",INDEX(Horaires!$H$3:$L$42,MATCH('Solde d''heure collaborateur'!CV$2,Horaires!$H$3:$H$40,0),5),VLOOKUP(CU29,Horaires!$A$3:$E$60,5,)))","v":0},null,{"$f":"INDEX(Planning!$29:$29,MATCH('Solde d''heure collaborateur'!$A29,Planning!$3:$3))","v":"X"},{"$f":"VLOOKUP(CY29,Horaires!$A$3:$E$49,2,)","v":"XXX"},{"$f":"IF(CZ29=\"vacances\",INDEX(Horaires!$H$3:$L$42,MATCH('Solde d''heure collaborateur'!CZ$2,Horaires!$H$3:$H$40,0),4),IF(CZ29=\"maladie\",INDEX(Horaires!$H$3:$L$42,MATCH('Solde d''heure collaborateur'!CZ$2,Horaires!$H$3:$H$40,0),5),VLOOKUP(CY29,Horaires!$A$3:$E$60,5,)))","v":0},null,{"$f":"INDEX(Planning!$30:$30,MATCH('Solde d''heure collaborateur'!$A29,Planning!$3:$3))","v":"X"},{"$f":"VLOOKUP(DC29,Horaires!$A$3:$E$49,2,)","v":"XXX"},{"$f":"IF(DD29=\"vacances\",INDEX(Horaires!$H$3:$L$42,MATCH('Solde d''heure collaborateur'!DD$2,Horaires!$H$3:$H$40,0),4),IF(DD29=\"maladie\",INDEX(Horaires!$H$3:$L$42,MATCH('Solde d''heure collaborateur'!DD$2,Horaires!$H$3:$H$40,0),5),VLOOKUP(DC29,Horaires!$A$3:$E$60,5,)))","v":0},null,{"$f":"INDEX(Planning!$31:$31,MATCH('Solde d''heure collaborateur'!$A29,Planning!$3:$3))","v":"X"},{"$f":"VLOOKUP(DG29,Horaires!$A$3:$E$49,2,)","v":"XXX"},{"$f":"IF(DH29=\"vacances\",INDEX(Horaires!$H$3:$L$42,MATCH('Solde d''heure collaborateur'!DH$2,Horaires!$H$3:$H$40,0),4),IF(DH29=\"maladie\",INDEX(Horaires!$H$3:$L$42,MATCH('Solde d''heure collaborateur'!DH$2,Horaires!$H$3:$H$40,0),5),VLOOKUP(DG29,Horaires!$A$3:$E$60,5,)))","v":0},null,{"$f":"INDEX(Planning!$32:$32,MATCH('Solde d''heure collaborateur'!$A29,Planning!$3:$3))","v":"X"},{"$f":"VLOOKUP(DK29,Horaires!$A$3:$E$49,2,)","v":"XXX"},{"$f":"IF(DL29=\"vacances\",INDEX(Horaires!$H$3:$L$42,MATCH('Solde d''heure collaborateur'!DL$2,Horaires!$H$3:$H$40,0),4),IF(DL29=\"maladie\",INDEX(Horaires!$H$3:$L$42,MATCH('Solde d''heure collaborateur'!DL$2,Horaires!$H$3:$H$40,0),5),VLOOKUP(DK29,Horaires!$A$3:$E$60,5,)))","v":0},null,{"$f":"INDEX(Planning!$33:$33,MATCH('Solde d''heure collaborateur'!$A29,Planning!$3:$3))","v":"X"},{"$f":"VLOOKUP(DO29,Horaires!$A$3:$E$49,2,)","v":"XXX"},{"$f":"IF(DP29=\"vacances\",INDEX(Horaires!$H$3:$L$42,MATCH('Solde d''heure collaborateur'!DP$2,Horaires!$H$3:$H$40,0),4),IF(DP29=\"maladie\",INDEX(Horaires!$H$3:$L$42,MATCH('Solde d''heure collaborateur'!DP$2,Horaires!$H$3:$H$40,0),5),VLOOKUP(DO29,Horaires!$A$3:$E$60,5,)))","v":0},null,{"$f":"INDEX(Planning!$34:$34,MATCH('Solde d''heure collaborateur'!$A29,Planning!$3:$3))","v":"X"},{"$f":"VLOOKUP(DS29,Horaires!$A$3:$E$49,2,)","v":"XXX"},{"$f":"IF(DT29=\"vacances\",INDEX(Horaires!$H$3:$L$42,MATCH('Solde d''heure collaborateur'!DT$2,Horaires!$H$3:$H$40,0),4),IF(DT29=\"maladie\",INDEX(Horaires!$H$3:$L$42,MATCH('Solde d''heure collaborateur'!DT$2,Horaires!$H$3:$H$40,0),5),VLOOKUP(DS29,Horaires!$A$3:$E$60,5,)))","v":0},null,{"$f":"INDEX(Planning!$35:$35,MATCH('Solde d''heure collaborateur'!$A29,Planning!$3:$3))","v":"X"},{"$f":"VLOOKUP(DW29,Horaires!$A$3:$E$49,2,)","v":"XXX"},{"$f":"IF(DX29=\"vacances\",INDEX(Horaires!$H$3:$L$42,MATCH('Solde d''heure collaborateur'!DX$2,Horaires!$H$3:$H$40,0),4),IF(DX29=\"maladie\",INDEX(Horaires!$H$3:$L$42,MATCH('Solde d''heure collaborateur'!DX$2,Horaires!$H$3:$H$40,0),5),VLOOKUP(DW29,Horaires!$A$3:$E$60,5,)))","v":0}]
[{"$f":"A29+1","v":"2013-11-27"},null,{"$f":"INDEX(Planning!$4:$4,MATCH('Solde d''heure collaborateur'!A30,Planning!$3:$3,0))","v":"Nav1"},{"$f":"VLOOKUP(C30,Horaires!$A$3:$E$49,2,)","v":"Navigation"},{"$f":"IF(D30=\"vacances\",INDEX(Horaires!$H$3:$L$42,MATCH('Solde d''heure collaborateur'!D$2,Horaires!$H$3:$H$40,0),4),IF(D30=\"maladie\",INDEX(Horaires!$H$3:$L$42,MATCH('Solde d''heure collaborateur'!D$2,Horaires!$H$3:$H$40,0),5),VLOOKUP(C30,Horaires!$A$3:$E$60,5,)))","v":0.44791666666666669},null,{"$f":"INDEX(Planning!$5:$5,MATCH('Solde d''heure collaborateur'!A30,Planning!$3:$3))","v":"Pom1"},{"$f":"VLOOKUP(G30,Horaires!$A$3:$E$49,2,)","v":"Pommier"},{"$f":"IF(H30=\"vacances\",INDEX(Horaires!$H$3:$L$42,MATCH('Solde d''heure collaborateur'!H$2,Horaires!$H$3:$H$40,0),4),IF(H30=\"maladie\",INDEX(Horaires!$H$3:$L$42,MATCH('Solde d''heure collaborateur'!H$2,Horaires!$H$3:$H$40,0),5),VLOOKUP(G30,Horaires!$A$3:$E$60,5,)))","v":0.44791666666666669},null,{"$f":"INDEX(Planning!$6:$6,MATCH('Solde d''heure collaborateur'!A30,Planning!$3:$3))","v":"M"},{"$f":"VLOOKUP(K30,Horaires!$A$3:$E$49,2,)","v":"Maladie"},{"$f":"IF(L30=\"vacances\",INDEX(Horaires!$H$3:$L$42,MATCH('Solde d''heure collaborateur'!L$2,Horaires!$H$3:$H$40,0),4),IF(L30=\"maladie\",INDEX(Horaires!$H$3:$L$42,MATCH('Solde d''heure collaborateur'!L$2,Horaires!$H$3:$H$40,0),5),VLOOKUP(K30,Horaires!$A$3:$E$60,5,)))","v":0.4375},null,{"$f":"INDEX(Planning!$7:$7,MATCH('Solde d''heure collaborateur'!$A30,Planning!$3:$3))","v":"X"},{"$f":"VLOOKUP(O30,Horaires!$A$3:$E$49,2,)","v":"XXX"},{"$f":"IF(P30=\"vacances\",INDEX(Horaires!$H$3:$L$42,MATCH('Solde d''heure collaborateur'!P$2,Horaires!$H$3:$H$40,0),4),IF(P30=\"maladie\",INDEX(Horaires!$H$3:$L$42,MATCH('Solde d''heure collaborateur'!P$2,Horaires!$H$3:$H$40,0),5),VLOOKUP(O30,Horaires!$A$3:$E$60,5,)))","v":0},null,{"$f":"INDEX(Planning!$8:$8,MATCH('Solde d''heure collaborateur'!$A30,Planning!$3:$3))","v":"Onex1"},{"$f":"VLOOKUP(S30,Horaires!$A$3:$E$49,2,)","v":"Onex"},{"$f":"IF(T30=\"vacances\",INDEX(Horaires!$H$3:$L$42,MATCH('Solde d''heure collaborateur'!T$2,Horaires!$H$3:$H$40,0),4),IF(T30=\"maladie\",INDEX(Horaires!$H$3:$L$42,MATCH('Solde d''heure collaborateur'!T$2,Horaires!$H$3:$H$40,0),5),VLOOKUP(S30,Horaires!$A$3:$E$60,5,)))","v":0.46875000000000006},null,{"$f":"INDEX(Planning!$9:$9,MATCH('Solde d''heure collaborateur'!$A30,Planning!$3:$3))","v":"Onex1"},{"$f":"VLOOKUP(W30,Horaires!$A$3:$E$49,2,)","v":"Onex"},{"$f":"IF(X30=\"vacances\",INDEX(Horaires!$H$3:$L$42,MATCH('Solde d''heure collaborateur'!X$2,Horaires!$H$3:$H$40,0),4),IF(X30=\"maladie\",INDEX(Horaires!$H$3:$L$42,MATCH('Solde d''heure collaborateur'!X$2,Horaires!$H$3:$H$40,0),5),VLOOKUP(W30,Horaires!$A$3:$E$60,5,)))","v":0.46875000000000006},null,{"$f":"INDEX(Planning!$10:$10,MATCH('Solde d''heure collaborateur'!$A30,Planning!$3:$3))","v":"recup"},{"$f":"VLOOKUP(AA30,Horaires!$A$3:$E$49,2,)","v":"Récupération"},{"$f":"IF(AB30=\"vacances\",INDEX(Horaires!$H$3:$L$42,MATCH('Solde d''heure collaborateur'!AB$2,Horaires!$H$3:$H$40,0),4),IF(AB30=\"maladie\",INDEX(Horaires!$H$3:$L$42,MATCH('Solde d''heure collaborateur'!AB$2,Horaires!$H$3:$H$40,0),5),VLOOKUP(AA30,Horaires!$A$3:$E$60,5,)))","v":0},null,{"$f":"INDEX(Planning!$11:$11,MATCH('Solde d''heure collaborateur'!$A30,Planning!$3:$3))","v":"Plo1"},{"$f":"VLOOKUP(AE30,Horaires!$A$3:$E$49,2,)","v":"Plan les Ouates"},{"$f":"IF(AF30=\"vacances\",INDEX(Horaires!$H$3:$L$42,MATCH('Solde d''heure collaborateur'!AF$2,Horaires!$H$3:$H$40,0),4),IF(AF30=\"maladie\",INDEX(Horaires!$H$3:$L$42,MATCH('Solde d''heure collaborateur'!AF$2,Horaires!$H$3:$H$40,0),5),VLOOKUP(AE30,Horaires!$A$3:$E$60,5,)))","v":0.46875000000000006},null,{"$f":"INDEX(Planning!$12:$12,MATCH('Solde d''heure collaborateur'!$A30,Planning!$3:$3))","v":"Thon1"},{"$f":"VLOOKUP(AI30,Horaires!$A$3:$E$49,2,)","v":"Thonex"},{"$f":"IF(AJ30=\"vacances\",INDEX(Horaires!$H$3:$L$42,MATCH('Solde d''heure collaborateur'!AJ$2,Horaires!$H$3:$H$40,0),4),IF(AJ30=\"maladie\",INDEX(Horaires!$H$3:$L$42,MATCH('Solde d''heure collaborateur'!AJ$2,Horaires!$H$3:$H$40,0),5),VLOOKUP(AI30,Horaires!$A$3:$E$60,5,)))","v":0.44791666666666669},null,{"$f":"INDEX(Planning!$13:$13,MATCH('Solde d''heure collaborateur'!$A30,Planning!$3:$3))","v":"Vib1"},{"$f":"VLOOKUP(AM30,Horaires!$A$3:$E$49,2,)","v":"Vibert"},{"$f":"IF(AN30=\"vacances\",INDEX(Horaires!$H$3:$L$42,MATCH('Solde d''heure collaborateur'!AN$2,Horaires!$H$3:$H$40,0),4),IF(AN30=\"maladie\",INDEX(Horaires!$H$3:$L$42,MATCH('Solde d''heure collaborateur'!AN$2,Horaires!$H$3:$H$40,0),5),VLOOKUP(AM30,Horaires!$A$3:$E$60,5,)))","v":0.46875000000000006},null,{"$f":"INDEX(Planning!$14:$14,MATCH('Solde d''heure collaborateur'!$A30,Planning!$3:$3))","v":"X"},{"$f":"VLOOKUP(AQ30,Horaires!$A$3:$E$49,2,)","v":"XXX"},{"$f":"IF(AR30=\"vacances\",INDEX(Horaires!$H$3:$L$42,MATCH('Solde d''heure collaborateur'!AR$2,Horaires!$H$3:$H$40,0),4),IF(AR30=\"maladie\",INDEX(Horaires!$H$3:$L$42,MATCH('Solde d''heure collaborateur'!AR$2,Horaires!$H$3:$H$40,0),5),VLOOKUP(AQ30,Horaires!$A$3:$E$60,5,)))","v":0},null,{"$f":"INDEX(Planning!$15:$15,MATCH('Solde d''heure collaborateur'!$A30,Planning!$3:$3))","v":"R"},{"$f":"VLOOKUP(AU30,Horaires!$A$3:$E$49,2,)","v":"Congé"},{"$f":"IF(AV30=\"vacances\",INDEX(Horaires!$H$3:$L$42,MATCH('Solde d''heure collaborateur'!AV$2,Horaires!$H$3:$H$40,0),4),IF(AV30=\"maladie\",INDEX(Horaires!$H$3:$L$42,MATCH('Solde d''heure collaborateur'!AV$2,Horaires!$H$3:$H$40,0),5),VLOOKUP(AU30,Horaires!$A$3:$E$60,5,)))","v":0},null,{"$f":"INDEX(Planning!$16:$16,MATCH('Solde d''heure collaborateur'!$A30,Planning!$3:$3))","v":"Nyon1"},{"$f":"VLOOKUP(AY30,Horaires!$A$3:$E$49,2,)","v":"Nyon"},{"$f":"IF(AZ30=\"vacances\",INDEX(Horaires!$H$3:$L$42,MATCH('Solde d''heure collaborateur'!AZ$2,Horaires!$H$3:$H$40,0),4),IF(AZ30=\"maladie\",INDEX(Horaires!$H$3:$L$42,MATCH('Solde d''heure collaborateur'!AZ$2,Horaires!$H$3:$H$40,0),5),VLOOKUP(AY30,Horaires!$A$3:$E$60,5,)))","v":0.44791666666666669},null,{"$f":"INDEX(Planning!$17:$17,MATCH('Solde d''heure collaborateur'!$A30,Planning!$3:$3))","v":"R"},{"$f":"VLOOKUP(BC30,Horaires!$A$3:$E$49,2,)","v":"Congé"},{"$f":"IF(BD30=\"vacances\",INDEX(Horaires!$H$3:$L$42,MATCH('Solde d''heure collaborateur'!BD$2,Horaires!$H$3:$H$40,0),4),IF(BD30=\"maladie\",INDEX(Horaires!$H$3:$L$42,MATCH('Solde d''heure collaborateur'!BD$2,Horaires!$H$3:$H$40,0),5),VLOOKUP(BC30,Horaires!$A$3:$E$60,5,)))","v":0},null,{"$f":"INDEX(Planning!$18:$18,MATCH('Solde d''heure collaborateur'!$A30,Planning!$3:$3))","v":"Vib1"},{"$f":"VLOOKUP(BG30,Horaires!$A$3:$E$49,2,)","v":"Vibert"},{"$f":"IF(BH30=\"vacances\",INDEX(Horaires!$H$3:$L$42,MATCH('Solde d''heure collaborateur'!BH$2,Horaires!$H$3:$H$40,0),4),IF(BH30=\"maladie\",INDEX(Horaires!$H$3:$L$42,MATCH('Solde d''heure collaborateur'!BH$2,Horaires!$H$3:$H$40,0),5),VLOOKUP(BG30,Horaires!$A$3:$E$60,5,)))","v":0.46875000000000006},null,{"$f":"INDEX(Planning!$19:$19,MATCH('Solde d''heure collaborateur'!$A30,Planning!$3:$3))","v":"recup"},{"$f":"VLOOKUP(BK30,Horaires!$A$3:$E$49,2,)","v":"Récupération"},{"$f":"IF(BL30=\"vacances\",INDEX(Horaires!$H$3:$L$42,MATCH('Solde d''heure collaborateur'!BL$2,Horaires!$H$3:$H$40,0),4),IF(BL30=\"maladie\",INDEX(Horaires!$H$3:$L$42,MATCH('Solde d''heure collaborateur'!BL$2,Horaires!$H$3:$H$40,0),5),VLOOKUP(BK30,Horaires!$A$3:$E$60,5,)))","v":0},null,{"$f":"INDEX(Planning!$20:$20,MATCH('Solde d''heure collaborateur'!$A30,Planning!$3:$3))","v":"R"},{"$f":"VLOOKUP(BO30,Horaires!$A$3:$E$49,2,)","v":"Congé"},{"$f":"IF(BP30=\"vacances\",INDEX(Horaires!$H$3:$L$42,MATCH('Solde d''heure collaborateur'!BP$2,Horaires!$H$3:$H$40,0),4),IF(BP30=\"maladie\",INDEX(Horaires!$H$3:$L$42,MATCH('Solde d''heure collaborateur'!BP$2,Horaires!$H$3:$H$40,0),5),VLOOKUP(BO30,Horaires!$A$3:$E$60,5,)))","v":0},null,{"$f":"INDEX(Planning!$21:$21,MATCH('Solde d''heure collaborateur'!$A30,Planning!$3:$3))","v":"Ves1"},{"$f":"VLOOKUP(BS30,Horaires!$A$3:$E$49,2,)","v":"Vesenaz"},{"$f":"IF(BT30=\"vacances\",INDEX(Horaires!$H$3:$L$42,MATCH('Solde d''heure collaborateur'!BT$2,Horaires!$H$3:$H$40,0),4),IF(BT30=\"maladie\",INDEX(Horaires!$H$3:$L$42,MATCH('Solde d''heure collaborateur'!BT$2,Horaires!$H$3:$H$40,0),5),VLOOKUP(BS30,Horaires!$A$3:$E$60,5,)))","v":0.44791666666666669},null,{"$f":"INDEX(Planning!$22:$22,MATCH('Solde d''heure collaborateur'!$A30,Planning!$3:$3))","v":"X"},{"$f":"VLOOKUP(BW30,Horaires!$A$3:$E$49,2,)","v":"XXX"},{"$f":"IF(BX30=\"vacances\",INDEX(Horaires!$H$3:$L$42,MATCH('Solde d''heure collaborateur'!BX$2,Horaires!$H$3:$H$40,0),4),IF(BX30=\"maladie\",INDEX(Horaires!$H$3:$L$42,MATCH('Solde d''heure collaborateur'!BX$2,Horaires!$H$3:$H$40,0),5),VLOOKUP(BW30,Horaires!$A$3:$E$60,5,)))","v":0},null,{"$f":"INDEX(Planning!$23:$23,MATCH('Solde d''heure collaborateur'!$A30,Planning!$3:$3))","v":"Aca1"},{"$f":"VLOOKUP(CA30,Horaires!$A$3:$E$49,2,)","v":"Acacias"},{"$f":"IF(CB30=\"vacances\",INDEX(Horaires!$H$3:$L$42,MATCH('Solde d''heure collaborateur'!CB$2,Horaires!$H$3:$H$40,0),4),IF(CB30=\"maladie\",INDEX(Horaires!$H$3:$L$42,MATCH('Solde d''heure collaborateur'!CB$2,Horaires!$H$3:$H$40,0),5),VLOOKUP(CA30,Horaires!$A$3:$E$60,5,)))","v":0.44791666666666669},null,{"$f":"INDEX(Planning!$24:$24,MATCH('Solde d''heure collaborateur'!$A30,Planning!$3:$3))","v":"R"},{"$f":"VLOOKUP(CE30,Horaires!$A$3:$E$49,2,)","v":"Congé"},{"$f":"IF(CF30=\"vacances\",INDEX(Horaires!$H$3:$L$42,MATCH('Solde d''heure collaborateur'!CF$2,Horaires!$H$3:$H$40,0),4),IF(CF30=\"maladie\",INDEX(Horaires!$H$3:$L$42,MATCH('Solde d''heure collaborateur'!CF$2,Horaires!$H$3:$H$40,0),5),VLOOKUP(CE30,Horaires!$A$3:$E$60,5,)))","v":0},null,{"$f":"INDEX(Planning!$25:$25,MATCH('Solde d''heure collaborateur'!$A30,Planning!$3:$3))","v":"X"},{"$f":"VLOOKUP(CI30,Horaires!$A$3:$E$49,2,)","v":"XXX"},{"$f":"IF(CJ30=\"vacances\",INDEX(Horaires!$H$3:$L$42,MATCH('Solde d''heure collaborateur'!CJ$2,Horaires!$H$3:$H$40,0),4),IF(CJ30=\"maladie\",INDEX(Horaires!$H$3:$L$42,MATCH('Solde d''heure collaborateur'!CJ$2,Horaires!$H$3:$H$40,0),5),VLOOKUP(CI30,Horaires!$A$3:$E$60,5,)))","v":0},null,{"$f":"INDEX(Planning!$26:$26,MATCH('Solde d''heure collaborateur'!$A30,Planning!$3:$3))","v":"Vid1"},{"$f":"VLOOKUP(CM30,Horaires!$A$3:$E$49,2,)","v":"Vidollet"},{"$f":"IF(CN30=\"vacances\",INDEX(Horaires!$H$3:$L$42,MATCH('Solde d''heure collaborateur'!CN$2,Horaires!$H$3:$H$40,0),4),IF(CN30=\"maladie\",INDEX(Horaires!$H$3:$L$42,MATCH('Solde d''heure collaborateur'!CN$2,Horaires!$H$3:$H$40,0),5),VLOOKUP(CM30,Horaires!$A$3:$E$60,5,)))","v":0.44791666666666669},null,{"$f":"INDEX(Planning!$27:$27,MATCH('Solde d''heure collaborateur'!$A30,Planning!$3:$3))","v":"R"},{"$f":"VLOOKUP(CQ30,Horaires!$A$3:$E$49,2,)","v":"Congé"},{"$f":"IF(CR30=\"vacances\",INDEX(Horaires!$H$3:$L$42,MATCH('Solde d''heure collaborateur'!CR$2,Horaires!$H$3:$H$40,0),4),IF(CR30=\"maladie\",INDEX(Horaires!$H$3:$L$42,MATCH('Solde d''heure collaborateur'!CR$2,Horaires!$H$3:$H$40,0),5),VLOOKUP(CQ30,Horaires!$A$3:$E$60,5,)))","v":0},null,{"$f":"INDEX(Planning!$28:$28,MATCH('Solde d''heure collaborateur'!$A30,Planning!$3:$3))","v":"tour1"},{"$f":"VLOOKUP(CU30,Horaires!$A$3:$E$49,2,)","v":"Tourelle"},{"$f":"IF(CV30=\"vacances\",INDEX(Horaires!$H$3:$L$42,MATCH('Solde d''heure collaborateur'!CV$2,Horaires!$H$3:$H$40,0),4),IF(CV30=\"maladie\",INDEX(Horaires!$H$3:$L$42,MATCH('Solde d''heure collaborateur'!CV$2,Horaires!$H$3:$H$40,0),5),VLOOKUP(CU30,Horaires!$A$3:$E$60,5,)))","v":0.46875000000000006},null,{"$f":"INDEX(Planning!$29:$29,MATCH('Solde d''heure collaborateur'!$A30,Planning!$3:$3))","v":"X"},{"$f":"VLOOKUP(CY30,Horaires!$A$3:$E$49,2,)","v":"XXX"},{"$f":"IF(CZ30=\"vacances\",INDEX(Horaires!$H$3:$L$42,MATCH('Solde d''heure collaborateur'!CZ$2,Horaires!$H$3:$H$40,0),4),IF(CZ30=\"maladie\",INDEX(Horaires!$H$3:$L$42,MATCH('Solde d''heure collaborateur'!CZ$2,Horaires!$H$3:$H$40,0),5),VLOOKUP(CY30,Horaires!$A$3:$E$60,5,)))","v":0},null,{"$f":"INDEX(Planning!$30:$30,MATCH('Solde d''heure collaborateur'!$A30,Planning!$3:$3))","v":"X"},{"$f":"VLOOKUP(DC30,Horaires!$A$3:$E$49,2,)","v":"XXX"},{"$f":"IF(DD30=\"vacances\",INDEX(Horaires!$H$3:$L$42,MATCH('Solde d''heure collaborateur'!DD$2,Horaires!$H$3:$H$40,0),4),IF(DD30=\"maladie\",INDEX(Horaires!$H$3:$L$42,MATCH('Solde d''heure collaborateur'!DD$2,Horaires!$H$3:$H$40,0),5),VLOOKUP(DC30,Horaires!$A$3:$E$60,5,)))","v":0},null,{"$f":"INDEX(Planning!$31:$31,MATCH('Solde d''heure collaborateur'!$A30,Planning!$3:$3))","v":"X"},{"$f":"VLOOKUP(DG30,Horaires!$A$3:$E$49,2,)","v":"XXX"},{"$f":"IF(DH30=\"vacances\",INDEX(Horaires!$H$3:$L$42,MATCH('Solde d''heure collaborateur'!DH$2,Horaires!$H$3:$H$40,0),4),IF(DH30=\"maladie\",INDEX(Horaires!$H$3:$L$42,MATCH('Solde d''heure collaborateur'!DH$2,Horaires!$H$3:$H$40,0),5),VLOOKUP(DG30,Horaires!$A$3:$E$60,5,)))","v":0},null,{"$f":"INDEX(Planning!$32:$32,MATCH('Solde d''heure collaborateur'!$A30,Planning!$3:$3))","v":"X"},{"$f":"VLOOKUP(DK30,Horaires!$A$3:$E$49,2,)","v":"XXX"},{"$f":"IF(DL30=\"vacances\",INDEX(Horaires!$H$3:$L$42,MATCH('Solde d''heure collaborateur'!DL$2,Horaires!$H$3:$H$40,0),4),IF(DL30=\"maladie\",INDEX(Horaires!$H$3:$L$42,MATCH('Solde d''heure collaborateur'!DL$2,Horaires!$H$3:$H$40,0),5),VLOOKUP(DK30,Horaires!$A$3:$E$60,5,)))","v":0},null,{"$f":"INDEX(Planning!$33:$33,MATCH('Solde d''heure collaborateur'!$A30,Planning!$3:$3))","v":"X"},{"$f":"VLOOKUP(DO30,Horaires!$A$3:$E$49,2,)","v":"XXX"},{"$f":"IF(DP30=\"vacances\",INDEX(Horaires!$H$3:$L$42,MATCH('Solde d''heure collaborateur'!DP$2,Horaires!$H$3:$H$40,0),4),IF(DP30=\"maladie\",INDEX(Horaires!$H$3:$L$42,MATCH('Solde d''heure collaborateur'!DP$2,Horaires!$H$3:$H$40,0),5),VLOOKUP(DO30,Horaires!$A$3:$E$60,5,)))","v":0},null,{"$f":"INDEX(Planning!$34:$34,MATCH('Solde d''heure collaborateur'!$A30,Planning!$3:$3))","v":"X"},{"$f":"VLOOKUP(DS30,Horaires!$A$3:$E$49,2,)","v":"XXX"},{"$f":"IF(DT30=\"vacances\",INDEX(Horaires!$H$3:$L$42,MATCH('Solde d''heure collaborateur'!DT$2,Horaires!$H$3:$H$40,0),4),IF(DT30=\"maladie\",INDEX(Horaires!$H$3:$L$42,MATCH('Solde d''heure collaborateur'!DT$2,Horaires!$H$3:$H$40,0),5),VLOOKUP(DS30,Horaires!$A$3:$E$60,5,)))","v":0},null,{"$f":"INDEX(Planning!$35:$35,MATCH('Solde d''heure collaborateur'!$A30,Planning!$3:$3))","v":"X"},{"$f":"VLOOKUP(DW30,Horaires!$A$3:$E$49,2,)","v":"XXX"},{"$f":"IF(DX30=\"vacances\",INDEX(Horaires!$H$3:$L$42,MATCH('Solde d''heure collaborateur'!DX$2,Horaires!$H$3:$H$40,0),4),IF(DX30=\"maladie\",INDEX(Horaires!$H$3:$L$42,MATCH('Solde d''heure collaborateur'!DX$2,Horaires!$H$3:$H$40,0),5),VLOOKUP(DW30,Horaires!$A$3:$E$60,5,)))","v":0}]
[{"$f":"A30+1","v":"2013-11-28"},null,{"$f":"INDEX(Planning!$4:$4,MATCH('Solde d''heure collaborateur'!A31,Planning!$3:$3,0))","v":"Nav2"},{"$f":"VLOOKUP(C31,Horaires!$A$3:$E$49,2,)","v":"Navigation"},{"$f":"IF(D31=\"vacances\",INDEX(Horaires!$H$3:$L$42,MATCH('Solde d''heure collaborateur'!D$2,Horaires!$H$3:$H$40,0),4),IF(D31=\"maladie\",INDEX(Horaires!$H$3:$L$42,MATCH('Solde d''heure collaborateur'!D$2,Horaires!$H$3:$H$40,0),5),VLOOKUP(C31,Horaires!$A$3:$E$60,5,)))","v":0.46874999999999994},null,{"$f":"INDEX(Planning!$5:$5,MATCH('Solde d''heure collaborateur'!A31,Planning!$3:$3))","v":"Pom2"},{"$f":"VLOOKUP(G31,Horaires!$A$3:$E$49,2,)","v":"Pommier"},{"$f":"IF(H31=\"vacances\",INDEX(Horaires!$H$3:$L$42,MATCH('Solde d''heure collaborateur'!H$2,Horaires!$H$3:$H$40,0),4),IF(H31=\"maladie\",INDEX(Horaires!$H$3:$L$42,MATCH('Solde d''heure collaborateur'!H$2,Horaires!$H$3:$H$40,0),5),VLOOKUP(G31,Horaires!$A$3:$E$60,5,)))","v":0.46874999999999994},null,{"$f":"INDEX(Planning!$6:$6,MATCH('Solde d''heure collaborateur'!A31,Planning!$3:$3))","v":"M"},{"$f":"VLOOKUP(K31,Horaires!$A$3:$E$49,2,)","v":"Maladie"},{"$f":"IF(L31=\"vacances\",INDEX(Horaires!$H$3:$L$42,MATCH('Solde d''heure collaborateur'!L$2,Horaires!$H$3:$H$40,0),4),IF(L31=\"maladie\",INDEX(Horaires!$H$3:$L$42,MATCH('Solde d''heure collaborateur'!L$2,Horaires!$H$3:$H$40,0),5),VLOOKUP(K31,Horaires!$A$3:$E$60,5,)))","v":0.4375},null,{"$f":"INDEX(Planning!$7:$7,MATCH('Solde d''heure collaborateur'!$A31,Planning!$3:$3))","v":"X"},{"$f":"VLOOKUP(O31,Horaires!$A$3:$E$49,2,)","v":"XXX"},{"$f":"IF(P31=\"vacances\",INDEX(Horaires!$H$3:$L$42,MATCH('Solde d''heure collaborateur'!P$2,Horaires!$H$3:$H$40,0),4),IF(P31=\"maladie\",INDEX(Horaires!$H$3:$L$42,MATCH('Solde d''heure collaborateur'!P$2,Horaires!$H$3:$H$40,0),5),VLOOKUP(O31,Horaires!$A$3:$E$60,5,)))","v":0},null,{"$f":"INDEX(Planning!$8:$8,MATCH('Solde d''heure collaborateur'!$A31,Planning!$3:$3))","v":"Onex2"},{"$f":"VLOOKUP(S31,Horaires!$A$3:$E$49,2,)","v":"Onex"},{"$f":"IF(T31=\"vacances\",INDEX(Horaires!$H$3:$L$42,MATCH('Solde d''heure collaborateur'!T$2,Horaires!$H$3:$H$40,0),4),IF(T31=\"maladie\",INDEX(Horaires!$H$3:$L$42,MATCH('Solde d''heure collaborateur'!T$2,Horaires!$H$3:$H$40,0),5),VLOOKUP(S31,Horaires!$A$3:$E$60,5,)))","v":0.48958333333333331},null,{"$f":"INDEX(Planning!$9:$9,MATCH('Solde d''heure collaborateur'!$A31,Planning!$3:$3))","v":"X"},{"$f":"VLOOKUP(W31,Horaires!$A$3:$E$49,2,)","v":"XXX"},{"$f":"IF(X31=\"vacances\",INDEX(Horaires!$H$3:$L$42,MATCH('Solde d''heure collaborateur'!X$2,Horaires!$H$3:$H$40,0),4),IF(X31=\"maladie\",INDEX(Horaires!$H$3:$L$42,MATCH('Solde d''heure collaborateur'!X$2,Horaires!$H$3:$H$40,0),5),VLOOKUP(W31,Horaires!$A$3:$E$60,5,)))","v":0},null,{"$f":"INDEX(Planning!$10:$10,MATCH('Solde d''heure collaborateur'!$A31,Planning!$3:$3))","v":"onex2"},{"$f":"VLOOKUP(AA31,Horaires!$A$3:$E$49,2,)","v":"Onex"},{"$f":"IF(AB31=\"vacances\",INDEX(Horaires!$H$3:$L$42,MATCH('Solde d''heure collaborateur'!AB$2,Horaires!$H$3:$H$40,0),4),IF(AB31=\"maladie\",INDEX(Horaires!$H$3:$L$42,MATCH('Solde d''heure collaborateur'!AB$2,Horaires!$H$3:$H$40,0),5),VLOOKUP(AA31,Horaires!$A$3:$E$60,5,)))","v":0.48958333333333331},null,{"$f":"INDEX(Planning!$11:$11,MATCH('Solde d''heure collaborateur'!$A31,Planning!$3:$3))","v":"R"},{"$f":"VLOOKUP(AE31,Horaires!$A$3:$E$49,2,)","v":"Congé"},{"$f":"IF(AF31=\"vacances\",INDEX(Horaires!$H$3:$L$42,MATCH('Solde d''heure collaborateur'!AF$2,Horaires!$H$3:$H$40,0),4),IF(AF31=\"maladie\",INDEX(Horaires!$H$3:$L$42,MATCH('Solde d''heure collaborateur'!AF$2,Horaires!$H$3:$H$40,0),5),VLOOKUP(AE31,Horaires!$A$3:$E$60,5,)))","v":0},null,{"$f":"INDEX(Planning!$12:$12,MATCH('Solde d''heure collaborateur'!$A31,Planning!$3:$3))","v":"Thon2"},{"$f":"VLOOKUP(AI31,Horaires!$A$3:$E$49,2,)","v":"Thonex"},{"$f":"IF(AJ31=\"vacances\",INDEX(Horaires!$H$3:$L$42,MATCH('Solde d''heure collaborateur'!AJ$2,Horaires!$H$3:$H$40,0),4),IF(AJ31=\"maladie\",INDEX(Horaires!$H$3:$L$42,MATCH('Solde d''heure collaborateur'!AJ$2,Horaires!$H$3:$H$40,0),5),VLOOKUP(AI31,Horaires!$A$3:$E$60,5,)))","v":0.46874999999999994},null,{"$f":"INDEX(Planning!$13:$13,MATCH('Solde d''heure collaborateur'!$A31,Planning!$3:$3))","v":"Nyon1"},{"$f":"VLOOKUP(AM31,Horaires!$A$3:$E$49,2,)","v":"Nyon"},{"$f":"IF(AN31=\"vacances\",INDEX(Horaires!$H$3:$L$42,MATCH('Solde d''heure collaborateur'!AN$2,Horaires!$H$3:$H$40,0),4),IF(AN31=\"maladie\",INDEX(Horaires!$H$3:$L$42,MATCH('Solde d''heure collaborateur'!AN$2,Horaires!$H$3:$H$40,0),5),VLOOKUP(AM31,Horaires!$A$3:$E$60,5,)))","v":0.44791666666666669},null,{"$f":"INDEX(Planning!$14:$14,MATCH('Solde d''heure collaborateur'!$A31,Planning!$3:$3))","v":"X"},{"$f":"VLOOKUP(AQ31,Horaires!$A$3:$E$49,2,)","v":"XXX"},{"$f":"IF(AR31=\"vacances\",INDEX(Horaires!$H$3:$L$42,MATCH('Solde d''heure collaborateur'!AR$2,Horaires!$H$3:$H$40,0),4),IF(AR31=\"maladie\",INDEX(Horaires!$H$3:$L$42,MATCH('Solde d''heure collaborateur'!AR$2,Horaires!$H$3:$H$40,0),5),VLOOKUP(AQ31,Horaires!$A$3:$E$60,5,)))","v":0},null,{"$f":"INDEX(Planning!$15:$15,MATCH('Solde d''heure collaborateur'!$A31,Planning!$3:$3))","v":"R"},{"$f":"VLOOKUP(AU31,Horaires!$A$3:$E$49,2,)","v":"Congé"},{"$f":"IF(AV31=\"vacances\",INDEX(Horaires!$H$3:$L$42,MATCH('Solde d''heure collaborateur'!AV$2,Horaires!$H$3:$H$40,0),4),IF(AV31=\"maladie\",INDEX(Horaires!$H$3:$L$42,MATCH('Solde d''heure collaborateur'!AV$2,Horaires!$H$3:$H$40,0),5),VLOOKUP(AU31,Horaires!$A$3:$E$60,5,)))","v":0},null,{"$f":"INDEX(Planning!$16:$16,MATCH('Solde d''heure collaborateur'!$A31,Planning!$3:$3))","v":"recup"},{"$f":"VLOOKUP(AY31,Horaires!$A$3:$E$49,2,)","v":"Récupération"},{"$f":"IF(AZ31=\"vacances\",INDEX(Horaires!$H$3:$L$42,MATCH('Solde d''heure collaborateur'!AZ$2,Horaires!$H$3:$H$40,0),4),IF(AZ31=\"maladie\",INDEX(Horaires!$H$3:$L$42,MATCH('Solde d''heure collaborateur'!AZ$2,Horaires!$H$3:$H$40,0),5),VLOOKUP(AY31,Horaires!$A$3:$E$60,5,)))","v":0},null,{"$f":"INDEX(Planning!$17:$17,MATCH('Solde d''heure collaborateur'!$A31,Planning!$3:$3))","v":"R"},{"$f":"VLOOKUP(BC31,Horaires!$A$3:$E$49,2,)","v":"Congé"},{"$f":"IF(BD31=\"vacances\",INDEX(Horaires!$H$3:$L$42,MATCH('Solde d''heure collaborateur'!BD$2,Horaires!$H$3:$H$40,0),4),IF(BD31=\"maladie\",INDEX(Horaires!$H$3:$L$42,MATCH('Solde d''heure collaborateur'!BD$2,Horaires!$H$3:$H$40,0),5),VLOOKUP(BC31,Horaires!$A$3:$E$60,5,)))","v":0},null,{"$f":"INDEX(Planning!$18:$18,MATCH('Solde d''heure collaborateur'!$A31,Planning!$3:$3))","v":"vibferm"},{"$f":"VLOOKUP(BG31,Horaires!$A$3:$E$49,2,)","v":"Vibert ferm"},{"$f":"IF(BH31=\"vacances\",INDEX(Horaires!$H$3:$L$42,MATCH('Solde d''heure collaborateur'!BH$2,Horaires!$H$3:$H$40,0),4),IF(BH31=\"maladie\",INDEX(Horaires!$H$3:$L$42,MATCH('Solde d''heure collaborateur'!BH$2,Horaires!$H$3:$H$40,0),5),VLOOKUP(BG31,Horaires!$A$3:$E$60,5,)))","v":0.42708333333333331},null,{"$f":"INDEX(Planning!$19:$19,MATCH('Solde d''heure collaborateur'!$A31,Planning!$3:$3))","v":"Vibjeu"},{"$f":"VLOOKUP(BK31,Horaires!$A$3:$E$49,2,)","v":"Vibert"},{"$f":"IF(BL31=\"vacances\",INDEX(Horaires!$H$3:$L$42,MATCH('Solde d''heure collaborateur'!BL$2,Horaires!$H$3:$H$40,0),4),IF(BL31=\"maladie\",INDEX(Horaires!$H$3:$L$42,MATCH('Solde d''heure collaborateur'!BL$2,Horaires!$H$3:$H$40,0),5),VLOOKUP(BK31,Horaires!$A$3:$E$60,5,)))","v":0.45833333333333331},null,{"$f":"INDEX(Planning!$20:$20,MATCH('Solde d''heure collaborateur'!$A31,Planning!$3:$3))","v":"Aca2"},{"$f":"VLOOKUP(BO31,Horaires!$A$3:$E$49,2,)","v":"Acacias"},{"$f":"IF(BP31=\"vacances\",INDEX(Horaires!$H$3:$L$42,MATCH('Solde d''heure collaborateur'!BP$2,Horaires!$H$3:$H$40,0),4),IF(BP31=\"maladie\",INDEX(Horaires!$H$3:$L$42,MATCH('Solde d''heure collaborateur'!BP$2,Horaires!$H$3:$H$40,0),5),VLOOKUP(BO31,Horaires!$A$3:$E$60,5,)))","v":0.46874999999999994},null,{"$f":"INDEX(Planning!$21:$21,MATCH('Solde d''heure collaborateur'!$A31,Planning!$3:$3))","v":"Ves2"},{"$f":"VLOOKUP(BS31,Horaires!$A$3:$E$49,2,)","v":"Vesenaz"},{"$f":"IF(BT31=\"vacances\",INDEX(Horaires!$H$3:$L$42,MATCH('Solde d''heure collaborateur'!BT$2,Horaires!$H$3:$H$40,0),4),IF(BT31=\"maladie\",INDEX(Horaires!$H$3:$L$42,MATCH('Solde d''heure collaborateur'!BT$2,Horaires!$H$3:$H$40,0),5),VLOOKUP(BS31,Horaires!$A$3:$E$60,5,)))","v":0.46874999999999994},null,{"$f":"INDEX(Planning!$22:$22,MATCH('Solde d''heure collaborateur'!$A31,Planning!$3:$3))","v":"X"},{"$f":"VLOOKUP(BW31,Horaires!$A$3:$E$49,2,)","v":"XXX"},{"$f":"IF(BX31=\"vacances\",INDEX(Horaires!$H$3:$L$42,MATCH('Solde d''heure collaborateur'!BX$2,Horaires!$H$3:$H$40,0),4),IF(BX31=\"maladie\",INDEX(Horaires!$H$3:$L$42,MATCH('Solde d''heure collaborateur'!BX$2,Horaires!$H$3:$H$40,0),5),VLOOKUP(BW31,Horaires!$A$3:$E$60,5,)))","v":0},null,{"$f":"INDEX(Planning!$23:$23,MATCH('Solde d''heure collaborateur'!$A31,Planning!$3:$3))","v":"Plo2"},{"$f":"VLOOKUP(CA31,Horaires!$A$3:$E$49,2,)","v":"Plan les Ouates"},{"$f":"IF(CB31=\"vacances\",INDEX(Horaires!$H$3:$L$42,MATCH('Solde d''heure collaborateur'!CB$2,Horaires!$H$3:$H$40,0),4),IF(CB31=\"maladie\",INDEX(Horaires!$H$3:$L$42,MATCH('Solde d''heure collaborateur'!CB$2,Horaires!$H$3:$H$40,0),5),VLOOKUP(CA31,Horaires!$A$3:$E$60,5,)))","v":0.48958333333333331},null,{"$f":"INDEX(Planning!$24:$24,MATCH('Solde d''heure collaborateur'!$A31,Planning!$3:$3))","v":"R"},{"$f":"VLOOKUP(CE31,Horaires!$A$3:$E$49,2,)","v":"Congé"},{"$f":"IF(CF31=\"vacances\",INDEX(Horaires!$H$3:$L$42,MATCH('Solde d''heure collaborateur'!CF$2,Horaires!$H$3:$H$40,0),4),IF(CF31=\"maladie\",INDEX(Horaires!$H$3:$L$42,MATCH('Solde d''heure collaborateur'!CF$2,Horaires!$H$3:$H$40,0),5),VLOOKUP(CE31,Horaires!$A$3:$E$60,5,)))","v":0},null,{"$f":"INDEX(Planning!$25:$25,MATCH('Solde d''heure collaborateur'!$A31,Planning!$3:$3))","v":"X"},{"$f":"VLOOKUP(CI31,Horaires!$A$3:$E$49,2,)","v":"XXX"},{"$f":"IF(CJ31=\"vacances\",INDEX(Horaires!$H$3:$L$42,MATCH('Solde d''heure collaborateur'!CJ$2,Horaires!$H$3:$H$40,0),4),IF(CJ31=\"maladie\",INDEX(Horaires!$H$3:$L$42,MATCH('Solde d''heure collaborateur'!CJ$2,Horaires!$H$3:$H$40,0),5),VLOOKUP(CI31,Horaires!$A$3:$E$60,5,)))","v":0},null,{"$f":"INDEX(Planning!$26:$26,MATCH('Solde d''heure collaborateur'!$A31,Planning!$3:$3))","v":"Vid2"},{"$f":"VLOOKUP(CM31,Horaires!$A$3:$E$49,2,)","v":"Vidollet"},{"$f":"IF(CN31=\"vacances\",INDEX(Horaires!$H$3:$L$42,MATCH('Solde d''heure collaborateur'!CN$2,Horaires!$H$3:$H$40,0),4),IF(CN31=\"maladie\",INDEX(Horaires!$H$3:$L$42,MATCH('Solde d''heure collaborateur'!CN$2,Horaires!$H$3:$H$40,0),5),VLOOKUP(CM31,Horaires!$A$3:$E$60,5,)))","v":0.46874999999999994},null,{"$f":"INDEX(Planning!$27:$27,MATCH('Solde d''heure collaborateur'!$A31,Planning!$3:$3))","v":"R"},{"$f":"VLOOKUP(CQ31,Horaires!$A$3:$E$49,2,)","v":"Congé"},{"$f":"IF(CR31=\"vacances\",INDEX(Horaires!$H$3:$L$42,MATCH('Solde d''heure collaborateur'!CR$2,Horaires!$H$3:$H$40,0),4),IF(CR31=\"maladie\",INDEX(Horaires!$H$3:$L$42,MATCH('Solde d''heure collaborateur'!CR$2,Horaires!$H$3:$H$40,0),5),VLOOKUP(CQ31,Horaires!$A$3:$E$60,5,)))","v":0},null,{"$f":"INDEX(Planning!$28:$28,MATCH('Solde d''heure collaborateur'!$A31,Planning!$3:$3))","v":"tour2"},{"$f":"VLOOKUP(CU31,Horaires!$A$3:$E$49,2,)","v":"Tourelle"},{"$f":"IF(CV31=\"vacances\",INDEX(Horaires!$H$3:$L$42,MATCH('Solde d''heure collaborateur'!CV$2,Horaires!$H$3:$H$40,0),4),IF(CV31=\"maladie\",INDEX(Horaires!$H$3:$L$42,MATCH('Solde d''heure collaborateur'!CV$2,Horaires!$H$3:$H$40,0),5),VLOOKUP(CU31,Horaires!$A$3:$E$60,5,)))","v":0.48958333333333331},null,{"$f":"INDEX(Planning!$29:$29,MATCH('Solde d''heure collaborateur'!$A31,Planning!$3:$3))","v":"X"},{"$f":"VLOOKUP(CY31,Horaires!$A$3:$E$49,2,)","v":"XXX"},{"$f":"IF(CZ31=\"vacances\",INDEX(Horaires!$H$3:$L$42,MATCH('Solde d''heure collaborateur'!CZ$2,Horaires!$H$3:$H$40,0),4),IF(CZ31=\"maladie\",INDEX(Horaires!$H$3:$L$42,MATCH('Solde d''heure collaborateur'!CZ$2,Horaires!$H$3:$H$40,0),5),VLOOKUP(CY31,Horaires!$A$3:$E$60,5,)))","v":0},null,{"$f":"INDEX(Planning!$30:$30,MATCH('Solde d''heure collaborateur'!$A31,Planning!$3:$3))","v":"X"},{"$f":"VLOOKUP(DC31,Horaires!$A$3:$E$49,2,)","v":"XXX"},{"$f":"IF(DD31=\"vacances\",INDEX(Horaires!$H$3:$L$42,MATCH('Solde d''heure collaborateur'!DD$2,Horaires!$H$3:$H$40,0),4),IF(DD31=\"maladie\",INDEX(Horaires!$H$3:$L$42,MATCH('Solde d''heure collaborateur'!DD$2,Horaires!$H$3:$H$40,0),5),VLOOKUP(DC31,Horaires!$A$3:$E$60,5,)))","v":0},null,{"$f":"INDEX(Planning!$31:$31,MATCH('Solde d''heure collaborateur'!$A31,Planning!$3:$3))","v":"X"},{"$f":"VLOOKUP(DG31,Horaires!$A$3:$E$49,2,)","v":"XXX"},{"$f":"IF(DH31=\"vacances\",INDEX(Horaires!$H$3:$L$42,MATCH('Solde d''heure collaborateur'!DH$2,Horaires!$H$3:$H$40,0),4),IF(DH31=\"maladie\",INDEX(Horaires!$H$3:$L$42,MATCH('Solde d''heure collaborateur'!DH$2,Horaires!$H$3:$H$40,0),5),VLOOKUP(DG31,Horaires!$A$3:$E$60,5,)))","v":0},null,{"$f":"INDEX(Planning!$32:$32,MATCH('Solde d''heure collaborateur'!$A31,Planning!$3:$3))","v":"X"},{"$f":"VLOOKUP(DK31,Horaires!$A$3:$E$49,2,)","v":"XXX"},{"$f":"IF(DL31=\"vacances\",INDEX(Horaires!$H$3:$L$42,MATCH('Solde d''heure collaborateur'!DL$2,Horaires!$H$3:$H$40,0),4),IF(DL31=\"maladie\",INDEX(Horaires!$H$3:$L$42,MATCH('Solde d''heure collaborateur'!DL$2,Horaires!$H$3:$H$40,0),5),VLOOKUP(DK31,Horaires!$A$3:$E$60,5,)))","v":0},null,{"$f":"INDEX(Planning!$33:$33,MATCH('Solde d''heure collaborateur'!$A31,Planning!$3:$3))","v":"X"},{"$f":"VLOOKUP(DO31,Horaires!$A$3:$E$49,2,)","v":"XXX"},{"$f":"IF(DP31=\"vacances\",INDEX(Horaires!$H$3:$L$42,MATCH('Solde d''heure collaborateur'!DP$2,Horaires!$H$3:$H$40,0),4),IF(DP31=\"maladie\",INDEX(Horaires!$H$3:$L$42,MATCH('Solde d''heure collaborateur'!DP$2,Horaires!$H$3:$H$40,0),5),VLOOKUP(DO31,Horaires!$A$3:$E$60,5,)))","v":0},null,{"$f":"INDEX(Planning!$34:$34,MATCH('Solde d''heure collaborateur'!$A31,Planning!$3:$3))","v":"X"},{"$f":"VLOOKUP(DS31,Horaires!$A$3:$E$49,2,)","v":"XXX"},{"$f":"IF(DT31=\"vacances\",INDEX(Horaires!$H$3:$L$42,MATCH('Solde d''heure collaborateur'!DT$2,Horaires!$H$3:$H$40,0),4),IF(DT31=\"maladie\",INDEX(Horaires!$H$3:$L$42,MATCH('Solde d''heure collaborateur'!DT$2,Horaires!$H$3:$H$40,0),5),VLOOKUP(DS31,Horaires!$A$3:$E$60,5,)))","v":0},null,{"$f":"INDEX(Planning!$35:$35,MATCH('Solde d''heure collaborateur'!$A31,Planning!$3:$3))","v":"X"},{"$f":"VLOOKUP(DW31,Horaires!$A$3:$E$49,2,)","v":"XXX"},{"$f":"IF(DX31=\"vacances\",INDEX(Horaires!$H$3:$L$42,MATCH('Solde d''heure collaborateur'!DX$2,Horaires!$H$3:$H$40,0),4),IF(DX31=\"maladie\",INDEX(Horaires!$H$3:$L$42,MATCH('Solde d''heure collaborateur'!DX$2,Horaires!$H$3:$H$40,0),5),VLOOKUP(DW31,Horaires!$A$3:$E$60,5,)))","v":0}]
[{"$f":"A31+1","v":"2013-11-29"},null,{"$f":"INDEX(Planning!$4:$4,MATCH('Solde d''heure collaborateur'!A32,Planning!$3:$3,0))","v":"R"},{"$f":"VLOOKUP(C32,Horaires!$A$3:$E$49,2,)","v":"Congé"},{"$f":"IF(D32=\"vacances\",INDEX(Horaires!$H$3:$L$42,MATCH('Solde d''heure collaborateur'!D$2,Horaires!$H$3:$H$40,0),4),IF(D32=\"maladie\",INDEX(Horaires!$H$3:$L$42,MATCH('Solde d''heure collaborateur'!D$2,Horaires!$H$3:$H$40,0),5),VLOOKUP(C32,Horaires!$A$3:$E$60,5,)))","v":0},null,{"$f":"INDEX(Planning!$5:$5,MATCH('Solde d''heure collaborateur'!A32,Planning!$3:$3))","v":"recup"},{"$f":"VLOOKUP(G32,Horaires!$A$3:$E$49,2,)","v":"Récupération"},{"$f":"IF(H32=\"vacances\",INDEX(Horaires!$H$3:$L$42,MATCH('Solde d''heure collaborateur'!H$2,Horaires!$H$3:$H$40,0),4),IF(H32=\"maladie\",INDEX(Horaires!$H$3:$L$42,MATCH('Solde d''heure collaborateur'!H$2,Horaires!$H$3:$H$40,0),5),VLOOKUP(G32,Horaires!$A$3:$E$60,5,)))","v":0},null,{"$f":"INDEX(Planning!$6:$6,MATCH('Solde d''heure collaborateur'!A32,Planning!$3:$3))","v":"R"},{"$f":"VLOOKUP(K32,Horaires!$A$3:$E$49,2,)","v":"Congé"},{"$f":"IF(L32=\"vacances\",INDEX(Horaires!$H$3:$L$42,MATCH('Solde d''heure collaborateur'!L$2,Horaires!$H$3:$H$40,0),4),IF(L32=\"maladie\",INDEX(Horaires!$H$3:$L$42,MATCH('Solde d''heure collaborateur'!L$2,Horaires!$H$3:$H$40,0),5),VLOOKUP(K32,Horaires!$A$3:$E$60,5,)))","v":0},null,{"$f":"INDEX(Planning!$7:$7,MATCH('Solde d''heure collaborateur'!$A32,Planning!$3:$3))","v":"X"},{"$f":"VLOOKUP(O32,Horaires!$A$3:$E$49,2,)","v":"XXX"},{"$f":"IF(P32=\"vacances\",INDEX(Horaires!$H$3:$L$42,MATCH('Solde d''heure collaborateur'!P$2,Horaires!$H$3:$H$40,0),4),IF(P32=\"maladie\",INDEX(Horaires!$H$3:$L$42,MATCH('Solde d''heure collaborateur'!P$2,Horaires!$H$3:$H$40,0),5),VLOOKUP(O32,Horaires!$A$3:$E$60,5,)))","v":0},null,{"$f":"INDEX(Planning!$8:$8,MATCH('Solde d''heure collaborateur'!$A32,Planning!$3:$3))","v":"R"},{"$f":"VLOOKUP(S32,Horaires!$A$3:$E$49,2,)","v":"Congé"},{"$f":"IF(T32=\"vacances\",INDEX(Horaires!$H$3:$L$42,MATCH('Solde d''heure collaborateur'!T$2,Horaires!$H$3:$H$40,0),4),IF(T32=\"maladie\",INDEX(Horaires!$H$3:$L$42,MATCH('Solde d''heure collaborateur'!T$2,Horaires!$H$3:$H$40,0),5),VLOOKUP(S32,Horaires!$A$3:$E$60,5,)))","v":0},null,{"$f":"INDEX(Planning!$9:$9,MATCH('Solde d''heure collaborateur'!$A32,Planning!$3:$3))","v":"X"},{"$f":"VLOOKUP(W32,Horaires!$A$3:$E$49,2,)","v":"XXX"},{"$f":"IF(X32=\"vacances\",INDEX(Horaires!$H$3:$L$42,MATCH('Solde d''heure collaborateur'!X$2,Horaires!$H$3:$H$40,0),4),IF(X32=\"maladie\",INDEX(Horaires!$H$3:$L$42,MATCH('Solde d''heure collaborateur'!X$2,Horaires!$H$3:$H$40,0),5),VLOOKUP(W32,Horaires!$A$3:$E$60,5,)))","v":0},null,{"$f":"INDEX(Planning!$10:$10,MATCH('Solde d''heure collaborateur'!$A32,Planning!$3:$3))","v":"onex2"},{"$f":"VLOOKUP(AA32,Horaires!$A$3:$E$49,2,)","v":"Onex"},{"$f":"IF(AB32=\"vacances\",INDEX(Horaires!$H$3:$L$42,MATCH('Solde d''heure collaborateur'!AB$2,Horaires!$H$3:$H$40,0),4),IF(AB32=\"maladie\",INDEX(Horaires!$H$3:$L$42,MATCH('Solde d''heure collaborateur'!AB$2,Horaires!$H$3:$H$40,0),5),VLOOKUP(AA32,Horaires!$A$3:$E$60,5,)))","v":0.48958333333333331},null,{"$f":"INDEX(Planning!$11:$11,MATCH('Solde d''heure collaborateur'!$A32,Planning!$3:$3))","v":"Plo2"},{"$f":"VLOOKUP(AE32,Horaires!$A$3:$E$49,2,)","v":"Plan les Ouates"},{"$f":"IF(AF32=\"vacances\",INDEX(Horaires!$H$3:$L$42,MATCH('Solde d''heure collaborateur'!AF$2,Horaires!$H$3:$H$40,0),4),IF(AF32=\"maladie\",INDEX(Horaires!$H$3:$L$42,MATCH('Solde d''heure collaborateur'!AF$2,Horaires!$H$3:$H$40,0),5),VLOOKUP(AE32,Horaires!$A$3:$E$60,5,)))","v":0.48958333333333331},null,{"$f":"INDEX(Planning!$12:$12,MATCH('Solde d''heure collaborateur'!$A32,Planning!$3:$3))","v":"R"},{"$f":"VLOOKUP(AI32,Horaires!$A$3:$E$49,2,)","v":"Congé"},{"$f":"IF(AJ32=\"vacances\",INDEX(Horaires!$H$3:$L$42,MATCH('Solde d''heure collaborateur'!AJ$2,Horaires!$H$3:$H$40,0),4),IF(AJ32=\"maladie\",INDEX(Horaires!$H$3:$L$42,MATCH('Solde d''heure collaborateur'!AJ$2,Horaires!$H$3:$H$40,0),5),VLOOKUP(AI32,Horaires!$A$3:$E$60,5,)))","v":0},null,{"$f":"INDEX(Planning!$13:$13,MATCH('Solde d''heure collaborateur'!$A32,Planning!$3:$3))","v":"pom2"},{"$f":"VLOOKUP(AM32,Horaires!$A$3:$E$49,2,)","v":"Pommier"},{"$f":"IF(AN32=\"vacances\",INDEX(Horaires!$H$3:$L$42,MATCH('Solde d''heure collaborateur'!AN$2,Horaires!$H$3:$H$40,0),4),IF(AN32=\"maladie\",INDEX(Horaires!$H$3:$L$42,MATCH('Solde d''heure collaborateur'!AN$2,Horaires!$H$3:$H$40,0),5),VLOOKUP(AM32,Horaires!$A$3:$E$60,5,)))","v":0.46874999999999994},null,{"$f":"INDEX(Planning!$14:$14,MATCH('Solde d''heure collaborateur'!$A32,Planning!$3:$3))","v":"M"},{"$f":"VLOOKUP(AQ32,Horaires!$A$3:$E$49,2,)","v":"Maladie"},{"$f":"IF(AR32=\"vacances\",INDEX(Horaires!$H$3:$L$42,MATCH('Solde d''heure collaborateur'!AR$2,Horaires!$H$3:$H$40,0),4),IF(AR32=\"maladie\",INDEX(Horaires!$H$3:$L$42,MATCH('Solde d''heure collaborateur'!AR$2,Horaires!$H$3:$H$40,0),5),VLOOKUP(AQ32,Horaires!$A$3:$E$60,5,)))","v":0.46180555555555558},null,{"$f":"INDEX(Planning!$15:$15,MATCH('Solde d''heure collaborateur'!$A32,Planning!$3:$3))","v":"Nyon1"},{"$f":"VLOOKUP(AU32,Horaires!$A$3:$E$49,2,)","v":"Nyon"},{"$f":"IF(AV32=\"vacances\",INDEX(Horaires!$H$3:$L$42,MATCH('Solde d''heure collaborateur'!AV$2,Horaires!$H$3:$H$40,0),4),IF(AV32=\"maladie\",INDEX(Horaires!$H$3:$L$42,MATCH('Solde d''heure collaborateur'!AV$2,Horaires!$H$3:$H$40,0),5),VLOOKUP(AU32,Horaires!$A$3:$E$60,5,)))","v":0.44791666666666669},null,{"$f":"INDEX(Planning!$16:$16,MATCH('Solde d''heure collaborateur'!$A32,Planning!$3:$3))","v":"R"},{"$f":"VLOOKUP(AY32,Horaires!$A$3:$E$49,2,)","v":"Congé"},{"$f":"IF(AZ32=\"vacances\",INDEX(Horaires!$H$3:$L$42,MATCH('Solde d''heure collaborateur'!AZ$2,Horaires!$H$3:$H$40,0),4),IF(AZ32=\"maladie\",INDEX(Horaires!$H$3:$L$42,MATCH('Solde d''heure collaborateur'!AZ$2,Horaires!$H$3:$H$40,0),5),VLOOKUP(AY32,Horaires!$A$3:$E$60,5,)))","v":0},null,{"$f":"INDEX(Planning!$17:$17,MATCH('Solde d''heure collaborateur'!$A32,Planning!$3:$3))","v":"nav2"},{"$f":"VLOOKUP(BC32,Horaires!$A$3:$E$49,2,)","v":"Navigation"},{"$f":"IF(BD32=\"vacances\",INDEX(Horaires!$H$3:$L$42,MATCH('Solde d''heure collaborateur'!BD$2,Horaires!$H$3:$H$40,0),4),IF(BD32=\"maladie\",INDEX(Horaires!$H$3:$L$42,MATCH('Solde d''heure collaborateur'!BD$2,Horaires!$H$3:$H$40,0),5),VLOOKUP(BC32,Horaires!$A$3:$E$60,5,)))","v":0.46874999999999994},null,{"$f":"INDEX(Planning!$18:$18,MATCH('Solde d''heure collaborateur'!$A32,Planning!$3:$3))","v":"vib2"},{"$f":"VLOOKUP(BG32,Horaires!$A$3:$E$49,2,)","v":"Vibert"},{"$f":"IF(BH32=\"vacances\",INDEX(Horaires!$H$3:$L$42,MATCH('Solde d''heure collaborateur'!BH$2,Horaires!$H$3:$H$40,0),4),IF(BH32=\"maladie\",INDEX(Horaires!$H$3:$L$42,MATCH('Solde d''heure collaborateur'!BH$2,Horaires!$H$3:$H$40,0),5),VLOOKUP(BG32,Horaires!$A$3:$E$60,5,)))","v":0.48958333333333331},null,{"$f":"INDEX(Planning!$19:$19,MATCH('Solde d''heure collaborateur'!$A32,Planning!$3:$3))","v":"Vib2"},{"$f":"VLOOKUP(BK32,Horaires!$A$3:$E$49,2,)","v":"Vibert"},{"$f":"IF(BL32=\"vacances\",INDEX(Horaires!$H$3:$L$42,MATCH('Solde d''heure collaborateur'!BL$2,Horaires!$H$3:$H$40,0),4),IF(BL32=\"maladie\",INDEX(Horaires!$H$3:$L$42,MATCH('Solde d''heure collaborateur'!BL$2,Horaires!$H$3:$H$40,0),5),VLOOKUP(BK32,Horaires!$A$3:$E$60,5,)))","v":0.48958333333333331},null,{"$f":"INDEX(Planning!$20:$20,MATCH('Solde d''heure collaborateur'!$A32,Planning!$3:$3))","v":"Aca2"},{"$f":"VLOOKUP(BO32,Horaires!$A$3:$E$49,2,)","v":"Acacias"},{"$f":"IF(BP32=\"vacances\",INDEX(Horaires!$H$3:$L$42,MATCH('Solde d''heure collaborateur'!BP$2,Horaires!$H$3:$H$40,0),4),IF(BP32=\"maladie\",INDEX(Horaires!$H$3:$L$42,MATCH('Solde d''heure collaborateur'!BP$2,Horaires!$H$3:$H$40,0),5),VLOOKUP(BO32,Horaires!$A$3:$E$60,5,)))","v":0.46874999999999994},null,{"$f":"INDEX(Planning!$21:$21,MATCH('Solde d''heure collaborateur'!$A32,Planning!$3:$3))","v":"Ves2"},{"$f":"VLOOKUP(BS32,Horaires!$A$3:$E$49,2,)","v":"Vesenaz"},{"$f":"IF(BT32=\"vacances\",INDEX(Horaires!$H$3:$L$42,MATCH('Solde d''heure collaborateur'!BT$2,Horaires!$H$3:$H$40,0),4),IF(BT32=\"maladie\",INDEX(Horaires!$H$3:$L$42,MATCH('Solde d''heure collaborateur'!BT$2,Horaires!$H$3:$H$40,0),5),VLOOKUP(BS32,Horaires!$A$3:$E$60,5,)))","v":0.46874999999999994},null,{"$f":"INDEX(Planning!$22:$22,MATCH('Solde d''heure collaborateur'!$A32,Planning!$3:$3))","v":"X"},{"$f":"VLOOKUP(BW32,Horaires!$A$3:$E$49,2,)","v":"XXX"},{"$f":"IF(BX32=\"vacances\",INDEX(Horaires!$H$3:$L$42,MATCH('Solde d''heure collaborateur'!BX$2,Horaires!$H$3:$H$40,0),4),IF(BX32=\"maladie\",INDEX(Horaires!$H$3:$L$42,MATCH('Solde d''heure collaborateur'!BX$2,Horaires!$H$3:$H$40,0),5),VLOOKUP(BW32,Horaires!$A$3:$E$60,5,)))","v":0},null,{"$f":"INDEX(Planning!$23:$23,MATCH('Solde d''heure collaborateur'!$A32,Planning!$3:$3))","v":"R"},{"$f":"VLOOKUP(CA32,Horaires!$A$3:$E$49,2,)","v":"Congé"},{"$f":"IF(CB32=\"vacances\",INDEX(Horaires!$H$3:$L$42,MATCH('Solde d''heure collaborateur'!CB$2,Horaires!$H$3:$H$40,0),4),IF(CB32=\"maladie\",INDEX(Horaires!$H$3:$L$42,MATCH('Solde d''heure collaborateur'!CB$2,Horaires!$H$3:$H$40,0),5),VLOOKUP(CA32,Horaires!$A$3:$E$60,5,)))","v":0},null,{"$f":"INDEX(Planning!$24:$24,MATCH('Solde d''heure collaborateur'!$A32,Planning!$3:$3))","v":"onex2"},{"$f":"VLOOKUP(CE32,Horaires!$A$3:$E$49,2,)","v":"Onex"},{"$f":"IF(CF32=\"vacances\",INDEX(Horaires!$H$3:$L$42,MATCH('Solde d''heure collaborateur'!CF$2,Horaires!$H$3:$H$40,0),4),IF(CF32=\"maladie\",INDEX(Horaires!$H$3:$L$42,MATCH('Solde d''heure collaborateur'!CF$2,Horaires!$H$3:$H$40,0),5),VLOOKUP(CE32,Horaires!$A$3:$E$60,5,)))","v":0.48958333333333331},null,{"$f":"INDEX(Planning!$25:$25,MATCH('Solde d''heure collaborateur'!$A32,Planning!$3:$3))","v":"X"},{"$f":"VLOOKUP(CI32,Horaires!$A$3:$E$49,2,)","v":"XXX"},{"$f":"IF(CJ32=\"vacances\",INDEX(Horaires!$H$3:$L$42,MATCH('Solde d''heure collaborateur'!CJ$2,Horaires!$H$3:$H$40,0),4),IF(CJ32=\"maladie\",INDEX(Horaires!$H$3:$L$42,MATCH('Solde d''heure collaborateur'!CJ$2,Horaires!$H$3:$H$40,0),5),VLOOKUP(CI32,Horaires!$A$3:$E$60,5,)))","v":0},null,{"$f":"INDEX(Planning!$26:$26,MATCH('Solde d''heure collaborateur'!$A32,Planning!$3:$3))","v":"Vid2"},{"$f":"VLOOKUP(CM32,Horaires!$A$3:$E$49,2,)","v":"Vidollet"},{"$f":"IF(CN32=\"vacances\",INDEX(Horaires!$H$3:$L$42,MATCH('Solde d''heure collaborateur'!CN$2,Horaires!$H$3:$H$40,0),4),IF(CN32=\"maladie\",INDEX(Horaires!$H$3:$L$42,MATCH('Solde d''heure collaborateur'!CN$2,Horaires!$H$3:$H$40,0),5),VLOOKUP(CM32,Horaires!$A$3:$E$60,5,)))","v":0.46874999999999994},null,{"$f":"INDEX(Planning!$27:$27,MATCH('Solde d''heure collaborateur'!$A32,Planning!$3:$3))","v":"Thon2"},{"$f":"VLOOKUP(CQ32,Horaires!$A$3:$E$49,2,)","v":"Thonex"},{"$f":"IF(CR32=\"vacances\",INDEX(Horaires!$H$3:$L$42,MATCH('Solde d''heure collaborateur'!CR$2,Horaires!$H$3:$H$40,0),4),IF(CR32=\"maladie\",INDEX(Horaires!$H$3:$L$42,MATCH('Solde d''heure collaborateur'!CR$2,Horaires!$H$3:$H$40,0),5),VLOOKUP(CQ32,Horaires!$A$3:$E$60,5,)))","v":0.46874999999999994},null,{"$f":"INDEX(Planning!$28:$28,MATCH('Solde d''heure collaborateur'!$A32,Planning!$3:$3))","v":"tour2"},{"$f":"VLOOKUP(CU32,Horaires!$A$3:$E$49,2,)","v":"Tourelle"},{"$f":"IF(CV32=\"vacances\",INDEX(Horaires!$H$3:$L$42,MATCH('Solde d''heure collaborateur'!CV$2,Horaires!$H$3:$H$40,0),4),IF(CV32=\"maladie\",INDEX(Horaires!$H$3:$L$42,MATCH('Solde d''heure collaborateur'!CV$2,Horaires!$H$3:$H$40,0),5),VLOOKUP(CU32,Horaires!$A$3:$E$60,5,)))","v":0.48958333333333331},null,{"$f":"INDEX(Planning!$29:$29,MATCH('Solde d''heure collaborateur'!$A32,Planning!$3:$3))","v":"X"},{"$f":"VLOOKUP(CY32,Horaires!$A$3:$E$49,2,)","v":"XXX"},{"$f":"IF(CZ32=\"vacances\",INDEX(Horaires!$H$3:$L$42,MATCH('Solde d''heure collaborateur'!CZ$2,Horaires!$H$3:$H$40,0),4),IF(CZ32=\"maladie\",INDEX(Horaires!$H$3:$L$42,MATCH('Solde d''heure collaborateur'!CZ$2,Horaires!$H$3:$H$40,0),5),VLOOKUP(CY32,Horaires!$A$3:$E$60,5,)))","v":0},null,{"$f":"INDEX(Planning!$30:$30,MATCH('Solde d''heure collaborateur'!$A32,Planning!$3:$3))","v":"X"},{"$f":"VLOOKUP(DC32,Horaires!$A$3:$E$49,2,)","v":"XXX"},{"$f":"IF(DD32=\"vacances\",INDEX(Horaires!$H$3:$L$42,MATCH('Solde d''heure collaborateur'!DD$2,Horaires!$H$3:$H$40,0),4),IF(DD32=\"maladie\",INDEX(Horaires!$H$3:$L$42,MATCH('Solde d''heure collaborateur'!DD$2,Horaires!$H$3:$H$40,0),5),VLOOKUP(DC32,Horaires!$A$3:$E$60,5,)))","v":0},null,{"$f":"INDEX(Planning!$31:$31,MATCH('Solde d''heure collaborateur'!$A32,Planning!$3:$3))","v":"X"},{"$f":"VLOOKUP(DG32,Horaires!$A$3:$E$49,2,)","v":"XXX"},{"$f":"IF(DH32=\"vacances\",INDEX(Horaires!$H$3:$L$42,MATCH('Solde d''heure collaborateur'!DH$2,Horaires!$H$3:$H$40,0),4),IF(DH32=\"maladie\",INDEX(Horaires!$H$3:$L$42,MATCH('Solde d''heure collaborateur'!DH$2,Horaires!$H$3:$H$40,0),5),VLOOKUP(DG32,Horaires!$A$3:$E$60,5,)))","v":0},null,{"$f":"INDEX(Planning!$32:$32,MATCH('Solde d''heure collaborateur'!$A32,Planning!$3:$3))","v":"X"},{"$f":"VLOOKUP(DK32,Horaires!$A$3:$E$49,2,)","v":"XXX"},{"$f":"IF(DL32=\"vacances\",INDEX(Horaires!$H$3:$L$42,MATCH('Solde d''heure collaborateur'!DL$2,Horaires!$H$3:$H$40,0),4),IF(DL32=\"maladie\",INDEX(Horaires!$H$3:$L$42,MATCH('Solde d''heure collaborateur'!DL$2,Horaires!$H$3:$H$40,0),5),VLOOKUP(DK32,Horaires!$A$3:$E$60,5,)))","v":0},null,{"$f":"INDEX(Planning!$33:$33,MATCH('Solde d''heure collaborateur'!$A32,Planning!$3:$3))","v":"X"},{"$f":"VLOOKUP(DO32,Horaires!$A$3:$E$49,2,)","v":"XXX"},{"$f":"IF(DP32=\"vacances\",INDEX(Horaires!$H$3:$L$42,MATCH('Solde d''heure collaborateur'!DP$2,Horaires!$H$3:$H$40,0),4),IF(DP32=\"maladie\",INDEX(Horaires!$H$3:$L$42,MATCH('Solde d''heure collaborateur'!DP$2,Horaires!$H$3:$H$40,0),5),VLOOKUP(DO32,Horaires!$A$3:$E$60,5,)))","v":0},null,{"$f":"INDEX(Planning!$34:$34,MATCH('Solde d''heure collaborateur'!$A32,Planning!$3:$3))","v":"X"},{"$f":"VLOOKUP(DS32,Horaires!$A$3:$E$49,2,)","v":"XXX"},{"$f":"IF(DT32=\"vacances\",INDEX(Horaires!$H$3:$L$42,MATCH('Solde d''heure collaborateur'!DT$2,Horaires!$H$3:$H$40,0),4),IF(DT32=\"maladie\",INDEX(Horaires!$H$3:$L$42,MATCH('Solde d''heure collaborateur'!DT$2,Horaires!$H$3:$H$40,0),5),VLOOKUP(DS32,Horaires!$A$3:$E$60,5,)))","v":0},null,{"$f":"INDEX(Planning!$35:$35,MATCH('Solde d''heure collaborateur'!$A32,Planning!$3:$3))","v":"X"},{"$f":"VLOOKUP(DW32,Horaires!$A$3:$E$49,2,)","v":"XXX"},{"$f":"IF(DX32=\"vacances\",INDEX(Horaires!$H$3:$L$42,MATCH('Solde d''heure collaborateur'!DX$2,Horaires!$H$3:$H$40,0),4),IF(DX32=\"maladie\",INDEX(Horaires!$H$3:$L$42,MATCH('Solde d''heure collaborateur'!DX$2,Horaires!$H$3:$H$40,0),5),VLOOKUP(DW32,Horaires!$A$3:$E$60,5,)))","v":0}]
[{"$f":"A32+1","v":"2013-11-30"},null,{"$f":"INDEX(Planning!$4:$4,MATCH('Solde d''heure collaborateur'!A33,Planning!$3:$3,0))","v":"R"},{"$f":"VLOOKUP(C33,Horaires!$A$3:$E$49,2,)","v":"Congé"},{"$f":"IF(D33=\"vacances\",INDEX(Horaires!$H$3:$L$42,MATCH('Solde d''heure collaborateur'!D$2,Horaires!$H$3:$H$40,0),4),IF(D33=\"maladie\",INDEX(Horaires!$H$3:$L$42,MATCH('Solde d''heure collaborateur'!D$2,Horaires!$H$3:$H$40,0),5),VLOOKUP(C33,Horaires!$A$3:$E$60,5,)))","v":0},null,{"$f":"INDEX(Planning!$5:$5,MATCH('Solde d''heure collaborateur'!A33,Planning!$3:$3))","v":"R"},{"$f":"VLOOKUP(G33,Horaires!$A$3:$E$49,2,)","v":"Congé"},{"$f":"IF(H33=\"vacances\",INDEX(Horaires!$H$3:$L$42,MATCH('Solde d''heure collaborateur'!H$2,Horaires!$H$3:$H$40,0),4),IF(H33=\"maladie\",INDEX(Horaires!$H$3:$L$42,MATCH('Solde d''heure collaborateur'!H$2,Horaires!$H$3:$H$40,0),5),VLOOKUP(G33,Horaires!$A$3:$E$60,5,)))","v":0},null,{"$f":"INDEX(Planning!$6:$6,MATCH('Solde d''heure collaborateur'!A33,Planning!$3:$3))","v":"R"},{"$f":"VLOOKUP(K33,Horaires!$A$3:$E$49,2,)","v":"Congé"},{"$f":"IF(L33=\"vacances\",INDEX(Horaires!$H$3:$L$42,MATCH('Solde d''heure collaborateur'!L$2,Horaires!$H$3:$H$40,0),4),IF(L33=\"maladie\",INDEX(Horaires!$H$3:$L$42,MATCH('Solde d''heure collaborateur'!L$2,Horaires!$H$3:$H$40,0),5),VLOOKUP(K33,Horaires!$A$3:$E$60,5,)))","v":0},null,{"$f":"INDEX(Planning!$7:$7,MATCH('Solde d''heure collaborateur'!$A33,Planning!$3:$3))","v":"X"},{"$f":"VLOOKUP(O33,Horaires!$A$3:$E$49,2,)","v":"XXX"},{"$f":"IF(P33=\"vacances\",INDEX(Horaires!$H$3:$L$42,MATCH('Solde d''heure collaborateur'!P$2,Horaires!$H$3:$H$40,0),4),IF(P33=\"maladie\",INDEX(Horaires!$H$3:$L$42,MATCH('Solde d''heure collaborateur'!P$2,Horaires!$H$3:$H$40,0),5),VLOOKUP(O33,Horaires!$A$3:$E$60,5,)))","v":0},null,{"$f":"INDEX(Planning!$8:$8,MATCH('Solde d''heure collaborateur'!$A33,Planning!$3:$3))","v":"R"},{"$f":"VLOOKUP(S33,Horaires!$A$3:$E$49,2,)","v":"Congé"},{"$f":"IF(T33=\"vacances\",INDEX(Horaires!$H$3:$L$42,MATCH('Solde d''heure collaborateur'!T$2,Horaires!$H$3:$H$40,0),4),IF(T33=\"maladie\",INDEX(Horaires!$H$3:$L$42,MATCH('Solde d''heure collaborateur'!T$2,Horaires!$H$3:$H$40,0),5),VLOOKUP(S33,Horaires!$A$3:$E$60,5,)))","v":0},null,{"$f":"INDEX(Planning!$9:$9,MATCH('Solde d''heure collaborateur'!$A33,Planning!$3:$3))","v":"X"},{"$f":"VLOOKUP(W33,Horaires!$A$3:$E$49,2,)","v":"XXX"},{"$f":"IF(X33=\"vacances\",INDEX(Horaires!$H$3:$L$42,MATCH('Solde d''heure collaborateur'!X$2,Horaires!$H$3:$H$40,0),4),IF(X33=\"maladie\",INDEX(Horaires!$H$3:$L$42,MATCH('Solde d''heure collaborateur'!X$2,Horaires!$H$3:$H$40,0),5),VLOOKUP(W33,Horaires!$A$3:$E$60,5,)))","v":0},null,{"$f":"INDEX(Planning!$10:$10,MATCH('Solde d''heure collaborateur'!$A33,Planning!$3:$3))","v":"onex3"},{"$f":"VLOOKUP(AA33,Horaires!$A$3:$E$49,2,)","v":"Onex"},{"$f":"IF(AB33=\"vacances\",INDEX(Horaires!$H$3:$L$42,MATCH('Solde d''heure collaborateur'!AB$2,Horaires!$H$3:$H$40,0),4),IF(AB33=\"maladie\",INDEX(Horaires!$H$3:$L$42,MATCH('Solde d''heure collaborateur'!AB$2,Horaires!$H$3:$H$40,0),5),VLOOKUP(AA33,Horaires!$A$3:$E$60,5,)))","v":0.42708333333333331},null,{"$f":"INDEX(Planning!$11:$11,MATCH('Solde d''heure collaborateur'!$A33,Planning!$3:$3))","v":"Plo3"},{"$f":"VLOOKUP(AE33,Horaires!$A$3:$E$49,2,)","v":"Plan les Ouates"},{"$f":"IF(AF33=\"vacances\",INDEX(Horaires!$H$3:$L$42,MATCH('Solde d''heure collaborateur'!AF$2,Horaires!$H$3:$H$40,0),4),IF(AF33=\"maladie\",INDEX(Horaires!$H$3:$L$42,MATCH('Solde d''heure collaborateur'!AF$2,Horaires!$H$3:$H$40,0),5),VLOOKUP(AE33,Horaires!$A$3:$E$60,5,)))","v":0.42708333333333331},null,{"$f":"INDEX(Planning!$12:$12,MATCH('Solde d''heure collaborateur'!$A33,Planning!$3:$3))","v":"R"},{"$f":"VLOOKUP(AI33,Horaires!$A$3:$E$49,2,)","v":"Congé"},{"$f":"IF(AJ33=\"vacances\",INDEX(Horaires!$H$3:$L$42,MATCH('Solde d''heure collaborateur'!AJ$2,Horaires!$H$3:$H$40,0),4),IF(AJ33=\"maladie\",INDEX(Horaires!$H$3:$L$42,MATCH('Solde d''heure collaborateur'!AJ$2,Horaires!$H$3:$H$40,0),5),VLOOKUP(AI33,Horaires!$A$3:$E$60,5,)))","v":0},null,{"$f":"INDEX(Planning!$13:$13,MATCH('Solde d''heure collaborateur'!$A33,Planning!$3:$3))","v":"pom3"},{"$f":"VLOOKUP(AM33,Horaires!$A$3:$E$49,2,)","v":"Pommier"},{"$f":"IF(AN33=\"vacances\",INDEX(Horaires!$H$3:$L$42,MATCH('Solde d''heure collaborateur'!AN$2,Horaires!$H$3:$H$40,0),4),IF(AN33=\"maladie\",INDEX(Horaires!$H$3:$L$42,MATCH('Solde d''heure collaborateur'!AN$2,Horaires!$H$3:$H$40,0),5),VLOOKUP(AM33,Horaires!$A$3:$E$60,5,)))","v":0.42708333333333331},null,{"$f":"INDEX(Planning!$14:$14,MATCH('Solde d''heure collaborateur'!$A33,Planning!$3:$3))","v":"M"},{"$f":"VLOOKUP(AQ33,Horaires!$A$3:$E$49,2,)","v":"Maladie"},{"$f":"IF(AR33=\"vacances\",INDEX(Horaires!$H$3:$L$42,MATCH('Solde d''heure collaborateur'!AR$2,Horaires!$H$3:$H$40,0),4),IF(AR33=\"maladie\",INDEX(Horaires!$H$3:$L$42,MATCH('Solde d''heure collaborateur'!AR$2,Horaires!$H$3:$H$40,0),5),VLOOKUP(AQ33,Horaires!$A$3:$E$60,5,)))","v":0.46180555555555558},null,{"$f":"INDEX(Planning!$15:$15,MATCH('Solde d''heure collaborateur'!$A33,Planning!$3:$3))","v":"Nyon2"},{"$f":"VLOOKUP(AU33,Horaires!$A$3:$E$49,2,)","v":"Nyon"},{"$f":"IF(AV33=\"vacances\",INDEX(Horaires!$H$3:$L$42,MATCH('Solde d''heure collaborateur'!AV$2,Horaires!$H$3:$H$40,0),4),IF(AV33=\"maladie\",INDEX(Horaires!$H$3:$L$42,MATCH('Solde d''heure collaborateur'!AV$2,Horaires!$H$3:$H$40,0),5),VLOOKUP(AU33,Horaires!$A$3:$E$60,5,)))","v":0.40624999999999994},null,{"$f":"INDEX(Planning!$16:$16,MATCH('Solde d''heure collaborateur'!$A33,Planning!$3:$3))","v":"R"},{"$f":"VLOOKUP(AY33,Horaires!$A$3:$E$49,2,)","v":"Congé"},{"$f":"IF(AZ33=\"vacances\",INDEX(Horaires!$H$3:$L$42,MATCH('Solde d''heure collaborateur'!AZ$2,Horaires!$H$3:$H$40,0),4),IF(AZ33=\"maladie\",INDEX(Horaires!$H$3:$L$42,MATCH('Solde d''heure collaborateur'!AZ$2,Horaires!$H$3:$H$40,0),5),VLOOKUP(AY33,Horaires!$A$3:$E$60,5,)))","v":0},null,{"$f":"INDEX(Planning!$17:$17,MATCH('Solde d''heure collaborateur'!$A33,Planning!$3:$3))","v":"nav3"},{"$f":"VLOOKUP(BC33,Horaires!$A$3:$E$49,2,)","v":"Navigation"},{"$f":"IF(BD33=\"vacances\",INDEX(Horaires!$H$3:$L$42,MATCH('Solde d''heure collaborateur'!BD$2,Horaires!$H$3:$H$40,0),4),IF(BD33=\"maladie\",INDEX(Horaires!$H$3:$L$42,MATCH('Solde d''heure collaborateur'!BD$2,Horaires!$H$3:$H$40,0),5),VLOOKUP(BC33,Horaires!$A$3:$E$60,5,)))","v":0.40624999999999994},null,{"$f":"INDEX(Planning!$18:$18,MATCH('Solde d''heure collaborateur'!$A33,Planning!$3:$3))","v":"Vib3"},{"$f":"VLOOKUP(BG33,Horaires!$A$3:$E$49,2,)","v":"Vibert"},{"$f":"IF(BH33=\"vacances\",INDEX(Horaires!$H$3:$L$42,MATCH('Solde d''heure collaborateur'!BH$2,Horaires!$H$3:$H$40,0),4),IF(BH33=\"maladie\",INDEX(Horaires!$H$3:$L$42,MATCH('Solde d''heure collaborateur'!BH$2,Horaires!$H$3:$H$40,0),5),VLOOKUP(BG33,Horaires!$A$3:$E$60,5,)))","v":0.42708333333333331},null,{"$f":"INDEX(Planning!$19:$19,MATCH('Solde d''heure collaborateur'!$A33,Planning!$3:$3))","v":"Vib3"},{"$f":"VLOOKUP(BK33,Horaires!$A$3:$E$49,2,)","v":"Vibert"},{"$f":"IF(BL33=\"vacances\",INDEX(Horaires!$H$3:$L$42,MATCH('Solde d''heure collaborateur'!BL$2,Horaires!$H$3:$H$40,0),4),IF(BL33=\"maladie\",INDEX(Horaires!$H$3:$L$42,MATCH('Solde d''heure collaborateur'!BL$2,Horaires!$H$3:$H$40,0),5),VLOOKUP(BK33,Horaires!$A$3:$E$60,5,)))","v":0.42708333333333331},null,{"$f":"INDEX(Planning!$20:$20,MATCH('Solde d''heure collaborateur'!$A33,Planning!$3:$3))","v":"Aca3"},{"$f":"VLOOKUP(BO33,Horaires!$A$3:$E$49,2,)","v":"Acacias"},{"$f":"IF(BP33=\"vacances\",INDEX(Horaires!$H$3:$L$42,MATCH('Solde d''heure collaborateur'!BP$2,Horaires!$H$3:$H$40,0),4),IF(BP33=\"maladie\",INDEX(Horaires!$H$3:$L$42,MATCH('Solde d''heure collaborateur'!BP$2,Horaires!$H$3:$H$40,0),5),VLOOKUP(BO33,Horaires!$A$3:$E$60,5,)))","v":0.40624999999999994},null,{"$f":"INDEX(Planning!$21:$21,MATCH('Solde d''heure collaborateur'!$A33,Planning!$3:$3))","v":"Ves3"},{"$f":"VLOOKUP(BS33,Horaires!$A$3:$E$49,2,)","v":"Vesenaz"},{"$f":"IF(BT33=\"vacances\",INDEX(Horaires!$H$3:$L$42,MATCH('Solde d''heure collaborateur'!BT$2,Horaires!$H$3:$H$40,0),4),IF(BT33=\"maladie\",INDEX(Horaires!$H$3:$L$42,MATCH('Solde d''heure collaborateur'!BT$2,Horaires!$H$3:$H$40,0),5),VLOOKUP(BS33,Horaires!$A$3:$E$60,5,)))","v":0.40624999999999994},null,{"$f":"INDEX(Planning!$22:$22,MATCH('Solde d''heure collaborateur'!$A33,Planning!$3:$3))","v":"X"},{"$f":"VLOOKUP(BW33,Horaires!$A$3:$E$49,2,)","v":"XXX"},{"$f":"IF(BX33=\"vacances\",INDEX(Horaires!$H$3:$L$42,MATCH('Solde d''heure collaborateur'!BX$2,Horaires!$H$3:$H$40,0),4),IF(BX33=\"maladie\",INDEX(Horaires!$H$3:$L$42,MATCH('Solde d''heure collaborateur'!BX$2,Horaires!$H$3:$H$40,0),5),VLOOKUP(BW33,Horaires!$A$3:$E$60,5,)))","v":0},null,{"$f":"INDEX(Planning!$23:$23,MATCH('Solde d''heure collaborateur'!$A33,Planning!$3:$3))","v":"R"},{"$f":"VLOOKUP(CA33,Horaires!$A$3:$E$49,2,)","v":"Congé"},{"$f":"IF(CB33=\"vacances\",INDEX(Horaires!$H$3:$L$42,MATCH('Solde d''heure collaborateur'!CB$2,Horaires!$H$3:$H$40,0),4),IF(CB33=\"maladie\",INDEX(Horaires!$H$3:$L$42,MATCH('Solde d''heure collaborateur'!CB$2,Horaires!$H$3:$H$40,0),5),VLOOKUP(CA33,Horaires!$A$3:$E$60,5,)))","v":0},null,{"$f":"INDEX(Planning!$24:$24,MATCH('Solde d''heure collaborateur'!$A33,Planning!$3:$3))","v":"onex3"},{"$f":"VLOOKUP(CE33,Horaires!$A$3:$E$49,2,)","v":"Onex"},{"$f":"IF(CF33=\"vacances\",INDEX(Horaires!$H$3:$L$42,MATCH('Solde d''heure collaborateur'!CF$2,Horaires!$H$3:$H$40,0),4),IF(CF33=\"maladie\",INDEX(Horaires!$H$3:$L$42,MATCH('Solde d''heure collaborateur'!CF$2,Horaires!$H$3:$H$40,0),5),VLOOKUP(CE33,Horaires!$A$3:$E$60,5,)))","v":0.42708333333333331},null,{"$f":"INDEX(Planning!$25:$25,MATCH('Solde d''heure collaborateur'!$A33,Planning!$3:$3))","v":"X"},{"$f":"VLOOKUP(CI33,Horaires!$A$3:$E$49,2,)","v":"XXX"},{"$f":"IF(CJ33=\"vacances\",INDEX(Horaires!$H$3:$L$42,MATCH('Solde d''heure collaborateur'!CJ$2,Horaires!$H$3:$H$40,0),4),IF(CJ33=\"maladie\",INDEX(Horaires!$H$3:$L$42,MATCH('Solde d''heure collaborateur'!CJ$2,Horaires!$H$3:$H$40,0),5),VLOOKUP(CI33,Horaires!$A$3:$E$60,5,)))","v":0},null,{"$f":"INDEX(Planning!$26:$26,MATCH('Solde d''heure collaborateur'!$A33,Planning!$3:$3))","v":"Vid3"},{"$f":"VLOOKUP(CM33,Horaires!$A$3:$E$49,2,)","v":"Vidollet"},{"$f":"IF(CN33=\"vacances\",INDEX(Horaires!$H$3:$L$42,MATCH('Solde d''heure collaborateur'!CN$2,Horaires!$H$3:$H$40,0),4),IF(CN33=\"maladie\",INDEX(Horaires!$H$3:$L$42,MATCH('Solde d''heure collaborateur'!CN$2,Horaires!$H$3:$H$40,0),5),VLOOKUP(CM33,Horaires!$A$3:$E$60,5,)))","v":0.40624999999999994},null,{"$f":"INDEX(Planning!$27:$27,MATCH('Solde d''heure collaborateur'!$A33,Planning!$3:$3))","v":"Thon3"},{"$f":"VLOOKUP(CQ33,Horaires!$A$3:$E$49,2,)","v":"Thonex"},{"$f":"IF(CR33=\"vacances\",INDEX(Horaires!$H$3:$L$42,MATCH('Solde d''heure collaborateur'!CR$2,Horaires!$H$3:$H$40,0),4),IF(CR33=\"maladie\",INDEX(Horaires!$H$3:$L$42,MATCH('Solde d''heure collaborateur'!CR$2,Horaires!$H$3:$H$40,0),5),VLOOKUP(CQ33,Horaires!$A$3:$E$60,5,)))","v":0.40624999999999994},null,{"$f":"INDEX(Planning!$28:$28,MATCH('Solde d''heure collaborateur'!$A33,Planning!$3:$3))","v":"tour3"},{"$f":"VLOOKUP(CU33,Horaires!$A$3:$E$49,2,)","v":"Tourelle"},{"$f":"IF(CV33=\"vacances\",INDEX(Horaires!$H$3:$L$42,MATCH('Solde d''heure collaborateur'!CV$2,Horaires!$H$3:$H$40,0),4),IF(CV33=\"maladie\",INDEX(Horaires!$H$3:$L$42,MATCH('Solde d''heure collaborateur'!CV$2,Horaires!$H$3:$H$40,0),5),VLOOKUP(CU33,Horaires!$A$3:$E$60,5,)))","v":0.42708333333333331},null,{"$f":"INDEX(Planning!$29:$29,MATCH('Solde d''heure collaborateur'!$A33,Planning!$3:$3))","v":"nav3"},{"$f":"VLOOKUP(CY33,Horaires!$A$3:$E$49,2,)","v":"Navigation"},{"$f":"IF(CZ33=\"vacances\",INDEX(Horaires!$H$3:$L$42,MATCH('Solde d''heure collaborateur'!CZ$2,Horaires!$H$3:$H$40,0),4),IF(CZ33=\"maladie\",INDEX(Horaires!$H$3:$L$42,MATCH('Solde d''heure collaborateur'!CZ$2,Horaires!$H$3:$H$40,0),5),VLOOKUP(CY33,Horaires!$A$3:$E$60,5,)))","v":0.40624999999999994},null,{"$f":"INDEX(Planning!$30:$30,MATCH('Solde d''heure collaborateur'!$A33,Planning!$3:$3))","v":"X"},{"$f":"VLOOKUP(DC33,Horaires!$A$3:$E$49,2,)","v":"XXX"},{"$f":"IF(DD33=\"vacances\",INDEX(Horaires!$H$3:$L$42,MATCH('Solde d''heure collaborateur'!DD$2,Horaires!$H$3:$H$40,0),4),IF(DD33=\"maladie\",INDEX(Horaires!$H$3:$L$42,MATCH('Solde d''heure collaborateur'!DD$2,Horaires!$H$3:$H$40,0),5),VLOOKUP(DC33,Horaires!$A$3:$E$60,5,)))","v":0},null,{"$f":"INDEX(Planning!$31:$31,MATCH('Solde d''heure collaborateur'!$A33,Planning!$3:$3))","v":"X"},{"$f":"VLOOKUP(DG33,Horaires!$A$3:$E$49,2,)","v":"XXX"},{"$f":"IF(DH33=\"vacances\",INDEX(Horaires!$H$3:$L$42,MATCH('Solde d''heure collaborateur'!DH$2,Horaires!$H$3:$H$40,0),4),IF(DH33=\"maladie\",INDEX(Horaires!$H$3:$L$42,MATCH('Solde d''heure collaborateur'!DH$2,Horaires!$H$3:$H$40,0),5),VLOOKUP(DG33,Horaires!$A$3:$E$60,5,)))","v":0},null,{"$f":"INDEX(Planning!$32:$32,MATCH('Solde d''heure collaborateur'!$A33,Planning!$3:$3))","v":"X"},{"$f":"VLOOKUP(DK33,Horaires!$A$3:$E$49,2,)","v":"XXX"},{"$f":"IF(DL33=\"vacances\",INDEX(Horaires!$H$3:$L$42,MATCH('Solde d''heure collaborateur'!DL$2,Horaires!$H$3:$H$40,0),4),IF(DL33=\"maladie\",INDEX(Horaires!$H$3:$L$42,MATCH('Solde d''heure collaborateur'!DL$2,Horaires!$H$3:$H$40,0),5),VLOOKUP(DK33,Horaires!$A$3:$E$60,5,)))","v":0},null,{"$f":"INDEX(Planning!$33:$33,MATCH('Solde d''heure collaborateur'!$A33,Planning!$3:$3))","v":"X"},{"$f":"VLOOKUP(DO33,Horaires!$A$3:$E$49,2,)","v":"XXX"},{"$f":"IF(DP33=\"vacances\",INDEX(Horaires!$H$3:$L$42,MATCH('Solde d''heure collaborateur'!DP$2,Horaires!$H$3:$H$40,0),4),IF(DP33=\"maladie\",INDEX(Horaires!$H$3:$L$42,MATCH('Solde d''heure collaborateur'!DP$2,Horaires!$H$3:$H$40,0),5),VLOOKUP(DO33,Horaires!$A$3:$E$60,5,)))","v":0},null,{"$f":"INDEX(Planning!$34:$34,MATCH('Solde d''heure collaborateur'!$A33,Planning!$3:$3))","v":"X"},{"$f":"VLOOKUP(DS33,Horaires!$A$3:$E$49,2,)","v":"XXX"},{"$f":"IF(DT33=\"vacances\",INDEX(Horaires!$H$3:$L$42,MATCH('Solde d''heure collaborateur'!DT$2,Horaires!$H$3:$H$40,0),4),IF(DT33=\"maladie\",INDEX(Horaires!$H$3:$L$42,MATCH('Solde d''heure collaborateur'!DT$2,Horaires!$H$3:$H$40,0),5),VLOOKUP(DS33,Horaires!$A$3:$E$60,5,)))","v":0},null,{"$f":"INDEX(Planning!$35:$35,MATCH('Solde d''heure collaborateur'!$A33,Planning!$3:$3))","v":"X"},{"$f":"VLOOKUP(DW33,Horaires!$A$3:$E$49,2,)","v":"XXX"},{"$f":"IF(DX33=\"vacances\",INDEX(Horaires!$H$3:$L$42,MATCH('Solde d''heure collaborateur'!DX$2,Horaires!$H$3:$H$40,0),4),IF(DX33=\"maladie\",INDEX(Horaires!$H$3:$L$42,MATCH('Solde d''heure collaborateur'!DX$2,Horaires!$H$3:$H$40,0),5),VLOOKUP(DW33,Horaires!$A$3:$E$60,5,)))","v":0}]
[null,null,null,{"$f":"SUM(E34-INDEX(Horaires!$H$3:$L$37,MATCH('Solde d''heure collaborateur'!D$2,Horaires!$H$3:$H$37,0),2))","v":1.5},{"$f":"SUM(E28:E33)*24","v":43.5},null,null,{"$f":"SUM(I34-INDEX(Horaires!$H$3:$L$37,MATCH('Solde d''heure collaborateur'!H$2,Horaires!$H$3:$H$37,0),2))","v":-9.25},{"$f":"SUM(I28:I33)*24","v":32.75},null,null,{"$f":"SUM(M34-INDEX(Horaires!$H$3:$L$37,MATCH('Solde d''heure collaborateur'!L$2,Horaires!$H$3:$H$37,0),2))","v":0},{"$f":"SUM(M28:M33)*24","v":42},null,null,{"$f":"SUM(Q34-INDEX(Horaires!$H$3:$L$37,MATCH('Solde d''heure collaborateur'!P$2,Horaires!$H$3:$H$37,0),2))","v":3.5527136788005009E-15},{"$f":"SUM(Q28:Q33)*24","v":22.500000000000004},null,null,{"$f":"SUM(U34-INDEX(Horaires!$H$3:$L$37,MATCH('Solde d''heure collaborateur'!T$2,Horaires!$H$3:$H$37,0),2))","v":3.5},{"$f":"SUM(U28:U33)*24","v":45.5},null,null,{"$f":"SUM(Y34-INDEX(Horaires!$H$3:$L$37,MATCH('Solde d''heure collaborateur'!X$2,Horaires!$H$3:$H$37,0),2))","v":3.5527136788005009E-15},{"$f":"SUM(Y28:Y33)*24","v":22.500000000000004},null,null,{"$f":"SUM(AC34-INDEX(Horaires!$H$3:$L$37,MATCH('Solde d''heure collaborateur'!AB$2,Horaires!$H$3:$H$37,0),2))","v":-8.25},{"$f":"SUM(AC28:AC33)*24","v":33.75},null,null,{"$f":"SUM(AG34-INDEX(Horaires!$H$3:$L$37,MATCH('Solde d''heure collaborateur'!AF$2,Horaires!$H$3:$H$37,0),2))","v":2.5},{"$f":"SUM(AG28:AG33)*24","v":44.5},null,null,{"$f":"SUM(AK34-INDEX(Horaires!$H$3:$L$37,MATCH('Solde d''heure collaborateur'!AJ$2,Horaires!$H$3:$H$37,0),2))","v":1.5},{"$f":"SUM(AK28:AK33)*24","v":43.5},null,null,{"$f":"SUM(AO34-INDEX(Horaires!$H$3:$L$37,MATCH('Solde d''heure collaborateur'!AN$2,Horaires!$H$3:$H$37,0),2))","v":1.5},{"$f":"SUM(AO28:AO33)*24","v":43.5},null,null,{"$f":"SUM(AS34-INDEX(Horaires!$H$3:$L$37,MATCH('Solde d''heure collaborateur'!AR$2,Horaires!$H$3:$H$37,0),2))","v":0},{"$f":"SUM(AS28:AS33)*24","v":33.25},null,null,{"$f":"SUM(AW34-INDEX(Horaires!$H$3:$L$37,MATCH('Solde d''heure collaborateur'!AV$2,Horaires!$H$3:$H$37,0),2))","v":0},{"$f":"SUM(AW28:AW33)*24","v":42},null,null,{"$f":"SUM(BA34-INDEX(Horaires!$H$3:$L$37,MATCH('Solde d''heure collaborateur'!AZ$2,Horaires!$H$3:$H$37,0),2))","v":-9.75},{"$f":"SUM(BA28:BA33)*24","v":32.25},null,null,{"$f":"SUM(BE34-INDEX(Horaires!$H$3:$L$37,MATCH('Solde d''heure collaborateur'!BD$2,Horaires!$H$3:$H$37,0),2))","v":1},{"$f":"SUM(BE28:BE33)*24","v":43},null,null,{"$f":"SUM(BI34-INDEX(Horaires!$H$3:$L$37,MATCH('Solde d''heure collaborateur'!BH$2,Horaires!$H$3:$H$37,0),2))","v":1.5},{"$f":"SUM(BI28:BI33)*24","v":43.5},null,null,{"$f":"SUM(BM34-INDEX(Horaires!$H$3:$L$37,MATCH('Solde d''heure collaborateur'!BL$2,Horaires!$H$3:$H$37,0),2))","v":-9},{"$f":"SUM(BM28:BM33)*24","v":33},null,null,{"$f":"SUM(BQ34-INDEX(Horaires!$H$3:$L$37,MATCH('Solde d''heure collaborateur'!BP$2,Horaires!$H$3:$H$37,0),2))","v":1},{"$f":"SUM(BQ28:BQ33)*24","v":43},null,null,{"$f":"SUM(BU34-INDEX(Horaires!$H$3:$L$37,MATCH('Solde d''heure collaborateur'!BT$2,Horaires!$H$3:$H$37,0),2))","v":1},{"$f":"SUM(BU28:BU33)*24","v":43},null,null,{"$f":"SUM(BY34-INDEX(Horaires!$H$3:$L$37,MATCH('Solde d''heure collaborateur'!BX$2,Horaires!$H$3:$H$37,0),2))","v":0},{"$f":"SUM(BY28:BY33)*24","v":21.5},null,null,{"$f":"SUM(CC34-INDEX(Horaires!$H$3:$L$37,MATCH('Solde d''heure collaborateur'!CB$2,Horaires!$H$3:$H$37,0),2))","v":2.5},{"$f":"SUM(CC28:CC33)*24","v":44.5},null,null,{"$f":"SUM(CG34-INDEX(Horaires!$H$3:$L$37,MATCH('Solde d''heure collaborateur'!CF$2,Horaires!$H$3:$H$37,0),2))","v":2.5},{"$f":"SUM(CG28:CG33)*24","v":44.5},null,null,{"$f":"SUM(CK34-INDEX(Horaires!$H$3:$L$37,MATCH('Solde d''heure collaborateur'!CJ$2,Horaires!$H$3:$H$37,0),2))","v":-42},{"$f":"SUM(CK28:CK33)*24","v":0},null,null,{"$f":"SUM(CO34-INDEX(Horaires!$H$3:$L$37,MATCH('Solde d''heure collaborateur'!CN$2,Horaires!$H$3:$H$37,0),2))","v":1},{"$f":"SUM(CO28:CO33)*24","v":43},null,null,{"$f":"SUM(CS34-INDEX(Horaires!$H$3:$L$37,MATCH('Solde d''heure collaborateur'!CR$2,Horaires!$H$3:$H$37,0),2))","v":1.5},{"$f":"SUM(CS28:CS33)*24","v":43.5},null,null,{"$f":"SUM(CW34-INDEX(Horaires!$H$3:$L$37,MATCH('Solde d''heure collaborateur'!CV$2,Horaires!$H$3:$H$37,0),2))","v":3},{"$f":"SUM(CW28:CW33)*24","v":45},null,null,{"$f":"SUM(DA34-INDEX(Horaires!$H$3:$L$37,MATCH('Solde d''heure collaborateur'!CZ$2,Horaires!$H$3:$H$37,0),2))","v":9.7499999999999982},{"$f":"SUM(DA28:DA33)*24","v":9.7499999999999982},null,null,{"$f":"SUM(DE34-INDEX(Horaires!$H$3:$L$37,MATCH('Solde d''heure collaborateur'!DD$2,Horaires!$H$3:$H$37,0),2))","v":{"$error":"#N/A"}},{"$f":"SUM(DE28:DE33)*24","v":0},null,null,{"$f":"SUM(DI34-INDEX(Horaires!$H$3:$L$37,MATCH('Solde d''heure collaborateur'!DH$2,Horaires!$H$3:$H$37,0),2))","v":0},{"$f":"SUM(DI28:DI33)*24","v":0},null,null,{"$f":"SUM(DM34-INDEX(Horaires!$H$3:$L$37,MATCH('Solde d''heure collaborateur'!DL$2,Horaires!$H$3:$H$37,0),2))","v":0},{"$f":"SUM(DM28:DM33)*24","v":0},null,null,{"$f":"SUM(DQ34-INDEX(Horaires!$H$3:$L$37,MATCH('Solde d''heure collaborateur'!DP$2,Horaires!$H$3:$H$37,0),2))","v":0},{"$f":"SUM(DQ28:DQ33)*24","v":0},null,null,{"$f":"SUM(DU34-INDEX(Horaires!$H$3:$L$37,MATCH('Solde d''heure collaborateur'!DT$2,Horaires!$H$3:$H$37,0),2))","v":0},{"$f":"SUM(DU28:DU33)*24","v":0},null,null,{"$f":"SUM(DY34-INDEX(Horaires!$H$3:$L$37,MATCH('Solde d''heure collaborateur'!DX$2,Horaires!$H$3:$H$37,0),2))","v":0},{"$f":"SUM(DY28:DY33)*24","v":0}]
[]
[{"$f":"A33+2","v":"2013-12-02"},null,{"$f":"INDEX(Planning!$4:$4,MATCH('Solde d''heure collaborateur'!A36,Planning!$3:$3,0))","v":"R"},{"$f":"VLOOKUP(C36,Horaires!$A$3:$E$49,2,)","v":"Congé"},{"$f":"IF(D36=\"vacances\",INDEX(Horaires!$H$3:$L$42,MATCH('Solde d''heure collaborateur'!D$2,Horaires!$H$3:$H$40,0),4),IF(D36=\"maladie\",INDEX(Horaires!$H$3:$L$42,MATCH('Solde d''heure collaborateur'!D$2,Horaires!$H$3:$H$40,0),5),VLOOKUP(C36,Horaires!$A$3:$E$60,5,)))","v":0},null,{"$f":"INDEX(Planning!$5:$5,MATCH('Solde d''heure collaborateur'!A36,Planning!$3:$3))","v":"R"},{"$f":"VLOOKUP(G36,Horaires!$A$3:$E$49,2,)","v":"Congé"},{"$f":"IF(H36=\"vacances\",INDEX(Horaires!$H$3:$L$42,MATCH('Solde d''heure collaborateur'!H$2,Horaires!$H$3:$H$40,0),4),IF(H36=\"maladie\",INDEX(Horaires!$H$3:$L$42,MATCH('Solde d''heure collaborateur'!H$2,Horaires!$H$3:$H$40,0),5),VLOOKUP(G36,Horaires!$A$3:$E$60,5,)))","v":0},null,{"$f":"INDEX(Planning!$6:$6,MATCH('Solde d''heure collaborateur'!A36,Planning!$3:$3))","v":"M"},{"$f":"VLOOKUP(K36,Horaires!$A$3:$E$49,2,)","v":"Maladie"},{"$f":"IF(L36=\"vacances\",INDEX(Horaires!$H$3:$L$42,MATCH('Solde d''heure collaborateur'!L$2,Horaires!$H$3:$H$40,0),4),IF(L36=\"maladie\",INDEX(Horaires!$H$3:$L$42,MATCH('Solde d''heure collaborateur'!L$2,Horaires!$H$3:$H$40,0),5),VLOOKUP(K36,Horaires!$A$3:$E$60,5,)))","v":0.4375},null,{"$f":"INDEX(Planning!$7:$7,MATCH('Solde d''heure collaborateur'!$A36,Planning!$3:$3))","v":"vib1"},{"$f":"VLOOKUP(O36,Horaires!$A$3:$E$49,2,)","v":"Vibert"},{"$f":"IF(P36=\"vacances\",INDEX(Horaires!$H$3:$L$42,MATCH('Solde d''heure collaborateur'!P$2,Horaires!$H$3:$H$40,0),4),IF(P36=\"maladie\",INDEX(Horaires!$H$3:$L$42,MATCH('Solde d''heure collaborateur'!P$2,Horaires!$H$3:$H$40,0),5),VLOOKUP(O36,Horaires!$A$3:$E$60,5,)))","v":0.46875000000000006},null,{"$f":"INDEX(Planning!$8:$8,MATCH('Solde d''heure collaborateur'!$A36,Planning!$3:$3))","v":"Onex1"},{"$f":"VLOOKUP(S36,Horaires!$A$3:$E$49,2,)","v":"Onex"},{"$f":"IF(T36=\"vacances\",INDEX(Horaires!$H$3:$L$42,MATCH('Solde d''heure collaborateur'!T$2,Horaires!$H$3:$H$40,0),4),IF(T36=\"maladie\",INDEX(Horaires!$H$3:$L$42,MATCH('Solde d''heure collaborateur'!T$2,Horaires!$H$3:$H$40,0),5),VLOOKUP(S36,Horaires!$A$3:$E$60,5,)))","v":0.46875000000000006},null,{"$f":"INDEX(Planning!$9:$9,MATCH('Solde d''heure collaborateur'!$A36,Planning!$3:$3))","v":"recup"},{"$f":"VLOOKUP(W36,Horaires!$A$3:$E$49,2,)","v":"Récupération"},{"$f":"IF(X36=\"vacances\",INDEX(Horaires!$H$3:$L$42,MATCH('Solde d''heure collaborateur'!X$2,Horaires!$H$3:$H$40,0),4),IF(X36=\"maladie\",INDEX(Horaires!$H$3:$L$42,MATCH('Solde d''heure collaborateur'!X$2,Horaires!$H$3:$H$40,0),5),VLOOKUP(W36,Horaires!$A$3:$E$60,5,)))","v":0},null,{"$f":"INDEX(Planning!$10:$10,MATCH('Solde d''heure collaborateur'!$A36,Planning!$3:$3))","v":"R"},{"$f":"VLOOKUP(AA36,Horaires!$A$3:$E$49,2,)","v":"Congé"},{"$f":"IF(AB36=\"vacances\",INDEX(Horaires!$H$3:$L$42,MATCH('Solde d''heure collaborateur'!AB$2,Horaires!$H$3:$H$40,0),4),IF(AB36=\"maladie\",INDEX(Horaires!$H$3:$L$42,MATCH('Solde d''heure collaborateur'!AB$2,Horaires!$H$3:$H$40,0),5),VLOOKUP(AA36,Horaires!$A$3:$E$60,5,)))","v":0},null,{"$f":"INDEX(Planning!$11:$11,MATCH('Solde d''heure collaborateur'!$A36,Planning!$3:$3))","v":"plo1"},{"$f":"VLOOKUP(AE36,Horaires!$A$3:$E$49,2,)","v":"Plan les Ouates"},{"$f":"IF(AF36=\"vacances\",INDEX(Horaires!$H$3:$L$42,MATCH('Solde d''heure collaborateur'!AF$2,Horaires!$H$3:$H$40,0),4),IF(AF36=\"maladie\",INDEX(Horaires!$H$3:$L$42,MATCH('Solde d''heure collaborateur'!AF$2,Horaires!$H$3:$H$40,0),5),VLOOKUP(AE36,Horaires!$A$3:$E$60,5,)))","v":0.46875000000000006},null,{"$f":"INDEX(Planning!$12:$12,MATCH('Solde d''heure collaborateur'!$A36,Planning!$3:$3))","v":"Thon1"},{"$f":"VLOOKUP(AI36,Horaires!$A$3:$E$49,2,)","v":"Thonex"},{"$f":"IF(AJ36=\"vacances\",INDEX(Horaires!$H$3:$L$42,MATCH('Solde d''heure collaborateur'!AJ$2,Horaires!$H$3:$H$40,0),4),IF(AJ36=\"maladie\",INDEX(Horaires!$H$3:$L$42,MATCH('Solde d''heure collaborateur'!AJ$2,Horaires!$H$3:$H$40,0),5),VLOOKUP(AI36,Horaires!$A$3:$E$60,5,)))","v":0.44791666666666669},null,{"$f":"INDEX(Planning!$13:$13,MATCH('Solde d''heure collaborateur'!$A36,Planning!$3:$3))","v":"Onex1"},{"$f":"VLOOKUP(AM36,Horaires!$A$3:$E$49,2,)","v":"Onex"},{"$f":"IF(AN36=\"vacances\",INDEX(Horaires!$H$3:$L$42,MATCH('Solde d''heure collaborateur'!AN$2,Horaires!$H$3:$H$40,0),4),IF(AN36=\"maladie\",INDEX(Horaires!$H$3:$L$42,MATCH('Solde d''heure collaborateur'!AN$2,Horaires!$H$3:$H$40,0),5),VLOOKUP(AM36,Horaires!$A$3:$E$60,5,)))","v":0.46875000000000006},null,{"$f":"INDEX(Planning!$14:$14,MATCH('Solde d''heure collaborateur'!$A36,Planning!$3:$3))","v":"M"},{"$f":"VLOOKUP(AQ36,Horaires!$A$3:$E$49,2,)","v":"Maladie"},{"$f":"IF(AR36=\"vacances\",INDEX(Horaires!$H$3:$L$42,MATCH('Solde d''heure collaborateur'!AR$2,Horaires!$H$3:$H$40,0),4),IF(AR36=\"maladie\",INDEX(Horaires!$H$3:$L$42,MATCH('Solde d''heure collaborateur'!AR$2,Horaires!$H$3:$H$40,0),5),VLOOKUP(AQ36,Horaires!$A$3:$E$60,5,)))","v":0.46180555555555558},null,{"$f":"INDEX(Planning!$15:$15,MATCH('Solde d''heure collaborateur'!$A36,Planning!$3:$3))","v":"Nyon1"},{"$f":"VLOOKUP(AU36,Horaires!$A$3:$E$49,2,)","v":"Nyon"},{"$f":"IF(AV36=\"vacances\",INDEX(Horaires!$H$3:$L$42,MATCH('Solde d''heure collaborateur'!AV$2,Horaires!$H$3:$H$40,0),4),IF(AV36=\"maladie\",INDEX(Horaires!$H$3:$L$42,MATCH('Solde d''heure collaborateur'!AV$2,Horaires!$H$3:$H$40,0),5),VLOOKUP(AU36,Horaires!$A$3:$E$60,5,)))","v":0.44791666666666669},null,{"$f":"INDEX(Planning!$16:$16,MATCH('Solde d''heure collaborateur'!$A36,Planning!$3:$3))","v":"R"},{"$f":"VLOOKUP(AY36,Horaires!$A$3:$E$49,2,)","v":"Congé"},{"$f":"IF(AZ36=\"vacances\",INDEX(Horaires!$H$3:$L$42,MATCH('Solde d''heure collaborateur'!AZ$2,Horaires!$H$3:$H$40,0),4),IF(AZ36=\"maladie\",INDEX(Horaires!$H$3:$L$42,MATCH('Solde d''heure collaborateur'!AZ$2,Horaires!$H$3:$H$40,0),5),VLOOKUP(AY36,Horaires!$A$3:$E$60,5,)))","v":0},null,{"$f":"INDEX(Planning!$17:$17,MATCH('Solde d''heure collaborateur'!$A36,Planning!$3:$3))","v":"nav1"},{"$f":"VLOOKUP(BC36,Horaires!$A$3:$E$49,2,)","v":"Navigation"},{"$f":"IF(BD36=\"vacances\",INDEX(Horaires!$H$3:$L$42,MATCH('Solde d''heure collaborateur'!BD$2,Horaires!$H$3:$H$40,0),4),IF(BD36=\"maladie\",INDEX(Horaires!$H$3:$L$42,MATCH('Solde d''heure collaborateur'!BD$2,Horaires!$H$3:$H$40,0),5),VLOOKUP(BC36,Horaires!$A$3:$E$60,5,)))","v":0.44791666666666669},null,{"$f":"INDEX(Planning!$18:$18,MATCH('Solde d''heure collaborateur'!$A36,Planning!$3:$3))","v":"R"},{"$f":"VLOOKUP(BG36,Horaires!$A$3:$E$49,2,)","v":"Congé"},{"$f":"IF(BH36=\"vacances\",INDEX(Horaires!$H$3:$L$42,MATCH('Solde d''heure collaborateur'!BH$2,Horaires!$H$3:$H$40,0),4),IF(BH36=\"maladie\",INDEX(Horaires!$H$3:$L$42,MATCH('Solde d''heure collaborateur'!BH$2,Horaires!$H$3:$H$40,0),5),VLOOKUP(BG36,Horaires!$A$3:$E$60,5,)))","v":0},null,{"$f":"INDEX(Planning!$19:$19,MATCH('Solde d''heure collaborateur'!$A36,Planning!$3:$3))","v":"R"},{"$f":"VLOOKUP(BK36,Horaires!$A$3:$E$49,2,)","v":"Congé"},{"$f":"IF(BL36=\"vacances\",INDEX(Horaires!$H$3:$L$42,MATCH('Solde d''heure collaborateur'!BL$2,Horaires!$H$3:$H$40,0),4),IF(BL36=\"maladie\",INDEX(Horaires!$H$3:$L$42,MATCH('Solde d''heure collaborateur'!BL$2,Horaires!$H$3:$H$40,0),5),VLOOKUP(BK36,Horaires!$A$3:$E$60,5,)))","v":0},null,{"$f":"INDEX(Planning!$20:$20,MATCH('Solde d''heure collaborateur'!$A36,Planning!$3:$3))","v":"Aca1"},{"$f":"VLOOKUP(BO36,Horaires!$A$3:$E$49,2,)","v":"Acacias"},{"$f":"IF(BP36=\"vacances\",INDEX(Horaires!$H$3:$L$42,MATCH('Solde d''heure collaborateur'!BP$2,Horaires!$H$3:$H$40,0),4),IF(BP36=\"maladie\",INDEX(Horaires!$H$3:$L$42,MATCH('Solde d''heure collaborateur'!BP$2,Horaires!$H$3:$H$40,0),5),VLOOKUP(BO36,Horaires!$A$3:$E$60,5,)))","v":0.44791666666666669},null,{"$f":"INDEX(Planning!$21:$21,MATCH('Solde d''heure collaborateur'!$A36,Planning!$3:$3))","v":"R"},{"$f":"VLOOKUP(BS36,Horaires!$A$3:$E$49,2,)","v":"Congé"},{"$f":"IF(BT36=\"vacances\",INDEX(Horaires!$H$3:$L$42,MATCH('Solde d''heure collaborateur'!BT$2,Horaires!$H$3:$H$40,0),4),IF(BT36=\"maladie\",INDEX(Horaires!$H$3:$L$42,MATCH('Solde d''heure collaborateur'!BT$2,Horaires!$H$3:$H$40,0),5),VLOOKUP(BS36,Horaires!$A$3:$E$60,5,)))","v":0},null,{"$f":"INDEX(Planning!$22:$22,MATCH('Solde d''heure collaborateur'!$A36,Planning!$3:$3))","v":"ves1"},{"$f":"VLOOKUP(BW36,Horaires!$A$3:$E$49,2,)","v":"Vesenaz"},{"$f":"IF(BX36=\"vacances\",INDEX(Horaires!$H$3:$L$42,MATCH('Solde d''heure collaborateur'!BX$2,Horaires!$H$3:$H$40,0),4),IF(BX36=\"maladie\",INDEX(Horaires!$H$3:$L$42,MATCH('Solde d''heure collaborateur'!BX$2,Horaires!$H$3:$H$40,0),5),VLOOKUP(BW36,Horaires!$A$3:$E$60,5,)))","v":0.44791666666666669},null,{"$f":"INDEX(Planning!$23:$23,MATCH('Solde d''heure collaborateur'!$A36,Planning!$3:$3))","v":"R"},{"$f":"VLOOKUP(CA36,Horaires!$A$3:$E$49,2,)","v":"Congé"},{"$f":"IF(CB36=\"vacances\",INDEX(Horaires!$H$3:$L$42,MATCH('Solde d''heure collaborateur'!CB$2,Horaires!$H$3:$H$40,0),4),IF(CB36=\"maladie\",INDEX(Horaires!$H$3:$L$42,MATCH('Solde d''heure collaborateur'!CB$2,Horaires!$H$3:$H$40,0),5),VLOOKUP(CA36,Horaires!$A$3:$E$60,5,)))","v":0},null,{"$f":"INDEX(Planning!$24:$24,MATCH('Solde d''heure collaborateur'!$A36,Planning!$3:$3))","v":"pom1"},{"$f":"VLOOKUP(CE36,Horaires!$A$3:$E$49,2,)","v":"Pommier"},{"$f":"IF(CF36=\"vacances\",INDEX(Horaires!$H$3:$L$42,MATCH('Solde d''heure collaborateur'!CF$2,Horaires!$H$3:$H$40,0),4),IF(CF36=\"maladie\",INDEX(Horaires!$H$3:$L$42,MATCH('Solde d''heure collaborateur'!CF$2,Horaires!$H$3:$H$40,0),5),VLOOKUP(CE36,Horaires!$A$3:$E$60,5,)))","v":0.44791666666666669},null,{"$f":"INDEX(Planning!$25:$25,MATCH('Solde d''heure collaborateur'!$A36,Planning!$3:$3))","v":"X"},{"$f":"VLOOKUP(CI36,Horaires!$A$3:$E$49,2,)","v":"XXX"},{"$f":"IF(CJ36=\"vacances\",INDEX(Horaires!$H$3:$L$42,MATCH('Solde d''heure collaborateur'!CJ$2,Horaires!$H$3:$H$40,0),4),IF(CJ36=\"maladie\",INDEX(Horaires!$H$3:$L$42,MATCH('Solde d''heure collaborateur'!CJ$2,Horaires!$H$3:$H$40,0),5),VLOOKUP(CI36,Horaires!$A$3:$E$60,5,)))","v":0},null,{"$f":"INDEX(Planning!$26:$26,MATCH('Solde d''heure collaborateur'!$A36,Planning!$3:$3))","v":"Vid1"},{"$f":"VLOOKUP(CM36,Horaires!$A$3:$E$49,2,)","v":"Vidollet"},{"$f":"IF(CN36=\"vacances\",INDEX(Horaires!$H$3:$L$42,MATCH('Solde d''heure collaborateur'!CN$2,Horaires!$H$3:$H$40,0),4),IF(CN36=\"maladie\",INDEX(Horaires!$H$3:$L$42,MATCH('Solde d''heure collaborateur'!CN$2,Horaires!$H$3:$H$40,0),5),VLOOKUP(CM36,Horaires!$A$3:$E$60,5,)))","v":0.44791666666666669},null,{"$f":"INDEX(Planning!$27:$27,MATCH('Solde d''heure collaborateur'!$A36,Planning!$3:$3))","v":"Vib1"},{"$f":"VLOOKUP(CQ36,Horaires!$A$3:$E$49,2,)","v":"Vibert"},{"$f":"IF(CR36=\"vacances\",INDEX(Horaires!$H$3:$L$42,MATCH('Solde d''heure collaborateur'!CR$2,Horaires!$H$3:$H$40,0),4),IF(CR36=\"maladie\",INDEX(Horaires!$H$3:$L$42,MATCH('Solde d''heure collaborateur'!CR$2,Horaires!$H$3:$H$40,0),5),VLOOKUP(CQ36,Horaires!$A$3:$E$60,5,)))","v":0.46875000000000006},null,{"$f":"INDEX(Planning!$28:$28,MATCH('Solde d''heure collaborateur'!$A36,Planning!$3:$3))","v":"tour1"},{"$f":"VLOOKUP(CU36,Horaires!$A$3:$E$49,2,)","v":"Tourelle"},{"$f":"IF(CV36=\"vacances\",INDEX(Horaires!$H$3:$L$42,MATCH('Solde d''heure collaborateur'!CV$2,Horaires!$H$3:$H$40,0),4),IF(CV36=\"maladie\",INDEX(Horaires!$H$3:$L$42,MATCH('Solde d''heure collaborateur'!CV$2,Horaires!$H$3:$H$40,0),5),VLOOKUP(CU36,Horaires!$A$3:$E$60,5,)))","v":0.46875000000000006},null,{"$f":"INDEX(Planning!$29:$29,MATCH('Solde d''heure collaborateur'!$A36,Planning!$3:$3))","v":"X"},{"$f":"VLOOKUP(CY36,Horaires!$A$3:$E$49,2,)","v":"XXX"},{"$f":"IF(CZ36=\"vacances\",INDEX(Horaires!$H$3:$L$42,MATCH('Solde d''heure collaborateur'!CZ$2,Horaires!$H$3:$H$40,0),4),IF(CZ36=\"maladie\",INDEX(Horaires!$H$3:$L$42,MATCH('Solde d''heure collaborateur'!CZ$2,Horaires!$H$3:$H$40,0),5),VLOOKUP(CY36,Horaires!$A$3:$E$60,5,)))","v":0},null,{"$f":"INDEX(Planning!$30:$30,MATCH('Solde d''heure collaborateur'!$A36,Planning!$3:$3))","v":"X"},{"$f":"VLOOKUP(DC36,Horaires!$A$3:$E$49,2,)","v":"XXX"},{"$f":"IF(DD36=\"vacances\",INDEX(Horaires!$H$3:$L$42,MATCH('Solde d''heure collaborateur'!DD$2,Horaires!$H$3:$H$40,0),4),IF(DD36=\"maladie\",INDEX(Horaires!$H$3:$L$42,MATCH('Solde d''heure collaborateur'!DD$2,Horaires!$H$3:$H$40,0),5),VLOOKUP(DC36,Horaires!$A$3:$E$60,5,)))","v":0},null,{"$f":"INDEX(Planning!$31:$31,MATCH('Solde d''heure collaborateur'!$A36,Planning!$3:$3))","v":"X"},{"$f":"VLOOKUP(DG36,Horaires!$A$3:$E$49,2,)","v":"XXX"},{"$f":"IF(DH36=\"vacances\",INDEX(Horaires!$H$3:$L$42,MATCH('Solde d''heure collaborateur'!DH$2,Horaires!$H$3:$H$40,0),4),IF(DH36=\"maladie\",INDEX(Horaires!$H$3:$L$42,MATCH('Solde d''heure collaborateur'!DH$2,Horaires!$H$3:$H$40,0),5),VLOOKUP(DG36,Horaires!$A$3:$E$60,5,)))","v":0},null,{"$f":"INDEX(Planning!$32:$32,MATCH('Solde d''heure collaborateur'!$A36,Planning!$3:$3))","v":"X"},{"$f":"VLOOKUP(DK36,Horaires!$A$3:$E$49,2,)","v":"XXX"},{"$f":"IF(DL36=\"vacances\",INDEX(Horaires!$H$3:$L$42,MATCH('Solde d''heure collaborateur'!DL$2,Horaires!$H$3:$H$40,0),4),IF(DL36=\"maladie\",INDEX(Horaires!$H$3:$L$42,MATCH('Solde d''heure collaborateur'!DL$2,Horaires!$H$3:$H$40,0),5),VLOOKUP(DK36,Horaires!$A$3:$E$60,5,)))","v":0},null,{"$f":"INDEX(Planning!$33:$33,MATCH('Solde d''heure collaborateur'!$A36,Planning!$3:$3))","v":"X"},{"$f":"VLOOKUP(DO36,Horaires!$A$3:$E$49,2,)","v":"XXX"},{"$f":"IF(DP36=\"vacances\",INDEX(Horaires!$H$3:$L$42,MATCH('Solde d''heure collaborateur'!DP$2,Horaires!$H$3:$H$40,0),4),IF(DP36=\"maladie\",INDEX(Horaires!$H$3:$L$42,MATCH('Solde d''heure collaborateur'!DP$2,Horaires!$H$3:$H$40,0),5),VLOOKUP(DO36,Horaires!$A$3:$E$60,5,)))","v":0},null,{"$f":"INDEX(Planning!$34:$34,MATCH('Solde d''heure collaborateur'!$A36,Planning!$3:$3))","v":"X"},{"$f":"VLOOKUP(DS36,Horaires!$A$3:$E$49,2,)","v":"XXX"},{"$f":"IF(DT36=\"vacances\",INDEX(Horaires!$H$3:$L$42,MATCH('Solde d''heure collaborateur'!DT$2,Horaires!$H$3:$H$40,0),4),IF(DT36=\"maladie\",INDEX(Horaires!$H$3:$L$42,MATCH('Solde d''heure collaborateur'!DT$2,Horaires!$H$3:$H$40,0),5),VLOOKUP(DS36,Horaires!$A$3:$E$60,5,)))","v":0},null,{"$f":"INDEX(Planning!$35:$35,MATCH('Solde d''heure collaborateur'!$A36,Planning!$3:$3))","v":"X"},{"$f":"VLOOKUP(DW36,Horaires!$A$3:$E$49,2,)","v":"XXX"},{"$f":"IF(DX36=\"vacances\",INDEX(Horaires!$H$3:$L$42,MATCH('Solde d''heure collaborateur'!DX$2,Horaires!$H$3:$H$40,0),4),IF(DX36=\"maladie\",INDEX(Horaires!$H$3:$L$42,MATCH('Solde d''heure collaborateur'!DX$2,Horaires!$H$3:$H$40,0),5),VLOOKUP(DW36,Horaires!$A$3:$E$60,5,)))","v":0}]
[{"$f":"A36+1","v":"2013-12-03"},null,{"$f":"INDEX(Planning!$4:$4,MATCH('Solde d''heure collaborateur'!A37,Planning!$3:$3,0))","v":"R"},{"$f":"VLOOKUP(C37,Horaires!$A$3:$E$49,2,)","v":"Congé"},{"$f":"IF(D37=\"vacances\",INDEX(Horaires!$H$3:$L$42,MATCH('Solde d''heure collaborateur'!D$2,Horaires!$H$3:$H$40,0),4),IF(D37=\"maladie\",INDEX(Horaires!$H$3:$L$42,MATCH('Solde d''heure collaborateur'!D$2,Horaires!$H$3:$H$40,0),5),VLOOKUP(C37,Horaires!$A$3:$E$60,5,)))","v":0},null,{"$f":"INDEX(Planning!$5:$5,MATCH('Solde d''heure collaborateur'!A37,Planning!$3:$3))","v":"recup"},{"$f":"VLOOKUP(G37,Horaires!$A$3:$E$49,2,)","v":"Récupération"},{"$f":"IF(H37=\"vacances\",INDEX(Horaires!$H$3:$L$42,MATCH('Solde d''heure collaborateur'!H$2,Horaires!$H$3:$H$40,0),4),IF(H37=\"maladie\",INDEX(Horaires!$H$3:$L$42,MATCH('Solde d''heure collaborateur'!H$2,Horaires!$H$3:$H$40,0),5),VLOOKUP(G37,Horaires!$A$3:$E$60,5,)))","v":0},null,{"$f":"INDEX(Planning!$6:$6,MATCH('Solde d''heure collaborateur'!A37,Planning!$3:$3))","v":"M"},{"$f":"VLOOKUP(K37,Horaires!$A$3:$E$49,2,)","v":"Maladie"},{"$f":"IF(L37=\"vacances\",INDEX(Horaires!$H$3:$L$42,MATCH('Solde d''heure collaborateur'!L$2,Horaires!$H$3:$H$40,0),4),IF(L37=\"maladie\",INDEX(Horaires!$H$3:$L$42,MATCH('Solde d''heure collaborateur'!L$2,Horaires!$H$3:$H$40,0),5),VLOOKUP(K37,Horaires!$A$3:$E$60,5,)))","v":0.4375},null,{"$f":"INDEX(Planning!$7:$7,MATCH('Solde d''heure collaborateur'!$A37,Planning!$3:$3))","v":"Vib1"},{"$f":"VLOOKUP(O37,Horaires!$A$3:$E$49,2,)","v":"Vibert"},{"$f":"IF(P37=\"vacances\",INDEX(Horaires!$H$3:$L$42,MATCH('Solde d''heure collaborateur'!P$2,Horaires!$H$3:$H$40,0),4),IF(P37=\"maladie\",INDEX(Horaires!$H$3:$L$42,MATCH('Solde d''heure collaborateur'!P$2,Horaires!$H$3:$H$40,0),5),VLOOKUP(O37,Horaires!$A$3:$E$60,5,)))","v":0.46875000000000006},null,{"$f":"INDEX(Planning!$8:$8,MATCH('Solde d''heure collaborateur'!$A37,Planning!$3:$3))","v":"Onex1"},{"$f":"VLOOKUP(S37,Horaires!$A$3:$E$49,2,)","v":"Onex"},{"$f":"IF(T37=\"vacances\",INDEX(Horaires!$H$3:$L$42,MATCH('Solde d''heure collaborateur'!T$2,Horaires!$H$3:$H$40,0),4),IF(T37=\"maladie\",INDEX(Horaires!$H$3:$L$42,MATCH('Solde d''heure collaborateur'!T$2,Horaires!$H$3:$H$40,0),5),VLOOKUP(S37,Horaires!$A$3:$E$60,5,)))","v":0.46875000000000006},null,{"$f":"INDEX(Planning!$9:$9,MATCH('Solde d''heure collaborateur'!$A37,Planning!$3:$3))","v":"X"},{"$f":"VLOOKUP(W37,Horaires!$A$3:$E$49,2,)","v":"XXX"},{"$f":"IF(X37=\"vacances\",INDEX(Horaires!$H$3:$L$42,MATCH('Solde d''heure collaborateur'!X$2,Horaires!$H$3:$H$40,0),4),IF(X37=\"maladie\",INDEX(Horaires!$H$3:$L$42,MATCH('Solde d''heure collaborateur'!X$2,Horaires!$H$3:$H$40,0),5),VLOOKUP(W37,Horaires!$A$3:$E$60,5,)))","v":0},null,{"$f":"INDEX(Planning!$10:$10,MATCH('Solde d''heure collaborateur'!$A37,Planning!$3:$3))","v":"onex1"},{"$f":"VLOOKUP(AA37,Horaires!$A$3:$E$49,2,)","v":"Onex"},{"$f":"IF(AB37=\"vacances\",INDEX(Horaires!$H$3:$L$42,MATCH('Solde d''heure collaborateur'!AB$2,Horaires!$H$3:$H$40,0),4),IF(AB37=\"maladie\",INDEX(Horaires!$H$3:$L$42,MATCH('Solde d''heure collaborateur'!AB$2,Horaires!$H$3:$H$40,0),5),VLOOKUP(AA37,Horaires!$A$3:$E$60,5,)))","v":0.46875000000000006},null,{"$f":"INDEX(Planning!$11:$11,MATCH('Solde d''heure collaborateur'!$A37,Planning!$3:$3))","v":"Plo1"},{"$f":"VLOOKUP(AE37,Horaires!$A$3:$E$49,2,)","v":"Plan les Ouates"},{"$f":"IF(AF37=\"vacances\",INDEX(Horaires!$H$3:$L$42,MATCH('Solde d''heure collaborateur'!AF$2,Horaires!$H$3:$H$40,0),4),IF(AF37=\"maladie\",INDEX(Horaires!$H$3:$L$42,MATCH('Solde d''heure collaborateur'!AF$2,Horaires!$H$3:$H$40,0),5),VLOOKUP(AE37,Horaires!$A$3:$E$60,5,)))","v":0.46875000000000006},null,{"$f":"INDEX(Planning!$12:$12,MATCH('Solde d''heure collaborateur'!$A37,Planning!$3:$3))","v":"Thon1"},{"$f":"VLOOKUP(AI37,Horaires!$A$3:$E$49,2,)","v":"Thonex"},{"$f":"IF(AJ37=\"vacances\",INDEX(Horaires!$H$3:$L$42,MATCH('Solde d''heure collaborateur'!AJ$2,Horaires!$H$3:$H$40,0),4),IF(AJ37=\"maladie\",INDEX(Horaires!$H$3:$L$42,MATCH('Solde d''heure collaborateur'!AJ$2,Horaires!$H$3:$H$40,0),5),VLOOKUP(AI37,Horaires!$A$3:$E$60,5,)))","v":0.44791666666666669},null,{"$f":"INDEX(Planning!$13:$13,MATCH('Solde d''heure collaborateur'!$A37,Planning!$3:$3))","v":"pom1"},{"$f":"VLOOKUP(AM37,Horaires!$A$3:$E$49,2,)","v":"Pommier"},{"$f":"IF(AN37=\"vacances\",INDEX(Horaires!$H$3:$L$42,MATCH('Solde d''heure collaborateur'!AN$2,Horaires!$H$3:$H$40,0),4),IF(AN37=\"maladie\",INDEX(Horaires!$H$3:$L$42,MATCH('Solde d''heure collaborateur'!AN$2,Horaires!$H$3:$H$40,0),5),VLOOKUP(AM37,Horaires!$A$3:$E$60,5,)))","v":0.44791666666666669},null,{"$f":"INDEX(Planning!$14:$14,MATCH('Solde d''heure collaborateur'!$A37,Planning!$3:$3))","v":"X"},{"$f":"VLOOKUP(AQ37,Horaires!$A$3:$E$49,2,)","v":"XXX"},{"$f":"IF(AR37=\"vacances\",INDEX(Horaires!$H$3:$L$42,MATCH('Solde d''heure collaborateur'!AR$2,Horaires!$H$3:$H$40,0),4),IF(AR37=\"maladie\",INDEX(Horaires!$H$3:$L$42,MATCH('Solde d''heure collaborateur'!AR$2,Horaires!$H$3:$H$40,0),5),VLOOKUP(AQ37,Horaires!$A$3:$E$60,5,)))","v":0},null,{"$f":"INDEX(Planning!$15:$15,MATCH('Solde d''heure collaborateur'!$A37,Planning!$3:$3))","v":"Nyon1"},{"$f":"VLOOKUP(AU37,Horaires!$A$3:$E$49,2,)","v":"Nyon"},{"$f":"IF(AV37=\"vacances\",INDEX(Horaires!$H$3:$L$42,MATCH('Solde d''heure collaborateur'!AV$2,Horaires!$H$3:$H$40,0),4),IF(AV37=\"maladie\",INDEX(Horaires!$H$3:$L$42,MATCH('Solde d''heure collaborateur'!AV$2,Horaires!$H$3:$H$40,0),5),VLOOKUP(AU37,Horaires!$A$3:$E$60,5,)))","v":0.44791666666666669},null,{"$f":"INDEX(Planning!$16:$16,MATCH('Solde d''heure collaborateur'!$A37,Planning!$3:$3))","v":"R"},{"$f":"VLOOKUP(AY37,Horaires!$A$3:$E$49,2,)","v":"Congé"},{"$f":"IF(AZ37=\"vacances\",INDEX(Horaires!$H$3:$L$42,MATCH('Solde d''heure collaborateur'!AZ$2,Horaires!$H$3:$H$40,0),4),IF(AZ37=\"maladie\",INDEX(Horaires!$H$3:$L$42,MATCH('Solde d''heure collaborateur'!AZ$2,Horaires!$H$3:$H$40,0),5),VLOOKUP(AY37,Horaires!$A$3:$E$60,5,)))","v":0},null,{"$f":"INDEX(Planning!$17:$17,MATCH('Solde d''heure collaborateur'!$A37,Planning!$3:$3))","v":"nav1"},{"$f":"VLOOKUP(BC37,Horaires!$A$3:$E$49,2,)","v":"Navigation"},{"$f":"IF(BD37=\"vacances\",INDEX(Horaires!$H$3:$L$42,MATCH('Solde d''heure collaborateur'!BD$2,Horaires!$H$3:$H$40,0),4),IF(BD37=\"maladie\",INDEX(Horaires!$H$3:$L$42,MATCH('Solde d''heure collaborateur'!BD$2,Horaires!$H$3:$H$40,0),5),VLOOKUP(BC37,Horaires!$A$3:$E$60,5,)))","v":0.44791666666666669},null,{"$f":"INDEX(Planning!$18:$18,MATCH('Solde d''heure collaborateur'!$A37,Planning!$3:$3))","v":"R"},{"$f":"VLOOKUP(BG37,Horaires!$A$3:$E$49,2,)","v":"Congé"},{"$f":"IF(BH37=\"vacances\",INDEX(Horaires!$H$3:$L$42,MATCH('Solde d''heure collaborateur'!BH$2,Horaires!$H$3:$H$40,0),4),IF(BH37=\"maladie\",INDEX(Horaires!$H$3:$L$42,MATCH('Solde d''heure collaborateur'!BH$2,Horaires!$H$3:$H$40,0),5),VLOOKUP(BG37,Horaires!$A$3:$E$60,5,)))","v":0},null,{"$f":"INDEX(Planning!$19:$19,MATCH('Solde d''heure collaborateur'!$A37,Planning!$3:$3))","v":"R"},{"$f":"VLOOKUP(BK37,Horaires!$A$3:$E$49,2,)","v":"Congé"},{"$f":"IF(BL37=\"vacances\",INDEX(Horaires!$H$3:$L$42,MATCH('Solde d''heure collaborateur'!BL$2,Horaires!$H$3:$H$40,0),4),IF(BL37=\"maladie\",INDEX(Horaires!$H$3:$L$42,MATCH('Solde d''heure collaborateur'!BL$2,Horaires!$H$3:$H$40,0),5),VLOOKUP(BK37,Horaires!$A$3:$E$60,5,)))","v":0},null,{"$f":"INDEX(Planning!$20:$20,MATCH('Solde d''heure collaborateur'!$A37,Planning!$3:$3))","v":"Aca1"},{"$f":"VLOOKUP(BO37,Horaires!$A$3:$E$49,2,)","v":"Acacias"},{"$f":"IF(BP37=\"vacances\",INDEX(Horaires!$H$3:$L$42,MATCH('Solde d''heure collaborateur'!BP$2,Horaires!$H$3:$H$40,0),4),IF(BP37=\"maladie\",INDEX(Horaires!$H$3:$L$42,MATCH('Solde d''heure collaborateur'!BP$2,Horaires!$H$3:$H$40,0),5),VLOOKUP(BO37,Horaires!$A$3:$E$60,5,)))","v":0.44791666666666669},null,{"$f":"INDEX(Planning!$21:$21,MATCH('Solde d''heure collaborateur'!$A37,Planning!$3:$3))","v":"R"},{"$f":"VLOOKUP(BS37,Horaires!$A$3:$E$49,2,)","v":"Congé"},{"$f":"IF(BT37=\"vacances\",INDEX(Horaires!$H$3:$L$42,MATCH('Solde d''heure collaborateur'!BT$2,Horaires!$H$3:$H$40,0),4),IF(BT37=\"maladie\",INDEX(Horaires!$H$3:$L$42,MATCH('Solde d''heure collaborateur'!BT$2,Horaires!$H$3:$H$40,0),5),VLOOKUP(BS37,Horaires!$A$3:$E$60,5,)))","v":0},null,{"$f":"INDEX(Planning!$22:$22,MATCH('Solde d''heure collaborateur'!$A37,Planning!$3:$3))","v":"Ves1"},{"$f":"VLOOKUP(BW37,Horaires!$A$3:$E$49,2,)","v":"Vesenaz"},{"$f":"IF(BX37=\"vacances\",INDEX(Horaires!$H$3:$L$42,MATCH('Solde d''heure collaborateur'!BX$2,Horaires!$H$3:$H$40,0),4),IF(BX37=\"maladie\",INDEX(Horaires!$H$3:$L$42,MATCH('Solde d''heure collaborateur'!BX$2,Horaires!$H$3:$H$40,0),5),VLOOKUP(BW37,Horaires!$A$3:$E$60,5,)))","v":0.44791666666666669},null,{"$f":"INDEX(Planning!$23:$23,MATCH('Solde d''heure collaborateur'!$A37,Planning!$3:$3))","v":"R"},{"$f":"VLOOKUP(CA37,Horaires!$A$3:$E$49,2,)","v":"Congé"},{"$f":"IF(CB37=\"vacances\",INDEX(Horaires!$H$3:$L$42,MATCH('Solde d''heure collaborateur'!CB$2,Horaires!$H$3:$H$40,0),4),IF(CB37=\"maladie\",INDEX(Horaires!$H$3:$L$42,MATCH('Solde d''heure collaborateur'!CB$2,Horaires!$H$3:$H$40,0),5),VLOOKUP(CA37,Horaires!$A$3:$E$60,5,)))","v":0},null,{"$f":"INDEX(Planning!$24:$24,MATCH('Solde d''heure collaborateur'!$A37,Planning!$3:$3))","v":"R"},{"$f":"VLOOKUP(CE37,Horaires!$A$3:$E$49,2,)","v":"Congé"},{"$f":"IF(CF37=\"vacances\",INDEX(Horaires!$H$3:$L$42,MATCH('Solde d''heure collaborateur'!CF$2,Horaires!$H$3:$H$40,0),4),IF(CF37=\"maladie\",INDEX(Horaires!$H$3:$L$42,MATCH('Solde d''heure collaborateur'!CF$2,Horaires!$H$3:$H$40,0),5),VLOOKUP(CE37,Horaires!$A$3:$E$60,5,)))","v":0},null,{"$f":"INDEX(Planning!$25:$25,MATCH('Solde d''heure collaborateur'!$A37,Planning!$3:$3))","v":"X"},{"$f":"VLOOKUP(CI37,Horaires!$A$3:$E$49,2,)","v":"XXX"},{"$f":"IF(CJ37=\"vacances\",INDEX(Horaires!$H$3:$L$42,MATCH('Solde d''heure collaborateur'!CJ$2,Horaires!$H$3:$H$40,0),4),IF(CJ37=\"maladie\",INDEX(Horaires!$H$3:$L$42,MATCH('Solde d''heure collaborateur'!CJ$2,Horaires!$H$3:$H$40,0),5),VLOOKUP(CI37,Horaires!$A$3:$E$60,5,)))","v":0},null,{"$f":"INDEX(Planning!$26:$26,MATCH('Solde d''heure collaborateur'!$A37,Planning!$3:$3))","v":"Vid1"},{"$f":"VLOOKUP(CM37,Horaires!$A$3:$E$49,2,)","v":"Vidollet"},{"$f":"IF(CN37=\"vacances\",INDEX(Horaires!$H$3:$L$42,MATCH('Solde d''heure collaborateur'!CN$2,Horaires!$H$3:$H$40,0),4),IF(CN37=\"maladie\",INDEX(Horaires!$H$3:$L$42,MATCH('Solde d''heure collaborateur'!CN$2,Horaires!$H$3:$H$40,0),5),VLOOKUP(CM37,Horaires!$A$3:$E$60,5,)))","v":0.44791666666666669},null,{"$f":"INDEX(Planning!$27:$27,MATCH('Solde d''heure collaborateur'!$A37,Planning!$3:$3))","v":"vib1"},{"$f":"VLOOKUP(CQ37,Horaires!$A$3:$E$49,2,)","v":"Vibert"},{"$f":"IF(CR37=\"vacances\",INDEX(Horaires!$H$3:$L$42,MATCH('Solde d''heure collaborateur'!CR$2,Horaires!$H$3:$H$40,0),4),IF(CR37=\"maladie\",INDEX(Horaires!$H$3:$L$42,MATCH('Solde d''heure collaborateur'!CR$2,Horaires!$H$3:$H$40,0),5),VLOOKUP(CQ37,Horaires!$A$3:$E$60,5,)))","v":0.46875000000000006},null,{"$f":"INDEX(Planning!$28:$28,MATCH('Solde d''heure collaborateur'!$A37,Planning!$3:$3))","v":"tour1"},{"$f":"VLOOKUP(CU37,Horaires!$A$3:$E$49,2,)","v":"Tourelle"},{"$f":"IF(CV37=\"vacances\",INDEX(Horaires!$H$3:$L$42,MATCH('Solde d''heure collaborateur'!CV$2,Horaires!$H$3:$H$40,0),4),IF(CV37=\"maladie\",INDEX(Horaires!$H$3:$L$42,MATCH('Solde d''heure collaborateur'!CV$2,Horaires!$H$3:$H$40,0),5),VLOOKUP(CU37,Horaires!$A$3:$E$60,5,)))","v":0.46875000000000006},null,{"$f":"INDEX(Planning!$29:$29,MATCH('Solde d''heure collaborateur'!$A37,Planning!$3:$3))","v":"X"},{"$f":"VLOOKUP(CY37,Horaires!$A$3:$E$49,2,)","v":"XXX"},{"$f":"IF(CZ37=\"vacances\",INDEX(Horaires!$H$3:$L$42,MATCH('Solde d''heure collaborateur'!CZ$2,Horaires!$H$3:$H$40,0),4),IF(CZ37=\"maladie\",INDEX(Horaires!$H$3:$L$42,MATCH('Solde d''heure collaborateur'!CZ$2,Horaires!$H$3:$H$40,0),5),VLOOKUP(CY37,Horaires!$A$3:$E$60,5,)))","v":0},null,{"$f":"INDEX(Planning!$30:$30,MATCH('Solde d''heure collaborateur'!$A37,Planning!$3:$3))","v":"X"},{"$f":"VLOOKUP(DC37,Horaires!$A$3:$E$49,2,)","v":"XXX"},{"$f":"IF(DD37=\"vacances\",INDEX(Horaires!$H$3:$L$42,MATCH('Solde d''heure collaborateur'!DD$2,Horaires!$H$3:$H$40,0),4),IF(DD37=\"maladie\",INDEX(Horaires!$H$3:$L$42,MATCH('Solde d''heure collaborateur'!DD$2,Horaires!$H$3:$H$40,0),5),VLOOKUP(DC37,Horaires!$A$3:$E$60,5,)))","v":0},null,{"$f":"INDEX(Planning!$31:$31,MATCH('Solde d''heure collaborateur'!$A37,Planning!$3:$3))","v":"X"},{"$f":"VLOOKUP(DG37,Horaires!$A$3:$E$49,2,)","v":"XXX"},{"$f":"IF(DH37=\"vacances\",INDEX(Horaires!$H$3:$L$42,MATCH('Solde d''heure collaborateur'!DH$2,Horaires!$H$3:$H$40,0),4),IF(DH37=\"maladie\",INDEX(Horaires!$H$3:$L$42,MATCH('Solde d''heure collaborateur'!DH$2,Horaires!$H$3:$H$40,0),5),VLOOKUP(DG37,Horaires!$A$3:$E$60,5,)))","v":0},null,{"$f":"INDEX(Planning!$32:$32,MATCH('Solde d''heure collaborateur'!$A37,Planning!$3:$3))","v":"X"},{"$f":"VLOOKUP(DK37,Horaires!$A$3:$E$49,2,)","v":"XXX"},{"$f":"IF(DL37=\"vacances\",INDEX(Horaires!$H$3:$L$42,MATCH('Solde d''heure collaborateur'!DL$2,Horaires!$H$3:$H$40,0),4),IF(DL37=\"maladie\",INDEX(Horaires!$H$3:$L$42,MATCH('Solde d''heure collaborateur'!DL$2,Horaires!$H$3:$H$40,0),5),VLOOKUP(DK37,Horaires!$A$3:$E$60,5,)))","v":0},null,{"$f":"INDEX(Planning!$33:$33,MATCH('Solde d''heure collaborateur'!$A37,Planning!$3:$3))","v":"X"},{"$f":"VLOOKUP(DO37,Horaires!$A$3:$E$49,2,)","v":"XXX"},{"$f":"IF(DP37=\"vacances\",INDEX(Horaires!$H$3:$L$42,MATCH('Solde d''heure collaborateur'!DP$2,Horaires!$H$3:$H$40,0),4),IF(DP37=\"maladie\",INDEX(Horaires!$H$3:$L$42,MATCH('Solde d''heure collaborateur'!DP$2,Horaires!$H$3:$H$40,0),5),VLOOKUP(DO37,Horaires!$A$3:$E$60,5,)))","v":0},null,{"$f":"INDEX(Planning!$34:$34,MATCH('Solde d''heure collaborateur'!$A37,Planning!$3:$3))","v":"X"},{"$f":"VLOOKUP(DS37,Horaires!$A$3:$E$49,2,)","v":"XXX"},{"$f":"IF(DT37=\"vacances\",INDEX(Horaires!$H$3:$L$42,MATCH('Solde d''heure collaborateur'!DT$2,Horaires!$H$3:$H$40,0),4),IF(DT37=\"maladie\",INDEX(Horaires!$H$3:$L$42,MATCH('Solde d''heure collaborateur'!DT$2,Horaires!$H$3:$H$40,0),5),VLOOKUP(DS37,Horaires!$A$3:$E$60,5,)))","v":0},null,{"$f":"INDEX(Planning!$35:$35,MATCH('Solde d''heure collaborateur'!$A37,Planning!$3:$3))","v":"X"},{"$f":"VLOOKUP(DW37,Horaires!$A$3:$E$49,2,)","v":"XXX"},{"$f":"IF(DX37=\"vacances\",INDEX(Horaires!$H$3:$L$42,MATCH('Solde d''heure collaborateur'!DX$2,Horaires!$H$3:$H$40,0),4),IF(DX37=\"maladie\",INDEX(Horaires!$H$3:$L$42,MATCH('Solde d''heure collaborateur'!DX$2,Horaires!$H$3:$H$40,0),5),VLOOKUP(DW37,Horaires!$A$3:$E$60,5,)))","v":0}]
[{"$f":"A37+1","v":"2013-12-04"},null,{"$f":"INDEX(Planning!$4:$4,MATCH('Solde d''heure collaborateur'!A38,Planning!$3:$3,0))","v":"Nav1"},{"$f":"VLOOKUP(C38,Horaires!$A$3:$E$49,2,)","v":"Navigation"},{"$f":"IF(D38=\"vacances\",INDEX(Horaires!$H$3:$L$42,MATCH('Solde d''heure collaborateur'!D$2,Horaires!$H$3:$H$40,0),4),IF(D38=\"maladie\",INDEX(Horaires!$H$3:$L$42,MATCH('Solde d''heure collaborateur'!D$2,Horaires!$H$3:$H$40,0),5),VLOOKUP(C38,Horaires!$A$3:$E$60,5,)))","v":0.44791666666666669},null,{"$f":"INDEX(Planning!$5:$5,MATCH('Solde d''heure collaborateur'!A38,Planning!$3:$3))","v":"R"},{"$f":"VLOOKUP(G38,Horaires!$A$3:$E$49,2,)","v":"Congé"},{"$f":"IF(H38=\"vacances\",INDEX(Horaires!$H$3:$L$42,MATCH('Solde d''heure collaborateur'!H$2,Horaires!$H$3:$H$40,0),4),IF(H38=\"maladie\",INDEX(Horaires!$H$3:$L$42,MATCH('Solde d''heure collaborateur'!H$2,Horaires!$H$3:$H$40,0),5),VLOOKUP(G38,Horaires!$A$3:$E$60,5,)))","v":0},null,{"$f":"INDEX(Planning!$6:$6,MATCH('Solde d''heure collaborateur'!A38,Planning!$3:$3))","v":"M"},{"$f":"VLOOKUP(K38,Horaires!$A$3:$E$49,2,)","v":"Maladie"},{"$f":"IF(L38=\"vacances\",INDEX(Horaires!$H$3:$L$42,MATCH('Solde d''heure collaborateur'!L$2,Horaires!$H$3:$H$40,0),4),IF(L38=\"maladie\",INDEX(Horaires!$H$3:$L$42,MATCH('Solde d''heure collaborateur'!L$2,Horaires!$H$3:$H$40,0),5),VLOOKUP(K38,Horaires!$A$3:$E$60,5,)))","v":0.4375},null,{"$f":"INDEX(Planning!$7:$7,MATCH('Solde d''heure collaborateur'!$A38,Planning!$3:$3))","v":"X"},{"$f":"VLOOKUP(O38,Horaires!$A$3:$E$49,2,)","v":"XXX"},{"$f":"IF(P38=\"vacances\",INDEX(Horaires!$H$3:$L$42,MATCH('Solde d''heure collaborateur'!P$2,Horaires!$H$3:$H$40,0),4),IF(P38=\"maladie\",INDEX(Horaires!$H$3:$L$42,MATCH('Solde d''heure collaborateur'!P$2,Horaires!$H$3:$H$40,0),5),VLOOKUP(O38,Horaires!$A$3:$E$60,5,)))","v":0},null,{"$f":"INDEX(Planning!$8:$8,MATCH('Solde d''heure collaborateur'!$A38,Planning!$3:$3))","v":"Onex1"},{"$f":"VLOOKUP(S38,Horaires!$A$3:$E$49,2,)","v":"Onex"},{"$f":"IF(T38=\"vacances\",INDEX(Horaires!$H$3:$L$42,MATCH('Solde d''heure collaborateur'!T$2,Horaires!$H$3:$H$40,0),4),IF(T38=\"maladie\",INDEX(Horaires!$H$3:$L$42,MATCH('Solde d''heure collaborateur'!T$2,Horaires!$H$3:$H$40,0),5),VLOOKUP(S38,Horaires!$A$3:$E$60,5,)))","v":0.46875000000000006},null,{"$f":"INDEX(Planning!$9:$9,MATCH('Solde d''heure collaborateur'!$A38,Planning!$3:$3))","v":"Onex1"},{"$f":"VLOOKUP(W38,Horaires!$A$3:$E$49,2,)","v":"Onex"},{"$f":"IF(X38=\"vacances\",INDEX(Horaires!$H$3:$L$42,MATCH('Solde d''heure collaborateur'!X$2,Horaires!$H$3:$H$40,0),4),IF(X38=\"maladie\",INDEX(Horaires!$H$3:$L$42,MATCH('Solde d''heure collaborateur'!X$2,Horaires!$H$3:$H$40,0),5),VLOOKUP(W38,Horaires!$A$3:$E$60,5,)))","v":0.46875000000000006},null,{"$f":"INDEX(Planning!$10:$10,MATCH('Solde d''heure collaborateur'!$A38,Planning!$3:$3))","v":"R"},{"$f":"VLOOKUP(AA38,Horaires!$A$3:$E$49,2,)","v":"Congé"},{"$f":"IF(AB38=\"vacances\",INDEX(Horaires!$H$3:$L$42,MATCH('Solde d''heure collaborateur'!AB$2,Horaires!$H$3:$H$40,0),4),IF(AB38=\"maladie\",INDEX(Horaires!$H$3:$L$42,MATCH('Solde d''heure collaborateur'!AB$2,Horaires!$H$3:$H$40,0),5),VLOOKUP(AA38,Horaires!$A$3:$E$60,5,)))","v":0},null,{"$f":"INDEX(Planning!$11:$11,MATCH('Solde d''heure collaborateur'!$A38,Planning!$3:$3))","v":"R"},{"$f":"VLOOKUP(AE38,Horaires!$A$3:$E$49,2,)","v":"Congé"},{"$f":"IF(AF38=\"vacances\",INDEX(Horaires!$H$3:$L$42,MATCH('Solde d''heure collaborateur'!AF$2,Horaires!$H$3:$H$40,0),4),IF(AF38=\"maladie\",INDEX(Horaires!$H$3:$L$42,MATCH('Solde d''heure collaborateur'!AF$2,Horaires!$H$3:$H$40,0),5),VLOOKUP(AE38,Horaires!$A$3:$E$60,5,)))","v":0},null,{"$f":"INDEX(Planning!$12:$12,MATCH('Solde d''heure collaborateur'!$A38,Planning!$3:$3))","v":"R"},{"$f":"VLOOKUP(AI38,Horaires!$A$3:$E$49,2,)","v":"Congé"},{"$f":"IF(AJ38=\"vacances\",INDEX(Horaires!$H$3:$L$42,MATCH('Solde d''heure collaborateur'!AJ$2,Horaires!$H$3:$H$40,0),4),IF(AJ38=\"maladie\",INDEX(Horaires!$H$3:$L$42,MATCH('Solde d''heure collaborateur'!AJ$2,Horaires!$H$3:$H$40,0),5),VLOOKUP(AI38,Horaires!$A$3:$E$60,5,)))","v":0},null,{"$f":"INDEX(Planning!$13:$13,MATCH('Solde d''heure collaborateur'!$A38,Planning!$3:$3))","v":"pom1"},{"$f":"VLOOKUP(AM38,Horaires!$A$3:$E$49,2,)","v":"Pommier"},{"$f":"IF(AN38=\"vacances\",INDEX(Horaires!$H$3:$L$42,MATCH('Solde d''heure collaborateur'!AN$2,Horaires!$H$3:$H$40,0),4),IF(AN38=\"maladie\",INDEX(Horaires!$H$3:$L$42,MATCH('Solde d''heure collaborateur'!AN$2,Horaires!$H$3:$H$40,0),5),VLOOKUP(AM38,Horaires!$A$3:$E$60,5,)))","v":0.44791666666666669},null,{"$f":"INDEX(Planning!$14:$14,MATCH('Solde d''heure collaborateur'!$A38,Planning!$3:$3))","v":"X"},{"$f":"VLOOKUP(AQ38,Horaires!$A$3:$E$49,2,)","v":"XXX"},{"$f":"IF(AR38=\"vacances\",INDEX(Horaires!$H$3:$L$42,MATCH('Solde d''heure collaborateur'!AR$2,Horaires!$H$3:$H$40,0),4),IF(AR38=\"maladie\",INDEX(Horaires!$H$3:$L$42,MATCH('Solde d''heure collaborateur'!AR$2,Horaires!$H$3:$H$40,0),5),VLOOKUP(AQ38,Horaires!$A$3:$E$60,5,)))","v":0},null,{"$f":"INDEX(Planning!$15:$15,MATCH('Solde d''heure collaborateur'!$A38,Planning!$3:$3))","v":"Nyon1"},{"$f":"VLOOKUP(AU38,Horaires!$A$3:$E$49,2,)","v":"Nyon"},{"$f":"IF(AV38=\"vacances\",INDEX(Horaires!$H$3:$L$42,MATCH('Solde d''heure collaborateur'!AV$2,Horaires!$H$3:$H$40,0),4),IF(AV38=\"maladie\",INDEX(Horaires!$H$3:$L$42,MATCH('Solde d''heure collaborateur'!AV$2,Horaires!$H$3:$H$40,0),5),VLOOKUP(AU38,Horaires!$A$3:$E$60,5,)))","v":0.44791666666666669},null,{"$f":"INDEX(Planning!$16:$16,MATCH('Solde d''heure collaborateur'!$A38,Planning!$3:$3))","v":"Vid1"},{"$f":"VLOOKUP(AY38,Horaires!$A$3:$E$49,2,)","v":"Vidollet"},{"$f":"IF(AZ38=\"vacances\",INDEX(Horaires!$H$3:$L$42,MATCH('Solde d''heure collaborateur'!AZ$2,Horaires!$H$3:$H$40,0),4),IF(AZ38=\"maladie\",INDEX(Horaires!$H$3:$L$42,MATCH('Solde d''heure collaborateur'!AZ$2,Horaires!$H$3:$H$40,0),5),VLOOKUP(AY38,Horaires!$A$3:$E$60,5,)))","v":0.44791666666666669},null,{"$f":"INDEX(Planning!$17:$17,MATCH('Solde d''heure collaborateur'!$A38,Planning!$3:$3))","v":"R"},{"$f":"VLOOKUP(BC38,Horaires!$A$3:$E$49,2,)","v":"Congé"},{"$f":"IF(BD38=\"vacances\",INDEX(Horaires!$H$3:$L$42,MATCH('Solde d''heure collaborateur'!BD$2,Horaires!$H$3:$H$40,0),4),IF(BD38=\"maladie\",INDEX(Horaires!$H$3:$L$42,MATCH('Solde d''heure collaborateur'!BD$2,Horaires!$H$3:$H$40,0),5),VLOOKUP(BC38,Horaires!$A$3:$E$60,5,)))","v":0},null,{"$f":"INDEX(Planning!$18:$18,MATCH('Solde d''heure collaborateur'!$A38,Planning!$3:$3))","v":"Vib1"},{"$f":"VLOOKUP(BG38,Horaires!$A$3:$E$49,2,)","v":"Vibert"},{"$f":"IF(BH38=\"vacances\",INDEX(Horaires!$H$3:$L$42,MATCH('Solde d''heure collaborateur'!BH$2,Horaires!$H$3:$H$40,0),4),IF(BH38=\"maladie\",INDEX(Horaires!$H$3:$L$42,MATCH('Solde d''heure collaborateur'!BH$2,Horaires!$H$3:$H$40,0),5),VLOOKUP(BG38,Horaires!$A$3:$E$60,5,)))","v":0.46875000000000006},null,{"$f":"INDEX(Planning!$19:$19,MATCH('Solde d''heure collaborateur'!$A38,Planning!$3:$3))","v":"Vib1"},{"$f":"VLOOKUP(BK38,Horaires!$A$3:$E$49,2,)","v":"Vibert"},{"$f":"IF(BL38=\"vacances\",INDEX(Horaires!$H$3:$L$42,MATCH('Solde d''heure collaborateur'!BL$2,Horaires!$H$3:$H$40,0),4),IF(BL38=\"maladie\",INDEX(Horaires!$H$3:$L$42,MATCH('Solde d''heure collaborateur'!BL$2,Horaires!$H$3:$H$40,0),5),VLOOKUP(BK38,Horaires!$A$3:$E$60,5,)))","v":0.46875000000000006},null,{"$f":"INDEX(Planning!$20:$20,MATCH('Solde d''heure collaborateur'!$A38,Planning!$3:$3))","v":"Aca1"},{"$f":"VLOOKUP(BO38,Horaires!$A$3:$E$49,2,)","v":"Acacias"},{"$f":"IF(BP38=\"vacances\",INDEX(Horaires!$H$3:$L$42,MATCH('Solde d''heure collaborateur'!BP$2,Horaires!$H$3:$H$40,0),4),IF(BP38=\"maladie\",INDEX(Horaires!$H$3:$L$42,MATCH('Solde d''heure collaborateur'!BP$2,Horaires!$H$3:$H$40,0),5),VLOOKUP(BO38,Horaires!$A$3:$E$60,5,)))","v":0.44791666666666669},null,{"$f":"INDEX(Planning!$21:$21,MATCH('Solde d''heure collaborateur'!$A38,Planning!$3:$3))","v":"Ves1"},{"$f":"VLOOKUP(BS38,Horaires!$A$3:$E$49,2,)","v":"Vesenaz"},{"$f":"IF(BT38=\"vacances\",INDEX(Horaires!$H$3:$L$42,MATCH('Solde d''heure collaborateur'!BT$2,Horaires!$H$3:$H$40,0),4),IF(BT38=\"maladie\",INDEX(Horaires!$H$3:$L$42,MATCH('Solde d''heure collaborateur'!BT$2,Horaires!$H$3:$H$40,0),5),VLOOKUP(BS38,Horaires!$A$3:$E$60,5,)))","v":0.44791666666666669},null,{"$f":"INDEX(Planning!$22:$22,MATCH('Solde d''heure collaborateur'!$A38,Planning!$3:$3))","v":"X"},{"$f":"VLOOKUP(BW38,Horaires!$A$3:$E$49,2,)","v":"XXX"},{"$f":"IF(BX38=\"vacances\",INDEX(Horaires!$H$3:$L$42,MATCH('Solde d''heure collaborateur'!BX$2,Horaires!$H$3:$H$40,0),4),IF(BX38=\"maladie\",INDEX(Horaires!$H$3:$L$42,MATCH('Solde d''heure collaborateur'!BX$2,Horaires!$H$3:$H$40,0),5),VLOOKUP(BW38,Horaires!$A$3:$E$60,5,)))","v":0},null,{"$f":"INDEX(Planning!$23:$23,MATCH('Solde d''heure collaborateur'!$A38,Planning!$3:$3))","v":"Plo1"},{"$f":"VLOOKUP(CA38,Horaires!$A$3:$E$49,2,)","v":"Plan les Ouates"},{"$f":"IF(CB38=\"vacances\",INDEX(Horaires!$H$3:$L$42,MATCH('Solde d''heure collaborateur'!CB$2,Horaires!$H$3:$H$40,0),4),IF(CB38=\"maladie\",INDEX(Horaires!$H$3:$L$42,MATCH('Solde d''heure collaborateur'!CB$2,Horaires!$H$3:$H$40,0),5),VLOOKUP(CA38,Horaires!$A$3:$E$60,5,)))","v":0.46875000000000006},null,{"$f":"INDEX(Planning!$24:$24,MATCH('Solde d''heure collaborateur'!$A38,Planning!$3:$3))","v":"R"},{"$f":"VLOOKUP(CE38,Horaires!$A$3:$E$49,2,)","v":"Congé"},{"$f":"IF(CF38=\"vacances\",INDEX(Horaires!$H$3:$L$42,MATCH('Solde d''heure collaborateur'!CF$2,Horaires!$H$3:$H$40,0),4),IF(CF38=\"maladie\",INDEX(Horaires!$H$3:$L$42,MATCH('Solde d''heure collaborateur'!CF$2,Horaires!$H$3:$H$40,0),5),VLOOKUP(CE38,Horaires!$A$3:$E$60,5,)))","v":0},null,{"$f":"INDEX(Planning!$25:$25,MATCH('Solde d''heure collaborateur'!$A38,Planning!$3:$3))","v":"X"},{"$f":"VLOOKUP(CI38,Horaires!$A$3:$E$49,2,)","v":"XXX"},{"$f":"IF(CJ38=\"vacances\",INDEX(Horaires!$H$3:$L$42,MATCH('Solde d''heure collaborateur'!CJ$2,Horaires!$H$3:$H$40,0),4),IF(CJ38=\"maladie\",INDEX(Horaires!$H$3:$L$42,MATCH('Solde d''heure collaborateur'!CJ$2,Horaires!$H$3:$H$40,0),5),VLOOKUP(CI38,Horaires!$A$3:$E$60,5,)))","v":0},null,{"$f":"INDEX(Planning!$26:$26,MATCH('Solde d''heure collaborateur'!$A38,Planning!$3:$3))","v":"R"},{"$f":"VLOOKUP(CM38,Horaires!$A$3:$E$49,2,)","v":"Congé"},{"$f":"IF(CN38=\"vacances\",INDEX(Horaires!$H$3:$L$42,MATCH('Solde d''heure collaborateur'!CN$2,Horaires!$H$3:$H$40,0),4),IF(CN38=\"maladie\",INDEX(Horaires!$H$3:$L$42,MATCH('Solde d''heure collaborateur'!CN$2,Horaires!$H$3:$H$40,0),5),VLOOKUP(CM38,Horaires!$A$3:$E$60,5,)))","v":0},null,{"$f":"INDEX(Planning!$27:$27,MATCH('Solde d''heure collaborateur'!$A38,Planning!$3:$3))","v":"Thon1"},{"$f":"VLOOKUP(CQ38,Horaires!$A$3:$E$49,2,)","v":"Thonex"},{"$f":"IF(CR38=\"vacances\",INDEX(Horaires!$H$3:$L$42,MATCH('Solde d''heure collaborateur'!CR$2,Horaires!$H$3:$H$40,0),4),IF(CR38=\"maladie\",INDEX(Horaires!$H$3:$L$42,MATCH('Solde d''heure collaborateur'!CR$2,Horaires!$H$3:$H$40,0),5),VLOOKUP(CQ38,Horaires!$A$3:$E$60,5,)))","v":0.44791666666666669},null,{"$f":"INDEX(Planning!$28:$28,MATCH('Solde d''heure collaborateur'!$A38,Planning!$3:$3))","v":"tour1"},{"$f":"VLOOKUP(CU38,Horaires!$A$3:$E$49,2,)","v":"Tourelle"},{"$f":"IF(CV38=\"vacances\",INDEX(Horaires!$H$3:$L$42,MATCH('Solde d''heure collaborateur'!CV$2,Horaires!$H$3:$H$40,0),4),IF(CV38=\"maladie\",INDEX(Horaires!$H$3:$L$42,MATCH('Solde d''heure collaborateur'!CV$2,Horaires!$H$3:$H$40,0),5),VLOOKUP(CU38,Horaires!$A$3:$E$60,5,)))","v":0.46875000000000006},null,{"$f":"INDEX(Planning!$29:$29,MATCH('Solde d''heure collaborateur'!$A38,Planning!$3:$3))","v":"X"},{"$f":"VLOOKUP(CY38,Horaires!$A$3:$E$49,2,)","v":"XXX"},{"$f":"IF(CZ38=\"vacances\",INDEX(Horaires!$H$3:$L$42,MATCH('Solde d''heure collaborateur'!CZ$2,Horaires!$H$3:$H$40,0),4),IF(CZ38=\"maladie\",INDEX(Horaires!$H$3:$L$42,MATCH('Solde d''heure collaborateur'!CZ$2,Horaires!$H$3:$H$40,0),5),VLOOKUP(CY38,Horaires!$A$3:$E$60,5,)))","v":0},null,{"$f":"INDEX(Planning!$30:$30,MATCH('Solde d''heure collaborateur'!$A38,Planning!$3:$3))","v":"X"},{"$f":"VLOOKUP(DC38,Horaires!$A$3:$E$49,2,)","v":"XXX"},{"$f":"IF(DD38=\"vacances\",INDEX(Horaires!$H$3:$L$42,MATCH('Solde d''heure collaborateur'!DD$2,Horaires!$H$3:$H$40,0),4),IF(DD38=\"maladie\",INDEX(Horaires!$H$3:$L$42,MATCH('Solde d''heure collaborateur'!DD$2,Horaires!$H$3:$H$40,0),5),VLOOKUP(DC38,Horaires!$A$3:$E$60,5,)))","v":0},null,{"$f":"INDEX(Planning!$31:$31,MATCH('Solde d''heure collaborateur'!$A38,Planning!$3:$3))","v":"X"},{"$f":"VLOOKUP(DG38,Horaires!$A$3:$E$49,2,)","v":"XXX"},{"$f":"IF(DH38=\"vacances\",INDEX(Horaires!$H$3:$L$42,MATCH('Solde d''heure collaborateur'!DH$2,Horaires!$H$3:$H$40,0),4),IF(DH38=\"maladie\",INDEX(Horaires!$H$3:$L$42,MATCH('Solde d''heure collaborateur'!DH$2,Horaires!$H$3:$H$40,0),5),VLOOKUP(DG38,Horaires!$A$3:$E$60,5,)))","v":0},null,{"$f":"INDEX(Planning!$32:$32,MATCH('Solde d''heure collaborateur'!$A38,Planning!$3:$3))","v":"X"},{"$f":"VLOOKUP(DK38,Horaires!$A$3:$E$49,2,)","v":"XXX"},{"$f":"IF(DL38=\"vacances\",INDEX(Horaires!$H$3:$L$42,MATCH('Solde d''heure collaborateur'!DL$2,Horaires!$H$3:$H$40,0),4),IF(DL38=\"maladie\",INDEX(Horaires!$H$3:$L$42,MATCH('Solde d''heure collaborateur'!DL$2,Horaires!$H$3:$H$40,0),5),VLOOKUP(DK38,Horaires!$A$3:$E$60,5,)))","v":0},null,{"$f":"INDEX(Planning!$33:$33,MATCH('Solde d''heure collaborateur'!$A38,Planning!$3:$3))","v":"X"},{"$f":"VLOOKUP(DO38,Horaires!$A$3:$E$49,2,)","v":"XXX"},{"$f":"IF(DP38=\"vacances\",INDEX(Horaires!$H$3:$L$42,MATCH('Solde d''heure collaborateur'!DP$2,Horaires!$H$3:$H$40,0),4),IF(DP38=\"maladie\",INDEX(Horaires!$H$3:$L$42,MATCH('Solde d''heure collaborateur'!DP$2,Horaires!$H$3:$H$40,0),5),VLOOKUP(DO38,Horaires!$A$3:$E$60,5,)))","v":0},null,{"$f":"INDEX(Planning!$34:$34,MATCH('Solde d''heure collaborateur'!$A38,Planning!$3:$3))","v":"X"},{"$f":"VLOOKUP(DS38,Horaires!$A$3:$E$49,2,)","v":"XXX"},{"$f":"IF(DT38=\"vacances\",INDEX(Horaires!$H$3:$L$42,MATCH('Solde d''heure collaborateur'!DT$2,Horaires!$H$3:$H$40,0),4),IF(DT38=\"maladie\",INDEX(Horaires!$H$3:$L$42,MATCH('Solde d''heure collaborateur'!DT$2,Horaires!$H$3:$H$40,0),5),VLOOKUP(DS38,Horaires!$A$3:$E$60,5,)))","v":0},null,{"$f":"INDEX(Planning!$35:$35,MATCH('Solde d''heure collaborateur'!$A38,Planning!$3:$3))","v":"X"},{"$f":"VLOOKUP(DW38,Horaires!$A$3:$E$49,2,)","v":"XXX"},{"$f":"IF(DX38=\"vacances\",INDEX(Horaires!$H$3:$L$42,MATCH('Solde d''heure collaborateur'!DX$2,Horaires!$H$3:$H$40,0),4),IF(DX38=\"maladie\",INDEX(Horaires!$H$3:$L$42,MATCH('Solde d''heure collaborateur'!DX$2,Horaires!$H$3:$H$40,0),5),VLOOKUP(DW38,Horaires!$A$3:$E$60,5,)))","v":0}]
[{"$f":"A38+1","v":"2013-12-05"},null,{"$f":"INDEX(Planning!$4:$4,MATCH('Solde d''heure collaborateur'!A39,Planning!$3:$3,0))","v":"Nav2"},{"$f":"VLOOKUP(C39,Horaires!$A$3:$E$49,2,)","v":"Navigation"},{"$f":"IF(D39=\"vacances\",INDEX(Horaires!$H$3:$L$42,MATCH('Solde d''heure collaborateur'!D$2,Horaires!$H$3:$H$40,0),4),IF(D39=\"maladie\",INDEX(Horaires!$H$3:$L$42,MATCH('Solde d''heure collaborateur'!D$2,Horaires!$H$3:$H$40,0),5),VLOOKUP(C39,Horaires!$A$3:$E$60,5,)))","v":0.46874999999999994},null,{"$f":"INDEX(Planning!$5:$5,MATCH('Solde d''heure collaborateur'!A39,Planning!$3:$3))","v":"Pom2"},{"$f":"VLOOKUP(G39,Horaires!$A$3:$E$49,2,)","v":"Pommier"},{"$f":"IF(H39=\"vacances\",INDEX(Horaires!$H$3:$L$42,MATCH('Solde d''heure collaborateur'!H$2,Horaires!$H$3:$H$40,0),4),IF(H39=\"maladie\",INDEX(Horaires!$H$3:$L$42,MATCH('Solde d''heure collaborateur'!H$2,Horaires!$H$3:$H$40,0),5),VLOOKUP(G39,Horaires!$A$3:$E$60,5,)))","v":0.46874999999999994},null,{"$f":"INDEX(Planning!$6:$6,MATCH('Solde d''heure collaborateur'!A39,Planning!$3:$3))","v":"M"},{"$f":"VLOOKUP(K39,Horaires!$A$3:$E$49,2,)","v":"Maladie"},{"$f":"IF(L39=\"vacances\",INDEX(Horaires!$H$3:$L$42,MATCH('Solde d''heure collaborateur'!L$2,Horaires!$H$3:$H$40,0),4),IF(L39=\"maladie\",INDEX(Horaires!$H$3:$L$42,MATCH('Solde d''heure collaborateur'!L$2,Horaires!$H$3:$H$40,0),5),VLOOKUP(K39,Horaires!$A$3:$E$60,5,)))","v":0.4375},null,{"$f":"INDEX(Planning!$7:$7,MATCH('Solde d''heure collaborateur'!$A39,Planning!$3:$3))","v":"X"},{"$f":"VLOOKUP(O39,Horaires!$A$3:$E$49,2,)","v":"XXX"},{"$f":"IF(P39=\"vacances\",INDEX(Horaires!$H$3:$L$42,MATCH('Solde d''heure collaborateur'!P$2,Horaires!$H$3:$H$40,0),4),IF(P39=\"maladie\",INDEX(Horaires!$H$3:$L$42,MATCH('Solde d''heure collaborateur'!P$2,Horaires!$H$3:$H$40,0),5),VLOOKUP(O39,Horaires!$A$3:$E$60,5,)))","v":0},null,{"$f":"INDEX(Planning!$8:$8,MATCH('Solde d''heure collaborateur'!$A39,Planning!$3:$3))","v":"R"},{"$f":"VLOOKUP(S39,Horaires!$A$3:$E$49,2,)","v":"Congé"},{"$f":"IF(T39=\"vacances\",INDEX(Horaires!$H$3:$L$42,MATCH('Solde d''heure collaborateur'!T$2,Horaires!$H$3:$H$40,0),4),IF(T39=\"maladie\",INDEX(Horaires!$H$3:$L$42,MATCH('Solde d''heure collaborateur'!T$2,Horaires!$H$3:$H$40,0),5),VLOOKUP(S39,Horaires!$A$3:$E$60,5,)))","v":0},null,{"$f":"INDEX(Planning!$9:$9,MATCH('Solde d''heure collaborateur'!$A39,Planning!$3:$3))","v":"X"},{"$f":"VLOOKUP(W39,Horaires!$A$3:$E$49,2,)","v":"XXX"},{"$f":"IF(X39=\"vacances\",INDEX(Horaires!$H$3:$L$42,MATCH('Solde d''heure collaborateur'!X$2,Horaires!$H$3:$H$40,0),4),IF(X39=\"maladie\",INDEX(Horaires!$H$3:$L$42,MATCH('Solde d''heure collaborateur'!X$2,Horaires!$H$3:$H$40,0),5),VLOOKUP(W39,Horaires!$A$3:$E$60,5,)))","v":0},null,{"$f":"INDEX(Planning!$10:$10,MATCH('Solde d''heure collaborateur'!$A39,Planning!$3:$3))","v":"onex2"},{"$f":"VLOOKUP(AA39,Horaires!$A$3:$E$49,2,)","v":"Onex"},{"$f":"IF(AB39=\"vacances\",INDEX(Horaires!$H$3:$L$42,MATCH('Solde d''heure collaborateur'!AB$2,Horaires!$H$3:$H$40,0),4),IF(AB39=\"maladie\",INDEX(Horaires!$H$3:$L$42,MATCH('Solde d''heure collaborateur'!AB$2,Horaires!$H$3:$H$40,0),5),VLOOKUP(AA39,Horaires!$A$3:$E$60,5,)))","v":0.48958333333333331},null,{"$f":"INDEX(Planning!$11:$11,MATCH('Solde d''heure collaborateur'!$A39,Planning!$3:$3))","v":"Plo2"},{"$f":"VLOOKUP(AE39,Horaires!$A$3:$E$49,2,)","v":"Plan les Ouates"},{"$f":"IF(AF39=\"vacances\",INDEX(Horaires!$H$3:$L$42,MATCH('Solde d''heure collaborateur'!AF$2,Horaires!$H$3:$H$40,0),4),IF(AF39=\"maladie\",INDEX(Horaires!$H$3:$L$42,MATCH('Solde d''heure collaborateur'!AF$2,Horaires!$H$3:$H$40,0),5),VLOOKUP(AE39,Horaires!$A$3:$E$60,5,)))","v":0.48958333333333331},null,{"$f":"INDEX(Planning!$12:$12,MATCH('Solde d''heure collaborateur'!$A39,Planning!$3:$3))","v":"Thon2"},{"$f":"VLOOKUP(AI39,Horaires!$A$3:$E$49,2,)","v":"Thonex"},{"$f":"IF(AJ39=\"vacances\",INDEX(Horaires!$H$3:$L$42,MATCH('Solde d''heure collaborateur'!AJ$2,Horaires!$H$3:$H$40,0),4),IF(AJ39=\"maladie\",INDEX(Horaires!$H$3:$L$42,MATCH('Solde d''heure collaborateur'!AJ$2,Horaires!$H$3:$H$40,0),5),VLOOKUP(AI39,Horaires!$A$3:$E$60,5,)))","v":0.46874999999999994},null,{"$f":"INDEX(Planning!$13:$13,MATCH('Solde d''heure collaborateur'!$A39,Planning!$3:$3))","v":"R"},{"$f":"VLOOKUP(AM39,Horaires!$A$3:$E$49,2,)","v":"Congé"},{"$f":"IF(AN39=\"vacances\",INDEX(Horaires!$H$3:$L$42,MATCH('Solde d''heure collaborateur'!AN$2,Horaires!$H$3:$H$40,0),4),IF(AN39=\"maladie\",INDEX(Horaires!$H$3:$L$42,MATCH('Solde d''heure collaborateur'!AN$2,Horaires!$H$3:$H$40,0),5),VLOOKUP(AM39,Horaires!$A$3:$E$60,5,)))","v":0},null,{"$f":"INDEX(Planning!$14:$14,MATCH('Solde d''heure collaborateur'!$A39,Planning!$3:$3))","v":"X"},{"$f":"VLOOKUP(AQ39,Horaires!$A$3:$E$49,2,)","v":"XXX"},{"$f":"IF(AR39=\"vacances\",INDEX(Horaires!$H$3:$L$42,MATCH('Solde d''heure collaborateur'!AR$2,Horaires!$H$3:$H$40,0),4),IF(AR39=\"maladie\",INDEX(Horaires!$H$3:$L$42,MATCH('Solde d''heure collaborateur'!AR$2,Horaires!$H$3:$H$40,0),5),VLOOKUP(AQ39,Horaires!$A$3:$E$60,5,)))","v":0},null,{"$f":"INDEX(Planning!$15:$15,MATCH('Solde d''heure collaborateur'!$A39,Planning!$3:$3))","v":"Nyon1"},{"$f":"VLOOKUP(AU39,Horaires!$A$3:$E$49,2,)","v":"Nyon"},{"$f":"IF(AV39=\"vacances\",INDEX(Horaires!$H$3:$L$42,MATCH('Solde d''heure collaborateur'!AV$2,Horaires!$H$3:$H$40,0),4),IF(AV39=\"maladie\",INDEX(Horaires!$H$3:$L$42,MATCH('Solde d''heure collaborateur'!AV$2,Horaires!$H$3:$H$40,0),5),VLOOKUP(AU39,Horaires!$A$3:$E$60,5,)))","v":0.44791666666666669},null,{"$f":"INDEX(Planning!$16:$16,MATCH('Solde d''heure collaborateur'!$A39,Planning!$3:$3))","v":"Vid2"},{"$f":"VLOOKUP(AY39,Horaires!$A$3:$E$49,2,)","v":"Vidollet"},{"$f":"IF(AZ39=\"vacances\",INDEX(Horaires!$H$3:$L$42,MATCH('Solde d''heure collaborateur'!AZ$2,Horaires!$H$3:$H$40,0),4),IF(AZ39=\"maladie\",INDEX(Horaires!$H$3:$L$42,MATCH('Solde d''heure collaborateur'!AZ$2,Horaires!$H$3:$H$40,0),5),VLOOKUP(AY39,Horaires!$A$3:$E$60,5,)))","v":0.46874999999999994},null,{"$f":"INDEX(Planning!$17:$17,MATCH('Solde d''heure collaborateur'!$A39,Planning!$3:$3))","v":"R"},{"$f":"VLOOKUP(BC39,Horaires!$A$3:$E$49,2,)","v":"Congé"},{"$f":"IF(BD39=\"vacances\",INDEX(Horaires!$H$3:$L$42,MATCH('Solde d''heure collaborateur'!BD$2,Horaires!$H$3:$H$40,0),4),IF(BD39=\"maladie\",INDEX(Horaires!$H$3:$L$42,MATCH('Solde d''heure collaborateur'!BD$2,Horaires!$H$3:$H$40,0),5),VLOOKUP(BC39,Horaires!$A$3:$E$60,5,)))","v":0},null,{"$f":"INDEX(Planning!$18:$18,MATCH('Solde d''heure collaborateur'!$A39,Planning!$3:$3))","v":"vibferm"},{"$f":"VLOOKUP(BG39,Horaires!$A$3:$E$49,2,)","v":"Vibert ferm"},{"$f":"IF(BH39=\"vacances\",INDEX(Horaires!$H$3:$L$42,MATCH('Solde d''heure collaborateur'!BH$2,Horaires!$H$3:$H$40,0),4),IF(BH39=\"maladie\",INDEX(Horaires!$H$3:$L$42,MATCH('Solde d''heure collaborateur'!BH$2,Horaires!$H$3:$H$40,0),5),VLOOKUP(BG39,Horaires!$A$3:$E$60,5,)))","v":0.42708333333333331},null,{"$f":"INDEX(Planning!$19:$19,MATCH('Solde d''heure collaborateur'!$A39,Planning!$3:$3))","v":"Vibjeu"},{"$f":"VLOOKUP(BK39,Horaires!$A$3:$E$49,2,)","v":"Vibert"},{"$f":"IF(BL39=\"vacances\",INDEX(Horaires!$H$3:$L$42,MATCH('Solde d''heure collaborateur'!BL$2,Horaires!$H$3:$H$40,0),4),IF(BL39=\"maladie\",INDEX(Horaires!$H$3:$L$42,MATCH('Solde d''heure collaborateur'!BL$2,Horaires!$H$3:$H$40,0),5),VLOOKUP(BK39,Horaires!$A$3:$E$60,5,)))","v":0.45833333333333331},null,{"$f":"INDEX(Planning!$20:$20,MATCH('Solde d''heure collaborateur'!$A39,Planning!$3:$3))","v":"R"},{"$f":"VLOOKUP(BO39,Horaires!$A$3:$E$49,2,)","v":"Congé"},{"$f":"IF(BP39=\"vacances\",INDEX(Horaires!$H$3:$L$42,MATCH('Solde d''heure collaborateur'!BP$2,Horaires!$H$3:$H$40,0),4),IF(BP39=\"maladie\",INDEX(Horaires!$H$3:$L$42,MATCH('Solde d''heure collaborateur'!BP$2,Horaires!$H$3:$H$40,0),5),VLOOKUP(BO39,Horaires!$A$3:$E$60,5,)))","v":0},null,{"$f":"INDEX(Planning!$21:$21,MATCH('Solde d''heure collaborateur'!$A39,Planning!$3:$3))","v":"Ves2"},{"$f":"VLOOKUP(BS39,Horaires!$A$3:$E$49,2,)","v":"Vesenaz"},{"$f":"IF(BT39=\"vacances\",INDEX(Horaires!$H$3:$L$42,MATCH('Solde d''heure collaborateur'!BT$2,Horaires!$H$3:$H$40,0),4),IF(BT39=\"maladie\",INDEX(Horaires!$H$3:$L$42,MATCH('Solde d''heure collaborateur'!BT$2,Horaires!$H$3:$H$40,0),5),VLOOKUP(BS39,Horaires!$A$3:$E$60,5,)))","v":0.46874999999999994},null,{"$f":"INDEX(Planning!$22:$22,MATCH('Solde d''heure collaborateur'!$A39,Planning!$3:$3))","v":"X"},{"$f":"VLOOKUP(BW39,Horaires!$A$3:$E$49,2,)","v":"XXX"},{"$f":"IF(BX39=\"vacances\",INDEX(Horaires!$H$3:$L$42,MATCH('Solde d''heure collaborateur'!BX$2,Horaires!$H$3:$H$40,0),4),IF(BX39=\"maladie\",INDEX(Horaires!$H$3:$L$42,MATCH('Solde d''heure collaborateur'!BX$2,Horaires!$H$3:$H$40,0),5),VLOOKUP(BW39,Horaires!$A$3:$E$60,5,)))","v":0},null,{"$f":"INDEX(Planning!$23:$23,MATCH('Solde d''heure collaborateur'!$A39,Planning!$3:$3))","v":"Aca1"},{"$f":"VLOOKUP(CA39,Horaires!$A$3:$E$49,2,)","v":"Acacias"},{"$f":"IF(CB39=\"vacances\",INDEX(Horaires!$H$3:$L$42,MATCH('Solde d''heure collaborateur'!CB$2,Horaires!$H$3:$H$40,0),4),IF(CB39=\"maladie\",INDEX(Horaires!$H$3:$L$42,MATCH('Solde d''heure collaborateur'!CB$2,Horaires!$H$3:$H$40,0),5),VLOOKUP(CA39,Horaires!$A$3:$E$60,5,)))","v":0.44791666666666669},null,{"$f":"INDEX(Planning!$24:$24,MATCH('Solde d''heure collaborateur'!$A39,Planning!$3:$3))","v":"onex2"},{"$f":"VLOOKUP(CE39,Horaires!$A$3:$E$49,2,)","v":"Onex"},{"$f":"IF(CF39=\"vacances\",INDEX(Horaires!$H$3:$L$42,MATCH('Solde d''heure collaborateur'!CF$2,Horaires!$H$3:$H$40,0),4),IF(CF39=\"maladie\",INDEX(Horaires!$H$3:$L$42,MATCH('Solde d''heure collaborateur'!CF$2,Horaires!$H$3:$H$40,0),5),VLOOKUP(CE39,Horaires!$A$3:$E$60,5,)))","v":0.48958333333333331},null,{"$f":"INDEX(Planning!$25:$25,MATCH('Solde d''heure collaborateur'!$A39,Planning!$3:$3))","v":"X"},{"$f":"VLOOKUP(CI39,Horaires!$A$3:$E$49,2,)","v":"XXX"},{"$f":"IF(CJ39=\"vacances\",INDEX(Horaires!$H$3:$L$42,MATCH('Solde d''heure collaborateur'!CJ$2,Horaires!$H$3:$H$40,0),4),IF(CJ39=\"maladie\",INDEX(Horaires!$H$3:$L$42,MATCH('Solde d''heure collaborateur'!CJ$2,Horaires!$H$3:$H$40,0),5),VLOOKUP(CI39,Horaires!$A$3:$E$60,5,)))","v":0},null,{"$f":"INDEX(Planning!$26:$26,MATCH('Solde d''heure collaborateur'!$A39,Planning!$3:$3))","v":"R"},{"$f":"VLOOKUP(CM39,Horaires!$A$3:$E$49,2,)","v":"Congé"},{"$f":"IF(CN39=\"vacances\",INDEX(Horaires!$H$3:$L$42,MATCH('Solde d''heure collaborateur'!CN$2,Horaires!$H$3:$H$40,0),4),IF(CN39=\"maladie\",INDEX(Horaires!$H$3:$L$42,MATCH('Solde d''heure collaborateur'!CN$2,Horaires!$H$3:$H$40,0),5),VLOOKUP(CM39,Horaires!$A$3:$E$60,5,)))","v":0},null,{"$f":"INDEX(Planning!$27:$27,MATCH('Solde d''heure collaborateur'!$A39,Planning!$3:$3))","v":"R"},{"$f":"VLOOKUP(CQ39,Horaires!$A$3:$E$49,2,)","v":"Congé"},{"$f":"IF(CR39=\"vacances\",INDEX(Horaires!$H$3:$L$42,MATCH('Solde d''heure collaborateur'!CR$2,Horaires!$H$3:$H$40,0),4),IF(CR39=\"maladie\",INDEX(Horaires!$H$3:$L$42,MATCH('Solde d''heure collaborateur'!CR$2,Horaires!$H$3:$H$40,0),5),VLOOKUP(CQ39,Horaires!$A$3:$E$60,5,)))","v":0},null,{"$f":"INDEX(Planning!$28:$28,MATCH('Solde d''heure collaborateur'!$A39,Planning!$3:$3))","v":"tour2"},{"$f":"VLOOKUP(CU39,Horaires!$A$3:$E$49,2,)","v":"Tourelle"},{"$f":"IF(CV39=\"vacances\",INDEX(Horaires!$H$3:$L$42,MATCH('Solde d''heure collaborateur'!CV$2,Horaires!$H$3:$H$40,0),4),IF(CV39=\"maladie\",INDEX(Horaires!$H$3:$L$42,MATCH('Solde d''heure collaborateur'!CV$2,Horaires!$H$3:$H$40,0),5),VLOOKUP(CU39,Horaires!$A$3:$E$60,5,)))","v":0.48958333333333331},null,{"$f":"INDEX(Planning!$29:$29,MATCH('Solde d''heure collaborateur'!$A39,Planning!$3:$3))","v":"X"},{"$f":"VLOOKUP(CY39,Horaires!$A$3:$E$49,2,)","v":"XXX"},{"$f":"IF(CZ39=\"vacances\",INDEX(Horaires!$H$3:$L$42,MATCH('Solde d''heure collaborateur'!CZ$2,Horaires!$H$3:$H$40,0),4),IF(CZ39=\"maladie\",INDEX(Horaires!$H$3:$L$42,MATCH('Solde d''heure collaborateur'!CZ$2,Horaires!$H$3:$H$40,0),5),VLOOKUP(CY39,Horaires!$A$3:$E$60,5,)))","v":0},null,{"$f":"INDEX(Planning!$30:$30,MATCH('Solde d''heure collaborateur'!$A39,Planning!$3:$3))","v":"X"},{"$f":"VLOOKUP(DC39,Horaires!$A$3:$E$49,2,)","v":"XXX"},{"$f":"IF(DD39=\"vacances\",INDEX(Horaires!$H$3:$L$42,MATCH('Solde d''heure collaborateur'!DD$2,Horaires!$H$3:$H$40,0),4),IF(DD39=\"maladie\",INDEX(Horaires!$H$3:$L$42,MATCH('Solde d''heure collaborateur'!DD$2,Horaires!$H$3:$H$40,0),5),VLOOKUP(DC39,Horaires!$A$3:$E$60,5,)))","v":0},null,{"$f":"INDEX(Planning!$31:$31,MATCH('Solde d''heure collaborateur'!$A39,Planning!$3:$3))","v":"X"},{"$f":"VLOOKUP(DG39,Horaires!$A$3:$E$49,2,)","v":"XXX"},{"$f":"IF(DH39=\"vacances\",INDEX(Horaires!$H$3:$L$42,MATCH('Solde d''heure collaborateur'!DH$2,Horaires!$H$3:$H$40,0),4),IF(DH39=\"maladie\",INDEX(Horaires!$H$3:$L$42,MATCH('Solde d''heure collaborateur'!DH$2,Horaires!$H$3:$H$40,0),5),VLOOKUP(DG39,Horaires!$A$3:$E$60,5,)))","v":0},null,{"$f":"INDEX(Planning!$32:$32,MATCH('Solde d''heure collaborateur'!$A39,Planning!$3:$3))","v":"X"},{"$f":"VLOOKUP(DK39,Horaires!$A$3:$E$49,2,)","v":"XXX"},{"$f":"IF(DL39=\"vacances\",INDEX(Horaires!$H$3:$L$42,MATCH('Solde d''heure collaborateur'!DL$2,Horaires!$H$3:$H$40,0),4),IF(DL39=\"maladie\",INDEX(Horaires!$H$3:$L$42,MATCH('Solde d''heure collaborateur'!DL$2,Horaires!$H$3:$H$40,0),5),VLOOKUP(DK39,Horaires!$A$3:$E$60,5,)))","v":0},null,{"$f":"INDEX(Planning!$33:$33,MATCH('Solde d''heure collaborateur'!$A39,Planning!$3:$3))","v":"X"},{"$f":"VLOOKUP(DO39,Horaires!$A$3:$E$49,2,)","v":"XXX"},{"$f":"IF(DP39=\"vacances\",INDEX(Horaires!$H$3:$L$42,MATCH('Solde d''heure collaborateur'!DP$2,Horaires!$H$3:$H$40,0),4),IF(DP39=\"maladie\",INDEX(Horaires!$H$3:$L$42,MATCH('Solde d''heure collaborateur'!DP$2,Horaires!$H$3:$H$40,0),5),VLOOKUP(DO39,Horaires!$A$3:$E$60,5,)))","v":0},null,{"$f":"INDEX(Planning!$34:$34,MATCH('Solde d''heure collaborateur'!$A39,Planning!$3:$3))","v":"X"},{"$f":"VLOOKUP(DS39,Horaires!$A$3:$E$49,2,)","v":"XXX"},{"$f":"IF(DT39=\"vacances\",INDEX(Horaires!$H$3:$L$42,MATCH('Solde d''heure collaborateur'!DT$2,Horaires!$H$3:$H$40,0),4),IF(DT39=\"maladie\",INDEX(Horaires!$H$3:$L$42,MATCH('Solde d''heure collaborateur'!DT$2,Horaires!$H$3:$H$40,0),5),VLOOKUP(DS39,Horaires!$A$3:$E$60,5,)))","v":0},null,{"$f":"INDEX(Planning!$35:$35,MATCH('Solde d''heure collaborateur'!$A39,Planning!$3:$3))","v":"X"},{"$f":"VLOOKUP(DW39,Horaires!$A$3:$E$49,2,)","v":"XXX"},{"$f":"IF(DX39=\"vacances\",INDEX(Horaires!$H$3:$L$42,MATCH('Solde d''heure collaborateur'!DX$2,Horaires!$H$3:$H$40,0),4),IF(DX39=\"maladie\",INDEX(Horaires!$H$3:$L$42,MATCH('Solde d''heure collaborateur'!DX$2,Horaires!$H$3:$H$40,0),5),VLOOKUP(DW39,Horaires!$A$3:$E$60,5,)))","v":0}]
[{"$f":"A39+1","v":"2013-12-06"},null,{"$f":"INDEX(Planning!$4:$4,MATCH('Solde d''heure collaborateur'!A40,Planning!$3:$3,0))","v":"Nav2"},{"$f":"VLOOKUP(C40,Horaires!$A$3:$E$49,2,)","v":"Navigation"},{"$f":"IF(D40=\"vacances\",INDEX(Horaires!$H$3:$L$42,MATCH('Solde d''heure collaborateur'!D$2,Horaires!$H$3:$H$40,0),4),IF(D40=\"maladie\",INDEX(Horaires!$H$3:$L$42,MATCH('Solde d''heure collaborateur'!D$2,Horaires!$H$3:$H$40,0),5),VLOOKUP(C40,Horaires!$A$3:$E$60,5,)))","v":0.46874999999999994},null,{"$f":"INDEX(Planning!$5:$5,MATCH('Solde d''heure collaborateur'!A40,Planning!$3:$3))","v":"Pom2"},{"$f":"VLOOKUP(G40,Horaires!$A$3:$E$49,2,)","v":"Pommier"},{"$f":"IF(H40=\"vacances\",INDEX(Horaires!$H$3:$L$42,MATCH('Solde d''heure collaborateur'!H$2,Horaires!$H$3:$H$40,0),4),IF(H40=\"maladie\",INDEX(Horaires!$H$3:$L$42,MATCH('Solde d''heure collaborateur'!H$2,Horaires!$H$3:$H$40,0),5),VLOOKUP(G40,Horaires!$A$3:$E$60,5,)))","v":0.46874999999999994},null,{"$f":"INDEX(Planning!$6:$6,MATCH('Solde d''heure collaborateur'!A40,Planning!$3:$3))","v":"R"},{"$f":"VLOOKUP(K40,Horaires!$A$3:$E$49,2,)","v":"Congé"},{"$f":"IF(L40=\"vacances\",INDEX(Horaires!$H$3:$L$42,MATCH('Solde d''heure collaborateur'!L$2,Horaires!$H$3:$H$40,0),4),IF(L40=\"maladie\",INDEX(Horaires!$H$3:$L$42,MATCH('Solde d''heure collaborateur'!L$2,Horaires!$H$3:$H$40,0),5),VLOOKUP(K40,Horaires!$A$3:$E$60,5,)))","v":0},null,{"$f":"INDEX(Planning!$7:$7,MATCH('Solde d''heure collaborateur'!$A40,Planning!$3:$3))","v":"X"},{"$f":"VLOOKUP(O40,Horaires!$A$3:$E$49,2,)","v":"XXX"},{"$f":"IF(P40=\"vacances\",INDEX(Horaires!$H$3:$L$42,MATCH('Solde d''heure collaborateur'!P$2,Horaires!$H$3:$H$40,0),4),IF(P40=\"maladie\",INDEX(Horaires!$H$3:$L$42,MATCH('Solde d''heure collaborateur'!P$2,Horaires!$H$3:$H$40,0),5),VLOOKUP(O40,Horaires!$A$3:$E$60,5,)))","v":0},null,{"$f":"INDEX(Planning!$8:$8,MATCH('Solde d''heure collaborateur'!$A40,Planning!$3:$3))","v":"R"},{"$f":"VLOOKUP(S40,Horaires!$A$3:$E$49,2,)","v":"Congé"},{"$f":"IF(T40=\"vacances\",INDEX(Horaires!$H$3:$L$42,MATCH('Solde d''heure collaborateur'!T$2,Horaires!$H$3:$H$40,0),4),IF(T40=\"maladie\",INDEX(Horaires!$H$3:$L$42,MATCH('Solde d''heure collaborateur'!T$2,Horaires!$H$3:$H$40,0),5),VLOOKUP(S40,Horaires!$A$3:$E$60,5,)))","v":0},null,{"$f":"INDEX(Planning!$9:$9,MATCH('Solde d''heure collaborateur'!$A40,Planning!$3:$3))","v":"X"},{"$f":"VLOOKUP(W40,Horaires!$A$3:$E$49,2,)","v":"XXX"},{"$f":"IF(X40=\"vacances\",INDEX(Horaires!$H$3:$L$42,MATCH('Solde d''heure collaborateur'!X$2,Horaires!$H$3:$H$40,0),4),IF(X40=\"maladie\",INDEX(Horaires!$H$3:$L$42,MATCH('Solde d''heure collaborateur'!X$2,Horaires!$H$3:$H$40,0),5),VLOOKUP(W40,Horaires!$A$3:$E$60,5,)))","v":0},null,{"$f":"INDEX(Planning!$10:$10,MATCH('Solde d''heure collaborateur'!$A40,Planning!$3:$3))","v":"onex2"},{"$f":"VLOOKUP(AA40,Horaires!$A$3:$E$49,2,)","v":"Onex"},{"$f":"IF(AB40=\"vacances\",INDEX(Horaires!$H$3:$L$42,MATCH('Solde d''heure collaborateur'!AB$2,Horaires!$H$3:$H$40,0),4),IF(AB40=\"maladie\",INDEX(Horaires!$H$3:$L$42,MATCH('Solde d''heure collaborateur'!AB$2,Horaires!$H$3:$H$40,0),5),VLOOKUP(AA40,Horaires!$A$3:$E$60,5,)))","v":0.48958333333333331},null,{"$f":"INDEX(Planning!$11:$11,MATCH('Solde d''heure collaborateur'!$A40,Planning!$3:$3))","v":"Recup"},{"$f":"VLOOKUP(AE40,Horaires!$A$3:$E$49,2,)","v":"Récupération"},{"$f":"IF(AF40=\"vacances\",INDEX(Horaires!$H$3:$L$42,MATCH('Solde d''heure collaborateur'!AF$2,Horaires!$H$3:$H$40,0),4),IF(AF40=\"maladie\",INDEX(Horaires!$H$3:$L$42,MATCH('Solde d''heure collaborateur'!AF$2,Horaires!$H$3:$H$40,0),5),VLOOKUP(AE40,Horaires!$A$3:$E$60,5,)))","v":0},null,{"$f":"INDEX(Planning!$12:$12,MATCH('Solde d''heure collaborateur'!$A40,Planning!$3:$3))","v":"R"},{"$f":"VLOOKUP(AI40,Horaires!$A$3:$E$49,2,)","v":"Congé"},{"$f":"IF(AJ40=\"vacances\",INDEX(Horaires!$H$3:$L$42,MATCH('Solde d''heure collaborateur'!AJ$2,Horaires!$H$3:$H$40,0),4),IF(AJ40=\"maladie\",INDEX(Horaires!$H$3:$L$42,MATCH('Solde d''heure collaborateur'!AJ$2,Horaires!$H$3:$H$40,0),5),VLOOKUP(AI40,Horaires!$A$3:$E$60,5,)))","v":0},null,{"$f":"INDEX(Planning!$13:$13,MATCH('Solde d''heure collaborateur'!$A40,Planning!$3:$3))","v":"R"},{"$f":"VLOOKUP(AM40,Horaires!$A$3:$E$49,2,)","v":"Congé"},{"$f":"IF(AN40=\"vacances\",INDEX(Horaires!$H$3:$L$42,MATCH('Solde d''heure collaborateur'!AN$2,Horaires!$H$3:$H$40,0),4),IF(AN40=\"maladie\",INDEX(Horaires!$H$3:$L$42,MATCH('Solde d''heure collaborateur'!AN$2,Horaires!$H$3:$H$40,0),5),VLOOKUP(AM40,Horaires!$A$3:$E$60,5,)))","v":0},null,{"$f":"INDEX(Planning!$14:$14,MATCH('Solde d''heure collaborateur'!$A40,Planning!$3:$3))","v":"M"},{"$f":"VLOOKUP(AQ40,Horaires!$A$3:$E$49,2,)","v":"Maladie"},{"$f":"IF(AR40=\"vacances\",INDEX(Horaires!$H$3:$L$42,MATCH('Solde d''heure collaborateur'!AR$2,Horaires!$H$3:$H$40,0),4),IF(AR40=\"maladie\",INDEX(Horaires!$H$3:$L$42,MATCH('Solde d''heure collaborateur'!AR$2,Horaires!$H$3:$H$40,0),5),VLOOKUP(AQ40,Horaires!$A$3:$E$60,5,)))","v":0.46180555555555558},null,{"$f":"INDEX(Planning!$15:$15,MATCH('Solde d''heure collaborateur'!$A40,Planning!$3:$3))","v":"R"},{"$f":"VLOOKUP(AU40,Horaires!$A$3:$E$49,2,)","v":"Congé"},{"$f":"IF(AV40=\"vacances\",INDEX(Horaires!$H$3:$L$42,MATCH('Solde d''heure collaborateur'!AV$2,Horaires!$H$3:$H$40,0),4),IF(AV40=\"maladie\",INDEX(Horaires!$H$3:$L$42,MATCH('Solde d''heure collaborateur'!AV$2,Horaires!$H$3:$H$40,0),5),VLOOKUP(AU40,Horaires!$A$3:$E$60,5,)))","v":0},null,{"$f":"INDEX(Planning!$16:$16,MATCH('Solde d''heure collaborateur'!$A40,Planning!$3:$3))","v":"Nyon1"},{"$f":"VLOOKUP(AY40,Horaires!$A$3:$E$49,2,)","v":"Nyon"},{"$f":"IF(AZ40=\"vacances\",INDEX(Horaires!$H$3:$L$42,MATCH('Solde d''heure collaborateur'!AZ$2,Horaires!$H$3:$H$40,0),4),IF(AZ40=\"maladie\",INDEX(Horaires!$H$3:$L$42,MATCH('Solde d''heure collaborateur'!AZ$2,Horaires!$H$3:$H$40,0),5),VLOOKUP(AY40,Horaires!$A$3:$E$60,5,)))","v":0.44791666666666669},null,{"$f":"INDEX(Planning!$17:$17,MATCH('Solde d''heure collaborateur'!$A40,Planning!$3:$3))","v":"tour2"},{"$f":"VLOOKUP(BC40,Horaires!$A$3:$E$49,2,)","v":"Tourelle"},{"$f":"IF(BD40=\"vacances\",INDEX(Horaires!$H$3:$L$42,MATCH('Solde d''heure collaborateur'!BD$2,Horaires!$H$3:$H$40,0),4),IF(BD40=\"maladie\",INDEX(Horaires!$H$3:$L$42,MATCH('Solde d''heure collaborateur'!BD$2,Horaires!$H$3:$H$40,0),5),VLOOKUP(BC40,Horaires!$A$3:$E$60,5,)))","v":0.48958333333333331},null,{"$f":"INDEX(Planning!$18:$18,MATCH('Solde d''heure collaborateur'!$A40,Planning!$3:$3))","v":"Vib2"},{"$f":"VLOOKUP(BG40,Horaires!$A$3:$E$49,2,)","v":"Vibert"},{"$f":"IF(BH40=\"vacances\",INDEX(Horaires!$H$3:$L$42,MATCH('Solde d''heure collaborateur'!BH$2,Horaires!$H$3:$H$40,0),4),IF(BH40=\"maladie\",INDEX(Horaires!$H$3:$L$42,MATCH('Solde d''heure collaborateur'!BH$2,Horaires!$H$3:$H$40,0),5),VLOOKUP(BG40,Horaires!$A$3:$E$60,5,)))","v":0.48958333333333331},null,{"$f":"INDEX(Planning!$19:$19,MATCH('Solde d''heure collaborateur'!$A40,Planning!$3:$3))","v":"Vib2"},{"$f":"VLOOKUP(BK40,Horaires!$A$3:$E$49,2,)","v":"Vibert"},{"$f":"IF(BL40=\"vacances\",INDEX(Horaires!$H$3:$L$42,MATCH('Solde d''heure collaborateur'!BL$2,Horaires!$H$3:$H$40,0),4),IF(BL40=\"maladie\",INDEX(Horaires!$H$3:$L$42,MATCH('Solde d''heure collaborateur'!BL$2,Horaires!$H$3:$H$40,0),5),VLOOKUP(BK40,Horaires!$A$3:$E$60,5,)))","v":0.48958333333333331},null,{"$f":"INDEX(Planning!$20:$20,MATCH('Solde d''heure collaborateur'!$A40,Planning!$3:$3))","v":"R"},{"$f":"VLOOKUP(BO40,Horaires!$A$3:$E$49,2,)","v":"Congé"},{"$f":"IF(BP40=\"vacances\",INDEX(Horaires!$H$3:$L$42,MATCH('Solde d''heure collaborateur'!BP$2,Horaires!$H$3:$H$40,0),4),IF(BP40=\"maladie\",INDEX(Horaires!$H$3:$L$42,MATCH('Solde d''heure collaborateur'!BP$2,Horaires!$H$3:$H$40,0),5),VLOOKUP(BO40,Horaires!$A$3:$E$60,5,)))","v":0},null,{"$f":"INDEX(Planning!$21:$21,MATCH('Solde d''heure collaborateur'!$A40,Planning!$3:$3))","v":"Ves2"},{"$f":"VLOOKUP(BS40,Horaires!$A$3:$E$49,2,)","v":"Vesenaz"},{"$f":"IF(BT40=\"vacances\",INDEX(Horaires!$H$3:$L$42,MATCH('Solde d''heure collaborateur'!BT$2,Horaires!$H$3:$H$40,0),4),IF(BT40=\"maladie\",INDEX(Horaires!$H$3:$L$42,MATCH('Solde d''heure collaborateur'!BT$2,Horaires!$H$3:$H$40,0),5),VLOOKUP(BS40,Horaires!$A$3:$E$60,5,)))","v":0.46874999999999994},null,{"$f":"INDEX(Planning!$22:$22,MATCH('Solde d''heure collaborateur'!$A40,Planning!$3:$3))","v":"X"},{"$f":"VLOOKUP(BW40,Horaires!$A$3:$E$49,2,)","v":"XXX"},{"$f":"IF(BX40=\"vacances\",INDEX(Horaires!$H$3:$L$42,MATCH('Solde d''heure collaborateur'!BX$2,Horaires!$H$3:$H$40,0),4),IF(BX40=\"maladie\",INDEX(Horaires!$H$3:$L$42,MATCH('Solde d''heure collaborateur'!BX$2,Horaires!$H$3:$H$40,0),5),VLOOKUP(BW40,Horaires!$A$3:$E$60,5,)))","v":0},null,{"$f":"INDEX(Planning!$23:$23,MATCH('Solde d''heure collaborateur'!$A40,Planning!$3:$3))","v":"Aca1"},{"$f":"VLOOKUP(CA40,Horaires!$A$3:$E$49,2,)","v":"Acacias"},{"$f":"IF(CB40=\"vacances\",INDEX(Horaires!$H$3:$L$42,MATCH('Solde d''heure collaborateur'!CB$2,Horaires!$H$3:$H$40,0),4),IF(CB40=\"maladie\",INDEX(Horaires!$H$3:$L$42,MATCH('Solde d''heure collaborateur'!CB$2,Horaires!$H$3:$H$40,0),5),VLOOKUP(CA40,Horaires!$A$3:$E$60,5,)))","v":0.44791666666666669},null,{"$f":"INDEX(Planning!$24:$24,MATCH('Solde d''heure collaborateur'!$A40,Planning!$3:$3))","v":"onex2"},{"$f":"VLOOKUP(CE40,Horaires!$A$3:$E$49,2,)","v":"Onex"},{"$f":"IF(CF40=\"vacances\",INDEX(Horaires!$H$3:$L$42,MATCH('Solde d''heure collaborateur'!CF$2,Horaires!$H$3:$H$40,0),4),IF(CF40=\"maladie\",INDEX(Horaires!$H$3:$L$42,MATCH('Solde d''heure collaborateur'!CF$2,Horaires!$H$3:$H$40,0),5),VLOOKUP(CE40,Horaires!$A$3:$E$60,5,)))","v":0.48958333333333331},null,{"$f":"INDEX(Planning!$25:$25,MATCH('Solde d''heure collaborateur'!$A40,Planning!$3:$3))","v":"X"},{"$f":"VLOOKUP(CI40,Horaires!$A$3:$E$49,2,)","v":"XXX"},{"$f":"IF(CJ40=\"vacances\",INDEX(Horaires!$H$3:$L$42,MATCH('Solde d''heure collaborateur'!CJ$2,Horaires!$H$3:$H$40,0),4),IF(CJ40=\"maladie\",INDEX(Horaires!$H$3:$L$42,MATCH('Solde d''heure collaborateur'!CJ$2,Horaires!$H$3:$H$40,0),5),VLOOKUP(CI40,Horaires!$A$3:$E$60,5,)))","v":0},null,{"$f":"INDEX(Planning!$26:$26,MATCH('Solde d''heure collaborateur'!$A40,Planning!$3:$3))","v":"Vid2"},{"$f":"VLOOKUP(CM40,Horaires!$A$3:$E$49,2,)","v":"Vidollet"},{"$f":"IF(CN40=\"vacances\",INDEX(Horaires!$H$3:$L$42,MATCH('Solde d''heure collaborateur'!CN$2,Horaires!$H$3:$H$40,0),4),IF(CN40=\"maladie\",INDEX(Horaires!$H$3:$L$42,MATCH('Solde d''heure collaborateur'!CN$2,Horaires!$H$3:$H$40,0),5),VLOOKUP(CM40,Horaires!$A$3:$E$60,5,)))","v":0.46874999999999994},null,{"$f":"INDEX(Planning!$27:$27,MATCH('Solde d''heure collaborateur'!$A40,Planning!$3:$3))","v":"Thon2"},{"$f":"VLOOKUP(CQ40,Horaires!$A$3:$E$49,2,)","v":"Thonex"},{"$f":"IF(CR40=\"vacances\",INDEX(Horaires!$H$3:$L$42,MATCH('Solde d''heure collaborateur'!CR$2,Horaires!$H$3:$H$40,0),4),IF(CR40=\"maladie\",INDEX(Horaires!$H$3:$L$42,MATCH('Solde d''heure collaborateur'!CR$2,Horaires!$H$3:$H$40,0),5),VLOOKUP(CQ40,Horaires!$A$3:$E$60,5,)))","v":0.46874999999999994},null,{"$f":"INDEX(Planning!$28:$28,MATCH('Solde d''heure collaborateur'!$A40,Planning!$3:$3))","v":"R"},{"$f":"VLOOKUP(CU40,Horaires!$A$3:$E$49,2,)","v":"Congé"},{"$f":"IF(CV40=\"vacances\",INDEX(Horaires!$H$3:$L$42,MATCH('Solde d''heure collaborateur'!CV$2,Horaires!$H$3:$H$40,0),4),IF(CV40=\"maladie\",INDEX(Horaires!$H$3:$L$42,MATCH('Solde d''heure collaborateur'!CV$2,Horaires!$H$3:$H$40,0),5),VLOOKUP(CU40,Horaires!$A$3:$E$60,5,)))","v":0},null,{"$f":"INDEX(Planning!$29:$29,MATCH('Solde d''heure collaborateur'!$A40,Planning!$3:$3))","v":"plo2"},{"$f":"VLOOKUP(CY40,Horaires!$A$3:$E$49,2,)","v":"Plan les Ouates"},{"$f":"IF(CZ40=\"vacances\",INDEX(Horaires!$H$3:$L$42,MATCH('Solde d''heure collaborateur'!CZ$2,Horaires!$H$3:$H$40,0),4),IF(CZ40=\"maladie\",INDEX(Horaires!$H$3:$L$42,MATCH('Solde d''heure collaborateur'!CZ$2,Horaires!$H$3:$H$40,0),5),VLOOKUP(CY40,Horaires!$A$3:$E$60,5,)))","v":0.48958333333333331},null,{"$f":"INDEX(Planning!$30:$30,MATCH('Solde d''heure collaborateur'!$A40,Planning!$3:$3))","v":"X"},{"$f":"VLOOKUP(DC40,Horaires!$A$3:$E$49,2,)","v":"XXX"},{"$f":"IF(DD40=\"vacances\",INDEX(Horaires!$H$3:$L$42,MATCH('Solde d''heure collaborateur'!DD$2,Horaires!$H$3:$H$40,0),4),IF(DD40=\"maladie\",INDEX(Horaires!$H$3:$L$42,MATCH('Solde d''heure collaborateur'!DD$2,Horaires!$H$3:$H$40,0),5),VLOOKUP(DC40,Horaires!$A$3:$E$60,5,)))","v":0},null,{"$f":"INDEX(Planning!$31:$31,MATCH('Solde d''heure collaborateur'!$A40,Planning!$3:$3))","v":"X"},{"$f":"VLOOKUP(DG40,Horaires!$A$3:$E$49,2,)","v":"XXX"},{"$f":"IF(DH40=\"vacances\",INDEX(Horaires!$H$3:$L$42,MATCH('Solde d''heure collaborateur'!DH$2,Horaires!$H$3:$H$40,0),4),IF(DH40=\"maladie\",INDEX(Horaires!$H$3:$L$42,MATCH('Solde d''heure collaborateur'!DH$2,Horaires!$H$3:$H$40,0),5),VLOOKUP(DG40,Horaires!$A$3:$E$60,5,)))","v":0},null,{"$f":"INDEX(Planning!$32:$32,MATCH('Solde d''heure collaborateur'!$A40,Planning!$3:$3))","v":"X"},{"$f":"VLOOKUP(DK40,Horaires!$A$3:$E$49,2,)","v":"XXX"},{"$f":"IF(DL40=\"vacances\",INDEX(Horaires!$H$3:$L$42,MATCH('Solde d''heure collaborateur'!DL$2,Horaires!$H$3:$H$40,0),4),IF(DL40=\"maladie\",INDEX(Horaires!$H$3:$L$42,MATCH('Solde d''heure collaborateur'!DL$2,Horaires!$H$3:$H$40,0),5),VLOOKUP(DK40,Horaires!$A$3:$E$60,5,)))","v":0},null,{"$f":"INDEX(Planning!$33:$33,MATCH('Solde d''heure collaborateur'!$A40,Planning!$3:$3))","v":"X"},{"$f":"VLOOKUP(DO40,Horaires!$A$3:$E$49,2,)","v":"XXX"},{"$f":"IF(DP40=\"vacances\",INDEX(Horaires!$H$3:$L$42,MATCH('Solde d''heure collaborateur'!DP$2,Horaires!$H$3:$H$40,0),4),IF(DP40=\"maladie\",INDEX(Horaires!$H$3:$L$42,MATCH('Solde d''heure collaborateur'!DP$2,Horaires!$H$3:$H$40,0),5),VLOOKUP(DO40,Horaires!$A$3:$E$60,5,)))","v":0},null,{"$f":"INDEX(Planning!$34:$34,MATCH('Solde d''heure collaborateur'!$A40,Planning!$3:$3))","v":"X"},{"$f":"VLOOKUP(DS40,Horaires!$A$3:$E$49,2,)","v":"XXX"},{"$f":"IF(DT40=\"vacances\",INDEX(Horaires!$H$3:$L$42,MATCH('Solde d''heure collaborateur'!DT$2,Horaires!$H$3:$H$40,0),4),IF(DT40=\"maladie\",INDEX(Horaires!$H$3:$L$42,MATCH('Solde d''heure collaborateur'!DT$2,Horaires!$H$3:$H$40,0),5),VLOOKUP(DS40,Horaires!$A$3:$E$60,5,)))","v":0},null,{"$f":"INDEX(Planning!$35:$35,MATCH('Solde d''heure collaborateur'!$A40,Planning!$3:$3))","v":"X"},{"$f":"VLOOKUP(DW40,Horaires!$A$3:$E$49,2,)","v":"XXX"},{"$f":"IF(DX40=\"vacances\",INDEX(Horaires!$H$3:$L$42,MATCH('Solde d''heure collaborateur'!DX$2,Horaires!$H$3:$H$40,0),4),IF(DX40=\"maladie\",INDEX(Horaires!$H$3:$L$42,MATCH('Solde d''heure collaborateur'!DX$2,Horaires!$H$3:$H$40,0),5),VLOOKUP(DW40,Horaires!$A$3:$E$60,5,)))","v":0}]
[{"$f":"A40+1","v":"2013-12-07"},null,{"$f":"INDEX(Planning!$4:$4,MATCH('Solde d''heure collaborateur'!A41,Planning!$3:$3,0))","v":"Nav3"},{"$f":"VLOOKUP(C41,Horaires!$A$3:$E$49,2,)","v":"Navigation"},{"$f":"IF(D41=\"vacances\",INDEX(Horaires!$H$3:$L$42,MATCH('Solde d''heure collaborateur'!D$2,Horaires!$H$3:$H$40,0),4),IF(D41=\"maladie\",INDEX(Horaires!$H$3:$L$42,MATCH('Solde d''heure collaborateur'!D$2,Horaires!$H$3:$H$40,0),5),VLOOKUP(C41,Horaires!$A$3:$E$60,5,)))","v":0.40624999999999994},null,{"$f":"INDEX(Planning!$5:$5,MATCH('Solde d''heure collaborateur'!A41,Planning!$3:$3))","v":"pom3"},{"$f":"VLOOKUP(G41,Horaires!$A$3:$E$49,2,)","v":"Pommier"},{"$f":"IF(H41=\"vacances\",INDEX(Horaires!$H$3:$L$42,MATCH('Solde d''heure collaborateur'!H$2,Horaires!$H$3:$H$40,0),4),IF(H41=\"maladie\",INDEX(Horaires!$H$3:$L$42,MATCH('Solde d''heure collaborateur'!H$2,Horaires!$H$3:$H$40,0),5),VLOOKUP(G41,Horaires!$A$3:$E$60,5,)))","v":0.42708333333333331},null,{"$f":"INDEX(Planning!$6:$6,MATCH('Solde d''heure collaborateur'!A41,Planning!$3:$3))","v":"R"},{"$f":"VLOOKUP(K41,Horaires!$A$3:$E$49,2,)","v":"Congé"},{"$f":"IF(L41=\"vacances\",INDEX(Horaires!$H$3:$L$42,MATCH('Solde d''heure collaborateur'!L$2,Horaires!$H$3:$H$40,0),4),IF(L41=\"maladie\",INDEX(Horaires!$H$3:$L$42,MATCH('Solde d''heure collaborateur'!L$2,Horaires!$H$3:$H$40,0),5),VLOOKUP(K41,Horaires!$A$3:$E$60,5,)))","v":0},null,{"$f":"INDEX(Planning!$7:$7,MATCH('Solde d''heure collaborateur'!$A41,Planning!$3:$3))","v":"X"},{"$f":"VLOOKUP(O41,Horaires!$A$3:$E$49,2,)","v":"XXX"},{"$f":"IF(P41=\"vacances\",INDEX(Horaires!$H$3:$L$42,MATCH('Solde d''heure collaborateur'!P$2,Horaires!$H$3:$H$40,0),4),IF(P41=\"maladie\",INDEX(Horaires!$H$3:$L$42,MATCH('Solde d''heure collaborateur'!P$2,Horaires!$H$3:$H$40,0),5),VLOOKUP(O41,Horaires!$A$3:$E$60,5,)))","v":0},null,{"$f":"INDEX(Planning!$8:$8,MATCH('Solde d''heure collaborateur'!$A41,Planning!$3:$3))","v":"Recup"},{"$f":"VLOOKUP(S41,Horaires!$A$3:$E$49,2,)","v":"Récupération"},{"$f":"IF(T41=\"vacances\",INDEX(Horaires!$H$3:$L$42,MATCH('Solde d''heure collaborateur'!T$2,Horaires!$H$3:$H$40,0),4),IF(T41=\"maladie\",INDEX(Horaires!$H$3:$L$42,MATCH('Solde d''heure collaborateur'!T$2,Horaires!$H$3:$H$40,0),5),VLOOKUP(S41,Horaires!$A$3:$E$60,5,)))","v":0},null,{"$f":"INDEX(Planning!$9:$9,MATCH('Solde d''heure collaborateur'!$A41,Planning!$3:$3))","v":"X"},{"$f":"VLOOKUP(W41,Horaires!$A$3:$E$49,2,)","v":"XXX"},{"$f":"IF(X41=\"vacances\",INDEX(Horaires!$H$3:$L$42,MATCH('Solde d''heure collaborateur'!X$2,Horaires!$H$3:$H$40,0),4),IF(X41=\"maladie\",INDEX(Horaires!$H$3:$L$42,MATCH('Solde d''heure collaborateur'!X$2,Horaires!$H$3:$H$40,0),5),VLOOKUP(W41,Horaires!$A$3:$E$60,5,)))","v":0},null,{"$f":"INDEX(Planning!$10:$10,MATCH('Solde d''heure collaborateur'!$A41,Planning!$3:$3))","v":"Onex3"},{"$f":"VLOOKUP(AA41,Horaires!$A$3:$E$49,2,)","v":"Onex"},{"$f":"IF(AB41=\"vacances\",INDEX(Horaires!$H$3:$L$42,MATCH('Solde d''heure collaborateur'!AB$2,Horaires!$H$3:$H$40,0),4),IF(AB41=\"maladie\",INDEX(Horaires!$H$3:$L$42,MATCH('Solde d''heure collaborateur'!AB$2,Horaires!$H$3:$H$40,0),5),VLOOKUP(AA41,Horaires!$A$3:$E$60,5,)))","v":0.42708333333333331},null,{"$f":"INDEX(Planning!$11:$11,MATCH('Solde d''heure collaborateur'!$A41,Planning!$3:$3))","v":"R"},{"$f":"VLOOKUP(AE41,Horaires!$A$3:$E$49,2,)","v":"Congé"},{"$f":"IF(AF41=\"vacances\",INDEX(Horaires!$H$3:$L$42,MATCH('Solde d''heure collaborateur'!AF$2,Horaires!$H$3:$H$40,0),4),IF(AF41=\"maladie\",INDEX(Horaires!$H$3:$L$42,MATCH('Solde d''heure collaborateur'!AF$2,Horaires!$H$3:$H$40,0),5),VLOOKUP(AE41,Horaires!$A$3:$E$60,5,)))","v":0},null,{"$f":"INDEX(Planning!$12:$12,MATCH('Solde d''heure collaborateur'!$A41,Planning!$3:$3))","v":"Thon3"},{"$f":"VLOOKUP(AI41,Horaires!$A$3:$E$49,2,)","v":"Thonex"},{"$f":"IF(AJ41=\"vacances\",INDEX(Horaires!$H$3:$L$42,MATCH('Solde d''heure collaborateur'!AJ$2,Horaires!$H$3:$H$40,0),4),IF(AJ41=\"maladie\",INDEX(Horaires!$H$3:$L$42,MATCH('Solde d''heure collaborateur'!AJ$2,Horaires!$H$3:$H$40,0),5),VLOOKUP(AI41,Horaires!$A$3:$E$60,5,)))","v":0.40624999999999994},null,{"$f":"INDEX(Planning!$13:$13,MATCH('Solde d''heure collaborateur'!$A41,Planning!$3:$3))","v":"recup"},{"$f":"VLOOKUP(AM41,Horaires!$A$3:$E$49,2,)","v":"Récupération"},{"$f":"IF(AN41=\"vacances\",INDEX(Horaires!$H$3:$L$42,MATCH('Solde d''heure collaborateur'!AN$2,Horaires!$H$3:$H$40,0),4),IF(AN41=\"maladie\",INDEX(Horaires!$H$3:$L$42,MATCH('Solde d''heure collaborateur'!AN$2,Horaires!$H$3:$H$40,0),5),VLOOKUP(AM41,Horaires!$A$3:$E$60,5,)))","v":0},null,{"$f":"INDEX(Planning!$14:$14,MATCH('Solde d''heure collaborateur'!$A41,Planning!$3:$3))","v":"M"},{"$f":"VLOOKUP(AQ41,Horaires!$A$3:$E$49,2,)","v":"Maladie"},{"$f":"IF(AR41=\"vacances\",INDEX(Horaires!$H$3:$L$42,MATCH('Solde d''heure collaborateur'!AR$2,Horaires!$H$3:$H$40,0),4),IF(AR41=\"maladie\",INDEX(Horaires!$H$3:$L$42,MATCH('Solde d''heure collaborateur'!AR$2,Horaires!$H$3:$H$40,0),5),VLOOKUP(AQ41,Horaires!$A$3:$E$60,5,)))","v":0.46180555555555558},null,{"$f":"INDEX(Planning!$15:$15,MATCH('Solde d''heure collaborateur'!$A41,Planning!$3:$3))","v":"R"},{"$f":"VLOOKUP(AU41,Horaires!$A$3:$E$49,2,)","v":"Congé"},{"$f":"IF(AV41=\"vacances\",INDEX(Horaires!$H$3:$L$42,MATCH('Solde d''heure collaborateur'!AV$2,Horaires!$H$3:$H$40,0),4),IF(AV41=\"maladie\",INDEX(Horaires!$H$3:$L$42,MATCH('Solde d''heure collaborateur'!AV$2,Horaires!$H$3:$H$40,0),5),VLOOKUP(AU41,Horaires!$A$3:$E$60,5,)))","v":0},null,{"$f":"INDEX(Planning!$16:$16,MATCH('Solde d''heure collaborateur'!$A41,Planning!$3:$3))","v":"Nyon2"},{"$f":"VLOOKUP(AY41,Horaires!$A$3:$E$49,2,)","v":"Nyon"},{"$f":"IF(AZ41=\"vacances\",INDEX(Horaires!$H$3:$L$42,MATCH('Solde d''heure collaborateur'!AZ$2,Horaires!$H$3:$H$40,0),4),IF(AZ41=\"maladie\",INDEX(Horaires!$H$3:$L$42,MATCH('Solde d''heure collaborateur'!AZ$2,Horaires!$H$3:$H$40,0),5),VLOOKUP(AY41,Horaires!$A$3:$E$60,5,)))","v":0.40624999999999994},null,{"$f":"INDEX(Planning!$17:$17,MATCH('Solde d''heure collaborateur'!$A41,Planning!$3:$3))","v":"tour3"},{"$f":"VLOOKUP(BC41,Horaires!$A$3:$E$49,2,)","v":"Tourelle"},{"$f":"IF(BD41=\"vacances\",INDEX(Horaires!$H$3:$L$42,MATCH('Solde d''heure collaborateur'!BD$2,Horaires!$H$3:$H$40,0),4),IF(BD41=\"maladie\",INDEX(Horaires!$H$3:$L$42,MATCH('Solde d''heure collaborateur'!BD$2,Horaires!$H$3:$H$40,0),5),VLOOKUP(BC41,Horaires!$A$3:$E$60,5,)))","v":0.42708333333333331},null,{"$f":"INDEX(Planning!$18:$18,MATCH('Solde d''heure collaborateur'!$A41,Planning!$3:$3))","v":"Vib3"},{"$f":"VLOOKUP(BG41,Horaires!$A$3:$E$49,2,)","v":"Vibert"},{"$f":"IF(BH41=\"vacances\",INDEX(Horaires!$H$3:$L$42,MATCH('Solde d''heure collaborateur'!BH$2,Horaires!$H$3:$H$40,0),4),IF(BH41=\"maladie\",INDEX(Horaires!$H$3:$L$42,MATCH('Solde d''heure collaborateur'!BH$2,Horaires!$H$3:$H$40,0),5),VLOOKUP(BG41,Horaires!$A$3:$E$60,5,)))","v":0.42708333333333331},null,{"$f":"INDEX(Planning!$19:$19,MATCH('Solde d''heure collaborateur'!$A41,Planning!$3:$3))","v":"Vib3"},{"$f":"VLOOKUP(BK41,Horaires!$A$3:$E$49,2,)","v":"Vibert"},{"$f":"IF(BL41=\"vacances\",INDEX(Horaires!$H$3:$L$42,MATCH('Solde d''heure collaborateur'!BL$2,Horaires!$H$3:$H$40,0),4),IF(BL41=\"maladie\",INDEX(Horaires!$H$3:$L$42,MATCH('Solde d''heure collaborateur'!BL$2,Horaires!$H$3:$H$40,0),5),VLOOKUP(BK41,Horaires!$A$3:$E$60,5,)))","v":0.42708333333333331},null,{"$f":"INDEX(Planning!$20:$20,MATCH('Solde d''heure collaborateur'!$A41,Planning!$3:$3))","v":"Aca3"},{"$f":"VLOOKUP(BO41,Horaires!$A$3:$E$49,2,)","v":"Acacias"},{"$f":"IF(BP41=\"vacances\",INDEX(Horaires!$H$3:$L$42,MATCH('Solde d''heure collaborateur'!BP$2,Horaires!$H$3:$H$40,0),4),IF(BP41=\"maladie\",INDEX(Horaires!$H$3:$L$42,MATCH('Solde d''heure collaborateur'!BP$2,Horaires!$H$3:$H$40,0),5),VLOOKUP(BO41,Horaires!$A$3:$E$60,5,)))","v":0.40624999999999994},null,{"$f":"INDEX(Planning!$21:$21,MATCH('Solde d''heure collaborateur'!$A41,Planning!$3:$3))","v":"Ves3"},{"$f":"VLOOKUP(BS41,Horaires!$A$3:$E$49,2,)","v":"Vesenaz"},{"$f":"IF(BT41=\"vacances\",INDEX(Horaires!$H$3:$L$42,MATCH('Solde d''heure collaborateur'!BT$2,Horaires!$H$3:$H$40,0),4),IF(BT41=\"maladie\",INDEX(Horaires!$H$3:$L$42,MATCH('Solde d''heure collaborateur'!BT$2,Horaires!$H$3:$H$40,0),5),VLOOKUP(BS41,Horaires!$A$3:$E$60,5,)))","v":0.40624999999999994},null,{"$f":"INDEX(Planning!$22:$22,MATCH('Solde d''heure collaborateur'!$A41,Planning!$3:$3))","v":"X"},{"$f":"VLOOKUP(BW41,Horaires!$A$3:$E$49,2,)","v":"XXX"},{"$f":"IF(BX41=\"vacances\",INDEX(Horaires!$H$3:$L$42,MATCH('Solde d''heure collaborateur'!BX$2,Horaires!$H$3:$H$40,0),4),IF(BX41=\"maladie\",INDEX(Horaires!$H$3:$L$42,MATCH('Solde d''heure collaborateur'!BX$2,Horaires!$H$3:$H$40,0),5),VLOOKUP(BW41,Horaires!$A$3:$E$60,5,)))","v":0},null,{"$f":"INDEX(Planning!$23:$23,MATCH('Solde d''heure collaborateur'!$A41,Planning!$3:$3))","v":"Plo1"},{"$f":"VLOOKUP(CA41,Horaires!$A$3:$E$49,2,)","v":"Plan les Ouates"},{"$f":"IF(CB41=\"vacances\",INDEX(Horaires!$H$3:$L$42,MATCH('Solde d''heure collaborateur'!CB$2,Horaires!$H$3:$H$40,0),4),IF(CB41=\"maladie\",INDEX(Horaires!$H$3:$L$42,MATCH('Solde d''heure collaborateur'!CB$2,Horaires!$H$3:$H$40,0),5),VLOOKUP(CA41,Horaires!$A$3:$E$60,5,)))","v":0.46875000000000006},null,{"$f":"INDEX(Planning!$24:$24,MATCH('Solde d''heure collaborateur'!$A41,Planning!$3:$3))","v":"Nav3"},{"$f":"VLOOKUP(CE41,Horaires!$A$3:$E$49,2,)","v":"Navigation"},{"$f":"IF(CF41=\"vacances\",INDEX(Horaires!$H$3:$L$42,MATCH('Solde d''heure collaborateur'!CF$2,Horaires!$H$3:$H$40,0),4),IF(CF41=\"maladie\",INDEX(Horaires!$H$3:$L$42,MATCH('Solde d''heure collaborateur'!CF$2,Horaires!$H$3:$H$40,0),5),VLOOKUP(CE41,Horaires!$A$3:$E$60,5,)))","v":0.40624999999999994},null,{"$f":"INDEX(Planning!$25:$25,MATCH('Solde d''heure collaborateur'!$A41,Planning!$3:$3))","v":"X"},{"$f":"VLOOKUP(CI41,Horaires!$A$3:$E$49,2,)","v":"XXX"},{"$f":"IF(CJ41=\"vacances\",INDEX(Horaires!$H$3:$L$42,MATCH('Solde d''heure collaborateur'!CJ$2,Horaires!$H$3:$H$40,0),4),IF(CJ41=\"maladie\",INDEX(Horaires!$H$3:$L$42,MATCH('Solde d''heure collaborateur'!CJ$2,Horaires!$H$3:$H$40,0),5),VLOOKUP(CI41,Horaires!$A$3:$E$60,5,)))","v":0},null,{"$f":"INDEX(Planning!$26:$26,MATCH('Solde d''heure collaborateur'!$A41,Planning!$3:$3))","v":"Vid3"},{"$f":"VLOOKUP(CM41,Horaires!$A$3:$E$49,2,)","v":"Vidollet"},{"$f":"IF(CN41=\"vacances\",INDEX(Horaires!$H$3:$L$42,MATCH('Solde d''heure collaborateur'!CN$2,Horaires!$H$3:$H$40,0),4),IF(CN41=\"maladie\",INDEX(Horaires!$H$3:$L$42,MATCH('Solde d''heure collaborateur'!CN$2,Horaires!$H$3:$H$40,0),5),VLOOKUP(CM41,Horaires!$A$3:$E$60,5,)))","v":0.40624999999999994},null,{"$f":"INDEX(Planning!$27:$27,MATCH('Solde d''heure collaborateur'!$A41,Planning!$3:$3))","v":"R"},{"$f":"VLOOKUP(CQ41,Horaires!$A$3:$E$49,2,)","v":"Congé"},{"$f":"IF(CR41=\"vacances\",INDEX(Horaires!$H$3:$L$42,MATCH('Solde d''heure collaborateur'!CR$2,Horaires!$H$3:$H$40,0),4),IF(CR41=\"maladie\",INDEX(Horaires!$H$3:$L$42,MATCH('Solde d''heure collaborateur'!CR$2,Horaires!$H$3:$H$40,0),5),VLOOKUP(CQ41,Horaires!$A$3:$E$60,5,)))","v":0},null,{"$f":"INDEX(Planning!$28:$28,MATCH('Solde d''heure collaborateur'!$A41,Planning!$3:$3))","v":"R"},{"$f":"VLOOKUP(CU41,Horaires!$A$3:$E$49,2,)","v":"Congé"},{"$f":"IF(CV41=\"vacances\",INDEX(Horaires!$H$3:$L$42,MATCH('Solde d''heure collaborateur'!CV$2,Horaires!$H$3:$H$40,0),4),IF(CV41=\"maladie\",INDEX(Horaires!$H$3:$L$42,MATCH('Solde d''heure collaborateur'!CV$2,Horaires!$H$3:$H$40,0),5),VLOOKUP(CU41,Horaires!$A$3:$E$60,5,)))","v":0},null,{"$f":"INDEX(Planning!$29:$29,MATCH('Solde d''heure collaborateur'!$A41,Planning!$3:$3))","v":"Onex3"},{"$f":"VLOOKUP(CY41,Horaires!$A$3:$E$49,2,)","v":"Onex"},{"$f":"IF(CZ41=\"vacances\",INDEX(Horaires!$H$3:$L$42,MATCH('Solde d''heure collaborateur'!CZ$2,Horaires!$H$3:$H$40,0),4),IF(CZ41=\"maladie\",INDEX(Horaires!$H$3:$L$42,MATCH('Solde d''heure collaborateur'!CZ$2,Horaires!$H$3:$H$40,0),5),VLOOKUP(CY41,Horaires!$A$3:$E$60,5,)))","v":0.42708333333333331},null,{"$f":"INDEX(Planning!$30:$30,MATCH('Solde d''heure collaborateur'!$A41,Planning!$3:$3))","v":"X"},{"$f":"VLOOKUP(DC41,Horaires!$A$3:$E$49,2,)","v":"XXX"},{"$f":"IF(DD41=\"vacances\",INDEX(Horaires!$H$3:$L$42,MATCH('Solde d''heure collaborateur'!DD$2,Horaires!$H$3:$H$40,0),4),IF(DD41=\"maladie\",INDEX(Horaires!$H$3:$L$42,MATCH('Solde d''heure collaborateur'!DD$2,Horaires!$H$3:$H$40,0),5),VLOOKUP(DC41,Horaires!$A$3:$E$60,5,)))","v":0},null,{"$f":"INDEX(Planning!$31:$31,MATCH('Solde d''heure collaborateur'!$A41,Planning!$3:$3))","v":"X"},{"$f":"VLOOKUP(DG41,Horaires!$A$3:$E$49,2,)","v":"XXX"},{"$f":"IF(DH41=\"vacances\",INDEX(Horaires!$H$3:$L$42,MATCH('Solde d''heure collaborateur'!DH$2,Horaires!$H$3:$H$40,0),4),IF(DH41=\"maladie\",INDEX(Horaires!$H$3:$L$42,MATCH('Solde d''heure collaborateur'!DH$2,Horaires!$H$3:$H$40,0),5),VLOOKUP(DG41,Horaires!$A$3:$E$60,5,)))","v":0},null,{"$f":"INDEX(Planning!$32:$32,MATCH('Solde d''heure collaborateur'!$A41,Planning!$3:$3))","v":"X"},{"$f":"VLOOKUP(DK41,Horaires!$A$3:$E$49,2,)","v":"XXX"},{"$f":"IF(DL41=\"vacances\",INDEX(Horaires!$H$3:$L$42,MATCH('Solde d''heure collaborateur'!DL$2,Horaires!$H$3:$H$40,0),4),IF(DL41=\"maladie\",INDEX(Horaires!$H$3:$L$42,MATCH('Solde d''heure collaborateur'!DL$2,Horaires!$H$3:$H$40,0),5),VLOOKUP(DK41,Horaires!$A$3:$E$60,5,)))","v":0},null,{"$f":"INDEX(Planning!$33:$33,MATCH('Solde d''heure collaborateur'!$A41,Planning!$3:$3))","v":"X"},{"$f":"VLOOKUP(DO41,Horaires!$A$3:$E$49,2,)","v":"XXX"},{"$f":"IF(DP41=\"vacances\",INDEX(Horaires!$H$3:$L$42,MATCH('Solde d''heure collaborateur'!DP$2,Horaires!$H$3:$H$40,0),4),IF(DP41=\"maladie\",INDEX(Horaires!$H$3:$L$42,MATCH('Solde d''heure collaborateur'!DP$2,Horaires!$H$3:$H$40,0),5),VLOOKUP(DO41,Horaires!$A$3:$E$60,5,)))","v":0},null,{"$f":"INDEX(Planning!$34:$34,MATCH('Solde d''heure collaborateur'!$A41,Planning!$3:$3))","v":"X"},{"$f":"VLOOKUP(DS41,Horaires!$A$3:$E$49,2,)","v":"XXX"},{"$f":"IF(DT41=\"vacances\",INDEX(Horaires!$H$3:$L$42,MATCH('Solde d''heure collaborateur'!DT$2,Horaires!$H$3:$H$40,0),4),IF(DT41=\"maladie\",INDEX(Horaires!$H$3:$L$42,MATCH('Solde d''heure collaborateur'!DT$2,Horaires!$H$3:$H$40,0),5),VLOOKUP(DS41,Horaires!$A$3:$E$60,5,)))","v":0},null,{"$f":"INDEX(Planning!$35:$35,MATCH('Solde d''heure collaborateur'!$A41,Planning!$3:$3))","v":"X"},{"$f":"VLOOKUP(DW41,Horaires!$A$3:$E$49,2,)","v":"XXX"},{"$f":"IF(DX41=\"vacances\",INDEX(Horaires!$H$3:$L$42,MATCH('Solde d''heure collaborateur'!DX$2,Horaires!$H$3:$H$40,0),4),IF(DX41=\"maladie\",INDEX(Horaires!$H$3:$L$42,MATCH('Solde d''heure collaborateur'!DX$2,Horaires!$H$3:$H$40,0),5),VLOOKUP(DW41,Horaires!$A$3:$E$60,5,)))","v":0}]
[null,null,null,{"$f":"SUM(E42-INDEX(Horaires!$H$3:$L$37,MATCH('Solde d''heure collaborateur'!D$2,Horaires!$H$3:$H$37,0),2))","v":1},{"$f":"SUM(E36:E41)*24","v":43},null,null,{"$f":"SUM(I42-INDEX(Horaires!$H$3:$L$37,MATCH('Solde d''heure collaborateur'!H$2,Horaires!$H$3:$H$37,0),2))","v":-9.25},{"$f":"SUM(I36:I41)*24","v":32.75},null,null,{"$f":"SUM(M42-INDEX(Horaires!$H$3:$L$37,MATCH('Solde d''heure collaborateur'!L$2,Horaires!$H$3:$H$37,0),2))","v":0},{"$f":"SUM(M36:M41)*24","v":42},null,null,{"$f":"SUM(Q42-INDEX(Horaires!$H$3:$L$37,MATCH('Solde d''heure collaborateur'!P$2,Horaires!$H$3:$H$37,0),2))","v":3.5527136788005009E-15},{"$f":"SUM(Q36:Q41)*24","v":22.500000000000004},null,null,{"$f":"SUM(U42-INDEX(Horaires!$H$3:$L$37,MATCH('Solde d''heure collaborateur'!T$2,Horaires!$H$3:$H$37,0),2))","v":-8.2499999999999929},{"$f":"SUM(U36:U41)*24","v":33.750000000000007},null,null,{"$f":"SUM(Y42-INDEX(Horaires!$H$3:$L$37,MATCH('Solde d''heure collaborateur'!X$2,Horaires!$H$3:$H$37,0),2))","v":-11.249999999999998},{"$f":"SUM(Y36:Y41)*24","v":11.250000000000002},null,null,{"$f":"SUM(AC42-INDEX(Horaires!$H$3:$L$37,MATCH('Solde d''heure collaborateur'!AB$2,Horaires!$H$3:$H$37,0),2))","v":3},{"$f":"SUM(AC36:AC41)*24","v":45},null,null,{"$f":"SUM(AG42-INDEX(Horaires!$H$3:$L$37,MATCH('Solde d''heure collaborateur'!AF$2,Horaires!$H$3:$H$37,0),2))","v":-7.75},{"$f":"SUM(AG36:AG41)*24","v":34.25},null,null,{"$f":"SUM(AK42-INDEX(Horaires!$H$3:$L$37,MATCH('Solde d''heure collaborateur'!AJ$2,Horaires!$H$3:$H$37,0),2))","v":0.5},{"$f":"SUM(AK36:AK41)*24","v":42.5},null,null,{"$f":"SUM(AO42-INDEX(Horaires!$H$3:$L$37,MATCH('Solde d''heure collaborateur'!AN$2,Horaires!$H$3:$H$37,0),2))","v":-9.25},{"$f":"SUM(AO36:AO41)*24","v":32.75},null,null,{"$f":"SUM(AS42-INDEX(Horaires!$H$3:$L$37,MATCH('Solde d''heure collaborateur'!AR$2,Horaires!$H$3:$H$37,0),2))","v":0},{"$f":"SUM(AS36:AS41)*24","v":33.25},null,null,{"$f":"SUM(AW42-INDEX(Horaires!$H$3:$L$37,MATCH('Solde d''heure collaborateur'!AV$2,Horaires!$H$3:$H$37,0),2))","v":1},{"$f":"SUM(AW36:AW41)*24","v":43},null,null,{"$f":"SUM(BA42-INDEX(Horaires!$H$3:$L$37,MATCH('Solde d''heure collaborateur'!AZ$2,Horaires!$H$3:$H$37,0),2))","v":0.5},{"$f":"SUM(BA36:BA41)*24","v":42.5},null,null,{"$f":"SUM(BE42-INDEX(Horaires!$H$3:$L$37,MATCH('Solde d''heure collaborateur'!BD$2,Horaires!$H$3:$H$37,0),2))","v":1.5},{"$f":"SUM(BE36:BE41)*24","v":43.5},null,null,{"$f":"SUM(BI42-INDEX(Horaires!$H$3:$L$37,MATCH('Solde d''heure collaborateur'!BH$2,Horaires!$H$3:$H$37,0),2))","v":1.5},{"$f":"SUM(BI36:BI41)*24","v":43.5},null,null,{"$f":"SUM(BM42-INDEX(Horaires!$H$3:$L$37,MATCH('Solde d''heure collaborateur'!BL$2,Horaires!$H$3:$H$37,0),2))","v":2.25},{"$f":"SUM(BM36:BM41)*24","v":44.25},null,null,{"$f":"SUM(BQ42-INDEX(Horaires!$H$3:$L$37,MATCH('Solde d''heure collaborateur'!BP$2,Horaires!$H$3:$H$37,0),2))","v":0},{"$f":"SUM(BQ36:BQ41)*24","v":42},null,null,{"$f":"SUM(BU42-INDEX(Horaires!$H$3:$L$37,MATCH('Solde d''heure collaborateur'!BT$2,Horaires!$H$3:$H$37,0),2))","v":1},{"$f":"SUM(BU36:BU41)*24","v":43},null,null,{"$f":"SUM(BY42-INDEX(Horaires!$H$3:$L$37,MATCH('Solde d''heure collaborateur'!BX$2,Horaires!$H$3:$H$37,0),2))","v":0},{"$f":"SUM(BY36:BY41)*24","v":21.5},null,null,{"$f":"SUM(CC42-INDEX(Horaires!$H$3:$L$37,MATCH('Solde d''heure collaborateur'!CB$2,Horaires!$H$3:$H$37,0),2))","v":2},{"$f":"SUM(CC36:CC41)*24","v":44},null,null,{"$f":"SUM(CG42-INDEX(Horaires!$H$3:$L$37,MATCH('Solde d''heure collaborateur'!CF$2,Horaires!$H$3:$H$37,0),2))","v":2},{"$f":"SUM(CG36:CG41)*24","v":44},null,null,{"$f":"SUM(CK42-INDEX(Horaires!$H$3:$L$37,MATCH('Solde d''heure collaborateur'!CJ$2,Horaires!$H$3:$H$37,0),2))","v":-42},{"$f":"SUM(CK36:CK41)*24","v":0},null,null,{"$f":"SUM(CO42-INDEX(Horaires!$H$3:$L$37,MATCH('Solde d''heure collaborateur'!CN$2,Horaires!$H$3:$H$37,0),2))","v":0.5},{"$f":"SUM(CO36:CO41)*24","v":42.5},null,null,{"$f":"SUM(CS42-INDEX(Horaires!$H$3:$L$37,MATCH('Solde d''heure collaborateur'!CR$2,Horaires!$H$3:$H$37,0),2))","v":2.5},{"$f":"SUM(CS36:CS41)*24","v":44.5},null,null,{"$f":"SUM(CW42-INDEX(Horaires!$H$3:$L$37,MATCH('Solde d''heure collaborateur'!CV$2,Horaires!$H$3:$H$37,0),2))","v":3.5},{"$f":"SUM(CW36:CW41)*24","v":45.5},null,null,{"$f":"SUM(DA42-INDEX(Horaires!$H$3:$L$37,MATCH('Solde d''heure collaborateur'!CZ$2,Horaires!$H$3:$H$37,0),2))","v":22},{"$f":"SUM(DA36:DA41)*24","v":22},null,null,{"$f":"SUM(DE42-INDEX(Horaires!$H$3:$L$37,MATCH('Solde d''heure collaborateur'!DD$2,Horaires!$H$3:$H$37,0),2))","v":{"$error":"#N/A"}},{"$f":"SUM(DE36:DE41)*24","v":0},null,null,{"$f":"SUM(DI42-INDEX(Horaires!$H$3:$L$37,MATCH('Solde d''heure collaborateur'!DH$2,Horaires!$H$3:$H$37,0),2))","v":0},{"$f":"SUM(DI36:DI41)*24","v":0},null,null,{"$f":"SUM(DM42-INDEX(Horaires!$H$3:$L$37,MATCH('Solde d''heure collaborateur'!DL$2,Horaires!$H$3:$H$37,0),2))","v":0},{"$f":"SUM(DM36:DM41)*24","v":0},null,null,{"$f":"SUM(DQ42-INDEX(Horaires!$H$3:$L$37,MATCH('Solde d''heure collaborateur'!DP$2,Horaires!$H$3:$H$37,0),2))","v":0},{"$f":"SUM(DQ36:DQ41)*24","v":0},null,null,{"$f":"SUM(DU42-INDEX(Horaires!$H$3:$L$37,MATCH('Solde d''heure collaborateur'!DT$2,Horaires!$H$3:$H$37,0),2))","v":0},{"$f":"SUM(DU36:DU41)*24","v":0},null,null,{"$f":"SUM(DY42-INDEX(Horaires!$H$3:$L$37,MATCH('Solde d''heure collaborateur'!DX$2,Horaires!$H$3:$H$37,0),2))","v":0},{"$f":"SUM(DY36:DY41)*24","v":0}]
[]
[{"$f":"A41+2","v":"2013-12-09"},null,{"$f":"INDEX(Planning!$4:$4,MATCH('Solde d''heure collaborateur'!A44,Planning!$3:$3,0))","v":"nav1"},{"$f":"VLOOKUP(C44,Horaires!$A$3:$E$49,2,)","v":"Navigation"},{"$f":"IF(D44=\"vacances\",INDEX(Horaires!$H$3:$L$42,MATCH('Solde d''heure collaborateur'!D$2,Horaires!$H$3:$H$40,0),4),IF(D44=\"maladie\",INDEX(Horaires!$H$3:$L$42,MATCH('Solde d''heure collaborateur'!D$2,Horaires!$H$3:$H$40,0),5),VLOOKUP(C44,Horaires!$A$3:$E$60,5,)))","v":0.44791666666666669},null,{"$f":"INDEX(Planning!$5:$5,MATCH('Solde d''heure collaborateur'!A44,Planning!$3:$3))","v":"R"},{"$f":"VLOOKUP(G44,Horaires!$A$3:$E$49,2,)","v":"Congé"},{"$f":"IF(H44=\"vacances\",INDEX(Horaires!$H$3:$L$42,MATCH('Solde d''heure collaborateur'!H$2,Horaires!$H$3:$H$40,0),4),IF(H44=\"maladie\",INDEX(Horaires!$H$3:$L$42,MATCH('Solde d''heure collaborateur'!H$2,Horaires!$H$3:$H$40,0),5),VLOOKUP(G44,Horaires!$A$3:$E$60,5,)))","v":0},null,{"$f":"INDEX(Planning!$6:$6,MATCH('Solde d''heure collaborateur'!A44,Planning!$3:$3))","v":"M"},{"$f":"VLOOKUP(K44,Horaires!$A$3:$E$49,2,)","v":"Maladie"},{"$f":"IF(L44=\"vacances\",INDEX(Horaires!$H$3:$L$42,MATCH('Solde d''heure collaborateur'!L$2,Horaires!$H$3:$H$40,0),4),IF(L44=\"maladie\",INDEX(Horaires!$H$3:$L$42,MATCH('Solde d''heure collaborateur'!L$2,Horaires!$H$3:$H$40,0),5),VLOOKUP(K44,Horaires!$A$3:$E$60,5,)))","v":0.4375},null,{"$f":"INDEX(Planning!$7:$7,MATCH('Solde d''heure collaborateur'!$A44,Planning!$3:$3))","v":"Vib1"},{"$f":"VLOOKUP(O44,Horaires!$A$3:$E$49,2,)","v":"Vibert"},{"$f":"IF(P44=\"vacances\",INDEX(Horaires!$H$3:$L$42,MATCH('Solde d''heure collaborateur'!P$2,Horaires!$H$3:$H$40,0),4),IF(P44=\"maladie\",INDEX(Horaires!$H$3:$L$42,MATCH('Solde d''heure collaborateur'!P$2,Horaires!$H$3:$H$40,0),5),VLOOKUP(O44,Horaires!$A$3:$E$60,5,)))","v":0.46875000000000006},null,{"$f":"INDEX(Planning!$8:$8,MATCH('Solde d''heure collaborateur'!$A44,Planning!$3:$3))","v":"Onex1"},{"$f":"VLOOKUP(S44,Horaires!$A$3:$E$49,2,)","v":"Onex"},{"$f":"IF(T44=\"vacances\",INDEX(Horaires!$H$3:$L$42,MATCH('Solde d''heure collaborateur'!T$2,Horaires!$H$3:$H$40,0),4),IF(T44=\"maladie\",INDEX(Horaires!$H$3:$L$42,MATCH('Solde d''heure collaborateur'!T$2,Horaires!$H$3:$H$40,0),5),VLOOKUP(S44,Horaires!$A$3:$E$60,5,)))","v":0.46875000000000006},null,{"$f":"INDEX(Planning!$9:$9,MATCH('Solde d''heure collaborateur'!$A44,Planning!$3:$3))","v":"Onex1"},{"$f":"VLOOKUP(W44,Horaires!$A$3:$E$49,2,)","v":"Onex"},{"$f":"IF(X44=\"vacances\",INDEX(Horaires!$H$3:$L$42,MATCH('Solde d''heure collaborateur'!X$2,Horaires!$H$3:$H$40,0),4),IF(X44=\"maladie\",INDEX(Horaires!$H$3:$L$42,MATCH('Solde d''heure collaborateur'!X$2,Horaires!$H$3:$H$40,0),5),VLOOKUP(W44,Horaires!$A$3:$E$60,5,)))","v":0.46875000000000006},null,{"$f":"INDEX(Planning!$10:$10,MATCH('Solde d''heure collaborateur'!$A44,Planning!$3:$3))","v":"R"},{"$f":"VLOOKUP(AA44,Horaires!$A$3:$E$49,2,)","v":"Congé"},{"$f":"IF(AB44=\"vacances\",INDEX(Horaires!$H$3:$L$42,MATCH('Solde d''heure collaborateur'!AB$2,Horaires!$H$3:$H$40,0),4),IF(AB44=\"maladie\",INDEX(Horaires!$H$3:$L$42,MATCH('Solde d''heure collaborateur'!AB$2,Horaires!$H$3:$H$40,0),5),VLOOKUP(AA44,Horaires!$A$3:$E$60,5,)))","v":0},null,{"$f":"INDEX(Planning!$11:$11,MATCH('Solde d''heure collaborateur'!$A44,Planning!$3:$3))","v":"R"},{"$f":"VLOOKUP(AE44,Horaires!$A$3:$E$49,2,)","v":"Congé"},{"$f":"IF(AF44=\"vacances\",INDEX(Horaires!$H$3:$L$42,MATCH('Solde d''heure collaborateur'!AF$2,Horaires!$H$3:$H$40,0),4),IF(AF44=\"maladie\",INDEX(Horaires!$H$3:$L$42,MATCH('Solde d''heure collaborateur'!AF$2,Horaires!$H$3:$H$40,0),5),VLOOKUP(AE44,Horaires!$A$3:$E$60,5,)))","v":0},null,{"$f":"INDEX(Planning!$12:$12,MATCH('Solde d''heure collaborateur'!$A44,Planning!$3:$3))","v":"thon1"},{"$f":"VLOOKUP(AI44,Horaires!$A$3:$E$49,2,)","v":"Thonex"},{"$f":"IF(AJ44=\"vacances\",INDEX(Horaires!$H$3:$L$42,MATCH('Solde d''heure collaborateur'!AJ$2,Horaires!$H$3:$H$40,0),4),IF(AJ44=\"maladie\",INDEX(Horaires!$H$3:$L$42,MATCH('Solde d''heure collaborateur'!AJ$2,Horaires!$H$3:$H$40,0),5),VLOOKUP(AI44,Horaires!$A$3:$E$60,5,)))","v":0.44791666666666669},null,{"$f":"INDEX(Planning!$13:$13,MATCH('Solde d''heure collaborateur'!$A44,Planning!$3:$3))","v":"R"},{"$f":"VLOOKUP(AM44,Horaires!$A$3:$E$49,2,)","v":"Congé"},{"$f":"IF(AN44=\"vacances\",INDEX(Horaires!$H$3:$L$42,MATCH('Solde d''heure collaborateur'!AN$2,Horaires!$H$3:$H$40,0),4),IF(AN44=\"maladie\",INDEX(Horaires!$H$3:$L$42,MATCH('Solde d''heure collaborateur'!AN$2,Horaires!$H$3:$H$40,0),5),VLOOKUP(AM44,Horaires!$A$3:$E$60,5,)))","v":0},null,{"$f":"INDEX(Planning!$14:$14,MATCH('Solde d''heure collaborateur'!$A44,Planning!$3:$3))","v":"M"},{"$f":"VLOOKUP(AQ44,Horaires!$A$3:$E$49,2,)","v":"Maladie"},{"$f":"IF(AR44=\"vacances\",INDEX(Horaires!$H$3:$L$42,MATCH('Solde d''heure collaborateur'!AR$2,Horaires!$H$3:$H$40,0),4),IF(AR44=\"maladie\",INDEX(Horaires!$H$3:$L$42,MATCH('Solde d''heure collaborateur'!AR$2,Horaires!$H$3:$H$40,0),5),VLOOKUP(AQ44,Horaires!$A$3:$E$60,5,)))","v":0.46180555555555558},null,{"$f":"INDEX(Planning!$15:$15,MATCH('Solde d''heure collaborateur'!$A44,Planning!$3:$3))","v":"R"},{"$f":"VLOOKUP(AU44,Horaires!$A$3:$E$49,2,)","v":"Congé"},{"$f":"IF(AV44=\"vacances\",INDEX(Horaires!$H$3:$L$42,MATCH('Solde d''heure collaborateur'!AV$2,Horaires!$H$3:$H$40,0),4),IF(AV44=\"maladie\",INDEX(Horaires!$H$3:$L$42,MATCH('Solde d''heure collaborateur'!AV$2,Horaires!$H$3:$H$40,0),5),VLOOKUP(AU44,Horaires!$A$3:$E$60,5,)))","v":0},null,{"$f":"INDEX(Planning!$16:$16,MATCH('Solde d''heure collaborateur'!$A44,Planning!$3:$3))","v":"Nyon1"},{"$f":"VLOOKUP(AY44,Horaires!$A$3:$E$49,2,)","v":"Nyon"},{"$f":"IF(AZ44=\"vacances\",INDEX(Horaires!$H$3:$L$42,MATCH('Solde d''heure collaborateur'!AZ$2,Horaires!$H$3:$H$40,0),4),IF(AZ44=\"maladie\",INDEX(Horaires!$H$3:$L$42,MATCH('Solde d''heure collaborateur'!AZ$2,Horaires!$H$3:$H$40,0),5),VLOOKUP(AY44,Horaires!$A$3:$E$60,5,)))","v":0.44791666666666669},null,{"$f":"INDEX(Planning!$17:$17,MATCH('Solde d''heure collaborateur'!$A44,Planning!$3:$3))","v":"R"},{"$f":"VLOOKUP(BC44,Horaires!$A$3:$E$49,2,)","v":"Congé"},{"$f":"IF(BD44=\"vacances\",INDEX(Horaires!$H$3:$L$42,MATCH('Solde d''heure collaborateur'!BD$2,Horaires!$H$3:$H$40,0),4),IF(BD44=\"maladie\",INDEX(Horaires!$H$3:$L$42,MATCH('Solde d''heure collaborateur'!BD$2,Horaires!$H$3:$H$40,0),5),VLOOKUP(BC44,Horaires!$A$3:$E$60,5,)))","v":0},null,{"$f":"INDEX(Planning!$18:$18,MATCH('Solde d''heure collaborateur'!$A44,Planning!$3:$3))","v":"pom1"},{"$f":"VLOOKUP(BG44,Horaires!$A$3:$E$49,2,)","v":"Pommier"},{"$f":"IF(BH44=\"vacances\",INDEX(Horaires!$H$3:$L$42,MATCH('Solde d''heure collaborateur'!BH$2,Horaires!$H$3:$H$40,0),4),IF(BH44=\"maladie\",INDEX(Horaires!$H$3:$L$42,MATCH('Solde d''heure collaborateur'!BH$2,Horaires!$H$3:$H$40,0),5),VLOOKUP(BG44,Horaires!$A$3:$E$60,5,)))","v":0.44791666666666669},null,{"$f":"INDEX(Planning!$19:$19,MATCH('Solde d''heure collaborateur'!$A44,Planning!$3:$3))","v":"R"},{"$f":"VLOOKUP(BK44,Horaires!$A$3:$E$49,2,)","v":"Congé"},{"$f":"IF(BL44=\"vacances\",INDEX(Horaires!$H$3:$L$42,MATCH('Solde d''heure collaborateur'!BL$2,Horaires!$H$3:$H$40,0),4),IF(BL44=\"maladie\",INDEX(Horaires!$H$3:$L$42,MATCH('Solde d''heure collaborateur'!BL$2,Horaires!$H$3:$H$40,0),5),VLOOKUP(BK44,Horaires!$A$3:$E$60,5,)))","v":0},null,{"$f":"INDEX(Planning!$20:$20,MATCH('Solde d''heure collaborateur'!$A44,Planning!$3:$3))","v":"Aca1"},{"$f":"VLOOKUP(BO44,Horaires!$A$3:$E$49,2,)","v":"Acacias"},{"$f":"IF(BP44=\"vacances\",INDEX(Horaires!$H$3:$L$42,MATCH('Solde d''heure collaborateur'!BP$2,Horaires!$H$3:$H$40,0),4),IF(BP44=\"maladie\",INDEX(Horaires!$H$3:$L$42,MATCH('Solde d''heure collaborateur'!BP$2,Horaires!$H$3:$H$40,0),5),VLOOKUP(BO44,Horaires!$A$3:$E$60,5,)))","v":0.44791666666666669},null,{"$f":"INDEX(Planning!$21:$21,MATCH('Solde d''heure collaborateur'!$A44,Planning!$3:$3))","v":"R"},{"$f":"VLOOKUP(BS44,Horaires!$A$3:$E$49,2,)","v":"Congé"},{"$f":"IF(BT44=\"vacances\",INDEX(Horaires!$H$3:$L$42,MATCH('Solde d''heure collaborateur'!BT$2,Horaires!$H$3:$H$40,0),4),IF(BT44=\"maladie\",INDEX(Horaires!$H$3:$L$42,MATCH('Solde d''heure collaborateur'!BT$2,Horaires!$H$3:$H$40,0),5),VLOOKUP(BS44,Horaires!$A$3:$E$60,5,)))","v":0},null,{"$f":"INDEX(Planning!$22:$22,MATCH('Solde d''heure collaborateur'!$A44,Planning!$3:$3))","v":"Ves1"},{"$f":"VLOOKUP(BW44,Horaires!$A$3:$E$49,2,)","v":"Vesenaz"},{"$f":"IF(BX44=\"vacances\",INDEX(Horaires!$H$3:$L$42,MATCH('Solde d''heure collaborateur'!BX$2,Horaires!$H$3:$H$40,0),4),IF(BX44=\"maladie\",INDEX(Horaires!$H$3:$L$42,MATCH('Solde d''heure collaborateur'!BX$2,Horaires!$H$3:$H$40,0),5),VLOOKUP(BW44,Horaires!$A$3:$E$60,5,)))","v":0.44791666666666669},null,{"$f":"INDEX(Planning!$23:$23,MATCH('Solde d''heure collaborateur'!$A44,Planning!$3:$3))","v":"Plo1"},{"$f":"VLOOKUP(CA44,Horaires!$A$3:$E$49,2,)","v":"Plan les Ouates"},{"$f":"IF(CB44=\"vacances\",INDEX(Horaires!$H$3:$L$42,MATCH('Solde d''heure collaborateur'!CB$2,Horaires!$H$3:$H$40,0),4),IF(CB44=\"maladie\",INDEX(Horaires!$H$3:$L$42,MATCH('Solde d''heure collaborateur'!CB$2,Horaires!$H$3:$H$40,0),5),VLOOKUP(CA44,Horaires!$A$3:$E$60,5,)))","v":0.46875000000000006},null,{"$f":"INDEX(Planning!$24:$24,MATCH('Solde d''heure collaborateur'!$A44,Planning!$3:$3))","v":"R"},{"$f":"VLOOKUP(CE44,Horaires!$A$3:$E$49,2,)","v":"Congé"},{"$f":"IF(CF44=\"vacances\",INDEX(Horaires!$H$3:$L$42,MATCH('Solde d''heure collaborateur'!CF$2,Horaires!$H$3:$H$40,0),4),IF(CF44=\"maladie\",INDEX(Horaires!$H$3:$L$42,MATCH('Solde d''heure collaborateur'!CF$2,Horaires!$H$3:$H$40,0),5),VLOOKUP(CE44,Horaires!$A$3:$E$60,5,)))","v":0},null,{"$f":"INDEX(Planning!$25:$25,MATCH('Solde d''heure collaborateur'!$A44,Planning!$3:$3))","v":"X"},{"$f":"VLOOKUP(CI44,Horaires!$A$3:$E$49,2,)","v":"XXX"},{"$f":"IF(CJ44=\"vacances\",INDEX(Horaires!$H$3:$L$42,MATCH('Solde d''heure collaborateur'!CJ$2,Horaires!$H$3:$H$40,0),4),IF(CJ44=\"maladie\",INDEX(Horaires!$H$3:$L$42,MATCH('Solde d''heure collaborateur'!CJ$2,Horaires!$H$3:$H$40,0),5),VLOOKUP(CI44,Horaires!$A$3:$E$60,5,)))","v":0},null,{"$f":"INDEX(Planning!$26:$26,MATCH('Solde d''heure collaborateur'!$A44,Planning!$3:$3))","v":"Vid1"},{"$f":"VLOOKUP(CM44,Horaires!$A$3:$E$49,2,)","v":"Vidollet"},{"$f":"IF(CN44=\"vacances\",INDEX(Horaires!$H$3:$L$42,MATCH('Solde d''heure collaborateur'!CN$2,Horaires!$H$3:$H$40,0),4),IF(CN44=\"maladie\",INDEX(Horaires!$H$3:$L$42,MATCH('Solde d''heure collaborateur'!CN$2,Horaires!$H$3:$H$40,0),5),VLOOKUP(CM44,Horaires!$A$3:$E$60,5,)))","v":0.44791666666666669},null,{"$f":"INDEX(Planning!$27:$27,MATCH('Solde d''heure collaborateur'!$A44,Planning!$3:$3))","v":"vib1"},{"$f":"VLOOKUP(CQ44,Horaires!$A$3:$E$49,2,)","v":"Vibert"},{"$f":"IF(CR44=\"vacances\",INDEX(Horaires!$H$3:$L$42,MATCH('Solde d''heure collaborateur'!CR$2,Horaires!$H$3:$H$40,0),4),IF(CR44=\"maladie\",INDEX(Horaires!$H$3:$L$42,MATCH('Solde d''heure collaborateur'!CR$2,Horaires!$H$3:$H$40,0),5),VLOOKUP(CQ44,Horaires!$A$3:$E$60,5,)))","v":0.46875000000000006},null,{"$f":"INDEX(Planning!$28:$28,MATCH('Solde d''heure collaborateur'!$A44,Planning!$3:$3))","v":"tour1"},{"$f":"VLOOKUP(CU44,Horaires!$A$3:$E$49,2,)","v":"Tourelle"},{"$f":"IF(CV44=\"vacances\",INDEX(Horaires!$H$3:$L$42,MATCH('Solde d''heure collaborateur'!CV$2,Horaires!$H$3:$H$40,0),4),IF(CV44=\"maladie\",INDEX(Horaires!$H$3:$L$42,MATCH('Solde d''heure collaborateur'!CV$2,Horaires!$H$3:$H$40,0),5),VLOOKUP(CU44,Horaires!$A$3:$E$60,5,)))","v":0.46875000000000006},null,{"$f":"INDEX(Planning!$29:$29,MATCH('Solde d''heure collaborateur'!$A44,Planning!$3:$3))","v":"X"},{"$f":"VLOOKUP(CY44,Horaires!$A$3:$E$49,2,)","v":"XXX"},{"$f":"IF(CZ44=\"vacances\",INDEX(Horaires!$H$3:$L$42,MATCH('Solde d''heure collaborateur'!CZ$2,Horaires!$H$3:$H$40,0),4),IF(CZ44=\"maladie\",INDEX(Horaires!$H$3:$L$42,MATCH('Solde d''heure collaborateur'!CZ$2,Horaires!$H$3:$H$40,0),5),VLOOKUP(CY44,Horaires!$A$3:$E$60,5,)))","v":0},null,{"$f":"INDEX(Planning!$30:$30,MATCH('Solde d''heure collaborateur'!$A44,Planning!$3:$3))","v":"X"},{"$f":"VLOOKUP(DC44,Horaires!$A$3:$E$49,2,)","v":"XXX"},{"$f":"IF(DD44=\"vacances\",INDEX(Horaires!$H$3:$L$42,MATCH('Solde d''heure collaborateur'!DD$2,Horaires!$H$3:$H$40,0),4),IF(DD44=\"maladie\",INDEX(Horaires!$H$3:$L$42,MATCH('Solde d''heure collaborateur'!DD$2,Horaires!$H$3:$H$40,0),5),VLOOKUP(DC44,Horaires!$A$3:$E$60,5,)))","v":0},null,{"$f":"INDEX(Planning!$31:$31,MATCH('Solde d''heure collaborateur'!$A44,Planning!$3:$3))","v":"X"},{"$f":"VLOOKUP(DG44,Horaires!$A$3:$E$49,2,)","v":"XXX"},{"$f":"IF(DH44=\"vacances\",INDEX(Horaires!$H$3:$L$42,MATCH('Solde d''heure collaborateur'!DH$2,Horaires!$H$3:$H$40,0),4),IF(DH44=\"maladie\",INDEX(Horaires!$H$3:$L$42,MATCH('Solde d''heure collaborateur'!DH$2,Horaires!$H$3:$H$40,0),5),VLOOKUP(DG44,Horaires!$A$3:$E$60,5,)))","v":0},null,{"$f":"INDEX(Planning!$32:$32,MATCH('Solde d''heure collaborateur'!$A44,Planning!$3:$3))","v":"X"},{"$f":"VLOOKUP(DK44,Horaires!$A$3:$E$49,2,)","v":"XXX"},{"$f":"IF(DL44=\"vacances\",INDEX(Horaires!$H$3:$L$42,MATCH('Solde d''heure collaborateur'!DL$2,Horaires!$H$3:$H$40,0),4),IF(DL44=\"maladie\",INDEX(Horaires!$H$3:$L$42,MATCH('Solde d''heure collaborateur'!DL$2,Horaires!$H$3:$H$40,0),5),VLOOKUP(DK44,Horaires!$A$3:$E$60,5,)))","v":0},null,{"$f":"INDEX(Planning!$33:$33,MATCH('Solde d''heure collaborateur'!$A44,Planning!$3:$3))","v":"X"},{"$f":"VLOOKUP(DO44,Horaires!$A$3:$E$49,2,)","v":"XXX"},{"$f":"IF(DP44=\"vacances\",INDEX(Horaires!$H$3:$L$42,MATCH('Solde d''heure collaborateur'!DP$2,Horaires!$H$3:$H$40,0),4),IF(DP44=\"maladie\",INDEX(Horaires!$H$3:$L$42,MATCH('Solde d''heure collaborateur'!DP$2,Horaires!$H$3:$H$40,0),5),VLOOKUP(DO44,Horaires!$A$3:$E$60,5,)))","v":0},null,{"$f":"INDEX(Planning!$34:$34,MATCH('Solde d''heure collaborateur'!$A44,Planning!$3:$3))","v":"X"},{"$f":"VLOOKUP(DS44,Horaires!$A$3:$E$49,2,)","v":"XXX"},{"$f":"IF(DT44=\"vacances\",INDEX(Horaires!$H$3:$L$42,MATCH('Solde d''heure collaborateur'!DT$2,Horaires!$H$3:$H$40,0),4),IF(DT44=\"maladie\",INDEX(Horaires!$H$3:$L$42,MATCH('Solde d''heure collaborateur'!DT$2,Horaires!$H$3:$H$40,0),5),VLOOKUP(DS44,Horaires!$A$3:$E$60,5,)))","v":0},null,{"$f":"INDEX(Planning!$35:$35,MATCH('Solde d''heure collaborateur'!$A44,Planning!$3:$3))","v":"X"},{"$f":"VLOOKUP(DW44,Horaires!$A$3:$E$49,2,)","v":"XXX"},{"$f":"IF(DX44=\"vacances\",INDEX(Horaires!$H$3:$L$42,MATCH('Solde d''heure collaborateur'!DX$2,Horaires!$H$3:$H$40,0),4),IF(DX44=\"maladie\",INDEX(Horaires!$H$3:$L$42,MATCH('Solde d''heure collaborateur'!DX$2,Horaires!$H$3:$H$40,0),5),VLOOKUP(DW44,Horaires!$A$3:$E$60,5,)))","v":0}]
[{"$f":"A44+1","v":"2013-12-10"},null,{"$f":"INDEX(Planning!$4:$4,MATCH('Solde d''heure collaborateur'!A45,Planning!$3:$3,0))","v":"Nav1"},{"$f":"VLOOKUP(C45,Horaires!$A$3:$E$49,2,)","v":"Navigation"},{"$f":"IF(D45=\"vacances\",INDEX(Horaires!$H$3:$L$42,MATCH('Solde d''heure collaborateur'!D$2,Horaires!$H$3:$H$40,0),4),IF(D45=\"maladie\",INDEX(Horaires!$H$3:$L$42,MATCH('Solde d''heure collaborateur'!D$2,Horaires!$H$3:$H$40,0),5),VLOOKUP(C45,Horaires!$A$3:$E$60,5,)))","v":0.44791666666666669},null,{"$f":"INDEX(Planning!$5:$5,MATCH('Solde d''heure collaborateur'!A45,Planning!$3:$3))","v":"Pom1"},{"$f":"VLOOKUP(G45,Horaires!$A$3:$E$49,2,)","v":"Pommier"},{"$f":"IF(H45=\"vacances\",INDEX(Horaires!$H$3:$L$42,MATCH('Solde d''heure collaborateur'!H$2,Horaires!$H$3:$H$40,0),4),IF(H45=\"maladie\",INDEX(Horaires!$H$3:$L$42,MATCH('Solde d''heure collaborateur'!H$2,Horaires!$H$3:$H$40,0),5),VLOOKUP(G45,Horaires!$A$3:$E$60,5,)))","v":0.44791666666666669},null,{"$f":"INDEX(Planning!$6:$6,MATCH('Solde d''heure collaborateur'!A45,Planning!$3:$3))","v":"M"},{"$f":"VLOOKUP(K45,Horaires!$A$3:$E$49,2,)","v":"Maladie"},{"$f":"IF(L45=\"vacances\",INDEX(Horaires!$H$3:$L$42,MATCH('Solde d''heure collaborateur'!L$2,Horaires!$H$3:$H$40,0),4),IF(L45=\"maladie\",INDEX(Horaires!$H$3:$L$42,MATCH('Solde d''heure collaborateur'!L$2,Horaires!$H$3:$H$40,0),5),VLOOKUP(K45,Horaires!$A$3:$E$60,5,)))","v":0.4375},null,{"$f":"INDEX(Planning!$7:$7,MATCH('Solde d''heure collaborateur'!$A45,Planning!$3:$3))","v":"Vib1"},{"$f":"VLOOKUP(O45,Horaires!$A$3:$E$49,2,)","v":"Vibert"},{"$f":"IF(P45=\"vacances\",INDEX(Horaires!$H$3:$L$42,MATCH('Solde d''heure collaborateur'!P$2,Horaires!$H$3:$H$40,0),4),IF(P45=\"maladie\",INDEX(Horaires!$H$3:$L$42,MATCH('Solde d''heure collaborateur'!P$2,Horaires!$H$3:$H$40,0),5),VLOOKUP(O45,Horaires!$A$3:$E$60,5,)))","v":0.46875000000000006},null,{"$f":"INDEX(Planning!$8:$8,MATCH('Solde d''heure collaborateur'!$A45,Planning!$3:$3))","v":"Onex1"},{"$f":"VLOOKUP(S45,Horaires!$A$3:$E$49,2,)","v":"Onex"},{"$f":"IF(T45=\"vacances\",INDEX(Horaires!$H$3:$L$42,MATCH('Solde d''heure collaborateur'!T$2,Horaires!$H$3:$H$40,0),4),IF(T45=\"maladie\",INDEX(Horaires!$H$3:$L$42,MATCH('Solde d''heure collaborateur'!T$2,Horaires!$H$3:$H$40,0),5),VLOOKUP(S45,Horaires!$A$3:$E$60,5,)))","v":0.46875000000000006},null,{"$f":"INDEX(Planning!$9:$9,MATCH('Solde d''heure collaborateur'!$A45,Planning!$3:$3))","v":"X"},{"$f":"VLOOKUP(W45,Horaires!$A$3:$E$49,2,)","v":"XXX"},{"$f":"IF(X45=\"vacances\",INDEX(Horaires!$H$3:$L$42,MATCH('Solde d''heure collaborateur'!X$2,Horaires!$H$3:$H$40,0),4),IF(X45=\"maladie\",INDEX(Horaires!$H$3:$L$42,MATCH('Solde d''heure collaborateur'!X$2,Horaires!$H$3:$H$40,0),5),VLOOKUP(W45,Horaires!$A$3:$E$60,5,)))","v":0},null,{"$f":"INDEX(Planning!$10:$10,MATCH('Solde d''heure collaborateur'!$A45,Planning!$3:$3))","v":"R"},{"$f":"VLOOKUP(AA45,Horaires!$A$3:$E$49,2,)","v":"Congé"},{"$f":"IF(AB45=\"vacances\",INDEX(Horaires!$H$3:$L$42,MATCH('Solde d''heure collaborateur'!AB$2,Horaires!$H$3:$H$40,0),4),IF(AB45=\"maladie\",INDEX(Horaires!$H$3:$L$42,MATCH('Solde d''heure collaborateur'!AB$2,Horaires!$H$3:$H$40,0),5),VLOOKUP(AA45,Horaires!$A$3:$E$60,5,)))","v":0},null,{"$f":"INDEX(Planning!$11:$11,MATCH('Solde d''heure collaborateur'!$A45,Planning!$3:$3))","v":"Plo1"},{"$f":"VLOOKUP(AE45,Horaires!$A$3:$E$49,2,)","v":"Plan les Ouates"},{"$f":"IF(AF45=\"vacances\",INDEX(Horaires!$H$3:$L$42,MATCH('Solde d''heure collaborateur'!AF$2,Horaires!$H$3:$H$40,0),4),IF(AF45=\"maladie\",INDEX(Horaires!$H$3:$L$42,MATCH('Solde d''heure collaborateur'!AF$2,Horaires!$H$3:$H$40,0),5),VLOOKUP(AE45,Horaires!$A$3:$E$60,5,)))","v":0.46875000000000006},null,{"$f":"INDEX(Planning!$12:$12,MATCH('Solde d''heure collaborateur'!$A45,Planning!$3:$3))","v":"Thon1"},{"$f":"VLOOKUP(AI45,Horaires!$A$3:$E$49,2,)","v":"Thonex"},{"$f":"IF(AJ45=\"vacances\",INDEX(Horaires!$H$3:$L$42,MATCH('Solde d''heure collaborateur'!AJ$2,Horaires!$H$3:$H$40,0),4),IF(AJ45=\"maladie\",INDEX(Horaires!$H$3:$L$42,MATCH('Solde d''heure collaborateur'!AJ$2,Horaires!$H$3:$H$40,0),5),VLOOKUP(AI45,Horaires!$A$3:$E$60,5,)))","v":0.44791666666666669},null,{"$f":"INDEX(Planning!$13:$13,MATCH('Solde d''heure collaborateur'!$A45,Planning!$3:$3))","v":"R"},{"$f":"VLOOKUP(AM45,Horaires!$A$3:$E$49,2,)","v":"Congé"},{"$f":"IF(AN45=\"vacances\",INDEX(Horaires!$H$3:$L$42,MATCH('Solde d''heure collaborateur'!AN$2,Horaires!$H$3:$H$40,0),4),IF(AN45=\"maladie\",INDEX(Horaires!$H$3:$L$42,MATCH('Solde d''heure collaborateur'!AN$2,Horaires!$H$3:$H$40,0),5),VLOOKUP(AM45,Horaires!$A$3:$E$60,5,)))","v":0},null,{"$f":"INDEX(Planning!$14:$14,MATCH('Solde d''heure collaborateur'!$A45,Planning!$3:$3))","v":"X"},{"$f":"VLOOKUP(AQ45,Horaires!$A$3:$E$49,2,)","v":"XXX"},{"$f":"IF(AR45=\"vacances\",INDEX(Horaires!$H$3:$L$42,MATCH('Solde d''heure collaborateur'!AR$2,Horaires!$H$3:$H$40,0),4),IF(AR45=\"maladie\",INDEX(Horaires!$H$3:$L$42,MATCH('Solde d''heure collaborateur'!AR$2,Horaires!$H$3:$H$40,0),5),VLOOKUP(AQ45,Horaires!$A$3:$E$60,5,)))","v":0},null,{"$f":"INDEX(Planning!$15:$15,MATCH('Solde d''heure collaborateur'!$A45,Planning!$3:$3))","v":"R"},{"$f":"VLOOKUP(AU45,Horaires!$A$3:$E$49,2,)","v":"Congé"},{"$f":"IF(AV45=\"vacances\",INDEX(Horaires!$H$3:$L$42,MATCH('Solde d''heure collaborateur'!AV$2,Horaires!$H$3:$H$40,0),4),IF(AV45=\"maladie\",INDEX(Horaires!$H$3:$L$42,MATCH('Solde d''heure collaborateur'!AV$2,Horaires!$H$3:$H$40,0),5),VLOOKUP(AU45,Horaires!$A$3:$E$60,5,)))","v":0},null,{"$f":"INDEX(Planning!$16:$16,MATCH('Solde d''heure collaborateur'!$A45,Planning!$3:$3))","v":"Nyon1"},{"$f":"VLOOKUP(AY45,Horaires!$A$3:$E$49,2,)","v":"Nyon"},{"$f":"IF(AZ45=\"vacances\",INDEX(Horaires!$H$3:$L$42,MATCH('Solde d''heure collaborateur'!AZ$2,Horaires!$H$3:$H$40,0),4),IF(AZ45=\"maladie\",INDEX(Horaires!$H$3:$L$42,MATCH('Solde d''heure collaborateur'!AZ$2,Horaires!$H$3:$H$40,0),5),VLOOKUP(AY45,Horaires!$A$3:$E$60,5,)))","v":0.44791666666666669},null,{"$f":"INDEX(Planning!$17:$17,MATCH('Solde d''heure collaborateur'!$A45,Planning!$3:$3))","v":"R"},{"$f":"VLOOKUP(BC45,Horaires!$A$3:$E$49,2,)","v":"Congé"},{"$f":"IF(BD45=\"vacances\",INDEX(Horaires!$H$3:$L$42,MATCH('Solde d''heure collaborateur'!BD$2,Horaires!$H$3:$H$40,0),4),IF(BD45=\"maladie\",INDEX(Horaires!$H$3:$L$42,MATCH('Solde d''heure collaborateur'!BD$2,Horaires!$H$3:$H$40,0),5),VLOOKUP(BC45,Horaires!$A$3:$E$60,5,)))","v":0},null,{"$f":"INDEX(Planning!$18:$18,MATCH('Solde d''heure collaborateur'!$A45,Planning!$3:$3))","v":"Nav1"},{"$f":"VLOOKUP(BG45,Horaires!$A$3:$E$49,2,)","v":"Navigation"},{"$f":"IF(BH45=\"vacances\",INDEX(Horaires!$H$3:$L$42,MATCH('Solde d''heure collaborateur'!BH$2,Horaires!$H$3:$H$40,0),4),IF(BH45=\"maladie\",INDEX(Horaires!$H$3:$L$42,MATCH('Solde d''heure collaborateur'!BH$2,Horaires!$H$3:$H$40,0),5),VLOOKUP(BG45,Horaires!$A$3:$E$60,5,)))","v":0.44791666666666669},null,{"$f":"INDEX(Planning!$19:$19,MATCH('Solde d''heure collaborateur'!$A45,Planning!$3:$3))","v":"R"},{"$f":"VLOOKUP(BK45,Horaires!$A$3:$E$49,2,)","v":"Congé"},{"$f":"IF(BL45=\"vacances\",INDEX(Horaires!$H$3:$L$42,MATCH('Solde d''heure collaborateur'!BL$2,Horaires!$H$3:$H$40,0),4),IF(BL45=\"maladie\",INDEX(Horaires!$H$3:$L$42,MATCH('Solde d''heure collaborateur'!BL$2,Horaires!$H$3:$H$40,0),5),VLOOKUP(BK45,Horaires!$A$3:$E$60,5,)))","v":0},null,{"$f":"INDEX(Planning!$20:$20,MATCH('Solde d''heure collaborateur'!$A45,Planning!$3:$3))","v":"Aca1"},{"$f":"VLOOKUP(BO45,Horaires!$A$3:$E$49,2,)","v":"Acacias"},{"$f":"IF(BP45=\"vacances\",INDEX(Horaires!$H$3:$L$42,MATCH('Solde d''heure collaborateur'!BP$2,Horaires!$H$3:$H$40,0),4),IF(BP45=\"maladie\",INDEX(Horaires!$H$3:$L$42,MATCH('Solde d''heure collaborateur'!BP$2,Horaires!$H$3:$H$40,0),5),VLOOKUP(BO45,Horaires!$A$3:$E$60,5,)))","v":0.44791666666666669},null,{"$f":"INDEX(Planning!$21:$21,MATCH('Solde d''heure collaborateur'!$A45,Planning!$3:$3))","v":"R"},{"$f":"VLOOKUP(BS45,Horaires!$A$3:$E$49,2,)","v":"Congé"},{"$f":"IF(BT45=\"vacances\",INDEX(Horaires!$H$3:$L$42,MATCH('Solde d''heure collaborateur'!BT$2,Horaires!$H$3:$H$40,0),4),IF(BT45=\"maladie\",INDEX(Horaires!$H$3:$L$42,MATCH('Solde d''heure collaborateur'!BT$2,Horaires!$H$3:$H$40,0),5),VLOOKUP(BS45,Horaires!$A$3:$E$60,5,)))","v":0},null,{"$f":"INDEX(Planning!$22:$22,MATCH('Solde d''heure collaborateur'!$A45,Planning!$3:$3))","v":"Ves1"},{"$f":"VLOOKUP(BW45,Horaires!$A$3:$E$49,2,)","v":"Vesenaz"},{"$f":"IF(BX45=\"vacances\",INDEX(Horaires!$H$3:$L$42,MATCH('Solde d''heure collaborateur'!BX$2,Horaires!$H$3:$H$40,0),4),IF(BX45=\"maladie\",INDEX(Horaires!$H$3:$L$42,MATCH('Solde d''heure collaborateur'!BX$2,Horaires!$H$3:$H$40,0),5),VLOOKUP(BW45,Horaires!$A$3:$E$60,5,)))","v":0.44791666666666669},null,{"$f":"INDEX(Planning!$23:$23,MATCH('Solde d''heure collaborateur'!$A45,Planning!$3:$3))","v":"R"},{"$f":"VLOOKUP(CA45,Horaires!$A$3:$E$49,2,)","v":"Congé"},{"$f":"IF(CB45=\"vacances\",INDEX(Horaires!$H$3:$L$42,MATCH('Solde d''heure collaborateur'!CB$2,Horaires!$H$3:$H$40,0),4),IF(CB45=\"maladie\",INDEX(Horaires!$H$3:$L$42,MATCH('Solde d''heure collaborateur'!CB$2,Horaires!$H$3:$H$40,0),5),VLOOKUP(CA45,Horaires!$A$3:$E$60,5,)))","v":0},null,{"$f":"INDEX(Planning!$24:$24,MATCH('Solde d''heure collaborateur'!$A45,Planning!$3:$3))","v":"Onex1"},{"$f":"VLOOKUP(CE45,Horaires!$A$3:$E$49,2,)","v":"Onex"},{"$f":"IF(CF45=\"vacances\",INDEX(Horaires!$H$3:$L$42,MATCH('Solde d''heure collaborateur'!CF$2,Horaires!$H$3:$H$40,0),4),IF(CF45=\"maladie\",INDEX(Horaires!$H$3:$L$42,MATCH('Solde d''heure collaborateur'!CF$2,Horaires!$H$3:$H$40,0),5),VLOOKUP(CE45,Horaires!$A$3:$E$60,5,)))","v":0.46875000000000006},null,{"$f":"INDEX(Planning!$25:$25,MATCH('Solde d''heure collaborateur'!$A45,Planning!$3:$3))","v":"X"},{"$f":"VLOOKUP(CI45,Horaires!$A$3:$E$49,2,)","v":"XXX"},{"$f":"IF(CJ45=\"vacances\",INDEX(Horaires!$H$3:$L$42,MATCH('Solde d''heure collaborateur'!CJ$2,Horaires!$H$3:$H$40,0),4),IF(CJ45=\"maladie\",INDEX(Horaires!$H$3:$L$42,MATCH('Solde d''heure collaborateur'!CJ$2,Horaires!$H$3:$H$40,0),5),VLOOKUP(CI45,Horaires!$A$3:$E$60,5,)))","v":0},null,{"$f":"INDEX(Planning!$26:$26,MATCH('Solde d''heure collaborateur'!$A45,Planning!$3:$3))","v":"Vid1"},{"$f":"VLOOKUP(CM45,Horaires!$A$3:$E$49,2,)","v":"Vidollet"},{"$f":"IF(CN45=\"vacances\",INDEX(Horaires!$H$3:$L$42,MATCH('Solde d''heure collaborateur'!CN$2,Horaires!$H$3:$H$40,0),4),IF(CN45=\"maladie\",INDEX(Horaires!$H$3:$L$42,MATCH('Solde d''heure collaborateur'!CN$2,Horaires!$H$3:$H$40,0),5),VLOOKUP(CM45,Horaires!$A$3:$E$60,5,)))","v":0.44791666666666669},null,{"$f":"INDEX(Planning!$27:$27,MATCH('Solde d''heure collaborateur'!$A45,Planning!$3:$3))","v":"Vib1"},{"$f":"VLOOKUP(CQ45,Horaires!$A$3:$E$49,2,)","v":"Vibert"},{"$f":"IF(CR45=\"vacances\",INDEX(Horaires!$H$3:$L$42,MATCH('Solde d''heure collaborateur'!CR$2,Horaires!$H$3:$H$40,0),4),IF(CR45=\"maladie\",INDEX(Horaires!$H$3:$L$42,MATCH('Solde d''heure collaborateur'!CR$2,Horaires!$H$3:$H$40,0),5),VLOOKUP(CQ45,Horaires!$A$3:$E$60,5,)))","v":0.46875000000000006},null,{"$f":"INDEX(Planning!$28:$28,MATCH('Solde d''heure collaborateur'!$A45,Planning!$3:$3))","v":"tour1"},{"$f":"VLOOKUP(CU45,Horaires!$A$3:$E$49,2,)","v":"Tourelle"},{"$f":"IF(CV45=\"vacances\",INDEX(Horaires!$H$3:$L$42,MATCH('Solde d''heure collaborateur'!CV$2,Horaires!$H$3:$H$40,0),4),IF(CV45=\"maladie\",INDEX(Horaires!$H$3:$L$42,MATCH('Solde d''heure collaborateur'!CV$2,Horaires!$H$3:$H$40,0),5),VLOOKUP(CU45,Horaires!$A$3:$E$60,5,)))","v":0.46875000000000006},null,{"$f":"INDEX(Planning!$29:$29,MATCH('Solde d''heure collaborateur'!$A45,Planning!$3:$3))","v":"X"},{"$f":"VLOOKUP(CY45,Horaires!$A$3:$E$49,2,)","v":"XXX"},{"$f":"IF(CZ45=\"vacances\",INDEX(Horaires!$H$3:$L$42,MATCH('Solde d''heure collaborateur'!CZ$2,Horaires!$H$3:$H$40,0),4),IF(CZ45=\"maladie\",INDEX(Horaires!$H$3:$L$42,MATCH('Solde d''heure collaborateur'!CZ$2,Horaires!$H$3:$H$40,0),5),VLOOKUP(CY45,Horaires!$A$3:$E$60,5,)))","v":0},null,{"$f":"INDEX(Planning!$30:$30,MATCH('Solde d''heure collaborateur'!$A45,Planning!$3:$3))","v":"X"},{"$f":"VLOOKUP(DC45,Horaires!$A$3:$E$49,2,)","v":"XXX"},{"$f":"IF(DD45=\"vacances\",INDEX(Horaires!$H$3:$L$42,MATCH('Solde d''heure collaborateur'!DD$2,Horaires!$H$3:$H$40,0),4),IF(DD45=\"maladie\",INDEX(Horaires!$H$3:$L$42,MATCH('Solde d''heure collaborateur'!DD$2,Horaires!$H$3:$H$40,0),5),VLOOKUP(DC45,Horaires!$A$3:$E$60,5,)))","v":0},null,{"$f":"INDEX(Planning!$31:$31,MATCH('Solde d''heure collaborateur'!$A45,Planning!$3:$3))","v":"X"},{"$f":"VLOOKUP(DG45,Horaires!$A$3:$E$49,2,)","v":"XXX"},{"$f":"IF(DH45=\"vacances\",INDEX(Horaires!$H$3:$L$42,MATCH('Solde d''heure collaborateur'!DH$2,Horaires!$H$3:$H$40,0),4),IF(DH45=\"maladie\",INDEX(Horaires!$H$3:$L$42,MATCH('Solde d''heure collaborateur'!DH$2,Horaires!$H$3:$H$40,0),5),VLOOKUP(DG45,Horaires!$A$3:$E$60,5,)))","v":0},null,{"$f":"INDEX(Planning!$32:$32,MATCH('Solde d''heure collaborateur'!$A45,Planning!$3:$3))","v":"X"},{"$f":"VLOOKUP(DK45,Horaires!$A$3:$E$49,2,)","v":"XXX"},{"$f":"IF(DL45=\"vacances\",INDEX(Horaires!$H$3:$L$42,MATCH('Solde d''heure collaborateur'!DL$2,Horaires!$H$3:$H$40,0),4),IF(DL45=\"maladie\",INDEX(Horaires!$H$3:$L$42,MATCH('Solde d''heure collaborateur'!DL$2,Horaires!$H$3:$H$40,0),5),VLOOKUP(DK45,Horaires!$A$3:$E$60,5,)))","v":0},null,{"$f":"INDEX(Planning!$33:$33,MATCH('Solde d''heure collaborateur'!$A45,Planning!$3:$3))","v":"X"},{"$f":"VLOOKUP(DO45,Horaires!$A$3:$E$49,2,)","v":"XXX"},{"$f":"IF(DP45=\"vacances\",INDEX(Horaires!$H$3:$L$42,MATCH('Solde d''heure collaborateur'!DP$2,Horaires!$H$3:$H$40,0),4),IF(DP45=\"maladie\",INDEX(Horaires!$H$3:$L$42,MATCH('Solde d''heure collaborateur'!DP$2,Horaires!$H$3:$H$40,0),5),VLOOKUP(DO45,Horaires!$A$3:$E$60,5,)))","v":0},null,{"$f":"INDEX(Planning!$34:$34,MATCH('Solde d''heure collaborateur'!$A45,Planning!$3:$3))","v":"X"},{"$f":"VLOOKUP(DS45,Horaires!$A$3:$E$49,2,)","v":"XXX"},{"$f":"IF(DT45=\"vacances\",INDEX(Horaires!$H$3:$L$42,MATCH('Solde d''heure collaborateur'!DT$2,Horaires!$H$3:$H$40,0),4),IF(DT45=\"maladie\",INDEX(Horaires!$H$3:$L$42,MATCH('Solde d''heure collaborateur'!DT$2,Horaires!$H$3:$H$40,0),5),VLOOKUP(DS45,Horaires!$A$3:$E$60,5,)))","v":0},null,{"$f":"INDEX(Planning!$35:$35,MATCH('Solde d''heure collaborateur'!$A45,Planning!$3:$3))","v":"X"},{"$f":"VLOOKUP(DW45,Horaires!$A$3:$E$49,2,)","v":"XXX"},{"$f":"IF(DX45=\"vacances\",INDEX(Horaires!$H$3:$L$42,MATCH('Solde d''heure collaborateur'!DX$2,Horaires!$H$3:$H$40,0),4),IF(DX45=\"maladie\",INDEX(Horaires!$H$3:$L$42,MATCH('Solde d''heure collaborateur'!DX$2,Horaires!$H$3:$H$40,0),5),VLOOKUP(DW45,Horaires!$A$3:$E$60,5,)))","v":0}]
[{"$f":"A45+1","v":"2013-12-11"},null,{"$f":"INDEX(Planning!$4:$4,MATCH('Solde d''heure collaborateur'!A46,Planning!$3:$3,0))","v":"Nav1"},{"$f":"VLOOKUP(C46,Horaires!$A$3:$E$49,2,)","v":"Navigation"},{"$f":"IF(D46=\"vacances\",INDEX(Horaires!$H$3:$L$42,MATCH('Solde d''heure collaborateur'!D$2,Horaires!$H$3:$H$40,0),4),IF(D46=\"maladie\",INDEX(Horaires!$H$3:$L$42,MATCH('Solde d''heure collaborateur'!D$2,Horaires!$H$3:$H$40,0),5),VLOOKUP(C46,Horaires!$A$3:$E$60,5,)))","v":0.44791666666666669},null,{"$f":"INDEX(Planning!$5:$5,MATCH('Solde d''heure collaborateur'!A46,Planning!$3:$3))","v":"Pom1"},{"$f":"VLOOKUP(G46,Horaires!$A$3:$E$49,2,)","v":"Pommier"},{"$f":"IF(H46=\"vacances\",INDEX(Horaires!$H$3:$L$42,MATCH('Solde d''heure collaborateur'!H$2,Horaires!$H$3:$H$40,0),4),IF(H46=\"maladie\",INDEX(Horaires!$H$3:$L$42,MATCH('Solde d''heure collaborateur'!H$2,Horaires!$H$3:$H$40,0),5),VLOOKUP(G46,Horaires!$A$3:$E$60,5,)))","v":0.44791666666666669},null,{"$f":"INDEX(Planning!$6:$6,MATCH('Solde d''heure collaborateur'!A46,Planning!$3:$3))","v":"M"},{"$f":"VLOOKUP(K46,Horaires!$A$3:$E$49,2,)","v":"Maladie"},{"$f":"IF(L46=\"vacances\",INDEX(Horaires!$H$3:$L$42,MATCH('Solde d''heure collaborateur'!L$2,Horaires!$H$3:$H$40,0),4),IF(L46=\"maladie\",INDEX(Horaires!$H$3:$L$42,MATCH('Solde d''heure collaborateur'!L$2,Horaires!$H$3:$H$40,0),5),VLOOKUP(K46,Horaires!$A$3:$E$60,5,)))","v":0.4375},null,{"$f":"INDEX(Planning!$7:$7,MATCH('Solde d''heure collaborateur'!$A46,Planning!$3:$3))","v":"X"},{"$f":"VLOOKUP(O46,Horaires!$A$3:$E$49,2,)","v":"XXX"},{"$f":"IF(P46=\"vacances\",INDEX(Horaires!$H$3:$L$42,MATCH('Solde d''heure collaborateur'!P$2,Horaires!$H$3:$H$40,0),4),IF(P46=\"maladie\",INDEX(Horaires!$H$3:$L$42,MATCH('Solde d''heure collaborateur'!P$2,Horaires!$H$3:$H$40,0),5),VLOOKUP(O46,Horaires!$A$3:$E$60,5,)))","v":0},null,{"$f":"INDEX(Planning!$8:$8,MATCH('Solde d''heure collaborateur'!$A46,Planning!$3:$3))","v":"Onex1"},{"$f":"VLOOKUP(S46,Horaires!$A$3:$E$49,2,)","v":"Onex"},{"$f":"IF(T46=\"vacances\",INDEX(Horaires!$H$3:$L$42,MATCH('Solde d''heure collaborateur'!T$2,Horaires!$H$3:$H$40,0),4),IF(T46=\"maladie\",INDEX(Horaires!$H$3:$L$42,MATCH('Solde d''heure collaborateur'!T$2,Horaires!$H$3:$H$40,0),5),VLOOKUP(S46,Horaires!$A$3:$E$60,5,)))","v":0.46875000000000006},null,{"$f":"INDEX(Planning!$9:$9,MATCH('Solde d''heure collaborateur'!$A46,Planning!$3:$3))","v":"Onex1"},{"$f":"VLOOKUP(W46,Horaires!$A$3:$E$49,2,)","v":"Onex"},{"$f":"IF(X46=\"vacances\",INDEX(Horaires!$H$3:$L$42,MATCH('Solde d''heure collaborateur'!X$2,Horaires!$H$3:$H$40,0),4),IF(X46=\"maladie\",INDEX(Horaires!$H$3:$L$42,MATCH('Solde d''heure collaborateur'!X$2,Horaires!$H$3:$H$40,0),5),VLOOKUP(W46,Horaires!$A$3:$E$60,5,)))","v":0.46875000000000006},null,{"$f":"INDEX(Planning!$10:$10,MATCH('Solde d''heure collaborateur'!$A46,Planning!$3:$3))","v":"Recup"},{"$f":"VLOOKUP(AA46,Horaires!$A$3:$E$49,2,)","v":"Récupération"},{"$f":"IF(AB46=\"vacances\",INDEX(Horaires!$H$3:$L$42,MATCH('Solde d''heure collaborateur'!AB$2,Horaires!$H$3:$H$40,0),4),IF(AB46=\"maladie\",INDEX(Horaires!$H$3:$L$42,MATCH('Solde d''heure collaborateur'!AB$2,Horaires!$H$3:$H$40,0),5),VLOOKUP(AA46,Horaires!$A$3:$E$60,5,)))","v":0},null,{"$f":"INDEX(Planning!$11:$11,MATCH('Solde d''heure collaborateur'!$A46,Planning!$3:$3))","v":"Plo1"},{"$f":"VLOOKUP(AE46,Horaires!$A$3:$E$49,2,)","v":"Plan les Ouates"},{"$f":"IF(AF46=\"vacances\",INDEX(Horaires!$H$3:$L$42,MATCH('Solde d''heure collaborateur'!AF$2,Horaires!$H$3:$H$40,0),4),IF(AF46=\"maladie\",INDEX(Horaires!$H$3:$L$42,MATCH('Solde d''heure collaborateur'!AF$2,Horaires!$H$3:$H$40,0),5),VLOOKUP(AE46,Horaires!$A$3:$E$60,5,)))","v":0.46875000000000006},null,{"$f":"INDEX(Planning!$12:$12,MATCH('Solde d''heure collaborateur'!$A46,Planning!$3:$3))","v":"Thon1"},{"$f":"VLOOKUP(AI46,Horaires!$A$3:$E$49,2,)","v":"Thonex"},{"$f":"IF(AJ46=\"vacances\",INDEX(Horaires!$H$3:$L$42,MATCH('Solde d''heure collaborateur'!AJ$2,Horaires!$H$3:$H$40,0),4),IF(AJ46=\"maladie\",INDEX(Horaires!$H$3:$L$42,MATCH('Solde d''heure collaborateur'!AJ$2,Horaires!$H$3:$H$40,0),5),VLOOKUP(AI46,Horaires!$A$3:$E$60,5,)))","v":0.44791666666666669},null,{"$f":"INDEX(Planning!$13:$13,MATCH('Solde d''heure collaborateur'!$A46,Planning!$3:$3))","v":"recup"},{"$f":"VLOOKUP(AM46,Horaires!$A$3:$E$49,2,)","v":"Récupération"},{"$f":"IF(AN46=\"vacances\",INDEX(Horaires!$H$3:$L$42,MATCH('Solde d''heure collaborateur'!AN$2,Horaires!$H$3:$H$40,0),4),IF(AN46=\"maladie\",INDEX(Horaires!$H$3:$L$42,MATCH('Solde d''heure collaborateur'!AN$2,Horaires!$H$3:$H$40,0),5),VLOOKUP(AM46,Horaires!$A$3:$E$60,5,)))","v":0},null,{"$f":"INDEX(Planning!$14:$14,MATCH('Solde d''heure collaborateur'!$A46,Planning!$3:$3))","v":"X"},{"$f":"VLOOKUP(AQ46,Horaires!$A$3:$E$49,2,)","v":"XXX"},{"$f":"IF(AR46=\"vacances\",INDEX(Horaires!$H$3:$L$42,MATCH('Solde d''heure collaborateur'!AR$2,Horaires!$H$3:$H$40,0),4),IF(AR46=\"maladie\",INDEX(Horaires!$H$3:$L$42,MATCH('Solde d''heure collaborateur'!AR$2,Horaires!$H$3:$H$40,0),5),VLOOKUP(AQ46,Horaires!$A$3:$E$60,5,)))","v":0},null,{"$f":"INDEX(Planning!$15:$15,MATCH('Solde d''heure collaborateur'!$A46,Planning!$3:$3))","v":"Nyon1"},{"$f":"VLOOKUP(AU46,Horaires!$A$3:$E$49,2,)","v":"Nyon"},{"$f":"IF(AV46=\"vacances\",INDEX(Horaires!$H$3:$L$42,MATCH('Solde d''heure collaborateur'!AV$2,Horaires!$H$3:$H$40,0),4),IF(AV46=\"maladie\",INDEX(Horaires!$H$3:$L$42,MATCH('Solde d''heure collaborateur'!AV$2,Horaires!$H$3:$H$40,0),5),VLOOKUP(AU46,Horaires!$A$3:$E$60,5,)))","v":0.44791666666666669},null,{"$f":"INDEX(Planning!$16:$16,MATCH('Solde d''heure collaborateur'!$A46,Planning!$3:$3))","v":"R"},{"$f":"VLOOKUP(AY46,Horaires!$A$3:$E$49,2,)","v":"Congé"},{"$f":"IF(AZ46=\"vacances\",INDEX(Horaires!$H$3:$L$42,MATCH('Solde d''heure collaborateur'!AZ$2,Horaires!$H$3:$H$40,0),4),IF(AZ46=\"maladie\",INDEX(Horaires!$H$3:$L$42,MATCH('Solde d''heure collaborateur'!AZ$2,Horaires!$H$3:$H$40,0),5),VLOOKUP(AY46,Horaires!$A$3:$E$60,5,)))","v":0},null,{"$f":"INDEX(Planning!$17:$17,MATCH('Solde d''heure collaborateur'!$A46,Planning!$3:$3))","v":"tour1"},{"$f":"VLOOKUP(BC46,Horaires!$A$3:$E$49,2,)","v":"Tourelle"},{"$f":"IF(BD46=\"vacances\",INDEX(Horaires!$H$3:$L$42,MATCH('Solde d''heure collaborateur'!BD$2,Horaires!$H$3:$H$40,0),4),IF(BD46=\"maladie\",INDEX(Horaires!$H$3:$L$42,MATCH('Solde d''heure collaborateur'!BD$2,Horaires!$H$3:$H$40,0),5),VLOOKUP(BC46,Horaires!$A$3:$E$60,5,)))","v":0.46875000000000006},null,{"$f":"INDEX(Planning!$18:$18,MATCH('Solde d''heure collaborateur'!$A46,Planning!$3:$3))","v":"Vib1"},{"$f":"VLOOKUP(BG46,Horaires!$A$3:$E$49,2,)","v":"Vibert"},{"$f":"IF(BH46=\"vacances\",INDEX(Horaires!$H$3:$L$42,MATCH('Solde d''heure collaborateur'!BH$2,Horaires!$H$3:$H$40,0),4),IF(BH46=\"maladie\",INDEX(Horaires!$H$3:$L$42,MATCH('Solde d''heure collaborateur'!BH$2,Horaires!$H$3:$H$40,0),5),VLOOKUP(BG46,Horaires!$A$3:$E$60,5,)))","v":0.46875000000000006},null,{"$f":"INDEX(Planning!$19:$19,MATCH('Solde d''heure collaborateur'!$A46,Planning!$3:$3))","v":"Vib1"},{"$f":"VLOOKUP(BK46,Horaires!$A$3:$E$49,2,)","v":"Vibert"},{"$f":"IF(BL46=\"vacances\",INDEX(Horaires!$H$3:$L$42,MATCH('Solde d''heure collaborateur'!BL$2,Horaires!$H$3:$H$40,0),4),IF(BL46=\"maladie\",INDEX(Horaires!$H$3:$L$42,MATCH('Solde d''heure collaborateur'!BL$2,Horaires!$H$3:$H$40,0),5),VLOOKUP(BK46,Horaires!$A$3:$E$60,5,)))","v":0.46875000000000006},null,{"$f":"INDEX(Planning!$20:$20,MATCH('Solde d''heure collaborateur'!$A46,Planning!$3:$3))","v":"Aca1"},{"$f":"VLOOKUP(BO46,Horaires!$A$3:$E$49,2,)","v":"Acacias"},{"$f":"IF(BP46=\"vacances\",INDEX(Horaires!$H$3:$L$42,MATCH('Solde d''heure collaborateur'!BP$2,Horaires!$H$3:$H$40,0),4),IF(BP46=\"maladie\",INDEX(Horaires!$H$3:$L$42,MATCH('Solde d''heure collaborateur'!BP$2,Horaires!$H$3:$H$40,0),5),VLOOKUP(BO46,Horaires!$A$3:$E$60,5,)))","v":0.44791666666666669},null,{"$f":"INDEX(Planning!$21:$21,MATCH('Solde d''heure collaborateur'!$A46,Planning!$3:$3))","v":"Ves1"},{"$f":"VLOOKUP(BS46,Horaires!$A$3:$E$49,2,)","v":"Vesenaz"},{"$f":"IF(BT46=\"vacances\",INDEX(Horaires!$H$3:$L$42,MATCH('Solde d''heure collaborateur'!BT$2,Horaires!$H$3:$H$40,0),4),IF(BT46=\"maladie\",INDEX(Horaires!$H$3:$L$42,MATCH('Solde d''heure collaborateur'!BT$2,Horaires!$H$3:$H$40,0),5),VLOOKUP(BS46,Horaires!$A$3:$E$60,5,)))","v":0.44791666666666669},null,{"$f":"INDEX(Planning!$22:$22,MATCH('Solde d''heure collaborateur'!$A46,Planning!$3:$3))","v":"X"},{"$f":"VLOOKUP(BW46,Horaires!$A$3:$E$49,2,)","v":"XXX"},{"$f":"IF(BX46=\"vacances\",INDEX(Horaires!$H$3:$L$42,MATCH('Solde d''heure collaborateur'!BX$2,Horaires!$H$3:$H$40,0),4),IF(BX46=\"maladie\",INDEX(Horaires!$H$3:$L$42,MATCH('Solde d''heure collaborateur'!BX$2,Horaires!$H$3:$H$40,0),5),VLOOKUP(BW46,Horaires!$A$3:$E$60,5,)))","v":0},null,{"$f":"INDEX(Planning!$23:$23,MATCH('Solde d''heure collaborateur'!$A46,Planning!$3:$3))","v":"R"},{"$f":"VLOOKUP(CA46,Horaires!$A$3:$E$49,2,)","v":"Congé"},{"$f":"IF(CB46=\"vacances\",INDEX(Horaires!$H$3:$L$42,MATCH('Solde d''heure collaborateur'!CB$2,Horaires!$H$3:$H$40,0),4),IF(CB46=\"maladie\",INDEX(Horaires!$H$3:$L$42,MATCH('Solde d''heure collaborateur'!CB$2,Horaires!$H$3:$H$40,0),5),VLOOKUP(CA46,Horaires!$A$3:$E$60,5,)))","v":0},null,{"$f":"INDEX(Planning!$24:$24,MATCH('Solde d''heure collaborateur'!$A46,Planning!$3:$3))","v":"R"},{"$f":"VLOOKUP(CE46,Horaires!$A$3:$E$49,2,)","v":"Congé"},{"$f":"IF(CF46=\"vacances\",INDEX(Horaires!$H$3:$L$42,MATCH('Solde d''heure collaborateur'!CF$2,Horaires!$H$3:$H$40,0),4),IF(CF46=\"maladie\",INDEX(Horaires!$H$3:$L$42,MATCH('Solde d''heure collaborateur'!CF$2,Horaires!$H$3:$H$40,0),5),VLOOKUP(CE46,Horaires!$A$3:$E$60,5,)))","v":0},null,{"$f":"INDEX(Planning!$25:$25,MATCH('Solde d''heure collaborateur'!$A46,Planning!$3:$3))","v":"X"},{"$f":"VLOOKUP(CI46,Horaires!$A$3:$E$49,2,)","v":"XXX"},{"$f":"IF(CJ46=\"vacances\",INDEX(Horaires!$H$3:$L$42,MATCH('Solde d''heure collaborateur'!CJ$2,Horaires!$H$3:$H$40,0),4),IF(CJ46=\"maladie\",INDEX(Horaires!$H$3:$L$42,MATCH('Solde d''heure collaborateur'!CJ$2,Horaires!$H$3:$H$40,0),5),VLOOKUP(CI46,Horaires!$A$3:$E$60,5,)))","v":0},null,{"$f":"INDEX(Planning!$26:$26,MATCH('Solde d''heure collaborateur'!$A46,Planning!$3:$3))","v":"Vid1"},{"$f":"VLOOKUP(CM46,Horaires!$A$3:$E$49,2,)","v":"Vidollet"},{"$f":"IF(CN46=\"vacances\",INDEX(Horaires!$H$3:$L$42,MATCH('Solde d''heure collaborateur'!CN$2,Horaires!$H$3:$H$40,0),4),IF(CN46=\"maladie\",INDEX(Horaires!$H$3:$L$42,MATCH('Solde d''heure collaborateur'!CN$2,Horaires!$H$3:$H$40,0),5),VLOOKUP(CM46,Horaires!$A$3:$E$60,5,)))","v":0.44791666666666669},null,{"$f":"INDEX(Planning!$27:$27,MATCH('Solde d''heure collaborateur'!$A46,Planning!$3:$3))","v":"R"},{"$f":"VLOOKUP(CQ46,Horaires!$A$3:$E$49,2,)","v":"Congé"},{"$f":"IF(CR46=\"vacances\",INDEX(Horaires!$H$3:$L$42,MATCH('Solde d''heure collaborateur'!CR$2,Horaires!$H$3:$H$40,0),4),IF(CR46=\"maladie\",INDEX(Horaires!$H$3:$L$42,MATCH('Solde d''heure collaborateur'!CR$2,Horaires!$H$3:$H$40,0),5),VLOOKUP(CQ46,Horaires!$A$3:$E$60,5,)))","v":0},null,{"$f":"INDEX(Planning!$28:$28,MATCH('Solde d''heure collaborateur'!$A46,Planning!$3:$3))","v":"R"},{"$f":"VLOOKUP(CU46,Horaires!$A$3:$E$49,2,)","v":"Congé"},{"$f":"IF(CV46=\"vacances\",INDEX(Horaires!$H$3:$L$42,MATCH('Solde d''heure collaborateur'!CV$2,Horaires!$H$3:$H$40,0),4),IF(CV46=\"maladie\",INDEX(Horaires!$H$3:$L$42,MATCH('Solde d''heure collaborateur'!CV$2,Horaires!$H$3:$H$40,0),5),VLOOKUP(CU46,Horaires!$A$3:$E$60,5,)))","v":0},null,{"$f":"INDEX(Planning!$29:$29,MATCH('Solde d''heure collaborateur'!$A46,Planning!$3:$3))","v":"X"},{"$f":"VLOOKUP(CY46,Horaires!$A$3:$E$49,2,)","v":"XXX"},{"$f":"IF(CZ46=\"vacances\",INDEX(Horaires!$H$3:$L$42,MATCH('Solde d''heure collaborateur'!CZ$2,Horaires!$H$3:$H$40,0),4),IF(CZ46=\"maladie\",INDEX(Horaires!$H$3:$L$42,MATCH('Solde d''heure collaborateur'!CZ$2,Horaires!$H$3:$H$40,0),5),VLOOKUP(CY46,Horaires!$A$3:$E$60,5,)))","v":0},null,{"$f":"INDEX(Planning!$30:$30,MATCH('Solde d''heure collaborateur'!$A46,Planning!$3:$3))","v":"X"},{"$f":"VLOOKUP(DC46,Horaires!$A$3:$E$49,2,)","v":"XXX"},{"$f":"IF(DD46=\"vacances\",INDEX(Horaires!$H$3:$L$42,MATCH('Solde d''heure collaborateur'!DD$2,Horaires!$H$3:$H$40,0),4),IF(DD46=\"maladie\",INDEX(Horaires!$H$3:$L$42,MATCH('Solde d''heure collaborateur'!DD$2,Horaires!$H$3:$H$40,0),5),VLOOKUP(DC46,Horaires!$A$3:$E$60,5,)))","v":0},null,{"$f":"INDEX(Planning!$31:$31,MATCH('Solde d''heure collaborateur'!$A46,Planning!$3:$3))","v":"X"},{"$f":"VLOOKUP(DG46,Horaires!$A$3:$E$49,2,)","v":"XXX"},{"$f":"IF(DH46=\"vacances\",INDEX(Horaires!$H$3:$L$42,MATCH('Solde d''heure collaborateur'!DH$2,Horaires!$H$3:$H$40,0),4),IF(DH46=\"maladie\",INDEX(Horaires!$H$3:$L$42,MATCH('Solde d''heure collaborateur'!DH$2,Horaires!$H$3:$H$40,0),5),VLOOKUP(DG46,Horaires!$A$3:$E$60,5,)))","v":0},null,{"$f":"INDEX(Planning!$32:$32,MATCH('Solde d''heure collaborateur'!$A46,Planning!$3:$3))","v":"X"},{"$f":"VLOOKUP(DK46,Horaires!$A$3:$E$49,2,)","v":"XXX"},{"$f":"IF(DL46=\"vacances\",INDEX(Horaires!$H$3:$L$42,MATCH('Solde d''heure collaborateur'!DL$2,Horaires!$H$3:$H$40,0),4),IF(DL46=\"maladie\",INDEX(Horaires!$H$3:$L$42,MATCH('Solde d''heure collaborateur'!DL$2,Horaires!$H$3:$H$40,0),5),VLOOKUP(DK46,Horaires!$A$3:$E$60,5,)))","v":0},null,{"$f":"INDEX(Planning!$33:$33,MATCH('Solde d''heure collaborateur'!$A46,Planning!$3:$3))","v":"X"},{"$f":"VLOOKUP(DO46,Horaires!$A$3:$E$49,2,)","v":"XXX"},{"$f":"IF(DP46=\"vacances\",INDEX(Horaires!$H$3:$L$42,MATCH('Solde d''heure collaborateur'!DP$2,Horaires!$H$3:$H$40,0),4),IF(DP46=\"maladie\",INDEX(Horaires!$H$3:$L$42,MATCH('Solde d''heure collaborateur'!DP$2,Horaires!$H$3:$H$40,0),5),VLOOKUP(DO46,Horaires!$A$3:$E$60,5,)))","v":0},null,{"$f":"INDEX(Planning!$34:$34,MATCH('Solde d''heure collaborateur'!$A46,Planning!$3:$3))","v":"X"},{"$f":"VLOOKUP(DS46,Horaires!$A$3:$E$49,2,)","v":"XXX"},{"$f":"IF(DT46=\"vacances\",INDEX(Horaires!$H$3:$L$42,MATCH('Solde d''heure collaborateur'!DT$2,Horaires!$H$3:$H$40,0),4),IF(DT46=\"maladie\",INDEX(Horaires!$H$3:$L$42,MATCH('Solde d''heure collaborateur'!DT$2,Horaires!$H$3:$H$40,0),5),VLOOKUP(DS46,Horaires!$A$3:$E$60,5,)))","v":0},null,{"$f":"INDEX(Planning!$35:$35,MATCH('Solde d''heure collaborateur'!$A46,Planning!$3:$3))","v":"X"},{"$f":"VLOOKUP(DW46,Horaires!$A$3:$E$49,2,)","v":"XXX"},{"$f":"IF(DX46=\"vacances\",INDEX(Horaires!$H$3:$L$42,MATCH('Solde d''heure collaborateur'!DX$2,Horaires!$H$3:$H$40,0),4),IF(DX46=\"maladie\",INDEX(Horaires!$H$3:$L$42,MATCH('Solde d''heure collaborateur'!DX$2,Horaires!$H$3:$H$40,0),5),VLOOKUP(DW46,Horaires!$A$3:$E$60,5,)))","v":0}]
[{"$f":"A46+1","v":"2013-12-12"},null,{"$f":"INDEX(Planning!$4:$4,MATCH('Solde d''heure collaborateur'!A47,Planning!$3:$3,0))","v":"Recup"},{"$f":"VLOOKUP(C47,Horaires!$A$3:$E$49,2,)","v":"Récupération"},{"$f":"IF(D47=\"vacances\",INDEX(Horaires!$H$3:$L$42,MATCH('Solde d''heure collaborateur'!D$2,Horaires!$H$3:$H$40,0),4),IF(D47=\"maladie\",INDEX(Horaires!$H$3:$L$42,MATCH('Solde d''heure collaborateur'!D$2,Horaires!$H$3:$H$40,0),5),VLOOKUP(C47,Horaires!$A$3:$E$60,5,)))","v":0},null,{"$f":"INDEX(Planning!$5:$5,MATCH('Solde d''heure collaborateur'!A47,Planning!$3:$3))","v":"Pom2"},{"$f":"VLOOKUP(G47,Horaires!$A$3:$E$49,2,)","v":"Pommier"},{"$f":"IF(H47=\"vacances\",INDEX(Horaires!$H$3:$L$42,MATCH('Solde d''heure collaborateur'!H$2,Horaires!$H$3:$H$40,0),4),IF(H47=\"maladie\",INDEX(Horaires!$H$3:$L$42,MATCH('Solde d''heure collaborateur'!H$2,Horaires!$H$3:$H$40,0),5),VLOOKUP(G47,Horaires!$A$3:$E$60,5,)))","v":0.46874999999999994},null,{"$f":"INDEX(Planning!$6:$6,MATCH('Solde d''heure collaborateur'!A47,Planning!$3:$3))","v":"M"},{"$f":"VLOOKUP(K47,Horaires!$A$3:$E$49,2,)","v":"Maladie"},{"$f":"IF(L47=\"vacances\",INDEX(Horaires!$H$3:$L$42,MATCH('Solde d''heure collaborateur'!L$2,Horaires!$H$3:$H$40,0),4),IF(L47=\"maladie\",INDEX(Horaires!$H$3:$L$42,MATCH('Solde d''heure collaborateur'!L$2,Horaires!$H$3:$H$40,0),5),VLOOKUP(K47,Horaires!$A$3:$E$60,5,)))","v":0.4375},null,{"$f":"INDEX(Planning!$7:$7,MATCH('Solde d''heure collaborateur'!$A47,Planning!$3:$3))","v":"X"},{"$f":"VLOOKUP(O47,Horaires!$A$3:$E$49,2,)","v":"XXX"},{"$f":"IF(P47=\"vacances\",INDEX(Horaires!$H$3:$L$42,MATCH('Solde d''heure collaborateur'!P$2,Horaires!$H$3:$H$40,0),4),IF(P47=\"maladie\",INDEX(Horaires!$H$3:$L$42,MATCH('Solde d''heure collaborateur'!P$2,Horaires!$H$3:$H$40,0),5),VLOOKUP(O47,Horaires!$A$3:$E$60,5,)))","v":0},null,{"$f":"INDEX(Planning!$8:$8,MATCH('Solde d''heure collaborateur'!$A47,Planning!$3:$3))","v":"R"},{"$f":"VLOOKUP(S47,Horaires!$A$3:$E$49,2,)","v":"Congé"},{"$f":"IF(T47=\"vacances\",INDEX(Horaires!$H$3:$L$42,MATCH('Solde d''heure collaborateur'!T$2,Horaires!$H$3:$H$40,0),4),IF(T47=\"maladie\",INDEX(Horaires!$H$3:$L$42,MATCH('Solde d''heure collaborateur'!T$2,Horaires!$H$3:$H$40,0),5),VLOOKUP(S47,Horaires!$A$3:$E$60,5,)))","v":0},null,{"$f":"INDEX(Planning!$9:$9,MATCH('Solde d''heure collaborateur'!$A47,Planning!$3:$3))","v":"X"},{"$f":"VLOOKUP(W47,Horaires!$A$3:$E$49,2,)","v":"XXX"},{"$f":"IF(X47=\"vacances\",INDEX(Horaires!$H$3:$L$42,MATCH('Solde d''heure collaborateur'!X$2,Horaires!$H$3:$H$40,0),4),IF(X47=\"maladie\",INDEX(Horaires!$H$3:$L$42,MATCH('Solde d''heure collaborateur'!X$2,Horaires!$H$3:$H$40,0),5),VLOOKUP(W47,Horaires!$A$3:$E$60,5,)))","v":0},null,{"$f":"INDEX(Planning!$10:$10,MATCH('Solde d''heure collaborateur'!$A47,Planning!$3:$3))","v":"onex2"},{"$f":"VLOOKUP(AA47,Horaires!$A$3:$E$49,2,)","v":"Onex"},{"$f":"IF(AB47=\"vacances\",INDEX(Horaires!$H$3:$L$42,MATCH('Solde d''heure collaborateur'!AB$2,Horaires!$H$3:$H$40,0),4),IF(AB47=\"maladie\",INDEX(Horaires!$H$3:$L$42,MATCH('Solde d''heure collaborateur'!AB$2,Horaires!$H$3:$H$40,0),5),VLOOKUP(AA47,Horaires!$A$3:$E$60,5,)))","v":0.48958333333333331},null,{"$f":"INDEX(Planning!$11:$11,MATCH('Solde d''heure collaborateur'!$A47,Planning!$3:$3))","v":"R"},{"$f":"VLOOKUP(AE47,Horaires!$A$3:$E$49,2,)","v":"Congé"},{"$f":"IF(AF47=\"vacances\",INDEX(Horaires!$H$3:$L$42,MATCH('Solde d''heure collaborateur'!AF$2,Horaires!$H$3:$H$40,0),4),IF(AF47=\"maladie\",INDEX(Horaires!$H$3:$L$42,MATCH('Solde d''heure collaborateur'!AF$2,Horaires!$H$3:$H$40,0),5),VLOOKUP(AE47,Horaires!$A$3:$E$60,5,)))","v":0},null,{"$f":"INDEX(Planning!$12:$12,MATCH('Solde d''heure collaborateur'!$A47,Planning!$3:$3))","v":"Thon2"},{"$f":"VLOOKUP(AI47,Horaires!$A$3:$E$49,2,)","v":"Thonex"},{"$f":"IF(AJ47=\"vacances\",INDEX(Horaires!$H$3:$L$42,MATCH('Solde d''heure collaborateur'!AJ$2,Horaires!$H$3:$H$40,0),4),IF(AJ47=\"maladie\",INDEX(Horaires!$H$3:$L$42,MATCH('Solde d''heure collaborateur'!AJ$2,Horaires!$H$3:$H$40,0),5),VLOOKUP(AI47,Horaires!$A$3:$E$60,5,)))","v":0.46874999999999994},null,{"$f":"INDEX(Planning!$13:$13,MATCH('Solde d''heure collaborateur'!$A47,Planning!$3:$3))","v":"nav2"},{"$f":"VLOOKUP(AM47,Horaires!$A$3:$E$49,2,)","v":"Navigation"},{"$f":"IF(AN47=\"vacances\",INDEX(Horaires!$H$3:$L$42,MATCH('Solde d''heure collaborateur'!AN$2,Horaires!$H$3:$H$40,0),4),IF(AN47=\"maladie\",INDEX(Horaires!$H$3:$L$42,MATCH('Solde d''heure collaborateur'!AN$2,Horaires!$H$3:$H$40,0),5),VLOOKUP(AM47,Horaires!$A$3:$E$60,5,)))","v":0.46874999999999994},null,{"$f":"INDEX(Planning!$14:$14,MATCH('Solde d''heure collaborateur'!$A47,Planning!$3:$3))","v":"X"},{"$f":"VLOOKUP(AQ47,Horaires!$A$3:$E$49,2,)","v":"XXX"},{"$f":"IF(AR47=\"vacances\",INDEX(Horaires!$H$3:$L$42,MATCH('Solde d''heure collaborateur'!AR$2,Horaires!$H$3:$H$40,0),4),IF(AR47=\"maladie\",INDEX(Horaires!$H$3:$L$42,MATCH('Solde d''heure collaborateur'!AR$2,Horaires!$H$3:$H$40,0),5),VLOOKUP(AQ47,Horaires!$A$3:$E$60,5,)))","v":0},null,{"$f":"INDEX(Planning!$15:$15,MATCH('Solde d''heure collaborateur'!$A47,Planning!$3:$3))","v":"Nyon1"},{"$f":"VLOOKUP(AU47,Horaires!$A$3:$E$49,2,)","v":"Nyon"},{"$f":"IF(AV47=\"vacances\",INDEX(Horaires!$H$3:$L$42,MATCH('Solde d''heure collaborateur'!AV$2,Horaires!$H$3:$H$40,0),4),IF(AV47=\"maladie\",INDEX(Horaires!$H$3:$L$42,MATCH('Solde d''heure collaborateur'!AV$2,Horaires!$H$3:$H$40,0),5),VLOOKUP(AU47,Horaires!$A$3:$E$60,5,)))","v":0.44791666666666669},null,{"$f":"INDEX(Planning!$16:$16,MATCH('Solde d''heure collaborateur'!$A47,Planning!$3:$3))","v":"R"},{"$f":"VLOOKUP(AY47,Horaires!$A$3:$E$49,2,)","v":"Congé"},{"$f":"IF(AZ47=\"vacances\",INDEX(Horaires!$H$3:$L$42,MATCH('Solde d''heure collaborateur'!AZ$2,Horaires!$H$3:$H$40,0),4),IF(AZ47=\"maladie\",INDEX(Horaires!$H$3:$L$42,MATCH('Solde d''heure collaborateur'!AZ$2,Horaires!$H$3:$H$40,0),5),VLOOKUP(AY47,Horaires!$A$3:$E$60,5,)))","v":0},null,{"$f":"INDEX(Planning!$17:$17,MATCH('Solde d''heure collaborateur'!$A47,Planning!$3:$3))","v":"tour2"},{"$f":"VLOOKUP(BC47,Horaires!$A$3:$E$49,2,)","v":"Tourelle"},{"$f":"IF(BD47=\"vacances\",INDEX(Horaires!$H$3:$L$42,MATCH('Solde d''heure collaborateur'!BD$2,Horaires!$H$3:$H$40,0),4),IF(BD47=\"maladie\",INDEX(Horaires!$H$3:$L$42,MATCH('Solde d''heure collaborateur'!BD$2,Horaires!$H$3:$H$40,0),5),VLOOKUP(BC47,Horaires!$A$3:$E$60,5,)))","v":0.48958333333333331},null,{"$f":"INDEX(Planning!$18:$18,MATCH('Solde d''heure collaborateur'!$A47,Planning!$3:$3))","v":"vibferm"},{"$f":"VLOOKUP(BG47,Horaires!$A$3:$E$49,2,)","v":"Vibert ferm"},{"$f":"IF(BH47=\"vacances\",INDEX(Horaires!$H$3:$L$42,MATCH('Solde d''heure collaborateur'!BH$2,Horaires!$H$3:$H$40,0),4),IF(BH47=\"maladie\",INDEX(Horaires!$H$3:$L$42,MATCH('Solde d''heure collaborateur'!BH$2,Horaires!$H$3:$H$40,0),5),VLOOKUP(BG47,Horaires!$A$3:$E$60,5,)))","v":0.42708333333333331},null,{"$f":"INDEX(Planning!$19:$19,MATCH('Solde d''heure collaborateur'!$A47,Planning!$3:$3))","v":"Vibjeu"},{"$f":"VLOOKUP(BK47,Horaires!$A$3:$E$49,2,)","v":"Vibert"},{"$f":"IF(BL47=\"vacances\",INDEX(Horaires!$H$3:$L$42,MATCH('Solde d''heure collaborateur'!BL$2,Horaires!$H$3:$H$40,0),4),IF(BL47=\"maladie\",INDEX(Horaires!$H$3:$L$42,MATCH('Solde d''heure collaborateur'!BL$2,Horaires!$H$3:$H$40,0),5),VLOOKUP(BK47,Horaires!$A$3:$E$60,5,)))","v":0.45833333333333331},null,{"$f":"INDEX(Planning!$20:$20,MATCH('Solde d''heure collaborateur'!$A47,Planning!$3:$3))","v":"Aca2"},{"$f":"VLOOKUP(BO47,Horaires!$A$3:$E$49,2,)","v":"Acacias"},{"$f":"IF(BP47=\"vacances\",INDEX(Horaires!$H$3:$L$42,MATCH('Solde d''heure collaborateur'!BP$2,Horaires!$H$3:$H$40,0),4),IF(BP47=\"maladie\",INDEX(Horaires!$H$3:$L$42,MATCH('Solde d''heure collaborateur'!BP$2,Horaires!$H$3:$H$40,0),5),VLOOKUP(BO47,Horaires!$A$3:$E$60,5,)))","v":0.46874999999999994},null,{"$f":"INDEX(Planning!$21:$21,MATCH('Solde d''heure collaborateur'!$A47,Planning!$3:$3))","v":"Ves2"},{"$f":"VLOOKUP(BS47,Horaires!$A$3:$E$49,2,)","v":"Vesenaz"},{"$f":"IF(BT47=\"vacances\",INDEX(Horaires!$H$3:$L$42,MATCH('Solde d''heure collaborateur'!BT$2,Horaires!$H$3:$H$40,0),4),IF(BT47=\"maladie\",INDEX(Horaires!$H$3:$L$42,MATCH('Solde d''heure collaborateur'!BT$2,Horaires!$H$3:$H$40,0),5),VLOOKUP(BS47,Horaires!$A$3:$E$60,5,)))","v":0.46874999999999994},null,{"$f":"INDEX(Planning!$22:$22,MATCH('Solde d''heure collaborateur'!$A47,Planning!$3:$3))","v":"X"},{"$f":"VLOOKUP(BW47,Horaires!$A$3:$E$49,2,)","v":"XXX"},{"$f":"IF(BX47=\"vacances\",INDEX(Horaires!$H$3:$L$42,MATCH('Solde d''heure collaborateur'!BX$2,Horaires!$H$3:$H$40,0),4),IF(BX47=\"maladie\",INDEX(Horaires!$H$3:$L$42,MATCH('Solde d''heure collaborateur'!BX$2,Horaires!$H$3:$H$40,0),5),VLOOKUP(BW47,Horaires!$A$3:$E$60,5,)))","v":0},null,{"$f":"INDEX(Planning!$23:$23,MATCH('Solde d''heure collaborateur'!$A47,Planning!$3:$3))","v":"Plo2"},{"$f":"VLOOKUP(CA47,Horaires!$A$3:$E$49,2,)","v":"Plan les Ouates"},{"$f":"IF(CB47=\"vacances\",INDEX(Horaires!$H$3:$L$42,MATCH('Solde d''heure collaborateur'!CB$2,Horaires!$H$3:$H$40,0),4),IF(CB47=\"maladie\",INDEX(Horaires!$H$3:$L$42,MATCH('Solde d''heure collaborateur'!CB$2,Horaires!$H$3:$H$40,0),5),VLOOKUP(CA47,Horaires!$A$3:$E$60,5,)))","v":0.48958333333333331},null,{"$f":"INDEX(Planning!$24:$24,MATCH('Solde d''heure collaborateur'!$A47,Planning!$3:$3))","v":"onex2"},{"$f":"VLOOKUP(CE47,Horaires!$A$3:$E$49,2,)","v":"Onex"},{"$f":"IF(CF47=\"vacances\",INDEX(Horaires!$H$3:$L$42,MATCH('Solde d''heure collaborateur'!CF$2,Horaires!$H$3:$H$40,0),4),IF(CF47=\"maladie\",INDEX(Horaires!$H$3:$L$42,MATCH('Solde d''heure collaborateur'!CF$2,Horaires!$H$3:$H$40,0),5),VLOOKUP(CE47,Horaires!$A$3:$E$60,5,)))","v":0.48958333333333331},null,{"$f":"INDEX(Planning!$25:$25,MATCH('Solde d''heure collaborateur'!$A47,Planning!$3:$3))","v":"X"},{"$f":"VLOOKUP(CI47,Horaires!$A$3:$E$49,2,)","v":"XXX"},{"$f":"IF(CJ47=\"vacances\",INDEX(Horaires!$H$3:$L$42,MATCH('Solde d''heure collaborateur'!CJ$2,Horaires!$H$3:$H$40,0),4),IF(CJ47=\"maladie\",INDEX(Horaires!$H$3:$L$42,MATCH('Solde d''heure collaborateur'!CJ$2,Horaires!$H$3:$H$40,0),5),VLOOKUP(CI47,Horaires!$A$3:$E$60,5,)))","v":0},null,{"$f":"INDEX(Planning!$26:$26,MATCH('Solde d''heure collaborateur'!$A47,Planning!$3:$3))","v":"Vid2"},{"$f":"VLOOKUP(CM47,Horaires!$A$3:$E$49,2,)","v":"Vidollet"},{"$f":"IF(CN47=\"vacances\",INDEX(Horaires!$H$3:$L$42,MATCH('Solde d''heure collaborateur'!CN$2,Horaires!$H$3:$H$40,0),4),IF(CN47=\"maladie\",INDEX(Horaires!$H$3:$L$42,MATCH('Solde d''heure collaborateur'!CN$2,Horaires!$H$3:$H$40,0),5),VLOOKUP(CM47,Horaires!$A$3:$E$60,5,)))","v":0.46874999999999994},null,{"$f":"INDEX(Planning!$27:$27,MATCH('Solde d''heure collaborateur'!$A47,Planning!$3:$3))","v":"R"},{"$f":"VLOOKUP(CQ47,Horaires!$A$3:$E$49,2,)","v":"Congé"},{"$f":"IF(CR47=\"vacances\",INDEX(Horaires!$H$3:$L$42,MATCH('Solde d''heure collaborateur'!CR$2,Horaires!$H$3:$H$40,0),4),IF(CR47=\"maladie\",INDEX(Horaires!$H$3:$L$42,MATCH('Solde d''heure collaborateur'!CR$2,Horaires!$H$3:$H$40,0),5),VLOOKUP(CQ47,Horaires!$A$3:$E$60,5,)))","v":0},null,{"$f":"INDEX(Planning!$28:$28,MATCH('Solde d''heure collaborateur'!$A47,Planning!$3:$3))","v":"R"},{"$f":"VLOOKUP(CU47,Horaires!$A$3:$E$49,2,)","v":"Congé"},{"$f":"IF(CV47=\"vacances\",INDEX(Horaires!$H$3:$L$42,MATCH('Solde d''heure collaborateur'!CV$2,Horaires!$H$3:$H$40,0),4),IF(CV47=\"maladie\",INDEX(Horaires!$H$3:$L$42,MATCH('Solde d''heure collaborateur'!CV$2,Horaires!$H$3:$H$40,0),5),VLOOKUP(CU47,Horaires!$A$3:$E$60,5,)))","v":0},null,{"$f":"INDEX(Planning!$29:$29,MATCH('Solde d''heure collaborateur'!$A47,Planning!$3:$3))","v":"X"},{"$f":"VLOOKUP(CY47,Horaires!$A$3:$E$49,2,)","v":"XXX"},{"$f":"IF(CZ47=\"vacances\",INDEX(Horaires!$H$3:$L$42,MATCH('Solde d''heure collaborateur'!CZ$2,Horaires!$H$3:$H$40,0),4),IF(CZ47=\"maladie\",INDEX(Horaires!$H$3:$L$42,MATCH('Solde d''heure collaborateur'!CZ$2,Horaires!$H$3:$H$40,0),5),VLOOKUP(CY47,Horaires!$A$3:$E$60,5,)))","v":0},null,{"$f":"INDEX(Planning!$30:$30,MATCH('Solde d''heure collaborateur'!$A47,Planning!$3:$3))","v":"X"},{"$f":"VLOOKUP(DC47,Horaires!$A$3:$E$49,2,)","v":"XXX"},{"$f":"IF(DD47=\"vacances\",INDEX(Horaires!$H$3:$L$42,MATCH('Solde d''heure collaborateur'!DD$2,Horaires!$H$3:$H$40,0),4),IF(DD47=\"maladie\",INDEX(Horaires!$H$3:$L$42,MATCH('Solde d''heure collaborateur'!DD$2,Horaires!$H$3:$H$40,0),5),VLOOKUP(DC47,Horaires!$A$3:$E$60,5,)))","v":0},null,{"$f":"INDEX(Planning!$31:$31,MATCH('Solde d''heure collaborateur'!$A47,Planning!$3:$3))","v":"X"},{"$f":"VLOOKUP(DG47,Horaires!$A$3:$E$49,2,)","v":"XXX"},{"$f":"IF(DH47=\"vacances\",INDEX(Horaires!$H$3:$L$42,MATCH('Solde d''heure collaborateur'!DH$2,Horaires!$H$3:$H$40,0),4),IF(DH47=\"maladie\",INDEX(Horaires!$H$3:$L$42,MATCH('Solde d''heure collaborateur'!DH$2,Horaires!$H$3:$H$40,0),5),VLOOKUP(DG47,Horaires!$A$3:$E$60,5,)))","v":0},null,{"$f":"INDEX(Planning!$32:$32,MATCH('Solde d''heure collaborateur'!$A47,Planning!$3:$3))","v":"X"},{"$f":"VLOOKUP(DK47,Horaires!$A$3:$E$49,2,)","v":"XXX"},{"$f":"IF(DL47=\"vacances\",INDEX(Horaires!$H$3:$L$42,MATCH('Solde d''heure collaborateur'!DL$2,Horaires!$H$3:$H$40,0),4),IF(DL47=\"maladie\",INDEX(Horaires!$H$3:$L$42,MATCH('Solde d''heure collaborateur'!DL$2,Horaires!$H$3:$H$40,0),5),VLOOKUP(DK47,Horaires!$A$3:$E$60,5,)))","v":0},null,{"$f":"INDEX(Planning!$33:$33,MATCH('Solde d''heure collaborateur'!$A47,Planning!$3:$3))","v":"X"},{"$f":"VLOOKUP(DO47,Horaires!$A$3:$E$49,2,)","v":"XXX"},{"$f":"IF(DP47=\"vacances\",INDEX(Horaires!$H$3:$L$42,MATCH('Solde d''heure collaborateur'!DP$2,Horaires!$H$3:$H$40,0),4),IF(DP47=\"maladie\",INDEX(Horaires!$H$3:$L$42,MATCH('Solde d''heure collaborateur'!DP$2,Horaires!$H$3:$H$40,0),5),VLOOKUP(DO47,Horaires!$A$3:$E$60,5,)))","v":0},null,{"$f":"INDEX(Planning!$34:$34,MATCH('Solde d''heure collaborateur'!$A47,Planning!$3:$3))","v":"X"},{"$f":"VLOOKUP(DS47,Horaires!$A$3:$E$49,2,)","v":"XXX"},{"$f":"IF(DT47=\"vacances\",INDEX(Horaires!$H$3:$L$42,MATCH('Solde d''heure collaborateur'!DT$2,Horaires!$H$3:$H$40,0),4),IF(DT47=\"maladie\",INDEX(Horaires!$H$3:$L$42,MATCH('Solde d''heure collaborateur'!DT$2,Horaires!$H$3:$H$40,0),5),VLOOKUP(DS47,Horaires!$A$3:$E$60,5,)))","v":0},null,{"$f":"INDEX(Planning!$35:$35,MATCH('Solde d''heure collaborateur'!$A47,Planning!$3:$3))","v":"X"},{"$f":"VLOOKUP(DW47,Horaires!$A$3:$E$49,2,)","v":"XXX"},{"$f":"IF(DX47=\"vacances\",INDEX(Horaires!$H$3:$L$42,MATCH('Solde d''heure collaborateur'!DX$2,Horaires!$H$3:$H$40,0),4),IF(DX47=\"maladie\",INDEX(Horaires!$H$3:$L$42,MATCH('Solde d''heure collaborateur'!DX$2,Horaires!$H$3:$H$40,0),5),VLOOKUP(DW47,Horaires!$A$3:$E$60,5,)))","v":0}]
[{"$f":"A47+1","v":"2013-12-13"},null,{"$f":"INDEX(Planning!$4:$4,MATCH('Solde d''heure collaborateur'!A48,Planning!$3:$3,0))","v":"R"},{"$f":"VLOOKUP(C48,Horaires!$A$3:$E$49,2,)","v":"Congé"},{"$f":"IF(D48=\"vacances\",INDEX(Horaires!$H$3:$L$42,MATCH('Solde d''heure collaborateur'!D$2,Horaires!$H$3:$H$40,0),4),IF(D48=\"maladie\",INDEX(Horaires!$H$3:$L$42,MATCH('Solde d''heure collaborateur'!D$2,Horaires!$H$3:$H$40,0),5),VLOOKUP(C48,Horaires!$A$3:$E$60,5,)))","v":0},null,{"$f":"INDEX(Planning!$5:$5,MATCH('Solde d''heure collaborateur'!A48,Planning!$3:$3))","v":"Pom2"},{"$f":"VLOOKUP(G48,Horaires!$A$3:$E$49,2,)","v":"Pommier"},{"$f":"IF(H48=\"vacances\",INDEX(Horaires!$H$3:$L$42,MATCH('Solde d''heure collaborateur'!H$2,Horaires!$H$3:$H$40,0),4),IF(H48=\"maladie\",INDEX(Horaires!$H$3:$L$42,MATCH('Solde d''heure collaborateur'!H$2,Horaires!$H$3:$H$40,0),5),VLOOKUP(G48,Horaires!$A$3:$E$60,5,)))","v":0.46874999999999994},null,{"$f":"INDEX(Planning!$6:$6,MATCH('Solde d''heure collaborateur'!A48,Planning!$3:$3))","v":"R"},{"$f":"VLOOKUP(K48,Horaires!$A$3:$E$49,2,)","v":"Congé"},{"$f":"IF(L48=\"vacances\",INDEX(Horaires!$H$3:$L$42,MATCH('Solde d''heure collaborateur'!L$2,Horaires!$H$3:$H$40,0),4),IF(L48=\"maladie\",INDEX(Horaires!$H$3:$L$42,MATCH('Solde d''heure collaborateur'!L$2,Horaires!$H$3:$H$40,0),5),VLOOKUP(K48,Horaires!$A$3:$E$60,5,)))","v":0},null,{"$f":"INDEX(Planning!$7:$7,MATCH('Solde d''heure collaborateur'!$A48,Planning!$3:$3))","v":"X"},{"$f":"VLOOKUP(O48,Horaires!$A$3:$E$49,2,)","v":"XXX"},{"$f":"IF(P48=\"vacances\",INDEX(Horaires!$H$3:$L$42,MATCH('Solde d''heure collaborateur'!P$2,Horaires!$H$3:$H$40,0),4),IF(P48=\"maladie\",INDEX(Horaires!$H$3:$L$42,MATCH('Solde d''heure collaborateur'!P$2,Horaires!$H$3:$H$40,0),5),VLOOKUP(O48,Horaires!$A$3:$E$60,5,)))","v":0},null,{"$f":"INDEX(Planning!$8:$8,MATCH('Solde d''heure collaborateur'!$A48,Planning!$3:$3))","v":"R"},{"$f":"VLOOKUP(S48,Horaires!$A$3:$E$49,2,)","v":"Congé"},{"$f":"IF(T48=\"vacances\",INDEX(Horaires!$H$3:$L$42,MATCH('Solde d''heure collaborateur'!T$2,Horaires!$H$3:$H$40,0),4),IF(T48=\"maladie\",INDEX(Horaires!$H$3:$L$42,MATCH('Solde d''heure collaborateur'!T$2,Horaires!$H$3:$H$40,0),5),VLOOKUP(S48,Horaires!$A$3:$E$60,5,)))","v":0},null,{"$f":"INDEX(Planning!$9:$9,MATCH('Solde d''heure collaborateur'!$A48,Planning!$3:$3))","v":"X"},{"$f":"VLOOKUP(W48,Horaires!$A$3:$E$49,2,)","v":"XXX"},{"$f":"IF(X48=\"vacances\",INDEX(Horaires!$H$3:$L$42,MATCH('Solde d''heure collaborateur'!X$2,Horaires!$H$3:$H$40,0),4),IF(X48=\"maladie\",INDEX(Horaires!$H$3:$L$42,MATCH('Solde d''heure collaborateur'!X$2,Horaires!$H$3:$H$40,0),5),VLOOKUP(W48,Horaires!$A$3:$E$60,5,)))","v":0},null,{"$f":"INDEX(Planning!$10:$10,MATCH('Solde d''heure collaborateur'!$A48,Planning!$3:$3))","v":"onex2"},{"$f":"VLOOKUP(AA48,Horaires!$A$3:$E$49,2,)","v":"Onex"},{"$f":"IF(AB48=\"vacances\",INDEX(Horaires!$H$3:$L$42,MATCH('Solde d''heure collaborateur'!AB$2,Horaires!$H$3:$H$40,0),4),IF(AB48=\"maladie\",INDEX(Horaires!$H$3:$L$42,MATCH('Solde d''heure collaborateur'!AB$2,Horaires!$H$3:$H$40,0),5),VLOOKUP(AA48,Horaires!$A$3:$E$60,5,)))","v":0.48958333333333331},null,{"$f":"INDEX(Planning!$11:$11,MATCH('Solde d''heure collaborateur'!$A48,Planning!$3:$3))","v":"Plo2"},{"$f":"VLOOKUP(AE48,Horaires!$A$3:$E$49,2,)","v":"Plan les Ouates"},{"$f":"IF(AF48=\"vacances\",INDEX(Horaires!$H$3:$L$42,MATCH('Solde d''heure collaborateur'!AF$2,Horaires!$H$3:$H$40,0),4),IF(AF48=\"maladie\",INDEX(Horaires!$H$3:$L$42,MATCH('Solde d''heure collaborateur'!AF$2,Horaires!$H$3:$H$40,0),5),VLOOKUP(AE48,Horaires!$A$3:$E$60,5,)))","v":0.48958333333333331},null,{"$f":"INDEX(Planning!$12:$12,MATCH('Solde d''heure collaborateur'!$A48,Planning!$3:$3))","v":"R"},{"$f":"VLOOKUP(AI48,Horaires!$A$3:$E$49,2,)","v":"Congé"},{"$f":"IF(AJ48=\"vacances\",INDEX(Horaires!$H$3:$L$42,MATCH('Solde d''heure collaborateur'!AJ$2,Horaires!$H$3:$H$40,0),4),IF(AJ48=\"maladie\",INDEX(Horaires!$H$3:$L$42,MATCH('Solde d''heure collaborateur'!AJ$2,Horaires!$H$3:$H$40,0),5),VLOOKUP(AI48,Horaires!$A$3:$E$60,5,)))","v":0},null,{"$f":"INDEX(Planning!$13:$13,MATCH('Solde d''heure collaborateur'!$A48,Planning!$3:$3))","v":"Vib2"},{"$f":"VLOOKUP(AM48,Horaires!$A$3:$E$49,2,)","v":"Vibert"},{"$f":"IF(AN48=\"vacances\",INDEX(Horaires!$H$3:$L$42,MATCH('Solde d''heure collaborateur'!AN$2,Horaires!$H$3:$H$40,0),4),IF(AN48=\"maladie\",INDEX(Horaires!$H$3:$L$42,MATCH('Solde d''heure collaborateur'!AN$2,Horaires!$H$3:$H$40,0),5),VLOOKUP(AM48,Horaires!$A$3:$E$60,5,)))","v":0.48958333333333331},null,{"$f":"INDEX(Planning!$14:$14,MATCH('Solde d''heure collaborateur'!$A48,Planning!$3:$3))","v":"M"},{"$f":"VLOOKUP(AQ48,Horaires!$A$3:$E$49,2,)","v":"Maladie"},{"$f":"IF(AR48=\"vacances\",INDEX(Horaires!$H$3:$L$42,MATCH('Solde d''heure collaborateur'!AR$2,Horaires!$H$3:$H$40,0),4),IF(AR48=\"maladie\",INDEX(Horaires!$H$3:$L$42,MATCH('Solde d''heure collaborateur'!AR$2,Horaires!$H$3:$H$40,0),5),VLOOKUP(AQ48,Horaires!$A$3:$E$60,5,)))","v":0.46180555555555558},null,{"$f":"INDEX(Planning!$15:$15,MATCH('Solde d''heure collaborateur'!$A48,Planning!$3:$3))","v":"Nyon1"},{"$f":"VLOOKUP(AU48,Horaires!$A$3:$E$49,2,)","v":"Nyon"},{"$f":"IF(AV48=\"vacances\",INDEX(Horaires!$H$3:$L$42,MATCH('Solde d''heure collaborateur'!AV$2,Horaires!$H$3:$H$40,0),4),IF(AV48=\"maladie\",INDEX(Horaires!$H$3:$L$42,MATCH('Solde d''heure collaborateur'!AV$2,Horaires!$H$3:$H$40,0),5),VLOOKUP(AU48,Horaires!$A$3:$E$60,5,)))","v":0.44791666666666669},null,{"$f":"INDEX(Planning!$16:$16,MATCH('Solde d''heure collaborateur'!$A48,Planning!$3:$3))","v":"Vid2"},{"$f":"VLOOKUP(AY48,Horaires!$A$3:$E$49,2,)","v":"Vidollet"},{"$f":"IF(AZ48=\"vacances\",INDEX(Horaires!$H$3:$L$42,MATCH('Solde d''heure collaborateur'!AZ$2,Horaires!$H$3:$H$40,0),4),IF(AZ48=\"maladie\",INDEX(Horaires!$H$3:$L$42,MATCH('Solde d''heure collaborateur'!AZ$2,Horaires!$H$3:$H$40,0),5),VLOOKUP(AY48,Horaires!$A$3:$E$60,5,)))","v":0.46874999999999994},null,{"$f":"INDEX(Planning!$17:$17,MATCH('Solde d''heure collaborateur'!$A48,Planning!$3:$3))","v":"nav2"},{"$f":"VLOOKUP(BC48,Horaires!$A$3:$E$49,2,)","v":"Navigation"},{"$f":"IF(BD48=\"vacances\",INDEX(Horaires!$H$3:$L$42,MATCH('Solde d''heure collaborateur'!BD$2,Horaires!$H$3:$H$40,0),4),IF(BD48=\"maladie\",INDEX(Horaires!$H$3:$L$42,MATCH('Solde d''heure collaborateur'!BD$2,Horaires!$H$3:$H$40,0),5),VLOOKUP(BC48,Horaires!$A$3:$E$60,5,)))","v":0.46874999999999994},null,{"$f":"INDEX(Planning!$18:$18,MATCH('Solde d''heure collaborateur'!$A48,Planning!$3:$3))","v":"R"},{"$f":"VLOOKUP(BG48,Horaires!$A$3:$E$49,2,)","v":"Congé"},{"$f":"IF(BH48=\"vacances\",INDEX(Horaires!$H$3:$L$42,MATCH('Solde d''heure collaborateur'!BH$2,Horaires!$H$3:$H$40,0),4),IF(BH48=\"maladie\",INDEX(Horaires!$H$3:$L$42,MATCH('Solde d''heure collaborateur'!BH$2,Horaires!$H$3:$H$40,0),5),VLOOKUP(BG48,Horaires!$A$3:$E$60,5,)))","v":0},null,{"$f":"INDEX(Planning!$19:$19,MATCH('Solde d''heure collaborateur'!$A48,Planning!$3:$3))","v":"Vib2"},{"$f":"VLOOKUP(BK48,Horaires!$A$3:$E$49,2,)","v":"Vibert"},{"$f":"IF(BL48=\"vacances\",INDEX(Horaires!$H$3:$L$42,MATCH('Solde d''heure collaborateur'!BL$2,Horaires!$H$3:$H$40,0),4),IF(BL48=\"maladie\",INDEX(Horaires!$H$3:$L$42,MATCH('Solde d''heure collaborateur'!BL$2,Horaires!$H$3:$H$40,0),5),VLOOKUP(BK48,Horaires!$A$3:$E$60,5,)))","v":0.48958333333333331},null,{"$f":"INDEX(Planning!$20:$20,MATCH('Solde d''heure collaborateur'!$A48,Planning!$3:$3))","v":"R"},{"$f":"VLOOKUP(BO48,Horaires!$A$3:$E$49,2,)","v":"Congé"},{"$f":"IF(BP48=\"vacances\",INDEX(Horaires!$H$3:$L$42,MATCH('Solde d''heure collaborateur'!BP$2,Horaires!$H$3:$H$40,0),4),IF(BP48=\"maladie\",INDEX(Horaires!$H$3:$L$42,MATCH('Solde d''heure collaborateur'!BP$2,Horaires!$H$3:$H$40,0),5),VLOOKUP(BO48,Horaires!$A$3:$E$60,5,)))","v":0},null,{"$f":"INDEX(Planning!$21:$21,MATCH('Solde d''heure collaborateur'!$A48,Planning!$3:$3))","v":"Ves2"},{"$f":"VLOOKUP(BS48,Horaires!$A$3:$E$49,2,)","v":"Vesenaz"},{"$f":"IF(BT48=\"vacances\",INDEX(Horaires!$H$3:$L$42,MATCH('Solde d''heure collaborateur'!BT$2,Horaires!$H$3:$H$40,0),4),IF(BT48=\"maladie\",INDEX(Horaires!$H$3:$L$42,MATCH('Solde d''heure collaborateur'!BT$2,Horaires!$H$3:$H$40,0),5),VLOOKUP(BS48,Horaires!$A$3:$E$60,5,)))","v":0.46874999999999994},null,{"$f":"INDEX(Planning!$22:$22,MATCH('Solde d''heure collaborateur'!$A48,Planning!$3:$3))","v":"X"},{"$f":"VLOOKUP(BW48,Horaires!$A$3:$E$49,2,)","v":"XXX"},{"$f":"IF(BX48=\"vacances\",INDEX(Horaires!$H$3:$L$42,MATCH('Solde d''heure collaborateur'!BX$2,Horaires!$H$3:$H$40,0),4),IF(BX48=\"maladie\",INDEX(Horaires!$H$3:$L$42,MATCH('Solde d''heure collaborateur'!BX$2,Horaires!$H$3:$H$40,0),5),VLOOKUP(BW48,Horaires!$A$3:$E$60,5,)))","v":0},null,{"$f":"INDEX(Planning!$23:$23,MATCH('Solde d''heure collaborateur'!$A48,Planning!$3:$3))","v":"Aca2"},{"$f":"VLOOKUP(CA48,Horaires!$A$3:$E$49,2,)","v":"Acacias"},{"$f":"IF(CB48=\"vacances\",INDEX(Horaires!$H$3:$L$42,MATCH('Solde d''heure collaborateur'!CB$2,Horaires!$H$3:$H$40,0),4),IF(CB48=\"maladie\",INDEX(Horaires!$H$3:$L$42,MATCH('Solde d''heure collaborateur'!CB$2,Horaires!$H$3:$H$40,0),5),VLOOKUP(CA48,Horaires!$A$3:$E$60,5,)))","v":0.46874999999999994},null,{"$f":"INDEX(Planning!$24:$24,MATCH('Solde d''heure collaborateur'!$A48,Planning!$3:$3))","v":"onex2"},{"$f":"VLOOKUP(CE48,Horaires!$A$3:$E$49,2,)","v":"Onex"},{"$f":"IF(CF48=\"vacances\",INDEX(Horaires!$H$3:$L$42,MATCH('Solde d''heure collaborateur'!CF$2,Horaires!$H$3:$H$40,0),4),IF(CF48=\"maladie\",INDEX(Horaires!$H$3:$L$42,MATCH('Solde d''heure collaborateur'!CF$2,Horaires!$H$3:$H$40,0),5),VLOOKUP(CE48,Horaires!$A$3:$E$60,5,)))","v":0.48958333333333331},null,{"$f":"INDEX(Planning!$25:$25,MATCH('Solde d''heure collaborateur'!$A48,Planning!$3:$3))","v":"X"},{"$f":"VLOOKUP(CI48,Horaires!$A$3:$E$49,2,)","v":"XXX"},{"$f":"IF(CJ48=\"vacances\",INDEX(Horaires!$H$3:$L$42,MATCH('Solde d''heure collaborateur'!CJ$2,Horaires!$H$3:$H$40,0),4),IF(CJ48=\"maladie\",INDEX(Horaires!$H$3:$L$42,MATCH('Solde d''heure collaborateur'!CJ$2,Horaires!$H$3:$H$40,0),5),VLOOKUP(CI48,Horaires!$A$3:$E$60,5,)))","v":0},null,{"$f":"INDEX(Planning!$26:$26,MATCH('Solde d''heure collaborateur'!$A48,Planning!$3:$3))","v":"R"},{"$f":"VLOOKUP(CM48,Horaires!$A$3:$E$49,2,)","v":"Congé"},{"$f":"IF(CN48=\"vacances\",INDEX(Horaires!$H$3:$L$42,MATCH('Solde d''heure collaborateur'!CN$2,Horaires!$H$3:$H$40,0),4),IF(CN48=\"maladie\",INDEX(Horaires!$H$3:$L$42,MATCH('Solde d''heure collaborateur'!CN$2,Horaires!$H$3:$H$40,0),5),VLOOKUP(CM48,Horaires!$A$3:$E$60,5,)))","v":0},null,{"$f":"INDEX(Planning!$27:$27,MATCH('Solde d''heure collaborateur'!$A48,Planning!$3:$3))","v":"Thon2"},{"$f":"VLOOKUP(CQ48,Horaires!$A$3:$E$49,2,)","v":"Thonex"},{"$f":"IF(CR48=\"vacances\",INDEX(Horaires!$H$3:$L$42,MATCH('Solde d''heure collaborateur'!CR$2,Horaires!$H$3:$H$40,0),4),IF(CR48=\"maladie\",INDEX(Horaires!$H$3:$L$42,MATCH('Solde d''heure collaborateur'!CR$2,Horaires!$H$3:$H$40,0),5),VLOOKUP(CQ48,Horaires!$A$3:$E$60,5,)))","v":0.46874999999999994},null,{"$f":"INDEX(Planning!$28:$28,MATCH('Solde d''heure collaborateur'!$A48,Planning!$3:$3))","v":"recup"},{"$f":"VLOOKUP(CU48,Horaires!$A$3:$E$49,2,)","v":"Récupération"},{"$f":"IF(CV48=\"vacances\",INDEX(Horaires!$H$3:$L$42,MATCH('Solde d''heure collaborateur'!CV$2,Horaires!$H$3:$H$40,0),4),IF(CV48=\"maladie\",INDEX(Horaires!$H$3:$L$42,MATCH('Solde d''heure collaborateur'!CV$2,Horaires!$H$3:$H$40,0),5),VLOOKUP(CU48,Horaires!$A$3:$E$60,5,)))","v":0},null,{"$f":"INDEX(Planning!$29:$29,MATCH('Solde d''heure collaborateur'!$A48,Planning!$3:$3))","v":"tour2"},{"$f":"VLOOKUP(CY48,Horaires!$A$3:$E$49,2,)","v":"Tourelle"},{"$f":"IF(CZ48=\"vacances\",INDEX(Horaires!$H$3:$L$42,MATCH('Solde d''heure collaborateur'!CZ$2,Horaires!$H$3:$H$40,0),4),IF(CZ48=\"maladie\",INDEX(Horaires!$H$3:$L$42,MATCH('Solde d''heure collaborateur'!CZ$2,Horaires!$H$3:$H$40,0),5),VLOOKUP(CY48,Horaires!$A$3:$E$60,5,)))","v":0.48958333333333331},null,{"$f":"INDEX(Planning!$30:$30,MATCH('Solde d''heure collaborateur'!$A48,Planning!$3:$3))","v":"X"},{"$f":"VLOOKUP(DC48,Horaires!$A$3:$E$49,2,)","v":"XXX"},{"$f":"IF(DD48=\"vacances\",INDEX(Horaires!$H$3:$L$42,MATCH('Solde d''heure collaborateur'!DD$2,Horaires!$H$3:$H$40,0),4),IF(DD48=\"maladie\",INDEX(Horaires!$H$3:$L$42,MATCH('Solde d''heure collaborateur'!DD$2,Horaires!$H$3:$H$40,0),5),VLOOKUP(DC48,Horaires!$A$3:$E$60,5,)))","v":0},null,{"$f":"INDEX(Planning!$31:$31,MATCH('Solde d''heure collaborateur'!$A48,Planning!$3:$3))","v":"X"},{"$f":"VLOOKUP(DG48,Horaires!$A$3:$E$49,2,)","v":"XXX"},{"$f":"IF(DH48=\"vacances\",INDEX(Horaires!$H$3:$L$42,MATCH('Solde d''heure collaborateur'!DH$2,Horaires!$H$3:$H$40,0),4),IF(DH48=\"maladie\",INDEX(Horaires!$H$3:$L$42,MATCH('Solde d''heure collaborateur'!DH$2,Horaires!$H$3:$H$40,0),5),VLOOKUP(DG48,Horaires!$A$3:$E$60,5,)))","v":0},null,{"$f":"INDEX(Planning!$32:$32,MATCH('Solde d''heure collaborateur'!$A48,Planning!$3:$3))","v":"X"},{"$f":"VLOOKUP(DK48,Horaires!$A$3:$E$49,2,)","v":"XXX"},{"$f":"IF(DL48=\"vacances\",INDEX(Horaires!$H$3:$L$42,MATCH('Solde d''heure collaborateur'!DL$2,Horaires!$H$3:$H$40,0),4),IF(DL48=\"maladie\",INDEX(Horaires!$H$3:$L$42,MATCH('Solde d''heure collaborateur'!DL$2,Horaires!$H$3:$H$40,0),5),VLOOKUP(DK48,Horaires!$A$3:$E$60,5,)))","v":0},null,{"$f":"INDEX(Planning!$33:$33,MATCH('Solde d''heure collaborateur'!$A48,Planning!$3:$3))","v":"X"},{"$f":"VLOOKUP(DO48,Horaires!$A$3:$E$49,2,)","v":"XXX"},{"$f":"IF(DP48=\"vacances\",INDEX(Horaires!$H$3:$L$42,MATCH('Solde d''heure collaborateur'!DP$2,Horaires!$H$3:$H$40,0),4),IF(DP48=\"maladie\",INDEX(Horaires!$H$3:$L$42,MATCH('Solde d''heure collaborateur'!DP$2,Horaires!$H$3:$H$40,0),5),VLOOKUP(DO48,Horaires!$A$3:$E$60,5,)))","v":0},null,{"$f":"INDEX(Planning!$34:$34,MATCH('Solde d''heure collaborateur'!$A48,Planning!$3:$3))","v":"X"},{"$f":"VLOOKUP(DS48,Horaires!$A$3:$E$49,2,)","v":"XXX"},{"$f":"IF(DT48=\"vacances\",INDEX(Horaires!$H$3:$L$42,MATCH('Solde d''heure collaborateur'!DT$2,Horaires!$H$3:$H$40,0),4),IF(DT48=\"maladie\",INDEX(Horaires!$H$3:$L$42,MATCH('Solde d''heure collaborateur'!DT$2,Horaires!$H$3:$H$40,0),5),VLOOKUP(DS48,Horaires!$A$3:$E$60,5,)))","v":0},null,{"$f":"INDEX(Planning!$35:$35,MATCH('Solde d''heure collaborateur'!$A48,Planning!$3:$3))","v":"X"},{"$f":"VLOOKUP(DW48,Horaires!$A$3:$E$49,2,)","v":"XXX"},{"$f":"IF(DX48=\"vacances\",INDEX(Horaires!$H$3:$L$42,MATCH('Solde d''heure collaborateur'!DX$2,Horaires!$H$3:$H$40,0),4),IF(DX48=\"maladie\",INDEX(Horaires!$H$3:$L$42,MATCH('Solde d''heure collaborateur'!DX$2,Horaires!$H$3:$H$40,0),5),VLOOKUP(DW48,Horaires!$A$3:$E$60,5,)))","v":0}]
[{"$f":"A48+1","v":"2013-12-14"},null,{"$f":"INDEX(Planning!$4:$4,MATCH('Solde d''heure collaborateur'!A49,Planning!$3:$3,0))","v":"R"},{"$f":"VLOOKUP(C49,Horaires!$A$3:$E$49,2,)","v":"Congé"},{"$f":"IF(D49=\"vacances\",INDEX(Horaires!$H$3:$L$42,MATCH('Solde d''heure collaborateur'!D$2,Horaires!$H$3:$H$40,0),4),IF(D49=\"maladie\",INDEX(Horaires!$H$3:$L$42,MATCH('Solde d''heure collaborateur'!D$2,Horaires!$H$3:$H$40,0),5),VLOOKUP(C49,Horaires!$A$3:$E$60,5,)))","v":0},null,{"$f":"INDEX(Planning!$5:$5,MATCH('Solde d''heure collaborateur'!A49,Planning!$3:$3))","v":"R"},{"$f":"VLOOKUP(G49,Horaires!$A$3:$E$49,2,)","v":"Congé"},{"$f":"IF(H49=\"vacances\",INDEX(Horaires!$H$3:$L$42,MATCH('Solde d''heure collaborateur'!H$2,Horaires!$H$3:$H$40,0),4),IF(H49=\"maladie\",INDEX(Horaires!$H$3:$L$42,MATCH('Solde d''heure collaborateur'!H$2,Horaires!$H$3:$H$40,0),5),VLOOKUP(G49,Horaires!$A$3:$E$60,5,)))","v":0},null,{"$f":"INDEX(Planning!$6:$6,MATCH('Solde d''heure collaborateur'!A49,Planning!$3:$3))","v":"R"},{"$f":"VLOOKUP(K49,Horaires!$A$3:$E$49,2,)","v":"Congé"},{"$f":"IF(L49=\"vacances\",INDEX(Horaires!$H$3:$L$42,MATCH('Solde d''heure collaborateur'!L$2,Horaires!$H$3:$H$40,0),4),IF(L49=\"maladie\",INDEX(Horaires!$H$3:$L$42,MATCH('Solde d''heure collaborateur'!L$2,Horaires!$H$3:$H$40,0),5),VLOOKUP(K49,Horaires!$A$3:$E$60,5,)))","v":0},null,{"$f":"INDEX(Planning!$7:$7,MATCH('Solde d''heure collaborateur'!$A49,Planning!$3:$3))","v":"X"},{"$f":"VLOOKUP(O49,Horaires!$A$3:$E$49,2,)","v":"XXX"},{"$f":"IF(P49=\"vacances\",INDEX(Horaires!$H$3:$L$42,MATCH('Solde d''heure collaborateur'!P$2,Horaires!$H$3:$H$40,0),4),IF(P49=\"maladie\",INDEX(Horaires!$H$3:$L$42,MATCH('Solde d''heure collaborateur'!P$2,Horaires!$H$3:$H$40,0),5),VLOOKUP(O49,Horaires!$A$3:$E$60,5,)))","v":0},null,{"$f":"INDEX(Planning!$8:$8,MATCH('Solde d''heure collaborateur'!$A49,Planning!$3:$3))","v":"Onex3"},{"$f":"VLOOKUP(S49,Horaires!$A$3:$E$49,2,)","v":"Onex"},{"$f":"IF(T49=\"vacances\",INDEX(Horaires!$H$3:$L$42,MATCH('Solde d''heure collaborateur'!T$2,Horaires!$H$3:$H$40,0),4),IF(T49=\"maladie\",INDEX(Horaires!$H$3:$L$42,MATCH('Solde d''heure collaborateur'!T$2,Horaires!$H$3:$H$40,0),5),VLOOKUP(S49,Horaires!$A$3:$E$60,5,)))","v":0.42708333333333331},null,{"$f":"INDEX(Planning!$9:$9,MATCH('Solde d''heure collaborateur'!$A49,Planning!$3:$3))","v":"X"},{"$f":"VLOOKUP(W49,Horaires!$A$3:$E$49,2,)","v":"XXX"},{"$f":"IF(X49=\"vacances\",INDEX(Horaires!$H$3:$L$42,MATCH('Solde d''heure collaborateur'!X$2,Horaires!$H$3:$H$40,0),4),IF(X49=\"maladie\",INDEX(Horaires!$H$3:$L$42,MATCH('Solde d''heure collaborateur'!X$2,Horaires!$H$3:$H$40,0),5),VLOOKUP(W49,Horaires!$A$3:$E$60,5,)))","v":0},null,{"$f":"INDEX(Planning!$10:$10,MATCH('Solde d''heure collaborateur'!$A49,Planning!$3:$3))","v":"onex3"},{"$f":"VLOOKUP(AA49,Horaires!$A$3:$E$49,2,)","v":"Onex"},{"$f":"IF(AB49=\"vacances\",INDEX(Horaires!$H$3:$L$42,MATCH('Solde d''heure collaborateur'!AB$2,Horaires!$H$3:$H$40,0),4),IF(AB49=\"maladie\",INDEX(Horaires!$H$3:$L$42,MATCH('Solde d''heure collaborateur'!AB$2,Horaires!$H$3:$H$40,0),5),VLOOKUP(AA49,Horaires!$A$3:$E$60,5,)))","v":0.42708333333333331},null,{"$f":"INDEX(Planning!$11:$11,MATCH('Solde d''heure collaborateur'!$A49,Planning!$3:$3))","v":"Plo3"},{"$f":"VLOOKUP(AE49,Horaires!$A$3:$E$49,2,)","v":"Plan les Ouates"},{"$f":"IF(AF49=\"vacances\",INDEX(Horaires!$H$3:$L$42,MATCH('Solde d''heure collaborateur'!AF$2,Horaires!$H$3:$H$40,0),4),IF(AF49=\"maladie\",INDEX(Horaires!$H$3:$L$42,MATCH('Solde d''heure collaborateur'!AF$2,Horaires!$H$3:$H$40,0),5),VLOOKUP(AE49,Horaires!$A$3:$E$60,5,)))","v":0.42708333333333331},null,{"$f":"INDEX(Planning!$12:$12,MATCH('Solde d''heure collaborateur'!$A49,Planning!$3:$3))","v":"R"},{"$f":"VLOOKUP(AI49,Horaires!$A$3:$E$49,2,)","v":"Congé"},{"$f":"IF(AJ49=\"vacances\",INDEX(Horaires!$H$3:$L$42,MATCH('Solde d''heure collaborateur'!AJ$2,Horaires!$H$3:$H$40,0),4),IF(AJ49=\"maladie\",INDEX(Horaires!$H$3:$L$42,MATCH('Solde d''heure collaborateur'!AJ$2,Horaires!$H$3:$H$40,0),5),VLOOKUP(AI49,Horaires!$A$3:$E$60,5,)))","v":0},null,{"$f":"INDEX(Planning!$13:$13,MATCH('Solde d''heure collaborateur'!$A49,Planning!$3:$3))","v":"pom3"},{"$f":"VLOOKUP(AM49,Horaires!$A$3:$E$49,2,)","v":"Pommier"},{"$f":"IF(AN49=\"vacances\",INDEX(Horaires!$H$3:$L$42,MATCH('Solde d''heure collaborateur'!AN$2,Horaires!$H$3:$H$40,0),4),IF(AN49=\"maladie\",INDEX(Horaires!$H$3:$L$42,MATCH('Solde d''heure collaborateur'!AN$2,Horaires!$H$3:$H$40,0),5),VLOOKUP(AM49,Horaires!$A$3:$E$60,5,)))","v":0.42708333333333331},null,{"$f":"INDEX(Planning!$14:$14,MATCH('Solde d''heure collaborateur'!$A49,Planning!$3:$3))","v":"M"},{"$f":"VLOOKUP(AQ49,Horaires!$A$3:$E$49,2,)","v":"Maladie"},{"$f":"IF(AR49=\"vacances\",INDEX(Horaires!$H$3:$L$42,MATCH('Solde d''heure collaborateur'!AR$2,Horaires!$H$3:$H$40,0),4),IF(AR49=\"maladie\",INDEX(Horaires!$H$3:$L$42,MATCH('Solde d''heure collaborateur'!AR$2,Horaires!$H$3:$H$40,0),5),VLOOKUP(AQ49,Horaires!$A$3:$E$60,5,)))","v":0.46180555555555558},null,{"$f":"INDEX(Planning!$15:$15,MATCH('Solde d''heure collaborateur'!$A49,Planning!$3:$3))","v":"Nyon2"},{"$f":"VLOOKUP(AU49,Horaires!$A$3:$E$49,2,)","v":"Nyon"},{"$f":"IF(AV49=\"vacances\",INDEX(Horaires!$H$3:$L$42,MATCH('Solde d''heure collaborateur'!AV$2,Horaires!$H$3:$H$40,0),4),IF(AV49=\"maladie\",INDEX(Horaires!$H$3:$L$42,MATCH('Solde d''heure collaborateur'!AV$2,Horaires!$H$3:$H$40,0),5),VLOOKUP(AU49,Horaires!$A$3:$E$60,5,)))","v":0.40624999999999994},null,{"$f":"INDEX(Planning!$16:$16,MATCH('Solde d''heure collaborateur'!$A49,Planning!$3:$3))","v":"Vid3"},{"$f":"VLOOKUP(AY49,Horaires!$A$3:$E$49,2,)","v":"Vidollet"},{"$f":"IF(AZ49=\"vacances\",INDEX(Horaires!$H$3:$L$42,MATCH('Solde d''heure collaborateur'!AZ$2,Horaires!$H$3:$H$40,0),4),IF(AZ49=\"maladie\",INDEX(Horaires!$H$3:$L$42,MATCH('Solde d''heure collaborateur'!AZ$2,Horaires!$H$3:$H$40,0),5),VLOOKUP(AY49,Horaires!$A$3:$E$60,5,)))","v":0.40624999999999994},null,{"$f":"INDEX(Planning!$17:$17,MATCH('Solde d''heure collaborateur'!$A49,Planning!$3:$3))","v":"nav3"},{"$f":"VLOOKUP(BC49,Horaires!$A$3:$E$49,2,)","v":"Navigation"},{"$f":"IF(BD49=\"vacances\",INDEX(Horaires!$H$3:$L$42,MATCH('Solde d''heure collaborateur'!BD$2,Horaires!$H$3:$H$40,0),4),IF(BD49=\"maladie\",INDEX(Horaires!$H$3:$L$42,MATCH('Solde d''heure collaborateur'!BD$2,Horaires!$H$3:$H$40,0),5),VLOOKUP(BC49,Horaires!$A$3:$E$60,5,)))","v":0.40624999999999994},null,{"$f":"INDEX(Planning!$18:$18,MATCH('Solde d''heure collaborateur'!$A49,Planning!$3:$3))","v":"R"},{"$f":"VLOOKUP(BG49,Horaires!$A$3:$E$49,2,)","v":"Congé"},{"$f":"IF(BH49=\"vacances\",INDEX(Horaires!$H$3:$L$42,MATCH('Solde d''heure collaborateur'!BH$2,Horaires!$H$3:$H$40,0),4),IF(BH49=\"maladie\",INDEX(Horaires!$H$3:$L$42,MATCH('Solde d''heure collaborateur'!BH$2,Horaires!$H$3:$H$40,0),5),VLOOKUP(BG49,Horaires!$A$3:$E$60,5,)))","v":0},null,{"$f":"INDEX(Planning!$19:$19,MATCH('Solde d''heure collaborateur'!$A49,Planning!$3:$3))","v":"Vib3"},{"$f":"VLOOKUP(BK49,Horaires!$A$3:$E$49,2,)","v":"Vibert"},{"$f":"IF(BL49=\"vacances\",INDEX(Horaires!$H$3:$L$42,MATCH('Solde d''heure collaborateur'!BL$2,Horaires!$H$3:$H$40,0),4),IF(BL49=\"maladie\",INDEX(Horaires!$H$3:$L$42,MATCH('Solde d''heure collaborateur'!BL$2,Horaires!$H$3:$H$40,0),5),VLOOKUP(BK49,Horaires!$A$3:$E$60,5,)))","v":0.42708333333333331},null,{"$f":"INDEX(Planning!$20:$20,MATCH('Solde d''heure collaborateur'!$A49,Planning!$3:$3))","v":"R"},{"$f":"VLOOKUP(BO49,Horaires!$A$3:$E$49,2,)","v":"Congé"},{"$f":"IF(BP49=\"vacances\",INDEX(Horaires!$H$3:$L$42,MATCH('Solde d''heure collaborateur'!BP$2,Horaires!$H$3:$H$40,0),4),IF(BP49=\"maladie\",INDEX(Horaires!$H$3:$L$42,MATCH('Solde d''heure collaborateur'!BP$2,Horaires!$H$3:$H$40,0),5),VLOOKUP(BO49,Horaires!$A$3:$E$60,5,)))","v":0},null,{"$f":"INDEX(Planning!$21:$21,MATCH('Solde d''heure collaborateur'!$A49,Planning!$3:$3))","v":"Ves3"},{"$f":"VLOOKUP(BS49,Horaires!$A$3:$E$49,2,)","v":"Vesenaz"},{"$f":"IF(BT49=\"vacances\",INDEX(Horaires!$H$3:$L$42,MATCH('Solde d''heure collaborateur'!BT$2,Horaires!$H$3:$H$40,0),4),IF(BT49=\"maladie\",INDEX(Horaires!$H$3:$L$42,MATCH('Solde d''heure collaborateur'!BT$2,Horaires!$H$3:$H$40,0),5),VLOOKUP(BS49,Horaires!$A$3:$E$60,5,)))","v":0.40624999999999994},null,{"$f":"INDEX(Planning!$22:$22,MATCH('Solde d''heure collaborateur'!$A49,Planning!$3:$3))","v":"X"},{"$f":"VLOOKUP(BW49,Horaires!$A$3:$E$49,2,)","v":"XXX"},{"$f":"IF(BX49=\"vacances\",INDEX(Horaires!$H$3:$L$42,MATCH('Solde d''heure collaborateur'!BX$2,Horaires!$H$3:$H$40,0),4),IF(BX49=\"maladie\",INDEX(Horaires!$H$3:$L$42,MATCH('Solde d''heure collaborateur'!BX$2,Horaires!$H$3:$H$40,0),5),VLOOKUP(BW49,Horaires!$A$3:$E$60,5,)))","v":0},null,{"$f":"INDEX(Planning!$23:$23,MATCH('Solde d''heure collaborateur'!$A49,Planning!$3:$3))","v":"Aca3"},{"$f":"VLOOKUP(CA49,Horaires!$A$3:$E$49,2,)","v":"Acacias"},{"$f":"IF(CB49=\"vacances\",INDEX(Horaires!$H$3:$L$42,MATCH('Solde d''heure collaborateur'!CB$2,Horaires!$H$3:$H$40,0),4),IF(CB49=\"maladie\",INDEX(Horaires!$H$3:$L$42,MATCH('Solde d''heure collaborateur'!CB$2,Horaires!$H$3:$H$40,0),5),VLOOKUP(CA49,Horaires!$A$3:$E$60,5,)))","v":0.40624999999999994},null,{"$f":"INDEX(Planning!$24:$24,MATCH('Solde d''heure collaborateur'!$A49,Planning!$3:$3))","v":"Vib3"},{"$f":"VLOOKUP(CE49,Horaires!$A$3:$E$49,2,)","v":"Vibert"},{"$f":"IF(CF49=\"vacances\",INDEX(Horaires!$H$3:$L$42,MATCH('Solde d''heure collaborateur'!CF$2,Horaires!$H$3:$H$40,0),4),IF(CF49=\"maladie\",INDEX(Horaires!$H$3:$L$42,MATCH('Solde d''heure collaborateur'!CF$2,Horaires!$H$3:$H$40,0),5),VLOOKUP(CE49,Horaires!$A$3:$E$60,5,)))","v":0.42708333333333331},null,{"$f":"INDEX(Planning!$25:$25,MATCH('Solde d''heure collaborateur'!$A49,Planning!$3:$3))","v":"X"},{"$f":"VLOOKUP(CI49,Horaires!$A$3:$E$49,2,)","v":"XXX"},{"$f":"IF(CJ49=\"vacances\",INDEX(Horaires!$H$3:$L$42,MATCH('Solde d''heure collaborateur'!CJ$2,Horaires!$H$3:$H$40,0),4),IF(CJ49=\"maladie\",INDEX(Horaires!$H$3:$L$42,MATCH('Solde d''heure collaborateur'!CJ$2,Horaires!$H$3:$H$40,0),5),VLOOKUP(CI49,Horaires!$A$3:$E$60,5,)))","v":0},null,{"$f":"INDEX(Planning!$26:$26,MATCH('Solde d''heure collaborateur'!$A49,Planning!$3:$3))","v":"R"},{"$f":"VLOOKUP(CM49,Horaires!$A$3:$E$49,2,)","v":"Congé"},{"$f":"IF(CN49=\"vacances\",INDEX(Horaires!$H$3:$L$42,MATCH('Solde d''heure collaborateur'!CN$2,Horaires!$H$3:$H$40,0),4),IF(CN49=\"maladie\",INDEX(Horaires!$H$3:$L$42,MATCH('Solde d''heure collaborateur'!CN$2,Horaires!$H$3:$H$40,0),5),VLOOKUP(CM49,Horaires!$A$3:$E$60,5,)))","v":0},null,{"$f":"INDEX(Planning!$27:$27,MATCH('Solde d''heure collaborateur'!$A49,Planning!$3:$3))","v":"Thon3"},{"$f":"VLOOKUP(CQ49,Horaires!$A$3:$E$49,2,)","v":"Thonex"},{"$f":"IF(CR49=\"vacances\",INDEX(Horaires!$H$3:$L$42,MATCH('Solde d''heure collaborateur'!CR$2,Horaires!$H$3:$H$40,0),4),IF(CR49=\"maladie\",INDEX(Horaires!$H$3:$L$42,MATCH('Solde d''heure collaborateur'!CR$2,Horaires!$H$3:$H$40,0),5),VLOOKUP(CQ49,Horaires!$A$3:$E$60,5,)))","v":0.40624999999999994},null,{"$f":"INDEX(Planning!$28:$28,MATCH('Solde d''heure collaborateur'!$A49,Planning!$3:$3))","v":"recup"},{"$f":"VLOOKUP(CU49,Horaires!$A$3:$E$49,2,)","v":"Récupération"},{"$f":"IF(CV49=\"vacances\",INDEX(Horaires!$H$3:$L$42,MATCH('Solde d''heure collaborateur'!CV$2,Horaires!$H$3:$H$40,0),4),IF(CV49=\"maladie\",INDEX(Horaires!$H$3:$L$42,MATCH('Solde d''heure collaborateur'!CV$2,Horaires!$H$3:$H$40,0),5),VLOOKUP(CU49,Horaires!$A$3:$E$60,5,)))","v":0},null,{"$f":"INDEX(Planning!$29:$29,MATCH('Solde d''heure collaborateur'!$A49,Planning!$3:$3))","v":"tour3"},{"$f":"VLOOKUP(CY49,Horaires!$A$3:$E$49,2,)","v":"Tourelle"},{"$f":"IF(CZ49=\"vacances\",INDEX(Horaires!$H$3:$L$42,MATCH('Solde d''heure collaborateur'!CZ$2,Horaires!$H$3:$H$40,0),4),IF(CZ49=\"maladie\",INDEX(Horaires!$H$3:$L$42,MATCH('Solde d''heure collaborateur'!CZ$2,Horaires!$H$3:$H$40,0),5),VLOOKUP(CY49,Horaires!$A$3:$E$60,5,)))","v":0.42708333333333331},null,{"$f":"INDEX(Planning!$30:$30,MATCH('Solde d''heure collaborateur'!$A49,Planning!$3:$3))","v":"X"},{"$f":"VLOOKUP(DC49,Horaires!$A$3:$E$49,2,)","v":"XXX"},{"$f":"IF(DD49=\"vacances\",INDEX(Horaires!$H$3:$L$42,MATCH('Solde d''heure collaborateur'!DD$2,Horaires!$H$3:$H$40,0),4),IF(DD49=\"maladie\",INDEX(Horaires!$H$3:$L$42,MATCH('Solde d''heure collaborateur'!DD$2,Horaires!$H$3:$H$40,0),5),VLOOKUP(DC49,Horaires!$A$3:$E$60,5,)))","v":0},null,{"$f":"INDEX(Planning!$31:$31,MATCH('Solde d''heure collaborateur'!$A49,Planning!$3:$3))","v":"X"},{"$f":"VLOOKUP(DG49,Horaires!$A$3:$E$49,2,)","v":"XXX"},{"$f":"IF(DH49=\"vacances\",INDEX(Horaires!$H$3:$L$42,MATCH('Solde d''heure collaborateur'!DH$2,Horaires!$H$3:$H$40,0),4),IF(DH49=\"maladie\",INDEX(Horaires!$H$3:$L$42,MATCH('Solde d''heure collaborateur'!DH$2,Horaires!$H$3:$H$40,0),5),VLOOKUP(DG49,Horaires!$A$3:$E$60,5,)))","v":0},null,{"$f":"INDEX(Planning!$32:$32,MATCH('Solde d''heure collaborateur'!$A49,Planning!$3:$3))","v":"X"},{"$f":"VLOOKUP(DK49,Horaires!$A$3:$E$49,2,)","v":"XXX"},{"$f":"IF(DL49=\"vacances\",INDEX(Horaires!$H$3:$L$42,MATCH('Solde d''heure collaborateur'!DL$2,Horaires!$H$3:$H$40,0),4),IF(DL49=\"maladie\",INDEX(Horaires!$H$3:$L$42,MATCH('Solde d''heure collaborateur'!DL$2,Horaires!$H$3:$H$40,0),5),VLOOKUP(DK49,Horaires!$A$3:$E$60,5,)))","v":0},null,{"$f":"INDEX(Planning!$33:$33,MATCH('Solde d''heure collaborateur'!$A49,Planning!$3:$3))","v":"X"},{"$f":"VLOOKUP(DO49,Horaires!$A$3:$E$49,2,)","v":"XXX"},{"$f":"IF(DP49=\"vacances\",INDEX(Horaires!$H$3:$L$42,MATCH('Solde d''heure collaborateur'!DP$2,Horaires!$H$3:$H$40,0),4),IF(DP49=\"maladie\",INDEX(Horaires!$H$3:$L$42,MATCH('Solde d''heure collaborateur'!DP$2,Horaires!$H$3:$H$40,0),5),VLOOKUP(DO49,Horaires!$A$3:$E$60,5,)))","v":0},null,{"$f":"INDEX(Planning!$34:$34,MATCH('Solde d''heure collaborateur'!$A49,Planning!$3:$3))","v":"X"},{"$f":"VLOOKUP(DS49,Horaires!$A$3:$E$49,2,)","v":"XXX"},{"$f":"IF(DT49=\"vacances\",INDEX(Horaires!$H$3:$L$42,MATCH('Solde d''heure collaborateur'!DT$2,Horaires!$H$3:$H$40,0),4),IF(DT49=\"maladie\",INDEX(Horaires!$H$3:$L$42,MATCH('Solde d''heure collaborateur'!DT$2,Horaires!$H$3:$H$40,0),5),VLOOKUP(DS49,Horaires!$A$3:$E$60,5,)))","v":0},null,{"$f":"INDEX(Planning!$35:$35,MATCH('Solde d''heure collaborateur'!$A49,Planning!$3:$3))","v":"X"},{"$f":"VLOOKUP(DW49,Horaires!$A$3:$E$49,2,)","v":"XXX"},{"$f":"IF(DX49=\"vacances\",INDEX(Horaires!$H$3:$L$42,MATCH('Solde d''heure collaborateur'!DX$2,Horaires!$H$3:$H$40,0),4),IF(DX49=\"maladie\",INDEX(Horaires!$H$3:$L$42,MATCH('Solde d''heure collaborateur'!DX$2,Horaires!$H$3:$H$40,0),5),VLOOKUP(DW49,Horaires!$A$3:$E$60,5,)))","v":0}]
[null,null,null,{"$f":"SUM(E50-INDEX(Horaires!$H$3:$L$37,MATCH('Solde d''heure collaborateur'!D$2,Horaires!$H$3:$H$37,0),2))","v":-9.75},{"$f":"SUM(E44:E49)*24","v":32.25},null,null,{"$f":"SUM(I50-INDEX(Horaires!$H$3:$L$37,MATCH('Solde d''heure collaborateur'!H$2,Horaires!$H$3:$H$37,0),2))","v":2},{"$f":"SUM(I44:I49)*24","v":44},null,null,{"$f":"SUM(M50-INDEX(Horaires!$H$3:$L$37,MATCH('Solde d''heure collaborateur'!L$2,Horaires!$H$3:$H$37,0),2))","v":0},{"$f":"SUM(M44:M49)*24","v":42},null,null,{"$f":"SUM(Q50-INDEX(Horaires!$H$3:$L$37,MATCH('Solde d''heure collaborateur'!P$2,Horaires!$H$3:$H$37,0),2))","v":3.5527136788005009E-15},{"$f":"SUM(Q44:Q49)*24","v":22.500000000000004},null,null,{"$f":"SUM(U50-INDEX(Horaires!$H$3:$L$37,MATCH('Solde d''heure collaborateur'!T$2,Horaires!$H$3:$H$37,0),2))","v":2},{"$f":"SUM(U44:U49)*24","v":44},null,null,{"$f":"SUM(Y50-INDEX(Horaires!$H$3:$L$37,MATCH('Solde d''heure collaborateur'!X$2,Horaires!$H$3:$H$37,0),2))","v":3.5527136788005009E-15},{"$f":"SUM(Y44:Y49)*24","v":22.500000000000004},null,null,{"$f":"SUM(AC50-INDEX(Horaires!$H$3:$L$37,MATCH('Solde d''heure collaborateur'!AB$2,Horaires!$H$3:$H$37,0),2))","v":-8.25},{"$f":"SUM(AC44:AC49)*24","v":33.75},null,null,{"$f":"SUM(AG50-INDEX(Horaires!$H$3:$L$37,MATCH('Solde d''heure collaborateur'!AF$2,Horaires!$H$3:$H$37,0),2))","v":2.5},{"$f":"SUM(AG44:AG49)*24","v":44.5},null,null,{"$f":"SUM(AK50-INDEX(Horaires!$H$3:$L$37,MATCH('Solde d''heure collaborateur'!AJ$2,Horaires!$H$3:$H$37,0),2))","v":1.5},{"$f":"SUM(AK44:AK49)*24","v":43.5},null,null,{"$f":"SUM(AO50-INDEX(Horaires!$H$3:$L$37,MATCH('Solde d''heure collaborateur'!AN$2,Horaires!$H$3:$H$37,0),2))","v":-8.75},{"$f":"SUM(AO44:AO49)*24","v":33.25},null,null,{"$f":"SUM(AS50-INDEX(Horaires!$H$3:$L$37,MATCH('Solde d''heure collaborateur'!AR$2,Horaires!$H$3:$H$37,0),2))","v":0},{"$f":"SUM(AS44:AS49)*24","v":33.25},null,null,{"$f":"SUM(AW50-INDEX(Horaires!$H$3:$L$37,MATCH('Solde d''heure collaborateur'!AV$2,Horaires!$H$3:$H$37,0),2))","v":0},{"$f":"SUM(AW44:AW49)*24","v":42},null,null,{"$f":"SUM(BA50-INDEX(Horaires!$H$3:$L$37,MATCH('Solde d''heure collaborateur'!AZ$2,Horaires!$H$3:$H$37,0),2))","v":0.5},{"$f":"SUM(BA44:BA49)*24","v":42.5},null,null,{"$f":"SUM(BE50-INDEX(Horaires!$H$3:$L$37,MATCH('Solde d''heure collaborateur'!BD$2,Horaires!$H$3:$H$37,0),2))","v":2},{"$f":"SUM(BE44:BE49)*24","v":44},null,null,{"$f":"SUM(BI50-INDEX(Horaires!$H$3:$L$37,MATCH('Solde d''heure collaborateur'!BH$2,Horaires!$H$3:$H$37,0),2))","v":1},{"$f":"SUM(BI44:BI49)*24","v":43},null,null,{"$f":"SUM(BM50-INDEX(Horaires!$H$3:$L$37,MATCH('Solde d''heure collaborateur'!BL$2,Horaires!$H$3:$H$37,0),2))","v":2.25},{"$f":"SUM(BM44:BM49)*24","v":44.25},null,null,{"$f":"SUM(BQ50-INDEX(Horaires!$H$3:$L$37,MATCH('Solde d''heure collaborateur'!BP$2,Horaires!$H$3:$H$37,0),2))","v":1.5},{"$f":"SUM(BQ44:BQ49)*24","v":43.5},null,null,{"$f":"SUM(BU50-INDEX(Horaires!$H$3:$L$37,MATCH('Solde d''heure collaborateur'!BT$2,Horaires!$H$3:$H$37,0),2))","v":1},{"$f":"SUM(BU44:BU49)*24","v":43},null,null,{"$f":"SUM(BY50-INDEX(Horaires!$H$3:$L$37,MATCH('Solde d''heure collaborateur'!BX$2,Horaires!$H$3:$H$37,0),2))","v":0},{"$f":"SUM(BY44:BY49)*24","v":21.5},null,null,{"$f":"SUM(CC50-INDEX(Horaires!$H$3:$L$37,MATCH('Solde d''heure collaborateur'!CB$2,Horaires!$H$3:$H$37,0),2))","v":2},{"$f":"SUM(CC44:CC49)*24","v":44},null,null,{"$f":"SUM(CG50-INDEX(Horaires!$H$3:$L$37,MATCH('Solde d''heure collaborateur'!CF$2,Horaires!$H$3:$H$37,0),2))","v":3},{"$f":"SUM(CG44:CG49)*24","v":45},null,null,{"$f":"SUM(CK50-INDEX(Horaires!$H$3:$L$37,MATCH('Solde d''heure collaborateur'!CJ$2,Horaires!$H$3:$H$37,0),2))","v":-42},{"$f":"SUM(CK44:CK49)*24","v":0},null,null,{"$f":"SUM(CO50-INDEX(Horaires!$H$3:$L$37,MATCH('Solde d''heure collaborateur'!CN$2,Horaires!$H$3:$H$37,0),2))","v":1.5},{"$f":"SUM(CO44:CO49)*24","v":43.5},null,null,{"$f":"SUM(CS50-INDEX(Horaires!$H$3:$L$37,MATCH('Solde d''heure collaborateur'!CR$2,Horaires!$H$3:$H$37,0),2))","v":1.5},{"$f":"SUM(CS44:CS49)*24","v":43.5},null,null,{"$f":"SUM(CW50-INDEX(Horaires!$H$3:$L$37,MATCH('Solde d''heure collaborateur'!CV$2,Horaires!$H$3:$H$37,0),2))","v":-19.499999999999996},{"$f":"SUM(CW44:CW49)*24","v":22.500000000000004},null,null,{"$f":"SUM(DA50-INDEX(Horaires!$H$3:$L$37,MATCH('Solde d''heure collaborateur'!CZ$2,Horaires!$H$3:$H$37,0),2))","v":22},{"$f":"SUM(DA44:DA49)*24","v":22},null,null,{"$f":"SUM(DE50-INDEX(Horaires!$H$3:$L$37,MATCH('Solde d''heure collaborateur'!DD$2,Horaires!$H$3:$H$37,0),2))","v":{"$error":"#N/A"}},{"$f":"SUM(DE44:DE49)*24","v":0},null,null,{"$f":"SUM(DI50-INDEX(Horaires!$H$3:$L$37,MATCH('Solde d''heure collaborateur'!DH$2,Horaires!$H$3:$H$37,0),2))","v":0},{"$f":"SUM(DI44:DI49)*24","v":0},null,null,{"$f":"SUM(DM50-INDEX(Horaires!$H$3:$L$37,MATCH('Solde d''heure collaborateur'!DL$2,Horaires!$H$3:$H$37,0),2))","v":0},{"$f":"SUM(DM44:DM49)*24","v":0},null,null,{"$f":"SUM(DQ50-INDEX(Horaires!$H$3:$L$37,MATCH('Solde d''heure collaborateur'!DP$2,Horaires!$H$3:$H$37,0),2))","v":0},{"$f":"SUM(DQ44:DQ49)*24","v":0},null,null,{"$f":"SUM(DU50-INDEX(Horaires!$H$3:$L$37,MATCH('Solde d''heure collaborateur'!DT$2,Horaires!$H$3:$H$37,0),2))","v":0},{"$f":"SUM(DU44:DU49)*24","v":0},null,null,{"$f":"SUM(DY50-INDEX(Horaires!$H$3:$L$37,MATCH('Solde d''heure collaborateur'!DX$2,Horaires!$H$3:$H$37,0),2))","v":0},{"$f":"SUM(DY44:DY49)*24","v":0}]
[]
[{"$f":"A49+2","v":"2013-12-16"},null,{"$f":"INDEX(Planning!$4:$4,MATCH('Solde d''heure collaborateur'!A52,Planning!$3:$3,0))","v":"R"},{"$f":"VLOOKUP(C52,Horaires!$A$3:$E$49,2,)","v":"Congé"},{"$f":"IF(D52=\"vacances\",INDEX(Horaires!$H$3:$L$42,MATCH('Solde d''heure collaborateur'!D$2,Horaires!$H$3:$H$40,0),4),IF(D52=\"maladie\",INDEX(Horaires!$H$3:$L$42,MATCH('Solde d''heure collaborateur'!D$2,Horaires!$H$3:$H$40,0),5),VLOOKUP(C52,Horaires!$A$3:$E$60,5,)))","v":0},null,{"$f":"INDEX(Planning!$5:$5,MATCH('Solde d''heure collaborateur'!A52,Planning!$3:$3))","v":"R"},{"$f":"VLOOKUP(G52,Horaires!$A$3:$E$49,2,)","v":"Congé"},{"$f":"IF(H52=\"vacances\",INDEX(Horaires!$H$3:$L$42,MATCH('Solde d''heure collaborateur'!H$2,Horaires!$H$3:$H$40,0),4),IF(H52=\"maladie\",INDEX(Horaires!$H$3:$L$42,MATCH('Solde d''heure collaborateur'!H$2,Horaires!$H$3:$H$40,0),5),VLOOKUP(G52,Horaires!$A$3:$E$60,5,)))","v":0},null,{"$f":"INDEX(Planning!$6:$6,MATCH('Solde d''heure collaborateur'!A52,Planning!$3:$3))","v":"M"},{"$f":"VLOOKUP(K52,Horaires!$A$3:$E$49,2,)","v":"Maladie"},{"$f":"IF(L52=\"vacances\",INDEX(Horaires!$H$3:$L$42,MATCH('Solde d''heure collaborateur'!L$2,Horaires!$H$3:$H$40,0),4),IF(L52=\"maladie\",INDEX(Horaires!$H$3:$L$42,MATCH('Solde d''heure collaborateur'!L$2,Horaires!$H$3:$H$40,0),5),VLOOKUP(K52,Horaires!$A$3:$E$60,5,)))","v":0.4375},null,{"$f":"INDEX(Planning!$7:$7,MATCH('Solde d''heure collaborateur'!$A52,Planning!$3:$3))","v":"Vib1"},{"$f":"VLOOKUP(O52,Horaires!$A$3:$E$49,2,)","v":"Vibert"},{"$f":"IF(P52=\"vacances\",INDEX(Horaires!$H$3:$L$42,MATCH('Solde d''heure collaborateur'!P$2,Horaires!$H$3:$H$40,0),4),IF(P52=\"maladie\",INDEX(Horaires!$H$3:$L$42,MATCH('Solde d''heure collaborateur'!P$2,Horaires!$H$3:$H$40,0),5),VLOOKUP(O52,Horaires!$A$3:$E$60,5,)))","v":0.46875000000000006},null,{"$f":"INDEX(Planning!$8:$8,MATCH('Solde d''heure collaborateur'!$A52,Planning!$3:$3))","v":"Onex1"},{"$f":"VLOOKUP(S52,Horaires!$A$3:$E$49,2,)","v":"Onex"},{"$f":"IF(T52=\"vacances\",INDEX(Horaires!$H$3:$L$42,MATCH('Solde d''heure collaborateur'!T$2,Horaires!$H$3:$H$40,0),4),IF(T52=\"maladie\",INDEX(Horaires!$H$3:$L$42,MATCH('Solde d''heure collaborateur'!T$2,Horaires!$H$3:$H$40,0),5),VLOOKUP(S52,Horaires!$A$3:$E$60,5,)))","v":0.46875000000000006},null,{"$f":"INDEX(Planning!$9:$9,MATCH('Solde d''heure collaborateur'!$A52,Planning!$3:$3))","v":"Onex1"},{"$f":"VLOOKUP(W52,Horaires!$A$3:$E$49,2,)","v":"Onex"},{"$f":"IF(X52=\"vacances\",INDEX(Horaires!$H$3:$L$42,MATCH('Solde d''heure collaborateur'!X$2,Horaires!$H$3:$H$40,0),4),IF(X52=\"maladie\",INDEX(Horaires!$H$3:$L$42,MATCH('Solde d''heure collaborateur'!X$2,Horaires!$H$3:$H$40,0),5),VLOOKUP(W52,Horaires!$A$3:$E$60,5,)))","v":0.46875000000000006},null,{"$f":"INDEX(Planning!$10:$10,MATCH('Solde d''heure collaborateur'!$A52,Planning!$3:$3))","v":"R"},{"$f":"VLOOKUP(AA52,Horaires!$A$3:$E$49,2,)","v":"Congé"},{"$f":"IF(AB52=\"vacances\",INDEX(Horaires!$H$3:$L$42,MATCH('Solde d''heure collaborateur'!AB$2,Horaires!$H$3:$H$40,0),4),IF(AB52=\"maladie\",INDEX(Horaires!$H$3:$L$42,MATCH('Solde d''heure collaborateur'!AB$2,Horaires!$H$3:$H$40,0),5),VLOOKUP(AA52,Horaires!$A$3:$E$60,5,)))","v":0},null,{"$f":"INDEX(Planning!$11:$11,MATCH('Solde d''heure collaborateur'!$A52,Planning!$3:$3))","v":"R"},{"$f":"VLOOKUP(AE52,Horaires!$A$3:$E$49,2,)","v":"Congé"},{"$f":"IF(AF52=\"vacances\",INDEX(Horaires!$H$3:$L$42,MATCH('Solde d''heure collaborateur'!AF$2,Horaires!$H$3:$H$40,0),4),IF(AF52=\"maladie\",INDEX(Horaires!$H$3:$L$42,MATCH('Solde d''heure collaborateur'!AF$2,Horaires!$H$3:$H$40,0),5),VLOOKUP(AE52,Horaires!$A$3:$E$60,5,)))","v":0},null,{"$f":"INDEX(Planning!$12:$12,MATCH('Solde d''heure collaborateur'!$A52,Planning!$3:$3))","v":"Thon1"},{"$f":"VLOOKUP(AI52,Horaires!$A$3:$E$49,2,)","v":"Thonex"},{"$f":"IF(AJ52=\"vacances\",INDEX(Horaires!$H$3:$L$42,MATCH('Solde d''heure collaborateur'!AJ$2,Horaires!$H$3:$H$40,0),4),IF(AJ52=\"maladie\",INDEX(Horaires!$H$3:$L$42,MATCH('Solde d''heure collaborateur'!AJ$2,Horaires!$H$3:$H$40,0),5),VLOOKUP(AI52,Horaires!$A$3:$E$60,5,)))","v":0.44791666666666669},null,{"$f":"INDEX(Planning!$13:$13,MATCH('Solde d''heure collaborateur'!$A52,Planning!$3:$3))","v":"R"},{"$f":"VLOOKUP(AM52,Horaires!$A$3:$E$49,2,)","v":"Congé"},{"$f":"IF(AN52=\"vacances\",INDEX(Horaires!$H$3:$L$42,MATCH('Solde d''heure collaborateur'!AN$2,Horaires!$H$3:$H$40,0),4),IF(AN52=\"maladie\",INDEX(Horaires!$H$3:$L$42,MATCH('Solde d''heure collaborateur'!AN$2,Horaires!$H$3:$H$40,0),5),VLOOKUP(AM52,Horaires!$A$3:$E$60,5,)))","v":0},null,{"$f":"INDEX(Planning!$14:$14,MATCH('Solde d''heure collaborateur'!$A52,Planning!$3:$3))","v":"M"},{"$f":"VLOOKUP(AQ52,Horaires!$A$3:$E$49,2,)","v":"Maladie"},{"$f":"IF(AR52=\"vacances\",INDEX(Horaires!$H$3:$L$42,MATCH('Solde d''heure collaborateur'!AR$2,Horaires!$H$3:$H$40,0),4),IF(AR52=\"maladie\",INDEX(Horaires!$H$3:$L$42,MATCH('Solde d''heure collaborateur'!AR$2,Horaires!$H$3:$H$40,0),5),VLOOKUP(AQ52,Horaires!$A$3:$E$60,5,)))","v":0.46180555555555558},null,{"$f":"INDEX(Planning!$15:$15,MATCH('Solde d''heure collaborateur'!$A52,Planning!$3:$3))","v":"Nyon1"},{"$f":"VLOOKUP(AU52,Horaires!$A$3:$E$49,2,)","v":"Nyon"},{"$f":"IF(AV52=\"vacances\",INDEX(Horaires!$H$3:$L$42,MATCH('Solde d''heure collaborateur'!AV$2,Horaires!$H$3:$H$40,0),4),IF(AV52=\"maladie\",INDEX(Horaires!$H$3:$L$42,MATCH('Solde d''heure collaborateur'!AV$2,Horaires!$H$3:$H$40,0),5),VLOOKUP(AU52,Horaires!$A$3:$E$60,5,)))","v":0.44791666666666669},null,{"$f":"INDEX(Planning!$16:$16,MATCH('Solde d''heure collaborateur'!$A52,Planning!$3:$3))","v":"Vid1"},{"$f":"VLOOKUP(AY52,Horaires!$A$3:$E$49,2,)","v":"Vidollet"},{"$f":"IF(AZ52=\"vacances\",INDEX(Horaires!$H$3:$L$42,MATCH('Solde d''heure collaborateur'!AZ$2,Horaires!$H$3:$H$40,0),4),IF(AZ52=\"maladie\",INDEX(Horaires!$H$3:$L$42,MATCH('Solde d''heure collaborateur'!AZ$2,Horaires!$H$3:$H$40,0),5),VLOOKUP(AY52,Horaires!$A$3:$E$60,5,)))","v":0.44791666666666669},null,{"$f":"INDEX(Planning!$17:$17,MATCH('Solde d''heure collaborateur'!$A52,Planning!$3:$3))","v":"nav1"},{"$f":"VLOOKUP(BC52,Horaires!$A$3:$E$49,2,)","v":"Navigation"},{"$f":"IF(BD52=\"vacances\",INDEX(Horaires!$H$3:$L$42,MATCH('Solde d''heure collaborateur'!BD$2,Horaires!$H$3:$H$40,0),4),IF(BD52=\"maladie\",INDEX(Horaires!$H$3:$L$42,MATCH('Solde d''heure collaborateur'!BD$2,Horaires!$H$3:$H$40,0),5),VLOOKUP(BC52,Horaires!$A$3:$E$60,5,)))","v":0.44791666666666669},null,{"$f":"INDEX(Planning!$18:$18,MATCH('Solde d''heure collaborateur'!$A52,Planning!$3:$3))","v":"pom1"},{"$f":"VLOOKUP(BG52,Horaires!$A$3:$E$49,2,)","v":"Pommier"},{"$f":"IF(BH52=\"vacances\",INDEX(Horaires!$H$3:$L$42,MATCH('Solde d''heure collaborateur'!BH$2,Horaires!$H$3:$H$40,0),4),IF(BH52=\"maladie\",INDEX(Horaires!$H$3:$L$42,MATCH('Solde d''heure collaborateur'!BH$2,Horaires!$H$3:$H$40,0),5),VLOOKUP(BG52,Horaires!$A$3:$E$60,5,)))","v":0.44791666666666669},null,{"$f":"INDEX(Planning!$19:$19,MATCH('Solde d''heure collaborateur'!$A52,Planning!$3:$3))","v":"R"},{"$f":"VLOOKUP(BK52,Horaires!$A$3:$E$49,2,)","v":"Congé"},{"$f":"IF(BL52=\"vacances\",INDEX(Horaires!$H$3:$L$42,MATCH('Solde d''heure collaborateur'!BL$2,Horaires!$H$3:$H$40,0),4),IF(BL52=\"maladie\",INDEX(Horaires!$H$3:$L$42,MATCH('Solde d''heure collaborateur'!BL$2,Horaires!$H$3:$H$40,0),5),VLOOKUP(BK52,Horaires!$A$3:$E$60,5,)))","v":0},null,{"$f":"INDEX(Planning!$20:$20,MATCH('Solde d''heure collaborateur'!$A52,Planning!$3:$3))","v":"Aca1"},{"$f":"VLOOKUP(BO52,Horaires!$A$3:$E$49,2,)","v":"Acacias"},{"$f":"IF(BP52=\"vacances\",INDEX(Horaires!$H$3:$L$42,MATCH('Solde d''heure collaborateur'!BP$2,Horaires!$H$3:$H$40,0),4),IF(BP52=\"maladie\",INDEX(Horaires!$H$3:$L$42,MATCH('Solde d''heure collaborateur'!BP$2,Horaires!$H$3:$H$40,0),5),VLOOKUP(BO52,Horaires!$A$3:$E$60,5,)))","v":0.44791666666666669},null,{"$f":"INDEX(Planning!$21:$21,MATCH('Solde d''heure collaborateur'!$A52,Planning!$3:$3))","v":"R"},{"$f":"VLOOKUP(BS52,Horaires!$A$3:$E$49,2,)","v":"Congé"},{"$f":"IF(BT52=\"vacances\",INDEX(Horaires!$H$3:$L$42,MATCH('Solde d''heure collaborateur'!BT$2,Horaires!$H$3:$H$40,0),4),IF(BT52=\"maladie\",INDEX(Horaires!$H$3:$L$42,MATCH('Solde d''heure collaborateur'!BT$2,Horaires!$H$3:$H$40,0),5),VLOOKUP(BS52,Horaires!$A$3:$E$60,5,)))","v":0},null,{"$f":"INDEX(Planning!$22:$22,MATCH('Solde d''heure collaborateur'!$A52,Planning!$3:$3))","v":"Ves1"},{"$f":"VLOOKUP(BW52,Horaires!$A$3:$E$49,2,)","v":"Vesenaz"},{"$f":"IF(BX52=\"vacances\",INDEX(Horaires!$H$3:$L$42,MATCH('Solde d''heure collaborateur'!BX$2,Horaires!$H$3:$H$40,0),4),IF(BX52=\"maladie\",INDEX(Horaires!$H$3:$L$42,MATCH('Solde d''heure collaborateur'!BX$2,Horaires!$H$3:$H$40,0),5),VLOOKUP(BW52,Horaires!$A$3:$E$60,5,)))","v":0.44791666666666669},null,{"$f":"INDEX(Planning!$23:$23,MATCH('Solde d''heure collaborateur'!$A52,Planning!$3:$3))","v":"Plo1"},{"$f":"VLOOKUP(CA52,Horaires!$A$3:$E$49,2,)","v":"Plan les Ouates"},{"$f":"IF(CB52=\"vacances\",INDEX(Horaires!$H$3:$L$42,MATCH('Solde d''heure collaborateur'!CB$2,Horaires!$H$3:$H$40,0),4),IF(CB52=\"maladie\",INDEX(Horaires!$H$3:$L$42,MATCH('Solde d''heure collaborateur'!CB$2,Horaires!$H$3:$H$40,0),5),VLOOKUP(CA52,Horaires!$A$3:$E$60,5,)))","v":0.46875000000000006},null,{"$f":"INDEX(Planning!$24:$24,MATCH('Solde d''heure collaborateur'!$A52,Planning!$3:$3))","v":"tour1"},{"$f":"VLOOKUP(CE52,Horaires!$A$3:$E$49,2,)","v":"Tourelle"},{"$f":"IF(CF52=\"vacances\",INDEX(Horaires!$H$3:$L$42,MATCH('Solde d''heure collaborateur'!CF$2,Horaires!$H$3:$H$40,0),4),IF(CF52=\"maladie\",INDEX(Horaires!$H$3:$L$42,MATCH('Solde d''heure collaborateur'!CF$2,Horaires!$H$3:$H$40,0),5),VLOOKUP(CE52,Horaires!$A$3:$E$60,5,)))","v":0.46875000000000006},null,{"$f":"INDEX(Planning!$25:$25,MATCH('Solde d''heure collaborateur'!$A52,Planning!$3:$3))","v":"X"},{"$f":"VLOOKUP(CI52,Horaires!$A$3:$E$49,2,)","v":"XXX"},{"$f":"IF(CJ52=\"vacances\",INDEX(Horaires!$H$3:$L$42,MATCH('Solde d''heure collaborateur'!CJ$2,Horaires!$H$3:$H$40,0),4),IF(CJ52=\"maladie\",INDEX(Horaires!$H$3:$L$42,MATCH('Solde d''heure collaborateur'!CJ$2,Horaires!$H$3:$H$40,0),5),VLOOKUP(CI52,Horaires!$A$3:$E$60,5,)))","v":0},null,{"$f":"INDEX(Planning!$26:$26,MATCH('Solde d''heure collaborateur'!$A52,Planning!$3:$3))","v":"R"},{"$f":"VLOOKUP(CM52,Horaires!$A$3:$E$49,2,)","v":"Congé"},{"$f":"IF(CN52=\"vacances\",INDEX(Horaires!$H$3:$L$42,MATCH('Solde d''heure collaborateur'!CN$2,Horaires!$H$3:$H$40,0),4),IF(CN52=\"maladie\",INDEX(Horaires!$H$3:$L$42,MATCH('Solde d''heure collaborateur'!CN$2,Horaires!$H$3:$H$40,0),5),VLOOKUP(CM52,Horaires!$A$3:$E$60,5,)))","v":0},null,{"$f":"INDEX(Planning!$27:$27,MATCH('Solde d''heure collaborateur'!$A52,Planning!$3:$3))","v":"Vib1"},{"$f":"VLOOKUP(CQ52,Horaires!$A$3:$E$49,2,)","v":"Vibert"},{"$f":"IF(CR52=\"vacances\",INDEX(Horaires!$H$3:$L$42,MATCH('Solde d''heure collaborateur'!CR$2,Horaires!$H$3:$H$40,0),4),IF(CR52=\"maladie\",INDEX(Horaires!$H$3:$L$42,MATCH('Solde d''heure collaborateur'!CR$2,Horaires!$H$3:$H$40,0),5),VLOOKUP(CQ52,Horaires!$A$3:$E$60,5,)))","v":0.46875000000000006},null,{"$f":"INDEX(Planning!$28:$28,MATCH('Solde d''heure collaborateur'!$A52,Planning!$3:$3))","v":"R"},{"$f":"VLOOKUP(CU52,Horaires!$A$3:$E$49,2,)","v":"Congé"},{"$f":"IF(CV52=\"vacances\",INDEX(Horaires!$H$3:$L$42,MATCH('Solde d''heure collaborateur'!CV$2,Horaires!$H$3:$H$40,0),4),IF(CV52=\"maladie\",INDEX(Horaires!$H$3:$L$42,MATCH('Solde d''heure collaborateur'!CV$2,Horaires!$H$3:$H$40,0),5),VLOOKUP(CU52,Horaires!$A$3:$E$60,5,)))","v":0},null,{"$f":"INDEX(Planning!$29:$29,MATCH('Solde d''heure collaborateur'!$A52,Planning!$3:$3))","v":"X"},{"$f":"VLOOKUP(CY52,Horaires!$A$3:$E$49,2,)","v":"XXX"},{"$f":"IF(CZ52=\"vacances\",INDEX(Horaires!$H$3:$L$42,MATCH('Solde d''heure collaborateur'!CZ$2,Horaires!$H$3:$H$40,0),4),IF(CZ52=\"maladie\",INDEX(Horaires!$H$3:$L$42,MATCH('Solde d''heure collaborateur'!CZ$2,Horaires!$H$3:$H$40,0),5),VLOOKUP(CY52,Horaires!$A$3:$E$60,5,)))","v":0},null,{"$f":"INDEX(Planning!$30:$30,MATCH('Solde d''heure collaborateur'!$A52,Planning!$3:$3))","v":"X"},{"$f":"VLOOKUP(DC52,Horaires!$A$3:$E$49,2,)","v":"XXX"},{"$f":"IF(DD52=\"vacances\",INDEX(Horaires!$H$3:$L$42,MATCH('Solde d''heure collaborateur'!DD$2,Horaires!$H$3:$H$40,0),4),IF(DD52=\"maladie\",INDEX(Horaires!$H$3:$L$42,MATCH('Solde d''heure collaborateur'!DD$2,Horaires!$H$3:$H$40,0),5),VLOOKUP(DC52,Horaires!$A$3:$E$60,5,)))","v":0},null,{"$f":"INDEX(Planning!$31:$31,MATCH('Solde d''heure collaborateur'!$A52,Planning!$3:$3))","v":"X"},{"$f":"VLOOKUP(DG52,Horaires!$A$3:$E$49,2,)","v":"XXX"},{"$f":"IF(DH52=\"vacances\",INDEX(Horaires!$H$3:$L$42,MATCH('Solde d''heure collaborateur'!DH$2,Horaires!$H$3:$H$40,0),4),IF(DH52=\"maladie\",INDEX(Horaires!$H$3:$L$42,MATCH('Solde d''heure collaborateur'!DH$2,Horaires!$H$3:$H$40,0),5),VLOOKUP(DG52,Horaires!$A$3:$E$60,5,)))","v":0},null,{"$f":"INDEX(Planning!$32:$32,MATCH('Solde d''heure collaborateur'!$A52,Planning!$3:$3))","v":"X"},{"$f":"VLOOKUP(DK52,Horaires!$A$3:$E$49,2,)","v":"XXX"},{"$f":"IF(DL52=\"vacances\",INDEX(Horaires!$H$3:$L$42,MATCH('Solde d''heure collaborateur'!DL$2,Horaires!$H$3:$H$40,0),4),IF(DL52=\"maladie\",INDEX(Horaires!$H$3:$L$42,MATCH('Solde d''heure collaborateur'!DL$2,Horaires!$H$3:$H$40,0),5),VLOOKUP(DK52,Horaires!$A$3:$E$60,5,)))","v":0},null,{"$f":"INDEX(Planning!$33:$33,MATCH('Solde d''heure collaborateur'!$A52,Planning!$3:$3))","v":"X"},{"$f":"VLOOKUP(DO52,Horaires!$A$3:$E$49,2,)","v":"XXX"},{"$f":"IF(DP52=\"vacances\",INDEX(Horaires!$H$3:$L$42,MATCH('Solde d''heure collaborateur'!DP$2,Horaires!$H$3:$H$40,0),4),IF(DP52=\"maladie\",INDEX(Horaires!$H$3:$L$42,MATCH('Solde d''heure collaborateur'!DP$2,Horaires!$H$3:$H$40,0),5),VLOOKUP(DO52,Horaires!$A$3:$E$60,5,)))","v":0},null,{"$f":"INDEX(Planning!$34:$34,MATCH('Solde d''heure collaborateur'!$A52,Planning!$3:$3))","v":"X"},{"$f":"VLOOKUP(DS52,Horaires!$A$3:$E$49,2,)","v":"XXX"},{"$f":"IF(DT52=\"vacances\",INDEX(Horaires!$H$3:$L$42,MATCH('Solde d''heure collaborateur'!DT$2,Horaires!$H$3:$H$40,0),4),IF(DT52=\"maladie\",INDEX(Horaires!$H$3:$L$42,MATCH('Solde d''heure collaborateur'!DT$2,Horaires!$H$3:$H$40,0),5),VLOOKUP(DS52,Horaires!$A$3:$E$60,5,)))","v":0},null,{"$f":"INDEX(Planning!$35:$35,MATCH('Solde d''heure collaborateur'!$A52,Planning!$3:$3))","v":"X"},{"$f":"VLOOKUP(DW52,Horaires!$A$3:$E$49,2,)","v":"XXX"},{"$f":"IF(DX52=\"vacances\",INDEX(Horaires!$H$3:$L$42,MATCH('Solde d''heure collaborateur'!DX$2,Horaires!$H$3:$H$40,0),4),IF(DX52=\"maladie\",INDEX(Horaires!$H$3:$L$42,MATCH('Solde d''heure collaborateur'!DX$2,Horaires!$H$3:$H$40,0),5),VLOOKUP(DW52,Horaires!$A$3:$E$60,5,)))","v":0}]
[{"$f":"A52+1","v":"2013-12-17"},null,{"$f":"INDEX(Planning!$4:$4,MATCH('Solde d''heure collaborateur'!A53,Planning!$3:$3,0))","v":"R"},{"$f":"VLOOKUP(C53,Horaires!$A$3:$E$49,2,)","v":"Congé"},{"$f":"IF(D53=\"vacances\",INDEX(Horaires!$H$3:$L$42,MATCH('Solde d''heure collaborateur'!D$2,Horaires!$H$3:$H$40,0),4),IF(D53=\"maladie\",INDEX(Horaires!$H$3:$L$42,MATCH('Solde d''heure collaborateur'!D$2,Horaires!$H$3:$H$40,0),5),VLOOKUP(C53,Horaires!$A$3:$E$60,5,)))","v":0},null,{"$f":"INDEX(Planning!$5:$5,MATCH('Solde d''heure collaborateur'!A53,Planning!$3:$3))","v":"Pom1"},{"$f":"VLOOKUP(G53,Horaires!$A$3:$E$49,2,)","v":"Pommier"},{"$f":"IF(H53=\"vacances\",INDEX(Horaires!$H$3:$L$42,MATCH('Solde d''heure collaborateur'!H$2,Horaires!$H$3:$H$40,0),4),IF(H53=\"maladie\",INDEX(Horaires!$H$3:$L$42,MATCH('Solde d''heure collaborateur'!H$2,Horaires!$H$3:$H$40,0),5),VLOOKUP(G53,Horaires!$A$3:$E$60,5,)))","v":0.44791666666666669},null,{"$f":"INDEX(Planning!$6:$6,MATCH('Solde d''heure collaborateur'!A53,Planning!$3:$3))","v":"M"},{"$f":"VLOOKUP(K53,Horaires!$A$3:$E$49,2,)","v":"Maladie"},{"$f":"IF(L53=\"vacances\",INDEX(Horaires!$H$3:$L$42,MATCH('Solde d''heure collaborateur'!L$2,Horaires!$H$3:$H$40,0),4),IF(L53=\"maladie\",INDEX(Horaires!$H$3:$L$42,MATCH('Solde d''heure collaborateur'!L$2,Horaires!$H$3:$H$40,0),5),VLOOKUP(K53,Horaires!$A$3:$E$60,5,)))","v":0.4375},null,{"$f":"INDEX(Planning!$7:$7,MATCH('Solde d''heure collaborateur'!$A53,Planning!$3:$3))","v":"Vib1"},{"$f":"VLOOKUP(O53,Horaires!$A$3:$E$49,2,)","v":"Vibert"},{"$f":"IF(P53=\"vacances\",INDEX(Horaires!$H$3:$L$42,MATCH('Solde d''heure collaborateur'!P$2,Horaires!$H$3:$H$40,0),4),IF(P53=\"maladie\",INDEX(Horaires!$H$3:$L$42,MATCH('Solde d''heure collaborateur'!P$2,Horaires!$H$3:$H$40,0),5),VLOOKUP(O53,Horaires!$A$3:$E$60,5,)))","v":0.46875000000000006},null,{"$f":"INDEX(Planning!$8:$8,MATCH('Solde d''heure collaborateur'!$A53,Planning!$3:$3))","v":"Onex1"},{"$f":"VLOOKUP(S53,Horaires!$A$3:$E$49,2,)","v":"Onex"},{"$f":"IF(T53=\"vacances\",INDEX(Horaires!$H$3:$L$42,MATCH('Solde d''heure collaborateur'!T$2,Horaires!$H$3:$H$40,0),4),IF(T53=\"maladie\",INDEX(Horaires!$H$3:$L$42,MATCH('Solde d''heure collaborateur'!T$2,Horaires!$H$3:$H$40,0),5),VLOOKUP(S53,Horaires!$A$3:$E$60,5,)))","v":0.46875000000000006},null,{"$f":"INDEX(Planning!$9:$9,MATCH('Solde d''heure collaborateur'!$A53,Planning!$3:$3))","v":"X"},{"$f":"VLOOKUP(W53,Horaires!$A$3:$E$49,2,)","v":"XXX"},{"$f":"IF(X53=\"vacances\",INDEX(Horaires!$H$3:$L$42,MATCH('Solde d''heure collaborateur'!X$2,Horaires!$H$3:$H$40,0),4),IF(X53=\"maladie\",INDEX(Horaires!$H$3:$L$42,MATCH('Solde d''heure collaborateur'!X$2,Horaires!$H$3:$H$40,0),5),VLOOKUP(W53,Horaires!$A$3:$E$60,5,)))","v":0},null,{"$f":"INDEX(Planning!$10:$10,MATCH('Solde d''heure collaborateur'!$A53,Planning!$3:$3))","v":"R"},{"$f":"VLOOKUP(AA53,Horaires!$A$3:$E$49,2,)","v":"Congé"},{"$f":"IF(AB53=\"vacances\",INDEX(Horaires!$H$3:$L$42,MATCH('Solde d''heure collaborateur'!AB$2,Horaires!$H$3:$H$40,0),4),IF(AB53=\"maladie\",INDEX(Horaires!$H$3:$L$42,MATCH('Solde d''heure collaborateur'!AB$2,Horaires!$H$3:$H$40,0),5),VLOOKUP(AA53,Horaires!$A$3:$E$60,5,)))","v":0},null,{"$f":"INDEX(Planning!$11:$11,MATCH('Solde d''heure collaborateur'!$A53,Planning!$3:$3))","v":"Plo1"},{"$f":"VLOOKUP(AE53,Horaires!$A$3:$E$49,2,)","v":"Plan les Ouates"},{"$f":"IF(AF53=\"vacances\",INDEX(Horaires!$H$3:$L$42,MATCH('Solde d''heure collaborateur'!AF$2,Horaires!$H$3:$H$40,0),4),IF(AF53=\"maladie\",INDEX(Horaires!$H$3:$L$42,MATCH('Solde d''heure collaborateur'!AF$2,Horaires!$H$3:$H$40,0),5),VLOOKUP(AE53,Horaires!$A$3:$E$60,5,)))","v":0.46875000000000006},null,{"$f":"INDEX(Planning!$12:$12,MATCH('Solde d''heure collaborateur'!$A53,Planning!$3:$3))","v":"Thon1"},{"$f":"VLOOKUP(AI53,Horaires!$A$3:$E$49,2,)","v":"Thonex"},{"$f":"IF(AJ53=\"vacances\",INDEX(Horaires!$H$3:$L$42,MATCH('Solde d''heure collaborateur'!AJ$2,Horaires!$H$3:$H$40,0),4),IF(AJ53=\"maladie\",INDEX(Horaires!$H$3:$L$42,MATCH('Solde d''heure collaborateur'!AJ$2,Horaires!$H$3:$H$40,0),5),VLOOKUP(AI53,Horaires!$A$3:$E$60,5,)))","v":0.44791666666666669},null,{"$f":"INDEX(Planning!$13:$13,MATCH('Solde d''heure collaborateur'!$A53,Planning!$3:$3))","v":"R"},{"$f":"VLOOKUP(AM53,Horaires!$A$3:$E$49,2,)","v":"Congé"},{"$f":"IF(AN53=\"vacances\",INDEX(Horaires!$H$3:$L$42,MATCH('Solde d''heure collaborateur'!AN$2,Horaires!$H$3:$H$40,0),4),IF(AN53=\"maladie\",INDEX(Horaires!$H$3:$L$42,MATCH('Solde d''heure collaborateur'!AN$2,Horaires!$H$3:$H$40,0),5),VLOOKUP(AM53,Horaires!$A$3:$E$60,5,)))","v":0},null,{"$f":"INDEX(Planning!$14:$14,MATCH('Solde d''heure collaborateur'!$A53,Planning!$3:$3))","v":"X"},{"$f":"VLOOKUP(AQ53,Horaires!$A$3:$E$49,2,)","v":"XXX"},{"$f":"IF(AR53=\"vacances\",INDEX(Horaires!$H$3:$L$42,MATCH('Solde d''heure collaborateur'!AR$2,Horaires!$H$3:$H$40,0),4),IF(AR53=\"maladie\",INDEX(Horaires!$H$3:$L$42,MATCH('Solde d''heure collaborateur'!AR$2,Horaires!$H$3:$H$40,0),5),VLOOKUP(AQ53,Horaires!$A$3:$E$60,5,)))","v":0},null,{"$f":"INDEX(Planning!$15:$15,MATCH('Solde d''heure collaborateur'!$A53,Planning!$3:$3))","v":"Nyon1"},{"$f":"VLOOKUP(AU53,Horaires!$A$3:$E$49,2,)","v":"Nyon"},{"$f":"IF(AV53=\"vacances\",INDEX(Horaires!$H$3:$L$42,MATCH('Solde d''heure collaborateur'!AV$2,Horaires!$H$3:$H$40,0),4),IF(AV53=\"maladie\",INDEX(Horaires!$H$3:$L$42,MATCH('Solde d''heure collaborateur'!AV$2,Horaires!$H$3:$H$40,0),5),VLOOKUP(AU53,Horaires!$A$3:$E$60,5,)))","v":0.44791666666666669},null,{"$f":"INDEX(Planning!$16:$16,MATCH('Solde d''heure collaborateur'!$A53,Planning!$3:$3))","v":"Vid1"},{"$f":"VLOOKUP(AY53,Horaires!$A$3:$E$49,2,)","v":"Vidollet"},{"$f":"IF(AZ53=\"vacances\",INDEX(Horaires!$H$3:$L$42,MATCH('Solde d''heure collaborateur'!AZ$2,Horaires!$H$3:$H$40,0),4),IF(AZ53=\"maladie\",INDEX(Horaires!$H$3:$L$42,MATCH('Solde d''heure collaborateur'!AZ$2,Horaires!$H$3:$H$40,0),5),VLOOKUP(AY53,Horaires!$A$3:$E$60,5,)))","v":0.44791666666666669},null,{"$f":"INDEX(Planning!$17:$17,MATCH('Solde d''heure collaborateur'!$A53,Planning!$3:$3))","v":"nav1"},{"$f":"VLOOKUP(BC53,Horaires!$A$3:$E$49,2,)","v":"Navigation"},{"$f":"IF(BD53=\"vacances\",INDEX(Horaires!$H$3:$L$42,MATCH('Solde d''heure collaborateur'!BD$2,Horaires!$H$3:$H$40,0),4),IF(BD53=\"maladie\",INDEX(Horaires!$H$3:$L$42,MATCH('Solde d''heure collaborateur'!BD$2,Horaires!$H$3:$H$40,0),5),VLOOKUP(BC53,Horaires!$A$3:$E$60,5,)))","v":0.44791666666666669},null,{"$f":"INDEX(Planning!$18:$18,MATCH('Solde d''heure collaborateur'!$A53,Planning!$3:$3))","v":"tour1"},{"$f":"VLOOKUP(BG53,Horaires!$A$3:$E$49,2,)","v":"Tourelle"},{"$f":"IF(BH53=\"vacances\",INDEX(Horaires!$H$3:$L$42,MATCH('Solde d''heure collaborateur'!BH$2,Horaires!$H$3:$H$40,0),4),IF(BH53=\"maladie\",INDEX(Horaires!$H$3:$L$42,MATCH('Solde d''heure collaborateur'!BH$2,Horaires!$H$3:$H$40,0),5),VLOOKUP(BG53,Horaires!$A$3:$E$60,5,)))","v":0.46875000000000006},null,{"$f":"INDEX(Planning!$19:$19,MATCH('Solde d''heure collaborateur'!$A53,Planning!$3:$3))","v":"R"},{"$f":"VLOOKUP(BK53,Horaires!$A$3:$E$49,2,)","v":"Congé"},{"$f":"IF(BL53=\"vacances\",INDEX(Horaires!$H$3:$L$42,MATCH('Solde d''heure collaborateur'!BL$2,Horaires!$H$3:$H$40,0),4),IF(BL53=\"maladie\",INDEX(Horaires!$H$3:$L$42,MATCH('Solde d''heure collaborateur'!BL$2,Horaires!$H$3:$H$40,0),5),VLOOKUP(BK53,Horaires!$A$3:$E$60,5,)))","v":0},null,{"$f":"INDEX(Planning!$20:$20,MATCH('Solde d''heure collaborateur'!$A53,Planning!$3:$3))","v":"R"},{"$f":"VLOOKUP(BO53,Horaires!$A$3:$E$49,2,)","v":"Congé"},{"$f":"IF(BP53=\"vacances\",INDEX(Horaires!$H$3:$L$42,MATCH('Solde d''heure collaborateur'!BP$2,Horaires!$H$3:$H$40,0),4),IF(BP53=\"maladie\",INDEX(Horaires!$H$3:$L$42,MATCH('Solde d''heure collaborateur'!BP$2,Horaires!$H$3:$H$40,0),5),VLOOKUP(BO53,Horaires!$A$3:$E$60,5,)))","v":0},null,{"$f":"INDEX(Planning!$21:$21,MATCH('Solde d''heure collaborateur'!$A53,Planning!$3:$3))","v":"R"},{"$f":"VLOOKUP(BS53,Horaires!$A$3:$E$49,2,)","v":"Congé"},{"$f":"IF(BT53=\"vacances\",INDEX(Horaires!$H$3:$L$42,MATCH('Solde d''heure collaborateur'!BT$2,Horaires!$H$3:$H$40,0),4),IF(BT53=\"maladie\",INDEX(Horaires!$H$3:$L$42,MATCH('Solde d''heure collaborateur'!BT$2,Horaires!$H$3:$H$40,0),5),VLOOKUP(BS53,Horaires!$A$3:$E$60,5,)))","v":0},null,{"$f":"INDEX(Planning!$22:$22,MATCH('Solde d''heure collaborateur'!$A53,Planning!$3:$3))","v":"Ves1"},{"$f":"VLOOKUP(BW53,Horaires!$A$3:$E$49,2,)","v":"Vesenaz"},{"$f":"IF(BX53=\"vacances\",INDEX(Horaires!$H$3:$L$42,MATCH('Solde d''heure collaborateur'!BX$2,Horaires!$H$3:$H$40,0),4),IF(BX53=\"maladie\",INDEX(Horaires!$H$3:$L$42,MATCH('Solde d''heure collaborateur'!BX$2,Horaires!$H$3:$H$40,0),5),VLOOKUP(BW53,Horaires!$A$3:$E$60,5,)))","v":0.44791666666666669},null,{"$f":"INDEX(Planning!$23:$23,MATCH('Solde d''heure collaborateur'!$A53,Planning!$3:$3))","v":"Aca1"},{"$f":"VLOOKUP(CA53,Horaires!$A$3:$E$49,2,)","v":"Acacias"},{"$f":"IF(CB53=\"vacances\",INDEX(Horaires!$H$3:$L$42,MATCH('Solde d''heure collaborateur'!CB$2,Horaires!$H$3:$H$40,0),4),IF(CB53=\"maladie\",INDEX(Horaires!$H$3:$L$42,MATCH('Solde d''heure collaborateur'!CB$2,Horaires!$H$3:$H$40,0),5),VLOOKUP(CA53,Horaires!$A$3:$E$60,5,)))","v":0.44791666666666669},null,{"$f":"INDEX(Planning!$24:$24,MATCH('Solde d''heure collaborateur'!$A53,Planning!$3:$3))","v":"onex1"},{"$f":"VLOOKUP(CE53,Horaires!$A$3:$E$49,2,)","v":"Onex"},{"$f":"IF(CF53=\"vacances\",INDEX(Horaires!$H$3:$L$42,MATCH('Solde d''heure collaborateur'!CF$2,Horaires!$H$3:$H$40,0),4),IF(CF53=\"maladie\",INDEX(Horaires!$H$3:$L$42,MATCH('Solde d''heure collaborateur'!CF$2,Horaires!$H$3:$H$40,0),5),VLOOKUP(CE53,Horaires!$A$3:$E$60,5,)))","v":0.46875000000000006},null,{"$f":"INDEX(Planning!$25:$25,MATCH('Solde d''heure collaborateur'!$A53,Planning!$3:$3))","v":"X"},{"$f":"VLOOKUP(CI53,Horaires!$A$3:$E$49,2,)","v":"XXX"},{"$f":"IF(CJ53=\"vacances\",INDEX(Horaires!$H$3:$L$42,MATCH('Solde d''heure collaborateur'!CJ$2,Horaires!$H$3:$H$40,0),4),IF(CJ53=\"maladie\",INDEX(Horaires!$H$3:$L$42,MATCH('Solde d''heure collaborateur'!CJ$2,Horaires!$H$3:$H$40,0),5),VLOOKUP(CI53,Horaires!$A$3:$E$60,5,)))","v":0},null,{"$f":"INDEX(Planning!$26:$26,MATCH('Solde d''heure collaborateur'!$A53,Planning!$3:$3))","v":"R"},{"$f":"VLOOKUP(CM53,Horaires!$A$3:$E$49,2,)","v":"Congé"},{"$f":"IF(CN53=\"vacances\",INDEX(Horaires!$H$3:$L$42,MATCH('Solde d''heure collaborateur'!CN$2,Horaires!$H$3:$H$40,0),4),IF(CN53=\"maladie\",INDEX(Horaires!$H$3:$L$42,MATCH('Solde d''heure collaborateur'!CN$2,Horaires!$H$3:$H$40,0),5),VLOOKUP(CM53,Horaires!$A$3:$E$60,5,)))","v":0},null,{"$f":"INDEX(Planning!$27:$27,MATCH('Solde d''heure collaborateur'!$A53,Planning!$3:$3))","v":"Vib1"},{"$f":"VLOOKUP(CQ53,Horaires!$A$3:$E$49,2,)","v":"Vibert"},{"$f":"IF(CR53=\"vacances\",INDEX(Horaires!$H$3:$L$42,MATCH('Solde d''heure collaborateur'!CR$2,Horaires!$H$3:$H$40,0),4),IF(CR53=\"maladie\",INDEX(Horaires!$H$3:$L$42,MATCH('Solde d''heure collaborateur'!CR$2,Horaires!$H$3:$H$40,0),5),VLOOKUP(CQ53,Horaires!$A$3:$E$60,5,)))","v":0.46875000000000006},null,{"$f":"INDEX(Planning!$28:$28,MATCH('Solde d''heure collaborateur'!$A53,Planning!$3:$3))","v":"R"},{"$f":"VLOOKUP(CU53,Horaires!$A$3:$E$49,2,)","v":"Congé"},{"$f":"IF(CV53=\"vacances\",INDEX(Horaires!$H$3:$L$42,MATCH('Solde d''heure collaborateur'!CV$2,Horaires!$H$3:$H$40,0),4),IF(CV53=\"maladie\",INDEX(Horaires!$H$3:$L$42,MATCH('Solde d''heure collaborateur'!CV$2,Horaires!$H$3:$H$40,0),5),VLOOKUP(CU53,Horaires!$A$3:$E$60,5,)))","v":0},null,{"$f":"INDEX(Planning!$29:$29,MATCH('Solde d''heure collaborateur'!$A53,Planning!$3:$3))","v":"X"},{"$f":"VLOOKUP(CY53,Horaires!$A$3:$E$49,2,)","v":"XXX"},{"$f":"IF(CZ53=\"vacances\",INDEX(Horaires!$H$3:$L$42,MATCH('Solde d''heure collaborateur'!CZ$2,Horaires!$H$3:$H$40,0),4),IF(CZ53=\"maladie\",INDEX(Horaires!$H$3:$L$42,MATCH('Solde d''heure collaborateur'!CZ$2,Horaires!$H$3:$H$40,0),5),VLOOKUP(CY53,Horaires!$A$3:$E$60,5,)))","v":0},null,{"$f":"INDEX(Planning!$30:$30,MATCH('Solde d''heure collaborateur'!$A53,Planning!$3:$3))","v":"X"},{"$f":"VLOOKUP(DC53,Horaires!$A$3:$E$49,2,)","v":"XXX"},{"$f":"IF(DD53=\"vacances\",INDEX(Horaires!$H$3:$L$42,MATCH('Solde d''heure collaborateur'!DD$2,Horaires!$H$3:$H$40,0),4),IF(DD53=\"maladie\",INDEX(Horaires!$H$3:$L$42,MATCH('Solde d''heure collaborateur'!DD$2,Horaires!$H$3:$H$40,0),5),VLOOKUP(DC53,Horaires!$A$3:$E$60,5,)))","v":0},null,{"$f":"INDEX(Planning!$31:$31,MATCH('Solde d''heure collaborateur'!$A53,Planning!$3:$3))","v":"X"},{"$f":"VLOOKUP(DG53,Horaires!$A$3:$E$49,2,)","v":"XXX"},{"$f":"IF(DH53=\"vacances\",INDEX(Horaires!$H$3:$L$42,MATCH('Solde d''heure collaborateur'!DH$2,Horaires!$H$3:$H$40,0),4),IF(DH53=\"maladie\",INDEX(Horaires!$H$3:$L$42,MATCH('Solde d''heure collaborateur'!DH$2,Horaires!$H$3:$H$40,0),5),VLOOKUP(DG53,Horaires!$A$3:$E$60,5,)))","v":0},null,{"$f":"INDEX(Planning!$32:$32,MATCH('Solde d''heure collaborateur'!$A53,Planning!$3:$3))","v":"X"},{"$f":"VLOOKUP(DK53,Horaires!$A$3:$E$49,2,)","v":"XXX"},{"$f":"IF(DL53=\"vacances\",INDEX(Horaires!$H$3:$L$42,MATCH('Solde d''heure collaborateur'!DL$2,Horaires!$H$3:$H$40,0),4),IF(DL53=\"maladie\",INDEX(Horaires!$H$3:$L$42,MATCH('Solde d''heure collaborateur'!DL$2,Horaires!$H$3:$H$40,0),5),VLOOKUP(DK53,Horaires!$A$3:$E$60,5,)))","v":0},null,{"$f":"INDEX(Planning!$33:$33,MATCH('Solde d''heure collaborateur'!$A53,Planning!$3:$3))","v":"X"},{"$f":"VLOOKUP(DO53,Horaires!$A$3:$E$49,2,)","v":"XXX"},{"$f":"IF(DP53=\"vacances\",INDEX(Horaires!$H$3:$L$42,MATCH('Solde d''heure collaborateur'!DP$2,Horaires!$H$3:$H$40,0),4),IF(DP53=\"maladie\",INDEX(Horaires!$H$3:$L$42,MATCH('Solde d''heure collaborateur'!DP$2,Horaires!$H$3:$H$40,0),5),VLOOKUP(DO53,Horaires!$A$3:$E$60,5,)))","v":0},null,{"$f":"INDEX(Planning!$34:$34,MATCH('Solde d''heure collaborateur'!$A53,Planning!$3:$3))","v":"X"},{"$f":"VLOOKUP(DS53,Horaires!$A$3:$E$49,2,)","v":"XXX"},{"$f":"IF(DT53=\"vacances\",INDEX(Horaires!$H$3:$L$42,MATCH('Solde d''heure collaborateur'!DT$2,Horaires!$H$3:$H$40,0),4),IF(DT53=\"maladie\",INDEX(Horaires!$H$3:$L$42,MATCH('Solde d''heure collaborateur'!DT$2,Horaires!$H$3:$H$40,0),5),VLOOKUP(DS53,Horaires!$A$3:$E$60,5,)))","v":0},null,{"$f":"INDEX(Planning!$35:$35,MATCH('Solde d''heure collaborateur'!$A53,Planning!$3:$3))","v":"X"},{"$f":"VLOOKUP(DW53,Horaires!$A$3:$E$49,2,)","v":"XXX"},{"$f":"IF(DX53=\"vacances\",INDEX(Horaires!$H$3:$L$42,MATCH('Solde d''heure collaborateur'!DX$2,Horaires!$H$3:$H$40,0),4),IF(DX53=\"maladie\",INDEX(Horaires!$H$3:$L$42,MATCH('Solde d''heure collaborateur'!DX$2,Horaires!$H$3:$H$40,0),5),VLOOKUP(DW53,Horaires!$A$3:$E$60,5,)))","v":0}]
[{"$f":"A53+1","v":"2013-12-18"},null,{"$f":"INDEX(Planning!$4:$4,MATCH('Solde d''heure collaborateur'!A54,Planning!$3:$3,0))","v":"Nav1"},{"$f":"VLOOKUP(C54,Horaires!$A$3:$E$49,2,)","v":"Navigation"},{"$f":"IF(D54=\"vacances\",INDEX(Horaires!$H$3:$L$42,MATCH('Solde d''heure collaborateur'!D$2,Horaires!$H$3:$H$40,0),4),IF(D54=\"maladie\",INDEX(Horaires!$H$3:$L$42,MATCH('Solde d''heure collaborateur'!D$2,Horaires!$H$3:$H$40,0),5),VLOOKUP(C54,Horaires!$A$3:$E$60,5,)))","v":0.44791666666666669},null,{"$f":"INDEX(Planning!$5:$5,MATCH('Solde d''heure collaborateur'!A54,Planning!$3:$3))","v":"R"},{"$f":"VLOOKUP(G54,Horaires!$A$3:$E$49,2,)","v":"Congé"},{"$f":"IF(H54=\"vacances\",INDEX(Horaires!$H$3:$L$42,MATCH('Solde d''heure collaborateur'!H$2,Horaires!$H$3:$H$40,0),4),IF(H54=\"maladie\",INDEX(Horaires!$H$3:$L$42,MATCH('Solde d''heure collaborateur'!H$2,Horaires!$H$3:$H$40,0),5),VLOOKUP(G54,Horaires!$A$3:$E$60,5,)))","v":0},null,{"$f":"INDEX(Planning!$6:$6,MATCH('Solde d''heure collaborateur'!A54,Planning!$3:$3))","v":"M"},{"$f":"VLOOKUP(K54,Horaires!$A$3:$E$49,2,)","v":"Maladie"},{"$f":"IF(L54=\"vacances\",INDEX(Horaires!$H$3:$L$42,MATCH('Solde d''heure collaborateur'!L$2,Horaires!$H$3:$H$40,0),4),IF(L54=\"maladie\",INDEX(Horaires!$H$3:$L$42,MATCH('Solde d''heure collaborateur'!L$2,Horaires!$H$3:$H$40,0),5),VLOOKUP(K54,Horaires!$A$3:$E$60,5,)))","v":0.4375},null,{"$f":"INDEX(Planning!$7:$7,MATCH('Solde d''heure collaborateur'!$A54,Planning!$3:$3))","v":"X"},{"$f":"VLOOKUP(O54,Horaires!$A$3:$E$49,2,)","v":"XXX"},{"$f":"IF(P54=\"vacances\",INDEX(Horaires!$H$3:$L$42,MATCH('Solde d''heure collaborateur'!P$2,Horaires!$H$3:$H$40,0),4),IF(P54=\"maladie\",INDEX(Horaires!$H$3:$L$42,MATCH('Solde d''heure collaborateur'!P$2,Horaires!$H$3:$H$40,0),5),VLOOKUP(O54,Horaires!$A$3:$E$60,5,)))","v":0},null,{"$f":"INDEX(Planning!$8:$8,MATCH('Solde d''heure collaborateur'!$A54,Planning!$3:$3))","v":"Onex1"},{"$f":"VLOOKUP(S54,Horaires!$A$3:$E$49,2,)","v":"Onex"},{"$f":"IF(T54=\"vacances\",INDEX(Horaires!$H$3:$L$42,MATCH('Solde d''heure collaborateur'!T$2,Horaires!$H$3:$H$40,0),4),IF(T54=\"maladie\",INDEX(Horaires!$H$3:$L$42,MATCH('Solde d''heure collaborateur'!T$2,Horaires!$H$3:$H$40,0),5),VLOOKUP(S54,Horaires!$A$3:$E$60,5,)))","v":0.46875000000000006},null,{"$f":"INDEX(Planning!$9:$9,MATCH('Solde d''heure collaborateur'!$A54,Planning!$3:$3))","v":"Onex1"},{"$f":"VLOOKUP(W54,Horaires!$A$3:$E$49,2,)","v":"Onex"},{"$f":"IF(X54=\"vacances\",INDEX(Horaires!$H$3:$L$42,MATCH('Solde d''heure collaborateur'!X$2,Horaires!$H$3:$H$40,0),4),IF(X54=\"maladie\",INDEX(Horaires!$H$3:$L$42,MATCH('Solde d''heure collaborateur'!X$2,Horaires!$H$3:$H$40,0),5),VLOOKUP(W54,Horaires!$A$3:$E$60,5,)))","v":0.46875000000000006},null,{"$f":"INDEX(Planning!$10:$10,MATCH('Solde d''heure collaborateur'!$A54,Planning!$3:$3))","v":"pom1"},{"$f":"VLOOKUP(AA54,Horaires!$A$3:$E$49,2,)","v":"Pommier"},{"$f":"IF(AB54=\"vacances\",INDEX(Horaires!$H$3:$L$42,MATCH('Solde d''heure collaborateur'!AB$2,Horaires!$H$3:$H$40,0),4),IF(AB54=\"maladie\",INDEX(Horaires!$H$3:$L$42,MATCH('Solde d''heure collaborateur'!AB$2,Horaires!$H$3:$H$40,0),5),VLOOKUP(AA54,Horaires!$A$3:$E$60,5,)))","v":0.44791666666666669},null,{"$f":"INDEX(Planning!$11:$11,MATCH('Solde d''heure collaborateur'!$A54,Planning!$3:$3))","v":"Plo1"},{"$f":"VLOOKUP(AE54,Horaires!$A$3:$E$49,2,)","v":"Plan les Ouates"},{"$f":"IF(AF54=\"vacances\",INDEX(Horaires!$H$3:$L$42,MATCH('Solde d''heure collaborateur'!AF$2,Horaires!$H$3:$H$40,0),4),IF(AF54=\"maladie\",INDEX(Horaires!$H$3:$L$42,MATCH('Solde d''heure collaborateur'!AF$2,Horaires!$H$3:$H$40,0),5),VLOOKUP(AE54,Horaires!$A$3:$E$60,5,)))","v":0.46875000000000006},null,{"$f":"INDEX(Planning!$12:$12,MATCH('Solde d''heure collaborateur'!$A54,Planning!$3:$3))","v":"R"},{"$f":"VLOOKUP(AI54,Horaires!$A$3:$E$49,2,)","v":"Congé"},{"$f":"IF(AJ54=\"vacances\",INDEX(Horaires!$H$3:$L$42,MATCH('Solde d''heure collaborateur'!AJ$2,Horaires!$H$3:$H$40,0),4),IF(AJ54=\"maladie\",INDEX(Horaires!$H$3:$L$42,MATCH('Solde d''heure collaborateur'!AJ$2,Horaires!$H$3:$H$40,0),5),VLOOKUP(AI54,Horaires!$A$3:$E$60,5,)))","v":0},null,{"$f":"INDEX(Planning!$13:$13,MATCH('Solde d''heure collaborateur'!$A54,Planning!$3:$3))","v":"Nav1"},{"$f":"VLOOKUP(AM54,Horaires!$A$3:$E$49,2,)","v":"Navigation"},{"$f":"IF(AN54=\"vacances\",INDEX(Horaires!$H$3:$L$42,MATCH('Solde d''heure collaborateur'!AN$2,Horaires!$H$3:$H$40,0),4),IF(AN54=\"maladie\",INDEX(Horaires!$H$3:$L$42,MATCH('Solde d''heure collaborateur'!AN$2,Horaires!$H$3:$H$40,0),5),VLOOKUP(AM54,Horaires!$A$3:$E$60,5,)))","v":0.44791666666666669},null,{"$f":"INDEX(Planning!$14:$14,MATCH('Solde d''heure collaborateur'!$A54,Planning!$3:$3))","v":"X"},{"$f":"VLOOKUP(AQ54,Horaires!$A$3:$E$49,2,)","v":"XXX"},{"$f":"IF(AR54=\"vacances\",INDEX(Horaires!$H$3:$L$42,MATCH('Solde d''heure collaborateur'!AR$2,Horaires!$H$3:$H$40,0),4),IF(AR54=\"maladie\",INDEX(Horaires!$H$3:$L$42,MATCH('Solde d''heure collaborateur'!AR$2,Horaires!$H$3:$H$40,0),5),VLOOKUP(AQ54,Horaires!$A$3:$E$60,5,)))","v":0},null,{"$f":"INDEX(Planning!$15:$15,MATCH('Solde d''heure collaborateur'!$A54,Planning!$3:$3))","v":"R"},{"$f":"VLOOKUP(AU54,Horaires!$A$3:$E$49,2,)","v":"Congé"},{"$f":"IF(AV54=\"vacances\",INDEX(Horaires!$H$3:$L$42,MATCH('Solde d''heure collaborateur'!AV$2,Horaires!$H$3:$H$40,0),4),IF(AV54=\"maladie\",INDEX(Horaires!$H$3:$L$42,MATCH('Solde d''heure collaborateur'!AV$2,Horaires!$H$3:$H$40,0),5),VLOOKUP(AU54,Horaires!$A$3:$E$60,5,)))","v":0},null,{"$f":"INDEX(Planning!$16:$16,MATCH('Solde d''heure collaborateur'!$A54,Planning!$3:$3))","v":"Nyon1"},{"$f":"VLOOKUP(AY54,Horaires!$A$3:$E$49,2,)","v":"Nyon"},{"$f":"IF(AZ54=\"vacances\",INDEX(Horaires!$H$3:$L$42,MATCH('Solde d''heure collaborateur'!AZ$2,Horaires!$H$3:$H$40,0),4),IF(AZ54=\"maladie\",INDEX(Horaires!$H$3:$L$42,MATCH('Solde d''heure collaborateur'!AZ$2,Horaires!$H$3:$H$40,0),5),VLOOKUP(AY54,Horaires!$A$3:$E$60,5,)))","v":0.44791666666666669},null,{"$f":"INDEX(Planning!$17:$17,MATCH('Solde d''heure collaborateur'!$A54,Planning!$3:$3))","v":"Vib1"},{"$f":"VLOOKUP(BC54,Horaires!$A$3:$E$49,2,)","v":"Vibert"},{"$f":"IF(BD54=\"vacances\",INDEX(Horaires!$H$3:$L$42,MATCH('Solde d''heure collaborateur'!BD$2,Horaires!$H$3:$H$40,0),4),IF(BD54=\"maladie\",INDEX(Horaires!$H$3:$L$42,MATCH('Solde d''heure collaborateur'!BD$2,Horaires!$H$3:$H$40,0),5),VLOOKUP(BC54,Horaires!$A$3:$E$60,5,)))","v":0.46875000000000006},null,{"$f":"INDEX(Planning!$18:$18,MATCH('Solde d''heure collaborateur'!$A54,Planning!$3:$3))","v":"R"},{"$f":"VLOOKUP(BG54,Horaires!$A$3:$E$49,2,)","v":"Congé"},{"$f":"IF(BH54=\"vacances\",INDEX(Horaires!$H$3:$L$42,MATCH('Solde d''heure collaborateur'!BH$2,Horaires!$H$3:$H$40,0),4),IF(BH54=\"maladie\",INDEX(Horaires!$H$3:$L$42,MATCH('Solde d''heure collaborateur'!BH$2,Horaires!$H$3:$H$40,0),5),VLOOKUP(BG54,Horaires!$A$3:$E$60,5,)))","v":0},null,{"$f":"INDEX(Planning!$19:$19,MATCH('Solde d''heure collaborateur'!$A54,Planning!$3:$3))","v":"Vib1"},{"$f":"VLOOKUP(BK54,Horaires!$A$3:$E$49,2,)","v":"Vibert"},{"$f":"IF(BL54=\"vacances\",INDEX(Horaires!$H$3:$L$42,MATCH('Solde d''heure collaborateur'!BL$2,Horaires!$H$3:$H$40,0),4),IF(BL54=\"maladie\",INDEX(Horaires!$H$3:$L$42,MATCH('Solde d''heure collaborateur'!BL$2,Horaires!$H$3:$H$40,0),5),VLOOKUP(BK54,Horaires!$A$3:$E$60,5,)))","v":0.46875000000000006},null,{"$f":"INDEX(Planning!$20:$20,MATCH('Solde d''heure collaborateur'!$A54,Planning!$3:$3))","v":"R"},{"$f":"VLOOKUP(BO54,Horaires!$A$3:$E$49,2,)","v":"Congé"},{"$f":"IF(BP54=\"vacances\",INDEX(Horaires!$H$3:$L$42,MATCH('Solde d''heure collaborateur'!BP$2,Horaires!$H$3:$H$40,0),4),IF(BP54=\"maladie\",INDEX(Horaires!$H$3:$L$42,MATCH('Solde d''heure collaborateur'!BP$2,Horaires!$H$3:$H$40,0),5),VLOOKUP(BO54,Horaires!$A$3:$E$60,5,)))","v":0},null,{"$f":"INDEX(Planning!$21:$21,MATCH('Solde d''heure collaborateur'!$A54,Planning!$3:$3))","v":"Ves1"},{"$f":"VLOOKUP(BS54,Horaires!$A$3:$E$49,2,)","v":"Vesenaz"},{"$f":"IF(BT54=\"vacances\",INDEX(Horaires!$H$3:$L$42,MATCH('Solde d''heure collaborateur'!BT$2,Horaires!$H$3:$H$40,0),4),IF(BT54=\"maladie\",INDEX(Horaires!$H$3:$L$42,MATCH('Solde d''heure collaborateur'!BT$2,Horaires!$H$3:$H$40,0),5),VLOOKUP(BS54,Horaires!$A$3:$E$60,5,)))","v":0.44791666666666669},null,{"$f":"INDEX(Planning!$22:$22,MATCH('Solde d''heure collaborateur'!$A54,Planning!$3:$3))","v":"X"},{"$f":"VLOOKUP(BW54,Horaires!$A$3:$E$49,2,)","v":"XXX"},{"$f":"IF(BX54=\"vacances\",INDEX(Horaires!$H$3:$L$42,MATCH('Solde d''heure collaborateur'!BX$2,Horaires!$H$3:$H$40,0),4),IF(BX54=\"maladie\",INDEX(Horaires!$H$3:$L$42,MATCH('Solde d''heure collaborateur'!BX$2,Horaires!$H$3:$H$40,0),5),VLOOKUP(BW54,Horaires!$A$3:$E$60,5,)))","v":0},null,{"$f":"INDEX(Planning!$23:$23,MATCH('Solde d''heure collaborateur'!$A54,Planning!$3:$3))","v":"Aca1"},{"$f":"VLOOKUP(CA54,Horaires!$A$3:$E$49,2,)","v":"Acacias"},{"$f":"IF(CB54=\"vacances\",INDEX(Horaires!$H$3:$L$42,MATCH('Solde d''heure collaborateur'!CB$2,Horaires!$H$3:$H$40,0),4),IF(CB54=\"maladie\",INDEX(Horaires!$H$3:$L$42,MATCH('Solde d''heure collaborateur'!CB$2,Horaires!$H$3:$H$40,0),5),VLOOKUP(CA54,Horaires!$A$3:$E$60,5,)))","v":0.44791666666666669},null,{"$f":"INDEX(Planning!$24:$24,MATCH('Solde d''heure collaborateur'!$A54,Planning!$3:$3))","v":"R"},{"$f":"VLOOKUP(CE54,Horaires!$A$3:$E$49,2,)","v":"Congé"},{"$f":"IF(CF54=\"vacances\",INDEX(Horaires!$H$3:$L$42,MATCH('Solde d''heure collaborateur'!CF$2,Horaires!$H$3:$H$40,0),4),IF(CF54=\"maladie\",INDEX(Horaires!$H$3:$L$42,MATCH('Solde d''heure collaborateur'!CF$2,Horaires!$H$3:$H$40,0),5),VLOOKUP(CE54,Horaires!$A$3:$E$60,5,)))","v":0},null,{"$f":"INDEX(Planning!$25:$25,MATCH('Solde d''heure collaborateur'!$A54,Planning!$3:$3))","v":"X"},{"$f":"VLOOKUP(CI54,Horaires!$A$3:$E$49,2,)","v":"XXX"},{"$f":"IF(CJ54=\"vacances\",INDEX(Horaires!$H$3:$L$42,MATCH('Solde d''heure collaborateur'!CJ$2,Horaires!$H$3:$H$40,0),4),IF(CJ54=\"maladie\",INDEX(Horaires!$H$3:$L$42,MATCH('Solde d''heure collaborateur'!CJ$2,Horaires!$H$3:$H$40,0),5),VLOOKUP(CI54,Horaires!$A$3:$E$60,5,)))","v":0},null,{"$f":"INDEX(Planning!$26:$26,MATCH('Solde d''heure collaborateur'!$A54,Planning!$3:$3))","v":"Vid1"},{"$f":"VLOOKUP(CM54,Horaires!$A$3:$E$49,2,)","v":"Vidollet"},{"$f":"IF(CN54=\"vacances\",INDEX(Horaires!$H$3:$L$42,MATCH('Solde d''heure collaborateur'!CN$2,Horaires!$H$3:$H$40,0),4),IF(CN54=\"maladie\",INDEX(Horaires!$H$3:$L$42,MATCH('Solde d''heure collaborateur'!CN$2,Horaires!$H$3:$H$40,0),5),VLOOKUP(CM54,Horaires!$A$3:$E$60,5,)))","v":0.44791666666666669},null,{"$f":"INDEX(Planning!$27:$27,MATCH('Solde d''heure collaborateur'!$A54,Planning!$3:$3))","v":"thon2"},{"$f":"VLOOKUP(CQ54,Horaires!$A$3:$E$49,2,)","v":"Thonex"},{"$f":"IF(CR54=\"vacances\",INDEX(Horaires!$H$3:$L$42,MATCH('Solde d''heure collaborateur'!CR$2,Horaires!$H$3:$H$40,0),4),IF(CR54=\"maladie\",INDEX(Horaires!$H$3:$L$42,MATCH('Solde d''heure collaborateur'!CR$2,Horaires!$H$3:$H$40,0),5),VLOOKUP(CQ54,Horaires!$A$3:$E$60,5,)))","v":0.46874999999999994},null,{"$f":"INDEX(Planning!$28:$28,MATCH('Solde d''heure collaborateur'!$A54,Planning!$3:$3))","v":"tour1"},{"$f":"VLOOKUP(CU54,Horaires!$A$3:$E$49,2,)","v":"Tourelle"},{"$f":"IF(CV54=\"vacances\",INDEX(Horaires!$H$3:$L$42,MATCH('Solde d''heure collaborateur'!CV$2,Horaires!$H$3:$H$40,0),4),IF(CV54=\"maladie\",INDEX(Horaires!$H$3:$L$42,MATCH('Solde d''heure collaborateur'!CV$2,Horaires!$H$3:$H$40,0),5),VLOOKUP(CU54,Horaires!$A$3:$E$60,5,)))","v":0.46875000000000006},null,{"$f":"INDEX(Planning!$29:$29,MATCH('Solde d''heure collaborateur'!$A54,Planning!$3:$3))","v":"X"},{"$f":"VLOOKUP(CY54,Horaires!$A$3:$E$49,2,)","v":"XXX"},{"$f":"IF(CZ54=\"vacances\",INDEX(Horaires!$H$3:$L$42,MATCH('Solde d''heure collaborateur'!CZ$2,Horaires!$H$3:$H$40,0),4),IF(CZ54=\"maladie\",INDEX(Horaires!$H$3:$L$42,MATCH('Solde d''heure collaborateur'!CZ$2,Horaires!$H$3:$H$40,0),5),VLOOKUP(CY54,Horaires!$A$3:$E$60,5,)))","v":0},null,{"$f":"INDEX(Planning!$30:$30,MATCH('Solde d''heure collaborateur'!$A54,Planning!$3:$3))","v":"X"},{"$f":"VLOOKUP(DC54,Horaires!$A$3:$E$49,2,)","v":"XXX"},{"$f":"IF(DD54=\"vacances\",INDEX(Horaires!$H$3:$L$42,MATCH('Solde d''heure collaborateur'!DD$2,Horaires!$H$3:$H$40,0),4),IF(DD54=\"maladie\",INDEX(Horaires!$H$3:$L$42,MATCH('Solde d''heure collaborateur'!DD$2,Horaires!$H$3:$H$40,0),5),VLOOKUP(DC54,Horaires!$A$3:$E$60,5,)))","v":0},null,{"$f":"INDEX(Planning!$31:$31,MATCH('Solde d''heure collaborateur'!$A54,Planning!$3:$3))","v":"X"},{"$f":"VLOOKUP(DG54,Horaires!$A$3:$E$49,2,)","v":"XXX"},{"$f":"IF(DH54=\"vacances\",INDEX(Horaires!$H$3:$L$42,MATCH('Solde d''heure collaborateur'!DH$2,Horaires!$H$3:$H$40,0),4),IF(DH54=\"maladie\",INDEX(Horaires!$H$3:$L$42,MATCH('Solde d''heure collaborateur'!DH$2,Horaires!$H$3:$H$40,0),5),VLOOKUP(DG54,Horaires!$A$3:$E$60,5,)))","v":0},null,{"$f":"INDEX(Planning!$32:$32,MATCH('Solde d''heure collaborateur'!$A54,Planning!$3:$3))","v":"X"},{"$f":"VLOOKUP(DK54,Horaires!$A$3:$E$49,2,)","v":"XXX"},{"$f":"IF(DL54=\"vacances\",INDEX(Horaires!$H$3:$L$42,MATCH('Solde d''heure collaborateur'!DL$2,Horaires!$H$3:$H$40,0),4),IF(DL54=\"maladie\",INDEX(Horaires!$H$3:$L$42,MATCH('Solde d''heure collaborateur'!DL$2,Horaires!$H$3:$H$40,0),5),VLOOKUP(DK54,Horaires!$A$3:$E$60,5,)))","v":0},null,{"$f":"INDEX(Planning!$33:$33,MATCH('Solde d''heure collaborateur'!$A54,Planning!$3:$3))","v":"X"},{"$f":"VLOOKUP(DO54,Horaires!$A$3:$E$49,2,)","v":"XXX"},{"$f":"IF(DP54=\"vacances\",INDEX(Horaires!$H$3:$L$42,MATCH('Solde d''heure collaborateur'!DP$2,Horaires!$H$3:$H$40,0),4),IF(DP54=\"maladie\",INDEX(Horaires!$H$3:$L$42,MATCH('Solde d''heure collaborateur'!DP$2,Horaires!$H$3:$H$40,0),5),VLOOKUP(DO54,Horaires!$A$3:$E$60,5,)))","v":0},null,{"$f":"INDEX(Planning!$34:$34,MATCH('Solde d''heure collaborateur'!$A54,Planning!$3:$3))","v":"X"},{"$f":"VLOOKUP(DS54,Horaires!$A$3:$E$49,2,)","v":"XXX"},{"$f":"IF(DT54=\"vacances\",INDEX(Horaires!$H$3:$L$42,MATCH('Solde d''heure collaborateur'!DT$2,Horaires!$H$3:$H$40,0),4),IF(DT54=\"maladie\",INDEX(Horaires!$H$3:$L$42,MATCH('Solde d''heure collaborateur'!DT$2,Horaires!$H$3:$H$40,0),5),VLOOKUP(DS54,Horaires!$A$3:$E$60,5,)))","v":0},null,{"$f":"INDEX(Planning!$35:$35,MATCH('Solde d''heure collaborateur'!$A54,Planning!$3:$3))","v":"X"},{"$f":"VLOOKUP(DW54,Horaires!$A$3:$E$49,2,)","v":"XXX"},{"$f":"IF(DX54=\"vacances\",INDEX(Horaires!$H$3:$L$42,MATCH('Solde d''heure collaborateur'!DX$2,Horaires!$H$3:$H$40,0),4),IF(DX54=\"maladie\",INDEX(Horaires!$H$3:$L$42,MATCH('Solde d''heure collaborateur'!DX$2,Horaires!$H$3:$H$40,0),5),VLOOKUP(DW54,Horaires!$A$3:$E$60,5,)))","v":0}]
[{"$f":"A54+1","v":"2013-12-19"},null,{"$f":"INDEX(Planning!$4:$4,MATCH('Solde d''heure collaborateur'!A55,Planning!$3:$3,0))","v":"Nav2"},{"$f":"VLOOKUP(C55,Horaires!$A$3:$E$49,2,)","v":"Navigation"},{"$f":"IF(D55=\"vacances\",INDEX(Horaires!$H$3:$L$42,MATCH('Solde d''heure collaborateur'!D$2,Horaires!$H$3:$H$40,0),4),IF(D55=\"maladie\",INDEX(Horaires!$H$3:$L$42,MATCH('Solde d''heure collaborateur'!D$2,Horaires!$H$3:$H$40,0),5),VLOOKUP(C55,Horaires!$A$3:$E$60,5,)))","v":0.46874999999999994},null,{"$f":"INDEX(Planning!$5:$5,MATCH('Solde d''heure collaborateur'!A55,Planning!$3:$3))","v":"Pom2"},{"$f":"VLOOKUP(G55,Horaires!$A$3:$E$49,2,)","v":"Pommier"},{"$f":"IF(H55=\"vacances\",INDEX(Horaires!$H$3:$L$42,MATCH('Solde d''heure collaborateur'!H$2,Horaires!$H$3:$H$40,0),4),IF(H55=\"maladie\",INDEX(Horaires!$H$3:$L$42,MATCH('Solde d''heure collaborateur'!H$2,Horaires!$H$3:$H$40,0),5),VLOOKUP(G55,Horaires!$A$3:$E$60,5,)))","v":0.46874999999999994},null,{"$f":"INDEX(Planning!$6:$6,MATCH('Solde d''heure collaborateur'!A55,Planning!$3:$3))","v":"M"},{"$f":"VLOOKUP(K55,Horaires!$A$3:$E$49,2,)","v":"Maladie"},{"$f":"IF(L55=\"vacances\",INDEX(Horaires!$H$3:$L$42,MATCH('Solde d''heure collaborateur'!L$2,Horaires!$H$3:$H$40,0),4),IF(L55=\"maladie\",INDEX(Horaires!$H$3:$L$42,MATCH('Solde d''heure collaborateur'!L$2,Horaires!$H$3:$H$40,0),5),VLOOKUP(K55,Horaires!$A$3:$E$60,5,)))","v":0.4375},null,{"$f":"INDEX(Planning!$7:$7,MATCH('Solde d''heure collaborateur'!$A55,Planning!$3:$3))","v":"X"},{"$f":"VLOOKUP(O55,Horaires!$A$3:$E$49,2,)","v":"XXX"},{"$f":"IF(P55=\"vacances\",INDEX(Horaires!$H$3:$L$42,MATCH('Solde d''heure collaborateur'!P$2,Horaires!$H$3:$H$40,0),4),IF(P55=\"maladie\",INDEX(Horaires!$H$3:$L$42,MATCH('Solde d''heure collaborateur'!P$2,Horaires!$H$3:$H$40,0),5),VLOOKUP(O55,Horaires!$A$3:$E$60,5,)))","v":0},null,{"$f":"INDEX(Planning!$8:$8,MATCH('Solde d''heure collaborateur'!$A55,Planning!$3:$3))","v":"Onex2"},{"$f":"VLOOKUP(S55,Horaires!$A$3:$E$49,2,)","v":"Onex"},{"$f":"IF(T55=\"vacances\",INDEX(Horaires!$H$3:$L$42,MATCH('Solde d''heure collaborateur'!T$2,Horaires!$H$3:$H$40,0),4),IF(T55=\"maladie\",INDEX(Horaires!$H$3:$L$42,MATCH('Solde d''heure collaborateur'!T$2,Horaires!$H$3:$H$40,0),5),VLOOKUP(S55,Horaires!$A$3:$E$60,5,)))","v":0.48958333333333331},null,{"$f":"INDEX(Planning!$9:$9,MATCH('Solde d''heure collaborateur'!$A55,Planning!$3:$3))","v":"X"},{"$f":"VLOOKUP(W55,Horaires!$A$3:$E$49,2,)","v":"XXX"},{"$f":"IF(X55=\"vacances\",INDEX(Horaires!$H$3:$L$42,MATCH('Solde d''heure collaborateur'!X$2,Horaires!$H$3:$H$40,0),4),IF(X55=\"maladie\",INDEX(Horaires!$H$3:$L$42,MATCH('Solde d''heure collaborateur'!X$2,Horaires!$H$3:$H$40,0),5),VLOOKUP(W55,Horaires!$A$3:$E$60,5,)))","v":0},null,{"$f":"INDEX(Planning!$10:$10,MATCH('Solde d''heure collaborateur'!$A55,Planning!$3:$3))","v":"Onex2"},{"$f":"VLOOKUP(AA55,Horaires!$A$3:$E$49,2,)","v":"Onex"},{"$f":"IF(AB55=\"vacances\",INDEX(Horaires!$H$3:$L$42,MATCH('Solde d''heure collaborateur'!AB$2,Horaires!$H$3:$H$40,0),4),IF(AB55=\"maladie\",INDEX(Horaires!$H$3:$L$42,MATCH('Solde d''heure collaborateur'!AB$2,Horaires!$H$3:$H$40,0),5),VLOOKUP(AA55,Horaires!$A$3:$E$60,5,)))","v":0.48958333333333331},null,{"$f":"INDEX(Planning!$11:$11,MATCH('Solde d''heure collaborateur'!$A55,Planning!$3:$3))","v":"R"},{"$f":"VLOOKUP(AE55,Horaires!$A$3:$E$49,2,)","v":"Congé"},{"$f":"IF(AF55=\"vacances\",INDEX(Horaires!$H$3:$L$42,MATCH('Solde d''heure collaborateur'!AF$2,Horaires!$H$3:$H$40,0),4),IF(AF55=\"maladie\",INDEX(Horaires!$H$3:$L$42,MATCH('Solde d''heure collaborateur'!AF$2,Horaires!$H$3:$H$40,0),5),VLOOKUP(AE55,Horaires!$A$3:$E$60,5,)))","v":0},null,{"$f":"INDEX(Planning!$12:$12,MATCH('Solde d''heure collaborateur'!$A55,Planning!$3:$3))","v":"Thon2"},{"$f":"VLOOKUP(AI55,Horaires!$A$3:$E$49,2,)","v":"Thonex"},{"$f":"IF(AJ55=\"vacances\",INDEX(Horaires!$H$3:$L$42,MATCH('Solde d''heure collaborateur'!AJ$2,Horaires!$H$3:$H$40,0),4),IF(AJ55=\"maladie\",INDEX(Horaires!$H$3:$L$42,MATCH('Solde d''heure collaborateur'!AJ$2,Horaires!$H$3:$H$40,0),5),VLOOKUP(AI55,Horaires!$A$3:$E$60,5,)))","v":0.46874999999999994},null,{"$f":"INDEX(Planning!$13:$13,MATCH('Solde d''heure collaborateur'!$A55,Planning!$3:$3))","v":"Nav2"},{"$f":"VLOOKUP(AM55,Horaires!$A$3:$E$49,2,)","v":"Navigation"},{"$f":"IF(AN55=\"vacances\",INDEX(Horaires!$H$3:$L$42,MATCH('Solde d''heure collaborateur'!AN$2,Horaires!$H$3:$H$40,0),4),IF(AN55=\"maladie\",INDEX(Horaires!$H$3:$L$42,MATCH('Solde d''heure collaborateur'!AN$2,Horaires!$H$3:$H$40,0),5),VLOOKUP(AM55,Horaires!$A$3:$E$60,5,)))","v":0.46874999999999994},null,{"$f":"INDEX(Planning!$14:$14,MATCH('Solde d''heure collaborateur'!$A55,Planning!$3:$3))","v":"X"},{"$f":"VLOOKUP(AQ55,Horaires!$A$3:$E$49,2,)","v":"XXX"},{"$f":"IF(AR55=\"vacances\",INDEX(Horaires!$H$3:$L$42,MATCH('Solde d''heure collaborateur'!AR$2,Horaires!$H$3:$H$40,0),4),IF(AR55=\"maladie\",INDEX(Horaires!$H$3:$L$42,MATCH('Solde d''heure collaborateur'!AR$2,Horaires!$H$3:$H$40,0),5),VLOOKUP(AQ55,Horaires!$A$3:$E$60,5,)))","v":0},null,{"$f":"INDEX(Planning!$15:$15,MATCH('Solde d''heure collaborateur'!$A55,Planning!$3:$3))","v":"R"},{"$f":"VLOOKUP(AU55,Horaires!$A$3:$E$49,2,)","v":"Congé"},{"$f":"IF(AV55=\"vacances\",INDEX(Horaires!$H$3:$L$42,MATCH('Solde d''heure collaborateur'!AV$2,Horaires!$H$3:$H$40,0),4),IF(AV55=\"maladie\",INDEX(Horaires!$H$3:$L$42,MATCH('Solde d''heure collaborateur'!AV$2,Horaires!$H$3:$H$40,0),5),VLOOKUP(AU55,Horaires!$A$3:$E$60,5,)))","v":0},null,{"$f":"INDEX(Planning!$16:$16,MATCH('Solde d''heure collaborateur'!$A55,Planning!$3:$3))","v":"Nyon1"},{"$f":"VLOOKUP(AY55,Horaires!$A$3:$E$49,2,)","v":"Nyon"},{"$f":"IF(AZ55=\"vacances\",INDEX(Horaires!$H$3:$L$42,MATCH('Solde d''heure collaborateur'!AZ$2,Horaires!$H$3:$H$40,0),4),IF(AZ55=\"maladie\",INDEX(Horaires!$H$3:$L$42,MATCH('Solde d''heure collaborateur'!AZ$2,Horaires!$H$3:$H$40,0),5),VLOOKUP(AY55,Horaires!$A$3:$E$60,5,)))","v":0.44791666666666669},null,{"$f":"INDEX(Planning!$17:$17,MATCH('Solde d''heure collaborateur'!$A55,Planning!$3:$3))","v":"vibferm"},{"$f":"VLOOKUP(BC55,Horaires!$A$3:$E$49,2,)","v":"Vibert ferm"},{"$f":"IF(BD55=\"vacances\",INDEX(Horaires!$H$3:$L$42,MATCH('Solde d''heure collaborateur'!BD$2,Horaires!$H$3:$H$40,0),4),IF(BD55=\"maladie\",INDEX(Horaires!$H$3:$L$42,MATCH('Solde d''heure collaborateur'!BD$2,Horaires!$H$3:$H$40,0),5),VLOOKUP(BC55,Horaires!$A$3:$E$60,5,)))","v":0.42708333333333331},null,{"$f":"INDEX(Planning!$18:$18,MATCH('Solde d''heure collaborateur'!$A55,Planning!$3:$3))","v":"R"},{"$f":"VLOOKUP(BG55,Horaires!$A$3:$E$49,2,)","v":"Congé"},{"$f":"IF(BH55=\"vacances\",INDEX(Horaires!$H$3:$L$42,MATCH('Solde d''heure collaborateur'!BH$2,Horaires!$H$3:$H$40,0),4),IF(BH55=\"maladie\",INDEX(Horaires!$H$3:$L$42,MATCH('Solde d''heure collaborateur'!BH$2,Horaires!$H$3:$H$40,0),5),VLOOKUP(BG55,Horaires!$A$3:$E$60,5,)))","v":0},null,{"$f":"INDEX(Planning!$19:$19,MATCH('Solde d''heure collaborateur'!$A55,Planning!$3:$3))","v":"Vibjeu"},{"$f":"VLOOKUP(BK55,Horaires!$A$3:$E$49,2,)","v":"Vibert"},{"$f":"IF(BL55=\"vacances\",INDEX(Horaires!$H$3:$L$42,MATCH('Solde d''heure collaborateur'!BL$2,Horaires!$H$3:$H$40,0),4),IF(BL55=\"maladie\",INDEX(Horaires!$H$3:$L$42,MATCH('Solde d''heure collaborateur'!BL$2,Horaires!$H$3:$H$40,0),5),VLOOKUP(BK55,Horaires!$A$3:$E$60,5,)))","v":0.45833333333333331},null,{"$f":"INDEX(Planning!$20:$20,MATCH('Solde d''heure collaborateur'!$A55,Planning!$3:$3))","v":"Aca2"},{"$f":"VLOOKUP(BO55,Horaires!$A$3:$E$49,2,)","v":"Acacias"},{"$f":"IF(BP55=\"vacances\",INDEX(Horaires!$H$3:$L$42,MATCH('Solde d''heure collaborateur'!BP$2,Horaires!$H$3:$H$40,0),4),IF(BP55=\"maladie\",INDEX(Horaires!$H$3:$L$42,MATCH('Solde d''heure collaborateur'!BP$2,Horaires!$H$3:$H$40,0),5),VLOOKUP(BO55,Horaires!$A$3:$E$60,5,)))","v":0.46874999999999994},null,{"$f":"INDEX(Planning!$21:$21,MATCH('Solde d''heure collaborateur'!$A55,Planning!$3:$3))","v":"Ves2"},{"$f":"VLOOKUP(BS55,Horaires!$A$3:$E$49,2,)","v":"Vesenaz"},{"$f":"IF(BT55=\"vacances\",INDEX(Horaires!$H$3:$L$42,MATCH('Solde d''heure collaborateur'!BT$2,Horaires!$H$3:$H$40,0),4),IF(BT55=\"maladie\",INDEX(Horaires!$H$3:$L$42,MATCH('Solde d''heure collaborateur'!BT$2,Horaires!$H$3:$H$40,0),5),VLOOKUP(BS55,Horaires!$A$3:$E$60,5,)))","v":0.46874999999999994},null,{"$f":"INDEX(Planning!$22:$22,MATCH('Solde d''heure collaborateur'!$A55,Planning!$3:$3))","v":"X"},{"$f":"VLOOKUP(BW55,Horaires!$A$3:$E$49,2,)","v":"XXX"},{"$f":"IF(BX55=\"vacances\",INDEX(Horaires!$H$3:$L$42,MATCH('Solde d''heure collaborateur'!BX$2,Horaires!$H$3:$H$40,0),4),IF(BX55=\"maladie\",INDEX(Horaires!$H$3:$L$42,MATCH('Solde d''heure collaborateur'!BX$2,Horaires!$H$3:$H$40,0),5),VLOOKUP(BW55,Horaires!$A$3:$E$60,5,)))","v":0},null,{"$f":"INDEX(Planning!$23:$23,MATCH('Solde d''heure collaborateur'!$A55,Planning!$3:$3))","v":"Plo2"},{"$f":"VLOOKUP(CA55,Horaires!$A$3:$E$49,2,)","v":"Plan les Ouates"},{"$f":"IF(CB55=\"vacances\",INDEX(Horaires!$H$3:$L$42,MATCH('Solde d''heure collaborateur'!CB$2,Horaires!$H$3:$H$40,0),4),IF(CB55=\"maladie\",INDEX(Horaires!$H$3:$L$42,MATCH('Solde d''heure collaborateur'!CB$2,Horaires!$H$3:$H$40,0),5),VLOOKUP(CA55,Horaires!$A$3:$E$60,5,)))","v":0.48958333333333331},null,{"$f":"INDEX(Planning!$24:$24,MATCH('Solde d''heure collaborateur'!$A55,Planning!$3:$3))","v":"R"},{"$f":"VLOOKUP(CE55,Horaires!$A$3:$E$49,2,)","v":"Congé"},{"$f":"IF(CF55=\"vacances\",INDEX(Horaires!$H$3:$L$42,MATCH('Solde d''heure collaborateur'!CF$2,Horaires!$H$3:$H$40,0),4),IF(CF55=\"maladie\",INDEX(Horaires!$H$3:$L$42,MATCH('Solde d''heure collaborateur'!CF$2,Horaires!$H$3:$H$40,0),5),VLOOKUP(CE55,Horaires!$A$3:$E$60,5,)))","v":0},null,{"$f":"INDEX(Planning!$25:$25,MATCH('Solde d''heure collaborateur'!$A55,Planning!$3:$3))","v":"X"},{"$f":"VLOOKUP(CI55,Horaires!$A$3:$E$49,2,)","v":"XXX"},{"$f":"IF(CJ55=\"vacances\",INDEX(Horaires!$H$3:$L$42,MATCH('Solde d''heure collaborateur'!CJ$2,Horaires!$H$3:$H$40,0),4),IF(CJ55=\"maladie\",INDEX(Horaires!$H$3:$L$42,MATCH('Solde d''heure collaborateur'!CJ$2,Horaires!$H$3:$H$40,0),5),VLOOKUP(CI55,Horaires!$A$3:$E$60,5,)))","v":0},null,{"$f":"INDEX(Planning!$26:$26,MATCH('Solde d''heure collaborateur'!$A55,Planning!$3:$3))","v":"Vid2"},{"$f":"VLOOKUP(CM55,Horaires!$A$3:$E$49,2,)","v":"Vidollet"},{"$f":"IF(CN55=\"vacances\",INDEX(Horaires!$H$3:$L$42,MATCH('Solde d''heure collaborateur'!CN$2,Horaires!$H$3:$H$40,0),4),IF(CN55=\"maladie\",INDEX(Horaires!$H$3:$L$42,MATCH('Solde d''heure collaborateur'!CN$2,Horaires!$H$3:$H$40,0),5),VLOOKUP(CM55,Horaires!$A$3:$E$60,5,)))","v":0.46874999999999994},null,{"$f":"INDEX(Planning!$27:$27,MATCH('Solde d''heure collaborateur'!$A55,Planning!$3:$3))","v":"R"},{"$f":"VLOOKUP(CQ55,Horaires!$A$3:$E$49,2,)","v":"Congé"},{"$f":"IF(CR55=\"vacances\",INDEX(Horaires!$H$3:$L$42,MATCH('Solde d''heure collaborateur'!CR$2,Horaires!$H$3:$H$40,0),4),IF(CR55=\"maladie\",INDEX(Horaires!$H$3:$L$42,MATCH('Solde d''heure collaborateur'!CR$2,Horaires!$H$3:$H$40,0),5),VLOOKUP(CQ55,Horaires!$A$3:$E$60,5,)))","v":0},null,{"$f":"INDEX(Planning!$28:$28,MATCH('Solde d''heure collaborateur'!$A55,Planning!$3:$3))","v":"tour2"},{"$f":"VLOOKUP(CU55,Horaires!$A$3:$E$49,2,)","v":"Tourelle"},{"$f":"IF(CV55=\"vacances\",INDEX(Horaires!$H$3:$L$42,MATCH('Solde d''heure collaborateur'!CV$2,Horaires!$H$3:$H$40,0),4),IF(CV55=\"maladie\",INDEX(Horaires!$H$3:$L$42,MATCH('Solde d''heure collaborateur'!CV$2,Horaires!$H$3:$H$40,0),5),VLOOKUP(CU55,Horaires!$A$3:$E$60,5,)))","v":0.48958333333333331},null,{"$f":"INDEX(Planning!$29:$29,MATCH('Solde d''heure collaborateur'!$A55,Planning!$3:$3))","v":"X"},{"$f":"VLOOKUP(CY55,Horaires!$A$3:$E$49,2,)","v":"XXX"},{"$f":"IF(CZ55=\"vacances\",INDEX(Horaires!$H$3:$L$42,MATCH('Solde d''heure collaborateur'!CZ$2,Horaires!$H$3:$H$40,0),4),IF(CZ55=\"maladie\",INDEX(Horaires!$H$3:$L$42,MATCH('Solde d''heure collaborateur'!CZ$2,Horaires!$H$3:$H$40,0),5),VLOOKUP(CY55,Horaires!$A$3:$E$60,5,)))","v":0},null,{"$f":"INDEX(Planning!$30:$30,MATCH('Solde d''heure collaborateur'!$A55,Planning!$3:$3))","v":"X"},{"$f":"VLOOKUP(DC55,Horaires!$A$3:$E$49,2,)","v":"XXX"},{"$f":"IF(DD55=\"vacances\",INDEX(Horaires!$H$3:$L$42,MATCH('Solde d''heure collaborateur'!DD$2,Horaires!$H$3:$H$40,0),4),IF(DD55=\"maladie\",INDEX(Horaires!$H$3:$L$42,MATCH('Solde d''heure collaborateur'!DD$2,Horaires!$H$3:$H$40,0),5),VLOOKUP(DC55,Horaires!$A$3:$E$60,5,)))","v":0},null,{"$f":"INDEX(Planning!$31:$31,MATCH('Solde d''heure collaborateur'!$A55,Planning!$3:$3))","v":"X"},{"$f":"VLOOKUP(DG55,Horaires!$A$3:$E$49,2,)","v":"XXX"},{"$f":"IF(DH55=\"vacances\",INDEX(Horaires!$H$3:$L$42,MATCH('Solde d''heure collaborateur'!DH$2,Horaires!$H$3:$H$40,0),4),IF(DH55=\"maladie\",INDEX(Horaires!$H$3:$L$42,MATCH('Solde d''heure collaborateur'!DH$2,Horaires!$H$3:$H$40,0),5),VLOOKUP(DG55,Horaires!$A$3:$E$60,5,)))","v":0},null,{"$f":"INDEX(Planning!$32:$32,MATCH('Solde d''heure collaborateur'!$A55,Planning!$3:$3))","v":"X"},{"$f":"VLOOKUP(DK55,Horaires!$A$3:$E$49,2,)","v":"XXX"},{"$f":"IF(DL55=\"vacances\",INDEX(Horaires!$H$3:$L$42,MATCH('Solde d''heure collaborateur'!DL$2,Horaires!$H$3:$H$40,0),4),IF(DL55=\"maladie\",INDEX(Horaires!$H$3:$L$42,MATCH('Solde d''heure collaborateur'!DL$2,Horaires!$H$3:$H$40,0),5),VLOOKUP(DK55,Horaires!$A$3:$E$60,5,)))","v":0},null,{"$f":"INDEX(Planning!$33:$33,MATCH('Solde d''heure collaborateur'!$A55,Planning!$3:$3))","v":"X"},{"$f":"VLOOKUP(DO55,Horaires!$A$3:$E$49,2,)","v":"XXX"},{"$f":"IF(DP55=\"vacances\",INDEX(Horaires!$H$3:$L$42,MATCH('Solde d''heure collaborateur'!DP$2,Horaires!$H$3:$H$40,0),4),IF(DP55=\"maladie\",INDEX(Horaires!$H$3:$L$42,MATCH('Solde d''heure collaborateur'!DP$2,Horaires!$H$3:$H$40,0),5),VLOOKUP(DO55,Horaires!$A$3:$E$60,5,)))","v":0},null,{"$f":"INDEX(Planning!$34:$34,MATCH('Solde d''heure collaborateur'!$A55,Planning!$3:$3))","v":"X"},{"$f":"VLOOKUP(DS55,Horaires!$A$3:$E$49,2,)","v":"XXX"},{"$f":"IF(DT55=\"vacances\",INDEX(Horaires!$H$3:$L$42,MATCH('Solde d''heure collaborateur'!DT$2,Horaires!$H$3:$H$40,0),4),IF(DT55=\"maladie\",INDEX(Horaires!$H$3:$L$42,MATCH('Solde d''heure collaborateur'!DT$2,Horaires!$H$3:$H$40,0),5),VLOOKUP(DS55,Horaires!$A$3:$E$60,5,)))","v":0},null,{"$f":"INDEX(Planning!$35:$35,MATCH('Solde d''heure collaborateur'!$A55,Planning!$3:$3))","v":"X"},{"$f":"VLOOKUP(DW55,Horaires!$A$3:$E$49,2,)","v":"XXX"},{"$f":"IF(DX55=\"vacances\",INDEX(Horaires!$H$3:$L$42,MATCH('Solde d''heure collaborateur'!DX$2,Horaires!$H$3:$H$40,0),4),IF(DX55=\"maladie\",INDEX(Horaires!$H$3:$L$42,MATCH('Solde d''heure collaborateur'!DX$2,Horaires!$H$3:$H$40,0),5),VLOOKUP(DW55,Horaires!$A$3:$E$60,5,)))","v":0}]
[{"$f":"A55+1","v":"2013-12-20"},null,{"$f":"INDEX(Planning!$4:$4,MATCH('Solde d''heure collaborateur'!A56,Planning!$3:$3,0))","v":"Nav2"},{"$f":"VLOOKUP(C56,Horaires!$A$3:$E$49,2,)","v":"Navigation"},{"$f":"IF(D56=\"vacances\",INDEX(Horaires!$H$3:$L$42,MATCH('Solde d''heure collaborateur'!D$2,Horaires!$H$3:$H$40,0),4),IF(D56=\"maladie\",INDEX(Horaires!$H$3:$L$42,MATCH('Solde d''heure collaborateur'!D$2,Horaires!$H$3:$H$40,0),5),VLOOKUP(C56,Horaires!$A$3:$E$60,5,)))","v":0.46874999999999994},null,{"$f":"INDEX(Planning!$5:$5,MATCH('Solde d''heure collaborateur'!A56,Planning!$3:$3))","v":"Pom2"},{"$f":"VLOOKUP(G56,Horaires!$A$3:$E$49,2,)","v":"Pommier"},{"$f":"IF(H56=\"vacances\",INDEX(Horaires!$H$3:$L$42,MATCH('Solde d''heure collaborateur'!H$2,Horaires!$H$3:$H$40,0),4),IF(H56=\"maladie\",INDEX(Horaires!$H$3:$L$42,MATCH('Solde d''heure collaborateur'!H$2,Horaires!$H$3:$H$40,0),5),VLOOKUP(G56,Horaires!$A$3:$E$60,5,)))","v":0.46874999999999994},null,{"$f":"INDEX(Planning!$6:$6,MATCH('Solde d''heure collaborateur'!A56,Planning!$3:$3))","v":"R"},{"$f":"VLOOKUP(K56,Horaires!$A$3:$E$49,2,)","v":"Congé"},{"$f":"IF(L56=\"vacances\",INDEX(Horaires!$H$3:$L$42,MATCH('Solde d''heure collaborateur'!L$2,Horaires!$H$3:$H$40,0),4),IF(L56=\"maladie\",INDEX(Horaires!$H$3:$L$42,MATCH('Solde d''heure collaborateur'!L$2,Horaires!$H$3:$H$40,0),5),VLOOKUP(K56,Horaires!$A$3:$E$60,5,)))","v":0},null,{"$f":"INDEX(Planning!$7:$7,MATCH('Solde d''heure collaborateur'!$A56,Planning!$3:$3))","v":"X"},{"$f":"VLOOKUP(O56,Horaires!$A$3:$E$49,2,)","v":"XXX"},{"$f":"IF(P56=\"vacances\",INDEX(Horaires!$H$3:$L$42,MATCH('Solde d''heure collaborateur'!P$2,Horaires!$H$3:$H$40,0),4),IF(P56=\"maladie\",INDEX(Horaires!$H$3:$L$42,MATCH('Solde d''heure collaborateur'!P$2,Horaires!$H$3:$H$40,0),5),VLOOKUP(O56,Horaires!$A$3:$E$60,5,)))","v":0},null,{"$f":"INDEX(Planning!$8:$8,MATCH('Solde d''heure collaborateur'!$A56,Planning!$3:$3))","v":"R"},{"$f":"VLOOKUP(S56,Horaires!$A$3:$E$49,2,)","v":"Congé"},{"$f":"IF(T56=\"vacances\",INDEX(Horaires!$H$3:$L$42,MATCH('Solde d''heure collaborateur'!T$2,Horaires!$H$3:$H$40,0),4),IF(T56=\"maladie\",INDEX(Horaires!$H$3:$L$42,MATCH('Solde d''heure collaborateur'!T$2,Horaires!$H$3:$H$40,0),5),VLOOKUP(S56,Horaires!$A$3:$E$60,5,)))","v":0},null,{"$f":"INDEX(Planning!$9:$9,MATCH('Solde d''heure collaborateur'!$A56,Planning!$3:$3))","v":"X"},{"$f":"VLOOKUP(W56,Horaires!$A$3:$E$49,2,)","v":"XXX"},{"$f":"IF(X56=\"vacances\",INDEX(Horaires!$H$3:$L$42,MATCH('Solde d''heure collaborateur'!X$2,Horaires!$H$3:$H$40,0),4),IF(X56=\"maladie\",INDEX(Horaires!$H$3:$L$42,MATCH('Solde d''heure collaborateur'!X$2,Horaires!$H$3:$H$40,0),5),VLOOKUP(W56,Horaires!$A$3:$E$60,5,)))","v":0},null,{"$f":"INDEX(Planning!$10:$10,MATCH('Solde d''heure collaborateur'!$A56,Planning!$3:$3))","v":"onex2"},{"$f":"VLOOKUP(AA56,Horaires!$A$3:$E$49,2,)","v":"Onex"},{"$f":"IF(AB56=\"vacances\",INDEX(Horaires!$H$3:$L$42,MATCH('Solde d''heure collaborateur'!AB$2,Horaires!$H$3:$H$40,0),4),IF(AB56=\"maladie\",INDEX(Horaires!$H$3:$L$42,MATCH('Solde d''heure collaborateur'!AB$2,Horaires!$H$3:$H$40,0),5),VLOOKUP(AA56,Horaires!$A$3:$E$60,5,)))","v":0.48958333333333331},null,{"$f":"INDEX(Planning!$11:$11,MATCH('Solde d''heure collaborateur'!$A56,Planning!$3:$3))","v":"Plo2"},{"$f":"VLOOKUP(AE56,Horaires!$A$3:$E$49,2,)","v":"Plan les Ouates"},{"$f":"IF(AF56=\"vacances\",INDEX(Horaires!$H$3:$L$42,MATCH('Solde d''heure collaborateur'!AF$2,Horaires!$H$3:$H$40,0),4),IF(AF56=\"maladie\",INDEX(Horaires!$H$3:$L$42,MATCH('Solde d''heure collaborateur'!AF$2,Horaires!$H$3:$H$40,0),5),VLOOKUP(AE56,Horaires!$A$3:$E$60,5,)))","v":0.48958333333333331},null,{"$f":"INDEX(Planning!$12:$12,MATCH('Solde d''heure collaborateur'!$A56,Planning!$3:$3))","v":"R"},{"$f":"VLOOKUP(AI56,Horaires!$A$3:$E$49,2,)","v":"Congé"},{"$f":"IF(AJ56=\"vacances\",INDEX(Horaires!$H$3:$L$42,MATCH('Solde d''heure collaborateur'!AJ$2,Horaires!$H$3:$H$40,0),4),IF(AJ56=\"maladie\",INDEX(Horaires!$H$3:$L$42,MATCH('Solde d''heure collaborateur'!AJ$2,Horaires!$H$3:$H$40,0),5),VLOOKUP(AI56,Horaires!$A$3:$E$60,5,)))","v":0},null,{"$f":"INDEX(Planning!$13:$13,MATCH('Solde d''heure collaborateur'!$A56,Planning!$3:$3))","v":"Nav2"},{"$f":"VLOOKUP(AM56,Horaires!$A$3:$E$49,2,)","v":"Navigation"},{"$f":"IF(AN56=\"vacances\",INDEX(Horaires!$H$3:$L$42,MATCH('Solde d''heure collaborateur'!AN$2,Horaires!$H$3:$H$40,0),4),IF(AN56=\"maladie\",INDEX(Horaires!$H$3:$L$42,MATCH('Solde d''heure collaborateur'!AN$2,Horaires!$H$3:$H$40,0),5),VLOOKUP(AM56,Horaires!$A$3:$E$60,5,)))","v":0.46874999999999994},null,{"$f":"INDEX(Planning!$14:$14,MATCH('Solde d''heure collaborateur'!$A56,Planning!$3:$3))","v":"M"},{"$f":"VLOOKUP(AQ56,Horaires!$A$3:$E$49,2,)","v":"Maladie"},{"$f":"IF(AR56=\"vacances\",INDEX(Horaires!$H$3:$L$42,MATCH('Solde d''heure collaborateur'!AR$2,Horaires!$H$3:$H$40,0),4),IF(AR56=\"maladie\",INDEX(Horaires!$H$3:$L$42,MATCH('Solde d''heure collaborateur'!AR$2,Horaires!$H$3:$H$40,0),5),VLOOKUP(AQ56,Horaires!$A$3:$E$60,5,)))","v":0.46180555555555558},null,{"$f":"INDEX(Planning!$15:$15,MATCH('Solde d''heure collaborateur'!$A56,Planning!$3:$3))","v":"Nyon1"},{"$f":"VLOOKUP(AU56,Horaires!$A$3:$E$49,2,)","v":"Nyon"},{"$f":"IF(AV56=\"vacances\",INDEX(Horaires!$H$3:$L$42,MATCH('Solde d''heure collaborateur'!AV$2,Horaires!$H$3:$H$40,0),4),IF(AV56=\"maladie\",INDEX(Horaires!$H$3:$L$42,MATCH('Solde d''heure collaborateur'!AV$2,Horaires!$H$3:$H$40,0),5),VLOOKUP(AU56,Horaires!$A$3:$E$60,5,)))","v":0.44791666666666669},null,{"$f":"INDEX(Planning!$16:$16,MATCH('Solde d''heure collaborateur'!$A56,Planning!$3:$3))","v":"R"},{"$f":"VLOOKUP(AY56,Horaires!$A$3:$E$49,2,)","v":"Congé"},{"$f":"IF(AZ56=\"vacances\",INDEX(Horaires!$H$3:$L$42,MATCH('Solde d''heure collaborateur'!AZ$2,Horaires!$H$3:$H$40,0),4),IF(AZ56=\"maladie\",INDEX(Horaires!$H$3:$L$42,MATCH('Solde d''heure collaborateur'!AZ$2,Horaires!$H$3:$H$40,0),5),VLOOKUP(AY56,Horaires!$A$3:$E$60,5,)))","v":0},null,{"$f":"INDEX(Planning!$17:$17,MATCH('Solde d''heure collaborateur'!$A56,Planning!$3:$3))","v":"R"},{"$f":"VLOOKUP(BC56,Horaires!$A$3:$E$49,2,)","v":"Congé"},{"$f":"IF(BD56=\"vacances\",INDEX(Horaires!$H$3:$L$42,MATCH('Solde d''heure collaborateur'!BD$2,Horaires!$H$3:$H$40,0),4),IF(BD56=\"maladie\",INDEX(Horaires!$H$3:$L$42,MATCH('Solde d''heure collaborateur'!BD$2,Horaires!$H$3:$H$40,0),5),VLOOKUP(BC56,Horaires!$A$3:$E$60,5,)))","v":0},null,{"$f":"INDEX(Planning!$18:$18,MATCH('Solde d''heure collaborateur'!$A56,Planning!$3:$3))","v":"Vib2"},{"$f":"VLOOKUP(BG56,Horaires!$A$3:$E$49,2,)","v":"Vibert"},{"$f":"IF(BH56=\"vacances\",INDEX(Horaires!$H$3:$L$42,MATCH('Solde d''heure collaborateur'!BH$2,Horaires!$H$3:$H$40,0),4),IF(BH56=\"maladie\",INDEX(Horaires!$H$3:$L$42,MATCH('Solde d''heure collaborateur'!BH$2,Horaires!$H$3:$H$40,0),5),VLOOKUP(BG56,Horaires!$A$3:$E$60,5,)))","v":0.48958333333333331},null,{"$f":"INDEX(Planning!$19:$19,MATCH('Solde d''heure collaborateur'!$A56,Planning!$3:$3))","v":"Vib2"},{"$f":"VLOOKUP(BK56,Horaires!$A$3:$E$49,2,)","v":"Vibert"},{"$f":"IF(BL56=\"vacances\",INDEX(Horaires!$H$3:$L$42,MATCH('Solde d''heure collaborateur'!BL$2,Horaires!$H$3:$H$40,0),4),IF(BL56=\"maladie\",INDEX(Horaires!$H$3:$L$42,MATCH('Solde d''heure collaborateur'!BL$2,Horaires!$H$3:$H$40,0),5),VLOOKUP(BK56,Horaires!$A$3:$E$60,5,)))","v":0.48958333333333331},null,{"$f":"INDEX(Planning!$20:$20,MATCH('Solde d''heure collaborateur'!$A56,Planning!$3:$3))","v":"Aca2"},{"$f":"VLOOKUP(BO56,Horaires!$A$3:$E$49,2,)","v":"Acacias"},{"$f":"IF(BP56=\"vacances\",INDEX(Horaires!$H$3:$L$42,MATCH('Solde d''heure collaborateur'!BP$2,Horaires!$H$3:$H$40,0),4),IF(BP56=\"maladie\",INDEX(Horaires!$H$3:$L$42,MATCH('Solde d''heure collaborateur'!BP$2,Horaires!$H$3:$H$40,0),5),VLOOKUP(BO56,Horaires!$A$3:$E$60,5,)))","v":0.46874999999999994},null,{"$f":"INDEX(Planning!$21:$21,MATCH('Solde d''heure collaborateur'!$A56,Planning!$3:$3))","v":"Ves2"},{"$f":"VLOOKUP(BS56,Horaires!$A$3:$E$49,2,)","v":"Vesenaz"},{"$f":"IF(BT56=\"vacances\",INDEX(Horaires!$H$3:$L$42,MATCH('Solde d''heure collaborateur'!BT$2,Horaires!$H$3:$H$40,0),4),IF(BT56=\"maladie\",INDEX(Horaires!$H$3:$L$42,MATCH('Solde d''heure collaborateur'!BT$2,Horaires!$H$3:$H$40,0),5),VLOOKUP(BS56,Horaires!$A$3:$E$60,5,)))","v":0.46874999999999994},null,{"$f":"INDEX(Planning!$22:$22,MATCH('Solde d''heure collaborateur'!$A56,Planning!$3:$3))","v":"X"},{"$f":"VLOOKUP(BW56,Horaires!$A$3:$E$49,2,)","v":"XXX"},{"$f":"IF(BX56=\"vacances\",INDEX(Horaires!$H$3:$L$42,MATCH('Solde d''heure collaborateur'!BX$2,Horaires!$H$3:$H$40,0),4),IF(BX56=\"maladie\",INDEX(Horaires!$H$3:$L$42,MATCH('Solde d''heure collaborateur'!BX$2,Horaires!$H$3:$H$40,0),5),VLOOKUP(BW56,Horaires!$A$3:$E$60,5,)))","v":0},null,{"$f":"INDEX(Planning!$23:$23,MATCH('Solde d''heure collaborateur'!$A56,Planning!$3:$3))","v":"R"},{"$f":"VLOOKUP(CA56,Horaires!$A$3:$E$49,2,)","v":"Congé"},{"$f":"IF(CB56=\"vacances\",INDEX(Horaires!$H$3:$L$42,MATCH('Solde d''heure collaborateur'!CB$2,Horaires!$H$3:$H$40,0),4),IF(CB56=\"maladie\",INDEX(Horaires!$H$3:$L$42,MATCH('Solde d''heure collaborateur'!CB$2,Horaires!$H$3:$H$40,0),5),VLOOKUP(CA56,Horaires!$A$3:$E$60,5,)))","v":0},null,{"$f":"INDEX(Planning!$24:$24,MATCH('Solde d''heure collaborateur'!$A56,Planning!$3:$3))","v":"onex2"},{"$f":"VLOOKUP(CE56,Horaires!$A$3:$E$49,2,)","v":"Onex"},{"$f":"IF(CF56=\"vacances\",INDEX(Horaires!$H$3:$L$42,MATCH('Solde d''heure collaborateur'!CF$2,Horaires!$H$3:$H$40,0),4),IF(CF56=\"maladie\",INDEX(Horaires!$H$3:$L$42,MATCH('Solde d''heure collaborateur'!CF$2,Horaires!$H$3:$H$40,0),5),VLOOKUP(CE56,Horaires!$A$3:$E$60,5,)))","v":0.48958333333333331},null,{"$f":"INDEX(Planning!$25:$25,MATCH('Solde d''heure collaborateur'!$A56,Planning!$3:$3))","v":"X"},{"$f":"VLOOKUP(CI56,Horaires!$A$3:$E$49,2,)","v":"XXX"},{"$f":"IF(CJ56=\"vacances\",INDEX(Horaires!$H$3:$L$42,MATCH('Solde d''heure collaborateur'!CJ$2,Horaires!$H$3:$H$40,0),4),IF(CJ56=\"maladie\",INDEX(Horaires!$H$3:$L$42,MATCH('Solde d''heure collaborateur'!CJ$2,Horaires!$H$3:$H$40,0),5),VLOOKUP(CI56,Horaires!$A$3:$E$60,5,)))","v":0},null,{"$f":"INDEX(Planning!$26:$26,MATCH('Solde d''heure collaborateur'!$A56,Planning!$3:$3))","v":"Vid2"},{"$f":"VLOOKUP(CM56,Horaires!$A$3:$E$49,2,)","v":"Vidollet"},{"$f":"IF(CN56=\"vacances\",INDEX(Horaires!$H$3:$L$42,MATCH('Solde d''heure collaborateur'!CN$2,Horaires!$H$3:$H$40,0),4),IF(CN56=\"maladie\",INDEX(Horaires!$H$3:$L$42,MATCH('Solde d''heure collaborateur'!CN$2,Horaires!$H$3:$H$40,0),5),VLOOKUP(CM56,Horaires!$A$3:$E$60,5,)))","v":0.46874999999999994},null,{"$f":"INDEX(Planning!$27:$27,MATCH('Solde d''heure collaborateur'!$A56,Planning!$3:$3))","v":"recup"},{"$f":"VLOOKUP(CQ56,Horaires!$A$3:$E$49,2,)","v":"Récupération"},{"$f":"IF(CR56=\"vacances\",INDEX(Horaires!$H$3:$L$42,MATCH('Solde d''heure collaborateur'!CR$2,Horaires!$H$3:$H$40,0),4),IF(CR56=\"maladie\",INDEX(Horaires!$H$3:$L$42,MATCH('Solde d''heure collaborateur'!CR$2,Horaires!$H$3:$H$40,0),5),VLOOKUP(CQ56,Horaires!$A$3:$E$60,5,)))","v":0},null,{"$f":"INDEX(Planning!$28:$28,MATCH('Solde d''heure collaborateur'!$A56,Planning!$3:$3))","v":"tour2"},{"$f":"VLOOKUP(CU56,Horaires!$A$3:$E$49,2,)","v":"Tourelle"},{"$f":"IF(CV56=\"vacances\",INDEX(Horaires!$H$3:$L$42,MATCH('Solde d''heure collaborateur'!CV$2,Horaires!$H$3:$H$40,0),4),IF(CV56=\"maladie\",INDEX(Horaires!$H$3:$L$42,MATCH('Solde d''heure collaborateur'!CV$2,Horaires!$H$3:$H$40,0),5),VLOOKUP(CU56,Horaires!$A$3:$E$60,5,)))","v":0.48958333333333331},null,{"$f":"INDEX(Planning!$29:$29,MATCH('Solde d''heure collaborateur'!$A56,Planning!$3:$3))","v":"thon2"},{"$f":"VLOOKUP(CY56,Horaires!$A$3:$E$49,2,)","v":"Thonex"},{"$f":"IF(CZ56=\"vacances\",INDEX(Horaires!$H$3:$L$42,MATCH('Solde d''heure collaborateur'!CZ$2,Horaires!$H$3:$H$40,0),4),IF(CZ56=\"maladie\",INDEX(Horaires!$H$3:$L$42,MATCH('Solde d''heure collaborateur'!CZ$2,Horaires!$H$3:$H$40,0),5),VLOOKUP(CY56,Horaires!$A$3:$E$60,5,)))","v":0.46874999999999994},null,{"$f":"INDEX(Planning!$30:$30,MATCH('Solde d''heure collaborateur'!$A56,Planning!$3:$3))","v":"X"},{"$f":"VLOOKUP(DC56,Horaires!$A$3:$E$49,2,)","v":"XXX"},{"$f":"IF(DD56=\"vacances\",INDEX(Horaires!$H$3:$L$42,MATCH('Solde d''heure collaborateur'!DD$2,Horaires!$H$3:$H$40,0),4),IF(DD56=\"maladie\",INDEX(Horaires!$H$3:$L$42,MATCH('Solde d''heure collaborateur'!DD$2,Horaires!$H$3:$H$40,0),5),VLOOKUP(DC56,Horaires!$A$3:$E$60,5,)))","v":0},null,{"$f":"INDEX(Planning!$31:$31,MATCH('Solde d''heure collaborateur'!$A56,Planning!$3:$3))","v":"X"},{"$f":"VLOOKUP(DG56,Horaires!$A$3:$E$49,2,)","v":"XXX"},{"$f":"IF(DH56=\"vacances\",INDEX(Horaires!$H$3:$L$42,MATCH('Solde d''heure collaborateur'!DH$2,Horaires!$H$3:$H$40,0),4),IF(DH56=\"maladie\",INDEX(Horaires!$H$3:$L$42,MATCH('Solde d''heure collaborateur'!DH$2,Horaires!$H$3:$H$40,0),5),VLOOKUP(DG56,Horaires!$A$3:$E$60,5,)))","v":0},null,{"$f":"INDEX(Planning!$32:$32,MATCH('Solde d''heure collaborateur'!$A56,Planning!$3:$3))","v":"X"},{"$f":"VLOOKUP(DK56,Horaires!$A$3:$E$49,2,)","v":"XXX"},{"$f":"IF(DL56=\"vacances\",INDEX(Horaires!$H$3:$L$42,MATCH('Solde d''heure collaborateur'!DL$2,Horaires!$H$3:$H$40,0),4),IF(DL56=\"maladie\",INDEX(Horaires!$H$3:$L$42,MATCH('Solde d''heure collaborateur'!DL$2,Horaires!$H$3:$H$40,0),5),VLOOKUP(DK56,Horaires!$A$3:$E$60,5,)))","v":0},null,{"$f":"INDEX(Planning!$33:$33,MATCH('Solde d''heure collaborateur'!$A56,Planning!$3:$3))","v":"X"},{"$f":"VLOOKUP(DO56,Horaires!$A$3:$E$49,2,)","v":"XXX"},{"$f":"IF(DP56=\"vacances\",INDEX(Horaires!$H$3:$L$42,MATCH('Solde d''heure collaborateur'!DP$2,Horaires!$H$3:$H$40,0),4),IF(DP56=\"maladie\",INDEX(Horaires!$H$3:$L$42,MATCH('Solde d''heure collaborateur'!DP$2,Horaires!$H$3:$H$40,0),5),VLOOKUP(DO56,Horaires!$A$3:$E$60,5,)))","v":0},null,{"$f":"INDEX(Planning!$34:$34,MATCH('Solde d''heure collaborateur'!$A56,Planning!$3:$3))","v":"X"},{"$f":"VLOOKUP(DS56,Horaires!$A$3:$E$49,2,)","v":"XXX"},{"$f":"IF(DT56=\"vacances\",INDEX(Horaires!$H$3:$L$42,MATCH('Solde d''heure collaborateur'!DT$2,Horaires!$H$3:$H$40,0),4),IF(DT56=\"maladie\",INDEX(Horaires!$H$3:$L$42,MATCH('Solde d''heure collaborateur'!DT$2,Horaires!$H$3:$H$40,0),5),VLOOKUP(DS56,Horaires!$A$3:$E$60,5,)))","v":0},null,{"$f":"INDEX(Planning!$35:$35,MATCH('Solde d''heure collaborateur'!$A56,Planning!$3:$3))","v":"X"},{"$f":"VLOOKUP(DW56,Horaires!$A$3:$E$49,2,)","v":"XXX"},{"$f":"IF(DX56=\"vacances\",INDEX(Horaires!$H$3:$L$42,MATCH('Solde d''heure collaborateur'!DX$2,Horaires!$H$3:$H$40,0),4),IF(DX56=\"maladie\",INDEX(Horaires!$H$3:$L$42,MATCH('Solde d''heure collaborateur'!DX$2,Horaires!$H$3:$H$40,0),5),VLOOKUP(DW56,Horaires!$A$3:$E$60,5,)))","v":0}]
[{"$f":"A56+1","v":"2013-12-21"},null,{"$f":"INDEX(Planning!$4:$4,MATCH('Solde d''heure collaborateur'!A57,Planning!$3:$3,0))","v":"Nav3"},{"$f":"VLOOKUP(C57,Horaires!$A$3:$E$49,2,)","v":"Navigation"},{"$f":"IF(D57=\"vacances\",INDEX(Horaires!$H$3:$L$42,MATCH('Solde d''heure collaborateur'!D$2,Horaires!$H$3:$H$40,0),4),IF(D57=\"maladie\",INDEX(Horaires!$H$3:$L$42,MATCH('Solde d''heure collaborateur'!D$2,Horaires!$H$3:$H$40,0),5),VLOOKUP(C57,Horaires!$A$3:$E$60,5,)))","v":0.40624999999999994},null,{"$f":"INDEX(Planning!$5:$5,MATCH('Solde d''heure collaborateur'!A57,Planning!$3:$3))","v":"Pom3"},{"$f":"VLOOKUP(G57,Horaires!$A$3:$E$49,2,)","v":"Pommier"},{"$f":"IF(H57=\"vacances\",INDEX(Horaires!$H$3:$L$42,MATCH('Solde d''heure collaborateur'!H$2,Horaires!$H$3:$H$40,0),4),IF(H57=\"maladie\",INDEX(Horaires!$H$3:$L$42,MATCH('Solde d''heure collaborateur'!H$2,Horaires!$H$3:$H$40,0),5),VLOOKUP(G57,Horaires!$A$3:$E$60,5,)))","v":0.42708333333333331},null,{"$f":"INDEX(Planning!$6:$6,MATCH('Solde d''heure collaborateur'!A57,Planning!$3:$3))","v":"R"},{"$f":"VLOOKUP(K57,Horaires!$A$3:$E$49,2,)","v":"Congé"},{"$f":"IF(L57=\"vacances\",INDEX(Horaires!$H$3:$L$42,MATCH('Solde d''heure collaborateur'!L$2,Horaires!$H$3:$H$40,0),4),IF(L57=\"maladie\",INDEX(Horaires!$H$3:$L$42,MATCH('Solde d''heure collaborateur'!L$2,Horaires!$H$3:$H$40,0),5),VLOOKUP(K57,Horaires!$A$3:$E$60,5,)))","v":0},null,{"$f":"INDEX(Planning!$7:$7,MATCH('Solde d''heure collaborateur'!$A57,Planning!$3:$3))","v":"X"},{"$f":"VLOOKUP(O57,Horaires!$A$3:$E$49,2,)","v":"XXX"},{"$f":"IF(P57=\"vacances\",INDEX(Horaires!$H$3:$L$42,MATCH('Solde d''heure collaborateur'!P$2,Horaires!$H$3:$H$40,0),4),IF(P57=\"maladie\",INDEX(Horaires!$H$3:$L$42,MATCH('Solde d''heure collaborateur'!P$2,Horaires!$H$3:$H$40,0),5),VLOOKUP(O57,Horaires!$A$3:$E$60,5,)))","v":0},null,{"$f":"INDEX(Planning!$8:$8,MATCH('Solde d''heure collaborateur'!$A57,Planning!$3:$3))","v":"R"},{"$f":"VLOOKUP(S57,Horaires!$A$3:$E$49,2,)","v":"Congé"},{"$f":"IF(T57=\"vacances\",INDEX(Horaires!$H$3:$L$42,MATCH('Solde d''heure collaborateur'!T$2,Horaires!$H$3:$H$40,0),4),IF(T57=\"maladie\",INDEX(Horaires!$H$3:$L$42,MATCH('Solde d''heure collaborateur'!T$2,Horaires!$H$3:$H$40,0),5),VLOOKUP(S57,Horaires!$A$3:$E$60,5,)))","v":0},null,{"$f":"INDEX(Planning!$9:$9,MATCH('Solde d''heure collaborateur'!$A57,Planning!$3:$3))","v":"X"},{"$f":"VLOOKUP(W57,Horaires!$A$3:$E$49,2,)","v":"XXX"},{"$f":"IF(X57=\"vacances\",INDEX(Horaires!$H$3:$L$42,MATCH('Solde d''heure collaborateur'!X$2,Horaires!$H$3:$H$40,0),4),IF(X57=\"maladie\",INDEX(Horaires!$H$3:$L$42,MATCH('Solde d''heure collaborateur'!X$2,Horaires!$H$3:$H$40,0),5),VLOOKUP(W57,Horaires!$A$3:$E$60,5,)))","v":0},null,{"$f":"INDEX(Planning!$10:$10,MATCH('Solde d''heure collaborateur'!$A57,Planning!$3:$3))","v":"onex3"},{"$f":"VLOOKUP(AA57,Horaires!$A$3:$E$49,2,)","v":"Onex"},{"$f":"IF(AB57=\"vacances\",INDEX(Horaires!$H$3:$L$42,MATCH('Solde d''heure collaborateur'!AB$2,Horaires!$H$3:$H$40,0),4),IF(AB57=\"maladie\",INDEX(Horaires!$H$3:$L$42,MATCH('Solde d''heure collaborateur'!AB$2,Horaires!$H$3:$H$40,0),5),VLOOKUP(AA57,Horaires!$A$3:$E$60,5,)))","v":0.42708333333333331},null,{"$f":"INDEX(Planning!$11:$11,MATCH('Solde d''heure collaborateur'!$A57,Planning!$3:$3))","v":"Plo3"},{"$f":"VLOOKUP(AE57,Horaires!$A$3:$E$49,2,)","v":"Plan les Ouates"},{"$f":"IF(AF57=\"vacances\",INDEX(Horaires!$H$3:$L$42,MATCH('Solde d''heure collaborateur'!AF$2,Horaires!$H$3:$H$40,0),4),IF(AF57=\"maladie\",INDEX(Horaires!$H$3:$L$42,MATCH('Solde d''heure collaborateur'!AF$2,Horaires!$H$3:$H$40,0),5),VLOOKUP(AE57,Horaires!$A$3:$E$60,5,)))","v":0.42708333333333331},null,{"$f":"INDEX(Planning!$12:$12,MATCH('Solde d''heure collaborateur'!$A57,Planning!$3:$3))","v":"Thon3"},{"$f":"VLOOKUP(AI57,Horaires!$A$3:$E$49,2,)","v":"Thonex"},{"$f":"IF(AJ57=\"vacances\",INDEX(Horaires!$H$3:$L$42,MATCH('Solde d''heure collaborateur'!AJ$2,Horaires!$H$3:$H$40,0),4),IF(AJ57=\"maladie\",INDEX(Horaires!$H$3:$L$42,MATCH('Solde d''heure collaborateur'!AJ$2,Horaires!$H$3:$H$40,0),5),VLOOKUP(AI57,Horaires!$A$3:$E$60,5,)))","v":0.40624999999999994},null,{"$f":"INDEX(Planning!$13:$13,MATCH('Solde d''heure collaborateur'!$A57,Planning!$3:$3))","v":"Nav3"},{"$f":"VLOOKUP(AM57,Horaires!$A$3:$E$49,2,)","v":"Navigation"},{"$f":"IF(AN57=\"vacances\",INDEX(Horaires!$H$3:$L$42,MATCH('Solde d''heure collaborateur'!AN$2,Horaires!$H$3:$H$40,0),4),IF(AN57=\"maladie\",INDEX(Horaires!$H$3:$L$42,MATCH('Solde d''heure collaborateur'!AN$2,Horaires!$H$3:$H$40,0),5),VLOOKUP(AM57,Horaires!$A$3:$E$60,5,)))","v":0.40624999999999994},null,{"$f":"INDEX(Planning!$14:$14,MATCH('Solde d''heure collaborateur'!$A57,Planning!$3:$3))","v":"M"},{"$f":"VLOOKUP(AQ57,Horaires!$A$3:$E$49,2,)","v":"Maladie"},{"$f":"IF(AR57=\"vacances\",INDEX(Horaires!$H$3:$L$42,MATCH('Solde d''heure collaborateur'!AR$2,Horaires!$H$3:$H$40,0),4),IF(AR57=\"maladie\",INDEX(Horaires!$H$3:$L$42,MATCH('Solde d''heure collaborateur'!AR$2,Horaires!$H$3:$H$40,0),5),VLOOKUP(AQ57,Horaires!$A$3:$E$60,5,)))","v":0.46180555555555558},null,{"$f":"INDEX(Planning!$15:$15,MATCH('Solde d''heure collaborateur'!$A57,Planning!$3:$3))","v":"Nyon2"},{"$f":"VLOOKUP(AU57,Horaires!$A$3:$E$49,2,)","v":"Nyon"},{"$f":"IF(AV57=\"vacances\",INDEX(Horaires!$H$3:$L$42,MATCH('Solde d''heure collaborateur'!AV$2,Horaires!$H$3:$H$40,0),4),IF(AV57=\"maladie\",INDEX(Horaires!$H$3:$L$42,MATCH('Solde d''heure collaborateur'!AV$2,Horaires!$H$3:$H$40,0),5),VLOOKUP(AU57,Horaires!$A$3:$E$60,5,)))","v":0.40624999999999994},null,{"$f":"INDEX(Planning!$16:$16,MATCH('Solde d''heure collaborateur'!$A57,Planning!$3:$3))","v":"Nyon2"},{"$f":"VLOOKUP(AY57,Horaires!$A$3:$E$49,2,)","v":"Nyon"},{"$f":"IF(AZ57=\"vacances\",INDEX(Horaires!$H$3:$L$42,MATCH('Solde d''heure collaborateur'!AZ$2,Horaires!$H$3:$H$40,0),4),IF(AZ57=\"maladie\",INDEX(Horaires!$H$3:$L$42,MATCH('Solde d''heure collaborateur'!AZ$2,Horaires!$H$3:$H$40,0),5),VLOOKUP(AY57,Horaires!$A$3:$E$60,5,)))","v":0.40624999999999994},null,{"$f":"INDEX(Planning!$17:$17,MATCH('Solde d''heure collaborateur'!$A57,Planning!$3:$3))","v":"Vib3"},{"$f":"VLOOKUP(BC57,Horaires!$A$3:$E$49,2,)","v":"Vibert"},{"$f":"IF(BD57=\"vacances\",INDEX(Horaires!$H$3:$L$42,MATCH('Solde d''heure collaborateur'!BD$2,Horaires!$H$3:$H$40,0),4),IF(BD57=\"maladie\",INDEX(Horaires!$H$3:$L$42,MATCH('Solde d''heure collaborateur'!BD$2,Horaires!$H$3:$H$40,0),5),VLOOKUP(BC57,Horaires!$A$3:$E$60,5,)))","v":0.42708333333333331},null,{"$f":"INDEX(Planning!$18:$18,MATCH('Solde d''heure collaborateur'!$A57,Planning!$3:$3))","v":"recup"},{"$f":"VLOOKUP(BG57,Horaires!$A$3:$E$49,2,)","v":"Récupération"},{"$f":"IF(BH57=\"vacances\",INDEX(Horaires!$H$3:$L$42,MATCH('Solde d''heure collaborateur'!BH$2,Horaires!$H$3:$H$40,0),4),IF(BH57=\"maladie\",INDEX(Horaires!$H$3:$L$42,MATCH('Solde d''heure collaborateur'!BH$2,Horaires!$H$3:$H$40,0),5),VLOOKUP(BG57,Horaires!$A$3:$E$60,5,)))","v":0},null,{"$f":"INDEX(Planning!$19:$19,MATCH('Solde d''heure collaborateur'!$A57,Planning!$3:$3))","v":"Vib3"},{"$f":"VLOOKUP(BK57,Horaires!$A$3:$E$49,2,)","v":"Vibert"},{"$f":"IF(BL57=\"vacances\",INDEX(Horaires!$H$3:$L$42,MATCH('Solde d''heure collaborateur'!BL$2,Horaires!$H$3:$H$40,0),4),IF(BL57=\"maladie\",INDEX(Horaires!$H$3:$L$42,MATCH('Solde d''heure collaborateur'!BL$2,Horaires!$H$3:$H$40,0),5),VLOOKUP(BK57,Horaires!$A$3:$E$60,5,)))","v":0.42708333333333331},null,{"$f":"INDEX(Planning!$20:$20,MATCH('Solde d''heure collaborateur'!$A57,Planning!$3:$3))","v":"Aca3"},{"$f":"VLOOKUP(BO57,Horaires!$A$3:$E$49,2,)","v":"Acacias"},{"$f":"IF(BP57=\"vacances\",INDEX(Horaires!$H$3:$L$42,MATCH('Solde d''heure collaborateur'!BP$2,Horaires!$H$3:$H$40,0),4),IF(BP57=\"maladie\",INDEX(Horaires!$H$3:$L$42,MATCH('Solde d''heure collaborateur'!BP$2,Horaires!$H$3:$H$40,0),5),VLOOKUP(BO57,Horaires!$A$3:$E$60,5,)))","v":0.40624999999999994},null,{"$f":"INDEX(Planning!$21:$21,MATCH('Solde d''heure collaborateur'!$A57,Planning!$3:$3))","v":"Ves3"},{"$f":"VLOOKUP(BS57,Horaires!$A$3:$E$49,2,)","v":"Vesenaz"},{"$f":"IF(BT57=\"vacances\",INDEX(Horaires!$H$3:$L$42,MATCH('Solde d''heure collaborateur'!BT$2,Horaires!$H$3:$H$40,0),4),IF(BT57=\"maladie\",INDEX(Horaires!$H$3:$L$42,MATCH('Solde d''heure collaborateur'!BT$2,Horaires!$H$3:$H$40,0),5),VLOOKUP(BS57,Horaires!$A$3:$E$60,5,)))","v":0.40624999999999994},null,{"$f":"INDEX(Planning!$22:$22,MATCH('Solde d''heure collaborateur'!$A57,Planning!$3:$3))","v":"X"},{"$f":"VLOOKUP(BW57,Horaires!$A$3:$E$49,2,)","v":"XXX"},{"$f":"IF(BX57=\"vacances\",INDEX(Horaires!$H$3:$L$42,MATCH('Solde d''heure collaborateur'!BX$2,Horaires!$H$3:$H$40,0),4),IF(BX57=\"maladie\",INDEX(Horaires!$H$3:$L$42,MATCH('Solde d''heure collaborateur'!BX$2,Horaires!$H$3:$H$40,0),5),VLOOKUP(BW57,Horaires!$A$3:$E$60,5,)))","v":0},null,{"$f":"INDEX(Planning!$23:$23,MATCH('Solde d''heure collaborateur'!$A57,Planning!$3:$3))","v":"Plo2"},{"$f":"VLOOKUP(CA57,Horaires!$A$3:$E$49,2,)","v":"Plan les Ouates"},{"$f":"IF(CB57=\"vacances\",INDEX(Horaires!$H$3:$L$42,MATCH('Solde d''heure collaborateur'!CB$2,Horaires!$H$3:$H$40,0),4),IF(CB57=\"maladie\",INDEX(Horaires!$H$3:$L$42,MATCH('Solde d''heure collaborateur'!CB$2,Horaires!$H$3:$H$40,0),5),VLOOKUP(CA57,Horaires!$A$3:$E$60,5,)))","v":0.48958333333333331},null,{"$f":"INDEX(Planning!$24:$24,MATCH('Solde d''heure collaborateur'!$A57,Planning!$3:$3))","v":"onex3"},{"$f":"VLOOKUP(CE57,Horaires!$A$3:$E$49,2,)","v":"Onex"},{"$f":"IF(CF57=\"vacances\",INDEX(Horaires!$H$3:$L$42,MATCH('Solde d''heure collaborateur'!CF$2,Horaires!$H$3:$H$40,0),4),IF(CF57=\"maladie\",INDEX(Horaires!$H$3:$L$42,MATCH('Solde d''heure collaborateur'!CF$2,Horaires!$H$3:$H$40,0),5),VLOOKUP(CE57,Horaires!$A$3:$E$60,5,)))","v":0.42708333333333331},null,{"$f":"INDEX(Planning!$25:$25,MATCH('Solde d''heure collaborateur'!$A57,Planning!$3:$3))","v":"X"},{"$f":"VLOOKUP(CI57,Horaires!$A$3:$E$49,2,)","v":"XXX"},{"$f":"IF(CJ57=\"vacances\",INDEX(Horaires!$H$3:$L$42,MATCH('Solde d''heure collaborateur'!CJ$2,Horaires!$H$3:$H$40,0),4),IF(CJ57=\"maladie\",INDEX(Horaires!$H$3:$L$42,MATCH('Solde d''heure collaborateur'!CJ$2,Horaires!$H$3:$H$40,0),5),VLOOKUP(CI57,Horaires!$A$3:$E$60,5,)))","v":0},null,{"$f":"INDEX(Planning!$26:$26,MATCH('Solde d''heure collaborateur'!$A57,Planning!$3:$3))","v":"Vid3"},{"$f":"VLOOKUP(CM57,Horaires!$A$3:$E$49,2,)","v":"Vidollet"},{"$f":"IF(CN57=\"vacances\",INDEX(Horaires!$H$3:$L$42,MATCH('Solde d''heure collaborateur'!CN$2,Horaires!$H$3:$H$40,0),4),IF(CN57=\"maladie\",INDEX(Horaires!$H$3:$L$42,MATCH('Solde d''heure collaborateur'!CN$2,Horaires!$H$3:$H$40,0),5),VLOOKUP(CM57,Horaires!$A$3:$E$60,5,)))","v":0.40624999999999994},null,{"$f":"INDEX(Planning!$27:$27,MATCH('Solde d''heure collaborateur'!$A57,Planning!$3:$3))","v":"R"},{"$f":"VLOOKUP(CQ57,Horaires!$A$3:$E$49,2,)","v":"Congé"},{"$f":"IF(CR57=\"vacances\",INDEX(Horaires!$H$3:$L$42,MATCH('Solde d''heure collaborateur'!CR$2,Horaires!$H$3:$H$40,0),4),IF(CR57=\"maladie\",INDEX(Horaires!$H$3:$L$42,MATCH('Solde d''heure collaborateur'!CR$2,Horaires!$H$3:$H$40,0),5),VLOOKUP(CQ57,Horaires!$A$3:$E$60,5,)))","v":0},null,{"$f":"INDEX(Planning!$28:$28,MATCH('Solde d''heure collaborateur'!$A57,Planning!$3:$3))","v":"tour3"},{"$f":"VLOOKUP(CU57,Horaires!$A$3:$E$49,2,)","v":"Tourelle"},{"$f":"IF(CV57=\"vacances\",INDEX(Horaires!$H$3:$L$42,MATCH('Solde d''heure collaborateur'!CV$2,Horaires!$H$3:$H$40,0),4),IF(CV57=\"maladie\",INDEX(Horaires!$H$3:$L$42,MATCH('Solde d''heure collaborateur'!CV$2,Horaires!$H$3:$H$40,0),5),VLOOKUP(CU57,Horaires!$A$3:$E$60,5,)))","v":0.42708333333333331},null,{"$f":"INDEX(Planning!$29:$29,MATCH('Solde d''heure collaborateur'!$A57,Planning!$3:$3))","v":"Vib3"},{"$f":"VLOOKUP(CY57,Horaires!$A$3:$E$49,2,)","v":"Vibert"},{"$f":"IF(CZ57=\"vacances\",INDEX(Horaires!$H$3:$L$42,MATCH('Solde d''heure collaborateur'!CZ$2,Horaires!$H$3:$H$40,0),4),IF(CZ57=\"maladie\",INDEX(Horaires!$H$3:$L$42,MATCH('Solde d''heure collaborateur'!CZ$2,Horaires!$H$3:$H$40,0),5),VLOOKUP(CY57,Horaires!$A$3:$E$60,5,)))","v":0.42708333333333331},null,{"$f":"INDEX(Planning!$30:$30,MATCH('Solde d''heure collaborateur'!$A57,Planning!$3:$3))","v":"ves3"},{"$f":"VLOOKUP(DC57,Horaires!$A$3:$E$49,2,)","v":"Vesenaz"},{"$f":"IF(DD57=\"vacances\",INDEX(Horaires!$H$3:$L$42,MATCH('Solde d''heure collaborateur'!DD$2,Horaires!$H$3:$H$40,0),4),IF(DD57=\"maladie\",INDEX(Horaires!$H$3:$L$42,MATCH('Solde d''heure collaborateur'!DD$2,Horaires!$H$3:$H$40,0),5),VLOOKUP(DC57,Horaires!$A$3:$E$60,5,)))","v":0.40624999999999994},null,{"$f":"INDEX(Planning!$31:$31,MATCH('Solde d''heure collaborateur'!$A57,Planning!$3:$3))","v":"onex3"},{"$f":"VLOOKUP(DG57,Horaires!$A$3:$E$49,2,)","v":"Onex"},{"$f":"IF(DH57=\"vacances\",INDEX(Horaires!$H$3:$L$42,MATCH('Solde d''heure collaborateur'!DH$2,Horaires!$H$3:$H$40,0),4),IF(DH57=\"maladie\",INDEX(Horaires!$H$3:$L$42,MATCH('Solde d''heure collaborateur'!DH$2,Horaires!$H$3:$H$40,0),5),VLOOKUP(DG57,Horaires!$A$3:$E$60,5,)))","v":0.42708333333333331},null,{"$f":"INDEX(Planning!$32:$32,MATCH('Solde d''heure collaborateur'!$A57,Planning!$3:$3))","v":"Pom3"},{"$f":"VLOOKUP(DK57,Horaires!$A$3:$E$49,2,)","v":"Pommier"},{"$f":"IF(DL57=\"vacances\",INDEX(Horaires!$H$3:$L$42,MATCH('Solde d''heure collaborateur'!DL$2,Horaires!$H$3:$H$40,0),4),IF(DL57=\"maladie\",INDEX(Horaires!$H$3:$L$42,MATCH('Solde d''heure collaborateur'!DL$2,Horaires!$H$3:$H$40,0),5),VLOOKUP(DK57,Horaires!$A$3:$E$60,5,)))","v":0.42708333333333331},null,{"$f":"INDEX(Planning!$33:$33,MATCH('Solde d''heure collaborateur'!$A57,Planning!$3:$3))","v":"X"},{"$f":"VLOOKUP(DO57,Horaires!$A$3:$E$49,2,)","v":"XXX"},{"$f":"IF(DP57=\"vacances\",INDEX(Horaires!$H$3:$L$42,MATCH('Solde d''heure collaborateur'!DP$2,Horaires!$H$3:$H$40,0),4),IF(DP57=\"maladie\",INDEX(Horaires!$H$3:$L$42,MATCH('Solde d''heure collaborateur'!DP$2,Horaires!$H$3:$H$40,0),5),VLOOKUP(DO57,Horaires!$A$3:$E$60,5,)))","v":0},null,{"$f":"INDEX(Planning!$34:$34,MATCH('Solde d''heure collaborateur'!$A57,Planning!$3:$3))","v":"X"},{"$f":"VLOOKUP(DS57,Horaires!$A$3:$E$49,2,)","v":"XXX"},{"$f":"IF(DT57=\"vacances\",INDEX(Horaires!$H$3:$L$42,MATCH('Solde d''heure collaborateur'!DT$2,Horaires!$H$3:$H$40,0),4),IF(DT57=\"maladie\",INDEX(Horaires!$H$3:$L$42,MATCH('Solde d''heure collaborateur'!DT$2,Horaires!$H$3:$H$40,0),5),VLOOKUP(DS57,Horaires!$A$3:$E$60,5,)))","v":0},null,{"$f":"INDEX(Planning!$35:$35,MATCH('Solde d''heure collaborateur'!$A57,Planning!$3:$3))","v":"X"},{"$f":"VLOOKUP(DW57,Horaires!$A$3:$E$49,2,)","v":"XXX"},{"$f":"IF(DX57=\"vacances\",INDEX(Horaires!$H$3:$L$42,MATCH('Solde d''heure collaborateur'!DX$2,Horaires!$H$3:$H$40,0),4),IF(DX57=\"maladie\",INDEX(Horaires!$H$3:$L$42,MATCH('Solde d''heure collaborateur'!DX$2,Horaires!$H$3:$H$40,0),5),VLOOKUP(DW57,Horaires!$A$3:$E$60,5,)))","v":0}]
[null,null,null,{"$f":"SUM(E58-INDEX(Horaires!$H$3:$L$37,MATCH('Solde d''heure collaborateur'!D$2,Horaires!$H$3:$H$37,0),2))","v":1},{"$f":"SUM(E52:E57)*24","v":43},null,null,{"$f":"SUM(I58-INDEX(Horaires!$H$3:$L$37,MATCH('Solde d''heure collaborateur'!H$2,Horaires!$H$3:$H$37,0),2))","v":1.4999999999999929},{"$f":"SUM(I52:I57)*24","v":43.499999999999993},null,null,{"$f":"SUM(M58-INDEX(Horaires!$H$3:$L$37,MATCH('Solde d''heure collaborateur'!L$2,Horaires!$H$3:$H$37,0),2))","v":0},{"$f":"SUM(M52:M57)*24","v":42},null,null,{"$f":"SUM(Q58-INDEX(Horaires!$H$3:$L$37,MATCH('Solde d''heure collaborateur'!P$2,Horaires!$H$3:$H$37,0),2))","v":3.5527136788005009E-15},{"$f":"SUM(Q52:Q57)*24","v":22.500000000000004},null,null,{"$f":"SUM(U58-INDEX(Horaires!$H$3:$L$37,MATCH('Solde d''heure collaborateur'!T$2,Horaires!$H$3:$H$37,0),2))","v":3.5},{"$f":"SUM(U52:U57)*24","v":45.5},null,null,{"$f":"SUM(Y58-INDEX(Horaires!$H$3:$L$37,MATCH('Solde d''heure collaborateur'!X$2,Horaires!$H$3:$H$37,0),2))","v":3.5527136788005009E-15},{"$f":"SUM(Y52:Y57)*24","v":22.500000000000004},null,null,{"$f":"SUM(AC58-INDEX(Horaires!$H$3:$L$37,MATCH('Solde d''heure collaborateur'!AB$2,Horaires!$H$3:$H$37,0),2))","v":2.5},{"$f":"SUM(AC52:AC57)*24","v":44.5},null,null,{"$f":"SUM(AG58-INDEX(Horaires!$H$3:$L$37,MATCH('Solde d''heure collaborateur'!AF$2,Horaires!$H$3:$H$37,0),2))","v":2.5},{"$f":"SUM(AG52:AG57)*24","v":44.5},null,null,{"$f":"SUM(AK58-INDEX(Horaires!$H$3:$L$37,MATCH('Solde d''heure collaborateur'!AJ$2,Horaires!$H$3:$H$37,0),2))","v":0.5},{"$f":"SUM(AK52:AK57)*24","v":42.5},null,null,{"$f":"SUM(AO58-INDEX(Horaires!$H$3:$L$37,MATCH('Solde d''heure collaborateur'!AN$2,Horaires!$H$3:$H$37,0),2))","v":1},{"$f":"SUM(AO52:AO57)*24","v":43},null,null,{"$f":"SUM(AS58-INDEX(Horaires!$H$3:$L$37,MATCH('Solde d''heure collaborateur'!AR$2,Horaires!$H$3:$H$37,0),2))","v":0},{"$f":"SUM(AS52:AS57)*24","v":33.25},null,null,{"$f":"SUM(AW58-INDEX(Horaires!$H$3:$L$37,MATCH('Solde d''heure collaborateur'!AV$2,Horaires!$H$3:$H$37,0),2))","v":0},{"$f":"SUM(AW52:AW57)*24","v":42},null,null,{"$f":"SUM(BA58-INDEX(Horaires!$H$3:$L$37,MATCH('Solde d''heure collaborateur'!AZ$2,Horaires!$H$3:$H$37,0),2))","v":10.75},{"$f":"SUM(BA52:BA57)*24","v":52.75},null,null,{"$f":"SUM(BE58-INDEX(Horaires!$H$3:$L$37,MATCH('Solde d''heure collaborateur'!BD$2,Horaires!$H$3:$H$37,0),2))","v":11.25},{"$f":"SUM(BE52:BE57)*24","v":53.25},null,null,{"$f":"SUM(BI58-INDEX(Horaires!$H$3:$L$37,MATCH('Solde d''heure collaborateur'!BH$2,Horaires!$H$3:$H$37,0),2))","v":-8.25},{"$f":"SUM(BI52:BI57)*24","v":33.75},null,null,{"$f":"SUM(BM58-INDEX(Horaires!$H$3:$L$37,MATCH('Solde d''heure collaborateur'!BL$2,Horaires!$H$3:$H$37,0),2))","v":2.25},{"$f":"SUM(BM52:BM57)*24","v":44.25},null,null,{"$f":"SUM(BQ58-INDEX(Horaires!$H$3:$L$37,MATCH('Solde d''heure collaborateur'!BP$2,Horaires!$H$3:$H$37,0),2))","v":1},{"$f":"SUM(BQ52:BQ57)*24","v":43},null,null,{"$f":"SUM(BU58-INDEX(Horaires!$H$3:$L$37,MATCH('Solde d''heure collaborateur'!BT$2,Horaires!$H$3:$H$37,0),2))","v":1},{"$f":"SUM(BU52:BU57)*24","v":43},null,null,{"$f":"SUM(BY58-INDEX(Horaires!$H$3:$L$37,MATCH('Solde d''heure collaborateur'!BX$2,Horaires!$H$3:$H$37,0),2))","v":0},{"$f":"SUM(BY52:BY57)*24","v":21.5},null,null,{"$f":"SUM(CC58-INDEX(Horaires!$H$3:$L$37,MATCH('Solde d''heure collaborateur'!CB$2,Horaires!$H$3:$H$37,0),2))","v":14.25},{"$f":"SUM(CC52:CC57)*24","v":56.25},null,null,{"$f":"SUM(CG58-INDEX(Horaires!$H$3:$L$37,MATCH('Solde d''heure collaborateur'!CF$2,Horaires!$H$3:$H$37,0),2))","v":2.5},{"$f":"SUM(CG52:CG57)*24","v":44.5},null,null,{"$f":"SUM(CK58-INDEX(Horaires!$H$3:$L$37,MATCH('Solde d''heure collaborateur'!CJ$2,Horaires!$H$3:$H$37,0),2))","v":-42},{"$f":"SUM(CK52:CK57)*24","v":0},null,null,{"$f":"SUM(CO58-INDEX(Horaires!$H$3:$L$37,MATCH('Solde d''heure collaborateur'!CN$2,Horaires!$H$3:$H$37,0),2))","v":1},{"$f":"SUM(CO52:CO57)*24","v":43},null,null,{"$f":"SUM(CS58-INDEX(Horaires!$H$3:$L$37,MATCH('Solde d''heure collaborateur'!CR$2,Horaires!$H$3:$H$37,0),2))","v":-8.25},{"$f":"SUM(CS52:CS57)*24","v":33.75},null,null,{"$f":"SUM(CW58-INDEX(Horaires!$H$3:$L$37,MATCH('Solde d''heure collaborateur'!CV$2,Horaires!$H$3:$H$37,0),2))","v":3},{"$f":"SUM(CW52:CW57)*24","v":45},null,null,{"$f":"SUM(DA58-INDEX(Horaires!$H$3:$L$37,MATCH('Solde d''heure collaborateur'!CZ$2,Horaires!$H$3:$H$37,0),2))","v":21.5},{"$f":"SUM(DA52:DA57)*24","v":21.5},null,null,{"$f":"SUM(DE58-INDEX(Horaires!$H$3:$L$37,MATCH('Solde d''heure collaborateur'!DD$2,Horaires!$H$3:$H$37,0),2))","v":{"$error":"#N/A"}},{"$f":"SUM(DE52:DE57)*24","v":9.7499999999999982},null,null,{"$f":"SUM(DI58-INDEX(Horaires!$H$3:$L$37,MATCH('Solde d''heure collaborateur'!DH$2,Horaires!$H$3:$H$37,0),2))","v":10.25},{"$f":"SUM(DI52:DI57)*24","v":10.25},null,null,{"$f":"SUM(DM58-INDEX(Horaires!$H$3:$L$37,MATCH('Solde d''heure collaborateur'!DL$2,Horaires!$H$3:$H$37,0),2))","v":10.25},{"$f":"SUM(DM52:DM57)*24","v":10.25},null,null,{"$f":"SUM(DQ58-INDEX(Horaires!$H$3:$L$37,MATCH('Solde d''heure collaborateur'!DP$2,Horaires!$H$3:$H$37,0),2))","v":0},{"$f":"SUM(DQ52:DQ57)*24","v":0},null,null,{"$f":"SUM(DU58-INDEX(Horaires!$H$3:$L$37,MATCH('Solde d''heure collaborateur'!DT$2,Horaires!$H$3:$H$37,0),2))","v":0},{"$f":"SUM(DU52:DU57)*24","v":0},null,null,{"$f":"SUM(DY58-INDEX(Horaires!$H$3:$L$37,MATCH('Solde d''heure collaborateur'!DX$2,Horaires!$H$3:$H$37,0),2))","v":0},{"$f":"SUM(DY52:DY57)*24","v":0}]
[]
[{"$f":"A57+2","v":"2013-12-23"},null,{"$f":"INDEX(Planning!$4:$4,MATCH('Solde d''heure collaborateur'!A60,Planning!$3:$3,0))","v":"Nav1"},{"$f":"VLOOKUP(C60,Horaires!$A$3:$E$49,2,)","v":"Navigation"},{"$f":"IF(D60=\"vacances\",INDEX(Horaires!$H$3:$L$42,MATCH('Solde d''heure collaborateur'!D$2,Horaires!$H$3:$H$40,0),4),IF(D60=\"maladie\",INDEX(Horaires!$H$3:$L$42,MATCH('Solde d''heure collaborateur'!D$2,Horaires!$H$3:$H$40,0),5),VLOOKUP(C60,Horaires!$A$3:$E$60,5,)))","v":0.44791666666666669},null,{"$f":"INDEX(Planning!$5:$5,MATCH('Solde d''heure collaborateur'!A60,Planning!$3:$3))","v":"R"},{"$f":"VLOOKUP(G60,Horaires!$A$3:$E$49,2,)","v":"Congé"},{"$f":"IF(H60=\"vacances\",INDEX(Horaires!$H$3:$L$42,MATCH('Solde d''heure collaborateur'!H$2,Horaires!$H$3:$H$40,0),4),IF(H60=\"maladie\",INDEX(Horaires!$H$3:$L$42,MATCH('Solde d''heure collaborateur'!H$2,Horaires!$H$3:$H$40,0),5),VLOOKUP(G60,Horaires!$A$3:$E$60,5,)))","v":0},null,{"$f":"INDEX(Planning!$6:$6,MATCH('Solde d''heure collaborateur'!A60,Planning!$3:$3))","v":"M"},{"$f":"VLOOKUP(K60,Horaires!$A$3:$E$49,2,)","v":"Maladie"},{"$f":"IF(L60=\"vacances\",INDEX(Horaires!$H$3:$L$42,MATCH('Solde d''heure collaborateur'!L$2,Horaires!$H$3:$H$40,0),4),IF(L60=\"maladie\",INDEX(Horaires!$H$3:$L$42,MATCH('Solde d''heure collaborateur'!L$2,Horaires!$H$3:$H$40,0),5),VLOOKUP(K60,Horaires!$A$3:$E$60,5,)))","v":0.4375},null,{"$f":"INDEX(Planning!$7:$7,MATCH('Solde d''heure collaborateur'!$A60,Planning!$3:$3))","v":"Vib1"},{"$f":"VLOOKUP(O60,Horaires!$A$3:$E$49,2,)","v":"Vibert"},{"$f":"IF(P60=\"vacances\",INDEX(Horaires!$H$3:$L$42,MATCH('Solde d''heure collaborateur'!P$2,Horaires!$H$3:$H$40,0),4),IF(P60=\"maladie\",INDEX(Horaires!$H$3:$L$42,MATCH('Solde d''heure collaborateur'!P$2,Horaires!$H$3:$H$40,0),5),VLOOKUP(O60,Horaires!$A$3:$E$60,5,)))","v":0.46875000000000006},null,{"$f":"INDEX(Planning!$8:$8,MATCH('Solde d''heure collaborateur'!$A60,Planning!$3:$3))","v":"Onex1"},{"$f":"VLOOKUP(S60,Horaires!$A$3:$E$49,2,)","v":"Onex"},{"$f":"IF(T60=\"vacances\",INDEX(Horaires!$H$3:$L$42,MATCH('Solde d''heure collaborateur'!T$2,Horaires!$H$3:$H$40,0),4),IF(T60=\"maladie\",INDEX(Horaires!$H$3:$L$42,MATCH('Solde d''heure collaborateur'!T$2,Horaires!$H$3:$H$40,0),5),VLOOKUP(S60,Horaires!$A$3:$E$60,5,)))","v":0.46875000000000006},null,{"$f":"INDEX(Planning!$9:$9,MATCH('Solde d''heure collaborateur'!$A60,Planning!$3:$3))","v":"Onex1"},{"$f":"VLOOKUP(W60,Horaires!$A$3:$E$49,2,)","v":"Onex"},{"$f":"IF(X60=\"vacances\",INDEX(Horaires!$H$3:$L$42,MATCH('Solde d''heure collaborateur'!X$2,Horaires!$H$3:$H$40,0),4),IF(X60=\"maladie\",INDEX(Horaires!$H$3:$L$42,MATCH('Solde d''heure collaborateur'!X$2,Horaires!$H$3:$H$40,0),5),VLOOKUP(W60,Horaires!$A$3:$E$60,5,)))","v":0.46875000000000006},null,{"$f":"INDEX(Planning!$10:$10,MATCH('Solde d''heure collaborateur'!$A60,Planning!$3:$3))","v":"R"},{"$f":"VLOOKUP(AA60,Horaires!$A$3:$E$49,2,)","v":"Congé"},{"$f":"IF(AB60=\"vacances\",INDEX(Horaires!$H$3:$L$42,MATCH('Solde d''heure collaborateur'!AB$2,Horaires!$H$3:$H$40,0),4),IF(AB60=\"maladie\",INDEX(Horaires!$H$3:$L$42,MATCH('Solde d''heure collaborateur'!AB$2,Horaires!$H$3:$H$40,0),5),VLOOKUP(AA60,Horaires!$A$3:$E$60,5,)))","v":0},null,{"$f":"INDEX(Planning!$11:$11,MATCH('Solde d''heure collaborateur'!$A60,Planning!$3:$3))","v":"Plo1"},{"$f":"VLOOKUP(AE60,Horaires!$A$3:$E$49,2,)","v":"Plan les Ouates"},{"$f":"IF(AF60=\"vacances\",INDEX(Horaires!$H$3:$L$42,MATCH('Solde d''heure collaborateur'!AF$2,Horaires!$H$3:$H$40,0),4),IF(AF60=\"maladie\",INDEX(Horaires!$H$3:$L$42,MATCH('Solde d''heure collaborateur'!AF$2,Horaires!$H$3:$H$40,0),5),VLOOKUP(AE60,Horaires!$A$3:$E$60,5,)))","v":0.46875000000000006},null,{"$f":"INDEX(Planning!$12:$12,MATCH('Solde d''heure collaborateur'!$A60,Planning!$3:$3))","v":"thon1"},{"$f":"VLOOKUP(AI60,Horaires!$A$3:$E$49,2,)","v":"Thonex"},{"$f":"IF(AJ60=\"vacances\",INDEX(Horaires!$H$3:$L$42,MATCH('Solde d''heure collaborateur'!AJ$2,Horaires!$H$3:$H$40,0),4),IF(AJ60=\"maladie\",INDEX(Horaires!$H$3:$L$42,MATCH('Solde d''heure collaborateur'!AJ$2,Horaires!$H$3:$H$40,0),5),VLOOKUP(AI60,Horaires!$A$3:$E$60,5,)))","v":0.44791666666666669},null,{"$f":"INDEX(Planning!$13:$13,MATCH('Solde d''heure collaborateur'!$A60,Planning!$3:$3))","v":"pom1"},{"$f":"VLOOKUP(AM60,Horaires!$A$3:$E$49,2,)","v":"Pommier"},{"$f":"IF(AN60=\"vacances\",INDEX(Horaires!$H$3:$L$42,MATCH('Solde d''heure collaborateur'!AN$2,Horaires!$H$3:$H$40,0),4),IF(AN60=\"maladie\",INDEX(Horaires!$H$3:$L$42,MATCH('Solde d''heure collaborateur'!AN$2,Horaires!$H$3:$H$40,0),5),VLOOKUP(AM60,Horaires!$A$3:$E$60,5,)))","v":0.44791666666666669},null,{"$f":"INDEX(Planning!$14:$14,MATCH('Solde d''heure collaborateur'!$A60,Planning!$3:$3))","v":"M"},{"$f":"VLOOKUP(AQ60,Horaires!$A$3:$E$49,2,)","v":"Maladie"},{"$f":"IF(AR60=\"vacances\",INDEX(Horaires!$H$3:$L$42,MATCH('Solde d''heure collaborateur'!AR$2,Horaires!$H$3:$H$40,0),4),IF(AR60=\"maladie\",INDEX(Horaires!$H$3:$L$42,MATCH('Solde d''heure collaborateur'!AR$2,Horaires!$H$3:$H$40,0),5),VLOOKUP(AQ60,Horaires!$A$3:$E$60,5,)))","v":0.46180555555555558},null,{"$f":"INDEX(Planning!$15:$15,MATCH('Solde d''heure collaborateur'!$A60,Planning!$3:$3))","v":"R"},{"$f":"VLOOKUP(AU60,Horaires!$A$3:$E$49,2,)","v":"Congé"},{"$f":"IF(AV60=\"vacances\",INDEX(Horaires!$H$3:$L$42,MATCH('Solde d''heure collaborateur'!AV$2,Horaires!$H$3:$H$40,0),4),IF(AV60=\"maladie\",INDEX(Horaires!$H$3:$L$42,MATCH('Solde d''heure collaborateur'!AV$2,Horaires!$H$3:$H$40,0),5),VLOOKUP(AU60,Horaires!$A$3:$E$60,5,)))","v":0},null,{"$f":"INDEX(Planning!$16:$16,MATCH('Solde d''heure collaborateur'!$A60,Planning!$3:$3))","v":"Nyon1"},{"$f":"VLOOKUP(AY60,Horaires!$A$3:$E$49,2,)","v":"Nyon"},{"$f":"IF(AZ60=\"vacances\",INDEX(Horaires!$H$3:$L$42,MATCH('Solde d''heure collaborateur'!AZ$2,Horaires!$H$3:$H$40,0),4),IF(AZ60=\"maladie\",INDEX(Horaires!$H$3:$L$42,MATCH('Solde d''heure collaborateur'!AZ$2,Horaires!$H$3:$H$40,0),5),VLOOKUP(AY60,Horaires!$A$3:$E$60,5,)))","v":0.44791666666666669},null,{"$f":"INDEX(Planning!$17:$17,MATCH('Solde d''heure collaborateur'!$A60,Planning!$3:$3))","v":"R"},{"$f":"VLOOKUP(BC60,Horaires!$A$3:$E$49,2,)","v":"Congé"},{"$f":"IF(BD60=\"vacances\",INDEX(Horaires!$H$3:$L$42,MATCH('Solde d''heure collaborateur'!BD$2,Horaires!$H$3:$H$40,0),4),IF(BD60=\"maladie\",INDEX(Horaires!$H$3:$L$42,MATCH('Solde d''heure collaborateur'!BD$2,Horaires!$H$3:$H$40,0),5),VLOOKUP(BC60,Horaires!$A$3:$E$60,5,)))","v":0},null,{"$f":"INDEX(Planning!$18:$18,MATCH('Solde d''heure collaborateur'!$A60,Planning!$3:$3))","v":"R"},{"$f":"VLOOKUP(BG60,Horaires!$A$3:$E$49,2,)","v":"Congé"},{"$f":"IF(BH60=\"vacances\",INDEX(Horaires!$H$3:$L$42,MATCH('Solde d''heure collaborateur'!BH$2,Horaires!$H$3:$H$40,0),4),IF(BH60=\"maladie\",INDEX(Horaires!$H$3:$L$42,MATCH('Solde d''heure collaborateur'!BH$2,Horaires!$H$3:$H$40,0),5),VLOOKUP(BG60,Horaires!$A$3:$E$60,5,)))","v":0},null,{"$f":"INDEX(Planning!$19:$19,MATCH('Solde d''heure collaborateur'!$A60,Planning!$3:$3))","v":"R"},{"$f":"VLOOKUP(BK60,Horaires!$A$3:$E$49,2,)","v":"Congé"},{"$f":"IF(BL60=\"vacances\",INDEX(Horaires!$H$3:$L$42,MATCH('Solde d''heure collaborateur'!BL$2,Horaires!$H$3:$H$40,0),4),IF(BL60=\"maladie\",INDEX(Horaires!$H$3:$L$42,MATCH('Solde d''heure collaborateur'!BL$2,Horaires!$H$3:$H$40,0),5),VLOOKUP(BK60,Horaires!$A$3:$E$60,5,)))","v":0},null,{"$f":"INDEX(Planning!$20:$20,MATCH('Solde d''heure collaborateur'!$A60,Planning!$3:$3))","v":"R"},{"$f":"VLOOKUP(BO60,Horaires!$A$3:$E$49,2,)","v":"Congé"},{"$f":"IF(BP60=\"vacances\",INDEX(Horaires!$H$3:$L$42,MATCH('Solde d''heure collaborateur'!BP$2,Horaires!$H$3:$H$40,0),4),IF(BP60=\"maladie\",INDEX(Horaires!$H$3:$L$42,MATCH('Solde d''heure collaborateur'!BP$2,Horaires!$H$3:$H$40,0),5),VLOOKUP(BO60,Horaires!$A$3:$E$60,5,)))","v":0},null,{"$f":"INDEX(Planning!$21:$21,MATCH('Solde d''heure collaborateur'!$A60,Planning!$3:$3))","v":"R"},{"$f":"VLOOKUP(BS60,Horaires!$A$3:$E$49,2,)","v":"Congé"},{"$f":"IF(BT60=\"vacances\",INDEX(Horaires!$H$3:$L$42,MATCH('Solde d''heure collaborateur'!BT$2,Horaires!$H$3:$H$40,0),4),IF(BT60=\"maladie\",INDEX(Horaires!$H$3:$L$42,MATCH('Solde d''heure collaborateur'!BT$2,Horaires!$H$3:$H$40,0),5),VLOOKUP(BS60,Horaires!$A$3:$E$60,5,)))","v":0},null,{"$f":"INDEX(Planning!$22:$22,MATCH('Solde d''heure collaborateur'!$A60,Planning!$3:$3))","v":"Ves1"},{"$f":"VLOOKUP(BW60,Horaires!$A$3:$E$49,2,)","v":"Vesenaz"},{"$f":"IF(BX60=\"vacances\",INDEX(Horaires!$H$3:$L$42,MATCH('Solde d''heure collaborateur'!BX$2,Horaires!$H$3:$H$40,0),4),IF(BX60=\"maladie\",INDEX(Horaires!$H$3:$L$42,MATCH('Solde d''heure collaborateur'!BX$2,Horaires!$H$3:$H$40,0),5),VLOOKUP(BW60,Horaires!$A$3:$E$60,5,)))","v":0.44791666666666669},null,{"$f":"INDEX(Planning!$23:$23,MATCH('Solde d''heure collaborateur'!$A60,Planning!$3:$3))","v":"Aca1"},{"$f":"VLOOKUP(CA60,Horaires!$A$3:$E$49,2,)","v":"Acacias"},{"$f":"IF(CB60=\"vacances\",INDEX(Horaires!$H$3:$L$42,MATCH('Solde d''heure collaborateur'!CB$2,Horaires!$H$3:$H$40,0),4),IF(CB60=\"maladie\",INDEX(Horaires!$H$3:$L$42,MATCH('Solde d''heure collaborateur'!CB$2,Horaires!$H$3:$H$40,0),5),VLOOKUP(CA60,Horaires!$A$3:$E$60,5,)))","v":0.44791666666666669},null,{"$f":"INDEX(Planning!$24:$24,MATCH('Solde d''heure collaborateur'!$A60,Planning!$3:$3))","v":"Onex1"},{"$f":"VLOOKUP(CE60,Horaires!$A$3:$E$49,2,)","v":"Onex"},{"$f":"IF(CF60=\"vacances\",INDEX(Horaires!$H$3:$L$42,MATCH('Solde d''heure collaborateur'!CF$2,Horaires!$H$3:$H$40,0),4),IF(CF60=\"maladie\",INDEX(Horaires!$H$3:$L$42,MATCH('Solde d''heure collaborateur'!CF$2,Horaires!$H$3:$H$40,0),5),VLOOKUP(CE60,Horaires!$A$3:$E$60,5,)))","v":0.46875000000000006},null,{"$f":"INDEX(Planning!$25:$25,MATCH('Solde d''heure collaborateur'!$A60,Planning!$3:$3))","v":"X"},{"$f":"VLOOKUP(CI60,Horaires!$A$3:$E$49,2,)","v":"XXX"},{"$f":"IF(CJ60=\"vacances\",INDEX(Horaires!$H$3:$L$42,MATCH('Solde d''heure collaborateur'!CJ$2,Horaires!$H$3:$H$40,0),4),IF(CJ60=\"maladie\",INDEX(Horaires!$H$3:$L$42,MATCH('Solde d''heure collaborateur'!CJ$2,Horaires!$H$3:$H$40,0),5),VLOOKUP(CI60,Horaires!$A$3:$E$60,5,)))","v":0},null,{"$f":"INDEX(Planning!$26:$26,MATCH('Solde d''heure collaborateur'!$A60,Planning!$3:$3))","v":"Vid1"},{"$f":"VLOOKUP(CM60,Horaires!$A$3:$E$49,2,)","v":"Vidollet"},{"$f":"IF(CN60=\"vacances\",INDEX(Horaires!$H$3:$L$42,MATCH('Solde d''heure collaborateur'!CN$2,Horaires!$H$3:$H$40,0),4),IF(CN60=\"maladie\",INDEX(Horaires!$H$3:$L$42,MATCH('Solde d''heure collaborateur'!CN$2,Horaires!$H$3:$H$40,0),5),VLOOKUP(CM60,Horaires!$A$3:$E$60,5,)))","v":0.44791666666666669},null,{"$f":"INDEX(Planning!$27:$27,MATCH('Solde d''heure collaborateur'!$A60,Planning!$3:$3))","v":"Vib1"},{"$f":"VLOOKUP(CQ60,Horaires!$A$3:$E$49,2,)","v":"Vibert"},{"$f":"IF(CR60=\"vacances\",INDEX(Horaires!$H$3:$L$42,MATCH('Solde d''heure collaborateur'!CR$2,Horaires!$H$3:$H$40,0),4),IF(CR60=\"maladie\",INDEX(Horaires!$H$3:$L$42,MATCH('Solde d''heure collaborateur'!CR$2,Horaires!$H$3:$H$40,0),5),VLOOKUP(CQ60,Horaires!$A$3:$E$60,5,)))","v":0.46875000000000006},null,{"$f":"INDEX(Planning!$28:$28,MATCH('Solde d''heure collaborateur'!$A60,Planning!$3:$3))","v":"tour1"},{"$f":"VLOOKUP(CU60,Horaires!$A$3:$E$49,2,)","v":"Tourelle"},{"$f":"IF(CV60=\"vacances\",INDEX(Horaires!$H$3:$L$42,MATCH('Solde d''heure collaborateur'!CV$2,Horaires!$H$3:$H$40,0),4),IF(CV60=\"maladie\",INDEX(Horaires!$H$3:$L$42,MATCH('Solde d''heure collaborateur'!CV$2,Horaires!$H$3:$H$40,0),5),VLOOKUP(CU60,Horaires!$A$3:$E$60,5,)))","v":0.46875000000000006},null,{"$f":"INDEX(Planning!$29:$29,MATCH('Solde d''heure collaborateur'!$A60,Planning!$3:$3))","v":"R"},{"$f":"VLOOKUP(CY60,Horaires!$A$3:$E$49,2,)","v":"Congé"},{"$f":"IF(CZ60=\"vacances\",INDEX(Horaires!$H$3:$L$42,MATCH('Solde d''heure collaborateur'!CZ$2,Horaires!$H$3:$H$40,0),4),IF(CZ60=\"maladie\",INDEX(Horaires!$H$3:$L$42,MATCH('Solde d''heure collaborateur'!CZ$2,Horaires!$H$3:$H$40,0),5),VLOOKUP(CY60,Horaires!$A$3:$E$60,5,)))","v":0},null,{"$f":"INDEX(Planning!$30:$30,MATCH('Solde d''heure collaborateur'!$A60,Planning!$3:$3))","v":"Nav1"},{"$f":"VLOOKUP(DC60,Horaires!$A$3:$E$49,2,)","v":"Navigation"},{"$f":"IF(DD60=\"vacances\",INDEX(Horaires!$H$3:$L$42,MATCH('Solde d''heure collaborateur'!DD$2,Horaires!$H$3:$H$40,0),4),IF(DD60=\"maladie\",INDEX(Horaires!$H$3:$L$42,MATCH('Solde d''heure collaborateur'!DD$2,Horaires!$H$3:$H$40,0),5),VLOOKUP(DC60,Horaires!$A$3:$E$60,5,)))","v":0.44791666666666669},null,{"$f":"INDEX(Planning!$31:$31,MATCH('Solde d''heure collaborateur'!$A60,Planning!$3:$3))","v":"Nyon1"},{"$f":"VLOOKUP(DG60,Horaires!$A$3:$E$49,2,)","v":"Nyon"},{"$f":"IF(DH60=\"vacances\",INDEX(Horaires!$H$3:$L$42,MATCH('Solde d''heure collaborateur'!DH$2,Horaires!$H$3:$H$40,0),4),IF(DH60=\"maladie\",INDEX(Horaires!$H$3:$L$42,MATCH('Solde d''heure collaborateur'!DH$2,Horaires!$H$3:$H$40,0),5),VLOOKUP(DG60,Horaires!$A$3:$E$60,5,)))","v":0.44791666666666669},null,{"$f":"INDEX(Planning!$32:$32,MATCH('Solde d''heure collaborateur'!$A60,Planning!$3:$3))","v":"X"},{"$f":"VLOOKUP(DK60,Horaires!$A$3:$E$49,2,)","v":"XXX"},{"$f":"IF(DL60=\"vacances\",INDEX(Horaires!$H$3:$L$42,MATCH('Solde d''heure collaborateur'!DL$2,Horaires!$H$3:$H$40,0),4),IF(DL60=\"maladie\",INDEX(Horaires!$H$3:$L$42,MATCH('Solde d''heure collaborateur'!DL$2,Horaires!$H$3:$H$40,0),5),VLOOKUP(DK60,Horaires!$A$3:$E$60,5,)))","v":0},null,{"$f":"INDEX(Planning!$33:$33,MATCH('Solde d''heure collaborateur'!$A60,Planning!$3:$3))","v":"X"},{"$f":"VLOOKUP(DO60,Horaires!$A$3:$E$49,2,)","v":"XXX"},{"$f":"IF(DP60=\"vacances\",INDEX(Horaires!$H$3:$L$42,MATCH('Solde d''heure collaborateur'!DP$2,Horaires!$H$3:$H$40,0),4),IF(DP60=\"maladie\",INDEX(Horaires!$H$3:$L$42,MATCH('Solde d''heure collaborateur'!DP$2,Horaires!$H$3:$H$40,0),5),VLOOKUP(DO60,Horaires!$A$3:$E$60,5,)))","v":0},null,{"$f":"INDEX(Planning!$34:$34,MATCH('Solde d''heure collaborateur'!$A60,Planning!$3:$3))","v":"X"},{"$f":"VLOOKUP(DS60,Horaires!$A$3:$E$49,2,)","v":"XXX"},{"$f":"IF(DT60=\"vacances\",INDEX(Horaires!$H$3:$L$42,MATCH('Solde d''heure collaborateur'!DT$2,Horaires!$H$3:$H$40,0),4),IF(DT60=\"maladie\",INDEX(Horaires!$H$3:$L$42,MATCH('Solde d''heure collaborateur'!DT$2,Horaires!$H$3:$H$40,0),5),VLOOKUP(DS60,Horaires!$A$3:$E$60,5,)))","v":0},null,{"$f":"INDEX(Planning!$35:$35,MATCH('Solde d''heure collaborateur'!$A60,Planning!$3:$3))","v":"X"},{"$f":"VLOOKUP(DW60,Horaires!$A$3:$E$49,2,)","v":"XXX"},{"$f":"IF(DX60=\"vacances\",INDEX(Horaires!$H$3:$L$42,MATCH('Solde d''heure collaborateur'!DX$2,Horaires!$H$3:$H$40,0),4),IF(DX60=\"maladie\",INDEX(Horaires!$H$3:$L$42,MATCH('Solde d''heure collaborateur'!DX$2,Horaires!$H$3:$H$40,0),5),VLOOKUP(DW60,Horaires!$A$3:$E$60,5,)))","v":0}]
[{"$f":"A60+1","v":"2013-12-24"},null,{"$f":"INDEX(Planning!$4:$4,MATCH('Solde d''heure collaborateur'!A61,Planning!$3:$3,0))","v":"Nav1"},{"$f":"VLOOKUP(C61,Horaires!$A$3:$E$49,2,)","v":"Navigation"},{"$f":"IF(D61=\"vacances\",INDEX(Horaires!$H$3:$L$42,MATCH('Solde d''heure collaborateur'!D$2,Horaires!$H$3:$H$40,0),4),IF(D61=\"maladie\",INDEX(Horaires!$H$3:$L$42,MATCH('Solde d''heure collaborateur'!D$2,Horaires!$H$3:$H$40,0),5),VLOOKUP(C61,Horaires!$A$3:$E$60,5,)))","v":0.44791666666666669},null,{"$f":"INDEX(Planning!$5:$5,MATCH('Solde d''heure collaborateur'!A61,Planning!$3:$3))","v":"Pom1"},{"$f":"VLOOKUP(G61,Horaires!$A$3:$E$49,2,)","v":"Pommier"},{"$f":"IF(H61=\"vacances\",INDEX(Horaires!$H$3:$L$42,MATCH('Solde d''heure collaborateur'!H$2,Horaires!$H$3:$H$40,0),4),IF(H61=\"maladie\",INDEX(Horaires!$H$3:$L$42,MATCH('Solde d''heure collaborateur'!H$2,Horaires!$H$3:$H$40,0),5),VLOOKUP(G61,Horaires!$A$3:$E$60,5,)))","v":0.44791666666666669},null,{"$f":"INDEX(Planning!$6:$6,MATCH('Solde d''heure collaborateur'!A61,Planning!$3:$3))","v":"M"},{"$f":"VLOOKUP(K61,Horaires!$A$3:$E$49,2,)","v":"Maladie"},{"$f":"IF(L61=\"vacances\",INDEX(Horaires!$H$3:$L$42,MATCH('Solde d''heure collaborateur'!L$2,Horaires!$H$3:$H$40,0),4),IF(L61=\"maladie\",INDEX(Horaires!$H$3:$L$42,MATCH('Solde d''heure collaborateur'!L$2,Horaires!$H$3:$H$40,0),5),VLOOKUP(K61,Horaires!$A$3:$E$60,5,)))","v":0.4375},null,{"$f":"INDEX(Planning!$7:$7,MATCH('Solde d''heure collaborateur'!$A61,Planning!$3:$3))","v":"Vib1"},{"$f":"VLOOKUP(O61,Horaires!$A$3:$E$49,2,)","v":"Vibert"},{"$f":"IF(P61=\"vacances\",INDEX(Horaires!$H$3:$L$42,MATCH('Solde d''heure collaborateur'!P$2,Horaires!$H$3:$H$40,0),4),IF(P61=\"maladie\",INDEX(Horaires!$H$3:$L$42,MATCH('Solde d''heure collaborateur'!P$2,Horaires!$H$3:$H$40,0),5),VLOOKUP(O61,Horaires!$A$3:$E$60,5,)))","v":0.46875000000000006},null,{"$f":"INDEX(Planning!$8:$8,MATCH('Solde d''heure collaborateur'!$A61,Planning!$3:$3))","v":"Onex1"},{"$f":"VLOOKUP(S61,Horaires!$A$3:$E$49,2,)","v":"Onex"},{"$f":"IF(T61=\"vacances\",INDEX(Horaires!$H$3:$L$42,MATCH('Solde d''heure collaborateur'!T$2,Horaires!$H$3:$H$40,0),4),IF(T61=\"maladie\",INDEX(Horaires!$H$3:$L$42,MATCH('Solde d''heure collaborateur'!T$2,Horaires!$H$3:$H$40,0),5),VLOOKUP(S61,Horaires!$A$3:$E$60,5,)))","v":0.46875000000000006},null,{"$f":"INDEX(Planning!$9:$9,MATCH('Solde d''heure collaborateur'!$A61,Planning!$3:$3))","v":"X"},{"$f":"VLOOKUP(W61,Horaires!$A$3:$E$49,2,)","v":"XXX"},{"$f":"IF(X61=\"vacances\",INDEX(Horaires!$H$3:$L$42,MATCH('Solde d''heure collaborateur'!X$2,Horaires!$H$3:$H$40,0),4),IF(X61=\"maladie\",INDEX(Horaires!$H$3:$L$42,MATCH('Solde d''heure collaborateur'!X$2,Horaires!$H$3:$H$40,0),5),VLOOKUP(W61,Horaires!$A$3:$E$60,5,)))","v":0},null,{"$f":"INDEX(Planning!$10:$10,MATCH('Solde d''heure collaborateur'!$A61,Planning!$3:$3))","v":"Onex1"},{"$f":"VLOOKUP(AA61,Horaires!$A$3:$E$49,2,)","v":"Onex"},{"$f":"IF(AB61=\"vacances\",INDEX(Horaires!$H$3:$L$42,MATCH('Solde d''heure collaborateur'!AB$2,Horaires!$H$3:$H$40,0),4),IF(AB61=\"maladie\",INDEX(Horaires!$H$3:$L$42,MATCH('Solde d''heure collaborateur'!AB$2,Horaires!$H$3:$H$40,0),5),VLOOKUP(AA61,Horaires!$A$3:$E$60,5,)))","v":0.46875000000000006},null,{"$f":"INDEX(Planning!$11:$11,MATCH('Solde d''heure collaborateur'!$A61,Planning!$3:$3))","v":"Plo1"},{"$f":"VLOOKUP(AE61,Horaires!$A$3:$E$49,2,)","v":"Plan les Ouates"},{"$f":"IF(AF61=\"vacances\",INDEX(Horaires!$H$3:$L$42,MATCH('Solde d''heure collaborateur'!AF$2,Horaires!$H$3:$H$40,0),4),IF(AF61=\"maladie\",INDEX(Horaires!$H$3:$L$42,MATCH('Solde d''heure collaborateur'!AF$2,Horaires!$H$3:$H$40,0),5),VLOOKUP(AE61,Horaires!$A$3:$E$60,5,)))","v":0.46875000000000006},null,{"$f":"INDEX(Planning!$12:$12,MATCH('Solde d''heure collaborateur'!$A61,Planning!$3:$3))","v":"Thon1"},{"$f":"VLOOKUP(AI61,Horaires!$A$3:$E$49,2,)","v":"Thonex"},{"$f":"IF(AJ61=\"vacances\",INDEX(Horaires!$H$3:$L$42,MATCH('Solde d''heure collaborateur'!AJ$2,Horaires!$H$3:$H$40,0),4),IF(AJ61=\"maladie\",INDEX(Horaires!$H$3:$L$42,MATCH('Solde d''heure collaborateur'!AJ$2,Horaires!$H$3:$H$40,0),5),VLOOKUP(AI61,Horaires!$A$3:$E$60,5,)))","v":0.44791666666666669},null,{"$f":"INDEX(Planning!$13:$13,MATCH('Solde d''heure collaborateur'!$A61,Planning!$3:$3))","v":"Vid1"},{"$f":"VLOOKUP(AM61,Horaires!$A$3:$E$49,2,)","v":"Vidollet"},{"$f":"IF(AN61=\"vacances\",INDEX(Horaires!$H$3:$L$42,MATCH('Solde d''heure collaborateur'!AN$2,Horaires!$H$3:$H$40,0),4),IF(AN61=\"maladie\",INDEX(Horaires!$H$3:$L$42,MATCH('Solde d''heure collaborateur'!AN$2,Horaires!$H$3:$H$40,0),5),VLOOKUP(AM61,Horaires!$A$3:$E$60,5,)))","v":0.44791666666666669},null,{"$f":"INDEX(Planning!$14:$14,MATCH('Solde d''heure collaborateur'!$A61,Planning!$3:$3))","v":"X"},{"$f":"VLOOKUP(AQ61,Horaires!$A$3:$E$49,2,)","v":"XXX"},{"$f":"IF(AR61=\"vacances\",INDEX(Horaires!$H$3:$L$42,MATCH('Solde d''heure collaborateur'!AR$2,Horaires!$H$3:$H$40,0),4),IF(AR61=\"maladie\",INDEX(Horaires!$H$3:$L$42,MATCH('Solde d''heure collaborateur'!AR$2,Horaires!$H$3:$H$40,0),5),VLOOKUP(AQ61,Horaires!$A$3:$E$60,5,)))","v":0},null,{"$f":"INDEX(Planning!$15:$15,MATCH('Solde d''heure collaborateur'!$A61,Planning!$3:$3))","v":"Nyon1"},{"$f":"VLOOKUP(AU61,Horaires!$A$3:$E$49,2,)","v":"Nyon"},{"$f":"IF(AV61=\"vacances\",INDEX(Horaires!$H$3:$L$42,MATCH('Solde d''heure collaborateur'!AV$2,Horaires!$H$3:$H$40,0),4),IF(AV61=\"maladie\",INDEX(Horaires!$H$3:$L$42,MATCH('Solde d''heure collaborateur'!AV$2,Horaires!$H$3:$H$40,0),5),VLOOKUP(AU61,Horaires!$A$3:$E$60,5,)))","v":0.44791666666666669},null,{"$f":"INDEX(Planning!$16:$16,MATCH('Solde d''heure collaborateur'!$A61,Planning!$3:$3))","v":"Vid1"},{"$f":"VLOOKUP(AY61,Horaires!$A$3:$E$49,2,)","v":"Vidollet"},{"$f":"IF(AZ61=\"vacances\",INDEX(Horaires!$H$3:$L$42,MATCH('Solde d''heure collaborateur'!AZ$2,Horaires!$H$3:$H$40,0),4),IF(AZ61=\"maladie\",INDEX(Horaires!$H$3:$L$42,MATCH('Solde d''heure collaborateur'!AZ$2,Horaires!$H$3:$H$40,0),5),VLOOKUP(AY61,Horaires!$A$3:$E$60,5,)))","v":0.44791666666666669},null,{"$f":"INDEX(Planning!$17:$17,MATCH('Solde d''heure collaborateur'!$A61,Planning!$3:$3))","v":"tour1"},{"$f":"VLOOKUP(BC61,Horaires!$A$3:$E$49,2,)","v":"Tourelle"},{"$f":"IF(BD61=\"vacances\",INDEX(Horaires!$H$3:$L$42,MATCH('Solde d''heure collaborateur'!BD$2,Horaires!$H$3:$H$40,0),4),IF(BD61=\"maladie\",INDEX(Horaires!$H$3:$L$42,MATCH('Solde d''heure collaborateur'!BD$2,Horaires!$H$3:$H$40,0),5),VLOOKUP(BC61,Horaires!$A$3:$E$60,5,)))","v":0.46875000000000006},null,{"$f":"INDEX(Planning!$18:$18,MATCH('Solde d''heure collaborateur'!$A61,Planning!$3:$3))","v":"Nav1"},{"$f":"VLOOKUP(BG61,Horaires!$A$3:$E$49,2,)","v":"Navigation"},{"$f":"IF(BH61=\"vacances\",INDEX(Horaires!$H$3:$L$42,MATCH('Solde d''heure collaborateur'!BH$2,Horaires!$H$3:$H$40,0),4),IF(BH61=\"maladie\",INDEX(Horaires!$H$3:$L$42,MATCH('Solde d''heure collaborateur'!BH$2,Horaires!$H$3:$H$40,0),5),VLOOKUP(BG61,Horaires!$A$3:$E$60,5,)))","v":0.44791666666666669},null,{"$f":"INDEX(Planning!$19:$19,MATCH('Solde d''heure collaborateur'!$A61,Planning!$3:$3))","v":"Vib1"},{"$f":"VLOOKUP(BK61,Horaires!$A$3:$E$49,2,)","v":"Vibert"},{"$f":"IF(BL61=\"vacances\",INDEX(Horaires!$H$3:$L$42,MATCH('Solde d''heure collaborateur'!BL$2,Horaires!$H$3:$H$40,0),4),IF(BL61=\"maladie\",INDEX(Horaires!$H$3:$L$42,MATCH('Solde d''heure collaborateur'!BL$2,Horaires!$H$3:$H$40,0),5),VLOOKUP(BK61,Horaires!$A$3:$E$60,5,)))","v":0.46875000000000006},null,{"$f":"INDEX(Planning!$20:$20,MATCH('Solde d''heure collaborateur'!$A61,Planning!$3:$3))","v":"Aca1"},{"$f":"VLOOKUP(BO61,Horaires!$A$3:$E$49,2,)","v":"Acacias"},{"$f":"IF(BP61=\"vacances\",INDEX(Horaires!$H$3:$L$42,MATCH('Solde d''heure collaborateur'!BP$2,Horaires!$H$3:$H$40,0),4),IF(BP61=\"maladie\",INDEX(Horaires!$H$3:$L$42,MATCH('Solde d''heure collaborateur'!BP$2,Horaires!$H$3:$H$40,0),5),VLOOKUP(BO61,Horaires!$A$3:$E$60,5,)))","v":0.44791666666666669},null,{"$f":"INDEX(Planning!$21:$21,MATCH('Solde d''heure collaborateur'!$A61,Planning!$3:$3))","v":"Ves1"},{"$f":"VLOOKUP(BS61,Horaires!$A$3:$E$49,2,)","v":"Vesenaz"},{"$f":"IF(BT61=\"vacances\",INDEX(Horaires!$H$3:$L$42,MATCH('Solde d''heure collaborateur'!BT$2,Horaires!$H$3:$H$40,0),4),IF(BT61=\"maladie\",INDEX(Horaires!$H$3:$L$42,MATCH('Solde d''heure collaborateur'!BT$2,Horaires!$H$3:$H$40,0),5),VLOOKUP(BS61,Horaires!$A$3:$E$60,5,)))","v":0.44791666666666669},null,{"$f":"INDEX(Planning!$22:$22,MATCH('Solde d''heure collaborateur'!$A61,Planning!$3:$3))","v":"Ves1"},{"$f":"VLOOKUP(BW61,Horaires!$A$3:$E$49,2,)","v":"Vesenaz"},{"$f":"IF(BX61=\"vacances\",INDEX(Horaires!$H$3:$L$42,MATCH('Solde d''heure collaborateur'!BX$2,Horaires!$H$3:$H$40,0),4),IF(BX61=\"maladie\",INDEX(Horaires!$H$3:$L$42,MATCH('Solde d''heure collaborateur'!BX$2,Horaires!$H$3:$H$40,0),5),VLOOKUP(BW61,Horaires!$A$3:$E$60,5,)))","v":0.44791666666666669},null,{"$f":"INDEX(Planning!$23:$23,MATCH('Solde d''heure collaborateur'!$A61,Planning!$3:$3))","v":"Plo1"},{"$f":"VLOOKUP(CA61,Horaires!$A$3:$E$49,2,)","v":"Plan les Ouates"},{"$f":"IF(CB61=\"vacances\",INDEX(Horaires!$H$3:$L$42,MATCH('Solde d''heure collaborateur'!CB$2,Horaires!$H$3:$H$40,0),4),IF(CB61=\"maladie\",INDEX(Horaires!$H$3:$L$42,MATCH('Solde d''heure collaborateur'!CB$2,Horaires!$H$3:$H$40,0),5),VLOOKUP(CA61,Horaires!$A$3:$E$60,5,)))","v":0.46875000000000006},null,{"$f":"INDEX(Planning!$24:$24,MATCH('Solde d''heure collaborateur'!$A61,Planning!$3:$3))","v":"pom1"},{"$f":"VLOOKUP(CE61,Horaires!$A$3:$E$49,2,)","v":"Pommier"},{"$f":"IF(CF61=\"vacances\",INDEX(Horaires!$H$3:$L$42,MATCH('Solde d''heure collaborateur'!CF$2,Horaires!$H$3:$H$40,0),4),IF(CF61=\"maladie\",INDEX(Horaires!$H$3:$L$42,MATCH('Solde d''heure collaborateur'!CF$2,Horaires!$H$3:$H$40,0),5),VLOOKUP(CE61,Horaires!$A$3:$E$60,5,)))","v":0.44791666666666669},null,{"$f":"INDEX(Planning!$25:$25,MATCH('Solde d''heure collaborateur'!$A61,Planning!$3:$3))","v":"X"},{"$f":"VLOOKUP(CI61,Horaires!$A$3:$E$49,2,)","v":"XXX"},{"$f":"IF(CJ61=\"vacances\",INDEX(Horaires!$H$3:$L$42,MATCH('Solde d''heure collaborateur'!CJ$2,Horaires!$H$3:$H$40,0),4),IF(CJ61=\"maladie\",INDEX(Horaires!$H$3:$L$42,MATCH('Solde d''heure collaborateur'!CJ$2,Horaires!$H$3:$H$40,0),5),VLOOKUP(CI61,Horaires!$A$3:$E$60,5,)))","v":0},null,{"$f":"INDEX(Planning!$26:$26,MATCH('Solde d''heure collaborateur'!$A61,Planning!$3:$3))","v":"R"},{"$f":"VLOOKUP(CM61,Horaires!$A$3:$E$49,2,)","v":"Congé"},{"$f":"IF(CN61=\"vacances\",INDEX(Horaires!$H$3:$L$42,MATCH('Solde d''heure collaborateur'!CN$2,Horaires!$H$3:$H$40,0),4),IF(CN61=\"maladie\",INDEX(Horaires!$H$3:$L$42,MATCH('Solde d''heure collaborateur'!CN$2,Horaires!$H$3:$H$40,0),5),VLOOKUP(CM61,Horaires!$A$3:$E$60,5,)))","v":0},null,{"$f":"INDEX(Planning!$27:$27,MATCH('Solde d''heure collaborateur'!$A61,Planning!$3:$3))","v":"Thon1"},{"$f":"VLOOKUP(CQ61,Horaires!$A$3:$E$49,2,)","v":"Thonex"},{"$f":"IF(CR61=\"vacances\",INDEX(Horaires!$H$3:$L$42,MATCH('Solde d''heure collaborateur'!CR$2,Horaires!$H$3:$H$40,0),4),IF(CR61=\"maladie\",INDEX(Horaires!$H$3:$L$42,MATCH('Solde d''heure collaborateur'!CR$2,Horaires!$H$3:$H$40,0),5),VLOOKUP(CQ61,Horaires!$A$3:$E$60,5,)))","v":0.44791666666666669},null,{"$f":"INDEX(Planning!$28:$28,MATCH('Solde d''heure collaborateur'!$A61,Planning!$3:$3))","v":"tour1"},{"$f":"VLOOKUP(CU61,Horaires!$A$3:$E$49,2,)","v":"Tourelle"},{"$f":"IF(CV61=\"vacances\",INDEX(Horaires!$H$3:$L$42,MATCH('Solde d''heure collaborateur'!CV$2,Horaires!$H$3:$H$40,0),4),IF(CV61=\"maladie\",INDEX(Horaires!$H$3:$L$42,MATCH('Solde d''heure collaborateur'!CV$2,Horaires!$H$3:$H$40,0),5),VLOOKUP(CU61,Horaires!$A$3:$E$60,5,)))","v":0.46875000000000006},null,{"$f":"INDEX(Planning!$29:$29,MATCH('Solde d''heure collaborateur'!$A61,Planning!$3:$3))","v":"Onex1"},{"$f":"VLOOKUP(CY61,Horaires!$A$3:$E$49,2,)","v":"Onex"},{"$f":"IF(CZ61=\"vacances\",INDEX(Horaires!$H$3:$L$42,MATCH('Solde d''heure collaborateur'!CZ$2,Horaires!$H$3:$H$40,0),4),IF(CZ61=\"maladie\",INDEX(Horaires!$H$3:$L$42,MATCH('Solde d''heure collaborateur'!CZ$2,Horaires!$H$3:$H$40,0),5),VLOOKUP(CY61,Horaires!$A$3:$E$60,5,)))","v":0.46875000000000006},null,{"$f":"INDEX(Planning!$30:$30,MATCH('Solde d''heure collaborateur'!$A61,Planning!$3:$3))","v":"Vib1"},{"$f":"VLOOKUP(DC61,Horaires!$A$3:$E$49,2,)","v":"Vibert"},{"$f":"IF(DD61=\"vacances\",INDEX(Horaires!$H$3:$L$42,MATCH('Solde d''heure collaborateur'!DD$2,Horaires!$H$3:$H$40,0),4),IF(DD61=\"maladie\",INDEX(Horaires!$H$3:$L$42,MATCH('Solde d''heure collaborateur'!DD$2,Horaires!$H$3:$H$40,0),5),VLOOKUP(DC61,Horaires!$A$3:$E$60,5,)))","v":0.46875000000000006},null,{"$f":"INDEX(Planning!$31:$31,MATCH('Solde d''heure collaborateur'!$A61,Planning!$3:$3))","v":"Nyon1"},{"$f":"VLOOKUP(DG61,Horaires!$A$3:$E$49,2,)","v":"Nyon"},{"$f":"IF(DH61=\"vacances\",INDEX(Horaires!$H$3:$L$42,MATCH('Solde d''heure collaborateur'!DH$2,Horaires!$H$3:$H$40,0),4),IF(DH61=\"maladie\",INDEX(Horaires!$H$3:$L$42,MATCH('Solde d''heure collaborateur'!DH$2,Horaires!$H$3:$H$40,0),5),VLOOKUP(DG61,Horaires!$A$3:$E$60,5,)))","v":0.44791666666666669},null,{"$f":"INDEX(Planning!$32:$32,MATCH('Solde d''heure collaborateur'!$A61,Planning!$3:$3))","v":"X"},{"$f":"VLOOKUP(DK61,Horaires!$A$3:$E$49,2,)","v":"XXX"},{"$f":"IF(DL61=\"vacances\",INDEX(Horaires!$H$3:$L$42,MATCH('Solde d''heure collaborateur'!DL$2,Horaires!$H$3:$H$40,0),4),IF(DL61=\"maladie\",INDEX(Horaires!$H$3:$L$42,MATCH('Solde d''heure collaborateur'!DL$2,Horaires!$H$3:$H$40,0),5),VLOOKUP(DK61,Horaires!$A$3:$E$60,5,)))","v":0},null,{"$f":"INDEX(Planning!$33:$33,MATCH('Solde d''heure collaborateur'!$A61,Planning!$3:$3))","v":"X"},{"$f":"VLOOKUP(DO61,Horaires!$A$3:$E$49,2,)","v":"XXX"},{"$f":"IF(DP61=\"vacances\",INDEX(Horaires!$H$3:$L$42,MATCH('Solde d''heure collaborateur'!DP$2,Horaires!$H$3:$H$40,0),4),IF(DP61=\"maladie\",INDEX(Horaires!$H$3:$L$42,MATCH('Solde d''heure collaborateur'!DP$2,Horaires!$H$3:$H$40,0),5),VLOOKUP(DO61,Horaires!$A$3:$E$60,5,)))","v":0},null,{"$f":"INDEX(Planning!$34:$34,MATCH('Solde d''heure collaborateur'!$A61,Planning!$3:$3))","v":"X"},{"$f":"VLOOKUP(DS61,Horaires!$A$3:$E$49,2,)","v":"XXX"},{"$f":"IF(DT61=\"vacances\",INDEX(Horaires!$H$3:$L$42,MATCH('Solde d''heure collaborateur'!DT$2,Horaires!$H$3:$H$40,0),4),IF(DT61=\"maladie\",INDEX(Horaires!$H$3:$L$42,MATCH('Solde d''heure collaborateur'!DT$2,Horaires!$H$3:$H$40,0),5),VLOOKUP(DS61,Horaires!$A$3:$E$60,5,)))","v":0},null,{"$f":"INDEX(Planning!$35:$35,MATCH('Solde d''heure collaborateur'!$A61,Planning!$3:$3))","v":"X"},{"$f":"VLOOKUP(DW61,Horaires!$A$3:$E$49,2,)","v":"XXX"},{"$f":"IF(DX61=\"vacances\",INDEX(Horaires!$H$3:$L$42,MATCH('Solde d''heure collaborateur'!DX$2,Horaires!$H$3:$H$40,0),4),IF(DX61=\"maladie\",INDEX(Horaires!$H$3:$L$42,MATCH('Solde d''heure collaborateur'!DX$2,Horaires!$H$3:$H$40,0),5),VLOOKUP(DW61,Horaires!$A$3:$E$60,5,)))","v":0}]
[{"$f":"A61+1","v":"2013-12-25"},null,{"$f":"INDEX(Planning!$4:$4,MATCH('Solde d''heure collaborateur'!A62,Planning!$3:$3,0))","v":"F"},{"$f":"VLOOKUP(C62,Horaires!$A$3:$E$49,2,)","v":"Férié"},{"$f":"IF(D62=\"vacances\",INDEX(Horaires!$H$3:$L$42,MATCH('Solde d''heure collaborateur'!D$2,Horaires!$H$3:$H$40,0),4),IF(D62=\"maladie\",INDEX(Horaires!$H$3:$L$42,MATCH('Solde d''heure collaborateur'!D$2,Horaires!$H$3:$H$40,0),5),VLOOKUP(C62,Horaires!$A$3:$E$60,5,)))","v":0.35000000000000003},null,{"$f":"INDEX(Planning!$5:$5,MATCH('Solde d''heure collaborateur'!A62,Planning!$3:$3))","v":"F"},{"$f":"VLOOKUP(G62,Horaires!$A$3:$E$49,2,)","v":"Férié"},{"$f":"IF(H62=\"vacances\",INDEX(Horaires!$H$3:$L$42,MATCH('Solde d''heure collaborateur'!H$2,Horaires!$H$3:$H$40,0),4),IF(H62=\"maladie\",INDEX(Horaires!$H$3:$L$42,MATCH('Solde d''heure collaborateur'!H$2,Horaires!$H$3:$H$40,0),5),VLOOKUP(G62,Horaires!$A$3:$E$60,5,)))","v":0.35000000000000003},null,{"$f":"INDEX(Planning!$6:$6,MATCH('Solde d''heure collaborateur'!A62,Planning!$3:$3))","v":"M"},{"$f":"VLOOKUP(K62,Horaires!$A$3:$E$49,2,)","v":"Maladie"},{"$f":"IF(L62=\"vacances\",INDEX(Horaires!$H$3:$L$42,MATCH('Solde d''heure collaborateur'!L$2,Horaires!$H$3:$H$40,0),4),IF(L62=\"maladie\",INDEX(Horaires!$H$3:$L$42,MATCH('Solde d''heure collaborateur'!L$2,Horaires!$H$3:$H$40,0),5),VLOOKUP(K62,Horaires!$A$3:$E$60,5,)))","v":0.4375},null,{"$f":"INDEX(Planning!$7:$7,MATCH('Solde d''heure collaborateur'!$A62,Planning!$3:$3))","v":"X"},{"$f":"VLOOKUP(O62,Horaires!$A$3:$E$49,2,)","v":"XXX"},{"$f":"IF(P62=\"vacances\",INDEX(Horaires!$H$3:$L$42,MATCH('Solde d''heure collaborateur'!P$2,Horaires!$H$3:$H$40,0),4),IF(P62=\"maladie\",INDEX(Horaires!$H$3:$L$42,MATCH('Solde d''heure collaborateur'!P$2,Horaires!$H$3:$H$40,0),5),VLOOKUP(O62,Horaires!$A$3:$E$60,5,)))","v":0},null,{"$f":"INDEX(Planning!$8:$8,MATCH('Solde d''heure collaborateur'!$A62,Planning!$3:$3))","v":"F"},{"$f":"VLOOKUP(S62,Horaires!$A$3:$E$49,2,)","v":"Férié"},{"$f":"IF(T62=\"vacances\",INDEX(Horaires!$H$3:$L$42,MATCH('Solde d''heure collaborateur'!T$2,Horaires!$H$3:$H$40,0),4),IF(T62=\"maladie\",INDEX(Horaires!$H$3:$L$42,MATCH('Solde d''heure collaborateur'!T$2,Horaires!$H$3:$H$40,0),5),VLOOKUP(S62,Horaires!$A$3:$E$60,5,)))","v":0.35000000000000003},null,{"$f":"INDEX(Planning!$9:$9,MATCH('Solde d''heure collaborateur'!$A62,Planning!$3:$3))","v":"F"},{"$f":"VLOOKUP(W62,Horaires!$A$3:$E$49,2,)","v":"Férié"},{"$f":"IF(X62=\"vacances\",INDEX(Horaires!$H$3:$L$42,MATCH('Solde d''heure collaborateur'!X$2,Horaires!$H$3:$H$40,0),4),IF(X62=\"maladie\",INDEX(Horaires!$H$3:$L$42,MATCH('Solde d''heure collaborateur'!X$2,Horaires!$H$3:$H$40,0),5),VLOOKUP(W62,Horaires!$A$3:$E$60,5,)))","v":0.35000000000000003},null,{"$f":"INDEX(Planning!$10:$10,MATCH('Solde d''heure collaborateur'!$A62,Planning!$3:$3))","v":"F"},{"$f":"VLOOKUP(AA62,Horaires!$A$3:$E$49,2,)","v":"Férié"},{"$f":"IF(AB62=\"vacances\",INDEX(Horaires!$H$3:$L$42,MATCH('Solde d''heure collaborateur'!AB$2,Horaires!$H$3:$H$40,0),4),IF(AB62=\"maladie\",INDEX(Horaires!$H$3:$L$42,MATCH('Solde d''heure collaborateur'!AB$2,Horaires!$H$3:$H$40,0),5),VLOOKUP(AA62,Horaires!$A$3:$E$60,5,)))","v":0.35000000000000003},null,{"$f":"INDEX(Planning!$11:$11,MATCH('Solde d''heure collaborateur'!$A62,Planning!$3:$3))","v":"F"},{"$f":"VLOOKUP(AE62,Horaires!$A$3:$E$49,2,)","v":"Férié"},{"$f":"IF(AF62=\"vacances\",INDEX(Horaires!$H$3:$L$42,MATCH('Solde d''heure collaborateur'!AF$2,Horaires!$H$3:$H$40,0),4),IF(AF62=\"maladie\",INDEX(Horaires!$H$3:$L$42,MATCH('Solde d''heure collaborateur'!AF$2,Horaires!$H$3:$H$40,0),5),VLOOKUP(AE62,Horaires!$A$3:$E$60,5,)))","v":0.35000000000000003},null,{"$f":"INDEX(Planning!$12:$12,MATCH('Solde d''heure collaborateur'!$A62,Planning!$3:$3))","v":"F"},{"$f":"VLOOKUP(AI62,Horaires!$A$3:$E$49,2,)","v":"Férié"},{"$f":"IF(AJ62=\"vacances\",INDEX(Horaires!$H$3:$L$42,MATCH('Solde d''heure collaborateur'!AJ$2,Horaires!$H$3:$H$40,0),4),IF(AJ62=\"maladie\",INDEX(Horaires!$H$3:$L$42,MATCH('Solde d''heure collaborateur'!AJ$2,Horaires!$H$3:$H$40,0),5),VLOOKUP(AI62,Horaires!$A$3:$E$60,5,)))","v":0.35000000000000003},null,{"$f":"INDEX(Planning!$13:$13,MATCH('Solde d''heure collaborateur'!$A62,Planning!$3:$3))","v":"F"},{"$f":"VLOOKUP(AM62,Horaires!$A$3:$E$49,2,)","v":"Férié"},{"$f":"IF(AN62=\"vacances\",INDEX(Horaires!$H$3:$L$42,MATCH('Solde d''heure collaborateur'!AN$2,Horaires!$H$3:$H$40,0),4),IF(AN62=\"maladie\",INDEX(Horaires!$H$3:$L$42,MATCH('Solde d''heure collaborateur'!AN$2,Horaires!$H$3:$H$40,0),5),VLOOKUP(AM62,Horaires!$A$3:$E$60,5,)))","v":0.35000000000000003},null,{"$f":"INDEX(Planning!$14:$14,MATCH('Solde d''heure collaborateur'!$A62,Planning!$3:$3))","v":"X"},{"$f":"VLOOKUP(AQ62,Horaires!$A$3:$E$49,2,)","v":"XXX"},{"$f":"IF(AR62=\"vacances\",INDEX(Horaires!$H$3:$L$42,MATCH('Solde d''heure collaborateur'!AR$2,Horaires!$H$3:$H$40,0),4),IF(AR62=\"maladie\",INDEX(Horaires!$H$3:$L$42,MATCH('Solde d''heure collaborateur'!AR$2,Horaires!$H$3:$H$40,0),5),VLOOKUP(AQ62,Horaires!$A$3:$E$60,5,)))","v":0},null,{"$f":"INDEX(Planning!$15:$15,MATCH('Solde d''heure collaborateur'!$A62,Planning!$3:$3))","v":"F"},{"$f":"VLOOKUP(AU62,Horaires!$A$3:$E$49,2,)","v":"Férié"},{"$f":"IF(AV62=\"vacances\",INDEX(Horaires!$H$3:$L$42,MATCH('Solde d''heure collaborateur'!AV$2,Horaires!$H$3:$H$40,0),4),IF(AV62=\"maladie\",INDEX(Horaires!$H$3:$L$42,MATCH('Solde d''heure collaborateur'!AV$2,Horaires!$H$3:$H$40,0),5),VLOOKUP(AU62,Horaires!$A$3:$E$60,5,)))","v":0.35000000000000003},null,{"$f":"INDEX(Planning!$16:$16,MATCH('Solde d''heure collaborateur'!$A62,Planning!$3:$3))","v":"F"},{"$f":"VLOOKUP(AY62,Horaires!$A$3:$E$49,2,)","v":"Férié"},{"$f":"IF(AZ62=\"vacances\",INDEX(Horaires!$H$3:$L$42,MATCH('Solde d''heure collaborateur'!AZ$2,Horaires!$H$3:$H$40,0),4),IF(AZ62=\"maladie\",INDEX(Horaires!$H$3:$L$42,MATCH('Solde d''heure collaborateur'!AZ$2,Horaires!$H$3:$H$40,0),5),VLOOKUP(AY62,Horaires!$A$3:$E$60,5,)))","v":0.35000000000000003},null,{"$f":"INDEX(Planning!$17:$17,MATCH('Solde d''heure collaborateur'!$A62,Planning!$3:$3))","v":"F"},{"$f":"VLOOKUP(BC62,Horaires!$A$3:$E$49,2,)","v":"Férié"},{"$f":"IF(BD62=\"vacances\",INDEX(Horaires!$H$3:$L$42,MATCH('Solde d''heure collaborateur'!BD$2,Horaires!$H$3:$H$40,0),4),IF(BD62=\"maladie\",INDEX(Horaires!$H$3:$L$42,MATCH('Solde d''heure collaborateur'!BD$2,Horaires!$H$3:$H$40,0),5),VLOOKUP(BC62,Horaires!$A$3:$E$60,5,)))","v":0.35000000000000003},null,{"$f":"INDEX(Planning!$18:$18,MATCH('Solde d''heure collaborateur'!$A62,Planning!$3:$3))","v":"F"},{"$f":"VLOOKUP(BG62,Horaires!$A$3:$E$49,2,)","v":"Férié"},{"$f":"IF(BH62=\"vacances\",INDEX(Horaires!$H$3:$L$42,MATCH('Solde d''heure collaborateur'!BH$2,Horaires!$H$3:$H$40,0),4),IF(BH62=\"maladie\",INDEX(Horaires!$H$3:$L$42,MATCH('Solde d''heure collaborateur'!BH$2,Horaires!$H$3:$H$40,0),5),VLOOKUP(BG62,Horaires!$A$3:$E$60,5,)))","v":0.35000000000000003},null,{"$f":"INDEX(Planning!$19:$19,MATCH('Solde d''heure collaborateur'!$A62,Planning!$3:$3))","v":"F"},{"$f":"VLOOKUP(BK62,Horaires!$A$3:$E$49,2,)","v":"Férié"},{"$f":"IF(BL62=\"vacances\",INDEX(Horaires!$H$3:$L$42,MATCH('Solde d''heure collaborateur'!BL$2,Horaires!$H$3:$H$40,0),4),IF(BL62=\"maladie\",INDEX(Horaires!$H$3:$L$42,MATCH('Solde d''heure collaborateur'!BL$2,Horaires!$H$3:$H$40,0),5),VLOOKUP(BK62,Horaires!$A$3:$E$60,5,)))","v":0.35000000000000003},null,{"$f":"INDEX(Planning!$20:$20,MATCH('Solde d''heure collaborateur'!$A62,Planning!$3:$3))","v":"F"},{"$f":"VLOOKUP(BO62,Horaires!$A$3:$E$49,2,)","v":"Férié"},{"$f":"IF(BP62=\"vacances\",INDEX(Horaires!$H$3:$L$42,MATCH('Solde d''heure collaborateur'!BP$2,Horaires!$H$3:$H$40,0),4),IF(BP62=\"maladie\",INDEX(Horaires!$H$3:$L$42,MATCH('Solde d''heure collaborateur'!BP$2,Horaires!$H$3:$H$40,0),5),VLOOKUP(BO62,Horaires!$A$3:$E$60,5,)))","v":0.35000000000000003},null,{"$f":"INDEX(Planning!$21:$21,MATCH('Solde d''heure collaborateur'!$A62,Planning!$3:$3))","v":"F"},{"$f":"VLOOKUP(BS62,Horaires!$A$3:$E$49,2,)","v":"Férié"},{"$f":"IF(BT62=\"vacances\",INDEX(Horaires!$H$3:$L$42,MATCH('Solde d''heure collaborateur'!BT$2,Horaires!$H$3:$H$40,0),4),IF(BT62=\"maladie\",INDEX(Horaires!$H$3:$L$42,MATCH('Solde d''heure collaborateur'!BT$2,Horaires!$H$3:$H$40,0),5),VLOOKUP(BS62,Horaires!$A$3:$E$60,5,)))","v":0.35000000000000003},null,{"$f":"INDEX(Planning!$22:$22,MATCH('Solde d''heure collaborateur'!$A62,Planning!$3:$3))","v":"X"},{"$f":"VLOOKUP(BW62,Horaires!$A$3:$E$49,2,)","v":"XXX"},{"$f":"IF(BX62=\"vacances\",INDEX(Horaires!$H$3:$L$42,MATCH('Solde d''heure collaborateur'!BX$2,Horaires!$H$3:$H$40,0),4),IF(BX62=\"maladie\",INDEX(Horaires!$H$3:$L$42,MATCH('Solde d''heure collaborateur'!BX$2,Horaires!$H$3:$H$40,0),5),VLOOKUP(BW62,Horaires!$A$3:$E$60,5,)))","v":0},null,{"$f":"INDEX(Planning!$23:$23,MATCH('Solde d''heure collaborateur'!$A62,Planning!$3:$3))","v":"F"},{"$f":"VLOOKUP(CA62,Horaires!$A$3:$E$49,2,)","v":"Férié"},{"$f":"IF(CB62=\"vacances\",INDEX(Horaires!$H$3:$L$42,MATCH('Solde d''heure collaborateur'!CB$2,Horaires!$H$3:$H$40,0),4),IF(CB62=\"maladie\",INDEX(Horaires!$H$3:$L$42,MATCH('Solde d''heure collaborateur'!CB$2,Horaires!$H$3:$H$40,0),5),VLOOKUP(CA62,Horaires!$A$3:$E$60,5,)))","v":0.35000000000000003},null,{"$f":"INDEX(Planning!$24:$24,MATCH('Solde d''heure collaborateur'!$A62,Planning!$3:$3))","v":"F"},{"$f":"VLOOKUP(CE62,Horaires!$A$3:$E$49,2,)","v":"Férié"},{"$f":"IF(CF62=\"vacances\",INDEX(Horaires!$H$3:$L$42,MATCH('Solde d''heure collaborateur'!CF$2,Horaires!$H$3:$H$40,0),4),IF(CF62=\"maladie\",INDEX(Horaires!$H$3:$L$42,MATCH('Solde d''heure collaborateur'!CF$2,Horaires!$H$3:$H$40,0),5),VLOOKUP(CE62,Horaires!$A$3:$E$60,5,)))","v":0.35000000000000003},null,{"$f":"INDEX(Planning!$25:$25,MATCH('Solde d''heure collaborateur'!$A62,Planning!$3:$3))","v":"X"},{"$f":"VLOOKUP(CI62,Horaires!$A$3:$E$49,2,)","v":"XXX"},{"$f":"IF(CJ62=\"vacances\",INDEX(Horaires!$H$3:$L$42,MATCH('Solde d''heure collaborateur'!CJ$2,Horaires!$H$3:$H$40,0),4),IF(CJ62=\"maladie\",INDEX(Horaires!$H$3:$L$42,MATCH('Solde d''heure collaborateur'!CJ$2,Horaires!$H$3:$H$40,0),5),VLOOKUP(CI62,Horaires!$A$3:$E$60,5,)))","v":0},null,{"$f":"INDEX(Planning!$26:$26,MATCH('Solde d''heure collaborateur'!$A62,Planning!$3:$3))","v":"F"},{"$f":"VLOOKUP(CM62,Horaires!$A$3:$E$49,2,)","v":"Férié"},{"$f":"IF(CN62=\"vacances\",INDEX(Horaires!$H$3:$L$42,MATCH('Solde d''heure collaborateur'!CN$2,Horaires!$H$3:$H$40,0),4),IF(CN62=\"maladie\",INDEX(Horaires!$H$3:$L$42,MATCH('Solde d''heure collaborateur'!CN$2,Horaires!$H$3:$H$40,0),5),VLOOKUP(CM62,Horaires!$A$3:$E$60,5,)))","v":0.35000000000000003},null,{"$f":"INDEX(Planning!$27:$27,MATCH('Solde d''heure collaborateur'!$A62,Planning!$3:$3))","v":"F"},{"$f":"VLOOKUP(CQ62,Horaires!$A$3:$E$49,2,)","v":"Férié"},{"$f":"IF(CR62=\"vacances\",INDEX(Horaires!$H$3:$L$42,MATCH('Solde d''heure collaborateur'!CR$2,Horaires!$H$3:$H$40,0),4),IF(CR62=\"maladie\",INDEX(Horaires!$H$3:$L$42,MATCH('Solde d''heure collaborateur'!CR$2,Horaires!$H$3:$H$40,0),5),VLOOKUP(CQ62,Horaires!$A$3:$E$60,5,)))","v":0.35000000000000003},null,{"$f":"INDEX(Planning!$28:$28,MATCH('Solde d''heure collaborateur'!$A62,Planning!$3:$3))","v":"F"},{"$f":"VLOOKUP(CU62,Horaires!$A$3:$E$49,2,)","v":"Férié"},{"$f":"IF(CV62=\"vacances\",INDEX(Horaires!$H$3:$L$42,MATCH('Solde d''heure collaborateur'!CV$2,Horaires!$H$3:$H$40,0),4),IF(CV62=\"maladie\",INDEX(Horaires!$H$3:$L$42,MATCH('Solde d''heure collaborateur'!CV$2,Horaires!$H$3:$H$40,0),5),VLOOKUP(CU62,Horaires!$A$3:$E$60,5,)))","v":0.35000000000000003},null,{"$f":"INDEX(Planning!$29:$29,MATCH('Solde d''heure collaborateur'!$A62,Planning!$3:$3))","v":"F"},{"$f":"VLOOKUP(CY62,Horaires!$A$3:$E$49,2,)","v":"Férié"},{"$f":"IF(CZ62=\"vacances\",INDEX(Horaires!$H$3:$L$42,MATCH('Solde d''heure collaborateur'!CZ$2,Horaires!$H$3:$H$40,0),4),IF(CZ62=\"maladie\",INDEX(Horaires!$H$3:$L$42,MATCH('Solde d''heure collaborateur'!CZ$2,Horaires!$H$3:$H$40,0),5),VLOOKUP(CY62,Horaires!$A$3:$E$60,5,)))","v":0.35000000000000003},null,{"$f":"INDEX(Planning!$30:$30,MATCH('Solde d''heure collaborateur'!$A62,Planning!$3:$3))","v":"X"},{"$f":"VLOOKUP(DC62,Horaires!$A$3:$E$49,2,)","v":"XXX"},{"$f":"IF(DD62=\"vacances\",INDEX(Horaires!$H$3:$L$42,MATCH('Solde d''heure collaborateur'!DD$2,Horaires!$H$3:$H$40,0),4),IF(DD62=\"maladie\",INDEX(Horaires!$H$3:$L$42,MATCH('Solde d''heure collaborateur'!DD$2,Horaires!$H$3:$H$40,0),5),VLOOKUP(DC62,Horaires!$A$3:$E$60,5,)))","v":0},null,{"$f":"INDEX(Planning!$31:$31,MATCH('Solde d''heure collaborateur'!$A62,Planning!$3:$3))","v":"X"},{"$f":"VLOOKUP(DG62,Horaires!$A$3:$E$49,2,)","v":"XXX"},{"$f":"IF(DH62=\"vacances\",INDEX(Horaires!$H$3:$L$42,MATCH('Solde d''heure collaborateur'!DH$2,Horaires!$H$3:$H$40,0),4),IF(DH62=\"maladie\",INDEX(Horaires!$H$3:$L$42,MATCH('Solde d''heure collaborateur'!DH$2,Horaires!$H$3:$H$40,0),5),VLOOKUP(DG62,Horaires!$A$3:$E$60,5,)))","v":0},null,{"$f":"INDEX(Planning!$32:$32,MATCH('Solde d''heure collaborateur'!$A62,Planning!$3:$3))","v":"X"},{"$f":"VLOOKUP(DK62,Horaires!$A$3:$E$49,2,)","v":"XXX"},{"$f":"IF(DL62=\"vacances\",INDEX(Horaires!$H$3:$L$42,MATCH('Solde d''heure collaborateur'!DL$2,Horaires!$H$3:$H$40,0),4),IF(DL62=\"maladie\",INDEX(Horaires!$H$3:$L$42,MATCH('Solde d''heure collaborateur'!DL$2,Horaires!$H$3:$H$40,0),5),VLOOKUP(DK62,Horaires!$A$3:$E$60,5,)))","v":0},null,{"$f":"INDEX(Planning!$33:$33,MATCH('Solde d''heure collaborateur'!$A62,Planning!$3:$3))","v":"X"},{"$f":"VLOOKUP(DO62,Horaires!$A$3:$E$49,2,)","v":"XXX"},{"$f":"IF(DP62=\"vacances\",INDEX(Horaires!$H$3:$L$42,MATCH('Solde d''heure collaborateur'!DP$2,Horaires!$H$3:$H$40,0),4),IF(DP62=\"maladie\",INDEX(Horaires!$H$3:$L$42,MATCH('Solde d''heure collaborateur'!DP$2,Horaires!$H$3:$H$40,0),5),VLOOKUP(DO62,Horaires!$A$3:$E$60,5,)))","v":0},null,{"$f":"INDEX(Planning!$34:$34,MATCH('Solde d''heure collaborateur'!$A62,Planning!$3:$3))","v":"X"},{"$f":"VLOOKUP(DS62,Horaires!$A$3:$E$49,2,)","v":"XXX"},{"$f":"IF(DT62=\"vacances\",INDEX(Horaires!$H$3:$L$42,MATCH('Solde d''heure collaborateur'!DT$2,Horaires!$H$3:$H$40,0),4),IF(DT62=\"maladie\",INDEX(Horaires!$H$3:$L$42,MATCH('Solde d''heure collaborateur'!DT$2,Horaires!$H$3:$H$40,0),5),VLOOKUP(DS62,Horaires!$A$3:$E$60,5,)))","v":0},null,{"$f":"INDEX(Planning!$35:$35,MATCH('Solde d''heure collaborateur'!$A62,Planning!$3:$3))","v":"X"},{"$f":"VLOOKUP(DW62,Horaires!$A$3:$E$49,2,)","v":"XXX"},{"$f":"IF(DX62=\"vacances\",INDEX(Horaires!$H$3:$L$42,MATCH('Solde d''heure collaborateur'!DX$2,Horaires!$H$3:$H$40,0),4),IF(DX62=\"maladie\",INDEX(Horaires!$H$3:$L$42,MATCH('Solde d''heure collaborateur'!DX$2,Horaires!$H$3:$H$40,0),5),VLOOKUP(DW62,Horaires!$A$3:$E$60,5,)))","v":0}]
[{"$f":"A62+1","v":"2013-12-26"},null,{"$f":"INDEX(Planning!$4:$4,MATCH('Solde d''heure collaborateur'!A63,Planning!$3:$3,0))","v":"Nav2"},{"$f":"VLOOKUP(C63,Horaires!$A$3:$E$49,2,)","v":"Navigation"},{"$f":"IF(D63=\"vacances\",INDEX(Horaires!$H$3:$L$42,MATCH('Solde d''heure collaborateur'!D$2,Horaires!$H$3:$H$40,0),4),IF(D63=\"maladie\",INDEX(Horaires!$H$3:$L$42,MATCH('Solde d''heure collaborateur'!D$2,Horaires!$H$3:$H$40,0),5),VLOOKUP(C63,Horaires!$A$3:$E$60,5,)))","v":0.46874999999999994},null,{"$f":"INDEX(Planning!$5:$5,MATCH('Solde d''heure collaborateur'!A63,Planning!$3:$3))","v":"Pom2"},{"$f":"VLOOKUP(G63,Horaires!$A$3:$E$49,2,)","v":"Pommier"},{"$f":"IF(H63=\"vacances\",INDEX(Horaires!$H$3:$L$42,MATCH('Solde d''heure collaborateur'!H$2,Horaires!$H$3:$H$40,0),4),IF(H63=\"maladie\",INDEX(Horaires!$H$3:$L$42,MATCH('Solde d''heure collaborateur'!H$2,Horaires!$H$3:$H$40,0),5),VLOOKUP(G63,Horaires!$A$3:$E$60,5,)))","v":0.46874999999999994},null,{"$f":"INDEX(Planning!$6:$6,MATCH('Solde d''heure collaborateur'!A63,Planning!$3:$3))","v":"M"},{"$f":"VLOOKUP(K63,Horaires!$A$3:$E$49,2,)","v":"Maladie"},{"$f":"IF(L63=\"vacances\",INDEX(Horaires!$H$3:$L$42,MATCH('Solde d''heure collaborateur'!L$2,Horaires!$H$3:$H$40,0),4),IF(L63=\"maladie\",INDEX(Horaires!$H$3:$L$42,MATCH('Solde d''heure collaborateur'!L$2,Horaires!$H$3:$H$40,0),5),VLOOKUP(K63,Horaires!$A$3:$E$60,5,)))","v":0.4375},null,{"$f":"INDEX(Planning!$7:$7,MATCH('Solde d''heure collaborateur'!$A63,Planning!$3:$3))","v":"X"},{"$f":"VLOOKUP(O63,Horaires!$A$3:$E$49,2,)","v":"XXX"},{"$f":"IF(P63=\"vacances\",INDEX(Horaires!$H$3:$L$42,MATCH('Solde d''heure collaborateur'!P$2,Horaires!$H$3:$H$40,0),4),IF(P63=\"maladie\",INDEX(Horaires!$H$3:$L$42,MATCH('Solde d''heure collaborateur'!P$2,Horaires!$H$3:$H$40,0),5),VLOOKUP(O63,Horaires!$A$3:$E$60,5,)))","v":0},null,{"$f":"INDEX(Planning!$8:$8,MATCH('Solde d''heure collaborateur'!$A63,Planning!$3:$3))","v":"Onex2"},{"$f":"VLOOKUP(S63,Horaires!$A$3:$E$49,2,)","v":"Onex"},{"$f":"IF(T63=\"vacances\",INDEX(Horaires!$H$3:$L$42,MATCH('Solde d''heure collaborateur'!T$2,Horaires!$H$3:$H$40,0),4),IF(T63=\"maladie\",INDEX(Horaires!$H$3:$L$42,MATCH('Solde d''heure collaborateur'!T$2,Horaires!$H$3:$H$40,0),5),VLOOKUP(S63,Horaires!$A$3:$E$60,5,)))","v":0.48958333333333331},null,{"$f":"INDEX(Planning!$9:$9,MATCH('Solde d''heure collaborateur'!$A63,Planning!$3:$3))","v":"X"},{"$f":"VLOOKUP(W63,Horaires!$A$3:$E$49,2,)","v":"XXX"},{"$f":"IF(X63=\"vacances\",INDEX(Horaires!$H$3:$L$42,MATCH('Solde d''heure collaborateur'!X$2,Horaires!$H$3:$H$40,0),4),IF(X63=\"maladie\",INDEX(Horaires!$H$3:$L$42,MATCH('Solde d''heure collaborateur'!X$2,Horaires!$H$3:$H$40,0),5),VLOOKUP(W63,Horaires!$A$3:$E$60,5,)))","v":0},null,{"$f":"INDEX(Planning!$10:$10,MATCH('Solde d''heure collaborateur'!$A63,Planning!$3:$3))","v":"Onex2"},{"$f":"VLOOKUP(AA63,Horaires!$A$3:$E$49,2,)","v":"Onex"},{"$f":"IF(AB63=\"vacances\",INDEX(Horaires!$H$3:$L$42,MATCH('Solde d''heure collaborateur'!AB$2,Horaires!$H$3:$H$40,0),4),IF(AB63=\"maladie\",INDEX(Horaires!$H$3:$L$42,MATCH('Solde d''heure collaborateur'!AB$2,Horaires!$H$3:$H$40,0),5),VLOOKUP(AA63,Horaires!$A$3:$E$60,5,)))","v":0.48958333333333331},null,{"$f":"INDEX(Planning!$11:$11,MATCH('Solde d''heure collaborateur'!$A63,Planning!$3:$3))","v":"R"},{"$f":"VLOOKUP(AE63,Horaires!$A$3:$E$49,2,)","v":"Congé"},{"$f":"IF(AF63=\"vacances\",INDEX(Horaires!$H$3:$L$42,MATCH('Solde d''heure collaborateur'!AF$2,Horaires!$H$3:$H$40,0),4),IF(AF63=\"maladie\",INDEX(Horaires!$H$3:$L$42,MATCH('Solde d''heure collaborateur'!AF$2,Horaires!$H$3:$H$40,0),5),VLOOKUP(AE63,Horaires!$A$3:$E$60,5,)))","v":0},null,{"$f":"INDEX(Planning!$12:$12,MATCH('Solde d''heure collaborateur'!$A63,Planning!$3:$3))","v":"Thon2"},{"$f":"VLOOKUP(AI63,Horaires!$A$3:$E$49,2,)","v":"Thonex"},{"$f":"IF(AJ63=\"vacances\",INDEX(Horaires!$H$3:$L$42,MATCH('Solde d''heure collaborateur'!AJ$2,Horaires!$H$3:$H$40,0),4),IF(AJ63=\"maladie\",INDEX(Horaires!$H$3:$L$42,MATCH('Solde d''heure collaborateur'!AJ$2,Horaires!$H$3:$H$40,0),5),VLOOKUP(AI63,Horaires!$A$3:$E$60,5,)))","v":0.46874999999999994},null,{"$f":"INDEX(Planning!$13:$13,MATCH('Solde d''heure collaborateur'!$A63,Planning!$3:$3))","v":"R"},{"$f":"VLOOKUP(AM63,Horaires!$A$3:$E$49,2,)","v":"Congé"},{"$f":"IF(AN63=\"vacances\",INDEX(Horaires!$H$3:$L$42,MATCH('Solde d''heure collaborateur'!AN$2,Horaires!$H$3:$H$40,0),4),IF(AN63=\"maladie\",INDEX(Horaires!$H$3:$L$42,MATCH('Solde d''heure collaborateur'!AN$2,Horaires!$H$3:$H$40,0),5),VLOOKUP(AM63,Horaires!$A$3:$E$60,5,)))","v":0},null,{"$f":"INDEX(Planning!$14:$14,MATCH('Solde d''heure collaborateur'!$A63,Planning!$3:$3))","v":"X"},{"$f":"VLOOKUP(AQ63,Horaires!$A$3:$E$49,2,)","v":"XXX"},{"$f":"IF(AR63=\"vacances\",INDEX(Horaires!$H$3:$L$42,MATCH('Solde d''heure collaborateur'!AR$2,Horaires!$H$3:$H$40,0),4),IF(AR63=\"maladie\",INDEX(Horaires!$H$3:$L$42,MATCH('Solde d''heure collaborateur'!AR$2,Horaires!$H$3:$H$40,0),5),VLOOKUP(AQ63,Horaires!$A$3:$E$60,5,)))","v":0},null,{"$f":"INDEX(Planning!$15:$15,MATCH('Solde d''heure collaborateur'!$A63,Planning!$3:$3))","v":"Nyon1"},{"$f":"VLOOKUP(AU63,Horaires!$A$3:$E$49,2,)","v":"Nyon"},{"$f":"IF(AV63=\"vacances\",INDEX(Horaires!$H$3:$L$42,MATCH('Solde d''heure collaborateur'!AV$2,Horaires!$H$3:$H$40,0),4),IF(AV63=\"maladie\",INDEX(Horaires!$H$3:$L$42,MATCH('Solde d''heure collaborateur'!AV$2,Horaires!$H$3:$H$40,0),5),VLOOKUP(AU63,Horaires!$A$3:$E$60,5,)))","v":0.44791666666666669},null,{"$f":"INDEX(Planning!$16:$16,MATCH('Solde d''heure collaborateur'!$A63,Planning!$3:$3))","v":"R"},{"$f":"VLOOKUP(AY63,Horaires!$A$3:$E$49,2,)","v":"Congé"},{"$f":"IF(AZ63=\"vacances\",INDEX(Horaires!$H$3:$L$42,MATCH('Solde d''heure collaborateur'!AZ$2,Horaires!$H$3:$H$40,0),4),IF(AZ63=\"maladie\",INDEX(Horaires!$H$3:$L$42,MATCH('Solde d''heure collaborateur'!AZ$2,Horaires!$H$3:$H$40,0),5),VLOOKUP(AY63,Horaires!$A$3:$E$60,5,)))","v":0},null,{"$f":"INDEX(Planning!$17:$17,MATCH('Solde d''heure collaborateur'!$A63,Planning!$3:$3))","v":"tour2"},{"$f":"VLOOKUP(BC63,Horaires!$A$3:$E$49,2,)","v":"Tourelle"},{"$f":"IF(BD63=\"vacances\",INDEX(Horaires!$H$3:$L$42,MATCH('Solde d''heure collaborateur'!BD$2,Horaires!$H$3:$H$40,0),4),IF(BD63=\"maladie\",INDEX(Horaires!$H$3:$L$42,MATCH('Solde d''heure collaborateur'!BD$2,Horaires!$H$3:$H$40,0),5),VLOOKUP(BC63,Horaires!$A$3:$E$60,5,)))","v":0.48958333333333331},null,{"$f":"INDEX(Planning!$18:$18,MATCH('Solde d''heure collaborateur'!$A63,Planning!$3:$3))","v":"vibferm"},{"$f":"VLOOKUP(BG63,Horaires!$A$3:$E$49,2,)","v":"Vibert ferm"},{"$f":"IF(BH63=\"vacances\",INDEX(Horaires!$H$3:$L$42,MATCH('Solde d''heure collaborateur'!BH$2,Horaires!$H$3:$H$40,0),4),IF(BH63=\"maladie\",INDEX(Horaires!$H$3:$L$42,MATCH('Solde d''heure collaborateur'!BH$2,Horaires!$H$3:$H$40,0),5),VLOOKUP(BG63,Horaires!$A$3:$E$60,5,)))","v":0.42708333333333331},null,{"$f":"INDEX(Planning!$19:$19,MATCH('Solde d''heure collaborateur'!$A63,Planning!$3:$3))","v":"vibjeu"},{"$f":"VLOOKUP(BK63,Horaires!$A$3:$E$49,2,)","v":"Vibert"},{"$f":"IF(BL63=\"vacances\",INDEX(Horaires!$H$3:$L$42,MATCH('Solde d''heure collaborateur'!BL$2,Horaires!$H$3:$H$40,0),4),IF(BL63=\"maladie\",INDEX(Horaires!$H$3:$L$42,MATCH('Solde d''heure collaborateur'!BL$2,Horaires!$H$3:$H$40,0),5),VLOOKUP(BK63,Horaires!$A$3:$E$60,5,)))","v":0.45833333333333331},null,{"$f":"INDEX(Planning!$20:$20,MATCH('Solde d''heure collaborateur'!$A63,Planning!$3:$3))","v":"Aca2"},{"$f":"VLOOKUP(BO63,Horaires!$A$3:$E$49,2,)","v":"Acacias"},{"$f":"IF(BP63=\"vacances\",INDEX(Horaires!$H$3:$L$42,MATCH('Solde d''heure collaborateur'!BP$2,Horaires!$H$3:$H$40,0),4),IF(BP63=\"maladie\",INDEX(Horaires!$H$3:$L$42,MATCH('Solde d''heure collaborateur'!BP$2,Horaires!$H$3:$H$40,0),5),VLOOKUP(BO63,Horaires!$A$3:$E$60,5,)))","v":0.46874999999999994},null,{"$f":"INDEX(Planning!$21:$21,MATCH('Solde d''heure collaborateur'!$A63,Planning!$3:$3))","v":"Ves2"},{"$f":"VLOOKUP(BS63,Horaires!$A$3:$E$49,2,)","v":"Vesenaz"},{"$f":"IF(BT63=\"vacances\",INDEX(Horaires!$H$3:$L$42,MATCH('Solde d''heure collaborateur'!BT$2,Horaires!$H$3:$H$40,0),4),IF(BT63=\"maladie\",INDEX(Horaires!$H$3:$L$42,MATCH('Solde d''heure collaborateur'!BT$2,Horaires!$H$3:$H$40,0),5),VLOOKUP(BS63,Horaires!$A$3:$E$60,5,)))","v":0.46874999999999994},null,{"$f":"INDEX(Planning!$22:$22,MATCH('Solde d''heure collaborateur'!$A63,Planning!$3:$3))","v":"X"},{"$f":"VLOOKUP(BW63,Horaires!$A$3:$E$49,2,)","v":"XXX"},{"$f":"IF(BX63=\"vacances\",INDEX(Horaires!$H$3:$L$42,MATCH('Solde d''heure collaborateur'!BX$2,Horaires!$H$3:$H$40,0),4),IF(BX63=\"maladie\",INDEX(Horaires!$H$3:$L$42,MATCH('Solde d''heure collaborateur'!BX$2,Horaires!$H$3:$H$40,0),5),VLOOKUP(BW63,Horaires!$A$3:$E$60,5,)))","v":0},null,{"$f":"INDEX(Planning!$23:$23,MATCH('Solde d''heure collaborateur'!$A63,Planning!$3:$3))","v":"Plo1"},{"$f":"VLOOKUP(CA63,Horaires!$A$3:$E$49,2,)","v":"Plan les Ouates"},{"$f":"IF(CB63=\"vacances\",INDEX(Horaires!$H$3:$L$42,MATCH('Solde d''heure collaborateur'!CB$2,Horaires!$H$3:$H$40,0),4),IF(CB63=\"maladie\",INDEX(Horaires!$H$3:$L$42,MATCH('Solde d''heure collaborateur'!CB$2,Horaires!$H$3:$H$40,0),5),VLOOKUP(CA63,Horaires!$A$3:$E$60,5,)))","v":0.46875000000000006},null,{"$f":"INDEX(Planning!$24:$24,MATCH('Solde d''heure collaborateur'!$A63,Planning!$3:$3))","v":"R"},{"$f":"VLOOKUP(CE63,Horaires!$A$3:$E$49,2,)","v":"Congé"},{"$f":"IF(CF63=\"vacances\",INDEX(Horaires!$H$3:$L$42,MATCH('Solde d''heure collaborateur'!CF$2,Horaires!$H$3:$H$40,0),4),IF(CF63=\"maladie\",INDEX(Horaires!$H$3:$L$42,MATCH('Solde d''heure collaborateur'!CF$2,Horaires!$H$3:$H$40,0),5),VLOOKUP(CE63,Horaires!$A$3:$E$60,5,)))","v":0},null,{"$f":"INDEX(Planning!$25:$25,MATCH('Solde d''heure collaborateur'!$A63,Planning!$3:$3))","v":"X"},{"$f":"VLOOKUP(CI63,Horaires!$A$3:$E$49,2,)","v":"XXX"},{"$f":"IF(CJ63=\"vacances\",INDEX(Horaires!$H$3:$L$42,MATCH('Solde d''heure collaborateur'!CJ$2,Horaires!$H$3:$H$40,0),4),IF(CJ63=\"maladie\",INDEX(Horaires!$H$3:$L$42,MATCH('Solde d''heure collaborateur'!CJ$2,Horaires!$H$3:$H$40,0),5),VLOOKUP(CI63,Horaires!$A$3:$E$60,5,)))","v":0},null,{"$f":"INDEX(Planning!$26:$26,MATCH('Solde d''heure collaborateur'!$A63,Planning!$3:$3))","v":"R"},{"$f":"VLOOKUP(CM63,Horaires!$A$3:$E$49,2,)","v":"Congé"},{"$f":"IF(CN63=\"vacances\",INDEX(Horaires!$H$3:$L$42,MATCH('Solde d''heure collaborateur'!CN$2,Horaires!$H$3:$H$40,0),4),IF(CN63=\"maladie\",INDEX(Horaires!$H$3:$L$42,MATCH('Solde d''heure collaborateur'!CN$2,Horaires!$H$3:$H$40,0),5),VLOOKUP(CM63,Horaires!$A$3:$E$60,5,)))","v":0},null,{"$f":"INDEX(Planning!$27:$27,MATCH('Solde d''heure collaborateur'!$A63,Planning!$3:$3))","v":"R"},{"$f":"VLOOKUP(CQ63,Horaires!$A$3:$E$49,2,)","v":"Congé"},{"$f":"IF(CR63=\"vacances\",INDEX(Horaires!$H$3:$L$42,MATCH('Solde d''heure collaborateur'!CR$2,Horaires!$H$3:$H$40,0),4),IF(CR63=\"maladie\",INDEX(Horaires!$H$3:$L$42,MATCH('Solde d''heure collaborateur'!CR$2,Horaires!$H$3:$H$40,0),5),VLOOKUP(CQ63,Horaires!$A$3:$E$60,5,)))","v":0},null,{"$f":"INDEX(Planning!$28:$28,MATCH('Solde d''heure collaborateur'!$A63,Planning!$3:$3))","v":"R"},{"$f":"VLOOKUP(CU63,Horaires!$A$3:$E$49,2,)","v":"Congé"},{"$f":"IF(CV63=\"vacances\",INDEX(Horaires!$H$3:$L$42,MATCH('Solde d''heure collaborateur'!CV$2,Horaires!$H$3:$H$40,0),4),IF(CV63=\"maladie\",INDEX(Horaires!$H$3:$L$42,MATCH('Solde d''heure collaborateur'!CV$2,Horaires!$H$3:$H$40,0),5),VLOOKUP(CU63,Horaires!$A$3:$E$60,5,)))","v":0},null,{"$f":"INDEX(Planning!$29:$29,MATCH('Solde d''heure collaborateur'!$A63,Planning!$3:$3))","v":"vid2"},{"$f":"VLOOKUP(CY63,Horaires!$A$3:$E$49,2,)","v":"Vidollet"},{"$f":"IF(CZ63=\"vacances\",INDEX(Horaires!$H$3:$L$42,MATCH('Solde d''heure collaborateur'!CZ$2,Horaires!$H$3:$H$40,0),4),IF(CZ63=\"maladie\",INDEX(Horaires!$H$3:$L$42,MATCH('Solde d''heure collaborateur'!CZ$2,Horaires!$H$3:$H$40,0),5),VLOOKUP(CY63,Horaires!$A$3:$E$60,5,)))","v":0.46874999999999994},null,{"$f":"INDEX(Planning!$30:$30,MATCH('Solde d''heure collaborateur'!$A63,Planning!$3:$3))","v":"X"},{"$f":"VLOOKUP(DC63,Horaires!$A$3:$E$49,2,)","v":"XXX"},{"$f":"IF(DD63=\"vacances\",INDEX(Horaires!$H$3:$L$42,MATCH('Solde d''heure collaborateur'!DD$2,Horaires!$H$3:$H$40,0),4),IF(DD63=\"maladie\",INDEX(Horaires!$H$3:$L$42,MATCH('Solde d''heure collaborateur'!DD$2,Horaires!$H$3:$H$40,0),5),VLOOKUP(DC63,Horaires!$A$3:$E$60,5,)))","v":0},null,{"$f":"INDEX(Planning!$31:$31,MATCH('Solde d''heure collaborateur'!$A63,Planning!$3:$3))","v":"X"},{"$f":"VLOOKUP(DG63,Horaires!$A$3:$E$49,2,)","v":"XXX"},{"$f":"IF(DH63=\"vacances\",INDEX(Horaires!$H$3:$L$42,MATCH('Solde d''heure collaborateur'!DH$2,Horaires!$H$3:$H$40,0),4),IF(DH63=\"maladie\",INDEX(Horaires!$H$3:$L$42,MATCH('Solde d''heure collaborateur'!DH$2,Horaires!$H$3:$H$40,0),5),VLOOKUP(DG63,Horaires!$A$3:$E$60,5,)))","v":0},null,{"$f":"INDEX(Planning!$32:$32,MATCH('Solde d''heure collaborateur'!$A63,Planning!$3:$3))","v":"X"},{"$f":"VLOOKUP(DK63,Horaires!$A$3:$E$49,2,)","v":"XXX"},{"$f":"IF(DL63=\"vacances\",INDEX(Horaires!$H$3:$L$42,MATCH('Solde d''heure collaborateur'!DL$2,Horaires!$H$3:$H$40,0),4),IF(DL63=\"maladie\",INDEX(Horaires!$H$3:$L$42,MATCH('Solde d''heure collaborateur'!DL$2,Horaires!$H$3:$H$40,0),5),VLOOKUP(DK63,Horaires!$A$3:$E$60,5,)))","v":0},null,{"$f":"INDEX(Planning!$33:$33,MATCH('Solde d''heure collaborateur'!$A63,Planning!$3:$3))","v":"X"},{"$f":"VLOOKUP(DO63,Horaires!$A$3:$E$49,2,)","v":"XXX"},{"$f":"IF(DP63=\"vacances\",INDEX(Horaires!$H$3:$L$42,MATCH('Solde d''heure collaborateur'!DP$2,Horaires!$H$3:$H$40,0),4),IF(DP63=\"maladie\",INDEX(Horaires!$H$3:$L$42,MATCH('Solde d''heure collaborateur'!DP$2,Horaires!$H$3:$H$40,0),5),VLOOKUP(DO63,Horaires!$A$3:$E$60,5,)))","v":0},null,{"$f":"INDEX(Planning!$34:$34,MATCH('Solde d''heure collaborateur'!$A63,Planning!$3:$3))","v":"X"},{"$f":"VLOOKUP(DS63,Horaires!$A$3:$E$49,2,)","v":"XXX"},{"$f":"IF(DT63=\"vacances\",INDEX(Horaires!$H$3:$L$42,MATCH('Solde d''heure collaborateur'!DT$2,Horaires!$H$3:$H$40,0),4),IF(DT63=\"maladie\",INDEX(Horaires!$H$3:$L$42,MATCH('Solde d''heure collaborateur'!DT$2,Horaires!$H$3:$H$40,0),5),VLOOKUP(DS63,Horaires!$A$3:$E$60,5,)))","v":0},null,{"$f":"INDEX(Planning!$35:$35,MATCH('Solde d''heure collaborateur'!$A63,Planning!$3:$3))","v":"X"},{"$f":"VLOOKUP(DW63,Horaires!$A$3:$E$49,2,)","v":"XXX"},{"$f":"IF(DX63=\"vacances\",INDEX(Horaires!$H$3:$L$42,MATCH('Solde d''heure collaborateur'!DX$2,Horaires!$H$3:$H$40,0),4),IF(DX63=\"maladie\",INDEX(Horaires!$H$3:$L$42,MATCH('Solde d''heure collaborateur'!DX$2,Horaires!$H$3:$H$40,0),5),VLOOKUP(DW63,Horaires!$A$3:$E$60,5,)))","v":0}]
[{"$f":"A63+1","v":"2013-12-27"},null,{"$f":"INDEX(Planning!$4:$4,MATCH('Solde d''heure collaborateur'!A64,Planning!$3:$3,0))","v":"R"},{"$f":"VLOOKUP(C64,Horaires!$A$3:$E$49,2,)","v":"Congé"},{"$f":"IF(D64=\"vacances\",INDEX(Horaires!$H$3:$L$42,MATCH('Solde d''heure collaborateur'!D$2,Horaires!$H$3:$H$40,0),4),IF(D64=\"maladie\",INDEX(Horaires!$H$3:$L$42,MATCH('Solde d''heure collaborateur'!D$2,Horaires!$H$3:$H$40,0),5),VLOOKUP(C64,Horaires!$A$3:$E$60,5,)))","v":0},null,{"$f":"INDEX(Planning!$5:$5,MATCH('Solde d''heure collaborateur'!A64,Planning!$3:$3))","v":"Pom2"},{"$f":"VLOOKUP(G64,Horaires!$A$3:$E$49,2,)","v":"Pommier"},{"$f":"IF(H64=\"vacances\",INDEX(Horaires!$H$3:$L$42,MATCH('Solde d''heure collaborateur'!H$2,Horaires!$H$3:$H$40,0),4),IF(H64=\"maladie\",INDEX(Horaires!$H$3:$L$42,MATCH('Solde d''heure collaborateur'!H$2,Horaires!$H$3:$H$40,0),5),VLOOKUP(G64,Horaires!$A$3:$E$60,5,)))","v":0.46874999999999994},null,{"$f":"INDEX(Planning!$6:$6,MATCH('Solde d''heure collaborateur'!A64,Planning!$3:$3))","v":"R"},{"$f":"VLOOKUP(K64,Horaires!$A$3:$E$49,2,)","v":"Congé"},{"$f":"IF(L64=\"vacances\",INDEX(Horaires!$H$3:$L$42,MATCH('Solde d''heure collaborateur'!L$2,Horaires!$H$3:$H$40,0),4),IF(L64=\"maladie\",INDEX(Horaires!$H$3:$L$42,MATCH('Solde d''heure collaborateur'!L$2,Horaires!$H$3:$H$40,0),5),VLOOKUP(K64,Horaires!$A$3:$E$60,5,)))","v":0},null,{"$f":"INDEX(Planning!$7:$7,MATCH('Solde d''heure collaborateur'!$A64,Planning!$3:$3))","v":"X"},{"$f":"VLOOKUP(O64,Horaires!$A$3:$E$49,2,)","v":"XXX"},{"$f":"IF(P64=\"vacances\",INDEX(Horaires!$H$3:$L$42,MATCH('Solde d''heure collaborateur'!P$2,Horaires!$H$3:$H$40,0),4),IF(P64=\"maladie\",INDEX(Horaires!$H$3:$L$42,MATCH('Solde d''heure collaborateur'!P$2,Horaires!$H$3:$H$40,0),5),VLOOKUP(O64,Horaires!$A$3:$E$60,5,)))","v":0},null,{"$f":"INDEX(Planning!$8:$8,MATCH('Solde d''heure collaborateur'!$A64,Planning!$3:$3))","v":"R"},{"$f":"VLOOKUP(S64,Horaires!$A$3:$E$49,2,)","v":"Congé"},{"$f":"IF(T64=\"vacances\",INDEX(Horaires!$H$3:$L$42,MATCH('Solde d''heure collaborateur'!T$2,Horaires!$H$3:$H$40,0),4),IF(T64=\"maladie\",INDEX(Horaires!$H$3:$L$42,MATCH('Solde d''heure collaborateur'!T$2,Horaires!$H$3:$H$40,0),5),VLOOKUP(S64,Horaires!$A$3:$E$60,5,)))","v":0},null,{"$f":"INDEX(Planning!$9:$9,MATCH('Solde d''heure collaborateur'!$A64,Planning!$3:$3))","v":"X"},{"$f":"VLOOKUP(W64,Horaires!$A$3:$E$49,2,)","v":"XXX"},{"$f":"IF(X64=\"vacances\",INDEX(Horaires!$H$3:$L$42,MATCH('Solde d''heure collaborateur'!X$2,Horaires!$H$3:$H$40,0),4),IF(X64=\"maladie\",INDEX(Horaires!$H$3:$L$42,MATCH('Solde d''heure collaborateur'!X$2,Horaires!$H$3:$H$40,0),5),VLOOKUP(W64,Horaires!$A$3:$E$60,5,)))","v":0},null,{"$f":"INDEX(Planning!$10:$10,MATCH('Solde d''heure collaborateur'!$A64,Planning!$3:$3))","v":"Onex2"},{"$f":"VLOOKUP(AA64,Horaires!$A$3:$E$49,2,)","v":"Onex"},{"$f":"IF(AB64=\"vacances\",INDEX(Horaires!$H$3:$L$42,MATCH('Solde d''heure collaborateur'!AB$2,Horaires!$H$3:$H$40,0),4),IF(AB64=\"maladie\",INDEX(Horaires!$H$3:$L$42,MATCH('Solde d''heure collaborateur'!AB$2,Horaires!$H$3:$H$40,0),5),VLOOKUP(AA64,Horaires!$A$3:$E$60,5,)))","v":0.48958333333333331},null,{"$f":"INDEX(Planning!$11:$11,MATCH('Solde d''heure collaborateur'!$A64,Planning!$3:$3))","v":"Plo2"},{"$f":"VLOOKUP(AE64,Horaires!$A$3:$E$49,2,)","v":"Plan les Ouates"},{"$f":"IF(AF64=\"vacances\",INDEX(Horaires!$H$3:$L$42,MATCH('Solde d''heure collaborateur'!AF$2,Horaires!$H$3:$H$40,0),4),IF(AF64=\"maladie\",INDEX(Horaires!$H$3:$L$42,MATCH('Solde d''heure collaborateur'!AF$2,Horaires!$H$3:$H$40,0),5),VLOOKUP(AE64,Horaires!$A$3:$E$60,5,)))","v":0.48958333333333331},null,{"$f":"INDEX(Planning!$12:$12,MATCH('Solde d''heure collaborateur'!$A64,Planning!$3:$3))","v":"R"},{"$f":"VLOOKUP(AI64,Horaires!$A$3:$E$49,2,)","v":"Congé"},{"$f":"IF(AJ64=\"vacances\",INDEX(Horaires!$H$3:$L$42,MATCH('Solde d''heure collaborateur'!AJ$2,Horaires!$H$3:$H$40,0),4),IF(AJ64=\"maladie\",INDEX(Horaires!$H$3:$L$42,MATCH('Solde d''heure collaborateur'!AJ$2,Horaires!$H$3:$H$40,0),5),VLOOKUP(AI64,Horaires!$A$3:$E$60,5,)))","v":0},null,{"$f":"INDEX(Planning!$13:$13,MATCH('Solde d''heure collaborateur'!$A64,Planning!$3:$3))","v":"nav2"},{"$f":"VLOOKUP(AM64,Horaires!$A$3:$E$49,2,)","v":"Navigation"},{"$f":"IF(AN64=\"vacances\",INDEX(Horaires!$H$3:$L$42,MATCH('Solde d''heure collaborateur'!AN$2,Horaires!$H$3:$H$40,0),4),IF(AN64=\"maladie\",INDEX(Horaires!$H$3:$L$42,MATCH('Solde d''heure collaborateur'!AN$2,Horaires!$H$3:$H$40,0),5),VLOOKUP(AM64,Horaires!$A$3:$E$60,5,)))","v":0.46874999999999994},null,{"$f":"INDEX(Planning!$14:$14,MATCH('Solde d''heure collaborateur'!$A64,Planning!$3:$3))","v":"M"},{"$f":"VLOOKUP(AQ64,Horaires!$A$3:$E$49,2,)","v":"Maladie"},{"$f":"IF(AR64=\"vacances\",INDEX(Horaires!$H$3:$L$42,MATCH('Solde d''heure collaborateur'!AR$2,Horaires!$H$3:$H$40,0),4),IF(AR64=\"maladie\",INDEX(Horaires!$H$3:$L$42,MATCH('Solde d''heure collaborateur'!AR$2,Horaires!$H$3:$H$40,0),5),VLOOKUP(AQ64,Horaires!$A$3:$E$60,5,)))","v":0.46180555555555558},null,{"$f":"INDEX(Planning!$15:$15,MATCH('Solde d''heure collaborateur'!$A64,Planning!$3:$3))","v":"Nyon1"},{"$f":"VLOOKUP(AU64,Horaires!$A$3:$E$49,2,)","v":"Nyon"},{"$f":"IF(AV64=\"vacances\",INDEX(Horaires!$H$3:$L$42,MATCH('Solde d''heure collaborateur'!AV$2,Horaires!$H$3:$H$40,0),4),IF(AV64=\"maladie\",INDEX(Horaires!$H$3:$L$42,MATCH('Solde d''heure collaborateur'!AV$2,Horaires!$H$3:$H$40,0),5),VLOOKUP(AU64,Horaires!$A$3:$E$60,5,)))","v":0.44791666666666669},null,{"$f":"INDEX(Planning!$16:$16,MATCH('Solde d''heure collaborateur'!$A64,Planning!$3:$3))","v":"R"},{"$f":"VLOOKUP(AY64,Horaires!$A$3:$E$49,2,)","v":"Congé"},{"$f":"IF(AZ64=\"vacances\",INDEX(Horaires!$H$3:$L$42,MATCH('Solde d''heure collaborateur'!AZ$2,Horaires!$H$3:$H$40,0),4),IF(AZ64=\"maladie\",INDEX(Horaires!$H$3:$L$42,MATCH('Solde d''heure collaborateur'!AZ$2,Horaires!$H$3:$H$40,0),5),VLOOKUP(AY64,Horaires!$A$3:$E$60,5,)))","v":0},null,{"$f":"INDEX(Planning!$17:$17,MATCH('Solde d''heure collaborateur'!$A64,Planning!$3:$3))","v":"vib2"},{"$f":"VLOOKUP(BC64,Horaires!$A$3:$E$49,2,)","v":"Vibert"},{"$f":"IF(BD64=\"vacances\",INDEX(Horaires!$H$3:$L$42,MATCH('Solde d''heure collaborateur'!BD$2,Horaires!$H$3:$H$40,0),4),IF(BD64=\"maladie\",INDEX(Horaires!$H$3:$L$42,MATCH('Solde d''heure collaborateur'!BD$2,Horaires!$H$3:$H$40,0),5),VLOOKUP(BC64,Horaires!$A$3:$E$60,5,)))","v":0.48958333333333331},null,{"$f":"INDEX(Planning!$18:$18,MATCH('Solde d''heure collaborateur'!$A64,Planning!$3:$3))","v":"nav2"},{"$f":"VLOOKUP(BG64,Horaires!$A$3:$E$49,2,)","v":"Navigation"},{"$f":"IF(BH64=\"vacances\",INDEX(Horaires!$H$3:$L$42,MATCH('Solde d''heure collaborateur'!BH$2,Horaires!$H$3:$H$40,0),4),IF(BH64=\"maladie\",INDEX(Horaires!$H$3:$L$42,MATCH('Solde d''heure collaborateur'!BH$2,Horaires!$H$3:$H$40,0),5),VLOOKUP(BG64,Horaires!$A$3:$E$60,5,)))","v":0.46874999999999994},null,{"$f":"INDEX(Planning!$19:$19,MATCH('Solde d''heure collaborateur'!$A64,Planning!$3:$3))","v":"vib2"},{"$f":"VLOOKUP(BK64,Horaires!$A$3:$E$49,2,)","v":"Vibert"},{"$f":"IF(BL64=\"vacances\",INDEX(Horaires!$H$3:$L$42,MATCH('Solde d''heure collaborateur'!BL$2,Horaires!$H$3:$H$40,0),4),IF(BL64=\"maladie\",INDEX(Horaires!$H$3:$L$42,MATCH('Solde d''heure collaborateur'!BL$2,Horaires!$H$3:$H$40,0),5),VLOOKUP(BK64,Horaires!$A$3:$E$60,5,)))","v":0.48958333333333331},null,{"$f":"INDEX(Planning!$20:$20,MATCH('Solde d''heure collaborateur'!$A64,Planning!$3:$3))","v":"R"},{"$f":"VLOOKUP(BO64,Horaires!$A$3:$E$49,2,)","v":"Congé"},{"$f":"IF(BP64=\"vacances\",INDEX(Horaires!$H$3:$L$42,MATCH('Solde d''heure collaborateur'!BP$2,Horaires!$H$3:$H$40,0),4),IF(BP64=\"maladie\",INDEX(Horaires!$H$3:$L$42,MATCH('Solde d''heure collaborateur'!BP$2,Horaires!$H$3:$H$40,0),5),VLOOKUP(BO64,Horaires!$A$3:$E$60,5,)))","v":0},null,{"$f":"INDEX(Planning!$21:$21,MATCH('Solde d''heure collaborateur'!$A64,Planning!$3:$3))","v":"Ves2"},{"$f":"VLOOKUP(BS64,Horaires!$A$3:$E$49,2,)","v":"Vesenaz"},{"$f":"IF(BT64=\"vacances\",INDEX(Horaires!$H$3:$L$42,MATCH('Solde d''heure collaborateur'!BT$2,Horaires!$H$3:$H$40,0),4),IF(BT64=\"maladie\",INDEX(Horaires!$H$3:$L$42,MATCH('Solde d''heure collaborateur'!BT$2,Horaires!$H$3:$H$40,0),5),VLOOKUP(BS64,Horaires!$A$3:$E$60,5,)))","v":0.46874999999999994},null,{"$f":"INDEX(Planning!$22:$22,MATCH('Solde d''heure collaborateur'!$A64,Planning!$3:$3))","v":"X"},{"$f":"VLOOKUP(BW64,Horaires!$A$3:$E$49,2,)","v":"XXX"},{"$f":"IF(BX64=\"vacances\",INDEX(Horaires!$H$3:$L$42,MATCH('Solde d''heure collaborateur'!BX$2,Horaires!$H$3:$H$40,0),4),IF(BX64=\"maladie\",INDEX(Horaires!$H$3:$L$42,MATCH('Solde d''heure collaborateur'!BX$2,Horaires!$H$3:$H$40,0),5),VLOOKUP(BW64,Horaires!$A$3:$E$60,5,)))","v":0},null,{"$f":"INDEX(Planning!$23:$23,MATCH('Solde d''heure collaborateur'!$A64,Planning!$3:$3))","v":"R"},{"$f":"VLOOKUP(CA64,Horaires!$A$3:$E$49,2,)","v":"Congé"},{"$f":"IF(CB64=\"vacances\",INDEX(Horaires!$H$3:$L$42,MATCH('Solde d''heure collaborateur'!CB$2,Horaires!$H$3:$H$40,0),4),IF(CB64=\"maladie\",INDEX(Horaires!$H$3:$L$42,MATCH('Solde d''heure collaborateur'!CB$2,Horaires!$H$3:$H$40,0),5),VLOOKUP(CA64,Horaires!$A$3:$E$60,5,)))","v":0},null,{"$f":"INDEX(Planning!$24:$24,MATCH('Solde d''heure collaborateur'!$A64,Planning!$3:$3))","v":"Onex2"},{"$f":"VLOOKUP(CE64,Horaires!$A$3:$E$49,2,)","v":"Onex"},{"$f":"IF(CF64=\"vacances\",INDEX(Horaires!$H$3:$L$42,MATCH('Solde d''heure collaborateur'!CF$2,Horaires!$H$3:$H$40,0),4),IF(CF64=\"maladie\",INDEX(Horaires!$H$3:$L$42,MATCH('Solde d''heure collaborateur'!CF$2,Horaires!$H$3:$H$40,0),5),VLOOKUP(CE64,Horaires!$A$3:$E$60,5,)))","v":0.48958333333333331},null,{"$f":"INDEX(Planning!$25:$25,MATCH('Solde d''heure collaborateur'!$A64,Planning!$3:$3))","v":"X"},{"$f":"VLOOKUP(CI64,Horaires!$A$3:$E$49,2,)","v":"XXX"},{"$f":"IF(CJ64=\"vacances\",INDEX(Horaires!$H$3:$L$42,MATCH('Solde d''heure collaborateur'!CJ$2,Horaires!$H$3:$H$40,0),4),IF(CJ64=\"maladie\",INDEX(Horaires!$H$3:$L$42,MATCH('Solde d''heure collaborateur'!CJ$2,Horaires!$H$3:$H$40,0),5),VLOOKUP(CI64,Horaires!$A$3:$E$60,5,)))","v":0},null,{"$f":"INDEX(Planning!$26:$26,MATCH('Solde d''heure collaborateur'!$A64,Planning!$3:$3))","v":"Vid2"},{"$f":"VLOOKUP(CM64,Horaires!$A$3:$E$49,2,)","v":"Vidollet"},{"$f":"IF(CN64=\"vacances\",INDEX(Horaires!$H$3:$L$42,MATCH('Solde d''heure collaborateur'!CN$2,Horaires!$H$3:$H$40,0),4),IF(CN64=\"maladie\",INDEX(Horaires!$H$3:$L$42,MATCH('Solde d''heure collaborateur'!CN$2,Horaires!$H$3:$H$40,0),5),VLOOKUP(CM64,Horaires!$A$3:$E$60,5,)))","v":0.46874999999999994},null,{"$f":"INDEX(Planning!$27:$27,MATCH('Solde d''heure collaborateur'!$A64,Planning!$3:$3))","v":"thon2"},{"$f":"VLOOKUP(CQ64,Horaires!$A$3:$E$49,2,)","v":"Thonex"},{"$f":"IF(CR64=\"vacances\",INDEX(Horaires!$H$3:$L$42,MATCH('Solde d''heure collaborateur'!CR$2,Horaires!$H$3:$H$40,0),4),IF(CR64=\"maladie\",INDEX(Horaires!$H$3:$L$42,MATCH('Solde d''heure collaborateur'!CR$2,Horaires!$H$3:$H$40,0),5),VLOOKUP(CQ64,Horaires!$A$3:$E$60,5,)))","v":0.46874999999999994},null,{"$f":"INDEX(Planning!$28:$28,MATCH('Solde d''heure collaborateur'!$A64,Planning!$3:$3))","v":"tour2"},{"$f":"VLOOKUP(CU64,Horaires!$A$3:$E$49,2,)","v":"Tourelle"},{"$f":"IF(CV64=\"vacances\",INDEX(Horaires!$H$3:$L$42,MATCH('Solde d''heure collaborateur'!CV$2,Horaires!$H$3:$H$40,0),4),IF(CV64=\"maladie\",INDEX(Horaires!$H$3:$L$42,MATCH('Solde d''heure collaborateur'!CV$2,Horaires!$H$3:$H$40,0),5),VLOOKUP(CU64,Horaires!$A$3:$E$60,5,)))","v":0.48958333333333331},null,{"$f":"INDEX(Planning!$29:$29,MATCH('Solde d''heure collaborateur'!$A64,Planning!$3:$3))","v":"aca2"},{"$f":"VLOOKUP(CY64,Horaires!$A$3:$E$49,2,)","v":"Acacias"},{"$f":"IF(CZ64=\"vacances\",INDEX(Horaires!$H$3:$L$42,MATCH('Solde d''heure collaborateur'!CZ$2,Horaires!$H$3:$H$40,0),4),IF(CZ64=\"maladie\",INDEX(Horaires!$H$3:$L$42,MATCH('Solde d''heure collaborateur'!CZ$2,Horaires!$H$3:$H$40,0),5),VLOOKUP(CY64,Horaires!$A$3:$E$60,5,)))","v":0.46874999999999994},null,{"$f":"INDEX(Planning!$30:$30,MATCH('Solde d''heure collaborateur'!$A64,Planning!$3:$3))","v":"X"},{"$f":"VLOOKUP(DC64,Horaires!$A$3:$E$49,2,)","v":"XXX"},{"$f":"IF(DD64=\"vacances\",INDEX(Horaires!$H$3:$L$42,MATCH('Solde d''heure collaborateur'!DD$2,Horaires!$H$3:$H$40,0),4),IF(DD64=\"maladie\",INDEX(Horaires!$H$3:$L$42,MATCH('Solde d''heure collaborateur'!DD$2,Horaires!$H$3:$H$40,0),5),VLOOKUP(DC64,Horaires!$A$3:$E$60,5,)))","v":0},null,{"$f":"INDEX(Planning!$31:$31,MATCH('Solde d''heure collaborateur'!$A64,Planning!$3:$3))","v":"X"},{"$f":"VLOOKUP(DG64,Horaires!$A$3:$E$49,2,)","v":"XXX"},{"$f":"IF(DH64=\"vacances\",INDEX(Horaires!$H$3:$L$42,MATCH('Solde d''heure collaborateur'!DH$2,Horaires!$H$3:$H$40,0),4),IF(DH64=\"maladie\",INDEX(Horaires!$H$3:$L$42,MATCH('Solde d''heure collaborateur'!DH$2,Horaires!$H$3:$H$40,0),5),VLOOKUP(DG64,Horaires!$A$3:$E$60,5,)))","v":0},null,{"$f":"INDEX(Planning!$32:$32,MATCH('Solde d''heure collaborateur'!$A64,Planning!$3:$3))","v":"X"},{"$f":"VLOOKUP(DK64,Horaires!$A$3:$E$49,2,)","v":"XXX"},{"$f":"IF(DL64=\"vacances\",INDEX(Horaires!$H$3:$L$42,MATCH('Solde d''heure collaborateur'!DL$2,Horaires!$H$3:$H$40,0),4),IF(DL64=\"maladie\",INDEX(Horaires!$H$3:$L$42,MATCH('Solde d''heure collaborateur'!DL$2,Horaires!$H$3:$H$40,0),5),VLOOKUP(DK64,Horaires!$A$3:$E$60,5,)))","v":0},null,{"$f":"INDEX(Planning!$33:$33,MATCH('Solde d''heure collaborateur'!$A64,Planning!$3:$3))","v":"X"},{"$f":"VLOOKUP(DO64,Horaires!$A$3:$E$49,2,)","v":"XXX"},{"$f":"IF(DP64=\"vacances\",INDEX(Horaires!$H$3:$L$42,MATCH('Solde d''heure collaborateur'!DP$2,Horaires!$H$3:$H$40,0),4),IF(DP64=\"maladie\",INDEX(Horaires!$H$3:$L$42,MATCH('Solde d''heure collaborateur'!DP$2,Horaires!$H$3:$H$40,0),5),VLOOKUP(DO64,Horaires!$A$3:$E$60,5,)))","v":0},null,{"$f":"INDEX(Planning!$34:$34,MATCH('Solde d''heure collaborateur'!$A64,Planning!$3:$3))","v":"X"},{"$f":"VLOOKUP(DS64,Horaires!$A$3:$E$49,2,)","v":"XXX"},{"$f":"IF(DT64=\"vacances\",INDEX(Horaires!$H$3:$L$42,MATCH('Solde d''heure collaborateur'!DT$2,Horaires!$H$3:$H$40,0),4),IF(DT64=\"maladie\",INDEX(Horaires!$H$3:$L$42,MATCH('Solde d''heure collaborateur'!DT$2,Horaires!$H$3:$H$40,0),5),VLOOKUP(DS64,Horaires!$A$3:$E$60,5,)))","v":0},null,{"$f":"INDEX(Planning!$35:$35,MATCH('Solde d''heure collaborateur'!$A64,Planning!$3:$3))","v":"X"},{"$f":"VLOOKUP(DW64,Horaires!$A$3:$E$49,2,)","v":"XXX"},{"$f":"IF(DX64=\"vacances\",INDEX(Horaires!$H$3:$L$42,MATCH('Solde d''heure collaborateur'!DX$2,Horaires!$H$3:$H$40,0),4),IF(DX64=\"maladie\",INDEX(Horaires!$H$3:$L$42,MATCH('Solde d''heure collaborateur'!DX$2,Horaires!$H$3:$H$40,0),5),VLOOKUP(DW64,Horaires!$A$3:$E$60,5,)))","v":0}]
[{"$f":"A64+1","v":"2013-12-28"},null,{"$f":"INDEX(Planning!$4:$4,MATCH('Solde d''heure collaborateur'!A65,Planning!$3:$3,0))","v":"R"},{"$f":"VLOOKUP(C65,Horaires!$A$3:$E$49,2,)","v":"Congé"},{"$f":"IF(D65=\"vacances\",INDEX(Horaires!$H$3:$L$42,MATCH('Solde d''heure collaborateur'!D$2,Horaires!$H$3:$H$40,0),4),IF(D65=\"maladie\",INDEX(Horaires!$H$3:$L$42,MATCH('Solde d''heure collaborateur'!D$2,Horaires!$H$3:$H$40,0),5),VLOOKUP(C65,Horaires!$A$3:$E$60,5,)))","v":0},null,{"$f":"INDEX(Planning!$5:$5,MATCH('Solde d''heure collaborateur'!A65,Planning!$3:$3))","v":"Pom3"},{"$f":"VLOOKUP(G65,Horaires!$A$3:$E$49,2,)","v":"Pommier"},{"$f":"IF(H65=\"vacances\",INDEX(Horaires!$H$3:$L$42,MATCH('Solde d''heure collaborateur'!H$2,Horaires!$H$3:$H$40,0),4),IF(H65=\"maladie\",INDEX(Horaires!$H$3:$L$42,MATCH('Solde d''heure collaborateur'!H$2,Horaires!$H$3:$H$40,0),5),VLOOKUP(G65,Horaires!$A$3:$E$60,5,)))","v":0.42708333333333331},null,{"$f":"INDEX(Planning!$6:$6,MATCH('Solde d''heure collaborateur'!A65,Planning!$3:$3))","v":"R"},{"$f":"VLOOKUP(K65,Horaires!$A$3:$E$49,2,)","v":"Congé"},{"$f":"IF(L65=\"vacances\",INDEX(Horaires!$H$3:$L$42,MATCH('Solde d''heure collaborateur'!L$2,Horaires!$H$3:$H$40,0),4),IF(L65=\"maladie\",INDEX(Horaires!$H$3:$L$42,MATCH('Solde d''heure collaborateur'!L$2,Horaires!$H$3:$H$40,0),5),VLOOKUP(K65,Horaires!$A$3:$E$60,5,)))","v":0},null,{"$f":"INDEX(Planning!$7:$7,MATCH('Solde d''heure collaborateur'!$A65,Planning!$3:$3))","v":"X"},{"$f":"VLOOKUP(O65,Horaires!$A$3:$E$49,2,)","v":"XXX"},{"$f":"IF(P65=\"vacances\",INDEX(Horaires!$H$3:$L$42,MATCH('Solde d''heure collaborateur'!P$2,Horaires!$H$3:$H$40,0),4),IF(P65=\"maladie\",INDEX(Horaires!$H$3:$L$42,MATCH('Solde d''heure collaborateur'!P$2,Horaires!$H$3:$H$40,0),5),VLOOKUP(O65,Horaires!$A$3:$E$60,5,)))","v":0},null,{"$f":"INDEX(Planning!$8:$8,MATCH('Solde d''heure collaborateur'!$A65,Planning!$3:$3))","v":"Onex3"},{"$f":"VLOOKUP(S65,Horaires!$A$3:$E$49,2,)","v":"Onex"},{"$f":"IF(T65=\"vacances\",INDEX(Horaires!$H$3:$L$42,MATCH('Solde d''heure collaborateur'!T$2,Horaires!$H$3:$H$40,0),4),IF(T65=\"maladie\",INDEX(Horaires!$H$3:$L$42,MATCH('Solde d''heure collaborateur'!T$2,Horaires!$H$3:$H$40,0),5),VLOOKUP(S65,Horaires!$A$3:$E$60,5,)))","v":0.42708333333333331},null,{"$f":"INDEX(Planning!$9:$9,MATCH('Solde d''heure collaborateur'!$A65,Planning!$3:$3))","v":"X"},{"$f":"VLOOKUP(W65,Horaires!$A$3:$E$49,2,)","v":"XXX"},{"$f":"IF(X65=\"vacances\",INDEX(Horaires!$H$3:$L$42,MATCH('Solde d''heure collaborateur'!X$2,Horaires!$H$3:$H$40,0),4),IF(X65=\"maladie\",INDEX(Horaires!$H$3:$L$42,MATCH('Solde d''heure collaborateur'!X$2,Horaires!$H$3:$H$40,0),5),VLOOKUP(W65,Horaires!$A$3:$E$60,5,)))","v":0},null,{"$f":"INDEX(Planning!$10:$10,MATCH('Solde d''heure collaborateur'!$A65,Planning!$3:$3))","v":"Onex3"},{"$f":"VLOOKUP(AA65,Horaires!$A$3:$E$49,2,)","v":"Onex"},{"$f":"IF(AB65=\"vacances\",INDEX(Horaires!$H$3:$L$42,MATCH('Solde d''heure collaborateur'!AB$2,Horaires!$H$3:$H$40,0),4),IF(AB65=\"maladie\",INDEX(Horaires!$H$3:$L$42,MATCH('Solde d''heure collaborateur'!AB$2,Horaires!$H$3:$H$40,0),5),VLOOKUP(AA65,Horaires!$A$3:$E$60,5,)))","v":0.42708333333333331},null,{"$f":"INDEX(Planning!$11:$11,MATCH('Solde d''heure collaborateur'!$A65,Planning!$3:$3))","v":"Plo3"},{"$f":"VLOOKUP(AE65,Horaires!$A$3:$E$49,2,)","v":"Plan les Ouates"},{"$f":"IF(AF65=\"vacances\",INDEX(Horaires!$H$3:$L$42,MATCH('Solde d''heure collaborateur'!AF$2,Horaires!$H$3:$H$40,0),4),IF(AF65=\"maladie\",INDEX(Horaires!$H$3:$L$42,MATCH('Solde d''heure collaborateur'!AF$2,Horaires!$H$3:$H$40,0),5),VLOOKUP(AE65,Horaires!$A$3:$E$60,5,)))","v":0.42708333333333331},null,{"$f":"INDEX(Planning!$12:$12,MATCH('Solde d''heure collaborateur'!$A65,Planning!$3:$3))","v":"R"},{"$f":"VLOOKUP(AI65,Horaires!$A$3:$E$49,2,)","v":"Congé"},{"$f":"IF(AJ65=\"vacances\",INDEX(Horaires!$H$3:$L$42,MATCH('Solde d''heure collaborateur'!AJ$2,Horaires!$H$3:$H$40,0),4),IF(AJ65=\"maladie\",INDEX(Horaires!$H$3:$L$42,MATCH('Solde d''heure collaborateur'!AJ$2,Horaires!$H$3:$H$40,0),5),VLOOKUP(AI65,Horaires!$A$3:$E$60,5,)))","v":0},null,{"$f":"INDEX(Planning!$13:$13,MATCH('Solde d''heure collaborateur'!$A65,Planning!$3:$3))","v":"nav3"},{"$f":"VLOOKUP(AM65,Horaires!$A$3:$E$49,2,)","v":"Navigation"},{"$f":"IF(AN65=\"vacances\",INDEX(Horaires!$H$3:$L$42,MATCH('Solde d''heure collaborateur'!AN$2,Horaires!$H$3:$H$40,0),4),IF(AN65=\"maladie\",INDEX(Horaires!$H$3:$L$42,MATCH('Solde d''heure collaborateur'!AN$2,Horaires!$H$3:$H$40,0),5),VLOOKUP(AM65,Horaires!$A$3:$E$60,5,)))","v":0.40624999999999994},null,{"$f":"INDEX(Planning!$14:$14,MATCH('Solde d''heure collaborateur'!$A65,Planning!$3:$3))","v":"M"},{"$f":"VLOOKUP(AQ65,Horaires!$A$3:$E$49,2,)","v":"Maladie"},{"$f":"IF(AR65=\"vacances\",INDEX(Horaires!$H$3:$L$42,MATCH('Solde d''heure collaborateur'!AR$2,Horaires!$H$3:$H$40,0),4),IF(AR65=\"maladie\",INDEX(Horaires!$H$3:$L$42,MATCH('Solde d''heure collaborateur'!AR$2,Horaires!$H$3:$H$40,0),5),VLOOKUP(AQ65,Horaires!$A$3:$E$60,5,)))","v":0.46180555555555558},null,{"$f":"INDEX(Planning!$15:$15,MATCH('Solde d''heure collaborateur'!$A65,Planning!$3:$3))","v":"Nyon2"},{"$f":"VLOOKUP(AU65,Horaires!$A$3:$E$49,2,)","v":"Nyon"},{"$f":"IF(AV65=\"vacances\",INDEX(Horaires!$H$3:$L$42,MATCH('Solde d''heure collaborateur'!AV$2,Horaires!$H$3:$H$40,0),4),IF(AV65=\"maladie\",INDEX(Horaires!$H$3:$L$42,MATCH('Solde d''heure collaborateur'!AV$2,Horaires!$H$3:$H$40,0),5),VLOOKUP(AU65,Horaires!$A$3:$E$60,5,)))","v":0.40624999999999994},null,{"$f":"INDEX(Planning!$16:$16,MATCH('Solde d''heure collaborateur'!$A65,Planning!$3:$3))","v":"Nyon2"},{"$f":"VLOOKUP(AY65,Horaires!$A$3:$E$49,2,)","v":"Nyon"},{"$f":"IF(AZ65=\"vacances\",INDEX(Horaires!$H$3:$L$42,MATCH('Solde d''heure collaborateur'!AZ$2,Horaires!$H$3:$H$40,0),4),IF(AZ65=\"maladie\",INDEX(Horaires!$H$3:$L$42,MATCH('Solde d''heure collaborateur'!AZ$2,Horaires!$H$3:$H$40,0),5),VLOOKUP(AY65,Horaires!$A$3:$E$60,5,)))","v":0.40624999999999994},null,{"$f":"INDEX(Planning!$17:$17,MATCH('Solde d''heure collaborateur'!$A65,Planning!$3:$3))","v":"R"},{"$f":"VLOOKUP(BC65,Horaires!$A$3:$E$49,2,)","v":"Congé"},{"$f":"IF(BD65=\"vacances\",INDEX(Horaires!$H$3:$L$42,MATCH('Solde d''heure collaborateur'!BD$2,Horaires!$H$3:$H$40,0),4),IF(BD65=\"maladie\",INDEX(Horaires!$H$3:$L$42,MATCH('Solde d''heure collaborateur'!BD$2,Horaires!$H$3:$H$40,0),5),VLOOKUP(BC65,Horaires!$A$3:$E$60,5,)))","v":0},null,{"$f":"INDEX(Planning!$18:$18,MATCH('Solde d''heure collaborateur'!$A65,Planning!$3:$3))","v":"nav3"},{"$f":"VLOOKUP(BG65,Horaires!$A$3:$E$49,2,)","v":"Navigation"},{"$f":"IF(BH65=\"vacances\",INDEX(Horaires!$H$3:$L$42,MATCH('Solde d''heure collaborateur'!BH$2,Horaires!$H$3:$H$40,0),4),IF(BH65=\"maladie\",INDEX(Horaires!$H$3:$L$42,MATCH('Solde d''heure collaborateur'!BH$2,Horaires!$H$3:$H$40,0),5),VLOOKUP(BG65,Horaires!$A$3:$E$60,5,)))","v":0.40624999999999994},null,{"$f":"INDEX(Planning!$19:$19,MATCH('Solde d''heure collaborateur'!$A65,Planning!$3:$3))","v":"vib3"},{"$f":"VLOOKUP(BK65,Horaires!$A$3:$E$49,2,)","v":"Vibert"},{"$f":"IF(BL65=\"vacances\",INDEX(Horaires!$H$3:$L$42,MATCH('Solde d''heure collaborateur'!BL$2,Horaires!$H$3:$H$40,0),4),IF(BL65=\"maladie\",INDEX(Horaires!$H$3:$L$42,MATCH('Solde d''heure collaborateur'!BL$2,Horaires!$H$3:$H$40,0),5),VLOOKUP(BK65,Horaires!$A$3:$E$60,5,)))","v":0.42708333333333331},null,{"$f":"INDEX(Planning!$20:$20,MATCH('Solde d''heure collaborateur'!$A65,Planning!$3:$3))","v":"aca3"},{"$f":"VLOOKUP(BO65,Horaires!$A$3:$E$49,2,)","v":"Acacias"},{"$f":"IF(BP65=\"vacances\",INDEX(Horaires!$H$3:$L$42,MATCH('Solde d''heure collaborateur'!BP$2,Horaires!$H$3:$H$40,0),4),IF(BP65=\"maladie\",INDEX(Horaires!$H$3:$L$42,MATCH('Solde d''heure collaborateur'!BP$2,Horaires!$H$3:$H$40,0),5),VLOOKUP(BO65,Horaires!$A$3:$E$60,5,)))","v":0.40624999999999994},null,{"$f":"INDEX(Planning!$21:$21,MATCH('Solde d''heure collaborateur'!$A65,Planning!$3:$3))","v":"Ves3"},{"$f":"VLOOKUP(BS65,Horaires!$A$3:$E$49,2,)","v":"Vesenaz"},{"$f":"IF(BT65=\"vacances\",INDEX(Horaires!$H$3:$L$42,MATCH('Solde d''heure collaborateur'!BT$2,Horaires!$H$3:$H$40,0),4),IF(BT65=\"maladie\",INDEX(Horaires!$H$3:$L$42,MATCH('Solde d''heure collaborateur'!BT$2,Horaires!$H$3:$H$40,0),5),VLOOKUP(BS65,Horaires!$A$3:$E$60,5,)))","v":0.40624999999999994},null,{"$f":"INDEX(Planning!$22:$22,MATCH('Solde d''heure collaborateur'!$A65,Planning!$3:$3))","v":"X"},{"$f":"VLOOKUP(BW65,Horaires!$A$3:$E$49,2,)","v":"XXX"},{"$f":"IF(BX65=\"vacances\",INDEX(Horaires!$H$3:$L$42,MATCH('Solde d''heure collaborateur'!BX$2,Horaires!$H$3:$H$40,0),4),IF(BX65=\"maladie\",INDEX(Horaires!$H$3:$L$42,MATCH('Solde d''heure collaborateur'!BX$2,Horaires!$H$3:$H$40,0),5),VLOOKUP(BW65,Horaires!$A$3:$E$60,5,)))","v":0},null,{"$f":"INDEX(Planning!$23:$23,MATCH('Solde d''heure collaborateur'!$A65,Planning!$3:$3))","v":"R"},{"$f":"VLOOKUP(CA65,Horaires!$A$3:$E$49,2,)","v":"Congé"},{"$f":"IF(CB65=\"vacances\",INDEX(Horaires!$H$3:$L$42,MATCH('Solde d''heure collaborateur'!CB$2,Horaires!$H$3:$H$40,0),4),IF(CB65=\"maladie\",INDEX(Horaires!$H$3:$L$42,MATCH('Solde d''heure collaborateur'!CB$2,Horaires!$H$3:$H$40,0),5),VLOOKUP(CA65,Horaires!$A$3:$E$60,5,)))","v":0},null,{"$f":"INDEX(Planning!$24:$24,MATCH('Solde d''heure collaborateur'!$A65,Planning!$3:$3))","v":"R"},{"$f":"VLOOKUP(CE65,Horaires!$A$3:$E$49,2,)","v":"Congé"},{"$f":"IF(CF65=\"vacances\",INDEX(Horaires!$H$3:$L$42,MATCH('Solde d''heure collaborateur'!CF$2,Horaires!$H$3:$H$40,0),4),IF(CF65=\"maladie\",INDEX(Horaires!$H$3:$L$42,MATCH('Solde d''heure collaborateur'!CF$2,Horaires!$H$3:$H$40,0),5),VLOOKUP(CE65,Horaires!$A$3:$E$60,5,)))","v":0},null,{"$f":"INDEX(Planning!$25:$25,MATCH('Solde d''heure collaborateur'!$A65,Planning!$3:$3))","v":"X"},{"$f":"VLOOKUP(CI65,Horaires!$A$3:$E$49,2,)","v":"XXX"},{"$f":"IF(CJ65=\"vacances\",INDEX(Horaires!$H$3:$L$42,MATCH('Solde d''heure collaborateur'!CJ$2,Horaires!$H$3:$H$40,0),4),IF(CJ65=\"maladie\",INDEX(Horaires!$H$3:$L$42,MATCH('Solde d''heure collaborateur'!CJ$2,Horaires!$H$3:$H$40,0),5),VLOOKUP(CI65,Horaires!$A$3:$E$60,5,)))","v":0},null,{"$f":"INDEX(Planning!$26:$26,MATCH('Solde d''heure collaborateur'!$A65,Planning!$3:$3))","v":"Vid3"},{"$f":"VLOOKUP(CM65,Horaires!$A$3:$E$49,2,)","v":"Vidollet"},{"$f":"IF(CN65=\"vacances\",INDEX(Horaires!$H$3:$L$42,MATCH('Solde d''heure collaborateur'!CN$2,Horaires!$H$3:$H$40,0),4),IF(CN65=\"maladie\",INDEX(Horaires!$H$3:$L$42,MATCH('Solde d''heure collaborateur'!CN$2,Horaires!$H$3:$H$40,0),5),VLOOKUP(CM65,Horaires!$A$3:$E$60,5,)))","v":0.40624999999999994},null,{"$f":"INDEX(Planning!$27:$27,MATCH('Solde d''heure collaborateur'!$A65,Planning!$3:$3))","v":"thon3"},{"$f":"VLOOKUP(CQ65,Horaires!$A$3:$E$49,2,)","v":"Thonex"},{"$f":"IF(CR65=\"vacances\",INDEX(Horaires!$H$3:$L$42,MATCH('Solde d''heure collaborateur'!CR$2,Horaires!$H$3:$H$40,0),4),IF(CR65=\"maladie\",INDEX(Horaires!$H$3:$L$42,MATCH('Solde d''heure collaborateur'!CR$2,Horaires!$H$3:$H$40,0),5),VLOOKUP(CQ65,Horaires!$A$3:$E$60,5,)))","v":0.40624999999999994},null,{"$f":"INDEX(Planning!$28:$28,MATCH('Solde d''heure collaborateur'!$A65,Planning!$3:$3))","v":"tour3"},{"$f":"VLOOKUP(CU65,Horaires!$A$3:$E$49,2,)","v":"Tourelle"},{"$f":"IF(CV65=\"vacances\",INDEX(Horaires!$H$3:$L$42,MATCH('Solde d''heure collaborateur'!CV$2,Horaires!$H$3:$H$40,0),4),IF(CV65=\"maladie\",INDEX(Horaires!$H$3:$L$42,MATCH('Solde d''heure collaborateur'!CV$2,Horaires!$H$3:$H$40,0),5),VLOOKUP(CU65,Horaires!$A$3:$E$60,5,)))","v":0.42708333333333331},null,{"$f":"INDEX(Planning!$29:$29,MATCH('Solde d''heure collaborateur'!$A65,Planning!$3:$3))","v":"vib3"},{"$f":"VLOOKUP(CY65,Horaires!$A$3:$E$49,2,)","v":"Vibert"},{"$f":"IF(CZ65=\"vacances\",INDEX(Horaires!$H$3:$L$42,MATCH('Solde d''heure collaborateur'!CZ$2,Horaires!$H$3:$H$40,0),4),IF(CZ65=\"maladie\",INDEX(Horaires!$H$3:$L$42,MATCH('Solde d''heure collaborateur'!CZ$2,Horaires!$H$3:$H$40,0),5),VLOOKUP(CY65,Horaires!$A$3:$E$60,5,)))","v":0.42708333333333331},null,{"$f":"INDEX(Planning!$30:$30,MATCH('Solde d''heure collaborateur'!$A65,Planning!$3:$3))","v":"X"},{"$f":"VLOOKUP(DC65,Horaires!$A$3:$E$49,2,)","v":"XXX"},{"$f":"IF(DD65=\"vacances\",INDEX(Horaires!$H$3:$L$42,MATCH('Solde d''heure collaborateur'!DD$2,Horaires!$H$3:$H$40,0),4),IF(DD65=\"maladie\",INDEX(Horaires!$H$3:$L$42,MATCH('Solde d''heure collaborateur'!DD$2,Horaires!$H$3:$H$40,0),5),VLOOKUP(DC65,Horaires!$A$3:$E$60,5,)))","v":0},null,{"$f":"INDEX(Planning!$31:$31,MATCH('Solde d''heure collaborateur'!$A65,Planning!$3:$3))","v":"X"},{"$f":"VLOOKUP(DG65,Horaires!$A$3:$E$49,2,)","v":"XXX"},{"$f":"IF(DH65=\"vacances\",INDEX(Horaires!$H$3:$L$42,MATCH('Solde d''heure collaborateur'!DH$2,Horaires!$H$3:$H$40,0),4),IF(DH65=\"maladie\",INDEX(Horaires!$H$3:$L$42,MATCH('Solde d''heure collaborateur'!DH$2,Horaires!$H$3:$H$40,0),5),VLOOKUP(DG65,Horaires!$A$3:$E$60,5,)))","v":0},null,{"$f":"INDEX(Planning!$32:$32,MATCH('Solde d''heure collaborateur'!$A65,Planning!$3:$3))","v":"X"},{"$f":"VLOOKUP(DK65,Horaires!$A$3:$E$49,2,)","v":"XXX"},{"$f":"IF(DL65=\"vacances\",INDEX(Horaires!$H$3:$L$42,MATCH('Solde d''heure collaborateur'!DL$2,Horaires!$H$3:$H$40,0),4),IF(DL65=\"maladie\",INDEX(Horaires!$H$3:$L$42,MATCH('Solde d''heure collaborateur'!DL$2,Horaires!$H$3:$H$40,0),5),VLOOKUP(DK65,Horaires!$A$3:$E$60,5,)))","v":0},null,{"$f":"INDEX(Planning!$33:$33,MATCH('Solde d''heure collaborateur'!$A65,Planning!$3:$3))","v":"X"},{"$f":"VLOOKUP(DO65,Horaires!$A$3:$E$49,2,)","v":"XXX"},{"$f":"IF(DP65=\"vacances\",INDEX(Horaires!$H$3:$L$42,MATCH('Solde d''heure collaborateur'!DP$2,Horaires!$H$3:$H$40,0),4),IF(DP65=\"maladie\",INDEX(Horaires!$H$3:$L$42,MATCH('Solde d''heure collaborateur'!DP$2,Horaires!$H$3:$H$40,0),5),VLOOKUP(DO65,Horaires!$A$3:$E$60,5,)))","v":0},null,{"$f":"INDEX(Planning!$34:$34,MATCH('Solde d''heure collaborateur'!$A65,Planning!$3:$3))","v":"X"},{"$f":"VLOOKUP(DS65,Horaires!$A$3:$E$49,2,)","v":"XXX"},{"$f":"IF(DT65=\"vacances\",INDEX(Horaires!$H$3:$L$42,MATCH('Solde d''heure collaborateur'!DT$2,Horaires!$H$3:$H$40,0),4),IF(DT65=\"maladie\",INDEX(Horaires!$H$3:$L$42,MATCH('Solde d''heure collaborateur'!DT$2,Horaires!$H$3:$H$40,0),5),VLOOKUP(DS65,Horaires!$A$3:$E$60,5,)))","v":0},null,{"$f":"INDEX(Planning!$35:$35,MATCH('Solde d''heure collaborateur'!$A65,Planning!$3:$3))","v":"X"},{"$f":"VLOOKUP(DW65,Horaires!$A$3:$E$49,2,)","v":"XXX"},{"$f":"IF(DX65=\"vacances\",INDEX(Horaires!$H$3:$L$42,MATCH('Solde d''heure collaborateur'!DX$2,Horaires!$H$3:$H$40,0),4),IF(DX65=\"maladie\",INDEX(Horaires!$H$3:$L$42,MATCH('Solde d''heure collaborateur'!DX$2,Horaires!$H$3:$H$40,0),5),VLOOKUP(DW65,Horaires!$A$3:$E$60,5,)))","v":0}]
[null,null,null,{"$f":"SUM(E66-INDEX(Horaires!$H$3:$L$37,MATCH('Solde d''heure collaborateur'!D$2,Horaires!$H$3:$H$37,0),2))","v":-0.85000000000000142},{"$f":"SUM(E60:E65)*24","v":41.15},null,null,{"$f":"SUM(I66-INDEX(Horaires!$H$3:$L$37,MATCH('Solde d''heure collaborateur'!H$2,Horaires!$H$3:$H$37,0),2))","v":9.9000000000000057},{"$f":"SUM(I60:I65)*24","v":51.900000000000006},null,null,{"$f":"SUM(M66-INDEX(Horaires!$H$3:$L$37,MATCH('Solde d''heure collaborateur'!L$2,Horaires!$H$3:$H$37,0),2))","v":0},{"$f":"SUM(M60:M65)*24","v":42},null,null,{"$f":"SUM(Q66-INDEX(Horaires!$H$3:$L$37,MATCH('Solde d''heure collaborateur'!P$2,Horaires!$H$3:$H$37,0),2))","v":3.5527136788005009E-15},{"$f":"SUM(Q60:Q65)*24","v":22.500000000000004},null,null,{"$f":"SUM(U66-INDEX(Horaires!$H$3:$L$37,MATCH('Solde d''heure collaborateur'!T$2,Horaires!$H$3:$H$37,0),2))","v":10.899999999999999},{"$f":"SUM(U60:U65)*24","v":52.9},null,null,{"$f":"SUM(Y66-INDEX(Horaires!$H$3:$L$37,MATCH('Solde d''heure collaborateur'!X$2,Horaires!$H$3:$H$37,0),2))","v":-2.8499999999999979},{"$f":"SUM(Y60:Y65)*24","v":19.650000000000002},null,null,{"$f":"SUM(AC66-INDEX(Horaires!$H$3:$L$37,MATCH('Solde d''heure collaborateur'!AB$2,Horaires!$H$3:$H$37,0),2))","v":11.400000000000006},{"$f":"SUM(AC60:AC65)*24","v":53.400000000000006},null,null,{"$f":"SUM(AG66-INDEX(Horaires!$H$3:$L$37,MATCH('Solde d''heure collaborateur'!AF$2,Horaires!$H$3:$H$37,0),2))","v":10.899999999999999},{"$f":"SUM(AG60:AG65)*24","v":52.9},null,null,{"$f":"SUM(AK66-INDEX(Horaires!$H$3:$L$37,MATCH('Solde d''heure collaborateur'!AJ$2,Horaires!$H$3:$H$37,0),2))","v":-0.85000000000000142},{"$f":"SUM(AK60:AK65)*24","v":41.15},null,null,{"$f":"SUM(AO66-INDEX(Horaires!$H$3:$L$37,MATCH('Solde d''heure collaborateur'!AN$2,Horaires!$H$3:$H$37,0),2))","v":8.8999999999999915},{"$f":"SUM(AO60:AO65)*24","v":50.899999999999991},null,null,{"$f":"SUM(AS66-INDEX(Horaires!$H$3:$L$37,MATCH('Solde d''heure collaborateur'!AR$2,Horaires!$H$3:$H$37,0),2))","v":0},{"$f":"SUM(AS60:AS65)*24","v":33.25},null,null,{"$f":"SUM(AW66-INDEX(Horaires!$H$3:$L$37,MATCH('Solde d''heure collaborateur'!AV$2,Horaires!$H$3:$H$37,0),2))","v":8.4000000000000057},{"$f":"SUM(AW60:AW65)*24","v":50.400000000000006},null,null,{"$f":"SUM(BA66-INDEX(Horaires!$H$3:$L$37,MATCH('Solde d''heure collaborateur'!AZ$2,Horaires!$H$3:$H$37,0),2))","v":-2.3500000000000014},{"$f":"SUM(BA60:BA65)*24","v":39.65},null,null,{"$f":"SUM(BE66-INDEX(Horaires!$H$3:$L$37,MATCH('Solde d''heure collaborateur'!BD$2,Horaires!$H$3:$H$37,0),2))","v":1.1499999999999986},{"$f":"SUM(BE60:BE65)*24","v":43.15},null,null,{"$f":"SUM(BI66-INDEX(Horaires!$H$3:$L$37,MATCH('Solde d''heure collaborateur'!BH$2,Horaires!$H$3:$H$37,0),2))","v":8.4000000000000057},{"$f":"SUM(BI60:BI65)*24","v":50.400000000000006},null,null,{"$f":"SUM(BM66-INDEX(Horaires!$H$3:$L$37,MATCH('Solde d''heure collaborateur'!BL$2,Horaires!$H$3:$H$37,0),2))","v":10.650000000000006},{"$f":"SUM(BM60:BM65)*24","v":52.650000000000006},null,null,{"$f":"SUM(BQ66-INDEX(Horaires!$H$3:$L$37,MATCH('Solde d''heure collaborateur'!BP$2,Horaires!$H$3:$H$37,0),2))","v":-1.8500000000000014},{"$f":"SUM(BQ60:BQ65)*24","v":40.15},null,null,{"$f":"SUM(BU66-INDEX(Horaires!$H$3:$L$37,MATCH('Solde d''heure collaborateur'!BT$2,Horaires!$H$3:$H$37,0),2))","v":9.3999999999999986},{"$f":"SUM(BU60:BU65)*24","v":51.4},null,null,{"$f":"SUM(BY66-INDEX(Horaires!$H$3:$L$37,MATCH('Solde d''heure collaborateur'!BX$2,Horaires!$H$3:$H$37,0),2))","v":0},{"$f":"SUM(BY60:BY65)*24","v":21.5},null,null,{"$f":"SUM(CC66-INDEX(Horaires!$H$3:$L$37,MATCH('Solde d''heure collaborateur'!CB$2,Horaires!$H$3:$H$37,0),2))","v":-0.34999999999999432},{"$f":"SUM(CC60:CC65)*24","v":41.650000000000006},null,null,{"$f":"SUM(CG66-INDEX(Horaires!$H$3:$L$37,MATCH('Solde d''heure collaborateur'!CF$2,Horaires!$H$3:$H$37,0),2))","v":0.15000000000000568},{"$f":"SUM(CG60:CG65)*24","v":42.150000000000006},null,null,{"$f":"SUM(CK66-INDEX(Horaires!$H$3:$L$37,MATCH('Solde d''heure collaborateur'!CJ$2,Horaires!$H$3:$H$37,0),2))","v":-42},{"$f":"SUM(CK60:CK65)*24","v":0},null,null,{"$f":"SUM(CO66-INDEX(Horaires!$H$3:$L$37,MATCH('Solde d''heure collaborateur'!CN$2,Horaires!$H$3:$H$37,0),2))","v":-1.8500000000000014},{"$f":"SUM(CO60:CO65)*24","v":40.15},null,null,{"$f":"SUM(CS66-INDEX(Horaires!$H$3:$L$37,MATCH('Solde d''heure collaborateur'!CR$2,Horaires!$H$3:$H$37,0),2))","v":9.3999999999999986},{"$f":"SUM(CS60:CS65)*24","v":51.4},null,null,{"$f":"SUM(CW66-INDEX(Horaires!$H$3:$L$37,MATCH('Solde d''heure collaborateur'!CV$2,Horaires!$H$3:$H$37,0),2))","v":10.899999999999999},{"$f":"SUM(CW60:CW65)*24","v":52.9},null,null,{"$f":"SUM(DA66-INDEX(Horaires!$H$3:$L$37,MATCH('Solde d''heure collaborateur'!CZ$2,Horaires!$H$3:$H$37,0),2))","v":52.400000000000006},{"$f":"SUM(DA60:DA65)*24","v":52.400000000000006},null,null,{"$f":"SUM(DE66-INDEX(Horaires!$H$3:$L$37,MATCH('Solde d''heure collaborateur'!DD$2,Horaires!$H$3:$H$37,0),2))","v":{"$error":"#N/A"}},{"$f":"SUM(DE60:DE65)*24","v":22},null,null,{"$f":"SUM(DI66-INDEX(Horaires!$H$3:$L$37,MATCH('Solde d''heure collaborateur'!DH$2,Horaires!$H$3:$H$37,0),2))","v":21.5},{"$f":"SUM(DI60:DI65)*24","v":21.5},null,null,{"$f":"SUM(DM66-INDEX(Horaires!$H$3:$L$37,MATCH('Solde d''heure collaborateur'!DL$2,Horaires!$H$3:$H$37,0),2))","v":0},{"$f":"SUM(DM60:DM65)*24","v":0},null,null,{"$f":"SUM(DQ66-INDEX(Horaires!$H$3:$L$37,MATCH('Solde d''heure collaborateur'!DP$2,Horaires!$H$3:$H$37,0),2))","v":0},{"$f":"SUM(DQ60:DQ65)*24","v":0},null,null,{"$f":"SUM(DU66-INDEX(Horaires!$H$3:$L$37,MATCH('Solde d''heure collaborateur'!DT$2,Horaires!$H$3:$H$37,0),2))","v":0},{"$f":"SUM(DU60:DU65)*24","v":0},null,null,{"$f":"SUM(DY66-INDEX(Horaires!$H$3:$L$37,MATCH('Solde d''heure collaborateur'!DX$2,Horaires!$H$3:$H$37,0),2))","v":0},{"$f":"SUM(DY60:DY65)*24","v":0}]
[]
[{"$f":"A65+2","v":"2013-12-30"},null,{"$f":"INDEX(Planning!$4:$4,MATCH('Solde d''heure collaborateur'!A68,Planning!$3:$3,0))","v":"R"},{"$f":"VLOOKUP(C68,Horaires!$A$3:$E$49,2,)","v":"Congé"},{"$f":"IF(D68=\"vacances\",INDEX(Horaires!$H$3:$L$42,MATCH('Solde d''heure collaborateur'!D$2,Horaires!$H$3:$H$40,0),4),IF(D68=\"maladie\",INDEX(Horaires!$H$3:$L$42,MATCH('Solde d''heure collaborateur'!D$2,Horaires!$H$3:$H$40,0),5),VLOOKUP(C68,Horaires!$A$3:$E$60,5,)))","v":0},null,{"$f":"INDEX(Planning!$5:$5,MATCH('Solde d''heure collaborateur'!A68,Planning!$3:$3))","v":"Pom1"},{"$f":"VLOOKUP(G68,Horaires!$A$3:$E$49,2,)","v":"Pommier"},{"$f":"IF(H68=\"vacances\",INDEX(Horaires!$H$3:$L$42,MATCH('Solde d''heure collaborateur'!H$2,Horaires!$H$3:$H$40,0),4),IF(H68=\"maladie\",INDEX(Horaires!$H$3:$L$42,MATCH('Solde d''heure collaborateur'!H$2,Horaires!$H$3:$H$40,0),5),VLOOKUP(G68,Horaires!$A$3:$E$60,5,)))","v":0.44791666666666669},null,{"$f":"INDEX(Planning!$6:$6,MATCH('Solde d''heure collaborateur'!A68,Planning!$3:$3))","v":"M"},{"$f":"VLOOKUP(K68,Horaires!$A$3:$E$49,2,)","v":"Maladie"},{"$f":"IF(L68=\"vacances\",INDEX(Horaires!$H$3:$L$42,MATCH('Solde d''heure collaborateur'!L$2,Horaires!$H$3:$H$40,0),4),IF(L68=\"maladie\",INDEX(Horaires!$H$3:$L$42,MATCH('Solde d''heure collaborateur'!L$2,Horaires!$H$3:$H$40,0),5),VLOOKUP(K68,Horaires!$A$3:$E$60,5,)))","v":0.4375},null,{"$f":"INDEX(Planning!$7:$7,MATCH('Solde d''heure collaborateur'!$A68,Planning!$3:$3))","v":"Vib1"},{"$f":"VLOOKUP(O68,Horaires!$A$3:$E$49,2,)","v":"Vibert"},{"$f":"IF(P68=\"vacances\",INDEX(Horaires!$H$3:$L$42,MATCH('Solde d''heure collaborateur'!P$2,Horaires!$H$3:$H$40,0),4),IF(P68=\"maladie\",INDEX(Horaires!$H$3:$L$42,MATCH('Solde d''heure collaborateur'!P$2,Horaires!$H$3:$H$40,0),5),VLOOKUP(O68,Horaires!$A$3:$E$60,5,)))","v":0.46875000000000006},null,{"$f":"INDEX(Planning!$8:$8,MATCH('Solde d''heure collaborateur'!$A68,Planning!$3:$3))","v":"Onex1"},{"$f":"VLOOKUP(S68,Horaires!$A$3:$E$49,2,)","v":"Onex"},{"$f":"IF(T68=\"vacances\",INDEX(Horaires!$H$3:$L$42,MATCH('Solde d''heure collaborateur'!T$2,Horaires!$H$3:$H$40,0),4),IF(T68=\"maladie\",INDEX(Horaires!$H$3:$L$42,MATCH('Solde d''heure collaborateur'!T$2,Horaires!$H$3:$H$40,0),5),VLOOKUP(S68,Horaires!$A$3:$E$60,5,)))","v":0.46875000000000006},null,{"$f":"INDEX(Planning!$9:$9,MATCH('Solde d''heure collaborateur'!$A68,Planning!$3:$3))","v":"Onex1"},{"$f":"VLOOKUP(W68,Horaires!$A$3:$E$49,2,)","v":"Onex"},{"$f":"IF(X68=\"vacances\",INDEX(Horaires!$H$3:$L$42,MATCH('Solde d''heure collaborateur'!X$2,Horaires!$H$3:$H$40,0),4),IF(X68=\"maladie\",INDEX(Horaires!$H$3:$L$42,MATCH('Solde d''heure collaborateur'!X$2,Horaires!$H$3:$H$40,0),5),VLOOKUP(W68,Horaires!$A$3:$E$60,5,)))","v":0.46875000000000006},null,{"$f":"INDEX(Planning!$10:$10,MATCH('Solde d''heure collaborateur'!$A68,Planning!$3:$3))","v":"R"},{"$f":"VLOOKUP(AA68,Horaires!$A$3:$E$49,2,)","v":"Congé"},{"$f":"IF(AB68=\"vacances\",INDEX(Horaires!$H$3:$L$42,MATCH('Solde d''heure collaborateur'!AB$2,Horaires!$H$3:$H$40,0),4),IF(AB68=\"maladie\",INDEX(Horaires!$H$3:$L$42,MATCH('Solde d''heure collaborateur'!AB$2,Horaires!$H$3:$H$40,0),5),VLOOKUP(AA68,Horaires!$A$3:$E$60,5,)))","v":0},null,{"$f":"INDEX(Planning!$11:$11,MATCH('Solde d''heure collaborateur'!$A68,Planning!$3:$3))","v":"Plo1"},{"$f":"VLOOKUP(AE68,Horaires!$A$3:$E$49,2,)","v":"Plan les Ouates"},{"$f":"IF(AF68=\"vacances\",INDEX(Horaires!$H$3:$L$42,MATCH('Solde d''heure collaborateur'!AF$2,Horaires!$H$3:$H$40,0),4),IF(AF68=\"maladie\",INDEX(Horaires!$H$3:$L$42,MATCH('Solde d''heure collaborateur'!AF$2,Horaires!$H$3:$H$40,0),5),VLOOKUP(AE68,Horaires!$A$3:$E$60,5,)))","v":0.46875000000000006},null,{"$f":"INDEX(Planning!$12:$12,MATCH('Solde d''heure collaborateur'!$A68,Planning!$3:$3))","v":"Thon1"},{"$f":"VLOOKUP(AI68,Horaires!$A$3:$E$49,2,)","v":"Thonex"},{"$f":"IF(AJ68=\"vacances\",INDEX(Horaires!$H$3:$L$42,MATCH('Solde d''heure collaborateur'!AJ$2,Horaires!$H$3:$H$40,0),4),IF(AJ68=\"maladie\",INDEX(Horaires!$H$3:$L$42,MATCH('Solde d''heure collaborateur'!AJ$2,Horaires!$H$3:$H$40,0),5),VLOOKUP(AI68,Horaires!$A$3:$E$60,5,)))","v":0.44791666666666669},null,{"$f":"INDEX(Planning!$13:$13,MATCH('Solde d''heure collaborateur'!$A68,Planning!$3:$3))","v":"nav1"},{"$f":"VLOOKUP(AM68,Horaires!$A$3:$E$49,2,)","v":"Navigation"},{"$f":"IF(AN68=\"vacances\",INDEX(Horaires!$H$3:$L$42,MATCH('Solde d''heure collaborateur'!AN$2,Horaires!$H$3:$H$40,0),4),IF(AN68=\"maladie\",INDEX(Horaires!$H$3:$L$42,MATCH('Solde d''heure collaborateur'!AN$2,Horaires!$H$3:$H$40,0),5),VLOOKUP(AM68,Horaires!$A$3:$E$60,5,)))","v":0.44791666666666669},null,{"$f":"INDEX(Planning!$14:$14,MATCH('Solde d''heure collaborateur'!$A68,Planning!$3:$3))","v":"M"},{"$f":"VLOOKUP(AQ68,Horaires!$A$3:$E$49,2,)","v":"Maladie"},{"$f":"IF(AR68=\"vacances\",INDEX(Horaires!$H$3:$L$42,MATCH('Solde d''heure collaborateur'!AR$2,Horaires!$H$3:$H$40,0),4),IF(AR68=\"maladie\",INDEX(Horaires!$H$3:$L$42,MATCH('Solde d''heure collaborateur'!AR$2,Horaires!$H$3:$H$40,0),5),VLOOKUP(AQ68,Horaires!$A$3:$E$60,5,)))","v":0.46180555555555558},null,{"$f":"INDEX(Planning!$15:$15,MATCH('Solde d''heure collaborateur'!$A68,Planning!$3:$3))","v":"R"},{"$f":"VLOOKUP(AU68,Horaires!$A$3:$E$49,2,)","v":"Congé"},{"$f":"IF(AV68=\"vacances\",INDEX(Horaires!$H$3:$L$42,MATCH('Solde d''heure collaborateur'!AV$2,Horaires!$H$3:$H$40,0),4),IF(AV68=\"maladie\",INDEX(Horaires!$H$3:$L$42,MATCH('Solde d''heure collaborateur'!AV$2,Horaires!$H$3:$H$40,0),5),VLOOKUP(AU68,Horaires!$A$3:$E$60,5,)))","v":0},null,{"$f":"INDEX(Planning!$16:$16,MATCH('Solde d''heure collaborateur'!$A68,Planning!$3:$3))","v":"Nyon1"},{"$f":"VLOOKUP(AY68,Horaires!$A$3:$E$49,2,)","v":"Nyon"},{"$f":"IF(AZ68=\"vacances\",INDEX(Horaires!$H$3:$L$42,MATCH('Solde d''heure collaborateur'!AZ$2,Horaires!$H$3:$H$40,0),4),IF(AZ68=\"maladie\",INDEX(Horaires!$H$3:$L$42,MATCH('Solde d''heure collaborateur'!AZ$2,Horaires!$H$3:$H$40,0),5),VLOOKUP(AY68,Horaires!$A$3:$E$60,5,)))","v":0.44791666666666669},null,{"$f":"INDEX(Planning!$17:$17,MATCH('Solde d''heure collaborateur'!$A68,Planning!$3:$3))","v":"nav1"},{"$f":"VLOOKUP(BC68,Horaires!$A$3:$E$49,2,)","v":"Navigation"},{"$f":"IF(BD68=\"vacances\",INDEX(Horaires!$H$3:$L$42,MATCH('Solde d''heure collaborateur'!BD$2,Horaires!$H$3:$H$40,0),4),IF(BD68=\"maladie\",INDEX(Horaires!$H$3:$L$42,MATCH('Solde d''heure collaborateur'!BD$2,Horaires!$H$3:$H$40,0),5),VLOOKUP(BC68,Horaires!$A$3:$E$60,5,)))","v":0.44791666666666669},null,{"$f":"INDEX(Planning!$18:$18,MATCH('Solde d''heure collaborateur'!$A68,Planning!$3:$3))","v":"R"},{"$f":"VLOOKUP(BG68,Horaires!$A$3:$E$49,2,)","v":"Congé"},{"$f":"IF(BH68=\"vacances\",INDEX(Horaires!$H$3:$L$42,MATCH('Solde d''heure collaborateur'!BH$2,Horaires!$H$3:$H$40,0),4),IF(BH68=\"maladie\",INDEX(Horaires!$H$3:$L$42,MATCH('Solde d''heure collaborateur'!BH$2,Horaires!$H$3:$H$40,0),5),VLOOKUP(BG68,Horaires!$A$3:$E$60,5,)))","v":0},null,{"$f":"INDEX(Planning!$19:$19,MATCH('Solde d''heure collaborateur'!$A68,Planning!$3:$3))","v":"R"},{"$f":"VLOOKUP(BK68,Horaires!$A$3:$E$49,2,)","v":"Congé"},{"$f":"IF(BL68=\"vacances\",INDEX(Horaires!$H$3:$L$42,MATCH('Solde d''heure collaborateur'!BL$2,Horaires!$H$3:$H$40,0),4),IF(BL68=\"maladie\",INDEX(Horaires!$H$3:$L$42,MATCH('Solde d''heure collaborateur'!BL$2,Horaires!$H$3:$H$40,0),5),VLOOKUP(BK68,Horaires!$A$3:$E$60,5,)))","v":0},null,{"$f":"INDEX(Planning!$20:$20,MATCH('Solde d''heure collaborateur'!$A68,Planning!$3:$3))","v":"Aca1"},{"$f":"VLOOKUP(BO68,Horaires!$A$3:$E$49,2,)","v":"Acacias"},{"$f":"IF(BP68=\"vacances\",INDEX(Horaires!$H$3:$L$42,MATCH('Solde d''heure collaborateur'!BP$2,Horaires!$H$3:$H$40,0),4),IF(BP68=\"maladie\",INDEX(Horaires!$H$3:$L$42,MATCH('Solde d''heure collaborateur'!BP$2,Horaires!$H$3:$H$40,0),5),VLOOKUP(BO68,Horaires!$A$3:$E$60,5,)))","v":0.44791666666666669},null,{"$f":"INDEX(Planning!$21:$21,MATCH('Solde d''heure collaborateur'!$A68,Planning!$3:$3))","v":"R"},{"$f":"VLOOKUP(BS68,Horaires!$A$3:$E$49,2,)","v":"Congé"},{"$f":"IF(BT68=\"vacances\",INDEX(Horaires!$H$3:$L$42,MATCH('Solde d''heure collaborateur'!BT$2,Horaires!$H$3:$H$40,0),4),IF(BT68=\"maladie\",INDEX(Horaires!$H$3:$L$42,MATCH('Solde d''heure collaborateur'!BT$2,Horaires!$H$3:$H$40,0),5),VLOOKUP(BS68,Horaires!$A$3:$E$60,5,)))","v":0},null,{"$f":"INDEX(Planning!$22:$22,MATCH('Solde d''heure collaborateur'!$A68,Planning!$3:$3))","v":"Ves1"},{"$f":"VLOOKUP(BW68,Horaires!$A$3:$E$49,2,)","v":"Vesenaz"},{"$f":"IF(BX68=\"vacances\",INDEX(Horaires!$H$3:$L$42,MATCH('Solde d''heure collaborateur'!BX$2,Horaires!$H$3:$H$40,0),4),IF(BX68=\"maladie\",INDEX(Horaires!$H$3:$L$42,MATCH('Solde d''heure collaborateur'!BX$2,Horaires!$H$3:$H$40,0),5),VLOOKUP(BW68,Horaires!$A$3:$E$60,5,)))","v":0.44791666666666669},null,{"$f":"INDEX(Planning!$23:$23,MATCH('Solde d''heure collaborateur'!$A68,Planning!$3:$3))","v":"R"},{"$f":"VLOOKUP(CA68,Horaires!$A$3:$E$49,2,)","v":"Congé"},{"$f":"IF(CB68=\"vacances\",INDEX(Horaires!$H$3:$L$42,MATCH('Solde d''heure collaborateur'!CB$2,Horaires!$H$3:$H$40,0),4),IF(CB68=\"maladie\",INDEX(Horaires!$H$3:$L$42,MATCH('Solde d''heure collaborateur'!CB$2,Horaires!$H$3:$H$40,0),5),VLOOKUP(CA68,Horaires!$A$3:$E$60,5,)))","v":0},null,{"$f":"INDEX(Planning!$24:$24,MATCH('Solde d''heure collaborateur'!$A68,Planning!$3:$3))","v":"Onex1"},{"$f":"VLOOKUP(CE68,Horaires!$A$3:$E$49,2,)","v":"Onex"},{"$f":"IF(CF68=\"vacances\",INDEX(Horaires!$H$3:$L$42,MATCH('Solde d''heure collaborateur'!CF$2,Horaires!$H$3:$H$40,0),4),IF(CF68=\"maladie\",INDEX(Horaires!$H$3:$L$42,MATCH('Solde d''heure collaborateur'!CF$2,Horaires!$H$3:$H$40,0),5),VLOOKUP(CE68,Horaires!$A$3:$E$60,5,)))","v":0.46875000000000006},null,{"$f":"INDEX(Planning!$25:$25,MATCH('Solde d''heure collaborateur'!$A68,Planning!$3:$3))","v":"X"},{"$f":"VLOOKUP(CI68,Horaires!$A$3:$E$49,2,)","v":"XXX"},{"$f":"IF(CJ68=\"vacances\",INDEX(Horaires!$H$3:$L$42,MATCH('Solde d''heure collaborateur'!CJ$2,Horaires!$H$3:$H$40,0),4),IF(CJ68=\"maladie\",INDEX(Horaires!$H$3:$L$42,MATCH('Solde d''heure collaborateur'!CJ$2,Horaires!$H$3:$H$40,0),5),VLOOKUP(CI68,Horaires!$A$3:$E$60,5,)))","v":0},null,{"$f":"INDEX(Planning!$26:$26,MATCH('Solde d''heure collaborateur'!$A68,Planning!$3:$3))","v":"Vid1"},{"$f":"VLOOKUP(CM68,Horaires!$A$3:$E$49,2,)","v":"Vidollet"},{"$f":"IF(CN68=\"vacances\",INDEX(Horaires!$H$3:$L$42,MATCH('Solde d''heure collaborateur'!CN$2,Horaires!$H$3:$H$40,0),4),IF(CN68=\"maladie\",INDEX(Horaires!$H$3:$L$42,MATCH('Solde d''heure collaborateur'!CN$2,Horaires!$H$3:$H$40,0),5),VLOOKUP(CM68,Horaires!$A$3:$E$60,5,)))","v":0.44791666666666669},null,{"$f":"INDEX(Planning!$27:$27,MATCH('Solde d''heure collaborateur'!$A68,Planning!$3:$3))","v":"R"},{"$f":"VLOOKUP(CQ68,Horaires!$A$3:$E$49,2,)","v":"Congé"},{"$f":"IF(CR68=\"vacances\",INDEX(Horaires!$H$3:$L$42,MATCH('Solde d''heure collaborateur'!CR$2,Horaires!$H$3:$H$40,0),4),IF(CR68=\"maladie\",INDEX(Horaires!$H$3:$L$42,MATCH('Solde d''heure collaborateur'!CR$2,Horaires!$H$3:$H$40,0),5),VLOOKUP(CQ68,Horaires!$A$3:$E$60,5,)))","v":0},null,{"$f":"INDEX(Planning!$28:$28,MATCH('Solde d''heure collaborateur'!$A68,Planning!$3:$3))","v":"tour1"},{"$f":"VLOOKUP(CU68,Horaires!$A$3:$E$49,2,)","v":"Tourelle"},{"$f":"IF(CV68=\"vacances\",INDEX(Horaires!$H$3:$L$42,MATCH('Solde d''heure collaborateur'!CV$2,Horaires!$H$3:$H$40,0),4),IF(CV68=\"maladie\",INDEX(Horaires!$H$3:$L$42,MATCH('Solde d''heure collaborateur'!CV$2,Horaires!$H$3:$H$40,0),5),VLOOKUP(CU68,Horaires!$A$3:$E$60,5,)))","v":0.46875000000000006},null,{"$f":"INDEX(Planning!$29:$29,MATCH('Solde d''heure collaborateur'!$A68,Planning!$3:$3))","v":"Vib1"},{"$f":"VLOOKUP(CY68,Horaires!$A$3:$E$49,2,)","v":"Vibert"},{"$f":"IF(CZ68=\"vacances\",INDEX(Horaires!$H$3:$L$42,MATCH('Solde d''heure collaborateur'!CZ$2,Horaires!$H$3:$H$40,0),4),IF(CZ68=\"maladie\",INDEX(Horaires!$H$3:$L$42,MATCH('Solde d''heure collaborateur'!CZ$2,Horaires!$H$3:$H$40,0),5),VLOOKUP(CY68,Horaires!$A$3:$E$60,5,)))","v":0.46875000000000006},null,{"$f":"INDEX(Planning!$30:$30,MATCH('Solde d''heure collaborateur'!$A68,Planning!$3:$3))","v":"X"},{"$f":"VLOOKUP(DC68,Horaires!$A$3:$E$49,2,)","v":"XXX"},{"$f":"IF(DD68=\"vacances\",INDEX(Horaires!$H$3:$L$42,MATCH('Solde d''heure collaborateur'!DD$2,Horaires!$H$3:$H$40,0),4),IF(DD68=\"maladie\",INDEX(Horaires!$H$3:$L$42,MATCH('Solde d''heure collaborateur'!DD$2,Horaires!$H$3:$H$40,0),5),VLOOKUP(DC68,Horaires!$A$3:$E$60,5,)))","v":0},null,{"$f":"INDEX(Planning!$31:$31,MATCH('Solde d''heure collaborateur'!$A68,Planning!$3:$3))","v":"X"},{"$f":"VLOOKUP(DG68,Horaires!$A$3:$E$49,2,)","v":"XXX"},{"$f":"IF(DH68=\"vacances\",INDEX(Horaires!$H$3:$L$42,MATCH('Solde d''heure collaborateur'!DH$2,Horaires!$H$3:$H$40,0),4),IF(DH68=\"maladie\",INDEX(Horaires!$H$3:$L$42,MATCH('Solde d''heure collaborateur'!DH$2,Horaires!$H$3:$H$40,0),5),VLOOKUP(DG68,Horaires!$A$3:$E$60,5,)))","v":0},null,{"$f":"INDEX(Planning!$32:$32,MATCH('Solde d''heure collaborateur'!$A68,Planning!$3:$3))","v":"X"},{"$f":"VLOOKUP(DK68,Horaires!$A$3:$E$49,2,)","v":"XXX"},{"$f":"IF(DL68=\"vacances\",INDEX(Horaires!$H$3:$L$42,MATCH('Solde d''heure collaborateur'!DL$2,Horaires!$H$3:$H$40,0),4),IF(DL68=\"maladie\",INDEX(Horaires!$H$3:$L$42,MATCH('Solde d''heure collaborateur'!DL$2,Horaires!$H$3:$H$40,0),5),VLOOKUP(DK68,Horaires!$A$3:$E$60,5,)))","v":0},null,{"$f":"INDEX(Planning!$33:$33,MATCH('Solde d''heure collaborateur'!$A68,Planning!$3:$3))","v":"X"},{"$f":"VLOOKUP(DO68,Horaires!$A$3:$E$49,2,)","v":"XXX"},{"$f":"IF(DP68=\"vacances\",INDEX(Horaires!$H$3:$L$42,MATCH('Solde d''heure collaborateur'!DP$2,Horaires!$H$3:$H$40,0),4),IF(DP68=\"maladie\",INDEX(Horaires!$H$3:$L$42,MATCH('Solde d''heure collaborateur'!DP$2,Horaires!$H$3:$H$40,0),5),VLOOKUP(DO68,Horaires!$A$3:$E$60,5,)))","v":0},null,{"$f":"INDEX(Planning!$34:$34,MATCH('Solde d''heure collaborateur'!$A68,Planning!$3:$3))","v":"X"},{"$f":"VLOOKUP(DS68,Horaires!$A$3:$E$49,2,)","v":"XXX"},{"$f":"IF(DT68=\"vacances\",INDEX(Horaires!$H$3:$L$42,MATCH('Solde d''heure collaborateur'!DT$2,Horaires!$H$3:$H$40,0),4),IF(DT68=\"maladie\",INDEX(Horaires!$H$3:$L$42,MATCH('Solde d''heure collaborateur'!DT$2,Horaires!$H$3:$H$40,0),5),VLOOKUP(DS68,Horaires!$A$3:$E$60,5,)))","v":0},null,{"$f":"INDEX(Planning!$35:$35,MATCH('Solde d''heure collaborateur'!$A68,Planning!$3:$3))","v":"X"},{"$f":"VLOOKUP(DW68,Horaires!$A$3:$E$49,2,)","v":"XXX"},{"$f":"IF(DX68=\"vacances\",INDEX(Horaires!$H$3:$L$42,MATCH('Solde d''heure collaborateur'!DX$2,Horaires!$H$3:$H$40,0),4),IF(DX68=\"maladie\",INDEX(Horaires!$H$3:$L$42,MATCH('Solde d''heure collaborateur'!DX$2,Horaires!$H$3:$H$40,0),5),VLOOKUP(DW68,Horaires!$A$3:$E$60,5,)))","v":0}]
[{"$f":"A68+1","v":"2013-12-31"},null,{"$f":"INDEX(Planning!$4:$4,MATCH('Solde d''heure collaborateur'!A69,Planning!$3:$3,0))","v":"Nav1"},{"$f":"VLOOKUP(C69,Horaires!$A$3:$E$49,2,)","v":"Navigation"},{"$f":"IF(D69=\"vacances\",INDEX(Horaires!$H$3:$L$42,MATCH('Solde d''heure collaborateur'!D$2,Horaires!$H$3:$H$40,0),4),IF(D69=\"maladie\",INDEX(Horaires!$H$3:$L$42,MATCH('Solde d''heure collaborateur'!D$2,Horaires!$H$3:$H$40,0),5),VLOOKUP(C69,Horaires!$A$3:$E$60,5,)))","v":0.44791666666666669},null,{"$f":"INDEX(Planning!$5:$5,MATCH('Solde d''heure collaborateur'!A69,Planning!$3:$3))","v":"Pom1"},{"$f":"VLOOKUP(G69,Horaires!$A$3:$E$49,2,)","v":"Pommier"},{"$f":"IF(H69=\"vacances\",INDEX(Horaires!$H$3:$L$42,MATCH('Solde d''heure collaborateur'!H$2,Horaires!$H$3:$H$40,0),4),IF(H69=\"maladie\",INDEX(Horaires!$H$3:$L$42,MATCH('Solde d''heure collaborateur'!H$2,Horaires!$H$3:$H$40,0),5),VLOOKUP(G69,Horaires!$A$3:$E$60,5,)))","v":0.44791666666666669},null,{"$f":"INDEX(Planning!$6:$6,MATCH('Solde d''heure collaborateur'!A69,Planning!$3:$3))","v":"M"},{"$f":"VLOOKUP(K69,Horaires!$A$3:$E$49,2,)","v":"Maladie"},{"$f":"IF(L69=\"vacances\",INDEX(Horaires!$H$3:$L$42,MATCH('Solde d''heure collaborateur'!L$2,Horaires!$H$3:$H$40,0),4),IF(L69=\"maladie\",INDEX(Horaires!$H$3:$L$42,MATCH('Solde d''heure collaborateur'!L$2,Horaires!$H$3:$H$40,0),5),VLOOKUP(K69,Horaires!$A$3:$E$60,5,)))","v":0.4375},null,{"$f":"INDEX(Planning!$7:$7,MATCH('Solde d''heure collaborateur'!$A69,Planning!$3:$3))","v":"Vib1"},{"$f":"VLOOKUP(O69,Horaires!$A$3:$E$49,2,)","v":"Vibert"},{"$f":"IF(P69=\"vacances\",INDEX(Horaires!$H$3:$L$42,MATCH('Solde d''heure collaborateur'!P$2,Horaires!$H$3:$H$40,0),4),IF(P69=\"maladie\",INDEX(Horaires!$H$3:$L$42,MATCH('Solde d''heure collaborateur'!P$2,Horaires!$H$3:$H$40,0),5),VLOOKUP(O69,Horaires!$A$3:$E$60,5,)))","v":0.46875000000000006},null,{"$f":"INDEX(Planning!$8:$8,MATCH('Solde d''heure collaborateur'!$A69,Planning!$3:$3))","v":"Onex1"},{"$f":"VLOOKUP(S69,Horaires!$A$3:$E$49,2,)","v":"Onex"},{"$f":"IF(T69=\"vacances\",INDEX(Horaires!$H$3:$L$42,MATCH('Solde d''heure collaborateur'!T$2,Horaires!$H$3:$H$40,0),4),IF(T69=\"maladie\",INDEX(Horaires!$H$3:$L$42,MATCH('Solde d''heure collaborateur'!T$2,Horaires!$H$3:$H$40,0),5),VLOOKUP(S69,Horaires!$A$3:$E$60,5,)))","v":0.46875000000000006},null,{"$f":"INDEX(Planning!$9:$9,MATCH('Solde d''heure collaborateur'!$A69,Planning!$3:$3))","v":"Onex1"},{"$f":"VLOOKUP(W69,Horaires!$A$3:$E$49,2,)","v":"Onex"},{"$f":"IF(X69=\"vacances\",INDEX(Horaires!$H$3:$L$42,MATCH('Solde d''heure collaborateur'!X$2,Horaires!$H$3:$H$40,0),4),IF(X69=\"maladie\",INDEX(Horaires!$H$3:$L$42,MATCH('Solde d''heure collaborateur'!X$2,Horaires!$H$3:$H$40,0),5),VLOOKUP(W69,Horaires!$A$3:$E$60,5,)))","v":0.46875000000000006},null,{"$f":"INDEX(Planning!$10:$10,MATCH('Solde d''heure collaborateur'!$A69,Planning!$3:$3))","v":"Tour1"},{"$f":"VLOOKUP(AA69,Horaires!$A$3:$E$49,2,)","v":"Tourelle"},{"$f":"IF(AB69=\"vacances\",INDEX(Horaires!$H$3:$L$42,MATCH('Solde d''heure collaborateur'!AB$2,Horaires!$H$3:$H$40,0),4),IF(AB69=\"maladie\",INDEX(Horaires!$H$3:$L$42,MATCH('Solde d''heure collaborateur'!AB$2,Horaires!$H$3:$H$40,0),5),VLOOKUP(AA69,Horaires!$A$3:$E$60,5,)))","v":0.46875000000000006},null,{"$f":"INDEX(Planning!$11:$11,MATCH('Solde d''heure collaborateur'!$A69,Planning!$3:$3))","v":"Plo1"},{"$f":"VLOOKUP(AE69,Horaires!$A$3:$E$49,2,)","v":"Plan les Ouates"},{"$f":"IF(AF69=\"vacances\",INDEX(Horaires!$H$3:$L$42,MATCH('Solde d''heure collaborateur'!AF$2,Horaires!$H$3:$H$40,0),4),IF(AF69=\"maladie\",INDEX(Horaires!$H$3:$L$42,MATCH('Solde d''heure collaborateur'!AF$2,Horaires!$H$3:$H$40,0),5),VLOOKUP(AE69,Horaires!$A$3:$E$60,5,)))","v":0.46875000000000006},null,{"$f":"INDEX(Planning!$12:$12,MATCH('Solde d''heure collaborateur'!$A69,Planning!$3:$3))","v":"Thon1"},{"$f":"VLOOKUP(AI69,Horaires!$A$3:$E$49,2,)","v":"Thonex"},{"$f":"IF(AJ69=\"vacances\",INDEX(Horaires!$H$3:$L$42,MATCH('Solde d''heure collaborateur'!AJ$2,Horaires!$H$3:$H$40,0),4),IF(AJ69=\"maladie\",INDEX(Horaires!$H$3:$L$42,MATCH('Solde d''heure collaborateur'!AJ$2,Horaires!$H$3:$H$40,0),5),VLOOKUP(AI69,Horaires!$A$3:$E$60,5,)))","v":0.44791666666666669},null,{"$f":"INDEX(Planning!$13:$13,MATCH('Solde d''heure collaborateur'!$A69,Planning!$3:$3))","v":"Pom1"},{"$f":"VLOOKUP(AM69,Horaires!$A$3:$E$49,2,)","v":"Pommier"},{"$f":"IF(AN69=\"vacances\",INDEX(Horaires!$H$3:$L$42,MATCH('Solde d''heure collaborateur'!AN$2,Horaires!$H$3:$H$40,0),4),IF(AN69=\"maladie\",INDEX(Horaires!$H$3:$L$42,MATCH('Solde d''heure collaborateur'!AN$2,Horaires!$H$3:$H$40,0),5),VLOOKUP(AM69,Horaires!$A$3:$E$60,5,)))","v":0.44791666666666669},null,{"$f":"INDEX(Planning!$14:$14,MATCH('Solde d''heure collaborateur'!$A69,Planning!$3:$3))","v":"X"},{"$f":"VLOOKUP(AQ69,Horaires!$A$3:$E$49,2,)","v":"XXX"},{"$f":"IF(AR69=\"vacances\",INDEX(Horaires!$H$3:$L$42,MATCH('Solde d''heure collaborateur'!AR$2,Horaires!$H$3:$H$40,0),4),IF(AR69=\"maladie\",INDEX(Horaires!$H$3:$L$42,MATCH('Solde d''heure collaborateur'!AR$2,Horaires!$H$3:$H$40,0),5),VLOOKUP(AQ69,Horaires!$A$3:$E$60,5,)))","v":0},null,{"$f":"INDEX(Planning!$15:$15,MATCH('Solde d''heure collaborateur'!$A69,Planning!$3:$3))","v":"Nyon1"},{"$f":"VLOOKUP(AU69,Horaires!$A$3:$E$49,2,)","v":"Nyon"},{"$f":"IF(AV69=\"vacances\",INDEX(Horaires!$H$3:$L$42,MATCH('Solde d''heure collaborateur'!AV$2,Horaires!$H$3:$H$40,0),4),IF(AV69=\"maladie\",INDEX(Horaires!$H$3:$L$42,MATCH('Solde d''heure collaborateur'!AV$2,Horaires!$H$3:$H$40,0),5),VLOOKUP(AU69,Horaires!$A$3:$E$60,5,)))","v":0.44791666666666669},null,{"$f":"INDEX(Planning!$16:$16,MATCH('Solde d''heure collaborateur'!$A69,Planning!$3:$3))","v":"Nyon1"},{"$f":"VLOOKUP(AY69,Horaires!$A$3:$E$49,2,)","v":"Nyon"},{"$f":"IF(AZ69=\"vacances\",INDEX(Horaires!$H$3:$L$42,MATCH('Solde d''heure collaborateur'!AZ$2,Horaires!$H$3:$H$40,0),4),IF(AZ69=\"maladie\",INDEX(Horaires!$H$3:$L$42,MATCH('Solde d''heure collaborateur'!AZ$2,Horaires!$H$3:$H$40,0),5),VLOOKUP(AY69,Horaires!$A$3:$E$60,5,)))","v":0.44791666666666669},null,{"$f":"INDEX(Planning!$17:$17,MATCH('Solde d''heure collaborateur'!$A69,Planning!$3:$3))","v":"nav1"},{"$f":"VLOOKUP(BC69,Horaires!$A$3:$E$49,2,)","v":"Navigation"},{"$f":"IF(BD69=\"vacances\",INDEX(Horaires!$H$3:$L$42,MATCH('Solde d''heure collaborateur'!BD$2,Horaires!$H$3:$H$40,0),4),IF(BD69=\"maladie\",INDEX(Horaires!$H$3:$L$42,MATCH('Solde d''heure collaborateur'!BD$2,Horaires!$H$3:$H$40,0),5),VLOOKUP(BC69,Horaires!$A$3:$E$60,5,)))","v":0.44791666666666669},null,{"$f":"INDEX(Planning!$18:$18,MATCH('Solde d''heure collaborateur'!$A69,Planning!$3:$3))","v":"Vib1"},{"$f":"VLOOKUP(BG69,Horaires!$A$3:$E$49,2,)","v":"Vibert"},{"$f":"IF(BH69=\"vacances\",INDEX(Horaires!$H$3:$L$42,MATCH('Solde d''heure collaborateur'!BH$2,Horaires!$H$3:$H$40,0),4),IF(BH69=\"maladie\",INDEX(Horaires!$H$3:$L$42,MATCH('Solde d''heure collaborateur'!BH$2,Horaires!$H$3:$H$40,0),5),VLOOKUP(BG69,Horaires!$A$3:$E$60,5,)))","v":0.46875000000000006},null,{"$f":"INDEX(Planning!$19:$19,MATCH('Solde d''heure collaborateur'!$A69,Planning!$3:$3))","v":"Vib1"},{"$f":"VLOOKUP(BK69,Horaires!$A$3:$E$49,2,)","v":"Vibert"},{"$f":"IF(BL69=\"vacances\",INDEX(Horaires!$H$3:$L$42,MATCH('Solde d''heure collaborateur'!BL$2,Horaires!$H$3:$H$40,0),4),IF(BL69=\"maladie\",INDEX(Horaires!$H$3:$L$42,MATCH('Solde d''heure collaborateur'!BL$2,Horaires!$H$3:$H$40,0),5),VLOOKUP(BK69,Horaires!$A$3:$E$60,5,)))","v":0.46875000000000006},null,{"$f":"INDEX(Planning!$20:$20,MATCH('Solde d''heure collaborateur'!$A69,Planning!$3:$3))","v":"Aca1"},{"$f":"VLOOKUP(BO69,Horaires!$A$3:$E$49,2,)","v":"Acacias"},{"$f":"IF(BP69=\"vacances\",INDEX(Horaires!$H$3:$L$42,MATCH('Solde d''heure collaborateur'!BP$2,Horaires!$H$3:$H$40,0),4),IF(BP69=\"maladie\",INDEX(Horaires!$H$3:$L$42,MATCH('Solde d''heure collaborateur'!BP$2,Horaires!$H$3:$H$40,0),5),VLOOKUP(BO69,Horaires!$A$3:$E$60,5,)))","v":0.44791666666666669},null,{"$f":"INDEX(Planning!$21:$21,MATCH('Solde d''heure collaborateur'!$A69,Planning!$3:$3))","v":"R"},{"$f":"VLOOKUP(BS69,Horaires!$A$3:$E$49,2,)","v":"Congé"},{"$f":"IF(BT69=\"vacances\",INDEX(Horaires!$H$3:$L$42,MATCH('Solde d''heure collaborateur'!BT$2,Horaires!$H$3:$H$40,0),4),IF(BT69=\"maladie\",INDEX(Horaires!$H$3:$L$42,MATCH('Solde d''heure collaborateur'!BT$2,Horaires!$H$3:$H$40,0),5),VLOOKUP(BS69,Horaires!$A$3:$E$60,5,)))","v":0},null,{"$f":"INDEX(Planning!$22:$22,MATCH('Solde d''heure collaborateur'!$A69,Planning!$3:$3))","v":"Ves1"},{"$f":"VLOOKUP(BW69,Horaires!$A$3:$E$49,2,)","v":"Vesenaz"},{"$f":"IF(BX69=\"vacances\",INDEX(Horaires!$H$3:$L$42,MATCH('Solde d''heure collaborateur'!BX$2,Horaires!$H$3:$H$40,0),4),IF(BX69=\"maladie\",INDEX(Horaires!$H$3:$L$42,MATCH('Solde d''heure collaborateur'!BX$2,Horaires!$H$3:$H$40,0),5),VLOOKUP(BW69,Horaires!$A$3:$E$60,5,)))","v":0.44791666666666669},null,{"$f":"INDEX(Planning!$23:$23,MATCH('Solde d''heure collaborateur'!$A69,Planning!$3:$3))","v":"Plo1"},{"$f":"VLOOKUP(CA69,Horaires!$A$3:$E$49,2,)","v":"Plan les Ouates"},{"$f":"IF(CB69=\"vacances\",INDEX(Horaires!$H$3:$L$42,MATCH('Solde d''heure collaborateur'!CB$2,Horaires!$H$3:$H$40,0),4),IF(CB69=\"maladie\",INDEX(Horaires!$H$3:$L$42,MATCH('Solde d''heure collaborateur'!CB$2,Horaires!$H$3:$H$40,0),5),VLOOKUP(CA69,Horaires!$A$3:$E$60,5,)))","v":0.46875000000000006},null,{"$f":"INDEX(Planning!$24:$24,MATCH('Solde d''heure collaborateur'!$A69,Planning!$3:$3))","v":"Onex1"},{"$f":"VLOOKUP(CE69,Horaires!$A$3:$E$49,2,)","v":"Onex"},{"$f":"IF(CF69=\"vacances\",INDEX(Horaires!$H$3:$L$42,MATCH('Solde d''heure collaborateur'!CF$2,Horaires!$H$3:$H$40,0),4),IF(CF69=\"maladie\",INDEX(Horaires!$H$3:$L$42,MATCH('Solde d''heure collaborateur'!CF$2,Horaires!$H$3:$H$40,0),5),VLOOKUP(CE69,Horaires!$A$3:$E$60,5,)))","v":0.46875000000000006},null,{"$f":"INDEX(Planning!$25:$25,MATCH('Solde d''heure collaborateur'!$A69,Planning!$3:$3))","v":"X"},{"$f":"VLOOKUP(CI69,Horaires!$A$3:$E$49,2,)","v":"XXX"},{"$f":"IF(CJ69=\"vacances\",INDEX(Horaires!$H$3:$L$42,MATCH('Solde d''heure collaborateur'!CJ$2,Horaires!$H$3:$H$40,0),4),IF(CJ69=\"maladie\",INDEX(Horaires!$H$3:$L$42,MATCH('Solde d''heure collaborateur'!CJ$2,Horaires!$H$3:$H$40,0),5),VLOOKUP(CI69,Horaires!$A$3:$E$60,5,)))","v":0},null,{"$f":"INDEX(Planning!$26:$26,MATCH('Solde d''heure collaborateur'!$A69,Planning!$3:$3))","v":"Vid1"},{"$f":"VLOOKUP(CM69,Horaires!$A$3:$E$49,2,)","v":"Vidollet"},{"$f":"IF(CN69=\"vacances\",INDEX(Horaires!$H$3:$L$42,MATCH('Solde d''heure collaborateur'!CN$2,Horaires!$H$3:$H$40,0),4),IF(CN69=\"maladie\",INDEX(Horaires!$H$3:$L$42,MATCH('Solde d''heure collaborateur'!CN$2,Horaires!$H$3:$H$40,0),5),VLOOKUP(CM69,Horaires!$A$3:$E$60,5,)))","v":0.44791666666666669},null,{"$f":"INDEX(Planning!$27:$27,MATCH('Solde d''heure collaborateur'!$A69,Planning!$3:$3))","v":"Thon1"},{"$f":"VLOOKUP(CQ69,Horaires!$A$3:$E$49,2,)","v":"Thonex"},{"$f":"IF(CR69=\"vacances\",INDEX(Horaires!$H$3:$L$42,MATCH('Solde d''heure collaborateur'!CR$2,Horaires!$H$3:$H$40,0),4),IF(CR69=\"maladie\",INDEX(Horaires!$H$3:$L$42,MATCH('Solde d''heure collaborateur'!CR$2,Horaires!$H$3:$H$40,0),5),VLOOKUP(CQ69,Horaires!$A$3:$E$60,5,)))","v":0.44791666666666669},null,{"$f":"INDEX(Planning!$28:$28,MATCH('Solde d''heure collaborateur'!$A69,Planning!$3:$3))","v":"Tour1"},{"$f":"VLOOKUP(CU69,Horaires!$A$3:$E$49,2,)","v":"Tourelle"},{"$f":"IF(CV69=\"vacances\",INDEX(Horaires!$H$3:$L$42,MATCH('Solde d''heure collaborateur'!CV$2,Horaires!$H$3:$H$40,0),4),IF(CV69=\"maladie\",INDEX(Horaires!$H$3:$L$42,MATCH('Solde d''heure collaborateur'!CV$2,Horaires!$H$3:$H$40,0),5),VLOOKUP(CU69,Horaires!$A$3:$E$60,5,)))","v":0.46875000000000006},null,{"$f":"INDEX(Planning!$29:$29,MATCH('Solde d''heure collaborateur'!$A69,Planning!$3:$3))","v":"ves1"},{"$f":"VLOOKUP(CY69,Horaires!$A$3:$E$49,2,)","v":"Vesenaz"},{"$f":"IF(CZ69=\"vacances\",INDEX(Horaires!$H$3:$L$42,MATCH('Solde d''heure collaborateur'!CZ$2,Horaires!$H$3:$H$40,0),4),IF(CZ69=\"maladie\",INDEX(Horaires!$H$3:$L$42,MATCH('Solde d''heure collaborateur'!CZ$2,Horaires!$H$3:$H$40,0),5),VLOOKUP(CY69,Horaires!$A$3:$E$60,5,)))","v":0.44791666666666669},null,{"$f":"INDEX(Planning!$30:$30,MATCH('Solde d''heure collaborateur'!$A69,Planning!$3:$3))","v":"X"},{"$f":"VLOOKUP(DC69,Horaires!$A$3:$E$49,2,)","v":"XXX"},{"$f":"IF(DD69=\"vacances\",INDEX(Horaires!$H$3:$L$42,MATCH('Solde d''heure collaborateur'!DD$2,Horaires!$H$3:$H$40,0),4),IF(DD69=\"maladie\",INDEX(Horaires!$H$3:$L$42,MATCH('Solde d''heure collaborateur'!DD$2,Horaires!$H$3:$H$40,0),5),VLOOKUP(DC69,Horaires!$A$3:$E$60,5,)))","v":0},null,{"$f":"INDEX(Planning!$31:$31,MATCH('Solde d''heure collaborateur'!$A69,Planning!$3:$3))","v":"X"},{"$f":"VLOOKUP(DG69,Horaires!$A$3:$E$49,2,)","v":"XXX"},{"$f":"IF(DH69=\"vacances\",INDEX(Horaires!$H$3:$L$42,MATCH('Solde d''heure collaborateur'!DH$2,Horaires!$H$3:$H$40,0),4),IF(DH69=\"maladie\",INDEX(Horaires!$H$3:$L$42,MATCH('Solde d''heure collaborateur'!DH$2,Horaires!$H$3:$H$40,0),5),VLOOKUP(DG69,Horaires!$A$3:$E$60,5,)))","v":0},null,{"$f":"INDEX(Planning!$32:$32,MATCH('Solde d''heure collaborateur'!$A69,Planning!$3:$3))","v":"X"},{"$f":"VLOOKUP(DK69,Horaires!$A$3:$E$49,2,)","v":"XXX"},{"$f":"IF(DL69=\"vacances\",INDEX(Horaires!$H$3:$L$42,MATCH('Solde d''heure collaborateur'!DL$2,Horaires!$H$3:$H$40,0),4),IF(DL69=\"maladie\",INDEX(Horaires!$H$3:$L$42,MATCH('Solde d''heure collaborateur'!DL$2,Horaires!$H$3:$H$40,0),5),VLOOKUP(DK69,Horaires!$A$3:$E$60,5,)))","v":0},null,{"$f":"INDEX(Planning!$33:$33,MATCH('Solde d''heure collaborateur'!$A69,Planning!$3:$3))","v":"X"},{"$f":"VLOOKUP(DO69,Horaires!$A$3:$E$49,2,)","v":"XXX"},{"$f":"IF(DP69=\"vacances\",INDEX(Horaires!$H$3:$L$42,MATCH('Solde d''heure collaborateur'!DP$2,Horaires!$H$3:$H$40,0),4),IF(DP69=\"maladie\",INDEX(Horaires!$H$3:$L$42,MATCH('Solde d''heure collaborateur'!DP$2,Horaires!$H$3:$H$40,0),5),VLOOKUP(DO69,Horaires!$A$3:$E$60,5,)))","v":0},null,{"$f":"INDEX(Planning!$34:$34,MATCH('Solde d''heure collaborateur'!$A69,Planning!$3:$3))","v":"X"},{"$f":"VLOOKUP(DS69,Horaires!$A$3:$E$49,2,)","v":"XXX"},{"$f":"IF(DT69=\"vacances\",INDEX(Horaires!$H$3:$L$42,MATCH('Solde d''heure collaborateur'!DT$2,Horaires!$H$3:$H$40,0),4),IF(DT69=\"maladie\",INDEX(Horaires!$H$3:$L$42,MATCH('Solde d''heure collaborateur'!DT$2,Horaires!$H$3:$H$40,0),5),VLOOKUP(DS69,Horaires!$A$3:$E$60,5,)))","v":0},null,{"$f":"INDEX(Planning!$35:$35,MATCH('Solde d''heure collaborateur'!$A69,Planning!$3:$3))","v":"X"},{"$f":"VLOOKUP(DW69,Horaires!$A$3:$E$49,2,)","v":"XXX"},{"$f":"IF(DX69=\"vacances\",INDEX(Horaires!$H$3:$L$42,MATCH('Solde d''heure collaborateur'!DX$2,Horaires!$H$3:$H$40,0),4),IF(DX69=\"maladie\",INDEX(Horaires!$H$3:$L$42,MATCH('Solde d''heure collaborateur'!DX$2,Horaires!$H$3:$H$40,0),5),VLOOKUP(DW69,Horaires!$A$3:$E$60,5,)))","v":0}]
[{"$f":"A69+1","v":"2014-01-01"},null,{"$f":"INDEX(Planning!$4:$4,MATCH('Solde d''heure collaborateur'!A70,Planning!$3:$3,0))","v":"F"},{"$f":"VLOOKUP(C70,Horaires!$A$3:$E$49,2,)","v":"Férié"},{"$f":"IF(D70=\"vacances\",INDEX(Horaires!$H$3:$L$42,MATCH('Solde d''heure collaborateur'!D$2,Horaires!$H$3:$H$40,0),4),IF(D70=\"maladie\",INDEX(Horaires!$H$3:$L$42,MATCH('Solde d''heure collaborateur'!D$2,Horaires!$H$3:$H$40,0),5),VLOOKUP(C70,Horaires!$A$3:$E$60,5,)))","v":0.35000000000000003},null,{"$f":"INDEX(Planning!$5:$5,MATCH('Solde d''heure collaborateur'!A70,Planning!$3:$3))","v":"F"},{"$f":"VLOOKUP(G70,Horaires!$A$3:$E$49,2,)","v":"Férié"},{"$f":"IF(H70=\"vacances\",INDEX(Horaires!$H$3:$L$42,MATCH('Solde d''heure collaborateur'!H$2,Horaires!$H$3:$H$40,0),4),IF(H70=\"maladie\",INDEX(Horaires!$H$3:$L$42,MATCH('Solde d''heure collaborateur'!H$2,Horaires!$H$3:$H$40,0),5),VLOOKUP(G70,Horaires!$A$3:$E$60,5,)))","v":0.35000000000000003},null,{"$f":"INDEX(Planning!$6:$6,MATCH('Solde d''heure collaborateur'!A70,Planning!$3:$3))","v":"M"},{"$f":"VLOOKUP(K70,Horaires!$A$3:$E$49,2,)","v":"Maladie"},{"$f":"IF(L70=\"vacances\",INDEX(Horaires!$H$3:$L$42,MATCH('Solde d''heure collaborateur'!L$2,Horaires!$H$3:$H$40,0),4),IF(L70=\"maladie\",INDEX(Horaires!$H$3:$L$42,MATCH('Solde d''heure collaborateur'!L$2,Horaires!$H$3:$H$40,0),5),VLOOKUP(K70,Horaires!$A$3:$E$60,5,)))","v":0.4375},null,{"$f":"INDEX(Planning!$7:$7,MATCH('Solde d''heure collaborateur'!$A70,Planning!$3:$3))","v":"X"},{"$f":"VLOOKUP(O70,Horaires!$A$3:$E$49,2,)","v":"XXX"},{"$f":"IF(P70=\"vacances\",INDEX(Horaires!$H$3:$L$42,MATCH('Solde d''heure collaborateur'!P$2,Horaires!$H$3:$H$40,0),4),IF(P70=\"maladie\",INDEX(Horaires!$H$3:$L$42,MATCH('Solde d''heure collaborateur'!P$2,Horaires!$H$3:$H$40,0),5),VLOOKUP(O70,Horaires!$A$3:$E$60,5,)))","v":0},null,{"$f":"INDEX(Planning!$8:$8,MATCH('Solde d''heure collaborateur'!$A70,Planning!$3:$3))","v":"F"},{"$f":"VLOOKUP(S70,Horaires!$A$3:$E$49,2,)","v":"Férié"},{"$f":"IF(T70=\"vacances\",INDEX(Horaires!$H$3:$L$42,MATCH('Solde d''heure collaborateur'!T$2,Horaires!$H$3:$H$40,0),4),IF(T70=\"maladie\",INDEX(Horaires!$H$3:$L$42,MATCH('Solde d''heure collaborateur'!T$2,Horaires!$H$3:$H$40,0),5),VLOOKUP(S70,Horaires!$A$3:$E$60,5,)))","v":0.35000000000000003},null,{"$f":"INDEX(Planning!$9:$9,MATCH('Solde d''heure collaborateur'!$A70,Planning!$3:$3))","v":"F"},{"$f":"VLOOKUP(W70,Horaires!$A$3:$E$49,2,)","v":"Férié"},{"$f":"IF(X70=\"vacances\",INDEX(Horaires!$H$3:$L$42,MATCH('Solde d''heure collaborateur'!X$2,Horaires!$H$3:$H$40,0),4),IF(X70=\"maladie\",INDEX(Horaires!$H$3:$L$42,MATCH('Solde d''heure collaborateur'!X$2,Horaires!$H$3:$H$40,0),5),VLOOKUP(W70,Horaires!$A$3:$E$60,5,)))","v":0.35000000000000003},null,{"$f":"INDEX(Planning!$10:$10,MATCH('Solde d''heure collaborateur'!$A70,Planning!$3:$3))","v":"F"},{"$f":"VLOOKUP(AA70,Horaires!$A$3:$E$49,2,)","v":"Férié"},{"$f":"IF(AB70=\"vacances\",INDEX(Horaires!$H$3:$L$42,MATCH('Solde d''heure collaborateur'!AB$2,Horaires!$H$3:$H$40,0),4),IF(AB70=\"maladie\",INDEX(Horaires!$H$3:$L$42,MATCH('Solde d''heure collaborateur'!AB$2,Horaires!$H$3:$H$40,0),5),VLOOKUP(AA70,Horaires!$A$3:$E$60,5,)))","v":0.35000000000000003},null,{"$f":"INDEX(Planning!$11:$11,MATCH('Solde d''heure collaborateur'!$A70,Planning!$3:$3))","v":"F"},{"$f":"VLOOKUP(AE70,Horaires!$A$3:$E$49,2,)","v":"Férié"},{"$f":"IF(AF70=\"vacances\",INDEX(Horaires!$H$3:$L$42,MATCH('Solde d''heure collaborateur'!AF$2,Horaires!$H$3:$H$40,0),4),IF(AF70=\"maladie\",INDEX(Horaires!$H$3:$L$42,MATCH('Solde d''heure collaborateur'!AF$2,Horaires!$H$3:$H$40,0),5),VLOOKUP(AE70,Horaires!$A$3:$E$60,5,)))","v":0.35000000000000003},null,{"$f":"INDEX(Planning!$12:$12,MATCH('Solde d''heure collaborateur'!$A70,Planning!$3:$3))","v":"F"},{"$f":"VLOOKUP(AI70,Horaires!$A$3:$E$49,2,)","v":"Férié"},{"$f":"IF(AJ70=\"vacances\",INDEX(Horaires!$H$3:$L$42,MATCH('Solde d''heure collaborateur'!AJ$2,Horaires!$H$3:$H$40,0),4),IF(AJ70=\"maladie\",INDEX(Horaires!$H$3:$L$42,MATCH('Solde d''heure collaborateur'!AJ$2,Horaires!$H$3:$H$40,0),5),VLOOKUP(AI70,Horaires!$A$3:$E$60,5,)))","v":0.35000000000000003},null,{"$f":"INDEX(Planning!$13:$13,MATCH('Solde d''heure collaborateur'!$A70,Planning!$3:$3))","v":"F"},{"$f":"VLOOKUP(AM70,Horaires!$A$3:$E$49,2,)","v":"Férié"},{"$f":"IF(AN70=\"vacances\",INDEX(Horaires!$H$3:$L$42,MATCH('Solde d''heure collaborateur'!AN$2,Horaires!$H$3:$H$40,0),4),IF(AN70=\"maladie\",INDEX(Horaires!$H$3:$L$42,MATCH('Solde d''heure collaborateur'!AN$2,Horaires!$H$3:$H$40,0),5),VLOOKUP(AM70,Horaires!$A$3:$E$60,5,)))","v":0.35000000000000003},null,{"$f":"INDEX(Planning!$14:$14,MATCH('Solde d''heure collaborateur'!$A70,Planning!$3:$3))","v":"X"},{"$f":"VLOOKUP(AQ70,Horaires!$A$3:$E$49,2,)","v":"XXX"},{"$f":"IF(AR70=\"vacances\",INDEX(Horaires!$H$3:$L$42,MATCH('Solde d''heure collaborateur'!AR$2,Horaires!$H$3:$H$40,0),4),IF(AR70=\"maladie\",INDEX(Horaires!$H$3:$L$42,MATCH('Solde d''heure collaborateur'!AR$2,Horaires!$H$3:$H$40,0),5),VLOOKUP(AQ70,Horaires!$A$3:$E$60,5,)))","v":0},null,{"$f":"INDEX(Planning!$15:$15,MATCH('Solde d''heure collaborateur'!$A70,Planning!$3:$3))","v":"F"},{"$f":"VLOOKUP(AU70,Horaires!$A$3:$E$49,2,)","v":"Férié"},{"$f":"IF(AV70=\"vacances\",INDEX(Horaires!$H$3:$L$42,MATCH('Solde d''heure collaborateur'!AV$2,Horaires!$H$3:$H$40,0),4),IF(AV70=\"maladie\",INDEX(Horaires!$H$3:$L$42,MATCH('Solde d''heure collaborateur'!AV$2,Horaires!$H$3:$H$40,0),5),VLOOKUP(AU70,Horaires!$A$3:$E$60,5,)))","v":0.35000000000000003},null,{"$f":"INDEX(Planning!$16:$16,MATCH('Solde d''heure collaborateur'!$A70,Planning!$3:$3))","v":"F"},{"$f":"VLOOKUP(AY70,Horaires!$A$3:$E$49,2,)","v":"Férié"},{"$f":"IF(AZ70=\"vacances\",INDEX(Horaires!$H$3:$L$42,MATCH('Solde d''heure collaborateur'!AZ$2,Horaires!$H$3:$H$40,0),4),IF(AZ70=\"maladie\",INDEX(Horaires!$H$3:$L$42,MATCH('Solde d''heure collaborateur'!AZ$2,Horaires!$H$3:$H$40,0),5),VLOOKUP(AY70,Horaires!$A$3:$E$60,5,)))","v":0.35000000000000003},null,{"$f":"INDEX(Planning!$17:$17,MATCH('Solde d''heure collaborateur'!$A70,Planning!$3:$3))","v":"F"},{"$f":"VLOOKUP(BC70,Horaires!$A$3:$E$49,2,)","v":"Férié"},{"$f":"IF(BD70=\"vacances\",INDEX(Horaires!$H$3:$L$42,MATCH('Solde d''heure collaborateur'!BD$2,Horaires!$H$3:$H$40,0),4),IF(BD70=\"maladie\",INDEX(Horaires!$H$3:$L$42,MATCH('Solde d''heure collaborateur'!BD$2,Horaires!$H$3:$H$40,0),5),VLOOKUP(BC70,Horaires!$A$3:$E$60,5,)))","v":0.35000000000000003},null,{"$f":"INDEX(Planning!$18:$18,MATCH('Solde d''heure collaborateur'!$A70,Planning!$3:$3))","v":"F"},{"$f":"VLOOKUP(BG70,Horaires!$A$3:$E$49,2,)","v":"Férié"},{"$f":"IF(BH70=\"vacances\",INDEX(Horaires!$H$3:$L$42,MATCH('Solde d''heure collaborateur'!BH$2,Horaires!$H$3:$H$40,0),4),IF(BH70=\"maladie\",INDEX(Horaires!$H$3:$L$42,MATCH('Solde d''heure collaborateur'!BH$2,Horaires!$H$3:$H$40,0),5),VLOOKUP(BG70,Horaires!$A$3:$E$60,5,)))","v":0.35000000000000003},null,{"$f":"INDEX(Planning!$19:$19,MATCH('Solde d''heure collaborateur'!$A70,Planning!$3:$3))","v":"F"},{"$f":"VLOOKUP(BK70,Horaires!$A$3:$E$49,2,)","v":"Férié"},{"$f":"IF(BL70=\"vacances\",INDEX(Horaires!$H$3:$L$42,MATCH('Solde d''heure collaborateur'!BL$2,Horaires!$H$3:$H$40,0),4),IF(BL70=\"maladie\",INDEX(Horaires!$H$3:$L$42,MATCH('Solde d''heure collaborateur'!BL$2,Horaires!$H$3:$H$40,0),5),VLOOKUP(BK70,Horaires!$A$3:$E$60,5,)))","v":0.35000000000000003},null,{"$f":"INDEX(Planning!$20:$20,MATCH('Solde d''heure collaborateur'!$A70,Planning!$3:$3))","v":"F"},{"$f":"VLOOKUP(BO70,Horaires!$A$3:$E$49,2,)","v":"Férié"},{"$f":"IF(BP70=\"vacances\",INDEX(Horaires!$H$3:$L$42,MATCH('Solde d''heure collaborateur'!BP$2,Horaires!$H$3:$H$40,0),4),IF(BP70=\"maladie\",INDEX(Horaires!$H$3:$L$42,MATCH('Solde d''heure collaborateur'!BP$2,Horaires!$H$3:$H$40,0),5),VLOOKUP(BO70,Horaires!$A$3:$E$60,5,)))","v":0.35000000000000003},null,{"$f":"INDEX(Planning!$21:$21,MATCH('Solde d''heure collaborateur'!$A70,Planning!$3:$3))","v":"F"},{"$f":"VLOOKUP(BS70,Horaires!$A$3:$E$49,2,)","v":"Férié"},{"$f":"IF(BT70=\"vacances\",INDEX(Horaires!$H$3:$L$42,MATCH('Solde d''heure collaborateur'!BT$2,Horaires!$H$3:$H$40,0),4),IF(BT70=\"maladie\",INDEX(Horaires!$H$3:$L$42,MATCH('Solde d''heure collaborateur'!BT$2,Horaires!$H$3:$H$40,0),5),VLOOKUP(BS70,Horaires!$A$3:$E$60,5,)))","v":0.35000000000000003},null,{"$f":"INDEX(Planning!$22:$22,MATCH('Solde d''heure collaborateur'!$A70,Planning!$3:$3))","v":"X"},{"$f":"VLOOKUP(BW70,Horaires!$A$3:$E$49,2,)","v":"XXX"},{"$f":"IF(BX70=\"vacances\",INDEX(Horaires!$H$3:$L$42,MATCH('Solde d''heure collaborateur'!BX$2,Horaires!$H$3:$H$40,0),4),IF(BX70=\"maladie\",INDEX(Horaires!$H$3:$L$42,MATCH('Solde d''heure collaborateur'!BX$2,Horaires!$H$3:$H$40,0),5),VLOOKUP(BW70,Horaires!$A$3:$E$60,5,)))","v":0},null,{"$f":"INDEX(Planning!$23:$23,MATCH('Solde d''heure collaborateur'!$A70,Planning!$3:$3))","v":"F"},{"$f":"VLOOKUP(CA70,Horaires!$A$3:$E$49,2,)","v":"Férié"},{"$f":"IF(CB70=\"vacances\",INDEX(Horaires!$H$3:$L$42,MATCH('Solde d''heure collaborateur'!CB$2,Horaires!$H$3:$H$40,0),4),IF(CB70=\"maladie\",INDEX(Horaires!$H$3:$L$42,MATCH('Solde d''heure collaborateur'!CB$2,Horaires!$H$3:$H$40,0),5),VLOOKUP(CA70,Horaires!$A$3:$E$60,5,)))","v":0.35000000000000003},null,{"$f":"INDEX(Planning!$24:$24,MATCH('Solde d''heure collaborateur'!$A70,Planning!$3:$3))","v":"F"},{"$f":"VLOOKUP(CE70,Horaires!$A$3:$E$49,2,)","v":"Férié"},{"$f":"IF(CF70=\"vacances\",INDEX(Horaires!$H$3:$L$42,MATCH('Solde d''heure collaborateur'!CF$2,Horaires!$H$3:$H$40,0),4),IF(CF70=\"maladie\",INDEX(Horaires!$H$3:$L$42,MATCH('Solde d''heure collaborateur'!CF$2,Horaires!$H$3:$H$40,0),5),VLOOKUP(CE70,Horaires!$A$3:$E$60,5,)))","v":0.35000000000000003},null,{"$f":"INDEX(Planning!$25:$25,MATCH('Solde d''heure collaborateur'!$A70,Planning!$3:$3))","v":"X"},{"$f":"VLOOKUP(CI70,Horaires!$A$3:$E$49,2,)","v":"XXX"},{"$f":"IF(CJ70=\"vacances\",INDEX(Horaires!$H$3:$L$42,MATCH('Solde d''heure collaborateur'!CJ$2,Horaires!$H$3:$H$40,0),4),IF(CJ70=\"maladie\",INDEX(Horaires!$H$3:$L$42,MATCH('Solde d''heure collaborateur'!CJ$2,Horaires!$H$3:$H$40,0),5),VLOOKUP(CI70,Horaires!$A$3:$E$60,5,)))","v":0},null,{"$f":"INDEX(Planning!$26:$26,MATCH('Solde d''heure collaborateur'!$A70,Planning!$3:$3))","v":"F"},{"$f":"VLOOKUP(CM70,Horaires!$A$3:$E$49,2,)","v":"Férié"},{"$f":"IF(CN70=\"vacances\",INDEX(Horaires!$H$3:$L$42,MATCH('Solde d''heure collaborateur'!CN$2,Horaires!$H$3:$H$40,0),4),IF(CN70=\"maladie\",INDEX(Horaires!$H$3:$L$42,MATCH('Solde d''heure collaborateur'!CN$2,Horaires!$H$3:$H$40,0),5),VLOOKUP(CM70,Horaires!$A$3:$E$60,5,)))","v":0.35000000000000003},null,{"$f":"INDEX(Planning!$27:$27,MATCH('Solde d''heure collaborateur'!$A70,Planning!$3:$3))","v":"F"},{"$f":"VLOOKUP(CQ70,Horaires!$A$3:$E$49,2,)","v":"Férié"},{"$f":"IF(CR70=\"vacances\",INDEX(Horaires!$H$3:$L$42,MATCH('Solde d''heure collaborateur'!CR$2,Horaires!$H$3:$H$40,0),4),IF(CR70=\"maladie\",INDEX(Horaires!$H$3:$L$42,MATCH('Solde d''heure collaborateur'!CR$2,Horaires!$H$3:$H$40,0),5),VLOOKUP(CQ70,Horaires!$A$3:$E$60,5,)))","v":0.35000000000000003},null,{"$f":"INDEX(Planning!$28:$28,MATCH('Solde d''heure collaborateur'!$A70,Planning!$3:$3))","v":"F"},{"$f":"VLOOKUP(CU70,Horaires!$A$3:$E$49,2,)","v":"Férié"},{"$f":"IF(CV70=\"vacances\",INDEX(Horaires!$H$3:$L$42,MATCH('Solde d''heure collaborateur'!CV$2,Horaires!$H$3:$H$40,0),4),IF(CV70=\"maladie\",INDEX(Horaires!$H$3:$L$42,MATCH('Solde d''heure collaborateur'!CV$2,Horaires!$H$3:$H$40,0),5),VLOOKUP(CU70,Horaires!$A$3:$E$60,5,)))","v":0.35000000000000003},null,{"$f":"INDEX(Planning!$29:$29,MATCH('Solde d''heure collaborateur'!$A70,Planning!$3:$3))","v":"F"},{"$f":"VLOOKUP(CY70,Horaires!$A$3:$E$49,2,)","v":"Férié"},{"$f":"IF(CZ70=\"vacances\",INDEX(Horaires!$H$3:$L$42,MATCH('Solde d''heure collaborateur'!CZ$2,Horaires!$H$3:$H$40,0),4),IF(CZ70=\"maladie\",INDEX(Horaires!$H$3:$L$42,MATCH('Solde d''heure collaborateur'!CZ$2,Horaires!$H$3:$H$40,0),5),VLOOKUP(CY70,Horaires!$A$3:$E$60,5,)))","v":0.35000000000000003},null,{"$f":"INDEX(Planning!$30:$30,MATCH('Solde d''heure collaborateur'!$A70,Planning!$3:$3))","v":"X"},{"$f":"VLOOKUP(DC70,Horaires!$A$3:$E$49,2,)","v":"XXX"},{"$f":"IF(DD70=\"vacances\",INDEX(Horaires!$H$3:$L$42,MATCH('Solde d''heure collaborateur'!DD$2,Horaires!$H$3:$H$40,0),4),IF(DD70=\"maladie\",INDEX(Horaires!$H$3:$L$42,MATCH('Solde d''heure collaborateur'!DD$2,Horaires!$H$3:$H$40,0),5),VLOOKUP(DC70,Horaires!$A$3:$E$60,5,)))","v":0},null,{"$f":"INDEX(Planning!$31:$31,MATCH('Solde d''heure collaborateur'!$A70,Planning!$3:$3))","v":"X"},{"$f":"VLOOKUP(DG70,Horaires!$A$3:$E$49,2,)","v":"XXX"},{"$f":"IF(DH70=\"vacances\",INDEX(Horaires!$H$3:$L$42,MATCH('Solde d''heure collaborateur'!DH$2,Horaires!$H$3:$H$40,0),4),IF(DH70=\"maladie\",INDEX(Horaires!$H$3:$L$42,MATCH('Solde d''heure collaborateur'!DH$2,Horaires!$H$3:$H$40,0),5),VLOOKUP(DG70,Horaires!$A$3:$E$60,5,)))","v":0},null,{"$f":"INDEX(Planning!$32:$32,MATCH('Solde d''heure collaborateur'!$A70,Planning!$3:$3))","v":"X"},{"$f":"VLOOKUP(DK70,Horaires!$A$3:$E$49,2,)","v":"XXX"},{"$f":"IF(DL70=\"vacances\",INDEX(Horaires!$H$3:$L$42,MATCH('Solde d''heure collaborateur'!DL$2,Horaires!$H$3:$H$40,0),4),IF(DL70=\"maladie\",INDEX(Horaires!$H$3:$L$42,MATCH('Solde d''heure collaborateur'!DL$2,Horaires!$H$3:$H$40,0),5),VLOOKUP(DK70,Horaires!$A$3:$E$60,5,)))","v":0},null,{"$f":"INDEX(Planning!$33:$33,MATCH('Solde d''heure collaborateur'!$A70,Planning!$3:$3))","v":"X"},{"$f":"VLOOKUP(DO70,Horaires!$A$3:$E$49,2,)","v":"XXX"},{"$f":"IF(DP70=\"vacances\",INDEX(Horaires!$H$3:$L$42,MATCH('Solde d''heure collaborateur'!DP$2,Horaires!$H$3:$H$40,0),4),IF(DP70=\"maladie\",INDEX(Horaires!$H$3:$L$42,MATCH('Solde d''heure collaborateur'!DP$2,Horaires!$H$3:$H$40,0),5),VLOOKUP(DO70,Horaires!$A$3:$E$60,5,)))","v":0},null,{"$f":"INDEX(Planning!$34:$34,MATCH('Solde d''heure collaborateur'!$A70,Planning!$3:$3))","v":"X"},{"$f":"VLOOKUP(DS70,Horaires!$A$3:$E$49,2,)","v":"XXX"},{"$f":"IF(DT70=\"vacances\",INDEX(Horaires!$H$3:$L$42,MATCH('Solde d''heure collaborateur'!DT$2,Horaires!$H$3:$H$40,0),4),IF(DT70=\"maladie\",INDEX(Horaires!$H$3:$L$42,MATCH('Solde d''heure collaborateur'!DT$2,Horaires!$H$3:$H$40,0),5),VLOOKUP(DS70,Horaires!$A$3:$E$60,5,)))","v":0},null,{"$f":"INDEX(Planning!$35:$35,MATCH('Solde d''heure collaborateur'!$A70,Planning!$3:$3))","v":"X"},{"$f":"VLOOKUP(DW70,Horaires!$A$3:$E$49,2,)","v":"XXX"},{"$f":"IF(DX70=\"vacances\",INDEX(Horaires!$H$3:$L$42,MATCH('Solde d''heure collaborateur'!DX$2,Horaires!$H$3:$H$40,0),4),IF(DX70=\"maladie\",INDEX(Horaires!$H$3:$L$42,MATCH('Solde d''heure collaborateur'!DX$2,Horaires!$H$3:$H$40,0),5),VLOOKUP(DW70,Horaires!$A$3:$E$60,5,)))","v":0}]
[{"$f":"A70+1","v":"2014-01-02"},null,{"$f":"INDEX(Planning!$4:$4,MATCH('Solde d''heure collaborateur'!A71,Planning!$3:$3,0))","v":"Nav1"},{"$f":"VLOOKUP(C71,Horaires!$A$3:$E$49,2,)","v":"Navigation"},{"$f":"IF(D71=\"vacances\",INDEX(Horaires!$H$3:$L$42,MATCH('Solde d''heure collaborateur'!D$2,Horaires!$H$3:$H$40,0),4),IF(D71=\"maladie\",INDEX(Horaires!$H$3:$L$42,MATCH('Solde d''heure collaborateur'!D$2,Horaires!$H$3:$H$40,0),5),VLOOKUP(C71,Horaires!$A$3:$E$60,5,)))","v":0.44791666666666669},null,{"$f":"INDEX(Planning!$5:$5,MATCH('Solde d''heure collaborateur'!A71,Planning!$3:$3))","v":"Tour1"},{"$f":"VLOOKUP(G71,Horaires!$A$3:$E$49,2,)","v":"Tourelle"},{"$f":"IF(H71=\"vacances\",INDEX(Horaires!$H$3:$L$42,MATCH('Solde d''heure collaborateur'!H$2,Horaires!$H$3:$H$40,0),4),IF(H71=\"maladie\",INDEX(Horaires!$H$3:$L$42,MATCH('Solde d''heure collaborateur'!H$2,Horaires!$H$3:$H$40,0),5),VLOOKUP(G71,Horaires!$A$3:$E$60,5,)))","v":0.46875000000000006},null,{"$f":"INDEX(Planning!$6:$6,MATCH('Solde d''heure collaborateur'!A71,Planning!$3:$3))","v":"M"},{"$f":"VLOOKUP(K71,Horaires!$A$3:$E$49,2,)","v":"Maladie"},{"$f":"IF(L71=\"vacances\",INDEX(Horaires!$H$3:$L$42,MATCH('Solde d''heure collaborateur'!L$2,Horaires!$H$3:$H$40,0),4),IF(L71=\"maladie\",INDEX(Horaires!$H$3:$L$42,MATCH('Solde d''heure collaborateur'!L$2,Horaires!$H$3:$H$40,0),5),VLOOKUP(K71,Horaires!$A$3:$E$60,5,)))","v":0.4375},null,{"$f":"INDEX(Planning!$7:$7,MATCH('Solde d''heure collaborateur'!$A71,Planning!$3:$3))","v":"X"},{"$f":"VLOOKUP(O71,Horaires!$A$3:$E$49,2,)","v":"XXX"},{"$f":"IF(P71=\"vacances\",INDEX(Horaires!$H$3:$L$42,MATCH('Solde d''heure collaborateur'!P$2,Horaires!$H$3:$H$40,0),4),IF(P71=\"maladie\",INDEX(Horaires!$H$3:$L$42,MATCH('Solde d''heure collaborateur'!P$2,Horaires!$H$3:$H$40,0),5),VLOOKUP(O71,Horaires!$A$3:$E$60,5,)))","v":0},null,{"$f":"INDEX(Planning!$8:$8,MATCH('Solde d''heure collaborateur'!$A71,Planning!$3:$3))","v":"Onex1"},{"$f":"VLOOKUP(S71,Horaires!$A$3:$E$49,2,)","v":"Onex"},{"$f":"IF(T71=\"vacances\",INDEX(Horaires!$H$3:$L$42,MATCH('Solde d''heure collaborateur'!T$2,Horaires!$H$3:$H$40,0),4),IF(T71=\"maladie\",INDEX(Horaires!$H$3:$L$42,MATCH('Solde d''heure collaborateur'!T$2,Horaires!$H$3:$H$40,0),5),VLOOKUP(S71,Horaires!$A$3:$E$60,5,)))","v":0.46875000000000006},null,{"$f":"INDEX(Planning!$9:$9,MATCH('Solde d''heure collaborateur'!$A71,Planning!$3:$3))","v":"X"},{"$f":"VLOOKUP(W71,Horaires!$A$3:$E$49,2,)","v":"XXX"},{"$f":"IF(X71=\"vacances\",INDEX(Horaires!$H$3:$L$42,MATCH('Solde d''heure collaborateur'!X$2,Horaires!$H$3:$H$40,0),4),IF(X71=\"maladie\",INDEX(Horaires!$H$3:$L$42,MATCH('Solde d''heure collaborateur'!X$2,Horaires!$H$3:$H$40,0),5),VLOOKUP(W71,Horaires!$A$3:$E$60,5,)))","v":0},null,{"$f":"INDEX(Planning!$10:$10,MATCH('Solde d''heure collaborateur'!$A71,Planning!$3:$3))","v":"Onex1"},{"$f":"VLOOKUP(AA71,Horaires!$A$3:$E$49,2,)","v":"Onex"},{"$f":"IF(AB71=\"vacances\",INDEX(Horaires!$H$3:$L$42,MATCH('Solde d''heure collaborateur'!AB$2,Horaires!$H$3:$H$40,0),4),IF(AB71=\"maladie\",INDEX(Horaires!$H$3:$L$42,MATCH('Solde d''heure collaborateur'!AB$2,Horaires!$H$3:$H$40,0),5),VLOOKUP(AA71,Horaires!$A$3:$E$60,5,)))","v":0.46875000000000006},null,{"$f":"INDEX(Planning!$11:$11,MATCH('Solde d''heure collaborateur'!$A71,Planning!$3:$3))","v":"Plo1"},{"$f":"VLOOKUP(AE71,Horaires!$A$3:$E$49,2,)","v":"Plan les Ouates"},{"$f":"IF(AF71=\"vacances\",INDEX(Horaires!$H$3:$L$42,MATCH('Solde d''heure collaborateur'!AF$2,Horaires!$H$3:$H$40,0),4),IF(AF71=\"maladie\",INDEX(Horaires!$H$3:$L$42,MATCH('Solde d''heure collaborateur'!AF$2,Horaires!$H$3:$H$40,0),5),VLOOKUP(AE71,Horaires!$A$3:$E$60,5,)))","v":0.46875000000000006},null,{"$f":"INDEX(Planning!$12:$12,MATCH('Solde d''heure collaborateur'!$A71,Planning!$3:$3))","v":"thon1"},{"$f":"VLOOKUP(AI71,Horaires!$A$3:$E$49,2,)","v":"Thonex"},{"$f":"IF(AJ71=\"vacances\",INDEX(Horaires!$H$3:$L$42,MATCH('Solde d''heure collaborateur'!AJ$2,Horaires!$H$3:$H$40,0),4),IF(AJ71=\"maladie\",INDEX(Horaires!$H$3:$L$42,MATCH('Solde d''heure collaborateur'!AJ$2,Horaires!$H$3:$H$40,0),5),VLOOKUP(AI71,Horaires!$A$3:$E$60,5,)))","v":0.44791666666666669},null,{"$f":"INDEX(Planning!$13:$13,MATCH('Solde d''heure collaborateur'!$A71,Planning!$3:$3))","v":"Tour1"},{"$f":"VLOOKUP(AM71,Horaires!$A$3:$E$49,2,)","v":"Tourelle"},{"$f":"IF(AN71=\"vacances\",INDEX(Horaires!$H$3:$L$42,MATCH('Solde d''heure collaborateur'!AN$2,Horaires!$H$3:$H$40,0),4),IF(AN71=\"maladie\",INDEX(Horaires!$H$3:$L$42,MATCH('Solde d''heure collaborateur'!AN$2,Horaires!$H$3:$H$40,0),5),VLOOKUP(AM71,Horaires!$A$3:$E$60,5,)))","v":0.46875000000000006},null,{"$f":"INDEX(Planning!$14:$14,MATCH('Solde d''heure collaborateur'!$A71,Planning!$3:$3))","v":"X"},{"$f":"VLOOKUP(AQ71,Horaires!$A$3:$E$49,2,)","v":"XXX"},{"$f":"IF(AR71=\"vacances\",INDEX(Horaires!$H$3:$L$42,MATCH('Solde d''heure collaborateur'!AR$2,Horaires!$H$3:$H$40,0),4),IF(AR71=\"maladie\",INDEX(Horaires!$H$3:$L$42,MATCH('Solde d''heure collaborateur'!AR$2,Horaires!$H$3:$H$40,0),5),VLOOKUP(AQ71,Horaires!$A$3:$E$60,5,)))","v":0},null,{"$f":"INDEX(Planning!$15:$15,MATCH('Solde d''heure collaborateur'!$A71,Planning!$3:$3))","v":"Nav1"},{"$f":"VLOOKUP(AU71,Horaires!$A$3:$E$49,2,)","v":"Navigation"},{"$f":"IF(AV71=\"vacances\",INDEX(Horaires!$H$3:$L$42,MATCH('Solde d''heure collaborateur'!AV$2,Horaires!$H$3:$H$40,0),4),IF(AV71=\"maladie\",INDEX(Horaires!$H$3:$L$42,MATCH('Solde d''heure collaborateur'!AV$2,Horaires!$H$3:$H$40,0),5),VLOOKUP(AU71,Horaires!$A$3:$E$60,5,)))","v":0.44791666666666669},null,{"$f":"INDEX(Planning!$16:$16,MATCH('Solde d''heure collaborateur'!$A71,Planning!$3:$3))","v":"Vid1"},{"$f":"VLOOKUP(AY71,Horaires!$A$3:$E$49,2,)","v":"Vidollet"},{"$f":"IF(AZ71=\"vacances\",INDEX(Horaires!$H$3:$L$42,MATCH('Solde d''heure collaborateur'!AZ$2,Horaires!$H$3:$H$40,0),4),IF(AZ71=\"maladie\",INDEX(Horaires!$H$3:$L$42,MATCH('Solde d''heure collaborateur'!AZ$2,Horaires!$H$3:$H$40,0),5),VLOOKUP(AY71,Horaires!$A$3:$E$60,5,)))","v":0.44791666666666669},null,{"$f":"INDEX(Planning!$17:$17,MATCH('Solde d''heure collaborateur'!$A71,Planning!$3:$3))","v":"Aca1"},{"$f":"VLOOKUP(BC71,Horaires!$A$3:$E$49,2,)","v":"Acacias"},{"$f":"IF(BD71=\"vacances\",INDEX(Horaires!$H$3:$L$42,MATCH('Solde d''heure collaborateur'!BD$2,Horaires!$H$3:$H$40,0),4),IF(BD71=\"maladie\",INDEX(Horaires!$H$3:$L$42,MATCH('Solde d''heure collaborateur'!BD$2,Horaires!$H$3:$H$40,0),5),VLOOKUP(BC71,Horaires!$A$3:$E$60,5,)))","v":0.44791666666666669},null,{"$f":"INDEX(Planning!$18:$18,MATCH('Solde d''heure collaborateur'!$A71,Planning!$3:$3))","v":"vib1"},{"$f":"VLOOKUP(BG71,Horaires!$A$3:$E$49,2,)","v":"Vibert"},{"$f":"IF(BH71=\"vacances\",INDEX(Horaires!$H$3:$L$42,MATCH('Solde d''heure collaborateur'!BH$2,Horaires!$H$3:$H$40,0),4),IF(BH71=\"maladie\",INDEX(Horaires!$H$3:$L$42,MATCH('Solde d''heure collaborateur'!BH$2,Horaires!$H$3:$H$40,0),5),VLOOKUP(BG71,Horaires!$A$3:$E$60,5,)))","v":0.46875000000000006},null,{"$f":"INDEX(Planning!$19:$19,MATCH('Solde d''heure collaborateur'!$A71,Planning!$3:$3))","v":"vib1"},{"$f":"VLOOKUP(BK71,Horaires!$A$3:$E$49,2,)","v":"Vibert"},{"$f":"IF(BL71=\"vacances\",INDEX(Horaires!$H$3:$L$42,MATCH('Solde d''heure collaborateur'!BL$2,Horaires!$H$3:$H$40,0),4),IF(BL71=\"maladie\",INDEX(Horaires!$H$3:$L$42,MATCH('Solde d''heure collaborateur'!BL$2,Horaires!$H$3:$H$40,0),5),VLOOKUP(BK71,Horaires!$A$3:$E$60,5,)))","v":0.46875000000000006},null,{"$f":"INDEX(Planning!$20:$20,MATCH('Solde d''heure collaborateur'!$A71,Planning!$3:$3))","v":"Aca1"},{"$f":"VLOOKUP(BO71,Horaires!$A$3:$E$49,2,)","v":"Acacias"},{"$f":"IF(BP71=\"vacances\",INDEX(Horaires!$H$3:$L$42,MATCH('Solde d''heure collaborateur'!BP$2,Horaires!$H$3:$H$40,0),4),IF(BP71=\"maladie\",INDEX(Horaires!$H$3:$L$42,MATCH('Solde d''heure collaborateur'!BP$2,Horaires!$H$3:$H$40,0),5),VLOOKUP(BO71,Horaires!$A$3:$E$60,5,)))","v":0.44791666666666669},null,{"$f":"INDEX(Planning!$21:$21,MATCH('Solde d''heure collaborateur'!$A71,Planning!$3:$3))","v":"ves1"},{"$f":"VLOOKUP(BS71,Horaires!$A$3:$E$49,2,)","v":"Vesenaz"},{"$f":"IF(BT71=\"vacances\",INDEX(Horaires!$H$3:$L$42,MATCH('Solde d''heure collaborateur'!BT$2,Horaires!$H$3:$H$40,0),4),IF(BT71=\"maladie\",INDEX(Horaires!$H$3:$L$42,MATCH('Solde d''heure collaborateur'!BT$2,Horaires!$H$3:$H$40,0),5),VLOOKUP(BS71,Horaires!$A$3:$E$60,5,)))","v":0.44791666666666669},null,{"$f":"INDEX(Planning!$22:$22,MATCH('Solde d''heure collaborateur'!$A71,Planning!$3:$3))","v":"X"},{"$f":"VLOOKUP(BW71,Horaires!$A$3:$E$49,2,)","v":"XXX"},{"$f":"IF(BX71=\"vacances\",INDEX(Horaires!$H$3:$L$42,MATCH('Solde d''heure collaborateur'!BX$2,Horaires!$H$3:$H$40,0),4),IF(BX71=\"maladie\",INDEX(Horaires!$H$3:$L$42,MATCH('Solde d''heure collaborateur'!BX$2,Horaires!$H$3:$H$40,0),5),VLOOKUP(BW71,Horaires!$A$3:$E$60,5,)))","v":0},null,{"$f":"INDEX(Planning!$23:$23,MATCH('Solde d''heure collaborateur'!$A71,Planning!$3:$3))","v":"Plo1"},{"$f":"VLOOKUP(CA71,Horaires!$A$3:$E$49,2,)","v":"Plan les Ouates"},{"$f":"IF(CB71=\"vacances\",INDEX(Horaires!$H$3:$L$42,MATCH('Solde d''heure collaborateur'!CB$2,Horaires!$H$3:$H$40,0),4),IF(CB71=\"maladie\",INDEX(Horaires!$H$3:$L$42,MATCH('Solde d''heure collaborateur'!CB$2,Horaires!$H$3:$H$40,0),5),VLOOKUP(CA71,Horaires!$A$3:$E$60,5,)))","v":0.46875000000000006},null,{"$f":"INDEX(Planning!$24:$24,MATCH('Solde d''heure collaborateur'!$A71,Planning!$3:$3))","v":"ves1"},{"$f":"VLOOKUP(CE71,Horaires!$A$3:$E$49,2,)","v":"Vesenaz"},{"$f":"IF(CF71=\"vacances\",INDEX(Horaires!$H$3:$L$42,MATCH('Solde d''heure collaborateur'!CF$2,Horaires!$H$3:$H$40,0),4),IF(CF71=\"maladie\",INDEX(Horaires!$H$3:$L$42,MATCH('Solde d''heure collaborateur'!CF$2,Horaires!$H$3:$H$40,0),5),VLOOKUP(CE71,Horaires!$A$3:$E$60,5,)))","v":0.44791666666666669},null,{"$f":"INDEX(Planning!$25:$25,MATCH('Solde d''heure collaborateur'!$A71,Planning!$3:$3))","v":"X"},{"$f":"VLOOKUP(CI71,Horaires!$A$3:$E$49,2,)","v":"XXX"},{"$f":"IF(CJ71=\"vacances\",INDEX(Horaires!$H$3:$L$42,MATCH('Solde d''heure collaborateur'!CJ$2,Horaires!$H$3:$H$40,0),4),IF(CJ71=\"maladie\",INDEX(Horaires!$H$3:$L$42,MATCH('Solde d''heure collaborateur'!CJ$2,Horaires!$H$3:$H$40,0),5),VLOOKUP(CI71,Horaires!$A$3:$E$60,5,)))","v":0},null,{"$f":"INDEX(Planning!$26:$26,MATCH('Solde d''heure collaborateur'!$A71,Planning!$3:$3))","v":"Vid1"},{"$f":"VLOOKUP(CM71,Horaires!$A$3:$E$49,2,)","v":"Vidollet"},{"$f":"IF(CN71=\"vacances\",INDEX(Horaires!$H$3:$L$42,MATCH('Solde d''heure collaborateur'!CN$2,Horaires!$H$3:$H$40,0),4),IF(CN71=\"maladie\",INDEX(Horaires!$H$3:$L$42,MATCH('Solde d''heure collaborateur'!CN$2,Horaires!$H$3:$H$40,0),5),VLOOKUP(CM71,Horaires!$A$3:$E$60,5,)))","v":0.44791666666666669},null,{"$f":"INDEX(Planning!$27:$27,MATCH('Solde d''heure collaborateur'!$A71,Planning!$3:$3))","v":"thon1"},{"$f":"VLOOKUP(CQ71,Horaires!$A$3:$E$49,2,)","v":"Thonex"},{"$f":"IF(CR71=\"vacances\",INDEX(Horaires!$H$3:$L$42,MATCH('Solde d''heure collaborateur'!CR$2,Horaires!$H$3:$H$40,0),4),IF(CR71=\"maladie\",INDEX(Horaires!$H$3:$L$42,MATCH('Solde d''heure collaborateur'!CR$2,Horaires!$H$3:$H$40,0),5),VLOOKUP(CQ71,Horaires!$A$3:$E$60,5,)))","v":0.44791666666666669},null,{"$f":"INDEX(Planning!$28:$28,MATCH('Solde d''heure collaborateur'!$A71,Planning!$3:$3))","v":"plo1"},{"$f":"VLOOKUP(CU71,Horaires!$A$3:$E$49,2,)","v":"Plan les Ouates"},{"$f":"IF(CV71=\"vacances\",INDEX(Horaires!$H$3:$L$42,MATCH('Solde d''heure collaborateur'!CV$2,Horaires!$H$3:$H$40,0),4),IF(CV71=\"maladie\",INDEX(Horaires!$H$3:$L$42,MATCH('Solde d''heure collaborateur'!CV$2,Horaires!$H$3:$H$40,0),5),VLOOKUP(CU71,Horaires!$A$3:$E$60,5,)))","v":0.46875000000000006},null,{"$f":"INDEX(Planning!$29:$29,MATCH('Solde d''heure collaborateur'!$A71,Planning!$3:$3))","v":"X"},{"$f":"VLOOKUP(CY71,Horaires!$A$3:$E$49,2,)","v":"XXX"},{"$f":"IF(CZ71=\"vacances\",INDEX(Horaires!$H$3:$L$42,MATCH('Solde d''heure collaborateur'!CZ$2,Horaires!$H$3:$H$40,0),4),IF(CZ71=\"maladie\",INDEX(Horaires!$H$3:$L$42,MATCH('Solde d''heure collaborateur'!CZ$2,Horaires!$H$3:$H$40,0),5),VLOOKUP(CY71,Horaires!$A$3:$E$60,5,)))","v":0},null,{"$f":"INDEX(Planning!$30:$30,MATCH('Solde d''heure collaborateur'!$A71,Planning!$3:$3))","v":"X"},{"$f":"VLOOKUP(DC71,Horaires!$A$3:$E$49,2,)","v":"XXX"},{"$f":"IF(DD71=\"vacances\",INDEX(Horaires!$H$3:$L$42,MATCH('Solde d''heure collaborateur'!DD$2,Horaires!$H$3:$H$40,0),4),IF(DD71=\"maladie\",INDEX(Horaires!$H$3:$L$42,MATCH('Solde d''heure collaborateur'!DD$2,Horaires!$H$3:$H$40,0),5),VLOOKUP(DC71,Horaires!$A$3:$E$60,5,)))","v":0},null,{"$f":"INDEX(Planning!$31:$31,MATCH('Solde d''heure collaborateur'!$A71,Planning!$3:$3))","v":"X"},{"$f":"VLOOKUP(DG71,Horaires!$A$3:$E$49,2,)","v":"XXX"},{"$f":"IF(DH71=\"vacances\",INDEX(Horaires!$H$3:$L$42,MATCH('Solde d''heure collaborateur'!DH$2,Horaires!$H$3:$H$40,0),4),IF(DH71=\"maladie\",INDEX(Horaires!$H$3:$L$42,MATCH('Solde d''heure collaborateur'!DH$2,Horaires!$H$3:$H$40,0),5),VLOOKUP(DG71,Horaires!$A$3:$E$60,5,)))","v":0},null,{"$f":"INDEX(Planning!$32:$32,MATCH('Solde d''heure collaborateur'!$A71,Planning!$3:$3))","v":"X"},{"$f":"VLOOKUP(DK71,Horaires!$A$3:$E$49,2,)","v":"XXX"},{"$f":"IF(DL71=\"vacances\",INDEX(Horaires!$H$3:$L$42,MATCH('Solde d''heure collaborateur'!DL$2,Horaires!$H$3:$H$40,0),4),IF(DL71=\"maladie\",INDEX(Horaires!$H$3:$L$42,MATCH('Solde d''heure collaborateur'!DL$2,Horaires!$H$3:$H$40,0),5),VLOOKUP(DK71,Horaires!$A$3:$E$60,5,)))","v":0},null,{"$f":"INDEX(Planning!$33:$33,MATCH('Solde d''heure collaborateur'!$A71,Planning!$3:$3))","v":"X"},{"$f":"VLOOKUP(DO71,Horaires!$A$3:$E$49,2,)","v":"XXX"},{"$f":"IF(DP71=\"vacances\",INDEX(Horaires!$H$3:$L$42,MATCH('Solde d''heure collaborateur'!DP$2,Horaires!$H$3:$H$40,0),4),IF(DP71=\"maladie\",INDEX(Horaires!$H$3:$L$42,MATCH('Solde d''heure collaborateur'!DP$2,Horaires!$H$3:$H$40,0),5),VLOOKUP(DO71,Horaires!$A$3:$E$60,5,)))","v":0},null,{"$f":"INDEX(Planning!$34:$34,MATCH('Solde d''heure collaborateur'!$A71,Planning!$3:$3))","v":"X"},{"$f":"VLOOKUP(DS71,Horaires!$A$3:$E$49,2,)","v":"XXX"},{"$f":"IF(DT71=\"vacances\",INDEX(Horaires!$H$3:$L$42,MATCH('Solde d''heure collaborateur'!DT$2,Horaires!$H$3:$H$40,0),4),IF(DT71=\"maladie\",INDEX(Horaires!$H$3:$L$42,MATCH('Solde d''heure collaborateur'!DT$2,Horaires!$H$3:$H$40,0),5),VLOOKUP(DS71,Horaires!$A$3:$E$60,5,)))","v":0},null,{"$f":"INDEX(Planning!$35:$35,MATCH('Solde d''heure collaborateur'!$A71,Planning!$3:$3))","v":"X"},{"$f":"VLOOKUP(DW71,Horaires!$A$3:$E$49,2,)","v":"XXX"},{"$f":"IF(DX71=\"vacances\",INDEX(Horaires!$H$3:$L$42,MATCH('Solde d''heure collaborateur'!DX$2,Horaires!$H$3:$H$40,0),4),IF(DX71=\"maladie\",INDEX(Horaires!$H$3:$L$42,MATCH('Solde d''heure collaborateur'!DX$2,Horaires!$H$3:$H$40,0),5),VLOOKUP(DW71,Horaires!$A$3:$E$60,5,)))","v":0}]
[{"$f":"A71+1","v":"2014-01-03"},null,{"$f":"INDEX(Planning!$4:$4,MATCH('Solde d''heure collaborateur'!A72,Planning!$3:$3,0))","v":"Nav2"},{"$f":"VLOOKUP(C72,Horaires!$A$3:$E$49,2,)","v":"Navigation"},{"$f":"IF(D72=\"vacances\",INDEX(Horaires!$H$3:$L$42,MATCH('Solde d''heure collaborateur'!D$2,Horaires!$H$3:$H$40,0),4),IF(D72=\"maladie\",INDEX(Horaires!$H$3:$L$42,MATCH('Solde d''heure collaborateur'!D$2,Horaires!$H$3:$H$40,0),5),VLOOKUP(C72,Horaires!$A$3:$E$60,5,)))","v":0.46874999999999994},null,{"$f":"INDEX(Planning!$5:$5,MATCH('Solde d''heure collaborateur'!A72,Planning!$3:$3))","v":"Pom2"},{"$f":"VLOOKUP(G72,Horaires!$A$3:$E$49,2,)","v":"Pommier"},{"$f":"IF(H72=\"vacances\",INDEX(Horaires!$H$3:$L$42,MATCH('Solde d''heure collaborateur'!H$2,Horaires!$H$3:$H$40,0),4),IF(H72=\"maladie\",INDEX(Horaires!$H$3:$L$42,MATCH('Solde d''heure collaborateur'!H$2,Horaires!$H$3:$H$40,0),5),VLOOKUP(G72,Horaires!$A$3:$E$60,5,)))","v":0.46874999999999994},null,{"$f":"INDEX(Planning!$6:$6,MATCH('Solde d''heure collaborateur'!A72,Planning!$3:$3))","v":"R"},{"$f":"VLOOKUP(K72,Horaires!$A$3:$E$49,2,)","v":"Congé"},{"$f":"IF(L72=\"vacances\",INDEX(Horaires!$H$3:$L$42,MATCH('Solde d''heure collaborateur'!L$2,Horaires!$H$3:$H$40,0),4),IF(L72=\"maladie\",INDEX(Horaires!$H$3:$L$42,MATCH('Solde d''heure collaborateur'!L$2,Horaires!$H$3:$H$40,0),5),VLOOKUP(K72,Horaires!$A$3:$E$60,5,)))","v":0},null,{"$f":"INDEX(Planning!$7:$7,MATCH('Solde d''heure collaborateur'!$A72,Planning!$3:$3))","v":"X"},{"$f":"VLOOKUP(O72,Horaires!$A$3:$E$49,2,)","v":"XXX"},{"$f":"IF(P72=\"vacances\",INDEX(Horaires!$H$3:$L$42,MATCH('Solde d''heure collaborateur'!P$2,Horaires!$H$3:$H$40,0),4),IF(P72=\"maladie\",INDEX(Horaires!$H$3:$L$42,MATCH('Solde d''heure collaborateur'!P$2,Horaires!$H$3:$H$40,0),5),VLOOKUP(O72,Horaires!$A$3:$E$60,5,)))","v":0},null,{"$f":"INDEX(Planning!$8:$8,MATCH('Solde d''heure collaborateur'!$A72,Planning!$3:$3))","v":"Onex2"},{"$f":"VLOOKUP(S72,Horaires!$A$3:$E$49,2,)","v":"Onex"},{"$f":"IF(T72=\"vacances\",INDEX(Horaires!$H$3:$L$42,MATCH('Solde d''heure collaborateur'!T$2,Horaires!$H$3:$H$40,0),4),IF(T72=\"maladie\",INDEX(Horaires!$H$3:$L$42,MATCH('Solde d''heure collaborateur'!T$2,Horaires!$H$3:$H$40,0),5),VLOOKUP(S72,Horaires!$A$3:$E$60,5,)))","v":0.48958333333333331},null,{"$f":"INDEX(Planning!$9:$9,MATCH('Solde d''heure collaborateur'!$A72,Planning!$3:$3))","v":"X"},{"$f":"VLOOKUP(W72,Horaires!$A$3:$E$49,2,)","v":"XXX"},{"$f":"IF(X72=\"vacances\",INDEX(Horaires!$H$3:$L$42,MATCH('Solde d''heure collaborateur'!X$2,Horaires!$H$3:$H$40,0),4),IF(X72=\"maladie\",INDEX(Horaires!$H$3:$L$42,MATCH('Solde d''heure collaborateur'!X$2,Horaires!$H$3:$H$40,0),5),VLOOKUP(W72,Horaires!$A$3:$E$60,5,)))","v":0},null,{"$f":"INDEX(Planning!$10:$10,MATCH('Solde d''heure collaborateur'!$A72,Planning!$3:$3))","v":"Onex2"},{"$f":"VLOOKUP(AA72,Horaires!$A$3:$E$49,2,)","v":"Onex"},{"$f":"IF(AB72=\"vacances\",INDEX(Horaires!$H$3:$L$42,MATCH('Solde d''heure collaborateur'!AB$2,Horaires!$H$3:$H$40,0),4),IF(AB72=\"maladie\",INDEX(Horaires!$H$3:$L$42,MATCH('Solde d''heure collaborateur'!AB$2,Horaires!$H$3:$H$40,0),5),VLOOKUP(AA72,Horaires!$A$3:$E$60,5,)))","v":0.48958333333333331},null,{"$f":"INDEX(Planning!$11:$11,MATCH('Solde d''heure collaborateur'!$A72,Planning!$3:$3))","v":"R"},{"$f":"VLOOKUP(AE72,Horaires!$A$3:$E$49,2,)","v":"Congé"},{"$f":"IF(AF72=\"vacances\",INDEX(Horaires!$H$3:$L$42,MATCH('Solde d''heure collaborateur'!AF$2,Horaires!$H$3:$H$40,0),4),IF(AF72=\"maladie\",INDEX(Horaires!$H$3:$L$42,MATCH('Solde d''heure collaborateur'!AF$2,Horaires!$H$3:$H$40,0),5),VLOOKUP(AE72,Horaires!$A$3:$E$60,5,)))","v":0},null,{"$f":"INDEX(Planning!$12:$12,MATCH('Solde d''heure collaborateur'!$A72,Planning!$3:$3))","v":"R"},{"$f":"VLOOKUP(AI72,Horaires!$A$3:$E$49,2,)","v":"Congé"},{"$f":"IF(AJ72=\"vacances\",INDEX(Horaires!$H$3:$L$42,MATCH('Solde d''heure collaborateur'!AJ$2,Horaires!$H$3:$H$40,0),4),IF(AJ72=\"maladie\",INDEX(Horaires!$H$3:$L$42,MATCH('Solde d''heure collaborateur'!AJ$2,Horaires!$H$3:$H$40,0),5),VLOOKUP(AI72,Horaires!$A$3:$E$60,5,)))","v":0},null,{"$f":"INDEX(Planning!$13:$13,MATCH('Solde d''heure collaborateur'!$A72,Planning!$3:$3))","v":"Pom2"},{"$f":"VLOOKUP(AM72,Horaires!$A$3:$E$49,2,)","v":"Pommier"},{"$f":"IF(AN72=\"vacances\",INDEX(Horaires!$H$3:$L$42,MATCH('Solde d''heure collaborateur'!AN$2,Horaires!$H$3:$H$40,0),4),IF(AN72=\"maladie\",INDEX(Horaires!$H$3:$L$42,MATCH('Solde d''heure collaborateur'!AN$2,Horaires!$H$3:$H$40,0),5),VLOOKUP(AM72,Horaires!$A$3:$E$60,5,)))","v":0.46874999999999994},null,{"$f":"INDEX(Planning!$14:$14,MATCH('Solde d''heure collaborateur'!$A72,Planning!$3:$3))","v":"M"},{"$f":"VLOOKUP(AQ72,Horaires!$A$3:$E$49,2,)","v":"Maladie"},{"$f":"IF(AR72=\"vacances\",INDEX(Horaires!$H$3:$L$42,MATCH('Solde d''heure collaborateur'!AR$2,Horaires!$H$3:$H$40,0),4),IF(AR72=\"maladie\",INDEX(Horaires!$H$3:$L$42,MATCH('Solde d''heure collaborateur'!AR$2,Horaires!$H$3:$H$40,0),5),VLOOKUP(AQ72,Horaires!$A$3:$E$60,5,)))","v":0.46180555555555558},null,{"$f":"INDEX(Planning!$15:$15,MATCH('Solde d''heure collaborateur'!$A72,Planning!$3:$3))","v":"Nyon1"},{"$f":"VLOOKUP(AU72,Horaires!$A$3:$E$49,2,)","v":"Nyon"},{"$f":"IF(AV72=\"vacances\",INDEX(Horaires!$H$3:$L$42,MATCH('Solde d''heure collaborateur'!AV$2,Horaires!$H$3:$H$40,0),4),IF(AV72=\"maladie\",INDEX(Horaires!$H$3:$L$42,MATCH('Solde d''heure collaborateur'!AV$2,Horaires!$H$3:$H$40,0),5),VLOOKUP(AU72,Horaires!$A$3:$E$60,5,)))","v":0.44791666666666669},null,{"$f":"INDEX(Planning!$16:$16,MATCH('Solde d''heure collaborateur'!$A72,Planning!$3:$3))","v":"Nyon1"},{"$f":"VLOOKUP(AY72,Horaires!$A$3:$E$49,2,)","v":"Nyon"},{"$f":"IF(AZ72=\"vacances\",INDEX(Horaires!$H$3:$L$42,MATCH('Solde d''heure collaborateur'!AZ$2,Horaires!$H$3:$H$40,0),4),IF(AZ72=\"maladie\",INDEX(Horaires!$H$3:$L$42,MATCH('Solde d''heure collaborateur'!AZ$2,Horaires!$H$3:$H$40,0),5),VLOOKUP(AY72,Horaires!$A$3:$E$60,5,)))","v":0.44791666666666669},null,{"$f":"INDEX(Planning!$17:$17,MATCH('Solde d''heure collaborateur'!$A72,Planning!$3:$3))","v":"R"},{"$f":"VLOOKUP(BC72,Horaires!$A$3:$E$49,2,)","v":"Congé"},{"$f":"IF(BD72=\"vacances\",INDEX(Horaires!$H$3:$L$42,MATCH('Solde d''heure collaborateur'!BD$2,Horaires!$H$3:$H$40,0),4),IF(BD72=\"maladie\",INDEX(Horaires!$H$3:$L$42,MATCH('Solde d''heure collaborateur'!BD$2,Horaires!$H$3:$H$40,0),5),VLOOKUP(BC72,Horaires!$A$3:$E$60,5,)))","v":0},null,{"$f":"INDEX(Planning!$18:$18,MATCH('Solde d''heure collaborateur'!$A72,Planning!$3:$3))","v":"vib2"},{"$f":"VLOOKUP(BG72,Horaires!$A$3:$E$49,2,)","v":"Vibert"},{"$f":"IF(BH72=\"vacances\",INDEX(Horaires!$H$3:$L$42,MATCH('Solde d''heure collaborateur'!BH$2,Horaires!$H$3:$H$40,0),4),IF(BH72=\"maladie\",INDEX(Horaires!$H$3:$L$42,MATCH('Solde d''heure collaborateur'!BH$2,Horaires!$H$3:$H$40,0),5),VLOOKUP(BG72,Horaires!$A$3:$E$60,5,)))","v":0.48958333333333331},null,{"$f":"INDEX(Planning!$19:$19,MATCH('Solde d''heure collaborateur'!$A72,Planning!$3:$3))","v":"vib2"},{"$f":"VLOOKUP(BK72,Horaires!$A$3:$E$49,2,)","v":"Vibert"},{"$f":"IF(BL72=\"vacances\",INDEX(Horaires!$H$3:$L$42,MATCH('Solde d''heure collaborateur'!BL$2,Horaires!$H$3:$H$40,0),4),IF(BL72=\"maladie\",INDEX(Horaires!$H$3:$L$42,MATCH('Solde d''heure collaborateur'!BL$2,Horaires!$H$3:$H$40,0),5),VLOOKUP(BK72,Horaires!$A$3:$E$60,5,)))","v":0.48958333333333331},null,{"$f":"INDEX(Planning!$20:$20,MATCH('Solde d''heure collaborateur'!$A72,Planning!$3:$3))","v":"Aca2"},{"$f":"VLOOKUP(BO72,Horaires!$A$3:$E$49,2,)","v":"Acacias"},{"$f":"IF(BP72=\"vacances\",INDEX(Horaires!$H$3:$L$42,MATCH('Solde d''heure collaborateur'!BP$2,Horaires!$H$3:$H$40,0),4),IF(BP72=\"maladie\",INDEX(Horaires!$H$3:$L$42,MATCH('Solde d''heure collaborateur'!BP$2,Horaires!$H$3:$H$40,0),5),VLOOKUP(BO72,Horaires!$A$3:$E$60,5,)))","v":0.46874999999999994},null,{"$f":"INDEX(Planning!$21:$21,MATCH('Solde d''heure collaborateur'!$A72,Planning!$3:$3))","v":"Ves2"},{"$f":"VLOOKUP(BS72,Horaires!$A$3:$E$49,2,)","v":"Vesenaz"},{"$f":"IF(BT72=\"vacances\",INDEX(Horaires!$H$3:$L$42,MATCH('Solde d''heure collaborateur'!BT$2,Horaires!$H$3:$H$40,0),4),IF(BT72=\"maladie\",INDEX(Horaires!$H$3:$L$42,MATCH('Solde d''heure collaborateur'!BT$2,Horaires!$H$3:$H$40,0),5),VLOOKUP(BS72,Horaires!$A$3:$E$60,5,)))","v":0.46874999999999994},null,{"$f":"INDEX(Planning!$22:$22,MATCH('Solde d''heure collaborateur'!$A72,Planning!$3:$3))","v":"X"},{"$f":"VLOOKUP(BW72,Horaires!$A$3:$E$49,2,)","v":"XXX"},{"$f":"IF(BX72=\"vacances\",INDEX(Horaires!$H$3:$L$42,MATCH('Solde d''heure collaborateur'!BX$2,Horaires!$H$3:$H$40,0),4),IF(BX72=\"maladie\",INDEX(Horaires!$H$3:$L$42,MATCH('Solde d''heure collaborateur'!BX$2,Horaires!$H$3:$H$40,0),5),VLOOKUP(BW72,Horaires!$A$3:$E$60,5,)))","v":0},null,{"$f":"INDEX(Planning!$23:$23,MATCH('Solde d''heure collaborateur'!$A72,Planning!$3:$3))","v":"Plo2"},{"$f":"VLOOKUP(CA72,Horaires!$A$3:$E$49,2,)","v":"Plan les Ouates"},{"$f":"IF(CB72=\"vacances\",INDEX(Horaires!$H$3:$L$42,MATCH('Solde d''heure collaborateur'!CB$2,Horaires!$H$3:$H$40,0),4),IF(CB72=\"maladie\",INDEX(Horaires!$H$3:$L$42,MATCH('Solde d''heure collaborateur'!CB$2,Horaires!$H$3:$H$40,0),5),VLOOKUP(CA72,Horaires!$A$3:$E$60,5,)))","v":0.48958333333333331},null,{"$f":"INDEX(Planning!$24:$24,MATCH('Solde d''heure collaborateur'!$A72,Planning!$3:$3))","v":"R"},{"$f":"VLOOKUP(CE72,Horaires!$A$3:$E$49,2,)","v":"Congé"},{"$f":"IF(CF72=\"vacances\",INDEX(Horaires!$H$3:$L$42,MATCH('Solde d''heure collaborateur'!CF$2,Horaires!$H$3:$H$40,0),4),IF(CF72=\"maladie\",INDEX(Horaires!$H$3:$L$42,MATCH('Solde d''heure collaborateur'!CF$2,Horaires!$H$3:$H$40,0),5),VLOOKUP(CE72,Horaires!$A$3:$E$60,5,)))","v":0},null,{"$f":"INDEX(Planning!$25:$25,MATCH('Solde d''heure collaborateur'!$A72,Planning!$3:$3))","v":"X"},{"$f":"VLOOKUP(CI72,Horaires!$A$3:$E$49,2,)","v":"XXX"},{"$f":"IF(CJ72=\"vacances\",INDEX(Horaires!$H$3:$L$42,MATCH('Solde d''heure collaborateur'!CJ$2,Horaires!$H$3:$H$40,0),4),IF(CJ72=\"maladie\",INDEX(Horaires!$H$3:$L$42,MATCH('Solde d''heure collaborateur'!CJ$2,Horaires!$H$3:$H$40,0),5),VLOOKUP(CI72,Horaires!$A$3:$E$60,5,)))","v":0},null,{"$f":"INDEX(Planning!$26:$26,MATCH('Solde d''heure collaborateur'!$A72,Planning!$3:$3))","v":"vid2"},{"$f":"VLOOKUP(CM72,Horaires!$A$3:$E$49,2,)","v":"Vidollet"},{"$f":"IF(CN72=\"vacances\",INDEX(Horaires!$H$3:$L$42,MATCH('Solde d''heure collaborateur'!CN$2,Horaires!$H$3:$H$40,0),4),IF(CN72=\"maladie\",INDEX(Horaires!$H$3:$L$42,MATCH('Solde d''heure collaborateur'!CN$2,Horaires!$H$3:$H$40,0),5),VLOOKUP(CM72,Horaires!$A$3:$E$60,5,)))","v":0.46874999999999994},null,{"$f":"INDEX(Planning!$27:$27,MATCH('Solde d''heure collaborateur'!$A72,Planning!$3:$3))","v":"thon2"},{"$f":"VLOOKUP(CQ72,Horaires!$A$3:$E$49,2,)","v":"Thonex"},{"$f":"IF(CR72=\"vacances\",INDEX(Horaires!$H$3:$L$42,MATCH('Solde d''heure collaborateur'!CR$2,Horaires!$H$3:$H$40,0),4),IF(CR72=\"maladie\",INDEX(Horaires!$H$3:$L$42,MATCH('Solde d''heure collaborateur'!CR$2,Horaires!$H$3:$H$40,0),5),VLOOKUP(CQ72,Horaires!$A$3:$E$60,5,)))","v":0.46874999999999994},null,{"$f":"INDEX(Planning!$28:$28,MATCH('Solde d''heure collaborateur'!$A72,Planning!$3:$3))","v":"tour2"},{"$f":"VLOOKUP(CU72,Horaires!$A$3:$E$49,2,)","v":"Tourelle"},{"$f":"IF(CV72=\"vacances\",INDEX(Horaires!$H$3:$L$42,MATCH('Solde d''heure collaborateur'!CV$2,Horaires!$H$3:$H$40,0),4),IF(CV72=\"maladie\",INDEX(Horaires!$H$3:$L$42,MATCH('Solde d''heure collaborateur'!CV$2,Horaires!$H$3:$H$40,0),5),VLOOKUP(CU72,Horaires!$A$3:$E$60,5,)))","v":0.48958333333333331},null,{"$f":"INDEX(Planning!$29:$29,MATCH('Solde d''heure collaborateur'!$A72,Planning!$3:$3))","v":"X"},{"$f":"VLOOKUP(CY72,Horaires!$A$3:$E$49,2,)","v":"XXX"},{"$f":"IF(CZ72=\"vacances\",INDEX(Horaires!$H$3:$L$42,MATCH('Solde d''heure collaborateur'!CZ$2,Horaires!$H$3:$H$40,0),4),IF(CZ72=\"maladie\",INDEX(Horaires!$H$3:$L$42,MATCH('Solde d''heure collaborateur'!CZ$2,Horaires!$H$3:$H$40,0),5),VLOOKUP(CY72,Horaires!$A$3:$E$60,5,)))","v":0},null,{"$f":"INDEX(Planning!$30:$30,MATCH('Solde d''heure collaborateur'!$A72,Planning!$3:$3))","v":"X"},{"$f":"VLOOKUP(DC72,Horaires!$A$3:$E$49,2,)","v":"XXX"},{"$f":"IF(DD72=\"vacances\",INDEX(Horaires!$H$3:$L$42,MATCH('Solde d''heure collaborateur'!DD$2,Horaires!$H$3:$H$40,0),4),IF(DD72=\"maladie\",INDEX(Horaires!$H$3:$L$42,MATCH('Solde d''heure collaborateur'!DD$2,Horaires!$H$3:$H$40,0),5),VLOOKUP(DC72,Horaires!$A$3:$E$60,5,)))","v":0},null,{"$f":"INDEX(Planning!$31:$31,MATCH('Solde d''heure collaborateur'!$A72,Planning!$3:$3))","v":"X"},{"$f":"VLOOKUP(DG72,Horaires!$A$3:$E$49,2,)","v":"XXX"},{"$f":"IF(DH72=\"vacances\",INDEX(Horaires!$H$3:$L$42,MATCH('Solde d''heure collaborateur'!DH$2,Horaires!$H$3:$H$40,0),4),IF(DH72=\"maladie\",INDEX(Horaires!$H$3:$L$42,MATCH('Solde d''heure collaborateur'!DH$2,Horaires!$H$3:$H$40,0),5),VLOOKUP(DG72,Horaires!$A$3:$E$60,5,)))","v":0},null,{"$f":"INDEX(Planning!$32:$32,MATCH('Solde d''heure collaborateur'!$A72,Planning!$3:$3))","v":"X"},{"$f":"VLOOKUP(DK72,Horaires!$A$3:$E$49,2,)","v":"XXX"},{"$f":"IF(DL72=\"vacances\",INDEX(Horaires!$H$3:$L$42,MATCH('Solde d''heure collaborateur'!DL$2,Horaires!$H$3:$H$40,0),4),IF(DL72=\"maladie\",INDEX(Horaires!$H$3:$L$42,MATCH('Solde d''heure collaborateur'!DL$2,Horaires!$H$3:$H$40,0),5),VLOOKUP(DK72,Horaires!$A$3:$E$60,5,)))","v":0},null,{"$f":"INDEX(Planning!$33:$33,MATCH('Solde d''heure collaborateur'!$A72,Planning!$3:$3))","v":"X"},{"$f":"VLOOKUP(DO72,Horaires!$A$3:$E$49,2,)","v":"XXX"},{"$f":"IF(DP72=\"vacances\",INDEX(Horaires!$H$3:$L$42,MATCH('Solde d''heure collaborateur'!DP$2,Horaires!$H$3:$H$40,0),4),IF(DP72=\"maladie\",INDEX(Horaires!$H$3:$L$42,MATCH('Solde d''heure collaborateur'!DP$2,Horaires!$H$3:$H$40,0),5),VLOOKUP(DO72,Horaires!$A$3:$E$60,5,)))","v":0},null,{"$f":"INDEX(Planning!$34:$34,MATCH('Solde d''heure collaborateur'!$A72,Planning!$3:$3))","v":"X"},{"$f":"VLOOKUP(DS72,Horaires!$A$3:$E$49,2,)","v":"XXX"},{"$f":"IF(DT72=\"vacances\",INDEX(Horaires!$H$3:$L$42,MATCH('Solde d''heure collaborateur'!DT$2,Horaires!$H$3:$H$40,0),4),IF(DT72=\"maladie\",INDEX(Horaires!$H$3:$L$42,MATCH('Solde d''heure collaborateur'!DT$2,Horaires!$H$3:$H$40,0),5),VLOOKUP(DS72,Horaires!$A$3:$E$60,5,)))","v":0},null,{"$f":"INDEX(Planning!$35:$35,MATCH('Solde d''heure collaborateur'!$A72,Planning!$3:$3))","v":"X"},{"$f":"VLOOKUP(DW72,Horaires!$A$3:$E$49,2,)","v":"XXX"},{"$f":"IF(DX72=\"vacances\",INDEX(Horaires!$H$3:$L$42,MATCH('Solde d''heure collaborateur'!DX$2,Horaires!$H$3:$H$40,0),4),IF(DX72=\"maladie\",INDEX(Horaires!$H$3:$L$42,MATCH('Solde d''heure collaborateur'!DX$2,Horaires!$H$3:$H$40,0),5),VLOOKUP(DW72,Horaires!$A$3:$E$60,5,)))","v":0}]
[{"$f":"A72+1","v":"2014-01-04"},null,{"$f":"INDEX(Planning!$4:$4,MATCH('Solde d''heure collaborateur'!A73,Planning!$3:$3,0))","v":"Nav3"},{"$f":"VLOOKUP(C73,Horaires!$A$3:$E$49,2,)","v":"Navigation"},{"$f":"IF(D73=\"vacances\",INDEX(Horaires!$H$3:$L$42,MATCH('Solde d''heure collaborateur'!D$2,Horaires!$H$3:$H$40,0),4),IF(D73=\"maladie\",INDEX(Horaires!$H$3:$L$42,MATCH('Solde d''heure collaborateur'!D$2,Horaires!$H$3:$H$40,0),5),VLOOKUP(C73,Horaires!$A$3:$E$60,5,)))","v":0.40624999999999994},null,{"$f":"INDEX(Planning!$5:$5,MATCH('Solde d''heure collaborateur'!A73,Planning!$3:$3))","v":"R"},{"$f":"VLOOKUP(G73,Horaires!$A$3:$E$49,2,)","v":"Congé"},{"$f":"IF(H73=\"vacances\",INDEX(Horaires!$H$3:$L$42,MATCH('Solde d''heure collaborateur'!H$2,Horaires!$H$3:$H$40,0),4),IF(H73=\"maladie\",INDEX(Horaires!$H$3:$L$42,MATCH('Solde d''heure collaborateur'!H$2,Horaires!$H$3:$H$40,0),5),VLOOKUP(G73,Horaires!$A$3:$E$60,5,)))","v":0},null,{"$f":"INDEX(Planning!$6:$6,MATCH('Solde d''heure collaborateur'!A73,Planning!$3:$3))","v":"R"},{"$f":"VLOOKUP(K73,Horaires!$A$3:$E$49,2,)","v":"Congé"},{"$f":"IF(L73=\"vacances\",INDEX(Horaires!$H$3:$L$42,MATCH('Solde d''heure collaborateur'!L$2,Horaires!$H$3:$H$40,0),4),IF(L73=\"maladie\",INDEX(Horaires!$H$3:$L$42,MATCH('Solde d''heure collaborateur'!L$2,Horaires!$H$3:$H$40,0),5),VLOOKUP(K73,Horaires!$A$3:$E$60,5,)))","v":0},null,{"$f":"INDEX(Planning!$7:$7,MATCH('Solde d''heure collaborateur'!$A73,Planning!$3:$3))","v":"X"},{"$f":"VLOOKUP(O73,Horaires!$A$3:$E$49,2,)","v":"XXX"},{"$f":"IF(P73=\"vacances\",INDEX(Horaires!$H$3:$L$42,MATCH('Solde d''heure collaborateur'!P$2,Horaires!$H$3:$H$40,0),4),IF(P73=\"maladie\",INDEX(Horaires!$H$3:$L$42,MATCH('Solde d''heure collaborateur'!P$2,Horaires!$H$3:$H$40,0),5),VLOOKUP(O73,Horaires!$A$3:$E$60,5,)))","v":0},null,{"$f":"INDEX(Planning!$8:$8,MATCH('Solde d''heure collaborateur'!$A73,Planning!$3:$3))","v":"R"},{"$f":"VLOOKUP(S73,Horaires!$A$3:$E$49,2,)","v":"Congé"},{"$f":"IF(T73=\"vacances\",INDEX(Horaires!$H$3:$L$42,MATCH('Solde d''heure collaborateur'!T$2,Horaires!$H$3:$H$40,0),4),IF(T73=\"maladie\",INDEX(Horaires!$H$3:$L$42,MATCH('Solde d''heure collaborateur'!T$2,Horaires!$H$3:$H$40,0),5),VLOOKUP(S73,Horaires!$A$3:$E$60,5,)))","v":0},null,{"$f":"INDEX(Planning!$9:$9,MATCH('Solde d''heure collaborateur'!$A73,Planning!$3:$3))","v":"X"},{"$f":"VLOOKUP(W73,Horaires!$A$3:$E$49,2,)","v":"XXX"},{"$f":"IF(X73=\"vacances\",INDEX(Horaires!$H$3:$L$42,MATCH('Solde d''heure collaborateur'!X$2,Horaires!$H$3:$H$40,0),4),IF(X73=\"maladie\",INDEX(Horaires!$H$3:$L$42,MATCH('Solde d''heure collaborateur'!X$2,Horaires!$H$3:$H$40,0),5),VLOOKUP(W73,Horaires!$A$3:$E$60,5,)))","v":0},null,{"$f":"INDEX(Planning!$10:$10,MATCH('Solde d''heure collaborateur'!$A73,Planning!$3:$3))","v":"Onex3"},{"$f":"VLOOKUP(AA73,Horaires!$A$3:$E$49,2,)","v":"Onex"},{"$f":"IF(AB73=\"vacances\",INDEX(Horaires!$H$3:$L$42,MATCH('Solde d''heure collaborateur'!AB$2,Horaires!$H$3:$H$40,0),4),IF(AB73=\"maladie\",INDEX(Horaires!$H$3:$L$42,MATCH('Solde d''heure collaborateur'!AB$2,Horaires!$H$3:$H$40,0),5),VLOOKUP(AA73,Horaires!$A$3:$E$60,5,)))","v":0.42708333333333331},null,{"$f":"INDEX(Planning!$11:$11,MATCH('Solde d''heure collaborateur'!$A73,Planning!$3:$3))","v":"Plo3"},{"$f":"VLOOKUP(AE73,Horaires!$A$3:$E$49,2,)","v":"Plan les Ouates"},{"$f":"IF(AF73=\"vacances\",INDEX(Horaires!$H$3:$L$42,MATCH('Solde d''heure collaborateur'!AF$2,Horaires!$H$3:$H$40,0),4),IF(AF73=\"maladie\",INDEX(Horaires!$H$3:$L$42,MATCH('Solde d''heure collaborateur'!AF$2,Horaires!$H$3:$H$40,0),5),VLOOKUP(AE73,Horaires!$A$3:$E$60,5,)))","v":0.42708333333333331},null,{"$f":"INDEX(Planning!$12:$12,MATCH('Solde d''heure collaborateur'!$A73,Planning!$3:$3))","v":"Thon3"},{"$f":"VLOOKUP(AI73,Horaires!$A$3:$E$49,2,)","v":"Thonex"},{"$f":"IF(AJ73=\"vacances\",INDEX(Horaires!$H$3:$L$42,MATCH('Solde d''heure collaborateur'!AJ$2,Horaires!$H$3:$H$40,0),4),IF(AJ73=\"maladie\",INDEX(Horaires!$H$3:$L$42,MATCH('Solde d''heure collaborateur'!AJ$2,Horaires!$H$3:$H$40,0),5),VLOOKUP(AI73,Horaires!$A$3:$E$60,5,)))","v":0.40624999999999994},null,{"$f":"INDEX(Planning!$13:$13,MATCH('Solde d''heure collaborateur'!$A73,Planning!$3:$3))","v":"vid3"},{"$f":"VLOOKUP(AM73,Horaires!$A$3:$E$49,2,)","v":"Vidollet"},{"$f":"IF(AN73=\"vacances\",INDEX(Horaires!$H$3:$L$42,MATCH('Solde d''heure collaborateur'!AN$2,Horaires!$H$3:$H$40,0),4),IF(AN73=\"maladie\",INDEX(Horaires!$H$3:$L$42,MATCH('Solde d''heure collaborateur'!AN$2,Horaires!$H$3:$H$40,0),5),VLOOKUP(AM73,Horaires!$A$3:$E$60,5,)))","v":0.40624999999999994},null,{"$f":"INDEX(Planning!$14:$14,MATCH('Solde d''heure collaborateur'!$A73,Planning!$3:$3))","v":"M"},{"$f":"VLOOKUP(AQ73,Horaires!$A$3:$E$49,2,)","v":"Maladie"},{"$f":"IF(AR73=\"vacances\",INDEX(Horaires!$H$3:$L$42,MATCH('Solde d''heure collaborateur'!AR$2,Horaires!$H$3:$H$40,0),4),IF(AR73=\"maladie\",INDEX(Horaires!$H$3:$L$42,MATCH('Solde d''heure collaborateur'!AR$2,Horaires!$H$3:$H$40,0),5),VLOOKUP(AQ73,Horaires!$A$3:$E$60,5,)))","v":0.46180555555555558},null,{"$f":"INDEX(Planning!$15:$15,MATCH('Solde d''heure collaborateur'!$A73,Planning!$3:$3))","v":"Nyon2"},{"$f":"VLOOKUP(AU73,Horaires!$A$3:$E$49,2,)","v":"Nyon"},{"$f":"IF(AV73=\"vacances\",INDEX(Horaires!$H$3:$L$42,MATCH('Solde d''heure collaborateur'!AV$2,Horaires!$H$3:$H$40,0),4),IF(AV73=\"maladie\",INDEX(Horaires!$H$3:$L$42,MATCH('Solde d''heure collaborateur'!AV$2,Horaires!$H$3:$H$40,0),5),VLOOKUP(AU73,Horaires!$A$3:$E$60,5,)))","v":0.40624999999999994},null,{"$f":"INDEX(Planning!$16:$16,MATCH('Solde d''heure collaborateur'!$A73,Planning!$3:$3))","v":"R"},{"$f":"VLOOKUP(AY73,Horaires!$A$3:$E$49,2,)","v":"Congé"},{"$f":"IF(AZ73=\"vacances\",INDEX(Horaires!$H$3:$L$42,MATCH('Solde d''heure collaborateur'!AZ$2,Horaires!$H$3:$H$40,0),4),IF(AZ73=\"maladie\",INDEX(Horaires!$H$3:$L$42,MATCH('Solde d''heure collaborateur'!AZ$2,Horaires!$H$3:$H$40,0),5),VLOOKUP(AY73,Horaires!$A$3:$E$60,5,)))","v":0},null,{"$f":"INDEX(Planning!$17:$17,MATCH('Solde d''heure collaborateur'!$A73,Planning!$3:$3))","v":"pom3"},{"$f":"VLOOKUP(BC73,Horaires!$A$3:$E$49,2,)","v":"Pommier"},{"$f":"IF(BD73=\"vacances\",INDEX(Horaires!$H$3:$L$42,MATCH('Solde d''heure collaborateur'!BD$2,Horaires!$H$3:$H$40,0),4),IF(BD73=\"maladie\",INDEX(Horaires!$H$3:$L$42,MATCH('Solde d''heure collaborateur'!BD$2,Horaires!$H$3:$H$40,0),5),VLOOKUP(BC73,Horaires!$A$3:$E$60,5,)))","v":0.42708333333333331},null,{"$f":"INDEX(Planning!$18:$18,MATCH('Solde d''heure collaborateur'!$A73,Planning!$3:$3))","v":"Nav3"},{"$f":"VLOOKUP(BG73,Horaires!$A$3:$E$49,2,)","v":"Navigation"},{"$f":"IF(BH73=\"vacances\",INDEX(Horaires!$H$3:$L$42,MATCH('Solde d''heure collaborateur'!BH$2,Horaires!$H$3:$H$40,0),4),IF(BH73=\"maladie\",INDEX(Horaires!$H$3:$L$42,MATCH('Solde d''heure collaborateur'!BH$2,Horaires!$H$3:$H$40,0),5),VLOOKUP(BG73,Horaires!$A$3:$E$60,5,)))","v":0.40624999999999994},null,{"$f":"INDEX(Planning!$19:$19,MATCH('Solde d''heure collaborateur'!$A73,Planning!$3:$3))","v":"vib3"},{"$f":"VLOOKUP(BK73,Horaires!$A$3:$E$49,2,)","v":"Vibert"},{"$f":"IF(BL73=\"vacances\",INDEX(Horaires!$H$3:$L$42,MATCH('Solde d''heure collaborateur'!BL$2,Horaires!$H$3:$H$40,0),4),IF(BL73=\"maladie\",INDEX(Horaires!$H$3:$L$42,MATCH('Solde d''heure collaborateur'!BL$2,Horaires!$H$3:$H$40,0),5),VLOOKUP(BK73,Horaires!$A$3:$E$60,5,)))","v":0.42708333333333331},null,{"$f":"INDEX(Planning!$20:$20,MATCH('Solde d''heure collaborateur'!$A73,Planning!$3:$3))","v":"R"},{"$f":"VLOOKUP(BO73,Horaires!$A$3:$E$49,2,)","v":"Congé"},{"$f":"IF(BP73=\"vacances\",INDEX(Horaires!$H$3:$L$42,MATCH('Solde d''heure collaborateur'!BP$2,Horaires!$H$3:$H$40,0),4),IF(BP73=\"maladie\",INDEX(Horaires!$H$3:$L$42,MATCH('Solde d''heure collaborateur'!BP$2,Horaires!$H$3:$H$40,0),5),VLOOKUP(BO73,Horaires!$A$3:$E$60,5,)))","v":0},null,{"$f":"INDEX(Planning!$21:$21,MATCH('Solde d''heure collaborateur'!$A73,Planning!$3:$3))","v":"Ves3"},{"$f":"VLOOKUP(BS73,Horaires!$A$3:$E$49,2,)","v":"Vesenaz"},{"$f":"IF(BT73=\"vacances\",INDEX(Horaires!$H$3:$L$42,MATCH('Solde d''heure collaborateur'!BT$2,Horaires!$H$3:$H$40,0),4),IF(BT73=\"maladie\",INDEX(Horaires!$H$3:$L$42,MATCH('Solde d''heure collaborateur'!BT$2,Horaires!$H$3:$H$40,0),5),VLOOKUP(BS73,Horaires!$A$3:$E$60,5,)))","v":0.40624999999999994},null,{"$f":"INDEX(Planning!$22:$22,MATCH('Solde d''heure collaborateur'!$A73,Planning!$3:$3))","v":"X"},{"$f":"VLOOKUP(BW73,Horaires!$A$3:$E$49,2,)","v":"XXX"},{"$f":"IF(BX73=\"vacances\",INDEX(Horaires!$H$3:$L$42,MATCH('Solde d''heure collaborateur'!BX$2,Horaires!$H$3:$H$40,0),4),IF(BX73=\"maladie\",INDEX(Horaires!$H$3:$L$42,MATCH('Solde d''heure collaborateur'!BX$2,Horaires!$H$3:$H$40,0),5),VLOOKUP(BW73,Horaires!$A$3:$E$60,5,)))","v":0},null,{"$f":"INDEX(Planning!$23:$23,MATCH('Solde d''heure collaborateur'!$A73,Planning!$3:$3))","v":"Aca3"},{"$f":"VLOOKUP(CA73,Horaires!$A$3:$E$49,2,)","v":"Acacias"},{"$f":"IF(CB73=\"vacances\",INDEX(Horaires!$H$3:$L$42,MATCH('Solde d''heure collaborateur'!CB$2,Horaires!$H$3:$H$40,0),4),IF(CB73=\"maladie\",INDEX(Horaires!$H$3:$L$42,MATCH('Solde d''heure collaborateur'!CB$2,Horaires!$H$3:$H$40,0),5),VLOOKUP(CA73,Horaires!$A$3:$E$60,5,)))","v":0.40624999999999994},null,{"$f":"INDEX(Planning!$24:$24,MATCH('Solde d''heure collaborateur'!$A73,Planning!$3:$3))","v":"Onex3"},{"$f":"VLOOKUP(CE73,Horaires!$A$3:$E$49,2,)","v":"Onex"},{"$f":"IF(CF73=\"vacances\",INDEX(Horaires!$H$3:$L$42,MATCH('Solde d''heure collaborateur'!CF$2,Horaires!$H$3:$H$40,0),4),IF(CF73=\"maladie\",INDEX(Horaires!$H$3:$L$42,MATCH('Solde d''heure collaborateur'!CF$2,Horaires!$H$3:$H$40,0),5),VLOOKUP(CE73,Horaires!$A$3:$E$60,5,)))","v":0.42708333333333331},null,{"$f":"INDEX(Planning!$25:$25,MATCH('Solde d''heure collaborateur'!$A73,Planning!$3:$3))","v":"X"},{"$f":"VLOOKUP(CI73,Horaires!$A$3:$E$49,2,)","v":"XXX"},{"$f":"IF(CJ73=\"vacances\",INDEX(Horaires!$H$3:$L$42,MATCH('Solde d''heure collaborateur'!CJ$2,Horaires!$H$3:$H$40,0),4),IF(CJ73=\"maladie\",INDEX(Horaires!$H$3:$L$42,MATCH('Solde d''heure collaborateur'!CJ$2,Horaires!$H$3:$H$40,0),5),VLOOKUP(CI73,Horaires!$A$3:$E$60,5,)))","v":0},null,{"$f":"INDEX(Planning!$26:$26,MATCH('Solde d''heure collaborateur'!$A73,Planning!$3:$3))","v":"R"},{"$f":"VLOOKUP(CM73,Horaires!$A$3:$E$49,2,)","v":"Congé"},{"$f":"IF(CN73=\"vacances\",INDEX(Horaires!$H$3:$L$42,MATCH('Solde d''heure collaborateur'!CN$2,Horaires!$H$3:$H$40,0),4),IF(CN73=\"maladie\",INDEX(Horaires!$H$3:$L$42,MATCH('Solde d''heure collaborateur'!CN$2,Horaires!$H$3:$H$40,0),5),VLOOKUP(CM73,Horaires!$A$3:$E$60,5,)))","v":0},null,{"$f":"INDEX(Planning!$27:$27,MATCH('Solde d''heure collaborateur'!$A73,Planning!$3:$3))","v":"vib3"},{"$f":"VLOOKUP(CQ73,Horaires!$A$3:$E$49,2,)","v":"Vibert"},{"$f":"IF(CR73=\"vacances\",INDEX(Horaires!$H$3:$L$42,MATCH('Solde d''heure collaborateur'!CR$2,Horaires!$H$3:$H$40,0),4),IF(CR73=\"maladie\",INDEX(Horaires!$H$3:$L$42,MATCH('Solde d''heure collaborateur'!CR$2,Horaires!$H$3:$H$40,0),5),VLOOKUP(CQ73,Horaires!$A$3:$E$60,5,)))","v":0.42708333333333331},null,{"$f":"INDEX(Planning!$28:$28,MATCH('Solde d''heure collaborateur'!$A73,Planning!$3:$3))","v":"tour3"},{"$f":"VLOOKUP(CU73,Horaires!$A$3:$E$49,2,)","v":"Tourelle"},{"$f":"IF(CV73=\"vacances\",INDEX(Horaires!$H$3:$L$42,MATCH('Solde d''heure collaborateur'!CV$2,Horaires!$H$3:$H$40,0),4),IF(CV73=\"maladie\",INDEX(Horaires!$H$3:$L$42,MATCH('Solde d''heure collaborateur'!CV$2,Horaires!$H$3:$H$40,0),5),VLOOKUP(CU73,Horaires!$A$3:$E$60,5,)))","v":0.42708333333333331},null,{"$f":"INDEX(Planning!$29:$29,MATCH('Solde d''heure collaborateur'!$A73,Planning!$3:$3))","v":"X"},{"$f":"VLOOKUP(CY73,Horaires!$A$3:$E$49,2,)","v":"XXX"},{"$f":"IF(CZ73=\"vacances\",INDEX(Horaires!$H$3:$L$42,MATCH('Solde d''heure collaborateur'!CZ$2,Horaires!$H$3:$H$40,0),4),IF(CZ73=\"maladie\",INDEX(Horaires!$H$3:$L$42,MATCH('Solde d''heure collaborateur'!CZ$2,Horaires!$H$3:$H$40,0),5),VLOOKUP(CY73,Horaires!$A$3:$E$60,5,)))","v":0},null,{"$f":"INDEX(Planning!$30:$30,MATCH('Solde d''heure collaborateur'!$A73,Planning!$3:$3))","v":"X"},{"$f":"VLOOKUP(DC73,Horaires!$A$3:$E$49,2,)","v":"XXX"},{"$f":"IF(DD73=\"vacances\",INDEX(Horaires!$H$3:$L$42,MATCH('Solde d''heure collaborateur'!DD$2,Horaires!$H$3:$H$40,0),4),IF(DD73=\"maladie\",INDEX(Horaires!$H$3:$L$42,MATCH('Solde d''heure collaborateur'!DD$2,Horaires!$H$3:$H$40,0),5),VLOOKUP(DC73,Horaires!$A$3:$E$60,5,)))","v":0},null,{"$f":"INDEX(Planning!$31:$31,MATCH('Solde d''heure collaborateur'!$A73,Planning!$3:$3))","v":"X"},{"$f":"VLOOKUP(DG73,Horaires!$A$3:$E$49,2,)","v":"XXX"},{"$f":"IF(DH73=\"vacances\",INDEX(Horaires!$H$3:$L$42,MATCH('Solde d''heure collaborateur'!DH$2,Horaires!$H$3:$H$40,0),4),IF(DH73=\"maladie\",INDEX(Horaires!$H$3:$L$42,MATCH('Solde d''heure collaborateur'!DH$2,Horaires!$H$3:$H$40,0),5),VLOOKUP(DG73,Horaires!$A$3:$E$60,5,)))","v":0},null,{"$f":"INDEX(Planning!$32:$32,MATCH('Solde d''heure collaborateur'!$A73,Planning!$3:$3))","v":"X"},{"$f":"VLOOKUP(DK73,Horaires!$A$3:$E$49,2,)","v":"XXX"},{"$f":"IF(DL73=\"vacances\",INDEX(Horaires!$H$3:$L$42,MATCH('Solde d''heure collaborateur'!DL$2,Horaires!$H$3:$H$40,0),4),IF(DL73=\"maladie\",INDEX(Horaires!$H$3:$L$42,MATCH('Solde d''heure collaborateur'!DL$2,Horaires!$H$3:$H$40,0),5),VLOOKUP(DK73,Horaires!$A$3:$E$60,5,)))","v":0},null,{"$f":"INDEX(Planning!$33:$33,MATCH('Solde d''heure collaborateur'!$A73,Planning!$3:$3))","v":"X"},{"$f":"VLOOKUP(DO73,Horaires!$A$3:$E$49,2,)","v":"XXX"},{"$f":"IF(DP73=\"vacances\",INDEX(Horaires!$H$3:$L$42,MATCH('Solde d''heure collaborateur'!DP$2,Horaires!$H$3:$H$40,0),4),IF(DP73=\"maladie\",INDEX(Horaires!$H$3:$L$42,MATCH('Solde d''heure collaborateur'!DP$2,Horaires!$H$3:$H$40,0),5),VLOOKUP(DO73,Horaires!$A$3:$E$60,5,)))","v":0},null,{"$f":"INDEX(Planning!$34:$34,MATCH('Solde d''heure collaborateur'!$A73,Planning!$3:$3))","v":"X"},{"$f":"VLOOKUP(DS73,Horaires!$A$3:$E$49,2,)","v":"XXX"},{"$f":"IF(DT73=\"vacances\",INDEX(Horaires!$H$3:$L$42,MATCH('Solde d''heure collaborateur'!DT$2,Horaires!$H$3:$H$40,0),4),IF(DT73=\"maladie\",INDEX(Horaires!$H$3:$L$42,MATCH('Solde d''heure collaborateur'!DT$2,Horaires!$H$3:$H$40,0),5),VLOOKUP(DS73,Horaires!$A$3:$E$60,5,)))","v":0},null,{"$f":"INDEX(Planning!$35:$35,MATCH('Solde d''heure collaborateur'!$A73,Planning!$3:$3))","v":"X"},{"$f":"VLOOKUP(DW73,Horaires!$A$3:$E$49,2,)","v":"XXX"},{"$f":"IF(DX73=\"vacances\",INDEX(Horaires!$H$3:$L$42,MATCH('Solde d''heure collaborateur'!DX$2,Horaires!$H$3:$H$40,0),4),IF(DX73=\"maladie\",INDEX(Horaires!$H$3:$L$42,MATCH('Solde d''heure collaborateur'!DX$2,Horaires!$H$3:$H$40,0),5),VLOOKUP(DW73,Horaires!$A$3:$E$60,5,)))","v":0}]
[null,null,null,{"$f":"SUM(E74-INDEX(Horaires!$H$3:$L$37,MATCH('Solde d''heure collaborateur'!D$2,Horaires!$H$3:$H$37,0),2))","v":8.8999999999999915},{"$f":"SUM(E68:E73)*24","v":50.899999999999991},null,null,{"$f":"SUM(I74-INDEX(Horaires!$H$3:$L$37,MATCH('Solde d''heure collaborateur'!H$2,Horaires!$H$3:$H$37,0),2))","v":10.399999999999991},{"$f":"SUM(I68:I73)*24","v":52.399999999999991},null,null,{"$f":"SUM(M74-INDEX(Horaires!$H$3:$L$37,MATCH('Solde d''heure collaborateur'!L$2,Horaires!$H$3:$H$37,0),2))","v":0},{"$f":"SUM(M68:M73)*24","v":42},null,null,{"$f":"SUM(Q74-INDEX(Horaires!$H$3:$L$37,MATCH('Solde d''heure collaborateur'!P$2,Horaires!$H$3:$H$37,0),2))","v":3.5527136788005009E-15},{"$f":"SUM(Q68:Q73)*24","v":22.500000000000004},null,null,{"$f":"SUM(U74-INDEX(Horaires!$H$3:$L$37,MATCH('Solde d''heure collaborateur'!T$2,Horaires!$H$3:$H$37,0),2))","v":11.900000000000006},{"$f":"SUM(U68:U73)*24","v":53.900000000000006},null,null,{"$f":"SUM(Y74-INDEX(Horaires!$H$3:$L$37,MATCH('Solde d''heure collaborateur'!X$2,Horaires!$H$3:$H$37,0),2))","v":8.4000000000000021},{"$f":"SUM(Y68:Y73)*24","v":30.900000000000002},null,null,{"$f":"SUM(AC74-INDEX(Horaires!$H$3:$L$37,MATCH('Solde d''heure collaborateur'!AB$2,Horaires!$H$3:$H$37,0),2))","v":10.899999999999999},{"$f":"SUM(AC68:AC73)*24","v":52.9},null,null,{"$f":"SUM(AG74-INDEX(Horaires!$H$3:$L$37,MATCH('Solde d''heure collaborateur'!AF$2,Horaires!$H$3:$H$37,0),2))","v":10.400000000000006},{"$f":"SUM(AG68:AG73)*24","v":52.400000000000006},null,null,{"$f":"SUM(AK74-INDEX(Horaires!$H$3:$L$37,MATCH('Solde d''heure collaborateur'!AJ$2,Horaires!$H$3:$H$37,0),2))","v":8.4000000000000057},{"$f":"SUM(AK68:AK73)*24","v":50.400000000000006},null,null,{"$f":"SUM(AO74-INDEX(Horaires!$H$3:$L$37,MATCH('Solde d''heure collaborateur'!AN$2,Horaires!$H$3:$H$37,0),2))","v":20.149999999999991},{"$f":"SUM(AO68:AO73)*24","v":62.149999999999991},null,null,{"$f":"SUM(AS74-INDEX(Horaires!$H$3:$L$37,MATCH('Solde d''heure collaborateur'!AR$2,Horaires!$H$3:$H$37,0),2))","v":0},{"$f":"SUM(AS68:AS73)*24","v":33.25},null,null,{"$f":"SUM(AW74-INDEX(Horaires!$H$3:$L$37,MATCH('Solde d''heure collaborateur'!AV$2,Horaires!$H$3:$H$37,0),2))","v":8.4000000000000057},{"$f":"SUM(AW68:AW73)*24","v":50.400000000000006},null,null,{"$f":"SUM(BA74-INDEX(Horaires!$H$3:$L$37,MATCH('Solde d''heure collaborateur'!AZ$2,Horaires!$H$3:$H$37,0),2))","v":9.3999999999999986},{"$f":"SUM(BA68:BA73)*24","v":51.4},null,null,{"$f":"SUM(BE74-INDEX(Horaires!$H$3:$L$37,MATCH('Solde d''heure collaborateur'!BD$2,Horaires!$H$3:$H$37,0),2))","v":8.9000000000000057},{"$f":"SUM(BE68:BE73)*24","v":50.900000000000006},null,null,{"$f":"SUM(BI74-INDEX(Horaires!$H$3:$L$37,MATCH('Solde d''heure collaborateur'!BH$2,Horaires!$H$3:$H$37,0),2))","v":10.399999999999991},{"$f":"SUM(BI68:BI73)*24","v":52.399999999999991},null,null,{"$f":"SUM(BM74-INDEX(Horaires!$H$3:$L$37,MATCH('Solde d''heure collaborateur'!BL$2,Horaires!$H$3:$H$37,0),2))","v":10.899999999999999},{"$f":"SUM(BM68:BM73)*24","v":52.9},null,null,{"$f":"SUM(BQ74-INDEX(Horaires!$H$3:$L$37,MATCH('Solde d''heure collaborateur'!BP$2,Horaires!$H$3:$H$37,0),2))","v":9.9000000000000057},{"$f":"SUM(BQ68:BQ73)*24","v":51.900000000000006},null,null,{"$f":"SUM(BU74-INDEX(Horaires!$H$3:$L$37,MATCH('Solde d''heure collaborateur'!BT$2,Horaires!$H$3:$H$37,0),2))","v":-1.8500000000000014},{"$f":"SUM(BU68:BU73)*24","v":40.15},null,null,{"$f":"SUM(BY74-INDEX(Horaires!$H$3:$L$37,MATCH('Solde d''heure collaborateur'!BX$2,Horaires!$H$3:$H$37,0),2))","v":0},{"$f":"SUM(BY68:BY73)*24","v":21.5},null,null,{"$f":"SUM(CC74-INDEX(Horaires!$H$3:$L$37,MATCH('Solde d''heure collaborateur'!CB$2,Horaires!$H$3:$H$37,0),2))","v":10.399999999999991},{"$f":"SUM(CC68:CC73)*24","v":52.399999999999991},null,null,{"$f":"SUM(CG74-INDEX(Horaires!$H$3:$L$37,MATCH('Solde d''heure collaborateur'!CF$2,Horaires!$H$3:$H$37,0),2))","v":9.9000000000000057},{"$f":"SUM(CG68:CG73)*24","v":51.900000000000006},null,null,{"$f":"SUM(CK74-INDEX(Horaires!$H$3:$L$37,MATCH('Solde d''heure collaborateur'!CJ$2,Horaires!$H$3:$H$37,0),2))","v":-42},{"$f":"SUM(CK68:CK73)*24","v":0},null,null,{"$f":"SUM(CO74-INDEX(Horaires!$H$3:$L$37,MATCH('Solde d''heure collaborateur'!CN$2,Horaires!$H$3:$H$37,0),2))","v":9.9000000000000057},{"$f":"SUM(CO68:CO73)*24","v":51.900000000000006},null,null,{"$f":"SUM(CS74-INDEX(Horaires!$H$3:$L$37,MATCH('Solde d''heure collaborateur'!CR$2,Horaires!$H$3:$H$37,0),2))","v":9.3999999999999986},{"$f":"SUM(CS68:CS73)*24","v":51.4},null,null,{"$f":"SUM(CW74-INDEX(Horaires!$H$3:$L$37,MATCH('Solde d''heure collaborateur'!CV$2,Horaires!$H$3:$H$37,0),2))","v":22.150000000000006},{"$f":"SUM(CW68:CW73)*24","v":64.150000000000006},null,null,{"$f":"SUM(DA74-INDEX(Horaires!$H$3:$L$37,MATCH('Solde d''heure collaborateur'!CZ$2,Horaires!$H$3:$H$37,0),2))","v":30.400000000000006},{"$f":"SUM(DA68:DA73)*24","v":30.400000000000006},null,null,{"$f":"SUM(DE74-INDEX(Horaires!$H$3:$L$37,MATCH('Solde d''heure collaborateur'!DD$2,Horaires!$H$3:$H$37,0),2))","v":{"$error":"#N/A"}},{"$f":"SUM(DE68:DE73)*24","v":0},null,null,{"$f":"SUM(DI74-INDEX(Horaires!$H$3:$L$37,MATCH('Solde d''heure collaborateur'!DH$2,Horaires!$H$3:$H$37,0),2))","v":0},{"$f":"SUM(DI68:DI73)*24","v":0},null,null,{"$f":"SUM(DM74-INDEX(Horaires!$H$3:$L$37,MATCH('Solde d''heure collaborateur'!DL$2,Horaires!$H$3:$H$37,0),2))","v":0},{"$f":"SUM(DM68:DM73)*24","v":0},null,null,{"$f":"SUM(DQ74-INDEX(Horaires!$H$3:$L$37,MATCH('Solde d''heure collaborateur'!DP$2,Horaires!$H$3:$H$37,0),2))","v":0},{"$f":"SUM(DQ68:DQ73)*24","v":0},null,null,{"$f":"SUM(DU74-INDEX(Horaires!$H$3:$L$37,MATCH('Solde d''heure collaborateur'!DT$2,Horaires!$H$3:$H$37,0),2))","v":0},{"$f":"SUM(DU68:DU73)*24","v":0},null,null,{"$f":"SUM(DY74-INDEX(Horaires!$H$3:$L$37,MATCH('Solde d''heure collaborateur'!DX$2,Horaires!$H$3:$H$37,0),2))","v":0},{"$f":"SUM(DY68:DY73)*24","v":0}]
["Heures"]
["Ancien solde"]
["Nouv. Solde",null,null,{"$f":"SUM(D76+D74+D66+D58+D50+D42+D34+D26+D18+D10)","v":5.2999999999999901},null,null,null,{"$f":"SUM(H76+H74+H66+H58+H50+H42+H34+H26+H18+H10)","v":0.39999999999998437},null,null,null,{"$f":"SUM(L76+L74+L66+L58+L50+L42+L34+L26+L18+L10)","v":0},null,null,null,{"$f":"SUM(P76+P74+P66+P58+P50+P42+P34+P26+P18+P10)","v":3.1974423109204508E-14},null,null,null,{"$f":"SUM(T76+T74+T66+T58+T50+T42+T34+T26+T18+T10)","v":33.050000000000011},null,null,null,{"$f":"SUM(X76+X74+X66+X58+X50+X42+X34+X26+X18+X10)","v":{"$error":"#N/A"}},null,null,null,{"$f":"SUM(AB76+AB74+AB66+AB58+AB50+AB42+AB34+AB26+AB18+AB10)","v":19.300000000000004},null,null,null,{"$f":"SUM(AF76+AF74+AF66+AF58+AF50+AF42+AF34+AF26+AF18+AF10)","v":9.2500000000000071},null,null,null,{"$f":"SUM(AJ76+AJ74+AJ66+AJ58+AJ50+AJ42+AJ34+AJ26+AJ18+AJ10)","v":14.050000000000004},null,null,null,{"$f":"SUM(AN76+AN74+AN66+AN58+AN50+AN42+AN34+AN26+AN18+AN10)","v":17.549999999999983},null,null,null,{"$f":"SUM(AR76+AR74+AR66+AR58+AR50+AR42+AR34+AR26+AR18+AR10)","v":0},null,null,null,{"$f":"SUM(AV76+AV74+AV66+AV58+AV50+AV42+AV34+AV26+AV18+AV10)","v":9.5500000000000114},null,null,null,{"$f":"SUM(AZ76+AZ74+AZ66+AZ58+AZ50+AZ42+AZ34+AZ26+AZ18+AZ10)","v":10.549999999999997},null,null,null,{"$f":"SUM(BD76+BD74+BD66+BD58+BD50+BD42+BD34+BD26+BD18+BD10)","v":29.800000000000004},null,null,null,{"$f":"SUM(BH76+BH74+BH66+BH58+BH50+BH42+BH34+BH26+BH18+BH10)","v":18.549999999999997},null,null,null,{"$f":"SUM(BL76+BL74+BL66+BL58+BL50+BL42+BL34+BL26+BL18+BL10)","v":26.050000000000004},null,null,null,{"$f":"SUM(BP76+BP74+BP66+BP58+BP50+BP42+BP34+BP26+BP18+BP10)","v":14.050000000000004},null,null,null,{"$f":"SUM(BT76+BT74+BT66+BT58+BT50+BT42+BT34+BT26+BT18+BT10)","v":5.2999999999999901},null,null,null,{"$f":"SUM(BX76+BX74+BX66+BX58+BX50+BX42+BX34+BX26+BX18+BX10)","v":0},null,null,null,{"$f":"SUM(CB76+CB74+CB66+CB58+CB50+CB42+CB34+CB26+CB18+CB10)","v":26.049999999999997},null,null,null,{"$f":"SUM(CF76+CF74+CF66+CF58+CF50+CF42+CF34+CF26+CF18+CF10)","v":16.800000000000011},null,null,null,{"$f":"SUM(CJ76+CJ74+CJ66+CJ58+CJ50+CJ42+CJ34+CJ26+CJ18+CJ10)","v":-378},null,null,null,{"$f":"SUM(CN76+CN74+CN66+CN58+CN50+CN42+CN34+CN26+CN18+CN10)","v":15.550000000000004},null,null,null,{"$f":"SUM(CR76+CR74+CR66+CR58+CR50+CR42+CR34+CR26+CR18+CR10)","v":10.299999999999997},null,null,null,{"$f":"SUM(CV76+CV74+CV66+CV58+CV50+CV42+CV34+CV26+CV18+CV10)","v":31.550000000000008},null,null,null,{"$f":"SUM(CZ76+CZ74+CZ66+CZ58+CZ50+CZ42+CZ34+CZ26+CZ18+CZ10)","v":233.3},null,null,null,null,null,null,null,{"$f":"SUM(DH76+DH74+DH66+DH58+DH50+DH42+DH34+DH26+DH18+DH10)","v":31.75},null,null,null,{"$f":"SUM(DL76+DL74+DL66+DL58+DL50+DL42+DL34+DL26+DL18+DL10)","v":10.25},null,null,null,{"$f":"SUM(DP76+DP74+DP66+DP58+DP50+DP42+DP34+DP26+DP18+DP10)","v":0},null,null,null,{"$f":"SUM(DT76+DT74+DT66+DT58+DT50+DT42+DT34+DT26+DT18+DT10)","v":0},null,null,null,{"$f":"SUM(DX76+DX74+DX66+DX58+DX50+DX42+DX34+DX26+DX18+DX10)","v":0}]
[]
["Vacances"]
["Ancien solde",null,null,15,null,null,null,7,null,null,null,8,null,null,null,7,null,null,null,14,null,null,null,8,null,null,null,20,null,null,null,23,null,null,null,5,null,null,null,0,null,null,null,2,null,null,null,-5,null,null,null,8,null,null,null,-5,null,null,null,20,null,null,null,7,null,null,null,8,null,null,null,12,null,null,null,12,null,null,null,8,null,null,null,35,null,null,null,4,null,null,null,8,null,null,null,8,null,null,null,1,null,null,null,0,null,null,null,null,null,null,null,0,null,null,null,0,null,null,null,0,null,null,null,0,null,null,null,0]
["Nouv. Solde",null,null,{"$f":"SUM(D80-COUNTIF(D4:D73,\"vacances\"))","v":15},null,null,null,{"$f":"SUM(H80-COUNTIF(H4:H73,\"vacances\"))","v":3},null,null,null,{"$f":"SUM(L80-COUNTIF(L4:L73,\"vacances\"))","v":8},null,null,null,{"$f":"SUM(P80-COUNTIF(P4:P73,\"vacances\"))","v":7},null,null,null,{"$f":"SUM(T80-COUNTIF(T4:T73,\"vacances\"))","v":14},null,null,null,{"$f":"SUM(X80-COUNTIF(X4:X73,\"vacances\"))","v":8},null,null,null,{"$f":"SUM(AB80-COUNTIF(AB4:AB73,\"vacances\"))","v":20},null,null,null,{"$f":"SUM(AF80-COUNTIF(AF4:AF73,\"vacances\"))","v":20},null,null,null,{"$f":"SUM(AJ80-COUNTIF(AJ4:AJ73,\"vacances\"))","v":5},null,null,null,{"$f":"SUM(AN80-COUNTIF(AN4:AN73,\"vacances\"))","v":0},null,null,null,{"$f":"SUM(AR80-COUNTIF(AR4:AR73,\"vacances\"))","v":2},null,null,null,{"$f":"SUM(AV80-COUNTIF(AV4:AV73,\"vacances\"))","v":-5},null,null,null,{"$f":"SUM(AZ80-COUNTIF(AZ4:AZ73,\"vacances\"))","v":8},null,null,null,{"$f":"SUM(BD80-COUNTIF(BD4:BD73,\"vacances\"))","v":-5},null,null,null,{"$f":"SUM(BH80-COUNTIF(BH4:BH73,\"vacances\"))","v":20},null,null,null,{"$f":"SUM(BL80-COUNTIF(BL4:BL73,\"vacances\"))","v":7},null,null,null,{"$f":"SUM(BP80-COUNTIF(BP4:BP73,\"vacances\"))","v":8},null,null,null,{"$f":"SUM(BT80-COUNTIF(BT4:BT73,\"vacances\"))","v":12},null,null,null,{"$f":"SUM(BX80-COUNTIF(BX4:BX73,\"vacances\"))","v":12},null,null,null,{"$f":"SUM(CB80-COUNTIF(CB4:CB73,\"vacances\"))","v":8},null,null,null,{"$f":"SUM(CF80-COUNTIF(CF4:CF73,\"vacances\"))","v":35},null,null,null,{"$f":"SUM(CJ80-COUNTIF(CJ4:CJ73,\"vacances\"))","v":4},null,null,null,{"$f":"SUM(CN80-COUNTIF(CN4:CN73,\"vacances\"))","v":8},null,null,null,{"$f":"SUM(CR80-COUNTIF(CR4:CR73,\"vacances\"))","v":8},null,null,null,{"$f":"SUM(CV80-COUNTIF(CV4:CV73,\"vacances\"))","v":1},null,null,null,{"$f":"SUM(CZ80-COUNTIF(CZ4:CZ73,\"vacances\"))","v":0},null,null,null,null,null,null,null,{"$f":"SUM(DH80-COUNTIF(DH4:DH73,\"vacances\"))","v":0},null,null,null,{"$f":"SUM(DL80-COUNTIF(DL4:DL73,\"vacances\"))","v":0},null,null,null,{"$f":"SUM(DP80-COUNTIF(DP4:DP73,\"vacances\"))","v":0},null,null,null,{"$f":"SUM(DT80-COUNTIF(DT4:DT73,\"vacances\"))","v":0},null,null,null,{"$f":"SUM(DX80-COUNTIF(DX4:DX73,\"vacances\"))","v":0}]

{"sheet":"Horaires","index":3,"n_rows":46,"n_cols":13,"rows_kept":46,"cut":false,"hidden":false,"merged":[[0,0,0,4],[0,6,0,12]]}
["Heures de travail",null,null,null,null,null,"Collaborateur"]
["Abrév.","Nom","H début","H fin","H effectuées",null,"Nom","Prénom","Contrat hebdo","Nbre jour travail","Vacances/5j","Heure travail/j","Mail"]
["Aca1","Acacias","08:30:00","19:15:00",{"$f":"D3-C3","v":"10:45:00"},null,null,{"$f":"Planning!B4","v":"Aurélien"},42,4,{"$f":"SUM(I3/5/24)","v":0.35000000000000003},{"$f":"I3/J3/24","v":0.4375}]
["Aca2","Acacias","08:30:00","19:45:00","11:15:00",null,null,{"$f":"Planning!B5","v":"Fabrice"},42,4,{"$f":"SUM(I4/5/24)","v":0.35000000000000003},{"$f":"I4/J4/24","v":0.4375}]
["Aca3","Acacias","08:30:00","18:15:00","09:45:00",null,null,{"$f":"Planning!B6","v":"Jacques"},42,4,0.35000000000000003,0.4375]
["Nav1","Navigation","08:30:00","19:15:00","10:45:00",null,null,{"$f":"Planning!B7","v":"Fréderic D"},22.5,2,0.1875,0.46875]
["Nav2","Navigation","08:30:00","19:45:00","11:15:00",null,null,{"$f":"Planning!B8","v":"Henri"},42,4,0.35000000000000003,0.4375]
["Nav3","Navigation","08:30:00","18:15:00","09:45:00",null,null,{"$f":"Planning!B9","v":"Virginie"},22.5,2,0.1875,0.46875]
["Nyon1","Nyon","08:30:00","19:15:00","10:45:00",null,null,{"$f":"Planning!B10","v":"Nicolas"},42,4,0.35000000000000003,0.4375]
["Nyon2","Nyon","08:30:00","18:15:00","09:45:00",null,null,{"$f":"Planning!B11","v":"Véronique"},42,4,0.35000000000000003,0.4375]
["Onex1","Onex","08:00:00","19:15:00","11:15:00",null,null,{"$f":"Planning!B12","v":"Paulo"},42,4,0.35000000000000003,0.4375]
["Onex2","Onex","08:00:00","19:45:00","11:45:00",null,null,{"$f":"Planning!B13","v":"J-Christophe"},42,4,0.35000000000000003,0.4375]
["Onex3","Onex","08:00:00","18:15:00","10:15:00",null,null,{"$f":"Planning!B14","v":"David"},33.25,3,0.27708333333333335,0.46180555555555558]
["Plo1","Plan les Ouates","08:00:00","19:15:00","11:15:00",null,null,{"$f":"Planning!B15","v":"Hubert"},42,4,0.35000000000000003,0.4375]
["Plo2","Plan les Ouates","08:00:00","19:45:00","11:45:00",null,null,{"$f":"Planning!B16","v":"Izabella"},42,4,0.35000000000000003,0.4375]
["Plo3","Plan les Ouates","08:00:00","18:15:00","10:15:00",null,null,{"$f":"Planning!B17","v":"Julien"},42,4,0.35000000000000003,0.4375]
["Pom1","Pommier","08:30:00","19:15:00","10:45:00",null,null,{"$f":"Planning!B18","v":"Arnaud"},42,4,0.35000000000000003,0.4375]
["Pom2","Pommier","08:30:00","19:45:00","11:15:00",null,null,{"$f":"Planning!B19","v":"Pascal"},42,4,0.35000000000000003,0.4375]
["Pom3","Pommier","08:00:00","18:15:00","10:15:00",null,null,{"$f":"Planning!B20","v":"Lidia"},42,4,0.35000000000000003,0.4375]
["Thon1","Thonex","08:30:00","19:15:00","10:45:00",null,null,{"$f":"Planning!B21","v":"Fréderic M"},42,4,0.35000000000000003,0.4375]
["Thon2","Thonex","08:30:00","19:45:00","11:15:00",null,null,{"$f":"Planning!B22","v":"Vincent"},21.5,2,0.17916666666666667,0.44791666666666669]
["Thon3","Thonex","08:30:00","18:15:00","09:45:00",null,null,{"$f":"Planning!B23","v":"Hervé"},42,4,0.35000000000000003,0.4375]
["Tour1","Tourelle","08:00:00","19:15:00","11:15:00",null,null,{"$f":"Planning!B24","v":"Nathalie"},42,4,{"$f":"SUM(I23/5/24)","v":0.35000000000000003},{"$f":"I23/J23/24","v":0.4375}]
["Tour2","Tourelle","08:00:00","19:45:00","11:45:00",null,null,{"$f":"Planning!B25","v":"Lionel"},42,4,0.35000000000000003,0.4375]
["Tour3","Tourelle","08:00:00","18:15:00","10:15:00",null,null,{"$f":"Planning!B26","v":"Adilia"},42,4,0.35000000000000003,0.4375]
["Ves1","Vesenaz","08:30:00","19:15:00","10:45:00",null,null,{"$f":"Planning!B27","v":"Guillaume"},42,4,0.35000000000000003,0.4375]
["Ves2","Vesenaz","08:30:00","19:45:00","11:15:00",null,null,{"$f":"Planning!B28","v":"Jeremy"},42,4,0.35000000000000003,0.4375]
["Ves3","Vesenaz","08:30:00","18:15:00","09:45:00",null,null,{"$f":"Planning!B29","v":"Xavier"},null,null,0,{"$error":"#DIV/0!"}]
["Vib1","Vibert","08:00:00","19:15:00","11:15:00",null,null,null,null,null,0,{"$error":"#DIV/0!"}]
["Vib2","Vibert","08:00:00","19:45:00","11:45:00",null,null,{"$f":"Planning!B31","v":"M. Romanens"},null,null,0,{"$error":"#DIV/0!"}]
["Vib3","Vibert","08:00:00","18:15:00","10:15:00",null,null,{"$f":"Planning!B32","v":"Mme Romanens"},null,null,0,{"$error":"#DIV/0!"}]
["vibjeu","Vibert","08:00:00","19:00:00","11:00:00",null,null,{"$f":"Planning!B33","v":0},null,null,0,{"$error":"#DIV/0!"}]
["Vibferm","Vibert ferm","10:00:00","20:15:00","10:15:00",null,null,{"$f":"Planning!B34","v":0},null,null,0,{"$error":"#DIV/0!"}]
["Vid1","Vidollet","08:30:00","19:15:00","10:45:00",null,null,{"$f":"Planning!B35","v":0},null,null,0,{"$error":"#DIV/0!"}]
["Vid2","Vidollet","08:30:00","19:45:00","11:15:00",null,null,null,null,null,0,{"$error":"#DIV/0!"}]
["Vid3","Vidollet","08:30:00","18:15:00","09:45:00",null,null,null,null,null,0,{"$error":"#DIV/0!"}]
["Abs","Absence","00:00:00","00:00:00","00:00:00",null,null,null,null,null,0,{"$error":"#DIV/0!"}]
["R","Congé","00:00:00","00:00:00","00:00:00"]
["V","Vacances","00:00:00","00:00:00","08:24:00"]
["recup","Récupération","00:00:00","00:00:00","00:00:00"]
["F","Férié","00:00:00","00:00:00","08:24:00"]
["M","Maladie","00:00:00","00:00:00","08:24:00"]
["X","XXX","00:00:00","00:00:00","00:00:00"]
["D","A déterminer","00:00:00","00:00:00","00:00:00"]
["Onex+Vid","Onex + Vidollet","08:00:00","19:15:00",{"$f":"SUM(D45-C45)","v":"11:15:00"}]
["Dem","Démenagement","08:30:00","19:15:00",{"$f":"SUM(D46-C46)","v":"10:45:00"}]

{"sheet":"envoi planning","index":4,"n_rows":68,"n_cols":8,"rows_kept":68,"cut":false,"hidden":false,"merged":[[4,2,4,3],[7,7,7,8],[9,7,9,8],[1,7,1,11],[5,7,5,17]]}
[]
[null,null,null,null,10,null,"Objet :","Planning Novembre Décembre"]
[]
[null,{"$f":"INDEX(Horaires!G3:H37,'envoi planning'!E2,1)","v":0},null,{"$f":"INDEX(Horaires!G3:M37,'envoi planning'!E2,2)","v":"J-Christophe"},null,null,"Entête :",{"$f":"\"Bonjour\"&\" \"&D4","v":"Bonjour J-Christophe"}]
[null,"Adresse Mail : ",{"$f":"INDEX(Horaires!H3:M37,'envoi planning'!E2,6)","v":0}]
[null,null,null,null,null,null,"Corps mail :","Veuillez trouver ci-joint votre planning pour les mois de Novembre et Décembre."]
[null,{"$f":"'Solde d''heure collaborateur'!A4","v":"2013-11-04"},null,{"$f":"INDEX('Solde d''heure collaborateur'!$1:$1048576,MATCH('envoi planning'!$B7,'Solde d''heure collaborateur'!_xlnm.Print_Titles,0),MATCH('envoi planning'!$D$4,'Solde d''heure collaborateur'!$2:$2,0))","v":"Pommier"}]
[null,{"$f":"'Solde d''heure collaborateur'!A5","v":"2013-11-05"},null,{"$f":"INDEX('Solde d''heure collaborateur'!$1:$1048576,MATCH('envoi planning'!$B8,'Solde d''heure collaborateur'!_xlnm.Print_Titles,0),MATCH('envoi planning'!$D$4,'Solde d''heure collaborateur'!$2:$2,0))","v":"Pommier"},null,null,"Remerciement :","Cordialement"]
[null,{"$f":"'Solde d''heure collaborateur'!A6","v":"2013-11-06"},null,{"$f":"INDEX('Solde d''heure collaborateur'!$1:$1048576,MATCH('envoi planning'!$B9,'Solde d''heure collaborateur'!_xlnm.Print_Titles,0),MATCH('envoi planning'!$D$4,'Solde d''heure collaborateur'!$2:$2,0))","v":"Nyon"}]
[null,{"$f":"'Solde d''heure collaborateur'!A7","v":"2013-11-07"},null,{"$f":"INDEX('Solde d''heure collaborateur'!$1:$1048576,MATCH('envoi planning'!$B10,'Solde d''heure collaborateur'!_xlnm.Print_Titles,0),MATCH('envoi planning'!$D$4,'Solde d''heure collaborateur'!$2:$2,0))","v":"Pommier"},null,null,"Signature:"]
[null,{"$f":"'Solde d''heure collaborateur'!A8","v":"2013-11-08"},null,{"$f":"INDEX('Solde d''heure collaborateur'!$1:$1048576,MATCH('envoi planning'!$B11,'Solde d''heure collaborateur'!_xlnm.Print_Titles,0),MATCH('envoi planning'!$D$4,'Solde d''heure collaborateur'!$2:$2,0))","v":"Congé"}]
[null,{"$f":"'Solde d''heure collaborateur'!A9","v":"2013-11-09"},null,{"$f":"INDEX('Solde d''heure collaborateur'!$1:$1048576,MATCH('envoi planning'!$B12,'Solde d''heure collaborateur'!_xlnm.Print_Titles,0),MATCH('envoi planning'!$D$4,'Solde d''heure collaborateur'!$2:$2,0))","v":"Congé"}]
[]
[null,{"$f":"'Solde d''heure collaborateur'!A12","v":"2013-11-11"},null,{"$f":"INDEX('Solde d''heure collaborateur'!$1:$1048576,MATCH('envoi planning'!$B14,'Solde d''heure collaborateur'!_xlnm.Print_Titles,0),MATCH('envoi planning'!$D$4,'Solde d''heure collaborateur'!$2:$2,0))","v":"Plan les Ouates"}]
[null,{"$f":"'Solde d''heure collaborateur'!A13","v":"2013-11-12"},null,{"$f":"INDEX('Solde d''heure collaborateur'!$1:$1048576,MATCH('envoi planning'!$B15,'Solde d''heure collaborateur'!_xlnm.Print_Titles,0),MATCH('envoi planning'!$D$4,'Solde d''heure collaborateur'!$2:$2,0))","v":"Plan les Ouates"}]
[null,{"$f":"'Solde d''heure collaborateur'!A14","v":"2013-11-13"},null,{"$f":"INDEX('Solde d''heure collaborateur'!$1:$1048576,MATCH('envoi planning'!$B16,'Solde d''heure collaborateur'!_xlnm.Print_Titles,0),MATCH('envoi planning'!$D$4,'Solde d''heure collaborateur'!$2:$2,0))","v":"Congé"}]
[null,{"$f":"'Solde d''heure collaborateur'!A15","v":"2013-11-14"},null,{"$f":"INDEX('Solde d''heure collaborateur'!$1:$1048576,MATCH('envoi planning'!$B17,'Solde d''heure collaborateur'!_xlnm.Print_Titles,0),MATCH('envoi planning'!$D$4,'Solde d''heure collaborateur'!$2:$2,0))","v":"Nyon"}]
[null,{"$f":"'Solde d''heure collaborateur'!A16","v":"2013-11-15"},null,{"$f":"INDEX('Solde d''heure collaborateur'!$1:$1048576,MATCH('envoi planning'!$B18,'Solde d''heure collaborateur'!_xlnm.Print_Titles,0),MATCH('envoi planning'!$D$4,'Solde d''heure collaborateur'!$2:$2,0))","v":"Congé"}]
[null,{"$f":"'Solde d''heure collaborateur'!A17","v":"2013-11-16"},null,{"$f":"INDEX('Solde d''heure collaborateur'!$1:$1048576,MATCH('envoi planning'!$B19,'Solde d''heure collaborateur'!_xlnm.Print_Titles,0),MATCH('envoi planning'!$D$4,'Solde d''heure collaborateur'!$2:$2,0))","v":"Pommier"}]
[]
[null,{"$f":"'Solde d''heure collaborateur'!A20","v":"2013-11-18"},null,{"$f":"INDEX('Solde d''heure collaborateur'!$1:$1048576,MATCH('envoi planning'!$B21,'Solde d''heure collaborateur'!_xlnm.Print_Titles,0),MATCH('envoi planning'!$D$4,'Solde d''heure collaborateur'!$2:$2,0))","v":"Plan les Ouates"}]
[null,{"$f":"'Solde d''heure collaborateur'!A21","v":"2013-11-19"},null,{"$f":"INDEX('Solde d''heure collaborateur'!$1:$1048576,MATCH('envoi planning'!$B22,'Solde d''heure collaborateur'!_xlnm.Print_Titles,0),MATCH('envoi planning'!$D$4,'Solde d''heure collaborateur'!$2:$2,0))","v":"Congé"}]
[null,{"$f":"'Solde d''heure collaborateur'!A22","v":"2013-11-20"},null,{"$f":"INDEX('Solde d''heure collaborateur'!$1:$1048576,MATCH('envoi planning'!$B23,'Solde d''heure collaborateur'!_xlnm.Print_Titles,0),MATCH('envoi planning'!$D$4,'Solde d''heure collaborateur'!$2:$2,0))","v":"Vesenaz"}]
[null,{"$f":"'Solde d''heure collaborateur'!A23","v":"2013-11-21"},null,{"$f":"INDEX('Solde d''heure collaborateur'!$1:$1048576,MATCH('envoi planning'!$B24,'Solde d''heure collaborateur'!_xlnm.Print_Titles,0),MATCH('envoi planning'!$D$4,'Solde d''heure collaborateur'!$2:$2,0))","v":"Congé"}]
[null,{"$f":"'Solde d''heure collaborateur'!A24","v":"2013-11-22"},null,{"$f":"INDEX('Solde d''heure collaborateur'!$1:$1048576,MATCH('envoi planning'!$B25,'Solde d''heure collaborateur'!_xlnm.Print_Titles,0),MATCH('envoi planning'!$D$4,'Solde d''heure collaborateur'!$2:$2,0))","v":"Thonex"}]
[null,{"$f":"'Solde d''heure collaborateur'!A25","v":"2013-11-23"},null,{"$f":"INDEX('Solde d''heure collaborateur'!$1:$1048576,MATCH('envoi planning'!$B26,'Solde d''heure collaborateur'!_xlnm.Print_Titles,0),MATCH('envoi planning'!$D$4,'Solde d''heure collaborateur'!$2:$2,0))","v":"Vibert"}]
[]
[null,{"$f":"'Solde d''heure collaborateur'!A28","v":"2013-11-25"},null,{"$f":"INDEX('Solde d''heure collaborateur'!$1:$1048576,MATCH('envoi planning'!$B28,'Solde d''heure collaborateur'!_xlnm.Print_Titles,0),MATCH('envoi planning'!$D$4,'Solde d''heure collaborateur'!$2:$2,0))","v":"Congé"}]
[null,{"$f":"'Solde d''heure collaborateur'!A29","v":"2013-11-26"},null,{"$f":"INDEX('Solde d''heure collaborateur'!$1:$1048576,MATCH('envoi planning'!$B29,'Solde d''heure collaborateur'!_xlnm.Print_Titles,0),MATCH('envoi planning'!$D$4,'Solde d''heure collaborateur'!$2:$2,0))","v":"Congé"}]
[null,{"$f":"'Solde d''heure collaborateur'!A30","v":"2013-11-27"},null,{"$f":"INDEX('Solde d''heure collaborateur'!$1:$1048576,MATCH('envoi planning'!$B30,'Solde d''heure collaborateur'!_xlnm.Print_Titles,0),MATCH('envoi planning'!$D$4,'Solde d''heure collaborateur'!$2:$2,0))","v":"Vibert"}]
[null,{"$f":"'Solde d''heure collaborateur'!A31","v":"2013-11-28"},null,{"$f":"INDEX('Solde d''heure collaborateur'!$1:$1048576,MATCH('envoi planning'!$B31,'Solde d''heure collaborateur'!_xlnm.Print_Titles,0),MATCH('envoi planning'!$D$4,'Solde d''heure collaborateur'!$2:$2,0))","v":"Nyon"}]
[null,{"$f":"'Solde d''heure collaborateur'!A32","v":"2013-11-29"},null,{"$f":"INDEX('Solde d''heure collaborateur'!$1:$1048576,MATCH('envoi planning'!$B32,'Solde d''heure collaborateur'!_xlnm.Print_Titles,0),MATCH('envoi planning'!$D$4,'Solde d''heure collaborateur'!$2:$2,0))","v":"Pommier"}]
[null,{"$f":"'Solde d''heure collaborateur'!A33","v":"2013-11-30"},null,{"$f":"INDEX('Solde d''heure collaborateur'!$1:$1048576,MATCH('envoi planning'!$B33,'Solde d''heure collaborateur'!_xlnm.Print_Titles,0),MATCH('envoi planning'!$D$4,'Solde d''heure collaborateur'!$2:$2,0))","v":"Pommier"}]
[]
[null,{"$f":"'Solde d''heure collaborateur'!A36","v":"2013-12-02"},null,{"$f":"INDEX('Solde d''heure collaborateur'!$1:$1048576,MATCH('envoi planning'!$B35,'Solde d''heure collaborateur'!_xlnm.Print_Titles,0),MATCH('envoi planning'!$D$4,'Solde d''heure collaborateur'!$2:$2,0))","v":"Onex"}]
[null,{"$f":"'Solde d''heure collaborateur'!A37","v":"2013-12-03"},null,{"$f":"INDEX('Solde d''heure collaborateur'!$1:$1048576,MATCH('envoi planning'!$B36,'Solde d''heure collaborateur'!_xlnm.Print_Titles,0),MATCH('envoi planning'!$D$4,'Solde d''heure collaborateur'!$2:$2,0))","v":"Pommier"}]
[null,{"$f":"'Solde d''heure collaborateur'!A38","v":"2013-12-04"},null,{"$f":"INDEX('Solde d''heure collaborateur'!$1:$1048576,MATCH('envoi planning'!$B37,'Solde d''heure collaborateur'!_xlnm.Print_Titles,0),MATCH('envoi planning'!$D$4,'Solde d''heure collaborateur'!$2:$2,0))","v":"Pommier"}]
[null,{"$f":"'Solde d''heure collaborateur'!A39","v":"2013-12-05"},null,{"$f":"INDEX('Solde d''heure collaborateur'!$1:$1048576,MATCH('envoi planning'!$B38,'Solde d''heure collaborateur'!_xlnm.Print_Titles,0),MATCH('envoi planning'!$D$4,'Solde d''heure collaborateur'!$2:$2,0))","v":"Congé"}]
[null,{"$f":"'Solde d''heure collaborateur'!A40","v":"2013-12-06"},null,{"$f":"INDEX('Solde d''heure collaborateur'!$1:$1048576,MATCH('envoi planning'!$B39,'Solde d''heure collaborateur'!_xlnm.Print_Titles,0),MATCH('envoi planning'!$D$4,'Solde d''heure collaborateur'!$2:$2,0))","v":"Congé"}]
[null,{"$f":"'Solde d''heure collaborateur'!A41","v":"2013-12-07"},null,{"$f":"INDEX('Solde d''heure collaborateur'!$1:$1048576,MATCH('envoi planning'!$B40,'Solde d''heure collaborateur'!_xlnm.Print_Titles,0),MATCH('envoi planning'!$D$4,'Solde d''heure collaborateur'!$2:$2,0))","v":"Récupération"}]
[]
[null,{"$f":"'Solde d''heure collaborateur'!A44","v":"2013-12-09"},null,{"$f":"INDEX('Solde d''heure collaborateur'!$1:$1048576,MATCH('envoi planning'!$B42,'Solde d''heure collaborateur'!_xlnm.Print_Titles,0),MATCH('envoi planning'!$D$4,'Solde d''heure collaborateur'!$2:$2,0))","v":"Congé"}]
[null,{"$f":"'Solde d''heure collaborateur'!A45","v":"2013-12-10"},null,{"$f":"INDEX('Solde d''heure collaborateur'!$1:$1048576,MATCH('envoi planning'!$B43,'Solde d''heure collaborateur'!_xlnm.Print_Titles,0),MATCH('envoi planning'!$D$4,'Solde d''heure collaborateur'!$2:$2,0))","v":"Congé"}]
[null,{"$f":"'Solde d''heure collaborateur'!A46","v":"2013-12-11"},null,{"$f":"INDEX('Solde d''heure collaborateur'!$1:$1048576,MATCH('envoi planning'!$B44,'Solde d''heure collaborateur'!_xlnm.Print_Titles,0),MATCH('envoi planning'!$D$4,'Solde d''heure collaborateur'!$2:$2,0))","v":"Récupération"}]
[null,{"$f":"'Solde d''heure collaborateur'!A47","v":"2013-12-12"},null,{"$f":"INDEX('Solde d''heure collaborateur'!$1:$1048576,MATCH('envoi planning'!$B45,'Solde d''heure collaborateur'!_xlnm.Print_Titles,0),MATCH('envoi planning'!$D$4,'Solde d''heure collaborateur'!$2:$2,0))","v":"Navigation"}]
[null,{"$f":"'Solde d''heure collaborateur'!A48","v":"2013-12-13"},null,{"$f":"INDEX('Solde d''heure collaborateur'!$1:$1048576,MATCH('envoi planning'!$B46,'Solde d''heure collaborateur'!_xlnm.Print_Titles,0),MATCH('envoi planning'!$D$4,'Solde d''heure collaborateur'!$2:$2,0))","v":"Vibert"}]
[null,{"$f":"'Solde d''heure collaborateur'!A49","v":"2013-12-14"},null,{"$f":"INDEX('Solde d''heure collaborateur'!$1:$1048576,MATCH('envoi planning'!$B47,'Solde d''heure collaborateur'!_xlnm.Print_Titles,0),MATCH('envoi planning'!$D$4,'Solde d''heure collaborateur'!$2:$2,0))","v":"Pommier"}]
[]
[null,{"$f":"'Solde d''heure collaborateur'!A52","v":"2013-12-16"},null,{"$f":"INDEX('Solde d''heure collaborateur'!$1:$1048576,MATCH('envoi planning'!$B49,'Solde d''heure collaborateur'!_xlnm.Print_Titles,0),MATCH('envoi planning'!$D$4,'Solde d''heure collaborateur'!$2:$2,0))","v":"Congé"}]
[null,{"$f":"'Solde d''heure collaborateur'!A53","v":"2013-12-17"},null,{"$f":"INDEX('Solde d''heure collaborateur'!$1:$1048576,MATCH('envoi planning'!$B50,'Solde d''heure collaborateur'!_xlnm.Print_Titles,0),MATCH('envoi planning'!$D$4,'Solde d''heure collaborateur'!$2:$2,0))","v":"Congé"}]
[null,{"$f":"'Solde d''heure collaborateur'!A54","v":"2013-12-18"},null,{"$f":"INDEX('Solde d''heure collaborateur'!$1:$1048576,MATCH('envoi planning'!$B51,'Solde d''heure collaborateur'!_xlnm.Print_Titles,0),MATCH('envoi planning'!$D$4,'Solde d''heure collaborateur'!$2:$2,0))","v":"Navigation"}]
[null,{"$f":"'Solde d''heure collaborateur'!A55","v":"2013-12-19"},null,{"$f":"INDEX('Solde d''heure collaborateur'!$1:$1048576,MATCH('envoi planning'!$B52,'Solde d''heure collaborateur'!_xlnm.Print_Titles,0),MATCH('envoi planning'!$D$4,'Solde d''heure collaborateur'!$2:$2,0))","v":"Navigation"}]
[null,{"$f":"'Solde d''heure collaborateur'!A56","v":"2013-12-20"},null,{"$f":"INDEX('Solde d''heure collaborateur'!$1:$1048576,MATCH('envoi planning'!$B53,'Solde d''heure collaborateur'!_xlnm.Print_Titles,0),MATCH('envoi planning'!$D$4,'Solde d''heure collaborateur'!$2:$2,0))","v":"Navigation"}]
[null,{"$f":"'Solde d''heure collaborateur'!A57","v":"2013-12-21"},null,{"$f":"INDEX('Solde d''heure collaborateur'!$1:$1048576,MATCH('envoi planning'!$B54,'Solde d''heure collaborateur'!_xlnm.Print_Titles,0),MATCH('envoi planning'!$D$4,'Solde d''heure collaborateur'!$2:$2,0))","v":"Navigation"}]
[]
[null,{"$f":"'Solde d''heure collaborateur'!A60","v":"2013-12-23"},null,{"$f":"INDEX('Solde d''heure collaborateur'!$1:$1048576,MATCH('envoi planning'!$B56,'Solde d''heure collaborateur'!_xlnm.Print_Titles,0),MATCH('envoi planning'!$D$4,'Solde d''heure collaborateur'!$2:$2,0))","v":"Pommier"}]
[null,{"$f":"'Solde d''heure collaborateur'!A61","v":"2013-12-24"},null,{"$f":"INDEX('Solde d''heure collaborateur'!$1:$1048576,MATCH('envoi planning'!$B57,'Solde d''heure collaborateur'!_xlnm.Print_Titles,0),MATCH('envoi planning'!$D$4,'Solde d''heure collaborateur'!$2:$2,0))","v":"Vidollet"}]
[null,{"$f":"'Solde d''heure collaborateur'!A62","v":"2013-12-25"},null,{"$f":"INDEX('Solde d''heure collaborateur'!$1:$1048576,MATCH('envoi planning'!$B58,'Solde d''heure collaborateur'!_xlnm.Print_Titles,0),MATCH('envoi planning'!$D$4,'Solde d''heure collaborateur'!$2:$2,0))","v":"Férié"}]
[null,{"$f":"'Solde d''heure collaborateur'!A63","v":"2013-12-26"},null,{"$f":"INDEX('Solde d''heure collaborateur'!$1:$1048576,MATCH('envoi planning'!$B59,'Solde d''heure collaborateur'!_xlnm.Print_Titles,0),MATCH('envoi planning'!$D$4,'Solde d''heure collaborateur'!$2:$2,0))","v":"Congé"}]
[null,{"$f":"'Solde d''heure collaborateur'!A64","v":"2013-12-27"},null,{"$f":"INDEX('Solde d''heure collaborateur'!$1:$1048576,MATCH('envoi planning'!$B60,'Solde d''heure collaborateur'!_xlnm.Print_Titles,0),MATCH('envoi planning'!$D$4,'Solde d''heure collaborateur'!$2:$2,0))","v":"Navigation"}]
[null,{"$f":"'Solde d''heure collaborateur'!A65","v":"2013-12-28"},null,{"$f":"INDEX('Solde d''heure collaborateur'!$1:$1048576,MATCH('envoi planning'!$B61,'Solde d''heure collaborateur'!_xlnm.Print_Titles,0),MATCH('envoi planning'!$D$4,'Solde d''heure collaborateur'!$2:$2,0))","v":"Navigation"}]
[]
[null,{"$f":"'Solde d''heure collaborateur'!A68","v":"2013-12-30"},null,{"$f":"INDEX('Solde d''heure collaborateur'!$1:$1048576,MATCH('envoi planning'!$B63,'Solde d''heure collaborateur'!_xlnm.Print_Titles,0),MATCH('envoi planning'!$D$4,'Solde d''heure collaborateur'!$2:$2,0))","v":"Navigation"}]
[null,{"$f":"'Solde d''heure collaborateur'!A69","v":"2013-12-31"},null,{"$f":"INDEX('Solde d''heure collaborateur'!$1:$1048576,MATCH('envoi planning'!$B64,'Solde d''heure collaborateur'!_xlnm.Print_Titles,0),MATCH('envoi planning'!$D$4,'Solde d''heure collaborateur'!$2:$2,0))","v":"Pommier"}]
[null,{"$f":"'Solde d''heure collaborateur'!A70","v":"2014-01-01"},null,{"$f":"INDEX('Solde d''heure collaborateur'!$1:$1048576,MATCH('envoi planning'!$B65,'Solde d''heure collaborateur'!_xlnm.Print_Titles,0),MATCH('envoi planning'!$D$4,'Solde d''heure collaborateur'!$2:$2,0))","v":"Férié"}]
[null,{"$f":"'Solde d''heure collaborateur'!A71","v":"2014-01-02"},null,{"$f":"INDEX('Solde d''heure collaborateur'!$1:$1048576,MATCH('envoi planning'!$B66,'Solde d''heure collaborateur'!_xlnm.Print_Titles,0),MATCH('envoi planning'!$D$4,'Solde d''heure collaborateur'!$2:$2,0))","v":"Tourelle"}]
[null,{"$f":"'Solde d''heure collaborateur'!A72","v":"2014-01-03"},null,{"$f":"INDEX('Solde d''heure collaborateur'!$1:$1048576,MATCH('envoi planning'!$B67,'Solde d''heure collaborateur'!_xlnm.Print_Titles,0),MATCH('envoi planning'!$D$4,'Solde d''heure collaborateur'!$2:$2,0))","v":"Pommier"}]
[null,{"$f":"'Solde d''heure collaborateur'!A73","v":"2014-01-04"},null,{"$f":"INDEX('Solde d''heure collaborateur'!$1:$1048576,MATCH('envoi planning'!$B68,'Solde d''heure collaborateur'!_xlnm.Print_Titles,0),MATCH('envoi planning'!$D$4,'Solde d''heure collaborateur'!$2:$2,0))","v":"Vidollet"}]

{"sheet":"Feuil2","index":5,"n_rows":18,"n_cols":4,"rows_kept":18,"cut":false,"hidden":false,"merged":[]}
[]
[]
[null,null,null,"VBA rechercheV resultats multiples et variable"]
[]
[null,null,null,"titeufdu89 - 3 juil. 2017 à 16:13"]
[null,null,null,"Suivre"]
[null,null,null,"Bonjour,"]
[]
[null,null,null,"J'ai un fichier de planning avec différents onglets :"]
[null,null,null,"- planning général"]
[null,null,null,"- planning par collaborateur"]
[null,null,null,"- planning pas magasin"]
[null,null,null,"Les 2 derniers onglet étant censés se mettre à jour automatiquement depuis le planning général, puis d'autres onglet sans importance ici."]
[]
[null,null,null,"Je ne parviens pas à mettre à jour mon onglet planning par magasin, j'ai créé un code (ci-dessous), qui fonctionne a moitié, car il m'affiche effectivement un collaborateur planifié sur le magasin seulement lorsqu'il y en a plusieurs, il ne mes les affiche pas... Une idée de l'endroit ou mon code ne joue pas?"]
[]
[null,null,null,"Ci-joint mon fichier si ça peut aider a comprendre l'objet de ma demande"]
[null,null,null,"Par avance merci!"]

{"sheet":"Feuil1","index":6,"n_rows":114,"n_cols":13,"rows_kept":114,"cut":false,"hidden":true,"merged":[]}
["A"]
["B",3,8,13,18,23,28,33,38,43,48,53,58]
["C",{"$f":"$A3&B$2&\",\"","v":"C3,"},{"$f":"$A3&C$2&\",\"","v":"C8,"},"C13,","C18,","C23,","C28,","C33,","C38,","C43,","C48,","C53,","C58,"]
["D",{"$f":"$A4&B$2&\",\"","v":"D3,"},"D8,","D13,","D18,","D23,","D28,","D33,","D38,","D43,","D48,","D53,","D58,"]
["E","E3,","E8,","E13,","E18,","E23,","E28,","E33,","E38,","E43,","E48,","E53,","E58,"]
["F","F3,","F8,","F13,","F18,","F23,","F28,","F33,","F38,","F43,","F48,","F53,","F58,"]
["G","G3,","G8,","G13,","G18,","G23,","G28,","G33,","G38,","G43,","G48,","G53,","G58,"]
["H","H3,","H8,","H13,","H18,","H23,","H28,","H33,","H38,","H43,","H48,","H53,","H58,"]
["I","I3,","I8,","I13,","I18,","I23,","I28,","I33,","I38,","I43,","I48,","I53,","I58,"]
["J","J3,","J8,","J13,","J18,","J23,","J28,","J33,","J38,","J43,","J48,","J53,","J58,"]
["K","K3,","K8,","K13,","K18,","K23,","K28,","K33,","K38,","K43,","K48,","K53,","K58,"]
["L","L3,","L8,","L13,","L18,","L23,","L28,","L33,","L38,","L43,","L48,","L53,","L58,"]
["M","M3,","M8,","M13,","M18,","M23,","M28,","M33,","M38,","M43,","M48,","M53,","M58,"]
["N","N3,","N8,","N13,","N18,","N23,","N28,","N33,","N38,","N43,","N48,","N53,","N58,"]
["O","O3,","O8,","O13,","O18,","O23,","O28,","O33,","O38,","O43,","O48,","O53,","O58,"]
["P","P3,","P8,","P13,","P18,","P23,","P28,","P33,","P38,","P43,","P48,","P53,","P58,"]
["Q","Q3,","Q8,","Q13,","Q18,","Q23,","Q28,","Q33,","Q38,","Q43,","Q48,","Q53,","Q58,"]
["R","R3,","R8,","R13,","R18,","R23,","R28,","R33,","R38,","R43,","R48,","R53,","R58,"]
["S","S3,","S8,","S13,","S18,","S23,","S28,","S33,","S38,","S43,","S48,","S53,","S58,"]
["T","T3,","T8,","T13,","T18,","T23,","T28,","T33,","T38,","T43,","T48,","T53,","T58,"]
["U","U3,","U8,","U13,","U18,","U23,","U28,","U33,","U38,","U43,","U48,","U53,","U58,"]
["V","V3,","V8,","V13,","V18,","V23,","V28,","V33,","V38,","V43,","V48,","V53,","V58,"]
["W","W3,","W8,","W13,","W18,","W23,","W28,","W33,","W38,","W43,","W48,","W53,","W58,"]
["X","X3,","X8,","X13,","X18,","X23,","X28,","X33,","X38,","X43,","X48,","X53,","X58,"]
["Y","Y3,","Y8,","Y13,","Y18,","Y23,","Y28,","Y33,","Y38,","Y43,","Y48,","Y53,","Y58,"]
["Z","Z3,","Z8,","Z13,","Z18,","Z23,","Z28,","Z33,","Z38,","Z43,","Z48,","Z53,","Z58,"]
[{"$f":"\"A\"&A1","v":"AA"},"AA3,","AA8,","AA13,","AA18,","AA23,","AA28,","AA33,","AA38,","AA43,","AA48,","AA53,","AA58,"]
[{"$f":"\"A\"&A2","v":"AB"},"AB3,","AB8,","AB13,","AB18,","AB23,","AB28,","AB33,","AB38,","AB43,","AB48,","AB53,","AB58,"]
["AC","AC3,","AC8,","AC13,","AC18,","AC23,","AC28,","AC33,","AC38,","AC43,","AC48,","AC53,","AC58,"]
["AD","AD3,","AD8,","AD13,","AD18,","AD23,","AD28,","AD33,","AD38,","AD43,","AD48,","AD53,","AD58,"]
["AE","AE3,","AE8,","AE13,","AE18,","AE23,","AE28,","AE33,","AE38,","AE43,","AE48,","AE53,","AE58,"]
["AF","AF3,","AF8,","AF13,","AF18,","AF23,","AF28,","AF33,","AF38,","AF43,","AF48,","AF53,","AF58,"]
["AG","AG3,","AG8,","AG13,","AG18,","AG23,","AG28,","AG33,","AG38,","AG43,","AG48,","AG53,","AG58,"]
["AH","AH3,","AH8,","AH13,","AH18,","AH23,","AH28,","AH33,","AH38,","AH43,","AH48,","AH53,","AH58,"]
["AI","AI3,","AI8,","AI13,","AI18,","AI23,","AI28,","AI33,","AI38,","AI43,","AI48,","AI53,","AI58,"]
["AJ",{"$f":"$A36&B$2&\",\"","v":"AJ3,"},"AJ8,","AJ13,","AJ18,","AJ23,","AJ28,","AJ33,","AJ38,","AJ43,","AJ48,","AJ53,","AJ58,"]
["AK","AK3,","AK8,","AK13,","AK18,","AK23,","AK28,","AK33,","AK38,","AK43,","AK48,","AK53,","AK58,"]
["AL","AL3,","AL8,","AL13,","AL18,","AL23,","AL28,","AL33,","AL38,","AL43,","AL48,","AL53,","AL58,"]
["AM","AM3,","AM8,","AM13,","AM18,","AM23,","AM28,","AM33,","AM38,","AM43,","AM48,","AM53,","AM58,"]
["AN","AN3,","AN8,","AN13,","AN18,","AN23,","AN28,","AN33,","AN38,","AN43,","AN48,","AN53,","AN58,"]
["AO","AO3,","AO8,","AO13,","AO18,","AO23,","AO28,","AO33,","AO38,","AO43,","AO48,","AO53,","AO58,"]
["AP","AP3,","AP8,","AP13,","AP18,","AP23,","AP28,","AP33,","AP38,","AP43,","AP48,","AP53,","AP58,"]
["AQ","AQ3,","AQ8,","AQ13,","AQ18,","AQ23,","AQ28,","AQ33,","AQ38,","AQ43,","AQ48,","AQ53,","AQ58,"]
["AR","AR3,","AR8,","AR13,","AR18,","AR23,","AR28,","AR33,","AR38,","AR43,","AR48,","AR53,","AR58,"]
["AS","AS3,","AS8,","AS13,","AS18,","AS23,","AS28,","AS33,","AS38,","AS43,","AS48,","AS53,","AS58,"]
["AT","AT3,","AT8,","AT13,","AT18,","AT23,","AT28,","AT33,","AT38,","AT43,","AT48,","AT53,","AT58,"]
["AU","AU3,","AU8,","AU13,","AU18,","AU23,","AU28,","AU33,","AU38,","AU43,","AU48,","AU53,","AU58,"]
["AV","AV3,","AV8,","AV13,","AV18,","AV23,","AV28,","AV33,","AV38,","AV43,","AV48,","AV53,","AV58,"]
["AW","AW3,","AW8,","AW13,","AW18,","AW23,","AW28,","AW33,","AW38,","AW43,","AW48,","AW53,","AW58,"]
["AX","AX3,","AX8,","AX13,","AX18,","AX23,","AX28,","AX33,","AX38,","AX43,","AX48,","AX53,","AX58,"]
[{"$f":"\"A\"&A25","v":"AY"},"AY3,","AY8,","AY13,","AY18,","AY23,","AY28,","AY33,","AY38,","AY43,","AY48,","AY53,","AY58,"]
[{"$f":"\"A\"&A26","v":"AZ"},"AZ3,","AZ8,","AZ13,","AZ18,","AZ23,","AZ28,","AZ33,","AZ38,","AZ43,","AZ48,","AZ53,","AZ58,"]
["BA","BA3,","BA8,","BA13,","BA18,","BA23,","BA28,","BA33,","BA38,","BA43,","BA48,","BA53,","BA58,"]
["BB","BB3,","BB8,","BB13,","BB18,","BB23,","BB28,","BB33,","BB38,","BB43,","BB48,","BB53,","BB58,"]
["BC","BC3,","BC8,","BC13,","BC18,","BC23,","BC28,","BC33,","BC38,","BC43,","BC48,","BC53,","BC58,"]
["BD","BD3,","BD8,","BD13,","BD18,","BD23,","BD28,","BD33,","BD38,","BD43,","BD48,","BD53,","BD58,"]
[]
[null,{"$f":"B3&C3&D3&E3&F3&G3&H3&I3&J3&K3&L3&M3","v":"C3,C8,C13,C18,C23,C28,C33,C38,C43,C48,C53,C58,"}]
[null,{"$f":"B4&C4&D4&E4&F4&G4&H4&I4&J4&K4&L4&M4","v":"D3,D8,D13,D18,D23,D28,D33,D38,D43,D48,D53,D58,"}]
[null,"E3,E8,E13,E18,E23,E28,E33,E38,E43,E48,E53,E58,"]
[null,"F3,F8,F13,F18,F23,F28,F33,F38,F43,F48,F53,F58,"]
[null,"G3,G8,G13,G18,G23,G28,G33,G38,G43,G48,G53,G58,"]
[null,{"$f":"B8&C8&D8&E8&F8&G8&H8&I8&J8&K8&L8&M8","v":"H3,H8,H13,H18,H23,H28,H33,H38,H43,H48,H53,H58,"}]
[null,"I3,I8,I13,I18,I23,I28,I33,I38,I43,I48,I53,I58,"]
[null,"J3,J8,J13,J18,J23,J28,J33,J38,J43,J48,J53,J58,"]
[null,"K3,K8,K13,K18,K23,K28,K33,K38,K43,K48,K53,K58,"]
[null,{"$f":"B12&C12&D12&E12&F12&G12&H12&I12&J12&K12&L12&M12","v":"L3,L8,L13,L18,L23,L28,L33,L38,L43,L48,L53,L58,"}]
[null,"M3,M8,M13,M18,M23,M28,M33,M38,M43,M48,M53,M58,"]
[null,"N3,N8,N13,N18,N23,N28,N33,N38,N43,N48,N53,N58,"]
[null,"O3,O8,O13,O18,O23,O28,O33,O38,O43,O48,O53,O58,"]
[null,"P3,P8,P13,P18,P23,P28,P33,P38,P43,P48,P53,P58,"]
[null,{"$f":"B17&C17&D17&E17&F17&G17&H17&I17&J17&K17&L17&M17","v":"Q3,Q8,Q13,Q18,Q23,Q28,Q33,Q38,Q43,Q48,Q53,Q58,"}]
[null,{"$f":"B18&C18&D18&E18&F18&G18&H18&I18&J18&K18&L18&M18","v":"R3,R8,R13,R18,R23,R28,R33,R38,R43,R48,R53,R58,"}]
[null,{"$f":"B19&C19&D19&E19&F19&G19&H19&I19&J19&K19&L19&M19","v":"S3,S8,S13,S18,S23,S28,S33,S38,S43,S48,S53,S58,"}]
[null,"T3,T8,T13,T18,T23,T28,T33,T38,T43,T48,T53,T58,"]
[null,"U3,U8,U13,U18,U23,U28,U33,U38,U43,U48,U53,U58,"]
[null,{"$f":"B22&C22&D22&E22&F22&G22&H22&I22&J22&K22&L22&M22","v":"V3,V8,V13,V18,V23,V28,V33,V38,V43,V48,V53,V58,"}]
[null,{"$f":"B23&C23&D23&E23&F23&G23&H23&I23&J23&K23&L23&M23","v":"W3,W8,W13,W18,W23,W28,W33,W38,W43,W48,W53,W58,"}]
[null,{"$f":"B24&C24&D24&E24&F24&G24&H24&I24&J24&K24&L24&M24","v":"X3,X8,X13,X18,X23,X28,X33,X38,X43,X48,X53,X58,"}]
[null,"Y3,Y8,Y13,Y18,Y23,Y28,Y33,Y38,Y43,Y48,Y53,Y58,"]
[null,"Z3,Z8,Z13,Z18,Z23,Z28,Z33,Z38,Z43,Z48,Z53,Z58,"]
[null,"AA3,AA8,AA13,AA18,AA23,AA28,AA33,AA38,AA43,AA48,AA53,AA58,"]
[null,{"$f":"B28&C28&D28&E28&F28&G28&H28&I28&J28&K28&L28&M28","v":"AB3,AB8,AB13,AB18,AB23,AB28,AB33,AB38,AB43,AB48,AB53,AB58,"}]
[null,"AC3,AC8,AC13,AC18,AC23,AC28,AC33,AC38,AC43,AC48,AC53,AC58,"]
[null,"AD3,AD8,AD13,AD18,AD23,AD28,AD33,AD38,AD43,AD48,AD53,AD58,"]
[null,"AE3,AE8,AE13,AE18,AE23,AE28,AE33,AE38,AE43,AE48,AE53,AE58,"]
[null,{"$f":"B32&C32&D32&E32&F32&G32&H32&I32&J32&K32&L32&M32","v":"AF3,AF8,AF13,AF18,AF23,AF28,AF33,AF38,AF43,AF48,AF53,AF58,"}]
[null,{"$f":"B33&C33&D33&E33&F33&G33&H33&I33&J33&K33&L33&M33","v":"AG3,AG8,AG13,AG18,AG23,AG28,AG33,AG38,AG43,AG48,AG53,AG58,"}]
[null,"AH3,AH8,AH13,AH18,AH23,AH28,AH33,AH38,AH43,AH48,AH53,AH58,"]
[null,"AI3,AI8,AI13,AI18,AI23,AI28,AI33,AI38,AI43,AI48,AI53,AI58,"]
[null,"AJ3,AJ8,AJ13,AJ18,AJ23,AJ28,AJ33,AJ38,AJ43,AJ48,AJ53,AJ58,"]
[null,{"$f":"B37&C37&D37&E37&F37&G37&H37&I37&J37&K37&L37&M37","v":"AK3,AK8,AK13,AK18,AK23,AK28,AK33,AK38,AK43,AK48,AK53,AK58,"}]
[null,{"$f":"B38&C38&D38&E38&F38&G38&H38&I38&J38&K38&L38&M38","v":"AL3,AL8,AL13,AL18,AL23,AL28,AL33,AL38,AL43,AL48,AL53,AL58,"}]
[null,{"$f":"B39&C39&D39&E39&F39&G39&H39&I39&J39&K39&L39&M39","v":"AM3,AM8,AM13,AM18,AM23,AM28,AM33,AM38,AM43,AM48,AM53,AM58,"}]
[null,"AN3,AN8,AN13,AN18,AN23,AN28,AN33,AN38,AN43,AN48,AN53,AN58,"]
[null,"AO3,AO8,AO13,AO18,AO23,AO28,AO33,AO38,AO43,AO48,AO53,AO58,"]
[null,{"$f":"B42&C42&D42&E42&F42&G42&H42&I42&J42&K42&L42&M42","v":"AP3,AP8,AP13,AP18,AP23,AP28,AP33,AP38,AP43,AP48,AP53,AP58,"}]
[null,{"$f":"B43&C43&D43&E43&F43&G43&H43&I43&J43&K43&L43&M43","v":"AQ3,AQ8,AQ13,AQ18,AQ23,AQ28,AQ33,AQ38,AQ43,AQ48,AQ53,AQ58,"}]
[null,"AR3,AR8,AR13,AR18,AR23,AR28,AR33,AR38,AR43,AR48,AR53,AR58,"]
[null,"AS3,AS8,AS13,AS18,AS23,AS28,AS33,AS38,AS43,AS48,AS53,AS58,"]
[null,{"$f":"B46&C46&D46&E46&F46&G46&H46&I46&J46&K46&L46&M46","v":"AT3,AT8,AT13,AT18,AT23,AT28,AT33,AT38,AT43,AT48,AT53,AT58,"}]
[null,{"$f":"B47&C47&D47&E47&F47&G47&H47&I47&J47&K47&L47&M47","v":"AU3,AU8,AU13,AU18,AU23,AU28,AU33,AU38,AU43,AU48,AU53,AU58,"}]
[null,"AV3,AV8,AV13,AV18,AV23,AV28,AV33,AV38,AV43,AV48,AV53,AV58,"]
[null,"AW3,AW8,AW13,AW18,AW23,AW28,AW33,AW38,AW43,AW48,AW53,AW58,"]
[null,"AX3,AX8,AX13,AX18,AX23,AX28,AX33,AX38,AX43,AX48,AX53,AX58,"]
[null,{"$f":"B51&C51&D51&E51&F51&G51&H51&I51&J51&K51&L51&M51","v":"AY3,AY8,AY13,AY18,AY23,AY28,AY33,AY38,AY43,AY48,AY53,AY58,"}]
[null,"AZ3,AZ8,AZ13,AZ18,AZ23,AZ28,AZ33,AZ38,AZ43,AZ48,AZ53,AZ58,"]
[null,"BA3,BA8,BA13,BA18,BA23,BA28,BA33,BA38,BA43,BA48,BA53,BA58,"]
[null,{"$f":"B54&C54&D54&E54&F54&G54&H54&I54&J54&K54&L54&M54","v":"BB3,BB8,BB13,BB18,BB23,BB28,BB33,BB38,BB43,BB48,BB53,BB58,"}]
[null,{"$f":"B55&C55&D55&E55&F55&G55&H55&I55&J55&K55&L55&M55","v":"BC3,BC8,BC13,BC18,BC23,BC28,BC33,BC38,BC43,BC48,BC53,BC58,"}]
[null,"BD3,BD8,BD13,BD18,BD23,BD28,BD33,BD38,BD43,BD48,BD53,BD58,"]
[null,""]
[null,{"$f":"B58&B59&B60&B61&B62&B63&B64&B65&B66&B67&B68&B69&B70&B71&B72","v":"C3,C8,C13,C18,C23,C28,C33,C38,C43,C48,C53,C58,D3,D8,D13,D18,D23,D28,D33,D38,D43,D48,D53,D58,E3,E8,E13,E18,E23,E28,E33,E38,E43,E48,E53,E58,F3,F8,F13,F18,F23,F28,F33,F38,F43,F48,F53,F58,G3,G8,G13,G18,G23,G28,G33,G38,G43,G48,G53,G58,H3,H8,H13,H18,H23,H28,H33,H38,H43,H48,H53,H58,I3,I8,I13,I18,I23,I28,I33,I38,I43,I48,I53,I58,J3,J8,J13,J18,J23,J28,J33,J38,J43,J48,J53,J58,K3,K8,K13,K18,K23,K28,K33,K38,K43,K48,K53,K58,L3,L8,L13,L18,L23,L28,L33,L38,L43,L48,L53,L58,M3,M8,M13,M18,M23,M28,M33,M38,M43,M48,M53,M58,N3,N8,N13,N18,N23,N28,N33,N38,N43,N48,N53,N58,O3,O8,O13,O18,O23,O28,O33,O38,O43,O48,O53,O58,P3,P8,P13,P18,P23,P28,P33,P38,P43,P48,P53,P58,Q3,Q8,Q13,Q18,Q23,Q28,Q33,Q38,Q43,Q48,Q53,Q58,"}]
[null,{"$f":"B73&B74&B75&B76&B77&B78&B79&B80&B81&B82&B83&B84&B85","v":"R3,R8,R13,R18,R23,R28,R33,R38,R43,R48,R53,R58,S3,S8,S13,S18,S23,S28,S33,S38,S43,S48,S53,S58,T3,T8,T13,T18,T23,T28,T33,T38,T43,T48,T53,T58,U3,U8,U13,U18,U23,U28,U33,U38,U43,U48,U53,U58,V3,V8,V13,V18,V23,V28,V33,V38,V43,V48,V53,V58,W3,W8,W13,W18,W23,W28,W33,W38,W43,W48,W53,W58,X3,X8,X13,X18,X23,X28,X33,X38,X43,X48,X53,X58,Y3,Y8,Y13,Y18,Y23,Y28,Y33,Y38,Y43,Y48,Y53,Y58,Z3,Z8,Z13,Z18,Z23,Z28,Z33,Z38,Z43,Z48,Z53,Z58,AA3,AA8,AA13,AA18,AA23,AA28,AA33,AA38,AA43,AA48,AA53,AA58,AB3,AB8,AB13,AB18,AB23,AB28,AB33,AB38,AB43,AB48,AB53,AB58,AC3,AC8,AC13,AC18,AC23,AC28,AC33,AC38,AC43,AC48,AC53,AC58,AD3,AD8,AD13,AD18,AD23,AD28,AD33,AD38,AD43,AD48,AD53,AD58,"}]