{"text_format":"1","workbook":"xlsx","n_sheets":12,"sheets":["Farchana","Gaga","Treguine","Bredjing","Base Calcul","Etat de Paiement","Etat Bredjing","Moyen","Primaire","Etat Farchana","Etat Treguine","ACCUEIL"],"not_rendered":{"charts":0,"images":4,"macros":1,"external_links":0,"defined_names":15,"comments":0,"pivot_tables":0},"unopened":[],"bounds":{"document_bytes":16777216,"sheet_cells":100000,"rows_first":2000,"rows_last":500,"rows_between":2000,"halvings":0,"cell_chars":16384,"cell_head_chars":4096},"cells_cut":0,"cells_raw":0,"read":"whole","date_system":"1900"}

{"sheet":"Farchana","index":0,"n_rows":482,"n_cols":15,"rows_kept":482,"cut":false,"hidden":false,"merged":[[0,0,0,3],[1,7,1,10],[1,4,1,6]]}
["Base de Données des Enseignants"]
["Années Scolaire ",null,"Camp","Farchana","Primaire",null,null,"Moyen"]
["Numéro carte Réfugié","Noms et Prenoms","Sexe","Ecole","Categorie","Classe","Montant  Partenaires",null,"Numéro carte Réfugié","Noms et Prenoms","Sexe","Ecole","Categorie","Classe","Montant  Partenaires"]
["867-00009413","MOUKHTAR YAHYA DJOUMA",null,"Dar Esalam ","Enseignants qualifiés",null,{"$f":"IF(E4=\"\",\"\",VLOOKUP(E4,'Base Calcul'!A:B,2,0))","v":40000},null,"867-00007699","DJOUMA HAROUN MAHAMAT",null,"CEG Kadja","Enseignants qualifiés",null,{"$f":"IF(M4=\"\",\"\",VLOOKUP(M4,'Base Calcul'!A:B,2,0))","v":40000}]
["867-00015588","ADAM ABDALLAH DJIBRINE ",null,"Dar Esalam ","Enseignants qualifiés",null,{"$f":"IF(E5=\"\",\"\",VLOOKUP(E5,'Base Calcul'!A:B,2,0))","v":40000},null,"867-00023304","ALLAMINE MAHAMAT ABDALLAH",null,"CEG Kadja","Enseignants qualifiés",null,{"$f":"IF(M5=\"\",\"\",VLOOKUP(M5,'Base Calcul'!A:B,2,0))","v":40000}]
["867-00003381","ADAM ALI ADAM",null,"Dar Esalam ","Enseignants  Formés",null,{"$f":"IF(E6=\"\",\"\",VLOOKUP(E6,'Base Calcul'!A:B,2,0))","v":36000},null,"867-00006152","ASSADIKH ISMAEL YAKHOUB ",null,"CEG Kadja","Enseignants qualifiés",null,{"$f":"IF(M6=\"\",\"\",VLOOKUP(M6,'Base Calcul'!A:B,2,0))","v":40000}]
["867-00005897","HAWA ADAM YOUSSOUF",null,"Dar Esalam ","Enseignants  Formés",null,{"$f":"IF(E7=\"\",\"\",VLOOKUP(E7,'Base Calcul'!A:B,2,0))","v":36000},null,"867-00008206","OUSMAN ABDALLAH HISSEINE",null,"CEG Kadja","Enseignants qualifiés",null,{"$f":"IF(M7=\"\",\"\",VLOOKUP(M7,'Base Calcul'!A:B,2,0))","v":40000}]
["867-00008852","HAMIDA ISMAIL ABDRAMANE",null,"Dar Esalam ","Enseignants  Formés",null,{"$f":"IF(E8=\"\",\"\",VLOOKUP(E8,'Base Calcul'!A:B,2,0))","v":36000},null,2831087,"BAHARADINE ADAM ABDELKERIM",null,"CEG Kadja","Enseignants  Formés",null,{"$f":"IF(M8=\"\",\"\",VLOOKUP(M8,'Base Calcul'!A:B,2,0))","v":36000}]
["867-00023190","SALAH HAMIT YAHYA",null,"Dar Esalam ","Enseignants  Formés",null,{"$f":"IF(E9=\"\",\"\",VLOOKUP(E9,'Base Calcul'!A:B,2,0))","v":36000},null,"867-00017048","SALIMA ARBAB ADAM",null,"CEG Kadja","Enseignants  Formés",null,{"$f":"IF(M9=\"\",\"\",VLOOKUP(M9,'Base Calcul'!A:B,2,0))","v":36000}]
["867-00003141","CHERIF MAHAMAT ABDALLAH",null,"Dar Esalam ","Enseignants  Formés",null,{"$f":"IF(E10=\"\",\"\",VLOOKUP(E10,'Base Calcul'!A:B,2,0))","v":36000},null,"867-00029797","ABDERAHIM FADOUL DJOUMA",null,"CEG Kadja","Enseignants  Formés",null,{"$f":"IF(M10=\"\",\"\",VLOOKUP(M10,'Base Calcul'!A:B,2,0))","v":36000}]
["867-00010956","ABDELKERIM ADAM YOUSSOUF ",null,"Dar Esalam ","Enseignants  Formés",null,{"$f":"IF(E11=\"\",\"\",VLOOKUP(E11,'Base Calcul'!A:B,2,0))","v":36000},null,"867-00016925","ABDERAHIM MAHAMAT DAOUD",null,"CEG Kadja","Enseignants  Formés",null,{"$f":"IF(M11=\"\",\"\",VLOOKUP(M11,'Base Calcul'!A:B,2,0))","v":36000}]
["867-00012013","DARALSSALAM ABDELAZIZ MATAR ",null,"Dar Esalam ","Enseignants  Formés",null,{"$f":"IF(E12=\"\",\"\",VLOOKUP(E12,'Base Calcul'!A:B,2,0))","v":36000},null,"867-00023192","CHERIF ADAM YAHYA ",null,"CEG Kadja","Enseignants  Formés",null,{"$f":"IF(M12=\"\",\"\",VLOOKUP(M12,'Base Calcul'!A:B,2,0))","v":36000}]
["867-00008195","MAHAMAT ABDALLAH MAHAMAT",null,"Dar Esalam ","Enseignants  Formés",null,{"$f":"IF(E13=\"\",\"\",VLOOKUP(E13,'Base Calcul'!A:B,2,0))","v":36000},null,"867-00023293","ABDALLAH OUMAR MAHAMAT",null,"CEG Kadja","Enseignants  Formés",null,{"$f":"IF(M13=\"\",\"\",VLOOKUP(M13,'Base Calcul'!A:B,2,0))","v":36000}]
["867-00023091","Abdelghani Adam Ahmat",null,"Dar Esalam ","Gardiens d'école",null,{"$f":"IF(E14=\"\",\"\",VLOOKUP(E14,'Base Calcul'!A:B,2,0))","v":12000},null,"867-00026103","AHMAT ABDALLAH OUMAR",null,"CEG Kadja","Enseignants  Formés",null,{"$f":"IF(M14=\"\",\"\",VLOOKUP(M14,'Base Calcul'!A:B,2,0))","v":36000}]
["867-00004486","Zanouba Arbab Abdallah",null,"Dar Esalam ","Gardiens d'école",null,{"$f":"IF(E15=\"\",\"\",VLOOKUP(E15,'Base Calcul'!A:B,2,0))","v":12000},null,"867-00008206","ABDOU ALI ADAM",null,"CEG Kadja","Enseignants  Formés",null,{"$f":"IF(M15=\"\",\"\",VLOOKUP(M15,'Base Calcul'!A:B,2,0))","v":36000}]
["867- 0000258","Djimia Ibrahim Ishakh",null,"Dar Esalam ","Gardiens d'école",null,{"$f":"IF(E16=\"\",\"\",VLOOKUP(E16,'Base Calcul'!A:B,2,0))","v":12000},null,"867-00002587","MAHAMAT ABDALLAH THOM",null,"CEG Kadja","Enseignants  Formés",null,{"$f":"IF(M16=\"\",\"\",VLOOKUP(M16,'Base Calcul'!A:B,2,0))","v":36000}]
["867- 2586000","ANNOUR Mahamat Abdallah",null,"Dar Esalam ","Gardiens d'école",null,{"$f":"IF(E17=\"\",\"\",VLOOKUP(E17,'Base Calcul'!A:B,2,0))","v":12000},null,"867-00026149","ABDRAMANE KHAMIS HAROUN",null,"CEG Kadja","Enseignants  Formés",null,{"$f":"IF(M17=\"\",\"\",VLOOKUP(M17,'Base Calcul'!A:B,2,0))","v":36000}]
["867- 0000258","Tomia Mahamat Hamad ",null,"Dar Esalam ","Gardiens d'école",null,{"$f":"IF(E18=\"\",\"\",VLOOKUP(E18,'Base Calcul'!A:B,2,0))","v":12000},null,"867-00025704","AWATIF ISMAIL HAROUN",null,"CEG Kadja","Enseignants  Formés",null,{"$f":"IF(M18=\"\",\"\",VLOOKUP(M18,'Base Calcul'!A:B,2,0))","v":36000}]
["867-00001614","TIDJANI ADAM MOUSSA",null,"Darfour","Enseignants qualifiés",null,{"$f":"IF(E19=\"\",\"\",VLOOKUP(E19,'Base Calcul'!A:B,2,0))","v":40000},null,"867-00016894","SALMA ABDALLAH IBRAHIM ",null,"CEG Kadja","Enseignants  Formés",null,{"$f":"IF(M19=\"\",\"\",VLOOKUP(M19,'Base Calcul'!A:B,2,0))","v":36000}]
["867-00015396","OUSMANE AZENE RAHAMTALLAH",null,"Darfour","Enseignants qualifiés",null,{"$f":"IF(E20=\"\",\"\",VLOOKUP(E20,'Base Calcul'!A:B,2,0))","v":40000},null,"867-00004531","MOUCKTAR ISSAKH OUMAR ",null,"CEG Kadja","Enseignants  Formés",null,{"$f":"IF(M20=\"\",\"\",VLOOKUP(M20,'Base Calcul'!A:B,2,0))","v":36000}]
["867-00011222","ABDELMADJID IBRAHIM DAOUD",null,"Darfour","Enseignants qualifiés",null,{"$f":"IF(E21=\"\",\"\",VLOOKUP(E21,'Base Calcul'!A:B,2,0))","v":40000},null,"NB","Djouma Mht Abdraman",null,"CEG Kadja","Gardiens d'école",null,{"$f":"IF(M21=\"\",\"\",VLOOKUP(M21,'Base Calcul'!A:B,2,0))","v":12000}]
["867-00011254","ADAM ABDALLAH YAYA",null,"Darfour","Enseignants qualifiés",null,{"$f":"IF(E22=\"\",\"\",VLOOKUP(E22,'Base Calcul'!A:B,2,0))","v":40000},null,"NB","Hawa Abdallah Ibrahim ",null,"CEG Kadja","Gardiens d'école",null,{"$f":"IF(M22=\"\",\"\",VLOOKUP(M22,'Base Calcul'!A:B,2,0))","v":12000}]
["867-00005814","RACHIDA YOUSSOUF IBRAHIM ",null,"Darfour","Enseignants qualifiés",null,{"$f":"IF(E23=\"\",\"\",VLOOKUP(E23,'Base Calcul'!A:B,2,0))","v":40000},null,null,null,null,null,null,null,{"$f":"IF(M23=\"\",\"\",VLOOKUP(M23,'Base Calcul'!A:B,2,0))","v":""}]
["867-00015877","SOULEYMAN YAKHOUB ABAKAR ",null,"Darfour","Enseignants qualifiés",null,{"$f":"IF(E24=\"\",\"\",VLOOKUP(E24,'Base Calcul'!A:B,2,0))","v":40000},null,null,null,null,null,null,null,{"$f":"IF(M24=\"\",\"\",VLOOKUP(M24,'Base Calcul'!A:B,2,0))","v":""}]
["867-000023165","ABDALLAH HAMAT MAHAMAT",null,"Darfour","Enseignants  Formés",null,{"$f":"IF(E25=\"\",\"\",VLOOKUP(E25,'Base Calcul'!A:B,2,0))","v":36000},null,null,null,null,null,null,null,{"$f":"IF(M25=\"\",\"\",VLOOKUP(M25,'Base Calcul'!A:B,2,0))","v":""}]
["867-00015806","BATOUL DJOUMA MAHAMAT",null,"Darfour","Enseignants  Formés",null,{"$f":"IF(E26=\"\",\"\",VLOOKUP(E26,'Base Calcul'!A:B,2,0))","v":36000},null,null,null,null,null,null,null,{"$f":"IF(M26=\"\",\"\",VLOOKUP(M26,'Base Calcul'!A:B,2,0))","v":""}]
["867-00003635","MAKKI DAFAALLAH OUMAR",null,"Darfour","Enseignants  Formés",null,{"$f":"IF(E27=\"\",\"\",VLOOKUP(E27,'Base Calcul'!A:B,2,0))","v":36000},null,null,null,null,null,null,null,{"$f":"IF(M27=\"\",\"\",VLOOKUP(M27,'Base Calcul'!A:B,2,0))","v":""}]
["867-00008144","ABDALLAH HAROUN YOUNOUS",null,"Darfour","Enseignants  Formés",null,{"$f":"IF(E28=\"\",\"\",VLOOKUP(E28,'Base Calcul'!A:B,2,0))","v":36000},null,null,null,null,null,null,null,{"$f":"IF(M28=\"\",\"\",VLOOKUP(M28,'Base Calcul'!A:B,2,0))","v":""}]
["867-00007901","ADAM DJOUMA MAHAMAT",null,"Darfour","Enseignants  Formés",null,{"$f":"IF(E29=\"\",\"\",VLOOKUP(E29,'Base Calcul'!A:B,2,0))","v":36000},null,null,null,null,null,null,null,{"$f":"IF(M29=\"\",\"\",VLOOKUP(M29,'Base Calcul'!A:B,2,0))","v":""}]
["867-00008000","MOUNIRA MOUSSA DJOUMA ",null,"Darfour","Enseignants  Formés",null,{"$f":"IF(E30=\"\",\"\",VLOOKUP(E30,'Base Calcul'!A:B,2,0))","v":36000},null,null,null,null,null,null,null,{"$f":"IF(M30=\"\",\"\",VLOOKUP(M30,'Base Calcul'!A:B,2,0))","v":""}]
["867-00015820","AMOUNA IBRAHIM HASSAN",null,"Darfour","Enseignants  Formés",null,{"$f":"IF(E31=\"\",\"\",VLOOKUP(E31,'Base Calcul'!A:B,2,0))","v":36000},null,null,null,null,null,null,null,{"$f":"IF(M31=\"\",\"\",VLOOKUP(M31,'Base Calcul'!A:B,2,0))","v":""}]
["867-00008195","MAHADJOUB ADAM ABDALLAH ",null,"Darfour","Enseignants  Formés",null,{"$f":"IF(E32=\"\",\"\",VLOOKUP(E32,'Base Calcul'!A:B,2,0))","v":36000},null,null,null,null,null,null,null,{"$f":"IF(M32=\"\",\"\",VLOOKUP(M32,'Base Calcul'!A:B,2,0))","v":""}]
["867-0001457","ZAMZAM ABOUBAKAR ZAKARIA ",null,"Darfour","Enseignants  Formés",null,{"$f":"IF(E33=\"\",\"\",VLOOKUP(E33,'Base Calcul'!A:B,2,0))","v":36000},null,null,null,null,null,null,null,{"$f":"IF(M33=\"\",\"\",VLOOKUP(M33,'Base Calcul'!A:B,2,0))","v":""}]
["867- 0001577","Adam Ismael",null,"Darfour","Gardiens d'école",null,{"$f":"IF(E34=\"\",\"\",VLOOKUP(E34,'Base Calcul'!A:B,2,0))","v":12000},null,null,null,null,null,null,null,{"$f":"IF(M34=\"\",\"\",VLOOKUP(M34,'Base Calcul'!A:B,2,0))","v":""}]
["NB","Fatimé Aboubakar ",null,"Darfour","Gardiens d'école",null,{"$f":"IF(E35=\"\",\"\",VLOOKUP(E35,'Base Calcul'!A:B,2,0))","v":12000},null,null,null,null,null,null,null,{"$f":"IF(M35=\"\",\"\",VLOOKUP(M35,'Base Calcul'!A:B,2,0))","v":""}]
["867-00001014","YAHYA ADAM ISMAIL",null,"Dirdjel ","Enseignants qualifiés",null,{"$f":"IF(E36=\"\",\"\",VLOOKUP(E36,'Base Calcul'!A:B,2,0))","v":40000},null,null,null,null,null,null,null,{"$f":"IF(M36=\"\",\"\",VLOOKUP(M36,'Base Calcul'!A:B,2,0))","v":""}]
["867-00000451","MAHAMAT ADAM MAHAMAT",null,"Dirdjel ","Enseignants qualifiés",null,{"$f":"IF(E37=\"\",\"\",VLOOKUP(E37,'Base Calcul'!A:B,2,0))","v":40000},null,null,null,null,null,null,null,{"$f":"IF(M37=\"\",\"\",VLOOKUP(M37,'Base Calcul'!A:B,2,0))","v":""}]
["867-00012634","HISSEIN ADAM ISMAIL",null,"Dirdjel ","Enseignants  Formés",null,{"$f":"IF(E38=\"\",\"\",VLOOKUP(E38,'Base Calcul'!A:B,2,0))","v":36000},null,null,null,null,null,null,null,{"$f":"IF(M38=\"\",\"\",VLOOKUP(M38,'Base Calcul'!A:B,2,0))","v":""}]
["867-00002251","ASSADICK ADAM ABDELRASSOUL",null,"Dirdjel ","Enseignants  Formés",null,{"$f":"IF(E39=\"\",\"\",VLOOKUP(E39,'Base Calcul'!A:B,2,0))","v":36000},null,null,null,null,null,null,null,{"$f":"IF(M39=\"\",\"\",VLOOKUP(M39,'Base Calcul'!A:B,2,0))","v":""}]
["867-00012704","ISMAIL ADAM HISSEIN",null,"Dirdjel ","Enseignants  Formés",null,{"$f":"IF(E40=\"\",\"\",VLOOKUP(E40,'Base Calcul'!A:B,2,0))","v":36000},null,null,null,null,null,null,null,{"$f":"IF(M40=\"\",\"\",VLOOKUP(M40,'Base Calcul'!A:B,2,0))","v":""}]
["867-00023192","ISMAIL YAKHOUB ABDALLAH",null,"Dirdjel ","Enseignants  Formés",null,{"$f":"IF(E41=\"\",\"\",VLOOKUP(E41,'Base Calcul'!A:B,2,0))","v":36000},null,null,null,null,null,null,null,{"$f":"IF(M41=\"\",\"\",VLOOKUP(M41,'Base Calcul'!A:B,2,0))","v":""}]
["867-00006528","YOUSSOUF DOUNGA HAROUN",null,"Dirdjel ","Enseignants  Formés",null,{"$f":"IF(E42=\"\",\"\",VLOOKUP(E42,'Base Calcul'!A:B,2,0))","v":36000},null,null,null,null,null,null,null,{"$f":"IF(M42=\"\",\"\",VLOOKUP(M42,'Base Calcul'!A:B,2,0))","v":""}]
["867-00008714","AZIZA DJOUMA MAHAMAT",null,"Dirdjel ","Enseignants  Formés",null,{"$f":"IF(E43=\"\",\"\",VLOOKUP(E43,'Base Calcul'!A:B,2,0))","v":36000},null,null,null,null,null,null,null,{"$f":"IF(M43=\"\",\"\",VLOOKUP(M43,'Base Calcul'!A:B,2,0))","v":""}]
["867-00012704","MAHAMAT YAHYA ADAM",null,"Dirdjel ","Enseignants  Formés",null,{"$f":"IF(E44=\"\",\"\",VLOOKUP(E44,'Base Calcul'!A:B,2,0))","v":36000},null,null,null,null,null,null,null,{"$f":"IF(M44=\"\",\"\",VLOOKUP(M44,'Base Calcul'!A:B,2,0))","v":""}]
["867-00004531","MOUKHTAR ABAKAR MAHAMAT ",null,"Dirdjel ","Enseignants  Formés",null,{"$f":"IF(E45=\"\",\"\",VLOOKUP(E45,'Base Calcul'!A:B,2,0))","v":36000},null,null,null,null,null,null,null,{"$f":"IF(M45=\"\",\"\",VLOOKUP(M45,'Base Calcul'!A:B,2,0))","v":""}]
["867-00004781","MAHASSINE AHMAT IDRISS",null,"Dirdjel ","Enseignants  Formés",null,{"$f":"IF(E46=\"\",\"\",VLOOKUP(E46,'Base Calcul'!A:B,2,0))","v":36000},null,null,null,null,null,null,null,{"$f":"IF(M46=\"\",\"\",VLOOKUP(M46,'Base Calcul'!A:B,2,0))","v":""}]
["NB","Yakhoub Ibrahim Yahya",null,"Dirdjel ","Gardiens d'école",null,{"$f":"IF(E47=\"\",\"\",VLOOKUP(E47,'Base Calcul'!A:B,2,0))","v":12000},null,null,null,null,null,null,null,{"$f":"IF(M47=\"\",\"\",VLOOKUP(M47,'Base Calcul'!A:B,2,0))","v":""}]
["NB","Djouma Moussa Souleyman ",null,"Dirdjel ","Gardiens d'école",null,{"$f":"IF(E48=\"\",\"\",VLOOKUP(E48,'Base Calcul'!A:B,2,0))","v":12000},null,null,null,null,null,null,null,{"$f":"IF(M48=\"\",\"\",VLOOKUP(M48,'Base Calcul'!A:B,2,0))","v":""}]
["867-00016851","Djimia Oumar Moussa ",null,"Dirdjel ","Gardiens d'école",null,{"$f":"IF(E49=\"\",\"\",VLOOKUP(E49,'Base Calcul'!A:B,2,0))","v":12000},null,null,null,null,null,null,null,{"$f":"IF(M49=\"\",\"\",VLOOKUP(M49,'Base Calcul'!A:B,2,0))","v":""}]
["867-00006642","ABDALLAH ADAM MAHAMAT",null,"Doroty","Enseignants qualifiés",null,{"$f":"IF(E50=\"\",\"\",VLOOKUP(E50,'Base Calcul'!A:B,2,0))","v":40000},null,null,null,null,null,null,null,{"$f":"IF(M50=\"\",\"\",VLOOKUP(M50,'Base Calcul'!A:B,2,0))","v":""}]
["867-00008206","HASSAN ABAKAR ISSAKH ",null,"Doroty","Enseignants qualifiés",null,{"$f":"IF(E51=\"\",\"\",VLOOKUP(E51,'Base Calcul'!A:B,2,0))","v":40000},null,null,null,null,null,null,null,{"$f":"IF(M51=\"\",\"\",VLOOKUP(M51,'Base Calcul'!A:B,2,0))","v":""}]
["867-00005157","ABOUBAKAR ISMAIL SOULEYMANE",null,"Doroty","Enseignants  Formés",null,{"$f":"IF(E52=\"\",\"\",VLOOKUP(E52,'Base Calcul'!A:B,2,0))","v":36000},null,null,null,null,null,null,null,{"$f":"IF(M52=\"\",\"\",VLOOKUP(M52,'Base Calcul'!A:B,2,0))","v":""}]
["867-00023095","AYOUB ABDALLAH SOULEYMANE",null,"Doroty","Enseignants  Formés",null,{"$f":"IF(E53=\"\",\"\",VLOOKUP(E53,'Base Calcul'!A:B,2,0))","v":36000},null,null,null,null,null,null,null,{"$f":"IF(M53=\"\",\"\",VLOOKUP(M53,'Base Calcul'!A:B,2,0))","v":""}]
["867-00012057","ABDELMADJID BAKHIT ISHAKH",null,"Doroty","Enseignants  Formés",null,{"$f":"IF(E54=\"\",\"\",VLOOKUP(E54,'Base Calcul'!A:B,2,0))","v":36000},null,null,null,null,null,null,null,{"$f":"IF(M54=\"\",\"\",VLOOKUP(M54,'Base Calcul'!A:B,2,0))","v":""}]
["867-00026103","SALWA OUSMANE HAROUN",null,"Doroty","Enseignants  Formés",null,{"$f":"IF(E55=\"\",\"\",VLOOKUP(E55,'Base Calcul'!A:B,2,0))","v":36000},null,null,null,null,null,null,null,{"$f":"IF(M55=\"\",\"\",VLOOKUP(M55,'Base Calcul'!A:B,2,0))","v":""}]
["867-00001570","FAIZA MAHAMAT ABDALLAH",null,"Doroty","Enseignants  Formés",null,{"$f":"IF(E56=\"\",\"\",VLOOKUP(E56,'Base Calcul'!A:B,2,0))","v":36000},null,null,null,null,null,null,null,{"$f":"IF(M56=\"\",\"\",VLOOKUP(M56,'Base Calcul'!A:B,2,0))","v":""}]
["867-00006995","ABDOU ZAKARIA HAROUN",null,"Doroty","Enseignants  Formés",null,{"$f":"IF(E57=\"\",\"\",VLOOKUP(E57,'Base Calcul'!A:B,2,0))","v":36000},null,null,null,null,null,null,null,{"$f":"IF(M57=\"\",\"\",VLOOKUP(M57,'Base Calcul'!A:B,2,0))","v":""}]
["867-00014938","ASSADICK HISSEIN ABDALLAH ",null,"Doroty","Enseignants  Formés",null,{"$f":"IF(E58=\"\",\"\",VLOOKUP(E58,'Base Calcul'!A:B,2,0))","v":36000},null,null,null,null,null,null,null,{"$f":"IF(M58=\"\",\"\",VLOOKUP(M58,'Base Calcul'!A:B,2,0))","v":""}]
["867-0000258","Abakar Yakhoub Rizikh",null,"Doroty","Gardiens d'école",null,{"$f":"IF(E59=\"\",\"\",VLOOKUP(E59,'Base Calcul'!A:B,2,0))","v":12000},null,null,null,null,null,null,null,{"$f":"IF(M59=\"\",\"\",VLOOKUP(M59,'Base Calcul'!A:B,2,0))","v":""}]
["867-00007408","Khamis Hassan Mahamat",null,"Doroty","Gardiens d'école",null,{"$f":"IF(E60=\"\",\"\",VLOOKUP(E60,'Base Calcul'!A:B,2,0))","v":12000},null,null,null,null,null,null,null,{"$f":"IF(M60=\"\",\"\",VLOOKUP(M60,'Base Calcul'!A:B,2,0))","v":""}]
["867-00012923","Abakar Abdallah Daoud",null,"Doroty","Gardiens d'école",null,{"$f":"IF(E61=\"\",\"\",VLOOKUP(E61,'Base Calcul'!A:B,2,0))","v":12000},null,null,null,null,null,null,null,{"$f":"IF(M61=\"\",\"\",VLOOKUP(M61,'Base Calcul'!A:B,2,0))","v":""}]
[null,null,null,null,null,null,{"$f":"IF(E62=\"\",\"\",VLOOKUP(E62,'Base Calcul'!A:B,2,0))","v":""},null,null,null,null,null,null,null,{"$f":"IF(M62=\"\",\"\",VLOOKUP(M62,'Base Calcul'!A:B,2,0))","v":""}]
[null,null,null,null,null,null,{"$f":"IF(E63=\"\",\"\",VLOOKUP(E63,'Base Calcul'!A:B,2,0))","v":""},null,null,null,null,null,null,null,{"$f":"IF(M63=\"\",\"\",VLOOKUP(M63,'Base Calcul'!A:B,2,0))","v":""}]
[null,null,null,null,null,null,{"$f":"IF(E64=\"\",\"\",VLOOKUP(E64,'Base Calcul'!A:B,2,0))","v":""},null,null,null,null,null,null,null,{"$f":"IF(M64=\"\",\"\",VLOOKUP(M64,'Base Calcul'!A:B,2,0))","v":""}]
[null,null,null,null,null,null,{"$f":"IF(E65=\"\",\"\",VLOOKUP(E65,'Base Calcul'!A:B,2,0))","v":""},null,null,null,null,null,null,null,{"$f":"IF(M65=\"\",\"\",VLOOKUP(M65,'Base Calcul'!A:B,2,0))","v":""}]
[null,null,null,null,null,null,{"$f":"IF(E66=\"\",\"\",VLOOKUP(E66,'Base Calcul'!A:B,2,0))","v":""},null,null,null,null,null,null,null,{"$f":"IF(M66=\"\",\"\",VLOOKUP(M66,'Base Calcul'!A:B,2,0))","v":""}]
[null,null,null,null,null,null,{"$f":"IF(E67=\"\",\"\",VLOOKUP(E67,'Base Calcul'!A:B,2,0))","v":""},null,null,null,null,null,null,null,{"$f":"IF(M67=\"\",\"\",VLOOKUP(M67,'Base Calcul'!A:B,2,0))","v":""}]
[null,null,null,null,null,null,{"$f":"IF(E68=\"\",\"\",VLOOKUP(E68,'Base Calcul'!A:B,2,0))","v":""},null,null,null,null,null,null,null,{"$f":"IF(M68=\"\",\"\",VLOOKUP(M68,'Base Calcul'!A:B,2,0))","v":""}]
[null,null,null,null,null,null,{"$f":"IF(E69=\"\",\"\",VLOOKUP(E69,'Base Calcul'!A:B,2,0))","v":""},null,null,null,null,null,null,null,{"$f":"IF(M69=\"\",\"\",VLOOKUP(M69,'Base Calcul'!A:B,2,0))","v":""}]
[null,null,null,null,null,null,{"$f":"IF(E70=\"\",\"\",VLOOKUP(E70,'Base Calcul'!A:B,2,0))","v":""},null,null,null,null,null,null,null,{"$f":"IF(M70=\"\",\"\",VLOOKUP(M70,'Base Calcul'!A:B,2,0))","v":""}]
[null,null,null,null,null,null,{"$f":"IF(E71=\"\",\"\",VLOOKUP(E71,'Base Calcul'!A:B,2,0))","v":""},null,null,null,null,null,null,null,{"$f":"IF(M71=\"\",\"\",VLOOKUP(M71,'Base Calcul'!A:B,2,0))","v":""}]
[null,null,null,null,null,null,{"$f":"IF(E72=\"\",\"\",VLOOKUP(E72,'Base Calcul'!A:B,2,0))","v":""},null,null,null,null,null,null,null,{"$f":"IF(M72=\"\",\"\",VLOOKUP(M72,'Base Calcul'!A:B,2,0))","v":""}]
[null,null,null,null,null,null,{"$f":"IF(E73=\"\",\"\",VLOOKUP(E73,'Base Calcul'!A:B,2,0))","v":""},null,null,null,null,null,null,null,{"$f":"IF(M73=\"\",\"\",VLOOKUP(M73,'Base Calcul'!A:B,2,0))","v":""}]
[null,null,null,null,null,null,{"$f":"IF(E74=\"\",\"\",VLOOKUP(E74,'Base Calcul'!A:B,2,0))","v":""},null,null,null,null,null,null,null,{"$f":"IF(M74=\"\",\"\",VLOOKUP(M74,'Base Calcul'!A:B,2,0))","v":""}]
[null,null,null,null,null,null,{"$f":"IF(E75=\"\",\"\",VLOOKUP(E75,'Base Calcul'!A:B,2,0))","v":""},null,null,null,null,null,null,null,{"$f":"IF(M75=\"\",\"\",VLOOKUP(M75,'Base Calcul'!A:B,2,0))","v":""}]
[null,null,null,null,null,null,{"$f":"IF(E76=\"\",\"\",VLOOKUP(E76,'Base Calcul'!A:B,2,0))","v":""},null,null,null,null,null,null,null,{"$f":"IF(M76=\"\",\"\",VLOOKUP(M76,'Base Calcul'!A:B,2,0))","v":""}]
[null,null,null,null,null,null,{"$f":"IF(E77=\"\",\"\",VLOOKUP(E77,'Base Calcul'!A:B,2,0))","v":""},null,null,null,null,null,null,null,{"$f":"IF(M77=\"\",\"\",VLOOKUP(M77,'Base Calcul'!A:B,2,0))","v":""}]
[null,null,null,null,null,null,{"$f":"IF(E78=\"\",\"\",VLOOKUP(E78,'Base Calcul'!A:B,2,0))","v":""},null,null,null,null,null,null,null,{"$f":"IF(M78=\"\",\"\",VLOOKUP(M78,'Base Calcul'!A:B,2,0))","v":""}]
[null,null,null,null,null,null,{"$f":"IF(E79=\"\",\"\",VLOOKUP(E79,'Base Calcul'!A:B,2,0))","v":""},null,null,null,null,null,null,null,{"$f":"IF(M79=\"\",\"\",VLOOKUP(M79,'Base Calcul'!A:B,2,0))","v":""}]
[null,null,null,null,null,null,{"$f":"IF(E80=\"\",\"\",VLOOKUP(E80,'Base Calcul'!A:B,2,0))","v":""},null,null,null,null,null,null,null,{"$f":"IF(M80=\"\",\"\",VLOOKUP(M80,'Base Calcul'!A:B,2,0))","v":""}]
[null,null,null,null,null,null,{"$f":"IF(E81=\"\",\"\",VLOOKUP(E81,'Base Calcul'!A:B,2,0))","v":""},null,null,null,null,null,null,null,{"$f":"IF(M81=\"\",\"\",VLOOKUP(M81,'Base Calcul'!A:B,2,0))","v":""}]
[null,null,null,null,null,null,{"$f":"IF(E82=\"\",\"\",VLOOKUP(E82,'Base Calcul'!A:B,2,0))","v":""},null,null,null,null,null,null,null,{"$f":"IF(M82=\"\",\"\",VLOOKUP(M82,'Base Calcul'!A:B,2,0))","v":""}]
[null,null,null,null,null,null,{"$f":"IF(E83=\"\",\"\",VLOOKUP(E83,'Base Calcul'!A:B,2,0))","v":""},null,null,null,null,null,null,null,{"$f":"IF(M83=\"\",\"\",VLOOKUP(M83,'Base Calcul'!A:B,2,0))","v":""}]
[null,null,null,null,null,null,{"$f":"IF(E84=\"\",\"\",VLOOKUP(E84,'Base Calcul'!A:B,2,0))","v":""},null,null,null,null,null,null,null,{"$f":"IF(M84=\"\",\"\",VLOOKUP(M84,'Base Calcul'!A:B,2,0))","v":""}]
[null,null,null,null,null,null,{"$f":"IF(E85=\"\",\"\",VLOOKUP(E85,'Base Calcul'!A:B,2,0))","v":""},null,null,null,null,null,null,null,{"$f":"IF(M85=\"\",\"\",VLOOKUP(M85,'Base Calcul'!A:B,2,0))","v":""}]
[null,null,null,null,null,null,{"$f":"IF(E86=\"\",\"\",VLOOKUP(E86,'Base Calcul'!A:B,2,0))","v":""},null,null,null,null,null,null,null,{"$f":"IF(M86=\"\",\"\",VLOOKUP(M86,'Base Calcul'!A:B,2,0))","v":""}]
[null,null,null,null,null,null,{"$f":"IF(E87=\"\",\"\",VLOOKUP(E87,'Base Calcul'!A:B,2,0))","v":""},null,null,null,null,null,null,null,{"$f":"IF(M87=\"\",\"\",VLOOKUP(M87,'Base Calcul'!A:B,2,0))","v":""}]
[null,null,null,null,null,null,{"$f":"IF(E88=\"\",\"\",VLOOKUP(E88,'Base Calcul'!A:B,2,0))","v":""},null,null,null,null,null,null,null,{"$f":"IF(M88=\"\",\"\",VLOOKUP(M88,'Base Calcul'!A:B,2,0))","v":""}]
[null,null,null,null,null,null,{"$f":"IF(E89=\"\",\"\",VLOOKUP(E89,'Base Calcul'!A:B,2,0))","v":""},null,null,null,null,null,null,null,{"$f":"IF(M89=\"\",\"\",VLOOKUP(M89,'Base Calcul'!A:B,2,0))","v":""}]
[null,null,null,null,null,null,{"$f":"IF(E90=\"\",\"\",VLOOKUP(E90,'Base Calcul'!A:B,2,0))","v":""},null,null,null,null,null,null,null,{"$f":"IF(M90=\"\",\"\",VLOOKUP(M90,'Base Calcul'!A:B,2,0))","v":""}]
[null,null,null,null,null,null,{"$f":"IF(E91=\"\",\"\",VLOOKUP(E91,'Base Calcul'!A:B,2,0))","v":""},null,null,null,null,null,null,null,{"$f":"IF(M91=\"\",\"\",VLOOKUP(M91,'Base Calcul'!A:B,2,0))","v":""}]
[null,null,null,null,null,null,{"$f":"IF(E92=\"\",\"\",VLOOKUP(E92,'Base Calcul'!A:B,2,0))","v":""},null,null,null,null,null,null,null,{"$f":"IF(M92=\"\",\"\",VLOOKUP(M92,'Base Calcul'!A:B,2,0))","v":""}]
[null,null,null,null,null,null,{"$f":"IF(E93=\"\",\"\",VLOOKUP(E93,'Base Calcul'!A:B,2,0))","v":""},null,null,null,null,null,null,null,{"$f":"IF(M93=\"\",\"\",VLOOKUP(M93,'Base Calcul'!A:B,2,0))","v":""}]
[null,null,null,null,null,null,{"$f":"IF(E94=\"\",\"\",VLOOKUP(E94,'Base Calcul'!A:B,2,0))","v":""},null,null,null,null,null,null,null,{"$f":"IF(M94=\"\",\"\",VLOOKUP(M94,'Base Calcul'!A:B,2,0))","v":""}]
[null,null,null,null,null,null,{"$f":"IF(E95=\"\",\"\",VLOOKUP(E95,'Base Calcul'!A:B,2,0))","v":""},null,null,null,null,null,null,null,{"$f":"IF(M95=\"\",\"\",VLOOKUP(M95,'Base Calcul'!A:B,2,0))","v":""}]
[null,null,null,null,null,null,{"$f":"IF(E96=\"\",\"\",VLOOKUP(E96,'Base Calcul'!A:B,2,0))","v":""},null,null,null,null,null,null,null,{"$f":"IF(M96=\"\",\"\",VLOOKUP(M96,'Base Calcul'!A:B,2,0))","v":""}]
[null,null,null,null,null,null,{"$f":"IF(E97=\"\",\"\",VLOOKUP(E97,'Base Calcul'!A:B,2,0))","v":""},null,null,null,null,null,null,null,{"$f":"IF(M97=\"\",\"\",VLOOKUP(M97,'Base Calcul'!A:B,2,0))","v":""}]
[null,null,null,null,null,null,{"$f":"IF(E98=\"\",\"\",VLOOKUP(E98,'Base Calcul'!A:B,2,0))","v":""},null,null,null,null,null,null,null,{"$f":"IF(M98=\"\",\"\",VLOOKUP(M98,'Base Calcul'!A:B,2,0))","v":""}]
[null,null,null,null,null,null,{"$f":"IF(E99=\"\",\"\",VLOOKUP(E99,'Base Calcul'!A:B,2,0))","v":""},null,null,null,null,null,null,null,{"$f":"IF(M99=\"\",\"\",VLOOKUP(M99,'Base Calcul'!A:B,2,0))","v":""}]
[null,null,null,null,null,null,{"$f":"IF(E100=\"\",\"\",VLOOKUP(E100,'Base Calcul'!A:B,2,0))","v":""},null,null,null,null,null,null,null,{"$f":"IF(M100=\"\",\"\",VLOOKUP(M100,'Base Calcul'!A:B,2,0))","v":""}]
[null,null,null,null,null,null,{"$f":"IF(E101=\"\",\"\",VLOOKUP(E101,'Base Calcul'!A:B,2,0))","v":""},null,null,null,null,null,null,null,{"$f":"IF(M101=\"\",\"\",VLOOKUP(M101,'Base Calcul'!A:B,2,0))","v":""}]
[null,null,null,null,null,null,{"$f":"IF(E102=\"\",\"\",VLOOKUP(E102,'Base Calcul'!A:B,2,0))","v":""},null,null,null,null,null,null,null,{"$f":"IF(M102=\"\",\"\",VLOOKUP(M102,'Base Calcul'!A:B,2,0))","v":""}]
[null,null,null,null,null,null,{"$f":"IF(E103=\"\",\"\",VLOOKUP(E103,'Base Calcul'!A:B,2,0))","v":""},null,null,null,null,null,null,null,{"$f":"IF(M103=\"\",\"\",VLOOKUP(M103,'Base Calcul'!A:B,2,0))","v":""}]
[null,null,null,null,null,null,{"$f":"IF(E104=\"\",\"\",VLOOKUP(E104,'Base Calcul'!A:B,2,0))","v":""},null,null,null,null,null,null,null,{"$f":"IF(M104=\"\",\"\",VLOOKUP(M104,'Base Calcul'!A:B,2,0))","v":""}]
[null,null,null,null,null,null,{"$f":"IF(E105=\"\",\"\",VLOOKUP(E105,'Base Calcul'!A:B,2,0))","v":""},null,null,null,null,null,null,null,{"$f":"IF(M105=\"\",\"\",VLOOKUP(M105,'Base Calcul'!A:B,2,0))","v":""}]
[null,null,null,null,null,null,{"$f":"IF(E106=\"\",\"\",VLOOKUP(E106,'Base Calcul'!A:B,2,0))","v":""},null,null,null,null,null,null,null,{"$f":"IF(M106=\"\",\"\",VLOOKUP(M106,'Base Calcul'!A:B,2,0))","v":""}]
[null,null,null,null,null,null,{"$f":"IF(E107=\"\",\"\",VLOOKUP(E107,'Base Calcul'!A:B,2,0))","v":""},null,null,null,null,null,null,null,{"$f":"IF(M107=\"\",\"\",VLOOKUP(M107,'Base Calcul'!A:B,2,0))","v":""}]
[null,null,null,null,null,null,{"$f":"IF(E108=\"\",\"\",VLOOKUP(E108,'Base Calcul'!A:B,2,0))","v":""},null,null,null,null,null,null,null,{"$f":"IF(M108=\"\",\"\",VLOOKUP(M108,'Base Calcul'!A:B,2,0))","v":""}]
[null,null,null,null,null,null,{"$f":"IF(E109=\"\",\"\",VLOOKUP(E109,'Base Calcul'!A:B,2,0))","v":""},null,null,null,null,null,null,null,{"$f":"IF(M109=\"\",\"\",VLOOKUP(M109,'Base Calcul'!A:B,2,0))","v":""}]
[null,null,null,null,null,null,{"$f":"IF(E110=\"\",\"\",VLOOKUP(E110,'Base Calcul'!A:B,2,0))","v":""},null,null,null,null,null,null,null,{"$f":"IF(M110=\"\",\"\",VLOOKUP(M110,'Base Calcul'!A:B,2,0))","v":""}]
[null,null,null,null,null,null,{"$f":"IF(E111=\"\",\"\",VLOOKUP(E111,'Base Calcul'!A:B,2,0))","v":""},null,null,null,null,null,null,null,{"$f":"IF(M111=\"\",\"\",VLOOKUP(M111,'Base Calcul'!A:B,2,0))","v":""}]
[null,null,null,null,null,null,{"$f":"IF(E112=\"\",\"\",VLOOKUP(E112,'Base Calcul'!A:B,2,0))","v":""},null,null,null,null,null,null,null,{"$f":"IF(M112=\"\",\"\",VLOOKUP(M112,'Base Calcul'!A:B,2,0))","v":""}]
[null,null,null,null,null,null,{"$f":"IF(E113=\"\",\"\",VLOOKUP(E113,'Base Calcul'!A:B,2,0))","v":""},null,null,null,null,null,null,null,{"$f":"IF(M113=\"\",\"\",VLOOKUP(M113,'Base Calcul'!A:B,2,0))","v":""}]
[null,null,null,null,null,null,{"$f":"IF(E114=\"\",\"\",VLOOKUP(E114,'Base Calcul'!A:B,2,0))","v":""},null,null,null,null,null,null,null,{"$f":"IF(M114=\"\",\"\",VLOOKUP(M114,'Base Calcul'!A:B,2,0))","v":""}]
[null,null,null,null,null,null,{"$f":"IF(E115=\"\",\"\",VLOOKUP(E115,'Base Calcul'!A:B,2,0))","v":""},null,null,null,null,null,null,null,{"$f":"IF(M115=\"\",\"\",VLOOKUP(M115,'Base Calcul'!A:B,2,0))","v":""}]
[null,null,null,null,null,null,{"$f":"IF(E116=\"\",\"\",VLOOKUP(E116,'Base Calcul'!A:B,2,0))","v":""},null,null,null,null,null,null,null,{"$f":"IF(M116=\"\",\"\",VLOOKUP(M116,'Base Calcul'!A:B,2,0))","v":""}]
[null,null,null,null,null,null,{"$f":"IF(E117=\"\",\"\",VLOOKUP(E117,'Base Calcul'!A:B,2,0))","v":""},null,null,null,null,null,null,null,{"$f":"IF(M117=\"\",\"\",VLOOKUP(M117,'Base Calcul'!A:B,2,0))","v":""}]
[null,null,null,null,null,null,{"$f":"IF(E118=\"\",\"\",VLOOKUP(E118,'Base Calcul'!A:B,2,0))","v":""},null,null,null,null,null,null,null,{"$f":"IF(M118=\"\",\"\",VLOOKUP(M118,'Base Calcul'!A:B,2,0))","v":""}]
[null,null,null,null,null,null,{"$f":"IF(E119=\"\",\"\",VLOOKUP(E119,'Base Calcul'!A:B,2,0))","v":""},null,null,null,null,null,null,null,{"$f":"IF(M119=\"\",\"\",VLOOKUP(M119,'Base Calcul'!A:B,2,0))","v":""}]
[null,null,null,null,null,null,{"$f":"IF(E120=\"\",\"\",VLOOKUP(E120,'Base Calcul'!A:B,2,0))","v":""},null,null,null,null,null,null,null,{"$f":"IF(M120=\"\",\"\",VLOOKUP(M120,'Base Calcul'!A:B,2,0))","v":""}]
[null,null,null,null,null,null,{"$f":"IF(E121=\"\",\"\",VLOOKUP(E121,'Base Calcul'!A:B,2,0))","v":""},null,null,null,null,null,null,null,{"$f":"IF(M121=\"\",\"\",VLOOKUP(M121,'Base Calcul'!A:B,2,0))","v":""}]
[null,null,null,null,null,null,{"$f":"IF(E122=\"\",\"\",VLOOKUP(E122,'Base Calcul'!A:B,2,0))","v":""},null,null,null,null,null,null,null,{"$f":"IF(M122=\"\",\"\",VLOOKUP(M122,'Base Calcul'!A:B,2,0))","v":""}]
[null,null,null,null,null,null,{"$f":"IF(E123=\"\",\"\",VLOOKUP(E123,'Base Calcul'!A:B,2,0))","v":""},null,null,null,null,null,null,null,{"$f":"IF(M123=\"\",\"\",VLOOKUP(M123,'Base Calcul'!A:B,2,0))","v":""}]
[null,null,null,null,null,null,{"$f":"IF(E124=\"\",\"\",VLOOKUP(E124,'Base Calcul'!A:B,2,0))","v":""},null,null,null,null,null,null,null,{"$f":"IF(M124=\"\",\"\",VLOOKUP(M124,'Base Calcul'!A:B,2,0))","v":""}]
[null,null,null,null,null,null,{"$f":"IF(E125=\"\",\"\",VLOOKUP(E125,'Base Calcul'!A:B,2,0))","v":""},null,null,null,null,null,null,null,{"$f":"IF(M125=\"\",\"\",VLOOKUP(M125,'Base Calcul'!A:B,2,0))","v":""}]
[null,null,null,null,null,null,{"$f":"IF(E126=\"\",\"\",VLOOKUP(E126,'Base Calcul'!A:B,2,0))","v":""},null,null,null,null,null,null,null,{"$f":"IF(M126=\"\",\"\",VLOOKUP(M126,'Base Calcul'!A:B,2,0))","v":""}]
[null,null,null,null,null,null,{"$f":"IF(E127=\"\",\"\",VLOOKUP(E127,'Base Calcul'!A:B,2,0))","v":""},null,null,null,null,null,null,null,{"$f":"IF(M127=\"\",\"\",VLOOKUP(M127,'Base Calcul'!A:B,2,0))","v":""}]
[null,null,null,null,null,null,{"$f":"IF(E128=\"\",\"\",VLOOKUP(E128,'Base Calcul'!A:B,2,0))","v":""},null,null,null,null,null,null,null,{"$f":"IF(M128=\"\",\"\",VLOOKUP(M128,'Base Calcul'!A:B,2,0))","v":""}]
[null,null,null,null,null,null,{"$f":"IF(E129=\"\",\"\",VLOOKUP(E129,'Base Calcul'!A:B,2,0))","v":""},null,null,null,null,null,null,null,{"$f":"IF(M129=\"\",\"\",VLOOKUP(M129,'Base Calcul'!A:B,2,0))","v":""}]
[null,null,null,null,null,null,{"$f":"IF(E130=\"\",\"\",VLOOKUP(E130,'Base Calcul'!A:B,2,0))","v":""},null,null,null,null,null,null,null,{"$f":"IF(M130=\"\",\"\",VLOOKUP(M130,'Base Calcul'!A:B,2,0))","v":""}]
[null,null,null,null,null,null,{"$f":"IF(E131=\"\",\"\",VLOOKUP(E131,'Base Calcul'!A:B,2,0))","v":""},null,null,null,null,null,null,null,{"$f":"IF(M131=\"\",\"\",VLOOKUP(M131,'Base Calcul'!A:B,2,0))","v":""}]
[null,null,null,null,null,null,{"$f":"IF(E132=\"\",\"\",VLOOKUP(E132,'Base Calcul'!A:B,2,0))","v":""},null,null,null,null,null,null,null,{"$f":"IF(M132=\"\",\"\",VLOOKUP(M132,'Base Calcul'!A:B,2,0))","v":""}]
[null,null,null,null,null,null,{"$f":"IF(E133=\"\",\"\",VLOOKUP(E133,'Base Calcul'!A:B,2,0))","v":""},null,null,null,null,null,null,null,{"$f":"IF(M133=\"\",\"\",VLOOKUP(M133,'Base Calcul'!A:B,2,0))","v":""}]
[null,null,null,null,null,null,{"$f":"IF(E134=\"\",\"\",VLOOKUP(E134,'Base Calcul'!A:B,2,0))","v":""},null,null,null,null,null,null,null,{"$f":"IF(M134=\"\",\"\",VLOOKUP(M134,'Base Calcul'!A:B,2,0))","v":""}]
[null,null,null,null,null,null,{"$f":"IF(E135=\"\",\"\",VLOOKUP(E135,'Base Calcul'!A:B,2,0))","v":""},null,null,null,null,null,null,null,{"$f":"IF(M135=\"\",\"\",VLOOKUP(M135,'Base Calcul'!A:B,2,0))","v":""}]
[null,null,null,null,null,null,{"$f":"IF(E136=\"\",\"\",VLOOKUP(E136,'Base Calcul'!A:B,2,0))","v":""},null,null,null,null,null,null,null,{"$f":"IF(M136=\"\",\"\",VLOOKUP(M136,'Base Calcul'!A:B,2,0))","v":""}]
[null,null,null,null,null,null,{"$f":"IF(E137=\"\",\"\",VLOOKUP(E137,'Base Calcul'!A:B,2,0))","v":""},null,null,null,null,null,null,null,{"$f":"IF(M137=\"\",\"\",VLOOKUP(M137,'Base Calcul'!A:B,2,0))","v":""}]
[null,null,null,null,null,null,{"$f":"IF(E138=\"\",\"\",VLOOKUP(E138,'Base Calcul'!A:B,2,0))","v":""},null,null,null,null,null,null,null,{"$f":"IF(M138=\"\",\"\",VLOOKUP(M138,'Base Calcul'!A:B,2,0))","v":""}]
[null,null,null,null,null,null,{"$f":"IF(E139=\"\",\"\",VLOOKUP(E139,'Base Calcul'!A:B,2,0))","v":""},null,null,null,null,null,null,null,{"$f":"IF(M139=\"\",\"\",VLOOKUP(M139,'Base Calcul'!A:B,2,0))","v":""}]
[null,null,null,null,null,null,{"$f":"IF(E140=\"\",\"\",VLOOKUP(E140,'Base Calcul'!A:B,2,0))","v":""},null,null,null,null,null,null,null,{"$f":"IF(M140=\"\",\"\",VLOOKUP(M140,'Base Calcul'!A:B,2,0))","v":""}]
[null,null,null,null,null,null,{"$f":"IF(E141=\"\",\"\",VLOOKUP(E141,'Base Calcul'!A:B,2,0))","v":""},null,null,null,null,null,null,null,{"$f":"IF(M141=\"\",\"\",VLOOKUP(M141,'Base Calcul'!A:B,2,0))","v":""}]
[null,null,null,null,null,null,{"$f":"IF(E142=\"\",\"\",VLOOKUP(E142,'Base Calcul'!A:B,2,0))","v":""},null,null,null,null,null,null,null,{"$f":"IF(M142=\"\",\"\",VLOOKUP(M142,'Base Calcul'!A:B,2,0))","v":""}]
[null,null,null,null,null,null,{"$f":"IF(E143=\"\",\"\",VLOOKUP(E143,'Base Calcul'!A:B,2,0))","v":""},null,null,null,null,null,null,null,{"$f":"IF(M143=\"\",\"\",VLOOKUP(M143,'Base Calcul'!A:B,2,0))","v":""}]
[null,null,null,null,null,null,{"$f":"IF(E144=\"\",\"\",VLOOKUP(E144,'Base Calcul'!A:B,2,0))","v":""},null,null,null,null,null,null,null,{"$f":"IF(M144=\"\",\"\",VLOOKUP(M144,'Base Calcul'!A:B,2,0))","v":""}]
[null,null,null,null,null,null,{"$f":"IF(E145=\"\",\"\",VLOOKUP(E145,'Base Calcul'!A:B,2,0))","v":""},null,null,null,null,null,null,null,{"$f":"IF(M145=\"\",\"\",VLOOKUP(M145,'Base Calcul'!A:B,2,0))","v":""}]
[null,null,null,null,null,null,{"$f":"IF(E146=\"\",\"\",VLOOKUP(E146,'Base Calcul'!A:B,2,0))","v":""},null,null,null,null,null,null,null,{"$f":"IF(M146=\"\",\"\",VLOOKUP(M146,'Base Calcul'!A:B,2,0))","v":""}]
[null,null,null,null,null,null,{"$f":"IF(E147=\"\",\"\",VLOOKUP(E147,'Base Calcul'!A:B,2,0))","v":""},null,null,null,null,null,null,null,{"$f":"IF(M147=\"\",\"\",VLOOKUP(M147,'Base Calcul'!A:B,2,0))","v":""}]
[null,null,null,null,null,null,{"$f":"IF(E148=\"\",\"\",VLOOKUP(E148,'Base Calcul'!A:B,2,0))","v":""},null,null,null,null,null,null,null,{"$f":"IF(M148=\"\",\"\",VLOOKUP(M148,'Base Calcul'!A:B,2,0))","v":""}]
[null,null,null,null,null,null,{"$f":"IF(E149=\"\",\"\",VLOOKUP(E149,'Base Calcul'!A:B,2,0))","v":""},null,null,null,null,null,null,null,{"$f":"IF(M149=\"\",\"\",VLOOKUP(M149,'Base Calcul'!A:B,2,0))","v":""}]
[null,null,null,null,null,null,{"$f":"IF(E150=\"\",\"\",VLOOKUP(E150,'Base Calcul'!A:B,2,0))","v":""},null,null,null,null,null,null,null,{"$f":"IF(M150=\"\",\"\",VLOOKUP(M150,'Base Calcul'!A:B,2,0))","v":""}]
[null,null,null,null,null,null,{"$f":"IF(E151=\"\",\"\",VLOOKUP(E151,'Base Calcul'!A:B,2,0))","v":""},null,null,null,null,null,null,null,{"$f":"IF(M151=\"\",\"\",VLOOKUP(M151,'Base Calcul'!A:B,2,0))","v":""}]
[null,null,null,null,null,null,{"$f":"IF(E152=\"\",\"\",VLOOKUP(E152,'Base Calcul'!A:B,2,0))","v":""}]
[null,null,null,null,null,null,{"$f":"IF(E153=\"\",\"\",VLOOKUP(E153,'Base Calcul'!A:B,2,0))","v":""}]
[null,null,null,null,null,null,{"$f":"IF(E154=\"\",\"\",VLOOKUP(E154,'Base Calcul'!A:B,2,0))","v":""}]
[null,null,null,null,null,null,{"$f":"IF(E155=\"\",\"\",VLOOKUP(E155,'Base Calcul'!A:B,2,0))","v":""}]
[null,null,null,null,null,null,{"$f":"IF(E156=\"\",\"\",VLOOKUP(E156,'Base Calcul'!A:B,2,0))","v":""}]
[null,null,null,null,null,null,{"$f":"IF(E157=\"\",\"\",VLOOKUP(E157,'Base Calcul'!A:B,2,0))","v":""}]
[null,null,null,null,null,null,{"$f":"IF(E158=\"\",\"\",VLOOKUP(E158,'Base Calcul'!A:B,2,0))","v":""}]
[null,null,null,null,null,null,{"$f":"IF(E159=\"\",\"\",VLOOKUP(E159,'Base Calcul'!A:B,2,0))","v":""}]
[null,null,null,null,null,null,{"$f":"IF(E160=\"\",\"\",VLOOKUP(E160,'Base Calcul'!A:B,2,0))","v":""}]
[null,null,null,null,null,null,{"$f":"IF(E161=\"\",\"\",VLOOKUP(E161,'Base Calcul'!A:B,2,0))","v":""}]
[null,null,null,null,null,null,{"$f":"IF(E162=\"\",\"\",VLOOKUP(E162,'Base Calcul'!A:B,2,0))","v":""}]
[null,null,null,null,null,null,{"$f":"IF(E163=\"\",\"\",VLOOKUP(E163,'Base Calcul'!A:B,2,0))","v":""}]
[null,null,null,null,null,null,{"$f":"IF(E164=\"\",\"\",VLOOKUP(E164,'Base Calcul'!A:B,2,0))","v":""}]
[null,null,null,null,null,null,{"$f":"IF(E165=\"\",\"\",VLOOKUP(E165,'Base Calcul'!A:B,2,0))","v":""}]
[null,null,null,null,null,null,{"$f":"IF(E166=\"\",\"\",VLOOKUP(E166,'Base Calcul'!A:B,2,0))","v":""}]
[null,null,null,null,null,null,{"$f":"IF(E167=\"\",\"\",VLOOKUP(E167,'Base Calcul'!A:B,2,0))","v":""}]
[null,null,null,null,null,null,{"$f":"IF(E168=\"\",\"\",VLOOKUP(E168,'Base Calcul'!A:B,2,0))","v":""}]
[null,null,null,null,null,null,{"$f":"IF(E169=\"\",\"\",VLOOKUP(E169,'Base Calcul'!A:B,2,0))","v":""}]
[null,null,null,null,null,null,{"$f":"IF(E170=\"\",\"\",VLOOKUP(E170,'Base Calcul'!A:B,2,0))","v":""}]
[null,null,null,null,null,null,{"$f":"IF(E171=\"\",\"\",VLOOKUP(E171,'Base Calcul'!A:B,2,0))","v":""}]
[null,null,null,null,null,null,{"$f":"IF(E172=\"\",\"\",VLOOKUP(E172,'Base Calcul'!A:B,2,0))","v":""}]
[null,null,null,null,null,null,{"$f":"IF(E173=\"\",\"\",VLOOKUP(E173,'Base Calcul'!A:B,2,0))","v":""}]
[null,null,null,null,null,null,{"$f":"IF(E174=\"\",\"\",VLOOKUP(E174,'Base Calcul'!A:B,2,0))","v":""}]
[null,null,null,null,null,null,{"$f":"IF(E175=\"\",\"\",VLOOKUP(E175,'Base Calcul'!A:B,2,0))","v":""}]
[null,null,null,null,null,null,{"$f":"IF(E176=\"\",\"\",VLOOKUP(E176,'Base Calcul'!A:B,2,0))","v":""}]
[null,null,null,null,null,null,{"$f":"IF(E177=\"\",\"\",VLOOKUP(E177,'Base Calcul'!A:B,2,0))","v":""}]
[null,null,null,null,null,null,{"$f":"IF(E178=\"\",\"\",VLOOKUP(E178,'Base Calcul'!A:B,2,0))","v":""}]
[null,null,null,null,null,null,{"$f":"IF(E179=\"\",\"\",VLOOKUP(E179,'Base Calcul'!A:B,2,0))","v":""}]
[null,null,null,null,null,null,{"$f":"IF(E180=\"\",\"\",VLOOKUP(E180,'Base Calcul'!A:B,2,0))","v":""}]
[null,null,null,null,null,null,{"$f":"IF(E181=\"\",\"\",VLOOKUP(E181,'Base Calcul'!A:B,2,0))","v":""}]
[null,null,null,null,null,null,{"$f":"IF(E182=\"\",\"\",VLOOKUP(E182,'Base Calcul'!A:B,2,0))","v":""}]
[null,null,null,null,null,null,{"$f":"IF(E183=\"\",\"\",VLOOKUP(E183,'Base Calcul'!A:B,2,0))","v":""}]
[null,null,null,null,null,null,{"$f":"IF(E184=\"\",\"\",VLOOKUP(E184,'Base Calcul'!A:B,2,0))","v":""}]
[null,null,null,null,null,null,{"$f":"IF(E185=\"\",\"\",VLOOKUP(E185,'Base Calcul'!A:B,2,0))","v":""}]
[null,null,null,null,null,null,{"$f":"IF(E186=\"\",\"\",VLOOKUP(E186,'Base Calcul'!A:B,2,0))","v":""}]
[null,null,null,null,null,null,{"$f":"IF(E187=\"\",\"\",VLOOKUP(E187,'Base Calcul'!A:B,2,0))","v":""}]
[null,null,null,null,null,null,{"$f":"IF(E188=\"\",\"\",VLOOKUP(E188,'Base Calcul'!A:B,2,0))","v":""}]
[null,null,null,null,null,null,{"$f":"IF(E189=\"\",\"\",VLOOKUP(E189,'Base Calcul'!A:B,2,0))","v":""}]
[null,null,null,null,null,null,{"$f":"IF(E190=\"\",\"\",VLOOKUP(E190,'Base Calcul'!A:B,2,0))","v":""}]
[null,null,null,null,null,null,{"$f":"IF(E191=\"\",\"\",VLOOKUP(E191,'Base Calcul'!A:B,2,0))","v":""}]
[null,null,null,null,null,null,{"$f":"IF(E192=\"\",\"\",VLOOKUP(E192,'Base Calcul'!A:B,2,0))","v":""}]
[null,null,null,null,null,null,{"$f":"IF(E193=\"\",\"\",VLOOKUP(E193,'Base Calcul'!A:B,2,0))","v":""}]
[null,null,null,null,null,null,{"$f":"IF(E194=\"\",\"\",VLOOKUP(E194,'Base Calcul'!A:B,2,0))","v":""}]
[null,null,null,null,null,null,{"$f":"IF(E195=\"\",\"\",VLOOKUP(E195,'Base Calcul'!A:B,2,0))","v":""}]
[null,null,null,null,null,null,{"$f":"IF(E196=\"\",\"\",VLOOKUP(E196,'Base Calcul'!A:B,2,0))","v":""}]
[null,null,null,null,null,null,{"$f":"IF(E197=\"\",\"\",VLOOKUP(E197,'Base Calcul'!A:B,2,0))","v":""}]
[null,null,null,null,null,null,{"$f":"IF(E198=\"\",\"\",VLOOKUP(E198,'Base Calcul'!A:B,2,0))","v":""}]
[null,null,null,null,null,null,{"$f":"IF(E199=\"\",\"\",VLOOKUP(E199,'Base Calcul'!A:B,2,0))","v":""}]
[null,null,null,null,null,null,{"$f":"IF(E200=\"\",\"\",VLOOKUP(E200,'Base Calcul'!A:B,2,0))","v":""}]
[null,null,null,null,null,null,{"$f":"IF(E201=\"\",\"\",VLOOKUP(E201,'Base Calcul'!A:B,2,0))","v":""}]
[null,null,null,null,null,null,{"$f":"IF(E202=\"\",\"\",VLOOKUP(E202,'Base Calcul'!A:B,2,0))","v":""}]
[null,null,null,null,null,null,{"$f":"IF(E203=\"\",\"\",VLOOKUP(E203,'Base Calcul'!A:B,2,0))","v":""}]
[null,null,null,null,null,null,{"$f":"IF(E204=\"\",\"\",VLOOKUP(E204,'Base Calcul'!A:B,2,0))","v":""}]
[null,null,null,null,null,null,{"$f":"IF(E205=\"\",\"\",VLOOKUP(E205,'Base Calcul'!A:B,2,0))","v":""}]
[null,null,null,null,null,null,{"$f":"IF(E206=\"\",\"\",VLOOKUP(E206,'Base Calcul'!A:B,2,0))","v":""}]
[null,null,null,null,null,null,{"$f":"IF(E207=\"\",\"\",VLOOKUP(E207,'Base Calcul'!A:B,2,0))","v":""}]
[null,null,null,null,null,null,{"$f":"IF(E208=\"\",\"\",VLOOKUP(E208,'Base Calcul'!A:B,2,0))","v":""}]
[null,null,null,null,null,null,{"$f":"IF(E209=\"\",\"\",VLOOKUP(E209,'Base Calcul'!A:B,2,0))","v":""}]
[null,null,null,null,null,null,{"$f":"IF(E210=\"\",\"\",VLOOKUP(E210,'Base Calcul'!A:B,2,0))","v":""}]
[null,null,null,null,null,null,{"$f":"IF(E211=\"\",\"\",VLOOKUP(E211,'Base Calcul'!A:B,2,0))","v":""}]
[null,null,null,null,null,null,{"$f":"IF(E212=\"\",\"\",VLOOKUP(E212,'Base Calcul'!A:B,2,0))","v":""}]
[null,null,null,null,null,null,{"$f":"IF(E213=\"\",\"\",VLOOKUP(E213,'Base Calcul'!A:B,2,0))","v":""}]
[null,null,null,null,null,null,{"$f":"IF(E214=\"\",\"\",VLOOKUP(E214,'Base Calcul'!A:B,2,0))","v":""}]
[null,null,null,null,null,null,{"$f":"IF(E215=\"\",\"\",VLOOKUP(E215,'Base Calcul'!A:B,2,0))","v":""}]
[null,null,null,null,null,null,{"$f":"IF(E216=\"\",\"\",VLOOKUP(E216,'Base Calcul'!A:B,2,0))","v":""}]
[null,null,null,null,null,null,{"$f":"IF(E217=\"\",\"\",VLOOKUP(E217,'Base Calcul'!A:B,2,0))","v":""}]
[null,null,null,null,null,null,{"$f":"IF(E218=\"\",\"\",VLOOKUP(E218,'Base Calcul'!A:B,2,0))","v":""}]
[null,null,null,null,null,null,{"$f":"IF(E219=\"\",\"\",VLOOKUP(E219,'Base Calcul'!A:B,2,0))","v":""}]
[null,null,null,null,null,null,{"$f":"IF(E220=\"\",\"\",VLOOKUP(E220,'Base Calcul'!A:B,2,0))","v":""}]
[null,null,null,null,null,null,{"$f":"IF(E221=\"\",\"\",VLOOKUP(E221,'Base Calcul'!A:B,2,0))","v":""}]
[null,null,null,null,null,null,{"$f":"IF(E222=\"\",\"\",VLOOKUP(E222,'Base Calcul'!A:B,2,0))","v":""}]
[null,null,null,null,null,null,{"$f":"IF(E223=\"\",\"\",VLOOKUP(E223,'Base Calcul'!A:B,2,0))","v":""}]
[null,null,null,null,null,null,{"$f":"IF(E224=\"\",\"\",VLOOKUP(E224,'Base Calcul'!A:B,2,0))","v":""}]
[null,null,null,null,null,null,{"$f":"IF(E225=\"\",\"\",VLOOKUP(E225,'Base Calcul'!A:B,2,0))","v":""}]
[null,null,null,null,null,null,{"$f":"IF(E226=\"\",\"\",VLOOKUP(E226,'Base Calcul'!A:B,2,0))","v":""}]
[null,null,null,null,null,null,{"$f":"IF(E227=\"\",\"\",VLOOKUP(E227,'Base Calcul'!A:B,2,0))","v":""}]
[null,null,null,null,null,null,{"$f":"IF(E228=\"\",\"\",VLOOKUP(E228,'Base Calcul'!A:B,2,0))","v":""}]
[null,null,null,null,null,null,{"$f":"IF(E229=\"\",\"\",VLOOKUP(E229,'Base Calcul'!A:B,2,0))","v":""}]
[null,null,null,null,null,null,{"$f":"IF(E230=\"\",\"\",VLOOKUP(E230,'Base Calcul'!A:B,2,0))","v":""}]
[null,null,null,null,null,null,{"$f":"IF(E231=\"\",\"\",VLOOKUP(E231,'Base Calcul'!A:B,2,0))","v":""}]
[null,null,null,null,null,null,{"$f":"IF(E232=\"\",\"\",VLOOKUP(E232,'Base Calcul'!A:B,2,0))","v":""}]
[null,null,null,null,null,null,{"$f":"IF(E233=\"\",\"\",VLOOKUP(E233,'Base Calcul'!A:B,2,0))","v":""}]
[null,null,null,null,null,null,{"$f":"IF(E234=\"\",\"\",VLOOKUP(E234,'Base Calcul'!A:B,2,0))","v":""}]
[null,null,null,null,null,null,{"$f":"IF(E235=\"\",\"\",VLOOKUP(E235,'Base Calcul'!A:B,2,0))","v":""}]
[null,null,null,null,null,null,{"$f":"IF(E236=\"\",\"\",VLOOKUP(E236,'Base Calcul'!A:B,2,0))","v":""}]
[null,null,null,null,null,null,{"$f":"IF(E237=\"\",\"\",VLOOKUP(E237,'Base Calcul'!A:B,2,0))","v":""}]
[null,null,null,null,null,null,{"$f":"IF(E238=\"\",\"\",VLOOKUP(E238,'Base Calcul'!A:B,2,0))","v":""}]
[null,null,null,null,null,null,{"$f":"IF(E239=\"\",\"\",VLOOKUP(E239,'Base Calcul'!A:B,2,0))","v":""}]
[null,null,null,null,null,null,{"$f":"IF(E240=\"\",\"\",VLOOKUP(E240,'Base Calcul'!A:B,2,0))","v":""}]
[null,null,null,null,null,null,{"$f":"IF(E241=\"\",\"\",VLOOKUP(E241,'Base Calcul'!A:B,2,0))","v":""}]
[null,null,null,null,null,null,{"$f":"IF(E242=\"\",\"\",VLOOKUP(E242,'Base Calcul'!A:B,2,0))","v":""}]
[null,null,null,null,null,null,{"$f":"IF(E243=\"\",\"\",VLOOKUP(E243,'Base Calcul'!A:B,2,0))","v":""}]
[null,null,null,null,null,null,{"$f":"IF(E244=\"\",\"\",VLOOKUP(E244,'Base Calcul'!A:B,2,0))","v":""}]
[null,null,null,null,null,null,{"$f":"IF(E245=\"\",\"\",VLOOKUP(E245,'Base Calcul'!A:B,2,0))","v":""}]
[null,null,null,null,null,null,{"$f":"IF(E246=\"\",\"\",VLOOKUP(E246,'Base Calcul'!A:B,2,0))","v":""}]
[null,null,null,null,null,null,{"$f":"IF(E247=\"\",\"\",VLOOKUP(E247,'Base Calcul'!A:B,2,0))","v":""}]
[null,null,null,null,null,null,{"$f":"IF(E248=\"\",\"\",VLOOKUP(E248,'Base Calcul'!A:B,2,0))","v":""}]
[null,null,null,null,null,null,{"$f":"IF(E249=\"\",\"\",VLOOKUP(E249,'Base Calcul'!A:B,2,0))","v":""}]
[null,null,null,null,null,null,{"$f":"IF(E250=\"\",\"\",VLOOKUP(E250,'Base Calcul'!A:B,2,0))","v":""}]
[null,null,null,null,null,null,{"$f":"IF(E251=\"\",\"\",VLOOKUP(E251,'Base Calcul'!A:B,2,0))","v":""}]
[null,null,null,null,null,null,{"$f":"IF(E252=\"\",\"\",VLOOKUP(E252,'Base Calcul'!A:B,2,0))","v":""}]
[null,null,null,null,null,null,{"$f":"IF(E253=\"\",\"\",VLOOKUP(E253,'Base Calcul'!A:B,2,0))","v":""}]
[null,null,null,null,null,null,{"$f":"IF(E254=\"\",\"\",VLOOKUP(E254,'Base Calcul'!A:B,2,0))","v":""}]
[null,null,null,null,null,null,{"$f":"IF(E255=\"\",\"\",VLOOKUP(E255,'Base Calcul'!A:B,2,0))","v":""}]
[null,null,null,null,null,null,{"$f":"IF(E256=\"\",\"\",VLOOKUP(E256,'Base Calcul'!A:B,2,0))","v":""}]
[null,null,null,null,null,null,{"$f":"IF(E257=\"\",\"\",VLOOKUP(E257,'Base Calcul'!A:B,2,0))","v":""}]
[null,null,null,null,null,null,{"$f":"IF(E258=\"\",\"\",VLOOKUP(E258,'Base Calcul'!A:B,2,0))","v":""}]
[null,null,null,null,null,null,{"$f":"IF(E259=\"\",\"\",VLOOKUP(E259,'Base Calcul'!A:B,2,0))","v":""}]
[null,null,null,null,null,null,{"$f":"IF(E260=\"\",\"\",VLOOKUP(E260,'Base Calcul'!A:B,2,0))","v":""}]
[null,null,null,null,null,null,{"$f":"IF(E261=\"\",\"\",VLOOKUP(E261,'Base Calcul'!A:B,2,0))","v":""}]
[null,null,null,null,null,null,{"$f":"IF(E262=\"\",\"\",VLOOKUP(E262,'Base Calcul'!A:B,2,0))","v":""}]
[null,null,null,null,null,null,{"$f":"IF(E263=\"\",\"\",VLOOKUP(E263,'Base Calcul'!A:B,2,0))","v":""}]
[null,null,null,null,null,null,{"$f":"IF(E264=\"\",\"\",VLOOKUP(E264,'Base Calcul'!A:B,2,0))","v":""}]
[null,null,null,null,null,null,{"$f":"IF(E265=\"\",\"\",VLOOKUP(E265,'Base Calcul'!A:B,2,0))","v":""}]
[null,null,null,null,null,null,{"$f":"IF(E266=\"\",\"\",VLOOKUP(E266,'Base Calcul'!A:B,2,0))","v":""}]
[null,null,null,null,null,null,{"$f":"IF(E267=\"\",\"\",VLOOKUP(E267,'Base Calcul'!A:B,2,0))","v":""}]
[null,null,null,null,null,null,{"$f":"IF(E268=\"\",\"\",VLOOKUP(E268,'Base Calcul'!A:B,2,0))","v":""}]
[null,null,null,null,null,null,{"$f":"IF(E269=\"\",\"\",VLOOKUP(E269,'Base Calcul'!A:B,2,0))","v":""}]
[null,null,null,null,null,null,{"$f":"IF(E270=\"\",\"\",VLOOKUP(E270,'Base Calcul'!A:B,2,0))","v":""}]
[null,null,null,null,null,null,{"$f":"IF(E271=\"\",\"\",VLOOKUP(E271,'Base Calcul'!A:B,2,0))","v":""}]
[null,null,null,null,null,null,{"$f":"IF(E272=\"\",\"\",VLOOKUP(E272,'Base Calcul'!A:B,2,0))","v":""}]
[null,null,null,null,null,null,{"$f":"IF(E273=\"\",\"\",VLOOKUP(E273,'Base Calcul'!A:B,2,0))","v":""}]
[null,null,null,null,null,null,{"$f":"IF(E274=\"\",\"\",VLOOKUP(E274,'Base Calcul'!A:B,2,0))","v":""}]
[null,null,null,null,null,null,{"$f":"IF(E275=\"\",\"\",VLOOKUP(E275,'Base Calcul'!A:B,2,0))","v":""}]
[null,null,null,null,null,null,{"$f":"IF(E276=\"\",\"\",VLOOKUP(E276,'Base Calcul'!A:B,2,0))","v":""}]
[null,null,null,null,null,null,{"$f":"IF(E277=\"\",\"\",VLOOKUP(E277,'Base Calcul'!A:B,2,0))","v":""}]
[null,null,null,null,null,null,{"$f":"IF(E278=\"\",\"\",VLOOKUP(E278,'Base Calcul'!A:B,2,0))","v":""}]
[null,null,null,null,null,null,{"$f":"IF(E279=\"\",\"\",VLOOKUP(E279,'Base Calcul'!A:B,2,0))","v":""}]
[null,null,null,null,null,null,{"$f":"IF(E280=\"\",\"\",VLOOKUP(E280,'Base Calcul'!A:B,2,0))","v":""}]
[null,null,null,null,null,null,{"$f":"IF(E281=\"\",\"\",VLOOKUP(E281,'Base Calcul'!A:B,2,0))","v":""}]
[null,null,null,null,null,null,{"$f":"IF(E282=\"\",\"\",VLOOKUP(E282,'Base Calcul'!A:B,2,0))","v":""}]
[null,null,null,null,null,null,{"$f":"IF(E283=\"\",\"\",VLOOKUP(E283,'Base Calcul'!A:B,2,0))","v":""}]
[null,null,null,null,null,null,{"$f":"IF(E284=\"\",\"\",VLOOKUP(E284,'Base Calcul'!A:B,2,0))","v":""}]
[null,null,null,null,null,null,{"$f":"IF(E285=\"\",\"\",VLOOKUP(E285,'Base Calcul'!A:B,2,0))","v":""}]
[null,null,null,null,null,null,{"$f":"IF(E286=\"\",\"\",VLOOKUP(E286,'Base Calcul'!A:B,2,0))","v":""}]
[null,null,null,null,null,null,{"$f":"IF(E287=\"\",\"\",VLOOKUP(E287,'Base Calcul'!A:B,2,0))","v":""}]
[null,null,null,null,null,null,{"$f":"IF(E288=\"\",\"\",VLOOKUP(E288,'Base Calcul'!A:B,2,0))","v":""}]
[null,null,null,null,null,null,{"$f":"IF(E289=\"\",\"\",VLOOKUP(E289,'Base Calcul'!A:B,2,0))","v":""}]
[null,null,null,null,null,null,{"$f":"IF(E290=\"\",\"\",VLOOKUP(E290,'Base Calcul'!A:B,2,0))","v":""}]
[null,null,null,null,null,null,{"$f":"IF(E291=\"\",\"\",VLOOKUP(E291,'Base Calcul'!A:B,2,0))","v":""}]
[null,null,null,null,null,null,{"$f":"IF(E292=\"\",\"\",VLOOKUP(E292,'Base Calcul'!A:B,2,0))","v":""}]
[null,null,null,null,null,null,{"$f":"IF(E293=\"\",\"\",VLOOKUP(E293,'Base Calcul'!A:B,2,0))","v":""}]
[null,null,null,null,null,null,{"$f":"IF(E294=\"\",\"\",VLOOKUP(E294,'Base Calcul'!A:B,2,0))","v":""}]
[null,null,null,null,null,null,{"$f":"IF(E295=\"\",\"\",VLOOKUP(E295,'Base Calcul'!A:B,2,0))","v":""}]
[null,null,null,null,null,null,{"$f":"IF(E296=\"\",\"\",VLOOKUP(E296,'Base Calcul'!A:B,2,0))","v":""}]
[null,null,null,null,null,null,{"$f":"IF(E297=\"\",\"\",VLOOKUP(E297,'Base Calcul'!A:B,2,0))","v":""}]
[null,null,null,null,null,null,{"$f":"IF(E298=\"\",\"\",VLOOKUP(E298,'Base Calcul'!A:B,2,0))","v":""}]
[null,null,null,null,null,null,{"$f":"IF(E299=\"\",\"\",VLOOKUP(E299,'Base Calcul'!A:B,2,0))","v":""}]
[null,null,null,null,null,null,{"$f":"IF(E300=\"\",\"\",VLOOKUP(E300,'Base Calcul'!A:B,2,0))","v":""}]
[null,null,null,null,null,null,{"$f":"IF(E301=\"\",\"\",VLOOKUP(E301,'Base Calcul'!A:B,2,0))","v":""}]
[null,null,null,null,null,null,{"$f":"IF(E302=\"\",\"\",VLOOKUP(E302,'Base Calcul'!A:B,2,0))","v":""}]
[null,null,null,null,null,null,{"$f":"IF(E303=\"\",\"\",VLOOKUP(E303,'Base Calcul'!A:B,2,0))","v":""}]
[null,null,null,null,null,null,{"$f":"IF(E304=\"\",\"\",VLOOKUP(E304,'Base Calcul'!A:B,2,0))","v":""}]
[null,null,null,null,null,null,{"$f":"IF(E305=\"\",\"\",VLOOKUP(E305,'Base Calcul'!A:B,2,0))","v":""}]
[null,null,null,null,null,null,{"$f":"IF(E306=\"\",\"\",VLOOKUP(E306,'Base Calcul'!A:B,2,0))","v":""}]
[null,null,null,null,null,null,{"$f":"IF(E307=\"\",\"\",VLOOKUP(E307,'Base Calcul'!A:B,2,0))","v":""}]
[null,null,null,null,null,null,{"$f":"IF(E308=\"\",\"\",VLOOKUP(E308,'Base Calcul'!A:B,2,0))","v":""}]
[null,null,null,null,null,null,{"$f":"IF(E309=\"\",\"\",VLOOKUP(E309,'Base Calcul'!A:B,2,0))","v":""}]
[null,null,null,null,null,null,{"$f":"IF(E310=\"\",\"\",VLOOKUP(E310,'Base Calcul'!A:B,2,0))","v":""}]
[null,null,null,null,null,null,{"$f":"IF(E311=\"\",\"\",VLOOKUP(E311,'Base Calcul'!A:B,2,0))","v":""}]
[null,null,null,null,null,null,{"$f":"IF(E312=\"\",\"\",VLOOKUP(E312,'Base Calcul'!A:B,2,0))","v":""}]
[null,null,null,null,null,null,{"$f":"IF(E313=\"\",\"\",VLOOKUP(E313,'Base Calcul'!A:B,2,0))","v":""}]
[null,null,null,null,null,null,{"$f":"IF(E314=\"\",\"\",VLOOKUP(E314,'Base Calcul'!A:B,2,0))","v":""}]
[null,null,null,null,null,null,{"$f":"IF(E315=\"\",\"\",VLOOKUP(E315,'Base Calcul'!A:B,2,0))","v":""}]
[null,null,null,null,null,null,{"$f":"IF(E316=\"\",\"\",VLOOKUP(E316,'Base Calcul'!A:B,2,0))","v":""}]
[null,null,null,null,null,null,{"$f":"IF(E317=\"\",\"\",VLOOKUP(E317,'Base Calcul'!A:B,2,0))","v":""}]
[null,null,null,null,null,null,{"$f":"IF(E318=\"\",\"\",VLOOKUP(E318,'Base Calcul'!A:B,2,0))","v":""}]
[null,null,null,null,null,null,{"$f":"IF(E319=\"\",\"\",VLOOKUP(E319,'Base Calcul'!A:B,2,0))","v":""}]
[null,null,null,null,null,null,{"$f":"IF(E320=\"\",\"\",VLOOKUP(E320,'Base Calcul'!A:B,2,0))","v":""}]
[null,null,null,null,null,null,{"$f":"IF(E321=\"\",\"\",VLOOKUP(E321,'Base Calcul'!A:B,2,0))","v":""}]
[null,null,null,null,null,null,{"$f":"IF(E322=\"\",\"\",VLOOKUP(E322,'Base Calcul'!A:B,2,0))","v":""}]
[null,null,null,null,null,null,{"$f":"IF(E323=\"\",\"\",VLOOKUP(E323,'Base Calcul'!A:B,2,0))","v":""}]
[null,null,null,null,null,null,{"$f":"IF(E324=\"\",\"\",VLOOKUP(E324,'Base Calcul'!A:B,2,0))","v":""}]
[null,null,null,null,null,null,{"$f":"IF(E325=\"\",\"\",VLOOKUP(E325,'Base Calcul'!A:B,2,0))","v":""}]
[null,null,null,null,null,null,{"$f":"IF(E326=\"\",\"\",VLOOKUP(E326,'Base Calcul'!A:B,2,0))","v":""}]
[null,null,null,null,null,null,{"$f":"IF(E327=\"\",\"\",VLOOKUP(E327,'Base Calcul'!A:B,2,0))","v":""}]
[null,null,null,null,null,null,{"$f":"IF(E328=\"\",\"\",VLOOKUP(E328,'Base Calcul'!A:B,2,0))","v":""}]
[null,null,null,null,null,null,{"$f":"IF(E329=\"\",\"\",VLOOKUP(E329,'Base Calcul'!A:B,2,0))","v":""}]
[null,null,null,null,null,null,{"$f":"IF(E330=\"\",\"\",VLOOKUP(E330,'Base Calcul'!A:B,2,0))","v":""}]
[null,null,null,null,null,null,{"$f":"IF(E331=\"\",\"\",VLOOKUP(E331,'Base Calcul'!A:B,2,0))","v":""}]
[null,null,null,null,null,null,{"$f":"IF(E332=\"\",\"\",VLOOKUP(E332,'Base Calcul'!A:B,2,0))","v":""}]
[null,null,null,null,null,null,{"$f":"IF(E333=\"\",\"\",VLOOKUP(E333,'Base Calcul'!A:B,2,0))","v":""}]
[null,null,null,null,null,null,{"$f":"IF(E334=\"\",\"\",VLOOKUP(E334,'Base Calcul'!A:B,2,0))","v":""}]
[null,null,null,null,null,null,{"$f":"IF(E335=\"\",\"\",VLOOKUP(E335,'Base Calcul'!A:B,2,0))","v":""}]
[null,null,null,null,null,null,{"$f":"IF(E336=\"\",\"\",VLOOKUP(E336,'Base Calcul'!A:B,2,0))","v":""}]
[null,null,null,null,null,null,{"$f":"IF(E337=\"\",\"\",VLOOKUP(E337,'Base Calcul'!A:B,2,0))","v":""}]
[null,null,null,null,null,null,{"$f":"IF(E338=\"\",\"\",VLOOKUP(E338,'Base Calcul'!A:B,2,0))","v":""}]
[null,null,null,null,null,null,{"$f":"IF(E339=\"\",\"\",VLOOKUP(E339,'Base Calcul'!A:B,2,0))","v":""}]
[null,null,null,null,null,null,{"$f":"IF(E340=\"\",\"\",VLOOKUP(E340,'Base Calcul'!A:B,2,0))","v":""}]
[null,null,null,null,null,null,{"$f":"IF(E341=\"\",\"\",VLOOKUP(E341,'Base Calcul'!A:B,2,0))","v":""}]
[null,null,null,null,null,null,{"$f":"IF(E342=\"\",\"\",VLOOKUP(E342,'Base Calcul'!A:B,2,0))","v":""}]
[null,null,null,null,null,null,{"$f":"IF(E343=\"\",\"\",VLOOKUP(E343,'Base Calcul'!A:B,2,0))","v":""}]
[null,null,null,null,null,null,{"$f":"IF(E344=\"\",\"\",VLOOKUP(E344,'Base Calcul'!A:B,2,0))","v":""}]
[null,null,null,null,null,null,{"$f":"IF(E345=\"\",\"\",VLOOKUP(E345,'Base Calcul'!A:B,2,0))","v":""}]
[null,null,null,null,null,null,{"$f":"IF(E346=\"\",\"\",VLOOKUP(E346,'Base Calcul'!A:B,2,0))","v":""}]
[null,null,null,null,null,null,{"$f":"IF(E347=\"\",\"\",VLOOKUP(E347,'Base Calcul'!A:B,2,0))","v":""}]
[null,null,null,null,null,null,{"$f":"IF(E348=\"\",\"\",VLOOKUP(E348,'Base Calcul'!A:B,2,0))","v":""}]
[null,null,null,null,null,null,{"$f":"IF(E349=\"\",\"\",VLOOKUP(E349,'Base Calcul'!A:B,2,0))","v":""}]
[null,null,null,null,null,null,{"$f":"IF(E350=\"\",\"\",VLOOKUP(E350,'Base Calcul'!A:B,2,0))","v":""}]
[null,null,null,null,null,null,{"$f":"IF(E351=\"\",\"\",VLOOKUP(E351,'Base Calcul'!A:B,2,0))","v":""}]
[null,null,null,null,null,null,{"$f":"IF(E352=\"\",\"\",VLOOKUP(E352,'Base Calcul'!A:B,2,0))","v":""}]
[null,null,null,null,null,null,{"$f":"IF(E353=\"\",\"\",VLOOKUP(E353,'Base Calcul'!A:B,2,0))","v":""}]
[null,null,null,null,null,null,{"$f":"IF(E354=\"\",\"\",VLOOKUP(E354,'Base Calcul'!A:B,2,0))","v":""}]
[null,null,null,null,null,null,{"$f":"IF(E355=\"\",\"\",VLOOKUP(E355,'Base Calcul'!A:B,2,0))","v":""}]
[null,null,null,null,null,null,{"$f":"IF(E356=\"\",\"\",VLOOKUP(E356,'Base Calcul'!A:B,2,0))","v":""}]
[null,null,null,null,null,null,{"$f":"IF(E357=\"\",\"\",VLOOKUP(E357,'Base Calcul'!A:B,2,0))","v":""}]
[null,null,null,null,null,null,{"$f":"IF(E358=\"\",\"\",VLOOKUP(E358,'Base Calcul'!A:B,2,0))","v":""}]
[null,null,null,null,null,null,{"$f":"IF(E359=\"\",\"\",VLOOKUP(E359,'Base Calcul'!A:B,2,0))","v":""}]
[null,null,null,null,null,null,{"$f":"IF(E360=\"\",\"\",VLOOKUP(E360,'Base Calcul'!A:B,2,0))","v":""}]
[null,null,null,null,null,null,{"$f":"IF(E361=\"\",\"\",VLOOKUP(E361,'Base Calcul'!A:B,2,0))","v":""}]
[null,null,null,null,null,null,{"$f":"IF(E362=\"\",\"\",VLOOKUP(E362,'Base Calcul'!A:B,2,0))","v":""}]
[null,null,null,null,null,null,{"$f":"IF(E363=\"\",\"\",VLOOKUP(E363,'Base Calcul'!A:B,2,0))","v":""}]
[null,null,null,null,null,null,{"$f":"IF(E364=\"\",\"\",VLOOKUP(E364,'Base Calcul'!A:B,2,0))","v":""}]
[null,null,null,null,null,null,{"$f":"IF(E365=\"\",\"\",VLOOKUP(E365,'Base Calcul'!A:B,2,0))","v":""}]
[null,null,null,null,null,null,{"$f":"IF(E366=\"\",\"\",VLOOKUP(E366,'Base Calcul'!A:B,2,0))","v":""}]
[null,null,null,null,null,null,{"$f":"IF(E367=\"\",\"\",VLOOKUP(E367,'Base Calcul'!A:B,2,0))","v":""}]
[null,null,null,null,null,null,{"$f":"IF(E368=\"\",\"\",VLOOKUP(E368,'Base Calcul'!A:B,2,0))","v":""}]
[null,null,null,null,null,null,{"$f":"IF(E369=\"\",\"\",VLOOKUP(E369,'Base Calcul'!A:B,2,0))","v":""}]
[null,null,null,null,null,null,{"$f":"IF(E370=\"\",\"\",VLOOKUP(E370,'Base Calcul'!A:B,2,0))","v":""}]
[null,null,null,null,null,null,{"$f":"IF(E371=\"\",\"\",VLOOKUP(E371,'Base Calcul'!A:B,2,0))","v":""}]
[null,null,null,null,null,null,{"$f":"IF(E372=\"\",\"\",VLOOKUP(E372,'Base Calcul'!A:B,2,0))","v":""}]
[null,null,null,null,null,null,{"$f":"IF(E373=\"\",\"\",VLOOKUP(E373,'Base Calcul'!A:B,2,0))","v":""}]
[null,null,null,null,null,null,{"$f":"IF(E374=\"\",\"\",VLOOKUP(E374,'Base Calcul'!A:B,2,0))","v":""}]
[null,null,null,null,null,null,{"$f":"IF(E375=\"\",\"\",VLOOKUP(E375,'Base Calcul'!A:B,2,0))","v":""}]
[null,null,null,null,null,null,{"$f":"IF(E376=\"\",\"\",VLOOKUP(E376,'Base Calcul'!A:B,2,0))","v":""}]
[null,null,null,null,null,null,{"$f":"IF(E377=\"\",\"\",VLOOKUP(E377,'Base Calcul'!A:B,2,0))","v":""}]
[null,null,null,null,null,null,{"$f":"IF(E378=\"\",\"\",VLOOKUP(E378,'Base Calcul'!A:B,2,0))","v":""}]
[null,null,null,null,null,null,{"$f":"IF(E379=\"\",\"\",VLOOKUP(E379,'Base Calcul'!A:B,2,0))","v":""}]
[null,null,null,null,null,null,{"$f":"IF(E380=\"\",\"\",VLOOKUP(E380,'Base Calcul'!A:B,2,0))","v":""}]
[null,null,null,null,null,null,{"$f":"IF(E381=\"\",\"\",VLOOKUP(E381,'Base Calcul'!A:B,2,0))","v":""}]
[null,null,null,null,null,null,{"$f":"IF(E382=\"\",\"\",VLOOKUP(E382,'Base Calcul'!A:B,2,0))","v":""}]
[null,null,null,null,null,null,{"$f":"IF(E383=\"\",\"\",VLOOKUP(E383,'Base Calcul'!A:B,2,0))","v":""}]
[null,null,null,null,null,null,{"$f":"IF(E384=\"\",\"\",VLOOKUP(E384,'Base Calcul'!A:B,2,0))","v":""}]
[null,null,null,null,null,null,{"$f":"IF(E385=\"\",\"\",VLOOKUP(E385,'Base Calcul'!A:B,2,0))","v":""}]
[null,null,null,null,null,null,{"$f":"IF(E386=\"\",\"\",VLOOKUP(E386,'Base Calcul'!A:B,2,0))","v":""}]
[null,null,null,null,null,null,{"$f":"IF(E387=\"\",\"\",VLOOKUP(E387,'Base Calcul'!A:B,2,0))","v":""}]
[null,null,null,null,null,null,{"$f":"IF(E388=\"\",\"\",VLOOKUP(E388,'Base Calcul'!A:B,2,0))","v":""}]
[null,null,null,null,null,null,{"$f":"IF(E389=\"\",\"\",VLOOKUP(E389,'Base Calcul'!A:B,2,0))","v":""}]
[null,null,null,null,null,null,{"$f":"IF(E390=\"\",\"\",VLOOKUP(E390,'Base Calcul'!A:B,2,0))","v":""}]
[null,null,null,null,null,null,{"$f":"IF(E391=\"\",\"\",VLOOKUP(E391,'Base Calcul'!A:B,2,0))","v":""}]
[null,null,null,null,null,null,{"$f":"IF(E392=\"\",\"\",VLOOKUP(E392,'Base Calcul'!A:B,2,0))","v":""}]
[null,null,null,null,null,null,{"$f":"IF(E393=\"\",\"\",VLOOKUP(E393,'Base Calcul'!A:B,2,0))","v":""}]
[null,null,null,null,null,null,{"$f":"IF(E394=\"\",\"\",VLOOKUP(E394,'Base Calcul'!A:B,2,0))","v":""}]
[null,null,null,null,null,null,{"$f":"IF(E395=\"\",\"\",VLOOKUP(E395,'Base Calcul'!A:B,2,0))","v":""}]
[null,null,null,null,null,null,{"$f":"IF(E396=\"\",\"\",VLOOKUP(E396,'Base Calcul'!A:B,2,0))","v":""}]
[null,null,null,null,null,null,{"$f":"IF(E397=\"\",\"\",VLOOKUP(E397,'Base Calcul'!A:B,2,0))","v":""}]
[null,null,null,null,null,null,{"$f":"IF(E398=\"\",\"\",VLOOKUP(E398,'Base Calcul'!A:B,2,0))","v":""}]
[null,null,null,null,null,null,{"$f":"IF(E399=\"\",\"\",VLOOKUP(E399,'Base Calcul'!A:B,2,0))","v":""}]
[null,null,null,null,null,null,{"$f":"IF(E400=\"\",\"\",VLOOKUP(E400,'Base Calcul'!A:B,2,0))","v":""}]
[null,null,null,null,null,null,{"$f":"IF(E401=\"\",\"\",VLOOKUP(E401,'Base Calcul'!A:B,2,0))","v":""}]
[null,null,null,null,null,null,{"$f":"IF(E402=\"\",\"\",VLOOKUP(E402,'Base Calcul'!A:B,2,0))","v":""}]
[null,null,null,null,null,null,{"$f":"IF(E403=\"\",\"\",VLOOKUP(E403,'Base Calcul'!A:B,2,0))","v":""}]
[null,null,null,null,null,null,{"$f":"IF(E404=\"\",\"\",VLOOKUP(E404,'Base Calcul'!A:B,2,0))","v":""}]
[null,null,null,null,null,null,{"$f":"IF(E405=\"\",\"\",VLOOKUP(E405,'Base Calcul'!A:B,2,0))","v":""}]
[null,null,null,null,null,null,{"$f":"IF(E406=\"\",\"\",VLOOKUP(E406,'Base Calcul'!A:B,2,0))","v":""}]
[null,null,null,null,null,null,{"$f":"IF(E407=\"\",\"\",VLOOKUP(E407,'Base Calcul'!A:B,2,0))","v":""}]
[null,null,null,null,null,null,{"$f":"IF(E408=\"\",\"\",VLOOKUP(E408,'Base Calcul'!A:B,2,0))","v":""}]
[null,null,null,null,null,null,{"$f":"IF(E409=\"\",\"\",VLOOKUP(E409,'Base Calcul'!A:B,2,0))","v":""}]
[null,null,null,null,null,null,{"$f":"IF(E410=\"\",\"\",VLOOKUP(E410,'Base Calcul'!A:B,2,0))","v":""}]
[null,null,null,null,null,null,{"$f":"IF(E411=\"\",\"\",VLOOKUP(E411,'Base Calcul'!A:B,2,0))","v":""}]
[null,null,null,null,null,null,{"$f":"IF(E412=\"\",\"\",VLOOKUP(E412,'Base Calcul'!A:B,2,0))","v":""}]
[null,null,null,null,null,null,{"$f":"IF(E413=\"\",\"\",VLOOKUP(E413,'Base Calcul'!A:B,2,0))","v":""}]
[null,null,null,null,null,null,{"$f":"IF(E414=\"\",\"\",VLOOKUP(E414,'Base Calcul'!A:B,2,0))","v":""}]
[null,null,null,null,null,null,{"$f":"IF(E415=\"\",\"\",VLOOKUP(E415,'Base Calcul'!A:B,2,0))","v":""}]
[null,null,null,null,null,null,{"$f":"IF(E416=\"\",\"\",VLOOKUP(E416,'Base Calcul'!A:B,2,0))","v":""}]
[null,null,null,null,null,null,{"$f":"IF(E417=\"\",\"\",VLOOKUP(E417,'Base Calcul'!A:B,2,0))","v":""}]
[null,null,null,null,null,null,{"$f":"IF(E418=\"\",\"\",VLOOKUP(E418,'Base Calcul'!A:B,2,0))","v":""}]
[null,null,null,null,null,null,{"$f":"IF(E419=\"\",\"\",VLOOKUP(E419,'Base Calcul'!A:B,2,0))","v":""}]
[null,null,null,null,null,null,{"$f":"IF(E420=\"\",\"\",VLOOKUP(E420,'Base Calcul'!A:B,2,0))","v":""}]
[null,null,null,null,null,null,{"$f":"IF(E421=\"\",\"\",VLOOKUP(E421,'Base Calcul'!A:B,2,0))","v":""}]
[null,null,null,null,null,null,{"$f":"IF(E422=\"\",\"\",VLOOKUP(E422,'Base Calcul'!A:B,2,0))","v":""}]
[null,null,null,null,null,null,{"$f":"IF(E423=\"\",\"\",VLOOKUP(E423,'Base Calcul'!A:B,2,0))","v":""}]
[null,null,null,null,null,null,{"$f":"IF(E424=\"\",\"\",VLOOKUP(E424,'Base Calcul'!A:B,2,0))","v":""}]
[null,null,null,null,null,null,{"$f":"IF(E425=\"\",\"\",VLOOKUP(E425,'Base Calcul'!A:B,2,0))","v":""}]
[null,null,null,null,null,null,{"$f":"IF(E426=\"\",\"\",VLOOKUP(E426,'Base Calcul'!A:B,2,0))","v":""}]
[null,null,null,null,null,null,{"$f":"IF(E427=\"\",\"\",VLOOKUP(E427,'Base Calcul'!A:B,2,0))","v":""}]
[null,null,null,null,null,null,{"$f":"IF(E428=\"\",\"\",VLOOKUP(E428,'Base Calcul'!A:B,2,0))","v":""}]
[null,null,null,null,null,null,{"$f":"IF(E429=\"\",\"\",VLOOKUP(E429,'Base Calcul'!A:B,2,0))","v":""}]
[null,null,null,null,null,null,{"$f":"IF(E430=\"\",\"\",VLOOKUP(E430,'Base Calcul'!A:B,2,0))","v":""}]
[null,null,null,null,null,null,{"$f":"IF(E431=\"\",\"\",VLOOKUP(E431,'Base Calcul'!A:B,2,0))","v":""}]
[null,null,null,null,null,null,{"$f":"IF(E432=\"\",\"\",VLOOKUP(E432,'Base Calcul'!A:B,2,0))","v":""}]
[null,null,null,null,null,null,{"$f":"IF(E433=\"\",\"\",VLOOKUP(E433,'Base Calcul'!A:B,2,0))","v":""}]
[null,null,null,null,null,null,{"$f":"IF(E434=\"\",\"\",VLOOKUP(E434,'Base Calcul'!A:B,2,0))","v":""}]
[null,null,null,null,null,null,{"$f":"IF(E435=\"\",\"\",VLOOKUP(E435,'Base Calcul'!A:B,2,0))","v":""}]
[null,null,null,null,null,null,{"$f":"IF(E436=\"\",\"\",VLOOKUP(E436,'Base Calcul'!A:B,2,0))","v":""}]
[null,null,null,null,null,null,{"$f":"IF(E437=\"\",\"\",VLOOKUP(E437,'Base Calcul'!A:B,2,0))","v":""}]
[null,null,null,null,null,null,{"$f":"IF(E438=\"\",\"\",VLOOKUP(E438,'Base Calcul'!A:B,2,0))","v":""}]
[null,null,null,null,null,null,{"$f":"IF(E439=\"\",\"\",VLOOKUP(E439,'Base Calcul'!A:B,2,0))","v":""}]
[null,null,null,null,null,null,{"$f":"IF(E440=\"\",\"\",VLOOKUP(E440,'Base Calcul'!A:B,2,0))","v":""}]
[null,null,null,null,null,null,{"$f":"IF(E441=\"\",\"\",VLOOKUP(E441,'Base Calcul'!A:B,2,0))","v":""}]
[null,null,null,null,null,null,{"$f":"IF(E442=\"\",\"\",VLOOKUP(E442,'Base Calcul'!A:B,2,0))","v":""}]
[null,null,null,null,null,null,{"$f":"IF(E443=\"\",\"\",VLOOKUP(E443,'Base Calcul'!A:B,2,0))","v":""}]
[null,null,null,null,null,null,{"$f":"IF(E444=\"\",\"\",VLOOKUP(E444,'Base Calcul'!A:B,2,0))","v":""}]
[null,null,null,null,null,null,{"$f":"IF(E445=\"\",\"\",VLOOKUP(E445,'Base Calcul'!A:B,2,0))","v":""}]
[null,null,null,null,null,null,{"$f":"IF(E446=\"\",\"\",VLOOKUP(E446,'Base Calcul'!A:B,2,0))","v":""}]
[null,null,null,null,null,null,{"$f":"IF(E447=\"\",\"\",VLOOKUP(E447,'Base Calcul'!A:B,2,0))","v":""}]
[null,null,null,null,null,null,{"$f":"IF(E448=\"\",\"\",VLOOKUP(E448,'Base Calcul'!A:B,2,0))","v":""}]
[null,null,null,null,null,null,{"$f":"IF(E449=\"\",\"\",VLOOKUP(E449,'Base Calcul'!A:B,2,0))","v":""}]
[null,null,null,null,null,null,{"$f":"IF(E450=\"\",\"\",VLOOKUP(E450,'Base Calcul'!A:B,2,0))","v":""}]
[null,null,null,null,null,null,{"$f":"IF(E451=\"\",\"\",VLOOKUP(E451,'Base Calcul'!A:B,2,0))","v":""}]
[null,null,null,null,null,null,{"$f":"IF(E452=\"\",\"\",VLOOKUP(E452,'Base Calcul'!A:B,2,0))","v":""}]
[null,null,null,null,null,null,{"$f":"IF(E453=\"\",\"\",VLOOKUP(E453,'Base Calcul'!A:B,2,0))","v":""}]
[null,null,null,null,null,null,{"$f":"IF(E454=\"\",\"\",VLOOKUP(E454,'Base Calcul'!A:B,2,0))","v":""}]
[null,null,null,null,null,null,{"$f":"IF(E455=\"\",\"\",VLOOKUP(E455,'Base Calcul'!A:B,2,0))","v":""}]
[null,null,null,null,null,null,{"$f":"IF(E456=\"\",\"\",VLOOKUP(E456,'Base Calcul'!A:B,2,0))","v":""}]
[null,null,null,null,null,null,{"$f":"IF(E457=\"\",\"\",VLOOKUP(E457,'Base Calcul'!A:B,2,0))","v":""}]
[null,null,null,null,null,null,{"$f":"IF(E458=\"\",\"\",VLOOKUP(E458,'Base Calcul'!A:B,2,0))","v":""}]
[null,null,null,null,null,null,{"$f":"IF(E459=\"\",\"\",VLOOKUP(E459,'Base Calcul'!A:B,2,0))","v":""}]
[null,null,null,null,null,null,{"$f":"IF(E460=\"\",\"\",VLOOKUP(E460,'Base Calcul'!A:B,2,0))","v":""}]
[null,null,null,null,null,null,{"$f":"IF(E461=\"\",\"\",VLOOKUP(E461,'Base Calcul'!A:B,2,0))","v":""}]
[null,null,null,null,null,null,{"$f":"IF(E462=\"\",\"\",VLOOKUP(E462,'Base Calcul'!A:B,2,0))","v":""}]
[null,null,null,null,null,null,{"$f":"IF(E463=\"\",\"\",VLOOKUP(E463,'Base Calcul'!A:B,2,0))","v":""}]
[null,null,null,null,null,null,{"$f":"IF(E464=\"\",\"\",VLOOKUP(E464,'Base Calcul'!A:B,2,0))","v":""}]
[null,null,null,null,null,null,{"$f":"IF(E465=\"\",\"\",VLOOKUP(E465,'Base Calcul'!A:B,2,0))","v":""}]
[null,null,null,null,null,null,{"$f":"IF(E466=\"\",\"\",VLOOKUP(E466,'Base Calcul'!A:B,2,0))","v":""}]
[null,null,null,null,null,null,{"$f":"IF(E467=\"\",\"\",VLOOKUP(E467,'Base Calcul'!A:B,2,0))","v":""}]
[null,null,null,null,null,null,{"$f":"IF(E468=\"\",\"\",VLOOKUP(E468,'Base Calcul'!A:B,2,0))","v":""}]
[null,null,null,null,null,null,{"$f":"IF(E469=\"\",\"\",VLOOKUP(E469,'Base Calcul'!A:B,2,0))","v":""}]
[null,null,null,null,null,null,{"$f":"IF(E470=\"\",\"\",VLOOKUP(E470,'Base Calcul'!A:B,2,0))","v":""}]
[null,null,null,null,null,null,{"$f":"IF(E471=\"\",\"\",VLOOKUP(E471,'Base Calcul'!A:B,2,0))","v":""}]
[null,null,null,null,null,null,{"$f":"IF(E472=\"\",\"\",VLOOKUP(E472,'Base Calcul'!A:B,2,0))","v":""}]
[null,null,null,null,null,null,{"$f":"IF(E473=\"\",\"\",VLOOKUP(E473,'Base Calcul'!A:B,2,0))","v":""}]
[null,null,null,null,null,null,{"$f":"IF(E474=\"\",\"\",VLOOKUP(E474,'Base Calcul'!A:B,2,0))","v":""}]
[null,null,null,null,null,null,{"$f":"IF(E475=\"\",\"\",VLOOKUP(E475,'Base Calcul'!A:B,2,0))","v":""}]
[null,null,null,null,null,null,{"$f":"IF(E476=\"\",\"\",VLOOKUP(E476,'Base Calcul'!A:B,2,0))","v":""}]
[null,null,null,null,null,null,{"$f":"IF(E477=\"\",\"\",VLOOKUP(E477,'Base Calcul'!A:B,2,0))","v":""}]
[null,null,null,null,null,null,{"$f":"IF(E478=\"\",\"\",VLOOKUP(E478,'Base Calcul'!A:B,2,0))","v":""}]
[null,null,null,null,null,null,{"$f":"IF(E479=\"\",\"\",VLOOKUP(E479,'Base Calcul'!A:B,2,0))","v":""}]
[null,null,null,null,null,null,{"$f":"IF(E480=\"\",\"\",VLOOKUP(E480,'Base Calcul'!A:B,2,0))","v":""}]
[null,null,null,null,null,null,{"$f":"IF(E481=\"\",\"\",VLOOKUP(E481,'Base Calcul'!A:B,2,0))","v":""}]
[null,null,null,null,null,null,{"$f":"IF(E482=\"\",\"\",VLOOKUP(E482,'Base Calcul'!A:B,2,0))","v":""}]

{"sheet":"Gaga","index":1,"n_rows":136,"n_cols":15,"rows_kept":136,"cut":false,"hidden":false,"merged":[[0,0,0,3],[1,4,1,5],[1,8,1,9]]}
["Base de Données des Enseignants"]
["Années Scolaire ",null,"Camp","Gaga","Primaire",null,null,null,"Moyen"]
["Numéro carte Réfugié","Noms et Prenoms","Sexe","Ecole","Categorie","Classe","Montant  Partenaires",null,"Numéro carte Réfugié","Noms et Prenoms","Sexe","Ecole","Categorie","Classe","Montant  Partenaires"]
["431-00007985","Fatima Daoud Ahmat",null,"Darfour","Enseignants qualifiés",null,{"$f":"IF(E4=\"\",\"\",VLOOKUP(E4,'Base Calcul'!A:B,2,0))","v":40000},null,"431-00026418","Abdelssalam Hissein Oumar ",null,"CEG Daoud Bolat","Enseignants qualifiés",null,{"$f":"IF(M4=\"\",\"\",VLOOKUP(M4,'Base Calcul'!A:B,2,0))","v":40000}]
["431-00000449","Issa Souleyman Adam",null,"Darfour","Enseignants qualifiés",null,{"$f":"IF(E5=\"\",\"\",VLOOKUP(E5,'Base Calcul'!A:B,2,0))","v":40000},null,"431-00008524","Adam Adam Issakh",null,"CEG Daoud Bolat","Enseignants qualifiés",null,{"$f":"IF(M5=\"\",\"\",VLOOKUP(M5,'Base Calcul'!A:B,2,0))","v":40000}]
["431-00020034","Mahamat Brémé Mahamat ",null,"Darfour","Enseignants qualifiés",null,{"$f":"IF(E6=\"\",\"\",VLOOKUP(E6,'Base Calcul'!A:B,2,0))","v":40000},null,"431-00004025","Cherif Haroun Ahmat",null,"CEG Daoud Bolat","Enseignants qualifiés",null,{"$f":"IF(M6=\"\",\"\",VLOOKUP(M6,'Base Calcul'!A:B,2,0))","v":40000}]
["431-00004799","Ahmat Adam Abdallah",null,"Darfour","Enseignants  Formés",null,{"$f":"IF(E7=\"\",\"\",VLOOKUP(E7,'Base Calcul'!A:B,2,0))","v":36000},null,"431-00009011","Mahamat Zakaria Issak",null,"CEG Daoud Bolat","Enseignants qualifiés",null,{"$f":"IF(M7=\"\",\"\",VLOOKUP(M7,'Base Calcul'!A:B,2,0))","v":40000}]
["431-00004204","Cherif Abdallah Adam",null,"Darfour","Enseignants  Formés",null,{"$f":"IF(E8=\"\",\"\",VLOOKUP(E8,'Base Calcul'!A:B,2,0))","v":36000},null,"431-00022786","Nasouradine Hamid Asram",null,"CEG Daoud Bolat","Enseignants qualifiés",null,{"$f":"IF(M8=\"\",\"\",VLOOKUP(M8,'Base Calcul'!A:B,2,0))","v":40000}]
["431-00010206","Fatima Hamza Ahmat",null,"Darfour","Enseignants  Formés",null,{"$f":"IF(E9=\"\",\"\",VLOOKUP(E9,'Base Calcul'!A:B,2,0))","v":36000},null,"431-00029275"," Ahmat Adouma Adam",null,"CEG Daoud Bolat","Enseignants  Formés",null,{"$f":"IF(M9=\"\",\"\",VLOOKUP(M9,'Base Calcul'!A:B,2,0))","v":36000}]
["431-00010341","Hassaballh Ahmat Ibrahim",null,"Darfour","Enseignants  Formés",null,{"$f":"IF(E10=\"\",\"\",VLOOKUP(E10,'Base Calcul'!A:B,2,0))","v":36000},null,"431-00019392","Abdoulbagui Adam Ismail",null,"CEG Daoud Bolat","Enseignants  Formés",null,{"$f":"IF(M10=\"\",\"\",VLOOKUP(M10,'Base Calcul'!A:B,2,0))","v":36000}]
["431-00010625","Hassan Abdarhaman Mahamat",null,"Darfour","Enseignants  Formés",null,{"$f":"IF(E11=\"\",\"\",VLOOKUP(E11,'Base Calcul'!A:B,2,0))","v":36000},null,"431-00028253","Bakhit Hamid Assram",null,"CEG Daoud Bolat","Enseignants  Formés",null,{"$f":"IF(M11=\"\",\"\",VLOOKUP(M11,'Base Calcul'!A:B,2,0))","v":36000}]
["431-00010392","Ibrahim Sidik Ibrahim",null,"Darfour","Enseignants  Formés",null,{"$f":"IF(E12=\"\",\"\",VLOOKUP(E12,'Base Calcul'!A:B,2,0))","v":36000},null,"431-00029274","Mahamat Ibrahim Adam",null,"CEG Daoud Bolat","Enseignants  Formés",null,{"$f":"IF(M12=\"\",\"\",VLOOKUP(M12,'Base Calcul'!A:B,2,0))","v":36000}]
["431-00009873","Khadija Hachim Timan",null,"Darfour","Enseignants  Formés",null,{"$f":"IF(E13=\"\",\"\",VLOOKUP(E13,'Base Calcul'!A:B,2,0))","v":36000},null,"431-00032466","Mahassine Abdramane Richene",null,"CEG Daoud Bolat","Enseignants  Formés",null,{"$f":"IF(M13=\"\",\"\",VLOOKUP(M13,'Base Calcul'!A:B,2,0))","v":36000}]
["431-00030991","Khalid Yagoub Abdellh",null,"Darfour","Enseignants  Formés",null,{"$f":"IF(E14=\"\",\"\",VLOOKUP(E14,'Base Calcul'!A:B,2,0))","v":36000},null,"431-00023012","Yassine Yahya Abdellkerim",null,"CEG Daoud Bolat","Enseignants  Formés",null,{"$f":"IF(M14=\"\",\"\",VLOOKUP(M14,'Base Calcul'!A:B,2,0))","v":36000}]
["431-00004849","Mahamat Yacoub Souleymane",null,"Darfour","Enseignants  Formés",null,{"$f":"IF(E15=\"\",\"\",VLOOKUP(E15,'Base Calcul'!A:B,2,0))","v":36000},null,"NB","Yakhoub Khatir Dahiyé ",null,"CEG Daoud Bolat","Gardiens d'école",null,{"$f":"IF(M15=\"\",\"\",VLOOKUP(M15,'Base Calcul'!A:B,2,0))","v":12000}]
["NB","Abakar Adam Ousman",null,"Darfour","Gardiens d'école",null,{"$f":"IF(E16=\"\",\"\",VLOOKUP(E16,'Base Calcul'!A:B,2,0))","v":12000},null,"NB","Ali Abdelkerim Issakh",null,"CEG Daoud Bolat","Gardiens d'école",null,{"$f":"IF(M16=\"\",\"\",VLOOKUP(M16,'Base Calcul'!A:B,2,0))","v":12000}]
["NB","Garandya Adam Abdallah",null,"Darfour","Gardiens d'école",null,{"$f":"IF(E17=\"\",\"\",VLOOKUP(E17,'Base Calcul'!A:B,2,0))","v":12000},null,"NB","Fatime Issakh Abdallah",null,"CEG Daoud Bolat","Gardiens d'école",null,{"$f":"IF(M17=\"\",\"\",VLOOKUP(M17,'Base Calcul'!A:B,2,0))","v":12000}]
["NB","Issa Khamis Oumar",null,"Darfour","Gardiens d'école",null,{"$f":"IF(E18=\"\",\"\",VLOOKUP(E18,'Base Calcul'!A:B,2,0))","v":12000},null,null,null,null,null,null,null,{"$f":"IF(M18=\"\",\"\",VLOOKUP(M18,'Base Calcul'!A:B,2,0))","v":""}]
["NB","Aboubakar Mahamat Banda",null,"Gaga","Enseignants qualifiés",null,{"$f":"IF(E19=\"\",\"\",VLOOKUP(E19,'Base Calcul'!A:B,2,0))","v":40000},null,null,null,null,null,null,null,{"$f":"IF(M19=\"\",\"\",VLOOKUP(M19,'Base Calcul'!A:B,2,0))","v":""}]
["NB","Saadallah Ahmat Ibrahim",null,"Gaga","Enseignants qualifiés",null,{"$f":"IF(E20=\"\",\"\",VLOOKUP(E20,'Base Calcul'!A:B,2,0))","v":40000},null,null,null,null,null,null,null,{"$f":"IF(M20=\"\",\"\",VLOOKUP(M20,'Base Calcul'!A:B,2,0))","v":""}]
["431-00020075","Abdoulsamat Youssif Mahamat",null,"Gaga","Enseignants  Formés",null,{"$f":"IF(E21=\"\",\"\",VLOOKUP(E21,'Base Calcul'!A:B,2,0))","v":36000},null,null,null,null,null,null,null,{"$f":"IF(M21=\"\",\"\",VLOOKUP(M21,'Base Calcul'!A:B,2,0))","v":""}]
["431-00009557","Ibrahim Yaya Abdoul-gadir",null,"Gaga","Enseignants  Formés",null,{"$f":"IF(E22=\"\",\"\",VLOOKUP(E22,'Base Calcul'!A:B,2,0))","v":36000},null,null,null,null,null,null,null,{"$f":"IF(M22=\"\",\"\",VLOOKUP(M22,'Base Calcul'!A:B,2,0))","v":""}]
["431-00014340","Alhafiz adouma adam",null,"Gaga","Enseignants  Formés",null,{"$f":"IF(E23=\"\",\"\",VLOOKUP(E23,'Base Calcul'!A:B,2,0))","v":36000},null,null,null,null,null,null,null,{"$f":"IF(M23=\"\",\"\",VLOOKUP(M23,'Base Calcul'!A:B,2,0))","v":""}]
["431-00007651","Amina Ibrahim Souleymane",null,"Gaga","Enseignants  Formés",null,{"$f":"IF(E24=\"\",\"\",VLOOKUP(E24,'Base Calcul'!A:B,2,0))","v":36000},null,null,null,null,null,null,null,{"$f":"IF(M24=\"\",\"\",VLOOKUP(M24,'Base Calcul'!A:B,2,0))","v":""}]
["4310-0071275","Attahir Adam Ibrahim",null,"Gaga","Enseignants  Formés",null,{"$f":"IF(E25=\"\",\"\",VLOOKUP(E25,'Base Calcul'!A:B,2,0))","v":36000},null,null,null,null,null,null,null,{"$f":"IF(M25=\"\",\"\",VLOOKUP(M25,'Base Calcul'!A:B,2,0))","v":""}]
["431-00026900","Fatima Ahmat Abdolmaola",null,"Gaga","Enseignants  Formés",null,{"$f":"IF(E26=\"\",\"\",VLOOKUP(E26,'Base Calcul'!A:B,2,0))","v":36000},null,null,null,null,null,null,null,{"$f":"IF(M26=\"\",\"\",VLOOKUP(M26,'Base Calcul'!A:B,2,0))","v":""}]
["431-00005059","Mahamat Moussa Matar Issa",null,"Gaga","Enseignants  Formés",null,{"$f":"IF(E27=\"\",\"\",VLOOKUP(E27,'Base Calcul'!A:B,2,0))","v":36000},null,null,null,null,null,null,null,{"$f":"IF(M27=\"\",\"\",VLOOKUP(M27,'Base Calcul'!A:B,2,0))","v":""}]
["431-00006681","Manahil Ahmat Attahir Idriss",null,"Gaga","Enseignants  Formés",null,{"$f":"IF(E28=\"\",\"\",VLOOKUP(E28,'Base Calcul'!A:B,2,0))","v":36000},null,null,null,null,null,null,null,{"$f":"IF(M28=\"\",\"\",VLOOKUP(M28,'Base Calcul'!A:B,2,0))","v":""}]
["431-00003656","Nouradine Ahmat Abdallah",null,"Gaga","Enseignants  Formés",null,{"$f":"IF(E29=\"\",\"\",VLOOKUP(E29,'Base Calcul'!A:B,2,0))","v":36000},null,null,null,null,null,null,null,{"$f":"IF(M29=\"\",\"\",VLOOKUP(M29,'Base Calcul'!A:B,2,0))","v":""}]
["431-00010334","Ousman Khatir Djibrine",null,"Gaga","Enseignants  Formés",null,{"$f":"IF(E30=\"\",\"\",VLOOKUP(E30,'Base Calcul'!A:B,2,0))","v":36000},null,null,null,null,null,null,null,{"$f":"IF(M30=\"\",\"\",VLOOKUP(M30,'Base Calcul'!A:B,2,0))","v":""}]
["431-00008188","Salha Abderahmane Yacoub",null,"Gaga","Enseignants  Formés",null,{"$f":"IF(E31=\"\",\"\",VLOOKUP(E31,'Base Calcul'!A:B,2,0))","v":36000},null,null,null,null,null,null,null,{"$f":"IF(M31=\"\",\"\",VLOOKUP(M31,'Base Calcul'!A:B,2,0))","v":""}]
["NB","Abdallah Souleman Adam",null,"Gaga","Gardiens d'école",null,{"$f":"IF(E32=\"\",\"\",VLOOKUP(E32,'Base Calcul'!A:B,2,0))","v":12000},null,null,null,null,null,null,null,{"$f":"IF(M32=\"\",\"\",VLOOKUP(M32,'Base Calcul'!A:B,2,0))","v":""}]
["NB","Achat Zakaria Arabi",null,"Gaga","Gardiens d'école",null,{"$f":"IF(E33=\"\",\"\",VLOOKUP(E33,'Base Calcul'!A:B,2,0))","v":12000},null,null,null,null,null,null,null,{"$f":"IF(M33=\"\",\"\",VLOOKUP(M33,'Base Calcul'!A:B,2,0))","v":""}]
["NB","Khatir Djibrine Khamiss",null,"Gaga","Gardiens d'école",null,{"$f":"IF(E34=\"\",\"\",VLOOKUP(E34,'Base Calcul'!A:B,2,0))","v":12000},null,null,null,null,null,null,null,{"$f":"IF(M34=\"\",\"\",VLOOKUP(M34,'Base Calcul'!A:B,2,0))","v":""}]
["339-00016854","Habiba Yahya Ahmat",null,"Djabal Marra","Enseignants qualifiés",null,{"$f":"IF(E35=\"\",\"\",VLOOKUP(E35,'Base Calcul'!A:B,2,0))","v":40000},null,null,null,null,null,null,null,{"$f":"IF(M35=\"\",\"\",VLOOKUP(M35,'Base Calcul'!A:B,2,0))","v":""}]
["431-00006947","Hamid Mahamat Ibrahim",null,"Djabal Marra","Enseignants qualifiés",null,{"$f":"IF(E36=\"\",\"\",VLOOKUP(E36,'Base Calcul'!A:B,2,0))","v":40000},null,null,null,null,null,null,null,{"$f":"IF(M36=\"\",\"\",VLOOKUP(M36,'Base Calcul'!A:B,2,0))","v":""}]
["431-00025596","Taha Mahamat Yahya",null,"Djabal Marra","Enseignants qualifiés",null,{"$f":"IF(E37=\"\",\"\",VLOOKUP(E37,'Base Calcul'!A:B,2,0))","v":40000},null,null,null,null,null,null,null,{"$f":"IF(M37=\"\",\"\",VLOOKUP(M37,'Base Calcul'!A:B,2,0))","v":""}]
["431-00008790","Noura Adam Khatir",null,"Djabal Marra","Enseignants qualifiés",null,{"$f":"IF(E38=\"\",\"\",VLOOKUP(E38,'Base Calcul'!A:B,2,0))","v":40000},null,null,null,null,null,null,null,{"$f":"IF(M38=\"\",\"\",VLOOKUP(M38,'Base Calcul'!A:B,2,0))","v":""}]
["431-00009897","Abdel-Aziz Ali Yahya Oumar",null,"Djabal Marra","Enseignants  Formés",null,{"$f":"IF(E39=\"\",\"\",VLOOKUP(E39,'Base Calcul'!A:B,2,0))","v":36000},null,null,null,null,null,null,null,{"$f":"IF(M39=\"\",\"\",VLOOKUP(M39,'Base Calcul'!A:B,2,0))","v":""}]
["431-00007443","Abdoul-Aziz Zakaria Ibrahim",null,"Djabal Marra","Enseignants  Formés",null,{"$f":"IF(E40=\"\",\"\",VLOOKUP(E40,'Base Calcul'!A:B,2,0))","v":36000},null,null,null,null,null,null,null,{"$f":"IF(M40=\"\",\"\",VLOOKUP(M40,'Base Calcul'!A:B,2,0))","v":""}]
["431-00019392","Abdramane Adam Ibrahim",null,"Djabal Marra","Enseignants  Formés",null,{"$f":"IF(E41=\"\",\"\",VLOOKUP(E41,'Base Calcul'!A:B,2,0))","v":36000},null,null,null,null,null,null,null,{"$f":"IF(M41=\"\",\"\",VLOOKUP(M41,'Base Calcul'!A:B,2,0))","v":""}]
["431-00008510","Achta Khamis Ahmat",null,"Djabal Marra","Enseignants  Formés",null,{"$f":"IF(E42=\"\",\"\",VLOOKUP(E42,'Base Calcul'!A:B,2,0))","v":36000},null,null,null,null,null,null,null,{"$f":"IF(M42=\"\",\"\",VLOOKUP(M42,'Base Calcul'!A:B,2,0))","v":""}]
["431-00001342","Baharadine Mahamat Alhadj",null,"Djabal Marra","Enseignants  Formés",null,{"$f":"IF(E43=\"\",\"\",VLOOKUP(E43,'Base Calcul'!A:B,2,0))","v":36000},null,null,null,null,null,null,null,{"$f":"IF(M43=\"\",\"\",VLOOKUP(M43,'Base Calcul'!A:B,2,0))","v":""}]
["431-00006129","Chekhadine Souleymane Hassan",null,"Djabal Marra","Enseignants  Formés",null,{"$f":"IF(E44=\"\",\"\",VLOOKUP(E44,'Base Calcul'!A:B,2,0))","v":36000},null,null,null,null,null,null,null,{"$f":"IF(M44=\"\",\"\",VLOOKUP(M44,'Base Calcul'!A:B,2,0))","v":""}]
["431-00013625","Issak Abderrahman Oumar",null,"Djabal Marra","Enseignants  Formés",null,{"$f":"IF(E45=\"\",\"\",VLOOKUP(E45,'Base Calcul'!A:B,2,0))","v":36000},null,null,null,null,null,null,null,{"$f":"IF(M45=\"\",\"\",VLOOKUP(M45,'Base Calcul'!A:B,2,0))","v":""}]
["431-00005646","Mahamat hassan Ibrahim",null,"Djabal Marra","Enseignants  Formés",null,{"$f":"IF(E46=\"\",\"\",VLOOKUP(E46,'Base Calcul'!A:B,2,0))","v":36000},null,null,null,null,null,null,null,{"$f":"IF(M46=\"\",\"\",VLOOKUP(M46,'Base Calcul'!A:B,2,0))","v":""}]
["431-00013619","Nadjawa Issakh Hassan",null,"Djabal Marra","Enseignants  Formés",null,{"$f":"IF(E47=\"\",\"\",VLOOKUP(E47,'Base Calcul'!A:B,2,0))","v":36000},null,null,null,null,null,null,null,{"$f":"IF(M47=\"\",\"\",VLOOKUP(M47,'Base Calcul'!A:B,2,0))","v":""}]
["431-00004521","Nassima Ousman Barra",null,"Djabal Marra","Enseignants  Formés",null,{"$f":"IF(E48=\"\",\"\",VLOOKUP(E48,'Base Calcul'!A:B,2,0))","v":36000},null,null,null,null,null,null,null,{"$f":"IF(M48=\"\",\"\",VLOOKUP(M48,'Base Calcul'!A:B,2,0))","v":""}]
["431-00012204","Soumaya souleymane Ahmat",null,"Djabal Marra","Enseignants  Formés",null,{"$f":"IF(E49=\"\",\"\",VLOOKUP(E49,'Base Calcul'!A:B,2,0))","v":36000},null,null,null,null,null,null,null,{"$f":"IF(M49=\"\",\"\",VLOOKUP(M49,'Base Calcul'!A:B,2,0))","v":""}]
["NB","Issakh Abakar Idriss",null,"Djabal Marra","Gardiens d'école",null,{"$f":"IF(E50=\"\",\"\",VLOOKUP(E50,'Base Calcul'!A:B,2,0))","v":12000},null,null,null,null,null,null,null,{"$f":"IF(M50=\"\",\"\",VLOOKUP(M50,'Base Calcul'!A:B,2,0))","v":""}]
["NB","Souleymane Matar Abakar",null,"Djabal Marra","Gardiens d'école",null,{"$f":"IF(E51=\"\",\"\",VLOOKUP(E51,'Base Calcul'!A:B,2,0))","v":12000},null,null,null,null,null,null,null,{"$f":"IF(M51=\"\",\"\",VLOOKUP(M51,'Base Calcul'!A:B,2,0))","v":""}]
["NB","Hawa Hamat Mahamat",null,"Djabal Marra","Gardiens d'école",null,{"$f":"IF(E52=\"\",\"\",VLOOKUP(E52,'Base Calcul'!A:B,2,0))","v":12000},null,null,null,null,null,null,null,{"$f":"IF(M52=\"\",\"\",VLOOKUP(M52,'Base Calcul'!A:B,2,0))","v":""}]
["339-00011353","Nouradine Ibrahim Abdallah",null,"Kadja","Enseignants qualifiés",null,{"$f":"IF(E53=\"\",\"\",VLOOKUP(E53,'Base Calcul'!A:B,2,0))","v":40000},null,null,null,null,null,null,null,{"$f":"IF(M53=\"\",\"\",VLOOKUP(M53,'Base Calcul'!A:B,2,0))","v":""}]
["431-00007187","Alhadi Ramadan Ibrahim",null,"Kadja","Enseignants  Formés",null,{"$f":"IF(E54=\"\",\"\",VLOOKUP(E54,'Base Calcul'!A:B,2,0))","v":36000},null,null,null,null,null,null,null,{"$f":"IF(M54=\"\",\"\",VLOOKUP(M54,'Base Calcul'!A:B,2,0))","v":""}]
["431-00008989","Ahmat Mahamat Banda",null,"Kadja","Enseignants  Formés",null,{"$f":"IF(E55=\"\",\"\",VLOOKUP(E55,'Base Calcul'!A:B,2,0))","v":36000},null,null,null,null,null,null,null,{"$f":"IF(M55=\"\",\"\",VLOOKUP(M55,'Base Calcul'!A:B,2,0))","v":""}]
["431-00013164","Aicha Mahamat Issakh",null,"Kadja","Enseignants  Formés",null,{"$f":"IF(E56=\"\",\"\",VLOOKUP(E56,'Base Calcul'!A:B,2,0))","v":36000},null,null,null,null,null,null,null,{"$f":"IF(M56=\"\",\"\",VLOOKUP(M56,'Base Calcul'!A:B,2,0))","v":""}]
["431-00030978","Alnazir Ibrahim Fadoul",null,"Kadja","Enseignants  Formés",null,{"$f":"IF(E57=\"\",\"\",VLOOKUP(E57,'Base Calcul'!A:B,2,0))","v":36000},null,null,null,null,null,null,null,{"$f":"IF(M57=\"\",\"\",VLOOKUP(M57,'Base Calcul'!A:B,2,0))","v":""}]
["431-00013720","Fadillah Djouma Arbab",null,"Kadja","Enseignants  Formés",null,{"$f":"IF(E58=\"\",\"\",VLOOKUP(E58,'Base Calcul'!A:B,2,0))","v":36000},null,null,null,null,null,null,null,{"$f":"IF(M58=\"\",\"\",VLOOKUP(M58,'Base Calcul'!A:B,2,0))","v":""}]
["431-00019831","Ibrahim Mahamat yaya",null,"Kadja","Enseignants  Formés",null,{"$f":"IF(E59=\"\",\"\",VLOOKUP(E59,'Base Calcul'!A:B,2,0))","v":36000},null,null,null,null,null,null,null,{"$f":"IF(M59=\"\",\"\",VLOOKUP(M59,'Base Calcul'!A:B,2,0))","v":""}]
["431-00024203","Mahamat khamis Idriss",null,"Kadja","Enseignants  Formés",null,{"$f":"IF(E60=\"\",\"\",VLOOKUP(E60,'Base Calcul'!A:B,2,0))","v":36000},null,null,null,null,null,null,null,{"$f":"IF(M60=\"\",\"\",VLOOKUP(M60,'Base Calcul'!A:B,2,0))","v":""}]
["431-00009212","Nousradine Mahamat Atim",null,"Kadja","Enseignants  Formés",null,{"$f":"IF(E61=\"\",\"\",VLOOKUP(E61,'Base Calcul'!A:B,2,0))","v":36000},null,null,null,null,null,null,null,{"$f":"IF(M61=\"\",\"\",VLOOKUP(M61,'Base Calcul'!A:B,2,0))","v":""}]
["431-00012204","Soumeya abderrahman Adam",null,"Kadja","Enseignants  Formés",null,{"$f":"IF(E62=\"\",\"\",VLOOKUP(E62,'Base Calcul'!A:B,2,0))","v":36000},null,null,null,null,null,null,null,{"$f":"IF(M62=\"\",\"\",VLOOKUP(M62,'Base Calcul'!A:B,2,0))","v":""}]
["431-00013627","Taiba Abdraman Oumar",null,"Kadja","Enseignants  Formés",null,{"$f":"IF(E63=\"\",\"\",VLOOKUP(E63,'Base Calcul'!A:B,2,0))","v":36000},null,null,null,null,null,null,null,{"$f":"IF(M63=\"\",\"\",VLOOKUP(M63,'Base Calcul'!A:B,2,0))","v":""}]
["431-00007607","Yassine Deye Ismail",null,"Kadja","Enseignants  Formés",null,{"$f":"IF(E64=\"\",\"\",VLOOKUP(E64,'Base Calcul'!A:B,2,0))","v":36000},null,null,null,null,null,null,null,{"$f":"IF(M64=\"\",\"\",VLOOKUP(M64,'Base Calcul'!A:B,2,0))","v":""}]
["431-00007189","Zeinab Ramadan Ibrahim",null,"Kadja","Enseignants  Formés",null,{"$f":"IF(E65=\"\",\"\",VLOOKUP(E65,'Base Calcul'!A:B,2,0))","v":36000},null,null,null,null,null,null,null,{"$f":"IF(M65=\"\",\"\",VLOOKUP(M65,'Base Calcul'!A:B,2,0))","v":""}]
["NB","Djouma Mahamat Adam",null,"Kadja","Gardiens d'école",null,{"$f":"IF(E66=\"\",\"\",VLOOKUP(E66,'Base Calcul'!A:B,2,0))","v":12000},null,null,null,null,null,null,null,{"$f":"IF(M66=\"\",\"\",VLOOKUP(M66,'Base Calcul'!A:B,2,0))","v":""}]
["NB","Mariam Abdallah Iregua",null,"Kadja","Gardiens d'école",null,{"$f":"IF(E67=\"\",\"\",VLOOKUP(E67,'Base Calcul'!A:B,2,0))","v":12000},null,null,null,null,null,null,null,{"$f":"IF(M67=\"\",\"\",VLOOKUP(M67,'Base Calcul'!A:B,2,0))","v":""}]
["NB","Saleh Mht Abakar",null,"Kadja","Gardiens d'école",null,{"$f":"IF(E68=\"\",\"\",VLOOKUP(E68,'Base Calcul'!A:B,2,0))","v":12000},null,null,null,null,null,null,null,{"$f":"IF(M68=\"\",\"\",VLOOKUP(M68,'Base Calcul'!A:B,2,0))","v":""}]
["431-00005943","Abdelmejid Mahamat Abdallh",null,"Ladjine","Enseignants qualifiés",null,{"$f":"IF(E69=\"\",\"\",VLOOKUP(E69,'Base Calcul'!A:B,2,0))","v":40000},null,null,null,null,null,null,null,{"$f":"IF(M69=\"\",\"\",VLOOKUP(M69,'Base Calcul'!A:B,2,0))","v":""}]
["431-00007888","Adam Abdelkhadir Ibrahim",null,"Ladjine","Enseignants qualifiés",null,{"$f":"IF(E70=\"\",\"\",VLOOKUP(E70,'Base Calcul'!A:B,2,0))","v":40000},null,null,null,null,null,null,null,{"$f":"IF(M70=\"\",\"\",VLOOKUP(M70,'Base Calcul'!A:B,2,0))","v":""}]
["431-00012589","Hawaye Mahamat Adam",null,"Ladjine","Enseignants qualifiés",null,{"$f":"IF(E71=\"\",\"\",VLOOKUP(E71,'Base Calcul'!A:B,2,0))","v":40000},null,null,null,null,null,null,null,{"$f":"IF(M71=\"\",\"\",VLOOKUP(M71,'Base Calcul'!A:B,2,0))","v":""}]
["431-00015618","Souraya Issakh Hassan",null,"Ladjine","Enseignants qualifiés",null,{"$f":"IF(E72=\"\",\"\",VLOOKUP(E72,'Base Calcul'!A:B,2,0))","v":40000},null,null,null,null,null,null,null,{"$f":"IF(M72=\"\",\"\",VLOOKUP(M72,'Base Calcul'!A:B,2,0))","v":""}]
["431-00009425","Aboubakar Abdallah Sinine",null,"Ladjine","Enseignants  Formés",null,{"$f":"IF(E73=\"\",\"\",VLOOKUP(E73,'Base Calcul'!A:B,2,0))","v":36000},null,null,null,null,null,null,null,{"$f":"IF(M73=\"\",\"\",VLOOKUP(M73,'Base Calcul'!A:B,2,0))","v":""}]
["431-00008413","Adam Hassan Abdallah",null,"Ladjine","Enseignants  Formés",null,{"$f":"IF(E74=\"\",\"\",VLOOKUP(E74,'Base Calcul'!A:B,2,0))","v":36000},null,null,null,null,null,null,null,{"$f":"IF(M74=\"\",\"\",VLOOKUP(M74,'Base Calcul'!A:B,2,0))","v":""}]
["431-00123879","Adam khatir Hassan ",null,"Ladjine","Enseignants  Formés",null,{"$f":"IF(E75=\"\",\"\",VLOOKUP(E75,'Base Calcul'!A:B,2,0))","v":36000},null,null,null,null,null,null,null,{"$f":"IF(M75=\"\",\"\",VLOOKUP(M75,'Base Calcul'!A:B,2,0))","v":""}]
["431-00009059","Amira Sinine Abdramane",null,"Ladjine","Enseignants  Formés",null,{"$f":"IF(E76=\"\",\"\",VLOOKUP(E76,'Base Calcul'!A:B,2,0))","v":36000},null,null,null,null,null,null,null,{"$f":"IF(M76=\"\",\"\",VLOOKUP(M76,'Base Calcul'!A:B,2,0))","v":""}]
["431-00010346","Annour Ahmat Ibrahim",null,"Ladjine","Enseignants  Formés",null,{"$f":"IF(E77=\"\",\"\",VLOOKUP(E77,'Base Calcul'!A:B,2,0))","v":36000},null,null,null,null,null,null,null,{"$f":"IF(M77=\"\",\"\",VLOOKUP(M77,'Base Calcul'!A:B,2,0))","v":""}]
["431-00004847","Fatima Yacoub Souleyman",null,"Ladjine","Enseignants  Formés",null,{"$f":"IF(E78=\"\",\"\",VLOOKUP(E78,'Base Calcul'!A:B,2,0))","v":36000},null,null,null,null,null,null,null,{"$f":"IF(M78=\"\",\"\",VLOOKUP(M78,'Base Calcul'!A:B,2,0))","v":""}]
["431-00007618","Hamdan Khatir Mahamat",null,"Ladjine","Enseignants  Formés",null,{"$f":"IF(E79=\"\",\"\",VLOOKUP(E79,'Base Calcul'!A:B,2,0))","v":36000},null,null,null,null,null,null,null,{"$f":"IF(M79=\"\",\"\",VLOOKUP(M79,'Base Calcul'!A:B,2,0))","v":""}]
["431-00026058","Mahamat Abakar Adam ",null,"Ladjine","Enseignants  Formés",null,{"$f":"IF(E80=\"\",\"\",VLOOKUP(E80,'Base Calcul'!A:B,2,0))","v":36000},null,null,null,null,null,null,null,{"$f":"IF(M80=\"\",\"\",VLOOKUP(M80,'Base Calcul'!A:B,2,0))","v":""}]
["431-00003705","Mahamat Ali Yahya Oumar",null,"Ladjine","Enseignants  Formés",null,{"$f":"IF(E81=\"\",\"\",VLOOKUP(E81,'Base Calcul'!A:B,2,0))","v":36000},null,null,null,null,null,null,null,{"$f":"IF(M81=\"\",\"\",VLOOKUP(M81,'Base Calcul'!A:B,2,0))","v":""}]
["431-00001434","Salahadine Issak Adam",null,"Ladjine","Enseignants  Formés",null,{"$f":"IF(E82=\"\",\"\",VLOOKUP(E82,'Base Calcul'!A:B,2,0))","v":36000},null,null,null,null,null,null,null,{"$f":"IF(M82=\"\",\"\",VLOOKUP(M82,'Base Calcul'!A:B,2,0))","v":""}]
["NB","Arbab Ahmed Ibrahim ",null,"Ladjine","Gardiens d'école",null,{"$f":"IF(E83=\"\",\"\",VLOOKUP(E83,'Base Calcul'!A:B,2,0))","v":12000},null,null,null,null,null,null,null,{"$f":"IF(M83=\"\",\"\",VLOOKUP(M83,'Base Calcul'!A:B,2,0))","v":""}]
["NB","Habiba Ibrahim Doud",null,"Ladjine","Gardiens d'école",null,{"$f":"IF(E84=\"\",\"\",VLOOKUP(E84,'Base Calcul'!A:B,2,0))","v":12000},null,null,null,null,null,null,null,{"$f":"IF(M84=\"\",\"\",VLOOKUP(M84,'Base Calcul'!A:B,2,0))","v":""}]
["NB","Hassan Bechir Adam",null,"Ladjine","Gardiens d'école",null,{"$f":"IF(E85=\"\",\"\",VLOOKUP(E85,'Base Calcul'!A:B,2,0))","v":12000},null,null,null,null,null,null,null,{"$f":"IF(M85=\"\",\"\",VLOOKUP(M85,'Base Calcul'!A:B,2,0))","v":""}]
["NB","Adam Abakar Mamoud",null,"Ladjine","Gardiens d'école",null,{"$f":"IF(E86=\"\",\"\",VLOOKUP(E86,'Base Calcul'!A:B,2,0))","v":12000},null,null,null,null,null,null,null,{"$f":"IF(M86=\"\",\"\",VLOOKUP(M86,'Base Calcul'!A:B,2,0))","v":""}]
[null,null,null,null,null,null,{"$f":"IF(E87=\"\",\"\",VLOOKUP(E87,'Base Calcul'!A:B,2,0))","v":""},null,null,null,null,null,null,null,{"$f":"IF(M87=\"\",\"\",VLOOKUP(M87,'Base Calcul'!A:B,2,0))","v":""}]
[null,null,null,null,null,null,{"$f":"IF(E88=\"\",\"\",VLOOKUP(E88,'Base Calcul'!A:B,2,0))","v":""},null,null,null,null,null,null,null,{"$f":"IF(M88=\"\",\"\",VLOOKUP(M88,'Base Calcul'!A:B,2,0))","v":""}]
[null,null,null,null,null,null,{"$f":"IF(E89=\"\",\"\",VLOOKUP(E89,'Base Calcul'!A:B,2,0))","v":""},null,null,null,null,null,null,null,{"$f":"IF(M89=\"\",\"\",VLOOKUP(M89,'Base Calcul'!A:B,2,0))","v":""}]
[null,null,null,null,null,null,{"$f":"IF(E90=\"\",\"\",VLOOKUP(E90,'Base Calcul'!A:B,2,0))","v":""},null,null,null,null,null,null,null,{"$f":"IF(M90=\"\",\"\",VLOOKUP(M90,'Base Calcul'!A:B,2,0))","v":""}]
[null,null,null,null,null,null,{"$f":"IF(E91=\"\",\"\",VLOOKUP(E91,'Base Calcul'!A:B,2,0))","v":""},null,null,null,null,null,null,null,{"$f":"IF(M91=\"\",\"\",VLOOKUP(M91,'Base Calcul'!A:B,2,0))","v":""}]
[null,null,null,null,null,null,{"$f":"IF(E92=\"\",\"\",VLOOKUP(E92,'Base Calcul'!A:B,2,0))","v":""},null,null,null,null,null,null,null,{"$f":"IF(M92=\"\",\"\",VLOOKUP(M92,'Base Calcul'!A:B,2,0))","v":""}]
[null,null,null,null,null,null,{"$f":"IF(E93=\"\",\"\",VLOOKUP(E93,'Base Calcul'!A:B,2,0))","v":""},null,null,null,null,null,null,null,{"$f":"IF(M93=\"\",\"\",VLOOKUP(M93,'Base Calcul'!A:B,2,0))","v":""}]
[null,null,null,null,null,null,{"$f":"IF(E94=\"\",\"\",VLOOKUP(E94,'Base Calcul'!A:B,2,0))","v":""},null,null,null,null,null,null,null,{"$f":"IF(M94=\"\",\"\",VLOOKUP(M94,'Base Calcul'!A:B,2,0))","v":""}]
[null,null,null,null,null,null,{"$f":"IF(E95=\"\",\"\",VLOOKUP(E95,'Base Calcul'!A:B,2,0))","v":""},null,null,null,null,null,null,null,{"$f":"IF(M95=\"\",\"\",VLOOKUP(M95,'Base Calcul'!A:B,2,0))","v":""}]
[null,null,null,null,null,null,{"$f":"IF(E96=\"\",\"\",VLOOKUP(E96,'Base Calcul'!A:B,2,0))","v":""},null,null,null,null,null,null,null,{"$f":"IF(M96=\"\",\"\",VLOOKUP(M96,'Base Calcul'!A:B,2,0))","v":""}]
[null,null,null,null,null,null,{"$f":"IF(E97=\"\",\"\",VLOOKUP(E97,'Base Calcul'!A:B,2,0))","v":""},null,null,null,null,null,null,null,{"$f":"IF(M97=\"\",\"\",VLOOKUP(M97,'Base Calcul'!A:B,2,0))","v":""}]
[null,null,null,null,null,null,{"$f":"IF(E98=\"\",\"\",VLOOKUP(E98,'Base Calcul'!A:B,2,0))","v":""},null,null,null,null,null,null,null,{"$f":"IF(M98=\"\",\"\",VLOOKUP(M98,'Base Calcul'!A:B,2,0))","v":""}]
[null,null,null,null,null,null,{"$f":"IF(E99=\"\",\"\",VLOOKUP(E99,'Base Calcul'!A:B,2,0))","v":""},null,null,null,null,null,null,null,{"$f":"IF(M99=\"\",\"\",VLOOKUP(M99,'Base Calcul'!A:B,2,0))","v":""}]
[null,null,null,null,null,null,{"$f":"IF(E100=\"\",\"\",VLOOKUP(E100,'Base Calcul'!A:B,2,0))","v":""},null,null,null,null,null,null,null,{"$f":"IF(M100=\"\",\"\",VLOOKUP(M100,'Base Calcul'!A:B,2,0))","v":""}]
[null,null,null,null,null,null,{"$f":"IF(E101=\"\",\"\",VLOOKUP(E101,'Base Calcul'!A:B,2,0))","v":""}]
[null,null,null,null,null,null,{"$f":"IF(E102=\"\",\"\",VLOOKUP(E102,'Base Calcul'!A:B,2,0))","v":""}]
[null,null,null,null,null,null,{"$f":"IF(E103=\"\",\"\",VLOOKUP(E103,'Base Calcul'!A:B,2,0))","v":""}]
[null,null,null,null,null,null,{"$f":"IF(E104=\"\",\"\",VLOOKUP(E104,'Base Calcul'!A:B,2,0))","v":""}]
[null,null,null,null,null,null,{"$f":"IF(E105=\"\",\"\",VLOOKUP(E105,'Base Calcul'!A:B,2,0))","v":""}]
[null,null,null,null,null,null,{"$f":"IF(E106=\"\",\"\",VLOOKUP(E106,'Base Calcul'!A:B,2,0))","v":""}]
[null,null,null,null,null,null,{"$f":"IF(E107=\"\",\"\",VLOOKUP(E107,'Base Calcul'!A:B,2,0))","v":""}]
[null,null,null,null,null,null,{"$f":"IF(E108=\"\",\"\",VLOOKUP(E108,'Base Calcul'!A:B,2,0))","v":""}]
[null,null,null,null,null,null,{"$f":"IF(E109=\"\",\"\",VLOOKUP(E109,'Base Calcul'!A:B,2,0))","v":""}]
[null,null,null,null,null,null,{"$f":"IF(E110=\"\",\"\",VLOOKUP(E110,'Base Calcul'!A:B,2,0))","v":""}]
[null,null,null,null,null,null,{"$f":"IF(E111=\"\",\"\",VLOOKUP(E111,'Base Calcul'!A:B,2,0))","v":""}]
[null,null,null,null,null,null,{"$f":"IF(E112=\"\",\"\",VLOOKUP(E112,'Base Calcul'!A:B,2,0))","v":""}]
[null,null,null,null,null,null,{"$f":"IF(E113=\"\",\"\",VLOOKUP(E113,'Base Calcul'!A:B,2,0))","v":""}]
[null,null,null,null,null,null,{"$f":"IF(E114=\"\",\"\",VLOOKUP(E114,'Base Calcul'!A:B,2,0))","v":""}]
[null,null,null,null,null,null,{"$f":"IF(E115=\"\",\"\",VLOOKUP(E115,'Base Calcul'!A:B,2,0))","v":""}]
[null,null,null,null,null,null,{"$f":"IF(E116=\"\",\"\",VLOOKUP(E116,'Base Calcul'!A:B,2,0))","v":""}]
[null,null,null,null,null,null,{"$f":"IF(E117=\"\",\"\",VLOOKUP(E117,'Base Calcul'!A:B,2,0))","v":""}]
[null,null,null,null,null,null,{"$f":"IF(E118=\"\",\"\",VLOOKUP(E118,'Base Calcul'!A:B,2,0))","v":""}]
[null,null,null,null,null,null,{"$f":"IF(E119=\"\",\"\",VLOOKUP(E119,'Base Calcul'!A:B,2,0))","v":""}]
[null,null,null,null,null,null,{"$f":"IF(E120=\"\",\"\",VLOOKUP(E120,'Base Calcul'!A:B,2,0))","v":""}]
[null,null,null,null,null,null,{"$f":"IF(E121=\"\",\"\",VLOOKUP(E121,'Base Calcul'!A:B,2,0))","v":""}]
[null,null,null,null,null,null,{"$f":"IF(E122=\"\",\"\",VLOOKUP(E122,'Base Calcul'!A:B,2,0))","v":""}]
[null,null,null,null,null,null,{"$f":"IF(E123=\"\",\"\",VLOOKUP(E123,'Base Calcul'!A:B,2,0))","v":""}]
[null,null,null,null,null,null,{"$f":"IF(E124=\"\",\"\",VLOOKUP(E124,'Base Calcul'!A:B,2,0))","v":""}]
[null,null,null,null,null,null,{"$f":"IF(E125=\"\",\"\",VLOOKUP(E125,'Base Calcul'!A:B,2,0))","v":""}]
[null,null,null,null,null,null,{"$f":"IF(E126=\"\",\"\",VLOOKUP(E126,'Base Calcul'!A:B,2,0))","v":""}]
[null,null,null,null,null,null,{"$f":"IF(E127=\"\",\"\",VLOOKUP(E127,'Base Calcul'!A:B,2,0))","v":""}]
[null,null,null,null,null,null,{"$f":"IF(E128=\"\",\"\",VLOOKUP(E128,'Base Calcul'!A:B,2,0))","v":""}]
[null,null,null,null,null,null,{"$f":"IF(E129=\"\",\"\",VLOOKUP(E129,'Base Calcul'!A:B,2,0))","v":""}]
[null,null,null,null,null,null,{"$f":"IF(E130=\"\",\"\",VLOOKUP(E130,'Base Calcul'!A:B,2,0))","v":""}]
[null,null,null,null,null,null,{"$f":"IF(E131=\"\",\"\",VLOOKUP(E131,'Base Calcul'!A:B,2,0))","v":""}]
[null,null,null,null,null,null,{"$f":"IF(E132=\"\",\"\",VLOOKUP(E132,'Base Calcul'!A:B,2,0))","v":""}]
[null,null,null,null,null,null,{"$f":"IF(E133=\"\",\"\",VLOOKUP(E133,'Base Calcul'!A:B,2,0))","v":""}]
[null,null,null,null,null,null,{"$f":"IF(E134=\"\",\"\",VLOOKUP(E134,'Base Calcul'!A:B,2,0))","v":""}]
[null,null,null,null,null,null,{"$f":"IF(E135=\"\",\"\",VLOOKUP(E135,'Base Calcul'!A:B,2,0))","v":""}]
[null,null,null,null,null,null,{"$f":"IF(E136=\"\",\"\",VLOOKUP(E136,'Base Calcul'!A:B,2,0))","v":""}]

{"sheet":"Treguine","index":2,"n_rows":501,"n_cols":15,"rows_kept":501,"cut":false,"hidden":false,"merged":[[0,0,0,3],[1,8,1,9],[1,4,1,5]]}
["Base de Données des Enseignants"]
["Années Scolaire ",null,"Camp","farchana","Primaire",null,null,null,"Moyen"]
["Numéro carte Réfugié","Noms et Prenoms","Sexe","Ecole","Categorie","Classe","Montant  Partenaires",null,"Numéro carte Réfugié","Noms et Prenoms","Sexe","Ecole","Categorie","Classe","Montant  Partenaires"]
[null,null,null,null,null,null,{"$f":"IF(E4=\"\",\"\",VLOOKUP(E4,'Base Calcul'!A:B,2,0))","v":""},null,null,null,null,null,null,null,{"$f":"IF(M4=\"\",\"\",VLOOKUP(M4,'Base Calcul'!A:B,2,0))","v":""}]
[null,null,null,null,null,null,{"$f":"IF(E5=\"\",\"\",VLOOKUP(E5,'Base Calcul'!A:B,2,0))","v":""},null,null,null,null,null,null,null,{"$f":"IF(M5=\"\",\"\",VLOOKUP(M5,'Base Calcul'!A:B,2,0))","v":""}]
[null,null,null,null,null,null,{"$f":"IF(E6=\"\",\"\",VLOOKUP(E6,'Base Calcul'!A:B,2,0))","v":""},null,null,null,null,null,null,null,{"$f":"IF(M6=\"\",\"\",VLOOKUP(M6,'Base Calcul'!A:B,2,0))","v":""}]
[null,null,null,null,null,null,{"$f":"IF(E7=\"\",\"\",VLOOKUP(E7,'Base Calcul'!A:B,2,0))","v":""},null,null,null,null,null,null,null,{"$f":"IF(M7=\"\",\"\",VLOOKUP(M7,'Base Calcul'!A:B,2,0))","v":""}]
[null,null,null,null,null,null,{"$f":"IF(E8=\"\",\"\",VLOOKUP(E8,'Base Calcul'!A:B,2,0))","v":""},null,null,null,null,null,null,null,{"$f":"IF(M8=\"\",\"\",VLOOKUP(M8,'Base Calcul'!A:B,2,0))","v":""}]
[null,null,null,null,null,null,{"$f":"IF(E9=\"\",\"\",VLOOKUP(E9,'Base Calcul'!A:B,2,0))","v":""},null,null,null,null,null,null,null,{"$f":"IF(M9=\"\",\"\",VLOOKUP(M9,'Base Calcul'!A:B,2,0))","v":""}]
[null,null,null,null,null,null,{"$f":"IF(E10=\"\",\"\",VLOOKUP(E10,'Base Calcul'!A:B,2,0))","v":""},null,null,null,null,null,null,null,{"$f":"IF(M10=\"\",\"\",VLOOKUP(M10,'Base Calcul'!A:B,2,0))","v":""}]
[null,null,null,null,null,null,{"$f":"IF(E11=\"\",\"\",VLOOKUP(E11,'Base Calcul'!A:B,2,0))","v":""},null,null,null,null,null,null,null,{"$f":"IF(M11=\"\",\"\",VLOOKUP(M11,'Base Calcul'!A:B,2,0))","v":""}]
[null,null,null,null,null,null,{"$f":"IF(E12=\"\",\"\",VLOOKUP(E12,'Base Calcul'!A:B,2,0))","v":""},null,null,null,null,null,null,null,{"$f":"IF(M12=\"\",\"\",VLOOKUP(M12,'Base Calcul'!A:B,2,0))","v":""}]
[null,null,null,null,null,null,{"$f":"IF(E13=\"\",\"\",VLOOKUP(E13,'Base Calcul'!A:B,2,0))","v":""},null,null,null,null,null,null,null,{"$f":"IF(M13=\"\",\"\",VLOOKUP(M13,'Base Calcul'!A:B,2,0))","v":""}]
[null,null,null,null,null,null,{"$f":"IF(E14=\"\",\"\",VLOOKUP(E14,'Base Calcul'!A:B,2,0))","v":""},null,null,null,null,null,null,null,{"$f":"IF(M14=\"\",\"\",VLOOKUP(M14,'Base Calcul'!A:B,2,0))","v":""}]
[null,null,null,null,null,null,{"$f":"IF(E15=\"\",\"\",VLOOKUP(E15,'Base Calcul'!A:B,2,0))","v":""},null,null,null,null,null,null,null,{"$f":"IF(M15=\"\",\"\",VLOOKUP(M15,'Base Calcul'!A:B,2,0))","v":""}]
[null,null,null,null,null,null,{"$f":"IF(E16=\"\",\"\",VLOOKUP(E16,'Base Calcul'!A:B,2,0))","v":""},null,null,null,null,null,null,null,{"$f":"IF(M16=\"\",\"\",VLOOKUP(M16,'Base Calcul'!A:B,2,0))","v":""}]
[null,null,null,null,null,null,{"$f":"IF(E17=\"\",\"\",VLOOKUP(E17,'Base Calcul'!A:B,2,0))","v":""},null,null,null,null,null,null,null,{"$f":"IF(M17=\"\",\"\",VLOOKUP(M17,'Base Calcul'!A:B,2,0))","v":""}]
[null,null,null,null,null,null,{"$f":"IF(E18=\"\",\"\",VLOOKUP(E18,'Base Calcul'!A:B,2,0))","v":""},null,null,null,null,null,null,null,{"$f":"IF(M18=\"\",\"\",VLOOKUP(M18,'Base Calcul'!A:B,2,0))","v":""}]
[null,null,null,null,null,null,{"$f":"IF(E19=\"\",\"\",VLOOKUP(E19,'Base Calcul'!A:B,2,0))","v":""},null,null,null,null,null,null,null,{"$f":"IF(M19=\"\",\"\",VLOOKUP(M19,'Base Calcul'!A:B,2,0))","v":""}]
[null,null,null,null,null,null,{"$f":"IF(E20=\"\",\"\",VLOOKUP(E20,'Base Calcul'!A:B,2,0))","v":""},null,null,null,null,null,null,null,{"$f":"IF(M20=\"\",\"\",VLOOKUP(M20,'Base Calcul'!A:B,2,0))","v":""}]
[null,null,null,null,null,null,{"$f":"IF(E21=\"\",\"\",VLOOKUP(E21,'Base Calcul'!A:B,2,0))","v":""},null,null,null,null,null,null,null,{"$f":"IF(M21=\"\",\"\",VLOOKUP(M21,'Base Calcul'!A:B,2,0))","v":""}]
[null,null,null,null,null,null,{"$f":"IF(E22=\"\",\"\",VLOOKUP(E22,'Base Calcul'!A:B,2,0))","v":""},null,null,null,null,null,null,null,{"$f":"IF(M22=\"\",\"\",VLOOKUP(M22,'Base Calcul'!A:B,2,0))","v":""}]
[null,null,null,null,null,null,{"$f":"IF(E23=\"\",\"\",VLOOKUP(E23,'Base Calcul'!A:B,2,0))","v":""},null,null,null,null,null,null,null,{"$f":"IF(M23=\"\",\"\",VLOOKUP(M23,'Base Calcul'!A:B,2,0))","v":""}]
[null,null,null,null,null,null,{"$f":"IF(E24=\"\",\"\",VLOOKUP(E24,'Base Calcul'!A:B,2,0))","v":""},null,null,null,null,null,null,null,{"$f":"IF(M24=\"\",\"\",VLOOKUP(M24,'Base Calcul'!A:B,2,0))","v":""}]
[null,null,null,null,null,null,{"$f":"IF(E25=\"\",\"\",VLOOKUP(E25,'Base Calcul'!A:B,2,0))","v":""},null,null,null,null,null,null,null,{"$f":"IF(M25=\"\",\"\",VLOOKUP(M25,'Base Calcul'!A:B,2,0))","v":""}]
[null,null,null,null,null,null,{"$f":"IF(E26=\"\",\"\",VLOOKUP(E26,'Base Calcul'!A:B,2,0))","v":""},null,null,null,null,null,null,null,{"$f":"IF(M26=\"\",\"\",VLOOKUP(M26,'Base Calcul'!A:B,2,0))","v":""}]
[null,null,null,null,null,null,{"$f":"IF(E27=\"\",\"\",VLOOKUP(E27,'Base Calcul'!A:B,2,0))","v":""},null,null,null,null,null,null,null,{"$f":"IF(M27=\"\",\"\",VLOOKUP(M27,'Base Calcul'!A:B,2,0))","v":""}]
[null,null,null,null,null,null,{"$f":"IF(E28=\"\",\"\",VLOOKUP(E28,'Base Calcul'!A:B,2,0))","v":""},null,null,null,null,null,null,null,{"$f":"IF(M28=\"\",\"\",VLOOKUP(M28,'Base Calcul'!A:B,2,0))","v":""}]
[null,null,null,null,null,null,{"$f":"IF(E29=\"\",\"\",VLOOKUP(E29,'Base Calcul'!A:B,2,0))","v":""},null,null,null,null,null,null,null,{"$f":"IF(M29=\"\",\"\",VLOOKUP(M29,'Base Calcul'!A:B,2,0))","v":""}]
[null,null,null,null,null,null,{"$f":"IF(E30=\"\",\"\",VLOOKUP(E30,'Base Calcul'!A:B,2,0))","v":""},null,null,null,null,null,null,null,{"$f":"IF(M30=\"\",\"\",VLOOKUP(M30,'Base Calcul'!A:B,2,0))","v":""}]
[null,null,null,null,null,null,{"$f":"IF(E31=\"\",\"\",VLOOKUP(E31,'Base Calcul'!A:B,2,0))","v":""},null,null,null,null,null,null,null,{"$f":"IF(M31=\"\",\"\",VLOOKUP(M31,'Base Calcul'!A:B,2,0))","v":""}]
[null,null,null,null,null,null,{"$f":"IF(E32=\"\",\"\",VLOOKUP(E32,'Base Calcul'!A:B,2,0))","v":""},null,null,null,null,null,null,null,{"$f":"IF(M32=\"\",\"\",VLOOKUP(M32,'Base Calcul'!A:B,2,0))","v":""}]
[null,null,null,null,null,null,{"$f":"IF(E33=\"\",\"\",VLOOKUP(E33,'Base Calcul'!A:B,2,0))","v":""},null,null,null,null,null,null,null,{"$f":"IF(M33=\"\",\"\",VLOOKUP(M33,'Base Calcul'!A:B,2,0))","v":""}]
[null,null,null,null,null,null,{"$f":"IF(E34=\"\",\"\",VLOOKUP(E34,'Base Calcul'!A:B,2,0))","v":""},null,null,null,null,null,null,null,{"$f":"IF(M34=\"\",\"\",VLOOKUP(M34,'Base Calcul'!A:B,2,0))","v":""}]
[null,null,null,null,null,null,{"$f":"IF(E35=\"\",\"\",VLOOKUP(E35,'Base Calcul'!A:B,2,0))","v":""},null,null,null,null,null,null,null,{"$f":"IF(M35=\"\",\"\",VLOOKUP(M35,'Base Calcul'!A:B,2,0))","v":""}]
[null,null,null,null,null,null,{"$f":"IF(E36=\"\",\"\",VLOOKUP(E36,'Base Calcul'!A:B,2,0))","v":""},null,null,null,null,null,null,null,{"$f":"IF(M36=\"\",\"\",VLOOKUP(M36,'Base Calcul'!A:B,2,0))","v":""}]
[null,null,null,null,null,null,{"$f":"IF(E37=\"\",\"\",VLOOKUP(E37,'Base Calcul'!A:B,2,0))","v":""},null,null,null,null,null,null,null,{"$f":"IF(M37=\"\",\"\",VLOOKUP(M37,'Base Calcul'!A:B,2,0))","v":""}]
[null,null,null,null,null,null,{"$f":"IF(E38=\"\",\"\",VLOOKUP(E38,'Base Calcul'!A:B,2,0))","v":""},null,null,null,null,null,null,null,{"$f":"IF(M38=\"\",\"\",VLOOKUP(M38,'Base Calcul'!A:B,2,0))","v":""}]
[null,null,null,null,null,null,{"$f":"IF(E39=\"\",\"\",VLOOKUP(E39,'Base Calcul'!A:B,2,0))","v":""},null,null,null,null,null,null,null,{"$f":"IF(M39=\"\",\"\",VLOOKUP(M39,'Base Calcul'!A:B,2,0))","v":""}]
[null,null,null,null,null,null,{"$f":"IF(E40=\"\",\"\",VLOOKUP(E40,'Base Calcul'!A:B,2,0))","v":""},null,null,null,null,null,null,null,{"$f":"IF(M40=\"\",\"\",VLOOKUP(M40,'Base Calcul'!A:B,2,0))","v":""}]
[null,null,null,null,null,null,{"$f":"IF(E41=\"\",\"\",VLOOKUP(E41,'Base Calcul'!A:B,2,0))","v":""},null,null,null,null,null,null,null,{"$f":"IF(M41=\"\",\"\",VLOOKUP(M41,'Base Calcul'!A:B,2,0))","v":""}]
[null,null,null,null,null,null,{"$f":"IF(E42=\"\",\"\",VLOOKUP(E42,'Base Calcul'!A:B,2,0))","v":""},null,null,null,null,null,null,null,{"$f":"IF(M42=\"\",\"\",VLOOKUP(M42,'Base Calcul'!A:B,2,0))","v":""}]
[null,null,null,null,null,null,{"$f":"IF(E43=\"\",\"\",VLOOKUP(E43,'Base Calcul'!A:B,2,0))","v":""},null,null,null,null,null,null,null,{"$f":"IF(M43=\"\",\"\",VLOOKUP(M43,'Base Calcul'!A:B,2,0))","v":""}]
[null,null,null,null,null,null,{"$f":"IF(E44=\"\",\"\",VLOOKUP(E44,'Base Calcul'!A:B,2,0))","v":""},null,null,null,null,null,null,null,{"$f":"IF(M44=\"\",\"\",VLOOKUP(M44,'Base Calcul'!A:B,2,0))","v":""}]
[null,null,null,null,null,null,{"$f":"IF(E45=\"\",\"\",VLOOKUP(E45,'Base Calcul'!A:B,2,0))","v":""},null,null,null,null,null,null,null,{"$f":"IF(M45=\"\",\"\",VLOOKUP(M45,'Base Calcul'!A:B,2,0))","v":""}]
[null,null,null,null,null,null,{"$f":"IF(E46=\"\",\"\",VLOOKUP(E46,'Base Calcul'!A:B,2,0))","v":""},null,null,null,null,null,null,null,{"$f":"IF(M46=\"\",\"\",VLOOKUP(M46,'Base Calcul'!A:B,2,0))","v":""}]
[null,null,null,null,null,null,{"$f":"IF(E47=\"\",\"\",VLOOKUP(E47,'Base Calcul'!A:B,2,0))","v":""},null,null,null,null,null,null,null,{"$f":"IF(M47=\"\",\"\",VLOOKUP(M47,'Base Calcul'!A:B,2,0))","v":""}]
[null,null,null,null,null,null,{"$f":"IF(E48=\"\",\"\",VLOOKUP(E48,'Base Calcul'!A:B,2,0))","v":""},null,null,null,null,null,null,null,{"$f":"IF(M48=\"\",\"\",VLOOKUP(M48,'Base Calcul'!A:B,2,0))","v":""}]
[null,null,null,null,null,null,{"$f":"IF(E49=\"\",\"\",VLOOKUP(E49,'Base Calcul'!A:B,2,0))","v":""},null,null,null,null,null,null,null,{"$f":"IF(M49=\"\",\"\",VLOOKUP(M49,'Base Calcul'!A:B,2,0))","v":""}]
[null,null,null,null,null,null,{"$f":"IF(E50=\"\",\"\",VLOOKUP(E50,'Base Calcul'!A:B,2,0))","v":""},null,null,null,null,null,null,null,{"$f":"IF(M50=\"\",\"\",VLOOKUP(M50,'Base Calcul'!A:B,2,0))","v":""}]
[null,null,null,null,null,null,{"$f":"IF(E51=\"\",\"\",VLOOKUP(E51,'Base Calcul'!A:B,2,0))","v":""},null,null,null,null,null,null,null,{"$f":"IF(M51=\"\",\"\",VLOOKUP(M51,'Base Calcul'!A:B,2,0))","v":""}]
[null,null,null,null,null,null,{"$f":"IF(E52=\"\",\"\",VLOOKUP(E52,'Base Calcul'!A:B,2,0))","v":""},null,null,null,null,null,null,null,{"$f":"IF(M52=\"\",\"\",VLOOKUP(M52,'Base Calcul'!A:B,2,0))","v":""}]
[null,null,null,null,null,null,{"$f":"IF(E53=\"\",\"\",VLOOKUP(E53,'Base Calcul'!A:B,2,0))","v":""},null,null,null,null,null,null,null,{"$f":"IF(M53=\"\",\"\",VLOOKUP(M53,'Base Calcul'!A:B,2,0))","v":""}]
[null,null,null,null,null,null,{"$f":"IF(E54=\"\",\"\",VLOOKUP(E54,'Base Calcul'!A:B,2,0))","v":""},null,null,null,null,null,null,null,{"$f":"IF(M54=\"\",\"\",VLOOKUP(M54,'Base Calcul'!A:B,2,0))","v":""}]
[null,null,null,null,null,null,{"$f":"IF(E55=\"\",\"\",VLOOKUP(E55,'Base Calcul'!A:B,2,0))","v":""},null,null,null,null,null,null,null,{"$f":"IF(M55=\"\",\"\",VLOOKUP(M55,'Base Calcul'!A:B,2,0))","v":""}]
[null,null,null,null,null,null,{"$f":"IF(E56=\"\",\"\",VLOOKUP(E56,'Base Calcul'!A:B,2,0))","v":""},null,null,null,null,null,null,null,{"$f":"IF(M56=\"\",\"\",VLOOKUP(M56,'Base Calcul'!A:B,2,0))","v":""}]
[null,null,null,null,null,null,{"$f":"IF(E57=\"\",\"\",VLOOKUP(E57,'Base Calcul'!A:B,2,0))","v":""},null,null,null,null,null,null,null,{"$f":"IF(M57=\"\",\"\",VLOOKUP(M57,'Base Calcul'!A:B,2,0))","v":""}]
[null,null,null,null,null,null,{"$f":"IF(E58=\"\",\"\",VLOOKUP(E58,'Base Calcul'!A:B,2,0))","v":""},null,null,null,null,null,null,null,{"$f":"IF(M58=\"\",\"\",VLOOKUP(M58,'Base Calcul'!A:B,2,0))","v":""}]
[null,null,null,null,null,null,{"$f":"IF(E59=\"\",\"\",VLOOKUP(E59,'Base Calcul'!A:B,2,0))","v":""},null,null,null,null,null,null,null,{"$f":"IF(M59=\"\",\"\",VLOOKUP(M59,'Base Calcul'!A:B,2,0))","v":""}]
[null,null,null,null,null,null,{"$f":"IF(E60=\"\",\"\",VLOOKUP(E60,'Base Calcul'!A:B,2,0))","v":""},null,null,null,null,null,null,null,{"$f":"IF(M60=\"\",\"\",VLOOKUP(M60,'Base Calcul'!A:B,2,0))","v":""}]
[null,null,null,null,null,null,{"$f":"IF(E61=\"\",\"\",VLOOKUP(E61,'Base Calcul'!A:B,2,0))","v":""},null,null,null,null,null,null,null,{"$f":"IF(M61=\"\",\"\",VLOOKUP(M61,'Base Calcul'!A:B,2,0))","v":""}]
[null,null,null,null,null,null,{"$f":"IF(E62=\"\",\"\",VLOOKUP(E62,'Base Calcul'!A:B,2,0))","v":""},null,null,null,null,null,null,null,{"$f":"IF(M62=\"\",\"\",VLOOKUP(M62,'Base Calcul'!A:B,2,0))","v":""}]
[null,null,null,null,null,null,{"$f":"IF(E63=\"\",\"\",VLOOKUP(E63,'Base Calcul'!A:B,2,0))","v":""},null,null,null,null,null,null,null,{"$f":"IF(M63=\"\",\"\",VLOOKUP(M63,'Base Calcul'!A:B,2,0))","v":""}]
[null,null,null,null,null,null,{"$f":"IF(E64=\"\",\"\",VLOOKUP(E64,'Base Calcul'!A:B,2,0))","v":""},null,null,null,null,null,null,null,{"$f":"IF(M64=\"\",\"\",VLOOKUP(M64,'Base Calcul'!A:B,2,0))","v":""}]
[null,null,null,null,null,null,{"$f":"IF(E65=\"\",\"\",VLOOKUP(E65,'Base Calcul'!A:B,2,0))","v":""},null,null,null,null,null,null,null,{"$f":"IF(M65=\"\",\"\",VLOOKUP(M65,'Base Calcul'!A:B,2,0))","v":""}]
[null,null,null,null,null,null,{"$f":"IF(E66=\"\",\"\",VLOOKUP(E66,'Base Calcul'!A:B,2,0))","v":""},null,null,null,null,null,null,null,{"$f":"IF(M66=\"\",\"\",VLOOKUP(M66,'Base Calcul'!A:B,2,0))","v":""}]
[null,null,null,null,null,null,{"$f":"IF(E67=\"\",\"\",VLOOKUP(E67,'Base Calcul'!A:B,2,0))","v":""},null,null,null,null,null,null,null,{"$f":"IF(M67=\"\",\"\",VLOOKUP(M67,'Base Calcul'!A:B,2,0))","v":""}]
[null,null,null,null,null,null,{"$f":"IF(E68=\"\",\"\",VLOOKUP(E68,'Base Calcul'!A:B,2,0))","v":""},null,null,null,null,null,null,null,{"$f":"IF(M68=\"\",\"\",VLOOKUP(M68,'Base Calcul'!A:B,2,0))","v":""}]
[null,null,null,null,null,null,{"$f":"IF(E69=\"\",\"\",VLOOKUP(E69,'Base Calcul'!A:B,2,0))","v":""},null,null,null,null,null,null,null,{"$f":"IF(M69=\"\",\"\",VLOOKUP(M69,'Base Calcul'!A:B,2,0))","v":""}]
[null,null,null,null,null,null,{"$f":"IF(E70=\"\",\"\",VLOOKUP(E70,'Base Calcul'!A:B,2,0))","v":""},null,null,null,null,null,null,null,{"$f":"IF(M70=\"\",\"\",VLOOKUP(M70,'Base Calcul'!A:B,2,0))","v":""}]
[null,null,null,null,null,null,{"$f":"IF(E71=\"\",\"\",VLOOKUP(E71,'Base Calcul'!A:B,2,0))","v":""},null,null,null,null,null,null,null,{"$f":"IF(M71=\"\",\"\",VLOOKUP(M71,'Base Calcul'!A:B,2,0))","v":""}]
[null,null,null,null,null,null,{"$f":"IF(E72=\"\",\"\",VLOOKUP(E72,'Base Calcul'!A:B,2,0))","v":""},null,null,null,null,null,null,null,{"$f":"IF(M72=\"\",\"\",VLOOKUP(M72,'Base Calcul'!A:B,2,0))","v":""}]
[null,null,null,null,null,null,{"$f":"IF(E73=\"\",\"\",VLOOKUP(E73,'Base Calcul'!A:B,2,0))","v":""},null,null,null,null,null,null,null,{"$f":"IF(M73=\"\",\"\",VLOOKUP(M73,'Base Calcul'!A:B,2,0))","v":""}]
[null,null,null,null,null,null,{"$f":"IF(E74=\"\",\"\",VLOOKUP(E74,'Base Calcul'!A:B,2,0))","v":""},null,null,null,null,null,null,null,{"$f":"IF(M74=\"\",\"\",VLOOKUP(M74,'Base Calcul'!A:B,2,0))","v":""}]
[null,null,null,null,null,null,{"$f":"IF(E75=\"\",\"\",VLOOKUP(E75,'Base Calcul'!A:B,2,0))","v":""},null,null,null,null,null,null,null,{"$f":"IF(M75=\"\",\"\",VLOOKUP(M75,'Base Calcul'!A:B,2,0))","v":""}]
[null,null,null,null,null,null,{"$f":"IF(E76=\"\",\"\",VLOOKUP(E76,'Base Calcul'!A:B,2,0))","v":""},null,null,null,null,null,null,null,{"$f":"IF(M76=\"\",\"\",VLOOKUP(M76,'Base Calcul'!A:B,2,0))","v":""}]
[null,null,null,null,null,null,{"$f":"IF(E77=\"\",\"\",VLOOKUP(E77,'Base Calcul'!A:B,2,0))","v":""},null,null,null,null,null,null,null,{"$f":"IF(M77=\"\",\"\",VLOOKUP(M77,'Base Calcul'!A:B,2,0))","v":""}]
[null,null,null,null,null,null,{"$f":"IF(E78=\"\",\"\",VLOOKUP(E78,'Base Calcul'!A:B,2,0))","v":""},null,null,null,null,null,null,null,{"$f":"IF(M78=\"\",\"\",VLOOKUP(M78,'Base Calcul'!A:B,2,0))","v":""}]
[null,null,null,null,null,null,{"$f":"IF(E79=\"\",\"\",VLOOKUP(E79,'Base Calcul'!A:B,2,0))","v":""},null,null,null,null,null,null,null,{"$f":"IF(M79=\"\",\"\",VLOOKUP(M79,'Base Calcul'!A:B,2,0))","v":""}]
[null,null,null,null,null,null,{"$f":"IF(E80=\"\",\"\",VLOOKUP(E80,'Base Calcul'!A:B,2,0))","v":""},null,null,null,null,null,null,null,{"$f":"IF(M80=\"\",\"\",VLOOKUP(M80,'Base Calcul'!A:B,2,0))","v":""}]
[null,null,null,null,null,null,{"$f":"IF(E81=\"\",\"\",VLOOKUP(E81,'Base Calcul'!A:B,2,0))","v":""},null,null,null,null,null,null,null,{"$f":"IF(M81=\"\",\"\",VLOOKUP(M81,'Base Calcul'!A:B,2,0))","v":""}]
[null,null,null,null,null,null,{"$f":"IF(E82=\"\",\"\",VLOOKUP(E82,'Base Calcul'!A:B,2,0))","v":""},null,null,null,null,null,null,null,{"$f":"IF(M82=\"\",\"\",VLOOKUP(M82,'Base Calcul'!A:B,2,0))","v":""}]
[null,null,null,null,null,null,{"$f":"IF(E83=\"\",\"\",VLOOKUP(E83,'Base Calcul'!A:B,2,0))","v":""},null,null,null,null,null,null,null,{"$f":"IF(M83=\"\",\"\",VLOOKUP(M83,'Base Calcul'!A:B,2,0))","v":""}]
[null,null,null,null,null,null,{"$f":"IF(E84=\"\",\"\",VLOOKUP(E84,'Base Calcul'!A:B,2,0))","v":""},null,null,null,null,null,null,null,{"$f":"IF(M84=\"\",\"\",VLOOKUP(M84,'Base Calcul'!A:B,2,0))","v":""}]
[null,null,null,null,null,null,{"$f":"IF(E85=\"\",\"\",VLOOKUP(E85,'Base Calcul'!A:B,2,0))","v":""},null,null,null,null,null,null,null,{"$f":"IF(M85=\"\",\"\",VLOOKUP(M85,'Base Calcul'!A:B,2,0))","v":""}]
[null,null,null,null,null,null,{"$f":"IF(E86=\"\",\"\",VLOOKUP(E86,'Base Calcul'!A:B,2,0))","v":""},null,null,null,null,null,null,null,{"$f":"IF(M86=\"\",\"\",VLOOKUP(M86,'Base Calcul'!A:B,2,0))","v":""}]
[null,null,null,null,null,null,{"$f":"IF(E87=\"\",\"\",VLOOKUP(E87,'Base Calcul'!A:B,2,0))","v":""},null,null,null,null,null,null,null,{"$f":"IF(M87=\"\",\"\",VLOOKUP(M87,'Base Calcul'!A:B,2,0))","v":""}]
[null,null,null,null,null,null,{"$f":"IF(E88=\"\",\"\",VLOOKUP(E88,'Base Calcul'!A:B,2,0))","v":""},null,null,null,null,null,null,null,{"$f":"IF(M88=\"\",\"\",VLOOKUP(M88,'Base Calcul'!A:B,2,0))","v":""}]
[null,null,null,null,null,null,{"$f":"IF(E89=\"\",\"\",VLOOKUP(E89,'Base Calcul'!A:B,2,0))","v":""},null,null,null,null,null,null,null,{"$f":"IF(M89=\"\",\"\",VLOOKUP(M89,'Base Calcul'!A:B,2,0))","v":""}]
[null,null,null,null,null,null,{"$f":"IF(E90=\"\",\"\",VLOOKUP(E90,'Base Calcul'!A:B,2,0))","v":""},null,null,null,null,null,null,null,{"$f":"IF(M90=\"\",\"\",VLOOKUP(M90,'Base Calcul'!A:B,2,0))","v":""}]
[null,null,null,null,null,null,{"$f":"IF(E91=\"\",\"\",VLOOKUP(E91,'Base Calcul'!A:B,2,0))","v":""},null,null,null,null,null,null,null,{"$f":"IF(M91=\"\",\"\",VLOOKUP(M91,'Base Calcul'!A:B,2,0))","v":""}]
[null,null,null,null,null,null,{"$f":"IF(E92=\"\",\"\",VLOOKUP(E92,'Base Calcul'!A:B,2,0))","v":""},null,null,null,null,null,null,null,{"$f":"IF(M92=\"\",\"\",VLOOKUP(M92,'Base Calcul'!A:B,2,0))","v":""}]
[null,null,null,null,null,null,{"$f":"IF(E93=\"\",\"\",VLOOKUP(E93,'Base Calcul'!A:B,2,0))","v":""},null,null,null,null,null,null,null,{"$f":"IF(M93=\"\",\"\",VLOOKUP(M93,'Base Calcul'!A:B,2,0))","v":""}]
[null,null,null,null,null,null,{"$f":"IF(E94=\"\",\"\",VLOOKUP(E94,'Base Calcul'!A:B,2,0))","v":""},null,null,null,null,null,null,null,{"$f":"IF(M94=\"\",\"\",VLOOKUP(M94,'Base Calcul'!A:B,2,0))","v":""}]
[null,null,null,null,null,null,{"$f":"IF(E95=\"\",\"\",VLOOKUP(E95,'Base Calcul'!A:B,2,0))","v":""},null,null,null,null,null,null,null,{"$f":"IF(M95=\"\",\"\",VLOOKUP(M95,'Base Calcul'!A:B,2,0))","v":""}]
[null,null,null,null,null,null,{"$f":"IF(E96=\"\",\"\",VLOOKUP(E96,'Base Calcul'!A:B,2,0))","v":""},null,null,null,null,null,null,null,{"$f":"IF(M96=\"\",\"\",VLOOKUP(M96,'Base Calcul'!A:B,2,0))","v":""}]
[null,null,null,null,null,null,{"$f":"IF(E97=\"\",\"\",VLOOKUP(E97,'Base Calcul'!A:B,2,0))","v":""},null,null,null,null,null,null,null,{"$f":"IF(M97=\"\",\"\",VLOOKUP(M97,'Base Calcul'!A:B,2,0))","v":""}]
[null,null,null,null,null,null,{"$f":"IF(E98=\"\",\"\",VLOOKUP(E98,'Base Calcul'!A:B,2,0))","v":""},null,null,null,null,null,null,null,{"$f":"IF(M98=\"\",\"\",VLOOKUP(M98,'Base Calcul'!A:B,2,0))","v":""}]
[null,null,null,null,null,null,{"$f":"IF(E99=\"\",\"\",VLOOKUP(E99,'Base Calcul'!A:B,2,0))","v":""},null,null,null,null,null,null,null,{"$f":"IF(M99=\"\",\"\",VLOOKUP(M99,'Base Calcul'!A:B,2,0))","v":""}]
[null,null,null,null,null,null,{"$f":"IF(E100=\"\",\"\",VLOOKUP(E100,'Base Calcul'!A:B,2,0))","v":""},null,null,null,null,null,null,null,{"$f":"IF(M100=\"\",\"\",VLOOKUP(M100,'Base Calcul'!A:B,2,0))","v":""}]
[null,null,null,null,null,null,{"$f":"IF(E101=\"\",\"\",VLOOKUP(E101,'Base Calcul'!A:B,2,0))","v":""},null,null,null,null,null,null,null,{"$f":"IF(M101=\"\",\"\",VLOOKUP(M101,'Base Calcul'!A:B,2,0))","v":""}]
[null,null,null,null,null,null,{"$f":"IF(E102=\"\",\"\",VLOOKUP(E102,'Base Calcul'!A:B,2,0))","v":""},null,null,null,null,null,null,null,{"$f":"IF(M102=\"\",\"\",VLOOKUP(M102,'Base Calcul'!A:B,2,0))","v":""}]
[null,null,null,null,null,null,{"$f":"IF(E103=\"\",\"\",VLOOKUP(E103,'Base Calcul'!A:B,2,0))","v":""},null,null,null,null,null,null,null,{"$f":"IF(M103=\"\",\"\",VLOOKUP(M103,'Base Calcul'!A:B,2,0))","v":""}]
[null,null,null,null,null,null,{"$f":"IF(E104=\"\",\"\",VLOOKUP(E104,'Base Calcul'!A:B,2,0))","v":""},null,null,null,null,null,null,null,{"$f":"IF(M104=\"\",\"\",VLOOKUP(M104,'Base Calcul'!A:B,2,0))","v":""}]
[null,null,null,null,null,null,{"$f":"IF(E105=\"\",\"\",VLOOKUP(E105,'Base Calcul'!A:B,2,0))","v":""},null,null,null,null,null,null,null,{"$f":"IF(M105=\"\",\"\",VLOOKUP(M105,'Base Calcul'!A:B,2,0))","v":""}]
[null,null,null,null,null,null,{"$f":"IF(E106=\"\",\"\",VLOOKUP(E106,'Base Calcul'!A:B,2,0))","v":""},null,null,null,null,null,null,null,{"$f":"IF(M106=\"\",\"\",VLOOKUP(M106,'Base Calcul'!A:B,2,0))","v":""}]
[null,null,null,null,null,null,{"$f":"IF(E107=\"\",\"\",VLOOKUP(E107,'Base Calcul'!A:B,2,0))","v":""},null,null,null,null,null,null,null,{"$f":"IF(M107=\"\",\"\",VLOOKUP(M107,'Base Calcul'!A:B,2,0))","v":""}]
[null,null,null,null,null,null,{"$f":"IF(E108=\"\",\"\",VLOOKUP(E108,'Base Calcul'!A:B,2,0))","v":""},null,null,null,null,null,null,null,{"$f":"IF(M108=\"\",\"\",VLOOKUP(M108,'Base Calcul'!A:B,2,0))","v":""}]
[null,null,null,null,null,null,{"$f":"IF(E109=\"\",\"\",VLOOKUP(E109,'Base Calcul'!A:B,2,0))","v":""},null,null,null,null,null,null,null,{"$f":"IF(M109=\"\",\"\",VLOOKUP(M109,'Base Calcul'!A:B,2,0))","v":""}]
[null,null,null,null,null,null,{"$f":"IF(E110=\"\",\"\",VLOOKUP(E110,'Base Calcul'!A:B,2,0))","v":""},null,null,null,null,null,null,null,{"$f":"IF(M110=\"\",\"\",VLOOKUP(M110,'Base Calcul'!A:B,2,0))","v":""}]
[null,null,null,null,null,null,{"$f":"IF(E111=\"\",\"\",VLOOKUP(E111,'Base Calcul'!A:B,2,0))","v":""},null,null,null,null,null,null,null,{"$f":"IF(M111=\"\",\"\",VLOOKUP(M111,'Base Calcul'!A:B,2,0))","v":""}]
[null,null,null,null,null,null,{"$f":"IF(E112=\"\",\"\",VLOOKUP(E112,'Base Calcul'!A:B,2,0))","v":""},null,null,null,null,null,null,null,{"$f":"IF(M112=\"\",\"\",VLOOKUP(M112,'Base Calcul'!A:B,2,0))","v":""}]
[null,null,null,null,null,null,{"$f":"IF(E113=\"\",\"\",VLOOKUP(E113,'Base Calcul'!A:B,2,0))","v":""},null,null,null,null,null,null,null,{"$f":"IF(M113=\"\",\"\",VLOOKUP(M113,'Base Calcul'!A:B,2,0))","v":""}]
[null,null,null,null,null,null,{"$f":"IF(E114=\"\",\"\",VLOOKUP(E114,'Base Calcul'!A:B,2,0))","v":""},null,null,null,null,null,null,null,{"$f":"IF(M114=\"\",\"\",VLOOKUP(M114,'Base Calcul'!A:B,2,0))","v":""}]
[null,null,null,null,null,null,{"$f":"IF(E115=\"\",\"\",VLOOKUP(E115,'Base Calcul'!A:B,2,0))","v":""},null,null,null,null,null,null,null,{"$f":"IF(M115=\"\",\"\",VLOOKUP(M115,'Base Calcul'!A:B,2,0))","v":""}]
[null,null,null,null,null,null,{"$f":"IF(E116=\"\",\"\",VLOOKUP(E116,'Base Calcul'!A:B,2,0))","v":""},null,null,null,null,null,null,null,{"$f":"IF(M116=\"\",\"\",VLOOKUP(M116,'Base Calcul'!A:B,2,0))","v":""}]
[null,null,null,null,null,null,{"$f":"IF(E117=\"\",\"\",VLOOKUP(E117,'Base Calcul'!A:B,2,0))","v":""},null,null,null,null,null,null,null,{"$f":"IF(M117=\"\",\"\",VLOOKUP(M117,'Base Calcul'!A:B,2,0))","v":""}]
[null,null,null,null,null,null,{"$f":"IF(E118=\"\",\"\",VLOOKUP(E118,'Base Calcul'!A:B,2,0))","v":""},null,null,null,null,null,null,null,{"$f":"IF(M118=\"\",\"\",VLOOKUP(M118,'Base Calcul'!A:B,2,0))","v":""}]
[null,null,null,null,null,null,{"$f":"IF(E119=\"\",\"\",VLOOKUP(E119,'Base Calcul'!A:B,2,0))","v":""},null,null,null,null,null,null,null,{"$f":"IF(M119=\"\",\"\",VLOOKUP(M119,'Base Calcul'!A:B,2,0))","v":""}]
[null,null,null,null,null,null,{"$f":"IF(E120=\"\",\"\",VLOOKUP(E120,'Base Calcul'!A:B,2,0))","v":""},null,null,null,null,null,null,null,{"$f":"IF(M120=\"\",\"\",VLOOKUP(M120,'Base Calcul'!A:B,2,0))","v":""}]
[null,null,null,null,null,null,{"$f":"IF(E121=\"\",\"\",VLOOKUP(E121,'Base Calcul'!A:B,2,0))","v":""},null,null,null,null,null,null,null,{"$f":"IF(M121=\"\",\"\",VLOOKUP(M121,'Base Calcul'!A:B,2,0))","v":""}]
[null,null,null,null,null,null,{"$f":"IF(E122=\"\",\"\",VLOOKUP(E122,'Base Calcul'!A:B,2,0))","v":""},null,null,null,null,null,null,null,{"$f":"IF(M122=\"\",\"\",VLOOKUP(M122,'Base Calcul'!A:B,2,0))","v":""}]
[null,null,null,null,null,null,{"$f":"IF(E123=\"\",\"\",VLOOKUP(E123,'Base Calcul'!A:B,2,0))","v":""},null,null,null,null,null,null,null,{"$f":"IF(M123=\"\",\"\",VLOOKUP(M123,'Base Calcul'!A:B,2,0))","v":""}]
[null,null,null,null,null,null,{"$f":"IF(E124=\"\",\"\",VLOOKUP(E124,'Base Calcul'!A:B,2,0))","v":""},null,null,null,null,null,null,null,{"$f":"IF(M124=\"\",\"\",VLOOKUP(M124,'Base Calcul'!A:B,2,0))","v":""}]
[null,null,null,null,null,null,{"$f":"IF(E125=\"\",\"\",VLOOKUP(E125,'Base Calcul'!A:B,2,0))","v":""},null,null,null,null,null,null,null,{"$f":"IF(M125=\"\",\"\",VLOOKUP(M125,'Base Calcul'!A:B,2,0))","v":""}]
[null,null,null,null,null,null,{"$f":"IF(E126=\"\",\"\",VLOOKUP(E126,'Base Calcul'!A:B,2,0))","v":""},null,null,null,null,null,null,null,{"$f":"IF(M126=\"\",\"\",VLOOKUP(M126,'Base Calcul'!A:B,2,0))","v":""}]
[null,null,null,null,null,null,{"$f":"IF(E127=\"\",\"\",VLOOKUP(E127,'Base Calcul'!A:B,2,0))","v":""},null,null,null,null,null,null,null,{"$f":"IF(M127=\"\",\"\",VLOOKUP(M127,'Base Calcul'!A:B,2,0))","v":""}]
[null,null,null,null,null,null,{"$f":"IF(E128=\"\",\"\",VLOOKUP(E128,'Base Calcul'!A:B,2,0))","v":""},null,null,null,null,null,null,null,{"$f":"IF(M128=\"\",\"\",VLOOKUP(M128,'Base Calcul'!A:B,2,0))","v":""}]
[null,null,null,null,null,null,{"$f":"IF(E129=\"\",\"\",VLOOKUP(E129,'Base Calcul'!A:B,2,0))","v":""},null,null,null,null,null,null,null,{"$f":"IF(M129=\"\",\"\",VLOOKUP(M129,'Base Calcul'!A:B,2,0))","v":""}]
[null,null,null,null,null,null,{"$f":"IF(E130=\"\",\"\",VLOOKUP(E130,'Base Calcul'!A:B,2,0))","v":""},null,null,null,null,null,null,null,{"$f":"IF(M130=\"\",\"\",VLOOKUP(M130,'Base Calcul'!A:B,2,0))","v":""}]
[null,null,null,null,null,null,{"$f":"IF(E131=\"\",\"\",VLOOKUP(E131,'Base Calcul'!A:B,2,0))","v":""},null,null,null,null,null,null,null,{"$f":"IF(M131=\"\",\"\",VLOOKUP(M131,'Base Calcul'!A:B,2,0))","v":""}]
[null,null,null,null,null,null,{"$f":"IF(E132=\"\",\"\",VLOOKUP(E132,'Base Calcul'!A:B,2,0))","v":""},null,null,null,null,null,null,null,{"$f":"IF(M132=\"\",\"\",VLOOKUP(M132,'Base Calcul'!A:B,2,0))","v":""}]
[null,null,null,null,null,null,{"$f":"IF(E133=\"\",\"\",VLOOKUP(E133,'Base Calcul'!A:B,2,0))","v":""},null,null,null,null,null,null,null,{"$f":"IF(M133=\"\",\"\",VLOOKUP(M133,'Base Calcul'!A:B,2,0))","v":""}]
[null,null,null,null,null,null,{"$f":"IF(E134=\"\",\"\",VLOOKUP(E134,'Base Calcul'!A:B,2,0))","v":""},null,null,null,null,null,null,null,{"$f":"IF(M134=\"\",\"\",VLOOKUP(M134,'Base Calcul'!A:B,2,0))","v":""}]
[null,null,null,null,null,null,{"$f":"IF(E135=\"\",\"\",VLOOKUP(E135,'Base Calcul'!A:B,2,0))","v":""},null,null,null,null,null,null,null,{"$f":"IF(M135=\"\",\"\",VLOOKUP(M135,'Base Calcul'!A:B,2,0))","v":""}]
[null,null,null,null,null,null,{"$f":"IF(E136=\"\",\"\",VLOOKUP(E136,'Base Calcul'!A:B,2,0))","v":""},null,null,null,null,null,null,null,{"$f":"IF(M136=\"\",\"\",VLOOKUP(M136,'Base Calcul'!A:B,2,0))","v":""}]
[null,null,null,null,null,null,{"$f":"IF(E137=\"\",\"\",VLOOKUP(E137,'Base Calcul'!A:B,2,0))","v":""},null,null,null,null,null,null,null,{"$f":"IF(M137=\"\",\"\",VLOOKUP(M137,'Base Calcul'!A:B,2,0))","v":""}]
[null,null,null,null,null,null,{"$f":"IF(E138=\"\",\"\",VLOOKUP(E138,'Base Calcul'!A:B,2,0))","v":""},null,null,null,null,null,null,null,{"$f":"IF(M138=\"\",\"\",VLOOKUP(M138,'Base Calcul'!A:B,2,0))","v":""}]
[null,null,null,null,null,null,{"$f":"IF(E139=\"\",\"\",VLOOKUP(E139,'Base Calcul'!A:B,2,0))","v":""},null,null,null,null,null,null,null,{"$f":"IF(M139=\"\",\"\",VLOOKUP(M139,'Base Calcul'!A:B,2,0))","v":""}]
[null,null,null,null,null,null,{"$f":"IF(E140=\"\",\"\",VLOOKUP(E140,'Base Calcul'!A:B,2,0))","v":""},null,null,null,null,null,null,null,{"$f":"IF(M140=\"\",\"\",VLOOKUP(M140,'Base Calcul'!A:B,2,0))","v":""}]
[null,null,null,null,null,null,{"$f":"IF(E141=\"\",\"\",VLOOKUP(E141,'Base Calcul'!A:B,2,0))","v":""},null,null,null,null,null,null,null,{"$f":"IF(M141=\"\",\"\",VLOOKUP(M141,'Base Calcul'!A:B,2,0))","v":""}]
[null,null,null,null,null,null,{"$f":"IF(E142=\"\",\"\",VLOOKUP(E142,'Base Calcul'!A:B,2,0))","v":""},null,null,null,null,null,null,null,{"$f":"IF(M142=\"\",\"\",VLOOKUP(M142,'Base Calcul'!A:B,2,0))","v":""}]
[null,null,null,null,null,null,{"$f":"IF(E143=\"\",\"\",VLOOKUP(E143,'Base Calcul'!A:B,2,0))","v":""},null,null,null,null,null,null,null,{"$f":"IF(M143=\"\",\"\",VLOOKUP(M143,'Base Calcul'!A:B,2,0))","v":""}]
[null,null,null,null,null,null,{"$f":"IF(E144=\"\",\"\",VLOOKUP(E144,'Base Calcul'!A:B,2,0))","v":""},null,null,null,null,null,null,null,{"$f":"IF(M144=\"\",\"\",VLOOKUP(M144,'Base Calcul'!A:B,2,0))","v":""}]
[null,null,null,null,null,null,{"$f":"IF(E145=\"\",\"\",VLOOKUP(E145,'Base Calcul'!A:B,2,0))","v":""},null,null,null,null,null,null,null,{"$f":"IF(M145=\"\",\"\",VLOOKUP(M145,'Base Calcul'!A:B,2,0))","v":""}]
[null,null,null,null,null,null,{"$f":"IF(E146=\"\",\"\",VLOOKUP(E146,'Base Calcul'!A:B,2,0))","v":""},null,null,null,null,null,null,null,{"$f":"IF(M146=\"\",\"\",VLOOKUP(M146,'Base Calcul'!A:B,2,0))","v":""}]
[null,null,null,null,null,null,{"$f":"IF(E147=\"\",\"\",VLOOKUP(E147,'Base Calcul'!A:B,2,0))","v":""},null,null,null,null,null,null,null,{"$f":"IF(M147=\"\",\"\",VLOOKUP(M147,'Base Calcul'!A:B,2,0))","v":""}]
[null,null,null,null,null,null,{"$f":"IF(E148=\"\",\"\",VLOOKUP(E148,'Base Calcul'!A:B,2,0))","v":""},null,null,null,null,null,null,null,{"$f":"IF(M148=\"\",\"\",VLOOKUP(M148,'Base Calcul'!A:B,2,0))","v":""}]
[null,null,null,null,null,null,{"$f":"IF(E149=\"\",\"\",VLOOKUP(E149,'Base Calcul'!A:B,2,0))","v":""},null,null,null,null,null,null,null,{"$f":"IF(M149=\"\",\"\",VLOOKUP(M149,'Base Calcul'!A:B,2,0))","v":""}]
[null,null,null,null,null,null,{"$f":"IF(E150=\"\",\"\",VLOOKUP(E150,'Base Calcul'!A:B,2,0))","v":""},null,null,null,null,null,null,null,{"$f":"IF(M150=\"\",\"\",VLOOKUP(M150,'Base Calcul'!A:B,2,0))","v":""}]
[null,null,null,null,null,null,{"$f":"IF(E151=\"\",\"\",VLOOKUP(E151,'Base Calcul'!A:B,2,0))","v":""},null,null,null,null,null,null,null,{"$f":"IF(M151=\"\",\"\",VLOOKUP(M151,'Base Calcul'!A:B,2,0))","v":""}]
[null,null,null,null,null,null,{"$f":"IF(E152=\"\",\"\",VLOOKUP(E152,'Base Calcul'!A:B,2,0))","v":""},null,null,null,null,null,null,null,{"$f":"IF(M152=\"\",\"\",VLOOKUP(M152,'Base Calcul'!A:B,2,0))","v":""}]
[null,null,null,null,null,null,{"$f":"IF(E153=\"\",\"\",VLOOKUP(E153,'Base Calcul'!A:B,2,0))","v":""},null,null,null,null,null,null,null,{"$f":"IF(M153=\"\",\"\",VLOOKUP(M153,'Base Calcul'!A:B,2,0))","v":""}]
[null,null,null,null,null,null,{"$f":"IF(E154=\"\",\"\",VLOOKUP(E154,'Base Calcul'!A:B,2,0))","v":""},null,null,null,null,null,null,null,{"$f":"IF(M154=\"\",\"\",VLOOKUP(M154,'Base Calcul'!A:B,2,0))","v":""}]
[null,null,null,null,null,null,{"$f":"IF(E155=\"\",\"\",VLOOKUP(E155,'Base Calcul'!A:B,2,0))","v":""},null,null,null,null,null,null,null,{"$f":"IF(M155=\"\",\"\",VLOOKUP(M155,'Base Calcul'!A:B,2,0))","v":""}]
[null,null,null,null,null,null,{"$f":"IF(E156=\"\",\"\",VLOOKUP(E156,'Base Calcul'!A:B,2,0))","v":""},null,null,null,null,null,null,null,{"$f":"IF(M156=\"\",\"\",VLOOKUP(M156,'Base Calcul'!A:B,2,0))","v":""}]
[null,null,null,null,null,null,{"$f":"IF(E157=\"\",\"\",VLOOKUP(E157,'Base Calcul'!A:B,2,0))","v":""},null,null,null,null,null,null,null,{"$f":"IF(M157=\"\",\"\",VLOOKUP(M157,'Base Calcul'!A:B,2,0))","v":""}]
[null,null,null,null,null,null,{"$f":"IF(E158=\"\",\"\",VLOOKUP(E158,'Base Calcul'!A:B,2,0))","v":""},null,null,null,null,null,null,null,{"$f":"IF(M158=\"\",\"\",VLOOKUP(M158,'Base Calcul'!A:B,2,0))","v":""}]
[null,null,null,null,null,null,{"$f":"IF(E159=\"\",\"\",VLOOKUP(E159,'Base Calcul'!A:B,2,0))","v":""},null,null,null,null,null,null,null,{"$f":"IF(M159=\"\",\"\",VLOOKUP(M159,'Base Calcul'!A:B,2,0))","v":""}]
[null,null,null,null,null,null,{"$f":"IF(E160=\"\",\"\",VLOOKUP(E160,'Base Calcul'!A:B,2,0))","v":""},null,null,null,null,null,null,null,{"$f":"IF(M160=\"\",\"\",VLOOKUP(M160,'Base Calcul'!A:B,2,0))","v":""}]
[null,null,null,null,null,null,{"$f":"IF(E161=\"\",\"\",VLOOKUP(E161,'Base Calcul'!A:B,2,0))","v":""},null,null,null,null,null,null,null,{"$f":"IF(M161=\"\",\"\",VLOOKUP(M161,'Base Calcul'!A:B,2,0))","v":""}]
[null,null,null,null,null,null,{"$f":"IF(E162=\"\",\"\",VLOOKUP(E162,'Base Calcul'!A:B,2,0))","v":""},null,null,null,null,null,null,null,{"$f":"IF(M162=\"\",\"\",VLOOKUP(M162,'Base Calcul'!A:B,2,0))","v":""}]
[null,null,null,null,null,null,{"$f":"IF(E163=\"\",\"\",VLOOKUP(E163,'Base Calcul'!A:B,2,0))","v":""},null,null,null,null,null,null,null,{"$f":"IF(M163=\"\",\"\",VLOOKUP(M163,'Base Calcul'!A:B,2,0))","v":""}]
[null,null,null,null,null,null,{"$f":"IF(E164=\"\",\"\",VLOOKUP(E164,'Base Calcul'!A:B,2,0))","v":""},null,null,null,null,null,null,null,{"$f":"IF(M164=\"\",\"\",VLOOKUP(M164,'Base Calcul'!A:B,2,0))","v":""}]
[null,null,null,null,null,null,{"$f":"IF(E165=\"\",\"\",VLOOKUP(E165,'Base Calcul'!A:B,2,0))","v":""},null,null,null,null,null,null,null,{"$f":"IF(M165=\"\",\"\",VLOOKUP(M165,'Base Calcul'!A:B,2,0))","v":""}]
[null,null,null,null,null,null,{"$f":"IF(E166=\"\",\"\",VLOOKUP(E166,'Base Calcul'!A:B,2,0))","v":""},null,null,null,null,null,null,null,{"$f":"IF(M166=\"\",\"\",VLOOKUP(M166,'Base Calcul'!A:B,2,0))","v":""}]
[null,null,null,null,null,null,{"$f":"IF(E167=\"\",\"\",VLOOKUP(E167,'Base Calcul'!A:B,2,0))","v":""},null,null,null,null,null,null,null,{"$f":"IF(M167=\"\",\"\",VLOOKUP(M167,'Base Calcul'!A:B,2,0))","v":""}]
[null,null,null,null,null,null,{"$f":"IF(E168=\"\",\"\",VLOOKUP(E168,'Base Calcul'!A:B,2,0))","v":""},null,null,null,null,null,null,null,{"$f":"IF(M168=\"\",\"\",VLOOKUP(M168,'Base Calcul'!A:B,2,0))","v":""}]
[null,null,null,null,null,null,{"$f":"IF(E169=\"\",\"\",VLOOKUP(E169,'Base Calcul'!A:B,2,0))","v":""},null,null,null,null,null,null,null,{"$f":"IF(M169=\"\",\"\",VLOOKUP(M169,'Base Calcul'!A:B,2,0))","v":""}]
[null,null,null,null,null,null,{"$f":"IF(E170=\"\",\"\",VLOOKUP(E170,'Base Calcul'!A:B,2,0))","v":""},null,null,null,null,null,null,null,{"$f":"IF(M170=\"\",\"\",VLOOKUP(M170,'Base Calcul'!A:B,2,0))","v":""}]
[null,null,null,null,null,null,{"$f":"IF(E171=\"\",\"\",VLOOKUP(E171,'Base Calcul'!A:B,2,0))","v":""},null,null,null,null,null,null,null,{"$f":"IF(M171=\"\",\"\",VLOOKUP(M171,'Base Calcul'!A:B,2,0))","v":""}]
[null,null,null,null,null,null,{"$f":"IF(E172=\"\",\"\",VLOOKUP(E172,'Base Calcul'!A:B,2,0))","v":""},null,null,null,null,null,null,null,{"$f":"IF(M172=\"\",\"\",VLOOKUP(M172,'Base Calcul'!A:B,2,0))","v":""}]
[null,null,null,null,null,null,{"$f":"IF(E173=\"\",\"\",VLOOKUP(E173,'Base Calcul'!A:B,2,0))","v":""},null,null,null,null,null,null,null,{"$f":"IF(M173=\"\",\"\",VLOOKUP(M173,'Base Calcul'!A:B,2,0))","v":""}]
[null,null,null,null,null,null,{"$f":"IF(E174=\"\",\"\",VLOOKUP(E174,'Base Calcul'!A:B,2,0))","v":""},null,null,null,null,null,null,null,{"$f":"IF(M174=\"\",\"\",VLOOKUP(M174,'Base Calcul'!A:B,2,0))","v":""}]
[null,null,null,null,null,null,{"$f":"IF(E175=\"\",\"\",VLOOKUP(E175,'Base Calcul'!A:B,2,0))","v":""},null,null,null,null,null,null,null,{"$f":"IF(M175=\"\",\"\",VLOOKUP(M175,'Base Calcul'!A:B,2,0))","v":""}]
[null,null,null,null,null,null,{"$f":"IF(E176=\"\",\"\",VLOOKUP(E176,'Base Calcul'!A:B,2,0))","v":""},null,null,null,null,null,null,null,{"$f":"IF(M176=\"\",\"\",VLOOKUP(M176,'Base Calcul'!A:B,2,0))","v":""}]
[null,null,null,null,null,null,{"$f":"IF(E177=\"\",\"\",VLOOKUP(E177,'Base Calcul'!A:B,2,0))","v":""},null,null,null,null,null,null,null,{"$f":"IF(M177=\"\",\"\",VLOOKUP(M177,'Base Calcul'!A:B,2,0))","v":""}]
[null,null,null,null,null,null,{"$f":"IF(E178=\"\",\"\",VLOOKUP(E178,'Base Calcul'!A:B,2,0))","v":""},null,null,null,null,null,null,null,{"$f":"IF(M178=\"\",\"\",VLOOKUP(M178,'Base Calcul'!A:B,2,0))","v":""}]
[null,null,null,null,null,null,{"$f":"IF(E179=\"\",\"\",VLOOKUP(E179,'Base Calcul'!A:B,2,0))","v":""},null,null,null,null,null,null,null,{"$f":"IF(M179=\"\",\"\",VLOOKUP(M179,'Base Calcul'!A:B,2,0))","v":""}]
[null,null,null,null,null,null,{"$f":"IF(E180=\"\",\"\",VLOOKUP(E180,'Base Calcul'!A:B,2,0))","v":""},null,null,null,null,null,null,null,{"$f":"IF(M180=\"\",\"\",VLOOKUP(M180,'Base Calcul'!A:B,2,0))","v":""}]
[null,null,null,null,null,null,{"$f":"IF(E181=\"\",\"\",VLOOKUP(E181,'Base Calcul'!A:B,2,0))","v":""},null,null,null,null,null,null,null,{"$f":"IF(M181=\"\",\"\",VLOOKUP(M181,'Base Calcul'!A:B,2,0))","v":""}]
[null,null,null,null,null,null,{"$f":"IF(E182=\"\",\"\",VLOOKUP(E182,'Base Calcul'!A:B,2,0))","v":""},null,null,null,null,null,null,null,{"$f":"IF(M182=\"\",\"\",VLOOKUP(M182,'Base Calcul'!A:B,2,0))","v":""}]
[null,null,null,null,null,null,{"$f":"IF(E183=\"\",\"\",VLOOKUP(E183,'Base Calcul'!A:B,2,0))","v":""},null,null,null,null,null,null,null,{"$f":"IF(M183=\"\",\"\",VLOOKUP(M183,'Base Calcul'!A:B,2,0))","v":""}]
[null,null,null,null,null,null,{"$f":"IF(E184=\"\",\"\",VLOOKUP(E184,'Base Calcul'!A:B,2,0))","v":""},null,null,null,null,null,null,null,{"$f":"IF(M184=\"\",\"\",VLOOKUP(M184,'Base Calcul'!A:B,2,0))","v":""}]
[null,null,null,null,null,null,{"$f":"IF(E185=\"\",\"\",VLOOKUP(E185,'Base Calcul'!A:B,2,0))","v":""},null,null,null,null,null,null,null,{"$f":"IF(M185=\"\",\"\",VLOOKUP(M185,'Base Calcul'!A:B,2,0))","v":""}]
[null,null,null,null,null,null,{"$f":"IF(E186=\"\",\"\",VLOOKUP(E186,'Base Calcul'!A:B,2,0))","v":""},null,null,null,null,null,null,null,{"$f":"IF(M186=\"\",\"\",VLOOKUP(M186,'Base Calcul'!A:B,2,0))","v":""}]
[null,null,null,null,null,null,{"$f":"IF(E187=\"\",\"\",VLOOKUP(E187,'Base Calcul'!A:B,2,0))","v":""},null,null,null,null,null,null,null,{"$f":"IF(M187=\"\",\"\",VLOOKUP(M187,'Base Calcul'!A:B,2,0))","v":""}]
[null,null,null,null,null,null,{"$f":"IF(E188=\"\",\"\",VLOOKUP(E188,'Base Calcul'!A:B,2,0))","v":""},null,null,null,null,null,null,null,{"$f":"IF(M188=\"\",\"\",VLOOKUP(M188,'Base Calcul'!A:B,2,0))","v":""}]
[null,null,null,null,null,null,{"$f":"IF(E189=\"\",\"\",VLOOKUP(E189,'Base Calcul'!A:B,2,0))","v":""},null,null,null,null,null,null,null,{"$f":"IF(M189=\"\",\"\",VLOOKUP(M189,'Base Calcul'!A:B,2,0))","v":""}]
[null,null,null,null,null,null,{"$f":"IF(E190=\"\",\"\",VLOOKUP(E190,'Base Calcul'!A:B,2,0))","v":""},null,null,null,null,null,null,null,{"$f":"IF(M190=\"\",\"\",VLOOKUP(M190,'Base Calcul'!A:B,2,0))","v":""}]
[null,null,null,null,null,null,{"$f":"IF(E191=\"\",\"\",VLOOKUP(E191,'Base Calcul'!A:B,2,0))","v":""},null,null,null,null,null,null,null,{"$f":"IF(M191=\"\",\"\",VLOOKUP(M191,'Base Calcul'!A:B,2,0))","v":""}]
[null,null,null,null,null,null,{"$f":"IF(E192=\"\",\"\",VLOOKUP(E192,'Base Calcul'!A:B,2,0))","v":""},null,null,null,null,null,null,null,{"$f":"IF(M192=\"\",\"\",VLOOKUP(M192,'Base Calcul'!A:B,2,0))","v":""}]
[null,null,null,null,null,null,{"$f":"IF(E193=\"\",\"\",VLOOKUP(E193,'Base Calcul'!A:B,2,0))","v":""},null,null,null,null,null,null,null,{"$f":"IF(M193=\"\",\"\",VLOOKUP(M193,'Base Calcul'!A:B,2,0))","v":""}]
[null,null,null,null,null,null,{"$f":"IF(E194=\"\",\"\",VLOOKUP(E194,'Base Calcul'!A:B,2,0))","v":""},null,null,null,null,null,null,null,{"$f":"IF(M194=\"\",\"\",VLOOKUP(M194,'Base Calcul'!A:B,2,0))","v":""}]
[null,null,null,null,null,null,{"$f":"IF(E195=\"\",\"\",VLOOKUP(E195,'Base Calcul'!A:B,2,0))","v":""},null,null,null,null,null,null,null,{"$f":"IF(M195=\"\",\"\",VLOOKUP(M195,'Base Calcul'!A:B,2,0))","v":""}]
[null,null,null,null,null,null,{"$f":"IF(E196=\"\",\"\",VLOOKUP(E196,'Base Calcul'!A:B,2,0))","v":""},null,null,null,null,null,null,null,{"$f":"IF(M196=\"\",\"\",VLOOKUP(M196,'Base Calcul'!A:B,2,0))","v":""}]
[null,null,null,null,null,null,{"$f":"IF(E197=\"\",\"\",VLOOKUP(E197,'Base Calcul'!A:B,2,0))","v":""},null,null,null,null,null,null,null,{"$f":"IF(M197=\"\",\"\",VLOOKUP(M197,'Base Calcul'!A:B,2,0))","v":""}]
[null,null,null,null,null,null,{"$f":"IF(E198=\"\",\"\",VLOOKUP(E198,'Base Calcul'!A:B,2,0))","v":""},null,null,null,null,null,null,null,{"$f":"IF(M198=\"\",\"\",VLOOKUP(M198,'Base Calcul'!A:B,2,0))","v":""}]
[null,null,null,null,null,null,{"$f":"IF(E199=\"\",\"\",VLOOKUP(E199,'Base Calcul'!A:B,2,0))","v":""},null,null,null,null,null,null,null,{"$f":"IF(M199=\"\",\"\",VLOOKUP(M199,'Base Calcul'!A:B,2,0))","v":""}]
[null,null,null,null,null,null,{"$f":"IF(E200=\"\",\"\",VLOOKUP(E200,'Base Calcul'!A:B,2,0))","v":""},null,null,null,null,null,null,null,{"$f":"IF(M200=\"\",\"\",VLOOKUP(M200,'Base Calcul'!A:B,2,0))","v":""}]
[null,null,null,null,null,null,{"$f":"IF(E201=\"\",\"\",VLOOKUP(E201,'Base Calcul'!A:B,2,0))","v":""},null,null,null,null,null,null,null,{"$f":"IF(M201=\"\",\"\",VLOOKUP(M201,'Base Calcul'!A:B,2,0))","v":""}]
[null,null,null,null,null,null,{"$f":"IF(E202=\"\",\"\",VLOOKUP(E202,'Base Calcul'!A:B,2,0))","v":""}]
[null,null,null,null,null,null,{"$f":"IF(E203=\"\",\"\",VLOOKUP(E203,'Base Calcul'!A:B,2,0))","v":""}]
[null,null,null,null,null,null,{"$f":"IF(E204=\"\",\"\",VLOOKUP(E204,'Base Calcul'!A:B,2,0))","v":""}]
[null,null,null,null,null,null,{"$f":"IF(E205=\"\",\"\",VLOOKUP(E205,'Base Calcul'!A:B,2,0))","v":""}]
[null,null,null,null,null,null,{"$f":"IF(E206=\"\",\"\",VLOOKUP(E206,'Base Calcul'!A:B,2,0))","v":""}]
[null,null,null,null,null,null,{"$f":"IF(E207=\"\",\"\",VLOOKUP(E207,'Base Calcul'!A:B,2,0))","v":""}]
[null,null,null,null,null,null,{"$f":"IF(E208=\"\",\"\",VLOOKUP(E208,'Base Calcul'!A:B,2,0))","v":""}]
[null,null,null,null,null,null,{"$f":"IF(E209=\"\",\"\",VLOOKUP(E209,'Base Calcul'!A:B,2,0))","v":""}]
[null,null,null,null,null,null,{"$f":"IF(E210=\"\",\"\",VLOOKUP(E210,'Base Calcul'!A:B,2,0))","v":""}]
[null,null,null,null,null,null,{"$f":"IF(E211=\"\",\"\",VLOOKUP(E211,'Base Calcul'!A:B,2,0))","v":""}]
[null,null,null,null,null,null,{"$f":"IF(E212=\"\",\"\",VLOOKUP(E212,'Base Calcul'!A:B,2,0))","v":""}]
[null,null,null,null,null,null,{"$f":"IF(E213=\"\",\"\",VLOOKUP(E213,'Base Calcul'!A:B,2,0))","v":""}]
[null,null,null,null,null,null,{"$f":"IF(E214=\"\",\"\",VLOOKUP(E214,'Base Calcul'!A:B,2,0))","v":""}]
[null,null,null,null,null,null,{"$f":"IF(E215=\"\",\"\",VLOOKUP(E215,'Base Calcul'!A:B,2,0))","v":""}]
[null,null,null,null,null,null,{"$f":"IF(E216=\"\",\"\",VLOOKUP(E216,'Base Calcul'!A:B,2,0))","v":""}]
[null,null,null,null,null,null,{"$f":"IF(E217=\"\",\"\",VLOOKUP(E217,'Base Calcul'!A:B,2,0))","v":""}]
[null,null,null,null,null,null,{"$f":"IF(E218=\"\",\"\",VLOOKUP(E218,'Base Calcul'!A:B,2,0))","v":""}]
[null,null,null,null,null,null,{"$f":"IF(E219=\"\",\"\",VLOOKUP(E219,'Base Calcul'!A:B,2,0))","v":""}]
[null,null,null,null,null,null,{"$f":"IF(E220=\"\",\"\",VLOOKUP(E220,'Base Calcul'!A:B,2,0))","v":""}]
[null,null,null,null,null,null,{"$f":"IF(E221=\"\",\"\",VLOOKUP(E221,'Base Calcul'!A:B,2,0))","v":""}]
[null,null,null,null,null,null,{"$f":"IF(E222=\"\",\"\",VLOOKUP(E222,'Base Calcul'!A:B,2,0))","v":""}]
[null,null,null,null,null,null,{"$f":"IF(E223=\"\",\"\",VLOOKUP(E223,'Base Calcul'!A:B,2,0))","v":""}]
[null,null,null,null,null,null,{"$f":"IF(E224=\"\",\"\",VLOOKUP(E224,'Base Calcul'!A:B,2,0))","v":""}]
[null,null,null,null,null,null,{"$f":"IF(E225=\"\",\"\",VLOOKUP(E225,'Base Calcul'!A:B,2,0))","v":""}]
[null,null,null,null,null,null,{"$f":"IF(E226=\"\",\"\",VLOOKUP(E226,'Base Calcul'!A:B,2,0))","v":""}]
[null,null,null,null,null,null,{"$f":"IF(E227=\"\",\"\",VLOOKUP(E227,'Base Calcul'!A:B,2,0))","v":""}]
[null,null,null,null,null,null,{"$f":"IF(E228=\"\",\"\",VLOOKUP(E228,'Base Calcul'!A:B,2,0))","v":""}]
[null,null,null,null,null,null,{"$f":"IF(E229=\"\",\"\",VLOOKUP(E229,'Base Calcul'!A:B,2,0))","v":""}]
[null,null,null,null,null,null,{"$f":"IF(E230=\"\",\"\",VLOOKUP(E230,'Base Calcul'!A:B,2,0))","v":""}]
[null,null,null,null,null,null,{"$f":"IF(E231=\"\",\"\",VLOOKUP(E231,'Base Calcul'!A:B,2,0))","v":""}]
[null,null,null,null,null,null,{"$f":"IF(E232=\"\",\"\",VLOOKUP(E232,'Base Calcul'!A:B,2,0))","v":""}]
[null,null,null,null,null,null,{"$f":"IF(E233=\"\",\"\",VLOOKUP(E233,'Base Calcul'!A:B,2,0))","v":""}]
[null,null,null,null,null,null,{"$f":"IF(E234=\"\",\"\",VLOOKUP(E234,'Base Calcul'!A:B,2,0))","v":""}]
[null,null,null,null,null,null,{"$f":"IF(E235=\"\",\"\",VLOOKUP(E235,'Base Calcul'!A:B,2,0))","v":""}]
[null,null,null,null,null,null,{"$f":"IF(E236=\"\",\"\",VLOOKUP(E236,'Base Calcul'!A:B,2,0))","v":""}]
[null,null,null,null,null,null,{"$f":"IF(E237=\"\",\"\",VLOOKUP(E237,'Base Calcul'!A:B,2,0))","v":""}]
[null,null,null,null,null,null,{"$f":"IF(E238=\"\",\"\",VLOOKUP(E238,'Base Calcul'!A:B,2,0))","v":""}]
[null,null,null,null,null,null,{"$f":"IF(E239=\"\",\"\",VLOOKUP(E239,'Base Calcul'!A:B,2,0))","v":""}]
[null,null,null,null,null,null,{"$f":"IF(E240=\"\",\"\",VLOOKUP(E240,'Base Calcul'!A:B,2,0))","v":""}]
[null,null,null,null,null,null,{"$f":"IF(E241=\"\",\"\",VLOOKUP(E241,'Base Calcul'!A:B,2,0))","v":""}]
[null,null,null,null,null,null,{"$f":"IF(E242=\"\",\"\",VLOOKUP(E242,'Base Calcul'!A:B,2,0))","v":""}]
[null,null,null,null,null,null,{"$f":"IF(E243=\"\",\"\",VLOOKUP(E243,'Base Calcul'!A:B,2,0))","v":""}]
[null,null,null,null,null,null,{"$f":"IF(E244=\"\",\"\",VLOOKUP(E244,'Base Calcul'!A:B,2,0))","v":""}]
[null,null,null,null,null,null,{"$f":"IF(E245=\"\",\"\",VLOOKUP(E245,'Base Calcul'!A:B,2,0))","v":""}]
[null,null,null,null,null,null,{"$f":"IF(E246=\"\",\"\",VLOOKUP(E246,'Base Calcul'!A:B,2,0))","v":""}]
[null,null,null,null,null,null,{"$f":"IF(E247=\"\",\"\",VLOOKUP(E247,'Base Calcul'!A:B,2,0))","v":""}]
[null,null,null,null,null,null,{"$f":"IF(E248=\"\",\"\",VLOOKUP(E248,'Base Calcul'!A:B,2,0))","v":""}]
[null,null,null,null,null,null,{"$f":"IF(E249=\"\",\"\",VLOOKUP(E249,'Base Calcul'!A:B,2,0))","v":""}]
[null,null,null,null,null,null,{"$f":"IF(E250=\"\",\"\",VLOOKUP(E250,'Base Calcul'!A:B,2,0))","v":""}]
[null,null,null,null,null,null,{"$f":"IF(E251=\"\",\"\",VLOOKUP(E251,'Base Calcul'!A:B,2,0))","v":""}]
[null,null,null,null,null,null,{"$f":"IF(E252=\"\",\"\",VLOOKUP(E252,'Base Calcul'!A:B,2,0))","v":""}]
[null,null,null,null,null,null,{"$f":"IF(E253=\"\",\"\",VLOOKUP(E253,'Base Calcul'!A:B,2,0))","v":""}]
[null,null,null,null,null,null,{"$f":"IF(E254=\"\",\"\",VLOOKUP(E254,'Base Calcul'!A:B,2,0))","v":""}]
[null,null,null,null,null,null,{"$f":"IF(E255=\"\",\"\",VLOOKUP(E255,'Base Calcul'!A:B,2,0))","v":""}]
[null,null,null,null,null,null,{"$f":"IF(E256=\"\",\"\",VLOOKUP(E256,'Base Calcul'!A:B,2,0))","v":""}]
[null,null,null,null,null,null,{"$f":"IF(E257=\"\",\"\",VLOOKUP(E257,'Base Calcul'!A:B,2,0))","v":""}]
[null,null,null,null,null,null,{"$f":"IF(E258=\"\",\"\",VLOOKUP(E258,'Base Calcul'!A:B,2,0))","v":""}]
[null,null,null,null,null,null,{"$f":"IF(E259=\"\",\"\",VLOOKUP(E259,'Base Calcul'!A:B,2,0))","v":""}]
[null,null,null,null,null,null,{"$f":"IF(E260=\"\",\"\",VLOOKUP(E260,'Base Calcul'!A:B,2,0))","v":""}]
[null,null,null,null,null,null,{"$f":"IF(E261=\"\",\"\",VLOOKUP(E261,'Base Calcul'!A:B,2,0))","v":""}]
[null,null,null,null,null,null,{"$f":"IF(E262=\"\",\"\",VLOOKUP(E262,'Base Calcul'!A:B,2,0))","v":""}]
[null,null,null,null,null,null,{"$f":"IF(E263=\"\",\"\",VLOOKUP(E263,'Base Calcul'!A:B,2,0))","v":""}]
[null,null,null,null,null,null,{"$f":"IF(E264=\"\",\"\",VLOOKUP(E264,'Base Calcul'!A:B,2,0))","v":""}]
[null,null,null,null,null,null,{"$f":"IF(E265=\"\",\"\",VLOOKUP(E265,'Base Calcul'!A:B,2,0))","v":""}]
[null,null,null,null,null,null,{"$f":"IF(E266=\"\",\"\",VLOOKUP(E266,'Base Calcul'!A:B,2,0))","v":""}]
[null,null,null,null,null,null,{"$f":"IF(E267=\"\",\"\",VLOOKUP(E267,'Base Calcul'!A:B,2,0))","v":""}]
[null,null,null,null,null,null,{"$f":"IF(E268=\"\",\"\",VLOOKUP(E268,'Base Calcul'!A:B,2,0))","v":""}]
[null,null,null,null,null,null,{"$f":"IF(E269=\"\",\"\",VLOOKUP(E269,'Base Calcul'!A:B,2,0))","v":""}]
[null,null,null,null,null,null,{"$f":"IF(E270=\"\",\"\",VLOOKUP(E270,'Base Calcul'!A:B,2,0))","v":""}]
[null,null,null,null,null,null,{"$f":"IF(E271=\"\",\"\",VLOOKUP(E271,'Base Calcul'!A:B,2,0))","v":""}]
[null,null,null,null,null,null,{"$f":"IF(E272=\"\",\"\",VLOOKUP(E272,'Base Calcul'!A:B,2,0))","v":""}]
[null,null,null,null,null,null,{"$f":"IF(E273=\"\",\"\",VLOOKUP(E273,'Base Calcul'!A:B,2,0))","v":""}]
[null,null,null,null,null,null,{"$f":"IF(E274=\"\",\"\",VLOOKUP(E274,'Base Calcul'!A:B,2,0))","v":""}]
[null,null,null,null,null,null,{"$f":"IF(E275=\"\",\"\",VLOOKUP(E275,'Base Calcul'!A:B,2,0))","v":""}]
[null,null,null,null,null,null,{"$f":"IF(E276=\"\",\"\",VLOOKUP(E276,'Base Calcul'!A:B,2,0))","v":""}]
[null,null,null,null,null,null,{"$f":"IF(E277=\"\",\"\",VLOOKUP(E277,'Base Calcul'!A:B,2,0))","v":""}]
[null,null,null,null,null,null,{"$f":"IF(E278=\"\",\"\",VLOOKUP(E278,'Base Calcul'!A:B,2,0))","v":""}]
[null,null,null,null,null,null,{"$f":"IF(E279=\"\",\"\",VLOOKUP(E279,'Base Calcul'!A:B,2,0))","v":""}]
[null,null,null,null,null,null,{"$f":"IF(E280=\"\",\"\",VLOOKUP(E280,'Base Calcul'!A:B,2,0))","v":""}]
[null,null,null,null,null,null,{"$f":"IF(E281=\"\",\"\",VLOOKUP(E281,'Base Calcul'!A:B,2,0))","v":""}]
[null,null,null,null,null,null,{"$f":"IF(E282=\"\",\"\",VLOOKUP(E282,'Base Calcul'!A:B,2,0))","v":""}]
[null,null,null,null,null,null,{"$f":"IF(E283=\"\",\"\",VLOOKUP(E283,'Base Calcul'!A:B,2,0))","v":""}]
[null,null,null,null,null,null,{"$f":"IF(E284=\"\",\"\",VLOOKUP(E284,'Base Calcul'!A:B,2,0))","v":""}]
[null,null,null,null,null,null,{"$f":"IF(E285=\"\",\"\",VLOOKUP(E285,'Base Calcul'!A:B,2,0))","v":""}]
[null,null,null,null,null,null,{"$f":"IF(E286=\"\",\"\",VLOOKUP(E286,'Base Calcul'!A:B,2,0))","v":""}]
[null,null,null,null,null,null,{"$f":"IF(E287=\"\",\"\",VLOOKUP(E287,'Base Calcul'!A:B,2,0))","v":""}]
[null,null,null,null,null,null,{"$f":"IF(E288=\"\",\"\",VLOOKUP(E288,'Base Calcul'!A:B,2,0))","v":""}]
[null,null,null,null,null,null,{"$f":"IF(E289=\"\",\"\",VLOOKUP(E289,'Base Calcul'!A:B,2,0))","v":""}]
[null,null,null,null,null,null,{"$f":"IF(E290=\"\",\"\",VLOOKUP(E290,'Base Calcul'!A:B,2,0))","v":""}]
[null,null,null,null,null,null,{"$f":"IF(E291=\"\",\"\",VLOOKUP(E291,'Base Calcul'!A:B,2,0))","v":""}]
[null,null,null,null,null,null,{"$f":"IF(E292=\"\",\"\",VLOOKUP(E292,'Base Calcul'!A:B,2,0))","v":""}]
[null,null,null,null,null,null,{"$f":"IF(E293=\"\",\"\",VLOOKUP(E293,'Base Calcul'!A:B,2,0))","v":""}]
[null,null,null,null,null,null,{"$f":"IF(E294=\"\",\"\",VLOOKUP(E294,'Base Calcul'!A:B,2,0))","v":""}]
[null,null,null,null,null,null,{"$f":"IF(E295=\"\",\"\",VLOOKUP(E295,'Base Calcul'!A:B,2,0))","v":""}]
[null,null,null,null,null,null,{"$f":"IF(E296=\"\",\"\",VLOOKUP(E296,'Base Calcul'!A:B,2,0))","v":""}]
[null,null,null,null,null,null,{"$f":"IF(E297=\"\",\"\",VLOOKUP(E297,'Base Calcul'!A:B,2,0))","v":""}]
[null,null,null,null,null,null,{"$f":"IF(E298=\"\",\"\",VLOOKUP(E298,'Base Calcul'!A:B,2,0))","v":""}]
[null,null,null,null,null,null,{"$f":"IF(E299=\"\",\"\",VLOOKUP(E299,'Base Calcul'!A:B,2,0))","v":""}]
[null,null,null,null,null,null,{"$f":"IF(E300=\"\",\"\",VLOOKUP(E300,'Base Calcul'!A:B,2,0))","v":""}]
[null,null,null,null,null,null,{"$f":"IF(E301=\"\",\"\",VLOOKUP(E301,'Base Calcul'!A:B,2,0))","v":""}]
[null,null,null,null,null,null,{"$f":"IF(E302=\"\",\"\",VLOOKUP(E302,'Base Calcul'!A:B,2,0))","v":""}]
[null,null,null,null,null,null,{"$f":"IF(E303=\"\",\"\",VLOOKUP(E303,'Base Calcul'!A:B,2,0))","v":""}]
[null,null,null,null,null,null,{"$f":"IF(E304=\"\",\"\",VLOOKUP(E304,'Base Calcul'!A:B,2,0))","v":""}]
[null,null,null,null,null,null,{"$f":"IF(E305=\"\",\"\",VLOOKUP(E305,'Base Calcul'!A:B,2,0))","v":""}]
[null,null,null,null,null,null,{"$f":"IF(E306=\"\",\"\",VLOOKUP(E306,'Base Calcul'!A:B,2,0))","v":""}]
[null,null,null,null,null,null,{"$f":"IF(E307=\"\",\"\",VLOOKUP(E307,'Base Calcul'!A:B,2,0))","v":""}]
[null,null,null,null,null,null,{"$f":"IF(E308=\"\",\"\",VLOOKUP(E308,'Base Calcul'!A:B,2,0))","v":""}]
[null,null,null,null,null,null,{"$f":"IF(E309=\"\",\"\",VLOOKUP(E309,'Base Calcul'!A:B,2,0))","v":""}]
[null,null,null,null,null,null,{"$f":"IF(E310=\"\",\"\",VLOOKUP(E310,'Base Calcul'!A:B,2,0))","v":""}]
[null,null,null,null,null,null,{"$f":"IF(E311=\"\",\"\",VLOOKUP(E311,'Base Calcul'!A:B,2,0))","v":""}]
[null,null,null,null,null,null,{"$f":"IF(E312=\"\",\"\",VLOOKUP(E312,'Base Calcul'!A:B,2,0))","v":""}]
[null,null,null,null,null,null,{"$f":"IF(E313=\"\",\"\",VLOOKUP(E313,'Base Calcul'!A:B,2,0))","v":""}]
[null,null,null,null,null,null,{"$f":"IF(E314=\"\",\"\",VLOOKUP(E314,'Base Calcul'!A:B,2,0))","v":""}]
[null,null,null,null,null,null,{"$f":"IF(E315=\"\",\"\",VLOOKUP(E315,'Base Calcul'!A:B,2,0))","v":""}]
[null,null,null,null,null,null,{"$f":"IF(E316=\"\",\"\",VLOOKUP(E316,'Base Calcul'!A:B,2,0))","v":""}]
[null,null,null,null,null,null,{"$f":"IF(E317=\"\",\"\",VLOOKUP(E317,'Base Calcul'!A:B,2,0))","v":""}]
[null,null,null,null,null,null,{"$f":"IF(E318=\"\",\"\",VLOOKUP(E318,'Base Calcul'!A:B,2,0))","v":""}]
[null,null,null,null,null,null,{"$f":"IF(E319=\"\",\"\",VLOOKUP(E319,'Base Calcul'!A:B,2,0))","v":""}]
[null,null,null,null,null,null,{"$f":"IF(E320=\"\",\"\",VLOOKUP(E320,'Base Calcul'!A:B,2,0))","v":""}]
[null,null,null,null,null,null,{"$f":"IF(E321=\"\",\"\",VLOOKUP(E321,'Base Calcul'!A:B,2,0))","v":""}]
[null,null,null,null,null,null,{"$f":"IF(E322=\"\",\"\",VLOOKUP(E322,'Base Calcul'!A:B,2,0))","v":""}]
[null,null,null,null,null,null,{"$f":"IF(E323=\"\",\"\",VLOOKUP(E323,'Base Calcul'!A:B,2,0))","v":""}]
[null,null,null,null,null,null,{"$f":"IF(E324=\"\",\"\",VLOOKUP(E324,'Base Calcul'!A:B,2,0))","v":""}]
[null,null,null,null,null,null,{"$f":"IF(E325=\"\",\"\",VLOOKUP(E325,'Base Calcul'!A:B,2,0))","v":""}]
[null,null,null,null,null,null,{"$f":"IF(E326=\"\",\"\",VLOOKUP(E326,'Base Calcul'!A:B,2,0))","v":""}]
[null,null,null,null,null,null,{"$f":"IF(E327=\"\",\"\",VLOOKUP(E327,'Base Calcul'!A:B,2,0))","v":""}]
[null,null,null,null,null,null,{"$f":"IF(E328=\"\",\"\",VLOOKUP(E328,'Base Calcul'!A:B,2,0))","v":""}]
[null,null,null,null,null,null,{"$f":"IF(E329=\"\",\"\",VLOOKUP(E329,'Base Calcul'!A:B,2,0))","v":""}]
[null,null,null,null,null,null,{"$f":"IF(E330=\"\",\"\",VLOOKUP(E330,'Base Calcul'!A:B,2,0))","v":""}]
[null,null,null,null,null,null,{"$f":"IF(E331=\"\",\"\",VLOOKUP(E331,'Base Calcul'!A:B,2,0))","v":""}]
[null,null,null,null,null,null,{"$f":"IF(E332=\"\",\"\",VLOOKUP(E332,'Base Calcul'!A:B,2,0))","v":""}]
[null,null,null,null,null,null,{"$f":"IF(E333=\"\",\"\",VLOOKUP(E333,'Base Calcul'!A:B,2,0))","v":""}]
[null,null,null,null,null,null,{"$f":"IF(E334=\"\",\"\",VLOOKUP(E334,'Base Calcul'!A:B,2,0))","v":""}]
[null,null,null,null,null,null,{"$f":"IF(E335=\"\",\"\",VLOOKUP(E335,'Base Calcul'!A:B,2,0))","v":""}]
[null,null,null,null,null,null,{"$f":"IF(E336=\"\",\"\",VLOOKUP(E336,'Base Calcul'!A:B,2,0))","v":""}]
[null,null,null,null,null,null,{"$f":"IF(E337=\"\",\"\",VLOOKUP(E337,'Base Calcul'!A:B,2,0))","v":""}]
[null,null,null,null,null,null,{"$f":"IF(E338=\"\",\"\",VLOOKUP(E338,'Base Calcul'!A:B,2,0))","v":""}]
[null,null,null,null,null,null,{"$f":"IF(E339=\"\",\"\",VLOOKUP(E339,'Base Calcul'!A:B,2,0))","v":""}]
[null,null,null,null,null,null,{"$f":"IF(E340=\"\",\"\",VLOOKUP(E340,'Base Calcul'!A:B,2,0))","v":""}]
[null,null,null,null,null,null,{"$f":"IF(E341=\"\",\"\",VLOOKUP(E341,'Base Calcul'!A:B,2,0))","v":""}]
[null,null,null,null,null,null,{"$f":"IF(E342=\"\",\"\",VLOOKUP(E342,'Base Calcul'!A:B,2,0))","v":""}]
[null,null,null,null,null,null,{"$f":"IF(E343=\"\",\"\",VLOOKUP(E343,'Base Calcul'!A:B,2,0))","v":""}]
[null,null,null,null,null,null,{"$f":"IF(E344=\"\",\"\",VLOOKUP(E344,'Base Calcul'!A:B,2,0))","v":""}]
[null,null,null,null,null,null,{"$f":"IF(E345=\"\",\"\",VLOOKUP(E345,'Base Calcul'!A:B,2,0))","v":""}]
[null,null,null,null,null,null,{"$f":"IF(E346=\"\",\"\",VLOOKUP(E346,'Base Calcul'!A:B,2,0))","v":""}]
[null,null,null,null,null,null,{"$f":"IF(E347=\"\",\"\",VLOOKUP(E347,'Base Calcul'!A:B,2,0))","v":""}]
[null,null,null,null,null,null,{"$f":"IF(E348=\"\",\"\",VLOOKUP(E348,'Base Calcul'!A:B,2,0))","v":""}]
[null,null,null,null,null,null,{"$f":"IF(E349=\"\",\"\",VLOOKUP(E349,'Base Calcul'!A:B,2,0))","v":""}]
[null,null,null,null,null,null,{"$f":"IF(E350=\"\",\"\",VLOOKUP(E350,'Base Calcul'!A:B,2,0))","v":""}]
[null,null,null,null,null,null,{"$f":"IF(E351=\"\",\"\",VLOOKUP(E351,'Base Calcul'!A:B,2,0))","v":""}]
[null,null,null,null,null,null,{"$f":"IF(E352=\"\",\"\",VLOOKUP(E352,'Base Calcul'!A:B,2,0))","v":""}]
[null,null,null,null,null,null,{"$f":"IF(E353=\"\",\"\",VLOOKUP(E353,'Base Calcul'!A:B,2,0))","v":""}]
[null,null,null,null,null,null,{"$f":"IF(E354=\"\",\"\",VLOOKUP(E354,'Base Calcul'!A:B,2,0))","v":""}]
[null,null,null,null,null,null,{"$f":"IF(E355=\"\",\"\",VLOOKUP(E355,'Base Calcul'!A:B,2,0))","v":""}]
[null,null,null,null,null,null,{"$f":"IF(E356=\"\",\"\",VLOOKUP(E356,'Base Calcul'!A:B,2,0))","v":""}]
[null,null,null,null,null,null,{"$f":"IF(E357=\"\",\"\",VLOOKUP(E357,'Base Calcul'!A:B,2,0))","v":""}]
[null,null,null,null,null,null,{"$f":"IF(E358=\"\",\"\",VLOOKUP(E358,'Base Calcul'!A:B,2,0))","v":""}]
[null,null,null,null,null,null,{"$f":"IF(E359=\"\",\"\",VLOOKUP(E359,'Base Calcul'!A:B,2,0))","v":""}]
[null,null,null,null,null,null,{"$f":"IF(E360=\"\",\"\",VLOOKUP(E360,'Base Calcul'!A:B,2,0))","v":""}]
[null,null,null,null,null,null,{"$f":"IF(E361=\"\",\"\",VLOOKUP(E361,'Base Calcul'!A:B,2,0))","v":""}]
[null,null,null,null,null,null,{"$f":"IF(E362=\"\",\"\",VLOOKUP(E362,'Base Calcul'!A:B,2,0))","v":""}]
[null,null,null,null,null,null,{"$f":"IF(E363=\"\",\"\",VLOOKUP(E363,'Base Calcul'!A:B,2,0))","v":""}]
[null,null,null,null,null,null,{"$f":"IF(E364=\"\",\"\",VLOOKUP(E364,'Base Calcul'!A:B,2,0))","v":""}]
[null,null,null,null,null,null,{"$f":"IF(E365=\"\",\"\",VLOOKUP(E365,'Base Calcul'!A:B,2,0))","v":""}]
[null,null,null,null,null,null,{"$f":"IF(E366=\"\",\"\",VLOOKUP(E366,'Base Calcul'!A:B,2,0))","v":""}]
[null,null,null,null,null,null,{"$f":"IF(E367=\"\",\"\",VLOOKUP(E367,'Base Calcul'!A:B,2,0))","v":""}]
[null,null,null,null,null,null,{"$f":"IF(E368=\"\",\"\",VLOOKUP(E368,'Base Calcul'!A:B,2,0))","v":""}]
[null,null,null,null,null,null,{"$f":"IF(E369=\"\",\"\",VLOOKUP(E369,'Base Calcul'!A:B,2,0))","v":""}]
[null,null,null,null,null,null,{"$f":"IF(E370=\"\",\"\",VLOOKUP(E370,'Base Calcul'!A:B,2,0))","v":""}]
[null,null,null,null,null,null,{"$f":"IF(E371=\"\",\"\",VLOOKUP(E371,'Base Calcul'!A:B,2,0))","v":""}]
[null,null,null,null,null,null,{"$f":"IF(E372=\"\",\"\",VLOOKUP(E372,'Base Calcul'!A:B,2,0))","v":""}]
[null,null,null,null,null,null,{"$f":"IF(E373=\"\",\"\",VLOOKUP(E373,'Base Calcul'!A:B,2,0))","v":""}]
[null,null,null,null,null,null,{"$f":"IF(E374=\"\",\"\",VLOOKUP(E374,'Base Calcul'!A:B,2,0))","v":""}]
[null,null,null,null,null,null,{"$f":"IF(E375=\"\",\"\",VLOOKUP(E375,'Base Calcul'!A:B,2,0))","v":""}]
[null,null,null,null,null,null,{"$f":"IF(E376=\"\",\"\",VLOOKUP(E376,'Base Calcul'!A:B,2,0))","v":""}]
[null,null,null,null,null,null,{"$f":"IF(E377=\"\",\"\",VLOOKUP(E377,'Base Calcul'!A:B,2,0))","v":""}]
[null,null,null,null,null,null,{"$f":"IF(E378=\"\",\"\",VLOOKUP(E378,'Base Calcul'!A:B,2,0))","v":""}]
[null,null,null,null,null,null,{"$f":"IF(E379=\"\",\"\",VLOOKUP(E379,'Base Calcul'!A:B,2,0))","v":""}]
[null,null,null,null,null,null,{"$f":"IF(E380=\"\",\"\",VLOOKUP(E380,'Base Calcul'!A:B,2,0))","v":""}]
[null,null,null,null,null,null,{"$f":"IF(E381=\"\",\"\",VLOOKUP(E381,'Base Calcul'!A:B,2,0))","v":""}]
[null,null,null,null,null,null,{"$f":"IF(E382=\"\",\"\",VLOOKUP(E382,'Base Calcul'!A:B,2,0))","v":""}]
[null,null,null,null,null,null,{"$f":"IF(E383=\"\",\"\",VLOOKUP(E383,'Base Calcul'!A:B,2,0))","v":""}]
[null,null,null,null,null,null,{"$f":"IF(E384=\"\",\"\",VLOOKUP(E384,'Base Calcul'!A:B,2,0))","v":""}]
[null,null,null,null,null,null,{"$f":"IF(E385=\"\",\"\",VLOOKUP(E385,'Base Calcul'!A:B,2,0))","v":""}]
[null,null,null,null,null,null,{"$f":"IF(E386=\"\",\"\",VLOOKUP(E386,'Base Calcul'!A:B,2,0))","v":""}]
[null,null,null,null,null,null,{"$f":"IF(E387=\"\",\"\",VLOOKUP(E387,'Base Calcul'!A:B,2,0))","v":""}]
[null,null,null,null,null,null,{"$f":"IF(E388=\"\",\"\",VLOOKUP(E388,'Base Calcul'!A:B,2,0))","v":""}]
[null,null,null,null,null,null,{"$f":"IF(E389=\"\",\"\",VLOOKUP(E389,'Base Calcul'!A:B,2,0))","v":""}]
[null,null,null,null,null,null,{"$f":"IF(E390=\"\",\"\",VLOOKUP(E390,'Base Calcul'!A:B,2,0))","v":""}]
[null,null,null,null,null,null,{"$f":"IF(E391=\"\",\"\",VLOOKUP(E391,'Base Calcul'!A:B,2,0))","v":""}]
[null,null,null,null,null,null,{"$f":"IF(E392=\"\",\"\",VLOOKUP(E392,'Base Calcul'!A:B,2,0))","v":""}]
[null,null,null,null,null,null,{"$f":"IF(E393=\"\",\"\",VLOOKUP(E393,'Base Calcul'!A:B,2,0))","v":""}]
[null,null,null,null,null,null,{"$f":"IF(E394=\"\",\"\",VLOOKUP(E394,'Base Calcul'!A:B,2,0))","v":""}]
[null,null,null,null,null,null,{"$f":"IF(E395=\"\",\"\",VLOOKUP(E395,'Base Calcul'!A:B,2,0))","v":""}]
[null,null,null,null,null,null,{"$f":"IF(E396=\"\",\"\",VLOOKUP(E396,'Base Calcul'!A:B,2,0))","v":""}]
[null,null,null,null,null,null,{"$f":"IF(E397=\"\",\"\",VLOOKUP(E397,'Base Calcul'!A:B,2,0))","v":""}]
[null,null,null,null,null,null,{"$f":"IF(E398=\"\",\"\",VLOOKUP(E398,'Base Calcul'!A:B,2,0))","v":""}]
[null,null,null,null,null,null,{"$f":"IF(E399=\"\",\"\",VLOOKUP(E399,'Base Calcul'!A:B,2,0))","v":""}]
[null,null,null,null,null,null,{"$f":"IF(E400=\"\",\"\",VLOOKUP(E400,'Base Calcul'!A:B,2,0))","v":""}]
[null,null,null,null,null,null,{"$f":"IF(E401=\"\",\"\",VLOOKUP(E401,'Base Calcul'!A:B,2,0))","v":""}]
[null,null,null,null,null,null,{"$f":"IF(E402=\"\",\"\",VLOOKUP(E402,'Base Calcul'!A:B,2,0))","v":""}]
[null,null,null,null,null,null,{"$f":"IF(E403=\"\",\"\",VLOOKUP(E403,'Base Calcul'!A:B,2,0))","v":""}]
[null,null,null,null,null,null,{"$f":"IF(E404=\"\",\"\",VLOOKUP(E404,'Base Calcul'!A:B,2,0))","v":""}]
[null,null,null,null,null,null,{"$f":"IF(E405=\"\",\"\",VLOOKUP(E405,'Base Calcul'!A:B,2,0))","v":""}]
[null,null,null,null,null,null,{"$f":"IF(E406=\"\",\"\",VLOOKUP(E406,'Base Calcul'!A:B,2,0))","v":""}]
[null,null,null,null,null,null,{"$f":"IF(E407=\"\",\"\",VLOOKUP(E407,'Base Calcul'!A:B,2,0))","v":""}]
[null,null,null,null,null,null,{"$f":"IF(E408=\"\",\"\",VLOOKUP(E408,'Base Calcul'!A:B,2,0))","v":""}]
[null,null,null,null,null,null,{"$f":"IF(E409=\"\",\"\",VLOOKUP(E409,'Base Calcul'!A:B,2,0))","v":""}]
[null,null,null,null,null,null,{"$f":"IF(E410=\"\",\"\",VLOOKUP(E410,'Base Calcul'!A:B,2,0))","v":""}]
[null,null,null,null,null,null,{"$f":"IF(E411=\"\",\"\",VLOOKUP(E411,'Base Calcul'!A:B,2,0))","v":""}]
[null,null,null,null,null,null,{"$f":"IF(E412=\"\",\"\",VLOOKUP(E412,'Base Calcul'!A:B,2,0))","v":""}]
[null,null,null,null,null,null,{"$f":"IF(E413=\"\",\"\",VLOOKUP(E413,'Base Calcul'!A:B,2,0))","v":""}]
[null,null,null,null,null,null,{"$f":"IF(E414=\"\",\"\",VLOOKUP(E414,'Base Calcul'!A:B,2,0))","v":""}]
[null,null,null,null,null,null,{"$f":"IF(E415=\"\",\"\",VLOOKUP(E415,'Base Calcul'!A:B,2,0))","v":""}]
[null,null,null,null,null,null,{"$f":"IF(E416=\"\",\"\",VLOOKUP(E416,'Base Calcul'!A:B,2,0))","v":""}]
[null,null,null,null,null,null,{"$f":"IF(E417=\"\",\"\",VLOOKUP(E417,'Base Calcul'!A:B,2,0))","v":""}]
[null,null,null,null,null,null,{"$f":"IF(E418=\"\",\"\",VLOOKUP(E418,'Base Calcul'!A:B,2,0))","v":""}]
[null,null,null,null,null,null,{"$f":"IF(E419=\"\",\"\",VLOOKUP(E419,'Base Calcul'!A:B,2,0))","v":""}]
[null,null,null,null,null,null,{"$f":"IF(E420=\"\",\"\",VLOOKUP(E420,'Base Calcul'!A:B,2,0))","v":""}]
[null,null,null,null,null,null,{"$f":"IF(E421=\"\",\"\",VLOOKUP(E421,'Base Calcul'!A:B,2,0))","v":""}]
[null,null,null,null,null,null,{"$f":"IF(E422=\"\",\"\",VLOOKUP(E422,'Base Calcul'!A:B,2,0))","v":""}]
[null,null,null,null,null,null,{"$f":"IF(E423=\"\",\"\",VLOOKUP(E423,'Base Calcul'!A:B,2,0))","v":""}]
[null,null,null,null,null,null,{"$f":"IF(E424=\"\",\"\",VLOOKUP(E424,'Base Calcul'!A:B,2,0))","v":""}]
[null,null,null,null,null,null,{"$f":"IF(E425=\"\",\"\",VLOOKUP(E425,'Base Calcul'!A:B,2,0))","v":""}]
[null,null,null,null,null,null,{"$f":"IF(E426=\"\",\"\",VLOOKUP(E426,'Base Calcul'!A:B,2,0))","v":""}]
[null,null,null,null,null,null,{"$f":"IF(E427=\"\",\"\",VLOOKUP(E427,'Base Calcul'!A:B,2,0))","v":""}]
[null,null,null,null,null,null,{"$f":"IF(E428=\"\",\"\",VLOOKUP(E428,'Base Calcul'!A:B,2,0))","v":""}]
[null,null,null,null,null,null,{"$f":"IF(E429=\"\",\"\",VLOOKUP(E429,'Base Calcul'!A:B,2,0))","v":""}]
[null,null,null,null,null,null,{"$f":"IF(E430=\"\",\"\",VLOOKUP(E430,'Base Calcul'!A:B,2,0))","v":""}]
[null,null,null,null,null,null,{"$f":"IF(E431=\"\",\"\",VLOOKUP(E431,'Base Calcul'!A:B,2,0))","v":""}]
[null,null,null,null,null,null,{"$f":"IF(E432=\"\",\"\",VLOOKUP(E432,'Base Calcul'!A:B,2,0))","v":""}]
[null,null,null,null,null,null,{"$f":"IF(E433=\"\",\"\",VLOOKUP(E433,'Base Calcul'!A:B,2,0))","v":""}]
[null,null,null,null,null,null,{"$f":"IF(E434=\"\",\"\",VLOOKUP(E434,'Base Calcul'!A:B,2,0))","v":""}]
[null,null,null,null,null,null,{"$f":"IF(E435=\"\",\"\",VLOOKUP(E435,'Base Calcul'!A:B,2,0))","v":""}]
[null,null,null,null,null,null,{"$f":"IF(E436=\"\",\"\",VLOOKUP(E436,'Base Calcul'!A:B,2,0))","v":""}]
[null,null,null,null,null,null,{"$f":"IF(E437=\"\",\"\",VLOOKUP(E437,'Base Calcul'!A:B,2,0))","v":""}]
[null,null,null,null,null,null,{"$f":"IF(E438=\"\",\"\",VLOOKUP(E438,'Base Calcul'!A:B,2,0))","v":""}]
[null,null,null,null,null,null,{"$f":"IF(E439=\"\",\"\",VLOOKUP(E439,'Base Calcul'!A:B,2,0))","v":""}]
[null,null,null,null,null,null,{"$f":"IF(E440=\"\",\"\",VLOOKUP(E440,'Base Calcul'!A:B,2,0))","v":""}]
[null,null,null,null,null,null,{"$f":"IF(E441=\"\",\"\",VLOOKUP(E441,'Base Calcul'!A:B,2,0))","v":""}]
[null,null,null,null,null,null,{"$f":"IF(E442=\"\",\"\",VLOOKUP(E442,'Base Calcul'!A:B,2,0))","v":""}]
[null,null,null,null,null,null,{"$f":"IF(E443=\"\",\"\",VLOOKUP(E443,'Base Calcul'!A:B,2,0))","v":""}]
[null,null,null,null,null,null,{"$f":"IF(E444=\"\",\"\",VLOOKUP(E444,'Base Calcul'!A:B,2,0))","v":""}]
[null,null,null,null,null,null,{"$f":"IF(E445=\"\",\"\",VLOOKUP(E445,'Base Calcul'!A:B,2,0))","v":""}]
[null,null,null,null,null,null,{"$f":"IF(E446=\"\",\"\",VLOOKUP(E446,'Base Calcul'!A:B,2,0))","v":""}]
[null,null,null,null,null,null,{"$f":"IF(E447=\"\",\"\",VLOOKUP(E447,'Base Calcul'!A:B,2,0))","v":""}]
[null,null,null,null,null,null,{"$f":"IF(E448=\"\",\"\",VLOOKUP(E448,'Base Calcul'!A:B,2,0))","v":""}]
[null,null,null,null,null,null,{"$f":"IF(E449=\"\",\"\",VLOOKUP(E449,'Base Calcul'!A:B,2,0))","v":""}]
[null,null,null,null,null,null,{"$f":"IF(E450=\"\",\"\",VLOOKUP(E450,'Base Calcul'!A:B,2,0))","v":""}]
[null,null,null,null,null,null,{"$f":"IF(E451=\"\",\"\",VLOOKUP(E451,'Base Calcul'!A:B,2,0))","v":""}]
[null,null,null,null,null,null,{"$f":"IF(E452=\"\",\"\",VLOOKUP(E452,'Base Calcul'!A:B,2,0))","v":""}]
[null,null,null,null,null,null,{"$f":"IF(E453=\"\",\"\",VLOOKUP(E453,'Base Calcul'!A:B,2,0))","v":""}]
[null,null,null,null,null,null,{"$f":"IF(E454=\"\",\"\",VLOOKUP(E454,'Base Calcul'!A:B,2,0))","v":""}]
[null,null,null,null,null,null,{"$f":"IF(E455=\"\",\"\",VLOOKUP(E455,'Base Calcul'!A:B,2,0))","v":""}]
[null,null,null,null,null,null,{"$f":"IF(E456=\"\",\"\",VLOOKUP(E456,'Base Calcul'!A:B,2,0))","v":""}]
[null,null,null,null,null,null,{"$f":"IF(E457=\"\",\"\",VLOOKUP(E457,'Base Calcul'!A:B,2,0))","v":""}]
[null,null,null,null,null,null,{"$f":"IF(E458=\"\",\"\",VLOOKUP(E458,'Base Calcul'!A:B,2,0))","v":""}]
[null,null,null,null,null,null,{"$f":"IF(E459=\"\",\"\",VLOOKUP(E459,'Base Calcul'!A:B,2,0))","v":""}]
[null,null,null,null,null,null,{"$f":"IF(E460=\"\",\"\",VLOOKUP(E460,'Base Calcul'!A:B,2,0))","v":""}]
[null,null,null,null,null,null,{"$f":"IF(E461=\"\",\"\",VLOOKUP(E461,'Base Calcul'!A:B,2,0))","v":""}]
[null,null,null,null,null,null,{"$f":"IF(E462=\"\",\"\",VLOOKUP(E462,'Base Calcul'!A:B,2,0))","v":""}]
[null,null,null,null,null,null,{"$f":"IF(E463=\"\",\"\",VLOOKUP(E463,'Base Calcul'!A:B,2,0))","v":""}]
[null,null,null,null,null,null,{"$f":"IF(E464=\"\",\"\",VLOOKUP(E464,'Base Calcul'!A:B,2,0))","v":""}]
[null,null,null,null,null,null,{"$f":"IF(E465=\"\",\"\",VLOOKUP(E465,'Base Calcul'!A:B,2,0))","v":""}]
[null,null,null,null,null,null,{"$f":"IF(E466=\"\",\"\",VLOOKUP(E466,'Base Calcul'!A:B,2,0))","v":""}]
[null,null,null,null,null,null,{"$f":"IF(E467=\"\",\"\",VLOOKUP(E467,'Base Calcul'!A:B,2,0))","v":""}]
[null,null,null,null,null,null,{"$f":"IF(E468=\"\",\"\",VLOOKUP(E468,'Base Calcul'!A:B,2,0))","v":""}]
[null,null,null,null,null,null,{"$f":"IF(E469=\"\",\"\",VLOOKUP(E469,'Base Calcul'!A:B,2,0))","v":""}]
[null,null,null,null,null,null,{"$f":"IF(E470=\"\",\"\",VLOOKUP(E470,'Base Calcul'!A:B,2,0))","v":""}]
[null,null,null,null,null,null,{"$f":"IF(E471=\"\",\"\",VLOOKUP(E471,'Base Calcul'!A:B,2,0))","v":""}]
[null,null,null,null,null,null,{"$f":"IF(E472=\"\",\"\",VLOOKUP(E472,'Base Calcul'!A:B,2,0))","v":""}]
[null,null,null,null,null,null,{"$f":"IF(E473=\"\",\"\",VLOOKUP(E473,'Base Calcul'!A:B,2,0))","v":""}]
[null,null,null,null,null,null,{"$f":"IF(E474=\"\",\"\",VLOOKUP(E474,'Base Calcul'!A:B,2,0))","v":""}]
[null,null,null,null,null,null,{"$f":"IF(E475=\"\",\"\",VLOOKUP(E475,'Base Calcul'!A:B,2,0))","v":""}]
[null,null,null,null,null,null,{"$f":"IF(E476=\"\",\"\",VLOOKUP(E476,'Base Calcul'!A:B,2,0))","v":""}]
[null,null,null,null,null,null,{"$f":"IF(E477=\"\",\"\",VLOOKUP(E477,'Base Calcul'!A:B,2,0))","v":""}]
[null,null,null,null,null,null,{"$f":"IF(E478=\"\",\"\",VLOOKUP(E478,'Base Calcul'!A:B,2,0))","v":""}]
[null,null,null,null,null,null,{"$f":"IF(E479=\"\",\"\",VLOOKUP(E479,'Base Calcul'!A:B,2,0))","v":""}]
[null,null,null,null,null,null,{"$f":"IF(E480=\"\",\"\",VLOOKUP(E480,'Base Calcul'!A:B,2,0))","v":""}]
[null,null,null,null,null,null,{"$f":"IF(E481=\"\",\"\",VLOOKUP(E481,'Base Calcul'!A:B,2,0))","v":""}]
[null,null,null,null,null,null,{"$f":"IF(E482=\"\",\"\",VLOOKUP(E482,'Base Calcul'!A:B,2,0))","v":""}]
[null,null,null,null,null,null,{"$f":"IF(E483=\"\",\"\",VLOOKUP(E483,'Base Calcul'!A:B,2,0))","v":""}]
[null,null,null,null,null,null,{"$f":"IF(E484=\"\",\"\",VLOOKUP(E484,'Base Calcul'!A:B,2,0))","v":""}]
[null,null,null,null,null,null,{"$f":"IF(E485=\"\",\"\",VLOOKUP(E485,'Base Calcul'!A:B,2,0))","v":""}]
[null,null,null,null,null,null,{"$f":"IF(E486=\"\",\"\",VLOOKUP(E486,'Base Calcul'!A:B,2,0))","v":""}]
[null,null,null,null,null,null,{"$f":"IF(E487=\"\",\"\",VLOOKUP(E487,'Base Calcul'!A:B,2,0))","v":""}]
[null,null,null,null,null,null,{"$f":"IF(E488=\"\",\"\",VLOOKUP(E488,'Base Calcul'!A:B,2,0))","v":""}]
[null,null,null,null,null,null,{"$f":"IF(E489=\"\",\"\",VLOOKUP(E489,'Base Calcul'!A:B,2,0))","v":""}]
[null,null,null,null,null,null,{"$f":"IF(E490=\"\",\"\",VLOOKUP(E490,'Base Calcul'!A:B,2,0))","v":""}]
[null,null,null,null,null,null,{"$f":"IF(E491=\"\",\"\",VLOOKUP(E491,'Base Calcul'!A:B,2,0))","v":""}]
[null,null,null,null,null,null,{"$f":"IF(E492=\"\",\"\",VLOOKUP(E492,'Base Calcul'!A:B,2,0))","v":""}]
[null,null,null,null,null,null,{"$f":"IF(E493=\"\",\"\",VLOOKUP(E493,'Base Calcul'!A:B,2,0))","v":""}]
[null,null,null,null,null,null,{"$f":"IF(E494=\"\",\"\",VLOOKUP(E494,'Base Calcul'!A:B,2,0))","v":""}]
[null,null,null,null,null,null,{"$f":"IF(E495=\"\",\"\",VLOOKUP(E495,'Base Calcul'!A:B,2,0))","v":""}]
[null,null,null,null,null,null,{"$f":"IF(E496=\"\",\"\",VLOOKUP(E496,'Base Calcul'!A:B,2,0))","v":""}]
[null,null,null,null,null,null,{"$f":"IF(E497=\"\",\"\",VLOOKUP(E497,'Base Calcul'!A:B,2,0))","v":""}]
[null,null,null,null,null,null,{"$f":"IF(E498=\"\",\"\",VLOOKUP(E498,'Base Calcul'!A:B,2,0))","v":""}]
[null,null,null,null,null,null,{"$f":"IF(E499=\"\",\"\",VLOOKUP(E499,'Base Calcul'!A:B,2,0))","v":""}]
[null,null,null,null,null,null,{"$f":"IF(E500=\"\",\"\",VLOOKUP(E500,'Base Calcul'!A:B,2,0))","v":""}]
[null,null,null,null,null,null,{"$f":"IF(E501=\"\",\"\",VLOOKUP(E501,'Base Calcul'!A:B,2,0))","v":""}]

{"sheet":"Bredjing","index":3,"n_rows":501,"n_cols":15,"rows_kept":501,"cut":false,"hidden":false,"merged":[[0,0,0,3],[1,8,1,9],[1,4,1,5]]}
["Base de Données des Enseignants"]
["Années Scolaire ",3,"Camp","Bredjing","Primaire",null,null,null,"Moyen"]
["Numéro carte Réfugié","Noms et Prenoms","Sexe","Ecole","Categorie","Classe","Montant  Partenaires",null,"Numéro carte Réfugié","Noms et Prenoms","Sexe","Ecole","Categorie","Classe","Montant  Partenaires"]
[null,null,null,null,null,null,{"$f":"IF(E4=\"\",\"\",VLOOKUP(E4,'Base Calcul'!A:B,2,0))","v":""},null,null,null,null,null,null,null,{"$f":"IF(M4=\"\",\"\",VLOOKUP(M4,'Base Calcul'!A:B,2,0))","v":""}]
[null,null,null,null,null,null,{"$f":"IF(E5=\"\",\"\",VLOOKUP(E5,'Base Calcul'!A:B,2,0))","v":""},null,null,null,null,null,null,null,{"$f":"IF(M5=\"\",\"\",VLOOKUP(M5,'Base Calcul'!A:B,2,0))","v":""}]
[null,null,null,null,null,null,{"$f":"IF(E6=\"\",\"\",VLOOKUP(E6,'Base Calcul'!A:B,2,0))","v":""},null,null,null,null,null,null,null,{"$f":"IF(M6=\"\",\"\",VLOOKUP(M6,'Base Calcul'!A:B,2,0))","v":""}]
[null,null,null,null,null,null,{"$f":"IF(E7=\"\",\"\",VLOOKUP(E7,'Base Calcul'!A:B,2,0))","v":""},null,null,null,null,null,null,null,{"$f":"IF(M7=\"\",\"\",VLOOKUP(M7,'Base Calcul'!A:B,2,0))","v":""}]
[null,null,null,null,null,null,{"$f":"IF(E8=\"\",\"\",VLOOKUP(E8,'Base Calcul'!A:B,2,0))","v":""},null,null,null,null,null,null,null,{"$f":"IF(M8=\"\",\"\",VLOOKUP(M8,'Base Calcul'!A:B,2,0))","v":""}]
[null,null,null,null,null,null,{"$f":"IF(E9=\"\",\"\",VLOOKUP(E9,'Base Calcul'!A:B,2,0))","v":""},null,null,null,null,null,null,null,{"$f":"IF(M9=\"\",\"\",VLOOKUP(M9,'Base Calcul'!A:B,2,0))","v":""}]
[null,null,null,null,null,null,{"$f":"IF(E10=\"\",\"\",VLOOKUP(E10,'Base Calcul'!A:B,2,0))","v":""},null,null,null,null,null,null,null,{"$f":"IF(M10=\"\",\"\",VLOOKUP(M10,'Base Calcul'!A:B,2,0))","v":""}]
[null,null,null,null,null,null,{"$f":"IF(E11=\"\",\"\",VLOOKUP(E11,'Base Calcul'!A:B,2,0))","v":""},null,null,null,null,null,null,null,{"$f":"IF(M11=\"\",\"\",VLOOKUP(M11,'Base Calcul'!A:B,2,0))","v":""}]
[null,null,null,null,null,null,{"$f":"IF(E12=\"\",\"\",VLOOKUP(E12,'Base Calcul'!A:B,2,0))","v":""},null,null,null,null,null,null,null,{"$f":"IF(M12=\"\",\"\",VLOOKUP(M12,'Base Calcul'!A:B,2,0))","v":""}]
[null,null,null,null,null,null,{"$f":"IF(E13=\"\",\"\",VLOOKUP(E13,'Base Calcul'!A:B,2,0))","v":""},null,null,null,null,null,null,null,{"$f":"IF(M13=\"\",\"\",VLOOKUP(M13,'Base Calcul'!A:B,2,0))","v":""}]
[null,null,null,null,null,null,{"$f":"IF(E14=\"\",\"\",VLOOKUP(E14,'Base Calcul'!A:B,2,0))","v":""},null,null,null,null,null,null,null,{"$f":"IF(M14=\"\",\"\",VLOOKUP(M14,'Base Calcul'!A:B,2,0))","v":""}]
[null,null,null,null,null,null,{"$f":"IF(E15=\"\",\"\",VLOOKUP(E15,'Base Calcul'!A:B,2,0))","v":""},null,null,null,null,null,null,null,{"$f":"IF(M15=\"\",\"\",VLOOKUP(M15,'Base Calcul'!A:B,2,0))","v":""}]
[null,null,null,null,null,null,{"$f":"IF(E16=\"\",\"\",VLOOKUP(E16,'Base Calcul'!A:B,2,0))","v":""},null,null,null,null,null,null,null,{"$f":"IF(M16=\"\",\"\",VLOOKUP(M16,'Base Calcul'!A:B,2,0))","v":""}]
[null,null,null,null,null,null,{"$f":"IF(E17=\"\",\"\",VLOOKUP(E17,'Base Calcul'!A:B,2,0))","v":""},null,null,null,null,null,null,null,{"$f":"IF(M17=\"\",\"\",VLOOKUP(M17,'Base Calcul'!A:B,2,0))","v":""}]
[null,null,null,null,null,null,{"$f":"IF(E18=\"\",\"\",VLOOKUP(E18,'Base Calcul'!A:B,2,0))","v":""},null,null,null,null,null,null,null,{"$f":"IF(M18=\"\",\"\",VLOOKUP(M18,'Base Calcul'!A:B,2,0))","v":""}]
[null,null,null,null,null,null,{"$f":"IF(E19=\"\",\"\",VLOOKUP(E19,'Base Calcul'!A:B,2,0))","v":""},null,null,null,null,null,null,null,{"$f":"IF(M19=\"\",\"\",VLOOKUP(M19,'Base Calcul'!A:B,2,0))","v":""}]
[null,null,null,null,null,null,{"$f":"IF(E20=\"\",\"\",VLOOKUP(E20,'Base Calcul'!A:B,2,0))","v":""},null,null,null,null,null,null,null,{"$f":"IF(M20=\"\",\"\",VLOOKUP(M20,'Base Calcul'!A:B,2,0))","v":""}]
[null,null,null,null,null,null,{"$f":"IF(E21=\"\",\"\",VLOOKUP(E21,'Base Calcul'!A:B,2,0))","v":""},null,null,null,null,null,null,null,{"$f":"IF(M21=\"\",\"\",VLOOKUP(M21,'Base Calcul'!A:B,2,0))","v":""}]
[null,null,null,null,null,null,{"$f":"IF(E22=\"\",\"\",VLOOKUP(E22,'Base Calcul'!A:B,2,0))","v":""},null,null,null,null,null,null,null,{"$f":"IF(M22=\"\",\"\",VLOOKUP(M22,'Base Calcul'!A:B,2,0))","v":""}]
[null,null,null,null,null,null,{"$f":"IF(E23=\"\",\"\",VLOOKUP(E23,'Base Calcul'!A:B,2,0))","v":""},null,null,null,null,null,null,null,{"$f":"IF(M23=\"\",\"\",VLOOKUP(M23,'Base Calcul'!A:B,2,0))","v":""}]
[null,null,null,null,null,null,{"$f":"IF(E24=\"\",\"\",VLOOKUP(E24,'Base Calcul'!A:B,2,0))","v":""},null,null,null,null,null,null,null,{"$f":"IF(M24=\"\",\"\",VLOOKUP(M24,'Base Calcul'!A:B,2,0))","v":""}]
[null,null,null,null,null,null,{"$f":"IF(E25=\"\",\"\",VLOOKUP(E25,'Base Calcul'!A:B,2,0))","v":""},null,null,null,null,null,null,null,{"$f":"IF(M25=\"\",\"\",VLOOKUP(M25,'Base Calcul'!A:B,2,0))","v":""}]
[null,null,null,null,null,null,{"$f":"IF(E26=\"\",\"\",VLOOKUP(E26,'Base Calcul'!A:B,2,0))","v":""},null,null,null,null,null,null,null,{"$f":"IF(M26=\"\",\"\",VLOOKUP(M26,'Base Calcul'!A:B,2,0))","v":""}]
[null,null,null,null,null,null,{"$f":"IF(E27=\"\",\"\",VLOOKUP(E27,'Base Calcul'!A:B,2,0))","v":""},null,null,null,null,null,null,null,{"$f":"IF(M27=\"\",\"\",VLOOKUP(M27,'Base Calcul'!A:B,2,0))","v":""}]
[null,null,null,null,null,null,{"$f":"IF(E28=\"\",\"\",VLOOKUP(E28,'Base Calcul'!A:B,2,0))","v":""},null,null,null,null,null,null,null,{"$f":"IF(M28=\"\",\"\",VLOOKUP(M28,'Base Calcul'!A:B,2,0))","v":""}]
[null,null,null,null,null,null,{"$f":"IF(E29=\"\",\"\",VLOOKUP(E29,'Base Calcul'!A:B,2,0))","v":""},null,null,null,null,null,null,null,{"$f":"IF(M29=\"\",\"\",VLOOKUP(M29,'Base Calcul'!A:B,2,0))","v":""}]
[null,null,null,null,null,null,{"$f":"IF(E30=\"\",\"\",VLOOKUP(E30,'Base Calcul'!A:B,2,0))","v":""},null,null,null,null,null,null,null,{"$f":"IF(M30=\"\",\"\",VLOOKUP(M30,'Base Calcul'!A:B,2,0))","v":""}]
[null,null,null,null,null,null,{"$f":"IF(E31=\"\",\"\",VLOOKUP(E31,'Base Calcul'!A:B,2,0))","v":""},null,null,null,null,null,null,null,{"$f":"IF(M31=\"\",\"\",VLOOKUP(M31,'Base Calcul'!A:B,2,0))","v":""}]
[null,null,null,null,null,null,{"$f":"IF(E32=\"\",\"\",VLOOKUP(E32,'Base Calcul'!A:B,2,0))","v":""},null,null,null,null,null,null,null,{"$f":"IF(M32=\"\",\"\",VLOOKUP(M32,'Base Calcul'!A:B,2,0))","v":""}]
[null,null,null,null,null,null,{"$f":"IF(E33=\"\",\"\",VLOOKUP(E33,'Base Calcul'!A:B,2,0))","v":""},null,null,null,null,null,null,null,{"$f":"IF(M33=\"\",\"\",VLOOKUP(M33,'Base Calcul'!A:B,2,0))","v":""}]
[null,null,null,null,null,null,{"$f":"IF(E34=\"\",\"\",VLOOKUP(E34,'Base Calcul'!A:B,2,0))","v":""},null,null,null,null,null,null,null,{"$f":"IF(M34=\"\",\"\",VLOOKUP(M34,'Base Calcul'!A:B,2,0))","v":""}]
[null,null,null,null,null,null,{"$f":"IF(E35=\"\",\"\",VLOOKUP(E35,'Base Calcul'!A:B,2,0))","v":""},null,null,null,null,null,null,null,{"$f":"IF(M35=\"\",\"\",VLOOKUP(M35,'Base Calcul'!A:B,2,0))","v":""}]
[null,null,null,null,null,null,{"$f":"IF(E36=\"\",\"\",VLOOKUP(E36,'Base Calcul'!A:B,2,0))","v":""},null,null,null,null,null,null,null,{"$f":"IF(M36=\"\",\"\",VLOOKUP(M36,'Base Calcul'!A:B,2,0))","v":""}]
[null,null,null,null,null,null,{"$f":"IF(E37=\"\",\"\",VLOOKUP(E37,'Base Calcul'!A:B,2,0))","v":""},null,null,null,null,null,null,null,{"$f":"IF(M37=\"\",\"\",VLOOKUP(M37,'Base Calcul'!A:B,2,0))","v":""}]
[null,null,null,null,null,null,{"$f":"IF(E38=\"\",\"\",VLOOKUP(E38,'Base Calcul'!A:B,2,0))","v":""},null,null,null,null,null,null,null,{"$f":"IF(M38=\"\",\"\",VLOOKUP(M38,'Base Calcul'!A:B,2,0))","v":""}]
[null,null,null,null,null,null,{"$f":"IF(E39=\"\",\"\",VLOOKUP(E39,'Base Calcul'!A:B,2,0))","v":""},null,null,null,null,null,null,null,{"$f":"IF(M39=\"\",\"\",VLOOKUP(M39,'Base Calcul'!A:B,2,0))","v":""}]
[null,null,null,null,null,null,{"$f":"IF(E40=\"\",\"\",VLOOKUP(E40,'Base Calcul'!A:B,2,0))","v":""},null,null,null,null,null,null,null,{"$f":"IF(M40=\"\",\"\",VLOOKUP(M40,'Base Calcul'!A:B,2,0))","v":""}]
[null,null,null,null,null,null,{"$f":"IF(E41=\"\",\"\",VLOOKUP(E41,'Base Calcul'!A:B,2,0))","v":""},null,null,null,null,null,null,null,{"$f":"IF(M41=\"\",\"\",VLOOKUP(M41,'Base Calcul'!A:B,2,0))","v":""}]
[null,null,null,null,null,null,{"$f":"IF(E42=\"\",\"\",VLOOKUP(E42,'Base Calcul'!A:B,2,0))","v":""},null,null,null,null,null,null,null,{"$f":"IF(M42=\"\",\"\",VLOOKUP(M42,'Base Calcul'!A:B,2,0))","v":""}]
[null,null,null,null,null,null,{"$f":"IF(E43=\"\",\"\",VLOOKUP(E43,'Base Calcul'!A:B,2,0))","v":""},null,null,null,null,null,null,null,{"$f":"IF(M43=\"\",\"\",VLOOKUP(M43,'Base Calcul'!A:B,2,0))","v":""}]
[null,null,null,null,null,null,{"$f":"IF(E44=\"\",\"\",VLOOKUP(E44,'Base Calcul'!A:B,2,0))","v":""},null,null,null,null,null,null,null,{"$f":"IF(M44=\"\",\"\",VLOOKUP(M44,'Base Calcul'!A:B,2,0))","v":""}]
[null,null,null,null,null,null,{"$f":"IF(E45=\"\",\"\",VLOOKUP(E45,'Base Calcul'!A:B,2,0))","v":""},null,null,null,null,null,null,null,{"$f":"IF(M45=\"\",\"\",VLOOKUP(M45,'Base Calcul'!A:B,2,0))","v":""}]
[null,null,null,null,null,null,{"$f":"IF(E46=\"\",\"\",VLOOKUP(E46,'Base Calcul'!A:B,2,0))","v":""},null,null,null,null,null,null,null,{"$f":"IF(M46=\"\",\"\",VLOOKUP(M46,'Base Calcul'!A:B,2,0))","v":""}]
[null,null,null,null,null,null,{"$f":"IF(E47=\"\",\"\",VLOOKUP(E47,'Base Calcul'!A:B,2,0))","v":""},null,null,null,null,null,null,null,{"$f":"IF(M47=\"\",\"\",VLOOKUP(M47,'Base Calcul'!A:B,2,0))","v":""}]
[null,null,null,null,null,null,{"$f":"IF(E48=\"\",\"\",VLOOKUP(E48,'Base Calcul'!A:B,2,0))","v":""},null,null,null,null,null,null,null,{"$f":"IF(M48=\"\",\"\",VLOOKUP(M48,'Base Calcul'!A:B,2,0))","v":""}]
[null,null,null,null,null,null,{"$f":"IF(E49=\"\",\"\",VLOOKUP(E49,'Base Calcul'!A:B,2,0))","v":""},null,null,null,null,null,null,null,{"$f":"IF(M49=\"\",\"\",VLOOKUP(M49,'Base Calcul'!A:B,2,0))","v":""}]
[null,null,null,null,null,null,{"$f":"IF(E50=\"\",\"\",VLOOKUP(E50,'Base Calcul'!A:B,2,0))","v":""},null,null,null,null,null,null,null,{"$f":"IF(M50=\"\",\"\",VLOOKUP(M50,'Base Calcul'!A:B,2,0))","v":""}]
[null,null,null,null,null,null,{"$f":"IF(E51=\"\",\"\",VLOOKUP(E51,'Base Calcul'!A:B,2,0))","v":""},null,null,null,null,null,null,null,{"$f":"IF(M51=\"\",\"\",VLOOKUP(M51,'Base Calcul'!A:B,2,0))","v":""}]
[null,null,null,null,null,null,{"$f":"IF(E52=\"\",\"\",VLOOKUP(E52,'Base Calcul'!A:B,2,0))","v":""},null,null,null,null,null,null,null,{"$f":"IF(M52=\"\",\"\",VLOOKUP(M52,'Base Calcul'!A:B,2,0))","v":""}]
[null,null,null,null,null,null,{"$f":"IF(E53=\"\",\"\",VLOOKUP(E53,'Base Calcul'!A:B,2,0))","v":""},null,null,null,null,null,null,null,{"$f":"IF(M53=\"\",\"\",VLOOKUP(M53,'Base Calcul'!A:B,2,0))","v":""}]
[null,null,null,null,null,null,{"$f":"IF(E54=\"\",\"\",VLOOKUP(E54,'Base Calcul'!A:B,2,0))","v":""},null,null,null,null,null,null,null,{"$f":"IF(M54=\"\",\"\",VLOOKUP(M54,'Base Calcul'!A:B,2,0))","v":""}]
[null,null,null,null,null,null,{"$f":"IF(E55=\"\",\"\",VLOOKUP(E55,'Base Calcul'!A:B,2,0))","v":""},null,null,null,null,null,null,null,{"$f":"IF(M55=\"\",\"\",VLOOKUP(M55,'Base Calcul'!A:B,2,0))","v":""}]
[null,null,null,null,null,null,{"$f":"IF(E56=\"\",\"\",VLOOKUP(E56,'Base Calcul'!A:B,2,0))","v":""},null,null,null,null,null,null,null,{"$f":"IF(M56=\"\",\"\",VLOOKUP(M56,'Base Calcul'!A:B,2,0))","v":""}]
[null,null,null,null,null,null,{"$f":"IF(E57=\"\",\"\",VLOOKUP(E57,'Base Calcul'!A:B,2,0))","v":""},null,null,null,null,null,"Enseignants qualifiés",null,{"$f":"IF(M57=\"\",\"\",VLOOKUP(M57,'Base Calcul'!A:B,2,0))","v":40000}]
[null,null,null,null,null,null,{"$f":"IF(E58=\"\",\"\",VLOOKUP(E58,'Base Calcul'!A:B,2,0))","v":""},null,null,null,null,null,null,null,{"$f":"IF(M58=\"\",\"\",VLOOKUP(M58,'Base Calcul'!A:B,2,0))","v":""}]
[null,null,null,null,null,null,{"$f":"IF(E59=\"\",\"\",VLOOKUP(E59,'Base Calcul'!A:B,2,0))","v":""},null,null,null,null,null,null,null,{"$f":"IF(M59=\"\",\"\",VLOOKUP(M59,'Base Calcul'!A:B,2,0))","v":""}]
[null,null,null,null,null,null,{"$f":"IF(E60=\"\",\"\",VLOOKUP(E60,'Base Calcul'!A:B,2,0))","v":""},null,null,null,null,null,null,null,{"$f":"IF(M60=\"\",\"\",VLOOKUP(M60,'Base Calcul'!A:B,2,0))","v":""}]
[null,null,null,null,null,null,{"$f":"IF(E61=\"\",\"\",VLOOKUP(E61,'Base Calcul'!A:B,2,0))","v":""},null,null,null,null,null,null,null,{"$f":"IF(M61=\"\",\"\",VLOOKUP(M61,'Base Calcul'!A:B,2,0))","v":""}]
[null,null,null,null,null,null,{"$f":"IF(E62=\"\",\"\",VLOOKUP(E62,'Base Calcul'!A:B,2,0))","v":""},null,null,null,null,null,null,null,{"$f":"IF(M62=\"\",\"\",VLOOKUP(M62,'Base Calcul'!A:B,2,0))","v":""}]
[null,null,null,null,null,null,{"$f":"IF(E63=\"\",\"\",VLOOKUP(E63,'Base Calcul'!A:B,2,0))","v":""},null,null,null,null,null,null,null,{"$f":"IF(M63=\"\",\"\",VLOOKUP(M63,'Base Calcul'!A:B,2,0))","v":""}]
[null,null,null,null,null,null,{"$f":"IF(E64=\"\",\"\",VLOOKUP(E64,'Base Calcul'!A:B,2,0))","v":""},null,null,null,null,null,null,null,{"$f":"IF(M64=\"\",\"\",VLOOKUP(M64,'Base Calcul'!A:B,2,0))","v":""}]
[null,null,null,null,null,null,{"$f":"IF(E65=\"\",\"\",VLOOKUP(E65,'Base Calcul'!A:B,2,0))","v":""},null,null,null,null,null,null,null,{"$f":"IF(M65=\"\",\"\",VLOOKUP(M65,'Base Calcul'!A:B,2,0))","v":""}]
[null,null,null,null,null,null,{"$f":"IF(E66=\"\",\"\",VLOOKUP(E66,'Base Calcul'!A:B,2,0))","v":""},null,null,null,null,null,null,null,{"$f":"IF(M66=\"\",\"\",VLOOKUP(M66,'Base Calcul'!A:B,2,0))","v":""}]
[null,null,null,null,null,null,{"$f":"IF(E67=\"\",\"\",VLOOKUP(E67,'Base Calcul'!A:B,2,0))","v":""},null,null,null,null,null,null,null,{"$f":"IF(M67=\"\",\"\",VLOOKUP(M67,'Base Calcul'!A:B,2,0))","v":""}]
[null,null,null,null,null,null,{"$f":"IF(E68=\"\",\"\",VLOOKUP(E68,'Base Calcul'!A:B,2,0))","v":""},null,null,null,null,null,null,null,{"$f":"IF(M68=\"\",\"\",VLOOKUP(M68,'Base Calcul'!A:B,2,0))","v":""}]
[null,null,null,null,null,null,{"$f":"IF(E69=\"\",\"\",VLOOKUP(E69,'Base Calcul'!A:B,2,0))","v":""},null,null,null,null,null,null,null,{"$f":"IF(M69=\"\",\"\",VLOOKUP(M69,'Base Calcul'!A:B,2,0))","v":""}]
[null,null,null,null,null,null,{"$f":"IF(E70=\"\",\"\",VLOOKUP(E70,'Base Calcul'!A:B,2,0))","v":""},null,null,null,null,null,null,null,{"$f":"IF(M70=\"\",\"\",VLOOKUP(M70,'Base Calcul'!A:B,2,0))","v":""}]
[null,null,null,null,null,null,{"$f":"IF(E71=\"\",\"\",VLOOKUP(E71,'Base Calcul'!A:B,2,0))","v":""},null,null,null,null,null,null,null,{"$f":"IF(M71=\"\",\"\",VLOOKUP(M71,'Base Calcul'!A:B,2,0))","v":""}]
[null,null,null,null,null,null,{"$f":"IF(E72=\"\",\"\",VLOOKUP(E72,'Base Calcul'!A:B,2,0))","v":""},null,null,null,null,null,null,null,{"$f":"IF(M72=\"\",\"\",VLOOKUP(M72,'Base Calcul'!A:B,2,0))","v":""}]
[null,null,null,null,null,null,{"$f":"IF(E73=\"\",\"\",VLOOKUP(E73,'Base Calcul'!A:B,2,0))","v":""},null,null,null,null,null,null,null,{"$f":"IF(M73=\"\",\"\",VLOOKUP(M73,'Base Calcul'!A:B,2,0))","v":""}]
[null,null,null,null,null,null,{"$f":"IF(E74=\"\",\"\",VLOOKUP(E74,'Base Calcul'!A:B,2,0))","v":""},null,null,null,null,null,null,null,{"$f":"IF(M74=\"\",\"\",VLOOKUP(M74,'Base Calcul'!A:B,2,0))","v":""}]
[null,null,null,null,null,null,{"$f":"IF(E75=\"\",\"\",VLOOKUP(E75,'Base Calcul'!A:B,2,0))","v":""},null,null,null,null,null,null,null,{"$f":"IF(M75=\"\",\"\",VLOOKUP(M75,'Base Calcul'!A:B,2,0))","v":""}]
[null,null,null,null,null,null,{"$f":"IF(E76=\"\",\"\",VLOOKUP(E76,'Base Calcul'!A:B,2,0))","v":""},null,null,null,null,null,null,null,{"$f":"IF(M76=\"\",\"\",VLOOKUP(M76,'Base Calcul'!A:B,2,0))","v":""}]
[null,null,null,null,null,null,{"$f":"IF(E77=\"\",\"\",VLOOKUP(E77,'Base Calcul'!A:B,2,0))","v":""},null,null,null,null,null,null,null,{"$f":"IF(M77=\"\",\"\",VLOOKUP(M77,'Base Calcul'!A:B,2,0))","v":""}]
[null,null,null,null,null,null,{"$f":"IF(E78=\"\",\"\",VLOOKUP(E78,'Base Calcul'!A:B,2,0))","v":""},null,null,null,null,null,null,null,{"$f":"IF(M78=\"\",\"\",VLOOKUP(M78,'Base Calcul'!A:B,2,0))","v":""}]
[null,null,null,null,null,null,{"$f":"IF(E79=\"\",\"\",VLOOKUP(E79,'Base Calcul'!A:B,2,0))","v":""},null,null,null,null,null,null,null,{"$f":"IF(M79=\"\",\"\",VLOOKUP(M79,'Base Calcul'!A:B,2,0))","v":""}]
[null,null,null,null,null,null,{"$f":"IF(E80=\"\",\"\",VLOOKUP(E80,'Base Calcul'!A:B,2,0))","v":""},null,null,null,null,null,null,null,{"$f":"IF(M80=\"\",\"\",VLOOKUP(M80,'Base Calcul'!A:B,2,0))","v":""}]
[null,null,null,null,null,null,{"$f":"IF(E81=\"\",\"\",VLOOKUP(E81,'Base Calcul'!A:B,2,0))","v":""},null,null,null,null,null,null,null,{"$f":"IF(M81=\"\",\"\",VLOOKUP(M81,'Base Calcul'!A:B,2,0))","v":""}]
[null,null,null,null,null,null,{"$f":"IF(E82=\"\",\"\",VLOOKUP(E82,'Base Calcul'!A:B,2,0))","v":""},null,null,null,null,null,null,null,{"$f":"IF(M82=\"\",\"\",VLOOKUP(M82,'Base Calcul'!A:B,2,0))","v":""}]
[null,null,null,null,null,null,{"$f":"IF(E83=\"\",\"\",VLOOKUP(E83,'Base Calcul'!A:B,2,0))","v":""},null,null,null,null,null,null,null,{"$f":"IF(M83=\"\",\"\",VLOOKUP(M83,'Base Calcul'!A:B,2,0))","v":""}]
[null,null,null,null,null,null,{"$f":"IF(E84=\"\",\"\",VLOOKUP(E84,'Base Calcul'!A:B,2,0))","v":""},null,null,null,null,null,null,null,{"$f":"IF(M84=\"\",\"\",VLOOKUP(M84,'Base Calcul'!A:B,2,0))","v":""}]
[null,null,null,null,null,null,{"$f":"IF(E85=\"\",\"\",VLOOKUP(E85,'Base Calcul'!A:B,2,0))","v":""},null,null,null,null,null,null,null,{"$f":"IF(M85=\"\",\"\",VLOOKUP(M85,'Base Calcul'!A:B,2,0))","v":""}]
[null,null,null,null,null,null,{"$f":"IF(E86=\"\",\"\",VLOOKUP(E86,'Base Calcul'!A:B,2,0))","v":""},null,null,null,null,null,null,null,{"$f":"IF(M86=\"\",\"\",VLOOKUP(M86,'Base Calcul'!A:B,2,0))","v":""}]
[null,null,null,null,null,null,{"$f":"IF(E87=\"\",\"\",VLOOKUP(E87,'Base Calcul'!A:B,2,0))","v":""},null,null,null,null,null,null,null,{"$f":"IF(M87=\"\",\"\",VLOOKUP(M87,'Base Calcul'!A:B,2,0))","v":""}]
[null,null,null,null,null,null,{"$f":"IF(E88=\"\",\"\",VLOOKUP(E88,'Base Calcul'!A:B,2,0))","v":""},null,null,null,null,null,null,null,{"$f":"IF(M88=\"\",\"\",VLOOKUP(M88,'Base Calcul'!A:B,2,0))","v":""}]
[null,null,null,null,null,null,{"$f":"IF(E89=\"\",\"\",VLOOKUP(E89,'Base Calcul'!A:B,2,0))","v":""},null,null,null,null,null,null,null,{"$f":"IF(M89=\"\",\"\",VLOOKUP(M89,'Base Calcul'!A:B,2,0))","v":""}]
[null,null,null,null,null,null,{"$f":"IF(E90=\"\",\"\",VLOOKUP(E90,'Base Calcul'!A:B,2,0))","v":""},null,null,null,null,null,null,null,{"$f":"IF(M90=\"\",\"\",VLOOKUP(M90,'Base Calcul'!A:B,2,0))","v":""}]
[null,null,null,null,null,null,{"$f":"IF(E91=\"\",\"\",VLOOKUP(E91,'Base Calcul'!A:B,2,0))","v":""},null,null,null,null,null,null,null,{"$f":"IF(M91=\"\",\"\",VLOOKUP(M91,'Base Calcul'!A:B,2,0))","v":""}]
[null,null,null,null,null,null,{"$f":"IF(E92=\"\",\"\",VLOOKUP(E92,'Base Calcul'!A:B,2,0))","v":""},null,null,null,null,null,null,null,{"$f":"IF(M92=\"\",\"\",VLOOKUP(M92,'Base Calcul'!A:B,2,0))","v":""}]
[null,null,null,null,null,null,{"$f":"IF(E93=\"\",\"\",VLOOKUP(E93,'Base Calcul'!A:B,2,0))","v":""},null,null,null,null,null,null,null,{"$f":"IF(M93=\"\",\"\",VLOOKUP(M93,'Base Calcul'!A:B,2,0))","v":""}]
[null,null,null,null,null,null,{"$f":"IF(E94=\"\",\"\",VLOOKUP(E94,'Base Calcul'!A:B,2,0))","v":""},null,null,null,null,null,null,null,{"$f":"IF(M94=\"\",\"\",VLOOKUP(M94,'Base Calcul'!A:B,2,0))","v":""}]
[null,null,null,null,null,null,{"$f":"IF(E95=\"\",\"\",VLOOKUP(E95,'Base Calcul'!A:B,2,0))","v":""},null,null,null,null,null,null,null,{"$f":"IF(M95=\"\",\"\",VLOOKUP(M95,'Base Calcul'!A:B,2,0))","v":""}]
[null,null,null,null,null,null,{"$f":"IF(E96=\"\",\"\",VLOOKUP(E96,'Base Calcul'!A:B,2,0))","v":""},null,null,null,null,null,null,null,{"$f":"IF(M96=\"\",\"\",VLOOKUP(M96,'Base Calcul'!A:B,2,0))","v":""}]
[null,null,null,null,null,null,{"$f":"IF(E97=\"\",\"\",VLOOKUP(E97,'Base Calcul'!A:B,2,0))","v":""},null,null,null,null,null,null,null,{"$f":"IF(M97=\"\",\"\",VLOOKUP(M97,'Base Calcul'!A:B,2,0))","v":""}]
[null,null,null,null,null,null,{"$f":"IF(E98=\"\",\"\",VLOOKUP(E98,'Base Calcul'!A:B,2,0))","v":""},null,null,null,null,null,null,null,{"$f":"IF(M98=\"\",\"\",VLOOKUP(M98,'Base Calcul'!A:B,2,0))","v":""}]
[null,null,null,null,null,null,{"$f":"IF(E99=\"\",\"\",VLOOKUP(E99,'Base Calcul'!A:B,2,0))","v":""},null,null,null,null,null,null,null,{"$f":"IF(M99=\"\",\"\",VLOOKUP(M99,'Base Calcul'!A:B,2,0))","v":""}]
[null,null,null,null,null,null,{"$f":"IF(E100=\"\",\"\",VLOOKUP(E100,'Base Calcul'!A:B,2,0))","v":""},null,null,null,null,null,null,null,{"$f":"IF(M100=\"\",\"\",VLOOKUP(M100,'Base Calcul'!A:B,2,0))","v":""}]
[null,null,null,null,null,null,{"$f":"IF(E101=\"\",\"\",VLOOKUP(E101,'Base Calcul'!A:B,2,0))","v":""}]
[null,null,null,null,null,null,{"$f":"IF(E102=\"\",\"\",VLOOKUP(E102,'Base Calcul'!A:B,2,0))","v":""}]
[null,null,null,null,null,null,{"$f":"IF(E103=\"\",\"\",VLOOKUP(E103,'Base Calcul'!A:B,2,0))","v":""}]
[null,null,null,null,null,null,{"$f":"IF(E104=\"\",\"\",VLOOKUP(E104,'Base Calcul'!A:B,2,0))","v":""}]
[null,null,null,null,null,null,{"$f":"IF(E105=\"\",\"\",VLOOKUP(E105,'Base Calcul'!A:B,2,0))","v":""}]
[null,null,null,null,null,null,{"$f":"IF(E106=\"\",\"\",VLOOKUP(E106,'Base Calcul'!A:B,2,0))","v":""}]
[null,null,null,null,null,null,{"$f":"IF(E107=\"\",\"\",VLOOKUP(E107,'Base Calcul'!A:B,2,0))","v":""}]
[null,null,null,null,null,null,{"$f":"IF(E108=\"\",\"\",VLOOKUP(E108,'Base Calcul'!A:B,2,0))","v":""}]
[null,null,null,null,null,null,{"$f":"IF(E109=\"\",\"\",VLOOKUP(E109,'Base Calcul'!A:B,2,0))","v":""}]
[null,null,null,null,null,null,{"$f":"IF(E110=\"\",\"\",VLOOKUP(E110,'Base Calcul'!A:B,2,0))","v":""}]
[null,null,null,null,null,null,{"$f":"IF(E111=\"\",\"\",VLOOKUP(E111,'Base Calcul'!A:B,2,0))","v":""}]
[null,null,null,null,null,null,{"$f":"IF(E112=\"\",\"\",VLOOKUP(E112,'Base Calcul'!A:B,2,0))","v":""}]
[null,null,null,null,null,null,{"$f":"IF(E113=\"\",\"\",VLOOKUP(E113,'Base Calcul'!A:B,2,0))","v":""}]
[null,null,null,null,null,null,{"$f":"IF(E114=\"\",\"\",VLOOKUP(E114,'Base Calcul'!A:B,2,0))","v":""}]
[null,null,null,null,null,null,{"$f":"IF(E115=\"\",\"\",VLOOKUP(E115,'Base Calcul'!A:B,2,0))","v":""}]
[null,null,null,null,null,null,{"$f":"IF(E116=\"\",\"\",VLOOKUP(E116,'Base Calcul'!A:B,2,0))","v":""}]
[null,null,null,null,null,null,{"$f":"IF(E117=\"\",\"\",VLOOKUP(E117,'Base Calcul'!A:B,2,0))","v":""}]
[null,null,null,null,null,null,{"$f":"IF(E118=\"\",\"\",VLOOKUP(E118,'Base Calcul'!A:B,2,0))","v":""}]
[null,null,null,null,null,null,{"$f":"IF(E119=\"\",\"\",VLOOKUP(E119,'Base Calcul'!A:B,2,0))","v":""}]
[null,null,null,null,null,null,{"$f":"IF(E120=\"\",\"\",VLOOKUP(E120,'Base Calcul'!A:B,2,0))","v":""}]
[null,null,null,null,null,null,{"$f":"IF(E121=\"\",\"\",VLOOKUP(E121,'Base Calcul'!A:B,2,0))","v":""}]
[null,null,null,null,null,null,{"$f":"IF(E122=\"\",\"\",VLOOKUP(E122,'Base Calcul'!A:B,2,0))","v":""}]
[null,null,null,null,null,null,{"$f":"IF(E123=\"\",\"\",VLOOKUP(E123,'Base Calcul'!A:B,2,0))","v":""}]
[null,null,null,null,null,null,{"$f":"IF(E124=\"\",\"\",VLOOKUP(E124,'Base Calcul'!A:B,2,0))","v":""}]
[null,null,null,null,null,null,{"$f":"IF(E125=\"\",\"\",VLOOKUP(E125,'Base Calcul'!A:B,2,0))","v":""}]
[null,null,null,null,null,null,{"$f":"IF(E126=\"\",\"\",VLOOKUP(E126,'Base Calcul'!A:B,2,0))","v":""}]
[null,null,null,null,null,null,{"$f":"IF(E127=\"\",\"\",VLOOKUP(E127,'Base Calcul'!A:B,2,0))","v":""}]
[null,null,null,null,null,null,{"$f":"IF(E128=\"\",\"\",VLOOKUP(E128,'Base Calcul'!A:B,2,0))","v":""}]
[null,null,null,null,null,null,{"$f":"IF(E129=\"\",\"\",VLOOKUP(E129,'Base Calcul'!A:B,2,0))","v":""}]
[null,null,null,null,null,null,{"$f":"IF(E130=\"\",\"\",VLOOKUP(E130,'Base Calcul'!A:B,2,0))","v":""}]
[null,null,null,null,null,null,{"$f":"IF(E131=\"\",\"\",VLOOKUP(E131,'Base Calcul'!A:B,2,0))","v":""}]
[null,null,null,null,null,null,{"$f":"IF(E132=\"\",\"\",VLOOKUP(E132,'Base Calcul'!A:B,2,0))","v":""}]
[null,null,null,null,null,null,{"$f":"IF(E133=\"\",\"\",VLOOKUP(E133,'Base Calcul'!A:B,2,0))","v":""}]
[null,null,null,null,null,null,{"$f":"IF(E134=\"\",\"\",VLOOKUP(E134,'Base Calcul'!A:B,2,0))","v":""}]
[null,null,null,null,null,null,{"$f":"IF(E135=\"\",\"\",VLOOKUP(E135,'Base Calcul'!A:B,2,0))","v":""}]
[null,null,null,null,null,null,{"$f":"IF(E136=\"\",\"\",VLOOKUP(E136,'Base Calcul'!A:B,2,0))","v":""}]
[null,null,null,null,null,null,{"$f":"IF(E137=\"\",\"\",VLOOKUP(E137,'Base Calcul'!A:B,2,0))","v":""}]
[null,null,null,null,null,null,{"$f":"IF(E138=\"\",\"\",VLOOKUP(E138,'Base Calcul'!A:B,2,0))","v":""}]
[null,null,null,null,null,null,{"$f":"IF(E139=\"\",\"\",VLOOKUP(E139,'Base Calcul'!A:B,2,0))","v":""}]
[null,null,null,null,null,null,{"$f":"IF(E140=\"\",\"\",VLOOKUP(E140,'Base Calcul'!A:B,2,0))","v":""}]
[null,null,null,null,null,null,{"$f":"IF(E141=\"\",\"\",VLOOKUP(E141,'Base Calcul'!A:B,2,0))","v":""}]
[null,null,null,null,null,null,{"$f":"IF(E142=\"\",\"\",VLOOKUP(E142,'Base Calcul'!A:B,2,0))","v":""}]
[null,null,null,null,null,null,{"$f":"IF(E143=\"\",\"\",VLOOKUP(E143,'Base Calcul'!A:B,2,0))","v":""}]
[null,null,null,null,null,null,{"$f":"IF(E144=\"\",\"\",VLOOKUP(E144,'Base Calcul'!A:B,2,0))","v":""}]
[null,null,null,null,null,null,{"$f":"IF(E145=\"\",\"\",VLOOKUP(E145,'Base Calcul'!A:B,2,0))","v":""}]
[null,null,null,null,null,null,{"$f":"IF(E146=\"\",\"\",VLOOKUP(E146,'Base Calcul'!A:B,2,0))","v":""}]
[null,null,null,null,null,null,{"$f":"IF(E147=\"\",\"\",VLOOKUP(E147,'Base Calcul'!A:B,2,0))","v":""}]
[null,null,null,null,null,null,{"$f":"IF(E148=\"\",\"\",VLOOKUP(E148,'Base Calcul'!A:B,2,0))","v":""}]
[null,null,null,null,null,null,{"$f":"IF(E149=\"\",\"\",VLOOKUP(E149,'Base Calcul'!A:B,2,0))","v":""}]
[null,null,null,null,null,null,{"$f":"IF(E150=\"\",\"\",VLOOKUP(E150,'Base Calcul'!A:B,2,0))","v":""}]
[null,null,null,null,null,null,{"$f":"IF(E151=\"\",\"\",VLOOKUP(E151,'Base Calcul'!A:B,2,0))","v":""}]
[null,null,null,null,null,null,{"$f":"IF(E152=\"\",\"\",VLOOKUP(E152,'Base Calcul'!A:B,2,0))","v":""}]
[null,null,null,null,null,null,{"$f":"IF(E153=\"\",\"\",VLOOKUP(E153,'Base Calcul'!A:B,2,0))","v":""}]
[null,null,null,null,null,null,{"$f":"IF(E154=\"\",\"\",VLOOKUP(E154,'Base Calcul'!A:B,2,0))","v":""}]
[null,null,null,null,null,null,{"$f":"IF(E155=\"\",\"\",VLOOKUP(E155,'Base Calcul'!A:B,2,0))","v":""}]
[null,null,null,null,null,null,{"$f":"IF(E156=\"\",\"\",VLOOKUP(E156,'Base Calcul'!A:B,2,0))","v":""}]
[null,null,null,null,null,null,{"$f":"IF(E157=\"\",\"\",VLOOKUP(E157,'Base Calcul'!A:B,2,0))","v":""}]
[null,null,null,null,null,null,{"$f":"IF(E158=\"\",\"\",VLOOKUP(E158,'Base Calcul'!A:B,2,0))","v":""}]
[null,null,null,null,null,null,{"$f":"IF(E159=\"\",\"\",VLOOKUP(E159,'Base Calcul'!A:B,2,0))","v":""}]
[null,null,null,null,null,null,{"$f":"IF(E160=\"\",\"\",VLOOKUP(E160,'Base Calcul'!A:B,2,0))","v":""}]
[null,null,null,null,null,null,{"$f":"IF(E161=\"\",\"\",VLOOKUP(E161,'Base Calcul'!A:B,2,0))","v":""}]
[null,null,null,null,null,null,{"$f":"IF(E162=\"\",\"\",VLOOKUP(E162,'Base Calcul'!A:B,2,0))","v":""}]
[null,null,null,null,null,null,{"$f":"IF(E163=\"\",\"\",VLOOKUP(E163,'Base Calcul'!A:B,2,0))","v":""}]
[null,null,null,null,null,null,{"$f":"IF(E164=\"\",\"\",VLOOKUP(E164,'Base Calcul'!A:B,2,0))","v":""}]
[null,null,null,null,null,null,{"$f":"IF(E165=\"\",\"\",VLOOKUP(E165,'Base Calcul'!A:B,2,0))","v":""}]
[null,null,null,null,null,null,{"$f":"IF(E166=\"\",\"\",VLOOKUP(E166,'Base Calcul'!A:B,2,0))","v":""}]
[null,null,null,null,null,null,{"$f":"IF(E167=\"\",\"\",VLOOKUP(E167,'Base Calcul'!A:B,2,0))","v":""}]
[null,null,null,null,null,null,{"$f":"IF(E168=\"\",\"\",VLOOKUP(E168,'Base Calcul'!A:B,2,0))","v":""}]
[null,null,null,null,null,null,{"$f":"IF(E169=\"\",\"\",VLOOKUP(E169,'Base Calcul'!A:B,2,0))","v":""}]
[null,null,null,null,null,null,{"$f":"IF(E170=\"\",\"\",VLOOKUP(E170,'Base Calcul'!A:B,2,0))","v":""}]
[null,null,null,null,null,null,{"$f":"IF(E171=\"\",\"\",VLOOKUP(E171,'Base Calcul'!A:B,2,0))","v":""}]
[null,null,null,null,null,null,{"$f":"IF(E172=\"\",\"\",VLOOKUP(E172,'Base Calcul'!A:B,2,0))","v":""}]
[null,null,null,null,null,null,{"$f":"IF(E173=\"\",\"\",VLOOKUP(E173,'Base Calcul'!A:B,2,0))","v":""}]
[null,null,null,null,null,null,{"$f":"IF(E174=\"\",\"\",VLOOKUP(E174,'Base Calcul'!A:B,2,0))","v":""}]
[null,null,null,null,null,null,{"$f":"IF(E175=\"\",\"\",VLOOKUP(E175,'Base Calcul'!A:B,2,0))","v":""}]
[null,null,null,null,null,null,{"$f":"IF(E176=\"\",\"\",VLOOKUP(E176,'Base Calcul'!A:B,2,0))","v":""}]
[null,null,null,null,null,null,{"$f":"IF(E177=\"\",\"\",VLOOKUP(E177,'Base Calcul'!A:B,2,0))","v":""}]
[null,null,null,null,null,null,{"$f":"IF(E178=\"\",\"\",VLOOKUP(E178,'Base Calcul'!A:B,2,0))","v":""}]
[null,null,null,null,null,null,{"$f":"IF(E179=\"\",\"\",VLOOKUP(E179,'Base Calcul'!A:B,2,0))","v":""}]
[null,null,null,null,null,null,{"$f":"IF(E180=\"\",\"\",VLOOKUP(E180,'Base Calcul'!A:B,2,0))","v":""}]
[null,null,null,null,null,null,{"$f":"IF(E181=\"\",\"\",VLOOKUP(E181,'Base Calcul'!A:B,2,0))","v":""}]
[null,null,null,null,null,null,{"$f":"IF(E182=\"\",\"\",VLOOKUP(E182,'Base Calcul'!A:B,2,0))","v":""}]
[null,null,null,null,null,null,{"$f":"IF(E183=\"\",\"\",VLOOKUP(E183,'Base Calcul'!A:B,2,0))","v":""}]
[null,null,null,null,null,null,{"$f":"IF(E184=\"\",\"\",VLOOKUP(E184,'Base Calcul'!A:B,2,0))","v":""}]
[null,null,null,null,null,null,{"$f":"IF(E185=\"\",\"\",VLOOKUP(E185,'Base Calcul'!A:B,2,0))","v":""}]
[null,null,null,null,null,null,{"$f":"IF(E186=\"\",\"\",VLOOKUP(E186,'Base Calcul'!A:B,2,0))","v":""}]
[null,null,null,null,null,null,{"$f":"IF(E187=\"\",\"\",VLOOKUP(E187,'Base Calcul'!A:B,2,0))","v":""}]
[null,null,null,null,null,null,{"$f":"IF(E188=\"\",\"\",VLOOKUP(E188,'Base Calcul'!A:B,2,0))","v":""}]
[null,null,null,null,null,null,{"$f":"IF(E189=\"\",\"\",VLOOKUP(E189,'Base Calcul'!A:B,2,0))","v":""}]
[null,null,null,null,null,null,{"$f":"IF(E190=\"\",\"\",VLOOKUP(E190,'Base Calcul'!A:B,2,0))","v":""}]
[null,null,null,null,null,null,{"$f":"IF(E191=\"\",\"\",VLOOKUP(E191,'Base Calcul'!A:B,2,0))","v":""}]
[null,null,null,null,null,null,{"$f":"IF(E192=\"\",\"\",VLOOKUP(E192,'Base Calcul'!A:B,2,0))","v":""}]
[null,null,null,null,null,null,{"$f":"IF(E193=\"\",\"\",VLOOKUP(E193,'Base Calcul'!A:B,2,0))","v":""}]
[null,null,null,null,null,null,{"$f":"IF(E194=\"\",\"\",VLOOKUP(E194,'Base Calcul'!A:B,2,0))","v":""}]
[null,null,null,null,null,null,{"$f":"IF(E195=\"\",\"\",VLOOKUP(E195,'Base Calcul'!A:B,2,0))","v":""}]
[null,null,null,null,null,null,{"$f":"IF(E196=\"\",\"\",VLOOKUP(E196,'Base Calcul'!A:B,2,0))","v":""}]
[null,null,null,null,null,null,{"$f":"IF(E197=\"\",\"\",VLOOKUP(E197,'Base Calcul'!A:B,2,0))","v":""}]
[null,null,null,null,null,null,{"$f":"IF(E198=\"\",\"\",VLOOKUP(E198,'Base Calcul'!A:B,2,0))","v":""}]
[null,null,null,null,null,null,{"$f":"IF(E199=\"\",\"\",VLOOKUP(E199,'Base Calcul'!A:B,2,0))","v":""}]
[null,null,null,null,null,null,{"$f":"IF(E200=\"\",\"\",VLOOKUP(E200,'Base Calcul'!A:B,2,0))","v":""}]
[null,null,null,null,null,null,{"$f":"IF(E201=\"\",\"\",VLOOKUP(E201,'Base Calcul'!A:B,2,0))","v":""}]
[null,null,null,null,null,null,{"$f":"IF(E202=\"\",\"\",VLOOKUP(E202,'Base Calcul'!A:B,2,0))","v":""}]
[null,null,null,null,null,null,{"$f":"IF(E203=\"\",\"\",VLOOKUP(E203,'Base Calcul'!A:B,2,0))","v":""}]
[null,null,null,null,null,null,{"$f":"IF(E204=\"\",\"\",VLOOKUP(E204,'Base Calcul'!A:B,2,0))","v":""}]
[null,null,null,null,null,null,{"$f":"IF(E205=\"\",\"\",VLOOKUP(E205,'Base Calcul'!A:B,2,0))","v":""}]
[null,null,null,null,null,null,{"$f":"IF(E206=\"\",\"\",VLOOKUP(E206,'Base Calcul'!A:B,2,0))","v":""}]
[null,null,null,null,null,null,{"$f":"IF(E207=\"\",\"\",VLOOKUP(E207,'Base Calcul'!A:B,2,0))","v":""}]
[null,null,null,null,null,null,{"$f":"IF(E208=\"\",\"\",VLOOKUP(E208,'Base Calcul'!A:B,2,0))","v":""}]
[null,null,null,null,null,null,{"$f":"IF(E209=\"\",\"\",VLOOKUP(E209,'Base Calcul'!A:B,2,0))","v":""}]
[null,null,null,null,null,null,{"$f":"IF(E210=\"\",\"\",VLOOKUP(E210,'Base Calcul'!A:B,2,0))","v":""}]
[null,null,null,null,null,null,{"$f":"IF(E211=\"\",\"\",VLOOKUP(E211,'Base Calcul'!A:B,2,0))","v":""}]
[null,null,null,null,null,null,{"$f":"IF(E212=\"\",\"\",VLOOKUP(E212,'Base Calcul'!A:B,2,0))","v":""}]
[null,null,null,null,null,null,{"$f":"IF(E213=\"\",\"\",VLOOKUP(E213,'Base Calcul'!A:B,2,0))","v":""}]
[null,null,null,null,null,null,{"$f":"IF(E214=\"\",\"\",VLOOKUP(E214,'Base Calcul'!A:B,2,0))","v":""}]
[null,null,null,null,null,null,{"$f":"IF(E215=\"\",\"\",VLOOKUP(E215,'Base Calcul'!A:B,2,0))","v":""}]
[null,null,null,null,null,null,{"$f":"IF(E216=\"\",\"\",VLOOKUP(E216,'Base Calcul'!A:B,2,0))","v":""}]
[null,null,null,null,null,null,{"$f":"IF(E217=\"\",\"\",VLOOKUP(E217,'Base Calcul'!A:B,2,0))","v":""}]
[null,null,null,null,null,null,{"$f":"IF(E218=\"\",\"\",VLOOKUP(E218,'Base Calcul'!A:B,2,0))","v":""}]
[null,null,null,null,null,null,{"$f":"IF(E219=\"\",\"\",VLOOKUP(E219,'Base Calcul'!A:B,2,0))","v":""}]
[null,null,null,null,null,null,{"$f":"IF(E220=\"\",\"\",VLOOKUP(E220,'Base Calcul'!A:B,2,0))","v":""}]
[null,null,null,null,null,null,{"$f":"IF(E221=\"\",\"\",VLOOKUP(E221,'Base Calcul'!A:B,2,0))","v":""}]
[null,null,null,null,null,null,{"$f":"IF(E222=\"\",\"\",VLOOKUP(E222,'Base Calcul'!A:B,2,0))","v":""}]
[null,null,null,null,null,null,{"$f":"IF(E223=\"\",\"\",VLOOKUP(E223,'Base Calcul'!A:B,2,0))","v":""}]
[null,null,null,null,null,null,{"$f":"IF(E224=\"\",\"\",VLOOKUP(E224,'Base Calcul'!A:B,2,0))","v":""}]
[null,null,null,null,null,null,{"$f":"IF(E225=\"\",\"\",VLOOKUP(E225,'Base Calcul'!A:B,2,0))","v":""}]
[null,null,null,null,null,null,{"$f":"IF(E226=\"\",\"\",VLOOKUP(E226,'Base Calcul'!A:B,2,0))","v":""}]
[null,null,null,null,null,null,{"$f":"IF(E227=\"\",\"\",VLOOKUP(E227,'Base Calcul'!A:B,2,0))","v":""}]
[null,null,null,null,null,null,{"$f":"IF(E228=\"\",\"\",VLOOKUP(E228,'Base Calcul'!A:B,2,0))","v":""}]
[null,null,null,null,null,null,{"$f":"IF(E229=\"\",\"\",VLOOKUP(E229,'Base Calcul'!A:B,2,0))","v":""}]
[null,null,null,null,null,null,{"$f":"IF(E230=\"\",\"\",VLOOKUP(E230,'Base Calcul'!A:B,2,0))","v":""}]
[null,null,null,null,null,null,{"$f":"IF(E231=\"\",\"\",VLOOKUP(E231,'Base Calcul'!A:B,2,0))","v":""}]
[null,null,null,null,null,null,{"$f":"IF(E232=\"\",\"\",VLOOKUP(E232,'Base Calcul'!A:B,2,0))","v":""}]
[null,null,null,null,null,null,{"$f":"IF(E233=\"\",\"\",VLOOKUP(E233,'Base Calcul'!A:B,2,0))","v":""}]
[null,null,null,null,null,null,{"$f":"IF(E234=\"\",\"\",VLOOKUP(E234,'Base Calcul'!A:B,2,0))","v":""}]
[null,null,null,null,null,null,{"$f":"IF(E235=\"\",\"\",VLOOKUP(E235,'Base Calcul'!A:B,2,0))","v":""}]
[null,null,null,null,null,null,{"$f":"IF(E236=\"\",\"\",VLOOKUP(E236,'Base Calcul'!A:B,2,0))","v":""}]
[null,null,null,null,null,null,{"$f":"IF(E237=\"\",\"\",VLOOKUP(E237,'Base Calcul'!A:B,2,0))","v":""}]
[null,null,null,null,null,null,{"$f":"IF(E238=\"\",\"\",VLOOKUP(E238,'Base Calcul'!A:B,2,0))","v":""}]
[null,null,null,null,null,null,{"$f":"IF(E239=\"\",\"\",VLOOKUP(E239,'Base Calcul'!A:B,2,0))","v":""}]
[null,null,null,null,null,null,{"$f":"IF(E240=\"\",\"\",VLOOKUP(E240,'Base Calcul'!A:B,2,0))","v":""}]
[null,null,null,null,null,null,{"$f":"IF(E241=\"\",\"\",VLOOKUP(E241,'Base Calcul'!A:B,2,0))","v":""}]
[null,null,null,null,null,null,{"$f":"IF(E242=\"\",\"\",VLOOKUP(E242,'Base Calcul'!A:B,2,0))","v":""}]
[null,null,null,null,null,null,{"$f":"IF(E243=\"\",\"\",VLOOKUP(E243,'Base Calcul'!A:B,2,0))","v":""}]
[null,null,null,null,null,null,{"$f":"IF(E244=\"\",\"\",VLOOKUP(E244,'Base Calcul'!A:B,2,0))","v":""}]
[null,null,null,null,null,null,{"$f":"IF(E245=\"\",\"\",VLOOKUP(E245,'Base Calcul'!A:B,2,0))","v":""}]
[null,null,null,null,null,null,{"$f":"IF(E246=\"\",\"\",VLOOKUP(E246,'Base Calcul'!A:B,2,0))","v":""}]
[null,null,null,null,null,null,{"$f":"IF(E247=\"\",\"\",VLOOKUP(E247,'Base Calcul'!A:B,2,0))","v":""}]
[null,null,null,null,null,null,{"$f":"IF(E248=\"\",\"\",VLOOKUP(E248,'Base Calcul'!A:B,2,0))","v":""}]
[null,null,null,null,null,null,{"$f":"IF(E249=\"\",\"\",VLOOKUP(E249,'Base Calcul'!A:B,2,0))","v":""}]
[null,null,null,null,null,null,{"$f":"IF(E250=\"\",\"\",VLOOKUP(E250,'Base Calcul'!A:B,2,0))","v":""}]
[null,null,null,null,null,null,{"$f":"IF(E251=\"\",\"\",VLOOKUP(E251,'Base Calcul'!A:B,2,0))","v":""}]
[null,null,null,null,null,null,{"$f":"IF(E252=\"\",\"\",VLOOKUP(E252,'Base Calcul'!A:B,2,0))","v":""}]
[null,null,null,null,null,null,{"$f":"IF(E253=\"\",\"\",VLOOKUP(E253,'Base Calcul'!A:B,2,0))","v":""}]
[null,null,null,null,null,null,{"$f":"IF(E254=\"\",\"\",VLOOKUP(E254,'Base Calcul'!A:B,2,0))","v":""}]
[null,null,null,null,null,null,{"$f":"IF(E255=\"\",\"\",VLOOKUP(E255,'Base Calcul'!A:B,2,0))","v":""}]
[null,null,null,null,null,null,{"$f":"IF(E256=\"\",\"\",VLOOKUP(E256,'Base Calcul'!A:B,2,0))","v":""}]
[null,null,null,null,null,null,{"$f":"IF(E257=\"\",\"\",VLOOKUP(E257,'Base Calcul'!A:B,2,0))","v":""}]
[null,null,null,null,null,null,{"$f":"IF(E258=\"\",\"\",VLOOKUP(E258,'Base Calcul'!A:B,2,0))","v":""}]
[null,null,null,null,null,null,{"$f":"IF(E259=\"\",\"\",VLOOKUP(E259,'Base Calcul'!A:B,2,0))","v":""}]
[null,null,null,null,null,null,{"$f":"IF(E260=\"\",\"\",VLOOKUP(E260,'Base Calcul'!A:B,2,0))","v":""}]
[null,null,null,null,null,null,{"$f":"IF(E261=\"\",\"\",VLOOKUP(E261,'Base Calcul'!A:B,2,0))","v":""}]
[null,null,null,null,null,null,{"$f":"IF(E262=\"\",\"\",VLOOKUP(E262,'Base Calcul'!A:B,2,0))","v":""}]
[null,null,null,null,null,null,{"$f":"IF(E263=\"\",\"\",VLOOKUP(E263,'Base Calcul'!A:B,2,0))","v":""}]
[null,null,null,null,null,null,{"$f":"IF(E264=\"\",\"\",VLOOKUP(E264,'Base Calcul'!A:B,2,0))","v":""}]
[null,null,null,null,null,null,{"$f":"IF(E265=\"\",\"\",VLOOKUP(E265,'Base Calcul'!A:B,2,0))","v":""}]
[null,null,null,null,null,null,{"$f":"IF(E266=\"\",\"\",VLOOKUP(E266,'Base Calcul'!A:B,2,0))","v":""}]
[null,null,null,null,null,null,{"$f":"IF(E267=\"\",\"\",VLOOKUP(E267,'Base Calcul'!A:B,2,0))","v":""}]
[null,null,null,null,null,null,{"$f":"IF(E268=\"\",\"\",VLOOKUP(E268,'Base Calcul'!A:B,2,0))","v":""}]
[null,null,null,null,null,null,{"$f":"IF(E269=\"\",\"\",VLOOKUP(E269,'Base Calcul'!A:B,2,0))","v":""}]
[null,null,null,null,null,null,{"$f":"IF(E270=\"\",\"\",VLOOKUP(E270,'Base Calcul'!A:B,2,0))","v":""}]
[null,null,null,null,null,null,{"$f":"IF(E271=\"\",\"\",VLOOKUP(E271,'Base Calcul'!A:B,2,0))","v":""}]
[null,null,null,null,null,null,{"$f":"IF(E272=\"\",\"\",VLOOKUP(E272,'Base Calcul'!A:B,2,0))","v":""}]
[null,null,null,null,null,null,{"$f":"IF(E273=\"\",\"\",VLOOKUP(E273,'Base Calcul'!A:B,2,0))","v":""}]
[null,null,null,null,null,null,{"$f":"IF(E274=\"\",\"\",VLOOKUP(E274,'Base Calcul'!A:B,2,0))","v":""}]
[null,null,null,null,null,null,{"$f":"IF(E275=\"\",\"\",VLOOKUP(E275,'Base Calcul'!A:B,2,0))","v":""}]
[null,null,null,null,null,null,{"$f":"IF(E276=\"\",\"\",VLOOKUP(E276,'Base Calcul'!A:B,2,0))","v":""}]
[null,null,null,null,null,null,{"$f":"IF(E277=\"\",\"\",VLOOKUP(E277,'Base Calcul'!A:B,2,0))","v":""}]
[null,null,null,null,null,null,{"$f":"IF(E278=\"\",\"\",VLOOKUP(E278,'Base Calcul'!A:B,2,0))","v":""}]
[null,null,null,null,null,null,{"$f":"IF(E279=\"\",\"\",VLOOKUP(E279,'Base Calcul'!A:B,2,0))","v":""}]
[null,null,null,null,null,null,{"$f":"IF(E280=\"\",\"\",VLOOKUP(E280,'Base Calcul'!A:B,2,0))","v":""}]
[null,null,null,null,null,null,{"$f":"IF(E281=\"\",\"\",VLOOKUP(E281,'Base Calcul'!A:B,2,0))","v":""}]
[null,null,null,null,null,null,{"$f":"IF(E282=\"\",\"\",VLOOKUP(E282,'Base Calcul'!A:B,2,0))","v":""}]
[null,null,null,null,null,null,{"$f":"IF(E283=\"\",\"\",VLOOKUP(E283,'Base Calcul'!A:B,2,0))","v":""}]
[null,null,null,null,null,null,{"$f":"IF(E284=\"\",\"\",VLOOKUP(E284,'Base Calcul'!A:B,2,0))","v":""}]
[null,null,null,null,null,null,{"$f":"IF(E285=\"\",\"\",VLOOKUP(E285,'Base Calcul'!A:B,2,0))","v":""}]
[null,null,null,null,null,null,{"$f":"IF(E286=\"\",\"\",VLOOKUP(E286,'Base Calcul'!A:B,2,0))","v":""}]
[null,null,null,null,null,null,{"$f":"IF(E287=\"\",\"\",VLOOKUP(E287,'Base Calcul'!A:B,2,0))","v":""}]
[null,null,null,null,null,null,{"$f":"IF(E288=\"\",\"\",VLOOKUP(E288,'Base Calcul'!A:B,2,0))","v":""}]
[null,null,null,null,null,null,{"$f":"IF(E289=\"\",\"\",VLOOKUP(E289,'Base Calcul'!A:B,2,0))","v":""}]
[null,null,null,null,null,null,{"$f":"IF(E290=\"\",\"\",VLOOKUP(E290,'Base Calcul'!A:B,2,0))","v":""}]
[null,null,null,null,null,null,{"$f":"IF(E291=\"\",\"\",VLOOKUP(E291,'Base Calcul'!A:B,2,0))","v":""}]
[null,null,null,null,null,null,{"$f":"IF(E292=\"\",\"\",VLOOKUP(E292,'Base Calcul'!A:B,2,0))","v":""}]
[null,null,null,null,null,null,{"$f":"IF(E293=\"\",\"\",VLOOKUP(E293,'Base Calcul'!A:B,2,0))","v":""}]
[null,null,null,null,null,null,{"$f":"IF(E294=\"\",\"\",VLOOKUP(E294,'Base Calcul'!A:B,2,0))","v":""}]
[null,null,null,null,null,null,{"$f":"IF(E295=\"\",\"\",VLOOKUP(E295,'Base Calcul'!A:B,2,0))","v":""}]
[null,null,null,null,null,null,{"$f":"IF(E296=\"\",\"\",VLOOKUP(E296,'Base Calcul'!A:B,2,0))","v":""}]
[null,null,null,null,null,null,{"$f":"IF(E297=\"\",\"\",VLOOKUP(E297,'Base Calcul'!A:B,2,0))","v":""}]
[null,null,null,null,null,null,{"$f":"IF(E298=\"\",\"\",VLOOKUP(E298,'Base Calcul'!A:B,2,0))","v":""}]
[null,null,null,null,null,null,{"$f":"IF(E299=\"\",\"\",VLOOKUP(E299,'Base Calcul'!A:B,2,0))","v":""}]
[null,null,null,null,null,null,{"$f":"IF(E300=\"\",\"\",VLOOKUP(E300,'Base Calcul'!A:B,2,0))","v":""}]
[null,null,null,null,null,null,{"$f":"IF(E301=\"\",\"\",VLOOKUP(E301,'Base Calcul'!A:B,2,0))","v":""}]
[null,null,null,null,null,null,{"$f":"IF(E302=\"\",\"\",VLOOKUP(E302,'Base Calcul'!A:B,2,0))","v":""}]
[null,null,null,null,null,null,{"$f":"IF(E303=\"\",\"\",VLOOKUP(E303,'Base Calcul'!A:B,2,0))","v":""}]
[null,null,null,null,null,null,{"$f":"IF(E304=\"\",\"\",VLOOKUP(E304,'Base Calcul'!A:B,2,0))","v":""}]
[null,null,null,null,null,null,{"$f":"IF(E305=\"\",\"\",VLOOKUP(E305,'Base Calcul'!A:B,2,0))","v":""}]
[null,null,null,null,null,null,{"$f":"IF(E306=\"\",\"\",VLOOKUP(E306,'Base Calcul'!A:B,2,0))","v":""}]
[null,null,null,null,null,null,{"$f":"IF(E307=\"\",\"\",VLOOKUP(E307,'Base Calcul'!A:B,2,0))","v":""}]
[null,null,null,null,null,null,{"$f":"IF(E308=\"\",\"\",VLOOKUP(E308,'Base Calcul'!A:B,2,0))","v":""}]
[null,null,null,null,null,null,{"$f":"IF(E309=\"\",\"\",VLOOKUP(E309,'Base Calcul'!A:B,2,0))","v":""}]
[null,null,null,null,null,null,{"$f":"IF(E310=\"\",\"\",VLOOKUP(E310,'Base Calcul'!A:B,2,0))","v":""}]
[null,null,null,null,null,null,{"$f":"IF(E311=\"\",\"\",VLOOKUP(E311,'Base Calcul'!A:B,2,0))","v":""}]
[null,null,null,null,null,null,{"$f":"IF(E312=\"\",\"\",VLOOKUP(E312,'Base Calcul'!A:B,2,0))","v":""}]
[null,null,null,null,null,null,{"$f":"IF(E313=\"\",\"\",VLOOKUP(E313,'Base Calcul'!A:B,2,0))","v":""}]
[null,null,null,null,null,null,{"$f":"IF(E314=\"\",\"\",VLOOKUP(E314,'Base Calcul'!A:B,2,0))","v":""}]
[null,null,null,null,null,null,{"$f":"IF(E315=\"\",\"\",VLOOKUP(E315,'Base Calcul'!A:B,2,0))","v":""}]
[null,null,null,null,null,null,{"$f":"IF(E316=\"\",\"\",VLOOKUP(E316,'Base Calcul'!A:B,2,0))","v":""}]
[null,null,null,null,null,null,{"$f":"IF(E317=\"\",\"\",VLOOKUP(E317,'Base Calcul'!A:B,2,0))","v":""}]
[null,null,null,null,null,null,{"$f":"IF(E318=\"\",\"\",VLOOKUP(E318,'Base Calcul'!A:B,2,0))","v":""}]
[null,null,null,null,null,null,{"$f":"IF(E319=\"\",\"\",VLOOKUP(E319,'Base Calcul'!A:B,2,0))","v":""}]
[null,null,null,null,null,null,{"$f":"IF(E320=\"\",\"\",VLOOKUP(E320,'Base Calcul'!A:B,2,0))","v":""}]
[null,null,null,null,null,null,{"$f":"IF(E321=\"\",\"\",VLOOKUP(E321,'Base Calcul'!A:B,2,0))","v":""}]
[null,null,null,null,null,null,{"$f":"IF(E322=\"\",\"\",VLOOKUP(E322,'Base Calcul'!A:B,2,0))","v":""}]
[null,null,null,null,null,null,{"$f":"IF(E323=\"\",\"\",VLOOKUP(E323,'Base Calcul'!A:B,2,0))","v":""}]
[null,null,null,null,null,null,{"$f":"IF(E324=\"\",\"\",VLOOKUP(E324,'Base Calcul'!A:B,2,0))","v":""}]
[null,null,null,null,null,null,{"$f":"IF(E325=\"\",\"\",VLOOKUP(E325,'Base Calcul'!A:B,2,0))","v":""}]
[null,null,null,null,null,null,{"$f":"IF(E326=\"\",\"\",VLOOKUP(E326,'Base Calcul'!A:B,2,0))","v":""}]
[null,null,null,null,null,null,{"$f":"IF(E327=\"\",\"\",VLOOKUP(E327,'Base Calcul'!A:B,2,0))","v":""}]
[null,null,null,null,null,null,{"$f":"IF(E328=\"\",\"\",VLOOKUP(E328,'Base Calcul'!A:B,2,0))","v":""}]
[null,null,null,null,null,null,{"$f":"IF(E329=\"\",\"\",VLOOKUP(E329,'Base Calcul'!A:B,2,0))","v":""}]
[null,null,null,null,null,null,{"$f":"IF(E330=\"\",\"\",VLOOKUP(E330,'Base Calcul'!A:B,2,0))","v":""}]
[null,null,null,null,null,null,{"$f":"IF(E331=\"\",\"\",VLOOKUP(E331,'Base Calcul'!A:B,2,0))","v":""}]
[null,null,null,null,null,null,{"$f":"IF(E332=\"\",\"\",VLOOKUP(E332,'Base Calcul'!A:B,2,0))","v":""}]
[null,null,null,null,null,null,{"$f":"IF(E333=\"\",\"\",VLOOKUP(E333,'Base Calcul'!A:B,2,0))","v":""}]
[null,null,null,null,null,null,{"$f":"IF(E334=\"\",\"\",VLOOKUP(E334,'Base Calcul'!A:B,2,0))","v":""}]
[null,null,null,null,null,null,{"$f":"IF(E335=\"\",\"\",VLOOKUP(E335,'Base Calcul'!A:B,2,0))","v":""}]
[null,null,null,null,null,null,{"$f":"IF(E336=\"\",\"\",VLOOKUP(E336,'Base Calcul'!A:B,2,0))","v":""}]
[null,null,null,null,null,null,{"$f":"IF(E337=\"\",\"\",VLOOKUP(E337,'Base Calcul'!A:B,2,0))","v":""}]
[null,null,null,null,null,null,{"$f":"IF(E338=\"\",\"\",VLOOKUP(E338,'Base Calcul'!A:B,2,0))","v":""}]
[null,null,null,null,null,null,{"$f":"IF(E339=\"\",\"\",VLOOKUP(E339,'Base Calcul'!A:B,2,0))","v":""}]
[null,null,null,null,null,null,{"$f":"IF(E340=\"\",\"\",VLOOKUP(E340,'Base Calcul'!A:B,2,0))","v":""}]
[null,null,null,null,null,null,{"$f":"IF(E341=\"\",\"\",VLOOKUP(E341,'Base Calcul'!A:B,2,0))","v":""}]
[null,null,null,null,null,null,{"$f":"IF(E342=\"\",\"\",VLOOKUP(E342,'Base Calcul'!A:B,2,0))","v":""}]
[null,null,null,null,null,null,{"$f":"IF(E343=\"\",\"\",VLOOKUP(E343,'Base Calcul'!A:B,2,0))","v":""}]
[null,null,null,null,null,null,{"$f":"IF(E344=\"\",\"\",VLOOKUP(E344,'Base Calcul'!A:B,2,0))","v":""}]
[null,null,null,null,null,null,{"$f":"IF(E345=\"\",\"\",VLOOKUP(E345,'Base Calcul'!A:B,2,0))","v":""}]
[null,null,null,null,null,null,{"$f":"IF(E346=\"\",\"\",VLOOKUP(E346,'Base Calcul'!A:B,2,0))","v":""}]
[null,null,null,null,null,null,{"$f":"IF(E347=\"\",\"\",VLOOKUP(E347,'Base Calcul'!A:B,2,0))","v":""}]
[null,null,null,null,null,null,{"$f":"IF(E348=\"\",\"\",VLOOKUP(E348,'Base Calcul'!A:B,2,0))","v":""}]
[null,null,null,null,null,null,{"$f":"IF(E349=\"\",\"\",VLOOKUP(E349,'Base Calcul'!A:B,2,0))","v":""}]
[null,null,null,null,null,null,{"$f":"IF(E350=\"\",\"\",VLOOKUP(E350,'Base Calcul'!A:B,2,0))","v":""}]
[null,null,null,null,null,null,{"$f":"IF(E351=\"\",\"\",VLOOKUP(E351,'Base Calcul'!A:B,2,0))","v":""}]
[null,null,null,null,null,null,{"$f":"IF(E352=\"\",\"\",VLOOKUP(E352,'Base Calcul'!A:B,2,0))","v":""}]
[null,null,null,null,null,null,{"$f":"IF(E353=\"\",\"\",VLOOKUP(E353,'Base Calcul'!A:B,2,0))","v":""}]
[null,null,null,null,null,null,{"$f":"IF(E354=\"\",\"\",VLOOKUP(E354,'Base Calcul'!A:B,2,0))","v":""}]
[null,null,null,null,null,null,{"$f":"IF(E355=\"\",\"\",VLOOKUP(E355,'Base Calcul'!A:B,2,0))","v":""}]
[null,null,null,null,null,null,{"$f":"IF(E356=\"\",\"\",VLOOKUP(E356,'Base Calcul'!A:B,2,0))","v":""}]
[null,null,null,null,null,null,{"$f":"IF(E357=\"\",\"\",VLOOKUP(E357,'Base Calcul'!A:B,2,0))","v":""}]
[null,null,null,null,null,null,{"$f":"IF(E358=\"\",\"\",VLOOKUP(E358,'Base Calcul'!A:B,2,0))","v":""}]
[null,null,null,null,null,null,{"$f":"IF(E359=\"\",\"\",VLOOKUP(E359,'Base Calcul'!A:B,2,0))","v":""}]
[null,null,null,null,null,null,{"$f":"IF(E360=\"\",\"\",VLOOKUP(E360,'Base Calcul'!A:B,2,0))","v":""}]
[null,null,null,null,null,null,{"$f":"IF(E361=\"\",\"\",VLOOKUP(E361,'Base Calcul'!A:B,2,0))","v":""}]
[null,null,null,null,null,null,{"$f":"IF(E362=\"\",\"\",VLOOKUP(E362,'Base Calcul'!A:B,2,0))","v":""}]
[null,null,null,null,null,null,{"$f":"IF(E363=\"\",\"\",VLOOKUP(E363,'Base Calcul'!A:B,2,0))","v":""}]
[null,null,null,null,null,null,{"$f":"IF(E364=\"\",\"\",VLOOKUP(E364,'Base Calcul'!A:B,2,0))","v":""}]
[null,null,null,null,null,null,{"$f":"IF(E365=\"\",\"\",VLOOKUP(E365,'Base Calcul'!A:B,2,0))","v":""}]
[null,null,null,null,null,null,{"$f":"IF(E366=\"\",\"\",VLOOKUP(E366,'Base Calcul'!A:B,2,0))","v":""}]
[null,null,null,null,null,null,{"$f":"IF(E367=\"\",\"\",VLOOKUP(E367,'Base Calcul'!A:B,2,0))","v":""}]
[null,null,null,null,null,null,{"$f":"IF(E368=\"\",\"\",VLOOKUP(E368,'Base Calcul'!A:B,2,0))","v":""}]
[null,null,null,null,null,null,{"$f":"IF(E369=\"\",\"\",VLOOKUP(E369,'Base Calcul'!A:B,2,0))","v":""}]
[null,null,null,null,null,null,{"$f":"IF(E370=\"\",\"\",VLOOKUP(E370,'Base Calcul'!A:B,2,0))","v":""}]
[null,null,null,null,null,null,{"$f":"IF(E371=\"\",\"\",VLOOKUP(E371,'Base Calcul'!A:B,2,0))","v":""}]
[null,null,null,null,null,null,{"$f":"IF(E372=\"\",\"\",VLOOKUP(E372,'Base Calcul'!A:B,2,0))","v":""}]
[null,null,null,null,null,null,{"$f":"IF(E373=\"\",\"\",VLOOKUP(E373,'Base Calcul'!A:B,2,0))","v":""}]
[null,null,null,null,null,null,{"$f":"IF(E374=\"\",\"\",VLOOKUP(E374,'Base Calcul'!A:B,2,0))","v":""}]
[null,null,null,null,null,null,{"$f":"IF(E375=\"\",\"\",VLOOKUP(E375,'Base Calcul'!A:B,2,0))","v":""}]
[null,null,null,null,null,null,{"$f":"IF(E376=\"\",\"\",VLOOKUP(E376,'Base Calcul'!A:B,2,0))","v":""}]
[null,null,null,null,null,null,{"$f":"IF(E377=\"\",\"\",VLOOKUP(E377,'Base Calcul'!A:B,2,0))","v":""}]
[null,null,null,null,null,null,{"$f":"IF(E378=\"\",\"\",VLOOKUP(E378,'Base Calcul'!A:B,2,0))","v":""}]
[null,null,null,null,null,null,{"$f":"IF(E379=\"\",\"\",VLOOKUP(E379,'Base Calcul'!A:B,2,0))","v":""}]
[null,null,null,null,null,null,{"$f":"IF(E380=\"\",\"\",VLOOKUP(E380,'Base Calcul'!A:B,2,0))","v":""}]
[null,null,null,null,null,null,{"$f":"IF(E381=\"\",\"\",VLOOKUP(E381,'Base Calcul'!A:B,2,0))","v":""}]
[null,null,null,null,null,null,{"$f":"IF(E382=\"\",\"\",VLOOKUP(E382,'Base Calcul'!A:B,2,0))","v":""}]
[null,null,null,null,null,null,{"$f":"IF(E383=\"\",\"\",VLOOKUP(E383,'Base Calcul'!A:B,2,0))","v":""}]
[null,null,null,null,null,null,{"$f":"IF(E384=\"\",\"\",VLOOKUP(E384,'Base Calcul'!A:B,2,0))","v":""}]
[null,null,null,null,null,null,{"$f":"IF(E385=\"\",\"\",VLOOKUP(E385,'Base Calcul'!A:B,2,0))","v":""}]
[null,null,null,null,null,null,{"$f":"IF(E386=\"\",\"\",VLOOKUP(E386,'Base Calcul'!A:B,2,0))","v":""}]
[null,null,null,null,null,null,{"$f":"IF(E387=\"\",\"\",VLOOKUP(E387,'Base Calcul'!A:B,2,0))","v":""}]
[null,null,null,null,null,null,{"$f":"IF(E388=\"\",\"\",VLOOKUP(E388,'Base Calcul'!A:B,2,0))","v":""}]
[null,null,null,null,null,null,{"$f":"IF(E389=\"\",\"\",VLOOKUP(E389,'Base Calcul'!A:B,2,0))","v":""}]
[null,null,null,null,null,null,{"$f":"IF(E390=\"\",\"\",VLOOKUP(E390,'Base Calcul'!A:B,2,0))","v":""}]
[null,null,null,null,null,null,{"$f":"IF(E391=\"\",\"\",VLOOKUP(E391,'Base Calcul'!A:B,2,0))","v":""}]
[null,null,null,null,null,null,{"$f":"IF(E392=\"\",\"\",VLOOKUP(E392,'Base Calcul'!A:B,2,0))","v":""}]
[null,null,null,null,null,null,{"$f":"IF(E393=\"\",\"\",VLOOKUP(E393,'Base Calcul'!A:B,2,0))","v":""}]
[null,null,null,null,null,null,{"$f":"IF(E394=\"\",\"\",VLOOKUP(E394,'Base Calcul'!A:B,2,0))","v":""}]
[null,null,null,null,null,null,{"$f":"IF(E395=\"\",\"\",VLOOKUP(E395,'Base Calcul'!A:B,2,0))","v":""}]
[null,null,null,null,null,null,{"$f":"IF(E396=\"\",\"\",VLOOKUP(E396,'Base Calcul'!A:B,2,0))","v":""}]
[null,null,null,null,null,null,{"$f":"IF(E397=\"\",\"\",VLOOKUP(E397,'Base Calcul'!A:B,2,0))","v":""}]
[null,null,null,null,null,null,{"$f":"IF(E398=\"\",\"\",VLOOKUP(E398,'Base Calcul'!A:B,2,0))","v":""}]
[null,null,null,null,null,null,{"$f":"IF(E399=\"\",\"\",VLOOKUP(E399,'Base Calcul'!A:B,2,0))","v":""}]
[null,null,null,null,null,null,{"$f":"IF(E400=\"\",\"\",VLOOKUP(E400,'Base Calcul'!A:B,2,0))","v":""}]
[null,null,null,null,null,null,{"$f":"IF(E401=\"\",\"\",VLOOKUP(E401,'Base Calcul'!A:B,2,0))","v":""}]
[null,null,null,null,null,null,{"$f":"IF(E402=\"\",\"\",VLOOKUP(E402,'Base Calcul'!A:B,2,0))","v":""}]
[null,null,null,null,null,null,{"$f":"IF(E403=\"\",\"\",VLOOKUP(E403,'Base Calcul'!A:B,2,0))","v":""}]
[null,null,null,null,null,null,{"$f":"IF(E404=\"\",\"\",VLOOKUP(E404,'Base Calcul'!A:B,2,0))","v":""}]
[null,null,null,null,null,null,{"$f":"IF(E405=\"\",\"\",VLOOKUP(E405,'Base Calcul'!A:B,2,0))","v":""}]
[null,null,null,null,null,null,{"$f":"IF(E406=\"\",\"\",VLOOKUP(E406,'Base Calcul'!A:B,2,0))","v":""}]
[null,null,null,null,null,null,{"$f":"IF(E407=\"\",\"\",VLOOKUP(E407,'Base Calcul'!A:B,2,0))","v":""}]
[null,null,null,null,null,null,{"$f":"IF(E408=\"\",\"\",VLOOKUP(E408,'Base Calcul'!A:B,2,0))","v":""}]
[null,null,null,null,null,null,{"$f":"IF(E409=\"\",\"\",VLOOKUP(E409,'Base Calcul'!A:B,2,0))","v":""}]
[null,null,null,null,null,null,{"$f":"IF(E410=\"\",\"\",VLOOKUP(E410,'Base Calcul'!A:B,2,0))","v":""}]
[null,null,null,null,null,null,{"$f":"IF(E411=\"\",\"\",VLOOKUP(E411,'Base Calcul'!A:B,2,0))","v":""}]
[null,null,null,null,null,null,{"$f":"IF(E412=\"\",\"\",VLOOKUP(E412,'Base Calcul'!A:B,2,0))","v":""}]
[null,null,null,null,null,null,{"$f":"IF(E413=\"\",\"\",VLOOKUP(E413,'Base Calcul'!A:B,2,0))","v":""}]
[null,null,null,null,null,null,{"$f":"IF(E414=\"\",\"\",VLOOKUP(E414,'Base Calcul'!A:B,2,0))","v":""}]
[null,null,null,null,null,null,{"$f":"IF(E415=\"\",\"\",VLOOKUP(E415,'Base Calcul'!A:B,2,0))","v":""}]
[null,null,null,null,null,null,{"$f":"IF(E416=\"\",\"\",VLOOKUP(E416,'Base Calcul'!A:B,2,0))","v":""}]
[null,null,null,null,null,null,{"$f":"IF(E417=\"\",\"\",VLOOKUP(E417,'Base Calcul'!A:B,2,0))","v":""}]
[null,null,null,null,null,null,{"$f":"IF(E418=\"\",\"\",VLOOKUP(E418,'Base Calcul'!A:B,2,0))","v":""}]
[null,null,null,null,null,null,{"$f":"IF(E419=\"\",\"\",VLOOKUP(E419,'Base Calcul'!A:B,2,0))","v":""}]
[null,null,null,null,null,null,{"$f":"IF(E420=\"\",\"\",VLOOKUP(E420,'Base Calcul'!A:B,2,0))","v":""}]
[null,null,null,null,null,null,{"$f":"IF(E421=\"\",\"\",VLOOKUP(E421,'Base Calcul'!A:B,2,0))","v":""}]
[null,null,null,null,null,null,{"$f":"IF(E422=\"\",\"\",VLOOKUP(E422,'Base Calcul'!A:B,2,0))","v":""}]
[null,null,null,null,null,null,{"$f":"IF(E423=\"\",\"\",VLOOKUP(E423,'Base Calcul'!A:B,2,0))","v":""}]
[null,null,null,null,null,null,{"$f":"IF(E424=\"\",\"\",VLOOKUP(E424,'Base Calcul'!A:B,2,0))","v":""}]
[null,null,null,null,null,null,{"$f":"IF(E425=\"\",\"\",VLOOKUP(E425,'Base Calcul'!A:B,2,0))","v":""}]
[null,null,null,null,null,null,{"$f":"IF(E426=\"\",\"\",VLOOKUP(E426,'Base Calcul'!A:B,2,0))","v":""}]
[null,null,null,null,null,null,{"$f":"IF(E427=\"\",\"\",VLOOKUP(E427,'Base Calcul'!A:B,2,0))","v":""}]
[null,null,null,null,null,null,{"$f":"IF(E428=\"\",\"\",VLOOKUP(E428,'Base Calcul'!A:B,2,0))","v":""}]
[null,null,null,null,null,null,{"$f":"IF(E429=\"\",\"\",VLOOKUP(E429,'Base Calcul'!A:B,2,0))","v":""}]
[null,null,null,null,null,null,{"$f":"IF(E430=\"\",\"\",VLOOKUP(E430,'Base Calcul'!A:B,2,0))","v":""}]
[null,null,null,null,null,null,{"$f":"IF(E431=\"\",\"\",VLOOKUP(E431,'Base Calcul'!A:B,2,0))","v":""}]
[null,null,null,null,null,null,{"$f":"IF(E432=\"\",\"\",VLOOKUP(E432,'Base Calcul'!A:B,2,0))","v":""}]
[null,null,null,null,null,null,{"$f":"IF(E433=\"\",\"\",VLOOKUP(E433,'Base Calcul'!A:B,2,0))","v":""}]
[null,null,null,null,null,null,{"$f":"IF(E434=\"\",\"\",VLOOKUP(E434,'Base Calcul'!A:B,2,0))","v":""}]
[null,null,null,null,null,null,{"$f":"IF(E435=\"\",\"\",VLOOKUP(E435,'Base Calcul'!A:B,2,0))","v":""}]
[null,null,null,null,null,null,{"$f":"IF(E436=\"\",\"\",VLOOKUP(E436,'Base Calcul'!A:B,2,0))","v":""}]
[null,null,null,null,null,null,{"$f":"IF(E437=\"\",\"\",VLOOKUP(E437,'Base Calcul'!A:B,2,0))","v":""}]
[null,null,null,null,null,null,{"$f":"IF(E438=\"\",\"\",VLOOKUP(E438,'Base Calcul'!A:B,2,0))","v":""}]
[null,null,null,null,null,null,{"$f":"IF(E439=\"\",\"\",VLOOKUP(E439,'Base Calcul'!A:B,2,0))","v":""}]
[null,null,null,null,null,null,{"$f":"IF(E440=\"\",\"\",VLOOKUP(E440,'Base Calcul'!A:B,2,0))","v":""}]
[null,null,null,null,null,null,{"$f":"IF(E441=\"\",\"\",VLOOKUP(E441,'Base Calcul'!A:B,2,0))","v":""}]
[null,null,null,null,null,null,{"$f":"IF(E442=\"\",\"\",VLOOKUP(E442,'Base Calcul'!A:B,2,0))","v":""}]
[null,null,null,null,null,null,{"$f":"IF(E443=\"\",\"\",VLOOKUP(E443,'Base Calcul'!A:B,2,0))","v":""}]
[null,null,null,null,null,null,{"$f":"IF(E444=\"\",\"\",VLOOKUP(E444,'Base Calcul'!A:B,2,0))","v":""}]
[null,null,null,null,null,null,{"$f":"IF(E445=\"\",\"\",VLOOKUP(E445,'Base Calcul'!A:B,2,0))","v":""}]
[null,null,null,null,null,null,{"$f":"IF(E446=\"\",\"\",VLOOKUP(E446,'Base Calcul'!A:B,2,0))","v":""}]
[null,null,null,null,null,null,{"$f":"IF(E447=\"\",\"\",VLOOKUP(E447,'Base Calcul'!A:B,2,0))","v":""}]
[null,null,null,null,null,null,{"$f":"IF(E448=\"\",\"\",VLOOKUP(E448,'Base Calcul'!A:B,2,0))","v":""}]
[null,null,null,null,null,null,{"$f":"IF(E449=\"\",\"\",VLOOKUP(E449,'Base Calcul'!A:B,2,0))","v":""}]
[null,null,null,null,null,null,{"$f":"IF(E450=\"\",\"\",VLOOKUP(E450,'Base Calcul'!A:B,2,0))","v":""}]
[null,null,null,null,null,null,{"$f":"IF(E451=\"\",\"\",VLOOKUP(E451,'Base Calcul'!A:B,2,0))","v":""}]
[null,null,null,null,null,null,{"$f":"IF(E452=\"\",\"\",VLOOKUP(E452,'Base Calcul'!A:B,2,0))","v":""}]
[null,null,null,null,null,null,{"$f":"IF(E453=\"\",\"\",VLOOKUP(E453,'Base Calcul'!A:B,2,0))","v":""}]
[null,null,null,null,null,null,{"$f":"IF(E454=\"\",\"\",VLOOKUP(E454,'Base Calcul'!A:B,2,0))","v":""}]
[null,null,null,null,null,null,{"$f":"IF(E455=\"\",\"\",VLOOKUP(E455,'Base Calcul'!A:B,2,0))","v":""}]
[null,null,null,null,null,null,{"$f":"IF(E456=\"\",\"\",VLOOKUP(E456,'Base Calcul'!A:B,2,0))","v":""}]
[null,null,null,null,null,null,{"$f":"IF(E457=\"\",\"\",VLOOKUP(E457,'Base Calcul'!A:B,2,0))","v":""}]
[null,null,null,null,null,null,{"$f":"IF(E458=\"\",\"\",VLOOKUP(E458,'Base Calcul'!A:B,2,0))","v":""}]
[null,null,null,null,null,null,{"$f":"IF(E459=\"\",\"\",VLOOKUP(E459,'Base Calcul'!A:B,2,0))","v":""}]
[null,null,null,null,null,null,{"$f":"IF(E460=\"\",\"\",VLOOKUP(E460,'Base Calcul'!A:B,2,0))","v":""}]
[null,null,null,null,null,null,{"$f":"IF(E461=\"\",\"\",VLOOKUP(E461,'Base Calcul'!A:B,2,0))","v":""}]
[null,null,null,null,null,null,{"$f":"IF(E462=\"\",\"\",VLOOKUP(E462,'Base Calcul'!A:B,2,0))","v":""}]
[null,null,null,null,null,null,{"$f":"IF(E463=\"\",\"\",VLOOKUP(E463,'Base Calcul'!A:B,2,0))","v":""}]
[null,null,null,null,null,null,{"$f":"IF(E464=\"\",\"\",VLOOKUP(E464,'Base Calcul'!A:B,2,0))","v":""}]
[null,null,null,null,null,null,{"$f":"IF(E465=\"\",\"\",VLOOKUP(E465,'Base Calcul'!A:B,2,0))","v":""}]
[null,null,null,null,null,null,{"$f":"IF(E466=\"\",\"\",VLOOKUP(E466,'Base Calcul'!A:B,2,0))","v":""}]
[null,null,null,null,null,null,{"$f":"IF(E467=\"\",\"\",VLOOKUP(E467,'Base Calcul'!A:B,2,0))","v":""}]
[null,null,null,null,null,null,{"$f":"IF(E468=\"\",\"\",VLOOKUP(E468,'Base Calcul'!A:B,2,0))","v":""}]
[null,null,null,null,null,null,{"$f":"IF(E469=\"\",\"\",VLOOKUP(E469,'Base Calcul'!A:B,2,0))","v":""}]
[null,null,null,null,null,null,{"$f":"IF(E470=\"\",\"\",VLOOKUP(E470,'Base Calcul'!A:B,2,0))","v":""}]
[null,null,null,null,null,null,{"$f":"IF(E471=\"\",\"\",VLOOKUP(E471,'Base Calcul'!A:B,2,0))","v":""}]
[null,null,null,null,null,null,{"$f":"IF(E472=\"\",\"\",VLOOKUP(E472,'Base Calcul'!A:B,2,0))","v":""}]
[null,null,null,null,null,null,{"$f":"IF(E473=\"\",\"\",VLOOKUP(E473,'Base Calcul'!A:B,2,0))","v":""}]
[null,null,null,null,null,null,{"$f":"IF(E474=\"\",\"\",VLOOKUP(E474,'Base Calcul'!A:B,2,0))","v":""}]
[null,null,null,null,null,null,{"$f":"IF(E475=\"\",\"\",VLOOKUP(E475,'Base Calcul'!A:B,2,0))","v":""}]
[null,null,null,null,null,null,{"$f":"IF(E476=\"\",\"\",VLOOKUP(E476,'Base Calcul'!A:B,2,0))","v":""}]
[null,null,null,null,null,null,{"$f":"IF(E477=\"\",\"\",VLOOKUP(E477,'Base Calcul'!A:B,2,0))","v":""}]
[null,null,null,null,null,null,{"$f":"IF(E478=\"\",\"\",VLOOKUP(E478,'Base Calcul'!A:B,2,0))","v":""}]
[null,null,null,null,null,null,{"$f":"IF(E479=\"\",\"\",VLOOKUP(E479,'Base Calcul'!A:B,2,0))","v":""}]
[null,null,null,null,null,null,{"$f":"IF(E480=\"\",\"\",VLOOKUP(E480,'Base Calcul'!A:B,2,0))","v":""}]
[null,null,null,null,null,null,{"$f":"IF(E481=\"\",\"\",VLOOKUP(E481,'Base Calcul'!A:B,2,0))","v":""}]
[null,null,null,null,null,null,{"$f":"IF(E482=\"\",\"\",VLOOKUP(E482,'Base Calcul'!A:B,2,0))","v":""}]
[null,null,null,null,null,null,{"$f":"IF(E483=\"\",\"\",VLOOKUP(E483,'Base Calcul'!A:B,2,0))","v":""}]
[null,null,null,null,null,null,{"$f":"IF(E484=\"\",\"\",VLOOKUP(E484,'Base Calcul'!A:B,2,0))","v":""}]
[null,null,null,null,null,null,{"$f":"IF(E485=\"\",\"\",VLOOKUP(E485,'Base Calcul'!A:B,2,0))","v":""}]
[null,null,null,null,null,null,{"$f":"IF(E486=\"\",\"\",VLOOKUP(E486,'Base Calcul'!A:B,2,0))","v":""}]
[null,null,null,null,null,null,{"$f":"IF(E487=\"\",\"\",VLOOKUP(E487,'Base Calcul'!A:B,2,0))","v":""}]
[null,null,null,null,null,null,{"$f":"IF(E488=\"\",\"\",VLOOKUP(E488,'Base Calcul'!A:B,2,0))","v":""}]
[null,null,null,null,null,null,{"$f":"IF(E489=\"\",\"\",VLOOKUP(E489,'Base Calcul'!A:B,2,0))","v":""}]
[null,null,null,null,null,null,{"$f":"IF(E490=\"\",\"\",VLOOKUP(E490,'Base Calcul'!A:B,2,0))","v":""}]
[null,null,null,null,null,null,{"$f":"IF(E491=\"\",\"\",VLOOKUP(E491,'Base Calcul'!A:B,2,0))","v":""}]
[null,null,null,null,null,null,{"$f":"IF(E492=\"\",\"\",VLOOKUP(E492,'Base Calcul'!A:B,2,0))","v":""}]
[null,null,null,null,null,null,{"$f":"IF(E493=\"\",\"\",VLOOKUP(E493,'Base Calcul'!A:B,2,0))","v":""}]
[null,null,null,null,null,null,{"$f":"IF(E494=\"\",\"\",VLOOKUP(E494,'Base Calcul'!A:B,2,0))","v":""}]
[null,null,null,null,null,null,{"$f":"IF(E495=\"\",\"\",VLOOKUP(E495,'Base Calcul'!A:B,2,0))","v":""}]
[null,null,null,null,null,null,{"$f":"IF(E496=\"\",\"\",VLOOKUP(E496,'Base Calcul'!A:B,2,0))","v":""}]
[null,null,null,null,null,null,{"$f":"IF(E497=\"\",\"\",VLOOKUP(E497,'Base Calcul'!A:B,2,0))","v":""}]
[null,null,null,null,null,null,{"$f":"IF(E498=\"\",\"\",VLOOKUP(E498,'Base Calcul'!A:B,2,0))","v":""}]
[null,null,null,null,null,null,{"$f":"IF(E499=\"\",\"\",VLOOKUP(E499,'Base Calcul'!A:B,2,0))","v":""}]
[null,null,null,null,null,null,{"$f":"IF(E500=\"\",\"\",VLOOKUP(E500,'Base Calcul'!A:B,2,0))","v":""}]
[null,null,null,null,null,null,{"$f":"IF(E501=\"\",\"\",VLOOKUP(E501,'Base Calcul'!A:B,2,0))","v":""}]

{"sheet":"Base Calcul","index":4,"n_rows":9,"n_cols":13,"rows_kept":9,"cut":false,"hidden":true,"merged":[[0,10,8,10],[0,8,5,8],[0,3,4,3],[0,6,6,6]]}
["Enseignants qualifiés",40000,"M","Farchana","Primaire","Dar Esalam ","Treguine","Darfour","Gaga","Darfour","Breidjing","Aboubakar A","Farchana"]
["Enseignants  Formés",36000,"F",null,"Moyen","Darfour",null,"Djanna",null,"Djabal Marra",null,"Aboubakar B","Gaga"]
["Gardiens d'école",12000,null,null,null,"Dirdjel ",null,"Khalid",null,"Gaga",null,"Abouhoureira","Treguine"]
["Inspecteur/PF",48000,null,null,null,"Doroty",null,"Nassour",null,"Ladjine",null,"Ali","Bredjing"]
["Directeur CEG",45000,null,null,null,"CEG Kadja",null,"Wadi Kadja",null,"Kadja",null,"Oum Alkhoura"]
["Directeur Etude ",45000,null,null,null,null,null,"Zoulnourene",null,"CEG Daoud Bolat",null,"Oumar"]
["Directeur Primaire ",45000,null,null,null,null,null,"CEG Treguine",null,null,null,"Ousmane"]
[null,null,null,null,null,null,null,null,null,null,null,"Alzahra"]
[null,null,null,null,null,null,null,null,null,null,null,"CEG Breidjing Camp"]

{"sheet":"Etat de Paiement","index":5,"n_rows":404,"n_cols":8,"rows_kept":404,"cut":false,"hidden":false,"merged":[[7,0,8,7],[9,5,9,7],[9,1,9,2]]}
[]
[]
[]
[]
[]
[]
[]
[" FICHE DE PAIEMENT DES PRIMES DES ENSEIGNANTS"]
[]
["Camp :",{"$f":"+ACCUEIL!F5","v":"Gaga"},null,null,"Niveau :",{"$f":"+ACCUEIL!F6","v":"Primaire"}]
["N° carte Réfugié","Noms et Prenoms","Sexe","Fonction","Classe","Montant Partenaire","Montant  APE","Signature"]
[{"$f":"IFERROR(INDIRECT($B$10&\"!\"&IF($F$10=\"primaire\",\"a\",\"i\")&ROW()-8),\"\")","v":"431-00007985"},{"$f":"IFERROR(INDIRECT($B$10&\"!\"&IF($F$10=\"primaire\",\"b\",\"j\")&ROW()-8),\"\")","v":"Fatima Daoud Ahmat"},{"$f":"IFERROR(INDIRECT($B$10&\"!\"&IF($F$10=\"primaire\",\"c\",\"k\")&ROW()-8),\"\")","v":0},null,null,{"$f":"IFERROR(INDIRECT($B$10&\"!\"&IF($F$10=\"primaire\",\"g\",\"o\")&ROW()-8),\"\")","v":40000}]
[{"$f":"IFERROR(INDIRECT($B$10&\"!\"&IF($F$10=\"primaire\",\"a\",\"i\")&ROW()-8),\"\")","v":"431-00000449"},"Issa Souleyman Adam",0,null,null,40000]
["431-00020034","Mahamat Brémé Mahamat ",0,null,null,40000]
["431-00004799","Ahmat Adam Abdallah",0,null,null,36000]
["431-00004204","Cherif Abdallah Adam",0,null,null,36000]
["431-00010206","Fatima Hamza Ahmat",0,null,null,36000]
["431-00010341","Hassaballh Ahmat Ibrahim",0,null,null,36000]
["431-00010625","Hassan Abdarhaman Mahamat",0,null,null,36000]
["431-00010392","Ibrahim Sidik Ibrahim",0,null,null,36000]
["431-00009873","Khadija Hachim Timan",0,null,null,36000]
["431-00030991","Khalid Yagoub Abdellh",0,null,null,36000]
["431-00004849","Mahamat Yacoub Souleymane",0,null,null,36000]
["NB","Abakar Adam Ousman",0,null,null,12000]
["NB","Garandya Adam Abdallah",0,null,null,12000]
["NB","Issa Khamis Oumar",0,null,null,12000]
["NB","Aboubakar Mahamat Banda",0,null,null,40000]
["NB","Saadallah Ahmat Ibrahim",0,null,null,40000]
["431-00020075","Abdoulsamat Youssif Mahamat",0,null,null,36000]
["431-00009557","Ibrahim Yaya Abdoul-gadir",0,null,null,36000]
["431-00014340","Alhafiz adouma adam",0,null,null,36000]
["431-00007651","Amina Ibrahim Souleymane",0,null,null,36000]
["4310-0071275","Attahir Adam Ibrahim",0,null,null,36000]
["431-00026900","Fatima Ahmat Abdolmaola",0,null,null,36000]
["431-00005059","Mahamat Moussa Matar Issa",0,null,null,36000]
["431-00006681","Manahil Ahmat Attahir Idriss",0,null,null,36000]
["431-00003656","Nouradine Ahmat Abdallah",0,null,null,36000]
["431-00010334","Ousman Khatir Djibrine",0,null,null,36000]
["431-00008188","Salha Abderahmane Yacoub",0,null,null,36000]
["NB","Abdallah Souleman Adam",0,null,null,12000]
["NB","Achat Zakaria Arabi",0,null,null,12000]
["NB","Khatir Djibrine Khamiss",0,null,null,12000]
["339-00016854","Habiba Yahya Ahmat",0,null,null,40000]
["431-00006947","Hamid Mahamat Ibrahim",0,null,null,40000]
["431-00025596","Taha Mahamat Yahya",0,null,null,40000]
["431-00008790","Noura Adam Khatir",0,null,null,40000]
["431-00009897","Abdel-Aziz Ali Yahya Oumar",0,null,null,36000]
["431-00007443","Abdoul-Aziz Zakaria Ibrahim",0,null,null,36000]
["431-00019392","Abdramane Adam Ibrahim",0,null,null,36000]
["431-00008510","Achta Khamis Ahmat",0,null,null,36000]
["431-00001342","Baharadine Mahamat Alhadj",0,null,null,36000]
["431-00006129","Chekhadine Souleymane Hassan",0,null,null,36000]
["431-00013625","Issak Abderrahman Oumar",0,null,null,36000]
["431-00005646","Mahamat hassan Ibrahim",0,null,null,36000]
["431-00013619","Nadjawa Issakh Hassan",0,null,null,36000]
["431-00004521","Nassima Ousman Barra",0,null,null,36000]
["431-00012204","Soumaya souleymane Ahmat",0,null,null,36000]
["NB","Issakh Abakar Idriss",0,null,null,12000]
["NB","Souleymane Matar Abakar",0,null,null,12000]
["NB","Hawa Hamat Mahamat",0,null,null,12000]
["339-00011353","Nouradine Ibrahim Abdallah",0,null,null,40000]
["431-00007187","Alhadi Ramadan Ibrahim",0,null,null,36000]
["431-00008989","Ahmat Mahamat Banda",0,null,null,36000]
["431-00013164","Aicha Mahamat Issakh",0,null,null,36000]
["431-00030978","Alnazir Ibrahim Fadoul",0,null,null,36000]
["431-00013720","Fadillah Djouma Arbab",0,null,null,36000]
["431-00019831","Ibrahim Mahamat yaya",0,null,null,36000]
["431-00024203","Mahamat khamis Idriss",0,null,null,36000]
["431-00009212","Nousradine Mahamat Atim",0,null,null,36000]
["431-00012204","Soumeya abderrahman Adam",0,null,null,36000]
["431-00013627","Taiba Abdraman Oumar",0,null,null,36000]
["431-00007607","Yassine Deye Ismail",0,null,null,36000]
["431-00007189","Zeinab Ramadan Ibrahim",0,null,null,36000]
["NB","Djouma Mahamat Adam",0,null,null,12000]
["NB","Mariam Abdallah Iregua",0,null,null,12000]
[{"$f":"IFERROR(INDIRECT($B$10&\"!\"&IF($F$10=\"primaire\",\"a\",\"i\")&ROW()-8),\"\")","v":"NB"},{"$f":"IFERROR(INDIRECT($B$10&\"!\"&IF($F$10=\"primaire\",\"b\",\"j\")&ROW()-8),\"\")","v":"Saleh Mht Abakar"},{"$f":"IFERROR(INDIRECT($B$10&\"!\"&IF($F$10=\"primaire\",\"c\",\"k\")&ROW()-8),\"\")","v":0},null,null,{"$f":"IFERROR(INDIRECT($B$10&\"!\"&IF($F$10=\"primaire\",\"g\",\"o\")&ROW()-8),\"\")","v":12000}]
["431-00005943","Abdelmejid Mahamat Abdallh",0,null,null,40000]
["431-00007888","Adam Abdelkhadir Ibrahim",0,null,null,40000]
["431-00012589","Hawaye Mahamat Adam",0,null,null,40000]
["431-00015618","Souraya Issakh Hassan",0,null,null,40000]
["431-00009425","Aboubakar Abdallah Sinine",0,null,null,36000]
["431-00008413","Adam Hassan Abdallah",0,null,null,36000]
["431-00123879","Adam khatir Hassan ",0,null,null,36000]
["431-00009059","Amira Sinine Abdramane",0,null,null,36000]
["431-00010346","Annour Ahmat Ibrahim",0,null,null,36000]
["431-00004847","Fatima Yacoub Souleyman",0,null,null,36000]
["431-00007618","Hamdan Khatir Mahamat",0,null,null,36000]
["431-00026058","Mahamat Abakar Adam ",0,null,null,36000]
["431-00003705","Mahamat Ali Yahya Oumar",0,null,null,36000]
["431-00001434","Salahadine Issak Adam",0,null,null,36000]
["NB","Arbab Ahmed Ibrahim ",0,null,null,12000]
["NB","Habiba Ibrahim Doud",0,null,null,12000]
["NB","Hassan Bechir Adam",0,null,null,12000]
["NB","Adam Abakar Mamoud",0,null,null,12000]
[0,0,0,null,null,""]
[0,0,0,null,null,""]
[0,0,0,null,null,""]
[0,0,0,null,null,""]
[0,0,0,null,null,""]
[0,0,0,null,null,""]
[0,0,0,null,null,""]
[0,0,0,null,null,""]
[0,0,0,null,null,""]
[0,0,0,null,null,""]
[0,0,0,null,null,""]
[0,0,0,null,null,""]
[0,0,0,null,null,""]
[0,0,0,null,null,""]
[0,0,0,null,null,""]
[0,0,0,null,null,""]
[0,0,0,null,null,""]
[0,0,0,null,null,""]
[0,0,0,null,null,""]
[0,0,0,null,null,""]
[0,0,0,null,null,""]
[0,0,0,null,null,""]
[0,0,0,null,null,""]
[0,0,0,null,null,""]
[0,0,0,null,null,""]
[0,0,0,null,null,""]
[0,0,0,null,null,""]
[0,0,0,null,null,""]
[0,0,0,null,null,""]
[0,0,0,null,null,""]
[0,0,0,null,null,""]
[0,0,0,null,null,""]
[0,0,0,null,null,""]
[0,0,0,null,null,""]
[0,0,0,null,null,""]
[0,0,0,null,null,""]
[0,0,0,null,null,""]
[0,0,0,null,null,""]
[0,0,0,null,null,""]
[0,0,0,null,null,""]
[0,0,0,null,null,""]
[0,0,0,null,null,""]
[0,0,0,null,null,""]
[0,0,0,null,null,""]
[0,0,0,null,null,""]
[{"$f":"IFERROR(INDIRECT($B$10&\"!\"&IF($F$10=\"primaire\",\"a\",\"i\")&ROW()-8),\"\")","v":0},{"$f":"IFERROR(INDIRECT($B$10&\"!\"&IF($F$10=\"primaire\",\"b\",\"j\")&ROW()-8),\"\")","v":0},{"$f":"IFERROR(INDIRECT($B$10&\"!\"&IF($F$10=\"primaire\",\"c\",\"k\")&ROW()-8),\"\")","v":0},null,null,{"$f":"IFERROR(INDIRECT($B$10&\"!\"&IF($F$10=\"primaire\",\"g\",\"o\")&ROW()-8),\"\")","v":""}]
[0,0,0,null,null,""]
[0,0,0,null,null,""]
[0,0,0,null,null,""]
[0,0,0,null,null,""]
[0,0,0,null,null,0]
[0,0,0,null,null,0]
[0,0,0,null,null,0]
[0,0,0,null,null,0]
[0,0,0,null,null,0]
[0,0,0,null,null,0]
[0,0,0,null,null,0]
[0,0,0,null,null,0]
[0,0,0,null,null,0]
[0,0,0,null,null,0]
[0,0,0,null,null,0]
[0,0,0,null,null,0]
[0,0,0,null,null,0]
[0,0,0,null,null,0]
[0,0,0,null,null,0]
[0,0,0,null,null,0]
[0,0,0,null,null,0]
[0,0,0,null,null,0]
[0,0,0,null,null,0]
[0,0,0,null,null,0]
[0,0,0,null,null,0]
[0,0,0,null,null,0]
[0,0,0,null,null,0]
[0,0,0,null,null,0]
[0,0,0,null,null,0]
[0,0,0,null,null,0]
[0,0,0,null,null,0]
[0,0,0,null,null,0]
[0,0,0,null,null,0]
[0,0,0,null,null,0]
[0,0,0,null,null,0]
[0,0,0,null,null,0]
[0,0,0,null,null,0]
[0,0,0,null,null,0]
[0,0,0,null,null,0]
[0,0,0,null,null,0]
[0,0,0,null,null,0]
[0,0,0,null,null,0]
[0,0,0,null,null,0]
[0,0,0,null,null,0]
[0,0,0,null,null,0]
[0,0,0,null,null,0]
[0,0,0,null,null,0]
[0,0,0,null,null,0]
[0,0,0,null,null,0]
[0,0,0,null,null,0]
[0,0,0,null,null,0]
[0,0,0,null,null,0]
[0,0,0,null,null,0]
[0,0,0,null,null,0]
[0,0,0,null,null,0]
[0,0,0,null,null,0]
[0,0,0,null,null,0]
[0,0,0,null,null,0]
[0,0,0,null,null,0]
[0,0,0,null,null,0]
[0,0,0,null,null,0]
[0,0,0,null,null,0]
[0,0,0,null,null,0]
[{"$f":"IFERROR(INDIRECT($B$10&\"!\"&IF($F$10=\"primaire\",\"a\",\"i\")&ROW()-8),\"\")","v":0},{"$f":"IFERROR(INDIRECT($B$10&\"!\"&IF($F$10=\"primaire\",\"b\",\"j\")&ROW()-8),\"\")","v":0},{"$f":"IFERROR(INDIRECT($B$10&\"!\"&IF($F$10=\"primaire\",\"c\",\"k\")&ROW()-8),\"\")","v":0},null,null,{"$f":"IFERROR(INDIRECT($B$10&\"!\"&IF($F$10=\"primaire\",\"g\",\"o\")&ROW()-8),\"\")","v":0}]
[0,0,0,null,null,0]
[0,0,0,null,null,0]
[0,0,0,null,null,0]
[0,0,0,null,null,0]
[0,0,0,null,null,0]
[0,0,0,null,null,0]
[0,0,0,null,null,0]
[0,0,0,null,null,0]
[0,0,0,null,null,0]
[0,0,0,null,null,0]
[0,0,0,null,null,0]
[0,0,0,null,null,0]
[0,0,0,null,null,0]
[0,0,0,null,null,0]
[0,0,0,null,null,0]
[0,0,0,null,null,0]
[0,0,0,null,null,0]
[0,0,0,null,null,0]
[0,0,0,null,null,0]
[0,0,0,null,null,0]
[0,0,0,null,null,0]
[0,0,0,null,null,0]
[0,0,0,null,null,0]
[0,0,0,null,null,0]
[0,0,0,null,null,0]
[0,0,0,null,null,0]
[0,0,0,null,null,0]
[0,0,0,null,null,0]
[0,0,0,null,null,0]
[0,0,0,null,null,0]
[0,0,0,null,null,0]
[0,0,0,null,null,0]
[0,0,0,null,null,0]
[0,0,0,null,null,0]
[0,0,0,null,null,0]
[0,0,0,null,null,0]
[0,0,0,null,null,0]
[0,0,0,null,null,0]
[0,0,0,null,null,0]
[0,0,0,null,null,0]
[0,0,0,null,null,0]
[0,0,0,null,null,0]
[0,0,0,null,null,0]
[0,0,0,null,null,0]
[0,0,0,null,null,0]
[0,0,0,null,null,0]
[0,0,0,null,null,0]
[0,0,0,null,null,0]
[0,0,0,null,null,0]
[0,0,0,null,null,0]
[0,0,0,null,null,0]
[0,0,0,null,null,0]
[0,0,0,null,null,0]
[0,0,0,null,null,0]
[0,0,0,null,null,0]
[0,0,0,null,null,0]
[0,0,0,null,null,0]
[0,0,0,null,null,0]
[0,0,0,null,null,0]
[0,0,0,null,null,0]
[0,0,0,null,null,0]
[0,0,0,null,null,0]
[0,0,0,null,null,0]
[{"$f":"IFERROR(INDIRECT($B$10&\"!\"&IF($F$10=\"primaire\",\"a\",\"i\")&ROW()-8),\"\")","v":0},{"$f":"IFERROR(INDIRECT($B$10&\"!\"&IF($F$10=\"primaire\",\"b\",\"j\")&ROW()-8),\"\")","v":0},{"$f":"IFERROR(INDIRECT($B$10&\"!\"&IF($F$10=\"primaire\",\"c\",\"k\")&ROW()-8),\"\")","v":0},null,null,{"$f":"IFERROR(INDIRECT($B$10&\"!\"&IF($F$10=\"primaire\",\"g\",\"o\")&ROW()-8),\"\")","v":0}]
[0,0,0,null,null,0]
[0,0,0,null,null,0]
[0,0,0,null,null,0]
[0,0,0,null,null,0]
[0,0,0,null,null,0]
[0,0,0,null,null,0]
[0,0,0,null,null,0]
[0,0,0,null,null,0]
[0,0,0,null,null,0]
[0,0,0,null,null,0]
[0,0,0,null,null,0]
[0,0,0,null,null,0]
[0,0,0,null,null,0]
[0,0,0,null,null,0]
[0,0,0,null,null,0]
[0,0,0,null,null,0]
[0,0,0,null,null,0]
[0,0,0,null,null,0]
[0,0,0,null,null,0]
[0,0,0,null,null,0]
[0,0,0,null,null,0]
[0,0,0,null,null,0]
[0,0,0,null,null,0]
[0,0,0,null,null,0]
[0,0,0,null,null,0]
[0,0,0,null,null,0]
[0,0,0,null,null,0]
[0,0,0,null,null,0]
[0,0,0,null,null,0]
[0,0,0,null,null,0]
[0,0,0,null,null,0]
[0,0,0,null,null,0]
[0,0,0,null,null,0]
[0,0,0,null,null,0]
[0,0,0,null,null,0]
[0,0,0,null,null,0]
[0,0,0,null,null,0]
[0,0,0,null,null,0]
[0,0,0,null,null,0]
[0,0,0,null,null,0]
[0,0,0,null,null,0]
[0,0,0,null,null,0]
[0,0,0,null,null,0]
[0,0,0,null,null,0]
[0,0,0,null,null,0]
[0,0,0,null,null,0]
[0,0,0,null,null,0]
[0,0,0,null,null,0]
[0,0,0,null,null,0]
[0,0,0,null,null,0]
[0,0,0,null,null,0]
[0,0,0,null,null,0]
[0,0,0,null,null,0]
[0,0,0,null,null,0]
[0,0,0,null,null,0]
[0,0,0,null,null,0]
[0,0,0,null,null,0]
[0,0,0,null,null,0]
[0,0,0,null,null,0]
[0,0,0,null,null,0]
[0,0,0,null,null,0]
[0,0,0,null,null,0]
[0,0,0,null,null,0]
[{"$f":"IFERROR(INDIRECT($B$10&\"!\"&IF($F$10=\"primaire\",\"a\",\"i\")&ROW()-8),\"\")","v":0},{"$f":"IFERROR(INDIRECT($B$10&\"!\"&IF($F$10=\"primaire\",\"b\",\"j\")&ROW()-8),\"\")","v":0},{"$f":"IFERROR(INDIRECT($B$10&\"!\"&IF($F$10=\"primaire\",\"c\",\"k\")&ROW()-8),\"\")","v":0},null,null,{"$f":"IFERROR(INDIRECT($B$10&\"!\"&IF($F$10=\"primaire\",\"g\",\"o\")&ROW()-8),\"\")","v":0}]
[0,0,0,null,null,0]
[0,0,0,null,null,0]
[0,0,0,null,null,0]
[0,0,0,null,null,0]
[0,0,0,null,null,0]
[0,0,0,null,null,0]
[0,0,0,null,null,0]
[0,0,0,null,null,0]
[0,0,0,null,null,0]
[0,0,0,null,null,0]
[0,0,0,null,null,0]
[0,0,0,null,null,0]
[0,0,0,null,null,0]
[0,0,0,null,null,0]
[0,0,0,null,null,0]
[0,0,0,null,null,0]
[0,0,0,null,null,0]
[0,0,0,null,null,0]
[0,0,0,null,null,0]
[0,0,0,null,null,0]
[0,0,0,null,null,0]
[0,0,0,null,null,0]
[0,0,0,null,null,0]
[0,0,0,null,null,0]
[0,0,0,null,null,0]
[0,0,0,null,null,0]
[0,0,0,null,null,0]
[0,0,0,null,null,0]
[0,0,0,null,null,0]
[0,0,0,null,null,0]
[0,0,0,null,null,0]
[0,0,0,null,null,0]
[0,0,0,null,null,0]
[0,0,0,null,null,0]
[0,0,0,null,null,0]
[0,0,0,null,null,0]
[0,0,0,null,null,0]
[0,0,0,null,null,0]
[0,0,0,null,null,0]
[0,0,0,null,null,0]
[0,0,0,null,null,0]
[0,0,0,null,null,0]
[0,0,0,null,null,0]
[0,0,0,null,null,0]
[0,0,0,null,null,0]
[0,0,0,null,null,0]
[0,0,0,null,null,0]
[0,0,0,null,null,0]
[0,0,0,null,null,0]
[0,0,0,null,null,0]
[0,0,0,null,null,0]
[0,0,0,null,null,0]
[0,0,0,null,null,0]
[0,0,0,null,null,0]
[0,0,0,null,null,0]
[0,0,0,null,null,0]
[0,0,0,null,null,0]
[0,0,0,null,null,0]
[0,0,0,null,null,0]
[0,0,0,null,null,0]
[0,0,0,null,null,0]
[0,0,0,null,null,0]
[0,0,0,null,null,0]
[{"$f":"IFERROR(INDIRECT($B$10&\"!\"&IF($F$10=\"primaire\",\"a\",\"i\")&ROW()-8),\"\")","v":0},{"$f":"IFERROR(INDIRECT($B$10&\"!\"&IF($F$10=\"primaire\",\"b\",\"j\")&ROW()-8),\"\")","v":0},{"$f":"IFERROR(INDIRECT($B$10&\"!\"&IF($F$10=\"primaire\",\"c\",\"k\")&ROW()-8),\"\")","v":0},null,null,{"$f":"IFERROR(INDIRECT($B$10&\"!\"&IF($F$10=\"primaire\",\"g\",\"o\")&ROW()-8),\"\")","v":0}]
[0,0,0,null,null,0]
[0,0,0,null,null,0]
[0,0,0,null,null,0]
[0,0,0,null,null,0]
[0,0,0,null,null,0]
[0,0,0,null,null,0]
[0,0,0,null,null,0]
[0,0,0,null,null,0]

{"sheet":"Etat Bredjing","index":6,"n_rows":404,"n_cols":10,"rows_kept":404,"cut":false,"hidden":true,"merged":[[7,0,8,7],[9,1,9,2],[9,5,9,7]]}
[]
[]
[]
[]
[]
[]
[]
[" FICHE DE PAIEMENT DES PRIMES DES ENSEIGNANTS"]
[]
["Camp :",null,null,null,"Niveau :","Primaire"]
["N° carte Réfugié","Noms et Prenoms","Sexe","Fonction","Classe","Montant Partenaire","Montant  APE","Signature"]
[{"$f":"IF($B$10=\"Farchana\",Farchana!#REF!,IF($B$10=\"Gaga\",Gaga!A4,IF($B$10=\"Treguine\",Treguine!A4,IF($B$10=\"Bredjing\",Bredjing!A4,\"\"))))","v":""},{"$f":"IF($B$10=\"Farchana\",Farchana!#REF!,IF($B$10=\"Gaga\",Gaga!B4,IF($B$10=\"Treguine\",Treguine!B4,IF($B$10=\"Bredjing\",Bredjing!B4,\"\"))))","v":""},{"$f":"IF($B$10=\"Farchana\",Farchana!#REF!,IF($B$10=\"Gaga\",Gaga!C4,IF($B$10=\"Treguine\",Treguine!C4,IF($B$10=\"Bredjing\",Bredjing!C4,\"\"))))","v":""},null,null,{"$f":"IF($B$10=\"Farchana\",Farchana!#REF!,IF($B$10=\"Gaga\",Gaga!I4,IF($B$10=\"Treguine\",Treguine!G4,IF($B$10=\"Bredjing\",Bredjing!G4,\"\"))))","v":""}]
[{"$f":"IF($B$10=\"Farchana\",Farchana!#REF!,IF($B$10=\"Gaga\",Gaga!A5,IF($B$10=\"Treguine\",Treguine!A5,IF($B$10=\"Bredjing\",Bredjing!A5,\"\"))))","v":""},{"$f":"IF($B$10=\"Farchana\",Farchana!#REF!,IF($B$10=\"Gaga\",Gaga!B5,IF($B$10=\"Treguine\",Treguine!B5,IF($B$10=\"Bredjing\",Bredjing!B5,\"\"))))","v":""},{"$f":"IF($B$10=\"Farchana\",Farchana!#REF!,IF($B$10=\"Gaga\",Gaga!C5,IF($B$10=\"Treguine\",Treguine!C5,IF($B$10=\"Bredjing\",Bredjing!C5,\"\"))))","v":""},null,null,{"$f":"IF($B$10=\"Farchana\",Farchana!#REF!,IF($B$10=\"Gaga\",Gaga!I5,IF($B$10=\"Treguine\",Treguine!G5,IF($B$10=\"Bredjing\",Bredjing!G5,\"\"))))","v":""}]
[{"$f":"IF($B$10=\"Farchana\",Farchana!#REF!,IF($B$10=\"Gaga\",Gaga!A6,IF($B$10=\"Treguine\",Treguine!A6,IF($B$10=\"Bredjing\",Bredjing!A6,\"\"))))","v":""},{"$f":"IF($B$10=\"Farchana\",Farchana!#REF!,IF($B$10=\"Gaga\",Gaga!B6,IF($B$10=\"Treguine\",Treguine!B6,IF($B$10=\"Bredjing\",Bredjing!B6,\"\"))))","v":""},{"$f":"IF($B$10=\"Farchana\",Farchana!#REF!,IF($B$10=\"Gaga\",Gaga!C6,IF($B$10=\"Treguine\",Treguine!C6,IF($B$10=\"Bredjing\",Bredjing!C6,\"\"))))","v":""},null,null,{"$f":"IF($B$10=\"Farchana\",Farchana!#REF!,IF($B$10=\"Gaga\",Gaga!I6,IF($B$10=\"Treguine\",Treguine!G6,IF($B$10=\"Bredjing\",Bredjing!G6,\"\"))))","v":""}]
[{"$f":"IF($B$10=\"Farchana\",Farchana!#REF!,IF($B$10=\"Gaga\",Gaga!A7,IF($B$10=\"Treguine\",Treguine!A7,IF($B$10=\"Bredjing\",Bredjing!A7,\"\"))))","v":""},{"$f":"IF($B$10=\"Farchana\",Farchana!#REF!,IF($B$10=\"Gaga\",Gaga!B7,IF($B$10=\"Treguine\",Treguine!B7,IF($B$10=\"Bredjing\",Bredjing!B7,\"\"))))","v":""},{"$f":"IF($B$10=\"Farchana\",Farchana!#REF!,IF($B$10=\"Gaga\",Gaga!C7,IF($B$10=\"Treguine\",Treguine!C7,IF($B$10=\"Bredjing\",Bredjing!C7,\"\"))))","v":""},null,null,{"$f":"IF($B$10=\"Farchana\",Farchana!#REF!,IF($B$10=\"Gaga\",Gaga!I7,IF($B$10=\"Treguine\",Treguine!G7,IF($B$10=\"Bredjing\",Bredjing!G7,\"\"))))","v":""}]
[{"$f":"IF($B$10=\"Farchana\",Farchana!#REF!,IF($B$10=\"Gaga\",Gaga!A8,IF($B$10=\"Treguine\",Treguine!A8,IF($B$10=\"Bredjing\",Bredjing!A8,\"\"))))","v":""},{"$f":"IF($B$10=\"Farchana\",Farchana!#REF!,IF($B$10=\"Gaga\",Gaga!B8,IF($B$10=\"Treguine\",Treguine!B8,IF($B$10=\"Bredjing\",Bredjing!B8,\"\"))))","v":""},{"$f":"IF($B$10=\"Farchana\",Farchana!#REF!,IF($B$10=\"Gaga\",Gaga!C8,IF($B$10=\"Treguine\",Treguine!C8,IF($B$10=\"Bredjing\",Bredjing!C8,\"\"))))","v":""},null,null,{"$f":"IF($B$10=\"Farchana\",Farchana!#REF!,IF($B$10=\"Gaga\",Gaga!I8,IF($B$10=\"Treguine\",Treguine!G8,IF($B$10=\"Bredjing\",Bredjing!G8,\"\"))))","v":""}]
[{"$f":"IF($B$10=\"Farchana\",Farchana!#REF!,IF($B$10=\"Gaga\",Gaga!A9,IF($B$10=\"Treguine\",Treguine!A9,IF($B$10=\"Bredjing\",Bredjing!A9,\"\"))))","v":""},{"$f":"IF($B$10=\"Farchana\",Farchana!#REF!,IF($B$10=\"Gaga\",Gaga!B9,IF($B$10=\"Treguine\",Treguine!B9,IF($B$10=\"Bredjing\",Bredjing!B9,\"\"))))","v":""},{"$f":"IF($B$10=\"Farchana\",Farchana!#REF!,IF($B$10=\"Gaga\",Gaga!C9,IF($B$10=\"Treguine\",Treguine!C9,IF($B$10=\"Bredjing\",Bredjing!C9,\"\"))))","v":""},null,null,{"$f":"IF($B$10=\"Farchana\",Farchana!#REF!,IF($B$10=\"Gaga\",Gaga!I9,IF($B$10=\"Treguine\",Treguine!G9,IF($B$10=\"Bredjing\",Bredjing!G9,\"\"))))","v":""}]
[{"$f":"IF($B$10=\"Farchana\",Farchana!#REF!,IF($B$10=\"Gaga\",Gaga!A10,IF($B$10=\"Treguine\",Treguine!A10,IF($B$10=\"Bredjing\",Bredjing!A10,\"\"))))","v":""},{"$f":"IF($B$10=\"Farchana\",Farchana!#REF!,IF($B$10=\"Gaga\",Gaga!B10,IF($B$10=\"Treguine\",Treguine!B10,IF($B$10=\"Bredjing\",Bredjing!B10,\"\"))))","v":""},{"$f":"IF($B$10=\"Farchana\",Farchana!#REF!,IF($B$10=\"Gaga\",Gaga!C10,IF($B$10=\"Treguine\",Treguine!C10,IF($B$10=\"Bredjing\",Bredjing!C10,\"\"))))","v":""},null,null,{"$f":"IF($B$10=\"Farchana\",Farchana!#REF!,IF($B$10=\"Gaga\",Gaga!I10,IF($B$10=\"Treguine\",Treguine!G10,IF($B$10=\"Bredjing\",Bredjing!G10,\"\"))))","v":""}]
[{"$f":"IF($B$10=\"Farchana\",Farchana!#REF!,IF($B$10=\"Gaga\",Gaga!A11,IF($B$10=\"Treguine\",Treguine!A11,IF($B$10=\"Bredjing\",Bredjing!A11,\"\"))))","v":""},{"$f":"IF($B$10=\"Farchana\",Farchana!#REF!,IF($B$10=\"Gaga\",Gaga!B11,IF($B$10=\"Treguine\",Treguine!B11,IF($B$10=\"Bredjing\",Bredjing!B11,\"\"))))","v":""},{"$f":"IF($B$10=\"Farchana\",Farchana!#REF!,IF($B$10=\"Gaga\",Gaga!C11,IF($B$10=\"Treguine\",Treguine!C11,IF($B$10=\"Bredjing\",Bredjing!C11,\"\"))))","v":""},null,null,{"$f":"IF($B$10=\"Farchana\",Farchana!#REF!,IF($B$10=\"Gaga\",Gaga!I11,IF($B$10=\"Treguine\",Treguine!G11,IF($B$10=\"Bredjing\",Bredjing!G11,\"\"))))","v":""}]
[{"$f":"IF($B$10=\"Farchana\",Farchana!#REF!,IF($B$10=\"Gaga\",Gaga!A12,IF($B$10=\"Treguine\",Treguine!A12,IF($B$10=\"Bredjing\",Bredjing!A12,\"\"))))","v":""},{"$f":"IF($B$10=\"Farchana\",Farchana!#REF!,IF($B$10=\"Gaga\",Gaga!B12,IF($B$10=\"Treguine\",Treguine!B12,IF($B$10=\"Bredjing\",Bredjing!B12,\"\"))))","v":""},{"$f":"IF($B$10=\"Farchana\",Farchana!#REF!,IF($B$10=\"Gaga\",Gaga!C12,IF($B$10=\"Treguine\",Treguine!C12,IF($B$10=\"Bredjing\",Bredjing!C12,\"\"))))","v":""},null,null,{"$f":"IF($B$10=\"Farchana\",Farchana!#REF!,IF($B$10=\"Gaga\",Gaga!I12,IF($B$10=\"Treguine\",Treguine!G12,IF($B$10=\"Bredjing\",Bredjing!G12,\"\"))))","v":""}]
[{"$f":"IF($B$10=\"Farchana\",Farchana!#REF!,IF($B$10=\"Gaga\",Gaga!A13,IF($B$10=\"Treguine\",Treguine!A13,IF($B$10=\"Bredjing\",Bredjing!A13,\"\"))))","v":""},{"$f":"IF($B$10=\"Farchana\",Farchana!#REF!,IF($B$10=\"Gaga\",Gaga!B13,IF($B$10=\"Treguine\",Treguine!B13,IF($B$10=\"Bredjing\",Bredjing!B13,\"\"))))","v":""},{"$f":"IF($B$10=\"Farchana\",Farchana!#REF!,IF($B$10=\"Gaga\",Gaga!C13,IF($B$10=\"Treguine\",Treguine!C13,IF($B$10=\"Bredjing\",Bredjing!C13,\"\"))))","v":""},null,null,{"$f":"IF($B$10=\"Farchana\",Farchana!#REF!,IF($B$10=\"Gaga\",Gaga!I13,IF($B$10=\"Treguine\",Treguine!G13,IF($B$10=\"Bredjing\",Bredjing!G13,\"\"))))","v":""}]
[{"$f":"IF($B$10=\"Farchana\",Farchana!#REF!,IF($B$10=\"Gaga\",Gaga!A14,IF($B$10=\"Treguine\",Treguine!A14,IF($B$10=\"Bredjing\",Bredjing!A14,\"\"))))","v":""},{"$f":"IF($B$10=\"Farchana\",Farchana!#REF!,IF($B$10=\"Gaga\",Gaga!B14,IF($B$10=\"Treguine\",Treguine!B14,IF($B$10=\"Bredjing\",Bredjing!B14,\"\"))))","v":""},{"$f":"IF($B$10=\"Farchana\",Farchana!#REF!,IF($B$10=\"Gaga\",Gaga!C14,IF($B$10=\"Treguine\",Treguine!C14,IF($B$10=\"Bredjing\",Bredjing!C14,\"\"))))","v":""},null,null,{"$f":"IF($B$10=\"Farchana\",Farchana!#REF!,IF($B$10=\"Gaga\",Gaga!I14,IF($B$10=\"Treguine\",Treguine!G14,IF($B$10=\"Bredjing\",Bredjing!G14,\"\"))))","v":""}]
[{"$f":"IF($B$10=\"Farchana\",Farchana!#REF!,IF($B$10=\"Gaga\",Gaga!A15,IF($B$10=\"Treguine\",Treguine!A15,IF($B$10=\"Bredjing\",Bredjing!A15,\"\"))))","v":""},{"$f":"IF($B$10=\"Farchana\",Farchana!#REF!,IF($B$10=\"Gaga\",Gaga!B15,IF($B$10=\"Treguine\",Treguine!B15,IF($B$10=\"Bredjing\",Bredjing!B15,\"\"))))","v":""},{"$f":"IF($B$10=\"Farchana\",Farchana!#REF!,IF($B$10=\"Gaga\",Gaga!C15,IF($B$10=\"Treguine\",Treguine!C15,IF($B$10=\"Bredjing\",Bredjing!C15,\"\"))))","v":""},null,null,{"$f":"IF($B$10=\"Farchana\",Farchana!#REF!,IF($B$10=\"Gaga\",Gaga!I15,IF($B$10=\"Treguine\",Treguine!G15,IF($B$10=\"Bredjing\",Bredjing!G15,\"\"))))","v":""}]
[{"$f":"IF($B$10=\"Farchana\",Farchana!#REF!,IF($B$10=\"Gaga\",Gaga!A16,IF($B$10=\"Treguine\",Treguine!A16,IF($B$10=\"Bredjing\",Bredjing!A16,\"\"))))","v":""},{"$f":"IF($B$10=\"Farchana\",Farchana!#REF!,IF($B$10=\"Gaga\",Gaga!B16,IF($B$10=\"Treguine\",Treguine!B16,IF($B$10=\"Bredjing\",Bredjing!B16,\"\"))))","v":""},{"$f":"IF($B$10=\"Farchana\",Farchana!#REF!,IF($B$10=\"Gaga\",Gaga!C16,IF($B$10=\"Treguine\",Treguine!C16,IF($B$10=\"Bredjing\",Bredjing!C16,\"\"))))","v":""},null,null,{"$f":"IF($B$10=\"Farchana\",Farchana!#REF!,IF($B$10=\"Gaga\",Gaga!I16,IF($B$10=\"Treguine\",Treguine!G16,IF($B$10=\"Bredjing\",Bredjing!G16,\"\"))))","v":""}]
[{"$f":"IF($B$10=\"Farchana\",Farchana!#REF!,IF($B$10=\"Gaga\",Gaga!A17,IF($B$10=\"Treguine\",Treguine!A17,IF($B$10=\"Bredjing\",Bredjing!A17,\"\"))))","v":""},{"$f":"IF($B$10=\"Farchana\",Farchana!#REF!,IF($B$10=\"Gaga\",Gaga!B17,IF($B$10=\"Treguine\",Treguine!B17,IF($B$10=\"Bredjing\",Bredjing!B17,\"\"))))","v":""},{"$f":"IF($B$10=\"Farchana\",Farchana!#REF!,IF($B$10=\"Gaga\",Gaga!C17,IF($B$10=\"Treguine\",Treguine!C17,IF($B$10=\"Bredjing\",Bredjing!C17,\"\"))))","v":""},null,null,{"$f":"IF($B$10=\"Farchana\",Farchana!#REF!,IF($B$10=\"Gaga\",Gaga!I17,IF($B$10=\"Treguine\",Treguine!G17,IF($B$10=\"Bredjing\",Bredjing!G17,\"\"))))","v":""}]
[{"$f":"IF($B$10=\"Farchana\",Farchana!#REF!,IF($B$10=\"Gaga\",Gaga!A18,IF($B$10=\"Treguine\",Treguine!A18,IF($B$10=\"Bredjing\",Bredjing!A18,\"\"))))","v":""},{"$f":"IF($B$10=\"Farchana\",Farchana!#REF!,IF($B$10=\"Gaga\",Gaga!B18,IF($B$10=\"Treguine\",Treguine!B18,IF($B$10=\"Bredjing\",Bredjing!B18,\"\"))))","v":""},{"$f":"IF($B$10=\"Farchana\",Farchana!#REF!,IF($B$10=\"Gaga\",Gaga!C18,IF($B$10=\"Treguine\",Treguine!C18,IF($B$10=\"Bredjing\",Bredjing!C18,\"\"))))","v":""},null,null,{"$f":"IF($B$10=\"Farchana\",Farchana!#REF!,IF($B$10=\"Gaga\",Gaga!I18,IF($B$10=\"Treguine\",Treguine!G18,IF($B$10=\"Bredjing\",Bredjing!G18,\"\"))))","v":""}]
[{"$f":"IF($B$10=\"Farchana\",Farchana!#REF!,IF($B$10=\"Gaga\",Gaga!A19,IF($B$10=\"Treguine\",Treguine!A19,IF($B$10=\"Bredjing\",Bredjing!A19,\"\"))))","v":""},{"$f":"IF($B$10=\"Farchana\",Farchana!#REF!,IF($B$10=\"Gaga\",Gaga!B19,IF($B$10=\"Treguine\",Treguine!B19,IF($B$10=\"Bredjing\",Bredjing!B19,\"\"))))","v":""},{"$f":"IF($B$10=\"Farchana\",Farchana!#REF!,IF($B$10=\"Gaga\",Gaga!C19,IF($B$10=\"Treguine\",Treguine!C19,IF($B$10=\"Bredjing\",Bredjing!C19,\"\"))))","v":""},null,null,{"$f":"IF($B$10=\"Farchana\",Farchana!#REF!,IF($B$10=\"Gaga\",Gaga!I19,IF($B$10=\"Treguine\",Treguine!G19,IF($B$10=\"Bredjing\",Bredjing!G19,\"\"))))","v":""}]
[{"$f":"IF($B$10=\"Farchana\",Farchana!#REF!,IF($B$10=\"Gaga\",Gaga!A20,IF($B$10=\"Treguine\",Treguine!A20,IF($B$10=\"Bredjing\",Bredjing!A20,\"\"))))","v":""},{"$f":"IF($B$10=\"Farchana\",Farchana!#REF!,IF($B$10=\"Gaga\",Gaga!B20,IF($B$10=\"Treguine\",Treguine!B20,IF($B$10=\"Bredjing\",Bredjing!B20,\"\"))))","v":""},{"$f":"IF($B$10=\"Farchana\",Farchana!#REF!,IF($B$10=\"Gaga\",Gaga!C20,IF($B$10=\"Treguine\",Treguine!C20,IF($B$10=\"Bredjing\",Bredjing!C20,\"\"))))","v":""},null,null,{"$f":"IF($B$10=\"Farchana\",Farchana!#REF!,IF($B$10=\"Gaga\",Gaga!I20,IF($B$10=\"Treguine\",Treguine!G20,IF($B$10=\"Bredjing\",Bredjing!G20,\"\"))))","v":""}]
[{"$f":"IF($B$10=\"Farchana\",Farchana!#REF!,IF($B$10=\"Gaga\",Gaga!A21,IF($B$10=\"Treguine\",Treguine!A21,IF($B$10=\"Bredjing\",Bredjing!A21,\"\"))))","v":""},{"$f":"IF($B$10=\"Farchana\",Farchana!#REF!,IF($B$10=\"Gaga\",Gaga!B21,IF($B$10=\"Treguine\",Treguine!B21,IF($B$10=\"Bredjing\",Bredjing!B21,\"\"))))","v":""},{"$f":"IF($B$10=\"Farchana\",Farchana!#REF!,IF($B$10=\"Gaga\",Gaga!C21,IF($B$10=\"Treguine\",Treguine!C21,IF($B$10=\"Bredjing\",Bredjing!C21,\"\"))))","v":""},null,null,{"$f":"IF($B$10=\"Farchana\",Farchana!#REF!,IF($B$10=\"Gaga\",Gaga!I21,IF($B$10=\"Treguine\",Treguine!G21,IF($B$10=\"Bredjing\",Bredjing!G21,\"\"))))","v":""}]
[{"$f":"IF($B$10=\"Farchana\",Farchana!#REF!,IF($B$10=\"Gaga\",Gaga!A22,IF($B$10=\"Treguine\",Treguine!A22,IF($B$10=\"Bredjing\",Bredjing!A22,\"\"))))","v":""},{"$f":"IF($B$10=\"Farchana\",Farchana!#REF!,IF($B$10=\"Gaga\",Gaga!B22,IF($B$10=\"Treguine\",Treguine!B22,IF($B$10=\"Bredjing\",Bredjing!B22,\"\"))))","v":""},{"$f":"IF($B$10=\"Farchana\",Farchana!#REF!,IF($B$10=\"Gaga\",Gaga!C22,IF($B$10=\"Treguine\",Treguine!C22,IF($B$10=\"Bredjing\",Bredjing!C22,\"\"))))","v":""},null,null,{"$f":"IF($B$10=\"Farchana\",Farchana!#REF!,IF($B$10=\"Gaga\",Gaga!I22,IF($B$10=\"Treguine\",Treguine!G22,IF($B$10=\"Bredjing\",Bredjing!G22,\"\"))))","v":""}]
[{"$f":"IF($B$10=\"Farchana\",Farchana!A4,IF($B$10=\"Gaga\",Gaga!A23,IF($B$10=\"Treguine\",Treguine!A23,IF($B$10=\"Bredjing\",Bredjing!A23,\"\"))))","v":""},{"$f":"IF($B$10=\"Farchana\",Farchana!B4,IF($B$10=\"Gaga\",Gaga!B23,IF($B$10=\"Treguine\",Treguine!B23,IF($B$10=\"Bredjing\",Bredjing!B23,\"\"))))","v":""},{"$f":"IF($B$10=\"Farchana\",Farchana!C4,IF($B$10=\"Gaga\",Gaga!C23,IF($B$10=\"Treguine\",Treguine!C23,IF($B$10=\"Bredjing\",Bredjing!C23,\"\"))))","v":""},null,null,{"$f":"IF($B$10=\"Farchana\",Farchana!G4,IF($B$10=\"Gaga\",Gaga!I23,IF($B$10=\"Treguine\",Treguine!G23,IF($B$10=\"Bredjing\",Bredjing!G23,\"\"))))","v":""}]
[{"$f":"IF($B$10=\"Farchana\",Farchana!A5,IF($B$10=\"Gaga\",Gaga!A24,IF($B$10=\"Treguine\",Treguine!A24,IF($B$10=\"Bredjing\",Bredjing!A24,\"\"))))","v":""},{"$f":"IF($B$10=\"Farchana\",Farchana!B5,IF($B$10=\"Gaga\",Gaga!B24,IF($B$10=\"Treguine\",Treguine!B24,IF($B$10=\"Bredjing\",Bredjing!B24,\"\"))))","v":""},{"$f":"IF($B$10=\"Farchana\",Farchana!C5,IF($B$10=\"Gaga\",Gaga!C24,IF($B$10=\"Treguine\",Treguine!C24,IF($B$10=\"Bredjing\",Bredjing!C24,\"\"))))","v":""},null,null,{"$f":"IF($B$10=\"Farchana\",Farchana!G5,IF($B$10=\"Gaga\",Gaga!I24,IF($B$10=\"Treguine\",Treguine!G24,IF($B$10=\"Bredjing\",Bredjing!G24,\"\"))))","v":""}]
[{"$f":"IF($B$10=\"Farchana\",Farchana!A6,IF($B$10=\"Gaga\",Gaga!A25,IF($B$10=\"Treguine\",Treguine!A25,IF($B$10=\"Bredjing\",Bredjing!A25,\"\"))))","v":""},{"$f":"IF($B$10=\"Farchana\",Farchana!B6,IF($B$10=\"Gaga\",Gaga!B25,IF($B$10=\"Treguine\",Treguine!B25,IF($B$10=\"Bredjing\",Bredjing!B25,\"\"))))","v":""},{"$f":"IF($B$10=\"Farchana\",Farchana!C6,IF($B$10=\"Gaga\",Gaga!C25,IF($B$10=\"Treguine\",Treguine!C25,IF($B$10=\"Bredjing\",Bredjing!C25,\"\"))))","v":""},null,null,{"$f":"IF($B$10=\"Farchana\",Farchana!G6,IF($B$10=\"Gaga\",Gaga!I25,IF($B$10=\"Treguine\",Treguine!G25,IF($B$10=\"Bredjing\",Bredjing!G25,\"\"))))","v":""}]
[{"$f":"IF($B$10=\"Farchana\",Farchana!A7,IF($B$10=\"Gaga\",Gaga!A26,IF($B$10=\"Treguine\",Treguine!A26,IF($B$10=\"Bredjing\",Bredjing!A26,\"\"))))","v":""},{"$f":"IF($B$10=\"Farchana\",Farchana!B7,IF($B$10=\"Gaga\",Gaga!B26,IF($B$10=\"Treguine\",Treguine!B26,IF($B$10=\"Bredjing\",Bredjing!B26,\"\"))))","v":""},{"$f":"IF($B$10=\"Farchana\",Farchana!C7,IF($B$10=\"Gaga\",Gaga!C26,IF($B$10=\"Treguine\",Treguine!C26,IF($B$10=\"Bredjing\",Bredjing!C26,\"\"))))","v":""},null,null,{"$f":"IF($B$10=\"Farchana\",Farchana!G7,IF($B$10=\"Gaga\",Gaga!I26,IF($B$10=\"Treguine\",Treguine!G26,IF($B$10=\"Bredjing\",Bredjing!G26,\"\"))))","v":""}]
[{"$f":"IF($B$10=\"Farchana\",Farchana!A8,IF($B$10=\"Gaga\",Gaga!A27,IF($B$10=\"Treguine\",Treguine!A27,IF($B$10=\"Bredjing\",Bredjing!A27,\"\"))))","v":""},{"$f":"IF($B$10=\"Farchana\",Farchana!B8,IF($B$10=\"Gaga\",Gaga!B27,IF($B$10=\"Treguine\",Treguine!B27,IF($B$10=\"Bredjing\",Bredjing!B27,\"\"))))","v":""},{"$f":"IF($B$10=\"Farchana\",Farchana!C8,IF($B$10=\"Gaga\",Gaga!C27,IF($B$10=\"Treguine\",Treguine!C27,IF($B$10=\"Bredjing\",Bredjing!C27,\"\"))))","v":""},null,null,{"$f":"IF($B$10=\"Farchana\",Farchana!G8,IF($B$10=\"Gaga\",Gaga!I27,IF($B$10=\"Treguine\",Treguine!G27,IF($B$10=\"Bredjing\",Bredjing!G27,\"\"))))","v":""}]
[{"$f":"IF($B$10=\"Farchana\",Farchana!A9,IF($B$10=\"Gaga\",Gaga!A28,IF($B$10=\"Treguine\",Treguine!A28,IF($B$10=\"Bredjing\",Bredjing!A28,\"\"))))","v":""},{"$f":"IF($B$10=\"Farchana\",Farchana!B9,IF($B$10=\"Gaga\",Gaga!B28,IF($B$10=\"Treguine\",Treguine!B28,IF($B$10=\"Bredjing\",Bredjing!B28,\"\"))))","v":""},{"$f":"IF($B$10=\"Farchana\",Farchana!C9,IF($B$10=\"Gaga\",Gaga!C28,IF($B$10=\"Treguine\",Treguine!C28,IF($B$10=\"Bredjing\",Bredjing!C28,\"\"))))","v":""},null,null,{"$f":"IF($B$10=\"Farchana\",Farchana!G9,IF($B$10=\"Gaga\",Gaga!I28,IF($B$10=\"Treguine\",Treguine!G28,IF($B$10=\"Bredjing\",Bredjing!G28,\"\"))))","v":""}]
[{"$f":"IF($B$10=\"Farchana\",Farchana!A10,IF($B$10=\"Gaga\",Gaga!A29,IF($B$10=\"Treguine\",Treguine!A29,IF($B$10=\"Bredjing\",Bredjing!A29,\"\"))))","v":""},{"$f":"IF($B$10=\"Farchana\",Farchana!B10,IF($B$10=\"Gaga\",Gaga!B29,IF($B$10=\"Treguine\",Treguine!B29,IF($B$10=\"Bredjing\",Bredjing!B29,\"\"))))","v":""},{"$f":"IF($B$10=\"Farchana\",Farchana!C10,IF($B$10=\"Gaga\",Gaga!C29,IF($B$10=\"Treguine\",Treguine!C29,IF($B$10=\"Bredjing\",Bredjing!C29,\"\"))))","v":""},null,null,{"$f":"IF($B$10=\"Farchana\",Farchana!G10,IF($B$10=\"Gaga\",Gaga!I29,IF($B$10=\"Treguine\",Treguine!G29,IF($B$10=\"Bredjing\",Bredjing!G29,\"\"))))","v":""}]
[{"$f":"IF($B$10=\"Farchana\",Farchana!A11,IF($B$10=\"Gaga\",Gaga!A30,IF($B$10=\"Treguine\",Treguine!A30,IF($B$10=\"Bredjing\",Bredjing!A30,\"\"))))","v":""},{"$f":"IF($B$10=\"Farchana\",Farchana!B11,IF($B$10=\"Gaga\",Gaga!B30,IF($B$10=\"Treguine\",Treguine!B30,IF($B$10=\"Bredjing\",Bredjing!B30,\"\"))))","v":""},{"$f":"IF($B$10=\"Farchana\",Farchana!C11,IF($B$10=\"Gaga\",Gaga!C30,IF($B$10=\"Treguine\",Treguine!C30,IF($B$10=\"Bredjing\",Bredjing!C30,\"\"))))","v":""},null,null,{"$f":"IF($B$10=\"Farchana\",Farchana!G11,IF($B$10=\"Gaga\",Gaga!I30,IF($B$10=\"Treguine\",Treguine!G30,IF($B$10=\"Bredjing\",Bredjing!G30,\"\"))))","v":""}]
[{"$f":"IF($B$10=\"Farchana\",Farchana!A12,IF($B$10=\"Gaga\",Gaga!A31,IF($B$10=\"Treguine\",Treguine!A31,IF($B$10=\"Bredjing\",Bredjing!A31,\"\"))))","v":""},{"$f":"IF($B$10=\"Farchana\",Farchana!B12,IF($B$10=\"Gaga\",Gaga!B31,IF($B$10=\"Treguine\",Treguine!B31,IF($B$10=\"Bredjing\",Bredjing!B31,\"\"))))","v":""},{"$f":"IF($B$10=\"Farchana\",Farchana!C12,IF($B$10=\"Gaga\",Gaga!C31,IF($B$10=\"Treguine\",Treguine!C31,IF($B$10=\"Bredjing\",Bredjing!C31,\"\"))))","v":""},null,null,{"$f":"IF($B$10=\"Farchana\",Farchana!G12,IF($B$10=\"Gaga\",Gaga!I31,IF($B$10=\"Treguine\",Treguine!G31,IF($B$10=\"Bredjing\",Bredjing!G31,\"\"))))","v":""}]
[{"$f":"IF($B$10=\"Farchana\",Farchana!A13,IF($B$10=\"Gaga\",Gaga!A32,IF($B$10=\"Treguine\",Treguine!A32,IF($B$10=\"Bredjing\",Bredjing!A32,\"\"))))","v":""},{"$f":"IF($B$10=\"Farchana\",Farchana!B13,IF($B$10=\"Gaga\",Gaga!B32,IF($B$10=\"Treguine\",Treguine!B32,IF($B$10=\"Bredjing\",Bredjing!B32,\"\"))))","v":""},{"$f":"IF($B$10=\"Farchana\",Farchana!C13,IF($B$10=\"Gaga\",Gaga!C32,IF($B$10=\"Treguine\",Treguine!C32,IF($B$10=\"Bredjing\",Bredjing!C32,\"\"))))","v":""},null,null,{"$f":"IF($B$10=\"Farchana\",Farchana!G13,IF($B$10=\"Gaga\",Gaga!I32,IF($B$10=\"Treguine\",Treguine!G32,IF($B$10=\"Bredjing\",Bredjing!G32,\"\"))))","v":""}]
[{"$f":"IF($B$10=\"Farchana\",Farchana!A14,IF($B$10=\"Gaga\",Gaga!A33,IF($B$10=\"Treguine\",Treguine!A33,IF($B$10=\"Bredjing\",Bredjing!A33,\"\"))))","v":""},{"$f":"IF($B$10=\"Farchana\",Farchana!B14,IF($B$10=\"Gaga\",Gaga!B33,IF($B$10=\"Treguine\",Treguine!B33,IF($B$10=\"Bredjing\",Bredjing!B33,\"\"))))","v":""},{"$f":"IF($B$10=\"Farchana\",Farchana!C14,IF($B$10=\"Gaga\",Gaga!C33,IF($B$10=\"Treguine\",Treguine!C33,IF($B$10=\"Bredjing\",Bredjing!C33,\"\"))))","v":""},null,null,{"$f":"IF($B$10=\"Farchana\",Farchana!G14,IF($B$10=\"Gaga\",Gaga!I33,IF($B$10=\"Treguine\",Treguine!G33,IF($B$10=\"Bredjing\",Bredjing!G33,\"\"))))","v":""}]
[{"$f":"IF($B$10=\"Farchana\",Farchana!A15,IF($B$10=\"Gaga\",Gaga!A34,IF($B$10=\"Treguine\",Treguine!A34,IF($B$10=\"Bredjing\",Bredjing!A34,\"\"))))","v":""},{"$f":"IF($B$10=\"Farchana\",Farchana!B15,IF($B$10=\"Gaga\",Gaga!B34,IF($B$10=\"Treguine\",Treguine!B34,IF($B$10=\"Bredjing\",Bredjing!B34,\"\"))))","v":""},{"$f":"IF($B$10=\"Farchana\",Farchana!C15,IF($B$10=\"Gaga\",Gaga!C34,IF($B$10=\"Treguine\",Treguine!C34,IF($B$10=\"Bredjing\",Bredjing!C34,\"\"))))","v":""},null,null,{"$f":"IF($B$10=\"Farchana\",Farchana!G15,IF($B$10=\"Gaga\",Gaga!I34,IF($B$10=\"Treguine\",Treguine!G34,IF($B$10=\"Bredjing\",Bredjing!G34,\"\"))))","v":""}]
[{"$f":"IF($B$10=\"Farchana\",Farchana!A16,IF($B$10=\"Gaga\",Gaga!A35,IF($B$10=\"Treguine\",Treguine!A35,IF($B$10=\"Bredjing\",Bredjing!A35,\"\"))))","v":""},{"$f":"IF($B$10=\"Farchana\",Farchana!B16,IF($B$10=\"Gaga\",Gaga!B35,IF($B$10=\"Treguine\",Treguine!B35,IF($B$10=\"Bredjing\",Bredjing!B35,\"\"))))","v":""},{"$f":"IF($B$10=\"Farchana\",Farchana!C16,IF($B$10=\"Gaga\",Gaga!C35,IF($B$10=\"Treguine\",Treguine!C35,IF($B$10=\"Bredjing\",Bredjing!C35,\"\"))))","v":""},null,null,{"$f":"IF($B$10=\"Farchana\",Farchana!G16,IF($B$10=\"Gaga\",Gaga!I35,IF($B$10=\"Treguine\",Treguine!G35,IF($B$10=\"Bredjing\",Bredjing!G35,\"\"))))","v":""}]
[{"$f":"IF($B$10=\"Farchana\",Farchana!A17,IF($B$10=\"Gaga\",Gaga!A36,IF($B$10=\"Treguine\",Treguine!A36,IF($B$10=\"Bredjing\",Bredjing!A36,\"\"))))","v":""},{"$f":"IF($B$10=\"Farchana\",Farchana!B17,IF($B$10=\"Gaga\",Gaga!B36,IF($B$10=\"Treguine\",Treguine!B36,IF($B$10=\"Bredjing\",Bredjing!B36,\"\"))))","v":""},{"$f":"IF($B$10=\"Farchana\",Farchana!C17,IF($B$10=\"Gaga\",Gaga!C36,IF($B$10=\"Treguine\",Treguine!C36,IF($B$10=\"Bredjing\",Bredjing!C36,\"\"))))","v":""},null,null,{"$f":"IF($B$10=\"Farchana\",Farchana!G17,IF($B$10=\"Gaga\",Gaga!I36,IF($B$10=\"Treguine\",Treguine!G36,IF($B$10=\"Bredjing\",Bredjing!G36,\"\"))))","v":""}]
[{"$f":"IF($B$10=\"Farchana\",Farchana!A18,IF($B$10=\"Gaga\",Gaga!A37,IF($B$10=\"Treguine\",Treguine!A37,IF($B$10=\"Bredjing\",Bredjing!A37,\"\"))))","v":""},{"$f":"IF($B$10=\"Farchana\",Farchana!B18,IF($B$10=\"Gaga\",Gaga!B37,IF($B$10=\"Treguine\",Treguine!B37,IF($B$10=\"Bredjing\",Bredjing!B37,\"\"))))","v":""},{"$f":"IF($B$10=\"Farchana\",Farchana!C18,IF($B$10=\"Gaga\",Gaga!C37,IF($B$10=\"Treguine\",Treguine!C37,IF($B$10=\"Bredjing\",Bredjing!C37,\"\"))))","v":""},null,null,{"$f":"IF($B$10=\"Farchana\",Farchana!G18,IF($B$10=\"Gaga\",Gaga!I37,IF($B$10=\"Treguine\",Treguine!G37,IF($B$10=\"Bredjing\",Bredjing!G37,\"\"))))","v":""}]
[{"$f":"IF($B$10=\"Farchana\",Farchana!A19,IF($B$10=\"Gaga\",Gaga!A38,IF($B$10=\"Treguine\",Treguine!A38,IF($B$10=\"Bredjing\",Bredjing!A38,\"\"))))","v":""},{"$f":"IF($B$10=\"Farchana\",Farchana!B19,IF($B$10=\"Gaga\",Gaga!B38,IF($B$10=\"Treguine\",Treguine!B38,IF($B$10=\"Bredjing\",Bredjing!B38,\"\"))))","v":""},{"$f":"IF($B$10=\"Farchana\",Farchana!C19,IF($B$10=\"Gaga\",Gaga!C38,IF($B$10=\"Treguine\",Treguine!C38,IF($B$10=\"Bredjing\",Bredjing!C38,\"\"))))","v":""},null,null,{"$f":"IF($B$10=\"Farchana\",Farchana!G19,IF($B$10=\"Gaga\",Gaga!I38,IF($B$10=\"Treguine\",Treguine!G38,IF($B$10=\"Bredjing\",Bredjing!G38,\"\"))))","v":""}]
[{"$f":"IF($B$10=\"Farchana\",Farchana!A20,IF($B$10=\"Gaga\",Gaga!A39,IF($B$10=\"Treguine\",Treguine!A39,IF($B$10=\"Bredjing\",Bredjing!A39,\"\"))))","v":""},{"$f":"IF($B$10=\"Farchana\",Farchana!B20,IF($B$10=\"Gaga\",Gaga!B39,IF($B$10=\"Treguine\",Treguine!B39,IF($B$10=\"Bredjing\",Bredjing!B39,\"\"))))","v":""},{"$f":"IF($B$10=\"Farchana\",Farchana!C20,IF($B$10=\"Gaga\",Gaga!C39,IF($B$10=\"Treguine\",Treguine!C39,IF($B$10=\"Bredjing\",Bredjing!C39,\"\"))))","v":""},null,null,{"$f":"IF($B$10=\"Farchana\",Farchana!G20,IF($B$10=\"Gaga\",Gaga!I39,IF($B$10=\"Treguine\",Treguine!G39,IF($B$10=\"Bredjing\",Bredjing!G39,\"\"))))","v":""}]
[{"$f":"IF($B$10=\"Farchana\",Farchana!A21,IF($B$10=\"Gaga\",Gaga!A40,IF($B$10=\"Treguine\",Treguine!A40,IF($B$10=\"Bredjing\",Bredjing!A40,\"\"))))","v":""},{"$f":"IF($B$10=\"Farchana\",Farchana!B21,IF($B$10=\"Gaga\",Gaga!B40,IF($B$10=\"Treguine\",Treguine!B40,IF($B$10=\"Bredjing\",Bredjing!B40,\"\"))))","v":""},{"$f":"IF($B$10=\"Farchana\",Farchana!C21,IF($B$10=\"Gaga\",Gaga!C40,IF($B$10=\"Treguine\",Treguine!C40,IF($B$10=\"Bredjing\",Bredjing!C40,\"\"))))","v":""},null,null,{"$f":"IF($B$10=\"Farchana\",Farchana!G21,IF($B$10=\"Gaga\",Gaga!I40,IF($B$10=\"Treguine\",Treguine!G40,IF($B$10=\"Bredjing\",Bredjing!G40,\"\"))))","v":""}]
[{"$f":"IF($B$10=\"Farchana\",Farchana!A22,IF($B$10=\"Gaga\",Gaga!A41,IF($B$10=\"Treguine\",Treguine!A41,IF($B$10=\"Bredjing\",Bredjing!A41,\"\"))))","v":""},{"$f":"IF($B$10=\"Farchana\",Farchana!B22,IF($B$10=\"Gaga\",Gaga!B41,IF($B$10=\"Treguine\",Treguine!B41,IF($B$10=\"Bredjing\",Bredjing!B41,\"\"))))","v":""},{"$f":"IF($B$10=\"Farchana\",Farchana!C22,IF($B$10=\"Gaga\",Gaga!C41,IF($B$10=\"Treguine\",Treguine!C41,IF($B$10=\"Bredjing\",Bredjing!C41,\"\"))))","v":""},null,null,{"$f":"IF($B$10=\"Farchana\",Farchana!G22,IF($B$10=\"Gaga\",Gaga!I41,IF($B$10=\"Treguine\",Treguine!G41,IF($B$10=\"Bredjing\",Bredjing!G41,\"\"))))","v":""}]
[{"$f":"IF($B$10=\"Farchana\",Farchana!A23,IF($B$10=\"Gaga\",Gaga!A42,IF($B$10=\"Treguine\",Treguine!A42,IF($B$10=\"Bredjing\",Bredjing!A42,\"\"))))","v":""},{"$f":"IF($B$10=\"Farchana\",Farchana!B23,IF($B$10=\"Gaga\",Gaga!B42,IF($B$10=\"Treguine\",Treguine!B42,IF($B$10=\"Bredjing\",Bredjing!B42,\"\"))))","v":""},{"$f":"IF($B$10=\"Farchana\",Farchana!C23,IF($B$10=\"Gaga\",Gaga!C42,IF($B$10=\"Treguine\",Treguine!C42,IF($B$10=\"Bredjing\",Bredjing!C42,\"\"))))","v":""},null,null,{"$f":"IF($B$10=\"Farchana\",Farchana!G23,IF($B$10=\"Gaga\",Gaga!I42,IF($B$10=\"Treguine\",Treguine!G42,IF($B$10=\"Bredjing\",Bredjing!G42,\"\"))))","v":""}]
[{"$f":"IF($B$10=\"Farchana\",Farchana!A24,IF($B$10=\"Gaga\",Gaga!A43,IF($B$10=\"Treguine\",Treguine!A43,IF($B$10=\"Bredjing\",Bredjing!A43,\"\"))))","v":""},{"$f":"IF($B$10=\"Farchana\",Farchana!B24,IF($B$10=\"Gaga\",Gaga!B43,IF($B$10=\"Treguine\",Treguine!B43,IF($B$10=\"Bredjing\",Bredjing!B43,\"\"))))","v":""},{"$f":"IF($B$10=\"Farchana\",Farchana!C24,IF($B$10=\"Gaga\",Gaga!C43,IF($B$10=\"Treguine\",Treguine!C43,IF($B$10=\"Bredjing\",Bredjing!C43,\"\"))))","v":""},null,null,{"$f":"IF($B$10=\"Farchana\",Farchana!G24,IF($B$10=\"Gaga\",Gaga!I43,IF($B$10=\"Treguine\",Treguine!G43,IF($B$10=\"Bredjing\",Bredjing!G43,\"\"))))","v":""}]
[{"$f":"IF($B$10=\"Farchana\",Farchana!A25,IF($B$10=\"Gaga\",Gaga!A44,IF($B$10=\"Treguine\",Treguine!A44,IF($B$10=\"Bredjing\",Bredjing!A44,\"\"))))","v":""},{"$f":"IF($B$10=\"Farchana\",Farchana!B25,IF($B$10=\"Gaga\",Gaga!B44,IF($B$10=\"Treguine\",Treguine!B44,IF($B$10=\"Bredjing\",Bredjing!B44,\"\"))))","v":""},{"$f":"IF($B$10=\"Farchana\",Farchana!C25,IF($B$10=\"Gaga\",Gaga!C44,IF($B$10=\"Treguine\",Treguine!C44,IF($B$10=\"Bredjing\",Bredjing!C44,\"\"))))","v":""},null,null,{"$f":"IF($B$10=\"Farchana\",Farchana!G25,IF($B$10=\"Gaga\",Gaga!I44,IF($B$10=\"Treguine\",Treguine!G44,IF($B$10=\"Bredjing\",Bredjing!G44,\"\"))))","v":""}]
[{"$f":"IF($B$10=\"Farchana\",Farchana!A26,IF($B$10=\"Gaga\",Gaga!A45,IF($B$10=\"Treguine\",Treguine!A45,IF($B$10=\"Bredjing\",Bredjing!A45,\"\"))))","v":""},{"$f":"IF($B$10=\"Farchana\",Farchana!B26,IF($B$10=\"Gaga\",Gaga!B45,IF($B$10=\"Treguine\",Treguine!B45,IF($B$10=\"Bredjing\",Bredjing!B45,\"\"))))","v":""},{"$f":"IF($B$10=\"Farchana\",Farchana!C26,IF($B$10=\"Gaga\",Gaga!C45,IF($B$10=\"Treguine\",Treguine!C45,IF($B$10=\"Bredjing\",Bredjing!C45,\"\"))))","v":""},null,null,{"$f":"IF($B$10=\"Farchana\",Farchana!G26,IF($B$10=\"Gaga\",Gaga!I45,IF($B$10=\"Treguine\",Treguine!G45,IF($B$10=\"Bredjing\",Bredjing!G45,\"\"))))","v":""}]
[{"$f":"IF($B$10=\"Farchana\",Farchana!A27,IF($B$10=\"Gaga\",Gaga!A46,IF($B$10=\"Treguine\",Treguine!A46,IF($B$10=\"Bredjing\",Bredjing!A46,\"\"))))","v":""},{"$f":"IF($B$10=\"Farchana\",Farchana!B27,IF($B$10=\"Gaga\",Gaga!B46,IF($B$10=\"Treguine\",Treguine!B46,IF($B$10=\"Bredjing\",Bredjing!B46,\"\"))))","v":""},{"$f":"IF($B$10=\"Farchana\",Farchana!C27,IF($B$10=\"Gaga\",Gaga!C46,IF($B$10=\"Treguine\",Treguine!C46,IF($B$10=\"Bredjing\",Bredjing!C46,\"\"))))","v":""},null,null,{"$f":"IF($B$10=\"Farchana\",Farchana!G27,IF($B$10=\"Gaga\",Gaga!I46,IF($B$10=\"Treguine\",Treguine!G46,IF($B$10=\"Bredjing\",Bredjing!G46,\"\"))))","v":""}]
[{"$f":"IF($B$10=\"Farchana\",Farchana!A28,IF($B$10=\"Gaga\",Gaga!A47,IF($B$10=\"Treguine\",Treguine!A47,IF($B$10=\"Bredjing\",Bredjing!A47,\"\"))))","v":""},{"$f":"IF($B$10=\"Farchana\",Farchana!B28,IF($B$10=\"Gaga\",Gaga!B47,IF($B$10=\"Treguine\",Treguine!B47,IF($B$10=\"Bredjing\",Bredjing!B47,\"\"))))","v":""},{"$f":"IF($B$10=\"Farchana\",Farchana!C28,IF($B$10=\"Gaga\",Gaga!C47,IF($B$10=\"Treguine\",Treguine!C47,IF($B$10=\"Bredjing\",Bredjing!C47,\"\"))))","v":""},null,null,{"$f":"IF($B$10=\"Farchana\",Farchana!G28,IF($B$10=\"Gaga\",Gaga!I47,IF($B$10=\"Treguine\",Treguine!G47,IF($B$10=\"Bredjing\",Bredjing!G47,\"\"))))","v":""}]
[{"$f":"IF($B$10=\"Farchana\",Farchana!A29,IF($B$10=\"Gaga\",Gaga!A48,IF($B$10=\"Treguine\",Treguine!A48,IF($B$10=\"Bredjing\",Bredjing!A48,\"\"))))","v":""},{"$f":"IF($B$10=\"Farchana\",Farchana!B29,IF($B$10=\"Gaga\",Gaga!B48,IF($B$10=\"Treguine\",Treguine!B48,IF($B$10=\"Bredjing\",Bredjing!B48,\"\"))))","v":""},{"$f":"IF($B$10=\"Farchana\",Farchana!C29,IF($B$10=\"Gaga\",Gaga!C48,IF($B$10=\"Treguine\",Treguine!C48,IF($B$10=\"Bredjing\",Bredjing!C48,\"\"))))","v":""},null,null,{"$f":"IF($B$10=\"Farchana\",Farchana!G29,IF($B$10=\"Gaga\",Gaga!I48,IF($B$10=\"Treguine\",Treguine!G48,IF($B$10=\"Bredjing\",Bredjing!G48,\"\"))))","v":""}]
[{"$f":"IF($B$10=\"Farchana\",Farchana!A30,IF($B$10=\"Gaga\",Gaga!A49,IF($B$10=\"Treguine\",Treguine!A49,IF($B$10=\"Bredjing\",Bredjing!A49,\"\"))))","v":""},{"$f":"IF($B$10=\"Farchana\",Farchana!B30,IF($B$10=\"Gaga\",Gaga!B49,IF($B$10=\"Treguine\",Treguine!B49,IF($B$10=\"Bredjing\",Bredjing!B49,\"\"))))","v":""},{"$f":"IF($B$10=\"Farchana\",Farchana!C30,IF($B$10=\"Gaga\",Gaga!C49,IF($B$10=\"Treguine\",Treguine!C49,IF($B$10=\"Bredjing\",Bredjing!C49,\"\"))))","v":""},null,null,{"$f":"IF($B$10=\"Farchana\",Farchana!G30,IF($B$10=\"Gaga\",Gaga!I49,IF($B$10=\"Treguine\",Treguine!G49,IF($B$10=\"Bredjing\",Bredjing!G49,\"\"))))","v":""}]
[{"$f":"IF($B$10=\"Farchana\",Farchana!A31,IF($B$10=\"Gaga\",Gaga!A50,IF($B$10=\"Treguine\",Treguine!A50,IF($B$10=\"Bredjing\",Bredjing!A50,\"\"))))","v":""},{"$f":"IF($B$10=\"Farchana\",Farchana!B31,IF($B$10=\"Gaga\",Gaga!B50,IF($B$10=\"Treguine\",Treguine!B50,IF($B$10=\"Bredjing\",Bredjing!B50,\"\"))))","v":""},{"$f":"IF($B$10=\"Farchana\",Farchana!C31,IF($B$10=\"Gaga\",Gaga!C50,IF($B$10=\"Treguine\",Treguine!C50,IF($B$10=\"Bredjing\",Bredjing!C50,\"\"))))","v":""},null,null,{"$f":"IF($B$10=\"Farchana\",Farchana!G31,IF($B$10=\"Gaga\",Gaga!I50,IF($B$10=\"Treguine\",Treguine!G50,IF($B$10=\"Bredjing\",Bredjing!G50,\"\"))))","v":""}]
[{"$f":"IF($B$10=\"Farchana\",Farchana!A32,IF($B$10=\"Gaga\",Gaga!A51,IF($B$10=\"Treguine\",Treguine!A51,IF($B$10=\"Bredjing\",Bredjing!A51,\"\"))))","v":""},{"$f":"IF($B$10=\"Farchana\",Farchana!B32,IF($B$10=\"Gaga\",Gaga!B51,IF($B$10=\"Treguine\",Treguine!B51,IF($B$10=\"Bredjing\",Bredjing!B51,\"\"))))","v":""},{"$f":"IF($B$10=\"Farchana\",Farchana!C32,IF($B$10=\"Gaga\",Gaga!C51,IF($B$10=\"Treguine\",Treguine!C51,IF($B$10=\"Bredjing\",Bredjing!C51,\"\"))))","v":""},null,null,{"$f":"IF($B$10=\"Farchana\",Farchana!G32,IF($B$10=\"Gaga\",Gaga!I51,IF($B$10=\"Treguine\",Treguine!G51,IF($B$10=\"Bredjing\",Bredjing!G51,\"\"))))","v":""}]
[{"$f":"IF($B$10=\"Farchana\",Farchana!A33,IF($B$10=\"Gaga\",Gaga!A52,IF($B$10=\"Treguine\",Treguine!A52,IF($B$10=\"Bredjing\",Bredjing!A52,\"\"))))","v":""},{"$f":"IF($B$10=\"Farchana\",Farchana!B33,IF($B$10=\"Gaga\",Gaga!B52,IF($B$10=\"Treguine\",Treguine!B52,IF($B$10=\"Bredjing\",Bredjing!B52,\"\"))))","v":""},{"$f":"IF($B$10=\"Farchana\",Farchana!C33,IF($B$10=\"Gaga\",Gaga!C52,IF($B$10=\"Treguine\",Treguine!C52,IF($B$10=\"Bredjing\",Bredjing!C52,\"\"))))","v":""},null,null,{"$f":"IF($B$10=\"Farchana\",Farchana!G33,IF($B$10=\"Gaga\",Gaga!I52,IF($B$10=\"Treguine\",Treguine!G52,IF($B$10=\"Bredjing\",Bredjing!G52,\"\"))))","v":""}]
[{"$f":"IF($B$10=\"Farchana\",Farchana!A34,IF($B$10=\"Gaga\",Gaga!A53,IF($B$10=\"Treguine\",Treguine!A53,IF($B$10=\"Bredjing\",Bredjing!A53,\"\"))))","v":""},{"$f":"IF($B$10=\"Farchana\",Farchana!B34,IF($B$10=\"Gaga\",Gaga!B53,IF($B$10=\"Treguine\",Treguine!B53,IF($B$10=\"Bredjing\",Bredjing!B53,\"\"))))","v":""},{"$f":"IF($B$10=\"Farchana\",Farchana!C34,IF($B$10=\"Gaga\",Gaga!C53,IF($B$10=\"Treguine\",Treguine!C53,IF($B$10=\"Bredjing\",Bredjing!C53,\"\"))))","v":""},null,null,{"$f":"IF($B$10=\"Farchana\",Farchana!G34,IF($B$10=\"Gaga\",Gaga!I53,IF($B$10=\"Treguine\",Treguine!G53,IF($B$10=\"Bredjing\",Bredjing!G53,\"\"))))","v":""}]
[{"$f":"IF($B$10=\"Farchana\",Farchana!A35,IF($B$10=\"Gaga\",Gaga!A54,IF($B$10=\"Treguine\",Treguine!A54,IF($B$10=\"Bredjing\",Bredjing!A54,\"\"))))","v":""},{"$f":"IF($B$10=\"Farchana\",Farchana!B35,IF($B$10=\"Gaga\",Gaga!B54,IF($B$10=\"Treguine\",Treguine!B54,IF($B$10=\"Bredjing\",Bredjing!B54,\"\"))))","v":""},{"$f":"IF($B$10=\"Farchana\",Farchana!C35,IF($B$10=\"Gaga\",Gaga!C54,IF($B$10=\"Treguine\",Treguine!C54,IF($B$10=\"Bredjing\",Bredjing!C54,\"\"))))","v":""},null,null,{"$f":"IF($B$10=\"Farchana\",Farchana!G35,IF($B$10=\"Gaga\",Gaga!I54,IF($B$10=\"Treguine\",Treguine!G54,IF($B$10=\"Bredjing\",Bredjing!G54,\"\"))))","v":""}]
[{"$f":"IF($B$10=\"Farchana\",Farchana!A36,IF($B$10=\"Gaga\",Gaga!A55,IF($B$10=\"Treguine\",Treguine!A55,IF($B$10=\"Bredjing\",Bredjing!A55,\"\"))))","v":""},{"$f":"IF($B$10=\"Farchana\",Farchana!B36,IF($B$10=\"Gaga\",Gaga!B55,IF($B$10=\"Treguine\",Treguine!B55,IF($B$10=\"Bredjing\",Bredjing!B55,\"\"))))","v":""},{"$f":"IF($B$10=\"Farchana\",Farchana!C36,IF($B$10=\"Gaga\",Gaga!C55,IF($B$10=\"Treguine\",Treguine!C55,IF($B$10=\"Bredjing\",Bredjing!C55,\"\"))))","v":""},null,null,{"$f":"IF($B$10=\"Farchana\",Farchana!G36,IF($B$10=\"Gaga\",Gaga!I55,IF($B$10=\"Treguine\",Treguine!G55,IF($B$10=\"Bredjing\",Bredjing!G55,\"\"))))","v":""}]
[{"$f":"IF($B$10=\"Farchana\",Farchana!A37,IF($B$10=\"Gaga\",Gaga!A56,IF($B$10=\"Treguine\",Treguine!A56,IF($B$10=\"Bredjing\",Bredjing!A56,\"\"))))","v":""},{"$f":"IF($B$10=\"Farchana\",Farchana!B37,IF($B$10=\"Gaga\",Gaga!B56,IF($B$10=\"Treguine\",Treguine!B56,IF($B$10=\"Bredjing\",Bredjing!B56,\"\"))))","v":""},{"$f":"IF($B$10=\"Farchana\",Farchana!C37,IF($B$10=\"Gaga\",Gaga!C56,IF($B$10=\"Treguine\",Treguine!C56,IF($B$10=\"Bredjing\",Bredjing!C56,\"\"))))","v":""},null,null,{"$f":"IF($B$10=\"Farchana\",Farchana!G37,IF($B$10=\"Gaga\",Gaga!I56,IF($B$10=\"Treguine\",Treguine!G56,IF($B$10=\"Bredjing\",Bredjing!G56,\"\"))))","v":""}]
[{"$f":"IF($B$10=\"Farchana\",Farchana!A38,IF($B$10=\"Gaga\",Gaga!A57,IF($B$10=\"Treguine\",Treguine!A57,IF($B$10=\"Bredjing\",Bredjing!A57,\"\"))))","v":""},{"$f":"IF($B$10=\"Farchana\",Farchana!B38,IF($B$10=\"Gaga\",Gaga!B57,IF($B$10=\"Treguine\",Treguine!B57,IF($B$10=\"Bredjing\",Bredjing!B57,\"\"))))","v":""},{"$f":"IF($B$10=\"Farchana\",Farchana!C38,IF($B$10=\"Gaga\",Gaga!C57,IF($B$10=\"Treguine\",Treguine!C57,IF($B$10=\"Bredjing\",Bredjing!C57,\"\"))))","v":""},null,null,{"$f":"IF($B$10=\"Farchana\",Farchana!G38,IF($B$10=\"Gaga\",Gaga!I57,IF($B$10=\"Treguine\",Treguine!G57,IF($B$10=\"Bredjing\",Bredjing!G57,\"\"))))","v":""}]
[{"$f":"IF($B$10=\"Farchana\",Farchana!A39,IF($B$10=\"Gaga\",Gaga!A58,IF($B$10=\"Treguine\",Treguine!A58,IF($B$10=\"Bredjing\",Bredjing!A58,\"\"))))","v":""},{"$f":"IF($B$10=\"Farchana\",Farchana!B39,IF($B$10=\"Gaga\",Gaga!B58,IF($B$10=\"Treguine\",Treguine!B58,IF($B$10=\"Bredjing\",Bredjing!B58,\"\"))))","v":""},{"$f":"IF($B$10=\"Farchana\",Farchana!C39,IF($B$10=\"Gaga\",Gaga!C58,IF($B$10=\"Treguine\",Treguine!C58,IF($B$10=\"Bredjing\",Bredjing!C58,\"\"))))","v":""},null,null,{"$f":"IF($B$10=\"Farchana\",Farchana!G39,IF($B$10=\"Gaga\",Gaga!I58,IF($B$10=\"Treguine\",Treguine!G58,IF($B$10=\"Bredjing\",Bredjing!G58,\"\"))))","v":""}]
[{"$f":"IF($B$10=\"Farchana\",Farchana!A40,IF($B$10=\"Gaga\",Gaga!A59,IF($B$10=\"Treguine\",Treguine!A59,IF($B$10=\"Bredjing\",Bredjing!A59,\"\"))))","v":""},{"$f":"IF($B$10=\"Farchana\",Farchana!B40,IF($B$10=\"Gaga\",Gaga!B59,IF($B$10=\"Treguine\",Treguine!B59,IF($B$10=\"Bredjing\",Bredjing!B59,\"\"))))","v":""},{"$f":"IF($B$10=\"Farchana\",Farchana!C40,IF($B$10=\"Gaga\",Gaga!C59,IF($B$10=\"Treguine\",Treguine!C59,IF($B$10=\"Bredjing\",Bredjing!C59,\"\"))))","v":""},null,null,{"$f":"IF($B$10=\"Farchana\",Farchana!G40,IF($B$10=\"Gaga\",Gaga!I59,IF($B$10=\"Treguine\",Treguine!G59,IF($B$10=\"Bredjing\",Bredjing!G59,\"\"))))","v":""}]
[{"$f":"IF($B$10=\"Farchana\",Farchana!A41,IF($B$10=\"Gaga\",Gaga!A60,IF($B$10=\"Treguine\",Treguine!A60,IF($B$10=\"Bredjing\",Bredjing!A60,\"\"))))","v":""},{"$f":"IF($B$10=\"Farchana\",Farchana!B41,IF($B$10=\"Gaga\",Gaga!B60,IF($B$10=\"Treguine\",Treguine!B60,IF($B$10=\"Bredjing\",Bredjing!B60,\"\"))))","v":""},{"$f":"IF($B$10=\"Farchana\",Farchana!C41,IF($B$10=\"Gaga\",Gaga!C60,IF($B$10=\"Treguine\",Treguine!C60,IF($B$10=\"Bredjing\",Bredjing!C60,\"\"))))","v":""},null,null,{"$f":"IF($B$10=\"Farchana\",Farchana!G41,IF($B$10=\"Gaga\",Gaga!I60,IF($B$10=\"Treguine\",Treguine!G60,IF($B$10=\"Bredjing\",Bredjing!G60,\"\"))))","v":""}]
[{"$f":"IF($B$10=\"Farchana\",Farchana!A42,IF($B$10=\"Gaga\",Gaga!A61,IF($B$10=\"Treguine\",Treguine!A61,IF($B$10=\"Bredjing\",Bredjing!A61,\"\"))))","v":""},{"$f":"IF($B$10=\"Farchana\",Farchana!B42,IF($B$10=\"Gaga\",Gaga!B61,IF($B$10=\"Treguine\",Treguine!B61,IF($B$10=\"Bredjing\",Bredjing!B61,\"\"))))","v":""},{"$f":"IF($B$10=\"Farchana\",Farchana!C42,IF($B$10=\"Gaga\",Gaga!C61,IF($B$10=\"Treguine\",Treguine!C61,IF($B$10=\"Bredjing\",Bredjing!C61,\"\"))))","v":""},null,null,{"$f":"IF($B$10=\"Farchana\",Farchana!G42,IF($B$10=\"Gaga\",Gaga!I61,IF($B$10=\"Treguine\",Treguine!G61,IF($B$10=\"Bredjing\",Bredjing!G61,\"\"))))","v":""}]
[{"$f":"IF($B$10=\"Farchana\",Farchana!A43,IF($B$10=\"Gaga\",Gaga!A62,IF($B$10=\"Treguine\",Treguine!A62,IF($B$10=\"Bredjing\",Bredjing!A62,\"\"))))","v":""},{"$f":"IF($B$10=\"Farchana\",Farchana!B43,IF($B$10=\"Gaga\",Gaga!B62,IF($B$10=\"Treguine\",Treguine!B62,IF($B$10=\"Bredjing\",Bredjing!B62,\"\"))))","v":""},{"$f":"IF($B$10=\"Farchana\",Farchana!C43,IF($B$10=\"Gaga\",Gaga!C62,IF($B$10=\"Treguine\",Treguine!C62,IF($B$10=\"Bredjing\",Bredjing!C62,\"\"))))","v":""},null,null,{"$f":"IF($B$10=\"Farchana\",Farchana!G43,IF($B$10=\"Gaga\",Gaga!I62,IF($B$10=\"Treguine\",Treguine!G62,IF($B$10=\"Bredjing\",Bredjing!G62,\"\"))))","v":""}]
[{"$f":"IF($B$10=\"Farchana\",Farchana!A44,IF($B$10=\"Gaga\",Gaga!A63,IF($B$10=\"Treguine\",Treguine!A63,IF($B$10=\"Bredjing\",Bredjing!A63,\"\"))))","v":""},{"$f":"IF($B$10=\"Farchana\",Farchana!B44,IF($B$10=\"Gaga\",Gaga!B63,IF($B$10=\"Treguine\",Treguine!B63,IF($B$10=\"Bredjing\",Bredjing!B63,\"\"))))","v":""},{"$f":"IF($B$10=\"Farchana\",Farchana!C44,IF($B$10=\"Gaga\",Gaga!C63,IF($B$10=\"Treguine\",Treguine!C63,IF($B$10=\"Bredjing\",Bredjing!C63,\"\"))))","v":""},null,null,{"$f":"IF($B$10=\"Farchana\",Farchana!G44,IF($B$10=\"Gaga\",Gaga!I63,IF($B$10=\"Treguine\",Treguine!G63,IF($B$10=\"Bredjing\",Bredjing!G63,\"\"))))","v":""}]
[{"$f":"IF($B$10=\"Farchana\",Farchana!A45,IF($B$10=\"Gaga\",Gaga!A64,IF($B$10=\"Treguine\",Treguine!A64,IF($B$10=\"Bredjing\",Bredjing!A64,\"\"))))","v":""},{"$f":"IF($B$10=\"Farchana\",Farchana!B45,IF($B$10=\"Gaga\",Gaga!B64,IF($B$10=\"Treguine\",Treguine!B64,IF($B$10=\"Bredjing\",Bredjing!B64,\"\"))))","v":""},{"$f":"IF($B$10=\"Farchana\",Farchana!C45,IF($B$10=\"Gaga\",Gaga!C64,IF($B$10=\"Treguine\",Treguine!C64,IF($B$10=\"Bredjing\",Bredjing!C64,\"\"))))","v":""},null,null,{"$f":"IF($B$10=\"Farchana\",Farchana!G45,IF($B$10=\"Gaga\",Gaga!I64,IF($B$10=\"Treguine\",Treguine!G64,IF($B$10=\"Bredjing\",Bredjing!G64,\"\"))))","v":""}]
[{"$f":"IF($B$10=\"Farchana\",Farchana!A46,IF($B$10=\"Gaga\",Gaga!A65,IF($B$10=\"Treguine\",Treguine!A65,IF($B$10=\"Bredjing\",Bredjing!A65,\"\"))))","v":""},{"$f":"IF($B$10=\"Farchana\",Farchana!B46,IF($B$10=\"Gaga\",Gaga!B65,IF($B$10=\"Treguine\",Treguine!B65,IF($B$10=\"Bredjing\",Bredjing!B65,\"\"))))","v":""},{"$f":"IF($B$10=\"Farchana\",Farchana!C46,IF($B$10=\"Gaga\",Gaga!C65,IF($B$10=\"Treguine\",Treguine!C65,IF($B$10=\"Bredjing\",Bredjing!C65,\"\"))))","v":""},null,null,{"$f":"IF($B$10=\"Farchana\",Farchana!G46,IF($B$10=\"Gaga\",Gaga!I65,IF($B$10=\"Treguine\",Treguine!G65,IF($B$10=\"Bredjing\",Bredjing!G65,\"\"))))","v":""}]
[{"$f":"IF($B$10=\"Farchana\",Farchana!A47,IF($B$10=\"Gaga\",Gaga!A66,IF($B$10=\"Treguine\",Treguine!A66,IF($B$10=\"Bredjing\",Bredjing!A66,\"\"))))","v":""},{"$f":"IF($B$10=\"Farchana\",Farchana!B47,IF($B$10=\"Gaga\",Gaga!B66,IF($B$10=\"Treguine\",Treguine!B66,IF($B$10=\"Bredjing\",Bredjing!B66,\"\"))))","v":""},{"$f":"IF($B$10=\"Farchana\",Farchana!C47,IF($B$10=\"Gaga\",Gaga!C66,IF($B$10=\"Treguine\",Treguine!C66,IF($B$10=\"Bredjing\",Bredjing!C66,\"\"))))","v":""},null,null,{"$f":"IF($B$10=\"Farchana\",Farchana!G47,IF($B$10=\"Gaga\",Gaga!I66,IF($B$10=\"Treguine\",Treguine!G66,IF($B$10=\"Bredjing\",Bredjing!G66,\"\"))))","v":""}]
[{"$f":"IF($B$10=\"Farchana\",Farchana!A48,IF($B$10=\"Gaga\",Gaga!A67,IF($B$10=\"Treguine\",Treguine!A67,IF($B$10=\"Bredjing\",Bredjing!A67,\"\"))))","v":""},{"$f":"IF($B$10=\"Farchana\",Farchana!B48,IF($B$10=\"Gaga\",Gaga!B67,IF($B$10=\"Treguine\",Treguine!B67,IF($B$10=\"Bredjing\",Bredjing!B67,\"\"))))","v":""},{"$f":"IF($B$10=\"Farchana\",Farchana!C48,IF($B$10=\"Gaga\",Gaga!C67,IF($B$10=\"Treguine\",Treguine!C67,IF($B$10=\"Bredjing\",Bredjing!C67,\"\"))))","v":""},null,null,{"$f":"IF($B$10=\"Farchana\",Farchana!G48,IF($B$10=\"Gaga\",Gaga!I67,IF($B$10=\"Treguine\",Treguine!G67,IF($B$10=\"Bredjing\",Bredjing!G67,\"\"))))","v":""}]
[{"$f":"IF($B$10=\"Farchana\",Farchana!A49,IF($B$10=\"Gaga\",Gaga!A68,IF($B$10=\"Treguine\",Treguine!A68,IF($B$10=\"Bredjing\",Bredjing!A68,\"\"))))","v":""},{"$f":"IF($B$10=\"Farchana\",Farchana!B49,IF($B$10=\"Gaga\",Gaga!B68,IF($B$10=\"Treguine\",Treguine!B68,IF($B$10=\"Bredjing\",Bredjing!B68,\"\"))))","v":""},{"$f":"IF($B$10=\"Farchana\",Farchana!C49,IF($B$10=\"Gaga\",Gaga!C68,IF($B$10=\"Treguine\",Treguine!C68,IF($B$10=\"Bredjing\",Bredjing!C68,\"\"))))","v":""},null,null,{"$f":"IF($B$10=\"Farchana\",Farchana!G49,IF($B$10=\"Gaga\",Gaga!I68,IF($B$10=\"Treguine\",Treguine!G68,IF($B$10=\"Bredjing\",Bredjing!G68,\"\"))))","v":""}]
[{"$f":"IF($B$10=\"Farchana\",Farchana!A50,IF($B$10=\"Gaga\",Gaga!A69,IF($B$10=\"Treguine\",Treguine!A69,IF($B$10=\"Bredjing\",Bredjing!A69,\"\"))))","v":""},{"$f":"IF($B$10=\"Farchana\",Farchana!B50,IF($B$10=\"Gaga\",Gaga!B69,IF($B$10=\"Treguine\",Treguine!B69,IF($B$10=\"Bredjing\",Bredjing!B69,\"\"))))","v":""},{"$f":"IF($B$10=\"Farchana\",Farchana!C50,IF($B$10=\"Gaga\",Gaga!C69,IF($B$10=\"Treguine\",Treguine!C69,IF($B$10=\"Bredjing\",Bredjing!C69,\"\"))))","v":""},null,null,{"$f":"IF($B$10=\"Farchana\",Farchana!G50,IF($B$10=\"Gaga\",Gaga!I69,IF($B$10=\"Treguine\",Treguine!G69,IF($B$10=\"Bredjing\",Bredjing!G69,\"\"))))","v":""}]
[{"$f":"IF($B$10=\"Farchana\",Farchana!A51,IF($B$10=\"Gaga\",Gaga!A70,IF($B$10=\"Treguine\",Treguine!A70,IF($B$10=\"Bredjing\",Bredjing!A70,\"\"))))","v":""},{"$f":"IF($B$10=\"Farchana\",Farchana!B51,IF($B$10=\"Gaga\",Gaga!B70,IF($B$10=\"Treguine\",Treguine!B70,IF($B$10=\"Bredjing\",Bredjing!B70,\"\"))))","v":""},{"$f":"IF($B$10=\"Farchana\",Farchana!C51,IF($B$10=\"Gaga\",Gaga!C70,IF($B$10=\"Treguine\",Treguine!C70,IF($B$10=\"Bredjing\",Bredjing!C70,\"\"))))","v":""},null,null,{"$f":"IF($B$10=\"Farchana\",Farchana!G51,IF($B$10=\"Gaga\",Gaga!I70,IF($B$10=\"Treguine\",Treguine!G70,IF($B$10=\"Bredjing\",Bredjing!G70,\"\"))))","v":""}]
[{"$f":"IF($B$10=\"Farchana\",Farchana!A52,IF($B$10=\"Gaga\",Gaga!A71,IF($B$10=\"Treguine\",Treguine!A71,IF($B$10=\"Bredjing\",Bredjing!A71,\"\"))))","v":""},{"$f":"IF($B$10=\"Farchana\",Farchana!B52,IF($B$10=\"Gaga\",Gaga!B71,IF($B$10=\"Treguine\",Treguine!B71,IF($B$10=\"Bredjing\",Bredjing!B71,\"\"))))","v":""},{"$f":"IF($B$10=\"Farchana\",Farchana!C52,IF($B$10=\"Gaga\",Gaga!C71,IF($B$10=\"Treguine\",Treguine!C71,IF($B$10=\"Bredjing\",Bredjing!C71,\"\"))))","v":""},null,null,{"$f":"IF($B$10=\"Farchana\",Farchana!G52,IF($B$10=\"Gaga\",Gaga!I71,IF($B$10=\"Treguine\",Treguine!G71,IF($B$10=\"Bredjing\",Bredjing!G71,\"\"))))","v":""}]
[{"$f":"IF($B$10=\"Farchana\",Farchana!A53,IF($B$10=\"Gaga\",Gaga!A72,IF($B$10=\"Treguine\",Treguine!A72,IF($B$10=\"Bredjing\",Bredjing!A72,\"\"))))","v":""},{"$f":"IF($B$10=\"Farchana\",Farchana!B53,IF($B$10=\"Gaga\",Gaga!B72,IF($B$10=\"Treguine\",Treguine!B72,IF($B$10=\"Bredjing\",Bredjing!B72,\"\"))))","v":""},{"$f":"IF($B$10=\"Farchana\",Farchana!C53,IF($B$10=\"Gaga\",Gaga!C72,IF($B$10=\"Treguine\",Treguine!C72,IF($B$10=\"Bredjing\",Bredjing!C72,\"\"))))","v":""},null,null,{"$f":"IF($B$10=\"Farchana\",Farchana!G53,IF($B$10=\"Gaga\",Gaga!I72,IF($B$10=\"Treguine\",Treguine!G72,IF($B$10=\"Bredjing\",Bredjing!G72,\"\"))))","v":""}]
[{"$f":"IF($B$10=\"Farchana\",Farchana!A54,IF($B$10=\"Gaga\",Gaga!A73,IF($B$10=\"Treguine\",Treguine!A73,IF($B$10=\"Bredjing\",Bredjing!A73,\"\"))))","v":""},{"$f":"IF($B$10=\"Farchana\",Farchana!B54,IF($B$10=\"Gaga\",Gaga!B73,IF($B$10=\"Treguine\",Treguine!B73,IF($B$10=\"Bredjing\",Bredjing!B73,\"\"))))","v":""},{"$f":"IF($B$10=\"Farchana\",Farchana!C54,IF($B$10=\"Gaga\",Gaga!C73,IF($B$10=\"Treguine\",Treguine!C73,IF($B$10=\"Bredjing\",Bredjing!C73,\"\"))))","v":""},null,null,{"$f":"IF($B$10=\"Farchana\",Farchana!G54,IF($B$10=\"Gaga\",Gaga!I73,IF($B$10=\"Treguine\",Treguine!G73,IF($B$10=\"Bredjing\",Bredjing!G73,\"\"))))","v":""}]
[{"$f":"IF($B$10=\"Farchana\",Farchana!A55,IF($B$10=\"Gaga\",Gaga!A74,IF($B$10=\"Treguine\",Treguine!A74,IF($B$10=\"Bredjing\",Bredjing!A74,\"\"))))","v":""},{"$f":"IF($B$10=\"Farchana\",Farchana!B55,IF($B$10=\"Gaga\",Gaga!B74,IF($B$10=\"Treguine\",Treguine!B74,IF($B$10=\"Bredjing\",Bredjing!B74,\"\"))))","v":""},{"$f":"IF($B$10=\"Farchana\",Farchana!C55,IF($B$10=\"Gaga\",Gaga!C74,IF($B$10=\"Treguine\",Treguine!C74,IF($B$10=\"Bredjing\",Bredjing!C74,\"\"))))","v":""},null,null,{"$f":"IF($B$10=\"Farchana\",Farchana!G55,IF($B$10=\"Gaga\",Gaga!I74,IF($B$10=\"Treguine\",Treguine!G74,IF($B$10=\"Bredjing\",Bredjing!G74,\"\"))))","v":""}]
[{"$f":"IF($B$10=\"Farchana\",Farchana!A56,IF($B$10=\"Gaga\",Gaga!A75,IF($B$10=\"Treguine\",Treguine!A75,IF($B$10=\"Bredjing\",Bredjing!A75,\"\"))))","v":""},{"$f":"IF($B$10=\"Farchana\",Farchana!B56,IF($B$10=\"Gaga\",Gaga!B75,IF($B$10=\"Treguine\",Treguine!B75,IF($B$10=\"Bredjing\",Bredjing!B75,\"\"))))","v":""},{"$f":"IF($B$10=\"Farchana\",Farchana!C56,IF($B$10=\"Gaga\",Gaga!C75,IF($B$10=\"Treguine\",Treguine!C75,IF($B$10=\"Bredjing\",Bredjing!C75,\"\"))))","v":""},null,null,{"$f":"IF($B$10=\"Farchana\",Farchana!G56,IF($B$10=\"Gaga\",Gaga!I75,IF($B$10=\"Treguine\",Treguine!G75,IF($B$10=\"Bredjing\",Bredjing!G75,\"\"))))","v":""}]
[{"$f":"IF($B$10=\"Farchana\",Farchana!A57,IF($B$10=\"Gaga\",Gaga!A76,IF($B$10=\"Treguine\",Treguine!A76,IF($B$10=\"Bredjing\",Bredjing!A76,\"\"))))","v":""},{"$f":"IF($B$10=\"Farchana\",Farchana!B57,IF($B$10=\"Gaga\",Gaga!B76,IF($B$10=\"Treguine\",Treguine!B76,IF($B$10=\"Bredjing\",Bredjing!B76,\"\"))))","v":""},{"$f":"IF($B$10=\"Farchana\",Farchana!C57,IF($B$10=\"Gaga\",Gaga!C76,IF($B$10=\"Treguine\",Treguine!C76,IF($B$10=\"Bredjing\",Bredjing!C76,\"\"))))","v":""},null,null,{"$f":"IF($B$10=\"Farchana\",Farchana!G57,IF($B$10=\"Gaga\",Gaga!I76,IF($B$10=\"Treguine\",Treguine!G76,IF($B$10=\"Bredjing\",Bredjing!G76,\"\"))))","v":""}]
[{"$f":"IF($B$10=\"Farchana\",Farchana!A58,IF($B$10=\"Gaga\",Gaga!A77,IF($B$10=\"Treguine\",Treguine!A77,IF($B$10=\"Bredjing\",Bredjing!A77,\"\"))))","v":""},{"$f":"IF($B$10=\"Farchana\",Farchana!B58,IF($B$10=\"Gaga\",Gaga!B77,IF($B$10=\"Treguine\",Treguine!B77,IF($B$10=\"Bredjing\",Bredjing!B77,\"\"))))","v":""},{"$f":"IF($B$10=\"Farchana\",Farchana!C58,IF($B$10=\"Gaga\",Gaga!C77,IF($B$10=\"Treguine\",Treguine!C77,IF($B$10=\"Bredjing\",Bredjing!C77,\"\"))))","v":""},null,null,{"$f":"IF($B$10=\"Farchana\",Farchana!G58,IF($B$10=\"Gaga\",Gaga!I77,IF($B$10=\"Treguine\",Treguine!G77,IF($B$10=\"Bredjing\",Bredjing!G77,\"\"))))","v":""}]
[{"$f":"IF($B$10=\"Farchana\",Farchana!A59,IF($B$10=\"Gaga\",Gaga!A78,IF($B$10=\"Treguine\",Treguine!A78,IF($B$10=\"Bredjing\",Bredjing!A78,\"\"))))","v":""},{"$f":"IF($B$10=\"Farchana\",Farchana!B59,IF($B$10=\"Gaga\",Gaga!B78,IF($B$10=\"Treguine\",Treguine!B78,IF($B$10=\"Bredjing\",Bredjing!B78,\"\"))))","v":""},{"$f":"IF($B$10=\"Farchana\",Farchana!C59,IF($B$10=\"Gaga\",Gaga!C78,IF($B$10=\"Treguine\",Treguine!C78,IF($B$10=\"Bredjing\",Bredjing!C78,\"\"))))","v":""},null,null,{"$f":"IF($B$10=\"Farchana\",Farchana!G59,IF($B$10=\"Gaga\",Gaga!I78,IF($B$10=\"Treguine\",Treguine!G78,IF($B$10=\"Bredjing\",Bredjing!G78,\"\"))))","v":""}]
[{"$f":"IF($B$10=\"Farchana\",Farchana!A60,IF($B$10=\"Gaga\",Gaga!A79,IF($B$10=\"Treguine\",Treguine!A79,IF($B$10=\"Bredjing\",Bredjing!A79,\"\"))))","v":""},{"$f":"IF($B$10=\"Farchana\",Farchana!B60,IF($B$10=\"Gaga\",Gaga!B79,IF($B$10=\"Treguine\",Treguine!B79,IF($B$10=\"Bredjing\",Bredjing!B79,\"\"))))","v":""},{"$f":"IF($B$10=\"Farchana\",Farchana!C60,IF($B$10=\"Gaga\",Gaga!C79,IF($B$10=\"Treguine\",Treguine!C79,IF($B$10=\"Bredjing\",Bredjing!C79,\"\"))))","v":""},null,null,{"$f":"IF($B$10=\"Farchana\",Farchana!G60,IF($B$10=\"Gaga\",Gaga!I79,IF($B$10=\"Treguine\",Treguine!G79,IF($B$10=\"Bredjing\",Bredjing!G79,\"\"))))","v":""}]
[{"$f":"IF($B$10=\"Farchana\",Farchana!A61,IF($B$10=\"Gaga\",Gaga!A80,IF($B$10=\"Treguine\",Treguine!A80,IF($B$10=\"Bredjing\",Bredjing!A80,\"\"))))","v":""},{"$f":"IF($B$10=\"Farchana\",Farchana!B61,IF($B$10=\"Gaga\",Gaga!B80,IF($B$10=\"Treguine\",Treguine!B80,IF($B$10=\"Bredjing\",Bredjing!B80,\"\"))))","v":""},{"$f":"IF($B$10=\"Farchana\",Farchana!C61,IF($B$10=\"Gaga\",Gaga!C80,IF($B$10=\"Treguine\",Treguine!C80,IF($B$10=\"Bredjing\",Bredjing!C80,\"\"))))","v":""},null,null,{"$f":"IF($B$10=\"Farchana\",Farchana!G61,IF($B$10=\"Gaga\",Gaga!I80,IF($B$10=\"Treguine\",Treguine!G80,IF($B$10=\"Bredjing\",Bredjing!G80,\"\"))))","v":""},null,null,null,"B"]
[{"$f":"IF($B$10=\"Farchana\",Farchana!A62,IF($B$10=\"Gaga\",Gaga!A81,IF($B$10=\"Treguine\",Treguine!A81,IF($B$10=\"Bredjing\",Bredjing!A81,\"\"))))","v":""},{"$f":"IF($B$10=\"Farchana\",Farchana!B62,IF($B$10=\"Gaga\",Gaga!B81,IF($B$10=\"Treguine\",Treguine!B81,IF($B$10=\"Bredjing\",Bredjing!B81,\"\"))))","v":""},{"$f":"IF($B$10=\"Farchana\",Farchana!C62,IF($B$10=\"Gaga\",Gaga!C81,IF($B$10=\"Treguine\",Treguine!C81,IF($B$10=\"Bredjing\",Bredjing!C81,\"\"))))","v":""},null,null,{"$f":"IF($B$10=\"Farchana\",Farchana!G62,IF($B$10=\"Gaga\",Gaga!I81,IF($B$10=\"Treguine\",Treguine!G81,IF($B$10=\"Bredjing\",Bredjing!G81,\"\"))))","v":""}]
[{"$f":"IF($B$10=\"Farchana\",Farchana!A63,IF($B$10=\"Gaga\",Gaga!A82,IF($B$10=\"Treguine\",Treguine!A82,IF($B$10=\"Bredjing\",Bredjing!A82,\"\"))))","v":""},{"$f":"IF($B$10=\"Farchana\",Farchana!B63,IF($B$10=\"Gaga\",Gaga!B82,IF($B$10=\"Treguine\",Treguine!B82,IF($B$10=\"Bredjing\",Bredjing!B82,\"\"))))","v":""},{"$f":"IF($B$10=\"Farchana\",Farchana!C63,IF($B$10=\"Gaga\",Gaga!C82,IF($B$10=\"Treguine\",Treguine!C82,IF($B$10=\"Bredjing\",Bredjing!C82,\"\"))))","v":""},null,null,{"$f":"IF($B$10=\"Farchana\",Farchana!G63,IF($B$10=\"Gaga\",Gaga!I82,IF($B$10=\"Treguine\",Treguine!G82,IF($B$10=\"Bredjing\",Bredjing!G82,\"\"))))","v":""}]
[{"$f":"IF($B$10=\"Farchana\",Farchana!A64,IF($B$10=\"Gaga\",Gaga!A83,IF($B$10=\"Treguine\",Treguine!A83,IF($B$10=\"Bredjing\",Bredjing!A83,\"\"))))","v":""},{"$f":"IF($B$10=\"Farchana\",Farchana!B64,IF($B$10=\"Gaga\",Gaga!B83,IF($B$10=\"Treguine\",Treguine!B83,IF($B$10=\"Bredjing\",Bredjing!B83,\"\"))))","v":""},{"$f":"IF($B$10=\"Farchana\",Farchana!C64,IF($B$10=\"Gaga\",Gaga!C83,IF($B$10=\"Treguine\",Treguine!C83,IF($B$10=\"Bredjing\",Bredjing!C83,\"\"))))","v":""},null,null,{"$f":"IF($B$10=\"Farchana\",Farchana!G64,IF($B$10=\"Gaga\",Gaga!I83,IF($B$10=\"Treguine\",Treguine!G83,IF($B$10=\"Bredjing\",Bredjing!G83,\"\"))))","v":""}]
[{"$f":"IF($B$10=\"Farchana\",Farchana!A65,IF($B$10=\"Gaga\",Gaga!A84,IF($B$10=\"Treguine\",Treguine!A84,IF($B$10=\"Bredjing\",Bredjing!A84,\"\"))))","v":""},{"$f":"IF($B$10=\"Farchana\",Farchana!B65,IF($B$10=\"Gaga\",Gaga!B84,IF($B$10=\"Treguine\",Treguine!B84,IF($B$10=\"Bredjing\",Bredjing!B84,\"\"))))","v":""},{"$f":"IF($B$10=\"Farchana\",Farchana!C65,IF($B$10=\"Gaga\",Gaga!C84,IF($B$10=\"Treguine\",Treguine!C84,IF($B$10=\"Bredjing\",Bredjing!C84,\"\"))))","v":""},null,null,{"$f":"IF($B$10=\"Farchana\",Farchana!G65,IF($B$10=\"Gaga\",Gaga!I84,IF($B$10=\"Treguine\",Treguine!G84,IF($B$10=\"Bredjing\",Bredjing!G84,\"\"))))","v":""}]
[{"$f":"IF($B$10=\"Farchana\",Farchana!A66,IF($B$10=\"Gaga\",Gaga!A85,IF($B$10=\"Treguine\",Treguine!A85,IF($B$10=\"Bredjing\",Bredjing!A85,\"\"))))","v":""},{"$f":"IF($B$10=\"Farchana\",Farchana!B66,IF($B$10=\"Gaga\",Gaga!B85,IF($B$10=\"Treguine\",Treguine!B85,IF($B$10=\"Bredjing\",Bredjing!B85,\"\"))))","v":""},{"$f":"IF($B$10=\"Farchana\",Farchana!C66,IF($B$10=\"Gaga\",Gaga!C85,IF($B$10=\"Treguine\",Treguine!C85,IF($B$10=\"Bredjing\",Bredjing!C85,\"\"))))","v":""},null,null,{"$f":"IF($B$10=\"Farchana\",Farchana!G66,IF($B$10=\"Gaga\",Gaga!I85,IF($B$10=\"Treguine\",Treguine!G85,IF($B$10=\"Bredjing\",Bredjing!G85,\"\"))))","v":""}]
[{"$f":"IF($B$10=\"Farchana\",Farchana!A67,IF($B$10=\"Gaga\",Gaga!A86,IF($B$10=\"Treguine\",Treguine!A86,IF($B$10=\"Bredjing\",Bredjing!A86,\"\"))))","v":""},{"$f":"IF($B$10=\"Farchana\",Farchana!B67,IF($B$10=\"Gaga\",Gaga!B86,IF($B$10=\"Treguine\",Treguine!B86,IF($B$10=\"Bredjing\",Bredjing!B86,\"\"))))","v":""},{"$f":"IF($B$10=\"Farchana\",Farchana!C67,IF($B$10=\"Gaga\",Gaga!C86,IF($B$10=\"Treguine\",Treguine!C86,IF($B$10=\"Bredjing\",Bredjing!C86,\"\"))))","v":""},null,null,{"$f":"IF($B$10=\"Farchana\",Farchana!G67,IF($B$10=\"Gaga\",Gaga!I86,IF($B$10=\"Treguine\",Treguine!G86,IF($B$10=\"Bredjing\",Bredjing!G86,\"\"))))","v":""}]
[{"$f":"IF($B$10=\"Farchana\",Farchana!A68,IF($B$10=\"Gaga\",Gaga!A87,IF($B$10=\"Treguine\",Treguine!A87,IF($B$10=\"Bredjing\",Bredjing!A87,\"\"))))","v":""},{"$f":"IF($B$10=\"Farchana\",Farchana!B68,IF($B$10=\"Gaga\",Gaga!B87,IF($B$10=\"Treguine\",Treguine!B87,IF($B$10=\"Bredjing\",Bredjing!B87,\"\"))))","v":""},{"$f":"IF($B$10=\"Farchana\",Farchana!C68,IF($B$10=\"Gaga\",Gaga!C87,IF($B$10=\"Treguine\",Treguine!C87,IF($B$10=\"Bredjing\",Bredjing!C87,\"\"))))","v":""},null,null,{"$f":"IF($B$10=\"Farchana\",Farchana!G68,IF($B$10=\"Gaga\",Gaga!I87,IF($B$10=\"Treguine\",Treguine!G87,IF($B$10=\"Bredjing\",Bredjing!G87,\"\"))))","v":""}]
[{"$f":"IF($B$10=\"Farchana\",Farchana!A69,IF($B$10=\"Gaga\",Gaga!A88,IF($B$10=\"Treguine\",Treguine!A88,IF($B$10=\"Bredjing\",Bredjing!A88,\"\"))))","v":""},{"$f":"IF($B$10=\"Farchana\",Farchana!B69,IF($B$10=\"Gaga\",Gaga!B88,IF($B$10=\"Treguine\",Treguine!B88,IF($B$10=\"Bredjing\",Bredjing!B88,\"\"))))","v":""},{"$f":"IF($B$10=\"Farchana\",Farchana!C69,IF($B$10=\"Gaga\",Gaga!C88,IF($B$10=\"Treguine\",Treguine!C88,IF($B$10=\"Bredjing\",Bredjing!C88,\"\"))))","v":""},null,null,{"$f":"IF($B$10=\"Farchana\",Farchana!G69,IF($B$10=\"Gaga\",Gaga!I88,IF($B$10=\"Treguine\",Treguine!G88,IF($B$10=\"Bredjing\",Bredjing!G88,\"\"))))","v":""}]
[{"$f":"IF($B$10=\"Farchana\",Farchana!A70,IF($B$10=\"Gaga\",Gaga!A89,IF($B$10=\"Treguine\",Treguine!A89,IF($B$10=\"Bredjing\",Bredjing!A89,\"\"))))","v":""},{"$f":"IF($B$10=\"Farchana\",Farchana!B70,IF($B$10=\"Gaga\",Gaga!B89,IF($B$10=\"Treguine\",Treguine!B89,IF($B$10=\"Bredjing\",Bredjing!B89,\"\"))))","v":""},{"$f":"IF($B$10=\"Farchana\",Farchana!C70,IF($B$10=\"Gaga\",Gaga!C89,IF($B$10=\"Treguine\",Treguine!C89,IF($B$10=\"Bredjing\",Bredjing!C89,\"\"))))","v":""},null,null,{"$f":"IF($B$10=\"Farchana\",Farchana!G70,IF($B$10=\"Gaga\",Gaga!I89,IF($B$10=\"Treguine\",Treguine!G89,IF($B$10=\"Bredjing\",Bredjing!G89,\"\"))))","v":""}]
[{"$f":"IF($B$10=\"Farchana\",Farchana!A71,IF($B$10=\"Gaga\",Gaga!A90,IF($B$10=\"Treguine\",Treguine!A90,IF($B$10=\"Bredjing\",Bredjing!A90,\"\"))))","v":""},{"$f":"IF($B$10=\"Farchana\",Farchana!B71,IF($B$10=\"Gaga\",Gaga!B90,IF($B$10=\"Treguine\",Treguine!B90,IF($B$10=\"Bredjing\",Bredjing!B90,\"\"))))","v":""},{"$f":"IF($B$10=\"Farchana\",Farchana!C71,IF($B$10=\"Gaga\",Gaga!C90,IF($B$10=\"Treguine\",Treguine!C90,IF($B$10=\"Bredjing\",Bredjing!C90,\"\"))))","v":""},null,null,{"$f":"IF($B$10=\"Farchana\",Farchana!G71,IF($B$10=\"Gaga\",Gaga!I90,IF($B$10=\"Treguine\",Treguine!G90,IF($B$10=\"Bredjing\",Bredjing!G90,\"\"))))","v":""}]
[{"$f":"IF($B$10=\"Farchana\",Farchana!A72,IF($B$10=\"Gaga\",Gaga!A91,IF($B$10=\"Treguine\",Treguine!A91,IF($B$10=\"Bredjing\",Bredjing!A91,\"\"))))","v":""},{"$f":"IF($B$10=\"Farchana\",Farchana!B72,IF($B$10=\"Gaga\",Gaga!B91,IF($B$10=\"Treguine\",Treguine!B91,IF($B$10=\"Bredjing\",Bredjing!B91,\"\"))))","v":""},{"$f":"IF($B$10=\"Farchana\",Farchana!C72,IF($B$10=\"Gaga\",Gaga!C91,IF($B$10=\"Treguine\",Treguine!C91,IF($B$10=\"Bredjing\",Bredjing!C91,\"\"))))","v":""},null,null,{"$f":"IF($B$10=\"Farchana\",Farchana!G72,IF($B$10=\"Gaga\",Gaga!I91,IF($B$10=\"Treguine\",Treguine!G91,IF($B$10=\"Bredjing\",Bredjing!G91,\"\"))))","v":""}]
[{"$f":"IF($B$10=\"Farchana\",Farchana!A73,IF($B$10=\"Gaga\",Gaga!A92,IF($B$10=\"Treguine\",Treguine!A92,IF($B$10=\"Bredjing\",Bredjing!A92,\"\"))))","v":""},{"$f":"IF($B$10=\"Farchana\",Farchana!B73,IF($B$10=\"Gaga\",Gaga!B92,IF($B$10=\"Treguine\",Treguine!B92,IF($B$10=\"Bredjing\",Bredjing!B92,\"\"))))","v":""},{"$f":"IF($B$10=\"Farchana\",Farchana!C73,IF($B$10=\"Gaga\",Gaga!C92,IF($B$10=\"Treguine\",Treguine!C92,IF($B$10=\"Bredjing\",Bredjing!C92,\"\"))))","v":""},null,null,{"$f":"IF($B$10=\"Farchana\",Farchana!G73,IF($B$10=\"Gaga\",Gaga!I92,IF($B$10=\"Treguine\",Treguine!G92,IF($B$10=\"Bredjing\",Bredjing!G92,\"\"))))","v":""}]
[{"$f":"IF($B$10=\"Farchana\",Farchana!A74,IF($B$10=\"Gaga\",Gaga!A93,IF($B$10=\"Treguine\",Treguine!A93,IF($B$10=\"Bredjing\",Bredjing!A93,\"\"))))","v":""},{"$f":"IF($B$10=\"Farchana\",Farchana!B74,IF($B$10=\"Gaga\",Gaga!B93,IF($B$10=\"Treguine\",Treguine!B93,IF($B$10=\"Bredjing\",Bredjing!B93,\"\"))))","v":""},{"$f":"IF($B$10=\"Farchana\",Farchana!C74,IF($B$10=\"Gaga\",Gaga!C93,IF($B$10=\"Treguine\",Treguine!C93,IF($B$10=\"Bredjing\",Bredjing!C93,\"\"))))","v":""},null,null,{"$f":"IF($B$10=\"Farchana\",Farchana!G74,IF($B$10=\"Gaga\",Gaga!I93,IF($B$10=\"Treguine\",Treguine!G93,IF($B$10=\"Bredjing\",Bredjing!G93,\"\"))))","v":""}]
[{"$f":"IF($B$10=\"Farchana\",Farchana!A75,IF($B$10=\"Gaga\",Gaga!A94,IF($B$10=\"Treguine\",Treguine!A94,IF($B$10=\"Bredjing\",Bredjing!A94,\"\"))))","v":""},{"$f":"IF($B$10=\"Farchana\",Farchana!B75,IF($B$10=\"Gaga\",Gaga!B94,IF($B$10=\"Treguine\",Treguine!B94,IF($B$10=\"Bredjing\",Bredjing!B94,\"\"))))","v":""},{"$f":"IF($B$10=\"Farchana\",Farchana!C75,IF($B$10=\"Gaga\",Gaga!C94,IF($B$10=\"Treguine\",Treguine!C94,IF($B$10=\"Bredjing\",Bredjing!C94,\"\"))))","v":""},null,null,{"$f":"IF($B$10=\"Farchana\",Farchana!G75,IF($B$10=\"Gaga\",Gaga!I94,IF($B$10=\"Treguine\",Treguine!G94,IF($B$10=\"Bredjing\",Bredjing!G94,\"\"))))","v":""}]
[{"$f":"IF($B$10=\"Farchana\",Farchana!A76,IF($B$10=\"Gaga\",Gaga!A95,IF($B$10=\"Treguine\",Treguine!A95,IF($B$10=\"Bredjing\",Bredjing!A95,\"\"))))","v":""},{"$f":"IF($B$10=\"Farchana\",Farchana!B76,IF($B$10=\"Gaga\",Gaga!B95,IF($B$10=\"Treguine\",Treguine!B95,IF($B$10=\"Bredjing\",Bredjing!B95,\"\"))))","v":""},{"$f":"IF($B$10=\"Farchana\",Farchana!C76,IF($B$10=\"Gaga\",Gaga!C95,IF($B$10=\"Treguine\",Treguine!C95,IF($B$10=\"Bredjing\",Bredjing!C95,\"\"))))","v":""},null,null,{"$f":"IF($B$10=\"Farchana\",Farchana!G76,IF($B$10=\"Gaga\",Gaga!I95,IF($B$10=\"Treguine\",Treguine!G95,IF($B$10=\"Bredjing\",Bredjing!G95,\"\"))))","v":""}]
[{"$f":"IF($B$10=\"Farchana\",Farchana!A77,IF($B$10=\"Gaga\",Gaga!A96,IF($B$10=\"Treguine\",Treguine!A96,IF($B$10=\"Bredjing\",Bredjing!A96,\"\"))))","v":""},{"$f":"IF($B$10=\"Farchana\",Farchana!B77,IF($B$10=\"Gaga\",Gaga!B96,IF($B$10=\"Treguine\",Treguine!B96,IF($B$10=\"Bredjing\",Bredjing!B96,\"\"))))","v":""},{"$f":"IF($B$10=\"Farchana\",Farchana!C77,IF($B$10=\"Gaga\",Gaga!C96,IF($B$10=\"Treguine\",Treguine!C96,IF($B$10=\"Bredjing\",Bredjing!C96,\"\"))))","v":""},null,null,{"$f":"IF($B$10=\"Farchana\",Farchana!G77,IF($B$10=\"Gaga\",Gaga!I96,IF($B$10=\"Treguine\",Treguine!G96,IF($B$10=\"Bredjing\",Bredjing!G96,\"\"))))","v":""}]
[{"$f":"IF($B$10=\"Farchana\",Farchana!A78,IF($B$10=\"Gaga\",Gaga!A97,IF($B$10=\"Treguine\",Treguine!A97,IF($B$10=\"Bredjing\",Bredjing!A97,\"\"))))","v":""},{"$f":"IF($B$10=\"Farchana\",Farchana!B78,IF($B$10=\"Gaga\",Gaga!B97,IF($B$10=\"Treguine\",Treguine!B97,IF($B$10=\"Bredjing\",Bredjing!B97,\"\"))))","v":""},{"$f":"IF($B$10=\"Farchana\",Farchana!C78,IF($B$10=\"Gaga\",Gaga!C97,IF($B$10=\"Treguine\",Treguine!C97,IF($B$10=\"Bredjing\",Bredjing!C97,\"\"))))","v":""},null,null,{"$f":"IF($B$10=\"Farchana\",Farchana!G78,IF($B$10=\"Gaga\",Gaga!I97,IF($B$10=\"Treguine\",Treguine!G97,IF($B$10=\"Bredjing\",Bredjing!G97,\"\"))))","v":""}]
[{"$f":"IF($B$10=\"Farchana\",Farchana!A79,IF($B$10=\"Gaga\",Gaga!A98,IF($B$10=\"Treguine\",Treguine!A98,IF($B$10=\"Bredjing\",Bredjing!A98,\"\"))))","v":""},{"$f":"IF($B$10=\"Farchana\",Farchana!B79,IF($B$10=\"Gaga\",Gaga!B98,IF($B$10=\"Treguine\",Treguine!B98,IF($B$10=\"Bredjing\",Bredjing!B98,\"\"))))","v":""},{"$f":"IF($B$10=\"Farchana\",Farchana!C79,IF($B$10=\"Gaga\",Gaga!C98,IF($B$10=\"Treguine\",Treguine!C98,IF($B$10=\"Bredjing\",Bredjing!C98,\"\"))))","v":""},null,null,{"$f":"IF($B$10=\"Farchana\",Farchana!G79,IF($B$10=\"Gaga\",Gaga!I98,IF($B$10=\"Treguine\",Treguine!G98,IF($B$10=\"Bredjing\",Bredjing!G98,\"\"))))","v":""}]
[{"$f":"IF($B$10=\"Farchana\",Farchana!A80,IF($B$10=\"Gaga\",Gaga!A99,IF($B$10=\"Treguine\",Treguine!A99,IF($B$10=\"Bredjing\",Bredjing!A99,\"\"))))","v":""},{"$f":"IF($B$10=\"Farchana\",Farchana!B80,IF($B$10=\"Gaga\",Gaga!B99,IF($B$10=\"Treguine\",Treguine!B99,IF($B$10=\"Bredjing\",Bredjing!B99,\"\"))))","v":""},{"$f":"IF($B$10=\"Farchana\",Farchana!C80,IF($B$10=\"Gaga\",Gaga!C99,IF($B$10=\"Treguine\",Treguine!C99,IF($B$10=\"Bredjing\",Bredjing!C99,\"\"))))","v":""},null,null,{"$f":"IF($B$10=\"Farchana\",Farchana!G80,IF($B$10=\"Gaga\",Gaga!I99,IF($B$10=\"Treguine\",Treguine!G99,IF($B$10=\"Bredjing\",Bredjing!G99,\"\"))))","v":""}]
[{"$f":"IF($B$10=\"Farchana\",Farchana!A81,IF($B$10=\"Gaga\",Gaga!A100,IF($B$10=\"Treguine\",Treguine!A100,IF($B$10=\"Bredjing\",Bredjing!A100,\"\"))))","v":""},{"$f":"IF($B$10=\"Farchana\",Farchana!B81,IF($B$10=\"Gaga\",Gaga!B100,IF($B$10=\"Treguine\",Treguine!B100,IF($B$10=\"Bredjing\",Bredjing!B100,\"\"))))","v":""},{"$f":"IF($B$10=\"Farchana\",Farchana!C81,IF($B$10=\"Gaga\",Gaga!C100,IF($B$10=\"Treguine\",Treguine!C100,IF($B$10=\"Bredjing\",Bredjing!C100,\"\"))))","v":""},null,null,{"$f":"IF($B$10=\"Farchana\",Farchana!G81,IF($B$10=\"Gaga\",Gaga!I100,IF($B$10=\"Treguine\",Treguine!G100,IF($B$10=\"Bredjing\",Bredjing!G100,\"\"))))","v":""}]
[{"$f":"IF($B$10=\"Farchana\",Farchana!A82,IF($B$10=\"Gaga\",Gaga!A101,IF($B$10=\"Treguine\",Treguine!A101,IF($B$10=\"Bredjing\",Bredjing!A101,\"\"))))","v":""},{"$f":"IF($B$10=\"Farchana\",Farchana!B82,IF($B$10=\"Gaga\",Gaga!B101,IF($B$10=\"Treguine\",Treguine!B101,IF($B$10=\"Bredjing\",Bredjing!B101,\"\"))))","v":""},{"$f":"IF($B$10=\"Farchana\",Farchana!C82,IF($B$10=\"Gaga\",Gaga!C101,IF($B$10=\"Treguine\",Treguine!C101,IF($B$10=\"Bredjing\",Bredjing!C101,\"\"))))","v":""},null,null,{"$f":"IF($B$10=\"Farchana\",Farchana!G82,IF($B$10=\"Gaga\",Gaga!I101,IF($B$10=\"Treguine\",Treguine!G101,IF($B$10=\"Bredjing\",Bredjing!G101,\"\"))))","v":""}]
[{"$f":"IF($B$10=\"Farchana\",Farchana!A83,IF($B$10=\"Gaga\",Gaga!A102,IF($B$10=\"Treguine\",Treguine!A102,IF($B$10=\"Bredjing\",Bredjing!A102,\"\"))))","v":""},{"$f":"IF($B$10=\"Farchana\",Farchana!B83,IF($B$10=\"Gaga\",Gaga!B102,IF($B$10=\"Treguine\",Treguine!B102,IF($B$10=\"Bredjing\",Bredjing!B102,\"\"))))","v":""},{"$f":"IF($B$10=\"Farchana\",Farchana!C83,IF($B$10=\"Gaga\",Gaga!C102,IF($B$10=\"Treguine\",Treguine!C102,IF($B$10=\"Bredjing\",Bredjing!C102,\"\"))))","v":""},null,null,{"$f":"IF($B$10=\"Farchana\",Farchana!G83,IF($B$10=\"Gaga\",Gaga!I102,IF($B$10=\"Treguine\",Treguine!G102,IF($B$10=\"Bredjing\",Bredjing!G102,\"\"))))","v":""}]
[{"$f":"IF($B$10=\"Farchana\",Farchana!A84,IF($B$10=\"Gaga\",Gaga!A103,IF($B$10=\"Treguine\",Treguine!A103,IF($B$10=\"Bredjing\",Bredjing!A103,\"\"))))","v":""},{"$f":"IF($B$10=\"Farchana\",Farchana!B84,IF($B$10=\"Gaga\",Gaga!B103,IF($B$10=\"Treguine\",Treguine!B103,IF($B$10=\"Bredjing\",Bredjing!B103,\"\"))))","v":""},{"$f":"IF($B$10=\"Farchana\",Farchana!C84,IF($B$10=\"Gaga\",Gaga!C103,IF($B$10=\"Treguine\",Treguine!C103,IF($B$10=\"Bredjing\",Bredjing!C103,\"\"))))","v":""},null,null,{"$f":"IF($B$10=\"Farchana\",Farchana!G84,IF($B$10=\"Gaga\",Gaga!I103,IF($B$10=\"Treguine\",Treguine!G103,IF($B$10=\"Bredjing\",Bredjing!G103,\"\"))))","v":""}]
[{"$f":"IF($B$10=\"Farchana\",Farchana!A85,IF($B$10=\"Gaga\",Gaga!A104,IF($B$10=\"Treguine\",Treguine!A104,IF($B$10=\"Bredjing\",Bredjing!A104,\"\"))))","v":""},{"$f":"IF($B$10=\"Farchana\",Farchana!B85,IF($B$10=\"Gaga\",Gaga!B104,IF($B$10=\"Treguine\",Treguine!B104,IF($B$10=\"Bredjing\",Bredjing!B104,\"\"))))","v":""},{"$f":"IF($B$10=\"Farchana\",Farchana!C85,IF($B$10=\"Gaga\",Gaga!C104,IF($B$10=\"Treguine\",Treguine!C104,IF($B$10=\"Bredjing\",Bredjing!C104,\"\"))))","v":""},null,null,{"$f":"IF($B$10=\"Farchana\",Farchana!G85,IF($B$10=\"Gaga\",Gaga!I104,IF($B$10=\"Treguine\",Treguine!G104,IF($B$10=\"Bredjing\",Bredjing!G104,\"\"))))","v":""}]
[{"$f":"IF($B$10=\"Farchana\",Farchana!A86,IF($B$10=\"Gaga\",Gaga!A105,IF($B$10=\"Treguine\",Treguine!A105,IF($B$10=\"Bredjing\",Bredjing!A105,\"\"))))","v":""},{"$f":"IF($B$10=\"Farchana\",Farchana!B86,IF($B$10=\"Gaga\",Gaga!B105,IF($B$10=\"Treguine\",Treguine!B105,IF($B$10=\"Bredjing\",Bredjing!B105,\"\"))))","v":""},{"$f":"IF($B$10=\"Farchana\",Farchana!C86,IF($B$10=\"Gaga\",Gaga!C105,IF($B$10=\"Treguine\",Treguine!C105,IF($B$10=\"Bredjing\",Bredjing!C105,\"\"))))","v":""},null,null,{"$f":"IF($B$10=\"Farchana\",Farchana!G86,IF($B$10=\"Gaga\",Gaga!I105,IF($B$10=\"Treguine\",Treguine!G105,IF($B$10=\"Bredjing\",Bredjing!G105,\"\"))))","v":""}]
[{"$f":"IF($B$10=\"Farchana\",Farchana!A87,IF($B$10=\"Gaga\",Gaga!A106,IF($B$10=\"Treguine\",Treguine!A106,IF($B$10=\"Bredjing\",Bredjing!A106,\"\"))))","v":""},{"$f":"IF($B$10=\"Farchana\",Farchana!B87,IF($B$10=\"Gaga\",Gaga!B106,IF($B$10=\"Treguine\",Treguine!B106,IF($B$10=\"Bredjing\",Bredjing!B106,\"\"))))","v":""},{"$f":"IF($B$10=\"Farchana\",Farchana!C87,IF($B$10=\"Gaga\",Gaga!C106,IF($B$10=\"Treguine\",Treguine!C106,IF($B$10=\"Bredjing\",Bredjing!C106,\"\"))))","v":""},null,null,{"$f":"IF($B$10=\"Farchana\",Farchana!G87,IF($B$10=\"Gaga\",Gaga!I106,IF($B$10=\"Treguine\",Treguine!G106,IF($B$10=\"Bredjing\",Bredjing!G106,\"\"))))","v":""}]
[{"$f":"IF($B$10=\"Farchana\",Farchana!A88,IF($B$10=\"Gaga\",Gaga!A107,IF($B$10=\"Treguine\",Treguine!A107,IF($B$10=\"Bredjing\",Bredjing!A107,\"\"))))","v":""},{"$f":"IF($B$10=\"Farchana\",Farchana!B88,IF($B$10=\"Gaga\",Gaga!B107,IF($B$10=\"Treguine\",Treguine!B107,IF($B$10=\"Bredjing\",Bredjing!B107,\"\"))))","v":""},{"$f":"IF($B$10=\"Farchana\",Farchana!C88,IF($B$10=\"Gaga\",Gaga!C107,IF($B$10=\"Treguine\",Treguine!C107,IF($B$10=\"Bredjing\",Bredjing!C107,\"\"))))","v":""},null,null,{"$f":"IF($B$10=\"Farchana\",Farchana!G88,IF($B$10=\"Gaga\",Gaga!I107,IF($B$10=\"Treguine\",Treguine!G107,IF($B$10=\"Bredjing\",Bredjing!G107,\"\"))))","v":""}]
[{"$f":"IF($B$10=\"Farchana\",Farchana!A89,IF($B$10=\"Gaga\",Gaga!A108,IF($B$10=\"Treguine\",Treguine!A108,IF($B$10=\"Bredjing\",Bredjing!A108,\"\"))))","v":""},{"$f":"IF($B$10=\"Farchana\",Farchana!B89,IF($B$10=\"Gaga\",Gaga!B108,IF($B$10=\"Treguine\",Treguine!B108,IF($B$10=\"Bredjing\",Bredjing!B108,\"\"))))","v":""},{"$f":"IF($B$10=\"Farchana\",Farchana!C89,IF($B$10=\"Gaga\",Gaga!C108,IF($B$10=\"Treguine\",Treguine!C108,IF($B$10=\"Bredjing\",Bredjing!C108,\"\"))))","v":""},null,null,{"$f":"IF($B$10=\"Farchana\",Farchana!G89,IF($B$10=\"Gaga\",Gaga!I108,IF($B$10=\"Treguine\",Treguine!G108,IF($B$10=\"Bredjing\",Bredjing!G108,\"\"))))","v":""}]
[{"$f":"IF($B$10=\"Farchana\",Farchana!A90,IF($B$10=\"Gaga\",Gaga!A109,IF($B$10=\"Treguine\",Treguine!A109,IF($B$10=\"Bredjing\",Bredjing!A109,\"\"))))","v":""},{"$f":"IF($B$10=\"Farchana\",Farchana!B90,IF($B$10=\"Gaga\",Gaga!B109,IF($B$10=\"Treguine\",Treguine!B109,IF($B$10=\"Bredjing\",Bredjing!B109,\"\"))))","v":""},{"$f":"IF($B$10=\"Farchana\",Farchana!C90,IF($B$10=\"Gaga\",Gaga!C109,IF($B$10=\"Treguine\",Treguine!C109,IF($B$10=\"Bredjing\",Bredjing!C109,\"\"))))","v":""},null,null,{"$f":"IF($B$10=\"Farchana\",Farchana!G90,IF($B$10=\"Gaga\",Gaga!I109,IF($B$10=\"Treguine\",Treguine!G109,IF($B$10=\"Bredjing\",Bredjing!G109,\"\"))))","v":""}]
[{"$f":"IF($B$10=\"Farchana\",Farchana!A91,IF($B$10=\"Gaga\",Gaga!A110,IF($B$10=\"Treguine\",Treguine!A110,IF($B$10=\"Bredjing\",Bredjing!A110,\"\"))))","v":""},{"$f":"IF($B$10=\"Farchana\",Farchana!B91,IF($B$10=\"Gaga\",Gaga!B110,IF($B$10=\"Treguine\",Treguine!B110,IF($B$10=\"Bredjing\",Bredjing!B110,\"\"))))","v":""},{"$f":"IF($B$10=\"Farchana\",Farchana!C91,IF($B$10=\"Gaga\",Gaga!C110,IF($B$10=\"Treguine\",Treguine!C110,IF($B$10=\"Bredjing\",Bredjing!C110,\"\"))))","v":""},null,null,{"$f":"IF($B$10=\"Farchana\",Farchana!G91,IF($B$10=\"Gaga\",Gaga!I110,IF($B$10=\"Treguine\",Treguine!G110,IF($B$10=\"Bredjing\",Bredjing!G110,\"\"))))","v":""}]
[{"$f":"IF($B$10=\"Farchana\",Farchana!A92,IF($B$10=\"Gaga\",Gaga!A111,IF($B$10=\"Treguine\",Treguine!A111,IF($B$10=\"Bredjing\",Bredjing!A111,\"\"))))","v":""},{"$f":"IF($B$10=\"Farchana\",Farchana!B92,IF($B$10=\"Gaga\",Gaga!B111,IF($B$10=\"Treguine\",Treguine!B111,IF($B$10=\"Bredjing\",Bredjing!B111,\"\"))))","v":""},{"$f":"IF($B$10=\"Farchana\",Farchana!C92,IF($B$10=\"Gaga\",Gaga!C111,IF($B$10=\"Treguine\",Treguine!C111,IF($B$10=\"Bredjing\",Bredjing!C111,\"\"))))","v":""},null,null,{"$f":"IF($B$10=\"Farchana\",Farchana!G92,IF($B$10=\"Gaga\",Gaga!I111,IF($B$10=\"Treguine\",Treguine!G111,IF($B$10=\"Bredjing\",Bredjing!G111,\"\"))))","v":""}]
[{"$f":"IF($B$10=\"Farchana\",Farchana!A93,IF($B$10=\"Gaga\",Gaga!A112,IF($B$10=\"Treguine\",Treguine!A112,IF($B$10=\"Bredjing\",Bredjing!A112,\"\"))))","v":""},{"$f":"IF($B$10=\"Farchana\",Farchana!B93,IF($B$10=\"Gaga\",Gaga!B112,IF($B$10=\"Treguine\",Treguine!B112,IF($B$10=\"Bredjing\",Bredjing!B112,\"\"))))","v":""},{"$f":"IF($B$10=\"Farchana\",Farchana!C93,IF($B$10=\"Gaga\",Gaga!C112,IF($B$10=\"Treguine\",Treguine!C112,IF($B$10=\"Bredjing\",Bredjing!C112,\"\"))))","v":""},null,null,{"$f":"IF($B$10=\"Farchana\",Farchana!G93,IF($B$10=\"Gaga\",Gaga!I112,IF($B$10=\"Treguine\",Treguine!G112,IF($B$10=\"Bredjing\",Bredjing!G112,\"\"))))","v":""}]
[{"$f":"IF($B$10=\"Farchana\",Farchana!A94,IF($B$10=\"Gaga\",Gaga!A113,IF($B$10=\"Treguine\",Treguine!A113,IF($B$10=\"Bredjing\",Bredjing!A113,\"\"))))","v":""},{"$f":"IF($B$10=\"Farchana\",Farchana!B94,IF($B$10=\"Gaga\",Gaga!B113,IF($B$10=\"Treguine\",Treguine!B113,IF($B$10=\"Bredjing\",Bredjing!B113,\"\"))))","v":""},{"$f":"IF($B$10=\"Farchana\",Farchana!C94,IF($B$10=\"Gaga\",Gaga!C113,IF($B$10=\"Treguine\",Treguine!C113,IF($B$10=\"Bredjing\",Bredjing!C113,\"\"))))","v":""},null,null,{"$f":"IF($B$10=\"Farchana\",Farchana!G94,IF($B$10=\"Gaga\",Gaga!I113,IF($B$10=\"Treguine\",Treguine!G113,IF($B$10=\"Bredjing\",Bredjing!G113,\"\"))))","v":""}]
[{"$f":"IF($B$10=\"Farchana\",Farchana!A95,IF($B$10=\"Gaga\",Gaga!A114,IF($B$10=\"Treguine\",Treguine!A114,IF($B$10=\"Bredjing\",Bredjing!A114,\"\"))))","v":""},{"$f":"IF($B$10=\"Farchana\",Farchana!B95,IF($B$10=\"Gaga\",Gaga!B114,IF($B$10=\"Treguine\",Treguine!B114,IF($B$10=\"Bredjing\",Bredjing!B114,\"\"))))","v":""},{"$f":"IF($B$10=\"Farchana\",Farchana!C95,IF($B$10=\"Gaga\",Gaga!C114,IF($B$10=\"Treguine\",Treguine!C114,IF($B$10=\"Bredjing\",Bredjing!C114,\"\"))))","v":""},null,null,{"$f":"IF($B$10=\"Farchana\",Farchana!G95,IF($B$10=\"Gaga\",Gaga!I114,IF($B$10=\"Treguine\",Treguine!G114,IF($B$10=\"Bredjing\",Bredjing!G114,\"\"))))","v":""}]
[{"$f":"IF($B$10=\"Farchana\",Farchana!A96,IF($B$10=\"Gaga\",Gaga!A115,IF($B$10=\"Treguine\",Treguine!A115,IF($B$10=\"Bredjing\",Bredjing!A115,\"\"))))","v":""},{"$f":"IF($B$10=\"Farchana\",Farchana!B96,IF($B$10=\"Gaga\",Gaga!B115,IF($B$10=\"Treguine\",Treguine!B115,IF($B$10=\"Bredjing\",Bredjing!B115,\"\"))))","v":""},{"$f":"IF($B$10=\"Farchana\",Farchana!C96,IF($B$10=\"Gaga\",Gaga!C115,IF($B$10=\"Treguine\",Treguine!C115,IF($B$10=\"Bredjing\",Bredjing!C115,\"\"))))","v":""},null,null,{"$f":"IF($B$10=\"Farchana\",Farchana!G96,IF($B$10=\"Gaga\",Gaga!I115,IF($B$10=\"Treguine\",Treguine!G115,IF($B$10=\"Bredjing\",Bredjing!G115,\"\"))))","v":""}]
[{"$f":"IF($B$10=\"Farchana\",Farchana!A97,IF($B$10=\"Gaga\",Gaga!A116,IF($B$10=\"Treguine\",Treguine!A116,IF($B$10=\"Bredjing\",Bredjing!A116,\"\"))))","v":""},{"$f":"IF($B$10=\"Farchana\",Farchana!B97,IF($B$10=\"Gaga\",Gaga!B116,IF($B$10=\"Treguine\",Treguine!B116,IF($B$10=\"Bredjing\",Bredjing!B116,\"\"))))","v":""},{"$f":"IF($B$10=\"Farchana\",Farchana!C97,IF($B$10=\"Gaga\",Gaga!C116,IF($B$10=\"Treguine\",Treguine!C116,IF($B$10=\"Bredjing\",Bredjing!C116,\"\"))))","v":""},null,null,{"$f":"IF($B$10=\"Farchana\",Farchana!G97,IF($B$10=\"Gaga\",Gaga!I116,IF($B$10=\"Treguine\",Treguine!G116,IF($B$10=\"Bredjing\",Bredjing!G116,\"\"))))","v":""}]
[{"$f":"IF($B$10=\"Farchana\",Farchana!A98,IF($B$10=\"Gaga\",Gaga!A117,IF($B$10=\"Treguine\",Treguine!A117,IF($B$10=\"Bredjing\",Bredjing!A117,\"\"))))","v":""},{"$f":"IF($B$10=\"Farchana\",Farchana!B98,IF($B$10=\"Gaga\",Gaga!B117,IF($B$10=\"Treguine\",Treguine!B117,IF($B$10=\"Bredjing\",Bredjing!B117,\"\"))))","v":""},{"$f":"IF($B$10=\"Farchana\",Farchana!C98,IF($B$10=\"Gaga\",Gaga!C117,IF($B$10=\"Treguine\",Treguine!C117,IF($B$10=\"Bredjing\",Bredjing!C117,\"\"))))","v":""},null,null,{"$f":"IF($B$10=\"Farchana\",Farchana!G98,IF($B$10=\"Gaga\",Gaga!I117,IF($B$10=\"Treguine\",Treguine!G117,IF($B$10=\"Bredjing\",Bredjing!G117,\"\"))))","v":""}]
[{"$f":"IF($B$10=\"Farchana\",Farchana!A99,IF($B$10=\"Gaga\",Gaga!A118,IF($B$10=\"Treguine\",Treguine!A118,IF($B$10=\"Bredjing\",Bredjing!A118,\"\"))))","v":""},{"$f":"IF($B$10=\"Farchana\",Farchana!B99,IF($B$10=\"Gaga\",Gaga!B118,IF($B$10=\"Treguine\",Treguine!B118,IF($B$10=\"Bredjing\",Bredjing!B118,\"\"))))","v":""},{"$f":"IF($B$10=\"Farchana\",Farchana!C99,IF($B$10=\"Gaga\",Gaga!C118,IF($B$10=\"Treguine\",Treguine!C118,IF($B$10=\"Bredjing\",Bredjing!C118,\"\"))))","v":""},null,null,{"$f":"IF($B$10=\"Farchana\",Farchana!G99,IF($B$10=\"Gaga\",Gaga!I118,IF($B$10=\"Treguine\",Treguine!G118,IF($B$10=\"Bredjing\",Bredjing!G118,\"\"))))","v":""}]
[{"$f":"IF($B$10=\"Farchana\",Farchana!A100,IF($B$10=\"Gaga\",Gaga!A119,IF($B$10=\"Treguine\",Treguine!A119,IF($B$10=\"Bredjing\",Bredjing!A119,\"\"))))","v":""},{"$f":"IF($B$10=\"Farchana\",Farchana!B100,IF($B$10=\"Gaga\",Gaga!B119,IF($B$10=\"Treguine\",Treguine!B119,IF($B$10=\"Bredjing\",Bredjing!B119,\"\"))))","v":""},{"$f":"IF($B$10=\"Farchana\",Farchana!C100,IF($B$10=\"Gaga\",Gaga!C119,IF($B$10=\"Treguine\",Treguine!C119,IF($B$10=\"Bredjing\",Bredjing!C119,\"\"))))","v":""},null,null,{"$f":"IF($B$10=\"Farchana\",Farchana!G100,IF($B$10=\"Gaga\",Gaga!I119,IF($B$10=\"Treguine\",Treguine!G119,IF($B$10=\"Bredjing\",Bredjing!G119,\"\"))))","v":""}]
[{"$f":"IF($B$10=\"Farchana\",Farchana!A101,IF($B$10=\"Gaga\",Gaga!A120,IF($B$10=\"Treguine\",Treguine!A120,IF($B$10=\"Bredjing\",Bredjing!A120,\"\"))))","v":""},{"$f":"IF($B$10=\"Farchana\",Farchana!B101,IF($B$10=\"Gaga\",Gaga!B120,IF($B$10=\"Treguine\",Treguine!B120,IF($B$10=\"Bredjing\",Bredjing!B120,\"\"))))","v":""},{"$f":"IF($B$10=\"Farchana\",Farchana!C101,IF($B$10=\"Gaga\",Gaga!C120,IF($B$10=\"Treguine\",Treguine!C120,IF($B$10=\"Bredjing\",Bredjing!C120,\"\"))))","v":""},null,null,{"$f":"IF($B$10=\"Farchana\",Farchana!G101,IF($B$10=\"Gaga\",Gaga!I120,IF($B$10=\"Treguine\",Treguine!G120,IF($B$10=\"Bredjing\",Bredjing!G120,\"\"))))","v":""}]
[{"$f":"IF($B$10=\"Farchana\",Farchana!A102,IF($B$10=\"Gaga\",Gaga!A121,IF($B$10=\"Treguine\",Treguine!A121,IF($B$10=\"Bredjing\",Bredjing!A121,\"\"))))","v":""},{"$f":"IF($B$10=\"Farchana\",Farchana!B102,IF($B$10=\"Gaga\",Gaga!B121,IF($B$10=\"Treguine\",Treguine!B121,IF($B$10=\"Bredjing\",Bredjing!B121,\"\"))))","v":""},{"$f":"IF($B$10=\"Farchana\",Farchana!C102,IF($B$10=\"Gaga\",Gaga!C121,IF($B$10=\"Treguine\",Treguine!C121,IF($B$10=\"Bredjing\",Bredjing!C121,\"\"))))","v":""},null,null,{"$f":"IF($B$10=\"Farchana\",Farchana!G102,IF($B$10=\"Gaga\",Gaga!I121,IF($B$10=\"Treguine\",Treguine!G121,IF($B$10=\"Bredjing\",Bredjing!G121,\"\"))))","v":""}]
[{"$f":"IF($B$10=\"Farchana\",Farchana!A103,IF($B$10=\"Gaga\",Gaga!A122,IF($B$10=\"Treguine\",Treguine!A122,IF($B$10=\"Bredjing\",Bredjing!A122,\"\"))))","v":""},{"$f":"IF($B$10=\"Farchana\",Farchana!B103,IF($B$10=\"Gaga\",Gaga!B122,IF($B$10=\"Treguine\",Treguine!B122,IF($B$10=\"Bredjing\",Bredjing!B122,\"\"))))","v":""},{"$f":"IF($B$10=\"Farchana\",Farchana!C103,IF($B$10=\"Gaga\",Gaga!C122,IF($B$10=\"Treguine\",Treguine!C122,IF($B$10=\"Bredjing\",Bredjing!C122,\"\"))))","v":""},null,null,{"$f":"IF($B$10=\"Farchana\",Farchana!G103,IF($B$10=\"Gaga\",Gaga!I122,IF($B$10=\"Treguine\",Treguine!G122,IF($B$10=\"Bredjing\",Bredjing!G122,\"\"))))","v":""}]
[{"$f":"IF($B$10=\"Farchana\",Farchana!A104,IF($B$10=\"Gaga\",Gaga!A123,IF($B$10=\"Treguine\",Treguine!A123,IF($B$10=\"Bredjing\",Bredjing!A123,\"\"))))","v":""},{"$f":"IF($B$10=\"Farchana\",Farchana!B104,IF($B$10=\"Gaga\",Gaga!B123,IF($B$10=\"Treguine\",Treguine!B123,IF($B$10=\"Bredjing\",Bredjing!B123,\"\"))))","v":""},{"$f":"IF($B$10=\"Farchana\",Farchana!C104,IF($B$10=\"Gaga\",Gaga!C123,IF($B$10=\"Treguine\",Treguine!C123,IF($B$10=\"Bredjing\",Bredjing!C123,\"\"))))","v":""},null,null,{"$f":"IF($B$10=\"Farchana\",Farchana!G104,IF($B$10=\"Gaga\",Gaga!I123,IF($B$10=\"Treguine\",Treguine!G123,IF($B$10=\"Bredjing\",Bredjing!G123,\"\"))))","v":""}]
[{"$f":"IF($B$10=\"Farchana\",Farchana!A105,IF($B$10=\"Gaga\",Gaga!A124,IF($B$10=\"Treguine\",Treguine!A124,IF($B$10=\"Bredjing\",Bredjing!A124,\"\"))))","v":""},{"$f":"IF($B$10=\"Farchana\",Farchana!B105,IF($B$10=\"Gaga\",Gaga!B124,IF($B$10=\"Treguine\",Treguine!B124,IF($B$10=\"Bredjing\",Bredjing!B124,\"\"))))","v":""},{"$f":"IF($B$10=\"Farchana\",Farchana!C105,IF($B$10=\"Gaga\",Gaga!C124,IF($B$10=\"Treguine\",Treguine!C124,IF($B$10=\"Bredjing\",Bredjing!C124,\"\"))))","v":""},null,null,{"$f":"IF($B$10=\"Farchana\",Farchana!G105,IF($B$10=\"Gaga\",Gaga!I124,IF($B$10=\"Treguine\",Treguine!G124,IF($B$10=\"Bredjing\",Bredjing!G124,\"\"))))","v":""}]
[{"$f":"IF($B$10=\"Farchana\",Farchana!A106,IF($B$10=\"Gaga\",Gaga!A125,IF($B$10=\"Treguine\",Treguine!A125,IF($B$10=\"Bredjing\",Bredjing!A125,\"\"))))","v":""},{"$f":"IF($B$10=\"Farchana\",Farchana!B106,IF($B$10=\"Gaga\",Gaga!B125,IF($B$10=\"Treguine\",Treguine!B125,IF($B$10=\"Bredjing\",Bredjing!B125,\"\"))))","v":""},{"$f":"IF($B$10=\"Farchana\",Farchana!C106,IF($B$10=\"Gaga\",Gaga!C125,IF($B$10=\"Treguine\",Treguine!C125,IF($B$10=\"Bredjing\",Bredjing!C125,\"\"))))","v":""},null,null,{"$f":"IF($B$10=\"Farchana\",Farchana!G106,IF($B$10=\"Gaga\",Gaga!I125,IF($B$10=\"Treguine\",Treguine!G125,IF($B$10=\"Bredjing\",Bredjing!G125,\"\"))))","v":""}]
[{"$f":"IF($B$10=\"Farchana\",Farchana!A107,IF($B$10=\"Gaga\",Gaga!A126,IF($B$10=\"Treguine\",Treguine!A126,IF($B$10=\"Bredjing\",Bredjing!A126,\"\"))))","v":""},{"$f":"IF($B$10=\"Farchana\",Farchana!B107,IF($B$10=\"Gaga\",Gaga!B126,IF($B$10=\"Treguine\",Treguine!B126,IF($B$10=\"Bredjing\",Bredjing!B126,\"\"))))","v":""},{"$f":"IF($B$10=\"Farchana\",Farchana!C107,IF($B$10=\"Gaga\",Gaga!C126,IF($B$10=\"Treguine\",Treguine!C126,IF($B$10=\"Bredjing\",Bredjing!C126,\"\"))))","v":""},null,null,{"$f":"IF($B$10=\"Farchana\",Farchana!G107,IF($B$10=\"Gaga\",Gaga!I126,IF($B$10=\"Treguine\",Treguine!G126,IF($B$10=\"Bredjing\",Bredjing!G126,\"\"))))","v":""}]
[{"$f":"IF($B$10=\"Farchana\",Farchana!A108,IF($B$10=\"Gaga\",Gaga!A127,IF($B$10=\"Treguine\",Treguine!A127,IF($B$10=\"Bredjing\",Bredjing!A127,\"\"))))","v":""},{"$f":"IF($B$10=\"Farchana\",Farchana!B108,IF($B$10=\"Gaga\",Gaga!B127,IF($B$10=\"Treguine\",Treguine!B127,IF($B$10=\"Bredjing\",Bredjing!B127,\"\"))))","v":""},{"$f":"IF($B$10=\"Farchana\",Farchana!C108,IF($B$10=\"Gaga\",Gaga!C127,IF($B$10=\"Treguine\",Treguine!C127,IF($B$10=\"Bredjing\",Bredjing!C127,\"\"))))","v":""},null,null,{"$f":"IF($B$10=\"Farchana\",Farchana!G108,IF($B$10=\"Gaga\",Gaga!I127,IF($B$10=\"Treguine\",Treguine!G127,IF($B$10=\"Bredjing\",Bredjing!G127,\"\"))))","v":""}]
[{"$f":"IF($B$10=\"Farchana\",Farchana!A109,IF($B$10=\"Gaga\",Gaga!A128,IF($B$10=\"Treguine\",Treguine!A128,IF($B$10=\"Bredjing\",Bredjing!A128,\"\"))))","v":""},{"$f":"IF($B$10=\"Farchana\",Farchana!B109,IF($B$10=\"Gaga\",Gaga!B128,IF($B$10=\"Treguine\",Treguine!B128,IF($B$10=\"Bredjing\",Bredjing!B128,\"\"))))","v":""},{"$f":"IF($B$10=\"Farchana\",Farchana!C109,IF($B$10=\"Gaga\",Gaga!C128,IF($B$10=\"Treguine\",Treguine!C128,IF($B$10=\"Bredjing\",Bredjing!C128,\"\"))))","v":""},null,null,{"$f":"IF($B$10=\"Farchana\",Farchana!G109,IF($B$10=\"Gaga\",Gaga!I128,IF($B$10=\"Treguine\",Treguine!G128,IF($B$10=\"Bredjing\",Bredjing!G128,\"\"))))","v":""}]
[{"$f":"IF($B$10=\"Farchana\",Farchana!A110,IF($B$10=\"Gaga\",Gaga!A129,IF($B$10=\"Treguine\",Treguine!A129,IF($B$10=\"Bredjing\",Bredjing!A129,\"\"))))","v":""},{"$f":"IF($B$10=\"Farchana\",Farchana!B110,IF($B$10=\"Gaga\",Gaga!B129,IF($B$10=\"Treguine\",Treguine!B129,IF($B$10=\"Bredjing\",Bredjing!B129,\"\"))))","v":""},{"$f":"IF($B$10=\"Farchana\",Farchana!C110,IF($B$10=\"Gaga\",Gaga!C129,IF($B$10=\"Treguine\",Treguine!C129,IF($B$10=\"Bredjing\",Bredjing!C129,\"\"))))","v":""},null,null,{"$f":"IF($B$10=\"Farchana\",Farchana!G110,IF($B$10=\"Gaga\",Gaga!I129,IF($B$10=\"Treguine\",Treguine!G129,IF($B$10=\"Bredjing\",Bredjing!G129,\"\"))))","v":""}]
[{"$f":"IF($B$10=\"Farchana\",Farchana!A111,IF($B$10=\"Gaga\",Gaga!A130,IF($B$10=\"Treguine\",Treguine!A130,IF($B$10=\"Bredjing\",Bredjing!A130,\"\"))))","v":""},{"$f":"IF($B$10=\"Farchana\",Farchana!B111,IF($B$10=\"Gaga\",Gaga!B130,IF($B$10=\"Treguine\",Treguine!B130,IF($B$10=\"Bredjing\",Bredjing!B130,\"\"))))","v":""},{"$f":"IF($B$10=\"Farchana\",Farchana!C111,IF($B$10=\"Gaga\",Gaga!C130,IF($B$10=\"Treguine\",Treguine!C130,IF($B$10=\"Bredjing\",Bredjing!C130,\"\"))))","v":""},null,null,{"$f":"IF($B$10=\"Farchana\",Farchana!G111,IF($B$10=\"Gaga\",Gaga!I130,IF($B$10=\"Treguine\",Treguine!G130,IF($B$10=\"Bredjing\",Bredjing!G130,\"\"))))","v":""}]
[{"$f":"IF($B$10=\"Farchana\",Farchana!A112,IF($B$10=\"Gaga\",Gaga!A131,IF($B$10=\"Treguine\",Treguine!A131,IF($B$10=\"Bredjing\",Bredjing!A131,\"\"))))","v":""},{"$f":"IF($B$10=\"Farchana\",Farchana!B112,IF($B$10=\"Gaga\",Gaga!B131,IF($B$10=\"Treguine\",Treguine!B131,IF($B$10=\"Bredjing\",Bredjing!B131,\"\"))))","v":""},{"$f":"IF($B$10=\"Farchana\",Farchana!C112,IF($B$10=\"Gaga\",Gaga!C131,IF($B$10=\"Treguine\",Treguine!C131,IF($B$10=\"Bredjing\",Bredjing!C131,\"\"))))","v":""},null,null,{"$f":"IF($B$10=\"Farchana\",Farchana!G112,IF($B$10=\"Gaga\",Gaga!I131,IF($B$10=\"Treguine\",Treguine!G131,IF($B$10=\"Bredjing\",Bredjing!G131,\"\"))))","v":""}]
[{"$f":"IF($B$10=\"Farchana\",Farchana!A113,IF($B$10=\"Gaga\",Gaga!A132,IF($B$10=\"Treguine\",Treguine!A132,IF($B$10=\"Bredjing\",Bredjing!A132,\"\"))))","v":""},{"$f":"IF($B$10=\"Farchana\",Farchana!B113,IF($B$10=\"Gaga\",Gaga!B132,IF($B$10=\"Treguine\",Treguine!B132,IF($B$10=\"Bredjing\",Bredjing!B132,\"\"))))","v":""},{"$f":"IF($B$10=\"Farchana\",Farchana!C113,IF($B$10=\"Gaga\",Gaga!C132,IF($B$10=\"Treguine\",Treguine!C132,IF($B$10=\"Bredjing\",Bredjing!C132,\"\"))))","v":""},null,null,{"$f":"IF($B$10=\"Farchana\",Farchana!G113,IF($B$10=\"Gaga\",Gaga!I132,IF($B$10=\"Treguine\",Treguine!G132,IF($B$10=\"Bredjing\",Bredjing!G132,\"\"))))","v":""}]
[{"$f":"IF($B$10=\"Farchana\",Farchana!A114,IF($B$10=\"Gaga\",Gaga!A133,IF($B$10=\"Treguine\",Treguine!A133,IF($B$10=\"Bredjing\",Bredjing!A133,\"\"))))","v":""},{"$f":"IF($B$10=\"Farchana\",Farchana!B114,IF($B$10=\"Gaga\",Gaga!B133,IF($B$10=\"Treguine\",Treguine!B133,IF($B$10=\"Bredjing\",Bredjing!B133,\"\"))))","v":""},{"$f":"IF($B$10=\"Farchana\",Farchana!C114,IF($B$10=\"Gaga\",Gaga!C133,IF($B$10=\"Treguine\",Treguine!C133,IF($B$10=\"Bredjing\",Bredjing!C133,\"\"))))","v":""},null,null,{"$f":"IF($B$10=\"Farchana\",Farchana!G114,IF($B$10=\"Gaga\",Gaga!I133,IF($B$10=\"Treguine\",Treguine!G133,IF($B$10=\"Bredjing\",Bredjing!G133,\"\"))))","v":""}]
[{"$f":"IF($B$10=\"Farchana\",Farchana!A115,IF($B$10=\"Gaga\",Gaga!A134,IF($B$10=\"Treguine\",Treguine!A134,IF($B$10=\"Bredjing\",Bredjing!A134,\"\"))))","v":""},{"$f":"IF($B$10=\"Farchana\",Farchana!B115,IF($B$10=\"Gaga\",Gaga!B134,IF($B$10=\"Treguine\",Treguine!B134,IF($B$10=\"Bredjing\",Bredjing!B134,\"\"))))","v":""},{"$f":"IF($B$10=\"Farchana\",Farchana!C115,IF($B$10=\"Gaga\",Gaga!C134,IF($B$10=\"Treguine\",Treguine!C134,IF($B$10=\"Bredjing\",Bredjing!C134,\"\"))))","v":""},null,null,{"$f":"IF($B$10=\"Farchana\",Farchana!G115,IF($B$10=\"Gaga\",Gaga!I134,IF($B$10=\"Treguine\",Treguine!G134,IF($B$10=\"Bredjing\",Bredjing!G134,\"\"))))","v":""}]
[{"$f":"IF($B$10=\"Farchana\",Farchana!A116,IF($B$10=\"Gaga\",Gaga!A135,IF($B$10=\"Treguine\",Treguine!A135,IF($B$10=\"Bredjing\",Bredjing!A135,\"\"))))","v":""},{"$f":"IF($B$10=\"Farchana\",Farchana!B116,IF($B$10=\"Gaga\",Gaga!B135,IF($B$10=\"Treguine\",Treguine!B135,IF($B$10=\"Bredjing\",Bredjing!B135,\"\"))))","v":""},{"$f":"IF($B$10=\"Farchana\",Farchana!C116,IF($B$10=\"Gaga\",Gaga!C135,IF($B$10=\"Treguine\",Treguine!C135,IF($B$10=\"Bredjing\",Bredjing!C135,\"\"))))","v":""},null,null,{"$f":"IF($B$10=\"Farchana\",Farchana!G116,IF($B$10=\"Gaga\",Gaga!I135,IF($B$10=\"Treguine\",Treguine!G135,IF($B$10=\"Bredjing\",Bredjing!G135,\"\"))))","v":""}]
[{"$f":"IF($B$10=\"Farchana\",Farchana!A117,IF($B$10=\"Gaga\",Gaga!A136,IF($B$10=\"Treguine\",Treguine!A136,IF($B$10=\"Bredjing\",Bredjing!A136,\"\"))))","v":""},{"$f":"IF($B$10=\"Farchana\",Farchana!B117,IF($B$10=\"Gaga\",Gaga!B136,IF($B$10=\"Treguine\",Treguine!B136,IF($B$10=\"Bredjing\",Bredjing!B136,\"\"))))","v":""},{"$f":"IF($B$10=\"Farchana\",Farchana!C117,IF($B$10=\"Gaga\",Gaga!C136,IF($B$10=\"Treguine\",Treguine!C136,IF($B$10=\"Bredjing\",Bredjing!C136,\"\"))))","v":""},null,null,{"$f":"IF($B$10=\"Farchana\",Farchana!G117,IF($B$10=\"Gaga\",Gaga!I136,IF($B$10=\"Treguine\",Treguine!G136,IF($B$10=\"Bredjing\",Bredjing!G136,\"\"))))","v":""}]
[{"$f":"IF($B$10=\"Farchana\",Farchana!A118,IF($B$10=\"Gaga\",Gaga!A137,IF($B$10=\"Treguine\",Treguine!A137,IF($B$10=\"Bredjing\",Bredjing!A137,\"\"))))","v":""},{"$f":"IF($B$10=\"Farchana\",Farchana!B118,IF($B$10=\"Gaga\",Gaga!B137,IF($B$10=\"Treguine\",Treguine!B137,IF($B$10=\"Bredjing\",Bredjing!B137,\"\"))))","v":""},{"$f":"IF($B$10=\"Farchana\",Farchana!C118,IF($B$10=\"Gaga\",Gaga!C137,IF($B$10=\"Treguine\",Treguine!C137,IF($B$10=\"Bredjing\",Bredjing!C137,\"\"))))","v":""},null,null,{"$f":"IF($B$10=\"Farchana\",Farchana!G118,IF($B$10=\"Gaga\",Gaga!I137,IF($B$10=\"Treguine\",Treguine!G137,IF($B$10=\"Bredjing\",Bredjing!G137,\"\"))))","v":""}]
[{"$f":"IF($B$10=\"Farchana\",Farchana!A119,IF($B$10=\"Gaga\",Gaga!A138,IF($B$10=\"Treguine\",Treguine!A138,IF($B$10=\"Bredjing\",Bredjing!A138,\"\"))))","v":""},{"$f":"IF($B$10=\"Farchana\",Farchana!B119,IF($B$10=\"Gaga\",Gaga!B138,IF($B$10=\"Treguine\",Treguine!B138,IF($B$10=\"Bredjing\",Bredjing!B138,\"\"))))","v":""},{"$f":"IF($B$10=\"Farchana\",Farchana!C119,IF($B$10=\"Gaga\",Gaga!C138,IF($B$10=\"Treguine\",Treguine!C138,IF($B$10=\"Bredjing\",Bredjing!C138,\"\"))))","v":""},null,null,{"$f":"IF($B$10=\"Farchana\",Farchana!G119,IF($B$10=\"Gaga\",Gaga!I138,IF($B$10=\"Treguine\",Treguine!G138,IF($B$10=\"Bredjing\",Bredjing!G138,\"\"))))","v":""}]
[{"$f":"IF($B$10=\"Farchana\",Farchana!A120,IF($B$10=\"Gaga\",Gaga!A139,IF($B$10=\"Treguine\",Treguine!A139,IF($B$10=\"Bredjing\",Bredjing!A139,\"\"))))","v":""},{"$f":"IF($B$10=\"Farchana\",Farchana!B120,IF($B$10=\"Gaga\",Gaga!B139,IF($B$10=\"Treguine\",Treguine!B139,IF($B$10=\"Bredjing\",Bredjing!B139,\"\"))))","v":""},{"$f":"IF($B$10=\"Farchana\",Farchana!C120,IF($B$10=\"Gaga\",Gaga!C139,IF($B$10=\"Treguine\",Treguine!C139,IF($B$10=\"Bredjing\",Bredjing!C139,\"\"))))","v":""},null,null,{"$f":"IF($B$10=\"Farchana\",Farchana!G120,IF($B$10=\"Gaga\",Gaga!I139,IF($B$10=\"Treguine\",Treguine!G139,IF($B$10=\"Bredjing\",Bredjing!G139,\"\"))))","v":""}]
[{"$f":"IF($B$10=\"Farchana\",Farchana!A121,IF($B$10=\"Gaga\",Gaga!A140,IF($B$10=\"Treguine\",Treguine!A140,IF($B$10=\"Bredjing\",Bredjing!A140,\"\"))))","v":""},{"$f":"IF($B$10=\"Farchana\",Farchana!B121,IF($B$10=\"Gaga\",Gaga!B140,IF($B$10=\"Treguine\",Treguine!B140,IF($B$10=\"Bredjing\",Bredjing!B140,\"\"))))","v":""},{"$f":"IF($B$10=\"Farchana\",Farchana!C121,IF($B$10=\"Gaga\",Gaga!C140,IF($B$10=\"Treguine\",Treguine!C140,IF($B$10=\"Bredjing\",Bredjing!C140,\"\"))))","v":""},null,null,{"$f":"IF($B$10=\"Farchana\",Farchana!G121,IF($B$10=\"Gaga\",Gaga!I140,IF($B$10=\"Treguine\",Treguine!G140,IF($B$10=\"Bredjing\",Bredjing!G140,\"\"))))","v":""}]
[{"$f":"IF($B$10=\"Farchana\",Farchana!A122,IF($B$10=\"Gaga\",Gaga!A141,IF($B$10=\"Treguine\",Treguine!A141,IF($B$10=\"Bredjing\",Bredjing!A141,\"\"))))","v":""},{"$f":"IF($B$10=\"Farchana\",Farchana!B122,IF($B$10=\"Gaga\",Gaga!B141,IF($B$10=\"Treguine\",Treguine!B141,IF($B$10=\"Bredjing\",Bredjing!B141,\"\"))))","v":""},{"$f":"IF($B$10=\"Farchana\",Farchana!C122,IF($B$10=\"Gaga\",Gaga!C141,IF($B$10=\"Treguine\",Treguine!C141,IF($B$10=\"Bredjing\",Bredjing!C141,\"\"))))","v":""},null,null,{"$f":"IF($B$10=\"Farchana\",Farchana!G122,IF($B$10=\"Gaga\",Gaga!I141,IF($B$10=\"Treguine\",Treguine!G141,IF($B$10=\"Bredjing\",Bredjing!G141,\"\"))))","v":""}]
[{"$f":"IF($B$10=\"Farchana\",Farchana!A123,IF($B$10=\"Gaga\",Gaga!A142,IF($B$10=\"Treguine\",Treguine!A142,IF($B$10=\"Bredjing\",Bredjing!A142,\"\"))))","v":""},{"$f":"IF($B$10=\"Farchana\",Farchana!B123,IF($B$10=\"Gaga\",Gaga!B142,IF($B$10=\"Treguine\",Treguine!B142,IF($B$10=\"Bredjing\",Bredjing!B142,\"\"))))","v":""},{"$f":"IF($B$10=\"Farchana\",Farchana!C123,IF($B$10=\"Gaga\",Gaga!C142,IF($B$10=\"Treguine\",Treguine!C142,IF($B$10=\"Bredjing\",Bredjing!C142,\"\"))))","v":""},null,null,{"$f":"IF($B$10=\"Farchana\",Farchana!G123,IF($B$10=\"Gaga\",Gaga!I142,IF($B$10=\"Treguine\",Treguine!G142,IF($B$10=\"Bredjing\",Bredjing!G142,\"\"))))","v":""}]
[{"$f":"IF($B$10=\"Farchana\",Farchana!A124,IF($B$10=\"Gaga\",Gaga!A143,IF($B$10=\"Treguine\",Treguine!A143,IF($B$10=\"Bredjing\",Bredjing!A143,\"\"))))","v":""},{"$f":"IF($B$10=\"Farchana\",Farchana!B124,IF($B$10=\"Gaga\",Gaga!B143,IF($B$10=\"Treguine\",Treguine!B143,IF($B$10=\"Bredjing\",Bredjing!B143,\"\"))))","v":""},{"$f":"IF($B$10=\"Farchana\",Farchana!C124,IF($B$10=\"Gaga\",Gaga!C143,IF($B$10=\"Treguine\",Treguine!C143,IF($B$10=\"Bredjing\",Bredjing!C143,\"\"))))","v":""},null,null,{"$f":"IF($B$10=\"Farchana\",Farchana!G124,IF($B$10=\"Gaga\",Gaga!I143,IF($B$10=\"Treguine\",Treguine!G143,IF($B$10=\"Bredjing\",Bredjing!G143,\"\"))))","v":""}]
[{"$f":"IF($B$10=\"Farchana\",Farchana!A125,IF($B$10=\"Gaga\",Gaga!A144,IF($B$10=\"Treguine\",Treguine!A144,IF($B$10=\"Bredjing\",Bredjing!A144,\"\"))))","v":""},{"$f":"IF($B$10=\"Farchana\",Farchana!B125,IF($B$10=\"Gaga\",Gaga!B144,IF($B$10=\"Treguine\",Treguine!B144,IF($B$10=\"Bredjing\",Bredjing!B144,\"\"))))","v":""},{"$f":"IF($B$10=\"Farchana\",Farchana!C125,IF($B$10=\"Gaga\",Gaga!C144,IF($B$10=\"Treguine\",Treguine!C144,IF($B$10=\"Bredjing\",Bredjing!C144,\"\"))))","v":""},null,null,{"$f":"IF($B$10=\"Farchana\",Farchana!G125,IF($B$10=\"Gaga\",Gaga!I144,IF($B$10=\"Treguine\",Treguine!G144,IF($B$10=\"Bredjing\",Bredjing!G144,\"\"))))","v":""}]
[{"$f":"IF($B$10=\"Farchana\",Farchana!A126,IF($B$10=\"Gaga\",Gaga!A145,IF($B$10=\"Treguine\",Treguine!A145,IF($B$10=\"Bredjing\",Bredjing!A145,\"\"))))","v":""},{"$f":"IF($B$10=\"Farchana\",Farchana!B126,IF($B$10=\"Gaga\",Gaga!B145,IF($B$10=\"Treguine\",Treguine!B145,IF($B$10=\"Bredjing\",Bredjing!B145,\"\"))))","v":""},{"$f":"IF($B$10=\"Farchana\",Farchana!C126,IF($B$10=\"Gaga\",Gaga!C145,IF($B$10=\"Treguine\",Treguine!C145,IF($B$10=\"Bredjing\",Bredjing!C145,\"\"))))","v":""},null,null,{"$f":"IF($B$10=\"Farchana\",Farchana!G126,IF($B$10=\"Gaga\",Gaga!I145,IF($B$10=\"Treguine\",Treguine!G145,IF($B$10=\"Bredjing\",Bredjing!G145,\"\"))))","v":""}]
[{"$f":"IF($B$10=\"Farchana\",Farchana!A127,IF($B$10=\"Gaga\",Gaga!A146,IF($B$10=\"Treguine\",Treguine!A146,IF($B$10=\"Bredjing\",Bredjing!A146,\"\"))))","v":""},{"$f":"IF($B$10=\"Farchana\",Farchana!B127,IF($B$10=\"Gaga\",Gaga!B146,IF($B$10=\"Treguine\",Treguine!B146,IF($B$10=\"Bredjing\",Bredjing!B146,\"\"))))","v":""},{"$f":"IF($B$10=\"Farchana\",Farchana!C127,IF($B$10=\"Gaga\",Gaga!C146,IF($B$10=\"Treguine\",Treguine!C146,IF($B$10=\"Bredjing\",Bredjing!C146,\"\"))))","v":""},null,null,{"$f":"IF($B$10=\"Farchana\",Farchana!G127,IF($B$10=\"Gaga\",Gaga!I146,IF($B$10=\"Treguine\",Treguine!G146,IF($B$10=\"Bredjing\",Bredjing!G146,\"\"))))","v":""}]
[{"$f":"IF($B$10=\"Farchana\",Farchana!A128,IF($B$10=\"Gaga\",Gaga!A147,IF($B$10=\"Treguine\",Treguine!A147,IF($B$10=\"Bredjing\",Bredjing!A147,\"\"))))","v":""},{"$f":"IF($B$10=\"Farchana\",Farchana!B128,IF($B$10=\"Gaga\",Gaga!B147,IF($B$10=\"Treguine\",Treguine!B147,IF($B$10=\"Bredjing\",Bredjing!B147,\"\"))))","v":""},{"$f":"IF($B$10=\"Farchana\",Farchana!C128,IF($B$10=\"Gaga\",Gaga!C147,IF($B$10=\"Treguine\",Treguine!C147,IF($B$10=\"Bredjing\",Bredjing!C147,\"\"))))","v":""},null,null,{"$f":"IF($B$10=\"Farchana\",Farchana!G128,IF($B$10=\"Gaga\",Gaga!I147,IF($B$10=\"Treguine\",Treguine!G147,IF($B$10=\"Bredjing\",Bredjing!G147,\"\"))))","v":""}]
[{"$f":"IF($B$10=\"Farchana\",Farchana!A129,IF($B$10=\"Gaga\",Gaga!A148,IF($B$10=\"Treguine\",Treguine!A148,IF($B$10=\"Bredjing\",Bredjing!A148,\"\"))))","v":""},{"$f":"IF($B$10=\"Farchana\",Farchana!B129,IF($B$10=\"Gaga\",Gaga!B148,IF($B$10=\"Treguine\",Treguine!B148,IF($B$10=\"Bredjing\",Bredjing!B148,\"\"))))","v":""},{"$f":"IF($B$10=\"Farchana\",Farchana!C129,IF($B$10=\"Gaga\",Gaga!C148,IF($B$10=\"Treguine\",Treguine!C148,IF($B$10=\"Bredjing\",Bredjing!C148,\"\"))))","v":""},null,null,{"$f":"IF($B$10=\"Farchana\",Farchana!G129,IF($B$10=\"Gaga\",Gaga!I148,IF($B$10=\"Treguine\",Treguine!G148,IF($B$10=\"Bredjing\",Bredjing!G148,\"\"))))","v":""}]
[{"$f":"IF($B$10=\"Farchana\",Farchana!A130,IF($B$10=\"Gaga\",Gaga!A149,IF($B$10=\"Treguine\",Treguine!A149,IF($B$10=\"Bredjing\",Bredjing!A149,\"\"))))","v":""},{"$f":"IF($B$10=\"Farchana\",Farchana!B130,IF($B$10=\"Gaga\",Gaga!B149,IF($B$10=\"Treguine\",Treguine!B149,IF($B$10=\"Bredjing\",Bredjing!B149,\"\"))))","v":""},{"$f":"IF($B$10=\"Farchana\",Farchana!C130,IF($B$10=\"Gaga\",Gaga!C149,IF($B$10=\"Treguine\",Treguine!C149,IF($B$10=\"Bredjing\",Bredjing!C149,\"\"))))","v":""},null,null,{"$f":"IF($B$10=\"Farchana\",Farchana!G130,IF($B$10=\"Gaga\",Gaga!I149,IF($B$10=\"Treguine\",Treguine!G149,IF($B$10=\"Bredjing\",Bredjing!G149,\"\"))))","v":""}]
[{"$f":"IF($B$10=\"Farchana\",Farchana!A131,IF($B$10=\"Gaga\",Gaga!A150,IF($B$10=\"Treguine\",Treguine!A150,IF($B$10=\"Bredjing\",Bredjing!A150,\"\"))))","v":""},{"$f":"IF($B$10=\"Farchana\",Farchana!B131,IF($B$10=\"Gaga\",Gaga!B150,IF($B$10=\"Treguine\",Treguine!B150,IF($B$10=\"Bredjing\",Bredjing!B150,\"\"))))","v":""},{"$f":"IF($B$10=\"Farchana\",Farchana!C131,IF($B$10=\"Gaga\",Gaga!C150,IF($B$10=\"Treguine\",Treguine!C150,IF($B$10=\"Bredjing\",Bredjing!C150,\"\"))))","v":""},null,null,{"$f":"IF($B$10=\"Farchana\",Farchana!G131,IF($B$10=\"Gaga\",Gaga!I150,IF($B$10=\"Treguine\",Treguine!G150,IF($B$10=\"Bredjing\",Bredjing!G150,\"\"))))","v":""}]
[{"$f":"IF($B$10=\"Farchana\",Farchana!A132,IF($B$10=\"Gaga\",Gaga!A151,IF($B$10=\"Treguine\",Treguine!A151,IF($B$10=\"Bredjing\",Bredjing!A151,\"\"))))","v":""},{"$f":"IF($B$10=\"Farchana\",Farchana!B132,IF($B$10=\"Gaga\",Gaga!B151,IF($B$10=\"Treguine\",Treguine!B151,IF($B$10=\"Bredjing\",Bredjing!B151,\"\"))))","v":""},{"$f":"IF($B$10=\"Farchana\",Farchana!C132,IF($B$10=\"Gaga\",Gaga!C151,IF($B$10=\"Treguine\",Treguine!C151,IF($B$10=\"Bredjing\",Bredjing!C151,\"\"))))","v":""},null,null,{"$f":"IF($B$10=\"Farchana\",Farchana!G132,IF($B$10=\"Gaga\",Gaga!I151,IF($B$10=\"Treguine\",Treguine!G151,IF($B$10=\"Bredjing\",Bredjing!G151,\"\"))))","v":""}]
[{"$f":"IF($B$10=\"Farchana\",Farchana!A133,IF($B$10=\"Gaga\",Gaga!A152,IF($B$10=\"Treguine\",Treguine!A152,IF($B$10=\"Bredjing\",Bredjing!A152,\"\"))))","v":""},{"$f":"IF($B$10=\"Farchana\",Farchana!B133,IF($B$10=\"Gaga\",Gaga!B152,IF($B$10=\"Treguine\",Treguine!B152,IF($B$10=\"Bredjing\",Bredjing!B152,\"\"))))","v":""},{"$f":"IF($B$10=\"Farchana\",Farchana!C133,IF($B$10=\"Gaga\",Gaga!C152,IF($B$10=\"Treguine\",Treguine!C152,IF($B$10=\"Bredjing\",Bredjing!C152,\"\"))))","v":""},null,null,{"$f":"IF($B$10=\"Farchana\",Farchana!G133,IF($B$10=\"Gaga\",Gaga!I152,IF($B$10=\"Treguine\",Treguine!G152,IF($B$10=\"Bredjing\",Bredjing!G152,\"\"))))","v":""}]
[{"$f":"IF($B$10=\"Farchana\",Farchana!A134,IF($B$10=\"Gaga\",Gaga!A153,IF($B$10=\"Treguine\",Treguine!A153,IF($B$10=\"Bredjing\",Bredjing!A153,\"\"))))","v":""},{"$f":"IF($B$10=\"Farchana\",Farchana!B134,IF($B$10=\"Gaga\",Gaga!B153,IF($B$10=\"Treguine\",Treguine!B153,IF($B$10=\"Bredjing\",Bredjing!B153,\"\"))))","v":""},{"$f":"IF($B$10=\"Farchana\",Farchana!C134,IF($B$10=\"Gaga\",Gaga!C153,IF($B$10=\"Treguine\",Treguine!C153,IF($B$10=\"Bredjing\",Bredjing!C153,\"\"))))","v":""},null,null,{"$f":"IF($B$10=\"Farchana\",Farchana!G134,IF($B$10=\"Gaga\",Gaga!I153,IF($B$10=\"Treguine\",Treguine!G153,IF($B$10=\"Bredjing\",Bredjing!G153,\"\"))))","v":""}]
[{"$f":"IF($B$10=\"Farchana\",Farchana!A135,IF($B$10=\"Gaga\",Gaga!A154,IF($B$10=\"Treguine\",Treguine!A154,IF($B$10=\"Bredjing\",Bredjing!A154,\"\"))))","v":""},{"$f":"IF($B$10=\"Farchana\",Farchana!B135,IF($B$10=\"Gaga\",Gaga!B154,IF($B$10=\"Treguine\",Treguine!B154,IF($B$10=\"Bredjing\",Bredjing!B154,\"\"))))","v":""},{"$f":"IF($B$10=\"Farchana\",Farchana!C135,IF($B$10=\"Gaga\",Gaga!C154,IF($B$10=\"Treguine\",Treguine!C154,IF($B$10=\"Bredjing\",Bredjing!C154,\"\"))))","v":""},null,null,{"$f":"IF($B$10=\"Farchana\",Farchana!G135,IF($B$10=\"Gaga\",Gaga!I154,IF($B$10=\"Treguine\",Treguine!G154,IF($B$10=\"Bredjing\",Bredjing!G154,\"\"))))","v":""}]
[{"$f":"IF($B$10=\"Farchana\",Farchana!A136,IF($B$10=\"Gaga\",Gaga!A155,IF($B$10=\"Treguine\",Treguine!A155,IF($B$10=\"Bredjing\",Bredjing!A155,\"\"))))","v":""},{"$f":"IF($B$10=\"Farchana\",Farchana!B136,IF($B$10=\"Gaga\",Gaga!B155,IF($B$10=\"Treguine\",Treguine!B155,IF($B$10=\"Bredjing\",Bredjing!B155,\"\"))))","v":""},{"$f":"IF($B$10=\"Farchana\",Farchana!C136,IF($B$10=\"Gaga\",Gaga!C155,IF($B$10=\"Treguine\",Treguine!C155,IF($B$10=\"Bredjing\",Bredjing!C155,\"\"))))","v":""},null,null,{"$f":"IF($B$10=\"Farchana\",Farchana!G136,IF($B$10=\"Gaga\",Gaga!I155,IF($B$10=\"Treguine\",Treguine!G155,IF($B$10=\"Bredjing\",Bredjing!G155,\"\"))))","v":""}]
[{"$f":"IF($B$10=\"Farchana\",Farchana!A137,IF($B$10=\"Gaga\",Gaga!A156,IF($B$10=\"Treguine\",Treguine!A156,IF($B$10=\"Bredjing\",Bredjing!A156,\"\"))))","v":""},{"$f":"IF($B$10=\"Farchana\",Farchana!B137,IF($B$10=\"Gaga\",Gaga!B156,IF($B$10=\"Treguine\",Treguine!B156,IF($B$10=\"Bredjing\",Bredjing!B156,\"\"))))","v":""},{"$f":"IF($B$10=\"Farchana\",Farchana!C137,IF($B$10=\"Gaga\",Gaga!C156,IF($B$10=\"Treguine\",Treguine!C156,IF($B$10=\"Bredjing\",Bredjing!C156,\"\"))))","v":""},null,null,{"$f":"IF($B$10=\"Farchana\",Farchana!G137,IF($B$10=\"Gaga\",Gaga!I156,IF($B$10=\"Treguine\",Treguine!G156,IF($B$10=\"Bredjing\",Bredjing!G156,\"\"))))","v":""}]
[{"$f":"IF($B$10=\"Farchana\",Farchana!A138,IF($B$10=\"Gaga\",Gaga!A157,IF($B$10=\"Treguine\",Treguine!A157,IF($B$10=\"Bredjing\",Bredjing!A157,\"\"))))","v":""},{"$f":"IF($B$10=\"Farchana\",Farchana!B138,IF($B$10=\"Gaga\",Gaga!B157,IF($B$10=\"Treguine\",Treguine!B157,IF($B$10=\"Bredjing\",Bredjing!B157,\"\"))))","v":""},{"$f":"IF($B$10=\"Farchana\",Farchana!C138,IF($B$10=\"Gaga\",Gaga!C157,IF($B$10=\"Treguine\",Treguine!C157,IF($B$10=\"Bredjing\",Bredjing!C157,\"\"))))","v":""},null,null,{"$f":"IF($B$10=\"Farchana\",Farchana!G138,IF($B$10=\"Gaga\",Gaga!I157,IF($B$10=\"Treguine\",Treguine!G157,IF($B$10=\"Bredjing\",Bredjing!G157,\"\"))))","v":""}]
[{"$f":"IF($B$10=\"Farchana\",Farchana!A139,IF($B$10=\"Gaga\",Gaga!A158,IF($B$10=\"Treguine\",Treguine!A158,IF($B$10=\"Bredjing\",Bredjing!A158,\"\"))))","v":""},{"$f":"IF($B$10=\"Farchana\",Farchana!B139,IF($B$10=\"Gaga\",Gaga!B158,IF($B$10=\"Treguine\",Treguine!B158,IF($B$10=\"Bredjing\",Bredjing!B158,\"\"))))","v":""},{"$f":"IF($B$10=\"Farchana\",Farchana!C139,IF($B$10=\"Gaga\",Gaga!C158,IF($B$10=\"Treguine\",Treguine!C158,IF($B$10=\"Bredjing\",Bredjing!C158,\"\"))))","v":""},null,null,{"$f":"IF($B$10=\"Farchana\",Farchana!G139,IF($B$10=\"Gaga\",Gaga!I158,IF($B$10=\"Treguine\",Treguine!G158,IF($B$10=\"Bredjing\",Bredjing!G158,\"\"))))","v":""}]
[{"$f":"IF($B$10=\"Farchana\",Farchana!A140,IF($B$10=\"Gaga\",Gaga!A159,IF($B$10=\"Treguine\",Treguine!A159,IF($B$10=\"Bredjing\",Bredjing!A159,\"\"))))","v":""},{"$f":"IF($B$10=\"Farchana\",Farchana!B140,IF($B$10=\"Gaga\",Gaga!B159,IF($B$10=\"Treguine\",Treguine!B159,IF($B$10=\"Bredjing\",Bredjing!B159,\"\"))))","v":""},{"$f":"IF($B$10=\"Farchana\",Farchana!C140,IF($B$10=\"Gaga\",Gaga!C159,IF($B$10=\"Treguine\",Treguine!C159,IF($B$10=\"Bredjing\",Bredjing!C159,\"\"))))","v":""},null,null,{"$f":"IF($B$10=\"Farchana\",Farchana!G140,IF($B$10=\"Gaga\",Gaga!I159,IF($B$10=\"Treguine\",Treguine!G159,IF($B$10=\"Bredjing\",Bredjing!G159,\"\"))))","v":""}]
[{"$f":"IF($B$10=\"Farchana\",Farchana!A141,IF($B$10=\"Gaga\",Gaga!A160,IF($B$10=\"Treguine\",Treguine!A160,IF($B$10=\"Bredjing\",Bredjing!A160,\"\"))))","v":""},{"$f":"IF($B$10=\"Farchana\",Farchana!B141,IF($B$10=\"Gaga\",Gaga!B160,IF($B$10=\"Treguine\",Treguine!B160,IF($B$10=\"Bredjing\",Bredjing!B160,\"\"))))","v":""},{"$f":"IF($B$10=\"Farchana\",Farchana!C141,IF($B$10=\"Gaga\",Gaga!C160,IF($B$10=\"Treguine\",Treguine!C160,IF($B$10=\"Bredjing\",Bredjing!C160,\"\"))))","v":""},null,null,{"$f":"IF($B$10=\"Farchana\",Farchana!G141,IF($B$10=\"Gaga\",Gaga!I160,IF($B$10=\"Treguine\",Treguine!G160,IF($B$10=\"Bredjing\",Bredjing!G160,\"\"))))","v":""}]
[{"$f":"IF($B$10=\"Farchana\",Farchana!A142,IF($B$10=\"Gaga\",Gaga!A161,IF($B$10=\"Treguine\",Treguine!A161,IF($B$10=\"Bredjing\",Bredjing!A161,\"\"))))","v":""},{"$f":"IF($B$10=\"Farchana\",Farchana!B142,IF($B$10=\"Gaga\",Gaga!B161,IF($B$10=\"Treguine\",Treguine!B161,IF($B$10=\"Bredjing\",Bredjing!B161,\"\"))))","v":""},{"$f":"IF($B$10=\"Farchana\",Farchana!C142,IF($B$10=\"Gaga\",Gaga!C161,IF($B$10=\"Treguine\",Treguine!C161,IF($B$10=\"Bredjing\",Bredjing!C161,\"\"))))","v":""},null,null,{"$f":"IF($B$10=\"Farchana\",Farchana!G142,IF($B$10=\"Gaga\",Gaga!I161,IF($B$10=\"Treguine\",Treguine!G161,IF($B$10=\"Bredjing\",Bredjing!G161,\"\"))))","v":""}]
[{"$f":"IF($B$10=\"Farchana\",Farchana!A143,IF($B$10=\"Gaga\",Gaga!A162,IF($B$10=\"Treguine\",Treguine!A162,IF($B$10=\"Bredjing\",Bredjing!A162,\"\"))))","v":""},{"$f":"IF($B$10=\"Farchana\",Farchana!B143,IF($B$10=\"Gaga\",Gaga!B162,IF($B$10=\"Treguine\",Treguine!B162,IF($B$10=\"Bredjing\",Bredjing!B162,\"\"))))","v":""},{"$f":"IF($B$10=\"Farchana\",Farchana!C143,IF($B$10=\"Gaga\",Gaga!C162,IF($B$10=\"Treguine\",Treguine!C162,IF($B$10=\"Bredjing\",Bredjing!C162,\"\"))))","v":""},null,null,{"$f":"IF($B$10=\"Farchana\",Farchana!G143,IF($B$10=\"Gaga\",Gaga!I162,IF($B$10=\"Treguine\",Treguine!G162,IF($B$10=\"Bredjing\",Bredjing!G162,\"\"))))","v":""}]
[{"$f":"IF($B$10=\"Farchana\",Farchana!A144,IF($B$10=\"Gaga\",Gaga!A163,IF($B$10=\"Treguine\",Treguine!A163,IF($B$10=\"Bredjing\",Bredjing!A163,\"\"))))","v":""},{"$f":"IF($B$10=\"Farchana\",Farchana!B144,IF($B$10=\"Gaga\",Gaga!B163,IF($B$10=\"Treguine\",Treguine!B163,IF($B$10=\"Bredjing\",Bredjing!B163,\"\"))))","v":""},{"$f":"IF($B$10=\"Farchana\",Farchana!C144,IF($B$10=\"Gaga\",Gaga!C163,IF($B$10=\"Treguine\",Treguine!C163,IF($B$10=\"Bredjing\",Bredjing!C163,\"\"))))","v":""},null,null,{"$f":"IF($B$10=\"Farchana\",Farchana!G144,IF($B$10=\"Gaga\",Gaga!I163,IF($B$10=\"Treguine\",Treguine!G163,IF($B$10=\"Bredjing\",Bredjing!G163,\"\"))))","v":""}]
[{"$f":"IF($B$10=\"Farchana\",Farchana!A145,IF($B$10=\"Gaga\",Gaga!A164,IF($B$10=\"Treguine\",Treguine!A164,IF($B$10=\"Bredjing\",Bredjing!A164,\"\"))))","v":""},{"$f":"IF($B$10=\"Farchana\",Farchana!B145,IF($B$10=\"Gaga\",Gaga!B164,IF($B$10=\"Treguine\",Treguine!B164,IF($B$10=\"Bredjing\",Bredjing!B164,\"\"))))","v":""},{"$f":"IF($B$10=\"Farchana\",Farchana!C145,IF($B$10=\"Gaga\",Gaga!C164,IF($B$10=\"Treguine\",Treguine!C164,IF($B$10=\"Bredjing\",Bredjing!C164,\"\"))))","v":""},null,null,{"$f":"IF($B$10=\"Farchana\",Farchana!G145,IF($B$10=\"Gaga\",Gaga!I164,IF($B$10=\"Treguine\",Treguine!G164,IF($B$10=\"Bredjing\",Bredjing!G164,\"\"))))","v":""}]
[{"$f":"IF($B$10=\"Farchana\",Farchana!A146,IF($B$10=\"Gaga\",Gaga!A165,IF($B$10=\"Treguine\",Treguine!A165,IF($B$10=\"Bredjing\",Bredjing!A165,\"\"))))","v":""},{"$f":"IF($B$10=\"Farchana\",Farchana!B146,IF($B$10=\"Gaga\",Gaga!B165,IF($B$10=\"Treguine\",Treguine!B165,IF($B$10=\"Bredjing\",Bredjing!B165,\"\"))))","v":""},{"$f":"IF($B$10=\"Farchana\",Farchana!C146,IF($B$10=\"Gaga\",Gaga!C165,IF($B$10=\"Treguine\",Treguine!C165,IF($B$10=\"Bredjing\",Bredjing!C165,\"\"))))","v":""},null,null,{"$f":"IF($B$10=\"Farchana\",Farchana!G146,IF($B$10=\"Gaga\",Gaga!I165,IF($B$10=\"Treguine\",Treguine!G165,IF($B$10=\"Bredjing\",Bredjing!G165,\"\"))))","v":""}]
[{"$f":"IF($B$10=\"Farchana\",Farchana!A147,IF($B$10=\"Gaga\",Gaga!A166,IF($B$10=\"Treguine\",Treguine!A166,IF($B$10=\"Bredjing\",Bredjing!A166,\"\"))))","v":""},{"$f":"IF($B$10=\"Farchana\",Farchana!B147,IF($B$10=\"Gaga\",Gaga!B166,IF($B$10=\"Treguine\",Treguine!B166,IF($B$10=\"Bredjing\",Bredjing!B166,\"\"))))","v":""},{"$f":"IF($B$10=\"Farchana\",Farchana!C147,IF($B$10=\"Gaga\",Gaga!C166,IF($B$10=\"Treguine\",Treguine!C166,IF($B$10=\"Bredjing\",Bredjing!C166,\"\"))))","v":""},null,null,{"$f":"IF($B$10=\"Farchana\",Farchana!G147,IF($B$10=\"Gaga\",Gaga!I166,IF($B$10=\"Treguine\",Treguine!G166,IF($B$10=\"Bredjing\",Bredjing!G166,\"\"))))","v":""}]
[{"$f":"IF($B$10=\"Farchana\",Farchana!A148,IF($B$10=\"Gaga\",Gaga!A167,IF($B$10=\"Treguine\",Treguine!A167,IF($B$10=\"Bredjing\",Bredjing!A167,\"\"))))","v":""},{"$f":"IF($B$10=\"Farchana\",Farchana!B148,IF($B$10=\"Gaga\",Gaga!B167,IF($B$10=\"Treguine\",Treguine!B167,IF($B$10=\"Bredjing\",Bredjing!B167,\"\"))))","v":""},{"$f":"IF($B$10=\"Farchana\",Farchana!C148,IF($B$10=\"Gaga\",Gaga!C167,IF($B$10=\"Treguine\",Treguine!C167,IF($B$10=\"Bredjing\",Bredjing!C167,\"\"))))","v":""},null,null,{"$f":"IF($B$10=\"Farchana\",Farchana!G148,IF($B$10=\"Gaga\",Gaga!I167,IF($B$10=\"Treguine\",Treguine!G167,IF($B$10=\"Bredjing\",Bredjing!G167,\"\"))))","v":""}]
[{"$f":"IF($B$10=\"Farchana\",Farchana!A149,IF($B$10=\"Gaga\",Gaga!A168,IF($B$10=\"Treguine\",Treguine!A168,IF($B$10=\"Bredjing\",Bredjing!A168,\"\"))))","v":""},{"$f":"IF($B$10=\"Farchana\",Farchana!B149,IF($B$10=\"Gaga\",Gaga!B168,IF($B$10=\"Treguine\",Treguine!B168,IF($B$10=\"Bredjing\",Bredjing!B168,\"\"))))","v":""},{"$f":"IF($B$10=\"Farchana\",Farchana!C149,IF($B$10=\"Gaga\",Gaga!C168,IF($B$10=\"Treguine\",Treguine!C168,IF($B$10=\"Bredjing\",Bredjing!C168,\"\"))))","v":""},null,null,{"$f":"IF($B$10=\"Farchana\",Farchana!G149,IF($B$10=\"Gaga\",Gaga!I168,IF($B$10=\"Treguine\",Treguine!G168,IF($B$10=\"Bredjing\",Bredjing!G168,\"\"))))","v":""}]
[{"$f":"IF($B$10=\"Farchana\",Farchana!A150,IF($B$10=\"Gaga\",Gaga!A169,IF($B$10=\"Treguine\",Treguine!A169,IF($B$10=\"Bredjing\",Bredjing!A169,\"\"))))","v":""},{"$f":"IF($B$10=\"Farchana\",Farchana!B150,IF($B$10=\"Gaga\",Gaga!B169,IF($B$10=\"Treguine\",Treguine!B169,IF($B$10=\"Bredjing\",Bredjing!B169,\"\"))))","v":""},{"$f":"IF($B$10=\"Farchana\",Farchana!C150,IF($B$10=\"Gaga\",Gaga!C169,IF($B$10=\"Treguine\",Treguine!C169,IF($B$10=\"Bredjing\",Bredjing!C169,\"\"))))","v":""},null,null,{"$f":"IF($B$10=\"Farchana\",Farchana!G150,IF($B$10=\"Gaga\",Gaga!I169,IF($B$10=\"Treguine\",Treguine!G169,IF($B$10=\"Bredjing\",Bredjing!G169,\"\"))))","v":""}]
[{"$f":"IF($B$10=\"Farchana\",Farchana!A151,IF($B$10=\"Gaga\",Gaga!A170,IF($B$10=\"Treguine\",Treguine!A170,IF($B$10=\"Bredjing\",Bredjing!A170,\"\"))))","v":""},{"$f":"IF($B$10=\"Farchana\",Farchana!B151,IF($B$10=\"Gaga\",Gaga!B170,IF($B$10=\"Treguine\",Treguine!B170,IF($B$10=\"Bredjing\",Bredjing!B170,\"\"))))","v":""},{"$f":"IF($B$10=\"Farchana\",Farchana!C151,IF($B$10=\"Gaga\",Gaga!C170,IF($B$10=\"Treguine\",Treguine!C170,IF($B$10=\"Bredjing\",Bredjing!C170,\"\"))))","v":""},null,null,{"$f":"IF($B$10=\"Farchana\",Farchana!G151,IF($B$10=\"Gaga\",Gaga!I170,IF($B$10=\"Treguine\",Treguine!G170,IF($B$10=\"Bredjing\",Bredjing!G170,\"\"))))","v":""}]
[{"$f":"IF($B$10=\"Farchana\",Farchana!A152,IF($B$10=\"Gaga\",Gaga!A171,IF($B$10=\"Treguine\",Treguine!A171,IF($B$10=\"Bredjing\",Bredjing!A171,\"\"))))","v":""},{"$f":"IF($B$10=\"Farchana\",Farchana!B152,IF($B$10=\"Gaga\",Gaga!B171,IF($B$10=\"Treguine\",Treguine!B171,IF($B$10=\"Bredjing\",Bredjing!B171,\"\"))))","v":""},{"$f":"IF($B$10=\"Farchana\",Farchana!C152,IF($B$10=\"Gaga\",Gaga!C171,IF($B$10=\"Treguine\",Treguine!C171,IF($B$10=\"Bredjing\",Bredjing!C171,\"\"))))","v":""},null,null,{"$f":"IF($B$10=\"Farchana\",Farchana!G152,IF($B$10=\"Gaga\",Gaga!I171,IF($B$10=\"Treguine\",Treguine!G171,IF($B$10=\"Bredjing\",Bredjing!G171,\"\"))))","v":""}]
[{"$f":"IF($B$10=\"Farchana\",Farchana!A153,IF($B$10=\"Gaga\",Gaga!A172,IF($B$10=\"Treguine\",Treguine!A172,IF($B$10=\"Bredjing\",Bredjing!A172,\"\"))))","v":""},{"$f":"IF($B$10=\"Farchana\",Farchana!B153,IF($B$10=\"Gaga\",Gaga!B172,IF($B$10=\"Treguine\",Treguine!B172,IF($B$10=\"Bredjing\",Bredjing!B172,\"\"))))","v":""},{"$f":"IF($B$10=\"Farchana\",Farchana!C153,IF($B$10=\"Gaga\",Gaga!C172,IF($B$10=\"Treguine\",Treguine!C172,IF($B$10=\"Bredjing\",Bredjing!C172,\"\"))))","v":""},null,null,{"$f":"IF($B$10=\"Farchana\",Farchana!G153,IF($B$10=\"Gaga\",Gaga!I172,IF($B$10=\"Treguine\",Treguine!G172,IF($B$10=\"Bredjing\",Bredjing!G172,\"\"))))","v":""}]
[{"$f":"IF($B$10=\"Farchana\",Farchana!A154,IF($B$10=\"Gaga\",Gaga!A173,IF($B$10=\"Treguine\",Treguine!A173,IF($B$10=\"Bredjing\",Bredjing!A173,\"\"))))","v":""},{"$f":"IF($B$10=\"Farchana\",Farchana!B154,IF($B$10=\"Gaga\",Gaga!B173,IF($B$10=\"Treguine\",Treguine!B173,IF($B$10=\"Bredjing\",Bredjing!B173,\"\"))))","v":""},{"$f":"IF($B$10=\"Farchana\",Farchana!C154,IF($B$10=\"Gaga\",Gaga!C173,IF($B$10=\"Treguine\",Treguine!C173,IF($B$10=\"Bredjing\",Bredjing!C173,\"\"))))","v":""},null,null,{"$f":"IF($B$10=\"Farchana\",Farchana!G154,IF($B$10=\"Gaga\",Gaga!I173,IF($B$10=\"Treguine\",Treguine!G173,IF($B$10=\"Bredjing\",Bredjing!G173,\"\"))))","v":""}]
[{"$f":"IF($B$10=\"Farchana\",Farchana!A155,IF($B$10=\"Gaga\",Gaga!A174,IF($B$10=\"Treguine\",Treguine!A174,IF($B$10=\"Bredjing\",Bredjing!A174,\"\"))))","v":""},{"$f":"IF($B$10=\"Farchana\",Farchana!B155,IF($B$10=\"Gaga\",Gaga!B174,IF($B$10=\"Treguine\",Treguine!B174,IF($B$10=\"Bredjing\",Bredjing!B174,\"\"))))","v":""},{"$f":"IF($B$10=\"Farchana\",Farchana!C155,IF($B$10=\"Gaga\",Gaga!C174,IF($B$10=\"Treguine\",Treguine!C174,IF($B$10=\"Bredjing\",Bredjing!C174,\"\"))))","v":""},null,null,{"$f":"IF($B$10=\"Farchana\",Farchana!G155,IF($B$10=\"Gaga\",Gaga!I174,IF($B$10=\"Treguine\",Treguine!G174,IF($B$10=\"Bredjing\",Bredjing!G174,\"\"))))","v":""}]
[{"$f":"IF($B$10=\"Farchana\",Farchana!A156,IF($B$10=\"Gaga\",Gaga!A175,IF($B$10=\"Treguine\",Treguine!A175,IF($B$10=\"Bredjing\",Bredjing!A175,\"\"))))","v":""},{"$f":"IF($B$10=\"Farchana\",Farchana!B156,IF($B$10=\"Gaga\",Gaga!B175,IF($B$10=\"Treguine\",Treguine!B175,IF($B$10=\"Bredjing\",Bredjing!B175,\"\"))))","v":""},{"$f":"IF($B$10=\"Farchana\",Farchana!C156,IF($B$10=\"Gaga\",Gaga!C175,IF($B$10=\"Treguine\",Treguine!C175,IF($B$10=\"Bredjing\",Bredjing!C175,\"\"))))","v":""},null,null,{"$f":"IF($B$10=\"Farchana\",Farchana!G156,IF($B$10=\"Gaga\",Gaga!I175,IF($B$10=\"Treguine\",Treguine!G175,IF($B$10=\"Bredjing\",Bredjing!G175,\"\"))))","v":""}]
[{"$f":"IF($B$10=\"Farchana\",Farchana!A157,IF($B$10=\"Gaga\",Gaga!A176,IF($B$10=\"Treguine\",Treguine!A176,IF($B$10=\"Bredjing\",Bredjing!A176,\"\"))))","v":""},{"$f":"IF($B$10=\"Farchana\",Farchana!B157,IF($B$10=\"Gaga\",Gaga!B176,IF($B$10=\"Treguine\",Treguine!B176,IF($B$10=\"Bredjing\",Bredjing!B176,\"\"))))","v":""},{"$f":"IF($B$10=\"Farchana\",Farchana!C157,IF($B$10=\"Gaga\",Gaga!C176,IF($B$10=\"Treguine\",Treguine!C176,IF($B$10=\"Bredjing\",Bredjing!C176,\"\"))))","v":""},null,null,{"$f":"IF($B$10=\"Farchana\",Farchana!G157,IF($B$10=\"Gaga\",Gaga!I176,IF($B$10=\"Treguine\",Treguine!G176,IF($B$10=\"Bredjing\",Bredjing!G176,\"\"))))","v":""}]
[{"$f":"IF($B$10=\"Farchana\",Farchana!A158,IF($B$10=\"Gaga\",Gaga!A177,IF($B$10=\"Treguine\",Treguine!A177,IF($B$10=\"Bredjing\",Bredjing!A177,\"\"))))","v":""},{"$f":"IF($B$10=\"Farchana\",Farchana!B158,IF($B$10=\"Gaga\",Gaga!B177,IF($B$10=\"Treguine\",Treguine!B177,IF($B$10=\"Bredjing\",Bredjing!B177,\"\"))))","v":""},{"$f":"IF($B$10=\"Farchana\",Farchana!C158,IF($B$10=\"Gaga\",Gaga!C177,IF($B$10=\"Treguine\",Treguine!C177,IF($B$10=\"Bredjing\",Bredjing!C177,\"\"))))","v":""},null,null,{"$f":"IF($B$10=\"Farchana\",Farchana!G158,IF($B$10=\"Gaga\",Gaga!I177,IF($B$10=\"Treguine\",Treguine!G177,IF($B$10=\"Bredjing\",Bredjing!G177,\"\"))))","v":""}]
[{"$f":"IF($B$10=\"Farchana\",Farchana!A159,IF($B$10=\"Gaga\",Gaga!A178,IF($B$10=\"Treguine\",Treguine!A178,IF($B$10=\"Bredjing\",Bredjing!A178,\"\"))))","v":""},{"$f":"IF($B$10=\"Farchana\",Farchana!B159,IF($B$10=\"Gaga\",Gaga!B178,IF($B$10=\"Treguine\",Treguine!B178,IF($B$10=\"Bredjing\",Bredjing!B178,\"\"))))","v":""},{"$f":"IF($B$10=\"Farchana\",Farchana!C159,IF($B$10=\"Gaga\",Gaga!C178,IF($B$10=\"Treguine\",Treguine!C178,IF($B$10=\"Bredjing\",Bredjing!C178,\"\"))))","v":""},null,null,{"$f":"IF($B$10=\"Farchana\",Farchana!G159,IF($B$10=\"Gaga\",Gaga!I178,IF($B$10=\"Treguine\",Treguine!G178,IF($B$10=\"Bredjing\",Bredjing!G178,\"\"))))","v":""}]
[{"$f":"IF($B$10=\"Farchana\",Farchana!A160,IF($B$10=\"Gaga\",Gaga!A179,IF($B$10=\"Treguine\",Treguine!A179,IF($B$10=\"Bredjing\",Bredjing!A179,\"\"))))","v":""},{"$f":"IF($B$10=\"Farchana\",Farchana!B160,IF($B$10=\"Gaga\",Gaga!B179,IF($B$10=\"Treguine\",Treguine!B179,IF($B$10=\"Bredjing\",Bredjing!B179,\"\"))))","v":""},{"$f":"IF($B$10=\"Farchana\",Farchana!C160,IF($B$10=\"Gaga\",Gaga!C179,IF($B$10=\"Treguine\",Treguine!C179,IF($B$10=\"Bredjing\",Bredjing!C179,\"\"))))","v":""},null,null,{"$f":"IF($B$10=\"Farchana\",Farchana!G160,IF($B$10=\"Gaga\",Gaga!I179,IF($B$10=\"Treguine\",Treguine!G179,IF($B$10=\"Bredjing\",Bredjing!G179,\"\"))))","v":""}]
[{"$f":"IF($B$10=\"Farchana\",Farchana!A161,IF($B$10=\"Gaga\",Gaga!A180,IF($B$10=\"Treguine\",Treguine!A180,IF($B$10=\"Bredjing\",Bredjing!A180,\"\"))))","v":""},{"$f":"IF($B$10=\"Farchana\",Farchana!B161,IF($B$10=\"Gaga\",Gaga!B180,IF($B$10=\"Treguine\",Treguine!B180,IF($B$10=\"Bredjing\",Bredjing!B180,\"\"))))","v":""},{"$f":"IF($B$10=\"Farchana\",Farchana!C161,IF($B$10=\"Gaga\",Gaga!C180,IF($B$10=\"Treguine\",Treguine!C180,IF($B$10=\"Bredjing\",Bredjing!C180,\"\"))))","v":""},null,null,{"$f":"IF($B$10=\"Farchana\",Farchana!G161,IF($B$10=\"Gaga\",Gaga!I180,IF($B$10=\"Treguine\",Treguine!G180,IF($B$10=\"Bredjing\",Bredjing!G180,\"\"))))","v":""}]
[{"$f":"IF($B$10=\"Farchana\",Farchana!A162,IF($B$10=\"Gaga\",Gaga!A181,IF($B$10=\"Treguine\",Treguine!A181,IF($B$10=\"Bredjing\",Bredjing!A181,\"\"))))","v":""},{"$f":"IF($B$10=\"Farchana\",Farchana!B162,IF($B$10=\"Gaga\",Gaga!B181,IF($B$10=\"Treguine\",Treguine!B181,IF($B$10=\"Bredjing\",Bredjing!B181,\"\"))))","v":""},{"$f":"IF($B$10=\"Farchana\",Farchana!C162,IF($B$10=\"Gaga\",Gaga!C181,IF($B$10=\"Treguine\",Treguine!C181,IF($B$10=\"Bredjing\",Bredjing!C181,\"\"))))","v":""},null,null,{"$f":"IF($B$10=\"Farchana\",Farchana!G162,IF($B$10=\"Gaga\",Gaga!I181,IF($B$10=\"Treguine\",Treguine!G181,IF($B$10=\"Bredjing\",Bredjing!G181,\"\"))))","v":""}]
[{"$f":"IF($B$10=\"Farchana\",Farchana!A163,IF($B$10=\"Gaga\",Gaga!A182,IF($B$10=\"Treguine\",Treguine!A182,IF($B$10=\"Bredjing\",Bredjing!A182,\"\"))))","v":""},{"$f":"IF($B$10=\"Farchana\",Farchana!B163,IF($B$10=\"Gaga\",Gaga!B182,IF($B$10=\"Treguine\",Treguine!B182,IF($B$10=\"Bredjing\",Bredjing!B182,\"\"))))","v":""},{"$f":"IF($B$10=\"Farchana\",Farchana!C163,IF($B$10=\"Gaga\",Gaga!C182,IF($B$10=\"Treguine\",Treguine!C182,IF($B$10=\"Bredjing\",Bredjing!C182,\"\"))))","v":""},null,null,{"$f":"IF($B$10=\"Farchana\",Farchana!G163,IF($B$10=\"Gaga\",Gaga!I182,IF($B$10=\"Treguine\",Treguine!G182,IF($B$10=\"Bredjing\",Bredjing!G182,\"\"))))","v":""}]
[{"$f":"IF($B$10=\"Farchana\",Farchana!A164,IF($B$10=\"Gaga\",Gaga!A183,IF($B$10=\"Treguine\",Treguine!A183,IF($B$10=\"Bredjing\",Bredjing!A183,\"\"))))","v":""},{"$f":"IF($B$10=\"Farchana\",Farchana!B164,IF($B$10=\"Gaga\",Gaga!B183,IF($B$10=\"Treguine\",Treguine!B183,IF($B$10=\"Bredjing\",Bredjing!B183,\"\"))))","v":""},{"$f":"IF($B$10=\"Farchana\",Farchana!C164,IF($B$10=\"Gaga\",Gaga!C183,IF($B$10=\"Treguine\",Treguine!C183,IF($B$10=\"Bredjing\",Bredjing!C183,\"\"))))","v":""},null,null,{"$f":"IF($B$10=\"Farchana\",Farchana!G164,IF($B$10=\"Gaga\",Gaga!I183,IF($B$10=\"Treguine\",Treguine!G183,IF($B$10=\"Bredjing\",Bredjing!G183,\"\"))))","v":""}]
[{"$f":"IF($B$10=\"Farchana\",Farchana!A165,IF($B$10=\"Gaga\",Gaga!A184,IF($B$10=\"Treguine\",Treguine!A184,IF($B$10=\"Bredjing\",Bredjing!A184,\"\"))))","v":""},{"$f":"IF($B$10=\"Farchana\",Farchana!B165,IF($B$10=\"Gaga\",Gaga!B184,IF($B$10=\"Treguine\",Treguine!B184,IF($B$10=\"Bredjing\",Bredjing!B184,\"\"))))","v":""},{"$f":"IF($B$10=\"Farchana\",Farchana!C165,IF($B$10=\"Gaga\",Gaga!C184,IF($B$10=\"Treguine\",Treguine!C184,IF($B$10=\"Bredjing\",Bredjing!C184,\"\"))))","v":""},null,null,{"$f":"IF($B$10=\"Farchana\",Farchana!G165,IF($B$10=\"Gaga\",Gaga!I184,IF($B$10=\"Treguine\",Treguine!G184,IF($B$10=\"Bredjing\",Bredjing!G184,\"\"))))","v":""}]
[{"$f":"IF($B$10=\"Farchana\",Farchana!A166,IF($B$10=\"Gaga\",Gaga!A185,IF($B$10=\"Treguine\",Treguine!A185,IF($B$10=\"Bredjing\",Bredjing!A185,\"\"))))","v":""},{"$f":"IF($B$10=\"Farchana\",Farchana!B166,IF($B$10=\"Gaga\",Gaga!B185,IF($B$10=\"Treguine\",Treguine!B185,IF($B$10=\"Bredjing\",Bredjing!B185,\"\"))))","v":""},{"$f":"IF($B$10=\"Farchana\",Farchana!C166,IF($B$10=\"Gaga\",Gaga!C185,IF($B$10=\"Treguine\",Treguine!C185,IF($B$10=\"Bredjing\",Bredjing!C185,\"\"))))","v":""},null,null,{"$f":"IF($B$10=\"Farchana\",Farchana!G166,IF($B$10=\"Gaga\",Gaga!I185,IF($B$10=\"Treguine\",Treguine!G185,IF($B$10=\"Bredjing\",Bredjing!G185,\"\"))))","v":""}]
[{"$f":"IF($B$10=\"Farchana\",Farchana!A167,IF($B$10=\"Gaga\",Gaga!A186,IF($B$10=\"Treguine\",Treguine!A186,IF($B$10=\"Bredjing\",Bredjing!A186,\"\"))))","v":""},{"$f":"IF($B$10=\"Farchana\",Farchana!B167,IF($B$10=\"Gaga\",Gaga!B186,IF($B$10=\"Treguine\",Treguine!B186,IF($B$10=\"Bredjing\",Bredjing!B186,\"\"))))","v":""},{"$f":"IF($B$10=\"Farchana\",Farchana!C167,IF($B$10=\"Gaga\",Gaga!C186,IF($B$10=\"Treguine\",Treguine!C186,IF($B$10=\"Bredjing\",Bredjing!C186,\"\"))))","v":""},null,null,{"$f":"IF($B$10=\"Farchana\",Farchana!G167,IF($B$10=\"Gaga\",Gaga!I186,IF($B$10=\"Treguine\",Treguine!G186,IF($B$10=\"Bredjing\",Bredjing!G186,\"\"))))","v":""}]
[{"$f":"IF($B$10=\"Farchana\",Farchana!A168,IF($B$10=\"Gaga\",Gaga!A187,IF($B$10=\"Treguine\",Treguine!A187,IF($B$10=\"Bredjing\",Bredjing!A187,\"\"))))","v":""},{"$f":"IF($B$10=\"Farchana\",Farchana!B168,IF($B$10=\"Gaga\",Gaga!B187,IF($B$10=\"Treguine\",Treguine!B187,IF($B$10=\"Bredjing\",Bredjing!B187,\"\"))))","v":""},{"$f":"IF($B$10=\"Farchana\",Farchana!C168,IF($B$10=\"Gaga\",Gaga!C187,IF($B$10=\"Treguine\",Treguine!C187,IF($B$10=\"Bredjing\",Bredjing!C187,\"\"))))","v":""},null,null,{"$f":"IF($B$10=\"Farchana\",Farchana!G168,IF($B$10=\"Gaga\",Gaga!I187,IF($B$10=\"Treguine\",Treguine!G187,IF($B$10=\"Bredjing\",Bredjing!G187,\"\"))))","v":""}]
[{"$f":"IF($B$10=\"Farchana\",Farchana!A169,IF($B$10=\"Gaga\",Gaga!A188,IF($B$10=\"Treguine\",Treguine!A188,IF($B$10=\"Bredjing\",Bredjing!A188,\"\"))))","v":""},{"$f":"IF($B$10=\"Farchana\",Farchana!B169,IF($B$10=\"Gaga\",Gaga!B188,IF($B$10=\"Treguine\",Treguine!B188,IF($B$10=\"Bredjing\",Bredjing!B188,\"\"))))","v":""},{"$f":"IF($B$10=\"Farchana\",Farchana!C169,IF($B$10=\"Gaga\",Gaga!C188,IF($B$10=\"Treguine\",Treguine!C188,IF($B$10=\"Bredjing\",Bredjing!C188,\"\"))))","v":""},null,null,{"$f":"IF($B$10=\"Farchana\",Farchana!G169,IF($B$10=\"Gaga\",Gaga!I188,IF($B$10=\"Treguine\",Treguine!G188,IF($B$10=\"Bredjing\",Bredjing!G188,\"\"))))","v":""}]
[{"$f":"IF($B$10=\"Farchana\",Farchana!A170,IF($B$10=\"Gaga\",Gaga!A189,IF($B$10=\"Treguine\",Treguine!A189,IF($B$10=\"Bredjing\",Bredjing!A189,\"\"))))","v":""},{"$f":"IF($B$10=\"Farchana\",Farchana!B170,IF($B$10=\"Gaga\",Gaga!B189,IF($B$10=\"Treguine\",Treguine!B189,IF($B$10=\"Bredjing\",Bredjing!B189,\"\"))))","v":""},{"$f":"IF($B$10=\"Farchana\",Farchana!C170,IF($B$10=\"Gaga\",Gaga!C189,IF($B$10=\"Treguine\",Treguine!C189,IF($B$10=\"Bredjing\",Bredjing!C189,\"\"))))","v":""},null,null,{"$f":"IF($B$10=\"Farchana\",Farchana!G170,IF($B$10=\"Gaga\",Gaga!I189,IF($B$10=\"Treguine\",Treguine!G189,IF($B$10=\"Bredjing\",Bredjing!G189,\"\"))))","v":""}]
[{"$f":"IF($B$10=\"Farchana\",Farchana!A171,IF($B$10=\"Gaga\",Gaga!A190,IF($B$10=\"Treguine\",Treguine!A190,IF($B$10=\"Bredjing\",Bredjing!A190,\"\"))))","v":""},{"$f":"IF($B$10=\"Farchana\",Farchana!B171,IF($B$10=\"Gaga\",Gaga!B190,IF($B$10=\"Treguine\",Treguine!B190,IF($B$10=\"Bredjing\",Bredjing!B190,\"\"))))","v":""},{"$f":"IF($B$10=\"Farchana\",Farchana!C171,IF($B$10=\"Gaga\",Gaga!C190,IF($B$10=\"Treguine\",Treguine!C190,IF($B$10=\"Bredjing\",Bredjing!C190,\"\"))))","v":""},null,null,{"$f":"IF($B$10=\"Farchana\",Farchana!G171,IF($B$10=\"Gaga\",Gaga!I190,IF($B$10=\"Treguine\",Treguine!G190,IF($B$10=\"Bredjing\",Bredjing!G190,\"\"))))","v":""}]
[{"$f":"IF($B$10=\"Farchana\",Farchana!A172,IF($B$10=\"Gaga\",Gaga!A191,IF($B$10=\"Treguine\",Treguine!A191,IF($B$10=\"Bredjing\",Bredjing!A191,\"\"))))","v":""},{"$f":"IF($B$10=\"Farchana\",Farchana!B172,IF($B$10=\"Gaga\",Gaga!B191,IF($B$10=\"Treguine\",Treguine!B191,IF($B$10=\"Bredjing\",Bredjing!B191,\"\"))))","v":""},{"$f":"IF($B$10=\"Farchana\",Farchana!C172,IF($B$10=\"Gaga\",Gaga!C191,IF($B$10=\"Treguine\",Treguine!C191,IF($B$10=\"Bredjing\",Bredjing!C191,\"\"))))","v":""},null,null,{"$f":"IF($B$10=\"Farchana\",Farchana!G172,IF($B$10=\"Gaga\",Gaga!I191,IF($B$10=\"Treguine\",Treguine!G191,IF($B$10=\"Bredjing\",Bredjing!G191,\"\"))))","v":""}]
[{"$f":"IF($B$10=\"Farchana\",Farchana!A173,IF($B$10=\"Gaga\",Gaga!A192,IF($B$10=\"Treguine\",Treguine!A192,IF($B$10=\"Bredjing\",Bredjing!A192,\"\"))))","v":""},{"$f":"IF($B$10=\"Farchana\",Farchana!B173,IF($B$10=\"Gaga\",Gaga!B192,IF($B$10=\"Treguine\",Treguine!B192,IF($B$10=\"Bredjing\",Bredjing!B192,\"\"))))","v":""},{"$f":"IF($B$10=\"Farchana\",Farchana!C173,IF($B$10=\"Gaga\",Gaga!C192,IF($B$10=\"Treguine\",Treguine!C192,IF($B$10=\"Bredjing\",Bredjing!C192,\"\"))))","v":""},null,null,{"$f":"IF($B$10=\"Farchana\",Farchana!G173,IF($B$10=\"Gaga\",Gaga!I192,IF($B$10=\"Treguine\",Treguine!G192,IF($B$10=\"Bredjing\",Bredjing!G192,\"\"))))","v":""}]
[{"$f":"IF($B$10=\"Farchana\",Farchana!A174,IF($B$10=\"Gaga\",Gaga!A193,IF($B$10=\"Treguine\",Treguine!A193,IF($B$10=\"Bredjing\",Bredjing!A193,\"\"))))","v":""},{"$f":"IF($B$10=\"Farchana\",Farchana!B174,IF($B$10=\"Gaga\",Gaga!B193,IF($B$10=\"Treguine\",Treguine!B193,IF($B$10=\"Bredjing\",Bredjing!B193,\"\"))))","v":""},{"$f":"IF($B$10=\"Farchana\",Farchana!C174,IF($B$10=\"Gaga\",Gaga!C193,IF($B$10=\"Treguine\",Treguine!C193,IF($B$10=\"Bredjing\",Bredjing!C193,\"\"))))","v":""},null,null,{"$f":"IF($B$10=\"Farchana\",Farchana!G174,IF($B$10=\"Gaga\",Gaga!I193,IF($B$10=\"Treguine\",Treguine!G193,IF($B$10=\"Bredjing\",Bredjing!G193,\"\"))))","v":""}]
[{"$f":"IF($B$10=\"Farchana\",Farchana!A175,IF($B$10=\"Gaga\",Gaga!A194,IF($B$10=\"Treguine\",Treguine!A194,IF($B$10=\"Bredjing\",Bredjing!A194,\"\"))))","v":""},{"$f":"IF($B$10=\"Farchana\",Farchana!B175,IF($B$10=\"Gaga\",Gaga!B194,IF($B$10=\"Treguine\",Treguine!B194,IF($B$10=\"Bredjing\",Bredjing!B194,\"\"))))","v":""},{"$f":"IF($B$10=\"Farchana\",Farchana!C175,IF($B$10=\"Gaga\",Gaga!C194,IF($B$10=\"Treguine\",Treguine!C194,IF($B$10=\"Bredjing\",Bredjing!C194,\"\"))))","v":""},null,null,{"$f":"IF($B$10=\"Farchana\",Farchana!G175,IF($B$10=\"Gaga\",Gaga!I194,IF($B$10=\"Treguine\",Treguine!G194,IF($B$10=\"Bredjing\",Bredjing!G194,\"\"))))","v":""}]
[{"$f":"IF($B$10=\"Farchana\",Farchana!A176,IF($B$10=\"Gaga\",Gaga!A195,IF($B$10=\"Treguine\",Treguine!A195,IF($B$10=\"Bredjing\",Bredjing!A195,\"\"))))","v":""},{"$f":"IF($B$10=\"Farchana\",Farchana!B176,IF($B$10=\"Gaga\",Gaga!B195,IF($B$10=\"Treguine\",Treguine!B195,IF($B$10=\"Bredjing\",Bredjing!B195,\"\"))))","v":""},{"$f":"IF($B$10=\"Farchana\",Farchana!C176,IF($B$10=\"Gaga\",Gaga!C195,IF($B$10=\"Treguine\",Treguine!C195,IF($B$10=\"Bredjing\",Bredjing!C195,\"\"))))","v":""},null,null,{"$f":"IF($B$10=\"Farchana\",Farchana!G176,IF($B$10=\"Gaga\",Gaga!I195,IF($B$10=\"Treguine\",Treguine!G195,IF($B$10=\"Bredjing\",Bredjing!G195,\"\"))))","v":""}]
[{"$f":"IF($B$10=\"Farchana\",Farchana!A177,IF($B$10=\"Gaga\",Gaga!A196,IF($B$10=\"Treguine\",Treguine!A196,IF($B$10=\"Bredjing\",Bredjing!A196,\"\"))))","v":""},{"$f":"IF($B$10=\"Farchana\",Farchana!B177,IF($B$10=\"Gaga\",Gaga!B196,IF($B$10=\"Treguine\",Treguine!B196,IF($B$10=\"Bredjing\",Bredjing!B196,\"\"))))","v":""},{"$f":"IF($B$10=\"Farchana\",Farchana!C177,IF($B$10=\"Gaga\",Gaga!C196,IF($B$10=\"Treguine\",Treguine!C196,IF($B$10=\"Bredjing\",Bredjing!C196,\"\"))))","v":""},null,null,{"$f":"IF($B$10=\"Farchana\",Farchana!G177,IF($B$10=\"Gaga\",Gaga!I196,IF($B$10=\"Treguine\",Treguine!G196,IF($B$10=\"Bredjing\",Bredjing!G196,\"\"))))","v":""}]
[{"$f":"IF($B$10=\"Farchana\",Farchana!A178,IF($B$10=\"Gaga\",Gaga!A197,IF($B$10=\"Treguine\",Treguine!A197,IF($B$10=\"Bredjing\",Bredjing!A197,\"\"))))","v":""},{"$f":"IF($B$10=\"Farchana\",Farchana!B178,IF($B$10=\"Gaga\",Gaga!B197,IF($B$10=\"Treguine\",Treguine!B197,IF($B$10=\"Bredjing\",Bredjing!B197,\"\"))))","v":""},{"$f":"IF($B$10=\"Farchana\",Farchana!C178,IF($B$10=\"Gaga\",Gaga!C197,IF($B$10=\"Treguine\",Treguine!C197,IF($B$10=\"Bredjing\",Bredjing!C197,\"\"))))","v":""},null,null,{"$f":"IF($B$10=\"Farchana\",Farchana!G178,IF($B$10=\"Gaga\",Gaga!I197,IF($B$10=\"Treguine\",Treguine!G197,IF($B$10=\"Bredjing\",Bredjing!G197,\"\"))))","v":""}]
[{"$f":"IF($B$10=\"Farchana\",Farchana!A179,IF($B$10=\"Gaga\",Gaga!A198,IF($B$10=\"Treguine\",Treguine!A198,IF($B$10=\"Bredjing\",Bredjing!A198,\"\"))))","v":""},{"$f":"IF($B$10=\"Farchana\",Farchana!B179,IF($B$10=\"Gaga\",Gaga!B198,IF($B$10=\"Treguine\",Treguine!B198,IF($B$10=\"Bredjing\",Bredjing!B198,\"\"))))","v":""},{"$f":"IF($B$10=\"Farchana\",Farchana!C179,IF($B$10=\"Gaga\",Gaga!C198,IF($B$10=\"Treguine\",Treguine!C198,IF($B$10=\"Bredjing\",Bredjing!C198,\"\"))))","v":""},null,null,{"$f":"IF($B$10=\"Farchana\",Farchana!G179,IF($B$10=\"Gaga\",Gaga!I198,IF($B$10=\"Treguine\",Treguine!G198,IF($B$10=\"Bredjing\",Bredjing!G198,\"\"))))","v":""}]
[{"$f":"IF($B$10=\"Farchana\",Farchana!A180,IF($B$10=\"Gaga\",Gaga!A199,IF($B$10=\"Treguine\",Treguine!A199,IF($B$10=\"Bredjing\",Bredjing!A199,\"\"))))","v":""},{"$f":"IF($B$10=\"Farchana\",Farchana!B180,IF($B$10=\"Gaga\",Gaga!B199,IF($B$10=\"Treguine\",Treguine!B199,IF($B$10=\"Bredjing\",Bredjing!B199,\"\"))))","v":""},{"$f":"IF($B$10=\"Farchana\",Farchana!C180,IF($B$10=\"Gaga\",Gaga!C199,IF($B$10=\"Treguine\",Treguine!C199,IF($B$10=\"Bredjing\",Bredjing!C199,\"\"))))","v":""},null,null,{"$f":"IF($B$10=\"Farchana\",Farchana!G180,IF($B$10=\"Gaga\",Gaga!I199,IF($B$10=\"Treguine\",Treguine!G199,IF($B$10=\"Bredjing\",Bredjing!G199,\"\"))))","v":""}]
[{"$f":"IF($B$10=\"Farchana\",Farchana!A181,IF($B$10=\"Gaga\",Gaga!A200,IF($B$10=\"Treguine\",Treguine!A200,IF($B$10=\"Bredjing\",Bredjing!A200,\"\"))))","v":""},{"$f":"IF($B$10=\"Farchana\",Farchana!B181,IF($B$10=\"Gaga\",Gaga!B200,IF($B$10=\"Treguine\",Treguine!B200,IF($B$10=\"Bredjing\",Bredjing!B200,\"\"))))","v":""},{"$f":"IF($B$10=\"Farchana\",Farchana!C181,IF($B$10=\"Gaga\",Gaga!C200,IF($B$10=\"Treguine\",Treguine!C200,IF($B$10=\"Bredjing\",Bredjing!C200,\"\"))))","v":""},null,null,{"$f":"IF($B$10=\"Farchana\",Farchana!G181,IF($B$10=\"Gaga\",Gaga!I200,IF($B$10=\"Treguine\",Treguine!G200,IF($B$10=\"Bredjing\",Bredjing!G200,\"\"))))","v":""}]
[{"$f":"IF($B$10=\"Farchana\",Farchana!A182,IF($B$10=\"Gaga\",Gaga!A201,IF($B$10=\"Treguine\",Treguine!A201,IF($B$10=\"Bredjing\",Bredjing!A201,\"\"))))","v":""},{"$f":"IF($B$10=\"Farchana\",Farchana!B182,IF($B$10=\"Gaga\",Gaga!B201,IF($B$10=\"Treguine\",Treguine!B201,IF($B$10=\"Bredjing\",Bredjing!B201,\"\"))))","v":""},{"$f":"IF($B$10=\"Farchana\",Farchana!C182,IF($B$10=\"Gaga\",Gaga!C201,IF($B$10=\"Treguine\",Treguine!C201,IF($B$10=\"Bredjing\",Bredjing!C201,\"\"))))","v":""},null,null,{"$f":"IF($B$10=\"Farchana\",Farchana!G182,IF($B$10=\"Gaga\",Gaga!I201,IF($B$10=\"Treguine\",Treguine!G201,IF($B$10=\"Bredjing\",Bredjing!G201,\"\"))))","v":""}]
[{"$f":"IF($B$10=\"Farchana\",Farchana!A183,IF($B$10=\"Gaga\",Gaga!A202,IF($B$10=\"Treguine\",Treguine!A202,IF($B$10=\"Bredjing\",Bredjing!A202,\"\"))))","v":""},{"$f":"IF($B$10=\"Farchana\",Farchana!B183,IF($B$10=\"Gaga\",Gaga!B202,IF($B$10=\"Treguine\",Treguine!B202,IF($B$10=\"Bredjing\",Bredjing!B202,\"\"))))","v":""},{"$f":"IF($B$10=\"Farchana\",Farchana!C183,IF($B$10=\"Gaga\",Gaga!C202,IF($B$10=\"Treguine\",Treguine!C202,IF($B$10=\"Bredjing\",Bredjing!C202,\"\"))))","v":""},null,null,{"$f":"IF($B$10=\"Farchana\",Farchana!G183,IF($B$10=\"Gaga\",Gaga!I202,IF($B$10=\"Treguine\",Treguine!G202,IF($B$10=\"Bredjing\",Bredjing!G202,\"\"))))","v":""}]
[{"$f":"IF($B$10=\"Farchana\",Farchana!A184,IF($B$10=\"Gaga\",Gaga!A203,IF($B$10=\"Treguine\",Treguine!A203,IF($B$10=\"Bredjing\",Bredjing!A203,\"\"))))","v":""},{"$f":"IF($B$10=\"Farchana\",Farchana!B184,IF($B$10=\"Gaga\",Gaga!B203,IF($B$10=\"Treguine\",Treguine!B203,IF($B$10=\"Bredjing\",Bredjing!B203,\"\"))))","v":""},{"$f":"IF($B$10=\"Farchana\",Farchana!C184,IF($B$10=\"Gaga\",Gaga!C203,IF($B$10=\"Treguine\",Treguine!C203,IF($B$10=\"Bredjing\",Bredjing!C203,\"\"))))","v":""},null,null,{"$f":"IF($B$10=\"Farchana\",Farchana!G184,IF($B$10=\"Gaga\",Gaga!I203,IF($B$10=\"Treguine\",Treguine!G203,IF($B$10=\"Bredjing\",Bredjing!G203,\"\"))))","v":""}]
[{"$f":"IF($B$10=\"Farchana\",Farchana!A185,IF($B$10=\"Gaga\",Gaga!A204,IF($B$10=\"Treguine\",Treguine!A204,IF($B$10=\"Bredjing\",Bredjing!A204,\"\"))))","v":""},{"$f":"IF($B$10=\"Farchana\",Farchana!B185,IF($B$10=\"Gaga\",Gaga!B204,IF($B$10=\"Treguine\",Treguine!B204,IF($B$10=\"Bredjing\",Bredjing!B204,\"\"))))","v":""},{"$f":"IF($B$10=\"Farchana\",Farchana!C185,IF($B$10=\"Gaga\",Gaga!C204,IF($B$10=\"Treguine\",Treguine!C204,IF($B$10=\"Bredjing\",Bredjing!C204,\"\"))))","v":""},null,null,{"$f":"IF($B$10=\"Farchana\",Farchana!G185,IF($B$10=\"Gaga\",Gaga!I204,IF($B$10=\"Treguine\",Treguine!G204,IF($B$10=\"Bredjing\",Bredjing!G204,\"\"))))","v":""}]
[{"$f":"IF($B$10=\"Farchana\",Farchana!A186,IF($B$10=\"Gaga\",Gaga!A205,IF($B$10=\"Treguine\",Treguine!A205,IF($B$10=\"Bredjing\",Bredjing!A205,\"\"))))","v":""},{"$f":"IF($B$10=\"Farchana\",Farchana!B186,IF($B$10=\"Gaga\",Gaga!B205,IF($B$10=\"Treguine\",Treguine!B205,IF($B$10=\"Bredjing\",Bredjing!B205,\"\"))))","v":""},{"$f":"IF($B$10=\"Farchana\",Farchana!C186,IF($B$10=\"Gaga\",Gaga!C205,IF($B$10=\"Treguine\",Treguine!C205,IF($B$10=\"Bredjing\",Bredjing!C205,\"\"))))","v":""},null,null,{"$f":"IF($B$10=\"Farchana\",Farchana!G186,IF($B$10=\"Gaga\",Gaga!I205,IF($B$10=\"Treguine\",Treguine!G205,IF($B$10=\"Bredjing\",Bredjing!G205,\"\"))))","v":""}]
[{"$f":"IF($B$10=\"Farchana\",Farchana!A187,IF($B$10=\"Gaga\",Gaga!A206,IF($B$10=\"Treguine\",Treguine!A206,IF($B$10=\"Bredjing\",Bredjing!A206,\"\"))))","v":""},{"$f":"IF($B$10=\"Farchana\",Farchana!B187,IF($B$10=\"Gaga\",Gaga!B206,IF($B$10=\"Treguine\",Treguine!B206,IF($B$10=\"Bredjing\",Bredjing!B206,\"\"))))","v":""},{"$f":"IF($B$10=\"Farchana\",Farchana!C187,IF($B$10=\"Gaga\",Gaga!C206,IF($B$10=\"Treguine\",Treguine!C206,IF($B$10=\"Bredjing\",Bredjing!C206,\"\"))))","v":""},null,null,{"$f":"IF($B$10=\"Farchana\",Farchana!G187,IF($B$10=\"Gaga\",Gaga!I206,IF($B$10=\"Treguine\",Treguine!G206,IF($B$10=\"Bredjing\",Bredjing!G206,\"\"))))","v":""}]
[{"$f":"IF($B$10=\"Farchana\",Farchana!A188,IF($B$10=\"Gaga\",Gaga!A207,IF($B$10=\"Treguine\",Treguine!A207,IF($B$10=\"Bredjing\",Bredjing!A207,\"\"))))","v":""},{"$f":"IF($B$10=\"Farchana\",Farchana!B188,IF($B$10=\"Gaga\",Gaga!B207,IF($B$10=\"Treguine\",Treguine!B207,IF($B$10=\"Bredjing\",Bredjing!B207,\"\"))))","v":""},{"$f":"IF($B$10=\"Farchana\",Farchana!C188,IF($B$10=\"Gaga\",Gaga!C207,IF($B$10=\"Treguine\",Treguine!C207,IF($B$10=\"Bredjing\",Bredjing!C207,\"\"))))","v":""},null,null,{"$f":"IF($B$10=\"Farchana\",Farchana!G188,IF($B$10=\"Gaga\",Gaga!I207,IF($B$10=\"Treguine\",Treguine!G207,IF($B$10=\"Bredjing\",Bredjing!G207,\"\"))))","v":""}]
[{"$f":"IF($B$10=\"Farchana\",Farchana!A189,IF($B$10=\"Gaga\",Gaga!A208,IF($B$10=\"Treguine\",Treguine!A208,IF($B$10=\"Bredjing\",Bredjing!A208,\"\"))))","v":""},{"$f":"IF($B$10=\"Farchana\",Farchana!B189,IF($B$10=\"Gaga\",Gaga!B208,IF($B$10=\"Treguine\",Treguine!B208,IF($B$10=\"Bredjing\",Bredjing!B208,\"\"))))","v":""},{"$f":"IF($B$10=\"Farchana\",Farchana!C189,IF($B$10=\"Gaga\",Gaga!C208,IF($B$10=\"Treguine\",Treguine!C208,IF($B$10=\"Bredjing\",Bredjing!C208,\"\"))))","v":""},null,null,{"$f":"IF($B$10=\"Farchana\",Farchana!G189,IF($B$10=\"Gaga\",Gaga!I208,IF($B$10=\"Treguine\",Treguine!G208,IF($B$10=\"Bredjing\",Bredjing!G208,\"\"))))","v":""}]
[{"$f":"IF($B$10=\"Farchana\",Farchana!A190,IF($B$10=\"Gaga\",Gaga!A209,IF($B$10=\"Treguine\",Treguine!A209,IF($B$10=\"Bredjing\",Bredjing!A209,\"\"))))","v":""},{"$f":"IF($B$10=\"Farchana\",Farchana!B190,IF($B$10=\"Gaga\",Gaga!B209,IF($B$10=\"Treguine\",Treguine!B209,IF($B$10=\"Bredjing\",Bredjing!B209,\"\"))))","v":""},{"$f":"IF($B$10=\"Farchana\",Farchana!C190,IF($B$10=\"Gaga\",Gaga!C209,IF($B$10=\"Treguine\",Treguine!C209,IF($B$10=\"Bredjing\",Bredjing!C209,\"\"))))","v":""},null,null,{"$f":"IF($B$10=\"Farchana\",Farchana!G190,IF($B$10=\"Gaga\",Gaga!I209,IF($B$10=\"Treguine\",Treguine!G209,IF($B$10=\"Bredjing\",Bredjing!G209,\"\"))))","v":""}]
[{"$f":"IF($B$10=\"Farchana\",Farchana!A191,IF($B$10=\"Gaga\",Gaga!A210,IF($B$10=\"Treguine\",Treguine!A210,IF($B$10=\"Bredjing\",Bredjing!A210,\"\"))))","v":""},{"$f":"IF($B$10=\"Farchana\",Farchana!B191,IF($B$10=\"Gaga\",Gaga!B210,IF($B$10=\"Treguine\",Treguine!B210,IF($B$10=\"Bredjing\",Bredjing!B210,\"\"))))","v":""},{"$f":"IF($B$10=\"Farchana\",Farchana!C191,IF($B$10=\"Gaga\",Gaga!C210,IF($B$10=\"Treguine\",Treguine!C210,IF($B$10=\"Bredjing\",Bredjing!C210,\"\"))))","v":""},null,null,{"$f":"IF($B$10=\"Farchana\",Farchana!G191,IF($B$10=\"Gaga\",Gaga!I210,IF($B$10=\"Treguine\",Treguine!G210,IF($B$10=\"Bredjing\",Bredjing!G210,\"\"))))","v":""}]
[{"$f":"IF($B$10=\"Farchana\",Farchana!A192,IF($B$10=\"Gaga\",Gaga!A211,IF($B$10=\"Treguine\",Treguine!A211,IF($B$10=\"Bredjing\",Bredjing!A211,\"\"))))","v":""},{"$f":"IF($B$10=\"Farchana\",Farchana!B192,IF($B$10=\"Gaga\",Gaga!B211,IF($B$10=\"Treguine\",Treguine!B211,IF($B$10=\"Bredjing\",Bredjing!B211,\"\"))))","v":""},{"$f":"IF($B$10=\"Farchana\",Farchana!C192,IF($B$10=\"Gaga\",Gaga!C211,IF($B$10=\"Treguine\",Treguine!C211,IF($B$10=\"Bredjing\",Bredjing!C211,\"\"))))","v":""},null,null,{"$f":"IF($B$10=\"Farchana\",Farchana!G192,IF($B$10=\"Gaga\",Gaga!I211,IF($B$10=\"Treguine\",Treguine!G211,IF($B$10=\"Bredjing\",Bredjing!G211,\"\"))))","v":""}]
[{"$f":"IF($B$10=\"Farchana\",Farchana!A193,IF($B$10=\"Gaga\",Gaga!A212,IF($B$10=\"Treguine\",Treguine!A212,IF($B$10=\"Bredjing\",Bredjing!A212,\"\"))))","v":""},{"$f":"IF($B$10=\"Farchana\",Farchana!B193,IF($B$10=\"Gaga\",Gaga!B212,IF($B$10=\"Treguine\",Treguine!B212,IF($B$10=\"Bredjing\",Bredjing!B212,\"\"))))","v":""},{"$f":"IF($B$10=\"Farchana\",Farchana!C193,IF($B$10=\"Gaga\",Gaga!C212,IF($B$10=\"Treguine\",Treguine!C212,IF($B$10=\"Bredjing\",Bredjing!C212,\"\"))))","v":""},null,null,{"$f":"IF($B$10=\"Farchana\",Farchana!G193,IF($B$10=\"Gaga\",Gaga!I212,IF($B$10=\"Treguine\",Treguine!G212,IF($B$10=\"Bredjing\",Bredjing!G212,\"\"))))","v":""}]
[{"$f":"IF($B$10=\"Farchana\",Farchana!A194,IF($B$10=\"Gaga\",Gaga!A213,IF($B$10=\"Treguine\",Treguine!A213,IF($B$10=\"Bredjing\",Bredjing!A213,\"\"))))","v":""},{"$f":"IF($B$10=\"Farchana\",Farchana!B194,IF($B$10=\"Gaga\",Gaga!B213,IF($B$10=\"Treguine\",Treguine!B213,IF($B$10=\"Bredjing\",Bredjing!B213,\"\"))))","v":""},{"$f":"IF($B$10=\"Farchana\",Farchana!C194,IF($B$10=\"Gaga\",Gaga!C213,IF($B$10=\"Treguine\",Treguine!C213,IF($B$10=\"Bredjing\",Bredjing!C213,\"\"))))","v":""},null,null,{"$f":"IF($B$10=\"Farchana\",Farchana!G194,IF($B$10=\"Gaga\",Gaga!I213,IF($B$10=\"Treguine\",Treguine!G213,IF($B$10=\"Bredjing\",Bredjing!G213,\"\"))))","v":""}]
[{"$f":"IF($B$10=\"Farchana\",Farchana!A195,IF($B$10=\"Gaga\",Gaga!A214,IF($B$10=\"Treguine\",Treguine!A214,IF($B$10=\"Bredjing\",Bredjing!A214,\"\"))))","v":""},{"$f":"IF($B$10=\"Farchana\",Farchana!B195,IF($B$10=\"Gaga\",Gaga!B214,IF($B$10=\"Treguine\",Treguine!B214,IF($B$10=\"Bredjing\",Bredjing!B214,\"\"))))","v":""},{"$f":"IF($B$10=\"Farchana\",Farchana!C195,IF($B$10=\"Gaga\",Gaga!C214,IF($B$10=\"Treguine\",Treguine!C214,IF($B$10=\"Bredjing\",Bredjing!C214,\"\"))))","v":""},null,null,{"$f":"IF($B$10=\"Farchana\",Farchana!G195,IF($B$10=\"Gaga\",Gaga!I214,IF($B$10=\"Treguine\",Treguine!G214,IF($B$10=\"Bredjing\",Bredjing!G214,\"\"))))","v":""}]
[{"$f":"IF($B$10=\"Farchana\",Farchana!A196,IF($B$10=\"Gaga\",Gaga!A215,IF($B$10=\"Treguine\",Treguine!A215,IF($B$10=\"Bredjing\",Bredjing!A215,\"\"))))","v":""},{"$f":"IF($B$10=\"Farchana\",Farchana!B196,IF($B$10=\"Gaga\",Gaga!B215,IF($B$10=\"Treguine\",Treguine!B215,IF($B$10=\"Bredjing\",Bredjing!B215,\"\"))))","v":""},{"$f":"IF($B$10=\"Farchana\",Farchana!C196,IF($B$10=\"Gaga\",Gaga!C215,IF($B$10=\"Treguine\",Treguine!C215,IF($B$10=\"Bredjing\",Bredjing!C215,\"\"))))","v":""},null,null,{"$f":"IF($B$10=\"Farchana\",Farchana!G196,IF($B$10=\"Gaga\",Gaga!I215,IF($B$10=\"Treguine\",Treguine!G215,IF($B$10=\"Bredjing\",Bredjing!G215,\"\"))))","v":""}]
[{"$f":"IF($B$10=\"Farchana\",Farchana!A197,IF($B$10=\"Gaga\",Gaga!A216,IF($B$10=\"Treguine\",Treguine!A216,IF($B$10=\"Bredjing\",Bredjing!A216,\"\"))))","v":""},{"$f":"IF($B$10=\"Farchana\",Farchana!B197,IF($B$10=\"Gaga\",Gaga!B216,IF($B$10=\"Treguine\",Treguine!B216,IF($B$10=\"Bredjing\",Bredjing!B216,\"\"))))","v":""},{"$f":"IF($B$10=\"Farchana\",Farchana!C197,IF($B$10=\"Gaga\",Gaga!C216,IF($B$10=\"Treguine\",Treguine!C216,IF($B$10=\"Bredjing\",Bredjing!C216,\"\"))))","v":""},null,null,{"$f":"IF($B$10=\"Farchana\",Farchana!G197,IF($B$10=\"Gaga\",Gaga!I216,IF($B$10=\"Treguine\",Treguine!G216,IF($B$10=\"Bredjing\",Bredjing!G216,\"\"))))","v":""}]
[{"$f":"IF($B$10=\"Farchana\",Farchana!A198,IF($B$10=\"Gaga\",Gaga!A217,IF($B$10=\"Treguine\",Treguine!A217,IF($B$10=\"Bredjing\",Bredjing!A217,\"\"))))","v":""},{"$f":"IF($B$10=\"Farchana\",Farchana!B198,IF($B$10=\"Gaga\",Gaga!B217,IF($B$10=\"Treguine\",Treguine!B217,IF($B$10=\"Bredjing\",Bredjing!B217,\"\"))))","v":""},{"$f":"IF($B$10=\"Farchana\",Farchana!C198,IF($B$10=\"Gaga\",Gaga!C217,IF($B$10=\"Treguine\",Treguine!C217,IF($B$10=\"Bredjing\",Bredjing!C217,\"\"))))","v":""},null,null,{"$f":"IF($B$10=\"Farchana\",Farchana!G198,IF($B$10=\"Gaga\",Gaga!I217,IF($B$10=\"Treguine\",Treguine!G217,IF($B$10=\"Bredjing\",Bredjing!G217,\"\"))))","v":""}]
[{"$f":"IF($B$10=\"Farchana\",Farchana!A199,IF($B$10=\"Gaga\",Gaga!A218,IF($B$10=\"Treguine\",Treguine!A218,IF($B$10=\"Bredjing\",Bredjing!A218,\"\"))))","v":""},{"$f":"IF($B$10=\"Farchana\",Farchana!B199,IF($B$10=\"Gaga\",Gaga!B218,IF($B$10=\"Treguine\",Treguine!B218,IF($B$10=\"Bredjing\",Bredjing!B218,\"\"))))","v":""},{"$f":"IF($B$10=\"Farchana\",Farchana!C199,IF($B$10=\"Gaga\",Gaga!C218,IF($B$10=\"Treguine\",Treguine!C218,IF($B$10=\"Bredjing\",Bredjing!C218,\"\"))))","v":""},null,null,{"$f":"IF($B$10=\"Farchana\",Farchana!G199,IF($B$10=\"Gaga\",Gaga!I218,IF($B$10=\"Treguine\",Treguine!G218,IF($B$10=\"Bredjing\",Bredjing!G218,\"\"))))","v":""}]
[{"$f":"IF($B$10=\"Farchana\",Farchana!A200,IF($B$10=\"Gaga\",Gaga!A219,IF($B$10=\"Treguine\",Treguine!A219,IF($B$10=\"Bredjing\",Bredjing!A219,\"\"))))","v":""},{"$f":"IF($B$10=\"Farchana\",Farchana!B200,IF($B$10=\"Gaga\",Gaga!B219,IF($B$10=\"Treguine\",Treguine!B219,IF($B$10=\"Bredjing\",Bredjing!B219,\"\"))))","v":""},{"$f":"IF($B$10=\"Farchana\",Farchana!C200,IF($B$10=\"Gaga\",Gaga!C219,IF($B$10=\"Treguine\",Treguine!C219,IF($B$10=\"Bredjing\",Bredjing!C219,\"\"))))","v":""},null,null,{"$f":"IF($B$10=\"Farchana\",Farchana!G200,IF($B$10=\"Gaga\",Gaga!I219,IF($B$10=\"Treguine\",Treguine!G219,IF($B$10=\"Bredjing\",Bredjing!G219,\"\"))))","v":""}]
[{"$f":"IF($B$10=\"Farchana\",Farchana!A201,IF($B$10=\"Gaga\",Gaga!A220,IF($B$10=\"Treguine\",Treguine!A220,IF($B$10=\"Bredjing\",Bredjing!A220,\"\"))))","v":""},{"$f":"IF($B$10=\"Farchana\",Farchana!B201,IF($B$10=\"Gaga\",Gaga!B220,IF($B$10=\"Treguine\",Treguine!B220,IF($B$10=\"Bredjing\",Bredjing!B220,\"\"))))","v":""},{"$f":"IF($B$10=\"Farchana\",Farchana!C201,IF($B$10=\"Gaga\",Gaga!C220,IF($B$10=\"Treguine\",Treguine!C220,IF($B$10=\"Bredjing\",Bredjing!C220,\"\"))))","v":""},null,null,{"$f":"IF($B$10=\"Farchana\",Farchana!G201,IF($B$10=\"Gaga\",Gaga!I220,IF($B$10=\"Treguine\",Treguine!G220,IF($B$10=\"Bredjing\",Bredjing!G220,\"\"))))","v":""}]
[{"$f":"IF($B$10=\"Farchana\",Farchana!A202,IF($B$10=\"Gaga\",Gaga!A221,IF($B$10=\"Treguine\",Treguine!A221,IF($B$10=\"Bredjing\",Bredjing!A221,\"\"))))","v":""},{"$f":"IF($B$10=\"Farchana\",Farchana!B202,IF($B$10=\"Gaga\",Gaga!B221,IF($B$10=\"Treguine\",Treguine!B221,IF($B$10=\"Bredjing\",Bredjing!B221,\"\"))))","v":""},{"$f":"IF($B$10=\"Farchana\",Farchana!C202,IF($B$10=\"Gaga\",Gaga!C221,IF($B$10=\"Treguine\",Treguine!C221,IF($B$10=\"Bredjing\",Bredjing!C221,\"\"))))","v":""},null,null,{"$f":"IF($B$10=\"Farchana\",Farchana!G202,IF($B$10=\"Gaga\",Gaga!I221,IF($B$10=\"Treguine\",Treguine!G221,IF($B$10=\"Bredjing\",Bredjing!G221,\"\"))))","v":""}]
[{"$f":"IF($B$10=\"Farchana\",Farchana!A203,IF($B$10=\"Gaga\",Gaga!A222,IF($B$10=\"Treguine\",Treguine!A222,IF($B$10=\"Bredjing\",Bredjing!A222,\"\"))))","v":""},{"$f":"IF($B$10=\"Farchana\",Farchana!B203,IF($B$10=\"Gaga\",Gaga!B222,IF($B$10=\"Treguine\",Treguine!B222,IF($B$10=\"Bredjing\",Bredjing!B222,\"\"))))","v":""},{"$f":"IF($B$10=\"Farchana\",Farchana!C203,IF($B$10=\"Gaga\",Gaga!C222,IF($B$10=\"Treguine\",Treguine!C222,IF($B$10=\"Bredjing\",Bredjing!C222,\"\"))))","v":""},null,null,{"$f":"IF($B$10=\"Farchana\",Farchana!G203,IF($B$10=\"Gaga\",Gaga!I222,IF($B$10=\"Treguine\",Treguine!G222,IF($B$10=\"Bredjing\",Bredjing!G222,\"\"))))","v":""}]
[{"$f":"IF($B$10=\"Farchana\",Farchana!A204,IF($B$10=\"Gaga\",Gaga!A223,IF($B$10=\"Treguine\",Treguine!A223,IF($B$10=\"Bredjing\",Bredjing!A223,\"\"))))","v":""},{"$f":"IF($B$10=\"Farchana\",Farchana!B204,IF($B$10=\"Gaga\",Gaga!B223,IF($B$10=\"Treguine\",Treguine!B223,IF($B$10=\"Bredjing\",Bredjing!B223,\"\"))))","v":""},{"$f":"IF($B$10=\"Farchana\",Farchana!C204,IF($B$10=\"Gaga\",Gaga!C223,IF($B$10=\"Treguine\",Treguine!C223,IF($B$10=\"Bredjing\",Bredjing!C223,\"\"))))","v":""},null,null,{"$f":"IF($B$10=\"Farchana\",Farchana!G204,IF($B$10=\"Gaga\",Gaga!I223,IF($B$10=\"Treguine\",Treguine!G223,IF($B$10=\"Bredjing\",Bredjing!G223,\"\"))))","v":""}]
[{"$f":"IF($B$10=\"Farchana\",Farchana!A205,IF($B$10=\"Gaga\",Gaga!A224,IF($B$10=\"Treguine\",Treguine!A224,IF($B$10=\"Bredjing\",Bredjing!A224,\"\"))))","v":""},{"$f":"IF($B$10=\"Farchana\",Farchana!B205,IF($B$10=\"Gaga\",Gaga!B224,IF($B$10=\"Treguine\",Treguine!B224,IF($B$10=\"Bredjing\",Bredjing!B224,\"\"))))","v":""},{"$f":"IF($B$10=\"Farchana\",Farchana!C205,IF($B$10=\"Gaga\",Gaga!C224,IF($B$10=\"Treguine\",Treguine!C224,IF($B$10=\"Bredjing\",Bredjing!C224,\"\"))))","v":""},null,null,{"$f":"IF($B$10=\"Farchana\",Farchana!G205,IF($B$10=\"Gaga\",Gaga!I224,IF($B$10=\"Treguine\",Treguine!G224,IF($B$10=\"Bredjing\",Bredjing!G224,\"\"))))","v":""}]
[{"$f":"IF($B$10=\"Farchana\",Farchana!A206,IF($B$10=\"Gaga\",Gaga!A225,IF($B$10=\"Treguine\",Treguine!A225,IF($B$10=\"Bredjing\",Bredjing!A225,\"\"))))","v":""},{"$f":"IF($B$10=\"Farchana\",Farchana!B206,IF($B$10=\"Gaga\",Gaga!B225,IF($B$10=\"Treguine\",Treguine!B225,IF($B$10=\"Bredjing\",Bredjing!B225,\"\"))))","v":""},{"$f":"IF($B$10=\"Farchana\",Farchana!C206,IF($B$10=\"Gaga\",Gaga!C225,IF($B$10=\"Treguine\",Treguine!C225,IF($B$10=\"Bredjing\",Bredjing!C225,\"\"))))","v":""},null,null,{"$f":"IF($B$10=\"Farchana\",Farchana!G206,IF($B$10=\"Gaga\",Gaga!I225,IF($B$10=\"Treguine\",Treguine!G225,IF($B$10=\"Bredjing\",Bredjing!G225,\"\"))))","v":""}]
[{"$f":"IF($B$10=\"Farchana\",Farchana!A207,IF($B$10=\"Gaga\",Gaga!A226,IF($B$10=\"Treguine\",Treguine!A226,IF($B$10=\"Bredjing\",Bredjing!A226,\"\"))))","v":""},{"$f":"IF($B$10=\"Farchana\",Farchana!B207,IF($B$10=\"Gaga\",Gaga!B226,IF($B$10=\"Treguine\",Treguine!B226,IF($B$10=\"Bredjing\",Bredjing!B226,\"\"))))","v":""},{"$f":"IF($B$10=\"Farchana\",Farchana!C207,IF($B$10=\"Gaga\",Gaga!C226,IF($B$10=\"Treguine\",Treguine!C226,IF($B$10=\"Bredjing\",Bredjing!C226,\"\"))))","v":""},null,null,{"$f":"IF($B$10=\"Farchana\",Farchana!G207,IF($B$10=\"Gaga\",Gaga!I226,IF($B$10=\"Treguine\",Treguine!G226,IF($B$10=\"Bredjing\",Bredjing!G226,\"\"))))","v":""}]
[{"$f":"IF($B$10=\"Farchana\",Farchana!A208,IF($B$10=\"Gaga\",Gaga!A227,IF($B$10=\"Treguine\",Treguine!A227,IF($B$10=\"Bredjing\",Bredjing!A227,\"\"))))","v":""},{"$f":"IF($B$10=\"Farchana\",Farchana!B208,IF($B$10=\"Gaga\",Gaga!B227,IF($B$10=\"Treguine\",Treguine!B227,IF($B$10=\"Bredjing\",Bredjing!B227,\"\"))))","v":""},{"$f":"IF($B$10=\"Farchana\",Farchana!C208,IF($B$10=\"Gaga\",Gaga!C227,IF($B$10=\"Treguine\",Treguine!C227,IF($B$10=\"Bredjing\",Bredjing!C227,\"\"))))","v":""},null,null,{"$f":"IF($B$10=\"Farchana\",Farchana!G208,IF($B$10=\"Gaga\",Gaga!I227,IF($B$10=\"Treguine\",Treguine!G227,IF($B$10=\"Bredjing\",Bredjing!G227,\"\"))))","v":""}]
[{"$f":"IF($B$10=\"Farchana\",Farchana!A209,IF($B$10=\"Gaga\",Gaga!A228,IF($B$10=\"Treguine\",Treguine!A228,IF($B$10=\"Bredjing\",Bredjing!A228,\"\"))))","v":""},{"$f":"IF($B$10=\"Farchana\",Farchana!B209,IF($B$10=\"Gaga\",Gaga!B228,IF($B$10=\"Treguine\",Treguine!B228,IF($B$10=\"Bredjing\",Bredjing!B228,\"\"))))","v":""},{"$f":"IF($B$10=\"Farchana\",Farchana!C209,IF($B$10=\"Gaga\",Gaga!C228,IF($B$10=\"Treguine\",Treguine!C228,IF($B$10=\"Bredjing\",Bredjing!C228,\"\"))))","v":""},null,null,{"$f":"IF($B$10=\"Farchana\",Farchana!G209,IF($B$10=\"Gaga\",Gaga!I228,IF($B$10=\"Treguine\",Treguine!G228,IF($B$10=\"Bredjing\",Bredjing!G228,\"\"))))","v":""}]
[{"$f":"IF($B$10=\"Farchana\",Farchana!A210,IF($B$10=\"Gaga\",Gaga!A229,IF($B$10=\"Treguine\",Treguine!A229,IF($B$10=\"Bredjing\",Bredjing!A229,\"\"))))","v":""},{"$f":"IF($B$10=\"Farchana\",Farchana!B210,IF($B$10=\"Gaga\",Gaga!B229,IF($B$10=\"Treguine\",Treguine!B229,IF($B$10=\"Bredjing\",Bredjing!B229,\"\"))))","v":""},{"$f":"IF($B$10=\"Farchana\",Farchana!C210,IF($B$10=\"Gaga\",Gaga!C229,IF($B$10=\"Treguine\",Treguine!C229,IF($B$10=\"Bredjing\",Bredjing!C229,\"\"))))","v":""},null,null,{"$f":"IF($B$10=\"Farchana\",Farchana!G210,IF($B$10=\"Gaga\",Gaga!I229,IF($B$10=\"Treguine\",Treguine!G229,IF($B$10=\"Bredjing\",Bredjing!G229,\"\"))))","v":""}]
[{"$f":"IF($B$10=\"Farchana\",Farchana!A211,IF($B$10=\"Gaga\",Gaga!A230,IF($B$10=\"Treguine\",Treguine!A230,IF($B$10=\"Bredjing\",Bredjing!A230,\"\"))))","v":""},{"$f":"IF($B$10=\"Farchana\",Farchana!B211,IF($B$10=\"Gaga\",Gaga!B230,IF($B$10=\"Treguine\",Treguine!B230,IF($B$10=\"Bredjing\",Bredjing!B230,\"\"))))","v":""},{"$f":"IF($B$10=\"Farchana\",Farchana!C211,IF($B$10=\"Gaga\",Gaga!C230,IF($B$10=\"Treguine\",Treguine!C230,IF($B$10=\"Bredjing\",Bredjing!C230,\"\"))))","v":""},null,null,{"$f":"IF($B$10=\"Farchana\",Farchana!G211,IF($B$10=\"Gaga\",Gaga!I230,IF($B$10=\"Treguine\",Treguine!G230,IF($B$10=\"Bredjing\",Bredjing!G230,\"\"))))","v":""}]
[{"$f":"IF($B$10=\"Farchana\",Farchana!A212,IF($B$10=\"Gaga\",Gaga!A231,IF($B$10=\"Treguine\",Treguine!A231,IF($B$10=\"Bredjing\",Bredjing!A231,\"\"))))","v":""},{"$f":"IF($B$10=\"Farchana\",Farchana!B212,IF($B$10=\"Gaga\",Gaga!B231,IF($B$10=\"Treguine\",Treguine!B231,IF($B$10=\"Bredjing\",Bredjing!B231,\"\"))))","v":""},{"$f":"IF($B$10=\"Farchana\",Farchana!C212,IF($B$10=\"Gaga\",Gaga!C231,IF($B$10=\"Treguine\",Treguine!C231,IF($B$10=\"Bredjing\",Bredjing!C231,\"\"))))","v":""},null,null,{"$f":"IF($B$10=\"Farchana\",Farchana!G212,IF($B$10=\"Gaga\",Gaga!I231,IF($B$10=\"Treguine\",Treguine!G231,IF($B$10=\"Bredjing\",Bredjing!G231,\"\"))))","v":""}]
[{"$f":"IF($B$10=\"Farchana\",Farchana!A213,IF($B$10=\"Gaga\",Gaga!A232,IF($B$10=\"Treguine\",Treguine!A232,IF($B$10=\"Bredjing\",Bredjing!A232,\"\"))))","v":""},{"$f":"IF($B$10=\"Farchana\",Farchana!B213,IF($B$10=\"Gaga\",Gaga!B232,IF($B$10=\"Treguine\",Treguine!B232,IF($B$10=\"Bredjing\",Bredjing!B232,\"\"))))","v":""},{"$f":"IF($B$10=\"Farchana\",Farchana!C213,IF($B$10=\"Gaga\",Gaga!C232,IF($B$10=\"Treguine\",Treguine!C232,IF($B$10=\"Bredjing\",Bredjing!C232,\"\"))))","v":""},null,null,{"$f":"IF($B$10=\"Farchana\",Farchana!G213,IF($B$10=\"Gaga\",Gaga!I232,IF($B$10=\"Treguine\",Treguine!G232,IF($B$10=\"Bredjing\",Bredjing!G232,\"\"))))","v":""}]
[{"$f":"IF($B$10=\"Farchana\",Farchana!A214,IF($B$10=\"Gaga\",Gaga!A233,IF($B$10=\"Treguine\",Treguine!A233,IF($B$10=\"Bredjing\",Bredjing!A233,\"\"))))","v":""},{"$f":"IF($B$10=\"Farchana\",Farchana!B214,IF($B$10=\"Gaga\",Gaga!B233,IF($B$10=\"Treguine\",Treguine!B233,IF($B$10=\"Bredjing\",Bredjing!B233,\"\"))))","v":""},{"$f":"IF($B$10=\"Farchana\",Farchana!C214,IF($B$10=\"Gaga\",Gaga!C233,IF($B$10=\"Treguine\",Treguine!C233,IF($B$10=\"Bredjing\",Bredjing!C233,\"\"))))","v":""},null,null,{"$f":"IF($B$10=\"Farchana\",Farchana!G214,IF($B$10=\"Gaga\",Gaga!I233,IF($B$10=\"Treguine\",Treguine!G233,IF($B$10=\"Bredjing\",Bredjing!G233,\"\"))))","v":""}]
[{"$f":"IF($B$10=\"Farchana\",Farchana!A215,IF($B$10=\"Gaga\",Gaga!A234,IF($B$10=\"Treguine\",Treguine!A234,IF($B$10=\"Bredjing\",Bredjing!A234,\"\"))))","v":""},{"$f":"IF($B$10=\"Farchana\",Farchana!B215,IF($B$10=\"Gaga\",Gaga!B234,IF($B$10=\"Treguine\",Treguine!B234,IF($B$10=\"Bredjing\",Bredjing!B234,\"\"))))","v":""},{"$f":"IF($B$10=\"Farchana\",Farchana!C215,IF($B$10=\"Gaga\",Gaga!C234,IF($B$10=\"Treguine\",Treguine!C234,IF($B$10=\"Bredjing\",Bredjing!C234,\"\"))))","v":""},null,null,{"$f":"IF($B$10=\"Farchana\",Farchana!G215,IF($B$10=\"Gaga\",Gaga!I234,IF($B$10=\"Treguine\",Treguine!G234,IF($B$10=\"Bredjing\",Bredjing!G234,\"\"))))","v":""}]
[{"$f":"IF($B$10=\"Farchana\",Farchana!A216,IF($B$10=\"Gaga\",Gaga!A235,IF($B$10=\"Treguine\",Treguine!A235,IF($B$10=\"Bredjing\",Bredjing!A235,\"\"))))","v":""},{"$f":"IF($B$10=\"Farchana\",Farchana!B216,IF($B$10=\"Gaga\",Gaga!B235,IF($B$10=\"Treguine\",Treguine!B235,IF($B$10=\"Bredjing\",Bredjing!B235,\"\"))))","v":""},{"$f":"IF($B$10=\"Farchana\",Farchana!C216,IF($B$10=\"Gaga\",Gaga!C235,IF($B$10=\"Treguine\",Treguine!C235,IF($B$10=\"Bredjing\",Bredjing!C235,\"\"))))","v":""},null,null,{"$f":"IF($B$10=\"Farchana\",Farchana!G216,IF($B$10=\"Gaga\",Gaga!I235,IF($B$10=\"Treguine\",Treguine!G235,IF($B$10=\"Bredjing\",Bredjing!G235,\"\"))))","v":""}]
[{"$f":"IF($B$10=\"Farchana\",Farchana!A217,IF($B$10=\"Gaga\",Gaga!A236,IF($B$10=\"Treguine\",Treguine!A236,IF($B$10=\"Bredjing\",Bredjing!A236,\"\"))))","v":""},{"$f":"IF($B$10=\"Farchana\",Farchana!B217,IF($B$10=\"Gaga\",Gaga!B236,IF($B$10=\"Treguine\",Treguine!B236,IF($B$10=\"Bredjing\",Bredjing!B236,\"\"))))","v":""},{"$f":"IF($B$10=\"Farchana\",Farchana!C217,IF($B$10=\"Gaga\",Gaga!C236,IF($B$10=\"Treguine\",Treguine!C236,IF($B$10=\"Bredjing\",Bredjing!C236,\"\"))))","v":""},null,null,{"$f":"IF($B$10=\"Farchana\",Farchana!G217,IF($B$10=\"Gaga\",Gaga!I236,IF($B$10=\"Treguine\",Treguine!G236,IF($B$10=\"Bredjing\",Bredjing!G236,\"\"))))","v":""}]
[{"$f":"IF($B$10=\"Farchana\",Farchana!A218,IF($B$10=\"Gaga\",Gaga!A237,IF($B$10=\"Treguine\",Treguine!A237,IF($B$10=\"Bredjing\",Bredjing!A237,\"\"))))","v":""},{"$f":"IF($B$10=\"Farchana\",Farchana!B218,IF($B$10=\"Gaga\",Gaga!B237,IF($B$10=\"Treguine\",Treguine!B237,IF($B$10=\"Bredjing\",Bredjing!B237,\"\"))))","v":""},{"$f":"IF($B$10=\"Farchana\",Farchana!C218,IF($B$10=\"Gaga\",Gaga!C237,IF($B$10=\"Treguine\",Treguine!C237,IF($B$10=\"Bredjing\",Bredjing!C237,\"\"))))","v":""},null,null,{"$f":"IF($B$10=\"Farchana\",Farchana!G218,IF($B$10=\"Gaga\",Gaga!I237,IF($B$10=\"Treguine\",Treguine!G237,IF($B$10=\"Bredjing\",Bredjing!G237,\"\"))))","v":""}]
[{"$f":"IF($B$10=\"Farchana\",Farchana!A219,IF($B$10=\"Gaga\",Gaga!A238,IF($B$10=\"Treguine\",Treguine!A238,IF($B$10=\"Bredjing\",Bredjing!A238,\"\"))))","v":""},{"$f":"IF($B$10=\"Farchana\",Farchana!B219,IF($B$10=\"Gaga\",Gaga!B238,IF($B$10=\"Treguine\",Treguine!B238,IF($B$10=\"Bredjing\",Bredjing!B238,\"\"))))","v":""},{"$f":"IF($B$10=\"Farchana\",Farchana!C219,IF($B$10=\"Gaga\",Gaga!C238,IF($B$10=\"Treguine\",Treguine!C238,IF($B$10=\"Bredjing\",Bredjing!C238,\"\"))))","v":""},null,null,{"$f":"IF($B$10=\"Farchana\",Farchana!G219,IF($B$10=\"Gaga\",Gaga!I238,IF($B$10=\"Treguine\",Treguine!G238,IF($B$10=\"Bredjing\",Bredjing!G238,\"\"))))","v":""}]
[{"$f":"IF($B$10=\"Farchana\",Farchana!A220,IF($B$10=\"Gaga\",Gaga!A239,IF($B$10=\"Treguine\",Treguine!A239,IF($B$10=\"Bredjing\",Bredjing!A239,\"\"))))","v":""},{"$f":"IF($B$10=\"Farchana\",Farchana!B220,IF($B$10=\"Gaga\",Gaga!B239,IF($B$10=\"Treguine\",Treguine!B239,IF($B$10=\"Bredjing\",Bredjing!B239,\"\"))))","v":""},{"$f":"IF($B$10=\"Farchana\",Farchana!C220,IF($B$10=\"Gaga\",Gaga!C239,IF($B$10=\"Treguine\",Treguine!C239,IF($B$10=\"Bredjing\",Bredjing!C239,\"\"))))","v":""},null,null,{"$f":"IF($B$10=\"Farchana\",Farchana!G220,IF($B$10=\"Gaga\",Gaga!I239,IF($B$10=\"Treguine\",Treguine!G239,IF($B$10=\"Bredjing\",Bredjing!G239,\"\"))))","v":""}]
[{"$f":"IF($B$10=\"Farchana\",Farchana!A221,IF($B$10=\"Gaga\",Gaga!A240,IF($B$10=\"Treguine\",Treguine!A240,IF($B$10=\"Bredjing\",Bredjing!A240,\"\"))))","v":""},{"$f":"IF($B$10=\"Farchana\",Farchana!B221,IF($B$10=\"Gaga\",Gaga!B240,IF($B$10=\"Treguine\",Treguine!B240,IF($B$10=\"Bredjing\",Bredjing!B240,\"\"))))","v":""},{"$f":"IF($B$10=\"Farchana\",Farchana!C221,IF($B$10=\"Gaga\",Gaga!C240,IF($B$10=\"Treguine\",Treguine!C240,IF($B$10=\"Bredjing\",Bredjing!C240,\"\"))))","v":""},null,null,{"$f":"IF($B$10=\"Farchana\",Farchana!G221,IF($B$10=\"Gaga\",Gaga!I240,IF($B$10=\"Treguine\",Treguine!G240,IF($B$10=\"Bredjing\",Bredjing!G240,\"\"))))","v":""}]
[{"$f":"IF($B$10=\"Farchana\",Farchana!A222,IF($B$10=\"Gaga\",Gaga!A241,IF($B$10=\"Treguine\",Treguine!A241,IF($B$10=\"Bredjing\",Bredjing!A241,\"\"))))","v":""},{"$f":"IF($B$10=\"Farchana\",Farchana!B222,IF($B$10=\"Gaga\",Gaga!B241,IF($B$10=\"Treguine\",Treguine!B241,IF($B$10=\"Bredjing\",Bredjing!B241,\"\"))))","v":""},{"$f":"IF($B$10=\"Farchana\",Farchana!C222,IF($B$10=\"Gaga\",Gaga!C241,IF($B$10=\"Treguine\",Treguine!C241,IF($B$10=\"Bredjing\",Bredjing!C241,\"\"))))","v":""},null,null,{"$f":"IF($B$10=\"Farchana\",Farchana!G222,IF($B$10=\"Gaga\",Gaga!I241,IF($B$10=\"Treguine\",Treguine!G241,IF($B$10=\"Bredjing\",Bredjing!G241,\"\"))))","v":""}]
[{"$f":"IF($B$10=\"Farchana\",Farchana!A223,IF($B$10=\"Gaga\",Gaga!A242,IF($B$10=\"Treguine\",Treguine!A242,IF($B$10=\"Bredjing\",Bredjing!A242,\"\"))))","v":""},{"$f":"IF($B$10=\"Farchana\",Farchana!B223,IF($B$10=\"Gaga\",Gaga!B242,IF($B$10=\"Treguine\",Treguine!B242,IF($B$10=\"Bredjing\",Bredjing!B242,\"\"))))","v":""},{"$f":"IF($B$10=\"Farchana\",Farchana!C223,IF($B$10=\"Gaga\",Gaga!C242,IF($B$10=\"Treguine\",Treguine!C242,IF($B$10=\"Bredjing\",Bredjing!C242,\"\"))))","v":""},null,null,{"$f":"IF($B$10=\"Farchana\",Farchana!G223,IF($B$10=\"Gaga\",Gaga!I242,IF($B$10=\"Treguine\",Treguine!G242,IF($B$10=\"Bredjing\",Bredjing!G242,\"\"))))","v":""}]
[{"$f":"IF($B$10=\"Farchana\",Farchana!A224,IF($B$10=\"Gaga\",Gaga!A243,IF($B$10=\"Treguine\",Treguine!A243,IF($B$10=\"Bredjing\",Bredjing!A243,\"\"))))","v":""},{"$f":"IF($B$10=\"Farchana\",Farchana!B224,IF($B$10=\"Gaga\",Gaga!B243,IF($B$10=\"Treguine\",Treguine!B243,IF($B$10=\"Bredjing\",Bredjing!B243,\"\"))))","v":""},{"$f":"IF($B$10=\"Farchana\",Farchana!C224,IF($B$10=\"Gaga\",Gaga!C243,IF($B$10=\"Treguine\",Treguine!C243,IF($B$10=\"Bredjing\",Bredjing!C243,\"\"))))","v":""},null,null,{"$f":"IF($B$10=\"Farchana\",Farchana!G224,IF($B$10=\"Gaga\",Gaga!I243,IF($B$10=\"Treguine\",Treguine!G243,IF($B$10=\"Bredjing\",Bredjing!G243,\"\"))))","v":""}]
[{"$f":"IF($B$10=\"Farchana\",Farchana!A225,IF($B$10=\"Gaga\",Gaga!A244,IF($B$10=\"Treguine\",Treguine!A244,IF($B$10=\"Bredjing\",Bredjing!A244,\"\"))))","v":""},{"$f":"IF($B$10=\"Farchana\",Farchana!B225,IF($B$10=\"Gaga\",Gaga!B244,IF($B$10=\"Treguine\",Treguine!B244,IF($B$10=\"Bredjing\",Bredjing!B244,\"\"))))","v":""},{"$f":"IF($B$10=\"Farchana\",Farchana!C225,IF($B$10=\"Gaga\",Gaga!C244,IF($B$10=\"Treguine\",Treguine!C244,IF($B$10=\"Bredjing\",Bredjing!C244,\"\"))))","v":""},null,null,{"$f":"IF($B$10=\"Farchana\",Farchana!G225,IF($B$10=\"Gaga\",Gaga!I244,IF($B$10=\"Treguine\",Treguine!G244,IF($B$10=\"Bredjing\",Bredjing!G244,\"\"))))","v":""}]
[{"$f":"IF($B$10=\"Farchana\",Farchana!A226,IF($B$10=\"Gaga\",Gaga!A245,IF($B$10=\"Treguine\",Treguine!A245,IF($B$10=\"Bredjing\",Bredjing!A245,\"\"))))","v":""},{"$f":"IF($B$10=\"Farchana\",Farchana!B226,IF($B$10=\"Gaga\",Gaga!B245,IF($B$10=\"Treguine\",Treguine!B245,IF($B$10=\"Bredjing\",Bredjing!B245,\"\"))))","v":""},{"$f":"IF($B$10=\"Farchana\",Farchana!C226,IF($B$10=\"Gaga\",Gaga!C245,IF($B$10=\"Treguine\",Treguine!C245,IF($B$10=\"Bredjing\",Bredjing!C245,\"\"))))","v":""},null,null,{"$f":"IF($B$10=\"Farchana\",Farchana!G226,IF($B$10=\"Gaga\",Gaga!I245,IF($B$10=\"Treguine\",Treguine!G245,IF($B$10=\"Bredjing\",Bredjing!G245,\"\"))))","v":""}]
[{"$f":"IF($B$10=\"Farchana\",Farchana!A227,IF($B$10=\"Gaga\",Gaga!A246,IF($B$10=\"Treguine\",Treguine!A246,IF($B$10=\"Bredjing\",Bredjing!A246,\"\"))))","v":""},{"$f":"IF($B$10=\"Farchana\",Farchana!B227,IF($B$10=\"Gaga\",Gaga!B246,IF($B$10=\"Treguine\",Treguine!B246,IF($B$10=\"Bredjing\",Bredjing!B246,\"\"))))","v":""},{"$f":"IF($B$10=\"Farchana\",Farchana!C227,IF($B$10=\"Gaga\",Gaga!C246,IF($B$10=\"Treguine\",Treguine!C246,IF($B$10=\"Bredjing\",Bredjing!C246,\"\"))))","v":""},null,null,{"$f":"IF($B$10=\"Farchana\",Farchana!G227,IF($B$10=\"Gaga\",Gaga!I246,IF($B$10=\"Treguine\",Treguine!G246,IF($B$10=\"Bredjing\",Bredjing!G246,\"\"))))","v":""}]
[{"$f":"IF($B$10=\"Farchana\",Farchana!A228,IF($B$10=\"Gaga\",Gaga!A247,IF($B$10=\"Treguine\",Treguine!A247,IF($B$10=\"Bredjing\",Bredjing!A247,\"\"))))","v":""},{"$f":"IF($B$10=\"Farchana\",Farchana!B228,IF($B$10=\"Gaga\",Gaga!B247,IF($B$10=\"Treguine\",Treguine!B247,IF($B$10=\"Bredjing\",Bredjing!B247,\"\"))))","v":""},{"$f":"IF($B$10=\"Farchana\",Farchana!C228,IF($B$10=\"Gaga\",Gaga!C247,IF($B$10=\"Treguine\",Treguine!C247,IF($B$10=\"Bredjing\",Bredjing!C247,\"\"))))","v":""},null,null,{"$f":"IF($B$10=\"Farchana\",Farchana!G228,IF($B$10=\"Gaga\",Gaga!I247,IF($B$10=\"Treguine\",Treguine!G247,IF($B$10=\"Bredjing\",Bredjing!G247,\"\"))))","v":""}]
[{"$f":"IF($B$10=\"Farchana\",Farchana!A229,IF($B$10=\"Gaga\",Gaga!A248,IF($B$10=\"Treguine\",Treguine!A248,IF($B$10=\"Bredjing\",Bredjing!A248,\"\"))))","v":""},{"$f":"IF($B$10=\"Farchana\",Farchana!B229,IF($B$10=\"Gaga\",Gaga!B248,IF($B$10=\"Treguine\",Treguine!B248,IF($B$10=\"Bredjing\",Bredjing!B248,\"\"))))","v":""},{"$f":"IF($B$10=\"Farchana\",Farchana!C229,IF($B$10=\"Gaga\",Gaga!C248,IF($B$10=\"Treguine\",Treguine!C248,IF($B$10=\"Bredjing\",Bredjing!C248,\"\"))))","v":""},null,null,{"$f":"IF($B$10=\"Farchana\",Farchana!G229,IF($B$10=\"Gaga\",Gaga!I248,IF($B$10=\"Treguine\",Treguine!G248,IF($B$10=\"Bredjing\",Bredjing!G248,\"\"))))","v":""}]
[{"$f":"IF($B$10=\"Farchana\",Farchana!A230,IF($B$10=\"Gaga\",Gaga!A249,IF($B$10=\"Treguine\",Treguine!A249,IF($B$10=\"Bredjing\",Bredjing!A249,\"\"))))","v":""},{"$f":"IF($B$10=\"Farchana\",Farchana!B230,IF($B$10=\"Gaga\",Gaga!B249,IF($B$10=\"Treguine\",Treguine!B249,IF($B$10=\"Bredjing\",Bredjing!B249,\"\"))))","v":""},{"$f":"IF($B$10=\"Farchana\",Farchana!C230,IF($B$10=\"Gaga\",Gaga!C249,IF($B$10=\"Treguine\",Treguine!C249,IF($B$10=\"Bredjing\",Bredjing!C249,\"\"))))","v":""},null,null,{"$f":"IF($B$10=\"Farchana\",Farchana!G230,IF($B$10=\"Gaga\",Gaga!I249,IF($B$10=\"Treguine\",Treguine!G249,IF($B$10=\"Bredjing\",Bredjing!G249,\"\"))))","v":""}]
[{"$f":"IF($B$10=\"Farchana\",Farchana!A231,IF($B$10=\"Gaga\",Gaga!A250,IF($B$10=\"Treguine\",Treguine!A250,IF($B$10=\"Bredjing\",Bredjing!A250,\"\"))))","v":""},{"$f":"IF($B$10=\"Farchana\",Farchana!B231,IF($B$10=\"Gaga\",Gaga!B250,IF($B$10=\"Treguine\",Treguine!B250,IF($B$10=\"Bredjing\",Bredjing!B250,\"\"))))","v":""},{"$f":"IF($B$10=\"Farchana\",Farchana!C231,IF($B$10=\"Gaga\",Gaga!C250,IF($B$10=\"Treguine\",Treguine!C250,IF($B$10=\"Bredjing\",Bredjing!C250,\"\"))))","v":""},null,null,{"$f":"IF($B$10=\"Farchana\",Farchana!G231,IF($B$10=\"Gaga\",Gaga!I250,IF($B$10=\"Treguine\",Treguine!G250,IF($B$10=\"Bredjing\",Bredjing!G250,\"\"))))","v":""}]
[{"$f":"IF($B$10=\"Farchana\",Farchana!A232,IF($B$10=\"Gaga\",Gaga!A251,IF($B$10=\"Treguine\",Treguine!A251,IF($B$10=\"Bredjing\",Bredjing!A251,\"\"))))","v":""},{"$f":"IF($B$10=\"Farchana\",Farchana!B232,IF($B$10=\"Gaga\",Gaga!B251,IF($B$10=\"Treguine\",Treguine!B251,IF($B$10=\"Bredjing\",Bredjing!B251,\"\"))))","v":""},{"$f":"IF($B$10=\"Farchana\",Farchana!C232,IF($B$10=\"Gaga\",Gaga!C251,IF($B$10=\"Treguine\",Treguine!C251,IF($B$10=\"Bredjing\",Bredjing!C251,\"\"))))","v":""},null,null,{"$f":"IF($B$10=\"Farchana\",Farchana!G232,IF($B$10=\"Gaga\",Gaga!I251,IF($B$10=\"Treguine\",Treguine!G251,IF($B$10=\"Bredjing\",Bredjing!G251,\"\"))))","v":""}]
[{"$f":"IF($B$10=\"Farchana\",Farchana!A233,IF($B$10=\"Gaga\",Gaga!A252,IF($B$10=\"Treguine\",Treguine!A252,IF($B$10=\"Bredjing\",Bredjing!A252,\"\"))))","v":""},{"$f":"IF($B$10=\"Farchana\",Farchana!B233,IF($B$10=\"Gaga\",Gaga!B252,IF($B$10=\"Treguine\",Treguine!B252,IF($B$10=\"Bredjing\",Bredjing!B252,\"\"))))","v":""},{"$f":"IF($B$10=\"Farchana\",Farchana!C233,IF($B$10=\"Gaga\",Gaga!C252,IF($B$10=\"Treguine\",Treguine!C252,IF($B$10=\"Bredjing\",Bredjing!C252,\"\"))))","v":""},null,null,{"$f":"IF($B$10=\"Farchana\",Farchana!G233,IF($B$10=\"Gaga\",Gaga!I252,IF($B$10=\"Treguine\",Treguine!G252,IF($B$10=\"Bredjing\",Bredjing!G252,\"\"))))","v":""}]
[{"$f":"IF($B$10=\"Farchana\",Farchana!A234,IF($B$10=\"Gaga\",Gaga!A253,IF($B$10=\"Treguine\",Treguine!A253,IF($B$10=\"Bredjing\",Bredjing!A253,\"\"))))","v":""},{"$f":"IF($B$10=\"Farchana\",Farchana!B234,IF($B$10=\"Gaga\",Gaga!B253,IF($B$10=\"Treguine\",Treguine!B253,IF($B$10=\"Bredjing\",Bredjing!B253,\"\"))))","v":""},{"$f":"IF($B$10=\"Farchana\",Farchana!C234,IF($B$10=\"Gaga\",Gaga!C253,IF($B$10=\"Treguine\",Treguine!C253,IF($B$10=\"Bredjing\",Bredjing!C253,\"\"))))","v":""},null,null,{"$f":"IF($B$10=\"Farchana\",Farchana!G234,IF($B$10=\"Gaga\",Gaga!I253,IF($B$10=\"Treguine\",Treguine!G253,IF($B$10=\"Bredjing\",Bredjing!G253,\"\"))))","v":""}]
[{"$f":"IF($B$10=\"Farchana\",Farchana!A235,IF($B$10=\"Gaga\",Gaga!A254,IF($B$10=\"Treguine\",Treguine!A254,IF($B$10=\"Bredjing\",Bredjing!A254,\"\"))))","v":""},{"$f":"IF($B$10=\"Farchana\",Farchana!B235,IF($B$10=\"Gaga\",Gaga!B254,IF($B$10=\"Treguine\",Treguine!B254,IF($B$10=\"Bredjing\",Bredjing!B254,\"\"))))","v":""},{"$f":"IF($B$10=\"Farchana\",Farchana!C235,IF($B$10=\"Gaga\",Gaga!C254,IF($B$10=\"Treguine\",Treguine!C254,IF($B$10=\"Bredjing\",Bredjing!C254,\"\"))))","v":""},null,null,{"$f":"IF($B$10=\"Farchana\",Farchana!G235,IF($B$10=\"Gaga\",Gaga!I254,IF($B$10=\"Treguine\",Treguine!G254,IF($B$10=\"Bredjing\",Bredjing!G254,\"\"))))","v":""}]
[{"$f":"IF($B$10=\"Farchana\",Farchana!A236,IF($B$10=\"Gaga\",Gaga!A255,IF($B$10=\"Treguine\",Treguine!A255,IF($B$10=\"Bredjing\",Bredjing!A255,\"\"))))","v":""},{"$f":"IF($B$10=\"Farchana\",Farchana!B236,IF($B$10=\"Gaga\",Gaga!B255,IF($B$10=\"Treguine\",Treguine!B255,IF($B$10=\"Bredjing\",Bredjing!B255,\"\"))))","v":""},{"$f":"IF($B$10=\"Farchana\",Farchana!C236,IF($B$10=\"Gaga\",Gaga!C255,IF($B$10=\"Treguine\",Treguine!C255,IF($B$10=\"Bredjing\",Bredjing!C255,\"\"))))","v":""},null,null,{"$f":"IF($B$10=\"Farchana\",Farchana!G236,IF($B$10=\"Gaga\",Gaga!I255,IF($B$10=\"Treguine\",Treguine!G255,IF($B$10=\"Bredjing\",Bredjing!G255,\"\"))))","v":""}]
[{"$f":"IF($B$10=\"Farchana\",Farchana!A237,IF($B$10=\"Gaga\",Gaga!A256,IF($B$10=\"Treguine\",Treguine!A256,IF($B$10=\"Bredjing\",Bredjing!A256,\"\"))))","v":""},{"$f":"IF($B$10=\"Farchana\",Farchana!B237,IF($B$10=\"Gaga\",Gaga!B256,IF($B$10=\"Treguine\",Treguine!B256,IF($B$10=\"Bredjing\",Bredjing!B256,\"\"))))","v":""},{"$f":"IF($B$10=\"Farchana\",Farchana!C237,IF($B$10=\"Gaga\",Gaga!C256,IF($B$10=\"Treguine\",Treguine!C256,IF($B$10=\"Bredjing\",Bredjing!C256,\"\"))))","v":""},null,null,{"$f":"IF($B$10=\"Farchana\",Farchana!G237,IF($B$10=\"Gaga\",Gaga!I256,IF($B$10=\"Treguine\",Treguine!G256,IF($B$10=\"Bredjing\",Bredjing!G256,\"\"))))","v":""}]
[{"$f":"IF($B$10=\"Farchana\",Farchana!A238,IF($B$10=\"Gaga\",Gaga!A257,IF($B$10=\"Treguine\",Treguine!A257,IF($B$10=\"Bredjing\",Bredjing!A257,\"\"))))","v":""},{"$f":"IF($B$10=\"Farchana\",Farchana!B238,IF($B$10=\"Gaga\",Gaga!B257,IF($B$10=\"Treguine\",Treguine!B257,IF($B$10=\"Bredjing\",Bredjing!B257,\"\"))))","v":""},{"$f":"IF($B$10=\"Farchana\",Farchana!C238,IF($B$10=\"Gaga\",Gaga!C257,IF($B$10=\"Treguine\",Treguine!C257,IF($B$10=\"Bredjing\",Bredjing!C257,\"\"))))","v":""},null,null,{"$f":"IF($B$10=\"Farchana\",Farchana!G238,IF($B$10=\"Gaga\",Gaga!I257,IF($B$10=\"Treguine\",Treguine!G257,IF($B$10=\"Bredjing\",Bredjing!G257,\"\"))))","v":""}]
[{"$f":"IF($B$10=\"Farchana\",Farchana!A239,IF($B$10=\"Gaga\",Gaga!A258,IF($B$10=\"Treguine\",Treguine!A258,IF($B$10=\"Bredjing\",Bredjing!A258,\"\"))))","v":""},{"$f":"IF($B$10=\"Farchana\",Farchana!B239,IF($B$10=\"Gaga\",Gaga!B258,IF($B$10=\"Treguine\",Treguine!B258,IF($B$10=\"Bredjing\",Bredjing!B258,\"\"))))","v":""},{"$f":"IF($B$10=\"Farchana\",Farchana!C239,IF($B$10=\"Gaga\",Gaga!C258,IF($B$10=\"Treguine\",Treguine!C258,IF($B$10=\"Bredjing\",Bredjing!C258,\"\"))))","v":""},null,null,{"$f":"IF($B$10=\"Farchana\",Farchana!G239,IF($B$10=\"Gaga\",Gaga!I258,IF($B$10=\"Treguine\",Treguine!G258,IF($B$10=\"Bredjing\",Bredjing!G258,\"\"))))","v":""}]
[{"$f":"IF($B$10=\"Farchana\",Farchana!A240,IF($B$10=\"Gaga\",Gaga!A259,IF($B$10=\"Treguine\",Treguine!A259,IF($B$10=\"Bredjing\",Bredjing!A259,\"\"))))","v":""},{"$f":"IF($B$10=\"Farchana\",Farchana!B240,IF($B$10=\"Gaga\",Gaga!B259,IF($B$10=\"Treguine\",Treguine!B259,IF($B$10=\"Bredjing\",Bredjing!B259,\"\"))))","v":""},{"$f":"IF($B$10=\"Farchana\",Farchana!C240,IF($B$10=\"Gaga\",Gaga!C259,IF($B$10=\"Treguine\",Treguine!C259,IF($B$10=\"Bredjing\",Bredjing!C259,\"\"))))","v":""},null,null,{"$f":"IF($B$10=\"Farchana\",Farchana!G240,IF($B$10=\"Gaga\",Gaga!I259,IF($B$10=\"Treguine\",Treguine!G259,IF($B$10=\"Bredjing\",Bredjing!G259,\"\"))))","v":""}]
[{"$f":"IF($B$10=\"Farchana\",Farchana!A241,IF($B$10=\"Gaga\",Gaga!A260,IF($B$10=\"Treguine\",Treguine!A260,IF($B$10=\"Bredjing\",Bredjing!A260,\"\"))))","v":""},{"$f":"IF($B$10=\"Farchana\",Farchana!B241,IF($B$10=\"Gaga\",Gaga!B260,IF($B$10=\"Treguine\",Treguine!B260,IF($B$10=\"Bredjing\",Bredjing!B260,\"\"))))","v":""},{"$f":"IF($B$10=\"Farchana\",Farchana!C241,IF($B$10=\"Gaga\",Gaga!C260,IF($B$10=\"Treguine\",Treguine!C260,IF($B$10=\"Bredjing\",Bredjing!C260,\"\"))))","v":""},null,null,{"$f":"IF($B$10=\"Farchana\",Farchana!G241,IF($B$10=\"Gaga\",Gaga!I260,IF($B$10=\"Treguine\",Treguine!G260,IF($B$10=\"Bredjing\",Bredjing!G260,\"\"))))","v":""}]
[{"$f":"IF($B$10=\"Farchana\",Farchana!A242,IF($B$10=\"Gaga\",Gaga!A261,IF($B$10=\"Treguine\",Treguine!A261,IF($B$10=\"Bredjing\",Bredjing!A261,\"\"))))","v":""},{"$f":"IF($B$10=\"Farchana\",Farchana!B242,IF($B$10=\"Gaga\",Gaga!B261,IF($B$10=\"Treguine\",Treguine!B261,IF($B$10=\"Bredjing\",Bredjing!B261,\"\"))))","v":""},{"$f":"IF($B$10=\"Farchana\",Farchana!C242,IF($B$10=\"Gaga\",Gaga!C261,IF($B$10=\"Treguine\",Treguine!C261,IF($B$10=\"Bredjing\",Bredjing!C261,\"\"))))","v":""},null,null,{"$f":"IF($B$10=\"Farchana\",Farchana!G242,IF($B$10=\"Gaga\",Gaga!I261,IF($B$10=\"Treguine\",Treguine!G261,IF($B$10=\"Bredjing\",Bredjing!G261,\"\"))))","v":""}]
[{"$f":"IF($B$10=\"Farchana\",Farchana!A243,IF($B$10=\"Gaga\",Gaga!A262,IF($B$10=\"Treguine\",Treguine!A262,IF($B$10=\"Bredjing\",Bredjing!A262,\"\"))))","v":""},{"$f":"IF($B$10=\"Farchana\",Farchana!B243,IF($B$10=\"Gaga\",Gaga!B262,IF($B$10=\"Treguine\",Treguine!B262,IF($B$10=\"Bredjing\",Bredjing!B262,\"\"))))","v":""},{"$f":"IF($B$10=\"Farchana\",Farchana!C243,IF($B$10=\"Gaga\",Gaga!C262,IF($B$10=\"Treguine\",Treguine!C262,IF($B$10=\"Bredjing\",Bredjing!C262,\"\"))))","v":""},null,null,{"$f":"IF($B$10=\"Farchana\",Farchana!G243,IF($B$10=\"Gaga\",Gaga!I262,IF($B$10=\"Treguine\",Treguine!G262,IF($B$10=\"Bredjing\",Bredjing!G262,\"\"))))","v":""}]
[{"$f":"IF($B$10=\"Farchana\",Farchana!A244,IF($B$10=\"Gaga\",Gaga!A263,IF($B$10=\"Treguine\",Treguine!A263,IF($B$10=\"Bredjing\",Bredjing!A263,\"\"))))","v":""},{"$f":"IF($B$10=\"Farchana\",Farchana!B244,IF($B$10=\"Gaga\",Gaga!B263,IF($B$10=\"Treguine\",Treguine!B263,IF($B$10=\"Bredjing\",Bredjing!B263,\"\"))))","v":""},{"$f":"IF($B$10=\"Farchana\",Farchana!C244,IF($B$10=\"Gaga\",Gaga!C263,IF($B$10=\"Treguine\",Treguine!C263,IF($B$10=\"Bredjing\",Bredjing!C263,\"\"))))","v":""},null,null,{"$f":"IF($B$10=\"Farchana\",Farchana!G244,IF($B$10=\"Gaga\",Gaga!I263,IF($B$10=\"Treguine\",Treguine!G263,IF($B$10=\"Bredjing\",Bredjing!G263,\"\"))))","v":""}]
[{"$f":"IF($B$10=\"Farchana\",Farchana!A245,IF($B$10=\"Gaga\",Gaga!A264,IF($B$10=\"Treguine\",Treguine!A264,IF($B$10=\"Bredjing\",Bredjing!A264,\"\"))))","v":""},{"$f":"IF($B$10=\"Farchana\",Farchana!B245,IF($B$10=\"Gaga\",Gaga!B264,IF($B$10=\"Treguine\",Treguine!B264,IF($B$10=\"Bredjing\",Bredjing!B264,\"\"))))","v":""},{"$f":"IF($B$10=\"Farchana\",Farchana!C245,IF($B$10=\"Gaga\",Gaga!C264,IF($B$10=\"Treguine\",Treguine!C264,IF($B$10=\"Bredjing\",Bredjing!C264,\"\"))))","v":""},null,null,{"$f":"IF($B$10=\"Farchana\",Farchana!G245,IF($B$10=\"Gaga\",Gaga!I264,IF($B$10=\"Treguine\",Treguine!G264,IF($B$10=\"Bredjing\",Bredjing!G264,\"\"))))","v":""}]
[{"$f":"IF($B$10=\"Farchana\",Farchana!A246,IF($B$10=\"Gaga\",Gaga!A265,IF($B$10=\"Treguine\",Treguine!A265,IF($B$10=\"Bredjing\",Bredjing!A265,\"\"))))","v":""},{"$f":"IF($B$10=\"Farchana\",Farchana!B246,IF($B$10=\"Gaga\",Gaga!B265,IF($B$10=\"Treguine\",Treguine!B265,IF($B$10=\"Bredjing\",Bredjing!B265,\"\"))))","v":""},{"$f":"IF($B$10=\"Farchana\",Farchana!C246,IF($B$10=\"Gaga\",Gaga!C265,IF($B$10=\"Treguine\",Treguine!C265,IF($B$10=\"Bredjing\",Bredjing!C265,\"\"))))","v":""},null,null,{"$f":"IF($B$10=\"Farchana\",Farchana!G246,IF($B$10=\"Gaga\",Gaga!I265,IF($B$10=\"Treguine\",Treguine!G265,IF($B$10=\"Bredjing\",Bredjing!G265,\"\"))))","v":""}]
[{"$f":"IF($B$10=\"Farchana\",Farchana!A247,IF($B$10=\"Gaga\",Gaga!A266,IF($B$10=\"Treguine\",Treguine!A266,IF($B$10=\"Bredjing\",Bredjing!A266,\"\"))))","v":""},{"$f":"IF($B$10=\"Farchana\",Farchana!B247,IF($B$10=\"Gaga\",Gaga!B266,IF($B$10=\"Treguine\",Treguine!B266,IF($B$10=\"Bredjing\",Bredjing!B266,\"\"))))","v":""},{"$f":"IF($B$10=\"Farchana\",Farchana!C247,IF($B$10=\"Gaga\",Gaga!C266,IF($B$10=\"Treguine\",Treguine!C266,IF($B$10=\"Bredjing\",Bredjing!C266,\"\"))))","v":""},null,null,{"$f":"IF($B$10=\"Farchana\",Farchana!G247,IF($B$10=\"Gaga\",Gaga!I266,IF($B$10=\"Treguine\",Treguine!G266,IF($B$10=\"Bredjing\",Bredjing!G266,\"\"))))","v":""}]
[{"$f":"IF($B$10=\"Farchana\",Farchana!A248,IF($B$10=\"Gaga\",Gaga!A267,IF($B$10=\"Treguine\",Treguine!A267,IF($B$10=\"Bredjing\",Bredjing!A267,\"\"))))","v":""},{"$f":"IF($B$10=\"Farchana\",Farchana!B248,IF($B$10=\"Gaga\",Gaga!B267,IF($B$10=\"Treguine\",Treguine!B267,IF($B$10=\"Bredjing\",Bredjing!B267,\"\"))))","v":""},{"$f":"IF($B$10=\"Farchana\",Farchana!C248,IF($B$10=\"Gaga\",Gaga!C267,IF($B$10=\"Treguine\",Treguine!C267,IF($B$10=\"Bredjing\",Bredjing!C267,\"\"))))","v":""},null,null,{"$f":"IF($B$10=\"Farchana\",Farchana!G248,IF($B$10=\"Gaga\",Gaga!I267,IF($B$10=\"Treguine\",Treguine!G267,IF($B$10=\"Bredjing\",Bredjing!G267,\"\"))))","v":""}]
[{"$f":"IF($B$10=\"Farchana\",Farchana!A249,IF($B$10=\"Gaga\",Gaga!A268,IF($B$10=\"Treguine\",Treguine!A268,IF($B$10=\"Bredjing\",Bredjing!A268,\"\"))))","v":""},{"$f":"IF($B$10=\"Farchana\",Farchana!B249,IF($B$10=\"Gaga\",Gaga!B268,IF($B$10=\"Treguine\",Treguine!B268,IF($B$10=\"Bredjing\",Bredjing!B268,\"\"))))","v":""},{"$f":"IF($B$10=\"Farchana\",Farchana!C249,IF($B$10=\"Gaga\",Gaga!C268,IF($B$10=\"Treguine\",Treguine!C268,IF($B$10=\"Bredjing\",Bredjing!C268,\"\"))))","v":""},null,null,{"$f":"IF($B$10=\"Farchana\",Farchana!G249,IF($B$10=\"Gaga\",Gaga!I268,IF($B$10=\"Treguine\",Treguine!G268,IF($B$10=\"Bredjing\",Bredjing!G268,\"\"))))","v":""}]
[{"$f":"IF($B$10=\"Farchana\",Farchana!A250,IF($B$10=\"Gaga\",Gaga!A269,IF($B$10=\"Treguine\",Treguine!A269,IF($B$10=\"Bredjing\",Bredjing!A269,\"\"))))","v":""},{"$f":"IF($B$10=\"Farchana\",Farchana!B250,IF($B$10=\"Gaga\",Gaga!B269,IF($B$10=\"Treguine\",Treguine!B269,IF($B$10=\"Bredjing\",Bredjing!B269,\"\"))))","v":""},{"$f":"IF($B$10=\"Farchana\",Farchana!C250,IF($B$10=\"Gaga\",Gaga!C269,IF($B$10=\"Treguine\",Treguine!C269,IF($B$10=\"Bredjing\",Bredjing!C269,\"\"))))","v":""},null,null,{"$f":"IF($B$10=\"Farchana\",Farchana!G250,IF($B$10=\"Gaga\",Gaga!I269,IF($B$10=\"Treguine\",Treguine!G269,IF($B$10=\"Bredjing\",Bredjing!G269,\"\"))))","v":""}]
[{"$f":"IF($B$10=\"Farchana\",Farchana!A251,IF($B$10=\"Gaga\",Gaga!A270,IF($B$10=\"Treguine\",Treguine!A270,IF($B$10=\"Bredjing\",Bredjing!A270,\"\"))))","v":""},{"$f":"IF($B$10=\"Farchana\",Farchana!B251,IF($B$10=\"Gaga\",Gaga!B270,IF($B$10=\"Treguine\",Treguine!B270,IF($B$10=\"Bredjing\",Bredjing!B270,\"\"))))","v":""},{"$f":"IF($B$10=\"Farchana\",Farchana!C251,IF($B$10=\"Gaga\",Gaga!C270,IF($B$10=\"Treguine\",Treguine!C270,IF($B$10=\"Bredjing\",Bredjing!C270,\"\"))))","v":""},null,null,{"$f":"IF($B$10=\"Farchana\",Farchana!G251,IF($B$10=\"Gaga\",Gaga!I270,IF($B$10=\"Treguine\",Treguine!G270,IF($B$10=\"Bredjing\",Bredjing!G270,\"\"))))","v":""}]
[{"$f":"IF($B$10=\"Farchana\",Farchana!A252,IF($B$10=\"Gaga\",Gaga!A271,IF($B$10=\"Treguine\",Treguine!A271,IF($B$10=\"Bredjing\",Bredjing!A271,\"\"))))","v":""},{"$f":"IF($B$10=\"Farchana\",Farchana!B252,IF($B$10=\"Gaga\",Gaga!B271,IF($B$10=\"Treguine\",Treguine!B271,IF($B$10=\"Bredjing\",Bredjing!B271,\"\"))))","v":""},{"$f":"IF($B$10=\"Farchana\",Farchana!C252,IF($B$10=\"Gaga\",Gaga!C271,IF($B$10=\"Treguine\",Treguine!C271,IF($B$10=\"Bredjing\",Bredjing!C271,\"\"))))","v":""},null,null,{"$f":"IF($B$10=\"Farchana\",Farchana!G252,IF($B$10=\"Gaga\",Gaga!I271,IF($B$10=\"Treguine\",Treguine!G271,IF($B$10=\"Bredjing\",Bredjing!G271,\"\"))))","v":""}]
[{"$f":"IF($B$10=\"Farchana\",Farchana!A253,IF($B$10=\"Gaga\",Gaga!A272,IF($B$10=\"Treguine\",Treguine!A272,IF($B$10=\"Bredjing\",Bredjing!A272,\"\"))))","v":""},{"$f":"IF($B$10=\"Farchana\",Farchana!B253,IF($B$10=\"Gaga\",Gaga!B272,IF($B$10=\"Treguine\",Treguine!B272,IF($B$10=\"Bredjing\",Bredjing!B272,\"\"))))","v":""},{"$f":"IF($B$10=\"Farchana\",Farchana!C253,IF($B$10=\"Gaga\",Gaga!C272,IF($B$10=\"Treguine\",Treguine!C272,IF($B$10=\"Bredjing\",Bredjing!C272,\"\"))))","v":""},null,null,{"$f":"IF($B$10=\"Farchana\",Farchana!G253,IF($B$10=\"Gaga\",Gaga!I272,IF($B$10=\"Treguine\",Treguine!G272,IF($B$10=\"Bredjing\",Bredjing!G272,\"\"))))","v":""}]
[{"$f":"IF($B$10=\"Farchana\",Farchana!A254,IF($B$10=\"Gaga\",Gaga!A273,IF($B$10=\"Treguine\",Treguine!A273,IF($B$10=\"Bredjing\",Bredjing!A273,\"\"))))","v":""},{"$f":"IF($B$10=\"Farchana\",Farchana!B254,IF($B$10=\"Gaga\",Gaga!B273,IF($B$10=\"Treguine\",Treguine!B273,IF($B$10=\"Bredjing\",Bredjing!B273,\"\"))))","v":""},{"$f":"IF($B$10=\"Farchana\",Farchana!C254,IF($B$10=\"Gaga\",Gaga!C273,IF($B$10=\"Treguine\",Treguine!C273,IF($B$10=\"Bredjing\",Bredjing!C273,\"\"))))","v":""},null,null,{"$f":"IF($B$10=\"Farchana\",Farchana!G254,IF($B$10=\"Gaga\",Gaga!I273,IF($B$10=\"Treguine\",Treguine!G273,IF($B$10=\"Bredjing\",Bredjing!G273,\"\"))))","v":""}]
[{"$f":"IF($B$10=\"Farchana\",Farchana!A255,IF($B$10=\"Gaga\",Gaga!A274,IF($B$10=\"Treguine\",Treguine!A274,IF($B$10=\"Bredjing\",Bredjing!A274,\"\"))))","v":""},{"$f":"IF($B$10=\"Farchana\",Farchana!B255,IF($B$10=\"Gaga\",Gaga!B274,IF($B$10=\"Treguine\",Treguine!B274,IF($B$10=\"Bredjing\",Bredjing!B274,\"\"))))","v":""},{"$f":"IF($B$10=\"Farchana\",Farchana!C255,IF($B$10=\"Gaga\",Gaga!C274,IF($B$10=\"Treguine\",Treguine!C274,IF($B$10=\"Bredjing\",Bredjing!C274,\"\"))))","v":""},null,null,{"$f":"IF($B$10=\"Farchana\",Farchana!G255,IF($B$10=\"Gaga\",Gaga!I274,IF($B$10=\"Treguine\",Treguine!G274,IF($B$10=\"Bredjing\",Bredjing!G274,\"\"))))","v":""}]
[{"$f":"IF($B$10=\"Farchana\",Farchana!A256,IF($B$10=\"Gaga\",Gaga!A275,IF($B$10=\"Treguine\",Treguine!A275,IF($B$10=\"Bredjing\",Bredjing!A275,\"\"))))","v":""},{"$f":"IF($B$10=\"Farchana\",Farchana!B256,IF($B$10=\"Gaga\",Gaga!B275,IF($B$10=\"Treguine\",Treguine!B275,IF($B$10=\"Bredjing\",Bredjing!B275,\"\"))))","v":""},{"$f":"IF($B$10=\"Farchana\",Farchana!C256,IF($B$10=\"Gaga\",Gaga!C275,IF($B$10=\"Treguine\",Treguine!C275,IF($B$10=\"Bredjing\",Bredjing!C275,\"\"))))","v":""},null,null,{"$f":"IF($B$10=\"Farchana\",Farchana!G256,IF($B$10=\"Gaga\",Gaga!I275,IF($B$10=\"Treguine\",Treguine!G275,IF($B$10=\"Bredjing\",Bredjing!G275,\"\"))))","v":""}]
[{"$f":"IF($B$10=\"Farchana\",Farchana!A257,IF($B$10=\"Gaga\",Gaga!A276,IF($B$10=\"Treguine\",Treguine!A276,IF($B$10=\"Bredjing\",Bredjing!A276,\"\"))))","v":""},{"$f":"IF($B$10=\"Farchana\",Farchana!B257,IF($B$10=\"Gaga\",Gaga!B276,IF($B$10=\"Treguine\",Treguine!B276,IF($B$10=\"Bredjing\",Bredjing!B276,\"\"))))","v":""},{"$f":"IF($B$10=\"Farchana\",Farchana!C257,IF($B$10=\"Gaga\",Gaga!C276,IF($B$10=\"Treguine\",Treguine!C276,IF($B$10=\"Bredjing\",Bredjing!C276,\"\"))))","v":""},null,null,{"$f":"IF($B$10=\"Farchana\",Farchana!G257,IF($B$10=\"Gaga\",Gaga!I276,IF($B$10=\"Treguine\",Treguine!G276,IF($B$10=\"Bredjing\",Bredjing!G276,\"\"))))","v":""}]
[{"$f":"IF($B$10=\"Farchana\",Farchana!A258,IF($B$10=\"Gaga\",Gaga!A277,IF($B$10=\"Treguine\",Treguine!A277,IF($B$10=\"Bredjing\",Bredjing!A277,\"\"))))","v":""},{"$f":"IF($B$10=\"Farchana\",Farchana!B258,IF($B$10=\"Gaga\",Gaga!B277,IF($B$10=\"Treguine\",Treguine!B277,IF($B$10=\"Bredjing\",Bredjing!B277,\"\"))))","v":""},{"$f":"IF($B$10=\"Farchana\",Farchana!C258,IF($B$10=\"Gaga\",Gaga!C277,IF($B$10=\"Treguine\",Treguine!C277,IF($B$10=\"Bredjing\",Bredjing!C277,\"\"))))","v":""},null,null,{"$f":"IF($B$10=\"Farchana\",Farchana!G258,IF($B$10=\"Gaga\",Gaga!I277,IF($B$10=\"Treguine\",Treguine!G277,IF($B$10=\"Bredjing\",Bredjing!G277,\"\"))))","v":""}]
[{"$f":"IF($B$10=\"Farchana\",Farchana!A259,IF($B$10=\"Gaga\",Gaga!A278,IF($B$10=\"Treguine\",Treguine!A278,IF($B$10=\"Bredjing\",Bredjing!A278,\"\"))))","v":""},{"$f":"IF($B$10=\"Farchana\",Farchana!B259,IF($B$10=\"Gaga\",Gaga!B278,IF($B$10=\"Treguine\",Treguine!B278,IF($B$10=\"Bredjing\",Bredjing!B278,\"\"))))","v":""},{"$f":"IF($B$10=\"Farchana\",Farchana!C259,IF($B$10=\"Gaga\",Gaga!C278,IF($B$10=\"Treguine\",Treguine!C278,IF($B$10=\"Bredjing\",Bredjing!C278,\"\"))))","v":""},null,null,{"$f":"IF($B$10=\"Farchana\",Farchana!G259,IF($B$10=\"Gaga\",Gaga!I278,IF($B$10=\"Treguine\",Treguine!G278,IF($B$10=\"Bredjing\",Bredjing!G278,\"\"))))","v":""}]
[{"$f":"IF($B$10=\"Farchana\",Farchana!A260,IF($B$10=\"Gaga\",Gaga!A279,IF($B$10=\"Treguine\",Treguine!A279,IF($B$10=\"Bredjing\",Bredjing!A279,\"\"))))","v":""},{"$f":"IF($B$10=\"Farchana\",Farchana!B260,IF($B$10=\"Gaga\",Gaga!B279,IF($B$10=\"Treguine\",Treguine!B279,IF($B$10=\"Bredjing\",Bredjing!B279,\"\"))))","v":""},{"$f":"IF($B$10=\"Farchana\",Farchana!C260,IF($B$10=\"Gaga\",Gaga!C279,IF($B$10=\"Treguine\",Treguine!C279,IF($B$10=\"Bredjing\",Bredjing!C279,\"\"))))","v":""},null,null,{"$f":"IF($B$10=\"Farchana\",Farchana!G260,IF($B$10=\"Gaga\",Gaga!I279,IF($B$10=\"Treguine\",Treguine!G279,IF($B$10=\"Bredjing\",Bredjing!G279,\"\"))))","v":""}]
[{"$f":"IF($B$10=\"Farchana\",Farchana!A261,IF($B$10=\"Gaga\",Gaga!A280,IF($B$10=\"Treguine\",Treguine!A280,IF($B$10=\"Bredjing\",Bredjing!A280,\"\"))))","v":""},{"$f":"IF($B$10=\"Farchana\",Farchana!B261,IF($B$10=\"Gaga\",Gaga!B280,IF($B$10=\"Treguine\",Treguine!B280,IF($B$10=\"Bredjing\",Bredjing!B280,\"\"))))","v":""},{"$f":"IF($B$10=\"Farchana\",Farchana!C261,IF($B$10=\"Gaga\",Gaga!C280,IF($B$10=\"Treguine\",Treguine!C280,IF($B$10=\"Bredjing\",Bredjing!C280,\"\"))))","v":""},null,null,{"$f":"IF($B$10=\"Farchana\",Farchana!G261,IF($B$10=\"Gaga\",Gaga!I280,IF($B$10=\"Treguine\",Treguine!G280,IF($B$10=\"Bredjing\",Bredjing!G280,\"\"))))","v":""}]
[{"$f":"IF($B$10=\"Farchana\",Farchana!A262,IF($B$10=\"Gaga\",Gaga!A281,IF($B$10=\"Treguine\",Treguine!A281,IF($B$10=\"Bredjing\",Bredjing!A281,\"\"))))","v":""},{"$f":"IF($B$10=\"Farchana\",Farchana!B262,IF($B$10=\"Gaga\",Gaga!B281,IF($B$10=\"Treguine\",Treguine!B281,IF($B$10=\"Bredjing\",Bredjing!B281,\"\"))))","v":""},{"$f":"IF($B$10=\"Farchana\",Farchana!C262,IF($B$10=\"Gaga\",Gaga!C281,IF($B$10=\"Treguine\",Treguine!C281,IF($B$10=\"Bredjing\",Bredjing!C281,\"\"))))","v":""},null,null,{"$f":"IF($B$10=\"Farchana\",Farchana!G262,IF($B$10=\"Gaga\",Gaga!I281,IF($B$10=\"Treguine\",Treguine!G281,IF($B$10=\"Bredjing\",Bredjing!G281,\"\"))))","v":""}]
[{"$f":"IF($B$10=\"Farchana\",Farchana!A263,IF($B$10=\"Gaga\",Gaga!A282,IF($B$10=\"Treguine\",Treguine!A282,IF($B$10=\"Bredjing\",Bredjing!A282,\"\"))))","v":""},{"$f":"IF($B$10=\"Farchana\",Farchana!B263,IF($B$10=\"Gaga\",Gaga!B282,IF($B$10=\"Treguine\",Treguine!B282,IF($B$10=\"Bredjing\",Bredjing!B282,\"\"))))","v":""},{"$f":"IF($B$10=\"Farchana\",Farchana!C263,IF($B$10=\"Gaga\",Gaga!C282,IF($B$10=\"Treguine\",Treguine!C282,IF($B$10=\"Bredjing\",Bredjing!C282,\"\"))))","v":""},null,null,{"$f":"IF($B$10=\"Farchana\",Farchana!G263,IF($B$10=\"Gaga\",Gaga!I282,IF($B$10=\"Treguine\",Treguine!G282,IF($B$10=\"Bredjing\",Bredjing!G282,\"\"))))","v":""}]
[{"$f":"IF($B$10=\"Farchana\",Farchana!A264,IF($B$10=\"Gaga\",Gaga!A283,IF($B$10=\"Treguine\",Treguine!A283,IF($B$10=\"Bredjing\",Bredjing!A283,\"\"))))","v":""},{"$f":"IF($B$10=\"Farchana\",Farchana!B264,IF($B$10=\"Gaga\",Gaga!B283,IF($B$10=\"Treguine\",Treguine!B283,IF($B$10=\"Bredjing\",Bredjing!B283,\"\"))))","v":""},{"$f":"IF($B$10=\"Farchana\",Farchana!C264,IF($B$10=\"Gaga\",Gaga!C283,IF($B$10=\"Treguine\",Treguine!C283,IF($B$10=\"Bredjing\",Bredjing!C283,\"\"))))","v":""},null,null,{"$f":"IF($B$10=\"Farchana\",Farchana!G264,IF($B$10=\"Gaga\",Gaga!I283,IF($B$10=\"Treguine\",Treguine!G283,IF($B$10=\"Bredjing\",Bredjing!G283,\"\"))))","v":""}]
[{"$f":"IF($B$10=\"Farchana\",Farchana!A265,IF($B$10=\"Gaga\",Gaga!A284,IF($B$10=\"Treguine\",Treguine!A284,IF($B$10=\"Bredjing\",Bredjing!A284,\"\"))))","v":""},{"$f":"IF($B$10=\"Farchana\",Farchana!B265,IF($B$10=\"Gaga\",Gaga!B284,IF($B$10=\"Treguine\",Treguine!B284,IF($B$10=\"Bredjing\",Bredjing!B284,\"\"))))","v":""},{"$f":"IF($B$10=\"Farchana\",Farchana!C265,IF($B$10=\"Gaga\",Gaga!C284,IF($B$10=\"Treguine\",Treguine!C284,IF($B$10=\"Bredjing\",Bredjing!C284,\"\"))))","v":""},null,null,{"$f":"IF($B$10=\"Farchana\",Farchana!G265,IF($B$10=\"Gaga\",Gaga!I284,IF($B$10=\"Treguine\",Treguine!G284,IF($B$10=\"Bredjing\",Bredjing!G284,\"\"))))","v":""}]
[{"$f":"IF($B$10=\"Farchana\",Farchana!A266,IF($B$10=\"Gaga\",Gaga!A285,IF($B$10=\"Treguine\",Treguine!A285,IF($B$10=\"Bredjing\",Bredjing!A285,\"\"))))","v":""},{"$f":"IF($B$10=\"Farchana\",Farchana!B266,IF($B$10=\"Gaga\",Gaga!B285,IF($B$10=\"Treguine\",Treguine!B285,IF($B$10=\"Bredjing\",Bredjing!B285,\"\"))))","v":""},{"$f":"IF($B$10=\"Farchana\",Farchana!C266,IF($B$10=\"Gaga\",Gaga!C285,IF($B$10=\"Treguine\",Treguine!C285,IF($B$10=\"Bredjing\",Bredjing!C285,\"\"))))","v":""},null,null,{"$f":"IF($B$10=\"Farchana\",Farchana!G266,IF($B$10=\"Gaga\",Gaga!I285,IF($B$10=\"Treguine\",Treguine!G285,IF($B$10=\"Bredjing\",Bredjing!G285,\"\"))))","v":""}]
[{"$f":"IF($B$10=\"Farchana\",Farchana!A267,IF($B$10=\"Gaga\",Gaga!A286,IF($B$10=\"Treguine\",Treguine!A286,IF($B$10=\"Bredjing\",Bredjing!A286,\"\"))))","v":""},{"$f":"IF($B$10=\"Farchana\",Farchana!B267,IF($B$10=\"Gaga\",Gaga!B286,IF($B$10=\"Treguine\",Treguine!B286,IF($B$10=\"Bredjing\",Bredjing!B286,\"\"))))","v":""},{"$f":"IF($B$10=\"Farchana\",Farchana!C267,IF($B$10=\"Gaga\",Gaga!C286,IF($B$10=\"Treguine\",Treguine!C286,IF($B$10=\"Bredjing\",Bredjing!C286,\"\"))))","v":""},null,null,{"$f":"IF($B$10=\"Farchana\",Farchana!G267,IF($B$10=\"Gaga\",Gaga!I286,IF($B$10=\"Treguine\",Treguine!G286,IF($B$10=\"Bredjing\",Bredjing!G286,\"\"))))","v":""}]
[{"$f":"IF($B$10=\"Farchana\",Farchana!A268,IF($B$10=\"Gaga\",Gaga!A287,IF($B$10=\"Treguine\",Treguine!A287,IF($B$10=\"Bredjing\",Bredjing!A287,\"\"))))","v":""},{"$f":"IF($B$10=\"Farchana\",Farchana!B268,IF($B$10=\"Gaga\",Gaga!B287,IF($B$10=\"Treguine\",Treguine!B287,IF($B$10=\"Bredjing\",Bredjing!B287,\"\"))))","v":""},{"$f":"IF($B$10=\"Farchana\",Farchana!C268,IF($B$10=\"Gaga\",Gaga!C287,IF($B$10=\"Treguine\",Treguine!C287,IF($B$10=\"Bredjing\",Bredjing!C287,\"\"))))","v":""},null,null,{"$f":"IF($B$10=\"Farchana\",Farchana!G268,IF($B$10=\"Gaga\",Gaga!I287,IF($B$10=\"Treguine\",Treguine!G287,IF($B$10=\"Bredjing\",Bredjing!G287,\"\"))))","v":""}]
[{"$f":"IF($B$10=\"Farchana\",Farchana!A269,IF($B$10=\"Gaga\",Gaga!A288,IF($B$10=\"Treguine\",Treguine!A288,IF($B$10=\"Bredjing\",Bredjing!A288,\"\"))))","v":""},{"$f":"IF($B$10=\"Farchana\",Farchana!B269,IF($B$10=\"Gaga\",Gaga!B288,IF($B$10=\"Treguine\",Treguine!B288,IF($B$10=\"Bredjing\",Bredjing!B288,\"\"))))","v":""},{"$f":"IF($B$10=\"Farchana\",Farchana!C269,IF($B$10=\"Gaga\",Gaga!C288,IF($B$10=\"Treguine\",Treguine!C288,IF($B$10=\"Bredjing\",Bredjing!C288,\"\"))))","v":""},null,null,{"$f":"IF($B$10=\"Farchana\",Farchana!G269,IF($B$10=\"Gaga\",Gaga!I288,IF($B$10=\"Treguine\",Treguine!G288,IF($B$10=\"Bredjing\",Bredjing!G288,\"\"))))","v":""}]
[{"$f":"IF($B$10=\"Farchana\",Farchana!A270,IF($B$10=\"Gaga\",Gaga!A289,IF($B$10=\"Treguine\",Treguine!A289,IF($B$10=\"Bredjing\",Bredjing!A289,\"\"))))","v":""},{"$f":"IF($B$10=\"Farchana\",Farchana!B270,IF($B$10=\"Gaga\",Gaga!B289,IF($B$10=\"Treguine\",Treguine!B289,IF($B$10=\"Bredjing\",Bredjing!B289,\"\"))))","v":""},{"$f":"IF($B$10=\"Farchana\",Farchana!C270,IF($B$10=\"Gaga\",Gaga!C289,IF($B$10=\"Treguine\",Treguine!C289,IF($B$10=\"Bredjing\",Bredjing!C289,\"\"))))","v":""},null,null,{"$f":"IF($B$10=\"Farchana\",Farchana!G270,IF($B$10=\"Gaga\",Gaga!I289,IF($B$10=\"Treguine\",Treguine!G289,IF($B$10=\"Bredjing\",Bredjing!G289,\"\"))))","v":""}]
[{"$f":"IF($B$10=\"Farchana\",Farchana!A271,IF($B$10=\"Gaga\",Gaga!A290,IF($B$10=\"Treguine\",Treguine!A290,IF($B$10=\"Bredjing\",Bredjing!A290,\"\"))))","v":""},{"$f":"IF($B$10=\"Farchana\",Farchana!B271,IF($B$10=\"Gaga\",Gaga!B290,IF($B$10=\"Treguine\",Treguine!B290,IF($B$10=\"Bredjing\",Bredjing!B290,\"\"))))","v":""},{"$f":"IF($B$10=\"Farchana\",Farchana!C271,IF($B$10=\"Gaga\",Gaga!C290,IF($B$10=\"Treguine\",Treguine!C290,IF($B$10=\"Bredjing\",Bredjing!C290,\"\"))))","v":""},null,null,{"$f":"IF($B$10=\"Farchana\",Farchana!G271,IF($B$10=\"Gaga\",Gaga!I290,IF($B$10=\"Treguine\",Treguine!G290,IF($B$10=\"Bredjing\",Bredjing!G290,\"\"))))","v":""}]
[{"$f":"IF($B$10=\"Farchana\",Farchana!A272,IF($B$10=\"Gaga\",Gaga!A291,IF($B$10=\"Treguine\",Treguine!A291,IF($B$10=\"Bredjing\",Bredjing!A291,\"\"))))","v":""},{"$f":"IF($B$10=\"Farchana\",Farchana!B272,IF($B$10=\"Gaga\",Gaga!B291,IF($B$10=\"Treguine\",Treguine!B291,IF($B$10=\"Bredjing\",Bredjing!B291,\"\"))))","v":""},{"$f":"IF($B$10=\"Farchana\",Farchana!C272,IF($B$10=\"Gaga\",Gaga!C291,IF($B$10=\"Treguine\",Treguine!C291,IF($B$10=\"Bredjing\",Bredjing!C291,\"\"))))","v":""},null,null,{"$f":"IF($B$10=\"Farchana\",Farchana!G272,IF($B$10=\"Gaga\",Gaga!I291,IF($B$10=\"Treguine\",Treguine!G291,IF($B$10=\"Bredjing\",Bredjing!G291,\"\"))))","v":""}]
[{"$f":"IF($B$10=\"Farchana\",Farchana!A273,IF($B$10=\"Gaga\",Gaga!A292,IF($B$10=\"Treguine\",Treguine!A292,IF($B$10=\"Bredjing\",Bredjing!A292,\"\"))))","v":""},{"$f":"IF($B$10=\"Farchana\",Farchana!B273,IF($B$10=\"Gaga\",Gaga!B292,IF($B$10=\"Treguine\",Treguine!B292,IF($B$10=\"Bredjing\",Bredjing!B292,\"\"))))","v":""},{"$f":"IF($B$10=\"Farchana\",Farchana!C273,IF($B$10=\"Gaga\",Gaga!C292,IF($B$10=\"Treguine\",Treguine!C292,IF($B$10=\"Bredjing\",Bredjing!C292,\"\"))))","v":""},null,null,{"$f":"IF($B$10=\"Farchana\",Farchana!G273,IF($B$10=\"Gaga\",Gaga!I292,IF($B$10=\"Treguine\",Treguine!G292,IF($B$10=\"Bredjing\",Bredjing!G292,\"\"))))","v":""}]
[{"$f":"IF($B$10=\"Farchana\",Farchana!A274,IF($B$10=\"Gaga\",Gaga!A293,IF($B$10=\"Treguine\",Treguine!A293,IF($B$10=\"Bredjing\",Bredjing!A293,\"\"))))","v":""},{"$f":"IF($B$10=\"Farchana\",Farchana!B274,IF($B$10=\"Gaga\",Gaga!B293,IF($B$10=\"Treguine\",Treguine!B293,IF($B$10=\"Bredjing\",Bredjing!B293,\"\"))))","v":""},{"$f":"IF($B$10=\"Farchana\",Farchana!C274,IF($B$10=\"Gaga\",Gaga!C293,IF($B$10=\"Treguine\",Treguine!C293,IF($B$10=\"Bredjing\",Bredjing!C293,\"\"))))","v":""},null,null,{"$f":"IF($B$10=\"Farchana\",Farchana!G274,IF($B$10=\"Gaga\",Gaga!I293,IF($B$10=\"Treguine\",Treguine!G293,IF($B$10=\"Bredjing\",Bredjing!G293,\"\"))))","v":""}]
[{"$f":"IF($B$10=\"Farchana\",Farchana!A275,IF($B$10=\"Gaga\",Gaga!A294,IF($B$10=\"Treguine\",Treguine!A294,IF($B$10=\"Bredjing\",Bredjing!A294,\"\"))))","v":""},{"$f":"IF($B$10=\"Farchana\",Farchana!B275,IF($B$10=\"Gaga\",Gaga!B294,IF($B$10=\"Treguine\",Treguine!B294,IF($B$10=\"Bredjing\",Bredjing!B294,\"\"))))","v":""},{"$f":"IF($B$10=\"Farchana\",Farchana!C275,IF($B$10=\"Gaga\",Gaga!C294,IF($B$10=\"Treguine\",Treguine!C294,IF($B$10=\"Bredjing\",Bredjing!C294,\"\"))))","v":""},null,null,{"$f":"IF($B$10=\"Farchana\",Farchana!G275,IF($B$10=\"Gaga\",Gaga!I294,IF($B$10=\"Treguine\",Treguine!G294,IF($B$10=\"Bredjing\",Bredjing!G294,\"\"))))","v":""}]
[{"$f":"IF($B$10=\"Farchana\",Farchana!A276,IF($B$10=\"Gaga\",Gaga!A295,IF($B$10=\"Treguine\",Treguine!A295,IF($B$10=\"Bredjing\",Bredjing!A295,\"\"))))","v":""},{"$f":"IF($B$10=\"Farchana\",Farchana!B276,IF($B$10=\"Gaga\",Gaga!B295,IF($B$10=\"Treguine\",Treguine!B295,IF($B$10=\"Bredjing\",Bredjing!B295,\"\"))))","v":""},{"$f":"IF($B$10=\"Farchana\",Farchana!C276,IF($B$10=\"Gaga\",Gaga!C295,IF($B$10=\"Treguine\",Treguine!C295,IF($B$10=\"Bredjing\",Bredjing!C295,\"\"))))","v":""},null,null,{"$f":"IF($B$10=\"Farchana\",Farchana!G276,IF($B$10=\"Gaga\",Gaga!I295,IF($B$10=\"Treguine\",Treguine!G295,IF($B$10=\"Bredjing\",Bredjing!G295,\"\"))))","v":""}]
[{"$f":"IF($B$10=\"Farchana\",Farchana!A277,IF($B$10=\"Gaga\",Gaga!A296,IF($B$10=\"Treguine\",Treguine!A296,IF($B$10=\"Bredjing\",Bredjing!A296,\"\"))))","v":""},{"$f":"IF($B$10=\"Farchana\",Farchana!B277,IF($B$10=\"Gaga\",Gaga!B296,IF($B$10=\"Treguine\",Treguine!B296,IF($B$10=\"Bredjing\",Bredjing!B296,\"\"))))","v":""},{"$f":"IF($B$10=\"Farchana\",Farchana!C277,IF($B$10=\"Gaga\",Gaga!C296,IF($B$10=\"Treguine\",Treguine!C296,IF($B$10=\"Bredjing\",Bredjing!C296,\"\"))))","v":""},null,null,{"$f":"IF($B$10=\"Farchana\",Farchana!G277,IF($B$10=\"Gaga\",Gaga!I296,IF($B$10=\"Treguine\",Treguine!G296,IF($B$10=\"Bredjing\",Bredjing!G296,\"\"))))","v":""}]
[{"$f":"IF($B$10=\"Farchana\",Farchana!A278,IF($B$10=\"Gaga\",Gaga!A297,IF($B$10=\"Treguine\",Treguine!A297,IF($B$10=\"Bredjing\",Bredjing!A297,\"\"))))","v":""},{"$f":"IF($B$10=\"Farchana\",Farchana!B278,IF($B$10=\"Gaga\",Gaga!B297,IF($B$10=\"Treguine\",Treguine!B297,IF($B$10=\"Bredjing\",Bredjing!B297,\"\"))))","v":""},{"$f":"IF($B$10=\"Farchana\",Farchana!C278,IF($B$10=\"Gaga\",Gaga!C297,IF($B$10=\"Treguine\",Treguine!C297,IF($B$10=\"Bredjing\",Bredjing!C297,\"\"))))","v":""},null,null,{"$f":"IF($B$10=\"Farchana\",Farchana!G278,IF($B$10=\"Gaga\",Gaga!I297,IF($B$10=\"Treguine\",Treguine!G297,IF($B$10=\"Bredjing\",Bredjing!G297,\"\"))))","v":""}]
[{"$f":"IF($B$10=\"Farchana\",Farchana!A279,IF($B$10=\"Gaga\",Gaga!A298,IF($B$10=\"Treguine\",Treguine!A298,IF($B$10=\"Bredjing\",Bredjing!A298,\"\"))))","v":""},{"$f":"IF($B$10=\"Farchana\",Farchana!B279,IF($B$10=\"Gaga\",Gaga!B298,IF($B$10=\"Treguine\",Treguine!B298,IF($B$10=\"Bredjing\",Bredjing!B298,\"\"))))","v":""},{"$f":"IF($B$10=\"Farchana\",Farchana!C279,IF($B$10=\"Gaga\",Gaga!C298,IF($B$10=\"Treguine\",Treguine!C298,IF($B$10=\"Bredjing\",Bredjing!C298,\"\"))))","v":""},null,null,{"$f":"IF($B$10=\"Farchana\",Farchana!G279,IF($B$10=\"Gaga\",Gaga!I298,IF($B$10=\"Treguine\",Treguine!G298,IF($B$10=\"Bredjing\",Bredjing!G298,\"\"))))","v":""}]
[{"$f":"IF($B$10=\"Farchana\",Farchana!A280,IF($B$10=\"Gaga\",Gaga!A299,IF($B$10=\"Treguine\",Treguine!A299,IF($B$10=\"Bredjing\",Bredjing!A299,\"\"))))","v":""},{"$f":"IF($B$10=\"Farchana\",Farchana!B280,IF($B$10=\"Gaga\",Gaga!B299,IF($B$10=\"Treguine\",Treguine!B299,IF($B$10=\"Bredjing\",Bredjing!B299,\"\"))))","v":""},{"$f":"IF($B$10=\"Farchana\",Farchana!C280,IF($B$10=\"Gaga\",Gaga!C299,IF($B$10=\"Treguine\",Treguine!C299,IF($B$10=\"Bredjing\",Bredjing!C299,\"\"))))","v":""},null,null,{"$f":"IF($B$10=\"Farchana\",Farchana!G280,IF($B$10=\"Gaga\",Gaga!I299,IF($B$10=\"Treguine\",Treguine!G299,IF($B$10=\"Bredjing\",Bredjing!G299,\"\"))))","v":""}]
[{"$f":"IF($B$10=\"Farchana\",Farchana!A281,IF($B$10=\"Gaga\",Gaga!A300,IF($B$10=\"Treguine\",Treguine!A300,IF($B$10=\"Bredjing\",Bredjing!A300,\"\"))))","v":""},{"$f":"IF($B$10=\"Farchana\",Farchana!B281,IF($B$10=\"Gaga\",Gaga!B300,IF($B$10=\"Treguine\",Treguine!B300,IF($B$10=\"Bredjing\",Bredjing!B300,\"\"))))","v":""},{"$f":"IF($B$10=\"Farchana\",Farchana!C281,IF($B$10=\"Gaga\",Gaga!C300,IF($B$10=\"Treguine\",Treguine!C300,IF($B$10=\"Bredjing\",Bredjing!C300,\"\"))))","v":""},null,null,{"$f":"IF($B$10=\"Farchana\",Farchana!G281,IF($B$10=\"Gaga\",Gaga!I300,IF($B$10=\"Treguine\",Treguine!G300,IF($B$10=\"Bredjing\",Bredjing!G300,\"\"))))","v":""}]
[{"$f":"IF($B$10=\"Farchana\",Farchana!A282,IF($B$10=\"Gaga\",Gaga!A301,IF($B$10=\"Treguine\",Treguine!A301,IF($B$10=\"Bredjing\",Bredjing!A301,\"\"))))","v":""},{"$f":"IF($B$10=\"Farchana\",Farchana!B282,IF($B$10=\"Gaga\",Gaga!B301,IF($B$10=\"Treguine\",Treguine!B301,IF($B$10=\"Bredjing\",Bredjing!B301,\"\"))))","v":""},{"$f":"IF($B$10=\"Farchana\",Farchana!C282,IF($B$10=\"Gaga\",Gaga!C301,IF($B$10=\"Treguine\",Treguine!C301,IF($B$10=\"Bredjing\",Bredjing!C301,\"\"))))","v":""},null,null,{"$f":"IF($B$10=\"Farchana\",Farchana!G282,IF($B$10=\"Gaga\",Gaga!I301,IF($B$10=\"Treguine\",Treguine!G301,IF($B$10=\"Bredjing\",Bredjing!G301,\"\"))))","v":""}]
[{"$f":"IF($B$10=\"Farchana\",Farchana!A283,IF($B$10=\"Gaga\",Gaga!A302,IF($B$10=\"Treguine\",Treguine!A302,IF($B$10=\"Bredjing\",Bredjing!A302,\"\"))))","v":""},{"$f":"IF($B$10=\"Farchana\",Farchana!B283,IF($B$10=\"Gaga\",Gaga!B302,IF($B$10=\"Treguine\",Treguine!B302,IF($B$10=\"Bredjing\",Bredjing!B302,\"\"))))","v":""},{"$f":"IF($B$10=\"Farchana\",Farchana!C283,IF($B$10=\"Gaga\",Gaga!C302,IF($B$10=\"Treguine\",Treguine!C302,IF($B$10=\"Bredjing\",Bredjing!C302,\"\"))))","v":""},null,null,{"$f":"IF($B$10=\"Farchana\",Farchana!G283,IF($B$10=\"Gaga\",Gaga!I302,IF($B$10=\"Treguine\",Treguine!G302,IF($B$10=\"Bredjing\",Bredjing!G302,\"\"))))","v":""}]
[{"$f":"IF($B$10=\"Farchana\",Farchana!A284,IF($B$10=\"Gaga\",Gaga!A303,IF($B$10=\"Treguine\",Treguine!A303,IF($B$10=\"Bredjing\",Bredjing!A303,\"\"))))","v":""},{"$f":"IF($B$10=\"Farchana\",Farchana!B284,IF($B$10=\"Gaga\",Gaga!B303,IF($B$10=\"Treguine\",Treguine!B303,IF($B$10=\"Bredjing\",Bredjing!B303,\"\"))))","v":""},{"$f":"IF($B$10=\"Farchana\",Farchana!C284,IF($B$10=\"Gaga\",Gaga!C303,IF($B$10=\"Treguine\",Treguine!C303,IF($B$10=\"Bredjing\",Bredjing!C303,\"\"))))","v":""},null,null,{"$f":"IF($B$10=\"Farchana\",Farchana!G284,IF($B$10=\"Gaga\",Gaga!I303,IF($B$10=\"Treguine\",Treguine!G303,IF($B$10=\"Bredjing\",Bredjing!G303,\"\"))))","v":""}]
[{"$f":"IF($B$10=\"Farchana\",Farchana!A285,IF($B$10=\"Gaga\",Gaga!A304,IF($B$10=\"Treguine\",Treguine!A304,IF($B$10=\"Bredjing\",Bredjing!A304,\"\"))))","v":""},{"$f":"IF($B$10=\"Farchana\",Farchana!B285,IF($B$10=\"Gaga\",Gaga!B304,IF($B$10=\"Treguine\",Treguine!B304,IF($B$10=\"Bredjing\",Bredjing!B304,\"\"))))","v":""},{"$f":"IF($B$10=\"Farchana\",Farchana!C285,IF($B$10=\"Gaga\",Gaga!C304,IF($B$10=\"Treguine\",Treguine!C304,IF($B$10=\"Bredjing\",Bredjing!C304,\"\"))))","v":""},null,null,{"$f":"IF($B$10=\"Farchana\",Farchana!G285,IF($B$10=\"Gaga\",Gaga!I304,IF($B$10=\"Treguine\",Treguine!G304,IF($B$10=\"Bredjing\",Bredjing!G304,\"\"))))","v":""}]
[{"$f":"IF($B$10=\"Farchana\",Farchana!A286,IF($B$10=\"Gaga\",Gaga!A305,IF($B$10=\"Treguine\",Treguine!A305,IF($B$10=\"Bredjing\",Bredjing!A305,\"\"))))","v":""},{"$f":"IF($B$10=\"Farchana\",Farchana!B286,IF($B$10=\"Gaga\",Gaga!B305,IF($B$10=\"Treguine\",Treguine!B305,IF($B$10=\"Bredjing\",Bredjing!B305,\"\"))))","v":""},{"$f":"IF($B$10=\"Farchana\",Farchana!C286,IF($B$10=\"Gaga\",Gaga!C305,IF($B$10=\"Treguine\",Treguine!C305,IF($B$10=\"Bredjing\",Bredjing!C305,\"\"))))","v":""},null,null,{"$f":"IF($B$10=\"Farchana\",Farchana!G286,IF($B$10=\"Gaga\",Gaga!I305,IF($B$10=\"Treguine\",Treguine!G305,IF($B$10=\"Bredjing\",Bredjing!G305,\"\"))))","v":""}]
[{"$f":"IF($B$10=\"Farchana\",Farchana!A287,IF($B$10=\"Gaga\",Gaga!A306,IF($B$10=\"Treguine\",Treguine!A306,IF($B$10=\"Bredjing\",Bredjing!A306,\"\"))))","v":""},{"$f":"IF($B$10=\"Farchana\",Farchana!B287,IF($B$10=\"Gaga\",Gaga!B306,IF($B$10=\"Treguine\",Treguine!B306,IF($B$10=\"Bredjing\",Bredjing!B306,\"\"))))","v":""},{"$f":"IF($B$10=\"Farchana\",Farchana!C287,IF($B$10=\"Gaga\",Gaga!C306,IF($B$10=\"Treguine\",Treguine!C306,IF($B$10=\"Bredjing\",Bredjing!C306,\"\"))))","v":""},null,null,{"$f":"IF($B$10=\"Farchana\",Farchana!G287,IF($B$10=\"Gaga\",Gaga!I306,IF($B$10=\"Treguine\",Treguine!G306,IF($B$10=\"Bredjing\",Bredjing!G306,\"\"))))","v":""}]
[{"$f":"IF($B$10=\"Farchana\",Farchana!A288,IF($B$10=\"Gaga\",Gaga!A307,IF($B$10=\"Treguine\",Treguine!A307,IF($B$10=\"Bredjing\",Bredjing!A307,\"\"))))","v":""},{"$f":"IF($B$10=\"Farchana\",Farchana!B288,IF($B$10=\"Gaga\",Gaga!B307,IF($B$10=\"Treguine\",Treguine!B307,IF($B$10=\"Bredjing\",Bredjing!B307,\"\"))))","v":""},{"$f":"IF($B$10=\"Farchana\",Farchana!C288,IF($B$10=\"Gaga\",Gaga!C307,IF($B$10=\"Treguine\",Treguine!C307,IF($B$10=\"Bredjing\",Bredjing!C307,\"\"))))","v":""},null,null,{"$f":"IF($B$10=\"Farchana\",Farchana!G288,IF($B$10=\"Gaga\",Gaga!I307,IF($B$10=\"Treguine\",Treguine!G307,IF($B$10=\"Bredjing\",Bredjing!G307,\"\"))))","v":""}]
[{"$f":"IF($B$10=\"Farchana\",Farchana!A289,IF($B$10=\"Gaga\",Gaga!A308,IF($B$10=\"Treguine\",Treguine!A308,IF($B$10=\"Bredjing\",Bredjing!A308,\"\"))))","v":""},{"$f":"IF($B$10=\"Farchana\",Farchana!B289,IF($B$10=\"Gaga\",Gaga!B308,IF($B$10=\"Treguine\",Treguine!B308,IF($B$10=\"Bredjing\",Bredjing!B308,\"\"))))","v":""},{"$f":"IF($B$10=\"Farchana\",Farchana!C289,IF($B$10=\"Gaga\",Gaga!C308,IF($B$10=\"Treguine\",Treguine!C308,IF($B$10=\"Bredjing\",Bredjing!C308,\"\"))))","v":""},null,null,{"$f":"IF($B$10=\"Farchana\",Farchana!G289,IF($B$10=\"Gaga\",Gaga!I308,IF($B$10=\"Treguine\",Treguine!G308,IF($B$10=\"Bredjing\",Bredjing!G308,\"\"))))","v":""}]
[{"$f":"IF($B$10=\"Farchana\",Farchana!A290,IF($B$10=\"Gaga\",Gaga!A309,IF($B$10=\"Treguine\",Treguine!A309,IF($B$10=\"Bredjing\",Bredjing!A309,\"\"))))","v":""},{"$f":"IF($B$10=\"Farchana\",Farchana!B290,IF($B$10=\"Gaga\",Gaga!B309,IF($B$10=\"Treguine\",Treguine!B309,IF($B$10=\"Bredjing\",Bredjing!B309,\"\"))))","v":""},{"$f":"IF($B$10=\"Farchana\",Farchana!C290,IF($B$10=\"Gaga\",Gaga!C309,IF($B$10=\"Treguine\",Treguine!C309,IF($B$10=\"Bredjing\",Bredjing!C309,\"\"))))","v":""},null,null,{"$f":"IF($B$10=\"Farchana\",Farchana!G290,IF($B$10=\"Gaga\",Gaga!I309,IF($B$10=\"Treguine\",Treguine!G309,IF($B$10=\"Bredjing\",Bredjing!G309,\"\"))))","v":""}]
[{"$f":"IF($B$10=\"Farchana\",Farchana!A291,IF($B$10=\"Gaga\",Gaga!A310,IF($B$10=\"Treguine\",Treguine!A310,IF($B$10=\"Bredjing\",Bredjing!A310,\"\"))))","v":""},{"$f":"IF($B$10=\"Farchana\",Farchana!B291,IF($B$10=\"Gaga\",Gaga!B310,IF($B$10=\"Treguine\",Treguine!B310,IF($B$10=\"Bredjing\",Bredjing!B310,\"\"))))","v":""},{"$f":"IF($B$10=\"Farchana\",Farchana!C291,IF($B$10=\"Gaga\",Gaga!C310,IF($B$10=\"Treguine\",Treguine!C310,IF($B$10=\"Bredjing\",Bredjing!C310,\"\"))))","v":""},null,null,{"$f":"IF($B$10=\"Farchana\",Farchana!G291,IF($B$10=\"Gaga\",Gaga!I310,IF($B$10=\"Treguine\",Treguine!G310,IF($B$10=\"Bredjing\",Bredjing!G310,\"\"))))","v":""}]
[{"$f":"IF($B$10=\"Farchana\",Farchana!A292,IF($B$10=\"Gaga\",Gaga!A311,IF($B$10=\"Treguine\",Treguine!A311,IF($B$10=\"Bredjing\",Bredjing!A311,\"\"))))","v":""},{"$f":"IF($B$10=\"Farchana\",Farchana!B292,IF($B$10=\"Gaga\",Gaga!B311,IF($B$10=\"Treguine\",Treguine!B311,IF($B$10=\"Bredjing\",Bredjing!B311,\"\"))))","v":""},{"$f":"IF($B$10=\"Farchana\",Farchana!C292,IF($B$10=\"Gaga\",Gaga!C311,IF($B$10=\"Treguine\",Treguine!C311,IF($B$10=\"Bredjing\",Bredjing!C311,\"\"))))","v":""},null,null,{"$f":"IF($B$10=\"Farchana\",Farchana!G292,IF($B$10=\"Gaga\",Gaga!I311,IF($B$10=\"Treguine\",Treguine!G311,IF($B$10=\"Bredjing\",Bredjing!G311,\"\"))))","v":""}]
[{"$f":"IF($B$10=\"Farchana\",Farchana!A293,IF($B$10=\"Gaga\",Gaga!A312,IF($B$10=\"Treguine\",Treguine!A312,IF($B$10=\"Bredjing\",Bredjing!A312,\"\"))))","v":""},{"$f":"IF($B$10=\"Farchana\",Farchana!B293,IF($B$10=\"Gaga\",Gaga!B312,IF($B$10=\"Treguine\",Treguine!B312,IF($B$10=\"Bredjing\",Bredjing!B312,\"\"))))","v":""},{"$f":"IF($B$10=\"Farchana\",Farchana!C293,IF($B$10=\"Gaga\",Gaga!C312,IF($B$10=\"Treguine\",Treguine!C312,IF($B$10=\"Bredjing\",Bredjing!C312,\"\"))))","v":""},null,null,{"$f":"IF($B$10=\"Farchana\",Farchana!G293,IF($B$10=\"Gaga\",Gaga!I312,IF($B$10=\"Treguine\",Treguine!G312,IF($B$10=\"Bredjing\",Bredjing!G312,\"\"))))","v":""}]
[{"$f":"IF($B$10=\"Farchana\",Farchana!A294,IF($B$10=\"Gaga\",Gaga!A313,IF($B$10=\"Treguine\",Treguine!A313,IF($B$10=\"Bredjing\",Bredjing!A313,\"\"))))","v":""},{"$f":"IF($B$10=\"Farchana\",Farchana!B294,IF($B$10=\"Gaga\",Gaga!B313,IF($B$10=\"Treguine\",Treguine!B313,IF($B$10=\"Bredjing\",Bredjing!B313,\"\"))))","v":""},{"$f":"IF($B$10=\"Farchana\",Farchana!C294,IF($B$10=\"Gaga\",Gaga!C313,IF($B$10=\"Treguine\",Treguine!C313,IF($B$10=\"Bredjing\",Bredjing!C313,\"\"))))","v":""},null,null,{"$f":"IF($B$10=\"Farchana\",Farchana!G294,IF($B$10=\"Gaga\",Gaga!I313,IF($B$10=\"Treguine\",Treguine!G313,IF($B$10=\"Bredjing\",Bredjing!G313,\"\"))))","v":""}]
[{"$f":"IF($B$10=\"Farchana\",Farchana!A295,IF($B$10=\"Gaga\",Gaga!A314,IF($B$10=\"Treguine\",Treguine!A314,IF($B$10=\"Bredjing\",Bredjing!A314,\"\"))))","v":""},{"$f":"IF($B$10=\"Farchana\",Farchana!B295,IF($B$10=\"Gaga\",Gaga!B314,IF($B$10=\"Treguine\",Treguine!B314,IF($B$10=\"Bredjing\",Bredjing!B314,\"\"))))","v":""},{"$f":"IF($B$10=\"Farchana\",Farchana!C295,IF($B$10=\"Gaga\",Gaga!C314,IF($B$10=\"Treguine\",Treguine!C314,IF($B$10=\"Bredjing\",Bredjing!C314,\"\"))))","v":""},null,null,{"$f":"IF($B$10=\"Farchana\",Farchana!G295,IF($B$10=\"Gaga\",Gaga!I314,IF($B$10=\"Treguine\",Treguine!G314,IF($B$10=\"Bredjing\",Bredjing!G314,\"\"))))","v":""}]
[{"$f":"IF($B$10=\"Farchana\",Farchana!A296,IF($B$10=\"Gaga\",Gaga!A315,IF($B$10=\"Treguine\",Treguine!A315,IF($B$10=\"Bredjing\",Bredjing!A315,\"\"))))","v":""},{"$f":"IF($B$10=\"Farchana\",Farchana!B296,IF($B$10=\"Gaga\",Gaga!B315,IF($B$10=\"Treguine\",Treguine!B315,IF($B$10=\"Bredjing\",Bredjing!B315,\"\"))))","v":""},{"$f":"IF($B$10=\"Farchana\",Farchana!C296,IF($B$10=\"Gaga\",Gaga!C315,IF($B$10=\"Treguine\",Treguine!C315,IF($B$10=\"Bredjing\",Bredjing!C315,\"\"))))","v":""},null,null,{"$f":"IF($B$10=\"Farchana\",Farchana!G296,IF($B$10=\"Gaga\",Gaga!I315,IF($B$10=\"Treguine\",Treguine!G315,IF($B$10=\"Bredjing\",Bredjing!G315,\"\"))))","v":""}]
[{"$f":"IF($B$10=\"Farchana\",Farchana!A297,IF($B$10=\"Gaga\",Gaga!A316,IF($B$10=\"Treguine\",Treguine!A316,IF($B$10=\"Bredjing\",Bredjing!A316,\"\"))))","v":""},{"$f":"IF($B$10=\"Farchana\",Farchana!B297,IF($B$10=\"Gaga\",Gaga!B316,IF($B$10=\"Treguine\",Treguine!B316,IF($B$10=\"Bredjing\",Bredjing!B316,\"\"))))","v":""},{"$f":"IF($B$10=\"Farchana\",Farchana!C297,IF($B$10=\"Gaga\",Gaga!C316,IF($B$10=\"Treguine\",Treguine!C316,IF($B$10=\"Bredjing\",Bredjing!C316,\"\"))))","v":""},null,null,{"$f":"IF($B$10=\"Farchana\",Farchana!G297,IF($B$10=\"Gaga\",Gaga!I316,IF($B$10=\"Treguine\",Treguine!G316,IF($B$10=\"Bredjing\",Bredjing!G316,\"\"))))","v":""}]
[{"$f":"IF($B$10=\"Farchana\",Farchana!A298,IF($B$10=\"Gaga\",Gaga!A317,IF($B$10=\"Treguine\",Treguine!A317,IF($B$10=\"Bredjing\",Bredjing!A317,\"\"))))","v":""},{"$f":"IF($B$10=\"Farchana\",Farchana!B298,IF($B$10=\"Gaga\",Gaga!B317,IF($B$10=\"Treguine\",Treguine!B317,IF($B$10=\"Bredjing\",Bredjing!B317,\"\"))))","v":""},{"$f":"IF($B$10=\"Farchana\",Farchana!C298,IF($B$10=\"Gaga\",Gaga!C317,IF($B$10=\"Treguine\",Treguine!C317,IF($B$10=\"Bredjing\",Bredjing!C317,\"\"))))","v":""},null,null,{"$f":"IF($B$10=\"Farchana\",Farchana!G298,IF($B$10=\"Gaga\",Gaga!I317,IF($B$10=\"Treguine\",Treguine!G317,IF($B$10=\"Bredjing\",Bredjing!G317,\"\"))))","v":""}]
[{"$f":"IF($B$10=\"Farchana\",Farchana!A299,IF($B$10=\"Gaga\",Gaga!A318,IF($B$10=\"Treguine\",Treguine!A318,IF($B$10=\"Bredjing\",Bredjing!A318,\"\"))))","v":""},{"$f":"IF($B$10=\"Farchana\",Farchana!B299,IF($B$10=\"Gaga\",Gaga!B318,IF($B$10=\"Treguine\",Treguine!B318,IF($B$10=\"Bredjing\",Bredjing!B318,\"\"))))","v":""},{"$f":"IF($B$10=\"Farchana\",Farchana!C299,IF($B$10=\"Gaga\",Gaga!C318,IF($B$10=\"Treguine\",Treguine!C318,IF($B$10=\"Bredjing\",Bredjing!C318,\"\"))))","v":""},null,null,{"$f":"IF($B$10=\"Farchana\",Farchana!G299,IF($B$10=\"Gaga\",Gaga!I318,IF($B$10=\"Treguine\",Treguine!G318,IF($B$10=\"Bredjing\",Bredjing!G318,\"\"))))","v":""}]
[{"$f":"IF($B$10=\"Farchana\",Farchana!A300,IF($B$10=\"Gaga\",Gaga!A319,IF($B$10=\"Treguine\",Treguine!A319,IF($B$10=\"Bredjing\",Bredjing!A319,\"\"))))","v":""},{"$f":"IF($B$10=\"Farchana\",Farchana!B300,IF($B$10=\"Gaga\",Gaga!B319,IF($B$10=\"Treguine\",Treguine!B319,IF($B$10=\"Bredjing\",Bredjing!B319,\"\"))))","v":""},{"$f":"IF($B$10=\"Farchana\",Farchana!C300,IF($B$10=\"Gaga\",Gaga!C319,IF($B$10=\"Treguine\",Treguine!C319,IF($B$10=\"Bredjing\",Bredjing!C319,\"\"))))","v":""},null,null,{"$f":"IF($B$10=\"Farchana\",Farchana!G300,IF($B$10=\"Gaga\",Gaga!I319,IF($B$10=\"Treguine\",Treguine!G319,IF($B$10=\"Bredjing\",Bredjing!G319,\"\"))))","v":""}]
[{"$f":"IF($B$10=\"Farchana\",Farchana!A301,IF($B$10=\"Gaga\",Gaga!A320,IF($B$10=\"Treguine\",Treguine!A320,IF($B$10=\"Bredjing\",Bredjing!A320,\"\"))))","v":""},{"$f":"IF($B$10=\"Farchana\",Farchana!B301,IF($B$10=\"Gaga\",Gaga!B320,IF($B$10=\"Treguine\",Treguine!B320,IF($B$10=\"Bredjing\",Bredjing!B320,\"\"))))","v":""},{"$f":"IF($B$10=\"Farchana\",Farchana!C301,IF($B$10=\"Gaga\",Gaga!C320,IF($B$10=\"Treguine\",Treguine!C320,IF($B$10=\"Bredjing\",Bredjing!C320,\"\"))))","v":""},null,null,{"$f":"IF($B$10=\"Farchana\",Farchana!G301,IF($B$10=\"Gaga\",Gaga!I320,IF($B$10=\"Treguine\",Treguine!G320,IF($B$10=\"Bredjing\",Bredjing!G320,\"\"))))","v":""}]
[{"$f":"IF($B$10=\"Farchana\",Farchana!A302,IF($B$10=\"Gaga\",Gaga!A321,IF($B$10=\"Treguine\",Treguine!A321,IF($B$10=\"Bredjing\",Bredjing!A321,\"\"))))","v":""},{"$f":"IF($B$10=\"Farchana\",Farchana!B302,IF($B$10=\"Gaga\",Gaga!B321,IF($B$10=\"Treguine\",Treguine!B321,IF($B$10=\"Bredjing\",Bredjing!B321,\"\"))))","v":""},{"$f":"IF($B$10=\"Farchana\",Farchana!C302,IF($B$10=\"Gaga\",Gaga!C321,IF($B$10=\"Treguine\",Treguine!C321,IF($B$10=\"Bredjing\",Bredjing!C321,\"\"))))","v":""},null,null,{"$f":"IF($B$10=\"Farchana\",Farchana!G302,IF($B$10=\"Gaga\",Gaga!I321,IF($B$10=\"Treguine\",Treguine!G321,IF($B$10=\"Bredjing\",Bredjing!G321,\"\"))))","v":""}]
[{"$f":"IF($B$10=\"Farchana\",Farchana!A303,IF($B$10=\"Gaga\",Gaga!A322,IF($B$10=\"Treguine\",Treguine!A322,IF($B$10=\"Bredjing\",Bredjing!A322,\"\"))))","v":""},{"$f":"IF($B$10=\"Farchana\",Farchana!B303,IF($B$10=\"Gaga\",Gaga!B322,IF($B$10=\"Treguine\",Treguine!B322,IF($B$10=\"Bredjing\",Bredjing!B322,\"\"))))","v":""},{"$f":"IF($B$10=\"Farchana\",Farchana!C303,IF($B$10=\"Gaga\",Gaga!C322,IF($B$10=\"Treguine\",Treguine!C322,IF($B$10=\"Bredjing\",Bredjing!C322,\"\"))))","v":""},null,null,{"$f":"IF($B$10=\"Farchana\",Farchana!G303,IF($B$10=\"Gaga\",Gaga!I322,IF($B$10=\"Treguine\",Treguine!G322,IF($B$10=\"Bredjing\",Bredjing!G322,\"\"))))","v":""}]
[{"$f":"IF($B$10=\"Farchana\",Farchana!A304,IF($B$10=\"Gaga\",Gaga!A323,IF($B$10=\"Treguine\",Treguine!A323,IF($B$10=\"Bredjing\",Bredjing!A323,\"\"))))","v":""},{"$f":"IF($B$10=\"Farchana\",Farchana!B304,IF($B$10=\"Gaga\",Gaga!B323,IF($B$10=\"Treguine\",Treguine!B323,IF($B$10=\"Bredjing\",Bredjing!B323,\"\"))))","v":""},{"$f":"IF($B$10=\"Farchana\",Farchana!C304,IF($B$10=\"Gaga\",Gaga!C323,IF($B$10=\"Treguine\",Treguine!C323,IF($B$10=\"Bredjing\",Bredjing!C323,\"\"))))","v":""},null,null,{"$f":"IF($B$10=\"Farchana\",Farchana!G304,IF($B$10=\"Gaga\",Gaga!I323,IF($B$10=\"Treguine\",Treguine!G323,IF($B$10=\"Bredjing\",Bredjing!G323,\"\"))))","v":""}]
[{"$f":"IF($B$10=\"Farchana\",Farchana!A305,IF($B$10=\"Gaga\",Gaga!A324,IF($B$10=\"Treguine\",Treguine!A324,IF($B$10=\"Bredjing\",Bredjing!A324,\"\"))))","v":""},{"$f":"IF($B$10=\"Farchana\",Farchana!B305,IF($B$10=\"Gaga\",Gaga!B324,IF($B$10=\"Treguine\",Treguine!B324,IF($B$10=\"Bredjing\",Bredjing!B324,\"\"))))","v":""},{"$f":"IF($B$10=\"Farchana\",Farchana!C305,IF($B$10=\"Gaga\",Gaga!C324,IF($B$10=\"Treguine\",Treguine!C324,IF($B$10=\"Bredjing\",Bredjing!C324,\"\"))))","v":""},null,null,{"$f":"IF($B$10=\"Farchana\",Farchana!G305,IF($B$10=\"Gaga\",Gaga!I324,IF($B$10=\"Treguine\",Treguine!G324,IF($B$10=\"Bredjing\",Bredjing!G324,\"\"))))","v":""}]
[{"$f":"IF($B$10=\"Farchana\",Farchana!A306,IF($B$10=\"Gaga\",Gaga!A325,IF($B$10=\"Treguine\",Treguine!A325,IF($B$10=\"Bredjing\",Bredjing!A325,\"\"))))","v":""},{"$f":"IF($B$10=\"Farchana\",Farchana!B306,IF($B$10=\"Gaga\",Gaga!B325,IF($B$10=\"Treguine\",Treguine!B325,IF($B$10=\"Bredjing\",Bredjing!B325,\"\"))))","v":""},{"$f":"IF($B$10=\"Farchana\",Farchana!C306,IF($B$10=\"Gaga\",Gaga!C325,IF($B$10=\"Treguine\",Treguine!C325,IF($B$10=\"Bredjing\",Bredjing!C325,\"\"))))","v":""},null,null,{"$f":"IF($B$10=\"Farchana\",Farchana!G306,IF($B$10=\"Gaga\",Gaga!I325,IF($B$10=\"Treguine\",Treguine!G325,IF($B$10=\"Bredjing\",Bredjing!G325,\"\"))))","v":""}]
[{"$f":"IF($B$10=\"Farchana\",Farchana!A307,IF($B$10=\"Gaga\",Gaga!A326,IF($B$10=\"Treguine\",Treguine!A326,IF($B$10=\"Bredjing\",Bredjing!A326,\"\"))))","v":""},{"$f":"IF($B$10=\"Farchana\",Farchana!B307,IF($B$10=\"Gaga\",Gaga!B326,IF($B$10=\"Treguine\",Treguine!B326,IF($B$10=\"Bredjing\",Bredjing!B326,\"\"))))","v":""},{"$f":"IF($B$10=\"Farchana\",Farchana!C307,IF($B$10=\"Gaga\",Gaga!C326,IF($B$10=\"Treguine\",Treguine!C326,IF($B$10=\"Bredjing\",Bredjing!C326,\"\"))))","v":""},null,null,{"$f":"IF($B$10=\"Farchana\",Farchana!G307,IF($B$10=\"Gaga\",Gaga!I326,IF($B$10=\"Treguine\",Treguine!G326,IF($B$10=\"Bredjing\",Bredjing!G326,\"\"))))","v":""}]
[{"$f":"IF($B$10=\"Farchana\",Farchana!A308,IF($B$10=\"Gaga\",Gaga!A327,IF($B$10=\"Treguine\",Treguine!A327,IF($B$10=\"Bredjing\",Bredjing!A327,\"\"))))","v":""},{"$f":"IF($B$10=\"Farchana\",Farchana!B308,IF($B$10=\"Gaga\",Gaga!B327,IF($B$10=\"Treguine\",Treguine!B327,IF($B$10=\"Bredjing\",Bredjing!B327,\"\"))))","v":""},{"$f":"IF($B$10=\"Farchana\",Farchana!C308,IF($B$10=\"Gaga\",Gaga!C327,IF($B$10=\"Treguine\",Treguine!C327,IF($B$10=\"Bredjing\",Bredjing!C327,\"\"))))","v":""},null,null,{"$f":"IF($B$10=\"Farchana\",Farchana!G308,IF($B$10=\"Gaga\",Gaga!I327,IF($B$10=\"Treguine\",Treguine!G327,IF($B$10=\"Bredjing\",Bredjing!G327,\"\"))))","v":""}]
[{"$f":"IF($B$10=\"Farchana\",Farchana!A309,IF($B$10=\"Gaga\",Gaga!A328,IF($B$10=\"Treguine\",Treguine!A328,IF($B$10=\"Bredjing\",Bredjing!A328,\"\"))))","v":""},{"$f":"IF($B$10=\"Farchana\",Farchana!B309,IF($B$10=\"Gaga\",Gaga!B328,IF($B$10=\"Treguine\",Treguine!B328,IF($B$10=\"Bredjing\",Bredjing!B328,\"\"))))","v":""},{"$f":"IF($B$10=\"Farchana\",Farchana!C309,IF($B$10=\"Gaga\",Gaga!C328,IF($B$10=\"Treguine\",Treguine!C328,IF($B$10=\"Bredjing\",Bredjing!C328,\"\"))))","v":""},null,null,{"$f":"IF($B$10=\"Farchana\",Farchana!G309,IF($B$10=\"Gaga\",Gaga!I328,IF($B$10=\"Treguine\",Treguine!G328,IF($B$10=\"Bredjing\",Bredjing!G328,\"\"))))","v":""}]
[{"$f":"IF($B$10=\"Farchana\",Farchana!A310,IF($B$10=\"Gaga\",Gaga!A329,IF($B$10=\"Treguine\",Treguine!A329,IF($B$10=\"Bredjing\",Bredjing!A329,\"\"))))","v":""},{"$f":"IF($B$10=\"Farchana\",Farchana!B310,IF($B$10=\"Gaga\",Gaga!B329,IF($B$10=\"Treguine\",Treguine!B329,IF($B$10=\"Bredjing\",Bredjing!B329,\"\"))))","v":""},{"$f":"IF($B$10=\"Farchana\",Farchana!C310,IF($B$10=\"Gaga\",Gaga!C329,IF($B$10=\"Treguine\",Treguine!C329,IF($B$10=\"Bredjing\",Bredjing!C329,\"\"))))","v":""},null,null,{"$f":"IF($B$10=\"Farchana\",Farchana!G310,IF($B$10=\"Gaga\",Gaga!I329,IF($B$10=\"Treguine\",Treguine!G329,IF($B$10=\"Bredjing\",Bredjing!G329,\"\"))))","v":""}]
[{"$f":"IF($B$10=\"Farchana\",Farchana!A311,IF($B$10=\"Gaga\",Gaga!A330,IF($B$10=\"Treguine\",Treguine!A330,IF($B$10=\"Bredjing\",Bredjing!A330,\"\"))))","v":""},{"$f":"IF($B$10=\"Farchana\",Farchana!B311,IF($B$10=\"Gaga\",Gaga!B330,IF($B$10=\"Treguine\",Treguine!B330,IF($B$10=\"Bredjing\",Bredjing!B330,\"\"))))","v":""},{"$f":"IF($B$10=\"Farchana\",Farchana!C311,IF($B$10=\"Gaga\",Gaga!C330,IF($B$10=\"Treguine\",Treguine!C330,IF($B$10=\"Bredjing\",Bredjing!C330,\"\"))))","v":""},null,null,{"$f":"IF($B$10=\"Farchana\",Farchana!G311,IF($B$10=\"Gaga\",Gaga!I330,IF($B$10=\"Treguine\",Treguine!G330,IF($B$10=\"Bredjing\",Bredjing!G330,\"\"))))","v":""}]
[{"$f":"IF($B$10=\"Farchana\",Farchana!A312,IF($B$10=\"Gaga\",Gaga!A331,IF($B$10=\"Treguine\",Treguine!A331,IF($B$10=\"Bredjing\",Bredjing!A331,\"\"))))","v":""},{"$f":"IF($B$10=\"Farchana\",Farchana!B312,IF($B$10=\"Gaga\",Gaga!B331,IF($B$10=\"Treguine\",Treguine!B331,IF($B$10=\"Bredjing\",Bredjing!B331,\"\"))))","v":""},{"$f":"IF($B$10=\"Farchana\",Farchana!C312,IF($B$10=\"Gaga\",Gaga!C331,IF($B$10=\"Treguine\",Treguine!C331,IF($B$10=\"Bredjing\",Bredjing!C331,\"\"))))","v":""},null,null,{"$f":"IF($B$10=\"Farchana\",Farchana!G312,IF($B$10=\"Gaga\",Gaga!I331,IF($B$10=\"Treguine\",Treguine!G331,IF($B$10=\"Bredjing\",Bredjing!G331,\"\"))))","v":""}]
[{"$f":"IF($B$10=\"Farchana\",Farchana!A313,IF($B$10=\"Gaga\",Gaga!A332,IF($B$10=\"Treguine\",Treguine!A332,IF($B$10=\"Bredjing\",Bredjing!A332,\"\"))))","v":""},{"$f":"IF($B$10=\"Farchana\",Farchana!B313,IF($B$10=\"Gaga\",Gaga!B332,IF($B$10=\"Treguine\",Treguine!B332,IF($B$10=\"Bredjing\",Bredjing!B332,\"\"))))","v":""},{"$f":"IF($B$10=\"Farchana\",Farchana!C313,IF($B$10=\"Gaga\",Gaga!C332,IF($B$10=\"Treguine\",Treguine!C332,IF($B$10=\"Bredjing\",Bredjing!C332,\"\"))))","v":""},null,null,{"$f":"IF($B$10=\"Farchana\",Farchana!G313,IF($B$10=\"Gaga\",Gaga!I332,IF($B$10=\"Treguine\",Treguine!G332,IF($B$10=\"Bredjing\",Bredjing!G332,\"\"))))","v":""}]
[{"$f":"IF($B$10=\"Farchana\",Farchana!A314,IF($B$10=\"Gaga\",Gaga!A333,IF($B$10=\"Treguine\",Treguine!A333,IF($B$10=\"Bredjing\",Bredjing!A333,\"\"))))","v":""},{"$f":"IF($B$10=\"Farchana\",Farchana!B314,IF($B$10=\"Gaga\",Gaga!B333,IF($B$10=\"Treguine\",Treguine!B333,IF($B$10=\"Bredjing\",Bredjing!B333,\"\"))))","v":""},{"$f":"IF($B$10=\"Farchana\",Farchana!C314,IF($B$10=\"Gaga\",Gaga!C333,IF($B$10=\"Treguine\",Treguine!C333,IF($B$10=\"Bredjing\",Bredjing!C333,\"\"))))","v":""},null,null,{"$f":"IF($B$10=\"Farchana\",Farchana!G314,IF($B$10=\"Gaga\",Gaga!I333,IF($B$10=\"Treguine\",Treguine!G333,IF($B$10=\"Bredjing\",Bredjing!G333,\"\"))))","v":""}]
[{"$f":"IF($B$10=\"Farchana\",Farchana!A315,IF($B$10=\"Gaga\",Gaga!A334,IF($B$10=\"Treguine\",Treguine!A334,IF($B$10=\"Bredjing\",Bredjing!A334,\"\"))))","v":""},{"$f":"IF($B$10=\"Farchana\",Farchana!B315,IF($B$10=\"Gaga\",Gaga!B334,IF($B$10=\"Treguine\",Treguine!B334,IF($B$10=\"Bredjing\",Bredjing!B334,\"\"))))","v":""},{"$f":"IF($B$10=\"Farchana\",Farchana!C315,IF($B$10=\"Gaga\",Gaga!C334,IF($B$10=\"Treguine\",Treguine!C334,IF($B$10=\"Bredjing\",Bredjing!C334,\"\"))))","v":""},null,null,{"$f":"IF($B$10=\"Farchana\",Farchana!G315,IF($B$10=\"Gaga\",Gaga!I334,IF($B$10=\"Treguine\",Treguine!G334,IF($B$10=\"Bredjing\",Bredjing!G334,\"\"))))","v":""}]
[{"$f":"IF($B$10=\"Farchana\",Farchana!A316,IF($B$10=\"Gaga\",Gaga!A335,IF($B$10=\"Treguine\",Treguine!A335,IF($B$10=\"Bredjing\",Bredjing!A335,\"\"))))","v":""},{"$f":"IF($B$10=\"Farchana\",Farchana!B316,IF($B$10=\"Gaga\",Gaga!B335,IF($B$10=\"Treguine\",Treguine!B335,IF($B$10=\"Bredjing\",Bredjing!B335,\"\"))))","v":""},{"$f":"IF($B$10=\"Farchana\",Farchana!C316,IF($B$10=\"Gaga\",Gaga!C335,IF($B$10=\"Treguine\",Treguine!C335,IF($B$10=\"Bredjing\",Bredjing!C335,\"\"))))","v":""},null,null,{"$f":"IF($B$10=\"Farchana\",Farchana!G316,IF($B$10=\"Gaga\",Gaga!I335,IF($B$10=\"Treguine\",Treguine!G335,IF($B$10=\"Bredjing\",Bredjing!G335,\"\"))))","v":""}]
[{"$f":"IF($B$10=\"Farchana\",Farchana!A317,IF($B$10=\"Gaga\",Gaga!A336,IF($B$10=\"Treguine\",Treguine!A336,IF($B$10=\"Bredjing\",Bredjing!A336,\"\"))))","v":""},{"$f":"IF($B$10=\"Farchana\",Farchana!B317,IF($B$10=\"Gaga\",Gaga!B336,IF($B$10=\"Treguine\",Treguine!B336,IF($B$10=\"Bredjing\",Bredjing!B336,\"\"))))","v":""},{"$f":"IF($B$10=\"Farchana\",Farchana!C317,IF($B$10=\"Gaga\",Gaga!C336,IF($B$10=\"Treguine\",Treguine!C336,IF($B$10=\"Bredjing\",Bredjing!C336,\"\"))))","v":""},null,null,{"$f":"IF($B$10=\"Farchana\",Farchana!G317,IF($B$10=\"Gaga\",Gaga!I336,IF($B$10=\"Treguine\",Treguine!G336,IF($B$10=\"Bredjing\",Bredjing!G336,\"\"))))","v":""}]
[{"$f":"IF($B$10=\"Farchana\",Farchana!A318,IF($B$10=\"Gaga\",Gaga!A337,IF($B$10=\"Treguine\",Treguine!A337,IF($B$10=\"Bredjing\",Bredjing!A337,\"\"))))","v":""},{"$f":"IF($B$10=\"Farchana\",Farchana!B318,IF($B$10=\"Gaga\",Gaga!B337,IF($B$10=\"Treguine\",Treguine!B337,IF($B$10=\"Bredjing\",Bredjing!B337,\"\"))))","v":""},{"$f":"IF($B$10=\"Farchana\",Farchana!C318,IF($B$10=\"Gaga\",Gaga!C337,IF($B$10=\"Treguine\",Treguine!C337,IF($B$10=\"Bredjing\",Bredjing!C337,\"\"))))","v":""},null,null,{"$f":"IF($B$10=\"Farchana\",Farchana!G318,IF($B$10=\"Gaga\",Gaga!I337,IF($B$10=\"Treguine\",Treguine!G337,IF($B$10=\"Bredjing\",Bredjing!G337,\"\"))))","v":""}]
[{"$f":"IF($B$10=\"Farchana\",Farchana!A319,IF($B$10=\"Gaga\",Gaga!A338,IF($B$10=\"Treguine\",Treguine!A338,IF($B$10=\"Bredjing\",Bredjing!A338,\"\"))))","v":""},{"$f":"IF($B$10=\"Farchana\",Farchana!B319,IF($B$10=\"Gaga\",Gaga!B338,IF($B$10=\"Treguine\",Treguine!B338,IF($B$10=\"Bredjing\",Bredjing!B338,\"\"))))","v":""},{"$f":"IF($B$10=\"Farchana\",Farchana!C319,IF($B$10=\"Gaga\",Gaga!C338,IF($B$10=\"Treguine\",Treguine!C338,IF($B$10=\"Bredjing\",Bredjing!C338,\"\"))))","v":""},null,null,{"$f":"IF($B$10=\"Farchana\",Farchana!G319,IF($B$10=\"Gaga\",Gaga!I338,IF($B$10=\"Treguine\",Treguine!G338,IF($B$10=\"Bredjing\",Bredjing!G338,\"\"))))","v":""}]
[{"$f":"IF($B$10=\"Farchana\",Farchana!A320,IF($B$10=\"Gaga\",Gaga!A339,IF($B$10=\"Treguine\",Treguine!A339,IF($B$10=\"Bredjing\",Bredjing!A339,\"\"))))","v":""},{"$f":"IF($B$10=\"Farchana\",Farchana!B320,IF($B$10=\"Gaga\",Gaga!B339,IF($B$10=\"Treguine\",Treguine!B339,IF($B$10=\"Bredjing\",Bredjing!B339,\"\"))))","v":""},{"$f":"IF($B$10=\"Farchana\",Farchana!C320,IF($B$10=\"Gaga\",Gaga!C339,IF($B$10=\"Treguine\",Treguine!C339,IF($B$10=\"Bredjing\",Bredjing!C339,\"\"))))","v":""},null,null,{"$f":"IF($B$10=\"Farchana\",Farchana!G320,IF($B$10=\"Gaga\",Gaga!I339,IF($B$10=\"Treguine\",Treguine!G339,IF($B$10=\"Bredjing\",Bredjing!G339,\"\"))))","v":""}]
[{"$f":"IF($B$10=\"Farchana\",Farchana!A321,IF($B$10=\"Gaga\",Gaga!A340,IF($B$10=\"Treguine\",Treguine!A340,IF($B$10=\"Bredjing\",Bredjing!A340,\"\"))))","v":""},{"$f":"IF($B$10=\"Farchana\",Farchana!B321,IF($B$10=\"Gaga\",Gaga!B340,IF($B$10=\"Treguine\",Treguine!B340,IF($B$10=\"Bredjing\",Bredjing!B340,\"\"))))","v":""},{"$f":"IF($B$10=\"Farchana\",Farchana!C321,IF($B$10=\"Gaga\",Gaga!C340,IF($B$10=\"Treguine\",Treguine!C340,IF($B$10=\"Bredjing\",Bredjing!C340,\"\"))))","v":""},null,null,{"$f":"IF($B$10=\"Farchana\",Farchana!G321,IF($B$10=\"Gaga\",Gaga!I340,IF($B$10=\"Treguine\",Treguine!G340,IF($B$10=\"Bredjing\",Bredjing!G340,\"\"))))","v":""}]
[{"$f":"IF($B$10=\"Farchana\",Farchana!A322,IF($B$10=\"Gaga\",Gaga!A341,IF($B$10=\"Treguine\",Treguine!A341,IF($B$10=\"Bredjing\",Bredjing!A341,\"\"))))","v":""},{"$f":"IF($B$10=\"Farchana\",Farchana!B322,IF($B$10=\"Gaga\",Gaga!B341,IF($B$10=\"Treguine\",Treguine!B341,IF($B$10=\"Bredjing\",Bredjing!B341,\"\"))))","v":""},{"$f":"IF($B$10=\"Farchana\",Farchana!C322,IF($B$10=\"Gaga\",Gaga!C341,IF($B$10=\"Treguine\",Treguine!C341,IF($B$10=\"Bredjing\",Bredjing!C341,\"\"))))","v":""},null,null,{"$f":"IF($B$10=\"Farchana\",Farchana!G322,IF($B$10=\"Gaga\",Gaga!I341,IF($B$10=\"Treguine\",Treguine!G341,IF($B$10=\"Bredjing\",Bredjing!G341,\"\"))))","v":""}]
[{"$f":"IF($B$10=\"Farchana\",Farchana!A323,IF($B$10=\"Gaga\",Gaga!A342,IF($B$10=\"Treguine\",Treguine!A342,IF($B$10=\"Bredjing\",Bredjing!A342,\"\"))))","v":""},{"$f":"IF($B$10=\"Farchana\",Farchana!B323,IF($B$10=\"Gaga\",Gaga!B342,IF($B$10=\"Treguine\",Treguine!B342,IF($B$10=\"Bredjing\",Bredjing!B342,\"\"))))","v":""},{"$f":"IF($B$10=\"Farchana\",Farchana!C323,IF($B$10=\"Gaga\",Gaga!C342,IF($B$10=\"Treguine\",Treguine!C342,IF($B$10=\"Bredjing\",Bredjing!C342,\"\"))))","v":""},null,null,{"$f":"IF($B$10=\"Farchana\",Farchana!G323,IF($B$10=\"Gaga\",Gaga!I342,IF($B$10=\"Treguine\",Treguine!G342,IF($B$10=\"Bredjing\",Bredjing!G342,\"\"))))","v":""}]
[{"$f":"IF($B$10=\"Farchana\",Farchana!A324,IF($B$10=\"Gaga\",Gaga!A343,IF($B$10=\"Treguine\",Treguine!A343,IF($B$10=\"Bredjing\",Bredjing!A343,\"\"))))","v":""},{"$f":"IF($B$10=\"Farchana\",Farchana!B324,IF($B$10=\"Gaga\",Gaga!B343,IF($B$10=\"Treguine\",Treguine!B343,IF($B$10=\"Bredjing\",Bredjing!B343,\"\"))))","v":""},{"$f":"IF($B$10=\"Farchana\",Farchana!C324,IF($B$10=\"Gaga\",Gaga!C343,IF($B$10=\"Treguine\",Treguine!C343,IF($B$10=\"Bredjing\",Bredjing!C343,\"\"))))","v":""},null,null,{"$f":"IF($B$10=\"Farchana\",Farchana!G324,IF($B$10=\"Gaga\",Gaga!I343,IF($B$10=\"Treguine\",Treguine!G343,IF($B$10=\"Bredjing\",Bredjing!G343,\"\"))))","v":""}]
[{"$f":"IF($B$10=\"Farchana\",Farchana!A325,IF($B$10=\"Gaga\",Gaga!A344,IF($B$10=\"Treguine\",Treguine!A344,IF($B$10=\"Bredjing\",Bredjing!A344,\"\"))))","v":""},{"$f":"IF($B$10=\"Farchana\",Farchana!B325,IF($B$10=\"Gaga\",Gaga!B344,IF($B$10=\"Treguine\",Treguine!B344,IF($B$10=\"Bredjing\",Bredjing!B344,\"\"))))","v":""},{"$f":"IF($B$10=\"Farchana\",Farchana!C325,IF($B$10=\"Gaga\",Gaga!C344,IF($B$10=\"Treguine\",Treguine!C344,IF($B$10=\"Bredjing\",Bredjing!C344,\"\"))))","v":""},null,null,{"$f":"IF($B$10=\"Farchana\",Farchana!G325,IF($B$10=\"Gaga\",Gaga!I344,IF($B$10=\"Treguine\",Treguine!G344,IF($B$10=\"Bredjing\",Bredjing!G344,\"\"))))","v":""}]
[{"$f":"IF($B$10=\"Farchana\",Farchana!A326,IF($B$10=\"Gaga\",Gaga!A345,IF($B$10=\"Treguine\",Treguine!A345,IF($B$10=\"Bredjing\",Bredjing!A345,\"\"))))","v":""},{"$f":"IF($B$10=\"Farchana\",Farchana!B326,IF($B$10=\"Gaga\",Gaga!B345,IF($B$10=\"Treguine\",Treguine!B345,IF($B$10=\"Bredjing\",Bredjing!B345,\"\"))))","v":""},{"$f":"IF($B$10=\"Farchana\",Farchana!C326,IF($B$10=\"Gaga\",Gaga!C345,IF($B$10=\"Treguine\",Treguine!C345,IF($B$10=\"Bredjing\",Bredjing!C345,\"\"))))","v":""},null,null,{"$f":"IF($B$10=\"Farchana\",Farchana!G326,IF($B$10=\"Gaga\",Gaga!I345,IF($B$10=\"Treguine\",Treguine!G345,IF($B$10=\"Bredjing\",Bredjing!G345,\"\"))))","v":""}]
[{"$f":"IF($B$10=\"Farchana\",Farchana!A327,IF($B$10=\"Gaga\",Gaga!A346,IF($B$10=\"Treguine\",Treguine!A346,IF($B$10=\"Bredjing\",Bredjing!A346,\"\"))))","v":""},{"$f":"IF($B$10=\"Farchana\",Farchana!B327,IF($B$10=\"Gaga\",Gaga!B346,IF($B$10=\"Treguine\",Treguine!B346,IF($B$10=\"Bredjing\",Bredjing!B346,\"\"))))","v":""},{"$f":"IF($B$10=\"Farchana\",Farchana!C327,IF($B$10=\"Gaga\",Gaga!C346,IF($B$10=\"Treguine\",Treguine!C346,IF($B$10=\"Bredjing\",Bredjing!C346,\"\"))))","v":""},null,null,{"$f":"IF($B$10=\"Farchana\",Farchana!G327,IF($B$10=\"Gaga\",Gaga!I346,IF($B$10=\"Treguine\",Treguine!G346,IF($B$10=\"Bredjing\",Bredjing!G346,\"\"))))","v":""}]
[{"$f":"IF($B$10=\"Farchana\",Farchana!A328,IF($B$10=\"Gaga\",Gaga!A347,IF($B$10=\"Treguine\",Treguine!A347,IF($B$10=\"Bredjing\",Bredjing!A347,\"\"))))","v":""},{"$f":"IF($B$10=\"Farchana\",Farchana!B328,IF($B$10=\"Gaga\",Gaga!B347,IF($B$10=\"Treguine\",Treguine!B347,IF($B$10=\"Bredjing\",Bredjing!B347,\"\"))))","v":""},{"$f":"IF($B$10=\"Farchana\",Farchana!C328,IF($B$10=\"Gaga\",Gaga!C347,IF($B$10=\"Treguine\",Treguine!C347,IF($B$10=\"Bredjing\",Bredjing!C347,\"\"))))","v":""},null,null,{"$f":"IF($B$10=\"Farchana\",Farchana!G328,IF($B$10=\"Gaga\",Gaga!I347,IF($B$10=\"Treguine\",Treguine!G347,IF($B$10=\"Bredjing\",Bredjing!G347,\"\"))))","v":""}]
[{"$f":"IF($B$10=\"Farchana\",Farchana!A329,IF($B$10=\"Gaga\",Gaga!A348,IF($B$10=\"Treguine\",Treguine!A348,IF($B$10=\"Bredjing\",Bredjing!A348,\"\"))))","v":""},{"$f":"IF($B$10=\"Farchana\",Farchana!B329,IF($B$10=\"Gaga\",Gaga!B348,IF($B$10=\"Treguine\",Treguine!B348,IF($B$10=\"Bredjing\",Bredjing!B348,\"\"))))","v":""},{"$f":"IF($B$10=\"Farchana\",Farchana!C329,IF($B$10=\"Gaga\",Gaga!C348,IF($B$10=\"Treguine\",Treguine!C348,IF($B$10=\"Bredjing\",Bredjing!C348,\"\"))))","v":""},null,null,{"$f":"IF($B$10=\"Farchana\",Farchana!G329,IF($B$10=\"Gaga\",Gaga!I348,IF($B$10=\"Treguine\",Treguine!G348,IF($B$10=\"Bredjing\",Bredjing!G348,\"\"))))","v":""}]
[{"$f":"IF($B$10=\"Farchana\",Farchana!A330,IF($B$10=\"Gaga\",Gaga!A349,IF($B$10=\"Treguine\",Treguine!A349,IF($B$10=\"Bredjing\",Bredjing!A349,\"\"))))","v":""},{"$f":"IF($B$10=\"Farchana\",Farchana!B330,IF($B$10=\"Gaga\",Gaga!B349,IF($B$10=\"Treguine\",Treguine!B349,IF($B$10=\"Bredjing\",Bredjing!B349,\"\"))))","v":""},{"$f":"IF($B$10=\"Farchana\",Farchana!C330,IF($B$10=\"Gaga\",Gaga!C349,IF($B$10=\"Treguine\",Treguine!C349,IF($B$10=\"Bredjing\",Bredjing!C349,\"\"))))","v":""},null,null,{"$f":"IF($B$10=\"Farchana\",Farchana!G330,IF($B$10=\"Gaga\",Gaga!I349,IF($B$10=\"Treguine\",Treguine!G349,IF($B$10=\"Bredjing\",Bredjing!G349,\"\"))))","v":""}]
[{"$f":"IF($B$10=\"Farchana\",Farchana!A331,IF($B$10=\"Gaga\",Gaga!A350,IF($B$10=\"Treguine\",Treguine!A350,IF($B$10=\"Bredjing\",Bredjing!A350,\"\"))))","v":""},{"$f":"IF($B$10=\"Farchana\",Farchana!B331,IF($B$10=\"Gaga\",Gaga!B350,IF($B$10=\"Treguine\",Treguine!B350,IF($B$10=\"Bredjing\",Bredjing!B350,\"\"))))","v":""},{"$f":"IF($B$10=\"Farchana\",Farchana!C331,IF($B$10=\"Gaga\",Gaga!C350,IF($B$10=\"Treguine\",Treguine!C350,IF($B$10=\"Bredjing\",Bredjing!C350,\"\"))))","v":""},null,null,{"$f":"IF($B$10=\"Farchana\",Farchana!G331,IF($B$10=\"Gaga\",Gaga!I350,IF($B$10=\"Treguine\",Treguine!G350,IF($B$10=\"Bredjing\",Bredjing!G350,\"\"))))","v":""}]
[{"$f":"IF($B$10=\"Farchana\",Farchana!A332,IF($B$10=\"Gaga\",Gaga!A351,IF($B$10=\"Treguine\",Treguine!A351,IF($B$10=\"Bredjing\",Bredjing!A351,\"\"))))","v":""},{"$f":"IF($B$10=\"Farchana\",Farchana!B332,IF($B$10=\"Gaga\",Gaga!B351,IF($B$10=\"Treguine\",Treguine!B351,IF($B$10=\"Bredjing\",Bredjing!B351,\"\"))))","v":""},{"$f":"IF($B$10=\"Farchana\",Farchana!C332,IF($B$10=\"Gaga\",Gaga!C351,IF($B$10=\"Treguine\",Treguine!C351,IF($B$10=\"Bredjing\",Bredjing!C351,\"\"))))","v":""},null,null,{"$f":"IF($B$10=\"Farchana\",Farchana!G332,IF($B$10=\"Gaga\",Gaga!I351,IF($B$10=\"Treguine\",Treguine!G351,IF($B$10=\"Bredjing\",Bredjing!G351,\"\"))))","v":""}]
[{"$f":"IF($B$10=\"Farchana\",Farchana!A333,IF($B$10=\"Gaga\",Gaga!A352,IF($B$10=\"Treguine\",Treguine!A352,IF($B$10=\"Bredjing\",Bredjing!A352,\"\"))))","v":""},{"$f":"IF($B$10=\"Farchana\",Farchana!B333,IF($B$10=\"Gaga\",Gaga!B352,IF($B$10=\"Treguine\",Treguine!B352,IF($B$10=\"Bredjing\",Bredjing!B352,\"\"))))","v":""},{"$f":"IF($B$10=\"Farchana\",Farchana!C333,IF($B$10=\"Gaga\",Gaga!C352,IF($B$10=\"Treguine\",Treguine!C352,IF($B$10=\"Bredjing\",Bredjing!C352,\"\"))))","v":""},null,null,{"$f":"IF($B$10=\"Farchana\",Farchana!G333,IF($B$10=\"Gaga\",Gaga!I352,IF($B$10=\"Treguine\",Treguine!G352,IF($B$10=\"Bredjing\",Bredjing!G352,\"\"))))","v":""}]
[{"$f":"IF($B$10=\"Farchana\",Farchana!A334,IF($B$10=\"Gaga\",Gaga!A353,IF($B$10=\"Treguine\",Treguine!A353,IF($B$10=\"Bredjing\",Bredjing!A353,\"\"))))","v":""},{"$f":"IF($B$10=\"Farchana\",Farchana!B334,IF($B$10=\"Gaga\",Gaga!B353,IF($B$10=\"Treguine\",Treguine!B353,IF($B$10=\"Bredjing\",Bredjing!B353,\"\"))))","v":""},{"$f":"IF($B$10=\"Farchana\",Farchana!C334,IF($B$10=\"Gaga\",Gaga!C353,IF($B$10=\"Treguine\",Treguine!C353,IF($B$10=\"Bredjing\",Bredjing!C353,\"\"))))","v":""},null,null,{"$f":"IF($B$10=\"Farchana\",Farchana!G334,IF($B$10=\"Gaga\",Gaga!I353,IF($B$10=\"Treguine\",Treguine!G353,IF($B$10=\"Bredjing\",Bredjing!G353,\"\"))))","v":""}]
[{"$f":"IF($B$10=\"Farchana\",Farchana!A335,IF($B$10=\"Gaga\",Gaga!A354,IF($B$10=\"Treguine\",Treguine!A354,IF($B$10=\"Bredjing\",Bredjing!A354,\"\"))))","v":""},{"$f":"IF($B$10=\"Farchana\",Farchana!B335,IF($B$10=\"Gaga\",Gaga!B354,IF($B$10=\"Treguine\",Treguine!B354,IF($B$10=\"Bredjing\",Bredjing!B354,\"\"))))","v":""},{"$f":"IF($B$10=\"Farchana\",Farchana!C335,IF($B$10=\"Gaga\",Gaga!C354,IF($B$10=\"Treguine\",Treguine!C354,IF($B$10=\"Bredjing\",Bredjing!C354,\"\"))))","v":""},null,null,{"$f":"IF($B$10=\"Farchana\",Farchana!G335,IF($B$10=\"Gaga\",Gaga!I354,IF($B$10=\"Treguine\",Treguine!G354,IF($B$10=\"Bredjing\",Bredjing!G354,\"\"))))","v":""}]
[{"$f":"IF($B$10=\"Farchana\",Farchana!A336,IF($B$10=\"Gaga\",Gaga!A355,IF($B$10=\"Treguine\",Treguine!A355,IF($B$10=\"Bredjing\",Bredjing!A355,\"\"))))","v":""},{"$f":"IF($B$10=\"Farchana\",Farchana!B336,IF($B$10=\"Gaga\",Gaga!B355,IF($B$10=\"Treguine\",Treguine!B355,IF($B$10=\"Bredjing\",Bredjing!B355,\"\"))))","v":""},{"$f":"IF($B$10=\"Farchana\",Farchana!C336,IF($B$10=\"Gaga\",Gaga!C355,IF($B$10=\"Treguine\",Treguine!C355,IF($B$10=\"Bredjing\",Bredjing!C355,\"\"))))","v":""},null,null,{"$f":"IF($B$10=\"Farchana\",Farchana!G336,IF($B$10=\"Gaga\",Gaga!I355,IF($B$10=\"Treguine\",Treguine!G355,IF($B$10=\"Bredjing\",Bredjing!G355,\"\"))))","v":""}]
[{"$f":"IF($B$10=\"Farchana\",Farchana!A337,IF($B$10=\"Gaga\",Gaga!A356,IF($B$10=\"Treguine\",Treguine!A356,IF($B$10=\"Bredjing\",Bredjing!A356,\"\"))))","v":""},{"$f":"IF($B$10=\"Farchana\",Farchana!B337,IF($B$10=\"Gaga\",Gaga!B356,IF($B$10=\"Treguine\",Treguine!B356,IF($B$10=\"Bredjing\",Bredjing!B356,\"\"))))","v":""},{"$f":"IF($B$10=\"Farchana\",Farchana!C337,IF($B$10=\"Gaga\",Gaga!C356,IF($B$10=\"Treguine\",Treguine!C356,IF($B$10=\"Bredjing\",Bredjing!C356,\"\"))))","v":""},null,null,{"$f":"IF($B$10=\"Farchana\",Farchana!G337,IF($B$10=\"Gaga\",Gaga!I356,IF($B$10=\"Treguine\",Treguine!G356,IF($B$10=\"Bredjing\",Bredjing!G356,\"\"))))","v":""}]
[{"$f":"IF($B$10=\"Farchana\",Farchana!A338,IF($B$10=\"Gaga\",Gaga!A357,IF($B$10=\"Treguine\",Treguine!A357,IF($B$10=\"Bredjing\",Bredjing!A357,\"\"))))","v":""},{"$f":"IF($B$10=\"Farchana\",Farchana!B338,IF($B$10=\"Gaga\",Gaga!B357,IF($B$10=\"Treguine\",Treguine!B357,IF($B$10=\"Bredjing\",Bredjing!B357,\"\"))))","v":""},{"$f":"IF($B$10=\"Farchana\",Farchana!C338,IF($B$10=\"Gaga\",Gaga!C357,IF($B$10=\"Treguine\",Treguine!C357,IF($B$10=\"Bredjing\",Bredjing!C357,\"\"))))","v":""},null,null,{"$f":"IF($B$10=\"Farchana\",Farchana!G338,IF($B$10=\"Gaga\",Gaga!I357,IF($B$10=\"Treguine\",Treguine!G357,IF($B$10=\"Bredjing\",Bredjing!G357,\"\"))))","v":""}]
[{"$f":"IF($B$10=\"Farchana\",Farchana!A339,IF($B$10=\"Gaga\",Gaga!A358,IF($B$10=\"Treguine\",Treguine!A358,IF($B$10=\"Bredjing\",Bredjing!A358,\"\"))))","v":""},{"$f":"IF($B$10=\"Farchana\",Farchana!B339,IF($B$10=\"Gaga\",Gaga!B358,IF($B$10=\"Treguine\",Treguine!B358,IF($B$10=\"Bredjing\",Bredjing!B358,\"\"))))","v":""},{"$f":"IF($B$10=\"Farchana\",Farchana!C339,IF($B$10=\"Gaga\",Gaga!C358,IF($B$10=\"Treguine\",Treguine!C358,IF($B$10=\"Bredjing\",Bredjing!C358,\"\"))))","v":""},null,null,{"$f":"IF($B$10=\"Farchana\",Farchana!G339,IF($B$10=\"Gaga\",Gaga!I358,IF($B$10=\"Treguine\",Treguine!G358,IF($B$10=\"Bredjing\",Bredjing!G358,\"\"))))","v":""}]
[{"$f":"IF($B$10=\"Farchana\",Farchana!A340,IF($B$10=\"Gaga\",Gaga!A359,IF($B$10=\"Treguine\",Treguine!A359,IF($B$10=\"Bredjing\",Bredjing!A359,\"\"))))","v":""},{"$f":"IF($B$10=\"Farchana\",Farchana!B340,IF($B$10=\"Gaga\",Gaga!B359,IF($B$10=\"Treguine\",Treguine!B359,IF($B$10=\"Bredjing\",Bredjing!B359,\"\"))))","v":""},{"$f":"IF($B$10=\"Farchana\",Farchana!C340,IF($B$10=\"Gaga\",Gaga!C359,IF($B$10=\"Treguine\",Treguine!C359,IF($B$10=\"Bredjing\",Bredjing!C359,\"\"))))","v":""},null,null,{"$f":"IF($B$10=\"Farchana\",Farchana!G340,IF($B$10=\"Gaga\",Gaga!I359,IF($B$10=\"Treguine\",Treguine!G359,IF($B$10=\"Bredjing\",Bredjing!G359,\"\"))))","v":""}]
[{"$f":"IF($B$10=\"Farchana\",Farchana!A341,IF($B$10=\"Gaga\",Gaga!A360,IF($B$10=\"Treguine\",Treguine!A360,IF($B$10=\"Bredjing\",Bredjing!A360,\"\"))))","v":""},{"$f":"IF($B$10=\"Farchana\",Farchana!B341,IF($B$10=\"Gaga\",Gaga!B360,IF($B$10=\"Treguine\",Treguine!B360,IF($B$10=\"Bredjing\",Bredjing!B360,\"\"))))","v":""},{"$f":"IF($B$10=\"Farchana\",Farchana!C341,IF($B$10=\"Gaga\",Gaga!C360,IF($B$10=\"Treguine\",Treguine!C360,IF($B$10=\"Bredjing\",Bredjing!C360,\"\"))))","v":""},null,null,{"$f":"IF($B$10=\"Farchana\",Farchana!G341,IF($B$10=\"Gaga\",Gaga!I360,IF($B$10=\"Treguine\",Treguine!G360,IF($B$10=\"Bredjing\",Bredjing!G360,\"\"))))","v":""}]
[{"$f":"IF($B$10=\"Farchana\",Farchana!A342,IF($B$10=\"Gaga\",Gaga!A361,IF($B$10=\"Treguine\",Treguine!A361,IF($B$10=\"Bredjing\",Bredjing!A361,\"\"))))","v":""},{"$f":"IF($B$10=\"Farchana\",Farchana!B342,IF($B$10=\"Gaga\",Gaga!B361,IF($B$10=\"Treguine\",Treguine!B361,IF($B$10=\"Bredjing\",Bredjing!B361,\"\"))))","v":""},{"$f":"IF($B$10=\"Farchana\",Farchana!C342,IF($B$10=\"Gaga\",Gaga!C361,IF($B$10=\"Treguine\",Treguine!C361,IF($B$10=\"Bredjing\",Bredjing!C361,\"\"))))","v":""},null,null,{"$f":"IF($B$10=\"Farchana\",Farchana!G342,IF($B$10=\"Gaga\",Gaga!I361,IF($B$10=\"Treguine\",Treguine!G361,IF($B$10=\"Bredjing\",Bredjing!G361,\"\"))))","v":""}]
[{"$f":"IF($B$10=\"Farchana\",Farchana!A343,IF($B$10=\"Gaga\",Gaga!A362,IF($B$10=\"Treguine\",Treguine!A362,IF($B$10=\"Bredjing\",Bredjing!A362,\"\"))))","v":""},{"$f":"IF($B$10=\"Farchana\",Farchana!B343,IF($B$10=\"Gaga\",Gaga!B362,IF($B$10=\"Treguine\",Treguine!B362,IF($B$10=\"Bredjing\",Bredjing!B362,\"\"))))","v":""},{"$f":"IF($B$10=\"Farchana\",Farchana!C343,IF($B$10=\"Gaga\",Gaga!C362,IF($B$10=\"Treguine\",Treguine!C362,IF($B$10=\"Bredjing\",Bredjing!C362,\"\"))))","v":""},null,null,{"$f":"IF($B$10=\"Farchana\",Farchana!G343,IF($B$10=\"Gaga\",Gaga!I362,IF($B$10=\"Treguine\",Treguine!G362,IF($B$10=\"Bredjing\",Bredjing!G362,\"\"))))","v":""}]
[{"$f":"IF($B$10=\"Farchana\",Farchana!A344,IF($B$10=\"Gaga\",Gaga!A363,IF($B$10=\"Treguine\",Treguine!A363,IF($B$10=\"Bredjing\",Bredjing!A363,\"\"))))","v":""},{"$f":"IF($B$10=\"Farchana\",Farchana!B344,IF($B$10=\"Gaga\",Gaga!B363,IF($B$10=\"Treguine\",Treguine!B363,IF($B$10=\"Bredjing\",Bredjing!B363,\"\"))))","v":""},{"$f":"IF($B$10=\"Farchana\",Farchana!C344,IF($B$10=\"Gaga\",Gaga!C363,IF($B$10=\"Treguine\",Treguine!C363,IF($B$10=\"Bredjing\",Bredjing!C363,\"\"))))","v":""},null,null,{"$f":"IF($B$10=\"Farchana\",Farchana!G344,IF($B$10=\"Gaga\",Gaga!I363,IF($B$10=\"Treguine\",Treguine!G363,IF($B$10=\"Bredjing\",Bredjing!G363,\"\"))))","v":""}]
[{"$f":"IF($B$10=\"Farchana\",Farchana!A345,IF($B$10=\"Gaga\",Gaga!A364,IF($B$10=\"Treguine\",Treguine!A364,IF($B$10=\"Bredjing\",Bredjing!A364,\"\"))))","v":""},{"$f":"IF($B$10=\"Farchana\",Farchana!B345,IF($B$10=\"Gaga\",Gaga!B364,IF($B$10=\"Treguine\",Treguine!B364,IF($B$10=\"Bredjing\",Bredjing!B364,\"\"))))","v":""},{"$f":"IF($B$10=\"Farchana\",Farchana!C345,IF($B$10=\"Gaga\",Gaga!C364,IF($B$10=\"Treguine\",Treguine!C364,IF($B$10=\"Bredjing\",Bredjing!C364,\"\"))))","v":""},null,null,{"$f":"IF($B$10=\"Farchana\",Farchana!G345,IF($B$10=\"Gaga\",Gaga!I364,IF($B$10=\"Treguine\",Treguine!G364,IF($B$10=\"Bredjing\",Bredjing!G364,\"\"))))","v":""}]
[{"$f":"IF($B$10=\"Farchana\",Farchana!A346,IF($B$10=\"Gaga\",Gaga!A365,IF($B$10=\"Treguine\",Treguine!A365,IF($B$10=\"Bredjing\",Bredjing!A365,\"\"))))","v":""},{"$f":"IF($B$10=\"Farchana\",Farchana!B346,IF($B$10=\"Gaga\",Gaga!B365,IF($B$10=\"Treguine\",Treguine!B365,IF($B$10=\"Bredjing\",Bredjing!B365,\"\"))))","v":""},{"$f":"IF($B$10=\"Farchana\",Farchana!C346,IF($B$10=\"Gaga\",Gaga!C365,IF($B$10=\"Treguine\",Treguine!C365,IF($B$10=\"Bredjing\",Bredjing!C365,\"\"))))","v":""},null,null,{"$f":"IF($B$10=\"Farchana\",Farchana!G346,IF($B$10=\"Gaga\",Gaga!I365,IF($B$10=\"Treguine\",Treguine!G365,IF($B$10=\"Bredjing\",Bredjing!G365,\"\"))))","v":""}]
[{"$f":"IF($B$10=\"Farchana\",Farchana!A347,IF($B$10=\"Gaga\",Gaga!A366,IF($B$10=\"Treguine\",Treguine!A366,IF($B$10=\"Bredjing\",Bredjing!A366,\"\"))))","v":""},{"$f":"IF($B$10=\"Farchana\",Farchana!B347,IF($B$10=\"Gaga\",Gaga!B366,IF($B$10=\"Treguine\",Treguine!B366,IF($B$10=\"Bredjing\",Bredjing!B366,\"\"))))","v":""},{"$f":"IF($B$10=\"Farchana\",Farchana!C347,IF($B$10=\"Gaga\",Gaga!C366,IF($B$10=\"Treguine\",Treguine!C366,IF($B$10=\"Bredjing\",Bredjing!C366,\"\"))))","v":""},null,null,{"$f":"IF($B$10=\"Farchana\",Farchana!G347,IF($B$10=\"Gaga\",Gaga!I366,IF($B$10=\"Treguine\",Treguine!G366,IF($B$10=\"Bredjing\",Bredjing!G366,\"\"))))","v":""}]
[{"$f":"IF($B$10=\"Farchana\",Farchana!A348,IF($B$10=\"Gaga\",Gaga!A367,IF($B$10=\"Treguine\",Treguine!A367,IF($B$10=\"Bredjing\",Bredjing!A367,\"\"))))","v":""},{"$f":"IF($B$10=\"Farchana\",Farchana!B348,IF($B$10=\"Gaga\",Gaga!B367,IF($B$10=\"Treguine\",Treguine!B367,IF($B$10=\"Bredjing\",Bredjing!B367,\"\"))))","v":""},{"$f":"IF($B$10=\"Farchana\",Farchana!C348,IF($B$10=\"Gaga\",Gaga!C367,IF($B$10=\"Treguine\",Treguine!C367,IF($B$10=\"Bredjing\",Bredjing!C367,\"\"))))","v":""},null,null,{"$f":"IF($B$10=\"Farchana\",Farchana!G348,IF($B$10=\"Gaga\",Gaga!I367,IF($B$10=\"Treguine\",Treguine!G367,IF($B$10=\"Bredjing\",Bredjing!G367,\"\"))))","v":""}]
[{"$f":"IF($B$10=\"Farchana\",Farchana!A349,IF($B$10=\"Gaga\",Gaga!A368,IF($B$10=\"Treguine\",Treguine!A368,IF($B$10=\"Bredjing\",Bredjing!A368,\"\"))))","v":""},{"$f":"IF($B$10=\"Farchana\",Farchana!B349,IF($B$10=\"Gaga\",Gaga!B368,IF($B$10=\"Treguine\",Treguine!B368,IF($B$10=\"Bredjing\",Bredjing!B368,\"\"))))","v":""},{"$f":"IF($B$10=\"Farchana\",Farchana!C349,IF($B$10=\"Gaga\",Gaga!C368,IF($B$10=\"Treguine\",Treguine!C368,IF($B$10=\"Bredjing\",Bredjing!C368,\"\"))))","v":""},null,null,{"$f":"IF($B$10=\"Farchana\",Farchana!G349,IF($B$10=\"Gaga\",Gaga!I368,IF($B$10=\"Treguine\",Treguine!G368,IF($B$10=\"Bredjing\",Bredjing!G368,\"\"))))","v":""}]
[{"$f":"IF($B$10=\"Farchana\",Farchana!A350,IF($B$10=\"Gaga\",Gaga!A369,IF($B$10=\"Treguine\",Treguine!A369,IF($B$10=\"Bredjing\",Bredjing!A369,\"\"))))","v":""},{"$f":"IF($B$10=\"Farchana\",Farchana!B350,IF($B$10=\"Gaga\",Gaga!B369,IF($B$10=\"Treguine\",Treguine!B369,IF($B$10=\"Bredjing\",Bredjing!B369,\"\"))))","v":""},{"$f":"IF($B$10=\"Farchana\",Farchana!C350,IF($B$10=\"Gaga\",Gaga!C369,IF($B$10=\"Treguine\",Treguine!C369,IF($B$10=\"Bredjing\",Bredjing!C369,\"\"))))","v":""},null,null,{"$f":"IF($B$10=\"Farchana\",Farchana!G350,IF($B$10=\"Gaga\",Gaga!I369,IF($B$10=\"Treguine\",Treguine!G369,IF($B$10=\"Bredjing\",Bredjing!G369,\"\"))))","v":""}]
[{"$f":"IF($B$10=\"Farchana\",Farchana!A351,IF($B$10=\"Gaga\",Gaga!A370,IF($B$10=\"Treguine\",Treguine!A370,IF($B$10=\"Bredjing\",Bredjing!A370,\"\"))))","v":""},{"$f":"IF($B$10=\"Farchana\",Farchana!B351,IF($B$10=\"Gaga\",Gaga!B370,IF($B$10=\"Treguine\",Treguine!B370,IF($B$10=\"Bredjing\",Bredjing!B370,\"\"))))","v":""},{"$f":"IF($B$10=\"Farchana\",Farchana!C351,IF($B$10=\"Gaga\",Gaga!C370,IF($B$10=\"Treguine\",Treguine!C370,IF($B$10=\"Bredjing\",Bredjing!C370,\"\"))))","v":""},null,null,{"$f":"IF($B$10=\"Farchana\",Farchana!G351,IF($B$10=\"Gaga\",Gaga!I370,IF($B$10=\"Treguine\",Treguine!G370,IF($B$10=\"Bredjing\",Bredjing!G370,\"\"))))","v":""}]
[{"$f":"IF($B$10=\"Farchana\",Farchana!A352,IF($B$10=\"Gaga\",Gaga!A371,IF($B$10=\"Treguine\",Treguine!A371,IF($B$10=\"Bredjing\",Bredjing!A371,\"\"))))","v":""},{"$f":"IF($B$10=\"Farchana\",Farchana!B352,IF($B$10=\"Gaga\",Gaga!B371,IF($B$10=\"Treguine\",Treguine!B371,IF($B$10=\"Bredjing\",Bredjing!B371,\"\"))))","v":""},{"$f":"IF($B$10=\"Farchana\",Farchana!C352,IF($B$10=\"Gaga\",Gaga!C371,IF($B$10=\"Treguine\",Treguine!C371,IF($B$10=\"Bredjing\",Bredjing!C371,\"\"))))","v":""},null,null,{"$f":"IF($B$10=\"Farchana\",Farchana!G352,IF($B$10=\"Gaga\",Gaga!I371,IF($B$10=\"Treguine\",Treguine!G371,IF($B$10=\"Bredjing\",Bredjing!G371,\"\"))))","v":""}]
[{"$f":"IF($B$10=\"Farchana\",Farchana!A353,IF($B$10=\"Gaga\",Gaga!A372,IF($B$10=\"Treguine\",Treguine!A372,IF($B$10=\"Bredjing\",Bredjing!A372,\"\"))))","v":""},{"$f":"IF($B$10=\"Farchana\",Farchana!B353,IF($B$10=\"Gaga\",Gaga!B372,IF($B$10=\"Treguine\",Treguine!B372,IF($B$10=\"Bredjing\",Bredjing!B372,\"\"))))","v":""},{"$f":"IF($B$10=\"Farchana\",Farchana!C353,IF($B$10=\"Gaga\",Gaga!C372,IF($B$10=\"Treguine\",Treguine!C372,IF($B$10=\"Bredjing\",Bredjing!C372,\"\"))))","v":""},null,null,{"$f":"IF($B$10=\"Farchana\",Farchana!G353,IF($B$10=\"Gaga\",Gaga!I372,IF($B$10=\"Treguine\",Treguine!G372,IF($B$10=\"Bredjing\",Bredjing!G372,\"\"))))","v":""}]
[{"$f":"IF($B$10=\"Farchana\",Farchana!A354,IF($B$10=\"Gaga\",Gaga!A373,IF($B$10=\"Treguine\",Treguine!A373,IF($B$10=\"Bredjing\",Bredjing!A373,\"\"))))","v":""},{"$f":"IF($B$10=\"Farchana\",Farchana!B354,IF($B$10=\"Gaga\",Gaga!B373,IF($B$10=\"Treguine\",Treguine!B373,IF($B$10=\"Bredjing\",Bredjing!B373,\"\"))))","v":""},{"$f":"IF($B$10=\"Farchana\",Farchana!C354,IF($B$10=\"Gaga\",Gaga!C373,IF($B$10=\"Treguine\",Treguine!C373,IF($B$10=\"Bredjing\",Bredjing!C373,\"\"))))","v":""},null,null,{"$f":"IF($B$10=\"Farchana\",Farchana!G354,IF($B$10=\"Gaga\",Gaga!I373,IF($B$10=\"Treguine\",Treguine!G373,IF($B$10=\"Bredjing\",Bredjing!G373,\"\"))))","v":""}]
[{"$f":"IF($B$10=\"Farchana\",Farchana!A355,IF($B$10=\"Gaga\",Gaga!A374,IF($B$10=\"Treguine\",Treguine!A374,IF($B$10=\"Bredjing\",Bredjing!A374,\"\"))))","v":""},{"$f":"IF($B$10=\"Farchana\",Farchana!B355,IF($B$10=\"Gaga\",Gaga!B374,IF($B$10=\"Treguine\",Treguine!B374,IF($B$10=\"Bredjing\",Bredjing!B374,\"\"))))","v":""},{"$f":"IF($B$10=\"Farchana\",Farchana!C355,IF($B$10=\"Gaga\",Gaga!C374,IF($B$10=\"Treguine\",Treguine!C374,IF($B$10=\"Bredjing\",Bredjing!C374,\"\"))))","v":""},null,null,{"$f":"IF($B$10=\"Farchana\",Farchana!G355,IF($B$10=\"Gaga\",Gaga!I374,IF($B$10=\"Treguine\",Treguine!G374,IF($B$10=\"Bredjing\",Bredjing!G374,\"\"))))","v":""}]
[{"$f":"IF($B$10=\"Farchana\",Farchana!A356,IF($B$10=\"Gaga\",Gaga!A375,IF($B$10=\"Treguine\",Treguine!A375,IF($B$10=\"Bredjing\",Bredjing!A375,\"\"))))","v":""},{"$f":"IF($B$10=\"Farchana\",Farchana!B356,IF($B$10=\"Gaga\",Gaga!B375,IF($B$10=\"Treguine\",Treguine!B375,IF($B$10=\"Bredjing\",Bredjing!B375,\"\"))))","v":""},{"$f":"IF($B$10=\"Farchana\",Farchana!C356,IF($B$10=\"Gaga\",Gaga!C375,IF($B$10=\"Treguine\",Treguine!C375,IF($B$10=\"Bredjing\",Bredjing!C375,\"\"))))","v":""},null,null,{"$f":"IF($B$10=\"Farchana\",Farchana!G356,IF($B$10=\"Gaga\",Gaga!I375,IF($B$10=\"Treguine\",Treguine!G375,IF($B$10=\"Bredjing\",Bredjing!G375,\"\"))))","v":""}]
[{"$f":"IF($B$10=\"Farchana\",Farchana!A357,IF($B$10=\"Gaga\",Gaga!A376,IF($B$10=\"Treguine\",Treguine!A376,IF($B$10=\"Bredjing\",Bredjing!A376,\"\"))))","v":""},{"$f":"IF($B$10=\"Farchana\",Farchana!B357,IF($B$10=\"Gaga\",Gaga!B376,IF($B$10=\"Treguine\",Treguine!B376,IF($B$10=\"Bredjing\",Bredjing!B376,\"\"))))","v":""},{"$f":"IF($B$10=\"Farchana\",Farchana!C357,IF($B$10=\"Gaga\",Gaga!C376,IF($B$10=\"Treguine\",Treguine!C376,IF($B$10=\"Bredjing\",Bredjing!C376,\"\"))))","v":""},null,null,{"$f":"IF($B$10=\"Farchana\",Farchana!G357,IF($B$10=\"Gaga\",Gaga!I376,IF($B$10=\"Treguine\",Treguine!G376,IF($B$10=\"Bredjing\",Bredjing!G376,\"\"))))","v":""}]
[{"$f":"IF($B$10=\"Farchana\",Farchana!A358,IF($B$10=\"Gaga\",Gaga!A377,IF($B$10=\"Treguine\",Treguine!A377,IF($B$10=\"Bredjing\",Bredjing!A377,\"\"))))","v":""},{"$f":"IF($B$10=\"Farchana\",Farchana!B358,IF($B$10=\"Gaga\",Gaga!B377,IF($B$10=\"Treguine\",Treguine!B377,IF($B$10=\"Bredjing\",Bredjing!B377,\"\"))))","v":""},{"$f":"IF($B$10=\"Farchana\",Farchana!C358,IF($B$10=\"Gaga\",Gaga!C377,IF($B$10=\"Treguine\",Treguine!C377,IF($B$10=\"Bredjing\",Bredjing!C377,\"\"))))","v":""},null,null,{"$f":"IF($B$10=\"Farchana\",Farchana!G358,IF($B$10=\"Gaga\",Gaga!I377,IF($B$10=\"Treguine\",Treguine!G377,IF($B$10=\"Bredjing\",Bredjing!G377,\"\"))))","v":""}]
[{"$f":"IF($B$10=\"Farchana\",Farchana!A359,IF($B$10=\"Gaga\",Gaga!A378,IF($B$10=\"Treguine\",Treguine!A378,IF($B$10=\"Bredjing\",Bredjing!A378,\"\"))))","v":""},{"$f":"IF($B$10=\"Farchana\",Farchana!B359,IF($B$10=\"Gaga\",Gaga!B378,IF($B$10=\"Treguine\",Treguine!B378,IF($B$10=\"Bredjing\",Bredjing!B378,\"\"))))","v":""},{"$f":"IF($B$10=\"Farchana\",Farchana!C359,IF($B$10=\"Gaga\",Gaga!C378,IF($B$10=\"Treguine\",Treguine!C378,IF($B$10=\"Bredjing\",Bredjing!C378,\"\"))))","v":""},null,null,{"$f":"IF($B$10=\"Farchana\",Farchana!G359,IF($B$10=\"Gaga\",Gaga!I378,IF($B$10=\"Treguine\",Treguine!G378,IF($B$10=\"Bredjing\",Bredjing!G378,\"\"))))","v":""}]
[{"$f":"IF($B$10=\"Farchana\",Farchana!A360,IF($B$10=\"Gaga\",Gaga!A379,IF($B$10=\"Treguine\",Treguine!A379,IF($B$10=\"Bredjing\",Bredjing!A379,\"\"))))","v":""},{"$f":"IF($B$10=\"Farchana\",Farchana!B360,IF($B$10=\"Gaga\",Gaga!B379,IF($B$10=\"Treguine\",Treguine!B379,IF($B$10=\"Bredjing\",Bredjing!B379,\"\"))))","v":""},{"$f":"IF($B$10=\"Farchana\",Farchana!C360,IF($B$10=\"Gaga\",Gaga!C379,IF($B$10=\"Treguine\",Treguine!C379,IF($B$10=\"Bredjing\",Bredjing!C379,\"\"))))","v":""},null,null,{"$f":"IF($B$10=\"Farchana\",Farchana!G360,IF($B$10=\"Gaga\",Gaga!I379,IF($B$10=\"Treguine\",Treguine!G379,IF($B$10=\"Bredjing\",Bredjing!G379,\"\"))))","v":""}]
[{"$f":"IF($B$10=\"Farchana\",Farchana!A361,IF($B$10=\"Gaga\",Gaga!A380,IF($B$10=\"Treguine\",Treguine!A380,IF($B$10=\"Bredjing\",Bredjing!A380,\"\"))))","v":""},{"$f":"IF($B$10=\"Farchana\",Farchana!B361,IF($B$10=\"Gaga\",Gaga!B380,IF($B$10=\"Treguine\",Treguine!B380,IF($B$10=\"Bredjing\",Bredjing!B380,\"\"))))","v":""},{"$f":"IF($B$10=\"Farchana\",Farchana!C361,IF($B$10=\"Gaga\",Gaga!C380,IF($B$10=\"Treguine\",Treguine!C380,IF($B$10=\"Bredjing\",Bredjing!C380,\"\"))))","v":""},null,null,{"$f":"IF($B$10=\"Farchana\",Farchana!G361,IF($B$10=\"Gaga\",Gaga!I380,IF($B$10=\"Treguine\",Treguine!G380,IF($B$10=\"Bredjing\",Bredjing!G380,\"\"))))","v":""}]
[{"$f":"IF($B$10=\"Farchana\",Farchana!A362,IF($B$10=\"Gaga\",Gaga!A381,IF($B$10=\"Treguine\",Treguine!A381,IF($B$10=\"Bredjing\",Bredjing!A381,\"\"))))","v":""},{"$f":"IF($B$10=\"Farchana\",Farchana!B362,IF($B$10=\"Gaga\",Gaga!B381,IF($B$10=\"Treguine\",Treguine!B381,IF($B$10=\"Bredjing\",Bredjing!B381,\"\"))))","v":""},{"$f":"IF($B$10=\"Farchana\",Farchana!C362,IF($B$10=\"Gaga\",Gaga!C381,IF($B$10=\"Treguine\",Treguine!C381,IF($B$10=\"Bredjing\",Bredjing!C381,\"\"))))","v":""},null,null,{"$f":"IF($B$10=\"Farchana\",Farchana!G362,IF($B$10=\"Gaga\",Gaga!I381,IF($B$10=\"Treguine\",Treguine!G381,IF($B$10=\"Bredjing\",Bredjing!G381,\"\"))))","v":""}]
[{"$f":"IF($B$10=\"Farchana\",Farchana!A363,IF($B$10=\"Gaga\",Gaga!A382,IF($B$10=\"Treguine\",Treguine!A382,IF($B$10=\"Bredjing\",Bredjing!A382,\"\"))))","v":""},{"$f":"IF($B$10=\"Farchana\",Farchana!B363,IF($B$10=\"Gaga\",Gaga!B382,IF($B$10=\"Treguine\",Treguine!B382,IF($B$10=\"Bredjing\",Bredjing!B382,\"\"))))","v":""},{"$f":"IF($B$10=\"Farchana\",Farchana!C363,IF($B$10=\"Gaga\",Gaga!C382,IF($B$10=\"Treguine\",Treguine!C382,IF($B$10=\"Bredjing\",Bredjing!C382,\"\"))))","v":""},null,null,{"$f":"IF($B$10=\"Farchana\",Farchana!G363,IF($B$10=\"Gaga\",Gaga!I382,IF($B$10=\"Treguine\",Treguine!G382,IF($B$10=\"Bredjing\",Bredjing!G382,\"\"))))","v":""}]
[{"$f":"IF($B$10=\"Farchana\",Farchana!A364,IF($B$10=\"Gaga\",Gaga!A383,IF($B$10=\"Treguine\",Treguine!A383,IF($B$10=\"Bredjing\",Bredjing!A383,\"\"))))","v":""},{"$f":"IF($B$10=\"Farchana\",Farchana!B364,IF($B$10=\"Gaga\",Gaga!B383,IF($B$10=\"Treguine\",Treguine!B383,IF($B$10=\"Bredjing\",Bredjing!B383,\"\"))))","v":""},{"$f":"IF($B$10=\"Farchana\",Farchana!C364,IF($B$10=\"Gaga\",Gaga!C383,IF($B$10=\"Treguine\",Treguine!C383,IF($B$10=\"Bredjing\",Bredjing!C383,\"\"))))","v":""},null,null,{"$f":"IF($B$10=\"Farchana\",Farchana!G364,IF($B$10=\"Gaga\",Gaga!I383,IF($B$10=\"Treguine\",Treguine!G383,IF($B$10=\"Bredjing\",Bredjing!G383,\"\"))))","v":""}]
[{"$f":"IF($B$10=\"Farchana\",Farchana!A365,IF($B$10=\"Gaga\",Gaga!A384,IF($B$10=\"Treguine\",Treguine!A384,IF($B$10=\"Bredjing\",Bredjing!A384,\"\"))))","v":""},{"$f":"IF($B$10=\"Farchana\",Farchana!B365,IF($B$10=\"Gaga\",Gaga!B384,IF($B$10=\"Treguine\",Treguine!B384,IF($B$10=\"Bredjing\",Bredjing!B384,\"\"))))","v":""},{"$f":"IF($B$10=\"Farchana\",Farchana!C365,IF($B$10=\"Gaga\",Gaga!C384,IF($B$10=\"Treguine\",Treguine!C384,IF($B$10=\"Bredjing\",Bredjing!C384,\"\"))))","v":""},null,null,{"$f":"IF($B$10=\"Farchana\",Farchana!G365,IF($B$10=\"Gaga\",Gaga!I384,IF($B$10=\"Treguine\",Treguine!G384,IF($B$10=\"Bredjing\",Bredjing!G384,\"\"))))","v":""}]
[{"$f":"IF($B$10=\"Farchana\",Farchana!A366,IF($B$10=\"Gaga\",Gaga!A385,IF($B$10=\"Treguine\",Treguine!A385,IF($B$10=\"Bredjing\",Bredjing!A385,\"\"))))","v":""},{"$f":"IF($B$10=\"Farchana\",Farchana!B366,IF($B$10=\"Gaga\",Gaga!B385,IF($B$10=\"Treguine\",Treguine!B385,IF($B$10=\"Bredjing\",Bredjing!B385,\"\"))))","v":""},{"$f":"IF($B$10=\"Farchana\",Farchana!C366,IF($B$10=\"Gaga\",Gaga!C385,IF($B$10=\"Treguine\",Treguine!C385,IF($B$10=\"Bredjing\",Bredjing!C385,\"\"))))","v":""},null,null,{"$f":"IF($B$10=\"Farchana\",Farchana!G366,IF($B$10=\"Gaga\",Gaga!I385,IF($B$10=\"Treguine\",Treguine!G385,IF($B$10=\"Bredjing\",Bredjing!G385,\"\"))))","v":""}]
[{"$f":"IF($B$10=\"Farchana\",Farchana!A367,IF($B$10=\"Gaga\",Gaga!A386,IF($B$10=\"Treguine\",Treguine!A386,IF($B$10=\"Bredjing\",Bredjing!A386,\"\"))))","v":""},{"$f":"IF($B$10=\"Farchana\",Farchana!B367,IF($B$10=\"Gaga\",Gaga!B386,IF($B$10=\"Treguine\",Treguine!B386,IF($B$10=\"Bredjing\",Bredjing!B386,\"\"))))","v":""},{"$f":"IF($B$10=\"Farchana\",Farchana!C367,IF($B$10=\"Gaga\",Gaga!C386,IF($B$10=\"Treguine\",Treguine!C386,IF($B$10=\"Bredjing\",Bredjing!C386,\"\"))))","v":""},null,null,{"$f":"IF($B$10=\"Farchana\",Farchana!G367,IF($B$10=\"Gaga\",Gaga!I386,IF($B$10=\"Treguine\",Treguine!G386,IF($B$10=\"Bredjing\",Bredjing!G386,\"\"))))","v":""}]
[{"$f":"IF($B$10=\"Farchana\",Farchana!A368,IF($B$10=\"Gaga\",Gaga!A387,IF($B$10=\"Treguine\",Treguine!A387,IF($B$10=\"Bredjing\",Bredjing!A387,\"\"))))","v":""},{"$f":"IF($B$10=\"Farchana\",Farchana!B368,IF($B$10=\"Gaga\",Gaga!B387,IF($B$10=\"Treguine\",Treguine!B387,IF($B$10=\"Bredjing\",Bredjing!B387,\"\"))))","v":""},{"$f":"IF($B$10=\"Farchana\",Farchana!C368,IF($B$10=\"Gaga\",Gaga!C387,IF($B$10=\"Treguine\",Treguine!C387,IF($B$10=\"Bredjing\",Bredjing!C387,\"\"))))","v":""},null,null,{"$f":"IF($B$10=\"Farchana\",Farchana!G368,IF($B$10=\"Gaga\",Gaga!I387,IF($B$10=\"Treguine\",Treguine!G387,IF($B$10=\"Bredjing\",Bredjing!G387,\"\"))))","v":""}]
[{"$f":"IF($B$10=\"Farchana\",Farchana!A369,IF($B$10=\"Gaga\",Gaga!A388,IF($B$10=\"Treguine\",Treguine!A388,IF($B$10=\"Bredjing\",Bredjing!A388,\"\"))))","v":""},{"$f":"IF($B$10=\"Farchana\",Farchana!B369,IF($B$10=\"Gaga\",Gaga!B388,IF($B$10=\"Treguine\",Treguine!B388,IF($B$10=\"Bredjing\",Bredjing!B388,\"\"))))","v":""},{"$f":"IF($B$10=\"Farchana\",Farchana!C369,IF($B$10=\"Gaga\",Gaga!C388,IF($B$10=\"Treguine\",Treguine!C388,IF($B$10=\"Bredjing\",Bredjing!C388,\"\"))))","v":""},null,null,{"$f":"IF($B$10=\"Farchana\",Farchana!G369,IF($B$10=\"Gaga\",Gaga!I388,IF($B$10=\"Treguine\",Treguine!G388,IF($B$10=\"Bredjing\",Bredjing!G388,\"\"))))","v":""}]
[{"$f":"IF($B$10=\"Farchana\",Farchana!A370,IF($B$10=\"Gaga\",Gaga!A389,IF($B$10=\"Treguine\",Treguine!A389,IF($B$10=\"Bredjing\",Bredjing!A389,\"\"))))","v":""},{"$f":"IF($B$10=\"Farchana\",Farchana!B370,IF($B$10=\"Gaga\",Gaga!B389,IF($B$10=\"Treguine\",Treguine!B389,IF($B$10=\"Bredjing\",Bredjing!B389,\"\"))))","v":""},{"$f":"IF($B$10=\"Farchana\",Farchana!C370,IF($B$10=\"Gaga\",Gaga!C389,IF($B$10=\"Treguine\",Treguine!C389,IF($B$10=\"Bredjing\",Bredjing!C389,\"\"))))","v":""},null,null,{"$f":"IF($B$10=\"Farchana\",Farchana!G370,IF($B$10=\"Gaga\",Gaga!I389,IF($B$10=\"Treguine\",Treguine!G389,IF($B$10=\"Bredjing\",Bredjing!G389,\"\"))))","v":""}]
[{"$f":"IF($B$10=\"Farchana\",Farchana!A371,IF($B$10=\"Gaga\",Gaga!A390,IF($B$10=\"Treguine\",Treguine!A390,IF($B$10=\"Bredjing\",Bredjing!A390,\"\"))))","v":""},{"$f":"IF($B$10=\"Farchana\",Farchana!B371,IF($B$10=\"Gaga\",Gaga!B390,IF($B$10=\"Treguine\",Treguine!B390,IF($B$10=\"Bredjing\",Bredjing!B390,\"\"))))","v":""},{"$f":"IF($B$10=\"Farchana\",Farchana!C371,IF($B$10=\"Gaga\",Gaga!C390,IF($B$10=\"Treguine\",Treguine!C390,IF($B$10=\"Bredjing\",Bredjing!C390,\"\"))))","v":""},null,null,{"$f":"IF($B$10=\"Farchana\",Farchana!G371,IF($B$10=\"Gaga\",Gaga!I390,IF($B$10=\"Treguine\",Treguine!G390,IF($B$10=\"Bredjing\",Bredjing!G390,\"\"))))","v":""}]
[{"$f":"IF($B$10=\"Farchana\",Farchana!A372,IF($B$10=\"Gaga\",Gaga!A391,IF($B$10=\"Treguine\",Treguine!A391,IF($B$10=\"Bredjing\",Bredjing!A391,\"\"))))","v":""},{"$f":"IF($B$10=\"Farchana\",Farchana!B372,IF($B$10=\"Gaga\",Gaga!B391,IF($B$10=\"Treguine\",Treguine!B391,IF($B$10=\"Bredjing\",Bredjing!B391,\"\"))))","v":""},{"$f":"IF($B$10=\"Farchana\",Farchana!C372,IF($B$10=\"Gaga\",Gaga!C391,IF($B$10=\"Treguine\",Treguine!C391,IF($B$10=\"Bredjing\",Bredjing!C391,\"\"))))","v":""},null,null,{"$f":"IF($B$10=\"Farchana\",Farchana!G372,IF($B$10=\"Gaga\",Gaga!I391,IF($B$10=\"Treguine\",Treguine!G391,IF($B$10=\"Bredjing\",Bredjing!G391,\"\"))))","v":""}]
[{"$f":"IF($B$10=\"Farchana\",Farchana!A373,IF($B$10=\"Gaga\",Gaga!A392,IF($B$10=\"Treguine\",Treguine!A392,IF($B$10=\"Bredjing\",Bredjing!A392,\"\"))))","v":""},{"$f":"IF($B$10=\"Farchana\",Farchana!B373,IF($B$10=\"Gaga\",Gaga!B392,IF($B$10=\"Treguine\",Treguine!B392,IF($B$10=\"Bredjing\",Bredjing!B392,\"\"))))","v":""},{"$f":"IF($B$10=\"Farchana\",Farchana!C373,IF($B$10=\"Gaga\",Gaga!C392,IF($B$10=\"Treguine\",Treguine!C392,IF($B$10=\"Bredjing\",Bredjing!C392,\"\"))))","v":""},null,null,{"$f":"IF($B$10=\"Farchana\",Farchana!G373,IF($B$10=\"Gaga\",Gaga!I392,IF($B$10=\"Treguine\",Treguine!G392,IF($B$10=\"Bredjing\",Bredjing!G392,\"\"))))","v":""}]
[{"$f":"IF($B$10=\"Farchana\",Farchana!A374,IF($B$10=\"Gaga\",Gaga!A393,IF($B$10=\"Treguine\",Treguine!A393,IF($B$10=\"Bredjing\",Bredjing!A393,\"\"))))","v":""},{"$f":"IF($B$10=\"Farchana\",Farchana!B374,IF($B$10=\"Gaga\",Gaga!B393,IF($B$10=\"Treguine\",Treguine!B393,IF($B$10=\"Bredjing\",Bredjing!B393,\"\"))))","v":""},{"$f":"IF($B$10=\"Farchana\",Farchana!C374,IF($B$10=\"Gaga\",Gaga!C393,IF($B$10=\"Treguine\",Treguine!C393,IF($B$10=\"Bredjing\",Bredjing!C393,\"\"))))","v":""},null,null,{"$f":"IF($B$10=\"Farchana\",Farchana!G374,IF($B$10=\"Gaga\",Gaga!I393,IF($B$10=\"Treguine\",Treguine!G393,IF($B$10=\"Bredjing\",Bredjing!G393,\"\"))))","v":""}]
[{"$f":"IF($B$10=\"Farchana\",Farchana!A375,IF($B$10=\"Gaga\",Gaga!A394,IF($B$10=\"Treguine\",Treguine!A394,IF($B$10=\"Bredjing\",Bredjing!A394,\"\"))))","v":""},{"$f":"IF($B$10=\"Farchana\",Farchana!B375,IF($B$10=\"Gaga\",Gaga!B394,IF($B$10=\"Treguine\",Treguine!B394,IF($B$10=\"Bredjing\",Bredjing!B394,\"\"))))","v":""},{"$f":"IF($B$10=\"Farchana\",Farchana!C375,IF($B$10=\"Gaga\",Gaga!C394,IF($B$10=\"Treguine\",Treguine!C394,IF($B$10=\"Bredjing\",Bredjing!C394,\"\"))))","v":""},null,null,{"$f":"IF($B$10=\"Farchana\",Farchana!G375,IF($B$10=\"Gaga\",Gaga!I394,IF($B$10=\"Treguine\",Treguine!G394,IF($B$10=\"Bredjing\",Bredjing!G394,\"\"))))","v":""}]
[{"$f":"IF($B$10=\"Farchana\",Farchana!A376,IF($B$10=\"Gaga\",Gaga!A395,IF($B$10=\"Treguine\",Treguine!A395,IF($B$10=\"Bredjing\",Bredjing!A395,\"\"))))","v":""},{"$f":"IF($B$10=\"Farchana\",Farchana!B376,IF($B$10=\"Gaga\",Gaga!B395,IF($B$10=\"Treguine\",Treguine!B395,IF($B$10=\"Bredjing\",Bredjing!B395,\"\"))))","v":""},{"$f":"IF($B$10=\"Farchana\",Farchana!C376,IF($B$10=\"Gaga\",Gaga!C395,IF($B$10=\"Treguine\",Treguine!C395,IF($B$10=\"Bredjing\",Bredjing!C395,\"\"))))","v":""},null,null,{"$f":"IF($B$10=\"Farchana\",Farchana!G376,IF($B$10=\"Gaga\",Gaga!I395,IF($B$10=\"Treguine\",Treguine!G395,IF($B$10=\"Bredjing\",Bredjing!G395,\"\"))))","v":""}]
[{"$f":"IF($B$10=\"Farchana\",Farchana!A377,IF($B$10=\"Gaga\",Gaga!A396,IF($B$10=\"Treguine\",Treguine!A396,IF($B$10=\"Bredjing\",Bredjing!A396,\"\"))))","v":""},{"$f":"IF($B$10=\"Farchana\",Farchana!B377,IF($B$10=\"Gaga\",Gaga!B396,IF($B$10=\"Treguine\",Treguine!B396,IF($B$10=\"Bredjing\",Bredjing!B396,\"\"))))","v":""},{"$f":"IF($B$10=\"Farchana\",Farchana!C377,IF($B$10=\"Gaga\",Gaga!C396,IF($B$10=\"Treguine\",Treguine!C396,IF($B$10=\"Bredjing\",Bredjing!C396,\"\"))))","v":""},null,null,{"$f":"IF($B$10=\"Farchana\",Farchana!G377,IF($B$10=\"Gaga\",Gaga!I396,IF($B$10=\"Treguine\",Treguine!G396,IF($B$10=\"Bredjing\",Bredjing!G396,\"\"))))","v":""}]

{"sheet":"Moyen","index":7,"n_rows":38,"n_cols":8,"rows_kept":38,"cut":false,"hidden":false,"merged":[[37,3,37,7],[7,0,8,7],[9,1,9,2],[9,5,9,7],[32,3,32,4],[32,6,32,7]]}
[]
[]
[]
[]
[]
[]
[]
[" FICHE DE PAIEMENT DES PRIMES DES ENSEIGNANTS"]
[]
["Camp :",{"$f":"+'Etat de Paiement'!B10","v":"Gaga"},null,null,"Niveau :",{"$f":"+'Etat de Paiement'!F10","v":"Primaire"}]
["N° carte Réfugié","Noms et Prenoms","Sexe","Fonction","Classe","Montant Partenaire","Montant  APE","Signature"]
[{"$f":"IF('Etat de Paiement'!A12=0,\"\",'Etat de Paiement'!A12)","v":"431-00007985"},{"$f":"IF('Etat de Paiement'!B12=0,\"\",'Etat de Paiement'!B12)","v":"Fatima Daoud Ahmat"},{"$f":"IF('Etat de Paiement'!C12=0,\"\",'Etat de Paiement'!C12)","v":""},{"$f":"IF('Etat de Paiement'!D12=0,\"\",'Etat de Paiement'!D12)","v":""},{"$f":"IF('Etat de Paiement'!E12=0,\"\",'Etat de Paiement'!E12)","v":""},{"$f":"+'Etat de Paiement'!F12","v":40000}]
[{"$f":"IF('Etat de Paiement'!A13=0,\"\",'Etat de Paiement'!A13)","v":"431-00000449"},{"$f":"IF('Etat de Paiement'!B13=0,\"\",'Etat de Paiement'!B13)","v":"Issa Souleyman Adam"},{"$f":"IF('Etat de Paiement'!C13=0,\"\",'Etat de Paiement'!C13)","v":""},{"$f":"IF('Etat de Paiement'!D13=0,\"\",'Etat de Paiement'!D13)","v":""},{"$f":"IF('Etat de Paiement'!E13=0,\"\",'Etat de Paiement'!E13)","v":""},{"$f":"+'Etat de Paiement'!F13","v":40000}]
[{"$f":"IF('Etat de Paiement'!A14=0,\"\",'Etat de Paiement'!A14)","v":"431-00020034"},{"$f":"IF('Etat de Paiement'!B14=0,\"\",'Etat de Paiement'!B14)","v":"Mahamat Brémé Mahamat "},{"$f":"IF('Etat de Paiement'!C14=0,\"\",'Etat de Paiement'!C14)","v":""},{"$f":"IF('Etat de Paiement'!D14=0,\"\",'Etat de Paiement'!D14)","v":""},{"$f":"IF('Etat de Paiement'!E14=0,\"\",'Etat de Paiement'!E14)","v":""},{"$f":"+'Etat de Paiement'!F14","v":40000}]
[{"$f":"IF('Etat de Paiement'!A15=0,\"\",'Etat de Paiement'!A15)","v":"431-00004799"},{"$f":"IF('Etat de Paiement'!B15=0,\"\",'Etat de Paiement'!B15)","v":"Ahmat Adam Abdallah"},{"$f":"IF('Etat de Paiement'!C15=0,\"\",'Etat de Paiement'!C15)","v":""},{"$f":"IF('Etat de Paiement'!D15=0,\"\",'Etat de Paiement'!D15)","v":""},{"$f":"IF('Etat de Paiement'!E15=0,\"\",'Etat de Paiement'!E15)","v":""},{"$f":"+'Etat de Paiement'!F15","v":36000}]
[{"$f":"IF('Etat de Paiement'!A16=0,\"\",'Etat de Paiement'!A16)","v":"431-00004204"},{"$f":"IF('Etat de Paiement'!B16=0,\"\",'Etat de Paiement'!B16)","v":"Cherif Abdallah Adam"},{"$f":"IF('Etat de Paiement'!C16=0,\"\",'Etat de Paiement'!C16)","v":""},{"$f":"IF('Etat de Paiement'!D16=0,\"\",'Etat de Paiement'!D16)","v":""},{"$f":"IF('Etat de Paiement'!E16=0,\"\",'Etat de Paiement'!E16)","v":""},{"$f":"+'Etat de Paiement'!F16","v":36000}]
[{"$f":"IF('Etat de Paiement'!A17=0,\"\",'Etat de Paiement'!A17)","v":"431-00010206"},{"$f":"IF('Etat de Paiement'!B17=0,\"\",'Etat de Paiement'!B17)","v":"Fatima Hamza Ahmat"},{"$f":"IF('Etat de Paiement'!C17=0,\"\",'Etat de Paiement'!C17)","v":""},{"$f":"IF('Etat de Paiement'!D17=0,\"\",'Etat de Paiement'!D17)","v":""},{"$f":"IF('Etat de Paiement'!E17=0,\"\",'Etat de Paiement'!E17)","v":""},{"$f":"+'Etat de Paiement'!F17","v":36000}]
[{"$f":"IF('Etat de Paiement'!A18=0,\"\",'Etat de Paiement'!A18)","v":"431-00010341"},{"$f":"IF('Etat de Paiement'!B18=0,\"\",'Etat de Paiement'!B18)","v":"Hassaballh Ahmat Ibrahim"},{"$f":"IF('Etat de Paiement'!C18=0,\"\",'Etat de Paiement'!C18)","v":""},{"$f":"IF('Etat de Paiement'!D18=0,\"\",'Etat de Paiement'!D18)","v":""},{"$f":"IF('Etat de Paiement'!E18=0,\"\",'Etat de Paiement'!E18)","v":""},{"$f":"+'Etat de Paiement'!F18","v":36000}]
[{"$f":"IF('Etat de Paiement'!A19=0,\"\",'Etat de Paiement'!A19)","v":"431-00010625"},{"$f":"IF('Etat de Paiement'!B19=0,\"\",'Etat de Paiement'!B19)","v":"Hassan Abdarhaman Mahamat"},{"$f":"IF('Etat de Paiement'!C19=0,\"\",'Etat de Paiement'!C19)","v":""},{"$f":"IF('Etat de Paiement'!D19=0,\"\",'Etat de Paiement'!D19)","v":""},{"$f":"IF('Etat de Paiement'!E19=0,\"\",'Etat de Paiement'!E19)","v":""},{"$f":"+'Etat de Paiement'!F19","v":36000}]
[{"$f":"IF('Etat de Paiement'!A20=0,\"\",'Etat de Paiement'!A20)","v":"431-00010392"},{"$f":"IF('Etat de Paiement'!B20=0,\"\",'Etat de Paiement'!B20)","v":"Ibrahim Sidik Ibrahim"},{"$f":"IF('Etat de Paiement'!C20=0,\"\",'Etat de Paiement'!C20)","v":""},{"$f":"IF('Etat de Paiement'!D20=0,\"\",'Etat de Paiement'!D20)","v":""},{"$f":"IF('Etat de Paiement'!E20=0,\"\",'Etat de Paiement'!E20)","v":""},{"$f":"+'Etat de Paiement'!F20","v":36000}]
[{"$f":"IF('Etat de Paiement'!A21=0,\"\",'Etat de Paiement'!A21)","v":"431-00009873"},{"$f":"IF('Etat de Paiement'!B21=0,\"\",'Etat de Paiement'!B21)","v":"Khadija Hachim Timan"},{"$f":"IF('Etat de Paiement'!C21=0,\"\",'Etat de Paiement'!C21)","v":""},{"$f":"IF('Etat de Paiement'!D21=0,\"\",'Etat de Paiement'!D21)","v":""},{"$f":"IF('Etat de Paiement'!E21=0,\"\",'Etat de Paiement'!E21)","v":""},{"$f":"+'Etat de Paiement'!F21","v":36000}]
[{"$f":"IF('Etat de Paiement'!A22=0,\"\",'Etat de Paiement'!A22)","v":"431-00030991"},{"$f":"IF('Etat de Paiement'!B22=0,\"\",'Etat de Paiement'!B22)","v":"Khalid Yagoub Abdellh"},{"$f":"IF('Etat de Paiement'!C22=0,\"\",'Etat de Paiement'!C22)","v":""},{"$f":"IF('Etat de Paiement'!D22=0,\"\",'Etat de Paiement'!D22)","v":""},{"$f":"IF('Etat de Paiement'!E22=0,\"\",'Etat de Paiement'!E22)","v":""},{"$f":"+'Etat de Paiement'!F22","v":36000}]
[{"$f":"IF('Etat de Paiement'!A23=0,\"\",'Etat de Paiement'!A23)","v":"431-00004849"},{"$f":"IF('Etat de Paiement'!B23=0,\"\",'Etat de Paiement'!B23)","v":"Mahamat Yacoub Souleymane"},{"$f":"IF('Etat de Paiement'!C23=0,\"\",'Etat de Paiement'!C23)","v":""},{"$f":"IF('Etat de Paiement'!D23=0,\"\",'Etat de Paiement'!D23)","v":""},{"$f":"IF('Etat de Paiement'!E23=0,\"\",'Etat de Paiement'!E23)","v":""},{"$f":"+'Etat de Paiement'!F23","v":36000}]
[{"$f":"IF('Etat de Paiement'!A24=0,\"\",'Etat de Paiement'!A24)","v":"NB"},{"$f":"IF('Etat de Paiement'!B24=0,\"\",'Etat de Paiement'!B24)","v":"Abakar Adam Ousman"},{"$f":"IF('Etat de Paiement'!C24=0,\"\",'Etat de Paiement'!C24)","v":""},{"$f":"IF('Etat de Paiement'!D24=0,\"\",'Etat de Paiement'!D24)","v":""},{"$f":"IF('Etat de Paiement'!E24=0,\"\",'Etat de Paiement'!E24)","v":""},{"$f":"+'Etat de Paiement'!F24","v":12000}]
[{"$f":"IF('Etat de Paiement'!A25=0,\"\",'Etat de Paiement'!A25)","v":"NB"},{"$f":"IF('Etat de Paiement'!B25=0,\"\",'Etat de Paiement'!B25)","v":"Garandya Adam Abdallah"},{"$f":"IF('Etat de Paiement'!C25=0,\"\",'Etat de Paiement'!C25)","v":""},{"$f":"IF('Etat de Paiement'!D25=0,\"\",'Etat de Paiement'!D25)","v":""},{"$f":"IF('Etat de Paiement'!E25=0,\"\",'Etat de Paiement'!E25)","v":""},{"$f":"+'Etat de Paiement'!F25","v":12000}]
[{"$f":"IF('Etat de Paiement'!A26=0,\"\",'Etat de Paiement'!A26)","v":"NB"},{"$f":"IF('Etat de Paiement'!B26=0,\"\",'Etat de Paiement'!B26)","v":"Issa Khamis Oumar"},{"$f":"IF('Etat de Paiement'!C26=0,\"\",'Etat de Paiement'!C26)","v":""},{"$f":"IF('Etat de Paiement'!D26=0,\"\",'Etat de Paiement'!D26)","v":""},{"$f":"IF('Etat de Paiement'!E26=0,\"\",'Etat de Paiement'!E26)","v":""},{"$f":"+'Etat de Paiement'!F26","v":12000}]
[{"$f":"IF('Etat de Paiement'!A27=0,\"\",'Etat de Paiement'!A27)","v":"NB"},{"$f":"IF('Etat de Paiement'!B27=0,\"\",'Etat de Paiement'!B27)","v":"Aboubakar Mahamat Banda"},{"$f":"IF('Etat de Paiement'!C27=0,\"\",'Etat de Paiement'!C27)","v":""},{"$f":"IF('Etat de Paiement'!D27=0,\"\",'Etat de Paiement'!D27)","v":""},{"$f":"IF('Etat de Paiement'!E27=0,\"\",'Etat de Paiement'!E27)","v":""},{"$f":"+'Etat de Paiement'!F27","v":40000}]
[{"$f":"IF('Etat de Paiement'!A28=0,\"\",'Etat de Paiement'!A28)","v":"NB"},{"$f":"IF('Etat de Paiement'!B28=0,\"\",'Etat de Paiement'!B28)","v":"Saadallah Ahmat Ibrahim"},{"$f":"IF('Etat de Paiement'!C28=0,\"\",'Etat de Paiement'!C28)","v":""},{"$f":"IF('Etat de Paiement'!D28=0,\"\",'Etat de Paiement'!D28)","v":""},{"$f":"IF('Etat de Paiement'!E28=0,\"\",'Etat de Paiement'!E28)","v":""},{"$f":"+'Etat de Paiement'!F28","v":40000}]
[{"$f":"IF('Etat de Paiement'!A29=0,\"\",'Etat de Paiement'!A29)","v":"431-00020075"},{"$f":"IF('Etat de Paiement'!B29=0,\"\",'Etat de Paiement'!B29)","v":"Abdoulsamat Youssif Mahamat"},{"$f":"IF('Etat de Paiement'!C29=0,\"\",'Etat de Paiement'!C29)","v":""},{"$f":"IF('Etat de Paiement'!D29=0,\"\",'Etat de Paiement'!D29)","v":""},{"$f":"IF('Etat de Paiement'!E29=0,\"\",'Etat de Paiement'!E29)","v":""},{"$f":"+'Etat de Paiement'!F29","v":36000}]
[{"$f":"IF('Etat de Paiement'!A30=0,\"\",'Etat de Paiement'!A30)","v":"431-00009557"},{"$f":"IF('Etat de Paiement'!B30=0,\"\",'Etat de Paiement'!B30)","v":"Ibrahim Yaya Abdoul-gadir"},{"$f":"IF('Etat de Paiement'!C30=0,\"\",'Etat de Paiement'!C30)","v":""},{"$f":"IF('Etat de Paiement'!D30=0,\"\",'Etat de Paiement'!D30)","v":""},{"$f":"IF('Etat de Paiement'!E30=0,\"\",'Etat de Paiement'!E30)","v":""},{"$f":"+'Etat de Paiement'!F30","v":36000}]
[{"$f":"IF('Etat de Paiement'!A31=0,\"\",'Etat de Paiement'!A31)","v":"431-00014340"},{"$f":"IF('Etat de Paiement'!B31=0,\"\",'Etat de Paiement'!B31)","v":"Alhafiz adouma adam"},{"$f":"IF('Etat de Paiement'!C31=0,\"\",'Etat de Paiement'!C31)","v":""},{"$f":"IF('Etat de Paiement'!D31=0,\"\",'Etat de Paiement'!D31)","v":""},{"$f":"IF('Etat de Paiement'!E31=0,\"\",'Etat de Paiement'!E31)","v":""},{"$f":"+'Etat de Paiement'!F31","v":36000}]
["Pour le JRS ",null,null,"President de l'APE ",null,null,"Pour  l'UNHCR "]
["Nom et Prénoms",null,null,"Nom et Prénoms",null,null,"Nom et Prénoms"]
[null,"Le Superviseur Educatif"]
[]
[]
[]
[null,null,null,{"$f":"\"Fait à ________________ le : \" &TEXT(TODAY(),\"JJJJ  jj mmmm aaaa\")","v":"Fait à ________________ le : samedi 04 mars 2017"}]

{"sheet":"Primaire","index":8,"n_rows":78,"n_cols":8,"rows_kept":78,"cut":false,"hidden":false,"merged":[[72,3,72,4],[72,6,72,7],[77,3,77,7],[7,0,8,7],[9,1,9,2],[9,5,9,7]]}
[]
[]
[]
[]
[]
[]
[]
[" FICHE DE PAIEMENT DES PRIMES DES ENSEIGNANTS"]
[]
["Camp :",{"$f":"+'Etat de Paiement'!B10","v":"Gaga"},null,null,"Niveau :",{"$f":"+'Etat de Paiement'!F10","v":"Primaire"}]
["N° carte Réfugié","Noms et Prenoms","Sexe","Fonction","Classe","Montant Partenaire","Montant  APE","Signature"]
[{"$f":"IF('Etat de Paiement'!A12=0,\"\",'Etat de Paiement'!A12)","v":"431-00007985"},{"$f":"IF('Etat de Paiement'!B12=0,\"\",'Etat de Paiement'!B12)","v":"Fatima Daoud Ahmat"},{"$f":"IF('Etat de Paiement'!C12=0,\"\",'Etat de Paiement'!C12)","v":""},{"$f":"IF('Etat de Paiement'!D12=0,\"\",'Etat de Paiement'!D12)","v":""},{"$f":"IF('Etat de Paiement'!E12=0,\"\",'Etat de Paiement'!E12)","v":""},{"$f":"+'Etat de Paiement'!F12","v":40000}]
[{"$f":"IF('Etat de Paiement'!A13=0,\"\",'Etat de Paiement'!A13)","v":"431-00000449"},{"$f":"IF('Etat de Paiement'!B13=0,\"\",'Etat de Paiement'!B13)","v":"Issa Souleyman Adam"},{"$f":"IF('Etat de Paiement'!C13=0,\"\",'Etat de Paiement'!C13)","v":""},{"$f":"IF('Etat de Paiement'!D13=0,\"\",'Etat de Paiement'!D13)","v":""},{"$f":"IF('Etat de Paiement'!E13=0,\"\",'Etat de Paiement'!E13)","v":""},{"$f":"+'Etat de Paiement'!F13","v":40000}]
[{"$f":"IF('Etat de Paiement'!A14=0,\"\",'Etat de Paiement'!A14)","v":"431-00020034"},{"$f":"IF('Etat de Paiement'!B14=0,\"\",'Etat de Paiement'!B14)","v":"Mahamat Brémé Mahamat "},{"$f":"IF('Etat de Paiement'!C14=0,\"\",'Etat de Paiement'!C14)","v":""},{"$f":"IF('Etat de Paiement'!D14=0,\"\",'Etat de Paiement'!D14)","v":""},{"$f":"IF('Etat de Paiement'!E14=0,\"\",'Etat de Paiement'!E14)","v":""},{"$f":"+'Etat de Paiement'!F14","v":40000}]
[{"$f":"IF('Etat de Paiement'!A15=0,\"\",'Etat de Paiement'!A15)","v":"431-00004799"},{"$f":"IF('Etat de Paiement'!B15=0,\"\",'Etat de Paiement'!B15)","v":"Ahmat Adam Abdallah"},{"$f":"IF('Etat de Paiement'!C15=0,\"\",'Etat de Paiement'!C15)","v":""},{"$f":"IF('Etat de Paiement'!D15=0,\"\",'Etat de Paiement'!D15)","v":""},{"$f":"IF('Etat de Paiement'!E15=0,\"\",'Etat de Paiement'!E15)","v":""},{"$f":"+'Etat de Paiement'!F15","v":36000}]
[{"$f":"IF('Etat de Paiement'!A16=0,\"\",'Etat de Paiement'!A16)","v":"431-00004204"},{"$f":"IF('Etat de Paiement'!B16=0,\"\",'Etat de Paiement'!B16)","v":"Cherif Abdallah Adam"},{"$f":"IF('Etat de Paiement'!C16=0,\"\",'Etat de Paiement'!C16)","v":""},{"$f":"IF('Etat de Paiement'!D16=0,\"\",'Etat de Paiement'!D16)","v":""},{"$f":"IF('Etat de Paiement'!E16=0,\"\",'Etat de Paiement'!E16)","v":""},{"$f":"+'Etat de Paiement'!F16","v":36000}]
[{"$f":"IF('Etat de Paiement'!A17=0,\"\",'Etat de Paiement'!A17)","v":"431-00010206"},{"$f":"IF('Etat de Paiement'!B17=0,\"\",'Etat de Paiement'!B17)","v":"Fatima Hamza Ahmat"},{"$f":"IF('Etat de Paiement'!C17=0,\"\",'Etat de Paiement'!C17)","v":""},{"$f":"IF('Etat de Paiement'!D17=0,\"\",'Etat de Paiement'!D17)","v":""},{"$f":"IF('Etat de Paiement'!E17=0,\"\",'Etat de Paiement'!E17)","v":""},{"$f":"+'Etat de Paiement'!F17","v":36000}]
[{"$f":"IF('Etat de Paiement'!A18=0,\"\",'Etat de Paiement'!A18)","v":"431-00010341"},{"$f":"IF('Etat de Paiement'!B18=0,\"\",'Etat de Paiement'!B18)","v":"Hassaballh Ahmat Ibrahim"},{"$f":"IF('Etat de Paiement'!C18=0,\"\",'Etat de Paiement'!C18)","v":""},{"$f":"IF('Etat de Paiement'!D18=0,\"\",'Etat de Paiement'!D18)","v":""},{"$f":"IF('Etat de Paiement'!E18=0,\"\",'Etat de Paiement'!E18)","v":""},{"$f":"+'Etat de Paiement'!F18","v":36000}]
[{"$f":"IF('Etat de Paiement'!A19=0,\"\",'Etat de Paiement'!A19)","v":"431-00010625"},{"$f":"IF('Etat de Paiement'!B19=0,\"\",'Etat de Paiement'!B19)","v":"Hassan Abdarhaman Mahamat"},{"$f":"IF('Etat de Paiement'!C19=0,\"\",'Etat de Paiement'!C19)","v":""},{"$f":"IF('Etat de Paiement'!D19=0,\"\",'Etat de Paiement'!D19)","v":""},{"$f":"IF('Etat de Paiement'!E19=0,\"\",'Etat de Paiement'!E19)","v":""},{"$f":"+'Etat de Paiement'!F19","v":36000}]
[{"$f":"IF('Etat de Paiement'!A20=0,\"\",'Etat de Paiement'!A20)","v":"431-00010392"},{"$f":"IF('Etat de Paiement'!B20=0,\"\",'Etat de Paiement'!B20)","v":"Ibrahim Sidik Ibrahim"},{"$f":"IF('Etat de Paiement'!C20=0,\"\",'Etat de Paiement'!C20)","v":""},{"$f":"IF('Etat de Paiement'!D20=0,\"\",'Etat de Paiement'!D20)","v":""},{"$f":"IF('Etat de Paiement'!E20=0,\"\",'Etat de Paiement'!E20)","v":""},{"$f":"+'Etat de Paiement'!F20","v":36000}]
[{"$f":"IF('Etat de Paiement'!A21=0,\"\",'Etat de Paiement'!A21)","v":"431-00009873"},{"$f":"IF('Etat de Paiement'!B21=0,\"\",'Etat de Paiement'!B21)","v":"Khadija Hachim Timan"},{"$f":"IF('Etat de Paiement'!C21=0,\"\",'Etat de Paiement'!C21)","v":""},{"$f":"IF('Etat de Paiement'!D21=0,\"\",'Etat de Paiement'!D21)","v":""},{"$f":"IF('Etat de Paiement'!E21=0,\"\",'Etat de Paiement'!E21)","v":""},{"$f":"+'Etat de Paiement'!F21","v":36000}]
[{"$f":"IF('Etat de Paiement'!A22=0,\"\",'Etat de Paiement'!A22)","v":"431-00030991"},{"$f":"IF('Etat de Paiement'!B22=0,\"\",'Etat de Paiement'!B22)","v":"Khalid Yagoub Abdellh"},{"$f":"IF('Etat de Paiement'!C22=0,\"\",'Etat de Paiement'!C22)","v":""},{"$f":"IF('Etat de Paiement'!D22=0,\"\",'Etat de Paiement'!D22)","v":""},{"$f":"IF('Etat de Paiement'!E22=0,\"\",'Etat de Paiement'!E22)","v":""},{"$f":"+'Etat de Paiement'!F22","v":36000}]
[{"$f":"IF('Etat de Paiement'!A23=0,\"\",'Etat de Paiement'!A23)","v":"431-00004849"},{"$f":"IF('Etat de Paiement'!B23=0,\"\",'Etat de Paiement'!B23)","v":"Mahamat Yacoub Souleymane"},{"$f":"IF('Etat de Paiement'!C23=0,\"\",'Etat de Paiement'!C23)","v":""},{"$f":"IF('Etat de Paiement'!D23=0,\"\",'Etat de Paiement'!D23)","v":""},{"$f":"IF('Etat de Paiement'!E23=0,\"\",'Etat de Paiement'!E23)","v":""},{"$f":"+'Etat de Paiement'!F23","v":36000}]
[{"$f":"IF('Etat de Paiement'!A24=0,\"\",'Etat de Paiement'!A24)","v":"NB"},{"$f":"IF('Etat de Paiement'!B24=0,\"\",'Etat de Paiement'!B24)","v":"Abakar Adam Ousman"},{"$f":"IF('Etat de Paiement'!C24=0,\"\",'Etat de Paiement'!C24)","v":""},{"$f":"IF('Etat de Paiement'!D24=0,\"\",'Etat de Paiement'!D24)","v":""},{"$f":"IF('Etat de Paiement'!E24=0,\"\",'Etat de Paiement'!E24)","v":""},{"$f":"+'Etat de Paiement'!F24","v":12000}]
[{"$f":"IF('Etat de Paiement'!A25=0,\"\",'Etat de Paiement'!A25)","v":"NB"},{"$f":"IF('Etat de Paiement'!B25=0,\"\",'Etat de Paiement'!B25)","v":"Garandya Adam Abdallah"},{"$f":"IF('Etat de Paiement'!C25=0,\"\",'Etat de Paiement'!C25)","v":""},{"$f":"IF('Etat de Paiement'!D25=0,\"\",'Etat de Paiement'!D25)","v":""},{"$f":"IF('Etat de Paiement'!E25=0,\"\",'Etat de Paiement'!E25)","v":""},{"$f":"+'Etat de Paiement'!F25","v":12000}]
[{"$f":"IF('Etat de Paiement'!A26=0,\"\",'Etat de Paiement'!A26)","v":"NB"},{"$f":"IF('Etat de Paiement'!B26=0,\"\",'Etat de Paiement'!B26)","v":"Issa Khamis Oumar"},{"$f":"IF('Etat de Paiement'!C26=0,\"\",'Etat de Paiement'!C26)","v":""},{"$f":"IF('Etat de Paiement'!D26=0,\"\",'Etat de Paiement'!D26)","v":""},{"$f":"IF('Etat de Paiement'!E26=0,\"\",'Etat de Paiement'!E26)","v":""},{"$f":"+'Etat de Paiement'!F26","v":12000}]
[{"$f":"IF('Etat de Paiement'!A27=0,\"\",'Etat de Paiement'!A27)","v":"NB"},{"$f":"IF('Etat de Paiement'!B27=0,\"\",'Etat de Paiement'!B27)","v":"Aboubakar Mahamat Banda"},{"$f":"IF('Etat de Paiement'!C27=0,\"\",'Etat de Paiement'!C27)","v":""},{"$f":"IF('Etat de Paiement'!D27=0,\"\",'Etat de Paiement'!D27)","v":""},{"$f":"IF('Etat de Paiement'!E27=0,\"\",'Etat de Paiement'!E27)","v":""},{"$f":"+'Etat de Paiement'!F27","v":40000}]
[{"$f":"IF('Etat de Paiement'!A28=0,\"\",'Etat de Paiement'!A28)","v":"NB"},{"$f":"IF('Etat de Paiement'!B28=0,\"\",'Etat de Paiement'!B28)","v":"Saadallah Ahmat Ibrahim"},{"$f":"IF('Etat de Paiement'!C28=0,\"\",'Etat de Paiement'!C28)","v":""},{"$f":"IF('Etat de Paiement'!D28=0,\"\",'Etat de Paiement'!D28)","v":""},{"$f":"IF('Etat de Paiement'!E28=0,\"\",'Etat de Paiement'!E28)","v":""},{"$f":"+'Etat de Paiement'!F28","v":40000}]
[{"$f":"IF('Etat de Paiement'!A29=0,\"\",'Etat de Paiement'!A29)","v":"431-00020075"},{"$f":"IF('Etat de Paiement'!B29=0,\"\",'Etat de Paiement'!B29)","v":"Abdoulsamat Youssif Mahamat"},{"$f":"IF('Etat de Paiement'!C29=0,\"\",'Etat de Paiement'!C29)","v":""},{"$f":"IF('Etat de Paiement'!D29=0,\"\",'Etat de Paiement'!D29)","v":""},{"$f":"IF('Etat de Paiement'!E29=0,\"\",'Etat de Paiement'!E29)","v":""},{"$f":"+'Etat de Paiement'!F29","v":36000}]
[{"$f":"IF('Etat de Paiement'!A30=0,\"\",'Etat de Paiement'!A30)","v":"431-00009557"},{"$f":"IF('Etat de Paiement'!B30=0,\"\",'Etat de Paiement'!B30)","v":"Ibrahim Yaya Abdoul-gadir"},{"$f":"IF('Etat de Paiement'!C30=0,\"\",'Etat de Paiement'!C30)","v":""},{"$f":"IF('Etat de Paiement'!D30=0,\"\",'Etat de Paiement'!D30)","v":""},{"$f":"IF('Etat de Paiement'!E30=0,\"\",'Etat de Paiement'!E30)","v":""},{"$f":"+'Etat de Paiement'!F30","v":36000}]
[{"$f":"IF('Etat de Paiement'!A31=0,\"\",'Etat de Paiement'!A31)","v":"431-00014340"},{"$f":"IF('Etat de Paiement'!B31=0,\"\",'Etat de Paiement'!B31)","v":"Alhafiz adouma adam"},{"$f":"IF('Etat de Paiement'!C31=0,\"\",'Etat de Paiement'!C31)","v":""},{"$f":"IF('Etat de Paiement'!D31=0,\"\",'Etat de Paiement'!D31)","v":""},{"$f":"IF('Etat de Paiement'!E31=0,\"\",'Etat de Paiement'!E31)","v":""},{"$f":"+'Etat de Paiement'!F31","v":36000}]
[{"$f":"IF('Etat de Paiement'!A32=0,\"\",'Etat de Paiement'!A32)","v":"431-00007651"},{"$f":"IF('Etat de Paiement'!B32=0,\"\",'Etat de Paiement'!B32)","v":"Amina Ibrahim Souleymane"},{"$f":"IF('Etat de Paiement'!C32=0,\"\",'Etat de Paiement'!C32)","v":""},{"$f":"IF('Etat de Paiement'!D32=0,\"\",'Etat de Paiement'!D32)","v":""},{"$f":"IF('Etat de Paiement'!E32=0,\"\",'Etat de Paiement'!E32)","v":""},{"$f":"+'Etat de Paiement'!F32","v":36000},"Pour  l'UNHCR "]
[{"$f":"IF('Etat de Paiement'!A33=0,\"\",'Etat de Paiement'!A33)","v":"4310-0071275"},{"$f":"IF('Etat de Paiement'!B33=0,\"\",'Etat de Paiement'!B33)","v":"Attahir Adam Ibrahim"},{"$f":"IF('Etat de Paiement'!C33=0,\"\",'Etat de Paiement'!C33)","v":""},{"$f":"IF('Etat de Paiement'!D33=0,\"\",'Etat de Paiement'!D33)","v":""},{"$f":"IF('Etat de Paiement'!E33=0,\"\",'Etat de Paiement'!E33)","v":""},{"$f":"+'Etat de Paiement'!F33","v":36000},"Nom et Prénoms"]
[{"$f":"IF('Etat de Paiement'!A34=0,\"\",'Etat de Paiement'!A34)","v":"431-00026900"},{"$f":"IF('Etat de Paiement'!B34=0,\"\",'Etat de Paiement'!B34)","v":"Fatima Ahmat Abdolmaola"},{"$f":"IF('Etat de Paiement'!C34=0,\"\",'Etat de Paiement'!C34)","v":""},{"$f":"IF('Etat de Paiement'!D34=0,\"\",'Etat de Paiement'!D34)","v":""},{"$f":"IF('Etat de Paiement'!E34=0,\"\",'Etat de Paiement'!E34)","v":""},{"$f":"+'Etat de Paiement'!F34","v":36000}]
[{"$f":"IF('Etat de Paiement'!A35=0,\"\",'Etat de Paiement'!A35)","v":"431-00005059"},{"$f":"IF('Etat de Paiement'!B35=0,\"\",'Etat de Paiement'!B35)","v":"Mahamat Moussa Matar Issa"},{"$f":"IF('Etat de Paiement'!C35=0,\"\",'Etat de Paiement'!C35)","v":""},{"$f":"IF('Etat de Paiement'!D35=0,\"\",'Etat de Paiement'!D35)","v":""},{"$f":"IF('Etat de Paiement'!E35=0,\"\",'Etat de Paiement'!E35)","v":""},{"$f":"+'Etat de Paiement'!F35","v":36000}]
[{"$f":"IF('Etat de Paiement'!A36=0,\"\",'Etat de Paiement'!A36)","v":"431-00006681"},{"$f":"IF('Etat de Paiement'!B36=0,\"\",'Etat de Paiement'!B36)","v":"Manahil Ahmat Attahir Idriss"},{"$f":"IF('Etat de Paiement'!C36=0,\"\",'Etat de Paiement'!C36)","v":""},{"$f":"IF('Etat de Paiement'!D36=0,\"\",'Etat de Paiement'!D36)","v":""},{"$f":"IF('Etat de Paiement'!E36=0,\"\",'Etat de Paiement'!E36)","v":""},{"$f":"+'Etat de Paiement'!F36","v":36000}]
[{"$f":"IF('Etat de Paiement'!A37=0,\"\",'Etat de Paiement'!A37)","v":"431-00003656"},{"$f":"IF('Etat de Paiement'!B37=0,\"\",'Etat de Paiement'!B37)","v":"Nouradine Ahmat Abdallah"},{"$f":"IF('Etat de Paiement'!C37=0,\"\",'Etat de Paiement'!C37)","v":""},{"$f":"IF('Etat de Paiement'!D37=0,\"\",'Etat de Paiement'!D37)","v":""},{"$f":"IF('Etat de Paiement'!E37=0,\"\",'Etat de Paiement'!E37)","v":""},{"$f":"+'Etat de Paiement'!F37","v":36000}]
[{"$f":"IF('Etat de Paiement'!A38=0,\"\",'Etat de Paiement'!A38)","v":"431-00010334"},{"$f":"IF('Etat de Paiement'!B38=0,\"\",'Etat de Paiement'!B38)","v":"Ousman Khatir Djibrine"},{"$f":"IF('Etat de Paiement'!C38=0,\"\",'Etat de Paiement'!C38)","v":""},{"$f":"IF('Etat de Paiement'!D38=0,\"\",'Etat de Paiement'!D38)","v":""},{"$f":"IF('Etat de Paiement'!E38=0,\"\",'Etat de Paiement'!E38)","v":""},{"$f":"+'Etat de Paiement'!F38","v":36000}]
[{"$f":"IF('Etat de Paiement'!A39=0,\"\",'Etat de Paiement'!A39)","v":"431-00008188"},{"$f":"IF('Etat de Paiement'!B39=0,\"\",'Etat de Paiement'!B39)","v":"Salha Abderahmane Yacoub"},{"$f":"IF('Etat de Paiement'!C39=0,\"\",'Etat de Paiement'!C39)","v":""},{"$f":"IF('Etat de Paiement'!D39=0,\"\",'Etat de Paiement'!D39)","v":""},{"$f":"IF('Etat de Paiement'!E39=0,\"\",'Etat de Paiement'!E39)","v":""},{"$f":"+'Etat de Paiement'!F39","v":36000}]
[{"$f":"IF('Etat de Paiement'!A40=0,\"\",'Etat de Paiement'!A40)","v":"NB"},{"$f":"IF('Etat de Paiement'!B40=0,\"\",'Etat de Paiement'!B40)","v":"Abdallah Souleman Adam"},{"$f":"IF('Etat de Paiement'!C40=0,\"\",'Etat de Paiement'!C40)","v":""},{"$f":"IF('Etat de Paiement'!D40=0,\"\",'Etat de Paiement'!D40)","v":""},{"$f":"IF('Etat de Paiement'!E40=0,\"\",'Etat de Paiement'!E40)","v":""},{"$f":"+'Etat de Paiement'!F40","v":12000}]
[{"$f":"IF('Etat de Paiement'!A41=0,\"\",'Etat de Paiement'!A41)","v":"NB"},{"$f":"IF('Etat de Paiement'!B41=0,\"\",'Etat de Paiement'!B41)","v":"Achat Zakaria Arabi"},{"$f":"IF('Etat de Paiement'!C41=0,\"\",'Etat de Paiement'!C41)","v":""},{"$f":"IF('Etat de Paiement'!D41=0,\"\",'Etat de Paiement'!D41)","v":""},{"$f":"IF('Etat de Paiement'!E41=0,\"\",'Etat de Paiement'!E41)","v":""},{"$f":"+'Etat de Paiement'!F41","v":12000}]
[{"$f":"IF('Etat de Paiement'!A42=0,\"\",'Etat de Paiement'!A42)","v":"NB"},{"$f":"IF('Etat de Paiement'!B42=0,\"\",'Etat de Paiement'!B42)","v":"Khatir Djibrine Khamiss"},{"$f":"IF('Etat de Paiement'!C42=0,\"\",'Etat de Paiement'!C42)","v":""},{"$f":"IF('Etat de Paiement'!D42=0,\"\",'Etat de Paiement'!D42)","v":""},{"$f":"IF('Etat de Paiement'!E42=0,\"\",'Etat de Paiement'!E42)","v":""},{"$f":"+'Etat de Paiement'!F42","v":12000}]
[{"$f":"IF('Etat de Paiement'!A43=0,\"\",'Etat de Paiement'!A43)","v":"339-00016854"},{"$f":"IF('Etat de Paiement'!B43=0,\"\",'Etat de Paiement'!B43)","v":"Habiba Yahya Ahmat"},{"$f":"IF('Etat de Paiement'!C43=0,\"\",'Etat de Paiement'!C43)","v":""},{"$f":"IF('Etat de Paiement'!D43=0,\"\",'Etat de Paiement'!D43)","v":""},{"$f":"IF('Etat de Paiement'!E43=0,\"\",'Etat de Paiement'!E43)","v":""},{"$f":"+'Etat de Paiement'!F43","v":40000}]
[{"$f":"IF('Etat de Paiement'!A44=0,\"\",'Etat de Paiement'!A44)","v":"431-00006947"},{"$f":"IF('Etat de Paiement'!B44=0,\"\",'Etat de Paiement'!B44)","v":"Hamid Mahamat Ibrahim"},{"$f":"IF('Etat de Paiement'!C44=0,\"\",'Etat de Paiement'!C44)","v":""},{"$f":"IF('Etat de Paiement'!D44=0,\"\",'Etat de Paiement'!D44)","v":""},{"$f":"IF('Etat de Paiement'!E44=0,\"\",'Etat de Paiement'!E44)","v":""},{"$f":"+'Etat de Paiement'!F44","v":40000}]
[{"$f":"IF('Etat de Paiement'!A45=0,\"\",'Etat de Paiement'!A45)","v":"431-00025596"},{"$f":"IF('Etat de Paiement'!B45=0,\"\",'Etat de Paiement'!B45)","v":"Taha Mahamat Yahya"},{"$f":"IF('Etat de Paiement'!C45=0,\"\",'Etat de Paiement'!C45)","v":""},{"$f":"IF('Etat de Paiement'!D45=0,\"\",'Etat de Paiement'!D45)","v":""},{"$f":"IF('Etat de Paiement'!E45=0,\"\",'Etat de Paiement'!E45)","v":""},{"$f":"+'Etat de Paiement'!F45","v":40000}]
[{"$f":"IF('Etat de Paiement'!A46=0,\"\",'Etat de Paiement'!A46)","v":"431-00008790"},{"$f":"IF('Etat de Paiement'!B46=0,\"\",'Etat de Paiement'!B46)","v":"Noura Adam Khatir"},{"$f":"IF('Etat de Paiement'!C46=0,\"\",'Etat de Paiement'!C46)","v":""},{"$f":"IF('Etat de Paiement'!D46=0,\"\",'Etat de Paiement'!D46)","v":""},{"$f":"IF('Etat de Paiement'!E46=0,\"\",'Etat de Paiement'!E46)","v":""},{"$f":"+'Etat de Paiement'!F46","v":40000}]
[{"$f":"IF('Etat de Paiement'!A47=0,\"\",'Etat de Paiement'!A47)","v":"431-00009897"},{"$f":"IF('Etat de Paiement'!B47=0,\"\",'Etat de Paiement'!B47)","v":"Abdel-Aziz Ali Yahya Oumar"},{"$f":"IF('Etat de Paiement'!C47=0,\"\",'Etat de Paiement'!C47)","v":""},{"$f":"IF('Etat de Paiement'!D47=0,\"\",'Etat de Paiement'!D47)","v":""},{"$f":"IF('Etat de Paiement'!E47=0,\"\",'Etat de Paiement'!E47)","v":""},{"$f":"+'Etat de Paiement'!F47","v":36000}]
[{"$f":"IF('Etat de Paiement'!A48=0,\"\",'Etat de Paiement'!A48)","v":"431-00007443"},{"$f":"IF('Etat de Paiement'!B48=0,\"\",'Etat de Paiement'!B48)","v":"Abdoul-Aziz Zakaria Ibrahim"},{"$f":"IF('Etat de Paiement'!C48=0,\"\",'Etat de Paiement'!C48)","v":""},{"$f":"IF('Etat de Paiement'!D48=0,\"\",'Etat de Paiement'!D48)","v":""},{"$f":"IF('Etat de Paiement'!E48=0,\"\",'Etat de Paiement'!E48)","v":""},{"$f":"+'Etat de Paiement'!F48","v":36000}]
[{"$f":"IF('Etat de Paiement'!A49=0,\"\",'Etat de Paiement'!A49)","v":"431-00019392"},{"$f":"IF('Etat de Paiement'!B49=0,\"\",'Etat de Paiement'!B49)","v":"Abdramane Adam Ibrahim"},{"$f":"IF('Etat de Paiement'!C49=0,\"\",'Etat de Paiement'!C49)","v":""},{"$f":"IF('Etat de Paiement'!D49=0,\"\",'Etat de Paiement'!D49)","v":""},{"$f":"IF('Etat de Paiement'!E49=0,\"\",'Etat de Paiement'!E49)","v":""},{"$f":"+'Etat de Paiement'!F49","v":36000}]
[{"$f":"IF('Etat de Paiement'!A50=0,\"\",'Etat de Paiement'!A50)","v":"431-00008510"},{"$f":"IF('Etat de Paiement'!B50=0,\"\",'Etat de Paiement'!B50)","v":"Achta Khamis Ahmat"},{"$f":"IF('Etat de Paiement'!C50=0,\"\",'Etat de Paiement'!C50)","v":""},{"$f":"IF('Etat de Paiement'!D50=0,\"\",'Etat de Paiement'!D50)","v":""},{"$f":"IF('Etat de Paiement'!E50=0,\"\",'Etat de Paiement'!E50)","v":""},{"$f":"+'Etat de Paiement'!F50","v":36000}]
[{"$f":"IF('Etat de Paiement'!A51=0,\"\",'Etat de Paiement'!A51)","v":"431-00001342"},{"$f":"IF('Etat de Paiement'!B51=0,\"\",'Etat de Paiement'!B51)","v":"Baharadine Mahamat Alhadj"},{"$f":"IF('Etat de Paiement'!C51=0,\"\",'Etat de Paiement'!C51)","v":""},{"$f":"IF('Etat de Paiement'!D51=0,\"\",'Etat de Paiement'!D51)","v":""},{"$f":"IF('Etat de Paiement'!E51=0,\"\",'Etat de Paiement'!E51)","v":""},{"$f":"+'Etat de Paiement'!F51","v":36000}]
[{"$f":"IF('Etat de Paiement'!A52=0,\"\",'Etat de Paiement'!A52)","v":"431-00006129"},{"$f":"IF('Etat de Paiement'!B52=0,\"\",'Etat de Paiement'!B52)","v":"Chekhadine Souleymane Hassan"},{"$f":"IF('Etat de Paiement'!C52=0,\"\",'Etat de Paiement'!C52)","v":""},{"$f":"IF('Etat de Paiement'!D52=0,\"\",'Etat de Paiement'!D52)","v":""},{"$f":"IF('Etat de Paiement'!E52=0,\"\",'Etat de Paiement'!E52)","v":""},{"$f":"+'Etat de Paiement'!F52","v":36000}]
[{"$f":"IF('Etat de Paiement'!A53=0,\"\",'Etat de Paiement'!A53)","v":"431-00013625"},{"$f":"IF('Etat de Paiement'!B53=0,\"\",'Etat de Paiement'!B53)","v":"Issak Abderrahman Oumar"},{"$f":"IF('Etat de Paiement'!C53=0,\"\",'Etat de Paiement'!C53)","v":""},{"$f":"IF('Etat de Paiement'!D53=0,\"\",'Etat de Paiement'!D53)","v":""},{"$f":"IF('Etat de Paiement'!E53=0,\"\",'Etat de Paiement'!E53)","v":""},{"$f":"+'Etat de Paiement'!F53","v":36000}]
[{"$f":"IF('Etat de Paiement'!A54=0,\"\",'Etat de Paiement'!A54)","v":"431-00005646"},{"$f":"IF('Etat de Paiement'!B54=0,\"\",'Etat de Paiement'!B54)","v":"Mahamat hassan Ibrahim"},{"$f":"IF('Etat de Paiement'!C54=0,\"\",'Etat de Paiement'!C54)","v":""},{"$f":"IF('Etat de Paiement'!D54=0,\"\",'Etat de Paiement'!D54)","v":""},{"$f":"IF('Etat de Paiement'!E54=0,\"\",'Etat de Paiement'!E54)","v":""},{"$f":"+'Etat de Paiement'!F54","v":36000}]
[{"$f":"IF('Etat de Paiement'!A55=0,\"\",'Etat de Paiement'!A55)","v":"431-00013619"},{"$f":"IF('Etat de Paiement'!B55=0,\"\",'Etat de Paiement'!B55)","v":"Nadjawa Issakh Hassan"},{"$f":"IF('Etat de Paiement'!C55=0,\"\",'Etat de Paiement'!C55)","v":""},{"$f":"IF('Etat de Paiement'!D55=0,\"\",'Etat de Paiement'!D55)","v":""},{"$f":"IF('Etat de Paiement'!E55=0,\"\",'Etat de Paiement'!E55)","v":""},{"$f":"+'Etat de Paiement'!F55","v":36000}]
[{"$f":"IF('Etat de Paiement'!A56=0,\"\",'Etat de Paiement'!A56)","v":"431-00004521"},{"$f":"IF('Etat de Paiement'!B56=0,\"\",'Etat de Paiement'!B56)","v":"Nassima Ousman Barra"},{"$f":"IF('Etat de Paiement'!C56=0,\"\",'Etat de Paiement'!C56)","v":""},{"$f":"IF('Etat de Paiement'!D56=0,\"\",'Etat de Paiement'!D56)","v":""},{"$f":"IF('Etat de Paiement'!E56=0,\"\",'Etat de Paiement'!E56)","v":""},{"$f":"+'Etat de Paiement'!F56","v":36000}]
[{"$f":"IF('Etat de Paiement'!A57=0,\"\",'Etat de Paiement'!A57)","v":"431-00012204"},{"$f":"IF('Etat de Paiement'!B57=0,\"\",'Etat de Paiement'!B57)","v":"Soumaya souleymane Ahmat"},{"$f":"IF('Etat de Paiement'!C57=0,\"\",'Etat de Paiement'!C57)","v":""},{"$f":"IF('Etat de Paiement'!D57=0,\"\",'Etat de Paiement'!D57)","v":""},{"$f":"IF('Etat de Paiement'!E57=0,\"\",'Etat de Paiement'!E57)","v":""},{"$f":"+'Etat de Paiement'!F57","v":36000}]
[{"$f":"IF('Etat de Paiement'!A58=0,\"\",'Etat de Paiement'!A58)","v":"NB"},{"$f":"IF('Etat de Paiement'!B58=0,\"\",'Etat de Paiement'!B58)","v":"Issakh Abakar Idriss"},{"$f":"IF('Etat de Paiement'!C58=0,\"\",'Etat de Paiement'!C58)","v":""},{"$f":"IF('Etat de Paiement'!D58=0,\"\",'Etat de Paiement'!D58)","v":""},{"$f":"IF('Etat de Paiement'!E58=0,\"\",'Etat de Paiement'!E58)","v":""},{"$f":"+'Etat de Paiement'!F58","v":12000}]
[{"$f":"IF('Etat de Paiement'!A59=0,\"\",'Etat de Paiement'!A59)","v":"NB"},{"$f":"IF('Etat de Paiement'!B59=0,\"\",'Etat de Paiement'!B59)","v":"Souleymane Matar Abakar"},{"$f":"IF('Etat de Paiement'!C59=0,\"\",'Etat de Paiement'!C59)","v":""},{"$f":"IF('Etat de Paiement'!D59=0,\"\",'Etat de Paiement'!D59)","v":""},{"$f":"IF('Etat de Paiement'!E59=0,\"\",'Etat de Paiement'!E59)","v":""},{"$f":"+'Etat de Paiement'!F59","v":12000}]
[{"$f":"IF('Etat de Paiement'!A60=0,\"\",'Etat de Paiement'!A60)","v":"NB"},{"$f":"IF('Etat de Paiement'!B60=0,\"\",'Etat de Paiement'!B60)","v":"Hawa Hamat Mahamat"},{"$f":"IF('Etat de Paiement'!C60=0,\"\",'Etat de Paiement'!C60)","v":""},{"$f":"IF('Etat de Paiement'!D60=0,\"\",'Etat de Paiement'!D60)","v":""},{"$f":"IF('Etat de Paiement'!E60=0,\"\",'Etat de Paiement'!E60)","v":""},{"$f":"+'Etat de Paiement'!F60","v":12000}]
[{"$f":"IF('Etat de Paiement'!A61=0,\"\",'Etat de Paiement'!A61)","v":"339-00011353"},{"$f":"IF('Etat de Paiement'!B61=0,\"\",'Etat de Paiement'!B61)","v":"Nouradine Ibrahim Abdallah"},{"$f":"IF('Etat de Paiement'!C61=0,\"\",'Etat de Paiement'!C61)","v":""},{"$f":"IF('Etat de Paiement'!D61=0,\"\",'Etat de Paiement'!D61)","v":""},{"$f":"IF('Etat de Paiement'!E61=0,\"\",'Etat de Paiement'!E61)","v":""},{"$f":"+'Etat de Paiement'!F61","v":40000}]
[{"$f":"IF('Etat de Paiement'!A62=0,\"\",'Etat de Paiement'!A62)","v":"431-00007187"},{"$f":"IF('Etat de Paiement'!B62=0,\"\",'Etat de Paiement'!B62)","v":"Alhadi Ramadan Ibrahim"},{"$f":"IF('Etat de Paiement'!C62=0,\"\",'Etat de Paiement'!C62)","v":""},{"$f":"IF('Etat de Paiement'!D62=0,\"\",'Etat de Paiement'!D62)","v":""},{"$f":"IF('Etat de Paiement'!E62=0,\"\",'Etat de Paiement'!E62)","v":""},{"$f":"+'Etat de Paiement'!F62","v":36000}]
[{"$f":"IF('Etat de Paiement'!A63=0,\"\",'Etat de Paiement'!A63)","v":"431-00008989"},{"$f":"IF('Etat de Paiement'!B63=0,\"\",'Etat de Paiement'!B63)","v":"Ahmat Mahamat Banda"},{"$f":"IF('Etat de Paiement'!C63=0,\"\",'Etat de Paiement'!C63)","v":""},{"$f":"IF('Etat de Paiement'!D63=0,\"\",'Etat de Paiement'!D63)","v":""},{"$f":"IF('Etat de Paiement'!E63=0,\"\",'Etat de Paiement'!E63)","v":""},{"$f":"+'Etat de Paiement'!F63","v":36000}]
[{"$f":"IF('Etat de Paiement'!A64=0,\"\",'Etat de Paiement'!A64)","v":"431-00013164"},{"$f":"IF('Etat de Paiement'!B64=0,\"\",'Etat de Paiement'!B64)","v":"Aicha Mahamat Issakh"},{"$f":"IF('Etat de Paiement'!C64=0,\"\",'Etat de Paiement'!C64)","v":""},{"$f":"IF('Etat de Paiement'!D64=0,\"\",'Etat de Paiement'!D64)","v":""},{"$f":"IF('Etat de Paiement'!E64=0,\"\",'Etat de Paiement'!E64)","v":""},{"$f":"+'Etat de Paiement'!F64","v":36000}]
[{"$f":"IF('Etat de Paiement'!A65=0,\"\",'Etat de Paiement'!A65)","v":"431-00030978"},{"$f":"IF('Etat de Paiement'!B65=0,\"\",'Etat de Paiement'!B65)","v":"Alnazir Ibrahim Fadoul"},{"$f":"IF('Etat de Paiement'!C65=0,\"\",'Etat de Paiement'!C65)","v":""},{"$f":"IF('Etat de Paiement'!D65=0,\"\",'Etat de Paiement'!D65)","v":""},{"$f":"IF('Etat de Paiement'!E65=0,\"\",'Etat de Paiement'!E65)","v":""},{"$f":"+'Etat de Paiement'!F65","v":36000}]
[{"$f":"IF('Etat de Paiement'!A66=0,\"\",'Etat de Paiement'!A66)","v":"431-00013720"},{"$f":"IF('Etat de Paiement'!B66=0,\"\",'Etat de Paiement'!B66)","v":"Fadillah Djouma Arbab"},{"$f":"IF('Etat de Paiement'!C66=0,\"\",'Etat de Paiement'!C66)","v":""},{"$f":"IF('Etat de Paiement'!D66=0,\"\",'Etat de Paiement'!D66)","v":""},{"$f":"IF('Etat de Paiement'!E66=0,\"\",'Etat de Paiement'!E66)","v":""},{"$f":"+'Etat de Paiement'!F66","v":36000}]
[{"$f":"IF('Etat de Paiement'!A67=0,\"\",'Etat de Paiement'!A67)","v":"431-00019831"},{"$f":"IF('Etat de Paiement'!B67=0,\"\",'Etat de Paiement'!B67)","v":"Ibrahim Mahamat yaya"},{"$f":"IF('Etat de Paiement'!C67=0,\"\",'Etat de Paiement'!C67)","v":""},{"$f":"IF('Etat de Paiement'!D67=0,\"\",'Etat de Paiement'!D67)","v":""},{"$f":"IF('Etat de Paiement'!E67=0,\"\",'Etat de Paiement'!E67)","v":""},{"$f":"+'Etat de Paiement'!F67","v":36000}]
[{"$f":"IF('Etat de Paiement'!A68=0,\"\",'Etat de Paiement'!A68)","v":"431-00024203"},{"$f":"IF('Etat de Paiement'!B68=0,\"\",'Etat de Paiement'!B68)","v":"Mahamat khamis Idriss"},{"$f":"IF('Etat de Paiement'!C68=0,\"\",'Etat de Paiement'!C68)","v":""},{"$f":"IF('Etat de Paiement'!D68=0,\"\",'Etat de Paiement'!D68)","v":""},{"$f":"IF('Etat de Paiement'!E68=0,\"\",'Etat de Paiement'!E68)","v":""},{"$f":"+'Etat de Paiement'!F68","v":36000}]
[{"$f":"IF('Etat de Paiement'!A69=0,\"\",'Etat de Paiement'!A69)","v":"431-00009212"},{"$f":"IF('Etat de Paiement'!B69=0,\"\",'Etat de Paiement'!B69)","v":"Nousradine Mahamat Atim"},{"$f":"IF('Etat de Paiement'!C69=0,\"\",'Etat de Paiement'!C69)","v":""},{"$f":"IF('Etat de Paiement'!D69=0,\"\",'Etat de Paiement'!D69)","v":""},{"$f":"IF('Etat de Paiement'!E69=0,\"\",'Etat de Paiement'!E69)","v":""},{"$f":"+'Etat de Paiement'!F69","v":36000}]
[{"$f":"IF('Etat de Paiement'!A70=0,\"\",'Etat de Paiement'!A70)","v":"431-00012204"},{"$f":"IF('Etat de Paiement'!B70=0,\"\",'Etat de Paiement'!B70)","v":"Soumeya abderrahman Adam"},{"$f":"IF('Etat de Paiement'!C70=0,\"\",'Etat de Paiement'!C70)","v":""},{"$f":"IF('Etat de Paiement'!D70=0,\"\",'Etat de Paiement'!D70)","v":""},{"$f":"IF('Etat de Paiement'!E70=0,\"\",'Etat de Paiement'!E70)","v":""},{"$f":"+'Etat de Paiement'!F70","v":36000}]
[{"$f":"IF('Etat de Paiement'!A71=0,\"\",'Etat de Paiement'!A71)","v":"431-00013627"},{"$f":"IF('Etat de Paiement'!B71=0,\"\",'Etat de Paiement'!B71)","v":"Taiba Abdraman Oumar"},{"$f":"IF('Etat de Paiement'!C71=0,\"\",'Etat de Paiement'!C71)","v":""},{"$f":"IF('Etat de Paiement'!D71=0,\"\",'Etat de Paiement'!D71)","v":""},{"$f":"IF('Etat de Paiement'!E71=0,\"\",'Etat de Paiement'!E71)","v":""},{"$f":"+'Etat de Paiement'!F71","v":36000}]
["Pour le JRS ",null,null,"President de l'APE ",null,null,"Pour  l'UNHCR "]
["Nom et Prénoms",null,null,"Nom et Prénoms",null,null,"Nom et Prénoms"]
[null,"Le Superviseur Educatif"]
[]
[]
[]
[null,null,null,{"$f":"\"Fait à ________________ le : \" &TEXT(TODAY(),\"JJJJ  jj mmmm aaaa\")","v":"Fait à ________________ le : samedi 04 mars 2017"}]

{"sheet":"Etat Farchana","index":9,"n_rows":404,"n_cols":10,"rows_kept":404,"cut":false,"hidden":true,"merged":[[7,0,8,7],[9,1,9,2],[9,5,9,7]]}
[]
[]
[]
[]
[]
[]
[]
[" FICHE DE PAIEMENT DES PRIMES DES ENSEIGNANTS"]
[]
["Camp :","Farchana",null,null,"Niveau :","Primaire"]
["N° carte Réfugié","Noms et Prenoms","Sexe","Fonction","Classe","Montant Partenaire","Montant  APE","Signature"]
[{"$f":"IF($B$10=\"Farchana\",Farchana!#REF!,IF($B$10=\"Gaga\",Gaga!A4,IF($B$10=\"Treguine\",Treguine!A4,IF($B$10=\"Bredjing\",Bredjing!A4,\"\"))))","v":{"$error":"#REF!"}},{"$f":"IF($B$10=\"Farchana\",Farchana!#REF!,IF($B$10=\"Gaga\",Gaga!B4,IF($B$10=\"Treguine\",Treguine!B4,IF($B$10=\"Bredjing\",Bredjing!B4,\"\"))))","v":{"$error":"#REF!"}},{"$f":"IF($B$10=\"Farchana\",Farchana!#REF!,IF($B$10=\"Gaga\",Gaga!C4,IF($B$10=\"Treguine\",Treguine!C4,IF($B$10=\"Bredjing\",Bredjing!C4,\"\"))))","v":{"$error":"#REF!"}},null,null,{"$f":"IF($B$10=\"Farchana\",Farchana!#REF!,IF($B$10=\"Gaga\",Gaga!I4,IF($B$10=\"Treguine\",Treguine!G4,IF($B$10=\"Bredjing\",Bredjing!G4,\"\"))))","v":{"$error":"#REF!"}}]
[{"$f":"IF($B$10=\"Farchana\",Farchana!#REF!,IF($B$10=\"Gaga\",Gaga!A5,IF($B$10=\"Treguine\",Treguine!A5,IF($B$10=\"Bredjing\",Bredjing!A5,\"\"))))","v":{"$error":"#REF!"}},{"$f":"IF($B$10=\"Farchana\",Farchana!#REF!,IF($B$10=\"Gaga\",Gaga!B5,IF($B$10=\"Treguine\",Treguine!B5,IF($B$10=\"Bredjing\",Bredjing!B5,\"\"))))","v":{"$error":"#REF!"}},{"$f":"IF($B$10=\"Farchana\",Farchana!#REF!,IF($B$10=\"Gaga\",Gaga!C5,IF($B$10=\"Treguine\",Treguine!C5,IF($B$10=\"Bredjing\",Bredjing!C5,\"\"))))","v":{"$error":"#REF!"}},null,null,{"$f":"IF($B$10=\"Farchana\",Farchana!#REF!,IF($B$10=\"Gaga\",Gaga!I5,IF($B$10=\"Treguine\",Treguine!G5,IF($B$10=\"Bredjing\",Bredjing!G5,\"\"))))","v":{"$error":"#REF!"}}]
[{"$f":"IF($B$10=\"Farchana\",Farchana!#REF!,IF($B$10=\"Gaga\",Gaga!A6,IF($B$10=\"Treguine\",Treguine!A6,IF($B$10=\"Bredjing\",Bredjing!A6,\"\"))))","v":{"$error":"#REF!"}},{"$f":"IF($B$10=\"Farchana\",Farchana!#REF!,IF($B$10=\"Gaga\",Gaga!B6,IF($B$10=\"Treguine\",Treguine!B6,IF($B$10=\"Bredjing\",Bredjing!B6,\"\"))))","v":{"$error":"#REF!"}},{"$f":"IF($B$10=\"Farchana\",Farchana!#REF!,IF($B$10=\"Gaga\",Gaga!C6,IF($B$10=\"Treguine\",Treguine!C6,IF($B$10=\"Bredjing\",Bredjing!C6,\"\"))))","v":{"$error":"#REF!"}},null,null,{"$f":"IF($B$10=\"Farchana\",Farchana!#REF!,IF($B$10=\"Gaga\",Gaga!I6,IF($B$10=\"Treguine\",Treguine!G6,IF($B$10=\"Bredjing\",Bredjing!G6,\"\"))))","v":{"$error":"#REF!"}}]
[{"$f":"IF($B$10=\"Farchana\",Farchana!#REF!,IF($B$10=\"Gaga\",Gaga!A7,IF($B$10=\"Treguine\",Treguine!A7,IF($B$10=\"Bredjing\",Bredjing!A7,\"\"))))","v":{"$error":"#REF!"}},{"$f":"IF($B$10=\"Farchana\",Farchana!#REF!,IF($B$10=\"Gaga\",Gaga!B7,IF($B$10=\"Treguine\",Treguine!B7,IF($B$10=\"Bredjing\",Bredjing!B7,\"\"))))","v":{"$error":"#REF!"}},{"$f":"IF($B$10=\"Farchana\",Farchana!#REF!,IF($B$10=\"Gaga\",Gaga!C7,IF($B$10=\"Treguine\",Treguine!C7,IF($B$10=\"Bredjing\",Bredjing!C7,\"\"))))","v":{"$error":"#REF!"}},null,null,{"$f":"IF($B$10=\"Farchana\",Farchana!#REF!,IF($B$10=\"Gaga\",Gaga!I7,IF($B$10=\"Treguine\",Treguine!G7,IF($B$10=\"Bredjing\",Bredjing!G7,\"\"))))","v":{"$error":"#REF!"}}]
[{"$f":"IF($B$10=\"Farchana\",Farchana!#REF!,IF($B$10=\"Gaga\",Gaga!A8,IF($B$10=\"Treguine\",Treguine!A8,IF($B$10=\"Bredjing\",Bredjing!A8,\"\"))))","v":{"$error":"#REF!"}},{"$f":"IF($B$10=\"Farchana\",Farchana!#REF!,IF($B$10=\"Gaga\",Gaga!B8,IF($B$10=\"Treguine\",Treguine!B8,IF($B$10=\"Bredjing\",Bredjing!B8,\"\"))))","v":{"$error":"#REF!"}},{"$f":"IF($B$10=\"Farchana\",Farchana!#REF!,IF($B$10=\"Gaga\",Gaga!C8,IF($B$10=\"Treguine\",Treguine!C8,IF($B$10=\"Bredjing\",Bredjing!C8,\"\"))))","v":{"$error":"#REF!"}},null,null,{"$f":"IF($B$10=\"Farchana\",Farchana!#REF!,IF($B$10=\"Gaga\",Gaga!I8,IF($B$10=\"Treguine\",Treguine!G8,IF($B$10=\"Bredjing\",Bredjing!G8,\"\"))))","v":{"$error":"#REF!"}}]
[{"$f":"IF($B$10=\"Farchana\",Farchana!#REF!,IF($B$10=\"Gaga\",Gaga!A9,IF($B$10=\"Treguine\",Treguine!A9,IF($B$10=\"Bredjing\",Bredjing!A9,\"\"))))","v":{"$error":"#REF!"}},{"$f":"IF($B$10=\"Farchana\",Farchana!#REF!,IF($B$10=\"Gaga\",Gaga!B9,IF($B$10=\"Treguine\",Treguine!B9,IF($B$10=\"Bredjing\",Bredjing!B9,\"\"))))","v":{"$error":"#REF!"}},{"$f":"IF($B$10=\"Farchana\",Farchana!#REF!,IF($B$10=\"Gaga\",Gaga!C9,IF($B$10=\"Treguine\",Treguine!C9,IF($B$10=\"Bredjing\",Bredjing!C9,\"\"))))","v":{"$error":"#REF!"}},null,null,{"$f":"IF($B$10=\"Farchana\",Farchana!#REF!,IF($B$10=\"Gaga\",Gaga!I9,IF($B$10=\"Treguine\",Treguine!G9,IF($B$10=\"Bredjing\",Bredjing!G9,\"\"))))","v":{"$error":"#REF!"}}]
[{"$f":"IF($B$10=\"Farchana\",Farchana!#REF!,IF($B$10=\"Gaga\",Gaga!A10,IF($B$10=\"Treguine\",Treguine!A10,IF($B$10=\"Bredjing\",Bredjing!A10,\"\"))))","v":{"$error":"#REF!"}},{"$f":"IF($B$10=\"Farchana\",Farchana!#REF!,IF($B$10=\"Gaga\",Gaga!B10,IF($B$10=\"Treguine\",Treguine!B10,IF($B$10=\"Bredjing\",Bredjing!B10,\"\"))))","v":{"$error":"#REF!"}},{"$f":"IF($B$10=\"Farchana\",Farchana!#REF!,IF($B$10=\"Gaga\",Gaga!C10,IF($B$10=\"Treguine\",Treguine!C10,IF($B$10=\"Bredjing\",Bredjing!C10,\"\"))))","v":{"$error":"#REF!"}},null,null,{"$f":"IF($B$10=\"Farchana\",Farchana!#REF!,IF($B$10=\"Gaga\",Gaga!I10,IF($B$10=\"Treguine\",Treguine!G10,IF($B$10=\"Bredjing\",Bredjing!G10,\"\"))))","v":{"$error":"#REF!"}}]
[{"$f":"IF($B$10=\"Farchana\",Farchana!#REF!,IF($B$10=\"Gaga\",Gaga!A11,IF($B$10=\"Treguine\",Treguine!A11,IF($B$10=\"Bredjing\",Bredjing!A11,\"\"))))","v":{"$error":"#REF!"}},{"$f":"IF($B$10=\"Farchana\",Farchana!#REF!,IF($B$10=\"Gaga\",Gaga!B11,IF($B$10=\"Treguine\",Treguine!B11,IF($B$10=\"Bredjing\",Bredjing!B11,\"\"))))","v":{"$error":"#REF!"}},{"$f":"IF($B$10=\"Farchana\",Farchana!#REF!,IF($B$10=\"Gaga\",Gaga!C11,IF($B$10=\"Treguine\",Treguine!C11,IF($B$10=\"Bredjing\",Bredjing!C11,\"\"))))","v":{"$error":"#REF!"}},null,null,{"$f":"IF($B$10=\"Farchana\",Farchana!#REF!,IF($B$10=\"Gaga\",Gaga!I11,IF($B$10=\"Treguine\",Treguine!G11,IF($B$10=\"Bredjing\",Bredjing!G11,\"\"))))","v":{"$error":"#REF!"}}]
[{"$f":"IF($B$10=\"Farchana\",Farchana!#REF!,IF($B$10=\"Gaga\",Gaga!A12,IF($B$10=\"Treguine\",Treguine!A12,IF($B$10=\"Bredjing\",Bredjing!A12,\"\"))))","v":{"$error":"#REF!"}},{"$f":"IF($B$10=\"Farchana\",Farchana!#REF!,IF($B$10=\"Gaga\",Gaga!B12,IF($B$10=\"Treguine\",Treguine!B12,IF($B$10=\"Bredjing\",Bredjing!B12,\"\"))))","v":{"$error":"#REF!"}},{"$f":"IF($B$10=\"Farchana\",Farchana!#REF!,IF($B$10=\"Gaga\",Gaga!C12,IF($B$10=\"Treguine\",Treguine!C12,IF($B$10=\"Bredjing\",Bredjing!C12,\"\"))))","v":{"$error":"#REF!"}},null,null,{"$f":"IF($B$10=\"Farchana\",Farchana!#REF!,IF($B$10=\"Gaga\",Gaga!I12,IF($B$10=\"Treguine\",Treguine!G12,IF($B$10=\"Bredjing\",Bredjing!G12,\"\"))))","v":{"$error":"#REF!"}}]
[{"$f":"IF($B$10=\"Farchana\",Farchana!#REF!,IF($B$10=\"Gaga\",Gaga!A13,IF($B$10=\"Treguine\",Treguine!A13,IF($B$10=\"Bredjing\",Bredjing!A13,\"\"))))","v":{"$error":"#REF!"}},{"$f":"IF($B$10=\"Farchana\",Farchana!#REF!,IF($B$10=\"Gaga\",Gaga!B13,IF($B$10=\"Treguine\",Treguine!B13,IF($B$10=\"Bredjing\",Bredjing!B13,\"\"))))","v":{"$error":"#REF!"}},{"$f":"IF($B$10=\"Farchana\",Farchana!#REF!,IF($B$10=\"Gaga\",Gaga!C13,IF($B$10=\"Treguine\",Treguine!C13,IF($B$10=\"Bredjing\",Bredjing!C13,\"\"))))","v":{"$error":"#REF!"}},null,null,{"$f":"IF($B$10=\"Farchana\",Farchana!#REF!,IF($B$10=\"Gaga\",Gaga!I13,IF($B$10=\"Treguine\",Treguine!G13,IF($B$10=\"Bredjing\",Bredjing!G13,\"\"))))","v":{"$error":"#REF!"}}]
[{"$f":"IF($B$10=\"Farchana\",Farchana!#REF!,IF($B$10=\"Gaga\",Gaga!A14,IF($B$10=\"Treguine\",Treguine!A14,IF($B$10=\"Bredjing\",Bredjing!A14,\"\"))))","v":{"$error":"#REF!"}},{"$f":"IF($B$10=\"Farchana\",Farchana!#REF!,IF($B$10=\"Gaga\",Gaga!B14,IF($B$10=\"Treguine\",Treguine!B14,IF($B$10=\"Bredjing\",Bredjing!B14,\"\"))))","v":{"$error":"#REF!"}},{"$f":"IF($B$10=\"Farchana\",Farchana!#REF!,IF($B$10=\"Gaga\",Gaga!C14,IF($B$10=\"Treguine\",Treguine!C14,IF($B$10=\"Bredjing\",Bredjing!C14,\"\"))))","v":{"$error":"#REF!"}},null,null,{"$f":"IF($B$10=\"Farchana\",Farchana!#REF!,IF($B$10=\"Gaga\",Gaga!I14,IF($B$10=\"Treguine\",Treguine!G14,IF($B$10=\"Bredjing\",Bredjing!G14,\"\"))))","v":{"$error":"#REF!"}}]
[{"$f":"IF($B$10=\"Farchana\",Farchana!#REF!,IF($B$10=\"Gaga\",Gaga!A15,IF($B$10=\"Treguine\",Treguine!A15,IF($B$10=\"Bredjing\",Bredjing!A15,\"\"))))","v":{"$error":"#REF!"}},{"$f":"IF($B$10=\"Farchana\",Farchana!#REF!,IF($B$10=\"Gaga\",Gaga!B15,IF($B$10=\"Treguine\",Treguine!B15,IF($B$10=\"Bredjing\",Bredjing!B15,\"\"))))","v":{"$error":"#REF!"}},{"$f":"IF($B$10=\"Farchana\",Farchana!#REF!,IF($B$10=\"Gaga\",Gaga!C15,IF($B$10=\"Treguine\",Treguine!C15,IF($B$10=\"Bredjing\",Bredjing!C15,\"\"))))","v":{"$error":"#REF!"}},null,null,{"$f":"IF($B$10=\"Farchana\",Farchana!#REF!,IF($B$10=\"Gaga\",Gaga!I15,IF($B$10=\"Treguine\",Treguine!G15,IF($B$10=\"Bredjing\",Bredjing!G15,\"\"))))","v":{"$error":"#REF!"}}]
[{"$f":"IF($B$10=\"Farchana\",Farchana!#REF!,IF($B$10=\"Gaga\",Gaga!A16,IF($B$10=\"Treguine\",Treguine!A16,IF($B$10=\"Bredjing\",Bredjing!A16,\"\"))))","v":{"$error":"#REF!"}},{"$f":"IF($B$10=\"Farchana\",Farchana!#REF!,IF($B$10=\"Gaga\",Gaga!B16,IF($B$10=\"Treguine\",Treguine!B16,IF($B$10=\"Bredjing\",Bredjing!B16,\"\"))))","v":{"$error":"#REF!"}},{"$f":"IF($B$10=\"Farchana\",Farchana!#REF!,IF($B$10=\"Gaga\",Gaga!C16,IF($B$10=\"Treguine\",Treguine!C16,IF($B$10=\"Bredjing\",Bredjing!C16,\"\"))))","v":{"$error":"#REF!"}},null,null,{"$f":"IF($B$10=\"Farchana\",Farchana!#REF!,IF($B$10=\"Gaga\",Gaga!I16,IF($B$10=\"Treguine\",Treguine!G16,IF($B$10=\"Bredjing\",Bredjing!G16,\"\"))))","v":{"$error":"#REF!"}}]
[{"$f":"IF($B$10=\"Farchana\",Farchana!#REF!,IF($B$10=\"Gaga\",Gaga!A17,IF($B$10=\"Treguine\",Treguine!A17,IF($B$10=\"Bredjing\",Bredjing!A17,\"\"))))","v":{"$error":"#REF!"}},{"$f":"IF($B$10=\"Farchana\",Farchana!#REF!,IF($B$10=\"Gaga\",Gaga!B17,IF($B$10=\"Treguine\",Treguine!B17,IF($B$10=\"Bredjing\",Bredjing!B17,\"\"))))","v":{"$error":"#REF!"}},{"$f":"IF($B$10=\"Farchana\",Farchana!#REF!,IF($B$10=\"Gaga\",Gaga!C17,IF($B$10=\"Treguine\",Treguine!C17,IF($B$10=\"Bredjing\",Bredjing!C17,\"\"))))","v":{"$error":"#REF!"}},null,null,{"$f":"IF($B$10=\"Farchana\",Farchana!#REF!,IF($B$10=\"Gaga\",Gaga!I17,IF($B$10=\"Treguine\",Treguine!G17,IF($B$10=\"Bredjing\",Bredjing!G17,\"\"))))","v":{"$error":"#REF!"}}]
[{"$f":"IF($B$10=\"Farchana\",Farchana!#REF!,IF($B$10=\"Gaga\",Gaga!A18,IF($B$10=\"Treguine\",Treguine!A18,IF($B$10=\"Bredjing\",Bredjing!A18,\"\"))))","v":{"$error":"#REF!"}},{"$f":"IF($B$10=\"Farchana\",Farchana!#REF!,IF($B$10=\"Gaga\",Gaga!B18,IF($B$10=\"Treguine\",Treguine!B18,IF($B$10=\"Bredjing\",Bredjing!B18,\"\"))))","v":{"$error":"#REF!"}},{"$f":"IF($B$10=\"Farchana\",Farchana!#REF!,IF($B$10=\"Gaga\",Gaga!C18,IF($B$10=\"Treguine\",Treguine!C18,IF($B$10=\"Bredjing\",Bredjing!C18,\"\"))))","v":{"$error":"#REF!"}},null,null,{"$f":"IF($B$10=\"Farchana\",Farchana!#REF!,IF($B$10=\"Gaga\",Gaga!I18,IF($B$10=\"Treguine\",Treguine!G18,IF($B$10=\"Bredjing\",Bredjing!G18,\"\"))))","v":{"$error":"#REF!"}}]
[{"$f":"IF($B$10=\"Farchana\",Farchana!#REF!,IF($B$10=\"Gaga\",Gaga!A19,IF($B$10=\"Treguine\",Treguine!A19,IF($B$10=\"Bredjing\",Bredjing!A19,\"\"))))","v":{"$error":"#REF!"}},{"$f":"IF($B$10=\"Farchana\",Farchana!#REF!,IF($B$10=\"Gaga\",Gaga!B19,IF($B$10=\"Treguine\",Treguine!B19,IF($B$10=\"Bredjing\",Bredjing!B19,\"\"))))","v":{"$error":"#REF!"}},{"$f":"IF($B$10=\"Farchana\",Farchana!#REF!,IF($B$10=\"Gaga\",Gaga!C19,IF($B$10=\"Treguine\",Treguine!C19,IF($B$10=\"Bredjing\",Bredjing!C19,\"\"))))","v":{"$error":"#REF!"}},null,null,{"$f":"IF($B$10=\"Farchana\",Farchana!#REF!,IF($B$10=\"Gaga\",Gaga!I19,IF($B$10=\"Treguine\",Treguine!G19,IF($B$10=\"Bredjing\",Bredjing!G19,\"\"))))","v":{"$error":"#REF!"}}]
[{"$f":"IF($B$10=\"Farchana\",Farchana!#REF!,IF($B$10=\"Gaga\",Gaga!A20,IF($B$10=\"Treguine\",Treguine!A20,IF($B$10=\"Bredjing\",Bredjing!A20,\"\"))))","v":{"$error":"#REF!"}},{"$f":"IF($B$10=\"Farchana\",Farchana!#REF!,IF($B$10=\"Gaga\",Gaga!B20,IF($B$10=\"Treguine\",Treguine!B20,IF($B$10=\"Bredjing\",Bredjing!B20,\"\"))))","v":{"$error":"#REF!"}},{"$f":"IF($B$10=\"Farchana\",Farchana!#REF!,IF($B$10=\"Gaga\",Gaga!C20,IF($B$10=\"Treguine\",Treguine!C20,IF($B$10=\"Bredjing\",Bredjing!C20,\"\"))))","v":{"$error":"#REF!"}},null,null,{"$f":"IF($B$10=\"Farchana\",Farchana!#REF!,IF($B$10=\"Gaga\",Gaga!I20,IF($B$10=\"Treguine\",Treguine!G20,IF($B$10=\"Bredjing\",Bredjing!G20,\"\"))))","v":{"$error":"#REF!"}}]
[{"$f":"IF($B$10=\"Farchana\",Farchana!#REF!,IF($B$10=\"Gaga\",Gaga!A21,IF($B$10=\"Treguine\",Treguine!A21,IF($B$10=\"Bredjing\",Bredjing!A21,\"\"))))","v":{"$error":"#REF!"}},{"$f":"IF($B$10=\"Farchana\",Farchana!#REF!,IF($B$10=\"Gaga\",Gaga!B21,IF($B$10=\"Treguine\",Treguine!B21,IF($B$10=\"Bredjing\",Bredjing!B21,\"\"))))","v":{"$error":"#REF!"}},{"$f":"IF($B$10=\"Farchana\",Farchana!#REF!,IF($B$10=\"Gaga\",Gaga!C21,IF($B$10=\"Treguine\",Treguine!C21,IF($B$10=\"Bredjing\",Bredjing!C21,\"\"))))","v":{"$error":"#REF!"}},null,null,{"$f":"IF($B$10=\"Farchana\",Farchana!#REF!,IF($B$10=\"Gaga\",Gaga!I21,IF($B$10=\"Treguine\",Treguine!G21,IF($B$10=\"Bredjing\",Bredjing!G21,\"\"))))","v":{"$error":"#REF!"}}]
[{"$f":"IF($B$10=\"Farchana\",Farchana!#REF!,IF($B$10=\"Gaga\",Gaga!A22,IF($B$10=\"Treguine\",Treguine!A22,IF($B$10=\"Bredjing\",Bredjing!A22,\"\"))))","v":{"$error":"#REF!"}},{"$f":"IF($B$10=\"Farchana\",Farchana!#REF!,IF($B$10=\"Gaga\",Gaga!B22,IF($B$10=\"Treguine\",Treguine!B22,IF($B$10=\"Bredjing\",Bredjing!B22,\"\"))))","v":{"$error":"#REF!"}},{"$f":"IF($B$10=\"Farchana\",Farchana!#REF!,IF($B$10=\"Gaga\",Gaga!C22,IF($B$10=\"Treguine\",Treguine!C22,IF($B$10=\"Bredjing\",Bredjing!C22,\"\"))))","v":{"$error":"#REF!"}},null,null,{"$f":"IF($B$10=\"Farchana\",Farchana!#REF!,IF($B$10=\"Gaga\",Gaga!I22,IF($B$10=\"Treguine\",Treguine!G22,IF($B$10=\"Bredjing\",Bredjing!G22,\"\"))))","v":{"$error":"#REF!"}}]
[{"$f":"IF($B$10=\"Farchana\",Farchana!A4,IF($B$10=\"Gaga\",Gaga!A23,IF($B$10=\"Treguine\",Treguine!A23,IF($B$10=\"Bredjing\",Bredjing!A23,\"\"))))","v":"867-00009413"},{"$f":"IF($B$10=\"Farchana\",Farchana!B4,IF($B$10=\"Gaga\",Gaga!B23,IF($B$10=\"Treguine\",Treguine!B23,IF($B$10=\"Bredjing\",Bredjing!B23,\"\"))))","v":"MOUKHTAR YAHYA DJOUMA"},{"$f":"IF($B$10=\"Farchana\",Farchana!C4,IF($B$10=\"Gaga\",Gaga!C23,IF($B$10=\"Treguine\",Treguine!C23,IF($B$10=\"Bredjing\",Bredjing!C23,\"\"))))","v":0},null,null,{"$f":"IF($B$10=\"Farchana\",Farchana!G4,IF($B$10=\"Gaga\",Gaga!I23,IF($B$10=\"Treguine\",Treguine!G23,IF($B$10=\"Bredjing\",Bredjing!G23,\"\"))))","v":40000}]
[{"$f":"IF($B$10=\"Farchana\",Farchana!A5,IF($B$10=\"Gaga\",Gaga!A24,IF($B$10=\"Treguine\",Treguine!A24,IF($B$10=\"Bredjing\",Bredjing!A24,\"\"))))","v":"867-00015588"},{"$f":"IF($B$10=\"Farchana\",Farchana!B5,IF($B$10=\"Gaga\",Gaga!B24,IF($B$10=\"Treguine\",Treguine!B24,IF($B$10=\"Bredjing\",Bredjing!B24,\"\"))))","v":"ADAM ABDALLAH DJIBRINE "},{"$f":"IF($B$10=\"Farchana\",Farchana!C5,IF($B$10=\"Gaga\",Gaga!C24,IF($B$10=\"Treguine\",Treguine!C24,IF($B$10=\"Bredjing\",Bredjing!C24,\"\"))))","v":0},null,null,{"$f":"IF($B$10=\"Farchana\",Farchana!G5,IF($B$10=\"Gaga\",Gaga!I24,IF($B$10=\"Treguine\",Treguine!G24,IF($B$10=\"Bredjing\",Bredjing!G24,\"\"))))","v":40000}]
[{"$f":"IF($B$10=\"Farchana\",Farchana!A6,IF($B$10=\"Gaga\",Gaga!A25,IF($B$10=\"Treguine\",Treguine!A25,IF($B$10=\"Bredjing\",Bredjing!A25,\"\"))))","v":"867-00003381"},{"$f":"IF($B$10=\"Farchana\",Farchana!B6,IF($B$10=\"Gaga\",Gaga!B25,IF($B$10=\"Treguine\",Treguine!B25,IF($B$10=\"Bredjing\",Bredjing!B25,\"\"))))","v":"ADAM ALI ADAM"},{"$f":"IF($B$10=\"Farchana\",Farchana!C6,IF($B$10=\"Gaga\",Gaga!C25,IF($B$10=\"Treguine\",Treguine!C25,IF($B$10=\"Bredjing\",Bredjing!C25,\"\"))))","v":0},null,null,{"$f":"IF($B$10=\"Farchana\",Farchana!G6,IF($B$10=\"Gaga\",Gaga!I25,IF($B$10=\"Treguine\",Treguine!G25,IF($B$10=\"Bredjing\",Bredjing!G25,\"\"))))","v":36000}]
[{"$f":"IF($B$10=\"Farchana\",Farchana!A7,IF($B$10=\"Gaga\",Gaga!A26,IF($B$10=\"Treguine\",Treguine!A26,IF($B$10=\"Bredjing\",Bredjing!A26,\"\"))))","v":"867-00005897"},{"$f":"IF($B$10=\"Farchana\",Farchana!B7,IF($B$10=\"Gaga\",Gaga!B26,IF($B$10=\"Treguine\",Treguine!B26,IF($B$10=\"Bredjing\",Bredjing!B26,\"\"))))","v":"HAWA ADAM YOUSSOUF"},{"$f":"IF($B$10=\"Farchana\",Farchana!C7,IF($B$10=\"Gaga\",Gaga!C26,IF($B$10=\"Treguine\",Treguine!C26,IF($B$10=\"Bredjing\",Bredjing!C26,\"\"))))","v":0},null,null,{"$f":"IF($B$10=\"Farchana\",Farchana!G7,IF($B$10=\"Gaga\",Gaga!I26,IF($B$10=\"Treguine\",Treguine!G26,IF($B$10=\"Bredjing\",Bredjing!G26,\"\"))))","v":36000}]
[{"$f":"IF($B$10=\"Farchana\",Farchana!A8,IF($B$10=\"Gaga\",Gaga!A27,IF($B$10=\"Treguine\",Treguine!A27,IF($B$10=\"Bredjing\",Bredjing!A27,\"\"))))","v":"867-00008852"},{"$f":"IF($B$10=\"Farchana\",Farchana!B8,IF($B$10=\"Gaga\",Gaga!B27,IF($B$10=\"Treguine\",Treguine!B27,IF($B$10=\"Bredjing\",Bredjing!B27,\"\"))))","v":"HAMIDA ISMAIL ABDRAMANE"},{"$f":"IF($B$10=\"Farchana\",Farchana!C8,IF($B$10=\"Gaga\",Gaga!C27,IF($B$10=\"Treguine\",Treguine!C27,IF($B$10=\"Bredjing\",Bredjing!C27,\"\"))))","v":0},null,null,{"$f":"IF($B$10=\"Farchana\",Farchana!G8,IF($B$10=\"Gaga\",Gaga!I27,IF($B$10=\"Treguine\",Treguine!G27,IF($B$10=\"Bredjing\",Bredjing!G27,\"\"))))","v":36000}]
[{"$f":"IF($B$10=\"Farchana\",Farchana!A9,IF($B$10=\"Gaga\",Gaga!A28,IF($B$10=\"Treguine\",Treguine!A28,IF($B$10=\"Bredjing\",Bredjing!A28,\"\"))))","v":"867-00023190"},{"$f":"IF($B$10=\"Farchana\",Farchana!B9,IF($B$10=\"Gaga\",Gaga!B28,IF($B$10=\"Treguine\",Treguine!B28,IF($B$10=\"Bredjing\",Bredjing!B28,\"\"))))","v":"SALAH HAMIT YAHYA"},{"$f":"IF($B$10=\"Farchana\",Farchana!C9,IF($B$10=\"Gaga\",Gaga!C28,IF($B$10=\"Treguine\",Treguine!C28,IF($B$10=\"Bredjing\",Bredjing!C28,\"\"))))","v":0},null,null,{"$f":"IF($B$10=\"Farchana\",Farchana!G9,IF($B$10=\"Gaga\",Gaga!I28,IF($B$10=\"Treguine\",Treguine!G28,IF($B$10=\"Bredjing\",Bredjing!G28,\"\"))))","v":36000}]
[{"$f":"IF($B$10=\"Farchana\",Farchana!A10,IF($B$10=\"Gaga\",Gaga!A29,IF($B$10=\"Treguine\",Treguine!A29,IF($B$10=\"Bredjing\",Bredjing!A29,\"\"))))","v":"867-00003141"},{"$f":"IF($B$10=\"Farchana\",Farchana!B10,IF($B$10=\"Gaga\",Gaga!B29,IF($B$10=\"Treguine\",Treguine!B29,IF($B$10=\"Bredjing\",Bredjing!B29,\"\"))))","v":"CHERIF MAHAMAT ABDALLAH"},{"$f":"IF($B$10=\"Farchana\",Farchana!C10,IF($B$10=\"Gaga\",Gaga!C29,IF($B$10=\"Treguine\",Treguine!C29,IF($B$10=\"Bredjing\",Bredjing!C29,\"\"))))","v":0},null,null,{"$f":"IF($B$10=\"Farchana\",Farchana!G10,IF($B$10=\"Gaga\",Gaga!I29,IF($B$10=\"Treguine\",Treguine!G29,IF($B$10=\"Bredjing\",Bredjing!G29,\"\"))))","v":36000}]
[{"$f":"IF($B$10=\"Farchana\",Farchana!A11,IF($B$10=\"Gaga\",Gaga!A30,IF($B$10=\"Treguine\",Treguine!A30,IF($B$10=\"Bredjing\",Bredjing!A30,\"\"))))","v":"867-00010956"},{"$f":"IF($B$10=\"Farchana\",Farchana!B11,IF($B$10=\"Gaga\",Gaga!B30,IF($B$10=\"Treguine\",Treguine!B30,IF($B$10=\"Bredjing\",Bredjing!B30,\"\"))))","v":"ABDELKERIM ADAM YOUSSOUF "},{"$f":"IF($B$10=\"Farchana\",Farchana!C11,IF($B$10=\"Gaga\",Gaga!C30,IF($B$10=\"Treguine\",Treguine!C30,IF($B$10=\"Bredjing\",Bredjing!C30,\"\"))))","v":0},null,null,{"$f":"IF($B$10=\"Farchana\",Farchana!G11,IF($B$10=\"Gaga\",Gaga!I30,IF($B$10=\"Treguine\",Treguine!G30,IF($B$10=\"Bredjing\",Bredjing!G30,\"\"))))","v":36000}]
[{"$f":"IF($B$10=\"Farchana\",Farchana!A12,IF($B$10=\"Gaga\",Gaga!A31,IF($B$10=\"Treguine\",Treguine!A31,IF($B$10=\"Bredjing\",Bredjing!A31,\"\"))))","v":"867-00012013"},{"$f":"IF($B$10=\"Farchana\",Farchana!B12,IF($B$10=\"Gaga\",Gaga!B31,IF($B$10=\"Treguine\",Treguine!B31,IF($B$10=\"Bredjing\",Bredjing!B31,\"\"))))","v":"DARALSSALAM ABDELAZIZ MATAR "},{"$f":"IF($B$10=\"Farchana\",Farchana!C12,IF($B$10=\"Gaga\",Gaga!C31,IF($B$10=\"Treguine\",Treguine!C31,IF($B$10=\"Bredjing\",Bredjing!C31,\"\"))))","v":0},null,null,{"$f":"IF($B$10=\"Farchana\",Farchana!G12,IF($B$10=\"Gaga\",Gaga!I31,IF($B$10=\"Treguine\",Treguine!G31,IF($B$10=\"Bredjing\",Bredjing!G31,\"\"))))","v":36000}]
[{"$f":"IF($B$10=\"Farchana\",Farchana!A13,IF($B$10=\"Gaga\",Gaga!A32,IF($B$10=\"Treguine\",Treguine!A32,IF($B$10=\"Bredjing\",Bredjing!A32,\"\"))))","v":"867-00008195"},{"$f":"IF($B$10=\"Farchana\",Farchana!B13,IF($B$10=\"Gaga\",Gaga!B32,IF($B$10=\"Treguine\",Treguine!B32,IF($B$10=\"Bredjing\",Bredjing!B32,\"\"))))","v":"MAHAMAT ABDALLAH MAHAMAT"},{"$f":"IF($B$10=\"Farchana\",Farchana!C13,IF($B$10=\"Gaga\",Gaga!C32,IF($B$10=\"Treguine\",Treguine!C32,IF($B$10=\"Bredjing\",Bredjing!C32,\"\"))))","v":0},null,null,{"$f":"IF($B$10=\"Farchana\",Farchana!G13,IF($B$10=\"Gaga\",Gaga!I32,IF($B$10=\"Treguine\",Treguine!G32,IF($B$10=\"Bredjing\",Bredjing!G32,\"\"))))","v":36000}]
[{"$f":"IF($B$10=\"Farchana\",Farchana!A14,IF($B$10=\"Gaga\",Gaga!A33,IF($B$10=\"Treguine\",Treguine!A33,IF($B$10=\"Bredjing\",Bredjing!A33,\"\"))))","v":"867-00023091"},{"$f":"IF($B$10=\"Farchana\",Farchana!B14,IF($B$10=\"Gaga\",Gaga!B33,IF($B$10=\"Treguine\",Treguine!B33,IF($B$10=\"Bredjing\",Bredjing!B33,\"\"))))","v":"Abdelghani Adam Ahmat"},{"$f":"IF($B$10=\"Farchana\",Farchana!C14,IF($B$10=\"Gaga\",Gaga!C33,IF($B$10=\"Treguine\",Treguine!C33,IF($B$10=\"Bredjing\",Bredjing!C33,\"\"))))","v":0},null,null,{"$f":"IF($B$10=\"Farchana\",Farchana!G14,IF($B$10=\"Gaga\",Gaga!I33,IF($B$10=\"Treguine\",Treguine!G33,IF($B$10=\"Bredjing\",Bredjing!G33,\"\"))))","v":12000}]
[{"$f":"IF($B$10=\"Farchana\",Farchana!A15,IF($B$10=\"Gaga\",Gaga!A34,IF($B$10=\"Treguine\",Treguine!A34,IF($B$10=\"Bredjing\",Bredjing!A34,\"\"))))","v":"867-00004486"},{"$f":"IF($B$10=\"Farchana\",Farchana!B15,IF($B$10=\"Gaga\",Gaga!B34,IF($B$10=\"Treguine\",Treguine!B34,IF($B$10=\"Bredjing\",Bredjing!B34,\"\"))))","v":"Zanouba Arbab Abdallah"},{"$f":"IF($B$10=\"Farchana\",Farchana!C15,IF($B$10=\"Gaga\",Gaga!C34,IF($B$10=\"Treguine\",Treguine!C34,IF($B$10=\"Bredjing\",Bredjing!C34,\"\"))))","v":0},null,null,{"$f":"IF($B$10=\"Farchana\",Farchana!G15,IF($B$10=\"Gaga\",Gaga!I34,IF($B$10=\"Treguine\",Treguine!G34,IF($B$10=\"Bredjing\",Bredjing!G34,\"\"))))","v":12000}]
[{"$f":"IF($B$10=\"Farchana\",Farchana!A16,IF($B$10=\"Gaga\",Gaga!A35,IF($B$10=\"Treguine\",Treguine!A35,IF($B$10=\"Bredjing\",Bredjing!A35,\"\"))))","v":"867- 0000258"},{"$f":"IF($B$10=\"Farchana\",Farchana!B16,IF($B$10=\"Gaga\",Gaga!B35,IF($B$10=\"Treguine\",Treguine!B35,IF($B$10=\"Bredjing\",Bredjing!B35,\"\"))))","v":"Djimia Ibrahim Ishakh"},{"$f":"IF($B$10=\"Farchana\",Farchana!C16,IF($B$10=\"Gaga\",Gaga!C35,IF($B$10=\"Treguine\",Treguine!C35,IF($B$10=\"Bredjing\",Bredjing!C35,\"\"))))","v":0},null,null,{"$f":"IF($B$10=\"Farchana\",Farchana!G16,IF($B$10=\"Gaga\",Gaga!I35,IF($B$10=\"Treguine\",Treguine!G35,IF($B$10=\"Bredjing\",Bredjing!G35,\"\"))))","v":12000}]
[{"$f":"IF($B$10=\"Farchana\",Farchana!A17,IF($B$10=\"Gaga\",Gaga!A36,IF($B$10=\"Treguine\",Treguine!A36,IF($B$10=\"Bredjing\",Bredjing!A36,\"\"))))","v":"867- 2586000"},{"$f":"IF($B$10=\"Farchana\",Farchana!B17,IF($B$10=\"Gaga\",Gaga!B36,IF($B$10=\"Treguine\",Treguine!B36,IF($B$10=\"Bredjing\",Bredjing!B36,\"\"))))","v":"ANNOUR Mahamat Abdallah"},{"$f":"IF($B$10=\"Farchana\",Farchana!C17,IF($B$10=\"Gaga\",Gaga!C36,IF($B$10=\"Treguine\",Treguine!C36,IF($B$10=\"Bredjing\",Bredjing!C36,\"\"))))","v":0},null,null,{"$f":"IF($B$10=\"Farchana\",Farchana!G17,IF($B$10=\"Gaga\",Gaga!I36,IF($B$10=\"Treguine\",Treguine!G36,IF($B$10=\"Bredjing\",Bredjing!G36,\"\"))))","v":12000}]
[{"$f":"IF($B$10=\"Farchana\",Farchana!A18,IF($B$10=\"Gaga\",Gaga!A37,IF($B$10=\"Treguine\",Treguine!A37,IF($B$10=\"Bredjing\",Bredjing!A37,\"\"))))","v":"867- 0000258"},{"$f":"IF($B$10=\"Farchana\",Farchana!B18,IF($B$10=\"Gaga\",Gaga!B37,IF($B$10=\"Treguine\",Treguine!B37,IF($B$10=\"Bredjing\",Bredjing!B37,\"\"))))","v":"Tomia Mahamat Hamad "},{"$f":"IF($B$10=\"Farchana\",Farchana!C18,IF($B$10=\"Gaga\",Gaga!C37,IF($B$10=\"Treguine\",Treguine!C37,IF($B$10=\"Bredjing\",Bredjing!C37,\"\"))))","v":0},null,null,{"$f":"IF($B$10=\"Farchana\",Farchana!G18,IF($B$10=\"Gaga\",Gaga!I37,IF($B$10=\"Treguine\",Treguine!G37,IF($B$10=\"Bredjing\",Bredjing!G37,\"\"))))","v":12000}]
[{"$f":"IF($B$10=\"Farchana\",Farchana!A19,IF($B$10=\"Gaga\",Gaga!A38,IF($B$10=\"Treguine\",Treguine!A38,IF($B$10=\"Bredjing\",Bredjing!A38,\"\"))))","v":"867-00001614"},{"$f":"IF($B$10=\"Farchana\",Farchana!B19,IF($B$10=\"Gaga\",Gaga!B38,IF($B$10=\"Treguine\",Treguine!B38,IF($B$10=\"Bredjing\",Bredjing!B38,\"\"))))","v":"TIDJANI ADAM MOUSSA"},{"$f":"IF($B$10=\"Farchana\",Farchana!C19,IF($B$10=\"Gaga\",Gaga!C38,IF($B$10=\"Treguine\",Treguine!C38,IF($B$10=\"Bredjing\",Bredjing!C38,\"\"))))","v":0},null,null,{"$f":"IF($B$10=\"Farchana\",Farchana!G19,IF($B$10=\"Gaga\",Gaga!I38,IF($B$10=\"Treguine\",Treguine!G38,IF($B$10=\"Bredjing\",Bredjing!G38,\"\"))))","v":40000}]
[{"$f":"IF($B$10=\"Farchana\",Farchana!A20,IF($B$10=\"Gaga\",Gaga!A39,IF($B$10=\"Treguine\",Treguine!A39,IF($B$10=\"Bredjing\",Bredjing!A39,\"\"))))","v":"867-00015396"},{"$f":"IF($B$10=\"Farchana\",Farchana!B20,IF($B$10=\"Gaga\",Gaga!B39,IF($B$10=\"Treguine\",Treguine!B39,IF($B$10=\"Bredjing\",Bredjing!B39,\"\"))))","v":"OUSMANE AZENE RAHAMTALLAH"},{"$f":"IF($B$10=\"Farchana\",Farchana!C20,IF($B$10=\"Gaga\",Gaga!C39,IF($B$10=\"Treguine\",Treguine!C39,IF($B$10=\"Bredjing\",Bredjing!C39,\"\"))))","v":0},null,null,{"$f":"IF($B$10=\"Farchana\",Farchana!G20,IF($B$10=\"Gaga\",Gaga!I39,IF($B$10=\"Treguine\",Treguine!G39,IF($B$10=\"Bredjing\",Bredjing!G39,\"\"))))","v":40000}]
[{"$f":"IF($B$10=\"Farchana\",Farchana!A21,IF($B$10=\"Gaga\",Gaga!A40,IF($B$10=\"Treguine\",Treguine!A40,IF($B$10=\"Bredjing\",Bredjing!A40,\"\"))))","v":"867-00011222"},{"$f":"IF($B$10=\"Farchana\",Farchana!B21,IF($B$10=\"Gaga\",Gaga!B40,IF($B$10=\"Treguine\",Treguine!B40,IF($B$10=\"Bredjing\",Bredjing!B40,\"\"))))","v":"ABDELMADJID IBRAHIM DAOUD"},{"$f":"IF($B$10=\"Farchana\",Farchana!C21,IF($B$10=\"Gaga\",Gaga!C40,IF($B$10=\"Treguine\",Treguine!C40,IF($B$10=\"Bredjing\",Bredjing!C40,\"\"))))","v":0},null,null,{"$f":"IF($B$10=\"Farchana\",Farchana!G21,IF($B$10=\"Gaga\",Gaga!I40,IF($B$10=\"Treguine\",Treguine!G40,IF($B$10=\"Bredjing\",Bredjing!G40,\"\"))))","v":40000}]
[{"$f":"IF($B$10=\"Farchana\",Farchana!A22,IF($B$10=\"Gaga\",Gaga!A41,IF($B$10=\"Treguine\",Treguine!A41,IF($B$10=\"Bredjing\",Bredjing!A41,\"\"))))","v":"867-00011254"},{"$f":"IF($B$10=\"Farchana\",Farchana!B22,IF($B$10=\"Gaga\",Gaga!B41,IF($B$10=\"Treguine\",Treguine!B41,IF($B$10=\"Bredjing\",Bredjing!B41,\"\"))))","v":"ADAM ABDALLAH YAYA"},{"$f":"IF($B$10=\"Farchana\",Farchana!C22,IF($B$10=\"Gaga\",Gaga!C41,IF($B$10=\"Treguine\",Treguine!C41,IF($B$10=\"Bredjing\",Bredjing!C41,\"\"))))","v":0},null,null,{"$f":"IF($B$10=\"Farchana\",Farchana!G22,IF($B$10=\"Gaga\",Gaga!I41,IF($B$10=\"Treguine\",Treguine!G41,IF($B$10=\"Bredjing\",Bredjing!G41,\"\"))))","v":40000}]
[{"$f":"IF($B$10=\"Farchana\",Farchana!A23,IF($B$10=\"Gaga\",Gaga!A42,IF($B$10=\"Treguine\",Treguine!A42,IF($B$10=\"Bredjing\",Bredjing!A42,\"\"))))","v":"867-00005814"},{"$f":"IF($B$10=\"Farchana\",Farchana!B23,IF($B$10=\"Gaga\",Gaga!B42,IF($B$10=\"Treguine\",Treguine!B42,IF($B$10=\"Bredjing\",Bredjing!B42,\"\"))))","v":"RACHIDA YOUSSOUF IBRAHIM "},{"$f":"IF($B$10=\"Farchana\",Farchana!C23,IF($B$10=\"Gaga\",Gaga!C42,IF($B$10=\"Treguine\",Treguine!C42,IF($B$10=\"Bredjing\",Bredjing!C42,\"\"))))","v":0},null,null,{"$f":"IF($B$10=\"Farchana\",Farchana!G23,IF($B$10=\"Gaga\",Gaga!I42,IF($B$10=\"Treguine\",Treguine!G42,IF($B$10=\"Bredjing\",Bredjing!G42,\"\"))))","v":40000}]
[{"$f":"IF($B$10=\"Farchana\",Farchana!A24,IF($B$10=\"Gaga\",Gaga!A43,IF($B$10=\"Treguine\",Treguine!A43,IF($B$10=\"Bredjing\",Bredjing!A43,\"\"))))","v":"867-00015877"},{"$f":"IF($B$10=\"Farchana\",Farchana!B24,IF($B$10=\"Gaga\",Gaga!B43,IF($B$10=\"Treguine\",Treguine!B43,IF($B$10=\"Bredjing\",Bredjing!B43,\"\"))))","v":"SOULEYMAN YAKHOUB ABAKAR "},{"$f":"IF($B$10=\"Farchana\",Farchana!C24,IF($B$10=\"Gaga\",Gaga!C43,IF($B$10=\"Treguine\",Treguine!C43,IF($B$10=\"Bredjing\",Bredjing!C43,\"\"))))","v":0},null,null,{"$f":"IF($B$10=\"Farchana\",Farchana!G24,IF($B$10=\"Gaga\",Gaga!I43,IF($B$10=\"Treguine\",Treguine!G43,IF($B$10=\"Bredjing\",Bredjing!G43,\"\"))))","v":40000}]
[{"$f":"IF($B$10=\"Farchana\",Farchana!A25,IF($B$10=\"Gaga\",Gaga!A44,IF($B$10=\"Treguine\",Treguine!A44,IF($B$10=\"Bredjing\",Bredjing!A44,\"\"))))","v":"867-000023165"},{"$f":"IF($B$10=\"Farchana\",Farchana!B25,IF($B$10=\"Gaga\",Gaga!B44,IF($B$10=\"Treguine\",Treguine!B44,IF($B$10=\"Bredjing\",Bredjing!B44,\"\"))))","v":"ABDALLAH HAMAT MAHAMAT"},{"$f":"IF($B$10=\"Farchana\",Farchana!C25,IF($B$10=\"Gaga\",Gaga!C44,IF($B$10=\"Treguine\",Treguine!C44,IF($B$10=\"Bredjing\",Bredjing!C44,\"\"))))","v":0},null,null,{"$f":"IF($B$10=\"Farchana\",Farchana!G25,IF($B$10=\"Gaga\",Gaga!I44,IF($B$10=\"Treguine\",Treguine!G44,IF($B$10=\"Bredjing\",Bredjing!G44,\"\"))))","v":36000}]
[{"$f":"IF($B$10=\"Farchana\",Farchana!A26,IF($B$10=\"Gaga\",Gaga!A45,IF($B$10=\"Treguine\",Treguine!A45,IF($B$10=\"Bredjing\",Bredjing!A45,\"\"))))","v":"867-00015806"},{"$f":"IF($B$10=\"Farchana\",Farchana!B26,IF($B$10=\"Gaga\",Gaga!B45,IF($B$10=\"Treguine\",Treguine!B45,IF($B$10=\"Bredjing\",Bredjing!B45,\"\"))))","v":"BATOUL DJOUMA MAHAMAT"},{"$f":"IF($B$10=\"Farchana\",Farchana!C26,IF($B$10=\"Gaga\",Gaga!C45,IF($B$10=\"Treguine\",Treguine!C45,IF($B$10=\"Bredjing\",Bredjing!C45,\"\"))))","v":0},null,null,{"$f":"IF($B$10=\"Farchana\",Farchana!G26,IF($B$10=\"Gaga\",Gaga!I45,IF($B$10=\"Treguine\",Treguine!G45,IF($B$10=\"Bredjing\",Bredjing!G45,\"\"))))","v":36000}]
[{"$f":"IF($B$10=\"Farchana\",Farchana!A27,IF($B$10=\"Gaga\",Gaga!A46,IF($B$10=\"Treguine\",Treguine!A46,IF($B$10=\"Bredjing\",Bredjing!A46,\"\"))))","v":"867-00003635"},{"$f":"IF($B$10=\"Farchana\",Farchana!B27,IF($B$10=\"Gaga\",Gaga!B46,IF($B$10=\"Treguine\",Treguine!B46,IF($B$10=\"Bredjing\",Bredjing!B46,\"\"))))","v":"MAKKI DAFAALLAH OUMAR"},{"$f":"IF($B$10=\"Farchana\",Farchana!C27,IF($B$10=\"Gaga\",Gaga!C46,IF($B$10=\"Treguine\",Treguine!C46,IF($B$10=\"Bredjing\",Bredjing!C46,\"\"))))","v":0},null,null,{"$f":"IF($B$10=\"Farchana\",Farchana!G27,IF($B$10=\"Gaga\",Gaga!I46,IF($B$10=\"Treguine\",Treguine!G46,IF($B$10=\"Bredjing\",Bredjing!G46,\"\"))))","v":36000}]
[{"$f":"IF($B$10=\"Farchana\",Farchana!A28,IF($B$10=\"Gaga\",Gaga!A47,IF($B$10=\"Treguine\",Treguine!A47,IF($B$10=\"Bredjing\",Bredjing!A47,\"\"))))","v":"867-00008144"},{"$f":"IF($B$10=\"Farchana\",Farchana!B28,IF($B$10=\"Gaga\",Gaga!B47,IF($B$10=\"Treguine\",Treguine!B47,IF($B$10=\"Bredjing\",Bredjing!B47,\"\"))))","v":"ABDALLAH HAROUN YOUNOUS"},{"$f":"IF($B$10=\"Farchana\",Farchana!C28,IF($B$10=\"Gaga\",Gaga!C47,IF($B$10=\"Treguine\",Treguine!C47,IF($B$10=\"Bredjing\",Bredjing!C47,\"\"))))","v":0},null,null,{"$f":"IF($B$10=\"Farchana\",Farchana!G28,IF($B$10=\"Gaga\",Gaga!I47,IF($B$10=\"Treguine\",Treguine!G47,IF($B$10=\"Bredjing\",Bredjing!G47,\"\"))))","v":36000}]
[{"$f":"IF($B$10=\"Farchana\",Farchana!A29,IF($B$10=\"Gaga\",Gaga!A48,IF($B$10=\"Treguine\",Treguine!A48,IF($B$10=\"Bredjing\",Bredjing!A48,\"\"))))","v":"867-00007901"},{"$f":"IF($B$10=\"Farchana\",Farchana!B29,IF($B$10=\"Gaga\",Gaga!B48,IF($B$10=\"Treguine\",Treguine!B48,IF($B$10=\"Bredjing\",Bredjing!B48,\"\"))))","v":"ADAM DJOUMA MAHAMAT"},{"$f":"IF($B$10=\"Farchana\",Farchana!C29,IF($B$10=\"Gaga\",Gaga!C48,IF($B$10=\"Treguine\",Treguine!C48,IF($B$10=\"Bredjing\",Bredjing!C48,\"\"))))","v":0},null,null,{"$f":"IF($B$10=\"Farchana\",Farchana!G29,IF($B$10=\"Gaga\",Gaga!I48,IF($B$10=\"Treguine\",Treguine!G48,IF($B$10=\"Bredjing\",Bredjing!G48,\"\"))))","v":36000}]
[{"$f":"IF($B$10=\"Farchana\",Farchana!A30,IF($B$10=\"Gaga\",Gaga!A49,IF($B$10=\"Treguine\",Treguine!A49,IF($B$10=\"Bredjing\",Bredjing!A49,\"\"))))","v":"867-00008000"},{"$f":"IF($B$10=\"Farchana\",Farchana!B30,IF($B$10=\"Gaga\",Gaga!B49,IF($B$10=\"Treguine\",Treguine!B49,IF($B$10=\"Bredjing\",Bredjing!B49,\"\"))))","v":"MOUNIRA MOUSSA DJOUMA "},{"$f":"IF($B$10=\"Farchana\",Farchana!C30,IF($B$10=\"Gaga\",Gaga!C49,IF($B$10=\"Treguine\",Treguine!C49,IF($B$10=\"Bredjing\",Bredjing!C49,\"\"))))","v":0},null,null,{"$f":"IF($B$10=\"Farchana\",Farchana!G30,IF($B$10=\"Gaga\",Gaga!I49,IF($B$10=\"Treguine\",Treguine!G49,IF($B$10=\"Bredjing\",Bredjing!G49,\"\"))))","v":36000}]
[{"$f":"IF($B$10=\"Farchana\",Farchana!A31,IF($B$10=\"Gaga\",Gaga!A50,IF($B$10=\"Treguine\",Treguine!A50,IF($B$10=\"Bredjing\",Bredjing!A50,\"\"))))","v":"867-00015820"},{"$f":"IF($B$10=\"Farchana\",Farchana!B31,IF($B$10=\"Gaga\",Gaga!B50,IF($B$10=\"Treguine\",Treguine!B50,IF($B$10=\"Bredjing\",Bredjing!B50,\"\"))))","v":"AMOUNA IBRAHIM HASSAN"},{"$f":"IF($B$10=\"Farchana\",Farchana!C31,IF($B$10=\"Gaga\",Gaga!C50,IF($B$10=\"Treguine\",Treguine!C50,IF($B$10=\"Bredjing\",Bredjing!C50,\"\"))))","v":0},null,null,{"$f":"IF($B$10=\"Farchana\",Farchana!G31,IF($B$10=\"Gaga\",Gaga!I50,IF($B$10=\"Treguine\",Treguine!G50,IF($B$10=\"Bredjing\",Bredjing!G50,\"\"))))","v":36000}]
[{"$f":"IF($B$10=\"Farchana\",Farchana!A32,IF($B$10=\"Gaga\",Gaga!A51,IF($B$10=\"Treguine\",Treguine!A51,IF($B$10=\"Bredjing\",Bredjing!A51,\"\"))))","v":"867-00008195"},{"$f":"IF($B$10=\"Farchana\",Farchana!B32,IF($B$10=\"Gaga\",Gaga!B51,IF($B$10=\"Treguine\",Treguine!B51,IF($B$10=\"Bredjing\",Bredjing!B51,\"\"))))","v":"MAHADJOUB ADAM ABDALLAH "},{"$f":"IF($B$10=\"Farchana\",Farchana!C32,IF($B$10=\"Gaga\",Gaga!C51,IF($B$10=\"Treguine\",Treguine!C51,IF($B$10=\"Bredjing\",Bredjing!C51,\"\"))))","v":0},null,null,{"$f":"IF($B$10=\"Farchana\",Farchana!G32,IF($B$10=\"Gaga\",Gaga!I51,IF($B$10=\"Treguine\",Treguine!G51,IF($B$10=\"Bredjing\",Bredjing!G51,\"\"))))","v":36000}]
[{"$f":"IF($B$10=\"Farchana\",Farchana!A33,IF($B$10=\"Gaga\",Gaga!A52,IF($B$10=\"Treguine\",Treguine!A52,IF($B$10=\"Bredjing\",Bredjing!A52,\"\"))))","v":"867-0001457"},{"$f":"IF($B$10=\"Farchana\",Farchana!B33,IF($B$10=\"Gaga\",Gaga!B52,IF($B$10=\"Treguine\",Treguine!B52,IF($B$10=\"Bredjing\",Bredjing!B52,\"\"))))","v":"ZAMZAM ABOUBAKAR ZAKARIA "},{"$f":"IF($B$10=\"Farchana\",Farchana!C33,IF($B$10=\"Gaga\",Gaga!C52,IF($B$10=\"Treguine\",Treguine!C52,IF($B$10=\"Bredjing\",Bredjing!C52,\"\"))))","v":0},null,null,{"$f":"IF($B$10=\"Farchana\",Farchana!G33,IF($B$10=\"Gaga\",Gaga!I52,IF($B$10=\"Treguine\",Treguine!G52,IF($B$10=\"Bredjing\",Bredjing!G52,\"\"))))","v":36000}]
[{"$f":"IF($B$10=\"Farchana\",Farchana!A34,IF($B$10=\"Gaga\",Gaga!A53,IF($B$10=\"Treguine\",Treguine!A53,IF($B$10=\"Bredjing\",Bredjing!A53,\"\"))))","v":"867- 0001577"},{"$f":"IF($B$10=\"Farchana\",Farchana!B34,IF($B$10=\"Gaga\",Gaga!B53,IF($B$10=\"Treguine\",Treguine!B53,IF($B$10=\"Bredjing\",Bredjing!B53,\"\"))))","v":"Adam Ismael"},{"$f":"IF($B$10=\"Farchana\",Farchana!C34,IF($B$10=\"Gaga\",Gaga!C53,IF($B$10=\"Treguine\",Treguine!C53,IF($B$10=\"Bredjing\",Bredjing!C53,\"\"))))","v":0},null,null,{"$f":"IF($B$10=\"Farchana\",Farchana!G34,IF($B$10=\"Gaga\",Gaga!I53,IF($B$10=\"Treguine\",Treguine!G53,IF($B$10=\"Bredjing\",Bredjing!G53,\"\"))))","v":12000}]
[{"$f":"IF($B$10=\"Farchana\",Farchana!A35,IF($B$10=\"Gaga\",Gaga!A54,IF($B$10=\"Treguine\",Treguine!A54,IF($B$10=\"Bredjing\",Bredjing!A54,\"\"))))","v":"NB"},{"$f":"IF($B$10=\"Farchana\",Farchana!B35,IF($B$10=\"Gaga\",Gaga!B54,IF($B$10=\"Treguine\",Treguine!B54,IF($B$10=\"Bredjing\",Bredjing!B54,\"\"))))","v":"Fatimé Aboubakar "},{"$f":"IF($B$10=\"Farchana\",Farchana!C35,IF($B$10=\"Gaga\",Gaga!C54,IF($B$10=\"Treguine\",Treguine!C54,IF($B$10=\"Bredjing\",Bredjing!C54,\"\"))))","v":0},null,null,{"$f":"IF($B$10=\"Farchana\",Farchana!G35,IF($B$10=\"Gaga\",Gaga!I54,IF($B$10=\"Treguine\",Treguine!G54,IF($B$10=\"Bredjing\",Bredjing!G54,\"\"))))","v":12000}]
[{"$f":"IF($B$10=\"Farchana\",Farchana!A36,IF($B$10=\"Gaga\",Gaga!A55,IF($B$10=\"Treguine\",Treguine!A55,IF($B$10=\"Bredjing\",Bredjing!A55,\"\"))))","v":"867-00001014"},{"$f":"IF($B$10=\"Farchana\",Farchana!B36,IF($B$10=\"Gaga\",Gaga!B55,IF($B$10=\"Treguine\",Treguine!B55,IF($B$10=\"Bredjing\",Bredjing!B55,\"\"))))","v":"YAHYA ADAM ISMAIL"},{"$f":"IF($B$10=\"Farchana\",Farchana!C36,IF($B$10=\"Gaga\",Gaga!C55,IF($B$10=\"Treguine\",Treguine!C55,IF($B$10=\"Bredjing\",Bredjing!C55,\"\"))))","v":0},null,null,{"$f":"IF($B$10=\"Farchana\",Farchana!G36,IF($B$10=\"Gaga\",Gaga!I55,IF($B$10=\"Treguine\",Treguine!G55,IF($B$10=\"Bredjing\",Bredjing!G55,\"\"))))","v":40000}]
[{"$f":"IF($B$10=\"Farchana\",Farchana!A37,IF($B$10=\"Gaga\",Gaga!A56,IF($B$10=\"Treguine\",Treguine!A56,IF($B$10=\"Bredjing\",Bredjing!A56,\"\"))))","v":"867-00000451"},{"$f":"IF($B$10=\"Farchana\",Farchana!B37,IF($B$10=\"Gaga\",Gaga!B56,IF($B$10=\"Treguine\",Treguine!B56,IF($B$10=\"Bredjing\",Bredjing!B56,\"\"))))","v":"MAHAMAT ADAM MAHAMAT"},{"$f":"IF($B$10=\"Farchana\",Farchana!C37,IF($B$10=\"Gaga\",Gaga!C56,IF($B$10=\"Treguine\",Treguine!C56,IF($B$10=\"Bredjing\",Bredjing!C56,\"\"))))","v":0},null,null,{"$f":"IF($B$10=\"Farchana\",Farchana!G37,IF($B$10=\"Gaga\",Gaga!I56,IF($B$10=\"Treguine\",Treguine!G56,IF($B$10=\"Bredjing\",Bredjing!G56,\"\"))))","v":40000}]
[{"$f":"IF($B$10=\"Farchana\",Farchana!A38,IF($B$10=\"Gaga\",Gaga!A57,IF($B$10=\"Treguine\",Treguine!A57,IF($B$10=\"Bredjing\",Bredjing!A57,\"\"))))","v":"867-00012634"},{"$f":"IF($B$10=\"Farchana\",Farchana!B38,IF($B$10=\"Gaga\",Gaga!B57,IF($B$10=\"Treguine\",Treguine!B57,IF($B$10=\"Bredjing\",Bredjing!B57,\"\"))))","v":"HISSEIN ADAM ISMAIL"},{"$f":"IF($B$10=\"Farchana\",Farchana!C38,IF($B$10=\"Gaga\",Gaga!C57,IF($B$10=\"Treguine\",Treguine!C57,IF($B$10=\"Bredjing\",Bredjing!C57,\"\"))))","v":0},null,null,{"$f":"IF($B$10=\"Farchana\",Farchana!G38,IF($B$10=\"Gaga\",Gaga!I57,IF($B$10=\"Treguine\",Treguine!G57,IF($B$10=\"Bredjing\",Bredjing!G57,\"\"))))","v":36000}]
[{"$f":"IF($B$10=\"Farchana\",Farchana!A39,IF($B$10=\"Gaga\",Gaga!A58,IF($B$10=\"Treguine\",Treguine!A58,IF($B$10=\"Bredjing\",Bredjing!A58,\"\"))))","v":"867-00002251"},{"$f":"IF($B$10=\"Farchana\",Farchana!B39,IF($B$10=\"Gaga\",Gaga!B58,IF($B$10=\"Treguine\",Treguine!B58,IF($B$10=\"Bredjing\",Bredjing!B58,\"\"))))","v":"ASSADICK ADAM ABDELRASSOUL"},{"$f":"IF($B$10=\"Farchana\",Farchana!C39,IF($B$10=\"Gaga\",Gaga!C58,IF($B$10=\"Treguine\",Treguine!C58,IF($B$10=\"Bredjing\",Bredjing!C58,\"\"))))","v":0},null,null,{"$f":"IF($B$10=\"Farchana\",Farchana!G39,IF($B$10=\"Gaga\",Gaga!I58,IF($B$10=\"Treguine\",Treguine!G58,IF($B$10=\"Bredjing\",Bredjing!G58,\"\"))))","v":36000}]
[{"$f":"IF($B$10=\"Farchana\",Farchana!A40,IF($B$10=\"Gaga\",Gaga!A59,IF($B$10=\"Treguine\",Treguine!A59,IF($B$10=\"Bredjing\",Bredjing!A59,\"\"))))","v":"867-00012704"},{"$f":"IF($B$10=\"Farchana\",Farchana!B40,IF($B$10=\"Gaga\",Gaga!B59,IF($B$10=\"Treguine\",Treguine!B59,IF($B$10=\"Bredjing\",Bredjing!B59,\"\"))))","v":"ISMAIL ADAM HISSEIN"},{"$f":"IF($B$10=\"Farchana\",Farchana!C40,IF($B$10=\"Gaga\",Gaga!C59,IF($B$10=\"Treguine\",Treguine!C59,IF($B$10=\"Bredjing\",Bredjing!C59,\"\"))))","v":0},null,null,{"$f":"IF($B$10=\"Farchana\",Farchana!G40,IF($B$10=\"Gaga\",Gaga!I59,IF($B$10=\"Treguine\",Treguine!G59,IF($B$10=\"Bredjing\",Bredjing!G59,\"\"))))","v":36000}]
[{"$f":"IF($B$10=\"Farchana\",Farchana!A41,IF($B$10=\"Gaga\",Gaga!A60,IF($B$10=\"Treguine\",Treguine!A60,IF($B$10=\"Bredjing\",Bredjing!A60,\"\"))))","v":"867-00023192"},{"$f":"IF($B$10=\"Farchana\",Farchana!B41,IF($B$10=\"Gaga\",Gaga!B60,IF($B$10=\"Treguine\",Treguine!B60,IF($B$10=\"Bredjing\",Bredjing!B60,\"\"))))","v":"ISMAIL YAKHOUB ABDALLAH"},{"$f":"IF($B$10=\"Farchana\",Farchana!C41,IF($B$10=\"Gaga\",Gaga!C60,IF($B$10=\"Treguine\",Treguine!C60,IF($B$10=\"Bredjing\",Bredjing!C60,\"\"))))","v":0},null,null,{"$f":"IF($B$10=\"Farchana\",Farchana!G41,IF($B$10=\"Gaga\",Gaga!I60,IF($B$10=\"Treguine\",Treguine!G60,IF($B$10=\"Bredjing\",Bredjing!G60,\"\"))))","v":36000}]
[{"$f":"IF($B$10=\"Farchana\",Farchana!A42,IF($B$10=\"Gaga\",Gaga!A61,IF($B$10=\"Treguine\",Treguine!A61,IF($B$10=\"Bredjing\",Bredjing!A61,\"\"))))","v":"867-00006528"},{"$f":"IF($B$10=\"Farchana\",Farchana!B42,IF($B$10=\"Gaga\",Gaga!B61,IF($B$10=\"Treguine\",Treguine!B61,IF($B$10=\"Bredjing\",Bredjing!B61,\"\"))))","v":"YOUSSOUF DOUNGA HAROUN"},{"$f":"IF($B$10=\"Farchana\",Farchana!C42,IF($B$10=\"Gaga\",Gaga!C61,IF($B$10=\"Treguine\",Treguine!C61,IF($B$10=\"Bredjing\",Bredjing!C61,\"\"))))","v":0},null,null,{"$f":"IF($B$10=\"Farchana\",Farchana!G42,IF($B$10=\"Gaga\",Gaga!I61,IF($B$10=\"Treguine\",Treguine!G61,IF($B$10=\"Bredjing\",Bredjing!G61,\"\"))))","v":36000}]
[{"$f":"IF($B$10=\"Farchana\",Farchana!A43,IF($B$10=\"Gaga\",Gaga!A62,IF($B$10=\"Treguine\",Treguine!A62,IF($B$10=\"Bredjing\",Bredjing!A62,\"\"))))","v":"867-00008714"},{"$f":"IF($B$10=\"Farchana\",Farchana!B43,IF($B$10=\"Gaga\",Gaga!B62,IF($B$10=\"Treguine\",Treguine!B62,IF($B$10=\"Bredjing\",Bredjing!B62,\"\"))))","v":"AZIZA DJOUMA MAHAMAT"},{"$f":"IF($B$10=\"Farchana\",Farchana!C43,IF($B$10=\"Gaga\",Gaga!C62,IF($B$10=\"Treguine\",Treguine!C62,IF($B$10=\"Bredjing\",Bredjing!C62,\"\"))))","v":0},null,null,{"$f":"IF($B$10=\"Farchana\",Farchana!G43,IF($B$10=\"Gaga\",Gaga!I62,IF($B$10=\"Treguine\",Treguine!G62,IF($B$10=\"Bredjing\",Bredjing!G62,\"\"))))","v":36000}]
[{"$f":"IF($B$10=\"Farchana\",Farchana!A44,IF($B$10=\"Gaga\",Gaga!A63,IF($B$10=\"Treguine\",Treguine!A63,IF($B$10=\"Bredjing\",Bredjing!A63,\"\"))))","v":"867-00012704"},{"$f":"IF($B$10=\"Farchana\",Farchana!B44,IF($B$10=\"Gaga\",Gaga!B63,IF($B$10=\"Treguine\",Treguine!B63,IF($B$10=\"Bredjing\",Bredjing!B63,\"\"))))","v":"MAHAMAT YAHYA ADAM"},{"$f":"IF($B$10=\"Farchana\",Farchana!C44,IF($B$10=\"Gaga\",Gaga!C63,IF($B$10=\"Treguine\",Treguine!C63,IF($B$10=\"Bredjing\",Bredjing!C63,\"\"))))","v":0},null,null,{"$f":"IF($B$10=\"Farchana\",Farchana!G44,IF($B$10=\"Gaga\",Gaga!I63,IF($B$10=\"Treguine\",Treguine!G63,IF($B$10=\"Bredjing\",Bredjing!G63,\"\"))))","v":36000}]
[{"$f":"IF($B$10=\"Farchana\",Farchana!A45,IF($B$10=\"Gaga\",Gaga!A64,IF($B$10=\"Treguine\",Treguine!A64,IF($B$10=\"Bredjing\",Bredjing!A64,\"\"))))","v":"867-00004531"},{"$f":"IF($B$10=\"Farchana\",Farchana!B45,IF($B$10=\"Gaga\",Gaga!B64,IF($B$10=\"Treguine\",Treguine!B64,IF($B$10=\"Bredjing\",Bredjing!B64,\"\"))))","v":"MOUKHTAR ABAKAR MAHAMAT "},{"$f":"IF($B$10=\"Farchana\",Farchana!C45,IF($B$10=\"Gaga\",Gaga!C64,IF($B$10=\"Treguine\",Treguine!C64,IF($B$10=\"Bredjing\",Bredjing!C64,\"\"))))","v":0},null,null,{"$f":"IF($B$10=\"Farchana\",Farchana!G45,IF($B$10=\"Gaga\",Gaga!I64,IF($B$10=\"Treguine\",Treguine!G64,IF($B$10=\"Bredjing\",Bredjing!G64,\"\"))))","v":36000}]
[{"$f":"IF($B$10=\"Farchana\",Farchana!A46,IF($B$10=\"Gaga\",Gaga!A65,IF($B$10=\"Treguine\",Treguine!A65,IF($B$10=\"Bredjing\",Bredjing!A65,\"\"))))","v":"867-00004781"},{"$f":"IF($B$10=\"Farchana\",Farchana!B46,IF($B$10=\"Gaga\",Gaga!B65,IF($B$10=\"Treguine\",Treguine!B65,IF($B$10=\"Bredjing\",Bredjing!B65,\"\"))))","v":"MAHASSINE AHMAT IDRISS"},{"$f":"IF($B$10=\"Farchana\",Farchana!C46,IF($B$10=\"Gaga\",Gaga!C65,IF($B$10=\"Treguine\",Treguine!C65,IF($B$10=\"Bredjing\",Bredjing!C65,\"\"))))","v":0},null,null,{"$f":"IF($B$10=\"Farchana\",Farchana!G46,IF($B$10=\"Gaga\",Gaga!I65,IF($B$10=\"Treguine\",Treguine!G65,IF($B$10=\"Bredjing\",Bredjing!G65,\"\"))))","v":36000}]
[{"$f":"IF($B$10=\"Farchana\",Farchana!A47,IF($B$10=\"Gaga\",Gaga!A66,IF($B$10=\"Treguine\",Treguine!A66,IF($B$10=\"Bredjing\",Bredjing!A66,\"\"))))","v":"NB"},{"$f":"IF($B$10=\"Farchana\",Farchana!B47,IF($B$10=\"Gaga\",Gaga!B66,IF($B$10=\"Treguine\",Treguine!B66,IF($B$10=\"Bredjing\",Bredjing!B66,\"\"))))","v":"Yakhoub Ibrahim Yahya"},{"$f":"IF($B$10=\"Farchana\",Farchana!C47,IF($B$10=\"Gaga\",Gaga!C66,IF($B$10=\"Treguine\",Treguine!C66,IF($B$10=\"Bredjing\",Bredjing!C66,\"\"))))","v":0},null,null,{"$f":"IF($B$10=\"Farchana\",Farchana!G47,IF($B$10=\"Gaga\",Gaga!I66,IF($B$10=\"Treguine\",Treguine!G66,IF($B$10=\"Bredjing\",Bredjing!G66,\"\"))))","v":12000}]
[{"$f":"IF($B$10=\"Farchana\",Farchana!A48,IF($B$10=\"Gaga\",Gaga!A67,IF($B$10=\"Treguine\",Treguine!A67,IF($B$10=\"Bredjing\",Bredjing!A67,\"\"))))","v":"NB"},{"$f":"IF($B$10=\"Farchana\",Farchana!B48,IF($B$10=\"Gaga\",Gaga!B67,IF($B$10=\"Treguine\",Treguine!B67,IF($B$10=\"Bredjing\",Bredjing!B67,\"\"))))","v":"Djouma Moussa Souleyman "},{"$f":"IF($B$10=\"Farchana\",Farchana!C48,IF($B$10=\"Gaga\",Gaga!C67,IF($B$10=\"Treguine\",Treguine!C67,IF($B$10=\"Bredjing\",Bredjing!C67,\"\"))))","v":0},null,null,{"$f":"IF($B$10=\"Farchana\",Farchana!G48,IF($B$10=\"Gaga\",Gaga!I67,IF($B$10=\"Treguine\",Treguine!G67,IF($B$10=\"Bredjing\",Bredjing!G67,\"\"))))","v":12000}]
[{"$f":"IF($B$10=\"Farchana\",Farchana!A49,IF($B$10=\"Gaga\",Gaga!A68,IF($B$10=\"Treguine\",Treguine!A68,IF($B$10=\"Bredjing\",Bredjing!A68,\"\"))))","v":"867-00016851"},{"$f":"IF($B$10=\"Farchana\",Farchana!B49,IF($B$10=\"Gaga\",Gaga!B68,IF($B$10=\"Treguine\",Treguine!B68,IF($B$10=\"Bredjing\",Bredjing!B68,\"\"))))","v":"Djimia Oumar Moussa "},{"$f":"IF($B$10=\"Farchana\",Farchana!C49,IF($B$10=\"Gaga\",Gaga!C68,IF($B$10=\"Treguine\",Treguine!C68,IF($B$10=\"Bredjing\",Bredjing!C68,\"\"))))","v":0},null,null,{"$f":"IF($B$10=\"Farchana\",Farchana!G49,IF($B$10=\"Gaga\",Gaga!I68,IF($B$10=\"Treguine\",Treguine!G68,IF($B$10=\"Bredjing\",Bredjing!G68,\"\"))))","v":12000}]
[{"$f":"IF($B$10=\"Farchana\",Farchana!A50,IF($B$10=\"Gaga\",Gaga!A69,IF($B$10=\"Treguine\",Treguine!A69,IF($B$10=\"Bredjing\",Bredjing!A69,\"\"))))","v":"867-00006642"},{"$f":"IF($B$10=\"Farchana\",Farchana!B50,IF($B$10=\"Gaga\",Gaga!B69,IF($B$10=\"Treguine\",Treguine!B69,IF($B$10=\"Bredjing\",Bredjing!B69,\"\"))))","v":"ABDALLAH ADAM MAHAMAT"},{"$f":"IF($B$10=\"Farchana\",Farchana!C50,IF($B$10=\"Gaga\",Gaga!C69,IF($B$10=\"Treguine\",Treguine!C69,IF($B$10=\"Bredjing\",Bredjing!C69,\"\"))))","v":0},null,null,{"$f":"IF($B$10=\"Farchana\",Farchana!G50,IF($B$10=\"Gaga\",Gaga!I69,IF($B$10=\"Treguine\",Treguine!G69,IF($B$10=\"Bredjing\",Bredjing!G69,\"\"))))","v":40000}]
[{"$f":"IF($B$10=\"Farchana\",Farchana!A51,IF($B$10=\"Gaga\",Gaga!A70,IF($B$10=\"Treguine\",Treguine!A70,IF($B$10=\"Bredjing\",Bredjing!A70,\"\"))))","v":"867-00008206"},{"$f":"IF($B$10=\"Farchana\",Farchana!B51,IF($B$10=\"Gaga\",Gaga!B70,IF($B$10=\"Treguine\",Treguine!B70,IF($B$10=\"Bredjing\",Bredjing!B70,\"\"))))","v":"HASSAN ABAKAR ISSAKH "},{"$f":"IF($B$10=\"Farchana\",Farchana!C51,IF($B$10=\"Gaga\",Gaga!C70,IF($B$10=\"Treguine\",Treguine!C70,IF($B$10=\"Bredjing\",Bredjing!C70,\"\"))))","v":0},null,null,{"$f":"IF($B$10=\"Farchana\",Farchana!G51,IF($B$10=\"Gaga\",Gaga!I70,IF($B$10=\"Treguine\",Treguine!G70,IF($B$10=\"Bredjing\",Bredjing!G70,\"\"))))","v":40000}]
[{"$f":"IF($B$10=\"Farchana\",Farchana!A52,IF($B$10=\"Gaga\",Gaga!A71,IF($B$10=\"Treguine\",Treguine!A71,IF($B$10=\"Bredjing\",Bredjing!A71,\"\"))))","v":"867-00005157"},{"$f":"IF($B$10=\"Farchana\",Farchana!B52,IF($B$10=\"Gaga\",Gaga!B71,IF($B$10=\"Treguine\",Treguine!B71,IF($B$10=\"Bredjing\",Bredjing!B71,\"\"))))","v":"ABOUBAKAR ISMAIL SOULEYMANE"},{"$f":"IF($B$10=\"Farchana\",Farchana!C52,IF($B$10=\"Gaga\",Gaga!C71,IF($B$10=\"Treguine\",Treguine!C71,IF($B$10=\"Bredjing\",Bredjing!C71,\"\"))))","v":0},null,null,{"$f":"IF($B$10=\"Farchana\",Farchana!G52,IF($B$10=\"Gaga\",Gaga!I71,IF($B$10=\"Treguine\",Treguine!G71,IF($B$10=\"Bredjing\",Bredjing!G71,\"\"))))","v":36000}]
[{"$f":"IF($B$10=\"Farchana\",Farchana!A53,IF($B$10=\"Gaga\",Gaga!A72,IF($B$10=\"Treguine\",Treguine!A72,IF($B$10=\"Bredjing\",Bredjing!A72,\"\"))))","v":"867-00023095"},{"$f":"IF($B$10=\"Farchana\",Farchana!B53,IF($B$10=\"Gaga\",Gaga!B72,IF($B$10=\"Treguine\",Treguine!B72,IF($B$10=\"Bredjing\",Bredjing!B72,\"\"))))","v":"AYOUB ABDALLAH SOULEYMANE"},{"$f":"IF($B$10=\"Farchana\",Farchana!C53,IF($B$10=\"Gaga\",Gaga!C72,IF($B$10=\"Treguine\",Treguine!C72,IF($B$10=\"Bredjing\",Bredjing!C72,\"\"))))","v":0},null,null,{"$f":"IF($B$10=\"Farchana\",Farchana!G53,IF($B$10=\"Gaga\",Gaga!I72,IF($B$10=\"Treguine\",Treguine!G72,IF($B$10=\"Bredjing\",Bredjing!G72,\"\"))))","v":36000}]
[{"$f":"IF($B$10=\"Farchana\",Farchana!A54,IF($B$10=\"Gaga\",Gaga!A73,IF($B$10=\"Treguine\",Treguine!A73,IF($B$10=\"Bredjing\",Bredjing!A73,\"\"))))","v":"867-00012057"},{"$f":"IF($B$10=\"Farchana\",Farchana!B54,IF($B$10=\"Gaga\",Gaga!B73,IF($B$10=\"Treguine\",Treguine!B73,IF($B$10=\"Bredjing\",Bredjing!B73,\"\"))))","v":"ABDELMADJID BAKHIT ISHAKH"},{"$f":"IF($B$10=\"Farchana\",Farchana!C54,IF($B$10=\"Gaga\",Gaga!C73,IF($B$10=\"Treguine\",Treguine!C73,IF($B$10=\"Bredjing\",Bredjing!C73,\"\"))))","v":0},null,null,{"$f":"IF($B$10=\"Farchana\",Farchana!G54,IF($B$10=\"Gaga\",Gaga!I73,IF($B$10=\"Treguine\",Treguine!G73,IF($B$10=\"Bredjing\",Bredjing!G73,\"\"))))","v":36000}]
[{"$f":"IF($B$10=\"Farchana\",Farchana!A55,IF($B$10=\"Gaga\",Gaga!A74,IF($B$10=\"Treguine\",Treguine!A74,IF($B$10=\"Bredjing\",Bredjing!A74,\"\"))))","v":"867-00026103"},{"$f":"IF($B$10=\"Farchana\",Farchana!B55,IF($B$10=\"Gaga\",Gaga!B74,IF($B$10=\"Treguine\",Treguine!B74,IF($B$10=\"Bredjing\",Bredjing!B74,\"\"))))","v":"SALWA OUSMANE HAROUN"},{"$f":"IF($B$10=\"Farchana\",Farchana!C55,IF($B$10=\"Gaga\",Gaga!C74,IF($B$10=\"Treguine\",Treguine!C74,IF($B$10=\"Bredjing\",Bredjing!C74,\"\"))))","v":0},null,null,{"$f":"IF($B$10=\"Farchana\",Farchana!G55,IF($B$10=\"Gaga\",Gaga!I74,IF($B$10=\"Treguine\",Treguine!G74,IF($B$10=\"Bredjing\",Bredjing!G74,\"\"))))","v":36000}]
[{"$f":"IF($B$10=\"Farchana\",Farchana!A56,IF($B$10=\"Gaga\",Gaga!A75,IF($B$10=\"Treguine\",Treguine!A75,IF($B$10=\"Bredjing\",Bredjing!A75,\"\"))))","v":"867-00001570"},{"$f":"IF($B$10=\"Farchana\",Farchana!B56,IF($B$10=\"Gaga\",Gaga!B75,IF($B$10=\"Treguine\",Treguine!B75,IF($B$10=\"Bredjing\",Bredjing!B75,\"\"))))","v":"FAIZA MAHAMAT ABDALLAH"},{"$f":"IF($B$10=\"Farchana\",Farchana!C56,IF($B$10=\"Gaga\",Gaga!C75,IF($B$10=\"Treguine\",Treguine!C75,IF($B$10=\"Bredjing\",Bredjing!C75,\"\"))))","v":0},null,null,{"$f":"IF($B$10=\"Farchana\",Farchana!G56,IF($B$10=\"Gaga\",Gaga!I75,IF($B$10=\"Treguine\",Treguine!G75,IF($B$10=\"Bredjing\",Bredjing!G75,\"\"))))","v":36000}]
[{"$f":"IF($B$10=\"Farchana\",Farchana!A57,IF($B$10=\"Gaga\",Gaga!A76,IF($B$10=\"Treguine\",Treguine!A76,IF($B$10=\"Bredjing\",Bredjing!A76,\"\"))))","v":"867-00006995"},{"$f":"IF($B$10=\"Farchana\",Farchana!B57,IF($B$10=\"Gaga\",Gaga!B76,IF($B$10=\"Treguine\",Treguine!B76,IF($B$10=\"Bredjing\",Bredjing!B76,\"\"))))","v":"ABDOU ZAKARIA HAROUN"},{"$f":"IF($B$10=\"Farchana\",Farchana!C57,IF($B$10=\"Gaga\",Gaga!C76,IF($B$10=\"Treguine\",Treguine!C76,IF($B$10=\"Bredjing\",Bredjing!C76,\"\"))))","v":0},null,null,{"$f":"IF($B$10=\"Farchana\",Farchana!G57,IF($B$10=\"Gaga\",Gaga!I76,IF($B$10=\"Treguine\",Treguine!G76,IF($B$10=\"Bredjing\",Bredjing!G76,\"\"))))","v":36000}]
[{"$f":"IF($B$10=\"Farchana\",Farchana!A58,IF($B$10=\"Gaga\",Gaga!A77,IF($B$10=\"Treguine\",Treguine!A77,IF($B$10=\"Bredjing\",Bredjing!A77,\"\"))))","v":"867-00014938"},{"$f":"IF($B$10=\"Farchana\",Farchana!B58,IF($B$10=\"Gaga\",Gaga!B77,IF($B$10=\"Treguine\",Treguine!B77,IF($B$10=\"Bredjing\",Bredjing!B77,\"\"))))","v":"ASSADICK HISSEIN ABDALLAH "},{"$f":"IF($B$10=\"Farchana\",Farchana!C58,IF($B$10=\"Gaga\",Gaga!C77,IF($B$10=\"Treguine\",Treguine!C77,IF($B$10=\"Bredjing\",Bredjing!C77,\"\"))))","v":0},null,null,{"$f":"IF($B$10=\"Farchana\",Farchana!G58,IF($B$10=\"Gaga\",Gaga!I77,IF($B$10=\"Treguine\",Treguine!G77,IF($B$10=\"Bredjing\",Bredjing!G77,\"\"))))","v":36000}]
[{"$f":"IF($B$10=\"Farchana\",Farchana!A59,IF($B$10=\"Gaga\",Gaga!A78,IF($B$10=\"Treguine\",Treguine!A78,IF($B$10=\"Bredjing\",Bredjing!A78,\"\"))))","v":"867-0000258"},{"$f":"IF($B$10=\"Farchana\",Farchana!B59,IF($B$10=\"Gaga\",Gaga!B78,IF($B$10=\"Treguine\",Treguine!B78,IF($B$10=\"Bredjing\",Bredjing!B78,\"\"))))","v":"Abakar Yakhoub Rizikh"},{"$f":"IF($B$10=\"Farchana\",Farchana!C59,IF($B$10=\"Gaga\",Gaga!C78,IF($B$10=\"Treguine\",Treguine!C78,IF($B$10=\"Bredjing\",Bredjing!C78,\"\"))))","v":0},null,null,{"$f":"IF($B$10=\"Farchana\",Farchana!G59,IF($B$10=\"Gaga\",Gaga!I78,IF($B$10=\"Treguine\",Treguine!G78,IF($B$10=\"Bredjing\",Bredjing!G78,\"\"))))","v":12000}]
[{"$f":"IF($B$10=\"Farchana\",Farchana!A60,IF($B$10=\"Gaga\",Gaga!A79,IF($B$10=\"Treguine\",Treguine!A79,IF($B$10=\"Bredjing\",Bredjing!A79,\"\"))))","v":"867-00007408"},{"$f":"IF($B$10=\"Farchana\",Farchana!B60,IF($B$10=\"Gaga\",Gaga!B79,IF($B$10=\"Treguine\",Treguine!B79,IF($B$10=\"Bredjing\",Bredjing!B79,\"\"))))","v":"Khamis Hassan Mahamat"},{"$f":"IF($B$10=\"Farchana\",Farchana!C60,IF($B$10=\"Gaga\",Gaga!C79,IF($B$10=\"Treguine\",Treguine!C79,IF($B$10=\"Bredjing\",Bredjing!C79,\"\"))))","v":0},null,null,{"$f":"IF($B$10=\"Farchana\",Farchana!G60,IF($B$10=\"Gaga\",Gaga!I79,IF($B$10=\"Treguine\",Treguine!G79,IF($B$10=\"Bredjing\",Bredjing!G79,\"\"))))","v":12000}]
[{"$f":"IF($B$10=\"Farchana\",Farchana!A61,IF($B$10=\"Gaga\",Gaga!A80,IF($B$10=\"Treguine\",Treguine!A80,IF($B$10=\"Bredjing\",Bredjing!A80,\"\"))))","v":"867-00012923"},{"$f":"IF($B$10=\"Farchana\",Farchana!B61,IF($B$10=\"Gaga\",Gaga!B80,IF($B$10=\"Treguine\",Treguine!B80,IF($B$10=\"Bredjing\",Bredjing!B80,\"\"))))","v":"Abakar Abdallah Daoud"},{"$f":"IF($B$10=\"Farchana\",Farchana!C61,IF($B$10=\"Gaga\",Gaga!C80,IF($B$10=\"Treguine\",Treguine!C80,IF($B$10=\"Bredjing\",Bredjing!C80,\"\"))))","v":0},null,null,{"$f":"IF($B$10=\"Farchana\",Farchana!G61,IF($B$10=\"Gaga\",Gaga!I80,IF($B$10=\"Treguine\",Treguine!G80,IF($B$10=\"Bredjing\",Bredjing!G80,\"\"))))","v":12000},null,null,null,"B"]
[{"$f":"IF($B$10=\"Farchana\",Farchana!A62,IF($B$10=\"Gaga\",Gaga!A81,IF($B$10=\"Treguine\",Treguine!A81,IF($B$10=\"Bredjing\",Bredjing!A81,\"\"))))","v":0},{"$f":"IF($B$10=\"Farchana\",Farchana!B62,IF($B$10=\"Gaga\",Gaga!B81,IF($B$10=\"Treguine\",Treguine!B81,IF($B$10=\"Bredjing\",Bredjing!B81,\"\"))))","v":0},{"$f":"IF($B$10=\"Farchana\",Farchana!C62,IF($B$10=\"Gaga\",Gaga!C81,IF($B$10=\"Treguine\",Treguine!C81,IF($B$10=\"Bredjing\",Bredjing!C81,\"\"))))","v":0},null,null,{"$f":"IF($B$10=\"Farchana\",Farchana!G62,IF($B$10=\"Gaga\",Gaga!I81,IF($B$10=\"Treguine\",Treguine!G81,IF($B$10=\"Bredjing\",Bredjing!G81,\"\"))))","v":""}]
[{"$f":"IF($B$10=\"Farchana\",Farchana!A63,IF($B$10=\"Gaga\",Gaga!A82,IF($B$10=\"Treguine\",Treguine!A82,IF($B$10=\"Bredjing\",Bredjing!A82,\"\"))))","v":0},{"$f":"IF($B$10=\"Farchana\",Farchana!B63,IF($B$10=\"Gaga\",Gaga!B82,IF($B$10=\"Treguine\",Treguine!B82,IF($B$10=\"Bredjing\",Bredjing!B82,\"\"))))","v":0},{"$f":"IF($B$10=\"Farchana\",Farchana!C63,IF($B$10=\"Gaga\",Gaga!C82,IF($B$10=\"Treguine\",Treguine!C82,IF($B$10=\"Bredjing\",Bredjing!C82,\"\"))))","v":0},null,null,{"$f":"IF($B$10=\"Farchana\",Farchana!G63,IF($B$10=\"Gaga\",Gaga!I82,IF($B$10=\"Treguine\",Treguine!G82,IF($B$10=\"Bredjing\",Bredjing!G82,\"\"))))","v":""}]
[{"$f":"IF($B$10=\"Farchana\",Farchana!A64,IF($B$10=\"Gaga\",Gaga!A83,IF($B$10=\"Treguine\",Treguine!A83,IF($B$10=\"Bredjing\",Bredjing!A83,\"\"))))","v":0},{"$f":"IF($B$10=\"Farchana\",Farchana!B64,IF($B$10=\"Gaga\",Gaga!B83,IF($B$10=\"Treguine\",Treguine!B83,IF($B$10=\"Bredjing\",Bredjing!B83,\"\"))))","v":0},{"$f":"IF($B$10=\"Farchana\",Farchana!C64,IF($B$10=\"Gaga\",Gaga!C83,IF($B$10=\"Treguine\",Treguine!C83,IF($B$10=\"Bredjing\",Bredjing!C83,\"\"))))","v":0},null,null,{"$f":"IF($B$10=\"Farchana\",Farchana!G64,IF($B$10=\"Gaga\",Gaga!I83,IF($B$10=\"Treguine\",Treguine!G83,IF($B$10=\"Bredjing\",Bredjing!G83,\"\"))))","v":""}]
[{"$f":"IF($B$10=\"Farchana\",Farchana!A65,IF($B$10=\"Gaga\",Gaga!A84,IF($B$10=\"Treguine\",Treguine!A84,IF($B$10=\"Bredjing\",Bredjing!A84,\"\"))))","v":0},{"$f":"IF($B$10=\"Farchana\",Farchana!B65,IF($B$10=\"Gaga\",Gaga!B84,IF($B$10=\"Treguine\",Treguine!B84,IF($B$10=\"Bredjing\",Bredjing!B84,\"\"))))","v":0},{"$f":"IF($B$10=\"Farchana\",Farchana!C65,IF($B$10=\"Gaga\",Gaga!C84,IF($B$10=\"Treguine\",Treguine!C84,IF($B$10=\"Bredjing\",Bredjing!C84,\"\"))))","v":0},null,null,{"$f":"IF($B$10=\"Farchana\",Farchana!G65,IF($B$10=\"Gaga\",Gaga!I84,IF($B$10=\"Treguine\",Treguine!G84,IF($B$10=\"Bredjing\",Bredjing!G84,\"\"))))","v":""}]
[{"$f":"IF($B$10=\"Farchana\",Farchana!A66,IF($B$10=\"Gaga\",Gaga!A85,IF($B$10=\"Treguine\",Treguine!A85,IF($B$10=\"Bredjing\",Bredjing!A85,\"\"))))","v":0},{"$f":"IF($B$10=\"Farchana\",Farchana!B66,IF($B$10=\"Gaga\",Gaga!B85,IF($B$10=\"Treguine\",Treguine!B85,IF($B$10=\"Bredjing\",Bredjing!B85,\"\"))))","v":0},{"$f":"IF($B$10=\"Farchana\",Farchana!C66,IF($B$10=\"Gaga\",Gaga!C85,IF($B$10=\"Treguine\",Treguine!C85,IF($B$10=\"Bredjing\",Bredjing!C85,\"\"))))","v":0},null,null,{"$f":"IF($B$10=\"Farchana\",Farchana!G66,IF($B$10=\"Gaga\",Gaga!I85,IF($B$10=\"Treguine\",Treguine!G85,IF($B$10=\"Bredjing\",Bredjing!G85,\"\"))))","v":""}]
[{"$f":"IF($B$10=\"Farchana\",Farchana!A67,IF($B$10=\"Gaga\",Gaga!A86,IF($B$10=\"Treguine\",Treguine!A86,IF($B$10=\"Bredjing\",Bredjing!A86,\"\"))))","v":0},{"$f":"IF($B$10=\"Farchana\",Farchana!B67,IF($B$10=\"Gaga\",Gaga!B86,IF($B$10=\"Treguine\",Treguine!B86,IF($B$10=\"Bredjing\",Bredjing!B86,\"\"))))","v":0},{"$f":"IF($B$10=\"Farchana\",Farchana!C67,IF($B$10=\"Gaga\",Gaga!C86,IF($B$10=\"Treguine\",Treguine!C86,IF($B$10=\"Bredjing\",Bredjing!C86,\"\"))))","v":0},null,null,{"$f":"IF($B$10=\"Farchana\",Farchana!G67,IF($B$10=\"Gaga\",Gaga!I86,IF($B$10=\"Treguine\",Treguine!G86,IF($B$10=\"Bredjing\",Bredjing!G86,\"\"))))","v":""}]
[{"$f":"IF($B$10=\"Farchana\",Farchana!A68,IF($B$10=\"Gaga\",Gaga!A87,IF($B$10=\"Treguine\",Treguine!A87,IF($B$10=\"Bredjing\",Bredjing!A87,\"\"))))","v":0},{"$f":"IF($B$10=\"Farchana\",Farchana!B68,IF($B$10=\"Gaga\",Gaga!B87,IF($B$10=\"Treguine\",Treguine!B87,IF($B$10=\"Bredjing\",Bredjing!B87,\"\"))))","v":0},{"$f":"IF($B$10=\"Farchana\",Farchana!C68,IF($B$10=\"Gaga\",Gaga!C87,IF($B$10=\"Treguine\",Treguine!C87,IF($B$10=\"Bredjing\",Bredjing!C87,\"\"))))","v":0},null,null,{"$f":"IF($B$10=\"Farchana\",Farchana!G68,IF($B$10=\"Gaga\",Gaga!I87,IF($B$10=\"Treguine\",Treguine!G87,IF($B$10=\"Bredjing\",Bredjing!G87,\"\"))))","v":""}]
[{"$f":"IF($B$10=\"Farchana\",Farchana!A69,IF($B$10=\"Gaga\",Gaga!A88,IF($B$10=\"Treguine\",Treguine!A88,IF($B$10=\"Bredjing\",Bredjing!A88,\"\"))))","v":0},{"$f":"IF($B$10=\"Farchana\",Farchana!B69,IF($B$10=\"Gaga\",Gaga!B88,IF($B$10=\"Treguine\",Treguine!B88,IF($B$10=\"Bredjing\",Bredjing!B88,\"\"))))","v":0},{"$f":"IF($B$10=\"Farchana\",Farchana!C69,IF($B$10=\"Gaga\",Gaga!C88,IF($B$10=\"Treguine\",Treguine!C88,IF($B$10=\"Bredjing\",Bredjing!C88,\"\"))))","v":0},null,null,{"$f":"IF($B$10=\"Farchana\",Farchana!G69,IF($B$10=\"Gaga\",Gaga!I88,IF($B$10=\"Treguine\",Treguine!G88,IF($B$10=\"Bredjing\",Bredjing!G88,\"\"))))","v":""}]
[{"$f":"IF($B$10=\"Farchana\",Farchana!A70,IF($B$10=\"Gaga\",Gaga!A89,IF($B$10=\"Treguine\",Treguine!A89,IF($B$10=\"Bredjing\",Bredjing!A89,\"\"))))","v":0},{"$f":"IF($B$10=\"Farchana\",Farchana!B70,IF($B$10=\"Gaga\",Gaga!B89,IF($B$10=\"Treguine\",Treguine!B89,IF($B$10=\"Bredjing\",Bredjing!B89,\"\"))))","v":0},{"$f":"IF($B$10=\"Farchana\",Farchana!C70,IF($B$10=\"Gaga\",Gaga!C89,IF($B$10=\"Treguine\",Treguine!C89,IF($B$10=\"Bredjing\",Bredjing!C89,\"\"))))","v":0},null,null,{"$f":"IF($B$10=\"Farchana\",Farchana!G70,IF($B$10=\"Gaga\",Gaga!I89,IF($B$10=\"Treguine\",Treguine!G89,IF($B$10=\"Bredjing\",Bredjing!G89,\"\"))))","v":""}]
[{"$f":"IF($B$10=\"Farchana\",Farchana!A71,IF($B$10=\"Gaga\",Gaga!A90,IF($B$10=\"Treguine\",Treguine!A90,IF($B$10=\"Bredjing\",Bredjing!A90,\"\"))))","v":0},{"$f":"IF($B$10=\"Farchana\",Farchana!B71,IF($B$10=\"Gaga\",Gaga!B90,IF($B$10=\"Treguine\",Treguine!B90,IF($B$10=\"Bredjing\",Bredjing!B90,\"\"))))","v":0},{"$f":"IF($B$10=\"Farchana\",Farchana!C71,IF($B$10=\"Gaga\",Gaga!C90,IF($B$10=\"Treguine\",Treguine!C90,IF($B$10=\"Bredjing\",Bredjing!C90,\"\"))))","v":0},null,null,{"$f":"IF($B$10=\"Farchana\",Farchana!G71,IF($B$10=\"Gaga\",Gaga!I90,IF($B$10=\"Treguine\",Treguine!G90,IF($B$10=\"Bredjing\",Bredjing!G90,\"\"))))","v":""}]
[{"$f":"IF($B$10=\"Farchana\",Farchana!A72,IF($B$10=\"Gaga\",Gaga!A91,IF($B$10=\"Treguine\",Treguine!A91,IF($B$10=\"Bredjing\",Bredjing!A91,\"\"))))","v":0},{"$f":"IF($B$10=\"Farchana\",Farchana!B72,IF($B$10=\"Gaga\",Gaga!B91,IF($B$10=\"Treguine\",Treguine!B91,IF($B$10=\"Bredjing\",Bredjing!B91,\"\"))))","v":0},{"$f":"IF($B$10=\"Farchana\",Farchana!C72,IF($B$10=\"Gaga\",Gaga!C91,IF($B$10=\"Treguine\",Treguine!C91,IF($B$10=\"Bredjing\",Bredjing!C91,\"\"))))","v":0},null,null,{"$f":"IF($B$10=\"Farchana\",Farchana!G72,IF($B$10=\"Gaga\",Gaga!I91,IF($B$10=\"Treguine\",Treguine!G91,IF($B$10=\"Bredjing\",Bredjing!G91,\"\"))))","v":""}]
[{"$f":"IF($B$10=\"Farchana\",Farchana!A73,IF($B$10=\"Gaga\",Gaga!A92,IF($B$10=\"Treguine\",Treguine!A92,IF($B$10=\"Bredjing\",Bredjing!A92,\"\"))))","v":0},{"$f":"IF($B$10=\"Farchana\",Farchana!B73,IF($B$10=\"Gaga\",Gaga!B92,IF($B$10=\"Treguine\",Treguine!B92,IF($B$10=\"Bredjing\",Bredjing!B92,\"\"))))","v":0},{"$f":"IF($B$10=\"Farchana\",Farchana!C73,IF($B$10=\"Gaga\",Gaga!C92,IF($B$10=\"Treguine\",Treguine!C92,IF($B$10=\"Bredjing\",Bredjing!C92,\"\"))))","v":0},null,null,{"$f":"IF($B$10=\"Farchana\",Farchana!G73,IF($B$10=\"Gaga\",Gaga!I92,IF($B$10=\"Treguine\",Treguine!G92,IF($B$10=\"Bredjing\",Bredjing!G92,\"\"))))","v":""}]
[{"$f":"IF($B$10=\"Farchana\",Farchana!A74,IF($B$10=\"Gaga\",Gaga!A93,IF($B$10=\"Treguine\",Treguine!A93,IF($B$10=\"Bredjing\",Bredjing!A93,\"\"))))","v":0},{"$f":"IF($B$10=\"Farchana\",Farchana!B74,IF($B$10=\"Gaga\",Gaga!B93,IF($B$10=\"Treguine\",Treguine!B93,IF($B$10=\"Bredjing\",Bredjing!B93,\"\"))))","v":0},{"$f":"IF($B$10=\"Farchana\",Farchana!C74,IF($B$10=\"Gaga\",Gaga!C93,IF($B$10=\"Treguine\",Treguine!C93,IF($B$10=\"Bredjing\",Bredjing!C93,\"\"))))","v":0},null,null,{"$f":"IF($B$10=\"Farchana\",Farchana!G74,IF($B$10=\"Gaga\",Gaga!I93,IF($B$10=\"Treguine\",Treguine!G93,IF($B$10=\"Bredjing\",Bredjing!G93,\"\"))))","v":""}]
[{"$f":"IF($B$10=\"Farchana\",Farchana!A75,IF($B$10=\"Gaga\",Gaga!A94,IF($B$10=\"Treguine\",Treguine!A94,IF($B$10=\"Bredjing\",Bredjing!A94,\"\"))))","v":0},{"$f":"IF($B$10=\"Farchana\",Farchana!B75,IF($B$10=\"Gaga\",Gaga!B94,IF($B$10=\"Treguine\",Treguine!B94,IF($B$10=\"Bredjing\",Bredjing!B94,\"\"))))","v":0},{"$f":"IF($B$10=\"Farchana\",Farchana!C75,IF($B$10=\"Gaga\",Gaga!C94,IF($B$10=\"Treguine\",Treguine!C94,IF($B$10=\"Bredjing\",Bredjing!C94,\"\"))))","v":0},null,null,{"$f":"IF($B$10=\"Farchana\",Farchana!G75,IF($B$10=\"Gaga\",Gaga!I94,IF($B$10=\"Treguine\",Treguine!G94,IF($B$10=\"Bredjing\",Bredjing!G94,\"\"))))","v":""}]
[{"$f":"IF($B$10=\"Farchana\",Farchana!A76,IF($B$10=\"Gaga\",Gaga!A95,IF($B$10=\"Treguine\",Treguine!A95,IF($B$10=\"Bredjing\",Bredjing!A95,\"\"))))","v":0},{"$f":"IF($B$10=\"Farchana\",Farchana!B76,IF($B$10=\"Gaga\",Gaga!B95,IF($B$10=\"Treguine\",Treguine!B95,IF($B$10=\"Bredjing\",Bredjing!B95,\"\"))))","v":0},{"$f":"IF($B$10=\"Farchana\",Farchana!C76,IF($B$10=\"Gaga\",Gaga!C95,IF($B$10=\"Treguine\",Treguine!C95,IF($B$10=\"Bredjing\",Bredjing!C95,\"\"))))","v":0},null,null,{"$f":"IF($B$10=\"Farchana\",Farchana!G76,IF($B$10=\"Gaga\",Gaga!I95,IF($B$10=\"Treguine\",Treguine!G95,IF($B$10=\"Bredjing\",Bredjing!G95,\"\"))))","v":""}]
[{"$f":"IF($B$10=\"Farchana\",Farchana!A77,IF($B$10=\"Gaga\",Gaga!A96,IF($B$10=\"Treguine\",Treguine!A96,IF($B$10=\"Bredjing\",Bredjing!A96,\"\"))))","v":0},{"$f":"IF($B$10=\"Farchana\",Farchana!B77,IF($B$10=\"Gaga\",Gaga!B96,IF($B$10=\"Treguine\",Treguine!B96,IF($B$10=\"Bredjing\",Bredjing!B96,\"\"))))","v":0},{"$f":"IF($B$10=\"Farchana\",Farchana!C77,IF($B$10=\"Gaga\",Gaga!C96,IF($B$10=\"Treguine\",Treguine!C96,IF($B$10=\"Bredjing\",Bredjing!C96,\"\"))))","v":0},null,null,{"$f":"IF($B$10=\"Farchana\",Farchana!G77,IF($B$10=\"Gaga\",Gaga!I96,IF($B$10=\"Treguine\",Treguine!G96,IF($B$10=\"Bredjing\",Bredjing!G96,\"\"))))","v":""}]
[{"$f":"IF($B$10=\"Farchana\",Farchana!A78,IF($B$10=\"Gaga\",Gaga!A97,IF($B$10=\"Treguine\",Treguine!A97,IF($B$10=\"Bredjing\",Bredjing!A97,\"\"))))","v":0},{"$f":"IF($B$10=\"Farchana\",Farchana!B78,IF($B$10=\"Gaga\",Gaga!B97,IF($B$10=\"Treguine\",Treguine!B97,IF($B$10=\"Bredjing\",Bredjing!B97,\"\"))))","v":0},{"$f":"IF($B$10=\"Farchana\",Farchana!C78,IF($B$10=\"Gaga\",Gaga!C97,IF($B$10=\"Treguine\",Treguine!C97,IF($B$10=\"Bredjing\",Bredjing!C97,\"\"))))","v":0},null,null,{"$f":"IF($B$10=\"Farchana\",Farchana!G78,IF($B$10=\"Gaga\",Gaga!I97,IF($B$10=\"Treguine\",Treguine!G97,IF($B$10=\"Bredjing\",Bredjing!G97,\"\"))))","v":""}]
[{"$f":"IF($B$10=\"Farchana\",Farchana!A79,IF($B$10=\"Gaga\",Gaga!A98,IF($B$10=\"Treguine\",Treguine!A98,IF($B$10=\"Bredjing\",Bredjing!A98,\"\"))))","v":0},{"$f":"IF($B$10=\"Farchana\",Farchana!B79,IF($B$10=\"Gaga\",Gaga!B98,IF($B$10=\"Treguine\",Treguine!B98,IF($B$10=\"Bredjing\",Bredjing!B98,\"\"))))","v":0},{"$f":"IF($B$10=\"Farchana\",Farchana!C79,IF($B$10=\"Gaga\",Gaga!C98,IF($B$10=\"Treguine\",Treguine!C98,IF($B$10=\"Bredjing\",Bredjing!C98,\"\"))))","v":0},null,null,{"$f":"IF($B$10=\"Farchana\",Farchana!G79,IF($B$10=\"Gaga\",Gaga!I98,IF($B$10=\"Treguine\",Treguine!G98,IF($B$10=\"Bredjing\",Bredjing!G98,\"\"))))","v":""}]
[{"$f":"IF($B$10=\"Farchana\",Farchana!A80,IF($B$10=\"Gaga\",Gaga!A99,IF($B$10=\"Treguine\",Treguine!A99,IF($B$10=\"Bredjing\",Bredjing!A99,\"\"))))","v":0},{"$f":"IF($B$10=\"Farchana\",Farchana!B80,IF($B$10=\"Gaga\",Gaga!B99,IF($B$10=\"Treguine\",Treguine!B99,IF($B$10=\"Bredjing\",Bredjing!B99,\"\"))))","v":0},{"$f":"IF($B$10=\"Farchana\",Farchana!C80,IF($B$10=\"Gaga\",Gaga!C99,IF($B$10=\"Treguine\",Treguine!C99,IF($B$10=\"Bredjing\",Bredjing!C99,\"\"))))","v":0},null,null,{"$f":"IF($B$10=\"Farchana\",Farchana!G80,IF($B$10=\"Gaga\",Gaga!I99,IF($B$10=\"Treguine\",Treguine!G99,IF($B$10=\"Bredjing\",Bredjing!G99,\"\"))))","v":""}]
[{"$f":"IF($B$10=\"Farchana\",Farchana!A81,IF($B$10=\"Gaga\",Gaga!A100,IF($B$10=\"Treguine\",Treguine!A100,IF($B$10=\"Bredjing\",Bredjing!A100,\"\"))))","v":0},{"$f":"IF($B$10=\"Farchana\",Farchana!B81,IF($B$10=\"Gaga\",Gaga!B100,IF($B$10=\"Treguine\",Treguine!B100,IF($B$10=\"Bredjing\",Bredjing!B100,\"\"))))","v":0},{"$f":"IF($B$10=\"Farchana\",Farchana!C81,IF($B$10=\"Gaga\",Gaga!C100,IF($B$10=\"Treguine\",Treguine!C100,IF($B$10=\"Bredjing\",Bredjing!C100,\"\"))))","v":0},null,null,{"$f":"IF($B$10=\"Farchana\",Farchana!G81,IF($B$10=\"Gaga\",Gaga!I100,IF($B$10=\"Treguine\",Treguine!G100,IF($B$10=\"Bredjing\",Bredjing!G100,\"\"))))","v":""}]
[{"$f":"IF($B$10=\"Farchana\",Farchana!A82,IF($B$10=\"Gaga\",Gaga!A101,IF($B$10=\"Treguine\",Treguine!A101,IF($B$10=\"Bredjing\",Bredjing!A101,\"\"))))","v":0},{"$f":"IF($B$10=\"Farchana\",Farchana!B82,IF($B$10=\"Gaga\",Gaga!B101,IF($B$10=\"Treguine\",Treguine!B101,IF($B$10=\"Bredjing\",Bredjing!B101,\"\"))))","v":0},{"$f":"IF($B$10=\"Farchana\",Farchana!C82,IF($B$10=\"Gaga\",Gaga!C101,IF($B$10=\"Treguine\",Treguine!C101,IF($B$10=\"Bredjing\",Bredjing!C101,\"\"))))","v":0},null,null,{"$f":"IF($B$10=\"Farchana\",Farchana!G82,IF($B$10=\"Gaga\",Gaga!I101,IF($B$10=\"Treguine\",Treguine!G101,IF($B$10=\"Bredjing\",Bredjing!G101,\"\"))))","v":""}]
[{"$f":"IF($B$10=\"Farchana\",Farchana!A83,IF($B$10=\"Gaga\",Gaga!A102,IF($B$10=\"Treguine\",Treguine!A102,IF($B$10=\"Bredjing\",Bredjing!A102,\"\"))))","v":0},{"$f":"IF($B$10=\"Farchana\",Farchana!B83,IF($B$10=\"Gaga\",Gaga!B102,IF($B$10=\"Treguine\",Treguine!B102,IF($B$10=\"Bredjing\",Bredjing!B102,\"\"))))","v":0},{"$f":"IF($B$10=\"Farchana\",Farchana!C83,IF($B$10=\"Gaga\",Gaga!C102,IF($B$10=\"Treguine\",Treguine!C102,IF($B$10=\"Bredjing\",Bredjing!C102,\"\"))))","v":0},null,null,{"$f":"IF($B$10=\"Farchana\",Farchana!G83,IF($B$10=\"Gaga\",Gaga!I102,IF($B$10=\"Treguine\",Treguine!G102,IF($B$10=\"Bredjing\",Bredjing!G102,\"\"))))","v":""}]
[{"$f":"IF($B$10=\"Farchana\",Farchana!A84,IF($B$10=\"Gaga\",Gaga!A103,IF($B$10=\"Treguine\",Treguine!A103,IF($B$10=\"Bredjing\",Bredjing!A103,\"\"))))","v":0},{"$f":"IF($B$10=\"Farchana\",Farchana!B84,IF($B$10=\"Gaga\",Gaga!B103,IF($B$10=\"Treguine\",Treguine!B103,IF($B$10=\"Bredjing\",Bredjing!B103,\"\"))))","v":0},{"$f":"IF($B$10=\"Farchana\",Farchana!C84,IF($B$10=\"Gaga\",Gaga!C103,IF($B$10=\"Treguine\",Treguine!C103,IF($B$10=\"Bredjing\",Bredjing!C103,\"\"))))","v":0},null,null,{"$f":"IF($B$10=\"Farchana\",Farchana!G84,IF($B$10=\"Gaga\",Gaga!I103,IF($B$10=\"Treguine\",Treguine!G103,IF($B$10=\"Bredjing\",Bredjing!G103,\"\"))))","v":""}]
[{"$f":"IF($B$10=\"Farchana\",Farchana!A85,IF($B$10=\"Gaga\",Gaga!A104,IF($B$10=\"Treguine\",Treguine!A104,IF($B$10=\"Bredjing\",Bredjing!A104,\"\"))))","v":0},{"$f":"IF($B$10=\"Farchana\",Farchana!B85,IF($B$10=\"Gaga\",Gaga!B104,IF($B$10=\"Treguine\",Treguine!B104,IF($B$10=\"Bredjing\",Bredjing!B104,\"\"))))","v":0},{"$f":"IF($B$10=\"Farchana\",Farchana!C85,IF($B$10=\"Gaga\",Gaga!C104,IF($B$10=\"Treguine\",Treguine!C104,IF($B$10=\"Bredjing\",Bredjing!C104,\"\"))))","v":0},null,null,{"$f":"IF($B$10=\"Farchana\",Farchana!G85,IF($B$10=\"Gaga\",Gaga!I104,IF($B$10=\"Treguine\",Treguine!G104,IF($B$10=\"Bredjing\",Bredjing!G104,\"\"))))","v":""}]
[{"$f":"IF($B$10=\"Farchana\",Farchana!A86,IF($B$10=\"Gaga\",Gaga!A105,IF($B$10=\"Treguine\",Treguine!A105,IF($B$10=\"Bredjing\",Bredjing!A105,\"\"))))","v":0},{"$f":"IF($B$10=\"Farchana\",Farchana!B86,IF($B$10=\"Gaga\",Gaga!B105,IF($B$10=\"Treguine\",Treguine!B105,IF($B$10=\"Bredjing\",Bredjing!B105,\"\"))))","v":0},{"$f":"IF($B$10=\"Farchana\",Farchana!C86,IF($B$10=\"Gaga\",Gaga!C105,IF($B$10=\"Treguine\",Treguine!C105,IF($B$10=\"Bredjing\",Bredjing!C105,\"\"))))","v":0},null,null,{"$f":"IF($B$10=\"Farchana\",Farchana!G86,IF($B$10=\"Gaga\",Gaga!I105,IF($B$10=\"Treguine\",Treguine!G105,IF($B$10=\"Bredjing\",Bredjing!G105,\"\"))))","v":""}]
[{"$f":"IF($B$10=\"Farchana\",Farchana!A87,IF($B$10=\"Gaga\",Gaga!A106,IF($B$10=\"Treguine\",Treguine!A106,IF($B$10=\"Bredjing\",Bredjing!A106,\"\"))))","v":0},{"$f":"IF($B$10=\"Farchana\",Farchana!B87,IF($B$10=\"Gaga\",Gaga!B106,IF($B$10=\"Treguine\",Treguine!B106,IF($B$10=\"Bredjing\",Bredjing!B106,\"\"))))","v":0},{"$f":"IF($B$10=\"Farchana\",Farchana!C87,IF($B$10=\"Gaga\",Gaga!C106,IF($B$10=\"Treguine\",Treguine!C106,IF($B$10=\"Bredjing\",Bredjing!C106,\"\"))))","v":0},null,null,{"$f":"IF($B$10=\"Farchana\",Farchana!G87,IF($B$10=\"Gaga\",Gaga!I106,IF($B$10=\"Treguine\",Treguine!G106,IF($B$10=\"Bredjing\",Bredjing!G106,\"\"))))","v":""}]
[{"$f":"IF($B$10=\"Farchana\",Farchana!A88,IF($B$10=\"Gaga\",Gaga!A107,IF($B$10=\"Treguine\",Treguine!A107,IF($B$10=\"Bredjing\",Bredjing!A107,\"\"))))","v":0},{"$f":"IF($B$10=\"Farchana\",Farchana!B88,IF($B$10=\"Gaga\",Gaga!B107,IF($B$10=\"Treguine\",Treguine!B107,IF($B$10=\"Bredjing\",Bredjing!B107,\"\"))))","v":0},{"$f":"IF($B$10=\"Farchana\",Farchana!C88,IF($B$10=\"Gaga\",Gaga!C107,IF($B$10=\"Treguine\",Treguine!C107,IF($B$10=\"Bredjing\",Bredjing!C107,\"\"))))","v":0},null,null,{"$f":"IF($B$10=\"Farchana\",Farchana!G88,IF($B$10=\"Gaga\",Gaga!I107,IF($B$10=\"Treguine\",Treguine!G107,IF($B$10=\"Bredjing\",Bredjing!G107,\"\"))))","v":""}]
[{"$f":"IF($B$10=\"Farchana\",Farchana!A89,IF($B$10=\"Gaga\",Gaga!A108,IF($B$10=\"Treguine\",Treguine!A108,IF($B$10=\"Bredjing\",Bredjing!A108,\"\"))))","v":0},{"$f":"IF($B$10=\"Farchana\",Farchana!B89,IF($B$10=\"Gaga\",Gaga!B108,IF($B$10=\"Treguine\",Treguine!B108,IF($B$10=\"Bredjing\",Bredjing!B108,\"\"))))","v":0},{"$f":"IF($B$10=\"Farchana\",Farchana!C89,IF($B$10=\"Gaga\",Gaga!C108,IF($B$10=\"Treguine\",Treguine!C108,IF($B$10=\"Bredjing\",Bredjing!C108,\"\"))))","v":0},null,null,{"$f":"IF($B$10=\"Farchana\",Farchana!G89,IF($B$10=\"Gaga\",Gaga!I108,IF($B$10=\"Treguine\",Treguine!G108,IF($B$10=\"Bredjing\",Bredjing!G108,\"\"))))","v":""}]
[{"$f":"IF($B$10=\"Farchana\",Farchana!A90,IF($B$10=\"Gaga\",Gaga!A109,IF($B$10=\"Treguine\",Treguine!A109,IF($B$10=\"Bredjing\",Bredjing!A109,\"\"))))","v":0},{"$f":"IF($B$10=\"Farchana\",Farchana!B90,IF($B$10=\"Gaga\",Gaga!B109,IF($B$10=\"Treguine\",Treguine!B109,IF($B$10=\"Bredjing\",Bredjing!B109,\"\"))))","v":0},{"$f":"IF($B$10=\"Farchana\",Farchana!C90,IF($B$10=\"Gaga\",Gaga!C109,IF($B$10=\"Treguine\",Treguine!C109,IF($B$10=\"Bredjing\",Bredjing!C109,\"\"))))","v":0},null,null,{"$f":"IF($B$10=\"Farchana\",Farchana!G90,IF($B$10=\"Gaga\",Gaga!I109,IF($B$10=\"Treguine\",Treguine!G109,IF($B$10=\"Bredjing\",Bredjing!G109,\"\"))))","v":""}]
[{"$f":"IF($B$10=\"Farchana\",Farchana!A91,IF($B$10=\"Gaga\",Gaga!A110,IF($B$10=\"Treguine\",Treguine!A110,IF($B$10=\"Bredjing\",Bredjing!A110,\"\"))))","v":0},{"$f":"IF($B$10=\"Farchana\",Farchana!B91,IF($B$10=\"Gaga\",Gaga!B110,IF($B$10=\"Treguine\",Treguine!B110,IF($B$10=\"Bredjing\",Bredjing!B110,\"\"))))","v":0},{"$f":"IF($B$10=\"Farchana\",Farchana!C91,IF($B$10=\"Gaga\",Gaga!C110,IF($B$10=\"Treguine\",Treguine!C110,IF($B$10=\"Bredjing\",Bredjing!C110,\"\"))))","v":0},null,null,{"$f":"IF($B$10=\"Farchana\",Farchana!G91,IF($B$10=\"Gaga\",Gaga!I110,IF($B$10=\"Treguine\",Treguine!G110,IF($B$10=\"Bredjing\",Bredjing!G110,\"\"))))","v":""}]
[{"$f":"IF($B$10=\"Farchana\",Farchana!A92,IF($B$10=\"Gaga\",Gaga!A111,IF($B$10=\"Treguine\",Treguine!A111,IF($B$10=\"Bredjing\",Bredjing!A111,\"\"))))","v":0},{"$f":"IF($B$10=\"Farchana\",Farchana!B92,IF($B$10=\"Gaga\",Gaga!B111,IF($B$10=\"Treguine\",Treguine!B111,IF($B$10=\"Bredjing\",Bredjing!B111,\"\"))))","v":0},{"$f":"IF($B$10=\"Farchana\",Farchana!C92,IF($B$10=\"Gaga\",Gaga!C111,IF($B$10=\"Treguine\",Treguine!C111,IF($B$10=\"Bredjing\",Bredjing!C111,\"\"))))","v":0},null,null,{"$f":"IF($B$10=\"Farchana\",Farchana!G92,IF($B$10=\"Gaga\",Gaga!I111,IF($B$10=\"Treguine\",Treguine!G111,IF($B$10=\"Bredjing\",Bredjing!G111,\"\"))))","v":""}]
[{"$f":"IF($B$10=\"Farchana\",Farchana!A93,IF($B$10=\"Gaga\",Gaga!A112,IF($B$10=\"Treguine\",Treguine!A112,IF($B$10=\"Bredjing\",Bredjing!A112,\"\"))))","v":0},{"$f":"IF($B$10=\"Farchana\",Farchana!B93,IF($B$10=\"Gaga\",Gaga!B112,IF($B$10=\"Treguine\",Treguine!B112,IF($B$10=\"Bredjing\",Bredjing!B112,\"\"))))","v":0},{"$f":"IF($B$10=\"Farchana\",Farchana!C93,IF($B$10=\"Gaga\",Gaga!C112,IF($B$10=\"Treguine\",Treguine!C112,IF($B$10=\"Bredjing\",Bredjing!C112,\"\"))))","v":0},null,null,{"$f":"IF($B$10=\"Farchana\",Farchana!G93,IF($B$10=\"Gaga\",Gaga!I112,IF($B$10=\"Treguine\",Treguine!G112,IF($B$10=\"Bredjing\",Bredjing!G112,\"\"))))","v":""}]
[{"$f":"IF($B$10=\"Farchana\",Farchana!A94,IF($B$10=\"Gaga\",Gaga!A113,IF($B$10=\"Treguine\",Treguine!A113,IF($B$10=\"Bredjing\",Bredjing!A113,\"\"))))","v":0},{"$f":"IF($B$10=\"Farchana\",Farchana!B94,IF($B$10=\"Gaga\",Gaga!B113,IF($B$10=\"Treguine\",Treguine!B113,IF($B$10=\"Bredjing\",Bredjing!B113,\"\"))))","v":0},{"$f":"IF($B$10=\"Farchana\",Farchana!C94,IF($B$10=\"Gaga\",Gaga!C113,IF($B$10=\"Treguine\",Treguine!C113,IF($B$10=\"Bredjing\",Bredjing!C113,\"\"))))","v":0},null,null,{"$f":"IF($B$10=\"Farchana\",Farchana!G94,IF($B$10=\"Gaga\",Gaga!I113,IF($B$10=\"Treguine\",Treguine!G113,IF($B$10=\"Bredjing\",Bredjing!G113,\"\"))))","v":""}]
[{"$f":"IF($B$10=\"Farchana\",Farchana!A95,IF($B$10=\"Gaga\",Gaga!A114,IF($B$10=\"Treguine\",Treguine!A114,IF($B$10=\"Bredjing\",Bredjing!A114,\"\"))))","v":0},{"$f":"IF($B$10=\"Farchana\",Farchana!B95,IF($B$10=\"Gaga\",Gaga!B114,IF($B$10=\"Treguine\",Treguine!B114,IF($B$10=\"Bredjing\",Bredjing!B114,\"\"))))","v":0},{"$f":"IF($B$10=\"Farchana\",Farchana!C95,IF($B$10=\"Gaga\",Gaga!C114,IF($B$10=\"Treguine\",Treguine!C114,IF($B$10=\"Bredjing\",Bredjing!C114,\"\"))))","v":0},null,null,{"$f":"IF($B$10=\"Farchana\",Farchana!G95,IF($B$10=\"Gaga\",Gaga!I114,IF($B$10=\"Treguine\",Treguine!G114,IF($B$10=\"Bredjing\",Bredjing!G114,\"\"))))","v":""}]
[{"$f":"IF($B$10=\"Farchana\",Farchana!A96,IF($B$10=\"Gaga\",Gaga!A115,IF($B$10=\"Treguine\",Treguine!A115,IF($B$10=\"Bredjing\",Bredjing!A115,\"\"))))","v":0},{"$f":"IF($B$10=\"Farchana\",Farchana!B96,IF($B$10=\"Gaga\",Gaga!B115,IF($B$10=\"Treguine\",Treguine!B115,IF($B$10=\"Bredjing\",Bredjing!B115,\"\"))))","v":0},{"$f":"IF($B$10=\"Farchana\",Farchana!C96,IF($B$10=\"Gaga\",Gaga!C115,IF($B$10=\"Treguine\",Treguine!C115,IF($B$10=\"Bredjing\",Bredjing!C115,\"\"))))","v":0},null,null,{"$f":"IF($B$10=\"Farchana\",Farchana!G96,IF($B$10=\"Gaga\",Gaga!I115,IF($B$10=\"Treguine\",Treguine!G115,IF($B$10=\"Bredjing\",Bredjing!G115,\"\"))))","v":""}]
[{"$f":"IF($B$10=\"Farchana\",Farchana!A97,IF($B$10=\"Gaga\",Gaga!A116,IF($B$10=\"Treguine\",Treguine!A116,IF($B$10=\"Bredjing\",Bredjing!A116,\"\"))))","v":0},{"$f":"IF($B$10=\"Farchana\",Farchana!B97,IF($B$10=\"Gaga\",Gaga!B116,IF($B$10=\"Treguine\",Treguine!B116,IF($B$10=\"Bredjing\",Bredjing!B116,\"\"))))","v":0},{"$f":"IF($B$10=\"Farchana\",Farchana!C97,IF($B$10=\"Gaga\",Gaga!C116,IF($B$10=\"Treguine\",Treguine!C116,IF($B$10=\"Bredjing\",Bredjing!C116,\"\"))))","v":0},null,null,{"$f":"IF($B$10=\"Farchana\",Farchana!G97,IF($B$10=\"Gaga\",Gaga!I116,IF($B$10=\"Treguine\",Treguine!G116,IF($B$10=\"Bredjing\",Bredjing!G116,\"\"))))","v":""}]
[{"$f":"IF($B$10=\"Farchana\",Farchana!A98,IF($B$10=\"Gaga\",Gaga!A117,IF($B$10=\"Treguine\",Treguine!A117,IF($B$10=\"Bredjing\",Bredjing!A117,\"\"))))","v":0},{"$f":"IF($B$10=\"Farchana\",Farchana!B98,IF($B$10=\"Gaga\",Gaga!B117,IF($B$10=\"Treguine\",Treguine!B117,IF($B$10=\"Bredjing\",Bredjing!B117,\"\"))))","v":0},{"$f":"IF($B$10=\"Farchana\",Farchana!C98,IF($B$10=\"Gaga\",Gaga!C117,IF($B$10=\"Treguine\",Treguine!C117,IF($B$10=\"Bredjing\",Bredjing!C117,\"\"))))","v":0},null,null,{"$f":"IF($B$10=\"Farchana\",Farchana!G98,IF($B$10=\"Gaga\",Gaga!I117,IF($B$10=\"Treguine\",Treguine!G117,IF($B$10=\"Bredjing\",Bredjing!G117,\"\"))))","v":""}]
[{"$f":"IF($B$10=\"Farchana\",Farchana!A99,IF($B$10=\"Gaga\",Gaga!A118,IF($B$10=\"Treguine\",Treguine!A118,IF($B$10=\"Bredjing\",Bredjing!A118,\"\"))))","v":0},{"$f":"IF($B$10=\"Farchana\",Farchana!B99,IF($B$10=\"Gaga\",Gaga!B118,IF($B$10=\"Treguine\",Treguine!B118,IF($B$10=\"Bredjing\",Bredjing!B118,\"\"))))","v":0},{"$f":"IF($B$10=\"Farchana\",Farchana!C99,IF($B$10=\"Gaga\",Gaga!C118,IF($B$10=\"Treguine\",Treguine!C118,IF($B$10=\"Bredjing\",Bredjing!C118,\"\"))))","v":0},null,null,{"$f":"IF($B$10=\"Farchana\",Farchana!G99,IF($B$10=\"Gaga\",Gaga!I118,IF($B$10=\"Treguine\",Treguine!G118,IF($B$10=\"Bredjing\",Bredjing!G118,\"\"))))","v":""}]
[{"$f":"IF($B$10=\"Farchana\",Farchana!A100,IF($B$10=\"Gaga\",Gaga!A119,IF($B$10=\"Treguine\",Treguine!A119,IF($B$10=\"Bredjing\",Bredjing!A119,\"\"))))","v":0},{"$f":"IF($B$10=\"Farchana\",Farchana!B100,IF($B$10=\"Gaga\",Gaga!B119,IF($B$10=\"Treguine\",Treguine!B119,IF($B$10=\"Bredjing\",Bredjing!B119,\"\"))))","v":0},{"$f":"IF($B$10=\"Farchana\",Farchana!C100,IF($B$10=\"Gaga\",Gaga!C119,IF($B$10=\"Treguine\",Treguine!C119,IF($B$10=\"Bredjing\",Bredjing!C119,\"\"))))","v":0},null,null,{"$f":"IF($B$10=\"Farchana\",Farchana!G100,IF($B$10=\"Gaga\",Gaga!I119,IF($B$10=\"Treguine\",Treguine!G119,IF($B$10=\"Bredjing\",Bredjing!G119,\"\"))))","v":""}]
[{"$f":"IF($B$10=\"Farchana\",Farchana!A101,IF($B$10=\"Gaga\",Gaga!A120,IF($B$10=\"Treguine\",Treguine!A120,IF($B$10=\"Bredjing\",Bredjing!A120,\"\"))))","v":0},{"$f":"IF($B$10=\"Farchana\",Farchana!B101,IF($B$10=\"Gaga\",Gaga!B120,IF($B$10=\"Treguine\",Treguine!B120,IF($B$10=\"Bredjing\",Bredjing!B120,\"\"))))","v":0},{"$f":"IF($B$10=\"Farchana\",Farchana!C101,IF($B$10=\"Gaga\",Gaga!C120,IF($B$10=\"Treguine\",Treguine!C120,IF($B$10=\"Bredjing\",Bredjing!C120,\"\"))))","v":0},null,null,{"$f":"IF($B$10=\"Farchana\",Farchana!G101,IF($B$10=\"Gaga\",Gaga!I120,IF($B$10=\"Treguine\",Treguine!G120,IF($B$10=\"Bredjing\",Bredjing!G120,\"\"))))","v":""}]
[{"$f":"IF($B$10=\"Farchana\",Farchana!A102,IF($B$10=\"Gaga\",Gaga!A121,IF($B$10=\"Treguine\",Treguine!A121,IF($B$10=\"Bredjing\",Bredjing!A121,\"\"))))","v":0},{"$f":"IF($B$10=\"Farchana\",Farchana!B102,IF($B$10=\"Gaga\",Gaga!B121,IF($B$10=\"Treguine\",Treguine!B121,IF($B$10=\"Bredjing\",Bredjing!B121,\"\"))))","v":0},{"$f":"IF($B$10=\"Farchana\",Farchana!C102,IF($B$10=\"Gaga\",Gaga!C121,IF($B$10=\"Treguine\",Treguine!C121,IF($B$10=\"Bredjing\",Bredjing!C121,\"\"))))","v":0},null,null,{"$f":"IF($B$10=\"Farchana\",Farchana!G102,IF($B$10=\"Gaga\",Gaga!I121,IF($B$10=\"Treguine\",Treguine!G121,IF($B$10=\"Bredjing\",Bredjing!G121,\"\"))))","v":""}]
[{"$f":"IF($B$10=\"Farchana\",Farchana!A103,IF($B$10=\"Gaga\",Gaga!A122,IF($B$10=\"Treguine\",Treguine!A122,IF($B$10=\"Bredjing\",Bredjing!A122,\"\"))))","v":0},{"$f":"IF($B$10=\"Farchana\",Farchana!B103,IF($B$10=\"Gaga\",Gaga!B122,IF($B$10=\"Treguine\",Treguine!B122,IF($B$10=\"Bredjing\",Bredjing!B122,\"\"))))","v":0},{"$f":"IF($B$10=\"Farchana\",Farchana!C103,IF($B$10=\"Gaga\",Gaga!C122,IF($B$10=\"Treguine\",Treguine!C122,IF($B$10=\"Bredjing\",Bredjing!C122,\"\"))))","v":0},null,null,{"$f":"IF($B$10=\"Farchana\",Farchana!G103,IF($B$10=\"Gaga\",Gaga!I122,IF($B$10=\"Treguine\",Treguine!G122,IF($B$10=\"Bredjing\",Bredjing!G122,\"\"))))","v":""}]
[{"$f":"IF($B$10=\"Farchana\",Farchana!A104,IF($B$10=\"Gaga\",Gaga!A123,IF($B$10=\"Treguine\",Treguine!A123,IF($B$10=\"Bredjing\",Bredjing!A123,\"\"))))","v":0},{"$f":"IF($B$10=\"Farchana\",Farchana!B104,IF($B$10=\"Gaga\",Gaga!B123,IF($B$10=\"Treguine\",Treguine!B123,IF($B$10=\"Bredjing\",Bredjing!B123,\"\"))))","v":0},{"$f":"IF($B$10=\"Farchana\",Farchana!C104,IF($B$10=\"Gaga\",Gaga!C123,IF($B$10=\"Treguine\",Treguine!C123,IF($B$10=\"Bredjing\",Bredjing!C123,\"\"))))","v":0},null,null,{"$f":"IF($B$10=\"Farchana\",Farchana!G104,IF($B$10=\"Gaga\",Gaga!I123,IF($B$10=\"Treguine\",Treguine!G123,IF($B$10=\"Bredjing\",Bredjing!G123,\"\"))))","v":""}]
[{"$f":"IF($B$10=\"Farchana\",Farchana!A105,IF($B$10=\"Gaga\",Gaga!A124,IF($B$10=\"Treguine\",Treguine!A124,IF($B$10=\"Bredjing\",Bredjing!A124,\"\"))))","v":0},{"$f":"IF($B$10=\"Farchana\",Farchana!B105,IF($B$10=\"Gaga\",Gaga!B124,IF($B$10=\"Treguine\",Treguine!B124,IF($B$10=\"Bredjing\",Bredjing!B124,\"\"))))","v":0},{"$f":"IF($B$10=\"Farchana\",Farchana!C105,IF($B$10=\"Gaga\",Gaga!C124,IF($B$10=\"Treguine\",Treguine!C124,IF($B$10=\"Bredjing\",Bredjing!C124,\"\"))))","v":0},null,null,{"$f":"IF($B$10=\"Farchana\",Farchana!G105,IF($B$10=\"Gaga\",Gaga!I124,IF($B$10=\"Treguine\",Treguine!G124,IF($B$10=\"Bredjing\",Bredjing!G124,\"\"))))","v":""}]
[{"$f":"IF($B$10=\"Farchana\",Farchana!A106,IF($B$10=\"Gaga\",Gaga!A125,IF($B$10=\"Treguine\",Treguine!A125,IF($B$10=\"Bredjing\",Bredjing!A125,\"\"))))","v":0},{"$f":"IF($B$10=\"Farchana\",Farchana!B106,IF($B$10=\"Gaga\",Gaga!B125,IF($B$10=\"Treguine\",Treguine!B125,IF($B$10=\"Bredjing\",Bredjing!B125,\"\"))))","v":0},{"$f":"IF($B$10=\"Farchana\",Farchana!C106,IF($B$10=\"Gaga\",Gaga!C125,IF($B$10=\"Treguine\",Treguine!C125,IF($B$10=\"Bredjing\",Bredjing!C125,\"\"))))","v":0},null,null,{"$f":"IF($B$10=\"Farchana\",Farchana!G106,IF($B$10=\"Gaga\",Gaga!I125,IF($B$10=\"Treguine\",Treguine!G125,IF($B$10=\"Bredjing\",Bredjing!G125,\"\"))))","v":""}]
[{"$f":"IF($B$10=\"Farchana\",Farchana!A107,IF($B$10=\"Gaga\",Gaga!A126,IF($B$10=\"Treguine\",Treguine!A126,IF($B$10=\"Bredjing\",Bredjing!A126,\"\"))))","v":0},{"$f":"IF($B$10=\"Farchana\",Farchana!B107,IF($B$10=\"Gaga\",Gaga!B126,IF($B$10=\"Treguine\",Treguine!B126,IF($B$10=\"Bredjing\",Bredjing!B126,\"\"))))","v":0},{"$f":"IF($B$10=\"Farchana\",Farchana!C107,IF($B$10=\"Gaga\",Gaga!C126,IF($B$10=\"Treguine\",Treguine!C126,IF($B$10=\"Bredjing\",Bredjing!C126,\"\"))))","v":0},null,null,{"$f":"IF($B$10=\"Farchana\",Farchana!G107,IF($B$10=\"Gaga\",Gaga!I126,IF($B$10=\"Treguine\",Treguine!G126,IF($B$10=\"Bredjing\",Bredjing!G126,\"\"))))","v":""}]
[{"$f":"IF($B$10=\"Farchana\",Farchana!A108,IF($B$10=\"Gaga\",Gaga!A127,IF($B$10=\"Treguine\",Treguine!A127,IF($B$10=\"Bredjing\",Bredjing!A127,\"\"))))","v":0},{"$f":"IF($B$10=\"Farchana\",Farchana!B108,IF($B$10=\"Gaga\",Gaga!B127,IF($B$10=\"Treguine\",Treguine!B127,IF($B$10=\"Bredjing\",Bredjing!B127,\"\"))))","v":0},{"$f":"IF($B$10=\"Farchana\",Farchana!C108,IF($B$10=\"Gaga\",Gaga!C127,IF($B$10=\"Treguine\",Treguine!C127,IF($B$10=\"Bredjing\",Bredjing!C127,\"\"))))","v":0},null,null,{"$f":"IF($B$10=\"Farchana\",Farchana!G108,IF($B$10=\"Gaga\",Gaga!I127,IF($B$10=\"Treguine\",Treguine!G127,IF($B$10=\"Bredjing\",Bredjing!G127,\"\"))))","v":""}]
[{"$f":"IF($B$10=\"Farchana\",Farchana!A109,IF($B$10=\"Gaga\",Gaga!A128,IF($B$10=\"Treguine\",Treguine!A128,IF($B$10=\"Bredjing\",Bredjing!A128,\"\"))))","v":0},{"$f":"IF($B$10=\"Farchana\",Farchana!B109,IF($B$10=\"Gaga\",Gaga!B128,IF($B$10=\"Treguine\",Treguine!B128,IF($B$10=\"Bredjing\",Bredjing!B128,\"\"))))","v":0},{"$f":"IF($B$10=\"Farchana\",Farchana!C109,IF($B$10=\"Gaga\",Gaga!C128,IF($B$10=\"Treguine\",Treguine!C128,IF($B$10=\"Bredjing\",Bredjing!C128,\"\"))))","v":0},null,null,{"$f":"IF($B$10=\"Farchana\",Farchana!G109,IF($B$10=\"Gaga\",Gaga!I128,IF($B$10=\"Treguine\",Treguine!G128,IF($B$10=\"Bredjing\",Bredjing!G128,\"\"))))","v":""}]
[{"$f":"IF($B$10=\"Farchana\",Farchana!A110,IF($B$10=\"Gaga\",Gaga!A129,IF($B$10=\"Treguine\",Treguine!A129,IF($B$10=\"Bredjing\",Bredjing!A129,\"\"))))","v":0},{"$f":"IF($B$10=\"Farchana\",Farchana!B110,IF($B$10=\"Gaga\",Gaga!B129,IF($B$10=\"Treguine\",Treguine!B129,IF($B$10=\"Bredjing\",Bredjing!B129,\"\"))))","v":0},{"$f":"IF($B$10=\"Farchana\",Farchana!C110,IF($B$10=\"Gaga\",Gaga!C129,IF($B$10=\"Treguine\",Treguine!C129,IF($B$10=\"Bredjing\",Bredjing!C129,\"\"))))","v":0},null,null,{"$f":"IF($B$10=\"Farchana\",Farchana!G110,IF($B$10=\"Gaga\",Gaga!I129,IF($B$10=\"Treguine\",Treguine!G129,IF($B$10=\"Bredjing\",Bredjing!G129,\"\"))))","v":""}]
[{"$f":"IF($B$10=\"Farchana\",Farchana!A111,IF($B$10=\"Gaga\",Gaga!A130,IF($B$10=\"Treguine\",Treguine!A130,IF($B$10=\"Bredjing\",Bredjing!A130,\"\"))))","v":0},{"$f":"IF($B$10=\"Farchana\",Farchana!B111,IF($B$10=\"Gaga\",Gaga!B130,IF($B$10=\"Treguine\",Treguine!B130,IF($B$10=\"Bredjing\",Bredjing!B130,\"\"))))","v":0},{"$f":"IF($B$10=\"Farchana\",Farchana!C111,IF($B$10=\"Gaga\",Gaga!C130,IF($B$10=\"Treguine\",Treguine!C130,IF($B$10=\"Bredjing\",Bredjing!C130,\"\"))))","v":0},null,null,{"$f":"IF($B$10=\"Farchana\",Farchana!G111,IF($B$10=\"Gaga\",Gaga!I130,IF($B$10=\"Treguine\",Treguine!G130,IF($B$10=\"Bredjing\",Bredjing!G130,\"\"))))","v":""}]
[{"$f":"IF($B$10=\"Farchana\",Farchana!A112,IF($B$10=\"Gaga\",Gaga!A131,IF($B$10=\"Treguine\",Treguine!A131,IF($B$10=\"Bredjing\",Bredjing!A131,\"\"))))","v":0},{"$f":"IF($B$10=\"Farchana\",Farchana!B112,IF($B$10=\"Gaga\",Gaga!B131,IF($B$10=\"Treguine\",Treguine!B131,IF($B$10=\"Bredjing\",Bredjing!B131,\"\"))))","v":0},{"$f":"IF($B$10=\"Farchana\",Farchana!C112,IF($B$10=\"Gaga\",Gaga!C131,IF($B$10=\"Treguine\",Treguine!C131,IF($B$10=\"Bredjing\",Bredjing!C131,\"\"))))","v":0},null,null,{"$f":"IF($B$10=\"Farchana\",Farchana!G112,IF($B$10=\"Gaga\",Gaga!I131,IF($B$10=\"Treguine\",Treguine!G131,IF($B$10=\"Bredjing\",Bredjing!G131,\"\"))))","v":""}]
[{"$f":"IF($B$10=\"Farchana\",Farchana!A113,IF($B$10=\"Gaga\",Gaga!A132,IF($B$10=\"Treguine\",Treguine!A132,IF($B$10=\"Bredjing\",Bredjing!A132,\"\"))))","v":0},{"$f":"IF($B$10=\"Farchana\",Farchana!B113,IF($B$10=\"Gaga\",Gaga!B132,IF($B$10=\"Treguine\",Treguine!B132,IF($B$10=\"Bredjing\",Bredjing!B132,\"\"))))","v":0},{"$f":"IF($B$10=\"Farchana\",Farchana!C113,IF($B$10=\"Gaga\",Gaga!C132,IF($B$10=\"Treguine\",Treguine!C132,IF($B$10=\"Bredjing\",Bredjing!C132,\"\"))))","v":0},null,null,{"$f":"IF($B$10=\"Farchana\",Farchana!G113,IF($B$10=\"Gaga\",Gaga!I132,IF($B$10=\"Treguine\",Treguine!G132,IF($B$10=\"Bredjing\",Bredjing!G132,\"\"))))","v":""}]
[{"$f":"IF($B$10=\"Farchana\",Farchana!A114,IF($B$10=\"Gaga\",Gaga!A133,IF($B$10=\"Treguine\",Treguine!A133,IF($B$10=\"Bredjing\",Bredjing!A133,\"\"))))","v":0},{"$f":"IF($B$10=\"Farchana\",Farchana!B114,IF($B$10=\"Gaga\",Gaga!B133,IF($B$10=\"Treguine\",Treguine!B133,IF($B$10=\"Bredjing\",Bredjing!B133,\"\"))))","v":0},{"$f":"IF($B$10=\"Farchana\",Farchana!C114,IF($B$10=\"Gaga\",Gaga!C133,IF($B$10=\"Treguine\",Treguine!C133,IF($B$10=\"Bredjing\",Bredjing!C133,\"\"))))","v":0},null,null,{"$f":"IF($B$10=\"Farchana\",Farchana!G114,IF($B$10=\"Gaga\",Gaga!I133,IF($B$10=\"Treguine\",Treguine!G133,IF($B$10=\"Bredjing\",Bredjing!G133,\"\"))))","v":""}]
[{"$f":"IF($B$10=\"Farchana\",Farchana!A115,IF($B$10=\"Gaga\",Gaga!A134,IF($B$10=\"Treguine\",Treguine!A134,IF($B$10=\"Bredjing\",Bredjing!A134,\"\"))))","v":0},{"$f":"IF($B$10=\"Farchana\",Farchana!B115,IF($B$10=\"Gaga\",Gaga!B134,IF($B$10=\"Treguine\",Treguine!B134,IF($B$10=\"Bredjing\",Bredjing!B134,\"\"))))","v":0},{"$f":"IF($B$10=\"Farchana\",Farchana!C115,IF($B$10=\"Gaga\",Gaga!C134,IF($B$10=\"Treguine\",Treguine!C134,IF($B$10=\"Bredjing\",Bredjing!C134,\"\"))))","v":0},null,null,{"$f":"IF($B$10=\"Farchana\",Farchana!G115,IF($B$10=\"Gaga\",Gaga!I134,IF($B$10=\"Treguine\",Treguine!G134,IF($B$10=\"Bredjing\",Bredjing!G134,\"\"))))","v":""}]
[{"$f":"IF($B$10=\"Farchana\",Farchana!A116,IF($B$10=\"Gaga\",Gaga!A135,IF($B$10=\"Treguine\",Treguine!A135,IF($B$10=\"Bredjing\",Bredjing!A135,\"\"))))","v":0},{"$f":"IF($B$10=\"Farchana\",Farchana!B116,IF($B$10=\"Gaga\",Gaga!B135,IF($B$10=\"Treguine\",Treguine!B135,IF($B$10=\"Bredjing\",Bredjing!B135,\"\"))))","v":0},{"$f":"IF($B$10=\"Farchana\",Farchana!C116,IF($B$10=\"Gaga\",Gaga!C135,IF($B$10=\"Treguine\",Treguine!C135,IF($B$10=\"Bredjing\",Bredjing!C135,\"\"))))","v":0},null,null,{"$f":"IF($B$10=\"Farchana\",Farchana!G116,IF($B$10=\"Gaga\",Gaga!I135,IF($B$10=\"Treguine\",Treguine!G135,IF($B$10=\"Bredjing\",Bredjing!G135,\"\"))))","v":""}]
[{"$f":"IF($B$10=\"Farchana\",Farchana!A117,IF($B$10=\"Gaga\",Gaga!A136,IF($B$10=\"Treguine\",Treguine!A136,IF($B$10=\"Bredjing\",Bredjing!A136,\"\"))))","v":0},{"$f":"IF($B$10=\"Farchana\",Farchana!B117,IF($B$10=\"Gaga\",Gaga!B136,IF($B$10=\"Treguine\",Treguine!B136,IF($B$10=\"Bredjing\",Bredjing!B136,\"\"))))","v":0},{"$f":"IF($B$10=\"Farchana\",Farchana!C117,IF($B$10=\"Gaga\",Gaga!C136,IF($B$10=\"Treguine\",Treguine!C136,IF($B$10=\"Bredjing\",Bredjing!C136,\"\"))))","v":0},null,null,{"$f":"IF($B$10=\"Farchana\",Farchana!G117,IF($B$10=\"Gaga\",Gaga!I136,IF($B$10=\"Treguine\",Treguine!G136,IF($B$10=\"Bredjing\",Bredjing!G136,\"\"))))","v":""}]
[{"$f":"IF($B$10=\"Farchana\",Farchana!A118,IF($B$10=\"Gaga\",Gaga!A137,IF($B$10=\"Treguine\",Treguine!A137,IF($B$10=\"Bredjing\",Bredjing!A137,\"\"))))","v":0},{"$f":"IF($B$10=\"Farchana\",Farchana!B118,IF($B$10=\"Gaga\",Gaga!B137,IF($B$10=\"Treguine\",Treguine!B137,IF($B$10=\"Bredjing\",Bredjing!B137,\"\"))))","v":0},{"$f":"IF($B$10=\"Farchana\",Farchana!C118,IF($B$10=\"Gaga\",Gaga!C137,IF($B$10=\"Treguine\",Treguine!C137,IF($B$10=\"Bredjing\",Bredjing!C137,\"\"))))","v":0},null,null,{"$f":"IF($B$10=\"Farchana\",Farchana!G118,IF($B$10=\"Gaga\",Gaga!I137,IF($B$10=\"Treguine\",Treguine!G137,IF($B$10=\"Bredjing\",Bredjing!G137,\"\"))))","v":""}]
[{"$f":"IF($B$10=\"Farchana\",Farchana!A119,IF($B$10=\"Gaga\",Gaga!A138,IF($B$10=\"Treguine\",Treguine!A138,IF($B$10=\"Bredjing\",Bredjing!A138,\"\"))))","v":0},{"$f":"IF($B$10=\"Farchana\",Farchana!B119,IF($B$10=\"Gaga\",Gaga!B138,IF($B$10=\"Treguine\",Treguine!B138,IF($B$10=\"Bredjing\",Bredjing!B138,\"\"))))","v":0},{"$f":"IF($B$10=\"Farchana\",Farchana!C119,IF($B$10=\"Gaga\",Gaga!C138,IF($B$10=\"Treguine\",Treguine!C138,IF($B$10=\"Bredjing\",Bredjing!C138,\"\"))))","v":0},null,null,{"$f":"IF($B$10=\"Farchana\",Farchana!G119,IF($B$10=\"Gaga\",Gaga!I138,IF($B$10=\"Treguine\",Treguine!G138,IF($B$10=\"Bredjing\",Bredjing!G138,\"\"))))","v":""}]
[{"$f":"IF($B$10=\"Farchana\",Farchana!A120,IF($B$10=\"Gaga\",Gaga!A139,IF($B$10=\"Treguine\",Treguine!A139,IF($B$10=\"Bredjing\",Bredjing!A139,\"\"))))","v":0},{"$f":"IF($B$10=\"Farchana\",Farchana!B120,IF($B$10=\"Gaga\",Gaga!B139,IF($B$10=\"Treguine\",Treguine!B139,IF($B$10=\"Bredjing\",Bredjing!B139,\"\"))))","v":0},{"$f":"IF($B$10=\"Farchana\",Farchana!C120,IF($B$10=\"Gaga\",Gaga!C139,IF($B$10=\"Treguine\",Treguine!C139,IF($B$10=\"Bredjing\",Bredjing!C139,\"\"))))","v":0},null,null,{"$f":"IF($B$10=\"Farchana\",Farchana!G120,IF($B$10=\"Gaga\",Gaga!I139,IF($B$10=\"Treguine\",Treguine!G139,IF($B$10=\"Bredjing\",Bredjing!G139,\"\"))))","v":""}]
[{"$f":"IF($B$10=\"Farchana\",Farchana!A121,IF($B$10=\"Gaga\",Gaga!A140,IF($B$10=\"Treguine\",Treguine!A140,IF($B$10=\"Bredjing\",Bredjing!A140,\"\"))))","v":0},{"$f":"IF($B$10=\"Farchana\",Farchana!B121,IF($B$10=\"Gaga\",Gaga!B140,IF($B$10=\"Treguine\",Treguine!B140,IF($B$10=\"Bredjing\",Bredjing!B140,\"\"))))","v":0},{"$f":"IF($B$10=\"Farchana\",Farchana!C121,IF($B$10=\"Gaga\",Gaga!C140,IF($B$10=\"Treguine\",Treguine!C140,IF($B$10=\"Bredjing\",Bredjing!C140,\"\"))))","v":0},null,null,{"$f":"IF($B$10=\"Farchana\",Farchana!G121,IF($B$10=\"Gaga\",Gaga!I140,IF($B$10=\"Treguine\",Treguine!G140,IF($B$10=\"Bredjing\",Bredjing!G140,\"\"))))","v":""}]
[{"$f":"IF($B$10=\"Farchana\",Farchana!A122,IF($B$10=\"Gaga\",Gaga!A141,IF($B$10=\"Treguine\",Treguine!A141,IF($B$10=\"Bredjing\",Bredjing!A141,\"\"))))","v":0},{"$f":"IF($B$10=\"Farchana\",Farchana!B122,IF($B$10=\"Gaga\",Gaga!B141,IF($B$10=\"Treguine\",Treguine!B141,IF($B$10=\"Bredjing\",Bredjing!B141,\"\"))))","v":0},{"$f":"IF($B$10=\"Farchana\",Farchana!C122,IF($B$10=\"Gaga\",Gaga!C141,IF($B$10=\"Treguine\",Treguine!C141,IF($B$10=\"Bredjing\",Bredjing!C141,\"\"))))","v":0},null,null,{"$f":"IF($B$10=\"Farchana\",Farchana!G122,IF($B$10=\"Gaga\",Gaga!I141,IF($B$10=\"Treguine\",Treguine!G141,IF($B$10=\"Bredjing\",Bredjing!G141,\"\"))))","v":""}]
[{"$f":"IF($B$10=\"Farchana\",Farchana!A123,IF($B$10=\"Gaga\",Gaga!A142,IF($B$10=\"Treguine\",Treguine!A142,IF($B$10=\"Bredjing\",Bredjing!A142,\"\"))))","v":0},{"$f":"IF($B$10=\"Farchana\",Farchana!B123,IF($B$10=\"Gaga\",Gaga!B142,IF($B$10=\"Treguine\",Treguine!B142,IF($B$10=\"Bredjing\",Bredjing!B142,\"\"))))","v":0},{"$f":"IF($B$10=\"Farchana\",Farchana!C123,IF($B$10=\"Gaga\",Gaga!C142,IF($B$10=\"Treguine\",Treguine!C142,IF($B$10=\"Bredjing\",Bredjing!C142,\"\"))))","v":0},null,null,{"$f":"IF($B$10=\"Farchana\",Farchana!G123,IF($B$10=\"Gaga\",Gaga!I142,IF($B$10=\"Treguine\",Treguine!G142,IF($B$10=\"Bredjing\",Bredjing!G142,\"\"))))","v":""}]
[{"$f":"IF($B$10=\"Farchana\",Farchana!A124,IF($B$10=\"Gaga\",Gaga!A143,IF($B$10=\"Treguine\",Treguine!A143,IF($B$10=\"Bredjing\",Bredjing!A143,\"\"))))","v":0},{"$f":"IF($B$10=\"Farchana\",Farchana!B124,IF($B$10=\"Gaga\",Gaga!B143,IF($B$10=\"Treguine\",Treguine!B143,IF($B$10=\"Bredjing\",Bredjing!B143,\"\"))))","v":0},{"$f":"IF($B$10=\"Farchana\",Farchana!C124,IF($B$10=\"Gaga\",Gaga!C143,IF($B$10=\"Treguine\",Treguine!C143,IF($B$10=\"Bredjing\",Bredjing!C143,\"\"))))","v":0},null,null,{"$f":"IF($B$10=\"Farchana\",Farchana!G124,IF($B$10=\"Gaga\",Gaga!I143,IF($B$10=\"Treguine\",Treguine!G143,IF($B$10=\"Bredjing\",Bredjing!G143,\"\"))))","v":""}]
[{"$f":"IF($B$10=\"Farchana\",Farchana!A125,IF($B$10=\"Gaga\",Gaga!A144,IF($B$10=\"Treguine\",Treguine!A144,IF($B$10=\"Bredjing\",Bredjing!A144,\"\"))))","v":0},{"$f":"IF($B$10=\"Farchana\",Farchana!B125,IF($B$10=\"Gaga\",Gaga!B144,IF($B$10=\"Treguine\",Treguine!B144,IF($B$10=\"Bredjing\",Bredjing!B144,\"\"))))","v":0},{"$f":"IF($B$10=\"Farchana\",Farchana!C125,IF($B$10=\"Gaga\",Gaga!C144,IF($B$10=\"Treguine\",Treguine!C144,IF($B$10=\"Bredjing\",Bredjing!C144,\"\"))))","v":0},null,null,{"$f":"IF($B$10=\"Farchana\",Farchana!G125,IF($B$10=\"Gaga\",Gaga!I144,IF($B$10=\"Treguine\",Treguine!G144,IF($B$10=\"Bredjing\",Bredjing!G144,\"\"))))","v":""}]
[{"$f":"IF($B$10=\"Farchana\",Farchana!A126,IF($B$10=\"Gaga\",Gaga!A145,IF($B$10=\"Treguine\",Treguine!A145,IF($B$10=\"Bredjing\",Bredjing!A145,\"\"))))","v":0},{"$f":"IF($B$10=\"Farchana\",Farchana!B126,IF($B$10=\"Gaga\",Gaga!B145,IF($B$10=\"Treguine\",Treguine!B145,IF($B$10=\"Bredjing\",Bredjing!B145,\"\"))))","v":0},{"$f":"IF($B$10=\"Farchana\",Farchana!C126,IF($B$10=\"Gaga\",Gaga!C145,IF($B$10=\"Treguine\",Treguine!C145,IF($B$10=\"Bredjing\",Bredjing!C145,\"\"))))","v":0},null,null,{"$f":"IF($B$10=\"Farchana\",Farchana!G126,IF($B$10=\"Gaga\",Gaga!I145,IF($B$10=\"Treguine\",Treguine!G145,IF($B$10=\"Bredjing\",Bredjing!G145,\"\"))))","v":""}]
[{"$f":"IF($B$10=\"Farchana\",Farchana!A127,IF($B$10=\"Gaga\",Gaga!A146,IF($B$10=\"Treguine\",Treguine!A146,IF($B$10=\"Bredjing\",Bredjing!A146,\"\"))))","v":0},{"$f":"IF($B$10=\"Farchana\",Farchana!B127,IF($B$10=\"Gaga\",Gaga!B146,IF($B$10=\"Treguine\",Treguine!B146,IF($B$10=\"Bredjing\",Bredjing!B146,\"\"))))","v":0},{"$f":"IF($B$10=\"Farchana\",Farchana!C127,IF($B$10=\"Gaga\",Gaga!C146,IF($B$10=\"Treguine\",Treguine!C146,IF($B$10=\"Bredjing\",Bredjing!C146,\"\"))))","v":0},null,null,{"$f":"IF($B$10=\"Farchana\",Farchana!G127,IF($B$10=\"Gaga\",Gaga!I146,IF($B$10=\"Treguine\",Treguine!G146,IF($B$10=\"Bredjing\",Bredjing!G146,\"\"))))","v":""}]
[{"$f":"IF($B$10=\"Farchana\",Farchana!A128,IF($B$10=\"Gaga\",Gaga!A147,IF($B$10=\"Treguine\",Treguine!A147,IF($B$10=\"Bredjing\",Bredjing!A147,\"\"))))","v":0},{"$f":"IF($B$10=\"Farchana\",Farchana!B128,IF($B$10=\"Gaga\",Gaga!B147,IF($B$10=\"Treguine\",Treguine!B147,IF($B$10=\"Bredjing\",Bredjing!B147,\"\"))))","v":0},{"$f":"IF($B$10=\"Farchana\",Farchana!C128,IF($B$10=\"Gaga\",Gaga!C147,IF($B$10=\"Treguine\",Treguine!C147,IF($B$10=\"Bredjing\",Bredjing!C147,\"\"))))","v":0},null,null,{"$f":"IF($B$10=\"Farchana\",Farchana!G128,IF($B$10=\"Gaga\",Gaga!I147,IF($B$10=\"Treguine\",Treguine!G147,IF($B$10=\"Bredjing\",Bredjing!G147,\"\"))))","v":""}]
[{"$f":"IF($B$10=\"Farchana\",Farchana!A129,IF($B$10=\"Gaga\",Gaga!A148,IF($B$10=\"Treguine\",Treguine!A148,IF($B$10=\"Bredjing\",Bredjing!A148,\"\"))))","v":0},{"$f":"IF($B$10=\"Farchana\",Farchana!B129,IF($B$10=\"Gaga\",Gaga!B148,IF($B$10=\"Treguine\",Treguine!B148,IF($B$10=\"Bredjing\",Bredjing!B148,\"\"))))","v":0},{"$f":"IF($B$10=\"Farchana\",Farchana!C129,IF($B$10=\"Gaga\",Gaga!C148,IF($B$10=\"Treguine\",Treguine!C148,IF($B$10=\"Bredjing\",Bredjing!C148,\"\"))))","v":0},null,null,{"$f":"IF($B$10=\"Farchana\",Farchana!G129,IF($B$10=\"Gaga\",Gaga!I148,IF($B$10=\"Treguine\",Treguine!G148,IF($B$10=\"Bredjing\",Bredjing!G148,\"\"))))","v":""}]
[{"$f":"IF($B$10=\"Farchana\",Farchana!A130,IF($B$10=\"Gaga\",Gaga!A149,IF($B$10=\"Treguine\",Treguine!A149,IF($B$10=\"Bredjing\",Bredjing!A149,\"\"))))","v":0},{"$f":"IF($B$10=\"Farchana\",Farchana!B130,IF($B$10=\"Gaga\",Gaga!B149,IF($B$10=\"Treguine\",Treguine!B149,IF($B$10=\"Bredjing\",Bredjing!B149,\"\"))))","v":0},{"$f":"IF($B$10=\"Farchana\",Farchana!C130,IF($B$10=\"Gaga\",Gaga!C149,IF($B$10=\"Treguine\",Treguine!C149,IF($B$10=\"Bredjing\",Bredjing!C149,\"\"))))","v":0},null,null,{"$f":"IF($B$10=\"Farchana\",Farchana!G130,IF($B$10=\"Gaga\",Gaga!I149,IF($B$10=\"Treguine\",Treguine!G149,IF($B$10=\"Bredjing\",Bredjing!G149,\"\"))))","v":""}]
[{"$f":"IF($B$10=\"Farchana\",Farchana!A131,IF($B$10=\"Gaga\",Gaga!A150,IF($B$10=\"Treguine\",Treguine!A150,IF($B$10=\"Bredjing\",Bredjing!A150,\"\"))))","v":0},{"$f":"IF($B$10=\"Farchana\",Farchana!B131,IF($B$10=\"Gaga\",Gaga!B150,IF($B$10=\"Treguine\",Treguine!B150,IF($B$10=\"Bredjing\",Bredjing!B150,\"\"))))","v":0},{"$f":"IF($B$10=\"Farchana\",Farchana!C131,IF($B$10=\"Gaga\",Gaga!C150,IF($B$10=\"Treguine\",Treguine!C150,IF($B$10=\"Bredjing\",Bredjing!C150,\"\"))))","v":0},null,null,{"$f":"IF($B$10=\"Farchana\",Farchana!G131,IF($B$10=\"Gaga\",Gaga!I150,IF($B$10=\"Treguine\",Treguine!G150,IF($B$10=\"Bredjing\",Bredjing!G150,\"\"))))","v":""}]
[{"$f":"IF($B$10=\"Farchana\",Farchana!A132,IF($B$10=\"Gaga\",Gaga!A151,IF($B$10=\"Treguine\",Treguine!A151,IF($B$10=\"Bredjing\",Bredjing!A151,\"\"))))","v":0},{"$f":"IF($B$10=\"Farchana\",Farchana!B132,IF($B$10=\"Gaga\",Gaga!B151,IF($B$10=\"Treguine\",Treguine!B151,IF($B$10=\"Bredjing\",Bredjing!B151,\"\"))))","v":0},{"$f":"IF($B$10=\"Farchana\",Farchana!C132,IF($B$10=\"Gaga\",Gaga!C151,IF($B$10=\"Treguine\",Treguine!C151,IF($B$10=\"Bredjing\",Bredjing!C151,\"\"))))","v":0},null,null,{"$f":"IF($B$10=\"Farchana\",Farchana!G132,IF($B$10=\"Gaga\",Gaga!I151,IF($B$10=\"Treguine\",Treguine!G151,IF($B$10=\"Bredjing\",Bredjing!G151,\"\"))))","v":""}]
[{"$f":"IF($B$10=\"Farchana\",Farchana!A133,IF($B$10=\"Gaga\",Gaga!A152,IF($B$10=\"Treguine\",Treguine!A152,IF($B$10=\"Bredjing\",Bredjing!A152,\"\"))))","v":0},{"$f":"IF($B$10=\"Farchana\",Farchana!B133,IF($B$10=\"Gaga\",Gaga!B152,IF($B$10=\"Treguine\",Treguine!B152,IF($B$10=\"Bredjing\",Bredjing!B152,\"\"))))","v":0},{"$f":"IF($B$10=\"Farchana\",Farchana!C133,IF($B$10=\"Gaga\",Gaga!C152,IF($B$10=\"Treguine\",Treguine!C152,IF($B$10=\"Bredjing\",Bredjing!C152,\"\"))))","v":0},null,null,{"$f":"IF($B$10=\"Farchana\",Farchana!G133,IF($B$10=\"Gaga\",Gaga!I152,IF($B$10=\"Treguine\",Treguine!G152,IF($B$10=\"Bredjing\",Bredjing!G152,\"\"))))","v":""}]
[{"$f":"IF($B$10=\"Farchana\",Farchana!A134,IF($B$10=\"Gaga\",Gaga!A153,IF($B$10=\"Treguine\",Treguine!A153,IF($B$10=\"Bredjing\",Bredjing!A153,\"\"))))","v":0},{"$f":"IF($B$10=\"Farchana\",Farchana!B134,IF($B$10=\"Gaga\",Gaga!B153,IF($B$10=\"Treguine\",Treguine!B153,IF($B$10=\"Bredjing\",Bredjing!B153,\"\"))))","v":0},{"$f":"IF($B$10=\"Farchana\",Farchana!C134,IF($B$10=\"Gaga\",Gaga!C153,IF($B$10=\"Treguine\",Treguine!C153,IF($B$10=\"Bredjing\",Bredjing!C153,\"\"))))","v":0},null,null,{"$f":"IF($B$10=\"Farchana\",Farchana!G134,IF($B$10=\"Gaga\",Gaga!I153,IF($B$10=\"Treguine\",Treguine!G153,IF($B$10=\"Bredjing\",Bredjing!G153,\"\"))))","v":""}]
[{"$f":"IF($B$10=\"Farchana\",Farchana!A135,IF($B$10=\"Gaga\",Gaga!A154,IF($B$10=\"Treguine\",Treguine!A154,IF($B$10=\"Bredjing\",Bredjing!A154,\"\"))))","v":0},{"$f":"IF($B$10=\"Farchana\",Farchana!B135,IF($B$10=\"Gaga\",Gaga!B154,IF($B$10=\"Treguine\",Treguine!B154,IF($B$10=\"Bredjing\",Bredjing!B154,\"\"))))","v":0},{"$f":"IF($B$10=\"Farchana\",Farchana!C135,IF($B$10=\"Gaga\",Gaga!C154,IF($B$10=\"Treguine\",Treguine!C154,IF($B$10=\"Bredjing\",Bredjing!C154,\"\"))))","v":0},null,null,{"$f":"IF($B$10=\"Farchana\",Farchana!G135,IF($B$10=\"Gaga\",Gaga!I154,IF($B$10=\"Treguine\",Treguine!G154,IF($B$10=\"Bredjing\",Bredjing!G154,\"\"))))","v":""}]
[{"$f":"IF($B$10=\"Farchana\",Farchana!A136,IF($B$10=\"Gaga\",Gaga!A155,IF($B$10=\"Treguine\",Treguine!A155,IF($B$10=\"Bredjing\",Bredjing!A155,\"\"))))","v":0},{"$f":"IF($B$10=\"Farchana\",Farchana!B136,IF($B$10=\"Gaga\",Gaga!B155,IF($B$10=\"Treguine\",Treguine!B155,IF($B$10=\"Bredjing\",Bredjing!B155,\"\"))))","v":0},{"$f":"IF($B$10=\"Farchana\",Farchana!C136,IF($B$10=\"Gaga\",Gaga!C155,IF($B$10=\"Treguine\",Treguine!C155,IF($B$10=\"Bredjing\",Bredjing!C155,\"\"))))","v":0},null,null,{"$f":"IF($B$10=\"Farchana\",Farchana!G136,IF($B$10=\"Gaga\",Gaga!I155,IF($B$10=\"Treguine\",Treguine!G155,IF($B$10=\"Bredjing\",Bredjing!G155,\"\"))))","v":""}]
[{"$f":"IF($B$10=\"Farchana\",Farchana!A137,IF($B$10=\"Gaga\",Gaga!A156,IF($B$10=\"Treguine\",Treguine!A156,IF($B$10=\"Bredjing\",Bredjing!A156,\"\"))))","v":0},{"$f":"IF($B$10=\"Farchana\",Farchana!B137,IF($B$10=\"Gaga\",Gaga!B156,IF($B$10=\"Treguine\",Treguine!B156,IF($B$10=\"Bredjing\",Bredjing!B156,\"\"))))","v":0},{"$f":"IF($B$10=\"Farchana\",Farchana!C137,IF($B$10=\"Gaga\",Gaga!C156,IF($B$10=\"Treguine\",Treguine!C156,IF($B$10=\"Bredjing\",Bredjing!C156,\"\"))))","v":0},null,null,{"$f":"IF($B$10=\"Farchana\",Farchana!G137,IF($B$10=\"Gaga\",Gaga!I156,IF($B$10=\"Treguine\",Treguine!G156,IF($B$10=\"Bredjing\",Bredjing!G156,\"\"))))","v":""}]
[{"$f":"IF($B$10=\"Farchana\",Farchana!A138,IF($B$10=\"Gaga\",Gaga!A157,IF($B$10=\"Treguine\",Treguine!A157,IF($B$10=\"Bredjing\",Bredjing!A157,\"\"))))","v":0},{"$f":"IF($B$10=\"Farchana\",Farchana!B138,IF($B$10=\"Gaga\",Gaga!B157,IF($B$10=\"Treguine\",Treguine!B157,IF($B$10=\"Bredjing\",Bredjing!B157,\"\"))))","v":0},{"$f":"IF($B$10=\"Farchana\",Farchana!C138,IF($B$10=\"Gaga\",Gaga!C157,IF($B$10=\"Treguine\",Treguine!C157,IF($B$10=\"Bredjing\",Bredjing!C157,\"\"))))","v":0},null,null,{"$f":"IF($B$10=\"Farchana\",Farchana!G138,IF($B$10=\"Gaga\",Gaga!I157,IF($B$10=\"Treguine\",Treguine!G157,IF($B$10=\"Bredjing\",Bredjing!G157,\"\"))))","v":""}]
[{"$f":"IF($B$10=\"Farchana\",Farchana!A139,IF($B$10=\"Gaga\",Gaga!A158,IF($B$10=\"Treguine\",Treguine!A158,IF($B$10=\"Bredjing\",Bredjing!A158,\"\"))))","v":0},{"$f":"IF($B$10=\"Farchana\",Farchana!B139,IF($B$10=\"Gaga\",Gaga!B158,IF($B$10=\"Treguine\",Treguine!B158,IF($B$10=\"Bredjing\",Bredjing!B158,\"\"))))","v":0},{"$f":"IF($B$10=\"Farchana\",Farchana!C139,IF($B$10=\"Gaga\",Gaga!C158,IF($B$10=\"Treguine\",Treguine!C158,IF($B$10=\"Bredjing\",Bredjing!C158,\"\"))))","v":0},null,null,{"$f":"IF($B$10=\"Farchana\",Farchana!G139,IF($B$10=\"Gaga\",Gaga!I158,IF($B$10=\"Treguine\",Treguine!G158,IF($B$10=\"Bredjing\",Bredjing!G158,\"\"))))","v":""}]
[{"$f":"IF($B$10=\"Farchana\",Farchana!A140,IF($B$10=\"Gaga\",Gaga!A159,IF($B$10=\"Treguine\",Treguine!A159,IF($B$10=\"Bredjing\",Bredjing!A159,\"\"))))","v":0},{"$f":"IF($B$10=\"Farchana\",Farchana!B140,IF($B$10=\"Gaga\",Gaga!B159,IF($B$10=\"Treguine\",Treguine!B159,IF($B$10=\"Bredjing\",Bredjing!B159,\"\"))))","v":0},{"$f":"IF($B$10=\"Farchana\",Farchana!C140,IF($B$10=\"Gaga\",Gaga!C159,IF($B$10=\"Treguine\",Treguine!C159,IF($B$10=\"Bredjing\",Bredjing!C159,\"\"))))","v":0},null,null,{"$f":"IF($B$10=\"Farchana\",Farchana!G140,IF($B$10=\"Gaga\",Gaga!I159,IF($B$10=\"Treguine\",Treguine!G159,IF($B$10=\"Bredjing\",Bredjing!G159,\"\"))))","v":""}]
[{"$f":"IF($B$10=\"Farchana\",Farchana!A141,IF($B$10=\"Gaga\",Gaga!A160,IF($B$10=\"Treguine\",Treguine!A160,IF($B$10=\"Bredjing\",Bredjing!A160,\"\"))))","v":0},{"$f":"IF($B$10=\"Farchana\",Farchana!B141,IF($B$10=\"Gaga\",Gaga!B160,IF($B$10=\"Treguine\",Treguine!B160,IF($B$10=\"Bredjing\",Bredjing!B160,\"\"))))","v":0},{"$f":"IF($B$10=\"Farchana\",Farchana!C141,IF($B$10=\"Gaga\",Gaga!C160,IF($B$10=\"Treguine\",Treguine!C160,IF($B$10=\"Bredjing\",Bredjing!C160,\"\"))))","v":0},null,null,{"$f":"IF($B$10=\"Farchana\",Farchana!G141,IF($B$10=\"Gaga\",Gaga!I160,IF($B$10=\"Treguine\",Treguine!G160,IF($B$10=\"Bredjing\",Bredjing!G160,\"\"))))","v":""}]
[{"$f":"IF($B$10=\"Farchana\",Farchana!A142,IF($B$10=\"Gaga\",Gaga!A161,IF($B$10=\"Treguine\",Treguine!A161,IF($B$10=\"Bredjing\",Bredjing!A161,\"\"))))","v":0},{"$f":"IF($B$10=\"Farchana\",Farchana!B142,IF($B$10=\"Gaga\",Gaga!B161,IF($B$10=\"Treguine\",Treguine!B161,IF($B$10=\"Bredjing\",Bredjing!B161,\"\"))))","v":0},{"$f":"IF($B$10=\"Farchana\",Farchana!C142,IF($B$10=\"Gaga\",Gaga!C161,IF($B$10=\"Treguine\",Treguine!C161,IF($B$10=\"Bredjing\",Bredjing!C161,\"\"))))","v":0},null,null,{"$f":"IF($B$10=\"Farchana\",Farchana!G142,IF($B$10=\"Gaga\",Gaga!I161,IF($B$10=\"Treguine\",Treguine!G161,IF($B$10=\"Bredjing\",Bredjing!G161,\"\"))))","v":""}]
[{"$f":"IF($B$10=\"Farchana\",Farchana!A143,IF($B$10=\"Gaga\",Gaga!A162,IF($B$10=\"Treguine\",Treguine!A162,IF($B$10=\"Bredjing\",Bredjing!A162,\"\"))))","v":0},{"$f":"IF($B$10=\"Farchana\",Farchana!B143,IF($B$10=\"Gaga\",Gaga!B162,IF($B$10=\"Treguine\",Treguine!B162,IF($B$10=\"Bredjing\",Bredjing!B162,\"\"))))","v":0},{"$f":"IF($B$10=\"Farchana\",Farchana!C143,IF($B$10=\"Gaga\",Gaga!C162,IF($B$10=\"Treguine\",Treguine!C162,IF($B$10=\"Bredjing\",Bredjing!C162,\"\"))))","v":0},null,null,{"$f":"IF($B$10=\"Farchana\",Farchana!G143,IF($B$10=\"Gaga\",Gaga!I162,IF($B$10=\"Treguine\",Treguine!G162,IF($B$10=\"Bredjing\",Bredjing!G162,\"\"))))","v":""}]
[{"$f":"IF($B$10=\"Farchana\",Farchana!A144,IF($B$10=\"Gaga\",Gaga!A163,IF($B$10=\"Treguine\",Treguine!A163,IF($B$10=\"Bredjing\",Bredjing!A163,\"\"))))","v":0},{"$f":"IF($B$10=\"Farchana\",Farchana!B144,IF($B$10=\"Gaga\",Gaga!B163,IF($B$10=\"Treguine\",Treguine!B163,IF($B$10=\"Bredjing\",Bredjing!B163,\"\"))))","v":0},{"$f":"IF($B$10=\"Farchana\",Farchana!C144,IF($B$10=\"Gaga\",Gaga!C163,IF($B$10=\"Treguine\",Treguine!C163,IF($B$10=\"Bredjing\",Bredjing!C163,\"\"))))","v":0},null,null,{"$f":"IF($B$10=\"Farchana\",Farchana!G144,IF($B$10=\"Gaga\",Gaga!I163,IF($B$10=\"Treguine\",Treguine!G163,IF($B$10=\"Bredjing\",Bredjing!G163,\"\"))))","v":""}]
[{"$f":"IF($B$10=\"Farchana\",Farchana!A145,IF($B$10=\"Gaga\",Gaga!A164,IF($B$10=\"Treguine\",Treguine!A164,IF($B$10=\"Bredjing\",Bredjing!A164,\"\"))))","v":0},{"$f":"IF($B$10=\"Farchana\",Farchana!B145,IF($B$10=\"Gaga\",Gaga!B164,IF($B$10=\"Treguine\",Treguine!B164,IF($B$10=\"Bredjing\",Bredjing!B164,\"\"))))","v":0},{"$f":"IF($B$10=\"Farchana\",Farchana!C145,IF($B$10=\"Gaga\",Gaga!C164,IF($B$10=\"Treguine\",Treguine!C164,IF($B$10=\"Bredjing\",Bredjing!C164,\"\"))))","v":0},null,null,{"$f":"IF($B$10=\"Farchana\",Farchana!G145,IF($B$10=\"Gaga\",Gaga!I164,IF($B$10=\"Treguine\",Treguine!G164,IF($B$10=\"Bredjing\",Bredjing!G164,\"\"))))","v":""}]
[{"$f":"IF($B$10=\"Farchana\",Farchana!A146,IF($B$10=\"Gaga\",Gaga!A165,IF($B$10=\"Treguine\",Treguine!A165,IF($B$10=\"Bredjing\",Bredjing!A165,\"\"))))","v":0},{"$f":"IF($B$10=\"Farchana\",Farchana!B146,IF($B$10=\"Gaga\",Gaga!B165,IF($B$10=\"Treguine\",Treguine!B165,IF($B$10=\"Bredjing\",Bredjing!B165,\"\"))))","v":0},{"$f":"IF($B$10=\"Farchana\",Farchana!C146,IF($B$10=\"Gaga\",Gaga!C165,IF($B$10=\"Treguine\",Treguine!C165,IF($B$10=\"Bredjing\",Bredjing!C165,\"\"))))","v":0},null,null,{"$f":"IF($B$10=\"Farchana\",Farchana!G146,IF($B$10=\"Gaga\",Gaga!I165,IF($B$10=\"Treguine\",Treguine!G165,IF($B$10=\"Bredjing\",Bredjing!G165,\"\"))))","v":""}]
[{"$f":"IF($B$10=\"Farchana\",Farchana!A147,IF($B$10=\"Gaga\",Gaga!A166,IF($B$10=\"Treguine\",Treguine!A166,IF($B$10=\"Bredjing\",Bredjing!A166,\"\"))))","v":0},{"$f":"IF($B$10=\"Farchana\",Farchana!B147,IF($B$10=\"Gaga\",Gaga!B166,IF($B$10=\"Treguine\",Treguine!B166,IF($B$10=\"Bredjing\",Bredjing!B166,\"\"))))","v":0},{"$f":"IF($B$10=\"Farchana\",Farchana!C147,IF($B$10=\"Gaga\",Gaga!C166,IF($B$10=\"Treguine\",Treguine!C166,IF($B$10=\"Bredjing\",Bredjing!C166,\"\"))))","v":0},null,null,{"$f":"IF($B$10=\"Farchana\",Farchana!G147,IF($B$10=\"Gaga\",Gaga!I166,IF($B$10=\"Treguine\",Treguine!G166,IF($B$10=\"Bredjing\",Bredjing!G166,\"\"))))","v":""}]
[{"$f":"IF($B$10=\"Farchana\",Farchana!A148,IF($B$10=\"Gaga\",Gaga!A167,IF($B$10=\"Treguine\",Treguine!A167,IF($B$10=\"Bredjing\",Bredjing!A167,\"\"))))","v":0},{"$f":"IF($B$10=\"Farchana\",Farchana!B148,IF($B$10=\"Gaga\",Gaga!B167,IF($B$10=\"Treguine\",Treguine!B167,IF($B$10=\"Bredjing\",Bredjing!B167,\"\"))))","v":0},{"$f":"IF($B$10=\"Farchana\",Farchana!C148,IF($B$10=\"Gaga\",Gaga!C167,IF($B$10=\"Treguine\",Treguine!C167,IF($B$10=\"Bredjing\",Bredjing!C167,\"\"))))","v":0},null,null,{"$f":"IF($B$10=\"Farchana\",Farchana!G148,IF($B$10=\"Gaga\",Gaga!I167,IF($B$10=\"Treguine\",Treguine!G167,IF($B$10=\"Bredjing\",Bredjing!G167,\"\"))))","v":""}]
[{"$f":"IF($B$10=\"Farchana\",Farchana!A149,IF($B$10=\"Gaga\",Gaga!A168,IF($B$10=\"Treguine\",Treguine!A168,IF($B$10=\"Bredjing\",Bredjing!A168,\"\"))))","v":0},{"$f":"IF($B$10=\"Farchana\",Farchana!B149,IF($B$10=\"Gaga\",Gaga!B168,IF($B$10=\"Treguine\",Treguine!B168,IF($B$10=\"Bredjing\",Bredjing!B168,\"\"))))","v":0},{"$f":"IF($B$10=\"Farchana\",Farchana!C149,IF($B$10=\"Gaga\",Gaga!C168,IF($B$10=\"Treguine\",Treguine!C168,IF($B$10=\"Bredjing\",Bredjing!C168,\"\"))))","v":0},null,null,{"$f":"IF($B$10=\"Farchana\",Farchana!G149,IF($B$10=\"Gaga\",Gaga!I168,IF($B$10=\"Treguine\",Treguine!G168,IF($B$10=\"Bredjing\",Bredjing!G168,\"\"))))","v":""}]
[{"$f":"IF($B$10=\"Farchana\",Farchana!A150,IF($B$10=\"Gaga\",Gaga!A169,IF($B$10=\"Treguine\",Treguine!A169,IF($B$10=\"Bredjing\",Bredjing!A169,\"\"))))","v":0},{"$f":"IF($B$10=\"Farchana\",Farchana!B150,IF($B$10=\"Gaga\",Gaga!B169,IF($B$10=\"Treguine\",Treguine!B169,IF($B$10=\"Bredjing\",Bredjing!B169,\"\"))))","v":0},{"$f":"IF($B$10=\"Farchana\",Farchana!C150,IF($B$10=\"Gaga\",Gaga!C169,IF($B$10=\"Treguine\",Treguine!C169,IF($B$10=\"Bredjing\",Bredjing!C169,\"\"))))","v":0},null,null,{"$f":"IF($B$10=\"Farchana\",Farchana!G150,IF($B$10=\"Gaga\",Gaga!I169,IF($B$10=\"Treguine\",Treguine!G169,IF($B$10=\"Bredjing\",Bredjing!G169,\"\"))))","v":""}]
[{"$f":"IF($B$10=\"Farchana\",Farchana!A151,IF($B$10=\"Gaga\",Gaga!A170,IF($B$10=\"Treguine\",Treguine!A170,IF($B$10=\"Bredjing\",Bredjing!A170,\"\"))))","v":0},{"$f":"IF($B$10=\"Farchana\",Farchana!B151,IF($B$10=\"Gaga\",Gaga!B170,IF($B$10=\"Treguine\",Treguine!B170,IF($B$10=\"Bredjing\",Bredjing!B170,\"\"))))","v":0},{"$f":"IF($B$10=\"Farchana\",Farchana!C151,IF($B$10=\"Gaga\",Gaga!C170,IF($B$10=\"Treguine\",Treguine!C170,IF($B$10=\"Bredjing\",Bredjing!C170,\"\"))))","v":0},null,null,{"$f":"IF($B$10=\"Farchana\",Farchana!G151,IF($B$10=\"Gaga\",Gaga!I170,IF($B$10=\"Treguine\",Treguine!G170,IF($B$10=\"Bredjing\",Bredjing!G170,\"\"))))","v":""}]
[{"$f":"IF($B$10=\"Farchana\",Farchana!A152,IF($B$10=\"Gaga\",Gaga!A171,IF($B$10=\"Treguine\",Treguine!A171,IF($B$10=\"Bredjing\",Bredjing!A171,\"\"))))","v":0},{"$f":"IF($B$10=\"Farchana\",Farchana!B152,IF($B$10=\"Gaga\",Gaga!B171,IF($B$10=\"Treguine\",Treguine!B171,IF($B$10=\"Bredjing\",Bredjing!B171,\"\"))))","v":0},{"$f":"IF($B$10=\"Farchana\",Farchana!C152,IF($B$10=\"Gaga\",Gaga!C171,IF($B$10=\"Treguine\",Treguine!C171,IF($B$10=\"Bredjing\",Bredjing!C171,\"\"))))","v":0},null,null,{"$f":"IF($B$10=\"Farchana\",Farchana!G152,IF($B$10=\"Gaga\",Gaga!I171,IF($B$10=\"Treguine\",Treguine!G171,IF($B$10=\"Bredjing\",Bredjing!G171,\"\"))))","v":""}]
[{"$f":"IF($B$10=\"Farchana\",Farchana!A153,IF($B$10=\"Gaga\",Gaga!A172,IF($B$10=\"Treguine\",Treguine!A172,IF($B$10=\"Bredjing\",Bredjing!A172,\"\"))))","v":0},{"$f":"IF($B$10=\"Farchana\",Farchana!B153,IF($B$10=\"Gaga\",Gaga!B172,IF($B$10=\"Treguine\",Treguine!B172,IF($B$10=\"Bredjing\",Bredjing!B172,\"\"))))","v":0},{"$f":"IF($B$10=\"Farchana\",Farchana!C153,IF($B$10=\"Gaga\",Gaga!C172,IF($B$10=\"Treguine\",Treguine!C172,IF($B$10=\"Bredjing\",Bredjing!C172,\"\"))))","v":0},null,null,{"$f":"IF($B$10=\"Farchana\",Farchana!G153,IF($B$10=\"Gaga\",Gaga!I172,IF($B$10=\"Treguine\",Treguine!G172,IF($B$10=\"Bredjing\",Bredjing!G172,\"\"))))","v":""}]
[{"$f":"IF($B$10=\"Farchana\",Farchana!A154,IF($B$10=\"Gaga\",Gaga!A173,IF($B$10=\"Treguine\",Treguine!A173,IF($B$10=\"Bredjing\",Bredjing!A173,\"\"))))","v":0},{"$f":"IF($B$10=\"Farchana\",Farchana!B154,IF($B$10=\"Gaga\",Gaga!B173,IF($B$10=\"Treguine\",Treguine!B173,IF($B$10=\"Bredjing\",Bredjing!B173,\"\"))))","v":0},{"$f":"IF($B$10=\"Farchana\",Farchana!C154,IF($B$10=\"Gaga\",Gaga!C173,IF($B$10=\"Treguine\",Treguine!C173,IF($B$10=\"Bredjing\",Bredjing!C173,\"\"))))","v":0},null,null,{"$f":"IF($B$10=\"Farchana\",Farchana!G154,IF($B$10=\"Gaga\",Gaga!I173,IF($B$10=\"Treguine\",Treguine!G173,IF($B$10=\"Bredjing\",Bredjing!G173,\"\"))))","v":""}]
[{"$f":"IF($B$10=\"Farchana\",Farchana!A155,IF($B$10=\"Gaga\",Gaga!A174,IF($B$10=\"Treguine\",Treguine!A174,IF($B$10=\"Bredjing\",Bredjing!A174,\"\"))))","v":0},{"$f":"IF($B$10=\"Farchana\",Farchana!B155,IF($B$10=\"Gaga\",Gaga!B174,IF($B$10=\"Treguine\",Treguine!B174,IF($B$10=\"Bredjing\",Bredjing!B174,\"\"))))","v":0},{"$f":"IF($B$10=\"Farchana\",Farchana!C155,IF($B$10=\"Gaga\",Gaga!C174,IF($B$10=\"Treguine\",Treguine!C174,IF($B$10=\"Bredjing\",Bredjing!C174,\"\"))))","v":0},null,null,{"$f":"IF($B$10=\"Farchana\",Farchana!G155,IF($B$10=\"Gaga\",Gaga!I174,IF($B$10=\"Treguine\",Treguine!G174,IF($B$10=\"Bredjing\",Bredjing!G174,\"\"))))","v":""}]
[{"$f":"IF($B$10=\"Farchana\",Farchana!A156,IF($B$10=\"Gaga\",Gaga!A175,IF($B$10=\"Treguine\",Treguine!A175,IF($B$10=\"Bredjing\",Bredjing!A175,\"\"))))","v":0},{"$f":"IF($B$10=\"Farchana\",Farchana!B156,IF($B$10=\"Gaga\",Gaga!B175,IF($B$10=\"Treguine\",Treguine!B175,IF($B$10=\"Bredjing\",Bredjing!B175,\"\"))))","v":0},{"$f":"IF($B$10=\"Farchana\",Farchana!C156,IF($B$10=\"Gaga\",Gaga!C175,IF($B$10=\"Treguine\",Treguine!C175,IF($B$10=\"Bredjing\",Bredjing!C175,\"\"))))","v":0},null,null,{"$f":"IF($B$10=\"Farchana\",Farchana!G156,IF($B$10=\"Gaga\",Gaga!I175,IF($B$10=\"Treguine\",Treguine!G175,IF($B$10=\"Bredjing\",Bredjing!G175,\"\"))))","v":""}]
[{"$f":"IF($B$10=\"Farchana\",Farchana!A157,IF($B$10=\"Gaga\",Gaga!A176,IF($B$10=\"Treguine\",Treguine!A176,IF($B$10=\"Bredjing\",Bredjing!A176,\"\"))))","v":0},{"$f":"IF($B$10=\"Farchana\",Farchana!B157,IF($B$10=\"Gaga\",Gaga!B176,IF($B$10=\"Treguine\",Treguine!B176,IF($B$10=\"Bredjing\",Bredjing!B176,\"\"))))","v":0},{"$f":"IF($B$10=\"Farchana\",Farchana!C157,IF($B$10=\"Gaga\",Gaga!C176,IF($B$10=\"Treguine\",Treguine!C176,IF($B$10=\"Bredjing\",Bredjing!C176,\"\"))))","v":0},null,null,{"$f":"IF($B$10=\"Farchana\",Farchana!G157,IF($B$10=\"Gaga\",Gaga!I176,IF($B$10=\"Treguine\",Treguine!G176,IF($B$10=\"Bredjing\",Bredjing!G176,\"\"))))","v":""}]
[{"$f":"IF($B$10=\"Farchana\",Farchana!A158,IF($B$10=\"Gaga\",Gaga!A177,IF($B$10=\"Treguine\",Treguine!A177,IF($B$10=\"Bredjing\",Bredjing!A177,\"\"))))","v":0},{"$f":"IF($B$10=\"Farchana\",Farchana!B158,IF($B$10=\"Gaga\",Gaga!B177,IF($B$10=\"Treguine\",Treguine!B177,IF($B$10=\"Bredjing\",Bredjing!B177,\"\"))))","v":0},{"$f":"IF($B$10=\"Farchana\",Farchana!C158,IF($B$10=\"Gaga\",Gaga!C177,IF($B$10=\"Treguine\",Treguine!C177,IF($B$10=\"Bredjing\",Bredjing!C177,\"\"))))","v":0},null,null,{"$f":"IF($B$10=\"Farchana\",Farchana!G158,IF($B$10=\"Gaga\",Gaga!I177,IF($B$10=\"Treguine\",Treguine!G177,IF($B$10=\"Bredjing\",Bredjing!G177,\"\"))))","v":""}]
[{"$f":"IF($B$10=\"Farchana\",Farchana!A159,IF($B$10=\"Gaga\",Gaga!A178,IF($B$10=\"Treguine\",Treguine!A178,IF($B$10=\"Bredjing\",Bredjing!A178,\"\"))))","v":0},{"$f":"IF($B$10=\"Farchana\",Farchana!B159,IF($B$10=\"Gaga\",Gaga!B178,IF($B$10=\"Treguine\",Treguine!B178,IF($B$10=\"Bredjing\",Bredjing!B178,\"\"))))","v":0},{"$f":"IF($B$10=\"Farchana\",Farchana!C159,IF($B$10=\"Gaga\",Gaga!C178,IF($B$10=\"Treguine\",Treguine!C178,IF($B$10=\"Bredjing\",Bredjing!C178,\"\"))))","v":0},null,null,{"$f":"IF($B$10=\"Farchana\",Farchana!G159,IF($B$10=\"Gaga\",Gaga!I178,IF($B$10=\"Treguine\",Treguine!G178,IF($B$10=\"Bredjing\",Bredjing!G178,\"\"))))","v":""}]
[{"$f":"IF($B$10=\"Farchana\",Farchana!A160,IF($B$10=\"Gaga\",Gaga!A179,IF($B$10=\"Treguine\",Treguine!A179,IF($B$10=\"Bredjing\",Bredjing!A179,\"\"))))","v":0},{"$f":"IF($B$10=\"Farchana\",Farchana!B160,IF($B$10=\"Gaga\",Gaga!B179,IF($B$10=\"Treguine\",Treguine!B179,IF($B$10=\"Bredjing\",Bredjing!B179,\"\"))))","v":0},{"$f":"IF($B$10=\"Farchana\",Farchana!C160,IF($B$10=\"Gaga\",Gaga!C179,IF($B$10=\"Treguine\",Treguine!C179,IF($B$10=\"Bredjing\",Bredjing!C179,\"\"))))","v":0},null,null,{"$f":"IF($B$10=\"Farchana\",Farchana!G160,IF($B$10=\"Gaga\",Gaga!I179,IF($B$10=\"Treguine\",Treguine!G179,IF($B$10=\"Bredjing\",Bredjing!G179,\"\"))))","v":""}]
[{"$f":"IF($B$10=\"Farchana\",Farchana!A161,IF($B$10=\"Gaga\",Gaga!A180,IF($B$10=\"Treguine\",Treguine!A180,IF($B$10=\"Bredjing\",Bredjing!A180,\"\"))))","v":0},{"$f":"IF($B$10=\"Farchana\",Farchana!B161,IF($B$10=\"Gaga\",Gaga!B180,IF($B$10=\"Treguine\",Treguine!B180,IF($B$10=\"Bredjing\",Bredjing!B180,\"\"))))","v":0},{"$f":"IF($B$10=\"Farchana\",Farchana!C161,IF($B$10=\"Gaga\",Gaga!C180,IF($B$10=\"Treguine\",Treguine!C180,IF($B$10=\"Bredjing\",Bredjing!C180,\"\"))))","v":0},null,null,{"$f":"IF($B$10=\"Farchana\",Farchana!G161,IF($B$10=\"Gaga\",Gaga!I180,IF($B$10=\"Treguine\",Treguine!G180,IF($B$10=\"Bredjing\",Bredjing!G180,\"\"))))","v":""}]
[{"$f":"IF($B$10=\"Farchana\",Farchana!A162,IF($B$10=\"Gaga\",Gaga!A181,IF($B$10=\"Treguine\",Treguine!A181,IF($B$10=\"Bredjing\",Bredjing!A181,\"\"))))","v":0},{"$f":"IF($B$10=\"Farchana\",Farchana!B162,IF($B$10=\"Gaga\",Gaga!B181,IF($B$10=\"Treguine\",Treguine!B181,IF($B$10=\"Bredjing\",Bredjing!B181,\"\"))))","v":0},{"$f":"IF($B$10=\"Farchana\",Farchana!C162,IF($B$10=\"Gaga\",Gaga!C181,IF($B$10=\"Treguine\",Treguine!C181,IF($B$10=\"Bredjing\",Bredjing!C181,\"\"))))","v":0},null,null,{"$f":"IF($B$10=\"Farchana\",Farchana!G162,IF($B$10=\"Gaga\",Gaga!I181,IF($B$10=\"Treguine\",Treguine!G181,IF($B$10=\"Bredjing\",Bredjing!G181,\"\"))))","v":""}]
[{"$f":"IF($B$10=\"Farchana\",Farchana!A163,IF($B$10=\"Gaga\",Gaga!A182,IF($B$10=\"Treguine\",Treguine!A182,IF($B$10=\"Bredjing\",Bredjing!A182,\"\"))))","v":0},{"$f":"IF($B$10=\"Farchana\",Farchana!B163,IF($B$10=\"Gaga\",Gaga!B182,IF($B$10=\"Treguine\",Treguine!B182,IF($B$10=\"Bredjing\",Bredjing!B182,\"\"))))","v":0},{"$f":"IF($B$10=\"Farchana\",Farchana!C163,IF($B$10=\"Gaga\",Gaga!C182,IF($B$10=\"Treguine\",Treguine!C182,IF($B$10=\"Bredjing\",Bredjing!C182,\"\"))))","v":0},null,null,{"$f":"IF($B$10=\"Farchana\",Farchana!G163,IF($B$10=\"Gaga\",Gaga!I182,IF($B$10=\"Treguine\",Treguine!G182,IF($B$10=\"Bredjing\",Bredjing!G182,\"\"))))","v":""}]
[{"$f":"IF($B$10=\"Farchana\",Farchana!A164,IF($B$10=\"Gaga\",Gaga!A183,IF($B$10=\"Treguine\",Treguine!A183,IF($B$10=\"Bredjing\",Bredjing!A183,\"\"))))","v":0},{"$f":"IF($B$10=\"Farchana\",Farchana!B164,IF($B$10=\"Gaga\",Gaga!B183,IF($B$10=\"Treguine\",Treguine!B183,IF($B$10=\"Bredjing\",Bredjing!B183,\"\"))))","v":0},{"$f":"IF($B$10=\"Farchana\",Farchana!C164,IF($B$10=\"Gaga\",Gaga!C183,IF($B$10=\"Treguine\",Treguine!C183,IF($B$10=\"Bredjing\",Bredjing!C183,\"\"))))","v":0},null,null,{"$f":"IF($B$10=\"Farchana\",Farchana!G164,IF($B$10=\"Gaga\",Gaga!I183,IF($B$10=\"Treguine\",Treguine!G183,IF($B$10=\"Bredjing\",Bredjing!G183,\"\"))))","v":""}]
[{"$f":"IF($B$10=\"Farchana\",Farchana!A165,IF($B$10=\"Gaga\",Gaga!A184,IF($B$10=\"Treguine\",Treguine!A184,IF($B$10=\"Bredjing\",Bredjing!A184,\"\"))))","v":0},{"$f":"IF($B$10=\"Farchana\",Farchana!B165,IF($B$10=\"Gaga\",Gaga!B184,IF($B$10=\"Treguine\",Treguine!B184,IF($B$10=\"Bredjing\",Bredjing!B184,\"\"))))","v":0},{"$f":"IF($B$10=\"Farchana\",Farchana!C165,IF($B$10=\"Gaga\",Gaga!C184,IF($B$10=\"Treguine\",Treguine!C184,IF($B$10=\"Bredjing\",Bredjing!C184,\"\"))))","v":0},null,null,{"$f":"IF($B$10=\"Farchana\",Farchana!G165,IF($B$10=\"Gaga\",Gaga!I184,IF($B$10=\"Treguine\",Treguine!G184,IF($B$10=\"Bredjing\",Bredjing!G184,\"\"))))","v":""}]
[{"$f":"IF($B$10=\"Farchana\",Farchana!A166,IF($B$10=\"Gaga\",Gaga!A185,IF($B$10=\"Treguine\",Treguine!A185,IF($B$10=\"Bredjing\",Bredjing!A185,\"\"))))","v":0},{"$f":"IF($B$10=\"Farchana\",Farchana!B166,IF($B$10=\"Gaga\",Gaga!B185,IF($B$10=\"Treguine\",Treguine!B185,IF($B$10=\"Bredjing\",Bredjing!B185,\"\"))))","v":0},{"$f":"IF($B$10=\"Farchana\",Farchana!C166,IF($B$10=\"Gaga\",Gaga!C185,IF($B$10=\"Treguine\",Treguine!C185,IF($B$10=\"Bredjing\",Bredjing!C185,\"\"))))","v":0},null,null,{"$f":"IF($B$10=\"Farchana\",Farchana!G166,IF($B$10=\"Gaga\",Gaga!I185,IF($B$10=\"Treguine\",Treguine!G185,IF($B$10=\"Bredjing\",Bredjing!G185,\"\"))))","v":""}]
[{"$f":"IF($B$10=\"Farchana\",Farchana!A167,IF($B$10=\"Gaga\",Gaga!A186,IF($B$10=\"Treguine\",Treguine!A186,IF($B$10=\"Bredjing\",Bredjing!A186,\"\"))))","v":0},{"$f":"IF($B$10=\"Farchana\",Farchana!B167,IF($B$10=\"Gaga\",Gaga!B186,IF($B$10=\"Treguine\",Treguine!B186,IF($B$10=\"Bredjing\",Bredjing!B186,\"\"))))","v":0},{"$f":"IF($B$10=\"Farchana\",Farchana!C167,IF($B$10=\"Gaga\",Gaga!C186,IF($B$10=\"Treguine\",Treguine!C186,IF($B$10=\"Bredjing\",Bredjing!C186,\"\"))))","v":0},null,null,{"$f":"IF($B$10=\"Farchana\",Farchana!G167,IF($B$10=\"Gaga\",Gaga!I186,IF($B$10=\"Treguine\",Treguine!G186,IF($B$10=\"Bredjing\",Bredjing!G186,\"\"))))","v":""}]
[{"$f":"IF($B$10=\"Farchana\",Farchana!A168,IF($B$10=\"Gaga\",Gaga!A187,IF($B$10=\"Treguine\",Treguine!A187,IF($B$10=\"Bredjing\",Bredjing!A187,\"\"))))","v":0},{"$f":"IF($B$10=\"Farchana\",Farchana!B168,IF($B$10=\"Gaga\",Gaga!B187,IF($B$10=\"Treguine\",Treguine!B187,IF($B$10=\"Bredjing\",Bredjing!B187,\"\"))))","v":0},{"$f":"IF($B$10=\"Farchana\",Farchana!C168,IF($B$10=\"Gaga\",Gaga!C187,IF($B$10=\"Treguine\",Treguine!C187,IF($B$10=\"Bredjing\",Bredjing!C187,\"\"))))","v":0},null,null,{"$f":"IF($B$10=\"Farchana\",Farchana!G168,IF($B$10=\"Gaga\",Gaga!I187,IF($B$10=\"Treguine\",Treguine!G187,IF($B$10=\"Bredjing\",Bredjing!G187,\"\"))))","v":""}]
[{"$f":"IF($B$10=\"Farchana\",Farchana!A169,IF($B$10=\"Gaga\",Gaga!A188,IF($B$10=\"Treguine\",Treguine!A188,IF($B$10=\"Bredjing\",Bredjing!A188,\"\"))))","v":0},{"$f":"IF($B$10=\"Farchana\",Farchana!B169,IF($B$10=\"Gaga\",Gaga!B188,IF($B$10=\"Treguine\",Treguine!B188,IF($B$10=\"Bredjing\",Bredjing!B188,\"\"))))","v":0},{"$f":"IF($B$10=\"Farchana\",Farchana!C169,IF($B$10=\"Gaga\",Gaga!C188,IF($B$10=\"Treguine\",Treguine!C188,IF($B$10=\"Bredjing\",Bredjing!C188,\"\"))))","v":0},null,null,{"$f":"IF($B$10=\"Farchana\",Farchana!G169,IF($B$10=\"Gaga\",Gaga!I188,IF($B$10=\"Treguine\",Treguine!G188,IF($B$10=\"Bredjing\",Bredjing!G188,\"\"))))","v":""}]
[{"$f":"IF($B$10=\"Farchana\",Farchana!A170,IF($B$10=\"Gaga\",Gaga!A189,IF($B$10=\"Treguine\",Treguine!A189,IF($B$10=\"Bredjing\",Bredjing!A189,\"\"))))","v":0},{"$f":"IF($B$10=\"Farchana\",Farchana!B170,IF($B$10=\"Gaga\",Gaga!B189,IF($B$10=\"Treguine\",Treguine!B189,IF($B$10=\"Bredjing\",Bredjing!B189,\"\"))))","v":0},{"$f":"IF($B$10=\"Farchana\",Farchana!C170,IF($B$10=\"Gaga\",Gaga!C189,IF($B$10=\"Treguine\",Treguine!C189,IF($B$10=\"Bredjing\",Bredjing!C189,\"\"))))","v":0},null,null,{"$f":"IF($B$10=\"Farchana\",Farchana!G170,IF($B$10=\"Gaga\",Gaga!I189,IF($B$10=\"Treguine\",Treguine!G189,IF($B$10=\"Bredjing\",Bredjing!G189,\"\"))))","v":""}]
[{"$f":"IF($B$10=\"Farchana\",Farchana!A171,IF($B$10=\"Gaga\",Gaga!A190,IF($B$10=\"Treguine\",Treguine!A190,IF($B$10=\"Bredjing\",Bredjing!A190,\"\"))))","v":0},{"$f":"IF($B$10=\"Farchana\",Farchana!B171,IF($B$10=\"Gaga\",Gaga!B190,IF($B$10=\"Treguine\",Treguine!B190,IF($B$10=\"Bredjing\",Bredjing!B190,\"\"))))","v":0},{"$f":"IF($B$10=\"Farchana\",Farchana!C171,IF($B$10=\"Gaga\",Gaga!C190,IF($B$10=\"Treguine\",Treguine!C190,IF($B$10=\"Bredjing\",Bredjing!C190,\"\"))))","v":0},null,null,{"$f":"IF($B$10=\"Farchana\",Farchana!G171,IF($B$10=\"Gaga\",Gaga!I190,IF($B$10=\"Treguine\",Treguine!G190,IF($B$10=\"Bredjing\",Bredjing!G190,\"\"))))","v":""}]
[{"$f":"IF($B$10=\"Farchana\",Farchana!A172,IF($B$10=\"Gaga\",Gaga!A191,IF($B$10=\"Treguine\",Treguine!A191,IF($B$10=\"Bredjing\",Bredjing!A191,\"\"))))","v":0},{"$f":"IF($B$10=\"Farchana\",Farchana!B172,IF($B$10=\"Gaga\",Gaga!B191,IF($B$10=\"Treguine\",Treguine!B191,IF($B$10=\"Bredjing\",Bredjing!B191,\"\"))))","v":0},{"$f":"IF($B$10=\"Farchana\",Farchana!C172,IF($B$10=\"Gaga\",Gaga!C191,IF($B$10=\"Treguine\",Treguine!C191,IF($B$10=\"Bredjing\",Bredjing!C191,\"\"))))","v":0},null,null,{"$f":"IF($B$10=\"Farchana\",Farchana!G172,IF($B$10=\"Gaga\",Gaga!I191,IF($B$10=\"Treguine\",Treguine!G191,IF($B$10=\"Bredjing\",Bredjing!G191,\"\"))))","v":""}]
[{"$f":"IF($B$10=\"Farchana\",Farchana!A173,IF($B$10=\"Gaga\",Gaga!A192,IF($B$10=\"Treguine\",Treguine!A192,IF($B$10=\"Bredjing\",Bredjing!A192,\"\"))))","v":0},{"$f":"IF($B$10=\"Farchana\",Farchana!B173,IF($B$10=\"Gaga\",Gaga!B192,IF($B$10=\"Treguine\",Treguine!B192,IF($B$10=\"Bredjing\",Bredjing!B192,\"\"))))","v":0},{"$f":"IF($B$10=\"Farchana\",Farchana!C173,IF($B$10=\"Gaga\",Gaga!C192,IF($B$10=\"Treguine\",Treguine!C192,IF($B$10=\"Bredjing\",Bredjing!C192,\"\"))))","v":0},null,null,{"$f":"IF($B$10=\"Farchana\",Farchana!G173,IF($B$10=\"Gaga\",Gaga!I192,IF($B$10=\"Treguine\",Treguine!G192,IF($B$10=\"Bredjing\",Bredjing!G192,\"\"))))","v":""}]
[{"$f":"IF($B$10=\"Farchana\",Farchana!A174,IF($B$10=\"Gaga\",Gaga!A193,IF($B$10=\"Treguine\",Treguine!A193,IF($B$10=\"Bredjing\",Bredjing!A193,\"\"))))","v":0},{"$f":"IF($B$10=\"Farchana\",Farchana!B174,IF($B$10=\"Gaga\",Gaga!B193,IF($B$10=\"Treguine\",Treguine!B193,IF($B$10=\"Bredjing\",Bredjing!B193,\"\"))))","v":0},{"$f":"IF($B$10=\"Farchana\",Farchana!C174,IF($B$10=\"Gaga\",Gaga!C193,IF($B$10=\"Treguine\",Treguine!C193,IF($B$10=\"Bredjing\",Bredjing!C193,\"\"))))","v":0},null,null,{"$f":"IF($B$10=\"Farchana\",Farchana!G174,IF($B$10=\"Gaga\",Gaga!I193,IF($B$10=\"Treguine\",Treguine!G193,IF($B$10=\"Bredjing\",Bredjing!G193,\"\"))))","v":""}]
[{"$f":"IF($B$10=\"Farchana\",Farchana!A175,IF($B$10=\"Gaga\",Gaga!A194,IF($B$10=\"Treguine\",Treguine!A194,IF($B$10=\"Bredjing\",Bredjing!A194,\"\"))))","v":0},{"$f":"IF($B$10=\"Farchana\",Farchana!B175,IF($B$10=\"Gaga\",Gaga!B194,IF($B$10=\"Treguine\",Treguine!B194,IF($B$10=\"Bredjing\",Bredjing!B194,\"\"))))","v":0},{"$f":"IF($B$10=\"Farchana\",Farchana!C175,IF($B$10=\"Gaga\",Gaga!C194,IF($B$10=\"Treguine\",Treguine!C194,IF($B$10=\"Bredjing\",Bredjing!C194,\"\"))))","v":0},null,null,{"$f":"IF($B$10=\"Farchana\",Farchana!G175,IF($B$10=\"Gaga\",Gaga!I194,IF($B$10=\"Treguine\",Treguine!G194,IF($B$10=\"Bredjing\",Bredjing!G194,\"\"))))","v":""}]
[{"$f":"IF($B$10=\"Farchana\",Farchana!A176,IF($B$10=\"Gaga\",Gaga!A195,IF($B$10=\"Treguine\",Treguine!A195,IF($B$10=\"Bredjing\",Bredjing!A195,\"\"))))","v":0},{"$f":"IF($B$10=\"Farchana\",Farchana!B176,IF($B$10=\"Gaga\",Gaga!B195,IF($B$10=\"Treguine\",Treguine!B195,IF($B$10=\"Bredjing\",Bredjing!B195,\"\"))))","v":0},{"$f":"IF($B$10=\"Farchana\",Farchana!C176,IF($B$10=\"Gaga\",Gaga!C195,IF($B$10=\"Treguine\",Treguine!C195,IF($B$10=\"Bredjing\",Bredjing!C195,\"\"))))","v":0},null,null,{"$f":"IF($B$10=\"Farchana\",Farchana!G176,IF($B$10=\"Gaga\",Gaga!I195,IF($B$10=\"Treguine\",Treguine!G195,IF($B$10=\"Bredjing\",Bredjing!G195,\"\"))))","v":""}]
[{"$f":"IF($B$10=\"Farchana\",Farchana!A177,IF($B$10=\"Gaga\",Gaga!A196,IF($B$10=\"Treguine\",Treguine!A196,IF($B$10=\"Bredjing\",Bredjing!A196,\"\"))))","v":0},{"$f":"IF($B$10=\"Farchana\",Farchana!B177,IF($B$10=\"Gaga\",Gaga!B196,IF($B$10=\"Treguine\",Treguine!B196,IF($B$10=\"Bredjing\",Bredjing!B196,\"\"))))","v":0},{"$f":"IF($B$10=\"Farchana\",Farchana!C177,IF($B$10=\"Gaga\",Gaga!C196,IF($B$10=\"Treguine\",Treguine!C196,IF($B$10=\"Bredjing\",Bredjing!C196,\"\"))))","v":0},null,null,{"$f":"IF($B$10=\"Farchana\",Farchana!G177,IF($B$10=\"Gaga\",Gaga!I196,IF($B$10=\"Treguine\",Treguine!G196,IF($B$10=\"Bredjing\",Bredjing!G196,\"\"))))","v":""}]
[{"$f":"IF($B$10=\"Farchana\",Farchana!A178,IF($B$10=\"Gaga\",Gaga!A197,IF($B$10=\"Treguine\",Treguine!A197,IF($B$10=\"Bredjing\",Bredjing!A197,\"\"))))","v":0},{"$f":"IF($B$10=\"Farchana\",Farchana!B178,IF($B$10=\"Gaga\",Gaga!B197,IF($B$10=\"Treguine\",Treguine!B197,IF($B$10=\"Bredjing\",Bredjing!B197,\"\"))))","v":0},{"$f":"IF($B$10=\"Farchana\",Farchana!C178,IF($B$10=\"Gaga\",Gaga!C197,IF($B$10=\"Treguine\",Treguine!C197,IF($B$10=\"Bredjing\",Bredjing!C197,\"\"))))","v":0},null,null,{"$f":"IF($B$10=\"Farchana\",Farchana!G178,IF($B$10=\"Gaga\",Gaga!I197,IF($B$10=\"Treguine\",Treguine!G197,IF($B$10=\"Bredjing\",Bredjing!G197,\"\"))))","v":""}]
[{"$f":"IF($B$10=\"Farchana\",Farchana!A179,IF($B$10=\"Gaga\",Gaga!A198,IF($B$10=\"Treguine\",Treguine!A198,IF($B$10=\"Bredjing\",Bredjing!A198,\"\"))))","v":0},{"$f":"IF($B$10=\"Farchana\",Farchana!B179,IF($B$10=\"Gaga\",Gaga!B198,IF($B$10=\"Treguine\",Treguine!B198,IF($B$10=\"Bredjing\",Bredjing!B198,\"\"))))","v":0},{"$f":"IF($B$10=\"Farchana\",Farchana!C179,IF($B$10=\"Gaga\",Gaga!C198,IF($B$10=\"Treguine\",Treguine!C198,IF($B$10=\"Bredjing\",Bredjing!C198,\"\"))))","v":0},null,null,{"$f":"IF($B$10=\"Farchana\",Farchana!G179,IF($B$10=\"Gaga\",Gaga!I198,IF($B$10=\"Treguine\",Treguine!G198,IF($B$10=\"Bredjing\",Bredjing!G198,\"\"))))","v":""}]
[{"$f":"IF($B$10=\"Farchana\",Farchana!A180,IF($B$10=\"Gaga\",Gaga!A199,IF($B$10=\"Treguine\",Treguine!A199,IF($B$10=\"Bredjing\",Bredjing!A199,\"\"))))","v":0},{"$f":"IF($B$10=\"Farchana\",Farchana!B180,IF($B$10=\"Gaga\",Gaga!B199,IF($B$10=\"Treguine\",Treguine!B199,IF($B$10=\"Bredjing\",Bredjing!B199,\"\"))))","v":0},{"$f":"IF($B$10=\"Farchana\",Farchana!C180,IF($B$10=\"Gaga\",Gaga!C199,IF($B$10=\"Treguine\",Treguine!C199,IF($B$10=\"Bredjing\",Bredjing!C199,\"\"))))","v":0},null,null,{"$f":"IF($B$10=\"Farchana\",Farchana!G180,IF($B$10=\"Gaga\",Gaga!I199,IF($B$10=\"Treguine\",Treguine!G199,IF($B$10=\"Bredjing\",Bredjing!G199,\"\"))))","v":""}]
[{"$f":"IF($B$10=\"Farchana\",Farchana!A181,IF($B$10=\"Gaga\",Gaga!A200,IF($B$10=\"Treguine\",Treguine!A200,IF($B$10=\"Bredjing\",Bredjing!A200,\"\"))))","v":0},{"$f":"IF($B$10=\"Farchana\",Farchana!B181,IF($B$10=\"Gaga\",Gaga!B200,IF($B$10=\"Treguine\",Treguine!B200,IF($B$10=\"Bredjing\",Bredjing!B200,\"\"))))","v":0},{"$f":"IF($B$10=\"Farchana\",Farchana!C181,IF($B$10=\"Gaga\",Gaga!C200,IF($B$10=\"Treguine\",Treguine!C200,IF($B$10=\"Bredjing\",Bredjing!C200,\"\"))))","v":0},null,null,{"$f":"IF($B$10=\"Farchana\",Farchana!G181,IF($B$10=\"Gaga\",Gaga!I200,IF($B$10=\"Treguine\",Treguine!G200,IF($B$10=\"Bredjing\",Bredjing!G200,\"\"))))","v":""}]
[{"$f":"IF($B$10=\"Farchana\",Farchana!A182,IF($B$10=\"Gaga\",Gaga!A201,IF($B$10=\"Treguine\",Treguine!A201,IF($B$10=\"Bredjing\",Bredjing!A201,\"\"))))","v":0},{"$f":"IF($B$10=\"Farchana\",Farchana!B182,IF($B$10=\"Gaga\",Gaga!B201,IF($B$10=\"Treguine\",Treguine!B201,IF($B$10=\"Bredjing\",Bredjing!B201,\"\"))))","v":0},{"$f":"IF($B$10=\"Farchana\",Farchana!C182,IF($B$10=\"Gaga\",Gaga!C201,IF($B$10=\"Treguine\",Treguine!C201,IF($B$10=\"Bredjing\",Bredjing!C201,\"\"))))","v":0},null,null,{"$f":"IF($B$10=\"Farchana\",Farchana!G182,IF($B$10=\"Gaga\",Gaga!I201,IF($B$10=\"Treguine\",Treguine!G201,IF($B$10=\"Bredjing\",Bredjing!G201,\"\"))))","v":""}]
[{"$f":"IF($B$10=\"Farchana\",Farchana!A183,IF($B$10=\"Gaga\",Gaga!A202,IF($B$10=\"Treguine\",Treguine!A202,IF($B$10=\"Bredjing\",Bredjing!A202,\"\"))))","v":0},{"$f":"IF($B$10=\"Farchana\",Farchana!B183,IF($B$10=\"Gaga\",Gaga!B202,IF($B$10=\"Treguine\",Treguine!B202,IF($B$10=\"Bredjing\",Bredjing!B202,\"\"))))","v":0},{"$f":"IF($B$10=\"Farchana\",Farchana!C183,IF($B$10=\"Gaga\",Gaga!C202,IF($B$10=\"Treguine\",Treguine!C202,IF($B$10=\"Bredjing\",Bredjing!C202,\"\"))))","v":0},null,null,{"$f":"IF($B$10=\"Farchana\",Farchana!G183,IF($B$10=\"Gaga\",Gaga!I202,IF($B$10=\"Treguine\",Treguine!G202,IF($B$10=\"Bredjing\",Bredjing!G202,\"\"))))","v":""}]
[{"$f":"IF($B$10=\"Farchana\",Farchana!A184,IF($B$10=\"Gaga\",Gaga!A203,IF($B$10=\"Treguine\",Treguine!A203,IF($B$10=\"Bredjing\",Bredjing!A203,\"\"))))","v":0},{"$f":"IF($B$10=\"Farchana\",Farchana!B184,IF($B$10=\"Gaga\",Gaga!B203,IF($B$10=\"Treguine\",Treguine!B203,IF($B$10=\"Bredjing\",Bredjing!B203,\"\"))))","v":0},{"$f":"IF($B$10=\"Farchana\",Farchana!C184,IF($B$10=\"Gaga\",Gaga!C203,IF($B$10=\"Treguine\",Treguine!C203,IF($B$10=\"Bredjing\",Bredjing!C203,\"\"))))","v":0},null,null,{"$f":"IF($B$10=\"Farchana\",Farchana!G184,IF($B$10=\"Gaga\",Gaga!I203,IF($B$10=\"Treguine\",Treguine!G203,IF($B$10=\"Bredjing\",Bredjing!G203,\"\"))))","v":""}]
[{"$f":"IF($B$10=\"Farchana\",Farchana!A185,IF($B$10=\"Gaga\",Gaga!A204,IF($B$10=\"Treguine\",Treguine!A204,IF($B$10=\"Bredjing\",Bredjing!A204,\"\"))))","v":0},{"$f":"IF($B$10=\"Farchana\",Farchana!B185,IF($B$10=\"Gaga\",Gaga!B204,IF($B$10=\"Treguine\",Treguine!B204,IF($B$10=\"Bredjing\",Bredjing!B204,\"\"))))","v":0},{"$f":"IF($B$10=\"Farchana\",Farchana!C185,IF($B$10=\"Gaga\",Gaga!C204,IF($B$10=\"Treguine\",Treguine!C204,IF($B$10=\"Bredjing\",Bredjing!C204,\"\"))))","v":0},null,null,{"$f":"IF($B$10=\"Farchana\",Farchana!G185,IF($B$10=\"Gaga\",Gaga!I204,IF($B$10=\"Treguine\",Treguine!G204,IF($B$10=\"Bredjing\",Bredjing!G204,\"\"))))","v":""}]
[{"$f":"IF($B$10=\"Farchana\",Farchana!A186,IF($B$10=\"Gaga\",Gaga!A205,IF($B$10=\"Treguine\",Treguine!A205,IF($B$10=\"Bredjing\",Bredjing!A205,\"\"))))","v":0},{"$f":"IF($B$10=\"Farchana\",Farchana!B186,IF($B$10=\"Gaga\",Gaga!B205,IF($B$10=\"Treguine\",Treguine!B205,IF($B$10=\"Bredjing\",Bredjing!B205,\"\"))))","v":0},{"$f":"IF($B$10=\"Farchana\",Farchana!C186,IF($B$10=\"Gaga\",Gaga!C205,IF($B$10=\"Treguine\",Treguine!C205,IF($B$10=\"Bredjing\",Bredjing!C205,\"\"))))","v":0},null,null,{"$f":"IF($B$10=\"Farchana\",Farchana!G186,IF($B$10=\"Gaga\",Gaga!I205,IF($B$10=\"Treguine\",Treguine!G205,IF($B$10=\"Bredjing\",Bredjing!G205,\"\"))))","v":""}]
[{"$f":"IF($B$10=\"Farchana\",Farchana!A187,IF($B$10=\"Gaga\",Gaga!A206,IF($B$10=\"Treguine\",Treguine!A206,IF($B$10=\"Bredjing\",Bredjing!A206,\"\"))))","v":0},{"$f":"IF($B$10=\"Farchana\",Farchana!B187,IF($B$10=\"Gaga\",Gaga!B206,IF($B$10=\"Treguine\",Treguine!B206,IF($B$10=\"Bredjing\",Bredjing!B206,\"\"))))","v":0},{"$f":"IF($B$10=\"Farchana\",Farchana!C187,IF($B$10=\"Gaga\",Gaga!C206,IF($B$10=\"Treguine\",Treguine!C206,IF($B$10=\"Bredjing\",Bredjing!C206,\"\"))))","v":0},null,null,{"$f":"IF($B$10=\"Farchana\",Farchana!G187,IF($B$10=\"Gaga\",Gaga!I206,IF($B$10=\"Treguine\",Treguine!G206,IF($B$10=\"Bredjing\",Bredjing!G206,\"\"))))","v":""}]
[{"$f":"IF($B$10=\"Farchana\",Farchana!A188,IF($B$10=\"Gaga\",Gaga!A207,IF($B$10=\"Treguine\",Treguine!A207,IF($B$10=\"Bredjing\",Bredjing!A207,\"\"))))","v":0},{"$f":"IF($B$10=\"Farchana\",Farchana!B188,IF($B$10=\"Gaga\",Gaga!B207,IF($B$10=\"Treguine\",Treguine!B207,IF($B$10=\"Bredjing\",Bredjing!B207,\"\"))))","v":0},{"$f":"IF($B$10=\"Farchana\",Farchana!C188,IF($B$10=\"Gaga\",Gaga!C207,IF($B$10=\"Treguine\",Treguine!C207,IF($B$10=\"Bredjing\",Bredjing!C207,\"\"))))","v":0},null,null,{"$f":"IF($B$10=\"Farchana\",Farchana!G188,IF($B$10=\"Gaga\",Gaga!I207,IF($B$10=\"Treguine\",Treguine!G207,IF($B$10=\"Bredjing\",Bredjing!G207,\"\"))))","v":""}]
[{"$f":"IF($B$10=\"Farchana\",Farchana!A189,IF($B$10=\"Gaga\",Gaga!A208,IF($B$10=\"Treguine\",Treguine!A208,IF($B$10=\"Bredjing\",Bredjing!A208,\"\"))))","v":0},{"$f":"IF($B$10=\"Farchana\",Farchana!B189,IF($B$10=\"Gaga\",Gaga!B208,IF($B$10=\"Treguine\",Treguine!B208,IF($B$10=\"Bredjing\",Bredjing!B208,\"\"))))","v":0},{"$f":"IF($B$10=\"Farchana\",Farchana!C189,IF($B$10=\"Gaga\",Gaga!C208,IF($B$10=\"Treguine\",Treguine!C208,IF($B$10=\"Bredjing\",Bredjing!C208,\"\"))))","v":0},null,null,{"$f":"IF($B$10=\"Farchana\",Farchana!G189,IF($B$10=\"Gaga\",Gaga!I208,IF($B$10=\"Treguine\",Treguine!G208,IF($B$10=\"Bredjing\",Bredjing!G208,\"\"))))","v":""}]
[{"$f":"IF($B$10=\"Farchana\",Farchana!A190,IF($B$10=\"Gaga\",Gaga!A209,IF($B$10=\"Treguine\",Treguine!A209,IF($B$10=\"Bredjing\",Bredjing!A209,\"\"))))","v":0},{"$f":"IF($B$10=\"Farchana\",Farchana!B190,IF($B$10=\"Gaga\",Gaga!B209,IF($B$10=\"Treguine\",Treguine!B209,IF($B$10=\"Bredjing\",Bredjing!B209,\"\"))))","v":0},{"$f":"IF($B$10=\"Farchana\",Farchana!C190,IF($B$10=\"Gaga\",Gaga!C209,IF($B$10=\"Treguine\",Treguine!C209,IF($B$10=\"Bredjing\",Bredjing!C209,\"\"))))","v":0},null,null,{"$f":"IF($B$10=\"Farchana\",Farchana!G190,IF($B$10=\"Gaga\",Gaga!I209,IF($B$10=\"Treguine\",Treguine!G209,IF($B$10=\"Bredjing\",Bredjing!G209,\"\"))))","v":""}]
[{"$f":"IF($B$10=\"Farchana\",Farchana!A191,IF($B$10=\"Gaga\",Gaga!A210,IF($B$10=\"Treguine\",Treguine!A210,IF($B$10=\"Bredjing\",Bredjing!A210,\"\"))))","v":0},{"$f":"IF($B$10=\"Farchana\",Farchana!B191,IF($B$10=\"Gaga\",Gaga!B210,IF($B$10=\"Treguine\",Treguine!B210,IF($B$10=\"Bredjing\",Bredjing!B210,\"\"))))","v":0},{"$f":"IF($B$10=\"Farchana\",Farchana!C191,IF($B$10=\"Gaga\",Gaga!C210,IF($B$10=\"Treguine\",Treguine!C210,IF($B$10=\"Bredjing\",Bredjing!C210,\"\"))))","v":0},null,null,{"$f":"IF($B$10=\"Farchana\",Farchana!G191,IF($B$10=\"Gaga\",Gaga!I210,IF($B$10=\"Treguine\",Treguine!G210,IF($B$10=\"Bredjing\",Bredjing!G210,\"\"))))","v":""}]
[{"$f":"IF($B$10=\"Farchana\",Farchana!A192,IF($B$10=\"Gaga\",Gaga!A211,IF($B$10=\"Treguine\",Treguine!A211,IF($B$10=\"Bredjing\",Bredjing!A211,\"\"))))","v":0},{"$f":"IF($B$10=\"Farchana\",Farchana!B192,IF($B$10=\"Gaga\",Gaga!B211,IF($B$10=\"Treguine\",Treguine!B211,IF($B$10=\"Bredjing\",Bredjing!B211,\"\"))))","v":0},{"$f":"IF($B$10=\"Farchana\",Farchana!C192,IF($B$10=\"Gaga\",Gaga!C211,IF($B$10=\"Treguine\",Treguine!C211,IF($B$10=\"Bredjing\",Bredjing!C211,\"\"))))","v":0},null,null,{"$f":"IF($B$10=\"Farchana\",Farchana!G192,IF($B$10=\"Gaga\",Gaga!I211,IF($B$10=\"Treguine\",Treguine!G211,IF($B$10=\"Bredjing\",Bredjing!G211,\"\"))))","v":""}]
[{"$f":"IF($B$10=\"Farchana\",Farchana!A193,IF($B$10=\"Gaga\",Gaga!A212,IF($B$10=\"Treguine\",Treguine!A212,IF($B$10=\"Bredjing\",Bredjing!A212,\"\"))))","v":0},{"$f":"IF($B$10=\"Farchana\",Farchana!B193,IF($B$10=\"Gaga\",Gaga!B212,IF($B$10=\"Treguine\",Treguine!B212,IF($B$10=\"Bredjing\",Bredjing!B212,\"\"))))","v":0},{"$f":"IF($B$10=\"Farchana\",Farchana!C193,IF($B$10=\"Gaga\",Gaga!C212,IF($B$10=\"Treguine\",Treguine!C212,IF($B$10=\"Bredjing\",Bredjing!C212,\"\"))))","v":0},null,null,{"$f":"IF($B$10=\"Farchana\",Farchana!G193,IF($B$10=\"Gaga\",Gaga!I212,IF($B$10=\"Treguine\",Treguine!G212,IF($B$10=\"Bredjing\",Bredjing!G212,\"\"))))","v":""}]
[{"$f":"IF($B$10=\"Farchana\",Farchana!A194,IF($B$10=\"Gaga\",Gaga!A213,IF($B$10=\"Treguine\",Treguine!A213,IF($B$10=\"Bredjing\",Bredjing!A213,\"\"))))","v":0},{"$f":"IF($B$10=\"Farchana\",Farchana!B194,IF($B$10=\"Gaga\",Gaga!B213,IF($B$10=\"Treguine\",Treguine!B213,IF($B$10=\"Bredjing\",Bredjing!B213,\"\"))))","v":0},{"$f":"IF($B$10=\"Farchana\",Farchana!C194,IF($B$10=\"Gaga\",Gaga!C213,IF($B$10=\"Treguine\",Treguine!C213,IF($B$10=\"Bredjing\",Bredjing!C213,\"\"))))","v":0},null,null,{"$f":"IF($B$10=\"Farchana\",Farchana!G194,IF($B$10=\"Gaga\",Gaga!I213,IF($B$10=\"Treguine\",Treguine!G213,IF($B$10=\"Bredjing\",Bredjing!G213,\"\"))))","v":""}]
[{"$f":"IF($B$10=\"Farchana\",Farchana!A195,IF($B$10=\"Gaga\",Gaga!A214,IF($B$10=\"Treguine\",Treguine!A214,IF($B$10=\"Bredjing\",Bredjing!A214,\"\"))))","v":0},{"$f":"IF($B$10=\"Farchana\",Farchana!B195,IF($B$10=\"Gaga\",Gaga!B214,IF($B$10=\"Treguine\",Treguine!B214,IF($B$10=\"Bredjing\",Bredjing!B214,\"\"))))","v":0},{"$f":"IF($B$10=\"Farchana\",Farchana!C195,IF($B$10=\"Gaga\",Gaga!C214,IF($B$10=\"Treguine\",Treguine!C214,IF($B$10=\"Bredjing\",Bredjing!C214,\"\"))))","v":0},null,null,{"$f":"IF($B$10=\"Farchana\",Farchana!G195,IF($B$10=\"Gaga\",Gaga!I214,IF($B$10=\"Treguine\",Treguine!G214,IF($B$10=\"Bredjing\",Bredjing!G214,\"\"))))","v":""}]
[{"$f":"IF($B$10=\"Farchana\",Farchana!A196,IF($B$10=\"Gaga\",Gaga!A215,IF($B$10=\"Treguine\",Treguine!A215,IF($B$10=\"Bredjing\",Bredjing!A215,\"\"))))","v":0},{"$f":"IF($B$10=\"Farchana\",Farchana!B196,IF($B$10=\"Gaga\",Gaga!B215,IF($B$10=\"Treguine\",Treguine!B215,IF($B$10=\"Bredjing\",Bredjing!B215,\"\"))))","v":0},{"$f":"IF($B$10=\"Farchana\",Farchana!C196,IF($B$10=\"Gaga\",Gaga!C215,IF($B$10=\"Treguine\",Treguine!C215,IF($B$10=\"Bredjing\",Bredjing!C215,\"\"))))","v":0},null,null,{"$f":"IF($B$10=\"Farchana\",Farchana!G196,IF($B$10=\"Gaga\",Gaga!I215,IF($B$10=\"Treguine\",Treguine!G215,IF($B$10=\"Bredjing\",Bredjing!G215,\"\"))))","v":""}]
[{"$f":"IF($B$10=\"Farchana\",Farchana!A197,IF($B$10=\"Gaga\",Gaga!A216,IF($B$10=\"Treguine\",Treguine!A216,IF($B$10=\"Bredjing\",Bredjing!A216,\"\"))))","v":0},{"$f":"IF($B$10=\"Farchana\",Farchana!B197,IF($B$10=\"Gaga\",Gaga!B216,IF($B$10=\"Treguine\",Treguine!B216,IF($B$10=\"Bredjing\",Bredjing!B216,\"\"))))","v":0},{"$f":"IF($B$10=\"Farchana\",Farchana!C197,IF($B$10=\"Gaga\",Gaga!C216,IF($B$10=\"Treguine\",Treguine!C216,IF($B$10=\"Bredjing\",Bredjing!C216,\"\"))))","v":0},null,null,{"$f":"IF($B$10=\"Farchana\",Farchana!G197,IF($B$10=\"Gaga\",Gaga!I216,IF($B$10=\"Treguine\",Treguine!G216,IF($B$10=\"Bredjing\",Bredjing!G216,\"\"))))","v":""}]
[{"$f":"IF($B$10=\"Farchana\",Farchana!A198,IF($B$10=\"Gaga\",Gaga!A217,IF($B$10=\"Treguine\",Treguine!A217,IF($B$10=\"Bredjing\",Bredjing!A217,\"\"))))","v":0},{"$f":"IF($B$10=\"Farchana\",Farchana!B198,IF($B$10=\"Gaga\",Gaga!B217,IF($B$10=\"Treguine\",Treguine!B217,IF($B$10=\"Bredjing\",Bredjing!B217,\"\"))))","v":0},{"$f":"IF($B$10=\"Farchana\",Farchana!C198,IF($B$10=\"Gaga\",Gaga!C217,IF($B$10=\"Treguine\",Treguine!C217,IF($B$10=\"Bredjing\",Bredjing!C217,\"\"))))","v":0},null,null,{"$f":"IF($B$10=\"Farchana\",Farchana!G198,IF($B$10=\"Gaga\",Gaga!I217,IF($B$10=\"Treguine\",Treguine!G217,IF($B$10=\"Bredjing\",Bredjing!G217,\"\"))))","v":""}]
[{"$f":"IF($B$10=\"Farchana\",Farchana!A199,IF($B$10=\"Gaga\",Gaga!A218,IF($B$10=\"Treguine\",Treguine!A218,IF($B$10=\"Bredjing\",Bredjing!A218,\"\"))))","v":0},{"$f":"IF($B$10=\"Farchana\",Farchana!B199,IF($B$10=\"Gaga\",Gaga!B218,IF($B$10=\"Treguine\",Treguine!B218,IF($B$10=\"Bredjing\",Bredjing!B218,\"\"))))","v":0},{"$f":"IF($B$10=\"Farchana\",Farchana!C199,IF($B$10=\"Gaga\",Gaga!C218,IF($B$10=\"Treguine\",Treguine!C218,IF($B$10=\"Bredjing\",Bredjing!C218,\"\"))))","v":0},null,null,{"$f":"IF($B$10=\"Farchana\",Farchana!G199,IF($B$10=\"Gaga\",Gaga!I218,IF($B$10=\"Treguine\",Treguine!G218,IF($B$10=\"Bredjing\",Bredjing!G218,\"\"))))","v":""}]
[{"$f":"IF($B$10=\"Farchana\",Farchana!A200,IF($B$10=\"Gaga\",Gaga!A219,IF($B$10=\"Treguine\",Treguine!A219,IF($B$10=\"Bredjing\",Bredjing!A219,\"\"))))","v":0},{"$f":"IF($B$10=\"Farchana\",Farchana!B200,IF($B$10=\"Gaga\",Gaga!B219,IF($B$10=\"Treguine\",Treguine!B219,IF($B$10=\"Bredjing\",Bredjing!B219,\"\"))))","v":0},{"$f":"IF($B$10=\"Farchana\",Farchana!C200,IF($B$10=\"Gaga\",Gaga!C219,IF($B$10=\"Treguine\",Treguine!C219,IF($B$10=\"Bredjing\",Bredjing!C219,\"\"))))","v":0},null,null,{"$f":"IF($B$10=\"Farchana\",Farchana!G200,IF($B$10=\"Gaga\",Gaga!I219,IF($B$10=\"Treguine\",Treguine!G219,IF($B$10=\"Bredjing\",Bredjing!G219,\"\"))))","v":""}]
[{"$f":"IF($B$10=\"Farchana\",Farchana!A201,IF($B$10=\"Gaga\",Gaga!A220,IF($B$10=\"Treguine\",Treguine!A220,IF($B$10=\"Bredjing\",Bredjing!A220,\"\"))))","v":0},{"$f":"IF($B$10=\"Farchana\",Farchana!B201,IF($B$10=\"Gaga\",Gaga!B220,IF($B$10=\"Treguine\",Treguine!B220,IF($B$10=\"Bredjing\",Bredjing!B220,\"\"))))","v":0},{"$f":"IF($B$10=\"Farchana\",Farchana!C201,IF($B$10=\"Gaga\",Gaga!C220,IF($B$10=\"Treguine\",Treguine!C220,IF($B$10=\"Bredjing\",Bredjing!C220,\"\"))))","v":0},null,null,{"$f":"IF($B$10=\"Farchana\",Farchana!G201,IF($B$10=\"Gaga\",Gaga!I220,IF($B$10=\"Treguine\",Treguine!G220,IF($B$10=\"Bredjing\",Bredjing!G220,\"\"))))","v":""}]
[{"$f":"IF($B$10=\"Farchana\",Farchana!A202,IF($B$10=\"Gaga\",Gaga!A221,IF($B$10=\"Treguine\",Treguine!A221,IF($B$10=\"Bredjing\",Bredjing!A221,\"\"))))","v":0},{"$f":"IF($B$10=\"Farchana\",Farchana!B202,IF($B$10=\"Gaga\",Gaga!B221,IF($B$10=\"Treguine\",Treguine!B221,IF($B$10=\"Bredjing\",Bredjing!B221,\"\"))))","v":0},{"$f":"IF($B$10=\"Farchana\",Farchana!C202,IF($B$10=\"Gaga\",Gaga!C221,IF($B$10=\"Treguine\",Treguine!C221,IF($B$10=\"Bredjing\",Bredjing!C221,\"\"))))","v":0},null,null,{"$f":"IF($B$10=\"Farchana\",Farchana!G202,IF($B$10=\"Gaga\",Gaga!I221,IF($B$10=\"Treguine\",Treguine!G221,IF($B$10=\"Bredjing\",Bredjing!G221,\"\"))))","v":""}]
[{"$f":"IF($B$10=\"Farchana\",Farchana!A203,IF($B$10=\"Gaga\",Gaga!A222,IF($B$10=\"Treguine\",Treguine!A222,IF($B$10=\"Bredjing\",Bredjing!A222,\"\"))))","v":0},{"$f":"IF($B$10=\"Farchana\",Farchana!B203,IF($B$10=\"Gaga\",Gaga!B222,IF($B$10=\"Treguine\",Treguine!B222,IF($B$10=\"Bredjing\",Bredjing!B222,\"\"))))","v":0},{"$f":"IF($B$10=\"Farchana\",Farchana!C203,IF($B$10=\"Gaga\",Gaga!C222,IF($B$10=\"Treguine\",Treguine!C222,IF($B$10=\"Bredjing\",Bredjing!C222,\"\"))))","v":0},null,null,{"$f":"IF($B$10=\"Farchana\",Farchana!G203,IF($B$10=\"Gaga\",Gaga!I222,IF($B$10=\"Treguine\",Treguine!G222,IF($B$10=\"Bredjing\",Bredjing!G222,\"\"))))","v":""}]
[{"$f":"IF($B$10=\"Farchana\",Farchana!A204,IF($B$10=\"Gaga\",Gaga!A223,IF($B$10=\"Treguine\",Treguine!A223,IF($B$10=\"Bredjing\",Bredjing!A223,\"\"))))","v":0},{"$f":"IF($B$10=\"Farchana\",Farchana!B204,IF($B$10=\"Gaga\",Gaga!B223,IF($B$10=\"Treguine\",Treguine!B223,IF($B$10=\"Bredjing\",Bredjing!B223,\"\"))))","v":0},{"$f":"IF($B$10=\"Farchana\",Farchana!C204,IF($B$10=\"Gaga\",Gaga!C223,IF($B$10=\"Treguine\",Treguine!C223,IF($B$10=\"Bredjing\",Bredjing!C223,\"\"))))","v":0},null,null,{"$f":"IF($B$10=\"Farchana\",Farchana!G204,IF($B$10=\"Gaga\",Gaga!I223,IF($B$10=\"Treguine\",Treguine!G223,IF($B$10=\"Bredjing\",Bredjing!G223,\"\"))))","v":""}]
[{"$f":"IF($B$10=\"Farchana\",Farchana!A205,IF($B$10=\"Gaga\",Gaga!A224,IF($B$10=\"Treguine\",Treguine!A224,IF($B$10=\"Bredjing\",Bredjing!A224,\"\"))))","v":0},{"$f":"IF($B$10=\"Farchana\",Farchana!B205,IF($B$10=\"Gaga\",Gaga!B224,IF($B$10=\"Treguine\",Treguine!B224,IF($B$10=\"Bredjing\",Bredjing!B224,\"\"))))","v":0},{"$f":"IF($B$10=\"Farchana\",Farchana!C205,IF($B$10=\"Gaga\",Gaga!C224,IF($B$10=\"Treguine\",Treguine!C224,IF($B$10=\"Bredjing\",Bredjing!C224,\"\"))))","v":0},null,null,{"$f":"IF($B$10=\"Farchana\",Farchana!G205,IF($B$10=\"Gaga\",Gaga!I224,IF($B$10=\"Treguine\",Treguine!G224,IF($B$10=\"Bredjing\",Bredjing!G224,\"\"))))","v":""}]
[{"$f":"IF($B$10=\"Farchana\",Farchana!A206,IF($B$10=\"Gaga\",Gaga!A225,IF($B$10=\"Treguine\",Treguine!A225,IF($B$10=\"Bredjing\",Bredjing!A225,\"\"))))","v":0},{"$f":"IF($B$10=\"Farchana\",Farchana!B206,IF($B$10=\"Gaga\",Gaga!B225,IF($B$10=\"Treguine\",Treguine!B225,IF($B$10=\"Bredjing\",Bredjing!B225,\"\"))))","v":0},{"$f":"IF($B$10=\"Farchana\",Farchana!C206,IF($B$10=\"Gaga\",Gaga!C225,IF($B$10=\"Treguine\",Treguine!C225,IF($B$10=\"Bredjing\",Bredjing!C225,\"\"))))","v":0},null,null,{"$f":"IF($B$10=\"Farchana\",Farchana!G206,IF($B$10=\"Gaga\",Gaga!I225,IF($B$10=\"Treguine\",Treguine!G225,IF($B$10=\"Bredjing\",Bredjing!G225,\"\"))))","v":""}]
[{"$f":"IF($B$10=\"Farchana\",Farchana!A207,IF($B$10=\"Gaga\",Gaga!A226,IF($B$10=\"Treguine\",Treguine!A226,IF($B$10=\"Bredjing\",Bredjing!A226,\"\"))))","v":0},{"$f":"IF($B$10=\"Farchana\",Farchana!B207,IF($B$10=\"Gaga\",Gaga!B226,IF($B$10=\"Treguine\",Treguine!B226,IF($B$10=\"Bredjing\",Bredjing!B226,\"\"))))","v":0},{"$f":"IF($B$10=\"Farchana\",Farchana!C207,IF($B$10=\"Gaga\",Gaga!C226,IF($B$10=\"Treguine\",Treguine!C226,IF($B$10=\"Bredjing\",Bredjing!C226,\"\"))))","v":0},null,null,{"$f":"IF($B$10=\"Farchana\",Farchana!G207,IF($B$10=\"Gaga\",Gaga!I226,IF($B$10=\"Treguine\",Treguine!G226,IF($B$10=\"Bredjing\",Bredjing!G226,\"\"))))","v":""}]
[{"$f":"IF($B$10=\"Farchana\",Farchana!A208,IF($B$10=\"Gaga\",Gaga!A227,IF($B$10=\"Treguine\",Treguine!A227,IF($B$10=\"Bredjing\",Bredjing!A227,\"\"))))","v":0},{"$f":"IF($B$10=\"Farchana\",Farchana!B208,IF($B$10=\"Gaga\",Gaga!B227,IF($B$10=\"Treguine\",Treguine!B227,IF($B$10=\"Bredjing\",Bredjing!B227,\"\"))))","v":0},{"$f":"IF($B$10=\"Farchana\",Farchana!C208,IF($B$10=\"Gaga\",Gaga!C227,IF($B$10=\"Treguine\",Treguine!C227,IF($B$10=\"Bredjing\",Bredjing!C227,\"\"))))","v":0},null,null,{"$f":"IF($B$10=\"Farchana\",Farchana!G208,IF($B$10=\"Gaga\",Gaga!I227,IF($B$10=\"Treguine\",Treguine!G227,IF($B$10=\"Bredjing\",Bredjing!G227,\"\"))))","v":""}]
[{"$f":"IF($B$10=\"Farchana\",Farchana!A209,IF($B$10=\"Gaga\",Gaga!A228,IF($B$10=\"Treguine\",Treguine!A228,IF($B$10=\"Bredjing\",Bredjing!A228,\"\"))))","v":0},{"$f":"IF($B$10=\"Farchana\",Farchana!B209,IF($B$10=\"Gaga\",Gaga!B228,IF($B$10=\"Treguine\",Treguine!B228,IF($B$10=\"Bredjing\",Bredjing!B228,\"\"))))","v":0},{"$f":"IF($B$10=\"Farchana\",Farchana!C209,IF($B$10=\"Gaga\",Gaga!C228,IF($B$10=\"Treguine\",Treguine!C228,IF($B$10=\"Bredjing\",Bredjing!C228,\"\"))))","v":0},null,null,{"$f":"IF($B$10=\"Farchana\",Farchana!G209,IF($B$10=\"Gaga\",Gaga!I228,IF($B$10=\"Treguine\",Treguine!G228,IF($B$10=\"Bredjing\",Bredjing!G228,\"\"))))","v":""}]
[{"$f":"IF($B$10=\"Farchana\",Farchana!A210,IF($B$10=\"Gaga\",Gaga!A229,IF($B$10=\"Treguine\",Treguine!A229,IF($B$10=\"Bredjing\",Bredjing!A229,\"\"))))","v":0},{"$f":"IF($B$10=\"Farchana\",Farchana!B210,IF($B$10=\"Gaga\",Gaga!B229,IF($B$10=\"Treguine\",Treguine!B229,IF($B$10=\"Bredjing\",Bredjing!B229,\"\"))))","v":0},{"$f":"IF($B$10=\"Farchana\",Farchana!C210,IF($B$10=\"Gaga\",Gaga!C229,IF($B$10=\"Treguine\",Treguine!C229,IF($B$10=\"Bredjing\",Bredjing!C229,\"\"))))","v":0},null,null,{"$f":"IF($B$10=\"Farchana\",Farchana!G210,IF($B$10=\"Gaga\",Gaga!I229,IF($B$10=\"Treguine\",Treguine!G229,IF($B$10=\"Bredjing\",Bredjing!G229,\"\"))))","v":""}]
[{"$f":"IF($B$10=\"Farchana\",Farchana!A211,IF($B$10=\"Gaga\",Gaga!A230,IF($B$10=\"Treguine\",Treguine!A230,IF($B$10=\"Bredjing\",Bredjing!A230,\"\"))))","v":0},{"$f":"IF($B$10=\"Farchana\",Farchana!B211,IF($B$10=\"Gaga\",Gaga!B230,IF($B$10=\"Treguine\",Treguine!B230,IF($B$10=\"Bredjing\",Bredjing!B230,\"\"))))","v":0},{"$f":"IF($B$10=\"Farchana\",Farchana!C211,IF($B$10=\"Gaga\",Gaga!C230,IF($B$10=\"Treguine\",Treguine!C230,IF($B$10=\"Bredjing\",Bredjing!C230,\"\"))))","v":0},null,null,{"$f":"IF($B$10=\"Farchana\",Farchana!G211,IF($B$10=\"Gaga\",Gaga!I230,IF($B$10=\"Treguine\",Treguine!G230,IF($B$10=\"Bredjing\",Bredjing!G230,\"\"))))","v":""}]
[{"$f":"IF($B$10=\"Farchana\",Farchana!A212,IF($B$10=\"Gaga\",Gaga!A231,IF($B$10=\"Treguine\",Treguine!A231,IF($B$10=\"Bredjing\",Bredjing!A231,\"\"))))","v":0},{"$f":"IF($B$10=\"Farchana\",Farchana!B212,IF($B$10=\"Gaga\",Gaga!B231,IF($B$10=\"Treguine\",Treguine!B231,IF($B$10=\"Bredjing\",Bredjing!B231,\"\"))))","v":0},{"$f":"IF($B$10=\"Farchana\",Farchana!C212,IF($B$10=\"Gaga\",Gaga!C231,IF($B$10=\"Treguine\",Treguine!C231,IF($B$10=\"Bredjing\",Bredjing!C231,\"\"))))","v":0},null,null,{"$f":"IF($B$10=\"Farchana\",Farchana!G212,IF($B$10=\"Gaga\",Gaga!I231,IF($B$10=\"Treguine\",Treguine!G231,IF($B$10=\"Bredjing\",Bredjing!G231,\"\"))))","v":""}]
[{"$f":"IF($B$10=\"Farchana\",Farchana!A213,IF($B$10=\"Gaga\",Gaga!A232,IF($B$10=\"Treguine\",Treguine!A232,IF($B$10=\"Bredjing\",Bredjing!A232,\"\"))))","v":0},{"$f":"IF($B$10=\"Farchana\",Farchana!B213,IF($B$10=\"Gaga\",Gaga!B232,IF($B$10=\"Treguine\",Treguine!B232,IF($B$10=\"Bredjing\",Bredjing!B232,\"\"))))","v":0},{"$f":"IF($B$10=\"Farchana\",Farchana!C213,IF($B$10=\"Gaga\",Gaga!C232,IF($B$10=\"Treguine\",Treguine!C232,IF($B$10=\"Bredjing\",Bredjing!C232,\"\"))))","v":0},null,null,{"$f":"IF($B$10=\"Farchana\",Farchana!G213,IF($B$10=\"Gaga\",Gaga!I232,IF($B$10=\"Treguine\",Treguine!G232,IF($B$10=\"Bredjing\",Bredjing!G232,\"\"))))","v":""}]
[{"$f":"IF($B$10=\"Farchana\",Farchana!A214,IF($B$10=\"Gaga\",Gaga!A233,IF($B$10=\"Treguine\",Treguine!A233,IF($B$10=\"Bredjing\",Bredjing!A233,\"\"))))","v":0},{"$f":"IF($B$10=\"Farchana\",Farchana!B214,IF($B$10=\"Gaga\",Gaga!B233,IF($B$10=\"Treguine\",Treguine!B233,IF($B$10=\"Bredjing\",Bredjing!B233,\"\"))))","v":0},{"$f":"IF($B$10=\"Farchana\",Farchana!C214,IF($B$10=\"Gaga\",Gaga!C233,IF($B$10=\"Treguine\",Treguine!C233,IF($B$10=\"Bredjing\",Bredjing!C233,\"\"))))","v":0},null,null,{"$f":"IF($B$10=\"Farchana\",Farchana!G214,IF($B$10=\"Gaga\",Gaga!I233,IF($B$10=\"Treguine\",Treguine!G233,IF($B$10=\"Bredjing\",Bredjing!G233,\"\"))))","v":""}]
[{"$f":"IF($B$10=\"Farchana\",Farchana!A215,IF($B$10=\"Gaga\",Gaga!A234,IF($B$10=\"Treguine\",Treguine!A234,IF($B$10=\"Bredjing\",Bredjing!A234,\"\"))))","v":0},{"$f":"IF($B$10=\"Farchana\",Farchana!B215,IF($B$10=\"Gaga\",Gaga!B234,IF($B$10=\"Treguine\",Treguine!B234,IF($B$10=\"Bredjing\",Bredjing!B234,\"\"))))","v":0},{"$f":"IF($B$10=\"Farchana\",Farchana!C215,IF($B$10=\"Gaga\",Gaga!C234,IF($B$10=\"Treguine\",Treguine!C234,IF($B$10=\"Bredjing\",Bredjing!C234,\"\"))))","v":0},null,null,{"$f":"IF($B$10=\"Farchana\",Farchana!G215,IF($B$10=\"Gaga\",Gaga!I234,IF($B$10=\"Treguine\",Treguine!G234,IF($B$10=\"Bredjing\",Bredjing!G234,\"\"))))","v":""}]
[{"$f":"IF($B$10=\"Farchana\",Farchana!A216,IF($B$10=\"Gaga\",Gaga!A235,IF($B$10=\"Treguine\",Treguine!A235,IF($B$10=\"Bredjing\",Bredjing!A235,\"\"))))","v":0},{"$f":"IF($B$10=\"Farchana\",Farchana!B216,IF($B$10=\"Gaga\",Gaga!B235,IF($B$10=\"Treguine\",Treguine!B235,IF($B$10=\"Bredjing\",Bredjing!B235,\"\"))))","v":0},{"$f":"IF($B$10=\"Farchana\",Farchana!C216,IF($B$10=\"Gaga\",Gaga!C235,IF($B$10=\"Treguine\",Treguine!C235,IF($B$10=\"Bredjing\",Bredjing!C235,\"\"))))","v":0},null,null,{"$f":"IF($B$10=\"Farchana\",Farchana!G216,IF($B$10=\"Gaga\",Gaga!I235,IF($B$10=\"Treguine\",Treguine!G235,IF($B$10=\"Bredjing\",Bredjing!G235,\"\"))))","v":""}]
[{"$f":"IF($B$10=\"Farchana\",Farchana!A217,IF($B$10=\"Gaga\",Gaga!A236,IF($B$10=\"Treguine\",Treguine!A236,IF($B$10=\"Bredjing\",Bredjing!A236,\"\"))))","v":0},{"$f":"IF($B$10=\"Farchana\",Farchana!B217,IF($B$10=\"Gaga\",Gaga!B236,IF($B$10=\"Treguine\",Treguine!B236,IF($B$10=\"Bredjing\",Bredjing!B236,\"\"))))","v":0},{"$f":"IF($B$10=\"Farchana\",Farchana!C217,IF($B$10=\"Gaga\",Gaga!C236,IF($B$10=\"Treguine\",Treguine!C236,IF($B$10=\"Bredjing\",Bredjing!C236,\"\"))))","v":0},null,null,{"$f":"IF($B$10=\"Farchana\",Farchana!G217,IF($B$10=\"Gaga\",Gaga!I236,IF($B$10=\"Treguine\",Treguine!G236,IF($B$10=\"Bredjing\",Bredjing!G236,\"\"))))","v":""}]
[{"$f":"IF($B$10=\"Farchana\",Farchana!A218,IF($B$10=\"Gaga\",Gaga!A237,IF($B$10=\"Treguine\",Treguine!A237,IF($B$10=\"Bredjing\",Bredjing!A237,\"\"))))","v":0},{"$f":"IF($B$10=\"Farchana\",Farchana!B218,IF($B$10=\"Gaga\",Gaga!B237,IF($B$10=\"Treguine\",Treguine!B237,IF($B$10=\"Bredjing\",Bredjing!B237,\"\"))))","v":0},{"$f":"IF($B$10=\"Farchana\",Farchana!C218,IF($B$10=\"Gaga\",Gaga!C237,IF($B$10=\"Treguine\",Treguine!C237,IF($B$10=\"Bredjing\",Bredjing!C237,\"\"))))","v":0},null,null,{"$f":"IF($B$10=\"Farchana\",Farchana!G218,IF($B$10=\"Gaga\",Gaga!I237,IF($B$10=\"Treguine\",Treguine!G237,IF($B$10=\"Bredjing\",Bredjing!G237,\"\"))))","v":""}]
[{"$f":"IF($B$10=\"Farchana\",Farchana!A219,IF($B$10=\"Gaga\",Gaga!A238,IF($B$10=\"Treguine\",Treguine!A238,IF($B$10=\"Bredjing\",Bredjing!A238,\"\"))))","v":0},{"$f":"IF($B$10=\"Farchana\",Farchana!B219,IF($B$10=\"Gaga\",Gaga!B238,IF($B$10=\"Treguine\",Treguine!B238,IF($B$10=\"Bredjing\",Bredjing!B238,\"\"))))","v":0},{"$f":"IF($B$10=\"Farchana\",Farchana!C219,IF($B$10=\"Gaga\",Gaga!C238,IF($B$10=\"Treguine\",Treguine!C238,IF($B$10=\"Bredjing\",Bredjing!C238,\"\"))))","v":0},null,null,{"$f":"IF($B$10=\"Farchana\",Farchana!G219,IF($B$10=\"Gaga\",Gaga!I238,IF($B$10=\"Treguine\",Treguine!G238,IF($B$10=\"Bredjing\",Bredjing!G238,\"\"))))","v":""}]
[{"$f":"IF($B$10=\"Farchana\",Farchana!A220,IF($B$10=\"Gaga\",Gaga!A239,IF($B$10=\"Treguine\",Treguine!A239,IF($B$10=\"Bredjing\",Bredjing!A239,\"\"))))","v":0},{"$f":"IF($B$10=\"Farchana\",Farchana!B220,IF($B$10=\"Gaga\",Gaga!B239,IF($B$10=\"Treguine\",Treguine!B239,IF($B$10=\"Bredjing\",Bredjing!B239,\"\"))))","v":0},{"$f":"IF($B$10=\"Farchana\",Farchana!C220,IF($B$10=\"Gaga\",Gaga!C239,IF($B$10=\"Treguine\",Treguine!C239,IF($B$10=\"Bredjing\",Bredjing!C239,\"\"))))","v":0},null,null,{"$f":"IF($B$10=\"Farchana\",Farchana!G220,IF($B$10=\"Gaga\",Gaga!I239,IF($B$10=\"Treguine\",Treguine!G239,IF($B$10=\"Bredjing\",Bredjing!G239,\"\"))))","v":""}]
[{"$f":"IF($B$10=\"Farchana\",Farchana!A221,IF($B$10=\"Gaga\",Gaga!A240,IF($B$10=\"Treguine\",Treguine!A240,IF($B$10=\"Bredjing\",Bredjing!A240,\"\"))))","v":0},{"$f":"IF($B$10=\"Farchana\",Farchana!B221,IF($B$10=\"Gaga\",Gaga!B240,IF($B$10=\"Treguine\",Treguine!B240,IF($B$10=\"Bredjing\",Bredjing!B240,\"\"))))","v":0},{"$f":"IF($B$10=\"Farchana\",Farchana!C221,IF($B$10=\"Gaga\",Gaga!C240,IF($B$10=\"Treguine\",Treguine!C240,IF($B$10=\"Bredjing\",Bredjing!C240,\"\"))))","v":0},null,null,{"$f":"IF($B$10=\"Farchana\",Farchana!G221,IF($B$10=\"Gaga\",Gaga!I240,IF($B$10=\"Treguine\",Treguine!G240,IF($B$10=\"Bredjing\",Bredjing!G240,\"\"))))","v":""}]
[{"$f":"IF($B$10=\"Farchana\",Farchana!A222,IF($B$10=\"Gaga\",Gaga!A241,IF($B$10=\"Treguine\",Treguine!A241,IF($B$10=\"Bredjing\",Bredjing!A241,\"\"))))","v":0},{"$f":"IF($B$10=\"Farchana\",Farchana!B222,IF($B$10=\"Gaga\",Gaga!B241,IF($B$10=\"Treguine\",Treguine!B241,IF($B$10=\"Bredjing\",Bredjing!B241,\"\"))))","v":0},{"$f":"IF($B$10=\"Farchana\",Farchana!C222,IF($B$10=\"Gaga\",Gaga!C241,IF($B$10=\"Treguine\",Treguine!C241,IF($B$10=\"Bredjing\",Bredjing!C241,\"\"))))","v":0},null,null,{"$f":"IF($B$10=\"Farchana\",Farchana!G222,IF($B$10=\"Gaga\",Gaga!I241,IF($B$10=\"Treguine\",Treguine!G241,IF($B$10=\"Bredjing\",Bredjing!G241,\"\"))))","v":""}]
[{"$f":"IF($B$10=\"Farchana\",Farchana!A223,IF($B$10=\"Gaga\",Gaga!A242,IF($B$10=\"Treguine\",Treguine!A242,IF($B$10=\"Bredjing\",Bredjing!A242,\"\"))))","v":0},{"$f":"IF($B$10=\"Farchana\",Farchana!B223,IF($B$10=\"Gaga\",Gaga!B242,IF($B$10=\"Treguine\",Treguine!B242,IF($B$10=\"Bredjing\",Bredjing!B242,\"\"))))","v":0},{"$f":"IF($B$10=\"Farchana\",Farchana!C223,IF($B$10=\"Gaga\",Gaga!C242,IF($B$10=\"Treguine\",Treguine!C242,IF($B$10=\"Bredjing\",Bredjing!C242,\"\"))))","v":0},null,null,{"$f":"IF($B$10=\"Farchana\",Farchana!G223,IF($B$10=\"Gaga\",Gaga!I242,IF($B$10=\"Treguine\",Treguine!G242,IF($B$10=\"Bredjing\",Bredjing!G242,\"\"))))","v":""}]
[{"$f":"IF($B$10=\"Farchana\",Farchana!A224,IF($B$10=\"Gaga\",Gaga!A243,IF($B$10=\"Treguine\",Treguine!A243,IF($B$10=\"Bredjing\",Bredjing!A243,\"\"))))","v":0},{"$f":"IF($B$10=\"Farchana\",Farchana!B224,IF($B$10=\"Gaga\",Gaga!B243,IF($B$10=\"Treguine\",Treguine!B243,IF($B$10=\"Bredjing\",Bredjing!B243,\"\"))))","v":0},{"$f":"IF($B$10=\"Farchana\",Farchana!C224,IF($B$10=\"Gaga\",Gaga!C243,IF($B$10=\"Treguine\",Treguine!C243,IF($B$10=\"Bredjing\",Bredjing!C243,\"\"))))","v":0},null,null,{"$f":"IF($B$10=\"Farchana\",Farchana!G224,IF($B$10=\"Gaga\",Gaga!I243,IF($B$10=\"Treguine\",Treguine!G243,IF($B$10=\"Bredjing\",Bredjing!G243,\"\"))))","v":""}]
[{"$f":"IF($B$10=\"Farchana\",Farchana!A225,IF($B$10=\"Gaga\",Gaga!A244,IF($B$10=\"Treguine\",Treguine!A244,IF($B$10=\"Bredjing\",Bredjing!A244,\"\"))))","v":0},{"$f":"IF($B$10=\"Farchana\",Farchana!B225,IF($B$10=\"Gaga\",Gaga!B244,IF($B$10=\"Treguine\",Treguine!B244,IF($B$10=\"Bredjing\",Bredjing!B244,\"\"))))","v":0},{"$f":"IF($B$10=\"Farchana\",Farchana!C225,IF($B$10=\"Gaga\",Gaga!C244,IF($B$10=\"Treguine\",Treguine!C244,IF($B$10=\"Bredjing\",Bredjing!C244,\"\"))))","v":0},null,null,{"$f":"IF($B$10=\"Farchana\",Farchana!G225,IF($B$10=\"Gaga\",Gaga!I244,IF($B$10=\"Treguine\",Treguine!G244,IF($B$10=\"Bredjing\",Bredjing!G244,\"\"))))","v":""}]
[{"$f":"IF($B$10=\"Farchana\",Farchana!A226,IF($B$10=\"Gaga\",Gaga!A245,IF($B$10=\"Treguine\",Treguine!A245,IF($B$10=\"Bredjing\",Bredjing!A245,\"\"))))","v":0},{"$f":"IF($B$10=\"Farchana\",Farchana!B226,IF($B$10=\"Gaga\",Gaga!B245,IF($B$10=\"Treguine\",Treguine!B245,IF($B$10=\"Bredjing\",Bredjing!B245,\"\"))))","v":0},{"$f":"IF($B$10=\"Farchana\",Farchana!C226,IF($B$10=\"Gaga\",Gaga!C245,IF($B$10=\"Treguine\",Treguine!C245,IF($B$10=\"Bredjing\",Bredjing!C245,\"\"))))","v":0},null,null,{"$f":"IF($B$10=\"Farchana\",Farchana!G226,IF($B$10=\"Gaga\",Gaga!I245,IF($B$10=\"Treguine\",Treguine!G245,IF($B$10=\"Bredjing\",Bredjing!G245,\"\"))))","v":""}]
[{"$f":"IF($B$10=\"Farchana\",Farchana!A227,IF($B$10=\"Gaga\",Gaga!A246,IF($B$10=\"Treguine\",Treguine!A246,IF($B$10=\"Bredjing\",Bredjing!A246,\"\"))))","v":0},{"$f":"IF($B$10=\"Farchana\",Farchana!B227,IF($B$10=\"Gaga\",Gaga!B246,IF($B$10=\"Treguine\",Treguine!B246,IF($B$10=\"Bredjing\",Bredjing!B246,\"\"))))","v":0},{"$f":"IF($B$10=\"Farchana\",Farchana!C227,IF($B$10=\"Gaga\",Gaga!C246,IF($B$10=\"Treguine\",Treguine!C246,IF($B$10=\"Bredjing\",Bredjing!C246,\"\"))))","v":0},null,null,{"$f":"IF($B$10=\"Farchana\",Farchana!G227,IF($B$10=\"Gaga\",Gaga!I246,IF($B$10=\"Treguine\",Treguine!G246,IF($B$10=\"Bredjing\",Bredjing!G246,\"\"))))","v":""}]
[{"$f":"IF($B$10=\"Farchana\",Farchana!A228,IF($B$10=\"Gaga\",Gaga!A247,IF($B$10=\"Treguine\",Treguine!A247,IF($B$10=\"Bredjing\",Bredjing!A247,\"\"))))","v":0},{"$f":"IF($B$10=\"Farchana\",Farchana!B228,IF($B$10=\"Gaga\",Gaga!B247,IF($B$10=\"Treguine\",Treguine!B247,IF($B$10=\"Bredjing\",Bredjing!B247,\"\"))))","v":0},{"$f":"IF($B$10=\"Farchana\",Farchana!C228,IF($B$10=\"Gaga\",Gaga!C247,IF($B$10=\"Treguine\",Treguine!C247,IF($B$10=\"Bredjing\",Bredjing!C247,\"\"))))","v":0},null,null,{"$f":"IF($B$10=\"Farchana\",Farchana!G228,IF($B$10=\"Gaga\",Gaga!I247,IF($B$10=\"Treguine\",Treguine!G247,IF($B$10=\"Bredjing\",Bredjing!G247,\"\"))))","v":""}]
[{"$f":"IF($B$10=\"Farchana\",Farchana!A229,IF($B$10=\"Gaga\",Gaga!A248,IF($B$10=\"Treguine\",Treguine!A248,IF($B$10=\"Bredjing\",Bredjing!A248,\"\"))))","v":0},{"$f":"IF($B$10=\"Farchana\",Farchana!B229,IF($B$10=\"Gaga\",Gaga!B248,IF($B$10=\"Treguine\",Treguine!B248,IF($B$10=\"Bredjing\",Bredjing!B248,\"\"))))","v":0},{"$f":"IF($B$10=\"Farchana\",Farchana!C229,IF($B$10=\"Gaga\",Gaga!C248,IF($B$10=\"Treguine\",Treguine!C248,IF($B$10=\"Bredjing\",Bredjing!C248,\"\"))))","v":0},null,null,{"$f":"IF($B$10=\"Farchana\",Farchana!G229,IF($B$10=\"Gaga\",Gaga!I248,IF($B$10=\"Treguine\",Treguine!G248,IF($B$10=\"Bredjing\",Bredjing!G248,\"\"))))","v":""}]
[{"$f":"IF($B$10=\"Farchana\",Farchana!A230,IF($B$10=\"Gaga\",Gaga!A249,IF($B$10=\"Treguine\",Treguine!A249,IF($B$10=\"Bredjing\",Bredjing!A249,\"\"))))","v":0},{"$f":"IF($B$10=\"Farchana\",Farchana!B230,IF($B$10=\"Gaga\",Gaga!B249,IF($B$10=\"Treguine\",Treguine!B249,IF($B$10=\"Bredjing\",Bredjing!B249,\"\"))))","v":0},{"$f":"IF($B$10=\"Farchana\",Farchana!C230,IF($B$10=\"Gaga\",Gaga!C249,IF($B$10=\"Treguine\",Treguine!C249,IF($B$10=\"Bredjing\",Bredjing!C249,\"\"))))","v":0},null,null,{"$f":"IF($B$10=\"Farchana\",Farchana!G230,IF($B$10=\"Gaga\",Gaga!I249,IF($B$10=\"Treguine\",Treguine!G249,IF($B$10=\"Bredjing\",Bredjing!G249,\"\"))))","v":""}]
[{"$f":"IF($B$10=\"Farchana\",Farchana!A231,IF($B$10=\"Gaga\",Gaga!A250,IF($B$10=\"Treguine\",Treguine!A250,IF($B$10=\"Bredjing\",Bredjing!A250,\"\"))))","v":0},{"$f":"IF($B$10=\"Farchana\",Farchana!B231,IF($B$10=\"Gaga\",Gaga!B250,IF($B$10=\"Treguine\",Treguine!B250,IF($B$10=\"Bredjing\",Bredjing!B250,\"\"))))","v":0},{"$f":"IF($B$10=\"Farchana\",Farchana!C231,IF($B$10=\"Gaga\",Gaga!C250,IF($B$10=\"Treguine\",Treguine!C250,IF($B$10=\"Bredjing\",Bredjing!C250,\"\"))))","v":0},null,null,{"$f":"IF($B$10=\"Farchana\",Farchana!G231,IF($B$10=\"Gaga\",Gaga!I250,IF($B$10=\"Treguine\",Treguine!G250,IF($B$10=\"Bredjing\",Bredjing!G250,\"\"))))","v":""}]
[{"$f":"IF($B$10=\"Farchana\",Farchana!A232,IF($B$10=\"Gaga\",Gaga!A251,IF($B$10=\"Treguine\",Treguine!A251,IF($B$10=\"Bredjing\",Bredjing!A251,\"\"))))","v":0},{"$f":"IF($B$10=\"Farchana\",Farchana!B232,IF($B$10=\"Gaga\",Gaga!B251,IF($B$10=\"Treguine\",Treguine!B251,IF($B$10=\"Bredjing\",Bredjing!B251,\"\"))))","v":0},{"$f":"IF($B$10=\"Farchana\",Farchana!C232,IF($B$10=\"Gaga\",Gaga!C251,IF($B$10=\"Treguine\",Treguine!C251,IF($B$10=\"Bredjing\",Bredjing!C251,\"\"))))","v":0},null,null,{"$f":"IF($B$10=\"Farchana\",Farchana!G232,IF($B$10=\"Gaga\",Gaga!I251,IF($B$10=\"Treguine\",Treguine!G251,IF($B$10=\"Bredjing\",Bredjing!G251,\"\"))))","v":""}]
[{"$f":"IF($B$10=\"Farchana\",Farchana!A233,IF($B$10=\"Gaga\",Gaga!A252,IF($B$10=\"Treguine\",Treguine!A252,IF($B$10=\"Bredjing\",Bredjing!A252,\"\"))))","v":0},{"$f":"IF($B$10=\"Farchana\",Farchana!B233,IF($B$10=\"Gaga\",Gaga!B252,IF($B$10=\"Treguine\",Treguine!B252,IF($B$10=\"Bredjing\",Bredjing!B252,\"\"))))","v":0},{"$f":"IF($B$10=\"Farchana\",Farchana!C233,IF($B$10=\"Gaga\",Gaga!C252,IF($B$10=\"Treguine\",Treguine!C252,IF($B$10=\"Bredjing\",Bredjing!C252,\"\"))))","v":0},null,null,{"$f":"IF($B$10=\"Farchana\",Farchana!G233,IF($B$10=\"Gaga\",Gaga!I252,IF($B$10=\"Treguine\",Treguine!G252,IF($B$10=\"Bredjing\",Bredjing!G252,\"\"))))","v":""}]
[{"$f":"IF($B$10=\"Farchana\",Farchana!A234,IF($B$10=\"Gaga\",Gaga!A253,IF($B$10=\"Treguine\",Treguine!A253,IF($B$10=\"Bredjing\",Bredjing!A253,\"\"))))","v":0},{"$f":"IF($B$10=\"Farchana\",Farchana!B234,IF($B$10=\"Gaga\",Gaga!B253,IF($B$10=\"Treguine\",Treguine!B253,IF($B$10=\"Bredjing\",Bredjing!B253,\"\"))))","v":0},{"$f":"IF($B$10=\"Farchana\",Farchana!C234,IF($B$10=\"Gaga\",Gaga!C253,IF($B$10=\"Treguine\",Treguine!C253,IF($B$10=\"Bredjing\",Bredjing!C253,\"\"))))","v":0},null,null,{"$f":"IF($B$10=\"Farchana\",Farchana!G234,IF($B$10=\"Gaga\",Gaga!I253,IF($B$10=\"Treguine\",Treguine!G253,IF($B$10=\"Bredjing\",Bredjing!G253,\"\"))))","v":""}]
[{"$f":"IF($B$10=\"Farchana\",Farchana!A235,IF($B$10=\"Gaga\",Gaga!A254,IF($B$10=\"Treguine\",Treguine!A254,IF($B$10=\"Bredjing\",Bredjing!A254,\"\"))))","v":0},{"$f":"IF($B$10=\"Farchana\",Farchana!B235,IF($B$10=\"Gaga\",Gaga!B254,IF($B$10=\"Treguine\",Treguine!B254,IF($B$10=\"Bredjing\",Bredjing!B254,\"\"))))","v":0},{"$f":"IF($B$10=\"Farchana\",Farchana!C235,IF($B$10=\"Gaga\",Gaga!C254,IF($B$10=\"Treguine\",Treguine!C254,IF($B$10=\"Bredjing\",Bredjing!C254,\"\"))))","v":0},null,null,{"$f":"IF($B$10=\"Farchana\",Farchana!G235,IF($B$10=\"Gaga\",Gaga!I254,IF($B$10=\"Treguine\",Treguine!G254,IF($B$10=\"Bredjing\",Bredjing!G254,\"\"))))","v":""}]
[{"$f":"IF($B$10=\"Farchana\",Farchana!A236,IF($B$10=\"Gaga\",Gaga!A255,IF($B$10=\"Treguine\",Treguine!A255,IF($B$10=\"Bredjing\",Bredjing!A255,\"\"))))","v":0},{"$f":"IF($B$10=\"Farchana\",Farchana!B236,IF($B$10=\"Gaga\",Gaga!B255,IF($B$10=\"Treguine\",Treguine!B255,IF($B$10=\"Bredjing\",Bredjing!B255,\"\"))))","v":0},{"$f":"IF($B$10=\"Farchana\",Farchana!C236,IF($B$10=\"Gaga\",Gaga!C255,IF($B$10=\"Treguine\",Treguine!C255,IF($B$10=\"Bredjing\",Bredjing!C255,\"\"))))","v":0},null,null,{"$f":"IF($B$10=\"Farchana\",Farchana!G236,IF($B$10=\"Gaga\",Gaga!I255,IF($B$10=\"Treguine\",Treguine!G255,IF($B$10=\"Bredjing\",Bredjing!G255,\"\"))))","v":""}]
[{"$f":"IF($B$10=\"Farchana\",Farchana!A237,IF($B$10=\"Gaga\",Gaga!A256,IF($B$10=\"Treguine\",Treguine!A256,IF($B$10=\"Bredjing\",Bredjing!A256,\"\"))))","v":0},{"$f":"IF($B$10=\"Farchana\",Farchana!B237,IF($B$10=\"Gaga\",Gaga!B256,IF($B$10=\"Treguine\",Treguine!B256,IF($B$10=\"Bredjing\",Bredjing!B256,\"\"))))","v":0},{"$f":"IF($B$10=\"Farchana\",Farchana!C237,IF($B$10=\"Gaga\",Gaga!C256,IF($B$10=\"Treguine\",Treguine!C256,IF($B$10=\"Bredjing\",Bredjing!C256,\"\"))))","v":0},null,null,{"$f":"IF($B$10=\"Farchana\",Farchana!G237,IF($B$10=\"Gaga\",Gaga!I256,IF($B$10=\"Treguine\",Treguine!G256,IF($B$10=\"Bredjing\",Bredjing!G256,\"\"))))","v":""}]
[{"$f":"IF($B$10=\"Farchana\",Farchana!A238,IF($B$10=\"Gaga\",Gaga!A257,IF($B$10=\"Treguine\",Treguine!A257,IF($B$10=\"Bredjing\",Bredjing!A257,\"\"))))","v":0},{"$f":"IF($B$10=\"Farchana\",Farchana!B238,IF($B$10=\"Gaga\",Gaga!B257,IF($B$10=\"Treguine\",Treguine!B257,IF($B$10=\"Bredjing\",Bredjing!B257,\"\"))))","v":0},{"$f":"IF($B$10=\"Farchana\",Farchana!C238,IF($B$10=\"Gaga\",Gaga!C257,IF($B$10=\"Treguine\",Treguine!C257,IF($B$10=\"Bredjing\",Bredjing!C257,\"\"))))","v":0},null,null,{"$f":"IF($B$10=\"Farchana\",Farchana!G238,IF($B$10=\"Gaga\",Gaga!I257,IF($B$10=\"Treguine\",Treguine!G257,IF($B$10=\"Bredjing\",Bredjing!G257,\"\"))))","v":""}]
[{"$f":"IF($B$10=\"Farchana\",Farchana!A239,IF($B$10=\"Gaga\",Gaga!A258,IF($B$10=\"Treguine\",Treguine!A258,IF($B$10=\"Bredjing\",Bredjing!A258,\"\"))))","v":0},{"$f":"IF($B$10=\"Farchana\",Farchana!B239,IF($B$10=\"Gaga\",Gaga!B258,IF($B$10=\"Treguine\",Treguine!B258,IF($B$10=\"Bredjing\",Bredjing!B258,\"\"))))","v":0},{"$f":"IF($B$10=\"Farchana\",Farchana!C239,IF($B$10=\"Gaga\",Gaga!C258,IF($B$10=\"Treguine\",Treguine!C258,IF($B$10=\"Bredjing\",Bredjing!C258,\"\"))))","v":0},null,null,{"$f":"IF($B$10=\"Farchana\",Farchana!G239,IF($B$10=\"Gaga\",Gaga!I258,IF($B$10=\"Treguine\",Treguine!G258,IF($B$10=\"Bredjing\",Bredjing!G258,\"\"))))","v":""}]
[{"$f":"IF($B$10=\"Farchana\",Farchana!A240,IF($B$10=\"Gaga\",Gaga!A259,IF($B$10=\"Treguine\",Treguine!A259,IF($B$10=\"Bredjing\",Bredjing!A259,\"\"))))","v":0},{"$f":"IF($B$10=\"Farchana\",Farchana!B240,IF($B$10=\"Gaga\",Gaga!B259,IF($B$10=\"Treguine\",Treguine!B259,IF($B$10=\"Bredjing\",Bredjing!B259,\"\"))))","v":0},{"$f":"IF($B$10=\"Farchana\",Farchana!C240,IF($B$10=\"Gaga\",Gaga!C259,IF($B$10=\"Treguine\",Treguine!C259,IF($B$10=\"Bredjing\",Bredjing!C259,\"\"))))","v":0},null,null,{"$f":"IF($B$10=\"Farchana\",Farchana!G240,IF($B$10=\"Gaga\",Gaga!I259,IF($B$10=\"Treguine\",Treguine!G259,IF($B$10=\"Bredjing\",Bredjing!G259,\"\"))))","v":""}]
[{"$f":"IF($B$10=\"Farchana\",Farchana!A241,IF($B$10=\"Gaga\",Gaga!A260,IF($B$10=\"Treguine\",Treguine!A260,IF($B$10=\"Bredjing\",Bredjing!A260,\"\"))))","v":0},{"$f":"IF($B$10=\"Farchana\",Farchana!B241,IF($B$10=\"Gaga\",Gaga!B260,IF($B$10=\"Treguine\",Treguine!B260,IF($B$10=\"Bredjing\",Bredjing!B260,\"\"))))","v":0},{"$f":"IF($B$10=\"Farchana\",Farchana!C241,IF($B$10=\"Gaga\",Gaga!C260,IF($B$10=\"Treguine\",Treguine!C260,IF($B$10=\"Bredjing\",Bredjing!C260,\"\"))))","v":0},null,null,{"$f":"IF($B$10=\"Farchana\",Farchana!G241,IF($B$10=\"Gaga\",Gaga!I260,IF($B$10=\"Treguine\",Treguine!G260,IF($B$10=\"Bredjing\",Bredjing!G260,\"\"))))","v":""}]
[{"$f":"IF($B$10=\"Farchana\",Farchana!A242,IF($B$10=\"Gaga\",Gaga!A261,IF($B$10=\"Treguine\",Treguine!A261,IF($B$10=\"Bredjing\",Bredjing!A261,\"\"))))","v":0},{"$f":"IF($B$10=\"Farchana\",Farchana!B242,IF($B$10=\"Gaga\",Gaga!B261,IF($B$10=\"Treguine\",Treguine!B261,IF($B$10=\"Bredjing\",Bredjing!B261,\"\"))))","v":0},{"$f":"IF($B$10=\"Farchana\",Farchana!C242,IF($B$10=\"Gaga\",Gaga!C261,IF($B$10=\"Treguine\",Treguine!C261,IF($B$10=\"Bredjing\",Bredjing!C261,\"\"))))","v":0},null,null,{"$f":"IF($B$10=\"Farchana\",Farchana!G242,IF($B$10=\"Gaga\",Gaga!I261,IF($B$10=\"Treguine\",Treguine!G261,IF($B$10=\"Bredjing\",Bredjing!G261,\"\"))))","v":""}]
[{"$f":"IF($B$10=\"Farchana\",Farchana!A243,IF($B$10=\"Gaga\",Gaga!A262,IF($B$10=\"Treguine\",Treguine!A262,IF($B$10=\"Bredjing\",Bredjing!A262,\"\"))))","v":0},{"$f":"IF($B$10=\"Farchana\",Farchana!B243,IF($B$10=\"Gaga\",Gaga!B262,IF($B$10=\"Treguine\",Treguine!B262,IF($B$10=\"Bredjing\",Bredjing!B262,\"\"))))","v":0},{"$f":"IF($B$10=\"Farchana\",Farchana!C243,IF($B$10=\"Gaga\",Gaga!C262,IF($B$10=\"Treguine\",Treguine!C262,IF($B$10=\"Bredjing\",Bredjing!C262,\"\"))))","v":0},null,null,{"$f":"IF($B$10=\"Farchana\",Farchana!G243,IF($B$10=\"Gaga\",Gaga!I262,IF($B$10=\"Treguine\",Treguine!G262,IF($B$10=\"Bredjing\",Bredjing!G262,\"\"))))","v":""}]
[{"$f":"IF($B$10=\"Farchana\",Farchana!A244,IF($B$10=\"Gaga\",Gaga!A263,IF($B$10=\"Treguine\",Treguine!A263,IF($B$10=\"Bredjing\",Bredjing!A263,\"\"))))","v":0},{"$f":"IF($B$10=\"Farchana\",Farchana!B244,IF($B$10=\"Gaga\",Gaga!B263,IF($B$10=\"Treguine\",Treguine!B263,IF($B$10=\"Bredjing\",Bredjing!B263,\"\"))))","v":0},{"$f":"IF($B$10=\"Farchana\",Farchana!C244,IF($B$10=\"Gaga\",Gaga!C263,IF($B$10=\"Treguine\",Treguine!C263,IF($B$10=\"Bredjing\",Bredjing!C263,\"\"))))","v":0},null,null,{"$f":"IF($B$10=\"Farchana\",Farchana!G244,IF($B$10=\"Gaga\",Gaga!I263,IF($B$10=\"Treguine\",Treguine!G263,IF($B$10=\"Bredjing\",Bredjing!G263,\"\"))))","v":""}]
[{"$f":"IF($B$10=\"Farchana\",Farchana!A245,IF($B$10=\"Gaga\",Gaga!A264,IF($B$10=\"Treguine\",Treguine!A264,IF($B$10=\"Bredjing\",Bredjing!A264,\"\"))))","v":0},{"$f":"IF($B$10=\"Farchana\",Farchana!B245,IF($B$10=\"Gaga\",Gaga!B264,IF($B$10=\"Treguine\",Treguine!B264,IF($B$10=\"Bredjing\",Bredjing!B264,\"\"))))","v":0},{"$f":"IF($B$10=\"Farchana\",Farchana!C245,IF($B$10=\"Gaga\",Gaga!C264,IF($B$10=\"Treguine\",Treguine!C264,IF($B$10=\"Bredjing\",Bredjing!C264,\"\"))))","v":0},null,null,{"$f":"IF($B$10=\"Farchana\",Farchana!G245,IF($B$10=\"Gaga\",Gaga!I264,IF($B$10=\"Treguine\",Treguine!G264,IF($B$10=\"Bredjing\",Bredjing!G264,\"\"))))","v":""}]
[{"$f":"IF($B$10=\"Farchana\",Farchana!A246,IF($B$10=\"Gaga\",Gaga!A265,IF($B$10=\"Treguine\",Treguine!A265,IF($B$10=\"Bredjing\",Bredjing!A265,\"\"))))","v":0},{"$f":"IF($B$10=\"Farchana\",Farchana!B246,IF($B$10=\"Gaga\",Gaga!B265,IF($B$10=\"Treguine\",Treguine!B265,IF($B$10=\"Bredjing\",Bredjing!B265,\"\"))))","v":0},{"$f":"IF($B$10=\"Farchana\",Farchana!C246,IF($B$10=\"Gaga\",Gaga!C265,IF($B$10=\"Treguine\",Treguine!C265,IF($B$10=\"Bredjing\",Bredjing!C265,\"\"))))","v":0},null,null,{"$f":"IF($B$10=\"Farchana\",Farchana!G246,IF($B$10=\"Gaga\",Gaga!I265,IF($B$10=\"Treguine\",Treguine!G265,IF($B$10=\"Bredjing\",Bredjing!G265,\"\"))))","v":""}]
[{"$f":"IF($B$10=\"Farchana\",Farchana!A247,IF($B$10=\"Gaga\",Gaga!A266,IF($B$10=\"Treguine\",Treguine!A266,IF($B$10=\"Bredjing\",Bredjing!A266,\"\"))))","v":0},{"$f":"IF($B$10=\"Farchana\",Farchana!B247,IF($B$10=\"Gaga\",Gaga!B266,IF($B$10=\"Treguine\",Treguine!B266,IF($B$10=\"Bredjing\",Bredjing!B266,\"\"))))","v":0},{"$f":"IF($B$10=\"Farchana\",Farchana!C247,IF($B$10=\"Gaga\",Gaga!C266,IF($B$10=\"Treguine\",Treguine!C266,IF($B$10=\"Bredjing\",Bredjing!C266,\"\"))))","v":0},null,null,{"$f":"IF($B$10=\"Farchana\",Farchana!G247,IF($B$10=\"Gaga\",Gaga!I266,IF($B$10=\"Treguine\",Treguine!G266,IF($B$10=\"Bredjing\",Bredjing!G266,\"\"))))","v":""}]
[{"$f":"IF($B$10=\"Farchana\",Farchana!A248,IF($B$10=\"Gaga\",Gaga!A267,IF($B$10=\"Treguine\",Treguine!A267,IF($B$10=\"Bredjing\",Bredjing!A267,\"\"))))","v":0},{"$f":"IF($B$10=\"Farchana\",Farchana!B248,IF($B$10=\"Gaga\",Gaga!B267,IF($B$10=\"Treguine\",Treguine!B267,IF($B$10=\"Bredjing\",Bredjing!B267,\"\"))))","v":0},{"$f":"IF($B$10=\"Farchana\",Farchana!C248,IF($B$10=\"Gaga\",Gaga!C267,IF($B$10=\"Treguine\",Treguine!C267,IF($B$10=\"Bredjing\",Bredjing!C267,\"\"))))","v":0},null,null,{"$f":"IF($B$10=\"Farchana\",Farchana!G248,IF($B$10=\"Gaga\",Gaga!I267,IF($B$10=\"Treguine\",Treguine!G267,IF($B$10=\"Bredjing\",Bredjing!G267,\"\"))))","v":""}]
[{"$f":"IF($B$10=\"Farchana\",Farchana!A249,IF($B$10=\"Gaga\",Gaga!A268,IF($B$10=\"Treguine\",Treguine!A268,IF($B$10=\"Bredjing\",Bredjing!A268,\"\"))))","v":0},{"$f":"IF($B$10=\"Farchana\",Farchana!B249,IF($B$10=\"Gaga\",Gaga!B268,IF($B$10=\"Treguine\",Treguine!B268,IF($B$10=\"Bredjing\",Bredjing!B268,\"\"))))","v":0},{"$f":"IF($B$10=\"Farchana\",Farchana!C249,IF($B$10=\"Gaga\",Gaga!C268,IF($B$10=\"Treguine\",Treguine!C268,IF($B$10=\"Bredjing\",Bredjing!C268,\"\"))))","v":0},null,null,{"$f":"IF($B$10=\"Farchana\",Farchana!G249,IF($B$10=\"Gaga\",Gaga!I268,IF($B$10=\"Treguine\",Treguine!G268,IF($B$10=\"Bredjing\",Bredjing!G268,\"\"))))","v":""}]
[{"$f":"IF($B$10=\"Farchana\",Farchana!A250,IF($B$10=\"Gaga\",Gaga!A269,IF($B$10=\"Treguine\",Treguine!A269,IF($B$10=\"Bredjing\",Bredjing!A269,\"\"))))","v":0},{"$f":"IF($B$10=\"Farchana\",Farchana!B250,IF($B$10=\"Gaga\",Gaga!B269,IF($B$10=\"Treguine\",Treguine!B269,IF($B$10=\"Bredjing\",Bredjing!B269,\"\"))))","v":0},{"$f":"IF($B$10=\"Farchana\",Farchana!C250,IF($B$10=\"Gaga\",Gaga!C269,IF($B$10=\"Treguine\",Treguine!C269,IF($B$10=\"Bredjing\",Bredjing!C269,\"\"))))","v":0},null,null,{"$f":"IF($B$10=\"Farchana\",Farchana!G250,IF($B$10=\"Gaga\",Gaga!I269,IF($B$10=\"Treguine\",Treguine!G269,IF($B$10=\"Bredjing\",Bredjing!G269,\"\"))))","v":""}]
[{"$f":"IF($B$10=\"Farchana\",Farchana!A251,IF($B$10=\"Gaga\",Gaga!A270,IF($B$10=\"Treguine\",Treguine!A270,IF($B$10=\"Bredjing\",Bredjing!A270,\"\"))))","v":0},{"$f":"IF($B$10=\"Farchana\",Farchana!B251,IF($B$10=\"Gaga\",Gaga!B270,IF($B$10=\"Treguine\",Treguine!B270,IF($B$10=\"Bredjing\",Bredjing!B270,\"\"))))","v":0},{"$f":"IF($B$10=\"Farchana\",Farchana!C251,IF($B$10=\"Gaga\",Gaga!C270,IF($B$10=\"Treguine\",Treguine!C270,IF($B$10=\"Bredjing\",Bredjing!C270,\"\"))))","v":0},null,null,{"$f":"IF($B$10=\"Farchana\",Farchana!G251,IF($B$10=\"Gaga\",Gaga!I270,IF($B$10=\"Treguine\",Treguine!G270,IF($B$10=\"Bredjing\",Bredjing!G270,\"\"))))","v":""}]
[{"$f":"IF($B$10=\"Farchana\",Farchana!A252,IF($B$10=\"Gaga\",Gaga!A271,IF($B$10=\"Treguine\",Treguine!A271,IF($B$10=\"Bredjing\",Bredjing!A271,\"\"))))","v":0},{"$f":"IF($B$10=\"Farchana\",Farchana!B252,IF($B$10=\"Gaga\",Gaga!B271,IF($B$10=\"Treguine\",Treguine!B271,IF($B$10=\"Bredjing\",Bredjing!B271,\"\"))))","v":0},{"$f":"IF($B$10=\"Farchana\",Farchana!C252,IF($B$10=\"Gaga\",Gaga!C271,IF($B$10=\"Treguine\",Treguine!C271,IF($B$10=\"Bredjing\",Bredjing!C271,\"\"))))","v":0},null,null,{"$f":"IF($B$10=\"Farchana\",Farchana!G252,IF($B$10=\"Gaga\",Gaga!I271,IF($B$10=\"Treguine\",Treguine!G271,IF($B$10=\"Bredjing\",Bredjing!G271,\"\"))))","v":""}]
[{"$f":"IF($B$10=\"Farchana\",Farchana!A253,IF($B$10=\"Gaga\",Gaga!A272,IF($B$10=\"Treguine\",Treguine!A272,IF($B$10=\"Bredjing\",Bredjing!A272,\"\"))))","v":0},{"$f":"IF($B$10=\"Farchana\",Farchana!B253,IF($B$10=\"Gaga\",Gaga!B272,IF($B$10=\"Treguine\",Treguine!B272,IF($B$10=\"Bredjing\",Bredjing!B272,\"\"))))","v":0},{"$f":"IF($B$10=\"Farchana\",Farchana!C253,IF($B$10=\"Gaga\",Gaga!C272,IF($B$10=\"Treguine\",Treguine!C272,IF($B$10=\"Bredjing\",Bredjing!C272,\"\"))))","v":0},null,null,{"$f":"IF($B$10=\"Farchana\",Farchana!G253,IF($B$10=\"Gaga\",Gaga!I272,IF($B$10=\"Treguine\",Treguine!G272,IF($B$10=\"Bredjing\",Bredjing!G272,\"\"))))","v":""}]
[{"$f":"IF($B$10=\"Farchana\",Farchana!A254,IF($B$10=\"Gaga\",Gaga!A273,IF($B$10=\"Treguine\",Treguine!A273,IF($B$10=\"Bredjing\",Bredjing!A273,\"\"))))","v":0},{"$f":"IF($B$10=\"Farchana\",Farchana!B254,IF($B$10=\"Gaga\",Gaga!B273,IF($B$10=\"Treguine\",Treguine!B273,IF($B$10=\"Bredjing\",Bredjing!B273,\"\"))))","v":0},{"$f":"IF($B$10=\"Farchana\",Farchana!C254,IF($B$10=\"Gaga\",Gaga!C273,IF($B$10=\"Treguine\",Treguine!C273,IF($B$10=\"Bredjing\",Bredjing!C273,\"\"))))","v":0},null,null,{"$f":"IF($B$10=\"Farchana\",Farchana!G254,IF($B$10=\"Gaga\",Gaga!I273,IF($B$10=\"Treguine\",Treguine!G273,IF($B$10=\"Bredjing\",Bredjing!G273,\"\"))))","v":""}]
[{"$f":"IF($B$10=\"Farchana\",Farchana!A255,IF($B$10=\"Gaga\",Gaga!A274,IF($B$10=\"Treguine\",Treguine!A274,IF($B$10=\"Bredjing\",Bredjing!A274,\"\"))))","v":0},{"$f":"IF($B$10=\"Farchana\",Farchana!B255,IF($B$10=\"Gaga\",Gaga!B274,IF($B$10=\"Treguine\",Treguine!B274,IF($B$10=\"Bredjing\",Bredjing!B274,\"\"))))","v":0},{"$f":"IF($B$10=\"Farchana\",Farchana!C255,IF($B$10=\"Gaga\",Gaga!C274,IF($B$10=\"Treguine\",Treguine!C274,IF($B$10=\"Bredjing\",Bredjing!C274,\"\"))))","v":0},null,null,{"$f":"IF($B$10=\"Farchana\",Farchana!G255,IF($B$10=\"Gaga\",Gaga!I274,IF($B$10=\"Treguine\",Treguine!G274,IF($B$10=\"Bredjing\",Bredjing!G274,\"\"))))","v":""}]
[{"$f":"IF($B$10=\"Farchana\",Farchana!A256,IF($B$10=\"Gaga\",Gaga!A275,IF($B$10=\"Treguine\",Treguine!A275,IF($B$10=\"Bredjing\",Bredjing!A275,\"\"))))","v":0},{"$f":"IF($B$10=\"Farchana\",Farchana!B256,IF($B$10=\"Gaga\",Gaga!B275,IF($B$10=\"Treguine\",Treguine!B275,IF($B$10=\"Bredjing\",Bredjing!B275,\"\"))))","v":0},{"$f":"IF($B$10=\"Farchana\",Farchana!C256,IF($B$10=\"Gaga\",Gaga!C275,IF($B$10=\"Treguine\",Treguine!C275,IF($B$10=\"Bredjing\",Bredjing!C275,\"\"))))","v":0},null,null,{"$f":"IF($B$10=\"Farchana\",Farchana!G256,IF($B$10=\"Gaga\",Gaga!I275,IF($B$10=\"Treguine\",Treguine!G275,IF($B$10=\"Bredjing\",Bredjing!G275,\"\"))))","v":""}]
[{"$f":"IF($B$10=\"Farchana\",Farchana!A257,IF($B$10=\"Gaga\",Gaga!A276,IF($B$10=\"Treguine\",Treguine!A276,IF($B$10=\"Bredjing\",Bredjing!A276,\"\"))))","v":0},{"$f":"IF($B$10=\"Farchana\",Farchana!B257,IF($B$10=\"Gaga\",Gaga!B276,IF($B$10=\"Treguine\",Treguine!B276,IF($B$10=\"Bredjing\",Bredjing!B276,\"\"))))","v":0},{"$f":"IF($B$10=\"Farchana\",Farchana!C257,IF($B$10=\"Gaga\",Gaga!C276,IF($B$10=\"Treguine\",Treguine!C276,IF($B$10=\"Bredjing\",Bredjing!C276,\"\"))))","v":0},null,null,{"$f":"IF($B$10=\"Farchana\",Farchana!G257,IF($B$10=\"Gaga\",Gaga!I276,IF($B$10=\"Treguine\",Treguine!G276,IF($B$10=\"Bredjing\",Bredjing!G276,\"\"))))","v":""}]
[{"$f":"IF($B$10=\"Farchana\",Farchana!A258,IF($B$10=\"Gaga\",Gaga!A277,IF($B$10=\"Treguine\",Treguine!A277,IF($B$10=\"Bredjing\",Bredjing!A277,\"\"))))","v":0},{"$f":"IF($B$10=\"Farchana\",Farchana!B258,IF($B$10=\"Gaga\",Gaga!B277,IF($B$10=\"Treguine\",Treguine!B277,IF($B$10=\"Bredjing\",Bredjing!B277,\"\"))))","v":0},{"$f":"IF($B$10=\"Farchana\",Farchana!C258,IF($B$10=\"Gaga\",Gaga!C277,IF($B$10=\"Treguine\",Treguine!C277,IF($B$10=\"Bredjing\",Bredjing!C277,\"\"))))","v":0},null,null,{"$f":"IF($B$10=\"Farchana\",Farchana!G258,IF($B$10=\"Gaga\",Gaga!I277,IF($B$10=\"Treguine\",Treguine!G277,IF($B$10=\"Bredjing\",Bredjing!G277,\"\"))))","v":""}]
[{"$f":"IF($B$10=\"Farchana\",Farchana!A259,IF($B$10=\"Gaga\",Gaga!A278,IF($B$10=\"Treguine\",Treguine!A278,IF($B$10=\"Bredjing\",Bredjing!A278,\"\"))))","v":0},{"$f":"IF($B$10=\"Farchana\",Farchana!B259,IF($B$10=\"Gaga\",Gaga!B278,IF($B$10=\"Treguine\",Treguine!B278,IF($B$10=\"Bredjing\",Bredjing!B278,\"\"))))","v":0},{"$f":"IF($B$10=\"Farchana\",Farchana!C259,IF($B$10=\"Gaga\",Gaga!C278,IF($B$10=\"Treguine\",Treguine!C278,IF($B$10=\"Bredjing\",Bredjing!C278,\"\"))))","v":0},null,null,{"$f":"IF($B$10=\"Farchana\",Farchana!G259,IF($B$10=\"Gaga\",Gaga!I278,IF($B$10=\"Treguine\",Treguine!G278,IF($B$10=\"Bredjing\",Bredjing!G278,\"\"))))","v":""}]
[{"$f":"IF($B$10=\"Farchana\",Farchana!A260,IF($B$10=\"Gaga\",Gaga!A279,IF($B$10=\"Treguine\",Treguine!A279,IF($B$10=\"Bredjing\",Bredjing!A279,\"\"))))","v":0},{"$f":"IF($B$10=\"Farchana\",Farchana!B260,IF($B$10=\"Gaga\",Gaga!B279,IF($B$10=\"Treguine\",Treguine!B279,IF($B$10=\"Bredjing\",Bredjing!B279,\"\"))))","v":0},{"$f":"IF($B$10=\"Farchana\",Farchana!C260,IF($B$10=\"Gaga\",Gaga!C279,IF($B$10=\"Treguine\",Treguine!C279,IF($B$10=\"Bredjing\",Bredjing!C279,\"\"))))","v":0},null,null,{"$f":"IF($B$10=\"Farchana\",Farchana!G260,IF($B$10=\"Gaga\",Gaga!I279,IF($B$10=\"Treguine\",Treguine!G279,IF($B$10=\"Bredjing\",Bredjing!G279,\"\"))))","v":""}]
[{"$f":"IF($B$10=\"Farchana\",Farchana!A261,IF($B$10=\"Gaga\",Gaga!A280,IF($B$10=\"Treguine\",Treguine!A280,IF($B$10=\"Bredjing\",Bredjing!A280,\"\"))))","v":0},{"$f":"IF($B$10=\"Farchana\",Farchana!B261,IF($B$10=\"Gaga\",Gaga!B280,IF($B$10=\"Treguine\",Treguine!B280,IF($B$10=\"Bredjing\",Bredjing!B280,\"\"))))","v":0},{"$f":"IF($B$10=\"Farchana\",Farchana!C261,IF($B$10=\"Gaga\",Gaga!C280,IF($B$10=\"Treguine\",Treguine!C280,IF($B$10=\"Bredjing\",Bredjing!C280,\"\"))))","v":0},null,null,{"$f":"IF($B$10=\"Farchana\",Farchana!G261,IF($B$10=\"Gaga\",Gaga!I280,IF($B$10=\"Treguine\",Treguine!G280,IF($B$10=\"Bredjing\",Bredjing!G280,\"\"))))","v":""}]
[{"$f":"IF($B$10=\"Farchana\",Farchana!A262,IF($B$10=\"Gaga\",Gaga!A281,IF($B$10=\"Treguine\",Treguine!A281,IF($B$10=\"Bredjing\",Bredjing!A281,\"\"))))","v":0},{"$f":"IF($B$10=\"Farchana\",Farchana!B262,IF($B$10=\"Gaga\",Gaga!B281,IF($B$10=\"Treguine\",Treguine!B281,IF($B$10=\"Bredjing\",Bredjing!B281,\"\"))))","v":0},{"$f":"IF($B$10=\"Farchana\",Farchana!C262,IF($B$10=\"Gaga\",Gaga!C281,IF($B$10=\"Treguine\",Treguine!C281,IF($B$10=\"Bredjing\",Bredjing!C281,\"\"))))","v":0},null,null,{"$f":"IF($B$10=\"Farchana\",Farchana!G262,IF($B$10=\"Gaga\",Gaga!I281,IF($B$10=\"Treguine\",Treguine!G281,IF($B$10=\"Bredjing\",Bredjing!G281,\"\"))))","v":""}]
[{"$f":"IF($B$10=\"Farchana\",Farchana!A263,IF($B$10=\"Gaga\",Gaga!A282,IF($B$10=\"Treguine\",Treguine!A282,IF($B$10=\"Bredjing\",Bredjing!A282,\"\"))))","v":0},{"$f":"IF($B$10=\"Farchana\",Farchana!B263,IF($B$10=\"Gaga\",Gaga!B282,IF($B$10=\"Treguine\",Treguine!B282,IF($B$10=\"Bredjing\",Bredjing!B282,\"\"))))","v":0},{"$f":"IF($B$10=\"Farchana\",Farchana!C263,IF($B$10=\"Gaga\",Gaga!C282,IF($B$10=\"Treguine\",Treguine!C282,IF($B$10=\"Bredjing\",Bredjing!C282,\"\"))))","v":0},null,null,{"$f":"IF($B$10=\"Farchana\",Farchana!G263,IF($B$10=\"Gaga\",Gaga!I282,IF($B$10=\"Treguine\",Treguine!G282,IF($B$10=\"Bredjing\",Bredjing!G282,\"\"))))","v":""}]
[{"$f":"IF($B$10=\"Farchana\",Farchana!A264,IF($B$10=\"Gaga\",Gaga!A283,IF($B$10=\"Treguine\",Treguine!A283,IF($B$10=\"Bredjing\",Bredjing!A283,\"\"))))","v":0},{"$f":"IF($B$10=\"Farchana\",Farchana!B264,IF($B$10=\"Gaga\",Gaga!B283,IF($B$10=\"Treguine\",Treguine!B283,IF($B$10=\"Bredjing\",Bredjing!B283,\"\"))))","v":0},{"$f":"IF($B$10=\"Farchana\",Farchana!C264,IF($B$10=\"Gaga\",Gaga!C283,IF($B$10=\"Treguine\",Treguine!C283,IF($B$10=\"Bredjing\",Bredjing!C283,\"\"))))","v":0},null,null,{"$f":"IF($B$10=\"Farchana\",Farchana!G264,IF($B$10=\"Gaga\",Gaga!I283,IF($B$10=\"Treguine\",Treguine!G283,IF($B$10=\"Bredjing\",Bredjing!G283,\"\"))))","v":""}]
[{"$f":"IF($B$10=\"Farchana\",Farchana!A265,IF($B$10=\"Gaga\",Gaga!A284,IF($B$10=\"Treguine\",Treguine!A284,IF($B$10=\"Bredjing\",Bredjing!A284,\"\"))))","v":0},{"$f":"IF($B$10=\"Farchana\",Farchana!B265,IF($B$10=\"Gaga\",Gaga!B284,IF($B$10=\"Treguine\",Treguine!B284,IF($B$10=\"Bredjing\",Bredjing!B284,\"\"))))","v":0},{"$f":"IF($B$10=\"Farchana\",Farchana!C265,IF($B$10=\"Gaga\",Gaga!C284,IF($B$10=\"Treguine\",Treguine!C284,IF($B$10=\"Bredjing\",Bredjing!C284,\"\"))))","v":0},null,null,{"$f":"IF($B$10=\"Farchana\",Farchana!G265,IF($B$10=\"Gaga\",Gaga!I284,IF($B$10=\"Treguine\",Treguine!G284,IF($B$10=\"Bredjing\",Bredjing!G284,\"\"))))","v":""}]
[{"$f":"IF($B$10=\"Farchana\",Farchana!A266,IF($B$10=\"Gaga\",Gaga!A285,IF($B$10=\"Treguine\",Treguine!A285,IF($B$10=\"Bredjing\",Bredjing!A285,\"\"))))","v":0},{"$f":"IF($B$10=\"Farchana\",Farchana!B266,IF($B$10=\"Gaga\",Gaga!B285,IF($B$10=\"Treguine\",Treguine!B285,IF($B$10=\"Bredjing\",Bredjing!B285,\"\"))))","v":0},{"$f":"IF($B$10=\"Farchana\",Farchana!C266,IF($B$10=\"Gaga\",Gaga!C285,IF($B$10=\"Treguine\",Treguine!C285,IF($B$10=\"Bredjing\",Bredjing!C285,\"\"))))","v":0},null,null,{"$f":"IF($B$10=\"Farchana\",Farchana!G266,IF($B$10=\"Gaga\",Gaga!I285,IF($B$10=\"Treguine\",Treguine!G285,IF($B$10=\"Bredjing\",Bredjing!G285,\"\"))))","v":""}]
[{"$f":"IF($B$10=\"Farchana\",Farchana!A267,IF($B$10=\"Gaga\",Gaga!A286,IF($B$10=\"Treguine\",Treguine!A286,IF($B$10=\"Bredjing\",Bredjing!A286,\"\"))))","v":0},{"$f":"IF($B$10=\"Farchana\",Farchana!B267,IF($B$10=\"Gaga\",Gaga!B286,IF($B$10=\"Treguine\",Treguine!B286,IF($B$10=\"Bredjing\",Bredjing!B286,\"\"))))","v":0},{"$f":"IF($B$10=\"Farchana\",Farchana!C267,IF($B$10=\"Gaga\",Gaga!C286,IF($B$10=\"Treguine\",Treguine!C286,IF($B$10=\"Bredjing\",Bredjing!C286,\"\"))))","v":0},null,null,{"$f":"IF($B$10=\"Farchana\",Farchana!G267,IF($B$10=\"Gaga\",Gaga!I286,IF($B$10=\"Treguine\",Treguine!G286,IF($B$10=\"Bredjing\",Bredjing!G286,\"\"))))","v":""}]
[{"$f":"IF($B$10=\"Farchana\",Farchana!A268,IF($B$10=\"Gaga\",Gaga!A287,IF($B$10=\"Treguine\",Treguine!A287,IF($B$10=\"Bredjing\",Bredjing!A287,\"\"))))","v":0},{"$f":"IF($B$10=\"Farchana\",Farchana!B268,IF($B$10=\"Gaga\",Gaga!B287,IF($B$10=\"Treguine\",Treguine!B287,IF($B$10=\"Bredjing\",Bredjing!B287,\"\"))))","v":0},{"$f":"IF($B$10=\"Farchana\",Farchana!C268,IF($B$10=\"Gaga\",Gaga!C287,IF($B$10=\"Treguine\",Treguine!C287,IF($B$10=\"Bredjing\",Bredjing!C287,\"\"))))","v":0},null,null,{"$f":"IF($B$10=\"Farchana\",Farchana!G268,IF($B$10=\"Gaga\",Gaga!I287,IF($B$10=\"Treguine\",Treguine!G287,IF($B$10=\"Bredjing\",Bredjing!G287,\"\"))))","v":""}]
[{"$f":"IF($B$10=\"Farchana\",Farchana!A269,IF($B$10=\"Gaga\",Gaga!A288,IF($B$10=\"Treguine\",Treguine!A288,IF($B$10=\"Bredjing\",Bredjing!A288,\"\"))))","v":0},{"$f":"IF($B$10=\"Farchana\",Farchana!B269,IF($B$10=\"Gaga\",Gaga!B288,IF($B$10=\"Treguine\",Treguine!B288,IF($B$10=\"Bredjing\",Bredjing!B288,\"\"))))","v":0},{"$f":"IF($B$10=\"Farchana\",Farchana!C269,IF($B$10=\"Gaga\",Gaga!C288,IF($B$10=\"Treguine\",Treguine!C288,IF($B$10=\"Bredjing\",Bredjing!C288,\"\"))))","v":0},null,null,{"$f":"IF($B$10=\"Farchana\",Farchana!G269,IF($B$10=\"Gaga\",Gaga!I288,IF($B$10=\"Treguine\",Treguine!G288,IF($B$10=\"Bredjing\",Bredjing!G288,\"\"))))","v":""}]
[{"$f":"IF($B$10=\"Farchana\",Farchana!A270,IF($B$10=\"Gaga\",Gaga!A289,IF($B$10=\"Treguine\",Treguine!A289,IF($B$10=\"Bredjing\",Bredjing!A289,\"\"))))","v":0},{"$f":"IF($B$10=\"Farchana\",Farchana!B270,IF($B$10=\"Gaga\",Gaga!B289,IF($B$10=\"Treguine\",Treguine!B289,IF($B$10=\"Bredjing\",Bredjing!B289,\"\"))))","v":0},{"$f":"IF($B$10=\"Farchana\",Farchana!C270,IF($B$10=\"Gaga\",Gaga!C289,IF($B$10=\"Treguine\",Treguine!C289,IF($B$10=\"Bredjing\",Bredjing!C289,\"\"))))","v":0},null,null,{"$f":"IF($B$10=\"Farchana\",Farchana!G270,IF($B$10=\"Gaga\",Gaga!I289,IF($B$10=\"Treguine\",Treguine!G289,IF($B$10=\"Bredjing\",Bredjing!G289,\"\"))))","v":""}]
[{"$f":"IF($B$10=\"Farchana\",Farchana!A271,IF($B$10=\"Gaga\",Gaga!A290,IF($B$10=\"Treguine\",Treguine!A290,IF($B$10=\"Bredjing\",Bredjing!A290,\"\"))))","v":0},{"$f":"IF($B$10=\"Farchana\",Farchana!B271,IF($B$10=\"Gaga\",Gaga!B290,IF($B$10=\"Treguine\",Treguine!B290,IF($B$10=\"Bredjing\",Bredjing!B290,\"\"))))","v":0},{"$f":"IF($B$10=\"Farchana\",Farchana!C271,IF($B$10=\"Gaga\",Gaga!C290,IF($B$10=\"Treguine\",Treguine!C290,IF($B$10=\"Bredjing\",Bredjing!C290,\"\"))))","v":0},null,null,{"$f":"IF($B$10=\"Farchana\",Farchana!G271,IF($B$10=\"Gaga\",Gaga!I290,IF($B$10=\"Treguine\",Treguine!G290,IF($B$10=\"Bredjing\",Bredjing!G290,\"\"))))","v":""}]
[{"$f":"IF($B$10=\"Farchana\",Farchana!A272,IF($B$10=\"Gaga\",Gaga!A291,IF($B$10=\"Treguine\",Treguine!A291,IF($B$10=\"Bredjing\",Bredjing!A291,\"\"))))","v":0},{"$f":"IF($B$10=\"Farchana\",Farchana!B272,IF($B$10=\"Gaga\",Gaga!B291,IF($B$10=\"Treguine\",Treguine!B291,IF($B$10=\"Bredjing\",Bredjing!B291,\"\"))))","v":0},{"$f":"IF($B$10=\"Farchana\",Farchana!C272,IF($B$10=\"Gaga\",Gaga!C291,IF($B$10=\"Treguine\",Treguine!C291,IF($B$10=\"Bredjing\",Bredjing!C291,\"\"))))","v":0},null,null,{"$f":"IF($B$10=\"Farchana\",Farchana!G272,IF($B$10=\"Gaga\",Gaga!I291,IF($B$10=\"Treguine\",Treguine!G291,IF($B$10=\"Bredjing\",Bredjing!G291,\"\"))))","v":""}]
[{"$f":"IF($B$10=\"Farchana\",Farchana!A273,IF($B$10=\"Gaga\",Gaga!A292,IF($B$10=\"Treguine\",Treguine!A292,IF($B$10=\"Bredjing\",Bredjing!A292,\"\"))))","v":0},{"$f":"IF($B$10=\"Farchana\",Farchana!B273,IF($B$10=\"Gaga\",Gaga!B292,IF($B$10=\"Treguine\",Treguine!B292,IF($B$10=\"Bredjing\",Bredjing!B292,\"\"))))","v":0},{"$f":"IF($B$10=\"Farchana\",Farchana!C273,IF($B$10=\"Gaga\",Gaga!C292,IF($B$10=\"Treguine\",Treguine!C292,IF($B$10=\"Bredjing\",Bredjing!C292,\"\"))))","v":0},null,null,{"$f":"IF($B$10=\"Farchana\",Farchana!G273,IF($B$10=\"Gaga\",Gaga!I292,IF($B$10=\"Treguine\",Treguine!G292,IF($B$10=\"Bredjing\",Bredjing!G292,\"\"))))","v":""}]
[{"$f":"IF($B$10=\"Farchana\",Farchana!A274,IF($B$10=\"Gaga\",Gaga!A293,IF($B$10=\"Treguine\",Treguine!A293,IF($B$10=\"Bredjing\",Bredjing!A293,\"\"))))","v":0},{"$f":"IF($B$10=\"Farchana\",Farchana!B274,IF($B$10=\"Gaga\",Gaga!B293,IF($B$10=\"Treguine\",Treguine!B293,IF($B$10=\"Bredjing\",Bredjing!B293,\"\"))))","v":0},{"$f":"IF($B$10=\"Farchana\",Farchana!C274,IF($B$10=\"Gaga\",Gaga!C293,IF($B$10=\"Treguine\",Treguine!C293,IF($B$10=\"Bredjing\",Bredjing!C293,\"\"))))","v":0},null,null,{"$f":"IF($B$10=\"Farchana\",Farchana!G274,IF($B$10=\"Gaga\",Gaga!I293,IF($B$10=\"Treguine\",Treguine!G293,IF($B$10=\"Bredjing\",Bredjing!G293,\"\"))))","v":""}]
[{"$f":"IF($B$10=\"Farchana\",Farchana!A275,IF($B$10=\"Gaga\",Gaga!A294,IF($B$10=\"Treguine\",Treguine!A294,IF($B$10=\"Bredjing\",Bredjing!A294,\"\"))))","v":0},{"$f":"IF($B$10=\"Farchana\",Farchana!B275,IF($B$10=\"Gaga\",Gaga!B294,IF($B$10=\"Treguine\",Treguine!B294,IF($B$10=\"Bredjing\",Bredjing!B294,\"\"))))","v":0},{"$f":"IF($B$10=\"Farchana\",Farchana!C275,IF($B$10=\"Gaga\",Gaga!C294,IF($B$10=\"Treguine\",Treguine!C294,IF($B$10=\"Bredjing\",Bredjing!C294,\"\"))))","v":0},null,null,{"$f":"IF($B$10=\"Farchana\",Farchana!G275,IF($B$10=\"Gaga\",Gaga!I294,IF($B$10=\"Treguine\",Treguine!G294,IF($B$10=\"Bredjing\",Bredjing!G294,\"\"))))","v":""}]
[{"$f":"IF($B$10=\"Farchana\",Farchana!A276,IF($B$10=\"Gaga\",Gaga!A295,IF($B$10=\"Treguine\",Treguine!A295,IF($B$10=\"Bredjing\",Bredjing!A295,\"\"))))","v":0},{"$f":"IF($B$10=\"Farchana\",Farchana!B276,IF($B$10=\"Gaga\",Gaga!B295,IF($B$10=\"Treguine\",Treguine!B295,IF($B$10=\"Bredjing\",Bredjing!B295,\"\"))))","v":0},{"$f":"IF($B$10=\"Farchana\",Farchana!C276,IF($B$10=\"Gaga\",Gaga!C295,IF($B$10=\"Treguine\",Treguine!C295,IF($B$10=\"Bredjing\",Bredjing!C295,\"\"))))","v":0},null,null,{"$f":"IF($B$10=\"Farchana\",Farchana!G276,IF($B$10=\"Gaga\",Gaga!I295,IF($B$10=\"Treguine\",Treguine!G295,IF($B$10=\"Bredjing\",Bredjing!G295,\"\"))))","v":""}]
[{"$f":"IF($B$10=\"Farchana\",Farchana!A277,IF($B$10=\"Gaga\",Gaga!A296,IF($B$10=\"Treguine\",Treguine!A296,IF($B$10=\"Bredjing\",Bredjing!A296,\"\"))))","v":0},{"$f":"IF($B$10=\"Farchana\",Farchana!B277,IF($B$10=\"Gaga\",Gaga!B296,IF($B$10=\"Treguine\",Treguine!B296,IF($B$10=\"Bredjing\",Bredjing!B296,\"\"))))","v":0},{"$f":"IF($B$10=\"Farchana\",Farchana!C277,IF($B$10=\"Gaga\",Gaga!C296,IF($B$10=\"Treguine\",Treguine!C296,IF($B$10=\"Bredjing\",Bredjing!C296,\"\"))))","v":0},null,null,{"$f":"IF($B$10=\"Farchana\",Farchana!G277,IF($B$10=\"Gaga\",Gaga!I296,IF($B$10=\"Treguine\",Treguine!G296,IF($B$10=\"Bredjing\",Bredjing!G296,\"\"))))","v":""}]
[{"$f":"IF($B$10=\"Farchana\",Farchana!A278,IF($B$10=\"Gaga\",Gaga!A297,IF($B$10=\"Treguine\",Treguine!A297,IF($B$10=\"Bredjing\",Bredjing!A297,\"\"))))","v":0},{"$f":"IF($B$10=\"Farchana\",Farchana!B278,IF($B$10=\"Gaga\",Gaga!B297,IF($B$10=\"Treguine\",Treguine!B297,IF($B$10=\"Bredjing\",Bredjing!B297,\"\"))))","v":0},{"$f":"IF($B$10=\"Farchana\",Farchana!C278,IF($B$10=\"Gaga\",Gaga!C297,IF($B$10=\"Treguine\",Treguine!C297,IF($B$10=\"Bredjing\",Bredjing!C297,\"\"))))","v":0},null,null,{"$f":"IF($B$10=\"Farchana\",Farchana!G278,IF($B$10=\"Gaga\",Gaga!I297,IF($B$10=\"Treguine\",Treguine!G297,IF($B$10=\"Bredjing\",Bredjing!G297,\"\"))))","v":""}]
[{"$f":"IF($B$10=\"Farchana\",Farchana!A279,IF($B$10=\"Gaga\",Gaga!A298,IF($B$10=\"Treguine\",Treguine!A298,IF($B$10=\"Bredjing\",Bredjing!A298,\"\"))))","v":0},{"$f":"IF($B$10=\"Farchana\",Farchana!B279,IF($B$10=\"Gaga\",Gaga!B298,IF($B$10=\"Treguine\",Treguine!B298,IF($B$10=\"Bredjing\",Bredjing!B298,\"\"))))","v":0},{"$f":"IF($B$10=\"Farchana\",Farchana!C279,IF($B$10=\"Gaga\",Gaga!C298,IF($B$10=\"Treguine\",Treguine!C298,IF($B$10=\"Bredjing\",Bredjing!C298,\"\"))))","v":0},null,null,{"$f":"IF($B$10=\"Farchana\",Farchana!G279,IF($B$10=\"Gaga\",Gaga!I298,IF($B$10=\"Treguine\",Treguine!G298,IF($B$10=\"Bredjing\",Bredjing!G298,\"\"))))","v":""}]
[{"$f":"IF($B$10=\"Farchana\",Farchana!A280,IF($B$10=\"Gaga\",Gaga!A299,IF($B$10=\"Treguine\",Treguine!A299,IF($B$10=\"Bredjing\",Bredjing!A299,\"\"))))","v":0},{"$f":"IF($B$10=\"Farchana\",Farchana!B280,IF($B$10=\"Gaga\",Gaga!B299,IF($B$10=\"Treguine\",Treguine!B299,IF($B$10=\"Bredjing\",Bredjing!B299,\"\"))))","v":0},{"$f":"IF($B$10=\"Farchana\",Farchana!C280,IF($B$10=\"Gaga\",Gaga!C299,IF($B$10=\"Treguine\",Treguine!C299,IF($B$10=\"Bredjing\",Bredjing!C299,\"\"))))","v":0},null,null,{"$f":"IF($B$10=\"Farchana\",Farchana!G280,IF($B$10=\"Gaga\",Gaga!I299,IF($B$10=\"Treguine\",Treguine!G299,IF($B$10=\"Bredjing\",Bredjing!G299,\"\"))))","v":""}]
[{"$f":"IF($B$10=\"Farchana\",Farchana!A281,IF($B$10=\"Gaga\",Gaga!A300,IF($B$10=\"Treguine\",Treguine!A300,IF($B$10=\"Bredjing\",Bredjing!A300,\"\"))))","v":0},{"$f":"IF($B$10=\"Farchana\",Farchana!B281,IF($B$10=\"Gaga\",Gaga!B300,IF($B$10=\"Treguine\",Treguine!B300,IF($B$10=\"Bredjing\",Bredjing!B300,\"\"))))","v":0},{"$f":"IF($B$10=\"Farchana\",Farchana!C281,IF($B$10=\"Gaga\",Gaga!C300,IF($B$10=\"Treguine\",Treguine!C300,IF($B$10=\"Bredjing\",Bredjing!C300,\"\"))))","v":0},null,null,{"$f":"IF($B$10=\"Farchana\",Farchana!G281,IF($B$10=\"Gaga\",Gaga!I300,IF($B$10=\"Treguine\",Treguine!G300,IF($B$10=\"Bredjing\",Bredjing!G300,\"\"))))","v":""}]
[{"$f":"IF($B$10=\"Farchana\",Farchana!A282,IF($B$10=\"Gaga\",Gaga!A301,IF($B$10=\"Treguine\",Treguine!A301,IF($B$10=\"Bredjing\",Bredjing!A301,\"\"))))","v":0},{"$f":"IF($B$10=\"Farchana\",Farchana!B282,IF($B$10=\"Gaga\",Gaga!B301,IF($B$10=\"Treguine\",Treguine!B301,IF($B$10=\"Bredjing\",Bredjing!B301,\"\"))))","v":0},{"$f":"IF($B$10=\"Farchana\",Farchana!C282,IF($B$10=\"Gaga\",Gaga!C301,IF($B$10=\"Treguine\",Treguine!C301,IF($B$10=\"Bredjing\",Bredjing!C301,\"\"))))","v":0},null,null,{"$f":"IF($B$10=\"Farchana\",Farchana!G282,IF($B$10=\"Gaga\",Gaga!I301,IF($B$10=\"Treguine\",Treguine!G301,IF($B$10=\"Bredjing\",Bredjing!G301,\"\"))))","v":""}]
[{"$f":"IF($B$10=\"Farchana\",Farchana!A283,IF($B$10=\"Gaga\",Gaga!A302,IF($B$10=\"Treguine\",Treguine!A302,IF($B$10=\"Bredjing\",Bredjing!A302,\"\"))))","v":0},{"$f":"IF($B$10=\"Farchana\",Farchana!B283,IF($B$10=\"Gaga\",Gaga!B302,IF($B$10=\"Treguine\",Treguine!B302,IF($B$10=\"Bredjing\",Bredjing!B302,\"\"))))","v":0},{"$f":"IF($B$10=\"Farchana\",Farchana!C283,IF($B$10=\"Gaga\",Gaga!C302,IF($B$10=\"Treguine\",Treguine!C302,IF($B$10=\"Bredjing\",Bredjing!C302,\"\"))))","v":0},null,null,{"$f":"IF($B$10=\"Farchana\",Farchana!G283,IF($B$10=\"Gaga\",Gaga!I302,IF($B$10=\"Treguine\",Treguine!G302,IF($B$10=\"Bredjing\",Bredjing!G302,\"\"))))","v":""}]
[{"$f":"IF($B$10=\"Farchana\",Farchana!A284,IF($B$10=\"Gaga\",Gaga!A303,IF($B$10=\"Treguine\",Treguine!A303,IF($B$10=\"Bredjing\",Bredjing!A303,\"\"))))","v":0},{"$f":"IF($B$10=\"Farchana\",Farchana!B284,IF($B$10=\"Gaga\",Gaga!B303,IF($B$10=\"Treguine\",Treguine!B303,IF($B$10=\"Bredjing\",Bredjing!B303,\"\"))))","v":0},{"$f":"IF($B$10=\"Farchana\",Farchana!C284,IF($B$10=\"Gaga\",Gaga!C303,IF($B$10=\"Treguine\",Treguine!C303,IF($B$10=\"Bredjing\",Bredjing!C303,\"\"))))","v":0},null,null,{"$f":"IF($B$10=\"Farchana\",Farchana!G284,IF($B$10=\"Gaga\",Gaga!I303,IF($B$10=\"Treguine\",Treguine!G303,IF($B$10=\"Bredjing\",Bredjing!G303,\"\"))))","v":""}]
[{"$f":"IF($B$10=\"Farchana\",Farchana!A285,IF($B$10=\"Gaga\",Gaga!A304,IF($B$10=\"Treguine\",Treguine!A304,IF($B$10=\"Bredjing\",Bredjing!A304,\"\"))))","v":0},{"$f":"IF($B$10=\"Farchana\",Farchana!B285,IF($B$10=\"Gaga\",Gaga!B304,IF($B$10=\"Treguine\",Treguine!B304,IF($B$10=\"Bredjing\",Bredjing!B304,\"\"))))","v":0},{"$f":"IF($B$10=\"Farchana\",Farchana!C285,IF($B$10=\"Gaga\",Gaga!C304,IF($B$10=\"Treguine\",Treguine!C304,IF($B$10=\"Bredjing\",Bredjing!C304,\"\"))))","v":0},null,null,{"$f":"IF($B$10=\"Farchana\",Farchana!G285,IF($B$10=\"Gaga\",Gaga!I304,IF($B$10=\"Treguine\",Treguine!G304,IF($B$10=\"Bredjing\",Bredjing!G304,\"\"))))","v":""}]
[{"$f":"IF($B$10=\"Farchana\",Farchana!A286,IF($B$10=\"Gaga\",Gaga!A305,IF($B$10=\"Treguine\",Treguine!A305,IF($B$10=\"Bredjing\",Bredjing!A305,\"\"))))","v":0},{"$f":"IF($B$10=\"Farchana\",Farchana!B286,IF($B$10=\"Gaga\",Gaga!B305,IF($B$10=\"Treguine\",Treguine!B305,IF($B$10=\"Bredjing\",Bredjing!B305,\"\"))))","v":0},{"$f":"IF($B$10=\"Farchana\",Farchana!C286,IF($B$10=\"Gaga\",Gaga!C305,IF($B$10=\"Treguine\",Treguine!C305,IF($B$10=\"Bredjing\",Bredjing!C305,\"\"))))","v":0},null,null,{"$f":"IF($B$10=\"Farchana\",Farchana!G286,IF($B$10=\"Gaga\",Gaga!I305,IF($B$10=\"Treguine\",Treguine!G305,IF($B$10=\"Bredjing\",Bredjing!G305,\"\"))))","v":""}]
[{"$f":"IF($B$10=\"Farchana\",Farchana!A287,IF($B$10=\"Gaga\",Gaga!A306,IF($B$10=\"Treguine\",Treguine!A306,IF($B$10=\"Bredjing\",Bredjing!A306,\"\"))))","v":0},{"$f":"IF($B$10=\"Farchana\",Farchana!B287,IF($B$10=\"Gaga\",Gaga!B306,IF($B$10=\"Treguine\",Treguine!B306,IF($B$10=\"Bredjing\",Bredjing!B306,\"\"))))","v":0},{"$f":"IF($B$10=\"Farchana\",Farchana!C287,IF($B$10=\"Gaga\",Gaga!C306,IF($B$10=\"Treguine\",Treguine!C306,IF($B$10=\"Bredjing\",Bredjing!C306,\"\"))))","v":0},null,null,{"$f":"IF($B$10=\"Farchana\",Farchana!G287,IF($B$10=\"Gaga\",Gaga!I306,IF($B$10=\"Treguine\",Treguine!G306,IF($B$10=\"Bredjing\",Bredjing!G306,\"\"))))","v":""}]
[{"$f":"IF($B$10=\"Farchana\",Farchana!A288,IF($B$10=\"Gaga\",Gaga!A307,IF($B$10=\"Treguine\",Treguine!A307,IF($B$10=\"Bredjing\",Bredjing!A307,\"\"))))","v":0},{"$f":"IF($B$10=\"Farchana\",Farchana!B288,IF($B$10=\"Gaga\",Gaga!B307,IF($B$10=\"Treguine\",Treguine!B307,IF($B$10=\"Bredjing\",Bredjing!B307,\"\"))))","v":0},{"$f":"IF($B$10=\"Farchana\",Farchana!C288,IF($B$10=\"Gaga\",Gaga!C307,IF($B$10=\"Treguine\",Treguine!C307,IF($B$10=\"Bredjing\",Bredjing!C307,\"\"))))","v":0},null,null,{"$f":"IF($B$10=\"Farchana\",Farchana!G288,IF($B$10=\"Gaga\",Gaga!I307,IF($B$10=\"Treguine\",Treguine!G307,IF($B$10=\"Bredjing\",Bredjing!G307,\"\"))))","v":""}]
[{"$f":"IF($B$10=\"Farchana\",Farchana!A289,IF($B$10=\"Gaga\",Gaga!A308,IF($B$10=\"Treguine\",Treguine!A308,IF($B$10=\"Bredjing\",Bredjing!A308,\"\"))))","v":0},{"$f":"IF($B$10=\"Farchana\",Farchana!B289,IF($B$10=\"Gaga\",Gaga!B308,IF($B$10=\"Treguine\",Treguine!B308,IF($B$10=\"Bredjing\",Bredjing!B308,\"\"))))","v":0},{"$f":"IF($B$10=\"Farchana\",Farchana!C289,IF($B$10=\"Gaga\",Gaga!C308,IF($B$10=\"Treguine\",Treguine!C308,IF($B$10=\"Bredjing\",Bredjing!C308,\"\"))))","v":0},null,null,{"$f":"IF($B$10=\"Farchana\",Farchana!G289,IF($B$10=\"Gaga\",Gaga!I308,IF($B$10=\"Treguine\",Treguine!G308,IF($B$10=\"Bredjing\",Bredjing!G308,\"\"))))","v":""}]
[{"$f":"IF($B$10=\"Farchana\",Farchana!A290,IF($B$10=\"Gaga\",Gaga!A309,IF($B$10=\"Treguine\",Treguine!A309,IF($B$10=\"Bredjing\",Bredjing!A309,\"\"))))","v":0},{"$f":"IF($B$10=\"Farchana\",Farchana!B290,IF($B$10=\"Gaga\",Gaga!B309,IF($B$10=\"Treguine\",Treguine!B309,IF($B$10=\"Bredjing\",Bredjing!B309,\"\"))))","v":0},{"$f":"IF($B$10=\"Farchana\",Farchana!C290,IF($B$10=\"Gaga\",Gaga!C309,IF($B$10=\"Treguine\",Treguine!C309,IF($B$10=\"Bredjing\",Bredjing!C309,\"\"))))","v":0},null,null,{"$f":"IF($B$10=\"Farchana\",Farchana!G290,IF($B$10=\"Gaga\",Gaga!I309,IF($B$10=\"Treguine\",Treguine!G309,IF($B$10=\"Bredjing\",Bredjing!G309,\"\"))))","v":""}]
[{"$f":"IF($B$10=\"Farchana\",Farchana!A291,IF($B$10=\"Gaga\",Gaga!A310,IF($B$10=\"Treguine\",Treguine!A310,IF($B$10=\"Bredjing\",Bredjing!A310,\"\"))))","v":0},{"$f":"IF($B$10=\"Farchana\",Farchana!B291,IF($B$10=\"Gaga\",Gaga!B310,IF($B$10=\"Treguine\",Treguine!B310,IF($B$10=\"Bredjing\",Bredjing!B310,\"\"))))","v":0},{"$f":"IF($B$10=\"Farchana\",Farchana!C291,IF($B$10=\"Gaga\",Gaga!C310,IF($B$10=\"Treguine\",Treguine!C310,IF($B$10=\"Bredjing\",Bredjing!C310,\"\"))))","v":0},null,null,{"$f":"IF($B$10=\"Farchana\",Farchana!G291,IF($B$10=\"Gaga\",Gaga!I310,IF($B$10=\"Treguine\",Treguine!G310,IF($B$10=\"Bredjing\",Bredjing!G310,\"\"))))","v":""}]
[{"$f":"IF($B$10=\"Farchana\",Farchana!A292,IF($B$10=\"Gaga\",Gaga!A311,IF($B$10=\"Treguine\",Treguine!A311,IF($B$10=\"Bredjing\",Bredjing!A311,\"\"))))","v":0},{"$f":"IF($B$10=\"Farchana\",Farchana!B292,IF($B$10=\"Gaga\",Gaga!B311,IF($B$10=\"Treguine\",Treguine!B311,IF($B$10=\"Bredjing\",Bredjing!B311,\"\"))))","v":0},{"$f":"IF($B$10=\"Farchana\",Farchana!C292,IF($B$10=\"Gaga\",Gaga!C311,IF($B$10=\"Treguine\",Treguine!C311,IF($B$10=\"Bredjing\",Bredjing!C311,\"\"))))","v":0},null,null,{"$f":"IF($B$10=\"Farchana\",Farchana!G292,IF($B$10=\"Gaga\",Gaga!I311,IF($B$10=\"Treguine\",Treguine!G311,IF($B$10=\"Bredjing\",Bredjing!G311,\"\"))))","v":""}]
[{"$f":"IF($B$10=\"Farchana\",Farchana!A293,IF($B$10=\"Gaga\",Gaga!A312,IF($B$10=\"Treguine\",Treguine!A312,IF($B$10=\"Bredjing\",Bredjing!A312,\"\"))))","v":0},{"$f":"IF($B$10=\"Farchana\",Farchana!B293,IF($B$10=\"Gaga\",Gaga!B312,IF($B$10=\"Treguine\",Treguine!B312,IF($B$10=\"Bredjing\",Bredjing!B312,\"\"))))","v":0},{"$f":"IF($B$10=\"Farchana\",Farchana!C293,IF($B$10=\"Gaga\",Gaga!C312,IF($B$10=\"Treguine\",Treguine!C312,IF($B$10=\"Bredjing\",Bredjing!C312,\"\"))))","v":0},null,null,{"$f":"IF($B$10=\"Farchana\",Farchana!G293,IF($B$10=\"Gaga\",Gaga!I312,IF($B$10=\"Treguine\",Treguine!G312,IF($B$10=\"Bredjing\",Bredjing!G312,\"\"))))","v":""}]
[{"$f":"IF($B$10=\"Farchana\",Farchana!A294,IF($B$10=\"Gaga\",Gaga!A313,IF($B$10=\"Treguine\",Treguine!A313,IF($B$10=\"Bredjing\",Bredjing!A313,\"\"))))","v":0},{"$f":"IF($B$10=\"Farchana\",Farchana!B294,IF($B$10=\"Gaga\",Gaga!B313,IF($B$10=\"Treguine\",Treguine!B313,IF($B$10=\"Bredjing\",Bredjing!B313,\"\"))))","v":0},{"$f":"IF($B$10=\"Farchana\",Farchana!C294,IF($B$10=\"Gaga\",Gaga!C313,IF($B$10=\"Treguine\",Treguine!C313,IF($B$10=\"Bredjing\",Bredjing!C313,\"\"))))","v":0},null,null,{"$f":"IF($B$10=\"Farchana\",Farchana!G294,IF($B$10=\"Gaga\",Gaga!I313,IF($B$10=\"Treguine\",Treguine!G313,IF($B$10=\"Bredjing\",Bredjing!G313,\"\"))))","v":""}]
[{"$f":"IF($B$10=\"Farchana\",Farchana!A295,IF($B$10=\"Gaga\",Gaga!A314,IF($B$10=\"Treguine\",Treguine!A314,IF($B$10=\"Bredjing\",Bredjing!A314,\"\"))))","v":0},{"$f":"IF($B$10=\"Farchana\",Farchana!B295,IF($B$10=\"Gaga\",Gaga!B314,IF($B$10=\"Treguine\",Treguine!B314,IF($B$10=\"Bredjing\",Bredjing!B314,\"\"))))","v":0},{"$f":"IF($B$10=\"Farchana\",Farchana!C295,IF($B$10=\"Gaga\",Gaga!C314,IF($B$10=\"Treguine\",Treguine!C314,IF($B$10=\"Bredjing\",Bredjing!C314,\"\"))))","v":0},null,null,{"$f":"IF($B$10=\"Farchana\",Farchana!G295,IF($B$10=\"Gaga\",Gaga!I314,IF($B$10=\"Treguine\",Treguine!G314,IF($B$10=\"Bredjing\",Bredjing!G314,\"\"))))","v":""}]
[{"$f":"IF($B$10=\"Farchana\",Farchana!A296,IF($B$10=\"Gaga\",Gaga!A315,IF($B$10=\"Treguine\",Treguine!A315,IF($B$10=\"Bredjing\",Bredjing!A315,\"\"))))","v":0},{"$f":"IF($B$10=\"Farchana\",Farchana!B296,IF($B$10=\"Gaga\",Gaga!B315,IF($B$10=\"Treguine\",Treguine!B315,IF($B$10=\"Bredjing\",Bredjing!B315,\"\"))))","v":0},{"$f":"IF($B$10=\"Farchana\",Farchana!C296,IF($B$10=\"Gaga\",Gaga!C315,IF($B$10=\"Treguine\",Treguine!C315,IF($B$10=\"Bredjing\",Bredjing!C315,\"\"))))","v":0},null,null,{"$f":"IF($B$10=\"Farchana\",Farchana!G296,IF($B$10=\"Gaga\",Gaga!I315,IF($B$10=\"Treguine\",Treguine!G315,IF($B$10=\"Bredjing\",Bredjing!G315,\"\"))))","v":""}]
[{"$f":"IF($B$10=\"Farchana\",Farchana!A297,IF($B$10=\"Gaga\",Gaga!A316,IF($B$10=\"Treguine\",Treguine!A316,IF($B$10=\"Bredjing\",Bredjing!A316,\"\"))))","v":0},{"$f":"IF($B$10=\"Farchana\",Farchana!B297,IF($B$10=\"Gaga\",Gaga!B316,IF($B$10=\"Treguine\",Treguine!B316,IF($B$10=\"Bredjing\",Bredjing!B316,\"\"))))","v":0},{"$f":"IF($B$10=\"Farchana\",Farchana!C297,IF($B$10=\"Gaga\",Gaga!C316,IF($B$10=\"Treguine\",Treguine!C316,IF($B$10=\"Bredjing\",Bredjing!C316,\"\"))))","v":0},null,null,{"$f":"IF($B$10=\"Farchana\",Farchana!G297,IF($B$10=\"Gaga\",Gaga!I316,IF($B$10=\"Treguine\",Treguine!G316,IF($B$10=\"Bredjing\",Bredjing!G316,\"\"))))","v":""}]
[{"$f":"IF($B$10=\"Farchana\",Farchana!A298,IF($B$10=\"Gaga\",Gaga!A317,IF($B$10=\"Treguine\",Treguine!A317,IF($B$10=\"Bredjing\",Bredjing!A317,\"\"))))","v":0},{"$f":"IF($B$10=\"Farchana\",Farchana!B298,IF($B$10=\"Gaga\",Gaga!B317,IF($B$10=\"Treguine\",Treguine!B317,IF($B$10=\"Bredjing\",Bredjing!B317,\"\"))))","v":0},{"$f":"IF($B$10=\"Farchana\",Farchana!C298,IF($B$10=\"Gaga\",Gaga!C317,IF($B$10=\"Treguine\",Treguine!C317,IF($B$10=\"Bredjing\",Bredjing!C317,\"\"))))","v":0},null,null,{"$f":"IF($B$10=\"Farchana\",Farchana!G298,IF($B$10=\"Gaga\",Gaga!I317,IF($B$10=\"Treguine\",Treguine!G317,IF($B$10=\"Bredjing\",Bredjing!G317,\"\"))))","v":""}]
[{"$f":"IF($B$10=\"Farchana\",Farchana!A299,IF($B$10=\"Gaga\",Gaga!A318,IF($B$10=\"Treguine\",Treguine!A318,IF($B$10=\"Bredjing\",Bredjing!A318,\"\"))))","v":0},{"$f":"IF($B$10=\"Farchana\",Farchana!B299,IF($B$10=\"Gaga\",Gaga!B318,IF($B$10=\"Treguine\",Treguine!B318,IF($B$10=\"Bredjing\",Bredjing!B318,\"\"))))","v":0},{"$f":"IF($B$10=\"Farchana\",Farchana!C299,IF($B$10=\"Gaga\",Gaga!C318,IF($B$10=\"Treguine\",Treguine!C318,IF($B$10=\"Bredjing\",Bredjing!C318,\"\"))))","v":0},null,null,{"$f":"IF($B$10=\"Farchana\",Farchana!G299,IF($B$10=\"Gaga\",Gaga!I318,IF($B$10=\"Treguine\",Treguine!G318,IF($B$10=\"Bredjing\",Bredjing!G318,\"\"))))","v":""}]
[{"$f":"IF($B$10=\"Farchana\",Farchana!A300,IF($B$10=\"Gaga\",Gaga!A319,IF($B$10=\"Treguine\",Treguine!A319,IF($B$10=\"Bredjing\",Bredjing!A319,\"\"))))","v":0},{"$f":"IF($B$10=\"Farchana\",Farchana!B300,IF($B$10=\"Gaga\",Gaga!B319,IF($B$10=\"Treguine\",Treguine!B319,IF($B$10=\"Bredjing\",Bredjing!B319,\"\"))))","v":0},{"$f":"IF($B$10=\"Farchana\",Farchana!C300,IF($B$10=\"Gaga\",Gaga!C319,IF($B$10=\"Treguine\",Treguine!C319,IF($B$10=\"Bredjing\",Bredjing!C319,\"\"))))","v":0},null,null,{"$f":"IF($B$10=\"Farchana\",Farchana!G300,IF($B$10=\"Gaga\",Gaga!I319,IF($B$10=\"Treguine\",Treguine!G319,IF($B$10=\"Bredjing\",Bredjing!G319,\"\"))))","v":""}]
[{"$f":"IF($B$10=\"Farchana\",Farchana!A301,IF($B$10=\"Gaga\",Gaga!A320,IF($B$10=\"Treguine\",Treguine!A320,IF($B$10=\"Bredjing\",Bredjing!A320,\"\"))))","v":0},{"$f":"IF($B$10=\"Farchana\",Farchana!B301,IF($B$10=\"Gaga\",Gaga!B320,IF($B$10=\"Treguine\",Treguine!B320,IF($B$10=\"Bredjing\",Bredjing!B320,\"\"))))","v":0},{"$f":"IF($B$10=\"Farchana\",Farchana!C301,IF($B$10=\"Gaga\",Gaga!C320,IF($B$10=\"Treguine\",Treguine!C320,IF($B$10=\"Bredjing\",Bredjing!C320,\"\"))))","v":0},null,null,{"$f":"IF($B$10=\"Farchana\",Farchana!G301,IF($B$10=\"Gaga\",Gaga!I320,IF($B$10=\"Treguine\",Treguine!G320,IF($B$10=\"Bredjing\",Bredjing!G320,\"\"))))","v":""}]
[{"$f":"IF($B$10=\"Farchana\",Farchana!A302,IF($B$10=\"Gaga\",Gaga!A321,IF($B$10=\"Treguine\",Treguine!A321,IF($B$10=\"Bredjing\",Bredjing!A321,\"\"))))","v":0},{"$f":"IF($B$10=\"Farchana\",Farchana!B302,IF($B$10=\"Gaga\",Gaga!B321,IF($B$10=\"Treguine\",Treguine!B321,IF($B$10=\"Bredjing\",Bredjing!B321,\"\"))))","v":0},{"$f":"IF($B$10=\"Farchana\",Farchana!C302,IF($B$10=\"Gaga\",Gaga!C321,IF($B$10=\"Treguine\",Treguine!C321,IF($B$10=\"Bredjing\",Bredjing!C321,\"\"))))","v":0},null,null,{"$f":"IF($B$10=\"Farchana\",Farchana!G302,IF($B$10=\"Gaga\",Gaga!I321,IF($B$10=\"Treguine\",Treguine!G321,IF($B$10=\"Bredjing\",Bredjing!G321,\"\"))))","v":""}]
[{"$f":"IF($B$10=\"Farchana\",Farchana!A303,IF($B$10=\"Gaga\",Gaga!A322,IF($B$10=\"Treguine\",Treguine!A322,IF($B$10=\"Bredjing\",Bredjing!A322,\"\"))))","v":0},{"$f":"IF($B$10=\"Farchana\",Farchana!B303,IF($B$10=\"Gaga\",Gaga!B322,IF($B$10=\"Treguine\",Treguine!B322,IF($B$10=\"Bredjing\",Bredjing!B322,\"\"))))","v":0},{"$f":"IF($B$10=\"Farchana\",Farchana!C303,IF($B$10=\"Gaga\",Gaga!C322,IF($B$10=\"Treguine\",Treguine!C322,IF($B$10=\"Bredjing\",Bredjing!C322,\"\"))))","v":0},null,null,{"$f":"IF($B$10=\"Farchana\",Farchana!G303,IF($B$10=\"Gaga\",Gaga!I322,IF($B$10=\"Treguine\",Treguine!G322,IF($B$10=\"Bredjing\",Bredjing!G322,\"\"))))","v":""}]
[{"$f":"IF($B$10=\"Farchana\",Farchana!A304,IF($B$10=\"Gaga\",Gaga!A323,IF($B$10=\"Treguine\",Treguine!A323,IF($B$10=\"Bredjing\",Bredjing!A323,\"\"))))","v":0},{"$f":"IF($B$10=\"Farchana\",Farchana!B304,IF($B$10=\"Gaga\",Gaga!B323,IF($B$10=\"Treguine\",Treguine!B323,IF($B$10=\"Bredjing\",Bredjing!B323,\"\"))))","v":0},{"$f":"IF($B$10=\"Farchana\",Farchana!C304,IF($B$10=\"Gaga\",Gaga!C323,IF($B$10=\"Treguine\",Treguine!C323,IF($B$10=\"Bredjing\",Bredjing!C323,\"\"))))","v":0},null,null,{"$f":"IF($B$10=\"Farchana\",Farchana!G304,IF($B$10=\"Gaga\",Gaga!I323,IF($B$10=\"Treguine\",Treguine!G323,IF($B$10=\"Bredjing\",Bredjing!G323,\"\"))))","v":""}]
[{"$f":"IF($B$10=\"Farchana\",Farchana!A305,IF($B$10=\"Gaga\",Gaga!A324,IF($B$10=\"Treguine\",Treguine!A324,IF($B$10=\"Bredjing\",Bredjing!A324,\"\"))))","v":0},{"$f":"IF($B$10=\"Farchana\",Farchana!B305,IF($B$10=\"Gaga\",Gaga!B324,IF($B$10=\"Treguine\",Treguine!B324,IF($B$10=\"Bredjing\",Bredjing!B324,\"\"))))","v":0},{"$f":"IF($B$10=\"Farchana\",Farchana!C305,IF($B$10=\"Gaga\",Gaga!C324,IF($B$10=\"Treguine\",Treguine!C324,IF($B$10=\"Bredjing\",Bredjing!C324,\"\"))))","v":0},null,null,{"$f":"IF($B$10=\"Farchana\",Farchana!G305,IF($B$10=\"Gaga\",Gaga!I324,IF($B$10=\"Treguine\",Treguine!G324,IF($B$10=\"Bredjing\",Bredjing!G324,\"\"))))","v":""}]
[{"$f":"IF($B$10=\"Farchana\",Farchana!A306,IF($B$10=\"Gaga\",Gaga!A325,IF($B$10=\"Treguine\",Treguine!A325,IF($B$10=\"Bredjing\",Bredjing!A325,\"\"))))","v":0},{"$f":"IF($B$10=\"Farchana\",Farchana!B306,IF($B$10=\"Gaga\",Gaga!B325,IF($B$10=\"Treguine\",Treguine!B325,IF($B$10=\"Bredjing\",Bredjing!B325,\"\"))))","v":0},{"$f":"IF($B$10=\"Farchana\",Farchana!C306,IF($B$10=\"Gaga\",Gaga!C325,IF($B$10=\"Treguine\",Treguine!C325,IF($B$10=\"Bredjing\",Bredjing!C325,\"\"))))","v":0},null,null,{"$f":"IF($B$10=\"Farchana\",Farchana!G306,IF($B$10=\"Gaga\",Gaga!I325,IF($B$10=\"Treguine\",Treguine!G325,IF($B$10=\"Bredjing\",Bredjing!G325,\"\"))))","v":""}]
[{"$f":"IF($B$10=\"Farchana\",Farchana!A307,IF($B$10=\"Gaga\",Gaga!A326,IF($B$10=\"Treguine\",Treguine!A326,IF($B$10=\"Bredjing\",Bredjing!A326,\"\"))))","v":0},{"$f":"IF($B$10=\"Farchana\",Farchana!B307,IF($B$10=\"Gaga\",Gaga!B326,IF($B$10=\"Treguine\",Treguine!B326,IF($B$10=\"Bredjing\",Bredjing!B326,\"\"))))","v":0},{"$f":"IF($B$10=\"Farchana\",Farchana!C307,IF($B$10=\"Gaga\",Gaga!C326,IF($B$10=\"Treguine\",Treguine!C326,IF($B$10=\"Bredjing\",Bredjing!C326,\"\"))))","v":0},null,null,{"$f":"IF($B$10=\"Farchana\",Farchana!G307,IF($B$10=\"Gaga\",Gaga!I326,IF($B$10=\"Treguine\",Treguine!G326,IF($B$10=\"Bredjing\",Bredjing!G326,\"\"))))","v":""}]
[{"$f":"IF($B$10=\"Farchana\",Farchana!A308,IF($B$10=\"Gaga\",Gaga!A327,IF($B$10=\"Treguine\",Treguine!A327,IF($B$10=\"Bredjing\",Bredjing!A327,\"\"))))","v":0},{"$f":"IF($B$10=\"Farchana\",Farchana!B308,IF($B$10=\"Gaga\",Gaga!B327,IF($B$10=\"Treguine\",Treguine!B327,IF($B$10=\"Bredjing\",Bredjing!B327,\"\"))))","v":0},{"$f":"IF($B$10=\"Farchana\",Farchana!C308,IF($B$10=\"Gaga\",Gaga!C327,IF($B$10=\"Treguine\",Treguine!C327,IF($B$10=\"Bredjing\",Bredjing!C327,\"\"))))","v":0},null,null,{"$f":"IF($B$10=\"Farchana\",Farchana!G308,IF($B$10=\"Gaga\",Gaga!I327,IF($B$10=\"Treguine\",Treguine!G327,IF($B$10=\"Bredjing\",Bredjing!G327,\"\"))))","v":""}]
[{"$f":"IF($B$10=\"Farchana\",Farchana!A309,IF($B$10=\"Gaga\",Gaga!A328,IF($B$10=\"Treguine\",Treguine!A328,IF($B$10=\"Bredjing\",Bredjing!A328,\"\"))))","v":0},{"$f":"IF($B$10=\"Farchana\",Farchana!B309,IF($B$10=\"Gaga\",Gaga!B328,IF($B$10=\"Treguine\",Treguine!B328,IF($B$10=\"Bredjing\",Bredjing!B328,\"\"))))","v":0},{"$f":"IF($B$10=\"Farchana\",Farchana!C309,IF($B$10=\"Gaga\",Gaga!C328,IF($B$10=\"Treguine\",Treguine!C328,IF($B$10=\"Bredjing\",Bredjing!C328,\"\"))))","v":0},null,null,{"$f":"IF($B$10=\"Farchana\",Farchana!G309,IF($B$10=\"Gaga\",Gaga!I328,IF($B$10=\"Treguine\",Treguine!G328,IF($B$10=\"Bredjing\",Bredjing!G328,\"\"))))","v":""}]
[{"$f":"IF($B$10=\"Farchana\",Farchana!A310,IF($B$10=\"Gaga\",Gaga!A329,IF($B$10=\"Treguine\",Treguine!A329,IF($B$10=\"Bredjing\",Bredjing!A329,\"\"))))","v":0},{"$f":"IF($B$10=\"Farchana\",Farchana!B310,IF($B$10=\"Gaga\",Gaga!B329,IF($B$10=\"Treguine\",Treguine!B329,IF($B$10=\"Bredjing\",Bredjing!B329,\"\"))))","v":0},{"$f":"IF($B$10=\"Farchana\",Farchana!C310,IF($B$10=\"Gaga\",Gaga!C329,IF($B$10=\"Treguine\",Treguine!C329,IF($B$10=\"Bredjing\",Bredjing!C329,\"\"))))","v":0},null,null,{"$f":"IF($B$10=\"Farchana\",Farchana!G310,IF($B$10=\"Gaga\",Gaga!I329,IF($B$10=\"Treguine\",Treguine!G329,IF($B$10=\"Bredjing\",Bredjing!G329,\"\"))))","v":""}]
[{"$f":"IF($B$10=\"Farchana\",Farchana!A311,IF($B$10=\"Gaga\",Gaga!A330,IF($B$10=\"Treguine\",Treguine!A330,IF($B$10=\"Bredjing\",Bredjing!A330,\"\"))))","v":0},{"$f":"IF($B$10=\"Farchana\",Farchana!B311,IF($B$10=\"Gaga\",Gaga!B330,IF($B$10=\"Treguine\",Treguine!B330,IF($B$10=\"Bredjing\",Bredjing!B330,\"\"))))","v":0},{"$f":"IF($B$10=\"Farchana\",Farchana!C311,IF($B$10=\"Gaga\",Gaga!C330,IF($B$10=\"Treguine\",Treguine!C330,IF($B$10=\"Bredjing\",Bredjing!C330,\"\"))))","v":0},null,null,{"$f":"IF($B$10=\"Farchana\",Farchana!G311,IF($B$10=\"Gaga\",Gaga!I330,IF($B$10=\"Treguine\",Treguine!G330,IF($B$10=\"Bredjing\",Bredjing!G330,\"\"))))","v":""}]
[{"$f":"IF($B$10=\"Farchana\",Farchana!A312,IF($B$10=\"Gaga\",Gaga!A331,IF($B$10=\"Treguine\",Treguine!A331,IF($B$10=\"Bredjing\",Bredjing!A331,\"\"))))","v":0},{"$f":"IF($B$10=\"Farchana\",Farchana!B312,IF($B$10=\"Gaga\",Gaga!B331,IF($B$10=\"Treguine\",Treguine!B331,IF($B$10=\"Bredjing\",Bredjing!B331,\"\"))))","v":0},{"$f":"IF($B$10=\"Farchana\",Farchana!C312,IF($B$10=\"Gaga\",Gaga!C331,IF($B$10=\"Treguine\",Treguine!C331,IF($B$10=\"Bredjing\",Bredjing!C331,\"\"))))","v":0},null,null,{"$f":"IF($B$10=\"Farchana\",Farchana!G312,IF($B$10=\"Gaga\",Gaga!I331,IF($B$10=\"Treguine\",Treguine!G331,IF($B$10=\"Bredjing\",Bredjing!G331,\"\"))))","v":""}]
[{"$f":"IF($B$10=\"Farchana\",Farchana!A313,IF($B$10=\"Gaga\",Gaga!A332,IF($B$10=\"Treguine\",Treguine!A332,IF($B$10=\"Bredjing\",Bredjing!A332,\"\"))))","v":0},{"$f":"IF($B$10=\"Farchana\",Farchana!B313,IF($B$10=\"Gaga\",Gaga!B332,IF($B$10=\"Treguine\",Treguine!B332,IF($B$10=\"Bredjing\",Bredjing!B332,\"\"))))","v":0},{"$f":"IF($B$10=\"Farchana\",Farchana!C313,IF($B$10=\"Gaga\",Gaga!C332,IF($B$10=\"Treguine\",Treguine!C332,IF($B$10=\"Bredjing\",Bredjing!C332,\"\"))))","v":0},null,null,{"$f":"IF($B$10=\"Farchana\",Farchana!G313,IF($B$10=\"Gaga\",Gaga!I332,IF($B$10=\"Treguine\",Treguine!G332,IF($B$10=\"Bredjing\",Bredjing!G332,\"\"))))","v":""}]
[{"$f":"IF($B$10=\"Farchana\",Farchana!A314,IF($B$10=\"Gaga\",Gaga!A333,IF($B$10=\"Treguine\",Treguine!A333,IF($B$10=\"Bredjing\",Bredjing!A333,\"\"))))","v":0},{"$f":"IF($B$10=\"Farchana\",Farchana!B314,IF($B$10=\"Gaga\",Gaga!B333,IF($B$10=\"Treguine\",Treguine!B333,IF($B$10=\"Bredjing\",Bredjing!B333,\"\"))))","v":0},{"$f":"IF($B$10=\"Farchana\",Farchana!C314,IF($B$10=\"Gaga\",Gaga!C333,IF($B$10=\"Treguine\",Treguine!C333,IF($B$10=\"Bredjing\",Bredjing!C333,\"\"))))","v":0},null,null,{"$f":"IF($B$10=\"Farchana\",Farchana!G314,IF($B$10=\"Gaga\",Gaga!I333,IF($B$10=\"Treguine\",Treguine!G333,IF($B$10=\"Bredjing\",Bredjing!G333,\"\"))))","v":""}]
[{"$f":"IF($B$10=\"Farchana\",Farchana!A315,IF($B$10=\"Gaga\",Gaga!A334,IF($B$10=\"Treguine\",Treguine!A334,IF($B$10=\"Bredjing\",Bredjing!A334,\"\"))))","v":0},{"$f":"IF($B$10=\"Farchana\",Farchana!B315,IF($B$10=\"Gaga\",Gaga!B334,IF($B$10=\"Treguine\",Treguine!B334,IF($B$10=\"Bredjing\",Bredjing!B334,\"\"))))","v":0},{"$f":"IF($B$10=\"Farchana\",Farchana!C315,IF($B$10=\"Gaga\",Gaga!C334,IF($B$10=\"Treguine\",Treguine!C334,IF($B$10=\"Bredjing\",Bredjing!C334,\"\"))))","v":0},null,null,{"$f":"IF($B$10=\"Farchana\",Farchana!G315,IF($B$10=\"Gaga\",Gaga!I334,IF($B$10=\"Treguine\",Treguine!G334,IF($B$10=\"Bredjing\",Bredjing!G334,\"\"))))","v":""}]
[{"$f":"IF($B$10=\"Farchana\",Farchana!A316,IF($B$10=\"Gaga\",Gaga!A335,IF($B$10=\"Treguine\",Treguine!A335,IF($B$10=\"Bredjing\",Bredjing!A335,\"\"))))","v":0},{"$f":"IF($B$10=\"Farchana\",Farchana!B316,IF($B$10=\"Gaga\",Gaga!B335,IF($B$10=\"Treguine\",Treguine!B335,IF($B$10=\"Bredjing\",Bredjing!B335,\"\"))))","v":0},{"$f":"IF($B$10=\"Farchana\",Farchana!C316,IF($B$10=\"Gaga\",Gaga!C335,IF($B$10=\"Treguine\",Treguine!C335,IF($B$10=\"Bredjing\",Bredjing!C335,\"\"))))","v":0},null,null,{"$f":"IF($B$10=\"Farchana\",Farchana!G316,IF($B$10=\"Gaga\",Gaga!I335,IF($B$10=\"Treguine\",Treguine!G335,IF($B$10=\"Bredjing\",Bredjing!G335,\"\"))))","v":""}]
[{"$f":"IF($B$10=\"Farchana\",Farchana!A317,IF($B$10=\"Gaga\",Gaga!A336,IF($B$10=\"Treguine\",Treguine!A336,IF($B$10=\"Bredjing\",Bredjing!A336,\"\"))))","v":0},{"$f":"IF($B$10=\"Farchana\",Farchana!B317,IF($B$10=\"Gaga\",Gaga!B336,IF($B$10=\"Treguine\",Treguine!B336,IF($B$10=\"Bredjing\",Bredjing!B336,\"\"))))","v":0},{"$f":"IF($B$10=\"Farchana\",Farchana!C317,IF($B$10=\"Gaga\",Gaga!C336,IF($B$10=\"Treguine\",Treguine!C336,IF($B$10=\"Bredjing\",Bredjing!C336,\"\"))))","v":0},null,null,{"$f":"IF($B$10=\"Farchana\",Farchana!G317,IF($B$10=\"Gaga\",Gaga!I336,IF($B$10=\"Treguine\",Treguine!G336,IF($B$10=\"Bredjing\",Bredjing!G336,\"\"))))","v":""}]
[{"$f":"IF($B$10=\"Farchana\",Farchana!A318,IF($B$10=\"Gaga\",Gaga!A337,IF($B$10=\"Treguine\",Treguine!A337,IF($B$10=\"Bredjing\",Bredjing!A337,\"\"))))","v":0},{"$f":"IF($B$10=\"Farchana\",Farchana!B318,IF($B$10=\"Gaga\",Gaga!B337,IF($B$10=\"Treguine\",Treguine!B337,IF($B$10=\"Bredjing\",Bredjing!B337,\"\"))))","v":0},{"$f":"IF($B$10=\"Farchana\",Farchana!C318,IF($B$10=\"Gaga\",Gaga!C337,IF($B$10=\"Treguine\",Treguine!C337,IF($B$10=\"Bredjing\",Bredjing!C337,\"\"))))","v":0},null,null,{"$f":"IF($B$10=\"Farchana\",Farchana!G318,IF($B$10=\"Gaga\",Gaga!I337,IF($B$10=\"Treguine\",Treguine!G337,IF($B$10=\"Bredjing\",Bredjing!G337,\"\"))))","v":""}]
[{"$f":"IF($B$10=\"Farchana\",Farchana!A319,IF($B$10=\"Gaga\",Gaga!A338,IF($B$10=\"Treguine\",Treguine!A338,IF($B$10=\"Bredjing\",Bredjing!A338,\"\"))))","v":0},{"$f":"IF($B$10=\"Farchana\",Farchana!B319,IF($B$10=\"Gaga\",Gaga!B338,IF($B$10=\"Treguine\",Treguine!B338,IF($B$10=\"Bredjing\",Bredjing!B338,\"\"))))","v":0},{"$f":"IF($B$10=\"Farchana\",Farchana!C319,IF($B$10=\"Gaga\",Gaga!C338,IF($B$10=\"Treguine\",Treguine!C338,IF($B$10=\"Bredjing\",Bredjing!C338,\"\"))))","v":0},null,null,{"$f":"IF($B$10=\"Farchana\",Farchana!G319,IF($B$10=\"Gaga\",Gaga!I338,IF($B$10=\"Treguine\",Treguine!G338,IF($B$10=\"Bredjing\",Bredjing!G338,\"\"))))","v":""}]
[{"$f":"IF($B$10=\"Farchana\",Farchana!A320,IF($B$10=\"Gaga\",Gaga!A339,IF($B$10=\"Treguine\",Treguine!A339,IF($B$10=\"Bredjing\",Bredjing!A339,\"\"))))","v":0},{"$f":"IF($B$10=\"Farchana\",Farchana!B320,IF($B$10=\"Gaga\",Gaga!B339,IF($B$10=\"Treguine\",Treguine!B339,IF($B$10=\"Bredjing\",Bredjing!B339,\"\"))))","v":0},{"$f":"IF($B$10=\"Farchana\",Farchana!C320,IF($B$10=\"Gaga\",Gaga!C339,IF($B$10=\"Treguine\",Treguine!C339,IF($B$10=\"Bredjing\",Bredjing!C339,\"\"))))","v":0},null,null,{"$f":"IF($B$10=\"Farchana\",Farchana!G320,IF($B$10=\"Gaga\",Gaga!I339,IF($B$10=\"Treguine\",Treguine!G339,IF($B$10=\"Bredjing\",Bredjing!G339,\"\"))))","v":""}]
[{"$f":"IF($B$10=\"Farchana\",Farchana!A321,IF($B$10=\"Gaga\",Gaga!A340,IF($B$10=\"Treguine\",Treguine!A340,IF($B$10=\"Bredjing\",Bredjing!A340,\"\"))))","v":0},{"$f":"IF($B$10=\"Farchana\",Farchana!B321,IF($B$10=\"Gaga\",Gaga!B340,IF($B$10=\"Treguine\",Treguine!B340,IF($B$10=\"Bredjing\",Bredjing!B340,\"\"))))","v":0},{"$f":"IF($B$10=\"Farchana\",Farchana!C321,IF($B$10=\"Gaga\",Gaga!C340,IF($B$10=\"Treguine\",Treguine!C340,IF($B$10=\"Bredjing\",Bredjing!C340,\"\"))))","v":0},null,null,{"$f":"IF($B$10=\"Farchana\",Farchana!G321,IF($B$10=\"Gaga\",Gaga!I340,IF($B$10=\"Treguine\",Treguine!G340,IF($B$10=\"Bredjing\",Bredjing!G340,\"\"))))","v":""}]
[{"$f":"IF($B$10=\"Farchana\",Farchana!A322,IF($B$10=\"Gaga\",Gaga!A341,IF($B$10=\"Treguine\",Treguine!A341,IF($B$10=\"Bredjing\",Bredjing!A341,\"\"))))","v":0},{"$f":"IF($B$10=\"Farchana\",Farchana!B322,IF($B$10=\"Gaga\",Gaga!B341,IF($B$10=\"Treguine\",Treguine!B341,IF($B$10=\"Bredjing\",Bredjing!B341,\"\"))))","v":0},{"$f":"IF($B$10=\"Farchana\",Farchana!C322,IF($B$10=\"Gaga\",Gaga!C341,IF($B$10=\"Treguine\",Treguine!C341,IF($B$10=\"Bredjing\",Bredjing!C341,\"\"))))","v":0},null,null,{"$f":"IF($B$10=\"Farchana\",Farchana!G322,IF($B$10=\"Gaga\",Gaga!I341,IF($B$10=\"Treguine\",Treguine!G341,IF($B$10=\"Bredjing\",Bredjing!G341,\"\"))))","v":""}]
[{"$f":"IF($B$10=\"Farchana\",Farchana!A323,IF($B$10=\"Gaga\",Gaga!A342,IF($B$10=\"Treguine\",Treguine!A342,IF($B$10=\"Bredjing\",Bredjing!A342,\"\"))))","v":0},{"$f":"IF($B$10=\"Farchana\",Farchana!B323,IF($B$10=\"Gaga\",Gaga!B342,IF($B$10=\"Treguine\",Treguine!B342,IF($B$10=\"Bredjing\",Bredjing!B342,\"\"))))","v":0},{"$f":"IF($B$10=\"Farchana\",Farchana!C323,IF($B$10=\"Gaga\",Gaga!C342,IF($B$10=\"Treguine\",Treguine!C342,IF($B$10=\"Bredjing\",Bredjing!C342,\"\"))))","v":0},null,null,{"$f":"IF($B$10=\"Farchana\",Farchana!G323,IF($B$10=\"Gaga\",Gaga!I342,IF($B$10=\"Treguine\",Treguine!G342,IF($B$10=\"Bredjing\",Bredjing!G342,\"\"))))","v":""}]
[{"$f":"IF($B$10=\"Farchana\",Farchana!A324,IF($B$10=\"Gaga\",Gaga!A343,IF($B$10=\"Treguine\",Treguine!A343,IF($B$10=\"Bredjing\",Bredjing!A343,\"\"))))","v":0},{"$f":"IF($B$10=\"Farchana\",Farchana!B324,IF($B$10=\"Gaga\",Gaga!B343,IF($B$10=\"Treguine\",Treguine!B343,IF($B$10=\"Bredjing\",Bredjing!B343,\"\"))))","v":0},{"$f":"IF($B$10=\"Farchana\",Farchana!C324,IF($B$10=\"Gaga\",Gaga!C343,IF($B$10=\"Treguine\",Treguine!C343,IF($B$10=\"Bredjing\",Bredjing!C343,\"\"))))","v":0},null,null,{"$f":"IF($B$10=\"Farchana\",Farchana!G324,IF($B$10=\"Gaga\",Gaga!I343,IF($B$10=\"Treguine\",Treguine!G343,IF($B$10=\"Bredjing\",Bredjing!G343,\"\"))))","v":""}]
[{"$f":"IF($B$10=\"Farchana\",Farchana!A325,IF($B$10=\"Gaga\",Gaga!A344,IF($B$10=\"Treguine\",Treguine!A344,IF($B$10=\"Bredjing\",Bredjing!A344,\"\"))))","v":0},{"$f":"IF($B$10=\"Farchana\",Farchana!B325,IF($B$10=\"Gaga\",Gaga!B344,IF($B$10=\"Treguine\",Treguine!B344,IF($B$10=\"Bredjing\",Bredjing!B344,\"\"))))","v":0},{"$f":"IF($B$10=\"Farchana\",Farchana!C325,IF($B$10=\"Gaga\",Gaga!C344,IF($B$10=\"Treguine\",Treguine!C344,IF($B$10=\"Bredjing\",Bredjing!C344,\"\"))))","v":0},null,null,{"$f":"IF($B$10=\"Farchana\",Farchana!G325,IF($B$10=\"Gaga\",Gaga!I344,IF($B$10=\"Treguine\",Treguine!G344,IF($B$10=\"Bredjing\",Bredjing!G344,\"\"))))","v":""}]
[{"$f":"IF($B$10=\"Farchana\",Farchana!A326,IF($B$10=\"Gaga\",Gaga!A345,IF($B$10=\"Treguine\",Treguine!A345,IF($B$10=\"Bredjing\",Bredjing!A345,\"\"))))","v":0},{"$f":"IF($B$10=\"Farchana\",Farchana!B326,IF($B$10=\"Gaga\",Gaga!B345,IF($B$10=\"Treguine\",Treguine!B345,IF($B$10=\"Bredjing\",Bredjing!B345,\"\"))))","v":0},{"$f":"IF($B$10=\"Farchana\",Farchana!C326,IF($B$10=\"Gaga\",Gaga!C345,IF($B$10=\"Treguine\",Treguine!C345,IF($B$10=\"Bredjing\",Bredjing!C345,\"\"))))","v":0},null,null,{"$f":"IF($B$10=\"Farchana\",Farchana!G326,IF($B$10=\"Gaga\",Gaga!I345,IF($B$10=\"Treguine\",Treguine!G345,IF($B$10=\"Bredjing\",Bredjing!G345,\"\"))))","v":""}]
[{"$f":"IF($B$10=\"Farchana\",Farchana!A327,IF($B$10=\"Gaga\",Gaga!A346,IF($B$10=\"Treguine\",Treguine!A346,IF($B$10=\"Bredjing\",Bredjing!A346,\"\"))))","v":0},{"$f":"IF($B$10=\"Farchana\",Farchana!B327,IF($B$10=\"Gaga\",Gaga!B346,IF($B$10=\"Treguine\",Treguine!B346,IF($B$10=\"Bredjing\",Bredjing!B346,\"\"))))","v":0},{"$f":"IF($B$10=\"Farchana\",Farchana!C327,IF($B$10=\"Gaga\",Gaga!C346,IF($B$10=\"Treguine\",Treguine!C346,IF($B$10=\"Bredjing\",Bredjing!C346,\"\"))))","v":0},null,null,{"$f":"IF($B$10=\"Farchana\",Farchana!G327,IF($B$10=\"Gaga\",Gaga!I346,IF($B$10=\"Treguine\",Treguine!G346,IF($B$10=\"Bredjing\",Bredjing!G346,\"\"))))","v":""}]
[{"$f":"IF($B$10=\"Farchana\",Farchana!A328,IF($B$10=\"Gaga\",Gaga!A347,IF($B$10=\"Treguine\",Treguine!A347,IF($B$10=\"Bredjing\",Bredjing!A347,\"\"))))","v":0},{"$f":"IF($B$10=\"Farchana\",Farchana!B328,IF($B$10=\"Gaga\",Gaga!B347,IF($B$10=\"Treguine\",Treguine!B347,IF($B$10=\"Bredjing\",Bredjing!B347,\"\"))))","v":0},{"$f":"IF($B$10=\"Farchana\",Farchana!C328,IF($B$10=\"Gaga\",Gaga!C347,IF($B$10=\"Treguine\",Treguine!C347,IF($B$10=\"Bredjing\",Bredjing!C347,\"\"))))","v":0},null,null,{"$f":"IF($B$10=\"Farchana\",Farchana!G328,IF($B$10=\"Gaga\",Gaga!I347,IF($B$10=\"Treguine\",Treguine!G347,IF($B$10=\"Bredjing\",Bredjing!G347,\"\"))))","v":""}]
[{"$f":"IF($B$10=\"Farchana\",Farchana!A329,IF($B$10=\"Gaga\",Gaga!A348,IF($B$10=\"Treguine\",Treguine!A348,IF($B$10=\"Bredjing\",Bredjing!A348,\"\"))))","v":0},{"$f":"IF($B$10=\"Farchana\",Farchana!B329,IF($B$10=\"Gaga\",Gaga!B348,IF($B$10=\"Treguine\",Treguine!B348,IF($B$10=\"Bredjing\",Bredjing!B348,\"\"))))","v":0},{"$f":"IF($B$10=\"Farchana\",Farchana!C329,IF($B$10=\"Gaga\",Gaga!C348,IF($B$10=\"Treguine\",Treguine!C348,IF($B$10=\"Bredjing\",Bredjing!C348,\"\"))))","v":0},null,null,{"$f":"IF($B$10=\"Farchana\",Farchana!G329,IF($B$10=\"Gaga\",Gaga!I348,IF($B$10=\"Treguine\",Treguine!G348,IF($B$10=\"Bredjing\",Bredjing!G348,\"\"))))","v":""}]
[{"$f":"IF($B$10=\"Farchana\",Farchana!A330,IF($B$10=\"Gaga\",Gaga!A349,IF($B$10=\"Treguine\",Treguine!A349,IF($B$10=\"Bredjing\",Bredjing!A349,\"\"))))","v":0},{"$f":"IF($B$10=\"Farchana\",Farchana!B330,IF($B$10=\"Gaga\",Gaga!B349,IF($B$10=\"Treguine\",Treguine!B349,IF($B$10=\"Bredjing\",Bredjing!B349,\"\"))))","v":0},{"$f":"IF($B$10=\"Farchana\",Farchana!C330,IF($B$10=\"Gaga\",Gaga!C349,IF($B$10=\"Treguine\",Treguine!C349,IF($B$10=\"Bredjing\",Bredjing!C349,\"\"))))","v":0},null,null,{"$f":"IF($B$10=\"Farchana\",Farchana!G330,IF($B$10=\"Gaga\",Gaga!I349,IF($B$10=\"Treguine\",Treguine!G349,IF($B$10=\"Bredjing\",Bredjing!G349,\"\"))))","v":""}]
[{"$f":"IF($B$10=\"Farchana\",Farchana!A331,IF($B$10=\"Gaga\",Gaga!A350,IF($B$10=\"Treguine\",Treguine!A350,IF($B$10=\"Bredjing\",Bredjing!A350,\"\"))))","v":0},{"$f":"IF($B$10=\"Farchana\",Farchana!B331,IF($B$10=\"Gaga\",Gaga!B350,IF($B$10=\"Treguine\",Treguine!B350,IF($B$10=\"Bredjing\",Bredjing!B350,\"\"))))","v":0},{"$f":"IF($B$10=\"Farchana\",Farchana!C331,IF($B$10=\"Gaga\",Gaga!C350,IF($B$10=\"Treguine\",Treguine!C350,IF($B$10=\"Bredjing\",Bredjing!C350,\"\"))))","v":0},null,null,{"$f":"IF($B$10=\"Farchana\",Farchana!G331,IF($B$10=\"Gaga\",Gaga!I350,IF($B$10=\"Treguine\",Treguine!G350,IF($B$10=\"Bredjing\",Bredjing!G350,\"\"))))","v":""}]
[{"$f":"IF($B$10=\"Farchana\",Farchana!A332,IF($B$10=\"Gaga\",Gaga!A351,IF($B$10=\"Treguine\",Treguine!A351,IF($B$10=\"Bredjing\",Bredjing!A351,\"\"))))","v":0},{"$f":"IF($B$10=\"Farchana\",Farchana!B332,IF($B$10=\"Gaga\",Gaga!B351,IF($B$10=\"Treguine\",Treguine!B351,IF($B$10=\"Bredjing\",Bredjing!B351,\"\"))))","v":0},{"$f":"IF($B$10=\"Farchana\",Farchana!C332,IF($B$10=\"Gaga\",Gaga!C351,IF($B$10=\"Treguine\",Treguine!C351,IF($B$10=\"Bredjing\",Bredjing!C351,\"\"))))","v":0},null,null,{"$f":"IF($B$10=\"Farchana\",Farchana!G332,IF($B$10=\"Gaga\",Gaga!I351,IF($B$10=\"Treguine\",Treguine!G351,IF($B$10=\"Bredjing\",Bredjing!G351,\"\"))))","v":""}]
[{"$f":"IF($B$10=\"Farchana\",Farchana!A333,IF($B$10=\"Gaga\",Gaga!A352,IF($B$10=\"Treguine\",Treguine!A352,IF($B$10=\"Bredjing\",Bredjing!A352,\"\"))))","v":0},{"$f":"IF($B$10=\"Farchana\",Farchana!B333,IF($B$10=\"Gaga\",Gaga!B352,IF($B$10=\"Treguine\",Treguine!B352,IF($B$10=\"Bredjing\",Bredjing!B352,\"\"))))","v":0},{"$f":"IF($B$10=\"Farchana\",Farchana!C333,IF($B$10=\"Gaga\",Gaga!C352,IF($B$10=\"Treguine\",Treguine!C352,IF($B$10=\"Bredjing\",Bredjing!C352,\"\"))))","v":0},null,null,{"$f":"IF($B$10=\"Farchana\",Farchana!G333,IF($B$10=\"Gaga\",Gaga!I352,IF($B$10=\"Treguine\",Treguine!G352,IF($B$10=\"Bredjing\",Bredjing!G352,\"\"))))","v":""}]
[{"$f":"IF($B$10=\"Farchana\",Farchana!A334,IF($B$10=\"Gaga\",Gaga!A353,IF($B$10=\"Treguine\",Treguine!A353,IF($B$10=\"Bredjing\",Bredjing!A353,\"\"))))","v":0},{"$f":"IF($B$10=\"Farchana\",Farchana!B334,IF($B$10=\"Gaga\",Gaga!B353,IF($B$10=\"Treguine\",Treguine!B353,IF($B$10=\"Bredjing\",Bredjing!B353,\"\"))))","v":0},{"$f":"IF($B$10=\"Farchana\",Farchana!C334,IF($B$10=\"Gaga\",Gaga!C353,IF($B$10=\"Treguine\",Treguine!C353,IF($B$10=\"Bredjing\",Bredjing!C353,\"\"))))","v":0},null,null,{"$f":"IF($B$10=\"Farchana\",Farchana!G334,IF($B$10=\"Gaga\",Gaga!I353,IF($B$10=\"Treguine\",Treguine!G353,IF($B$10=\"Bredjing\",Bredjing!G353,\"\"))))","v":""}]
[{"$f":"IF($B$10=\"Farchana\",Farchana!A335,IF($B$10=\"Gaga\",Gaga!A354,IF($B$10=\"Treguine\",Treguine!A354,IF($B$10=\"Bredjing\",Bredjing!A354,\"\"))))","v":0},{"$f":"IF($B$10=\"Farchana\",Farchana!B335,IF($B$10=\"Gaga\",Gaga!B354,IF($B$10=\"Treguine\",Treguine!B354,IF($B$10=\"Bredjing\",Bredjing!B354,\"\"))))","v":0},{"$f":"IF($B$10=\"Farchana\",Farchana!C335,IF($B$10=\"Gaga\",Gaga!C354,IF($B$10=\"Treguine\",Treguine!C354,IF($B$10=\"Bredjing\",Bredjing!C354,\"\"))))","v":0},null,null,{"$f":"IF($B$10=\"Farchana\",Farchana!G335,IF($B$10=\"Gaga\",Gaga!I354,IF($B$10=\"Treguine\",Treguine!G354,IF($B$10=\"Bredjing\",Bredjing!G354,\"\"))))","v":""}]
[{"$f":"IF($B$10=\"Farchana\",Farchana!A336,IF($B$10=\"Gaga\",Gaga!A355,IF($B$10=\"Treguine\",Treguine!A355,IF($B$10=\"Bredjing\",Bredjing!A355,\"\"))))","v":0},{"$f":"IF($B$10=\"Farchana\",Farchana!B336,IF($B$10=\"Gaga\",Gaga!B355,IF($B$10=\"Treguine\",Treguine!B355,IF($B$10=\"Bredjing\",Bredjing!B355,\"\"))))","v":0},{"$f":"IF($B$10=\"Farchana\",Farchana!C336,IF($B$10=\"Gaga\",Gaga!C355,IF($B$10=\"Treguine\",Treguine!C355,IF($B$10=\"Bredjing\",Bredjing!C355,\"\"))))","v":0},null,null,{"$f":"IF($B$10=\"Farchana\",Farchana!G336,IF($B$10=\"Gaga\",Gaga!I355,IF($B$10=\"Treguine\",Treguine!G355,IF($B$10=\"Bredjing\",Bredjing!G355,\"\"))))","v":""}]
[{"$f":"IF($B$10=\"Farchana\",Farchana!A337,IF($B$10=\"Gaga\",Gaga!A356,IF($B$10=\"Treguine\",Treguine!A356,IF($B$10=\"Bredjing\",Bredjing!A356,\"\"))))","v":0},{"$f":"IF($B$10=\"Farchana\",Farchana!B337,IF($B$10=\"Gaga\",Gaga!B356,IF($B$10=\"Treguine\",Treguine!B356,IF($B$10=\"Bredjing\",Bredjing!B356,\"\"))))","v":0},{"$f":"IF($B$10=\"Farchana\",Farchana!C337,IF($B$10=\"Gaga\",Gaga!C356,IF($B$10=\"Treguine\",Treguine!C356,IF($B$10=\"Bredjing\",Bredjing!C356,\"\"))))","v":0},null,null,{"$f":"IF($B$10=\"Farchana\",Farchana!G337,IF($B$10=\"Gaga\",Gaga!I356,IF($B$10=\"Treguine\",Treguine!G356,IF($B$10=\"Bredjing\",Bredjing!G356,\"\"))))","v":""}]
[{"$f":"IF($B$10=\"Farchana\",Farchana!A338,IF($B$10=\"Gaga\",Gaga!A357,IF($B$10=\"Treguine\",Treguine!A357,IF($B$10=\"Bredjing\",Bredjing!A357,\"\"))))","v":0},{"$f":"IF($B$10=\"Farchana\",Farchana!B338,IF($B$10=\"Gaga\",Gaga!B357,IF($B$10=\"Treguine\",Treguine!B357,IF($B$10=\"Bredjing\",Bredjing!B357,\"\"))))","v":0},{"$f":"IF($B$10=\"Farchana\",Farchana!C338,IF($B$10=\"Gaga\",Gaga!C357,IF($B$10=\"Treguine\",Treguine!C357,IF($B$10=\"Bredjing\",Bredjing!C357,\"\"))))","v":0},null,null,{"$f":"IF($B$10=\"Farchana\",Farchana!G338,IF($B$10=\"Gaga\",Gaga!I357,IF($B$10=\"Treguine\",Treguine!G357,IF($B$10=\"Bredjing\",Bredjing!G357,\"\"))))","v":""}]
[{"$f":"IF($B$10=\"Farchana\",Farchana!A339,IF($B$10=\"Gaga\",Gaga!A358,IF($B$10=\"Treguine\",Treguine!A358,IF($B$10=\"Bredjing\",Bredjing!A358,\"\"))))","v":0},{"$f":"IF($B$10=\"Farchana\",Farchana!B339,IF($B$10=\"Gaga\",Gaga!B358,IF($B$10=\"Treguine\",Treguine!B358,IF($B$10=\"Bredjing\",Bredjing!B358,\"\"))))","v":0},{"$f":"IF($B$10=\"Farchana\",Farchana!C339,IF($B$10=\"Gaga\",Gaga!C358,IF($B$10=\"Treguine\",Treguine!C358,IF($B$10=\"Bredjing\",Bredjing!C358,\"\"))))","v":0},null,null,{"$f":"IF($B$10=\"Farchana\",Farchana!G339,IF($B$10=\"Gaga\",Gaga!I358,IF($B$10=\"Treguine\",Treguine!G358,IF($B$10=\"Bredjing\",Bredjing!G358,\"\"))))","v":""}]
[{"$f":"IF($B$10=\"Farchana\",Farchana!A340,IF($B$10=\"Gaga\",Gaga!A359,IF($B$10=\"Treguine\",Treguine!A359,IF($B$10=\"Bredjing\",Bredjing!A359,\"\"))))","v":0},{"$f":"IF($B$10=\"Farchana\",Farchana!B340,IF($B$10=\"Gaga\",Gaga!B359,IF($B$10=\"Treguine\",Treguine!B359,IF($B$10=\"Bredjing\",Bredjing!B359,\"\"))))","v":0},{"$f":"IF($B$10=\"Farchana\",Farchana!C340,IF($B$10=\"Gaga\",Gaga!C359,IF($B$10=\"Treguine\",Treguine!C359,IF($B$10=\"Bredjing\",Bredjing!C359,\"\"))))","v":0},null,null,{"$f":"IF($B$10=\"Farchana\",Farchana!G340,IF($B$10=\"Gaga\",Gaga!I359,IF($B$10=\"Treguine\",Treguine!G359,IF($B$10=\"Bredjing\",Bredjing!G359,\"\"))))","v":""}]
[{"$f":"IF($B$10=\"Farchana\",Farchana!A341,IF($B$10=\"Gaga\",Gaga!A360,IF($B$10=\"Treguine\",Treguine!A360,IF($B$10=\"Bredjing\",Bredjing!A360,\"\"))))","v":0},{"$f":"IF($B$10=\"Farchana\",Farchana!B341,IF($B$10=\"Gaga\",Gaga!B360,IF($B$10=\"Treguine\",Treguine!B360,IF($B$10=\"Bredjing\",Bredjing!B360,\"\"))))","v":0},{"$f":"IF($B$10=\"Farchana\",Farchana!C341,IF($B$10=\"Gaga\",Gaga!C360,IF($B$10=\"Treguine\",Treguine!C360,IF($B$10=\"Bredjing\",Bredjing!C360,\"\"))))","v":0},null,null,{"$f":"IF($B$10=\"Farchana\",Farchana!G341,IF($B$10=\"Gaga\",Gaga!I360,IF($B$10=\"Treguine\",Treguine!G360,IF($B$10=\"Bredjing\",Bredjing!G360,\"\"))))","v":""}]
[{"$f":"IF($B$10=\"Farchana\",Farchana!A342,IF($B$10=\"Gaga\",Gaga!A361,IF($B$10=\"Treguine\",Treguine!A361,IF($B$10=\"Bredjing\",Bredjing!A361,\"\"))))","v":0},{"$f":"IF($B$10=\"Farchana\",Farchana!B342,IF($B$10=\"Gaga\",Gaga!B361,IF($B$10=\"Treguine\",Treguine!B361,IF($B$10=\"Bredjing\",Bredjing!B361,\"\"))))","v":0},{"$f":"IF($B$10=\"Farchana\",Farchana!C342,IF($B$10=\"Gaga\",Gaga!C361,IF($B$10=\"Treguine\",Treguine!C361,IF($B$10=\"Bredjing\",Bredjing!C361,\"\"))))","v":0},null,null,{"$f":"IF($B$10=\"Farchana\",Farchana!G342,IF($B$10=\"Gaga\",Gaga!I361,IF($B$10=\"Treguine\",Treguine!G361,IF($B$10=\"Bredjing\",Bredjing!G361,\"\"))))","v":""}]
[{"$f":"IF($B$10=\"Farchana\",Farchana!A343,IF($B$10=\"Gaga\",Gaga!A362,IF($B$10=\"Treguine\",Treguine!A362,IF($B$10=\"Bredjing\",Bredjing!A362,\"\"))))","v":0},{"$f":"IF($B$10=\"Farchana\",Farchana!B343,IF($B$10=\"Gaga\",Gaga!B362,IF($B$10=\"Treguine\",Treguine!B362,IF($B$10=\"Bredjing\",Bredjing!B362,\"\"))))","v":0},{"$f":"IF($B$10=\"Farchana\",Farchana!C343,IF($B$10=\"Gaga\",Gaga!C362,IF($B$10=\"Treguine\",Treguine!C362,IF($B$10=\"Bredjing\",Bredjing!C362,\"\"))))","v":0},null,null,{"$f":"IF($B$10=\"Farchana\",Farchana!G343,IF($B$10=\"Gaga\",Gaga!I362,IF($B$10=\"Treguine\",Treguine!G362,IF($B$10=\"Bredjing\",Bredjing!G362,\"\"))))","v":""}]
[{"$f":"IF($B$10=\"Farchana\",Farchana!A344,IF($B$10=\"Gaga\",Gaga!A363,IF($B$10=\"Treguine\",Treguine!A363,IF($B$10=\"Bredjing\",Bredjing!A363,\"\"))))","v":0},{"$f":"IF($B$10=\"Farchana\",Farchana!B344,IF($B$10=\"Gaga\",Gaga!B363,IF($B$10=\"Treguine\",Treguine!B363,IF($B$10=\"Bredjing\",Bredjing!B363,\"\"))))","v":0},{"$f":"IF($B$10=\"Farchana\",Farchana!C344,IF($B$10=\"Gaga\",Gaga!C363,IF($B$10=\"Treguine\",Treguine!C363,IF($B$10=\"Bredjing\",Bredjing!C363,\"\"))))","v":0},null,null,{"$f":"IF($B$10=\"Farchana\",Farchana!G344,IF($B$10=\"Gaga\",Gaga!I363,IF($B$10=\"Treguine\",Treguine!G363,IF($B$10=\"Bredjing\",Bredjing!G363,\"\"))))","v":""}]
[{"$f":"IF($B$10=\"Farchana\",Farchana!A345,IF($B$10=\"Gaga\",Gaga!A364,IF($B$10=\"Treguine\",Treguine!A364,IF($B$10=\"Bredjing\",Bredjing!A364,\"\"))))","v":0},{"$f":"IF($B$10=\"Farchana\",Farchana!B345,IF($B$10=\"Gaga\",Gaga!B364,IF($B$10=\"Treguine\",Treguine!B364,IF($B$10=\"Bredjing\",Bredjing!B364,\"\"))))","v":0},{"$f":"IF($B$10=\"Farchana\",Farchana!C345,IF($B$10=\"Gaga\",Gaga!C364,IF($B$10=\"Treguine\",Treguine!C364,IF($B$10=\"Bredjing\",Bredjing!C364,\"\"))))","v":0},null,null,{"$f":"IF($B$10=\"Farchana\",Farchana!G345,IF($B$10=\"Gaga\",Gaga!I364,IF($B$10=\"Treguine\",Treguine!G364,IF($B$10=\"Bredjing\",Bredjing!G364,\"\"))))","v":""}]
[{"$f":"IF($B$10=\"Farchana\",Farchana!A346,IF($B$10=\"Gaga\",Gaga!A365,IF($B$10=\"Treguine\",Treguine!A365,IF($B$10=\"Bredjing\",Bredjing!A365,\"\"))))","v":0},{"$f":"IF($B$10=\"Farchana\",Farchana!B346,IF($B$10=\"Gaga\",Gaga!B365,IF($B$10=\"Treguine\",Treguine!B365,IF($B$10=\"Bredjing\",Bredjing!B365,\"\"))))","v":0},{"$f":"IF($B$10=\"Farchana\",Farchana!C346,IF($B$10=\"Gaga\",Gaga!C365,IF($B$10=\"Treguine\",Treguine!C365,IF($B$10=\"Bredjing\",Bredjing!C365,\"\"))))","v":0},null,null,{"$f":"IF($B$10=\"Farchana\",Farchana!G346,IF($B$10=\"Gaga\",Gaga!I365,IF($B$10=\"Treguine\",Treguine!G365,IF($B$10=\"Bredjing\",Bredjing!G365,\"\"))))","v":""}]
[{"$f":"IF($B$10=\"Farchana\",Farchana!A347,IF($B$10=\"Gaga\",Gaga!A366,IF($B$10=\"Treguine\",Treguine!A366,IF($B$10=\"Bredjing\",Bredjing!A366,\"\"))))","v":0},{"$f":"IF($B$10=\"Farchana\",Farchana!B347,IF($B$10=\"Gaga\",Gaga!B366,IF($B$10=\"Treguine\",Treguine!B366,IF($B$10=\"Bredjing\",Bredjing!B366,\"\"))))","v":0},{"$f":"IF($B$10=\"Farchana\",Farchana!C347,IF($B$10=\"Gaga\",Gaga!C366,IF($B$10=\"Treguine\",Treguine!C366,IF($B$10=\"Bredjing\",Bredjing!C366,\"\"))))","v":0},null,null,{"$f":"IF($B$10=\"Farchana\",Farchana!G347,IF($B$10=\"Gaga\",Gaga!I366,IF($B$10=\"Treguine\",Treguine!G366,IF($B$10=\"Bredjing\",Bredjing!G366,\"\"))))","v":""}]
[{"$f":"IF($B$10=\"Farchana\",Farchana!A348,IF($B$10=\"Gaga\",Gaga!A367,IF($B$10=\"Treguine\",Treguine!A367,IF($B$10=\"Bredjing\",Bredjing!A367,\"\"))))","v":0},{"$f":"IF($B$10=\"Farchana\",Farchana!B348,IF($B$10=\"Gaga\",Gaga!B367,IF($B$10=\"Treguine\",Treguine!B367,IF($B$10=\"Bredjing\",Bredjing!B367,\"\"))))","v":0},{"$f":"IF($B$10=\"Farchana\",Farchana!C348,IF($B$10=\"Gaga\",Gaga!C367,IF($B$10=\"Treguine\",Treguine!C367,IF($B$10=\"Bredjing\",Bredjing!C367,\"\"))))","v":0},null,null,{"$f":"IF($B$10=\"Farchana\",Farchana!G348,IF($B$10=\"Gaga\",Gaga!I367,IF($B$10=\"Treguine\",Treguine!G367,IF($B$10=\"Bredjing\",Bredjing!G367,\"\"))))","v":""}]
[{"$f":"IF($B$10=\"Farchana\",Farchana!A349,IF($B$10=\"Gaga\",Gaga!A368,IF($B$10=\"Treguine\",Treguine!A368,IF($B$10=\"Bredjing\",Bredjing!A368,\"\"))))","v":0},{"$f":"IF($B$10=\"Farchana\",Farchana!B349,IF($B$10=\"Gaga\",Gaga!B368,IF($B$10=\"Treguine\",Treguine!B368,IF($B$10=\"Bredjing\",Bredjing!B368,\"\"))))","v":0},{"$f":"IF($B$10=\"Farchana\",Farchana!C349,IF($B$10=\"Gaga\",Gaga!C368,IF($B$10=\"Treguine\",Treguine!C368,IF($B$10=\"Bredjing\",Bredjing!C368,\"\"))))","v":0},null,null,{"$f":"IF($B$10=\"Farchana\",Farchana!G349,IF($B$10=\"Gaga\",Gaga!I368,IF($B$10=\"Treguine\",Treguine!G368,IF($B$10=\"Bredjing\",Bredjing!G368,\"\"))))","v":""}]
[{"$f":"IF($B$10=\"Farchana\",Farchana!A350,IF($B$10=\"Gaga\",Gaga!A369,IF($B$10=\"Treguine\",Treguine!A369,IF($B$10=\"Bredjing\",Bredjing!A369,\"\"))))","v":0},{"$f":"IF($B$10=\"Farchana\",Farchana!B350,IF($B$10=\"Gaga\",Gaga!B369,IF($B$10=\"Treguine\",Treguine!B369,IF($B$10=\"Bredjing\",Bredjing!B369,\"\"))))","v":0},{"$f":"IF($B$10=\"Farchana\",Farchana!C350,IF($B$10=\"Gaga\",Gaga!C369,IF($B$10=\"Treguine\",Treguine!C369,IF($B$10=\"Bredjing\",Bredjing!C369,\"\"))))","v":0},null,null,{"$f":"IF($B$10=\"Farchana\",Farchana!G350,IF($B$10=\"Gaga\",Gaga!I369,IF($B$10=\"Treguine\",Treguine!G369,IF($B$10=\"Bredjing\",Bredjing!G369,\"\"))))","v":""}]
[{"$f":"IF($B$10=\"Farchana\",Farchana!A351,IF($B$10=\"Gaga\",Gaga!A370,IF($B$10=\"Treguine\",Treguine!A370,IF($B$10=\"Bredjing\",Bredjing!A370,\"\"))))","v":0},{"$f":"IF($B$10=\"Farchana\",Farchana!B351,IF($B$10=\"Gaga\",Gaga!B370,IF($B$10=\"Treguine\",Treguine!B370,IF($B$10=\"Bredjing\",Bredjing!B370,\"\"))))","v":0},{"$f":"IF($B$10=\"Farchana\",Farchana!C351,IF($B$10=\"Gaga\",Gaga!C370,IF($B$10=\"Treguine\",Treguine!C370,IF($B$10=\"Bredjing\",Bredjing!C370,\"\"))))","v":0},null,null,{"$f":"IF($B$10=\"Farchana\",Farchana!G351,IF($B$10=\"Gaga\",Gaga!I370,IF($B$10=\"Treguine\",Treguine!G370,IF($B$10=\"Bredjing\",Bredjing!G370,\"\"))))","v":""}]
[{"$f":"IF($B$10=\"Farchana\",Farchana!A352,IF($B$10=\"Gaga\",Gaga!A371,IF($B$10=\"Treguine\",Treguine!A371,IF($B$10=\"Bredjing\",Bredjing!A371,\"\"))))","v":0},{"$f":"IF($B$10=\"Farchana\",Farchana!B352,IF($B$10=\"Gaga\",Gaga!B371,IF($B$10=\"Treguine\",Treguine!B371,IF($B$10=\"Bredjing\",Bredjing!B371,\"\"))))","v":0},{"$f":"IF($B$10=\"Farchana\",Farchana!C352,IF($B$10=\"Gaga\",Gaga!C371,IF($B$10=\"Treguine\",Treguine!C371,IF($B$10=\"Bredjing\",Bredjing!C371,\"\"))))","v":0},null,null,{"$f":"IF($B$10=\"Farchana\",Farchana!G352,IF($B$10=\"Gaga\",Gaga!I371,IF($B$10=\"Treguine\",Treguine!G371,IF($B$10=\"Bredjing\",Bredjing!G371,\"\"))))","v":""}]
[{"$f":"IF($B$10=\"Farchana\",Farchana!A353,IF($B$10=\"Gaga\",Gaga!A372,IF($B$10=\"Treguine\",Treguine!A372,IF($B$10=\"Bredjing\",Bredjing!A372,\"\"))))","v":0},{"$f":"IF($B$10=\"Farchana\",Farchana!B353,IF($B$10=\"Gaga\",Gaga!B372,IF($B$10=\"Treguine\",Treguine!B372,IF($B$10=\"Bredjing\",Bredjing!B372,\"\"))))","v":0},{"$f":"IF($B$10=\"Farchana\",Farchana!C353,IF($B$10=\"Gaga\",Gaga!C372,IF($B$10=\"Treguine\",Treguine!C372,IF($B$10=\"Bredjing\",Bredjing!C372,\"\"))))","v":0},null,null,{"$f":"IF($B$10=\"Farchana\",Farchana!G353,IF($B$10=\"Gaga\",Gaga!I372,IF($B$10=\"Treguine\",Treguine!G372,IF($B$10=\"Bredjing\",Bredjing!G372,\"\"))))","v":""}]
[{"$f":"IF($B$10=\"Farchana\",Farchana!A354,IF($B$10=\"Gaga\",Gaga!A373,IF($B$10=\"Treguine\",Treguine!A373,IF($B$10=\"Bredjing\",Bredjing!A373,\"\"))))","v":0},{"$f":"IF($B$10=\"Farchana\",Farchana!B354,IF($B$10=\"Gaga\",Gaga!B373,IF($B$10=\"Treguine\",Treguine!B373,IF($B$10=\"Bredjing\",Bredjing!B373,\"\"))))","v":0},{"$f":"IF($B$10=\"Farchana\",Farchana!C354,IF($B$10=\"Gaga\",Gaga!C373,IF($B$10=\"Treguine\",Treguine!C373,IF($B$10=\"Bredjing\",Bredjing!C373,\"\"))))","v":0},null,null,{"$f":"IF($B$10=\"Farchana\",Farchana!G354,IF($B$10=\"Gaga\",Gaga!I373,IF($B$10=\"Treguine\",Treguine!G373,IF($B$10=\"Bredjing\",Bredjing!G373,\"\"))))","v":""}]
[{"$f":"IF($B$10=\"Farchana\",Farchana!A355,IF($B$10=\"Gaga\",Gaga!A374,IF($B$10=\"Treguine\",Treguine!A374,IF($B$10=\"Bredjing\",Bredjing!A374,\"\"))))","v":0},{"$f":"IF($B$10=\"Farchana\",Farchana!B355,IF($B$10=\"Gaga\",Gaga!B374,IF($B$10=\"Treguine\",Treguine!B374,IF($B$10=\"Bredjing\",Bredjing!B374,\"\"))))","v":0},{"$f":"IF($B$10=\"Farchana\",Farchana!C355,IF($B$10=\"Gaga\",Gaga!C374,IF($B$10=\"Treguine\",Treguine!C374,IF($B$10=\"Bredjing\",Bredjing!C374,\"\"))))","v":0},null,null,{"$f":"IF($B$10=\"Farchana\",Farchana!G355,IF($B$10=\"Gaga\",Gaga!I374,IF($B$10=\"Treguine\",Treguine!G374,IF($B$10=\"Bredjing\",Bredjing!G374,\"\"))))","v":""}]
[{"$f":"IF($B$10=\"Farchana\",Farchana!A356,IF($B$10=\"Gaga\",Gaga!A375,IF($B$10=\"Treguine\",Treguine!A375,IF($B$10=\"Bredjing\",Bredjing!A375,\"\"))))","v":0},{"$f":"IF($B$10=\"Farchana\",Farchana!B356,IF($B$10=\"Gaga\",Gaga!B375,IF($B$10=\"Treguine\",Treguine!B375,IF($B$10=\"Bredjing\",Bredjing!B375,\"\"))))","v":0},{"$f":"IF($B$10=\"Farchana\",Farchana!C356,IF($B$10=\"Gaga\",Gaga!C375,IF($B$10=\"Treguine\",Treguine!C375,IF($B$10=\"Bredjing\",Bredjing!C375,\"\"))))","v":0},null,null,{"$f":"IF($B$10=\"Farchana\",Farchana!G356,IF($B$10=\"Gaga\",Gaga!I375,IF($B$10=\"Treguine\",Treguine!G375,IF($B$10=\"Bredjing\",Bredjing!G375,\"\"))))","v":""}]
[{"$f":"IF($B$10=\"Farchana\",Farchana!A357,IF($B$10=\"Gaga\",Gaga!A376,IF($B$10=\"Treguine\",Treguine!A376,IF($B$10=\"Bredjing\",Bredjing!A376,\"\"))))","v":0},{"$f":"IF($B$10=\"Farchana\",Farchana!B357,IF($B$10=\"Gaga\",Gaga!B376,IF($B$10=\"Treguine\",Treguine!B376,IF($B$10=\"Bredjing\",Bredjing!B376,\"\"))))","v":0},{"$f":"IF($B$10=\"Farchana\",Farchana!C357,IF($B$10=\"Gaga\",Gaga!C376,IF($B$10=\"Treguine\",Treguine!C376,IF($B$10=\"Bredjing\",Bredjing!C376,\"\"))))","v":0},null,null,{"$f":"IF($B$10=\"Farchana\",Farchana!G357,IF($B$10=\"Gaga\",Gaga!I376,IF($B$10=\"Treguine\",Treguine!G376,IF($B$10=\"Bredjing\",Bredjing!G376,\"\"))))","v":""}]
[{"$f":"IF($B$10=\"Farchana\",Farchana!A358,IF($B$10=\"Gaga\",Gaga!A377,IF($B$10=\"Treguine\",Treguine!A377,IF($B$10=\"Bredjing\",Bredjing!A377,\"\"))))","v":0},{"$f":"IF($B$10=\"Farchana\",Farchana!B358,IF($B$10=\"Gaga\",Gaga!B377,IF($B$10=\"Treguine\",Treguine!B377,IF($B$10=\"Bredjing\",Bredjing!B377,\"\"))))","v":0},{"$f":"IF($B$10=\"Farchana\",Farchana!C358,IF($B$10=\"Gaga\",Gaga!C377,IF($B$10=\"Treguine\",Treguine!C377,IF($B$10=\"Bredjing\",Bredjing!C377,\"\"))))","v":0},null,null,{"$f":"IF($B$10=\"Farchana\",Farchana!G358,IF($B$10=\"Gaga\",Gaga!I377,IF($B$10=\"Treguine\",Treguine!G377,IF($B$10=\"Bredjing\",Bredjing!G377,\"\"))))","v":""}]
[{"$f":"IF($B$10=\"Farchana\",Farchana!A359,IF($B$10=\"Gaga\",Gaga!A378,IF($B$10=\"Treguine\",Treguine!A378,IF($B$10=\"Bredjing\",Bredjing!A378,\"\"))))","v":0},{"$f":"IF($B$10=\"Farchana\",Farchana!B359,IF($B$10=\"Gaga\",Gaga!B378,IF($B$10=\"Treguine\",Treguine!B378,IF($B$10=\"Bredjing\",Bredjing!B378,\"\"))))","v":0},{"$f":"IF($B$10=\"Farchana\",Farchana!C359,IF($B$10=\"Gaga\",Gaga!C378,IF($B$10=\"Treguine\",Treguine!C378,IF($B$10=\"Bredjing\",Bredjing!C378,\"\"))))","v":0},null,null,{"$f":"IF($B$10=\"Farchana\",Farchana!G359,IF($B$10=\"Gaga\",Gaga!I378,IF($B$10=\"Treguine\",Treguine!G378,IF($B$10=\"Bredjing\",Bredjing!G378,\"\"))))","v":""}]
[{"$f":"IF($B$10=\"Farchana\",Farchana!A360,IF($B$10=\"Gaga\",Gaga!A379,IF($B$10=\"Treguine\",Treguine!A379,IF($B$10=\"Bredjing\",Bredjing!A379,\"\"))))","v":0},{"$f":"IF($B$10=\"Farchana\",Farchana!B360,IF($B$10=\"Gaga\",Gaga!B379,IF($B$10=\"Treguine\",Treguine!B379,IF($B$10=\"Bredjing\",Bredjing!B379,\"\"))))","v":0},{"$f":"IF($B$10=\"Farchana\",Farchana!C360,IF($B$10=\"Gaga\",Gaga!C379,IF($B$10=\"Treguine\",Treguine!C379,IF($B$10=\"Bredjing\",Bredjing!C379,\"\"))))","v":0},null,null,{"$f":"IF($B$10=\"Farchana\",Farchana!G360,IF($B$10=\"Gaga\",Gaga!I379,IF($B$10=\"Treguine\",Treguine!G379,IF($B$10=\"Bredjing\",Bredjing!G379,\"\"))))","v":""}]
[{"$f":"IF($B$10=\"Farchana\",Farchana!A361,IF($B$10=\"Gaga\",Gaga!A380,IF($B$10=\"Treguine\",Treguine!A380,IF($B$10=\"Bredjing\",Bredjing!A380,\"\"))))","v":0},{"$f":"IF($B$10=\"Farchana\",Farchana!B361,IF($B$10=\"Gaga\",Gaga!B380,IF($B$10=\"Treguine\",Treguine!B380,IF($B$10=\"Bredjing\",Bredjing!B380,\"\"))))","v":0},{"$f":"IF($B$10=\"Farchana\",Farchana!C361,IF($B$10=\"Gaga\",Gaga!C380,IF($B$10=\"Treguine\",Treguine!C380,IF($B$10=\"Bredjing\",Bredjing!C380,\"\"))))","v":0},null,null,{"$f":"IF($B$10=\"Farchana\",Farchana!G361,IF($B$10=\"Gaga\",Gaga!I380,IF($B$10=\"Treguine\",Treguine!G380,IF($B$10=\"Bredjing\",Bredjing!G380,\"\"))))","v":""}]
[{"$f":"IF($B$10=\"Farchana\",Farchana!A362,IF($B$10=\"Gaga\",Gaga!A381,IF($B$10=\"Treguine\",Treguine!A381,IF($B$10=\"Bredjing\",Bredjing!A381,\"\"))))","v":0},{"$f":"IF($B$10=\"Farchana\",Farchana!B362,IF($B$10=\"Gaga\",Gaga!B381,IF($B$10=\"Treguine\",Treguine!B381,IF($B$10=\"Bredjing\",Bredjing!B381,\"\"))))","v":0},{"$f":"IF($B$10=\"Farchana\",Farchana!C362,IF($B$10=\"Gaga\",Gaga!C381,IF($B$10=\"Treguine\",Treguine!C381,IF($B$10=\"Bredjing\",Bredjing!C381,\"\"))))","v":0},null,null,{"$f":"IF($B$10=\"Farchana\",Farchana!G362,IF($B$10=\"Gaga\",Gaga!I381,IF($B$10=\"Treguine\",Treguine!G381,IF($B$10=\"Bredjing\",Bredjing!G381,\"\"))))","v":""}]
[{"$f":"IF($B$10=\"Farchana\",Farchana!A363,IF($B$10=\"Gaga\",Gaga!A382,IF($B$10=\"Treguine\",Treguine!A382,IF($B$10=\"Bredjing\",Bredjing!A382,\"\"))))","v":0},{"$f":"IF($B$10=\"Farchana\",Farchana!B363,IF($B$10=\"Gaga\",Gaga!B382,IF($B$10=\"Treguine\",Treguine!B382,IF($B$10=\"Bredjing\",Bredjing!B382,\"\"))))","v":0},{"$f":"IF($B$10=\"Farchana\",Farchana!C363,IF($B$10=\"Gaga\",Gaga!C382,IF($B$10=\"Treguine\",Treguine!C382,IF($B$10=\"Bredjing\",Bredjing!C382,\"\"))))","v":0},null,null,{"$f":"IF($B$10=\"Farchana\",Farchana!G363,IF($B$10=\"Gaga\",Gaga!I382,IF($B$10=\"Treguine\",Treguine!G382,IF($B$10=\"Bredjing\",Bredjing!G382,\"\"))))","v":""}]
[{"$f":"IF($B$10=\"Farchana\",Farchana!A364,IF($B$10=\"Gaga\",Gaga!A383,IF($B$10=\"Treguine\",Treguine!A383,IF($B$10=\"Bredjing\",Bredjing!A383,\"\"))))","v":0},{"$f":"IF($B$10=\"Farchana\",Farchana!B364,IF($B$10=\"Gaga\",Gaga!B383,IF($B$10=\"Treguine\",Treguine!B383,IF($B$10=\"Bredjing\",Bredjing!B383,\"\"))))","v":0},{"$f":"IF($B$10=\"Farchana\",Farchana!C364,IF($B$10=\"Gaga\",Gaga!C383,IF($B$10=\"Treguine\",Treguine!C383,IF($B$10=\"Bredjing\",Bredjing!C383,\"\"))))","v":0},null,null,{"$f":"IF($B$10=\"Farchana\",Farchana!G364,IF($B$10=\"Gaga\",Gaga!I383,IF($B$10=\"Treguine\",Treguine!G383,IF($B$10=\"Bredjing\",Bredjing!G383,\"\"))))","v":""}]
[{"$f":"IF($B$10=\"Farchana\",Farchana!A365,IF($B$10=\"Gaga\",Gaga!A384,IF($B$10=\"Treguine\",Treguine!A384,IF($B$10=\"Bredjing\",Bredjing!A384,\"\"))))","v":0},{"$f":"IF($B$10=\"Farchana\",Farchana!B365,IF($B$10=\"Gaga\",Gaga!B384,IF($B$10=\"Treguine\",Treguine!B384,IF($B$10=\"Bredjing\",Bredjing!B384,\"\"))))","v":0},{"$f":"IF($B$10=\"Farchana\",Farchana!C365,IF($B$10=\"Gaga\",Gaga!C384,IF($B$10=\"Treguine\",Treguine!C384,IF($B$10=\"Bredjing\",Bredjing!C384,\"\"))))","v":0},null,null,{"$f":"IF($B$10=\"Farchana\",Farchana!G365,IF($B$10=\"Gaga\",Gaga!I384,IF($B$10=\"Treguine\",Treguine!G384,IF($B$10=\"Bredjing\",Bredjing!G384,\"\"))))","v":""}]
[{"$f":"IF($B$10=\"Farchana\",Farchana!A366,IF($B$10=\"Gaga\",Gaga!A385,IF($B$10=\"Treguine\",Treguine!A385,IF($B$10=\"Bredjing\",Bredjing!A385,\"\"))))","v":0},{"$f":"IF($B$10=\"Farchana\",Farchana!B366,IF($B$10=\"Gaga\",Gaga!B385,IF($B$10=\"Treguine\",Treguine!B385,IF($B$10=\"Bredjing\",Bredjing!B385,\"\"))))","v":0},{"$f":"IF($B$10=\"Farchana\",Farchana!C366,IF($B$10=\"Gaga\",Gaga!C385,IF($B$10=\"Treguine\",Treguine!C385,IF($B$10=\"Bredjing\",Bredjing!C385,\"\"))))","v":0},null,null,{"$f":"IF($B$10=\"Farchana\",Farchana!G366,IF($B$10=\"Gaga\",Gaga!I385,IF($B$10=\"Treguine\",Treguine!G385,IF($B$10=\"Bredjing\",Bredjing!G385,\"\"))))","v":""}]
[{"$f":"IF($B$10=\"Farchana\",Farchana!A367,IF($B$10=\"Gaga\",Gaga!A386,IF($B$10=\"Treguine\",Treguine!A386,IF($B$10=\"Bredjing\",Bredjing!A386,\"\"))))","v":0},{"$f":"IF($B$10=\"Farchana\",Farchana!B367,IF($B$10=\"Gaga\",Gaga!B386,IF($B$10=\"Treguine\",Treguine!B386,IF($B$10=\"Bredjing\",Bredjing!B386,\"\"))))","v":0},{"$f":"IF($B$10=\"Farchana\",Farchana!C367,IF($B$10=\"Gaga\",Gaga!C386,IF($B$10=\"Treguine\",Treguine!C386,IF($B$10=\"Bredjing\",Bredjing!C386,\"\"))))","v":0},null,null,{"$f":"IF($B$10=\"Farchana\",Farchana!G367,IF($B$10=\"Gaga\",Gaga!I386,IF($B$10=\"Treguine\",Treguine!G386,IF($B$10=\"Bredjing\",Bredjing!G386,\"\"))))","v":""}]
[{"$f":"IF($B$10=\"Farchana\",Farchana!A368,IF($B$10=\"Gaga\",Gaga!A387,IF($B$10=\"Treguine\",Treguine!A387,IF($B$10=\"Bredjing\",Bredjing!A387,\"\"))))","v":0},{"$f":"IF($B$10=\"Farchana\",Farchana!B368,IF($B$10=\"Gaga\",Gaga!B387,IF($B$10=\"Treguine\",Treguine!B387,IF($B$10=\"Bredjing\",Bredjing!B387,\"\"))))","v":0},{"$f":"IF($B$10=\"Farchana\",Farchana!C368,IF($B$10=\"Gaga\",Gaga!C387,IF($B$10=\"Treguine\",Treguine!C387,IF($B$10=\"Bredjing\",Bredjing!C387,\"\"))))","v":0},null,null,{"$f":"IF($B$10=\"Farchana\",Farchana!G368,IF($B$10=\"Gaga\",Gaga!I387,IF($B$10=\"Treguine\",Treguine!G387,IF($B$10=\"Bredjing\",Bredjing!G387,\"\"))))","v":""}]
[{"$f":"IF($B$10=\"Farchana\",Farchana!A369,IF($B$10=\"Gaga\",Gaga!A388,IF($B$10=\"Treguine\",Treguine!A388,IF($B$10=\"Bredjing\",Bredjing!A388,\"\"))))","v":0},{"$f":"IF($B$10=\"Farchana\",Farchana!B369,IF($B$10=\"Gaga\",Gaga!B388,IF($B$10=\"Treguine\",Treguine!B388,IF($B$10=\"Bredjing\",Bredjing!B388,\"\"))))","v":0},{"$f":"IF($B$10=\"Farchana\",Farchana!C369,IF($B$10=\"Gaga\",Gaga!C388,IF($B$10=\"Treguine\",Treguine!C388,IF($B$10=\"Bredjing\",Bredjing!C388,\"\"))))","v":0},null,null,{"$f":"IF($B$10=\"Farchana\",Farchana!G369,IF($B$10=\"Gaga\",Gaga!I388,IF($B$10=\"Treguine\",Treguine!G388,IF($B$10=\"Bredjing\",Bredjing!G388,\"\"))))","v":""}]
[{"$f":"IF($B$10=\"Farchana\",Farchana!A370,IF($B$10=\"Gaga\",Gaga!A389,IF($B$10=\"Treguine\",Treguine!A389,IF($B$10=\"Bredjing\",Bredjing!A389,\"\"))))","v":0},{"$f":"IF($B$10=\"Farchana\",Farchana!B370,IF($B$10=\"Gaga\",Gaga!B389,IF($B$10=\"Treguine\",Treguine!B389,IF($B$10=\"Bredjing\",Bredjing!B389,\"\"))))","v":0},{"$f":"IF($B$10=\"Farchana\",Farchana!C370,IF($B$10=\"Gaga\",Gaga!C389,IF($B$10=\"Treguine\",Treguine!C389,IF($B$10=\"Bredjing\",Bredjing!C389,\"\"))))","v":0},null,null,{"$f":"IF($B$10=\"Farchana\",Farchana!G370,IF($B$10=\"Gaga\",Gaga!I389,IF($B$10=\"Treguine\",Treguine!G389,IF($B$10=\"Bredjing\",Bredjing!G389,\"\"))))","v":""}]
[{"$f":"IF($B$10=\"Farchana\",Farchana!A371,IF($B$10=\"Gaga\",Gaga!A390,IF($B$10=\"Treguine\",Treguine!A390,IF($B$10=\"Bredjing\",Bredjing!A390,\"\"))))","v":0},{"$f":"IF($B$10=\"Farchana\",Farchana!B371,IF($B$10=\"Gaga\",Gaga!B390,IF($B$10=\"Treguine\",Treguine!B390,IF($B$10=\"Bredjing\",Bredjing!B390,\"\"))))","v":0},{"$f":"IF($B$10=\"Farchana\",Farchana!C371,IF($B$10=\"Gaga\",Gaga!C390,IF($B$10=\"Treguine\",Treguine!C390,IF($B$10=\"Bredjing\",Bredjing!C390,\"\"))))","v":0},null,null,{"$f":"IF($B$10=\"Farchana\",Farchana!G371,IF($B$10=\"Gaga\",Gaga!I390,IF($B$10=\"Treguine\",Treguine!G390,IF($B$10=\"Bredjing\",Bredjing!G390,\"\"))))","v":""}]
[{"$f":"IF($B$10=\"Farchana\",Farchana!A372,IF($B$10=\"Gaga\",Gaga!A391,IF($B$10=\"Treguine\",Treguine!A391,IF($B$10=\"Bredjing\",Bredjing!A391,\"\"))))","v":0},{"$f":"IF($B$10=\"Farchana\",Farchana!B372,IF($B$10=\"Gaga\",Gaga!B391,IF($B$10=\"Treguine\",Treguine!B391,IF($B$10=\"Bredjing\",Bredjing!B391,\"\"))))","v":0},{"$f":"IF($B$10=\"Farchana\",Farchana!C372,IF($B$10=\"Gaga\",Gaga!C391,IF($B$10=\"Treguine\",Treguine!C391,IF($B$10=\"Bredjing\",Bredjing!C391,\"\"))))","v":0},null,null,{"$f":"IF($B$10=\"Farchana\",Farchana!G372,IF($B$10=\"Gaga\",Gaga!I391,IF($B$10=\"Treguine\",Treguine!G391,IF($B$10=\"Bredjing\",Bredjing!G391,\"\"))))","v":""}]
[{"$f":"IF($B$10=\"Farchana\",Farchana!A373,IF($B$10=\"Gaga\",Gaga!A392,IF($B$10=\"Treguine\",Treguine!A392,IF($B$10=\"Bredjing\",Bredjing!A392,\"\"))))","v":0},{"$f":"IF($B$10=\"Farchana\",Farchana!B373,IF($B$10=\"Gaga\",Gaga!B392,IF($B$10=\"Treguine\",Treguine!B392,IF($B$10=\"Bredjing\",Bredjing!B392,\"\"))))","v":0},{"$f":"IF($B$10=\"Farchana\",Farchana!C373,IF($B$10=\"Gaga\",Gaga!C392,IF($B$10=\"Treguine\",Treguine!C392,IF($B$10=\"Bredjing\",Bredjing!C392,\"\"))))","v":0},null,null,{"$f":"IF($B$10=\"Farchana\",Farchana!G373,IF($B$10=\"Gaga\",Gaga!I392,IF($B$10=\"Treguine\",Treguine!G392,IF($B$10=\"Bredjing\",Bredjing!G392,\"\"))))","v":""}]
[{"$f":"IF($B$10=\"Farchana\",Farchana!A374,IF($B$10=\"Gaga\",Gaga!A393,IF($B$10=\"Treguine\",Treguine!A393,IF($B$10=\"Bredjing\",Bredjing!A393,\"\"))))","v":0},{"$f":"IF($B$10=\"Farchana\",Farchana!B374,IF($B$10=\"Gaga\",Gaga!B393,IF($B$10=\"Treguine\",Treguine!B393,IF($B$10=\"Bredjing\",Bredjing!B393,\"\"))))","v":0},{"$f":"IF($B$10=\"Farchana\",Farchana!C374,IF($B$10=\"Gaga\",Gaga!C393,IF($B$10=\"Treguine\",Treguine!C393,IF($B$10=\"Bredjing\",Bredjing!C393,\"\"))))","v":0},null,null,{"$f":"IF($B$10=\"Farchana\",Farchana!G374,IF($B$10=\"Gaga\",Gaga!I393,IF($B$10=\"Treguine\",Treguine!G393,IF($B$10=\"Bredjing\",Bredjing!G393,\"\"))))","v":""}]
[{"$f":"IF($B$10=\"Farchana\",Farchana!A375,IF($B$10=\"Gaga\",Gaga!A394,IF($B$10=\"Treguine\",Treguine!A394,IF($B$10=\"Bredjing\",Bredjing!A394,\"\"))))","v":0},{"$f":"IF($B$10=\"Farchana\",Farchana!B375,IF($B$10=\"Gaga\",Gaga!B394,IF($B$10=\"Treguine\",Treguine!B394,IF($B$10=\"Bredjing\",Bredjing!B394,\"\"))))","v":0},{"$f":"IF($B$10=\"Farchana\",Farchana!C375,IF($B$10=\"Gaga\",Gaga!C394,IF($B$10=\"Treguine\",Treguine!C394,IF($B$10=\"Bredjing\",Bredjing!C394,\"\"))))","v":0},null,null,{"$f":"IF($B$10=\"Farchana\",Farchana!G375,IF($B$10=\"Gaga\",Gaga!I394,IF($B$10=\"Treguine\",Treguine!G394,IF($B$10=\"Bredjing\",Bredjing!G394,\"\"))))","v":""}]
[{"$f":"IF($B$10=\"Farchana\",Farchana!A376,IF($B$10=\"Gaga\",Gaga!A395,IF($B$10=\"Treguine\",Treguine!A395,IF($B$10=\"Bredjing\",Bredjing!A395,\"\"))))","v":0},{"$f":"IF($B$10=\"Farchana\",Farchana!B376,IF($B$10=\"Gaga\",Gaga!B395,IF($B$10=\"Treguine\",Treguine!B395,IF($B$10=\"Bredjing\",Bredjing!B395,\"\"))))","v":0},{"$f":"IF($B$10=\"Farchana\",Farchana!C376,IF($B$10=\"Gaga\",Gaga!C395,IF($B$10=\"Treguine\",Treguine!C395,IF($B$10=\"Bredjing\",Bredjing!C395,\"\"))))","v":0},null,null,{"$f":"IF($B$10=\"Farchana\",Farchana!G376,IF($B$10=\"Gaga\",Gaga!I395,IF($B$10=\"Treguine\",Treguine!G395,IF($B$10=\"Bredjing\",Bredjing!G395,\"\"))))","v":""}]
[{"$f":"IF($B$10=\"Farchana\",Farchana!A377,IF($B$10=\"Gaga\",Gaga!A396,IF($B$10=\"Treguine\",Treguine!A396,IF($B$10=\"Bredjing\",Bredjing!A396,\"\"))))","v":0},{"$f":"IF($B$10=\"Farchana\",Farchana!B377,IF($B$10=\"Gaga\",Gaga!B396,IF($B$10=\"Treguine\",Treguine!B396,IF($B$10=\"Bredjing\",Bredjing!B396,\"\"))))","v":0},{"$f":"IF($B$10=\"Farchana\",Farchana!C377,IF($B$10=\"Gaga\",Gaga!C396,IF($B$10=\"Treguine\",Treguine!C396,IF($B$10=\"Bredjing\",Bredjing!C396,\"\"))))","v":0},null,null,{"$f":"IF($B$10=\"Farchana\",Farchana!G377,IF($B$10=\"Gaga\",Gaga!I396,IF($B$10=\"Treguine\",Treguine!G396,IF($B$10=\"Bredjing\",Bredjing!G396,\"\"))))","v":""}]

{"sheet":"Etat Treguine","index":10,"n_rows":404,"n_cols":10,"rows_kept":404,"cut":false,"hidden":true,"merged":[[7,0,8,7],[9,1,9,2],[9,5,9,7]]}
[]
[]
[]
[]
[]
[]
[]
[" FICHE DE PAIEMENT DES PRIMES DES ENSEIGNANTS"]
[]
["Camp :","Treguine",null,null,"Niveau :","Primaire"]
["N° carte Réfugié","Noms et Prenoms","Sexe","Fonction","Classe","Montant Partenaire","Montant  APE","Signature"]
[{"$f":"IF($B$10=\"Farchana\",Farchana!#REF!,IF($B$10=\"Gaga\",Gaga!A4,IF($B$10=\"Treguine\",Treguine!A4,IF($B$10=\"Bredjing\",Bredjing!A4,\"\"))))","v":0},{"$f":"IF($B$10=\"Farchana\",Farchana!#REF!,IF($B$10=\"Gaga\",Gaga!B4,IF($B$10=\"Treguine\",Treguine!B4,IF($B$10=\"Bredjing\",Bredjing!B4,\"\"))))","v":0},{"$f":"IF($B$10=\"Farchana\",Farchana!#REF!,IF($B$10=\"Gaga\",Gaga!C4,IF($B$10=\"Treguine\",Treguine!C4,IF($B$10=\"Bredjing\",Bredjing!C4,\"\"))))","v":0},null,null,{"$f":"IF($B$10=\"Farchana\",Farchana!#REF!,IF($B$10=\"Gaga\",Gaga!I4,IF($B$10=\"Treguine\",Treguine!G4,IF($B$10=\"Bredjing\",Bredjing!G4,\"\"))))","v":""}]
[{"$f":"IF($B$10=\"Farchana\",Farchana!#REF!,IF($B$10=\"Gaga\",Gaga!A5,IF($B$10=\"Treguine\",Treguine!A5,IF($B$10=\"Bredjing\",Bredjing!A5,\"\"))))","v":0},{"$f":"IF($B$10=\"Farchana\",Farchana!#REF!,IF($B$10=\"Gaga\",Gaga!B5,IF($B$10=\"Treguine\",Treguine!B5,IF($B$10=\"Bredjing\",Bredjing!B5,\"\"))))","v":0},{"$f":"IF($B$10=\"Farchana\",Farchana!#REF!,IF($B$10=\"Gaga\",Gaga!C5,IF($B$10=\"Treguine\",Treguine!C5,IF($B$10=\"Bredjing\",Bredjing!C5,\"\"))))","v":0},null,null,{"$f":"IF($B$10=\"Farchana\",Farchana!#REF!,IF($B$10=\"Gaga\",Gaga!I5,IF($B$10=\"Treguine\",Treguine!G5,IF($B$10=\"Bredjing\",Bredjing!G5,\"\"))))","v":""}]
[{"$f":"IF($B$10=\"Farchana\",Farchana!#REF!,IF($B$10=\"Gaga\",Gaga!A6,IF($B$10=\"Treguine\",Treguine!A6,IF($B$10=\"Bredjing\",Bredjing!A6,\"\"))))","v":0},{"$f":"IF($B$10=\"Farchana\",Farchana!#REF!,IF($B$10=\"Gaga\",Gaga!B6,IF($B$10=\"Treguine\",Treguine!B6,IF($B$10=\"Bredjing\",Bredjing!B6,\"\"))))","v":0},{"$f":"IF($B$10=\"Farchana\",Farchana!#REF!,IF($B$10=\"Gaga\",Gaga!C6,IF($B$10=\"Treguine\",Treguine!C6,IF($B$10=\"Bredjing\",Bredjing!C6,\"\"))))","v":0},null,null,{"$f":"IF($B$10=\"Farchana\",Farchana!#REF!,IF($B$10=\"Gaga\",Gaga!I6,IF($B$10=\"Treguine\",Treguine!G6,IF($B$10=\"Bredjing\",Bredjing!G6,\"\"))))","v":""}]
[{"$f":"IF($B$10=\"Farchana\",Farchana!#REF!,IF($B$10=\"Gaga\",Gaga!A7,IF($B$10=\"Treguine\",Treguine!A7,IF($B$10=\"Bredjing\",Bredjing!A7,\"\"))))","v":0},{"$f":"IF($B$10=\"Farchana\",Farchana!#REF!,IF($B$10=\"Gaga\",Gaga!B7,IF($B$10=\"Treguine\",Treguine!B7,IF($B$10=\"Bredjing\",Bredjing!B7,\"\"))))","v":0},{"$f":"IF($B$10=\"Farchana\",Farchana!#REF!,IF($B$10=\"Gaga\",Gaga!C7,IF($B$10=\"Treguine\",Treguine!C7,IF($B$10=\"Bredjing\",Bredjing!C7,\"\"))))","v":0},null,null,{"$f":"IF($B$10=\"Farchana\",Farchana!#REF!,IF($B$10=\"Gaga\",Gaga!I7,IF($B$10=\"Treguine\",Treguine!G7,IF($B$10=\"Bredjing\",Bredjing!G7,\"\"))))","v":""}]
[{"$f":"IF($B$10=\"Farchana\",Farchana!#REF!,IF($B$10=\"Gaga\",Gaga!A8,IF($B$10=\"Treguine\",Treguine!A8,IF($B$10=\"Bredjing\",Bredjing!A8,\"\"))))","v":0},{"$f":"IF($B$10=\"Farchana\",Farchana!#REF!,IF($B$10=\"Gaga\",Gaga!B8,IF($B$10=\"Treguine\",Treguine!B8,IF($B$10=\"Bredjing\",Bredjing!B8,\"\"))))","v":0},{"$f":"IF($B$10=\"Farchana\",Farchana!#REF!,IF($B$10=\"Gaga\",Gaga!C8,IF($B$10=\"Treguine\",Treguine!C8,IF($B$10=\"Bredjing\",Bredjing!C8,\"\"))))","v":0},null,null,{"$f":"IF($B$10=\"Farchana\",Farchana!#REF!,IF($B$10=\"Gaga\",Gaga!I8,IF($B$10=\"Treguine\",Treguine!G8,IF($B$10=\"Bredjing\",Bredjing!G8,\"\"))))","v":""}]
[{"$f":"IF($B$10=\"Farchana\",Farchana!#REF!,IF($B$10=\"Gaga\",Gaga!A9,IF($B$10=\"Treguine\",Treguine!A9,IF($B$10=\"Bredjing\",Bredjing!A9,\"\"))))","v":0},{"$f":"IF($B$10=\"Farchana\",Farchana!#REF!,IF($B$10=\"Gaga\",Gaga!B9,IF($B$10=\"Treguine\",Treguine!B9,IF($B$10=\"Bredjing\",Bredjing!B9,\"\"))))","v":0},{"$f":"IF($B$10=\"Farchana\",Farchana!#REF!,IF($B$10=\"Gaga\",Gaga!C9,IF($B$10=\"Treguine\",Treguine!C9,IF($B$10=\"Bredjing\",Bredjing!C9,\"\"))))","v":0},null,null,{"$f":"IF($B$10=\"Farchana\",Farchana!#REF!,IF($B$10=\"Gaga\",Gaga!I9,IF($B$10=\"Treguine\",Treguine!G9,IF($B$10=\"Bredjing\",Bredjing!G9,\"\"))))","v":""}]
[{"$f":"IF($B$10=\"Farchana\",Farchana!#REF!,IF($B$10=\"Gaga\",Gaga!A10,IF($B$10=\"Treguine\",Treguine!A10,IF($B$10=\"Bredjing\",Bredjing!A10,\"\"))))","v":0},{"$f":"IF($B$10=\"Farchana\",Farchana!#REF!,IF($B$10=\"Gaga\",Gaga!B10,IF($B$10=\"Treguine\",Treguine!B10,IF($B$10=\"Bredjing\",Bredjing!B10,\"\"))))","v":0},{"$f":"IF($B$10=\"Farchana\",Farchana!#REF!,IF($B$10=\"Gaga\",Gaga!C10,IF($B$10=\"Treguine\",Treguine!C10,IF($B$10=\"Bredjing\",Bredjing!C10,\"\"))))","v":0},null,null,{"$f":"IF($B$10=\"Farchana\",Farchana!#REF!,IF($B$10=\"Gaga\",Gaga!I10,IF($B$10=\"Treguine\",Treguine!G10,IF($B$10=\"Bredjing\",Bredjing!G10,\"\"))))","v":""}]
[{"$f":"IF($B$10=\"Farchana\",Farchana!#REF!,IF($B$10=\"Gaga\",Gaga!A11,IF($B$10=\"Treguine\",Treguine!A11,IF($B$10=\"Bredjing\",Bredjing!A11,\"\"))))","v":0},{"$f":"IF($B$10=\"Farchana\",Farchana!#REF!,IF($B$10=\"Gaga\",Gaga!B11,IF($B$10=\"Treguine\",Treguine!B11,IF($B$10=\"Bredjing\",Bredjing!B11,\"\"))))","v":0},{"$f":"IF($B$10=\"Farchana\",Farchana!#REF!,IF($B$10=\"Gaga\",Gaga!C11,IF($B$10=\"Treguine\",Treguine!C11,IF($B$10=\"Bredjing\",Bredjing!C11,\"\"))))","v":0},null,null,{"$f":"IF($B$10=\"Farchana\",Farchana!#REF!,IF($B$10=\"Gaga\",Gaga!I11,IF($B$10=\"Treguine\",Treguine!G11,IF($B$10=\"Bredjing\",Bredjing!G11,\"\"))))","v":""}]
[{"$f":"IF($B$10=\"Farchana\",Farchana!#REF!,IF($B$10=\"Gaga\",Gaga!A12,IF($B$10=\"Treguine\",Treguine!A12,IF($B$10=\"Bredjing\",Bredjing!A12,\"\"))))","v":0},{"$f":"IF($B$10=\"Farchana\",Farchana!#REF!,IF($B$10=\"Gaga\",Gaga!B12,IF($B$10=\"Treguine\",Treguine!B12,IF($B$10=\"Bredjing\",Bredjing!B12,\"\"))))","v":0},{"$f":"IF($B$10=\"Farchana\",Farchana!#REF!,IF($B$10=\"Gaga\",Gaga!C12,IF($B$10=\"Treguine\",Treguine!C12,IF($B$10=\"Bredjing\",Bredjing!C12,\"\"))))","v":0},null,null,{"$f":"IF($B$10=\"Farchana\",Farchana!#REF!,IF($B$10=\"Gaga\",Gaga!I12,IF($B$10=\"Treguine\",Treguine!G12,IF($B$10=\"Bredjing\",Bredjing!G12,\"\"))))","v":""}]
[{"$f":"IF($B$10=\"Farchana\",Farchana!#REF!,IF($B$10=\"Gaga\",Gaga!A13,IF($B$10=\"Treguine\",Treguine!A13,IF($B$10=\"Bredjing\",Bredjing!A13,\"\"))))","v":0},{"$f":"IF($B$10=\"Farchana\",Farchana!#REF!,IF($B$10=\"Gaga\",Gaga!B13,IF($B$10=\"Treguine\",Treguine!B13,IF($B$10=\"Bredjing\",Bredjing!B13,\"\"))))","v":0},{"$f":"IF($B$10=\"Farchana\",Farchana!#REF!,IF($B$10=\"Gaga\",Gaga!C13,IF($B$10=\"Treguine\",Treguine!C13,IF($B$10=\"Bredjing\",Bredjing!C13,\"\"))))","v":0},null,null,{"$f":"IF($B$10=\"Farchana\",Farchana!#REF!,IF($B$10=\"Gaga\",Gaga!I13,IF($B$10=\"Treguine\",Treguine!G13,IF($B$10=\"Bredjing\",Bredjing!G13,\"\"))))","v":""}]
[{"$f":"IF($B$10=\"Farchana\",Farchana!#REF!,IF($B$10=\"Gaga\",Gaga!A14,IF($B$10=\"Treguine\",Treguine!A14,IF($B$10=\"Bredjing\",Bredjing!A14,\"\"))))","v":0},{"$f":"IF($B$10=\"Farchana\",Farchana!#REF!,IF($B$10=\"Gaga\",Gaga!B14,IF($B$10=\"Treguine\",Treguine!B14,IF($B$10=\"Bredjing\",Bredjing!B14,\"\"))))","v":0},{"$f":"IF($B$10=\"Farchana\",Farchana!#REF!,IF($B$10=\"Gaga\",Gaga!C14,IF($B$10=\"Treguine\",Treguine!C14,IF($B$10=\"Bredjing\",Bredjing!C14,\"\"))))","v":0},null,null,{"$f":"IF($B$10=\"Farchana\",Farchana!#REF!,IF($B$10=\"Gaga\",Gaga!I14,IF($B$10=\"Treguine\",Treguine!G14,IF($B$10=\"Bredjing\",Bredjing!G14,\"\"))))","v":""}]
[{"$f":"IF($B$10=\"Farchana\",Farchana!#REF!,IF($B$10=\"Gaga\",Gaga!A15,IF($B$10=\"Treguine\",Treguine!A15,IF($B$10=\"Bredjing\",Bredjing!A15,\"\"))))","v":0},{"$f":"IF($B$10=\"Farchana\",Farchana!#REF!,IF($B$10=\"Gaga\",Gaga!B15,IF($B$10=\"Treguine\",Treguine!B15,IF($B$10=\"Bredjing\",Bredjing!B15,\"\"))))","v":0},{"$f":"IF($B$10=\"Farchana\",Farchana!#REF!,IF($B$10=\"Gaga\",Gaga!C15,IF($B$10=\"Treguine\",Treguine!C15,IF($B$10=\"Bredjing\",Bredjing!C15,\"\"))))","v":0},null,null,{"$f":"IF($B$10=\"Farchana\",Farchana!#REF!,IF($B$10=\"Gaga\",Gaga!I15,IF($B$10=\"Treguine\",Treguine!G15,IF($B$10=\"Bredjing\",Bredjing!G15,\"\"))))","v":""}]
[{"$f":"IF($B$10=\"Farchana\",Farchana!#REF!,IF($B$10=\"Gaga\",Gaga!A16,IF($B$10=\"Treguine\",Treguine!A16,IF($B$10=\"Bredjing\",Bredjing!A16,\"\"))))","v":0},{"$f":"IF($B$10=\"Farchana\",Farchana!#REF!,IF($B$10=\"Gaga\",Gaga!B16,IF($B$10=\"Treguine\",Treguine!B16,IF($B$10=\"Bredjing\",Bredjing!B16,\"\"))))","v":0},{"$f":"IF($B$10=\"Farchana\",Farchana!#REF!,IF($B$10=\"Gaga\",Gaga!C16,IF($B$10=\"Treguine\",Treguine!C16,IF($B$10=\"Bredjing\",Bredjing!C16,\"\"))))","v":0},null,null,{"$f":"IF($B$10=\"Farchana\",Farchana!#REF!,IF($B$10=\"Gaga\",Gaga!I16,IF($B$10=\"Treguine\",Treguine!G16,IF($B$10=\"Bredjing\",Bredjing!G16,\"\"))))","v":""}]
[{"$f":"IF($B$10=\"Farchana\",Farchana!#REF!,IF($B$10=\"Gaga\",Gaga!A17,IF($B$10=\"Treguine\",Treguine!A17,IF($B$10=\"Bredjing\",Bredjing!A17,\"\"))))","v":0},{"$f":"IF($B$10=\"Farchana\",Farchana!#REF!,IF($B$10=\"Gaga\",Gaga!B17,IF($B$10=\"Treguine\",Treguine!B17,IF($B$10=\"Bredjing\",Bredjing!B17,\"\"))))","v":0},{"$f":"IF($B$10=\"Farchana\",Farchana!#REF!,IF($B$10=\"Gaga\",Gaga!C17,IF($B$10=\"Treguine\",Treguine!C17,IF($B$10=\"Bredjing\",Bredjing!C17,\"\"))))","v":0},null,null,{"$f":"IF($B$10=\"Farchana\",Farchana!#REF!,IF($B$10=\"Gaga\",Gaga!I17,IF($B$10=\"Treguine\",Treguine!G17,IF($B$10=\"Bredjing\",Bredjing!G17,\"\"))))","v":""}]
[{"$f":"IF($B$10=\"Farchana\",Farchana!#REF!,IF($B$10=\"Gaga\",Gaga!A18,IF($B$10=\"Treguine\",Treguine!A18,IF($B$10=\"Bredjing\",Bredjing!A18,\"\"))))","v":0},{"$f":"IF($B$10=\"Farchana\",Farchana!#REF!,IF($B$10=\"Gaga\",Gaga!B18,IF($B$10=\"Treguine\",Treguine!B18,IF($B$10=\"Bredjing\",Bredjing!B18,\"\"))))","v":0},{"$f":"IF($B$10=\"Farchana\",Farchana!#REF!,IF($B$10=\"Gaga\",Gaga!C18,IF($B$10=\"Treguine\",Treguine!C18,IF($B$10=\"Bredjing\",Bredjing!C18,\"\"))))","v":0},null,null,{"$f":"IF($B$10=\"Farchana\",Farchana!#REF!,IF($B$10=\"Gaga\",Gaga!I18,IF($B$10=\"Treguine\",Treguine!G18,IF($B$10=\"Bredjing\",Bredjing!G18,\"\"))))","v":""}]
[{"$f":"IF($B$10=\"Farchana\",Farchana!#REF!,IF($B$10=\"Gaga\",Gaga!A19,IF($B$10=\"Treguine\",Treguine!A19,IF($B$10=\"Bredjing\",Bredjing!A19,\"\"))))","v":0},{"$f":"IF($B$10=\"Farchana\",Farchana!#REF!,IF($B$10=\"Gaga\",Gaga!B19,IF($B$10=\"Treguine\",Treguine!B19,IF($B$10=\"Bredjing\",Bredjing!B19,\"\"))))","v":0},{"$f":"IF($B$10=\"Farchana\",Farchana!#REF!,IF($B$10=\"Gaga\",Gaga!C19,IF($B$10=\"Treguine\",Treguine!C19,IF($B$10=\"Bredjing\",Bredjing!C19,\"\"))))","v":0},null,null,{"$f":"IF($B$10=\"Farchana\",Farchana!#REF!,IF($B$10=\"Gaga\",Gaga!I19,IF($B$10=\"Treguine\",Treguine!G19,IF($B$10=\"Bredjing\",Bredjing!G19,\"\"))))","v":""}]
[{"$f":"IF($B$10=\"Farchana\",Farchana!#REF!,IF($B$10=\"Gaga\",Gaga!A20,IF($B$10=\"Treguine\",Treguine!A20,IF($B$10=\"Bredjing\",Bredjing!A20,\"\"))))","v":0},{"$f":"IF($B$10=\"Farchana\",Farchana!#REF!,IF($B$10=\"Gaga\",Gaga!B20,IF($B$10=\"Treguine\",Treguine!B20,IF($B$10=\"Bredjing\",Bredjing!B20,\"\"))))","v":0},{"$f":"IF($B$10=\"Farchana\",Farchana!#REF!,IF($B$10=\"Gaga\",Gaga!C20,IF($B$10=\"Treguine\",Treguine!C20,IF($B$10=\"Bredjing\",Bredjing!C20,\"\"))))","v":0},null,null,{"$f":"IF($B$10=\"Farchana\",Farchana!#REF!,IF($B$10=\"Gaga\",Gaga!I20,IF($B$10=\"Treguine\",Treguine!G20,IF($B$10=\"Bredjing\",Bredjing!G20,\"\"))))","v":""}]
[{"$f":"IF($B$10=\"Farchana\",Farchana!#REF!,IF($B$10=\"Gaga\",Gaga!A21,IF($B$10=\"Treguine\",Treguine!A21,IF($B$10=\"Bredjing\",Bredjing!A21,\"\"))))","v":0},{"$f":"IF($B$10=\"Farchana\",Farchana!#REF!,IF($B$10=\"Gaga\",Gaga!B21,IF($B$10=\"Treguine\",Treguine!B21,IF($B$10=\"Bredjing\",Bredjing!B21,\"\"))))","v":0},{"$f":"IF($B$10=\"Farchana\",Farchana!#REF!,IF($B$10=\"Gaga\",Gaga!C21,IF($B$10=\"Treguine\",Treguine!C21,IF($B$10=\"Bredjing\",Bredjing!C21,\"\"))))","v":0},null,null,{"$f":"IF($B$10=\"Farchana\",Farchana!#REF!,IF($B$10=\"Gaga\",Gaga!I21,IF($B$10=\"Treguine\",Treguine!G21,IF($B$10=\"Bredjing\",Bredjing!G21,\"\"))))","v":""}]
[{"$f":"IF($B$10=\"Farchana\",Farchana!#REF!,IF($B$10=\"Gaga\",Gaga!A22,IF($B$10=\"Treguine\",Treguine!A22,IF($B$10=\"Bredjing\",Bredjing!A22,\"\"))))","v":0},{"$f":"IF($B$10=\"Farchana\",Farchana!#REF!,IF($B$10=\"Gaga\",Gaga!B22,IF($B$10=\"Treguine\",Treguine!B22,IF($B$10=\"Bredjing\",Bredjing!B22,\"\"))))","v":0},{"$f":"IF($B$10=\"Farchana\",Farchana!#REF!,IF($B$10=\"Gaga\",Gaga!C22,IF($B$10=\"Treguine\",Treguine!C22,IF($B$10=\"Bredjing\",Bredjing!C22,\"\"))))","v":0},null,null,{"$f":"IF($B$10=\"Farchana\",Farchana!#REF!,IF($B$10=\"Gaga\",Gaga!I22,IF($B$10=\"Treguine\",Treguine!G22,IF($B$10=\"Bredjing\",Bredjing!G22,\"\"))))","v":""}]
[{"$f":"IF($B$10=\"Farchana\",Farchana!A4,IF($B$10=\"Gaga\",Gaga!A23,IF($B$10=\"Treguine\",Treguine!A23,IF($B$10=\"Bredjing\",Bredjing!A23,\"\"))))","v":0},{"$f":"IF($B$10=\"Farchana\",Farchana!B4,IF($B$10=\"Gaga\",Gaga!B23,IF($B$10=\"Treguine\",Treguine!B23,IF($B$10=\"Bredjing\",Bredjing!B23,\"\"))))","v":0},{"$f":"IF($B$10=\"Farchana\",Farchana!C4,IF($B$10=\"Gaga\",Gaga!C23,IF($B$10=\"Treguine\",Treguine!C23,IF($B$10=\"Bredjing\",Bredjing!C23,\"\"))))","v":0},null,null,{"$f":"IF($B$10=\"Farchana\",Farchana!G4,IF($B$10=\"Gaga\",Gaga!I23,IF($B$10=\"Treguine\",Treguine!G23,IF($B$10=\"Bredjing\",Bredjing!G23,\"\"))))","v":""}]
[{"$f":"IF($B$10=\"Farchana\",Farchana!A5,IF($B$10=\"Gaga\",Gaga!A24,IF($B$10=\"Treguine\",Treguine!A24,IF($B$10=\"Bredjing\",Bredjing!A24,\"\"))))","v":0},{"$f":"IF($B$10=\"Farchana\",Farchana!B5,IF($B$10=\"Gaga\",Gaga!B24,IF($B$10=\"Treguine\",Treguine!B24,IF($B$10=\"Bredjing\",Bredjing!B24,\"\"))))","v":0},{"$f":"IF($B$10=\"Farchana\",Farchana!C5,IF($B$10=\"Gaga\",Gaga!C24,IF($B$10=\"Treguine\",Treguine!C24,IF($B$10=\"Bredjing\",Bredjing!C24,\"\"))))","v":0},null,null,{"$f":"IF($B$10=\"Farchana\",Farchana!G5,IF($B$10=\"Gaga\",Gaga!I24,IF($B$10=\"Treguine\",Treguine!G24,IF($B$10=\"Bredjing\",Bredjing!G24,\"\"))))","v":""}]
[{"$f":"IF($B$10=\"Farchana\",Farchana!A6,IF($B$10=\"Gaga\",Gaga!A25,IF($B$10=\"Treguine\",Treguine!A25,IF($B$10=\"Bredjing\",Bredjing!A25,\"\"))))","v":0},{"$f":"IF($B$10=\"Farchana\",Farchana!B6,IF($B$10=\"Gaga\",Gaga!B25,IF($B$10=\"Treguine\",Treguine!B25,IF($B$10=\"Bredjing\",Bredjing!B25,\"\"))))","v":0},{"$f":"IF($B$10=\"Farchana\",Farchana!C6,IF($B$10=\"Gaga\",Gaga!C25,IF($B$10=\"Treguine\",Treguine!C25,IF($B$10=\"Bredjing\",Bredjing!C25,\"\"))))","v":0},null,null,{"$f":"IF($B$10=\"Farchana\",Farchana!G6,IF($B$10=\"Gaga\",Gaga!I25,IF($B$10=\"Treguine\",Treguine!G25,IF($B$10=\"Bredjing\",Bredjing!G25,\"\"))))","v":""}]
[{"$f":"IF($B$10=\"Farchana\",Farchana!A7,IF($B$10=\"Gaga\",Gaga!A26,IF($B$10=\"Treguine\",Treguine!A26,IF($B$10=\"Bredjing\",Bredjing!A26,\"\"))))","v":0},{"$f":"IF($B$10=\"Farchana\",Farchana!B7,IF($B$10=\"Gaga\",Gaga!B26,IF($B$10=\"Treguine\",Treguine!B26,IF($B$10=\"Bredjing\",Bredjing!B26,\"\"))))","v":0},{"$f":"IF($B$10=\"Farchana\",Farchana!C7,IF($B$10=\"Gaga\",Gaga!C26,IF($B$10=\"Treguine\",Treguine!C26,IF($B$10=\"Bredjing\",Bredjing!C26,\"\"))))","v":0},null,null,{"$f":"IF($B$10=\"Farchana\",Farchana!G7,IF($B$10=\"Gaga\",Gaga!I26,IF($B$10=\"Treguine\",Treguine!G26,IF($B$10=\"Bredjing\",Bredjing!G26,\"\"))))","v":""}]
[{"$f":"IF($B$10=\"Farchana\",Farchana!A8,IF($B$10=\"Gaga\",Gaga!A27,IF($B$10=\"Treguine\",Treguine!A27,IF($B$10=\"Bredjing\",Bredjing!A27,\"\"))))","v":0},{"$f":"IF($B$10=\"Farchana\",Farchana!B8,IF($B$10=\"Gaga\",Gaga!B27,IF($B$10=\"Treguine\",Treguine!B27,IF($B$10=\"Bredjing\",Bredjing!B27,\"\"))))","v":0},{"$f":"IF($B$10=\"Farchana\",Farchana!C8,IF($B$10=\"Gaga\",Gaga!C27,IF($B$10=\"Treguine\",Treguine!C27,IF($B$10=\"Bredjing\",Bredjing!C27,\"\"))))","v":0},null,null,{"$f":"IF($B$10=\"Farchana\",Farchana!G8,IF($B$10=\"Gaga\",Gaga!I27,IF($B$10=\"Treguine\",Treguine!G27,IF($B$10=\"Bredjing\",Bredjing!G27,\"\"))))","v":""}]
[{"$f":"IF($B$10=\"Farchana\",Farchana!A9,IF($B$10=\"Gaga\",Gaga!A28,IF($B$10=\"Treguine\",Treguine!A28,IF($B$10=\"Bredjing\",Bredjing!A28,\"\"))))","v":0},{"$f":"IF($B$10=\"Farchana\",Farchana!B9,IF($B$10=\"Gaga\",Gaga!B28,IF($B$10=\"Treguine\",Treguine!B28,IF($B$10=\"Bredjing\",Bredjing!B28,\"\"))))","v":0},{"$f":"IF($B$10=\"Farchana\",Farchana!C9,IF($B$10=\"Gaga\",Gaga!C28,IF($B$10=\"Treguine\",Treguine!C28,IF($B$10=\"Bredjing\",Bredjing!C28,\"\"))))","v":0},null,null,{"$f":"IF($B$10=\"Farchana\",Farchana!G9,IF($B$10=\"Gaga\",Gaga!I28,IF($B$10=\"Treguine\",Treguine!G28,IF($B$10=\"Bredjing\",Bredjing!G28,\"\"))))","v":""}]
[{"$f":"IF($B$10=\"Farchana\",Farchana!A10,IF($B$10=\"Gaga\",Gaga!A29,IF($B$10=\"Treguine\",Treguine!A29,IF($B$10=\"Bredjing\",Bredjing!A29,\"\"))))","v":0},{"$f":"IF($B$10=\"Farchana\",Farchana!B10,IF($B$10=\"Gaga\",Gaga!B29,IF($B$10=\"Treguine\",Treguine!B29,IF($B$10=\"Bredjing\",Bredjing!B29,\"\"))))","v":0},{"$f":"IF($B$10=\"Farchana\",Farchana!C10,IF($B$10=\"Gaga\",Gaga!C29,IF($B$10=\"Treguine\",Treguine!C29,IF($B$10=\"Bredjing\",Bredjing!C29,\"\"))))","v":0},null,null,{"$f":"IF($B$10=\"Farchana\",Farchana!G10,IF($B$10=\"Gaga\",Gaga!I29,IF($B$10=\"Treguine\",Treguine!G29,IF($B$10=\"Bredjing\",Bredjing!G29,\"\"))))","v":""}]
[{"$f":"IF($B$10=\"Farchana\",Farchana!A11,IF($B$10=\"Gaga\",Gaga!A30,IF($B$10=\"Treguine\",Treguine!A30,IF($B$10=\"Bredjing\",Bredjing!A30,\"\"))))","v":0},{"$f":"IF($B$10=\"Farchana\",Farchana!B11,IF($B$10=\"Gaga\",Gaga!B30,IF($B$10=\"Treguine\",Treguine!B30,IF($B$10=\"Bredjing\",Bredjing!B30,\"\"))))","v":0},{"$f":"IF($B$10=\"Farchana\",Farchana!C11,IF($B$10=\"Gaga\",Gaga!C30,IF($B$10=\"Treguine\",Treguine!C30,IF($B$10=\"Bredjing\",Bredjing!C30,\"\"))))","v":0},null,null,{"$f":"IF($B$10=\"Farchana\",Farchana!G11,IF($B$10=\"Gaga\",Gaga!I30,IF($B$10=\"Treguine\",Treguine!G30,IF($B$10=\"Bredjing\",Bredjing!G30,\"\"))))","v":""}]
[{"$f":"IF($B$10=\"Farchana\",Farchana!A12,IF($B$10=\"Gaga\",Gaga!A31,IF($B$10=\"Treguine\",Treguine!A31,IF($B$10=\"Bredjing\",Bredjing!A31,\"\"))))","v":0},{"$f":"IF($B$10=\"Farchana\",Farchana!B12,IF($B$10=\"Gaga\",Gaga!B31,IF($B$10=\"Treguine\",Treguine!B31,IF($B$10=\"Bredjing\",Bredjing!B31,\"\"))))","v":0},{"$f":"IF($B$10=\"Farchana\",Farchana!C12,IF($B$10=\"Gaga\",Gaga!C31,IF($B$10=\"Treguine\",Treguine!C31,IF($B$10=\"Bredjing\",Bredjing!C31,\"\"))))","v":0},null,null,{"$f":"IF($B$10=\"Farchana\",Farchana!G12,IF($B$10=\"Gaga\",Gaga!I31,IF($B$10=\"Treguine\",Treguine!G31,IF($B$10=\"Bredjing\",Bredjing!G31,\"\"))))","v":""}]
[{"$f":"IF($B$10=\"Farchana\",Farchana!A13,IF($B$10=\"Gaga\",Gaga!A32,IF($B$10=\"Treguine\",Treguine!A32,IF($B$10=\"Bredjing\",Bredjing!A32,\"\"))))","v":0},{"$f":"IF($B$10=\"Farchana\",Farchana!B13,IF($B$10=\"Gaga\",Gaga!B32,IF($B$10=\"Treguine\",Treguine!B32,IF($B$10=\"Bredjing\",Bredjing!B32,\"\"))))","v":0},{"$f":"IF($B$10=\"Farchana\",Farchana!C13,IF($B$10=\"Gaga\",Gaga!C32,IF($B$10=\"Treguine\",Treguine!C32,IF($B$10=\"Bredjing\",Bredjing!C32,\"\"))))","v":0},null,null,{"$f":"IF($B$10=\"Farchana\",Farchana!G13,IF($B$10=\"Gaga\",Gaga!I32,IF($B$10=\"Treguine\",Treguine!G32,IF($B$10=\"Bredjing\",Bredjing!G32,\"\"))))","v":""}]
[{"$f":"IF($B$10=\"Farchana\",Farchana!A14,IF($B$10=\"Gaga\",Gaga!A33,IF($B$10=\"Treguine\",Treguine!A33,IF($B$10=\"Bredjing\",Bredjing!A33,\"\"))))","v":0},{"$f":"IF($B$10=\"Farchana\",Farchana!B14,IF($B$10=\"Gaga\",Gaga!B33,IF($B$10=\"Treguine\",Treguine!B33,IF($B$10=\"Bredjing\",Bredjing!B33,\"\"))))","v":0},{"$f":"IF($B$10=\"Farchana\",Farchana!C14,IF($B$10=\"Gaga\",Gaga!C33,IF($B$10=\"Treguine\",Treguine!C33,IF($B$10=\"Bredjing\",Bredjing!C33,\"\"))))","v":0},null,null,{"$f":"IF($B$10=\"Farchana\",Farchana!G14,IF($B$10=\"Gaga\",Gaga!I33,IF($B$10=\"Treguine\",Treguine!G33,IF($B$10=\"Bredjing\",Bredjing!G33,\"\"))))","v":""}]
[{"$f":"IF($B$10=\"Farchana\",Farchana!A15,IF($B$10=\"Gaga\",Gaga!A34,IF($B$10=\"Treguine\",Treguine!A34,IF($B$10=\"Bredjing\",Bredjing!A34,\"\"))))","v":0},{"$f":"IF($B$10=\"Farchana\",Farchana!B15,IF($B$10=\"Gaga\",Gaga!B34,IF($B$10=\"Treguine\",Treguine!B34,IF($B$10=\"Bredjing\",Bredjing!B34,\"\"))))","v":0},{"$f":"IF($B$10=\"Farchana\",Farchana!C15,IF($B$10=\"Gaga\",Gaga!C34,IF($B$10=\"Treguine\",Treguine!C34,IF($B$10=\"Bredjing\",Bredjing!C34,\"\"))))","v":0},null,null,{"$f":"IF($B$10=\"Farchana\",Farchana!G15,IF($B$10=\"Gaga\",Gaga!I34,IF($B$10=\"Treguine\",Treguine!G34,IF($B$10=\"Bredjing\",Bredjing!G34,\"\"))))","v":""}]
[{"$f":"IF($B$10=\"Farchana\",Farchana!A16,IF($B$10=\"Gaga\",Gaga!A35,IF($B$10=\"Treguine\",Treguine!A35,IF($B$10=\"Bredjing\",Bredjing!A35,\"\"))))","v":0},{"$f":"IF($B$10=\"Farchana\",Farchana!B16,IF($B$10=\"Gaga\",Gaga!B35,IF($B$10=\"Treguine\",Treguine!B35,IF($B$10=\"Bredjing\",Bredjing!B35,\"\"))))","v":0},{"$f":"IF($B$10=\"Farchana\",Farchana!C16,IF($B$10=\"Gaga\",Gaga!C35,IF($B$10=\"Treguine\",Treguine!C35,IF($B$10=\"Bredjing\",Bredjing!C35,\"\"))))","v":0},null,null,{"$f":"IF($B$10=\"Farchana\",Farchana!G16,IF($B$10=\"Gaga\",Gaga!I35,IF($B$10=\"Treguine\",Treguine!G35,IF($B$10=\"Bredjing\",Bredjing!G35,\"\"))))","v":""}]
[{"$f":"IF($B$10=\"Farchana\",Farchana!A17,IF($B$10=\"Gaga\",Gaga!A36,IF($B$10=\"Treguine\",Treguine!A36,IF($B$10=\"Bredjing\",Bredjing!A36,\"\"))))","v":0},{"$f":"IF($B$10=\"Farchana\",Farchana!B17,IF($B$10=\"Gaga\",Gaga!B36,IF($B$10=\"Treguine\",Treguine!B36,IF($B$10=\"Bredjing\",Bredjing!B36,\"\"))))","v":0},{"$f":"IF($B$10=\"Farchana\",Farchana!C17,IF($B$10=\"Gaga\",Gaga!C36,IF($B$10=\"Treguine\",Treguine!C36,IF($B$10=\"Bredjing\",Bredjing!C36,\"\"))))","v":0},null,null,{"$f":"IF($B$10=\"Farchana\",Farchana!G17,IF($B$10=\"Gaga\",Gaga!I36,IF($B$10=\"Treguine\",Treguine!G36,IF($B$10=\"Bredjing\",Bredjing!G36,\"\"))))","v":""}]
[{"$f":"IF($B$10=\"Farchana\",Farchana!A18,IF($B$10=\"Gaga\",Gaga!A37,IF($B$10=\"Treguine\",Treguine!A37,IF($B$10=\"Bredjing\",Bredjing!A37,\"\"))))","v":0},{"$f":"IF($B$10=\"Farchana\",Farchana!B18,IF($B$10=\"Gaga\",Gaga!B37,IF($B$10=\"Treguine\",Treguine!B37,IF($B$10=\"Bredjing\",Bredjing!B37,\"\"))))","v":0},{"$f":"IF($B$10=\"Farchana\",Farchana!C18,IF($B$10=\"Gaga\",Gaga!C37,IF($B$10=\"Treguine\",Treguine!C37,IF($B$10=\"Bredjing\",Bredjing!C37,\"\"))))","v":0},null,null,{"$f":"IF($B$10=\"Farchana\",Farchana!G18,IF($B$10=\"Gaga\",Gaga!I37,IF($B$10=\"Treguine\",Treguine!G37,IF($B$10=\"Bredjing\",Bredjing!G37,\"\"))))","v":""}]
[{"$f":"IF($B$10=\"Farchana\",Farchana!A19,IF($B$10=\"Gaga\",Gaga!A38,IF($B$10=\"Treguine\",Treguine!A38,IF($B$10=\"Bredjing\",Bredjing!A38,\"\"))))","v":0},{"$f":"IF($B$10=\"Farchana\",Farchana!B19,IF($B$10=\"Gaga\",Gaga!B38,IF($B$10=\"Treguine\",Treguine!B38,IF($B$10=\"Bredjing\",Bredjing!B38,\"\"))))","v":0},{"$f":"IF($B$10=\"Farchana\",Farchana!C19,IF($B$10=\"Gaga\",Gaga!C38,IF($B$10=\"Treguine\",Treguine!C38,IF($B$10=\"Bredjing\",Bredjing!C38,\"\"))))","v":0},null,null,{"$f":"IF($B$10=\"Farchana\",Farchana!G19,IF($B$10=\"Gaga\",Gaga!I38,IF($B$10=\"Treguine\",Treguine!G38,IF($B$10=\"Bredjing\",Bredjing!G38,\"\"))))","v":""}]
[{"$f":"IF($B$10=\"Farchana\",Farchana!A20,IF($B$10=\"Gaga\",Gaga!A39,IF($B$10=\"Treguine\",Treguine!A39,IF($B$10=\"Bredjing\",Bredjing!A39,\"\"))))","v":0},{"$f":"IF($B$10=\"Farchana\",Farchana!B20,IF($B$10=\"Gaga\",Gaga!B39,IF($B$10=\"Treguine\",Treguine!B39,IF($B$10=\"Bredjing\",Bredjing!B39,\"\"))))","v":0},{"$f":"IF($B$10=\"Farchana\",Farchana!C20,IF($B$10=\"Gaga\",Gaga!C39,IF($B$10=\"Treguine\",Treguine!C39,IF($B$10=\"Bredjing\",Bredjing!C39,\"\"))))","v":0},null,null,{"$f":"IF($B$10=\"Farchana\",Farchana!G20,IF($B$10=\"Gaga\",Gaga!I39,IF($B$10=\"Treguine\",Treguine!G39,IF($B$10=\"Bredjing\",Bredjing!G39,\"\"))))","v":""}]
[{"$f":"IF($B$10=\"Farchana\",Farchana!A21,IF($B$10=\"Gaga\",Gaga!A40,IF($B$10=\"Treguine\",Treguine!A40,IF($B$10=\"Bredjing\",Bredjing!A40,\"\"))))","v":0},{"$f":"IF($B$10=\"Farchana\",Farchana!B21,IF($B$10=\"Gaga\",Gaga!B40,IF($B$10=\"Treguine\",Treguine!B40,IF($B$10=\"Bredjing\",Bredjing!B40,\"\"))))","v":0},{"$f":"IF($B$10=\"Farchana\",Farchana!C21,IF($B$10=\"Gaga\",Gaga!C40,IF($B$10=\"Treguine\",Treguine!C40,IF($B$10=\"Bredjing\",Bredjing!C40,\"\"))))","v":0},null,null,{"$f":"IF($B$10=\"Farchana\",Farchana!G21,IF($B$10=\"Gaga\",Gaga!I40,IF($B$10=\"Treguine\",Treguine!G40,IF($B$10=\"Bredjing\",Bredjing!G40,\"\"))))","v":""}]
[{"$f":"IF($B$10=\"Farchana\",Farchana!A22,IF($B$10=\"Gaga\",Gaga!A41,IF($B$10=\"Treguine\",Treguine!A41,IF($B$10=\"Bredjing\",Bredjing!A41,\"\"))))","v":0},{"$f":"IF($B$10=\"Farchana\",Farchana!B22,IF($B$10=\"Gaga\",Gaga!B41,IF($B$10=\"Treguine\",Treguine!B41,IF($B$10=\"Bredjing\",Bredjing!B41,\"\"))))","v":0},{"$f":"IF($B$10=\"Farchana\",Farchana!C22,IF($B$10=\"Gaga\",Gaga!C41,IF($B$10=\"Treguine\",Treguine!C41,IF($B$10=\"Bredjing\",Bredjing!C41,\"\"))))","v":0},null,null,{"$f":"IF($B$10=\"Farchana\",Farchana!G22,IF($B$10=\"Gaga\",Gaga!I41,IF($B$10=\"Treguine\",Treguine!G41,IF($B$10=\"Bredjing\",Bredjing!G41,\"\"))))","v":""}]
[{"$f":"IF($B$10=\"Farchana\",Farchana!A23,IF($B$10=\"Gaga\",Gaga!A42,IF($B$10=\"Treguine\",Treguine!A42,IF($B$10=\"Bredjing\",Bredjing!A42,\"\"))))","v":0},{"$f":"IF($B$10=\"Farchana\",Farchana!B23,IF($B$10=\"Gaga\",Gaga!B42,IF($B$10=\"Treguine\",Treguine!B42,IF($B$10=\"Bredjing\",Bredjing!B42,\"\"))))","v":0},{"$f":"IF($B$10=\"Farchana\",Farchana!C23,IF($B$10=\"Gaga\",Gaga!C42,IF($B$10=\"Treguine\",Treguine!C42,IF($B$10=\"Bredjing\",Bredjing!C42,\"\"))))","v":0},null,null,{"$f":"IF($B$10=\"Farchana\",Farchana!G23,IF($B$10=\"Gaga\",Gaga!I42,IF($B$10=\"Treguine\",Treguine!G42,IF($B$10=\"Bredjing\",Bredjing!G42,\"\"))))","v":""}]
[{"$f":"IF($B$10=\"Farchana\",Farchana!A24,IF($B$10=\"Gaga\",Gaga!A43,IF($B$10=\"Treguine\",Treguine!A43,IF($B$10=\"Bredjing\",Bredjing!A43,\"\"))))","v":0},{"$f":"IF($B$10=\"Farchana\",Farchana!B24,IF($B$10=\"Gaga\",Gaga!B43,IF($B$10=\"Treguine\",Treguine!B43,IF($B$10=\"Bredjing\",Bredjing!B43,\"\"))))","v":0},{"$f":"IF($B$10=\"Farchana\",Farchana!C24,IF($B$10=\"Gaga\",Gaga!C43,IF($B$10=\"Treguine\",Treguine!C43,IF($B$10=\"Bredjing\",Bredjing!C43,\"\"))))","v":0},null,null,{"$f":"IF($B$10=\"Farchana\",Farchana!G24,IF($B$10=\"Gaga\",Gaga!I43,IF($B$10=\"Treguine\",Treguine!G43,IF($B$10=\"Bredjing\",Bredjing!G43,\"\"))))","v":""}]
[{"$f":"IF($B$10=\"Farchana\",Farchana!A25,IF($B$10=\"Gaga\",Gaga!A44,IF($B$10=\"Treguine\",Treguine!A44,IF($B$10=\"Bredjing\",Bredjing!A44,\"\"))))","v":0},{"$f":"IF($B$10=\"Farchana\",Farchana!B25,IF($B$10=\"Gaga\",Gaga!B44,IF($B$10=\"Treguine\",Treguine!B44,IF($B$10=\"Bredjing\",Bredjing!B44,\"\"))))","v":0},{"$f":"IF($B$10=\"Farchana\",Farchana!C25,IF($B$10=\"Gaga\",Gaga!C44,IF($B$10=\"Treguine\",Treguine!C44,IF($B$10=\"Bredjing\",Bredjing!C44,\"\"))))","v":0},null,null,{"$f":"IF($B$10=\"Farchana\",Farchana!G25,IF($B$10=\"Gaga\",Gaga!I44,IF($B$10=\"Treguine\",Treguine!G44,IF($B$10=\"Bredjing\",Bredjing!G44,\"\"))))","v":""}]
[{"$f":"IF($B$10=\"Farchana\",Farchana!A26,IF($B$10=\"Gaga\",Gaga!A45,IF($B$10=\"Treguine\",Treguine!A45,IF($B$10=\"Bredjing\",Bredjing!A45,\"\"))))","v":0},{"$f":"IF($B$10=\"Farchana\",Farchana!B26,IF($B$10=\"Gaga\",Gaga!B45,IF($B$10=\"Treguine\",Treguine!B45,IF($B$10=\"Bredjing\",Bredjing!B45,\"\"))))","v":0},{"$f":"IF($B$10=\"Farchana\",Farchana!C26,IF($B$10=\"Gaga\",Gaga!C45,IF($B$10=\"Treguine\",Treguine!C45,IF($B$10=\"Bredjing\",Bredjing!C45,\"\"))))","v":0},null,null,{"$f":"IF($B$10=\"Farchana\",Farchana!G26,IF($B$10=\"Gaga\",Gaga!I45,IF($B$10=\"Treguine\",Treguine!G45,IF($B$10=\"Bredjing\",Bredjing!G45,\"\"))))","v":""}]
[{"$f":"IF($B$10=\"Farchana\",Farchana!A27,IF($B$10=\"Gaga\",Gaga!A46,IF($B$10=\"Treguine\",Treguine!A46,IF($B$10=\"Bredjing\",Bredjing!A46,\"\"))))","v":0},{"$f":"IF($B$10=\"Farchana\",Farchana!B27,IF($B$10=\"Gaga\",Gaga!B46,IF($B$10=\"Treguine\",Treguine!B46,IF($B$10=\"Bredjing\",Bredjing!B46,\"\"))))","v":0},{"$f":"IF($B$10=\"Farchana\",Farchana!C27,IF($B$10=\"Gaga\",Gaga!C46,IF($B$10=\"Treguine\",Treguine!C46,IF($B$10=\"Bredjing\",Bredjing!C46,\"\"))))","v":0},null,null,{"$f":"IF($B$10=\"Farchana\",Farchana!G27,IF($B$10=\"Gaga\",Gaga!I46,IF($B$10=\"Treguine\",Treguine!G46,IF($B$10=\"Bredjing\",Bredjing!G46,\"\"))))","v":""}]
[{"$f":"IF($B$10=\"Farchana\",Farchana!A28,IF($B$10=\"Gaga\",Gaga!A47,IF($B$10=\"Treguine\",Treguine!A47,IF($B$10=\"Bredjing\",Bredjing!A47,\"\"))))","v":0},{"$f":"IF($B$10=\"Farchana\",Farchana!B28,IF($B$10=\"Gaga\",Gaga!B47,IF($B$10=\"Treguine\",Treguine!B47,IF($B$10=\"Bredjing\",Bredjing!B47,\"\"))))","v":0},{"$f":"IF($B$10=\"Farchana\",Farchana!C28,IF($B$10=\"Gaga\",Gaga!C47,IF($B$10=\"Treguine\",Treguine!C47,IF($B$10=\"Bredjing\",Bredjing!C47,\"\"))))","v":0},null,null,{"$f":"IF($B$10=\"Farchana\",Farchana!G28,IF($B$10=\"Gaga\",Gaga!I47,IF($B$10=\"Treguine\",Treguine!G47,IF($B$10=\"Bredjing\",Bredjing!G47,\"\"))))","v":""}]
[{"$f":"IF($B$10=\"Farchana\",Farchana!A29,IF($B$10=\"Gaga\",Gaga!A48,IF($B$10=\"Treguine\",Treguine!A48,IF($B$10=\"Bredjing\",Bredjing!A48,\"\"))))","v":0},{"$f":"IF($B$10=\"Farchana\",Farchana!B29,IF($B$10=\"Gaga\",Gaga!B48,IF($B$10=\"Treguine\",Treguine!B48,IF($B$10=\"Bredjing\",Bredjing!B48,\"\"))))","v":0},{"$f":"IF($B$10=\"Farchana\",Farchana!C29,IF($B$10=\"Gaga\",Gaga!C48,IF($B$10=\"Treguine\",Treguine!C48,IF($B$10=\"Bredjing\",Bredjing!C48,\"\"))))","v":0},null,null,{"$f":"IF($B$10=\"Farchana\",Farchana!G29,IF($B$10=\"Gaga\",Gaga!I48,IF($B$10=\"Treguine\",Treguine!G48,IF($B$10=\"Bredjing\",Bredjing!G48,\"\"))))","v":""}]
[{"$f":"IF($B$10=\"Farchana\",Farchana!A30,IF($B$10=\"Gaga\",Gaga!A49,IF($B$10=\"Treguine\",Treguine!A49,IF($B$10=\"Bredjing\",Bredjing!A49,\"\"))))","v":0},{"$f":"IF($B$10=\"Farchana\",Farchana!B30,IF($B$10=\"Gaga\",Gaga!B49,IF($B$10=\"Treguine\",Treguine!B49,IF($B$10=\"Bredjing\",Bredjing!B49,\"\"))))","v":0},{"$f":"IF($B$10=\"Farchana\",Farchana!C30,IF($B$10=\"Gaga\",Gaga!C49,IF($B$10=\"Treguine\",Treguine!C49,IF($B$10=\"Bredjing\",Bredjing!C49,\"\"))))","v":0},null,null,{"$f":"IF($B$10=\"Farchana\",Farchana!G30,IF($B$10=\"Gaga\",Gaga!I49,IF($B$10=\"Treguine\",Treguine!G49,IF($B$10=\"Bredjing\",Bredjing!G49,\"\"))))","v":""}]
[{"$f":"IF($B$10=\"Farchana\",Farchana!A31,IF($B$10=\"Gaga\",Gaga!A50,IF($B$10=\"Treguine\",Treguine!A50,IF($B$10=\"Bredjing\",Bredjing!A50,\"\"))))","v":0},{"$f":"IF($B$10=\"Farchana\",Farchana!B31,IF($B$10=\"Gaga\",Gaga!B50,IF($B$10=\"Treguine\",Treguine!B50,IF($B$10=\"Bredjing\",Bredjing!B50,\"\"))))","v":0},{"$f":"IF($B$10=\"Farchana\",Farchana!C31,IF($B$10=\"Gaga\",Gaga!C50,IF($B$10=\"Treguine\",Treguine!C50,IF($B$10=\"Bredjing\",Bredjing!C50,\"\"))))","v":0},null,null,{"$f":"IF($B$10=\"Farchana\",Farchana!G31,IF($B$10=\"Gaga\",Gaga!I50,IF($B$10=\"Treguine\",Treguine!G50,IF($B$10=\"Bredjing\",Bredjing!G50,\"\"))))","v":""}]
[{"$f":"IF($B$10=\"Farchana\",Farchana!A32,IF($B$10=\"Gaga\",Gaga!A51,IF($B$10=\"Treguine\",Treguine!A51,IF($B$10=\"Bredjing\",Bredjing!A51,\"\"))))","v":0},{"$f":"IF($B$10=\"Farchana\",Farchana!B32,IF($B$10=\"Gaga\",Gaga!B51,IF($B$10=\"Treguine\",Treguine!B51,IF($B$10=\"Bredjing\",Bredjing!B51,\"\"))))","v":0},{"$f":"IF($B$10=\"Farchana\",Farchana!C32,IF($B$10=\"Gaga\",Gaga!C51,IF($B$10=\"Treguine\",Treguine!C51,IF($B$10=\"Bredjing\",Bredjing!C51,\"\"))))","v":0},null,null,{"$f":"IF($B$10=\"Farchana\",Farchana!G32,IF($B$10=\"Gaga\",Gaga!I51,IF($B$10=\"Treguine\",Treguine!G51,IF($B$10=\"Bredjing\",Bredjing!G51,\"\"))))","v":""}]
[{"$f":"IF($B$10=\"Farchana\",Farchana!A33,IF($B$10=\"Gaga\",Gaga!A52,IF($B$10=\"Treguine\",Treguine!A52,IF($B$10=\"Bredjing\",Bredjing!A52,\"\"))))","v":0},{"$f":"IF($B$10=\"Farchana\",Farchana!B33,IF($B$10=\"Gaga\",Gaga!B52,IF($B$10=\"Treguine\",Treguine!B52,IF($B$10=\"Bredjing\",Bredjing!B52,\"\"))))","v":0},{"$f":"IF($B$10=\"Farchana\",Farchana!C33,IF($B$10=\"Gaga\",Gaga!C52,IF($B$10=\"Treguine\",Treguine!C52,IF($B$10=\"Bredjing\",Bredjing!C52,\"\"))))","v":0},null,null,{"$f":"IF($B$10=\"Farchana\",Farchana!G33,IF($B$10=\"Gaga\",Gaga!I52,IF($B$10=\"Treguine\",Treguine!G52,IF($B$10=\"Bredjing\",Bredjing!G52,\"\"))))","v":""}]
[{"$f":"IF($B$10=\"Farchana\",Farchana!A34,IF($B$10=\"Gaga\",Gaga!A53,IF($B$10=\"Treguine\",Treguine!A53,IF($B$10=\"Bredjing\",Bredjing!A53,\"\"))))","v":0},{"$f":"IF($B$10=\"Farchana\",Farchana!B34,IF($B$10=\"Gaga\",Gaga!B53,IF($B$10=\"Treguine\",Treguine!B53,IF($B$10=\"Bredjing\",Bredjing!B53,\"\"))))","v":0},{"$f":"IF($B$10=\"Farchana\",Farchana!C34,IF($B$10=\"Gaga\",Gaga!C53,IF($B$10=\"Treguine\",Treguine!C53,IF($B$10=\"Bredjing\",Bredjing!C53,\"\"))))","v":0},null,null,{"$f":"IF($B$10=\"Farchana\",Farchana!G34,IF($B$10=\"Gaga\",Gaga!I53,IF($B$10=\"Treguine\",Treguine!G53,IF($B$10=\"Bredjing\",Bredjing!G53,\"\"))))","v":""}]
[{"$f":"IF($B$10=\"Farchana\",Farchana!A35,IF($B$10=\"Gaga\",Gaga!A54,IF($B$10=\"Treguine\",Treguine!A54,IF($B$10=\"Bredjing\",Bredjing!A54,\"\"))))","v":0},{"$f":"IF($B$10=\"Farchana\",Farchana!B35,IF($B$10=\"Gaga\",Gaga!B54,IF($B$10=\"Treguine\",Treguine!B54,IF($B$10=\"Bredjing\",Bredjing!B54,\"\"))))","v":0},{"$f":"IF($B$10=\"Farchana\",Farchana!C35,IF($B$10=\"Gaga\",Gaga!C54,IF($B$10=\"Treguine\",Treguine!C54,IF($B$10=\"Bredjing\",Bredjing!C54,\"\"))))","v":0},null,null,{"$f":"IF($B$10=\"Farchana\",Farchana!G35,IF($B$10=\"Gaga\",Gaga!I54,IF($B$10=\"Treguine\",Treguine!G54,IF($B$10=\"Bredjing\",Bredjing!G54,\"\"))))","v":""}]
[{"$f":"IF($B$10=\"Farchana\",Farchana!A36,IF($B$10=\"Gaga\",Gaga!A55,IF($B$10=\"Treguine\",Treguine!A55,IF($B$10=\"Bredjing\",Bredjing!A55,\"\"))))","v":0},{"$f":"IF($B$10=\"Farchana\",Farchana!B36,IF($B$10=\"Gaga\",Gaga!B55,IF($B$10=\"Treguine\",Treguine!B55,IF($B$10=\"Bredjing\",Bredjing!B55,\"\"))))","v":0},{"$f":"IF($B$10=\"Farchana\",Farchana!C36,IF($B$10=\"Gaga\",Gaga!C55,IF($B$10=\"Treguine\",Treguine!C55,IF($B$10=\"Bredjing\",Bredjing!C55,\"\"))))","v":0},null,null,{"$f":"IF($B$10=\"Farchana\",Farchana!G36,IF($B$10=\"Gaga\",Gaga!I55,IF($B$10=\"Treguine\",Treguine!G55,IF($B$10=\"Bredjing\",Bredjing!G55,\"\"))))","v":""}]
[{"$f":"IF($B$10=\"Farchana\",Farchana!A37,IF($B$10=\"Gaga\",Gaga!A56,IF($B$10=\"Treguine\",Treguine!A56,IF($B$10=\"Bredjing\",Bredjing!A56,\"\"))))","v":0},{"$f":"IF($B$10=\"Farchana\",Farchana!B37,IF($B$10=\"Gaga\",Gaga!B56,IF($B$10=\"Treguine\",Treguine!B56,IF($B$10=\"Bredjing\",Bredjing!B56,\"\"))))","v":0},{"$f":"IF($B$10=\"Farchana\",Farchana!C37,IF($B$10=\"Gaga\",Gaga!C56,IF($B$10=\"Treguine\",Treguine!C56,IF($B$10=\"Bredjing\",Bredjing!C56,\"\"))))","v":0},null,null,{"$f":"IF($B$10=\"Farchana\",Farchana!G37,IF($B$10=\"Gaga\",Gaga!I56,IF($B$10=\"Treguine\",Treguine!G56,IF($B$10=\"Bredjing\",Bredjing!G56,\"\"))))","v":""}]
[{"$f":"IF($B$10=\"Farchana\",Farchana!A38,IF($B$10=\"Gaga\",Gaga!A57,IF($B$10=\"Treguine\",Treguine!A57,IF($B$10=\"Bredjing\",Bredjing!A57,\"\"))))","v":0},{"$f":"IF($B$10=\"Farchana\",Farchana!B38,IF($B$10=\"Gaga\",Gaga!B57,IF($B$10=\"Treguine\",Treguine!B57,IF($B$10=\"Bredjing\",Bredjing!B57,\"\"))))","v":0},{"$f":"IF($B$10=\"Farchana\",Farchana!C38,IF($B$10=\"Gaga\",Gaga!C57,IF($B$10=\"Treguine\",Treguine!C57,IF($B$10=\"Bredjing\",Bredjing!C57,\"\"))))","v":0},null,null,{"$f":"IF($B$10=\"Farchana\",Farchana!G38,IF($B$10=\"Gaga\",Gaga!I57,IF($B$10=\"Treguine\",Treguine!G57,IF($B$10=\"Bredjing\",Bredjing!G57,\"\"))))","v":""}]
[{"$f":"IF($B$10=\"Farchana\",Farchana!A39,IF($B$10=\"Gaga\",Gaga!A58,IF($B$10=\"Treguine\",Treguine!A58,IF($B$10=\"Bredjing\",Bredjing!A58,\"\"))))","v":0},{"$f":"IF($B$10=\"Farchana\",Farchana!B39,IF($B$10=\"Gaga\",Gaga!B58,IF($B$10=\"Treguine\",Treguine!B58,IF($B$10=\"Bredjing\",Bredjing!B58,\"\"))))","v":0},{"$f":"IF($B$10=\"Farchana\",Farchana!C39,IF($B$10=\"Gaga\",Gaga!C58,IF($B$10=\"Treguine\",Treguine!C58,IF($B$10=\"Bredjing\",Bredjing!C58,\"\"))))","v":0},null,null,{"$f":"IF($B$10=\"Farchana\",Farchana!G39,IF($B$10=\"Gaga\",Gaga!I58,IF($B$10=\"Treguine\",Treguine!G58,IF($B$10=\"Bredjing\",Bredjing!G58,\"\"))))","v":""}]
[{"$f":"IF($B$10=\"Farchana\",Farchana!A40,IF($B$10=\"Gaga\",Gaga!A59,IF($B$10=\"Treguine\",Treguine!A59,IF($B$10=\"Bredjing\",Bredjing!A59,\"\"))))","v":0},{"$f":"IF($B$10=\"Farchana\",Farchana!B40,IF($B$10=\"Gaga\",Gaga!B59,IF($B$10=\"Treguine\",Treguine!B59,IF($B$10=\"Bredjing\",Bredjing!B59,\"\"))))","v":0},{"$f":"IF($B$10=\"Farchana\",Farchana!C40,IF($B$10=\"Gaga\",Gaga!C59,IF($B$10=\"Treguine\",Treguine!C59,IF($B$10=\"Bredjing\",Bredjing!C59,\"\"))))","v":0},null,null,{"$f":"IF($B$10=\"Farchana\",Farchana!G40,IF($B$10=\"Gaga\",Gaga!I59,IF($B$10=\"Treguine\",Treguine!G59,IF($B$10=\"Bredjing\",Bredjing!G59,\"\"))))","v":""}]
[{"$f":"IF($B$10=\"Farchana\",Farchana!A41,IF($B$10=\"Gaga\",Gaga!A60,IF($B$10=\"Treguine\",Treguine!A60,IF($B$10=\"Bredjing\",Bredjing!A60,\"\"))))","v":0},{"$f":"IF($B$10=\"Farchana\",Farchana!B41,IF($B$10=\"Gaga\",Gaga!B60,IF($B$10=\"Treguine\",Treguine!B60,IF($B$10=\"Bredjing\",Bredjing!B60,\"\"))))","v":0},{"$f":"IF($B$10=\"Farchana\",Farchana!C41,IF($B$10=\"Gaga\",Gaga!C60,IF($B$10=\"Treguine\",Treguine!C60,IF($B$10=\"Bredjing\",Bredjing!C60,\"\"))))","v":0},null,null,{"$f":"IF($B$10=\"Farchana\",Farchana!G41,IF($B$10=\"Gaga\",Gaga!I60,IF($B$10=\"Treguine\",Treguine!G60,IF($B$10=\"Bredjing\",Bredjing!G60,\"\"))))","v":""}]
[{"$f":"IF($B$10=\"Farchana\",Farchana!A42,IF($B$10=\"Gaga\",Gaga!A61,IF($B$10=\"Treguine\",Treguine!A61,IF($B$10=\"Bredjing\",Bredjing!A61,\"\"))))","v":0},{"$f":"IF($B$10=\"Farchana\",Farchana!B42,IF($B$10=\"Gaga\",Gaga!B61,IF($B$10=\"Treguine\",Treguine!B61,IF($B$10=\"Bredjing\",Bredjing!B61,\"\"))))","v":0},{"$f":"IF($B$10=\"Farchana\",Farchana!C42,IF($B$10=\"Gaga\",Gaga!C61,IF($B$10=\"Treguine\",Treguine!C61,IF($B$10=\"Bredjing\",Bredjing!C61,\"\"))))","v":0},null,null,{"$f":"IF($B$10=\"Farchana\",Farchana!G42,IF($B$10=\"Gaga\",Gaga!I61,IF($B$10=\"Treguine\",Treguine!G61,IF($B$10=\"Bredjing\",Bredjing!G61,\"\"))))","v":""}]
[{"$f":"IF($B$10=\"Farchana\",Farchana!A43,IF($B$10=\"Gaga\",Gaga!A62,IF($B$10=\"Treguine\",Treguine!A62,IF($B$10=\"Bredjing\",Bredjing!A62,\"\"))))","v":0},{"$f":"IF($B$10=\"Farchana\",Farchana!B43,IF($B$10=\"Gaga\",Gaga!B62,IF($B$10=\"Treguine\",Treguine!B62,IF($B$10=\"Bredjing\",Bredjing!B62,\"\"))))","v":0},{"$f":"IF($B$10=\"Farchana\",Farchana!C43,IF($B$10=\"Gaga\",Gaga!C62,IF($B$10=\"Treguine\",Treguine!C62,IF($B$10=\"Bredjing\",Bredjing!C62,\"\"))))","v":0},null,null,{"$f":"IF($B$10=\"Farchana\",Farchana!G43,IF($B$10=\"Gaga\",Gaga!I62,IF($B$10=\"Treguine\",Treguine!G62,IF($B$10=\"Bredjing\",Bredjing!G62,\"\"))))","v":""}]
[{"$f":"IF($B$10=\"Farchana\",Farchana!A44,IF($B$10=\"Gaga\",Gaga!A63,IF($B$10=\"Treguine\",Treguine!A63,IF($B$10=\"Bredjing\",Bredjing!A63,\"\"))))","v":0},{"$f":"IF($B$10=\"Farchana\",Farchana!B44,IF($B$10=\"Gaga\",Gaga!B63,IF($B$10=\"Treguine\",Treguine!B63,IF($B$10=\"Bredjing\",Bredjing!B63,\"\"))))","v":0},{"$f":"IF($B$10=\"Farchana\",Farchana!C44,IF($B$10=\"Gaga\",Gaga!C63,IF($B$10=\"Treguine\",Treguine!C63,IF($B$10=\"Bredjing\",Bredjing!C63,\"\"))))","v":0},null,null,{"$f":"IF($B$10=\"Farchana\",Farchana!G44,IF($B$10=\"Gaga\",Gaga!I63,IF($B$10=\"Treguine\",Treguine!G63,IF($B$10=\"Bredjing\",Bredjing!G63,\"\"))))","v":""}]
[{"$f":"IF($B$10=\"Farchana\",Farchana!A45,IF($B$10=\"Gaga\",Gaga!A64,IF($B$10=\"Treguine\",Treguine!A64,IF($B$10=\"Bredjing\",Bredjing!A64,\"\"))))","v":0},{"$f":"IF($B$10=\"Farchana\",Farchana!B45,IF($B$10=\"Gaga\",Gaga!B64,IF($B$10=\"Treguine\",Treguine!B64,IF($B$10=\"Bredjing\",Bredjing!B64,\"\"))))","v":0},{"$f":"IF($B$10=\"Farchana\",Farchana!C45,IF($B$10=\"Gaga\",Gaga!C64,IF($B$10=\"Treguine\",Treguine!C64,IF($B$10=\"Bredjing\",Bredjing!C64,\"\"))))","v":0},null,null,{"$f":"IF($B$10=\"Farchana\",Farchana!G45,IF($B$10=\"Gaga\",Gaga!I64,IF($B$10=\"Treguine\",Treguine!G64,IF($B$10=\"Bredjing\",Bredjing!G64,\"\"))))","v":""}]
[{"$f":"IF($B$10=\"Farchana\",Farchana!A46,IF($B$10=\"Gaga\",Gaga!A65,IF($B$10=\"Treguine\",Treguine!A65,IF($B$10=\"Bredjing\",Bredjing!A65,\"\"))))","v":0},{"$f":"IF($B$10=\"Farchana\",Farchana!B46,IF($B$10=\"Gaga\",Gaga!B65,IF($B$10=\"Treguine\",Treguine!B65,IF($B$10=\"Bredjing\",Bredjing!B65,\"\"))))","v":0},{"$f":"IF($B$10=\"Farchana\",Farchana!C46,IF($B$10=\"Gaga\",Gaga!C65,IF($B$10=\"Treguine\",Treguine!C65,IF($B$10=\"Bredjing\",Bredjing!C65,\"\"))))","v":0},null,null,{"$f":"IF($B$10=\"Farchana\",Farchana!G46,IF($B$10=\"Gaga\",Gaga!I65,IF($B$10=\"Treguine\",Treguine!G65,IF($B$10=\"Bredjing\",Bredjing!G65,\"\"))))","v":""}]
[{"$f":"IF($B$10=\"Farchana\",Farchana!A47,IF($B$10=\"Gaga\",Gaga!A66,IF($B$10=\"Treguine\",Treguine!A66,IF($B$10=\"Bredjing\",Bredjing!A66,\"\"))))","v":0},{"$f":"IF($B$10=\"Farchana\",Farchana!B47,IF($B$10=\"Gaga\",Gaga!B66,IF($B$10=\"Treguine\",Treguine!B66,IF($B$10=\"Bredjing\",Bredjing!B66,\"\"))))","v":0},{"$f":"IF($B$10=\"Farchana\",Farchana!C47,IF($B$10=\"Gaga\",Gaga!C66,IF($B$10=\"Treguine\",Treguine!C66,IF($B$10=\"Bredjing\",Bredjing!C66,\"\"))))","v":0},null,null,{"$f":"IF($B$10=\"Farchana\",Farchana!G47,IF($B$10=\"Gaga\",Gaga!I66,IF($B$10=\"Treguine\",Treguine!G66,IF($B$10=\"Bredjing\",Bredjing!G66,\"\"))))","v":""}]
[{"$f":"IF($B$10=\"Farchana\",Farchana!A48,IF($B$10=\"Gaga\",Gaga!A67,IF($B$10=\"Treguine\",Treguine!A67,IF($B$10=\"Bredjing\",Bredjing!A67,\"\"))))","v":0},{"$f":"IF($B$10=\"Farchana\",Farchana!B48,IF($B$10=\"Gaga\",Gaga!B67,IF($B$10=\"Treguine\",Treguine!B67,IF($B$10=\"Bredjing\",Bredjing!B67,\"\"))))","v":0},{"$f":"IF($B$10=\"Farchana\",Farchana!C48,IF($B$10=\"Gaga\",Gaga!C67,IF($B$10=\"Treguine\",Treguine!C67,IF($B$10=\"Bredjing\",Bredjing!C67,\"\"))))","v":0},null,null,{"$f":"IF($B$10=\"Farchana\",Farchana!G48,IF($B$10=\"Gaga\",Gaga!I67,IF($B$10=\"Treguine\",Treguine!G67,IF($B$10=\"Bredjing\",Bredjing!G67,\"\"))))","v":""}]
[{"$f":"IF($B$10=\"Farchana\",Farchana!A49,IF($B$10=\"Gaga\",Gaga!A68,IF($B$10=\"Treguine\",Treguine!A68,IF($B$10=\"Bredjing\",Bredjing!A68,\"\"))))","v":0},{"$f":"IF($B$10=\"Farchana\",Farchana!B49,IF($B$10=\"Gaga\",Gaga!B68,IF($B$10=\"Treguine\",Treguine!B68,IF($B$10=\"Bredjing\",Bredjing!B68,\"\"))))","v":0},{"$f":"IF($B$10=\"Farchana\",Farchana!C49,IF($B$10=\"Gaga\",Gaga!C68,IF($B$10=\"Treguine\",Treguine!C68,IF($B$10=\"Bredjing\",Bredjing!C68,\"\"))))","v":0},null,null,{"$f":"IF($B$10=\"Farchana\",Farchana!G49,IF($B$10=\"Gaga\",Gaga!I68,IF($B$10=\"Treguine\",Treguine!G68,IF($B$10=\"Bredjing\",Bredjing!G68,\"\"))))","v":""}]
[{"$f":"IF($B$10=\"Farchana\",Farchana!A50,IF($B$10=\"Gaga\",Gaga!A69,IF($B$10=\"Treguine\",Treguine!A69,IF($B$10=\"Bredjing\",Bredjing!A69,\"\"))))","v":0},{"$f":"IF($B$10=\"Farchana\",Farchana!B50,IF($B$10=\"Gaga\",Gaga!B69,IF($B$10=\"Treguine\",Treguine!B69,IF($B$10=\"Bredjing\",Bredjing!B69,\"\"))))","v":0},{"$f":"IF($B$10=\"Farchana\",Farchana!C50,IF($B$10=\"Gaga\",Gaga!C69,IF($B$10=\"Treguine\",Treguine!C69,IF($B$10=\"Bredjing\",Bredjing!C69,\"\"))))","v":0},null,null,{"$f":"IF($B$10=\"Farchana\",Farchana!G50,IF($B$10=\"Gaga\",Gaga!I69,IF($B$10=\"Treguine\",Treguine!G69,IF($B$10=\"Bredjing\",Bredjing!G69,\"\"))))","v":""}]
[{"$f":"IF($B$10=\"Farchana\",Farchana!A51,IF($B$10=\"Gaga\",Gaga!A70,IF($B$10=\"Treguine\",Treguine!A70,IF($B$10=\"Bredjing\",Bredjing!A70,\"\"))))","v":0},{"$f":"IF($B$10=\"Farchana\",Farchana!B51,IF($B$10=\"Gaga\",Gaga!B70,IF($B$10=\"Treguine\",Treguine!B70,IF($B$10=\"Bredjing\",Bredjing!B70,\"\"))))","v":0},{"$f":"IF($B$10=\"Farchana\",Farchana!C51,IF($B$10=\"Gaga\",Gaga!C70,IF($B$10=\"Treguine\",Treguine!C70,IF($B$10=\"Bredjing\",Bredjing!C70,\"\"))))","v":0},null,null,{"$f":"IF($B$10=\"Farchana\",Farchana!G51,IF($B$10=\"Gaga\",Gaga!I70,IF($B$10=\"Treguine\",Treguine!G70,IF($B$10=\"Bredjing\",Bredjing!G70,\"\"))))","v":""}]
[{"$f":"IF($B$10=\"Farchana\",Farchana!A52,IF($B$10=\"Gaga\",Gaga!A71,IF($B$10=\"Treguine\",Treguine!A71,IF($B$10=\"Bredjing\",Bredjing!A71,\"\"))))","v":0},{"$f":"IF($B$10=\"Farchana\",Farchana!B52,IF($B$10=\"Gaga\",Gaga!B71,IF($B$10=\"Treguine\",Treguine!B71,IF($B$10=\"Bredjing\",Bredjing!B71,\"\"))))","v":0},{"$f":"IF($B$10=\"Farchana\",Farchana!C52,IF($B$10=\"Gaga\",Gaga!C71,IF($B$10=\"Treguine\",Treguine!C71,IF($B$10=\"Bredjing\",Bredjing!C71,\"\"))))","v":0},null,null,{"$f":"IF($B$10=\"Farchana\",Farchana!G52,IF($B$10=\"Gaga\",Gaga!I71,IF($B$10=\"Treguine\",Treguine!G71,IF($B$10=\"Bredjing\",Bredjing!G71,\"\"))))","v":""}]
[{"$f":"IF($B$10=\"Farchana\",Farchana!A53,IF($B$10=\"Gaga\",Gaga!A72,IF($B$10=\"Treguine\",Treguine!A72,IF($B$10=\"Bredjing\",Bredjing!A72,\"\"))))","v":0},{"$f":"IF($B$10=\"Farchana\",Farchana!B53,IF($B$10=\"Gaga\",Gaga!B72,IF($B$10=\"Treguine\",Treguine!B72,IF($B$10=\"Bredjing\",Bredjing!B72,\"\"))))","v":0},{"$f":"IF($B$10=\"Farchana\",Farchana!C53,IF($B$10=\"Gaga\",Gaga!C72,IF($B$10=\"Treguine\",Treguine!C72,IF($B$10=\"Bredjing\",Bredjing!C72,\"\"))))","v":0},null,null,{"$f":"IF($B$10=\"Farchana\",Farchana!G53,IF($B$10=\"Gaga\",Gaga!I72,IF($B$10=\"Treguine\",Treguine!G72,IF($B$10=\"Bredjing\",Bredjing!G72,\"\"))))","v":""}]
[{"$f":"IF($B$10=\"Farchana\",Farchana!A54,IF($B$10=\"Gaga\",Gaga!A73,IF($B$10=\"Treguine\",Treguine!A73,IF($B$10=\"Bredjing\",Bredjing!A73,\"\"))))","v":0},{"$f":"IF($B$10=\"Farchana\",Farchana!B54,IF($B$10=\"Gaga\",Gaga!B73,IF($B$10=\"Treguine\",Treguine!B73,IF($B$10=\"Bredjing\",Bredjing!B73,\"\"))))","v":0},{"$f":"IF($B$10=\"Farchana\",Farchana!C54,IF($B$10=\"Gaga\",Gaga!C73,IF($B$10=\"Treguine\",Treguine!C73,IF($B$10=\"Bredjing\",Bredjing!C73,\"\"))))","v":0},null,null,{"$f":"IF($B$10=\"Farchana\",Farchana!G54,IF($B$10=\"Gaga\",Gaga!I73,IF($B$10=\"Treguine\",Treguine!G73,IF($B$10=\"Bredjing\",Bredjing!G73,\"\"))))","v":""}]
[{"$f":"IF($B$10=\"Farchana\",Farchana!A55,IF($B$10=\"Gaga\",Gaga!A74,IF($B$10=\"Treguine\",Treguine!A74,IF($B$10=\"Bredjing\",Bredjing!A74,\"\"))))","v":0},{"$f":"IF($B$10=\"Farchana\",Farchana!B55,IF($B$10=\"Gaga\",Gaga!B74,IF($B$10=\"Treguine\",Treguine!B74,IF($B$10=\"Bredjing\",Bredjing!B74,\"\"))))","v":0},{"$f":"IF($B$10=\"Farchana\",Farchana!C55,IF($B$10=\"Gaga\",Gaga!C74,IF($B$10=\"Treguine\",Treguine!C74,IF($B$10=\"Bredjing\",Bredjing!C74,\"\"))))","v":0},null,null,{"$f":"IF($B$10=\"Farchana\",Farchana!G55,IF($B$10=\"Gaga\",Gaga!I74,IF($B$10=\"Treguine\",Treguine!G74,IF($B$10=\"Bredjing\",Bredjing!G74,\"\"))))","v":""}]
[{"$f":"IF($B$10=\"Farchana\",Farchana!A56,IF($B$10=\"Gaga\",Gaga!A75,IF($B$10=\"Treguine\",Treguine!A75,IF($B$10=\"Bredjing\",Bredjing!A75,\"\"))))","v":0},{"$f":"IF($B$10=\"Farchana\",Farchana!B56,IF($B$10=\"Gaga\",Gaga!B75,IF($B$10=\"Treguine\",Treguine!B75,IF($B$10=\"Bredjing\",Bredjing!B75,\"\"))))","v":0},{"$f":"IF($B$10=\"Farchana\",Farchana!C56,IF($B$10=\"Gaga\",Gaga!C75,IF($B$10=\"Treguine\",Treguine!C75,IF($B$10=\"Bredjing\",Bredjing!C75,\"\"))))","v":0},null,null,{"$f":"IF($B$10=\"Farchana\",Farchana!G56,IF($B$10=\"Gaga\",Gaga!I75,IF($B$10=\"Treguine\",Treguine!G75,IF($B$10=\"Bredjing\",Bredjing!G75,\"\"))))","v":""}]
[{"$f":"IF($B$10=\"Farchana\",Farchana!A57,IF($B$10=\"Gaga\",Gaga!A76,IF($B$10=\"Treguine\",Treguine!A76,IF($B$10=\"Bredjing\",Bredjing!A76,\"\"))))","v":0},{"$f":"IF($B$10=\"Farchana\",Farchana!B57,IF($B$10=\"Gaga\",Gaga!B76,IF($B$10=\"Treguine\",Treguine!B76,IF($B$10=\"Bredjing\",Bredjing!B76,\"\"))))","v":0},{"$f":"IF($B$10=\"Farchana\",Farchana!C57,IF($B$10=\"Gaga\",Gaga!C76,IF($B$10=\"Treguine\",Treguine!C76,IF($B$10=\"Bredjing\",Bredjing!C76,\"\"))))","v":0},null,null,{"$f":"IF($B$10=\"Farchana\",Farchana!G57,IF($B$10=\"Gaga\",Gaga!I76,IF($B$10=\"Treguine\",Treguine!G76,IF($B$10=\"Bredjing\",Bredjing!G76,\"\"))))","v":""}]
[{"$f":"IF($B$10=\"Farchana\",Farchana!A58,IF($B$10=\"Gaga\",Gaga!A77,IF($B$10=\"Treguine\",Treguine!A77,IF($B$10=\"Bredjing\",Bredjing!A77,\"\"))))","v":0},{"$f":"IF($B$10=\"Farchana\",Farchana!B58,IF($B$10=\"Gaga\",Gaga!B77,IF($B$10=\"Treguine\",Treguine!B77,IF($B$10=\"Bredjing\",Bredjing!B77,\"\"))))","v":0},{"$f":"IF($B$10=\"Farchana\",Farchana!C58,IF($B$10=\"Gaga\",Gaga!C77,IF($B$10=\"Treguine\",Treguine!C77,IF($B$10=\"Bredjing\",Bredjing!C77,\"\"))))","v":0},null,null,{"$f":"IF($B$10=\"Farchana\",Farchana!G58,IF($B$10=\"Gaga\",Gaga!I77,IF($B$10=\"Treguine\",Treguine!G77,IF($B$10=\"Bredjing\",Bredjing!G77,\"\"))))","v":""}]
[{"$f":"IF($B$10=\"Farchana\",Farchana!A59,IF($B$10=\"Gaga\",Gaga!A78,IF($B$10=\"Treguine\",Treguine!A78,IF($B$10=\"Bredjing\",Bredjing!A78,\"\"))))","v":0},{"$f":"IF($B$10=\"Farchana\",Farchana!B59,IF($B$10=\"Gaga\",Gaga!B78,IF($B$10=\"Treguine\",Treguine!B78,IF($B$10=\"Bredjing\",Bredjing!B78,\"\"))))","v":0},{"$f":"IF($B$10=\"Farchana\",Farchana!C59,IF($B$10=\"Gaga\",Gaga!C78,IF($B$10=\"Treguine\",Treguine!C78,IF($B$10=\"Bredjing\",Bredjing!C78,\"\"))))","v":0},null,null,{"$f":"IF($B$10=\"Farchana\",Farchana!G59,IF($B$10=\"Gaga\",Gaga!I78,IF($B$10=\"Treguine\",Treguine!G78,IF($B$10=\"Bredjing\",Bredjing!G78,\"\"))))","v":""}]
[{"$f":"IF($B$10=\"Farchana\",Farchana!A60,IF($B$10=\"Gaga\",Gaga!A79,IF($B$10=\"Treguine\",Treguine!A79,IF($B$10=\"Bredjing\",Bredjing!A79,\"\"))))","v":0},{"$f":"IF($B$10=\"Farchana\",Farchana!B60,IF($B$10=\"Gaga\",Gaga!B79,IF($B$10=\"Treguine\",Treguine!B79,IF($B$10=\"Bredjing\",Bredjing!B79,\"\"))))","v":0},{"$f":"IF($B$10=\"Farchana\",Farchana!C60,IF($B$10=\"Gaga\",Gaga!C79,IF($B$10=\"Treguine\",Treguine!C79,IF($B$10=\"Bredjing\",Bredjing!C79,\"\"))))","v":0},null,null,{"$f":"IF($B$10=\"Farchana\",Farchana!G60,IF($B$10=\"Gaga\",Gaga!I79,IF($B$10=\"Treguine\",Treguine!G79,IF($B$10=\"Bredjing\",Bredjing!G79,\"\"))))","v":""}]
[{"$f":"IF($B$10=\"Farchana\",Farchana!A61,IF($B$10=\"Gaga\",Gaga!A80,IF($B$10=\"Treguine\",Treguine!A80,IF($B$10=\"Bredjing\",Bredjing!A80,\"\"))))","v":0},{"$f":"IF($B$10=\"Farchana\",Farchana!B61,IF($B$10=\"Gaga\",Gaga!B80,IF($B$10=\"Treguine\",Treguine!B80,IF($B$10=\"Bredjing\",Bredjing!B80,\"\"))))","v":0},{"$f":"IF($B$10=\"Farchana\",Farchana!C61,IF($B$10=\"Gaga\",Gaga!C80,IF($B$10=\"Treguine\",Treguine!C80,IF($B$10=\"Bredjing\",Bredjing!C80,\"\"))))","v":0},null,null,{"$f":"IF($B$10=\"Farchana\",Farchana!G61,IF($B$10=\"Gaga\",Gaga!I80,IF($B$10=\"Treguine\",Treguine!G80,IF($B$10=\"Bredjing\",Bredjing!G80,\"\"))))","v":""},null,null,null,"B"]
[{"$f":"IF($B$10=\"Farchana\",Farchana!A62,IF($B$10=\"Gaga\",Gaga!A81,IF($B$10=\"Treguine\",Treguine!A81,IF($B$10=\"Bredjing\",Bredjing!A81,\"\"))))","v":0},{"$f":"IF($B$10=\"Farchana\",Farchana!B62,IF($B$10=\"Gaga\",Gaga!B81,IF($B$10=\"Treguine\",Treguine!B81,IF($B$10=\"Bredjing\",Bredjing!B81,\"\"))))","v":0},{"$f":"IF($B$10=\"Farchana\",Farchana!C62,IF($B$10=\"Gaga\",Gaga!C81,IF($B$10=\"Treguine\",Treguine!C81,IF($B$10=\"Bredjing\",Bredjing!C81,\"\"))))","v":0},null,null,{"$f":"IF($B$10=\"Farchana\",Farchana!G62,IF($B$10=\"Gaga\",Gaga!I81,IF($B$10=\"Treguine\",Treguine!G81,IF($B$10=\"Bredjing\",Bredjing!G81,\"\"))))","v":""}]
[{"$f":"IF($B$10=\"Farchana\",Farchana!A63,IF($B$10=\"Gaga\",Gaga!A82,IF($B$10=\"Treguine\",Treguine!A82,IF($B$10=\"Bredjing\",Bredjing!A82,\"\"))))","v":0},{"$f":"IF($B$10=\"Farchana\",Farchana!B63,IF($B$10=\"Gaga\",Gaga!B82,IF($B$10=\"Treguine\",Treguine!B82,IF($B$10=\"Bredjing\",Bredjing!B82,\"\"))))","v":0},{"$f":"IF($B$10=\"Farchana\",Farchana!C63,IF($B$10=\"Gaga\",Gaga!C82,IF($B$10=\"Treguine\",Treguine!C82,IF($B$10=\"Bredjing\",Bredjing!C82,\"\"))))","v":0},null,null,{"$f":"IF($B$10=\"Farchana\",Farchana!G63,IF($B$10=\"Gaga\",Gaga!I82,IF($B$10=\"Treguine\",Treguine!G82,IF($B$10=\"Bredjing\",Bredjing!G82,\"\"))))","v":""}]
[{"$f":"IF($B$10=\"Farchana\",Farchana!A64,IF($B$10=\"Gaga\",Gaga!A83,IF($B$10=\"Treguine\",Treguine!A83,IF($B$10=\"Bredjing\",Bredjing!A83,\"\"))))","v":0},{"$f":"IF($B$10=\"Farchana\",Farchana!B64,IF($B$10=\"Gaga\",Gaga!B83,IF($B$10=\"Treguine\",Treguine!B83,IF($B$10=\"Bredjing\",Bredjing!B83,\"\"))))","v":0},{"$f":"IF($B$10=\"Farchana\",Farchana!C64,IF($B$10=\"Gaga\",Gaga!C83,IF($B$10=\"Treguine\",Treguine!C83,IF($B$10=\"Bredjing\",Bredjing!C83,\"\"))))","v":0},null,null,{"$f":"IF($B$10=\"Farchana\",Farchana!G64,IF($B$10=\"Gaga\",Gaga!I83,IF($B$10=\"Treguine\",Treguine!G83,IF($B$10=\"Bredjing\",Bredjing!G83,\"\"))))","v":""}]
[{"$f":"IF($B$10=\"Farchana\",Farchana!A65,IF($B$10=\"Gaga\",Gaga!A84,IF($B$10=\"Treguine\",Treguine!A84,IF($B$10=\"Bredjing\",Bredjing!A84,\"\"))))","v":0},{"$f":"IF($B$10=\"Farchana\",Farchana!B65,IF($B$10=\"Gaga\",Gaga!B84,IF($B$10=\"Treguine\",Treguine!B84,IF($B$10=\"Bredjing\",Bredjing!B84,\"\"))))","v":0},{"$f":"IF($B$10=\"Farchana\",Farchana!C65,IF($B$10=\"Gaga\",Gaga!C84,IF($B$10=\"Treguine\",Treguine!C84,IF($B$10=\"Bredjing\",Bredjing!C84,\"\"))))","v":0},null,null,{"$f":"IF($B$10=\"Farchana\",Farchana!G65,IF($B$10=\"Gaga\",Gaga!I84,IF($B$10=\"Treguine\",Treguine!G84,IF($B$10=\"Bredjing\",Bredjing!G84,\"\"))))","v":""}]
[{"$f":"IF($B$10=\"Farchana\",Farchana!A66,IF($B$10=\"Gaga\",Gaga!A85,IF($B$10=\"Treguine\",Treguine!A85,IF($B$10=\"Bredjing\",Bredjing!A85,\"\"))))","v":0},{"$f":"IF($B$10=\"Farchana\",Farchana!B66,IF($B$10=\"Gaga\",Gaga!B85,IF($B$10=\"Treguine\",Treguine!B85,IF($B$10=\"Bredjing\",Bredjing!B85,\"\"))))","v":0},{"$f":"IF($B$10=\"Farchana\",Farchana!C66,IF($B$10=\"Gaga\",Gaga!C85,IF($B$10=\"Treguine\",Treguine!C85,IF($B$10=\"Bredjing\",Bredjing!C85,\"\"))))","v":0},null,null,{"$f":"IF($B$10=\"Farchana\",Farchana!G66,IF($B$10=\"Gaga\",Gaga!I85,IF($B$10=\"Treguine\",Treguine!G85,IF($B$10=\"Bredjing\",Bredjing!G85,\"\"))))","v":""}]
[{"$f":"IF($B$10=\"Farchana\",Farchana!A67,IF($B$10=\"Gaga\",Gaga!A86,IF($B$10=\"Treguine\",Treguine!A86,IF($B$10=\"Bredjing\",Bredjing!A86,\"\"))))","v":0},{"$f":"IF($B$10=\"Farchana\",Farchana!B67,IF($B$10=\"Gaga\",Gaga!B86,IF($B$10=\"Treguine\",Treguine!B86,IF($B$10=\"Bredjing\",Bredjing!B86,\"\"))))","v":0},{"$f":"IF($B$10=\"Farchana\",Farchana!C67,IF($B$10=\"Gaga\",Gaga!C86,IF($B$10=\"Treguine\",Treguine!C86,IF($B$10=\"Bredjing\",Bredjing!C86,\"\"))))","v":0},null,null,{"$f":"IF($B$10=\"Farchana\",Farchana!G67,IF($B$10=\"Gaga\",Gaga!I86,IF($B$10=\"Treguine\",Treguine!G86,IF($B$10=\"Bredjing\",Bredjing!G86,\"\"))))","v":""}]
[{"$f":"IF($B$10=\"Farchana\",Farchana!A68,IF($B$10=\"Gaga\",Gaga!A87,IF($B$10=\"Treguine\",Treguine!A87,IF($B$10=\"Bredjing\",Bredjing!A87,\"\"))))","v":0},{"$f":"IF($B$10=\"Farchana\",Farchana!B68,IF($B$10=\"Gaga\",Gaga!B87,IF($B$10=\"Treguine\",Treguine!B87,IF($B$10=\"Bredjing\",Bredjing!B87,\"\"))))","v":0},{"$f":"IF($B$10=\"Farchana\",Farchana!C68,IF($B$10=\"Gaga\",Gaga!C87,IF($B$10=\"Treguine\",Treguine!C87,IF($B$10=\"Bredjing\",Bredjing!C87,\"\"))))","v":0},null,null,{"$f":"IF($B$10=\"Farchana\",Farchana!G68,IF($B$10=\"Gaga\",Gaga!I87,IF($B$10=\"Treguine\",Treguine!G87,IF($B$10=\"Bredjing\",Bredjing!G87,\"\"))))","v":""}]
[{"$f":"IF($B$10=\"Farchana\",Farchana!A69,IF($B$10=\"Gaga\",Gaga!A88,IF($B$10=\"Treguine\",Treguine!A88,IF($B$10=\"Bredjing\",Bredjing!A88,\"\"))))","v":0},{"$f":"IF($B$10=\"Farchana\",Farchana!B69,IF($B$10=\"Gaga\",Gaga!B88,IF($B$10=\"Treguine\",Treguine!B88,IF($B$10=\"Bredjing\",Bredjing!B88,\"\"))))","v":0},{"$f":"IF($B$10=\"Farchana\",Farchana!C69,IF($B$10=\"Gaga\",Gaga!C88,IF($B$10=\"Treguine\",Treguine!C88,IF($B$10=\"Bredjing\",Bredjing!C88,\"\"))))","v":0},null,null,{"$f":"IF($B$10=\"Farchana\",Farchana!G69,IF($B$10=\"Gaga\",Gaga!I88,IF($B$10=\"Treguine\",Treguine!G88,IF($B$10=\"Bredjing\",Bredjing!G88,\"\"))))","v":""}]
[{"$f":"IF($B$10=\"Farchana\",Farchana!A70,IF($B$10=\"Gaga\",Gaga!A89,IF($B$10=\"Treguine\",Treguine!A89,IF($B$10=\"Bredjing\",Bredjing!A89,\"\"))))","v":0},{"$f":"IF($B$10=\"Farchana\",Farchana!B70,IF($B$10=\"Gaga\",Gaga!B89,IF($B$10=\"Treguine\",Treguine!B89,IF($B$10=\"Bredjing\",Bredjing!B89,\"\"))))","v":0},{"$f":"IF($B$10=\"Farchana\",Farchana!C70,IF($B$10=\"Gaga\",Gaga!C89,IF($B$10=\"Treguine\",Treguine!C89,IF($B$10=\"Bredjing\",Bredjing!C89,\"\"))))","v":0},null,null,{"$f":"IF($B$10=\"Farchana\",Farchana!G70,IF($B$10=\"Gaga\",Gaga!I89,IF($B$10=\"Treguine\",Treguine!G89,IF($B$10=\"Bredjing\",Bredjing!G89,\"\"))))","v":""}]
[{"$f":"IF($B$10=\"Farchana\",Farchana!A71,IF($B$10=\"Gaga\",Gaga!A90,IF($B$10=\"Treguine\",Treguine!A90,IF($B$10=\"Bredjing\",Bredjing!A90,\"\"))))","v":0},{"$f":"IF($B$10=\"Farchana\",Farchana!B71,IF($B$10=\"Gaga\",Gaga!B90,IF($B$10=\"Treguine\",Treguine!B90,IF($B$10=\"Bredjing\",Bredjing!B90,\"\"))))","v":0},{"$f":"IF($B$10=\"Farchana\",Farchana!C71,IF($B$10=\"Gaga\",Gaga!C90,IF($B$10=\"Treguine\",Treguine!C90,IF($B$10=\"Bredjing\",Bredjing!C90,\"\"))))","v":0},null,null,{"$f":"IF($B$10=\"Farchana\",Farchana!G71,IF($B$10=\"Gaga\",Gaga!I90,IF($B$10=\"Treguine\",Treguine!G90,IF($B$10=\"Bredjing\",Bredjing!G90,\"\"))))","v":""}]
[{"$f":"IF($B$10=\"Farchana\",Farchana!A72,IF($B$10=\"Gaga\",Gaga!A91,IF($B$10=\"Treguine\",Treguine!A91,IF($B$10=\"Bredjing\",Bredjing!A91,\"\"))))","v":0},{"$f":"IF($B$10=\"Farchana\",Farchana!B72,IF($B$10=\"Gaga\",Gaga!B91,IF($B$10=\"Treguine\",Treguine!B91,IF($B$10=\"Bredjing\",Bredjing!B91,\"\"))))","v":0},{"$f":"IF($B$10=\"Farchana\",Farchana!C72,IF($B$10=\"Gaga\",Gaga!C91,IF($B$10=\"Treguine\",Treguine!C91,IF($B$10=\"Bredjing\",Bredjing!C91,\"\"))))","v":0},null,null,{"$f":"IF($B$10=\"Farchana\",Farchana!G72,IF($B$10=\"Gaga\",Gaga!I91,IF($B$10=\"Treguine\",Treguine!G91,IF($B$10=\"Bredjing\",Bredjing!G91,\"\"))))","v":""}]
[{"$f":"IF($B$10=\"Farchana\",Farchana!A73,IF($B$10=\"Gaga\",Gaga!A92,IF($B$10=\"Treguine\",Treguine!A92,IF($B$10=\"Bredjing\",Bredjing!A92,\"\"))))","v":0},{"$f":"IF($B$10=\"Farchana\",Farchana!B73,IF($B$10=\"Gaga\",Gaga!B92,IF($B$10=\"Treguine\",Treguine!B92,IF($B$10=\"Bredjing\",Bredjing!B92,\"\"))))","v":0},{"$f":"IF($B$10=\"Farchana\",Farchana!C73,IF($B$10=\"Gaga\",Gaga!C92,IF($B$10=\"Treguine\",Treguine!C92,IF($B$10=\"Bredjing\",Bredjing!C92,\"\"))))","v":0},null,null,{"$f":"IF($B$10=\"Farchana\",Farchana!G73,IF($B$10=\"Gaga\",Gaga!I92,IF($B$10=\"Treguine\",Treguine!G92,IF($B$10=\"Bredjing\",Bredjing!G92,\"\"))))","v":""}]
[{"$f":"IF($B$10=\"Farchana\",Farchana!A74,IF($B$10=\"Gaga\",Gaga!A93,IF($B$10=\"Treguine\",Treguine!A93,IF($B$10=\"Bredjing\",Bredjing!A93,\"\"))))","v":0},{"$f":"IF($B$10=\"Farchana\",Farchana!B74,IF($B$10=\"Gaga\",Gaga!B93,IF($B$10=\"Treguine\",Treguine!B93,IF($B$10=\"Bredjing\",Bredjing!B93,\"\"))))","v":0},{"$f":"IF($B$10=\"Farchana\",Farchana!C74,IF($B$10=\"Gaga\",Gaga!C93,IF($B$10=\"Treguine\",Treguine!C93,IF($B$10=\"Bredjing\",Bredjing!C93,\"\"))))","v":0},null,null,{"$f":"IF($B$10=\"Farchana\",Farchana!G74,IF($B$10=\"Gaga\",Gaga!I93,IF($B$10=\"Treguine\",Treguine!G93,IF($B$10=\"Bredjing\",Bredjing!G93,\"\"))))","v":""}]
[{"$f":"IF($B$10=\"Farchana\",Farchana!A75,IF($B$10=\"Gaga\",Gaga!A94,IF($B$10=\"Treguine\",Treguine!A94,IF($B$10=\"Bredjing\",Bredjing!A94,\"\"))))","v":0},{"$f":"IF($B$10=\"Farchana\",Farchana!B75,IF($B$10=\"Gaga\",Gaga!B94,IF($B$10=\"Treguine\",Treguine!B94,IF($B$10=\"Bredjing\",Bredjing!B94,\"\"))))","v":0},{"$f":"IF($B$10=\"Farchana\",Farchana!C75,IF($B$10=\"Gaga\",Gaga!C94,IF($B$10=\"Treguine\",Treguine!C94,IF($B$10=\"Bredjing\",Bredjing!C94,\"\"))))","v":0},null,null,{"$f":"IF($B$10=\"Farchana\",Farchana!G75,IF($B$10=\"Gaga\",Gaga!I94,IF($B$10=\"Treguine\",Treguine!G94,IF($B$10=\"Bredjing\",Bredjing!G94,\"\"))))","v":""}]
[{"$f":"IF($B$10=\"Farchana\",Farchana!A76,IF($B$10=\"Gaga\",Gaga!A95,IF($B$10=\"Treguine\",Treguine!A95,IF($B$10=\"Bredjing\",Bredjing!A95,\"\"))))","v":0},{"$f":"IF($B$10=\"Farchana\",Farchana!B76,IF($B$10=\"Gaga\",Gaga!B95,IF($B$10=\"Treguine\",Treguine!B95,IF($B$10=\"Bredjing\",Bredjing!B95,\"\"))))","v":0},{"$f":"IF($B$10=\"Farchana\",Farchana!C76,IF($B$10=\"Gaga\",Gaga!C95,IF($B$10=\"Treguine\",Treguine!C95,IF($B$10=\"Bredjing\",Bredjing!C95,\"\"))))","v":0},null,null,{"$f":"IF($B$10=\"Farchana\",Farchana!G76,IF($B$10=\"Gaga\",Gaga!I95,IF($B$10=\"Treguine\",Treguine!G95,IF($B$10=\"Bredjing\",Bredjing!G95,\"\"))))","v":""}]
[{"$f":"IF($B$10=\"Farchana\",Farchana!A77,IF($B$10=\"Gaga\",Gaga!A96,IF($B$10=\"Treguine\",Treguine!A96,IF($B$10=\"Bredjing\",Bredjing!A96,\"\"))))","v":0},{"$f":"IF($B$10=\"Farchana\",Farchana!B77,IF($B$10=\"Gaga\",Gaga!B96,IF($B$10=\"Treguine\",Treguine!B96,IF($B$10=\"Bredjing\",Bredjing!B96,\"\"))))","v":0},{"$f":"IF($B$10=\"Farchana\",Farchana!C77,IF($B$10=\"Gaga\",Gaga!C96,IF($B$10=\"Treguine\",Treguine!C96,IF($B$10=\"Bredjing\",Bredjing!C96,\"\"))))","v":0},null,null,{"$f":"IF($B$10=\"Farchana\",Farchana!G77,IF($B$10=\"Gaga\",Gaga!I96,IF($B$10=\"Treguine\",Treguine!G96,IF($B$10=\"Bredjing\",Bredjing!G96,\"\"))))","v":""}]
[{"$f":"IF($B$10=\"Farchana\",Farchana!A78,IF($B$10=\"Gaga\",Gaga!A97,IF($B$10=\"Treguine\",Treguine!A97,IF($B$10=\"Bredjing\",Bredjing!A97,\"\"))))","v":0},{"$f":"IF($B$10=\"Farchana\",Farchana!B78,IF($B$10=\"Gaga\",Gaga!B97,IF($B$10=\"Treguine\",Treguine!B97,IF($B$10=\"Bredjing\",Bredjing!B97,\"\"))))","v":0},{"$f":"IF($B$10=\"Farchana\",Farchana!C78,IF($B$10=\"Gaga\",Gaga!C97,IF($B$10=\"Treguine\",Treguine!C97,IF($B$10=\"Bredjing\",Bredjing!C97,\"\"))))","v":0},null,null,{"$f":"IF($B$10=\"Farchana\",Farchana!G78,IF($B$10=\"Gaga\",Gaga!I97,IF($B$10=\"Treguine\",Treguine!G97,IF($B$10=\"Bredjing\",Bredjing!G97,\"\"))))","v":""}]
[{"$f":"IF($B$10=\"Farchana\",Farchana!A79,IF($B$10=\"Gaga\",Gaga!A98,IF($B$10=\"Treguine\",Treguine!A98,IF($B$10=\"Bredjing\",Bredjing!A98,\"\"))))","v":0},{"$f":"IF($B$10=\"Farchana\",Farchana!B79,IF($B$10=\"Gaga\",Gaga!B98,IF($B$10=\"Treguine\",Treguine!B98,IF($B$10=\"Bredjing\",Bredjing!B98,\"\"))))","v":0},{"$f":"IF($B$10=\"Farchana\",Farchana!C79,IF($B$10=\"Gaga\",Gaga!C98,IF($B$10=\"Treguine\",Treguine!C98,IF($B$10=\"Bredjing\",Bredjing!C98,\"\"))))","v":0},null,null,{"$f":"IF($B$10=\"Farchana\",Farchana!G79,IF($B$10=\"Gaga\",Gaga!I98,IF($B$10=\"Treguine\",Treguine!G98,IF($B$10=\"Bredjing\",Bredjing!G98,\"\"))))","v":""}]
[{"$f":"IF($B$10=\"Farchana\",Farchana!A80,IF($B$10=\"Gaga\",Gaga!A99,IF($B$10=\"Treguine\",Treguine!A99,IF($B$10=\"Bredjing\",Bredjing!A99,\"\"))))","v":0},{"$f":"IF($B$10=\"Farchana\",Farchana!B80,IF($B$10=\"Gaga\",Gaga!B99,IF($B$10=\"Treguine\",Treguine!B99,IF($B$10=\"Bredjing\",Bredjing!B99,\"\"))))","v":0},{"$f":"IF($B$10=\"Farchana\",Farchana!C80,IF($B$10=\"Gaga\",Gaga!C99,IF($B$10=\"Treguine\",Treguine!C99,IF($B$10=\"Bredjing\",Bredjing!C99,\"\"))))","v":0},null,null,{"$f":"IF($B$10=\"Farchana\",Farchana!G80,IF($B$10=\"Gaga\",Gaga!I99,IF($B$10=\"Treguine\",Treguine!G99,IF($B$10=\"Bredjing\",Bredjing!G99,\"\"))))","v":""}]
[{"$f":"IF($B$10=\"Farchana\",Farchana!A81,IF($B$10=\"Gaga\",Gaga!A100,IF($B$10=\"Treguine\",Treguine!A100,IF($B$10=\"Bredjing\",Bredjing!A100,\"\"))))","v":0},{"$f":"IF($B$10=\"Farchana\",Farchana!B81,IF($B$10=\"Gaga\",Gaga!B100,IF($B$10=\"Treguine\",Treguine!B100,IF($B$10=\"Bredjing\",Bredjing!B100,\"\"))))","v":0},{"$f":"IF($B$10=\"Farchana\",Farchana!C81,IF($B$10=\"Gaga\",Gaga!C100,IF($B$10=\"Treguine\",Treguine!C100,IF($B$10=\"Bredjing\",Bredjing!C100,\"\"))))","v":0},null,null,{"$f":"IF($B$10=\"Farchana\",Farchana!G81,IF($B$10=\"Gaga\",Gaga!I100,IF($B$10=\"Treguine\",Treguine!G100,IF($B$10=\"Bredjing\",Bredjing!G100,\"\"))))","v":""}]
[{"$f":"IF($B$10=\"Farchana\",Farchana!A82,IF($B$10=\"Gaga\",Gaga!A101,IF($B$10=\"Treguine\",Treguine!A101,IF($B$10=\"Bredjing\",Bredjing!A101,\"\"))))","v":0},{"$f":"IF($B$10=\"Farchana\",Farchana!B82,IF($B$10=\"Gaga\",Gaga!B101,IF($B$10=\"Treguine\",Treguine!B101,IF($B$10=\"Bredjing\",Bredjing!B101,\"\"))))","v":0},{"$f":"IF($B$10=\"Farchana\",Farchana!C82,IF($B$10=\"Gaga\",Gaga!C101,IF($B$10=\"Treguine\",Treguine!C101,IF($B$10=\"Bredjing\",Bredjing!C101,\"\"))))","v":0},null,null,{"$f":"IF($B$10=\"Farchana\",Farchana!G82,IF($B$10=\"Gaga\",Gaga!I101,IF($B$10=\"Treguine\",Treguine!G101,IF($B$10=\"Bredjing\",Bredjing!G101,\"\"))))","v":""}]
[{"$f":"IF($B$10=\"Farchana\",Farchana!A83,IF($B$10=\"Gaga\",Gaga!A102,IF($B$10=\"Treguine\",Treguine!A102,IF($B$10=\"Bredjing\",Bredjing!A102,\"\"))))","v":0},{"$f":"IF($B$10=\"Farchana\",Farchana!B83,IF($B$10=\"Gaga\",Gaga!B102,IF($B$10=\"Treguine\",Treguine!B102,IF($B$10=\"Bredjing\",Bredjing!B102,\"\"))))","v":0},{"$f":"IF($B$10=\"Farchana\",Farchana!C83,IF($B$10=\"Gaga\",Gaga!C102,IF($B$10=\"Treguine\",Treguine!C102,IF($B$10=\"Bredjing\",Bredjing!C102,\"\"))))","v":0},null,null,{"$f":"IF($B$10=\"Farchana\",Farchana!G83,IF($B$10=\"Gaga\",Gaga!I102,IF($B$10=\"Treguine\",Treguine!G102,IF($B$10=\"Bredjing\",Bredjing!G102,\"\"))))","v":""}]
[{"$f":"IF($B$10=\"Farchana\",Farchana!A84,IF($B$10=\"Gaga\",Gaga!A103,IF($B$10=\"Treguine\",Treguine!A103,IF($B$10=\"Bredjing\",Bredjing!A103,\"\"))))","v":0},{"$f":"IF($B$10=\"Farchana\",Farchana!B84,IF($B$10=\"Gaga\",Gaga!B103,IF($B$10=\"Treguine\",Treguine!B103,IF($B$10=\"Bredjing\",Bredjing!B103,\"\"))))","v":0},{"$f":"IF($B$10=\"Farchana\",Farchana!C84,IF($B$10=\"Gaga\",Gaga!C103,IF($B$10=\"Treguine\",Treguine!C103,IF($B$10=\"Bredjing\",Bredjing!C103,\"\"))))","v":0},null,null,{"$f":"IF($B$10=\"Farchana\",Farchana!G84,IF($B$10=\"Gaga\",Gaga!I103,IF($B$10=\"Treguine\",Treguine!G103,IF($B$10=\"Bredjing\",Bredjing!G103,\"\"))))","v":""}]
[{"$f":"IF($B$10=\"Farchana\",Farchana!A85,IF($B$10=\"Gaga\",Gaga!A104,IF($B$10=\"Treguine\",Treguine!A104,IF($B$10=\"Bredjing\",Bredjing!A104,\"\"))))","v":0},{"$f":"IF($B$10=\"Farchana\",Farchana!B85,IF($B$10=\"Gaga\",Gaga!B104,IF($B$10=\"Treguine\",Treguine!B104,IF($B$10=\"Bredjing\",Bredjing!B104,\"\"))))","v":0},{"$f":"IF($B$10=\"Farchana\",Farchana!C85,IF($B$10=\"Gaga\",Gaga!C104,IF($B$10=\"Treguine\",Treguine!C104,IF($B$10=\"Bredjing\",Bredjing!C104,\"\"))))","v":0},null,null,{"$f":"IF($B$10=\"Farchana\",Farchana!G85,IF($B$10=\"Gaga\",Gaga!I104,IF($B$10=\"Treguine\",Treguine!G104,IF($B$10=\"Bredjing\",Bredjing!G104,\"\"))))","v":""}]
[{"$f":"IF($B$10=\"Farchana\",Farchana!A86,IF($B$10=\"Gaga\",Gaga!A105,IF($B$10=\"Treguine\",Treguine!A105,IF($B$10=\"Bredjing\",Bredjing!A105,\"\"))))","v":0},{"$f":"IF($B$10=\"Farchana\",Farchana!B86,IF($B$10=\"Gaga\",Gaga!B105,IF($B$10=\"Treguine\",Treguine!B105,IF($B$10=\"Bredjing\",Bredjing!B105,\"\"))))","v":0},{"$f":"IF($B$10=\"Farchana\",Farchana!C86,IF($B$10=\"Gaga\",Gaga!C105,IF($B$10=\"Treguine\",Treguine!C105,IF($B$10=\"Bredjing\",Bredjing!C105,\"\"))))","v":0},null,null,{"$f":"IF($B$10=\"Farchana\",Farchana!G86,IF($B$10=\"Gaga\",Gaga!I105,IF($B$10=\"Treguine\",Treguine!G105,IF($B$10=\"Bredjing\",Bredjing!G105,\"\"))))","v":""}]
[{"$f":"IF($B$10=\"Farchana\",Farchana!A87,IF($B$10=\"Gaga\",Gaga!A106,IF($B$10=\"Treguine\",Treguine!A106,IF($B$10=\"Bredjing\",Bredjing!A106,\"\"))))","v":0},{"$f":"IF($B$10=\"Farchana\",Farchana!B87,IF($B$10=\"Gaga\",Gaga!B106,IF($B$10=\"Treguine\",Treguine!B106,IF($B$10=\"Bredjing\",Bredjing!B106,\"\"))))","v":0},{"$f":"IF($B$10=\"Farchana\",Farchana!C87,IF($B$10=\"Gaga\",Gaga!C106,IF($B$10=\"Treguine\",Treguine!C106,IF($B$10=\"Bredjing\",Bredjing!C106,\"\"))))","v":0},null,null,{"$f":"IF($B$10=\"Farchana\",Farchana!G87,IF($B$10=\"Gaga\",Gaga!I106,IF($B$10=\"Treguine\",Treguine!G106,IF($B$10=\"Bredjing\",Bredjing!G106,\"\"))))","v":""}]
[{"$f":"IF($B$10=\"Farchana\",Farchana!A88,IF($B$10=\"Gaga\",Gaga!A107,IF($B$10=\"Treguine\",Treguine!A107,IF($B$10=\"Bredjing\",Bredjing!A107,\"\"))))","v":0},{"$f":"IF($B$10=\"Farchana\",Farchana!B88,IF($B$10=\"Gaga\",Gaga!B107,IF($B$10=\"Treguine\",Treguine!B107,IF($B$10=\"Bredjing\",Bredjing!B107,\"\"))))","v":0},{"$f":"IF($B$10=\"Farchana\",Farchana!C88,IF($B$10=\"Gaga\",Gaga!C107,IF($B$10=\"Treguine\",Treguine!C107,IF($B$10=\"Bredjing\",Bredjing!C107,\"\"))))","v":0},null,null,{"$f":"IF($B$10=\"Farchana\",Farchana!G88,IF($B$10=\"Gaga\",Gaga!I107,IF($B$10=\"Treguine\",Treguine!G107,IF($B$10=\"Bredjing\",Bredjing!G107,\"\"))))","v":""}]
[{"$f":"IF($B$10=\"Farchana\",Farchana!A89,IF($B$10=\"Gaga\",Gaga!A108,IF($B$10=\"Treguine\",Treguine!A108,IF($B$10=\"Bredjing\",Bredjing!A108,\"\"))))","v":0},{"$f":"IF($B$10=\"Farchana\",Farchana!B89,IF($B$10=\"Gaga\",Gaga!B108,IF($B$10=\"Treguine\",Treguine!B108,IF($B$10=\"Bredjing\",Bredjing!B108,\"\"))))","v":0},{"$f":"IF($B$10=\"Farchana\",Farchana!C89,IF($B$10=\"Gaga\",Gaga!C108,IF($B$10=\"Treguine\",Treguine!C108,IF($B$10=\"Bredjing\",Bredjing!C108,\"\"))))","v":0},null,null,{"$f":"IF($B$10=\"Farchana\",Farchana!G89,IF($B$10=\"Gaga\",Gaga!I108,IF($B$10=\"Treguine\",Treguine!G108,IF($B$10=\"Bredjing\",Bredjing!G108,\"\"))))","v":""}]
[{"$f":"IF($B$10=\"Farchana\",Farchana!A90,IF($B$10=\"Gaga\",Gaga!A109,IF($B$10=\"Treguine\",Treguine!A109,IF($B$10=\"Bredjing\",Bredjing!A109,\"\"))))","v":0},{"$f":"IF($B$10=\"Farchana\",Farchana!B90,IF($B$10=\"Gaga\",Gaga!B109,IF($B$10=\"Treguine\",Treguine!B109,IF($B$10=\"Bredjing\",Bredjing!B109,\"\"))))","v":0},{"$f":"IF($B$10=\"Farchana\",Farchana!C90,IF($B$10=\"Gaga\",Gaga!C109,IF($B$10=\"Treguine\",Treguine!C109,IF($B$10=\"Bredjing\",Bredjing!C109,\"\"))))","v":0},null,null,{"$f":"IF($B$10=\"Farchana\",Farchana!G90,IF($B$10=\"Gaga\",Gaga!I109,IF($B$10=\"Treguine\",Treguine!G109,IF($B$10=\"Bredjing\",Bredjing!G109,\"\"))))","v":""}]
[{"$f":"IF($B$10=\"Farchana\",Farchana!A91,IF($B$10=\"Gaga\",Gaga!A110,IF($B$10=\"Treguine\",Treguine!A110,IF($B$10=\"Bredjing\",Bredjing!A110,\"\"))))","v":0},{"$f":"IF($B$10=\"Farchana\",Farchana!B91,IF($B$10=\"Gaga\",Gaga!B110,IF($B$10=\"Treguine\",Treguine!B110,IF($B$10=\"Bredjing\",Bredjing!B110,\"\"))))","v":0},{"$f":"IF($B$10=\"Farchana\",Farchana!C91,IF($B$10=\"Gaga\",Gaga!C110,IF($B$10=\"Treguine\",Treguine!C110,IF($B$10=\"Bredjing\",Bredjing!C110,\"\"))))","v":0},null,null,{"$f":"IF($B$10=\"Farchana\",Farchana!G91,IF($B$10=\"Gaga\",Gaga!I110,IF($B$10=\"Treguine\",Treguine!G110,IF($B$10=\"Bredjing\",Bredjing!G110,\"\"))))","v":""}]
[{"$f":"IF($B$10=\"Farchana\",Farchana!A92,IF($B$10=\"Gaga\",Gaga!A111,IF($B$10=\"Treguine\",Treguine!A111,IF($B$10=\"Bredjing\",Bredjing!A111,\"\"))))","v":0},{"$f":"IF($B$10=\"Farchana\",Farchana!B92,IF($B$10=\"Gaga\",Gaga!B111,IF($B$10=\"Treguine\",Treguine!B111,IF($B$10=\"Bredjing\",Bredjing!B111,\"\"))))","v":0},{"$f":"IF($B$10=\"Farchana\",Farchana!C92,IF($B$10=\"Gaga\",Gaga!C111,IF($B$10=\"Treguine\",Treguine!C111,IF($B$10=\"Bredjing\",Bredjing!C111,\"\"))))","v":0},null,null,{"$f":"IF($B$10=\"Farchana\",Farchana!G92,IF($B$10=\"Gaga\",Gaga!I111,IF($B$10=\"Treguine\",Treguine!G111,IF($B$10=\"Bredjing\",Bredjing!G111,\"\"))))","v":""}]
[{"$f":"IF($B$10=\"Farchana\",Farchana!A93,IF($B$10=\"Gaga\",Gaga!A112,IF($B$10=\"Treguine\",Treguine!A112,IF($B$10=\"Bredjing\",Bredjing!A112,\"\"))))","v":0},{"$f":"IF($B$10=\"Farchana\",Farchana!B93,IF($B$10=\"Gaga\",Gaga!B112,IF($B$10=\"Treguine\",Treguine!B112,IF($B$10=\"Bredjing\",Bredjing!B112,\"\"))))","v":0},{"$f":"IF($B$10=\"Farchana\",Farchana!C93,IF($B$10=\"Gaga\",Gaga!C112,IF($B$10=\"Treguine\",Treguine!C112,IF($B$10=\"Bredjing\",Bredjing!C112,\"\"))))","v":0},null,null,{"$f":"IF($B$10=\"Farchana\",Farchana!G93,IF($B$10=\"Gaga\",Gaga!I112,IF($B$10=\"Treguine\",Treguine!G112,IF($B$10=\"Bredjing\",Bredjing!G112,\"\"))))","v":""}]
[{"$f":"IF($B$10=\"Farchana\",Farchana!A94,IF($B$10=\"Gaga\",Gaga!A113,IF($B$10=\"Treguine\",Treguine!A113,IF($B$10=\"Bredjing\",Bredjing!A113,\"\"))))","v":0},{"$f":"IF($B$10=\"Farchana\",Farchana!B94,IF($B$10=\"Gaga\",Gaga!B113,IF($B$10=\"Treguine\",Treguine!B113,IF($B$10=\"Bredjing\",Bredjing!B113,\"\"))))","v":0},{"$f":"IF($B$10=\"Farchana\",Farchana!C94,IF($B$10=\"Gaga\",Gaga!C113,IF($B$10=\"Treguine\",Treguine!C113,IF($B$10=\"Bredjing\",Bredjing!C113,\"\"))))","v":0},null,null,{"$f":"IF($B$10=\"Farchana\",Farchana!G94,IF($B$10=\"Gaga\",Gaga!I113,IF($B$10=\"Treguine\",Treguine!G113,IF($B$10=\"Bredjing\",Bredjing!G113,\"\"))))","v":""}]
[{"$f":"IF($B$10=\"Farchana\",Farchana!A95,IF($B$10=\"Gaga\",Gaga!A114,IF($B$10=\"Treguine\",Treguine!A114,IF($B$10=\"Bredjing\",Bredjing!A114,\"\"))))","v":0},{"$f":"IF($B$10=\"Farchana\",Farchana!B95,IF($B$10=\"Gaga\",Gaga!B114,IF($B$10=\"Treguine\",Treguine!B114,IF($B$10=\"Bredjing\",Bredjing!B114,\"\"))))","v":0},{"$f":"IF($B$10=\"Farchana\",Farchana!C95,IF($B$10=\"Gaga\",Gaga!C114,IF($B$10=\"Treguine\",Treguine!C114,IF($B$10=\"Bredjing\",Bredjing!C114,\"\"))))","v":0},null,null,{"$f":"IF($B$10=\"Farchana\",Farchana!G95,IF($B$10=\"Gaga\",Gaga!I114,IF($B$10=\"Treguine\",Treguine!G114,IF($B$10=\"Bredjing\",Bredjing!G114,\"\"))))","v":""}]
[{"$f":"IF($B$10=\"Farchana\",Farchana!A96,IF($B$10=\"Gaga\",Gaga!A115,IF($B$10=\"Treguine\",Treguine!A115,IF($B$10=\"Bredjing\",Bredjing!A115,\"\"))))","v":0},{"$f":"IF($B$10=\"Farchana\",Farchana!B96,IF($B$10=\"Gaga\",Gaga!B115,IF($B$10=\"Treguine\",Treguine!B115,IF($B$10=\"Bredjing\",Bredjing!B115,\"\"))))","v":0},{"$f":"IF($B$10=\"Farchana\",Farchana!C96,IF($B$10=\"Gaga\",Gaga!C115,IF($B$10=\"Treguine\",Treguine!C115,IF($B$10=\"Bredjing\",Bredjing!C115,\"\"))))","v":0},null,null,{"$f":"IF($B$10=\"Farchana\",Farchana!G96,IF($B$10=\"Gaga\",Gaga!I115,IF($B$10=\"Treguine\",Treguine!G115,IF($B$10=\"Bredjing\",Bredjing!G115,\"\"))))","v":""}]
[{"$f":"IF($B$10=\"Farchana\",Farchana!A97,IF($B$10=\"Gaga\",Gaga!A116,IF($B$10=\"Treguine\",Treguine!A116,IF($B$10=\"Bredjing\",Bredjing!A116,\"\"))))","v":0},{"$f":"IF($B$10=\"Farchana\",Farchana!B97,IF($B$10=\"Gaga\",Gaga!B116,IF($B$10=\"Treguine\",Treguine!B116,IF($B$10=\"Bredjing\",Bredjing!B116,\"\"))))","v":0},{"$f":"IF($B$10=\"Farchana\",Farchana!C97,IF($B$10=\"Gaga\",Gaga!C116,IF($B$10=\"Treguine\",Treguine!C116,IF($B$10=\"Bredjing\",Bredjing!C116,\"\"))))","v":0},null,null,{"$f":"IF($B$10=\"Farchana\",Farchana!G97,IF($B$10=\"Gaga\",Gaga!I116,IF($B$10=\"Treguine\",Treguine!G116,IF($B$10=\"Bredjing\",Bredjing!G116,\"\"))))","v":""}]
[{"$f":"IF($B$10=\"Farchana\",Farchana!A98,IF($B$10=\"Gaga\",Gaga!A117,IF($B$10=\"Treguine\",Treguine!A117,IF($B$10=\"Bredjing\",Bredjing!A117,\"\"))))","v":0},{"$f":"IF($B$10=\"Farchana\",Farchana!B98,IF($B$10=\"Gaga\",Gaga!B117,IF($B$10=\"Treguine\",Treguine!B117,IF($B$10=\"Bredjing\",Bredjing!B117,\"\"))))","v":0},{"$f":"IF($B$10=\"Farchana\",Farchana!C98,IF($B$10=\"Gaga\",Gaga!C117,IF($B$10=\"Treguine\",Treguine!C117,IF($B$10=\"Bredjing\",Bredjing!C117,\"\"))))","v":0},null,null,{"$f":"IF($B$10=\"Farchana\",Farchana!G98,IF($B$10=\"Gaga\",Gaga!I117,IF($B$10=\"Treguine\",Treguine!G117,IF($B$10=\"Bredjing\",Bredjing!G117,\"\"))))","v":""}]
[{"$f":"IF($B$10=\"Farchana\",Farchana!A99,IF($B$10=\"Gaga\",Gaga!A118,IF($B$10=\"Treguine\",Treguine!A118,IF($B$10=\"Bredjing\",Bredjing!A118,\"\"))))","v":0},{"$f":"IF($B$10=\"Farchana\",Farchana!B99,IF($B$10=\"Gaga\",Gaga!B118,IF($B$10=\"Treguine\",Treguine!B118,IF($B$10=\"Bredjing\",Bredjing!B118,\"\"))))","v":0},{"$f":"IF($B$10=\"Farchana\",Farchana!C99,IF($B$10=\"Gaga\",Gaga!C118,IF($B$10=\"Treguine\",Treguine!C118,IF($B$10=\"Bredjing\",Bredjing!C118,\"\"))))","v":0},null,null,{"$f":"IF($B$10=\"Farchana\",Farchana!G99,IF($B$10=\"Gaga\",Gaga!I118,IF($B$10=\"Treguine\",Treguine!G118,IF($B$10=\"Bredjing\",Bredjing!G118,\"\"))))","v":""}]
[{"$f":"IF($B$10=\"Farchana\",Farchana!A100,IF($B$10=\"Gaga\",Gaga!A119,IF($B$10=\"Treguine\",Treguine!A119,IF($B$10=\"Bredjing\",Bredjing!A119,\"\"))))","v":0},{"$f":"IF($B$10=\"Farchana\",Farchana!B100,IF($B$10=\"Gaga\",Gaga!B119,IF($B$10=\"Treguine\",Treguine!B119,IF($B$10=\"Bredjing\",Bredjing!B119,\"\"))))","v":0},{"$f":"IF($B$10=\"Farchana\",Farchana!C100,IF($B$10=\"Gaga\",Gaga!C119,IF($B$10=\"Treguine\",Treguine!C119,IF($B$10=\"Bredjing\",Bredjing!C119,\"\"))))","v":0},null,null,{"$f":"IF($B$10=\"Farchana\",Farchana!G100,IF($B$10=\"Gaga\",Gaga!I119,IF($B$10=\"Treguine\",Treguine!G119,IF($B$10=\"Bredjing\",Bredjing!G119,\"\"))))","v":""}]
[{"$f":"IF($B$10=\"Farchana\",Farchana!A101,IF($B$10=\"Gaga\",Gaga!A120,IF($B$10=\"Treguine\",Treguine!A120,IF($B$10=\"Bredjing\",Bredjing!A120,\"\"))))","v":0},{"$f":"IF($B$10=\"Farchana\",Farchana!B101,IF($B$10=\"Gaga\",Gaga!B120,IF($B$10=\"Treguine\",Treguine!B120,IF($B$10=\"Bredjing\",Bredjing!B120,\"\"))))","v":0},{"$f":"IF($B$10=\"Farchana\",Farchana!C101,IF($B$10=\"Gaga\",Gaga!C120,IF($B$10=\"Treguine\",Treguine!C120,IF($B$10=\"Bredjing\",Bredjing!C120,\"\"))))","v":0},null,null,{"$f":"IF($B$10=\"Farchana\",Farchana!G101,IF($B$10=\"Gaga\",Gaga!I120,IF($B$10=\"Treguine\",Treguine!G120,IF($B$10=\"Bredjing\",Bredjing!G120,\"\"))))","v":""}]
[{"$f":"IF($B$10=\"Farchana\",Farchana!A102,IF($B$10=\"Gaga\",Gaga!A121,IF($B$10=\"Treguine\",Treguine!A121,IF($B$10=\"Bredjing\",Bredjing!A121,\"\"))))","v":0},{"$f":"IF($B$10=\"Farchana\",Farchana!B102,IF($B$10=\"Gaga\",Gaga!B121,IF($B$10=\"Treguine\",Treguine!B121,IF($B$10=\"Bredjing\",Bredjing!B121,\"\"))))","v":0},{"$f":"IF($B$10=\"Farchana\",Farchana!C102,IF($B$10=\"Gaga\",Gaga!C121,IF($B$10=\"Treguine\",Treguine!C121,IF($B$10=\"Bredjing\",Bredjing!C121,\"\"))))","v":0},null,null,{"$f":"IF($B$10=\"Farchana\",Farchana!G102,IF($B$10=\"Gaga\",Gaga!I121,IF($B$10=\"Treguine\",Treguine!G121,IF($B$10=\"Bredjing\",Bredjing!G121,\"\"))))","v":""}]
[{"$f":"IF($B$10=\"Farchana\",Farchana!A103,IF($B$10=\"Gaga\",Gaga!A122,IF($B$10=\"Treguine\",Treguine!A122,IF($B$10=\"Bredjing\",Bredjing!A122,\"\"))))","v":0},{"$f":"IF($B$10=\"Farchana\",Farchana!B103,IF($B$10=\"Gaga\",Gaga!B122,IF($B$10=\"Treguine\",Treguine!B122,IF($B$10=\"Bredjing\",Bredjing!B122,\"\"))))","v":0},{"$f":"IF($B$10=\"Farchana\",Farchana!C103,IF($B$10=\"Gaga\",Gaga!C122,IF($B$10=\"Treguine\",Treguine!C122,IF($B$10=\"Bredjing\",Bredjing!C122,\"\"))))","v":0},null,null,{"$f":"IF($B$10=\"Farchana\",Farchana!G103,IF($B$10=\"Gaga\",Gaga!I122,IF($B$10=\"Treguine\",Treguine!G122,IF($B$10=\"Bredjing\",Bredjing!G122,\"\"))))","v":""}]
[{"$f":"IF($B$10=\"Farchana\",Farchana!A104,IF($B$10=\"Gaga\",Gaga!A123,IF($B$10=\"Treguine\",Treguine!A123,IF($B$10=\"Bredjing\",Bredjing!A123,\"\"))))","v":0},{"$f":"IF($B$10=\"Farchana\",Farchana!B104,IF($B$10=\"Gaga\",Gaga!B123,IF($B$10=\"Treguine\",Treguine!B123,IF($B$10=\"Bredjing\",Bredjing!B123,\"\"))))","v":0},{"$f":"IF($B$10=\"Farchana\",Farchana!C104,IF($B$10=\"Gaga\",Gaga!C123,IF($B$10=\"Treguine\",Treguine!C123,IF($B$10=\"Bredjing\",Bredjing!C123,\"\"))))","v":0},null,null,{"$f":"IF($B$10=\"Farchana\",Farchana!G104,IF($B$10=\"Gaga\",Gaga!I123,IF($B$10=\"Treguine\",Treguine!G123,IF($B$10=\"Bredjing\",Bredjing!G123,\"\"))))","v":""}]
[{"$f":"IF($B$10=\"Farchana\",Farchana!A105,IF($B$10=\"Gaga\",Gaga!A124,IF($B$10=\"Treguine\",Treguine!A124,IF($B$10=\"Bredjing\",Bredjing!A124,\"\"))))","v":0},{"$f":"IF($B$10=\"Farchana\",Farchana!B105,IF($B$10=\"Gaga\",Gaga!B124,IF($B$10=\"Treguine\",Treguine!B124,IF($B$10=\"Bredjing\",Bredjing!B124,\"\"))))","v":0},{"$f":"IF($B$10=\"Farchana\",Farchana!C105,IF($B$10=\"Gaga\",Gaga!C124,IF($B$10=\"Treguine\",Treguine!C124,IF($B$10=\"Bredjing\",Bredjing!C124,\"\"))))","v":0},null,null,{"$f":"IF($B$10=\"Farchana\",Farchana!G105,IF($B$10=\"Gaga\",Gaga!I124,IF($B$10=\"Treguine\",Treguine!G124,IF($B$10=\"Bredjing\",Bredjing!G124,\"\"))))","v":""}]
[{"$f":"IF($B$10=\"Farchana\",Farchana!A106,IF($B$10=\"Gaga\",Gaga!A125,IF($B$10=\"Treguine\",Treguine!A125,IF($B$10=\"Bredjing\",Bredjing!A125,\"\"))))","v":0},{"$f":"IF($B$10=\"Farchana\",Farchana!B106,IF($B$10=\"Gaga\",Gaga!B125,IF($B$10=\"Treguine\",Treguine!B125,IF($B$10=\"Bredjing\",Bredjing!B125,\"\"))))","v":0},{"$f":"IF($B$10=\"Farchana\",Farchana!C106,IF($B$10=\"Gaga\",Gaga!C125,IF($B$10=\"Treguine\",Treguine!C125,IF($B$10=\"Bredjing\",Bredjing!C125,\"\"))))","v":0},null,null,{"$f":"IF($B$10=\"Farchana\",Farchana!G106,IF($B$10=\"Gaga\",Gaga!I125,IF($B$10=\"Treguine\",Treguine!G125,IF($B$10=\"Bredjing\",Bredjing!G125,\"\"))))","v":""}]
[{"$f":"IF($B$10=\"Farchana\",Farchana!A107,IF($B$10=\"Gaga\",Gaga!A126,IF($B$10=\"Treguine\",Treguine!A126,IF($B$10=\"Bredjing\",Bredjing!A126,\"\"))))","v":0},{"$f":"IF($B$10=\"Farchana\",Farchana!B107,IF($B$10=\"Gaga\",Gaga!B126,IF($B$10=\"Treguine\",Treguine!B126,IF($B$10=\"Bredjing\",Bredjing!B126,\"\"))))","v":0},{"$f":"IF($B$10=\"Farchana\",Farchana!C107,IF($B$10=\"Gaga\",Gaga!C126,IF($B$10=\"Treguine\",Treguine!C126,IF($B$10=\"Bredjing\",Bredjing!C126,\"\"))))","v":0},null,null,{"$f":"IF($B$10=\"Farchana\",Farchana!G107,IF($B$10=\"Gaga\",Gaga!I126,IF($B$10=\"Treguine\",Treguine!G126,IF($B$10=\"Bredjing\",Bredjing!G126,\"\"))))","v":""}]
[{"$f":"IF($B$10=\"Farchana\",Farchana!A108,IF($B$10=\"Gaga\",Gaga!A127,IF($B$10=\"Treguine\",Treguine!A127,IF($B$10=\"Bredjing\",Bredjing!A127,\"\"))))","v":0},{"$f":"IF($B$10=\"Farchana\",Farchana!B108,IF($B$10=\"Gaga\",Gaga!B127,IF($B$10=\"Treguine\",Treguine!B127,IF($B$10=\"Bredjing\",Bredjing!B127,\"\"))))","v":0},{"$f":"IF($B$10=\"Farchana\",Farchana!C108,IF($B$10=\"Gaga\",Gaga!C127,IF($B$10=\"Treguine\",Treguine!C127,IF($B$10=\"Bredjing\",Bredjing!C127,\"\"))))","v":0},null,null,{"$f":"IF($B$10=\"Farchana\",Farchana!G108,IF($B$10=\"Gaga\",Gaga!I127,IF($B$10=\"Treguine\",Treguine!G127,IF($B$10=\"Bredjing\",Bredjing!G127,\"\"))))","v":""}]
[{"$f":"IF($B$10=\"Farchana\",Farchana!A109,IF($B$10=\"Gaga\",Gaga!A128,IF($B$10=\"Treguine\",Treguine!A128,IF($B$10=\"Bredjing\",Bredjing!A128,\"\"))))","v":0},{"$f":"IF($B$10=\"Farchana\",Farchana!B109,IF($B$10=\"Gaga\",Gaga!B128,IF($B$10=\"Treguine\",Treguine!B128,IF($B$10=\"Bredjing\",Bredjing!B128,\"\"))))","v":0},{"$f":"IF($B$10=\"Farchana\",Farchana!C109,IF($B$10=\"Gaga\",Gaga!C128,IF($B$10=\"Treguine\",Treguine!C128,IF($B$10=\"Bredjing\",Bredjing!C128,\"\"))))","v":0},null,null,{"$f":"IF($B$10=\"Farchana\",Farchana!G109,IF($B$10=\"Gaga\",Gaga!I128,IF($B$10=\"Treguine\",Treguine!G128,IF($B$10=\"Bredjing\",Bredjing!G128,\"\"))))","v":""}]
[{"$f":"IF($B$10=\"Farchana\",Farchana!A110,IF($B$10=\"Gaga\",Gaga!A129,IF($B$10=\"Treguine\",Treguine!A129,IF($B$10=\"Bredjing\",Bredjing!A129,\"\"))))","v":0},{"$f":"IF($B$10=\"Farchana\",Farchana!B110,IF($B$10=\"Gaga\",Gaga!B129,IF($B$10=\"Treguine\",Treguine!B129,IF($B$10=\"Bredjing\",Bredjing!B129,\"\"))))","v":0},{"$f":"IF($B$10=\"Farchana\",Farchana!C110,IF($B$10=\"Gaga\",Gaga!C129,IF($B$10=\"Treguine\",Treguine!C129,IF($B$10=\"Bredjing\",Bredjing!C129,\"\"))))","v":0},null,null,{"$f":"IF($B$10=\"Farchana\",Farchana!G110,IF($B$10=\"Gaga\",Gaga!I129,IF($B$10=\"Treguine\",Treguine!G129,IF($B$10=\"Bredjing\",Bredjing!G129,\"\"))))","v":""}]
[{"$f":"IF($B$10=\"Farchana\",Farchana!A111,IF($B$10=\"Gaga\",Gaga!A130,IF($B$10=\"Treguine\",Treguine!A130,IF($B$10=\"Bredjing\",Bredjing!A130,\"\"))))","v":0},{"$f":"IF($B$10=\"Farchana\",Farchana!B111,IF($B$10=\"Gaga\",Gaga!B130,IF($B$10=\"Treguine\",Treguine!B130,IF($B$10=\"Bredjing\",Bredjing!B130,\"\"))))","v":0},{"$f":"IF($B$10=\"Farchana\",Farchana!C111,IF($B$10=\"Gaga\",Gaga!C130,IF($B$10=\"Treguine\",Treguine!C130,IF($B$10=\"Bredjing\",Bredjing!C130,\"\"))))","v":0},null,null,{"$f":"IF($B$10=\"Farchana\",Farchana!G111,IF($B$10=\"Gaga\",Gaga!I130,IF($B$10=\"Treguine\",Treguine!G130,IF($B$10=\"Bredjing\",Bredjing!G130,\"\"))))","v":""}]
[{"$f":"IF($B$10=\"Farchana\",Farchana!A112,IF($B$10=\"Gaga\",Gaga!A131,IF($B$10=\"Treguine\",Treguine!A131,IF($B$10=\"Bredjing\",Bredjing!A131,\"\"))))","v":0},{"$f":"IF($B$10=\"Farchana\",Farchana!B112,IF($B$10=\"Gaga\",Gaga!B131,IF($B$10=\"Treguine\",Treguine!B131,IF($B$10=\"Bredjing\",Bredjing!B131,\"\"))))","v":0},{"$f":"IF($B$10=\"Farchana\",Farchana!C112,IF($B$10=\"Gaga\",Gaga!C131,IF($B$10=\"Treguine\",Treguine!C131,IF($B$10=\"Bredjing\",Bredjing!C131,\"\"))))","v":0},null,null,{"$f":"IF($B$10=\"Farchana\",Farchana!G112,IF($B$10=\"Gaga\",Gaga!I131,IF($B$10=\"Treguine\",Treguine!G131,IF($B$10=\"Bredjing\",Bredjing!G131,\"\"))))","v":""}]
[{"$f":"IF($B$10=\"Farchana\",Farchana!A113,IF($B$10=\"Gaga\",Gaga!A132,IF($B$10=\"Treguine\",Treguine!A132,IF($B$10=\"Bredjing\",Bredjing!A132,\"\"))))","v":0},{"$f":"IF($B$10=\"Farchana\",Farchana!B113,IF($B$10=\"Gaga\",Gaga!B132,IF($B$10=\"Treguine\",Treguine!B132,IF($B$10=\"Bredjing\",Bredjing!B132,\"\"))))","v":0},{"$f":"IF($B$10=\"Farchana\",Farchana!C113,IF($B$10=\"Gaga\",Gaga!C132,IF($B$10=\"Treguine\",Treguine!C132,IF($B$10=\"Bredjing\",Bredjing!C132,\"\"))))","v":0},null,null,{"$f":"IF($B$10=\"Farchana\",Farchana!G113,IF($B$10=\"Gaga\",Gaga!I132,IF($B$10=\"Treguine\",Treguine!G132,IF($B$10=\"Bredjing\",Bredjing!G132,\"\"))))","v":""}]
[{"$f":"IF($B$10=\"Farchana\",Farchana!A114,IF($B$10=\"Gaga\",Gaga!A133,IF($B$10=\"Treguine\",Treguine!A133,IF($B$10=\"Bredjing\",Bredjing!A133,\"\"))))","v":0},{"$f":"IF($B$10=\"Farchana\",Farchana!B114,IF($B$10=\"Gaga\",Gaga!B133,IF($B$10=\"Treguine\",Treguine!B133,IF($B$10=\"Bredjing\",Bredjing!B133,\"\"))))","v":0},{"$f":"IF($B$10=\"Farchana\",Farchana!C114,IF($B$10=\"Gaga\",Gaga!C133,IF($B$10=\"Treguine\",Treguine!C133,IF($B$10=\"Bredjing\",Bredjing!C133,\"\"))))","v":0},null,null,{"$f":"IF($B$10=\"Farchana\",Farchana!G114,IF($B$10=\"Gaga\",Gaga!I133,IF($B$10=\"Treguine\",Treguine!G133,IF($B$10=\"Bredjing\",Bredjing!G133,\"\"))))","v":""}]
[{"$f":"IF($B$10=\"Farchana\",Farchana!A115,IF($B$10=\"Gaga\",Gaga!A134,IF($B$10=\"Treguine\",Treguine!A134,IF($B$10=\"Bredjing\",Bredjing!A134,\"\"))))","v":0},{"$f":"IF($B$10=\"Farchana\",Farchana!B115,IF($B$10=\"Gaga\",Gaga!B134,IF($B$10=\"Treguine\",Treguine!B134,IF($B$10=\"Bredjing\",Bredjing!B134,\"\"))))","v":0},{"$f":"IF($B$10=\"Farchana\",Farchana!C115,IF($B$10=\"Gaga\",Gaga!C134,IF($B$10=\"Treguine\",Treguine!C134,IF($B$10=\"Bredjing\",Bredjing!C134,\"\"))))","v":0},null,null,{"$f":"IF($B$10=\"Farchana\",Farchana!G115,IF($B$10=\"Gaga\",Gaga!I134,IF($B$10=\"Treguine\",Treguine!G134,IF($B$10=\"Bredjing\",Bredjing!G134,\"\"))))","v":""}]
[{"$f":"IF($B$10=\"Farchana\",Farchana!A116,IF($B$10=\"Gaga\",Gaga!A135,IF($B$10=\"Treguine\",Treguine!A135,IF($B$10=\"Bredjing\",Bredjing!A135,\"\"))))","v":0},{"$f":"IF($B$10=\"Farchana\",Farchana!B116,IF($B$10=\"Gaga\",Gaga!B135,IF($B$10=\"Treguine\",Treguine!B135,IF($B$10=\"Bredjing\",Bredjing!B135,\"\"))))","v":0},{"$f":"IF($B$10=\"Farchana\",Farchana!C116,IF($B$10=\"Gaga\",Gaga!C135,IF($B$10=\"Treguine\",Treguine!C135,IF($B$10=\"Bredjing\",Bredjing!C135,\"\"))))","v":0},null,null,{"$f":"IF($B$10=\"Farchana\",Farchana!G116,IF($B$10=\"Gaga\",Gaga!I135,IF($B$10=\"Treguine\",Treguine!G135,IF($B$10=\"Bredjing\",Bredjing!G135,\"\"))))","v":""}]
[{"$f":"IF($B$10=\"Farchana\",Farchana!A117,IF($B$10=\"Gaga\",Gaga!A136,IF($B$10=\"Treguine\",Treguine!A136,IF($B$10=\"Bredjing\",Bredjing!A136,\"\"))))","v":0},{"$f":"IF($B$10=\"Farchana\",Farchana!B117,IF($B$10=\"Gaga\",Gaga!B136,IF($B$10=\"Treguine\",Treguine!B136,IF($B$10=\"Bredjing\",Bredjing!B136,\"\"))))","v":0},{"$f":"IF($B$10=\"Farchana\",Farchana!C117,IF($B$10=\"Gaga\",Gaga!C136,IF($B$10=\"Treguine\",Treguine!C136,IF($B$10=\"Bredjing\",Bredjing!C136,\"\"))))","v":0},null,null,{"$f":"IF($B$10=\"Farchana\",Farchana!G117,IF($B$10=\"Gaga\",Gaga!I136,IF($B$10=\"Treguine\",Treguine!G136,IF($B$10=\"Bredjing\",Bredjing!G136,\"\"))))","v":""}]
[{"$f":"IF($B$10=\"Farchana\",Farchana!A118,IF($B$10=\"Gaga\",Gaga!A137,IF($B$10=\"Treguine\",Treguine!A137,IF($B$10=\"Bredjing\",Bredjing!A137,\"\"))))","v":0},{"$f":"IF($B$10=\"Farchana\",Farchana!B118,IF($B$10=\"Gaga\",Gaga!B137,IF($B$10=\"Treguine\",Treguine!B137,IF($B$10=\"Bredjing\",Bredjing!B137,\"\"))))","v":0},{"$f":"IF($B$10=\"Farchana\",Farchana!C118,IF($B$10=\"Gaga\",Gaga!C137,IF($B$10=\"Treguine\",Treguine!C137,IF($B$10=\"Bredjing\",Bredjing!C137,\"\"))))","v":0},null,null,{"$f":"IF($B$10=\"Farchana\",Farchana!G118,IF($B$10=\"Gaga\",Gaga!I137,IF($B$10=\"Treguine\",Treguine!G137,IF($B$10=\"Bredjing\",Bredjing!G137,\"\"))))","v":""}]
[{"$f":"IF($B$10=\"Farchana\",Farchana!A119,IF($B$10=\"Gaga\",Gaga!A138,IF($B$10=\"Treguine\",Treguine!A138,IF($B$10=\"Bredjing\",Bredjing!A138,\"\"))))","v":0},{"$f":"IF($B$10=\"Farchana\",Farchana!B119,IF($B$10=\"Gaga\",Gaga!B138,IF($B$10=\"Treguine\",Treguine!B138,IF($B$10=\"Bredjing\",Bredjing!B138,\"\"))))","v":0},{"$f":"IF($B$10=\"Farchana\",Farchana!C119,IF($B$10=\"Gaga\",Gaga!C138,IF($B$10=\"Treguine\",Treguine!C138,IF($B$10=\"Bredjing\",Bredjing!C138,\"\"))))","v":0},null,null,{"$f":"IF($B$10=\"Farchana\",Farchana!G119,IF($B$10=\"Gaga\",Gaga!I138,IF($B$10=\"Treguine\",Treguine!G138,IF($B$10=\"Bredjing\",Bredjing!G138,\"\"))))","v":""}]
[{"$f":"IF($B$10=\"Farchana\",Farchana!A120,IF($B$10=\"Gaga\",Gaga!A139,IF($B$10=\"Treguine\",Treguine!A139,IF($B$10=\"Bredjing\",Bredjing!A139,\"\"))))","v":0},{"$f":"IF($B$10=\"Farchana\",Farchana!B120,IF($B$10=\"Gaga\",Gaga!B139,IF($B$10=\"Treguine\",Treguine!B139,IF($B$10=\"Bredjing\",Bredjing!B139,\"\"))))","v":0},{"$f":"IF($B$10=\"Farchana\",Farchana!C120,IF($B$10=\"Gaga\",Gaga!C139,IF($B$10=\"Treguine\",Treguine!C139,IF($B$10=\"Bredjing\",Bredjing!C139,\"\"))))","v":0},null,null,{"$f":"IF($B$10=\"Farchana\",Farchana!G120,IF($B$10=\"Gaga\",Gaga!I139,IF($B$10=\"Treguine\",Treguine!G139,IF($B$10=\"Bredjing\",Bredjing!G139,\"\"))))","v":""}]
[{"$f":"IF($B$10=\"Farchana\",Farchana!A121,IF($B$10=\"Gaga\",Gaga!A140,IF($B$10=\"Treguine\",Treguine!A140,IF($B$10=\"Bredjing\",Bredjing!A140,\"\"))))","v":0},{"$f":"IF($B$10=\"Farchana\",Farchana!B121,IF($B$10=\"Gaga\",Gaga!B140,IF($B$10=\"Treguine\",Treguine!B140,IF($B$10=\"Bredjing\",Bredjing!B140,\"\"))))","v":0},{"$f":"IF($B$10=\"Farchana\",Farchana!C121,IF($B$10=\"Gaga\",Gaga!C140,IF($B$10=\"Treguine\",Treguine!C140,IF($B$10=\"Bredjing\",Bredjing!C140,\"\"))))","v":0},null,null,{"$f":"IF($B$10=\"Farchana\",Farchana!G121,IF($B$10=\"Gaga\",Gaga!I140,IF($B$10=\"Treguine\",Treguine!G140,IF($B$10=\"Bredjing\",Bredjing!G140,\"\"))))","v":""}]
[{"$f":"IF($B$10=\"Farchana\",Farchana!A122,IF($B$10=\"Gaga\",Gaga!A141,IF($B$10=\"Treguine\",Treguine!A141,IF($B$10=\"Bredjing\",Bredjing!A141,\"\"))))","v":0},{"$f":"IF($B$10=\"Farchana\",Farchana!B122,IF($B$10=\"Gaga\",Gaga!B141,IF($B$10=\"Treguine\",Treguine!B141,IF($B$10=\"Bredjing\",Bredjing!B141,\"\"))))","v":0},{"$f":"IF($B$10=\"Farchana\",Farchana!C122,IF($B$10=\"Gaga\",Gaga!C141,IF($B$10=\"Treguine\",Treguine!C141,IF($B$10=\"Bredjing\",Bredjing!C141,\"\"))))","v":0},null,null,{"$f":"IF($B$10=\"Farchana\",Farchana!G122,IF($B$10=\"Gaga\",Gaga!I141,IF($B$10=\"Treguine\",Treguine!G141,IF($B$10=\"Bredjing\",Bredjing!G141,\"\"))))","v":""}]
[{"$f":"IF($B$10=\"Farchana\",Farchana!A123,IF($B$10=\"Gaga\",Gaga!A142,IF($B$10=\"Treguine\",Treguine!A142,IF($B$10=\"Bredjing\",Bredjing!A142,\"\"))))","v":0},{"$f":"IF($B$10=\"Farchana\",Farchana!B123,IF($B$10=\"Gaga\",Gaga!B142,IF($B$10=\"Treguine\",Treguine!B142,IF($B$10=\"Bredjing\",Bredjing!B142,\"\"))))","v":0},{"$f":"IF($B$10=\"Farchana\",Farchana!C123,IF($B$10=\"Gaga\",Gaga!C142,IF($B$10=\"Treguine\",Treguine!C142,IF($B$10=\"Bredjing\",Bredjing!C142,\"\"))))","v":0},null,null,{"$f":"IF($B$10=\"Farchana\",Farchana!G123,IF($B$10=\"Gaga\",Gaga!I142,IF($B$10=\"Treguine\",Treguine!G142,IF($B$10=\"Bredjing\",Bredjing!G142,\"\"))))","v":""}]
[{"$f":"IF($B$10=\"Farchana\",Farchana!A124,IF($B$10=\"Gaga\",Gaga!A143,IF($B$10=\"Treguine\",Treguine!A143,IF($B$10=\"Bredjing\",Bredjing!A143,\"\"))))","v":0},{"$f":"IF($B$10=\"Farchana\",Farchana!B124,IF($B$10=\"Gaga\",Gaga!B143,IF($B$10=\"Treguine\",Treguine!B143,IF($B$10=\"Bredjing\",Bredjing!B143,\"\"))))","v":0},{"$f":"IF($B$10=\"Farchana\",Farchana!C124,IF($B$10=\"Gaga\",Gaga!C143,IF($B$10=\"Treguine\",Treguine!C143,IF($B$10=\"Bredjing\",Bredjing!C143,\"\"))))","v":0},null,null,{"$f":"IF($B$10=\"Farchana\",Farchana!G124,IF($B$10=\"Gaga\",Gaga!I143,IF($B$10=\"Treguine\",Treguine!G143,IF($B$10=\"Bredjing\",Bredjing!G143,\"\"))))","v":""}]
[{"$f":"IF($B$10=\"Farchana\",Farchana!A125,IF($B$10=\"Gaga\",Gaga!A144,IF($B$10=\"Treguine\",Treguine!A144,IF($B$10=\"Bredjing\",Bredjing!A144,\"\"))))","v":0},{"$f":"IF($B$10=\"Farchana\",Farchana!B125,IF($B$10=\"Gaga\",Gaga!B144,IF($B$10=\"Treguine\",Treguine!B144,IF($B$10=\"Bredjing\",Bredjing!B144,\"\"))))","v":0},{"$f":"IF($B$10=\"Farchana\",Farchana!C125,IF($B$10=\"Gaga\",Gaga!C144,IF($B$10=\"Treguine\",Treguine!C144,IF($B$10=\"Bredjing\",Bredjing!C144,\"\"))))","v":0},null,null,{"$f":"IF($B$10=\"Farchana\",Farchana!G125,IF($B$10=\"Gaga\",Gaga!I144,IF($B$10=\"Treguine\",Treguine!G144,IF($B$10=\"Bredjing\",Bredjing!G144,\"\"))))","v":""}]
[{"$f":"IF($B$10=\"Farchana\",Farchana!A126,IF($B$10=\"Gaga\",Gaga!A145,IF($B$10=\"Treguine\",Treguine!A145,IF($B$10=\"Bredjing\",Bredjing!A145,\"\"))))","v":0},{"$f":"IF($B$10=\"Farchana\",Farchana!B126,IF($B$10=\"Gaga\",Gaga!B145,IF($B$10=\"Treguine\",Treguine!B145,IF($B$10=\"Bredjing\",Bredjing!B145,\"\"))))","v":0},{"$f":"IF($B$10=\"Farchana\",Farchana!C126,IF($B$10=\"Gaga\",Gaga!C145,IF($B$10=\"Treguine\",Treguine!C145,IF($B$10=\"Bredjing\",Bredjing!C145,\"\"))))","v":0},null,null,{"$f":"IF($B$10=\"Farchana\",Farchana!G126,IF($B$10=\"Gaga\",Gaga!I145,IF($B$10=\"Treguine\",Treguine!G145,IF($B$10=\"Bredjing\",Bredjing!G145,\"\"))))","v":""}]
[{"$f":"IF($B$10=\"Farchana\",Farchana!A127,IF($B$10=\"Gaga\",Gaga!A146,IF($B$10=\"Treguine\",Treguine!A146,IF($B$10=\"Bredjing\",Bredjing!A146,\"\"))))","v":0},{"$f":"IF($B$10=\"Farchana\",Farchana!B127,IF($B$10=\"Gaga\",Gaga!B146,IF($B$10=\"Treguine\",Treguine!B146,IF($B$10=\"Bredjing\",Bredjing!B146,\"\"))))","v":0},{"$f":"IF($B$10=\"Farchana\",Farchana!C127,IF($B$10=\"Gaga\",Gaga!C146,IF($B$10=\"Treguine\",Treguine!C146,IF($B$10=\"Bredjing\",Bredjing!C146,\"\"))))","v":0},null,null,{"$f":"IF($B$10=\"Farchana\",Farchana!G127,IF($B$10=\"Gaga\",Gaga!I146,IF($B$10=\"Treguine\",Treguine!G146,IF($B$10=\"Bredjing\",Bredjing!G146,\"\"))))","v":""}]
[{"$f":"IF($B$10=\"Farchana\",Farchana!A128,IF($B$10=\"Gaga\",Gaga!A147,IF($B$10=\"Treguine\",Treguine!A147,IF($B$10=\"Bredjing\",Bredjing!A147,\"\"))))","v":0},{"$f":"IF($B$10=\"Farchana\",Farchana!B128,IF($B$10=\"Gaga\",Gaga!B147,IF($B$10=\"Treguine\",Treguine!B147,IF($B$10=\"Bredjing\",Bredjing!B147,\"\"))))","v":0},{"$f":"IF($B$10=\"Farchana\",Farchana!C128,IF($B$10=\"Gaga\",Gaga!C147,IF($B$10=\"Treguine\",Treguine!C147,IF($B$10=\"Bredjing\",Bredjing!C147,\"\"))))","v":0},null,null,{"$f":"IF($B$10=\"Farchana\",Farchana!G128,IF($B$10=\"Gaga\",Gaga!I147,IF($B$10=\"Treguine\",Treguine!G147,IF($B$10=\"Bredjing\",Bredjing!G147,\"\"))))","v":""}]
[{"$f":"IF($B$10=\"Farchana\",Farchana!A129,IF($B$10=\"Gaga\",Gaga!A148,IF($B$10=\"Treguine\",Treguine!A148,IF($B$10=\"Bredjing\",Bredjing!A148,\"\"))))","v":0},{"$f":"IF($B$10=\"Farchana\",Farchana!B129,IF($B$10=\"Gaga\",Gaga!B148,IF($B$10=\"Treguine\",Treguine!B148,IF($B$10=\"Bredjing\",Bredjing!B148,\"\"))))","v":0},{"$f":"IF($B$10=\"Farchana\",Farchana!C129,IF($B$10=\"Gaga\",Gaga!C148,IF($B$10=\"Treguine\",Treguine!C148,IF($B$10=\"Bredjing\",Bredjing!C148,\"\"))))","v":0},null,null,{"$f":"IF($B$10=\"Farchana\",Farchana!G129,IF($B$10=\"Gaga\",Gaga!I148,IF($B$10=\"Treguine\",Treguine!G148,IF($B$10=\"Bredjing\",Bredjing!G148,\"\"))))","v":""}]
[{"$f":"IF($B$10=\"Farchana\",Farchana!A130,IF($B$10=\"Gaga\",Gaga!A149,IF($B$10=\"Treguine\",Treguine!A149,IF($B$10=\"Bredjing\",Bredjing!A149,\"\"))))","v":0},{"$f":"IF($B$10=\"Farchana\",Farchana!B130,IF($B$10=\"Gaga\",Gaga!B149,IF($B$10=\"Treguine\",Treguine!B149,IF($B$10=\"Bredjing\",Bredjing!B149,\"\"))))","v":0},{"$f":"IF($B$10=\"Farchana\",Farchana!C130,IF($B$10=\"Gaga\",Gaga!C149,IF($B$10=\"Treguine\",Treguine!C149,IF($B$10=\"Bredjing\",Bredjing!C149,\"\"))))","v":0},null,null,{"$f":"IF($B$10=\"Farchana\",Farchana!G130,IF($B$10=\"Gaga\",Gaga!I149,IF($B$10=\"Treguine\",Treguine!G149,IF($B$10=\"Bredjing\",Bredjing!G149,\"\"))))","v":""}]
[{"$f":"IF($B$10=\"Farchana\",Farchana!A131,IF($B$10=\"Gaga\",Gaga!A150,IF($B$10=\"Treguine\",Treguine!A150,IF($B$10=\"Bredjing\",Bredjing!A150,\"\"))))","v":0},{"$f":"IF($B$10=\"Farchana\",Farchana!B131,IF($B$10=\"Gaga\",Gaga!B150,IF($B$10=\"Treguine\",Treguine!B150,IF($B$10=\"Bredjing\",Bredjing!B150,\"\"))))","v":0},{"$f":"IF($B$10=\"Farchana\",Farchana!C131,IF($B$10=\"Gaga\",Gaga!C150,IF($B$10=\"Treguine\",Treguine!C150,IF($B$10=\"Bredjing\",Bredjing!C150,\"\"))))","v":0},null,null,{"$f":"IF($B$10=\"Farchana\",Farchana!G131,IF($B$10=\"Gaga\",Gaga!I150,IF($B$10=\"Treguine\",Treguine!G150,IF($B$10=\"Bredjing\",Bredjing!G150,\"\"))))","v":""}]
[{"$f":"IF($B$10=\"Farchana\",Farchana!A132,IF($B$10=\"Gaga\",Gaga!A151,IF($B$10=\"Treguine\",Treguine!A151,IF($B$10=\"Bredjing\",Bredjing!A151,\"\"))))","v":0},{"$f":"IF($B$10=\"Farchana\",Farchana!B132,IF($B$10=\"Gaga\",Gaga!B151,IF($B$10=\"Treguine\",Treguine!B151,IF($B$10=\"Bredjing\",Bredjing!B151,\"\"))))","v":0},{"$f":"IF($B$10=\"Farchana\",Farchana!C132,IF($B$10=\"Gaga\",Gaga!C151,IF($B$10=\"Treguine\",Treguine!C151,IF($B$10=\"Bredjing\",Bredjing!C151,\"\"))))","v":0},null,null,{"$f":"IF($B$10=\"Farchana\",Farchana!G132,IF($B$10=\"Gaga\",Gaga!I151,IF($B$10=\"Treguine\",Treguine!G151,IF($B$10=\"Bredjing\",Bredjing!G151,\"\"))))","v":""}]
[{"$f":"IF($B$10=\"Farchana\",Farchana!A133,IF($B$10=\"Gaga\",Gaga!A152,IF($B$10=\"Treguine\",Treguine!A152,IF($B$10=\"Bredjing\",Bredjing!A152,\"\"))))","v":0},{"$f":"IF($B$10=\"Farchana\",Farchana!B133,IF($B$10=\"Gaga\",Gaga!B152,IF($B$10=\"Treguine\",Treguine!B152,IF($B$10=\"Bredjing\",Bredjing!B152,\"\"))))","v":0},{"$f":"IF($B$10=\"Farchana\",Farchana!C133,IF($B$10=\"Gaga\",Gaga!C152,IF($B$10=\"Treguine\",Treguine!C152,IF($B$10=\"Bredjing\",Bredjing!C152,\"\"))))","v":0},null,null,{"$f":"IF($B$10=\"Farchana\",Farchana!G133,IF($B$10=\"Gaga\",Gaga!I152,IF($B$10=\"Treguine\",Treguine!G152,IF($B$10=\"Bredjing\",Bredjing!G152,\"\"))))","v":""}]
[{"$f":"IF($B$10=\"Farchana\",Farchana!A134,IF($B$10=\"Gaga\",Gaga!A153,IF($B$10=\"Treguine\",Treguine!A153,IF($B$10=\"Bredjing\",Bredjing!A153,\"\"))))","v":0},{"$f":"IF($B$10=\"Farchana\",Farchana!B134,IF($B$10=\"Gaga\",Gaga!B153,IF($B$10=\"Treguine\",Treguine!B153,IF($B$10=\"Bredjing\",Bredjing!B153,\"\"))))","v":0},{"$f":"IF($B$10=\"Farchana\",Farchana!C134,IF($B$10=\"Gaga\",Gaga!C153,IF($B$10=\"Treguine\",Treguine!C153,IF($B$10=\"Bredjing\",Bredjing!C153,\"\"))))","v":0},null,null,{"$f":"IF($B$10=\"Farchana\",Farchana!G134,IF($B$10=\"Gaga\",Gaga!I153,IF($B$10=\"Treguine\",Treguine!G153,IF($B$10=\"Bredjing\",Bredjing!G153,\"\"))))","v":""}]
[{"$f":"IF($B$10=\"Farchana\",Farchana!A135,IF($B$10=\"Gaga\",Gaga!A154,IF($B$10=\"Treguine\",Treguine!A154,IF($B$10=\"Bredjing\",Bredjing!A154,\"\"))))","v":0},{"$f":"IF($B$10=\"Farchana\",Farchana!B135,IF($B$10=\"Gaga\",Gaga!B154,IF($B$10=\"Treguine\",Treguine!B154,IF($B$10=\"Bredjing\",Bredjing!B154,\"\"))))","v":0},{"$f":"IF($B$10=\"Farchana\",Farchana!C135,IF($B$10=\"Gaga\",Gaga!C154,IF($B$10=\"Treguine\",Treguine!C154,IF($B$10=\"Bredjing\",Bredjing!C154,\"\"))))","v":0},null,null,{"$f":"IF($B$10=\"Farchana\",Farchana!G135,IF($B$10=\"Gaga\",Gaga!I154,IF($B$10=\"Treguine\",Treguine!G154,IF($B$10=\"Bredjing\",Bredjing!G154,\"\"))))","v":""}]
[{"$f":"IF($B$10=\"Farchana\",Farchana!A136,IF($B$10=\"Gaga\",Gaga!A155,IF($B$10=\"Treguine\",Treguine!A155,IF($B$10=\"Bredjing\",Bredjing!A155,\"\"))))","v":0},{"$f":"IF($B$10=\"Farchana\",Farchana!B136,IF($B$10=\"Gaga\",Gaga!B155,IF($B$10=\"Treguine\",Treguine!B155,IF($B$10=\"Bredjing\",Bredjing!B155,\"\"))))","v":0},{"$f":"IF($B$10=\"Farchana\",Farchana!C136,IF($B$10=\"Gaga\",Gaga!C155,IF($B$10=\"Treguine\",Treguine!C155,IF($B$10=\"Bredjing\",Bredjing!C155,\"\"))))","v":0},null,null,{"$f":"IF($B$10=\"Farchana\",Farchana!G136,IF($B$10=\"Gaga\",Gaga!I155,IF($B$10=\"Treguine\",Treguine!G155,IF($B$10=\"Bredjing\",Bredjing!G155,\"\"))))","v":""}]
[{"$f":"IF($B$10=\"Farchana\",Farchana!A137,IF($B$10=\"Gaga\",Gaga!A156,IF($B$10=\"Treguine\",Treguine!A156,IF($B$10=\"Bredjing\",Bredjing!A156,\"\"))))","v":0},{"$f":"IF($B$10=\"Farchana\",Farchana!B137,IF($B$10=\"Gaga\",Gaga!B156,IF($B$10=\"Treguine\",Treguine!B156,IF($B$10=\"Bredjing\",Bredjing!B156,\"\"))))","v":0},{"$f":"IF($B$10=\"Farchana\",Farchana!C137,IF($B$10=\"Gaga\",Gaga!C156,IF($B$10=\"Treguine\",Treguine!C156,IF($B$10=\"Bredjing\",Bredjing!C156,\"\"))))","v":0},null,null,{"$f":"IF($B$10=\"Farchana\",Farchana!G137,IF($B$10=\"Gaga\",Gaga!I156,IF($B$10=\"Treguine\",Treguine!G156,IF($B$10=\"Bredjing\",Bredjing!G156,\"\"))))","v":""}]
[{"$f":"IF($B$10=\"Farchana\",Farchana!A138,IF($B$10=\"Gaga\",Gaga!A157,IF($B$10=\"Treguine\",Treguine!A157,IF($B$10=\"Bredjing\",Bredjing!A157,\"\"))))","v":0},{"$f":"IF($B$10=\"Farchana\",Farchana!B138,IF($B$10=\"Gaga\",Gaga!B157,IF($B$10=\"Treguine\",Treguine!B157,IF($B$10=\"Bredjing\",Bredjing!B157,\"\"))))","v":0},{"$f":"IF($B$10=\"Farchana\",Farchana!C138,IF($B$10=\"Gaga\",Gaga!C157,IF($B$10=\"Treguine\",Treguine!C157,IF($B$10=\"Bredjing\",Bredjing!C157,\"\"))))","v":0},null,null,{"$f":"IF($B$10=\"Farchana\",Farchana!G138,IF($B$10=\"Gaga\",Gaga!I157,IF($B$10=\"Treguine\",Treguine!G157,IF($B$10=\"Bredjing\",Bredjing!G157,\"\"))))","v":""}]
[{"$f":"IF($B$10=\"Farchana\",Farchana!A139,IF($B$10=\"Gaga\",Gaga!A158,IF($B$10=\"Treguine\",Treguine!A158,IF($B$10=\"Bredjing\",Bredjing!A158,\"\"))))","v":0},{"$f":"IF($B$10=\"Farchana\",Farchana!B139,IF($B$10=\"Gaga\",Gaga!B158,IF($B$10=\"Treguine\",Treguine!B158,IF($B$10=\"Bredjing\",Bredjing!B158,\"\"))))","v":0},{"$f":"IF($B$10=\"Farchana\",Farchana!C139,IF($B$10=\"Gaga\",Gaga!C158,IF($B$10=\"Treguine\",Treguine!C158,IF($B$10=\"Bredjing\",Bredjing!C158,\"\"))))","v":0},null,null,{"$f":"IF($B$10=\"Farchana\",Farchana!G139,IF($B$10=\"Gaga\",Gaga!I158,IF($B$10=\"Treguine\",Treguine!G158,IF($B$10=\"Bredjing\",Bredjing!G158,\"\"))))","v":""}]
[{"$f":"IF($B$10=\"Farchana\",Farchana!A140,IF($B$10=\"Gaga\",Gaga!A159,IF($B$10=\"Treguine\",Treguine!A159,IF($B$10=\"Bredjing\",Bredjing!A159,\"\"))))","v":0},{"$f":"IF($B$10=\"Farchana\",Farchana!B140,IF($B$10=\"Gaga\",Gaga!B159,IF($B$10=\"Treguine\",Treguine!B159,IF($B$10=\"Bredjing\",Bredjing!B159,\"\"))))","v":0},{"$f":"IF($B$10=\"Farchana\",Farchana!C140,IF($B$10=\"Gaga\",Gaga!C159,IF($B$10=\"Treguine\",Treguine!C159,IF($B$10=\"Bredjing\",Bredjing!C159,\"\"))))","v":0},null,null,{"$f":"IF($B$10=\"Farchana\",Farchana!G140,IF($B$10=\"Gaga\",Gaga!I159,IF($B$10=\"Treguine\",Treguine!G159,IF($B$10=\"Bredjing\",Bredjing!G159,\"\"))))","v":""}]
[{"$f":"IF($B$10=\"Farchana\",Farchana!A141,IF($B$10=\"Gaga\",Gaga!A160,IF($B$10=\"Treguine\",Treguine!A160,IF($B$10=\"Bredjing\",Bredjing!A160,\"\"))))","v":0},{"$f":"IF($B$10=\"Farchana\",Farchana!B141,IF($B$10=\"Gaga\",Gaga!B160,IF($B$10=\"Treguine\",Treguine!B160,IF($B$10=\"Bredjing\",Bredjing!B160,\"\"))))","v":0},{"$f":"IF($B$10=\"Farchana\",Farchana!C141,IF($B$10=\"Gaga\",Gaga!C160,IF($B$10=\"Treguine\",Treguine!C160,IF($B$10=\"Bredjing\",Bredjing!C160,\"\"))))","v":0},null,null,{"$f":"IF($B$10=\"Farchana\",Farchana!G141,IF($B$10=\"Gaga\",Gaga!I160,IF($B$10=\"Treguine\",Treguine!G160,IF($B$10=\"Bredjing\",Bredjing!G160,\"\"))))","v":""}]
[{"$f":"IF($B$10=\"Farchana\",Farchana!A142,IF($B$10=\"Gaga\",Gaga!A161,IF($B$10=\"Treguine\",Treguine!A161,IF($B$10=\"Bredjing\",Bredjing!A161,\"\"))))","v":0},{"$f":"IF($B$10=\"Farchana\",Farchana!B142,IF($B$10=\"Gaga\",Gaga!B161,IF($B$10=\"Treguine\",Treguine!B161,IF($B$10=\"Bredjing\",Bredjing!B161,\"\"))))","v":0},{"$f":"IF($B$10=\"Farchana\",Farchana!C142,IF($B$10=\"Gaga\",Gaga!C161,IF($B$10=\"Treguine\",Treguine!C161,IF($B$10=\"Bredjing\",Bredjing!C161,\"\"))))","v":0},null,null,{"$f":"IF($B$10=\"Farchana\",Farchana!G142,IF($B$10=\"Gaga\",Gaga!I161,IF($B$10=\"Treguine\",Treguine!G161,IF($B$10=\"Bredjing\",Bredjing!G161,\"\"))))","v":""}]
[{"$f":"IF($B$10=\"Farchana\",Farchana!A143,IF($B$10=\"Gaga\",Gaga!A162,IF($B$10=\"Treguine\",Treguine!A162,IF($B$10=\"Bredjing\",Bredjing!A162,\"\"))))","v":0},{"$f":"IF($B$10=\"Farchana\",Farchana!B143,IF($B$10=\"Gaga\",Gaga!B162,IF($B$10=\"Treguine\",Treguine!B162,IF($B$10=\"Bredjing\",Bredjing!B162,\"\"))))","v":0},{"$f":"IF($B$10=\"Farchana\",Farchana!C143,IF($B$10=\"Gaga\",Gaga!C162,IF($B$10=\"Treguine\",Treguine!C162,IF($B$10=\"Bredjing\",Bredjing!C162,\"\"))))","v":0},null,null,{"$f":"IF($B$10=\"Farchana\",Farchana!G143,IF($B$10=\"Gaga\",Gaga!I162,IF($B$10=\"Treguine\",Treguine!G162,IF($B$10=\"Bredjing\",Bredjing!G162,\"\"))))","v":""}]
[{"$f":"IF($B$10=\"Farchana\",Farchana!A144,IF($B$10=\"Gaga\",Gaga!A163,IF($B$10=\"Treguine\",Treguine!A163,IF($B$10=\"Bredjing\",Bredjing!A163,\"\"))))","v":0},{"$f":"IF($B$10=\"Farchana\",Farchana!B144,IF($B$10=\"Gaga\",Gaga!B163,IF($B$10=\"Treguine\",Treguine!B163,IF($B$10=\"Bredjing\",Bredjing!B163,\"\"))))","v":0},{"$f":"IF($B$10=\"Farchana\",Farchana!C144,IF($B$10=\"Gaga\",Gaga!C163,IF($B$10=\"Treguine\",Treguine!C163,IF($B$10=\"Bredjing\",Bredjing!C163,\"\"))))","v":0},null,null,{"$f":"IF($B$10=\"Farchana\",Farchana!G144,IF($B$10=\"Gaga\",Gaga!I163,IF($B$10=\"Treguine\",Treguine!G163,IF($B$10=\"Bredjing\",Bredjing!G163,\"\"))))","v":""}]
[{"$f":"IF($B$10=\"Farchana\",Farchana!A145,IF($B$10=\"Gaga\",Gaga!A164,IF($B$10=\"Treguine\",Treguine!A164,IF($B$10=\"Bredjing\",Bredjing!A164,\"\"))))","v":0},{"$f":"IF($B$10=\"Farchana\",Farchana!B145,IF($B$10=\"Gaga\",Gaga!B164,IF($B$10=\"Treguine\",Treguine!B164,IF($B$10=\"Bredjing\",Bredjing!B164,\"\"))))","v":0},{"$f":"IF($B$10=\"Farchana\",Farchana!C145,IF($B$10=\"Gaga\",Gaga!C164,IF($B$10=\"Treguine\",Treguine!C164,IF($B$10=\"Bredjing\",Bredjing!C164,\"\"))))","v":0},null,null,{"$f":"IF($B$10=\"Farchana\",Farchana!G145,IF($B$10=\"Gaga\",Gaga!I164,IF($B$10=\"Treguine\",Treguine!G164,IF($B$10=\"Bredjing\",Bredjing!G164,\"\"))))","v":""}]
[{"$f":"IF($B$10=\"Farchana\",Farchana!A146,IF($B$10=\"Gaga\",Gaga!A165,IF($B$10=\"Treguine\",Treguine!A165,IF($B$10=\"Bredjing\",Bredjing!A165,\"\"))))","v":0},{"$f":"IF($B$10=\"Farchana\",Farchana!B146,IF($B$10=\"Gaga\",Gaga!B165,IF($B$10=\"Treguine\",Treguine!B165,IF($B$10=\"Bredjing\",Bredjing!B165,\"\"))))","v":0},{"$f":"IF($B$10=\"Farchana\",Farchana!C146,IF($B$10=\"Gaga\",Gaga!C165,IF($B$10=\"Treguine\",Treguine!C165,IF($B$10=\"Bredjing\",Bredjing!C165,\"\"))))","v":0},null,null,{"$f":"IF($B$10=\"Farchana\",Farchana!G146,IF($B$10=\"Gaga\",Gaga!I165,IF($B$10=\"Treguine\",Treguine!G165,IF($B$10=\"Bredjing\",Bredjing!G165,\"\"))))","v":""}]
[{"$f":"IF($B$10=\"Farchana\",Farchana!A147,IF($B$10=\"Gaga\",Gaga!A166,IF($B$10=\"Treguine\",Treguine!A166,IF($B$10=\"Bredjing\",Bredjing!A166,\"\"))))","v":0},{"$f":"IF($B$10=\"Farchana\",Farchana!B147,IF($B$10=\"Gaga\",Gaga!B166,IF($B$10=\"Treguine\",Treguine!B166,IF($B$10=\"Bredjing\",Bredjing!B166,\"\"))))","v":0},{"$f":"IF($B$10=\"Farchana\",Farchana!C147,IF($B$10=\"Gaga\",Gaga!C166,IF($B$10=\"Treguine\",Treguine!C166,IF($B$10=\"Bredjing\",Bredjing!C166,\"\"))))","v":0},null,null,{"$f":"IF($B$10=\"Farchana\",Farchana!G147,IF($B$10=\"Gaga\",Gaga!I166,IF($B$10=\"Treguine\",Treguine!G166,IF($B$10=\"Bredjing\",Bredjing!G166,\"\"))))","v":""}]
[{"$f":"IF($B$10=\"Farchana\",Farchana!A148,IF($B$10=\"Gaga\",Gaga!A167,IF($B$10=\"Treguine\",Treguine!A167,IF($B$10=\"Bredjing\",Bredjing!A167,\"\"))))","v":0},{"$f":"IF($B$10=\"Farchana\",Farchana!B148,IF($B$10=\"Gaga\",Gaga!B167,IF($B$10=\"Treguine\",Treguine!B167,IF($B$10=\"Bredjing\",Bredjing!B167,\"\"))))","v":0},{"$f":"IF($B$10=\"Farchana\",Farchana!C148,IF($B$10=\"Gaga\",Gaga!C167,IF($B$10=\"Treguine\",Treguine!C167,IF($B$10=\"Bredjing\",Bredjing!C167,\"\"))))","v":0},null,null,{"$f":"IF($B$10=\"Farchana\",Farchana!G148,IF($B$10=\"Gaga\",Gaga!I167,IF($B$10=\"Treguine\",Treguine!G167,IF($B$10=\"Bredjing\",Bredjing!G167,\"\"))))","v":""}]
[{"$f":"IF($B$10=\"Farchana\",Farchana!A149,IF($B$10=\"Gaga\",Gaga!A168,IF($B$10=\"Treguine\",Treguine!A168,IF($B$10=\"Bredjing\",Bredjing!A168,\"\"))))","v":0},{"$f":"IF($B$10=\"Farchana\",Farchana!B149,IF($B$10=\"Gaga\",Gaga!B168,IF($B$10=\"Treguine\",Treguine!B168,IF($B$10=\"Bredjing\",Bredjing!B168,\"\"))))","v":0},{"$f":"IF($B$10=\"Farchana\",Farchana!C149,IF($B$10=\"Gaga\",Gaga!C168,IF($B$10=\"Treguine\",Treguine!C168,IF($B$10=\"Bredjing\",Bredjing!C168,\"\"))))","v":0},null,null,{"$f":"IF($B$10=\"Farchana\",Farchana!G149,IF($B$10=\"Gaga\",Gaga!I168,IF($B$10=\"Treguine\",Treguine!G168,IF($B$10=\"Bredjing\",Bredjing!G168,\"\"))))","v":""}]
[{"$f":"IF($B$10=\"Farchana\",Farchana!A150,IF($B$10=\"Gaga\",Gaga!A169,IF($B$10=\"Treguine\",Treguine!A169,IF($B$10=\"Bredjing\",Bredjing!A169,\"\"))))","v":0},{"$f":"IF($B$10=\"Farchana\",Farchana!B150,IF($B$10=\"Gaga\",Gaga!B169,IF($B$10=\"Treguine\",Treguine!B169,IF($B$10=\"Bredjing\",Bredjing!B169,\"\"))))","v":0},{"$f":"IF($B$10=\"Farchana\",Farchana!C150,IF($B$10=\"Gaga\",Gaga!C169,IF($B$10=\"Treguine\",Treguine!C169,IF($B$10=\"Bredjing\",Bredjing!C169,\"\"))))","v":0},null,null,{"$f":"IF($B$10=\"Farchana\",Farchana!G150,IF($B$10=\"Gaga\",Gaga!I169,IF($B$10=\"Treguine\",Treguine!G169,IF($B$10=\"Bredjing\",Bredjing!G169,\"\"))))","v":""}]
[{"$f":"IF($B$10=\"Farchana\",Farchana!A151,IF($B$10=\"Gaga\",Gaga!A170,IF($B$10=\"Treguine\",Treguine!A170,IF($B$10=\"Bredjing\",Bredjing!A170,\"\"))))","v":0},{"$f":"IF($B$10=\"Farchana\",Farchana!B151,IF($B$10=\"Gaga\",Gaga!B170,IF($B$10=\"Treguine\",Treguine!B170,IF($B$10=\"Bredjing\",Bredjing!B170,\"\"))))","v":0},{"$f":"IF($B$10=\"Farchana\",Farchana!C151,IF($B$10=\"Gaga\",Gaga!C170,IF($B$10=\"Treguine\",Treguine!C170,IF($B$10=\"Bredjing\",Bredjing!C170,\"\"))))","v":0},null,null,{"$f":"IF($B$10=\"Farchana\",Farchana!G151,IF($B$10=\"Gaga\",Gaga!I170,IF($B$10=\"Treguine\",Treguine!G170,IF($B$10=\"Bredjing\",Bredjing!G170,\"\"))))","v":""}]
[{"$f":"IF($B$10=\"Farchana\",Farchana!A152,IF($B$10=\"Gaga\",Gaga!A171,IF($B$10=\"Treguine\",Treguine!A171,IF($B$10=\"Bredjing\",Bredjing!A171,\"\"))))","v":0},{"$f":"IF($B$10=\"Farchana\",Farchana!B152,IF($B$10=\"Gaga\",Gaga!B171,IF($B$10=\"Treguine\",Treguine!B171,IF($B$10=\"Bredjing\",Bredjing!B171,\"\"))))","v":0},{"$f":"IF($B$10=\"Farchana\",Farchana!C152,IF($B$10=\"Gaga\",Gaga!C171,IF($B$10=\"Treguine\",Treguine!C171,IF($B$10=\"Bredjing\",Bredjing!C171,\"\"))))","v":0},null,null,{"$f":"IF($B$10=\"Farchana\",Farchana!G152,IF($B$10=\"Gaga\",Gaga!I171,IF($B$10=\"Treguine\",Treguine!G171,IF($B$10=\"Bredjing\",Bredjing!G171,\"\"))))","v":""}]
[{"$f":"IF($B$10=\"Farchana\",Farchana!A153,IF($B$10=\"Gaga\",Gaga!A172,IF($B$10=\"Treguine\",Treguine!A172,IF($B$10=\"Bredjing\",Bredjing!A172,\"\"))))","v":0},{"$f":"IF($B$10=\"Farchana\",Farchana!B153,IF($B$10=\"Gaga\",Gaga!B172,IF($B$10=\"Treguine\",Treguine!B172,IF($B$10=\"Bredjing\",Bredjing!B172,\"\"))))","v":0},{"$f":"IF($B$10=\"Farchana\",Farchana!C153,IF($B$10=\"Gaga\",Gaga!C172,IF($B$10=\"Treguine\",Treguine!C172,IF($B$10=\"Bredjing\",Bredjing!C172,\"\"))))","v":0},null,null,{"$f":"IF($B$10=\"Farchana\",Farchana!G153,IF($B$10=\"Gaga\",Gaga!I172,IF($B$10=\"Treguine\",Treguine!G172,IF($B$10=\"Bredjing\",Bredjing!G172,\"\"))))","v":""}]
[{"$f":"IF($B$10=\"Farchana\",Farchana!A154,IF($B$10=\"Gaga\",Gaga!A173,IF($B$10=\"Treguine\",Treguine!A173,IF($B$10=\"Bredjing\",Bredjing!A173,\"\"))))","v":0},{"$f":"IF($B$10=\"Farchana\",Farchana!B154,IF($B$10=\"Gaga\",Gaga!B173,IF($B$10=\"Treguine\",Treguine!B173,IF($B$10=\"Bredjing\",Bredjing!B173,\"\"))))","v":0},{"$f":"IF($B$10=\"Farchana\",Farchana!C154,IF($B$10=\"Gaga\",Gaga!C173,IF($B$10=\"Treguine\",Treguine!C173,IF($B$10=\"Bredjing\",Bredjing!C173,\"\"))))","v":0},null,null,{"$f":"IF($B$10=\"Farchana\",Farchana!G154,IF($B$10=\"Gaga\",Gaga!I173,IF($B$10=\"Treguine\",Treguine!G173,IF($B$10=\"Bredjing\",Bredjing!G173,\"\"))))","v":""}]
[{"$f":"IF($B$10=\"Farchana\",Farchana!A155,IF($B$10=\"Gaga\",Gaga!A174,IF($B$10=\"Treguine\",Treguine!A174,IF($B$10=\"Bredjing\",Bredjing!A174,\"\"))))","v":0},{"$f":"IF($B$10=\"Farchana\",Farchana!B155,IF($B$10=\"Gaga\",Gaga!B174,IF($B$10=\"Treguine\",Treguine!B174,IF($B$10=\"Bredjing\",Bredjing!B174,\"\"))))","v":0},{"$f":"IF($B$10=\"Farchana\",Farchana!C155,IF($B$10=\"Gaga\",Gaga!C174,IF($B$10=\"Treguine\",Treguine!C174,IF($B$10=\"Bredjing\",Bredjing!C174,\"\"))))","v":0},null,null,{"$f":"IF($B$10=\"Farchana\",Farchana!G155,IF($B$10=\"Gaga\",Gaga!I174,IF($B$10=\"Treguine\",Treguine!G174,IF($B$10=\"Bredjing\",Bredjing!G174,\"\"))))","v":""}]
[{"$f":"IF($B$10=\"Farchana\",Farchana!A156,IF($B$10=\"Gaga\",Gaga!A175,IF($B$10=\"Treguine\",Treguine!A175,IF($B$10=\"Bredjing\",Bredjing!A175,\"\"))))","v":0},{"$f":"IF($B$10=\"Farchana\",Farchana!B156,IF($B$10=\"Gaga\",Gaga!B175,IF($B$10=\"Treguine\",Treguine!B175,IF($B$10=\"Bredjing\",Bredjing!B175,\"\"))))","v":0},{"$f":"IF($B$10=\"Farchana\",Farchana!C156,IF($B$10=\"Gaga\",Gaga!C175,IF($B$10=\"Treguine\",Treguine!C175,IF($B$10=\"Bredjing\",Bredjing!C175,\"\"))))","v":0},null,null,{"$f":"IF($B$10=\"Farchana\",Farchana!G156,IF($B$10=\"Gaga\",Gaga!I175,IF($B$10=\"Treguine\",Treguine!G175,IF($B$10=\"Bredjing\",Bredjing!G175,\"\"))))","v":""}]
[{"$f":"IF($B$10=\"Farchana\",Farchana!A157,IF($B$10=\"Gaga\",Gaga!A176,IF($B$10=\"Treguine\",Treguine!A176,IF($B$10=\"Bredjing\",Bredjing!A176,\"\"))))","v":0},{"$f":"IF($B$10=\"Farchana\",Farchana!B157,IF($B$10=\"Gaga\",Gaga!B176,IF($B$10=\"Treguine\",Treguine!B176,IF($B$10=\"Bredjing\",Bredjing!B176,\"\"))))","v":0},{"$f":"IF($B$10=\"Farchana\",Farchana!C157,IF($B$10=\"Gaga\",Gaga!C176,IF($B$10=\"Treguine\",Treguine!C176,IF($B$10=\"Bredjing\",Bredjing!C176,\"\"))))","v":0},null,null,{"$f":"IF($B$10=\"Farchana\",Farchana!G157,IF($B$10=\"Gaga\",Gaga!I176,IF($B$10=\"Treguine\",Treguine!G176,IF($B$10=\"Bredjing\",Bredjing!G176,\"\"))))","v":""}]
[{"$f":"IF($B$10=\"Farchana\",Farchana!A158,IF($B$10=\"Gaga\",Gaga!A177,IF($B$10=\"Treguine\",Treguine!A177,IF($B$10=\"Bredjing\",Bredjing!A177,\"\"))))","v":0},{"$f":"IF($B$10=\"Farchana\",Farchana!B158,IF($B$10=\"Gaga\",Gaga!B177,IF($B$10=\"Treguine\",Treguine!B177,IF($B$10=\"Bredjing\",Bredjing!B177,\"\"))))","v":0},{"$f":"IF($B$10=\"Farchana\",Farchana!C158,IF($B$10=\"Gaga\",Gaga!C177,IF($B$10=\"Treguine\",Treguine!C177,IF($B$10=\"Bredjing\",Bredjing!C177,\"\"))))","v":0},null,null,{"$f":"IF($B$10=\"Farchana\",Farchana!G158,IF($B$10=\"Gaga\",Gaga!I177,IF($B$10=\"Treguine\",Treguine!G177,IF($B$10=\"Bredjing\",Bredjing!G177,\"\"))))","v":""}]
[{"$f":"IF($B$10=\"Farchana\",Farchana!A159,IF($B$10=\"Gaga\",Gaga!A178,IF($B$10=\"Treguine\",Treguine!A178,IF($B$10=\"Bredjing\",Bredjing!A178,\"\"))))","v":0},{"$f":"IF($B$10=\"Farchana\",Farchana!B159,IF($B$10=\"Gaga\",Gaga!B178,IF($B$10=\"Treguine\",Treguine!B178,IF($B$10=\"Bredjing\",Bredjing!B178,\"\"))))","v":0},{"$f":"IF($B$10=\"Farchana\",Farchana!C159,IF($B$10=\"Gaga\",Gaga!C178,IF($B$10=\"Treguine\",Treguine!C178,IF($B$10=\"Bredjing\",Bredjing!C178,\"\"))))","v":0},null,null,{"$f":"IF($B$10=\"Farchana\",Farchana!G159,IF($B$10=\"Gaga\",Gaga!I178,IF($B$10=\"Treguine\",Treguine!G178,IF($B$10=\"Bredjing\",Bredjing!G178,\"\"))))","v":""}]
[{"$f":"IF($B$10=\"Farchana\",Farchana!A160,IF($B$10=\"Gaga\",Gaga!A179,IF($B$10=\"Treguine\",Treguine!A179,IF($B$10=\"Bredjing\",Bredjing!A179,\"\"))))","v":0},{"$f":"IF($B$10=\"Farchana\",Farchana!B160,IF($B$10=\"Gaga\",Gaga!B179,IF($B$10=\"Treguine\",Treguine!B179,IF($B$10=\"Bredjing\",Bredjing!B179,\"\"))))","v":0},{"$f":"IF($B$10=\"Farchana\",Farchana!C160,IF($B$10=\"Gaga\",Gaga!C179,IF($B$10=\"Treguine\",Treguine!C179,IF($B$10=\"Bredjing\",Bredjing!C179,\"\"))))","v":0},null,null,{"$f":"IF($B$10=\"Farchana\",Farchana!G160,IF($B$10=\"Gaga\",Gaga!I179,IF($B$10=\"Treguine\",Treguine!G179,IF($B$10=\"Bredjing\",Bredjing!G179,\"\"))))","v":""}]
[{"$f":"IF($B$10=\"Farchana\",Farchana!A161,IF($B$10=\"Gaga\",Gaga!A180,IF($B$10=\"Treguine\",Treguine!A180,IF($B$10=\"Bredjing\",Bredjing!A180,\"\"))))","v":0},{"$f":"IF($B$10=\"Farchana\",Farchana!B161,IF($B$10=\"Gaga\",Gaga!B180,IF($B$10=\"Treguine\",Treguine!B180,IF($B$10=\"Bredjing\",Bredjing!B180,\"\"))))","v":0},{"$f":"IF($B$10=\"Farchana\",Farchana!C161,IF($B$10=\"Gaga\",Gaga!C180,IF($B$10=\"Treguine\",Treguine!C180,IF($B$10=\"Bredjing\",Bredjing!C180,\"\"))))","v":0},null,null,{"$f":"IF($B$10=\"Farchana\",Farchana!G161,IF($B$10=\"Gaga\",Gaga!I180,IF($B$10=\"Treguine\",Treguine!G180,IF($B$10=\"Bredjing\",Bredjing!G180,\"\"))))","v":""}]
[{"$f":"IF($B$10=\"Farchana\",Farchana!A162,IF($B$10=\"Gaga\",Gaga!A181,IF($B$10=\"Treguine\",Treguine!A181,IF($B$10=\"Bredjing\",Bredjing!A181,\"\"))))","v":0},{"$f":"IF($B$10=\"Farchana\",Farchana!B162,IF($B$10=\"Gaga\",Gaga!B181,IF($B$10=\"Treguine\",Treguine!B181,IF($B$10=\"Bredjing\",Bredjing!B181,\"\"))))","v":0},{"$f":"IF($B$10=\"Farchana\",Farchana!C162,IF($B$10=\"Gaga\",Gaga!C181,IF($B$10=\"Treguine\",Treguine!C181,IF($B$10=\"Bredjing\",Bredjing!C181,\"\"))))","v":0},null,null,{"$f":"IF($B$10=\"Farchana\",Farchana!G162,IF($B$10=\"Gaga\",Gaga!I181,IF($B$10=\"Treguine\",Treguine!G181,IF($B$10=\"Bredjing\",Bredjing!G181,\"\"))))","v":""}]
[{"$f":"IF($B$10=\"Farchana\",Farchana!A163,IF($B$10=\"Gaga\",Gaga!A182,IF($B$10=\"Treguine\",Treguine!A182,IF($B$10=\"Bredjing\",Bredjing!A182,\"\"))))","v":0},{"$f":"IF($B$10=\"Farchana\",Farchana!B163,IF($B$10=\"Gaga\",Gaga!B182,IF($B$10=\"Treguine\",Treguine!B182,IF($B$10=\"Bredjing\",Bredjing!B182,\"\"))))","v":0},{"$f":"IF($B$10=\"Farchana\",Farchana!C163,IF($B$10=\"Gaga\",Gaga!C182,IF($B$10=\"Treguine\",Treguine!C182,IF($B$10=\"Bredjing\",Bredjing!C182,\"\"))))","v":0},null,null,{"$f":"IF($B$10=\"Farchana\",Farchana!G163,IF($B$10=\"Gaga\",Gaga!I182,IF($B$10=\"Treguine\",Treguine!G182,IF($B$10=\"Bredjing\",Bredjing!G182,\"\"))))","v":""}]
[{"$f":"IF($B$10=\"Farchana\",Farchana!A164,IF($B$10=\"Gaga\",Gaga!A183,IF($B$10=\"Treguine\",Treguine!A183,IF($B$10=\"Bredjing\",Bredjing!A183,\"\"))))","v":0},{"$f":"IF($B$10=\"Farchana\",Farchana!B164,IF($B$10=\"Gaga\",Gaga!B183,IF($B$10=\"Treguine\",Treguine!B183,IF($B$10=\"Bredjing\",Bredjing!B183,\"\"))))","v":0},{"$f":"IF($B$10=\"Farchana\",Farchana!C164,IF($B$10=\"Gaga\",Gaga!C183,IF($B$10=\"Treguine\",Treguine!C183,IF($B$10=\"Bredjing\",Bredjing!C183,\"\"))))","v":0},null,null,{"$f":"IF($B$10=\"Farchana\",Farchana!G164,IF($B$10=\"Gaga\",Gaga!I183,IF($B$10=\"Treguine\",Treguine!G183,IF($B$10=\"Bredjing\",Bredjing!G183,\"\"))))","v":""}]
[{"$f":"IF($B$10=\"Farchana\",Farchana!A165,IF($B$10=\"Gaga\",Gaga!A184,IF($B$10=\"Treguine\",Treguine!A184,IF($B$10=\"Bredjing\",Bredjing!A184,\"\"))))","v":0},{"$f":"IF($B$10=\"Farchana\",Farchana!B165,IF($B$10=\"Gaga\",Gaga!B184,IF($B$10=\"Treguine\",Treguine!B184,IF($B$10=\"Bredjing\",Bredjing!B184,\"\"))))","v":0},{"$f":"IF($B$10=\"Farchana\",Farchana!C165,IF($B$10=\"Gaga\",Gaga!C184,IF($B$10=\"Treguine\",Treguine!C184,IF($B$10=\"Bredjing\",Bredjing!C184,\"\"))))","v":0},null,null,{"$f":"IF($B$10=\"Farchana\",Farchana!G165,IF($B$10=\"Gaga\",Gaga!I184,IF($B$10=\"Treguine\",Treguine!G184,IF($B$10=\"Bredjing\",Bredjing!G184,\"\"))))","v":""}]
[{"$f":"IF($B$10=\"Farchana\",Farchana!A166,IF($B$10=\"Gaga\",Gaga!A185,IF($B$10=\"Treguine\",Treguine!A185,IF($B$10=\"Bredjing\",Bredjing!A185,\"\"))))","v":0},{"$f":"IF($B$10=\"Farchana\",Farchana!B166,IF($B$10=\"Gaga\",Gaga!B185,IF($B$10=\"Treguine\",Treguine!B185,IF($B$10=\"Bredjing\",Bredjing!B185,\"\"))))","v":0},{"$f":"IF($B$10=\"Farchana\",Farchana!C166,IF($B$10=\"Gaga\",Gaga!C185,IF($B$10=\"Treguine\",Treguine!C185,IF($B$10=\"Bredjing\",Bredjing!C185,\"\"))))","v":0},null,null,{"$f":"IF($B$10=\"Farchana\",Farchana!G166,IF($B$10=\"Gaga\",Gaga!I185,IF($B$10=\"Treguine\",Treguine!G185,IF($B$10=\"Bredjing\",Bredjing!G185,\"\"))))","v":""}]
[{"$f":"IF($B$10=\"Farchana\",Farchana!A167,IF($B$10=\"Gaga\",Gaga!A186,IF($B$10=\"Treguine\",Treguine!A186,IF($B$10=\"Bredjing\",Bredjing!A186,\"\"))))","v":0},{"$f":"IF($B$10=\"Farchana\",Farchana!B167,IF($B$10=\"Gaga\",Gaga!B186,IF($B$10=\"Treguine\",Treguine!B186,IF($B$10=\"Bredjing\",Bredjing!B186,\"\"))))","v":0},{"$f":"IF($B$10=\"Farchana\",Farchana!C167,IF($B$10=\"Gaga\",Gaga!C186,IF($B$10=\"Treguine\",Treguine!C186,IF($B$10=\"Bredjing\",Bredjing!C186,\"\"))))","v":0},null,null,{"$f":"IF($B$10=\"Farchana\",Farchana!G167,IF($B$10=\"Gaga\",Gaga!I186,IF($B$10=\"Treguine\",Treguine!G186,IF($B$10=\"Bredjing\",Bredjing!G186,\"\"))))","v":""}]
[{"$f":"IF($B$10=\"Farchana\",Farchana!A168,IF($B$10=\"Gaga\",Gaga!A187,IF($B$10=\"Treguine\",Treguine!A187,IF($B$10=\"Bredjing\",Bredjing!A187,\"\"))))","v":0},{"$f":"IF($B$10=\"Farchana\",Farchana!B168,IF($B$10=\"Gaga\",Gaga!B187,IF($B$10=\"Treguine\",Treguine!B187,IF($B$10=\"Bredjing\",Bredjing!B187,\"\"))))","v":0},{"$f":"IF($B$10=\"Farchana\",Farchana!C168,IF($B$10=\"Gaga\",Gaga!C187,IF($B$10=\"Treguine\",Treguine!C187,IF($B$10=\"Bredjing\",Bredjing!C187,\"\"))))","v":0},null,null,{"$f":"IF($B$10=\"Farchana\",Farchana!G168,IF($B$10=\"Gaga\",Gaga!I187,IF($B$10=\"Treguine\",Treguine!G187,IF($B$10=\"Bredjing\",Bredjing!G187,\"\"))))","v":""}]
[{"$f":"IF($B$10=\"Farchana\",Farchana!A169,IF($B$10=\"Gaga\",Gaga!A188,IF($B$10=\"Treguine\",Treguine!A188,IF($B$10=\"Bredjing\",Bredjing!A188,\"\"))))","v":0},{"$f":"IF($B$10=\"Farchana\",Farchana!B169,IF($B$10=\"Gaga\",Gaga!B188,IF($B$10=\"Treguine\",Treguine!B188,IF($B$10=\"Bredjing\",Bredjing!B188,\"\"))))","v":0},{"$f":"IF($B$10=\"Farchana\",Farchana!C169,IF($B$10=\"Gaga\",Gaga!C188,IF($B$10=\"Treguine\",Treguine!C188,IF($B$10=\"Bredjing\",Bredjing!C188,\"\"))))","v":0},null,null,{"$f":"IF($B$10=\"Farchana\",Farchana!G169,IF($B$10=\"Gaga\",Gaga!I188,IF($B$10=\"Treguine\",Treguine!G188,IF($B$10=\"Bredjing\",Bredjing!G188,\"\"))))","v":""}]
[{"$f":"IF($B$10=\"Farchana\",Farchana!A170,IF($B$10=\"Gaga\",Gaga!A189,IF($B$10=\"Treguine\",Treguine!A189,IF($B$10=\"Bredjing\",Bredjing!A189,\"\"))))","v":0},{"$f":"IF($B$10=\"Farchana\",Farchana!B170,IF($B$10=\"Gaga\",Gaga!B189,IF($B$10=\"Treguine\",Treguine!B189,IF($B$10=\"Bredjing\",Bredjing!B189,\"\"))))","v":0},{"$f":"IF($B$10=\"Farchana\",Farchana!C170,IF($B$10=\"Gaga\",Gaga!C189,IF($B$10=\"Treguine\",Treguine!C189,IF($B$10=\"Bredjing\",Bredjing!C189,\"\"))))","v":0},null,null,{"$f":"IF($B$10=\"Farchana\",Farchana!G170,IF($B$10=\"Gaga\",Gaga!I189,IF($B$10=\"Treguine\",Treguine!G189,IF($B$10=\"Bredjing\",Bredjing!G189,\"\"))))","v":""}]
[{"$f":"IF($B$10=\"Farchana\",Farchana!A171,IF($B$10=\"Gaga\",Gaga!A190,IF($B$10=\"Treguine\",Treguine!A190,IF($B$10=\"Bredjing\",Bredjing!A190,\"\"))))","v":0},{"$f":"IF($B$10=\"Farchana\",Farchana!B171,IF($B$10=\"Gaga\",Gaga!B190,IF($B$10=\"Treguine\",Treguine!B190,IF($B$10=\"Bredjing\",Bredjing!B190,\"\"))))","v":0},{"$f":"IF($B$10=\"Farchana\",Farchana!C171,IF($B$10=\"Gaga\",Gaga!C190,IF($B$10=\"Treguine\",Treguine!C190,IF($B$10=\"Bredjing\",Bredjing!C190,\"\"))))","v":0},null,null,{"$f":"IF($B$10=\"Farchana\",Farchana!G171,IF($B$10=\"Gaga\",Gaga!I190,IF($B$10=\"Treguine\",Treguine!G190,IF($B$10=\"Bredjing\",Bredjing!G190,\"\"))))","v":""}]
[{"$f":"IF($B$10=\"Farchana\",Farchana!A172,IF($B$10=\"Gaga\",Gaga!A191,IF($B$10=\"Treguine\",Treguine!A191,IF($B$10=\"Bredjing\",Bredjing!A191,\"\"))))","v":0},{"$f":"IF($B$10=\"Farchana\",Farchana!B172,IF($B$10=\"Gaga\",Gaga!B191,IF($B$10=\"Treguine\",Treguine!B191,IF($B$10=\"Bredjing\",Bredjing!B191,\"\"))))","v":0},{"$f":"IF($B$10=\"Farchana\",Farchana!C172,IF($B$10=\"Gaga\",Gaga!C191,IF($B$10=\"Treguine\",Treguine!C191,IF($B$10=\"Bredjing\",Bredjing!C191,\"\"))))","v":0},null,null,{"$f":"IF($B$10=\"Farchana\",Farchana!G172,IF($B$10=\"Gaga\",Gaga!I191,IF($B$10=\"Treguine\",Treguine!G191,IF($B$10=\"Bredjing\",Bredjing!G191,\"\"))))","v":""}]
[{"$f":"IF($B$10=\"Farchana\",Farchana!A173,IF($B$10=\"Gaga\",Gaga!A192,IF($B$10=\"Treguine\",Treguine!A192,IF($B$10=\"Bredjing\",Bredjing!A192,\"\"))))","v":0},{"$f":"IF($B$10=\"Farchana\",Farchana!B173,IF($B$10=\"Gaga\",Gaga!B192,IF($B$10=\"Treguine\",Treguine!B192,IF($B$10=\"Bredjing\",Bredjing!B192,\"\"))))","v":0},{"$f":"IF($B$10=\"Farchana\",Farchana!C173,IF($B$10=\"Gaga\",Gaga!C192,IF($B$10=\"Treguine\",Treguine!C192,IF($B$10=\"Bredjing\",Bredjing!C192,\"\"))))","v":0},null,null,{"$f":"IF($B$10=\"Farchana\",Farchana!G173,IF($B$10=\"Gaga\",Gaga!I192,IF($B$10=\"Treguine\",Treguine!G192,IF($B$10=\"Bredjing\",Bredjing!G192,\"\"))))","v":""}]
[{"$f":"IF($B$10=\"Farchana\",Farchana!A174,IF($B$10=\"Gaga\",Gaga!A193,IF($B$10=\"Treguine\",Treguine!A193,IF($B$10=\"Bredjing\",Bredjing!A193,\"\"))))","v":0},{"$f":"IF($B$10=\"Farchana\",Farchana!B174,IF($B$10=\"Gaga\",Gaga!B193,IF($B$10=\"Treguine\",Treguine!B193,IF($B$10=\"Bredjing\",Bredjing!B193,\"\"))))","v":0},{"$f":"IF($B$10=\"Farchana\",Farchana!C174,IF($B$10=\"Gaga\",Gaga!C193,IF($B$10=\"Treguine\",Treguine!C193,IF($B$10=\"Bredjing\",Bredjing!C193,\"\"))))","v":0},null,null,{"$f":"IF($B$10=\"Farchana\",Farchana!G174,IF($B$10=\"Gaga\",Gaga!I193,IF($B$10=\"Treguine\",Treguine!G193,IF($B$10=\"Bredjing\",Bredjing!G193,\"\"))))","v":""}]
[{"$f":"IF($B$10=\"Farchana\",Farchana!A175,IF($B$10=\"Gaga\",Gaga!A194,IF($B$10=\"Treguine\",Treguine!A194,IF($B$10=\"Bredjing\",Bredjing!A194,\"\"))))","v":0},{"$f":"IF($B$10=\"Farchana\",Farchana!B175,IF($B$10=\"Gaga\",Gaga!B194,IF($B$10=\"Treguine\",Treguine!B194,IF($B$10=\"Bredjing\",Bredjing!B194,\"\"))))","v":0},{"$f":"IF($B$10=\"Farchana\",Farchana!C175,IF($B$10=\"Gaga\",Gaga!C194,IF($B$10=\"Treguine\",Treguine!C194,IF($B$10=\"Bredjing\",Bredjing!C194,\"\"))))","v":0},null,null,{"$f":"IF($B$10=\"Farchana\",Farchana!G175,IF($B$10=\"Gaga\",Gaga!I194,IF($B$10=\"Treguine\",Treguine!G194,IF($B$10=\"Bredjing\",Bredjing!G194,\"\"))))","v":""}]
[{"$f":"IF($B$10=\"Farchana\",Farchana!A176,IF($B$10=\"Gaga\",Gaga!A195,IF($B$10=\"Treguine\",Treguine!A195,IF($B$10=\"Bredjing\",Bredjing!A195,\"\"))))","v":0},{"$f":"IF($B$10=\"Farchana\",Farchana!B176,IF($B$10=\"Gaga\",Gaga!B195,IF($B$10=\"Treguine\",Treguine!B195,IF($B$10=\"Bredjing\",Bredjing!B195,\"\"))))","v":0},{"$f":"IF($B$10=\"Farchana\",Farchana!C176,IF($B$10=\"Gaga\",Gaga!C195,IF($B$10=\"Treguine\",Treguine!C195,IF($B$10=\"Bredjing\",Bredjing!C195,\"\"))))","v":0},null,null,{"$f":"IF($B$10=\"Farchana\",Farchana!G176,IF($B$10=\"Gaga\",Gaga!I195,IF($B$10=\"Treguine\",Treguine!G195,IF($B$10=\"Bredjing\",Bredjing!G195,\"\"))))","v":""}]
[{"$f":"IF($B$10=\"Farchana\",Farchana!A177,IF($B$10=\"Gaga\",Gaga!A196,IF($B$10=\"Treguine\",Treguine!A196,IF($B$10=\"Bredjing\",Bredjing!A196,\"\"))))","v":0},{"$f":"IF($B$10=\"Farchana\",Farchana!B177,IF($B$10=\"Gaga\",Gaga!B196,IF($B$10=\"Treguine\",Treguine!B196,IF($B$10=\"Bredjing\",Bredjing!B196,\"\"))))","v":0},{"$f":"IF($B$10=\"Farchana\",Farchana!C177,IF($B$10=\"Gaga\",Gaga!C196,IF($B$10=\"Treguine\",Treguine!C196,IF($B$10=\"Bredjing\",Bredjing!C196,\"\"))))","v":0},null,null,{"$f":"IF($B$10=\"Farchana\",Farchana!G177,IF($B$10=\"Gaga\",Gaga!I196,IF($B$10=\"Treguine\",Treguine!G196,IF($B$10=\"Bredjing\",Bredjing!G196,\"\"))))","v":""}]
[{"$f":"IF($B$10=\"Farchana\",Farchana!A178,IF($B$10=\"Gaga\",Gaga!A197,IF($B$10=\"Treguine\",Treguine!A197,IF($B$10=\"Bredjing\",Bredjing!A197,\"\"))))","v":0},{"$f":"IF($B$10=\"Farchana\",Farchana!B178,IF($B$10=\"Gaga\",Gaga!B197,IF($B$10=\"Treguine\",Treguine!B197,IF($B$10=\"Bredjing\",Bredjing!B197,\"\"))))","v":0},{"$f":"IF($B$10=\"Farchana\",Farchana!C178,IF($B$10=\"Gaga\",Gaga!C197,IF($B$10=\"Treguine\",Treguine!C197,IF($B$10=\"Bredjing\",Bredjing!C197,\"\"))))","v":0},null,null,{"$f":"IF($B$10=\"Farchana\",Farchana!G178,IF($B$10=\"Gaga\",Gaga!I197,IF($B$10=\"Treguine\",Treguine!G197,IF($B$10=\"Bredjing\",Bredjing!G197,\"\"))))","v":""}]
[{"$f":"IF($B$10=\"Farchana\",Farchana!A179,IF($B$10=\"Gaga\",Gaga!A198,IF($B$10=\"Treguine\",Treguine!A198,IF($B$10=\"Bredjing\",Bredjing!A198,\"\"))))","v":0},{"$f":"IF($B$10=\"Farchana\",Farchana!B179,IF($B$10=\"Gaga\",Gaga!B198,IF($B$10=\"Treguine\",Treguine!B198,IF($B$10=\"Bredjing\",Bredjing!B198,\"\"))))","v":0},{"$f":"IF($B$10=\"Farchana\",Farchana!C179,IF($B$10=\"Gaga\",Gaga!C198,IF($B$10=\"Treguine\",Treguine!C198,IF($B$10=\"Bredjing\",Bredjing!C198,\"\"))))","v":0},null,null,{"$f":"IF($B$10=\"Farchana\",Farchana!G179,IF($B$10=\"Gaga\",Gaga!I198,IF($B$10=\"Treguine\",Treguine!G198,IF($B$10=\"Bredjing\",Bredjing!G198,\"\"))))","v":""}]
[{"$f":"IF($B$10=\"Farchana\",Farchana!A180,IF($B$10=\"Gaga\",Gaga!A199,IF($B$10=\"Treguine\",Treguine!A199,IF($B$10=\"Bredjing\",Bredjing!A199,\"\"))))","v":0},{"$f":"IF($B$10=\"Farchana\",Farchana!B180,IF($B$10=\"Gaga\",Gaga!B199,IF($B$10=\"Treguine\",Treguine!B199,IF($B$10=\"Bredjing\",Bredjing!B199,\"\"))))","v":0},{"$f":"IF($B$10=\"Farchana\",Farchana!C180,IF($B$10=\"Gaga\",Gaga!C199,IF($B$10=\"Treguine\",Treguine!C199,IF($B$10=\"Bredjing\",Bredjing!C199,\"\"))))","v":0},null,null,{"$f":"IF($B$10=\"Farchana\",Farchana!G180,IF($B$10=\"Gaga\",Gaga!I199,IF($B$10=\"Treguine\",Treguine!G199,IF($B$10=\"Bredjing\",Bredjing!G199,\"\"))))","v":""}]
[{"$f":"IF($B$10=\"Farchana\",Farchana!A181,IF($B$10=\"Gaga\",Gaga!A200,IF($B$10=\"Treguine\",Treguine!A200,IF($B$10=\"Bredjing\",Bredjing!A200,\"\"))))","v":0},{"$f":"IF($B$10=\"Farchana\",Farchana!B181,IF($B$10=\"Gaga\",Gaga!B200,IF($B$10=\"Treguine\",Treguine!B200,IF($B$10=\"Bredjing\",Bredjing!B200,\"\"))))","v":0},{"$f":"IF($B$10=\"Farchana\",Farchana!C181,IF($B$10=\"Gaga\",Gaga!C200,IF($B$10=\"Treguine\",Treguine!C200,IF($B$10=\"Bredjing\",Bredjing!C200,\"\"))))","v":0},null,null,{"$f":"IF($B$10=\"Farchana\",Farchana!G181,IF($B$10=\"Gaga\",Gaga!I200,IF($B$10=\"Treguine\",Treguine!G200,IF($B$10=\"Bredjing\",Bredjing!G200,\"\"))))","v":""}]
[{"$f":"IF($B$10=\"Farchana\",Farchana!A182,IF($B$10=\"Gaga\",Gaga!A201,IF($B$10=\"Treguine\",Treguine!A201,IF($B$10=\"Bredjing\",Bredjing!A201,\"\"))))","v":0},{"$f":"IF($B$10=\"Farchana\",Farchana!B182,IF($B$10=\"Gaga\",Gaga!B201,IF($B$10=\"Treguine\",Treguine!B201,IF($B$10=\"Bredjing\",Bredjing!B201,\"\"))))","v":0},{"$f":"IF($B$10=\"Farchana\",Farchana!C182,IF($B$10=\"Gaga\",Gaga!C201,IF($B$10=\"Treguine\",Treguine!C201,IF($B$10=\"Bredjing\",Bredjing!C201,\"\"))))","v":0},null,null,{"$f":"IF($B$10=\"Farchana\",Farchana!G182,IF($B$10=\"Gaga\",Gaga!I201,IF($B$10=\"Treguine\",Treguine!G201,IF($B$10=\"Bredjing\",Bredjing!G201,\"\"))))","v":""}]
[{"$f":"IF($B$10=\"Farchana\",Farchana!A183,IF($B$10=\"Gaga\",Gaga!A202,IF($B$10=\"Treguine\",Treguine!A202,IF($B$10=\"Bredjing\",Bredjing!A202,\"\"))))","v":0},{"$f":"IF($B$10=\"Farchana\",Farchana!B183,IF($B$10=\"Gaga\",Gaga!B202,IF($B$10=\"Treguine\",Treguine!B202,IF($B$10=\"Bredjing\",Bredjing!B202,\"\"))))","v":0},{"$f":"IF($B$10=\"Farchana\",Farchana!C183,IF($B$10=\"Gaga\",Gaga!C202,IF($B$10=\"Treguine\",Treguine!C202,IF($B$10=\"Bredjing\",Bredjing!C202,\"\"))))","v":0},null,null,{"$f":"IF($B$10=\"Farchana\",Farchana!G183,IF($B$10=\"Gaga\",Gaga!I202,IF($B$10=\"Treguine\",Treguine!G202,IF($B$10=\"Bredjing\",Bredjing!G202,\"\"))))","v":""}]
[{"$f":"IF($B$10=\"Farchana\",Farchana!A184,IF($B$10=\"Gaga\",Gaga!A203,IF($B$10=\"Treguine\",Treguine!A203,IF($B$10=\"Bredjing\",Bredjing!A203,\"\"))))","v":0},{"$f":"IF($B$10=\"Farchana\",Farchana!B184,IF($B$10=\"Gaga\",Gaga!B203,IF($B$10=\"Treguine\",Treguine!B203,IF($B$10=\"Bredjing\",Bredjing!B203,\"\"))))","v":0},{"$f":"IF($B$10=\"Farchana\",Farchana!C184,IF($B$10=\"Gaga\",Gaga!C203,IF($B$10=\"Treguine\",Treguine!C203,IF($B$10=\"Bredjing\",Bredjing!C203,\"\"))))","v":0},null,null,{"$f":"IF($B$10=\"Farchana\",Farchana!G184,IF($B$10=\"Gaga\",Gaga!I203,IF($B$10=\"Treguine\",Treguine!G203,IF($B$10=\"Bredjing\",Bredjing!G203,\"\"))))","v":""}]
[{"$f":"IF($B$10=\"Farchana\",Farchana!A185,IF($B$10=\"Gaga\",Gaga!A204,IF($B$10=\"Treguine\",Treguine!A204,IF($B$10=\"Bredjing\",Bredjing!A204,\"\"))))","v":0},{"$f":"IF($B$10=\"Farchana\",Farchana!B185,IF($B$10=\"Gaga\",Gaga!B204,IF($B$10=\"Treguine\",Treguine!B204,IF($B$10=\"Bredjing\",Bredjing!B204,\"\"))))","v":0},{"$f":"IF($B$10=\"Farchana\",Farchana!C185,IF($B$10=\"Gaga\",Gaga!C204,IF($B$10=\"Treguine\",Treguine!C204,IF($B$10=\"Bredjing\",Bredjing!C204,\"\"))))","v":0},null,null,{"$f":"IF($B$10=\"Farchana\",Farchana!G185,IF($B$10=\"Gaga\",Gaga!I204,IF($B$10=\"Treguine\",Treguine!G204,IF($B$10=\"Bredjing\",Bredjing!G204,\"\"))))","v":""}]
[{"$f":"IF($B$10=\"Farchana\",Farchana!A186,IF($B$10=\"Gaga\",Gaga!A205,IF($B$10=\"Treguine\",Treguine!A205,IF($B$10=\"Bredjing\",Bredjing!A205,\"\"))))","v":0},{"$f":"IF($B$10=\"Farchana\",Farchana!B186,IF($B$10=\"Gaga\",Gaga!B205,IF($B$10=\"Treguine\",Treguine!B205,IF($B$10=\"Bredjing\",Bredjing!B205,\"\"))))","v":0},{"$f":"IF($B$10=\"Farchana\",Farchana!C186,IF($B$10=\"Gaga\",Gaga!C205,IF($B$10=\"Treguine\",Treguine!C205,IF($B$10=\"Bredjing\",Bredjing!C205,\"\"))))","v":0},null,null,{"$f":"IF($B$10=\"Farchana\",Farchana!G186,IF($B$10=\"Gaga\",Gaga!I205,IF($B$10=\"Treguine\",Treguine!G205,IF($B$10=\"Bredjing\",Bredjing!G205,\"\"))))","v":""}]
[{"$f":"IF($B$10=\"Farchana\",Farchana!A187,IF($B$10=\"Gaga\",Gaga!A206,IF($B$10=\"Treguine\",Treguine!A206,IF($B$10=\"Bredjing\",Bredjing!A206,\"\"))))","v":0},{"$f":"IF($B$10=\"Farchana\",Farchana!B187,IF($B$10=\"Gaga\",Gaga!B206,IF($B$10=\"Treguine\",Treguine!B206,IF($B$10=\"Bredjing\",Bredjing!B206,\"\"))))","v":0},{"$f":"IF($B$10=\"Farchana\",Farchana!C187,IF($B$10=\"Gaga\",Gaga!C206,IF($B$10=\"Treguine\",Treguine!C206,IF($B$10=\"Bredjing\",Bredjing!C206,\"\"))))","v":0},null,null,{"$f":"IF($B$10=\"Farchana\",Farchana!G187,IF($B$10=\"Gaga\",Gaga!I206,IF($B$10=\"Treguine\",Treguine!G206,IF($B$10=\"Bredjing\",Bredjing!G206,\"\"))))","v":""}]
[{"$f":"IF($B$10=\"Farchana\",Farchana!A188,IF($B$10=\"Gaga\",Gaga!A207,IF($B$10=\"Treguine\",Treguine!A207,IF($B$10=\"Bredjing\",Bredjing!A207,\"\"))))","v":0},{"$f":"IF($B$10=\"Farchana\",Farchana!B188,IF($B$10=\"Gaga\",Gaga!B207,IF($B$10=\"Treguine\",Treguine!B207,IF($B$10=\"Bredjing\",Bredjing!B207,\"\"))))","v":0},{"$f":"IF($B$10=\"Farchana\",Farchana!C188,IF($B$10=\"Gaga\",Gaga!C207,IF($B$10=\"Treguine\",Treguine!C207,IF($B$10=\"Bredjing\",Bredjing!C207,\"\"))))","v":0},null,null,{"$f":"IF($B$10=\"Farchana\",Farchana!G188,IF($B$10=\"Gaga\",Gaga!I207,IF($B$10=\"Treguine\",Treguine!G207,IF($B$10=\"Bredjing\",Bredjing!G207,\"\"))))","v":""}]
[{"$f":"IF($B$10=\"Farchana\",Farchana!A189,IF($B$10=\"Gaga\",Gaga!A208,IF($B$10=\"Treguine\",Treguine!A208,IF($B$10=\"Bredjing\",Bredjing!A208,\"\"))))","v":0},{"$f":"IF($B$10=\"Farchana\",Farchana!B189,IF($B$10=\"Gaga\",Gaga!B208,IF($B$10=\"Treguine\",Treguine!B208,IF($B$10=\"Bredjing\",Bredjing!B208,\"\"))))","v":0},{"$f":"IF($B$10=\"Farchana\",Farchana!C189,IF($B$10=\"Gaga\",Gaga!C208,IF($B$10=\"Treguine\",Treguine!C208,IF($B$10=\"Bredjing\",Bredjing!C208,\"\"))))","v":0},null,null,{"$f":"IF($B$10=\"Farchana\",Farchana!G189,IF($B$10=\"Gaga\",Gaga!I208,IF($B$10=\"Treguine\",Treguine!G208,IF($B$10=\"Bredjing\",Bredjing!G208,\"\"))))","v":""}]
[{"$f":"IF($B$10=\"Farchana\",Farchana!A190,IF($B$10=\"Gaga\",Gaga!A209,IF($B$10=\"Treguine\",Treguine!A209,IF($B$10=\"Bredjing\",Bredjing!A209,\"\"))))","v":0},{"$f":"IF($B$10=\"Farchana\",Farchana!B190,IF($B$10=\"Gaga\",Gaga!B209,IF($B$10=\"Treguine\",Treguine!B209,IF($B$10=\"Bredjing\",Bredjing!B209,\"\"))))","v":0},{"$f":"IF($B$10=\"Farchana\",Farchana!C190,IF($B$10=\"Gaga\",Gaga!C209,IF($B$10=\"Treguine\",Treguine!C209,IF($B$10=\"Bredjing\",Bredjing!C209,\"\"))))","v":0},null,null,{"$f":"IF($B$10=\"Farchana\",Farchana!G190,IF($B$10=\"Gaga\",Gaga!I209,IF($B$10=\"Treguine\",Treguine!G209,IF($B$10=\"Bredjing\",Bredjing!G209,\"\"))))","v":""}]
[{"$f":"IF($B$10=\"Farchana\",Farchana!A191,IF($B$10=\"Gaga\",Gaga!A210,IF($B$10=\"Treguine\",Treguine!A210,IF($B$10=\"Bredjing\",Bredjing!A210,\"\"))))","v":0},{"$f":"IF($B$10=\"Farchana\",Farchana!B191,IF($B$10=\"Gaga\",Gaga!B210,IF($B$10=\"Treguine\",Treguine!B210,IF($B$10=\"Bredjing\",Bredjing!B210,\"\"))))","v":0},{"$f":"IF($B$10=\"Farchana\",Farchana!C191,IF($B$10=\"Gaga\",Gaga!C210,IF($B$10=\"Treguine\",Treguine!C210,IF($B$10=\"Bredjing\",Bredjing!C210,\"\"))))","v":0},null,null,{"$f":"IF($B$10=\"Farchana\",Farchana!G191,IF($B$10=\"Gaga\",Gaga!I210,IF($B$10=\"Treguine\",Treguine!G210,IF($B$10=\"Bredjing\",Bredjing!G210,\"\"))))","v":""}]
[{"$f":"IF($B$10=\"Farchana\",Farchana!A192,IF($B$10=\"Gaga\",Gaga!A211,IF($B$10=\"Treguine\",Treguine!A211,IF($B$10=\"Bredjing\",Bredjing!A211,\"\"))))","v":0},{"$f":"IF($B$10=\"Farchana\",Farchana!B192,IF($B$10=\"Gaga\",Gaga!B211,IF($B$10=\"Treguine\",Treguine!B211,IF($B$10=\"Bredjing\",Bredjing!B211,\"\"))))","v":0},{"$f":"IF($B$10=\"Farchana\",Farchana!C192,IF($B$10=\"Gaga\",Gaga!C211,IF($B$10=\"Treguine\",Treguine!C211,IF($B$10=\"Bredjing\",Bredjing!C211,\"\"))))","v":0},null,null,{"$f":"IF($B$10=\"Farchana\",Farchana!G192,IF($B$10=\"Gaga\",Gaga!I211,IF($B$10=\"Treguine\",Treguine!G211,IF($B$10=\"Bredjing\",Bredjing!G211,\"\"))))","v":""}]
[{"$f":"IF($B$10=\"Farchana\",Farchana!A193,IF($B$10=\"Gaga\",Gaga!A212,IF($B$10=\"Treguine\",Treguine!A212,IF($B$10=\"Bredjing\",Bredjing!A212,\"\"))))","v":0},{"$f":"IF($B$10=\"Farchana\",Farchana!B193,IF($B$10=\"Gaga\",Gaga!B212,IF($B$10=\"Treguine\",Treguine!B212,IF($B$10=\"Bredjing\",Bredjing!B212,\"\"))))","v":0},{"$f":"IF($B$10=\"Farchana\",Farchana!C193,IF($B$10=\"Gaga\",Gaga!C212,IF($B$10=\"Treguine\",Treguine!C212,IF($B$10=\"Bredjing\",Bredjing!C212,\"\"))))","v":0},null,null,{"$f":"IF($B$10=\"Farchana\",Farchana!G193,IF($B$10=\"Gaga\",Gaga!I212,IF($B$10=\"Treguine\",Treguine!G212,IF($B$10=\"Bredjing\",Bredjing!G212,\"\"))))","v":""}]
[{"$f":"IF($B$10=\"Farchana\",Farchana!A194,IF($B$10=\"Gaga\",Gaga!A213,IF($B$10=\"Treguine\",Treguine!A213,IF($B$10=\"Bredjing\",Bredjing!A213,\"\"))))","v":0},{"$f":"IF($B$10=\"Farchana\",Farchana!B194,IF($B$10=\"Gaga\",Gaga!B213,IF($B$10=\"Treguine\",Treguine!B213,IF($B$10=\"Bredjing\",Bredjing!B213,\"\"))))","v":0},{"$f":"IF($B$10=\"Farchana\",Farchana!C194,IF($B$10=\"Gaga\",Gaga!C213,IF($B$10=\"Treguine\",Treguine!C213,IF($B$10=\"Bredjing\",Bredjing!C213,\"\"))))","v":0},null,null,{"$f":"IF($B$10=\"Farchana\",Farchana!G194,IF($B$10=\"Gaga\",Gaga!I213,IF($B$10=\"Treguine\",Treguine!G213,IF($B$10=\"Bredjing\",Bredjing!G213,\"\"))))","v":""}]
[{"$f":"IF($B$10=\"Farchana\",Farchana!A195,IF($B$10=\"Gaga\",Gaga!A214,IF($B$10=\"Treguine\",Treguine!A214,IF($B$10=\"Bredjing\",Bredjing!A214,\"\"))))","v":0},{"$f":"IF($B$10=\"Farchana\",Farchana!B195,IF($B$10=\"Gaga\",Gaga!B214,IF($B$10=\"Treguine\",Treguine!B214,IF($B$10=\"Bredjing\",Bredjing!B214,\"\"))))","v":0},{"$f":"IF($B$10=\"Farchana\",Farchana!C195,IF($B$10=\"Gaga\",Gaga!C214,IF($B$10=\"Treguine\",Treguine!C214,IF($B$10=\"Bredjing\",Bredjing!C214,\"\"))))","v":0},null,null,{"$f":"IF($B$10=\"Farchana\",Farchana!G195,IF($B$10=\"Gaga\",Gaga!I214,IF($B$10=\"Treguine\",Treguine!G214,IF($B$10=\"Bredjing\",Bredjing!G214,\"\"))))","v":""}]
[{"$f":"IF($B$10=\"Farchana\",Farchana!A196,IF($B$10=\"Gaga\",Gaga!A215,IF($B$10=\"Treguine\",Treguine!A215,IF($B$10=\"Bredjing\",Bredjing!A215,\"\"))))","v":0},{"$f":"IF($B$10=\"Farchana\",Farchana!B196,IF($B$10=\"Gaga\",Gaga!B215,IF($B$10=\"Treguine\",Treguine!B215,IF($B$10=\"Bredjing\",Bredjing!B215,\"\"))))","v":0},{"$f":"IF($B$10=\"Farchana\",Farchana!C196,IF($B$10=\"Gaga\",Gaga!C215,IF($B$10=\"Treguine\",Treguine!C215,IF($B$10=\"Bredjing\",Bredjing!C215,\"\"))))","v":0},null,null,{"$f":"IF($B$10=\"Farchana\",Farchana!G196,IF($B$10=\"Gaga\",Gaga!I215,IF($B$10=\"Treguine\",Treguine!G215,IF($B$10=\"Bredjing\",Bredjing!G215,\"\"))))","v":""}]
[{"$f":"IF($B$10=\"Farchana\",Farchana!A197,IF($B$10=\"Gaga\",Gaga!A216,IF($B$10=\"Treguine\",Treguine!A216,IF($B$10=\"Bredjing\",Bredjing!A216,\"\"))))","v":0},{"$f":"IF($B$10=\"Farchana\",Farchana!B197,IF($B$10=\"Gaga\",Gaga!B216,IF($B$10=\"Treguine\",Treguine!B216,IF($B$10=\"Bredjing\",Bredjing!B216,\"\"))))","v":0},{"$f":"IF($B$10=\"Farchana\",Farchana!C197,IF($B$10=\"Gaga\",Gaga!C216,IF($B$10=\"Treguine\",Treguine!C216,IF($B$10=\"Bredjing\",Bredjing!C216,\"\"))))","v":0},null,null,{"$f":"IF($B$10=\"Farchana\",Farchana!G197,IF($B$10=\"Gaga\",Gaga!I216,IF($B$10=\"Treguine\",Treguine!G216,IF($B$10=\"Bredjing\",Bredjing!G216,\"\"))))","v":""}]
[{"$f":"IF($B$10=\"Farchana\",Farchana!A198,IF($B$10=\"Gaga\",Gaga!A217,IF($B$10=\"Treguine\",Treguine!A217,IF($B$10=\"Bredjing\",Bredjing!A217,\"\"))))","v":0},{"$f":"IF($B$10=\"Farchana\",Farchana!B198,IF($B$10=\"Gaga\",Gaga!B217,IF($B$10=\"Treguine\",Treguine!B217,IF($B$10=\"Bredjing\",Bredjing!B217,\"\"))))","v":0},{"$f":"IF($B$10=\"Farchana\",Farchana!C198,IF($B$10=\"Gaga\",Gaga!C217,IF($B$10=\"Treguine\",Treguine!C217,IF($B$10=\"Bredjing\",Bredjing!C217,\"\"))))","v":0},null,null,{"$f":"IF($B$10=\"Farchana\",Farchana!G198,IF($B$10=\"Gaga\",Gaga!I217,IF($B$10=\"Treguine\",Treguine!G217,IF($B$10=\"Bredjing\",Bredjing!G217,\"\"))))","v":""}]
[{"$f":"IF($B$10=\"Farchana\",Farchana!A199,IF($B$10=\"Gaga\",Gaga!A218,IF($B$10=\"Treguine\",Treguine!A218,IF($B$10=\"Bredjing\",Bredjing!A218,\"\"))))","v":0},{"$f":"IF($B$10=\"Farchana\",Farchana!B199,IF($B$10=\"Gaga\",Gaga!B218,IF($B$10=\"Treguine\",Treguine!B218,IF($B$10=\"Bredjing\",Bredjing!B218,\"\"))))","v":0},{"$f":"IF($B$10=\"Farchana\",Farchana!C199,IF($B$10=\"Gaga\",Gaga!C218,IF($B$10=\"Treguine\",Treguine!C218,IF($B$10=\"Bredjing\",Bredjing!C218,\"\"))))","v":0},null,null,{"$f":"IF($B$10=\"Farchana\",Farchana!G199,IF($B$10=\"Gaga\",Gaga!I218,IF($B$10=\"Treguine\",Treguine!G218,IF($B$10=\"Bredjing\",Bredjing!G218,\"\"))))","v":""}]
[{"$f":"IF($B$10=\"Farchana\",Farchana!A200,IF($B$10=\"Gaga\",Gaga!A219,IF($B$10=\"Treguine\",Treguine!A219,IF($B$10=\"Bredjing\",Bredjing!A219,\"\"))))","v":0},{"$f":"IF($B$10=\"Farchana\",Farchana!B200,IF($B$10=\"Gaga\",Gaga!B219,IF($B$10=\"Treguine\",Treguine!B219,IF($B$10=\"Bredjing\",Bredjing!B219,\"\"))))","v":0},{"$f":"IF($B$10=\"Farchana\",Farchana!C200,IF($B$10=\"Gaga\",Gaga!C219,IF($B$10=\"Treguine\",Treguine!C219,IF($B$10=\"Bredjing\",Bredjing!C219,\"\"))))","v":0},null,null,{"$f":"IF($B$10=\"Farchana\",Farchana!G200,IF($B$10=\"Gaga\",Gaga!I219,IF($B$10=\"Treguine\",Treguine!G219,IF($B$10=\"Bredjing\",Bredjing!G219,\"\"))))","v":""}]
[{"$f":"IF($B$10=\"Farchana\",Farchana!A201,IF($B$10=\"Gaga\",Gaga!A220,IF($B$10=\"Treguine\",Treguine!A220,IF($B$10=\"Bredjing\",Bredjing!A220,\"\"))))","v":0},{"$f":"IF($B$10=\"Farchana\",Farchana!B201,IF($B$10=\"Gaga\",Gaga!B220,IF($B$10=\"Treguine\",Treguine!B220,IF($B$10=\"Bredjing\",Bredjing!B220,\"\"))))","v":0},{"$f":"IF($B$10=\"Farchana\",Farchana!C201,IF($B$10=\"Gaga\",Gaga!C220,IF($B$10=\"Treguine\",Treguine!C220,IF($B$10=\"Bredjing\",Bredjing!C220,\"\"))))","v":0},null,null,{"$f":"IF($B$10=\"Farchana\",Farchana!G201,IF($B$10=\"Gaga\",Gaga!I220,IF($B$10=\"Treguine\",Treguine!G220,IF($B$10=\"Bredjing\",Bredjing!G220,\"\"))))","v":""}]
[{"$f":"IF($B$10=\"Farchana\",Farchana!A202,IF($B$10=\"Gaga\",Gaga!A221,IF($B$10=\"Treguine\",Treguine!A221,IF($B$10=\"Bredjing\",Bredjing!A221,\"\"))))","v":0},{"$f":"IF($B$10=\"Farchana\",Farchana!B202,IF($B$10=\"Gaga\",Gaga!B221,IF($B$10=\"Treguine\",Treguine!B221,IF($B$10=\"Bredjing\",Bredjing!B221,\"\"))))","v":0},{"$f":"IF($B$10=\"Farchana\",Farchana!C202,IF($B$10=\"Gaga\",Gaga!C221,IF($B$10=\"Treguine\",Treguine!C221,IF($B$10=\"Bredjing\",Bredjing!C221,\"\"))))","v":0},null,null,{"$f":"IF($B$10=\"Farchana\",Farchana!G202,IF($B$10=\"Gaga\",Gaga!I221,IF($B$10=\"Treguine\",Treguine!G221,IF($B$10=\"Bredjing\",Bredjing!G221,\"\"))))","v":""}]
[{"$f":"IF($B$10=\"Farchana\",Farchana!A203,IF($B$10=\"Gaga\",Gaga!A222,IF($B$10=\"Treguine\",Treguine!A222,IF($B$10=\"Bredjing\",Bredjing!A222,\"\"))))","v":0},{"$f":"IF($B$10=\"Farchana\",Farchana!B203,IF($B$10=\"Gaga\",Gaga!B222,IF($B$10=\"Treguine\",Treguine!B222,IF($B$10=\"Bredjing\",Bredjing!B222,\"\"))))","v":0},{"$f":"IF($B$10=\"Farchana\",Farchana!C203,IF($B$10=\"Gaga\",Gaga!C222,IF($B$10=\"Treguine\",Treguine!C222,IF($B$10=\"Bredjing\",Bredjing!C222,\"\"))))","v":0},null,null,{"$f":"IF($B$10=\"Farchana\",Farchana!G203,IF($B$10=\"Gaga\",Gaga!I222,IF($B$10=\"Treguine\",Treguine!G222,IF($B$10=\"Bredjing\",Bredjing!G222,\"\"))))","v":""}]
[{"$f":"IF($B$10=\"Farchana\",Farchana!A204,IF($B$10=\"Gaga\",Gaga!A223,IF($B$10=\"Treguine\",Treguine!A223,IF($B$10=\"Bredjing\",Bredjing!A223,\"\"))))","v":0},{"$f":"IF($B$10=\"Farchana\",Farchana!B204,IF($B$10=\"Gaga\",Gaga!B223,IF($B$10=\"Treguine\",Treguine!B223,IF($B$10=\"Bredjing\",Bredjing!B223,\"\"))))","v":0},{"$f":"IF($B$10=\"Farchana\",Farchana!C204,IF($B$10=\"Gaga\",Gaga!C223,IF($B$10=\"Treguine\",Treguine!C223,IF($B$10=\"Bredjing\",Bredjing!C223,\"\"))))","v":0},null,null,{"$f":"IF($B$10=\"Farchana\",Farchana!G204,IF($B$10=\"Gaga\",Gaga!I223,IF($B$10=\"Treguine\",Treguine!G223,IF($B$10=\"Bredjing\",Bredjing!G223,\"\"))))","v":""}]
[{"$f":"IF($B$10=\"Farchana\",Farchana!A205,IF($B$10=\"Gaga\",Gaga!A224,IF($B$10=\"Treguine\",Treguine!A224,IF($B$10=\"Bredjing\",Bredjing!A224,\"\"))))","v":0},{"$f":"IF($B$10=\"Farchana\",Farchana!B205,IF($B$10=\"Gaga\",Gaga!B224,IF($B$10=\"Treguine\",Treguine!B224,IF($B$10=\"Bredjing\",Bredjing!B224,\"\"))))","v":0},{"$f":"IF($B$10=\"Farchana\",Farchana!C205,IF($B$10=\"Gaga\",Gaga!C224,IF($B$10=\"Treguine\",Treguine!C224,IF($B$10=\"Bredjing\",Bredjing!C224,\"\"))))","v":0},null,null,{"$f":"IF($B$10=\"Farchana\",Farchana!G205,IF($B$10=\"Gaga\",Gaga!I224,IF($B$10=\"Treguine\",Treguine!G224,IF($B$10=\"Bredjing\",Bredjing!G224,\"\"))))","v":""}]
[{"$f":"IF($B$10=\"Farchana\",Farchana!A206,IF($B$10=\"Gaga\",Gaga!A225,IF($B$10=\"Treguine\",Treguine!A225,IF($B$10=\"Bredjing\",Bredjing!A225,\"\"))))","v":0},{"$f":"IF($B$10=\"Farchana\",Farchana!B206,IF($B$10=\"Gaga\",Gaga!B225,IF($B$10=\"Treguine\",Treguine!B225,IF($B$10=\"Bredjing\",Bredjing!B225,\"\"))))","v":0},{"$f":"IF($B$10=\"Farchana\",Farchana!C206,IF($B$10=\"Gaga\",Gaga!C225,IF($B$10=\"Treguine\",Treguine!C225,IF($B$10=\"Bredjing\",Bredjing!C225,\"\"))))","v":0},null,null,{"$f":"IF($B$10=\"Farchana\",Farchana!G206,IF($B$10=\"Gaga\",Gaga!I225,IF($B$10=\"Treguine\",Treguine!G225,IF($B$10=\"Bredjing\",Bredjing!G225,\"\"))))","v":""}]
[{"$f":"IF($B$10=\"Farchana\",Farchana!A207,IF($B$10=\"Gaga\",Gaga!A226,IF($B$10=\"Treguine\",Treguine!A226,IF($B$10=\"Bredjing\",Bredjing!A226,\"\"))))","v":0},{"$f":"IF($B$10=\"Farchana\",Farchana!B207,IF($B$10=\"Gaga\",Gaga!B226,IF($B$10=\"Treguine\",Treguine!B226,IF($B$10=\"Bredjing\",Bredjing!B226,\"\"))))","v":0},{"$f":"IF($B$10=\"Farchana\",Farchana!C207,IF($B$10=\"Gaga\",Gaga!C226,IF($B$10=\"Treguine\",Treguine!C226,IF($B$10=\"Bredjing\",Bredjing!C226,\"\"))))","v":0},null,null,{"$f":"IF($B$10=\"Farchana\",Farchana!G207,IF($B$10=\"Gaga\",Gaga!I226,IF($B$10=\"Treguine\",Treguine!G226,IF($B$10=\"Bredjing\",Bredjing!G226,\"\"))))","v":""}]
[{"$f":"IF($B$10=\"Farchana\",Farchana!A208,IF($B$10=\"Gaga\",Gaga!A227,IF($B$10=\"Treguine\",Treguine!A227,IF($B$10=\"Bredjing\",Bredjing!A227,\"\"))))","v":0},{"$f":"IF($B$10=\"Farchana\",Farchana!B208,IF($B$10=\"Gaga\",Gaga!B227,IF($B$10=\"Treguine\",Treguine!B227,IF($B$10=\"Bredjing\",Bredjing!B227,\"\"))))","v":0},{"$f":"IF($B$10=\"Farchana\",Farchana!C208,IF($B$10=\"Gaga\",Gaga!C227,IF($B$10=\"Treguine\",Treguine!C227,IF($B$10=\"Bredjing\",Bredjing!C227,\"\"))))","v":0},null,null,{"$f":"IF($B$10=\"Farchana\",Farchana!G208,IF($B$10=\"Gaga\",Gaga!I227,IF($B$10=\"Treguine\",Treguine!G227,IF($B$10=\"Bredjing\",Bredjing!G227,\"\"))))","v":""}]
[{"$f":"IF($B$10=\"Farchana\",Farchana!A209,IF($B$10=\"Gaga\",Gaga!A228,IF($B$10=\"Treguine\",Treguine!A228,IF($B$10=\"Bredjing\",Bredjing!A228,\"\"))))","v":0},{"$f":"IF($B$10=\"Farchana\",Farchana!B209,IF($B$10=\"Gaga\",Gaga!B228,IF($B$10=\"Treguine\",Treguine!B228,IF($B$10=\"Bredjing\",Bredjing!B228,\"\"))))","v":0},{"$f":"IF($B$10=\"Farchana\",Farchana!C209,IF($B$10=\"Gaga\",Gaga!C228,IF($B$10=\"Treguine\",Treguine!C228,IF($B$10=\"Bredjing\",Bredjing!C228,\"\"))))","v":0},null,null,{"$f":"IF($B$10=\"Farchana\",Farchana!G209,IF($B$10=\"Gaga\",Gaga!I228,IF($B$10=\"Treguine\",Treguine!G228,IF($B$10=\"Bredjing\",Bredjing!G228,\"\"))))","v":""}]
[{"$f":"IF($B$10=\"Farchana\",Farchana!A210,IF($B$10=\"Gaga\",Gaga!A229,IF($B$10=\"Treguine\",Treguine!A229,IF($B$10=\"Bredjing\",Bredjing!A229,\"\"))))","v":0},{"$f":"IF($B$10=\"Farchana\",Farchana!B210,IF($B$10=\"Gaga\",Gaga!B229,IF($B$10=\"Treguine\",Treguine!B229,IF($B$10=\"Bredjing\",Bredjing!B229,\"\"))))","v":0},{"$f":"IF($B$10=\"Farchana\",Farchana!C210,IF($B$10=\"Gaga\",Gaga!C229,IF($B$10=\"Treguine\",Treguine!C229,IF($B$10=\"Bredjing\",Bredjing!C229,\"\"))))","v":0},null,null,{"$f":"IF($B$10=\"Farchana\",Farchana!G210,IF($B$10=\"Gaga\",Gaga!I229,IF($B$10=\"Treguine\",Treguine!G229,IF($B$10=\"Bredjing\",Bredjing!G229,\"\"))))","v":""}]
[{"$f":"IF($B$10=\"Farchana\",Farchana!A211,IF($B$10=\"Gaga\",Gaga!A230,IF($B$10=\"Treguine\",Treguine!A230,IF($B$10=\"Bredjing\",Bredjing!A230,\"\"))))","v":0},{"$f":"IF($B$10=\"Farchana\",Farchana!B211,IF($B$10=\"Gaga\",Gaga!B230,IF($B$10=\"Treguine\",Treguine!B230,IF($B$10=\"Bredjing\",Bredjing!B230,\"\"))))","v":0},{"$f":"IF($B$10=\"Farchana\",Farchana!C211,IF($B$10=\"Gaga\",Gaga!C230,IF($B$10=\"Treguine\",Treguine!C230,IF($B$10=\"Bredjing\",Bredjing!C230,\"\"))))","v":0},null,null,{"$f":"IF($B$10=\"Farchana\",Farchana!G211,IF($B$10=\"Gaga\",Gaga!I230,IF($B$10=\"Treguine\",Treguine!G230,IF($B$10=\"Bredjing\",Bredjing!G230,\"\"))))","v":""}]
[{"$f":"IF($B$10=\"Farchana\",Farchana!A212,IF($B$10=\"Gaga\",Gaga!A231,IF($B$10=\"Treguine\",Treguine!A231,IF($B$10=\"Bredjing\",Bredjing!A231,\"\"))))","v":0},{"$f":"IF($B$10=\"Farchana\",Farchana!B212,IF($B$10=\"Gaga\",Gaga!B231,IF($B$10=\"Treguine\",Treguine!B231,IF($B$10=\"Bredjing\",Bredjing!B231,\"\"))))","v":0},{"$f":"IF($B$10=\"Farchana\",Farchana!C212,IF($B$10=\"Gaga\",Gaga!C231,IF($B$10=\"Treguine\",Treguine!C231,IF($B$10=\"Bredjing\",Bredjing!C231,\"\"))))","v":0},null,null,{"$f":"IF($B$10=\"Farchana\",Farchana!G212,IF($B$10=\"Gaga\",Gaga!I231,IF($B$10=\"Treguine\",Treguine!G231,IF($B$10=\"Bredjing\",Bredjing!G231,\"\"))))","v":""}]
[{"$f":"IF($B$10=\"Farchana\",Farchana!A213,IF($B$10=\"Gaga\",Gaga!A232,IF($B$10=\"Treguine\",Treguine!A232,IF($B$10=\"Bredjing\",Bredjing!A232,\"\"))))","v":0},{"$f":"IF($B$10=\"Farchana\",Farchana!B213,IF($B$10=\"Gaga\",Gaga!B232,IF($B$10=\"Treguine\",Treguine!B232,IF($B$10=\"Bredjing\",Bredjing!B232,\"\"))))","v":0},{"$f":"IF($B$10=\"Farchana\",Farchana!C213,IF($B$10=\"Gaga\",Gaga!C232,IF($B$10=\"Treguine\",Treguine!C232,IF($B$10=\"Bredjing\",Bredjing!C232,\"\"))))","v":0},null,null,{"$f":"IF($B$10=\"Farchana\",Farchana!G213,IF($B$10=\"Gaga\",Gaga!I232,IF($B$10=\"Treguine\",Treguine!G232,IF($B$10=\"Bredjing\",Bredjing!G232,\"\"))))","v":""}]
[{"$f":"IF($B$10=\"Farchana\",Farchana!A214,IF($B$10=\"Gaga\",Gaga!A233,IF($B$10=\"Treguine\",Treguine!A233,IF($B$10=\"Bredjing\",Bredjing!A233,\"\"))))","v":0},{"$f":"IF($B$10=\"Farchana\",Farchana!B214,IF($B$10=\"Gaga\",Gaga!B233,IF($B$10=\"Treguine\",Treguine!B233,IF($B$10=\"Bredjing\",Bredjing!B233,\"\"))))","v":0},{"$f":"IF($B$10=\"Farchana\",Farchana!C214,IF($B$10=\"Gaga\",Gaga!C233,IF($B$10=\"Treguine\",Treguine!C233,IF($B$10=\"Bredjing\",Bredjing!C233,\"\"))))","v":0},null,null,{"$f":"IF($B$10=\"Farchana\",Farchana!G214,IF($B$10=\"Gaga\",Gaga!I233,IF($B$10=\"Treguine\",Treguine!G233,IF($B$10=\"Bredjing\",Bredjing!G233,\"\"))))","v":""}]
[{"$f":"IF($B$10=\"Farchana\",Farchana!A215,IF($B$10=\"Gaga\",Gaga!A234,IF($B$10=\"Treguine\",Treguine!A234,IF($B$10=\"Bredjing\",Bredjing!A234,\"\"))))","v":0},{"$f":"IF($B$10=\"Farchana\",Farchana!B215,IF($B$10=\"Gaga\",Gaga!B234,IF($B$10=\"Treguine\",Treguine!B234,IF($B$10=\"Bredjing\",Bredjing!B234,\"\"))))","v":0},{"$f":"IF($B$10=\"Farchana\",Farchana!C215,IF($B$10=\"Gaga\",Gaga!C234,IF($B$10=\"Treguine\",Treguine!C234,IF($B$10=\"Bredjing\",Bredjing!C234,\"\"))))","v":0},null,null,{"$f":"IF($B$10=\"Farchana\",Farchana!G215,IF($B$10=\"Gaga\",Gaga!I234,IF($B$10=\"Treguine\",Treguine!G234,IF($B$10=\"Bredjing\",Bredjing!G234,\"\"))))","v":""}]
[{"$f":"IF($B$10=\"Farchana\",Farchana!A216,IF($B$10=\"Gaga\",Gaga!A235,IF($B$10=\"Treguine\",Treguine!A235,IF($B$10=\"Bredjing\",Bredjing!A235,\"\"))))","v":0},{"$f":"IF($B$10=\"Farchana\",Farchana!B216,IF($B$10=\"Gaga\",Gaga!B235,IF($B$10=\"Treguine\",Treguine!B235,IF($B$10=\"Bredjing\",Bredjing!B235,\"\"))))","v":0},{"$f":"IF($B$10=\"Farchana\",Farchana!C216,IF($B$10=\"Gaga\",Gaga!C235,IF($B$10=\"Treguine\",Treguine!C235,IF($B$10=\"Bredjing\",Bredjing!C235,\"\"))))","v":0},null,null,{"$f":"IF($B$10=\"Farchana\",Farchana!G216,IF($B$10=\"Gaga\",Gaga!I235,IF($B$10=\"Treguine\",Treguine!G235,IF($B$10=\"Bredjing\",Bredjing!G235,\"\"))))","v":""}]
[{"$f":"IF($B$10=\"Farchana\",Farchana!A217,IF($B$10=\"Gaga\",Gaga!A236,IF($B$10=\"Treguine\",Treguine!A236,IF($B$10=\"Bredjing\",Bredjing!A236,\"\"))))","v":0},{"$f":"IF($B$10=\"Farchana\",Farchana!B217,IF($B$10=\"Gaga\",Gaga!B236,IF($B$10=\"Treguine\",Treguine!B236,IF($B$10=\"Bredjing\",Bredjing!B236,\"\"))))","v":0},{"$f":"IF($B$10=\"Farchana\",Farchana!C217,IF($B$10=\"Gaga\",Gaga!C236,IF($B$10=\"Treguine\",Treguine!C236,IF($B$10=\"Bredjing\",Bredjing!C236,\"\"))))","v":0},null,null,{"$f":"IF($B$10=\"Farchana\",Farchana!G217,IF($B$10=\"Gaga\",Gaga!I236,IF($B$10=\"Treguine\",Treguine!G236,IF($B$10=\"Bredjing\",Bredjing!G236,\"\"))))","v":""}]
[{"$f":"IF($B$10=\"Farchana\",Farchana!A218,IF($B$10=\"Gaga\",Gaga!A237,IF($B$10=\"Treguine\",Treguine!A237,IF($B$10=\"Bredjing\",Bredjing!A237,\"\"))))","v":0},{"$f":"IF($B$10=\"Farchana\",Farchana!B218,IF($B$10=\"Gaga\",Gaga!B237,IF($B$10=\"Treguine\",Treguine!B237,IF($B$10=\"Bredjing\",Bredjing!B237,\"\"))))","v":0},{"$f":"IF($B$10=\"Farchana\",Farchana!C218,IF($B$10=\"Gaga\",Gaga!C237,IF($B$10=\"Treguine\",Treguine!C237,IF($B$10=\"Bredjing\",Bredjing!C237,\"\"))))","v":0},null,null,{"$f":"IF($B$10=\"Farchana\",Farchana!G218,IF($B$10=\"Gaga\",Gaga!I237,IF($B$10=\"Treguine\",Treguine!G237,IF($B$10=\"Bredjing\",Bredjing!G237,\"\"))))","v":""}]
[{"$f":"IF($B$10=\"Farchana\",Farchana!A219,IF($B$10=\"Gaga\",Gaga!A238,IF($B$10=\"Treguine\",Treguine!A238,IF($B$10=\"Bredjing\",Bredjing!A238,\"\"))))","v":0},{"$f":"IF($B$10=\"Farchana\",Farchana!B219,IF($B$10=\"Gaga\",Gaga!B238,IF($B$10=\"Treguine\",Treguine!B238,IF($B$10=\"Bredjing\",Bredjing!B238,\"\"))))","v":0},{"$f":"IF($B$10=\"Farchana\",Farchana!C219,IF($B$10=\"Gaga\",Gaga!C238,IF($B$10=\"Treguine\",Treguine!C238,IF($B$10=\"Bredjing\",Bredjing!C238,\"\"))))","v":0},null,null,{"$f":"IF($B$10=\"Farchana\",Farchana!G219,IF($B$10=\"Gaga\",Gaga!I238,IF($B$10=\"Treguine\",Treguine!G238,IF($B$10=\"Bredjing\",Bredjing!G238,\"\"))))","v":""}]
[{"$f":"IF($B$10=\"Farchana\",Farchana!A220,IF($B$10=\"Gaga\",Gaga!A239,IF($B$10=\"Treguine\",Treguine!A239,IF($B$10=\"Bredjing\",Bredjing!A239,\"\"))))","v":0},{"$f":"IF($B$10=\"Farchana\",Farchana!B220,IF($B$10=\"Gaga\",Gaga!B239,IF($B$10=\"Treguine\",Treguine!B239,IF($B$10=\"Bredjing\",Bredjing!B239,\"\"))))","v":0},{"$f":"IF($B$10=\"Farchana\",Farchana!C220,IF($B$10=\"Gaga\",Gaga!C239,IF($B$10=\"Treguine\",Treguine!C239,IF($B$10=\"Bredjing\",Bredjing!C239,\"\"))))","v":0},null,null,{"$f":"IF($B$10=\"Farchana\",Farchana!G220,IF($B$10=\"Gaga\",Gaga!I239,IF($B$10=\"Treguine\",Treguine!G239,IF($B$10=\"Bredjing\",Bredjing!G239,\"\"))))","v":""}]
[{"$f":"IF($B$10=\"Farchana\",Farchana!A221,IF($B$10=\"Gaga\",Gaga!A240,IF($B$10=\"Treguine\",Treguine!A240,IF($B$10=\"Bredjing\",Bredjing!A240,\"\"))))","v":0},{"$f":"IF($B$10=\"Farchana\",Farchana!B221,IF($B$10=\"Gaga\",Gaga!B240,IF($B$10=\"Treguine\",Treguine!B240,IF($B$10=\"Bredjing\",Bredjing!B240,\"\"))))","v":0},{"$f":"IF($B$10=\"Farchana\",Farchana!C221,IF($B$10=\"Gaga\",Gaga!C240,IF($B$10=\"Treguine\",Treguine!C240,IF($B$10=\"Bredjing\",Bredjing!C240,\"\"))))","v":0},null,null,{"$f":"IF($B$10=\"Farchana\",Farchana!G221,IF($B$10=\"Gaga\",Gaga!I240,IF($B$10=\"Treguine\",Treguine!G240,IF($B$10=\"Bredjing\",Bredjing!G240,\"\"))))","v":""}]
[{"$f":"IF($B$10=\"Farchana\",Farchana!A222,IF($B$10=\"Gaga\",Gaga!A241,IF($B$10=\"Treguine\",Treguine!A241,IF($B$10=\"Bredjing\",Bredjing!A241,\"\"))))","v":0},{"$f":"IF($B$10=\"Farchana\",Farchana!B222,IF($B$10=\"Gaga\",Gaga!B241,IF($B$10=\"Treguine\",Treguine!B241,IF($B$10=\"Bredjing\",Bredjing!B241,\"\"))))","v":0},{"$f":"IF($B$10=\"Farchana\",Farchana!C222,IF($B$10=\"Gaga\",Gaga!C241,IF($B$10=\"Treguine\",Treguine!C241,IF($B$10=\"Bredjing\",Bredjing!C241,\"\"))))","v":0},null,null,{"$f":"IF($B$10=\"Farchana\",Farchana!G222,IF($B$10=\"Gaga\",Gaga!I241,IF($B$10=\"Treguine\",Treguine!G241,IF($B$10=\"Bredjing\",Bredjing!G241,\"\"))))","v":""}]
[{"$f":"IF($B$10=\"Farchana\",Farchana!A223,IF($B$10=\"Gaga\",Gaga!A242,IF($B$10=\"Treguine\",Treguine!A242,IF($B$10=\"Bredjing\",Bredjing!A242,\"\"))))","v":0},{"$f":"IF($B$10=\"Farchana\",Farchana!B223,IF($B$10=\"Gaga\",Gaga!B242,IF($B$10=\"Treguine\",Treguine!B242,IF($B$10=\"Bredjing\",Bredjing!B242,\"\"))))","v":0},{"$f":"IF($B$10=\"Farchana\",Farchana!C223,IF($B$10=\"Gaga\",Gaga!C242,IF($B$10=\"Treguine\",Treguine!C242,IF($B$10=\"Bredjing\",Bredjing!C242,\"\"))))","v":0},null,null,{"$f":"IF($B$10=\"Farchana\",Farchana!G223,IF($B$10=\"Gaga\",Gaga!I242,IF($B$10=\"Treguine\",Treguine!G242,IF($B$10=\"Bredjing\",Bredjing!G242,\"\"))))","v":""}]
[{"$f":"IF($B$10=\"Farchana\",Farchana!A224,IF($B$10=\"Gaga\",Gaga!A243,IF($B$10=\"Treguine\",Treguine!A243,IF($B$10=\"Bredjing\",Bredjing!A243,\"\"))))","v":0},{"$f":"IF($B$10=\"Farchana\",Farchana!B224,IF($B$10=\"Gaga\",Gaga!B243,IF($B$10=\"Treguine\",Treguine!B243,IF($B$10=\"Bredjing\",Bredjing!B243,\"\"))))","v":0},{"$f":"IF($B$10=\"Farchana\",Farchana!C224,IF($B$10=\"Gaga\",Gaga!C243,IF($B$10=\"Treguine\",Treguine!C243,IF($B$10=\"Bredjing\",Bredjing!C243,\"\"))))","v":0},null,null,{"$f":"IF($B$10=\"Farchana\",Farchana!G224,IF($B$10=\"Gaga\",Gaga!I243,IF($B$10=\"Treguine\",Treguine!G243,IF($B$10=\"Bredjing\",Bredjing!G243,\"\"))))","v":""}]
[{"$f":"IF($B$10=\"Farchana\",Farchana!A225,IF($B$10=\"Gaga\",Gaga!A244,IF($B$10=\"Treguine\",Treguine!A244,IF($B$10=\"Bredjing\",Bredjing!A244,\"\"))))","v":0},{"$f":"IF($B$10=\"Farchana\",Farchana!B225,IF($B$10=\"Gaga\",Gaga!B244,IF($B$10=\"Treguine\",Treguine!B244,IF($B$10=\"Bredjing\",Bredjing!B244,\"\"))))","v":0},{"$f":"IF($B$10=\"Farchana\",Farchana!C225,IF($B$10=\"Gaga\",Gaga!C244,IF($B$10=\"Treguine\",Treguine!C244,IF($B$10=\"Bredjing\",Bredjing!C244,\"\"))))","v":0},null,null,{"$f":"IF($B$10=\"Farchana\",Farchana!G225,IF($B$10=\"Gaga\",Gaga!I244,IF($B$10=\"Treguine\",Treguine!G244,IF($B$10=\"Bredjing\",Bredjing!G244,\"\"))))","v":""}]
[{"$f":"IF($B$10=\"Farchana\",Farchana!A226,IF($B$10=\"Gaga\",Gaga!A245,IF($B$10=\"Treguine\",Treguine!A245,IF($B$10=\"Bredjing\",Bredjing!A245,\"\"))))","v":0},{"$f":"IF($B$10=\"Farchana\",Farchana!B226,IF($B$10=\"Gaga\",Gaga!B245,IF($B$10=\"Treguine\",Treguine!B245,IF($B$10=\"Bredjing\",Bredjing!B245,\"\"))))","v":0},{"$f":"IF($B$10=\"Farchana\",Farchana!C226,IF($B$10=\"Gaga\",Gaga!C245,IF($B$10=\"Treguine\",Treguine!C245,IF($B$10=\"Bredjing\",Bredjing!C245,\"\"))))","v":0},null,null,{"$f":"IF($B$10=\"Farchana\",Farchana!G226,IF($B$10=\"Gaga\",Gaga!I245,IF($B$10=\"Treguine\",Treguine!G245,IF($B$10=\"Bredjing\",Bredjing!G245,\"\"))))","v":""}]
[{"$f":"IF($B$10=\"Farchana\",Farchana!A227,IF($B$10=\"Gaga\",Gaga!A246,IF($B$10=\"Treguine\",Treguine!A246,IF($B$10=\"Bredjing\",Bredjing!A246,\"\"))))","v":0},{"$f":"IF($B$10=\"Farchana\",Farchana!B227,IF($B$10=\"Gaga\",Gaga!B246,IF($B$10=\"Treguine\",Treguine!B246,IF($B$10=\"Bredjing\",Bredjing!B246,\"\"))))","v":0},{"$f":"IF($B$10=\"Farchana\",Farchana!C227,IF($B$10=\"Gaga\",Gaga!C246,IF($B$10=\"Treguine\",Treguine!C246,IF($B$10=\"Bredjing\",Bredjing!C246,\"\"))))","v":0},null,null,{"$f":"IF($B$10=\"Farchana\",Farchana!G227,IF($B$10=\"Gaga\",Gaga!I246,IF($B$10=\"Treguine\",Treguine!G246,IF($B$10=\"Bredjing\",Bredjing!G246,\"\"))))","v":""}]
[{"$f":"IF($B$10=\"Farchana\",Farchana!A228,IF($B$10=\"Gaga\",Gaga!A247,IF($B$10=\"Treguine\",Treguine!A247,IF($B$10=\"Bredjing\",Bredjing!A247,\"\"))))","v":0},{"$f":"IF($B$10=\"Farchana\",Farchana!B228,IF($B$10=\"Gaga\",Gaga!B247,IF($B$10=\"Treguine\",Treguine!B247,IF($B$10=\"Bredjing\",Bredjing!B247,\"\"))))","v":0},{"$f":"IF($B$10=\"Farchana\",Farchana!C228,IF($B$10=\"Gaga\",Gaga!C247,IF($B$10=\"Treguine\",Treguine!C247,IF($B$10=\"Bredjing\",Bredjing!C247,\"\"))))","v":0},null,null,{"$f":"IF($B$10=\"Farchana\",Farchana!G228,IF($B$10=\"Gaga\",Gaga!I247,IF($B$10=\"Treguine\",Treguine!G247,IF($B$10=\"Bredjing\",Bredjing!G247,\"\"))))","v":""}]
[{"$f":"IF($B$10=\"Farchana\",Farchana!A229,IF($B$10=\"Gaga\",Gaga!A248,IF($B$10=\"Treguine\",Treguine!A248,IF($B$10=\"Bredjing\",Bredjing!A248,\"\"))))","v":0},{"$f":"IF($B$10=\"Farchana\",Farchana!B229,IF($B$10=\"Gaga\",Gaga!B248,IF($B$10=\"Treguine\",Treguine!B248,IF($B$10=\"Bredjing\",Bredjing!B248,\"\"))))","v":0},{"$f":"IF($B$10=\"Farchana\",Farchana!C229,IF($B$10=\"Gaga\",Gaga!C248,IF($B$10=\"Treguine\",Treguine!C248,IF($B$10=\"Bredjing\",Bredjing!C248,\"\"))))","v":0},null,null,{"$f":"IF($B$10=\"Farchana\",Farchana!G229,IF($B$10=\"Gaga\",Gaga!I248,IF($B$10=\"Treguine\",Treguine!G248,IF($B$10=\"Bredjing\",Bredjing!G248,\"\"))))","v":""}]
[{"$f":"IF($B$10=\"Farchana\",Farchana!A230,IF($B$10=\"Gaga\",Gaga!A249,IF($B$10=\"Treguine\",Treguine!A249,IF($B$10=\"Bredjing\",Bredjing!A249,\"\"))))","v":0},{"$f":"IF($B$10=\"Farchana\",Farchana!B230,IF($B$10=\"Gaga\",Gaga!B249,IF($B$10=\"Treguine\",Treguine!B249,IF($B$10=\"Bredjing\",Bredjing!B249,\"\"))))","v":0},{"$f":"IF($B$10=\"Farchana\",Farchana!C230,IF($B$10=\"Gaga\",Gaga!C249,IF($B$10=\"Treguine\",Treguine!C249,IF($B$10=\"Bredjing\",Bredjing!C249,\"\"))))","v":0},null,null,{"$f":"IF($B$10=\"Farchana\",Farchana!G230,IF($B$10=\"Gaga\",Gaga!I249,IF($B$10=\"Treguine\",Treguine!G249,IF($B$10=\"Bredjing\",Bredjing!G249,\"\"))))","v":""}]
[{"$f":"IF($B$10=\"Farchana\",Farchana!A231,IF($B$10=\"Gaga\",Gaga!A250,IF($B$10=\"Treguine\",Treguine!A250,IF($B$10=\"Bredjing\",Bredjing!A250,\"\"))))","v":0},{"$f":"IF($B$10=\"Farchana\",Farchana!B231,IF($B$10=\"Gaga\",Gaga!B250,IF($B$10=\"Treguine\",Treguine!B250,IF($B$10=\"Bredjing\",Bredjing!B250,\"\"))))","v":0},{"$f":"IF($B$10=\"Farchana\",Farchana!C231,IF($B$10=\"Gaga\",Gaga!C250,IF($B$10=\"Treguine\",Treguine!C250,IF($B$10=\"Bredjing\",Bredjing!C250,\"\"))))","v":0},null,null,{"$f":"IF($B$10=\"Farchana\",Farchana!G231,IF($B$10=\"Gaga\",Gaga!I250,IF($B$10=\"Treguine\",Treguine!G250,IF($B$10=\"Bredjing\",Bredjing!G250,\"\"))))","v":""}]
[{"$f":"IF($B$10=\"Farchana\",Farchana!A232,IF($B$10=\"Gaga\",Gaga!A251,IF($B$10=\"Treguine\",Treguine!A251,IF($B$10=\"Bredjing\",Bredjing!A251,\"\"))))","v":0},{"$f":"IF($B$10=\"Farchana\",Farchana!B232,IF($B$10=\"Gaga\",Gaga!B251,IF($B$10=\"Treguine\",Treguine!B251,IF($B$10=\"Bredjing\",Bredjing!B251,\"\"))))","v":0},{"$f":"IF($B$10=\"Farchana\",Farchana!C232,IF($B$10=\"Gaga\",Gaga!C251,IF($B$10=\"Treguine\",Treguine!C251,IF($B$10=\"Bredjing\",Bredjing!C251,\"\"))))","v":0},null,null,{"$f":"IF($B$10=\"Farchana\",Farchana!G232,IF($B$10=\"Gaga\",Gaga!I251,IF($B$10=\"Treguine\",Treguine!G251,IF($B$10=\"Bredjing\",Bredjing!G251,\"\"))))","v":""}]
[{"$f":"IF($B$10=\"Farchana\",Farchana!A233,IF($B$10=\"Gaga\",Gaga!A252,IF($B$10=\"Treguine\",Treguine!A252,IF($B$10=\"Bredjing\",Bredjing!A252,\"\"))))","v":0},{"$f":"IF($B$10=\"Farchana\",Farchana!B233,IF($B$10=\"Gaga\",Gaga!B252,IF($B$10=\"Treguine\",Treguine!B252,IF($B$10=\"Bredjing\",Bredjing!B252,\"\"))))","v":0},{"$f":"IF($B$10=\"Farchana\",Farchana!C233,IF($B$10=\"Gaga\",Gaga!C252,IF($B$10=\"Treguine\",Treguine!C252,IF($B$10=\"Bredjing\",Bredjing!C252,\"\"))))","v":0},null,null,{"$f":"IF($B$10=\"Farchana\",Farchana!G233,IF($B$10=\"Gaga\",Gaga!I252,IF($B$10=\"Treguine\",Treguine!G252,IF($B$10=\"Bredjing\",Bredjing!G252,\"\"))))","v":""}]
[{"$f":"IF($B$10=\"Farchana\",Farchana!A234,IF($B$10=\"Gaga\",Gaga!A253,IF($B$10=\"Treguine\",Treguine!A253,IF($B$10=\"Bredjing\",Bredjing!A253,\"\"))))","v":0},{"$f":"IF($B$10=\"Farchana\",Farchana!B234,IF($B$10=\"Gaga\",Gaga!B253,IF($B$10=\"Treguine\",Treguine!B253,IF($B$10=\"Bredjing\",Bredjing!B253,\"\"))))","v":0},{"$f":"IF($B$10=\"Farchana\",Farchana!C234,IF($B$10=\"Gaga\",Gaga!C253,IF($B$10=\"Treguine\",Treguine!C253,IF($B$10=\"Bredjing\",Bredjing!C253,\"\"))))","v":0},null,null,{"$f":"IF($B$10=\"Farchana\",Farchana!G234,IF($B$10=\"Gaga\",Gaga!I253,IF($B$10=\"Treguine\",Treguine!G253,IF($B$10=\"Bredjing\",Bredjing!G253,\"\"))))","v":""}]
[{"$f":"IF($B$10=\"Farchana\",Farchana!A235,IF($B$10=\"Gaga\",Gaga!A254,IF($B$10=\"Treguine\",Treguine!A254,IF($B$10=\"Bredjing\",Bredjing!A254,\"\"))))","v":0},{"$f":"IF($B$10=\"Farchana\",Farchana!B235,IF($B$10=\"Gaga\",Gaga!B254,IF($B$10=\"Treguine\",Treguine!B254,IF($B$10=\"Bredjing\",Bredjing!B254,\"\"))))","v":0},{"$f":"IF($B$10=\"Farchana\",Farchana!C235,IF($B$10=\"Gaga\",Gaga!C254,IF($B$10=\"Treguine\",Treguine!C254,IF($B$10=\"Bredjing\",Bredjing!C254,\"\"))))","v":0},null,null,{"$f":"IF($B$10=\"Farchana\",Farchana!G235,IF($B$10=\"Gaga\",Gaga!I254,IF($B$10=\"Treguine\",Treguine!G254,IF($B$10=\"Bredjing\",Bredjing!G254,\"\"))))","v":""}]
[{"$f":"IF($B$10=\"Farchana\",Farchana!A236,IF($B$10=\"Gaga\",Gaga!A255,IF($B$10=\"Treguine\",Treguine!A255,IF($B$10=\"Bredjing\",Bredjing!A255,\"\"))))","v":0},{"$f":"IF($B$10=\"Farchana\",Farchana!B236,IF($B$10=\"Gaga\",Gaga!B255,IF($B$10=\"Treguine\",Treguine!B255,IF($B$10=\"Bredjing\",Bredjing!B255,\"\"))))","v":0},{"$f":"IF($B$10=\"Farchana\",Farchana!C236,IF($B$10=\"Gaga\",Gaga!C255,IF($B$10=\"Treguine\",Treguine!C255,IF($B$10=\"Bredjing\",Bredjing!C255,\"\"))))","v":0},null,null,{"$f":"IF($B$10=\"Farchana\",Farchana!G236,IF($B$10=\"Gaga\",Gaga!I255,IF($B$10=\"Treguine\",Treguine!G255,IF($B$10=\"Bredjing\",Bredjing!G255,\"\"))))","v":""}]
[{"$f":"IF($B$10=\"Farchana\",Farchana!A237,IF($B$10=\"Gaga\",Gaga!A256,IF($B$10=\"Treguine\",Treguine!A256,IF($B$10=\"Bredjing\",Bredjing!A256,\"\"))))","v":0},{"$f":"IF($B$10=\"Farchana\",Farchana!B237,IF($B$10=\"Gaga\",Gaga!B256,IF($B$10=\"Treguine\",Treguine!B256,IF($B$10=\"Bredjing\",Bredjing!B256,\"\"))))","v":0},{"$f":"IF($B$10=\"Farchana\",Farchana!C237,IF($B$10=\"Gaga\",Gaga!C256,IF($B$10=\"Treguine\",Treguine!C256,IF($B$10=\"Bredjing\",Bredjing!C256,\"\"))))","v":0},null,null,{"$f":"IF($B$10=\"Farchana\",Farchana!G237,IF($B$10=\"Gaga\",Gaga!I256,IF($B$10=\"Treguine\",Treguine!G256,IF($B$10=\"Bredjing\",Bredjing!G256,\"\"))))","v":""}]
[{"$f":"IF($B$10=\"Farchana\",Farchana!A238,IF($B$10=\"Gaga\",Gaga!A257,IF($B$10=\"Treguine\",Treguine!A257,IF($B$10=\"Bredjing\",Bredjing!A257,\"\"))))","v":0},{"$f":"IF($B$10=\"Farchana\",Farchana!B238,IF($B$10=\"Gaga\",Gaga!B257,IF($B$10=\"Treguine\",Treguine!B257,IF($B$10=\"Bredjing\",Bredjing!B257,\"\"))))","v":0},{"$f":"IF($B$10=\"Farchana\",Farchana!C238,IF($B$10=\"Gaga\",Gaga!C257,IF($B$10=\"Treguine\",Treguine!C257,IF($B$10=\"Bredjing\",Bredjing!C257,\"\"))))","v":0},null,null,{"$f":"IF($B$10=\"Farchana\",Farchana!G238,IF($B$10=\"Gaga\",Gaga!I257,IF($B$10=\"Treguine\",Treguine!G257,IF($B$10=\"Bredjing\",Bredjing!G257,\"\"))))","v":""}]
[{"$f":"IF($B$10=\"Farchana\",Farchana!A239,IF($B$10=\"Gaga\",Gaga!A258,IF($B$10=\"Treguine\",Treguine!A258,IF($B$10=\"Bredjing\",Bredjing!A258,\"\"))))","v":0},{"$f":"IF($B$10=\"Farchana\",Farchana!B239,IF($B$10=\"Gaga\",Gaga!B258,IF($B$10=\"Treguine\",Treguine!B258,IF($B$10=\"Bredjing\",Bredjing!B258,\"\"))))","v":0},{"$f":"IF($B$10=\"Farchana\",Farchana!C239,IF($B$10=\"Gaga\",Gaga!C258,IF($B$10=\"Treguine\",Treguine!C258,IF($B$10=\"Bredjing\",Bredjing!C258,\"\"))))","v":0},null,null,{"$f":"IF($B$10=\"Farchana\",Farchana!G239,IF($B$10=\"Gaga\",Gaga!I258,IF($B$10=\"Treguine\",Treguine!G258,IF($B$10=\"Bredjing\",Bredjing!G258,\"\"))))","v":""}]
[{"$f":"IF($B$10=\"Farchana\",Farchana!A240,IF($B$10=\"Gaga\",Gaga!A259,IF($B$10=\"Treguine\",Treguine!A259,IF($B$10=\"Bredjing\",Bredjing!A259,\"\"))))","v":0},{"$f":"IF($B$10=\"Farchana\",Farchana!B240,IF($B$10=\"Gaga\",Gaga!B259,IF($B$10=\"Treguine\",Treguine!B259,IF($B$10=\"Bredjing\",Bredjing!B259,\"\"))))","v":0},{"$f":"IF($B$10=\"Farchana\",Farchana!C240,IF($B$10=\"Gaga\",Gaga!C259,IF($B$10=\"Treguine\",Treguine!C259,IF($B$10=\"Bredjing\",Bredjing!C259,\"\"))))","v":0},null,null,{"$f":"IF($B$10=\"Farchana\",Farchana!G240,IF($B$10=\"Gaga\",Gaga!I259,IF($B$10=\"Treguine\",Treguine!G259,IF($B$10=\"Bredjing\",Bredjing!G259,\"\"))))","v":""}]
[{"$f":"IF($B$10=\"Farchana\",Farchana!A241,IF($B$10=\"Gaga\",Gaga!A260,IF($B$10=\"Treguine\",Treguine!A260,IF($B$10=\"Bredjing\",Bredjing!A260,\"\"))))","v":0},{"$f":"IF($B$10=\"Farchana\",Farchana!B241,IF($B$10=\"Gaga\",Gaga!B260,IF($B$10=\"Treguine\",Treguine!B260,IF($B$10=\"Bredjing\",Bredjing!B260,\"\"))))","v":0},{"$f":"IF($B$10=\"Farchana\",Farchana!C241,IF($B$10=\"Gaga\",Gaga!C260,IF($B$10=\"Treguine\",Treguine!C260,IF($B$10=\"Bredjing\",Bredjing!C260,\"\"))))","v":0},null,null,{"$f":"IF($B$10=\"Farchana\",Farchana!G241,IF($B$10=\"Gaga\",Gaga!I260,IF($B$10=\"Treguine\",Treguine!G260,IF($B$10=\"Bredjing\",Bredjing!G260,\"\"))))","v":""}]
[{"$f":"IF($B$10=\"Farchana\",Farchana!A242,IF($B$10=\"Gaga\",Gaga!A261,IF($B$10=\"Treguine\",Treguine!A261,IF($B$10=\"Bredjing\",Bredjing!A261,\"\"))))","v":0},{"$f":"IF($B$10=\"Farchana\",Farchana!B242,IF($B$10=\"Gaga\",Gaga!B261,IF($B$10=\"Treguine\",Treguine!B261,IF($B$10=\"Bredjing\",Bredjing!B261,\"\"))))","v":0},{"$f":"IF($B$10=\"Farchana\",Farchana!C242,IF($B$10=\"Gaga\",Gaga!C261,IF($B$10=\"Treguine\",Treguine!C261,IF($B$10=\"Bredjing\",Bredjing!C261,\"\"))))","v":0},null,null,{"$f":"IF($B$10=\"Farchana\",Farchana!G242,IF($B$10=\"Gaga\",Gaga!I261,IF($B$10=\"Treguine\",Treguine!G261,IF($B$10=\"Bredjing\",Bredjing!G261,\"\"))))","v":""}]
[{"$f":"IF($B$10=\"Farchana\",Farchana!A243,IF($B$10=\"Gaga\",Gaga!A262,IF($B$10=\"Treguine\",Treguine!A262,IF($B$10=\"Bredjing\",Bredjing!A262,\"\"))))","v":0},{"$f":"IF($B$10=\"Farchana\",Farchana!B243,IF($B$10=\"Gaga\",Gaga!B262,IF($B$10=\"Treguine\",Treguine!B262,IF($B$10=\"Bredjing\",Bredjing!B262,\"\"))))","v":0},{"$f":"IF($B$10=\"Farchana\",Farchana!C243,IF($B$10=\"Gaga\",Gaga!C262,IF($B$10=\"Treguine\",Treguine!C262,IF($B$10=\"Bredjing\",Bredjing!C262,\"\"))))","v":0},null,null,{"$f":"IF($B$10=\"Farchana\",Farchana!G243,IF($B$10=\"Gaga\",Gaga!I262,IF($B$10=\"Treguine\",Treguine!G262,IF($B$10=\"Bredjing\",Bredjing!G262,\"\"))))","v":""}]
[{"$f":"IF($B$10=\"Farchana\",Farchana!A244,IF($B$10=\"Gaga\",Gaga!A263,IF($B$10=\"Treguine\",Treguine!A263,IF($B$10=\"Bredjing\",Bredjing!A263,\"\"))))","v":0},{"$f":"IF($B$10=\"Farchana\",Farchana!B244,IF($B$10=\"Gaga\",Gaga!B263,IF($B$10=\"Treguine\",Treguine!B263,IF($B$10=\"Bredjing\",Bredjing!B263,\"\"))))","v":0},{"$f":"IF($B$10=\"Farchana\",Farchana!C244,IF($B$10=\"Gaga\",Gaga!C263,IF($B$10=\"Treguine\",Treguine!C263,IF($B$10=\"Bredjing\",Bredjing!C263,\"\"))))","v":0},null,null,{"$f":"IF($B$10=\"Farchana\",Farchana!G244,IF($B$10=\"Gaga\",Gaga!I263,IF($B$10=\"Treguine\",Treguine!G263,IF($B$10=\"Bredjing\",Bredjing!G263,\"\"))))","v":""}]
[{"$f":"IF($B$10=\"Farchana\",Farchana!A245,IF($B$10=\"Gaga\",Gaga!A264,IF($B$10=\"Treguine\",Treguine!A264,IF($B$10=\"Bredjing\",Bredjing!A264,\"\"))))","v":0},{"$f":"IF($B$10=\"Farchana\",Farchana!B245,IF($B$10=\"Gaga\",Gaga!B264,IF($B$10=\"Treguine\",Treguine!B264,IF($B$10=\"Bredjing\",Bredjing!B264,\"\"))))","v":0},{"$f":"IF($B$10=\"Farchana\",Farchana!C245,IF($B$10=\"Gaga\",Gaga!C264,IF($B$10=\"Treguine\",Treguine!C264,IF($B$10=\"Bredjing\",Bredjing!C264,\"\"))))","v":0},null,null,{"$f":"IF($B$10=\"Farchana\",Farchana!G245,IF($B$10=\"Gaga\",Gaga!I264,IF($B$10=\"Treguine\",Treguine!G264,IF($B$10=\"Bredjing\",Bredjing!G264,\"\"))))","v":""}]
[{"$f":"IF($B$10=\"Farchana\",Farchana!A246,IF($B$10=\"Gaga\",Gaga!A265,IF($B$10=\"Treguine\",Treguine!A265,IF($B$10=\"Bredjing\",Bredjing!A265,\"\"))))","v":0},{"$f":"IF($B$10=\"Farchana\",Farchana!B246,IF($B$10=\"Gaga\",Gaga!B265,IF($B$10=\"Treguine\",Treguine!B265,IF($B$10=\"Bredjing\",Bredjing!B265,\"\"))))","v":0},{"$f":"IF($B$10=\"Farchana\",Farchana!C246,IF($B$10=\"Gaga\",Gaga!C265,IF($B$10=\"Treguine\",Treguine!C265,IF($B$10=\"Bredjing\",Bredjing!C265,\"\"))))","v":0},null,null,{"$f":"IF($B$10=\"Farchana\",Farchana!G246,IF($B$10=\"Gaga\",Gaga!I265,IF($B$10=\"Treguine\",Treguine!G265,IF($B$10=\"Bredjing\",Bredjing!G265,\"\"))))","v":""}]
[{"$f":"IF($B$10=\"Farchana\",Farchana!A247,IF($B$10=\"Gaga\",Gaga!A266,IF($B$10=\"Treguine\",Treguine!A266,IF($B$10=\"Bredjing\",Bredjing!A266,\"\"))))","v":0},{"$f":"IF($B$10=\"Farchana\",Farchana!B247,IF($B$10=\"Gaga\",Gaga!B266,IF($B$10=\"Treguine\",Treguine!B266,IF($B$10=\"Bredjing\",Bredjing!B266,\"\"))))","v":0},{"$f":"IF($B$10=\"Farchana\",Farchana!C247,IF($B$10=\"Gaga\",Gaga!C266,IF($B$10=\"Treguine\",Treguine!C266,IF($B$10=\"Bredjing\",Bredjing!C266,\"\"))))","v":0},null,null,{"$f":"IF($B$10=\"Farchana\",Farchana!G247,IF($B$10=\"Gaga\",Gaga!I266,IF($B$10=\"Treguine\",Treguine!G266,IF($B$10=\"Bredjing\",Bredjing!G266,\"\"))))","v":""}]
[{"$f":"IF($B$10=\"Farchana\",Farchana!A248,IF($B$10=\"Gaga\",Gaga!A267,IF($B$10=\"Treguine\",Treguine!A267,IF($B$10=\"Bredjing\",Bredjing!A267,\"\"))))","v":0},{"$f":"IF($B$10=\"Farchana\",Farchana!B248,IF($B$10=\"Gaga\",Gaga!B267,IF($B$10=\"Treguine\",Treguine!B267,IF($B$10=\"Bredjing\",Bredjing!B267,\"\"))))","v":0},{"$f":"IF($B$10=\"Farchana\",Farchana!C248,IF($B$10=\"Gaga\",Gaga!C267,IF($B$10=\"Treguine\",Treguine!C267,IF($B$10=\"Bredjing\",Bredjing!C267,\"\"))))","v":0},null,null,{"$f":"IF($B$10=\"Farchana\",Farchana!G248,IF($B$10=\"Gaga\",Gaga!I267,IF($B$10=\"Treguine\",Treguine!G267,IF($B$10=\"Bredjing\",Bredjing!G267,\"\"))))","v":""}]
[{"$f":"IF($B$10=\"Farchana\",Farchana!A249,IF($B$10=\"Gaga\",Gaga!A268,IF($B$10=\"Treguine\",Treguine!A268,IF($B$10=\"Bredjing\",Bredjing!A268,\"\"))))","v":0},{"$f":"IF($B$10=\"Farchana\",Farchana!B249,IF($B$10=\"Gaga\",Gaga!B268,IF($B$10=\"Treguine\",Treguine!B268,IF($B$10=\"Bredjing\",Bredjing!B268,\"\"))))","v":0},{"$f":"IF($B$10=\"Farchana\",Farchana!C249,IF($B$10=\"Gaga\",Gaga!C268,IF($B$10=\"Treguine\",Treguine!C268,IF($B$10=\"Bredjing\",Bredjing!C268,\"\"))))","v":0},null,null,{"$f":"IF($B$10=\"Farchana\",Farchana!G249,IF($B$10=\"Gaga\",Gaga!I268,IF($B$10=\"Treguine\",Treguine!G268,IF($B$10=\"Bredjing\",Bredjing!G268,\"\"))))","v":""}]
[{"$f":"IF($B$10=\"Farchana\",Farchana!A250,IF($B$10=\"Gaga\",Gaga!A269,IF($B$10=\"Treguine\",Treguine!A269,IF($B$10=\"Bredjing\",Bredjing!A269,\"\"))))","v":0},{"$f":"IF($B$10=\"Farchana\",Farchana!B250,IF($B$10=\"Gaga\",Gaga!B269,IF($B$10=\"Treguine\",Treguine!B269,IF($B$10=\"Bredjing\",Bredjing!B269,\"\"))))","v":0},{"$f":"IF($B$10=\"Farchana\",Farchana!C250,IF($B$10=\"Gaga\",Gaga!C269,IF($B$10=\"Treguine\",Treguine!C269,IF($B$10=\"Bredjing\",Bredjing!C269,\"\"))))","v":0},null,null,{"$f":"IF($B$10=\"Farchana\",Farchana!G250,IF($B$10=\"Gaga\",Gaga!I269,IF($B$10=\"Treguine\",Treguine!G269,IF($B$10=\"Bredjing\",Bredjing!G269,\"\"))))","v":""}]
[{"$f":"IF($B$10=\"Farchana\",Farchana!A251,IF($B$10=\"Gaga\",Gaga!A270,IF($B$10=\"Treguine\",Treguine!A270,IF($B$10=\"Bredjing\",Bredjing!A270,\"\"))))","v":0},{"$f":"IF($B$10=\"Farchana\",Farchana!B251,IF($B$10=\"Gaga\",Gaga!B270,IF($B$10=\"Treguine\",Treguine!B270,IF($B$10=\"Bredjing\",Bredjing!B270,\"\"))))","v":0},{"$f":"IF($B$10=\"Farchana\",Farchana!C251,IF($B$10=\"Gaga\",Gaga!C270,IF($B$10=\"Treguine\",Treguine!C270,IF($B$10=\"Bredjing\",Bredjing!C270,\"\"))))","v":0},null,null,{"$f":"IF($B$10=\"Farchana\",Farchana!G251,IF($B$10=\"Gaga\",Gaga!I270,IF($B$10=\"Treguine\",Treguine!G270,IF($B$10=\"Bredjing\",Bredjing!G270,\"\"))))","v":""}]
[{"$f":"IF($B$10=\"Farchana\",Farchana!A252,IF($B$10=\"Gaga\",Gaga!A271,IF($B$10=\"Treguine\",Treguine!A271,IF($B$10=\"Bredjing\",Bredjing!A271,\"\"))))","v":0},{"$f":"IF($B$10=\"Farchana\",Farchana!B252,IF($B$10=\"Gaga\",Gaga!B271,IF($B$10=\"Treguine\",Treguine!B271,IF($B$10=\"Bredjing\",Bredjing!B271,\"\"))))","v":0},{"$f":"IF($B$10=\"Farchana\",Farchana!C252,IF($B$10=\"Gaga\",Gaga!C271,IF($B$10=\"Treguine\",Treguine!C271,IF($B$10=\"Bredjing\",Bredjing!C271,\"\"))))","v":0},null,null,{"$f":"IF($B$10=\"Farchana\",Farchana!G252,IF($B$10=\"Gaga\",Gaga!I271,IF($B$10=\"Treguine\",Treguine!G271,IF($B$10=\"Bredjing\",Bredjing!G271,\"\"))))","v":""}]
[{"$f":"IF($B$10=\"Farchana\",Farchana!A253,IF($B$10=\"Gaga\",Gaga!A272,IF($B$10=\"Treguine\",Treguine!A272,IF($B$10=\"Bredjing\",Bredjing!A272,\"\"))))","v":0},{"$f":"IF($B$10=\"Farchana\",Farchana!B253,IF($B$10=\"Gaga\",Gaga!B272,IF($B$10=\"Treguine\",Treguine!B272,IF($B$10=\"Bredjing\",Bredjing!B272,\"\"))))","v":0},{"$f":"IF($B$10=\"Farchana\",Farchana!C253,IF($B$10=\"Gaga\",Gaga!C272,IF($B$10=\"Treguine\",Treguine!C272,IF($B$10=\"Bredjing\",Bredjing!C272,\"\"))))","v":0},null,null,{"$f":"IF($B$10=\"Farchana\",Farchana!G253,IF($B$10=\"Gaga\",Gaga!I272,IF($B$10=\"Treguine\",Treguine!G272,IF($B$10=\"Bredjing\",Bredjing!G272,\"\"))))","v":""}]
[{"$f":"IF($B$10=\"Farchana\",Farchana!A254,IF($B$10=\"Gaga\",Gaga!A273,IF($B$10=\"Treguine\",Treguine!A273,IF($B$10=\"Bredjing\",Bredjing!A273,\"\"))))","v":0},{"$f":"IF($B$10=\"Farchana\",Farchana!B254,IF($B$10=\"Gaga\",Gaga!B273,IF($B$10=\"Treguine\",Treguine!B273,IF($B$10=\"Bredjing\",Bredjing!B273,\"\"))))","v":0},{"$f":"IF($B$10=\"Farchana\",Farchana!C254,IF($B$10=\"Gaga\",Gaga!C273,IF($B$10=\"Treguine\",Treguine!C273,IF($B$10=\"Bredjing\",Bredjing!C273,\"\"))))","v":0},null,null,{"$f":"IF($B$10=\"Farchana\",Farchana!G254,IF($B$10=\"Gaga\",Gaga!I273,IF($B$10=\"Treguine\",Treguine!G273,IF($B$10=\"Bredjing\",Bredjing!G273,\"\"))))","v":""}]
[{"$f":"IF($B$10=\"Farchana\",Farchana!A255,IF($B$10=\"Gaga\",Gaga!A274,IF($B$10=\"Treguine\",Treguine!A274,IF($B$10=\"Bredjing\",Bredjing!A274,\"\"))))","v":0},{"$f":"IF($B$10=\"Farchana\",Farchana!B255,IF($B$10=\"Gaga\",Gaga!B274,IF($B$10=\"Treguine\",Treguine!B274,IF($B$10=\"Bredjing\",Bredjing!B274,\"\"))))","v":0},{"$f":"IF($B$10=\"Farchana\",Farchana!C255,IF($B$10=\"Gaga\",Gaga!C274,IF($B$10=\"Treguine\",Treguine!C274,IF($B$10=\"Bredjing\",Bredjing!C274,\"\"))))","v":0},null,null,{"$f":"IF($B$10=\"Farchana\",Farchana!G255,IF($B$10=\"Gaga\",Gaga!I274,IF($B$10=\"Treguine\",Treguine!G274,IF($B$10=\"Bredjing\",Bredjing!G274,\"\"))))","v":""}]
[{"$f":"IF($B$10=\"Farchana\",Farchana!A256,IF($B$10=\"Gaga\",Gaga!A275,IF($B$10=\"Treguine\",Treguine!A275,IF($B$10=\"Bredjing\",Bredjing!A275,\"\"))))","v":0},{"$f":"IF($B$10=\"Farchana\",Farchana!B256,IF($B$10=\"Gaga\",Gaga!B275,IF($B$10=\"Treguine\",Treguine!B275,IF($B$10=\"Bredjing\",Bredjing!B275,\"\"))))","v":0},{"$f":"IF($B$10=\"Farchana\",Farchana!C256,IF($B$10=\"Gaga\",Gaga!C275,IF($B$10=\"Treguine\",Treguine!C275,IF($B$10=\"Bredjing\",Bredjing!C275,\"\"))))","v":0},null,null,{"$f":"IF($B$10=\"Farchana\",Farchana!G256,IF($B$10=\"Gaga\",Gaga!I275,IF($B$10=\"Treguine\",Treguine!G275,IF($B$10=\"Bredjing\",Bredjing!G275,\"\"))))","v":""}]
[{"$f":"IF($B$10=\"Farchana\",Farchana!A257,IF($B$10=\"Gaga\",Gaga!A276,IF($B$10=\"Treguine\",Treguine!A276,IF($B$10=\"Bredjing\",Bredjing!A276,\"\"))))","v":0},{"$f":"IF($B$10=\"Farchana\",Farchana!B257,IF($B$10=\"Gaga\",Gaga!B276,IF($B$10=\"Treguine\",Treguine!B276,IF($B$10=\"Bredjing\",Bredjing!B276,\"\"))))","v":0},{"$f":"IF($B$10=\"Farchana\",Farchana!C257,IF($B$10=\"Gaga\",Gaga!C276,IF($B$10=\"Treguine\",Treguine!C276,IF($B$10=\"Bredjing\",Bredjing!C276,\"\"))))","v":0},null,null,{"$f":"IF($B$10=\"Farchana\",Farchana!G257,IF($B$10=\"Gaga\",Gaga!I276,IF($B$10=\"Treguine\",Treguine!G276,IF($B$10=\"Bredjing\",Bredjing!G276,\"\"))))","v":""}]
[{"$f":"IF($B$10=\"Farchana\",Farchana!A258,IF($B$10=\"Gaga\",Gaga!A277,IF($B$10=\"Treguine\",Treguine!A277,IF($B$10=\"Bredjing\",Bredjing!A277,\"\"))))","v":0},{"$f":"IF($B$10=\"Farchana\",Farchana!B258,IF($B$10=\"Gaga\",Gaga!B277,IF($B$10=\"Treguine\",Treguine!B277,IF($B$10=\"Bredjing\",Bredjing!B277,\"\"))))","v":0},{"$f":"IF($B$10=\"Farchana\",Farchana!C258,IF($B$10=\"Gaga\",Gaga!C277,IF($B$10=\"Treguine\",Treguine!C277,IF($B$10=\"Bredjing\",Bredjing!C277,\"\"))))","v":0},null,null,{"$f":"IF($B$10=\"Farchana\",Farchana!G258,IF($B$10=\"Gaga\",Gaga!I277,IF($B$10=\"Treguine\",Treguine!G277,IF($B$10=\"Bredjing\",Bredjing!G277,\"\"))))","v":""}]
[{"$f":"IF($B$10=\"Farchana\",Farchana!A259,IF($B$10=\"Gaga\",Gaga!A278,IF($B$10=\"Treguine\",Treguine!A278,IF($B$10=\"Bredjing\",Bredjing!A278,\"\"))))","v":0},{"$f":"IF($B$10=\"Farchana\",Farchana!B259,IF($B$10=\"Gaga\",Gaga!B278,IF($B$10=\"Treguine\",Treguine!B278,IF($B$10=\"Bredjing\",Bredjing!B278,\"\"))))","v":0},{"$f":"IF($B$10=\"Farchana\",Farchana!C259,IF($B$10=\"Gaga\",Gaga!C278,IF($B$10=\"Treguine\",Treguine!C278,IF($B$10=\"Bredjing\",Bredjing!C278,\"\"))))","v":0},null,null,{"$f":"IF($B$10=\"Farchana\",Farchana!G259,IF($B$10=\"Gaga\",Gaga!I278,IF($B$10=\"Treguine\",Treguine!G278,IF($B$10=\"Bredjing\",Bredjing!G278,\"\"))))","v":""}]
[{"$f":"IF($B$10=\"Farchana\",Farchana!A260,IF($B$10=\"Gaga\",Gaga!A279,IF($B$10=\"Treguine\",Treguine!A279,IF($B$10=\"Bredjing\",Bredjing!A279,\"\"))))","v":0},{"$f":"IF($B$10=\"Farchana\",Farchana!B260,IF($B$10=\"Gaga\",Gaga!B279,IF($B$10=\"Treguine\",Treguine!B279,IF($B$10=\"Bredjing\",Bredjing!B279,\"\"))))","v":0},{"$f":"IF($B$10=\"Farchana\",Farchana!C260,IF($B$10=\"Gaga\",Gaga!C279,IF($B$10=\"Treguine\",Treguine!C279,IF($B$10=\"Bredjing\",Bredjing!C279,\"\"))))","v":0},null,null,{"$f":"IF($B$10=\"Farchana\",Farchana!G260,IF($B$10=\"Gaga\",Gaga!I279,IF($B$10=\"Treguine\",Treguine!G279,IF($B$10=\"Bredjing\",Bredjing!G279,\"\"))))","v":""}]
[{"$f":"IF($B$10=\"Farchana\",Farchana!A261,IF($B$10=\"Gaga\",Gaga!A280,IF($B$10=\"Treguine\",Treguine!A280,IF($B$10=\"Bredjing\",Bredjing!A280,\"\"))))","v":0},{"$f":"IF($B$10=\"Farchana\",Farchana!B261,IF($B$10=\"Gaga\",Gaga!B280,IF($B$10=\"Treguine\",Treguine!B280,IF($B$10=\"Bredjing\",Bredjing!B280,\"\"))))","v":0},{"$f":"IF($B$10=\"Farchana\",Farchana!C261,IF($B$10=\"Gaga\",Gaga!C280,IF($B$10=\"Treguine\",Treguine!C280,IF($B$10=\"Bredjing\",Bredjing!C280,\"\"))))","v":0},null,null,{"$f":"IF($B$10=\"Farchana\",Farchana!G261,IF($B$10=\"Gaga\",Gaga!I280,IF($B$10=\"Treguine\",Treguine!G280,IF($B$10=\"Bredjing\",Bredjing!G280,\"\"))))","v":""}]
[{"$f":"IF($B$10=\"Farchana\",Farchana!A262,IF($B$10=\"Gaga\",Gaga!A281,IF($B$10=\"Treguine\",Treguine!A281,IF($B$10=\"Bredjing\",Bredjing!A281,\"\"))))","v":0},{"$f":"IF($B$10=\"Farchana\",Farchana!B262,IF($B$10=\"Gaga\",Gaga!B281,IF($B$10=\"Treguine\",Treguine!B281,IF($B$10=\"Bredjing\",Bredjing!B281,\"\"))))","v":0},{"$f":"IF($B$10=\"Farchana\",Farchana!C262,IF($B$10=\"Gaga\",Gaga!C281,IF($B$10=\"Treguine\",Treguine!C281,IF($B$10=\"Bredjing\",Bredjing!C281,\"\"))))","v":0},null,null,{"$f":"IF($B$10=\"Farchana\",Farchana!G262,IF($B$10=\"Gaga\",Gaga!I281,IF($B$10=\"Treguine\",Treguine!G281,IF($B$10=\"Bredjing\",Bredjing!G281,\"\"))))","v":""}]
[{"$f":"IF($B$10=\"Farchana\",Farchana!A263,IF($B$10=\"Gaga\",Gaga!A282,IF($B$10=\"Treguine\",Treguine!A282,IF($B$10=\"Bredjing\",Bredjing!A282,\"\"))))","v":0},{"$f":"IF($B$10=\"Farchana\",Farchana!B263,IF($B$10=\"Gaga\",Gaga!B282,IF($B$10=\"Treguine\",Treguine!B282,IF($B$10=\"Bredjing\",Bredjing!B282,\"\"))))","v":0},{"$f":"IF($B$10=\"Farchana\",Farchana!C263,IF($B$10=\"Gaga\",Gaga!C282,IF($B$10=\"Treguine\",Treguine!C282,IF($B$10=\"Bredjing\",Bredjing!C282,\"\"))))","v":0},null,null,{"$f":"IF($B$10=\"Farchana\",Farchana!G263,IF($B$10=\"Gaga\",Gaga!I282,IF($B$10=\"Treguine\",Treguine!G282,IF($B$10=\"Bredjing\",Bredjing!G282,\"\"))))","v":""}]
[{"$f":"IF($B$10=\"Farchana\",Farchana!A264,IF($B$10=\"Gaga\",Gaga!A283,IF($B$10=\"Treguine\",Treguine!A283,IF($B$10=\"Bredjing\",Bredjing!A283,\"\"))))","v":0},{"$f":"IF($B$10=\"Farchana\",Farchana!B264,IF($B$10=\"Gaga\",Gaga!B283,IF($B$10=\"Treguine\",Treguine!B283,IF($B$10=\"Bredjing\",Bredjing!B283,\"\"))))","v":0},{"$f":"IF($B$10=\"Farchana\",Farchana!C264,IF($B$10=\"Gaga\",Gaga!C283,IF($B$10=\"Treguine\",Treguine!C283,IF($B$10=\"Bredjing\",Bredjing!C283,\"\"))))","v":0},null,null,{"$f":"IF($B$10=\"Farchana\",Farchana!G264,IF($B$10=\"Gaga\",Gaga!I283,IF($B$10=\"Treguine\",Treguine!G283,IF($B$10=\"Bredjing\",Bredjing!G283,\"\"))))","v":""}]
[{"$f":"IF($B$10=\"Farchana\",Farchana!A265,IF($B$10=\"Gaga\",Gaga!A284,IF($B$10=\"Treguine\",Treguine!A284,IF($B$10=\"Bredjing\",Bredjing!A284,\"\"))))","v":0},{"$f":"IF($B$10=\"Farchana\",Farchana!B265,IF($B$10=\"Gaga\",Gaga!B284,IF($B$10=\"Treguine\",Treguine!B284,IF($B$10=\"Bredjing\",Bredjing!B284,\"\"))))","v":0},{"$f":"IF($B$10=\"Farchana\",Farchana!C265,IF($B$10=\"Gaga\",Gaga!C284,IF($B$10=\"Treguine\",Treguine!C284,IF($B$10=\"Bredjing\",Bredjing!C284,\"\"))))","v":0},null,null,{"$f":"IF($B$10=\"Farchana\",Farchana!G265,IF($B$10=\"Gaga\",Gaga!I284,IF($B$10=\"Treguine\",Treguine!G284,IF($B$10=\"Bredjing\",Bredjing!G284,\"\"))))","v":""}]
[{"$f":"IF($B$10=\"Farchana\",Farchana!A266,IF($B$10=\"Gaga\",Gaga!A285,IF($B$10=\"Treguine\",Treguine!A285,IF($B$10=\"Bredjing\",Bredjing!A285,\"\"))))","v":0},{"$f":"IF($B$10=\"Farchana\",Farchana!B266,IF($B$10=\"Gaga\",Gaga!B285,IF($B$10=\"Treguine\",Treguine!B285,IF($B$10=\"Bredjing\",Bredjing!B285,\"\"))))","v":0},{"$f":"IF($B$10=\"Farchana\",Farchana!C266,IF($B$10=\"Gaga\",Gaga!C285,IF($B$10=\"Treguine\",Treguine!C285,IF($B$10=\"Bredjing\",Bredjing!C285,\"\"))))","v":0},null,null,{"$f":"IF($B$10=\"Farchana\",Farchana!G266,IF($B$10=\"Gaga\",Gaga!I285,IF($B$10=\"Treguine\",Treguine!G285,IF($B$10=\"Bredjing\",Bredjing!G285,\"\"))))","v":""}]
[{"$f":"IF($B$10=\"Farchana\",Farchana!A267,IF($B$10=\"Gaga\",Gaga!A286,IF($B$10=\"Treguine\",Treguine!A286,IF($B$10=\"Bredjing\",Bredjing!A286,\"\"))))","v":0},{"$f":"IF($B$10=\"Farchana\",Farchana!B267,IF($B$10=\"Gaga\",Gaga!B286,IF($B$10=\"Treguine\",Treguine!B286,IF($B$10=\"Bredjing\",Bredjing!B286,\"\"))))","v":0},{"$f":"IF($B$10=\"Farchana\",Farchana!C267,IF($B$10=\"Gaga\",Gaga!C286,IF($B$10=\"Treguine\",Treguine!C286,IF($B$10=\"Bredjing\",Bredjing!C286,\"\"))))","v":0},null,null,{"$f":"IF($B$10=\"Farchana\",Farchana!G267,IF($B$10=\"Gaga\",Gaga!I286,IF($B$10=\"Treguine\",Treguine!G286,IF($B$10=\"Bredjing\",Bredjing!G286,\"\"))))","v":""}]
[{"$f":"IF($B$10=\"Farchana\",Farchana!A268,IF($B$10=\"Gaga\",Gaga!A287,IF($B$10=\"Treguine\",Treguine!A287,IF($B$10=\"Bredjing\",Bredjing!A287,\"\"))))","v":0},{"$f":"IF($B$10=\"Farchana\",Farchana!B268,IF($B$10=\"Gaga\",Gaga!B287,IF($B$10=\"Treguine\",Treguine!B287,IF($B$10=\"Bredjing\",Bredjing!B287,\"\"))))","v":0},{"$f":"IF($B$10=\"Farchana\",Farchana!C268,IF($B$10=\"Gaga\",Gaga!C287,IF($B$10=\"Treguine\",Treguine!C287,IF($B$10=\"Bredjing\",Bredjing!C287,\"\"))))","v":0},null,null,{"$f":"IF($B$10=\"Farchana\",Farchana!G268,IF($B$10=\"Gaga\",Gaga!I287,IF($B$10=\"Treguine\",Treguine!G287,IF($B$10=\"Bredjing\",Bredjing!G287,\"\"))))","v":""}]
[{"$f":"IF($B$10=\"Farchana\",Farchana!A269,IF($B$10=\"Gaga\",Gaga!A288,IF($B$10=\"Treguine\",Treguine!A288,IF($B$10=\"Bredjing\",Bredjing!A288,\"\"))))","v":0},{"$f":"IF($B$10=\"Farchana\",Farchana!B269,IF($B$10=\"Gaga\",Gaga!B288,IF($B$10=\"Treguine\",Treguine!B288,IF($B$10=\"Bredjing\",Bredjing!B288,\"\"))))","v":0},{"$f":"IF($B$10=\"Farchana\",Farchana!C269,IF($B$10=\"Gaga\",Gaga!C288,IF($B$10=\"Treguine\",Treguine!C288,IF($B$10=\"Bredjing\",Bredjing!C288,\"\"))))","v":0},null,null,{"$f":"IF($B$10=\"Farchana\",Farchana!G269,IF($B$10=\"Gaga\",Gaga!I288,IF($B$10=\"Treguine\",Treguine!G288,IF($B$10=\"Bredjing\",Bredjing!G288,\"\"))))","v":""}]
[{"$f":"IF($B$10=\"Farchana\",Farchana!A270,IF($B$10=\"Gaga\",Gaga!A289,IF($B$10=\"Treguine\",Treguine!A289,IF($B$10=\"Bredjing\",Bredjing!A289,\"\"))))","v":0},{"$f":"IF($B$10=\"Farchana\",Farchana!B270,IF($B$10=\"Gaga\",Gaga!B289,IF($B$10=\"Treguine\",Treguine!B289,IF($B$10=\"Bredjing\",Bredjing!B289,\"\"))))","v":0},{"$f":"IF($B$10=\"Farchana\",Farchana!C270,IF($B$10=\"Gaga\",Gaga!C289,IF($B$10=\"Treguine\",Treguine!C289,IF($B$10=\"Bredjing\",Bredjing!C289,\"\"))))","v":0},null,null,{"$f":"IF($B$10=\"Farchana\",Farchana!G270,IF($B$10=\"Gaga\",Gaga!I289,IF($B$10=\"Treguine\",Treguine!G289,IF($B$10=\"Bredjing\",Bredjing!G289,\"\"))))","v":""}]
[{"$f":"IF($B$10=\"Farchana\",Farchana!A271,IF($B$10=\"Gaga\",Gaga!A290,IF($B$10=\"Treguine\",Treguine!A290,IF($B$10=\"Bredjing\",Bredjing!A290,\"\"))))","v":0},{"$f":"IF($B$10=\"Farchana\",Farchana!B271,IF($B$10=\"Gaga\",Gaga!B290,IF($B$10=\"Treguine\",Treguine!B290,IF($B$10=\"Bredjing\",Bredjing!B290,\"\"))))","v":0},{"$f":"IF($B$10=\"Farchana\",Farchana!C271,IF($B$10=\"Gaga\",Gaga!C290,IF($B$10=\"Treguine\",Treguine!C290,IF($B$10=\"Bredjing\",Bredjing!C290,\"\"))))","v":0},null,null,{"$f":"IF($B$10=\"Farchana\",Farchana!G271,IF($B$10=\"Gaga\",Gaga!I290,IF($B$10=\"Treguine\",Treguine!G290,IF($B$10=\"Bredjing\",Bredjing!G290,\"\"))))","v":""}]
[{"$f":"IF($B$10=\"Farchana\",Farchana!A272,IF($B$10=\"Gaga\",Gaga!A291,IF($B$10=\"Treguine\",Treguine!A291,IF($B$10=\"Bredjing\",Bredjing!A291,\"\"))))","v":0},{"$f":"IF($B$10=\"Farchana\",Farchana!B272,IF($B$10=\"Gaga\",Gaga!B291,IF($B$10=\"Treguine\",Treguine!B291,IF($B$10=\"Bredjing\",Bredjing!B291,\"\"))))","v":0},{"$f":"IF($B$10=\"Farchana\",Farchana!C272,IF($B$10=\"Gaga\",Gaga!C291,IF($B$10=\"Treguine\",Treguine!C291,IF($B$10=\"Bredjing\",Bredjing!C291,\"\"))))","v":0},null,null,{"$f":"IF($B$10=\"Farchana\",Farchana!G272,IF($B$10=\"Gaga\",Gaga!I291,IF($B$10=\"Treguine\",Treguine!G291,IF($B$10=\"Bredjing\",Bredjing!G291,\"\"))))","v":""}]
[{"$f":"IF($B$10=\"Farchana\",Farchana!A273,IF($B$10=\"Gaga\",Gaga!A292,IF($B$10=\"Treguine\",Treguine!A292,IF($B$10=\"Bredjing\",Bredjing!A292,\"\"))))","v":0},{"$f":"IF($B$10=\"Farchana\",Farchana!B273,IF($B$10=\"Gaga\",Gaga!B292,IF($B$10=\"Treguine\",Treguine!B292,IF($B$10=\"Bredjing\",Bredjing!B292,\"\"))))","v":0},{"$f":"IF($B$10=\"Farchana\",Farchana!C273,IF($B$10=\"Gaga\",Gaga!C292,IF($B$10=\"Treguine\",Treguine!C292,IF($B$10=\"Bredjing\",Bredjing!C292,\"\"))))","v":0},null,null,{"$f":"IF($B$10=\"Farchana\",Farchana!G273,IF($B$10=\"Gaga\",Gaga!I292,IF($B$10=\"Treguine\",Treguine!G292,IF($B$10=\"Bredjing\",Bredjing!G292,\"\"))))","v":""}]
[{"$f":"IF($B$10=\"Farchana\",Farchana!A274,IF($B$10=\"Gaga\",Gaga!A293,IF($B$10=\"Treguine\",Treguine!A293,IF($B$10=\"Bredjing\",Bredjing!A293,\"\"))))","v":0},{"$f":"IF($B$10=\"Farchana\",Farchana!B274,IF($B$10=\"Gaga\",Gaga!B293,IF($B$10=\"Treguine\",Treguine!B293,IF($B$10=\"Bredjing\",Bredjing!B293,\"\"))))","v":0},{"$f":"IF($B$10=\"Farchana\",Farchana!C274,IF($B$10=\"Gaga\",Gaga!C293,IF($B$10=\"Treguine\",Treguine!C293,IF($B$10=\"Bredjing\",Bredjing!C293,\"\"))))","v":0},null,null,{"$f":"IF($B$10=\"Farchana\",Farchana!G274,IF($B$10=\"Gaga\",Gaga!I293,IF($B$10=\"Treguine\",Treguine!G293,IF($B$10=\"Bredjing\",Bredjing!G293,\"\"))))","v":""}]
[{"$f":"IF($B$10=\"Farchana\",Farchana!A275,IF($B$10=\"Gaga\",Gaga!A294,IF($B$10=\"Treguine\",Treguine!A294,IF($B$10=\"Bredjing\",Bredjing!A294,\"\"))))","v":0},{"$f":"IF($B$10=\"Farchana\",Farchana!B275,IF($B$10=\"Gaga\",Gaga!B294,IF($B$10=\"Treguine\",Treguine!B294,IF($B$10=\"Bredjing\",Bredjing!B294,\"\"))))","v":0},{"$f":"IF($B$10=\"Farchana\",Farchana!C275,IF($B$10=\"Gaga\",Gaga!C294,IF($B$10=\"Treguine\",Treguine!C294,IF($B$10=\"Bredjing\",Bredjing!C294,\"\"))))","v":0},null,null,{"$f":"IF($B$10=\"Farchana\",Farchana!G275,IF($B$10=\"Gaga\",Gaga!I294,IF($B$10=\"Treguine\",Treguine!G294,IF($B$10=\"Bredjing\",Bredjing!G294,\"\"))))","v":""}]
[{"$f":"IF($B$10=\"Farchana\",Farchana!A276,IF($B$10=\"Gaga\",Gaga!A295,IF($B$10=\"Treguine\",Treguine!A295,IF($B$10=\"Bredjing\",Bredjing!A295,\"\"))))","v":0},{"$f":"IF($B$10=\"Farchana\",Farchana!B276,IF($B$10=\"Gaga\",Gaga!B295,IF($B$10=\"Treguine\",Treguine!B295,IF($B$10=\"Bredjing\",Bredjing!B295,\"\"))))","v":0},{"$f":"IF($B$10=\"Farchana\",Farchana!C276,IF($B$10=\"Gaga\",Gaga!C295,IF($B$10=\"Treguine\",Treguine!C295,IF($B$10=\"Bredjing\",Bredjing!C295,\"\"))))","v":0},null,null,{"$f":"IF($B$10=\"Farchana\",Farchana!G276,IF($B$10=\"Gaga\",Gaga!I295,IF($B$10=\"Treguine\",Treguine!G295,IF($B$10=\"Bredjing\",Bredjing!G295,\"\"))))","v":""}]
[{"$f":"IF($B$10=\"Farchana\",Farchana!A277,IF($B$10=\"Gaga\",Gaga!A296,IF($B$10=\"Treguine\",Treguine!A296,IF($B$10=\"Bredjing\",Bredjing!A296,\"\"))))","v":0},{"$f":"IF($B$10=\"Farchana\",Farchana!B277,IF($B$10=\"Gaga\",Gaga!B296,IF($B$10=\"Treguine\",Treguine!B296,IF($B$10=\"Bredjing\",Bredjing!B296,\"\"))))","v":0},{"$f":"IF($B$10=\"Farchana\",Farchana!C277,IF($B$10=\"Gaga\",Gaga!C296,IF($B$10=\"Treguine\",Treguine!C296,IF($B$10=\"Bredjing\",Bredjing!C296,\"\"))))","v":0},null,null,{"$f":"IF($B$10=\"Farchana\",Farchana!G277,IF($B$10=\"Gaga\",Gaga!I296,IF($B$10=\"Treguine\",Treguine!G296,IF($B$10=\"Bredjing\",Bredjing!G296,\"\"))))","v":""}]
[{"$f":"IF($B$10=\"Farchana\",Farchana!A278,IF($B$10=\"Gaga\",Gaga!A297,IF($B$10=\"Treguine\",Treguine!A297,IF($B$10=\"Bredjing\",Bredjing!A297,\"\"))))","v":0},{"$f":"IF($B$10=\"Farchana\",Farchana!B278,IF($B$10=\"Gaga\",Gaga!B297,IF($B$10=\"Treguine\",Treguine!B297,IF($B$10=\"Bredjing\",Bredjing!B297,\"\"))))","v":0},{"$f":"IF($B$10=\"Farchana\",Farchana!C278,IF($B$10=\"Gaga\",Gaga!C297,IF($B$10=\"Treguine\",Treguine!C297,IF($B$10=\"Bredjing\",Bredjing!C297,\"\"))))","v":0},null,null,{"$f":"IF($B$10=\"Farchana\",Farchana!G278,IF($B$10=\"Gaga\",Gaga!I297,IF($B$10=\"Treguine\",Treguine!G297,IF($B$10=\"Bredjing\",Bredjing!G297,\"\"))))","v":""}]
[{"$f":"IF($B$10=\"Farchana\",Farchana!A279,IF($B$10=\"Gaga\",Gaga!A298,IF($B$10=\"Treguine\",Treguine!A298,IF($B$10=\"Bredjing\",Bredjing!A298,\"\"))))","v":0},{"$f":"IF($B$10=\"Farchana\",Farchana!B279,IF($B$10=\"Gaga\",Gaga!B298,IF($B$10=\"Treguine\",Treguine!B298,IF($B$10=\"Bredjing\",Bredjing!B298,\"\"))))","v":0},{"$f":"IF($B$10=\"Farchana\",Farchana!C279,IF($B$10=\"Gaga\",Gaga!C298,IF($B$10=\"Treguine\",Treguine!C298,IF($B$10=\"Bredjing\",Bredjing!C298,\"\"))))","v":0},null,null,{"$f":"IF($B$10=\"Farchana\",Farchana!G279,IF($B$10=\"Gaga\",Gaga!I298,IF($B$10=\"Treguine\",Treguine!G298,IF($B$10=\"Bredjing\",Bredjing!G298,\"\"))))","v":""}]
[{"$f":"IF($B$10=\"Farchana\",Farchana!A280,IF($B$10=\"Gaga\",Gaga!A299,IF($B$10=\"Treguine\",Treguine!A299,IF($B$10=\"Bredjing\",Bredjing!A299,\"\"))))","v":0},{"$f":"IF($B$10=\"Farchana\",Farchana!B280,IF($B$10=\"Gaga\",Gaga!B299,IF($B$10=\"Treguine\",Treguine!B299,IF($B$10=\"Bredjing\",Bredjing!B299,\"\"))))","v":0},{"$f":"IF($B$10=\"Farchana\",Farchana!C280,IF($B$10=\"Gaga\",Gaga!C299,IF($B$10=\"Treguine\",Treguine!C299,IF($B$10=\"Bredjing\",Bredjing!C299,\"\"))))","v":0},null,null,{"$f":"IF($B$10=\"Farchana\",Farchana!G280,IF($B$10=\"Gaga\",Gaga!I299,IF($B$10=\"Treguine\",Treguine!G299,IF($B$10=\"Bredjing\",Bredjing!G299,\"\"))))","v":""}]
[{"$f":"IF($B$10=\"Farchana\",Farchana!A281,IF($B$10=\"Gaga\",Gaga!A300,IF($B$10=\"Treguine\",Treguine!A300,IF($B$10=\"Bredjing\",Bredjing!A300,\"\"))))","v":0},{"$f":"IF($B$10=\"Farchana\",Farchana!B281,IF($B$10=\"Gaga\",Gaga!B300,IF($B$10=\"Treguine\",Treguine!B300,IF($B$10=\"Bredjing\",Bredjing!B300,\"\"))))","v":0},{"$f":"IF($B$10=\"Farchana\",Farchana!C281,IF($B$10=\"Gaga\",Gaga!C300,IF($B$10=\"Treguine\",Treguine!C300,IF($B$10=\"Bredjing\",Bredjing!C300,\"\"))))","v":0},null,null,{"$f":"IF($B$10=\"Farchana\",Farchana!G281,IF($B$10=\"Gaga\",Gaga!I300,IF($B$10=\"Treguine\",Treguine!G300,IF($B$10=\"Bredjing\",Bredjing!G300,\"\"))))","v":""}]
[{"$f":"IF($B$10=\"Farchana\",Farchana!A282,IF($B$10=\"Gaga\",Gaga!A301,IF($B$10=\"Treguine\",Treguine!A301,IF($B$10=\"Bredjing\",Bredjing!A301,\"\"))))","v":0},{"$f":"IF($B$10=\"Farchana\",Farchana!B282,IF($B$10=\"Gaga\",Gaga!B301,IF($B$10=\"Treguine\",Treguine!B301,IF($B$10=\"Bredjing\",Bredjing!B301,\"\"))))","v":0},{"$f":"IF($B$10=\"Farchana\",Farchana!C282,IF($B$10=\"Gaga\",Gaga!C301,IF($B$10=\"Treguine\",Treguine!C301,IF($B$10=\"Bredjing\",Bredjing!C301,\"\"))))","v":0},null,null,{"$f":"IF($B$10=\"Farchana\",Farchana!G282,IF($B$10=\"Gaga\",Gaga!I301,IF($B$10=\"Treguine\",Treguine!G301,IF($B$10=\"Bredjing\",Bredjing!G301,\"\"))))","v":""}]
[{"$f":"IF($B$10=\"Farchana\",Farchana!A283,IF($B$10=\"Gaga\",Gaga!A302,IF($B$10=\"Treguine\",Treguine!A302,IF($B$10=\"Bredjing\",Bredjing!A302,\"\"))))","v":0},{"$f":"IF($B$10=\"Farchana\",Farchana!B283,IF($B$10=\"Gaga\",Gaga!B302,IF($B$10=\"Treguine\",Treguine!B302,IF($B$10=\"Bredjing\",Bredjing!B302,\"\"))))","v":0},{"$f":"IF($B$10=\"Farchana\",Farchana!C283,IF($B$10=\"Gaga\",Gaga!C302,IF($B$10=\"Treguine\",Treguine!C302,IF($B$10=\"Bredjing\",Bredjing!C302,\"\"))))","v":0},null,null,{"$f":"IF($B$10=\"Farchana\",Farchana!G283,IF($B$10=\"Gaga\",Gaga!I302,IF($B$10=\"Treguine\",Treguine!G302,IF($B$10=\"Bredjing\",Bredjing!G302,\"\"))))","v":""}]
[{"$f":"IF($B$10=\"Farchana\",Farchana!A284,IF($B$10=\"Gaga\",Gaga!A303,IF($B$10=\"Treguine\",Treguine!A303,IF($B$10=\"Bredjing\",Bredjing!A303,\"\"))))","v":0},{"$f":"IF($B$10=\"Farchana\",Farchana!B284,IF($B$10=\"Gaga\",Gaga!B303,IF($B$10=\"Treguine\",Treguine!B303,IF($B$10=\"Bredjing\",Bredjing!B303,\"\"))))","v":0},{"$f":"IF($B$10=\"Farchana\",Farchana!C284,IF($B$10=\"Gaga\",Gaga!C303,IF($B$10=\"Treguine\",Treguine!C303,IF($B$10=\"Bredjing\",Bredjing!C303,\"\"))))","v":0},null,null,{"$f":"IF($B$10=\"Farchana\",Farchana!G284,IF($B$10=\"Gaga\",Gaga!I303,IF($B$10=\"Treguine\",Treguine!G303,IF($B$10=\"Bredjing\",Bredjing!G303,\"\"))))","v":""}]
[{"$f":"IF($B$10=\"Farchana\",Farchana!A285,IF($B$10=\"Gaga\",Gaga!A304,IF($B$10=\"Treguine\",Treguine!A304,IF($B$10=\"Bredjing\",Bredjing!A304,\"\"))))","v":0},{"$f":"IF($B$10=\"Farchana\",Farchana!B285,IF($B$10=\"Gaga\",Gaga!B304,IF($B$10=\"Treguine\",Treguine!B304,IF($B$10=\"Bredjing\",Bredjing!B304,\"\"))))","v":0},{"$f":"IF($B$10=\"Farchana\",Farchana!C285,IF($B$10=\"Gaga\",Gaga!C304,IF($B$10=\"Treguine\",Treguine!C304,IF($B$10=\"Bredjing\",Bredjing!C304,\"\"))))","v":0},null,null,{"$f":"IF($B$10=\"Farchana\",Farchana!G285,IF($B$10=\"Gaga\",Gaga!I304,IF($B$10=\"Treguine\",Treguine!G304,IF($B$10=\"Bredjing\",Bredjing!G304,\"\"))))","v":""}]
[{"$f":"IF($B$10=\"Farchana\",Farchana!A286,IF($B$10=\"Gaga\",Gaga!A305,IF($B$10=\"Treguine\",Treguine!A305,IF($B$10=\"Bredjing\",Bredjing!A305,\"\"))))","v":0},{"$f":"IF($B$10=\"Farchana\",Farchana!B286,IF($B$10=\"Gaga\",Gaga!B305,IF($B$10=\"Treguine\",Treguine!B305,IF($B$10=\"Bredjing\",Bredjing!B305,\"\"))))","v":0},{"$f":"IF($B$10=\"Farchana\",Farchana!C286,IF($B$10=\"Gaga\",Gaga!C305,IF($B$10=\"Treguine\",Treguine!C305,IF($B$10=\"Bredjing\",Bredjing!C305,\"\"))))","v":0},null,null,{"$f":"IF($B$10=\"Farchana\",Farchana!G286,IF($B$10=\"Gaga\",Gaga!I305,IF($B$10=\"Treguine\",Treguine!G305,IF($B$10=\"Bredjing\",Bredjing!G305,\"\"))))","v":""}]
[{"$f":"IF($B$10=\"Farchana\",Farchana!A287,IF($B$10=\"Gaga\",Gaga!A306,IF($B$10=\"Treguine\",Treguine!A306,IF($B$10=\"Bredjing\",Bredjing!A306,\"\"))))","v":0},{"$f":"IF($B$10=\"Farchana\",Farchana!B287,IF($B$10=\"Gaga\",Gaga!B306,IF($B$10=\"Treguine\",Treguine!B306,IF($B$10=\"Bredjing\",Bredjing!B306,\"\"))))","v":0},{"$f":"IF($B$10=\"Farchana\",Farchana!C287,IF($B$10=\"Gaga\",Gaga!C306,IF($B$10=\"Treguine\",Treguine!C306,IF($B$10=\"Bredjing\",Bredjing!C306,\"\"))))","v":0},null,null,{"$f":"IF($B$10=\"Farchana\",Farchana!G287,IF($B$10=\"Gaga\",Gaga!I306,IF($B$10=\"Treguine\",Treguine!G306,IF($B$10=\"Bredjing\",Bredjing!G306,\"\"))))","v":""}]
[{"$f":"IF($B$10=\"Farchana\",Farchana!A288,IF($B$10=\"Gaga\",Gaga!A307,IF($B$10=\"Treguine\",Treguine!A307,IF($B$10=\"Bredjing\",Bredjing!A307,\"\"))))","v":0},{"$f":"IF($B$10=\"Farchana\",Farchana!B288,IF($B$10=\"Gaga\",Gaga!B307,IF($B$10=\"Treguine\",Treguine!B307,IF($B$10=\"Bredjing\",Bredjing!B307,\"\"))))","v":0},{"$f":"IF($B$10=\"Farchana\",Farchana!C288,IF($B$10=\"Gaga\",Gaga!C307,IF($B$10=\"Treguine\",Treguine!C307,IF($B$10=\"Bredjing\",Bredjing!C307,\"\"))))","v":0},null,null,{"$f":"IF($B$10=\"Farchana\",Farchana!G288,IF($B$10=\"Gaga\",Gaga!I307,IF($B$10=\"Treguine\",Treguine!G307,IF($B$10=\"Bredjing\",Bredjing!G307,\"\"))))","v":""}]
[{"$f":"IF($B$10=\"Farchana\",Farchana!A289,IF($B$10=\"Gaga\",Gaga!A308,IF($B$10=\"Treguine\",Treguine!A308,IF($B$10=\"Bredjing\",Bredjing!A308,\"\"))))","v":0},{"$f":"IF($B$10=\"Farchana\",Farchana!B289,IF($B$10=\"Gaga\",Gaga!B308,IF($B$10=\"Treguine\",Treguine!B308,IF($B$10=\"Bredjing\",Bredjing!B308,\"\"))))","v":0},{"$f":"IF($B$10=\"Farchana\",Farchana!C289,IF($B$10=\"Gaga\",Gaga!C308,IF($B$10=\"Treguine\",Treguine!C308,IF($B$10=\"Bredjing\",Bredjing!C308,\"\"))))","v":0},null,null,{"$f":"IF($B$10=\"Farchana\",Farchana!G289,IF($B$10=\"Gaga\",Gaga!I308,IF($B$10=\"Treguine\",Treguine!G308,IF($B$10=\"Bredjing\",Bredjing!G308,\"\"))))","v":""}]
[{"$f":"IF($B$10=\"Farchana\",Farchana!A290,IF($B$10=\"Gaga\",Gaga!A309,IF($B$10=\"Treguine\",Treguine!A309,IF($B$10=\"Bredjing\",Bredjing!A309,\"\"))))","v":0},{"$f":"IF($B$10=\"Farchana\",Farchana!B290,IF($B$10=\"Gaga\",Gaga!B309,IF($B$10=\"Treguine\",Treguine!B309,IF($B$10=\"Bredjing\",Bredjing!B309,\"\"))))","v":0},{"$f":"IF($B$10=\"Farchana\",Farchana!C290,IF($B$10=\"Gaga\",Gaga!C309,IF($B$10=\"Treguine\",Treguine!C309,IF($B$10=\"Bredjing\",Bredjing!C309,\"\"))))","v":0},null,null,{"$f":"IF($B$10=\"Farchana\",Farchana!G290,IF($B$10=\"Gaga\",Gaga!I309,IF($B$10=\"Treguine\",Treguine!G309,IF($B$10=\"Bredjing\",Bredjing!G309,\"\"))))","v":""}]
[{"$f":"IF($B$10=\"Farchana\",Farchana!A291,IF($B$10=\"Gaga\",Gaga!A310,IF($B$10=\"Treguine\",Treguine!A310,IF($B$10=\"Bredjing\",Bredjing!A310,\"\"))))","v":0},{"$f":"IF($B$10=\"Farchana\",Farchana!B291,IF($B$10=\"Gaga\",Gaga!B310,IF($B$10=\"Treguine\",Treguine!B310,IF($B$10=\"Bredjing\",Bredjing!B310,\"\"))))","v":0},{"$f":"IF($B$10=\"Farchana\",Farchana!C291,IF($B$10=\"Gaga\",Gaga!C310,IF($B$10=\"Treguine\",Treguine!C310,IF($B$10=\"Bredjing\",Bredjing!C310,\"\"))))","v":0},null,null,{"$f":"IF($B$10=\"Farchana\",Farchana!G291,IF($B$10=\"Gaga\",Gaga!I310,IF($B$10=\"Treguine\",Treguine!G310,IF($B$10=\"Bredjing\",Bredjing!G310,\"\"))))","v":""}]
[{"$f":"IF($B$10=\"Farchana\",Farchana!A292,IF($B$10=\"Gaga\",Gaga!A311,IF($B$10=\"Treguine\",Treguine!A311,IF($B$10=\"Bredjing\",Bredjing!A311,\"\"))))","v":0},{"$f":"IF($B$10=\"Farchana\",Farchana!B292,IF($B$10=\"Gaga\",Gaga!B311,IF($B$10=\"Treguine\",Treguine!B311,IF($B$10=\"Bredjing\",Bredjing!B311,\"\"))))","v":0},{"$f":"IF($B$10=\"Farchana\",Farchana!C292,IF($B$10=\"Gaga\",Gaga!C311,IF($B$10=\"Treguine\",Treguine!C311,IF($B$10=\"Bredjing\",Bredjing!C311,\"\"))))","v":0},null,null,{"$f":"IF($B$10=\"Farchana\",Farchana!G292,IF($B$10=\"Gaga\",Gaga!I311,IF($B$10=\"Treguine\",Treguine!G311,IF($B$10=\"Bredjing\",Bredjing!G311,\"\"))))","v":""}]
[{"$f":"IF($B$10=\"Farchana\",Farchana!A293,IF($B$10=\"Gaga\",Gaga!A312,IF($B$10=\"Treguine\",Treguine!A312,IF($B$10=\"Bredjing\",Bredjing!A312,\"\"))))","v":0},{"$f":"IF($B$10=\"Farchana\",Farchana!B293,IF($B$10=\"Gaga\",Gaga!B312,IF($B$10=\"Treguine\",Treguine!B312,IF($B$10=\"Bredjing\",Bredjing!B312,\"\"))))","v":0},{"$f":"IF($B$10=\"Farchana\",Farchana!C293,IF($B$10=\"Gaga\",Gaga!C312,IF($B$10=\"Treguine\",Treguine!C312,IF($B$10=\"Bredjing\",Bredjing!C312,\"\"))))","v":0},null,null,{"$f":"IF($B$10=\"Farchana\",Farchana!G293,IF($B$10=\"Gaga\",Gaga!I312,IF($B$10=\"Treguine\",Treguine!G312,IF($B$10=\"Bredjing\",Bredjing!G312,\"\"))))","v":""}]
[{"$f":"IF($B$10=\"Farchana\",Farchana!A294,IF($B$10=\"Gaga\",Gaga!A313,IF($B$10=\"Treguine\",Treguine!A313,IF($B$10=\"Bredjing\",Bredjing!A313,\"\"))))","v":0},{"$f":"IF($B$10=\"Farchana\",Farchana!B294,IF($B$10=\"Gaga\",Gaga!B313,IF($B$10=\"Treguine\",Treguine!B313,IF($B$10=\"Bredjing\",Bredjing!B313,\"\"))))","v":0},{"$f":"IF($B$10=\"Farchana\",Farchana!C294,IF($B$10=\"Gaga\",Gaga!C313,IF($B$10=\"Treguine\",Treguine!C313,IF($B$10=\"Bredjing\",Bredjing!C313,\"\"))))","v":0},null,null,{"$f":"IF($B$10=\"Farchana\",Farchana!G294,IF($B$10=\"Gaga\",Gaga!I313,IF($B$10=\"Treguine\",Treguine!G313,IF($B$10=\"Bredjing\",Bredjing!G313,\"\"))))","v":""}]
[{"$f":"IF($B$10=\"Farchana\",Farchana!A295,IF($B$10=\"Gaga\",Gaga!A314,IF($B$10=\"Treguine\",Treguine!A314,IF($B$10=\"Bredjing\",Bredjing!A314,\"\"))))","v":0},{"$f":"IF($B$10=\"Farchana\",Farchana!B295,IF($B$10=\"Gaga\",Gaga!B314,IF($B$10=\"Treguine\",Treguine!B314,IF($B$10=\"Bredjing\",Bredjing!B314,\"\"))))","v":0},{"$f":"IF($B$10=\"Farchana\",Farchana!C295,IF($B$10=\"Gaga\",Gaga!C314,IF($B$10=\"Treguine\",Treguine!C314,IF($B$10=\"Bredjing\",Bredjing!C314,\"\"))))","v":0},null,null,{"$f":"IF($B$10=\"Farchana\",Farchana!G295,IF($B$10=\"Gaga\",Gaga!I314,IF($B$10=\"Treguine\",Treguine!G314,IF($B$10=\"Bredjing\",Bredjing!G314,\"\"))))","v":""}]
[{"$f":"IF($B$10=\"Farchana\",Farchana!A296,IF($B$10=\"Gaga\",Gaga!A315,IF($B$10=\"Treguine\",Treguine!A315,IF($B$10=\"Bredjing\",Bredjing!A315,\"\"))))","v":0},{"$f":"IF($B$10=\"Farchana\",Farchana!B296,IF($B$10=\"Gaga\",Gaga!B315,IF($B$10=\"Treguine\",Treguine!B315,IF($B$10=\"Bredjing\",Bredjing!B315,\"\"))))","v":0},{"$f":"IF($B$10=\"Farchana\",Farchana!C296,IF($B$10=\"Gaga\",Gaga!C315,IF($B$10=\"Treguine\",Treguine!C315,IF($B$10=\"Bredjing\",Bredjing!C315,\"\"))))","v":0},null,null,{"$f":"IF($B$10=\"Farchana\",Farchana!G296,IF($B$10=\"Gaga\",Gaga!I315,IF($B$10=\"Treguine\",Treguine!G315,IF($B$10=\"Bredjing\",Bredjing!G315,\"\"))))","v":""}]
[{"$f":"IF($B$10=\"Farchana\",Farchana!A297,IF($B$10=\"Gaga\",Gaga!A316,IF($B$10=\"Treguine\",Treguine!A316,IF($B$10=\"Bredjing\",Bredjing!A316,\"\"))))","v":0},{"$f":"IF($B$10=\"Farchana\",Farchana!B297,IF($B$10=\"Gaga\",Gaga!B316,IF($B$10=\"Treguine\",Treguine!B316,IF($B$10=\"Bredjing\",Bredjing!B316,\"\"))))","v":0},{"$f":"IF($B$10=\"Farchana\",Farchana!C297,IF($B$10=\"Gaga\",Gaga!C316,IF($B$10=\"Treguine\",Treguine!C316,IF($B$10=\"Bredjing\",Bredjing!C316,\"\"))))","v":0},null,null,{"$f":"IF($B$10=\"Farchana\",Farchana!G297,IF($B$10=\"Gaga\",Gaga!I316,IF($B$10=\"Treguine\",Treguine!G316,IF($B$10=\"Bredjing\",Bredjing!G316,\"\"))))","v":""}]
[{"$f":"IF($B$10=\"Farchana\",Farchana!A298,IF($B$10=\"Gaga\",Gaga!A317,IF($B$10=\"Treguine\",Treguine!A317,IF($B$10=\"Bredjing\",Bredjing!A317,\"\"))))","v":0},{"$f":"IF($B$10=\"Farchana\",Farchana!B298,IF($B$10=\"Gaga\",Gaga!B317,IF($B$10=\"Treguine\",Treguine!B317,IF($B$10=\"Bredjing\",Bredjing!B317,\"\"))))","v":0},{"$f":"IF($B$10=\"Farchana\",Farchana!C298,IF($B$10=\"Gaga\",Gaga!C317,IF($B$10=\"Treguine\",Treguine!C317,IF($B$10=\"Bredjing\",Bredjing!C317,\"\"))))","v":0},null,null,{"$f":"IF($B$10=\"Farchana\",Farchana!G298,IF($B$10=\"Gaga\",Gaga!I317,IF($B$10=\"Treguine\",Treguine!G317,IF($B$10=\"Bredjing\",Bredjing!G317,\"\"))))","v":""}]
[{"$f":"IF($B$10=\"Farchana\",Farchana!A299,IF($B$10=\"Gaga\",Gaga!A318,IF($B$10=\"Treguine\",Treguine!A318,IF($B$10=\"Bredjing\",Bredjing!A318,\"\"))))","v":0},{"$f":"IF($B$10=\"Farchana\",Farchana!B299,IF($B$10=\"Gaga\",Gaga!B318,IF($B$10=\"Treguine\",Treguine!B318,IF($B$10=\"Bredjing\",Bredjing!B318,\"\"))))","v":0},{"$f":"IF($B$10=\"Farchana\",Farchana!C299,IF($B$10=\"Gaga\",Gaga!C318,IF($B$10=\"Treguine\",Treguine!C318,IF($B$10=\"Bredjing\",Bredjing!C318,\"\"))))","v":0},null,null,{"$f":"IF($B$10=\"Farchana\",Farchana!G299,IF($B$10=\"Gaga\",Gaga!I318,IF($B$10=\"Treguine\",Treguine!G318,IF($B$10=\"Bredjing\",Bredjing!G318,\"\"))))","v":""}]
[{"$f":"IF($B$10=\"Farchana\",Farchana!A300,IF($B$10=\"Gaga\",Gaga!A319,IF($B$10=\"Treguine\",Treguine!A319,IF($B$10=\"Bredjing\",Bredjing!A319,\"\"))))","v":0},{"$f":"IF($B$10=\"Farchana\",Farchana!B300,IF($B$10=\"Gaga\",Gaga!B319,IF($B$10=\"Treguine\",Treguine!B319,IF($B$10=\"Bredjing\",Bredjing!B319,\"\"))))","v":0},{"$f":"IF($B$10=\"Farchana\",Farchana!C300,IF($B$10=\"Gaga\",Gaga!C319,IF($B$10=\"Treguine\",Treguine!C319,IF($B$10=\"Bredjing\",Bredjing!C319,\"\"))))","v":0},null,null,{"$f":"IF($B$10=\"Farchana\",Farchana!G300,IF($B$10=\"Gaga\",Gaga!I319,IF($B$10=\"Treguine\",Treguine!G319,IF($B$10=\"Bredjing\",Bredjing!G319,\"\"))))","v":""}]
[{"$f":"IF($B$10=\"Farchana\",Farchana!A301,IF($B$10=\"Gaga\",Gaga!A320,IF($B$10=\"Treguine\",Treguine!A320,IF($B$10=\"Bredjing\",Bredjing!A320,\"\"))))","v":0},{"$f":"IF($B$10=\"Farchana\",Farchana!B301,IF($B$10=\"Gaga\",Gaga!B320,IF($B$10=\"Treguine\",Treguine!B320,IF($B$10=\"Bredjing\",Bredjing!B320,\"\"))))","v":0},{"$f":"IF($B$10=\"Farchana\",Farchana!C301,IF($B$10=\"Gaga\",Gaga!C320,IF($B$10=\"Treguine\",Treguine!C320,IF($B$10=\"Bredjing\",Bredjing!C320,\"\"))))","v":0},null,null,{"$f":"IF($B$10=\"Farchana\",Farchana!G301,IF($B$10=\"Gaga\",Gaga!I320,IF($B$10=\"Treguine\",Treguine!G320,IF($B$10=\"Bredjing\",Bredjing!G320,\"\"))))","v":""}]
[{"$f":"IF($B$10=\"Farchana\",Farchana!A302,IF($B$10=\"Gaga\",Gaga!A321,IF($B$10=\"Treguine\",Treguine!A321,IF($B$10=\"Bredjing\",Bredjing!A321,\"\"))))","v":0},{"$f":"IF($B$10=\"Farchana\",Farchana!B302,IF($B$10=\"Gaga\",Gaga!B321,IF($B$10=\"Treguine\",Treguine!B321,IF($B$10=\"Bredjing\",Bredjing!B321,\"\"))))","v":0},{"$f":"IF($B$10=\"Farchana\",Farchana!C302,IF($B$10=\"Gaga\",Gaga!C321,IF($B$10=\"Treguine\",Treguine!C321,IF($B$10=\"Bredjing\",Bredjing!C321,\"\"))))","v":0},null,null,{"$f":"IF($B$10=\"Farchana\",Farchana!G302,IF($B$10=\"Gaga\",Gaga!I321,IF($B$10=\"Treguine\",Treguine!G321,IF($B$10=\"Bredjing\",Bredjing!G321,\"\"))))","v":""}]
[{"$f":"IF($B$10=\"Farchana\",Farchana!A303,IF($B$10=\"Gaga\",Gaga!A322,IF($B$10=\"Treguine\",Treguine!A322,IF($B$10=\"Bredjing\",Bredjing!A322,\"\"))))","v":0},{"$f":"IF($B$10=\"Farchana\",Farchana!B303,IF($B$10=\"Gaga\",Gaga!B322,IF($B$10=\"Treguine\",Treguine!B322,IF($B$10=\"Bredjing\",Bredjing!B322,\"\"))))","v":0},{"$f":"IF($B$10=\"Farchana\",Farchana!C303,IF($B$10=\"Gaga\",Gaga!C322,IF($B$10=\"Treguine\",Treguine!C322,IF($B$10=\"Bredjing\",Bredjing!C322,\"\"))))","v":0},null,null,{"$f":"IF($B$10=\"Farchana\",Farchana!G303,IF($B$10=\"Gaga\",Gaga!I322,IF($B$10=\"Treguine\",Treguine!G322,IF($B$10=\"Bredjing\",Bredjing!G322,\"\"))))","v":""}]
[{"$f":"IF($B$10=\"Farchana\",Farchana!A304,IF($B$10=\"Gaga\",Gaga!A323,IF($B$10=\"Treguine\",Treguine!A323,IF($B$10=\"Bredjing\",Bredjing!A323,\"\"))))","v":0},{"$f":"IF($B$10=\"Farchana\",Farchana!B304,IF($B$10=\"Gaga\",Gaga!B323,IF($B$10=\"Treguine\",Treguine!B323,IF($B$10=\"Bredjing\",Bredjing!B323,\"\"))))","v":0},{"$f":"IF($B$10=\"Farchana\",Farchana!C304,IF($B$10=\"Gaga\",Gaga!C323,IF($B$10=\"Treguine\",Treguine!C323,IF($B$10=\"Bredjing\",Bredjing!C323,\"\"))))","v":0},null,null,{"$f":"IF($B$10=\"Farchana\",Farchana!G304,IF($B$10=\"Gaga\",Gaga!I323,IF($B$10=\"Treguine\",Treguine!G323,IF($B$10=\"Bredjing\",Bredjing!G323,\"\"))))","v":""}]
[{"$f":"IF($B$10=\"Farchana\",Farchana!A305,IF($B$10=\"Gaga\",Gaga!A324,IF($B$10=\"Treguine\",Treguine!A324,IF($B$10=\"Bredjing\",Bredjing!A324,\"\"))))","v":0},{"$f":"IF($B$10=\"Farchana\",Farchana!B305,IF($B$10=\"Gaga\",Gaga!B324,IF($B$10=\"Treguine\",Treguine!B324,IF($B$10=\"Bredjing\",Bredjing!B324,\"\"))))","v":0},{"$f":"IF($B$10=\"Farchana\",Farchana!C305,IF($B$10=\"Gaga\",Gaga!C324,IF($B$10=\"Treguine\",Treguine!C324,IF($B$10=\"Bredjing\",Bredjing!C324,\"\"))))","v":0},null,null,{"$f":"IF($B$10=\"Farchana\",Farchana!G305,IF($B$10=\"Gaga\",Gaga!I324,IF($B$10=\"Treguine\",Treguine!G324,IF($B$10=\"Bredjing\",Bredjing!G324,\"\"))))","v":""}]
[{"$f":"IF($B$10=\"Farchana\",Farchana!A306,IF($B$10=\"Gaga\",Gaga!A325,IF($B$10=\"Treguine\",Treguine!A325,IF($B$10=\"Bredjing\",Bredjing!A325,\"\"))))","v":0},{"$f":"IF($B$10=\"Farchana\",Farchana!B306,IF($B$10=\"Gaga\",Gaga!B325,IF($B$10=\"Treguine\",Treguine!B325,IF($B$10=\"Bredjing\",Bredjing!B325,\"\"))))","v":0},{"$f":"IF($B$10=\"Farchana\",Farchana!C306,IF($B$10=\"Gaga\",Gaga!C325,IF($B$10=\"Treguine\",Treguine!C325,IF($B$10=\"Bredjing\",Bredjing!C325,\"\"))))","v":0},null,null,{"$f":"IF($B$10=\"Farchana\",Farchana!G306,IF($B$10=\"Gaga\",Gaga!I325,IF($B$10=\"Treguine\",Treguine!G325,IF($B$10=\"Bredjing\",Bredjing!G325,\"\"))))","v":""}]
[{"$f":"IF($B$10=\"Farchana\",Farchana!A307,IF($B$10=\"Gaga\",Gaga!A326,IF($B$10=\"Treguine\",Treguine!A326,IF($B$10=\"Bredjing\",Bredjing!A326,\"\"))))","v":0},{"$f":"IF($B$10=\"Farchana\",Farchana!B307,IF($B$10=\"Gaga\",Gaga!B326,IF($B$10=\"Treguine\",Treguine!B326,IF($B$10=\"Bredjing\",Bredjing!B326,\"\"))))","v":0},{"$f":"IF($B$10=\"Farchana\",Farchana!C307,IF($B$10=\"Gaga\",Gaga!C326,IF($B$10=\"Treguine\",Treguine!C326,IF($B$10=\"Bredjing\",Bredjing!C326,\"\"))))","v":0},null,null,{"$f":"IF($B$10=\"Farchana\",Farchana!G307,IF($B$10=\"Gaga\",Gaga!I326,IF($B$10=\"Treguine\",Treguine!G326,IF($B$10=\"Bredjing\",Bredjing!G326,\"\"))))","v":""}]
[{"$f":"IF($B$10=\"Farchana\",Farchana!A308,IF($B$10=\"Gaga\",Gaga!A327,IF($B$10=\"Treguine\",Treguine!A327,IF($B$10=\"Bredjing\",Bredjing!A327,\"\"))))","v":0},{"$f":"IF($B$10=\"Farchana\",Farchana!B308,IF($B$10=\"Gaga\",Gaga!B327,IF($B$10=\"Treguine\",Treguine!B327,IF($B$10=\"Bredjing\",Bredjing!B327,\"\"))))","v":0},{"$f":"IF($B$10=\"Farchana\",Farchana!C308,IF($B$10=\"Gaga\",Gaga!C327,IF($B$10=\"Treguine\",Treguine!C327,IF($B$10=\"Bredjing\",Bredjing!C327,\"\"))))","v":0},null,null,{"$f":"IF($B$10=\"Farchana\",Farchana!G308,IF($B$10=\"Gaga\",Gaga!I327,IF($B$10=\"Treguine\",Treguine!G327,IF($B$10=\"Bredjing\",Bredjing!G327,\"\"))))","v":""}]
[{"$f":"IF($B$10=\"Farchana\",Farchana!A309,IF($B$10=\"Gaga\",Gaga!A328,IF($B$10=\"Treguine\",Treguine!A328,IF($B$10=\"Bredjing\",Bredjing!A328,\"\"))))","v":0},{"$f":"IF($B$10=\"Farchana\",Farchana!B309,IF($B$10=\"Gaga\",Gaga!B328,IF($B$10=\"Treguine\",Treguine!B328,IF($B$10=\"Bredjing\",Bredjing!B328,\"\"))))","v":0},{"$f":"IF($B$10=\"Farchana\",Farchana!C309,IF($B$10=\"Gaga\",Gaga!C328,IF($B$10=\"Treguine\",Treguine!C328,IF($B$10=\"Bredjing\",Bredjing!C328,\"\"))))","v":0},null,null,{"$f":"IF($B$10=\"Farchana\",Farchana!G309,IF($B$10=\"Gaga\",Gaga!I328,IF($B$10=\"Treguine\",Treguine!G328,IF($B$10=\"Bredjing\",Bredjing!G328,\"\"))))","v":""}]
[{"$f":"IF($B$10=\"Farchana\",Farchana!A310,IF($B$10=\"Gaga\",Gaga!A329,IF($B$10=\"Treguine\",Treguine!A329,IF($B$10=\"Bredjing\",Bredjing!A329,\"\"))))","v":0},{"$f":"IF($B$10=\"Farchana\",Farchana!B310,IF($B$10=\"Gaga\",Gaga!B329,IF($B$10=\"Treguine\",Treguine!B329,IF($B$10=\"Bredjing\",Bredjing!B329,\"\"))))","v":0},{"$f":"IF($B$10=\"Farchana\",Farchana!C310,IF($B$10=\"Gaga\",Gaga!C329,IF($B$10=\"Treguine\",Treguine!C329,IF($B$10=\"Bredjing\",Bredjing!C329,\"\"))))","v":0},null,null,{"$f":"IF($B$10=\"Farchana\",Farchana!G310,IF($B$10=\"Gaga\",Gaga!I329,IF($B$10=\"Treguine\",Treguine!G329,IF($B$10=\"Bredjing\",Bredjing!G329,\"\"))))","v":""}]
[{"$f":"IF($B$10=\"Farchana\",Farchana!A311,IF($B$10=\"Gaga\",Gaga!A330,IF($B$10=\"Treguine\",Treguine!A330,IF($B$10=\"Bredjing\",Bredjing!A330,\"\"))))","v":0},{"$f":"IF($B$10=\"Farchana\",Farchana!B311,IF($B$10=\"Gaga\",Gaga!B330,IF($B$10=\"Treguine\",Treguine!B330,IF($B$10=\"Bredjing\",Bredjing!B330,\"\"))))","v":0},{"$f":"IF($B$10=\"Farchana\",Farchana!C311,IF($B$10=\"Gaga\",Gaga!C330,IF($B$10=\"Treguine\",Treguine!C330,IF($B$10=\"Bredjing\",Bredjing!C330,\"\"))))","v":0},null,null,{"$f":"IF($B$10=\"Farchana\",Farchana!G311,IF($B$10=\"Gaga\",Gaga!I330,IF($B$10=\"Treguine\",Treguine!G330,IF($B$10=\"Bredjing\",Bredjing!G330,\"\"))))","v":""}]
[{"$f":"IF($B$10=\"Farchana\",Farchana!A312,IF($B$10=\"Gaga\",Gaga!A331,IF($B$10=\"Treguine\",Treguine!A331,IF($B$10=\"Bredjing\",Bredjing!A331,\"\"))))","v":0},{"$f":"IF($B$10=\"Farchana\",Farchana!B312,IF($B$10=\"Gaga\",Gaga!B331,IF($B$10=\"Treguine\",Treguine!B331,IF($B$10=\"Bredjing\",Bredjing!B331,\"\"))))","v":0},{"$f":"IF($B$10=\"Farchana\",Farchana!C312,IF($B$10=\"Gaga\",Gaga!C331,IF($B$10=\"Treguine\",Treguine!C331,IF($B$10=\"Bredjing\",Bredjing!C331,\"\"))))","v":0},null,null,{"$f":"IF($B$10=\"Farchana\",Farchana!G312,IF($B$10=\"Gaga\",Gaga!I331,IF($B$10=\"Treguine\",Treguine!G331,IF($B$10=\"Bredjing\",Bredjing!G331,\"\"))))","v":""}]
[{"$f":"IF($B$10=\"Farchana\",Farchana!A313,IF($B$10=\"Gaga\",Gaga!A332,IF($B$10=\"Treguine\",Treguine!A332,IF($B$10=\"Bredjing\",Bredjing!A332,\"\"))))","v":0},{"$f":"IF($B$10=\"Farchana\",Farchana!B313,IF($B$10=\"Gaga\",Gaga!B332,IF($B$10=\"Treguine\",Treguine!B332,IF($B$10=\"Bredjing\",Bredjing!B332,\"\"))))","v":0},{"$f":"IF($B$10=\"Farchana\",Farchana!C313,IF($B$10=\"Gaga\",Gaga!C332,IF($B$10=\"Treguine\",Treguine!C332,IF($B$10=\"Bredjing\",Bredjing!C332,\"\"))))","v":0},null,null,{"$f":"IF($B$10=\"Farchana\",Farchana!G313,IF($B$10=\"Gaga\",Gaga!I332,IF($B$10=\"Treguine\",Treguine!G332,IF($B$10=\"Bredjing\",Bredjing!G332,\"\"))))","v":""}]
[{"$f":"IF($B$10=\"Farchana\",Farchana!A314,IF($B$10=\"Gaga\",Gaga!A333,IF($B$10=\"Treguine\",Treguine!A333,IF($B$10=\"Bredjing\",Bredjing!A333,\"\"))))","v":0},{"$f":"IF($B$10=\"Farchana\",Farchana!B314,IF($B$10=\"Gaga\",Gaga!B333,IF($B$10=\"Treguine\",Treguine!B333,IF($B$10=\"Bredjing\",Bredjing!B333,\"\"))))","v":0},{"$f":"IF($B$10=\"Farchana\",Farchana!C314,IF($B$10=\"Gaga\",Gaga!C333,IF($B$10=\"Treguine\",Treguine!C333,IF($B$10=\"Bredjing\",Bredjing!C333,\"\"))))","v":0},null,null,{"$f":"IF($B$10=\"Farchana\",Farchana!G314,IF($B$10=\"Gaga\",Gaga!I333,IF($B$10=\"Treguine\",Treguine!G333,IF($B$10=\"Bredjing\",Bredjing!G333,\"\"))))","v":""}]
[{"$f":"IF($B$10=\"Farchana\",Farchana!A315,IF($B$10=\"Gaga\",Gaga!A334,IF($B$10=\"Treguine\",Treguine!A334,IF($B$10=\"Bredjing\",Bredjing!A334,\"\"))))","v":0},{"$f":"IF($B$10=\"Farchana\",Farchana!B315,IF($B$10=\"Gaga\",Gaga!B334,IF($B$10=\"Treguine\",Treguine!B334,IF($B$10=\"Bredjing\",Bredjing!B334,\"\"))))","v":0},{"$f":"IF($B$10=\"Farchana\",Farchana!C315,IF($B$10=\"Gaga\",Gaga!C334,IF($B$10=\"Treguine\",Treguine!C334,IF($B$10=\"Bredjing\",Bredjing!C334,\"\"))))","v":0},null,null,{"$f":"IF($B$10=\"Farchana\",Farchana!G315,IF($B$10=\"Gaga\",Gaga!I334,IF($B$10=\"Treguine\",Treguine!G334,IF($B$10=\"Bredjing\",Bredjing!G334,\"\"))))","v":""}]
[{"$f":"IF($B$10=\"Farchana\",Farchana!A316,IF($B$10=\"Gaga\",Gaga!A335,IF($B$10=\"Treguine\",Treguine!A335,IF($B$10=\"Bredjing\",Bredjing!A335,\"\"))))","v":0},{"$f":"IF($B$10=\"Farchana\",Farchana!B316,IF($B$10=\"Gaga\",Gaga!B335,IF($B$10=\"Treguine\",Treguine!B335,IF($B$10=\"Bredjing\",Bredjing!B335,\"\"))))","v":0},{"$f":"IF($B$10=\"Farchana\",Farchana!C316,IF($B$10=\"Gaga\",Gaga!C335,IF($B$10=\"Treguine\",Treguine!C335,IF($B$10=\"Bredjing\",Bredjing!C335,\"\"))))","v":0},null,null,{"$f":"IF($B$10=\"Farchana\",Farchana!G316,IF($B$10=\"Gaga\",Gaga!I335,IF($B$10=\"Treguine\",Treguine!G335,IF($B$10=\"Bredjing\",Bredjing!G335,\"\"))))","v":""}]
[{"$f":"IF($B$10=\"Farchana\",Farchana!A317,IF($B$10=\"Gaga\",Gaga!A336,IF($B$10=\"Treguine\",Treguine!A336,IF($B$10=\"Bredjing\",Bredjing!A336,\"\"))))","v":0},{"$f":"IF($B$10=\"Farchana\",Farchana!B317,IF($B$10=\"Gaga\",Gaga!B336,IF($B$10=\"Treguine\",Treguine!B336,IF($B$10=\"Bredjing\",Bredjing!B336,\"\"))))","v":0},{"$f":"IF($B$10=\"Farchana\",Farchana!C317,IF($B$10=\"Gaga\",Gaga!C336,IF($B$10=\"Treguine\",Treguine!C336,IF($B$10=\"Bredjing\",Bredjing!C336,\"\"))))","v":0},null,null,{"$f":"IF($B$10=\"Farchana\",Farchana!G317,IF($B$10=\"Gaga\",Gaga!I336,IF($B$10=\"Treguine\",Treguine!G336,IF($B$10=\"Bredjing\",Bredjing!G336,\"\"))))","v":""}]
[{"$f":"IF($B$10=\"Farchana\",Farchana!A318,IF($B$10=\"Gaga\",Gaga!A337,IF($B$10=\"Treguine\",Treguine!A337,IF($B$10=\"Bredjing\",Bredjing!A337,\"\"))))","v":0},{"$f":"IF($B$10=\"Farchana\",Farchana!B318,IF($B$10=\"Gaga\",Gaga!B337,IF($B$10=\"Treguine\",Treguine!B337,IF($B$10=\"Bredjing\",Bredjing!B337,\"\"))))","v":0},{"$f":"IF($B$10=\"Farchana\",Farchana!C318,IF($B$10=\"Gaga\",Gaga!C337,IF($B$10=\"Treguine\",Treguine!C337,IF($B$10=\"Bredjing\",Bredjing!C337,\"\"))))","v":0},null,null,{"$f":"IF($B$10=\"Farchana\",Farchana!G318,IF($B$10=\"Gaga\",Gaga!I337,IF($B$10=\"Treguine\",Treguine!G337,IF($B$10=\"Bredjing\",Bredjing!G337,\"\"))))","v":""}]
[{"$f":"IF($B$10=\"Farchana\",Farchana!A319,IF($B$10=\"Gaga\",Gaga!A338,IF($B$10=\"Treguine\",Treguine!A338,IF($B$10=\"Bredjing\",Bredjing!A338,\"\"))))","v":0},{"$f":"IF($B$10=\"Farchana\",Farchana!B319,IF($B$10=\"Gaga\",Gaga!B338,IF($B$10=\"Treguine\",Treguine!B338,IF($B$10=\"Bredjing\",Bredjing!B338,\"\"))))","v":0},{"$f":"IF($B$10=\"Farchana\",Farchana!C319,IF($B$10=\"Gaga\",Gaga!C338,IF($B$10=\"Treguine\",Treguine!C338,IF($B$10=\"Bredjing\",Bredjing!C338,\"\"))))","v":0},null,null,{"$f":"IF($B$10=\"Farchana\",Farchana!G319,IF($B$10=\"Gaga\",Gaga!I338,IF($B$10=\"Treguine\",Treguine!G338,IF($B$10=\"Bredjing\",Bredjing!G338,\"\"))))","v":""}]
[{"$f":"IF($B$10=\"Farchana\",Farchana!A320,IF($B$10=\"Gaga\",Gaga!A339,IF($B$10=\"Treguine\",Treguine!A339,IF($B$10=\"Bredjing\",Bredjing!A339,\"\"))))","v":0},{"$f":"IF($B$10=\"Farchana\",Farchana!B320,IF($B$10=\"Gaga\",Gaga!B339,IF($B$10=\"Treguine\",Treguine!B339,IF($B$10=\"Bredjing\",Bredjing!B339,\"\"))))","v":0},{"$f":"IF($B$10=\"Farchana\",Farchana!C320,IF($B$10=\"Gaga\",Gaga!C339,IF($B$10=\"Treguine\",Treguine!C339,IF($B$10=\"Bredjing\",Bredjing!C339,\"\"))))","v":0},null,null,{"$f":"IF($B$10=\"Farchana\",Farchana!G320,IF($B$10=\"Gaga\",Gaga!I339,IF($B$10=\"Treguine\",Treguine!G339,IF($B$10=\"Bredjing\",Bredjing!G339,\"\"))))","v":""}]
[{"$f":"IF($B$10=\"Farchana\",Farchana!A321,IF($B$10=\"Gaga\",Gaga!A340,IF($B$10=\"Treguine\",Treguine!A340,IF($B$10=\"Bredjing\",Bredjing!A340,\"\"))))","v":0},{"$f":"IF($B$10=\"Farchana\",Farchana!B321,IF($B$10=\"Gaga\",Gaga!B340,IF($B$10=\"Treguine\",Treguine!B340,IF($B$10=\"Bredjing\",Bredjing!B340,\"\"))))","v":0},{"$f":"IF($B$10=\"Farchana\",Farchana!C321,IF($B$10=\"Gaga\",Gaga!C340,IF($B$10=\"Treguine\",Treguine!C340,IF($B$10=\"Bredjing\",Bredjing!C340,\"\"))))","v":0},null,null,{"$f":"IF($B$10=\"Farchana\",Farchana!G321,IF($B$10=\"Gaga\",Gaga!I340,IF($B$10=\"Treguine\",Treguine!G340,IF($B$10=\"Bredjing\",Bredjing!G340,\"\"))))","v":""}]
[{"$f":"IF($B$10=\"Farchana\",Farchana!A322,IF($B$10=\"Gaga\",Gaga!A341,IF($B$10=\"Treguine\",Treguine!A341,IF($B$10=\"Bredjing\",Bredjing!A341,\"\"))))","v":0},{"$f":"IF($B$10=\"Farchana\",Farchana!B322,IF($B$10=\"Gaga\",Gaga!B341,IF($B$10=\"Treguine\",Treguine!B341,IF($B$10=\"Bredjing\",Bredjing!B341,\"\"))))","v":0},{"$f":"IF($B$10=\"Farchana\",Farchana!C322,IF($B$10=\"Gaga\",Gaga!C341,IF($B$10=\"Treguine\",Treguine!C341,IF($B$10=\"Bredjing\",Bredjing!C341,\"\"))))","v":0},null,null,{"$f":"IF($B$10=\"Farchana\",Farchana!G322,IF($B$10=\"Gaga\",Gaga!I341,IF($B$10=\"Treguine\",Treguine!G341,IF($B$10=\"Bredjing\",Bredjing!G341,\"\"))))","v":""}]
[{"$f":"IF($B$10=\"Farchana\",Farchana!A323,IF($B$10=\"Gaga\",Gaga!A342,IF($B$10=\"Treguine\",Treguine!A342,IF($B$10=\"Bredjing\",Bredjing!A342,\"\"))))","v":0},{"$f":"IF($B$10=\"Farchana\",Farchana!B323,IF($B$10=\"Gaga\",Gaga!B342,IF($B$10=\"Treguine\",Treguine!B342,IF($B$10=\"Bredjing\",Bredjing!B342,\"\"))))","v":0},{"$f":"IF($B$10=\"Farchana\",Farchana!C323,IF($B$10=\"Gaga\",Gaga!C342,IF($B$10=\"Treguine\",Treguine!C342,IF($B$10=\"Bredjing\",Bredjing!C342,\"\"))))","v":0},null,null,{"$f":"IF($B$10=\"Farchana\",Farchana!G323,IF($B$10=\"Gaga\",Gaga!I342,IF($B$10=\"Treguine\",Treguine!G342,IF($B$10=\"Bredjing\",Bredjing!G342,\"\"))))","v":""}]
[{"$f":"IF($B$10=\"Farchana\",Farchana!A324,IF($B$10=\"Gaga\",Gaga!A343,IF($B$10=\"Treguine\",Treguine!A343,IF($B$10=\"Bredjing\",Bredjing!A343,\"\"))))","v":0},{"$f":"IF($B$10=\"Farchana\",Farchana!B324,IF($B$10=\"Gaga\",Gaga!B343,IF($B$10=\"Treguine\",Treguine!B343,IF($B$10=\"Bredjing\",Bredjing!B343,\"\"))))","v":0},{"$f":"IF($B$10=\"Farchana\",Farchana!C324,IF($B$10=\"Gaga\",Gaga!C343,IF($B$10=\"Treguine\",Treguine!C343,IF($B$10=\"Bredjing\",Bredjing!C343,\"\"))))","v":0},null,null,{"$f":"IF($B$10=\"Farchana\",Farchana!G324,IF($B$10=\"Gaga\",Gaga!I343,IF($B$10=\"Treguine\",Treguine!G343,IF($B$10=\"Bredjing\",Bredjing!G343,\"\"))))","v":""}]
[{"$f":"IF($B$10=\"Farchana\",Farchana!A325,IF($B$10=\"Gaga\",Gaga!A344,IF($B$10=\"Treguine\",Treguine!A344,IF($B$10=\"Bredjing\",Bredjing!A344,\"\"))))","v":0},{"$f":"IF($B$10=\"Farchana\",Farchana!B325,IF($B$10=\"Gaga\",Gaga!B344,IF($B$10=\"Treguine\",Treguine!B344,IF($B$10=\"Bredjing\",Bredjing!B344,\"\"))))","v":0},{"$f":"IF($B$10=\"Farchana\",Farchana!C325,IF($B$10=\"Gaga\",Gaga!C344,IF($B$10=\"Treguine\",Treguine!C344,IF($B$10=\"Bredjing\",Bredjing!C344,\"\"))))","v":0},null,null,{"$f":"IF($B$10=\"Farchana\",Farchana!G325,IF($B$10=\"Gaga\",Gaga!I344,IF($B$10=\"Treguine\",Treguine!G344,IF($B$10=\"Bredjing\",Bredjing!G344,\"\"))))","v":""}]
[{"$f":"IF($B$10=\"Farchana\",Farchana!A326,IF($B$10=\"Gaga\",Gaga!A345,IF($B$10=\"Treguine\",Treguine!A345,IF($B$10=\"Bredjing\",Bredjing!A345,\"\"))))","v":0},{"$f":"IF($B$10=\"Farchana\",Farchana!B326,IF($B$10=\"Gaga\",Gaga!B345,IF($B$10=\"Treguine\",Treguine!B345,IF($B$10=\"Bredjing\",Bredjing!B345,\"\"))))","v":0},{"$f":"IF($B$10=\"Farchana\",Farchana!C326,IF($B$10=\"Gaga\",Gaga!C345,IF($B$10=\"Treguine\",Treguine!C345,IF($B$10=\"Bredjing\",Bredjing!C345,\"\"))))","v":0},null,null,{"$f":"IF($B$10=\"Farchana\",Farchana!G326,IF($B$10=\"Gaga\",Gaga!I345,IF($B$10=\"Treguine\",Treguine!G345,IF($B$10=\"Bredjing\",Bredjing!G345,\"\"))))","v":""}]
[{"$f":"IF($B$10=\"Farchana\",Farchana!A327,IF($B$10=\"Gaga\",Gaga!A346,IF($B$10=\"Treguine\",Treguine!A346,IF($B$10=\"Bredjing\",Bredjing!A346,\"\"))))","v":0},{"$f":"IF($B$10=\"Farchana\",Farchana!B327,IF($B$10=\"Gaga\",Gaga!B346,IF($B$10=\"Treguine\",Treguine!B346,IF($B$10=\"Bredjing\",Bredjing!B346,\"\"))))","v":0},{"$f":"IF($B$10=\"Farchana\",Farchana!C327,IF($B$10=\"Gaga\",Gaga!C346,IF($B$10=\"Treguine\",Treguine!C346,IF($B$10=\"Bredjing\",Bredjing!C346,\"\"))))","v":0},null,null,{"$f":"IF($B$10=\"Farchana\",Farchana!G327,IF($B$10=\"Gaga\",Gaga!I346,IF($B$10=\"Treguine\",Treguine!G346,IF($B$10=\"Bredjing\",Bredjing!G346,\"\"))))","v":""}]
[{"$f":"IF($B$10=\"Farchana\",Farchana!A328,IF($B$10=\"Gaga\",Gaga!A347,IF($B$10=\"Treguine\",Treguine!A347,IF($B$10=\"Bredjing\",Bredjing!A347,\"\"))))","v":0},{"$f":"IF($B$10=\"Farchana\",Farchana!B328,IF($B$10=\"Gaga\",Gaga!B347,IF($B$10=\"Treguine\",Treguine!B347,IF($B$10=\"Bredjing\",Bredjing!B347,\"\"))))","v":0},{"$f":"IF($B$10=\"Farchana\",Farchana!C328,IF($B$10=\"Gaga\",Gaga!C347,IF($B$10=\"Treguine\",Treguine!C347,IF($B$10=\"Bredjing\",Bredjing!C347,\"\"))))","v":0},null,null,{"$f":"IF($B$10=\"Farchana\",Farchana!G328,IF($B$10=\"Gaga\",Gaga!I347,IF($B$10=\"Treguine\",Treguine!G347,IF($B$10=\"Bredjing\",Bredjing!G347,\"\"))))","v":""}]
[{"$f":"IF($B$10=\"Farchana\",Farchana!A329,IF($B$10=\"Gaga\",Gaga!A348,IF($B$10=\"Treguine\",Treguine!A348,IF($B$10=\"Bredjing\",Bredjing!A348,\"\"))))","v":0},{"$f":"IF($B$10=\"Farchana\",Farchana!B329,IF($B$10=\"Gaga\",Gaga!B348,IF($B$10=\"Treguine\",Treguine!B348,IF($B$10=\"Bredjing\",Bredjing!B348,\"\"))))","v":0},{"$f":"IF($B$10=\"Farchana\",Farchana!C329,IF($B$10=\"Gaga\",Gaga!C348,IF($B$10=\"Treguine\",Treguine!C348,IF($B$10=\"Bredjing\",Bredjing!C348,\"\"))))","v":0},null,null,{"$f":"IF($B$10=\"Farchana\",Farchana!G329,IF($B$10=\"Gaga\",Gaga!I348,IF($B$10=\"Treguine\",Treguine!G348,IF($B$10=\"Bredjing\",Bredjing!G348,\"\"))))","v":""}]
[{"$f":"IF($B$10=\"Farchana\",Farchana!A330,IF($B$10=\"Gaga\",Gaga!A349,IF($B$10=\"Treguine\",Treguine!A349,IF($B$10=\"Bredjing\",Bredjing!A349,\"\"))))","v":0},{"$f":"IF($B$10=\"Farchana\",Farchana!B330,IF($B$10=\"Gaga\",Gaga!B349,IF($B$10=\"Treguine\",Treguine!B349,IF($B$10=\"Bredjing\",Bredjing!B349,\"\"))))","v":0},{"$f":"IF($B$10=\"Farchana\",Farchana!C330,IF($B$10=\"Gaga\",Gaga!C349,IF($B$10=\"Treguine\",Treguine!C349,IF($B$10=\"Bredjing\",Bredjing!C349,\"\"))))","v":0},null,null,{"$f":"IF($B$10=\"Farchana\",Farchana!G330,IF($B$10=\"Gaga\",Gaga!I349,IF($B$10=\"Treguine\",Treguine!G349,IF($B$10=\"Bredjing\",Bredjing!G349,\"\"))))","v":""}]
[{"$f":"IF($B$10=\"Farchana\",Farchana!A331,IF($B$10=\"Gaga\",Gaga!A350,IF($B$10=\"Treguine\",Treguine!A350,IF($B$10=\"Bredjing\",Bredjing!A350,\"\"))))","v":0},{"$f":"IF($B$10=\"Farchana\",Farchana!B331,IF($B$10=\"Gaga\",Gaga!B350,IF($B$10=\"Treguine\",Treguine!B350,IF($B$10=\"Bredjing\",Bredjing!B350,\"\"))))","v":0},{"$f":"IF($B$10=\"Farchana\",Farchana!C331,IF($B$10=\"Gaga\",Gaga!C350,IF($B$10=\"Treguine\",Treguine!C350,IF($B$10=\"Bredjing\",Bredjing!C350,\"\"))))","v":0},null,null,{"$f":"IF($B$10=\"Farchana\",Farchana!G331,IF($B$10=\"Gaga\",Gaga!I350,IF($B$10=\"Treguine\",Treguine!G350,IF($B$10=\"Bredjing\",Bredjing!G350,\"\"))))","v":""}]
[{"$f":"IF($B$10=\"Farchana\",Farchana!A332,IF($B$10=\"Gaga\",Gaga!A351,IF($B$10=\"Treguine\",Treguine!A351,IF($B$10=\"Bredjing\",Bredjing!A351,\"\"))))","v":0},{"$f":"IF($B$10=\"Farchana\",Farchana!B332,IF($B$10=\"Gaga\",Gaga!B351,IF($B$10=\"Treguine\",Treguine!B351,IF($B$10=\"Bredjing\",Bredjing!B351,\"\"))))","v":0},{"$f":"IF($B$10=\"Farchana\",Farchana!C332,IF($B$10=\"Gaga\",Gaga!C351,IF($B$10=\"Treguine\",Treguine!C351,IF($B$10=\"Bredjing\",Bredjing!C351,\"\"))))","v":0},null,null,{"$f":"IF($B$10=\"Farchana\",Farchana!G332,IF($B$10=\"Gaga\",Gaga!I351,IF($B$10=\"Treguine\",Treguine!G351,IF($B$10=\"Bredjing\",Bredjing!G351,\"\"))))","v":""}]
[{"$f":"IF($B$10=\"Farchana\",Farchana!A333,IF($B$10=\"Gaga\",Gaga!A352,IF($B$10=\"Treguine\",Treguine!A352,IF($B$10=\"Bredjing\",Bredjing!A352,\"\"))))","v":0},{"$f":"IF($B$10=\"Farchana\",Farchana!B333,IF($B$10=\"Gaga\",Gaga!B352,IF($B$10=\"Treguine\",Treguine!B352,IF($B$10=\"Bredjing\",Bredjing!B352,\"\"))))","v":0},{"$f":"IF($B$10=\"Farchana\",Farchana!C333,IF($B$10=\"Gaga\",Gaga!C352,IF($B$10=\"Treguine\",Treguine!C352,IF($B$10=\"Bredjing\",Bredjing!C352,\"\"))))","v":0},null,null,{"$f":"IF($B$10=\"Farchana\",Farchana!G333,IF($B$10=\"Gaga\",Gaga!I352,IF($B$10=\"Treguine\",Treguine!G352,IF($B$10=\"Bredjing\",Bredjing!G352,\"\"))))","v":""}]
[{"$f":"IF($B$10=\"Farchana\",Farchana!A334,IF($B$10=\"Gaga\",Gaga!A353,IF($B$10=\"Treguine\",Treguine!A353,IF($B$10=\"Bredjing\",Bredjing!A353,\"\"))))","v":0},{"$f":"IF($B$10=\"Farchana\",Farchana!B334,IF($B$10=\"Gaga\",Gaga!B353,IF($B$10=\"Treguine\",Treguine!B353,IF($B$10=\"Bredjing\",Bredjing!B353,\"\"))))","v":0},{"$f":"IF($B$10=\"Farchana\",Farchana!C334,IF($B$10=\"Gaga\",Gaga!C353,IF($B$10=\"Treguine\",Treguine!C353,IF($B$10=\"Bredjing\",Bredjing!C353,\"\"))))","v":0},null,null,{"$f":"IF($B$10=\"Farchana\",Farchana!G334,IF($B$10=\"Gaga\",Gaga!I353,IF($B$10=\"Treguine\",Treguine!G353,IF($B$10=\"Bredjing\",Bredjing!G353,\"\"))))","v":""}]
[{"$f":"IF($B$10=\"Farchana\",Farchana!A335,IF($B$10=\"Gaga\",Gaga!A354,IF($B$10=\"Treguine\",Treguine!A354,IF($B$10=\"Bredjing\",Bredjing!A354,\"\"))))","v":0},{"$f":"IF($B$10=\"Farchana\",Farchana!B335,IF($B$10=\"Gaga\",Gaga!B354,IF($B$10=\"Treguine\",Treguine!B354,IF($B$10=\"Bredjing\",Bredjing!B354,\"\"))))","v":0},{"$f":"IF($B$10=\"Farchana\",Farchana!C335,IF($B$10=\"Gaga\",Gaga!C354,IF($B$10=\"Treguine\",Treguine!C354,IF($B$10=\"Bredjing\",Bredjing!C354,\"\"))))","v":0},null,null,{"$f":"IF($B$10=\"Farchana\",Farchana!G335,IF($B$10=\"Gaga\",Gaga!I354,IF($B$10=\"Treguine\",Treguine!G354,IF($B$10=\"Bredjing\",Bredjing!G354,\"\"))))","v":""}]
[{"$f":"IF($B$10=\"Farchana\",Farchana!A336,IF($B$10=\"Gaga\",Gaga!A355,IF($B$10=\"Treguine\",Treguine!A355,IF($B$10=\"Bredjing\",Bredjing!A355,\"\"))))","v":0},{"$f":"IF($B$10=\"Farchana\",Farchana!B336,IF($B$10=\"Gaga\",Gaga!B355,IF($B$10=\"Treguine\",Treguine!B355,IF($B$10=\"Bredjing\",Bredjing!B355,\"\"))))","v":0},{"$f":"IF($B$10=\"Farchana\",Farchana!C336,IF($B$10=\"Gaga\",Gaga!C355,IF($B$10=\"Treguine\",Treguine!C355,IF($B$10=\"Bredjing\",Bredjing!C355,\"\"))))","v":0},null,null,{"$f":"IF($B$10=\"Farchana\",Farchana!G336,IF($B$10=\"Gaga\",Gaga!I355,IF($B$10=\"Treguine\",Treguine!G355,IF($B$10=\"Bredjing\",Bredjing!G355,\"\"))))","v":""}]
[{"$f":"IF($B$10=\"Farchana\",Farchana!A337,IF($B$10=\"Gaga\",Gaga!A356,IF($B$10=\"Treguine\",Treguine!A356,IF($B$10=\"Bredjing\",Bredjing!A356,\"\"))))","v":0},{"$f":"IF($B$10=\"Farchana\",Farchana!B337,IF($B$10=\"Gaga\",Gaga!B356,IF($B$10=\"Treguine\",Treguine!B356,IF($B$10=\"Bredjing\",Bredjing!B356,\"\"))))","v":0},{"$f":"IF($B$10=\"Farchana\",Farchana!C337,IF($B$10=\"Gaga\",Gaga!C356,IF($B$10=\"Treguine\",Treguine!C356,IF($B$10=\"Bredjing\",Bredjing!C356,\"\"))))","v":0},null,null,{"$f":"IF($B$10=\"Farchana\",Farchana!G337,IF($B$10=\"Gaga\",Gaga!I356,IF($B$10=\"Treguine\",Treguine!G356,IF($B$10=\"Bredjing\",Bredjing!G356,\"\"))))","v":""}]
[{"$f":"IF($B$10=\"Farchana\",Farchana!A338,IF($B$10=\"Gaga\",Gaga!A357,IF($B$10=\"Treguine\",Treguine!A357,IF($B$10=\"Bredjing\",Bredjing!A357,\"\"))))","v":0},{"$f":"IF($B$10=\"Farchana\",Farchana!B338,IF($B$10=\"Gaga\",Gaga!B357,IF($B$10=\"Treguine\",Treguine!B357,IF($B$10=\"Bredjing\",Bredjing!B357,\"\"))))","v":0},{"$f":"IF($B$10=\"Farchana\",Farchana!C338,IF($B$10=\"Gaga\",Gaga!C357,IF($B$10=\"Treguine\",Treguine!C357,IF($B$10=\"Bredjing\",Bredjing!C357,\"\"))))","v":0},null,null,{"$f":"IF($B$10=\"Farchana\",Farchana!G338,IF($B$10=\"Gaga\",Gaga!I357,IF($B$10=\"Treguine\",Treguine!G357,IF($B$10=\"Bredjing\",Bredjing!G357,\"\"))))","v":""}]
[{"$f":"IF($B$10=\"Farchana\",Farchana!A339,IF($B$10=\"Gaga\",Gaga!A358,IF($B$10=\"Treguine\",Treguine!A358,IF($B$10=\"Bredjing\",Bredjing!A358,\"\"))))","v":0},{"$f":"IF($B$10=\"Farchana\",Farchana!B339,IF($B$10=\"Gaga\",Gaga!B358,IF($B$10=\"Treguine\",Treguine!B358,IF($B$10=\"Bredjing\",Bredjing!B358,\"\"))))","v":0},{"$f":"IF($B$10=\"Farchana\",Farchana!C339,IF($B$10=\"Gaga\",Gaga!C358,IF($B$10=\"Treguine\",Treguine!C358,IF($B$10=\"Bredjing\",Bredjing!C358,\"\"))))","v":0},null,null,{"$f":"IF($B$10=\"Farchana\",Farchana!G339,IF($B$10=\"Gaga\",Gaga!I358,IF($B$10=\"Treguine\",Treguine!G358,IF($B$10=\"Bredjing\",Bredjing!G358,\"\"))))","v":""}]
[{"$f":"IF($B$10=\"Farchana\",Farchana!A340,IF($B$10=\"Gaga\",Gaga!A359,IF($B$10=\"Treguine\",Treguine!A359,IF($B$10=\"Bredjing\",Bredjing!A359,\"\"))))","v":0},{"$f":"IF($B$10=\"Farchana\",Farchana!B340,IF($B$10=\"Gaga\",Gaga!B359,IF($B$10=\"Treguine\",Treguine!B359,IF($B$10=\"Bredjing\",Bredjing!B359,\"\"))))","v":0},{"$f":"IF($B$10=\"Farchana\",Farchana!C340,IF($B$10=\"Gaga\",Gaga!C359,IF($B$10=\"Treguine\",Treguine!C359,IF($B$10=\"Bredjing\",Bredjing!C359,\"\"))))","v":0},null,null,{"$f":"IF($B$10=\"Farchana\",Farchana!G340,IF($B$10=\"Gaga\",Gaga!I359,IF($B$10=\"Treguine\",Treguine!G359,IF($B$10=\"Bredjing\",Bredjing!G359,\"\"))))","v":""}]
[{"$f":"IF($B$10=\"Farchana\",Farchana!A341,IF($B$10=\"Gaga\",Gaga!A360,IF($B$10=\"Treguine\",Treguine!A360,IF($B$10=\"Bredjing\",Bredjing!A360,\"\"))))","v":0},{"$f":"IF($B$10=\"Farchana\",Farchana!B341,IF($B$10=\"Gaga\",Gaga!B360,IF($B$10=\"Treguine\",Treguine!B360,IF($B$10=\"Bredjing\",Bredjing!B360,\"\"))))","v":0},{"$f":"IF($B$10=\"Farchana\",Farchana!C341,IF($B$10=\"Gaga\",Gaga!C360,IF($B$10=\"Treguine\",Treguine!C360,IF($B$10=\"Bredjing\",Bredjing!C360,\"\"))))","v":0},null,null,{"$f":"IF($B$10=\"Farchana\",Farchana!G341,IF($B$10=\"Gaga\",Gaga!I360,IF($B$10=\"Treguine\",Treguine!G360,IF($B$10=\"Bredjing\",Bredjing!G360,\"\"))))","v":""}]
[{"$f":"IF($B$10=\"Farchana\",Farchana!A342,IF($B$10=\"Gaga\",Gaga!A361,IF($B$10=\"Treguine\",Treguine!A361,IF($B$10=\"Bredjing\",Bredjing!A361,\"\"))))","v":0},{"$f":"IF($B$10=\"Farchana\",Farchana!B342,IF($B$10=\"Gaga\",Gaga!B361,IF($B$10=\"Treguine\",Treguine!B361,IF($B$10=\"Bredjing\",Bredjing!B361,\"\"))))","v":0},{"$f":"IF($B$10=\"Farchana\",Farchana!C342,IF($B$10=\"Gaga\",Gaga!C361,IF($B$10=\"Treguine\",Treguine!C361,IF($B$10=\"Bredjing\",Bredjing!C361,\"\"))))","v":0},null,null,{"$f":"IF($B$10=\"Farchana\",Farchana!G342,IF($B$10=\"Gaga\",Gaga!I361,IF($B$10=\"Treguine\",Treguine!G361,IF($B$10=\"Bredjing\",Bredjing!G361,\"\"))))","v":""}]
[{"$f":"IF($B$10=\"Farchana\",Farchana!A343,IF($B$10=\"Gaga\",Gaga!A362,IF($B$10=\"Treguine\",Treguine!A362,IF($B$10=\"Bredjing\",Bredjing!A362,\"\"))))","v":0},{"$f":"IF($B$10=\"Farchana\",Farchana!B343,IF($B$10=\"Gaga\",Gaga!B362,IF($B$10=\"Treguine\",Treguine!B362,IF($B$10=\"Bredjing\",Bredjing!B362,\"\"))))","v":0},{"$f":"IF($B$10=\"Farchana\",Farchana!C343,IF($B$10=\"Gaga\",Gaga!C362,IF($B$10=\"Treguine\",Treguine!C362,IF($B$10=\"Bredjing\",Bredjing!C362,\"\"))))","v":0},null,null,{"$f":"IF($B$10=\"Farchana\",Farchana!G343,IF($B$10=\"Gaga\",Gaga!I362,IF($B$10=\"Treguine\",Treguine!G362,IF($B$10=\"Bredjing\",Bredjing!G362,\"\"))))","v":""}]
[{"$f":"IF($B$10=\"Farchana\",Farchana!A344,IF($B$10=\"Gaga\",Gaga!A363,IF($B$10=\"Treguine\",Treguine!A363,IF($B$10=\"Bredjing\",Bredjing!A363,\"\"))))","v":0},{"$f":"IF($B$10=\"Farchana\",Farchana!B344,IF($B$10=\"Gaga\",Gaga!B363,IF($B$10=\"Treguine\",Treguine!B363,IF($B$10=\"Bredjing\",Bredjing!B363,\"\"))))","v":0},{"$f":"IF($B$10=\"Farchana\",Farchana!C344,IF($B$10=\"Gaga\",Gaga!C363,IF($B$10=\"Treguine\",Treguine!C363,IF($B$10=\"Bredjing\",Bredjing!C363,\"\"))))","v":0},null,null,{"$f":"IF($B$10=\"Farchana\",Farchana!G344,IF($B$10=\"Gaga\",Gaga!I363,IF($B$10=\"Treguine\",Treguine!G363,IF($B$10=\"Bredjing\",Bredjing!G363,\"\"))))","v":""}]
[{"$f":"IF($B$10=\"Farchana\",Farchana!A345,IF($B$10=\"Gaga\",Gaga!A364,IF($B$10=\"Treguine\",Treguine!A364,IF($B$10=\"Bredjing\",Bredjing!A364,\"\"))))","v":0},{"$f":"IF($B$10=\"Farchana\",Farchana!B345,IF($B$10=\"Gaga\",Gaga!B364,IF($B$10=\"Treguine\",Treguine!B364,IF($B$10=\"Bredjing\",Bredjing!B364,\"\"))))","v":0},{"$f":"IF($B$10=\"Farchana\",Farchana!C345,IF($B$10=\"Gaga\",Gaga!C364,IF($B$10=\"Treguine\",Treguine!C364,IF($B$10=\"Bredjing\",Bredjing!C364,\"\"))))","v":0},null,null,{"$f":"IF($B$10=\"Farchana\",Farchana!G345,IF($B$10=\"Gaga\",Gaga!I364,IF($B$10=\"Treguine\",Treguine!G364,IF($B$10=\"Bredjing\",Bredjing!G364,\"\"))))","v":""}]
[{"$f":"IF($B$10=\"Farchana\",Farchana!A346,IF($B$10=\"Gaga\",Gaga!A365,IF($B$10=\"Treguine\",Treguine!A365,IF($B$10=\"Bredjing\",Bredjing!A365,\"\"))))","v":0},{"$f":"IF($B$10=\"Farchana\",Farchana!B346,IF($B$10=\"Gaga\",Gaga!B365,IF($B$10=\"Treguine\",Treguine!B365,IF($B$10=\"Bredjing\",Bredjing!B365,\"\"))))","v":0},{"$f":"IF($B$10=\"Farchana\",Farchana!C346,IF($B$10=\"Gaga\",Gaga!C365,IF($B$10=\"Treguine\",Treguine!C365,IF($B$10=\"Bredjing\",Bredjing!C365,\"\"))))","v":0},null,null,{"$f":"IF($B$10=\"Farchana\",Farchana!G346,IF($B$10=\"Gaga\",Gaga!I365,IF($B$10=\"Treguine\",Treguine!G365,IF($B$10=\"Bredjing\",Bredjing!G365,\"\"))))","v":""}]
[{"$f":"IF($B$10=\"Farchana\",Farchana!A347,IF($B$10=\"Gaga\",Gaga!A366,IF($B$10=\"Treguine\",Treguine!A366,IF($B$10=\"Bredjing\",Bredjing!A366,\"\"))))","v":0},{"$f":"IF($B$10=\"Farchana\",Farchana!B347,IF($B$10=\"Gaga\",Gaga!B366,IF($B$10=\"Treguine\",Treguine!B366,IF($B$10=\"Bredjing\",Bredjing!B366,\"\"))))","v":0},{"$f":"IF($B$10=\"Farchana\",Farchana!C347,IF($B$10=\"Gaga\",Gaga!C366,IF($B$10=\"Treguine\",Treguine!C366,IF($B$10=\"Bredjing\",Bredjing!C366,\"\"))))","v":0},null,null,{"$f":"IF($B$10=\"Farchana\",Farchana!G347,IF($B$10=\"Gaga\",Gaga!I366,IF($B$10=\"Treguine\",Treguine!G366,IF($B$10=\"Bredjing\",Bredjing!G366,\"\"))))","v":""}]
[{"$f":"IF($B$10=\"Farchana\",Farchana!A348,IF($B$10=\"Gaga\",Gaga!A367,IF($B$10=\"Treguine\",Treguine!A367,IF($B$10=\"Bredjing\",Bredjing!A367,\"\"))))","v":0},{"$f":"IF($B$10=\"Farchana\",Farchana!B348,IF($B$10=\"Gaga\",Gaga!B367,IF($B$10=\"Treguine\",Treguine!B367,IF($B$10=\"Bredjing\",Bredjing!B367,\"\"))))","v":0},{"$f":"IF($B$10=\"Farchana\",Farchana!C348,IF($B$10=\"Gaga\",Gaga!C367,IF($B$10=\"Treguine\",Treguine!C367,IF($B$10=\"Bredjing\",Bredjing!C367,\"\"))))","v":0},null,null,{"$f":"IF($B$10=\"Farchana\",Farchana!G348,IF($B$10=\"Gaga\",Gaga!I367,IF($B$10=\"Treguine\",Treguine!G367,IF($B$10=\"Bredjing\",Bredjing!G367,\"\"))))","v":""}]
[{"$f":"IF($B$10=\"Farchana\",Farchana!A349,IF($B$10=\"Gaga\",Gaga!A368,IF($B$10=\"Treguine\",Treguine!A368,IF($B$10=\"Bredjing\",Bredjing!A368,\"\"))))","v":0},{"$f":"IF($B$10=\"Farchana\",Farchana!B349,IF($B$10=\"Gaga\",Gaga!B368,IF($B$10=\"Treguine\",Treguine!B368,IF($B$10=\"Bredjing\",Bredjing!B368,\"\"))))","v":0},{"$f":"IF($B$10=\"Farchana\",Farchana!C349,IF($B$10=\"Gaga\",Gaga!C368,IF($B$10=\"Treguine\",Treguine!C368,IF($B$10=\"Bredjing\",Bredjing!C368,\"\"))))","v":0},null,null,{"$f":"IF($B$10=\"Farchana\",Farchana!G349,IF($B$10=\"Gaga\",Gaga!I368,IF($B$10=\"Treguine\",Treguine!G368,IF($B$10=\"Bredjing\",Bredjing!G368,\"\"))))","v":""}]
[{"$f":"IF($B$10=\"Farchana\",Farchana!A350,IF($B$10=\"Gaga\",Gaga!A369,IF($B$10=\"Treguine\",Treguine!A369,IF($B$10=\"Bredjing\",Bredjing!A369,\"\"))))","v":0},{"$f":"IF($B$10=\"Farchana\",Farchana!B350,IF($B$10=\"Gaga\",Gaga!B369,IF($B$10=\"Treguine\",Treguine!B369,IF($B$10=\"Bredjing\",Bredjing!B369,\"\"))))","v":0},{"$f":"IF($B$10=\"Farchana\",Farchana!C350,IF($B$10=\"Gaga\",Gaga!C369,IF($B$10=\"Treguine\",Treguine!C369,IF($B$10=\"Bredjing\",Bredjing!C369,\"\"))))","v":0},null,null,{"$f":"IF($B$10=\"Farchana\",Farchana!G350,IF($B$10=\"Gaga\",Gaga!I369,IF($B$10=\"Treguine\",Treguine!G369,IF($B$10=\"Bredjing\",Bredjing!G369,\"\"))))","v":""}]
[{"$f":"IF($B$10=\"Farchana\",Farchana!A351,IF($B$10=\"Gaga\",Gaga!A370,IF($B$10=\"Treguine\",Treguine!A370,IF($B$10=\"Bredjing\",Bredjing!A370,\"\"))))","v":0},{"$f":"IF($B$10=\"Farchana\",Farchana!B351,IF($B$10=\"Gaga\",Gaga!B370,IF($B$10=\"Treguine\",Treguine!B370,IF($B$10=\"Bredjing\",Bredjing!B370,\"\"))))","v":0},{"$f":"IF($B$10=\"Farchana\",Farchana!C351,IF($B$10=\"Gaga\",Gaga!C370,IF($B$10=\"Treguine\",Treguine!C370,IF($B$10=\"Bredjing\",Bredjing!C370,\"\"))))","v":0},null,null,{"$f":"IF($B$10=\"Farchana\",Farchana!G351,IF($B$10=\"Gaga\",Gaga!I370,IF($B$10=\"Treguine\",Treguine!G370,IF($B$10=\"Bredjing\",Bredjing!G370,\"\"))))","v":""}]
[{"$f":"IF($B$10=\"Farchana\",Farchana!A352,IF($B$10=\"Gaga\",Gaga!A371,IF($B$10=\"Treguine\",Treguine!A371,IF($B$10=\"Bredjing\",Bredjing!A371,\"\"))))","v":0},{"$f":"IF($B$10=\"Farchana\",Farchana!B352,IF($B$10=\"Gaga\",Gaga!B371,IF($B$10=\"Treguine\",Treguine!B371,IF($B$10=\"Bredjing\",Bredjing!B371,\"\"))))","v":0},{"$f":"IF($B$10=\"Farchana\",Farchana!C352,IF($B$10=\"Gaga\",Gaga!C371,IF($B$10=\"Treguine\",Treguine!C371,IF($B$10=\"Bredjing\",Bredjing!C371,\"\"))))","v":0},null,null,{"$f":"IF($B$10=\"Farchana\",Farchana!G352,IF($B$10=\"Gaga\",Gaga!I371,IF($B$10=\"Treguine\",Treguine!G371,IF($B$10=\"Bredjing\",Bredjing!G371,\"\"))))","v":""}]
[{"$f":"IF($B$10=\"Farchana\",Farchana!A353,IF($B$10=\"Gaga\",Gaga!A372,IF($B$10=\"Treguine\",Treguine!A372,IF($B$10=\"Bredjing\",Bredjing!A372,\"\"))))","v":0},{"$f":"IF($B$10=\"Farchana\",Farchana!B353,IF($B$10=\"Gaga\",Gaga!B372,IF($B$10=\"Treguine\",Treguine!B372,IF($B$10=\"Bredjing\",Bredjing!B372,\"\"))))","v":0},{"$f":"IF($B$10=\"Farchana\",Farchana!C353,IF($B$10=\"Gaga\",Gaga!C372,IF($B$10=\"Treguine\",Treguine!C372,IF($B$10=\"Bredjing\",Bredjing!C372,\"\"))))","v":0},null,null,{"$f":"IF($B$10=\"Farchana\",Farchana!G353,IF($B$10=\"Gaga\",Gaga!I372,IF($B$10=\"Treguine\",Treguine!G372,IF($B$10=\"Bredjing\",Bredjing!G372,\"\"))))","v":""}]
[{"$f":"IF($B$10=\"Farchana\",Farchana!A354,IF($B$10=\"Gaga\",Gaga!A373,IF($B$10=\"Treguine\",Treguine!A373,IF($B$10=\"Bredjing\",Bredjing!A373,\"\"))))","v":0},{"$f":"IF($B$10=\"Farchana\",Farchana!B354,IF($B$10=\"Gaga\",Gaga!B373,IF($B$10=\"Treguine\",Treguine!B373,IF($B$10=\"Bredjing\",Bredjing!B373,\"\"))))","v":0},{"$f":"IF($B$10=\"Farchana\",Farchana!C354,IF($B$10=\"Gaga\",Gaga!C373,IF($B$10=\"Treguine\",Treguine!C373,IF($B$10=\"Bredjing\",Bredjing!C373,\"\"))))","v":0},null,null,{"$f":"IF($B$10=\"Farchana\",Farchana!G354,IF($B$10=\"Gaga\",Gaga!I373,IF($B$10=\"Treguine\",Treguine!G373,IF($B$10=\"Bredjing\",Bredjing!G373,\"\"))))","v":""}]
[{"$f":"IF($B$10=\"Farchana\",Farchana!A355,IF($B$10=\"Gaga\",Gaga!A374,IF($B$10=\"Treguine\",Treguine!A374,IF($B$10=\"Bredjing\",Bredjing!A374,\"\"))))","v":0},{"$f":"IF($B$10=\"Farchana\",Farchana!B355,IF($B$10=\"Gaga\",Gaga!B374,IF($B$10=\"Treguine\",Treguine!B374,IF($B$10=\"Bredjing\",Bredjing!B374,\"\"))))","v":0},{"$f":"IF($B$10=\"Farchana\",Farchana!C355,IF($B$10=\"Gaga\",Gaga!C374,IF($B$10=\"Treguine\",Treguine!C374,IF($B$10=\"Bredjing\",Bredjing!C374,\"\"))))","v":0},null,null,{"$f":"IF($B$10=\"Farchana\",Farchana!G355,IF($B$10=\"Gaga\",Gaga!I374,IF($B$10=\"Treguine\",Treguine!G374,IF($B$10=\"Bredjing\",Bredjing!G374,\"\"))))","v":""}]
[{"$f":"IF($B$10=\"Farchana\",Farchana!A356,IF($B$10=\"Gaga\",Gaga!A375,IF($B$10=\"Treguine\",Treguine!A375,IF($B$10=\"Bredjing\",Bredjing!A375,\"\"))))","v":0},{"$f":"IF($B$10=\"Farchana\",Farchana!B356,IF($B$10=\"Gaga\",Gaga!B375,IF($B$10=\"Treguine\",Treguine!B375,IF($B$10=\"Bredjing\",Bredjing!B375,\"\"))))","v":0},{"$f":"IF($B$10=\"Farchana\",Farchana!C356,IF($B$10=\"Gaga\",Gaga!C375,IF($B$10=\"Treguine\",Treguine!C375,IF($B$10=\"Bredjing\",Bredjing!C375,\"\"))))","v":0},null,null,{"$f":"IF($B$10=\"Farchana\",Farchana!G356,IF($B$10=\"Gaga\",Gaga!I375,IF($B$10=\"Treguine\",Treguine!G375,IF($B$10=\"Bredjing\",Bredjing!G375,\"\"))))","v":""}]
[{"$f":"IF($B$10=\"Farchana\",Farchana!A357,IF($B$10=\"Gaga\",Gaga!A376,IF($B$10=\"Treguine\",Treguine!A376,IF($B$10=\"Bredjing\",Bredjing!A376,\"\"))))","v":0},{"$f":"IF($B$10=\"Farchana\",Farchana!B357,IF($B$10=\"Gaga\",Gaga!B376,IF($B$10=\"Treguine\",Treguine!B376,IF($B$10=\"Bredjing\",Bredjing!B376,\"\"))))","v":0},{"$f":"IF($B$10=\"Farchana\",Farchana!C357,IF($B$10=\"Gaga\",Gaga!C376,IF($B$10=\"Treguine\",Treguine!C376,IF($B$10=\"Bredjing\",Bredjing!C376,\"\"))))","v":0},null,null,{"$f":"IF($B$10=\"Farchana\",Farchana!G357,IF($B$10=\"Gaga\",Gaga!I376,IF($B$10=\"Treguine\",Treguine!G376,IF($B$10=\"Bredjing\",Bredjing!G376,\"\"))))","v":""}]
[{"$f":"IF($B$10=\"Farchana\",Farchana!A358,IF($B$10=\"Gaga\",Gaga!A377,IF($B$10=\"Treguine\",Treguine!A377,IF($B$10=\"Bredjing\",Bredjing!A377,\"\"))))","v":0},{"$f":"IF($B$10=\"Farchana\",Farchana!B358,IF($B$10=\"Gaga\",Gaga!B377,IF($B$10=\"Treguine\",Treguine!B377,IF($B$10=\"Bredjing\",Bredjing!B377,\"\"))))","v":0},{"$f":"IF($B$10=\"Farchana\",Farchana!C358,IF($B$10=\"Gaga\",Gaga!C377,IF($B$10=\"Treguine\",Treguine!C377,IF($B$10=\"Bredjing\",Bredjing!C377,\"\"))))","v":0},null,null,{"$f":"IF($B$10=\"Farchana\",Farchana!G358,IF($B$10=\"Gaga\",Gaga!I377,IF($B$10=\"Treguine\",Treguine!G377,IF($B$10=\"Bredjing\",Bredjing!G377,\"\"))))","v":""}]
[{"$f":"IF($B$10=\"Farchana\",Farchana!A359,IF($B$10=\"Gaga\",Gaga!A378,IF($B$10=\"Treguine\",Treguine!A378,IF($B$10=\"Bredjing\",Bredjing!A378,\"\"))))","v":0},{"$f":"IF($B$10=\"Farchana\",Farchana!B359,IF($B$10=\"Gaga\",Gaga!B378,IF($B$10=\"Treguine\",Treguine!B378,IF($B$10=\"Bredjing\",Bredjing!B378,\"\"))))","v":0},{"$f":"IF($B$10=\"Farchana\",Farchana!C359,IF($B$10=\"Gaga\",Gaga!C378,IF($B$10=\"Treguine\",Treguine!C378,IF($B$10=\"Bredjing\",Bredjing!C378,\"\"))))","v":0},null,null,{"$f":"IF($B$10=\"Farchana\",Farchana!G359,IF($B$10=\"Gaga\",Gaga!I378,IF($B$10=\"Treguine\",Treguine!G378,IF($B$10=\"Bredjing\",Bredjing!G378,\"\"))))","v":""}]
[{"$f":"IF($B$10=\"Farchana\",Farchana!A360,IF($B$10=\"Gaga\",Gaga!A379,IF($B$10=\"Treguine\",Treguine!A379,IF($B$10=\"Bredjing\",Bredjing!A379,\"\"))))","v":0},{"$f":"IF($B$10=\"Farchana\",Farchana!B360,IF($B$10=\"Gaga\",Gaga!B379,IF($B$10=\"Treguine\",Treguine!B379,IF($B$10=\"Bredjing\",Bredjing!B379,\"\"))))","v":0},{"$f":"IF($B$10=\"Farchana\",Farchana!C360,IF($B$10=\"Gaga\",Gaga!C379,IF($B$10=\"Treguine\",Treguine!C379,IF($B$10=\"Bredjing\",Bredjing!C379,\"\"))))","v":0},null,null,{"$f":"IF($B$10=\"Farchana\",Farchana!G360,IF($B$10=\"Gaga\",Gaga!I379,IF($B$10=\"Treguine\",Treguine!G379,IF($B$10=\"Bredjing\",Bredjing!G379,\"\"))))","v":""}]
[{"$f":"IF($B$10=\"Farchana\",Farchana!A361,IF($B$10=\"Gaga\",Gaga!A380,IF($B$10=\"Treguine\",Treguine!A380,IF($B$10=\"Bredjing\",Bredjing!A380,\"\"))))","v":0},{"$f":"IF($B$10=\"Farchana\",Farchana!B361,IF($B$10=\"Gaga\",Gaga!B380,IF($B$10=\"Treguine\",Treguine!B380,IF($B$10=\"Bredjing\",Bredjing!B380,\"\"))))","v":0},{"$f":"IF($B$10=\"Farchana\",Farchana!C361,IF($B$10=\"Gaga\",Gaga!C380,IF($B$10=\"Treguine\",Treguine!C380,IF($B$10=\"Bredjing\",Bredjing!C380,\"\"))))","v":0},null,null,{"$f":"IF($B$10=\"Farchana\",Farchana!G361,IF($B$10=\"Gaga\",Gaga!I380,IF($B$10=\"Treguine\",Treguine!G380,IF($B$10=\"Bredjing\",Bredjing!G380,\"\"))))","v":""}]
[{"$f":"IF($B$10=\"Farchana\",Farchana!A362,IF($B$10=\"Gaga\",Gaga!A381,IF($B$10=\"Treguine\",Treguine!A381,IF($B$10=\"Bredjing\",Bredjing!A381,\"\"))))","v":0},{"$f":"IF($B$10=\"Farchana\",Farchana!B362,IF($B$10=\"Gaga\",Gaga!B381,IF($B$10=\"Treguine\",Treguine!B381,IF($B$10=\"Bredjing\",Bredjing!B381,\"\"))))","v":0},{"$f":"IF($B$10=\"Farchana\",Farchana!C362,IF($B$10=\"Gaga\",Gaga!C381,IF($B$10=\"Treguine\",Treguine!C381,IF($B$10=\"Bredjing\",Bredjing!C381,\"\"))))","v":0},null,null,{"$f":"IF($B$10=\"Farchana\",Farchana!G362,IF($B$10=\"Gaga\",Gaga!I381,IF($B$10=\"Treguine\",Treguine!G381,IF($B$10=\"Bredjing\",Bredjing!G381,\"\"))))","v":""}]
[{"$f":"IF($B$10=\"Farchana\",Farchana!A363,IF($B$10=\"Gaga\",Gaga!A382,IF($B$10=\"Treguine\",Treguine!A382,IF($B$10=\"Bredjing\",Bredjing!A382,\"\"))))","v":0},{"$f":"IF($B$10=\"Farchana\",Farchana!B363,IF($B$10=\"Gaga\",Gaga!B382,IF($B$10=\"Treguine\",Treguine!B382,IF($B$10=\"Bredjing\",Bredjing!B382,\"\"))))","v":0},{"$f":"IF($B$10=\"Farchana\",Farchana!C363,IF($B$10=\"Gaga\",Gaga!C382,IF($B$10=\"Treguine\",Treguine!C382,IF($B$10=\"Bredjing\",Bredjing!C382,\"\"))))","v":0},null,null,{"$f":"IF($B$10=\"Farchana\",Farchana!G363,IF($B$10=\"Gaga\",Gaga!I382,IF($B$10=\"Treguine\",Treguine!G382,IF($B$10=\"Bredjing\",Bredjing!G382,\"\"))))","v":""}]
[{"$f":"IF($B$10=\"Farchana\",Farchana!A364,IF($B$10=\"Gaga\",Gaga!A383,IF($B$10=\"Treguine\",Treguine!A383,IF($B$10=\"Bredjing\",Bredjing!A383,\"\"))))","v":0},{"$f":"IF($B$10=\"Farchana\",Farchana!B364,IF($B$10=\"Gaga\",Gaga!B383,IF($B$10=\"Treguine\",Treguine!B383,IF($B$10=\"Bredjing\",Bredjing!B383,\"\"))))","v":0},{"$f":"IF($B$10=\"Farchana\",Farchana!C364,IF($B$10=\"Gaga\",Gaga!C383,IF($B$10=\"Treguine\",Treguine!C383,IF($B$10=\"Bredjing\",Bredjing!C383,\"\"))))","v":0},null,null,{"$f":"IF($B$10=\"Farchana\",Farchana!G364,IF($B$10=\"Gaga\",Gaga!I383,IF($B$10=\"Treguine\",Treguine!G383,IF($B$10=\"Bredjing\",Bredjing!G383,\"\"))))","v":""}]
[{"$f":"IF($B$10=\"Farchana\",Farchana!A365,IF($B$10=\"Gaga\",Gaga!A384,IF($B$10=\"Treguine\",Treguine!A384,IF($B$10=\"Bredjing\",Bredjing!A384,\"\"))))","v":0},{"$f":"IF($B$10=\"Farchana\",Farchana!B365,IF($B$10=\"Gaga\",Gaga!B384,IF($B$10=\"Treguine\",Treguine!B384,IF($B$10=\"Bredjing\",Bredjing!B384,\"\"))))","v":0},{"$f":"IF($B$10=\"Farchana\",Farchana!C365,IF($B$10=\"Gaga\",Gaga!C384,IF($B$10=\"Treguine\",Treguine!C384,IF($B$10=\"Bredjing\",Bredjing!C384,\"\"))))","v":0},null,null,{"$f":"IF($B$10=\"Farchana\",Farchana!G365,IF($B$10=\"Gaga\",Gaga!I384,IF($B$10=\"Treguine\",Treguine!G384,IF($B$10=\"Bredjing\",Bredjing!G384,\"\"))))","v":""}]
[{"$f":"IF($B$10=\"Farchana\",Farchana!A366,IF($B$10=\"Gaga\",Gaga!A385,IF($B$10=\"Treguine\",Treguine!A385,IF($B$10=\"Bredjing\",Bredjing!A385,\"\"))))","v":0},{"$f":"IF($B$10=\"Farchana\",Farchana!B366,IF($B$10=\"Gaga\",Gaga!B385,IF($B$10=\"Treguine\",Treguine!B385,IF($B$10=\"Bredjing\",Bredjing!B385,\"\"))))","v":0},{"$f":"IF($B$10=\"Farchana\",Farchana!C366,IF($B$10=\"Gaga\",Gaga!C385,IF($B$10=\"Treguine\",Treguine!C385,IF($B$10=\"Bredjing\",Bredjing!C385,\"\"))))","v":0},null,null,{"$f":"IF($B$10=\"Farchana\",Farchana!G366,IF($B$10=\"Gaga\",Gaga!I385,IF($B$10=\"Treguine\",Treguine!G385,IF($B$10=\"Bredjing\",Bredjing!G385,\"\"))))","v":""}]
[{"$f":"IF($B$10=\"Farchana\",Farchana!A367,IF($B$10=\"Gaga\",Gaga!A386,IF($B$10=\"Treguine\",Treguine!A386,IF($B$10=\"Bredjing\",Bredjing!A386,\"\"))))","v":0},{"$f":"IF($B$10=\"Farchana\",Farchana!B367,IF($B$10=\"Gaga\",Gaga!B386,IF($B$10=\"Treguine\",Treguine!B386,IF($B$10=\"Bredjing\",Bredjing!B386,\"\"))))","v":0},{"$f":"IF($B$10=\"Farchana\",Farchana!C367,IF($B$10=\"Gaga\",Gaga!C386,IF($B$10=\"Treguine\",Treguine!C386,IF($B$10=\"Bredjing\",Bredjing!C386,\"\"))))","v":0},null,null,{"$f":"IF($B$10=\"Farchana\",Farchana!G367,IF($B$10=\"Gaga\",Gaga!I386,IF($B$10=\"Treguine\",Treguine!G386,IF($B$10=\"Bredjing\",Bredjing!G386,\"\"))))","v":""}]
[{"$f":"IF($B$10=\"Farchana\",Farchana!A368,IF($B$10=\"Gaga\",Gaga!A387,IF($B$10=\"Treguine\",Treguine!A387,IF($B$10=\"Bredjing\",Bredjing!A387,\"\"))))","v":0},{"$f":"IF($B$10=\"Farchana\",Farchana!B368,IF($B$10=\"Gaga\",Gaga!B387,IF($B$10=\"Treguine\",Treguine!B387,IF($B$10=\"Bredjing\",Bredjing!B387,\"\"))))","v":0},{"$f":"IF($B$10=\"Farchana\",Farchana!C368,IF($B$10=\"Gaga\",Gaga!C387,IF($B$10=\"Treguine\",Treguine!C387,IF($B$10=\"Bredjing\",Bredjing!C387,\"\"))))","v":0},null,null,{"$f":"IF($B$10=\"Farchana\",Farchana!G368,IF($B$10=\"Gaga\",Gaga!I387,IF($B$10=\"Treguine\",Treguine!G387,IF($B$10=\"Bredjing\",Bredjing!G387,\"\"))))","v":""}]
[{"$f":"IF($B$10=\"Farchana\",Farchana!A369,IF($B$10=\"Gaga\",Gaga!A388,IF($B$10=\"Treguine\",Treguine!A388,IF($B$10=\"Bredjing\",Bredjing!A388,\"\"))))","v":0},{"$f":"IF($B$10=\"Farchana\",Farchana!B369,IF($B$10=\"Gaga\",Gaga!B388,IF($B$10=\"Treguine\",Treguine!B388,IF($B$10=\"Bredjing\",Bredjing!B388,\"\"))))","v":0},{"$f":"IF($B$10=\"Farchana\",Farchana!C369,IF($B$10=\"Gaga\",Gaga!C388,IF($B$10=\"Treguine\",Treguine!C388,IF($B$10=\"Bredjing\",Bredjing!C388,\"\"))))","v":0},null,null,{"$f":"IF($B$10=\"Farchana\",Farchana!G369,IF($B$10=\"Gaga\",Gaga!I388,IF($B$10=\"Treguine\",Treguine!G388,IF($B$10=\"Bredjing\",Bredjing!G388,\"\"))))","v":""}]
[{"$f":"IF($B$10=\"Farchana\",Farchana!A370,IF($B$10=\"Gaga\",Gaga!A389,IF($B$10=\"Treguine\",Treguine!A389,IF($B$10=\"Bredjing\",Bredjing!A389,\"\"))))","v":0},{"$f":"IF($B$10=\"Farchana\",Farchana!B370,IF($B$10=\"Gaga\",Gaga!B389,IF($B$10=\"Treguine\",Treguine!B389,IF($B$10=\"Bredjing\",Bredjing!B389,\"\"))))","v":0},{"$f":"IF($B$10=\"Farchana\",Farchana!C370,IF($B$10=\"Gaga\",Gaga!C389,IF($B$10=\"Treguine\",Treguine!C389,IF($B$10=\"Bredjing\",Bredjing!C389,\"\"))))","v":0},null,null,{"$f":"IF($B$10=\"Farchana\",Farchana!G370,IF($B$10=\"Gaga\",Gaga!I389,IF($B$10=\"Treguine\",Treguine!G389,IF($B$10=\"Bredjing\",Bredjing!G389,\"\"))))","v":""}]
[{"$f":"IF($B$10=\"Farchana\",Farchana!A371,IF($B$10=\"Gaga\",Gaga!A390,IF($B$10=\"Treguine\",Treguine!A390,IF($B$10=\"Bredjing\",Bredjing!A390,\"\"))))","v":0},{"$f":"IF($B$10=\"Farchana\",Farchana!B371,IF($B$10=\"Gaga\",Gaga!B390,IF($B$10=\"Treguine\",Treguine!B390,IF($B$10=\"Bredjing\",Bredjing!B390,\"\"))))","v":0},{"$f":"IF($B$10=\"Farchana\",Farchana!C371,IF($B$10=\"Gaga\",Gaga!C390,IF($B$10=\"Treguine\",Treguine!C390,IF($B$10=\"Bredjing\",Bredjing!C390,\"\"))))","v":0},null,null,{"$f":"IF($B$10=\"Farchana\",Farchana!G371,IF($B$10=\"Gaga\",Gaga!I390,IF($B$10=\"Treguine\",Treguine!G390,IF($B$10=\"Bredjing\",Bredjing!G390,\"\"))))","v":""}]
[{"$f":"IF($B$10=\"Farchana\",Farchana!A372,IF($B$10=\"Gaga\",Gaga!A391,IF($B$10=\"Treguine\",Treguine!A391,IF($B$10=\"Bredjing\",Bredjing!A391,\"\"))))","v":0},{"$f":"IF($B$10=\"Farchana\",Farchana!B372,IF($B$10=\"Gaga\",Gaga!B391,IF($B$10=\"Treguine\",Treguine!B391,IF($B$10=\"Bredjing\",Bredjing!B391,\"\"))))","v":0},{"$f":"IF($B$10=\"Farchana\",Farchana!C372,IF($B$10=\"Gaga\",Gaga!C391,IF($B$10=\"Treguine\",Treguine!C391,IF($B$10=\"Bredjing\",Bredjing!C391,\"\"))))","v":0},null,null,{"$f":"IF($B$10=\"Farchana\",Farchana!G372,IF($B$10=\"Gaga\",Gaga!I391,IF($B$10=\"Treguine\",Treguine!G391,IF($B$10=\"Bredjing\",Bredjing!G391,\"\"))))","v":""}]
[{"$f":"IF($B$10=\"Farchana\",Farchana!A373,IF($B$10=\"Gaga\",Gaga!A392,IF($B$10=\"Treguine\",Treguine!A392,IF($B$10=\"Bredjing\",Bredjing!A392,\"\"))))","v":0},{"$f":"IF($B$10=\"Farchana\",Farchana!B373,IF($B$10=\"Gaga\",Gaga!B392,IF($B$10=\"Treguine\",Treguine!B392,IF($B$10=\"Bredjing\",Bredjing!B392,\"\"))))","v":0},{"$f":"IF($B$10=\"Farchana\",Farchana!C373,IF($B$10=\"Gaga\",Gaga!C392,IF($B$10=\"Treguine\",Treguine!C392,IF($B$10=\"Bredjing\",Bredjing!C392,\"\"))))","v":0},null,null,{"$f":"IF($B$10=\"Farchana\",Farchana!G373,IF($B$10=\"Gaga\",Gaga!I392,IF($B$10=\"Treguine\",Treguine!G392,IF($B$10=\"Bredjing\",Bredjing!G392,\"\"))))","v":""}]
[{"$f":"IF($B$10=\"Farchana\",Farchana!A374,IF($B$10=\"Gaga\",Gaga!A393,IF($B$10=\"Treguine\",Treguine!A393,IF($B$10=\"Bredjing\",Bredjing!A393,\"\"))))","v":0},{"$f":"IF($B$10=\"Farchana\",Farchana!B374,IF($B$10=\"Gaga\",Gaga!B393,IF($B$10=\"Treguine\",Treguine!B393,IF($B$10=\"Bredjing\",Bredjing!B393,\"\"))))","v":0},{"$f":"IF($B$10=\"Farchana\",Farchana!C374,IF($B$10=\"Gaga\",Gaga!C393,IF($B$10=\"Treguine\",Treguine!C393,IF($B$10=\"Bredjing\",Bredjing!C393,\"\"))))","v":0},null,null,{"$f":"IF($B$10=\"Farchana\",Farchana!G374,IF($B$10=\"Gaga\",Gaga!I393,IF($B$10=\"Treguine\",Treguine!G393,IF($B$10=\"Bredjing\",Bredjing!G393,\"\"))))","v":""}]
[{"$f":"IF($B$10=\"Farchana\",Farchana!A375,IF($B$10=\"Gaga\",Gaga!A394,IF($B$10=\"Treguine\",Treguine!A394,IF($B$10=\"Bredjing\",Bredjing!A394,\"\"))))","v":0},{"$f":"IF($B$10=\"Farchana\",Farchana!B375,IF($B$10=\"Gaga\",Gaga!B394,IF($B$10=\"Treguine\",Treguine!B394,IF($B$10=\"Bredjing\",Bredjing!B394,\"\"))))","v":0},{"$f":"IF($B$10=\"Farchana\",Farchana!C375,IF($B$10=\"Gaga\",Gaga!C394,IF($B$10=\"Treguine\",Treguine!C394,IF($B$10=\"Bredjing\",Bredjing!C394,\"\"))))","v":0},null,null,{"$f":"IF($B$10=\"Farchana\",Farchana!G375,IF($B$10=\"Gaga\",Gaga!I394,IF($B$10=\"Treguine\",Treguine!G394,IF($B$10=\"Bredjing\",Bredjing!G394,\"\"))))","v":""}]
[{"$f":"IF($B$10=\"Farchana\",Farchana!A376,IF($B$10=\"Gaga\",Gaga!A395,IF($B$10=\"Treguine\",Treguine!A395,IF($B$10=\"Bredjing\",Bredjing!A395,\"\"))))","v":0},{"$f":"IF($B$10=\"Farchana\",Farchana!B376,IF($B$10=\"Gaga\",Gaga!B395,IF($B$10=\"Treguine\",Treguine!B395,IF($B$10=\"Bredjing\",Bredjing!B395,\"\"))))","v":0},{"$f":"IF($B$10=\"Farchana\",Farchana!C376,IF($B$10=\"Gaga\",Gaga!C395,IF($B$10=\"Treguine\",Treguine!C395,IF($B$10=\"Bredjing\",Bredjing!C395,\"\"))))","v":0},null,null,{"$f":"IF($B$10=\"Farchana\",Farchana!G376,IF($B$10=\"Gaga\",Gaga!I395,IF($B$10=\"Treguine\",Treguine!G395,IF($B$10=\"Bredjing\",Bredjing!G395,\"\"))))","v":""}]
[{"$f":"IF($B$10=\"Farchana\",Farchana!A377,IF($B$10=\"Gaga\",Gaga!A396,IF($B$10=\"Treguine\",Treguine!A396,IF($B$10=\"Bredjing\",Bredjing!A396,\"\"))))","v":0},{"$f":"IF($B$10=\"Farchana\",Farchana!B377,IF($B$10=\"Gaga\",Gaga!B396,IF($B$10=\"Treguine\",Treguine!B396,IF($B$10=\"Bredjing\",Bredjing!B396,\"\"))))","v":0},{"$f":"IF($B$10=\"Farchana\",Farchana!C377,IF($B$10=\"Gaga\",Gaga!C396,IF($B$10=\"Treguine\",Treguine!C396,IF($B$10=\"Bredjing\",Bredjing!C396,\"\"))))","v":0},null,null,{"$f":"IF($B$10=\"Farchana\",Farchana!G377,IF($B$10=\"Gaga\",Gaga!I396,IF($B$10=\"Treguine\",Treguine!G396,IF($B$10=\"Bredjing\",Bredjing!G396,\"\"))))","v":""}]

{"sheet":"ACCUEIL","index":11,"n_rows":8,"n_cols":8,"rows_kept":8,"cut":false,"hidden":false,"merged":[[7,7,8,7],[2,3,2,7],[2,0,2,2],[0,0,1,7],[5,3,5,4],[4,3,4,4],[4,7,5,7]]}
["ACCUEIL"]
[]
["MAJ BDD",null,null,"Paramètre"]
[]
[null,null,null,"Choisir Camp",null,"Gaga",null,{"$f":"+IF(AND($F$5<>\"\",$F$6=\"Moyen\"),\"Imprimer l'Etat de \" & $F$5,\"\")","v":""}]
[null,null,null,"Choisir le Niveau",null,"Primaire"]
[]
[null,null,null,null,null,null,null,{"$f":"+IF(AND($F$5<>\"\",$F$6=\"Primaire\"),\"Imprimer l'Etat de \" & $F$5,\"\")","v":"Imprimer l'Etat de Gaga"}]