{"text_format":"1","workbook":"xlsx","n_sheets":40,"sheets":["Mains d'oeuvres","Machines","Camions","Sous-traitants","Fournisseurs","Fourn. & Matér.","Dates","01-01-16","02-01-16","03-01-16","04-01-16","05-01-16","06-01-16","07-01-16","08-01-16","09-01-16","10-01-16","11-01-16","12-01-16","13-01-16","14-01-16","15-01-16","16-01-16","17-01-16","18-01-16","19-01-16","20-01-16","21-01-16","22-01-16","23-01-16","24-01-16","25-01-16","26-01-16","27-01-16","28-01-16","29-01-16","30-01-16","31-01-16","Chantier","Matériaux"],"not_rendered":{"charts":0,"images":2,"macros":1,"external_links":0,"defined_names":15,"comments":2,"pivot_tables":0},"unopened":[],"bounds":{"document_bytes":16777216,"sheet_cells":100000,"rows_first":2000,"rows_last":500,"rows_between":2000,"halvings":0,"cell_chars":16384,"cell_head_chars":4096},"cells_cut":0,"cells_raw":0,"read":"whole","date_system":"1900"}

{"sheet":"Mains d'oeuvres","index":0,"n_rows":120,"n_cols":8,"rows_kept":120,"cut":false,"hidden":false,"merged":[[111,1,112,1],[111,2,112,5],[111,6,112,7],[0,1,1,7],[3,1,4,7],[109,1,110,1],[109,2,110,5],[109,6,110,7],[117,2,118,5],[117,6,118,7],[119,1,120,5],[119,6,120,7],[113,1,114,1],[113,2,114,5],[113,6,114,7],[115,1,116,1],[115,2,116,5],[115,6,116,7],[117,1,118,1]]}
[null,"Mains d'œuvres"]
[]
[]
[null,"Hommes"]
[]
[]
[null,null,null,"Manœuvre",29.433800000000002]
[]
[]
[]
[]
[]
[]
[]
[]
[null,"Nom","Colonne2","Colonne1","Fonction","Qualif.","Barême","Prix revient / h"]
[]
[]
[]
[]
[]
[]
[]
[]
[]
[]
[]
[]
[]
[]
[]
[]
[]
[]
[]
[]
[]
[]
[]
[]
[]
[]
[]
[]
[]
[]
[]
[]
[]
[]
[]
[]
[]
[]
[]
[]
[]
[]
[]
[]
[]
[]
[]
[]
[]
[]
[]
[]
[]
[]
[]
[]
[]
[]
[]
[]
[]
[]
[]
[]
[]
[]
[]
[]
[]
[]
[]
[]
[]
[]
[]
[]
[]
[]
[]
[]
[]
[]
[]
[]
[]
[]
[]
[]
[]
[]
[]
[null,null,null,null,null,null,null,""]
[]
[null,"TOTAL :","Contremaître",null,null,null,{"$f":"COUNTIF(Tabeauhommes25[],C110)","v":0}]
[]
[null,"TOTAL :","Chef d'équipe B",null,null,null,{"$f":"COUNTIF(Tabeauhommes25[],C112)","v":0}]
[]
[null,"TOTAL :","Machiniste",null,null,null,{"$f":"COUNTIF(Tabeauhommes25[],C114)","v":0}]
[]
[null,"TOTAL :","Ouvrier voirie",null,null,null,{"$f":"COUNTIF(Tabeauhommes25[],C116)","v":0}]
[]
[null,"TOTAL :","Chauffeur Camion",null,null,null,{"$f":"COUNTIF(Tabeauhommes25[],C118)","v":0}]
[]
[null,"TOTAL :",null,null,null,null,{"$f":"SUM(G110:H119)","v":0}]

{"sheet":"Machines","index":1,"n_rows":147,"n_cols":6,"rows_kept":147,"cut":false,"hidden":false,"merged":[[144,1,145,2],[144,3,145,4],[144,5,145,5],[140,1,141,2],[140,3,141,4],[140,5,141,5],[142,1,143,2],[142,3,143,4],[142,5,143,5],[136,1,137,2],[136,3,137,4],[136,5,137,5],[138,1,139,2],[138,3,139,4],[138,5,139,5],[130,5,131,5],[132,1,133,2],[132,3,133,4],[132,5,133,5],[134,1,135,2],[134,3,135,4],[134,5,135,5],[146,1,147,2],[146,3,147,4],[146,5,147,5],[0,1,1,5],[3,2,4,4],[51,2,52,4],[76,2,77,4],[101,2,102,4],[126,1,127,2],[126,3,127,4],[126,5,127,5],[128,1,129,2],[128,3,129,4],[128,5,129,5],[130,1,131,2],[130,3,131,4]]}
["Machines","Machines"]
[]
[]
[null,null,"Pelles et tractopelles"]
[]
[]
[null,"N°","Pelles et tractopelles","Marque","Titulaire","Prix"]
[null,293,"Tractopelle"]
[null,328,"Pelle sur pneu"]
[null,340,"Pelle sur pneu"]
[null,341,"Mini pelle 3,5 t"]
[null,342,"Pelle sur chenille"]
[null,343,"Pelle sur chenille"]
[null,347,"Pelle sur chenille"]
[null,348,"Mini pelle 3,5 t"]
[null,358,"Pelle sur chenille"]
[null,361,"Pelle sur pneu"]
[null,364,"Mini pelle 3,5 t"]
[null,365,"Mini pelle 3,5 t"]
[null,369,"Pelle sur pneu"]
[null,370,"Pelle sur pneu"]
[null,373,"Mini pelle 5 t"]
[null,380,"Mini pelle 3,5 t"]
[null,381,"Mini pelle"]
[null,387,"Pelle sur chenille"]
[null,388,"Pelle sur chenille"]
[null,395,"Pelle sur chenille"]
[null,401,"Pelle sur chenille"]
[null,412,"Pelle sur chenille"]
[null,415,"Pelle sur pneu"]
[null,416,"Pelle sur pneu"]
[null,423,"Pelle sur pneu"]
[null,424,"Pelle sur pneu"]
[null,427,"Mini pelle 5 t"]
[null,428,"Mini pelle 7 t"]
[null,436,"Pelle sur chenille"]
[null,437,"Pelle sur chenille"]
[null,438,"Pelle sur pneu"]
[null,439,"Mini pelle 5 t"]
[null,446,"Pelle sur chenille"]
[null,447,"Mini pelle 5 t"]
[null,448,"Mini pelle 5 t"]
[]
[]
[]
[]
[]
[]
[]
[]
[]
[null,null,"Rouleaux"]
[]
[]
[null,"N°","Rouleaux","Marque","Titulaire","Prix"]
[null,223,"Rouleau mixte"]
[null,283,"Rouleau"]
[null,287,"Rouleau petit"]
[null,302,"Rouleau à main"]
[null,307,"Rouleau petit"]
[null,308,"Rouleau petit"]
[null,329,"Rouleau petit"]
[null,357,"Rouleau mixte"]
[null,374,"Rouleau"]
[null,378,"Rouleau à main"]
[null,379,"Rouleau à main"]
[null,385,"Rouleau petit"]
[null,386,"Rouleau petit"]
[null,389,"Rouleau petit"]
[null,394,"Rouleau mixte"]
[]
[]
[]
[]
[]
[]
[null,null,"Chargeurs"]
[]
[]
[null,"N°","Chargeurs","Marque","Titulaire","Prix"]
[null,288,"Chargeur"]
[null,310,"Chargeur"]
[null,319,"Chargeur Rollmops"]
[null,345,"Manitou"]
[null,362,"Chargeur"]
[null,371,"Chargeur"]
[null,390,"Chargeur"]
[null,391,"Chargeur"]
[null,397,"Chargeur"]
[null,409,"Chargeur"]
[null,422,"Chargeur"]
[null,434,"Chargeur Bobcat"]
[]
[]
[]
[]
[]
[]
[]
[]
[]
[null,null,"Machines de chantier"]
[]
[]
[null,"N°","Machines de chantier","Marque","Titulaire","Prix"]
[null,251,"Concasseur"]
[null,272,"Crible"]
[null,325,"Bull (Gros)"]
[null,326,"Slipform"]
[null,339,"Balayeuse"]
[null,356,"Racleuse"]
[null,363,"Bull (Petit)"]
[null,377,"Racleuse"]
[null,384,"Groupe Diesel"]
[null,405,"Racleuse"]
[null,421,"Chenillette"]
[null,442,"Niveleuse"]
[]
[]
[]
[]
[]
[]
[]
[]
[]
[null,"TOTAL :",null,"Pelle sur chenille",null,{"$f":"COUNTIF(TableauPelles[],D127)","v":12}]
[]
[null,"TOTAL :",null,"Pelle sur pneu",null,{"$f":"COUNTIF(TableauPelles[],D129)","v":10}]
[]
[null,"TOTAL :",null,"Mini pelle 5 t",null,{"$f":"COUNTIF(TableauPelles[],D131)","v":5}]
[]
[null,"TOTAL :",null,"Mini pelle 3,5 t",null,{"$f":"COUNTIF(TableauPelles[],D133)","v":5}]
[]
[null,"TOTAL :",null,"Tractopelle",null,{"$f":"COUNTIF(TableauPelles[],D135)","v":1}]
[]
[null,"TOTAL :",null,"Rouleau mixte",null,{"$f":"COUNTIF(TableauRouleaux[],D137)","v":3}]
[]
[null,"TOTAL :",null,"Rouleau",null,{"$f":"COUNTIF(TableauRouleaux[],D139)","v":2}]
[]
[null,"TOTAL :",null,"Chargeur",null,{"$f":"COUNTIF(TableauChargeurs[],C81)","v":9}]
[]
[null,"TOTAL :",null,"Chargeur Rollmops",null,{"$f":"COUNTIF(TableauChargeurs[],D143)","v":1}]
[]
[null,"TOTAL :",null,"Chargeur Bobcat",null,{"$f":"COUNTIF(TableauChargeurs[],D145)","v":1}]
[]
[null,"TOTAL :",null,"Manitou",null,{"$f":"COUNTIF(TableauChargeurs[],D147)","v":1}]

{"sheet":"Camions","index":2,"n_rows":129,"n_cols":6,"rows_kept":129,"cut":false,"hidden":false,"merged":[[108,2,109,4],[102,1,103,2],[102,3,103,4],[102,5,103,5],[104,1,105,2],[104,3,105,4],[104,5,105,5],[100,1,101,2],[100,3,101,4],[100,5,101,5],[0,1,1,5],[3,2,4,4],[3,5,4,5],[51,2,52,4],[96,1,97,2],[96,3,97,4],[96,5,97,5],[98,1,99,2],[98,3,99,4],[98,5,99,5]]}
[null,"Camions"]
[]
[]
[null,null,"Camions Baguette"]
[]
[]
[null,"N°","Camions Baguette","Marque","Titulaires","Prix"]
[null,213,"Camion DP tribenne"]
[null,232,"Camion DP"]
[null,233,"Camion DP"]
[null,235,"Camion SP absorbeur"]
[null,240,"Camion DP"]
[null,245,"Camion SP"]
[null,246,"Camion DP"]
[null,256,"Camion DP"]
[null,257,"Camion SP tribenne"]
[null,304,"Camion Grue"]
[null,305,"Camion DP"]
[null,352,"Camion"]
[null,375,"Camion"]
[null,398,"Camion "]
[null,403,"Camion Grue (sans chauffeur)"]
[null,410,"Camion "]
[null,411,"Camion "]
[null,429,"Camion "]
[null,430,"Camion "]
[null,431,"Camion brosse"]
[null,440,"Camion "]
[]
[]
[]
[]
[]
[]
[]
[]
[]
[]
[]
[]
[]
[]
[]
[]
[]
[]
[]
[]
[]
[]
[]
[null,null,"Camions TMB"]
[]
[]
[null,"N°","Camions TBM","Marque","Titulaires","Prix"]
[null,"TMB 1","Camion Semi"]
[null,"TMB 2","Camion Semi"]
[null,"TMB 3","Camion DP"]
[null,"TMB 4","Camion Semi"]
[null,"TMB 5","Camion DP"]
[null,"TMB 6","Camion Semi"]
[null,"TMB 7","Camion DP"]
[null,"TMB 8","Camion DP"]
[null,"TMB 9","Camion 4axes"]
[null,"TMB 10","Camion SP"]
[null,"TMB 11","Camion DP"]
[null,"TMB 12","Camion 4axes"]
[null,"TMB 13","Camion DP"]
[null,"TMB 14","Camion DP (sans chauffeur)"]
[null,"TMB 15","Camion 4axes"]
[null,"TMB 16","Camion DP"]
[null,"TMB 17","Camion DP"]
[null,"TMB 18","Camion DP"]
[null,"TMB 19","Camion DP"]
[null,"TMB 20","Camion DP"]
[null,"TMB 21","Camion DP"]
[null,"TMB 22","Camion Semi"]
[null,"TMB 23","Camion Semi"]
[null,"TMB 24","Camion DP"]
[null,"TMB 25","Camion DP"]
[null,"TMB 26","Camion DP"]
[null,"TMB 27","Camion DP (sans chauffeur)"]
[null,"TMB 28","Camion DP"]
[null,"TMB 29","Camion Semi"]
[null,"TMB 30","Camion DP"]
[null,"TMB 31","Camion Semi"]
[null,"TMB 32","Camion DP (sans chauffeur)"]
[null,"TMB 33","Camion DP (sans chauffeur)"]
[null,"TMB 34","Camion DP"]
[null,"TMB 35","Camion container"]
[null,"Trans 1","Camion Semi transfert"]
[null,"Trans 2","Camion Semi transfert"]
[null,"Trans 3","Camion Semi transfert"]
[null,"TMB","Camion DP"]
[]
[]
[null,"TOTAL :",null,"Camion Semi",null,{"$f":"COUNTIF(TableauCamionsBaguette[]:TableauCamionsTMB[],D97)","v":8}]
[]
[null,"TOTAL :",null,"Camion 4axes",null,{"$f":"COUNTIF(TableauCamionsBaguette[]:TableauCamionsTMB[],D99)","v":3}]
[]
[null,"TOTAL :",null,"Camion DP",null,{"$f":"COUNTIF(TableauCamionsBaguette[]:TableauCamionsTMB[],D101)","v":25}]
[]
[null,"TOTAL :",null,"Camion SP",null,{"$f":"COUNTIF(TableauCamionsBaguette[]:TableauCamionsTMB[],D103)","v":2}]
[]
[null,"TOTAL :",null,"Camion Grue",null,{"$f":"COUNTIF(TableauCamionsBaguette[]:TableauCamionsTMB[],D105)","v":1}]
[]
[]
[]
[null,null,"Remorques"]
[]
[]
[null,"N°","Remorques TMBR","Marque","Titulaires","Prix"]
[null,"TMBR 0 Remorques"]
[null,"TMBR 1","Kaiser"]
[null,"TMBR 2","Kaiser"]
[null,"TMBR 3","Hoffmann"]
[null,"TMBR 5","T'rax"]
[null,"TMBR 6","Kaiser"]
[null,"TMBR 7","Kempf"]
[null,"TMBR 9","Magyar"]
[null,"TMBR 10","Kempf"]
[null,"TMBR 11","Kempf"]
[null,"TMBR 13","Faymonville"]
[null,"TMBR 14","Muller Mitteltal"]
[null,"TMBR 15","Schmitz cargobull"]
[null,"TMBR 16","Schmitz cargobull"]
[null,"TMBR 17","Schmitz cargobull"]
[null,"TMBR 18","Schmitz cargobull"]
[null,"TMBR 19","Schmitz cargobull"]

{"sheet":"Sous-traitants","index":3,"n_rows":21,"n_cols":4,"rows_kept":21,"cut":false,"hidden":false,"merged":[[0,0,1,4]]}
["Sous - traitants"]
[]
[]
[null,"Sous-traitants",null,"Type d'engin et description des travaux "]
[null,"AGRIWALY",null,"Camion 4axes"]
[null,"DEFRAINE",null,"Camion DP"]
[null,"ERNST",null,"Chenilette"]
[null,"FRANCOTTE",null,"Dumper sur roue"]
[null,"FRECHES",null,"Tracteur + benne 2 axes"]
[null,"HEUTS"]
[null,"JOBE TRANSPORT"]
[null,"JUPRELLE-ANTOINE"]
[null,"JUSTO TRANSPORT"]
[null,"LOCASIX LOC.MACHINE"]
[null,"LOCASIX TRANSFERT"]
[null,"LOOSLEBER"]
[null,"LTB TRANSPORT"]
[null,"PROBST TRANSPORT"]
[null,"RUWET AGRICOLE"]
[null,"SCHINS TRANSPORT"]
[null,"TOBRI TRANSPORT"]

{"sheet":"Fournisseurs","index":4,"n_rows":596,"n_cols":1,"rows_kept":596,"cut":false,"hidden":false,"merged":[]}
["4M EUROPE"]
["A"]
["A.I.D.E."]
["AA"]
["aaaaa"]
["aaaaaaaaaaaaaaaaaa"]
["AAAAEEEE"]
["ABC EXPERTS"]
["ABTECH sa"]
["ABW"]
["ACE MOBILIER URBAIN S.A."]
["ACE Services"]
["ACH \nAtelier Construction Herstal"]
["ACO PASSAVANT sa\n"]
["A-CSYS"]
["ADR"]
["ADRR"]
["Agence INOV sprl"]
["AGREF nv"]
["AGRI-WALLY"]
["ALARM MUST"]
["ALARME RUTTEN"]
["ALBITUM"]
["ALG"]
["ALL TECH"]
["ALLARD Sport Equipment"]
["ALLISON CLOTURES"]
["ALP"]
["ALUSIGN"]
["AMIX"]
["APRI LETTRES"]
["AQS"]
["AQUAFLUX"]
["AQUAFONTAL b.v.b.a."]
["AQZ"]
["AQZA"]
["ARCADIS Engineering & Consulting sa"]
["ARDENNES CLOTURES"]
["ARMAMAST"]
["ARTAU"]
["ASPHALTCO"]
["ASPIRTOUT"]
["ASWEBO"]
["Automatic Spraying Systems bvba"]
["B&G CLOTURES"]
["BAGUETTE"]
["BAGUETTE DEPOT"]
["BAHIM Bruno (votre Jardinier)"]
["BAIVERLIN Manuel"]
["BALAES"]
["BALTEAU sa"]
["BATIDAL"]
["BATITEC"]
["BAUMA STONE"]
["BAUMANS - DEFFET sprl\n"]
["bbbbbbbbbb"]
["BBM Ile Monsin"]
["BBM Plenesse"]
["BEKAERT"]
["BELGACOM"]
["BELGIUM COATINGS"]
["BELGRAF"]
["BELURBA"]
["BENVITEC"]
["BERDING BETON GmbH"]
["BETON DE LA LOMME"]
["BETON MOSAN"]
["BETONS LEMAIRE"]
["BG PIPE"]
["BHB Ouvrages d'Art sa"]
["BIEMAR"]
["BIG-MAT BEAUFAYS"]
["BIG-MAT GIET-BODARWE"]
["BIG-MAT LEJEUNE"]
["BIG-MAT LEPOT"]
["BIG-MAT POLEUR-KINET"]
["BIG-MAT TIHANGE"]
["BISCHOFF pgmbh"]
["BLAISE Jean-Luc (JLB.LAGLEIZE sprl)"]
["BMV"]
["BMW CONSTRUCT"]
["BODARWE & Fils sa"]
["BODARWE CARRIERE"]
["BOHET TRANSP."]
["BOLAND-TAILLEUR"]
["BOLOGNE sa"]
["BONAR"]
["BONFOND TRTC"]
["BONIVER sa"]
["BORALIT nv"]
["BORETA sa"]
["BORETA sa\nCentre de tri et concassage de Baelen"]
["BOULANGE CHRISTIAN"]
["BOVIN BETON"]
["BPMN"]
["BRS Aywaille (JMV)"]
["BUDE Containerizedsolutions"]
["Bureau d'études Louis Engineering"]
["BURTAUX sprl"]
["BVQI-VERITAS"]
["CABLERIES D'EUPEN"]
["CAME BELGIUM"]
["CAN INFRA sprl"]
["CARMEUSE"]
["CARMEUSE"]
["CARMEUSE"]
["CARRIERE DE LA HAZOTTE"]
["CARRIERE DE LIXHE"]
["CARRIERE DE RETINNE"]
["CARRIERE DU BLOCQUAY"]
["CARRIERE DU HAINAUT"]
["CARRIERE NEW WAL PIERRE"]
["CARRIERE PREALLE"]
["CARRIERE SPRIMONT BLUE"]
["CARRIERES FEIDT sa"]
["CARRRIERE PIERRE BLEUE BELGE"]
["CASSART SPECIAL PROD."]
["CASTAGNETTI sprl"]
["CBR"]
["CBS Beton nv"]
["CEREXHE CONCASSEUR"]
["CEREXHE CONCASSEUR"]
["CHAUX & DOLOMIES"]
["CHAUX & DOLOMIES (Carnol-Ketttenis)"]
["CHAUX & DOLOMIES (Limbourg)"]
["CHENE sa"]
["CHRISTIAENS BETON"]
["Christiaens Béton"]
["CILE"]
["CLAESSENS-WETTSTEIN sa"]
["CLEMENT JLM sprl"]
["CLOET gebr. Nv"]
["CLOQUETTE"]
["COFOC"]
["CO-JOINT"]
["COLLARD Matériaux"]
["COLLINET ASSAINISSEMENT"]
["COLLINET VERCHEVAL"]
["COMPTOIR DES MATERIAUX - TOUT FAIRE"]
["COMUREX"]
["CONRADT"]
["COP & PORTIER"]
["COPY BEN"]
["CORMANN - MOSSAY"]
["COSETECH sprl"]
["CO-TERRE"]
["COUMONT Entreprises sa"]
["COUNET Bois sprl"]
["COWALCA"]
["CRAHAY Benoit"]
["CRAHAY François"]
["CRAHAY Henri"]
["CRAHAY Oliver sprl"]
["CROSSET LEON sa"]
["CRR"]
["CRUSH SCREEN"]
["CTB"]
["CUP"]
["DAMBOIS - VAM"]
["DANNEMARK"]
["DAUBY Béton"]
["DE BONTE & VAN HECKE\n"]
["DE GROOTE GASTON"]
["DE GROOTE Wegmarkeringen"]
["DE GROOTE Wegmarkeringen"]
["DE NEEF CONCHEM"]
["DE STEXHE"]
["DEBOICO RECYCLAGE SPRL"]
["DECKERS"]
["DECLERCRQ nv"]
["DECO BETON"]
["DECOMAT"]
["DECORECY"]
["DEFERM"]
["DEFRAINE"]
["DELPORTE MATERIAUX - TOUT FAIRE"]
["DELVAUX SABLIERE"]
["DEMGIBAT sprl"]
["DEMOULIN TRANSP."]
["DEMOULIN VINCENT"]
["DENYS"]
["DEPAIRON"]
["DEROUAUX (chaudronnerie)"]
["DEROUSSEAU MATERIAUX"]
["DEWAELE C. géom."]
["DISTEEL"]
["DIVERS FOURNISSEURS"]
["DOLOMIE VILLERS LE GAMBON"]
["DONEA"]
["Donnay Construction"]
["DOTHEE"]
["DOURPHONIE"]
["DOYEN sa"]
["DP INOX sprl"]
["DRAINTECH BELGIUM nv"]
["DREESSEN JEAN SPRL"]
["DUPUIS"]
["DYKA PLASTICS"]
["E.S.I. informatique"]
["EBEMA nv"]
["ECAPI sprl"]
["ECOBETON WATER TECHNOLOGIES sa"]
["ECOGRADING"]
["ECOTERRES sa"]
["EDSON MJP sprl"]
["EECOCUR sa"]
["EGETRA nv"]
["EJ Benelux Access Solutions sa"]
["ELECTRABEL"]
["ELOY BETON sa"]
["ELOY TRAVAUX"]
["ELOY WATER sa"]
["EMERGO"]
["EMMER SERVICES"]
["EMOTRADE"]
["EMUBEL"]
["ENROBES DU GERNY"]
["ENROBEST"]
["ENVEMAT sa"]
["ERAERTS"]
["ESE n.v./s.a."]
["ETEC sa"]
["ETIENNE GEORGES"]
["Ets. Simon Limbourg"]
["EURODAL bvba"]
["EURODRILL"]
["EURO-FENCING pgmbh"]
["EURORENT"]
["EUROVIA"]
["EVRARD"]
["EXELIO"]
["FACQ"]
["FAMENNE BETON"]
["FAYEN G."]
["FERRARI GRANULATS BB"]
["FERRO-SEAPORT"]
["FETTWEIS J-P"]
["Fil Terres"]
["FINCK FRERES SNC"]
["FISSE"]
["FODETRA"]
["FONDATEL - LECOMTE"]
["FORDIBEL"]
["FRANKI CONSTRUCT"]
["FRECHES"]
["GAB'Style"]
["GALASYKA TRANSP."]
["GALERE"]
["GAMA-ASPHALT"]
["GAMA-ASPHALT sa"]
["GARSOU BRICOLAGE"]
["GDA"]
["GEFOR sprl"]
["GEHLEN ROGER sa"]
["GENOTTE André"]
["GeoCAD"]
["GEOPROJET sprl"]
["GERMEAU CARRIERES"]
["GESPLAN"]
["GHM sa"]
["GLOBEZENIT Adding Dimensions"]
["GLUESTONE"]
["GODART S. SPRL"]
["GOVAERTS Recycling"]
["GRAVAUBEL"]
["GRAVIBETON"]
["GRES BOIS d'ANTHISNES"]
["GROSJEAN Transports"]
["GUBBELS Betonagglomeraten nv\nMasterbloc"]
["GUISSE & Fils sa"]
["H&S Associates Bureau d'études"]
["H. BERG & Associés"]
["HAAS & co sprl"]
["HAAS Léopold Metalservice sa"]
["HAKO-BORINGEN"]
["HANSEZ-DALEM"]
["HAUSMAN - TOUT FAIRE AYWAILLE"]
["HAVART"]
["HAVET Jacky"]
["HAVET Jacky remblai Baelen"]
["HAVET Jacky remblai Bolland"]
["HAVET Jacky remblai Dolhain"]
["HAVET Jacky remblai Welkenraedt"]
["HBB Hydro Belgium Binder sa"]
["HENKENS"]
["HENRARD"]
["HERZET ET FILS"]
["HERZET THIERRY"]
["HEUTS TRANSP."]
["HEYRMAN DE ROECK (HDR)"]
["HILTI"]
["HITRA"]
["HOBAS"]
["HOBO SERVICE sprl"]
["HOFMAN"]
["HOFMAN KASSEIEN nv"]
["HOLCIM Béton (Liège + Tihange)"]
["HOLCIM Carrière Trooz"]
["HUTSCHEMACKERS sa"]
["HYDROCONCEPT"]
["IdemaSport"]
["INDRA bv"]
["INFRAQUAL"]
["INFRATECH"]
["INSULCO Technical Products"]
["INTER PIPE TOOL bvba"]
["INTERBLOCS"]
["INTERMOSANE"]
["INTRADEL"]
["ISAPLY Services sa"]
["ITM Sud SPRL"]
["J M V  - COLAS BELGIUM"]
["JACOBS"]
["JAN DE NUL"]
["JANSSEN Riolering"]
["JARDYWOOD"]
["JC DECAUX Belgium"]
["jd"]
["JENNES"]
["JEROUVILLE"]
["JLD ENGINEERING"]
["JOBE Claude S.A."]
["JOSKIN"]
["JUPRELLE - ANTOINE"]
["JUSTO TRANSPORT"]
["K-BORINGEN s.a."]
["KERAMO"]
["KEVERS MATERIAUX sa"]
["KM MATERIAUX - TOUT FAIRE"]
["KOMPAN sa"]
["KOPPEN.BE sprl"]
["KREIJEN Bert\n Atelier voor edelskeedkunst"]
["KUMPEN sa"]
["LABINTER"]
["LACASSE & MONFORT sprl"]
["LACROIX J. & Fils Hobby Nature"]
["LACROIX Jean MATERIAUX - TOUT FAIRE"]
["LAMBERT MARQUAGE"]
["LAMBERT RENE COULEUR"]
["LAMBRIGHS CAR."]
["LANCE sprl"]
["LAURENTY Espaces verts"]
["LECLERCQ OLIVER sprl"]
["LEGRAND Christophe"]
["LEGROS sa"]
["LEIDGENS VINCENT SPRL\n"]
["LEJEUNE R. & Fils"]
["LEJEUNE-LHOEST"]
["LEKEU RENE"]
["LEMAIRE André s.a."]
["LEMAIRE DANY Menuiserie"]
["LEMAIRE Paul sprl"]
["LEMMENS sa"]
["LENAERTS BLOMMAERT"]
["LENARTZ ANDRE"]
["Lesuco"]
["LEVENSTOND"]
["LHERMITTE sa"]
["LHONNEUX"]
["LibraPlay sa"]
["LIEGEOIS Gustave & Yves"]
["LIEGEOIS P. & FILS"]
["LIXHE COMPOST"]
["LOCANEUF"]
["LOCAPRO"]
["LOCASIX"]
["LOCATION DODION"]
["LODOMEZ"]
["LOOSLEBER"]
["LOVEMA sa"]
["LOVEMAT"]
["LOXAM GRACE-HOLLOGNE"]
["LOXAM RENTAL"]
["LRL"]
["LTB TRANSP."]
["Lux Green sa"]
["M-A Construction"]
["MACFER sa"]
["MAGNEE ENROBES"]
["MAISIER"]
["MAISON DU CAOUTCHOUC"]
["MAQUINAY Solutions"]
["MARAITE Bernard"]
["Marcel BAGUETTE sa"]
["MARCONE sprl"]
["MARECHAL & BAUDINET"]
["MATEGRO"]
["MATERNE DORMAL"]
["MATHIEU sa"]
["MATON SPORT sprl"]
["MEN AT WORK"]
["Metalcolux"]
["METALSERVICE sa"]
["MLD RECYCLAGE sprl"]
["MMD sa"]
["MOLOK WEST EUROPE bvba"]
["MOORS ECOFORAGE sa"]
["MORDANT JEAN-YVES (JYM)"]
["MOTTARD"]
["MOULAN sa"]
["MR BRICOLAGE AUBEL"]
["MS3 sprl"]
["MULTI PRINT"]
["NELLES Frères sa"]
["NEW VANSTIPELEN"]
["NIEZEN TRAFFIC"]
["NIJST NATUURSTEEN bvba"]
["NONET sa"]
["NOVIMAT"]
["OMNIBETON"]
["OTE & Cie sa"]
["OUPEYE VOIRIE SERVICE"]
["Pagnoulle Georges"]
["PAQUE Yvan sa"]
["PAULY-ANDRIANNE"]
["PEETERS TPI SA"]
["PERFECTY"]
["PESSER"]
["PEUVRATE"]
["PHARAFLEX"]
["PICHA"]
["PINEUR sa"]
["PIRON - DRINKS"]
["PIROTTE Franz - TOUT FAIRE"]
["PLAKABETON"]
["PLASTICS WAUTERS"]
["POLISOL sprl"]
["PONCELET SIGNALISATION sa"]
["PORTO-MARBEL scrl"]
["PREFER"]
["PRESSPLATE Infra"]
["PROBEMAL sa"]
["PROBST TRANSPORTS"]
["PUM PLASTIQUES"]
["QUATTRO BENELUX ETS N.V."]
["QUINTENS ROBERT"]
["RABAR Natuursteen"]
["RADERMECKER P."]
["RADIAN sprl"]
["RADOUX FERRONNERIE sprl"]
["RASKINET BUREAU D'ETUDES"]
["RAXHON Charles & Ass."]
["RCI sa"]
["READY BETON"]
["RECOM sa"]
["RECY TECH (ABTech)"]
["RECYLIEGE"]
["RECYLIEGE FLEMALLE (Rossart)"]
["RECYLIEGE MONSIN"]
["RECYLIEGE PLENESSES"]
["RECYLIEGE SERAING (Chatqueue)"]
["RECYMETAL"]
["RECYMO"]
["RECYREM (Nelles)"]
["RECYROM sa"]
["RECYTEC (Lhonneux)"]
["REHAU"]
["RENOTEC"]
["RETOUR BAGUETTE DEPOT"]
["REVATECH"]
["REXEL BELGIUM"]
["RIFO bvba - Perma-Color Europe"]
["RIOTEC"]
["RMS sprl"]
["Robinia sprl"]
["ROBUCO"]
["ROCATEC"]
["ROCSTYLE Belux sprl"]
["ROEBBEN nv"]
["RONVEAUX"]
["ROOSENS BETORIX"]
["ROSSART SABLIERE (SIDECO)"]
["ROYEN HENRI"]
["RUWELEC"]
["RUWET"]
["S.B.S. ENVIRONNEMENT sprl"]
["SACE"]
["SAGECO"]
["SAGREX (Chanxhe)"]
["SAGREX Quenast"]
["SAINT GOBAIN PIPE SYSTEMS"]
["SAPHIBOIS"]
["SCHEEN-BROUHA"]
["SCHINS"]
["SCHMITZ Francis"]
["SCHREIBER sa"]
["SECO"]
["SEMAT"]
["SEPULT"]
["SERAC\nS & M Internationnal bvba"]
["SERBI sa"]
["SERMEC sa"]
["SERVIPLAST"]
["SGS"]
["SHANKS sa"]
["SIDECO HERSTAL"]
["SIDECO OUPEYE"]
["SIDECO ROSSART"]
["SIDECO Sprimont"]
["SIEMES nv"]
["SIGNALI sprl"]
["SIGNAROUTE"]
["SIKA"]
["SIMONIS marquages"]
["SITA"]
["SITA"]
["SIX EQUIPMENT S.A."]
["SMET BORING N.V."]
["SODELUX"]
["SODEMAT (Duchêne à Strée-Modave)"]
["SODRAEP"]
["SOFERLI"]
["SOLHEID LOCATION"]
["SOLIDBETON"]
["SOMASIGN"]
["SOTRAGEX"]
["SOTRALIEGE sa"]
["SOTRAPHENIX (MAON OMER)"]
["SOTREZ-NIZET"]
["SPA COMBUSTIBLES (GOFFIN)"]
["Spi +"]
["STASSART"]
["STEFFENS Olivier"]
["STELCON"]
["STRADAL"]
["STRADUS"]
["STRADUS AQUA nv"]
["STREETLIFE B.V."]
["SUPERPLASTIC"]
["SWDE"]
["TECHNIMAINT"]
["TECHNIQUE VOILE sprl"]
["TECHNO MAT"]
["TECHNORESINE sprl"]
["TERRA NOVA"]
["TERRANEUF"]
["TEXION GÉOSYNTHÉTIQUES SA"]
["TFA sprl\n(Technique Fixations et Assemblages)"]
["THOMASSEN & Fils sprl"]
["THYS CENTER KÄRCHER"]
["TMB sprl"]
["TOBRI (Gehlen)"]
["TOMYGE"]
["TOPO LASER"]
["TOPOJEMA"]
["TPIM sa"]
["TRADECC"]
["TRAFIROAD"]
["TRAFLUX"]
["TRAGECO"]
["TRAVAUX & RENOVATIONS"]
["TRAVHYDRO"]
["TRC (Trading & Recycling Company)"]
["TRI AXE"]
["TSBV"]
["TUBOBEL"]
["TVB saTechnique et Valorisation du Bois"]
["TYCHON Frères sprl"]
["URBASTYLE"]
["URBIS"]
["VALOREM sa"]
["VAN DEN BRULE"]
["VAN DIJCK"]
["VAN GANSEWINKEL sa"]
["VAN HAUT"]
["VB BETON nv"]
["VB BETON nv"]
["VELOPA"]
["VERBIEST"]
["VERHULST sprl"]
["VERSTRAETE"]
["VERT SERVICE"]
["VERVIERS FREINS"]
["VIALINES"]
["VIGOTEC - AKATHERM\nSiège exploitation"]
["Vincent PIRONT sa"]
["VIRAGE"]
["VITIELLO"]
["VOOS Patrick"]
["VREVEN (Maison)"]
["WALPOT"]
["WARNIER PESAGE sa"]
["WATCO"]
["WAVIN sa"]
["WEBECO nv"]
["WERNER JOSE"]
["WILKIN sa"]
["WINDMOLDERS BETON nv"]
["WIRTGEN BELGIUM"]
["WIRTZ SECURITE"]
["WOLF-ZONDERVAN (MAGIL)"]
["WOLTERS-MABEG bvba\n"]
["WOODEX BEL"]
["WRWS"]
["XHONNEUX Y. TRANSP."]
["XYLEM"]

{"sheet":"Fourn. & Matér.","index":5,"n_rows":1539,"n_cols":1,"rows_kept":1539,"cut":false,"hidden":false,"merged":[[0,0,1,0]]}
["Fournitures et Matériaux"]
[]
[]
["Fournitures et Matériaux"]
["Asco-Rephalt 0/3 sac de 14kg"]
["Asco-Rephalt primer en spray 500ml"]
["Assise Armé pour tuyaux diam. 400 long. 1,90m Rendu"]
["Assise Armé pour tuyaux diam. 500 long. 1,90m Rendu"]
["Assise Armé pour tuyaux diam. 600 long. 1,90m Rendu"]
["Avaloir A16 STP3 (bac seul) - 160"]
["Avaloir A16 STP3 (bac seul) - 200"]
["Avaloir A16 STP3 (bac seul) lg=50cm"]
["Avaloir A19b - incurvé - bar. 45° - 160"]
["Avaloir A19b - incurvé - bar. 45° - 200"]
["Avaloir A19b - incurvé - bar. ronds - 160"]
["Avaloir A19b - incurvé - bar. ronds - 200"]
["Avaloir A19b - plat - bar. 45° - 160"]
["Avaloir A19b - plat - bar. 45° - 200"]
["Avaloir A19b - plat - bar. rect. - 160"]
["Avaloir A19b - plat - bar. rect. - 200"]
["Avaloir A19b - plat - bar. ronds - 160"]
["Avaloir A19b - plat - bar. ronds - 200"]
["Avaloir A19b lg=30cm"]
["Avaloir A6 STP1 lg=30cm"]
["Avaloir A7B - incurvé - bar. ronds - 160"]
["Avaloir A7B - incurvé - bar. ronds - 200"]
["Avaloir A7B - plat - bar. ronds - 160"]
["Avaloir A7B - plat - bar. ronds - 200"]
["Avaloir A7B lg=50cm"]
["Avaloir A7c - incurvé - bar. ronds - 160"]
["Avaloir A7c - incurvé - bar. ronds - 200"]
["Avaloir A7c - plat - bar. ronds - 160"]
["Avaloir A7c - plat - bar. ronds - 200"]
["Avaloir A7c lg=50cm"]
["Avaloir A8 - incurvé - bar. 45° - 160"]
["Avaloir A8 - incurvé - bar. 45° - 200"]
["Avaloir A8 - incurvé - bar. ronds - 160"]
["Avaloir A8 - incurvé - bar. ronds - 200"]
["Avaloir A8 - plat - bar. 45° - 160"]
["Avaloir A8 - plat - bar. 45° - 200"]
["Avaloir A8 - plat - bar. rect. - 160"]
["Avaloir A8 - plat - bar. rect. - 200"]
["Avaloir A8 - plat - bar. ronds - 160"]
["Avaloir A8 - plat - bar. ronds - 200"]
["Avaloir A8 lg=30cm"]
["Avaloir A8b - incurvé - bar. 45° - 160"]
["Avaloir A8b - incurvé - bar. 45° - 200"]
["Avaloir A8b - incurvé - bar. ronds - 160"]
["Avaloir A8b - incurvé - bar. ronds - 200"]
["Avaloir A8b - plat - bar. 45° - 160"]
["Avaloir A8b - plat - bar. 45° - 200"]
["Avaloir A8b - plat - bar. rect. - 160"]
["Avaloir A8b - plat - bar. rect. - 200"]
["Avaloir A8b - plat - bar. ronds - 160"]
["Avaloir A8b - plat - bar. ronds - 200"]
["Avaloir A8b - plat - piéton - bar. droits écart 2cm - PVC160"]
["Avaloir A8b - plat - piéton - bar. droits écart 2cm - PVC200"]
["Avaloir A8b lg=30cm"]
["Avaloir A8c - incurvé - bar. 45° - 160"]
["Avaloir A8c - incurvé - bar. 45° - 200"]
["Avaloir A8c - incurvé - bar. ronds - 160"]
["Avaloir A8c - incurvé - bar. ronds - 200"]
["Avaloir A8c - plat - bar. 45° - 160"]
["Avaloir A8c - plat - bar. 45° - 200"]
["Avaloir A8c - plat - bar. rect. - 160"]
["Avaloir A8c - plat - bar. rect. - 200"]
["Avaloir A8c - plat - bar. ronds - 160"]
["Avaloir A8c - plat - bar. ronds - 200"]
["Avaloir A8c - plat - piéton - bar. droits écart 2cm - PVC160"]
["Avaloir A8c - plat - piéton - bar. droits écart 2cm - PVC200"]
["Avaloir A8c lg=30cm"]
["Avaloir A9 - incurvé - 160"]
["Avaloir A9 - incurvé - 200"]
["Avaloir A9 - plat - 160"]
["Avaloir A9 - plat - 200"]
["Avaloir A9 lg=50cm"]
["Avaloir A9b - incurvé - 160"]
["Avaloir A9b - incurvé - 200"]
["Avaloir A9b - plat - 160"]
["Avaloir A9b - plat - 200"]
["Avaloir A9b lg=50cm"]
["Avaloir B14 (grille) lg=60cm"]
["Avaloir B14 grille incurvée"]
["Avaloir B14 grille plate"]
["Avaloir B15 STP4 (grille) lg=50cm"]
["Avaloir B15 STP4 grille incurvée"]
["Avaloir B15 STP4 grille plate"]
["Avaloir B19 STP2 (grille + bordure) lg=45cm"]
["Avaloir B21 Autoroute lg=75cm"]
["Avaloir B21 grille plate"]
["Avaloir B214 grille incurvée"]
["Avaloir largeur 20cm"]
["Avaloir largeur 30cm"]
["Avaloir largeur 50cm"]
["Avaloir largeur 75cm"]
["Banc Marina , Lg 230cm, assise en bois, 3 pieds alu"]
["Bande de contrebutage 100/20/100 rendu"]
["Bande de contrebutage 100/25/15 rendu"]
["Bande de contrebutage 50/20/100 rendu"]
["Bande de contrebutage IIA1 100/20/50 rendu"]
["Bande de contrebutage IIA1 50/20/50 rendu"]
["Bande de contrebutage IIB1 100/20/75 rendu"]
["Bande de contrebutage IIB1 50/20/75 rendu"]
["Bande de contrebutage IID1 100/20/20 rendu"]
["Bande de contrebutage IID1 50/20/20 rendu"]
["Bande de contrebutage IIE1 100/20/30 rendu"]
["Bande de contrebutage IIE1 100/20/30 rendu R=2,00 m"]
["Bande de contrebutage IIE1 50/20/30 rendu"]
["Bande de contrebutage IIE1 courbe 78/20/30 rendu"]
["BARBOTEC RB en sac 2"]
["BARBOTEC RB en seau"]
["Béton C12/15 250kg/m3 hl 0/16 Départ"]
["Béton C12/15 250kg/m3 hl 0/16 Rendu"]
["Béton C12/15 250kg/m3 hl 0/20 Départ"]
["Béton C12/15 250kg/m3 hl 0/20 Rendu"]
["Béton C12/15 250kg/m3 hl 0/8 Départ"]
["Béton C12/15 250kg/m3 hl 0/8 Rendu"]
["Béton C16/20 300kg/m3 hl 0/16 Départ"]
["Béton C16/20 300kg/m3 hl 0/16 Rendu"]
["Béton C16/20 300kg/m3 hl 0/20 Départ"]
["Béton C16/20 300kg/m3 hl 0/20 Rendu"]
["Béton C16/20 300kg/m3 hl 0/8 Départ"]
["Béton C16/20 300kg/m3 hl 0/8 Rendu"]
["Béton C16/20 EE1 CEM III/A 42,5 N LA S1 20 mm - Départ"]
["Béton C25/30 350kg/m3 hk 0/16 Départ"]
["Béton C25/30 350kg/m3 hk 0/16 Rendu"]
["Béton C25/30 350kg/m3 hk 0/20 Départ"]
["Béton C25/30 350kg/m3 hk 0/20 Rendu"]
["Béton C25/30 350kg/m3 hk 0/8 Départ"]
["Béton C25/30 350kg/m3 hk 0/8 Rendu"]
["Béton C30/37 375kg/m3 hk 0/16 Départ"]
["Béton C30/37 375kg/m3 hk 0/16 Départ Slipform et 22 min."]
["Béton C30/37 375kg/m3 hk 0/16 Rendu"]
["Béton C30/37 375kg/m3 hk 0/16 Rendu Slipform et 22 min."]
["Béton Dolomie Stabilisé au ciment blanc"]
["Béton Fillmix 10N/mm2"]
["Béton fond. 12 MPa à 90 j. CEM III/A 32,5 N LH LA S1 20mm S0"]
["Béton fond. 15 MPa à 90 j. CEM III/A 32,5 N LH LA S1 20mm S0"]
["Béton fond. 20 MPa à 90 j. CEM III/A 42,5 N LA S1 20mm Ca"]
["Béton fond. 30 MPa à 90 j. CEM III/A 42,5 N LA S1 20mm Ca"]
["Béton Maigre 100kg/m3 S1 0/20 Calcaire Départ"]
["Béton Maigre 100kg/m3 S1 0/20 Calcaire Départ (Code produit : 109278)"]
["Béton Maigre 100kg/m3 S1 0/20 Gravier concassé Départ"]
["Béton Maigre 100kg/m3 S1 0/20 Poreux Départ (Code produit : 111536)"]
["Béton Maigre 100kg/m3 S1 0/20 Recyclé béton Départ"]
["Béton Maigre 100kg/m3 S1 0/30 Calcaire Départ"]
["Béton Maigre 100kg/m3 S1 0/30 Gravier concassé Départ"]
["Béton Maigre 100kg/m3 S1 0/30 Recyclé béton Départ"]
["Béton Maigre 125kg/m3 S1 0/20 Calcaire Départ"]
["Béton Maigre 125kg/m3 S1 0/20 Gravier concassé Départ"]
["Béton Maigre 125kg/m3 S1 0/20 Recyclé béton Départ"]
["Béton Maigre 125kg/m3 S1 0/30 Calcaire Départ"]
["Béton Maigre 125kg/m3 S1 0/30 Gravier concassé Départ"]
["Béton Maigre 125kg/m3 S1 0/30 Recyclé béton Départ"]
["Béton Maigre 150kg/m3 S1 0/20 Calcaire Départ"]
["Béton Maigre 150kg/m3 S1 0/20 Calcaire Départ (Code produit : 109307)"]
["Béton Maigre 150kg/m3 S1 0/20 Gravier concassé Départ"]
["Béton Maigre 150kg/m3 S1 0/20 Recyclé béton Départ"]
["Béton Maigre 150kg/m3 S1 0/30 Calcaire Départ"]
["Béton Maigre 150kg/m3 S1 0/30 Gravier concassé Départ"]
["Béton Maigre 150kg/m3 S1 0/30 Recyclé béton Départ"]
["Béton Maigre 175kg/m3 S1 0/20 Calcaire Départ"]
["Béton Maigre 175kg/m3 S1 0/20 Calcaire pour Slipform Départ"]
["Béton Maigre 175kg/m3 S1 0/20 Calcaire pour Slipform Rendu"]
["Béton Maigre 175kg/m3 S1 0/20 Gravier concassé Départ"]
["Béton Maigre 175kg/m3 S1 0/20 Recyclé béton Départ"]
["Béton Maigre 175kg/m3 S1 0/30 Calcaire Départ"]
["Béton Maigre 175kg/m3 S1 0/30 Gravier concassé Départ"]
["Béton Maigre 175kg/m3 S1 0/30 Recyclé béton Départ"]
["Béton Maigre 200kg/m3 S1 0/20 Calcaire Départ"]
["Béton Maigre 200kg/m3 S1 0/20 Gravier concassé Départ"]
["Béton Maigre 200kg/m3 S1 0/20 Poreux Départ"]
["Béton Maigre 200kg/m3 S1 0/20 Recyclé béton Départ"]
["Béton Maigre 200kg/m3 S1 0/30 Calcaire Départ"]
["Béton Maigre 200kg/m3 S1 0/30 Gravier concassé Départ"]
["Béton Maigre 200kg/m3 S1 0/30 Recyclé béton Départ"]
["Béton Maigre 225kg/m3 S1 0/20 Calcaire Départ"]
["Béton Maigre 225kg/m3 S1 0/20 Gravier concassé Départ"]
["Béton Maigre 225kg/m3 S1 0/20 Recyclé béton Départ"]
["Béton Maigre 250kg/m3 S1 0/20 Calcaire Départ"]
["Béton Maigre 250kg/m3 S1 0/20 Gravier concassé Départ"]
["Béton Maigre 250kg/m3 S1 0/20 Recyclé béton Départ"]
["Béton Maigre 250kg/m3 S1 0/30 Calcaire Départ"]
["Béton Maigre 250kg/m3 S1 0/30 Gravier concassé Départ"]
["Béton Maigre 250kg/m3 S1 0/30 Recyclé béton Départ"]
["Béton Maigre 275kg/m3 S1 0/20 Calcaire Départ"]
["Béton Maigre 275kg/m3 S1 0/20 Gravier concassé Départ"]
["Béton Maigre 275kg/m3 S1 0/20 Recyclé béton Départ"]
["Béton Maigre 300kg/m3 S1 0/20 Calcaire Départ"]
["Béton Maigre 300kg/m3 S1 0/20 Gravier concassé Départ"]
["Béton Maigre 300kg/m3 S1 0/20 Recyclé béton Départ"]
["Béton Maigre 300kg/m3 S1 0/30 Calcaire Départ"]
["Béton Maigre 300kg/m3 S1 0/30 Gravier concassé Départ"]
["Béton Maigre 300kg/m3 S1 0/30 Recyclé béton Départ"]
["Béton Maigre 350kg/m3 S1 0/20 Calcaire Départ"]
["Béton Maigre 350kg/m3 S1 0/20 Gravier concassé Départ"]
["Béton Maigre 350kg/m3 S1 0/20 Recyclé béton Départ"]
["Béton Maigre 350kg/m3 S1 0/30 Calcaire Départ"]
["Béton Maigre 350kg/m3 S1 0/30 Gravier concassé Départ"]
["Béton Maigre 50kg/m3 S1 0/20 Calcaire Départ (Code produit : 112066)"]
["Béton Maigre 50kg/m3 S1 0/20 Gravier concassé Départ"]
["Béton Maigre 50kg/m3 S1 0/20 Poreux Départ"]
["Béton Maigre 50kg/m3 S1 0/20 Recyclé béton Départ"]
["Béton Maigre 50kg/m3 S1 0/30 Calcaire Départ"]
["Béton Maigre 50kg/m3 S1 0/30 Gravier concassé Départ"]
["Béton Maigre 50kg/m3 S1 0/30 Recyclé béton Départ"]
["Béton Maigre 75kg/m3 S1 0/20 Calcaire Départ"]
["Béton Maigre 75kg/m3 S1 0/20 Gravier concassé Départ"]
["Béton Maigre 75kg/m3 S1 0/20 Recyclé béton Départ"]
["Béton Maigre 75kg/m3 S1 0/30 Calcaire Départ"]
["Béton Maigre 75kg/m3 S1 0/30 Gravier concassé Départ"]
["Béton Maigre 75kg/m3 S1 0/30 Recyclé béton Départ"]
["Béton maigre pour filet d'eau mouillé rendu mixer"]
["Béton revêt. 40MPa 90j. CEM III/A 42,5 N LA S3 20mm calcaire"]
["Béton revêt. 40MPa 90j. CEM III/A 42,5 N LA S3 20mm porphyre"]
["Béton Supplément Forfait pour mixer-Tapis de 17M"]
["Béton Supplément Forfait pour Pompe de 32M"]
["Béton Supplément Forfait pour Pompe de 36M"]
["Béton Supplément Forfait pour Pompe de 44M"]
["Béton Supplément Gravier 2/8"]
["Béton Supplément Gravier 4/14"]
["Béton Supplément P40"]
["Béton Supplément P50"]
["Béton Supplément pour Charge Incomplète du Mixer"]
["Béton Supplément pour la Chape"]
["Béton Supplément pour l'Attente du Mixer"]
["Béton Supplément prix Rendu pour Stabilisé et Béton Maigre"]
["Béton Supplément S4"]
["Béton Supplément S5"]
["Béton Supplément/M3 pour mixer-Tapis de 17M"]
["Béton Supplément/M3 pour Pompe de 32M avec 400min"]
["Béton Supplément/M3 pour Pompe de 36M avec 500min"]
["Béton Supplément/M3 pour Pompe de 44M avec 800min"]
["Bitume isolation en fût de 15 L"]
["Bitume isolation en fût de 200 L"]
["Bloc-mur creu parement 100 (L) x 100 (l) x 50 (Ht)"]
["Bloc-mur creu parement 100 (L) x 50 (l) x 50 (Ht)"]
["Bloc-mur creu parement 100 (L) x 75 (l) x 50 (Ht)"]
["Bloc-mur creu parement 200 (L) x 100 (l) x 50 (Ht)"]
["Bloc-mur creu parement 200 (L) x 50 (l) x 50 (Ht)"]
["Bloc-mur creu parement 200 (L) x 75 (l) x 50 (Ht)"]
["Bloc-mur creu sans parement 100 (L) x 100 (l) x 50 (Ht)"]
["Bloc-mur creu sans parement 100 (L) x 50 (l) x 50 (Ht)"]
["Bloc-mur creu sans parement 100 (L) x 75 (l) x 50 (Ht)"]
["Bloc-mur creu sans parement 200 (L) x 100 (l) x 50 (Ht)"]
["Bloc-mur creu sans parement 200 (L) x 50 (l) x 50 (Ht)"]
["Bloc-mur creu sans parement 200 (L) x 75 (l) x 50 (Ht)"]
["Bloc-mur plein parement 100 (L) x 100 (l) x 50 (Ht)"]
["Bloc-mur plein parement 100 (L) x 20 (l) x 50 (Ht)"]
["Bloc-mur plein parement 100 (L) x 40 (l) x 50 (Ht)"]
["Bloc-mur plein parement 100 (L) x 50 (l) x 50 (Ht)"]
["Bloc-mur plein parement 100 (L) x 75 (l) x 50 (Ht)"]
["Bloc-mur plein parement 200 (L) x 100 (l) x 50 (Ht)"]
["Bloc-mur plein parement 200 (L) x 20 (l) x 50 (Ht)"]
["Bloc-mur plein parement 200 (L) x 40 (l) x 50 (Ht)"]
["Bloc-mur plein parement 200 (L) x 50 (l) x 50 (Ht)"]
["Bloc-mur plein parement 200 (L) x 75 (l) x 50 (Ht)"]
["Bloc-mur plein sans parement 100 (L) x 100 (l) x 50 (Ht)"]
["Bloc-mur plein sans parement 100 (L) x 50 (l) x 50 (Ht)"]
["Bloc-mur plein sans parement 100 (L) x 75 (l) x 50 (Ht)"]
["Bloc-mur plein sans parement 200 (L) x 100 (l) x 50 (Ht)"]
["Bloc-mur plein sans parement 200 (L) x 50 (l) x 50 (Ht)"]
["Bloc-mur plein sans parement 200 (L) x 75 (l) x 50 (Ht)"]
["Bordure 100/17/25 2/2 rendu"]
["Bordure 100/20/8 plane rendu"]
["Bordure 100/25/10 plane rendu"]
["Bordure 100/25/15 plane rendu"]
["Bordure 100/27/20 plane rendu"]
["Bordure 100/30/15 10/7 rendu"]
["Bordure 100/30/6 plane rendu"]
["Bordure 100/35/15 2/2 en Pierre rendu"]
["Bordure 100/40/10 plane rendu"]
["Bordure 100/40/20 dos arrondi 1 côté"]
["Bordure 100/40/8 emboitement"]
["Bordure 100/40/8 plane rendu"]
["Bordure 100/50/20 2/2 rendu"]
["Bordure 100/52/14 2/2 rendu"]
["Bordure 100/80/40 Chasse Roue rendu"]
["Bordure 200/80/60 chasse roue rendu (new jersey double face)"]
["Bordure Béton Blanc IDA 6/13 Courbe Long. 16cm"]
["Bordure Béton Blanc IDA 6/13 Long. 100cm"]
["Bordure Béton Blanc IDA 6/13 Long. 50cm"]
["Bordure Béton Blanc IDA 6/13 Pointe"]
["Bordure Béton Blanc IDB 11/18 Courbe Long. 16cm"]
["Bordure Béton Blanc IDB 11/18 Long. 100cm"]
["Bordure Béton Blanc IDB 11/18 Long. 50cm"]
["Bordure Béton Blanc IDB 11/18 Pointe"]
["Bordure courbe IB 78/30/20 plane rendu"]
["Bordure courbe IC1 78/30/15 plane rendu"]
["Bordure courbe IC2 78/30/15 2/2 rendu"]
["Bordure courbe ID1 78/30/10 0,5/0,5 rendu"]
["Bordure courbe ID1 78/30/10 2/2 rendu"]
["Bordure courbe ID1 78/30/10 plane rendu"]
["Bordure courbe ID2 78/20/10 plane rendu"]
["Bordure courbe IE 100/27/20 5/10 rendu"]
["Bordure courbe IF1 100/20/30 3/20 rendu"]
["Bordure d'acces 50/20/50 rendu"]
["Bordure en pierre 30/15 10/5 départ"]
["Bordure en pierre 30/15 2/2 ext courbe r=12"]
["Bordure en pierre 30/15 2/2 ext courbe r=3"]
["Bordure en pierre 30/15 2/2 ext courbe r=4"]
["Bordure en pierre 30/15 2/2 ext courbe r=6"]
["Bordure en pierre 30/15 transition 10/5 à 2/2 droite départ"]
["Bordure en pierre 30/15 transition 10/5 à 2/2 gauche départ"]
["Bordure en pierre IC2 100/30/15 2/2 départ"]
["Bordure en pierre réemploi IC2 30/15  2/2 Lg fixe"]
["Bordure en pierre réemploi IC2 30/15  2/2 Lg variable"]
["Bordure filet d'eau 100/20x18/50 rendu"]
["Bordure filet d'eau IIIA 100/20x15/45 rendu"]
["Bordure filet d'eau IIIA 50/20x15/45 rendu"]
["Bordure filet d'eau IIIB 100/20x15/45 rendu"]
["Bordure filet d'eau IIIB 50/20x15/45 rendu"]
["Bordure filet d'eau IIIC 100/22x15/50 rendu"]
["Bordure filet d'eau IIIC 50/22x15/50 rendu"]
["Bordure filet d'eau IIID 100/30x20/45 rendu"]
["Bordure filet d'eau IIID 50/30x20/45 rendu"]
["Bordure filet d'eau IIIE 100/20x15/50 rendu"]
["Bordure filet d'eau IIIE 50/20x15/50 rendu"]
["Bordure IA 100/35/15 2/2 rendu"]
["Bordure IA 50/35/15 2/2 rendu"]
["Bordure IA coin 50X50/35/15 2/2 Intérieur 135° rendu"]
["Bordure IA coin 50X50/35/15 2/2 Intérieur 90° rendu"]
["Bordure IA courbe 78/35/15 2/2 rendu"]
["Bordure IB 100/30/20 2/2 rendu"]
["Bordure IB 50/30/20 2/2 rendu"]
["Bordure IB coin 50X50/30/20 2/2 Intérieur 135° rendu"]
["Bordure IB coin 50X50/30/20 2/2 Intérieur 90° rendu"]
["Bordure IC1 100/30/15 plane rendu"]
["Bordure IC1 50/30/15 plane rendu"]
["Bordure IC1 coin 50X50/30/15 plane Intérieur 135° rendu"]
["Bordure IC1 coin 50X50/30/15 plane Intérieur 90° rendu"]
["Bordure IC2 100/30/15 2/2 rendu"]
["Bordure IC2 50/30/15 2/2 rendu"]
["Bordure IC2 coin 50X50/30/15 2/2 Intérieur 135° rendu"]
["Bordure IC2 coin 50X50/30/15 2/2 Intérieur 90° rendu"]
["Bordure ID1 100/30/10 0,5/0,5 rendu"]
["Bordure ID1 100/30/10 2/2 rendu"]
["Bordure ID1 100/30/10 plane rendu"]
["Bordure ID1 50/30/10 plane rendu"]
["Bordure ID1 coin 50X50/30/10 plane Intérieur 135° rendu"]
["Bordure ID1 coin 50X50/30/10 plane Intérieur 90° rendu"]
["Bordure ID2 100/20/10 plane rendu"]
["Bordure ID2 50/20/10 plane rendu"]
["Bordure ID2 coin 50X50/20/10 plane Intérieur 135° rendu"]
["Bordure ID2 coin 50X50/20/10 plane Intérieur 90° rendu"]
["Bordure ID3 100/25/8 plane rendu"]
["Bordure ID3 50/25/8 plane rendu"]
["Bordure ID3 coin 50X50/25/8 plane Intérieur 135° rendu"]
["Bordure ID3 coin 50X50/25/8 plane Intérieur 90° rendu"]
["Bordure ID3 courbe 78/25/8 plane rendu"]
["Bordure ID4 100/20/6 plane rendu"]
["Bordure ID4 50/20/6 plane rendu"]
["Bordure ID4 coin 50X50/20/6 plane Intérieur 135° rendu"]
["Bordure ID4 coin 50X50/20/6 plane Intérieur 90° rendu"]
["Bordure ID4 courbe 78/20/6 plane rendu"]
["Bordure ID5 100/15/5 plane rendu"]
["Bordure IE 100/27/20 5/10 rendu"]
["Bordure IE 50/27/20 5/10 rendu"]
["Bordure IE coin 50X50/27/20 5/10 Intérieur 135° rendu"]
["Bordure IE coin 50X50/27/20 5/10 Intérieur 90° rendu"]
["Bordure IF1 100/20/30 3/20 rendu"]
["Bordure IF1 50/20/30 3/20 rendu"]
["Bordure IF1 coin 50X50/20/30 3/20 Intérieur 135° rendu"]
["Bordure IF1 coin 50X50/20/30 3/20 Intérieur 90° rendu"]
["Bordure IF2 100/17/25 2,5/15 rendu"]
["Bordure IF2 50/17/25 2,5/15 rendu"]
["Bordure IF2 coin 50X50/17/25 2,5/15 Intérieur 135° rendu"]
["Bordure IF2 coin 50X50/17/25 2,5/15 Intérieur 90° rendu"]
["Bordure IF2 courbe 780/17/25 2,5/15 rendu"]
["Bordure parking 100/20/10 blanche dos arrondi"]
["Bordure parking 100/20/10 blanche rendu"]
["Bordure parking 100/20/12 gris dos arrondi"]
["Bordure parking 73/20/10 blanche dos arrondi"]
["Bordure Supplément pour Transport"]
["Bordure TEC 100/35/15 en Pierre rendu"]
["Borne azobé 145x145x1400 2 bandes réfléchissantes"]
["Bouchon PP 160"]
["Bouchon PP 200"]
["Bouchon PVC 110"]
["Bouchon PVC 125"]
["Bouchon PVC 125 avec embout"]
["Bouchon PVC 160 avec embout"]
["Bouchon PVC 160 Capuchon"]
["Bouchon PVC 200"]
["Bouchon PVC 200 avec embout"]
["Bouchon PVC 200 pour bout lisse"]
["Bouchon PVC 250"]
["Bouchon PVC 250 avec embout"]
["Bouchon PVC 315"]
["Bouchon PVC 315 avec embout"]
["Bouchon PVC 400"]
["Bouchon PVC 400 avec embout"]
["Caniveau de talus 60-60 / 100-125, Lg 125 cm"]
["Caution Fut"]
["Chassis Fonte double 70/70 ext."]
["Chassis Fonte hydraulique 40 To CV 60/60 int - 70x70 ext."]
["Chassis Fonte simple 60/60 ext."]
["Chassis Hydraulique 100/100 40T"]
["Chassis Hydraulique 40/40 12T"]
["Chassis Hydraulique 50/50 12T"]
["Chassis Hydraulique 60/60 12T"]
["Chassis Hydraulique 70/70 12T"]
["Chassis Hydraulique 70/70 B125"]
["Chassis Hydraulique 80/80 12T"]
["Chassis Hydraulique 90/90 12T"]
["Chassis Hydraulique OL 70/70 B125"]
["Chevrons 59 x 55 mm non raboté 420cm"]
["Chevrons 63 x 48 mm non traité non raboté 420cm"]
["Citerne eau de pluie 4.500L en béton"]
["Clapet anti-retour PVC 250"]
["Clou acier strie 3,5x45 (250 p)"]
["COLLE DURCEL"]
["Coude 15° PP 160"]
["Coude 15° PP 200"]
["Coude 15° PVC 110"]
["Coude 15° PVC 125"]
["Coude 15° PVC 160"]
["Coude 15° PVC 160 SN8"]
["Coude 15° PVC 200"]
["Coude 15° PVC 250"]
["Coude 15° PVC 315"]
["Coude 15° PVC 400"]
["Coude 30° PP 160"]
["Coude 30° PP 200"]
["Coude 30° PVC 110"]
["Coude 30° PVC 125"]
["Coude 30° PVC 160"]
["Coude 30° PVC 160 SN8"]
["Coude 30° PVC 200"]
["Coude 30° PVC 200 SN8"]
["Coude 30° PVC 250"]
["Coude 30° PVC 315"]
["Coude 30° PVC 400"]
["Coude 45° PP 160"]
["Coude 45° PP 200"]
["Coude 45° PP 250"]
["Coude 45° PVC 110"]
["Coude 45° PVC 125"]
["Coude 45° PVC 160"]
["Coude 45° PVC 160 SN8"]
["Coude 45° PVC 200"]
["Coude 45° PVC 200 SN8"]
["Coude 45° PVC 250"]
["Coude 45° PVC 315"]
["Coude 45° PVC 400"]
["Coude 67° PP 200"]
["Coude 67° PVC 110"]
["Coude 67° PVC 125"]
["Coude 67° PVC 160"]
["Coude 67° PVC 200"]
["Coude 67° PVC 200 SN8"]
["Coude 67° PVC 250"]
["Coude 67° PVC 315"]
["Coude 67° PVC 400"]
["Coude 90° PP 160"]
["Coude 90° PP 200"]
["Coude 90° PVC 110"]
["Coude 90° PVC 125"]
["Coude 90° PVC 160"]
["Coude 90° PVC 160 SN8"]
["Coude 90° PVC 200"]
["Coude 90° PVC 200 SN8"]
["Coude 90° PVC 250"]
["Coude 90° PVC 315"]
["Coude 90° PVC 400"]
["Coussin berlinois 300x175x28 pavés rouges (départ)"]
["COUSSIN BERLINOIS 300x180x21 GRIS"]
["Couvercle Béton pour CV 100/100 int - 114/114 ext"]
["Couvercle Béton pour CV 30/30 int - 38/38 ext"]
["Couvercle Béton pour CV 40/40 int - 48/48 ext"]
["Couvercle Béton pour CV 50/50 int - 58/58 ext"]
["Couvercle Béton pour CV 60/60 int - 68/68 ext"]
["Couvercle Béton pour CV 80/80 int - 92/92 ext"]
["Couvre-mur 30cm, Lg 1m, 2 pentes, béton gris"]
["Couvre-mur 62cm, Lg 1m, 1 pente, béton gris"]
["Crochet de levage 5To en consignation"]
["CUROL SIT (INCOLORE) en 25l"]
["CUROL SRN NEUTRE en 25 ou 30L"]
["CV PP250 E/S 160"]
["CV PP315 E/S 160"]
["CV PP315 E/S 200"]
["CV PP400 E/S 200"]
["CV PVC 315 E/S 160 Haut 36cm"]
["Dalle aveugle ligne 30/30/6"]
["Dalle aveugle ligne 30/30/8"]
["Dalle aveugle pastille 30/30/6"]
["Dalle aveugle pastille 30/30/8"]
["Dalle béton 30/30/3"]
["Dalle béton 30/30/4"]
["Dalle béton 30/30/5"]
["Dalle béton 30/30/6"]
["Dalle béton 30/30/7"]
["Dalle béton 30/30/8"]
["Dalle Béton Armé 100/100/10"]
["Dalle Béton Armé 100/50/13"]
["Dalle Béton Armé 105/50/10"]
["Dalle Béton Armé 114/114/12"]
["Dalle Béton Armé 116/116/12 - trou Ø65cm"]
["Dalle Béton Armé 120/120/15 - trou Ø70cm"]
["Dalle Béton Armé 140/100/15"]
["Dalle Béton Armé 140/140/15"]
["Dalle Béton Armé 140/140/20 - trou Ø70cm"]
["Dalle Béton Armé 150/150/13"]
["Dalle Béton Armé 150/150/15"]
["Dalle Béton Armé 150/150/20 - trou Ø100cm"]
["Dalle Béton Armé 160/160/15 - trou Ø70cm"]
["Dalle Béton Armé 160/160/20 - trappillon 10cm 40To intégré"]
["Dalle Béton Armé 160/160/20 - trou Ø100cm"]
["Dalle Béton Armé 190/190/22 - trou exc. Ø100cm"]
["Dalle Béton Armé 198/40/4"]
["Dalle Béton Armé 200/200/20 - trou Ø70cm"]
["Dalle Béton Armé 220/140/20 - trou Ø70cm"]
["Dalle Béton Armé 275/165/20 - trou Ø100cm"]
["Dalle Béton Armé 80/50/5"]
["Dalle Béton Armé sur mesure (m3)"]
["Dalle Béton Armé sur mesure (pc)"]
["Dalle en Caoutchouc 30/30/6"]
["Dalle en Caoutchouc 30/30/8"]
["Dalle Excentrique Ø100 - trou Ø70"]
["Dalle Excentrique Ø120 - trou Ø100"]
["Dalle Excentrique Ø120 - trou Ø70"]
["Dalle Excentrique Ø150 - trou Ø100"]
["Dalle Gazon 60/40/10 nervure rendu"]
["Dalle Gazon 60/40/10 plane rendu"]
["Dalle Gazon 60/40/12 nervure rendu"]
["Dalle Gazon 60/40/12 plane rendu"]
["Dalle gazon supplément palette"]
["Dalle gazon supplément pose"]
["Dalle pierre bleue 30x30x10cm dessus bouchardé et bords scié"]
["DIVERS ABC EXPERT"]
["DIVERS ABTECH"]
["DIVERS AIDE"]
["DIVERS ALARM MUST"]
["DIVERS ALL TECH"]
["DIVERS AMIX"]
["DIVERS APRI LETTRES"]
["DIVERS ARDENNES CLOTURES"]
["DIVERS ASPHALTCO"]
["DIVERS ASPIRTOUT"]
["DIVERS ASWEBO"]
["DIVERS BAGUETTE"]
["DIVERS BALAES"]
["DIVERS BATIDAL"]
["DIVERS BATITEC"]
["DIVERS BBM PLENESSES"]
["Divers BBM Plenesses (m³)"]
["DIVERS BECKAERT"]
["DIVERS BELGACOM"]
["DIVERS BELGIUM COATINGS"]
["DIVERS BELURBA"]
["DIVERS BETON DE LA LOMME"]
["DIVERS BETON DE LIEGE"]
["DIVERS BETON MOSAN"]
["DIVERS BG PIPE"]
["Divers BIEMAR"]
["Divers BIG MAT Beaufays"]
["Divers BIG MAT Giet-Bodarwé"]
["Divers BIG MAT Lejeune"]
["Divers BIG MAT Lepot"]
["Divers BIG MAT Tihange"]
["DIVERS BIGMAT POLEUR-KINET"]
["Divers BMV"]
["Divers BMWill"]
["Divers BODARWE"]
["Divers BODARWE Carrières"]
["DIVERS BONAR"]
["Divers BONFOND"]
["Divers BONIVER"]
["Divers BORETA"]
["Divers BOVIN"]
["Divers BPMN"]
["Divers BRS"]
["Divers BVQI"]
["Divers CABLERIES EUPEN"]
["Divers CARMEUSE ENGIS"]
["Divers CARMEUSE MOHA"]
["DIVERS CARRIERE DU HAINAUT"]
["Divers CASSART"]
["Divers CBS"]
["Divers CEPEBOIS"]
["Divers CHANXHE CARR."]
["Divers CHENE"]
["Divers CHRISTIAENS BETON"]
["Divers CILE"]
["Divers CLAESSENS WETTSTEIN"]
["Divers CLOQUETTE"]
["Divers COFOC"]
["DIVERS CO-JOINT"]
["DIVERS COLLARD"]
["Divers COLLINET"]
["Divers COMPTOIR DES MATERIAUX"]
["Divers CONRADT"]
["Divers COPY BEN"]
["Divers COSETECH"]
["Divers CO-TERRE"]
["Divers COWALCA"]
["Divers CRUSH SCREEN"]
["Divers CTB"]
["Divers DAMBOIS-VAM"]
["Divers DANNEMARK"]
["DIVERS DE BONTE"]
["DIVERS DEBOICO"]
["Divers DECO BETON"]
["Divers DECOMAT"]
["Divers DELPORTE"]
["Divers DEMOULIN"]
["Divers DEPAIRON"]
["DIVERS DEROUAUX"]
["Divers DEROUSSEAU"]
["Divers DISTEEL"]
["Divers DONEA"]
["Divers DOTHEE"]
["Divers DOYEN"]
["Divers DYKA"]
["Divers EBEMA"]
["DIVERS ECOBETON"]
["Divers EDSON"]
["Divers ELOY"]
["Divers Eloy Water"]
["Divers Emergo"]
["Divers EMOTRADE"]
["Divers EMUBEL"]
["Divers ENVEMAT"]
["Divers ESI"]
["Divers ETIENNE G."]
["Divers EUROVIA"]
["Divers EVRARD"]
["Divers FAYEN"]
["Divers FERRARI"]
["Divers FETTWEIS"]
["DIVERS FISSE"]
["Divers FODETRA"]
["DIVERS FOU"]
["Divers Gabstyle"]
["Divers GAMA ASPHALT"]
["DIVERS GARSOU"]
["Divers GDA"]
["DIVERS GEHLEN"]
["Divers Germeau Carrière"]
["Divers GHM"]
["Divers GOVAERTS"]
["Divers GRALEX"]
["Divers GRAVAUBEL"]
["Divers GRAVIBETON"]
["Divers GROSJEAN"]
["DIVERS HAAS"]
["Divers HAKO"]
["DIVERS HANSEZ"]
["DIVERS HAUSMAN"]
["Divers HAVART"]
["Divers HENKENS"]
["Divers HENRARD"]
["Divers HERZET"]
["Divers HILTI"]
["DIVERS HITRA"]
["Divers HOFMAN"]
["Divers HOLCIM"]
["Divers HUTSCHEMACKERS"]
["Divers INFRATECH"]
["DIVERS INTERBLOCS"]
["Divers INTERPIPE"]
["Divers INTRADEL"]
["DIVERS ITM"]
["DIVERS JANSSEN Riolerings"]
["DIVERS JARDYWOOD"]
["Divers JMV"]
["Divers JOBE"]
["Divers JOSKIN"]
["Divers JYM"]
["DIVERS KERAMO"]
["Divers KEVERS"]
["Divers KM"]
["Divers Kreijen Bert"]
["Divers LABINTER"]
["DIVERS LACROIX (Jardin)"]
["DIVERS LACROIX (Tout Faire)"]
["Divers LAMBERT Quinc."]
["DIVERS LAMBRIGHS"]
["Divers Lance"]
["Divers LECOMTE"]
["Divers LEJEUNE Quinc."]
["Divers LEJEUNE Spa"]
["Divers LEMMENS"]
["Divers LENAERTS"]
["Divers LENARTZ Chauff."]
["Divers LIEGEOIS"]
["Divers LOCASIX"]
["DIVERS LODOMEZ"]
["Divers LOVEMAT"]
["Divers LRL"]
["Divers LTB"]
["Divers Macfer"]
["Divers MAISIER"]
["Divers MAQUINAY"]
["Divers MARAITE Bernard"]
["Divers MATEGRO"]
["DIVERS MATERIAUX"]
["Divers MATERNE DORMAL"]
["Divers MMD"]
["Divers MOULAN"]
["Divers MR BRICOLAGE"]
["DIVERS MULTI PRINT"]
["Divers NELLES"]
["Divers NIEZEN"]
["Divers OMNIBETON"]
["Divers OVS (Troquet)"]
["Divers PAQUE Yvan"]
["Divers PAULY-ANDRIANNNE"]
["Divers PERFECTY"]
["Divers PESSER"]
["DIVERS PEUVRATE"]
["Divers PICHA"]
["Divers PIRON - DRINKS"]
["Divers PIROTTE Franz"]
["Divers PLAKABETON"]
["Divers PONCELET"]
["Divers PORTO-MARBEL"]
["Divers PREFER"]
["Divers PRESSPLATE"]
["Divers PROBEMAL"]
["Divers RADERMECKER"]
["Divers RADOUX"]
["Divers READY BETON"]
["Divers RECOM"]
["DIVERS RECYLIEGE"]
["Divers RECYMETAL"]
["DIVERS RECYMO"]
["Divers RETINNE CARR."]
["Divers REVATECH"]
["Divers REXEL"]
["Divers ROBUCO"]
["DIVERS ROCATEC"]
["Divers ROEBBEN"]
["Divers RONVEAUX"]
["DIVERS ROSSART"]
["Divers ROYEN Henri"]
["Divers RUWELEC"]
["Divers SACE-SOGEPLANT"]
["Divers SAGECO"]
["Divers SAINT GOBAIN PIPE SYSTEMS"]
["Divers SAPHIBOIS"]
["Divers SCHEEN-BROUHA"]
["Divers SECO"]
["Divers SEMAT"]
["Divers SEPULT"]
["DIVERS SERVIPLAST"]
["DIVERS SGS"]
["Divers SHANKS"]
["DIVERS SIGNALI"]
["Divers SIMONIS"]
["Divers SITA"]
["DIVERS SODELUX"]
["Divers SODRAEP"]
["Divers SOFERLI"]
["DIVERS SOLHEID"]
["divers somasign"]
["DIVERS SOTRAGEX"]
["Divers SOTRAPHENIX"]
["DIVERS SPI+"]
["Divers STASSART"]
["Divers STRADUS"]
["Divers SUPERPLASTIC"]
["Divers SWDE"]
["Divers TECHNIMAINT"]
["Divers TECHNO MAT"]
["DIVERS TERRA NOVA"]
["Divers TEXION"]
["Divers Thys Kärcher Center"]
["Divers TMB"]
["Divers TOMYGE"]
["Divers TOPO LASER"]
["DIVERS TPIM"]
["Divers TRADECC"]
["Divers TRADECC (m²)"]
["Divers TRAFIROAD"]
["Divers TRAGECO"]
["Divers Travaux&Rénovations"]
["Divers TRAVHYDRO"]
["Divers TSBV"]
["Divers TUBOBEL"]
["Divers TVB"]
["Divers TYCHON"]
["Divers Urbastyle"]
["Divers URBIS"]
["Divers VAN DEN BRULE"]
["Divers VAN DIJCK"]
["DIVERS VANBOCKRIJCK"]
["Divers VB Beton"]
["DIVERS VELOPA"]
["Divers VERT SERVICE"]
["Divers VERVIERS FREINS"]
["DIVERS VIRAGE"]
["Divers VITIELLO"]
["Divers VREVEN"]
["Divers WALPOT"]
["Divers WATCO"]
["DIVERS WAVIN"]
["Divers WILKIN"]
["Divers WIRTGEN"]
["Divers WIRTZ"]
["Divers WOLF (Magil)"]
["Divers WOLTERS"]
["DIVERS WOODEX"]
["DIVERS WRWS"]
["Echelle"]
["Echelle en PVC 1m12"]
["Echelle en PVC 1m40"]
["Echelle en PVC 1m68"]
["Echelle en PVC 1m96"]
["Echelle en PVC 2m24"]
["Echelle en PVC 2m52"]
["Echelle en PVC 2m80"]
["Echelle en PVC 3m08"]
["Echelle en PVC 3m36"]
["Echelle en PVC 3m64"]
["Echelon Inox"]
["Embasse Ø1000"]
["Embasse Ø1200"]
["Embasse Ø1500"]
["Emp. stabilisé type IA 50kg/m3 S1 0/20 Calcaire Dép"]
["Emp. stabilisé type IA 50kg/m3 S1 0/20 Gravier concassé Dép"]
["Emp. stabilisé type IA 50kg/m3 S1 0/20 Recyclé béton Dép"]
["Emp. stabilisé type IA 60kg/m3 S1 0/20 Calcaire Dép"]
["Emp. stabilisé type IA 60kg/m3 S1 0/20 Gravier concassé Dép"]
["Emp. stabilisé type IA 60kg/m3 S1 0/20 Recyclé béton Dép"]
["Emp. stabilisé type IA 80kg/m3 S1 0/20 Calcaire Dép"]
["Emp. stabilisé type IA 80kg/m3 S1 0/20 Gravier concassé Dép"]
["Emp. stabilisé type IA 80kg/m3 S1 0/20 Recyclé béton Dép"]
["Emp. stabilisé type IIA 50kg/m3 S1 0/30 Calcaire Dép"]
["Emp. stabilisé type IIA 50kg/m3 S1 0/30 Gravier concassé Dép"]
["Emp. stabilisé type IIA 50kg/m3 S1 0/30 Recyclé béton Dép"]
["Emp. stabilisé type IIA 60kg/m3 S1 0/30 Calcaire Dép"]
["Emp. stabilisé type IIA 60kg/m3 S1 0/30 Gravier concassé Dép"]
["Emp. stabilisé type IIA 60kg/m3 S1 0/30 Recyclé béton Dép"]
["Emp. stabilisé type IIA 80kg/m3 S1 0/30 Calcaire Dép"]
["Emp. stabilisé type IIA 80kg/m3 S1 0/30 Gravier concassé Dép"]
["Emp. stabilisé type IIA 80kg/m3 S1 0/30 Recyclé béton Dép"]
["Emulsion en Fut de 18L"]
["Emulsion en Fut de 200L"]
["Emulsion en Fut de 60L"]
["Emulsion en vrac >200L"]
["Emulsion S60 en Fut de 200kg"]
["Emulsion S60 en Fut de 50kg"]
["Emulsion S60 en Vrac >200kg"]
["Feuillard 20mm 25M"]
["Filet d'eau 100/10/20 rendu"]
["Filet d'eau 100/15/30 rendu"]
["Filet d'eau 100/15/40 rendu"]
["Filet d'eau 100/20/100 rendu"]
["Filet d'eau 50/20/100 rendu"]
["Filet d'eau IIA2 100/20/50 rendu"]
["Filet d'eau IIA2 50/20/50 rendu"]
["Filet d'eau IIA2 courbe 78/20/50 rendu"]
["Filet d'eau IIB2 100/20/75 rendu"]
["Filet d'eau IIB2 50/20/75 rendu"]
["Filet d'eau IID2 100/20/20 rendu"]
["Filet d'eau IID2 50/20/20 rendu"]
["Filet d'eau IID2 courbe 78/20/20 rendu"]
["Filet d'eau IIE2 100/20/30 rendu"]
["Filet d'eau IIE2 50/20/30 rendu"]
["Filet d'eau IIE2 courbe 78/20/30 rendu"]
["Fond béton pour CV 40/40 int - 50/50 ext - H=30cm"]
["Fond Béton pour CV 60/60 int - 68/68 ext - H=60cm"]
["Fond Béton pour CV 80/80 int - 92/92 ext - H=60cm"]
["Fond de joint à CELL (full) Ø13 mm"]
["Forage Ø165 mm tuyau béton non armé DN400 mm"]
["Forage Tuyau Armé Ø257"]
["Forage Tuyau Non Armé Ø257"]
["Gaine PE DN110mm en barre de 6m avec tire fil"]
["Gaine PE DN110mm en rouleau de 50m avec tire fil"]
["Géogrille Tensar TX160 (4mx75m)"]
["Géogrille Tensar TX170 (4mx50m)"]
["Géotextile coupe"]
["Géotextile NW 9 - 110gr/m2 - 9KN/m"]
["Géotextile NW10 - 120gr/m2 - 10KN/m"]
["Géotextile NW12 - 145gr/m2 - 12KN/m"]
["Géotextile NW13 - 160gr/m2 - 13KN/m"]
["Géotextile NW15 - 180gr/m2 - 15KN/m"]
["Géotextile NW16 - 200gr/m2 - 16KN/m"]
["Géotextile NW18 - 210gr/m2 - 18KN/m"]
["Géotextile NW20 - 235gr/m2 - 20KN/m"]
["Géotextile NW25 - 300gr/m2 - 25KN/m"]
["Géotextile NW26 - 325gr/m2 - 26KN/m"]
["Géotextile SG18/18B - 90gr/m2 - 17kN/m"]
["Géotextile SG18/18DSF - 70gr/m2 - 17KN/m"]
["Géotextile SG20/20 - 84gr/m2 - 20kN/m"]
["Géotextile SG29/29 - 178gr/m2 - 29kN/m"]
["Géotextile SG30/30 - 121gr/m2 - 30kN/m"]
["Géotextile Supplément pour Transport < 2100 m²"]
["Gitterbox"]
["Grille plate piéton, écart. 2cm avaloir A8, A8b ou A8c"]
["Groutex contour 0-3 mm en seau de 15kg"]
["GROUTEX PAC en 25kg prix / 100kg"]
["HADALAN 2kg FUGE en 16kg"]
["IMBERAL 1 EPAIS en 2"]
["Intercalaire hauteur 10cm - ép. 10cm"]
["Intercalaire hauteur 15cm - ép. 10cm"]
["Intercalaire hauteur 20cm - ép. 10cm"]
["Intercalaire hauteur 25cm - ép. 10cm"]
["Intercalaire hauteur 30cm - ép. 10cm"]
["Intercalaire hauteur 6cm - ép. 10cm"]
["Intercalaire hauteur 8cm - ép. 10cm"]
["Joint EPDM pour regard en fonte sur racc. particulier Ø315"]
["Joint Forsheda DN200 (forage Ø226mm)"]
["Joint pour CV Ø100"]
["Joint pour CV Ø120"]
["Joint pour CV Ø150"]
["Klinkers 11/11/10 Gris lavé rendu"]
["Klinkers 11/11/10 Gris lisse rendu"]
["Klinkers 11/11/8 Gris lavé rendu"]
["Klinkers 11/11/8 Gris lisse rendu"]
["Klinkers 14,5/14,5/10 Francs sur palette"]
["Klinkers 14,5/14,5/10 Tambouriné sur palette"]
["Klinkers 14,5/14,5/6 Francs sur palette"]
["Klinkers 14,5/14,5/6 Tambouriné sur palette"]
["Klinkers 14,5/14,5/8 Francs sur palette"]
["Klinkers 14,5/14,5/8 Tambouriné sur palette"]
["Klinkers 14/14/8 Tambouriné rendu"]
["Klinkers 21,75/14,5/10 Francs sur palette"]
["Klinkers 21,75/14,5/10 Tambouriné sur palette"]
["Klinkers 21,75/14,5/8 Francs sur palette"]
["Klinkers 21,75/14,5/8 Tambouriné sur palette"]
["Klinkers 21/14/8 Tambouriné rendu"]
["Klinkers 22/11/10 Blanc lavé rendu"]
["Klinkers 22/11/10 Blanc lisse rendu"]
["Klinkers 22/11/10 drainant (écarteurs) noir 291 lavé rendu"]
["Klinkers 22/11/10 Gris lavé rendu"]
["Klinkers 22/11/10 Gris lisse rendu"]
["Klinkers 22/11/10 Noir lavé rendu"]
["Klinkers 22/11/10 Noir lisse rendu"]
["Klinkers 22/11/10 Rouge lisse rendu"]
["Klinkers 22/11/10 Rouge-Noir nuancé lavé rendu"]
["Klinkers 22/11/10 Rouge-Noir nuancé lisse rendu"]
["Klinkers 22/11/10 Saumon lavé rendu"]
["Klinkers 22/11/12 Gris lavé rendu"]
["Klinkers 22/11/12 Gris lisse rendu"]
["Klinkers 22/11/6 Gris lavé rendu"]
["Klinkers 22/11/6 Gris lisse rendu"]
["Klinkers 22/11/7 Gris lavé rendu"]
["Klinkers 22/11/7 Gris lisse rendu"]
["Klinkers 22/11/7 Rouge lisse rendu"]
["Klinkers 22/11/8 Blanc lisse rendu"]
["Klinkers 22/11/8 Gris lavé rendu"]
["Klinkers 22/11/8 Gris lisse rendu"]
["Klinkers 22/11/8 noir lavé rendu"]
["Klinkers 22/11/8 Noir lisse rendu"]
["Klinkers 22/11/8 Rouge lisse rendu"]
["Klinkers 22/22/10 noir marquage \"P\" blanc rendu"]
["Klinkers 22/22/8 noir marquage \"P\" blanc rendu"]
["L en BA Ht 075cm, Lg 200cm, 2,5 To, béton lisse"]
["L en BA Ht 105cm, Lg 100cm"]
["L en BA Ht 125cm, Lg 200cm, 2,5 To, béton lisse"]
["L en BA Ht 200cm, Lg 200cm, 2,5 To, béton lisse"]
["L en BA Ht 225cm, Lg 200cm, 2,5 To, béton lisse"]
["L en BA Ht 400cm, Lg 200cm, 1 To, béton brossé"]
["L en BA Ht 450cm, Lg 200cm, 1 To, béton brossé"]
["L en BA Ht 500cm, Lg 200cm, 1 To, béton brossé"]
["Laitance ciment S5 CEM III/A 400kg sable béton moyen"]
["Latte de couplage pour L en béton hauteur 100"]
["Latte de couplage pour L en béton hauteur 125"]
["Latte de couplage pour L en béton hauteur 150"]
["Latte de couplage pour L en béton hauteur 175"]
["Latte de couplage pour L en béton hauteur 200"]
["Latte de couplage pour L en béton hauteur 225"]
["Latte de couplage pour L en béton hauteur 250"]
["Latte de couplage pour L en béton hauteur 275"]
["Latte de couplage pour L en béton hauteur 300"]
["Latte de couplage pour L en béton hauteur 325"]
["Latte de couplage pour L en béton hauteur 350"]
["Latte de couplage pour L en béton hauteur 375"]
["Latte de couplage pour L en béton hauteur 400"]
["Latte de couplage pour L en béton hauteur 50"]
["Latte de couplage pour L en béton hauteur 75"]
["Liquide Asphalt 0/3, kit 18kg (2kg émulsion + 16kg granulat)"]
["Location grue 1"]
["Location grue 2"]
["Manchon PE110 PE100 SDR11 PN16 électrosoudable"]
["Manchon PP 160 avec Arrêt"]
["Manchon PP 160 Coulissant"]
["Manchon PP 200 avec butée"]
["Manchon PP 200 Coulissant"]
["Manchon PP 250 avec Arrêt"]
["Manchon PP 250 Coulissant"]
["Manchon PP 315 avec Arrêt"]
["Manchon PP 315 Coulissant"]
["Manchon PUR passage mur pour PVC160"]
["Manchon PUR passage mur pour PVC200"]
["Manchon PVC 110 avec Arrêt"]
["Manchon PVC 110 Coulissant"]
["Manchon PVC 125 avec Arrêt"]
["Manchon PVC 125 Coulissant"]
["Manchon PVC 160 avec Arrêt"]
["Manchon PVC 160 avec Arrêt SN8"]
["Manchon PVC 160 Coulissant"]
["Manchon PVC 200 avec Arrêt"]
["Manchon PVC 200 Coulissant"]
["Manchon PVC 250 avec Arrêt"]
["Manchon PVC 250 Coulissant"]
["Manchon PVC 315 avec Arrêt"]
["Manchon PVC 315 Coulissant"]
["Manchon PVC 400 avec Arrêt"]
["Manchon PVC 400 Coulissant"]
["Manchon PVC 500 Coulissant"]
["Manchon PVC 90 avec Arrêt"]
["Manchon PVC 90 Coulissant"]
["Manchon racc large tolérance en FD DN100 verouillé (104-132)"]
["Manutention sur chantier"]
["Masse de scellement"]
["Masterbloc 150x75x40 rendu déchargé"]
["Masterbloc 75x75x40 rendu déchargé"]
["Membrane drainante avec géotextile TRADRAIN G8"]
["MG platon : bouton + clou (250 p)"]
["Mortier préparé"]
["Mortier Silo M 301-G BEAMIX"]
["Mortier Silo M 353-C DIAMUR"]
["MULTICRET M+ F (0-1) en 5 kg"]
["MULTICRET M+E F (0,1-0,3) en 25kg"]
["MULTICRET M+EX F (0,1-0,3) en 5 kg"]
["MULTICRET M+N (0-3) en 25kg"]
["MULTIFIX RAPIDE en seau 5kg"]
["MULTISPEED en 12 kg"]
["MULTISPEED en 6 kg"]
["Palette cautionnement"]
["Palissade Ø11, avec encoche, Ht 60cm béton gris (rendu)"]
["PANNEAUX CHANTIER"]
["Parabond Construction gris RAL 7023 290 ml"]
["PARAPHALT CARTOUCHE"]
["Pavé 22x11x10 2/2 gris"]
["Pavé 22x11x8 2/2 gris"]
["Pavé 22x11x8 2/2 gris poreux drainant"]
["Pavé Grès 10/12 mosaique de réemploi Départ"]
["Pavé Grès 10/16-11/14 oblong de réemploi Départ"]
["Pavé Grès 12/18-13/20 de réemploi Départ"]
["Pavé Grès 13/13 queue 12/14 de réemploi Départ"]
["Pavé Grès 14/20 de réemploi Départ"]
["Pavé Grès 15/15/15 de réemploi Départ"]
["Pavé Grès 8/10 de réemploi Départ"]
["Pavé Grès 9/11 de réemploi Départ"]
["Pavé Mosaïque Grès 7/7/9 de réemploi Départ"]
["Pavé Pierre bleue 14/16 réemploi queue 12-14"]
["Pavé Pierre bleue 6/6/6 Neuf Départ"]
["Pavé Platine 12/12 Grès de réemploi Départ"]
["Pavé Platine 12/12/6-8 Gris Kandla Départ"]
["Pavé Platine 14/14/7-9 Grès d'Inde Départ"]
["Pavé Porphyre 12/18 de réemploi Départ"]
["Pavé Porphyre 13/20 de réemploi Départ"]
["Pavé Porphyre 15/15 Départ"]
["Pertuis 120x60cm int., Lg 3m"]
["Pertuis 120x80cm int., Lg 3m"]
["Pertuis 150x100cm int., Lg 3m"]
["Pertuis 150x80cm int., Lg 3m"]
["Pertuis 200x100cm int., Lg 3m"]
["Pertuis 200x150cm int., Lg 3m"]
["Pertuis 250x100cm int., Lg 3m"]
["Pertuis 250x150cm int., Lg 3m"]
["Pièce de scellement PP 160"]
["Pied de talus 116 x 66  Lg 1m"]
["Pierres 0/10 recyclé béton"]
["Pierres 0/10 recyclé mixte"]
["Pierres 0/100 de carrière calcaire"]
["Pierres 0/100 recyclé béton"]
["Pierres 0/100 recyclé mixte"]
["Pierres 0/120 de carrière calcaire/dolomie"]
["Pierres 0/120 recyclé béton"]
["Pierres 0/15 schiste rouge concassé"]
["Pierres 0/15 tout venant"]
["Pierres 0/150 de carrière calcaire"]
["Pierres 0/150 de carrière grès"]
["Pierres 0/16 de carrière calcaire/dolomie"]
["Pierres 0/16 recyclé béton"]
["Pierres 0/2 de carrière calcaire"]
["Pierres 0/2 de carrière grès"]
["Pierres 0/20 de carrière calcaire"]
["Pierres 0/20 de carrière grès"]
["Pierres 0/20 recyclé béton"]
["Pierres 0/20 recyclé mixte"]
["Pierres 0/22 de carrière calcaire"]
["Pierres 0/22 schiste rouge concassé"]
["Pierres 0/250 de carrière calcaire"]
["Pierres 0/3 mixte schiste calibre"]
["Pierres 0/3 schiste rouge concassé"]
["Pierres 0/30 recyclé béton"]
["Pierres 0/30 recyclé mixte"]
["Pierres 0/31,5 de carrière calcaire"]
["Pierres 0/31,5 recyclé béton"]
["Pierres 0/31,5 recyclé mixte"]
["Pierres 0/31,5 recyclé tarmac"]
["Pierres 0/32 de carrière calcaire"]
["Pierres 0/32 de carrière grès"]
["Pierres 0/32 recyclé béton"]
["Pierres 0/32 recyclé mixte"]
["Pierres 0/36 de carrière calcaire"]
["Pierres 0/4 de carrière calcaire"]
["Pierres 0/4 recyclé béton"]
["Pierres 0/4 recyclé mixte"]
["Pierres 0/40 recyclé béton"]
["Pierres 0/40 recyclé mixte"]
["Pierres 0/45 de carrière calcaire/dolomie"]
["Pierres 0/50 de carrière grès"]
["Pierres 0/50 tout venant"]
["Pierres 0/56 de carrière calcaire"]
["Pierres 0/56 de carrière calcaire/dolomie"]
["Pierres 0/56 recyclé béton"]
["Pierres 0/60 de carrière calcaire"]
["Pierres 0/60 recyclé béton"]
["Pierres 0/60 recyclé mixte"]
["Pierres 0/63 de carrière calcaire"]
["Pierres 0/63 recyclé béton"]
["Pierres 0/63 recyclé mixte"]
["Pierres 0/63 tout venant de carrière grès"]
["Pierres 0/70 silex CBR"]
["Pierres 0/8 de carrière calcaire"]
["Pierres 0/8 de carrière calcaire/dolomie"]
["Pierres 0/8 dolomie"]
["Pierres 0/8 recyclé béton"]
["Pierres 0/8 recyclé mixte"]
["Pierres 0/80 de carrière calcaire"]
["Pierres 0/80 de carrière grès"]
["Pierres 0/80 recyclé béton"]
["Pierres 0/80 recyclé mixte"]
["Pierres 0/90 recyclé béton"]
["Pierres 0/90 recyclé mixte"]
["Pierres 11,2/22,4 de carrière calcaire"]
["Pierres 14/20 de carrière calcaire"]
["Pierres 14/20 de carrière grès"]
["Pierres 15/22 schiste rouge concassé"]
["Pierres 15/40 de carrière silex"]
["Pierres 16/22 recyclé béton"]
["Pierres 16/22 recyclé mixte"]
["Pierres 16/31,5 de carrière calcaire"]
["Pierres 2/12 de carrière calcaire"]
["Pierres 2/120 de carrière calcaire"]
["Pierres 2/22,4 de carrière calcaire"]
["Pierres 2/31,5 de carrière calcaire"]
["Pierres 2/6 de carrière calcaire"]
["Pierres 2/6 de carrière grès"]
["Pierres 2/6,3 de carrière calcaire"]
["Pierres 2/6,3 porphyre"]
["Pierres 2/8 de carrière calcaire"]
["Pierres 20/32 de carrière calcaire"]
["Pierres 20/32 de carrière grès"]
["Pierres 20/40 de carrière calcaire"]
["Pierres 20/60 recyclé béton"]
["Pierres 22/45 de carrière calcaire"]
["Pierres 22/45 de carrière calcaire/dolomie"]
["Pierres 25/60 recyclé béton"]
["Pierres 25/60 recyclé mixte"]
["Pierres 3/15 schiste rouge concassé"]
["Pierres 3/22 schiste rouge concassé"]
["Pierres 30/160 de carrière grès"]
["Pierres 30/60 de carrière calcaire"]
["Pierres 31,5/120 recyclé béton"]
["Pierres 31,5/120 recyclé mixte"]
["Pierres 31,5/63 de carrière calcaire"]
["Pierres 31,5/63 recyclé béton"]
["Pierres 32/125 de carrière grès"]
["Pierres 32/50 de carrière grès"]
["Pierres 32/63 de carrière calcaire"]
["Pierres 32/63 recyclé béton"]
["Pierres 40/150 schiste calibre"]
["Pierres 40/60 de carrière calcaire"]
["Pierres 40/80 de carrière silex"]
["Pierres 45/120 de carrière calcaire"]
["Pierres 45/120 de carrière calcaire/dolomie"]
["Pierres 5/40 schiste calibre"]
["Pierres 56/120 recyclé béton"]
["Pierres 6,3/14 de carrière calcaire"]
["Pierres 6/14 de carrière calcaire"]
["Pierres 6/14 de carrière grès"]
["Pierres 6/20 de carrière grès"]
["Pierres 60/100 de carrière calcaire"]
["Pierres 63/+ recyclé béton"]
["Pierres 63/120 recyclé béton"]
["Pierres 63/120 recyclé mixte"]
["Pierres 7/14 de carrière calcaire"]
["Pierres 8/16 de carrière calcaire"]
["Pierres 8/16 de carrière calcaire/dolomie"]
["Pierres 8/16 dolomie"]
["Pierres 8/16 recyclé béton"]
["Pierres 8/16 recyclé mixte"]
["Pierres 8/20 de carrière calcaire"]
["Pierres 80/120 de carrière calcaire"]
["Pierres 80/120 recyclé mixte"]
["Pierres 80/150 de carrière calcaire"]
["Pierres rocher jardinage"]
["Pierres tout venant"]
["Pierres Tout Venant mixte schiste calibre"]
["Piquage PP 160 sur tuyau béton type A"]
["Piquage PP 160 sur tuyau béton type B"]
["Piquage PP 160 sur tuyau béton type C"]
["Piquage PP 160 sur tuyau PP 315"]
["Piquage PP 160 sur tuyau PP 630"]
["Piquage PP 200 sur tuyau béton type A"]
["Piquage PP 200 sur tuyau béton type B"]
["Piquage PP 200 sur tuyau béton type C"]
["Piquage PP 200 sur tuyau PP 630"]
["Piquage PVC 160 sur tuyau béton"]
["Piquage PVC 160 sur tuyau PVC 250"]
["Piquage PVC 160 sur tuyau PVC 315"]
["Piquage PVC 160 sur tuyau PVC 400"]
["Piquage PVC 160 sur tuyau PVC 500"]
["Piquage PVC 200 sur tuyau béton"]
["Poubelle EDSON"]
["PP400 manchon scellement L 240mm pour passage de mur"]
["PP500 manchon scellement L 240mm pour passage de mur"]
["PP630 manchon de scellement L150mm joint sbr"]
["Produit Inerte 0/20 Terreux"]
["Raccord PVC 110 Grès/Béton"]
["Raccord PVC 110 PVC/Grès"]
["Raccord PVC 125 Grès/Béton"]
["Raccord PVC 125 PVC/Grès"]
["Raccord PVC 160 Grès/Béton"]
["Raccord PVC 160 PVC/Fonte"]
["Raccord PVC 160 PVC/Grès"]
["Raccord PVC 160 Sablé"]
["Raccord PVC 200 Grès/Béton"]
["Raccord PVC 200 PVC/Fonte"]
["Raccord PVC 200 PVC/Grès"]
["Raccord PVC 200 Sablé"]
["Raclage tarmac 0/32"]
["Raclage tarmac Tout Venant"]
["Réduction PVC 110/80"]
["Réduction PVC 125/110"]
["Réduction PVC 125/80"]
["Réduction PVC 160/110"]
["Réduction PVC 160/125"]
["Réduction PVC 200/125"]
["Réduction PVC 200/160"]
["Réduction PVC 250/160"]
["Réduction PVC 250/200"]
["Réduction PVC 315/160"]
["Réduction PVC 315/200"]
["Réduction PVC 315/250"]
["Réduction PVC 400/200"]
["Réduction PVC 400/315"]
["Rehausse Béton pour CV 100/100 int - 114/114 ext - H=100cm"]
["Rehausse Béton pour CV 100/100 int - 114/114 ext - Haut 50cm"]
["Rehausse Béton pour CV 40/40 int - 48/48 ext - H=30cm"]
["Rehausse Béton pour CV 50/50 int - 58/58 ext - H=30cm"]
["Rehausse Béton pour CV 60/60 int - 68/68 ext - H=30cm"]
["Rehausse Béton pour CV 60/60 int - 72/72 ext - H=30cm"]
["Rehausse Béton pour CV 80/80 int - 92/92 ext - H=30cm"]
["Rehausse Béton pour CV 80/80 int - 92/92 ext - H=60cm"]
["Rehausse Béton pour CV 80/80 int - 92/92 ext - Haut 35cm"]
["Rehausse Béton pour CV 80/80 int - 92/92 ext - Haut 52cm"]
["Rehausse Béton pour CV 80/80 int - 92/92 ext - Haut 70cm"]
["Rehausse pour CV Ø1000 - ép.14cm - haut 105cm"]
["Rehausse pour CV Ø1000 - ép.14cm - haut 120cm"]
["Rehausse pour CV Ø1000 - ép.14cm - haut 135cm"]
["Rehausse pour CV Ø1000 - ép.14cm - haut 150cm"]
["Rehausse pour CV Ø1000 - ép.14cm - haut 165cm"]
["Rehausse pour CV Ø1000 - ép.14cm - haut 180cm"]
["Rehausse pour CV Ø1000 - ép.14cm - haut 30cm"]
["Rehausse pour CV Ø1000 - ép.14cm - haut 45cm"]
["Rehausse pour CV Ø1000 - ép.14cm - haut 60cm"]
["Rehausse pour CV Ø1000 - ép.14cm - haut 75cm"]
["Rehausse pour CV Ø1000 - ép.14cm - haut 90cm"]
["Rehausse pour CV Ø1000 - ép.26cm - haut 105cm"]
["Rehausse pour CV Ø1000 - ép.26cm - haut 120cm"]
["Rehausse pour CV Ø1000 - ép.26cm - haut 135cm"]
["Rehausse pour CV Ø1000 - ép.26cm - haut 150cm"]
["Rehausse pour CV Ø1000 - ép.26cm - haut 165cm"]
["Rehausse pour CV Ø1000 - ép.26cm - haut 180cm"]
["Rehausse pour CV Ø1000 - ép.26cm - haut 30cm"]
["Rehausse pour CV Ø1000 - ép.26cm - haut 45cm"]
["Rehausse pour CV Ø1000 - ép.26cm - haut 60cm"]
["Rehausse pour CV Ø1000 - ép.26cm - haut 75cm"]
["Rehausse pour CV Ø1000 - ép.26cm - haut 90cm"]
["Rehausse pour CV Ø1200 - ép.30cm - haut 120cm"]
["Rehausse pour CV Ø1200 - ép.30cm - haut 150cm"]
["Rehausse pour CV Ø1200 - ép.30cm - haut 165cm"]
["Rehausse sous cadre - H = 10cm"]
["Rehausse sous cadre - H = 15cm"]
["Rehausse sous cadre - H = 20cm"]
["Rond à béton coupé"]
["Rond à béton coupé plié"]
["Sable Stabilisé 100kg/m3 S1 Sable Béton Départ"]
["Sable Stabilisé 100kg/m3 S1 Sable Béton Gros Départ"]
["Sable Stabilisé 100kg/m3 S1 Sable recyclé Départ"]
["Sable Stabilisé 100kg/m3 S1 Sable recyclé mixte Départ"]
["Sable Stabilisé 125kg/m3 S1 Sable Béton Départ"]
["Sable Stabilisé 125kg/m3 S1 Sable Béton Gros Départ"]
["Sable Stabilisé 125kg/m3 S1 Sable recyclé Départ"]
["Sable Stabilisé 150kg/m3 S1 Sable Béton Départ"]
["Sable Stabilisé 150kg/m3 S1 Sable Béton Gros Départ"]
["Sable Stabilisé 150kg/m3 S1 Sable recyclé Départ"]
["Sable Stabilisé 175kg/m3 S1 Sable Béton Départ"]
["Sable Stabilisé 175kg/m3 S1 Sable Béton Gros Départ"]
["Sable Stabilisé 175kg/m3 S1 Sable recyclé Départ"]
["Sable Stabilisé 200kg/m3 S1 Sable Béton Départ"]
["Sable Stabilisé 200kg/m3 S1 Sable Béton Gros Départ"]
["Sable Stabilisé 200kg/m3 S1 Sable recyclé Départ"]
["Sable Stabilisé 225kg/m3 S1 Sable Béton Départ"]
["Sable Stabilisé 225kg/m3 S1 Sable Béton Gros Départ"]
["Sable Stabilisé 225kg/m3 S1 Sable recyclé Départ"]
["Sable Stabilisé 250kg/m3 S1 Sable Béton Départ"]
["Sable Stabilisé 250kg/m3 S1 Sable Béton Gros Départ"]
["Sable Stabilisé 250kg/m3 S1 Sable recyclé Départ"]
["Sable Stabilisé 275kg/m3 S1 Sable Béton Départ"]
["Sable Stabilisé 275kg/m3 S1 Sable Béton Gros Départ"]
["Sable Stabilisé 275kg/m3 S1 Sable recyclé Départ"]
["Sable Stabilisé 300kg/m3 S1 Sable Béton Départ"]
["Sable Stabilisé 300kg/m3 S1 Sable Béton Gros Départ"]
["Sable Stabilisé 300kg/m3 S1 Sable recyclé Départ"]
["Sable Stabilisé 350kg/m3 S1 Sable Béton Départ"]
["Sable Stabilisé 350kg/m3 S1 Sable Béton Gros Départ"]
["Sable Stabilisé 350kg/m3 S1 Sable recyclé Départ"]
["Sable Stabilisé 400kg/m3 S1 Sable Béton Départ"]
["Sable Stabilisé 400kg/m3 S1 Sable Béton Gros Départ"]
["Sable Stabilisé 400kg/m3 S1 Sable recyclé Départ"]
["Sable Stabilisé 50kg/m3 S1 Sable Béton Départ"]
["Sable Stabilisé 50kg/m3 S1 Sable Béton Départ (Code produit : 1090245)"]
["Sable Stabilisé 50kg/m3 S1 Sable Béton Gros Départ"]
["Sable Stabilisé 50kg/m3 S1 Sable recyclé Départ"]
["Sable Stabilisé 75kg/m3 S1 Sable Béton Départ"]
["Sable Stabilisé 75kg/m3 S1 Sable Béton Gros Départ"]
["Sable Stabilisé 75kg/m3 S1 Sable recyclé Départ"]
["Siphon avec regard PVC 160 SN4"]
["Siphon disconnecteur PVC 160"]
["Siphon disconnecteur PVC 200"]
["Station épuration béton 5 EH"]
["Station épuration Biofixe 7-9 EH"]
["Supplément charge incomplète"]
["T PP 200/200/200"]
["T PVC 110/110/110"]
["T PVC 125/125/110"]
["T PVC 125/125/125"]
["T PVC 160/160/110"]
["T PVC 160/160/125"]
["T PVC 160/160/160"]
["T PVC 200/200/110"]
["T PVC 200/200/125"]
["T PVC 200/200/160"]
["T PVC 200/200/200"]
["T PVC 200/200/200 SN8"]
["T PVC 250/250/160"]
["T PVC 250/250/200"]
["T PVC 250/250/250"]
["T PVC 250/250/250 SN8"]
["T PVC 315/315/160"]
["T PVC 315/315/200"]
["T PVC 315/315/250"]
["T PVC 315/315/315"]
["T PVC 315/315/315 SN8"]
["T PVC 400/400/200"]
["T PVC 400/400/400"]
["Tarmac à Froid 0/4"]
["Tarmac AC-10 base 3-1 (BB-3C)"]
["Tarmac AC-10 surf 4-1 (BB-4C)"]
["Tarmac AC-14 base 3-1 (BB-3B)"]
["Tarmac AC-14 surf 1-1 (BB-1B)"]
["Tarmac AC-20 base 3-1 (BB-3A)"]
["Tarmac AC-4 surf 8-1 (BB-8E)"]
["Tarmac AC-6,3 base 3-1 (BB-3D)"]
["Tarmac AC-6,3 surf 4-1 (BB-4D)"]
["Tarmac AC-6,3 surf 4-1 Rouge  (BB-4D Rouge)"]
["Tarmac AC-6,3 surf 8-1 (BB-8D)"]
["Tarmac BBTM 10 C1 (RMD-C1)"]
["Tarmac BBTM 10 D2 (RMD-C2)"]
["Tarmac BBTM 10 D2 Rouge  (RMD-C2 Rouge)"]
["Tarmac BBTM 6 A1 (RMD-D1)"]
["Tarmac BBTM 6 B2"]
["Tarmac PA-10-1"]
["Tarmac PA-10-2 (RMTO-C6)"]
["Tarmac PA-14-1 (ED-B1)"]
["Tarmac PA-14-2  (ED-B2/ED-B6)"]
["Tarmac SMA-10-1 (SMA-C1)"]
["Tarmac SMA-10-2 (SMA-C2/SMA-C6)"]
["Tarmac SMA-10-7 (SMA-C7)"]
["Tarmac SMA-10-9 (SMA-C3)"]
["Tarmac SMA-6,3-1 (SMA-D1)"]
["Tarmac SMA-6,3-2 (SMA-D2/SMA-D6)"]
["Tarmac SMA-6,3-7 (SMA-D7)"]
["Tarmac SMA-6,3-9 (SMA-D3)"]
["Terre Arable à la Tonne"]
["Terre Arable au M3"]
["Toc-Joint Autocolant en vrac"]
["Toc-Joint SK long=36m"]
["Transition BO 100/25/15 -> BO IA 100/35/15 2/2 rendu"]
["Transition BO IA 100/35/15 2/2 -> BO 100/25/15 rendu"]
["Transition BO IB 100/30/20 2/2 -> BO IE 100/27/20 5/10 rendu"]
["Transition BO IE 100/27/20 5/10 -> BO IB 100/30/20 2/2 rendu"]
["Transition FE IIE2 -> BC IIE1 100/20/30 rendu"]
["Transport - Livraison"]
["Transport L en béton armé"]
["Trappillon Arti 5 A D400 PTV800 cadre et tampon rond h=20cm"]
["Trappillon Arti 5 B D400 PTV801 cadre et tampon rond h=20cm"]
["Trappillon Arti 5 L D400 COPRO cadre et tampon rond h=20cm"]
["Trappillon Arti 7 A D400 PTV800 cadre carré-tamp rond h=20cm"]
["Trappillon Arti 7 B D400 PTV801 cadre carré-tamp rond h=20cm"]
["Trappillon Arti 7 L D400 COPRO cadre carré-tamp rond h=20cm"]
["Trappillon Arti 9 A D400 PTV800 cadre et tampon carré h=20cm"]
["Trappillon Arti 9 B D400 PTV801 cadre et tampon carré h=20cm"]
["Trappillon Arti 9 L D400 COPRO cadre et tampon carré h=20cm"]
["Trappillon Regard branchement A250 carré pour tuyau 250"]
["Trappillon Regard branchement A300C carré pour tuyau 315"]
["Trappillon Regard branchement A400 carré pour tuyau 400"]
["Trappillon Regard branchement NDLV 160 carré pour tuyau 160"]
["Trappillon Solo Selflevel 700S COPRO cadre carré h=25,5cm"]
["Trappillon type démergement A1"]
["Trappillon type démergement A5"]
["Trappillon VIA 4 L D400 COPRO cadre et tampon rond h=10cm"]
["Trappillon VIA 6 L D400 COPRO cadre carré-tamp rond h=10cm"]
["Trappillon VIA 8 L D400 COPRO cadre et tampon carré h=12,5cm"]
["Treillis béton 150x150x10x10"]
["Treillis béton 150x150x8x8"]
["Treillis ouvert 150x150x8x8 (5,95x2,35m) - 66 kg/pc"]
["Treillis poule galva 25x25mm Ø0,8mm Rl 2x50m"]
["Tuyau béton Armé diam. 1000 Cordon 1M Rendu"]
["Tuyau béton Armé diam. 1000 Rendu"]
["Tuyau béton Armé diam. 1200 Cordon 1M Rendu"]
["Tuyau béton Armé diam. 1200 Rendu"]
["Tuyau béton Armé diam. 1400 Rendu"]
["Tuyau béton Armé diam. 1500 Rendu"]
["Tuyau béton Armé diam. 300 Cordon 1M Rendu"]
["Tuyau béton Armé diam. 300 Rendu"]
["Tuyau béton Armé diam. 400 Cordon 1M Rendu"]
["Tuyau béton Armé diam. 400 Cordon 2,40m Rendu"]
["Tuyau béton Armé diam. 400 Rendu"]
["Tuyau béton Armé diam. 500 Cordon 1M Rendu"]
["Tuyau béton Armé diam. 500 Rendu"]
["Tuyau béton Armé diam. 600 Cordon 1M Rendu"]
["Tuyau béton Armé diam. 600 Rendu"]
["Tuyau béton Armé diam. 700 Cordon 1M Rendu"]
["Tuyau béton Armé diam. 700 Cordon 2M Rendu"]
["Tuyau béton Armé diam. 700 Rendu"]
["Tuyau béton Armé diam. 800 Cordon 1M Rendu"]
["Tuyau béton Armé diam. 800 Rendu"]
["Tuyau béton Armé diam. 900 Rendu"]
["Tuyau béton Non-Armé diam. 1000 Cordon 2,4M Rendu"]
["Tuyau béton Non-Armé diam. 1000 Rendu"]
["Tuyau béton Non-Armé diam. 300 Cordon 1m Rendu"]
["Tuyau béton Non-Armé diam. 300 Cordon 2,4M Rendu"]
["Tuyau béton Non-Armé diam. 300 Drainant Rendu"]
["Tuyau béton Non-Armé diam. 300 Rendu"]
["Tuyau béton Non-Armé diam. 400 Cordon 1m Rendu"]
["Tuyau béton Non-Armé diam. 400 Cordon 2,4M Rendu"]
["Tuyau béton Non-Armé diam. 400 Drainant Rendu"]
["Tuyau béton Non-Armé diam. 400 Rendu"]
["Tuyau béton Non-Armé diam. 500 Cordon 1M Rendu"]
["Tuyau béton Non-Armé diam. 500 Cordon 2,4M Rendu"]
["Tuyau béton Non-Armé diam. 500 Drainant Rendu"]
["Tuyau béton Non-Armé diam. 500 Rendu"]
["Tuyau béton Non-Armé diam. 600 Cordon 1m Rendu"]
["Tuyau béton Non-Armé diam. 600 Cordon 2,4M Rendu"]
["Tuyau béton Non-Armé diam. 600 Drainant Rendu"]
["Tuyau béton Non-Armé diam. 600 Rendu"]
["Tuyau béton Non-Armé diam. 700 Cordon 1m Rendu"]
["Tuyau béton Non-Armé diam. 700 Cordon 2,4M Rendu"]
["Tuyau béton Non-Armé diam. 700 Rendu"]
["Tuyau béton Non-Armé diam. 800 Cordon 2,4M Rendu"]
["Tuyau béton Non-Armé diam. 800 Rendu"]
["Tuyau béton Non-Armé diam. 900 Cordon 2,4M Rendu"]
["Tuyau béton Non-Armé diam. 900 Rendu"]
["Tuyau PE110 12m PE100 SDR11 PN16 électrosoudable"]
["Tuyau PP 160 SN10 long 3M"]
["Tuyau PP 160 SN10 long 6M"]
["Tuyau PP 200 SN4 long 6M"]
["Tuyau PP 250 SN4 long 6M"]
["Tuyau PP 250 SN8 long 6M"]
["Tuyau PP 315 SN4 long 6M"]
["Tuyau PP 315 SN8 long 3M"]
["Tuyau PP 315 SN8 long 6M"]
["Tuyau PP 630 SN10 long 6m joint sbr"]
["Tuyau PVC 110 SN4 long 1M"]
["Tuyau PVC 110 SN4 long 3M"]
["Tuyau PVC 110 SN4 long 5M"]
["Tuyau PVC 110 SN8 long 1M"]
["Tuyau PVC 110 SN8 long 3M"]
["Tuyau PVC 110 SN8 long 5M"]
["Tuyau PVC 125 SN4 long 1M"]
["Tuyau PVC 125 SN4 long 3M"]
["Tuyau PVC 125 SN4 long 5M"]
["Tuyau PVC 160 SN2 long 3M"]
["Tuyau PVC 160 SN2 long 5M"]
["Tuyau PVC 160 SN4 long 1M"]
["Tuyau PVC 160 SN4 long 3M"]
["Tuyau PVC 160 SN4 long 5M"]
["Tuyau PVC 160 SN8 long 1M"]
["Tuyau PVC 160 SN8 long 3M"]
["Tuyau PVC 160 SN8 long 5M"]
["Tuyau PVC 200 SN2 long 1M"]
["Tuyau PVC 200 SN2 long 3M"]
["Tuyau PVC 200 SN2 long 5M"]
["Tuyau PVC 200 SN4 long 3M"]
["Tuyau PVC 200 SN4 long 5M"]
["Tuyau PVC 200 SN8 long 1M"]
["Tuyau PVC 200 SN8 long 3M"]
["Tuyau PVC 200 SN8 long 5M"]
["Tuyau PVC 250 SN2 long 3M"]
["Tuyau PVC 250 SN2 long 5M"]
["Tuyau PVC 250 SN4 long 3M"]
["Tuyau PVC 250 SN4 long 5M"]
["Tuyau PVC 250 SN8 long 3M"]
["Tuyau PVC 250 SN8 long 5M"]
["Tuyau PVC 315 SN2 long 3M"]
["Tuyau PVC 315 SN2 long 5M"]
["Tuyau PVC 315 SN4 long 1M"]
["Tuyau PVC 315 SN4 long 3M"]
["Tuyau PVC 315 SN4 long 5M"]
["Tuyau PVC 315 SN8 long 1M"]
["Tuyau PVC 315 SN8 long 5M"]
["Tuyau PVC 400 SN2 long 5M"]
["Tuyau PVC 400 SN4 long 3M"]
["Tuyau PVC 400 SN4 long 5M"]
["Tuyau PVC 400 SN8 long 5M"]
["Tuyau PVC 500 SN2 long 5M"]
["Tuyau PVC 500 SN4 long 5M"]
["Tuyau PVC 500 SN4 long 6M (Bipeau)"]
["Tuyau PVC 500 SN8 long 5M"]
["Tuyau PVC 710 SN4 long 6M"]
["Tuyau PVC 80 SN4 long 4M"]
["Tuyau PVC 90 SN4 long 4M"]
["Tuyau PVC 90 SN4 long 5M"]
["Tuyau PVC200 SN4 long 1M"]
["Versage déchets classe 2"]
["Y PP 160/160/160"]
["Y PP 250/250/160"]
["Y PP 315/315/160"]
["Y PVC 110/110/110"]
["Y PVC 125/125/110"]
["Y PVC 125/125/125"]
["Y PVC 160/160/110"]
["Y PVC 160/160/125"]
["Y PVC 160/160/160"]
["Y PVC 200/200/110"]
["Y PVC 200/200/125"]
["Y PVC 200/200/160"]
["Y PVC 200/200/200"]
["Y PVC 200/200/200 SN8"]
["Y PVC 250/250/160"]
["Y PVC 250/250/200"]
["Y PVC 250/250/250"]
["Y PVC 250/250/250 SN8"]
["Y PVC 315/315/160"]
["Y PVC 315/315/200"]
["Y PVC 315/315/250"]
["Y PVC 315/315/315"]
["Y PVC 315/315/315 SN8"]

{"sheet":"Dates","index":6,"n_rows":32,"n_cols":1,"rows_kept":32,"cut":false,"hidden":false,"merged":[]}
["Dates"]
["2016-01-01"]
["2016-01-02"]
["2016-01-03"]
["2016-01-04"]
["2016-01-05"]
["2016-01-06"]
["2016-01-07"]
["2016-01-08"]
["2016-01-09"]
["2016-01-10"]
["2016-01-11"]
["2016-01-12"]
["2016-01-13"]
["2016-01-14"]
["2016-01-15"]
["2016-01-16"]
["2016-01-17"]
["2016-01-18"]
["2016-01-19"]
["2016-01-20"]
["2016-01-21"]
["2016-01-22"]
["2016-01-23"]
["2016-01-24"]
["2016-01-25"]
["2016-01-26"]
["2016-01-27"]
["2016-01-28"]
["2016-01-29"]
["2016-01-30"]
["2016-01-31"]

{"sheet":"01-01-16","index":7,"n_rows":110,"n_cols":56,"rows_kept":110,"cut":false,"hidden":false,"merged":[[110,18,110,48],[89,3,89,17],[90,3,90,17],[79,18,79,48],[84,3,84,17],[85,3,85,17],[101,18,101,48],[86,3,86,17],[80,18,80,48],[105,18,105,48],[106,18,106,48],[107,18,107,48],[89,18,89,48],[90,18,90,48],[91,18,91,48],[92,18,92,48],[93,18,93,48],[95,18,95,48],[96,18,96,48],[97,18,97,48],[98,18,98,48],[99,18,99,48],[105,3,105,17],[106,3,106,17],[77,3,77,17],[97,3,97,17],[98,3,98,17],[99,3,99,17],[91,3,91,17],[92,3,92,17],[94,3,94,17],[94,18,94,48],[78,3,78,17],[79,3,79,17],[80,3,80,17],[81,3,81,17],[82,3,82,17],[83,3,83,17],[81,18,81,48],[82,18,82,48],[83,18,83,48],[87,3,87,17],[88,3,88,17],[84,18,84,48],[85,18,85,48],[86,18,86,48],[87,18,87,48],[88,18,88,48],[93,3,93,17],[74,0,74,4],[74,5,74,19],[74,20,74,25],[74,26,74,28],[74,30,74,32],[74,34,74,47],[74,51,74,53],[74,54,74,58],[77,18,77,48],[76,3,76,17],[76,18,76,48],[75,0,75,58],[76,49,76,52],[76,53,76,54],[76,55,76,58],[77,49,77,52],[77,53,77,54],[77,55,77,58],[78,49,78,52],[78,53,78,54],[78,55,78,58],[78,18,78,48],[79,49,79,52],[109,3,111,11],[109,12,111,17],[109,18,109,48],[111,18,111,48],[108,18,108,48],[102,55,102,58],[103,49,103,52],[103,53,103,54],[103,55,103,58],[104,49,104,52],[104,53,104,54],[104,55,104,58],[105,49,105,52],[105,53,105,54],[105,55,105,58],[106,49,106,52],[106,53,106,54],[108,3,108,11],[108,12,108,17],[103,3,103,17],[107,3,107,17],[103,18,103,48],[107,49,107,52],[107,53,107,54],[95,3,95,17],[96,3,96,17],[104,18,104,48],[104,3,104,17],[102,3,102,17],[102,18,102,48],[100,18,100,48],[101,3,101,17],[100,3,100,17],[0,0,0,4],[0,5,0,19],[0,20,0,25],[0,26,0,28],[0,30,0,32],[0,34,0,47],[0,51,0,53],[0,54,0,58],[1,0,1,28],[1,29,36,29],[1,30,1,58],[2,0,2,4],[2,7,2,10],[2,13,2,16],[2,19,2,22],[2,25,2,28],[2,30,2,34],[2,36,2,39],[2,42,2,45],[3,0,3,15],[3,16,3,18],[3,19,3,21],[3,22,3,24],[3,25,3,28],[3,30,3,32],[3,33,3,45],[3,46,3,54],[3,55,3,58],[4,0,4,15],[4,16,4,18],[4,19,4,21],[4,22,4,24],[4,25,4,28],[4,30,4,32],[4,33,4,45],[4,46,4,54],[4,55,4,58],[5,0,5,15],[5,16,5,18],[5,19,5,21],[5,22,5,24],[5,25,5,28],[5,30,5,32],[5,33,5,45],[5,46,5,54],[5,55,5,58],[6,0,6,15],[6,16,6,18],[6,19,6,21],[6,22,6,24],[6,25,6,28],[6,30,6,32],[6,33,6,45],[6,46,6,54],[6,55,6,58],[7,0,7,15],[7,16,7,18],[7,19,7,21],[7,22,7,24],[7,25,7,28],[7,30,7,32],[7,33,7,45],[7,46,7,54],[7,55,7,58],[8,0,8,15],[8,16,8,18],[8,19,8,21],[8,22,8,24],[8,25,8,28],[8,30,8,32],[8,33,8,45],[8,46,8,54],[8,55,8,58],[9,0,9,15],[9,16,9,18],[9,19,9,21],[9,22,9,24],[9,25,9,28],[9,30,9,32],[9,33,9,45],[9,46,9,54],[9,55,9,58],[10,0,10,15],[10,16,10,18],[10,19,10,21],[10,22,10,24],[10,25,10,28],[10,30,10,32],[10,33,10,45],[10,46,10,54],[10,55,10,58],[11,0,11,15],[11,16,11,18],[11,19,11,21],[11,22,11,24],[11,25,11,28],[11,30,11,32],[11,33,11,45],[11,46,11,54],[11,55,11,58],[12,0,12,15],[12,16,12,18],[12,19,12,21],[12,22,12,24],[12,25,12,28],[12,30,12,32],[12,33,12,45],[12,46,12,54],[12,55,12,58],[13,0,13,15],[13,16,13,18],[13,19,13,21],[13,22,13,24],[13,25,13,28],[13,30,13,32],[13,33,13,45],[13,46,13,54],[13,55,13,58],[14,0,14,15],[14,16,14,18],[14,19,14,21],[14,22,14,24],[14,25,14,28],[14,30,14,32],[14,33,14,45],[14,46,14,54],[14,55,14,58],[15,0,15,15],[15,16,15,18],[15,19,15,21],[15,22,15,24],[15,25,15,28],[15,30,15,32],[15,33,15,45],[15,46,15,54],[15,55,15,58],[16,0,16,15],[16,16,16,18],[16,19,16,21],[16,22,16,24],[16,25,16,28],[16,30,16,32],[16,33,16,45],[16,46,16,54],[16,55,16,58],[17,0,17,15],[17,16,17,18],[17,19,17,21],[17,22,17,24],[17,25,17,28],[17,30,17,32],[17,33,17,45],[17,46,17,54],[17,55,17,58],[18,0,18,15],[18,16,18,18],[18,19,18,21],[18,22,18,24],[18,25,18,28],[18,30,18,32],[18,33,18,45],[18,46,18,54],[18,55,18,58],[19,0,19,15],[19,16,19,18],[19,19,19,21],[19,22,19,24],[19,25,19,28],[19,30,19,32],[19,33,19,45],[19,46,19,54],[19,55,19,58],[20,0,20,15],[20,16,20,18],[20,19,20,21],[20,22,20,24],[20,25,20,28],[20,30,20,32],[20,33,20,45],[20,46,20,54],[20,55,20,58],[21,0,21,15],[21,16,21,18],[21,19,21,21],[21,22,21,24],[21,25,21,28],[21,30,21,32],[21,33,21,45],[21,46,21,54],[21,55,21,58],[22,0,22,15],[22,16,22,18],[22,19,22,21],[22,22,22,24],[22,25,22,28],[22,30,22,32],[22,33,22,45],[22,46,22,54],[22,55,22,58],[23,0,23,15],[23,16,23,18],[23,19,23,21],[23,22,23,24],[23,25,23,28],[23,30,23,32],[23,33,23,45],[23,46,23,54],[23,55,23,58],[24,0,24,15],[24,16,24,18],[24,19,24,21],[24,22,24,24],[24,25,24,28],[24,30,24,32],[24,33,24,45],[24,46,24,54],[24,55,24,58],[25,0,25,15],[25,16,25,18],[25,19,25,21],[25,22,25,24],[25,25,25,28],[25,30,25,32],[25,33,25,45],[25,46,25,54],[25,55,25,58],[26,0,26,15],[26,16,26,18],[26,19,26,21],[26,22,26,24],[26,25,26,28],[26,30,26,32],[26,33,26,45],[26,46,26,54],[26,55,26,58],[27,0,27,15],[27,16,27,18],[27,19,27,21],[27,22,27,24],[27,25,27,28],[27,30,27,32],[27,33,27,45],[27,46,27,54],[27,55,27,58],[28,0,28,15],[28,16,28,18],[28,19,28,21],[28,22,28,24],[28,25,28,28],[28,30,28,32],[28,33,28,45],[28,46,28,54],[28,55,28,58],[29,0,29,15],[29,16,29,18],[29,19,29,21],[29,22,29,24],[29,25,29,28],[29,30,29,32],[29,33,29,45],[29,46,29,54],[29,55,29,58],[30,0,30,15],[30,16,30,18],[30,19,30,21],[30,22,30,24],[30,25,30,28],[30,30,30,32],[30,33,30,45],[30,46,30,54],[30,55,30,58],[31,0,31,15],[31,16,31,18],[31,19,31,21],[31,22,31,24],[31,25,31,28],[31,30,31,32],[31,33,31,45],[31,46,31,54],[31,55,31,58],[32,0,32,15],[32,16,32,18],[32,19,32,21],[32,22,32,24],[32,25,32,28],[32,30,32,32],[32,33,32,45],[32,46,32,54],[32,55,32,58],[33,0,33,15],[33,16,33,18],[33,19,33,21],[33,22,33,24],[33,25,33,28],[33,30,33,32],[33,33,33,45],[33,46,33,54],[33,55,33,58],[34,0,34,15],[34,16,34,18],[34,19,34,21],[34,22,34,24],[34,25,34,28],[34,30,34,32],[34,33,34,45],[34,46,34,54],[34,55,34,58],[35,0,35,15],[35,16,35,18],[35,19,35,21],[35,22,35,24],[35,25,35,28],[35,30,35,32],[35,33,35,45],[35,46,35,54],[35,55,35,58],[36,0,36,15],[36,16,36,18],[36,19,36,21],[36,22,36,24],[36,25,36,28],[36,30,36,32],[36,33,36,45],[36,46,36,54],[36,55,36,58],[37,0,37,4],[37,5,37,19],[37,20,37,25],[37,26,37,28],[37,30,37,32],[37,34,37,47],[37,51,37,53],[37,54,37,58],[38,0,38,28],[38,29,73,29],[38,30,38,58],[39,0,39,4],[39,6,39,9],[39,12,39,15],[40,0,40,2],[40,3,40,15],[40,16,40,24],[40,25,40,28],[40,30,40,45],[40,46,40,54],[40,55,40,58],[41,0,41,2],[41,3,41,15],[41,16,41,24],[41,25,41,28],[41,30,41,45],[41,46,41,54],[41,55,41,58],[42,0,42,2],[42,3,42,15],[42,16,42,24],[42,25,42,28],[42,30,42,45],[42,46,42,54],[42,55,42,58],[43,0,43,2],[43,3,43,15],[43,16,43,24],[43,25,43,28],[43,30,43,45],[43,46,43,54],[43,55,43,58],[44,0,44,2],[44,3,44,15],[44,16,44,24],[44,25,44,28],[44,30,44,45],[44,46,44,54],[44,55,44,58],[45,0,45,2],[45,3,45,15],[45,16,45,24],[45,25,45,28],[45,30,45,45],[45,46,45,54],[45,55,45,58],[46,0,46,2],[46,3,46,15],[46,16,46,24],[46,25,46,28],[46,30,46,45],[46,46,46,54],[46,55,46,58],[47,0,47,2],[47,3,47,15],[47,16,47,24],[47,25,47,28],[47,30,47,45],[47,46,47,54],[47,55,47,58],[48,0,48,2],[48,3,48,15],[48,16,48,24],[48,25,48,28],[48,30,48,45],[48,46,48,54],[48,55,48,58],[49,0,49,2],[49,3,49,15],[49,16,49,24],[49,25,49,28],[49,30,49,45],[49,46,49,54],[49,55,49,58],[50,0,50,2],[50,3,50,15],[50,16,50,24],[50,25,50,28],[50,30,50,45],[50,46,50,54],[50,55,50,58],[51,0,51,2],[51,3,51,15],[51,16,51,24],[51,25,51,28],[51,30,51,45],[51,46,51,54],[51,55,51,58],[52,0,52,2],[52,3,52,15],[52,16,52,24],[52,25,52,28],[52,30,52,45],[52,46,52,54],[52,55,52,58],[53,0,53,2],[53,3,53,15],[53,16,53,24],[53,25,53,28],[53,30,53,45],[53,46,53,54],[53,55,53,58],[54,0,54,2],[54,3,54,15],[54,16,54,24],[54,25,54,28],[54,30,54,45],[54,46,54,54],[54,55,54,58],[55,0,55,2],[55,3,55,15],[55,16,55,24],[55,25,55,28],[55,30,55,45],[55,46,55,54],[55,55,55,58],[56,0,56,2],[56,3,56,15],[56,16,56,24],[56,25,56,28],[56,30,56,45],[56,46,56,54],[56,55,56,58],[57,0,57,2],[57,3,57,15],[57,16,57,24],[57,25,57,28],[57,30,57,45],[57,46,57,54],[57,55,57,58],[58,0,58,2],[58,3,58,15],[58,16,58,24],[58,25,58,28],[58,30,58,45],[58,46,58,54],[58,55,58,58],[59,0,59,2],[59,3,59,15],[59,16,59,24],[59,25,59,28],[59,30,59,45],[59,46,59,54],[59,55,59,58],[60,0,60,2],[60,3,60,15],[60,16,60,24],[60,25,60,28],[60,30,60,45],[60,46,60,54],[60,55,60,58],[61,0,61,2],[61,3,61,15],[61,16,61,24],[61,25,61,28],[61,30,61,45],[61,46,61,54],[61,55,61,58],[62,0,62,2],[62,3,62,15],[62,16,62,24],[62,25,62,28],[62,30,62,45],[62,46,62,54],[62,55,62,58],[63,0,63,2],[63,3,63,15],[63,16,63,24],[63,25,63,28],[63,30,63,45],[63,46,63,54],[63,55,63,58],[64,0,64,2],[64,3,64,15],[64,16,64,24],[64,25,64,28],[64,30,64,45],[64,46,64,54],[64,55,64,58],[65,0,65,2],[65,3,65,15],[65,16,65,24],[65,25,65,28],[65,30,65,45],[65,46,65,54],[65,55,65,58],[66,0,66,2],[66,3,66,15],[66,16,66,24],[66,25,66,28],[66,30,66,45],[66,46,66,54],[66,55,66,58],[67,0,67,2],[67,3,67,15],[67,16,67,24],[67,25,67,28],[67,30,67,45],[67,46,67,54],[67,55,67,58],[68,0,68,2],[68,3,68,15],[68,16,68,24],[68,25,68,28],[68,30,68,45],[68,46,68,54],[68,55,68,58],[69,0,69,2],[69,3,69,15],[69,16,69,24],[69,25,69,28],[69,30,69,45],[69,46,69,54],[69,55,69,58],[71,0,71,2],[71,3,71,15],[71,16,71,24],[71,25,71,28],[71,30,71,45],[71,46,71,54],[71,55,71,58],[70,30,70,45],[70,46,70,54],[70,55,70,58],[70,0,70,2],[70,3,70,15],[70,16,70,24],[70,25,70,28],[72,0,72,2],[72,3,72,15],[72,16,72,24],[72,25,72,28],[72,30,72,45],[72,46,72,54],[72,55,72,58],[73,0,73,2],[73,3,73,15],[73,16,73,24],[73,25,73,28],[73,30,73,45],[73,46,73,54],[73,55,73,58],[79,53,79,54],[79,55,79,58],[80,49,80,52],[80,53,80,54],[80,55,80,58],[81,49,81,52],[81,53,81,54],[81,55,81,58],[82,49,82,52],[82,53,82,54],[82,55,82,58],[83,49,83,52],[83,53,83,54],[83,55,83,58],[84,49,84,52],[84,53,84,54],[84,55,84,58],[85,49,85,52],[85,53,85,54],[85,55,85,58],[86,49,86,52],[86,53,86,54],[86,55,86,58],[87,49,87,52],[87,53,87,54],[87,55,87,58],[88,49,88,52],[88,53,88,54],[88,55,88,58],[89,49,89,52],[89,53,89,54],[89,55,89,58],[90,49,90,52],[90,53,90,54],[90,55,90,58],[91,49,91,52],[91,53,91,54],[91,55,91,58],[92,49,92,52],[92,53,92,54],[92,55,92,58],[93,49,93,52],[93,53,93,54],[93,55,93,58],[94,55,94,58],[95,49,95,52],[95,53,95,54],[95,55,95,58],[94,49,94,52],[94,53,94,54],[96,49,96,52],[96,53,96,54],[96,55,96,58],[98,49,98,52],[98,53,98,54],[106,55,106,58],[97,49,97,52],[97,53,97,54],[97,55,97,58],[98,55,98,58],[99,49,99,52],[99,53,99,54],[99,55,99,58],[102,49,102,52],[102,53,102,54],[107,55,107,58],[108,49,108,58],[109,49,111,58],[100,49,100,52],[100,53,100,54],[100,55,100,58],[101,49,101,52],[101,53,101,54],[101,55,101,58]]}
["CHANTIER :",null,null,null,null,null,null,null,null,null,null,null,null,null,null,null,null,null,null,null,"N° CHANTIER :",null,null,null,null,null,null,null,null,null,"JOUR :",null,null,null,{"$f":" CHOOSE(WEEKDAY(BC1,2),\"Lundi\",\"Mardi\",\"Mercredi\",\"Jeudi\",\"Vendredi\",\"Samedi\",\"Dimanche\")","v":"Vendredi"},null,null,null,null,null,null,null,null,null,null,null,null,null,null,null,null,"DATES :",null,null,{"$f":"MID(CELL(\"nomfichier\",A1),FIND(\"]\",CELL(\"nomfichier\",A1),1)+1,30)","v":"01-01-16"}]
["MAIN D'ŒUVRE",null,null,null,null,null,null,null,null,null,null,null,null,null,null,null,null,null,null,null,null,null,null,null,null,null,null,null,null,null,"CAMIONS"]
["Légende :",null,null,null,null,null,"Co",".= Congé",null,null,null,null,"M",".= Malade",null,null,null,null,"Cho",".= Chômage",null,null,null,null,"Va",".= Vacance",null,null,null,null,"Légende :",null,null,null,null,"Pa",".= Panne",null,null,null,null,"Ent",".= Entretien"]
["NOM - Prénom du travailleur",null,null,null,null,null,null,null,null,null,null,null,null,null,null,null,"Début journée",null,null,"Arrêt repas",null,null,"Fin journée",null,null,"Heures prestées",null,null,null,null,"N°",null,null,"Description du matériel",null,null,null,null,null,null,null,null,null,null,null,null,"Nom de l'opérateur",null,null,null,null,null,null,null,null,"Heures"]
[null,null,null,null,null,null,null,null,null,null,null,null,null,null,null,null,null,null,null,null,null,null,null,null,null,{"$f":"W5-Q5-T5","v":0},null,null,null,null,null,null,null,{"$f":"IF(ISNA(VLOOKUP(AE5,Camions!$B:$F,2,0)),\"\",(VLOOKUP(AE5,Camions!$B:$F,2,0)))","v":""},null,null,null,null,null,null,null,null,null,null,null,null,{"$f":"IF(ISNA(VLOOKUP(AE5,Camions!$B:$F,4,0)),\"\",(VLOOKUP(AE5,Camions!$B:$F,4,0)))","v":""}]
[null,null,null,null,null,null,null,null,null,null,null,null,null,null,null,null,null,null,null,null,null,null,null,null,null,{"$f":"W6-Q6-T6","v":0},null,null,null,null,null,null,null,{"$f":"IF(ISNA(VLOOKUP(AE6,Camions!$B:$F,2,0)),\"\",(VLOOKUP(AE6,Camions!$B:$F,2,0)))","v":""},null,null,null,null,null,null,null,null,null,null,null,null,{"$f":"IF(ISNA(VLOOKUP(AE6,Camions!$B:$F,4,0)),\"\",(VLOOKUP(AE6,Camions!$B:$F,4,0)))","v":""}]
[null,null,null,null,null,null,null,null,null,null,null,null,null,null,null,null,null,null,null,null,null,null,null,null,null,0,null,null,null,null,null,null,null,{"$f":"IF(ISNA(VLOOKUP(AE7,Camions!$B:$F,2,0)),\"\",(VLOOKUP(AE7,Camions!$B:$F,2,0)))","v":""},null,null,null,null,null,null,null,null,null,null,null,null,{"$f":"IF(ISNA(VLOOKUP(AE7,Camions!$B:$F,4,0)),\"\",(VLOOKUP(AE7,Camions!$B:$F,4,0)))","v":""}]
[null,null,null,null,null,null,null,null,null,null,null,null,null,null,null,null,null,null,null,null,null,null,null,null,null,0,null,null,null,null,null,null,null,{"$f":"IF(ISNA(VLOOKUP(AE8,Camions!$B:$F,2,0)),\"\",(VLOOKUP(AE8,Camions!$B:$F,2,0)))","v":""},null,null,null,null,null,null,null,null,null,null,null,null,{"$f":"IF(ISNA(VLOOKUP(AE8,Camions!$B:$F,4,0)),\"\",(VLOOKUP(AE8,Camions!$B:$F,4,0)))","v":""}]
[null,null,null,null,null,null,null,null,null,null,null,null,null,null,null,null,null,null,null,null,null,null,null,null,null,0,null,null,null,null,null,null,null,{"$f":"IF(ISNA(VLOOKUP(AE9,Camions!$B:$F,2,0)),\"\",(VLOOKUP(AE9,Camions!$B:$F,2,0)))","v":""},null,null,null,null,null,null,null,null,null,null,null,null,{"$f":"IF(ISNA(VLOOKUP(AE9,Camions!$B:$F,4,0)),\"\",(VLOOKUP(AE9,Camions!$B:$F,4,0)))","v":""}]
[null,null,null,null,null,null,null,null,null,null,null,null,null,null,null,null,null,null,null,null,null,null,null,null,null,0,null,null,null,null,null,null,null,{"$f":"IF(ISNA(VLOOKUP(AE10,Camions!$B:$F,2,0)),\"\",(VLOOKUP(AE10,Camions!$B:$F,2,0)))","v":""},null,null,null,null,null,null,null,null,null,null,null,null,{"$f":"IF(ISNA(VLOOKUP(AE10,Camions!$B:$F,4,0)),\"\",(VLOOKUP(AE10,Camions!$B:$F,4,0)))","v":""}]
[null,null,null,null,null,null,null,null,null,null,null,null,null,null,null,null,null,null,null,null,null,null,null,null,null,0,null,null,null,null,null,null,null,{"$f":"IF(ISNA(VLOOKUP(AE11,Camions!$B:$F,2,0)),\"\",(VLOOKUP(AE11,Camions!$B:$F,2,0)))","v":""},null,null,null,null,null,null,null,null,null,null,null,null,{"$f":"IF(ISNA(VLOOKUP(AE11,Camions!$B:$F,4,0)),\"\",(VLOOKUP(AE11,Camions!$B:$F,4,0)))","v":""}]
[null,null,null,null,null,null,null,null,null,null,null,null,null,null,null,null,null,null,null,null,null,null,null,null,null,0,null,null,null,null,null,null,null,{"$f":"IF(ISNA(VLOOKUP(AE12,Camions!$B:$F,2,0)),\"\",(VLOOKUP(AE12,Camions!$B:$F,2,0)))","v":""},null,null,null,null,null,null,null,null,null,null,null,null,{"$f":"IF(ISNA(VLOOKUP(AE12,Camions!$B:$F,4,0)),\"\",(VLOOKUP(AE12,Camions!$B:$F,4,0)))","v":""}]
[null,null,null,null,null,null,null,null,null,null,null,null,null,null,null,null,null,null,null,null,null,null,null,null,null,0,null,null,null,null,null,null,null,{"$f":"IF(ISNA(VLOOKUP(AE13,Camions!$B:$F,2,0)),\"\",(VLOOKUP(AE13,Camions!$B:$F,2,0)))","v":""},null,null,null,null,null,null,null,null,null,null,null,null,{"$f":"IF(ISNA(VLOOKUP(AE13,Camions!$B:$F,4,0)),\"\",(VLOOKUP(AE13,Camions!$B:$F,4,0)))","v":""}]
[null,null,null,null,null,null,null,null,null,null,null,null,null,null,null,null,null,null,null,null,null,null,null,null,null,0,null,null,null,null,null,null,null,{"$f":"IF(ISNA(VLOOKUP(AE14,Camions!$B:$F,2,0)),\"\",(VLOOKUP(AE14,Camions!$B:$F,2,0)))","v":""},null,null,null,null,null,null,null,null,null,null,null,null,{"$f":"IF(ISNA(VLOOKUP(AE14,Camions!$B:$F,4,0)),\"\",(VLOOKUP(AE14,Camions!$B:$F,4,0)))","v":""}]
[null,null,null,null,null,null,null,null,null,null,null,null,null,null,null,null,null,null,null,null,null,null,null,null,null,0,null,null,null,null,null,null,null,{"$f":"IF(ISNA(VLOOKUP(AE15,Camions!$B:$F,2,0)),\"\",(VLOOKUP(AE15,Camions!$B:$F,2,0)))","v":""},null,null,null,null,null,null,null,null,null,null,null,null,{"$f":"IF(ISNA(VLOOKUP(AE15,Camions!$B:$F,4,0)),\"\",(VLOOKUP(AE15,Camions!$B:$F,4,0)))","v":""}]
[null,null,null,null,null,null,null,null,null,null,null,null,null,null,null,null,null,null,null,null,null,null,null,null,null,0,null,null,null,null,null,null,null,{"$f":"IF(ISNA(VLOOKUP(AE16,Camions!$B:$F,2,0)),\"\",(VLOOKUP(AE16,Camions!$B:$F,2,0)))","v":""},null,null,null,null,null,null,null,null,null,null,null,null,{"$f":"IF(ISNA(VLOOKUP(AE16,Camions!$B:$F,4,0)),\"\",(VLOOKUP(AE16,Camions!$B:$F,4,0)))","v":""}]
[null,null,null,null,null,null,null,null,null,null,null,null,null,null,null,null,null,null,null,null,null,null,null,null,null,0,null,null,null,null,null,null,null,{"$f":"IF(ISNA(VLOOKUP(AE17,Camions!$B:$F,2,0)),\"\",(VLOOKUP(AE17,Camions!$B:$F,2,0)))","v":""},null,null,null,null,null,null,null,null,null,null,null,null,{"$f":"IF(ISNA(VLOOKUP(AE17,Camions!$B:$F,4,0)),\"\",(VLOOKUP(AE17,Camions!$B:$F,4,0)))","v":""}]
[null,null,null,null,null,null,null,null,null,null,null,null,null,null,null,null,null,null,null,null,null,null,null,null,null,0,null,null,null,null,null,null,null,{"$f":"IF(ISNA(VLOOKUP(AE18,Camions!$B:$F,2,0)),\"\",(VLOOKUP(AE18,Camions!$B:$F,2,0)))","v":""},null,null,null,null,null,null,null,null,null,null,null,null,{"$f":"IF(ISNA(VLOOKUP(AE18,Camions!$B:$F,4,0)),\"\",(VLOOKUP(AE18,Camions!$B:$F,4,0)))","v":""}]
[null,null,null,null,null,null,null,null,null,null,null,null,null,null,null,null,null,null,null,null,null,null,null,null,null,0,null,null,null,null,null,null,null,{"$f":"IF(ISNA(VLOOKUP(AE19,Camions!$B:$F,2,0)),\"\",(VLOOKUP(AE19,Camions!$B:$F,2,0)))","v":""},null,null,null,null,null,null,null,null,null,null,null,null,{"$f":"IF(ISNA(VLOOKUP(AE19,Camions!$B:$F,4,0)),\"\",(VLOOKUP(AE19,Camions!$B:$F,4,0)))","v":""}]
[null,null,null,null,null,null,null,null,null,null,null,null,null,null,null,null,null,null,null,null,null,null,null,null,null,0,null,null,null,null,null,null,null,{"$f":"IF(ISNA(VLOOKUP(AE20,Camions!$B:$F,2,0)),\"\",(VLOOKUP(AE20,Camions!$B:$F,2,0)))","v":""},null,null,null,null,null,null,null,null,null,null,null,null,{"$f":"IF(ISNA(VLOOKUP(AE20,Camions!$B:$F,4,0)),\"\",(VLOOKUP(AE20,Camions!$B:$F,4,0)))","v":""}]
[null,null,null,null,null,null,null,null,null,null,null,null,null,null,null,null,null,null,null,null,null,null,null,null,null,0,null,null,null,null,null,null,null,{"$f":"IF(ISNA(VLOOKUP(AE21,Camions!$B:$F,2,0)),\"\",(VLOOKUP(AE21,Camions!$B:$F,2,0)))","v":""},null,null,null,null,null,null,null,null,null,null,null,null,{"$f":"IF(ISNA(VLOOKUP(AE21,Camions!$B:$F,4,0)),\"\",(VLOOKUP(AE21,Camions!$B:$F,4,0)))","v":""}]
[null,null,null,null,null,null,null,null,null,null,null,null,null,null,null,null,null,null,null,null,null,null,null,null,null,0,null,null,null,null,null,null,null,{"$f":"IF(ISNA(VLOOKUP(AE22,Camions!$B:$F,2,0)),\"\",(VLOOKUP(AE22,Camions!$B:$F,2,0)))","v":""},null,null,null,null,null,null,null,null,null,null,null,null,{"$f":"IF(ISNA(VLOOKUP(AE22,Camions!$B:$F,4,0)),\"\",(VLOOKUP(AE22,Camions!$B:$F,4,0)))","v":""}]
[null,null,null,null,null,null,null,null,null,null,null,null,null,null,null,null,null,null,null,null,null,null,null,null,null,0,null,null,null,null,null,null,null,{"$f":"IF(ISNA(VLOOKUP(AE23,Camions!$B:$F,2,0)),\"\",(VLOOKUP(AE23,Camions!$B:$F,2,0)))","v":""},null,null,null,null,null,null,null,null,null,null,null,null,{"$f":"IF(ISNA(VLOOKUP(AE23,Camions!$B:$F,4,0)),\"\",(VLOOKUP(AE23,Camions!$B:$F,4,0)))","v":""}]
[null,null,null,null,null,null,null,null,null,null,null,null,null,null,null,null,null,null,null,null,null,null,null,null,null,0,null,null,null,null,null,null,null,{"$f":"IF(ISNA(VLOOKUP(AE24,Camions!$B:$F,2,0)),\"\",(VLOOKUP(AE24,Camions!$B:$F,2,0)))","v":""},null,null,null,null,null,null,null,null,null,null,null,null,{"$f":"IF(ISNA(VLOOKUP(AE24,Camions!$B:$F,4,0)),\"\",(VLOOKUP(AE24,Camions!$B:$F,4,0)))","v":""}]
[null,null,null,null,null,null,null,null,null,null,null,null,null,null,null,null,null,null,null,null,null,null,null,null,null,0,null,null,null,null,null,null,null,{"$f":"IF(ISNA(VLOOKUP(AE25,Camions!$B:$F,2,0)),\"\",(VLOOKUP(AE25,Camions!$B:$F,2,0)))","v":""},null,null,null,null,null,null,null,null,null,null,null,null,{"$f":"IF(ISNA(VLOOKUP(AE25,Camions!$B:$F,4,0)),\"\",(VLOOKUP(AE25,Camions!$B:$F,4,0)))","v":""}]
[null,null,null,null,null,null,null,null,null,null,null,null,null,null,null,null,null,null,null,null,null,null,null,null,null,0,null,null,null,null,null,null,null,{"$f":"IF(ISNA(VLOOKUP(AE26,Camions!$B:$F,2,0)),\"\",(VLOOKUP(AE26,Camions!$B:$F,2,0)))","v":""},null,null,null,null,null,null,null,null,null,null,null,null,{"$f":"IF(ISNA(VLOOKUP(AE26,Camions!$B:$F,4,0)),\"\",(VLOOKUP(AE26,Camions!$B:$F,4,0)))","v":""}]
[null,null,null,null,null,null,null,null,null,null,null,null,null,null,null,null,null,null,null,null,null,null,null,null,null,0,null,null,null,null,null,null,null,{"$f":"IF(ISNA(VLOOKUP(AE27,Camions!$B:$F,2,0)),\"\",(VLOOKUP(AE27,Camions!$B:$F,2,0)))","v":""},null,null,null,null,null,null,null,null,null,null,null,null,{"$f":"IF(ISNA(VLOOKUP(AE27,Camions!$B:$F,4,0)),\"\",(VLOOKUP(AE27,Camions!$B:$F,4,0)))","v":""}]
[null,null,null,null,null,null,null,null,null,null,null,null,null,null,null,null,null,null,null,null,null,null,null,null,null,0,null,null,null,null,null,null,null,{"$f":"IF(ISNA(VLOOKUP(AE28,Camions!$B:$F,2,0)),\"\",(VLOOKUP(AE28,Camions!$B:$F,2,0)))","v":""},null,null,null,null,null,null,null,null,null,null,null,null,{"$f":"IF(ISNA(VLOOKUP(AE28,Camions!$B:$F,4,0)),\"\",(VLOOKUP(AE28,Camions!$B:$F,4,0)))","v":""}]
[null,null,null,null,null,null,null,null,null,null,null,null,null,null,null,null,null,null,null,null,null,null,null,null,null,0,null,null,null,null,null,null,null,{"$f":"IF(ISNA(VLOOKUP(AE29,Camions!$B:$F,2,0)),\"\",(VLOOKUP(AE29,Camions!$B:$F,2,0)))","v":""},null,null,null,null,null,null,null,null,null,null,null,null,{"$f":"IF(ISNA(VLOOKUP(AE29,Camions!$B:$F,4,0)),\"\",(VLOOKUP(AE29,Camions!$B:$F,4,0)))","v":""}]
[null,null,null,null,null,null,null,null,null,null,null,null,null,null,null,null,null,null,null,null,null,null,null,null,null,0,null,null,null,null,null,null,null,{"$f":"IF(ISNA(VLOOKUP(AE30,Camions!$B:$F,2,0)),\"\",(VLOOKUP(AE30,Camions!$B:$F,2,0)))","v":""},null,null,null,null,null,null,null,null,null,null,null,null,{"$f":"IF(ISNA(VLOOKUP(AE30,Camions!$B:$F,4,0)),\"\",(VLOOKUP(AE30,Camions!$B:$F,4,0)))","v":""}]
[null,null,null,null,null,null,null,null,null,null,null,null,null,null,null,null,null,null,null,null,null,null,null,null,null,0,null,null,null,null,null,null,null,{"$f":"IF(ISNA(VLOOKUP(AE31,Camions!$B:$F,2,0)),\"\",(VLOOKUP(AE31,Camions!$B:$F,2,0)))","v":""},null,null,null,null,null,null,null,null,null,null,null,null,{"$f":"IF(ISNA(VLOOKUP(AE31,Camions!$B:$F,4,0)),\"\",(VLOOKUP(AE31,Camions!$B:$F,4,0)))","v":""}]
[null,null,null,null,null,null,null,null,null,null,null,null,null,null,null,null,null,null,null,null,null,null,null,null,null,0,null,null,null,null,null,null,null,{"$f":"IF(ISNA(VLOOKUP(AE32,Camions!$B:$F,2,0)),\"\",(VLOOKUP(AE32,Camions!$B:$F,2,0)))","v":""},null,null,null,null,null,null,null,null,null,null,null,null,{"$f":"IF(ISNA(VLOOKUP(AE32,Camions!$B:$F,4,0)),\"\",(VLOOKUP(AE32,Camions!$B:$F,4,0)))","v":""}]
[null,null,null,null,null,null,null,null,null,null,null,null,null,null,null,null,null,null,null,null,null,null,null,null,null,0,null,null,null,null,null,null,null,{"$f":"IF(ISNA(VLOOKUP(AE33,Camions!$B:$F,2,0)),\"\",(VLOOKUP(AE33,Camions!$B:$F,2,0)))","v":""},null,null,null,null,null,null,null,null,null,null,null,null,{"$f":"IF(ISNA(VLOOKUP(AE33,Camions!$B:$F,4,0)),\"\",(VLOOKUP(AE33,Camions!$B:$F,4,0)))","v":""}]
[null,null,null,null,null,null,null,null,null,null,null,null,null,null,null,null,null,null,null,null,null,null,null,null,null,0,null,null,null,null,null,null,null,{"$f":"IF(ISNA(VLOOKUP(AE34,Camions!$B:$F,2,0)),\"\",(VLOOKUP(AE34,Camions!$B:$F,2,0)))","v":""},null,null,null,null,null,null,null,null,null,null,null,null,{"$f":"IF(ISNA(VLOOKUP(AE34,Camions!$B:$F,4,0)),\"\",(VLOOKUP(AE34,Camions!$B:$F,4,0)))","v":""}]
[null,null,null,null,null,null,null,null,null,null,null,null,null,null,null,null,null,null,null,null,null,null,null,null,null,0,null,null,null,null,null,null,null,{"$f":"IF(ISNA(VLOOKUP(AE35,Camions!$B:$F,2,0)),\"\",(VLOOKUP(AE35,Camions!$B:$F,2,0)))","v":""},null,null,null,null,null,null,null,null,null,null,null,null,{"$f":"IF(ISNA(VLOOKUP(AE35,Camions!$B:$F,4,0)),\"\",(VLOOKUP(AE35,Camions!$B:$F,4,0)))","v":""}]
[null,null,null,null,null,null,null,null,null,null,null,null,null,null,null,null,null,null,null,null,null,null,null,null,null,0,null,null,null,null,null,null,null,{"$f":"IF(ISNA(VLOOKUP(AE36,Camions!$B:$F,2,0)),\"\",(VLOOKUP(AE36,Camions!$B:$F,2,0)))","v":""},null,null,null,null,null,null,null,null,null,null,null,null,{"$f":"IF(ISNA(VLOOKUP(AE36,Camions!$B:$F,4,0)),\"\",(VLOOKUP(AE36,Camions!$B:$F,4,0)))","v":""}]
[null,null,null,null,null,null,null,null,null,null,null,null,null,null,null,null,null,null,null,null,null,null,null,null,null,0,null,null,null,null,null,null,null,{"$f":"IF(ISNA(VLOOKUP(AE37,Camions!$B:$F,2,0)),\"\",(VLOOKUP(AE37,Camions!$B:$F,2,0)))","v":""},null,null,null,null,null,null,null,null,null,null,null,null,{"$f":"IF(ISNA(VLOOKUP(AE36,Camions!$B:$F,4,0)),\"\",(VLOOKUP(AE36,Camions!$B:$F,4,0)))","v":""}]
["CHANTIER :",null,null,null,null,{"$f":"F1","v":0},null,null,null,null,null,null,null,null,null,null,null,null,null,null,"N° CHANTIER :",null,null,null,null,null,{"$f":"AA1","v":0},null,null,null,"JOUR :",null,null,null,{"$f":"AI1","v":"Vendredi"},null,null,null,null,null,null,null,null,null,null,null,null,null,null,null,null,"DATES :",null,null,{"$f":"BC1","v":"01-01-16"}]
["MATERIEL",null,null,null,null,null,null,null,null,null,null,null,null,null,null,null,null,null,null,null,null,null,null,null,null,null,null,null,null,null,"SOUS-TRAITANTS"]
["Légende :",null,null,null,null,"Pa",".= Panne",null,null,null,null,"Ent",".= Entretien"]
["N°",null,null,"Description du matériel",null,null,null,null,null,null,null,null,null,null,null,null,"Nom de l'opérateur",null,null,null,null,null,null,null,null,"Heures",null,null,null,null,"Type d'engin et description des travaux ",null,null,null,null,null,null,null,null,null,null,null,null,null,null,null,"Sous-traitants",null,null,null,null,null,null,null,null,"Heures"]
[null,null,null,{"$f":"IF(ISNA(VLOOKUP(A42,Machines!$B:$F,2,0)),\"\",(VLOOKUP(A42,Machines!$B:$F,2,0)))","v":""},null,null,null,null,null,null,null,null,null,null,null,null,{"$f":"IF(ISNA(VLOOKUP(A42,Machines!$B:$F,4,0)),\"\",(VLOOKUP(A42,Machines!$B:$F,4,0)))","v":""}]
[null,null,null,{"$f":"IF(ISNA(VLOOKUP(A43,Machines!$B:$F,2,0)),\"\",(VLOOKUP(A43,Machines!$B:$F,2,0)))","v":""},null,null,null,null,null,null,null,null,null,null,null,null,{"$f":"IF(ISNA(VLOOKUP(A43,Machines!$B:$F,4,0)),\"\",(VLOOKUP(A43,Machines!$B:$F,4,0)))","v":""}]
[null,null,null,{"$f":"IF(ISNA(VLOOKUP(A44,Machines!$B:$F,2,0)),\"\",(VLOOKUP(A44,Machines!$B:$F,2,0)))","v":""},null,null,null,null,null,null,null,null,null,null,null,null,{"$f":"IF(ISNA(VLOOKUP(A44,Machines!$B:$F,4,0)),\"\",(VLOOKUP(A44,Machines!$B:$F,4,0)))","v":""}]
[null,null,null,{"$f":"IF(ISNA(VLOOKUP(A45,Machines!$B:$F,2,0)),\"\",(VLOOKUP(A45,Machines!$B:$F,2,0)))","v":""},null,null,null,null,null,null,null,null,null,null,null,null,{"$f":"IF(ISNA(VLOOKUP(A45,Machines!$B:$F,4,0)),\"\",(VLOOKUP(A45,Machines!$B:$F,4,0)))","v":""}]
[null,null,null,{"$f":"IF(ISNA(VLOOKUP(A46,Machines!$B:$F,2,0)),\"\",(VLOOKUP(A46,Machines!$B:$F,2,0)))","v":""},null,null,null,null,null,null,null,null,null,null,null,null,{"$f":"IF(ISNA(VLOOKUP(A46,Machines!$B:$F,4,0)),\"\",(VLOOKUP(A46,Machines!$B:$F,4,0)))","v":""}]
[null,null,null,{"$f":"IF(ISNA(VLOOKUP(A47,Machines!$B:$F,2,0)),\"\",(VLOOKUP(A47,Machines!$B:$F,2,0)))","v":""},null,null,null,null,null,null,null,null,null,null,null,null,{"$f":"IF(ISNA(VLOOKUP(A47,Machines!$B:$F,4,0)),\"\",(VLOOKUP(A47,Machines!$B:$F,4,0)))","v":""}]
[null,null,null,{"$f":"IF(ISNA(VLOOKUP(A48,Machines!$B:$F,2,0)),\"\",(VLOOKUP(A48,Machines!$B:$F,2,0)))","v":""},null,null,null,null,null,null,null,null,null,null,null,null,{"$f":"IF(ISNA(VLOOKUP(A48,Machines!$B:$F,4,0)),\"\",(VLOOKUP(A48,Machines!$B:$F,4,0)))","v":""}]
[null,null,null,{"$f":"IF(ISNA(VLOOKUP(A49,Machines!$B:$F,2,0)),\"\",(VLOOKUP(A49,Machines!$B:$F,2,0)))","v":""},null,null,null,null,null,null,null,null,null,null,null,null,{"$f":"IF(ISNA(VLOOKUP(A49,Machines!$B:$F,4,0)),\"\",(VLOOKUP(A49,Machines!$B:$F,4,0)))","v":""}]
[null,null,null,{"$f":"IF(ISNA(VLOOKUP(A50,Machines!$B:$F,2,0)),\"\",(VLOOKUP(A50,Machines!$B:$F,2,0)))","v":""},null,null,null,null,null,null,null,null,null,null,null,null,{"$f":"IF(ISNA(VLOOKUP(A50,Machines!$B:$F,4,0)),\"\",(VLOOKUP(A50,Machines!$B:$F,4,0)))","v":""}]
[null,null,null,{"$f":"IF(ISNA(VLOOKUP(A51,Machines!$B:$F,2,0)),\"\",(VLOOKUP(A51,Machines!$B:$F,2,0)))","v":""},null,null,null,null,null,null,null,null,null,null,null,null,{"$f":"IF(ISNA(VLOOKUP(A51,Machines!$B:$F,4,0)),\"\",(VLOOKUP(A51,Machines!$B:$F,4,0)))","v":""}]
[null,null,null,{"$f":"IF(ISNA(VLOOKUP(A52,Machines!$B:$F,2,0)),\"\",(VLOOKUP(A52,Machines!$B:$F,2,0)))","v":""},null,null,null,null,null,null,null,null,null,null,null,null,{"$f":"IF(ISNA(VLOOKUP(A52,Machines!$B:$F,4,0)),\"\",(VLOOKUP(A52,Machines!$B:$F,4,0)))","v":""}]
[null,null,null,{"$f":"IF(ISNA(VLOOKUP(A53,Machines!$B:$F,2,0)),\"\",(VLOOKUP(A53,Machines!$B:$F,2,0)))","v":""},null,null,null,null,null,null,null,null,null,null,null,null,{"$f":"IF(ISNA(VLOOKUP(A53,Machines!$B:$F,4,0)),\"\",(VLOOKUP(A53,Machines!$B:$F,4,0)))","v":""}]
[null,null,null,{"$f":"IF(ISNA(VLOOKUP(A54,Machines!$B:$F,2,0)),\"\",(VLOOKUP(A54,Machines!$B:$F,2,0)))","v":""},null,null,null,null,null,null,null,null,null,null,null,null,{"$f":"IF(ISNA(VLOOKUP(A54,Machines!$B:$F,4,0)),\"\",(VLOOKUP(A54,Machines!$B:$F,4,0)))","v":""}]
[null,null,null,{"$f":"IF(ISNA(VLOOKUP(A55,Machines!$B:$F,2,0)),\"\",(VLOOKUP(A55,Machines!$B:$F,2,0)))","v":""},null,null,null,null,null,null,null,null,null,null,null,null,{"$f":"IF(ISNA(VLOOKUP(A55,Machines!$B:$F,4,0)),\"\",(VLOOKUP(A55,Machines!$B:$F,4,0)))","v":""}]
[null,null,null,{"$f":"IF(ISNA(VLOOKUP(A56,Machines!$B:$F,2,0)),\"\",(VLOOKUP(A56,Machines!$B:$F,2,0)))","v":""},null,null,null,null,null,null,null,null,null,null,null,null,{"$f":"IF(ISNA(VLOOKUP(A56,Machines!$B:$F,4,0)),\"\",(VLOOKUP(A56,Machines!$B:$F,4,0)))","v":""}]
[null,null,null,{"$f":"IF(ISNA(VLOOKUP(A57,Machines!$B:$F,2,0)),\"\",(VLOOKUP(A57,Machines!$B:$F,2,0)))","v":""},null,null,null,null,null,null,null,null,null,null,null,null,{"$f":"IF(ISNA(VLOOKUP(A57,Machines!$B:$F,4,0)),\"\",(VLOOKUP(A57,Machines!$B:$F,4,0)))","v":""}]
[null,null,null,{"$f":"IF(ISNA(VLOOKUP(A58,Machines!$B:$F,2,0)),\"\",(VLOOKUP(A58,Machines!$B:$F,2,0)))","v":""},null,null,null,null,null,null,null,null,null,null,null,null,{"$f":"IF(ISNA(VLOOKUP(A58,Machines!$B:$F,4,0)),\"\",(VLOOKUP(A58,Machines!$B:$F,4,0)))","v":""}]
[null,null,null,{"$f":"IF(ISNA(VLOOKUP(A59,Machines!$B:$F,2,0)),\"\",(VLOOKUP(A59,Machines!$B:$F,2,0)))","v":""},null,null,null,null,null,null,null,null,null,null,null,null,{"$f":"IF(ISNA(VLOOKUP(A59,Machines!$B:$F,4,0)),\"\",(VLOOKUP(A59,Machines!$B:$F,4,0)))","v":""}]
[null,null,null,{"$f":"IF(ISNA(VLOOKUP(A60,Machines!$B:$F,2,0)),\"\",(VLOOKUP(A60,Machines!$B:$F,2,0)))","v":""},null,null,null,null,null,null,null,null,null,null,null,null,{"$f":"IF(ISNA(VLOOKUP(A60,Machines!$B:$F,4,0)),\"\",(VLOOKUP(A60,Machines!$B:$F,4,0)))","v":""}]
[null,null,null,{"$f":"IF(ISNA(VLOOKUP(A61,Machines!$B:$F,2,0)),\"\",(VLOOKUP(A61,Machines!$B:$F,2,0)))","v":""},null,null,null,null,null,null,null,null,null,null,null,null,{"$f":"IF(ISNA(VLOOKUP(A61,Machines!$B:$F,4,0)),\"\",(VLOOKUP(A61,Machines!$B:$F,4,0)))","v":""}]
[null,null,null,{"$f":"IF(ISNA(VLOOKUP(A62,Machines!$B:$F,2,0)),\"\",(VLOOKUP(A62,Machines!$B:$F,2,0)))","v":""},null,null,null,null,null,null,null,null,null,null,null,null,{"$f":"IF(ISNA(VLOOKUP(A62,Machines!$B:$F,4,0)),\"\",(VLOOKUP(A62,Machines!$B:$F,4,0)))","v":""}]
[null,null,null,{"$f":"IF(ISNA(VLOOKUP(A63,Machines!$B:$F,2,0)),\"\",(VLOOKUP(A63,Machines!$B:$F,2,0)))","v":""},null,null,null,null,null,null,null,null,null,null,null,null,{"$f":"IF(ISNA(VLOOKUP(A63,Machines!$B:$F,4,0)),\"\",(VLOOKUP(A63,Machines!$B:$F,4,0)))","v":""}]
[null,null,null,{"$f":"IF(ISNA(VLOOKUP(A64,Machines!$B:$F,2,0)),\"\",(VLOOKUP(A64,Machines!$B:$F,2,0)))","v":""},null,null,null,null,null,null,null,null,null,null,null,null,{"$f":"IF(ISNA(VLOOKUP(A64,Machines!$B:$F,4,0)),\"\",(VLOOKUP(A64,Machines!$B:$F,4,0)))","v":""}]
[null,null,null,{"$f":"IF(ISNA(VLOOKUP(A65,Machines!$B:$F,2,0)),\"\",(VLOOKUP(A65,Machines!$B:$F,2,0)))","v":""},null,null,null,null,null,null,null,null,null,null,null,null,{"$f":"IF(ISNA(VLOOKUP(A65,Machines!$B:$F,4,0)),\"\",(VLOOKUP(A65,Machines!$B:$F,4,0)))","v":""}]
[null,null,null,{"$f":"IF(ISNA(VLOOKUP(A66,Machines!$B:$F,2,0)),\"\",(VLOOKUP(A66,Machines!$B:$F,2,0)))","v":""},null,null,null,null,null,null,null,null,null,null,null,null,{"$f":"IF(ISNA(VLOOKUP(A66,Machines!$B:$F,4,0)),\"\",(VLOOKUP(A66,Machines!$B:$F,4,0)))","v":""}]
[null,null,null,{"$f":"IF(ISNA(VLOOKUP(A67,Machines!$B:$F,2,0)),\"\",(VLOOKUP(A67,Machines!$B:$F,2,0)))","v":""},null,null,null,null,null,null,null,null,null,null,null,null,{"$f":"IF(ISNA(VLOOKUP(A67,Machines!$B:$F,4,0)),\"\",(VLOOKUP(A67,Machines!$B:$F,4,0)))","v":""}]
[null,null,null,{"$f":"IF(ISNA(VLOOKUP(A68,Machines!$B:$F,2,0)),\"\",(VLOOKUP(A68,Machines!$B:$F,2,0)))","v":""},null,null,null,null,null,null,null,null,null,null,null,null,{"$f":"IF(ISNA(VLOOKUP(A68,Machines!$B:$F,4,0)),\"\",(VLOOKUP(A68,Machines!$B:$F,4,0)))","v":""}]
[null,null,null,{"$f":"IF(ISNA(VLOOKUP(A69,Machines!$B:$F,2,0)),\"\",(VLOOKUP(A69,Machines!$B:$F,2,0)))","v":""},null,null,null,null,null,null,null,null,null,null,null,null,{"$f":"IF(ISNA(VLOOKUP(A69,Machines!$B:$F,4,0)),\"\",(VLOOKUP(A69,Machines!$B:$F,4,0)))","v":""}]
[null,null,null,{"$f":"IF(ISNA(VLOOKUP(A70,Machines!$B:$F,2,0)),\"\",(VLOOKUP(A70,Machines!$B:$F,2,0)))","v":""},null,null,null,null,null,null,null,null,null,null,null,null,{"$f":"IF(ISNA(VLOOKUP(A70,Machines!$B:$F,4,0)),\"\",(VLOOKUP(A70,Machines!$B:$F,4,0)))","v":""}]
[null,null,null,{"$f":"IF(ISNA(VLOOKUP(A71,Machines!$B:$F,2,0)),\"\",(VLOOKUP(A71,Machines!$B:$F,2,0)))","v":""},null,null,null,null,null,null,null,null,null,null,null,null,{"$f":"IF(ISNA(VLOOKUP(A71,Machines!$B:$F,4,0)),\"\",(VLOOKUP(A71,Machines!$B:$F,4,0)))","v":""}]
[null,null,null,{"$f":"IF(ISNA(VLOOKUP(A72,Machines!$B:$F,2,0)),\"\",(VLOOKUP(A72,Machines!$B:$F,2,0)))","v":""},null,null,null,null,null,null,null,null,null,null,null,null,{"$f":"IF(ISNA(VLOOKUP(A72,Machines!$B:$F,4,0)),\"\",(VLOOKUP(A72,Machines!$B:$F,4,0)))","v":""}]
[null,null,null,{"$f":"IF(ISNA(VLOOKUP(A73,Machines!$B:$F,2,0)),\"\",(VLOOKUP(A73,Machines!$B:$F,2,0)))","v":""},null,null,null,null,null,null,null,null,null,null,null,null,{"$f":"IF(ISNA(VLOOKUP(A73,Machines!$B:$F,4,0)),\"\",(VLOOKUP(A73,Machines!$B:$F,4,0)))","v":""}]
[null,null,null,{"$f":"IF(ISNA(VLOOKUP(A74,Machines!$B:$F,2,0)),\"\",(VLOOKUP(A74,Machines!$B:$F,2,0)))","v":""},null,null,null,null,null,null,null,null,null,null,null,null,{"$f":"IF(ISNA(VLOOKUP(A74,Machines!$B:$F,4,0)),\"\",(VLOOKUP(A74,Machines!$B:$F,4,0)))","v":""}]
["CHANTIER :",null,null,null,null,{"$f":"F1","v":0},null,null,null,null,null,null,null,null,null,null,null,null,null,null,"N° CHANTIER :",null,null,null,null,null,{"$f":"AA1","v":0},null,null,null,"JOUR :",null,null,null,{"$f":"AI1","v":"Vendredi"},null,null,null,null,null,null,null,null,null,null,null,null,null,null,null,null,"DATES :",null,null,{"$f":"BC1","v":"01-01-16"}]
["MATERIAUX"]
[null,null,null,"Fournisseurs",null,null,null,null,null,null,null,null,null,null,null,null,null,null,"Description des fournitures & matériaux",null,null,null,null,null,null,null,null,null,null,null,null,null,null,null,null,null,null,null,null,null,null,null,null,null,null,null,null,null,null,"Qt totales",null,null,null,"U.",null,"Prix"]
[]
[]
[]
[]
[]
[]
[]
[]
[]
[]
[]
[]
[]
[]
[]
[]
[]
[]
[]
[]
[]
[]
[]
[]
[]
[]
[]
[]
[]
[]
[]
[null,null,null,"RESPONSABLE",null,null,null,null,null,null,null,null,"SIGNATURE",null,null,null,null,null,"DESCRIPTION DES TRAVAUX REALISES CE JOUR",null,null,null,null,null,null,null,null,null,null,null,null,null,null,null,null,null,null,null,null,null,null,null,null,null,null,null,null,null,null,"METEO"]
[null,null,null,"JENNES Loïc"]

{"sheet":"02-01-16","index":8,"n_rows":110,"n_cols":56,"rows_kept":110,"cut":false,"hidden":false,"merged":[[107,53,107,54],[107,55,107,58],[109,18,109,48],[111,18,111,48],[108,18,108,48],[108,3,108,11],[108,12,108,17],[109,3,111,11],[109,12,111,17],[108,49,108,58],[109,49,111,58],[107,3,107,17],[107,18,107,48],[110,18,110,48],[105,3,105,17],[105,18,105,48],[106,3,106,17],[106,18,106,48],[107,49,107,52],[104,3,104,17],[104,18,104,48],[99,3,99,17],[99,18,99,48],[100,3,100,17],[100,18,100,48],[102,3,102,17],[102,18,102,48],[103,3,103,17],[103,18,103,48],[103,49,103,52],[95,53,95,54],[95,55,95,58],[96,49,96,52],[96,53,96,54],[96,55,96,58],[97,49,97,52],[97,53,97,54],[101,3,101,17],[101,18,101,48],[97,3,97,17],[97,18,97,48],[98,3,98,17],[98,18,98,48],[95,3,95,17],[95,18,95,48],[96,3,96,17],[96,18,96,48],[95,49,95,52],[97,55,97,58],[98,49,98,52],[98,53,98,54],[98,55,98,58],[99,49,99,52],[99,53,99,54],[94,3,94,17],[94,18,94,48],[91,3,91,17],[91,18,91,48],[92,3,92,17],[92,18,92,48],[93,49,93,52],[93,53,93,54],[93,55,93,58],[94,49,94,52],[94,53,94,54],[94,55,94,58],[91,55,91,58],[92,49,92,52],[92,53,92,54],[92,55,92,58],[87,53,87,54],[87,55,87,58],[88,49,88,52],[88,53,88,54],[88,55,88,58],[89,49,89,52],[89,53,89,54],[93,3,93,17],[93,18,93,48],[89,3,89,17],[89,18,89,48],[90,3,90,17],[90,18,90,48],[87,3,87,17],[87,18,87,48],[88,3,88,17],[88,18,88,48],[87,49,87,52],[89,55,89,58],[90,49,90,52],[90,53,90,54],[90,55,90,58],[91,49,91,52],[91,53,91,54],[86,3,86,17],[86,18,86,48],[83,3,83,17],[83,18,83,48],[84,3,84,17],[84,18,84,48],[85,49,85,52],[85,53,85,54],[85,55,85,58],[86,49,86,52],[86,53,86,54],[86,55,86,58],[83,55,83,58],[84,49,84,52],[84,53,84,54],[84,55,84,58],[79,53,79,54],[79,55,79,58],[80,49,80,52],[80,53,80,54],[80,55,80,58],[81,49,81,52],[81,53,81,54],[85,3,85,17],[85,18,85,48],[81,3,81,17],[81,18,81,48],[82,3,82,17],[82,18,82,48],[79,3,79,17],[79,18,79,48],[80,3,80,17],[80,18,80,48],[79,49,79,52],[81,55,81,58],[82,49,82,52],[82,53,82,54],[82,55,82,58],[83,49,83,52],[83,53,83,54],[74,54,74,58],[75,0,75,58],[76,49,76,52],[76,53,76,54],[76,55,76,58],[77,3,77,17],[77,18,77,48],[78,3,78,17],[78,18,78,48],[77,49,77,52],[77,53,77,54],[77,55,77,58],[78,49,78,52],[78,53,78,54],[78,55,78,58],[76,3,76,17],[76,18,76,48],[74,0,74,4],[74,5,74,19],[74,20,74,25],[74,26,74,28],[74,30,74,32],[74,34,74,47],[74,51,74,53],[0,0,0,4],[0,5,0,19],[0,20,0,25],[0,26,0,28],[0,30,0,32],[0,34,0,47],[0,51,0,53],[0,54,0,58],[1,0,1,28],[1,29,36,29],[1,30,1,58],[2,0,2,4],[2,7,2,10],[2,13,2,16],[2,19,2,22],[2,25,2,28],[2,30,2,34],[2,36,2,39],[2,42,2,45],[3,0,3,15],[3,16,3,18],[3,19,3,21],[3,22,3,24],[3,25,3,28],[3,30,3,32],[3,33,3,45],[3,46,3,54],[3,55,3,58],[4,0,4,15],[4,16,4,18],[4,19,4,21],[4,22,4,24],[4,25,4,28],[4,30,4,32],[4,33,4,45],[4,46,4,54],[4,55,4,58],[5,0,5,15],[5,16,5,18],[5,19,5,21],[5,22,5,24],[5,25,5,28],[5,30,5,32],[5,33,5,45],[5,46,5,54],[5,55,5,58],[6,0,6,15],[6,16,6,18],[6,19,6,21],[6,22,6,24],[6,25,6,28],[6,30,6,32],[6,33,6,45],[6,46,6,54],[6,55,6,58],[7,0,7,15],[7,16,7,18],[7,19,7,21],[7,22,7,24],[7,25,7,28],[7,30,7,32],[7,33,7,45],[7,46,7,54],[7,55,7,58],[8,0,8,15],[8,16,8,18],[8,19,8,21],[8,22,8,24],[8,25,8,28],[8,30,8,32],[8,33,8,45],[8,46,8,54],[8,55,8,58],[9,0,9,15],[9,16,9,18],[9,19,9,21],[9,22,9,24],[9,25,9,28],[9,30,9,32],[9,33,9,45],[9,46,9,54],[9,55,9,58],[10,0,10,15],[10,16,10,18],[10,19,10,21],[10,22,10,24],[10,25,10,28],[10,30,10,32],[10,33,10,45],[10,46,10,54],[10,55,10,58],[11,0,11,15],[11,16,11,18],[11,19,11,21],[11,22,11,24],[11,25,11,28],[11,30,11,32],[11,33,11,45],[11,46,11,54],[11,55,11,58],[12,0,12,15],[12,16,12,18],[12,19,12,21],[12,22,12,24],[12,25,12,28],[12,30,12,32],[12,33,12,45],[12,46,12,54],[12,55,12,58],[13,0,13,15],[13,16,13,18],[13,19,13,21],[13,22,13,24],[13,25,13,28],[13,30,13,32],[13,33,13,45],[13,46,13,54],[13,55,13,58],[14,0,14,15],[14,16,14,18],[14,19,14,21],[14,22,14,24],[14,25,14,28],[14,30,14,32],[14,33,14,45],[14,46,14,54],[14,55,14,58],[15,0,15,15],[15,16,15,18],[15,19,15,21],[15,22,15,24],[15,25,15,28],[15,30,15,32],[15,33,15,45],[15,46,15,54],[15,55,15,58],[16,0,16,15],[16,16,16,18],[16,19,16,21],[16,22,16,24],[16,25,16,28],[16,30,16,32],[16,33,16,45],[16,46,16,54],[16,55,16,58],[17,0,17,15],[17,16,17,18],[17,19,17,21],[17,22,17,24],[17,25,17,28],[17,30,17,32],[17,33,17,45],[17,46,17,54],[17,55,17,58],[18,0,18,15],[18,16,18,18],[18,19,18,21],[18,22,18,24],[18,25,18,28],[18,30,18,32],[18,33,18,45],[18,46,18,54],[18,55,18,58],[19,0,19,15],[19,16,19,18],[19,19,19,21],[19,22,19,24],[19,25,19,28],[19,30,19,32],[19,33,19,45],[19,46,19,54],[19,55,19,58],[20,0,20,15],[20,16,20,18],[20,19,20,21],[20,22,20,24],[20,25,20,28],[20,30,20,32],[20,33,20,45],[20,46,20,54],[20,55,20,58],[21,0,21,15],[21,16,21,18],[21,19,21,21],[21,22,21,24],[21,25,21,28],[21,30,21,32],[21,33,21,45],[21,46,21,54],[21,55,21,58],[22,0,22,15],[22,16,22,18],[22,19,22,21],[22,22,22,24],[22,25,22,28],[22,30,22,32],[22,33,22,45],[22,46,22,54],[22,55,22,58],[23,0,23,15],[23,16,23,18],[23,19,23,21],[23,22,23,24],[23,25,23,28],[23,30,23,32],[23,33,23,45],[23,46,23,54],[23,55,23,58],[24,0,24,15],[24,16,24,18],[24,19,24,21],[24,22,24,24],[24,25,24,28],[24,30,24,32],[24,33,24,45],[24,46,24,54],[24,55,24,58],[25,0,25,15],[25,16,25,18],[25,19,25,21],[25,22,25,24],[25,25,25,28],[25,30,25,32],[25,33,25,45],[25,46,25,54],[25,55,25,58],[26,0,26,15],[26,16,26,18],[26,19,26,21],[26,22,26,24],[26,25,26,28],[26,30,26,32],[26,33,26,45],[26,46,26,54],[26,55,26,58],[27,0,27,15],[27,16,27,18],[27,19,27,21],[27,22,27,24],[27,25,27,28],[27,30,27,32],[27,33,27,45],[27,46,27,54],[27,55,27,58],[28,0,28,15],[28,16,28,18],[28,19,28,21],[28,22,28,24],[28,25,28,28],[28,30,28,32],[28,33,28,45],[28,46,28,54],[28,55,28,58],[29,0,29,15],[29,16,29,18],[29,19,29,21],[29,22,29,24],[29,25,29,28],[29,30,29,32],[29,33,29,45],[29,46,29,54],[29,55,29,58],[30,0,30,15],[30,16,30,18],[30,19,30,21],[30,22,30,24],[30,25,30,28],[30,30,30,32],[30,33,30,45],[30,46,30,54],[30,55,30,58],[31,0,31,15],[31,16,31,18],[31,19,31,21],[31,22,31,24],[31,25,31,28],[31,30,31,32],[31,33,31,45],[31,46,31,54],[31,55,31,58],[32,0,32,15],[32,16,32,18],[32,19,32,21],[32,22,32,24],[32,25,32,28],[32,30,32,32],[32,33,32,45],[32,46,32,54],[32,55,32,58],[33,0,33,15],[33,16,33,18],[33,19,33,21],[33,22,33,24],[33,25,33,28],[33,30,33,32],[33,33,33,45],[33,46,33,54],[33,55,33,58],[34,0,34,15],[34,16,34,18],[34,19,34,21],[34,22,34,24],[34,25,34,28],[34,30,34,32],[34,33,34,45],[34,46,34,54],[34,55,34,58],[35,0,35,15],[35,16,35,18],[35,19,35,21],[35,22,35,24],[35,25,35,28],[35,30,35,32],[35,33,35,45],[35,46,35,54],[35,55,35,58],[36,0,36,15],[36,16,36,18],[36,19,36,21],[36,22,36,24],[36,25,36,28],[36,30,36,32],[36,33,36,45],[36,46,36,54],[36,55,36,58],[37,0,37,4],[37,5,37,19],[37,20,37,25],[37,26,37,28],[37,30,37,32],[37,34,37,47],[37,51,37,53],[37,54,37,58],[38,0,38,28],[38,29,73,29],[38,30,38,58],[39,0,39,4],[39,6,39,9],[39,12,39,15],[40,0,40,2],[40,3,40,15],[40,16,40,24],[40,25,40,28],[40,30,40,45],[40,46,40,54],[40,55,40,58],[41,0,41,2],[41,3,41,15],[41,16,41,24],[41,25,41,28],[41,30,41,45],[41,46,41,54],[41,55,41,58],[42,0,42,2],[42,3,42,15],[42,16,42,24],[42,25,42,28],[42,30,42,45],[42,46,42,54],[42,55,42,58],[43,0,43,2],[43,3,43,15],[43,16,43,24],[43,25,43,28],[43,30,43,45],[43,46,43,54],[43,55,43,58],[44,0,44,2],[44,3,44,15],[44,16,44,24],[44,25,44,28],[44,30,44,45],[44,46,44,54],[44,55,44,58],[45,0,45,2],[45,3,45,15],[45,16,45,24],[45,25,45,28],[45,30,45,45],[45,46,45,54],[45,55,45,58],[46,0,46,2],[46,3,46,15],[46,16,46,24],[46,25,46,28],[46,30,46,45],[46,46,46,54],[46,55,46,58],[47,0,47,2],[47,3,47,15],[47,16,47,24],[47,25,47,28],[47,30,47,45],[47,46,47,54],[47,55,47,58],[48,0,48,2],[48,3,48,15],[48,16,48,24],[48,25,48,28],[48,30,48,45],[48,46,48,54],[48,55,48,58],[49,0,49,2],[49,3,49,15],[49,16,49,24],[49,25,49,28],[49,30,49,45],[49,46,49,54],[49,55,49,58],[50,0,50,2],[50,3,50,15],[50,16,50,24],[50,25,50,28],[50,30,50,45],[50,46,50,54],[50,55,50,58],[51,0,51,2],[51,3,51,15],[51,16,51,24],[51,25,51,28],[51,30,51,45],[51,46,51,54],[51,55,51,58],[52,0,52,2],[52,3,52,15],[52,16,52,24],[52,25,52,28],[52,30,52,45],[52,46,52,54],[52,55,52,58],[53,0,53,2],[53,3,53,15],[53,16,53,24],[53,25,53,28],[53,30,53,45],[53,46,53,54],[53,55,53,58],[54,0,54,2],[54,3,54,15],[54,16,54,24],[54,25,54,28],[54,30,54,45],[54,46,54,54],[54,55,54,58],[55,0,55,2],[55,3,55,15],[55,16,55,24],[55,25,55,28],[55,30,55,45],[55,46,55,54],[55,55,55,58],[56,0,56,2],[56,3,56,15],[56,16,56,24],[56,25,56,28],[56,30,56,45],[56,46,56,54],[56,55,56,58],[57,0,57,2],[57,3,57,15],[57,16,57,24],[57,25,57,28],[57,30,57,45],[57,46,57,54],[57,55,57,58],[58,0,58,2],[58,3,58,15],[58,16,58,24],[58,25,58,28],[58,30,58,45],[58,46,58,54],[58,55,58,58],[59,0,59,2],[59,3,59,15],[59,16,59,24],[59,25,59,28],[59,30,59,45],[59,46,59,54],[59,55,59,58],[60,0,60,2],[60,3,60,15],[60,16,60,24],[60,25,60,28],[60,30,60,45],[60,46,60,54],[60,55,60,58],[61,0,61,2],[61,3,61,15],[61,16,61,24],[61,25,61,28],[61,30,61,45],[61,46,61,54],[61,55,61,58],[62,0,62,2],[62,3,62,15],[62,16,62,24],[62,25,62,28],[62,30,62,45],[62,46,62,54],[62,55,62,58],[63,0,63,2],[63,3,63,15],[63,16,63,24],[63,25,63,28],[63,30,63,45],[63,46,63,54],[63,55,63,58],[64,0,64,2],[64,3,64,15],[64,16,64,24],[64,25,64,28],[64,30,64,45],[64,46,64,54],[64,55,64,58],[65,0,65,2],[65,3,65,15],[65,16,65,24],[65,25,65,28],[65,30,65,45],[65,46,65,54],[65,55,65,58],[66,0,66,2],[66,3,66,15],[66,16,66,24],[66,25,66,28],[66,30,66,45],[66,46,66,54],[66,55,66,58],[67,0,67,2],[67,3,67,15],[67,16,67,24],[67,25,67,28],[67,30,67,45],[67,46,67,54],[67,55,67,58],[68,0,68,2],[68,3,68,15],[68,16,68,24],[68,25,68,28],[68,30,68,45],[68,46,68,54],[68,55,68,58],[73,0,73,2],[73,3,73,15],[73,16,73,24],[73,25,73,28],[73,30,73,45],[73,46,73,54],[73,55,73,58],[69,0,69,2],[69,3,69,15],[69,16,69,24],[69,25,69,28],[69,30,69,45],[69,46,69,54],[69,55,69,58],[70,0,70,2],[70,3,70,15],[70,16,70,24],[70,25,70,28],[70,30,70,45],[70,46,70,54],[70,55,70,58],[71,30,71,45],[71,46,71,54],[71,55,71,58],[72,46,72,54],[72,55,72,58],[71,0,71,2],[71,3,71,15],[71,16,71,24],[71,25,71,28],[72,0,72,2],[72,3,72,15],[72,16,72,24],[72,25,72,28],[72,30,72,45],[99,55,99,58],[100,49,100,52],[100,53,100,54],[100,55,100,58],[101,49,101,52],[101,53,101,54],[101,55,101,58],[102,49,102,52],[102,53,102,54],[102,55,102,58],[103,53,103,54],[103,55,103,58],[104,49,104,52],[104,53,104,54],[104,55,104,58],[105,49,105,52],[105,53,105,54],[105,55,105,58],[106,49,106,52],[106,53,106,54],[106,55,106,58]]}
["CHANTIER :",null,null,null,null,{"$f":"'01-01-16'!F1","v":0},null,null,null,null,null,null,null,null,null,null,null,null,null,null,"N° CHANTIER :",null,null,null,null,null,{"$f":"'01-01-16'!AA1","v":0},null,null,null,"JOUR :",null,null,null,{"$f":" CHOOSE(WEEKDAY(BC1,2),\"Lundi\",\"Mardi\",\"Mercredi\",\"Jeudi\",\"Vendredi\",\"Samedi\",\"Dimanche\")","v":"Samedi"},null,null,null,null,null,null,null,null,null,null,null,null,null,null,null,null,"DATES :",null,null,{"$f":"MID(CELL(\"nomfichier\",A1),FIND(\"]\",CELL(\"nomfichier\",A1),1)+1,30)","v":"02-01-16"}]
["MAIN D'ŒUVRE",null,null,null,null,null,null,null,null,null,null,null,null,null,null,null,null,null,null,null,null,null,null,null,null,null,null,null,null,null,"CAMIONS"]
["Légende :",null,null,null,null,null,"Co",".= Congé",null,null,null,null,"M",".= Malade",null,null,null,null,"Cho",".= Chômage",null,null,null,null,"Va",".= Vacance",null,null,null,null,"Légende :",null,null,null,null,"Pa",".= Panne",null,null,null,null,"Ent",".= Entretien"]
["NOM - Prénom du travailleur",null,null,null,null,null,null,null,null,null,null,null,null,null,null,null,"Début journée",null,null,"Arrêt repas",null,null,"Fin journée",null,null,"Heures prestées",null,null,null,null,"N°",null,null,"Description du matériel",null,null,null,null,null,null,null,null,null,null,null,null,"Nom de l'opérateur",null,null,null,null,null,null,null,null,"Heures"]
[null,null,null,null,null,null,null,null,null,null,null,null,null,null,null,null,null,null,null,null,null,null,null,null,null,{"$f":"W5-Q5-T5","v":0},null,null,null,null,null,null,null,{"$f":"IF(ISNA(VLOOKUP(AE5,Camions!$B:$F,2,0)),\"\",(VLOOKUP(AE5,Camions!$B:$F,2,0)))","v":""},null,null,null,null,null,null,null,null,null,null,null,null,{"$f":"IF(ISNA(VLOOKUP(AE5,Camions!$B:$F,4,0)),\"\",(VLOOKUP(AE5,Camions!$B:$F,4,0)))","v":""}]
[null,null,null,null,null,null,null,null,null,null,null,null,null,null,null,null,null,null,null,null,null,null,null,null,null,{"$f":"W6-Q6-T6","v":0},null,null,null,null,null,null,null,{"$f":"IF(ISNA(VLOOKUP(AE6,Camions!$B:$F,2,0)),\"\",(VLOOKUP(AE6,Camions!$B:$F,2,0)))","v":""},null,null,null,null,null,null,null,null,null,null,null,null,{"$f":"IF(ISNA(VLOOKUP(AE6,Camions!$B:$F,4,0)),\"\",(VLOOKUP(AE6,Camions!$B:$F,4,0)))","v":""}]
[null,null,null,null,null,null,null,null,null,null,null,null,null,null,null,null,null,null,null,null,null,null,null,null,null,0,null,null,null,null,null,null,null,{"$f":"IF(ISNA(VLOOKUP(AE7,Camions!$B:$F,2,0)),\"\",(VLOOKUP(AE7,Camions!$B:$F,2,0)))","v":""},null,null,null,null,null,null,null,null,null,null,null,null,{"$f":"IF(ISNA(VLOOKUP(AE7,Camions!$B:$F,4,0)),\"\",(VLOOKUP(AE7,Camions!$B:$F,4,0)))","v":""}]
[null,null,null,null,null,null,null,null,null,null,null,null,null,null,null,null,null,null,null,null,null,null,null,null,null,0,null,null,null,null,null,null,null,{"$f":"IF(ISNA(VLOOKUP(AE8,Camions!$B:$F,2,0)),\"\",(VLOOKUP(AE8,Camions!$B:$F,2,0)))","v":""},null,null,null,null,null,null,null,null,null,null,null,null,{"$f":"IF(ISNA(VLOOKUP(AE8,Camions!$B:$F,4,0)),\"\",(VLOOKUP(AE8,Camions!$B:$F,4,0)))","v":""}]
[null,null,null,null,null,null,null,null,null,null,null,null,null,null,null,null,null,null,null,null,null,null,null,null,null,0,null,null,null,null,null,null,null,{"$f":"IF(ISNA(VLOOKUP(AE9,Camions!$B:$F,2,0)),\"\",(VLOOKUP(AE9,Camions!$B:$F,2,0)))","v":""},null,null,null,null,null,null,null,null,null,null,null,null,{"$f":"IF(ISNA(VLOOKUP(AE9,Camions!$B:$F,4,0)),\"\",(VLOOKUP(AE9,Camions!$B:$F,4,0)))","v":""}]
[null,null,null,null,null,null,null,null,null,null,null,null,null,null,null,null,null,null,null,null,null,null,null,null,null,0,null,null,null,null,null,null,null,{"$f":"IF(ISNA(VLOOKUP(AE10,Camions!$B:$F,2,0)),\"\",(VLOOKUP(AE10,Camions!$B:$F,2,0)))","v":""},null,null,null,null,null,null,null,null,null,null,null,null,{"$f":"IF(ISNA(VLOOKUP(AE10,Camions!$B:$F,4,0)),\"\",(VLOOKUP(AE10,Camions!$B:$F,4,0)))","v":""}]
[null,null,null,null,null,null,null,null,null,null,null,null,null,null,null,null,null,null,null,null,null,null,null,null,null,0,null,null,null,null,null,null,null,{"$f":"IF(ISNA(VLOOKUP(AE11,Camions!$B:$F,2,0)),\"\",(VLOOKUP(AE11,Camions!$B:$F,2,0)))","v":""},null,null,null,null,null,null,null,null,null,null,null,null,{"$f":"IF(ISNA(VLOOKUP(AE11,Camions!$B:$F,4,0)),\"\",(VLOOKUP(AE11,Camions!$B:$F,4,0)))","v":""}]
[null,null,null,null,null,null,null,null,null,null,null,null,null,null,null,null,null,null,null,null,null,null,null,null,null,0,null,null,null,null,null,null,null,{"$f":"IF(ISNA(VLOOKUP(AE12,Camions!$B:$F,2,0)),\"\",(VLOOKUP(AE12,Camions!$B:$F,2,0)))","v":""},null,null,null,null,null,null,null,null,null,null,null,null,{"$f":"IF(ISNA(VLOOKUP(AE12,Camions!$B:$F,4,0)),\"\",(VLOOKUP(AE12,Camions!$B:$F,4,0)))","v":""}]
[null,null,null,null,null,null,null,null,null,null,null,null,null,null,null,null,null,null,null,null,null,null,null,null,null,0,null,null,null,null,null,null,null,{"$f":"IF(ISNA(VLOOKUP(AE13,Camions!$B:$F,2,0)),\"\",(VLOOKUP(AE13,Camions!$B:$F,2,0)))","v":""},null,null,null,null,null,null,null,null,null,null,null,null,{"$f":"IF(ISNA(VLOOKUP(AE13,Camions!$B:$F,4,0)),\"\",(VLOOKUP(AE13,Camions!$B:$F,4,0)))","v":""}]
[null,null,null,null,null,null,null,null,null,null,null,null,null,null,null,null,null,null,null,null,null,null,null,null,null,0,null,null,null,null,null,null,null,{"$f":"IF(ISNA(VLOOKUP(AE14,Camions!$B:$F,2,0)),\"\",(VLOOKUP(AE14,Camions!$B:$F,2,0)))","v":""},null,null,null,null,null,null,null,null,null,null,null,null,{"$f":"IF(ISNA(VLOOKUP(AE14,Camions!$B:$F,4,0)),\"\",(VLOOKUP(AE14,Camions!$B:$F,4,0)))","v":""}]
[null,null,null,null,null,null,null,null,null,null,null,null,null,null,null,null,null,null,null,null,null,null,null,null,null,0,null,null,null,null,null,null,null,{"$f":"IF(ISNA(VLOOKUP(AE15,Camions!$B:$F,2,0)),\"\",(VLOOKUP(AE15,Camions!$B:$F,2,0)))","v":""},null,null,null,null,null,null,null,null,null,null,null,null,{"$f":"IF(ISNA(VLOOKUP(AE15,Camions!$B:$F,4,0)),\"\",(VLOOKUP(AE15,Camions!$B:$F,4,0)))","v":""}]
[null,null,null,null,null,null,null,null,null,null,null,null,null,null,null,null,null,null,null,null,null,null,null,null,null,0,null,null,null,null,null,null,null,{"$f":"IF(ISNA(VLOOKUP(AE16,Camions!$B:$F,2,0)),\"\",(VLOOKUP(AE16,Camions!$B:$F,2,0)))","v":""},null,null,null,null,null,null,null,null,null,null,null,null,{"$f":"IF(ISNA(VLOOKUP(AE16,Camions!$B:$F,4,0)),\"\",(VLOOKUP(AE16,Camions!$B:$F,4,0)))","v":""}]
[null,null,null,null,null,null,null,null,null,null,null,null,null,null,null,null,null,null,null,null,null,null,null,null,null,0,null,null,null,null,null,null,null,{"$f":"IF(ISNA(VLOOKUP(AE17,Camions!$B:$F,2,0)),\"\",(VLOOKUP(AE17,Camions!$B:$F,2,0)))","v":""},null,null,null,null,null,null,null,null,null,null,null,null,{"$f":"IF(ISNA(VLOOKUP(AE17,Camions!$B:$F,4,0)),\"\",(VLOOKUP(AE17,Camions!$B:$F,4,0)))","v":""}]
[null,null,null,null,null,null,null,null,null,null,null,null,null,null,null,null,null,null,null,null,null,null,null,null,null,0,null,null,null,null,null,null,null,{"$f":"IF(ISNA(VLOOKUP(AE18,Camions!$B:$F,2,0)),\"\",(VLOOKUP(AE18,Camions!$B:$F,2,0)))","v":""},null,null,null,null,null,null,null,null,null,null,null,null,{"$f":"IF(ISNA(VLOOKUP(AE18,Camions!$B:$F,4,0)),\"\",(VLOOKUP(AE18,Camions!$B:$F,4,0)))","v":""}]
[null,null,null,null,null,null,null,null,null,null,null,null,null,null,null,null,null,null,null,null,null,null,null,null,null,0,null,null,null,null,null,null,null,{"$f":"IF(ISNA(VLOOKUP(AE19,Camions!$B:$F,2,0)),\"\",(VLOOKUP(AE19,Camions!$B:$F,2,0)))","v":""},null,null,null,null,null,null,null,null,null,null,null,null,{"$f":"IF(ISNA(VLOOKUP(AE19,Camions!$B:$F,4,0)),\"\",(VLOOKUP(AE19,Camions!$B:$F,4,0)))","v":""}]
[null,null,null,null,null,null,null,null,null,null,null,null,null,null,null,null,null,null,null,null,null,null,null,null,null,0,null,null,null,null,null,null,null,{"$f":"IF(ISNA(VLOOKUP(AE20,Camions!$B:$F,2,0)),\"\",(VLOOKUP(AE20,Camions!$B:$F,2,0)))","v":""},null,null,null,null,null,null,null,null,null,null,null,null,{"$f":"IF(ISNA(VLOOKUP(AE20,Camions!$B:$F,4,0)),\"\",(VLOOKUP(AE20,Camions!$B:$F,4,0)))","v":""}]
[null,null,null,null,null,null,null,null,null,null,null,null,null,null,null,null,null,null,null,null,null,null,null,null,null,0,null,null,null,null,null,null,null,{"$f":"IF(ISNA(VLOOKUP(AE21,Camions!$B:$F,2,0)),\"\",(VLOOKUP(AE21,Camions!$B:$F,2,0)))","v":""},null,null,null,null,null,null,null,null,null,null,null,null,{"$f":"IF(ISNA(VLOOKUP(AE21,Camions!$B:$F,4,0)),\"\",(VLOOKUP(AE21,Camions!$B:$F,4,0)))","v":""}]
[null,null,null,null,null,null,null,null,null,null,null,null,null,null,null,null,null,null,null,null,null,null,null,null,null,0,null,null,null,null,null,null,null,{"$f":"IF(ISNA(VLOOKUP(AE22,Camions!$B:$F,2,0)),\"\",(VLOOKUP(AE22,Camions!$B:$F,2,0)))","v":""},null,null,null,null,null,null,null,null,null,null,null,null,{"$f":"IF(ISNA(VLOOKUP(AE22,Camions!$B:$F,4,0)),\"\",(VLOOKUP(AE22,Camions!$B:$F,4,0)))","v":""}]
[null,null,null,null,null,null,null,null,null,null,null,null,null,null,null,null,null,null,null,null,null,null,null,null,null,0,null,null,null,null,null,null,null,{"$f":"IF(ISNA(VLOOKUP(AE23,Camions!$B:$F,2,0)),\"\",(VLOOKUP(AE23,Camions!$B:$F,2,0)))","v":""},null,null,null,null,null,null,null,null,null,null,null,null,{"$f":"IF(ISNA(VLOOKUP(AE23,Camions!$B:$F,4,0)),\"\",(VLOOKUP(AE23,Camions!$B:$F,4,0)))","v":""}]
[null,null,null,null,null,null,null,null,null,null,null,null,null,null,null,null,null,null,null,null,null,null,null,null,null,0,null,null,null,null,null,null,null,{"$f":"IF(ISNA(VLOOKUP(AE24,Camions!$B:$F,2,0)),\"\",(VLOOKUP(AE24,Camions!$B:$F,2,0)))","v":""},null,null,null,null,null,null,null,null,null,null,null,null,{"$f":"IF(ISNA(VLOOKUP(AE24,Camions!$B:$F,4,0)),\"\",(VLOOKUP(AE24,Camions!$B:$F,4,0)))","v":""}]
[null,null,null,null,null,null,null,null,null,null,null,null,null,null,null,null,null,null,null,null,null,null,null,null,null,0,null,null,null,null,null,null,null,{"$f":"IF(ISNA(VLOOKUP(AE25,Camions!$B:$F,2,0)),\"\",(VLOOKUP(AE25,Camions!$B:$F,2,0)))","v":""},null,null,null,null,null,null,null,null,null,null,null,null,{"$f":"IF(ISNA(VLOOKUP(AE25,Camions!$B:$F,4,0)),\"\",(VLOOKUP(AE25,Camions!$B:$F,4,0)))","v":""}]
[null,null,null,null,null,null,null,null,null,null,null,null,null,null,null,null,null,null,null,null,null,null,null,null,null,0,null,null,null,null,null,null,null,{"$f":"IF(ISNA(VLOOKUP(AE26,Camions!$B:$F,2,0)),\"\",(VLOOKUP(AE26,Camions!$B:$F,2,0)))","v":""},null,null,null,null,null,null,null,null,null,null,null,null,{"$f":"IF(ISNA(VLOOKUP(AE26,Camions!$B:$F,4,0)),\"\",(VLOOKUP(AE26,Camions!$B:$F,4,0)))","v":""}]
[null,null,null,null,null,null,null,null,null,null,null,null,null,null,null,null,null,null,null,null,null,null,null,null,null,0,null,null,null,null,null,null,null,{"$f":"IF(ISNA(VLOOKUP(AE27,Camions!$B:$F,2,0)),\"\",(VLOOKUP(AE27,Camions!$B:$F,2,0)))","v":""},null,null,null,null,null,null,null,null,null,null,null,null,{"$f":"IF(ISNA(VLOOKUP(AE27,Camions!$B:$F,4,0)),\"\",(VLOOKUP(AE27,Camions!$B:$F,4,0)))","v":""}]
[null,null,null,null,null,null,null,null,null,null,null,null,null,null,null,null,null,null,null,null,null,null,null,null,null,0,null,null,null,null,null,null,null,{"$f":"IF(ISNA(VLOOKUP(AE28,Camions!$B:$F,2,0)),\"\",(VLOOKUP(AE28,Camions!$B:$F,2,0)))","v":""},null,null,null,null,null,null,null,null,null,null,null,null,{"$f":"IF(ISNA(VLOOKUP(AE28,Camions!$B:$F,4,0)),\"\",(VLOOKUP(AE28,Camions!$B:$F,4,0)))","v":""}]
[null,null,null,null,null,null,null,null,null,null,null,null,null,null,null,null,null,null,null,null,null,null,null,null,null,0,null,null,null,null,null,null,null,{"$f":"IF(ISNA(VLOOKUP(AE29,Camions!$B:$F,2,0)),\"\",(VLOOKUP(AE29,Camions!$B:$F,2,0)))","v":""},null,null,null,null,null,null,null,null,null,null,null,null,{"$f":"IF(ISNA(VLOOKUP(AE29,Camions!$B:$F,4,0)),\"\",(VLOOKUP(AE29,Camions!$B:$F,4,0)))","v":""}]
[null,null,null,null,null,null,null,null,null,null,null,null,null,null,null,null,null,null,null,null,null,null,null,null,null,0,null,null,null,null,null,null,null,{"$f":"IF(ISNA(VLOOKUP(AE30,Camions!$B:$F,2,0)),\"\",(VLOOKUP(AE30,Camions!$B:$F,2,0)))","v":""},null,null,null,null,null,null,null,null,null,null,null,null,{"$f":"IF(ISNA(VLOOKUP(AE30,Camions!$B:$F,4,0)),\"\",(VLOOKUP(AE30,Camions!$B:$F,4,0)))","v":""}]
[null,null,null,null,null,null,null,null,null,null,null,null,null,null,null,null,null,null,null,null,null,null,null,null,null,0,null,null,null,null,null,null,null,{"$f":"IF(ISNA(VLOOKUP(AE31,Camions!$B:$F,2,0)),\"\",(VLOOKUP(AE31,Camions!$B:$F,2,0)))","v":""},null,null,null,null,null,null,null,null,null,null,null,null,{"$f":"IF(ISNA(VLOOKUP(AE31,Camions!$B:$F,4,0)),\"\",(VLOOKUP(AE31,Camions!$B:$F,4,0)))","v":""}]
[null,null,null,null,null,null,null,null,null,null,null,null,null,null,null,null,null,null,null,null,null,null,null,null,null,0,null,null,null,null,null,null,null,{"$f":"IF(ISNA(VLOOKUP(AE32,Camions!$B:$F,2,0)),\"\",(VLOOKUP(AE32,Camions!$B:$F,2,0)))","v":""},null,null,null,null,null,null,null,null,null,null,null,null,{"$f":"IF(ISNA(VLOOKUP(AE32,Camions!$B:$F,4,0)),\"\",(VLOOKUP(AE32,Camions!$B:$F,4,0)))","v":""}]
[null,null,null,null,null,null,null,null,null,null,null,null,null,null,null,null,null,null,null,null,null,null,null,null,null,0,null,null,null,null,null,null,null,{"$f":"IF(ISNA(VLOOKUP(AE33,Camions!$B:$F,2,0)),\"\",(VLOOKUP(AE33,Camions!$B:$F,2,0)))","v":""},null,null,null,null,null,null,null,null,null,null,null,null,{"$f":"IF(ISNA(VLOOKUP(AE33,Camions!$B:$F,4,0)),\"\",(VLOOKUP(AE33,Camions!$B:$F,4,0)))","v":""}]
[null,null,null,null,null,null,null,null,null,null,null,null,null,null,null,null,null,null,null,null,null,null,null,null,null,0,null,null,null,null,null,null,null,{"$f":"IF(ISNA(VLOOKUP(AE34,Camions!$B:$F,2,0)),\"\",(VLOOKUP(AE34,Camions!$B:$F,2,0)))","v":""},null,null,null,null,null,null,null,null,null,null,null,null,{"$f":"IF(ISNA(VLOOKUP(AE34,Camions!$B:$F,4,0)),\"\",(VLOOKUP(AE34,Camions!$B:$F,4,0)))","v":""}]
[null,null,null,null,null,null,null,null,null,null,null,null,null,null,null,null,null,null,null,null,null,null,null,null,null,0,null,null,null,null,null,null,null,{"$f":"IF(ISNA(VLOOKUP(AE35,Camions!$B:$F,2,0)),\"\",(VLOOKUP(AE35,Camions!$B:$F,2,0)))","v":""},null,null,null,null,null,null,null,null,null,null,null,null,{"$f":"IF(ISNA(VLOOKUP(AE35,Camions!$B:$F,4,0)),\"\",(VLOOKUP(AE35,Camions!$B:$F,4,0)))","v":""}]
[null,null,null,null,null,null,null,null,null,null,null,null,null,null,null,null,null,null,null,null,null,null,null,null,null,0,null,null,null,null,null,null,null,{"$f":"IF(ISNA(VLOOKUP(AE36,Camions!$B:$F,2,0)),\"\",(VLOOKUP(AE36,Camions!$B:$F,2,0)))","v":""},null,null,null,null,null,null,null,null,null,null,null,null,{"$f":"IF(ISNA(VLOOKUP(AE36,Camions!$B:$F,4,0)),\"\",(VLOOKUP(AE36,Camions!$B:$F,4,0)))","v":""}]
[null,null,null,null,null,null,null,null,null,null,null,null,null,null,null,null,null,null,null,null,null,null,null,null,null,0,null,null,null,null,null,null,null,{"$f":"IF(ISNA(VLOOKUP(AE37,Camions!$B:$F,2,0)),\"\",(VLOOKUP(AE37,Camions!$B:$F,2,0)))","v":""},null,null,null,null,null,null,null,null,null,null,null,null,{"$f":"IF(ISNA(VLOOKUP(AE36,Camions!$B:$F,4,0)),\"\",(VLOOKUP(AE36,Camions!$B:$F,4,0)))","v":""}]
["CHANTIER :",null,null,null,null,{"$f":"F1","v":0},null,null,null,null,null,null,null,null,null,null,null,null,null,null,"N° CHANTIER :",null,null,null,null,null,{"$f":"AA1","v":0},null,null,null,"JOUR :",null,null,null,{"$f":"AI1","v":"Samedi"},null,null,null,null,null,null,null,null,null,null,null,null,null,null,null,null,"DATES :",null,null,{"$f":"BC1","v":"02-01-16"}]
["MATERIEL",null,null,null,null,null,null,null,null,null,null,null,null,null,null,null,null,null,null,null,null,null,null,null,null,null,null,null,null,null,"SOUS-TRAITANTS"]
["Légende :",null,null,null,null,"Pa",".= Panne",null,null,null,null,"Ent",".= Entretien"]
["N°",null,null,"Description du matériel",null,null,null,null,null,null,null,null,null,null,null,null,"Nom de l'opérateur",null,null,null,null,null,null,null,null,"Heures",null,null,null,null,"Type d'engin et description des travaux ",null,null,null,null,null,null,null,null,null,null,null,null,null,null,null,"Sous-traitants",null,null,null,null,null,null,null,null,"Heures"]
[null,null,null,{"$f":"IF(ISNA(VLOOKUP(A42,Machines!$B:$F,2,0)),\"\",(VLOOKUP(A42,Machines!$B:$F,2,0)))","v":""},null,null,null,null,null,null,null,null,null,null,null,null,{"$f":"IF(ISNA(VLOOKUP(A42,Machines!$B:$F,4,0)),\"\",(VLOOKUP(A42,Machines!$B:$F,4,0)))","v":""}]
[null,null,null,{"$f":"IF(ISNA(VLOOKUP(A43,Machines!$B:$F,2,0)),\"\",(VLOOKUP(A43,Machines!$B:$F,2,0)))","v":""},null,null,null,null,null,null,null,null,null,null,null,null,{"$f":"IF(ISNA(VLOOKUP(A43,Machines!$B:$F,4,0)),\"\",(VLOOKUP(A43,Machines!$B:$F,4,0)))","v":""}]
[null,null,null,{"$f":"IF(ISNA(VLOOKUP(A44,Machines!$B:$F,2,0)),\"\",(VLOOKUP(A44,Machines!$B:$F,2,0)))","v":""},null,null,null,null,null,null,null,null,null,null,null,null,{"$f":"IF(ISNA(VLOOKUP(A44,Machines!$B:$F,4,0)),\"\",(VLOOKUP(A44,Machines!$B:$F,4,0)))","v":""}]
[null,null,null,{"$f":"IF(ISNA(VLOOKUP(A45,Machines!$B:$F,2,0)),\"\",(VLOOKUP(A45,Machines!$B:$F,2,0)))","v":""},null,null,null,null,null,null,null,null,null,null,null,null,{"$f":"IF(ISNA(VLOOKUP(A45,Machines!$B:$F,4,0)),\"\",(VLOOKUP(A45,Machines!$B:$F,4,0)))","v":""}]
[null,null,null,{"$f":"IF(ISNA(VLOOKUP(A46,Machines!$B:$F,2,0)),\"\",(VLOOKUP(A46,Machines!$B:$F,2,0)))","v":""},null,null,null,null,null,null,null,null,null,null,null,null,{"$f":"IF(ISNA(VLOOKUP(A46,Machines!$B:$F,4,0)),\"\",(VLOOKUP(A46,Machines!$B:$F,4,0)))","v":""}]
[null,null,null,{"$f":"IF(ISNA(VLOOKUP(A47,Machines!$B:$F,2,0)),\"\",(VLOOKUP(A47,Machines!$B:$F,2,0)))","v":""},null,null,null,null,null,null,null,null,null,null,null,null,{"$f":"IF(ISNA(VLOOKUP(A47,Machines!$B:$F,4,0)),\"\",(VLOOKUP(A47,Machines!$B:$F,4,0)))","v":""}]
[null,null,null,{"$f":"IF(ISNA(VLOOKUP(A48,Machines!$B:$F,2,0)),\"\",(VLOOKUP(A48,Machines!$B:$F,2,0)))","v":""},null,null,null,null,null,null,null,null,null,null,null,null,{"$f":"IF(ISNA(VLOOKUP(A48,Machines!$B:$F,4,0)),\"\",(VLOOKUP(A48,Machines!$B:$F,4,0)))","v":""}]
[null,null,null,{"$f":"IF(ISNA(VLOOKUP(A49,Machines!$B:$F,2,0)),\"\",(VLOOKUP(A49,Machines!$B:$F,2,0)))","v":""},null,null,null,null,null,null,null,null,null,null,null,null,{"$f":"IF(ISNA(VLOOKUP(A49,Machines!$B:$F,4,0)),\"\",(VLOOKUP(A49,Machines!$B:$F,4,0)))","v":""}]
[null,null,null,{"$f":"IF(ISNA(VLOOKUP(A50,Machines!$B:$F,2,0)),\"\",(VLOOKUP(A50,Machines!$B:$F,2,0)))","v":""},null,null,null,null,null,null,null,null,null,null,null,null,{"$f":"IF(ISNA(VLOOKUP(A50,Machines!$B:$F,4,0)),\"\",(VLOOKUP(A50,Machines!$B:$F,4,0)))","v":""}]
[null,null,null,{"$f":"IF(ISNA(VLOOKUP(A51,Machines!$B:$F,2,0)),\"\",(VLOOKUP(A51,Machines!$B:$F,2,0)))","v":""},null,null,null,null,null,null,null,null,null,null,null,null,{"$f":"IF(ISNA(VLOOKUP(A51,Machines!$B:$F,4,0)),\"\",(VLOOKUP(A51,Machines!$B:$F,4,0)))","v":""}]
[null,null,null,{"$f":"IF(ISNA(VLOOKUP(A52,Machines!$B:$F,2,0)),\"\",(VLOOKUP(A52,Machines!$B:$F,2,0)))","v":""},null,null,null,null,null,null,null,null,null,null,null,null,{"$f":"IF(ISNA(VLOOKUP(A52,Machines!$B:$F,4,0)),\"\",(VLOOKUP(A52,Machines!$B:$F,4,0)))","v":""}]
[null,null,null,{"$f":"IF(ISNA(VLOOKUP(A53,Machines!$B:$F,2,0)),\"\",(VLOOKUP(A53,Machines!$B:$F,2,0)))","v":""},null,null,null,null,null,null,null,null,null,null,null,null,{"$f":"IF(ISNA(VLOOKUP(A53,Machines!$B:$F,4,0)),\"\",(VLOOKUP(A53,Machines!$B:$F,4,0)))","v":""}]
[null,null,null,{"$f":"IF(ISNA(VLOOKUP(A54,Machines!$B:$F,2,0)),\"\",(VLOOKUP(A54,Machines!$B:$F,2,0)))","v":""},null,null,null,null,null,null,null,null,null,null,null,null,{"$f":"IF(ISNA(VLOOKUP(A54,Machines!$B:$F,4,0)),\"\",(VLOOKUP(A54,Machines!$B:$F,4,0)))","v":""}]
[null,null,null,{"$f":"IF(ISNA(VLOOKUP(A55,Machines!$B:$F,2,0)),\"\",(VLOOKUP(A55,Machines!$B:$F,2,0)))","v":""},null,null,null,null,null,null,null,null,null,null,null,null,{"$f":"IF(ISNA(VLOOKUP(A55,Machines!$B:$F,4,0)),\"\",(VLOOKUP(A55,Machines!$B:$F,4,0)))","v":""}]
[null,null,null,{"$f":"IF(ISNA(VLOOKUP(A56,Machines!$B:$F,2,0)),\"\",(VLOOKUP(A56,Machines!$B:$F,2,0)))","v":""},null,null,null,null,null,null,null,null,null,null,null,null,{"$f":"IF(ISNA(VLOOKUP(A56,Machines!$B:$F,4,0)),\"\",(VLOOKUP(A56,Machines!$B:$F,4,0)))","v":""}]
[null,null,null,{"$f":"IF(ISNA(VLOOKUP(A57,Machines!$B:$F,2,0)),\"\",(VLOOKUP(A57,Machines!$B:$F,2,0)))","v":""},null,null,null,null,null,null,null,null,null,null,null,null,{"$f":"IF(ISNA(VLOOKUP(A57,Machines!$B:$F,4,0)),\"\",(VLOOKUP(A57,Machines!$B:$F,4,0)))","v":""}]
[null,null,null,{"$f":"IF(ISNA(VLOOKUP(A58,Machines!$B:$F,2,0)),\"\",(VLOOKUP(A58,Machines!$B:$F,2,0)))","v":""},null,null,null,null,null,null,null,null,null,null,null,null,{"$f":"IF(ISNA(VLOOKUP(A58,Machines!$B:$F,4,0)),\"\",(VLOOKUP(A58,Machines!$B:$F,4,0)))","v":""}]
[null,null,null,{"$f":"IF(ISNA(VLOOKUP(A59,Machines!$B:$F,2,0)),\"\",(VLOOKUP(A59,Machines!$B:$F,2,0)))","v":""},null,null,null,null,null,null,null,null,null,null,null,null,{"$f":"IF(ISNA(VLOOKUP(A59,Machines!$B:$F,4,0)),\"\",(VLOOKUP(A59,Machines!$B:$F,4,0)))","v":""}]
[null,null,null,{"$f":"IF(ISNA(VLOOKUP(A60,Machines!$B:$F,2,0)),\"\",(VLOOKUP(A60,Machines!$B:$F,2,0)))","v":""},null,null,null,null,null,null,null,null,null,null,null,null,{"$f":"IF(ISNA(VLOOKUP(A60,Machines!$B:$F,4,0)),\"\",(VLOOKUP(A60,Machines!$B:$F,4,0)))","v":""}]
[null,null,null,{"$f":"IF(ISNA(VLOOKUP(A61,Machines!$B:$F,2,0)),\"\",(VLOOKUP(A61,Machines!$B:$F,2,0)))","v":""},null,null,null,null,null,null,null,null,null,null,null,null,{"$f":"IF(ISNA(VLOOKUP(A61,Machines!$B:$F,4,0)),\"\",(VLOOKUP(A61,Machines!$B:$F,4,0)))","v":""}]
[null,null,null,{"$f":"IF(ISNA(VLOOKUP(A62,Machines!$B:$F,2,0)),\"\",(VLOOKUP(A62,Machines!$B:$F,2,0)))","v":""},null,null,null,null,null,null,null,null,null,null,null,null,{"$f":"IF(ISNA(VLOOKUP(A62,Machines!$B:$F,4,0)),\"\",(VLOOKUP(A62,Machines!$B:$F,4,0)))","v":""}]
[null,null,null,{"$f":"IF(ISNA(VLOOKUP(A63,Machines!$B:$F,2,0)),\"\",(VLOOKUP(A63,Machines!$B:$F,2,0)))","v":""},null,null,null,null,null,null,null,null,null,null,null,null,{"$f":"IF(ISNA(VLOOKUP(A63,Machines!$B:$F,4,0)),\"\",(VLOOKUP(A63,Machines!$B:$F,4,0)))","v":""}]
[null,null,null,{"$f":"IF(ISNA(VLOOKUP(A64,Machines!$B:$F,2,0)),\"\",(VLOOKUP(A64,Machines!$B:$F,2,0)))","v":""},null,null,null,null,null,null,null,null,null,null,null,null,{"$f":"IF(ISNA(VLOOKUP(A64,Machines!$B:$F,4,0)),\"\",(VLOOKUP(A64,Machines!$B:$F,4,0)))","v":""}]
[null,null,null,{"$f":"IF(ISNA(VLOOKUP(A65,Machines!$B:$F,2,0)),\"\",(VLOOKUP(A65,Machines!$B:$F,2,0)))","v":""},null,null,null,null,null,null,null,null,null,null,null,null,{"$f":"IF(ISNA(VLOOKUP(A65,Machines!$B:$F,4,0)),\"\",(VLOOKUP(A65,Machines!$B:$F,4,0)))","v":""}]
[null,null,null,{"$f":"IF(ISNA(VLOOKUP(A66,Machines!$B:$F,2,0)),\"\",(VLOOKUP(A66,Machines!$B:$F,2,0)))","v":""},null,null,null,null,null,null,null,null,null,null,null,null,{"$f":"IF(ISNA(VLOOKUP(A66,Machines!$B:$F,4,0)),\"\",(VLOOKUP(A66,Machines!$B:$F,4,0)))","v":""}]
[null,null,null,{"$f":"IF(ISNA(VLOOKUP(A67,Machines!$B:$F,2,0)),\"\",(VLOOKUP(A67,Machines!$B:$F,2,0)))","v":""},null,null,null,null,null,null,null,null,null,null,null,null,{"$f":"IF(ISNA(VLOOKUP(A67,Machines!$B:$F,4,0)),\"\",(VLOOKUP(A67,Machines!$B:$F,4,0)))","v":""}]
[null,null,null,{"$f":"IF(ISNA(VLOOKUP(A68,Machines!$B:$F,2,0)),\"\",(VLOOKUP(A68,Machines!$B:$F,2,0)))","v":""},null,null,null,null,null,null,null,null,null,null,null,null,{"$f":"IF(ISNA(VLOOKUP(A68,Machines!$B:$F,4,0)),\"\",(VLOOKUP(A68,Machines!$B:$F,4,0)))","v":""}]
[null,null,null,{"$f":"IF(ISNA(VLOOKUP(A69,Machines!$B:$F,2,0)),\"\",(VLOOKUP(A69,Machines!$B:$F,2,0)))","v":""},null,null,null,null,null,null,null,null,null,null,null,null,{"$f":"IF(ISNA(VLOOKUP(A69,Machines!$B:$F,4,0)),\"\",(VLOOKUP(A69,Machines!$B:$F,4,0)))","v":""}]
[null,null,null,{"$f":"IF(ISNA(VLOOKUP(A70,Machines!$B:$F,2,0)),\"\",(VLOOKUP(A70,Machines!$B:$F,2,0)))","v":""},null,null,null,null,null,null,null,null,null,null,null,null,{"$f":"IF(ISNA(VLOOKUP(A70,Machines!$B:$F,4,0)),\"\",(VLOOKUP(A70,Machines!$B:$F,4,0)))","v":""}]
[null,null,null,{"$f":"IF(ISNA(VLOOKUP(A71,Machines!$B:$F,2,0)),\"\",(VLOOKUP(A71,Machines!$B:$F,2,0)))","v":""},null,null,null,null,null,null,null,null,null,null,null,null,{"$f":"IF(ISNA(VLOOKUP(A71,Machines!$B:$F,4,0)),\"\",(VLOOKUP(A71,Machines!$B:$F,4,0)))","v":""}]
[null,null,null,{"$f":"IF(ISNA(VLOOKUP(A72,Machines!$B:$F,2,0)),\"\",(VLOOKUP(A72,Machines!$B:$F,2,0)))","v":""},null,null,null,null,null,null,null,null,null,null,null,null,{"$f":"IF(ISNA(VLOOKUP(A72,Machines!$B:$F,4,0)),\"\",(VLOOKUP(A72,Machines!$B:$F,4,0)))","v":""}]
[null,null,null,{"$f":"IF(ISNA(VLOOKUP(A73,Machines!$B:$F,2,0)),\"\",(VLOOKUP(A73,Machines!$B:$F,2,0)))","v":""},null,null,null,null,null,null,null,null,null,null,null,null,{"$f":"IF(ISNA(VLOOKUP(A73,Machines!$B:$F,4,0)),\"\",(VLOOKUP(A73,Machines!$B:$F,4,0)))","v":""}]
[null,null,null,{"$f":"IF(ISNA(VLOOKUP(A74,Machines!$B:$F,2,0)),\"\",(VLOOKUP(A74,Machines!$B:$F,2,0)))","v":""},null,null,null,null,null,null,null,null,null,null,null,null,{"$f":"IF(ISNA(VLOOKUP(A74,Machines!$B:$F,4,0)),\"\",(VLOOKUP(A74,Machines!$B:$F,4,0)))","v":""}]
["CHANTIER :",null,null,null,null,{"$f":"F1","v":0},null,null,null,null,null,null,null,null,null,null,null,null,null,null,"N° CHANTIER :",null,null,null,null,null,{"$f":"AA1","v":0},null,null,null,"JOUR :",null,null,null,{"$f":"AI1","v":"Samedi"},null,null,null,null,null,null,null,null,null,null,null,null,null,null,null,null,"DATES :",null,null,{"$f":"BC1","v":"02-01-16"}]
["MATERIAUX"]
[null,null,null,"Fournisseurs",null,null,null,null,null,null,null,null,null,null,null,null,null,null,"Description des fournitures & matériaux",null,null,null,null,null,null,null,null,null,null,null,null,null,null,null,null,null,null,null,null,null,null,null,null,null,null,null,null,null,null,"Qt totales",null,null,null,"U.",null,"Prix"]
[]
[]
[]
[]
[]
[]
[]
[]
[]
[]
[]
[]
[]
[]
[]
[]
[]
[]
[]
[]
[]
[]
[]
[]
[]
[]
[]
[]
[]
[]
[]
[null,null,null,"RESPONSABLE",null,null,null,null,null,null,null,null,"SIGNATURE",null,null,null,null,null,"DESCRIPTION DES TRAVAUX REALISES CE JOUR",null,null,null,null,null,null,null,null,null,null,null,null,null,null,null,null,null,null,null,null,null,null,null,null,null,null,null,null,null,null,"METEO"]
[null,null,null,"JENNES Loïc"]

{"sheet":"03-01-16","index":9,"n_rows":110,"n_cols":56,"rows_kept":110,"cut":false,"hidden":false,"merged":[[107,55,107,58],[103,55,103,58],[104,49,104,52],[104,53,104,54],[104,55,104,58],[105,49,105,52],[105,53,105,54],[105,55,105,58],[106,49,106,52],[106,53,106,54],[106,55,106,58],[91,18,91,48],[92,3,92,17],[92,18,92,48],[89,3,89,17],[89,18,89,48],[108,3,108,11],[108,12,108,17],[103,49,103,52],[103,53,103,54],[107,49,107,52],[107,53,107,54],[108,49,108,58],[101,3,101,17],[101,18,101,48],[102,3,102,17],[102,18,102,48],[102,49,102,52],[91,53,91,54],[91,55,91,58],[92,49,92,52],[92,53,92,54],[92,55,92,58],[95,18,95,48],[96,3,96,17],[109,49,111,58],[110,18,110,48],[69,0,69,2],[69,3,69,15],[69,16,69,24],[69,25,69,28],[69,30,69,45],[69,46,69,54],[69,55,69,58],[100,3,100,17],[100,18,100,48],[97,3,97,17],[97,18,97,48],[98,3,98,17],[98,18,98,48],[99,3,99,17],[99,18,99,48],[95,3,95,17],[95,53,95,54],[102,53,102,54],[102,55,102,58],[95,55,95,58],[91,3,91,17],[109,18,109,48],[111,18,111,48],[108,18,108,48],[107,3,107,17],[107,18,107,48],[103,3,103,17],[103,18,103,48],[104,3,104,17],[104,18,104,48],[105,3,105,17],[105,18,105,48],[106,3,106,17],[106,18,106,48],[109,3,111,11],[109,12,111,17],[96,18,96,48],[93,3,93,17],[93,18,93,48],[94,3,94,17],[94,18,94,48],[93,49,93,52],[93,53,93,54],[93,55,93,58],[94,49,94,52],[94,53,94,54],[94,55,94,58],[95,49,95,52],[96,49,96,52],[96,53,96,54],[96,55,96,58],[90,3,90,17],[90,18,90,48],[91,49,91,52],[83,53,83,54],[83,55,83,58],[84,49,84,52],[84,53,84,54],[84,55,84,58],[87,3,87,17],[87,18,87,48],[88,3,88,17],[88,18,88,48],[85,3,85,17],[85,18,85,48],[86,3,86,17],[86,18,86,48],[85,49,85,52],[85,53,85,54],[85,55,85,58],[86,49,86,52],[86,53,86,54],[86,55,86,58],[87,49,87,52],[87,53,87,54],[83,3,83,17],[83,18,83,48],[84,3,84,17],[84,18,84,48],[81,3,81,17],[81,18,81,48],[82,3,82,17],[82,18,82,48],[83,49,83,52],[74,54,74,58],[75,0,75,58],[76,49,76,52],[76,53,76,54],[76,55,76,58],[79,3,79,17],[79,18,79,48],[80,3,80,17],[80,18,80,48],[77,3,77,17],[77,18,77,48],[78,3,78,17],[78,18,78,48],[77,49,77,52],[77,53,77,54],[77,55,77,58],[78,49,78,52],[78,53,78,54],[78,55,78,58],[79,49,79,52],[79,53,79,54],[76,3,76,17],[76,18,76,48],[74,0,74,4],[74,5,74,19],[74,20,74,25],[74,26,74,28],[74,30,74,32],[74,34,74,47],[74,51,74,53],[0,0,0,4],[0,5,0,19],[0,20,0,25],[0,26,0,28],[0,30,0,32],[0,34,0,47],[0,51,0,53],[4,22,4,24],[4,25,4,28],[4,30,4,32],[4,33,4,45],[4,46,4,54],[6,0,6,15],[6,16,6,18],[6,19,6,21],[6,22,6,24],[6,25,6,28],[6,30,6,32],[0,54,0,58],[1,0,1,28],[1,29,36,29],[1,30,1,58],[2,0,2,4],[2,7,2,10],[2,13,2,16],[2,19,2,22],[2,25,2,28],[2,30,2,34],[2,36,2,39],[2,42,2,45],[3,0,3,15],[3,16,3,18],[3,19,3,21],[3,22,3,24],[3,25,3,28],[3,30,3,32],[3,33,3,45],[3,46,3,54],[3,55,3,58],[4,0,4,15],[4,16,4,18],[4,19,4,21],[4,55,4,58],[5,0,5,15],[5,16,5,18],[5,19,5,21],[5,22,5,24],[5,25,5,28],[5,30,5,32],[5,33,5,45],[5,46,5,54],[5,55,5,58],[6,33,6,45],[6,46,6,54],[6,55,6,58],[7,0,7,15],[7,16,7,18],[7,19,7,21],[7,22,7,24],[7,25,7,28],[7,30,7,32],[7,33,7,45],[7,46,7,54],[7,55,7,58],[8,0,8,15],[8,16,8,18],[8,19,8,21],[8,22,8,24],[8,25,8,28],[8,30,8,32],[8,33,8,45],[8,46,8,54],[8,55,8,58],[9,0,9,15],[9,16,9,18],[9,19,9,21],[9,22,9,24],[9,25,9,28],[9,30,9,32],[9,33,9,45],[9,46,9,54],[9,55,9,58],[10,0,10,15],[10,16,10,18],[10,19,10,21],[10,22,10,24],[10,25,10,28],[10,30,10,32],[10,33,10,45],[10,46,10,54],[10,55,10,58],[11,0,11,15],[11,16,11,18],[11,19,11,21],[11,22,11,24],[11,25,11,28],[11,30,11,32],[11,33,11,45],[11,46,11,54],[11,55,11,58],[12,0,12,15],[12,16,12,18],[12,19,12,21],[12,22,12,24],[12,25,12,28],[12,30,12,32],[12,33,12,45],[12,46,12,54],[12,55,12,58],[13,0,13,15],[13,16,13,18],[13,19,13,21],[13,22,13,24],[13,25,13,28],[13,30,13,32],[13,33,13,45],[13,46,13,54],[13,55,13,58],[14,0,14,15],[14,16,14,18],[14,19,14,21],[14,22,14,24],[14,25,14,28],[14,30,14,32],[14,33,14,45],[14,46,14,54],[14,55,14,58],[15,0,15,15],[15,16,15,18],[15,19,15,21],[15,22,15,24],[15,25,15,28],[15,30,15,32],[15,33,15,45],[15,46,15,54],[15,55,15,58],[16,0,16,15],[16,16,16,18],[16,19,16,21],[16,22,16,24],[16,25,16,28],[16,30,16,32],[16,33,16,45],[16,46,16,54],[16,55,16,58],[17,0,17,15],[17,16,17,18],[17,19,17,21],[17,22,17,24],[17,25,17,28],[17,30,17,32],[17,33,17,45],[17,46,17,54],[17,55,17,58],[18,0,18,15],[18,16,18,18],[18,19,18,21],[18,22,18,24],[18,25,18,28],[18,30,18,32],[18,33,18,45],[18,46,18,54],[18,55,18,58],[19,0,19,15],[19,16,19,18],[19,19,19,21],[19,22,19,24],[19,25,19,28],[19,30,19,32],[19,33,19,45],[19,46,19,54],[19,55,19,58],[20,0,20,15],[20,16,20,18],[20,19,20,21],[20,22,20,24],[20,25,20,28],[20,30,20,32],[20,33,20,45],[20,46,20,54],[20,55,20,58],[21,0,21,15],[21,16,21,18],[21,19,21,21],[21,22,21,24],[21,25,21,28],[21,30,21,32],[21,33,21,45],[21,46,21,54],[21,55,21,58],[22,0,22,15],[22,16,22,18],[22,19,22,21],[22,22,22,24],[22,25,22,28],[22,30,22,32],[22,33,22,45],[22,46,22,54],[22,55,22,58],[23,0,23,15],[23,16,23,18],[23,19,23,21],[23,22,23,24],[23,25,23,28],[23,30,23,32],[23,33,23,45],[23,46,23,54],[23,55,23,58],[24,0,24,15],[24,16,24,18],[24,19,24,21],[24,22,24,24],[24,25,24,28],[24,30,24,32],[24,33,24,45],[24,46,24,54],[24,55,24,58],[25,0,25,15],[25,16,25,18],[25,19,25,21],[25,22,25,24],[25,25,25,28],[25,30,25,32],[25,33,25,45],[25,46,25,54],[25,55,25,58],[26,0,26,15],[26,16,26,18],[26,19,26,21],[26,22,26,24],[26,25,26,28],[26,30,26,32],[26,33,26,45],[26,46,26,54],[26,55,26,58],[27,0,27,15],[27,16,27,18],[27,19,27,21],[27,22,27,24],[27,25,27,28],[27,30,27,32],[27,33,27,45],[27,46,27,54],[27,55,27,58],[28,0,28,15],[28,16,28,18],[28,19,28,21],[28,22,28,24],[28,25,28,28],[28,30,28,32],[28,33,28,45],[28,46,28,54],[28,55,28,58],[29,0,29,15],[29,16,29,18],[29,19,29,21],[29,22,29,24],[29,25,29,28],[29,30,29,32],[29,33,29,45],[29,46,29,54],[29,55,29,58],[30,0,30,15],[30,16,30,18],[30,19,30,21],[30,22,30,24],[30,25,30,28],[30,30,30,32],[30,33,30,45],[30,46,30,54],[30,55,30,58],[31,0,31,15],[31,16,31,18],[31,19,31,21],[31,22,31,24],[31,25,31,28],[31,30,31,32],[31,33,31,45],[31,46,31,54],[31,55,31,58],[32,0,32,15],[32,16,32,18],[32,19,32,21],[32,22,32,24],[32,25,32,28],[32,30,32,32],[32,33,32,45],[32,46,32,54],[32,55,32,58],[33,0,33,15],[33,16,33,18],[33,19,33,21],[33,22,33,24],[33,25,33,28],[33,30,33,32],[33,33,33,45],[33,46,33,54],[33,55,33,58],[34,0,34,15],[34,16,34,18],[34,19,34,21],[34,22,34,24],[34,25,34,28],[34,30,34,32],[34,33,34,45],[34,46,34,54],[34,55,34,58],[35,0,35,15],[35,16,35,18],[35,19,35,21],[35,22,35,24],[35,25,35,28],[35,30,35,32],[35,33,35,45],[35,46,35,54],[35,55,35,58],[36,0,36,15],[36,16,36,18],[36,19,36,21],[36,22,36,24],[36,25,36,28],[36,30,36,32],[36,33,36,45],[36,46,36,54],[36,55,36,58],[37,0,37,4],[37,5,37,19],[37,20,37,25],[37,26,37,28],[37,30,37,32],[37,34,37,47],[37,51,37,53],[37,54,37,58],[38,0,38,28],[38,29,73,29],[38,30,38,58],[39,0,39,4],[39,6,39,9],[39,12,39,15],[40,0,40,2],[40,3,40,15],[40,16,40,24],[40,25,40,28],[40,30,40,45],[40,46,40,54],[40,55,40,58],[41,0,41,2],[41,3,41,15],[41,16,41,24],[41,25,41,28],[41,30,41,45],[41,46,41,54],[41,55,41,58],[42,0,42,2],[42,3,42,15],[42,16,42,24],[42,25,42,28],[42,30,42,45],[42,46,42,54],[42,55,42,58],[43,0,43,2],[43,3,43,15],[43,16,43,24],[43,25,43,28],[43,30,43,45],[43,46,43,54],[43,55,43,58],[44,0,44,2],[44,3,44,15],[44,16,44,24],[44,25,44,28],[44,30,44,45],[44,46,44,54],[44,55,44,58],[45,0,45,2],[45,3,45,15],[45,16,45,24],[45,25,45,28],[45,30,45,45],[45,46,45,54],[45,55,45,58],[46,0,46,2],[46,3,46,15],[46,16,46,24],[46,25,46,28],[46,30,46,45],[46,46,46,54],[46,55,46,58],[47,0,47,2],[47,3,47,15],[47,16,47,24],[47,25,47,28],[47,30,47,45],[47,46,47,54],[47,55,47,58],[48,0,48,2],[48,3,48,15],[48,16,48,24],[48,25,48,28],[48,30,48,45],[48,46,48,54],[48,55,48,58],[49,0,49,2],[49,3,49,15],[49,16,49,24],[49,25,49,28],[49,30,49,45],[49,46,49,54],[49,55,49,58],[50,0,50,2],[50,3,50,15],[50,16,50,24],[50,25,50,28],[50,30,50,45],[50,46,50,54],[50,55,50,58],[51,0,51,2],[51,3,51,15],[51,16,51,24],[51,25,51,28],[51,30,51,45],[51,46,51,54],[51,55,51,58],[52,0,52,2],[52,3,52,15],[52,16,52,24],[52,25,52,28],[52,30,52,45],[52,46,52,54],[52,55,52,58],[53,0,53,2],[53,3,53,15],[53,16,53,24],[53,25,53,28],[53,30,53,45],[53,46,53,54],[53,55,53,58],[54,0,54,2],[54,3,54,15],[54,16,54,24],[54,25,54,28],[54,30,54,45],[54,46,54,54],[54,55,54,58],[55,0,55,2],[55,3,55,15],[55,16,55,24],[55,25,55,28],[55,30,55,45],[55,46,55,54],[55,55,55,58],[56,0,56,2],[56,3,56,15],[56,16,56,24],[56,25,56,28],[56,30,56,45],[56,46,56,54],[56,55,56,58],[57,0,57,2],[57,3,57,15],[57,16,57,24],[57,25,57,28],[57,30,57,45],[57,46,57,54],[57,55,57,58],[58,0,58,2],[58,3,58,15],[58,16,58,24],[58,25,58,28],[58,30,58,45],[58,46,58,54],[58,55,58,58],[59,0,59,2],[59,3,59,15],[59,16,59,24],[59,25,59,28],[59,30,59,45],[59,46,59,54],[59,55,59,58],[60,0,60,2],[60,3,60,15],[60,16,60,24],[60,25,60,28],[60,30,60,45],[60,46,60,54],[60,55,60,58],[61,0,61,2],[61,3,61,15],[61,16,61,24],[61,25,61,28],[61,30,61,45],[61,46,61,54],[61,55,61,58],[62,0,62,2],[62,3,62,15],[62,16,62,24],[62,25,62,28],[62,30,62,45],[62,46,62,54],[62,55,62,58],[63,0,63,2],[63,3,63,15],[63,16,63,24],[63,25,63,28],[63,30,63,45],[63,46,63,54],[63,55,63,58],[64,0,64,2],[64,3,64,15],[64,16,64,24],[64,25,64,28],[64,30,64,45],[64,46,64,54],[64,55,64,58],[65,0,65,2],[65,3,65,15],[65,16,65,24],[65,25,65,28],[65,30,65,45],[65,46,65,54],[65,55,65,58],[66,0,66,2],[66,3,66,15],[66,16,66,24],[66,25,66,28],[66,30,66,45],[66,46,66,54],[66,55,66,58],[67,0,67,2],[67,3,67,15],[67,16,67,24],[67,25,67,28],[67,30,67,45],[67,46,67,54],[67,55,67,58],[68,0,68,2],[68,3,68,15],[68,16,68,24],[68,25,68,28],[68,30,68,45],[68,46,68,54],[68,55,68,58],[70,0,70,2],[70,3,70,15],[70,16,70,24],[70,25,70,28],[70,30,70,45],[70,46,70,54],[70,55,70,58],[71,0,71,2],[71,3,71,15],[71,16,71,24],[71,25,71,28],[71,30,71,45],[71,46,71,54],[71,55,71,58],[72,0,72,2],[72,3,72,15],[72,16,72,24],[72,25,72,28],[72,30,72,45],[72,46,72,54],[72,55,72,58],[73,0,73,2],[73,3,73,15],[73,16,73,24],[73,25,73,28],[73,30,73,45],[73,46,73,54],[73,55,73,58],[79,55,79,58],[80,49,80,52],[80,53,80,54],[80,55,80,58],[81,49,81,52],[81,53,81,54],[81,55,81,58],[82,49,82,52],[82,53,82,54],[82,55,82,58],[87,55,87,58],[88,49,88,52],[88,53,88,54],[88,55,88,58],[89,49,89,52],[89,53,89,54],[89,55,89,58],[90,49,90,52],[90,53,90,54],[90,55,90,58],[100,49,100,52],[100,53,100,54],[100,55,100,58],[101,49,101,52],[101,53,101,54],[101,55,101,58],[97,49,97,52],[97,53,97,54],[97,55,97,58],[98,49,98,52],[98,53,98,54],[98,55,98,58],[99,49,99,52],[99,53,99,54],[99,55,99,58]]}
["CHANTIER :",null,null,null,null,{"$f":"'01-01-16'!F1","v":0},null,null,null,null,null,null,null,null,null,null,null,null,null,null,"N° CHANTIER :",null,null,null,null,null,{"$f":"'01-01-16'!AA1","v":0},null,null,null,"JOUR :",null,null,null,{"$f":" CHOOSE(WEEKDAY(BC1,2),\"Lundi\",\"Mardi\",\"Mercredi\",\"Jeudi\",\"Vendredi\",\"Samedi\",\"Dimanche\")","v":"Dimanche"},null,null,null,null,null,null,null,null,null,null,null,null,null,null,null,null,"DATES :",null,null,{"$f":"MID(CELL(\"nomfichier\",A1),FIND(\"]\",CELL(\"nomfichier\",A1),1)+1,30)","v":"03-01-16"}]
["MAIN D'ŒUVRE",null,null,null,null,{"$f":"'01-01-16'!F2:T2","v":0},null,null,null,null,null,null,null,null,null,null,null,null,null,null,"N° CHANTIER :",null,null,null,null,null,{"$f":"'01-01-16'!AA2:AC2","v":0},null,null,null,"CAMIONS"]
["Légende :",null,null,null,null,null,"Co",".= Congé",null,null,null,null,"M",".= Malade",null,null,null,null,"Cho",".= Chômage",null,null,null,null,"Va",".= Vacance",null,null,null,null,"Légende :",null,null,null,null,"Pa",".= Panne",null,null,null,null,"Ent",".= Entretien"]
["NOM - Prénom du travailleur",null,null,null,null,null,null,null,null,null,null,null,null,null,null,null,"Début journée",null,null,"Arrêt repas",null,null,"Fin journée",null,null,"Heures prestées",null,null,null,null,"N°",null,null,"Description du matériel",null,null,null,null,null,null,null,null,null,null,null,null,"Nom de l'opérateur",null,null,null,null,null,null,null,null,"Heures"]
[null,null,null,null,null,null,null,null,null,null,null,null,null,null,null,null,null,null,null,null,null,null,null,null,null,{"$f":"W5-Q5-T5","v":0},null,null,null,null,null,null,null,{"$f":"IF(ISNA(VLOOKUP(AE5,Camions!$B:$F,2,0)),\"\",(VLOOKUP(AE5,Camions!$B:$F,2,0)))","v":""},null,null,null,null,null,null,null,null,null,null,null,null,{"$f":"IF(ISNA(VLOOKUP(AE5,Camions!$B:$F,4,0)),\"\",(VLOOKUP(AE5,Camions!$B:$F,4,0)))","v":""}]
[null,null,null,null,null,null,null,null,null,null,null,null,null,null,null,null,null,null,null,null,null,null,null,null,null,{"$f":"W6-Q6-T6","v":0},null,null,null,null,null,null,null,{"$f":"IF(ISNA(VLOOKUP(AE6,Camions!$B:$F,2,0)),\"\",(VLOOKUP(AE6,Camions!$B:$F,2,0)))","v":""},null,null,null,null,null,null,null,null,null,null,null,null,{"$f":"IF(ISNA(VLOOKUP(AE6,Camions!$B:$F,4,0)),\"\",(VLOOKUP(AE6,Camions!$B:$F,4,0)))","v":""}]
[null,null,null,null,null,null,null,null,null,null,null,null,null,null,null,null,null,null,null,null,null,null,null,null,null,0,null,null,null,null,null,null,null,{"$f":"IF(ISNA(VLOOKUP(AE7,Camions!$B:$F,2,0)),\"\",(VLOOKUP(AE7,Camions!$B:$F,2,0)))","v":""},null,null,null,null,null,null,null,null,null,null,null,null,{"$f":"IF(ISNA(VLOOKUP(AE7,Camions!$B:$F,4,0)),\"\",(VLOOKUP(AE7,Camions!$B:$F,4,0)))","v":""}]
[null,null,null,null,null,null,null,null,null,null,null,null,null,null,null,null,null,null,null,null,null,null,null,null,null,0,null,null,null,null,null,null,null,{"$f":"IF(ISNA(VLOOKUP(AE8,Camions!$B:$F,2,0)),\"\",(VLOOKUP(AE8,Camions!$B:$F,2,0)))","v":""},null,null,null,null,null,null,null,null,null,null,null,null,{"$f":"IF(ISNA(VLOOKUP(AE8,Camions!$B:$F,4,0)),\"\",(VLOOKUP(AE8,Camions!$B:$F,4,0)))","v":""}]
[null,null,null,null,null,null,null,null,null,null,null,null,null,null,null,null,null,null,null,null,null,null,null,null,null,0,null,null,null,null,null,null,null,{"$f":"IF(ISNA(VLOOKUP(AE9,Camions!$B:$F,2,0)),\"\",(VLOOKUP(AE9,Camions!$B:$F,2,0)))","v":""},null,null,null,null,null,null,null,null,null,null,null,null,{"$f":"IF(ISNA(VLOOKUP(AE9,Camions!$B:$F,4,0)),\"\",(VLOOKUP(AE9,Camions!$B:$F,4,0)))","v":""}]
[null,null,null,null,null,null,null,null,null,null,null,null,null,null,null,null,null,null,null,null,null,null,null,null,null,0,null,null,null,null,null,null,null,{"$f":"IF(ISNA(VLOOKUP(AE10,Camions!$B:$F,2,0)),\"\",(VLOOKUP(AE10,Camions!$B:$F,2,0)))","v":""},null,null,null,null,null,null,null,null,null,null,null,null,{"$f":"IF(ISNA(VLOOKUP(AE10,Camions!$B:$F,4,0)),\"\",(VLOOKUP(AE10,Camions!$B:$F,4,0)))","v":""}]
[null,null,null,null,null,null,null,null,null,null,null,null,null,null,null,null,null,null,null,null,null,null,null,null,null,0,null,null,null,null,null,null,null,{"$f":"IF(ISNA(VLOOKUP(AE11,Camions!$B:$F,2,0)),\"\",(VLOOKUP(AE11,Camions!$B:$F,2,0)))","v":""},null,null,null,null,null,null,null,null,null,null,null,null,{"$f":"IF(ISNA(VLOOKUP(AE11,Camions!$B:$F,4,0)),\"\",(VLOOKUP(AE11,Camions!$B:$F,4,0)))","v":""}]
[null,null,null,null,null,null,null,null,null,null,null,null,null,null,null,null,null,null,null,null,null,null,null,null,null,0,null,null,null,null,null,null,null,{"$f":"IF(ISNA(VLOOKUP(AE12,Camions!$B:$F,2,0)),\"\",(VLOOKUP(AE12,Camions!$B:$F,2,0)))","v":""},null,null,null,null,null,null,null,null,null,null,null,null,{"$f":"IF(ISNA(VLOOKUP(AE12,Camions!$B:$F,4,0)),\"\",(VLOOKUP(AE12,Camions!$B:$F,4,0)))","v":""}]
[null,null,null,null,null,null,null,null,null,null,null,null,null,null,null,null,null,null,null,null,null,null,null,null,null,0,null,null,null,null,null,null,null,{"$f":"IF(ISNA(VLOOKUP(AE13,Camions!$B:$F,2,0)),\"\",(VLOOKUP(AE13,Camions!$B:$F,2,0)))","v":""},null,null,null,null,null,null,null,null,null,null,null,null,{"$f":"IF(ISNA(VLOOKUP(AE13,Camions!$B:$F,4,0)),\"\",(VLOOKUP(AE13,Camions!$B:$F,4,0)))","v":""}]
[null,null,null,null,null,null,null,null,null,null,null,null,null,null,null,null,null,null,null,null,null,null,null,null,null,0,null,null,null,null,null,null,null,{"$f":"IF(ISNA(VLOOKUP(AE14,Camions!$B:$F,2,0)),\"\",(VLOOKUP(AE14,Camions!$B:$F,2,0)))","v":""},null,null,null,null,null,null,null,null,null,null,null,null,{"$f":"IF(ISNA(VLOOKUP(AE14,Camions!$B:$F,4,0)),\"\",(VLOOKUP(AE14,Camions!$B:$F,4,0)))","v":""}]
[null,null,null,null,null,null,null,null,null,null,null,null,null,null,null,null,null,null,null,null,null,null,null,null,null,0,null,null,null,null,null,null,null,{"$f":"IF(ISNA(VLOOKUP(AE15,Camions!$B:$F,2,0)),\"\",(VLOOKUP(AE15,Camions!$B:$F,2,0)))","v":""},null,null,null,null,null,null,null,null,null,null,null,null,{"$f":"IF(ISNA(VLOOKUP(AE15,Camions!$B:$F,4,0)),\"\",(VLOOKUP(AE15,Camions!$B:$F,4,0)))","v":""}]
[null,null,null,null,null,null,null,null,null,null,null,null,null,null,null,null,null,null,null,null,null,null,null,null,null,0,null,null,null,null,null,null,null,{"$f":"IF(ISNA(VLOOKUP(AE16,Camions!$B:$F,2,0)),\"\",(VLOOKUP(AE16,Camions!$B:$F,2,0)))","v":""},null,null,null,null,null,null,null,null,null,null,null,null,{"$f":"IF(ISNA(VLOOKUP(AE16,Camions!$B:$F,4,0)),\"\",(VLOOKUP(AE16,Camions!$B:$F,4,0)))","v":""}]
[null,null,null,null,null,null,null,null,null,null,null,null,null,null,null,null,null,null,null,null,null,null,null,null,null,0,null,null,null,null,null,null,null,{"$f":"IF(ISNA(VLOOKUP(AE17,Camions!$B:$F,2,0)),\"\",(VLOOKUP(AE17,Camions!$B:$F,2,0)))","v":""},null,null,null,null,null,null,null,null,null,null,null,null,{"$f":"IF(ISNA(VLOOKUP(AE17,Camions!$B:$F,4,0)),\"\",(VLOOKUP(AE17,Camions!$B:$F,4,0)))","v":""}]
[null,null,null,null,null,null,null,null,null,null,null,null,null,null,null,null,null,null,null,null,null,null,null,null,null,0,null,null,null,null,null,null,null,{"$f":"IF(ISNA(VLOOKUP(AE18,Camions!$B:$F,2,0)),\"\",(VLOOKUP(AE18,Camions!$B:$F,2,0)))","v":""},null,null,null,null,null,null,null,null,null,null,null,null,{"$f":"IF(ISNA(VLOOKUP(AE18,Camions!$B:$F,4,0)),\"\",(VLOOKUP(AE18,Camions!$B:$F,4,0)))","v":""}]
[null,null,null,null,null,null,null,null,null,null,null,null,null,null,null,null,null,null,null,null,null,null,null,null,null,0,null,null,null,null,null,null,null,{"$f":"IF(ISNA(VLOOKUP(AE19,Camions!$B:$F,2,0)),\"\",(VLOOKUP(AE19,Camions!$B:$F,2,0)))","v":""},null,null,null,null,null,null,null,null,null,null,null,null,{"$f":"IF(ISNA(VLOOKUP(AE19,Camions!$B:$F,4,0)),\"\",(VLOOKUP(AE19,Camions!$B:$F,4,0)))","v":""}]
[null,null,null,null,null,null,null,null,null,null,null,null,null,null,null,null,null,null,null,null,null,null,null,null,null,0,null,null,null,null,null,null,null,{"$f":"IF(ISNA(VLOOKUP(AE20,Camions!$B:$F,2,0)),\"\",(VLOOKUP(AE20,Camions!$B:$F,2,0)))","v":""},null,null,null,null,null,null,null,null,null,null,null,null,{"$f":"IF(ISNA(VLOOKUP(AE20,Camions!$B:$F,4,0)),\"\",(VLOOKUP(AE20,Camions!$B:$F,4,0)))","v":""}]
[null,null,null,null,null,null,null,null,null,null,null,null,null,null,null,null,null,null,null,null,null,null,null,null,null,0,null,null,null,null,null,null,null,{"$f":"IF(ISNA(VLOOKUP(AE21,Camions!$B:$F,2,0)),\"\",(VLOOKUP(AE21,Camions!$B:$F,2,0)))","v":""},null,null,null,null,null,null,null,null,null,null,null,null,{"$f":"IF(ISNA(VLOOKUP(AE21,Camions!$B:$F,4,0)),\"\",(VLOOKUP(AE21,Camions!$B:$F,4,0)))","v":""}]
[null,null,null,null,null,null,null,null,null,null,null,null,null,null,null,null,null,null,null,null,null,null,null,null,null,0,null,null,null,null,null,null,null,{"$f":"IF(ISNA(VLOOKUP(AE22,Camions!$B:$F,2,0)),\"\",(VLOOKUP(AE22,Camions!$B:$F,2,0)))","v":""},null,null,null,null,null,null,null,null,null,null,null,null,{"$f":"IF(ISNA(VLOOKUP(AE22,Camions!$B:$F,4,0)),\"\",(VLOOKUP(AE22,Camions!$B:$F,4,0)))","v":""}]
[null,null,null,null,null,null,null,null,null,null,null,null,null,null,null,null,null,null,null,null,null,null,null,null,null,0,null,null,null,null,null,null,null,{"$f":"IF(ISNA(VLOOKUP(AE23,Camions!$B:$F,2,0)),\"\",(VLOOKUP(AE23,Camions!$B:$F,2,0)))","v":""},null,null,null,null,null,null,null,null,null,null,null,null,{"$f":"IF(ISNA(VLOOKUP(AE23,Camions!$B:$F,4,0)),\"\",(VLOOKUP(AE23,Camions!$B:$F,4,0)))","v":""}]
[null,null,null,null,null,null,null,null,null,null,null,null,null,null,null,null,null,null,null,null,null,null,null,null,null,0,null,null,null,null,null,null,null,{"$f":"IF(ISNA(VLOOKUP(AE24,Camions!$B:$F,2,0)),\"\",(VLOOKUP(AE24,Camions!$B:$F,2,0)))","v":""},null,null,null,null,null,null,null,null,null,null,null,null,{"$f":"IF(ISNA(VLOOKUP(AE24,Camions!$B:$F,4,0)),\"\",(VLOOKUP(AE24,Camions!$B:$F,4,0)))","v":""}]
[null,null,null,null,null,null,null,null,null,null,null,null,null,null,null,null,null,null,null,null,null,null,null,null,null,0,null,null,null,null,null,null,null,{"$f":"IF(ISNA(VLOOKUP(AE25,Camions!$B:$F,2,0)),\"\",(VLOOKUP(AE25,Camions!$B:$F,2,0)))","v":""},null,null,null,null,null,null,null,null,null,null,null,null,{"$f":"IF(ISNA(VLOOKUP(AE25,Camions!$B:$F,4,0)),\"\",(VLOOKUP(AE25,Camions!$B:$F,4,0)))","v":""}]
[null,null,null,null,null,null,null,null,null,null,null,null,null,null,null,null,null,null,null,null,null,null,null,null,null,0,null,null,null,null,null,null,null,{"$f":"IF(ISNA(VLOOKUP(AE26,Camions!$B:$F,2,0)),\"\",(VLOOKUP(AE26,Camions!$B:$F,2,0)))","v":""},null,null,null,null,null,null,null,null,null,null,null,null,{"$f":"IF(ISNA(VLOOKUP(AE26,Camions!$B:$F,4,0)),\"\",(VLOOKUP(AE26,Camions!$B:$F,4,0)))","v":""}]
[null,null,null,null,null,null,null,null,null,null,null,null,null,null,null,null,null,null,null,null,null,null,null,null,null,0,null,null,null,null,null,null,null,{"$f":"IF(ISNA(VLOOKUP(AE27,Camions!$B:$F,2,0)),\"\",(VLOOKUP(AE27,Camions!$B:$F,2,0)))","v":""},null,null,null,null,null,null,null,null,null,null,null,null,{"$f":"IF(ISNA(VLOOKUP(AE27,Camions!$B:$F,4,0)),\"\",(VLOOKUP(AE27,Camions!$B:$F,4,0)))","v":""}]
[null,null,null,null,null,null,null,null,null,null,null,null,null,null,null,null,null,null,null,null,null,null,null,null,null,0,null,null,null,null,null,null,null,{"$f":"IF(ISNA(VLOOKUP(AE28,Camions!$B:$F,2,0)),\"\",(VLOOKUP(AE28,Camions!$B:$F,2,0)))","v":""},null,null,null,null,null,null,null,null,null,null,null,null,{"$f":"IF(ISNA(VLOOKUP(AE28,Camions!$B:$F,4,0)),\"\",(VLOOKUP(AE28,Camions!$B:$F,4,0)))","v":""}]
[null,null,null,null,null,null,null,null,null,null,null,null,null,null,null,null,null,null,null,null,null,null,null,null,null,0,null,null,null,null,null,null,null,{"$f":"IF(ISNA(VLOOKUP(AE29,Camions!$B:$F,2,0)),\"\",(VLOOKUP(AE29,Camions!$B:$F,2,0)))","v":""},null,null,null,null,null,null,null,null,null,null,null,null,{"$f":"IF(ISNA(VLOOKUP(AE29,Camions!$B:$F,4,0)),\"\",(VLOOKUP(AE29,Camions!$B:$F,4,0)))","v":""}]
[null,null,null,null,null,null,null,null,null,null,null,null,null,null,null,null,null,null,null,null,null,null,null,null,null,0,null,null,null,null,null,null,null,{"$f":"IF(ISNA(VLOOKUP(AE30,Camions!$B:$F,2,0)),\"\",(VLOOKUP(AE30,Camions!$B:$F,2,0)))","v":""},null,null,null,null,null,null,null,null,null,null,null,null,{"$f":"IF(ISNA(VLOOKUP(AE30,Camions!$B:$F,4,0)),\"\",(VLOOKUP(AE30,Camions!$B:$F,4,0)))","v":""}]
[null,null,null,null,null,null,null,null,null,null,null,null,null,null,null,null,null,null,null,null,null,null,null,null,null,0,null,null,null,null,null,null,null,{"$f":"IF(ISNA(VLOOKUP(AE31,Camions!$B:$F,2,0)),\"\",(VLOOKUP(AE31,Camions!$B:$F,2,0)))","v":""},null,null,null,null,null,null,null,null,null,null,null,null,{"$f":"IF(ISNA(VLOOKUP(AE31,Camions!$B:$F,4,0)),\"\",(VLOOKUP(AE31,Camions!$B:$F,4,0)))","v":""}]
[null,null,null,null,null,null,null,null,null,null,null,null,null,null,null,null,null,null,null,null,null,null,null,null,null,0,null,null,null,null,null,null,null,{"$f":"IF(ISNA(VLOOKUP(AE32,Camions!$B:$F,2,0)),\"\",(VLOOKUP(AE32,Camions!$B:$F,2,0)))","v":""},null,null,null,null,null,null,null,null,null,null,null,null,{"$f":"IF(ISNA(VLOOKUP(AE32,Camions!$B:$F,4,0)),\"\",(VLOOKUP(AE32,Camions!$B:$F,4,0)))","v":""}]
[null,null,null,null,null,null,null,null,null,null,null,null,null,null,null,null,null,null,null,null,null,null,null,null,null,0,null,null,null,null,null,null,null,{"$f":"IF(ISNA(VLOOKUP(AE33,Camions!$B:$F,2,0)),\"\",(VLOOKUP(AE33,Camions!$B:$F,2,0)))","v":""},null,null,null,null,null,null,null,null,null,null,null,null,{"$f":"IF(ISNA(VLOOKUP(AE33,Camions!$B:$F,4,0)),\"\",(VLOOKUP(AE33,Camions!$B:$F,4,0)))","v":""}]
[null,null,null,null,null,null,null,null,null,null,null,null,null,null,null,null,null,null,null,null,null,null,null,null,null,0,null,null,null,null,null,null,null,{"$f":"IF(ISNA(VLOOKUP(AE34,Camions!$B:$F,2,0)),\"\",(VLOOKUP(AE34,Camions!$B:$F,2,0)))","v":""},null,null,null,null,null,null,null,null,null,null,null,null,{"$f":"IF(ISNA(VLOOKUP(AE34,Camions!$B:$F,4,0)),\"\",(VLOOKUP(AE34,Camions!$B:$F,4,0)))","v":""}]
[null,null,null,null,null,null,null,null,null,null,null,null,null,null,null,null,null,null,null,null,null,null,null,null,null,0,null,null,null,null,null,null,null,{"$f":"IF(ISNA(VLOOKUP(AE35,Camions!$B:$F,2,0)),\"\",(VLOOKUP(AE35,Camions!$B:$F,2,0)))","v":""},null,null,null,null,null,null,null,null,null,null,null,null,{"$f":"IF(ISNA(VLOOKUP(AE35,Camions!$B:$F,4,0)),\"\",(VLOOKUP(AE35,Camions!$B:$F,4,0)))","v":""}]
[null,null,null,null,null,null,null,null,null,null,null,null,null,null,null,null,null,null,null,null,null,null,null,null,null,0,null,null,null,null,null,null,null,{"$f":"IF(ISNA(VLOOKUP(AE36,Camions!$B:$F,2,0)),\"\",(VLOOKUP(AE36,Camions!$B:$F,2,0)))","v":""},null,null,null,null,null,null,null,null,null,null,null,null,{"$f":"IF(ISNA(VLOOKUP(AE36,Camions!$B:$F,4,0)),\"\",(VLOOKUP(AE36,Camions!$B:$F,4,0)))","v":""}]
[null,null,null,null,null,null,null,null,null,null,null,null,null,null,null,null,null,null,null,null,null,null,null,null,null,0,null,null,null,null,null,null,null,{"$f":"IF(ISNA(VLOOKUP(AE37,Camions!$B:$F,2,0)),\"\",(VLOOKUP(AE37,Camions!$B:$F,2,0)))","v":""},null,null,null,null,null,null,null,null,null,null,null,null,{"$f":"IF(ISNA(VLOOKUP(AE36,Camions!$B:$F,4,0)),\"\",(VLOOKUP(AE36,Camions!$B:$F,4,0)))","v":""}]
["CHANTIER :",null,null,null,null,{"$f":"F1","v":0},null,null,null,null,null,null,null,null,null,null,null,null,null,null,"N° CHANTIER :",null,null,null,null,null,{"$f":"AA1","v":0},null,null,null,"JOUR :",null,null,null,{"$f":"AI1","v":"Dimanche"},null,null,null,null,null,null,null,null,null,null,null,null,null,null,null,null,"DATES :",null,null,{"$f":"BC1","v":"03-01-16"}]
["MATERIEL",null,null,null,null,null,null,null,null,null,null,null,null,null,null,null,null,null,null,null,null,null,null,null,null,null,null,null,null,null,"SOUS-TRAITANTS"]
["Légende :",null,null,null,null,"Pa",".= Panne",null,null,null,null,"Ent",".= Entretien"]
["N°",null,null,"Description du matériel",null,null,null,null,null,null,null,null,null,null,null,null,"Nom de l'opérateur",null,null,null,null,null,null,null,null,"Heures",null,null,null,null,"Type d'engin et description des travaux ",null,null,null,null,null,null,null,null,null,null,null,null,null,null,null,"Sous-traitants",null,null,null,null,null,null,null,null,"Heures"]
[null,null,null,{"$f":"IF(ISNA(VLOOKUP(A42,Machines!$B:$F,2,0)),\"\",(VLOOKUP(A42,Machines!$B:$F,2,0)))","v":""},null,null,null,null,null,null,null,null,null,null,null,null,{"$f":"IF(ISNA(VLOOKUP(A42,Machines!$B:$F,4,0)),\"\",(VLOOKUP(A42,Machines!$B:$F,4,0)))","v":""}]
[null,null,null,{"$f":"IF(ISNA(VLOOKUP(A43,Machines!$B:$F,2,0)),\"\",(VLOOKUP(A43,Machines!$B:$F,2,0)))","v":""},null,null,null,null,null,null,null,null,null,null,null,null,{"$f":"IF(ISNA(VLOOKUP(A43,Machines!$B:$F,4,0)),\"\",(VLOOKUP(A43,Machines!$B:$F,4,0)))","v":""}]
[null,null,null,{"$f":"IF(ISNA(VLOOKUP(A44,Machines!$B:$F,2,0)),\"\",(VLOOKUP(A44,Machines!$B:$F,2,0)))","v":""},null,null,null,null,null,null,null,null,null,null,null,null,{"$f":"IF(ISNA(VLOOKUP(A44,Machines!$B:$F,4,0)),\"\",(VLOOKUP(A44,Machines!$B:$F,4,0)))","v":""}]
[null,null,null,{"$f":"IF(ISNA(VLOOKUP(A45,Machines!$B:$F,2,0)),\"\",(VLOOKUP(A45,Machines!$B:$F,2,0)))","v":""},null,null,null,null,null,null,null,null,null,null,null,null,{"$f":"IF(ISNA(VLOOKUP(A45,Machines!$B:$F,4,0)),\"\",(VLOOKUP(A45,Machines!$B:$F,4,0)))","v":""}]
[null,null,null,{"$f":"IF(ISNA(VLOOKUP(A46,Machines!$B:$F,2,0)),\"\",(VLOOKUP(A46,Machines!$B:$F,2,0)))","v":""},null,null,null,null,null,null,null,null,null,null,null,null,{"$f":"IF(ISNA(VLOOKUP(A46,Machines!$B:$F,4,0)),\"\",(VLOOKUP(A46,Machines!$B:$F,4,0)))","v":""}]
[null,null,null,{"$f":"IF(ISNA(VLOOKUP(A47,Machines!$B:$F,2,0)),\"\",(VLOOKUP(A47,Machines!$B:$F,2,0)))","v":""},null,null,null,null,null,null,null,null,null,null,null,null,{"$f":"IF(ISNA(VLOOKUP(A47,Machines!$B:$F,4,0)),\"\",(VLOOKUP(A47,Machines!$B:$F,4,0)))","v":""}]
[null,null,null,{"$f":"IF(ISNA(VLOOKUP(A48,Machines!$B:$F,2,0)),\"\",(VLOOKUP(A48,Machines!$B:$F,2,0)))","v":""},null,null,null,null,null,null,null,null,null,null,null,null,{"$f":"IF(ISNA(VLOOKUP(A48,Machines!$B:$F,4,0)),\"\",(VLOOKUP(A48,Machines!$B:$F,4,0)))","v":""}]
[null,null,null,{"$f":"IF(ISNA(VLOOKUP(A49,Machines!$B:$F,2,0)),\"\",(VLOOKUP(A49,Machines!$B:$F,2,0)))","v":""},null,null,null,null,null,null,null,null,null,null,null,null,{"$f":"IF(ISNA(VLOOKUP(A49,Machines!$B:$F,4,0)),\"\",(VLOOKUP(A49,Machines!$B:$F,4,0)))","v":""}]
[null,null,null,{"$f":"IF(ISNA(VLOOKUP(A50,Machines!$B:$F,2,0)),\"\",(VLOOKUP(A50,Machines!$B:$F,2,0)))","v":""},null,null,null,null,null,null,null,null,null,null,null,null,{"$f":"IF(ISNA(VLOOKUP(A50,Machines!$B:$F,4,0)),\"\",(VLOOKUP(A50,Machines!$B:$F,4,0)))","v":""}]
[null,null,null,{"$f":"IF(ISNA(VLOOKUP(A51,Machines!$B:$F,2,0)),\"\",(VLOOKUP(A51,Machines!$B:$F,2,0)))","v":""},null,null,null,null,null,null,null,null,null,null,null,null,{"$f":"IF(ISNA(VLOOKUP(A51,Machines!$B:$F,4,0)),\"\",(VLOOKUP(A51,Machines!$B:$F,4,0)))","v":""}]
[null,null,null,{"$f":"IF(ISNA(VLOOKUP(A52,Machines!$B:$F,2,0)),\"\",(VLOOKUP(A52,Machines!$B:$F,2,0)))","v":""},null,null,null,null,null,null,null,null,null,null,null,null,{"$f":"IF(ISNA(VLOOKUP(A52,Machines!$B:$F,4,0)),\"\",(VLOOKUP(A52,Machines!$B:$F,4,0)))","v":""}]
[null,null,null,{"$f":"IF(ISNA(VLOOKUP(A53,Machines!$B:$F,2,0)),\"\",(VLOOKUP(A53,Machines!$B:$F,2,0)))","v":""},null,null,null,null,null,null,null,null,null,null,null,null,{"$f":"IF(ISNA(VLOOKUP(A53,Machines!$B:$F,4,0)),\"\",(VLOOKUP(A53,Machines!$B:$F,4,0)))","v":""}]
[null,null,null,{"$f":"IF(ISNA(VLOOKUP(A54,Machines!$B:$F,2,0)),\"\",(VLOOKUP(A54,Machines!$B:$F,2,0)))","v":""},null,null,null,null,null,null,null,null,null,null,null,null,{"$f":"IF(ISNA(VLOOKUP(A54,Machines!$B:$F,4,0)),\"\",(VLOOKUP(A54,Machines!$B:$F,4,0)))","v":""}]
[null,null,null,{"$f":"IF(ISNA(VLOOKUP(A55,Machines!$B:$F,2,0)),\"\",(VLOOKUP(A55,Machines!$B:$F,2,0)))","v":""},null,null,null,null,null,null,null,null,null,null,null,null,{"$f":"IF(ISNA(VLOOKUP(A55,Machines!$B:$F,4,0)),\"\",(VLOOKUP(A55,Machines!$B:$F,4,0)))","v":""}]
[null,null,null,{"$f":"IF(ISNA(VLOOKUP(A56,Machines!$B:$F,2,0)),\"\",(VLOOKUP(A56,Machines!$B:$F,2,0)))","v":""},null,null,null,null,null,null,null,null,null,null,null,null,{"$f":"IF(ISNA(VLOOKUP(A56,Machines!$B:$F,4,0)),\"\",(VLOOKUP(A56,Machines!$B:$F,4,0)))","v":""}]
[null,null,null,{"$f":"IF(ISNA(VLOOKUP(A57,Machines!$B:$F,2,0)),\"\",(VLOOKUP(A57,Machines!$B:$F,2,0)))","v":""},null,null,null,null,null,null,null,null,null,null,null,null,{"$f":"IF(ISNA(VLOOKUP(A57,Machines!$B:$F,4,0)),\"\",(VLOOKUP(A57,Machines!$B:$F,4,0)))","v":""}]
[null,null,null,{"$f":"IF(ISNA(VLOOKUP(A58,Machines!$B:$F,2,0)),\"\",(VLOOKUP(A58,Machines!$B:$F,2,0)))","v":""},null,null,null,null,null,null,null,null,null,null,null,null,{"$f":"IF(ISNA(VLOOKUP(A58,Machines!$B:$F,4,0)),\"\",(VLOOKUP(A58,Machines!$B:$F,4,0)))","v":""}]
[null,null,null,{"$f":"IF(ISNA(VLOOKUP(A59,Machines!$B:$F,2,0)),\"\",(VLOOKUP(A59,Machines!$B:$F,2,0)))","v":""},null,null,null,null,null,null,null,null,null,null,null,null,{"$f":"IF(ISNA(VLOOKUP(A59,Machines!$B:$F,4,0)),\"\",(VLOOKUP(A59,Machines!$B:$F,4,0)))","v":""}]
[null,null,null,{"$f":"IF(ISNA(VLOOKUP(A60,Machines!$B:$F,2,0)),\"\",(VLOOKUP(A60,Machines!$B:$F,2,0)))","v":""},null,null,null,null,null,null,null,null,null,null,null,null,{"$f":"IF(ISNA(VLOOKUP(A60,Machines!$B:$F,4,0)),\"\",(VLOOKUP(A60,Machines!$B:$F,4,0)))","v":""}]
[null,null,null,{"$f":"IF(ISNA(VLOOKUP(A61,Machines!$B:$F,2,0)),\"\",(VLOOKUP(A61,Machines!$B:$F,2,0)))","v":""},null,null,null,null,null,null,null,null,null,null,null,null,{"$f":"IF(ISNA(VLOOKUP(A61,Machines!$B:$F,4,0)),\"\",(VLOOKUP(A61,Machines!$B:$F,4,0)))","v":""}]
[null,null,null,{"$f":"IF(ISNA(VLOOKUP(A62,Machines!$B:$F,2,0)),\"\",(VLOOKUP(A62,Machines!$B:$F,2,0)))","v":""},null,null,null,null,null,null,null,null,null,null,null,null,{"$f":"IF(ISNA(VLOOKUP(A62,Machines!$B:$F,4,0)),\"\",(VLOOKUP(A62,Machines!$B:$F,4,0)))","v":""}]
[null,null,null,{"$f":"IF(ISNA(VLOOKUP(A63,Machines!$B:$F,2,0)),\"\",(VLOOKUP(A63,Machines!$B:$F,2,0)))","v":""},null,null,null,null,null,null,null,null,null,null,null,null,{"$f":"IF(ISNA(VLOOKUP(A63,Machines!$B:$F,4,0)),\"\",(VLOOKUP(A63,Machines!$B:$F,4,0)))","v":""}]
[null,null,null,{"$f":"IF(ISNA(VLOOKUP(A64,Machines!$B:$F,2,0)),\"\",(VLOOKUP(A64,Machines!$B:$F,2,0)))","v":""},null,null,null,null,null,null,null,null,null,null,null,null,{"$f":"IF(ISNA(VLOOKUP(A64,Machines!$B:$F,4,0)),\"\",(VLOOKUP(A64,Machines!$B:$F,4,0)))","v":""}]
[null,null,null,{"$f":"IF(ISNA(VLOOKUP(A65,Machines!$B:$F,2,0)),\"\",(VLOOKUP(A65,Machines!$B:$F,2,0)))","v":""},null,null,null,null,null,null,null,null,null,null,null,null,{"$f":"IF(ISNA(VLOOKUP(A65,Machines!$B:$F,4,0)),\"\",(VLOOKUP(A65,Machines!$B:$F,4,0)))","v":""}]
[null,null,null,{"$f":"IF(ISNA(VLOOKUP(A66,Machines!$B:$F,2,0)),\"\",(VLOOKUP(A66,Machines!$B:$F,2,0)))","v":""},null,null,null,null,null,null,null,null,null,null,null,null,{"$f":"IF(ISNA(VLOOKUP(A66,Machines!$B:$F,4,0)),\"\",(VLOOKUP(A66,Machines!$B:$F,4,0)))","v":""}]
[null,null,null,{"$f":"IF(ISNA(VLOOKUP(A67,Machines!$B:$F,2,0)),\"\",(VLOOKUP(A67,Machines!$B:$F,2,0)))","v":""},null,null,null,null,null,null,null,null,null,null,null,null,{"$f":"IF(ISNA(VLOOKUP(A67,Machines!$B:$F,4,0)),\"\",(VLOOKUP(A67,Machines!$B:$F,4,0)))","v":""}]
[null,null,null,{"$f":"IF(ISNA(VLOOKUP(A68,Machines!$B:$F,2,0)),\"\",(VLOOKUP(A68,Machines!$B:$F,2,0)))","v":""},null,null,null,null,null,null,null,null,null,null,null,null,{"$f":"IF(ISNA(VLOOKUP(A68,Machines!$B:$F,4,0)),\"\",(VLOOKUP(A68,Machines!$B:$F,4,0)))","v":""}]
[null,null,null,{"$f":"IF(ISNA(VLOOKUP(A69,Machines!$B:$F,2,0)),\"\",(VLOOKUP(A69,Machines!$B:$F,2,0)))","v":""},null,null,null,null,null,null,null,null,null,null,null,null,{"$f":"IF(ISNA(VLOOKUP(A69,Machines!$B:$F,4,0)),\"\",(VLOOKUP(A69,Machines!$B:$F,4,0)))","v":""}]
[null,null,null,{"$f":"IF(ISNA(VLOOKUP(A70,Machines!$B:$F,2,0)),\"\",(VLOOKUP(A70,Machines!$B:$F,2,0)))","v":""},null,null,null,null,null,null,null,null,null,null,null,null,{"$f":"IF(ISNA(VLOOKUP(A70,Machines!$B:$F,4,0)),\"\",(VLOOKUP(A70,Machines!$B:$F,4,0)))","v":""}]
[null,null,null,{"$f":"IF(ISNA(VLOOKUP(A71,Machines!$B:$F,2,0)),\"\",(VLOOKUP(A71,Machines!$B:$F,2,0)))","v":""},null,null,null,null,null,null,null,null,null,null,null,null,{"$f":"IF(ISNA(VLOOKUP(A71,Machines!$B:$F,4,0)),\"\",(VLOOKUP(A71,Machines!$B:$F,4,0)))","v":""}]
[null,null,null,{"$f":"IF(ISNA(VLOOKUP(A72,Machines!$B:$F,2,0)),\"\",(VLOOKUP(A72,Machines!$B:$F,2,0)))","v":""},null,null,null,null,null,null,null,null,null,null,null,null,{"$f":"IF(ISNA(VLOOKUP(A72,Machines!$B:$F,4,0)),\"\",(VLOOKUP(A72,Machines!$B:$F,4,0)))","v":""}]
[null,null,null,{"$f":"IF(ISNA(VLOOKUP(A73,Machines!$B:$F,2,0)),\"\",(VLOOKUP(A73,Machines!$B:$F,2,0)))","v":""},null,null,null,null,null,null,null,null,null,null,null,null,{"$f":"IF(ISNA(VLOOKUP(A73,Machines!$B:$F,4,0)),\"\",(VLOOKUP(A73,Machines!$B:$F,4,0)))","v":""}]
[null,null,null,{"$f":"IF(ISNA(VLOOKUP(A74,Machines!$B:$F,2,0)),\"\",(VLOOKUP(A74,Machines!$B:$F,2,0)))","v":""},null,null,null,null,null,null,null,null,null,null,null,null,{"$f":"IF(ISNA(VLOOKUP(A74,Machines!$B:$F,4,0)),\"\",(VLOOKUP(A74,Machines!$B:$F,4,0)))","v":""}]
["CHANTIER :",null,null,null,null,{"$f":"F1","v":0},null,null,null,null,null,null,null,null,null,null,null,null,null,null,"N° CHANTIER :",null,null,null,null,null,{"$f":"AA1","v":0},null,null,null,"JOUR :",null,null,null,{"$f":"AI1","v":"Dimanche"},null,null,null,null,null,null,null,null,null,null,null,null,null,null,null,null,"DATES :",null,null,{"$f":"BC1","v":"03-01-16"}]
["MATERIAUX"]
[null,null,null,"Fournisseurs",null,null,null,null,null,null,null,null,null,null,null,null,null,null,"Description des fournitures & matériaux",null,null,null,null,null,null,null,null,null,null,null,null,null,null,null,null,null,null,null,null,null,null,null,null,null,null,null,null,null,null,"Qt totales",null,null,null,"U.",null,"Prix"]
[]
[]
[]
[]
[]
[]
[]
[]
[]
[]
[]
[]
[]
[]
[]
[]
[]
[]
[]
[]
[]
[]
[]
[]
[]
[]
[]
[]
[]
[]
[]
[null,null,null,"RESPONSABLE",null,null,null,null,null,null,null,null,"SIGNATURE",null,null,null,null,null,"DESCRIPTION DES TRAVAUX REALISES CE JOUR",null,null,null,null,null,null,null,null,null,null,null,null,null,null,null,null,null,null,null,null,null,null,null,null,null,null,null,null,null,null,"METEO"]
[null,null,null,"JENNES Loïc"]

{"sheet":"04-01-16","index":10,"n_rows":110,"n_cols":56,"rows_kept":110,"cut":false,"hidden":false,"merged":[[69,0,69,2],[69,3,69,15],[69,16,69,24],[69,25,69,28],[69,30,69,45],[69,46,69,54],[69,55,69,58],[104,3,104,17],[104,18,104,48],[101,3,101,17],[101,18,101,48],[102,3,102,17],[102,18,102,48],[99,3,99,17],[99,18,99,48],[100,3,100,17],[104,49,104,52],[104,53,104,54],[104,55,104,58],[103,3,103,17],[103,18,103,48],[100,18,100,48],[97,3,97,17],[97,18,97,48],[107,3,107,17],[107,18,107,48],[106,3,106,17],[106,18,106,48],[105,3,105,17],[105,18,105,48],[105,53,105,54],[106,49,106,52],[106,53,106,54],[107,49,107,52],[107,53,107,54],[109,18,109,48],[111,18,111,48],[108,18,108,48],[108,3,108,11],[108,12,108,17],[109,3,111,11],[109,12,111,17],[108,49,108,58],[109,49,111,58],[110,18,110,48],[98,3,98,17],[98,18,98,48],[99,49,99,52],[99,53,99,54],[99,55,99,58],[100,49,100,52],[100,53,100,54],[100,55,100,58],[91,53,91,54],[91,55,91,58],[92,49,92,52],[92,53,92,54],[92,55,92,58],[95,3,95,17],[95,18,95,48],[96,3,96,17],[96,18,96,48],[93,3,93,17],[93,18,93,48],[94,3,94,17],[94,18,94,48],[93,49,93,52],[93,53,93,54],[93,55,93,58],[94,49,94,52],[94,53,94,54],[94,55,94,58],[95,49,95,52],[95,53,95,54],[91,3,91,17],[91,18,91,48],[92,3,92,17],[92,18,92,48],[95,55,95,58],[89,3,89,17],[89,18,89,48],[90,3,90,17],[90,18,90,48],[91,49,91,52],[83,53,83,54],[83,55,83,58],[84,49,84,52],[84,53,84,54],[84,55,84,58],[87,3,87,17],[87,18,87,48],[88,3,88,17],[88,18,88,48],[85,3,85,17],[85,18,85,48],[86,3,86,17],[86,18,86,48],[85,49,85,52],[85,53,85,54],[85,55,85,58],[86,49,86,52],[86,53,86,54],[86,55,86,58],[83,3,83,17],[83,18,83,48],[84,3,84,17],[84,18,84,48],[81,3,81,17],[81,18,81,48],[82,3,82,17],[82,18,82,48],[83,49,83,52],[74,54,74,58],[75,0,75,58],[76,49,76,52],[76,53,76,54],[76,55,76,58],[79,3,79,17],[79,18,79,48],[80,3,80,17],[80,18,80,48],[77,3,77,17],[77,18,77,48],[78,3,78,17],[78,18,78,48],[77,49,77,52],[77,53,77,54],[77,55,77,58],[78,49,78,52],[78,53,78,54],[78,55,78,58],[79,49,79,52],[79,53,79,54],[76,3,76,17],[76,18,76,48],[74,0,74,4],[74,5,74,19],[74,20,74,25],[74,26,74,28],[74,30,74,32],[74,34,74,47],[74,51,74,53],[0,0,0,4],[0,5,0,19],[0,20,0,25],[0,26,0,28],[0,30,0,32],[0,34,0,47],[0,51,0,53],[4,22,4,24],[4,25,4,28],[4,30,4,32],[4,33,4,45],[4,46,4,54],[6,0,6,15],[6,16,6,18],[6,19,6,21],[6,22,6,24],[6,25,6,28],[6,30,6,32],[0,54,0,58],[1,0,1,28],[1,29,36,29],[1,30,1,58],[2,0,2,4],[2,7,2,10],[2,13,2,16],[2,19,2,22],[2,25,2,28],[2,30,2,34],[2,36,2,39],[2,42,2,45],[3,0,3,15],[3,16,3,18],[3,19,3,21],[3,22,3,24],[3,25,3,28],[3,30,3,32],[3,33,3,45],[3,46,3,54],[3,55,3,58],[4,0,4,15],[4,16,4,18],[4,19,4,21],[4,55,4,58],[5,0,5,15],[5,16,5,18],[5,19,5,21],[5,22,5,24],[5,25,5,28],[5,30,5,32],[5,33,5,45],[5,46,5,54],[5,55,5,58],[6,33,6,45],[6,46,6,54],[6,55,6,58],[7,0,7,15],[7,16,7,18],[7,19,7,21],[7,22,7,24],[7,25,7,28],[7,30,7,32],[7,33,7,45],[7,46,7,54],[7,55,7,58],[8,0,8,15],[8,16,8,18],[8,19,8,21],[8,22,8,24],[8,25,8,28],[8,30,8,32],[8,33,8,45],[8,46,8,54],[8,55,8,58],[9,0,9,15],[9,16,9,18],[9,19,9,21],[9,22,9,24],[9,25,9,28],[9,30,9,32],[9,33,9,45],[9,46,9,54],[9,55,9,58],[10,0,10,15],[10,16,10,18],[10,19,10,21],[10,22,10,24],[10,25,10,28],[10,30,10,32],[10,33,10,45],[10,46,10,54],[10,55,10,58],[11,0,11,15],[11,16,11,18],[11,19,11,21],[11,22,11,24],[11,25,11,28],[11,30,11,32],[11,33,11,45],[11,46,11,54],[11,55,11,58],[12,0,12,15],[12,16,12,18],[12,19,12,21],[12,22,12,24],[12,25,12,28],[12,30,12,32],[12,33,12,45],[12,46,12,54],[12,55,12,58],[13,0,13,15],[13,16,13,18],[13,19,13,21],[13,22,13,24],[13,25,13,28],[13,30,13,32],[13,33,13,45],[13,46,13,54],[13,55,13,58],[14,0,14,15],[14,16,14,18],[14,19,14,21],[14,22,14,24],[14,25,14,28],[14,30,14,32],[14,33,14,45],[14,46,14,54],[14,55,14,58],[15,0,15,15],[15,16,15,18],[15,19,15,21],[15,22,15,24],[15,25,15,28],[15,30,15,32],[15,33,15,45],[15,46,15,54],[15,55,15,58],[16,0,16,15],[16,16,16,18],[16,19,16,21],[16,22,16,24],[16,25,16,28],[16,30,16,32],[16,33,16,45],[16,46,16,54],[16,55,16,58],[17,0,17,15],[17,16,17,18],[17,19,17,21],[17,22,17,24],[17,25,17,28],[17,30,17,32],[17,33,17,45],[17,46,17,54],[17,55,17,58],[18,0,18,15],[18,16,18,18],[18,19,18,21],[18,22,18,24],[18,25,18,28],[18,30,18,32],[18,33,18,45],[18,46,18,54],[18,55,18,58],[19,0,19,15],[19,16,19,18],[19,19,19,21],[19,22,19,24],[19,25,19,28],[19,30,19,32],[19,33,19,45],[19,46,19,54],[19,55,19,58],[20,0,20,15],[20,16,20,18],[20,19,20,21],[20,22,20,24],[20,25,20,28],[20,30,20,32],[20,33,20,45],[20,46,20,54],[20,55,20,58],[21,0,21,15],[21,16,21,18],[21,19,21,21],[21,22,21,24],[21,25,21,28],[21,30,21,32],[21,33,21,45],[21,46,21,54],[21,55,21,58],[22,0,22,15],[22,16,22,18],[22,19,22,21],[22,22,22,24],[22,25,22,28],[22,30,22,32],[22,33,22,45],[22,46,22,54],[22,55,22,58],[23,0,23,15],[23,16,23,18],[23,19,23,21],[23,22,23,24],[23,25,23,28],[23,30,23,32],[23,33,23,45],[23,46,23,54],[23,55,23,58],[24,0,24,15],[24,16,24,18],[24,19,24,21],[24,22,24,24],[24,25,24,28],[24,30,24,32],[24,33,24,45],[24,46,24,54],[24,55,24,58],[25,0,25,15],[25,16,25,18],[25,19,25,21],[25,22,25,24],[25,25,25,28],[25,30,25,32],[25,33,25,45],[25,46,25,54],[25,55,25,58],[26,0,26,15],[26,16,26,18],[26,19,26,21],[26,22,26,24],[26,25,26,28],[26,30,26,32],[26,33,26,45],[26,46,26,54],[26,55,26,58],[27,0,27,15],[27,16,27,18],[27,19,27,21],[27,22,27,24],[27,25,27,28],[27,30,27,32],[27,33,27,45],[27,46,27,54],[27,55,27,58],[28,0,28,15],[28,16,28,18],[28,19,28,21],[28,22,28,24],[28,25,28,28],[28,30,28,32],[28,33,28,45],[28,46,28,54],[28,55,28,58],[29,0,29,15],[29,16,29,18],[29,19,29,21],[29,22,29,24],[29,25,29,28],[29,30,29,32],[29,33,29,45],[29,46,29,54],[29,55,29,58],[30,0,30,15],[30,16,30,18],[30,19,30,21],[30,22,30,24],[30,25,30,28],[30,30,30,32],[30,33,30,45],[30,46,30,54],[30,55,30,58],[31,0,31,15],[31,16,31,18],[31,19,31,21],[31,22,31,24],[31,25,31,28],[31,30,31,32],[31,33,31,45],[31,46,31,54],[31,55,31,58],[32,0,32,15],[32,16,32,18],[32,19,32,21],[32,22,32,24],[32,25,32,28],[32,30,32,32],[32,33,32,45],[32,46,32,54],[32,55,32,58],[33,0,33,15],[33,16,33,18],[33,19,33,21],[33,22,33,24],[33,25,33,28],[33,30,33,32],[33,33,33,45],[33,46,33,54],[33,55,33,58],[34,0,34,15],[34,16,34,18],[34,19,34,21],[34,22,34,24],[34,25,34,28],[34,30,34,32],[34,33,34,45],[34,46,34,54],[34,55,34,58],[35,0,35,15],[35,16,35,18],[35,19,35,21],[35,22,35,24],[35,25,35,28],[35,30,35,32],[35,33,35,45],[35,46,35,54],[35,55,35,58],[36,0,36,15],[36,16,36,18],[36,19,36,21],[36,22,36,24],[36,25,36,28],[36,30,36,32],[36,33,36,45],[36,46,36,54],[36,55,36,58],[37,0,37,4],[37,5,37,19],[37,20,37,25],[37,26,37,28],[37,30,37,32],[37,34,37,47],[37,51,37,53],[37,54,37,58],[38,0,38,28],[38,29,73,29],[38,30,38,58],[39,0,39,4],[39,6,39,9],[39,12,39,15],[40,0,40,2],[40,3,40,15],[40,16,40,24],[40,25,40,28],[40,30,40,45],[40,46,40,54],[40,55,40,58],[41,0,41,2],[41,3,41,15],[41,16,41,24],[41,25,41,28],[41,30,41,45],[41,46,41,54],[41,55,41,58],[42,0,42,2],[42,3,42,15],[42,16,42,24],[42,25,42,28],[42,30,42,45],[42,46,42,54],[42,55,42,58],[43,0,43,2],[43,3,43,15],[43,16,43,24],[43,25,43,28],[43,30,43,45],[43,46,43,54],[43,55,43,58],[44,0,44,2],[44,3,44,15],[44,16,44,24],[44,25,44,28],[44,30,44,45],[44,46,44,54],[44,55,44,58],[45,0,45,2],[45,3,45,15],[45,16,45,24],[45,25,45,28],[45,30,45,45],[45,46,45,54],[45,55,45,58],[46,0,46,2],[46,3,46,15],[46,16,46,24],[46,25,46,28],[46,30,46,45],[46,46,46,54],[46,55,46,58],[47,0,47,2],[47,3,47,15],[47,16,47,24],[47,25,47,28],[47,30,47,45],[47,46,47,54],[47,55,47,58],[48,0,48,2],[48,3,48,15],[48,16,48,24],[48,25,48,28],[48,30,48,45],[48,46,48,54],[48,55,48,58],[49,0,49,2],[49,3,49,15],[49,16,49,24],[49,25,49,28],[49,30,49,45],[49,46,49,54],[49,55,49,58],[50,0,50,2],[50,3,50,15],[50,16,50,24],[50,25,50,28],[50,30,50,45],[50,46,50,54],[50,55,50,58],[51,0,51,2],[51,3,51,15],[51,16,51,24],[51,25,51,28],[51,30,51,45],[51,46,51,54],[51,55,51,58],[52,0,52,2],[52,3,52,15],[52,16,52,24],[52,25,52,28],[52,30,52,45],[52,46,52,54],[52,55,52,58],[53,0,53,2],[53,3,53,15],[53,16,53,24],[53,25,53,28],[53,30,53,45],[53,46,53,54],[53,55,53,58],[54,0,54,2],[54,3,54,15],[54,16,54,24],[54,25,54,28],[54,30,54,45],[54,46,54,54],[54,55,54,58],[55,0,55,2],[55,3,55,15],[55,16,55,24],[55,25,55,28],[55,30,55,45],[55,46,55,54],[55,55,55,58],[56,0,56,2],[56,3,56,15],[56,16,56,24],[56,25,56,28],[56,30,56,45],[56,46,56,54],[56,55,56,58],[57,0,57,2],[57,3,57,15],[57,16,57,24],[57,25,57,28],[57,30,57,45],[57,46,57,54],[57,55,57,58],[58,0,58,2],[58,3,58,15],[58,16,58,24],[58,25,58,28],[58,30,58,45],[58,46,58,54],[58,55,58,58],[59,0,59,2],[59,3,59,15],[59,16,59,24],[59,25,59,28],[59,30,59,45],[59,46,59,54],[59,55,59,58],[60,0,60,2],[60,3,60,15],[60,16,60,24],[60,25,60,28],[60,30,60,45],[60,46,60,54],[60,55,60,58],[61,0,61,2],[61,3,61,15],[61,16,61,24],[61,25,61,28],[61,30,61,45],[61,46,61,54],[61,55,61,58],[62,0,62,2],[62,3,62,15],[62,16,62,24],[62,25,62,28],[62,30,62,45],[62,46,62,54],[62,55,62,58],[63,0,63,2],[63,3,63,15],[63,16,63,24],[63,25,63,28],[63,30,63,45],[63,46,63,54],[63,55,63,58],[64,0,64,2],[64,3,64,15],[64,16,64,24],[64,25,64,28],[64,30,64,45],[64,46,64,54],[64,55,64,58],[65,0,65,2],[65,3,65,15],[65,16,65,24],[65,25,65,28],[65,30,65,45],[65,46,65,54],[65,55,65,58],[66,0,66,2],[66,3,66,15],[66,16,66,24],[66,25,66,28],[66,30,66,45],[66,46,66,54],[66,55,66,58],[67,0,67,2],[67,3,67,15],[67,16,67,24],[67,25,67,28],[67,30,67,45],[67,46,67,54],[67,55,67,58],[68,0,68,2],[68,3,68,15],[68,16,68,24],[68,25,68,28],[68,30,68,45],[68,46,68,54],[68,55,68,58],[70,0,70,2],[70,3,70,15],[70,16,70,24],[70,25,70,28],[70,30,70,45],[70,46,70,54],[70,55,70,58],[71,0,71,2],[71,3,71,15],[71,16,71,24],[71,25,71,28],[71,30,71,45],[71,46,71,54],[71,55,71,58],[72,0,72,2],[72,3,72,15],[72,16,72,24],[72,25,72,28],[72,30,72,45],[72,46,72,54],[72,55,72,58],[73,0,73,2],[73,3,73,15],[73,16,73,24],[73,25,73,28],[73,30,73,45],[73,46,73,54],[73,55,73,58],[79,55,79,58],[80,49,80,52],[80,53,80,54],[80,55,80,58],[81,49,81,52],[81,53,81,54],[81,55,81,58],[82,49,82,52],[82,53,82,54],[82,55,82,58],[87,55,87,58],[88,49,88,52],[88,53,88,54],[88,55,88,58],[89,49,89,52],[89,53,89,54],[89,55,89,58],[90,49,90,52],[90,53,90,54],[90,55,90,58],[87,49,87,52],[87,53,87,54],[96,49,96,52],[96,53,96,54],[96,55,96,58],[97,49,97,52],[97,53,97,54],[97,55,97,58],[98,49,98,52],[98,53,98,54],[98,55,98,58],[107,55,107,58],[101,49,101,52],[101,53,101,54],[101,55,101,58],[102,49,102,52],[102,53,102,54],[102,55,102,58],[103,49,103,52],[103,53,103,54],[103,55,103,58],[105,49,105,52],[105,55,105,58],[106,55,106,58]]}
["CHANTIER :",null,null,null,null,{"$f":"'01-01-16'!F1","v":0},null,null,null,null,null,null,null,null,null,null,null,null,null,null,"N° CHANTIER :",null,null,null,null,null,{"$f":"'01-01-16'!AA1","v":0},null,null,null,"JOUR :",null,null,null,{"$f":" CHOOSE(WEEKDAY(BC1,2),\"Lundi\",\"Mardi\",\"Mercredi\",\"Jeudi\",\"Vendredi\",\"Samedi\",\"Dimanche\")","v":"Lundi"},null,null,null,null,null,null,null,null,null,null,null,null,null,null,null,null,"DATES :",null,null,{"$f":"MID(CELL(\"nomfichier\",A1),FIND(\"]\",CELL(\"nomfichier\",A1),1)+1,30)","v":"04-01-16"}]
["MAIN D'ŒUVRE",null,null,null,null,null,null,null,null,null,null,null,null,null,null,null,null,null,null,null,null,null,null,null,null,null,null,null,null,null,"CAMIONS"]
["Légende :",null,null,null,null,null,"Co",".= Congé",null,null,null,null,"M",".= Malade",null,null,null,null,"Cho",".= Chômage",null,null,null,null,"Va",".= Vacance",null,null,null,null,"Légende :",null,null,null,null,"Pa",".= Panne",null,null,null,null,"Ent",".= Entretien"]
["NOM - Prénom du travailleur",null,null,null,null,null,null,null,null,null,null,null,null,null,null,null,"Début journée",null,null,"Arrêt repas",null,null,"Fin journée",null,null,"Heures prestées",null,null,null,null,"N°",null,null,"Description du matériel",null,null,null,null,null,null,null,null,null,null,null,null,"Nom de l'opérateur",null,null,null,null,null,null,null,null,"Heures"]
[null,null,null,null,null,null,null,null,null,null,null,null,null,null,null,null,null,null,null,null,null,null,null,null,null,{"$f":"W5-Q5-T5","v":0},null,null,null,null,null,null,null,{"$f":"IF(ISNA(VLOOKUP(AE5,Camions!$B:$F,2,0)),\"\",(VLOOKUP(AE5,Camions!$B:$F,2,0)))","v":""},null,null,null,null,null,null,null,null,null,null,null,null,{"$f":"IF(ISNA(VLOOKUP(AE5,Camions!$B:$F,4,0)),\"\",(VLOOKUP(AE5,Camions!$B:$F,4,0)))","v":""}]
[null,null,null,null,null,null,null,null,null,null,null,null,null,null,null,null,null,null,null,null,null,null,null,null,null,{"$f":"W6-Q6-T6","v":0},null,null,null,null,null,null,null,{"$f":"IF(ISNA(VLOOKUP(AE6,Camions!$B:$F,2,0)),\"\",(VLOOKUP(AE6,Camions!$B:$F,2,0)))","v":""},null,null,null,null,null,null,null,null,null,null,null,null,{"$f":"IF(ISNA(VLOOKUP(AE6,Camions!$B:$F,4,0)),\"\",(VLOOKUP(AE6,Camions!$B:$F,4,0)))","v":""}]
[null,null,null,null,null,null,null,null,null,null,null,null,null,null,null,null,null,null,null,null,null,null,null,null,null,0,null,null,null,null,null,null,null,{"$f":"IF(ISNA(VLOOKUP(AE7,Camions!$B:$F,2,0)),\"\",(VLOOKUP(AE7,Camions!$B:$F,2,0)))","v":""},null,null,null,null,null,null,null,null,null,null,null,null,{"$f":"IF(ISNA(VLOOKUP(AE7,Camions!$B:$F,4,0)),\"\",(VLOOKUP(AE7,Camions!$B:$F,4,0)))","v":""}]
[null,null,null,null,null,null,null,null,null,null,null,null,null,null,null,null,null,null,null,null,null,null,null,null,null,0,null,null,null,null,null,null,null,{"$f":"IF(ISNA(VLOOKUP(AE8,Camions!$B:$F,2,0)),\"\",(VLOOKUP(AE8,Camions!$B:$F,2,0)))","v":""},null,null,null,null,null,null,null,null,null,null,null,null,{"$f":"IF(ISNA(VLOOKUP(AE8,Camions!$B:$F,4,0)),\"\",(VLOOKUP(AE8,Camions!$B:$F,4,0)))","v":""}]
[null,null,null,null,null,null,null,null,null,null,null,null,null,null,null,null,null,null,null,null,null,null,null,null,null,0,null,null,null,null,null,null,null,{"$f":"IF(ISNA(VLOOKUP(AE9,Camions!$B:$F,2,0)),\"\",(VLOOKUP(AE9,Camions!$B:$F,2,0)))","v":""},null,null,null,null,null,null,null,null,null,null,null,null,{"$f":"IF(ISNA(VLOOKUP(AE9,Camions!$B:$F,4,0)),\"\",(VLOOKUP(AE9,Camions!$B:$F,4,0)))","v":""}]
[null,null,null,null,null,null,null,null,null,null,null,null,null,null,null,null,null,null,null,null,null,null,null,null,null,0,null,null,null,null,null,null,null,{"$f":"IF(ISNA(VLOOKUP(AE10,Camions!$B:$F,2,0)),\"\",(VLOOKUP(AE10,Camions!$B:$F,2,0)))","v":""},null,null,null,null,null,null,null,null,null,null,null,null,{"$f":"IF(ISNA(VLOOKUP(AE10,Camions!$B:$F,4,0)),\"\",(VLOOKUP(AE10,Camions!$B:$F,4,0)))","v":""}]
[null,null,null,null,null,null,null,null,null,null,null,null,null,null,null,null,null,null,null,null,null,null,null,null,null,0,null,null,null,null,null,null,null,{"$f":"IF(ISNA(VLOOKUP(AE11,Camions!$B:$F,2,0)),\"\",(VLOOKUP(AE11,Camions!$B:$F,2,0)))","v":""},null,null,null,null,null,null,null,null,null,null,null,null,{"$f":"IF(ISNA(VLOOKUP(AE11,Camions!$B:$F,4,0)),\"\",(VLOOKUP(AE11,Camions!$B:$F,4,0)))","v":""}]
[null,null,null,null,null,null,null,null,null,null,null,null,null,null,null,null,null,null,null,null,null,null,null,null,null,0,null,null,null,null,null,null,null,{"$f":"IF(ISNA(VLOOKUP(AE12,Camions!$B:$F,2,0)),\"\",(VLOOKUP(AE12,Camions!$B:$F,2,0)))","v":""},null,null,null,null,null,null,null,null,null,null,null,null,{"$f":"IF(ISNA(VLOOKUP(AE12,Camions!$B:$F,4,0)),\"\",(VLOOKUP(AE12,Camions!$B:$F,4,0)))","v":""}]
[null,null,null,null,null,null,null,null,null,null,null,null,null,null,null,null,null,null,null,null,null,null,null,null,null,0,null,null,null,null,null,null,null,{"$f":"IF(ISNA(VLOOKUP(AE13,Camions!$B:$F,2,0)),\"\",(VLOOKUP(AE13,Camions!$B:$F,2,0)))","v":""},null,null,null,null,null,null,null,null,null,null,null,null,{"$f":"IF(ISNA(VLOOKUP(AE13,Camions!$B:$F,4,0)),\"\",(VLOOKUP(AE13,Camions!$B:$F,4,0)))","v":""}]
[null,null,null,null,null,null,null,null,null,null,null,null,null,null,null,null,null,null,null,null,null,null,null,null,null,0,null,null,null,null,null,null,null,{"$f":"IF(ISNA(VLOOKUP(AE14,Camions!$B:$F,2,0)),\"\",(VLOOKUP(AE14,Camions!$B:$F,2,0)))","v":""},null,null,null,null,null,null,null,null,null,null,null,null,{"$f":"IF(ISNA(VLOOKUP(AE14,Camions!$B:$F,4,0)),\"\",(VLOOKUP(AE14,Camions!$B:$F,4,0)))","v":""}]
[null,null,null,null,null,null,null,null,null,null,null,null,null,null,null,null,null,null,null,null,null,null,null,null,null,0,null,null,null,null,null,null,null,{"$f":"IF(ISNA(VLOOKUP(AE15,Camions!$B:$F,2,0)),\"\",(VLOOKUP(AE15,Camions!$B:$F,2,0)))","v":""},null,null,null,null,null,null,null,null,null,null,null,null,{"$f":"IF(ISNA(VLOOKUP(AE15,Camions!$B:$F,4,0)),\"\",(VLOOKUP(AE15,Camions!$B:$F,4,0)))","v":""}]
[null,null,null,null,null,null,null,null,null,null,null,null,null,null,null,null,null,null,null,null,null,null,null,null,null,0,null,null,null,null,null,null,null,{"$f":"IF(ISNA(VLOOKUP(AE16,Camions!$B:$F,2,0)),\"\",(VLOOKUP(AE16,Camions!$B:$F,2,0)))","v":""},null,null,null,null,null,null,null,null,null,null,null,null,{"$f":"IF(ISNA(VLOOKUP(AE16,Camions!$B:$F,4,0)),\"\",(VLOOKUP(AE16,Camions!$B:$F,4,0)))","v":""}]
[null,null,null,null,null,null,null,null,null,null,null,null,null,null,null,null,null,null,null,null,null,null,null,null,null,0,null,null,null,null,null,null,null,{"$f":"IF(ISNA(VLOOKUP(AE17,Camions!$B:$F,2,0)),\"\",(VLOOKUP(AE17,Camions!$B:$F,2,0)))","v":""},null,null,null,null,null,null,null,null,null,null,null,null,{"$f":"IF(ISNA(VLOOKUP(AE17,Camions!$B:$F,4,0)),\"\",(VLOOKUP(AE17,Camions!$B:$F,4,0)))","v":""}]
[null,null,null,null,null,null,null,null,null,null,null,null,null,null,null,null,null,null,null,null,null,null,null,null,null,0,null,null,null,null,null,null,null,{"$f":"IF(ISNA(VLOOKUP(AE18,Camions!$B:$F,2,0)),\"\",(VLOOKUP(AE18,Camions!$B:$F,2,0)))","v":""},null,null,null,null,null,null,null,null,null,null,null,null,{"$f":"IF(ISNA(VLOOKUP(AE18,Camions!$B:$F,4,0)),\"\",(VLOOKUP(AE18,Camions!$B:$F,4,0)))","v":""}]
[null,null,null,null,null,null,null,null,null,null,null,null,null,null,null,null,null,null,null,null,null,null,null,null,null,0,null,null,null,null,null,null,null,{"$f":"IF(ISNA(VLOOKUP(AE19,Camions!$B:$F,2,0)),\"\",(VLOOKUP(AE19,Camions!$B:$F,2,0)))","v":""},null,null,null,null,null,null,null,null,null,null,null,null,{"$f":"IF(ISNA(VLOOKUP(AE19,Camions!$B:$F,4,0)),\"\",(VLOOKUP(AE19,Camions!$B:$F,4,0)))","v":""}]
[null,null,null,null,null,null,null,null,null,null,null,null,null,null,null,null,null,null,null,null,null,null,null,null,null,0,null,null,null,null,null,null,null,{"$f":"IF(ISNA(VLOOKUP(AE20,Camions!$B:$F,2,0)),\"\",(VLOOKUP(AE20,Camions!$B:$F,2,0)))","v":""},null,null,null,null,null,null,null,null,null,null,null,null,{"$f":"IF(ISNA(VLOOKUP(AE20,Camions!$B:$F,4,0)),\"\",(VLOOKUP(AE20,Camions!$B:$F,4,0)))","v":""}]
[null,null,null,null,null,null,null,null,null,null,null,null,null,null,null,null,null,null,null,null,null,null,null,null,null,0,null,null,null,null,null,null,null,{"$f":"IF(ISNA(VLOOKUP(AE21,Camions!$B:$F,2,0)),\"\",(VLOOKUP(AE21,Camions!$B:$F,2,0)))","v":""},null,null,null,null,null,null,null,null,null,null,null,null,{"$f":"IF(ISNA(VLOOKUP(AE21,Camions!$B:$F,4,0)),\"\",(VLOOKUP(AE21,Camions!$B:$F,4,0)))","v":""}]
[null,null,null,null,null,null,null,null,null,null,null,null,null,null,null,null,null,null,null,null,null,null,null,null,null,0,null,null,null,null,null,null,null,{"$f":"IF(ISNA(VLOOKUP(AE22,Camions!$B:$F,2,0)),\"\",(VLOOKUP(AE22,Camions!$B:$F,2,0)))","v":""},null,null,null,null,null,null,null,null,null,null,null,null,{"$f":"IF(ISNA(VLOOKUP(AE22,Camions!$B:$F,4,0)),\"\",(VLOOKUP(AE22,Camions!$B:$F,4,0)))","v":""}]
[null,null,null,null,null,null,null,null,null,null,null,null,null,null,null,null,null,null,null,null,null,null,null,null,null,0,null,null,null,null,null,null,null,{"$f":"IF(ISNA(VLOOKUP(AE23,Camions!$B:$F,2,0)),\"\",(VLOOKUP(AE23,Camions!$B:$F,2,0)))","v":""},null,null,null,null,null,null,null,null,null,null,null,null,{"$f":"IF(ISNA(VLOOKUP(AE23,Camions!$B:$F,4,0)),\"\",(VLOOKUP(AE23,Camions!$B:$F,4,0)))","v":""}]
[null,null,null,null,null,null,null,null,null,null,null,null,null,null,null,null,null,null,null,null,null,null,null,null,null,0,null,null,null,null,null,null,null,{"$f":"IF(ISNA(VLOOKUP(AE24,Camions!$B:$F,2,0)),\"\",(VLOOKUP(AE24,Camions!$B:$F,2,0)))","v":""},null,null,null,null,null,null,null,null,null,null,null,null,{"$f":"IF(ISNA(VLOOKUP(AE24,Camions!$B:$F,4,0)),\"\",(VLOOKUP(AE24,Camions!$B:$F,4,0)))","v":""}]
[null,null,null,null,null,null,null,null,null,null,null,null,null,null,null,null,null,null,null,null,null,null,null,null,null,0,null,null,null,null,null,null,null,{"$f":"IF(ISNA(VLOOKUP(AE25,Camions!$B:$F,2,0)),\"\",(VLOOKUP(AE25,Camions!$B:$F,2,0)))","v":""},null,null,null,null,null,null,null,null,null,null,null,null,{"$f":"IF(ISNA(VLOOKUP(AE25,Camions!$B:$F,4,0)),\"\",(VLOOKUP(AE25,Camions!$B:$F,4,0)))","v":""}]
[null,null,null,null,null,null,null,null,null,null,null,null,null,null,null,null,null,null,null,null,null,null,null,null,null,0,null,null,null,null,null,null,null,{"$f":"IF(ISNA(VLOOKUP(AE26,Camions!$B:$F,2,0)),\"\",(VLOOKUP(AE26,Camions!$B:$F,2,0)))","v":""},null,null,null,null,null,null,null,null,null,null,null,null,{"$f":"IF(ISNA(VLOOKUP(AE26,Camions!$B:$F,4,0)),\"\",(VLOOKUP(AE26,Camions!$B:$F,4,0)))","v":""}]
[null,null,null,null,null,null,null,null,null,null,null,null,null,null,null,null,null,null,null,null,null,null,null,null,null,0,null,null,null,null,null,null,null,{"$f":"IF(ISNA(VLOOKUP(AE27,Camions!$B:$F,2,0)),\"\",(VLOOKUP(AE27,Camions!$B:$F,2,0)))","v":""},null,null,null,null,null,null,null,null,null,null,null,null,{"$f":"IF(ISNA(VLOOKUP(AE27,Camions!$B:$F,4,0)),\"\",(VLOOKUP(AE27,Camions!$B:$F,4,0)))","v":""}]
[null,null,null,null,null,null,null,null,null,null,null,null,null,null,null,null,null,null,null,null,null,null,null,null,null,0,null,null,null,null,null,null,null,{"$f":"IF(ISNA(VLOOKUP(AE28,Camions!$B:$F,2,0)),\"\",(VLOOKUP(AE28,Camions!$B:$F,2,0)))","v":""},null,null,null,null,null,null,null,null,null,null,null,null,{"$f":"IF(ISNA(VLOOKUP(AE28,Camions!$B:$F,4,0)),\"\",(VLOOKUP(AE28,Camions!$B:$F,4,0)))","v":""}]
[null,null,null,null,null,null,null,null,null,null,null,null,null,null,null,null,null,null,null,null,null,null,null,null,null,0,null,null,null,null,null,null,null,{"$f":"IF(ISNA(VLOOKUP(AE29,Camions!$B:$F,2,0)),\"\",(VLOOKUP(AE29,Camions!$B:$F,2,0)))","v":""},null,null,null,null,null,null,null,null,null,null,null,null,{"$f":"IF(ISNA(VLOOKUP(AE29,Camions!$B:$F,4,0)),\"\",(VLOOKUP(AE29,Camions!$B:$F,4,0)))","v":""}]
[null,null,null,null,null,null,null,null,null,null,null,null,null,null,null,null,null,null,null,null,null,null,null,null,null,0,null,null,null,null,null,null,null,{"$f":"IF(ISNA(VLOOKUP(AE30,Camions!$B:$F,2,0)),\"\",(VLOOKUP(AE30,Camions!$B:$F,2,0)))","v":""},null,null,null,null,null,null,null,null,null,null,null,null,{"$f":"IF(ISNA(VLOOKUP(AE30,Camions!$B:$F,4,0)),\"\",(VLOOKUP(AE30,Camions!$B:$F,4,0)))","v":""}]
[null,null,null,null,null,null,null,null,null,null,null,null,null,null,null,null,null,null,null,null,null,null,null,null,null,0,null,null,null,null,null,null,null,{"$f":"IF(ISNA(VLOOKUP(AE31,Camions!$B:$F,2,0)),\"\",(VLOOKUP(AE31,Camions!$B:$F,2,0)))","v":""},null,null,null,null,null,null,null,null,null,null,null,null,{"$f":"IF(ISNA(VLOOKUP(AE31,Camions!$B:$F,4,0)),\"\",(VLOOKUP(AE31,Camions!$B:$F,4,0)))","v":""}]
[null,null,null,null,null,null,null,null,null,null,null,null,null,null,null,null,null,null,null,null,null,null,null,null,null,0,null,null,null,null,null,null,null,{"$f":"IF(ISNA(VLOOKUP(AE32,Camions!$B:$F,2,0)),\"\",(VLOOKUP(AE32,Camions!$B:$F,2,0)))","v":""},null,null,null,null,null,null,null,null,null,null,null,null,{"$f":"IF(ISNA(VLOOKUP(AE32,Camions!$B:$F,4,0)),\"\",(VLOOKUP(AE32,Camions!$B:$F,4,0)))","v":""}]
[null,null,null,null,null,null,null,null,null,null,null,null,null,null,null,null,null,null,null,null,null,null,null,null,null,0,null,null,null,null,null,null,null,{"$f":"IF(ISNA(VLOOKUP(AE33,Camions!$B:$F,2,0)),\"\",(VLOOKUP(AE33,Camions!$B:$F,2,0)))","v":""},null,null,null,null,null,null,null,null,null,null,null,null,{"$f":"IF(ISNA(VLOOKUP(AE33,Camions!$B:$F,4,0)),\"\",(VLOOKUP(AE33,Camions!$B:$F,4,0)))","v":""}]
[null,null,null,null,null,null,null,null,null,null,null,null,null,null,null,null,null,null,null,null,null,null,null,null,null,0,null,null,null,null,null,null,null,{"$f":"IF(ISNA(VLOOKUP(AE34,Camions!$B:$F,2,0)),\"\",(VLOOKUP(AE34,Camions!$B:$F,2,0)))","v":""},null,null,null,null,null,null,null,null,null,null,null,null,{"$f":"IF(ISNA(VLOOKUP(AE34,Camions!$B:$F,4,0)),\"\",(VLOOKUP(AE34,Camions!$B:$F,4,0)))","v":""}]
[null,null,null,null,null,null,null,null,null,null,null,null,null,null,null,null,null,null,null,null,null,null,null,null,null,0,null,null,null,null,null,null,null,{"$f":"IF(ISNA(VLOOKUP(AE35,Camions!$B:$F,2,0)),\"\",(VLOOKUP(AE35,Camions!$B:$F,2,0)))","v":""},null,null,null,null,null,null,null,null,null,null,null,null,{"$f":"IF(ISNA(VLOOKUP(AE35,Camions!$B:$F,4,0)),\"\",(VLOOKUP(AE35,Camions!$B:$F,4,0)))","v":""}]
[null,null,null,null,null,null,null,null,null,null,null,null,null,null,null,null,null,null,null,null,null,null,null,null,null,0,null,null,null,null,null,null,null,{"$f":"IF(ISNA(VLOOKUP(AE36,Camions!$B:$F,2,0)),\"\",(VLOOKUP(AE36,Camions!$B:$F,2,0)))","v":""},null,null,null,null,null,null,null,null,null,null,null,null,{"$f":"IF(ISNA(VLOOKUP(AE36,Camions!$B:$F,4,0)),\"\",(VLOOKUP(AE36,Camions!$B:$F,4,0)))","v":""}]
[null,null,null,null,null,null,null,null,null,null,null,null,null,null,null,null,null,null,null,null,null,null,null,null,null,0,null,null,null,null,null,null,null,{"$f":"IF(ISNA(VLOOKUP(AE37,Camions!$B:$F,2,0)),\"\",(VLOOKUP(AE37,Camions!$B:$F,2,0)))","v":""},null,null,null,null,null,null,null,null,null,null,null,null,{"$f":"IF(ISNA(VLOOKUP(AE36,Camions!$B:$F,4,0)),\"\",(VLOOKUP(AE36,Camions!$B:$F,4,0)))","v":""}]
["CHANTIER :",null,null,null,null,{"$f":"F1","v":0},null,null,null,null,null,null,null,null,null,null,null,null,null,null,"N° CHANTIER :",null,null,null,null,null,{"$f":"AA1","v":0},null,null,null,"JOUR :",null,null,null,{"$f":"AI1","v":"Lundi"},null,null,null,null,null,null,null,null,null,null,null,null,null,null,null,null,"DATES :",null,null,{"$f":"BC1","v":"04-01-16"}]
["MATERIEL",null,null,null,null,null,null,null,null,null,null,null,null,null,null,null,null,null,null,null,null,null,null,null,null,null,null,null,null,null,"SOUS-TRAITANTS"]
["Légende :",null,null,null,null,"Pa",".= Panne",null,null,null,null,"Ent",".= Entretien"]
["N°",null,null,"Description du matériel",null,null,null,null,null,null,null,null,null,null,null,null,"Nom de l'opérateur",null,null,null,null,null,null,null,null,"Heures",null,null,null,null,"Type d'engin et description des travaux ",null,null,null,null,null,null,null,null,null,null,null,null,null,null,null,"Sous-traitants",null,null,null,null,null,null,null,null,"Heures"]
[null,null,null,{"$f":"IF(ISNA(VLOOKUP(A42,Machines!$B:$F,2,0)),\"\",(VLOOKUP(A42,Machines!$B:$F,2,0)))","v":""},null,null,null,null,null,null,null,null,null,null,null,null,{"$f":"IF(ISNA(VLOOKUP(A42,Machines!$B:$F,4,0)),\"\",(VLOOKUP(A42,Machines!$B:$F,4,0)))","v":""}]
[null,null,null,{"$f":"IF(ISNA(VLOOKUP(A43,Machines!$B:$F,2,0)),\"\",(VLOOKUP(A43,Machines!$B:$F,2,0)))","v":""},null,null,null,null,null,null,null,null,null,null,null,null,{"$f":"IF(ISNA(VLOOKUP(A43,Machines!$B:$F,4,0)),\"\",(VLOOKUP(A43,Machines!$B:$F,4,0)))","v":""}]
[null,null,null,{"$f":"IF(ISNA(VLOOKUP(A44,Machines!$B:$F,2,0)),\"\",(VLOOKUP(A44,Machines!$B:$F,2,0)))","v":""},null,null,null,null,null,null,null,null,null,null,null,null,{"$f":"IF(ISNA(VLOOKUP(A44,Machines!$B:$F,4,0)),\"\",(VLOOKUP(A44,Machines!$B:$F,4,0)))","v":""}]
[null,null,null,{"$f":"IF(ISNA(VLOOKUP(A45,Machines!$B:$F,2,0)),\"\",(VLOOKUP(A45,Machines!$B:$F,2,0)))","v":""},null,null,null,null,null,null,null,null,null,null,null,null,{"$f":"IF(ISNA(VLOOKUP(A45,Machines!$B:$F,4,0)),\"\",(VLOOKUP(A45,Machines!$B:$F,4,0)))","v":""}]
[null,null,null,{"$f":"IF(ISNA(VLOOKUP(A46,Machines!$B:$F,2,0)),\"\",(VLOOKUP(A46,Machines!$B:$F,2,0)))","v":""},null,null,null,null,null,null,null,null,null,null,null,null,{"$f":"IF(ISNA(VLOOKUP(A46,Machines!$B:$F,4,0)),\"\",(VLOOKUP(A46,Machines!$B:$F,4,0)))","v":""}]
[null,null,null,{"$f":"IF(ISNA(VLOOKUP(A47,Machines!$B:$F,2,0)),\"\",(VLOOKUP(A47,Machines!$B:$F,2,0)))","v":""},null,null,null,null,null,null,null,null,null,null,null,null,{"$f":"IF(ISNA(VLOOKUP(A47,Machines!$B:$F,4,0)),\"\",(VLOOKUP(A47,Machines!$B:$F,4,0)))","v":""}]
[null,null,null,{"$f":"IF(ISNA(VLOOKUP(A48,Machines!$B:$F,2,0)),\"\",(VLOOKUP(A48,Machines!$B:$F,2,0)))","v":""},null,null,null,null,null,null,null,null,null,null,null,null,{"$f":"IF(ISNA(VLOOKUP(A48,Machines!$B:$F,4,0)),\"\",(VLOOKUP(A48,Machines!$B:$F,4,0)))","v":""}]
[null,null,null,{"$f":"IF(ISNA(VLOOKUP(A49,Machines!$B:$F,2,0)),\"\",(VLOOKUP(A49,Machines!$B:$F,2,0)))","v":""},null,null,null,null,null,null,null,null,null,null,null,null,{"$f":"IF(ISNA(VLOOKUP(A49,Machines!$B:$F,4,0)),\"\",(VLOOKUP(A49,Machines!$B:$F,4,0)))","v":""}]
[null,null,null,{"$f":"IF(ISNA(VLOOKUP(A50,Machines!$B:$F,2,0)),\"\",(VLOOKUP(A50,Machines!$B:$F,2,0)))","v":""},null,null,null,null,null,null,null,null,null,null,null,null,{"$f":"IF(ISNA(VLOOKUP(A50,Machines!$B:$F,4,0)),\"\",(VLOOKUP(A50,Machines!$B:$F,4,0)))","v":""}]
[null,null,null,{"$f":"IF(ISNA(VLOOKUP(A51,Machines!$B:$F,2,0)),\"\",(VLOOKUP(A51,Machines!$B:$F,2,0)))","v":""},null,null,null,null,null,null,null,null,null,null,null,null,{"$f":"IF(ISNA(VLOOKUP(A51,Machines!$B:$F,4,0)),\"\",(VLOOKUP(A51,Machines!$B:$F,4,0)))","v":""}]
[null,null,null,{"$f":"IF(ISNA(VLOOKUP(A52,Machines!$B:$F,2,0)),\"\",(VLOOKUP(A52,Machines!$B:$F,2,0)))","v":""},null,null,null,null,null,null,null,null,null,null,null,null,{"$f":"IF(ISNA(VLOOKUP(A52,Machines!$B:$F,4,0)),\"\",(VLOOKUP(A52,Machines!$B:$F,4,0)))","v":""}]
[null,null,null,{"$f":"IF(ISNA(VLOOKUP(A53,Machines!$B:$F,2,0)),\"\",(VLOOKUP(A53,Machines!$B:$F,2,0)))","v":""},null,null,null,null,null,null,null,null,null,null,null,null,{"$f":"IF(ISNA(VLOOKUP(A53,Machines!$B:$F,4,0)),\"\",(VLOOKUP(A53,Machines!$B:$F,4,0)))","v":""}]
[null,null,null,{"$f":"IF(ISNA(VLOOKUP(A54,Machines!$B:$F,2,0)),\"\",(VLOOKUP(A54,Machines!$B:$F,2,0)))","v":""},null,null,null,null,null,null,null,null,null,null,null,null,{"$f":"IF(ISNA(VLOOKUP(A54,Machines!$B:$F,4,0)),\"\",(VLOOKUP(A54,Machines!$B:$F,4,0)))","v":""}]
[null,null,null,{"$f":"IF(ISNA(VLOOKUP(A55,Machines!$B:$F,2,0)),\"\",(VLOOKUP(A55,Machines!$B:$F,2,0)))","v":""},null,null,null,null,null,null,null,null,null,null,null,null,{"$f":"IF(ISNA(VLOOKUP(A55,Machines!$B:$F,4,0)),\"\",(VLOOKUP(A55,Machines!$B:$F,4,0)))","v":""}]
[null,null,null,{"$f":"IF(ISNA(VLOOKUP(A56,Machines!$B:$F,2,0)),\"\",(VLOOKUP(A56,Machines!$B:$F,2,0)))","v":""},null,null,null,null,null,null,null,null,null,null,null,null,{"$f":"IF(ISNA(VLOOKUP(A56,Machines!$B:$F,4,0)),\"\",(VLOOKUP(A56,Machines!$B:$F,4,0)))","v":""}]
[null,null,null,{"$f":"IF(ISNA(VLOOKUP(A57,Machines!$B:$F,2,0)),\"\",(VLOOKUP(A57,Machines!$B:$F,2,0)))","v":""},null,null,null,null,null,null,null,null,null,null,null,null,{"$f":"IF(ISNA(VLOOKUP(A57,Machines!$B:$F,4,0)),\"\",(VLOOKUP(A57,Machines!$B:$F,4,0)))","v":""}]
[null,null,null,{"$f":"IF(ISNA(VLOOKUP(A58,Machines!$B:$F,2,0)),\"\",(VLOOKUP(A58,Machines!$B:$F,2,0)))","v":""},null,null,null,null,null,null,null,null,null,null,null,null,{"$f":"IF(ISNA(VLOOKUP(A58,Machines!$B:$F,4,0)),\"\",(VLOOKUP(A58,Machines!$B:$F,4,0)))","v":""}]
[null,null,null,{"$f":"IF(ISNA(VLOOKUP(A59,Machines!$B:$F,2,0)),\"\",(VLOOKUP(A59,Machines!$B:$F,2,0)))","v":""},null,null,null,null,null,null,null,null,null,null,null,null,{"$f":"IF(ISNA(VLOOKUP(A59,Machines!$B:$F,4,0)),\"\",(VLOOKUP(A59,Machines!$B:$F,4,0)))","v":""}]
[null,null,null,{"$f":"IF(ISNA(VLOOKUP(A60,Machines!$B:$F,2,0)),\"\",(VLOOKUP(A60,Machines!$B:$F,2,0)))","v":""},null,null,null,null,null,null,null,null,null,null,null,null,{"$f":"IF(ISNA(VLOOKUP(A60,Machines!$B:$F,4,0)),\"\",(VLOOKUP(A60,Machines!$B:$F,4,0)))","v":""}]
[null,null,null,{"$f":"IF(ISNA(VLOOKUP(A61,Machines!$B:$F,2,0)),\"\",(VLOOKUP(A61,Machines!$B:$F,2,0)))","v":""},null,null,null,null,null,null,null,null,null,null,null,null,{"$f":"IF(ISNA(VLOOKUP(A61,Machines!$B:$F,4,0)),\"\",(VLOOKUP(A61,Machines!$B:$F,4,0)))","v":""}]
[null,null,null,{"$f":"IF(ISNA(VLOOKUP(A62,Machines!$B:$F,2,0)),\"\",(VLOOKUP(A62,Machines!$B:$F,2,0)))","v":""},null,null,null,null,null,null,null,null,null,null,null,null,{"$f":"IF(ISNA(VLOOKUP(A62,Machines!$B:$F,4,0)),\"\",(VLOOKUP(A62,Machines!$B:$F,4,0)))","v":""}]
[null,null,null,{"$f":"IF(ISNA(VLOOKUP(A63,Machines!$B:$F,2,0)),\"\",(VLOOKUP(A63,Machines!$B:$F,2,0)))","v":""},null,null,null,null,null,null,null,null,null,null,null,null,{"$f":"IF(ISNA(VLOOKUP(A63,Machines!$B:$F,4,0)),\"\",(VLOOKUP(A63,Machines!$B:$F,4,0)))","v":""}]
[null,null,null,{"$f":"IF(ISNA(VLOOKUP(A64,Machines!$B:$F,2,0)),\"\",(VLOOKUP(A64,Machines!$B:$F,2,0)))","v":""},null,null,null,null,null,null,null,null,null,null,null,null,{"$f":"IF(ISNA(VLOOKUP(A64,Machines!$B:$F,4,0)),\"\",(VLOOKUP(A64,Machines!$B:$F,4,0)))","v":""}]
[null,null,null,{"$f":"IF(ISNA(VLOOKUP(A65,Machines!$B:$F,2,0)),\"\",(VLOOKUP(A65,Machines!$B:$F,2,0)))","v":""},null,null,null,null,null,null,null,null,null,null,null,null,{"$f":"IF(ISNA(VLOOKUP(A65,Machines!$B:$F,4,0)),\"\",(VLOOKUP(A65,Machines!$B:$F,4,0)))","v":""}]
[null,null,null,{"$f":"IF(ISNA(VLOOKUP(A66,Machines!$B:$F,2,0)),\"\",(VLOOKUP(A66,Machines!$B:$F,2,0)))","v":""},null,null,null,null,null,null,null,null,null,null,null,null,{"$f":"IF(ISNA(VLOOKUP(A66,Machines!$B:$F,4,0)),\"\",(VLOOKUP(A66,Machines!$B:$F,4,0)))","v":""}]
[null,null,null,{"$f":"IF(ISNA(VLOOKUP(A67,Machines!$B:$F,2,0)),\"\",(VLOOKUP(A67,Machines!$B:$F,2,0)))","v":""},null,null,null,null,null,null,null,null,null,null,null,null,{"$f":"IF(ISNA(VLOOKUP(A67,Machines!$B:$F,4,0)),\"\",(VLOOKUP(A67,Machines!$B:$F,4,0)))","v":""}]
[null,null,null,{"$f":"IF(ISNA(VLOOKUP(A68,Machines!$B:$F,2,0)),\"\",(VLOOKUP(A68,Machines!$B:$F,2,0)))","v":""},null,null,null,null,null,null,null,null,null,null,null,null,{"$f":"IF(ISNA(VLOOKUP(A68,Machines!$B:$F,4,0)),\"\",(VLOOKUP(A68,Machines!$B:$F,4,0)))","v":""}]
[null,null,null,{"$f":"IF(ISNA(VLOOKUP(A69,Machines!$B:$F,2,0)),\"\",(VLOOKUP(A69,Machines!$B:$F,2,0)))","v":""},null,null,null,null,null,null,null,null,null,null,null,null,{"$f":"IF(ISNA(VLOOKUP(A69,Machines!$B:$F,4,0)),\"\",(VLOOKUP(A69,Machines!$B:$F,4,0)))","v":""}]
[null,null,null,{"$f":"IF(ISNA(VLOOKUP(A70,Machines!$B:$F,2,0)),\"\",(VLOOKUP(A70,Machines!$B:$F,2,0)))","v":""},null,null,null,null,null,null,null,null,null,null,null,null,{"$f":"IF(ISNA(VLOOKUP(A70,Machines!$B:$F,4,0)),\"\",(VLOOKUP(A70,Machines!$B:$F,4,0)))","v":""}]
[null,null,null,{"$f":"IF(ISNA(VLOOKUP(A71,Machines!$B:$F,2,0)),\"\",(VLOOKUP(A71,Machines!$B:$F,2,0)))","v":""},null,null,null,null,null,null,null,null,null,null,null,null,{"$f":"IF(ISNA(VLOOKUP(A71,Machines!$B:$F,4,0)),\"\",(VLOOKUP(A71,Machines!$B:$F,4,0)))","v":""}]
[null,null,null,{"$f":"IF(ISNA(VLOOKUP(A72,Machines!$B:$F,2,0)),\"\",(VLOOKUP(A72,Machines!$B:$F,2,0)))","v":""},null,null,null,null,null,null,null,null,null,null,null,null,{"$f":"IF(ISNA(VLOOKUP(A72,Machines!$B:$F,4,0)),\"\",(VLOOKUP(A72,Machines!$B:$F,4,0)))","v":""}]
[null,null,null,{"$f":"IF(ISNA(VLOOKUP(A73,Machines!$B:$F,2,0)),\"\",(VLOOKUP(A73,Machines!$B:$F,2,0)))","v":""},null,null,null,null,null,null,null,null,null,null,null,null,{"$f":"IF(ISNA(VLOOKUP(A73,Machines!$B:$F,4,0)),\"\",(VLOOKUP(A73,Machines!$B:$F,4,0)))","v":""}]
[null,null,null,{"$f":"IF(ISNA(VLOOKUP(A74,Machines!$B:$F,2,0)),\"\",(VLOOKUP(A74,Machines!$B:$F,2,0)))","v":""},null,null,null,null,null,null,null,null,null,null,null,null,{"$f":"IF(ISNA(VLOOKUP(A74,Machines!$B:$F,4,0)),\"\",(VLOOKUP(A74,Machines!$B:$F,4,0)))","v":""}]
["CHANTIER :",null,null,null,null,{"$f":"F1","v":0},null,null,null,null,null,null,null,null,null,null,null,null,null,null,"N° CHANTIER :",null,null,null,null,null,{"$f":"AA1","v":0},null,null,null,"JOUR :",null,null,null,{"$f":"AI1","v":"Lundi"},null,null,null,null,null,null,null,null,null,null,null,null,null,null,null,null,"DATES :",null,null,{"$f":"BC1","v":"04-01-16"}]
["MATERIAUX"]
[null,null,null,"Fournisseurs",null,null,null,null,null,null,null,null,null,null,null,null,null,null,"Description des fournitures & matériaux",null,null,null,null,null,null,null,null,null,null,null,null,null,null,null,null,null,null,null,null,null,null,null,null,null,null,null,null,null,null,"Qt totales",null,null,null,"U.",null,"Prix"]
[]
[]
[]
[]
[]
[]
[]
[]
[]
[]
[]
[]
[]
[]
[]
[]
[]
[]
[]
[]
[]
[]
[]
[]
[]
[]
[]
[]
[]
[]
[]
[null,null,null,"RESPONSABLE",null,null,null,null,null,null,null,null,"SIGNATURE",null,null,null,null,null,"DESCRIPTION DES TRAVAUX REALISES CE JOUR",null,null,null,null,null,null,null,null,null,null,null,null,null,null,null,null,null,null,null,null,null,null,null,null,null,null,null,null,null,null,"METEO"]
[null,null,null,"JENNES Loïc"]

{"sheet":"05-01-16","index":11,"n_rows":110,"n_cols":56,"rows_kept":110,"cut":false,"hidden":false,"merged":[[75,0,75,58],[96,49,96,52],[96,53,96,54],[96,55,96,58],[71,30,71,45],[71,46,71,54],[71,55,71,58],[71,0,71,2],[71,3,71,15],[71,16,71,24],[71,25,71,28],[74,0,74,4],[74,5,74,19],[74,20,74,25],[74,26,74,28],[74,30,74,32],[74,34,74,47],[74,51,74,53],[74,54,74,58],[93,49,93,52],[93,53,93,54],[93,55,93,58],[94,49,94,52],[94,53,94,54],[109,3,111,11],[109,12,111,17],[109,18,109,48],[111,18,111,48],[108,3,108,11],[108,12,108,17],[108,18,108,48],[108,49,108,58],[109,49,111,58],[110,18,110,48],[107,3,107,17],[107,18,107,48],[106,3,106,17],[106,18,106,48],[102,3,102,17],[102,18,102,48],[105,3,105,17],[105,18,105,48],[103,3,103,17],[103,18,103,48],[99,18,99,48],[100,3,100,17],[100,18,100,48],[96,3,96,17],[96,18,96,48],[104,3,104,17],[104,18,104,48],[98,3,98,17],[98,18,98,48],[97,3,97,17],[97,18,97,48],[101,3,101,17],[101,18,101,48],[99,3,99,17],[94,55,94,58],[95,49,95,52],[95,53,95,54],[95,55,95,58],[88,3,88,17],[88,18,88,48],[83,3,83,17],[83,18,83,48],[84,3,84,17],[84,18,84,48],[95,3,95,17],[95,18,95,48],[85,3,85,17],[85,18,85,48],[86,3,86,17],[86,18,86,48],[93,18,93,48],[94,3,94,17],[94,18,94,48],[89,3,89,17],[89,18,89,48],[90,3,90,17],[90,18,90,48],[91,3,91,17],[91,18,91,48],[92,3,92,17],[92,18,92,48],[93,3,93,17],[80,3,80,17],[80,18,80,48],[78,3,78,17],[78,18,78,48],[87,3,87,17],[87,18,87,48],[81,3,81,17],[81,18,81,48],[82,3,82,17],[82,18,82,48],[76,3,76,17],[76,18,76,48],[77,3,77,17],[77,18,77,48],[79,3,79,17],[79,18,79,48],[76,49,76,52],[76,53,76,54],[76,55,76,58],[77,49,77,52],[77,53,77,54],[77,55,77,58],[78,49,78,52],[78,53,78,54],[78,55,78,58],[79,49,79,52],[79,53,79,54],[79,55,79,58],[0,0,0,4],[0,5,0,19],[0,20,0,25],[0,26,0,28],[0,30,0,32],[0,34,0,47],[0,51,0,53],[0,54,0,58],[1,0,1,28],[1,29,36,29],[1,30,1,58],[2,0,2,4],[2,7,2,10],[2,13,2,16],[2,19,2,22],[2,25,2,28],[2,30,2,34],[2,36,2,39],[2,42,2,45],[3,0,3,15],[3,16,3,18],[3,19,3,21],[3,22,3,24],[3,25,3,28],[3,30,3,32],[3,33,3,45],[3,46,3,54],[3,55,3,58],[4,0,4,15],[4,16,4,18],[4,19,4,21],[4,22,4,24],[4,25,4,28],[4,30,4,32],[4,46,4,54],[4,55,4,58],[4,33,4,45],[5,0,5,15],[5,16,5,18],[5,19,5,21],[5,22,5,24],[5,25,5,28],[5,30,5,32],[5,33,5,45],[5,46,5,54],[5,55,5,58],[6,0,6,15],[6,16,6,18],[6,19,6,21],[6,22,6,24],[6,25,6,28],[6,30,6,32],[6,33,6,45],[6,46,6,54],[6,55,6,58],[7,0,7,15],[7,16,7,18],[7,19,7,21],[7,22,7,24],[7,25,7,28],[7,30,7,32],[7,33,7,45],[7,46,7,54],[7,55,7,58],[8,0,8,15],[8,16,8,18],[8,19,8,21],[8,22,8,24],[8,25,8,28],[8,30,8,32],[8,33,8,45],[8,46,8,54],[8,55,8,58],[9,0,9,15],[9,16,9,18],[9,19,9,21],[9,22,9,24],[9,25,9,28],[9,30,9,32],[9,33,9,45],[9,46,9,54],[9,55,9,58],[10,0,10,15],[10,16,10,18],[10,19,10,21],[10,22,10,24],[10,25,10,28],[10,30,10,32],[10,33,10,45],[10,46,10,54],[10,55,10,58],[11,0,11,15],[11,16,11,18],[11,19,11,21],[11,22,11,24],[11,25,11,28],[11,30,11,32],[11,33,11,45],[11,46,11,54],[11,55,11,58],[12,0,12,15],[12,16,12,18],[12,19,12,21],[12,22,12,24],[12,25,12,28],[12,30,12,32],[12,33,12,45],[12,46,12,54],[12,55,12,58],[13,0,13,15],[13,16,13,18],[13,19,13,21],[13,22,13,24],[13,25,13,28],[13,30,13,32],[13,33,13,45],[13,46,13,54],[13,55,13,58],[14,0,14,15],[14,16,14,18],[14,19,14,21],[14,22,14,24],[14,25,14,28],[14,30,14,32],[14,33,14,45],[14,46,14,54],[14,55,14,58],[15,0,15,15],[15,16,15,18],[15,19,15,21],[15,22,15,24],[15,25,15,28],[15,30,15,32],[15,33,15,45],[15,46,15,54],[15,55,15,58],[16,0,16,15],[16,16,16,18],[16,19,16,21],[16,22,16,24],[16,25,16,28],[16,30,16,32],[16,33,16,45],[16,46,16,54],[16,55,16,58],[17,0,17,15],[17,16,17,18],[17,19,17,21],[17,22,17,24],[17,25,17,28],[17,30,17,32],[17,33,17,45],[17,46,17,54],[17,55,17,58],[18,0,18,15],[18,16,18,18],[18,19,18,21],[18,22,18,24],[18,25,18,28],[18,30,18,32],[18,33,18,45],[18,46,18,54],[18,55,18,58],[19,0,19,15],[19,16,19,18],[19,19,19,21],[19,22,19,24],[19,25,19,28],[19,30,19,32],[19,33,19,45],[19,46,19,54],[19,55,19,58],[20,0,20,15],[20,16,20,18],[20,19,20,21],[20,22,20,24],[20,25,20,28],[20,30,20,32],[20,33,20,45],[20,46,20,54],[20,55,20,58],[21,0,21,15],[21,16,21,18],[21,19,21,21],[21,22,21,24],[21,25,21,28],[21,30,21,32],[21,33,21,45],[21,46,21,54],[21,55,21,58],[22,0,22,15],[22,16,22,18],[22,19,22,21],[22,22,22,24],[22,25,22,28],[22,30,22,32],[22,33,22,45],[22,46,22,54],[22,55,22,58],[23,0,23,15],[23,16,23,18],[23,19,23,21],[23,22,23,24],[23,25,23,28],[23,30,23,32],[23,33,23,45],[23,46,23,54],[23,55,23,58],[24,0,24,15],[24,16,24,18],[24,19,24,21],[24,22,24,24],[24,25,24,28],[24,30,24,32],[24,33,24,45],[24,46,24,54],[24,55,24,58],[25,0,25,15],[25,16,25,18],[25,19,25,21],[25,22,25,24],[25,25,25,28],[25,30,25,32],[25,33,25,45],[25,46,25,54],[25,55,25,58],[26,0,26,15],[26,16,26,18],[26,19,26,21],[26,22,26,24],[26,25,26,28],[26,30,26,32],[26,33,26,45],[26,46,26,54],[26,55,26,58],[27,0,27,15],[27,16,27,18],[27,19,27,21],[27,22,27,24],[27,25,27,28],[27,30,27,32],[27,33,27,45],[27,46,27,54],[27,55,27,58],[28,0,28,15],[28,16,28,18],[28,19,28,21],[28,22,28,24],[28,25,28,28],[28,30,28,32],[28,33,28,45],[28,46,28,54],[28,55,28,58],[29,0,29,15],[29,16,29,18],[29,19,29,21],[29,22,29,24],[29,25,29,28],[29,30,29,32],[29,33,29,45],[29,46,29,54],[29,55,29,58],[30,0,30,15],[30,16,30,18],[30,19,30,21],[30,22,30,24],[30,25,30,28],[30,30,30,32],[30,33,30,45],[30,46,30,54],[30,55,30,58],[31,0,31,15],[31,16,31,18],[31,19,31,21],[31,22,31,24],[31,25,31,28],[31,30,31,32],[31,33,31,45],[31,46,31,54],[31,55,31,58],[32,0,32,15],[32,16,32,18],[32,19,32,21],[32,22,32,24],[32,25,32,28],[32,30,32,32],[32,33,32,45],[32,46,32,54],[32,55,32,58],[33,0,33,15],[33,16,33,18],[33,19,33,21],[33,22,33,24],[33,25,33,28],[33,30,33,32],[33,33,33,45],[33,46,33,54],[33,55,33,58],[34,0,34,15],[34,16,34,18],[34,19,34,21],[34,22,34,24],[34,25,34,28],[34,30,34,32],[34,33,34,45],[34,46,34,54],[34,55,34,58],[35,0,35,15],[35,16,35,18],[35,19,35,21],[35,22,35,24],[35,25,35,28],[35,30,35,32],[35,33,35,45],[35,46,35,54],[35,55,35,58],[36,0,36,15],[36,16,36,18],[36,19,36,21],[36,22,36,24],[36,25,36,28],[36,30,36,32],[36,33,36,45],[36,46,36,54],[36,55,36,58],[37,0,37,4],[37,5,37,19],[37,20,37,25],[37,26,37,28],[37,30,37,32],[37,34,37,47],[37,51,37,53],[37,54,37,58],[38,0,38,28],[38,29,73,29],[38,30,38,58],[39,0,39,4],[39,6,39,9],[39,12,39,15],[40,0,40,2],[40,3,40,15],[40,16,40,24],[40,25,40,28],[40,30,40,45],[40,46,40,54],[40,55,40,58],[41,0,41,2],[41,3,41,15],[41,16,41,24],[41,25,41,28],[41,30,41,45],[41,46,41,54],[41,55,41,58],[42,0,42,2],[42,3,42,15],[42,16,42,24],[42,25,42,28],[42,30,42,45],[42,46,42,54],[42,55,42,58],[43,0,43,2],[43,3,43,15],[43,16,43,24],[43,25,43,28],[43,30,43,45],[43,46,43,54],[43,55,43,58],[44,0,44,2],[44,3,44,15],[44,16,44,24],[44,25,44,28],[44,30,44,45],[44,46,44,54],[44,55,44,58],[45,0,45,2],[45,3,45,15],[45,16,45,24],[45,25,45,28],[45,30,45,45],[45,46,45,54],[45,55,45,58],[46,0,46,2],[46,3,46,15],[46,16,46,24],[46,25,46,28],[46,30,46,45],[46,46,46,54],[46,55,46,58],[47,0,47,2],[47,3,47,15],[47,16,47,24],[47,25,47,28],[47,30,47,45],[47,46,47,54],[47,55,47,58],[48,0,48,2],[48,3,48,15],[48,16,48,24],[48,25,48,28],[48,30,48,45],[48,46,48,54],[48,55,48,58],[49,0,49,2],[49,3,49,15],[49,16,49,24],[49,25,49,28],[49,30,49,45],[49,46,49,54],[49,55,49,58],[50,0,50,2],[50,3,50,15],[50,16,50,24],[50,25,50,28],[50,30,50,45],[50,46,50,54],[50,55,50,58],[51,0,51,2],[51,3,51,15],[51,16,51,24],[51,25,51,28],[51,30,51,45],[51,46,51,54],[51,55,51,58],[52,0,52,2],[52,3,52,15],[52,16,52,24],[52,25,52,28],[52,30,52,45],[52,46,52,54],[52,55,52,58],[53,0,53,2],[53,3,53,15],[53,16,53,24],[53,25,53,28],[53,30,53,45],[53,46,53,54],[53,55,53,58],[54,0,54,2],[54,3,54,15],[54,16,54,24],[54,25,54,28],[54,30,54,45],[54,46,54,54],[54,55,54,58],[55,0,55,2],[55,3,55,15],[55,16,55,24],[55,25,55,28],[55,30,55,45],[55,46,55,54],[55,55,55,58],[56,0,56,2],[56,3,56,15],[56,16,56,24],[56,25,56,28],[56,30,56,45],[56,46,56,54],[56,55,56,58],[57,0,57,2],[57,3,57,15],[57,16,57,24],[57,25,57,28],[57,30,57,45],[57,46,57,54],[57,55,57,58],[58,0,58,2],[58,3,58,15],[58,16,58,24],[58,25,58,28],[58,30,58,45],[58,46,58,54],[58,55,58,58],[59,0,59,2],[59,3,59,15],[59,16,59,24],[59,25,59,28],[59,30,59,45],[59,46,59,54],[59,55,59,58],[60,0,60,2],[60,3,60,15],[60,16,60,24],[60,25,60,28],[60,30,60,45],[60,46,60,54],[60,55,60,58],[61,0,61,2],[61,3,61,15],[61,16,61,24],[61,25,61,28],[61,30,61,45],[61,46,61,54],[61,55,61,58],[62,0,62,2],[62,3,62,15],[62,16,62,24],[62,25,62,28],[62,30,62,45],[62,46,62,54],[62,55,62,58],[63,0,63,2],[63,3,63,15],[63,16,63,24],[63,25,63,28],[63,30,63,45],[63,46,63,54],[63,55,63,58],[64,0,64,2],[64,3,64,15],[64,16,64,24],[64,25,64,28],[64,30,64,45],[64,46,64,54],[64,55,64,58],[65,0,65,2],[65,3,65,15],[65,16,65,24],[65,25,65,28],[65,30,65,45],[65,46,65,54],[65,55,65,58],[66,0,66,2],[66,3,66,15],[66,16,66,24],[66,25,66,28],[66,30,66,45],[66,46,66,54],[66,55,66,58],[67,0,67,2],[67,3,67,15],[67,16,67,24],[67,25,67,28],[67,30,67,45],[67,46,67,54],[67,55,67,58],[68,0,68,2],[68,3,68,15],[68,16,68,24],[68,25,68,28],[68,30,68,45],[68,46,68,54],[68,55,68,58],[69,0,69,2],[69,3,69,15],[69,16,69,24],[69,25,69,28],[69,30,69,45],[69,46,69,54],[69,55,69,58],[70,0,70,2],[70,3,70,15],[70,16,70,24],[70,25,70,28],[70,30,70,45],[70,46,70,54],[70,55,70,58],[72,0,72,2],[72,3,72,15],[72,16,72,24],[72,25,72,28],[72,30,72,45],[72,46,72,54],[72,55,72,58],[73,0,73,2],[73,3,73,15],[73,16,73,24],[73,25,73,28],[73,30,73,45],[73,46,73,54],[73,55,73,58],[80,55,80,58],[81,49,81,52],[81,53,81,54],[81,55,81,58],[82,49,82,52],[82,53,82,54],[82,55,82,58],[83,49,83,52],[83,53,83,54],[83,55,83,58],[80,49,80,52],[80,53,80,54],[84,49,84,52],[84,53,84,54],[84,55,84,58],[85,49,85,52],[85,53,85,54],[85,55,85,58],[86,49,86,52],[86,53,86,54],[86,55,86,58],[87,49,87,52],[87,53,87,54],[87,55,87,58],[88,49,88,52],[88,53,88,54],[88,55,88,58],[89,49,89,52],[89,53,89,54],[89,55,89,58],[90,49,90,52],[90,53,90,54],[90,55,90,58],[91,49,91,52],[91,53,91,54],[91,55,91,58],[92,49,92,52],[92,53,92,54],[92,55,92,58],[97,49,97,52],[97,53,97,54],[97,55,97,58],[98,49,98,52],[98,53,98,54],[98,55,98,58],[99,49,99,52],[99,53,99,54],[99,55,99,58],[100,49,100,52],[100,53,100,54],[100,55,100,58],[101,49,101,52],[101,53,101,54],[101,55,101,58],[102,49,102,52],[102,53,102,54],[102,55,102,58],[106,49,106,52],[106,53,106,54],[106,55,106,58],[107,49,107,52],[107,53,107,54],[107,55,107,58],[103,49,103,52],[103,53,103,54],[103,55,103,58],[104,49,104,52],[104,53,104,54],[104,55,104,58],[105,49,105,52],[105,53,105,54],[105,55,105,58]]}
["CHANTIER :",null,null,null,null,{"$f":"'01-01-16'!F1","v":0},null,null,null,null,null,null,null,null,null,null,null,null,null,null,"N° CHANTIER :",null,null,null,null,null,{"$f":"'01-01-16'!AA1","v":0},null,null,null,"JOUR :",null,null,null,{"$f":" CHOOSE(WEEKDAY(BC1,2),\"Lundi\",\"Mardi\",\"Mercredi\",\"Jeudi\",\"Vendredi\",\"Samedi\",\"Dimanche\")","v":"Mardi"},null,null,null,null,null,null,null,null,null,null,null,null,null,null,null,null,"DATES :",null,null,{"$f":"MID(CELL(\"nomfichier\",A1),FIND(\"]\",CELL(\"nomfichier\",A1),1)+1,30)","v":"05-01-16"}]
["MAIN D'ŒUVRE",null,null,null,null,null,null,null,null,null,null,null,null,null,null,null,null,null,null,null,null,null,null,null,null,null,null,null,null,null,"CAMIONS"]
["Légende :",null,null,null,null,null,"Co",".= Congé",null,null,null,null,"M",".= Malade",null,null,null,null,"Cho",".= Chômage",null,null,null,null,"Va",".= Vacance",null,null,null,null,"Légende :",null,null,null,null,"Pa",".= Panne",null,null,null,null,"Ent",".= Entretien"]
["NOM - Prénom du travailleur",null,null,null,null,null,null,null,null,null,null,null,null,null,null,null,"Début journée",null,null,"Arrêt repas",null,null,"Fin journée",null,null,"Heures prestées",null,null,null,null,"N°",null,null,"Description du matériel",null,null,null,null,null,null,null,null,null,null,null,null,"Nom de l'opérateur",null,null,null,null,null,null,null,null,"Heures"]
[null,null,null,null,null,null,null,null,null,null,null,null,null,null,null,null,null,null,null,null,null,null,null,null,null,{"$f":"W5-Q5-T5","v":0},null,null,null,null,null,null,null,{"$f":"IF(ISNA(VLOOKUP(AE5,Camions!$B:$F,2,0)),\"\",(VLOOKUP(AE5,Camions!$B:$F,2,0)))","v":""},null,null,null,null,null,null,null,null,null,null,null,null,{"$f":"IF(ISNA(VLOOKUP(AE5,Camions!$B:$F,4,0)),\"\",(VLOOKUP(AE5,Camions!$B:$F,4,0)))","v":""}]
[null,null,null,null,null,null,null,null,null,null,null,null,null,null,null,null,null,null,null,null,null,null,null,null,null,{"$f":"W6-Q6-T6","v":0},null,null,null,null,null,null,null,{"$f":"IF(ISNA(VLOOKUP(AE6,Camions!$B:$F,2,0)),\"\",(VLOOKUP(AE6,Camions!$B:$F,2,0)))","v":""},null,null,null,null,null,null,null,null,null,null,null,null,{"$f":"IF(ISNA(VLOOKUP(AE6,Camions!$B:$F,4,0)),\"\",(VLOOKUP(AE6,Camions!$B:$F,4,0)))","v":""}]
[null,null,null,null,null,null,null,null,null,null,null,null,null,null,null,null,null,null,null,null,null,null,null,null,null,0,null,null,null,null,null,null,null,{"$f":"IF(ISNA(VLOOKUP(AE7,Camions!$B:$F,2,0)),\"\",(VLOOKUP(AE7,Camions!$B:$F,2,0)))","v":""},null,null,null,null,null,null,null,null,null,null,null,null,{"$f":"IF(ISNA(VLOOKUP(AE7,Camions!$B:$F,4,0)),\"\",(VLOOKUP(AE7,Camions!$B:$F,4,0)))","v":""}]
[null,null,null,null,null,null,null,null,null,null,null,null,null,null,null,null,null,null,null,null,null,null,null,null,null,0,null,null,null,null,null,null,null,{"$f":"IF(ISNA(VLOOKUP(AE8,Camions!$B:$F,2,0)),\"\",(VLOOKUP(AE8,Camions!$B:$F,2,0)))","v":""},null,null,null,null,null,null,null,null,null,null,null,null,{"$f":"IF(ISNA(VLOOKUP(AE8,Camions!$B:$F,4,0)),\"\",(VLOOKUP(AE8,Camions!$B:$F,4,0)))","v":""}]
[null,null,null,null,null,null,null,null,null,null,null,null,null,null,null,null,null,null,null,null,null,null,null,null,null,0,null,null,null,null,null,null,null,{"$f":"IF(ISNA(VLOOKUP(AE9,Camions!$B:$F,2,0)),\"\",(VLOOKUP(AE9,Camions!$B:$F,2,0)))","v":""},null,null,null,null,null,null,null,null,null,null,null,null,{"$f":"IF(ISNA(VLOOKUP(AE9,Camions!$B:$F,4,0)),\"\",(VLOOKUP(AE9,Camions!$B:$F,4,0)))","v":""}]
[null,null,null,null,null,null,null,null,null,null,null,null,null,null,null,null,null,null,null,null,null,null,null,null,null,0,null,null,null,null,null,null,null,{"$f":"IF(ISNA(VLOOKUP(AE10,Camions!$B:$F,2,0)),\"\",(VLOOKUP(AE10,Camions!$B:$F,2,0)))","v":""},null,null,null,null,null,null,null,null,null,null,null,null,{"$f":"IF(ISNA(VLOOKUP(AE10,Camions!$B:$F,4,0)),\"\",(VLOOKUP(AE10,Camions!$B:$F,4,0)))","v":""}]
[null,null,null,null,null,null,null,null,null,null,null,null,null,null,null,null,null,null,null,null,null,null,null,null,null,0,null,null,null,null,null,null,null,{"$f":"IF(ISNA(VLOOKUP(AE11,Camions!$B:$F,2,0)),\"\",(VLOOKUP(AE11,Camions!$B:$F,2,0)))","v":""},null,null,null,null,null,null,null,null,null,null,null,null,{"$f":"IF(ISNA(VLOOKUP(AE11,Camions!$B:$F,4,0)),\"\",(VLOOKUP(AE11,Camions!$B:$F,4,0)))","v":""}]
[null,null,null,null,null,null,null,null,null,null,null,null,null,null,null,null,null,null,null,null,null,null,null,null,null,0,null,null,null,null,null,null,null,{"$f":"IF(ISNA(VLOOKUP(AE12,Camions!$B:$F,2,0)),\"\",(VLOOKUP(AE12,Camions!$B:$F,2,0)))","v":""},null,null,null,null,null,null,null,null,null,null,null,null,{"$f":"IF(ISNA(VLOOKUP(AE12,Camions!$B:$F,4,0)),\"\",(VLOOKUP(AE12,Camions!$B:$F,4,0)))","v":""}]
[null,null,null,null,null,null,null,null,null,null,null,null,null,null,null,null,null,null,null,null,null,null,null,null,null,0,null,null,null,null,null,null,null,{"$f":"IF(ISNA(VLOOKUP(AE13,Camions!$B:$F,2,0)),\"\",(VLOOKUP(AE13,Camions!$B:$F,2,0)))","v":""},null,null,null,null,null,null,null,null,null,null,null,null,{"$f":"IF(ISNA(VLOOKUP(AE13,Camions!$B:$F,4,0)),\"\",(VLOOKUP(AE13,Camions!$B:$F,4,0)))","v":""}]
[null,null,null,null,null,null,null,null,null,null,null,null,null,null,null,null,null,null,null,null,null,null,null,null,null,0,null,null,null,null,null,null,null,{"$f":"IF(ISNA(VLOOKUP(AE14,Camions!$B:$F,2,0)),\"\",(VLOOKUP(AE14,Camions!$B:$F,2,0)))","v":""},null,null,null,null,null,null,null,null,null,null,null,null,{"$f":"IF(ISNA(VLOOKUP(AE14,Camions!$B:$F,4,0)),\"\",(VLOOKUP(AE14,Camions!$B:$F,4,0)))","v":""}]
[null,null,null,null,null,null,null,null,null,null,null,null,null,null,null,null,null,null,null,null,null,null,null,null,null,0,null,null,null,null,null,null,null,{"$f":"IF(ISNA(VLOOKUP(AE15,Camions!$B:$F,2,0)),\"\",(VLOOKUP(AE15,Camions!$B:$F,2,0)))","v":""},null,null,null,null,null,null,null,null,null,null,null,null,{"$f":"IF(ISNA(VLOOKUP(AE15,Camions!$B:$F,4,0)),\"\",(VLOOKUP(AE15,Camions!$B:$F,4,0)))","v":""}]
[null,null,null,null,null,null,null,null,null,null,null,null,null,null,null,null,null,null,null,null,null,null,null,null,null,0,null,null,null,null,null,null,null,{"$f":"IF(ISNA(VLOOKUP(AE16,Camions!$B:$F,2,0)),\"\",(VLOOKUP(AE16,Camions!$B:$F,2,0)))","v":""},null,null,null,null,null,null,null,null,null,null,null,null,{"$f":"IF(ISNA(VLOOKUP(AE16,Camions!$B:$F,4,0)),\"\",(VLOOKUP(AE16,Camions!$B:$F,4,0)))","v":""}]
[null,null,null,null,null,null,null,null,null,null,null,null,null,null,null,null,null,null,null,null,null,null,null,null,null,0,null,null,null,null,null,null,null,{"$f":"IF(ISNA(VLOOKUP(AE17,Camions!$B:$F,2,0)),\"\",(VLOOKUP(AE17,Camions!$B:$F,2,0)))","v":""},null,null,null,null,null,null,null,null,null,null,null,null,{"$f":"IF(ISNA(VLOOKUP(AE17,Camions!$B:$F,4,0)),\"\",(VLOOKUP(AE17,Camions!$B:$F,4,0)))","v":""}]
[null,null,null,null,null,null,null,null,null,null,null,null,null,null,null,null,null,null,null,null,null,null,null,null,null,0,null,null,null,null,null,null,null,{"$f":"IF(ISNA(VLOOKUP(AE18,Camions!$B:$F,2,0)),\"\",(VLOOKUP(AE18,Camions!$B:$F,2,0)))","v":""},null,null,null,null,null,null,null,null,null,null,null,null,{"$f":"IF(ISNA(VLOOKUP(AE18,Camions!$B:$F,4,0)),\"\",(VLOOKUP(AE18,Camions!$B:$F,4,0)))","v":""}]
[null,null,null,null,null,null,null,null,null,null,null,null,null,null,null,null,null,null,null,null,null,null,null,null,null,0,null,null,null,null,null,null,null,{"$f":"IF(ISNA(VLOOKUP(AE19,Camions!$B:$F,2,0)),\"\",(VLOOKUP(AE19,Camions!$B:$F,2,0)))","v":""},null,null,null,null,null,null,null,null,null,null,null,null,{"$f":"IF(ISNA(VLOOKUP(AE19,Camions!$B:$F,4,0)),\"\",(VLOOKUP(AE19,Camions!$B:$F,4,0)))","v":""}]
[null,null,null,null,null,null,null,null,null,null,null,null,null,null,null,null,null,null,null,null,null,null,null,null,null,0,null,null,null,null,null,null,null,{"$f":"IF(ISNA(VLOOKUP(AE20,Camions!$B:$F,2,0)),\"\",(VLOOKUP(AE20,Camions!$B:$F,2,0)))","v":""},null,null,null,null,null,null,null,null,null,null,null,null,{"$f":"IF(ISNA(VLOOKUP(AE20,Camions!$B:$F,4,0)),\"\",(VLOOKUP(AE20,Camions!$B:$F,4,0)))","v":""}]
[null,null,null,null,null,null,null,null,null,null,null,null,null,null,null,null,null,null,null,null,null,null,null,null,null,0,null,null,null,null,null,null,null,{"$f":"IF(ISNA(VLOOKUP(AE21,Camions!$B:$F,2,0)),\"\",(VLOOKUP(AE21,Camions!$B:$F,2,0)))","v":""},null,null,null,null,null,null,null,null,null,null,null,null,{"$f":"IF(ISNA(VLOOKUP(AE21,Camions!$B:$F,4,0)),\"\",(VLOOKUP(AE21,Camions!$B:$F,4,0)))","v":""}]
[null,null,null,null,null,null,null,null,null,null,null,null,null,null,null,null,null,null,null,null,null,null,null,null,null,0,null,null,null,null,null,null,null,{"$f":"IF(ISNA(VLOOKUP(AE22,Camions!$B:$F,2,0)),\"\",(VLOOKUP(AE22,Camions!$B:$F,2,0)))","v":""},null,null,null,null,null,null,null,null,null,null,null,null,{"$f":"IF(ISNA(VLOOKUP(AE22,Camions!$B:$F,4,0)),\"\",(VLOOKUP(AE22,Camions!$B:$F,4,0)))","v":""}]
[null,null,null,null,null,null,null,null,null,null,null,null,null,null,null,null,null,null,null,null,null,null,null,null,null,0,null,null,null,null,null,null,null,{"$f":"IF(ISNA(VLOOKUP(AE23,Camions!$B:$F,2,0)),\"\",(VLOOKUP(AE23,Camions!$B:$F,2,0)))","v":""},null,null,null,null,null,null,null,null,null,null,null,null,{"$f":"IF(ISNA(VLOOKUP(AE23,Camions!$B:$F,4,0)),\"\",(VLOOKUP(AE23,Camions!$B:$F,4,0)))","v":""}]
[null,null,null,null,null,null,null,null,null,null,null,null,null,null,null,null,null,null,null,null,null,null,null,null,null,0,null,null,null,null,null,null,null,{"$f":"IF(ISNA(VLOOKUP(AE24,Camions!$B:$F,2,0)),\"\",(VLOOKUP(AE24,Camions!$B:$F,2,0)))","v":""},null,null,null,null,null,null,null,null,null,null,null,null,{"$f":"IF(ISNA(VLOOKUP(AE24,Camions!$B:$F,4,0)),\"\",(VLOOKUP(AE24,Camions!$B:$F,4,0)))","v":""}]
[null,null,null,null,null,null,null,null,null,null,null,null,null,null,null,null,null,null,null,null,null,null,null,null,null,0,null,null,null,null,null,null,null,{"$f":"IF(ISNA(VLOOKUP(AE25,Camions!$B:$F,2,0)),\"\",(VLOOKUP(AE25,Camions!$B:$F,2,0)))","v":""},null,null,null,null,null,null,null,null,null,null,null,null,{"$f":"IF(ISNA(VLOOKUP(AE25,Camions!$B:$F,4,0)),\"\",(VLOOKUP(AE25,Camions!$B:$F,4,0)))","v":""}]
[null,null,null,null,null,null,null,null,null,null,null,null,null,null,null,null,null,null,null,null,null,null,null,null,null,0,null,null,null,null,null,null,null,{"$f":"IF(ISNA(VLOOKUP(AE26,Camions!$B:$F,2,0)),\"\",(VLOOKUP(AE26,Camions!$B:$F,2,0)))","v":""},null,null,null,null,null,null,null,null,null,null,null,null,{"$f":"IF(ISNA(VLOOKUP(AE26,Camions!$B:$F,4,0)),\"\",(VLOOKUP(AE26,Camions!$B:$F,4,0)))","v":""}]
[null,null,null,null,null,null,null,null,null,null,null,null,null,null,null,null,null,null,null,null,null,null,null,null,null,0,null,null,null,null,null,null,null,{"$f":"IF(ISNA(VLOOKUP(AE27,Camions!$B:$F,2,0)),\"\",(VLOOKUP(AE27,Camions!$B:$F,2,0)))","v":""},null,null,null,null,null,null,null,null,null,null,null,null,{"$f":"IF(ISNA(VLOOKUP(AE27,Camions!$B:$F,4,0)),\"\",(VLOOKUP(AE27,Camions!$B:$F,4,0)))","v":""}]
[null,null,null,null,null,null,null,null,null,null,null,null,null,null,null,null,null,null,null,null,null,null,null,null,null,0,null,null,null,null,null,null,null,{"$f":"IF(ISNA(VLOOKUP(AE28,Camions!$B:$F,2,0)),\"\",(VLOOKUP(AE28,Camions!$B:$F,2,0)))","v":""},null,null,null,null,null,null,null,null,null,null,null,null,{"$f":"IF(ISNA(VLOOKUP(AE28,Camions!$B:$F,4,0)),\"\",(VLOOKUP(AE28,Camions!$B:$F,4,0)))","v":""}]
[null,null,null,null,null,null,null,null,null,null,null,null,null,null,null,null,null,null,null,null,null,null,null,null,null,0,null,null,null,null,null,null,null,{"$f":"IF(ISNA(VLOOKUP(AE29,Camions!$B:$F,2,0)),\"\",(VLOOKUP(AE29,Camions!$B:$F,2,0)))","v":""},null,null,null,null,null,null,null,null,null,null,null,null,{"$f":"IF(ISNA(VLOOKUP(AE29,Camions!$B:$F,4,0)),\"\",(VLOOKUP(AE29,Camions!$B:$F,4,0)))","v":""}]
[null,null,null,null,null,null,null,null,null,null,null,null,null,null,null,null,null,null,null,null,null,null,null,null,null,0,null,null,null,null,null,null,null,{"$f":"IF(ISNA(VLOOKUP(AE30,Camions!$B:$F,2,0)),\"\",(VLOOKUP(AE30,Camions!$B:$F,2,0)))","v":""},null,null,null,null,null,null,null,null,null,null,null,null,{"$f":"IF(ISNA(VLOOKUP(AE30,Camions!$B:$F,4,0)),\"\",(VLOOKUP(AE30,Camions!$B:$F,4,0)))","v":""}]
[null,null,null,null,null,null,null,null,null,null,null,null,null,null,null,null,null,null,null,null,null,null,null,null,null,0,null,null,null,null,null,null,null,{"$f":"IF(ISNA(VLOOKUP(AE31,Camions!$B:$F,2,0)),\"\",(VLOOKUP(AE31,Camions!$B:$F,2,0)))","v":""},null,null,null,null,null,null,null,null,null,null,null,null,{"$f":"IF(ISNA(VLOOKUP(AE31,Camions!$B:$F,4,0)),\"\",(VLOOKUP(AE31,Camions!$B:$F,4,0)))","v":""}]
[null,null,null,null,null,null,null,null,null,null,null,null,null,null,null,null,null,null,null,null,null,null,null,null,null,0,null,null,null,null,null,null,null,{"$f":"IF(ISNA(VLOOKUP(AE32,Camions!$B:$F,2,0)),\"\",(VLOOKUP(AE32,Camions!$B:$F,2,0)))","v":""},null,null,null,null,null,null,null,null,null,null,null,null,{"$f":"IF(ISNA(VLOOKUP(AE32,Camions!$B:$F,4,0)),\"\",(VLOOKUP(AE32,Camions!$B:$F,4,0)))","v":""}]
[null,null,null,null,null,null,null,null,null,null,null,null,null,null,null,null,null,null,null,null,null,null,null,null,null,0,null,null,null,null,null,null,null,{"$f":"IF(ISNA(VLOOKUP(AE33,Camions!$B:$F,2,0)),\"\",(VLOOKUP(AE33,Camions!$B:$F,2,0)))","v":""},null,null,null,null,null,null,null,null,null,null,null,null,{"$f":"IF(ISNA(VLOOKUP(AE33,Camions!$B:$F,4,0)),\"\",(VLOOKUP(AE33,Camions!$B:$F,4,0)))","v":""}]
[null,null,null,null,null,null,null,null,null,null,null,null,null,null,null,null,null,null,null,null,null,null,null,null,null,0,null,null,null,null,null,null,null,{"$f":"IF(ISNA(VLOOKUP(AE34,Camions!$B:$F,2,0)),\"\",(VLOOKUP(AE34,Camions!$B:$F,2,0)))","v":""},null,null,null,null,null,null,null,null,null,null,null,null,{"$f":"IF(ISNA(VLOOKUP(AE34,Camions!$B:$F,4,0)),\"\",(VLOOKUP(AE34,Camions!$B:$F,4,0)))","v":""}]
[null,null,null,null,null,null,null,null,null,null,null,null,null,null,null,null,null,null,null,null,null,null,null,null,null,0,null,null,null,null,null,null,null,{"$f":"IF(ISNA(VLOOKUP(AE35,Camions!$B:$F,2,0)),\"\",(VLOOKUP(AE35,Camions!$B:$F,2,0)))","v":""},null,null,null,null,null,null,null,null,null,null,null,null,{"$f":"IF(ISNA(VLOOKUP(AE35,Camions!$B:$F,4,0)),\"\",(VLOOKUP(AE35,Camions!$B:$F,4,0)))","v":""}]
[null,null,null,null,null,null,null,null,null,null,null,null,null,null,null,null,null,null,null,null,null,null,null,null,null,0,null,null,null,null,null,null,null,{"$f":"IF(ISNA(VLOOKUP(AE36,Camions!$B:$F,2,0)),\"\",(VLOOKUP(AE36,Camions!$B:$F,2,0)))","v":""},null,null,null,null,null,null,null,null,null,null,null,null,{"$f":"IF(ISNA(VLOOKUP(AE36,Camions!$B:$F,4,0)),\"\",(VLOOKUP(AE36,Camions!$B:$F,4,0)))","v":""}]
[null,null,null,null,null,null,null,null,null,null,null,null,null,null,null,null,null,null,null,null,null,null,null,null,null,0,null,null,null,null,null,null,null,{"$f":"IF(ISNA(VLOOKUP(AE37,Camions!$B:$F,2,0)),\"\",(VLOOKUP(AE37,Camions!$B:$F,2,0)))","v":""},null,null,null,null,null,null,null,null,null,null,null,null,{"$f":"IF(ISNA(VLOOKUP(AE36,Camions!$B:$F,4,0)),\"\",(VLOOKUP(AE36,Camions!$B:$F,4,0)))","v":""}]
["CHANTIER :",null,null,null,null,{"$f":"F1","v":0},null,null,null,null,null,null,null,null,null,null,null,null,null,null,"N° CHANTIER :",null,null,null,null,null,{"$f":"AA1","v":0},null,null,null,"JOUR :",null,null,null,{"$f":"AI1","v":"Mardi"},null,null,null,null,null,null,null,null,null,null,null,null,null,null,null,null,"DATES :",null,null,{"$f":"BC1","v":"05-01-16"}]
["MATERIEL",null,null,null,null,null,null,null,null,null,null,null,null,null,null,null,null,null,null,null,null,null,null,null,null,null,null,null,null,null,"SOUS-TRAITANTS"]
["Légende :",null,null,null,null,"Pa",".= Panne",null,null,null,null,"Ent",".= Entretien"]
["N°",null,null,"Description du matériel",null,null,null,null,null,null,null,null,null,null,null,null,"Nom de l'opérateur",null,null,null,null,null,null,null,null,"Heures",null,null,null,null,"Type d'engin et description des travaux ",null,null,null,null,null,null,null,null,null,null,null,null,null,null,null,"Sous-traitants",null,null,null,null,null,null,null,null,"Heures"]
[null,null,null,{"$f":"IF(ISNA(VLOOKUP(A42,Machines!$B:$F,2,0)),\"\",(VLOOKUP(A42,Machines!$B:$F,2,0)))","v":""},null,null,null,null,null,null,null,null,null,null,null,null,{"$f":"IF(ISNA(VLOOKUP(A42,Machines!$B:$F,4,0)),\"\",(VLOOKUP(A42,Machines!$B:$F,4,0)))","v":""}]
[null,null,null,{"$f":"IF(ISNA(VLOOKUP(A43,Machines!$B:$F,2,0)),\"\",(VLOOKUP(A43,Machines!$B:$F,2,0)))","v":""},null,null,null,null,null,null,null,null,null,null,null,null,{"$f":"IF(ISNA(VLOOKUP(A43,Machines!$B:$F,4,0)),\"\",(VLOOKUP(A43,Machines!$B:$F,4,0)))","v":""}]
[null,null,null,{"$f":"IF(ISNA(VLOOKUP(A44,Machines!$B:$F,2,0)),\"\",(VLOOKUP(A44,Machines!$B:$F,2,0)))","v":""},null,null,null,null,null,null,null,null,null,null,null,null,{"$f":"IF(ISNA(VLOOKUP(A44,Machines!$B:$F,4,0)),\"\",(VLOOKUP(A44,Machines!$B:$F,4,0)))","v":""}]
[null,null,null,{"$f":"IF(ISNA(VLOOKUP(A45,Machines!$B:$F,2,0)),\"\",(VLOOKUP(A45,Machines!$B:$F,2,0)))","v":""},null,null,null,null,null,null,null,null,null,null,null,null,{"$f":"IF(ISNA(VLOOKUP(A45,Machines!$B:$F,4,0)),\"\",(VLOOKUP(A45,Machines!$B:$F,4,0)))","v":""}]
[null,null,null,{"$f":"IF(ISNA(VLOOKUP(A46,Machines!$B:$F,2,0)),\"\",(VLOOKUP(A46,Machines!$B:$F,2,0)))","v":""},null,null,null,null,null,null,null,null,null,null,null,null,{"$f":"IF(ISNA(VLOOKUP(A46,Machines!$B:$F,4,0)),\"\",(VLOOKUP(A46,Machines!$B:$F,4,0)))","v":""}]
[null,null,null,{"$f":"IF(ISNA(VLOOKUP(A47,Machines!$B:$F,2,0)),\"\",(VLOOKUP(A47,Machines!$B:$F,2,0)))","v":""},null,null,null,null,null,null,null,null,null,null,null,null,{"$f":"IF(ISNA(VLOOKUP(A47,Machines!$B:$F,4,0)),\"\",(VLOOKUP(A47,Machines!$B:$F,4,0)))","v":""}]
[null,null,null,{"$f":"IF(ISNA(VLOOKUP(A48,Machines!$B:$F,2,0)),\"\",(VLOOKUP(A48,Machines!$B:$F,2,0)))","v":""},null,null,null,null,null,null,null,null,null,null,null,null,{"$f":"IF(ISNA(VLOOKUP(A48,Machines!$B:$F,4,0)),\"\",(VLOOKUP(A48,Machines!$B:$F,4,0)))","v":""}]
[null,null,null,{"$f":"IF(ISNA(VLOOKUP(A49,Machines!$B:$F,2,0)),\"\",(VLOOKUP(A49,Machines!$B:$F,2,0)))","v":""},null,null,null,null,null,null,null,null,null,null,null,null,{"$f":"IF(ISNA(VLOOKUP(A49,Machines!$B:$F,4,0)),\"\",(VLOOKUP(A49,Machines!$B:$F,4,0)))","v":""}]
[null,null,null,{"$f":"IF(ISNA(VLOOKUP(A50,Machines!$B:$F,2,0)),\"\",(VLOOKUP(A50,Machines!$B:$F,2,0)))","v":""},null,null,null,null,null,null,null,null,null,null,null,null,{"$f":"IF(ISNA(VLOOKUP(A50,Machines!$B:$F,4,0)),\"\",(VLOOKUP(A50,Machines!$B:$F,4,0)))","v":""}]
[null,null,null,{"$f":"IF(ISNA(VLOOKUP(A51,Machines!$B:$F,2,0)),\"\",(VLOOKUP(A51,Machines!$B:$F,2,0)))","v":""},null,null,null,null,null,null,null,null,null,null,null,null,{"$f":"IF(ISNA(VLOOKUP(A51,Machines!$B:$F,4,0)),\"\",(VLOOKUP(A51,Machines!$B:$F,4,0)))","v":""}]
[null,null,null,{"$f":"IF(ISNA(VLOOKUP(A52,Machines!$B:$F,2,0)),\"\",(VLOOKUP(A52,Machines!$B:$F,2,0)))","v":""},null,null,null,null,null,null,null,null,null,null,null,null,{"$f":"IF(ISNA(VLOOKUP(A52,Machines!$B:$F,4,0)),\"\",(VLOOKUP(A52,Machines!$B:$F,4,0)))","v":""}]
[null,null,null,{"$f":"IF(ISNA(VLOOKUP(A53,Machines!$B:$F,2,0)),\"\",(VLOOKUP(A53,Machines!$B:$F,2,0)))","v":""},null,null,null,null,null,null,null,null,null,null,null,null,{"$f":"IF(ISNA(VLOOKUP(A53,Machines!$B:$F,4,0)),\"\",(VLOOKUP(A53,Machines!$B:$F,4,0)))","v":""}]
[null,null,null,{"$f":"IF(ISNA(VLOOKUP(A54,Machines!$B:$F,2,0)),\"\",(VLOOKUP(A54,Machines!$B:$F,2,0)))","v":""},null,null,null,null,null,null,null,null,null,null,null,null,{"$f":"IF(ISNA(VLOOKUP(A54,Machines!$B:$F,4,0)),\"\",(VLOOKUP(A54,Machines!$B:$F,4,0)))","v":""}]
[null,null,null,{"$f":"IF(ISNA(VLOOKUP(A55,Machines!$B:$F,2,0)),\"\",(VLOOKUP(A55,Machines!$B:$F,2,0)))","v":""},null,null,null,null,null,null,null,null,null,null,null,null,{"$f":"IF(ISNA(VLOOKUP(A55,Machines!$B:$F,4,0)),\"\",(VLOOKUP(A55,Machines!$B:$F,4,0)))","v":""}]
[null,null,null,{"$f":"IF(ISNA(VLOOKUP(A56,Machines!$B:$F,2,0)),\"\",(VLOOKUP(A56,Machines!$B:$F,2,0)))","v":""},null,null,null,null,null,null,null,null,null,null,null,null,{"$f":"IF(ISNA(VLOOKUP(A56,Machines!$B:$F,4,0)),\"\",(VLOOKUP(A56,Machines!$B:$F,4,0)))","v":""}]
[null,null,null,{"$f":"IF(ISNA(VLOOKUP(A57,Machines!$B:$F,2,0)),\"\",(VLOOKUP(A57,Machines!$B:$F,2,0)))","v":""},null,null,null,null,null,null,null,null,null,null,null,null,{"$f":"IF(ISNA(VLOOKUP(A57,Machines!$B:$F,4,0)),\"\",(VLOOKUP(A57,Machines!$B:$F,4,0)))","v":""}]
[null,null,null,{"$f":"IF(ISNA(VLOOKUP(A58,Machines!$B:$F,2,0)),\"\",(VLOOKUP(A58,Machines!$B:$F,2,0)))","v":""},null,null,null,null,null,null,null,null,null,null,null,null,{"$f":"IF(ISNA(VLOOKUP(A58,Machines!$B:$F,4,0)),\"\",(VLOOKUP(A58,Machines!$B:$F,4,0)))","v":""}]
[null,null,null,{"$f":"IF(ISNA(VLOOKUP(A59,Machines!$B:$F,2,0)),\"\",(VLOOKUP(A59,Machines!$B:$F,2,0)))","v":""},null,null,null,null,null,null,null,null,null,null,null,null,{"$f":"IF(ISNA(VLOOKUP(A59,Machines!$B:$F,4,0)),\"\",(VLOOKUP(A59,Machines!$B:$F,4,0)))","v":""}]
[null,null,null,{"$f":"IF(ISNA(VLOOKUP(A60,Machines!$B:$F,2,0)),\"\",(VLOOKUP(A60,Machines!$B:$F,2,0)))","v":""},null,null,null,null,null,null,null,null,null,null,null,null,{"$f":"IF(ISNA(VLOOKUP(A60,Machines!$B:$F,4,0)),\"\",(VLOOKUP(A60,Machines!$B:$F,4,0)))","v":""}]
[null,null,null,{"$f":"IF(ISNA(VLOOKUP(A61,Machines!$B:$F,2,0)),\"\",(VLOOKUP(A61,Machines!$B:$F,2,0)))","v":""},null,null,null,null,null,null,null,null,null,null,null,null,{"$f":"IF(ISNA(VLOOKUP(A61,Machines!$B:$F,4,0)),\"\",(VLOOKUP(A61,Machines!$B:$F,4,0)))","v":""}]
[null,null,null,{"$f":"IF(ISNA(VLOOKUP(A62,Machines!$B:$F,2,0)),\"\",(VLOOKUP(A62,Machines!$B:$F,2,0)))","v":""},null,null,null,null,null,null,null,null,null,null,null,null,{"$f":"IF(ISNA(VLOOKUP(A62,Machines!$B:$F,4,0)),\"\",(VLOOKUP(A62,Machines!$B:$F,4,0)))","v":""}]
[null,null,null,{"$f":"IF(ISNA(VLOOKUP(A63,Machines!$B:$F,2,0)),\"\",(VLOOKUP(A63,Machines!$B:$F,2,0)))","v":""},null,null,null,null,null,null,null,null,null,null,null,null,{"$f":"IF(ISNA(VLOOKUP(A63,Machines!$B:$F,4,0)),\"\",(VLOOKUP(A63,Machines!$B:$F,4,0)))","v":""}]
[null,null,null,{"$f":"IF(ISNA(VLOOKUP(A64,Machines!$B:$F,2,0)),\"\",(VLOOKUP(A64,Machines!$B:$F,2,0)))","v":""},null,null,null,null,null,null,null,null,null,null,null,null,{"$f":"IF(ISNA(VLOOKUP(A64,Machines!$B:$F,4,0)),\"\",(VLOOKUP(A64,Machines!$B:$F,4,0)))","v":""}]
[null,null,null,{"$f":"IF(ISNA(VLOOKUP(A65,Machines!$B:$F,2,0)),\"\",(VLOOKUP(A65,Machines!$B:$F,2,0)))","v":""},null,null,null,null,null,null,null,null,null,null,null,null,{"$f":"IF(ISNA(VLOOKUP(A65,Machines!$B:$F,4,0)),\"\",(VLOOKUP(A65,Machines!$B:$F,4,0)))","v":""}]
[null,null,null,{"$f":"IF(ISNA(VLOOKUP(A66,Machines!$B:$F,2,0)),\"\",(VLOOKUP(A66,Machines!$B:$F,2,0)))","v":""},null,null,null,null,null,null,null,null,null,null,null,null,{"$f":"IF(ISNA(VLOOKUP(A66,Machines!$B:$F,4,0)),\"\",(VLOOKUP(A66,Machines!$B:$F,4,0)))","v":""}]
[null,null,null,{"$f":"IF(ISNA(VLOOKUP(A67,Machines!$B:$F,2,0)),\"\",(VLOOKUP(A67,Machines!$B:$F,2,0)))","v":""},null,null,null,null,null,null,null,null,null,null,null,null,{"$f":"IF(ISNA(VLOOKUP(A67,Machines!$B:$F,4,0)),\"\",(VLOOKUP(A67,Machines!$B:$F,4,0)))","v":""}]
[null,null,null,{"$f":"IF(ISNA(VLOOKUP(A68,Machines!$B:$F,2,0)),\"\",(VLOOKUP(A68,Machines!$B:$F,2,0)))","v":""},null,null,null,null,null,null,null,null,null,null,null,null,{"$f":"IF(ISNA(VLOOKUP(A68,Machines!$B:$F,4,0)),\"\",(VLOOKUP(A68,Machines!$B:$F,4,0)))","v":""}]
[null,null,null,{"$f":"IF(ISNA(VLOOKUP(A69,Machines!$B:$F,2,0)),\"\",(VLOOKUP(A69,Machines!$B:$F,2,0)))","v":""},null,null,null,null,null,null,null,null,null,null,null,null,{"$f":"IF(ISNA(VLOOKUP(A69,Machines!$B:$F,4,0)),\"\",(VLOOKUP(A69,Machines!$B:$F,4,0)))","v":""}]
[null,null,null,{"$f":"IF(ISNA(VLOOKUP(A70,Machines!$B:$F,2,0)),\"\",(VLOOKUP(A70,Machines!$B:$F,2,0)))","v":""},null,null,null,null,null,null,null,null,null,null,null,null,{"$f":"IF(ISNA(VLOOKUP(A70,Machines!$B:$F,4,0)),\"\",(VLOOKUP(A70,Machines!$B:$F,4,0)))","v":""}]
[null,null,null,{"$f":"IF(ISNA(VLOOKUP(A71,Machines!$B:$F,2,0)),\"\",(VLOOKUP(A71,Machines!$B:$F,2,0)))","v":""},null,null,null,null,null,null,null,null,null,null,null,null,{"$f":"IF(ISNA(VLOOKUP(A71,Machines!$B:$F,4,0)),\"\",(VLOOKUP(A71,Machines!$B:$F,4,0)))","v":""}]
[null,null,null,{"$f":"IF(ISNA(VLOOKUP(A72,Machines!$B:$F,2,0)),\"\",(VLOOKUP(A72,Machines!$B:$F,2,0)))","v":""},null,null,null,null,null,null,null,null,null,null,null,null,{"$f":"IF(ISNA(VLOOKUP(A72,Machines!$B:$F,4,0)),\"\",(VLOOKUP(A72,Machines!$B:$F,4,0)))","v":""}]
[null,null,null,{"$f":"IF(ISNA(VLOOKUP(A73,Machines!$B:$F,2,0)),\"\",(VLOOKUP(A73,Machines!$B:$F,2,0)))","v":""},null,null,null,null,null,null,null,null,null,null,null,null,{"$f":"IF(ISNA(VLOOKUP(A73,Machines!$B:$F,4,0)),\"\",(VLOOKUP(A73,Machines!$B:$F,4,0)))","v":""}]
[null,null,null,{"$f":"IF(ISNA(VLOOKUP(A74,Machines!$B:$F,2,0)),\"\",(VLOOKUP(A74,Machines!$B:$F,2,0)))","v":""},null,null,null,null,null,null,null,null,null,null,null,null,{"$f":"IF(ISNA(VLOOKUP(A74,Machines!$B:$F,4,0)),\"\",(VLOOKUP(A74,Machines!$B:$F,4,0)))","v":""}]
["CHANTIER :",null,null,null,null,{"$f":"F1","v":0},null,null,null,null,null,null,null,null,null,null,null,null,null,null,"N° CHANTIER :",null,null,null,null,null,{"$f":"AA1","v":0},null,null,null,"JOUR :",null,null,null,{"$f":"AI1","v":"Mardi"},null,null,null,null,null,null,null,null,null,null,null,null,null,null,null,null,"DATES :",null,null,{"$f":"BC1","v":"05-01-16"}]
["MATERIAUX"]
[null,null,null,"Fournisseurs",null,null,null,null,null,null,null,null,null,null,null,null,null,null,"Description des fournitures & matériaux",null,null,null,null,null,null,null,null,null,null,null,null,null,null,null,null,null,null,null,null,null,null,null,null,null,null,null,null,null,null,"Qt totales",null,null,null,"U.",null,"Prix"]
[]
[]
[]
[]
[]
[]
[]
[]
[]
[]
[]
[]
[]
[]
[]
[]
[]
[]
[]
[]
[]
[]
[]
[]
[]
[]
[]
[]
[]
[]
[]
[null,null,null,"RESPONSABLE",null,null,null,null,null,null,null,null,"SIGNATURE",null,null,null,null,null,"DESCRIPTION DES TRAVAUX REALISES CE JOUR",null,null,null,null,null,null,null,null,null,null,null,null,null,null,null,null,null,null,null,null,null,null,null,null,null,null,null,null,null,null,"METEO"]
[null,null,null,"JENNES Loïc"]

{"sheet":"06-01-16","index":12,"n_rows":110,"n_cols":56,"rows_kept":110,"cut":false,"hidden":false,"merged":[[109,18,109,48],[111,18,111,48],[108,18,108,48],[108,3,108,11],[108,12,108,17],[109,3,111,11],[109,12,111,17],[107,3,107,17],[107,18,107,48],[110,18,110,48],[103,53,103,54],[103,55,103,58],[104,49,104,52],[71,0,71,2],[71,3,71,15],[71,16,71,24],[71,25,71,28],[71,30,71,45],[71,46,71,54],[71,55,71,58],[100,3,100,17],[100,18,100,48],[101,49,101,52],[101,53,101,54],[101,55,101,58],[102,49,102,52],[102,53,102,54],[102,55,102,58],[95,53,95,54],[95,55,95,58],[96,49,96,52],[96,53,96,54],[96,55,96,58],[95,49,95,52],[105,3,105,17],[105,18,105,48],[106,3,106,17],[106,18,106,48],[101,3,101,17],[101,18,101,48],[104,3,104,17],[104,18,104,48],[103,3,103,17],[103,18,103,48],[102,3,102,17],[102,18,102,48],[103,49,103,52],[99,3,99,17],[99,18,99,48],[97,3,97,17],[97,18,97,48],[98,3,98,17],[98,18,98,48],[95,3,95,17],[95,18,95,48],[96,3,96,17],[96,18,96,48],[94,3,94,17],[94,18,94,48],[91,3,91,17],[91,18,91,48],[92,3,92,17],[92,18,92,48],[93,49,93,52],[93,53,93,54],[93,55,93,58],[94,49,94,52],[94,53,94,54],[94,55,94,58],[91,55,91,58],[92,49,92,52],[92,53,92,54],[92,55,92,58],[87,53,87,54],[87,55,87,58],[88,49,88,52],[88,53,88,54],[88,55,88,58],[89,49,89,52],[89,53,89,54],[93,3,93,17],[93,18,93,48],[89,3,89,17],[89,18,89,48],[90,3,90,17],[90,18,90,48],[87,3,87,17],[87,18,87,48],[88,3,88,17],[88,18,88,48],[87,49,87,52],[89,55,89,58],[90,49,90,52],[90,53,90,54],[90,55,90,58],[91,49,91,52],[91,53,91,54],[86,3,86,17],[86,18,86,48],[83,3,83,17],[83,18,83,48],[84,3,84,17],[84,18,84,48],[85,49,85,52],[85,53,85,54],[85,55,85,58],[86,49,86,52],[86,53,86,54],[86,55,86,58],[83,55,83,58],[84,49,84,52],[84,53,84,54],[84,55,84,58],[79,53,79,54],[79,55,79,58],[80,49,80,52],[80,53,80,54],[80,55,80,58],[81,49,81,52],[81,53,81,54],[85,3,85,17],[85,18,85,48],[81,3,81,17],[81,18,81,48],[82,3,82,17],[82,18,82,48],[79,3,79,17],[79,18,79,48],[80,3,80,17],[80,18,80,48],[79,49,79,52],[81,55,81,58],[82,49,82,52],[82,53,82,54],[82,55,82,58],[83,49,83,52],[83,53,83,54],[74,54,74,58],[75,0,75,58],[76,49,76,52],[76,53,76,54],[76,55,76,58],[77,3,77,17],[77,18,77,48],[78,3,78,17],[78,18,78,48],[77,49,77,52],[77,53,77,54],[77,55,77,58],[78,49,78,52],[78,53,78,54],[78,55,78,58],[76,3,76,17],[76,18,76,48],[74,0,74,4],[74,5,74,19],[74,20,74,25],[74,26,74,28],[74,30,74,32],[74,34,74,47],[74,51,74,53],[0,0,0,4],[0,5,0,19],[0,20,0,25],[0,26,0,28],[0,30,0,32],[0,34,0,47],[0,51,0,53],[0,54,0,58],[1,0,1,28],[1,29,36,29],[1,30,1,58],[2,0,2,4],[2,7,2,10],[2,13,2,16],[2,19,2,22],[2,25,2,28],[2,30,2,34],[2,36,2,39],[2,42,2,45],[3,0,3,15],[3,16,3,18],[3,19,3,21],[3,22,3,24],[3,25,3,28],[3,30,3,32],[3,33,3,45],[3,46,3,54],[3,55,3,58],[4,0,4,15],[4,16,4,18],[4,19,4,21],[4,22,4,24],[4,25,4,28],[4,30,4,32],[4,33,4,45],[4,46,4,54],[4,55,4,58],[5,0,5,15],[5,16,5,18],[5,19,5,21],[5,22,5,24],[5,25,5,28],[5,30,5,32],[5,33,5,45],[5,46,5,54],[5,55,5,58],[6,0,6,15],[6,16,6,18],[6,19,6,21],[6,22,6,24],[6,25,6,28],[6,30,6,32],[6,33,6,45],[6,46,6,54],[6,55,6,58],[7,0,7,15],[7,16,7,18],[7,19,7,21],[7,22,7,24],[7,25,7,28],[7,30,7,32],[7,33,7,45],[7,46,7,54],[7,55,7,58],[8,0,8,15],[8,16,8,18],[8,19,8,21],[8,22,8,24],[8,25,8,28],[8,30,8,32],[8,33,8,45],[8,46,8,54],[8,55,8,58],[9,0,9,15],[9,16,9,18],[9,19,9,21],[9,22,9,24],[9,25,9,28],[9,30,9,32],[9,33,9,45],[9,46,9,54],[9,55,9,58],[10,0,10,15],[10,16,10,18],[10,19,10,21],[10,22,10,24],[10,25,10,28],[10,30,10,32],[10,33,10,45],[10,46,10,54],[10,55,10,58],[11,0,11,15],[11,16,11,18],[11,19,11,21],[11,22,11,24],[11,25,11,28],[11,30,11,32],[11,33,11,45],[11,46,11,54],[11,55,11,58],[12,0,12,15],[12,16,12,18],[12,19,12,21],[12,22,12,24],[12,25,12,28],[12,30,12,32],[12,33,12,45],[12,46,12,54],[12,55,12,58],[13,0,13,15],[13,16,13,18],[13,19,13,21],[13,22,13,24],[13,25,13,28],[13,30,13,32],[13,33,13,45],[13,46,13,54],[13,55,13,58],[14,0,14,15],[14,16,14,18],[14,19,14,21],[14,22,14,24],[14,25,14,28],[14,30,14,32],[14,33,14,45],[14,46,14,54],[14,55,14,58],[15,0,15,15],[15,16,15,18],[15,19,15,21],[15,22,15,24],[15,25,15,28],[15,30,15,32],[15,33,15,45],[15,46,15,54],[15,55,15,58],[16,0,16,15],[16,16,16,18],[16,19,16,21],[16,22,16,24],[16,25,16,28],[16,30,16,32],[16,33,16,45],[16,46,16,54],[16,55,16,58],[17,0,17,15],[17,16,17,18],[17,19,17,21],[17,22,17,24],[17,25,17,28],[17,30,17,32],[17,33,17,45],[17,46,17,54],[17,55,17,58],[18,0,18,15],[18,16,18,18],[18,19,18,21],[18,22,18,24],[18,25,18,28],[18,30,18,32],[18,33,18,45],[18,46,18,54],[18,55,18,58],[19,0,19,15],[19,16,19,18],[19,19,19,21],[19,22,19,24],[19,25,19,28],[19,30,19,32],[19,33,19,45],[19,46,19,54],[19,55,19,58],[20,0,20,15],[20,16,20,18],[20,19,20,21],[20,22,20,24],[20,25,20,28],[20,30,20,32],[20,33,20,45],[20,46,20,54],[20,55,20,58],[21,0,21,15],[21,16,21,18],[21,19,21,21],[21,22,21,24],[21,25,21,28],[21,30,21,32],[21,33,21,45],[21,46,21,54],[21,55,21,58],[22,0,22,15],[22,16,22,18],[22,19,22,21],[22,22,22,24],[22,25,22,28],[22,30,22,32],[22,33,22,45],[22,46,22,54],[22,55,22,58],[23,0,23,15],[23,16,23,18],[23,19,23,21],[23,22,23,24],[23,25,23,28],[23,30,23,32],[23,33,23,45],[23,46,23,54],[23,55,23,58],[24,0,24,15],[24,16,24,18],[24,19,24,21],[24,22,24,24],[24,25,24,28],[24,30,24,32],[24,33,24,45],[24,46,24,54],[24,55,24,58],[25,0,25,15],[25,16,25,18],[25,19,25,21],[25,22,25,24],[25,25,25,28],[25,30,25,32],[25,33,25,45],[25,46,25,54],[25,55,25,58],[26,0,26,15],[26,16,26,18],[26,19,26,21],[26,22,26,24],[26,25,26,28],[26,30,26,32],[26,33,26,45],[26,46,26,54],[26,55,26,58],[27,0,27,15],[27,16,27,18],[27,19,27,21],[27,22,27,24],[27,25,27,28],[27,30,27,32],[27,33,27,45],[27,46,27,54],[27,55,27,58],[28,0,28,15],[28,16,28,18],[28,19,28,21],[28,22,28,24],[28,25,28,28],[28,30,28,32],[28,33,28,45],[28,46,28,54],[28,55,28,58],[29,0,29,15],[29,16,29,18],[29,19,29,21],[29,22,29,24],[29,25,29,28],[29,30,29,32],[29,33,29,45],[29,46,29,54],[29,55,29,58],[30,0,30,15],[30,16,30,18],[30,19,30,21],[30,22,30,24],[30,25,30,28],[30,30,30,32],[30,33,30,45],[30,46,30,54],[30,55,30,58],[31,0,31,15],[31,16,31,18],[31,19,31,21],[31,22,31,24],[31,25,31,28],[31,30,31,32],[31,33,31,45],[31,46,31,54],[31,55,31,58],[32,0,32,15],[32,16,32,18],[32,19,32,21],[32,22,32,24],[32,25,32,28],[32,30,32,32],[32,33,32,45],[32,46,32,54],[32,55,32,58],[33,0,33,15],[33,16,33,18],[33,19,33,21],[33,22,33,24],[33,25,33,28],[33,30,33,32],[33,33,33,45],[33,46,33,54],[33,55,33,58],[34,0,34,15],[34,16,34,18],[34,19,34,21],[34,22,34,24],[34,25,34,28],[34,30,34,32],[34,33,34,45],[34,46,34,54],[34,55,34,58],[35,0,35,15],[35,16,35,18],[35,19,35,21],[35,22,35,24],[35,25,35,28],[35,30,35,32],[35,33,35,45],[35,46,35,54],[35,55,35,58],[36,0,36,15],[36,16,36,18],[36,19,36,21],[36,22,36,24],[36,25,36,28],[36,30,36,32],[36,33,36,45],[36,46,36,54],[36,55,36,58],[37,0,37,4],[37,5,37,19],[37,20,37,25],[37,26,37,28],[37,30,37,32],[37,34,37,47],[37,51,37,53],[37,54,37,58],[38,0,38,28],[38,29,73,29],[38,30,38,58],[39,0,39,4],[39,6,39,9],[39,12,39,15],[40,0,40,2],[40,3,40,15],[40,16,40,24],[40,25,40,28],[40,30,40,45],[40,46,40,54],[40,55,40,58],[41,0,41,2],[41,3,41,15],[41,16,41,24],[41,25,41,28],[41,30,41,45],[41,46,41,54],[41,55,41,58],[42,0,42,2],[42,3,42,15],[42,16,42,24],[42,25,42,28],[42,30,42,45],[42,46,42,54],[42,55,42,58],[43,0,43,2],[43,3,43,15],[43,16,43,24],[43,25,43,28],[43,30,43,45],[43,46,43,54],[43,55,43,58],[44,0,44,2],[44,3,44,15],[44,16,44,24],[44,25,44,28],[44,30,44,45],[44,46,44,54],[44,55,44,58],[45,0,45,2],[45,3,45,15],[45,16,45,24],[45,25,45,28],[45,30,45,45],[45,46,45,54],[45,55,45,58],[46,0,46,2],[46,3,46,15],[46,16,46,24],[46,25,46,28],[46,30,46,45],[46,46,46,54],[46,55,46,58],[47,0,47,2],[47,3,47,15],[47,16,47,24],[47,25,47,28],[47,30,47,45],[47,46,47,54],[47,55,47,58],[48,0,48,2],[48,3,48,15],[48,16,48,24],[48,25,48,28],[48,30,48,45],[48,46,48,54],[48,55,48,58],[49,0,49,2],[49,3,49,15],[49,16,49,24],[49,25,49,28],[49,30,49,45],[49,46,49,54],[49,55,49,58],[50,0,50,2],[50,3,50,15],[50,16,50,24],[50,25,50,28],[50,30,50,45],[50,46,50,54],[50,55,50,58],[51,0,51,2],[51,3,51,15],[51,16,51,24],[51,25,51,28],[51,30,51,45],[51,46,51,54],[51,55,51,58],[52,0,52,2],[52,3,52,15],[52,16,52,24],[52,25,52,28],[52,30,52,45],[52,46,52,54],[52,55,52,58],[53,0,53,2],[53,3,53,15],[53,16,53,24],[53,25,53,28],[53,30,53,45],[53,46,53,54],[53,55,53,58],[54,0,54,2],[54,3,54,15],[54,16,54,24],[54,25,54,28],[54,30,54,45],[54,46,54,54],[54,55,54,58],[55,0,55,2],[55,3,55,15],[55,16,55,24],[55,25,55,28],[55,30,55,45],[55,46,55,54],[55,55,55,58],[56,0,56,2],[56,3,56,15],[56,16,56,24],[56,25,56,28],[56,30,56,45],[56,46,56,54],[56,55,56,58],[57,0,57,2],[57,3,57,15],[57,16,57,24],[57,25,57,28],[57,30,57,45],[57,46,57,54],[57,55,57,58],[58,0,58,2],[58,3,58,15],[58,16,58,24],[58,25,58,28],[58,30,58,45],[58,46,58,54],[58,55,58,58],[59,0,59,2],[59,3,59,15],[59,16,59,24],[59,25,59,28],[59,30,59,45],[59,46,59,54],[59,55,59,58],[60,0,60,2],[60,3,60,15],[60,16,60,24],[60,25,60,28],[60,30,60,45],[60,46,60,54],[60,55,60,58],[61,0,61,2],[61,3,61,15],[61,16,61,24],[61,25,61,28],[61,30,61,45],[61,46,61,54],[61,55,61,58],[62,0,62,2],[62,3,62,15],[62,16,62,24],[62,25,62,28],[62,30,62,45],[62,46,62,54],[62,55,62,58],[63,0,63,2],[63,3,63,15],[63,16,63,24],[63,25,63,28],[63,30,63,45],[63,46,63,54],[63,55,63,58],[64,0,64,2],[64,3,64,15],[64,16,64,24],[64,25,64,28],[64,30,64,45],[64,46,64,54],[64,55,64,58],[65,0,65,2],[65,3,65,15],[65,16,65,24],[65,25,65,28],[65,30,65,45],[65,46,65,54],[65,55,65,58],[66,0,66,2],[66,3,66,15],[66,16,66,24],[66,25,66,28],[66,30,66,45],[66,46,66,54],[66,55,66,58],[67,0,67,2],[67,3,67,15],[67,16,67,24],[67,25,67,28],[67,30,67,45],[67,46,67,54],[67,55,67,58],[68,0,68,2],[68,3,68,15],[68,16,68,24],[68,25,68,28],[68,30,68,45],[68,46,68,54],[68,55,68,58],[69,0,69,2],[69,3,69,15],[69,16,69,24],[69,25,69,28],[69,30,69,45],[69,46,69,54],[69,55,69,58],[70,0,70,2],[70,3,70,15],[70,16,70,24],[70,25,70,28],[70,30,70,45],[70,46,70,54],[70,55,70,58],[72,0,72,2],[72,3,72,15],[72,16,72,24],[72,25,72,28],[72,30,72,45],[72,46,72,54],[72,55,72,58],[73,0,73,2],[73,3,73,15],[73,16,73,24],[73,25,73,28],[73,30,73,45],[73,46,73,54],[73,55,73,58],[97,55,97,58],[98,49,98,52],[98,53,98,54],[98,55,98,58],[99,49,99,52],[99,53,99,54],[99,55,99,58],[100,49,100,52],[100,53,100,54],[100,55,100,58],[97,49,97,52],[97,53,97,54],[108,49,108,58],[109,49,111,58],[104,53,104,54],[104,55,104,58],[105,49,105,52],[105,53,105,54],[105,55,105,58],[106,49,106,52],[106,53,106,54],[106,55,106,58],[107,49,107,52],[107,53,107,54],[107,55,107,58]]}
["CHANTIER :",null,null,null,null,{"$f":"'01-01-16'!F1","v":0},null,null,null,null,null,null,null,null,null,null,null,null,null,null,"N° CHANTIER :",null,null,null,null,null,{"$f":"'01-01-16'!AA1","v":0},null,null,null,"JOUR :",null,null,null,{"$f":" CHOOSE(WEEKDAY(BC1,2),\"Lundi\",\"Mardi\",\"Mercredi\",\"Jeudi\",\"Vendredi\",\"Samedi\",\"Dimanche\")","v":"Mercredi"},null,null,null,null,null,null,null,null,null,null,null,null,null,null,null,null,"DATES :",null,null,{"$f":"MID(CELL(\"nomfichier\",A1),FIND(\"]\",CELL(\"nomfichier\",A1),1)+1,30)","v":"06-01-16"}]
["MAIN D'ŒUVRE",null,null,null,null,null,null,null,null,null,null,null,null,null,null,null,null,null,null,null,null,null,null,null,null,null,null,null,null,null,"CAMIONS"]
["Légende :",null,null,null,null,null,"Co",".= Congé",null,null,null,null,"M",".= Malade",null,null,null,null,"Cho",".= Chômage",null,null,null,null,"Va",".= Vacance",null,null,null,null,"Légende :",null,null,null,null,"Pa",".= Panne",null,null,null,null,"Ent",".= Entretien"]
["NOM - Prénom du travailleur",null,null,null,null,null,null,null,null,null,null,null,null,null,null,null,"Début journée",null,null,"Arrêt repas",null,null,"Fin journée",null,null,"Heures prestées",null,null,null,null,"N°",null,null,"Description du matériel",null,null,null,null,null,null,null,null,null,null,null,null,"Nom de l'opérateur",null,null,null,null,null,null,null,null,"Heures"]
[null,null,null,null,null,null,null,null,null,null,null,null,null,null,null,null,null,null,null,null,null,null,null,null,null,{"$f":"W5-Q5-T5","v":0},null,null,null,null,null,null,null,{"$f":"IF(ISNA(VLOOKUP(AE5,Camions!$B:$F,2,0)),\"\",(VLOOKUP(AE5,Camions!$B:$F,2,0)))","v":""},null,null,null,null,null,null,null,null,null,null,null,null,{"$f":"IF(ISNA(VLOOKUP(AE5,Camions!$B:$F,4,0)),\"\",(VLOOKUP(AE5,Camions!$B:$F,4,0)))","v":""}]
[null,null,null,null,null,null,null,null,null,null,null,null,null,null,null,null,null,null,null,null,null,null,null,null,null,{"$f":"W6-Q6-T6","v":0},null,null,null,null,null,null,null,{"$f":"IF(ISNA(VLOOKUP(AE6,Camions!$B:$F,2,0)),\"\",(VLOOKUP(AE6,Camions!$B:$F,2,0)))","v":""},null,null,null,null,null,null,null,null,null,null,null,null,{"$f":"IF(ISNA(VLOOKUP(AE6,Camions!$B:$F,4,0)),\"\",(VLOOKUP(AE6,Camions!$B:$F,4,0)))","v":""}]
[null,null,null,null,null,null,null,null,null,null,null,null,null,null,null,null,null,null,null,null,null,null,null,null,null,0,null,null,null,null,null,null,null,{"$f":"IF(ISNA(VLOOKUP(AE7,Camions!$B:$F,2,0)),\"\",(VLOOKUP(AE7,Camions!$B:$F,2,0)))","v":""},null,null,null,null,null,null,null,null,null,null,null,null,{"$f":"IF(ISNA(VLOOKUP(AE7,Camions!$B:$F,4,0)),\"\",(VLOOKUP(AE7,Camions!$B:$F,4,0)))","v":""}]
[null,null,null,null,null,null,null,null,null,null,null,null,null,null,null,null,null,null,null,null,null,null,null,null,null,0,null,null,null,null,null,null,null,{"$f":"IF(ISNA(VLOOKUP(AE8,Camions!$B:$F,2,0)),\"\",(VLOOKUP(AE8,Camions!$B:$F,2,0)))","v":""},null,null,null,null,null,null,null,null,null,null,null,null,{"$f":"IF(ISNA(VLOOKUP(AE8,Camions!$B:$F,4,0)),\"\",(VLOOKUP(AE8,Camions!$B:$F,4,0)))","v":""}]
[null,null,null,null,null,null,null,null,null,null,null,null,null,null,null,null,null,null,null,null,null,null,null,null,null,0,null,null,null,null,null,null,null,{"$f":"IF(ISNA(VLOOKUP(AE9,Camions!$B:$F,2,0)),\"\",(VLOOKUP(AE9,Camions!$B:$F,2,0)))","v":""},null,null,null,null,null,null,null,null,null,null,null,null,{"$f":"IF(ISNA(VLOOKUP(AE9,Camions!$B:$F,4,0)),\"\",(VLOOKUP(AE9,Camions!$B:$F,4,0)))","v":""}]
[null,null,null,null,null,null,null,null,null,null,null,null,null,null,null,null,null,null,null,null,null,null,null,null,null,0,null,null,null,null,null,null,null,{"$f":"IF(ISNA(VLOOKUP(AE10,Camions!$B:$F,2,0)),\"\",(VLOOKUP(AE10,Camions!$B:$F,2,0)))","v":""},null,null,null,null,null,null,null,null,null,null,null,null,{"$f":"IF(ISNA(VLOOKUP(AE10,Camions!$B:$F,4,0)),\"\",(VLOOKUP(AE10,Camions!$B:$F,4,0)))","v":""}]
[null,null,null,null,null,null,null,null,null,null,null,null,null,null,null,null,null,null,null,null,null,null,null,null,null,0,null,null,null,null,null,null,null,{"$f":"IF(ISNA(VLOOKUP(AE11,Camions!$B:$F,2,0)),\"\",(VLOOKUP(AE11,Camions!$B:$F,2,0)))","v":""},null,null,null,null,null,null,null,null,null,null,null,null,{"$f":"IF(ISNA(VLOOKUP(AE11,Camions!$B:$F,4,0)),\"\",(VLOOKUP(AE11,Camions!$B:$F,4,0)))","v":""}]
[null,null,null,null,null,null,null,null,null,null,null,null,null,null,null,null,null,null,null,null,null,null,null,null,null,0,null,null,null,null,null,null,null,{"$f":"IF(ISNA(VLOOKUP(AE12,Camions!$B:$F,2,0)),\"\",(VLOOKUP(AE12,Camions!$B:$F,2,0)))","v":""},null,null,null,null,null,null,null,null,null,null,null,null,{"$f":"IF(ISNA(VLOOKUP(AE12,Camions!$B:$F,4,0)),\"\",(VLOOKUP(AE12,Camions!$B:$F,4,0)))","v":""}]
[null,null,null,null,null,null,null,null,null,null,null,null,null,null,null,null,null,null,null,null,null,null,null,null,null,0,null,null,null,null,null,null,null,{"$f":"IF(ISNA(VLOOKUP(AE13,Camions!$B:$F,2,0)),\"\",(VLOOKUP(AE13,Camions!$B:$F,2,0)))","v":""},null,null,null,null,null,null,null,null,null,null,null,null,{"$f":"IF(ISNA(VLOOKUP(AE13,Camions!$B:$F,4,0)),\"\",(VLOOKUP(AE13,Camions!$B:$F,4,0)))","v":""}]
[null,null,null,null,null,null,null,null,null,null,null,null,null,null,null,null,null,null,null,null,null,null,null,null,null,0,null,null,null,null,null,null,null,{"$f":"IF(ISNA(VLOOKUP(AE14,Camions!$B:$F,2,0)),\"\",(VLOOKUP(AE14,Camions!$B:$F,2,0)))","v":""},null,null,null,null,null,null,null,null,null,null,null,null,{"$f":"IF(ISNA(VLOOKUP(AE14,Camions!$B:$F,4,0)),\"\",(VLOOKUP(AE14,Camions!$B:$F,4,0)))","v":""}]
[null,null,null,null,null,null,null,null,null,null,null,null,null,null,null,null,null,null,null,null,null,null,null,null,null,0,null,null,null,null,null,null,null,{"$f":"IF(ISNA(VLOOKUP(AE15,Camions!$B:$F,2,0)),\"\",(VLOOKUP(AE15,Camions!$B:$F,2,0)))","v":""},null,null,null,null,null,null,null,null,null,null,null,null,{"$f":"IF(ISNA(VLOOKUP(AE15,Camions!$B:$F,4,0)),\"\",(VLOOKUP(AE15,Camions!$B:$F,4,0)))","v":""}]
[null,null,null,null,null,null,null,null,null,null,null,null,null,null,null,null,null,null,null,null,null,null,null,null,null,0,null,null,null,null,null,null,null,{"$f":"IF(ISNA(VLOOKUP(AE16,Camions!$B:$F,2,0)),\"\",(VLOOKUP(AE16,Camions!$B:$F,2,0)))","v":""},null,null,null,null,null,null,null,null,null,null,null,null,{"$f":"IF(ISNA(VLOOKUP(AE16,Camions!$B:$F,4,0)),\"\",(VLOOKUP(AE16,Camions!$B:$F,4,0)))","v":""}]
[null,null,null,null,null,null,null,null,null,null,null,null,null,null,null,null,null,null,null,null,null,null,null,null,null,0,null,null,null,null,null,null,null,{"$f":"IF(ISNA(VLOOKUP(AE17,Camions!$B:$F,2,0)),\"\",(VLOOKUP(AE17,Camions!$B:$F,2,0)))","v":""},null,null,null,null,null,null,null,null,null,null,null,null,{"$f":"IF(ISNA(VLOOKUP(AE17,Camions!$B:$F,4,0)),\"\",(VLOOKUP(AE17,Camions!$B:$F,4,0)))","v":""}]
[null,null,null,null,null,null,null,null,null,null,null,null,null,null,null,null,null,null,null,null,null,null,null,null,null,0,null,null,null,null,null,null,null,{"$f":"IF(ISNA(VLOOKUP(AE18,Camions!$B:$F,2,0)),\"\",(VLOOKUP(AE18,Camions!$B:$F,2,0)))","v":""},null,null,null,null,null,null,null,null,null,null,null,null,{"$f":"IF(ISNA(VLOOKUP(AE18,Camions!$B:$F,4,0)),\"\",(VLOOKUP(AE18,Camions!$B:$F,4,0)))","v":""}]
[null,null,null,null,null,null,null,null,null,null,null,null,null,null,null,null,null,null,null,null,null,null,null,null,null,0,null,null,null,null,null,null,null,{"$f":"IF(ISNA(VLOOKUP(AE19,Camions!$B:$F,2,0)),\"\",(VLOOKUP(AE19,Camions!$B:$F,2,0)))","v":""},null,null,null,null,null,null,null,null,null,null,null,null,{"$f":"IF(ISNA(VLOOKUP(AE19,Camions!$B:$F,4,0)),\"\",(VLOOKUP(AE19,Camions!$B:$F,4,0)))","v":""}]
[null,null,null,null,null,null,null,null,null,null,null,null,null,null,null,null,null,null,null,null,null,null,null,null,null,0,null,null,null,null,null,null,null,{"$f":"IF(ISNA(VLOOKUP(AE20,Camions!$B:$F,2,0)),\"\",(VLOOKUP(AE20,Camions!$B:$F,2,0)))","v":""},null,null,null,null,null,null,null,null,null,null,null,null,{"$f":"IF(ISNA(VLOOKUP(AE20,Camions!$B:$F,4,0)),\"\",(VLOOKUP(AE20,Camions!$B:$F,4,0)))","v":""}]
[null,null,null,null,null,null,null,null,null,null,null,null,null,null,null,null,null,null,null,null,null,null,null,null,null,0,null,null,null,null,null,null,null,{"$f":"IF(ISNA(VLOOKUP(AE21,Camions!$B:$F,2,0)),\"\",(VLOOKUP(AE21,Camions!$B:$F,2,0)))","v":""},null,null,null,null,null,null,null,null,null,null,null,null,{"$f":"IF(ISNA(VLOOKUP(AE21,Camions!$B:$F,4,0)),\"\",(VLOOKUP(AE21,Camions!$B:$F,4,0)))","v":""}]
[null,null,null,null,null,null,null,null,null,null,null,null,null,null,null,null,null,null,null,null,null,null,null,null,null,0,null,null,null,null,null,null,null,{"$f":"IF(ISNA(VLOOKUP(AE22,Camions!$B:$F,2,0)),\"\",(VLOOKUP(AE22,Camions!$B:$F,2,0)))","v":""},null,null,null,null,null,null,null,null,null,null,null,null,{"$f":"IF(ISNA(VLOOKUP(AE22,Camions!$B:$F,4,0)),\"\",(VLOOKUP(AE22,Camions!$B:$F,4,0)))","v":""}]
[null,null,null,null,null,null,null,null,null,null,null,null,null,null,null,null,null,null,null,null,null,null,null,null,null,0,null,null,null,null,null,null,null,{"$f":"IF(ISNA(VLOOKUP(AE23,Camions!$B:$F,2,0)),\"\",(VLOOKUP(AE23,Camions!$B:$F,2,0)))","v":""},null,null,null,null,null,null,null,null,null,null,null,null,{"$f":"IF(ISNA(VLOOKUP(AE23,Camions!$B:$F,4,0)),\"\",(VLOOKUP(AE23,Camions!$B:$F,4,0)))","v":""}]
[null,null,null,null,null,null,null,null,null,null,null,null,null,null,null,null,null,null,null,null,null,null,null,null,null,0,null,null,null,null,null,null,null,{"$f":"IF(ISNA(VLOOKUP(AE24,Camions!$B:$F,2,0)),\"\",(VLOOKUP(AE24,Camions!$B:$F,2,0)))","v":""},null,null,null,null,null,null,null,null,null,null,null,null,{"$f":"IF(ISNA(VLOOKUP(AE24,Camions!$B:$F,4,0)),\"\",(VLOOKUP(AE24,Camions!$B:$F,4,0)))","v":""}]
[null,null,null,null,null,null,null,null,null,null,null,null,null,null,null,null,null,null,null,null,null,null,null,null,null,0,null,null,null,null,null,null,null,{"$f":"IF(ISNA(VLOOKUP(AE25,Camions!$B:$F,2,0)),\"\",(VLOOKUP(AE25,Camions!$B:$F,2,0)))","v":""},null,null,null,null,null,null,null,null,null,null,null,null,{"$f":"IF(ISNA(VLOOKUP(AE25,Camions!$B:$F,4,0)),\"\",(VLOOKUP(AE25,Camions!$B:$F,4,0)))","v":""}]
[null,null,null,null,null,null,null,null,null,null,null,null,null,null,null,null,null,null,null,null,null,null,null,null,null,0,null,null,null,null,null,null,null,{"$f":"IF(ISNA(VLOOKUP(AE26,Camions!$B:$F,2,0)),\"\",(VLOOKUP(AE26,Camions!$B:$F,2,0)))","v":""},null,null,null,null,null,null,null,null,null,null,null,null,{"$f":"IF(ISNA(VLOOKUP(AE26,Camions!$B:$F,4,0)),\"\",(VLOOKUP(AE26,Camions!$B:$F,4,0)))","v":""}]
[null,null,null,null,null,null,null,null,null,null,null,null,null,null,null,null,null,null,null,null,null,null,null,null,null,0,null,null,null,null,null,null,null,{"$f":"IF(ISNA(VLOOKUP(AE27,Camions!$B:$F,2,0)),\"\",(VLOOKUP(AE27,Camions!$B:$F,2,0)))","v":""},null,null,null,null,null,null,null,null,null,null,null,null,{"$f":"IF(ISNA(VLOOKUP(AE27,Camions!$B:$F,4,0)),\"\",(VLOOKUP(AE27,Camions!$B:$F,4,0)))","v":""}]
[null,null,null,null,null,null,null,null,null,null,null,null,null,null,null,null,null,null,null,null,null,null,null,null,null,0,null,null,null,null,null,null,null,{"$f":"IF(ISNA(VLOOKUP(AE28,Camions!$B:$F,2,0)),\"\",(VLOOKUP(AE28,Camions!$B:$F,2,0)))","v":""},null,null,null,null,null,null,null,null,null,null,null,null,{"$f":"IF(ISNA(VLOOKUP(AE28,Camions!$B:$F,4,0)),\"\",(VLOOKUP(AE28,Camions!$B:$F,4,0)))","v":""}]
[null,null,null,null,null,null,null,null,null,null,null,null,null,null,null,null,null,null,null,null,null,null,null,null,null,0,null,null,null,null,null,null,null,{"$f":"IF(ISNA(VLOOKUP(AE29,Camions!$B:$F,2,0)),\"\",(VLOOKUP(AE29,Camions!$B:$F,2,0)))","v":""},null,null,null,null,null,null,null,null,null,null,null,null,{"$f":"IF(ISNA(VLOOKUP(AE29,Camions!$B:$F,4,0)),\"\",(VLOOKUP(AE29,Camions!$B:$F,4,0)))","v":""}]
[null,null,null,null,null,null,null,null,null,null,null,null,null,null,null,null,null,null,null,null,null,null,null,null,null,0,null,null,null,null,null,null,null,{"$f":"IF(ISNA(VLOOKUP(AE30,Camions!$B:$F,2,0)),\"\",(VLOOKUP(AE30,Camions!$B:$F,2,0)))","v":""},null,null,null,null,null,null,null,null,null,null,null,null,{"$f":"IF(ISNA(VLOOKUP(AE30,Camions!$B:$F,4,0)),\"\",(VLOOKUP(AE30,Camions!$B:$F,4,0)))","v":""}]
[null,null,null,null,null,null,null,null,null,null,null,null,null,null,null,null,null,null,null,null,null,null,null,null,null,0,null,null,null,null,null,null,null,{"$f":"IF(ISNA(VLOOKUP(AE31,Camions!$B:$F,2,0)),\"\",(VLOOKUP(AE31,Camions!$B:$F,2,0)))","v":""},null,null,null,null,null,null,null,null,null,null,null,null,{"$f":"IF(ISNA(VLOOKUP(AE31,Camions!$B:$F,4,0)),\"\",(VLOOKUP(AE31,Camions!$B:$F,4,0)))","v":""}]
[null,null,null,null,null,null,null,null,null,null,null,null,null,null,null,null,null,null,null,null,null,null,null,null,null,0,null,null,null,null,null,null,null,{"$f":"IF(ISNA(VLOOKUP(AE32,Camions!$B:$F,2,0)),\"\",(VLOOKUP(AE32,Camions!$B:$F,2,0)))","v":""},null,null,null,null,null,null,null,null,null,null,null,null,{"$f":"IF(ISNA(VLOOKUP(AE32,Camions!$B:$F,4,0)),\"\",(VLOOKUP(AE32,Camions!$B:$F,4,0)))","v":""}]
[null,null,null,null,null,null,null,null,null,null,null,null,null,null,null,null,null,null,null,null,null,null,null,null,null,0,null,null,null,null,null,null,null,{"$f":"IF(ISNA(VLOOKUP(AE33,Camions!$B:$F,2,0)),\"\",(VLOOKUP(AE33,Camions!$B:$F,2,0)))","v":""},null,null,null,null,null,null,null,null,null,null,null,null,{"$f":"IF(ISNA(VLOOKUP(AE33,Camions!$B:$F,4,0)),\"\",(VLOOKUP(AE33,Camions!$B:$F,4,0)))","v":""}]
[null,null,null,null,null,null,null,null,null,null,null,null,null,null,null,null,null,null,null,null,null,null,null,null,null,0,null,null,null,null,null,null,null,{"$f":"IF(ISNA(VLOOKUP(AE34,Camions!$B:$F,2,0)),\"\",(VLOOKUP(AE34,Camions!$B:$F,2,0)))","v":""},null,null,null,null,null,null,null,null,null,null,null,null,{"$f":"IF(ISNA(VLOOKUP(AE34,Camions!$B:$F,4,0)),\"\",(VLOOKUP(AE34,Camions!$B:$F,4,0)))","v":""}]
[null,null,null,null,null,null,null,null,null,null,null,null,null,null,null,null,null,null,null,null,null,null,null,null,null,0,null,null,null,null,null,null,null,{"$f":"IF(ISNA(VLOOKUP(AE35,Camions!$B:$F,2,0)),\"\",(VLOOKUP(AE35,Camions!$B:$F,2,0)))","v":""},null,null,null,null,null,null,null,null,null,null,null,null,{"$f":"IF(ISNA(VLOOKUP(AE35,Camions!$B:$F,4,0)),\"\",(VLOOKUP(AE35,Camions!$B:$F,4,0)))","v":""}]
[null,null,null,null,null,null,null,null,null,null,null,null,null,null,null,null,null,null,null,null,null,null,null,null,null,0,null,null,null,null,null,null,null,{"$f":"IF(ISNA(VLOOKUP(AE36,Camions!$B:$F,2,0)),\"\",(VLOOKUP(AE36,Camions!$B:$F,2,0)))","v":""},null,null,null,null,null,null,null,null,null,null,null,null,{"$f":"IF(ISNA(VLOOKUP(AE36,Camions!$B:$F,4,0)),\"\",(VLOOKUP(AE36,Camions!$B:$F,4,0)))","v":""}]
[null,null,null,null,null,null,null,null,null,null,null,null,null,null,null,null,null,null,null,null,null,null,null,null,null,0,null,null,null,null,null,null,null,{"$f":"IF(ISNA(VLOOKUP(AE37,Camions!$B:$F,2,0)),\"\",(VLOOKUP(AE37,Camions!$B:$F,2,0)))","v":""},null,null,null,null,null,null,null,null,null,null,null,null,{"$f":"IF(ISNA(VLOOKUP(AE36,Camions!$B:$F,4,0)),\"\",(VLOOKUP(AE36,Camions!$B:$F,4,0)))","v":""}]
["CHANTIER :",null,null,null,null,{"$f":"F1","v":0},null,null,null,null,null,null,null,null,null,null,null,null,null,null,"N° CHANTIER :",null,null,null,null,null,{"$f":"AA1","v":0},null,null,null,"JOUR :",null,null,null,{"$f":"AI1","v":"Mercredi"},null,null,null,null,null,null,null,null,null,null,null,null,null,null,null,null,"DATES :",null,null,{"$f":"BC1","v":"06-01-16"}]
["MATERIEL",null,null,null,null,null,null,null,null,null,null,null,null,null,null,null,null,null,null,null,null,null,null,null,null,null,null,null,null,null,"SOUS-TRAITANTS"]
["Légende :",null,null,null,null,"Pa",".= Panne",null,null,null,null,"Ent",".= Entretien"]
["N°",null,null,"Description du matériel",null,null,null,null,null,null,null,null,null,null,null,null,"Nom de l'opérateur",null,null,null,null,null,null,null,null,"Heures",null,null,null,null,"Type d'engin et description des travaux ",null,null,null,null,null,null,null,null,null,null,null,null,null,null,null,"Sous-traitants",null,null,null,null,null,null,null,null,"Heures"]
[null,null,null,{"$f":"IF(ISNA(VLOOKUP(A42,Machines!$B:$F,2,0)),\"\",(VLOOKUP(A42,Machines!$B:$F,2,0)))","v":""},null,null,null,null,null,null,null,null,null,null,null,null,{"$f":"IF(ISNA(VLOOKUP(A42,Machines!$B:$F,4,0)),\"\",(VLOOKUP(A42,Machines!$B:$F,4,0)))","v":""}]
[null,null,null,{"$f":"IF(ISNA(VLOOKUP(A43,Machines!$B:$F,2,0)),\"\",(VLOOKUP(A43,Machines!$B:$F,2,0)))","v":""},null,null,null,null,null,null,null,null,null,null,null,null,{"$f":"IF(ISNA(VLOOKUP(A43,Machines!$B:$F,4,0)),\"\",(VLOOKUP(A43,Machines!$B:$F,4,0)))","v":""}]
[null,null,null,{"$f":"IF(ISNA(VLOOKUP(A44,Machines!$B:$F,2,0)),\"\",(VLOOKUP(A44,Machines!$B:$F,2,0)))","v":""},null,null,null,null,null,null,null,null,null,null,null,null,{"$f":"IF(ISNA(VLOOKUP(A44,Machines!$B:$F,4,0)),\"\",(VLOOKUP(A44,Machines!$B:$F,4,0)))","v":""}]
[null,null,null,{"$f":"IF(ISNA(VLOOKUP(A45,Machines!$B:$F,2,0)),\"\",(VLOOKUP(A45,Machines!$B:$F,2,0)))","v":""},null,null,null,null,null,null,null,null,null,null,null,null,{"$f":"IF(ISNA(VLOOKUP(A45,Machines!$B:$F,4,0)),\"\",(VLOOKUP(A45,Machines!$B:$F,4,0)))","v":""}]
[null,null,null,{"$f":"IF(ISNA(VLOOKUP(A46,Machines!$B:$F,2,0)),\"\",(VLOOKUP(A46,Machines!$B:$F,2,0)))","v":""},null,null,null,null,null,null,null,null,null,null,null,null,{"$f":"IF(ISNA(VLOOKUP(A46,Machines!$B:$F,4,0)),\"\",(VLOOKUP(A46,Machines!$B:$F,4,0)))","v":""}]
[null,null,null,{"$f":"IF(ISNA(VLOOKUP(A47,Machines!$B:$F,2,0)),\"\",(VLOOKUP(A47,Machines!$B:$F,2,0)))","v":""},null,null,null,null,null,null,null,null,null,null,null,null,{"$f":"IF(ISNA(VLOOKUP(A47,Machines!$B:$F,4,0)),\"\",(VLOOKUP(A47,Machines!$B:$F,4,0)))","v":""}]
[null,null,null,{"$f":"IF(ISNA(VLOOKUP(A48,Machines!$B:$F,2,0)),\"\",(VLOOKUP(A48,Machines!$B:$F,2,0)))","v":""},null,null,null,null,null,null,null,null,null,null,null,null,{"$f":"IF(ISNA(VLOOKUP(A48,Machines!$B:$F,4,0)),\"\",(VLOOKUP(A48,Machines!$B:$F,4,0)))","v":""}]
[null,null,null,{"$f":"IF(ISNA(VLOOKUP(A49,Machines!$B:$F,2,0)),\"\",(VLOOKUP(A49,Machines!$B:$F,2,0)))","v":""},null,null,null,null,null,null,null,null,null,null,null,null,{"$f":"IF(ISNA(VLOOKUP(A49,Machines!$B:$F,4,0)),\"\",(VLOOKUP(A49,Machines!$B:$F,4,0)))","v":""}]
[null,null,null,{"$f":"IF(ISNA(VLOOKUP(A50,Machines!$B:$F,2,0)),\"\",(VLOOKUP(A50,Machines!$B:$F,2,0)))","v":""},null,null,null,null,null,null,null,null,null,null,null,null,{"$f":"IF(ISNA(VLOOKUP(A50,Machines!$B:$F,4,0)),\"\",(VLOOKUP(A50,Machines!$B:$F,4,0)))","v":""}]
[null,null,null,{"$f":"IF(ISNA(VLOOKUP(A51,Machines!$B:$F,2,0)),\"\",(VLOOKUP(A51,Machines!$B:$F,2,0)))","v":""},null,null,null,null,null,null,null,null,null,null,null,null,{"$f":"IF(ISNA(VLOOKUP(A51,Machines!$B:$F,4,0)),\"\",(VLOOKUP(A51,Machines!$B:$F,4,0)))","v":""}]
[null,null,null,{"$f":"IF(ISNA(VLOOKUP(A52,Machines!$B:$F,2,0)),\"\",(VLOOKUP(A52,Machines!$B:$F,2,0)))","v":""},null,null,null,null,null,null,null,null,null,null,null,null,{"$f":"IF(ISNA(VLOOKUP(A52,Machines!$B:$F,4,0)),\"\",(VLOOKUP(A52,Machines!$B:$F,4,0)))","v":""}]
[null,null,null,{"$f":"IF(ISNA(VLOOKUP(A53,Machines!$B:$F,2,0)),\"\",(VLOOKUP(A53,Machines!$B:$F,2,0)))","v":""},null,null,null,null,null,null,null,null,null,null,null,null,{"$f":"IF(ISNA(VLOOKUP(A53,Machines!$B:$F,4,0)),\"\",(VLOOKUP(A53,Machines!$B:$F,4,0)))","v":""}]
[null,null,null,{"$f":"IF(ISNA(VLOOKUP(A54,Machines!$B:$F,2,0)),\"\",(VLOOKUP(A54,Machines!$B:$F,2,0)))","v":""},null,null,null,null,null,null,null,null,null,null,null,null,{"$f":"IF(ISNA(VLOOKUP(A54,Machines!$B:$F,4,0)),\"\",(VLOOKUP(A54,Machines!$B:$F,4,0)))","v":""}]
[null,null,null,{"$f":"IF(ISNA(VLOOKUP(A55,Machines!$B:$F,2,0)),\"\",(VLOOKUP(A55,Machines!$B:$F,2,0)))","v":""},null,null,null,null,null,null,null,null,null,null,null,null,{"$f":"IF(ISNA(VLOOKUP(A55,Machines!$B:$F,4,0)),\"\",(VLOOKUP(A55,Machines!$B:$F,4,0)))","v":""}]
[null,null,null,{"$f":"IF(ISNA(VLOOKUP(A56,Machines!$B:$F,2,0)),\"\",(VLOOKUP(A56,Machines!$B:$F,2,0)))","v":""},null,null,null,null,null,null,null,null,null,null,null,null,{"$f":"IF(ISNA(VLOOKUP(A56,Machines!$B:$F,4,0)),\"\",(VLOOKUP(A56,Machines!$B:$F,4,0)))","v":""}]
[null,null,null,{"$f":"IF(ISNA(VLOOKUP(A57,Machines!$B:$F,2,0)),\"\",(VLOOKUP(A57,Machines!$B:$F,2,0)))","v":""},null,null,null,null,null,null,null,null,null,null,null,null,{"$f":"IF(ISNA(VLOOKUP(A57,Machines!$B:$F,4,0)),\"\",(VLOOKUP(A57,Machines!$B:$F,4,0)))","v":""}]
[null,null,null,{"$f":"IF(ISNA(VLOOKUP(A58,Machines!$B:$F,2,0)),\"\",(VLOOKUP(A58,Machines!$B:$F,2,0)))","v":""},null,null,null,null,null,null,null,null,null,null,null,null,{"$f":"IF(ISNA(VLOOKUP(A58,Machines!$B:$F,4,0)),\"\",(VLOOKUP(A58,Machines!$B:$F,4,0)))","v":""}]
[null,null,null,{"$f":"IF(ISNA(VLOOKUP(A59,Machines!$B:$F,2,0)),\"\",(VLOOKUP(A59,Machines!$B:$F,2,0)))","v":""},null,null,null,null,null,null,null,null,null,null,null,null,{"$f":"IF(ISNA(VLOOKUP(A59,Machines!$B:$F,4,0)),\"\",(VLOOKUP(A59,Machines!$B:$F,4,0)))","v":""}]
[null,null,null,{"$f":"IF(ISNA(VLOOKUP(A60,Machines!$B:$F,2,0)),\"\",(VLOOKUP(A60,Machines!$B:$F,2,0)))","v":""},null,null,null,null,null,null,null,null,null,null,null,null,{"$f":"IF(ISNA(VLOOKUP(A60,Machines!$B:$F,4,0)),\"\",(VLOOKUP(A60,Machines!$B:$F,4,0)))","v":""}]
[null,null,null,{"$f":"IF(ISNA(VLOOKUP(A61,Machines!$B:$F,2,0)),\"\",(VLOOKUP(A61,Machines!$B:$F,2,0)))","v":""},null,null,null,null,null,null,null,null,null,null,null,null,{"$f":"IF(ISNA(VLOOKUP(A61,Machines!$B:$F,4,0)),\"\",(VLOOKUP(A61,Machines!$B:$F,4,0)))","v":""}]
[null,null,null,{"$f":"IF(ISNA(VLOOKUP(A62,Machines!$B:$F,2,0)),\"\",(VLOOKUP(A62,Machines!$B:$F,2,0)))","v":""},null,null,null,null,null,null,null,null,null,null,null,null,{"$f":"IF(ISNA(VLOOKUP(A62,Machines!$B:$F,4,0)),\"\",(VLOOKUP(A62,Machines!$B:$F,4,0)))","v":""}]
[null,null,null,{"$f":"IF(ISNA(VLOOKUP(A63,Machines!$B:$F,2,0)),\"\",(VLOOKUP(A63,Machines!$B:$F,2,0)))","v":""},null,null,null,null,null,null,null,null,null,null,null,null,{"$f":"IF(ISNA(VLOOKUP(A63,Machines!$B:$F,4,0)),\"\",(VLOOKUP(A63,Machines!$B:$F,4,0)))","v":""}]
[null,null,null,{"$f":"IF(ISNA(VLOOKUP(A64,Machines!$B:$F,2,0)),\"\",(VLOOKUP(A64,Machines!$B:$F,2,0)))","v":""},null,null,null,null,null,null,null,null,null,null,null,null,{"$f":"IF(ISNA(VLOOKUP(A64,Machines!$B:$F,4,0)),\"\",(VLOOKUP(A64,Machines!$B:$F,4,0)))","v":""}]
[null,null,null,{"$f":"IF(ISNA(VLOOKUP(A65,Machines!$B:$F,2,0)),\"\",(VLOOKUP(A65,Machines!$B:$F,2,0)))","v":""},null,null,null,null,null,null,null,null,null,null,null,null,{"$f":"IF(ISNA(VLOOKUP(A65,Machines!$B:$F,4,0)),\"\",(VLOOKUP(A65,Machines!$B:$F,4,0)))","v":""}]
[null,null,null,{"$f":"IF(ISNA(VLOOKUP(A66,Machines!$B:$F,2,0)),\"\",(VLOOKUP(A66,Machines!$B:$F,2,0)))","v":""},null,null,null,null,null,null,null,null,null,null,null,null,{"$f":"IF(ISNA(VLOOKUP(A66,Machines!$B:$F,4,0)),\"\",(VLOOKUP(A66,Machines!$B:$F,4,0)))","v":""}]
[null,null,null,{"$f":"IF(ISNA(VLOOKUP(A67,Machines!$B:$F,2,0)),\"\",(VLOOKUP(A67,Machines!$B:$F,2,0)))","v":""},null,null,null,null,null,null,null,null,null,null,null,null,{"$f":"IF(ISNA(VLOOKUP(A67,Machines!$B:$F,4,0)),\"\",(VLOOKUP(A67,Machines!$B:$F,4,0)))","v":""}]
[null,null,null,{"$f":"IF(ISNA(VLOOKUP(A68,Machines!$B:$F,2,0)),\"\",(VLOOKUP(A68,Machines!$B:$F,2,0)))","v":""},null,null,null,null,null,null,null,null,null,null,null,null,{"$f":"IF(ISNA(VLOOKUP(A68,Machines!$B:$F,4,0)),\"\",(VLOOKUP(A68,Machines!$B:$F,4,0)))","v":""}]
[null,null,null,{"$f":"IF(ISNA(VLOOKUP(A69,Machines!$B:$F,2,0)),\"\",(VLOOKUP(A69,Machines!$B:$F,2,0)))","v":""},null,null,null,null,null,null,null,null,null,null,null,null,{"$f":"IF(ISNA(VLOOKUP(A69,Machines!$B:$F,4,0)),\"\",(VLOOKUP(A69,Machines!$B:$F,4,0)))","v":""}]
[null,null,null,{"$f":"IF(ISNA(VLOOKUP(A70,Machines!$B:$F,2,0)),\"\",(VLOOKUP(A70,Machines!$B:$F,2,0)))","v":""},null,null,null,null,null,null,null,null,null,null,null,null,{"$f":"IF(ISNA(VLOOKUP(A70,Machines!$B:$F,4,0)),\"\",(VLOOKUP(A70,Machines!$B:$F,4,0)))","v":""}]
[null,null,null,{"$f":"IF(ISNA(VLOOKUP(A71,Machines!$B:$F,2,0)),\"\",(VLOOKUP(A71,Machines!$B:$F,2,0)))","v":""},null,null,null,null,null,null,null,null,null,null,null,null,{"$f":"IF(ISNA(VLOOKUP(A71,Machines!$B:$F,4,0)),\"\",(VLOOKUP(A71,Machines!$B:$F,4,0)))","v":""}]
[null,null,null,{"$f":"IF(ISNA(VLOOKUP(A72,Machines!$B:$F,2,0)),\"\",(VLOOKUP(A72,Machines!$B:$F,2,0)))","v":""},null,null,null,null,null,null,null,null,null,null,null,null,{"$f":"IF(ISNA(VLOOKUP(A72,Machines!$B:$F,4,0)),\"\",(VLOOKUP(A72,Machines!$B:$F,4,0)))","v":""}]
[null,null,null,{"$f":"IF(ISNA(VLOOKUP(A73,Machines!$B:$F,2,0)),\"\",(VLOOKUP(A73,Machines!$B:$F,2,0)))","v":""},null,null,null,null,null,null,null,null,null,null,null,null,{"$f":"IF(ISNA(VLOOKUP(A73,Machines!$B:$F,4,0)),\"\",(VLOOKUP(A73,Machines!$B:$F,4,0)))","v":""}]
[null,null,null,{"$f":"IF(ISNA(VLOOKUP(A74,Machines!$B:$F,2,0)),\"\",(VLOOKUP(A74,Machines!$B:$F,2,0)))","v":""},null,null,null,null,null,null,null,null,null,null,null,null,{"$f":"IF(ISNA(VLOOKUP(A74,Machines!$B:$F,4,0)),\"\",(VLOOKUP(A74,Machines!$B:$F,4,0)))","v":""}]
["CHANTIER :",null,null,null,null,{"$f":"F1","v":0},null,null,null,null,null,null,null,null,null,null,null,null,null,null,"N° CHANTIER :",null,null,null,null,null,{"$f":"AA1","v":0},null,null,null,"JOUR :",null,null,null,{"$f":"AI1","v":"Mercredi"},null,null,null,null,null,null,null,null,null,null,null,null,null,null,null,null,"DATES :",null,null,{"$f":"BC1","v":"06-01-16"}]
["MATERIAUX"]
[null,null,null,"Fournisseurs",null,null,null,null,null,null,null,null,null,null,null,null,null,null,"Description des fournitures & matériaux",null,null,null,null,null,null,null,null,null,null,null,null,null,null,null,null,null,null,null,null,null,null,null,null,null,null,null,null,null,null,"Qt totales",null,null,null,"U.",null,"Prix"]
[]
[]
[]
[]
[]
[]
[]
[]
[]
[]
[]
[]
[]
[]
[]
[]
[]
[]
[]
[]
[]
[]
[]
[]
[]
[]
[]
[]
[]
[]
[]
[null,null,null,"RESPONSABLE",null,null,null,null,null,null,null,null,"SIGNATURE",null,null,null,null,null,"DESCRIPTION DES TRAVAUX REALISES CE JOUR",null,null,null,null,null,null,null,null,null,null,null,null,null,null,null,null,null,null,null,null,null,null,null,null,null,null,null,null,null,null,"METEO"]
[null,null,null,"JENNES Loïc"]

{"sheet":"07-01-16","index":13,"n_rows":110,"n_cols":56,"rows_kept":110,"cut":false,"hidden":false,"merged":[[107,53,107,54],[107,55,107,58],[109,18,109,48],[111,18,111,48],[108,18,108,48],[108,3,108,11],[108,12,108,17],[109,3,111,11],[109,12,111,17],[108,49,108,58],[109,49,111,58],[107,3,107,17],[107,18,107,48],[110,18,110,48],[105,3,105,17],[105,18,105,48],[106,3,106,17],[106,18,106,48],[107,49,107,52],[104,3,104,17],[104,18,104,48],[99,3,99,17],[99,18,99,48],[100,3,100,17],[100,18,100,48],[102,3,102,17],[102,18,102,48],[103,3,103,17],[103,18,103,48],[103,49,103,52],[95,53,95,54],[95,55,95,58],[96,49,96,52],[96,53,96,54],[96,55,96,58],[97,49,97,52],[97,53,97,54],[101,3,101,17],[101,18,101,48],[97,3,97,17],[97,18,97,48],[98,3,98,17],[98,18,98,48],[95,3,95,17],[95,18,95,48],[96,3,96,17],[96,18,96,48],[95,49,95,52],[97,55,97,58],[98,49,98,52],[98,53,98,54],[98,55,98,58],[99,49,99,52],[99,53,99,54],[94,3,94,17],[94,18,94,48],[91,3,91,17],[91,18,91,48],[92,3,92,17],[92,18,92,48],[93,49,93,52],[93,53,93,54],[93,55,93,58],[94,49,94,52],[94,53,94,54],[94,55,94,58],[91,55,91,58],[92,49,92,52],[92,53,92,54],[92,55,92,58],[87,53,87,54],[87,55,87,58],[88,49,88,52],[88,53,88,54],[88,55,88,58],[89,49,89,52],[89,53,89,54],[93,3,93,17],[93,18,93,48],[89,3,89,17],[89,18,89,48],[90,3,90,17],[90,18,90,48],[87,3,87,17],[87,18,87,48],[88,3,88,17],[88,18,88,48],[87,49,87,52],[89,55,89,58],[90,49,90,52],[90,53,90,54],[90,55,90,58],[91,49,91,52],[91,53,91,54],[86,3,86,17],[86,18,86,48],[83,3,83,17],[83,18,83,48],[84,3,84,17],[84,18,84,48],[85,49,85,52],[85,53,85,54],[85,55,85,58],[86,49,86,52],[86,53,86,54],[86,55,86,58],[83,55,83,58],[84,49,84,52],[84,53,84,54],[84,55,84,58],[79,53,79,54],[79,55,79,58],[80,49,80,52],[80,53,80,54],[80,55,80,58],[81,49,81,52],[81,53,81,54],[85,3,85,17],[85,18,85,48],[81,3,81,17],[81,18,81,48],[82,3,82,17],[82,18,82,48],[79,3,79,17],[79,18,79,48],[80,3,80,17],[80,18,80,48],[79,49,79,52],[81,55,81,58],[82,49,82,52],[82,53,82,54],[82,55,82,58],[83,49,83,52],[83,53,83,54],[74,54,74,58],[75,0,75,58],[76,49,76,52],[76,53,76,54],[76,55,76,58],[77,3,77,17],[77,18,77,48],[78,3,78,17],[78,18,78,48],[77,49,77,52],[77,53,77,54],[77,55,77,58],[78,49,78,52],[78,53,78,54],[78,55,78,58],[76,3,76,17],[76,18,76,48],[74,0,74,4],[74,5,74,19],[74,20,74,25],[74,26,74,28],[74,30,74,32],[74,34,74,47],[74,51,74,53],[0,0,0,4],[0,5,0,19],[0,20,0,25],[0,26,0,28],[0,30,0,32],[0,34,0,47],[0,51,0,53],[0,54,0,58],[1,0,1,28],[1,29,36,29],[1,30,1,58],[2,0,2,4],[2,7,2,10],[2,13,2,16],[2,19,2,22],[2,25,2,28],[2,30,2,34],[2,36,2,39],[2,42,2,45],[3,0,3,15],[3,16,3,18],[3,19,3,21],[3,22,3,24],[3,25,3,28],[3,30,3,32],[3,33,3,45],[3,46,3,54],[3,55,3,58],[4,0,4,15],[4,16,4,18],[4,19,4,21],[4,22,4,24],[4,25,4,28],[4,30,4,32],[4,33,4,45],[4,46,4,54],[4,55,4,58],[5,0,5,15],[5,16,5,18],[5,19,5,21],[5,22,5,24],[5,25,5,28],[5,30,5,32],[5,33,5,45],[5,46,5,54],[5,55,5,58],[6,0,6,15],[6,16,6,18],[6,19,6,21],[6,22,6,24],[6,25,6,28],[6,30,6,32],[6,33,6,45],[6,46,6,54],[6,55,6,58],[7,0,7,15],[7,16,7,18],[7,19,7,21],[7,22,7,24],[7,25,7,28],[7,30,7,32],[7,33,7,45],[7,46,7,54],[7,55,7,58],[8,0,8,15],[8,16,8,18],[8,19,8,21],[8,22,8,24],[8,25,8,28],[8,30,8,32],[8,33,8,45],[8,46,8,54],[8,55,8,58],[9,0,9,15],[9,16,9,18],[9,19,9,21],[9,22,9,24],[9,25,9,28],[9,30,9,32],[9,33,9,45],[9,46,9,54],[9,55,9,58],[10,0,10,15],[10,16,10,18],[10,19,10,21],[10,22,10,24],[10,25,10,28],[10,30,10,32],[10,33,10,45],[10,46,10,54],[10,55,10,58],[11,0,11,15],[11,16,11,18],[11,19,11,21],[11,22,11,24],[11,25,11,28],[11,30,11,32],[11,33,11,45],[11,46,11,54],[11,55,11,58],[12,0,12,15],[12,16,12,18],[12,19,12,21],[12,22,12,24],[12,25,12,28],[12,30,12,32],[12,33,12,45],[12,46,12,54],[12,55,12,58],[13,0,13,15],[13,16,13,18],[13,19,13,21],[13,22,13,24],[13,25,13,28],[13,30,13,32],[13,33,13,45],[13,46,13,54],[13,55,13,58],[14,0,14,15],[14,16,14,18],[14,19,14,21],[14,22,14,24],[14,25,14,28],[14,30,14,32],[14,33,14,45],[14,46,14,54],[14,55,14,58],[15,0,15,15],[15,16,15,18],[15,19,15,21],[15,22,15,24],[15,25,15,28],[15,30,15,32],[15,33,15,45],[15,46,15,54],[15,55,15,58],[16,0,16,15],[16,16,16,18],[16,19,16,21],[16,22,16,24],[16,25,16,28],[16,30,16,32],[16,33,16,45],[16,46,16,54],[16,55,16,58],[17,0,17,15],[17,16,17,18],[17,19,17,21],[17,22,17,24],[17,25,17,28],[17,30,17,32],[17,33,17,45],[17,46,17,54],[17,55,17,58],[18,0,18,15],[18,16,18,18],[18,19,18,21],[18,22,18,24],[18,25,18,28],[18,30,18,32],[18,33,18,45],[18,46,18,54],[18,55,18,58],[19,0,19,15],[19,16,19,18],[19,19,19,21],[19,22,19,24],[19,25,19,28],[19,30,19,32],[19,33,19,45],[19,46,19,54],[19,55,19,58],[20,0,20,15],[20,16,20,18],[20,19,20,21],[20,22,20,24],[20,25,20,28],[20,30,20,32],[20,33,20,45],[20,46,20,54],[20,55,20,58],[21,0,21,15],[21,16,21,18],[21,19,21,21],[21,22,21,24],[21,25,21,28],[21,30,21,32],[21,33,21,45],[21,46,21,54],[21,55,21,58],[22,0,22,15],[22,16,22,18],[22,19,22,21],[22,22,22,24],[22,25,22,28],[22,30,22,32],[22,33,22,45],[22,46,22,54],[22,55,22,58],[23,0,23,15],[23,16,23,18],[23,19,23,21],[23,22,23,24],[23,25,23,28],[23,30,23,32],[23,33,23,45],[23,46,23,54],[23,55,23,58],[24,0,24,15],[24,16,24,18],[24,19,24,21],[24,22,24,24],[24,25,24,28],[24,30,24,32],[24,33,24,45],[24,46,24,54],[24,55,24,58],[25,0,25,15],[25,16,25,18],[25,19,25,21],[25,22,25,24],[25,25,25,28],[25,30,25,32],[25,33,25,45],[25,46,25,54],[25,55,25,58],[26,0,26,15],[26,16,26,18],[26,19,26,21],[26,22,26,24],[26,25,26,28],[26,30,26,32],[26,33,26,45],[26,46,26,54],[26,55,26,58],[27,0,27,15],[27,16,27,18],[27,19,27,21],[27,22,27,24],[27,25,27,28],[27,30,27,32],[27,33,27,45],[27,46,27,54],[27,55,27,58],[28,0,28,15],[28,16,28,18],[28,19,28,21],[28,22,28,24],[28,25,28,28],[28,30,28,32],[28,33,28,45],[28,46,28,54],[28,55,28,58],[29,0,29,15],[29,16,29,18],[29,19,29,21],[29,22,29,24],[29,25,29,28],[29,30,29,32],[29,33,29,45],[29,46,29,54],[29,55,29,58],[30,0,30,15],[30,16,30,18],[30,19,30,21],[30,22,30,24],[30,25,30,28],[30,30,30,32],[30,33,30,45],[30,46,30,54],[30,55,30,58],[31,0,31,15],[31,16,31,18],[31,19,31,21],[31,22,31,24],[31,25,31,28],[31,30,31,32],[31,33,31,45],[31,46,31,54],[31,55,31,58],[32,0,32,15],[32,16,32,18],[32,19,32,21],[32,22,32,24],[32,25,32,28],[32,30,32,32],[32,33,32,45],[32,46,32,54],[32,55,32,58],[33,0,33,15],[33,16,33,18],[33,19,33,21],[33,22,33,24],[33,25,33,28],[33,30,33,32],[33,33,33,45],[33,46,33,54],[33,55,33,58],[34,0,34,15],[34,16,34,18],[34,19,34,21],[34,22,34,24],[34,25,34,28],[34,30,34,32],[34,33,34,45],[34,46,34,54],[34,55,34,58],[35,0,35,15],[35,16,35,18],[35,19,35,21],[35,22,35,24],[35,25,35,28],[35,30,35,32],[35,33,35,45],[35,46,35,54],[35,55,35,58],[36,0,36,15],[36,16,36,18],[36,19,36,21],[36,22,36,24],[36,25,36,28],[36,30,36,32],[36,33,36,45],[36,46,36,54],[36,55,36,58],[37,0,37,4],[37,5,37,19],[37,20,37,25],[37,26,37,28],[37,30,37,32],[37,34,37,47],[37,51,37,53],[37,54,37,58],[38,0,38,28],[38,29,73,29],[38,30,38,58],[39,0,39,4],[39,6,39,9],[39,12,39,15],[40,0,40,2],[40,3,40,15],[40,16,40,24],[40,25,40,28],[40,30,40,45],[40,46,40,54],[40,55,40,58],[41,0,41,2],[41,3,41,15],[41,16,41,24],[41,25,41,28],[41,30,41,45],[41,46,41,54],[41,55,41,58],[42,0,42,2],[42,3,42,15],[42,16,42,24],[42,25,42,28],[42,30,42,45],[42,46,42,54],[42,55,42,58],[43,0,43,2],[43,3,43,15],[43,16,43,24],[43,25,43,28],[43,30,43,45],[43,46,43,54],[43,55,43,58],[44,0,44,2],[44,3,44,15],[44,16,44,24],[44,25,44,28],[44,30,44,45],[44,46,44,54],[44,55,44,58],[45,0,45,2],[45,3,45,15],[45,16,45,24],[45,25,45,28],[45,30,45,45],[45,46,45,54],[45,55,45,58],[46,0,46,2],[46,3,46,15],[46,16,46,24],[46,25,46,28],[46,30,46,45],[46,46,46,54],[46,55,46,58],[47,0,47,2],[47,3,47,15],[47,16,47,24],[47,25,47,28],[47,30,47,45],[47,46,47,54],[47,55,47,58],[48,0,48,2],[48,3,48,15],[48,16,48,24],[48,25,48,28],[48,30,48,45],[48,46,48,54],[48,55,48,58],[49,0,49,2],[49,3,49,15],[49,16,49,24],[49,25,49,28],[49,30,49,45],[49,46,49,54],[49,55,49,58],[50,0,50,2],[50,3,50,15],[50,16,50,24],[50,25,50,28],[50,30,50,45],[50,46,50,54],[50,55,50,58],[51,0,51,2],[51,3,51,15],[51,16,51,24],[51,25,51,28],[51,30,51,45],[51,46,51,54],[51,55,51,58],[52,0,52,2],[52,3,52,15],[52,16,52,24],[52,25,52,28],[52,30,52,45],[52,46,52,54],[52,55,52,58],[53,0,53,2],[53,3,53,15],[53,16,53,24],[53,25,53,28],[53,30,53,45],[53,46,53,54],[53,55,53,58],[54,0,54,2],[54,3,54,15],[54,16,54,24],[54,25,54,28],[54,30,54,45],[54,46,54,54],[54,55,54,58],[55,0,55,2],[55,3,55,15],[55,16,55,24],[55,25,55,28],[55,30,55,45],[55,46,55,54],[55,55,55,58],[56,0,56,2],[56,3,56,15],[56,16,56,24],[56,25,56,28],[56,30,56,45],[56,46,56,54],[56,55,56,58],[57,0,57,2],[57,3,57,15],[57,16,57,24],[57,25,57,28],[57,30,57,45],[57,46,57,54],[57,55,57,58],[58,0,58,2],[58,3,58,15],[58,16,58,24],[58,25,58,28],[58,30,58,45],[58,46,58,54],[58,55,58,58],[59,0,59,2],[59,3,59,15],[59,16,59,24],[59,25,59,28],[59,30,59,45],[59,46,59,54],[59,55,59,58],[60,0,60,2],[60,3,60,15],[60,16,60,24],[60,25,60,28],[60,30,60,45],[60,46,60,54],[60,55,60,58],[61,0,61,2],[61,3,61,15],[61,16,61,24],[61,25,61,28],[61,30,61,45],[61,46,61,54],[61,55,61,58],[62,0,62,2],[62,3,62,15],[62,16,62,24],[62,25,62,28],[62,30,62,45],[62,46,62,54],[62,55,62,58],[63,0,63,2],[63,3,63,15],[63,16,63,24],[63,25,63,28],[63,30,63,45],[63,46,63,54],[63,55,63,58],[64,0,64,2],[64,3,64,15],[64,16,64,24],[64,25,64,28],[64,30,64,45],[64,46,64,54],[64,55,64,58],[65,0,65,2],[65,3,65,15],[65,16,65,24],[65,25,65,28],[65,30,65,45],[65,46,65,54],[65,55,65,58],[66,0,66,2],[66,3,66,15],[66,16,66,24],[66,25,66,28],[66,30,66,45],[66,46,66,54],[66,55,66,58],[67,0,67,2],[67,3,67,15],[67,16,67,24],[67,25,67,28],[67,30,67,45],[67,46,67,54],[67,55,67,58],[68,0,68,2],[68,3,68,15],[68,16,68,24],[68,25,68,28],[68,30,68,45],[68,46,68,54],[68,55,68,58],[69,0,69,2],[69,3,69,15],[69,16,69,24],[69,25,69,28],[69,30,69,45],[69,46,69,54],[69,55,69,58],[71,0,71,2],[71,3,71,15],[71,16,71,24],[71,25,71,28],[71,30,71,45],[71,46,71,54],[71,55,71,58],[70,0,70,2],[70,3,70,15],[70,16,70,24],[70,25,70,28],[70,30,70,45],[70,46,70,54],[70,55,70,58],[72,0,72,2],[72,3,72,15],[72,16,72,24],[72,25,72,28],[72,30,72,45],[72,46,72,54],[72,55,72,58],[73,0,73,2],[73,3,73,15],[73,16,73,24],[73,25,73,28],[73,30,73,45],[73,46,73,54],[73,55,73,58],[99,55,99,58],[100,49,100,52],[100,53,100,54],[100,55,100,58],[101,49,101,52],[101,53,101,54],[101,55,101,58],[102,49,102,52],[102,53,102,54],[102,55,102,58],[103,53,103,54],[103,55,103,58],[104,49,104,52],[104,53,104,54],[104,55,104,58],[105,49,105,52],[105,53,105,54],[105,55,105,58],[106,49,106,52],[106,53,106,54],[106,55,106,58]]}
["CHANTIER :",null,null,null,null,{"$f":"'01-01-16'!F1","v":0},null,null,null,null,null,null,null,null,null,null,null,null,null,null,"N° CHANTIER :",null,null,null,null,null,{"$f":"'01-01-16'!AA1","v":0},null,null,null,"JOUR :",null,null,null,{"$f":" CHOOSE(WEEKDAY(BC1,2),\"Lundi\",\"Mardi\",\"Mercredi\",\"Jeudi\",\"Vendredi\",\"Samedi\",\"Dimanche\")","v":"Jeudi"},null,null,null,null,null,null,null,null,null,null,null,null,null,null,null,null,"DATES :",null,null,{"$f":"MID(CELL(\"nomfichier\",A1),FIND(\"]\",CELL(\"nomfichier\",A1),1)+1,30)","v":"07-01-16"}]
["MAIN D'ŒUVRE",null,null,null,null,null,null,null,null,null,null,null,null,null,null,null,null,null,null,null,null,null,null,null,null,null,null,null,null,null,"CAMIONS"]
["Légende :",null,null,null,null,null,"Co",".= Congé",null,null,null,null,"M",".= Malade",null,null,null,null,"Cho",".= Chômage",null,null,null,null,"Va",".= Vacance",null,null,null,null,"Légende :",null,null,null,null,"Pa",".= Panne",null,null,null,null,"Ent",".= Entretien"]
["NOM - Prénom du travailleur",null,null,null,null,null,null,null,null,null,null,null,null,null,null,null,"Début journée",null,null,"Arrêt repas",null,null,"Fin journée",null,null,"Heures prestées",null,null,null,null,"N°",null,null,"Description du matériel",null,null,null,null,null,null,null,null,null,null,null,null,"Nom de l'opérateur",null,null,null,null,null,null,null,null,"Heures"]
[null,null,null,null,null,null,null,null,null,null,null,null,null,null,null,null,null,null,null,null,null,null,null,null,null,{"$f":"W5-Q5-T5","v":0},null,null,null,null,null,null,null,{"$f":"IF(ISNA(VLOOKUP(AE5,Camions!$B:$F,2,0)),\"\",(VLOOKUP(AE5,Camions!$B:$F,2,0)))","v":""},null,null,null,null,null,null,null,null,null,null,null,null,{"$f":"IF(ISNA(VLOOKUP(AE5,Camions!$B:$F,4,0)),\"\",(VLOOKUP(AE5,Camions!$B:$F,4,0)))","v":""}]
[null,null,null,null,null,null,null,null,null,null,null,null,null,null,null,null,null,null,null,null,null,null,null,null,null,{"$f":"W6-Q6-T6","v":0},null,null,null,null,null,null,null,{"$f":"IF(ISNA(VLOOKUP(AE6,Camions!$B:$F,2,0)),\"\",(VLOOKUP(AE6,Camions!$B:$F,2,0)))","v":""},null,null,null,null,null,null,null,null,null,null,null,null,{"$f":"IF(ISNA(VLOOKUP(AE6,Camions!$B:$F,4,0)),\"\",(VLOOKUP(AE6,Camions!$B:$F,4,0)))","v":""}]
[null,null,null,null,null,null,null,null,null,null,null,null,null,null,null,null,null,null,null,null,null,null,null,null,null,0,null,null,null,null,null,null,null,{"$f":"IF(ISNA(VLOOKUP(AE7,Camions!$B:$F,2,0)),\"\",(VLOOKUP(AE7,Camions!$B:$F,2,0)))","v":""},null,null,null,null,null,null,null,null,null,null,null,null,{"$f":"IF(ISNA(VLOOKUP(AE7,Camions!$B:$F,4,0)),\"\",(VLOOKUP(AE7,Camions!$B:$F,4,0)))","v":""}]
[null,null,null,null,null,null,null,null,null,null,null,null,null,null,null,null,null,null,null,null,null,null,null,null,null,0,null,null,null,null,null,null,null,{"$f":"IF(ISNA(VLOOKUP(AE8,Camions!$B:$F,2,0)),\"\",(VLOOKUP(AE8,Camions!$B:$F,2,0)))","v":""},null,null,null,null,null,null,null,null,null,null,null,null,{"$f":"IF(ISNA(VLOOKUP(AE8,Camions!$B:$F,4,0)),\"\",(VLOOKUP(AE8,Camions!$B:$F,4,0)))","v":""}]
[null,null,null,null,null,null,null,null,null,null,null,null,null,null,null,null,null,null,null,null,null,null,null,null,null,0,null,null,null,null,null,null,null,{"$f":"IF(ISNA(VLOOKUP(AE9,Camions!$B:$F,2,0)),\"\",(VLOOKUP(AE9,Camions!$B:$F,2,0)))","v":""},null,null,null,null,null,null,null,null,null,null,null,null,{"$f":"IF(ISNA(VLOOKUP(AE9,Camions!$B:$F,4,0)),\"\",(VLOOKUP(AE9,Camions!$B:$F,4,0)))","v":""}]
[null,null,null,null,null,null,null,null,null,null,null,null,null,null,null,null,null,null,null,null,null,null,null,null,null,0,null,null,null,null,null,null,null,{"$f":"IF(ISNA(VLOOKUP(AE10,Camions!$B:$F,2,0)),\"\",(VLOOKUP(AE10,Camions!$B:$F,2,0)))","v":""},null,null,null,null,null,null,null,null,null,null,null,null,{"$f":"IF(ISNA(VLOOKUP(AE10,Camions!$B:$F,4,0)),\"\",(VLOOKUP(AE10,Camions!$B:$F,4,0)))","v":""}]
[null,null,null,null,null,null,null,null,null,null,null,null,null,null,null,null,null,null,null,null,null,null,null,null,null,0,null,null,null,null,null,null,null,{"$f":"IF(ISNA(VLOOKUP(AE11,Camions!$B:$F,2,0)),\"\",(VLOOKUP(AE11,Camions!$B:$F,2,0)))","v":""},null,null,null,null,null,null,null,null,null,null,null,null,{"$f":"IF(ISNA(VLOOKUP(AE11,Camions!$B:$F,4,0)),\"\",(VLOOKUP(AE11,Camions!$B:$F,4,0)))","v":""}]
[null,null,null,null,null,null,null,null,null,null,null,null,null,null,null,null,null,null,null,null,null,null,null,null,null,0,null,null,null,null,null,null,null,{"$f":"IF(ISNA(VLOOKUP(AE12,Camions!$B:$F,2,0)),\"\",(VLOOKUP(AE12,Camions!$B:$F,2,0)))","v":""},null,null,null,null,null,null,null,null,null,null,null,null,{"$f":"IF(ISNA(VLOOKUP(AE12,Camions!$B:$F,4,0)),\"\",(VLOOKUP(AE12,Camions!$B:$F,4,0)))","v":""}]
[null,null,null,null,null,null,null,null,null,null,null,null,null,null,null,null,null,null,null,null,null,null,null,null,null,0,null,null,null,null,null,null,null,{"$f":"IF(ISNA(VLOOKUP(AE13,Camions!$B:$F,2,0)),\"\",(VLOOKUP(AE13,Camions!$B:$F,2,0)))","v":""},null,null,null,null,null,null,null,null,null,null,null,null,{"$f":"IF(ISNA(VLOOKUP(AE13,Camions!$B:$F,4,0)),\"\",(VLOOKUP(AE13,Camions!$B:$F,4,0)))","v":""}]
[null,null,null,null,null,null,null,null,null,null,null,null,null,null,null,null,null,null,null,null,null,null,null,null,null,0,null,null,null,null,null,null,null,{"$f":"IF(ISNA(VLOOKUP(AE14,Camions!$B:$F,2,0)),\"\",(VLOOKUP(AE14,Camions!$B:$F,2,0)))","v":""},null,null,null,null,null,null,null,null,null,null,null,null,{"$f":"IF(ISNA(VLOOKUP(AE14,Camions!$B:$F,4,0)),\"\",(VLOOKUP(AE14,Camions!$B:$F,4,0)))","v":""}]
[null,null,null,null,null,null,null,null,null,null,null,null,null,null,null,null,null,null,null,null,null,null,null,null,null,0,null,null,null,null,null,null,null,{"$f":"IF(ISNA(VLOOKUP(AE15,Camions!$B:$F,2,0)),\"\",(VLOOKUP(AE15,Camions!$B:$F,2,0)))","v":""},null,null,null,null,null,null,null,null,null,null,null,null,{"$f":"IF(ISNA(VLOOKUP(AE15,Camions!$B:$F,4,0)),\"\",(VLOOKUP(AE15,Camions!$B:$F,4,0)))","v":""}]
[null,null,null,null,null,null,null,null,null,null,null,null,null,null,null,null,null,null,null,null,null,null,null,null,null,0,null,null,null,null,null,null,null,{"$f":"IF(ISNA(VLOOKUP(AE16,Camions!$B:$F,2,0)),\"\",(VLOOKUP(AE16,Camions!$B:$F,2,0)))","v":""},null,null,null,null,null,null,null,null,null,null,null,null,{"$f":"IF(ISNA(VLOOKUP(AE16,Camions!$B:$F,4,0)),\"\",(VLOOKUP(AE16,Camions!$B:$F,4,0)))","v":""}]
[null,null,null,null,null,null,null,null,null,null,null,null,null,null,null,null,null,null,null,null,null,null,null,null,null,0,null,null,null,null,null,null,null,{"$f":"IF(ISNA(VLOOKUP(AE17,Camions!$B:$F,2,0)),\"\",(VLOOKUP(AE17,Camions!$B:$F,2,0)))","v":""},null,null,null,null,null,null,null,null,null,null,null,null,{"$f":"IF(ISNA(VLOOKUP(AE17,Camions!$B:$F,4,0)),\"\",(VLOOKUP(AE17,Camions!$B:$F,4,0)))","v":""}]
[null,null,null,null,null,null,null,null,null,null,null,null,null,null,null,null,null,null,null,null,null,null,null,null,null,0,null,null,null,null,null,null,null,{"$f":"IF(ISNA(VLOOKUP(AE18,Camions!$B:$F,2,0)),\"\",(VLOOKUP(AE18,Camions!$B:$F,2,0)))","v":""},null,null,null,null,null,null,null,null,null,null,null,null,{"$f":"IF(ISNA(VLOOKUP(AE18,Camions!$B:$F,4,0)),\"\",(VLOOKUP(AE18,Camions!$B:$F,4,0)))","v":""}]
[null,null,null,null,null,null,null,null,null,null,null,null,null,null,null,null,null,null,null,null,null,null,null,null,null,0,null,null,null,null,null,null,null,{"$f":"IF(ISNA(VLOOKUP(AE19,Camions!$B:$F,2,0)),\"\",(VLOOKUP(AE19,Camions!$B:$F,2,0)))","v":""},null,null,null,null,null,null,null,null,null,null,null,null,{"$f":"IF(ISNA(VLOOKUP(AE19,Camions!$B:$F,4,0)),\"\",(VLOOKUP(AE19,Camions!$B:$F,4,0)))","v":""}]
[null,null,null,null,null,null,null,null,null,null,null,null,null,null,null,null,null,null,null,null,null,null,null,null,null,0,null,null,null,null,null,null,null,{"$f":"IF(ISNA(VLOOKUP(AE20,Camions!$B:$F,2,0)),\"\",(VLOOKUP(AE20,Camions!$B:$F,2,0)))","v":""},null,null,null,null,null,null,null,null,null,null,null,null,{"$f":"IF(ISNA(VLOOKUP(AE20,Camions!$B:$F,4,0)),\"\",(VLOOKUP(AE20,Camions!$B:$F,4,0)))","v":""}]
[null,null,null,null,null,null,null,null,null,null,null,null,null,null,null,null,null,null,null,null,null,null,null,null,null,0,null,null,null,null,null,null,null,{"$f":"IF(ISNA(VLOOKUP(AE21,Camions!$B:$F,2,0)),\"\",(VLOOKUP(AE21,Camions!$B:$F,2,0)))","v":""},null,null,null,null,null,null,null,null,null,null,null,null,{"$f":"IF(ISNA(VLOOKUP(AE21,Camions!$B:$F,4,0)),\"\",(VLOOKUP(AE21,Camions!$B:$F,4,0)))","v":""}]
[null,null,null,null,null,null,null,null,null,null,null,null,null,null,null,null,null,null,null,null,null,null,null,null,null,0,null,null,null,null,null,null,null,{"$f":"IF(ISNA(VLOOKUP(AE22,Camions!$B:$F,2,0)),\"\",(VLOOKUP(AE22,Camions!$B:$F,2,0)))","v":""},null,null,null,null,null,null,null,null,null,null,null,null,{"$f":"IF(ISNA(VLOOKUP(AE22,Camions!$B:$F,4,0)),\"\",(VLOOKUP(AE22,Camions!$B:$F,4,0)))","v":""}]
[null,null,null,null,null,null,null,null,null,null,null,null,null,null,null,null,null,null,null,null,null,null,null,null,null,0,null,null,null,null,null,null,null,{"$f":"IF(ISNA(VLOOKUP(AE23,Camions!$B:$F,2,0)),\"\",(VLOOKUP(AE23,Camions!$B:$F,2,0)))","v":""},null,null,null,null,null,null,null,null,null,null,null,null,{"$f":"IF(ISNA(VLOOKUP(AE23,Camions!$B:$F,4,0)),\"\",(VLOOKUP(AE23,Camions!$B:$F,4,0)))","v":""}]
[null,null,null,null,null,null,null,null,null,null,null,null,null,null,null,null,null,null,null,null,null,null,null,null,null,0,null,null,null,null,null,null,null,{"$f":"IF(ISNA(VLOOKUP(AE24,Camions!$B:$F,2,0)),\"\",(VLOOKUP(AE24,Camions!$B:$F,2,0)))","v":""},null,null,null,null,null,null,null,null,null,null,null,null,{"$f":"IF(ISNA(VLOOKUP(AE24,Camions!$B:$F,4,0)),\"\",(VLOOKUP(AE24,Camions!$B:$F,4,0)))","v":""}]
[null,null,null,null,null,null,null,null,null,null,null,null,null,null,null,null,null,null,null,null,null,null,null,null,null,0,null,null,null,null,null,null,null,{"$f":"IF(ISNA(VLOOKUP(AE25,Camions!$B:$F,2,0)),\"\",(VLOOKUP(AE25,Camions!$B:$F,2,0)))","v":""},null,null,null,null,null,null,null,null,null,null,null,null,{"$f":"IF(ISNA(VLOOKUP(AE25,Camions!$B:$F,4,0)),\"\",(VLOOKUP(AE25,Camions!$B:$F,4,0)))","v":""}]
[null,null,null,null,null,null,null,null,null,null,null,null,null,null,null,null,null,null,null,null,null,null,null,null,null,0,null,null,null,null,null,null,null,{"$f":"IF(ISNA(VLOOKUP(AE26,Camions!$B:$F,2,0)),\"\",(VLOOKUP(AE26,Camions!$B:$F,2,0)))","v":""},null,null,null,null,null,null,null,null,null,null,null,null,{"$f":"IF(ISNA(VLOOKUP(AE26,Camions!$B:$F,4,0)),\"\",(VLOOKUP(AE26,Camions!$B:$F,4,0)))","v":""}]
[null,null,null,null,null,null,null,null,null,null,null,null,null,null,null,null,null,null,null,null,null,null,null,null,null,0,null,null,null,null,null,null,null,{"$f":"IF(ISNA(VLOOKUP(AE27,Camions!$B:$F,2,0)),\"\",(VLOOKUP(AE27,Camions!$B:$F,2,0)))","v":""},null,null,null,null,null,null,null,null,null,null,null,null,{"$f":"IF(ISNA(VLOOKUP(AE27,Camions!$B:$F,4,0)),\"\",(VLOOKUP(AE27,Camions!$B:$F,4,0)))","v":""}]
[null,null,null,null,null,null,null,null,null,null,null,null,null,null,null,null,null,null,null,null,null,null,null,null,null,0,null,null,null,null,null,null,null,{"$f":"IF(ISNA(VLOOKUP(AE28,Camions!$B:$F,2,0)),\"\",(VLOOKUP(AE28,Camions!$B:$F,2,0)))","v":""},null,null,null,null,null,null,null,null,null,null,null,null,{"$f":"IF(ISNA(VLOOKUP(AE28,Camions!$B:$F,4,0)),\"\",(VLOOKUP(AE28,Camions!$B:$F,4,0)))","v":""}]
[null,null,null,null,null,null,null,null,null,null,null,null,null,null,null,null,null,null,null,null,null,null,null,null,null,0,null,null,null,null,null,null,null,{"$f":"IF(ISNA(VLOOKUP(AE29,Camions!$B:$F,2,0)),\"\",(VLOOKUP(AE29,Camions!$B:$F,2,0)))","v":""},null,null,null,null,null,null,null,null,null,null,null,null,{"$f":"IF(ISNA(VLOOKUP(AE29,Camions!$B:$F,4,0)),\"\",(VLOOKUP(AE29,Camions!$B:$F,4,0)))","v":""}]
[null,null,null,null,null,null,null,null,null,null,null,null,null,null,null,null,null,null,null,null,null,null,null,null,null,0,null,null,null,null,null,null,null,{"$f":"IF(ISNA(VLOOKUP(AE30,Camions!$B:$F,2,0)),\"\",(VLOOKUP(AE30,Camions!$B:$F,2,0)))","v":""},null,null,null,null,null,null,null,null,null,null,null,null,{"$f":"IF(ISNA(VLOOKUP(AE30,Camions!$B:$F,4,0)),\"\",(VLOOKUP(AE30,Camions!$B:$F,4,0)))","v":""}]
[null,null,null,null,null,null,null,null,null,null,null,null,null,null,null,null,null,null,null,null,null,null,null,null,null,0,null,null,null,null,null,null,null,{"$f":"IF(ISNA(VLOOKUP(AE31,Camions!$B:$F,2,0)),\"\",(VLOOKUP(AE31,Camions!$B:$F,2,0)))","v":""},null,null,null,null,null,null,null,null,null,null,null,null,{"$f":"IF(ISNA(VLOOKUP(AE31,Camions!$B:$F,4,0)),\"\",(VLOOKUP(AE31,Camions!$B:$F,4,0)))","v":""}]
[null,null,null,null,null,null,null,null,null,null,null,null,null,null,null,null,null,null,null,null,null,null,null,null,null,0,null,null,null,null,null,null,null,{"$f":"IF(ISNA(VLOOKUP(AE32,Camions!$B:$F,2,0)),\"\",(VLOOKUP(AE32,Camions!$B:$F,2,0)))","v":""},null,null,null,null,null,null,null,null,null,null,null,null,{"$f":"IF(ISNA(VLOOKUP(AE32,Camions!$B:$F,4,0)),\"\",(VLOOKUP(AE32,Camions!$B:$F,4,0)))","v":""}]
[null,null,null,null,null,null,null,null,null,null,null,null,null,null,null,null,null,null,null,null,null,null,null,null,null,0,null,null,null,null,null,null,null,{"$f":"IF(ISNA(VLOOKUP(AE33,Camions!$B:$F,2,0)),\"\",(VLOOKUP(AE33,Camions!$B:$F,2,0)))","v":""},null,null,null,null,null,null,null,null,null,null,null,null,{"$f":"IF(ISNA(VLOOKUP(AE33,Camions!$B:$F,4,0)),\"\",(VLOOKUP(AE33,Camions!$B:$F,4,0)))","v":""}]
[null,null,null,null,null,null,null,null,null,null,null,null,null,null,null,null,null,null,null,null,null,null,null,null,null,0,null,null,null,null,null,null,null,{"$f":"IF(ISNA(VLOOKUP(AE34,Camions!$B:$F,2,0)),\"\",(VLOOKUP(AE34,Camions!$B:$F,2,0)))","v":""},null,null,null,null,null,null,null,null,null,null,null,null,{"$f":"IF(ISNA(VLOOKUP(AE34,Camions!$B:$F,4,0)),\"\",(VLOOKUP(AE34,Camions!$B:$F,4,0)))","v":""}]
[null,null,null,null,null,null,null,null,null,null,null,null,null,null,null,null,null,null,null,null,null,null,null,null,null,0,null,null,null,null,null,null,null,{"$f":"IF(ISNA(VLOOKUP(AE35,Camions!$B:$F,2,0)),\"\",(VLOOKUP(AE35,Camions!$B:$F,2,0)))","v":""},null,null,null,null,null,null,null,null,null,null,null,null,{"$f":"IF(ISNA(VLOOKUP(AE35,Camions!$B:$F,4,0)),\"\",(VLOOKUP(AE35,Camions!$B:$F,4,0)))","v":""}]
[null,null,null,null,null,null,null,null,null,null,null,null,null,null,null,null,null,null,null,null,null,null,null,null,null,0,null,null,null,null,null,null,null,{"$f":"IF(ISNA(VLOOKUP(AE36,Camions!$B:$F,2,0)),\"\",(VLOOKUP(AE36,Camions!$B:$F,2,0)))","v":""},null,null,null,null,null,null,null,null,null,null,null,null,{"$f":"IF(ISNA(VLOOKUP(AE36,Camions!$B:$F,4,0)),\"\",(VLOOKUP(AE36,Camions!$B:$F,4,0)))","v":""}]
[null,null,null,null,null,null,null,null,null,null,null,null,null,null,null,null,null,null,null,null,null,null,null,null,null,0,null,null,null,null,null,null,null,{"$f":"IF(ISNA(VLOOKUP(AE37,Camions!$B:$F,2,0)),\"\",(VLOOKUP(AE37,Camions!$B:$F,2,0)))","v":""},null,null,null,null,null,null,null,null,null,null,null,null,{"$f":"IF(ISNA(VLOOKUP(AE36,Camions!$B:$F,4,0)),\"\",(VLOOKUP(AE36,Camions!$B:$F,4,0)))","v":""}]
["CHANTIER :",null,null,null,null,{"$f":"F1","v":0},null,null,null,null,null,null,null,null,null,null,null,null,null,null,"N° CHANTIER :",null,null,null,null,null,{"$f":"AA1","v":0},null,null,null,"JOUR :",null,null,null,{"$f":"AI1","v":"Jeudi"},null,null,null,null,null,null,null,null,null,null,null,null,null,null,null,null,"DATES :",null,null,{"$f":"BC1","v":"07-01-16"}]
["MATERIEL",null,null,null,null,null,null,null,null,null,null,null,null,null,null,null,null,null,null,null,null,null,null,null,null,null,null,null,null,null,"SOUS-TRAITANTS"]
["Légende :",null,null,null,null,"Pa",".= Panne",null,null,null,null,"Ent",".= Entretien"]
["N°",null,null,"Description du matériel",null,null,null,null,null,null,null,null,null,null,null,null,"Nom de l'opérateur",null,null,null,null,null,null,null,null,"Heures",null,null,null,null,"Type d'engin et description des travaux ",null,null,null,null,null,null,null,null,null,null,null,null,null,null,null,"Sous-traitants",null,null,null,null,null,null,null,null,"Heures"]
[null,null,null,{"$f":"IF(ISNA(VLOOKUP(A42,Machines!$B:$F,2,0)),\"\",(VLOOKUP(A42,Machines!$B:$F,2,0)))","v":""},null,null,null,null,null,null,null,null,null,null,null,null,{"$f":"IF(ISNA(VLOOKUP(A42,Machines!$B:$F,4,0)),\"\",(VLOOKUP(A42,Machines!$B:$F,4,0)))","v":""}]
[null,null,null,{"$f":"IF(ISNA(VLOOKUP(A43,Machines!$B:$F,2,0)),\"\",(VLOOKUP(A43,Machines!$B:$F,2,0)))","v":""},null,null,null,null,null,null,null,null,null,null,null,null,{"$f":"IF(ISNA(VLOOKUP(A43,Machines!$B:$F,4,0)),\"\",(VLOOKUP(A43,Machines!$B:$F,4,0)))","v":""}]
[null,null,null,{"$f":"IF(ISNA(VLOOKUP(A44,Machines!$B:$F,2,0)),\"\",(VLOOKUP(A44,Machines!$B:$F,2,0)))","v":""},null,null,null,null,null,null,null,null,null,null,null,null,{"$f":"IF(ISNA(VLOOKUP(A44,Machines!$B:$F,4,0)),\"\",(VLOOKUP(A44,Machines!$B:$F,4,0)))","v":""}]
[null,null,null,{"$f":"IF(ISNA(VLOOKUP(A45,Machines!$B:$F,2,0)),\"\",(VLOOKUP(A45,Machines!$B:$F,2,0)))","v":""},null,null,null,null,null,null,null,null,null,null,null,null,{"$f":"IF(ISNA(VLOOKUP(A45,Machines!$B:$F,4,0)),\"\",(VLOOKUP(A45,Machines!$B:$F,4,0)))","v":""}]
[null,null,null,{"$f":"IF(ISNA(VLOOKUP(A46,Machines!$B:$F,2,0)),\"\",(VLOOKUP(A46,Machines!$B:$F,2,0)))","v":""},null,null,null,null,null,null,null,null,null,null,null,null,{"$f":"IF(ISNA(VLOOKUP(A46,Machines!$B:$F,4,0)),\"\",(VLOOKUP(A46,Machines!$B:$F,4,0)))","v":""}]
[null,null,null,{"$f":"IF(ISNA(VLOOKUP(A47,Machines!$B:$F,2,0)),\"\",(VLOOKUP(A47,Machines!$B:$F,2,0)))","v":""},null,null,null,null,null,null,null,null,null,null,null,null,{"$f":"IF(ISNA(VLOOKUP(A47,Machines!$B:$F,4,0)),\"\",(VLOOKUP(A47,Machines!$B:$F,4,0)))","v":""}]
[null,null,null,{"$f":"IF(ISNA(VLOOKUP(A48,Machines!$B:$F,2,0)),\"\",(VLOOKUP(A48,Machines!$B:$F,2,0)))","v":""},null,null,null,null,null,null,null,null,null,null,null,null,{"$f":"IF(ISNA(VLOOKUP(A48,Machines!$B:$F,4,0)),\"\",(VLOOKUP(A48,Machines!$B:$F,4,0)))","v":""}]
[null,null,null,{"$f":"IF(ISNA(VLOOKUP(A49,Machines!$B:$F,2,0)),\"\",(VLOOKUP(A49,Machines!$B:$F,2,0)))","v":""},null,null,null,null,null,null,null,null,null,null,null,null,{"$f":"IF(ISNA(VLOOKUP(A49,Machines!$B:$F,4,0)),\"\",(VLOOKUP(A49,Machines!$B:$F,4,0)))","v":""}]
[null,null,null,{"$f":"IF(ISNA(VLOOKUP(A50,Machines!$B:$F,2,0)),\"\",(VLOOKUP(A50,Machines!$B:$F,2,0)))","v":""},null,null,null,null,null,null,null,null,null,null,null,null,{"$f":"IF(ISNA(VLOOKUP(A50,Machines!$B:$F,4,0)),\"\",(VLOOKUP(A50,Machines!$B:$F,4,0)))","v":""}]
[null,null,null,{"$f":"IF(ISNA(VLOOKUP(A51,Machines!$B:$F,2,0)),\"\",(VLOOKUP(A51,Machines!$B:$F,2,0)))","v":""},null,null,null,null,null,null,null,null,null,null,null,null,{"$f":"IF(ISNA(VLOOKUP(A51,Machines!$B:$F,4,0)),\"\",(VLOOKUP(A51,Machines!$B:$F,4,0)))","v":""}]
[null,null,null,{"$f":"IF(ISNA(VLOOKUP(A52,Machines!$B:$F,2,0)),\"\",(VLOOKUP(A52,Machines!$B:$F,2,0)))","v":""},null,null,null,null,null,null,null,null,null,null,null,null,{"$f":"IF(ISNA(VLOOKUP(A52,Machines!$B:$F,4,0)),\"\",(VLOOKUP(A52,Machines!$B:$F,4,0)))","v":""}]
[null,null,null,{"$f":"IF(ISNA(VLOOKUP(A53,Machines!$B:$F,2,0)),\"\",(VLOOKUP(A53,Machines!$B:$F,2,0)))","v":""},null,null,null,null,null,null,null,null,null,null,null,null,{"$f":"IF(ISNA(VLOOKUP(A53,Machines!$B:$F,4,0)),\"\",(VLOOKUP(A53,Machines!$B:$F,4,0)))","v":""}]
[null,null,null,{"$f":"IF(ISNA(VLOOKUP(A54,Machines!$B:$F,2,0)),\"\",(VLOOKUP(A54,Machines!$B:$F,2,0)))","v":""},null,null,null,null,null,null,null,null,null,null,null,null,{"$f":"IF(ISNA(VLOOKUP(A54,Machines!$B:$F,4,0)),\"\",(VLOOKUP(A54,Machines!$B:$F,4,0)))","v":""}]
[null,null,null,{"$f":"IF(ISNA(VLOOKUP(A55,Machines!$B:$F,2,0)),\"\",(VLOOKUP(A55,Machines!$B:$F,2,0)))","v":""},null,null,null,null,null,null,null,null,null,null,null,null,{"$f":"IF(ISNA(VLOOKUP(A55,Machines!$B:$F,4,0)),\"\",(VLOOKUP(A55,Machines!$B:$F,4,0)))","v":""}]
[null,null,null,{"$f":"IF(ISNA(VLOOKUP(A56,Machines!$B:$F,2,0)),\"\",(VLOOKUP(A56,Machines!$B:$F,2,0)))","v":""},null,null,null,null,null,null,null,null,null,null,null,null,{"$f":"IF(ISNA(VLOOKUP(A56,Machines!$B:$F,4,0)),\"\",(VLOOKUP(A56,Machines!$B:$F,4,0)))","v":""}]
[null,null,null,{"$f":"IF(ISNA(VLOOKUP(A57,Machines!$B:$F,2,0)),\"\",(VLOOKUP(A57,Machines!$B:$F,2,0)))","v":""},null,null,null,null,null,null,null,null,null,null,null,null,{"$f":"IF(ISNA(VLOOKUP(A57,Machines!$B:$F,4,0)),\"\",(VLOOKUP(A57,Machines!$B:$F,4,0)))","v":""}]
[null,null,null,{"$f":"IF(ISNA(VLOOKUP(A58,Machines!$B:$F,2,0)),\"\",(VLOOKUP(A58,Machines!$B:$F,2,0)))","v":""},null,null,null,null,null,null,null,null,null,null,null,null,{"$f":"IF(ISNA(VLOOKUP(A58,Machines!$B:$F,4,0)),\"\",(VLOOKUP(A58,Machines!$B:$F,4,0)))","v":""}]
[null,null,null,{"$f":"IF(ISNA(VLOOKUP(A59,Machines!$B:$F,2,0)),\"\",(VLOOKUP(A59,Machines!$B:$F,2,0)))","v":""},null,null,null,null,null,null,null,null,null,null,null,null,{"$f":"IF(ISNA(VLOOKUP(A59,Machines!$B:$F,4,0)),\"\",(VLOOKUP(A59,Machines!$B:$F,4,0)))","v":""}]
[null,null,null,{"$f":"IF(ISNA(VLOOKUP(A60,Machines!$B:$F,2,0)),\"\",(VLOOKUP(A60,Machines!$B:$F,2,0)))","v":""},null,null,null,null,null,null,null,null,null,null,null,null,{"$f":"IF(ISNA(VLOOKUP(A60,Machines!$B:$F,4,0)),\"\",(VLOOKUP(A60,Machines!$B:$F,4,0)))","v":""}]
[null,null,null,{"$f":"IF(ISNA(VLOOKUP(A61,Machines!$B:$F,2,0)),\"\",(VLOOKUP(A61,Machines!$B:$F,2,0)))","v":""},null,null,null,null,null,null,null,null,null,null,null,null,{"$f":"IF(ISNA(VLOOKUP(A61,Machines!$B:$F,4,0)),\"\",(VLOOKUP(A61,Machines!$B:$F,4,0)))","v":""}]
[null,null,null,{"$f":"IF(ISNA(VLOOKUP(A62,Machines!$B:$F,2,0)),\"\",(VLOOKUP(A62,Machines!$B:$F,2,0)))","v":""},null,null,null,null,null,null,null,null,null,null,null,null,{"$f":"IF(ISNA(VLOOKUP(A62,Machines!$B:$F,4,0)),\"\",(VLOOKUP(A62,Machines!$B:$F,4,0)))","v":""}]
[null,null,null,{"$f":"IF(ISNA(VLOOKUP(A63,Machines!$B:$F,2,0)),\"\",(VLOOKUP(A63,Machines!$B:$F,2,0)))","v":""},null,null,null,null,null,null,null,null,null,null,null,null,{"$f":"IF(ISNA(VLOOKUP(A63,Machines!$B:$F,4,0)),\"\",(VLOOKUP(A63,Machines!$B:$F,4,0)))","v":""}]
[null,null,null,{"$f":"IF(ISNA(VLOOKUP(A64,Machines!$B:$F,2,0)),\"\",(VLOOKUP(A64,Machines!$B:$F,2,0)))","v":""},null,null,null,null,null,null,null,null,null,null,null,null,{"$f":"IF(ISNA(VLOOKUP(A64,Machines!$B:$F,4,0)),\"\",(VLOOKUP(A64,Machines!$B:$F,4,0)))","v":""}]
[null,null,null,{"$f":"IF(ISNA(VLOOKUP(A65,Machines!$B:$F,2,0)),\"\",(VLOOKUP(A65,Machines!$B:$F,2,0)))","v":""},null,null,null,null,null,null,null,null,null,null,null,null,{"$f":"IF(ISNA(VLOOKUP(A65,Machines!$B:$F,4,0)),\"\",(VLOOKUP(A65,Machines!$B:$F,4,0)))","v":""}]
[null,null,null,{"$f":"IF(ISNA(VLOOKUP(A66,Machines!$B:$F,2,0)),\"\",(VLOOKUP(A66,Machines!$B:$F,2,0)))","v":""},null,null,null,null,null,null,null,null,null,null,null,null,{"$f":"IF(ISNA(VLOOKUP(A66,Machines!$B:$F,4,0)),\"\",(VLOOKUP(A66,Machines!$B:$F,4,0)))","v":""}]
[null,null,null,{"$f":"IF(ISNA(VLOOKUP(A67,Machines!$B:$F,2,0)),\"\",(VLOOKUP(A67,Machines!$B:$F,2,0)))","v":""},null,null,null,null,null,null,null,null,null,null,null,null,{"$f":"IF(ISNA(VLOOKUP(A67,Machines!$B:$F,4,0)),\"\",(VLOOKUP(A67,Machines!$B:$F,4,0)))","v":""}]
[null,null,null,{"$f":"IF(ISNA(VLOOKUP(A68,Machines!$B:$F,2,0)),\"\",(VLOOKUP(A68,Machines!$B:$F,2,0)))","v":""},null,null,null,null,null,null,null,null,null,null,null,null,{"$f":"IF(ISNA(VLOOKUP(A68,Machines!$B:$F,4,0)),\"\",(VLOOKUP(A68,Machines!$B:$F,4,0)))","v":""}]
[null,null,null,{"$f":"IF(ISNA(VLOOKUP(A69,Machines!$B:$F,2,0)),\"\",(VLOOKUP(A69,Machines!$B:$F,2,0)))","v":""},null,null,null,null,null,null,null,null,null,null,null,null,{"$f":"IF(ISNA(VLOOKUP(A69,Machines!$B:$F,4,0)),\"\",(VLOOKUP(A69,Machines!$B:$F,4,0)))","v":""}]
[null,null,null,{"$f":"IF(ISNA(VLOOKUP(A70,Machines!$B:$F,2,0)),\"\",(VLOOKUP(A70,Machines!$B:$F,2,0)))","v":""},null,null,null,null,null,null,null,null,null,null,null,null,{"$f":"IF(ISNA(VLOOKUP(A70,Machines!$B:$F,4,0)),\"\",(VLOOKUP(A70,Machines!$B:$F,4,0)))","v":""}]
[null,null,null,{"$f":"IF(ISNA(VLOOKUP(A71,Machines!$B:$F,2,0)),\"\",(VLOOKUP(A71,Machines!$B:$F,2,0)))","v":""},null,null,null,null,null,null,null,null,null,null,null,null,{"$f":"IF(ISNA(VLOOKUP(A71,Machines!$B:$F,4,0)),\"\",(VLOOKUP(A71,Machines!$B:$F,4,0)))","v":""}]
[null,null,null,{"$f":"IF(ISNA(VLOOKUP(A72,Machines!$B:$F,2,0)),\"\",(VLOOKUP(A72,Machines!$B:$F,2,0)))","v":""},null,null,null,null,null,null,null,null,null,null,null,null,{"$f":"IF(ISNA(VLOOKUP(A72,Machines!$B:$F,4,0)),\"\",(VLOOKUP(A72,Machines!$B:$F,4,0)))","v":""}]
[null,null,null,{"$f":"IF(ISNA(VLOOKUP(A73,Machines!$B:$F,2,0)),\"\",(VLOOKUP(A73,Machines!$B:$F,2,0)))","v":""},null,null,null,null,null,null,null,null,null,null,null,null,{"$f":"IF(ISNA(VLOOKUP(A73,Machines!$B:$F,4,0)),\"\",(VLOOKUP(A73,Machines!$B:$F,4,0)))","v":""}]
[null,null,null,{"$f":"IF(ISNA(VLOOKUP(A74,Machines!$B:$F,2,0)),\"\",(VLOOKUP(A74,Machines!$B:$F,2,0)))","v":""},null,null,null,null,null,null,null,null,null,null,null,null,{"$f":"IF(ISNA(VLOOKUP(A74,Machines!$B:$F,4,0)),\"\",(VLOOKUP(A74,Machines!$B:$F,4,0)))","v":""}]
["CHANTIER :",null,null,null,null,{"$f":"F1","v":0},null,null,null,null,null,null,null,null,null,null,null,null,null,null,"N° CHANTIER :",null,null,null,null,null,{"$f":"AA1","v":0},null,null,null,"JOUR :",null,null,null,{"$f":"AI1","v":"Jeudi"},null,null,null,null,null,null,null,null,null,null,null,null,null,null,null,null,"DATES :",null,null,{"$f":"BC1","v":"07-01-16"}]
["MATERIAUX"]
[null,null,null,"Fournisseurs",null,null,null,null,null,null,null,null,null,null,null,null,null,null,"Description des fournitures & matériaux",null,null,null,null,null,null,null,null,null,null,null,null,null,null,null,null,null,null,null,null,null,null,null,null,null,null,null,null,null,null,"Qt totales",null,null,null,"U.",null,"Prix"]
[]
[]
[]
[]
[]
[]
[]
[]
[]
[]
[]
[]
[]
[]
[]
[]
[]
[]
[]
[]
[]
[]
[]
[]
[]
[]
[]
[]
[]
[]
[]
[null,null,null,"RESPONSABLE",null,null,null,null,null,null,null,null,"SIGNATURE",null,null,null,null,null,"DESCRIPTION DES TRAVAUX REALISES CE JOUR",null,null,null,null,null,null,null,null,null,null,null,null,null,null,null,null,null,null,null,null,null,null,null,null,null,null,null,null,null,null,"METEO"]
[null,null,null,"JENNES Loïc"]

{"sheet":"08-01-16","index":14,"n_rows":110,"n_cols":56,"rows_kept":110,"cut":false,"hidden":false,"merged":[[69,0,69,2],[69,3,69,15],[69,16,69,24],[69,25,69,28],[69,30,69,45],[69,46,69,54],[69,55,69,58],[109,18,109,48],[111,18,111,48],[108,18,108,48],[108,3,108,11],[108,12,108,17],[109,3,111,11],[109,12,111,17],[107,3,107,17],[107,18,107,48],[99,53,99,54],[99,55,99,58],[100,49,100,52],[100,53,100,54],[100,55,100,58],[103,3,103,17],[101,55,101,58],[102,49,102,52],[102,53,102,54],[102,55,102,58],[103,49,103,52],[103,53,103,54],[99,3,99,17],[99,18,99,48],[100,3,100,17],[100,18,100,48],[103,55,103,58],[103,18,103,48],[101,3,101,17],[101,18,101,48],[102,3,102,17],[102,18,102,48],[101,49,101,52],[101,53,101,54],[97,3,97,17],[97,18,97,48],[98,3,98,17],[98,18,98,48],[99,49,99,52],[91,53,91,54],[91,55,91,58],[92,49,92,52],[92,53,92,54],[92,55,92,58],[95,3,95,17],[95,18,95,48],[96,3,96,17],[96,18,96,48],[93,3,93,17],[93,18,93,48],[94,3,94,17],[94,18,94,48],[93,49,93,52],[93,53,93,54],[93,55,93,58],[94,49,94,52],[94,53,94,54],[94,55,94,58],[91,3,91,17],[91,18,91,48],[92,3,92,17],[92,18,92,48],[89,3,89,17],[89,18,89,48],[90,3,90,17],[90,18,90,48],[91,49,91,52],[83,53,83,54],[83,55,83,58],[84,49,84,52],[84,53,84,54],[84,55,84,58],[87,3,87,17],[87,18,87,48],[88,3,88,17],[88,18,88,48],[85,3,85,17],[85,18,85,48],[86,3,86,17],[86,18,86,48],[85,49,85,52],[85,53,85,54],[85,55,85,58],[86,49,86,52],[86,53,86,54],[86,55,86,58],[87,49,87,52],[87,53,87,54],[83,3,83,17],[83,18,83,48],[84,3,84,17],[84,18,84,48],[81,3,81,17],[81,18,81,48],[82,3,82,17],[82,18,82,48],[83,49,83,52],[74,54,74,58],[75,0,75,58],[76,49,76,52],[76,53,76,54],[76,55,76,58],[79,3,79,17],[79,18,79,48],[80,3,80,17],[80,18,80,48],[77,3,77,17],[77,18,77,48],[78,3,78,17],[78,18,78,48],[77,49,77,52],[77,53,77,54],[77,55,77,58],[78,49,78,52],[78,53,78,54],[78,55,78,58],[79,49,79,52],[79,53,79,54],[76,3,76,17],[76,18,76,48],[74,0,74,4],[74,5,74,19],[74,20,74,25],[74,26,74,28],[74,30,74,32],[74,34,74,47],[74,51,74,53],[79,55,79,58],[0,0,0,4],[0,5,0,19],[0,20,0,25],[0,26,0,28],[0,30,0,32],[0,34,0,47],[0,51,0,53],[0,54,0,58],[1,0,1,28],[1,29,36,29],[1,30,1,58],[2,0,2,4],[2,7,2,10],[2,13,2,16],[2,19,2,22],[2,25,2,28],[2,30,2,34],[2,36,2,39],[2,42,2,45],[3,0,3,15],[3,16,3,18],[3,19,3,21],[3,22,3,24],[3,25,3,28],[3,30,3,32],[3,33,3,45],[3,46,3,54],[3,55,3,58],[4,0,4,15],[4,16,4,18],[4,19,4,21],[4,22,4,24],[4,25,4,28],[4,30,4,32],[4,33,4,45],[4,46,4,54],[4,55,4,58],[5,0,5,15],[5,16,5,18],[5,19,5,21],[5,22,5,24],[5,25,5,28],[5,30,5,32],[5,33,5,45],[5,46,5,54],[5,55,5,58],[6,0,6,15],[6,16,6,18],[6,19,6,21],[6,22,6,24],[6,25,6,28],[6,30,6,32],[6,33,6,45],[6,46,6,54],[6,55,6,58],[7,0,7,15],[7,16,7,18],[7,19,7,21],[7,22,7,24],[7,25,7,28],[7,30,7,32],[7,33,7,45],[7,46,7,54],[7,55,7,58],[8,0,8,15],[8,16,8,18],[8,19,8,21],[8,22,8,24],[8,25,8,28],[8,30,8,32],[8,33,8,45],[8,46,8,54],[8,55,8,58],[9,0,9,15],[9,16,9,18],[9,19,9,21],[9,22,9,24],[9,25,9,28],[9,30,9,32],[9,33,9,45],[9,46,9,54],[9,55,9,58],[10,0,10,15],[10,16,10,18],[10,19,10,21],[10,22,10,24],[10,25,10,28],[10,30,10,32],[10,33,10,45],[10,46,10,54],[10,55,10,58],[11,0,11,15],[11,16,11,18],[11,19,11,21],[11,22,11,24],[11,25,11,28],[11,30,11,32],[11,33,11,45],[11,46,11,54],[11,55,11,58],[12,0,12,15],[12,16,12,18],[12,19,12,21],[12,22,12,24],[12,25,12,28],[12,30,12,32],[12,33,12,45],[12,46,12,54],[12,55,12,58],[13,0,13,15],[13,16,13,18],[13,19,13,21],[13,22,13,24],[13,25,13,28],[13,30,13,32],[13,33,13,45],[13,46,13,54],[13,55,13,58],[14,0,14,15],[14,16,14,18],[14,19,14,21],[14,22,14,24],[14,25,14,28],[14,30,14,32],[14,33,14,45],[14,46,14,54],[14,55,14,58],[15,0,15,15],[15,16,15,18],[15,19,15,21],[15,22,15,24],[15,25,15,28],[15,30,15,32],[15,33,15,45],[15,46,15,54],[15,55,15,58],[16,0,16,15],[16,16,16,18],[16,19,16,21],[16,22,16,24],[16,25,16,28],[16,30,16,32],[16,33,16,45],[16,46,16,54],[16,55,16,58],[17,0,17,15],[17,16,17,18],[17,19,17,21],[17,22,17,24],[17,25,17,28],[17,30,17,32],[17,33,17,45],[17,46,17,54],[17,55,17,58],[18,0,18,15],[18,16,18,18],[18,19,18,21],[18,22,18,24],[18,25,18,28],[18,30,18,32],[18,33,18,45],[18,46,18,54],[18,55,18,58],[19,0,19,15],[19,16,19,18],[19,19,19,21],[19,22,19,24],[19,25,19,28],[19,30,19,32],[19,33,19,45],[19,46,19,54],[19,55,19,58],[20,0,20,15],[20,16,20,18],[20,19,20,21],[20,22,20,24],[20,25,20,28],[20,30,20,32],[20,33,20,45],[20,46,20,54],[20,55,20,58],[21,0,21,15],[21,16,21,18],[21,19,21,21],[21,22,21,24],[21,25,21,28],[21,30,21,32],[21,33,21,45],[21,46,21,54],[21,55,21,58],[22,0,22,15],[22,16,22,18],[22,19,22,21],[22,22,22,24],[22,25,22,28],[22,30,22,32],[22,33,22,45],[22,46,22,54],[22,55,22,58],[23,0,23,15],[23,16,23,18],[23,19,23,21],[23,22,23,24],[23,25,23,28],[23,30,23,32],[23,33,23,45],[23,46,23,54],[23,55,23,58],[24,0,24,15],[24,16,24,18],[24,19,24,21],[24,22,24,24],[24,25,24,28],[24,30,24,32],[24,33,24,45],[24,46,24,54],[24,55,24,58],[25,0,25,15],[25,16,25,18],[25,19,25,21],[25,22,25,24],[25,25,25,28],[25,30,25,32],[25,33,25,45],[25,46,25,54],[25,55,25,58],[26,0,26,15],[26,16,26,18],[26,19,26,21],[26,22,26,24],[26,25,26,28],[26,30,26,32],[26,33,26,45],[26,46,26,54],[26,55,26,58],[27,0,27,15],[27,16,27,18],[27,19,27,21],[27,22,27,24],[27,25,27,28],[27,30,27,32],[27,33,27,45],[27,46,27,54],[27,55,27,58],[28,0,28,15],[28,16,28,18],[28,19,28,21],[28,22,28,24],[28,25,28,28],[28,30,28,32],[28,33,28,45],[28,46,28,54],[28,55,28,58],[29,0,29,15],[29,16,29,18],[29,19,29,21],[29,22,29,24],[29,25,29,28],[29,30,29,32],[29,33,29,45],[29,46,29,54],[29,55,29,58],[30,0,30,15],[30,16,30,18],[30,19,30,21],[30,22,30,24],[30,25,30,28],[30,30,30,32],[30,33,30,45],[30,46,30,54],[30,55,30,58],[31,0,31,15],[31,16,31,18],[31,19,31,21],[31,22,31,24],[31,25,31,28],[31,30,31,32],[31,33,31,45],[31,46,31,54],[31,55,31,58],[32,0,32,15],[32,16,32,18],[32,19,32,21],[32,22,32,24],[32,25,32,28],[32,30,32,32],[32,33,32,45],[32,46,32,54],[32,55,32,58],[33,0,33,15],[33,16,33,18],[33,19,33,21],[33,22,33,24],[33,25,33,28],[33,30,33,32],[33,33,33,45],[33,46,33,54],[33,55,33,58],[34,0,34,15],[34,16,34,18],[34,19,34,21],[34,22,34,24],[34,25,34,28],[34,30,34,32],[34,33,34,45],[34,46,34,54],[34,55,34,58],[35,0,35,15],[35,16,35,18],[35,19,35,21],[35,22,35,24],[35,25,35,28],[35,30,35,32],[35,33,35,45],[35,46,35,54],[35,55,35,58],[36,0,36,15],[36,16,36,18],[36,19,36,21],[36,22,36,24],[36,25,36,28],[36,30,36,32],[36,33,36,45],[36,46,36,54],[36,55,36,58],[37,0,37,4],[37,5,37,19],[37,20,37,25],[37,26,37,28],[37,30,37,32],[37,34,37,47],[37,51,37,53],[37,54,37,58],[38,0,38,28],[38,29,73,29],[38,30,38,58],[39,0,39,4],[39,6,39,9],[39,12,39,15],[40,0,40,2],[40,3,40,15],[40,16,40,24],[40,25,40,28],[40,30,40,45],[40,46,40,54],[40,55,40,58],[41,0,41,2],[41,3,41,15],[41,16,41,24],[41,25,41,28],[41,30,41,45],[41,46,41,54],[41,55,41,58],[42,0,42,2],[42,3,42,15],[42,16,42,24],[42,25,42,28],[42,30,42,45],[42,46,42,54],[42,55,42,58],[43,0,43,2],[43,3,43,15],[43,16,43,24],[43,25,43,28],[43,30,43,45],[43,46,43,54],[43,55,43,58],[44,0,44,2],[44,3,44,15],[44,16,44,24],[44,25,44,28],[44,30,44,45],[44,46,44,54],[44,55,44,58],[45,0,45,2],[45,3,45,15],[45,16,45,24],[45,25,45,28],[45,30,45,45],[45,46,45,54],[45,55,45,58],[46,0,46,2],[46,3,46,15],[46,16,46,24],[46,25,46,28],[46,30,46,45],[46,46,46,54],[46,55,46,58],[47,0,47,2],[47,3,47,15],[47,16,47,24],[47,25,47,28],[47,30,47,45],[47,46,47,54],[47,55,47,58],[48,0,48,2],[48,3,48,15],[48,16,48,24],[48,25,48,28],[48,30,48,45],[48,46,48,54],[48,55,48,58],[49,0,49,2],[49,3,49,15],[49,16,49,24],[49,25,49,28],[49,30,49,45],[49,46,49,54],[49,55,49,58],[50,0,50,2],[50,3,50,15],[50,16,50,24],[50,25,50,28],[50,30,50,45],[50,46,50,54],[50,55,50,58],[51,0,51,2],[51,3,51,15],[51,16,51,24],[51,25,51,28],[51,30,51,45],[51,46,51,54],[51,55,51,58],[52,0,52,2],[52,3,52,15],[52,16,52,24],[52,25,52,28],[52,30,52,45],[52,46,52,54],[52,55,52,58],[53,0,53,2],[53,3,53,15],[53,16,53,24],[53,25,53,28],[53,30,53,45],[53,46,53,54],[53,55,53,58],[54,0,54,2],[54,3,54,15],[54,16,54,24],[54,25,54,28],[54,30,54,45],[54,46,54,54],[54,55,54,58],[55,0,55,2],[55,3,55,15],[55,16,55,24],[55,25,55,28],[55,30,55,45],[55,46,55,54],[55,55,55,58],[56,0,56,2],[56,3,56,15],[56,16,56,24],[56,25,56,28],[56,30,56,45],[56,46,56,54],[56,55,56,58],[57,0,57,2],[57,3,57,15],[57,16,57,24],[57,25,57,28],[57,30,57,45],[57,46,57,54],[57,55,57,58],[58,0,58,2],[58,3,58,15],[58,16,58,24],[58,25,58,28],[58,30,58,45],[58,46,58,54],[58,55,58,58],[59,0,59,2],[59,3,59,15],[59,16,59,24],[59,25,59,28],[59,30,59,45],[59,46,59,54],[59,55,59,58],[60,0,60,2],[60,3,60,15],[60,16,60,24],[60,25,60,28],[60,30,60,45],[60,46,60,54],[60,55,60,58],[61,0,61,2],[61,3,61,15],[61,16,61,24],[61,25,61,28],[61,30,61,45],[61,46,61,54],[61,55,61,58],[62,0,62,2],[62,3,62,15],[62,16,62,24],[62,25,62,28],[62,30,62,45],[62,46,62,54],[62,55,62,58],[63,0,63,2],[63,3,63,15],[63,16,63,24],[63,25,63,28],[63,30,63,45],[63,46,63,54],[63,55,63,58],[64,0,64,2],[64,3,64,15],[64,16,64,24],[64,25,64,28],[64,30,64,45],[64,46,64,54],[64,55,64,58],[65,0,65,2],[65,3,65,15],[65,16,65,24],[65,25,65,28],[65,30,65,45],[65,46,65,54],[65,55,65,58],[66,0,66,2],[66,3,66,15],[66,16,66,24],[66,25,66,28],[66,30,66,45],[66,46,66,54],[66,55,66,58],[67,0,67,2],[67,3,67,15],[67,16,67,24],[67,25,67,28],[67,30,67,45],[67,46,67,54],[67,55,67,58],[68,0,68,2],[68,3,68,15],[68,16,68,24],[68,25,68,28],[68,30,68,45],[68,46,68,54],[68,55,68,58],[70,0,70,2],[70,3,70,15],[70,16,70,24],[70,25,70,28],[70,30,70,45],[70,46,70,54],[70,55,70,58],[71,0,71,2],[71,3,71,15],[71,16,71,24],[71,25,71,28],[71,30,71,45],[71,46,71,54],[71,55,71,58],[72,0,72,2],[72,3,72,15],[72,16,72,24],[72,25,72,28],[72,30,72,45],[72,46,72,54],[72,55,72,58],[73,0,73,2],[73,3,73,15],[73,16,73,24],[73,25,73,28],[73,30,73,45],[73,46,73,54],[73,55,73,58],[80,49,80,52],[80,53,80,54],[80,55,80,58],[81,49,81,52],[81,53,81,54],[81,55,81,58],[82,49,82,52],[82,53,82,54],[82,55,82,58],[87,55,87,58],[88,49,88,52],[88,53,88,54],[88,55,88,58],[89,49,89,52],[89,53,89,54],[89,55,89,58],[90,49,90,52],[90,53,90,54],[90,55,90,58],[95,55,95,58],[96,49,96,52],[96,53,96,54],[96,55,96,58],[97,49,97,52],[97,53,97,54],[97,55,97,58],[98,49,98,52],[98,53,98,54],[98,55,98,58],[95,49,95,52],[95,53,95,54],[104,55,104,58],[105,3,105,17],[105,18,105,48],[105,49,105,52],[105,53,105,54],[105,55,105,58],[108,49,108,58],[109,49,111,58],[106,49,106,52],[106,53,106,54],[106,55,106,58],[107,49,107,52],[107,53,107,54],[107,55,107,58],[106,3,106,17],[106,18,106,48],[104,3,104,17],[104,18,104,48],[104,49,104,52],[104,53,104,54],[110,18,110,48]]}
["CHANTIER :",null,null,null,null,{"$f":"'01-01-16'!F1","v":0},null,null,null,null,null,null,null,null,null,null,null,null,null,null,"N° CHANTIER :",null,null,null,null,null,{"$f":"'01-01-16'!AA1","v":0},null,null,null,"JOUR :",null,null,null,{"$f":" CHOOSE(WEEKDAY(BC1,2),\"Lundi\",\"Mardi\",\"Mercredi\",\"Jeudi\",\"Vendredi\",\"Samedi\",\"Dimanche\")","v":"Vendredi"},null,null,null,null,null,null,null,null,null,null,null,null,null,null,null,null,"DATES :",null,null,{"$f":"MID(CELL(\"nomfichier\",A1),FIND(\"]\",CELL(\"nomfichier\",A1),1)+1,30)","v":"08-01-16"}]
["MAIN D'ŒUVRE",null,null,null,null,null,null,null,null,null,null,null,null,null,null,null,null,null,null,null,null,null,null,null,null,null,null,null,null,null,"CAMIONS"]
["Légende :",null,null,null,null,null,"Co",".= Congé",null,null,null,null,"M",".= Malade",null,null,null,null,"Cho",".= Chômage",null,null,null,null,"Va",".= Vacance",null,null,null,null,"Légende :",null,null,null,null,"Pa",".= Panne",null,null,null,null,"Ent",".= Entretien"]
["NOM - Prénom du travailleur",null,null,null,null,null,null,null,null,null,null,null,null,null,null,null,"Début journée",null,null,"Arrêt repas",null,null,"Fin journée",null,null,"Heures prestées",null,null,null,null,"N°",null,null,"Description du matériel",null,null,null,null,null,null,null,null,null,null,null,null,"Nom de l'opérateur",null,null,null,null,null,null,null,null,"Heures"]
[null,null,null,null,null,null,null,null,null,null,null,null,null,null,null,null,null,null,null,null,null,null,null,null,null,{"$f":"W5-Q5-T5","v":0},null,null,null,null,null,null,null,{"$f":"IF(ISNA(VLOOKUP(AE5,Camions!$B:$F,2,0)),\"\",(VLOOKUP(AE5,Camions!$B:$F,2,0)))","v":""},null,null,null,null,null,null,null,null,null,null,null,null,{"$f":"IF(ISNA(VLOOKUP(AE5,Camions!$B:$F,4,0)),\"\",(VLOOKUP(AE5,Camions!$B:$F,4,0)))","v":""}]
[null,null,null,null,null,null,null,null,null,null,null,null,null,null,null,null,null,null,null,null,null,null,null,null,null,{"$f":"W6-Q6-T6","v":0},null,null,null,null,null,null,null,{"$f":"IF(ISNA(VLOOKUP(AE6,Camions!$B:$F,2,0)),\"\",(VLOOKUP(AE6,Camions!$B:$F,2,0)))","v":""},null,null,null,null,null,null,null,null,null,null,null,null,{"$f":"IF(ISNA(VLOOKUP(AE6,Camions!$B:$F,4,0)),\"\",(VLOOKUP(AE6,Camions!$B:$F,4,0)))","v":""}]
[null,null,null,null,null,null,null,null,null,null,null,null,null,null,null,null,null,null,null,null,null,null,null,null,null,0,null,null,null,null,null,null,null,{"$f":"IF(ISNA(VLOOKUP(AE7,Camions!$B:$F,2,0)),\"\",(VLOOKUP(AE7,Camions!$B:$F,2,0)))","v":""},null,null,null,null,null,null,null,null,null,null,null,null,{"$f":"IF(ISNA(VLOOKUP(AE7,Camions!$B:$F,4,0)),\"\",(VLOOKUP(AE7,Camions!$B:$F,4,0)))","v":""}]
[null,null,null,null,null,null,null,null,null,null,null,null,null,null,null,null,null,null,null,null,null,null,null,null,null,0,null,null,null,null,null,null,null,{"$f":"IF(ISNA(VLOOKUP(AE8,Camions!$B:$F,2,0)),\"\",(VLOOKUP(AE8,Camions!$B:$F,2,0)))","v":""},null,null,null,null,null,null,null,null,null,null,null,null,{"$f":"IF(ISNA(VLOOKUP(AE8,Camions!$B:$F,4,0)),\"\",(VLOOKUP(AE8,Camions!$B:$F,4,0)))","v":""}]
[null,null,null,null,null,null,null,null,null,null,null,null,null,null,null,null,null,null,null,null,null,null,null,null,null,0,null,null,null,null,null,null,null,{"$f":"IF(ISNA(VLOOKUP(AE9,Camions!$B:$F,2,0)),\"\",(VLOOKUP(AE9,Camions!$B:$F,2,0)))","v":""},null,null,null,null,null,null,null,null,null,null,null,null,{"$f":"IF(ISNA(VLOOKUP(AE9,Camions!$B:$F,4,0)),\"\",(VLOOKUP(AE9,Camions!$B:$F,4,0)))","v":""}]
[null,null,null,null,null,null,null,null,null,null,null,null,null,null,null,null,null,null,null,null,null,null,null,null,null,0,null,null,null,null,null,null,null,{"$f":"IF(ISNA(VLOOKUP(AE10,Camions!$B:$F,2,0)),\"\",(VLOOKUP(AE10,Camions!$B:$F,2,0)))","v":""},null,null,null,null,null,null,null,null,null,null,null,null,{"$f":"IF(ISNA(VLOOKUP(AE10,Camions!$B:$F,4,0)),\"\",(VLOOKUP(AE10,Camions!$B:$F,4,0)))","v":""}]
[null,null,null,null,null,null,null,null,null,null,null,null,null,null,null,null,null,null,null,null,null,null,null,null,null,0,null,null,null,null,null,null,null,{"$f":"IF(ISNA(VLOOKUP(AE11,Camions!$B:$F,2,0)),\"\",(VLOOKUP(AE11,Camions!$B:$F,2,0)))","v":""},null,null,null,null,null,null,null,null,null,null,null,null,{"$f":"IF(ISNA(VLOOKUP(AE11,Camions!$B:$F,4,0)),\"\",(VLOOKUP(AE11,Camions!$B:$F,4,0)))","v":""}]
[null,null,null,null,null,null,null,null,null,null,null,null,null,null,null,null,null,null,null,null,null,null,null,null,null,0,null,null,null,null,null,null,null,{"$f":"IF(ISNA(VLOOKUP(AE12,Camions!$B:$F,2,0)),\"\",(VLOOKUP(AE12,Camions!$B:$F,2,0)))","v":""},null,null,null,null,null,null,null,null,null,null,null,null,{"$f":"IF(ISNA(VLOOKUP(AE12,Camions!$B:$F,4,0)),\"\",(VLOOKUP(AE12,Camions!$B:$F,4,0)))","v":""}]
[null,null,null,null,null,null,null,null,null,null,null,null,null,null,null,null,null,null,null,null,null,null,null,null,null,0,null,null,null,null,null,null,null,{"$f":"IF(ISNA(VLOOKUP(AE13,Camions!$B:$F,2,0)),\"\",(VLOOKUP(AE13,Camions!$B:$F,2,0)))","v":""},null,null,null,null,null,null,null,null,null,null,null,null,{"$f":"IF(ISNA(VLOOKUP(AE13,Camions!$B:$F,4,0)),\"\",(VLOOKUP(AE13,Camions!$B:$F,4,0)))","v":""}]
[null,null,null,null,null,null,null,null,null,null,null,null,null,null,null,null,null,null,null,null,null,null,null,null,null,0,null,null,null,null,null,null,null,{"$f":"IF(ISNA(VLOOKUP(AE14,Camions!$B:$F,2,0)),\"\",(VLOOKUP(AE14,Camions!$B:$F,2,0)))","v":""},null,null,null,null,null,null,null,null,null,null,null,null,{"$f":"IF(ISNA(VLOOKUP(AE14,Camions!$B:$F,4,0)),\"\",(VLOOKUP(AE14,Camions!$B:$F,4,0)))","v":""}]
[null,null,null,null,null,null,null,null,null,null,null,null,null,null,null,null,null,null,null,null,null,null,null,null,null,0,null,null,null,null,null,null,null,{"$f":"IF(ISNA(VLOOKUP(AE15,Camions!$B:$F,2,0)),\"\",(VLOOKUP(AE15,Camions!$B:$F,2,0)))","v":""},null,null,null,null,null,null,null,null,null,null,null,null,{"$f":"IF(ISNA(VLOOKUP(AE15,Camions!$B:$F,4,0)),\"\",(VLOOKUP(AE15,Camions!$B:$F,4,0)))","v":""}]
[null,null,null,null,null,null,null,null,null,null,null,null,null,null,null,null,null,null,null,null,null,null,null,null,null,0,null,null,null,null,null,null,null,{"$f":"IF(ISNA(VLOOKUP(AE16,Camions!$B:$F,2,0)),\"\",(VLOOKUP(AE16,Camions!$B:$F,2,0)))","v":""},null,null,null,null,null,null,null,null,null,null,null,null,{"$f":"IF(ISNA(VLOOKUP(AE16,Camions!$B:$F,4,0)),\"\",(VLOOKUP(AE16,Camions!$B:$F,4,0)))","v":""}]
[null,null,null,null,null,null,null,null,null,null,null,null,null,null,null,null,null,null,null,null,null,null,null,null,null,0,null,null,null,null,null,null,null,{"$f":"IF(ISNA(VLOOKUP(AE17,Camions!$B:$F,2,0)),\"\",(VLOOKUP(AE17,Camions!$B:$F,2,0)))","v":""},null,null,null,null,null,null,null,null,null,null,null,null,{"$f":"IF(ISNA(VLOOKUP(AE17,Camions!$B:$F,4,0)),\"\",(VLOOKUP(AE17,Camions!$B:$F,4,0)))","v":""}]
[null,null,null,null,null,null,null,null,null,null,null,null,null,null,null,null,null,null,null,null,null,null,null,null,null,0,null,null,null,null,null,null,null,{"$f":"IF(ISNA(VLOOKUP(AE18,Camions!$B:$F,2,0)),\"\",(VLOOKUP(AE18,Camions!$B:$F,2,0)))","v":""},null,null,null,null,null,null,null,null,null,null,null,null,{"$f":"IF(ISNA(VLOOKUP(AE18,Camions!$B:$F,4,0)),\"\",(VLOOKUP(AE18,Camions!$B:$F,4,0)))","v":""}]
[null,null,null,null,null,null,null,null,null,null,null,null,null,null,null,null,null,null,null,null,null,null,null,null,null,0,null,null,null,null,null,null,null,{"$f":"IF(ISNA(VLOOKUP(AE19,Camions!$B:$F,2,0)),\"\",(VLOOKUP(AE19,Camions!$B:$F,2,0)))","v":""},null,null,null,null,null,null,null,null,null,null,null,null,{"$f":"IF(ISNA(VLOOKUP(AE19,Camions!$B:$F,4,0)),\"\",(VLOOKUP(AE19,Camions!$B:$F,4,0)))","v":""}]
[null,null,null,null,null,null,null,null,null,null,null,null,null,null,null,null,null,null,null,null,null,null,null,null,null,0,null,null,null,null,null,null,null,{"$f":"IF(ISNA(VLOOKUP(AE20,Camions!$B:$F,2,0)),\"\",(VLOOKUP(AE20,Camions!$B:$F,2,0)))","v":""},null,null,null,null,null,null,null,null,null,null,null,null,{"$f":"IF(ISNA(VLOOKUP(AE20,Camions!$B:$F,4,0)),\"\",(VLOOKUP(AE20,Camions!$B:$F,4,0)))","v":""}]
[null,null,null,null,null,null,null,null,null,null,null,null,null,null,null,null,null,null,null,null,null,null,null,null,null,0,null,null,null,null,null,null,null,{"$f":"IF(ISNA(VLOOKUP(AE21,Camions!$B:$F,2,0)),\"\",(VLOOKUP(AE21,Camions!$B:$F,2,0)))","v":""},null,null,null,null,null,null,null,null,null,null,null,null,{"$f":"IF(ISNA(VLOOKUP(AE21,Camions!$B:$F,4,0)),\"\",(VLOOKUP(AE21,Camions!$B:$F,4,0)))","v":""}]
[null,null,null,null,null,null,null,null,null,null,null,null,null,null,null,null,null,null,null,null,null,null,null,null,null,0,null,null,null,null,null,null,null,{"$f":"IF(ISNA(VLOOKUP(AE22,Camions!$B:$F,2,0)),\"\",(VLOOKUP(AE22,Camions!$B:$F,2,0)))","v":""},null,null,null,null,null,null,null,null,null,null,null,null,{"$f":"IF(ISNA(VLOOKUP(AE22,Camions!$B:$F,4,0)),\"\",(VLOOKUP(AE22,Camions!$B:$F,4,0)))","v":""}]
[null,null,null,null,null,null,null,null,null,null,null,null,null,null,null,null,null,null,null,null,null,null,null,null,null,0,null,null,null,null,null,null,null,{"$f":"IF(ISNA(VLOOKUP(AE23,Camions!$B:$F,2,0)),\"\",(VLOOKUP(AE23,Camions!$B:$F,2,0)))","v":""},null,null,null,null,null,null,null,null,null,null,null,null,{"$f":"IF(ISNA(VLOOKUP(AE23,Camions!$B:$F,4,0)),\"\",(VLOOKUP(AE23,Camions!$B:$F,4,0)))","v":""}]
[null,null,null,null,null,null,null,null,null,null,null,null,null,null,null,null,null,null,null,null,null,null,null,null,null,0,null,null,null,null,null,null,null,{"$f":"IF(ISNA(VLOOKUP(AE24,Camions!$B:$F,2,0)),\"\",(VLOOKUP(AE24,Camions!$B:$F,2,0)))","v":""},null,null,null,null,null,null,null,null,null,null,null,null,{"$f":"IF(ISNA(VLOOKUP(AE24,Camions!$B:$F,4,0)),\"\",(VLOOKUP(AE24,Camions!$B:$F,4,0)))","v":""}]
[null,null,null,null,null,null,null,null,null,null,null,null,null,null,null,null,null,null,null,null,null,null,null,null,null,0,null,null,null,null,null,null,null,{"$f":"IF(ISNA(VLOOKUP(AE25,Camions!$B:$F,2,0)),\"\",(VLOOKUP(AE25,Camions!$B:$F,2,0)))","v":""},null,null,null,null,null,null,null,null,null,null,null,null,{"$f":"IF(ISNA(VLOOKUP(AE25,Camions!$B:$F,4,0)),\"\",(VLOOKUP(AE25,Camions!$B:$F,4,0)))","v":""}]
[null,null,null,null,null,null,null,null,null,null,null,null,null,null,null,null,null,null,null,null,null,null,null,null,null,0,null,null,null,null,null,null,null,{"$f":"IF(ISNA(VLOOKUP(AE26,Camions!$B:$F,2,0)),\"\",(VLOOKUP(AE26,Camions!$B:$F,2,0)))","v":""},null,null,null,null,null,null,null,null,null,null,null,null,{"$f":"IF(ISNA(VLOOKUP(AE26,Camions!$B:$F,4,0)),\"\",(VLOOKUP(AE26,Camions!$B:$F,4,0)))","v":""}]
[null,null,null,null,null,null,null,null,null,null,null,null,null,null,null,null,null,null,null,null,null,null,null,null,null,0,null,null,null,null,null,null,null,{"$f":"IF(ISNA(VLOOKUP(AE27,Camions!$B:$F,2,0)),\"\",(VLOOKUP(AE27,Camions!$B:$F,2,0)))","v":""},null,null,null,null,null,null,null,null,null,null,null,null,{"$f":"IF(ISNA(VLOOKUP(AE27,Camions!$B:$F,4,0)),\"\",(VLOOKUP(AE27,Camions!$B:$F,4,0)))","v":""}]
[null,null,null,null,null,null,null,null,null,null,null,null,null,null,null,null,null,null,null,null,null,null,null,null,null,0,null,null,null,null,null,null,null,{"$f":"IF(ISNA(VLOOKUP(AE28,Camions!$B:$F,2,0)),\"\",(VLOOKUP(AE28,Camions!$B:$F,2,0)))","v":""},null,null,null,null,null,null,null,null,null,null,null,null,{"$f":"IF(ISNA(VLOOKUP(AE28,Camions!$B:$F,4,0)),\"\",(VLOOKUP(AE28,Camions!$B:$F,4,0)))","v":""}]
[null,null,null,null,null,null,null,null,null,null,null,null,null,null,null,null,null,null,null,null,null,null,null,null,null,0,null,null,null,null,null,null,null,{"$f":"IF(ISNA(VLOOKUP(AE29,Camions!$B:$F,2,0)),\"\",(VLOOKUP(AE29,Camions!$B:$F,2,0)))","v":""},null,null,null,null,null,null,null,null,null,null,null,null,{"$f":"IF(ISNA(VLOOKUP(AE29,Camions!$B:$F,4,0)),\"\",(VLOOKUP(AE29,Camions!$B:$F,4,0)))","v":""}]
[null,null,null,null,null,null,null,null,null,null,null,null,null,null,null,null,null,null,null,null,null,null,null,null,null,0,null,null,null,null,null,null,null,{"$f":"IF(ISNA(VLOOKUP(AE30,Camions!$B:$F,2,0)),\"\",(VLOOKUP(AE30,Camions!$B:$F,2,0)))","v":""},null,null,null,null,null,null,null,null,null,null,null,null,{"$f":"IF(ISNA(VLOOKUP(AE30,Camions!$B:$F,4,0)),\"\",(VLOOKUP(AE30,Camions!$B:$F,4,0)))","v":""}]
[null,null,null,null,null,null,null,null,null,null,null,null,null,null,null,null,null,null,null,null,null,null,null,null,null,0,null,null,null,null,null,null,null,{"$f":"IF(ISNA(VLOOKUP(AE31,Camions!$B:$F,2,0)),\"\",(VLOOKUP(AE31,Camions!$B:$F,2,0)))","v":""},null,null,null,null,null,null,null,null,null,null,null,null,{"$f":"IF(ISNA(VLOOKUP(AE31,Camions!$B:$F,4,0)),\"\",(VLOOKUP(AE31,Camions!$B:$F,4,0)))","v":""}]
[null,null,null,null,null,null,null,null,null,null,null,null,null,null,null,null,null,null,null,null,null,null,null,null,null,0,null,null,null,null,null,null,null,{"$f":"IF(ISNA(VLOOKUP(AE32,Camions!$B:$F,2,0)),\"\",(VLOOKUP(AE32,Camions!$B:$F,2,0)))","v":""},null,null,null,null,null,null,null,null,null,null,null,null,{"$f":"IF(ISNA(VLOOKUP(AE32,Camions!$B:$F,4,0)),\"\",(VLOOKUP(AE32,Camions!$B:$F,4,0)))","v":""}]
[null,null,null,null,null,null,null,null,null,null,null,null,null,null,null,null,null,null,null,null,null,null,null,null,null,0,null,null,null,null,null,null,null,{"$f":"IF(ISNA(VLOOKUP(AE33,Camions!$B:$F,2,0)),\"\",(VLOOKUP(AE33,Camions!$B:$F,2,0)))","v":""},null,null,null,null,null,null,null,null,null,null,null,null,{"$f":"IF(ISNA(VLOOKUP(AE33,Camions!$B:$F,4,0)),\"\",(VLOOKUP(AE33,Camions!$B:$F,4,0)))","v":""}]
[null,null,null,null,null,null,null,null,null,null,null,null,null,null,null,null,null,null,null,null,null,null,null,null,null,0,null,null,null,null,null,null,null,{"$f":"IF(ISNA(VLOOKUP(AE34,Camions!$B:$F,2,0)),\"\",(VLOOKUP(AE34,Camions!$B:$F,2,0)))","v":""},null,null,null,null,null,null,null,null,null,null,null,null,{"$f":"IF(ISNA(VLOOKUP(AE34,Camions!$B:$F,4,0)),\"\",(VLOOKUP(AE34,Camions!$B:$F,4,0)))","v":""}]
[null,null,null,null,null,null,null,null,null,null,null,null,null,null,null,null,null,null,null,null,null,null,null,null,null,0,null,null,null,null,null,null,null,{"$f":"IF(ISNA(VLOOKUP(AE35,Camions!$B:$F,2,0)),\"\",(VLOOKUP(AE35,Camions!$B:$F,2,0)))","v":""},null,null,null,null,null,null,null,null,null,null,null,null,{"$f":"IF(ISNA(VLOOKUP(AE35,Camions!$B:$F,4,0)),\"\",(VLOOKUP(AE35,Camions!$B:$F,4,0)))","v":""}]
[null,null,null,null,null,null,null,null,null,null,null,null,null,null,null,null,null,null,null,null,null,null,null,null,null,0,null,null,null,null,null,null,null,{"$f":"IF(ISNA(VLOOKUP(AE36,Camions!$B:$F,2,0)),\"\",(VLOOKUP(AE36,Camions!$B:$F,2,0)))","v":""},null,null,null,null,null,null,null,null,null,null,null,null,{"$f":"IF(ISNA(VLOOKUP(AE36,Camions!$B:$F,4,0)),\"\",(VLOOKUP(AE36,Camions!$B:$F,4,0)))","v":""}]
[null,null,null,null,null,null,null,null,null,null,null,null,null,null,null,null,null,null,null,null,null,null,null,null,null,0,null,null,null,null,null,null,null,{"$f":"IF(ISNA(VLOOKUP(AE37,Camions!$B:$F,2,0)),\"\",(VLOOKUP(AE37,Camions!$B:$F,2,0)))","v":""},null,null,null,null,null,null,null,null,null,null,null,null,{"$f":"IF(ISNA(VLOOKUP(AE36,Camions!$B:$F,4,0)),\"\",(VLOOKUP(AE36,Camions!$B:$F,4,0)))","v":""}]
["CHANTIER :",null,null,null,null,{"$f":"F1","v":0},null,null,null,null,null,null,null,null,null,null,null,null,null,null,"N° CHANTIER :",null,null,null,null,null,{"$f":"AA1","v":0},null,null,null,"JOUR :",null,null,null,{"$f":"AI1","v":"Vendredi"},null,null,null,null,null,null,null,null,null,null,null,null,null,null,null,null,"DATES :",null,null,{"$f":"BC1","v":"08-01-16"}]
["MATERIEL",null,null,null,null,null,null,null,null,null,null,null,null,null,null,null,null,null,null,null,null,null,null,null,null,null,null,null,null,null,"SOUS-TRAITANTS"]
["Légende :",null,null,null,null,"Pa",".= Panne",null,null,null,null,"Ent",".= Entretien"]
["N°",null,null,"Description du matériel",null,null,null,null,null,null,null,null,null,null,null,null,"Nom de l'opérateur",null,null,null,null,null,null,null,null,"Heures",null,null,null,null,"Type d'engin et description des travaux ",null,null,null,null,null,null,null,null,null,null,null,null,null,null,null,"Sous-traitants",null,null,null,null,null,null,null,null,"Heures"]
[null,null,null,{"$f":"IF(ISNA(VLOOKUP(A42,Machines!$B:$F,2,0)),\"\",(VLOOKUP(A42,Machines!$B:$F,2,0)))","v":""},null,null,null,null,null,null,null,null,null,null,null,null,{"$f":"IF(ISNA(VLOOKUP(A42,Machines!$B:$F,4,0)),\"\",(VLOOKUP(A42,Machines!$B:$F,4,0)))","v":""}]
[null,null,null,{"$f":"IF(ISNA(VLOOKUP(A43,Machines!$B:$F,2,0)),\"\",(VLOOKUP(A43,Machines!$B:$F,2,0)))","v":""},null,null,null,null,null,null,null,null,null,null,null,null,{"$f":"IF(ISNA(VLOOKUP(A43,Machines!$B:$F,4,0)),\"\",(VLOOKUP(A43,Machines!$B:$F,4,0)))","v":""}]
[null,null,null,{"$f":"IF(ISNA(VLOOKUP(A44,Machines!$B:$F,2,0)),\"\",(VLOOKUP(A44,Machines!$B:$F,2,0)))","v":""},null,null,null,null,null,null,null,null,null,null,null,null,{"$f":"IF(ISNA(VLOOKUP(A44,Machines!$B:$F,4,0)),\"\",(VLOOKUP(A44,Machines!$B:$F,4,0)))","v":""}]
[null,null,null,{"$f":"IF(ISNA(VLOOKUP(A45,Machines!$B:$F,2,0)),\"\",(VLOOKUP(A45,Machines!$B:$F,2,0)))","v":""},null,null,null,null,null,null,null,null,null,null,null,null,{"$f":"IF(ISNA(VLOOKUP(A45,Machines!$B:$F,4,0)),\"\",(VLOOKUP(A45,Machines!$B:$F,4,0)))","v":""}]
[null,null,null,{"$f":"IF(ISNA(VLOOKUP(A46,Machines!$B:$F,2,0)),\"\",(VLOOKUP(A46,Machines!$B:$F,2,0)))","v":""},null,null,null,null,null,null,null,null,null,null,null,null,{"$f":"IF(ISNA(VLOOKUP(A46,Machines!$B:$F,4,0)),\"\",(VLOOKUP(A46,Machines!$B:$F,4,0)))","v":""}]
[null,null,null,{"$f":"IF(ISNA(VLOOKUP(A47,Machines!$B:$F,2,0)),\"\",(VLOOKUP(A47,Machines!$B:$F,2,0)))","v":""},null,null,null,null,null,null,null,null,null,null,null,null,{"$f":"IF(ISNA(VLOOKUP(A47,Machines!$B:$F,4,0)),\"\",(VLOOKUP(A47,Machines!$B:$F,4,0)))","v":""}]
[null,null,null,{"$f":"IF(ISNA(VLOOKUP(A48,Machines!$B:$F,2,0)),\"\",(VLOOKUP(A48,Machines!$B:$F,2,0)))","v":""},null,null,null,null,null,null,null,null,null,null,null,null,{"$f":"IF(ISNA(VLOOKUP(A48,Machines!$B:$F,4,0)),\"\",(VLOOKUP(A48,Machines!$B:$F,4,0)))","v":""}]
[null,null,null,{"$f":"IF(ISNA(VLOOKUP(A49,Machines!$B:$F,2,0)),\"\",(VLOOKUP(A49,Machines!$B:$F,2,0)))","v":""},null,null,null,null,null,null,null,null,null,null,null,null,{"$f":"IF(ISNA(VLOOKUP(A49,Machines!$B:$F,4,0)),\"\",(VLOOKUP(A49,Machines!$B:$F,4,0)))","v":""}]
[null,null,null,{"$f":"IF(ISNA(VLOOKUP(A50,Machines!$B:$F,2,0)),\"\",(VLOOKUP(A50,Machines!$B:$F,2,0)))","v":""},null,null,null,null,null,null,null,null,null,null,null,null,{"$f":"IF(ISNA(VLOOKUP(A50,Machines!$B:$F,4,0)),\"\",(VLOOKUP(A50,Machines!$B:$F,4,0)))","v":""}]
[null,null,null,{"$f":"IF(ISNA(VLOOKUP(A51,Machines!$B:$F,2,0)),\"\",(VLOOKUP(A51,Machines!$B:$F,2,0)))","v":""},null,null,null,null,null,null,null,null,null,null,null,null,{"$f":"IF(ISNA(VLOOKUP(A51,Machines!$B:$F,4,0)),\"\",(VLOOKUP(A51,Machines!$B:$F,4,0)))","v":""}]
[null,null,null,{"$f":"IF(ISNA(VLOOKUP(A52,Machines!$B:$F,2,0)),\"\",(VLOOKUP(A52,Machines!$B:$F,2,0)))","v":""},null,null,null,null,null,null,null,null,null,null,null,null,{"$f":"IF(ISNA(VLOOKUP(A52,Machines!$B:$F,4,0)),\"\",(VLOOKUP(A52,Machines!$B:$F,4,0)))","v":""}]
[null,null,null,{"$f":"IF(ISNA(VLOOKUP(A53,Machines!$B:$F,2,0)),\"\",(VLOOKUP(A53,Machines!$B:$F,2,0)))","v":""},null,null,null,null,null,null,null,null,null,null,null,null,{"$f":"IF(ISNA(VLOOKUP(A53,Machines!$B:$F,4,0)),\"\",(VLOOKUP(A53,Machines!$B:$F,4,0)))","v":""}]
[null,null,null,{"$f":"IF(ISNA(VLOOKUP(A54,Machines!$B:$F,2,0)),\"\",(VLOOKUP(A54,Machines!$B:$F,2,0)))","v":""},null,null,null,null,null,null,null,null,null,null,null,null,{"$f":"IF(ISNA(VLOOKUP(A54,Machines!$B:$F,4,0)),\"\",(VLOOKUP(A54,Machines!$B:$F,4,0)))","v":""}]
[null,null,null,{"$f":"IF(ISNA(VLOOKUP(A55,Machines!$B:$F,2,0)),\"\",(VLOOKUP(A55,Machines!$B:$F,2,0)))","v":""},null,null,null,null,null,null,null,null,null,null,null,null,{"$f":"IF(ISNA(VLOOKUP(A55,Machines!$B:$F,4,0)),\"\",(VLOOKUP(A55,Machines!$B:$F,4,0)))","v":""}]
[null,null,null,{"$f":"IF(ISNA(VLOOKUP(A56,Machines!$B:$F,2,0)),\"\",(VLOOKUP(A56,Machines!$B:$F,2,0)))","v":""},null,null,null,null,null,null,null,null,null,null,null,null,{"$f":"IF(ISNA(VLOOKUP(A56,Machines!$B:$F,4,0)),\"\",(VLOOKUP(A56,Machines!$B:$F,4,0)))","v":""}]
[null,null,null,{"$f":"IF(ISNA(VLOOKUP(A57,Machines!$B:$F,2,0)),\"\",(VLOOKUP(A57,Machines!$B:$F,2,0)))","v":""},null,null,null,null,null,null,null,null,null,null,null,null,{"$f":"IF(ISNA(VLOOKUP(A57,Machines!$B:$F,4,0)),\"\",(VLOOKUP(A57,Machines!$B:$F,4,0)))","v":""}]
[null,null,null,{"$f":"IF(ISNA(VLOOKUP(A58,Machines!$B:$F,2,0)),\"\",(VLOOKUP(A58,Machines!$B:$F,2,0)))","v":""},null,null,null,null,null,null,null,null,null,null,null,null,{"$f":"IF(ISNA(VLOOKUP(A58,Machines!$B:$F,4,0)),\"\",(VLOOKUP(A58,Machines!$B:$F,4,0)))","v":""}]
[null,null,null,{"$f":"IF(ISNA(VLOOKUP(A59,Machines!$B:$F,2,0)),\"\",(VLOOKUP(A59,Machines!$B:$F,2,0)))","v":""},null,null,null,null,null,null,null,null,null,null,null,null,{"$f":"IF(ISNA(VLOOKUP(A59,Machines!$B:$F,4,0)),\"\",(VLOOKUP(A59,Machines!$B:$F,4,0)))","v":""}]
[null,null,null,{"$f":"IF(ISNA(VLOOKUP(A60,Machines!$B:$F,2,0)),\"\",(VLOOKUP(A60,Machines!$B:$F,2,0)))","v":""},null,null,null,null,null,null,null,null,null,null,null,null,{"$f":"IF(ISNA(VLOOKUP(A60,Machines!$B:$F,4,0)),\"\",(VLOOKUP(A60,Machines!$B:$F,4,0)))","v":""}]
[null,null,null,{"$f":"IF(ISNA(VLOOKUP(A61,Machines!$B:$F,2,0)),\"\",(VLOOKUP(A61,Machines!$B:$F,2,0)))","v":""},null,null,null,null,null,null,null,null,null,null,null,null,{"$f":"IF(ISNA(VLOOKUP(A61,Machines!$B:$F,4,0)),\"\",(VLOOKUP(A61,Machines!$B:$F,4,0)))","v":""}]
[null,null,null,{"$f":"IF(ISNA(VLOOKUP(A62,Machines!$B:$F,2,0)),\"\",(VLOOKUP(A62,Machines!$B:$F,2,0)))","v":""},null,null,null,null,null,null,null,null,null,null,null,null,{"$f":"IF(ISNA(VLOOKUP(A62,Machines!$B:$F,4,0)),\"\",(VLOOKUP(A62,Machines!$B:$F,4,0)))","v":""}]
[null,null,null,{"$f":"IF(ISNA(VLOOKUP(A63,Machines!$B:$F,2,0)),\"\",(VLOOKUP(A63,Machines!$B:$F,2,0)))","v":""},null,null,null,null,null,null,null,null,null,null,null,null,{"$f":"IF(ISNA(VLOOKUP(A63,Machines!$B:$F,4,0)),\"\",(VLOOKUP(A63,Machines!$B:$F,4,0)))","v":""}]
[null,null,null,{"$f":"IF(ISNA(VLOOKUP(A64,Machines!$B:$F,2,0)),\"\",(VLOOKUP(A64,Machines!$B:$F,2,0)))","v":""},null,null,null,null,null,null,null,null,null,null,null,null,{"$f":"IF(ISNA(VLOOKUP(A64,Machines!$B:$F,4,0)),\"\",(VLOOKUP(A64,Machines!$B:$F,4,0)))","v":""}]
[null,null,null,{"$f":"IF(ISNA(VLOOKUP(A65,Machines!$B:$F,2,0)),\"\",(VLOOKUP(A65,Machines!$B:$F,2,0)))","v":""},null,null,null,null,null,null,null,null,null,null,null,null,{"$f":"IF(ISNA(VLOOKUP(A65,Machines!$B:$F,4,0)),\"\",(VLOOKUP(A65,Machines!$B:$F,4,0)))","v":""}]
[null,null,null,{"$f":"IF(ISNA(VLOOKUP(A66,Machines!$B:$F,2,0)),\"\",(VLOOKUP(A66,Machines!$B:$F,2,0)))","v":""},null,null,null,null,null,null,null,null,null,null,null,null,{"$f":"IF(ISNA(VLOOKUP(A66,Machines!$B:$F,4,0)),\"\",(VLOOKUP(A66,Machines!$B:$F,4,0)))","v":""}]
[null,null,null,{"$f":"IF(ISNA(VLOOKUP(A67,Machines!$B:$F,2,0)),\"\",(VLOOKUP(A67,Machines!$B:$F,2,0)))","v":""},null,null,null,null,null,null,null,null,null,null,null,null,{"$f":"IF(ISNA(VLOOKUP(A67,Machines!$B:$F,4,0)),\"\",(VLOOKUP(A67,Machines!$B:$F,4,0)))","v":""}]
[null,null,null,{"$f":"IF(ISNA(VLOOKUP(A68,Machines!$B:$F,2,0)),\"\",(VLOOKUP(A68,Machines!$B:$F,2,0)))","v":""},null,null,null,null,null,null,null,null,null,null,null,null,{"$f":"IF(ISNA(VLOOKUP(A68,Machines!$B:$F,4,0)),\"\",(VLOOKUP(A68,Machines!$B:$F,4,0)))","v":""}]
[null,null,null,{"$f":"IF(ISNA(VLOOKUP(A69,Machines!$B:$F,2,0)),\"\",(VLOOKUP(A69,Machines!$B:$F,2,0)))","v":""},null,null,null,null,null,null,null,null,null,null,null,null,{"$f":"IF(ISNA(VLOOKUP(A69,Machines!$B:$F,4,0)),\"\",(VLOOKUP(A69,Machines!$B:$F,4,0)))","v":""}]
[null,null,null,{"$f":"IF(ISNA(VLOOKUP(A70,Machines!$B:$F,2,0)),\"\",(VLOOKUP(A70,Machines!$B:$F,2,0)))","v":""},null,null,null,null,null,null,null,null,null,null,null,null,{"$f":"IF(ISNA(VLOOKUP(A70,Machines!$B:$F,4,0)),\"\",(VLOOKUP(A70,Machines!$B:$F,4,0)))","v":""}]
[null,null,null,{"$f":"IF(ISNA(VLOOKUP(A71,Machines!$B:$F,2,0)),\"\",(VLOOKUP(A71,Machines!$B:$F,2,0)))","v":""},null,null,null,null,null,null,null,null,null,null,null,null,{"$f":"IF(ISNA(VLOOKUP(A71,Machines!$B:$F,4,0)),\"\",(VLOOKUP(A71,Machines!$B:$F,4,0)))","v":""}]
[null,null,null,{"$f":"IF(ISNA(VLOOKUP(A72,Machines!$B:$F,2,0)),\"\",(VLOOKUP(A72,Machines!$B:$F,2,0)))","v":""},null,null,null,null,null,null,null,null,null,null,null,null,{"$f":"IF(ISNA(VLOOKUP(A72,Machines!$B:$F,4,0)),\"\",(VLOOKUP(A72,Machines!$B:$F,4,0)))","v":""}]
[null,null,null,{"$f":"IF(ISNA(VLOOKUP(A73,Machines!$B:$F,2,0)),\"\",(VLOOKUP(A73,Machines!$B:$F,2,0)))","v":""},null,null,null,null,null,null,null,null,null,null,null,null,{"$f":"IF(ISNA(VLOOKUP(A73,Machines!$B:$F,4,0)),\"\",(VLOOKUP(A73,Machines!$B:$F,4,0)))","v":""}]
[null,null,null,{"$f":"IF(ISNA(VLOOKUP(A74,Machines!$B:$F,2,0)),\"\",(VLOOKUP(A74,Machines!$B:$F,2,0)))","v":""},null,null,null,null,null,null,null,null,null,null,null,null,{"$f":"IF(ISNA(VLOOKUP(A74,Machines!$B:$F,4,0)),\"\",(VLOOKUP(A74,Machines!$B:$F,4,0)))","v":""}]
["CHANTIER :",null,null,null,null,{"$f":"F1","v":0},null,null,null,null,null,null,null,null,null,null,null,null,null,null,"N° CHANTIER :",null,null,null,null,null,{"$f":"AA1","v":0},null,null,null,"JOUR :",null,null,null,{"$f":"AI1","v":"Vendredi"},null,null,null,null,null,null,null,null,null,null,null,null,null,null,null,null,"DATES :",null,null,{"$f":"BC1","v":"08-01-16"}]
["MATERIAUX"]
[null,null,null,"Fournisseurs",null,null,null,null,null,null,null,null,null,null,null,null,null,null,"Description des fournitures & matériaux",null,null,null,null,null,null,null,null,null,null,null,null,null,null,null,null,null,null,null,null,null,null,null,null,null,null,null,null,null,null,"Qt totales",null,null,null,"U.",null,"Prix"]
[]
[]
[]
[]
[]
[]
[]
[]
[]
[]
[]
[]
[]
[]
[]
[]
[]
[]
[]
[]
[]
[]
[]
[]
[]
[]
[]
[]
[]
[]
[]
[null,null,null,"RESPONSABLE",null,null,null,null,null,null,null,null,"SIGNATURE",null,null,null,null,null,"DESCRIPTION DES TRAVAUX REALISES CE JOUR",null,null,null,null,null,null,null,null,null,null,null,null,null,null,null,null,null,null,null,null,null,null,null,null,null,null,null,null,null,null,"METEO"]
[null,null,null,"JENNES Loïc"]

{"sheet":"09-01-16","index":15,"n_rows":110,"n_cols":56,"rows_kept":110,"cut":false,"hidden":false,"merged":[[109,18,109,48],[111,18,111,48],[108,18,108,48],[108,3,108,11],[108,12,108,17],[109,3,111,11],[109,12,111,17],[107,3,107,17],[107,18,107,48],[110,18,110,48],[105,3,105,17],[105,18,105,48],[106,3,106,17],[106,18,106,48],[106,49,106,52],[107,49,107,52],[102,3,102,17],[102,18,102,48],[99,3,99,17],[99,18,99,48],[100,3,100,17],[100,18,100,48],[101,49,101,52],[101,53,101,54],[101,55,101,58],[102,49,102,52],[102,53,102,54],[102,55,102,58],[99,55,99,58],[100,49,100,52],[100,53,100,54],[100,55,100,58],[95,53,95,54],[95,55,95,58],[96,49,96,52],[96,53,96,54],[96,55,96,58],[97,49,97,52],[97,53,97,54],[101,3,101,17],[101,18,101,48],[97,3,97,17],[97,18,97,48],[98,3,98,17],[98,18,98,48],[95,3,95,17],[95,18,95,48],[96,3,96,17],[96,18,96,48],[95,49,95,52],[97,55,97,58],[98,49,98,52],[98,53,98,54],[98,55,98,58],[99,49,99,52],[99,53,99,54],[94,3,94,17],[94,18,94,48],[91,3,91,17],[91,18,91,48],[92,3,92,17],[92,18,92,48],[93,49,93,52],[93,53,93,54],[93,55,93,58],[94,49,94,52],[94,53,94,54],[94,55,94,58],[91,55,91,58],[92,49,92,52],[92,53,92,54],[92,55,92,58],[87,53,87,54],[87,55,87,58],[88,49,88,52],[88,53,88,54],[88,55,88,58],[89,49,89,52],[89,53,89,54],[93,3,93,17],[93,18,93,48],[89,3,89,17],[89,18,89,48],[90,3,90,17],[90,18,90,48],[87,3,87,17],[87,18,87,48],[88,3,88,17],[88,18,88,48],[87,49,87,52],[89,55,89,58],[90,49,90,52],[90,53,90,54],[90,55,90,58],[91,49,91,52],[91,53,91,54],[86,3,86,17],[86,18,86,48],[83,3,83,17],[83,18,83,48],[84,3,84,17],[84,18,84,48],[85,49,85,52],[85,53,85,54],[85,55,85,58],[86,49,86,52],[86,53,86,54],[86,55,86,58],[83,55,83,58],[84,49,84,52],[84,53,84,54],[84,55,84,58],[79,53,79,54],[79,55,79,58],[80,49,80,52],[80,53,80,54],[80,55,80,58],[81,49,81,52],[81,53,81,54],[85,3,85,17],[85,18,85,48],[81,3,81,17],[81,18,81,48],[82,3,82,17],[82,18,82,48],[79,3,79,17],[79,18,79,48],[80,3,80,17],[80,18,80,48],[79,49,79,52],[81,55,81,58],[82,49,82,52],[82,53,82,54],[82,55,82,58],[83,49,83,52],[83,53,83,54],[74,54,74,58],[75,0,75,58],[76,49,76,52],[76,53,76,54],[76,55,76,58],[77,3,77,17],[77,18,77,48],[78,3,78,17],[78,18,78,48],[77,49,77,52],[77,53,77,54],[77,55,77,58],[78,49,78,52],[78,53,78,54],[78,55,78,58],[76,3,76,17],[76,18,76,48],[74,0,74,4],[74,5,74,19],[74,20,74,25],[74,26,74,28],[74,30,74,32],[74,34,74,47],[74,51,74,53],[0,0,0,4],[0,5,0,19],[0,20,0,25],[0,26,0,28],[0,30,0,32],[0,34,0,47],[0,51,0,53],[0,54,0,58],[1,0,1,28],[1,29,36,29],[1,30,1,58],[2,0,2,4],[2,7,2,10],[2,13,2,16],[2,19,2,22],[2,25,2,28],[2,30,2,34],[2,36,2,39],[2,42,2,45],[3,0,3,15],[3,16,3,18],[3,19,3,21],[3,22,3,24],[3,25,3,28],[3,30,3,32],[3,33,3,45],[3,46,3,54],[3,55,3,58],[4,0,4,15],[4,16,4,18],[4,19,4,21],[4,22,4,24],[4,25,4,28],[4,30,4,32],[4,33,4,45],[4,46,4,54],[4,55,4,58],[5,0,5,15],[5,16,5,18],[5,19,5,21],[5,22,5,24],[5,25,5,28],[5,30,5,32],[5,33,5,45],[5,46,5,54],[5,55,5,58],[6,0,6,15],[6,16,6,18],[6,19,6,21],[6,22,6,24],[6,25,6,28],[6,30,6,32],[6,33,6,45],[6,46,6,54],[6,55,6,58],[7,0,7,15],[7,16,7,18],[7,19,7,21],[7,22,7,24],[7,25,7,28],[7,30,7,32],[7,33,7,45],[7,46,7,54],[7,55,7,58],[8,0,8,15],[8,16,8,18],[8,19,8,21],[8,22,8,24],[8,25,8,28],[8,30,8,32],[8,33,8,45],[8,46,8,54],[8,55,8,58],[9,0,9,15],[9,16,9,18],[9,19,9,21],[9,22,9,24],[9,25,9,28],[9,30,9,32],[9,33,9,45],[9,46,9,54],[9,55,9,58],[10,0,10,15],[10,16,10,18],[10,19,10,21],[10,22,10,24],[10,25,10,28],[10,30,10,32],[10,33,10,45],[10,46,10,54],[10,55,10,58],[11,0,11,15],[11,16,11,18],[11,19,11,21],[11,22,11,24],[11,25,11,28],[11,30,11,32],[11,33,11,45],[11,46,11,54],[11,55,11,58],[12,0,12,15],[12,16,12,18],[12,19,12,21],[12,22,12,24],[12,25,12,28],[12,30,12,32],[12,33,12,45],[12,46,12,54],[12,55,12,58],[13,0,13,15],[13,16,13,18],[13,19,13,21],[13,22,13,24],[13,25,13,28],[13,30,13,32],[13,33,13,45],[13,46,13,54],[13,55,13,58],[14,0,14,15],[14,16,14,18],[14,19,14,21],[14,22,14,24],[14,25,14,28],[14,30,14,32],[14,33,14,45],[14,46,14,54],[14,55,14,58],[15,0,15,15],[15,16,15,18],[15,19,15,21],[15,22,15,24],[15,25,15,28],[15,30,15,32],[15,33,15,45],[15,46,15,54],[15,55,15,58],[16,0,16,15],[16,16,16,18],[16,19,16,21],[16,22,16,24],[16,25,16,28],[16,30,16,32],[16,33,16,45],[16,46,16,54],[16,55,16,58],[17,0,17,15],[17,16,17,18],[17,19,17,21],[17,22,17,24],[17,25,17,28],[17,30,17,32],[17,33,17,45],[17,46,17,54],[17,55,17,58],[18,0,18,15],[18,16,18,18],[18,19,18,21],[18,22,18,24],[18,25,18,28],[18,30,18,32],[18,33,18,45],[18,46,18,54],[18,55,18,58],[19,0,19,15],[19,16,19,18],[19,19,19,21],[19,22,19,24],[19,25,19,28],[19,30,19,32],[19,33,19,45],[19,46,19,54],[19,55,19,58],[20,0,20,15],[20,16,20,18],[20,19,20,21],[20,22,20,24],[20,25,20,28],[20,30,20,32],[20,33,20,45],[20,46,20,54],[20,55,20,58],[21,0,21,15],[21,16,21,18],[21,19,21,21],[21,22,21,24],[21,25,21,28],[21,30,21,32],[21,33,21,45],[21,46,21,54],[21,55,21,58],[22,0,22,15],[22,16,22,18],[22,19,22,21],[22,22,22,24],[22,25,22,28],[22,30,22,32],[22,33,22,45],[22,46,22,54],[22,55,22,58],[23,0,23,15],[23,16,23,18],[23,19,23,21],[23,22,23,24],[23,25,23,28],[23,30,23,32],[23,33,23,45],[23,46,23,54],[23,55,23,58],[24,0,24,15],[24,16,24,18],[24,19,24,21],[24,22,24,24],[24,25,24,28],[24,30,24,32],[24,33,24,45],[24,46,24,54],[24,55,24,58],[25,0,25,15],[25,16,25,18],[25,19,25,21],[25,22,25,24],[25,25,25,28],[25,30,25,32],[25,33,25,45],[25,46,25,54],[25,55,25,58],[26,0,26,15],[26,16,26,18],[26,19,26,21],[26,22,26,24],[26,25,26,28],[26,30,26,32],[26,33,26,45],[26,46,26,54],[26,55,26,58],[27,0,27,15],[27,16,27,18],[27,19,27,21],[27,22,27,24],[27,25,27,28],[27,30,27,32],[27,33,27,45],[27,46,27,54],[27,55,27,58],[28,0,28,15],[28,16,28,18],[28,19,28,21],[28,22,28,24],[28,25,28,28],[28,30,28,32],[28,33,28,45],[28,46,28,54],[28,55,28,58],[29,0,29,15],[29,16,29,18],[29,19,29,21],[29,22,29,24],[29,25,29,28],[29,30,29,32],[29,33,29,45],[29,46,29,54],[29,55,29,58],[30,0,30,15],[30,16,30,18],[30,19,30,21],[30,22,30,24],[30,25,30,28],[30,30,30,32],[30,33,30,45],[30,46,30,54],[30,55,30,58],[31,0,31,15],[31,16,31,18],[31,19,31,21],[31,22,31,24],[31,25,31,28],[31,30,31,32],[31,33,31,45],[31,46,31,54],[31,55,31,58],[32,0,32,15],[32,16,32,18],[32,19,32,21],[32,22,32,24],[32,25,32,28],[32,30,32,32],[32,33,32,45],[32,46,32,54],[32,55,32,58],[33,0,33,15],[33,16,33,18],[33,19,33,21],[33,22,33,24],[33,25,33,28],[33,30,33,32],[33,33,33,45],[33,46,33,54],[33,55,33,58],[34,0,34,15],[34,16,34,18],[34,19,34,21],[34,22,34,24],[34,25,34,28],[34,30,34,32],[34,33,34,45],[34,46,34,54],[34,55,34,58],[35,0,35,15],[35,16,35,18],[35,19,35,21],[35,22,35,24],[35,25,35,28],[35,30,35,32],[35,33,35,45],[35,46,35,54],[35,55,35,58],[36,0,36,15],[36,16,36,18],[36,19,36,21],[36,22,36,24],[36,25,36,28],[36,30,36,32],[36,33,36,45],[36,46,36,54],[36,55,36,58],[37,0,37,4],[37,5,37,19],[37,20,37,25],[37,26,37,28],[37,30,37,32],[37,34,37,47],[37,51,37,53],[37,54,37,58],[38,0,38,28],[38,29,73,29],[38,30,38,58],[39,0,39,4],[39,6,39,9],[39,12,39,15],[40,0,40,2],[40,3,40,15],[40,16,40,24],[40,25,40,28],[40,30,40,45],[40,46,40,54],[40,55,40,58],[41,0,41,2],[41,3,41,15],[41,16,41,24],[41,25,41,28],[41,30,41,45],[41,46,41,54],[41,55,41,58],[42,0,42,2],[42,3,42,15],[42,16,42,24],[42,25,42,28],[42,30,42,45],[42,46,42,54],[42,55,42,58],[43,0,43,2],[43,3,43,15],[43,16,43,24],[43,25,43,28],[43,30,43,45],[43,46,43,54],[43,55,43,58],[44,0,44,2],[44,3,44,15],[44,16,44,24],[44,25,44,28],[44,30,44,45],[44,46,44,54],[44,55,44,58],[45,0,45,2],[45,3,45,15],[45,16,45,24],[45,25,45,28],[45,30,45,45],[45,46,45,54],[45,55,45,58],[46,0,46,2],[46,3,46,15],[46,16,46,24],[46,25,46,28],[46,30,46,45],[46,46,46,54],[46,55,46,58],[47,0,47,2],[47,3,47,15],[47,16,47,24],[47,25,47,28],[47,30,47,45],[47,46,47,54],[47,55,47,58],[48,0,48,2],[48,3,48,15],[48,16,48,24],[48,25,48,28],[48,30,48,45],[48,46,48,54],[48,55,48,58],[49,0,49,2],[49,3,49,15],[49,16,49,24],[49,25,49,28],[49,30,49,45],[49,46,49,54],[49,55,49,58],[50,0,50,2],[50,3,50,15],[50,16,50,24],[50,25,50,28],[50,30,50,45],[50,46,50,54],[50,55,50,58],[51,0,51,2],[51,3,51,15],[51,16,51,24],[51,25,51,28],[51,30,51,45],[51,46,51,54],[51,55,51,58],[52,0,52,2],[52,3,52,15],[52,16,52,24],[52,25,52,28],[52,30,52,45],[52,46,52,54],[52,55,52,58],[53,0,53,2],[53,3,53,15],[53,16,53,24],[53,25,53,28],[53,30,53,45],[53,46,53,54],[53,55,53,58],[54,0,54,2],[54,3,54,15],[54,16,54,24],[54,25,54,28],[54,30,54,45],[54,46,54,54],[54,55,54,58],[55,0,55,2],[55,3,55,15],[55,16,55,24],[55,25,55,28],[55,30,55,45],[55,46,55,54],[55,55,55,58],[56,0,56,2],[56,3,56,15],[56,16,56,24],[56,25,56,28],[56,30,56,45],[56,46,56,54],[56,55,56,58],[57,0,57,2],[57,3,57,15],[57,16,57,24],[57,25,57,28],[57,30,57,45],[57,46,57,54],[57,55,57,58],[58,0,58,2],[58,3,58,15],[58,16,58,24],[58,25,58,28],[58,30,58,45],[58,46,58,54],[58,55,58,58],[59,0,59,2],[59,3,59,15],[59,16,59,24],[59,25,59,28],[59,30,59,45],[59,46,59,54],[59,55,59,58],[60,0,60,2],[60,3,60,15],[60,16,60,24],[60,25,60,28],[60,30,60,45],[60,46,60,54],[60,55,60,58],[61,0,61,2],[61,3,61,15],[61,16,61,24],[61,25,61,28],[61,30,61,45],[61,46,61,54],[61,55,61,58],[62,0,62,2],[62,3,62,15],[62,16,62,24],[62,25,62,28],[62,30,62,45],[62,46,62,54],[62,55,62,58],[63,0,63,2],[63,3,63,15],[63,16,63,24],[63,25,63,28],[63,30,63,45],[63,46,63,54],[63,55,63,58],[64,0,64,2],[64,3,64,15],[64,16,64,24],[64,25,64,28],[64,30,64,45],[64,46,64,54],[64,55,64,58],[65,0,65,2],[65,3,65,15],[65,16,65,24],[65,25,65,28],[65,30,65,45],[65,46,65,54],[65,55,65,58],[66,0,66,2],[66,3,66,15],[66,16,66,24],[66,25,66,28],[66,30,66,45],[66,46,66,54],[66,55,66,58],[67,0,67,2],[67,3,67,15],[67,16,67,24],[67,25,67,28],[67,30,67,45],[67,46,67,54],[67,55,67,58],[68,0,68,2],[68,3,68,15],[68,16,68,24],[68,25,68,28],[68,30,68,45],[68,46,68,54],[68,55,68,58],[73,55,73,58],[70,0,70,2],[70,3,70,15],[70,16,70,24],[70,25,70,28],[70,30,70,45],[70,46,70,54],[70,55,70,58],[71,0,71,2],[71,3,71,15],[71,16,71,24],[71,25,71,28],[71,30,71,45],[71,46,71,54],[71,55,71,58],[69,0,69,2],[69,3,69,15],[69,16,69,24],[69,25,69,28],[69,30,69,45],[69,46,69,54],[69,55,69,58],[104,3,104,17],[104,18,104,48],[103,3,103,17],[103,18,103,48],[72,0,72,2],[72,3,72,15],[72,16,72,24],[72,25,72,28],[72,30,72,45],[72,46,72,54],[72,55,72,58],[73,0,73,2],[73,3,73,15],[73,16,73,24],[73,25,73,28],[73,30,73,45],[73,46,73,54],[108,49,108,58],[109,49,111,58],[103,49,103,52],[103,53,103,54],[103,55,103,58],[104,49,104,52],[104,53,104,54],[104,55,104,58],[105,49,105,52],[105,53,105,54],[105,55,105,58],[106,53,106,54],[106,55,106,58],[107,53,107,54],[107,55,107,58]]}
["CHANTIER :",null,null,null,null,{"$f":"'01-01-16'!F1","v":0},null,null,null,null,null,null,null,null,null,null,null,null,null,null,"N° CHANTIER :",null,null,null,null,null,{"$f":"'01-01-16'!AA1","v":0},null,null,null,"JOUR :",null,null,null,{"$f":" CHOOSE(WEEKDAY(BC1,2),\"Lundi\",\"Mardi\",\"Mercredi\",\"Jeudi\",\"Vendredi\",\"Samedi\",\"Dimanche\")","v":"Samedi"},null,null,null,null,null,null,null,null,null,null,null,null,null,null,null,null,"DATES :",null,null,{"$f":"MID(CELL(\"nomfichier\",A1),FIND(\"]\",CELL(\"nomfichier\",A1),1)+1,30)","v":"09-01-16"}]
["MAIN D'ŒUVRE",null,null,null,null,null,null,null,null,null,null,null,null,null,null,null,null,null,null,null,null,null,null,null,null,null,null,null,null,null,"CAMIONS"]
["Légende :",null,null,null,null,null,"Co",".= Congé",null,null,null,null,"M",".= Malade",null,null,null,null,"Cho",".= Chômage",null,null,null,null,"Va",".= Vacance",null,null,null,null,"Légende :",null,null,null,null,"Pa",".= Panne",null,null,null,null,"Ent",".= Entretien"]
["NOM - Prénom du travailleur",null,null,null,null,null,null,null,null,null,null,null,null,null,null,null,"Début journée",null,null,"Arrêt repas",null,null,"Fin journée",null,null,"Heures prestées",null,null,null,null,"N°",null,null,"Description du matériel",null,null,null,null,null,null,null,null,null,null,null,null,"Nom de l'opérateur",null,null,null,null,null,null,null,null,"Heures"]
[null,null,null,null,null,null,null,null,null,null,null,null,null,null,null,null,null,null,null,null,null,null,null,null,null,{"$f":"W5-Q5-T5","v":0},null,null,null,null,null,null,null,{"$f":"IF(ISNA(VLOOKUP(AE5,Camions!$B:$F,2,0)),\"\",(VLOOKUP(AE5,Camions!$B:$F,2,0)))","v":""},null,null,null,null,null,null,null,null,null,null,null,null,{"$f":"IF(ISNA(VLOOKUP(AE5,Camions!$B:$F,4,0)),\"\",(VLOOKUP(AE5,Camions!$B:$F,4,0)))","v":""}]
[null,null,null,null,null,null,null,null,null,null,null,null,null,null,null,null,null,null,null,null,null,null,null,null,null,{"$f":"W6-Q6-T6","v":0},null,null,null,null,null,null,null,{"$f":"IF(ISNA(VLOOKUP(AE6,Camions!$B:$F,2,0)),\"\",(VLOOKUP(AE6,Camions!$B:$F,2,0)))","v":""},null,null,null,null,null,null,null,null,null,null,null,null,{"$f":"IF(ISNA(VLOOKUP(AE6,Camions!$B:$F,4,0)),\"\",(VLOOKUP(AE6,Camions!$B:$F,4,0)))","v":""}]
[null,null,null,null,null,null,null,null,null,null,null,null,null,null,null,null,null,null,null,null,null,null,null,null,null,0,null,null,null,null,null,null,null,{"$f":"IF(ISNA(VLOOKUP(AE7,Camions!$B:$F,2,0)),\"\",(VLOOKUP(AE7,Camions!$B:$F,2,0)))","v":""},null,null,null,null,null,null,null,null,null,null,null,null,{"$f":"IF(ISNA(VLOOKUP(AE7,Camions!$B:$F,4,0)),\"\",(VLOOKUP(AE7,Camions!$B:$F,4,0)))","v":""}]
[null,null,null,null,null,null,null,null,null,null,null,null,null,null,null,null,null,null,null,null,null,null,null,null,null,0,null,null,null,null,null,null,null,{"$f":"IF(ISNA(VLOOKUP(AE8,Camions!$B:$F,2,0)),\"\",(VLOOKUP(AE8,Camions!$B:$F,2,0)))","v":""},null,null,null,null,null,null,null,null,null,null,null,null,{"$f":"IF(ISNA(VLOOKUP(AE8,Camions!$B:$F,4,0)),\"\",(VLOOKUP(AE8,Camions!$B:$F,4,0)))","v":""}]
[null,null,null,null,null,null,null,null,null,null,null,null,null,null,null,null,null,null,null,null,null,null,null,null,null,0,null,null,null,null,null,null,null,{"$f":"IF(ISNA(VLOOKUP(AE9,Camions!$B:$F,2,0)),\"\",(VLOOKUP(AE9,Camions!$B:$F,2,0)))","v":""},null,null,null,null,null,null,null,null,null,null,null,null,{"$f":"IF(ISNA(VLOOKUP(AE9,Camions!$B:$F,4,0)),\"\",(VLOOKUP(AE9,Camions!$B:$F,4,0)))","v":""}]
[null,null,null,null,null,null,null,null,null,null,null,null,null,null,null,null,null,null,null,null,null,null,null,null,null,0,null,null,null,null,null,null,null,{"$f":"IF(ISNA(VLOOKUP(AE10,Camions!$B:$F,2,0)),\"\",(VLOOKUP(AE10,Camions!$B:$F,2,0)))","v":""},null,null,null,null,null,null,null,null,null,null,null,null,{"$f":"IF(ISNA(VLOOKUP(AE10,Camions!$B:$F,4,0)),\"\",(VLOOKUP(AE10,Camions!$B:$F,4,0)))","v":""}]
[null,null,null,null,null,null,null,null,null,null,null,null,null,null,null,null,null,null,null,null,null,null,null,null,null,0,null,null,null,null,null,null,null,{"$f":"IF(ISNA(VLOOKUP(AE11,Camions!$B:$F,2,0)),\"\",(VLOOKUP(AE11,Camions!$B:$F,2,0)))","v":""},null,null,null,null,null,null,null,null,null,null,null,null,{"$f":"IF(ISNA(VLOOKUP(AE11,Camions!$B:$F,4,0)),\"\",(VLOOKUP(AE11,Camions!$B:$F,4,0)))","v":""}]
[null,null,null,null,null,null,null,null,null,null,null,null,null,null,null,null,null,null,null,null,null,null,null,null,null,0,null,null,null,null,null,null,null,{"$f":"IF(ISNA(VLOOKUP(AE12,Camions!$B:$F,2,0)),\"\",(VLOOKUP(AE12,Camions!$B:$F,2,0)))","v":""},null,null,null,null,null,null,null,null,null,null,null,null,{"$f":"IF(ISNA(VLOOKUP(AE12,Camions!$B:$F,4,0)),\"\",(VLOOKUP(AE12,Camions!$B:$F,4,0)))","v":""}]
[null,null,null,null,null,null,null,null,null,null,null,null,null,null,null,null,null,null,null,null,null,null,null,null,null,0,null,null,null,null,null,null,null,{"$f":"IF(ISNA(VLOOKUP(AE13,Camions!$B:$F,2,0)),\"\",(VLOOKUP(AE13,Camions!$B:$F,2,0)))","v":""},null,null,null,null,null,null,null,null,null,null,null,null,{"$f":"IF(ISNA(VLOOKUP(AE13,Camions!$B:$F,4,0)),\"\",(VLOOKUP(AE13,Camions!$B:$F,4,0)))","v":""}]
[null,null,null,null,null,null,null,null,null,null,null,null,null,null,null,null,null,null,null,null,null,null,null,null,null,0,null,null,null,null,null,null,null,{"$f":"IF(ISNA(VLOOKUP(AE14,Camions!$B:$F,2,0)),\"\",(VLOOKUP(AE14,Camions!$B:$F,2,0)))","v":""},null,null,null,null,null,null,null,null,null,null,null,null,{"$f":"IF(ISNA(VLOOKUP(AE14,Camions!$B:$F,4,0)),\"\",(VLOOKUP(AE14,Camions!$B:$F,4,0)))","v":""}]
[null,null,null,null,null,null,null,null,null,null,null,null,null,null,null,null,null,null,null,null,null,null,null,null,null,0,null,null,null,null,null,null,null,{"$f":"IF(ISNA(VLOOKUP(AE15,Camions!$B:$F,2,0)),\"\",(VLOOKUP(AE15,Camions!$B:$F,2,0)))","v":""},null,null,null,null,null,null,null,null,null,null,null,null,{"$f":"IF(ISNA(VLOOKUP(AE15,Camions!$B:$F,4,0)),\"\",(VLOOKUP(AE15,Camions!$B:$F,4,0)))","v":""}]
[null,null,null,null,null,null,null,null,null,null,null,null,null,null,null,null,null,null,null,null,null,null,null,null,null,0,null,null,null,null,null,null,null,{"$f":"IF(ISNA(VLOOKUP(AE16,Camions!$B:$F,2,0)),\"\",(VLOOKUP(AE16,Camions!$B:$F,2,0)))","v":""},null,null,null,null,null,null,null,null,null,null,null,null,{"$f":"IF(ISNA(VLOOKUP(AE16,Camions!$B:$F,4,0)),\"\",(VLOOKUP(AE16,Camions!$B:$F,4,0)))","v":""}]
[null,null,null,null,null,null,null,null,null,null,null,null,null,null,null,null,null,null,null,null,null,null,null,null,null,0,null,null,null,null,null,null,null,{"$f":"IF(ISNA(VLOOKUP(AE17,Camions!$B:$F,2,0)),\"\",(VLOOKUP(AE17,Camions!$B:$F,2,0)))","v":""},null,null,null,null,null,null,null,null,null,null,null,null,{"$f":"IF(ISNA(VLOOKUP(AE17,Camions!$B:$F,4,0)),\"\",(VLOOKUP(AE17,Camions!$B:$F,4,0)))","v":""}]
[null,null,null,null,null,null,null,null,null,null,null,null,null,null,null,null,null,null,null,null,null,null,null,null,null,0,null,null,null,null,null,null,null,{"$f":"IF(ISNA(VLOOKUP(AE18,Camions!$B:$F,2,0)),\"\",(VLOOKUP(AE18,Camions!$B:$F,2,0)))","v":""},null,null,null,null,null,null,null,null,null,null,null,null,{"$f":"IF(ISNA(VLOOKUP(AE18,Camions!$B:$F,4,0)),\"\",(VLOOKUP(AE18,Camions!$B:$F,4,0)))","v":""}]
[null,null,null,null,null,null,null,null,null,null,null,null,null,null,null,null,null,null,null,null,null,null,null,null,null,0,null,null,null,null,null,null,null,{"$f":"IF(ISNA(VLOOKUP(AE19,Camions!$B:$F,2,0)),\"\",(VLOOKUP(AE19,Camions!$B:$F,2,0)))","v":""},null,null,null,null,null,null,null,null,null,null,null,null,{"$f":"IF(ISNA(VLOOKUP(AE19,Camions!$B:$F,4,0)),\"\",(VLOOKUP(AE19,Camions!$B:$F,4,0)))","v":""}]
[null,null,null,null,null,null,null,null,null,null,null,null,null,null,null,null,null,null,null,null,null,null,null,null,null,0,null,null,null,null,null,null,null,{"$f":"IF(ISNA(VLOOKUP(AE20,Camions!$B:$F,2,0)),\"\",(VLOOKUP(AE20,Camions!$B:$F,2,0)))","v":""},null,null,null,null,null,null,null,null,null,null,null,null,{"$f":"IF(ISNA(VLOOKUP(AE20,Camions!$B:$F,4,0)),\"\",(VLOOKUP(AE20,Camions!$B:$F,4,0)))","v":""}]
[null,null,null,null,null,null,null,null,null,null,null,null,null,null,null,null,null,null,null,null,null,null,null,null,null,0,null,null,null,null,null,null,null,{"$f":"IF(ISNA(VLOOKUP(AE21,Camions!$B:$F,2,0)),\"\",(VLOOKUP(AE21,Camions!$B:$F,2,0)))","v":""},null,null,null,null,null,null,null,null,null,null,null,null,{"$f":"IF(ISNA(VLOOKUP(AE21,Camions!$B:$F,4,0)),\"\",(VLOOKUP(AE21,Camions!$B:$F,4,0)))","v":""}]
[null,null,null,null,null,null,null,null,null,null,null,null,null,null,null,null,null,null,null,null,null,null,null,null,null,0,null,null,null,null,null,null,null,{"$f":"IF(ISNA(VLOOKUP(AE22,Camions!$B:$F,2,0)),\"\",(VLOOKUP(AE22,Camions!$B:$F,2,0)))","v":""},null,null,null,null,null,null,null,null,null,null,null,null,{"$f":"IF(ISNA(VLOOKUP(AE22,Camions!$B:$F,4,0)),\"\",(VLOOKUP(AE22,Camions!$B:$F,4,0)))","v":""}]
[null,null,null,null,null,null,null,null,null,null,null,null,null,null,null,null,null,null,null,null,null,null,null,null,null,0,null,null,null,null,null,null,null,{"$f":"IF(ISNA(VLOOKUP(AE23,Camions!$B:$F,2,0)),\"\",(VLOOKUP(AE23,Camions!$B:$F,2,0)))","v":""},null,null,null,null,null,null,null,null,null,null,null,null,{"$f":"IF(ISNA(VLOOKUP(AE23,Camions!$B:$F,4,0)),\"\",(VLOOKUP(AE23,Camions!$B:$F,4,0)))","v":""}]
[null,null,null,null,null,null,null,null,null,null,null,null,null,null,null,null,null,null,null,null,null,null,null,null,null,0,null,null,null,null,null,null,null,{"$f":"IF(ISNA(VLOOKUP(AE24,Camions!$B:$F,2,0)),\"\",(VLOOKUP(AE24,Camions!$B:$F,2,0)))","v":""},null,null,null,null,null,null,null,null,null,null,null,null,{"$f":"IF(ISNA(VLOOKUP(AE24,Camions!$B:$F,4,0)),\"\",(VLOOKUP(AE24,Camions!$B:$F,4,0)))","v":""}]
[null,null,null,null,null,null,null,null,null,null,null,null,null,null,null,null,null,null,null,null,null,null,null,null,null,0,null,null,null,null,null,null,null,{"$f":"IF(ISNA(VLOOKUP(AE25,Camions!$B:$F,2,0)),\"\",(VLOOKUP(AE25,Camions!$B:$F,2,0)))","v":""},null,null,null,null,null,null,null,null,null,null,null,null,{"$f":"IF(ISNA(VLOOKUP(AE25,Camions!$B:$F,4,0)),\"\",(VLOOKUP(AE25,Camions!$B:$F,4,0)))","v":""}]
[null,null,null,null,null,null,null,null,null,null,null,null,null,null,null,null,null,null,null,null,null,null,null,null,null,0,null,null,null,null,null,null,null,{"$f":"IF(ISNA(VLOOKUP(AE26,Camions!$B:$F,2,0)),\"\",(VLOOKUP(AE26,Camions!$B:$F,2,0)))","v":""},null,null,null,null,null,null,null,null,null,null,null,null,{"$f":"IF(ISNA(VLOOKUP(AE26,Camions!$B:$F,4,0)),\"\",(VLOOKUP(AE26,Camions!$B:$F,4,0)))","v":""}]
[null,null,null,null,null,null,null,null,null,null,null,null,null,null,null,null,null,null,null,null,null,null,null,null,null,0,null,null,null,null,null,null,null,{"$f":"IF(ISNA(VLOOKUP(AE27,Camions!$B:$F,2,0)),\"\",(VLOOKUP(AE27,Camions!$B:$F,2,0)))","v":""},null,null,null,null,null,null,null,null,null,null,null,null,{"$f":"IF(ISNA(VLOOKUP(AE27,Camions!$B:$F,4,0)),\"\",(VLOOKUP(AE27,Camions!$B:$F,4,0)))","v":""}]
[null,null,null,null,null,null,null,null,null,null,null,null,null,null,null,null,null,null,null,null,null,null,null,null,null,0,null,null,null,null,null,null,null,{"$f":"IF(ISNA(VLOOKUP(AE28,Camions!$B:$F,2,0)),\"\",(VLOOKUP(AE28,Camions!$B:$F,2,0)))","v":""},null,null,null,null,null,null,null,null,null,null,null,null,{"$f":"IF(ISNA(VLOOKUP(AE28,Camions!$B:$F,4,0)),\"\",(VLOOKUP(AE28,Camions!$B:$F,4,0)))","v":""}]
[null,null,null,null,null,null,null,null,null,null,null,null,null,null,null,null,null,null,null,null,null,null,null,null,null,0,null,null,null,null,null,null,null,{"$f":"IF(ISNA(VLOOKUP(AE29,Camions!$B:$F,2,0)),\"\",(VLOOKUP(AE29,Camions!$B:$F,2,0)))","v":""},null,null,null,null,null,null,null,null,null,null,null,null,{"$f":"IF(ISNA(VLOOKUP(AE29,Camions!$B:$F,4,0)),\"\",(VLOOKUP(AE29,Camions!$B:$F,4,0)))","v":""}]
[null,null,null,null,null,null,null,null,null,null,null,null,null,null,null,null,null,null,null,null,null,null,null,null,null,0,null,null,null,null,null,null,null,{"$f":"IF(ISNA(VLOOKUP(AE30,Camions!$B:$F,2,0)),\"\",(VLOOKUP(AE30,Camions!$B:$F,2,0)))","v":""},null,null,null,null,null,null,null,null,null,null,null,null,{"$f":"IF(ISNA(VLOOKUP(AE30,Camions!$B:$F,4,0)),\"\",(VLOOKUP(AE30,Camions!$B:$F,4,0)))","v":""}]
[null,null,null,null,null,null,null,null,null,null,null,null,null,null,null,null,null,null,null,null,null,null,null,null,null,0,null,null,null,null,null,null,null,{"$f":"IF(ISNA(VLOOKUP(AE31,Camions!$B:$F,2,0)),\"\",(VLOOKUP(AE31,Camions!$B:$F,2,0)))","v":""},null,null,null,null,null,null,null,null,null,null,null,null,{"$f":"IF(ISNA(VLOOKUP(AE31,Camions!$B:$F,4,0)),\"\",(VLOOKUP(AE31,Camions!$B:$F,4,0)))","v":""}]
[null,null,null,null,null,null,null,null,null,null,null,null,null,null,null,null,null,null,null,null,null,null,null,null,null,0,null,null,null,null,null,null,null,{"$f":"IF(ISNA(VLOOKUP(AE32,Camions!$B:$F,2,0)),\"\",(VLOOKUP(AE32,Camions!$B:$F,2,0)))","v":""},null,null,null,null,null,null,null,null,null,null,null,null,{"$f":"IF(ISNA(VLOOKUP(AE32,Camions!$B:$F,4,0)),\"\",(VLOOKUP(AE32,Camions!$B:$F,4,0)))","v":""}]
[null,null,null,null,null,null,null,null,null,null,null,null,null,null,null,null,null,null,null,null,null,null,null,null,null,0,null,null,null,null,null,null,null,{"$f":"IF(ISNA(VLOOKUP(AE33,Camions!$B:$F,2,0)),\"\",(VLOOKUP(AE33,Camions!$B:$F,2,0)))","v":""},null,null,null,null,null,null,null,null,null,null,null,null,{"$f":"IF(ISNA(VLOOKUP(AE33,Camions!$B:$F,4,0)),\"\",(VLOOKUP(AE33,Camions!$B:$F,4,0)))","v":""}]
[null,null,null,null,null,null,null,null,null,null,null,null,null,null,null,null,null,null,null,null,null,null,null,null,null,0,null,null,null,null,null,null,null,{"$f":"IF(ISNA(VLOOKUP(AE34,Camions!$B:$F,2,0)),\"\",(VLOOKUP(AE34,Camions!$B:$F,2,0)))","v":""},null,null,null,null,null,null,null,null,null,null,null,null,{"$f":"IF(ISNA(VLOOKUP(AE34,Camions!$B:$F,4,0)),\"\",(VLOOKUP(AE34,Camions!$B:$F,4,0)))","v":""}]
[null,null,null,null,null,null,null,null,null,null,null,null,null,null,null,null,null,null,null,null,null,null,null,null,null,0,null,null,null,null,null,null,null,{"$f":"IF(ISNA(VLOOKUP(AE35,Camions!$B:$F,2,0)),\"\",(VLOOKUP(AE35,Camions!$B:$F,2,0)))","v":""},null,null,null,null,null,null,null,null,null,null,null,null,{"$f":"IF(ISNA(VLOOKUP(AE35,Camions!$B:$F,4,0)),\"\",(VLOOKUP(AE35,Camions!$B:$F,4,0)))","v":""}]
[null,null,null,null,null,null,null,null,null,null,null,null,null,null,null,null,null,null,null,null,null,null,null,null,null,0,null,null,null,null,null,null,null,{"$f":"IF(ISNA(VLOOKUP(AE36,Camions!$B:$F,2,0)),\"\",(VLOOKUP(AE36,Camions!$B:$F,2,0)))","v":""},null,null,null,null,null,null,null,null,null,null,null,null,{"$f":"IF(ISNA(VLOOKUP(AE36,Camions!$B:$F,4,0)),\"\",(VLOOKUP(AE36,Camions!$B:$F,4,0)))","v":""}]
[null,null,null,null,null,null,null,null,null,null,null,null,null,null,null,null,null,null,null,null,null,null,null,null,null,0,null,null,null,null,null,null,null,{"$f":"IF(ISNA(VLOOKUP(AE37,Camions!$B:$F,2,0)),\"\",(VLOOKUP(AE37,Camions!$B:$F,2,0)))","v":""},null,null,null,null,null,null,null,null,null,null,null,null,{"$f":"IF(ISNA(VLOOKUP(AE36,Camions!$B:$F,4,0)),\"\",(VLOOKUP(AE36,Camions!$B:$F,4,0)))","v":""}]
["CHANTIER :",null,null,null,null,{"$f":"F1","v":0},null,null,null,null,null,null,null,null,null,null,null,null,null,null,"N° CHANTIER :",null,null,null,null,null,{"$f":"AA1","v":0},null,null,null,"JOUR :",null,null,null,{"$f":"AI1","v":"Samedi"},null,null,null,null,null,null,null,null,null,null,null,null,null,null,null,null,"DATES :",null,null,{"$f":"BC1","v":"09-01-16"}]
["MATERIEL",null,null,null,null,null,null,null,null,null,null,null,null,null,null,null,null,null,null,null,null,null,null,null,null,null,null,null,null,null,"SOUS-TRAITANTS"]
["Légende :",null,null,null,null,"Pa",".= Panne",null,null,null,null,"Ent",".= Entretien"]
["N°",null,null,"Description du matériel",null,null,null,null,null,null,null,null,null,null,null,null,"Nom de l'opérateur",null,null,null,null,null,null,null,null,"Heures",null,null,null,null,"Type d'engin et description des travaux ",null,null,null,null,null,null,null,null,null,null,null,null,null,null,null,"Sous-traitants",null,null,null,null,null,null,null,null,"Heures"]
[null,null,null,{"$f":"IF(ISNA(VLOOKUP(A42,Machines!$B:$F,2,0)),\"\",(VLOOKUP(A42,Machines!$B:$F,2,0)))","v":""},null,null,null,null,null,null,null,null,null,null,null,null,{"$f":"IF(ISNA(VLOOKUP(A42,Machines!$B:$F,4,0)),\"\",(VLOOKUP(A42,Machines!$B:$F,4,0)))","v":""}]
[null,null,null,{"$f":"IF(ISNA(VLOOKUP(A43,Machines!$B:$F,2,0)),\"\",(VLOOKUP(A43,Machines!$B:$F,2,0)))","v":""},null,null,null,null,null,null,null,null,null,null,null,null,{"$f":"IF(ISNA(VLOOKUP(A43,Machines!$B:$F,4,0)),\"\",(VLOOKUP(A43,Machines!$B:$F,4,0)))","v":""}]
[null,null,null,{"$f":"IF(ISNA(VLOOKUP(A44,Machines!$B:$F,2,0)),\"\",(VLOOKUP(A44,Machines!$B:$F,2,0)))","v":""},null,null,null,null,null,null,null,null,null,null,null,null,{"$f":"IF(ISNA(VLOOKUP(A44,Machines!$B:$F,4,0)),\"\",(VLOOKUP(A44,Machines!$B:$F,4,0)))","v":""}]
[null,null,null,{"$f":"IF(ISNA(VLOOKUP(A45,Machines!$B:$F,2,0)),\"\",(VLOOKUP(A45,Machines!$B:$F,2,0)))","v":""},null,null,null,null,null,null,null,null,null,null,null,null,{"$f":"IF(ISNA(VLOOKUP(A45,Machines!$B:$F,4,0)),\"\",(VLOOKUP(A45,Machines!$B:$F,4,0)))","v":""}]
[null,null,null,{"$f":"IF(ISNA(VLOOKUP(A46,Machines!$B:$F,2,0)),\"\",(VLOOKUP(A46,Machines!$B:$F,2,0)))","v":""},null,null,null,null,null,null,null,null,null,null,null,null,{"$f":"IF(ISNA(VLOOKUP(A46,Machines!$B:$F,4,0)),\"\",(VLOOKUP(A46,Machines!$B:$F,4,0)))","v":""}]
[null,null,null,{"$f":"IF(ISNA(VLOOKUP(A47,Machines!$B:$F,2,0)),\"\",(VLOOKUP(A47,Machines!$B:$F,2,0)))","v":""},null,null,null,null,null,null,null,null,null,null,null,null,{"$f":"IF(ISNA(VLOOKUP(A47,Machines!$B:$F,4,0)),\"\",(VLOOKUP(A47,Machines!$B:$F,4,0)))","v":""}]
[null,null,null,{"$f":"IF(ISNA(VLOOKUP(A48,Machines!$B:$F,2,0)),\"\",(VLOOKUP(A48,Machines!$B:$F,2,0)))","v":""},null,null,null,null,null,null,null,null,null,null,null,null,{"$f":"IF(ISNA(VLOOKUP(A48,Machines!$B:$F,4,0)),\"\",(VLOOKUP(A48,Machines!$B:$F,4,0)))","v":""}]
[null,null,null,{"$f":"IF(ISNA(VLOOKUP(A49,Machines!$B:$F,2,0)),\"\",(VLOOKUP(A49,Machines!$B:$F,2,0)))","v":""},null,null,null,null,null,null,null,null,null,null,null,null,{"$f":"IF(ISNA(VLOOKUP(A49,Machines!$B:$F,4,0)),\"\",(VLOOKUP(A49,Machines!$B:$F,4,0)))","v":""}]
[null,null,null,{"$f":"IF(ISNA(VLOOKUP(A50,Machines!$B:$F,2,0)),\"\",(VLOOKUP(A50,Machines!$B:$F,2,0)))","v":""},null,null,null,null,null,null,null,null,null,null,null,null,{"$f":"IF(ISNA(VLOOKUP(A50,Machines!$B:$F,4,0)),\"\",(VLOOKUP(A50,Machines!$B:$F,4,0)))","v":""}]
[null,null,null,{"$f":"IF(ISNA(VLOOKUP(A51,Machines!$B:$F,2,0)),\"\",(VLOOKUP(A51,Machines!$B:$F,2,0)))","v":""},null,null,null,null,null,null,null,null,null,null,null,null,{"$f":"IF(ISNA(VLOOKUP(A51,Machines!$B:$F,4,0)),\"\",(VLOOKUP(A51,Machines!$B:$F,4,0)))","v":""}]
[null,null,null,{"$f":"IF(ISNA(VLOOKUP(A52,Machines!$B:$F,2,0)),\"\",(VLOOKUP(A52,Machines!$B:$F,2,0)))","v":""},null,null,null,null,null,null,null,null,null,null,null,null,{"$f":"IF(ISNA(VLOOKUP(A52,Machines!$B:$F,4,0)),\"\",(VLOOKUP(A52,Machines!$B:$F,4,0)))","v":""}]
[null,null,null,{"$f":"IF(ISNA(VLOOKUP(A53,Machines!$B:$F,2,0)),\"\",(VLOOKUP(A53,Machines!$B:$F,2,0)))","v":""},null,null,null,null,null,null,null,null,null,null,null,null,{"$f":"IF(ISNA(VLOOKUP(A53,Machines!$B:$F,4,0)),\"\",(VLOOKUP(A53,Machines!$B:$F,4,0)))","v":""}]
[null,null,null,{"$f":"IF(ISNA(VLOOKUP(A54,Machines!$B:$F,2,0)),\"\",(VLOOKUP(A54,Machines!$B:$F,2,0)))","v":""},null,null,null,null,null,null,null,null,null,null,null,null,{"$f":"IF(ISNA(VLOOKUP(A54,Machines!$B:$F,4,0)),\"\",(VLOOKUP(A54,Machines!$B:$F,4,0)))","v":""}]
[null,null,null,{"$f":"IF(ISNA(VLOOKUP(A55,Machines!$B:$F,2,0)),\"\",(VLOOKUP(A55,Machines!$B:$F,2,0)))","v":""},null,null,null,null,null,null,null,null,null,null,null,null,{"$f":"IF(ISNA(VLOOKUP(A55,Machines!$B:$F,4,0)),\"\",(VLOOKUP(A55,Machines!$B:$F,4,0)))","v":""}]
[null,null,null,{"$f":"IF(ISNA(VLOOKUP(A56,Machines!$B:$F,2,0)),\"\",(VLOOKUP(A56,Machines!$B:$F,2,0)))","v":""},null,null,null,null,null,null,null,null,null,null,null,null,{"$f":"IF(ISNA(VLOOKUP(A56,Machines!$B:$F,4,0)),\"\",(VLOOKUP(A56,Machines!$B:$F,4,0)))","v":""}]
[null,null,null,{"$f":"IF(ISNA(VLOOKUP(A57,Machines!$B:$F,2,0)),\"\",(VLOOKUP(A57,Machines!$B:$F,2,0)))","v":""},null,null,null,null,null,null,null,null,null,null,null,null,{"$f":"IF(ISNA(VLOOKUP(A57,Machines!$B:$F,4,0)),\"\",(VLOOKUP(A57,Machines!$B:$F,4,0)))","v":""}]
[null,null,null,{"$f":"IF(ISNA(VLOOKUP(A58,Machines!$B:$F,2,0)),\"\",(VLOOKUP(A58,Machines!$B:$F,2,0)))","v":""},null,null,null,null,null,null,null,null,null,null,null,null,{"$f":"IF(ISNA(VLOOKUP(A58,Machines!$B:$F,4,0)),\"\",(VLOOKUP(A58,Machines!$B:$F,4,0)))","v":""}]
[null,null,null,{"$f":"IF(ISNA(VLOOKUP(A59,Machines!$B:$F,2,0)),\"\",(VLOOKUP(A59,Machines!$B:$F,2,0)))","v":""},null,null,null,null,null,null,null,null,null,null,null,null,{"$f":"IF(ISNA(VLOOKUP(A59,Machines!$B:$F,4,0)),\"\",(VLOOKUP(A59,Machines!$B:$F,4,0)))","v":""}]
[null,null,null,{"$f":"IF(ISNA(VLOOKUP(A60,Machines!$B:$F,2,0)),\"\",(VLOOKUP(A60,Machines!$B:$F,2,0)))","v":""},null,null,null,null,null,null,null,null,null,null,null,null,{"$f":"IF(ISNA(VLOOKUP(A60,Machines!$B:$F,4,0)),\"\",(VLOOKUP(A60,Machines!$B:$F,4,0)))","v":""}]
[null,null,null,{"$f":"IF(ISNA(VLOOKUP(A61,Machines!$B:$F,2,0)),\"\",(VLOOKUP(A61,Machines!$B:$F,2,0)))","v":""},null,null,null,null,null,null,null,null,null,null,null,null,{"$f":"IF(ISNA(VLOOKUP(A61,Machines!$B:$F,4,0)),\"\",(VLOOKUP(A61,Machines!$B:$F,4,0)))","v":""}]
[null,null,null,{"$f":"IF(ISNA(VLOOKUP(A62,Machines!$B:$F,2,0)),\"\",(VLOOKUP(A62,Machines!$B:$F,2,0)))","v":""},null,null,null,null,null,null,null,null,null,null,null,null,{"$f":"IF(ISNA(VLOOKUP(A62,Machines!$B:$F,4,0)),\"\",(VLOOKUP(A62,Machines!$B:$F,4,0)))","v":""}]
[null,null,null,{"$f":"IF(ISNA(VLOOKUP(A63,Machines!$B:$F,2,0)),\"\",(VLOOKUP(A63,Machines!$B:$F,2,0)))","v":""},null,null,null,null,null,null,null,null,null,null,null,null,{"$f":"IF(ISNA(VLOOKUP(A63,Machines!$B:$F,4,0)),\"\",(VLOOKUP(A63,Machines!$B:$F,4,0)))","v":""}]
[null,null,null,{"$f":"IF(ISNA(VLOOKUP(A64,Machines!$B:$F,2,0)),\"\",(VLOOKUP(A64,Machines!$B:$F,2,0)))","v":""},null,null,null,null,null,null,null,null,null,null,null,null,{"$f":"IF(ISNA(VLOOKUP(A64,Machines!$B:$F,4,0)),\"\",(VLOOKUP(A64,Machines!$B:$F,4,0)))","v":""}]
[null,null,null,{"$f":"IF(ISNA(VLOOKUP(A65,Machines!$B:$F,2,0)),\"\",(VLOOKUP(A65,Machines!$B:$F,2,0)))","v":""},null,null,null,null,null,null,null,null,null,null,null,null,{"$f":"IF(ISNA(VLOOKUP(A65,Machines!$B:$F,4,0)),\"\",(VLOOKUP(A65,Machines!$B:$F,4,0)))","v":""}]
[null,null,null,{"$f":"IF(ISNA(VLOOKUP(A66,Machines!$B:$F,2,0)),\"\",(VLOOKUP(A66,Machines!$B:$F,2,0)))","v":""},null,null,null,null,null,null,null,null,null,null,null,null,{"$f":"IF(ISNA(VLOOKUP(A66,Machines!$B:$F,4,0)),\"\",(VLOOKUP(A66,Machines!$B:$F,4,0)))","v":""}]
[null,null,null,{"$f":"IF(ISNA(VLOOKUP(A67,Machines!$B:$F,2,0)),\"\",(VLOOKUP(A67,Machines!$B:$F,2,0)))","v":""},null,null,null,null,null,null,null,null,null,null,null,null,{"$f":"IF(ISNA(VLOOKUP(A67,Machines!$B:$F,4,0)),\"\",(VLOOKUP(A67,Machines!$B:$F,4,0)))","v":""}]
[null,null,null,{"$f":"IF(ISNA(VLOOKUP(A68,Machines!$B:$F,2,0)),\"\",(VLOOKUP(A68,Machines!$B:$F,2,0)))","v":""},null,null,null,null,null,null,null,null,null,null,null,null,{"$f":"IF(ISNA(VLOOKUP(A68,Machines!$B:$F,4,0)),\"\",(VLOOKUP(A68,Machines!$B:$F,4,0)))","v":""}]
[null,null,null,{"$f":"IF(ISNA(VLOOKUP(A69,Machines!$B:$F,2,0)),\"\",(VLOOKUP(A69,Machines!$B:$F,2,0)))","v":""},null,null,null,null,null,null,null,null,null,null,null,null,{"$f":"IF(ISNA(VLOOKUP(A69,Machines!$B:$F,4,0)),\"\",(VLOOKUP(A69,Machines!$B:$F,4,0)))","v":""}]
[null,null,null,{"$f":"IF(ISNA(VLOOKUP(A70,Machines!$B:$F,2,0)),\"\",(VLOOKUP(A70,Machines!$B:$F,2,0)))","v":""},null,null,null,null,null,null,null,null,null,null,null,null,{"$f":"IF(ISNA(VLOOKUP(A70,Machines!$B:$F,4,0)),\"\",(VLOOKUP(A70,Machines!$B:$F,4,0)))","v":""}]
[null,null,null,{"$f":"IF(ISNA(VLOOKUP(A71,Machines!$B:$F,2,0)),\"\",(VLOOKUP(A71,Machines!$B:$F,2,0)))","v":""},null,null,null,null,null,null,null,null,null,null,null,null,{"$f":"IF(ISNA(VLOOKUP(A71,Machines!$B:$F,4,0)),\"\",(VLOOKUP(A71,Machines!$B:$F,4,0)))","v":""}]
[null,null,null,{"$f":"IF(ISNA(VLOOKUP(A72,Machines!$B:$F,2,0)),\"\",(VLOOKUP(A72,Machines!$B:$F,2,0)))","v":""},null,null,null,null,null,null,null,null,null,null,null,null,{"$f":"IF(ISNA(VLOOKUP(A72,Machines!$B:$F,4,0)),\"\",(VLOOKUP(A72,Machines!$B:$F,4,0)))","v":""}]
[null,null,null,{"$f":"IF(ISNA(VLOOKUP(A73,Machines!$B:$F,2,0)),\"\",(VLOOKUP(A73,Machines!$B:$F,2,0)))","v":""},null,null,null,null,null,null,null,null,null,null,null,null,{"$f":"IF(ISNA(VLOOKUP(A73,Machines!$B:$F,4,0)),\"\",(VLOOKUP(A73,Machines!$B:$F,4,0)))","v":""}]
[null,null,null,{"$f":"IF(ISNA(VLOOKUP(A74,Machines!$B:$F,2,0)),\"\",(VLOOKUP(A74,Machines!$B:$F,2,0)))","v":""},null,null,null,null,null,null,null,null,null,null,null,null,{"$f":"IF(ISNA(VLOOKUP(A74,Machines!$B:$F,4,0)),\"\",(VLOOKUP(A74,Machines!$B:$F,4,0)))","v":""}]
["CHANTIER :",null,null,null,null,{"$f":"F1","v":0},null,null,null,null,null,null,null,null,null,null,null,null,null,null,"N° CHANTIER :",null,null,null,null,null,{"$f":"AA1","v":0},null,null,null,"JOUR :",null,null,null,{"$f":"AI1","v":"Samedi"},null,null,null,null,null,null,null,null,null,null,null,null,null,null,null,null,"DATES :",null,null,{"$f":"BC1","v":"09-01-16"}]
["MATERIAUX"]
[null,null,null,"Fournisseurs",null,null,null,null,null,null,null,null,null,null,null,null,null,null,"Description des fournitures & matériaux",null,null,null,null,null,null,null,null,null,null,null,null,null,null,null,null,null,null,null,null,null,null,null,null,null,null,null,null,null,null,"Qt totales",null,null,null,"U.",null,"Prix"]
[]
[]
[]
[]
[]
[]
[]
[]
[]
[]
[]
[]
[]
[]
[]
[]
[]
[]
[]
[]
[]
[]
[]
[]
[]
[]
[]
[]
[]
[]
[]
[null,null,null,"RESPONSABLE",null,null,null,null,null,null,null,null,"SIGNATURE",null,null,null,null,null,"DESCRIPTION DES TRAVAUX REALISES CE JOUR",null,null,null,null,null,null,null,null,null,null,null,null,null,null,null,null,null,null,null,null,null,null,null,null,null,null,null,null,null,null,"METEO"]
[null,null,null,"JENNES Loïc"]

{"sheet":"10-01-16","index":16,"n_rows":110,"n_cols":56,"rows_kept":110,"cut":false,"hidden":false,"merged":[[109,18,109,48],[111,18,111,48],[108,18,108,48],[108,3,108,11],[108,12,108,17],[109,3,111,11],[109,12,111,17],[108,49,108,58],[109,49,111,58],[110,18,110,48],[107,3,107,17],[107,18,107,48],[103,3,103,17],[103,18,103,48],[106,3,106,17],[106,18,106,48],[104,3,104,17],[104,18,104,48],[105,3,105,17],[105,18,105,48],[102,3,102,17],[102,18,102,48],[99,3,99,17],[99,18,99,48],[100,3,100,17],[100,18,100,48],[101,49,101,52],[101,53,101,54],[101,55,101,58],[102,49,102,52],[102,53,102,54],[102,55,102,58],[99,55,99,58],[100,49,100,52],[100,53,100,54],[100,55,100,58],[95,53,95,54],[95,55,95,58],[96,49,96,52],[96,53,96,54],[96,55,96,58],[97,49,97,52],[97,53,97,54],[101,3,101,17],[101,18,101,48],[97,3,97,17],[97,18,97,48],[98,3,98,17],[98,18,98,48],[95,3,95,17],[95,18,95,48],[96,3,96,17],[96,18,96,48],[95,49,95,52],[97,55,97,58],[98,49,98,52],[98,53,98,54],[98,55,98,58],[99,49,99,52],[99,53,99,54],[94,3,94,17],[94,18,94,48],[91,3,91,17],[91,18,91,48],[92,3,92,17],[92,18,92,48],[93,49,93,52],[93,53,93,54],[93,55,93,58],[94,49,94,52],[94,53,94,54],[94,55,94,58],[91,55,91,58],[92,49,92,52],[92,53,92,54],[92,55,92,58],[87,53,87,54],[87,55,87,58],[88,49,88,52],[88,53,88,54],[88,55,88,58],[89,49,89,52],[89,53,89,54],[93,3,93,17],[93,18,93,48],[89,3,89,17],[89,18,89,48],[90,3,90,17],[90,18,90,48],[87,3,87,17],[87,18,87,48],[88,3,88,17],[88,18,88,48],[87,49,87,52],[89,55,89,58],[90,49,90,52],[90,53,90,54],[90,55,90,58],[91,49,91,52],[91,53,91,54],[86,3,86,17],[86,18,86,48],[83,3,83,17],[83,18,83,48],[84,3,84,17],[84,18,84,48],[85,49,85,52],[85,53,85,54],[85,55,85,58],[86,49,86,52],[86,53,86,54],[86,55,86,58],[83,55,83,58],[84,49,84,52],[84,53,84,54],[84,55,84,58],[79,53,79,54],[79,55,79,58],[80,49,80,52],[80,53,80,54],[80,55,80,58],[81,49,81,52],[81,53,81,54],[85,3,85,17],[85,18,85,48],[81,3,81,17],[81,18,81,48],[82,3,82,17],[82,18,82,48],[79,3,79,17],[79,18,79,48],[80,3,80,17],[80,18,80,48],[79,49,79,52],[81,55,81,58],[82,49,82,52],[82,53,82,54],[82,55,82,58],[83,49,83,52],[83,53,83,54],[74,54,74,58],[75,0,75,58],[76,49,76,52],[76,53,76,54],[76,55,76,58],[77,3,77,17],[77,18,77,48],[78,3,78,17],[78,18,78,48],[77,49,77,52],[77,53,77,54],[77,55,77,58],[78,49,78,52],[78,53,78,54],[78,55,78,58],[76,3,76,17],[76,18,76,48],[74,0,74,4],[74,5,74,19],[74,20,74,25],[74,26,74,28],[74,30,74,32],[74,34,74,47],[74,51,74,53],[0,0,0,4],[0,5,0,19],[0,20,0,25],[0,26,0,28],[0,30,0,32],[0,34,0,47],[0,51,0,53],[0,54,0,58],[1,0,1,28],[1,29,36,29],[1,30,1,58],[2,0,2,4],[2,7,2,10],[2,13,2,16],[2,19,2,22],[2,25,2,28],[2,30,2,34],[2,36,2,39],[2,42,2,45],[3,0,3,15],[3,16,3,18],[3,19,3,21],[3,22,3,24],[3,25,3,28],[3,30,3,32],[3,33,3,45],[3,46,3,54],[3,55,3,58],[4,0,4,15],[4,16,4,18],[4,19,4,21],[4,22,4,24],[4,25,4,28],[4,30,4,32],[4,33,4,45],[4,46,4,54],[4,55,4,58],[5,0,5,15],[5,16,5,18],[5,19,5,21],[5,22,5,24],[5,25,5,28],[5,30,5,32],[5,33,5,45],[5,46,5,54],[5,55,5,58],[6,0,6,15],[6,16,6,18],[6,19,6,21],[6,22,6,24],[6,25,6,28],[6,30,6,32],[6,33,6,45],[6,46,6,54],[6,55,6,58],[7,0,7,15],[7,16,7,18],[7,19,7,21],[7,22,7,24],[7,25,7,28],[7,30,7,32],[7,33,7,45],[7,46,7,54],[7,55,7,58],[8,0,8,15],[8,16,8,18],[8,19,8,21],[8,22,8,24],[8,25,8,28],[8,30,8,32],[8,33,8,45],[8,46,8,54],[8,55,8,58],[9,0,9,15],[9,16,9,18],[9,19,9,21],[9,22,9,24],[9,25,9,28],[9,30,9,32],[9,33,9,45],[9,46,9,54],[9,55,9,58],[10,0,10,15],[10,16,10,18],[10,19,10,21],[10,22,10,24],[10,25,10,28],[10,30,10,32],[10,33,10,45],[10,46,10,54],[10,55,10,58],[11,0,11,15],[11,16,11,18],[11,19,11,21],[11,22,11,24],[11,25,11,28],[11,30,11,32],[11,33,11,45],[11,46,11,54],[11,55,11,58],[12,0,12,15],[12,16,12,18],[12,19,12,21],[12,22,12,24],[12,25,12,28],[12,30,12,32],[12,33,12,45],[12,46,12,54],[12,55,12,58],[13,0,13,15],[13,16,13,18],[13,19,13,21],[13,22,13,24],[13,25,13,28],[13,30,13,32],[13,33,13,45],[13,46,13,54],[13,55,13,58],[14,0,14,15],[14,16,14,18],[14,19,14,21],[14,22,14,24],[14,25,14,28],[14,30,14,32],[14,33,14,45],[14,46,14,54],[14,55,14,58],[15,0,15,15],[15,16,15,18],[15,19,15,21],[15,22,15,24],[15,25,15,28],[15,30,15,32],[15,33,15,45],[15,46,15,54],[15,55,15,58],[16,0,16,15],[16,16,16,18],[16,19,16,21],[16,22,16,24],[16,25,16,28],[16,30,16,32],[16,33,16,45],[16,46,16,54],[16,55,16,58],[17,0,17,15],[17,16,17,18],[17,19,17,21],[17,22,17,24],[17,25,17,28],[17,30,17,32],[17,33,17,45],[17,46,17,54],[17,55,17,58],[18,0,18,15],[18,16,18,18],[18,19,18,21],[18,22,18,24],[18,25,18,28],[18,30,18,32],[18,33,18,45],[18,46,18,54],[18,55,18,58],[19,0,19,15],[19,16,19,18],[19,19,19,21],[19,22,19,24],[19,25,19,28],[19,30,19,32],[19,33,19,45],[19,46,19,54],[19,55,19,58],[20,0,20,15],[20,16,20,18],[20,19,20,21],[20,22,20,24],[20,25,20,28],[20,30,20,32],[20,33,20,45],[20,46,20,54],[20,55,20,58],[21,0,21,15],[21,16,21,18],[21,19,21,21],[21,22,21,24],[21,25,21,28],[21,30,21,32],[21,33,21,45],[21,46,21,54],[21,55,21,58],[22,0,22,15],[22,16,22,18],[22,19,22,21],[22,22,22,24],[22,25,22,28],[22,30,22,32],[22,33,22,45],[22,46,22,54],[22,55,22,58],[23,0,23,15],[23,16,23,18],[23,19,23,21],[23,22,23,24],[23,25,23,28],[23,30,23,32],[23,33,23,45],[23,46,23,54],[23,55,23,58],[24,0,24,15],[24,16,24,18],[24,19,24,21],[24,22,24,24],[24,25,24,28],[24,30,24,32],[24,33,24,45],[24,46,24,54],[24,55,24,58],[25,0,25,15],[25,16,25,18],[25,19,25,21],[25,22,25,24],[25,25,25,28],[25,30,25,32],[25,33,25,45],[25,46,25,54],[25,55,25,58],[26,0,26,15],[26,16,26,18],[26,19,26,21],[26,22,26,24],[26,25,26,28],[26,30,26,32],[26,33,26,45],[26,46,26,54],[26,55,26,58],[27,0,27,15],[27,16,27,18],[27,19,27,21],[27,22,27,24],[27,25,27,28],[27,30,27,32],[27,33,27,45],[27,46,27,54],[27,55,27,58],[28,0,28,15],[28,16,28,18],[28,19,28,21],[28,22,28,24],[28,25,28,28],[28,30,28,32],[28,33,28,45],[28,46,28,54],[28,55,28,58],[29,0,29,15],[29,16,29,18],[29,19,29,21],[29,22,29,24],[29,25,29,28],[29,30,29,32],[29,33,29,45],[29,46,29,54],[29,55,29,58],[30,0,30,15],[30,16,30,18],[30,19,30,21],[30,22,30,24],[30,25,30,28],[30,30,30,32],[30,33,30,45],[30,46,30,54],[30,55,30,58],[31,0,31,15],[31,16,31,18],[31,19,31,21],[31,22,31,24],[31,25,31,28],[31,30,31,32],[31,33,31,45],[31,46,31,54],[31,55,31,58],[32,0,32,15],[32,16,32,18],[32,19,32,21],[32,22,32,24],[32,25,32,28],[32,30,32,32],[32,33,32,45],[32,46,32,54],[32,55,32,58],[33,0,33,15],[33,16,33,18],[33,19,33,21],[33,22,33,24],[33,25,33,28],[33,30,33,32],[33,33,33,45],[33,46,33,54],[33,55,33,58],[34,0,34,15],[34,16,34,18],[34,19,34,21],[34,22,34,24],[34,25,34,28],[34,30,34,32],[34,33,34,45],[34,46,34,54],[34,55,34,58],[35,0,35,15],[35,16,35,18],[35,19,35,21],[35,22,35,24],[35,25,35,28],[35,30,35,32],[35,33,35,45],[35,46,35,54],[35,55,35,58],[36,0,36,15],[36,16,36,18],[36,19,36,21],[36,22,36,24],[36,25,36,28],[36,30,36,32],[36,33,36,45],[36,46,36,54],[36,55,36,58],[37,0,37,4],[37,5,37,19],[37,20,37,25],[37,26,37,28],[37,30,37,32],[37,34,37,47],[37,51,37,53],[37,54,37,58],[38,0,38,28],[38,29,73,29],[38,30,38,58],[39,0,39,4],[39,6,39,9],[39,12,39,15],[40,0,40,2],[40,3,40,15],[40,16,40,24],[40,25,40,28],[40,30,40,45],[40,46,40,54],[40,55,40,58],[41,0,41,2],[41,3,41,15],[41,16,41,24],[41,25,41,28],[41,30,41,45],[41,46,41,54],[41,55,41,58],[42,0,42,2],[42,3,42,15],[42,16,42,24],[42,25,42,28],[42,30,42,45],[42,46,42,54],[42,55,42,58],[43,0,43,2],[43,3,43,15],[43,16,43,24],[43,25,43,28],[43,30,43,45],[43,46,43,54],[43,55,43,58],[44,0,44,2],[44,3,44,15],[44,16,44,24],[44,25,44,28],[44,30,44,45],[44,46,44,54],[44,55,44,58],[45,0,45,2],[45,3,45,15],[45,16,45,24],[45,25,45,28],[45,30,45,45],[45,46,45,54],[45,55,45,58],[46,0,46,2],[46,3,46,15],[46,16,46,24],[46,25,46,28],[46,30,46,45],[46,46,46,54],[46,55,46,58],[47,0,47,2],[47,3,47,15],[47,16,47,24],[47,25,47,28],[47,30,47,45],[47,46,47,54],[47,55,47,58],[48,0,48,2],[48,3,48,15],[48,16,48,24],[48,25,48,28],[48,30,48,45],[48,46,48,54],[48,55,48,58],[49,0,49,2],[49,3,49,15],[49,16,49,24],[49,25,49,28],[49,30,49,45],[49,46,49,54],[49,55,49,58],[50,0,50,2],[50,3,50,15],[50,16,50,24],[50,25,50,28],[50,30,50,45],[50,46,50,54],[50,55,50,58],[51,0,51,2],[51,3,51,15],[51,16,51,24],[51,25,51,28],[51,30,51,45],[51,46,51,54],[51,55,51,58],[52,0,52,2],[52,3,52,15],[52,16,52,24],[52,25,52,28],[52,30,52,45],[52,46,52,54],[52,55,52,58],[53,0,53,2],[53,3,53,15],[53,16,53,24],[53,25,53,28],[53,30,53,45],[53,46,53,54],[53,55,53,58],[54,0,54,2],[54,3,54,15],[54,16,54,24],[54,25,54,28],[54,30,54,45],[54,46,54,54],[54,55,54,58],[55,0,55,2],[55,3,55,15],[55,16,55,24],[55,25,55,28],[55,30,55,45],[55,46,55,54],[55,55,55,58],[56,0,56,2],[56,3,56,15],[56,16,56,24],[56,25,56,28],[56,30,56,45],[56,46,56,54],[56,55,56,58],[57,0,57,2],[57,3,57,15],[57,16,57,24],[57,25,57,28],[57,30,57,45],[57,46,57,54],[57,55,57,58],[58,0,58,2],[58,3,58,15],[58,16,58,24],[58,25,58,28],[58,30,58,45],[58,46,58,54],[58,55,58,58],[59,0,59,2],[59,3,59,15],[59,16,59,24],[59,25,59,28],[59,30,59,45],[59,46,59,54],[59,55,59,58],[60,0,60,2],[60,3,60,15],[60,16,60,24],[60,25,60,28],[60,30,60,45],[60,46,60,54],[60,55,60,58],[61,0,61,2],[61,3,61,15],[61,16,61,24],[61,25,61,28],[61,30,61,45],[61,46,61,54],[61,55,61,58],[62,0,62,2],[62,3,62,15],[62,16,62,24],[62,25,62,28],[62,30,62,45],[62,46,62,54],[62,55,62,58],[63,0,63,2],[63,3,63,15],[63,16,63,24],[63,25,63,28],[63,30,63,45],[63,46,63,54],[63,55,63,58],[64,0,64,2],[64,3,64,15],[64,16,64,24],[64,25,64,28],[64,30,64,45],[64,46,64,54],[64,55,64,58],[65,0,65,2],[65,3,65,15],[65,16,65,24],[65,25,65,28],[65,30,65,45],[65,46,65,54],[65,55,65,58],[66,0,66,2],[66,3,66,15],[66,16,66,24],[66,25,66,28],[66,30,66,45],[66,46,66,54],[66,55,66,58],[67,0,67,2],[67,3,67,15],[67,16,67,24],[67,25,67,28],[67,30,67,45],[67,46,67,54],[67,55,67,58],[69,0,69,2],[69,3,69,15],[69,16,69,24],[69,25,69,28],[69,30,69,45],[69,46,69,54],[69,55,69,58],[68,0,68,2],[68,3,68,15],[68,16,68,24],[68,25,68,28],[68,30,68,45],[68,46,68,54],[68,55,68,58],[70,0,70,2],[70,3,70,15],[70,16,70,24],[70,25,70,28],[70,30,70,45],[70,46,70,54],[70,55,70,58],[71,0,71,2],[71,3,71,15],[71,16,71,24],[71,25,71,28],[71,30,71,45],[71,46,71,54],[71,55,71,58],[72,0,72,2],[72,3,72,15],[72,16,72,24],[72,25,72,28],[72,30,72,45],[72,46,72,54],[72,55,72,58],[73,0,73,2],[73,3,73,15],[73,16,73,24],[73,25,73,28],[73,30,73,45],[73,46,73,54],[73,55,73,58],[106,49,106,52],[106,53,106,54],[106,55,106,58],[107,49,107,52],[107,53,107,54],[107,55,107,58],[103,49,103,52],[103,53,103,54],[103,55,103,58],[104,49,104,52],[104,53,104,54],[104,55,104,58],[105,49,105,52],[105,53,105,54],[105,55,105,58]]}
["CHANTIER :",null,null,null,null,{"$f":"'01-01-16'!F1","v":0},null,null,null,null,null,null,null,null,null,null,null,null,null,null,"N° CHANTIER :",null,null,null,null,null,{"$f":"'01-01-16'!AA1","v":0},null,null,null,"JOUR :",null,null,null,{"$f":" CHOOSE(WEEKDAY(BC1,2),\"Lundi\",\"Mardi\",\"Mercredi\",\"Jeudi\",\"Vendredi\",\"Samedi\",\"Dimanche\")","v":"Dimanche"},null,null,null,null,null,null,null,null,null,null,null,null,null,null,null,null,"DATES :",null,null,{"$f":"MID(CELL(\"nomfichier\",A1),FIND(\"]\",CELL(\"nomfichier\",A1),1)+1,30)","v":"10-01-16"}]
["MAIN D'ŒUVRE",null,null,null,null,null,null,null,null,null,null,null,null,null,null,null,null,null,null,null,null,null,null,null,null,null,null,null,null,null,"CAMIONS"]
["Légende :",null,null,null,null,null,"Co",".= Congé",null,null,null,null,"M",".= Malade",null,null,null,null,"Cho",".= Chômage",null,null,null,null,"Va",".= Vacance",null,null,null,null,"Légende :",null,null,null,null,"Pa",".= Panne",null,null,null,null,"Ent",".= Entretien"]
["NOM - Prénom du travailleur",null,null,null,null,null,null,null,null,null,null,null,null,null,null,null,"Début journée",null,null,"Arrêt repas",null,null,"Fin journée",null,null,"Heures prestées",null,null,null,null,"N°",null,null,"Description du matériel",null,null,null,null,null,null,null,null,null,null,null,null,"Nom de l'opérateur",null,null,null,null,null,null,null,null,"Heures"]
[null,null,null,null,null,null,null,null,null,null,null,null,null,null,null,null,null,null,null,null,null,null,null,null,null,{"$f":"W5-Q5-T5","v":0},null,null,null,null,null,null,null,{"$f":"IF(ISNA(VLOOKUP(AE5,Camions!$B:$F,2,0)),\"\",(VLOOKUP(AE5,Camions!$B:$F,2,0)))","v":""},null,null,null,null,null,null,null,null,null,null,null,null,{"$f":"IF(ISNA(VLOOKUP(AE5,Camions!$B:$F,4,0)),\"\",(VLOOKUP(AE5,Camions!$B:$F,4,0)))","v":""}]
[null,null,null,null,null,null,null,null,null,null,null,null,null,null,null,null,null,null,null,null,null,null,null,null,null,{"$f":"W6-Q6-T6","v":0},null,null,null,null,null,null,null,{"$f":"IF(ISNA(VLOOKUP(AE6,Camions!$B:$F,2,0)),\"\",(VLOOKUP(AE6,Camions!$B:$F,2,0)))","v":""},null,null,null,null,null,null,null,null,null,null,null,null,{"$f":"IF(ISNA(VLOOKUP(AE6,Camions!$B:$F,4,0)),\"\",(VLOOKUP(AE6,Camions!$B:$F,4,0)))","v":""}]
[null,null,null,null,null,null,null,null,null,null,null,null,null,null,null,null,null,null,null,null,null,null,null,null,null,0,null,null,null,null,null,null,null,{"$f":"IF(ISNA(VLOOKUP(AE7,Camions!$B:$F,2,0)),\"\",(VLOOKUP(AE7,Camions!$B:$F,2,0)))","v":""},null,null,null,null,null,null,null,null,null,null,null,null,{"$f":"IF(ISNA(VLOOKUP(AE7,Camions!$B:$F,4,0)),\"\",(VLOOKUP(AE7,Camions!$B:$F,4,0)))","v":""}]
[null,null,null,null,null,null,null,null,null,null,null,null,null,null,null,null,null,null,null,null,null,null,null,null,null,0,null,null,null,null,null,null,null,{"$f":"IF(ISNA(VLOOKUP(AE8,Camions!$B:$F,2,0)),\"\",(VLOOKUP(AE8,Camions!$B:$F,2,0)))","v":""},null,null,null,null,null,null,null,null,null,null,null,null,{"$f":"IF(ISNA(VLOOKUP(AE8,Camions!$B:$F,4,0)),\"\",(VLOOKUP(AE8,Camions!$B:$F,4,0)))","v":""}]
[null,null,null,null,null,null,null,null,null,null,null,null,null,null,null,null,null,null,null,null,null,null,null,null,null,0,null,null,null,null,null,null,null,{"$f":"IF(ISNA(VLOOKUP(AE9,Camions!$B:$F,2,0)),\"\",(VLOOKUP(AE9,Camions!$B:$F,2,0)))","v":""},null,null,null,null,null,null,null,null,null,null,null,null,{"$f":"IF(ISNA(VLOOKUP(AE9,Camions!$B:$F,4,0)),\"\",(VLOOKUP(AE9,Camions!$B:$F,4,0)))","v":""}]
[null,null,null,null,null,null,null,null,null,null,null,null,null,null,null,null,null,null,null,null,null,null,null,null,null,0,null,null,null,null,null,null,null,{"$f":"IF(ISNA(VLOOKUP(AE10,Camions!$B:$F,2,0)),\"\",(VLOOKUP(AE10,Camions!$B:$F,2,0)))","v":""},null,null,null,null,null,null,null,null,null,null,null,null,{"$f":"IF(ISNA(VLOOKUP(AE10,Camions!$B:$F,4,0)),\"\",(VLOOKUP(AE10,Camions!$B:$F,4,0)))","v":""}]
[null,null,null,null,null,null,null,null,null,null,null,null,null,null,null,null,null,null,null,null,null,null,null,null,null,0,null,null,null,null,null,null,null,{"$f":"IF(ISNA(VLOOKUP(AE11,Camions!$B:$F,2,0)),\"\",(VLOOKUP(AE11,Camions!$B:$F,2,0)))","v":""},null,null,null,null,null,null,null,null,null,null,null,null,{"$f":"IF(ISNA(VLOOKUP(AE11,Camions!$B:$F,4,0)),\"\",(VLOOKUP(AE11,Camions!$B:$F,4,0)))","v":""}]
[null,null,null,null,null,null,null,null,null,null,null,null,null,null,null,null,null,null,null,null,null,null,null,null,null,0,null,null,null,null,null,null,null,{"$f":"IF(ISNA(VLOOKUP(AE12,Camions!$B:$F,2,0)),\"\",(VLOOKUP(AE12,Camions!$B:$F,2,0)))","v":""},null,null,null,null,null,null,null,null,null,null,null,null,{"$f":"IF(ISNA(VLOOKUP(AE12,Camions!$B:$F,4,0)),\"\",(VLOOKUP(AE12,Camions!$B:$F,4,0)))","v":""}]
[null,null,null,null,null,null,null,null,null,null,null,null,null,null,null,null,null,null,null,null,null,null,null,null,null,0,null,null,null,null,null,null,null,{"$f":"IF(ISNA(VLOOKUP(AE13,Camions!$B:$F,2,0)),\"\",(VLOOKUP(AE13,Camions!$B:$F,2,0)))","v":""},null,null,null,null,null,null,null,null,null,null,null,null,{"$f":"IF(ISNA(VLOOKUP(AE13,Camions!$B:$F,4,0)),\"\",(VLOOKUP(AE13,Camions!$B:$F,4,0)))","v":""}]
[null,null,null,null,null,null,null,null,null,null,null,null,null,null,null,null,null,null,null,null,null,null,null,null,null,0,null,null,null,null,null,null,null,{"$f":"IF(ISNA(VLOOKUP(AE14,Camions!$B:$F,2,0)),\"\",(VLOOKUP(AE14,Camions!$B:$F,2,0)))","v":""},null,null,null,null,null,null,null,null,null,null,null,null,{"$f":"IF(ISNA(VLOOKUP(AE14,Camions!$B:$F,4,0)),\"\",(VLOOKUP(AE14,Camions!$B:$F,4,0)))","v":""}]
[null,null,null,null,null,null,null,null,null,null,null,null,null,null,null,null,null,null,null,null,null,null,null,null,null,0,null,null,null,null,null,null,null,{"$f":"IF(ISNA(VLOOKUP(AE15,Camions!$B:$F,2,0)),\"\",(VLOOKUP(AE15,Camions!$B:$F,2,0)))","v":""},null,null,null,null,null,null,null,null,null,null,null,null,{"$f":"IF(ISNA(VLOOKUP(AE15,Camions!$B:$F,4,0)),\"\",(VLOOKUP(AE15,Camions!$B:$F,4,0)))","v":""}]
[null,null,null,null,null,null,null,null,null,null,null,null,null,null,null,null,null,null,null,null,null,null,null,null,null,0,null,null,null,null,null,null,null,{"$f":"IF(ISNA(VLOOKUP(AE16,Camions!$B:$F,2,0)),\"\",(VLOOKUP(AE16,Camions!$B:$F,2,0)))","v":""},null,null,null,null,null,null,null,null,null,null,null,null,{"$f":"IF(ISNA(VLOOKUP(AE16,Camions!$B:$F,4,0)),\"\",(VLOOKUP(AE16,Camions!$B:$F,4,0)))","v":""}]
[null,null,null,null,null,null,null,null,null,null,null,null,null,null,null,null,null,null,null,null,null,null,null,null,null,0,null,null,null,null,null,null,null,{"$f":"IF(ISNA(VLOOKUP(AE17,Camions!$B:$F,2,0)),\"\",(VLOOKUP(AE17,Camions!$B:$F,2,0)))","v":""},null,null,null,null,null,null,null,null,null,null,null,null,{"$f":"IF(ISNA(VLOOKUP(AE17,Camions!$B:$F,4,0)),\"\",(VLOOKUP(AE17,Camions!$B:$F,4,0)))","v":""}]
[null,null,null,null,null,null,null,null,null,null,null,null,null,null,null,null,null,null,null,null,null,null,null,null,null,0,null,null,null,null,null,null,null,{"$f":"IF(ISNA(VLOOKUP(AE18,Camions!$B:$F,2,0)),\"\",(VLOOKUP(AE18,Camions!$B:$F,2,0)))","v":""},null,null,null,null,null,null,null,null,null,null,null,null,{"$f":"IF(ISNA(VLOOKUP(AE18,Camions!$B:$F,4,0)),\"\",(VLOOKUP(AE18,Camions!$B:$F,4,0)))","v":""}]
[null,null,null,null,null,null,null,null,null,null,null,null,null,null,null,null,null,null,null,null,null,null,null,null,null,0,null,null,null,null,null,null,null,{"$f":"IF(ISNA(VLOOKUP(AE19,Camions!$B:$F,2,0)),\"\",(VLOOKUP(AE19,Camions!$B:$F,2,0)))","v":""},null,null,null,null,null,null,null,null,null,null,null,null,{"$f":"IF(ISNA(VLOOKUP(AE19,Camions!$B:$F,4,0)),\"\",(VLOOKUP(AE19,Camions!$B:$F,4,0)))","v":""}]
[null,null,null,null,null,null,null,null,null,null,null,null,null,null,null,null,null,null,null,null,null,null,null,null,null,0,null,null,null,null,null,null,null,{"$f":"IF(ISNA(VLOOKUP(AE20,Camions!$B:$F,2,0)),\"\",(VLOOKUP(AE20,Camions!$B:$F,2,0)))","v":""},null,null,null,null,null,null,null,null,null,null,null,null,{"$f":"IF(ISNA(VLOOKUP(AE20,Camions!$B:$F,4,0)),\"\",(VLOOKUP(AE20,Camions!$B:$F,4,0)))","v":""}]
[null,null,null,null,null,null,null,null,null,null,null,null,null,null,null,null,null,null,null,null,null,null,null,null,null,0,null,null,null,null,null,null,null,{"$f":"IF(ISNA(VLOOKUP(AE21,Camions!$B:$F,2,0)),\"\",(VLOOKUP(AE21,Camions!$B:$F,2,0)))","v":""},null,null,null,null,null,null,null,null,null,null,null,null,{"$f":"IF(ISNA(VLOOKUP(AE21,Camions!$B:$F,4,0)),\"\",(VLOOKUP(AE21,Camions!$B:$F,4,0)))","v":""}]
[null,null,null,null,null,null,null,null,null,null,null,null,null,null,null,null,null,null,null,null,null,null,null,null,null,0,null,null,null,null,null,null,null,{"$f":"IF(ISNA(VLOOKUP(AE22,Camions!$B:$F,2,0)),\"\",(VLOOKUP(AE22,Camions!$B:$F,2,0)))","v":""},null,null,null,null,null,null,null,null,null,null,null,null,{"$f":"IF(ISNA(VLOOKUP(AE22,Camions!$B:$F,4,0)),\"\",(VLOOKUP(AE22,Camions!$B:$F,4,0)))","v":""}]
[null,null,null,null,null,null,null,null,null,null,null,null,null,null,null,null,null,null,null,null,null,null,null,null,null,0,null,null,null,null,null,null,null,{"$f":"IF(ISNA(VLOOKUP(AE23,Camions!$B:$F,2,0)),\"\",(VLOOKUP(AE23,Camions!$B:$F,2,0)))","v":""},null,null,null,null,null,null,null,null,null,null,null,null,{"$f":"IF(ISNA(VLOOKUP(AE23,Camions!$B:$F,4,0)),\"\",(VLOOKUP(AE23,Camions!$B:$F,4,0)))","v":""}]
[null,null,null,null,null,null,null,null,null,null,null,null,null,null,null,null,null,null,null,null,null,null,null,null,null,0,null,null,null,null,null,null,null,{"$f":"IF(ISNA(VLOOKUP(AE24,Camions!$B:$F,2,0)),\"\",(VLOOKUP(AE24,Camions!$B:$F,2,0)))","v":""},null,null,null,null,null,null,null,null,null,null,null,null,{"$f":"IF(ISNA(VLOOKUP(AE24,Camions!$B:$F,4,0)),\"\",(VLOOKUP(AE24,Camions!$B:$F,4,0)))","v":""}]
[null,null,null,null,null,null,null,null,null,null,null,null,null,null,null,null,null,null,null,null,null,null,null,null,null,0,null,null,null,null,null,null,null,{"$f":"IF(ISNA(VLOOKUP(AE25,Camions!$B:$F,2,0)),\"\",(VLOOKUP(AE25,Camions!$B:$F,2,0)))","v":""},null,null,null,null,null,null,null,null,null,null,null,null,{"$f":"IF(ISNA(VLOOKUP(AE25,Camions!$B:$F,4,0)),\"\",(VLOOKUP(AE25,Camions!$B:$F,4,0)))","v":""}]
[null,null,null,null,null,null,null,null,null,null,null,null,null,null,null,null,null,null,null,null,null,null,null,null,null,0,null,null,null,null,null,null,null,{"$f":"IF(ISNA(VLOOKUP(AE26,Camions!$B:$F,2,0)),\"\",(VLOOKUP(AE26,Camions!$B:$F,2,0)))","v":""},null,null,null,null,null,null,null,null,null,null,null,null,{"$f":"IF(ISNA(VLOOKUP(AE26,Camions!$B:$F,4,0)),\"\",(VLOOKUP(AE26,Camions!$B:$F,4,0)))","v":""}]
[null,null,null,null,null,null,null,null,null,null,null,null,null,null,null,null,null,null,null,null,null,null,null,null,null,0,null,null,null,null,null,null,null,{"$f":"IF(ISNA(VLOOKUP(AE27,Camions!$B:$F,2,0)),\"\",(VLOOKUP(AE27,Camions!$B:$F,2,0)))","v":""},null,null,null,null,null,null,null,null,null,null,null,null,{"$f":"IF(ISNA(VLOOKUP(AE27,Camions!$B:$F,4,0)),\"\",(VLOOKUP(AE27,Camions!$B:$F,4,0)))","v":""}]
[null,null,null,null,null,null,null,null,null,null,null,null,null,null,null,null,null,null,null,null,null,null,null,null,null,0,null,null,null,null,null,null,null,{"$f":"IF(ISNA(VLOOKUP(AE28,Camions!$B:$F,2,0)),\"\",(VLOOKUP(AE28,Camions!$B:$F,2,0)))","v":""},null,null,null,null,null,null,null,null,null,null,null,null,{"$f":"IF(ISNA(VLOOKUP(AE28,Camions!$B:$F,4,0)),\"\",(VLOOKUP(AE28,Camions!$B:$F,4,0)))","v":""}]
[null,null,null,null,null,null,null,null,null,null,null,null,null,null,null,null,null,null,null,null,null,null,null,null,null,0,null,null,null,null,null,null,null,{"$f":"IF(ISNA(VLOOKUP(AE29,Camions!$B:$F,2,0)),\"\",(VLOOKUP(AE29,Camions!$B:$F,2,0)))","v":""},null,null,null,null,null,null,null,null,null,null,null,null,{"$f":"IF(ISNA(VLOOKUP(AE29,Camions!$B:$F,4,0)),\"\",(VLOOKUP(AE29,Camions!$B:$F,4,0)))","v":""}]
[null,null,null,null,null,null,null,null,null,null,null,null,null,null,null,null,null,null,null,null,null,null,null,null,null,0,null,null,null,null,null,null,null,{"$f":"IF(ISNA(VLOOKUP(AE30,Camions!$B:$F,2,0)),\"\",(VLOOKUP(AE30,Camions!$B:$F,2,0)))","v":""},null,null,null,null,null,null,null,null,null,null,null,null,{"$f":"IF(ISNA(VLOOKUP(AE30,Camions!$B:$F,4,0)),\"\",(VLOOKUP(AE30,Camions!$B:$F,4,0)))","v":""}]
[null,null,null,null,null,null,null,null,null,null,null,null,null,null,null,null,null,null,null,null,null,null,null,null,null,0,null,null,null,null,null,null,null,{"$f":"IF(ISNA(VLOOKUP(AE31,Camions!$B:$F,2,0)),\"\",(VLOOKUP(AE31,Camions!$B:$F,2,0)))","v":""},null,null,null,null,null,null,null,null,null,null,null,null,{"$f":"IF(ISNA(VLOOKUP(AE31,Camions!$B:$F,4,0)),\"\",(VLOOKUP(AE31,Camions!$B:$F,4,0)))","v":""}]
[null,null,null,null,null,null,null,null,null,null,null,null,null,null,null,null,null,null,null,null,null,null,null,null,null,0,null,null,null,null,null,null,null,{"$f":"IF(ISNA(VLOOKUP(AE32,Camions!$B:$F,2,0)),\"\",(VLOOKUP(AE32,Camions!$B:$F,2,0)))","v":""},null,null,null,null,null,null,null,null,null,null,null,null,{"$f":"IF(ISNA(VLOOKUP(AE32,Camions!$B:$F,4,0)),\"\",(VLOOKUP(AE32,Camions!$B:$F,4,0)))","v":""}]
[null,null,null,null,null,null,null,null,null,null,null,null,null,null,null,null,null,null,null,null,null,null,null,null,null,0,null,null,null,null,null,null,null,{"$f":"IF(ISNA(VLOOKUP(AE33,Camions!$B:$F,2,0)),\"\",(VLOOKUP(AE33,Camions!$B:$F,2,0)))","v":""},null,null,null,null,null,null,null,null,null,null,null,null,{"$f":"IF(ISNA(VLOOKUP(AE33,Camions!$B:$F,4,0)),\"\",(VLOOKUP(AE33,Camions!$B:$F,4,0)))","v":""}]
[null,null,null,null,null,null,null,null,null,null,null,null,null,null,null,null,null,null,null,null,null,null,null,null,null,0,null,null,null,null,null,null,null,{"$f":"IF(ISNA(VLOOKUP(AE34,Camions!$B:$F,2,0)),\"\",(VLOOKUP(AE34,Camions!$B:$F,2,0)))","v":""},null,null,null,null,null,null,null,null,null,null,null,null,{"$f":"IF(ISNA(VLOOKUP(AE34,Camions!$B:$F,4,0)),\"\",(VLOOKUP(AE34,Camions!$B:$F,4,0)))","v":""}]
[null,null,null,null,null,null,null,null,null,null,null,null,null,null,null,null,null,null,null,null,null,null,null,null,null,0,null,null,null,null,null,null,null,{"$f":"IF(ISNA(VLOOKUP(AE35,Camions!$B:$F,2,0)),\"\",(VLOOKUP(AE35,Camions!$B:$F,2,0)))","v":""},null,null,null,null,null,null,null,null,null,null,null,null,{"$f":"IF(ISNA(VLOOKUP(AE35,Camions!$B:$F,4,0)),\"\",(VLOOKUP(AE35,Camions!$B:$F,4,0)))","v":""}]
[null,null,null,null,null,null,null,null,null,null,null,null,null,null,null,null,null,null,null,null,null,null,null,null,null,0,null,null,null,null,null,null,null,{"$f":"IF(ISNA(VLOOKUP(AE36,Camions!$B:$F,2,0)),\"\",(VLOOKUP(AE36,Camions!$B:$F,2,0)))","v":""},null,null,null,null,null,null,null,null,null,null,null,null,{"$f":"IF(ISNA(VLOOKUP(AE36,Camions!$B:$F,4,0)),\"\",(VLOOKUP(AE36,Camions!$B:$F,4,0)))","v":""}]
[null,null,null,null,null,null,null,null,null,null,null,null,null,null,null,null,null,null,null,null,null,null,null,null,null,0,null,null,null,null,null,null,null,{"$f":"IF(ISNA(VLOOKUP(AE37,Camions!$B:$F,2,0)),\"\",(VLOOKUP(AE37,Camions!$B:$F,2,0)))","v":""},null,null,null,null,null,null,null,null,null,null,null,null,{"$f":"IF(ISNA(VLOOKUP(AE36,Camions!$B:$F,4,0)),\"\",(VLOOKUP(AE36,Camions!$B:$F,4,0)))","v":""}]
["CHANTIER :",null,null,null,null,{"$f":"F1","v":0},null,null,null,null,null,null,null,null,null,null,null,null,null,null,"N° CHANTIER :",null,null,null,null,null,{"$f":"AA1","v":0},null,null,null,"JOUR :",null,null,null,{"$f":"AI1","v":"Dimanche"},null,null,null,null,null,null,null,null,null,null,null,null,null,null,null,null,"DATES :",null,null,{"$f":"BC1","v":"10-01-16"}]
["MATERIEL",null,null,null,null,null,null,null,null,null,null,null,null,null,null,null,null,null,null,null,null,null,null,null,null,null,null,null,null,null,"SOUS-TRAITANTS"]
["Légende :",null,null,null,null,"Pa",".= Panne",null,null,null,null,"Ent",".= Entretien"]
["N°",null,null,"Description du matériel",null,null,null,null,null,null,null,null,null,null,null,null,"Nom de l'opérateur",null,null,null,null,null,null,null,null,"Heures",null,null,null,null,"Type d'engin et description des travaux ",null,null,null,null,null,null,null,null,null,null,null,null,null,null,null,"Sous-traitants",null,null,null,null,null,null,null,null,"Heures"]
[null,null,null,{"$f":"IF(ISNA(VLOOKUP(A42,Machines!$B:$F,2,0)),\"\",(VLOOKUP(A42,Machines!$B:$F,2,0)))","v":""},null,null,null,null,null,null,null,null,null,null,null,null,{"$f":"IF(ISNA(VLOOKUP(A42,Machines!$B:$F,4,0)),\"\",(VLOOKUP(A42,Machines!$B:$F,4,0)))","v":""}]
[null,null,null,{"$f":"IF(ISNA(VLOOKUP(A43,Machines!$B:$F,2,0)),\"\",(VLOOKUP(A43,Machines!$B:$F,2,0)))","v":""},null,null,null,null,null,null,null,null,null,null,null,null,{"$f":"IF(ISNA(VLOOKUP(A43,Machines!$B:$F,4,0)),\"\",(VLOOKUP(A43,Machines!$B:$F,4,0)))","v":""}]
[null,null,null,{"$f":"IF(ISNA(VLOOKUP(A44,Machines!$B:$F,2,0)),\"\",(VLOOKUP(A44,Machines!$B:$F,2,0)))","v":""},null,null,null,null,null,null,null,null,null,null,null,null,{"$f":"IF(ISNA(VLOOKUP(A44,Machines!$B:$F,4,0)),\"\",(VLOOKUP(A44,Machines!$B:$F,4,0)))","v":""}]
[null,null,null,{"$f":"IF(ISNA(VLOOKUP(A45,Machines!$B:$F,2,0)),\"\",(VLOOKUP(A45,Machines!$B:$F,2,0)))","v":""},null,null,null,null,null,null,null,null,null,null,null,null,{"$f":"IF(ISNA(VLOOKUP(A45,Machines!$B:$F,4,0)),\"\",(VLOOKUP(A45,Machines!$B:$F,4,0)))","v":""}]
[null,null,null,{"$f":"IF(ISNA(VLOOKUP(A46,Machines!$B:$F,2,0)),\"\",(VLOOKUP(A46,Machines!$B:$F,2,0)))","v":""},null,null,null,null,null,null,null,null,null,null,null,null,{"$f":"IF(ISNA(VLOOKUP(A46,Machines!$B:$F,4,0)),\"\",(VLOOKUP(A46,Machines!$B:$F,4,0)))","v":""}]
[null,null,null,{"$f":"IF(ISNA(VLOOKUP(A47,Machines!$B:$F,2,0)),\"\",(VLOOKUP(A47,Machines!$B:$F,2,0)))","v":""},null,null,null,null,null,null,null,null,null,null,null,null,{"$f":"IF(ISNA(VLOOKUP(A47,Machines!$B:$F,4,0)),\"\",(VLOOKUP(A47,Machines!$B:$F,4,0)))","v":""}]
[null,null,null,{"$f":"IF(ISNA(VLOOKUP(A48,Machines!$B:$F,2,0)),\"\",(VLOOKUP(A48,Machines!$B:$F,2,0)))","v":""},null,null,null,null,null,null,null,null,null,null,null,null,{"$f":"IF(ISNA(VLOOKUP(A48,Machines!$B:$F,4,0)),\"\",(VLOOKUP(A48,Machines!$B:$F,4,0)))","v":""}]
[null,null,null,{"$f":"IF(ISNA(VLOOKUP(A49,Machines!$B:$F,2,0)),\"\",(VLOOKUP(A49,Machines!$B:$F,2,0)))","v":""},null,null,null,null,null,null,null,null,null,null,null,null,{"$f":"IF(ISNA(VLOOKUP(A49,Machines!$B:$F,4,0)),\"\",(VLOOKUP(A49,Machines!$B:$F,4,0)))","v":""}]
[null,null,null,{"$f":"IF(ISNA(VLOOKUP(A50,Machines!$B:$F,2,0)),\"\",(VLOOKUP(A50,Machines!$B:$F,2,0)))","v":""},null,null,null,null,null,null,null,null,null,null,null,null,{"$f":"IF(ISNA(VLOOKUP(A50,Machines!$B:$F,4,0)),\"\",(VLOOKUP(A50,Machines!$B:$F,4,0)))","v":""}]
[null,null,null,{"$f":"IF(ISNA(VLOOKUP(A51,Machines!$B:$F,2,0)),\"\",(VLOOKUP(A51,Machines!$B:$F,2,0)))","v":""},null,null,null,null,null,null,null,null,null,null,null,null,{"$f":"IF(ISNA(VLOOKUP(A51,Machines!$B:$F,4,0)),\"\",(VLOOKUP(A51,Machines!$B:$F,4,0)))","v":""}]
[null,null,null,{"$f":"IF(ISNA(VLOOKUP(A52,Machines!$B:$F,2,0)),\"\",(VLOOKUP(A52,Machines!$B:$F,2,0)))","v":""},null,null,null,null,null,null,null,null,null,null,null,null,{"$f":"IF(ISNA(VLOOKUP(A52,Machines!$B:$F,4,0)),\"\",(VLOOKUP(A52,Machines!$B:$F,4,0)))","v":""}]
[null,null,null,{"$f":"IF(ISNA(VLOOKUP(A53,Machines!$B:$F,2,0)),\"\",(VLOOKUP(A53,Machines!$B:$F,2,0)))","v":""},null,null,null,null,null,null,null,null,null,null,null,null,{"$f":"IF(ISNA(VLOOKUP(A53,Machines!$B:$F,4,0)),\"\",(VLOOKUP(A53,Machines!$B:$F,4,0)))","v":""}]
[null,null,null,{"$f":"IF(ISNA(VLOOKUP(A54,Machines!$B:$F,2,0)),\"\",(VLOOKUP(A54,Machines!$B:$F,2,0)))","v":""},null,null,null,null,null,null,null,null,null,null,null,null,{"$f":"IF(ISNA(VLOOKUP(A54,Machines!$B:$F,4,0)),\"\",(VLOOKUP(A54,Machines!$B:$F,4,0)))","v":""}]
[null,null,null,{"$f":"IF(ISNA(VLOOKUP(A55,Machines!$B:$F,2,0)),\"\",(VLOOKUP(A55,Machines!$B:$F,2,0)))","v":""},null,null,null,null,null,null,null,null,null,null,null,null,{"$f":"IF(ISNA(VLOOKUP(A55,Machines!$B:$F,4,0)),\"\",(VLOOKUP(A55,Machines!$B:$F,4,0)))","v":""}]
[null,null,null,{"$f":"IF(ISNA(VLOOKUP(A56,Machines!$B:$F,2,0)),\"\",(VLOOKUP(A56,Machines!$B:$F,2,0)))","v":""},null,null,null,null,null,null,null,null,null,null,null,null,{"$f":"IF(ISNA(VLOOKUP(A56,Machines!$B:$F,4,0)),\"\",(VLOOKUP(A56,Machines!$B:$F,4,0)))","v":""}]
[null,null,null,{"$f":"IF(ISNA(VLOOKUP(A57,Machines!$B:$F,2,0)),\"\",(VLOOKUP(A57,Machines!$B:$F,2,0)))","v":""},null,null,null,null,null,null,null,null,null,null,null,null,{"$f":"IF(ISNA(VLOOKUP(A57,Machines!$B:$F,4,0)),\"\",(VLOOKUP(A57,Machines!$B:$F,4,0)))","v":""}]
[null,null,null,{"$f":"IF(ISNA(VLOOKUP(A58,Machines!$B:$F,2,0)),\"\",(VLOOKUP(A58,Machines!$B:$F,2,0)))","v":""},null,null,null,null,null,null,null,null,null,null,null,null,{"$f":"IF(ISNA(VLOOKUP(A58,Machines!$B:$F,4,0)),\"\",(VLOOKUP(A58,Machines!$B:$F,4,0)))","v":""}]
[null,null,null,{"$f":"IF(ISNA(VLOOKUP(A59,Machines!$B:$F,2,0)),\"\",(VLOOKUP(A59,Machines!$B:$F,2,0)))","v":""},null,null,null,null,null,null,null,null,null,null,null,null,{"$f":"IF(ISNA(VLOOKUP(A59,Machines!$B:$F,4,0)),\"\",(VLOOKUP(A59,Machines!$B:$F,4,0)))","v":""}]
[null,null,null,{"$f":"IF(ISNA(VLOOKUP(A60,Machines!$B:$F,2,0)),\"\",(VLOOKUP(A60,Machines!$B:$F,2,0)))","v":""},null,null,null,null,null,null,null,null,null,null,null,null,{"$f":"IF(ISNA(VLOOKUP(A60,Machines!$B:$F,4,0)),\"\",(VLOOKUP(A60,Machines!$B:$F,4,0)))","v":""}]
[null,null,null,{"$f":"IF(ISNA(VLOOKUP(A61,Machines!$B:$F,2,0)),\"\",(VLOOKUP(A61,Machines!$B:$F,2,0)))","v":""},null,null,null,null,null,null,null,null,null,null,null,null,{"$f":"IF(ISNA(VLOOKUP(A61,Machines!$B:$F,4,0)),\"\",(VLOOKUP(A61,Machines!$B:$F,4,0)))","v":""}]
[null,null,null,{"$f":"IF(ISNA(VLOOKUP(A62,Machines!$B:$F,2,0)),\"\",(VLOOKUP(A62,Machines!$B:$F,2,0)))","v":""},null,null,null,null,null,null,null,null,null,null,null,null,{"$f":"IF(ISNA(VLOOKUP(A62,Machines!$B:$F,4,0)),\"\",(VLOOKUP(A62,Machines!$B:$F,4,0)))","v":""}]
[null,null,null,{"$f":"IF(ISNA(VLOOKUP(A63,Machines!$B:$F,2,0)),\"\",(VLOOKUP(A63,Machines!$B:$F,2,0)))","v":""},null,null,null,null,null,null,null,null,null,null,null,null,{"$f":"IF(ISNA(VLOOKUP(A63,Machines!$B:$F,4,0)),\"\",(VLOOKUP(A63,Machines!$B:$F,4,0)))","v":""}]
[null,null,null,{"$f":"IF(ISNA(VLOOKUP(A64,Machines!$B:$F,2,0)),\"\",(VLOOKUP(A64,Machines!$B:$F,2,0)))","v":""},null,null,null,null,null,null,null,null,null,null,null,null,{"$f":"IF(ISNA(VLOOKUP(A64,Machines!$B:$F,4,0)),\"\",(VLOOKUP(A64,Machines!$B:$F,4,0)))","v":""}]
[null,null,null,{"$f":"IF(ISNA(VLOOKUP(A65,Machines!$B:$F,2,0)),\"\",(VLOOKUP(A65,Machines!$B:$F,2,0)))","v":""},null,null,null,null,null,null,null,null,null,null,null,null,{"$f":"IF(ISNA(VLOOKUP(A65,Machines!$B:$F,4,0)),\"\",(VLOOKUP(A65,Machines!$B:$F,4,0)))","v":""}]
[null,null,null,{"$f":"IF(ISNA(VLOOKUP(A66,Machines!$B:$F,2,0)),\"\",(VLOOKUP(A66,Machines!$B:$F,2,0)))","v":""},null,null,null,null,null,null,null,null,null,null,null,null,{"$f":"IF(ISNA(VLOOKUP(A66,Machines!$B:$F,4,0)),\"\",(VLOOKUP(A66,Machines!$B:$F,4,0)))","v":""}]
[null,null,null,{"$f":"IF(ISNA(VLOOKUP(A67,Machines!$B:$F,2,0)),\"\",(VLOOKUP(A67,Machines!$B:$F,2,0)))","v":""},null,null,null,null,null,null,null,null,null,null,null,null,{"$f":"IF(ISNA(VLOOKUP(A67,Machines!$B:$F,4,0)),\"\",(VLOOKUP(A67,Machines!$B:$F,4,0)))","v":""}]
[null,null,null,{"$f":"IF(ISNA(VLOOKUP(A68,Machines!$B:$F,2,0)),\"\",(VLOOKUP(A68,Machines!$B:$F,2,0)))","v":""},null,null,null,null,null,null,null,null,null,null,null,null,{"$f":"IF(ISNA(VLOOKUP(A68,Machines!$B:$F,4,0)),\"\",(VLOOKUP(A68,Machines!$B:$F,4,0)))","v":""}]
[null,null,null,{"$f":"IF(ISNA(VLOOKUP(A69,Machines!$B:$F,2,0)),\"\",(VLOOKUP(A69,Machines!$B:$F,2,0)))","v":""},null,null,null,null,null,null,null,null,null,null,null,null,{"$f":"IF(ISNA(VLOOKUP(A69,Machines!$B:$F,4,0)),\"\",(VLOOKUP(A69,Machines!$B:$F,4,0)))","v":""}]
[null,null,null,{"$f":"IF(ISNA(VLOOKUP(A70,Machines!$B:$F,2,0)),\"\",(VLOOKUP(A70,Machines!$B:$F,2,0)))","v":""},null,null,null,null,null,null,null,null,null,null,null,null,{"$f":"IF(ISNA(VLOOKUP(A70,Machines!$B:$F,4,0)),\"\",(VLOOKUP(A70,Machines!$B:$F,4,0)))","v":""}]
[null,null,null,{"$f":"IF(ISNA(VLOOKUP(A71,Machines!$B:$F,2,0)),\"\",(VLOOKUP(A71,Machines!$B:$F,2,0)))","v":""},null,null,null,null,null,null,null,null,null,null,null,null,{"$f":"IF(ISNA(VLOOKUP(A71,Machines!$B:$F,4,0)),\"\",(VLOOKUP(A71,Machines!$B:$F,4,0)))","v":""}]
[null,null,null,{"$f":"IF(ISNA(VLOOKUP(A72,Machines!$B:$F,2,0)),\"\",(VLOOKUP(A72,Machines!$B:$F,2,0)))","v":""},null,null,null,null,null,null,null,null,null,null,null,null,{"$f":"IF(ISNA(VLOOKUP(A72,Machines!$B:$F,4,0)),\"\",(VLOOKUP(A72,Machines!$B:$F,4,0)))","v":""}]
[null,null,null,{"$f":"IF(ISNA(VLOOKUP(A73,Machines!$B:$F,2,0)),\"\",(VLOOKUP(A73,Machines!$B:$F,2,0)))","v":""},null,null,null,null,null,null,null,null,null,null,null,null,{"$f":"IF(ISNA(VLOOKUP(A73,Machines!$B:$F,4,0)),\"\",(VLOOKUP(A73,Machines!$B:$F,4,0)))","v":""}]
[null,null,null,{"$f":"IF(ISNA(VLOOKUP(A74,Machines!$B:$F,2,0)),\"\",(VLOOKUP(A74,Machines!$B:$F,2,0)))","v":""},null,null,null,null,null,null,null,null,null,null,null,null,{"$f":"IF(ISNA(VLOOKUP(A74,Machines!$B:$F,4,0)),\"\",(VLOOKUP(A74,Machines!$B:$F,4,0)))","v":""}]
["CHANTIER :",null,null,null,null,{"$f":"F1","v":0},null,null,null,null,null,null,null,null,null,null,null,null,null,null,"N° CHANTIER :",null,null,null,null,null,{"$f":"AA1","v":0},null,null,null,"JOUR :",null,null,null,{"$f":"AI1","v":"Dimanche"},null,null,null,null,null,null,null,null,null,null,null,null,null,null,null,null,"DATES :",null,null,{"$f":"BC1","v":"10-01-16"}]
["MATERIAUX"]
[null,null,null,"Fournisseurs",null,null,null,null,null,null,null,null,null,null,null,null,null,null,"Description des fournitures & matériaux",null,null,null,null,null,null,null,null,null,null,null,null,null,null,null,null,null,null,null,null,null,null,null,null,null,null,null,null,null,null,"Qt totales",null,null,null,"U.",null,"Prix"]
[]
[]
[]
[]
[]
[]
[]
[]
[]
[]
[]
[]
[]
[]
[]
[]
[]
[]
[]
[]
[]
[]
[]
[]
[]
[]
[]
[]
[]
[]
[]
[null,null,null,"RESPONSABLE",null,null,null,null,null,null,null,null,"SIGNATURE",null,null,null,null,null,"DESCRIPTION DES TRAVAUX REALISES CE JOUR",null,null,null,null,null,null,null,null,null,null,null,null,null,null,null,null,null,null,null,null,null,null,null,null,null,null,null,null,null,null,"METEO"]
[null,null,null,"JENNES Loïc"]

{"sheet":"11-01-16","index":17,"n_rows":110,"n_cols":56,"rows_kept":110,"cut":false,"hidden":false,"merged":[[109,18,109,48],[111,18,111,48],[108,18,108,48],[108,3,108,11],[108,12,108,17],[109,3,111,11],[109,12,111,17],[108,49,108,58],[109,49,111,58],[110,18,110,48],[107,3,107,17],[107,18,107,48],[103,3,103,17],[103,18,103,48],[106,3,106,17],[106,18,106,48],[104,3,104,17],[104,18,104,48],[105,3,105,17],[105,18,105,48],[102,3,102,17],[102,18,102,48],[99,3,99,17],[99,18,99,48],[100,3,100,17],[100,18,100,48],[101,49,101,52],[101,53,101,54],[101,55,101,58],[102,49,102,52],[102,53,102,54],[102,55,102,58],[99,55,99,58],[100,49,100,52],[100,53,100,54],[100,55,100,58],[95,53,95,54],[95,55,95,58],[96,49,96,52],[96,53,96,54],[96,55,96,58],[97,49,97,52],[97,53,97,54],[101,3,101,17],[101,18,101,48],[97,3,97,17],[97,18,97,48],[98,3,98,17],[98,18,98,48],[95,3,95,17],[95,18,95,48],[96,3,96,17],[96,18,96,48],[95,49,95,52],[97,55,97,58],[98,49,98,52],[98,53,98,54],[98,55,98,58],[99,49,99,52],[99,53,99,54],[94,3,94,17],[94,18,94,48],[91,3,91,17],[91,18,91,48],[92,3,92,17],[92,18,92,48],[93,49,93,52],[93,53,93,54],[93,55,93,58],[94,49,94,52],[94,53,94,54],[94,55,94,58],[91,55,91,58],[92,49,92,52],[92,53,92,54],[92,55,92,58],[87,53,87,54],[87,55,87,58],[88,49,88,52],[88,53,88,54],[88,55,88,58],[89,49,89,52],[89,53,89,54],[93,3,93,17],[93,18,93,48],[89,3,89,17],[89,18,89,48],[90,3,90,17],[90,18,90,48],[87,3,87,17],[87,18,87,48],[88,3,88,17],[88,18,88,48],[87,49,87,52],[89,55,89,58],[90,49,90,52],[90,53,90,54],[90,55,90,58],[91,49,91,52],[91,53,91,54],[86,3,86,17],[86,18,86,48],[83,3,83,17],[83,18,83,48],[84,3,84,17],[84,18,84,48],[85,49,85,52],[85,53,85,54],[85,55,85,58],[86,49,86,52],[86,53,86,54],[86,55,86,58],[83,55,83,58],[84,49,84,52],[84,53,84,54],[84,55,84,58],[79,53,79,54],[79,55,79,58],[80,49,80,52],[80,53,80,54],[80,55,80,58],[81,49,81,52],[81,53,81,54],[85,3,85,17],[85,18,85,48],[81,3,81,17],[81,18,81,48],[82,3,82,17],[82,18,82,48],[79,3,79,17],[79,18,79,48],[80,3,80,17],[80,18,80,48],[79,49,79,52],[81,55,81,58],[82,49,82,52],[82,53,82,54],[82,55,82,58],[83,49,83,52],[83,53,83,54],[74,54,74,58],[75,0,75,58],[76,49,76,52],[76,53,76,54],[76,55,76,58],[77,3,77,17],[77,18,77,48],[78,3,78,17],[78,18,78,48],[77,49,77,52],[77,53,77,54],[77,55,77,58],[78,49,78,52],[78,53,78,54],[78,55,78,58],[76,3,76,17],[76,18,76,48],[74,0,74,4],[74,5,74,19],[74,20,74,25],[74,26,74,28],[74,30,74,32],[74,34,74,47],[74,51,74,53],[0,0,0,4],[0,5,0,19],[0,20,0,25],[0,26,0,28],[0,30,0,32],[0,34,0,47],[0,51,0,53],[0,54,0,58],[1,0,1,28],[1,29,36,29],[1,30,1,58],[2,0,2,4],[2,7,2,10],[2,13,2,16],[2,19,2,22],[2,25,2,28],[2,30,2,34],[2,36,2,39],[2,42,2,45],[3,0,3,15],[3,16,3,18],[3,19,3,21],[3,22,3,24],[3,25,3,28],[3,30,3,32],[3,33,3,45],[3,46,3,54],[3,55,3,58],[4,0,4,15],[4,16,4,18],[4,19,4,21],[4,22,4,24],[4,25,4,28],[4,30,4,32],[4,33,4,45],[4,46,4,54],[4,55,4,58],[5,0,5,15],[5,16,5,18],[5,19,5,21],[5,22,5,24],[5,25,5,28],[5,30,5,32],[5,33,5,45],[5,46,5,54],[5,55,5,58],[6,0,6,15],[6,16,6,18],[6,19,6,21],[6,22,6,24],[6,25,6,28],[6,30,6,32],[6,33,6,45],[6,46,6,54],[6,55,6,58],[7,0,7,15],[7,16,7,18],[7,19,7,21],[7,22,7,24],[7,25,7,28],[7,30,7,32],[7,33,7,45],[7,46,7,54],[7,55,7,58],[8,0,8,15],[8,16,8,18],[8,19,8,21],[8,22,8,24],[8,25,8,28],[8,30,8,32],[8,33,8,45],[8,46,8,54],[8,55,8,58],[9,0,9,15],[9,16,9,18],[9,19,9,21],[9,22,9,24],[9,25,9,28],[9,30,9,32],[9,33,9,45],[9,46,9,54],[9,55,9,58],[10,0,10,15],[10,16,10,18],[10,19,10,21],[10,22,10,24],[10,25,10,28],[10,30,10,32],[10,33,10,45],[10,46,10,54],[10,55,10,58],[11,0,11,15],[11,16,11,18],[11,19,11,21],[11,22,11,24],[11,25,11,28],[11,30,11,32],[11,33,11,45],[11,46,11,54],[11,55,11,58],[12,0,12,15],[12,16,12,18],[12,19,12,21],[12,22,12,24],[12,25,12,28],[12,30,12,32],[12,33,12,45],[12,46,12,54],[12,55,12,58],[13,0,13,15],[13,16,13,18],[13,19,13,21],[13,22,13,24],[13,25,13,28],[13,30,13,32],[13,33,13,45],[13,46,13,54],[13,55,13,58],[14,0,14,15],[14,16,14,18],[14,19,14,21],[14,22,14,24],[14,25,14,28],[14,30,14,32],[14,33,14,45],[14,46,14,54],[14,55,14,58],[15,0,15,15],[15,16,15,18],[15,19,15,21],[15,22,15,24],[15,25,15,28],[15,30,15,32],[15,33,15,45],[15,46,15,54],[15,55,15,58],[16,0,16,15],[16,16,16,18],[16,19,16,21],[16,22,16,24],[16,25,16,28],[16,30,16,32],[16,33,16,45],[16,46,16,54],[16,55,16,58],[17,0,17,15],[17,16,17,18],[17,19,17,21],[17,22,17,24],[17,25,17,28],[17,30,17,32],[17,33,17,45],[17,46,17,54],[17,55,17,58],[18,0,18,15],[18,16,18,18],[18,19,18,21],[18,22,18,24],[18,25,18,28],[18,30,18,32],[18,33,18,45],[18,46,18,54],[18,55,18,58],[19,0,19,15],[19,16,19,18],[19,19,19,21],[19,22,19,24],[19,25,19,28],[19,30,19,32],[19,33,19,45],[19,46,19,54],[19,55,19,58],[20,0,20,15],[20,16,20,18],[20,19,20,21],[20,22,20,24],[20,25,20,28],[20,30,20,32],[20,33,20,45],[20,46,20,54],[20,55,20,58],[21,0,21,15],[21,16,21,18],[21,19,21,21],[21,22,21,24],[21,25,21,28],[21,30,21,32],[21,33,21,45],[21,46,21,54],[21,55,21,58],[22,0,22,15],[22,16,22,18],[22,19,22,21],[22,22,22,24],[22,25,22,28],[22,30,22,32],[22,33,22,45],[22,46,22,54],[22,55,22,58],[23,0,23,15],[23,16,23,18],[23,19,23,21],[23,22,23,24],[23,25,23,28],[23,30,23,32],[23,33,23,45],[23,46,23,54],[23,55,23,58],[24,0,24,15],[24,16,24,18],[24,19,24,21],[24,22,24,24],[24,25,24,28],[24,30,24,32],[24,33,24,45],[24,46,24,54],[24,55,24,58],[25,0,25,15],[25,16,25,18],[25,19,25,21],[25,22,25,24],[25,25,25,28],[25,30,25,32],[25,33,25,45],[25,46,25,54],[25,55,25,58],[26,0,26,15],[26,16,26,18],[26,19,26,21],[26,22,26,24],[26,25,26,28],[26,30,26,32],[26,33,26,45],[26,46,26,54],[26,55,26,58],[27,0,27,15],[27,16,27,18],[27,19,27,21],[27,22,27,24],[27,25,27,28],[27,30,27,32],[27,33,27,45],[27,46,27,54],[27,55,27,58],[28,0,28,15],[28,16,28,18],[28,19,28,21],[28,22,28,24],[28,25,28,28],[28,30,28,32],[28,33,28,45],[28,46,28,54],[28,55,28,58],[29,0,29,15],[29,16,29,18],[29,19,29,21],[29,22,29,24],[29,25,29,28],[29,30,29,32],[29,33,29,45],[29,46,29,54],[29,55,29,58],[30,0,30,15],[30,16,30,18],[30,19,30,21],[30,22,30,24],[30,25,30,28],[30,30,30,32],[30,33,30,45],[30,46,30,54],[30,55,30,58],[31,0,31,15],[31,16,31,18],[31,19,31,21],[31,22,31,24],[31,25,31,28],[31,30,31,32],[31,33,31,45],[31,46,31,54],[31,55,31,58],[32,0,32,15],[32,16,32,18],[32,19,32,21],[32,22,32,24],[32,25,32,28],[32,30,32,32],[32,33,32,45],[32,46,32,54],[32,55,32,58],[33,0,33,15],[33,16,33,18],[33,19,33,21],[33,22,33,24],[33,25,33,28],[33,30,33,32],[33,33,33,45],[33,46,33,54],[33,55,33,58],[34,0,34,15],[34,16,34,18],[34,19,34,21],[34,22,34,24],[34,25,34,28],[34,30,34,32],[34,33,34,45],[34,46,34,54],[34,55,34,58],[35,0,35,15],[35,16,35,18],[35,19,35,21],[35,22,35,24],[35,25,35,28],[35,30,35,32],[35,33,35,45],[35,46,35,54],[35,55,35,58],[36,0,36,15],[36,16,36,18],[36,19,36,21],[36,22,36,24],[36,25,36,28],[36,30,36,32],[36,33,36,45],[36,46,36,54],[36,55,36,58],[37,0,37,4],[37,5,37,19],[37,20,37,25],[37,26,37,28],[37,30,37,32],[37,34,37,47],[37,51,37,53],[37,54,37,58],[38,0,38,28],[38,29,73,29],[38,30,38,58],[39,0,39,4],[39,6,39,9],[39,12,39,15],[40,0,40,2],[40,3,40,15],[40,16,40,24],[40,25,40,28],[40,30,40,45],[40,46,40,54],[40,55,40,58],[41,0,41,2],[41,3,41,15],[41,16,41,24],[41,25,41,28],[41,30,41,45],[41,46,41,54],[41,55,41,58],[42,0,42,2],[42,3,42,15],[42,16,42,24],[42,25,42,28],[42,30,42,45],[42,46,42,54],[42,55,42,58],[43,0,43,2],[43,3,43,15],[43,16,43,24],[43,25,43,28],[43,30,43,45],[43,46,43,54],[43,55,43,58],[44,0,44,2],[44,3,44,15],[44,16,44,24],[44,25,44,28],[44,30,44,45],[44,46,44,54],[44,55,44,58],[45,0,45,2],[45,3,45,15],[45,16,45,24],[45,25,45,28],[45,30,45,45],[45,46,45,54],[45,55,45,58],[46,0,46,2],[46,3,46,15],[46,16,46,24],[46,25,46,28],[46,30,46,45],[46,46,46,54],[46,55,46,58],[47,0,47,2],[47,3,47,15],[47,16,47,24],[47,25,47,28],[47,30,47,45],[47,46,47,54],[47,55,47,58],[48,0,48,2],[48,3,48,15],[48,16,48,24],[48,25,48,28],[48,30,48,45],[48,46,48,54],[48,55,48,58],[49,0,49,2],[49,3,49,15],[49,16,49,24],[49,25,49,28],[49,30,49,45],[49,46,49,54],[49,55,49,58],[50,0,50,2],[50,3,50,15],[50,16,50,24],[50,25,50,28],[50,30,50,45],[50,46,50,54],[50,55,50,58],[51,0,51,2],[51,3,51,15],[51,16,51,24],[51,25,51,28],[51,30,51,45],[51,46,51,54],[51,55,51,58],[52,0,52,2],[52,3,52,15],[52,16,52,24],[52,25,52,28],[52,30,52,45],[52,46,52,54],[52,55,52,58],[53,0,53,2],[53,3,53,15],[53,16,53,24],[53,25,53,28],[53,30,53,45],[53,46,53,54],[53,55,53,58],[54,0,54,2],[54,3,54,15],[54,16,54,24],[54,25,54,28],[54,30,54,45],[54,46,54,54],[54,55,54,58],[55,0,55,2],[55,3,55,15],[55,16,55,24],[55,25,55,28],[55,30,55,45],[55,46,55,54],[55,55,55,58],[56,0,56,2],[56,3,56,15],[56,16,56,24],[56,25,56,28],[56,30,56,45],[56,46,56,54],[56,55,56,58],[57,0,57,2],[57,3,57,15],[57,16,57,24],[57,25,57,28],[57,30,57,45],[57,46,57,54],[57,55,57,58],[58,0,58,2],[58,3,58,15],[58,16,58,24],[58,25,58,28],[58,30,58,45],[58,46,58,54],[58,55,58,58],[59,0,59,2],[59,3,59,15],[59,16,59,24],[59,25,59,28],[59,30,59,45],[59,46,59,54],[59,55,59,58],[60,0,60,2],[60,3,60,15],[60,16,60,24],[60,25,60,28],[60,30,60,45],[60,46,60,54],[60,55,60,58],[61,0,61,2],[61,3,61,15],[61,16,61,24],[61,25,61,28],[61,30,61,45],[61,46,61,54],[61,55,61,58],[62,0,62,2],[62,3,62,15],[62,16,62,24],[62,25,62,28],[62,30,62,45],[62,46,62,54],[62,55,62,58],[63,0,63,2],[63,3,63,15],[63,16,63,24],[63,25,63,28],[63,30,63,45],[63,46,63,54],[63,55,63,58],[64,0,64,2],[64,3,64,15],[64,16,64,24],[64,25,64,28],[64,30,64,45],[64,46,64,54],[64,55,64,58],[65,0,65,2],[65,3,65,15],[65,16,65,24],[65,25,65,28],[65,30,65,45],[65,46,65,54],[65,55,65,58],[66,0,66,2],[66,3,66,15],[66,16,66,24],[66,25,66,28],[66,30,66,45],[66,46,66,54],[66,55,66,58],[67,0,67,2],[67,3,67,15],[67,16,67,24],[67,25,67,28],[67,30,67,45],[67,46,67,54],[67,55,67,58],[69,0,69,2],[69,3,69,15],[69,16,69,24],[69,25,69,28],[69,30,69,45],[69,46,69,54],[69,55,69,58],[68,0,68,2],[68,3,68,15],[68,16,68,24],[68,25,68,28],[68,30,68,45],[68,46,68,54],[68,55,68,58],[70,0,70,2],[70,3,70,15],[70,16,70,24],[70,25,70,28],[70,30,70,45],[70,46,70,54],[70,55,70,58],[71,0,71,2],[71,3,71,15],[71,16,71,24],[71,25,71,28],[71,30,71,45],[71,46,71,54],[71,55,71,58],[72,0,72,2],[72,3,72,15],[72,16,72,24],[72,25,72,28],[72,30,72,45],[72,46,72,54],[72,55,72,58],[73,0,73,2],[73,3,73,15],[73,16,73,24],[73,25,73,28],[73,30,73,45],[73,46,73,54],[73,55,73,58],[106,49,106,52],[106,53,106,54],[106,55,106,58],[107,49,107,52],[107,53,107,54],[107,55,107,58],[103,49,103,52],[103,53,103,54],[103,55,103,58],[104,49,104,52],[104,53,104,54],[104,55,104,58],[105,49,105,52],[105,53,105,54],[105,55,105,58]]}
["CHANTIER :",null,null,null,null,{"$f":"'01-01-16'!F1","v":0},null,null,null,null,null,null,null,null,null,null,null,null,null,null,"N° CHANTIER :",null,null,null,null,null,{"$f":"'01-01-16'!AA1","v":0},null,null,null,"JOUR :",null,null,null,{"$f":" CHOOSE(WEEKDAY(BC1,2),\"Lundi\",\"Mardi\",\"Mercredi\",\"Jeudi\",\"Vendredi\",\"Samedi\",\"Dimanche\")","v":"Lundi"},null,null,null,null,null,null,null,null,null,null,null,null,null,null,null,null,"DATES :",null,null,{"$f":"MID(CELL(\"nomfichier\",A1),FIND(\"]\",CELL(\"nomfichier\",A1),1)+1,30)","v":"11-01-16"}]
["MAIN D'ŒUVRE",null,null,null,null,null,null,null,null,null,null,null,null,null,null,null,null,null,null,null,null,null,null,null,null,null,null,null,null,null,"CAMIONS"]
["Légende :",null,null,null,null,null,"Co",".= Congé",null,null,null,null,"M",".= Malade",null,null,null,null,"Cho",".= Chômage",null,null,null,null,"Va",".= Vacance",null,null,null,null,"Légende :",null,null,null,null,"Pa",".= Panne",null,null,null,null,"Ent",".= Entretien"]
["NOM - Prénom du travailleur",null,null,null,null,null,null,null,null,null,null,null,null,null,null,null,"Début journée",null,null,"Arrêt repas",null,null,"Fin journée",null,null,"Heures prestées",null,null,null,null,"N°",null,null,"Description du matériel",null,null,null,null,null,null,null,null,null,null,null,null,"Nom de l'opérateur",null,null,null,null,null,null,null,null,"Heures"]
[null,null,null,null,null,null,null,null,null,null,null,null,null,null,null,null,null,null,null,null,null,null,null,null,null,{"$f":"W5-Q5-T5","v":0},null,null,null,null,null,null,null,{"$f":"IF(ISNA(VLOOKUP(AE5,Camions!$B:$F,2,0)),\"\",(VLOOKUP(AE5,Camions!$B:$F,2,0)))","v":""},null,null,null,null,null,null,null,null,null,null,null,null,{"$f":"IF(ISNA(VLOOKUP(AE5,Camions!$B:$F,4,0)),\"\",(VLOOKUP(AE5,Camions!$B:$F,4,0)))","v":""}]
[null,null,null,null,null,null,null,null,null,null,null,null,null,null,null,null,null,null,null,null,null,null,null,null,null,{"$f":"W6-Q6-T6","v":0},null,null,null,null,null,null,null,{"$f":"IF(ISNA(VLOOKUP(AE6,Camions!$B:$F,2,0)),\"\",(VLOOKUP(AE6,Camions!$B:$F,2,0)))","v":""},null,null,null,null,null,null,null,null,null,null,null,null,{"$f":"IF(ISNA(VLOOKUP(AE6,Camions!$B:$F,4,0)),\"\",(VLOOKUP(AE6,Camions!$B:$F,4,0)))","v":""}]
[null,null,null,null,null,null,null,null,null,null,null,null,null,null,null,null,null,null,null,null,null,null,null,null,null,0,null,null,null,null,null,null,null,{"$f":"IF(ISNA(VLOOKUP(AE7,Camions!$B:$F,2,0)),\"\",(VLOOKUP(AE7,Camions!$B:$F,2,0)))","v":""},null,null,null,null,null,null,null,null,null,null,null,null,{"$f":"IF(ISNA(VLOOKUP(AE7,Camions!$B:$F,4,0)),\"\",(VLOOKUP(AE7,Camions!$B:$F,4,0)))","v":""}]
[null,null,null,null,null,null,null,null,null,null,null,null,null,null,null,null,null,null,null,null,null,null,null,null,null,0,null,null,null,null,null,null,null,{"$f":"IF(ISNA(VLOOKUP(AE8,Camions!$B:$F,2,0)),\"\",(VLOOKUP(AE8,Camions!$B:$F,2,0)))","v":""},null,null,null,null,null,null,null,null,null,null,null,null,{"$f":"IF(ISNA(VLOOKUP(AE8,Camions!$B:$F,4,0)),\"\",(VLOOKUP(AE8,Camions!$B:$F,4,0)))","v":""}]
[null,null,null,null,null,null,null,null,null,null,null,null,null,null,null,null,null,null,null,null,null,null,null,null,null,0,null,null,null,null,null,null,null,{"$f":"IF(ISNA(VLOOKUP(AE9,Camions!$B:$F,2,0)),\"\",(VLOOKUP(AE9,Camions!$B:$F,2,0)))","v":""},null,null,null,null,null,null,null,null,null,null,null,null,{"$f":"IF(ISNA(VLOOKUP(AE9,Camions!$B:$F,4,0)),\"\",(VLOOKUP(AE9,Camions!$B:$F,4,0)))","v":""}]
[null,null,null,null,null,null,null,null,null,null,null,null,null,null,null,null,null,null,null,null,null,null,null,null,null,0,null,null,null,null,null,null,null,{"$f":"IF(ISNA(VLOOKUP(AE10,Camions!$B:$F,2,0)),\"\",(VLOOKUP(AE10,Camions!$B:$F,2,0)))","v":""},null,null,null,null,null,null,null,null,null,null,null,null,{"$f":"IF(ISNA(VLOOKUP(AE10,Camions!$B:$F,4,0)),\"\",(VLOOKUP(AE10,Camions!$B:$F,4,0)))","v":""}]
[null,null,null,null,null,null,null,null,null,null,null,null,null,null,null,null,null,null,null,null,null,null,null,null,null,0,null,null,null,null,null,null,null,{"$f":"IF(ISNA(VLOOKUP(AE11,Camions!$B:$F,2,0)),\"\",(VLOOKUP(AE11,Camions!$B:$F,2,0)))","v":""},null,null,null,null,null,null,null,null,null,null,null,null,{"$f":"IF(ISNA(VLOOKUP(AE11,Camions!$B:$F,4,0)),\"\",(VLOOKUP(AE11,Camions!$B:$F,4,0)))","v":""}]
[null,null,null,null,null,null,null,null,null,null,null,null,null,null,null,null,null,null,null,null,null,null,null,null,null,0,null,null,null,null,null,null,null,{"$f":"IF(ISNA(VLOOKUP(AE12,Camions!$B:$F,2,0)),\"\",(VLOOKUP(AE12,Camions!$B:$F,2,0)))","v":""},null,null,null,null,null,null,null,null,null,null,null,null,{"$f":"IF(ISNA(VLOOKUP(AE12,Camions!$B:$F,4,0)),\"\",(VLOOKUP(AE12,Camions!$B:$F,4,0)))","v":""}]
[null,null,null,null,null,null,null,null,null,null,null,null,null,null,null,null,null,null,null,null,null,null,null,null,null,0,null,null,null,null,null,null,null,{"$f":"IF(ISNA(VLOOKUP(AE13,Camions!$B:$F,2,0)),\"\",(VLOOKUP(AE13,Camions!$B:$F,2,0)))","v":""},null,null,null,null,null,null,null,null,null,null,null,null,{"$f":"IF(ISNA(VLOOKUP(AE13,Camions!$B:$F,4,0)),\"\",(VLOOKUP(AE13,Camions!$B:$F,4,0)))","v":""}]
[null,null,null,null,null,null,null,null,null,null,null,null,null,null,null,null,null,null,null,null,null,null,null,null,null,0,null,null,null,null,null,null,null,{"$f":"IF(ISNA(VLOOKUP(AE14,Camions!$B:$F,2,0)),\"\",(VLOOKUP(AE14,Camions!$B:$F,2,0)))","v":""},null,null,null,null,null,null,null,null,null,null,null,null,{"$f":"IF(ISNA(VLOOKUP(AE14,Camions!$B:$F,4,0)),\"\",(VLOOKUP(AE14,Camions!$B:$F,4,0)))","v":""}]
[null,null,null,null,null,null,null,null,null,null,null,null,null,null,null,null,null,null,null,null,null,null,null,null,null,0,null,null,null,null,null,null,null,{"$f":"IF(ISNA(VLOOKUP(AE15,Camions!$B:$F,2,0)),\"\",(VLOOKUP(AE15,Camions!$B:$F,2,0)))","v":""},null,null,null,null,null,null,null,null,null,null,null,null,{"$f":"IF(ISNA(VLOOKUP(AE15,Camions!$B:$F,4,0)),\"\",(VLOOKUP(AE15,Camions!$B:$F,4,0)))","v":""}]
[null,null,null,null,null,null,null,null,null,null,null,null,null,null,null,null,null,null,null,null,null,null,null,null,null,0,null,null,null,null,null,null,null,{"$f":"IF(ISNA(VLOOKUP(AE16,Camions!$B:$F,2,0)),\"\",(VLOOKUP(AE16,Camions!$B:$F,2,0)))","v":""},null,null,null,null,null,null,null,null,null,null,null,null,{"$f":"IF(ISNA(VLOOKUP(AE16,Camions!$B:$F,4,0)),\"\",(VLOOKUP(AE16,Camions!$B:$F,4,0)))","v":""}]
[null,null,null,null,null,null,null,null,null,null,null,null,null,null,null,null,null,null,null,null,null,null,null,null,null,0,null,null,null,null,null,null,null,{"$f":"IF(ISNA(VLOOKUP(AE17,Camions!$B:$F,2,0)),\"\",(VLOOKUP(AE17,Camions!$B:$F,2,0)))","v":""},null,null,null,null,null,null,null,null,null,null,null,null,{"$f":"IF(ISNA(VLOOKUP(AE17,Camions!$B:$F,4,0)),\"\",(VLOOKUP(AE17,Camions!$B:$F,4,0)))","v":""}]
[null,null,null,null,null,null,null,null,null,null,null,null,null,null,null,null,null,null,null,null,null,null,null,null,null,0,null,null,null,null,null,null,null,{"$f":"IF(ISNA(VLOOKUP(AE18,Camions!$B:$F,2,0)),\"\",(VLOOKUP(AE18,Camions!$B:$F,2,0)))","v":""},null,null,null,null,null,null,null,null,null,null,null,null,{"$f":"IF(ISNA(VLOOKUP(AE18,Camions!$B:$F,4,0)),\"\",(VLOOKUP(AE18,Camions!$B:$F,4,0)))","v":""}]
[null,null,null,null,null,null,null,null,null,null,null,null,null,null,null,null,null,null,null,null,null,null,null,null,null,0,null,null,null,null,null,null,null,{"$f":"IF(ISNA(VLOOKUP(AE19,Camions!$B:$F,2,0)),\"\",(VLOOKUP(AE19,Camions!$B:$F,2,0)))","v":""},null,null,null,null,null,null,null,null,null,null,null,null,{"$f":"IF(ISNA(VLOOKUP(AE19,Camions!$B:$F,4,0)),\"\",(VLOOKUP(AE19,Camions!$B:$F,4,0)))","v":""}]
[null,null,null,null,null,null,null,null,null,null,null,null,null,null,null,null,null,null,null,null,null,null,null,null,null,0,null,null,null,null,null,null,null,{"$f":"IF(ISNA(VLOOKUP(AE20,Camions!$B:$F,2,0)),\"\",(VLOOKUP(AE20,Camions!$B:$F,2,0)))","v":""},null,null,null,null,null,null,null,null,null,null,null,null,{"$f":"IF(ISNA(VLOOKUP(AE20,Camions!$B:$F,4,0)),\"\",(VLOOKUP(AE20,Camions!$B:$F,4,0)))","v":""}]
[null,null,null,null,null,null,null,null,null,null,null,null,null,null,null,null,null,null,null,null,null,null,null,null,null,0,null,null,null,null,null,null,null,{"$f":"IF(ISNA(VLOOKUP(AE21,Camions!$B:$F,2,0)),\"\",(VLOOKUP(AE21,Camions!$B:$F,2,0)))","v":""},null,null,null,null,null,null,null,null,null,null,null,null,{"$f":"IF(ISNA(VLOOKUP(AE21,Camions!$B:$F,4,0)),\"\",(VLOOKUP(AE21,Camions!$B:$F,4,0)))","v":""}]
[null,null,null,null,null,null,null,null,null,null,null,null,null,null,null,null,null,null,null,null,null,null,null,null,null,0,null,null,null,null,null,null,null,{"$f":"IF(ISNA(VLOOKUP(AE22,Camions!$B:$F,2,0)),\"\",(VLOOKUP(AE22,Camions!$B:$F,2,0)))","v":""},null,null,null,null,null,null,null,null,null,null,null,null,{"$f":"IF(ISNA(VLOOKUP(AE22,Camions!$B:$F,4,0)),\"\",(VLOOKUP(AE22,Camions!$B:$F,4,0)))","v":""}]
[null,null,null,null,null,null,null,null,null,null,null,null,null,null,null,null,null,null,null,null,null,null,null,null,null,0,null,null,null,null,null,null,null,{"$f":"IF(ISNA(VLOOKUP(AE23,Camions!$B:$F,2,0)),\"\",(VLOOKUP(AE23,Camions!$B:$F,2,0)))","v":""},null,null,null,null,null,null,null,null,null,null,null,null,{"$f":"IF(ISNA(VLOOKUP(AE23,Camions!$B:$F,4,0)),\"\",(VLOOKUP(AE23,Camions!$B:$F,4,0)))","v":""}]
[null,null,null,null,null,null,null,null,null,null,null,null,null,null,null,null,null,null,null,null,null,null,null,null,null,0,null,null,null,null,null,null,null,{"$f":"IF(ISNA(VLOOKUP(AE24,Camions!$B:$F,2,0)),\"\",(VLOOKUP(AE24,Camions!$B:$F,2,0)))","v":""},null,null,null,null,null,null,null,null,null,null,null,null,{"$f":"IF(ISNA(VLOOKUP(AE24,Camions!$B:$F,4,0)),\"\",(VLOOKUP(AE24,Camions!$B:$F,4,0)))","v":""}]
[null,null,null,null,null,null,null,null,null,null,null,null,null,null,null,null,null,null,null,null,null,null,null,null,null,0,null,null,null,null,null,null,null,{"$f":"IF(ISNA(VLOOKUP(AE25,Camions!$B:$F,2,0)),\"\",(VLOOKUP(AE25,Camions!$B:$F,2,0)))","v":""},null,null,null,null,null,null,null,null,null,null,null,null,{"$f":"IF(ISNA(VLOOKUP(AE25,Camions!$B:$F,4,0)),\"\",(VLOOKUP(AE25,Camions!$B:$F,4,0)))","v":""}]
[null,null,null,null,null,null,null,null,null,null,null,null,null,null,null,null,null,null,null,null,null,null,null,null,null,0,null,null,null,null,null,null,null,{"$f":"IF(ISNA(VLOOKUP(AE26,Camions!$B:$F,2,0)),\"\",(VLOOKUP(AE26,Camions!$B:$F,2,0)))","v":""},null,null,null,null,null,null,null,null,null,null,null,null,{"$f":"IF(ISNA(VLOOKUP(AE26,Camions!$B:$F,4,0)),\"\",(VLOOKUP(AE26,Camions!$B:$F,4,0)))","v":""}]
[null,null,null,null,null,null,null,null,null,null,null,null,null,null,null,null,null,null,null,null,null,null,null,null,null,0,null,null,null,null,null,null,null,{"$f":"IF(ISNA(VLOOKUP(AE27,Camions!$B:$F,2,0)),\"\",(VLOOKUP(AE27,Camions!$B:$F,2,0)))","v":""},null,null,null,null,null,null,null,null,null,null,null,null,{"$f":"IF(ISNA(VLOOKUP(AE27,Camions!$B:$F,4,0)),\"\",(VLOOKUP(AE27,Camions!$B:$F,4,0)))","v":""}]
[null,null,null,null,null,null,null,null,null,null,null,null,null,null,null,null,null,null,null,null,null,null,null,null,null,0,null,null,null,null,null,null,null,{"$f":"IF(ISNA(VLOOKUP(AE28,Camions!$B:$F,2,0)),\"\",(VLOOKUP(AE28,Camions!$B:$F,2,0)))","v":""},null,null,null,null,null,null,null,null,null,null,null,null,{"$f":"IF(ISNA(VLOOKUP(AE28,Camions!$B:$F,4,0)),\"\",(VLOOKUP(AE28,Camions!$B:$F,4,0)))","v":""}]
[null,null,null,null,null,null,null,null,null,null,null,null,null,null,null,null,null,null,null,null,null,null,null,null,null,0,null,null,null,null,null,null,null,{"$f":"IF(ISNA(VLOOKUP(AE29,Camions!$B:$F,2,0)),\"\",(VLOOKUP(AE29,Camions!$B:$F,2,0)))","v":""},null,null,null,null,null,null,null,null,null,null,null,null,{"$f":"IF(ISNA(VLOOKUP(AE29,Camions!$B:$F,4,0)),\"\",(VLOOKUP(AE29,Camions!$B:$F,4,0)))","v":""}]
[null,null,null,null,null,null,null,null,null,null,null,null,null,null,null,null,null,null,null,null,null,null,null,null,null,0,null,null,null,null,null,null,null,{"$f":"IF(ISNA(VLOOKUP(AE30,Camions!$B:$F,2,0)),\"\",(VLOOKUP(AE30,Camions!$B:$F,2,0)))","v":""},null,null,null,null,null,null,null,null,null,null,null,null,{"$f":"IF(ISNA(VLOOKUP(AE30,Camions!$B:$F,4,0)),\"\",(VLOOKUP(AE30,Camions!$B:$F,4,0)))","v":""}]
[null,null,null,null,null,null,null,null,null,null,null,null,null,null,null,null,null,null,null,null,null,null,null,null,null,0,null,null,null,null,null,null,null,{"$f":"IF(ISNA(VLOOKUP(AE31,Camions!$B:$F,2,0)),\"\",(VLOOKUP(AE31,Camions!$B:$F,2,0)))","v":""},null,null,null,null,null,null,null,null,null,null,null,null,{"$f":"IF(ISNA(VLOOKUP(AE31,Camions!$B:$F,4,0)),\"\",(VLOOKUP(AE31,Camions!$B:$F,4,0)))","v":""}]
[null,null,null,null,null,null,null,null,null,null,null,null,null,null,null,null,null,null,null,null,null,null,null,null,null,0,null,null,null,null,null,null,null,{"$f":"IF(ISNA(VLOOKUP(AE32,Camions!$B:$F,2,0)),\"\",(VLOOKUP(AE32,Camions!$B:$F,2,0)))","v":""},null,null,null,null,null,null,null,null,null,null,null,null,{"$f":"IF(ISNA(VLOOKUP(AE32,Camions!$B:$F,4,0)),\"\",(VLOOKUP(AE32,Camions!$B:$F,4,0)))","v":""}]
[null,null,null,null,null,null,null,null,null,null,null,null,null,null,null,null,null,null,null,null,null,null,null,null,null,0,null,null,null,null,null,null,null,{"$f":"IF(ISNA(VLOOKUP(AE33,Camions!$B:$F,2,0)),\"\",(VLOOKUP(AE33,Camions!$B:$F,2,0)))","v":""},null,null,null,null,null,null,null,null,null,null,null,null,{"$f":"IF(ISNA(VLOOKUP(AE33,Camions!$B:$F,4,0)),\"\",(VLOOKUP(AE33,Camions!$B:$F,4,0)))","v":""}]
[null,null,null,null,null,null,null,null,null,null,null,null,null,null,null,null,null,null,null,null,null,null,null,null,null,0,null,null,null,null,null,null,null,{"$f":"IF(ISNA(VLOOKUP(AE34,Camions!$B:$F,2,0)),\"\",(VLOOKUP(AE34,Camions!$B:$F,2,0)))","v":""},null,null,null,null,null,null,null,null,null,null,null,null,{"$f":"IF(ISNA(VLOOKUP(AE34,Camions!$B:$F,4,0)),\"\",(VLOOKUP(AE34,Camions!$B:$F,4,0)))","v":""}]
[null,null,null,null,null,null,null,null,null,null,null,null,null,null,null,null,null,null,null,null,null,null,null,null,null,0,null,null,null,null,null,null,null,{"$f":"IF(ISNA(VLOOKUP(AE35,Camions!$B:$F,2,0)),\"\",(VLOOKUP(AE35,Camions!$B:$F,2,0)))","v":""},null,null,null,null,null,null,null,null,null,null,null,null,{"$f":"IF(ISNA(VLOOKUP(AE35,Camions!$B:$F,4,0)),\"\",(VLOOKUP(AE35,Camions!$B:$F,4,0)))","v":""}]
[null,null,null,null,null,null,null,null,null,null,null,null,null,null,null,null,null,null,null,null,null,null,null,null,null,0,null,null,null,null,null,null,null,{"$f":"IF(ISNA(VLOOKUP(AE36,Camions!$B:$F,2,0)),\"\",(VLOOKUP(AE36,Camions!$B:$F,2,0)))","v":""},null,null,null,null,null,null,null,null,null,null,null,null,{"$f":"IF(ISNA(VLOOKUP(AE36,Camions!$B:$F,4,0)),\"\",(VLOOKUP(AE36,Camions!$B:$F,4,0)))","v":""}]
[null,null,null,null,null,null,null,null,null,null,null,null,null,null,null,null,null,null,null,null,null,null,null,null,null,0,null,null,null,null,null,null,null,{"$f":"IF(ISNA(VLOOKUP(AE37,Camions!$B:$F,2,0)),\"\",(VLOOKUP(AE37,Camions!$B:$F,2,0)))","v":""},null,null,null,null,null,null,null,null,null,null,null,null,{"$f":"IF(ISNA(VLOOKUP(AE36,Camions!$B:$F,4,0)),\"\",(VLOOKUP(AE36,Camions!$B:$F,4,0)))","v":""}]
["CHANTIER :",null,null,null,null,{"$f":"F1","v":0},null,null,null,null,null,null,null,null,null,null,null,null,null,null,"N° CHANTIER :",null,null,null,null,null,{"$f":"AA1","v":0},null,null,null,"JOUR :",null,null,null,{"$f":"AI1","v":"Lundi"},null,null,null,null,null,null,null,null,null,null,null,null,null,null,null,null,"DATES :",null,null,{"$f":"BC1","v":"11-01-16"}]
["MATERIEL",null,null,null,null,null,null,null,null,null,null,null,null,null,null,null,null,null,null,null,null,null,null,null,null,null,null,null,null,null,"SOUS-TRAITANTS"]
["Légende :",null,null,null,null,"Pa",".= Panne",null,null,null,null,"Ent",".= Entretien"]
["N°",null,null,"Description du matériel",null,null,null,null,null,null,null,null,null,null,null,null,"Nom de l'opérateur",null,null,null,null,null,null,null,null,"Heures",null,null,null,null,"Type d'engin et description des travaux ",null,null,null,null,null,null,null,null,null,null,null,null,null,null,null,"Sous-traitants",null,null,null,null,null,null,null,null,"Heures"]
[null,null,null,{"$f":"IF(ISNA(VLOOKUP(A42,Machines!$B:$F,2,0)),\"\",(VLOOKUP(A42,Machines!$B:$F,2,0)))","v":""},null,null,null,null,null,null,null,null,null,null,null,null,{"$f":"IF(ISNA(VLOOKUP(A42,Machines!$B:$F,4,0)),\"\",(VLOOKUP(A42,Machines!$B:$F,4,0)))","v":""}]
[null,null,null,{"$f":"IF(ISNA(VLOOKUP(A43,Machines!$B:$F,2,0)),\"\",(VLOOKUP(A43,Machines!$B:$F,2,0)))","v":""},null,null,null,null,null,null,null,null,null,null,null,null,{"$f":"IF(ISNA(VLOOKUP(A43,Machines!$B:$F,4,0)),\"\",(VLOOKUP(A43,Machines!$B:$F,4,0)))","v":""}]
[null,null,null,{"$f":"IF(ISNA(VLOOKUP(A44,Machines!$B:$F,2,0)),\"\",(VLOOKUP(A44,Machines!$B:$F,2,0)))","v":""},null,null,null,null,null,null,null,null,null,null,null,null,{"$f":"IF(ISNA(VLOOKUP(A44,Machines!$B:$F,4,0)),\"\",(VLOOKUP(A44,Machines!$B:$F,4,0)))","v":""}]
[null,null,null,{"$f":"IF(ISNA(VLOOKUP(A45,Machines!$B:$F,2,0)),\"\",(VLOOKUP(A45,Machines!$B:$F,2,0)))","v":""},null,null,null,null,null,null,null,null,null,null,null,null,{"$f":"IF(ISNA(VLOOKUP(A45,Machines!$B:$F,4,0)),\"\",(VLOOKUP(A45,Machines!$B:$F,4,0)))","v":""}]
[null,null,null,{"$f":"IF(ISNA(VLOOKUP(A46,Machines!$B:$F,2,0)),\"\",(VLOOKUP(A46,Machines!$B:$F,2,0)))","v":""},null,null,null,null,null,null,null,null,null,null,null,null,{"$f":"IF(ISNA(VLOOKUP(A46,Machines!$B:$F,4,0)),\"\",(VLOOKUP(A46,Machines!$B:$F,4,0)))","v":""}]
[null,null,null,{"$f":"IF(ISNA(VLOOKUP(A47,Machines!$B:$F,2,0)),\"\",(VLOOKUP(A47,Machines!$B:$F,2,0)))","v":""},null,null,null,null,null,null,null,null,null,null,null,null,{"$f":"IF(ISNA(VLOOKUP(A47,Machines!$B:$F,4,0)),\"\",(VLOOKUP(A47,Machines!$B:$F,4,0)))","v":""}]
[null,null,null,{"$f":"IF(ISNA(VLOOKUP(A48,Machines!$B:$F,2,0)),\"\",(VLOOKUP(A48,Machines!$B:$F,2,0)))","v":""},null,null,null,null,null,null,null,null,null,null,null,null,{"$f":"IF(ISNA(VLOOKUP(A48,Machines!$B:$F,4,0)),\"\",(VLOOKUP(A48,Machines!$B:$F,4,0)))","v":""}]
[null,null,null,{"$f":"IF(ISNA(VLOOKUP(A49,Machines!$B:$F,2,0)),\"\",(VLOOKUP(A49,Machines!$B:$F,2,0)))","v":""},null,null,null,null,null,null,null,null,null,null,null,null,{"$f":"IF(ISNA(VLOOKUP(A49,Machines!$B:$F,4,0)),\"\",(VLOOKUP(A49,Machines!$B:$F,4,0)))","v":""}]
[null,null,null,{"$f":"IF(ISNA(VLOOKUP(A50,Machines!$B:$F,2,0)),\"\",(VLOOKUP(A50,Machines!$B:$F,2,0)))","v":""},null,null,null,null,null,null,null,null,null,null,null,null,{"$f":"IF(ISNA(VLOOKUP(A50,Machines!$B:$F,4,0)),\"\",(VLOOKUP(A50,Machines!$B:$F,4,0)))","v":""}]
[null,null,null,{"$f":"IF(ISNA(VLOOKUP(A51,Machines!$B:$F,2,0)),\"\",(VLOOKUP(A51,Machines!$B:$F,2,0)))","v":""},null,null,null,null,null,null,null,null,null,null,null,null,{"$f":"IF(ISNA(VLOOKUP(A51,Machines!$B:$F,4,0)),\"\",(VLOOKUP(A51,Machines!$B:$F,4,0)))","v":""}]
[null,null,null,{"$f":"IF(ISNA(VLOOKUP(A52,Machines!$B:$F,2,0)),\"\",(VLOOKUP(A52,Machines!$B:$F,2,0)))","v":""},null,null,null,null,null,null,null,null,null,null,null,null,{"$f":"IF(ISNA(VLOOKUP(A52,Machines!$B:$F,4,0)),\"\",(VLOOKUP(A52,Machines!$B:$F,4,0)))","v":""}]
[null,null,null,{"$f":"IF(ISNA(VLOOKUP(A53,Machines!$B:$F,2,0)),\"\",(VLOOKUP(A53,Machines!$B:$F,2,0)))","v":""},null,null,null,null,null,null,null,null,null,null,null,null,{"$f":"IF(ISNA(VLOOKUP(A53,Machines!$B:$F,4,0)),\"\",(VLOOKUP(A53,Machines!$B:$F,4,0)))","v":""}]
[null,null,null,{"$f":"IF(ISNA(VLOOKUP(A54,Machines!$B:$F,2,0)),\"\",(VLOOKUP(A54,Machines!$B:$F,2,0)))","v":""},null,null,null,null,null,null,null,null,null,null,null,null,{"$f":"IF(ISNA(VLOOKUP(A54,Machines!$B:$F,4,0)),\"\",(VLOOKUP(A54,Machines!$B:$F,4,0)))","v":""}]
[null,null,null,{"$f":"IF(ISNA(VLOOKUP(A55,Machines!$B:$F,2,0)),\"\",(VLOOKUP(A55,Machines!$B:$F,2,0)))","v":""},null,null,null,null,null,null,null,null,null,null,null,null,{"$f":"IF(ISNA(VLOOKUP(A55,Machines!$B:$F,4,0)),\"\",(VLOOKUP(A55,Machines!$B:$F,4,0)))","v":""}]
[null,null,null,{"$f":"IF(ISNA(VLOOKUP(A56,Machines!$B:$F,2,0)),\"\",(VLOOKUP(A56,Machines!$B:$F,2,0)))","v":""},null,null,null,null,null,null,null,null,null,null,null,null,{"$f":"IF(ISNA(VLOOKUP(A56,Machines!$B:$F,4,0)),\"\",(VLOOKUP(A56,Machines!$B:$F,4,0)))","v":""}]
[null,null,null,{"$f":"IF(ISNA(VLOOKUP(A57,Machines!$B:$F,2,0)),\"\",(VLOOKUP(A57,Machines!$B:$F,2,0)))","v":""},null,null,null,null,null,null,null,null,null,null,null,null,{"$f":"IF(ISNA(VLOOKUP(A57,Machines!$B:$F,4,0)),\"\",(VLOOKUP(A57,Machines!$B:$F,4,0)))","v":""}]
[null,null,null,{"$f":"IF(ISNA(VLOOKUP(A58,Machines!$B:$F,2,0)),\"\",(VLOOKUP(A58,Machines!$B:$F,2,0)))","v":""},null,null,null,null,null,null,null,null,null,null,null,null,{"$f":"IF(ISNA(VLOOKUP(A58,Machines!$B:$F,4,0)),\"\",(VLOOKUP(A58,Machines!$B:$F,4,0)))","v":""}]
[null,null,null,{"$f":"IF(ISNA(VLOOKUP(A59,Machines!$B:$F,2,0)),\"\",(VLOOKUP(A59,Machines!$B:$F,2,0)))","v":""},null,null,null,null,null,null,null,null,null,null,null,null,{"$f":"IF(ISNA(VLOOKUP(A59,Machines!$B:$F,4,0)),\"\",(VLOOKUP(A59,Machines!$B:$F,4,0)))","v":""}]
[null,null,null,{"$f":"IF(ISNA(VLOOKUP(A60,Machines!$B:$F,2,0)),\"\",(VLOOKUP(A60,Machines!$B:$F,2,0)))","v":""},null,null,null,null,null,null,null,null,null,null,null,null,{"$f":"IF(ISNA(VLOOKUP(A60,Machines!$B:$F,4,0)),\"\",(VLOOKUP(A60,Machines!$B:$F,4,0)))","v":""}]
[null,null,null,{"$f":"IF(ISNA(VLOOKUP(A61,Machines!$B:$F,2,0)),\"\",(VLOOKUP(A61,Machines!$B:$F,2,0)))","v":""},null,null,null,null,null,null,null,null,null,null,null,null,{"$f":"IF(ISNA(VLOOKUP(A61,Machines!$B:$F,4,0)),\"\",(VLOOKUP(A61,Machines!$B:$F,4,0)))","v":""}]
[null,null,null,{"$f":"IF(ISNA(VLOOKUP(A62,Machines!$B:$F,2,0)),\"\",(VLOOKUP(A62,Machines!$B:$F,2,0)))","v":""},null,null,null,null,null,null,null,null,null,null,null,null,{"$f":"IF(ISNA(VLOOKUP(A62,Machines!$B:$F,4,0)),\"\",(VLOOKUP(A62,Machines!$B:$F,4,0)))","v":""}]
[null,null,null,{"$f":"IF(ISNA(VLOOKUP(A63,Machines!$B:$F,2,0)),\"\",(VLOOKUP(A63,Machines!$B:$F,2,0)))","v":""},null,null,null,null,null,null,null,null,null,null,null,null,{"$f":"IF(ISNA(VLOOKUP(A63,Machines!$B:$F,4,0)),\"\",(VLOOKUP(A63,Machines!$B:$F,4,0)))","v":""}]
[null,null,null,{"$f":"IF(ISNA(VLOOKUP(A64,Machines!$B:$F,2,0)),\"\",(VLOOKUP(A64,Machines!$B:$F,2,0)))","v":""},null,null,null,null,null,null,null,null,null,null,null,null,{"$f":"IF(ISNA(VLOOKUP(A64,Machines!$B:$F,4,0)),\"\",(VLOOKUP(A64,Machines!$B:$F,4,0)))","v":""}]
[null,null,null,{"$f":"IF(ISNA(VLOOKUP(A65,Machines!$B:$F,2,0)),\"\",(VLOOKUP(A65,Machines!$B:$F,2,0)))","v":""},null,null,null,null,null,null,null,null,null,null,null,null,{"$f":"IF(ISNA(VLOOKUP(A65,Machines!$B:$F,4,0)),\"\",(VLOOKUP(A65,Machines!$B:$F,4,0)))","v":""}]
[null,null,null,{"$f":"IF(ISNA(VLOOKUP(A66,Machines!$B:$F,2,0)),\"\",(VLOOKUP(A66,Machines!$B:$F,2,0)))","v":""},null,null,null,null,null,null,null,null,null,null,null,null,{"$f":"IF(ISNA(VLOOKUP(A66,Machines!$B:$F,4,0)),\"\",(VLOOKUP(A66,Machines!$B:$F,4,0)))","v":""}]
[null,null,null,{"$f":"IF(ISNA(VLOOKUP(A67,Machines!$B:$F,2,0)),\"\",(VLOOKUP(A67,Machines!$B:$F,2,0)))","v":""},null,null,null,null,null,null,null,null,null,null,null,null,{"$f":"IF(ISNA(VLOOKUP(A67,Machines!$B:$F,4,0)),\"\",(VLOOKUP(A67,Machines!$B:$F,4,0)))","v":""}]
[null,null,null,{"$f":"IF(ISNA(VLOOKUP(A68,Machines!$B:$F,2,0)),\"\",(VLOOKUP(A68,Machines!$B:$F,2,0)))","v":""},null,null,null,null,null,null,null,null,null,null,null,null,{"$f":"IF(ISNA(VLOOKUP(A68,Machines!$B:$F,4,0)),\"\",(VLOOKUP(A68,Machines!$B:$F,4,0)))","v":""}]
[null,null,null,{"$f":"IF(ISNA(VLOOKUP(A69,Machines!$B:$F,2,0)),\"\",(VLOOKUP(A69,Machines!$B:$F,2,0)))","v":""},null,null,null,null,null,null,null,null,null,null,null,null,{"$f":"IF(ISNA(VLOOKUP(A69,Machines!$B:$F,4,0)),\"\",(VLOOKUP(A69,Machines!$B:$F,4,0)))","v":""}]
[null,null,null,{"$f":"IF(ISNA(VLOOKUP(A70,Machines!$B:$F,2,0)),\"\",(VLOOKUP(A70,Machines!$B:$F,2,0)))","v":""},null,null,null,null,null,null,null,null,null,null,null,null,{"$f":"IF(ISNA(VLOOKUP(A70,Machines!$B:$F,4,0)),\"\",(VLOOKUP(A70,Machines!$B:$F,4,0)))","v":""}]
[null,null,null,{"$f":"IF(ISNA(VLOOKUP(A71,Machines!$B:$F,2,0)),\"\",(VLOOKUP(A71,Machines!$B:$F,2,0)))","v":""},null,null,null,null,null,null,null,null,null,null,null,null,{"$f":"IF(ISNA(VLOOKUP(A71,Machines!$B:$F,4,0)),\"\",(VLOOKUP(A71,Machines!$B:$F,4,0)))","v":""}]
[null,null,null,{"$f":"IF(ISNA(VLOOKUP(A72,Machines!$B:$F,2,0)),\"\",(VLOOKUP(A72,Machines!$B:$F,2,0)))","v":""},null,null,null,null,null,null,null,null,null,null,null,null,{"$f":"IF(ISNA(VLOOKUP(A72,Machines!$B:$F,4,0)),\"\",(VLOOKUP(A72,Machines!$B:$F,4,0)))","v":""}]
[null,null,null,{"$f":"IF(ISNA(VLOOKUP(A73,Machines!$B:$F,2,0)),\"\",(VLOOKUP(A73,Machines!$B:$F,2,0)))","v":""},null,null,null,null,null,null,null,null,null,null,null,null,{"$f":"IF(ISNA(VLOOKUP(A73,Machines!$B:$F,4,0)),\"\",(VLOOKUP(A73,Machines!$B:$F,4,0)))","v":""}]
[null,null,null,{"$f":"IF(ISNA(VLOOKUP(A74,Machines!$B:$F,2,0)),\"\",(VLOOKUP(A74,Machines!$B:$F,2,0)))","v":""},null,null,null,null,null,null,null,null,null,null,null,null,{"$f":"IF(ISNA(VLOOKUP(A74,Machines!$B:$F,4,0)),\"\",(VLOOKUP(A74,Machines!$B:$F,4,0)))","v":""}]
["CHANTIER :",null,null,null,null,{"$f":"F1","v":0},null,null,null,null,null,null,null,null,null,null,null,null,null,null,"N° CHANTIER :",null,null,null,null,null,{"$f":"AA1","v":0},null,null,null,"JOUR :",null,null,null,{"$f":"AI1","v":"Lundi"},null,null,null,null,null,null,null,null,null,null,null,null,null,null,null,null,"DATES :",null,null,{"$f":"BC1","v":"11-01-16"}]
["MATERIAUX"]
[null,null,null,"Fournisseurs",null,null,null,null,null,null,null,null,null,null,null,null,null,null,"Description des fournitures & matériaux",null,null,null,null,null,null,null,null,null,null,null,null,null,null,null,null,null,null,null,null,null,null,null,null,null,null,null,null,null,null,"Qt totales",null,null,null,"U.",null,"Prix"]
[]
[]
[]
[]
[]
[]
[]
[]
[]
[]
[]
[]
[]
[]
[]
[]
[]
[]
[]
[]
[]
[]
[]
[]
[]
[]
[]
[]
[]
[]
[]
[null,null,null,"RESPONSABLE",null,null,null,null,null,null,null,null,"SIGNATURE",null,null,null,null,null,"DESCRIPTION DES TRAVAUX REALISES CE JOUR",null,null,null,null,null,null,null,null,null,null,null,null,null,null,null,null,null,null,null,null,null,null,null,null,null,null,null,null,null,null,"METEO"]
[null,null,null,"JENNES Loïc"]

{"sheet":"12-01-16","index":18,"n_rows":110,"n_cols":56,"rows_kept":110,"cut":false,"hidden":false,"merged":[[101,53,101,54],[101,55,101,58],[102,49,102,52],[102,53,102,54],[102,55,102,58],[107,3,107,17],[107,18,107,48],[105,3,105,17],[105,18,105,48],[106,3,106,17],[106,18,106,48],[106,49,106,52],[106,53,106,54],[106,55,106,58],[107,49,107,52],[103,3,103,17],[103,18,103,48],[104,3,104,17],[104,18,104,48],[109,18,109,48],[111,18,111,48],[108,18,108,48],[108,3,108,11],[108,12,108,17],[109,3,111,11],[109,12,111,17],[101,3,101,17],[101,18,101,48],[102,3,102,17],[102,18,102,48],[110,18,110,48],[99,3,99,17],[99,18,99,48],[100,3,100,17],[100,18,100,48],[101,49,101,52],[93,53,93,54],[93,55,93,58],[94,49,94,52],[94,53,94,54],[94,55,94,58],[97,3,97,17],[97,18,97,48],[98,3,98,17],[98,18,98,48],[95,3,95,17],[95,18,95,48],[96,3,96,17],[96,18,96,48],[95,49,95,52],[95,53,95,54],[95,55,95,58],[96,49,96,52],[96,53,96,54],[96,55,96,58],[93,3,93,17],[93,18,93,48],[94,3,94,17],[94,18,94,48],[91,3,91,17],[91,18,91,48],[92,3,92,17],[92,18,92,48],[93,49,93,52],[87,53,87,54],[87,55,87,58],[88,49,88,52],[88,53,88,54],[88,55,88,58],[89,49,89,52],[89,53,89,54],[85,3,85,17],[85,18,85,48],[89,3,89,17],[89,18,89,48],[86,3,86,17],[86,18,86,48],[85,49,85,52],[85,53,85,54],[85,55,85,58],[86,49,86,52],[86,53,86,54],[86,55,86,58],[89,55,89,58],[90,3,90,17],[90,18,90,48],[87,3,87,17],[87,18,87,48],[88,3,88,17],[88,18,88,48],[87,49,87,52],[77,55,77,58],[78,49,78,52],[78,53,78,54],[78,55,78,58],[81,3,81,17],[81,18,81,48],[82,3,82,17],[82,18,82,48],[79,3,79,17],[79,18,79,48],[80,3,80,17],[80,18,80,48],[79,49,79,52],[79,53,79,54],[79,55,79,58],[80,49,80,52],[80,53,80,54],[80,55,80,58],[81,49,81,52],[81,53,81,54],[0,0,0,4],[0,5,0,19],[0,20,0,25],[0,26,0,28],[0,30,0,32],[0,34,0,47],[0,51,0,53],[0,54,0,58],[1,0,1,28],[1,29,36,29],[1,30,1,58],[2,0,2,4],[2,7,2,10],[2,13,2,16],[2,19,2,22],[2,25,2,28],[2,30,2,34],[2,36,2,39],[2,42,2,45],[3,0,3,15],[3,16,3,18],[3,19,3,21],[3,22,3,24],[3,25,3,28],[3,30,3,32],[3,33,3,45],[3,46,3,54],[3,55,3,58],[4,0,4,15],[4,16,4,18],[4,19,4,21],[4,22,4,24],[4,25,4,28],[4,30,4,32],[4,33,4,45],[4,46,4,54],[4,55,4,58],[5,0,5,15],[5,16,5,18],[5,19,5,21],[5,22,5,24],[5,25,5,28],[5,30,5,32],[5,33,5,45],[5,46,5,54],[5,55,5,58],[6,0,6,15],[6,16,6,18],[6,19,6,21],[6,22,6,24],[6,25,6,28],[6,30,6,32],[6,33,6,45],[6,46,6,54],[6,55,6,58],[7,0,7,15],[7,16,7,18],[7,19,7,21],[7,22,7,24],[7,25,7,28],[7,30,7,32],[7,33,7,45],[7,46,7,54],[7,55,7,58],[8,0,8,15],[8,16,8,18],[8,19,8,21],[8,22,8,24],[8,25,8,28],[8,30,8,32],[8,33,8,45],[8,46,8,54],[8,55,8,58],[9,0,9,15],[9,16,9,18],[9,19,9,21],[9,22,9,24],[9,25,9,28],[9,30,9,32],[9,33,9,45],[9,46,9,54],[9,55,9,58],[10,0,10,15],[10,16,10,18],[10,19,10,21],[10,22,10,24],[10,25,10,28],[10,30,10,32],[10,33,10,45],[10,46,10,54],[10,55,10,58],[11,0,11,15],[11,16,11,18],[11,19,11,21],[11,22,11,24],[11,25,11,28],[11,30,11,32],[11,33,11,45],[11,46,11,54],[11,55,11,58],[12,0,12,15],[12,16,12,18],[12,19,12,21],[12,22,12,24],[12,25,12,28],[12,30,12,32],[12,33,12,45],[12,46,12,54],[12,55,12,58],[13,0,13,15],[13,16,13,18],[13,19,13,21],[13,22,13,24],[13,25,13,28],[13,30,13,32],[13,33,13,45],[13,46,13,54],[13,55,13,58],[14,0,14,15],[14,16,14,18],[14,19,14,21],[14,22,14,24],[14,25,14,28],[14,30,14,32],[14,33,14,45],[14,46,14,54],[14,55,14,58],[15,0,15,15],[15,16,15,18],[15,19,15,21],[15,22,15,24],[15,25,15,28],[15,30,15,32],[15,33,15,45],[15,46,15,54],[15,55,15,58],[16,0,16,15],[16,16,16,18],[16,19,16,21],[16,22,16,24],[16,25,16,28],[16,30,16,32],[16,33,16,45],[16,46,16,54],[16,55,16,58],[17,0,17,15],[17,16,17,18],[17,19,17,21],[17,22,17,24],[17,25,17,28],[17,30,17,32],[17,33,17,45],[17,46,17,54],[17,55,17,58],[18,0,18,15],[18,16,18,18],[18,19,18,21],[18,22,18,24],[18,25,18,28],[18,30,18,32],[18,33,18,45],[18,46,18,54],[18,55,18,58],[19,0,19,15],[19,16,19,18],[19,19,19,21],[19,22,19,24],[19,25,19,28],[19,30,19,32],[19,33,19,45],[19,46,19,54],[19,55,19,58],[20,0,20,15],[20,16,20,18],[20,19,20,21],[20,22,20,24],[20,25,20,28],[20,30,20,32],[20,33,20,45],[20,46,20,54],[20,55,20,58],[21,0,21,15],[21,16,21,18],[21,19,21,21],[21,22,21,24],[21,25,21,28],[21,30,21,32],[21,33,21,45],[21,46,21,54],[21,55,21,58],[22,0,22,15],[22,16,22,18],[22,19,22,21],[22,22,22,24],[22,25,22,28],[22,30,22,32],[22,33,22,45],[22,46,22,54],[22,55,22,58],[23,0,23,15],[23,16,23,18],[23,19,23,21],[23,22,23,24],[23,25,23,28],[23,30,23,32],[23,33,23,45],[23,46,23,54],[23,55,23,58],[24,0,24,15],[24,16,24,18],[24,19,24,21],[24,22,24,24],[24,25,24,28],[24,30,24,32],[24,33,24,45],[24,46,24,54],[24,55,24,58],[25,0,25,15],[25,16,25,18],[25,19,25,21],[25,22,25,24],[25,25,25,28],[25,30,25,32],[25,33,25,45],[25,46,25,54],[25,55,25,58],[26,0,26,15],[26,16,26,18],[26,19,26,21],[26,22,26,24],[26,25,26,28],[26,30,26,32],[26,33,26,45],[26,46,26,54],[26,55,26,58],[27,0,27,15],[27,16,27,18],[27,19,27,21],[27,22,27,24],[27,25,27,28],[27,30,27,32],[27,33,27,45],[27,46,27,54],[27,55,27,58],[28,0,28,15],[28,16,28,18],[28,19,28,21],[28,22,28,24],[28,25,28,28],[28,30,28,32],[28,33,28,45],[28,46,28,54],[28,55,28,58],[29,0,29,15],[29,16,29,18],[29,19,29,21],[29,22,29,24],[29,25,29,28],[29,30,29,32],[29,33,29,45],[29,46,29,54],[29,55,29,58],[30,0,30,15],[30,16,30,18],[30,19,30,21],[30,22,30,24],[30,25,30,28],[30,30,30,32],[30,33,30,45],[30,46,30,54],[30,55,30,58],[31,0,31,15],[31,16,31,18],[31,19,31,21],[31,22,31,24],[31,25,31,28],[31,30,31,32],[31,33,31,45],[31,46,31,54],[31,55,31,58],[32,0,32,15],[32,16,32,18],[32,19,32,21],[32,22,32,24],[32,25,32,28],[32,30,32,32],[32,33,32,45],[32,46,32,54],[32,55,32,58],[33,0,33,15],[33,16,33,18],[33,19,33,21],[33,22,33,24],[33,25,33,28],[33,30,33,32],[33,33,33,45],[33,46,33,54],[33,55,33,58],[34,0,34,15],[34,16,34,18],[34,19,34,21],[34,22,34,24],[34,25,34,28],[34,30,34,32],[34,33,34,45],[34,46,34,54],[34,55,34,58],[35,0,35,15],[35,16,35,18],[35,19,35,21],[35,22,35,24],[35,25,35,28],[35,30,35,32],[35,33,35,45],[35,46,35,54],[35,55,35,58],[36,0,36,15],[36,16,36,18],[36,19,36,21],[36,22,36,24],[36,25,36,28],[36,30,36,32],[36,33,36,45],[36,46,36,54],[36,55,36,58],[37,0,37,4],[37,5,37,19],[37,20,37,25],[37,26,37,28],[37,30,37,32],[37,34,37,47],[37,51,37,53],[37,54,37,58],[38,0,38,28],[38,29,73,29],[38,30,38,58],[39,0,39,4],[39,6,39,9],[39,12,39,15],[40,0,40,2],[40,3,40,15],[40,16,40,24],[40,25,40,28],[40,30,40,45],[40,46,40,54],[40,55,40,58],[41,0,41,2],[41,3,41,15],[41,16,41,24],[41,25,41,28],[41,30,41,45],[41,46,41,54],[41,55,41,58],[42,0,42,2],[42,3,42,15],[42,16,42,24],[42,25,42,28],[42,30,42,45],[42,46,42,54],[42,55,42,58],[43,0,43,2],[43,3,43,15],[43,16,43,24],[43,25,43,28],[43,30,43,45],[43,46,43,54],[43,55,43,58],[44,0,44,2],[44,3,44,15],[44,16,44,24],[44,25,44,28],[44,30,44,45],[44,46,44,54],[44,55,44,58],[45,0,45,2],[45,3,45,15],[45,16,45,24],[45,25,45,28],[45,30,45,45],[45,46,45,54],[45,55,45,58],[46,0,46,2],[46,3,46,15],[46,16,46,24],[46,25,46,28],[46,30,46,45],[46,46,46,54],[46,55,46,58],[47,0,47,2],[47,3,47,15],[47,16,47,24],[47,25,47,28],[47,30,47,45],[47,46,47,54],[47,55,47,58],[48,0,48,2],[48,3,48,15],[48,16,48,24],[48,25,48,28],[48,30,48,45],[48,46,48,54],[48,55,48,58],[49,0,49,2],[49,3,49,15],[49,16,49,24],[49,25,49,28],[49,30,49,45],[49,46,49,54],[49,55,49,58],[50,0,50,2],[50,3,50,15],[50,16,50,24],[50,25,50,28],[50,30,50,45],[50,46,50,54],[50,55,50,58],[51,0,51,2],[51,3,51,15],[51,16,51,24],[51,25,51,28],[51,30,51,45],[51,46,51,54],[51,55,51,58],[52,0,52,2],[52,3,52,15],[52,16,52,24],[52,25,52,28],[52,30,52,45],[52,46,52,54],[52,55,52,58],[53,0,53,2],[53,3,53,15],[53,16,53,24],[53,25,53,28],[53,30,53,45],[53,46,53,54],[53,55,53,58],[54,0,54,2],[54,3,54,15],[54,16,54,24],[54,25,54,28],[54,30,54,45],[54,46,54,54],[54,55,54,58],[55,0,55,2],[55,3,55,15],[55,16,55,24],[55,25,55,28],[55,30,55,45],[55,46,55,54],[55,55,55,58],[56,0,56,2],[56,3,56,15],[56,16,56,24],[56,25,56,28],[56,30,56,45],[56,46,56,54],[56,55,56,58],[57,0,57,2],[57,3,57,15],[57,16,57,24],[57,25,57,28],[57,30,57,45],[57,46,57,54],[57,55,57,58],[58,0,58,2],[58,3,58,15],[58,16,58,24],[58,25,58,28],[58,30,58,45],[58,46,58,54],[58,55,58,58],[59,0,59,2],[59,3,59,15],[59,16,59,24],[59,25,59,28],[59,30,59,45],[59,46,59,54],[59,55,59,58],[60,0,60,2],[60,3,60,15],[60,16,60,24],[60,25,60,28],[60,30,60,45],[60,46,60,54],[60,55,60,58],[61,0,61,2],[61,3,61,15],[61,16,61,24],[61,25,61,28],[61,30,61,45],[61,46,61,54],[61,55,61,58],[62,0,62,2],[62,3,62,15],[62,16,62,24],[62,25,62,28],[62,30,62,45],[62,46,62,54],[62,55,62,58],[63,0,63,2],[63,3,63,15],[63,16,63,24],[63,25,63,28],[63,30,63,45],[63,46,63,54],[63,55,63,58],[65,0,65,2],[65,3,65,15],[65,16,65,24],[65,25,65,28],[65,30,65,45],[65,46,65,54],[65,55,65,58],[64,0,64,2],[64,3,64,15],[64,16,64,24],[64,25,64,28],[64,30,64,45],[64,46,64,54],[64,55,64,58],[66,0,66,2],[66,3,66,15],[66,16,66,24],[66,25,66,28],[66,30,66,45],[66,46,66,54],[66,55,66,58],[67,0,67,2],[67,3,67,15],[67,16,67,24],[67,25,67,28],[67,30,67,45],[67,46,67,54],[67,55,67,58],[68,0,68,2],[68,3,68,15],[68,16,68,24],[68,25,68,28],[68,30,68,45],[68,46,68,54],[68,55,68,58],[69,0,69,2],[69,3,69,15],[69,16,69,24],[69,25,69,28],[69,30,69,45],[69,46,69,54],[69,55,69,58],[70,0,70,2],[70,3,70,15],[70,16,70,24],[70,25,70,28],[70,30,70,45],[70,46,70,54],[70,55,70,58],[71,0,71,2],[71,3,71,15],[71,16,71,24],[71,25,71,28],[71,30,71,45],[71,46,71,54],[71,55,71,58],[72,55,72,58],[73,0,73,2],[73,3,73,15],[73,16,73,24],[73,25,73,28],[73,30,73,45],[73,46,73,54],[73,55,73,58],[76,3,76,17],[74,0,74,4],[74,5,74,19],[74,20,74,25],[74,26,74,28],[74,30,74,32],[74,34,74,47],[74,51,74,53],[74,54,74,58],[76,18,76,48],[75,0,75,58],[76,49,76,52],[76,53,76,54],[76,55,76,58],[72,0,72,2],[72,3,72,15],[72,16,72,24],[72,25,72,28],[72,30,72,45],[72,46,72,54],[77,3,77,17],[77,18,77,48],[78,3,78,17],[78,18,78,48],[77,49,77,52],[77,53,77,54],[83,3,83,17],[83,18,83,48],[84,3,84,17],[84,18,84,48],[81,55,81,58],[82,49,82,52],[82,53,82,54],[82,55,82,58],[83,49,83,52],[83,53,83,54],[83,55,83,58],[84,49,84,52],[84,53,84,54],[84,55,84,58],[90,49,90,52],[90,53,90,54],[90,55,90,58],[91,49,91,52],[91,53,91,54],[91,55,91,58],[92,49,92,52],[92,53,92,54],[92,55,92,58],[97,55,97,58],[98,49,98,52],[98,53,98,54],[98,55,98,58],[99,49,99,52],[99,53,99,54],[99,55,99,58],[100,49,100,52],[100,53,100,54],[100,55,100,58],[97,49,97,52],[97,53,97,54],[108,49,108,58],[109,49,111,58],[103,49,103,52],[103,53,103,54],[103,55,103,58],[104,49,104,52],[104,53,104,54],[104,55,104,58],[105,49,105,52],[105,53,105,54],[105,55,105,58],[107,53,107,54],[107,55,107,58]]}
["CHANTIER :",null,null,null,null,{"$f":"'01-01-16'!F1","v":0},null,null,null,null,null,null,null,null,null,null,null,null,null,null,"N° CHANTIER :",null,null,null,null,null,{"$f":"'01-01-16'!AA1","v":0},null,null,null,"JOUR :",null,null,null,{"$f":" CHOOSE(WEEKDAY(BC1,2),\"Lundi\",\"Mardi\",\"Mercredi\",\"Jeudi\",\"Vendredi\",\"Samedi\",\"Dimanche\")","v":"Mardi"},null,null,null,null,null,null,null,null,null,null,null,null,null,null,null,null,"DATES :",null,null,{"$f":"MID(CELL(\"nomfichier\",A1),FIND(\"]\",CELL(\"nomfichier\",A1),1)+1,30)","v":"12-01-16"}]
["MAIN D'ŒUVRE",null,null,null,null,null,null,null,null,null,null,null,null,null,null,null,null,null,null,null,null,null,null,null,null,null,null,null,null,null,"CAMIONS"]
["Légende :",null,null,null,null,null,"Co",".= Congé",null,null,null,null,"M",".= Malade",null,null,null,null,"Cho",".= Chômage",null,null,null,null,"Va",".= Vacance",null,null,null,null,"Légende :",null,null,null,null,"Pa",".= Panne",null,null,null,null,"Ent",".= Entretien"]
["NOM - Prénom du travailleur",null,null,null,null,null,null,null,null,null,null,null,null,null,null,null,"Début journée",null,null,"Arrêt repas",null,null,"Fin journée",null,null,"Heures prestées",null,null,null,null,"N°",null,null,"Description du matériel",null,null,null,null,null,null,null,null,null,null,null,null,"Nom de l'opérateur",null,null,null,null,null,null,null,null,"Heures"]
[null,null,null,null,null,null,null,null,null,null,null,null,null,null,null,null,null,null,null,null,null,null,null,null,null,{"$f":"W5-Q5-T5","v":0},null,null,null,null,null,null,null,{"$f":"IF(ISNA(VLOOKUP(AE5,Camions!$B:$F,2,0)),\"\",(VLOOKUP(AE5,Camions!$B:$F,2,0)))","v":""},null,null,null,null,null,null,null,null,null,null,null,null,{"$f":"IF(ISNA(VLOOKUP(AE5,Camions!$B:$F,4,0)),\"\",(VLOOKUP(AE5,Camions!$B:$F,4,0)))","v":""}]
[null,null,null,null,null,null,null,null,null,null,null,null,null,null,null,null,null,null,null,null,null,null,null,null,null,{"$f":"W6-Q6-T6","v":0},null,null,null,null,null,null,null,{"$f":"IF(ISNA(VLOOKUP(AE6,Camions!$B:$F,2,0)),\"\",(VLOOKUP(AE6,Camions!$B:$F,2,0)))","v":""},null,null,null,null,null,null,null,null,null,null,null,null,{"$f":"IF(ISNA(VLOOKUP(AE6,Camions!$B:$F,4,0)),\"\",(VLOOKUP(AE6,Camions!$B:$F,4,0)))","v":""}]
[null,null,null,null,null,null,null,null,null,null,null,null,null,null,null,null,null,null,null,null,null,null,null,null,null,0,null,null,null,null,null,null,null,{"$f":"IF(ISNA(VLOOKUP(AE7,Camions!$B:$F,2,0)),\"\",(VLOOKUP(AE7,Camions!$B:$F,2,0)))","v":""},null,null,null,null,null,null,null,null,null,null,null,null,{"$f":"IF(ISNA(VLOOKUP(AE7,Camions!$B:$F,4,0)),\"\",(VLOOKUP(AE7,Camions!$B:$F,4,0)))","v":""}]
[null,null,null,null,null,null,null,null,null,null,null,null,null,null,null,null,null,null,null,null,null,null,null,null,null,0,null,null,null,null,null,null,null,{"$f":"IF(ISNA(VLOOKUP(AE8,Camions!$B:$F,2,0)),\"\",(VLOOKUP(AE8,Camions!$B:$F,2,0)))","v":""},null,null,null,null,null,null,null,null,null,null,null,null,{"$f":"IF(ISNA(VLOOKUP(AE8,Camions!$B:$F,4,0)),\"\",(VLOOKUP(AE8,Camions!$B:$F,4,0)))","v":""}]
[null,null,null,null,null,null,null,null,null,null,null,null,null,null,null,null,null,null,null,null,null,null,null,null,null,0,null,null,null,null,null,null,null,{"$f":"IF(ISNA(VLOOKUP(AE9,Camions!$B:$F,2,0)),\"\",(VLOOKUP(AE9,Camions!$B:$F,2,0)))","v":""},null,null,null,null,null,null,null,null,null,null,null,null,{"$f":"IF(ISNA(VLOOKUP(AE9,Camions!$B:$F,4,0)),\"\",(VLOOKUP(AE9,Camions!$B:$F,4,0)))","v":""}]
[null,null,null,null,null,null,null,null,null,null,null,null,null,null,null,null,null,null,null,null,null,null,null,null,null,0,null,null,null,null,null,null,null,{"$f":"IF(ISNA(VLOOKUP(AE10,Camions!$B:$F,2,0)),\"\",(VLOOKUP(AE10,Camions!$B:$F,2,0)))","v":""},null,null,null,null,null,null,null,null,null,null,null,null,{"$f":"IF(ISNA(VLOOKUP(AE10,Camions!$B:$F,4,0)),\"\",(VLOOKUP(AE10,Camions!$B:$F,4,0)))","v":""}]
[null,null,null,null,null,null,null,null,null,null,null,null,null,null,null,null,null,null,null,null,null,null,null,null,null,0,null,null,null,null,null,null,null,{"$f":"IF(ISNA(VLOOKUP(AE11,Camions!$B:$F,2,0)),\"\",(VLOOKUP(AE11,Camions!$B:$F,2,0)))","v":""},null,null,null,null,null,null,null,null,null,null,null,null,{"$f":"IF(ISNA(VLOOKUP(AE11,Camions!$B:$F,4,0)),\"\",(VLOOKUP(AE11,Camions!$B:$F,4,0)))","v":""}]
[null,null,null,null,null,null,null,null,null,null,null,null,null,null,null,null,null,null,null,null,null,null,null,null,null,0,null,null,null,null,null,null,null,{"$f":"IF(ISNA(VLOOKUP(AE12,Camions!$B:$F,2,0)),\"\",(VLOOKUP(AE12,Camions!$B:$F,2,0)))","v":""},null,null,null,null,null,null,null,null,null,null,null,null,{"$f":"IF(ISNA(VLOOKUP(AE12,Camions!$B:$F,4,0)),\"\",(VLOOKUP(AE12,Camions!$B:$F,4,0)))","v":""}]
[null,null,null,null,null,null,null,null,null,null,null,null,null,null,null,null,null,null,null,null,null,null,null,null,null,0,null,null,null,null,null,null,null,{"$f":"IF(ISNA(VLOOKUP(AE13,Camions!$B:$F,2,0)),\"\",(VLOOKUP(AE13,Camions!$B:$F,2,0)))","v":""},null,null,null,null,null,null,null,null,null,null,null,null,{"$f":"IF(ISNA(VLOOKUP(AE13,Camions!$B:$F,4,0)),\"\",(VLOOKUP(AE13,Camions!$B:$F,4,0)))","v":""}]
[null,null,null,null,null,null,null,null,null,null,null,null,null,null,null,null,null,null,null,null,null,null,null,null,null,0,null,null,null,null,null,null,null,{"$f":"IF(ISNA(VLOOKUP(AE14,Camions!$B:$F,2,0)),\"\",(VLOOKUP(AE14,Camions!$B:$F,2,0)))","v":""},null,null,null,null,null,null,null,null,null,null,null,null,{"$f":"IF(ISNA(VLOOKUP(AE14,Camions!$B:$F,4,0)),\"\",(VLOOKUP(AE14,Camions!$B:$F,4,0)))","v":""}]
[null,null,null,null,null,null,null,null,null,null,null,null,null,null,null,null,null,null,null,null,null,null,null,null,null,0,null,null,null,null,null,null,null,{"$f":"IF(ISNA(VLOOKUP(AE15,Camions!$B:$F,2,0)),\"\",(VLOOKUP(AE15,Camions!$B:$F,2,0)))","v":""},null,null,null,null,null,null,null,null,null,null,null,null,{"$f":"IF(ISNA(VLOOKUP(AE15,Camions!$B:$F,4,0)),\"\",(VLOOKUP(AE15,Camions!$B:$F,4,0)))","v":""}]
[null,null,null,null,null,null,null,null,null,null,null,null,null,null,null,null,null,null,null,null,null,null,null,null,null,0,null,null,null,null,null,null,null,{"$f":"IF(ISNA(VLOOKUP(AE16,Camions!$B:$F,2,0)),\"\",(VLOOKUP(AE16,Camions!$B:$F,2,0)))","v":""},null,null,null,null,null,null,null,null,null,null,null,null,{"$f":"IF(ISNA(VLOOKUP(AE16,Camions!$B:$F,4,0)),\"\",(VLOOKUP(AE16,Camions!$B:$F,4,0)))","v":""}]
[null,null,null,null,null,null,null,null,null,null,null,null,null,null,null,null,null,null,null,null,null,null,null,null,null,0,null,null,null,null,null,null,null,{"$f":"IF(ISNA(VLOOKUP(AE17,Camions!$B:$F,2,0)),\"\",(VLOOKUP(AE17,Camions!$B:$F,2,0)))","v":""},null,null,null,null,null,null,null,null,null,null,null,null,{"$f":"IF(ISNA(VLOOKUP(AE17,Camions!$B:$F,4,0)),\"\",(VLOOKUP(AE17,Camions!$B:$F,4,0)))","v":""}]
[null,null,null,null,null,null,null,null,null,null,null,null,null,null,null,null,null,null,null,null,null,null,null,null,null,0,null,null,null,null,null,null,null,{"$f":"IF(ISNA(VLOOKUP(AE18,Camions!$B:$F,2,0)),\"\",(VLOOKUP(AE18,Camions!$B:$F,2,0)))","v":""},null,null,null,null,null,null,null,null,null,null,null,null,{"$f":"IF(ISNA(VLOOKUP(AE18,Camions!$B:$F,4,0)),\"\",(VLOOKUP(AE18,Camions!$B:$F,4,0)))","v":""}]
[null,null,null,null,null,null,null,null,null,null,null,null,null,null,null,null,null,null,null,null,null,null,null,null,null,0,null,null,null,null,null,null,null,{"$f":"IF(ISNA(VLOOKUP(AE19,Camions!$B:$F,2,0)),\"\",(VLOOKUP(AE19,Camions!$B:$F,2,0)))","v":""},null,null,null,null,null,null,null,null,null,null,null,null,{"$f":"IF(ISNA(VLOOKUP(AE19,Camions!$B:$F,4,0)),\"\",(VLOOKUP(AE19,Camions!$B:$F,4,0)))","v":""}]
[null,null,null,null,null,null,null,null,null,null,null,null,null,null,null,null,null,null,null,null,null,null,null,null,null,0,null,null,null,null,null,null,null,{"$f":"IF(ISNA(VLOOKUP(AE20,Camions!$B:$F,2,0)),\"\",(VLOOKUP(AE20,Camions!$B:$F,2,0)))","v":""},null,null,null,null,null,null,null,null,null,null,null,null,{"$f":"IF(ISNA(VLOOKUP(AE20,Camions!$B:$F,4,0)),\"\",(VLOOKUP(AE20,Camions!$B:$F,4,0)))","v":""}]
[null,null,null,null,null,null,null,null,null,null,null,null,null,null,null,null,null,null,null,null,null,null,null,null,null,0,null,null,null,null,null,null,null,{"$f":"IF(ISNA(VLOOKUP(AE21,Camions!$B:$F,2,0)),\"\",(VLOOKUP(AE21,Camions!$B:$F,2,0)))","v":""},null,null,null,null,null,null,null,null,null,null,null,null,{"$f":"IF(ISNA(VLOOKUP(AE21,Camions!$B:$F,4,0)),\"\",(VLOOKUP(AE21,Camions!$B:$F,4,0)))","v":""}]
[null,null,null,null,null,null,null,null,null,null,null,null,null,null,null,null,null,null,null,null,null,null,null,null,null,0,null,null,null,null,null,null,null,{"$f":"IF(ISNA(VLOOKUP(AE22,Camions!$B:$F,2,0)),\"\",(VLOOKUP(AE22,Camions!$B:$F,2,0)))","v":""},null,null,null,null,null,null,null,null,null,null,null,null,{"$f":"IF(ISNA(VLOOKUP(AE22,Camions!$B:$F,4,0)),\"\",(VLOOKUP(AE22,Camions!$B:$F,4,0)))","v":""}]
[null,null,null,null,null,null,null,null,null,null,null,null,null,null,null,null,null,null,null,null,null,null,null,null,null,0,null,null,null,null,null,null,null,{"$f":"IF(ISNA(VLOOKUP(AE23,Camions!$B:$F,2,0)),\"\",(VLOOKUP(AE23,Camions!$B:$F,2,0)))","v":""},null,null,null,null,null,null,null,null,null,null,null,null,{"$f":"IF(ISNA(VLOOKUP(AE23,Camions!$B:$F,4,0)),\"\",(VLOOKUP(AE23,Camions!$B:$F,4,0)))","v":""}]
[null,null,null,null,null,null,null,null,null,null,null,null,null,null,null,null,null,null,null,null,null,null,null,null,null,0,null,null,null,null,null,null,null,{"$f":"IF(ISNA(VLOOKUP(AE24,Camions!$B:$F,2,0)),\"\",(VLOOKUP(AE24,Camions!$B:$F,2,0)))","v":""},null,null,null,null,null,null,null,null,null,null,null,null,{"$f":"IF(ISNA(VLOOKUP(AE24,Camions!$B:$F,4,0)),\"\",(VLOOKUP(AE24,Camions!$B:$F,4,0)))","v":""}]
[null,null,null,null,null,null,null,null,null,null,null,null,null,null,null,null,null,null,null,null,null,null,null,null,null,0,null,null,null,null,null,null,null,{"$f":"IF(ISNA(VLOOKUP(AE25,Camions!$B:$F,2,0)),\"\",(VLOOKUP(AE25,Camions!$B:$F,2,0)))","v":""},null,null,null,null,null,null,null,null,null,null,null,null,{"$f":"IF(ISNA(VLOOKUP(AE25,Camions!$B:$F,4,0)),\"\",(VLOOKUP(AE25,Camions!$B:$F,4,0)))","v":""}]
[null,null,null,null,null,null,null,null,null,null,null,null,null,null,null,null,null,null,null,null,null,null,null,null,null,0,null,null,null,null,null,null,null,{"$f":"IF(ISNA(VLOOKUP(AE26,Camions!$B:$F,2,0)),\"\",(VLOOKUP(AE26,Camions!$B:$F,2,0)))","v":""},null,null,null,null,null,null,null,null,null,null,null,null,{"$f":"IF(ISNA(VLOOKUP(AE26,Camions!$B:$F,4,0)),\"\",(VLOOKUP(AE26,Camions!$B:$F,4,0)))","v":""}]
[null,null,null,null,null,null,null,null,null,null,null,null,null,null,null,null,null,null,null,null,null,null,null,null,null,0,null,null,null,null,null,null,null,{"$f":"IF(ISNA(VLOOKUP(AE27,Camions!$B:$F,2,0)),\"\",(VLOOKUP(AE27,Camions!$B:$F,2,0)))","v":""},null,null,null,null,null,null,null,null,null,null,null,null,{"$f":"IF(ISNA(VLOOKUP(AE27,Camions!$B:$F,4,0)),\"\",(VLOOKUP(AE27,Camions!$B:$F,4,0)))","v":""}]
[null,null,null,null,null,null,null,null,null,null,null,null,null,null,null,null,null,null,null,null,null,null,null,null,null,0,null,null,null,null,null,null,null,{"$f":"IF(ISNA(VLOOKUP(AE28,Camions!$B:$F,2,0)),\"\",(VLOOKUP(AE28,Camions!$B:$F,2,0)))","v":""},null,null,null,null,null,null,null,null,null,null,null,null,{"$f":"IF(ISNA(VLOOKUP(AE28,Camions!$B:$F,4,0)),\"\",(VLOOKUP(AE28,Camions!$B:$F,4,0)))","v":""}]
[null,null,null,null,null,null,null,null,null,null,null,null,null,null,null,null,null,null,null,null,null,null,null,null,null,0,null,null,null,null,null,null,null,{"$f":"IF(ISNA(VLOOKUP(AE29,Camions!$B:$F,2,0)),\"\",(VLOOKUP(AE29,Camions!$B:$F,2,0)))","v":""},null,null,null,null,null,null,null,null,null,null,null,null,{"$f":"IF(ISNA(VLOOKUP(AE29,Camions!$B:$F,4,0)),\"\",(VLOOKUP(AE29,Camions!$B:$F,4,0)))","v":""}]
[null,null,null,null,null,null,null,null,null,null,null,null,null,null,null,null,null,null,null,null,null,null,null,null,null,0,null,null,null,null,null,null,null,{"$f":"IF(ISNA(VLOOKUP(AE30,Camions!$B:$F,2,0)),\"\",(VLOOKUP(AE30,Camions!$B:$F,2,0)))","v":""},null,null,null,null,null,null,null,null,null,null,null,null,{"$f":"IF(ISNA(VLOOKUP(AE30,Camions!$B:$F,4,0)),\"\",(VLOOKUP(AE30,Camions!$B:$F,4,0)))","v":""}]
[null,null,null,null,null,null,null,null,null,null,null,null,null,null,null,null,null,null,null,null,null,null,null,null,null,0,null,null,null,null,null,null,null,{"$f":"IF(ISNA(VLOOKUP(AE31,Camions!$B:$F,2,0)),\"\",(VLOOKUP(AE31,Camions!$B:$F,2,0)))","v":""},null,null,null,null,null,null,null,null,null,null,null,null,{"$f":"IF(ISNA(VLOOKUP(AE31,Camions!$B:$F,4,0)),\"\",(VLOOKUP(AE31,Camions!$B:$F,4,0)))","v":""}]
[null,null,null,null,null,null,null,null,null,null,null,null,null,null,null,null,null,null,null,null,null,null,null,null,null,0,null,null,null,null,null,null,null,{"$f":"IF(ISNA(VLOOKUP(AE32,Camions!$B:$F,2,0)),\"\",(VLOOKUP(AE32,Camions!$B:$F,2,0)))","v":""},null,null,null,null,null,null,null,null,null,null,null,null,{"$f":"IF(ISNA(VLOOKUP(AE32,Camions!$B:$F,4,0)),\"\",(VLOOKUP(AE32,Camions!$B:$F,4,0)))","v":""}]
[null,null,null,null,null,null,null,null,null,null,null,null,null,null,null,null,null,null,null,null,null,null,null,null,null,0,null,null,null,null,null,null,null,{"$f":"IF(ISNA(VLOOKUP(AE33,Camions!$B:$F,2,0)),\"\",(VLOOKUP(AE33,Camions!$B:$F,2,0)))","v":""},null,null,null,null,null,null,null,null,null,null,null,null,{"$f":"IF(ISNA(VLOOKUP(AE33,Camions!$B:$F,4,0)),\"\",(VLOOKUP(AE33,Camions!$B:$F,4,0)))","v":""}]
[null,null,null,null,null,null,null,null,null,null,null,null,null,null,null,null,null,null,null,null,null,null,null,null,null,0,null,null,null,null,null,null,null,{"$f":"IF(ISNA(VLOOKUP(AE34,Camions!$B:$F,2,0)),\"\",(VLOOKUP(AE34,Camions!$B:$F,2,0)))","v":""},null,null,null,null,null,null,null,null,null,null,null,null,{"$f":"IF(ISNA(VLOOKUP(AE34,Camions!$B:$F,4,0)),\"\",(VLOOKUP(AE34,Camions!$B:$F,4,0)))","v":""}]
[null,null,null,null,null,null,null,null,null,null,null,null,null,null,null,null,null,null,null,null,null,null,null,null,null,0,null,null,null,null,null,null,null,{"$f":"IF(ISNA(VLOOKUP(AE35,Camions!$B:$F,2,0)),\"\",(VLOOKUP(AE35,Camions!$B:$F,2,0)))","v":""},null,null,null,null,null,null,null,null,null,null,null,null,{"$f":"IF(ISNA(VLOOKUP(AE35,Camions!$B:$F,4,0)),\"\",(VLOOKUP(AE35,Camions!$B:$F,4,0)))","v":""}]
[null,null,null,null,null,null,null,null,null,null,null,null,null,null,null,null,null,null,null,null,null,null,null,null,null,0,null,null,null,null,null,null,null,{"$f":"IF(ISNA(VLOOKUP(AE36,Camions!$B:$F,2,0)),\"\",(VLOOKUP(AE36,Camions!$B:$F,2,0)))","v":""},null,null,null,null,null,null,null,null,null,null,null,null,{"$f":"IF(ISNA(VLOOKUP(AE36,Camions!$B:$F,4,0)),\"\",(VLOOKUP(AE36,Camions!$B:$F,4,0)))","v":""}]
[null,null,null,null,null,null,null,null,null,null,null,null,null,null,null,null,null,null,null,null,null,null,null,null,null,0,null,null,null,null,null,null,null,{"$f":"IF(ISNA(VLOOKUP(AE37,Camions!$B:$F,2,0)),\"\",(VLOOKUP(AE37,Camions!$B:$F,2,0)))","v":""},null,null,null,null,null,null,null,null,null,null,null,null,{"$f":"IF(ISNA(VLOOKUP(AE36,Camions!$B:$F,4,0)),\"\",(VLOOKUP(AE36,Camions!$B:$F,4,0)))","v":""}]
["CHANTIER :",null,null,null,null,{"$f":"F1","v":0},null,null,null,null,null,null,null,null,null,null,null,null,null,null,"N° CHANTIER :",null,null,null,null,null,{"$f":"AA1","v":0},null,null,null,"JOUR :",null,null,null,{"$f":"AI1","v":"Mardi"},null,null,null,null,null,null,null,null,null,null,null,null,null,null,null,null,"DATES :",null,null,{"$f":"BC1","v":"12-01-16"}]
["MATERIEL",null,null,null,null,null,null,null,null,null,null,null,null,null,null,null,null,null,null,null,null,null,null,null,null,null,null,null,null,null,"SOUS-TRAITANTS"]
["Légende :",null,null,null,null,"Pa",".= Panne",null,null,null,null,"Ent",".= Entretien"]
["N°",null,null,"Description du matériel",null,null,null,null,null,null,null,null,null,null,null,null,"Nom de l'opérateur",null,null,null,null,null,null,null,null,"Heures",null,null,null,null,"Type d'engin et description des travaux ",null,null,null,null,null,null,null,null,null,null,null,null,null,null,null,"Sous-traitants",null,null,null,null,null,null,null,null,"Heures"]
[null,null,null,{"$f":"IF(ISNA(VLOOKUP(A42,Machines!$B:$F,2,0)),\"\",(VLOOKUP(A42,Machines!$B:$F,2,0)))","v":""},null,null,null,null,null,null,null,null,null,null,null,null,{"$f":"IF(ISNA(VLOOKUP(A42,Machines!$B:$F,4,0)),\"\",(VLOOKUP(A42,Machines!$B:$F,4,0)))","v":""}]
[null,null,null,{"$f":"IF(ISNA(VLOOKUP(A43,Machines!$B:$F,2,0)),\"\",(VLOOKUP(A43,Machines!$B:$F,2,0)))","v":""},null,null,null,null,null,null,null,null,null,null,null,null,{"$f":"IF(ISNA(VLOOKUP(A43,Machines!$B:$F,4,0)),\"\",(VLOOKUP(A43,Machines!$B:$F,4,0)))","v":""}]
[null,null,null,{"$f":"IF(ISNA(VLOOKUP(A44,Machines!$B:$F,2,0)),\"\",(VLOOKUP(A44,Machines!$B:$F,2,0)))","v":""},null,null,null,null,null,null,null,null,null,null,null,null,{"$f":"IF(ISNA(VLOOKUP(A44,Machines!$B:$F,4,0)),\"\",(VLOOKUP(A44,Machines!$B:$F,4,0)))","v":""}]
[null,null,null,{"$f":"IF(ISNA(VLOOKUP(A45,Machines!$B:$F,2,0)),\"\",(VLOOKUP(A45,Machines!$B:$F,2,0)))","v":""},null,null,null,null,null,null,null,null,null,null,null,null,{"$f":"IF(ISNA(VLOOKUP(A45,Machines!$B:$F,4,0)),\"\",(VLOOKUP(A45,Machines!$B:$F,4,0)))","v":""}]
[null,null,null,{"$f":"IF(ISNA(VLOOKUP(A46,Machines!$B:$F,2,0)),\"\",(VLOOKUP(A46,Machines!$B:$F,2,0)))","v":""},null,null,null,null,null,null,null,null,null,null,null,null,{"$f":"IF(ISNA(VLOOKUP(A46,Machines!$B:$F,4,0)),\"\",(VLOOKUP(A46,Machines!$B:$F,4,0)))","v":""}]
[null,null,null,{"$f":"IF(ISNA(VLOOKUP(A47,Machines!$B:$F,2,0)),\"\",(VLOOKUP(A47,Machines!$B:$F,2,0)))","v":""},null,null,null,null,null,null,null,null,null,null,null,null,{"$f":"IF(ISNA(VLOOKUP(A47,Machines!$B:$F,4,0)),\"\",(VLOOKUP(A47,Machines!$B:$F,4,0)))","v":""}]
[null,null,null,{"$f":"IF(ISNA(VLOOKUP(A48,Machines!$B:$F,2,0)),\"\",(VLOOKUP(A48,Machines!$B:$F,2,0)))","v":""},null,null,null,null,null,null,null,null,null,null,null,null,{"$f":"IF(ISNA(VLOOKUP(A48,Machines!$B:$F,4,0)),\"\",(VLOOKUP(A48,Machines!$B:$F,4,0)))","v":""}]
[null,null,null,{"$f":"IF(ISNA(VLOOKUP(A49,Machines!$B:$F,2,0)),\"\",(VLOOKUP(A49,Machines!$B:$F,2,0)))","v":""},null,null,null,null,null,null,null,null,null,null,null,null,{"$f":"IF(ISNA(VLOOKUP(A49,Machines!$B:$F,4,0)),\"\",(VLOOKUP(A49,Machines!$B:$F,4,0)))","v":""}]
[null,null,null,{"$f":"IF(ISNA(VLOOKUP(A50,Machines!$B:$F,2,0)),\"\",(VLOOKUP(A50,Machines!$B:$F,2,0)))","v":""},null,null,null,null,null,null,null,null,null,null,null,null,{"$f":"IF(ISNA(VLOOKUP(A50,Machines!$B:$F,4,0)),\"\",(VLOOKUP(A50,Machines!$B:$F,4,0)))","v":""}]
[null,null,null,{"$f":"IF(ISNA(VLOOKUP(A51,Machines!$B:$F,2,0)),\"\",(VLOOKUP(A51,Machines!$B:$F,2,0)))","v":""},null,null,null,null,null,null,null,null,null,null,null,null,{"$f":"IF(ISNA(VLOOKUP(A51,Machines!$B:$F,4,0)),\"\",(VLOOKUP(A51,Machines!$B:$F,4,0)))","v":""}]
[null,null,null,{"$f":"IF(ISNA(VLOOKUP(A52,Machines!$B:$F,2,0)),\"\",(VLOOKUP(A52,Machines!$B:$F,2,0)))","v":""},null,null,null,null,null,null,null,null,null,null,null,null,{"$f":"IF(ISNA(VLOOKUP(A52,Machines!$B:$F,4,0)),\"\",(VLOOKUP(A52,Machines!$B:$F,4,0)))","v":""}]
[null,null,null,{"$f":"IF(ISNA(VLOOKUP(A53,Machines!$B:$F,2,0)),\"\",(VLOOKUP(A53,Machines!$B:$F,2,0)))","v":""},null,null,null,null,null,null,null,null,null,null,null,null,{"$f":"IF(ISNA(VLOOKUP(A53,Machines!$B:$F,4,0)),\"\",(VLOOKUP(A53,Machines!$B:$F,4,0)))","v":""}]
[null,null,null,{"$f":"IF(ISNA(VLOOKUP(A54,Machines!$B:$F,2,0)),\"\",(VLOOKUP(A54,Machines!$B:$F,2,0)))","v":""},null,null,null,null,null,null,null,null,null,null,null,null,{"$f":"IF(ISNA(VLOOKUP(A54,Machines!$B:$F,4,0)),\"\",(VLOOKUP(A54,Machines!$B:$F,4,0)))","v":""}]
[null,null,null,{"$f":"IF(ISNA(VLOOKUP(A55,Machines!$B:$F,2,0)),\"\",(VLOOKUP(A55,Machines!$B:$F,2,0)))","v":""},null,null,null,null,null,null,null,null,null,null,null,null,{"$f":"IF(ISNA(VLOOKUP(A55,Machines!$B:$F,4,0)),\"\",(VLOOKUP(A55,Machines!$B:$F,4,0)))","v":""}]
[null,null,null,{"$f":"IF(ISNA(VLOOKUP(A56,Machines!$B:$F,2,0)),\"\",(VLOOKUP(A56,Machines!$B:$F,2,0)))","v":""},null,null,null,null,null,null,null,null,null,null,null,null,{"$f":"IF(ISNA(VLOOKUP(A56,Machines!$B:$F,4,0)),\"\",(VLOOKUP(A56,Machines!$B:$F,4,0)))","v":""}]
[null,null,null,{"$f":"IF(ISNA(VLOOKUP(A57,Machines!$B:$F,2,0)),\"\",(VLOOKUP(A57,Machines!$B:$F,2,0)))","v":""},null,null,null,null,null,null,null,null,null,null,null,null,{"$f":"IF(ISNA(VLOOKUP(A57,Machines!$B:$F,4,0)),\"\",(VLOOKUP(A57,Machines!$B:$F,4,0)))","v":""}]
[null,null,null,{"$f":"IF(ISNA(VLOOKUP(A58,Machines!$B:$F,2,0)),\"\",(VLOOKUP(A58,Machines!$B:$F,2,0)))","v":""},null,null,null,null,null,null,null,null,null,null,null,null,{"$f":"IF(ISNA(VLOOKUP(A58,Machines!$B:$F,4,0)),\"\",(VLOOKUP(A58,Machines!$B:$F,4,0)))","v":""}]
[null,null,null,{"$f":"IF(ISNA(VLOOKUP(A59,Machines!$B:$F,2,0)),\"\",(VLOOKUP(A59,Machines!$B:$F,2,0)))","v":""},null,null,null,null,null,null,null,null,null,null,null,null,{"$f":"IF(ISNA(VLOOKUP(A59,Machines!$B:$F,4,0)),\"\",(VLOOKUP(A59,Machines!$B:$F,4,0)))","v":""}]
[null,null,null,{"$f":"IF(ISNA(VLOOKUP(A60,Machines!$B:$F,2,0)),\"\",(VLOOKUP(A60,Machines!$B:$F,2,0)))","v":""},null,null,null,null,null,null,null,null,null,null,null,null,{"$f":"IF(ISNA(VLOOKUP(A60,Machines!$B:$F,4,0)),\"\",(VLOOKUP(A60,Machines!$B:$F,4,0)))","v":""}]
[null,null,null,{"$f":"IF(ISNA(VLOOKUP(A61,Machines!$B:$F,2,0)),\"\",(VLOOKUP(A61,Machines!$B:$F,2,0)))","v":""},null,null,null,null,null,null,null,null,null,null,null,null,{"$f":"IF(ISNA(VLOOKUP(A61,Machines!$B:$F,4,0)),\"\",(VLOOKUP(A61,Machines!$B:$F,4,0)))","v":""}]
[null,null,null,{"$f":"IF(ISNA(VLOOKUP(A62,Machines!$B:$F,2,0)),\"\",(VLOOKUP(A62,Machines!$B:$F,2,0)))","v":""},null,null,null,null,null,null,null,null,null,null,null,null,{"$f":"IF(ISNA(VLOOKUP(A62,Machines!$B:$F,4,0)),\"\",(VLOOKUP(A62,Machines!$B:$F,4,0)))","v":""}]
[null,null,null,{"$f":"IF(ISNA(VLOOKUP(A63,Machines!$B:$F,2,0)),\"\",(VLOOKUP(A63,Machines!$B:$F,2,0)))","v":""},null,null,null,null,null,null,null,null,null,null,null,null,{"$f":"IF(ISNA(VLOOKUP(A63,Machines!$B:$F,4,0)),\"\",(VLOOKUP(A63,Machines!$B:$F,4,0)))","v":""}]
[null,null,null,{"$f":"IF(ISNA(VLOOKUP(A64,Machines!$B:$F,2,0)),\"\",(VLOOKUP(A64,Machines!$B:$F,2,0)))","v":""},null,null,null,null,null,null,null,null,null,null,null,null,{"$f":"IF(ISNA(VLOOKUP(A64,Machines!$B:$F,4,0)),\"\",(VLOOKUP(A64,Machines!$B:$F,4,0)))","v":""}]
[null,null,null,{"$f":"IF(ISNA(VLOOKUP(A65,Machines!$B:$F,2,0)),\"\",(VLOOKUP(A65,Machines!$B:$F,2,0)))","v":""},null,null,null,null,null,null,null,null,null,null,null,null,{"$f":"IF(ISNA(VLOOKUP(A65,Machines!$B:$F,4,0)),\"\",(VLOOKUP(A65,Machines!$B:$F,4,0)))","v":""}]
[null,null,null,{"$f":"IF(ISNA(VLOOKUP(A66,Machines!$B:$F,2,0)),\"\",(VLOOKUP(A66,Machines!$B:$F,2,0)))","v":""},null,null,null,null,null,null,null,null,null,null,null,null,{"$f":"IF(ISNA(VLOOKUP(A66,Machines!$B:$F,4,0)),\"\",(VLOOKUP(A66,Machines!$B:$F,4,0)))","v":""}]
[null,null,null,{"$f":"IF(ISNA(VLOOKUP(A67,Machines!$B:$F,2,0)),\"\",(VLOOKUP(A67,Machines!$B:$F,2,0)))","v":""},null,null,null,null,null,null,null,null,null,null,null,null,{"$f":"IF(ISNA(VLOOKUP(A67,Machines!$B:$F,4,0)),\"\",(VLOOKUP(A67,Machines!$B:$F,4,0)))","v":""}]
[null,null,null,{"$f":"IF(ISNA(VLOOKUP(A68,Machines!$B:$F,2,0)),\"\",(VLOOKUP(A68,Machines!$B:$F,2,0)))","v":""},null,null,null,null,null,null,null,null,null,null,null,null,{"$f":"IF(ISNA(VLOOKUP(A68,Machines!$B:$F,4,0)),\"\",(VLOOKUP(A68,Machines!$B:$F,4,0)))","v":""}]
[null,null,null,{"$f":"IF(ISNA(VLOOKUP(A69,Machines!$B:$F,2,0)),\"\",(VLOOKUP(A69,Machines!$B:$F,2,0)))","v":""},null,null,null,null,null,null,null,null,null,null,null,null,{"$f":"IF(ISNA(VLOOKUP(A69,Machines!$B:$F,4,0)),\"\",(VLOOKUP(A69,Machines!$B:$F,4,0)))","v":""}]
[null,null,null,{"$f":"IF(ISNA(VLOOKUP(A70,Machines!$B:$F,2,0)),\"\",(VLOOKUP(A70,Machines!$B:$F,2,0)))","v":""},null,null,null,null,null,null,null,null,null,null,null,null,{"$f":"IF(ISNA(VLOOKUP(A70,Machines!$B:$F,4,0)),\"\",(VLOOKUP(A70,Machines!$B:$F,4,0)))","v":""}]
[null,null,null,{"$f":"IF(ISNA(VLOOKUP(A71,Machines!$B:$F,2,0)),\"\",(VLOOKUP(A71,Machines!$B:$F,2,0)))","v":""},null,null,null,null,null,null,null,null,null,null,null,null,{"$f":"IF(ISNA(VLOOKUP(A71,Machines!$B:$F,4,0)),\"\",(VLOOKUP(A71,Machines!$B:$F,4,0)))","v":""}]
[null,null,null,{"$f":"IF(ISNA(VLOOKUP(A72,Machines!$B:$F,2,0)),\"\",(VLOOKUP(A72,Machines!$B:$F,2,0)))","v":""},null,null,null,null,null,null,null,null,null,null,null,null,{"$f":"IF(ISNA(VLOOKUP(A72,Machines!$B:$F,4,0)),\"\",(VLOOKUP(A72,Machines!$B:$F,4,0)))","v":""}]
[null,null,null,{"$f":"IF(ISNA(VLOOKUP(A73,Machines!$B:$F,2,0)),\"\",(VLOOKUP(A73,Machines!$B:$F,2,0)))","v":""},null,null,null,null,null,null,null,null,null,null,null,null,{"$f":"IF(ISNA(VLOOKUP(A73,Machines!$B:$F,4,0)),\"\",(VLOOKUP(A73,Machines!$B:$F,4,0)))","v":""}]
[null,null,null,{"$f":"IF(ISNA(VLOOKUP(A74,Machines!$B:$F,2,0)),\"\",(VLOOKUP(A74,Machines!$B:$F,2,0)))","v":""},null,null,null,null,null,null,null,null,null,null,null,null,{"$f":"IF(ISNA(VLOOKUP(A74,Machines!$B:$F,4,0)),\"\",(VLOOKUP(A74,Machines!$B:$F,4,0)))","v":""}]
["CHANTIER :",null,null,null,null,{"$f":"F1","v":0},null,null,null,null,null,null,null,null,null,null,null,null,null,null,"N° CHANTIER :",null,null,null,null,null,{"$f":"AA1","v":0},null,null,null,"JOUR :",null,null,null,{"$f":"AI1","v":"Mardi"},null,null,null,null,null,null,null,null,null,null,null,null,null,null,null,null,"DATES :",null,null,{"$f":"BC1","v":"12-01-16"}]
["MATERIAUX"]
[null,null,null,"Fournisseurs",null,null,null,null,null,null,null,null,null,null,null,null,null,null,"Description des fournitures & matériaux",null,null,null,null,null,null,null,null,null,null,null,null,null,null,null,null,null,null,null,null,null,null,null,null,null,null,null,null,null,null,"Qt totales",null,null,null,"U.",null,"Prix"]
[]
[]
[]
[]
[]
[]
[]
[]
[]
[]
[]
[]
[]
[]
[]
[]
[]
[]
[]
[]
[]
[]
[]
[]
[]
[]
[]
[]
[]
[]
[]
[null,null,null,"RESPONSABLE",null,null,null,null,null,null,null,null,"SIGNATURE",null,null,null,null,null,"DESCRIPTION DES TRAVAUX REALISES CE JOUR",null,null,null,null,null,null,null,null,null,null,null,null,null,null,null,null,null,null,null,null,null,null,null,null,null,null,null,null,null,null,"METEO"]
[null,null,null,"JENNES Loïc"]

{"sheet":"13-01-16","index":19,"n_rows":110,"n_cols":56,"rows_kept":110,"cut":false,"hidden":false,"merged":[[101,53,101,54],[101,55,101,58],[102,49,102,52],[102,53,102,54],[102,55,102,58],[107,3,107,17],[107,18,107,48],[105,3,105,17],[105,18,105,48],[106,3,106,17],[106,18,106,48],[106,49,106,52],[106,53,106,54],[106,55,106,58],[107,49,107,52],[103,3,103,17],[103,18,103,48],[104,3,104,17],[104,18,104,48],[109,18,109,48],[111,18,111,48],[108,18,108,48],[108,3,108,11],[108,12,108,17],[109,3,111,11],[109,12,111,17],[101,3,101,17],[101,18,101,48],[102,3,102,17],[102,18,102,48],[110,18,110,48],[99,3,99,17],[99,18,99,48],[100,3,100,17],[100,18,100,48],[101,49,101,52],[93,53,93,54],[93,55,93,58],[94,49,94,52],[94,53,94,54],[94,55,94,58],[97,3,97,17],[97,18,97,48],[98,3,98,17],[98,18,98,48],[95,3,95,17],[95,18,95,48],[96,3,96,17],[96,18,96,48],[95,49,95,52],[95,53,95,54],[95,55,95,58],[96,49,96,52],[96,53,96,54],[96,55,96,58],[93,3,93,17],[93,18,93,48],[94,3,94,17],[94,18,94,48],[91,3,91,17],[91,18,91,48],[92,3,92,17],[92,18,92,48],[93,49,93,52],[87,53,87,54],[87,55,87,58],[88,49,88,52],[88,53,88,54],[88,55,88,58],[89,49,89,52],[89,53,89,54],[85,3,85,17],[85,18,85,48],[89,3,89,17],[89,18,89,48],[86,3,86,17],[86,18,86,48],[85,49,85,52],[85,53,85,54],[85,55,85,58],[86,49,86,52],[86,53,86,54],[86,55,86,58],[89,55,89,58],[90,3,90,17],[90,18,90,48],[87,3,87,17],[87,18,87,48],[88,3,88,17],[88,18,88,48],[87,49,87,52],[77,55,77,58],[78,49,78,52],[78,53,78,54],[78,55,78,58],[81,3,81,17],[81,18,81,48],[82,3,82,17],[82,18,82,48],[79,3,79,17],[79,18,79,48],[80,3,80,17],[80,18,80,48],[79,49,79,52],[79,53,79,54],[79,55,79,58],[80,49,80,52],[80,53,80,54],[80,55,80,58],[81,49,81,52],[81,53,81,54],[0,0,0,4],[0,5,0,19],[0,20,0,25],[0,26,0,28],[0,30,0,32],[0,34,0,47],[0,51,0,53],[0,54,0,58],[1,0,1,28],[1,29,36,29],[1,30,1,58],[2,0,2,4],[2,7,2,10],[2,13,2,16],[2,19,2,22],[2,25,2,28],[2,30,2,34],[2,36,2,39],[2,42,2,45],[3,0,3,15],[3,16,3,18],[3,19,3,21],[3,22,3,24],[3,25,3,28],[3,30,3,32],[3,33,3,45],[3,46,3,54],[3,55,3,58],[4,0,4,15],[4,16,4,18],[4,19,4,21],[4,22,4,24],[4,25,4,28],[4,30,4,32],[4,33,4,45],[4,46,4,54],[4,55,4,58],[5,0,5,15],[5,16,5,18],[5,19,5,21],[5,22,5,24],[5,25,5,28],[5,30,5,32],[5,33,5,45],[5,46,5,54],[5,55,5,58],[6,0,6,15],[6,16,6,18],[6,19,6,21],[6,22,6,24],[6,25,6,28],[6,30,6,32],[6,33,6,45],[6,46,6,54],[6,55,6,58],[7,0,7,15],[7,16,7,18],[7,19,7,21],[7,22,7,24],[7,25,7,28],[7,30,7,32],[7,33,7,45],[7,46,7,54],[7,55,7,58],[8,0,8,15],[8,16,8,18],[8,19,8,21],[8,22,8,24],[8,25,8,28],[8,30,8,32],[8,33,8,45],[8,46,8,54],[8,55,8,58],[9,0,9,15],[9,16,9,18],[9,19,9,21],[9,22,9,24],[9,25,9,28],[9,30,9,32],[9,33,9,45],[9,46,9,54],[9,55,9,58],[10,0,10,15],[10,16,10,18],[10,19,10,21],[10,22,10,24],[10,25,10,28],[10,30,10,32],[10,33,10,45],[10,46,10,54],[10,55,10,58],[11,0,11,15],[11,16,11,18],[11,19,11,21],[11,22,11,24],[11,25,11,28],[11,30,11,32],[11,33,11,45],[11,46,11,54],[11,55,11,58],[12,0,12,15],[12,16,12,18],[12,19,12,21],[12,22,12,24],[12,25,12,28],[12,30,12,32],[12,33,12,45],[12,46,12,54],[12,55,12,58],[13,0,13,15],[13,16,13,18],[13,19,13,21],[13,22,13,24],[13,25,13,28],[13,30,13,32],[13,33,13,45],[13,46,13,54],[13,55,13,58],[14,0,14,15],[14,16,14,18],[14,19,14,21],[14,22,14,24],[14,25,14,28],[14,30,14,32],[14,33,14,45],[14,46,14,54],[14,55,14,58],[15,0,15,15],[15,16,15,18],[15,19,15,21],[15,22,15,24],[15,25,15,28],[15,30,15,32],[15,33,15,45],[15,46,15,54],[15,55,15,58],[16,0,16,15],[16,16,16,18],[16,19,16,21],[16,22,16,24],[16,25,16,28],[16,30,16,32],[16,33,16,45],[16,46,16,54],[16,55,16,58],[17,0,17,15],[17,16,17,18],[17,19,17,21],[17,22,17,24],[17,25,17,28],[17,30,17,32],[17,33,17,45],[17,46,17,54],[17,55,17,58],[18,0,18,15],[18,16,18,18],[18,19,18,21],[18,22,18,24],[18,25,18,28],[18,30,18,32],[18,33,18,45],[18,46,18,54],[18,55,18,58],[19,0,19,15],[19,16,19,18],[19,19,19,21],[19,22,19,24],[19,25,19,28],[19,30,19,32],[19,33,19,45],[19,46,19,54],[19,55,19,58],[20,0,20,15],[20,16,20,18],[20,19,20,21],[20,22,20,24],[20,25,20,28],[20,30,20,32],[20,33,20,45],[20,46,20,54],[20,55,20,58],[21,0,21,15],[21,16,21,18],[21,19,21,21],[21,22,21,24],[21,25,21,28],[21,30,21,32],[21,33,21,45],[21,46,21,54],[21,55,21,58],[22,0,22,15],[22,16,22,18],[22,19,22,21],[22,22,22,24],[22,25,22,28],[22,30,22,32],[22,33,22,45],[22,46,22,54],[22,55,22,58],[23,0,23,15],[23,16,23,18],[23,19,23,21],[23,22,23,24],[23,25,23,28],[23,30,23,32],[23,33,23,45],[23,46,23,54],[23,55,23,58],[24,0,24,15],[24,16,24,18],[24,19,24,21],[24,22,24,24],[24,25,24,28],[24,30,24,32],[24,33,24,45],[24,46,24,54],[24,55,24,58],[25,0,25,15],[25,16,25,18],[25,19,25,21],[25,22,25,24],[25,25,25,28],[25,30,25,32],[25,33,25,45],[25,46,25,54],[25,55,25,58],[26,0,26,15],[26,16,26,18],[26,19,26,21],[26,22,26,24],[26,25,26,28],[26,30,26,32],[26,33,26,45],[26,46,26,54],[26,55,26,58],[27,0,27,15],[27,16,27,18],[27,19,27,21],[27,22,27,24],[27,25,27,28],[27,30,27,32],[27,33,27,45],[27,46,27,54],[27,55,27,58],[28,0,28,15],[28,16,28,18],[28,19,28,21],[28,22,28,24],[28,25,28,28],[28,30,28,32],[28,33,28,45],[28,46,28,54],[28,55,28,58],[29,0,29,15],[29,16,29,18],[29,19,29,21],[29,22,29,24],[29,25,29,28],[29,30,29,32],[29,33,29,45],[29,46,29,54],[29,55,29,58],[30,0,30,15],[30,16,30,18],[30,19,30,21],[30,22,30,24],[30,25,30,28],[30,30,30,32],[30,33,30,45],[30,46,30,54],[30,55,30,58],[31,0,31,15],[31,16,31,18],[31,19,31,21],[31,22,31,24],[31,25,31,28],[31,30,31,32],[31,33,31,45],[31,46,31,54],[31,55,31,58],[32,0,32,15],[32,16,32,18],[32,19,32,21],[32,22,32,24],[32,25,32,28],[32,30,32,32],[32,33,32,45],[32,46,32,54],[32,55,32,58],[33,0,33,15],[33,16,33,18],[33,19,33,21],[33,22,33,24],[33,25,33,28],[33,30,33,32],[33,33,33,45],[33,46,33,54],[33,55,33,58],[34,0,34,15],[34,16,34,18],[34,19,34,21],[34,22,34,24],[34,25,34,28],[34,30,34,32],[34,33,34,45],[34,46,34,54],[34,55,34,58],[35,0,35,15],[35,16,35,18],[35,19,35,21],[35,22,35,24],[35,25,35,28],[35,30,35,32],[35,33,35,45],[35,46,35,54],[35,55,35,58],[36,0,36,15],[36,16,36,18],[36,19,36,21],[36,22,36,24],[36,25,36,28],[36,30,36,32],[36,33,36,45],[36,46,36,54],[36,55,36,58],[37,0,37,4],[37,5,37,19],[37,20,37,25],[37,26,37,28],[37,30,37,32],[37,34,37,47],[37,51,37,53],[37,54,37,58],[38,0,38,28],[38,29,73,29],[38,30,38,58],[39,0,39,4],[39,6,39,9],[39,12,39,15],[40,0,40,2],[40,3,40,15],[40,16,40,24],[40,25,40,28],[40,30,40,45],[40,46,40,54],[40,55,40,58],[41,0,41,2],[41,3,41,15],[41,16,41,24],[41,25,41,28],[41,30,41,45],[41,46,41,54],[41,55,41,58],[42,0,42,2],[42,3,42,15],[42,16,42,24],[42,25,42,28],[42,30,42,45],[42,46,42,54],[42,55,42,58],[43,0,43,2],[43,3,43,15],[43,16,43,24],[43,25,43,28],[43,30,43,45],[43,46,43,54],[43,55,43,58],[44,0,44,2],[44,3,44,15],[44,16,44,24],[44,25,44,28],[44,30,44,45],[44,46,44,54],[44,55,44,58],[45,0,45,2],[45,3,45,15],[45,16,45,24],[45,25,45,28],[45,30,45,45],[45,46,45,54],[45,55,45,58],[46,0,46,2],[46,3,46,15],[46,16,46,24],[46,25,46,28],[46,30,46,45],[46,46,46,54],[46,55,46,58],[47,0,47,2],[47,3,47,15],[47,16,47,24],[47,25,47,28],[47,30,47,45],[47,46,47,54],[47,55,47,58],[48,0,48,2],[48,3,48,15],[48,16,48,24],[48,25,48,28],[48,30,48,45],[48,46,48,54],[48,55,48,58],[49,0,49,2],[49,3,49,15],[49,16,49,24],[49,25,49,28],[49,30,49,45],[49,46,49,54],[49,55,49,58],[50,0,50,2],[50,3,50,15],[50,16,50,24],[50,25,50,28],[50,30,50,45],[50,46,50,54],[50,55,50,58],[51,0,51,2],[51,3,51,15],[51,16,51,24],[51,25,51,28],[51,30,51,45],[51,46,51,54],[51,55,51,58],[52,0,52,2],[52,3,52,15],[52,16,52,24],[52,25,52,28],[52,30,52,45],[52,46,52,54],[52,55,52,58],[53,0,53,2],[53,3,53,15],[53,16,53,24],[53,25,53,28],[53,30,53,45],[53,46,53,54],[53,55,53,58],[54,0,54,2],[54,3,54,15],[54,16,54,24],[54,25,54,28],[54,30,54,45],[54,46,54,54],[54,55,54,58],[55,0,55,2],[55,3,55,15],[55,16,55,24],[55,25,55,28],[55,30,55,45],[55,46,55,54],[55,55,55,58],[56,0,56,2],[56,3,56,15],[56,16,56,24],[56,25,56,28],[56,30,56,45],[56,46,56,54],[56,55,56,58],[57,0,57,2],[57,3,57,15],[57,16,57,24],[57,25,57,28],[57,30,57,45],[57,46,57,54],[57,55,57,58],[58,0,58,2],[58,3,58,15],[58,16,58,24],[58,25,58,28],[58,30,58,45],[58,46,58,54],[58,55,58,58],[59,0,59,2],[59,3,59,15],[59,16,59,24],[59,25,59,28],[59,30,59,45],[59,46,59,54],[59,55,59,58],[60,0,60,2],[60,3,60,15],[60,16,60,24],[60,25,60,28],[60,30,60,45],[60,46,60,54],[60,55,60,58],[61,0,61,2],[61,3,61,15],[61,16,61,24],[61,25,61,28],[61,30,61,45],[61,46,61,54],[61,55,61,58],[62,0,62,2],[62,3,62,15],[62,16,62,24],[62,25,62,28],[62,30,62,45],[62,46,62,54],[62,55,62,58],[63,0,63,2],[63,3,63,15],[63,16,63,24],[63,25,63,28],[63,30,63,45],[63,46,63,54],[63,55,63,58],[64,0,64,2],[64,3,64,15],[64,16,64,24],[64,25,64,28],[64,30,64,45],[64,46,64,54],[64,55,64,58],[65,0,65,2],[65,3,65,15],[65,16,65,24],[65,25,65,28],[65,30,65,45],[65,46,65,54],[65,55,65,58],[67,0,67,2],[67,3,67,15],[67,16,67,24],[67,25,67,28],[67,30,67,45],[67,46,67,54],[67,55,67,58],[66,0,66,2],[66,3,66,15],[66,16,66,24],[66,25,66,28],[66,30,66,45],[66,46,66,54],[66,55,66,58],[68,0,68,2],[68,3,68,15],[68,16,68,24],[68,25,68,28],[68,30,68,45],[68,46,68,54],[68,55,68,58],[69,0,69,2],[69,3,69,15],[69,16,69,24],[69,25,69,28],[69,30,69,45],[69,46,69,54],[69,55,69,58],[70,0,70,2],[70,3,70,15],[70,16,70,24],[70,25,70,28],[70,30,70,45],[70,46,70,54],[70,55,70,58],[71,0,71,2],[71,3,71,15],[71,16,71,24],[71,25,71,28],[71,30,71,45],[71,46,71,54],[71,55,71,58],[72,55,72,58],[73,0,73,2],[73,3,73,15],[73,16,73,24],[73,25,73,28],[73,30,73,45],[73,46,73,54],[73,55,73,58],[76,3,76,17],[74,0,74,4],[74,5,74,19],[74,20,74,25],[74,26,74,28],[74,30,74,32],[74,34,74,47],[74,51,74,53],[74,54,74,58],[76,18,76,48],[75,0,75,58],[76,49,76,52],[76,53,76,54],[76,55,76,58],[72,0,72,2],[72,3,72,15],[72,16,72,24],[72,25,72,28],[72,30,72,45],[72,46,72,54],[77,3,77,17],[77,18,77,48],[78,3,78,17],[78,18,78,48],[77,49,77,52],[77,53,77,54],[83,3,83,17],[83,18,83,48],[84,3,84,17],[84,18,84,48],[81,55,81,58],[82,49,82,52],[82,53,82,54],[82,55,82,58],[83,49,83,52],[83,53,83,54],[83,55,83,58],[84,49,84,52],[84,53,84,54],[84,55,84,58],[90,49,90,52],[90,53,90,54],[90,55,90,58],[91,49,91,52],[91,53,91,54],[91,55,91,58],[92,49,92,52],[92,53,92,54],[92,55,92,58],[97,55,97,58],[98,49,98,52],[98,53,98,54],[98,55,98,58],[99,49,99,52],[99,53,99,54],[99,55,99,58],[100,49,100,52],[100,53,100,54],[100,55,100,58],[97,49,97,52],[97,53,97,54],[108,49,108,58],[109,49,111,58],[103,49,103,52],[103,53,103,54],[103,55,103,58],[104,49,104,52],[104,53,104,54],[104,55,104,58],[105,49,105,52],[105,53,105,54],[105,55,105,58],[107,53,107,54],[107,55,107,58]]}
["CHANTIER :",null,null,null,null,{"$f":"'01-01-16'!F1","v":0},null,null,null,null,null,null,null,null,null,null,null,null,null,null,"N° CHANTIER :",null,null,null,null,null,{"$f":"'01-01-16'!AA1","v":0},null,null,null,"JOUR :",null,null,null,{"$f":" CHOOSE(WEEKDAY(BC1,2),\"Lundi\",\"Mardi\",\"Mercredi\",\"Jeudi\",\"Vendredi\",\"Samedi\",\"Dimanche\")","v":"Mercredi"},null,null,null,null,null,null,null,null,null,null,null,null,null,null,null,null,"DATES :",null,null,{"$f":"MID(CELL(\"nomfichier\",A1),FIND(\"]\",CELL(\"nomfichier\",A1),1)+1,30)","v":"13-01-16"}]
["MAIN D'ŒUVRE",null,null,null,null,null,null,null,null,null,null,null,null,null,null,null,null,null,null,null,null,null,null,null,null,null,null,null,null,null,"CAMIONS"]
["Légende :",null,null,null,null,null,"Co",".= Congé",null,null,null,null,"M",".= Malade",null,null,null,null,"Cho",".= Chômage",null,null,null,null,"Va",".= Vacance",null,null,null,null,"Légende :",null,null,null,null,"Pa",".= Panne",null,null,null,null,"Ent",".= Entretien"]
["NOM - Prénom du travailleur",null,null,null,null,null,null,null,null,null,null,null,null,null,null,null,"Début journée",null,null,"Arrêt repas",null,null,"Fin journée",null,null,"Heures prestées",null,null,null,null,"N°",null,null,"Description du matériel",null,null,null,null,null,null,null,null,null,null,null,null,"Nom de l'opérateur",null,null,null,null,null,null,null,null,"Heures"]
[null,null,null,null,null,null,null,null,null,null,null,null,null,null,null,null,null,null,null,null,null,null,null,null,null,{"$f":"W5-Q5-T5","v":0},null,null,null,null,null,null,null,{"$f":"IF(ISNA(VLOOKUP(AE5,Camions!$B:$F,2,0)),\"\",(VLOOKUP(AE5,Camions!$B:$F,2,0)))","v":""},null,null,null,null,null,null,null,null,null,null,null,null,{"$f":"IF(ISNA(VLOOKUP(AE5,Camions!$B:$F,4,0)),\"\",(VLOOKUP(AE5,Camions!$B:$F,4,0)))","v":""}]
[null,null,null,null,null,null,null,null,null,null,null,null,null,null,null,null,null,null,null,null,null,null,null,null,null,{"$f":"W6-Q6-T6","v":0},null,null,null,null,null,null,null,{"$f":"IF(ISNA(VLOOKUP(AE6,Camions!$B:$F,2,0)),\"\",(VLOOKUP(AE6,Camions!$B:$F,2,0)))","v":""},null,null,null,null,null,null,null,null,null,null,null,null,{"$f":"IF(ISNA(VLOOKUP(AE6,Camions!$B:$F,4,0)),\"\",(VLOOKUP(AE6,Camions!$B:$F,4,0)))","v":""}]
[null,null,null,null,null,null,null,null,null,null,null,null,null,null,null,null,null,null,null,null,null,null,null,null,null,0,null,null,null,null,null,null,null,{"$f":"IF(ISNA(VLOOKUP(AE7,Camions!$B:$F,2,0)),\"\",(VLOOKUP(AE7,Camions!$B:$F,2,0)))","v":""},null,null,null,null,null,null,null,null,null,null,null,null,{"$f":"IF(ISNA(VLOOKUP(AE7,Camions!$B:$F,4,0)),\"\",(VLOOKUP(AE7,Camions!$B:$F,4,0)))","v":""}]
[null,null,null,null,null,null,null,null,null,null,null,null,null,null,null,null,null,null,null,null,null,null,null,null,null,0,null,null,null,null,null,null,null,{"$f":"IF(ISNA(VLOOKUP(AE8,Camions!$B:$F,2,0)),\"\",(VLOOKUP(AE8,Camions!$B:$F,2,0)))","v":""},null,null,null,null,null,null,null,null,null,null,null,null,{"$f":"IF(ISNA(VLOOKUP(AE8,Camions!$B:$F,4,0)),\"\",(VLOOKUP(AE8,Camions!$B:$F,4,0)))","v":""}]
[null,null,null,null,null,null,null,null,null,null,null,null,null,null,null,null,null,null,null,null,null,null,null,null,null,0,null,null,null,null,null,null,null,{"$f":"IF(ISNA(VLOOKUP(AE9,Camions!$B:$F,2,0)),\"\",(VLOOKUP(AE9,Camions!$B:$F,2,0)))","v":""},null,null,null,null,null,null,null,null,null,null,null,null,{"$f":"IF(ISNA(VLOOKUP(AE9,Camions!$B:$F,4,0)),\"\",(VLOOKUP(AE9,Camions!$B:$F,4,0)))","v":""}]
[null,null,null,null,null,null,null,null,null,null,null,null,null,null,null,null,null,null,null,null,null,null,null,null,null,0,null,null,null,null,null,null,null,{"$f":"IF(ISNA(VLOOKUP(AE10,Camions!$B:$F,2,0)),\"\",(VLOOKUP(AE10,Camions!$B:$F,2,0)))","v":""},null,null,null,null,null,null,null,null,null,null,null,null,{"$f":"IF(ISNA(VLOOKUP(AE10,Camions!$B:$F,4,0)),\"\",(VLOOKUP(AE10,Camions!$B:$F,4,0)))","v":""}]
[null,null,null,null,null,null,null,null,null,null,null,null,null,null,null,null,null,null,null,null,null,null,null,null,null,0,null,null,null,null,null,null,null,{"$f":"IF(ISNA(VLOOKUP(AE11,Camions!$B:$F,2,0)),\"\",(VLOOKUP(AE11,Camions!$B:$F,2,0)))","v":""},null,null,null,null,null,null,null,null,null,null,null,null,{"$f":"IF(ISNA(VLOOKUP(AE11,Camions!$B:$F,4,0)),\"\",(VLOOKUP(AE11,Camions!$B:$F,4,0)))","v":""}]
[null,null,null,null,null,null,null,null,null,null,null,null,null,null,null,null,null,null,null,null,null,null,null,null,null,0,null,null,null,null,null,null,null,{"$f":"IF(ISNA(VLOOKUP(AE12,Camions!$B:$F,2,0)),\"\",(VLOOKUP(AE12,Camions!$B:$F,2,0)))","v":""},null,null,null,null,null,null,null,null,null,null,null,null,{"$f":"IF(ISNA(VLOOKUP(AE12,Camions!$B:$F,4,0)),\"\",(VLOOKUP(AE12,Camions!$B:$F,4,0)))","v":""}]
[null,null,null,null,null,null,null,null,null,null,null,null,null,null,null,null,null,null,null,null,null,null,null,null,null,0,null,null,null,null,null,null,null,{"$f":"IF(ISNA(VLOOKUP(AE13,Camions!$B:$F,2,0)),\"\",(VLOOKUP(AE13,Camions!$B:$F,2,0)))","v":""},null,null,null,null,null,null,null,null,null,null,null,null,{"$f":"IF(ISNA(VLOOKUP(AE13,Camions!$B:$F,4,0)),\"\",(VLOOKUP(AE13,Camions!$B:$F,4,0)))","v":""}]
[null,null,null,null,null,null,null,null,null,null,null,null,null,null,null,null,null,null,null,null,null,null,null,null,null,0,null,null,null,null,null,null,null,{"$f":"IF(ISNA(VLOOKUP(AE14,Camions!$B:$F,2,0)),\"\",(VLOOKUP(AE14,Camions!$B:$F,2,0)))","v":""},null,null,null,null,null,null,null,null,null,null,null,null,{"$f":"IF(ISNA(VLOOKUP(AE14,Camions!$B:$F,4,0)),\"\",(VLOOKUP(AE14,Camions!$B:$F,4,0)))","v":""}]
[null,null,null,null,null,null,null,null,null,null,null,null,null,null,null,null,null,null,null,null,null,null,null,null,null,0,null,null,null,null,null,null,null,{"$f":"IF(ISNA(VLOOKUP(AE15,Camions!$B:$F,2,0)),\"\",(VLOOKUP(AE15,Camions!$B:$F,2,0)))","v":""},null,null,null,null,null,null,null,null,null,null,null,null,{"$f":"IF(ISNA(VLOOKUP(AE15,Camions!$B:$F,4,0)),\"\",(VLOOKUP(AE15,Camions!$B:$F,4,0)))","v":""}]
[null,null,null,null,null,null,null,null,null,null,null,null,null,null,null,null,null,null,null,null,null,null,null,null,null,0,null,null,null,null,null,null,null,{"$f":"IF(ISNA(VLOOKUP(AE16,Camions!$B:$F,2,0)),\"\",(VLOOKUP(AE16,Camions!$B:$F,2,0)))","v":""},null,null,null,null,null,null,null,null,null,null,null,null,{"$f":"IF(ISNA(VLOOKUP(AE16,Camions!$B:$F,4,0)),\"\",(VLOOKUP(AE16,Camions!$B:$F,4,0)))","v":""}]
[null,null,null,null,null,null,null,null,null,null,null,null,null,null,null,null,null,null,null,null,null,null,null,null,null,0,null,null,null,null,null,null,null,{"$f":"IF(ISNA(VLOOKUP(AE17,Camions!$B:$F,2,0)),\"\",(VLOOKUP(AE17,Camions!$B:$F,2,0)))","v":""},null,null,null,null,null,null,null,null,null,null,null,null,{"$f":"IF(ISNA(VLOOKUP(AE17,Camions!$B:$F,4,0)),\"\",(VLOOKUP(AE17,Camions!$B:$F,4,0)))","v":""}]
[null,null,null,null,null,null,null,null,null,null,null,null,null,null,null,null,null,null,null,null,null,null,null,null,null,0,null,null,null,null,null,null,null,{"$f":"IF(ISNA(VLOOKUP(AE18,Camions!$B:$F,2,0)),\"\",(VLOOKUP(AE18,Camions!$B:$F,2,0)))","v":""},null,null,null,null,null,null,null,null,null,null,null,null,{"$f":"IF(ISNA(VLOOKUP(AE18,Camions!$B:$F,4,0)),\"\",(VLOOKUP(AE18,Camions!$B:$F,4,0)))","v":""}]
[null,null,null,null,null,null,null,null,null,null,null,null,null,null,null,null,null,null,null,null,null,null,null,null,null,0,null,null,null,null,null,null,null,{"$f":"IF(ISNA(VLOOKUP(AE19,Camions!$B:$F,2,0)),\"\",(VLOOKUP(AE19,Camions!$B:$F,2,0)))","v":""},null,null,null,null,null,null,null,null,null,null,null,null,{"$f":"IF(ISNA(VLOOKUP(AE19,Camions!$B:$F,4,0)),\"\",(VLOOKUP(AE19,Camions!$B:$F,4,0)))","v":""}]
[null,null,null,null,null,null,null,null,null,null,null,null,null,null,null,null,null,null,null,null,null,null,null,null,null,0,null,null,null,null,null,null,null,{"$f":"IF(ISNA(VLOOKUP(AE20,Camions!$B:$F,2,0)),\"\",(VLOOKUP(AE20,Camions!$B:$F,2,0)))","v":""},null,null,null,null,null,null,null,null,null,null,null,null,{"$f":"IF(ISNA(VLOOKUP(AE20,Camions!$B:$F,4,0)),\"\",(VLOOKUP(AE20,Camions!$B:$F,4,0)))","v":""}]
[null,null,null,null,null,null,null,null,null,null,null,null,null,null,null,null,null,null,null,null,null,null,null,null,null,0,null,null,null,null,null,null,null,{"$f":"IF(ISNA(VLOOKUP(AE21,Camions!$B:$F,2,0)),\"\",(VLOOKUP(AE21,Camions!$B:$F,2,0)))","v":""},null,null,null,null,null,null,null,null,null,null,null,null,{"$f":"IF(ISNA(VLOOKUP(AE21,Camions!$B:$F,4,0)),\"\",(VLOOKUP(AE21,Camions!$B:$F,4,0)))","v":""}]
[null,null,null,null,null,null,null,null,null,null,null,null,null,null,null,null,null,null,null,null,null,null,null,null,null,0,null,null,null,null,null,null,null,{"$f":"IF(ISNA(VLOOKUP(AE22,Camions!$B:$F,2,0)),\"\",(VLOOKUP(AE22,Camions!$B:$F,2,0)))","v":""},null,null,null,null,null,null,null,null,null,null,null,null,{"$f":"IF(ISNA(VLOOKUP(AE22,Camions!$B:$F,4,0)),\"\",(VLOOKUP(AE22,Camions!$B:$F,4,0)))","v":""}]
[null,null,null,null,null,null,null,null,null,null,null,null,null,null,null,null,null,null,null,null,null,null,null,null,null,0,null,null,null,null,null,null,null,{"$f":"IF(ISNA(VLOOKUP(AE23,Camions!$B:$F,2,0)),\"\",(VLOOKUP(AE23,Camions!$B:$F,2,0)))","v":""},null,null,null,null,null,null,null,null,null,null,null,null,{"$f":"IF(ISNA(VLOOKUP(AE23,Camions!$B:$F,4,0)),\"\",(VLOOKUP(AE23,Camions!$B:$F,4,0)))","v":""}]
[null,null,null,null,null,null,null,null,null,null,null,null,null,null,null,null,null,null,null,null,null,null,null,null,null,0,null,null,null,null,null,null,null,{"$f":"IF(ISNA(VLOOKUP(AE24,Camions!$B:$F,2,0)),\"\",(VLOOKUP(AE24,Camions!$B:$F,2,0)))","v":""},null,null,null,null,null,null,null,null,null,null,null,null,{"$f":"IF(ISNA(VLOOKUP(AE24,Camions!$B:$F,4,0)),\"\",(VLOOKUP(AE24,Camions!$B:$F,4,0)))","v":""}]
[null,null,null,null,null,null,null,null,null,null,null,null,null,null,null,null,null,null,null,null,null,null,null,null,null,0,null,null,null,null,null,null,null,{"$f":"IF(ISNA(VLOOKUP(AE25,Camions!$B:$F,2,0)),\"\",(VLOOKUP(AE25,Camions!$B:$F,2,0)))","v":""},null,null,null,null,null,null,null,null,null,null,null,null,{"$f":"IF(ISNA(VLOOKUP(AE25,Camions!$B:$F,4,0)),\"\",(VLOOKUP(AE25,Camions!$B:$F,4,0)))","v":""}]
[null,null,null,null,null,null,null,null,null,null,null,null,null,null,null,null,null,null,null,null,null,null,null,null,null,0,null,null,null,null,null,null,null,{"$f":"IF(ISNA(VLOOKUP(AE26,Camions!$B:$F,2,0)),\"\",(VLOOKUP(AE26,Camions!$B:$F,2,0)))","v":""},null,null,null,null,null,null,null,null,null,null,null,null,{"$f":"IF(ISNA(VLOOKUP(AE26,Camions!$B:$F,4,0)),\"\",(VLOOKUP(AE26,Camions!$B:$F,4,0)))","v":""}]
[null,null,null,null,null,null,null,null,null,null,null,null,null,null,null,null,null,null,null,null,null,null,null,null,null,0,null,null,null,null,null,null,null,{"$f":"IF(ISNA(VLOOKUP(AE27,Camions!$B:$F,2,0)),\"\",(VLOOKUP(AE27,Camions!$B:$F,2,0)))","v":""},null,null,null,null,null,null,null,null,null,null,null,null,{"$f":"IF(ISNA(VLOOKUP(AE27,Camions!$B:$F,4,0)),\"\",(VLOOKUP(AE27,Camions!$B:$F,4,0)))","v":""}]
[null,null,null,null,null,null,null,null,null,null,null,null,null,null,null,null,null,null,null,null,null,null,null,null,null,0,null,null,null,null,null,null,null,{"$f":"IF(ISNA(VLOOKUP(AE28,Camions!$B:$F,2,0)),\"\",(VLOOKUP(AE28,Camions!$B:$F,2,0)))","v":""},null,null,null,null,null,null,null,null,null,null,null,null,{"$f":"IF(ISNA(VLOOKUP(AE28,Camions!$B:$F,4,0)),\"\",(VLOOKUP(AE28,Camions!$B:$F,4,0)))","v":""}]
[null,null,null,null,null,null,null,null,null,null,null,null,null,null,null,null,null,null,null,null,null,null,null,null,null,0,null,null,null,null,null,null,null,{"$f":"IF(ISNA(VLOOKUP(AE29,Camions!$B:$F,2,0)),\"\",(VLOOKUP(AE29,Camions!$B:$F,2,0)))","v":""},null,null,null,null,null,null,null,null,null,null,null,null,{"$f":"IF(ISNA(VLOOKUP(AE29,Camions!$B:$F,4,0)),\"\",(VLOOKUP(AE29,Camions!$B:$F,4,0)))","v":""}]
[null,null,null,null,null,null,null,null,null,null,null,null,null,null,null,null,null,null,null,null,null,null,null,null,null,0,null,null,null,null,null,null,null,{"$f":"IF(ISNA(VLOOKUP(AE30,Camions!$B:$F,2,0)),\"\",(VLOOKUP(AE30,Camions!$B:$F,2,0)))","v":""},null,null,null,null,null,null,null,null,null,null,null,null,{"$f":"IF(ISNA(VLOOKUP(AE30,Camions!$B:$F,4,0)),\"\",(VLOOKUP(AE30,Camions!$B:$F,4,0)))","v":""}]
[null,null,null,null,null,null,null,null,null,null,null,null,null,null,null,null,null,null,null,null,null,null,null,null,null,0,null,null,null,null,null,null,null,{"$f":"IF(ISNA(VLOOKUP(AE31,Camions!$B:$F,2,0)),\"\",(VLOOKUP(AE31,Camions!$B:$F,2,0)))","v":""},null,null,null,null,null,null,null,null,null,null,null,null,{"$f":"IF(ISNA(VLOOKUP(AE31,Camions!$B:$F,4,0)),\"\",(VLOOKUP(AE31,Camions!$B:$F,4,0)))","v":""}]
[null,null,null,null,null,null,null,null,null,null,null,null,null,null,null,null,null,null,null,null,null,null,null,null,null,0,null,null,null,null,null,null,null,{"$f":"IF(ISNA(VLOOKUP(AE32,Camions!$B:$F,2,0)),\"\",(VLOOKUP(AE32,Camions!$B:$F,2,0)))","v":""},null,null,null,null,null,null,null,null,null,null,null,null,{"$f":"IF(ISNA(VLOOKUP(AE32,Camions!$B:$F,4,0)),\"\",(VLOOKUP(AE32,Camions!$B:$F,4,0)))","v":""}]
[null,null,null,null,null,null,null,null,null,null,null,null,null,null,null,null,null,null,null,null,null,null,null,null,null,0,null,null,null,null,null,null,null,{"$f":"IF(ISNA(VLOOKUP(AE33,Camions!$B:$F,2,0)),\"\",(VLOOKUP(AE33,Camions!$B:$F,2,0)))","v":""},null,null,null,null,null,null,null,null,null,null,null,null,{"$f":"IF(ISNA(VLOOKUP(AE33,Camions!$B:$F,4,0)),\"\",(VLOOKUP(AE33,Camions!$B:$F,4,0)))","v":""}]
[null,null,null,null,null,null,null,null,null,null,null,null,null,null,null,null,null,null,null,null,null,null,null,null,null,0,null,null,null,null,null,null,null,{"$f":"IF(ISNA(VLOOKUP(AE34,Camions!$B:$F,2,0)),\"\",(VLOOKUP(AE34,Camions!$B:$F,2,0)))","v":""},null,null,null,null,null,null,null,null,null,null,null,null,{"$f":"IF(ISNA(VLOOKUP(AE34,Camions!$B:$F,4,0)),\"\",(VLOOKUP(AE34,Camions!$B:$F,4,0)))","v":""}]
[null,null,null,null,null,null,null,null,null,null,null,null,null,null,null,null,null,null,null,null,null,null,null,null,null,0,null,null,null,null,null,null,null,{"$f":"IF(ISNA(VLOOKUP(AE35,Camions!$B:$F,2,0)),\"\",(VLOOKUP(AE35,Camions!$B:$F,2,0)))","v":""},null,null,null,null,null,null,null,null,null,null,null,null,{"$f":"IF(ISNA(VLOOKUP(AE35,Camions!$B:$F,4,0)),\"\",(VLOOKUP(AE35,Camions!$B:$F,4,0)))","v":""}]
[null,null,null,null,null,null,null,null,null,null,null,null,null,null,null,null,null,null,null,null,null,null,null,null,null,0,null,null,null,null,null,null,null,{"$f":"IF(ISNA(VLOOKUP(AE36,Camions!$B:$F,2,0)),\"\",(VLOOKUP(AE36,Camions!$B:$F,2,0)))","v":""},null,null,null,null,null,null,null,null,null,null,null,null,{"$f":"IF(ISNA(VLOOKUP(AE36,Camions!$B:$F,4,0)),\"\",(VLOOKUP(AE36,Camions!$B:$F,4,0)))","v":""}]
[null,null,null,null,null,null,null,null,null,null,null,null,null,null,null,null,null,null,null,null,null,null,null,null,null,0,null,null,null,null,null,null,null,{"$f":"IF(ISNA(VLOOKUP(AE37,Camions!$B:$F,2,0)),\"\",(VLOOKUP(AE37,Camions!$B:$F,2,0)))","v":""},null,null,null,null,null,null,null,null,null,null,null,null,{"$f":"IF(ISNA(VLOOKUP(AE36,Camions!$B:$F,4,0)),\"\",(VLOOKUP(AE36,Camions!$B:$F,4,0)))","v":""}]
["CHANTIER :",null,null,null,null,{"$f":"F1","v":0},null,null,null,null,null,null,null,null,null,null,null,null,null,null,"N° CHANTIER :",null,null,null,null,null,{"$f":"AA1","v":0},null,null,null,"JOUR :",null,null,null,{"$f":"AI1","v":"Mercredi"},null,null,null,null,null,null,null,null,null,null,null,null,null,null,null,null,"DATES :",null,null,{"$f":"BC1","v":"13-01-16"}]
["MATERIEL",null,null,null,null,null,null,null,null,null,null,null,null,null,null,null,null,null,null,null,null,null,null,null,null,null,null,null,null,null,"SOUS-TRAITANTS"]
["Légende :",null,null,null,null,"Pa",".= Panne",null,null,null,null,"Ent",".= Entretien"]
["N°",null,null,"Description du matériel",null,null,null,null,null,null,null,null,null,null,null,null,"Nom de l'opérateur",null,null,null,null,null,null,null,null,"Heures",null,null,null,null,"Type d'engin et description des travaux ",null,null,null,null,null,null,null,null,null,null,null,null,null,null,null,"Sous-traitants",null,null,null,null,null,null,null,null,"Heures"]
[null,null,null,{"$f":"IF(ISNA(VLOOKUP(A42,Machines!$B:$F,2,0)),\"\",(VLOOKUP(A42,Machines!$B:$F,2,0)))","v":""},null,null,null,null,null,null,null,null,null,null,null,null,{"$f":"IF(ISNA(VLOOKUP(A42,Machines!$B:$F,4,0)),\"\",(VLOOKUP(A42,Machines!$B:$F,4,0)))","v":""}]
[null,null,null,{"$f":"IF(ISNA(VLOOKUP(A43,Machines!$B:$F,2,0)),\"\",(VLOOKUP(A43,Machines!$B:$F,2,0)))","v":""},null,null,null,null,null,null,null,null,null,null,null,null,{"$f":"IF(ISNA(VLOOKUP(A43,Machines!$B:$F,4,0)),\"\",(VLOOKUP(A43,Machines!$B:$F,4,0)))","v":""}]
[null,null,null,{"$f":"IF(ISNA(VLOOKUP(A44,Machines!$B:$F,2,0)),\"\",(VLOOKUP(A44,Machines!$B:$F,2,0)))","v":""},null,null,null,null,null,null,null,null,null,null,null,null,{"$f":"IF(ISNA(VLOOKUP(A44,Machines!$B:$F,4,0)),\"\",(VLOOKUP(A44,Machines!$B:$F,4,0)))","v":""}]
[null,null,null,{"$f":"IF(ISNA(VLOOKUP(A45,Machines!$B:$F,2,0)),\"\",(VLOOKUP(A45,Machines!$B:$F,2,0)))","v":""},null,null,null,null,null,null,null,null,null,null,null,null,{"$f":"IF(ISNA(VLOOKUP(A45,Machines!$B:$F,4,0)),\"\",(VLOOKUP(A45,Machines!$B:$F,4,0)))","v":""}]
[null,null,null,{"$f":"IF(ISNA(VLOOKUP(A46,Machines!$B:$F,2,0)),\"\",(VLOOKUP(A46,Machines!$B:$F,2,0)))","v":""},null,null,null,null,null,null,null,null,null,null,null,null,{"$f":"IF(ISNA(VLOOKUP(A46,Machines!$B:$F,4,0)),\"\",(VLOOKUP(A46,Machines!$B:$F,4,0)))","v":""}]
[null,null,null,{"$f":"IF(ISNA(VLOOKUP(A47,Machines!$B:$F,2,0)),\"\",(VLOOKUP(A47,Machines!$B:$F,2,0)))","v":""},null,null,null,null,null,null,null,null,null,null,null,null,{"$f":"IF(ISNA(VLOOKUP(A47,Machines!$B:$F,4,0)),\"\",(VLOOKUP(A47,Machines!$B:$F,4,0)))","v":""}]
[null,null,null,{"$f":"IF(ISNA(VLOOKUP(A48,Machines!$B:$F,2,0)),\"\",(VLOOKUP(A48,Machines!$B:$F,2,0)))","v":""},null,null,null,null,null,null,null,null,null,null,null,null,{"$f":"IF(ISNA(VLOOKUP(A48,Machines!$B:$F,4,0)),\"\",(VLOOKUP(A48,Machines!$B:$F,4,0)))","v":""}]
[null,null,null,{"$f":"IF(ISNA(VLOOKUP(A49,Machines!$B:$F,2,0)),\"\",(VLOOKUP(A49,Machines!$B:$F,2,0)))","v":""},null,null,null,null,null,null,null,null,null,null,null,null,{"$f":"IF(ISNA(VLOOKUP(A49,Machines!$B:$F,4,0)),\"\",(VLOOKUP(A49,Machines!$B:$F,4,0)))","v":""}]
[null,null,null,{"$f":"IF(ISNA(VLOOKUP(A50,Machines!$B:$F,2,0)),\"\",(VLOOKUP(A50,Machines!$B:$F,2,0)))","v":""},null,null,null,null,null,null,null,null,null,null,null,null,{"$f":"IF(ISNA(VLOOKUP(A50,Machines!$B:$F,4,0)),\"\",(VLOOKUP(A50,Machines!$B:$F,4,0)))","v":""}]
[null,null,null,{"$f":"IF(ISNA(VLOOKUP(A51,Machines!$B:$F,2,0)),\"\",(VLOOKUP(A51,Machines!$B:$F,2,0)))","v":""},null,null,null,null,null,null,null,null,null,null,null,null,{"$f":"IF(ISNA(VLOOKUP(A51,Machines!$B:$F,4,0)),\"\",(VLOOKUP(A51,Machines!$B:$F,4,0)))","v":""}]
[null,null,null,{"$f":"IF(ISNA(VLOOKUP(A52,Machines!$B:$F,2,0)),\"\",(VLOOKUP(A52,Machines!$B:$F,2,0)))","v":""},null,null,null,null,null,null,null,null,null,null,null,null,{"$f":"IF(ISNA(VLOOKUP(A52,Machines!$B:$F,4,0)),\"\",(VLOOKUP(A52,Machines!$B:$F,4,0)))","v":""}]
[null,null,null,{"$f":"IF(ISNA(VLOOKUP(A53,Machines!$B:$F,2,0)),\"\",(VLOOKUP(A53,Machines!$B:$F,2,0)))","v":""},null,null,null,null,null,null,null,null,null,null,null,null,{"$f":"IF(ISNA(VLOOKUP(A53,Machines!$B:$F,4,0)),\"\",(VLOOKUP(A53,Machines!$B:$F,4,0)))","v":""}]
[null,null,null,{"$f":"IF(ISNA(VLOOKUP(A54,Machines!$B:$F,2,0)),\"\",(VLOOKUP(A54,Machines!$B:$F,2,0)))","v":""},null,null,null,null,null,null,null,null,null,null,null,null,{"$f":"IF(ISNA(VLOOKUP(A54,Machines!$B:$F,4,0)),\"\",(VLOOKUP(A54,Machines!$B:$F,4,0)))","v":""}]
[null,null,null,{"$f":"IF(ISNA(VLOOKUP(A55,Machines!$B:$F,2,0)),\"\",(VLOOKUP(A55,Machines!$B:$F,2,0)))","v":""},null,null,null,null,null,null,null,null,null,null,null,null,{"$f":"IF(ISNA(VLOOKUP(A55,Machines!$B:$F,4,0)),\"\",(VLOOKUP(A55,Machines!$B:$F,4,0)))","v":""}]
[null,null,null,{"$f":"IF(ISNA(VLOOKUP(A56,Machines!$B:$F,2,0)),\"\",(VLOOKUP(A56,Machines!$B:$F,2,0)))","v":""},null,null,null,null,null,null,null,null,null,null,null,null,{"$f":"IF(ISNA(VLOOKUP(A56,Machines!$B:$F,4,0)),\"\",(VLOOKUP(A56,Machines!$B:$F,4,0)))","v":""}]
[null,null,null,{"$f":"IF(ISNA(VLOOKUP(A57,Machines!$B:$F,2,0)),\"\",(VLOOKUP(A57,Machines!$B:$F,2,0)))","v":""},null,null,null,null,null,null,null,null,null,null,null,null,{"$f":"IF(ISNA(VLOOKUP(A57,Machines!$B:$F,4,0)),\"\",(VLOOKUP(A57,Machines!$B:$F,4,0)))","v":""}]
[null,null,null,{"$f":"IF(ISNA(VLOOKUP(A58,Machines!$B:$F,2,0)),\"\",(VLOOKUP(A58,Machines!$B:$F,2,0)))","v":""},null,null,null,null,null,null,null,null,null,null,null,null,{"$f":"IF(ISNA(VLOOKUP(A58,Machines!$B:$F,4,0)),\"\",(VLOOKUP(A58,Machines!$B:$F,4,0)))","v":""}]
[null,null,null,{"$f":"IF(ISNA(VLOOKUP(A59,Machines!$B:$F,2,0)),\"\",(VLOOKUP(A59,Machines!$B:$F,2,0)))","v":""},null,null,null,null,null,null,null,null,null,null,null,null,{"$f":"IF(ISNA(VLOOKUP(A59,Machines!$B:$F,4,0)),\"\",(VLOOKUP(A59,Machines!$B:$F,4,0)))","v":""}]
[null,null,null,{"$f":"IF(ISNA(VLOOKUP(A60,Machines!$B:$F,2,0)),\"\",(VLOOKUP(A60,Machines!$B:$F,2,0)))","v":""},null,null,null,null,null,null,null,null,null,null,null,null,{"$f":"IF(ISNA(VLOOKUP(A60,Machines!$B:$F,4,0)),\"\",(VLOOKUP(A60,Machines!$B:$F,4,0)))","v":""}]
[null,null,null,{"$f":"IF(ISNA(VLOOKUP(A61,Machines!$B:$F,2,0)),\"\",(VLOOKUP(A61,Machines!$B:$F,2,0)))","v":""},null,null,null,null,null,null,null,null,null,null,null,null,{"$f":"IF(ISNA(VLOOKUP(A61,Machines!$B:$F,4,0)),\"\",(VLOOKUP(A61,Machines!$B:$F,4,0)))","v":""}]
[null,null,null,{"$f":"IF(ISNA(VLOOKUP(A62,Machines!$B:$F,2,0)),\"\",(VLOOKUP(A62,Machines!$B:$F,2,0)))","v":""},null,null,null,null,null,null,null,null,null,null,null,null,{"$f":"IF(ISNA(VLOOKUP(A62,Machines!$B:$F,4,0)),\"\",(VLOOKUP(A62,Machines!$B:$F,4,0)))","v":""}]
[null,null,null,{"$f":"IF(ISNA(VLOOKUP(A63,Machines!$B:$F,2,0)),\"\",(VLOOKUP(A63,Machines!$B:$F,2,0)))","v":""},null,null,null,null,null,null,null,null,null,null,null,null,{"$f":"IF(ISNA(VLOOKUP(A63,Machines!$B:$F,4,0)),\"\",(VLOOKUP(A63,Machines!$B:$F,4,0)))","v":""}]
[null,null,null,{"$f":"IF(ISNA(VLOOKUP(A64,Machines!$B:$F,2,0)),\"\",(VLOOKUP(A64,Machines!$B:$F,2,0)))","v":""},null,null,null,null,null,null,null,null,null,null,null,null,{"$f":"IF(ISNA(VLOOKUP(A64,Machines!$B:$F,4,0)),\"\",(VLOOKUP(A64,Machines!$B:$F,4,0)))","v":""}]
[null,null,null,{"$f":"IF(ISNA(VLOOKUP(A65,Machines!$B:$F,2,0)),\"\",(VLOOKUP(A65,Machines!$B:$F,2,0)))","v":""},null,null,null,null,null,null,null,null,null,null,null,null,{"$f":"IF(ISNA(VLOOKUP(A65,Machines!$B:$F,4,0)),\"\",(VLOOKUP(A65,Machines!$B:$F,4,0)))","v":""}]
[null,null,null,{"$f":"IF(ISNA(VLOOKUP(A66,Machines!$B:$F,2,0)),\"\",(VLOOKUP(A66,Machines!$B:$F,2,0)))","v":""},null,null,null,null,null,null,null,null,null,null,null,null,{"$f":"IF(ISNA(VLOOKUP(A66,Machines!$B:$F,4,0)),\"\",(VLOOKUP(A66,Machines!$B:$F,4,0)))","v":""}]
[null,null,null,{"$f":"IF(ISNA(VLOOKUP(A67,Machines!$B:$F,2,0)),\"\",(VLOOKUP(A67,Machines!$B:$F,2,0)))","v":""},null,null,null,null,null,null,null,null,null,null,null,null,{"$f":"IF(ISNA(VLOOKUP(A67,Machines!$B:$F,4,0)),\"\",(VLOOKUP(A67,Machines!$B:$F,4,0)))","v":""}]
[null,null,null,{"$f":"IF(ISNA(VLOOKUP(A68,Machines!$B:$F,2,0)),\"\",(VLOOKUP(A68,Machines!$B:$F,2,0)))","v":""},null,null,null,null,null,null,null,null,null,null,null,null,{"$f":"IF(ISNA(VLOOKUP(A68,Machines!$B:$F,4,0)),\"\",(VLOOKUP(A68,Machines!$B:$F,4,0)))","v":""}]
[null,null,null,{"$f":"IF(ISNA(VLOOKUP(A69,Machines!$B:$F,2,0)),\"\",(VLOOKUP(A69,Machines!$B:$F,2,0)))","v":""},null,null,null,null,null,null,null,null,null,null,null,null,{"$f":"IF(ISNA(VLOOKUP(A69,Machines!$B:$F,4,0)),\"\",(VLOOKUP(A69,Machines!$B:$F,4,0)))","v":""}]
[null,null,null,{"$f":"IF(ISNA(VLOOKUP(A70,Machines!$B:$F,2,0)),\"\",(VLOOKUP(A70,Machines!$B:$F,2,0)))","v":""},null,null,null,null,null,null,null,null,null,null,null,null,{"$f":"IF(ISNA(VLOOKUP(A70,Machines!$B:$F,4,0)),\"\",(VLOOKUP(A70,Machines!$B:$F,4,0)))","v":""}]
[null,null,null,{"$f":"IF(ISNA(VLOOKUP(A71,Machines!$B:$F,2,0)),\"\",(VLOOKUP(A71,Machines!$B:$F,2,0)))","v":""},null,null,null,null,null,null,null,null,null,null,null,null,{"$f":"IF(ISNA(VLOOKUP(A71,Machines!$B:$F,4,0)),\"\",(VLOOKUP(A71,Machines!$B:$F,4,0)))","v":""}]
[null,null,null,{"$f":"IF(ISNA(VLOOKUP(A72,Machines!$B:$F,2,0)),\"\",(VLOOKUP(A72,Machines!$B:$F,2,0)))","v":""},null,null,null,null,null,null,null,null,null,null,null,null,{"$f":"IF(ISNA(VLOOKUP(A72,Machines!$B:$F,4,0)),\"\",(VLOOKUP(A72,Machines!$B:$F,4,0)))","v":""}]
[null,null,null,{"$f":"IF(ISNA(VLOOKUP(A73,Machines!$B:$F,2,0)),\"\",(VLOOKUP(A73,Machines!$B:$F,2,0)))","v":""},null,null,null,null,null,null,null,null,null,null,null,null,{"$f":"IF(ISNA(VLOOKUP(A73,Machines!$B:$F,4,0)),\"\",(VLOOKUP(A73,Machines!$B:$F,4,0)))","v":""}]
[null,null,null,{"$f":"IF(ISNA(VLOOKUP(A74,Machines!$B:$F,2,0)),\"\",(VLOOKUP(A74,Machines!$B:$F,2,0)))","v":""},null,null,null,null,null,null,null,null,null,null,null,null,{"$f":"IF(ISNA(VLOOKUP(A74,Machines!$B:$F,4,0)),\"\",(VLOOKUP(A74,Machines!$B:$F,4,0)))","v":""}]
["CHANTIER :",null,null,null,null,{"$f":"F1","v":0},null,null,null,null,null,null,null,null,null,null,null,null,null,null,"N° CHANTIER :",null,null,null,null,null,{"$f":"AA1","v":0},null,null,null,"JOUR :",null,null,null,{"$f":"AI1","v":"Mercredi"},null,null,null,null,null,null,null,null,null,null,null,null,null,null,null,null,"DATES :",null,null,{"$f":"BC1","v":"13-01-16"}]
["MATERIAUX"]
[null,null,null,"Fournisseurs",null,null,null,null,null,null,null,null,null,null,null,null,null,null,"Description des fournitures & matériaux",null,null,null,null,null,null,null,null,null,null,null,null,null,null,null,null,null,null,null,null,null,null,null,null,null,null,null,null,null,null,"Qt totales",null,null,null,"U.",null,"Prix"]
[]
[]
[]
[]
[]
[]
[]
[]
[]
[]
[]
[]
[]
[]
[]
[]
[]
[]
[]
[]
[]
[]
[]
[]
[]
[]
[]
[]
[]
[]
[]
[null,null,null,"RESPONSABLE",null,null,null,null,null,null,null,null,"SIGNATURE",null,null,null,null,null,"DESCRIPTION DES TRAVAUX REALISES CE JOUR",null,null,null,null,null,null,null,null,null,null,null,null,null,null,null,null,null,null,null,null,null,null,null,null,null,null,null,null,null,null,"METEO"]
[null,null,null,"JENNES Loïc"]

{"sheet":"14-01-16","index":20,"n_rows":110,"n_cols":56,"rows_kept":110,"cut":false,"hidden":false,"merged":[[109,18,109,48],[111,18,111,48],[108,18,108,48],[108,3,108,11],[108,12,108,17],[109,3,111,11],[109,12,111,17],[108,49,108,58],[109,49,111,58],[110,18,110,48],[105,3,105,17],[105,18,105,48],[106,3,106,17],[106,18,106,48],[107,49,107,52],[107,53,107,54],[107,55,107,58],[105,55,105,58],[106,49,106,52],[106,53,106,54],[106,55,106,58],[101,53,101,54],[101,55,101,58],[102,49,102,52],[102,53,102,54],[102,55,102,58],[103,49,103,52],[103,53,103,54],[107,3,107,17],[107,18,107,48],[103,3,103,17],[103,18,103,48],[104,3,104,17],[104,18,104,48],[101,3,101,17],[101,18,101,48],[102,3,102,17],[102,18,102,48],[101,49,101,52],[103,55,103,58],[104,49,104,52],[104,53,104,54],[104,55,104,58],[105,49,105,52],[105,53,105,54],[97,3,97,17],[97,18,97,48],[100,3,100,17],[100,18,100,48],[95,3,95,17],[95,18,95,48],[96,3,96,17],[96,18,96,48],[98,3,98,17],[98,18,98,48],[99,3,99,17],[99,18,99,48],[94,3,94,17],[94,18,94,48],[91,3,91,17],[91,18,91,48],[92,3,92,17],[92,18,92,48],[93,49,93,52],[93,53,93,54],[93,55,93,58],[94,49,94,52],[94,53,94,54],[94,55,94,58],[91,55,91,58],[92,49,92,52],[92,53,92,54],[92,55,92,58],[87,53,87,54],[87,55,87,58],[88,49,88,52],[88,53,88,54],[88,55,88,58],[89,49,89,52],[89,53,89,54],[93,3,93,17],[93,18,93,48],[89,3,89,17],[89,18,89,48],[90,3,90,17],[90,18,90,48],[87,3,87,17],[87,18,87,48],[88,3,88,17],[88,18,88,48],[87,49,87,52],[89,55,89,58],[90,49,90,52],[90,53,90,54],[90,55,90,58],[91,49,91,52],[91,53,91,54],[86,3,86,17],[86,18,86,48],[83,3,83,17],[83,18,83,48],[84,3,84,17],[84,18,84,48],[85,49,85,52],[85,53,85,54],[85,55,85,58],[86,49,86,52],[86,53,86,54],[86,55,86,58],[83,55,83,58],[84,49,84,52],[84,53,84,54],[84,55,84,58],[79,53,79,54],[79,55,79,58],[80,49,80,52],[80,53,80,54],[80,55,80,58],[81,49,81,52],[81,53,81,54],[85,3,85,17],[85,18,85,48],[81,3,81,17],[81,18,81,48],[82,3,82,17],[82,18,82,48],[79,3,79,17],[79,18,79,48],[80,3,80,17],[80,18,80,48],[79,49,79,52],[81,55,81,58],[82,49,82,52],[82,53,82,54],[82,55,82,58],[83,49,83,52],[83,53,83,54],[74,54,74,58],[75,0,75,58],[76,49,76,52],[76,53,76,54],[76,55,76,58],[77,3,77,17],[77,18,77,48],[78,3,78,17],[78,18,78,48],[77,49,77,52],[77,53,77,54],[77,55,77,58],[78,49,78,52],[78,53,78,54],[78,55,78,58],[76,3,76,17],[76,18,76,48],[74,0,74,4],[74,5,74,19],[74,20,74,25],[74,26,74,28],[74,30,74,32],[74,34,74,47],[74,51,74,53],[0,0,0,4],[0,5,0,19],[0,20,0,25],[0,26,0,28],[0,30,0,32],[0,34,0,47],[0,51,0,53],[0,54,0,58],[1,0,1,28],[1,29,36,29],[1,30,1,58],[2,0,2,4],[2,7,2,10],[2,13,2,16],[2,19,2,22],[2,25,2,28],[2,30,2,34],[2,36,2,39],[2,42,2,45],[3,0,3,15],[3,16,3,18],[3,19,3,21],[3,22,3,24],[3,25,3,28],[3,30,3,32],[3,33,3,45],[3,46,3,54],[3,55,3,58],[4,0,4,15],[4,16,4,18],[4,19,4,21],[4,22,4,24],[4,25,4,28],[4,30,4,32],[4,33,4,45],[4,46,4,54],[4,55,4,58],[5,0,5,15],[5,16,5,18],[5,19,5,21],[5,22,5,24],[5,25,5,28],[5,30,5,32],[5,33,5,45],[5,46,5,54],[5,55,5,58],[6,0,6,15],[6,16,6,18],[6,19,6,21],[6,22,6,24],[6,25,6,28],[6,30,6,32],[6,33,6,45],[6,46,6,54],[6,55,6,58],[7,0,7,15],[7,16,7,18],[7,19,7,21],[7,22,7,24],[7,25,7,28],[7,30,7,32],[7,33,7,45],[7,46,7,54],[7,55,7,58],[8,0,8,15],[8,16,8,18],[8,19,8,21],[8,22,8,24],[8,25,8,28],[8,30,8,32],[8,33,8,45],[8,46,8,54],[8,55,8,58],[9,0,9,15],[9,16,9,18],[9,19,9,21],[9,22,9,24],[9,25,9,28],[9,30,9,32],[9,33,9,45],[9,46,9,54],[9,55,9,58],[10,0,10,15],[10,16,10,18],[10,19,10,21],[10,22,10,24],[10,25,10,28],[10,30,10,32],[10,33,10,45],[10,46,10,54],[10,55,10,58],[11,0,11,15],[11,16,11,18],[11,19,11,21],[11,22,11,24],[11,25,11,28],[11,30,11,32],[11,33,11,45],[11,46,11,54],[11,55,11,58],[12,0,12,15],[12,16,12,18],[12,19,12,21],[12,22,12,24],[12,25,12,28],[12,30,12,32],[12,33,12,45],[12,46,12,54],[12,55,12,58],[13,0,13,15],[13,16,13,18],[13,19,13,21],[13,22,13,24],[13,25,13,28],[13,30,13,32],[13,33,13,45],[13,46,13,54],[13,55,13,58],[14,0,14,15],[14,16,14,18],[14,19,14,21],[14,22,14,24],[14,25,14,28],[14,30,14,32],[14,33,14,45],[14,46,14,54],[14,55,14,58],[15,0,15,15],[15,16,15,18],[15,19,15,21],[15,22,15,24],[15,25,15,28],[15,30,15,32],[15,33,15,45],[15,46,15,54],[15,55,15,58],[16,0,16,15],[16,16,16,18],[16,19,16,21],[16,22,16,24],[16,25,16,28],[16,30,16,32],[16,33,16,45],[16,46,16,54],[16,55,16,58],[17,0,17,15],[17,16,17,18],[17,19,17,21],[17,22,17,24],[17,25,17,28],[17,30,17,32],[17,33,17,45],[17,46,17,54],[17,55,17,58],[18,0,18,15],[18,16,18,18],[18,19,18,21],[18,22,18,24],[18,25,18,28],[18,30,18,32],[18,33,18,45],[18,46,18,54],[18,55,18,58],[19,0,19,15],[19,16,19,18],[19,19,19,21],[19,22,19,24],[19,25,19,28],[19,30,19,32],[19,33,19,45],[19,46,19,54],[19,55,19,58],[20,0,20,15],[20,16,20,18],[20,19,20,21],[20,22,20,24],[20,25,20,28],[20,30,20,32],[20,33,20,45],[20,46,20,54],[20,55,20,58],[21,0,21,15],[21,16,21,18],[21,19,21,21],[21,22,21,24],[21,25,21,28],[21,30,21,32],[21,33,21,45],[21,46,21,54],[21,55,21,58],[22,0,22,15],[22,16,22,18],[22,19,22,21],[22,22,22,24],[22,25,22,28],[22,30,22,32],[22,33,22,45],[22,46,22,54],[22,55,22,58],[23,0,23,15],[23,16,23,18],[23,19,23,21],[23,22,23,24],[23,25,23,28],[23,30,23,32],[23,33,23,45],[23,46,23,54],[23,55,23,58],[24,0,24,15],[24,16,24,18],[24,19,24,21],[24,22,24,24],[24,25,24,28],[24,30,24,32],[24,33,24,45],[24,46,24,54],[24,55,24,58],[25,0,25,15],[25,16,25,18],[25,19,25,21],[25,22,25,24],[25,25,25,28],[25,30,25,32],[25,33,25,45],[25,46,25,54],[25,55,25,58],[26,0,26,15],[26,16,26,18],[26,19,26,21],[26,22,26,24],[26,25,26,28],[26,30,26,32],[26,33,26,45],[26,46,26,54],[26,55,26,58],[27,0,27,15],[27,16,27,18],[27,19,27,21],[27,22,27,24],[27,25,27,28],[27,30,27,32],[27,33,27,45],[27,46,27,54],[27,55,27,58],[28,0,28,15],[28,16,28,18],[28,19,28,21],[28,22,28,24],[28,25,28,28],[28,30,28,32],[28,33,28,45],[28,46,28,54],[28,55,28,58],[29,0,29,15],[29,16,29,18],[29,19,29,21],[29,22,29,24],[29,25,29,28],[29,30,29,32],[29,33,29,45],[29,46,29,54],[29,55,29,58],[30,0,30,15],[30,16,30,18],[30,19,30,21],[30,22,30,24],[30,25,30,28],[30,30,30,32],[30,33,30,45],[30,46,30,54],[30,55,30,58],[31,0,31,15],[31,16,31,18],[31,19,31,21],[31,22,31,24],[31,25,31,28],[31,30,31,32],[31,33,31,45],[31,46,31,54],[31,55,31,58],[32,0,32,15],[32,16,32,18],[32,19,32,21],[32,22,32,24],[32,25,32,28],[32,30,32,32],[32,33,32,45],[32,46,32,54],[32,55,32,58],[33,0,33,15],[33,16,33,18],[33,19,33,21],[33,22,33,24],[33,25,33,28],[33,30,33,32],[33,33,33,45],[33,46,33,54],[33,55,33,58],[34,0,34,15],[34,16,34,18],[34,19,34,21],[34,22,34,24],[34,25,34,28],[34,30,34,32],[34,33,34,45],[34,46,34,54],[34,55,34,58],[35,0,35,15],[35,16,35,18],[35,19,35,21],[35,22,35,24],[35,25,35,28],[35,30,35,32],[35,33,35,45],[35,46,35,54],[35,55,35,58],[36,0,36,15],[36,16,36,18],[36,19,36,21],[36,22,36,24],[36,25,36,28],[36,30,36,32],[36,33,36,45],[36,46,36,54],[36,55,36,58],[37,0,37,4],[37,5,37,19],[37,20,37,25],[37,26,37,28],[37,30,37,32],[37,34,37,47],[37,51,37,53],[37,54,37,58],[38,0,38,28],[38,29,73,29],[38,30,38,58],[39,0,39,4],[39,6,39,9],[39,12,39,15],[40,0,40,2],[40,3,40,15],[40,16,40,24],[40,25,40,28],[40,30,40,45],[40,46,40,54],[40,55,40,58],[41,0,41,2],[41,3,41,15],[41,16,41,24],[41,25,41,28],[41,30,41,45],[41,46,41,54],[41,55,41,58],[42,0,42,2],[42,3,42,15],[42,16,42,24],[42,25,42,28],[42,30,42,45],[42,46,42,54],[42,55,42,58],[43,0,43,2],[43,3,43,15],[43,16,43,24],[43,25,43,28],[43,30,43,45],[43,46,43,54],[43,55,43,58],[44,0,44,2],[44,3,44,15],[44,16,44,24],[44,25,44,28],[44,30,44,45],[44,46,44,54],[44,55,44,58],[45,0,45,2],[45,3,45,15],[45,16,45,24],[45,25,45,28],[45,30,45,45],[45,46,45,54],[45,55,45,58],[46,0,46,2],[46,3,46,15],[46,16,46,24],[46,25,46,28],[46,30,46,45],[46,46,46,54],[46,55,46,58],[47,0,47,2],[47,3,47,15],[47,16,47,24],[47,25,47,28],[47,30,47,45],[47,46,47,54],[47,55,47,58],[48,0,48,2],[48,3,48,15],[48,16,48,24],[48,25,48,28],[48,30,48,45],[48,46,48,54],[48,55,48,58],[49,0,49,2],[49,3,49,15],[49,16,49,24],[49,25,49,28],[49,30,49,45],[49,46,49,54],[49,55,49,58],[50,0,50,2],[50,3,50,15],[50,16,50,24],[50,25,50,28],[50,30,50,45],[50,46,50,54],[50,55,50,58],[51,0,51,2],[51,3,51,15],[51,16,51,24],[51,25,51,28],[51,30,51,45],[51,46,51,54],[51,55,51,58],[52,0,52,2],[52,3,52,15],[52,16,52,24],[52,25,52,28],[52,30,52,45],[52,46,52,54],[52,55,52,58],[53,0,53,2],[53,3,53,15],[53,16,53,24],[53,25,53,28],[53,30,53,45],[53,46,53,54],[53,55,53,58],[54,0,54,2],[54,3,54,15],[54,16,54,24],[54,25,54,28],[54,30,54,45],[54,46,54,54],[54,55,54,58],[55,0,55,2],[55,3,55,15],[55,16,55,24],[55,25,55,28],[55,30,55,45],[55,46,55,54],[55,55,55,58],[56,0,56,2],[56,3,56,15],[56,16,56,24],[56,25,56,28],[56,30,56,45],[56,46,56,54],[56,55,56,58],[57,0,57,2],[57,3,57,15],[57,16,57,24],[57,25,57,28],[57,30,57,45],[57,46,57,54],[57,55,57,58],[59,0,59,2],[59,3,59,15],[59,16,59,24],[59,25,59,28],[59,30,59,45],[59,46,59,54],[59,55,59,58],[58,0,58,2],[58,3,58,15],[58,16,58,24],[58,25,58,28],[58,30,58,45],[58,46,58,54],[58,55,58,58],[60,0,60,2],[60,3,60,15],[60,16,60,24],[60,25,60,28],[60,30,60,45],[60,46,60,54],[60,55,60,58],[61,0,61,2],[61,3,61,15],[61,16,61,24],[61,25,61,28],[61,30,61,45],[61,46,61,54],[61,55,61,58],[62,0,62,2],[62,3,62,15],[62,16,62,24],[62,25,62,28],[62,30,62,45],[62,46,62,54],[62,55,62,58],[63,0,63,2],[63,3,63,15],[63,16,63,24],[63,25,63,28],[63,30,63,45],[63,46,63,54],[63,55,63,58],[64,0,64,2],[64,3,64,15],[64,16,64,24],[64,25,64,28],[64,30,64,45],[64,46,64,54],[64,55,64,58],[65,0,65,2],[65,3,65,15],[65,16,65,24],[65,25,65,28],[65,30,65,45],[65,46,65,54],[65,55,65,58],[66,0,66,2],[66,3,66,15],[66,16,66,24],[66,25,66,28],[66,30,66,45],[66,46,66,54],[66,55,66,58],[67,0,67,2],[67,3,67,15],[67,16,67,24],[67,25,67,28],[67,30,67,45],[67,46,67,54],[67,55,67,58],[68,0,68,2],[68,3,68,15],[68,16,68,24],[68,25,68,28],[68,30,68,45],[68,46,68,54],[68,55,68,58],[69,0,69,2],[69,3,69,15],[69,16,69,24],[69,25,69,28],[69,30,69,45],[69,46,69,54],[69,55,69,58],[70,0,70,2],[70,3,70,15],[70,16,70,24],[70,25,70,28],[70,30,70,45],[70,46,70,54],[70,55,70,58],[71,0,71,2],[71,3,71,15],[71,16,71,24],[71,25,71,28],[71,30,71,45],[71,46,71,54],[71,55,71,58],[72,0,72,2],[72,3,72,15],[72,16,72,24],[72,25,72,28],[72,30,72,45],[72,46,72,54],[72,55,72,58],[73,0,73,2],[73,3,73,15],[73,16,73,24],[73,25,73,28],[73,30,73,45],[73,46,73,54],[73,55,73,58],[95,49,95,52],[95,53,95,54],[95,55,95,58],[96,49,96,52],[96,53,96,54],[96,55,96,58],[97,49,97,52],[97,53,97,54],[97,55,97,58],[98,49,98,52],[98,53,98,54],[98,55,98,58],[99,49,99,52],[99,53,99,54],[99,55,99,58],[100,49,100,52],[100,53,100,54],[100,55,100,58]]}
["CHANTIER :",null,null,null,null,{"$f":"'01-01-16'!F1","v":0},null,null,null,null,null,null,null,null,null,null,null,null,null,null,"N° CHANTIER :",null,null,null,null,null,{"$f":"'01-01-16'!AA1","v":0},null,null,null,"JOUR :",null,null,null,{"$f":" CHOOSE(WEEKDAY(BC1,2),\"Lundi\",\"Mardi\",\"Mercredi\",\"Jeudi\",\"Vendredi\",\"Samedi\",\"Dimanche\")","v":"Jeudi"},null,null,null,null,null,null,null,null,null,null,null,null,null,null,null,null,"DATES :",null,null,{"$f":"MID(CELL(\"nomfichier\",A1),FIND(\"]\",CELL(\"nomfichier\",A1),1)+1,30)","v":"14-01-16"}]
["MAIN D'ŒUVRE",null,null,null,null,null,null,null,null,null,null,null,null,null,null,null,null,null,null,null,null,null,null,null,null,null,null,null,null,null,"CAMIONS"]
["Légende :",null,null,null,null,null,"Co",".= Congé",null,null,null,null,"M",".= Malade",null,null,null,null,"Cho",".= Chômage",null,null,null,null,"Va",".= Vacance",null,null,null,null,"Légende :",null,null,null,null,"Pa",".= Panne",null,null,null,null,"Ent",".= Entretien"]
["NOM - Prénom du travailleur",null,null,null,null,null,null,null,null,null,null,null,null,null,null,null,"Début journée",null,null,"Arrêt repas",null,null,"Fin journée",null,null,"Heures prestées",null,null,null,null,"N°",null,null,"Description du matériel",null,null,null,null,null,null,null,null,null,null,null,null,"Nom de l'opérateur",null,null,null,null,null,null,null,null,"Heures"]
[null,null,null,null,null,null,null,null,null,null,null,null,null,null,null,null,null,null,null,null,null,null,null,null,null,{"$f":"W5-Q5-T5","v":0},null,null,null,null,null,null,null,{"$f":"IF(ISNA(VLOOKUP(AE5,Camions!$B:$F,2,0)),\"\",(VLOOKUP(AE5,Camions!$B:$F,2,0)))","v":""},null,null,null,null,null,null,null,null,null,null,null,null,{"$f":"IF(ISNA(VLOOKUP(AE5,Camions!$B:$F,4,0)),\"\",(VLOOKUP(AE5,Camions!$B:$F,4,0)))","v":""}]
[null,null,null,null,null,null,null,null,null,null,null,null,null,null,null,null,null,null,null,null,null,null,null,null,null,{"$f":"W6-Q6-T6","v":0},null,null,null,null,null,null,null,{"$f":"IF(ISNA(VLOOKUP(AE6,Camions!$B:$F,2,0)),\"\",(VLOOKUP(AE6,Camions!$B:$F,2,0)))","v":""},null,null,null,null,null,null,null,null,null,null,null,null,{"$f":"IF(ISNA(VLOOKUP(AE6,Camions!$B:$F,4,0)),\"\",(VLOOKUP(AE6,Camions!$B:$F,4,0)))","v":""}]
[null,null,null,null,null,null,null,null,null,null,null,null,null,null,null,null,null,null,null,null,null,null,null,null,null,0,null,null,null,null,null,null,null,{"$f":"IF(ISNA(VLOOKUP(AE7,Camions!$B:$F,2,0)),\"\",(VLOOKUP(AE7,Camions!$B:$F,2,0)))","v":""},null,null,null,null,null,null,null,null,null,null,null,null,{"$f":"IF(ISNA(VLOOKUP(AE7,Camions!$B:$F,4,0)),\"\",(VLOOKUP(AE7,Camions!$B:$F,4,0)))","v":""}]
[null,null,null,null,null,null,null,null,null,null,null,null,null,null,null,null,null,null,null,null,null,null,null,null,null,0,null,null,null,null,null,null,null,{"$f":"IF(ISNA(VLOOKUP(AE8,Camions!$B:$F,2,0)),\"\",(VLOOKUP(AE8,Camions!$B:$F,2,0)))","v":""},null,null,null,null,null,null,null,null,null,null,null,null,{"$f":"IF(ISNA(VLOOKUP(AE8,Camions!$B:$F,4,0)),\"\",(VLOOKUP(AE8,Camions!$B:$F,4,0)))","v":""}]
[null,null,null,null,null,null,null,null,null,null,null,null,null,null,null,null,null,null,null,null,null,null,null,null,null,0,null,null,null,null,null,null,null,{"$f":"IF(ISNA(VLOOKUP(AE9,Camions!$B:$F,2,0)),\"\",(VLOOKUP(AE9,Camions!$B:$F,2,0)))","v":""},null,null,null,null,null,null,null,null,null,null,null,null,{"$f":"IF(ISNA(VLOOKUP(AE9,Camions!$B:$F,4,0)),\"\",(VLOOKUP(AE9,Camions!$B:$F,4,0)))","v":""}]
[null,null,null,null,null,null,null,null,null,null,null,null,null,null,null,null,null,null,null,null,null,null,null,null,null,0,null,null,null,null,null,null,null,{"$f":"IF(ISNA(VLOOKUP(AE10,Camions!$B:$F,2,0)),\"\",(VLOOKUP(AE10,Camions!$B:$F,2,0)))","v":""},null,null,null,null,null,null,null,null,null,null,null,null,{"$f":"IF(ISNA(VLOOKUP(AE10,Camions!$B:$F,4,0)),\"\",(VLOOKUP(AE10,Camions!$B:$F,4,0)))","v":""}]
[null,null,null,null,null,null,null,null,null,null,null,null,null,null,null,null,null,null,null,null,null,null,null,null,null,0,null,null,null,null,null,null,null,{"$f":"IF(ISNA(VLOOKUP(AE11,Camions!$B:$F,2,0)),\"\",(VLOOKUP(AE11,Camions!$B:$F,2,0)))","v":""},null,null,null,null,null,null,null,null,null,null,null,null,{"$f":"IF(ISNA(VLOOKUP(AE11,Camions!$B:$F,4,0)),\"\",(VLOOKUP(AE11,Camions!$B:$F,4,0)))","v":""}]
[null,null,null,null,null,null,null,null,null,null,null,null,null,null,null,null,null,null,null,null,null,null,null,null,null,0,null,null,null,null,null,null,null,{"$f":"IF(ISNA(VLOOKUP(AE12,Camions!$B:$F,2,0)),\"\",(VLOOKUP(AE12,Camions!$B:$F,2,0)))","v":""},null,null,null,null,null,null,null,null,null,null,null,null,{"$f":"IF(ISNA(VLOOKUP(AE12,Camions!$B:$F,4,0)),\"\",(VLOOKUP(AE12,Camions!$B:$F,4,0)))","v":""}]
[null,null,null,null,null,null,null,null,null,null,null,null,null,null,null,null,null,null,null,null,null,null,null,null,null,0,null,null,null,null,null,null,null,{"$f":"IF(ISNA(VLOOKUP(AE13,Camions!$B:$F,2,0)),\"\",(VLOOKUP(AE13,Camions!$B:$F,2,0)))","v":""},null,null,null,null,null,null,null,null,null,null,null,null,{"$f":"IF(ISNA(VLOOKUP(AE13,Camions!$B:$F,4,0)),\"\",(VLOOKUP(AE13,Camions!$B:$F,4,0)))","v":""}]
[null,null,null,null,null,null,null,null,null,null,null,null,null,null,null,null,null,null,null,null,null,null,null,null,null,0,null,null,null,null,null,null,null,{"$f":"IF(ISNA(VLOOKUP(AE14,Camions!$B:$F,2,0)),\"\",(VLOOKUP(AE14,Camions!$B:$F,2,0)))","v":""},null,null,null,null,null,null,null,null,null,null,null,null,{"$f":"IF(ISNA(VLOOKUP(AE14,Camions!$B:$F,4,0)),\"\",(VLOOKUP(AE14,Camions!$B:$F,4,0)))","v":""}]
[null,null,null,null,null,null,null,null,null,null,null,null,null,null,null,null,null,null,null,null,null,null,null,null,null,0,null,null,null,null,null,null,null,{"$f":"IF(ISNA(VLOOKUP(AE15,Camions!$B:$F,2,0)),\"\",(VLOOKUP(AE15,Camions!$B:$F,2,0)))","v":""},null,null,null,null,null,null,null,null,null,null,null,null,{"$f":"IF(ISNA(VLOOKUP(AE15,Camions!$B:$F,4,0)),\"\",(VLOOKUP(AE15,Camions!$B:$F,4,0)))","v":""}]
[null,null,null,null,null,null,null,null,null,null,null,null,null,null,null,null,null,null,null,null,null,null,null,null,null,0,null,null,null,null,null,null,null,{"$f":"IF(ISNA(VLOOKUP(AE16,Camions!$B:$F,2,0)),\"\",(VLOOKUP(AE16,Camions!$B:$F,2,0)))","v":""},null,null,null,null,null,null,null,null,null,null,null,null,{"$f":"IF(ISNA(VLOOKUP(AE16,Camions!$B:$F,4,0)),\"\",(VLOOKUP(AE16,Camions!$B:$F,4,0)))","v":""}]
[null,null,null,null,null,null,null,null,null,null,null,null,null,null,null,null,null,null,null,null,null,null,null,null,null,0,null,null,null,null,null,null,null,{"$f":"IF(ISNA(VLOOKUP(AE17,Camions!$B:$F,2,0)),\"\",(VLOOKUP(AE17,Camions!$B:$F,2,0)))","v":""},null,null,null,null,null,null,null,null,null,null,null,null,{"$f":"IF(ISNA(VLOOKUP(AE17,Camions!$B:$F,4,0)),\"\",(VLOOKUP(AE17,Camions!$B:$F,4,0)))","v":""}]
[null,null,null,null,null,null,null,null,null,null,null,null,null,null,null,null,null,null,null,null,null,null,null,null,null,0,null,null,null,null,null,null,null,{"$f":"IF(ISNA(VLOOKUP(AE18,Camions!$B:$F,2,0)),\"\",(VLOOKUP(AE18,Camions!$B:$F,2,0)))","v":""},null,null,null,null,null,null,null,null,null,null,null,null,{"$f":"IF(ISNA(VLOOKUP(AE18,Camions!$B:$F,4,0)),\"\",(VLOOKUP(AE18,Camions!$B:$F,4,0)))","v":""}]
[null,null,null,null,null,null,null,null,null,null,null,null,null,null,null,null,null,null,null,null,null,null,null,null,null,0,null,null,null,null,null,null,null,{"$f":"IF(ISNA(VLOOKUP(AE19,Camions!$B:$F,2,0)),\"\",(VLOOKUP(AE19,Camions!$B:$F,2,0)))","v":""},null,null,null,null,null,null,null,null,null,null,null,null,{"$f":"IF(ISNA(VLOOKUP(AE19,Camions!$B:$F,4,0)),\"\",(VLOOKUP(AE19,Camions!$B:$F,4,0)))","v":""}]
[null,null,null,null,null,null,null,null,null,null,null,null,null,null,null,null,null,null,null,null,null,null,null,null,null,0,null,null,null,null,null,null,null,{"$f":"IF(ISNA(VLOOKUP(AE20,Camions!$B:$F,2,0)),\"\",(VLOOKUP(AE20,Camions!$B:$F,2,0)))","v":""},null,null,null,null,null,null,null,null,null,null,null,null,{"$f":"IF(ISNA(VLOOKUP(AE20,Camions!$B:$F,4,0)),\"\",(VLOOKUP(AE20,Camions!$B:$F,4,0)))","v":""}]
[null,null,null,null,null,null,null,null,null,null,null,null,null,null,null,null,null,null,null,null,null,null,null,null,null,0,null,null,null,null,null,null,null,{"$f":"IF(ISNA(VLOOKUP(AE21,Camions!$B:$F,2,0)),\"\",(VLOOKUP(AE21,Camions!$B:$F,2,0)))","v":""},null,null,null,null,null,null,null,null,null,null,null,null,{"$f":"IF(ISNA(VLOOKUP(AE21,Camions!$B:$F,4,0)),\"\",(VLOOKUP(AE21,Camions!$B:$F,4,0)))","v":""}]
[null,null,null,null,null,null,null,null,null,null,null,null,null,null,null,null,null,null,null,null,null,null,null,null,null,0,null,null,null,null,null,null,null,{"$f":"IF(ISNA(VLOOKUP(AE22,Camions!$B:$F,2,0)),\"\",(VLOOKUP(AE22,Camions!$B:$F,2,0)))","v":""},null,null,null,null,null,null,null,null,null,null,null,null,{"$f":"IF(ISNA(VLOOKUP(AE22,Camions!$B:$F,4,0)),\"\",(VLOOKUP(AE22,Camions!$B:$F,4,0)))","v":""}]
[null,null,null,null,null,null,null,null,null,null,null,null,null,null,null,null,null,null,null,null,null,null,null,null,null,0,null,null,null,null,null,null,null,{"$f":"IF(ISNA(VLOOKUP(AE23,Camions!$B:$F,2,0)),\"\",(VLOOKUP(AE23,Camions!$B:$F,2,0)))","v":""},null,null,null,null,null,null,null,null,null,null,null,null,{"$f":"IF(ISNA(VLOOKUP(AE23,Camions!$B:$F,4,0)),\"\",(VLOOKUP(AE23,Camions!$B:$F,4,0)))","v":""}]
[null,null,null,null,null,null,null,null,null,null,null,null,null,null,null,null,null,null,null,null,null,null,null,null,null,0,null,null,null,null,null,null,null,{"$f":"IF(ISNA(VLOOKUP(AE24,Camions!$B:$F,2,0)),\"\",(VLOOKUP(AE24,Camions!$B:$F,2,0)))","v":""},null,null,null,null,null,null,null,null,null,null,null,null,{"$f":"IF(ISNA(VLOOKUP(AE24,Camions!$B:$F,4,0)),\"\",(VLOOKUP(AE24,Camions!$B:$F,4,0)))","v":""}]
[null,null,null,null,null,null,null,null,null,null,null,null,null,null,null,null,null,null,null,null,null,null,null,null,null,0,null,null,null,null,null,null,null,{"$f":"IF(ISNA(VLOOKUP(AE25,Camions!$B:$F,2,0)),\"\",(VLOOKUP(AE25,Camions!$B:$F,2,0)))","v":""},null,null,null,null,null,null,null,null,null,null,null,null,{"$f":"IF(ISNA(VLOOKUP(AE25,Camions!$B:$F,4,0)),\"\",(VLOOKUP(AE25,Camions!$B:$F,4,0)))","v":""}]
[null,null,null,null,null,null,null,null,null,null,null,null,null,null,null,null,null,null,null,null,null,null,null,null,null,0,null,null,null,null,null,null,null,{"$f":"IF(ISNA(VLOOKUP(AE26,Camions!$B:$F,2,0)),\"\",(VLOOKUP(AE26,Camions!$B:$F,2,0)))","v":""},null,null,null,null,null,null,null,null,null,null,null,null,{"$f":"IF(ISNA(VLOOKUP(AE26,Camions!$B:$F,4,0)),\"\",(VLOOKUP(AE26,Camions!$B:$F,4,0)))","v":""}]
[null,null,null,null,null,null,null,null,null,null,null,null,null,null,null,null,null,null,null,null,null,null,null,null,null,0,null,null,null,null,null,null,null,{"$f":"IF(ISNA(VLOOKUP(AE27,Camions!$B:$F,2,0)),\"\",(VLOOKUP(AE27,Camions!$B:$F,2,0)))","v":""},null,null,null,null,null,null,null,null,null,null,null,null,{"$f":"IF(ISNA(VLOOKUP(AE27,Camions!$B:$F,4,0)),\"\",(VLOOKUP(AE27,Camions!$B:$F,4,0)))","v":""}]
[null,null,null,null,null,null,null,null,null,null,null,null,null,null,null,null,null,null,null,null,null,null,null,null,null,0,null,null,null,null,null,null,null,{"$f":"IF(ISNA(VLOOKUP(AE28,Camions!$B:$F,2,0)),\"\",(VLOOKUP(AE28,Camions!$B:$F,2,0)))","v":""},null,null,null,null,null,null,null,null,null,null,null,null,{"$f":"IF(ISNA(VLOOKUP(AE28,Camions!$B:$F,4,0)),\"\",(VLOOKUP(AE28,Camions!$B:$F,4,0)))","v":""}]
[null,null,null,null,null,null,null,null,null,null,null,null,null,null,null,null,null,null,null,null,null,null,null,null,null,0,null,null,null,null,null,null,null,{"$f":"IF(ISNA(VLOOKUP(AE29,Camions!$B:$F,2,0)),\"\",(VLOOKUP(AE29,Camions!$B:$F,2,0)))","v":""},null,null,null,null,null,null,null,null,null,null,null,null,{"$f":"IF(ISNA(VLOOKUP(AE29,Camions!$B:$F,4,0)),\"\",(VLOOKUP(AE29,Camions!$B:$F,4,0)))","v":""}]
[null,null,null,null,null,null,null,null,null,null,null,null,null,null,null,null,null,null,null,null,null,null,null,null,null,0,null,null,null,null,null,null,null,{"$f":"IF(ISNA(VLOOKUP(AE30,Camions!$B:$F,2,0)),\"\",(VLOOKUP(AE30,Camions!$B:$F,2,0)))","v":""},null,null,null,null,null,null,null,null,null,null,null,null,{"$f":"IF(ISNA(VLOOKUP(AE30,Camions!$B:$F,4,0)),\"\",(VLOOKUP(AE30,Camions!$B:$F,4,0)))","v":""}]
[null,null,null,null,null,null,null,null,null,null,null,null,null,null,null,null,null,null,null,null,null,null,null,null,null,0,null,null,null,null,null,null,null,{"$f":"IF(ISNA(VLOOKUP(AE31,Camions!$B:$F,2,0)),\"\",(VLOOKUP(AE31,Camions!$B:$F,2,0)))","v":""},null,null,null,null,null,null,null,null,null,null,null,null,{"$f":"IF(ISNA(VLOOKUP(AE31,Camions!$B:$F,4,0)),\"\",(VLOOKUP(AE31,Camions!$B:$F,4,0)))","v":""}]
[null,null,null,null,null,null,null,null,null,null,null,null,null,null,null,null,null,null,null,null,null,null,null,null,null,0,null,null,null,null,null,null,null,{"$f":"IF(ISNA(VLOOKUP(AE32,Camions!$B:$F,2,0)),\"\",(VLOOKUP(AE32,Camions!$B:$F,2,0)))","v":""},null,null,null,null,null,null,null,null,null,null,null,null,{"$f":"IF(ISNA(VLOOKUP(AE32,Camions!$B:$F,4,0)),\"\",(VLOOKUP(AE32,Camions!$B:$F,4,0)))","v":""}]
[null,null,null,null,null,null,null,null,null,null,null,null,null,null,null,null,null,null,null,null,null,null,null,null,null,0,null,null,null,null,null,null,null,{"$f":"IF(ISNA(VLOOKUP(AE33,Camions!$B:$F,2,0)),\"\",(VLOOKUP(AE33,Camions!$B:$F,2,0)))","v":""},null,null,null,null,null,null,null,null,null,null,null,null,{"$f":"IF(ISNA(VLOOKUP(AE33,Camions!$B:$F,4,0)),\"\",(VLOOKUP(AE33,Camions!$B:$F,4,0)))","v":""}]
[null,null,null,null,null,null,null,null,null,null,null,null,null,null,null,null,null,null,null,null,null,null,null,null,null,0,null,null,null,null,null,null,null,{"$f":"IF(ISNA(VLOOKUP(AE34,Camions!$B:$F,2,0)),\"\",(VLOOKUP(AE34,Camions!$B:$F,2,0)))","v":""},null,null,null,null,null,null,null,null,null,null,null,null,{"$f":"IF(ISNA(VLOOKUP(AE34,Camions!$B:$F,4,0)),\"\",(VLOOKUP(AE34,Camions!$B:$F,4,0)))","v":""}]
[null,null,null,null,null,null,null,null,null,null,null,null,null,null,null,null,null,null,null,null,null,null,null,null,null,0,null,null,null,null,null,null,null,{"$f":"IF(ISNA(VLOOKUP(AE35,Camions!$B:$F,2,0)),\"\",(VLOOKUP(AE35,Camions!$B:$F,2,0)))","v":""},null,null,null,null,null,null,null,null,null,null,null,null,{"$f":"IF(ISNA(VLOOKUP(AE35,Camions!$B:$F,4,0)),\"\",(VLOOKUP(AE35,Camions!$B:$F,4,0)))","v":""}]
[null,null,null,null,null,null,null,null,null,null,null,null,null,null,null,null,null,null,null,null,null,null,null,null,null,0,null,null,null,null,null,null,null,{"$f":"IF(ISNA(VLOOKUP(AE36,Camions!$B:$F,2,0)),\"\",(VLOOKUP(AE36,Camions!$B:$F,2,0)))","v":""},null,null,null,null,null,null,null,null,null,null,null,null,{"$f":"IF(ISNA(VLOOKUP(AE36,Camions!$B:$F,4,0)),\"\",(VLOOKUP(AE36,Camions!$B:$F,4,0)))","v":""}]
[null,null,null,null,null,null,null,null,null,null,null,null,null,null,null,null,null,null,null,null,null,null,null,null,null,0,null,null,null,null,null,null,null,{"$f":"IF(ISNA(VLOOKUP(AE37,Camions!$B:$F,2,0)),\"\",(VLOOKUP(AE37,Camions!$B:$F,2,0)))","v":""},null,null,null,null,null,null,null,null,null,null,null,null,{"$f":"IF(ISNA(VLOOKUP(AE36,Camions!$B:$F,4,0)),\"\",(VLOOKUP(AE36,Camions!$B:$F,4,0)))","v":""}]
["CHANTIER :",null,null,null,null,{"$f":"F1","v":0},null,null,null,null,null,null,null,null,null,null,null,null,null,null,"N° CHANTIER :",null,null,null,null,null,{"$f":"AA1","v":0},null,null,null,"JOUR :",null,null,null,{"$f":"AI1","v":"Jeudi"},null,null,null,null,null,null,null,null,null,null,null,null,null,null,null,null,"DATES :",null,null,{"$f":"BC1","v":"14-01-16"}]
["MATERIEL",null,null,null,null,null,null,null,null,null,null,null,null,null,null,null,null,null,null,null,null,null,null,null,null,null,null,null,null,null,"SOUS-TRAITANTS"]
["Légende :",null,null,null,null,"Pa",".= Panne",null,null,null,null,"Ent",".= Entretien"]
["N°",null,null,"Description du matériel",null,null,null,null,null,null,null,null,null,null,null,null,"Nom de l'opérateur",null,null,null,null,null,null,null,null,"Heures",null,null,null,null,"Type d'engin et description des travaux ",null,null,null,null,null,null,null,null,null,null,null,null,null,null,null,"Sous-traitants",null,null,null,null,null,null,null,null,"Heures"]
[null,null,null,{"$f":"IF(ISNA(VLOOKUP(A42,Machines!$B:$F,2,0)),\"\",(VLOOKUP(A42,Machines!$B:$F,2,0)))","v":""},null,null,null,null,null,null,null,null,null,null,null,null,{"$f":"IF(ISNA(VLOOKUP(A42,Machines!$B:$F,4,0)),\"\",(VLOOKUP(A42,Machines!$B:$F,4,0)))","v":""}]
[null,null,null,{"$f":"IF(ISNA(VLOOKUP(A43,Machines!$B:$F,2,0)),\"\",(VLOOKUP(A43,Machines!$B:$F,2,0)))","v":""},null,null,null,null,null,null,null,null,null,null,null,null,{"$f":"IF(ISNA(VLOOKUP(A43,Machines!$B:$F,4,0)),\"\",(VLOOKUP(A43,Machines!$B:$F,4,0)))","v":""}]
[null,null,null,{"$f":"IF(ISNA(VLOOKUP(A44,Machines!$B:$F,2,0)),\"\",(VLOOKUP(A44,Machines!$B:$F,2,0)))","v":""},null,null,null,null,null,null,null,null,null,null,null,null,{"$f":"IF(ISNA(VLOOKUP(A44,Machines!$B:$F,4,0)),\"\",(VLOOKUP(A44,Machines!$B:$F,4,0)))","v":""}]
[null,null,null,{"$f":"IF(ISNA(VLOOKUP(A45,Machines!$B:$F,2,0)),\"\",(VLOOKUP(A45,Machines!$B:$F,2,0)))","v":""},null,null,null,null,null,null,null,null,null,null,null,null,{"$f":"IF(ISNA(VLOOKUP(A45,Machines!$B:$F,4,0)),\"\",(VLOOKUP(A45,Machines!$B:$F,4,0)))","v":""}]
[null,null,null,{"$f":"IF(ISNA(VLOOKUP(A46,Machines!$B:$F,2,0)),\"\",(VLOOKUP(A46,Machines!$B:$F,2,0)))","v":""},null,null,null,null,null,null,null,null,null,null,null,null,{"$f":"IF(ISNA(VLOOKUP(A46,Machines!$B:$F,4,0)),\"\",(VLOOKUP(A46,Machines!$B:$F,4,0)))","v":""}]
[null,null,null,{"$f":"IF(ISNA(VLOOKUP(A47,Machines!$B:$F,2,0)),\"\",(VLOOKUP(A47,Machines!$B:$F,2,0)))","v":""},null,null,null,null,null,null,null,null,null,null,null,null,{"$f":"IF(ISNA(VLOOKUP(A47,Machines!$B:$F,4,0)),\"\",(VLOOKUP(A47,Machines!$B:$F,4,0)))","v":""}]
[null,null,null,{"$f":"IF(ISNA(VLOOKUP(A48,Machines!$B:$F,2,0)),\"\",(VLOOKUP(A48,Machines!$B:$F,2,0)))","v":""},null,null,null,null,null,null,null,null,null,null,null,null,{"$f":"IF(ISNA(VLOOKUP(A48,Machines!$B:$F,4,0)),\"\",(VLOOKUP(A48,Machines!$B:$F,4,0)))","v":""}]
[null,null,null,{"$f":"IF(ISNA(VLOOKUP(A49,Machines!$B:$F,2,0)),\"\",(VLOOKUP(A49,Machines!$B:$F,2,0)))","v":""},null,null,null,null,null,null,null,null,null,null,null,null,{"$f":"IF(ISNA(VLOOKUP(A49,Machines!$B:$F,4,0)),\"\",(VLOOKUP(A49,Machines!$B:$F,4,0)))","v":""}]
[null,null,null,{"$f":"IF(ISNA(VLOOKUP(A50,Machines!$B:$F,2,0)),\"\",(VLOOKUP(A50,Machines!$B:$F,2,0)))","v":""},null,null,null,null,null,null,null,null,null,null,null,null,{"$f":"IF(ISNA(VLOOKUP(A50,Machines!$B:$F,4,0)),\"\",(VLOOKUP(A50,Machines!$B:$F,4,0)))","v":""}]
[null,null,null,{"$f":"IF(ISNA(VLOOKUP(A51,Machines!$B:$F,2,0)),\"\",(VLOOKUP(A51,Machines!$B:$F,2,0)))","v":""},null,null,null,null,null,null,null,null,null,null,null,null,{"$f":"IF(ISNA(VLOOKUP(A51,Machines!$B:$F,4,0)),\"\",(VLOOKUP(A51,Machines!$B:$F,4,0)))","v":""}]
[null,null,null,{"$f":"IF(ISNA(VLOOKUP(A52,Machines!$B:$F,2,0)),\"\",(VLOOKUP(A52,Machines!$B:$F,2,0)))","v":""},null,null,null,null,null,null,null,null,null,null,null,null,{"$f":"IF(ISNA(VLOOKUP(A52,Machines!$B:$F,4,0)),\"\",(VLOOKUP(A52,Machines!$B:$F,4,0)))","v":""}]
[null,null,null,{"$f":"IF(ISNA(VLOOKUP(A53,Machines!$B:$F,2,0)),\"\",(VLOOKUP(A53,Machines!$B:$F,2,0)))","v":""},null,null,null,null,null,null,null,null,null,null,null,null,{"$f":"IF(ISNA(VLOOKUP(A53,Machines!$B:$F,4,0)),\"\",(VLOOKUP(A53,Machines!$B:$F,4,0)))","v":""}]
[null,null,null,{"$f":"IF(ISNA(VLOOKUP(A54,Machines!$B:$F,2,0)),\"\",(VLOOKUP(A54,Machines!$B:$F,2,0)))","v":""},null,null,null,null,null,null,null,null,null,null,null,null,{"$f":"IF(ISNA(VLOOKUP(A54,Machines!$B:$F,4,0)),\"\",(VLOOKUP(A54,Machines!$B:$F,4,0)))","v":""}]
[null,null,null,{"$f":"IF(ISNA(VLOOKUP(A55,Machines!$B:$F,2,0)),\"\",(VLOOKUP(A55,Machines!$B:$F,2,0)))","v":""},null,null,null,null,null,null,null,null,null,null,null,null,{"$f":"IF(ISNA(VLOOKUP(A55,Machines!$B:$F,4,0)),\"\",(VLOOKUP(A55,Machines!$B:$F,4,0)))","v":""}]
[null,null,null,{"$f":"IF(ISNA(VLOOKUP(A56,Machines!$B:$F,2,0)),\"\",(VLOOKUP(A56,Machines!$B:$F,2,0)))","v":""},null,null,null,null,null,null,null,null,null,null,null,null,{"$f":"IF(ISNA(VLOOKUP(A56,Machines!$B:$F,4,0)),\"\",(VLOOKUP(A56,Machines!$B:$F,4,0)))","v":""}]
[null,null,null,{"$f":"IF(ISNA(VLOOKUP(A57,Machines!$B:$F,2,0)),\"\",(VLOOKUP(A57,Machines!$B:$F,2,0)))","v":""},null,null,null,null,null,null,null,null,null,null,null,null,{"$f":"IF(ISNA(VLOOKUP(A57,Machines!$B:$F,4,0)),\"\",(VLOOKUP(A57,Machines!$B:$F,4,0)))","v":""}]
[null,null,null,{"$f":"IF(ISNA(VLOOKUP(A58,Machines!$B:$F,2,0)),\"\",(VLOOKUP(A58,Machines!$B:$F,2,0)))","v":""},null,null,null,null,null,null,null,null,null,null,null,null,{"$f":"IF(ISNA(VLOOKUP(A58,Machines!$B:$F,4,0)),\"\",(VLOOKUP(A58,Machines!$B:$F,4,0)))","v":""}]
[null,null,null,{"$f":"IF(ISNA(VLOOKUP(A59,Machines!$B:$F,2,0)),\"\",(VLOOKUP(A59,Machines!$B:$F,2,0)))","v":""},null,null,null,null,null,null,null,null,null,null,null,null,{"$f":"IF(ISNA(VLOOKUP(A59,Machines!$B:$F,4,0)),\"\",(VLOOKUP(A59,Machines!$B:$F,4,0)))","v":""}]
[null,null,null,{"$f":"IF(ISNA(VLOOKUP(A60,Machines!$B:$F,2,0)),\"\",(VLOOKUP(A60,Machines!$B:$F,2,0)))","v":""},null,null,null,null,null,null,null,null,null,null,null,null,{"$f":"IF(ISNA(VLOOKUP(A60,Machines!$B:$F,4,0)),\"\",(VLOOKUP(A60,Machines!$B:$F,4,0)))","v":""}]
[null,null,null,{"$f":"IF(ISNA(VLOOKUP(A61,Machines!$B:$F,2,0)),\"\",(VLOOKUP(A61,Machines!$B:$F,2,0)))","v":""},null,null,null,null,null,null,null,null,null,null,null,null,{"$f":"IF(ISNA(VLOOKUP(A61,Machines!$B:$F,4,0)),\"\",(VLOOKUP(A61,Machines!$B:$F,4,0)))","v":""}]
[null,null,null,{"$f":"IF(ISNA(VLOOKUP(A62,Machines!$B:$F,2,0)),\"\",(VLOOKUP(A62,Machines!$B:$F,2,0)))","v":""},null,null,null,null,null,null,null,null,null,null,null,null,{"$f":"IF(ISNA(VLOOKUP(A62,Machines!$B:$F,4,0)),\"\",(VLOOKUP(A62,Machines!$B:$F,4,0)))","v":""}]
[null,null,null,{"$f":"IF(ISNA(VLOOKUP(A63,Machines!$B:$F,2,0)),\"\",(VLOOKUP(A63,Machines!$B:$F,2,0)))","v":""},null,null,null,null,null,null,null,null,null,null,null,null,{"$f":"IF(ISNA(VLOOKUP(A63,Machines!$B:$F,4,0)),\"\",(VLOOKUP(A63,Machines!$B:$F,4,0)))","v":""}]
[null,null,null,{"$f":"IF(ISNA(VLOOKUP(A64,Machines!$B:$F,2,0)),\"\",(VLOOKUP(A64,Machines!$B:$F,2,0)))","v":""},null,null,null,null,null,null,null,null,null,null,null,null,{"$f":"IF(ISNA(VLOOKUP(A64,Machines!$B:$F,4,0)),\"\",(VLOOKUP(A64,Machines!$B:$F,4,0)))","v":""}]
[null,null,null,{"$f":"IF(ISNA(VLOOKUP(A65,Machines!$B:$F,2,0)),\"\",(VLOOKUP(A65,Machines!$B:$F,2,0)))","v":""},null,null,null,null,null,null,null,null,null,null,null,null,{"$f":"IF(ISNA(VLOOKUP(A65,Machines!$B:$F,4,0)),\"\",(VLOOKUP(A65,Machines!$B:$F,4,0)))","v":""}]
[null,null,null,{"$f":"IF(ISNA(VLOOKUP(A66,Machines!$B:$F,2,0)),\"\",(VLOOKUP(A66,Machines!$B:$F,2,0)))","v":""},null,null,null,null,null,null,null,null,null,null,null,null,{"$f":"IF(ISNA(VLOOKUP(A66,Machines!$B:$F,4,0)),\"\",(VLOOKUP(A66,Machines!$B:$F,4,0)))","v":""}]
[null,null,null,{"$f":"IF(ISNA(VLOOKUP(A67,Machines!$B:$F,2,0)),\"\",(VLOOKUP(A67,Machines!$B:$F,2,0)))","v":""},null,null,null,null,null,null,null,null,null,null,null,null,{"$f":"IF(ISNA(VLOOKUP(A67,Machines!$B:$F,4,0)),\"\",(VLOOKUP(A67,Machines!$B:$F,4,0)))","v":""}]
[null,null,null,{"$f":"IF(ISNA(VLOOKUP(A68,Machines!$B:$F,2,0)),\"\",(VLOOKUP(A68,Machines!$B:$F,2,0)))","v":""},null,null,null,null,null,null,null,null,null,null,null,null,{"$f":"IF(ISNA(VLOOKUP(A68,Machines!$B:$F,4,0)),\"\",(VLOOKUP(A68,Machines!$B:$F,4,0)))","v":""}]
[null,null,null,{"$f":"IF(ISNA(VLOOKUP(A69,Machines!$B:$F,2,0)),\"\",(VLOOKUP(A69,Machines!$B:$F,2,0)))","v":""},null,null,null,null,null,null,null,null,null,null,null,null,{"$f":"IF(ISNA(VLOOKUP(A69,Machines!$B:$F,4,0)),\"\",(VLOOKUP(A69,Machines!$B:$F,4,0)))","v":""}]
[null,null,null,{"$f":"IF(ISNA(VLOOKUP(A70,Machines!$B:$F,2,0)),\"\",(VLOOKUP(A70,Machines!$B:$F,2,0)))","v":""},null,null,null,null,null,null,null,null,null,null,null,null,{"$f":"IF(ISNA(VLOOKUP(A70,Machines!$B:$F,4,0)),\"\",(VLOOKUP(A70,Machines!$B:$F,4,0)))","v":""}]
[null,null,null,{"$f":"IF(ISNA(VLOOKUP(A71,Machines!$B:$F,2,0)),\"\",(VLOOKUP(A71,Machines!$B:$F,2,0)))","v":""},null,null,null,null,null,null,null,null,null,null,null,null,{"$f":"IF(ISNA(VLOOKUP(A71,Machines!$B:$F,4,0)),\"\",(VLOOKUP(A71,Machines!$B:$F,4,0)))","v":""}]
[null,null,null,{"$f":"IF(ISNA(VLOOKUP(A72,Machines!$B:$F,2,0)),\"\",(VLOOKUP(A72,Machines!$B:$F,2,0)))","v":""},null,null,null,null,null,null,null,null,null,null,null,null,{"$f":"IF(ISNA(VLOOKUP(A72,Machines!$B:$F,4,0)),\"\",(VLOOKUP(A72,Machines!$B:$F,4,0)))","v":""}]
[null,null,null,{"$f":"IF(ISNA(VLOOKUP(A73,Machines!$B:$F,2,0)),\"\",(VLOOKUP(A73,Machines!$B:$F,2,0)))","v":""},null,null,null,null,null,null,null,null,null,null,null,null,{"$f":"IF(ISNA(VLOOKUP(A73,Machines!$B:$F,4,0)),\"\",(VLOOKUP(A73,Machines!$B:$F,4,0)))","v":""}]
[null,null,null,{"$f":"IF(ISNA(VLOOKUP(A74,Machines!$B:$F,2,0)),\"\",(VLOOKUP(A74,Machines!$B:$F,2,0)))","v":""},null,null,null,null,null,null,null,null,null,null,null,null,{"$f":"IF(ISNA(VLOOKUP(A74,Machines!$B:$F,4,0)),\"\",(VLOOKUP(A74,Machines!$B:$F,4,0)))","v":""}]
["CHANTIER :",null,null,null,null,{"$f":"F1","v":0},null,null,null,null,null,null,null,null,null,null,null,null,null,null,"N° CHANTIER :",null,null,null,null,null,{"$f":"AA1","v":0},null,null,null,"JOUR :",null,null,null,{"$f":"AI1","v":"Jeudi"},null,null,null,null,null,null,null,null,null,null,null,null,null,null,null,null,"DATES :",null,null,{"$f":"BC1","v":"14-01-16"}]
["MATERIAUX"]
[null,null,null,"Fournisseurs",null,null,null,null,null,null,null,null,null,null,null,null,null,null,"Description des fournitures & matériaux",null,null,null,null,null,null,null,null,null,null,null,null,null,null,null,null,null,null,null,null,null,null,null,null,null,null,null,null,null,null,"Qt totales",null,null,null,"U.",null,"Prix"]
[]
[]
[]
[]
[]
[]
[]
[]
[]
[]
[]
[]
[]
[]
[]
[]
[]
[]
[]
[]
[]
[]
[]
[]
[]
[]
[]
[]
[]
[]
[]
[null,null,null,"RESPONSABLE",null,null,null,null,null,null,null,null,"SIGNATURE",null,null,null,null,null,"DESCRIPTION DES TRAVAUX REALISES CE JOUR",null,null,null,null,null,null,null,null,null,null,null,null,null,null,null,null,null,null,null,null,null,null,null,null,null,null,null,null,null,null,"METEO"]
[null,null,null,"JENNES Loïc"]

{"sheet":"15-01-16","index":21,"n_rows":110,"n_cols":56,"rows_kept":110,"cut":false,"hidden":false,"merged":[[101,53,101,54],[101,55,101,58],[102,49,102,52],[102,53,102,54],[102,55,102,58],[107,3,107,17],[107,18,107,48],[105,3,105,17],[105,18,105,48],[106,3,106,17],[106,18,106,48],[106,49,106,52],[106,53,106,54],[106,55,106,58],[107,49,107,52],[103,3,103,17],[103,18,103,48],[104,3,104,17],[104,18,104,48],[109,18,109,48],[111,18,111,48],[108,18,108,48],[108,3,108,11],[108,12,108,17],[109,3,111,11],[109,12,111,17],[101,3,101,17],[101,18,101,48],[102,3,102,17],[102,18,102,48],[110,18,110,48],[99,3,99,17],[99,18,99,48],[100,3,100,17],[100,18,100,48],[101,49,101,52],[93,53,93,54],[93,55,93,58],[94,49,94,52],[94,53,94,54],[94,55,94,58],[97,3,97,17],[97,18,97,48],[98,3,98,17],[98,18,98,48],[95,3,95,17],[95,18,95,48],[96,3,96,17],[96,18,96,48],[95,49,95,52],[95,53,95,54],[95,55,95,58],[96,49,96,52],[96,53,96,54],[96,55,96,58],[93,3,93,17],[93,18,93,48],[94,3,94,17],[94,18,94,48],[91,3,91,17],[91,18,91,48],[92,3,92,17],[92,18,92,48],[93,49,93,52],[87,53,87,54],[87,55,87,58],[88,49,88,52],[88,53,88,54],[88,55,88,58],[89,49,89,52],[89,53,89,54],[85,3,85,17],[85,18,85,48],[89,3,89,17],[89,18,89,48],[86,3,86,17],[86,18,86,48],[85,49,85,52],[85,53,85,54],[85,55,85,58],[86,49,86,52],[86,53,86,54],[86,55,86,58],[89,55,89,58],[90,3,90,17],[90,18,90,48],[87,3,87,17],[87,18,87,48],[88,3,88,17],[88,18,88,48],[87,49,87,52],[77,55,77,58],[78,49,78,52],[78,53,78,54],[78,55,78,58],[81,3,81,17],[81,18,81,48],[82,3,82,17],[82,18,82,48],[79,3,79,17],[79,18,79,48],[80,3,80,17],[80,18,80,48],[79,49,79,52],[79,53,79,54],[79,55,79,58],[80,49,80,52],[80,53,80,54],[80,55,80,58],[81,49,81,52],[81,53,81,54],[0,0,0,4],[0,5,0,19],[0,20,0,25],[0,26,0,28],[0,30,0,32],[0,34,0,47],[0,51,0,53],[0,54,0,58],[1,0,1,28],[1,29,36,29],[1,30,1,58],[2,0,2,4],[2,7,2,10],[2,13,2,16],[2,19,2,22],[2,25,2,28],[2,30,2,34],[2,36,2,39],[2,42,2,45],[3,0,3,15],[3,16,3,18],[3,19,3,21],[3,22,3,24],[3,25,3,28],[3,30,3,32],[3,33,3,45],[3,46,3,54],[3,55,3,58],[4,0,4,15],[4,16,4,18],[4,19,4,21],[4,22,4,24],[4,25,4,28],[4,30,4,32],[4,33,4,45],[4,46,4,54],[4,55,4,58],[5,0,5,15],[5,16,5,18],[5,19,5,21],[5,22,5,24],[5,25,5,28],[5,30,5,32],[5,33,5,45],[5,46,5,54],[5,55,5,58],[6,0,6,15],[6,16,6,18],[6,19,6,21],[6,22,6,24],[6,25,6,28],[6,30,6,32],[6,33,6,45],[6,46,6,54],[6,55,6,58],[7,0,7,15],[7,16,7,18],[7,19,7,21],[7,22,7,24],[7,25,7,28],[7,30,7,32],[7,33,7,45],[7,46,7,54],[7,55,7,58],[8,0,8,15],[8,16,8,18],[8,19,8,21],[8,22,8,24],[8,25,8,28],[8,30,8,32],[8,33,8,45],[8,46,8,54],[8,55,8,58],[9,0,9,15],[9,16,9,18],[9,19,9,21],[9,22,9,24],[9,25,9,28],[9,30,9,32],[9,33,9,45],[9,46,9,54],[9,55,9,58],[10,0,10,15],[10,16,10,18],[10,19,10,21],[10,22,10,24],[10,25,10,28],[10,30,10,32],[10,33,10,45],[10,46,10,54],[10,55,10,58],[11,0,11,15],[11,16,11,18],[11,19,11,21],[11,22,11,24],[11,25,11,28],[11,30,11,32],[11,33,11,45],[11,46,11,54],[11,55,11,58],[12,0,12,15],[12,16,12,18],[12,19,12,21],[12,22,12,24],[12,25,12,28],[12,30,12,32],[12,33,12,45],[12,46,12,54],[12,55,12,58],[13,0,13,15],[13,16,13,18],[13,19,13,21],[13,22,13,24],[13,25,13,28],[13,30,13,32],[13,33,13,45],[13,46,13,54],[13,55,13,58],[14,0,14,15],[14,16,14,18],[14,19,14,21],[14,22,14,24],[14,25,14,28],[14,30,14,32],[14,33,14,45],[14,46,14,54],[14,55,14,58],[15,0,15,15],[15,16,15,18],[15,19,15,21],[15,22,15,24],[15,25,15,28],[15,30,15,32],[15,33,15,45],[15,46,15,54],[15,55,15,58],[16,0,16,15],[16,16,16,18],[16,19,16,21],[16,22,16,24],[16,25,16,28],[16,30,16,32],[16,33,16,45],[16,46,16,54],[16,55,16,58],[17,0,17,15],[17,16,17,18],[17,19,17,21],[17,22,17,24],[17,25,17,28],[17,30,17,32],[17,33,17,45],[17,46,17,54],[17,55,17,58],[18,0,18,15],[18,16,18,18],[18,19,18,21],[18,22,18,24],[18,25,18,28],[18,30,18,32],[18,33,18,45],[18,46,18,54],[18,55,18,58],[19,0,19,15],[19,16,19,18],[19,19,19,21],[19,22,19,24],[19,25,19,28],[19,30,19,32],[19,33,19,45],[19,46,19,54],[19,55,19,58],[20,0,20,15],[20,16,20,18],[20,19,20,21],[20,22,20,24],[20,25,20,28],[20,30,20,32],[20,33,20,45],[20,46,20,54],[20,55,20,58],[21,0,21,15],[21,16,21,18],[21,19,21,21],[21,22,21,24],[21,25,21,28],[21,30,21,32],[21,33,21,45],[21,46,21,54],[21,55,21,58],[22,0,22,15],[22,16,22,18],[22,19,22,21],[22,22,22,24],[22,25,22,28],[22,30,22,32],[22,33,22,45],[22,46,22,54],[22,55,22,58],[23,0,23,15],[23,16,23,18],[23,19,23,21],[23,22,23,24],[23,25,23,28],[23,30,23,32],[23,33,23,45],[23,46,23,54],[23,55,23,58],[24,0,24,15],[24,16,24,18],[24,19,24,21],[24,22,24,24],[24,25,24,28],[24,30,24,32],[24,33,24,45],[24,46,24,54],[24,55,24,58],[25,0,25,15],[25,16,25,18],[25,19,25,21],[25,22,25,24],[25,25,25,28],[25,30,25,32],[25,33,25,45],[25,46,25,54],[25,55,25,58],[26,0,26,15],[26,16,26,18],[26,19,26,21],[26,22,26,24],[26,25,26,28],[26,30,26,32],[26,33,26,45],[26,46,26,54],[26,55,26,58],[27,0,27,15],[27,16,27,18],[27,19,27,21],[27,22,27,24],[27,25,27,28],[27,30,27,32],[27,33,27,45],[27,46,27,54],[27,55,27,58],[28,0,28,15],[28,16,28,18],[28,19,28,21],[28,22,28,24],[28,25,28,28],[28,30,28,32],[28,33,28,45],[28,46,28,54],[28,55,28,58],[29,0,29,15],[29,16,29,18],[29,19,29,21],[29,22,29,24],[29,25,29,28],[29,30,29,32],[29,33,29,45],[29,46,29,54],[29,55,29,58],[30,0,30,15],[30,16,30,18],[30,19,30,21],[30,22,30,24],[30,25,30,28],[30,30,30,32],[30,33,30,45],[30,46,30,54],[30,55,30,58],[31,0,31,15],[31,16,31,18],[31,19,31,21],[31,22,31,24],[31,25,31,28],[31,30,31,32],[31,33,31,45],[31,46,31,54],[31,55,31,58],[32,0,32,15],[32,16,32,18],[32,19,32,21],[32,22,32,24],[32,25,32,28],[32,30,32,32],[32,33,32,45],[32,46,32,54],[32,55,32,58],[33,0,33,15],[33,16,33,18],[33,19,33,21],[33,22,33,24],[33,25,33,28],[33,30,33,32],[33,33,33,45],[33,46,33,54],[33,55,33,58],[34,0,34,15],[34,16,34,18],[34,19,34,21],[34,22,34,24],[34,25,34,28],[34,30,34,32],[34,33,34,45],[34,46,34,54],[34,55,34,58],[35,0,35,15],[35,16,35,18],[35,19,35,21],[35,22,35,24],[35,25,35,28],[35,30,35,32],[35,33,35,45],[35,46,35,54],[35,55,35,58],[36,0,36,15],[36,16,36,18],[36,19,36,21],[36,22,36,24],[36,25,36,28],[36,30,36,32],[36,33,36,45],[36,46,36,54],[36,55,36,58],[37,0,37,4],[37,5,37,19],[37,20,37,25],[37,26,37,28],[37,30,37,32],[37,34,37,47],[37,51,37,53],[37,54,37,58],[38,0,38,28],[38,29,73,29],[38,30,38,58],[39,0,39,4],[39,6,39,9],[39,12,39,15],[40,0,40,2],[40,3,40,15],[40,16,40,24],[40,25,40,28],[40,30,40,45],[40,46,40,54],[40,55,40,58],[41,0,41,2],[41,3,41,15],[41,16,41,24],[41,25,41,28],[41,30,41,45],[41,46,41,54],[41,55,41,58],[42,0,42,2],[42,3,42,15],[42,16,42,24],[42,25,42,28],[42,30,42,45],[42,46,42,54],[42,55,42,58],[43,0,43,2],[43,3,43,15],[43,16,43,24],[43,25,43,28],[43,30,43,45],[43,46,43,54],[43,55,43,58],[44,0,44,2],[44,3,44,15],[44,16,44,24],[44,25,44,28],[44,30,44,45],[44,46,44,54],[44,55,44,58],[45,0,45,2],[45,3,45,15],[45,16,45,24],[45,25,45,28],[45,30,45,45],[45,46,45,54],[45,55,45,58],[46,0,46,2],[46,3,46,15],[46,16,46,24],[46,25,46,28],[46,30,46,45],[46,46,46,54],[46,55,46,58],[47,0,47,2],[47,3,47,15],[47,16,47,24],[47,25,47,28],[47,30,47,45],[47,46,47,54],[47,55,47,58],[48,0,48,2],[48,3,48,15],[48,16,48,24],[48,25,48,28],[48,30,48,45],[48,46,48,54],[48,55,48,58],[49,0,49,2],[49,3,49,15],[49,16,49,24],[49,25,49,28],[49,30,49,45],[49,46,49,54],[49,55,49,58],[50,0,50,2],[50,3,50,15],[50,16,50,24],[50,25,50,28],[50,30,50,45],[50,46,50,54],[50,55,50,58],[51,0,51,2],[51,3,51,15],[51,16,51,24],[51,25,51,28],[51,30,51,45],[51,46,51,54],[51,55,51,58],[52,0,52,2],[52,3,52,15],[52,16,52,24],[52,25,52,28],[52,30,52,45],[52,46,52,54],[52,55,52,58],[53,0,53,2],[53,3,53,15],[53,16,53,24],[53,25,53,28],[53,30,53,45],[53,46,53,54],[53,55,53,58],[54,0,54,2],[54,3,54,15],[54,16,54,24],[54,25,54,28],[54,30,54,45],[54,46,54,54],[54,55,54,58],[55,0,55,2],[55,3,55,15],[55,16,55,24],[55,25,55,28],[55,30,55,45],[55,46,55,54],[55,55,55,58],[56,0,56,2],[56,3,56,15],[56,16,56,24],[56,25,56,28],[56,30,56,45],[56,46,56,54],[56,55,56,58],[57,0,57,2],[57,3,57,15],[57,16,57,24],[57,25,57,28],[57,30,57,45],[57,46,57,54],[57,55,57,58],[58,0,58,2],[58,3,58,15],[58,16,58,24],[58,25,58,28],[58,30,58,45],[58,46,58,54],[58,55,58,58],[59,0,59,2],[59,3,59,15],[59,16,59,24],[59,25,59,28],[59,30,59,45],[59,46,59,54],[59,55,59,58],[60,0,60,2],[60,3,60,15],[60,16,60,24],[60,25,60,28],[60,30,60,45],[60,46,60,54],[60,55,60,58],[61,0,61,2],[61,3,61,15],[61,16,61,24],[61,25,61,28],[61,30,61,45],[61,46,61,54],[61,55,61,58],[62,0,62,2],[62,3,62,15],[62,16,62,24],[62,25,62,28],[62,30,62,45],[62,46,62,54],[62,55,62,58],[63,0,63,2],[63,3,63,15],[63,16,63,24],[63,25,63,28],[63,30,63,45],[63,46,63,54],[63,55,63,58],[64,0,64,2],[64,3,64,15],[64,16,64,24],[64,25,64,28],[64,30,64,45],[64,46,64,54],[64,55,64,58],[65,0,65,2],[65,3,65,15],[65,16,65,24],[65,25,65,28],[65,30,65,45],[65,46,65,54],[65,55,65,58],[67,0,67,2],[67,3,67,15],[67,16,67,24],[67,25,67,28],[67,30,67,45],[67,46,67,54],[67,55,67,58],[66,0,66,2],[66,3,66,15],[66,16,66,24],[66,25,66,28],[66,30,66,45],[66,46,66,54],[66,55,66,58],[68,0,68,2],[68,3,68,15],[68,16,68,24],[68,25,68,28],[68,30,68,45],[68,46,68,54],[68,55,68,58],[69,0,69,2],[69,3,69,15],[69,16,69,24],[69,25,69,28],[69,30,69,45],[69,46,69,54],[69,55,69,58],[70,0,70,2],[70,3,70,15],[70,16,70,24],[70,25,70,28],[70,30,70,45],[70,46,70,54],[70,55,70,58],[71,0,71,2],[71,3,71,15],[71,16,71,24],[71,25,71,28],[71,30,71,45],[71,46,71,54],[71,55,71,58],[72,55,72,58],[73,0,73,2],[73,3,73,15],[73,16,73,24],[73,25,73,28],[73,30,73,45],[73,46,73,54],[73,55,73,58],[76,3,76,17],[74,0,74,4],[74,5,74,19],[74,20,74,25],[74,26,74,28],[74,30,74,32],[74,34,74,47],[74,51,74,53],[74,54,74,58],[76,18,76,48],[75,0,75,58],[76,49,76,52],[76,53,76,54],[76,55,76,58],[72,0,72,2],[72,3,72,15],[72,16,72,24],[72,25,72,28],[72,30,72,45],[72,46,72,54],[77,3,77,17],[77,18,77,48],[78,3,78,17],[78,18,78,48],[77,49,77,52],[77,53,77,54],[83,3,83,17],[83,18,83,48],[84,3,84,17],[84,18,84,48],[81,55,81,58],[82,49,82,52],[82,53,82,54],[82,55,82,58],[83,49,83,52],[83,53,83,54],[83,55,83,58],[84,49,84,52],[84,53,84,54],[84,55,84,58],[90,49,90,52],[90,53,90,54],[90,55,90,58],[91,49,91,52],[91,53,91,54],[91,55,91,58],[92,49,92,52],[92,53,92,54],[92,55,92,58],[97,55,97,58],[98,49,98,52],[98,53,98,54],[98,55,98,58],[99,49,99,52],[99,53,99,54],[99,55,99,58],[100,49,100,52],[100,53,100,54],[100,55,100,58],[97,49,97,52],[97,53,97,54],[108,49,108,58],[109,49,111,58],[103,49,103,52],[103,53,103,54],[103,55,103,58],[104,49,104,52],[104,53,104,54],[104,55,104,58],[105,49,105,52],[105,53,105,54],[105,55,105,58],[107,53,107,54],[107,55,107,58]]}
["CHANTIER :",null,null,null,null,{"$f":"'01-01-16'!F1","v":0},null,null,null,null,null,null,null,null,null,null,null,null,null,null,"N° CHANTIER :",null,null,null,null,null,{"$f":"'01-01-16'!AA1","v":0},null,null,null,"JOUR :",null,null,null,{"$f":" CHOOSE(WEEKDAY(BC1,2),\"Lundi\",\"Mardi\",\"Mercredi\",\"Jeudi\",\"Vendredi\",\"Samedi\",\"Dimanche\")","v":"Vendredi"},null,null,null,null,null,null,null,null,null,null,null,null,null,null,null,null,"DATES :",null,null,{"$f":"MID(CELL(\"nomfichier\",A1),FIND(\"]\",CELL(\"nomfichier\",A1),1)+1,30)","v":"15-01-16"}]
["MAIN D'ŒUVRE",null,null,null,null,null,null,null,null,null,null,null,null,null,null,null,null,null,null,null,null,null,null,null,null,null,null,null,null,null,"CAMIONS"]
["Légende :",null,null,null,null,null,"Co",".= Congé",null,null,null,null,"M",".= Malade",null,null,null,null,"Cho",".= Chômage",null,null,null,null,"Va",".= Vacance",null,null,null,null,"Légende :",null,null,null,null,"Pa",".= Panne",null,null,null,null,"Ent",".= Entretien"]
["NOM - Prénom du travailleur",null,null,null,null,null,null,null,null,null,null,null,null,null,null,null,"Début journée",null,null,"Arrêt repas",null,null,"Fin journée",null,null,"Heures prestées",null,null,null,null,"N°",null,null,"Description du matériel",null,null,null,null,null,null,null,null,null,null,null,null,"Nom de l'opérateur",null,null,null,null,null,null,null,null,"Heures"]
[null,null,null,null,null,null,null,null,null,null,null,null,null,null,null,null,null,null,null,null,null,null,null,null,null,{"$f":"W5-Q5-T5","v":0},null,null,null,null,null,null,null,{"$f":"IF(ISNA(VLOOKUP(AE5,Camions!$B:$F,2,0)),\"\",(VLOOKUP(AE5,Camions!$B:$F,2,0)))","v":""},null,null,null,null,null,null,null,null,null,null,null,null,{"$f":"IF(ISNA(VLOOKUP(AE5,Camions!$B:$F,4,0)),\"\",(VLOOKUP(AE5,Camions!$B:$F,4,0)))","v":""}]
[null,null,null,null,null,null,null,null,null,null,null,null,null,null,null,null,null,null,null,null,null,null,null,null,null,{"$f":"W6-Q6-T6","v":0},null,null,null,null,null,null,null,{"$f":"IF(ISNA(VLOOKUP(AE6,Camions!$B:$F,2,0)),\"\",(VLOOKUP(AE6,Camions!$B:$F,2,0)))","v":""},null,null,null,null,null,null,null,null,null,null,null,null,{"$f":"IF(ISNA(VLOOKUP(AE6,Camions!$B:$F,4,0)),\"\",(VLOOKUP(AE6,Camions!$B:$F,4,0)))","v":""}]
[null,null,null,null,null,null,null,null,null,null,null,null,null,null,null,null,null,null,null,null,null,null,null,null,null,0,null,null,null,null,null,null,null,{"$f":"IF(ISNA(VLOOKUP(AE7,Camions!$B:$F,2,0)),\"\",(VLOOKUP(AE7,Camions!$B:$F,2,0)))","v":""},null,null,null,null,null,null,null,null,null,null,null,null,{"$f":"IF(ISNA(VLOOKUP(AE7,Camions!$B:$F,4,0)),\"\",(VLOOKUP(AE7,Camions!$B:$F,4,0)))","v":""}]
[null,null,null,null,null,null,null,null,null,null,null,null,null,null,null,null,null,null,null,null,null,null,null,null,null,0,null,null,null,null,null,null,null,{"$f":"IF(ISNA(VLOOKUP(AE8,Camions!$B:$F,2,0)),\"\",(VLOOKUP(AE8,Camions!$B:$F,2,0)))","v":""},null,null,null,null,null,null,null,null,null,null,null,null,{"$f":"IF(ISNA(VLOOKUP(AE8,Camions!$B:$F,4,0)),\"\",(VLOOKUP(AE8,Camions!$B:$F,4,0)))","v":""}]
[null,null,null,null,null,null,null,null,null,null,null,null,null,null,null,null,null,null,null,null,null,null,null,null,null,0,null,null,null,null,null,null,null,{"$f":"IF(ISNA(VLOOKUP(AE9,Camions!$B:$F,2,0)),\"\",(VLOOKUP(AE9,Camions!$B:$F,2,0)))","v":""},null,null,null,null,null,null,null,null,null,null,null,null,{"$f":"IF(ISNA(VLOOKUP(AE9,Camions!$B:$F,4,0)),\"\",(VLOOKUP(AE9,Camions!$B:$F,4,0)))","v":""}]
[null,null,null,null,null,null,null,null,null,null,null,null,null,null,null,null,null,null,null,null,null,null,null,null,null,0,null,null,null,null,null,null,null,{"$f":"IF(ISNA(VLOOKUP(AE10,Camions!$B:$F,2,0)),\"\",(VLOOKUP(AE10,Camions!$B:$F,2,0)))","v":""},null,null,null,null,null,null,null,null,null,null,null,null,{"$f":"IF(ISNA(VLOOKUP(AE10,Camions!$B:$F,4,0)),\"\",(VLOOKUP(AE10,Camions!$B:$F,4,0)))","v":""}]
[null,null,null,null,null,null,null,null,null,null,null,null,null,null,null,null,null,null,null,null,null,null,null,null,null,0,null,null,null,null,null,null,null,{"$f":"IF(ISNA(VLOOKUP(AE11,Camions!$B:$F,2,0)),\"\",(VLOOKUP(AE11,Camions!$B:$F,2,0)))","v":""},null,null,null,null,null,null,null,null,null,null,null,null,{"$f":"IF(ISNA(VLOOKUP(AE11,Camions!$B:$F,4,0)),\"\",(VLOOKUP(AE11,Camions!$B:$F,4,0)))","v":""}]
[null,null,null,null,null,null,null,null,null,null,null,null,null,null,null,null,null,null,null,null,null,null,null,null,null,0,null,null,null,null,null,null,null,{"$f":"IF(ISNA(VLOOKUP(AE12,Camions!$B:$F,2,0)),\"\",(VLOOKUP(AE12,Camions!$B:$F,2,0)))","v":""},null,null,null,null,null,null,null,null,null,null,null,null,{"$f":"IF(ISNA(VLOOKUP(AE12,Camions!$B:$F,4,0)),\"\",(VLOOKUP(AE12,Camions!$B:$F,4,0)))","v":""}]
[null,null,null,null,null,null,null,null,null,null,null,null,null,null,null,null,null,null,null,null,null,null,null,null,null,0,null,null,null,null,null,null,null,{"$f":"IF(ISNA(VLOOKUP(AE13,Camions!$B:$F,2,0)),\"\",(VLOOKUP(AE13,Camions!$B:$F,2,0)))","v":""},null,null,null,null,null,null,null,null,null,null,null,null,{"$f":"IF(ISNA(VLOOKUP(AE13,Camions!$B:$F,4,0)),\"\",(VLOOKUP(AE13,Camions!$B:$F,4,0)))","v":""}]
[null,null,null,null,null,null,null,null,null,null,null,null,null,null,null,null,null,null,null,null,null,null,null,null,null,0,null,null,null,null,null,null,null,{"$f":"IF(ISNA(VLOOKUP(AE14,Camions!$B:$F,2,0)),\"\",(VLOOKUP(AE14,Camions!$B:$F,2,0)))","v":""},null,null,null,null,null,null,null,null,null,null,null,null,{"$f":"IF(ISNA(VLOOKUP(AE14,Camions!$B:$F,4,0)),\"\",(VLOOKUP(AE14,Camions!$B:$F,4,0)))","v":""}]
[null,null,null,null,null,null,null,null,null,null,null,null,null,null,null,null,null,null,null,null,null,null,null,null,null,0,null,null,null,null,null,null,null,{"$f":"IF(ISNA(VLOOKUP(AE15,Camions!$B:$F,2,0)),\"\",(VLOOKUP(AE15,Camions!$B:$F,2,0)))","v":""},null,null,null,null,null,null,null,null,null,null,null,null,{"$f":"IF(ISNA(VLOOKUP(AE15,Camions!$B:$F,4,0)),\"\",(VLOOKUP(AE15,Camions!$B:$F,4,0)))","v":""}]
[null,null,null,null,null,null,null,null,null,null,null,null,null,null,null,null,null,null,null,null,null,null,null,null,null,0,null,null,null,null,null,null,null,{"$f":"IF(ISNA(VLOOKUP(AE16,Camions!$B:$F,2,0)),\"\",(VLOOKUP(AE16,Camions!$B:$F,2,0)))","v":""},null,null,null,null,null,null,null,null,null,null,null,null,{"$f":"IF(ISNA(VLOOKUP(AE16,Camions!$B:$F,4,0)),\"\",(VLOOKUP(AE16,Camions!$B:$F,4,0)))","v":""}]
[null,null,null,null,null,null,null,null,null,null,null,null,null,null,null,null,null,null,null,null,null,null,null,null,null,0,null,null,null,null,null,null,null,{"$f":"IF(ISNA(VLOOKUP(AE17,Camions!$B:$F,2,0)),\"\",(VLOOKUP(AE17,Camions!$B:$F,2,0)))","v":""},null,null,null,null,null,null,null,null,null,null,null,null,{"$f":"IF(ISNA(VLOOKUP(AE17,Camions!$B:$F,4,0)),\"\",(VLOOKUP(AE17,Camions!$B:$F,4,0)))","v":""}]
[null,null,null,null,null,null,null,null,null,null,null,null,null,null,null,null,null,null,null,null,null,null,null,null,null,0,null,null,null,null,null,null,null,{"$f":"IF(ISNA(VLOOKUP(AE18,Camions!$B:$F,2,0)),\"\",(VLOOKUP(AE18,Camions!$B:$F,2,0)))","v":""},null,null,null,null,null,null,null,null,null,null,null,null,{"$f":"IF(ISNA(VLOOKUP(AE18,Camions!$B:$F,4,0)),\"\",(VLOOKUP(AE18,Camions!$B:$F,4,0)))","v":""}]
[null,null,null,null,null,null,null,null,null,null,null,null,null,null,null,null,null,null,null,null,null,null,null,null,null,0,null,null,null,null,null,null,null,{"$f":"IF(ISNA(VLOOKUP(AE19,Camions!$B:$F,2,0)),\"\",(VLOOKUP(AE19,Camions!$B:$F,2,0)))","v":""},null,null,null,null,null,null,null,null,null,null,null,null,{"$f":"IF(ISNA(VLOOKUP(AE19,Camions!$B:$F,4,0)),\"\",(VLOOKUP(AE19,Camions!$B:$F,4,0)))","v":""}]
[null,null,null,null,null,null,null,null,null,null,null,null,null,null,null,null,null,null,null,null,null,null,null,null,null,0,null,null,null,null,null,null,null,{"$f":"IF(ISNA(VLOOKUP(AE20,Camions!$B:$F,2,0)),\"\",(VLOOKUP(AE20,Camions!$B:$F,2,0)))","v":""},null,null,null,null,null,null,null,null,null,null,null,null,{"$f":"IF(ISNA(VLOOKUP(AE20,Camions!$B:$F,4,0)),\"\",(VLOOKUP(AE20,Camions!$B:$F,4,0)))","v":""}]
[null,null,null,null,null,null,null,null,null,null,null,null,null,null,null,null,null,null,null,null,null,null,null,null,null,0,null,null,null,null,null,null,null,{"$f":"IF(ISNA(VLOOKUP(AE21,Camions!$B:$F,2,0)),\"\",(VLOOKUP(AE21,Camions!$B:$F,2,0)))","v":""},null,null,null,null,null,null,null,null,null,null,null,null,{"$f":"IF(ISNA(VLOOKUP(AE21,Camions!$B:$F,4,0)),\"\",(VLOOKUP(AE21,Camions!$B:$F,4,0)))","v":""}]
[null,null,null,null,null,null,null,null,null,null,null,null,null,null,null,null,null,null,null,null,null,null,null,null,null,0,null,null,null,null,null,null,null,{"$f":"IF(ISNA(VLOOKUP(AE22,Camions!$B:$F,2,0)),\"\",(VLOOKUP(AE22,Camions!$B:$F,2,0)))","v":""},null,null,null,null,null,null,null,null,null,null,null,null,{"$f":"IF(ISNA(VLOOKUP(AE22,Camions!$B:$F,4,0)),\"\",(VLOOKUP(AE22,Camions!$B:$F,4,0)))","v":""}]
[null,null,null,null,null,null,null,null,null,null,null,null,null,null,null,null,null,null,null,null,null,null,null,null,null,0,null,null,null,null,null,null,null,{"$f":"IF(ISNA(VLOOKUP(AE23,Camions!$B:$F,2,0)),\"\",(VLOOKUP(AE23,Camions!$B:$F,2,0)))","v":""},null,null,null,null,null,null,null,null,null,null,null,null,{"$f":"IF(ISNA(VLOOKUP(AE23,Camions!$B:$F,4,0)),\"\",(VLOOKUP(AE23,Camions!$B:$F,4,0)))","v":""}]
[null,null,null,null,null,null,null,null,null,null,null,null,null,null,null,null,null,null,null,null,null,null,null,null,null,0,null,null,null,null,null,null,null,{"$f":"IF(ISNA(VLOOKUP(AE24,Camions!$B:$F,2,0)),\"\",(VLOOKUP(AE24,Camions!$B:$F,2,0)))","v":""},null,null,null,null,null,null,null,null,null,null,null,null,{"$f":"IF(ISNA(VLOOKUP(AE24,Camions!$B:$F,4,0)),\"\",(VLOOKUP(AE24,Camions!$B:$F,4,0)))","v":""}]
[null,null,null,null,null,null,null,null,null,null,null,null,null,null,null,null,null,null,null,null,null,null,null,null,null,0,null,null,null,null,null,null,null,{"$f":"IF(ISNA(VLOOKUP(AE25,Camions!$B:$F,2,0)),\"\",(VLOOKUP(AE25,Camions!$B:$F,2,0)))","v":""},null,null,null,null,null,null,null,null,null,null,null,null,{"$f":"IF(ISNA(VLOOKUP(AE25,Camions!$B:$F,4,0)),\"\",(VLOOKUP(AE25,Camions!$B:$F,4,0)))","v":""}]
[null,null,null,null,null,null,null,null,null,null,null,null,null,null,null,null,null,null,null,null,null,null,null,null,null,0,null,null,null,null,null,null,null,{"$f":"IF(ISNA(VLOOKUP(AE26,Camions!$B:$F,2,0)),\"\",(VLOOKUP(AE26,Camions!$B:$F,2,0)))","v":""},null,null,null,null,null,null,null,null,null,null,null,null,{"$f":"IF(ISNA(VLOOKUP(AE26,Camions!$B:$F,4,0)),\"\",(VLOOKUP(AE26,Camions!$B:$F,4,0)))","v":""}]
[null,null,null,null,null,null,null,null,null,null,null,null,null,null,null,null,null,null,null,null,null,null,null,null,null,0,null,null,null,null,null,null,null,{"$f":"IF(ISNA(VLOOKUP(AE27,Camions!$B:$F,2,0)),\"\",(VLOOKUP(AE27,Camions!$B:$F,2,0)))","v":""},null,null,null,null,null,null,null,null,null,null,null,null,{"$f":"IF(ISNA(VLOOKUP(AE27,Camions!$B:$F,4,0)),\"\",(VLOOKUP(AE27,Camions!$B:$F,4,0)))","v":""}]
[null,null,null,null,null,null,null,null,null,null,null,null,null,null,null,null,null,null,null,null,null,null,null,null,null,0,null,null,null,null,null,null,null,{"$f":"IF(ISNA(VLOOKUP(AE28,Camions!$B:$F,2,0)),\"\",(VLOOKUP(AE28,Camions!$B:$F,2,0)))","v":""},null,null,null,null,null,null,null,null,null,null,null,null,{"$f":"IF(ISNA(VLOOKUP(AE28,Camions!$B:$F,4,0)),\"\",(VLOOKUP(AE28,Camions!$B:$F,4,0)))","v":""}]
[null,null,null,null,null,null,null,null,null,null,null,null,null,null,null,null,null,null,null,null,null,null,null,null,null,0,null,null,null,null,null,null,null,{"$f":"IF(ISNA(VLOOKUP(AE29,Camions!$B:$F,2,0)),\"\",(VLOOKUP(AE29,Camions!$B:$F,2,0)))","v":""},null,null,null,null,null,null,null,null,null,null,null,null,{"$f":"IF(ISNA(VLOOKUP(AE29,Camions!$B:$F,4,0)),\"\",(VLOOKUP(AE29,Camions!$B:$F,4,0)))","v":""}]
[null,null,null,null,null,null,null,null,null,null,null,null,null,null,null,null,null,null,null,null,null,null,null,null,null,0,null,null,null,null,null,null,null,{"$f":"IF(ISNA(VLOOKUP(AE30,Camions!$B:$F,2,0)),\"\",(VLOOKUP(AE30,Camions!$B:$F,2,0)))","v":""},null,null,null,null,null,null,null,null,null,null,null,null,{"$f":"IF(ISNA(VLOOKUP(AE30,Camions!$B:$F,4,0)),\"\",(VLOOKUP(AE30,Camions!$B:$F,4,0)))","v":""}]
[null,null,null,null,null,null,null,null,null,null,null,null,null,null,null,null,null,null,null,null,null,null,null,null,null,0,null,null,null,null,null,null,null,{"$f":"IF(ISNA(VLOOKUP(AE31,Camions!$B:$F,2,0)),\"\",(VLOOKUP(AE31,Camions!$B:$F,2,0)))","v":""},null,null,null,null,null,null,null,null,null,null,null,null,{"$f":"IF(ISNA(VLOOKUP(AE31,Camions!$B:$F,4,0)),\"\",(VLOOKUP(AE31,Camions!$B:$F,4,0)))","v":""}]
[null,null,null,null,null,null,null,null,null,null,null,null,null,null,null,null,null,null,null,null,null,null,null,null,null,0,null,null,null,null,null,null,null,{"$f":"IF(ISNA(VLOOKUP(AE32,Camions!$B:$F,2,0)),\"\",(VLOOKUP(AE32,Camions!$B:$F,2,0)))","v":""},null,null,null,null,null,null,null,null,null,null,null,null,{"$f":"IF(ISNA(VLOOKUP(AE32,Camions!$B:$F,4,0)),\"\",(VLOOKUP(AE32,Camions!$B:$F,4,0)))","v":""}]
[null,null,null,null,null,null,null,null,null,null,null,null,null,null,null,null,null,null,null,null,null,null,null,null,null,0,null,null,null,null,null,null,null,{"$f":"IF(ISNA(VLOOKUP(AE33,Camions!$B:$F,2,0)),\"\",(VLOOKUP(AE33,Camions!$B:$F,2,0)))","v":""},null,null,null,null,null,null,null,null,null,null,null,null,{"$f":"IF(ISNA(VLOOKUP(AE33,Camions!$B:$F,4,0)),\"\",(VLOOKUP(AE33,Camions!$B:$F,4,0)))","v":""}]
[null,null,null,null,null,null,null,null,null,null,null,null,null,null,null,null,null,null,null,null,null,null,null,null,null,0,null,null,null,null,null,null,null,{"$f":"IF(ISNA(VLOOKUP(AE34,Camions!$B:$F,2,0)),\"\",(VLOOKUP(AE34,Camions!$B:$F,2,0)))","v":""},null,null,null,null,null,null,null,null,null,null,null,null,{"$f":"IF(ISNA(VLOOKUP(AE34,Camions!$B:$F,4,0)),\"\",(VLOOKUP(AE34,Camions!$B:$F,4,0)))","v":""}]
[null,null,null,null,null,null,null,null,null,null,null,null,null,null,null,null,null,null,null,null,null,null,null,null,null,0,null,null,null,null,null,null,null,{"$f":"IF(ISNA(VLOOKUP(AE35,Camions!$B:$F,2,0)),\"\",(VLOOKUP(AE35,Camions!$B:$F,2,0)))","v":""},null,null,null,null,null,null,null,null,null,null,null,null,{"$f":"IF(ISNA(VLOOKUP(AE35,Camions!$B:$F,4,0)),\"\",(VLOOKUP(AE35,Camions!$B:$F,4,0)))","v":""}]
[null,null,null,null,null,null,null,null,null,null,null,null,null,null,null,null,null,null,null,null,null,null,null,null,null,0,null,null,null,null,null,null,null,{"$f":"IF(ISNA(VLOOKUP(AE36,Camions!$B:$F,2,0)),\"\",(VLOOKUP(AE36,Camions!$B:$F,2,0)))","v":""},null,null,null,null,null,null,null,null,null,null,null,null,{"$f":"IF(ISNA(VLOOKUP(AE36,Camions!$B:$F,4,0)),\"\",(VLOOKUP(AE36,Camions!$B:$F,4,0)))","v":""}]
[null,null,null,null,null,null,null,null,null,null,null,null,null,null,null,null,null,null,null,null,null,null,null,null,null,0,null,null,null,null,null,null,null,{"$f":"IF(ISNA(VLOOKUP(AE37,Camions!$B:$F,2,0)),\"\",(VLOOKUP(AE37,Camions!$B:$F,2,0)))","v":""},null,null,null,null,null,null,null,null,null,null,null,null,{"$f":"IF(ISNA(VLOOKUP(AE36,Camions!$B:$F,4,0)),\"\",(VLOOKUP(AE36,Camions!$B:$F,4,0)))","v":""}]
["CHANTIER :",null,null,null,null,{"$f":"F1","v":0},null,null,null,null,null,null,null,null,null,null,null,null,null,null,"N° CHANTIER :",null,null,null,null,null,{"$f":"AA1","v":0},null,null,null,"JOUR :",null,null,null,{"$f":"AI1","v":"Vendredi"},null,null,null,null,null,null,null,null,null,null,null,null,null,null,null,null,"DATES :",null,null,{"$f":"BC1","v":"15-01-16"}]
["MATERIEL",null,null,null,null,null,null,null,null,null,null,null,null,null,null,null,null,null,null,null,null,null,null,null,null,null,null,null,null,null,"SOUS-TRAITANTS"]
["Légende :",null,null,null,null,"Pa",".= Panne",null,null,null,null,"Ent",".= Entretien"]
["N°",null,null,"Description du matériel",null,null,null,null,null,null,null,null,null,null,null,null,"Nom de l'opérateur",null,null,null,null,null,null,null,null,"Heures",null,null,null,null,"Type d'engin et description des travaux ",null,null,null,null,null,null,null,null,null,null,null,null,null,null,null,"Sous-traitants",null,null,null,null,null,null,null,null,"Heures"]
[null,null,null,{"$f":"IF(ISNA(VLOOKUP(A42,Machines!$B:$F,2,0)),\"\",(VLOOKUP(A42,Machines!$B:$F,2,0)))","v":""},null,null,null,null,null,null,null,null,null,null,null,null,{"$f":"IF(ISNA(VLOOKUP(A42,Machines!$B:$F,4,0)),\"\",(VLOOKUP(A42,Machines!$B:$F,4,0)))","v":""}]
[null,null,null,{"$f":"IF(ISNA(VLOOKUP(A43,Machines!$B:$F,2,0)),\"\",(VLOOKUP(A43,Machines!$B:$F,2,0)))","v":""},null,null,null,null,null,null,null,null,null,null,null,null,{"$f":"IF(ISNA(VLOOKUP(A43,Machines!$B:$F,4,0)),\"\",(VLOOKUP(A43,Machines!$B:$F,4,0)))","v":""}]
[null,null,null,{"$f":"IF(ISNA(VLOOKUP(A44,Machines!$B:$F,2,0)),\"\",(VLOOKUP(A44,Machines!$B:$F,2,0)))","v":""},null,null,null,null,null,null,null,null,null,null,null,null,{"$f":"IF(ISNA(VLOOKUP(A44,Machines!$B:$F,4,0)),\"\",(VLOOKUP(A44,Machines!$B:$F,4,0)))","v":""}]
[null,null,null,{"$f":"IF(ISNA(VLOOKUP(A45,Machines!$B:$F,2,0)),\"\",(VLOOKUP(A45,Machines!$B:$F,2,0)))","v":""},null,null,null,null,null,null,null,null,null,null,null,null,{"$f":"IF(ISNA(VLOOKUP(A45,Machines!$B:$F,4,0)),\"\",(VLOOKUP(A45,Machines!$B:$F,4,0)))","v":""}]
[null,null,null,{"$f":"IF(ISNA(VLOOKUP(A46,Machines!$B:$F,2,0)),\"\",(VLOOKUP(A46,Machines!$B:$F,2,0)))","v":""},null,null,null,null,null,null,null,null,null,null,null,null,{"$f":"IF(ISNA(VLOOKUP(A46,Machines!$B:$F,4,0)),\"\",(VLOOKUP(A46,Machines!$B:$F,4,0)))","v":""}]
[null,null,null,{"$f":"IF(ISNA(VLOOKUP(A47,Machines!$B:$F,2,0)),\"\",(VLOOKUP(A47,Machines!$B:$F,2,0)))","v":""},null,null,null,null,null,null,null,null,null,null,null,null,{"$f":"IF(ISNA(VLOOKUP(A47,Machines!$B:$F,4,0)),\"\",(VLOOKUP(A47,Machines!$B:$F,4,0)))","v":""}]
[null,null,null,{"$f":"IF(ISNA(VLOOKUP(A48,Machines!$B:$F,2,0)),\"\",(VLOOKUP(A48,Machines!$B:$F,2,0)))","v":""},null,null,null,null,null,null,null,null,null,null,null,null,{"$f":"IF(ISNA(VLOOKUP(A48,Machines!$B:$F,4,0)),\"\",(VLOOKUP(A48,Machines!$B:$F,4,0)))","v":""}]
[null,null,null,{"$f":"IF(ISNA(VLOOKUP(A49,Machines!$B:$F,2,0)),\"\",(VLOOKUP(A49,Machines!$B:$F,2,0)))","v":""},null,null,null,null,null,null,null,null,null,null,null,null,{"$f":"IF(ISNA(VLOOKUP(A49,Machines!$B:$F,4,0)),\"\",(VLOOKUP(A49,Machines!$B:$F,4,0)))","v":""}]
[null,null,null,{"$f":"IF(ISNA(VLOOKUP(A50,Machines!$B:$F,2,0)),\"\",(VLOOKUP(A50,Machines!$B:$F,2,0)))","v":""},null,null,null,null,null,null,null,null,null,null,null,null,{"$f":"IF(ISNA(VLOOKUP(A50,Machines!$B:$F,4,0)),\"\",(VLOOKUP(A50,Machines!$B:$F,4,0)))","v":""}]
[null,null,null,{"$f":"IF(ISNA(VLOOKUP(A51,Machines!$B:$F,2,0)),\"\",(VLOOKUP(A51,Machines!$B:$F,2,0)))","v":""},null,null,null,null,null,null,null,null,null,null,null,null,{"$f":"IF(ISNA(VLOOKUP(A51,Machines!$B:$F,4,0)),\"\",(VLOOKUP(A51,Machines!$B:$F,4,0)))","v":""}]
[null,null,null,{"$f":"IF(ISNA(VLOOKUP(A52,Machines!$B:$F,2,0)),\"\",(VLOOKUP(A52,Machines!$B:$F,2,0)))","v":""},null,null,null,null,null,null,null,null,null,null,null,null,{"$f":"IF(ISNA(VLOOKUP(A52,Machines!$B:$F,4,0)),\"\",(VLOOKUP(A52,Machines!$B:$F,4,0)))","v":""}]
[null,null,null,{"$f":"IF(ISNA(VLOOKUP(A53,Machines!$B:$F,2,0)),\"\",(VLOOKUP(A53,Machines!$B:$F,2,0)))","v":""},null,null,null,null,null,null,null,null,null,null,null,null,{"$f":"IF(ISNA(VLOOKUP(A53,Machines!$B:$F,4,0)),\"\",(VLOOKUP(A53,Machines!$B:$F,4,0)))","v":""}]
[null,null,null,{"$f":"IF(ISNA(VLOOKUP(A54,Machines!$B:$F,2,0)),\"\",(VLOOKUP(A54,Machines!$B:$F,2,0)))","v":""},null,null,null,null,null,null,null,null,null,null,null,null,{"$f":"IF(ISNA(VLOOKUP(A54,Machines!$B:$F,4,0)),\"\",(VLOOKUP(A54,Machines!$B:$F,4,0)))","v":""}]
[null,null,null,{"$f":"IF(ISNA(VLOOKUP(A55,Machines!$B:$F,2,0)),\"\",(VLOOKUP(A55,Machines!$B:$F,2,0)))","v":""},null,null,null,null,null,null,null,null,null,null,null,null,{"$f":"IF(ISNA(VLOOKUP(A55,Machines!$B:$F,4,0)),\"\",(VLOOKUP(A55,Machines!$B:$F,4,0)))","v":""}]
[null,null,null,{"$f":"IF(ISNA(VLOOKUP(A56,Machines!$B:$F,2,0)),\"\",(VLOOKUP(A56,Machines!$B:$F,2,0)))","v":""},null,null,null,null,null,null,null,null,null,null,null,null,{"$f":"IF(ISNA(VLOOKUP(A56,Machines!$B:$F,4,0)),\"\",(VLOOKUP(A56,Machines!$B:$F,4,0)))","v":""}]
[null,null,null,{"$f":"IF(ISNA(VLOOKUP(A57,Machines!$B:$F,2,0)),\"\",(VLOOKUP(A57,Machines!$B:$F,2,0)))","v":""},null,null,null,null,null,null,null,null,null,null,null,null,{"$f":"IF(ISNA(VLOOKUP(A57,Machines!$B:$F,4,0)),\"\",(VLOOKUP(A57,Machines!$B:$F,4,0)))","v":""}]
[null,null,null,{"$f":"IF(ISNA(VLOOKUP(A58,Machines!$B:$F,2,0)),\"\",(VLOOKUP(A58,Machines!$B:$F,2,0)))","v":""},null,null,null,null,null,null,null,null,null,null,null,null,{"$f":"IF(ISNA(VLOOKUP(A58,Machines!$B:$F,4,0)),\"\",(VLOOKUP(A58,Machines!$B:$F,4,0)))","v":""}]
[null,null,null,{"$f":"IF(ISNA(VLOOKUP(A59,Machines!$B:$F,2,0)),\"\",(VLOOKUP(A59,Machines!$B:$F,2,0)))","v":""},null,null,null,null,null,null,null,null,null,null,null,null,{"$f":"IF(ISNA(VLOOKUP(A59,Machines!$B:$F,4,0)),\"\",(VLOOKUP(A59,Machines!$B:$F,4,0)))","v":""}]
[null,null,null,{"$f":"IF(ISNA(VLOOKUP(A60,Machines!$B:$F,2,0)),\"\",(VLOOKUP(A60,Machines!$B:$F,2,0)))","v":""},null,null,null,null,null,null,null,null,null,null,null,null,{"$f":"IF(ISNA(VLOOKUP(A60,Machines!$B:$F,4,0)),\"\",(VLOOKUP(A60,Machines!$B:$F,4,0)))","v":""}]
[null,null,null,{"$f":"IF(ISNA(VLOOKUP(A61,Machines!$B:$F,2,0)),\"\",(VLOOKUP(A61,Machines!$B:$F,2,0)))","v":""},null,null,null,null,null,null,null,null,null,null,null,null,{"$f":"IF(ISNA(VLOOKUP(A61,Machines!$B:$F,4,0)),\"\",(VLOOKUP(A61,Machines!$B:$F,4,0)))","v":""}]
[null,null,null,{"$f":"IF(ISNA(VLOOKUP(A62,Machines!$B:$F,2,0)),\"\",(VLOOKUP(A62,Machines!$B:$F,2,0)))","v":""},null,null,null,null,null,null,null,null,null,null,null,null,{"$f":"IF(ISNA(VLOOKUP(A62,Machines!$B:$F,4,0)),\"\",(VLOOKUP(A62,Machines!$B:$F,4,0)))","v":""}]
[null,null,null,{"$f":"IF(ISNA(VLOOKUP(A63,Machines!$B:$F,2,0)),\"\",(VLOOKUP(A63,Machines!$B:$F,2,0)))","v":""},null,null,null,null,null,null,null,null,null,null,null,null,{"$f":"IF(ISNA(VLOOKUP(A63,Machines!$B:$F,4,0)),\"\",(VLOOKUP(A63,Machines!$B:$F,4,0)))","v":""}]
[null,null,null,{"$f":"IF(ISNA(VLOOKUP(A64,Machines!$B:$F,2,0)),\"\",(VLOOKUP(A64,Machines!$B:$F,2,0)))","v":""},null,null,null,null,null,null,null,null,null,null,null,null,{"$f":"IF(ISNA(VLOOKUP(A64,Machines!$B:$F,4,0)),\"\",(VLOOKUP(A64,Machines!$B:$F,4,0)))","v":""}]
[null,null,null,{"$f":"IF(ISNA(VLOOKUP(A65,Machines!$B:$F,2,0)),\"\",(VLOOKUP(A65,Machines!$B:$F,2,0)))","v":""},null,null,null,null,null,null,null,null,null,null,null,null,{"$f":"IF(ISNA(VLOOKUP(A65,Machines!$B:$F,4,0)),\"\",(VLOOKUP(A65,Machines!$B:$F,4,0)))","v":""}]
[null,null,null,{"$f":"IF(ISNA(VLOOKUP(A66,Machines!$B:$F,2,0)),\"\",(VLOOKUP(A66,Machines!$B:$F,2,0)))","v":""},null,null,null,null,null,null,null,null,null,null,null,null,{"$f":"IF(ISNA(VLOOKUP(A66,Machines!$B:$F,4,0)),\"\",(VLOOKUP(A66,Machines!$B:$F,4,0)))","v":""}]
[null,null,null,{"$f":"IF(ISNA(VLOOKUP(A67,Machines!$B:$F,2,0)),\"\",(VLOOKUP(A67,Machines!$B:$F,2,0)))","v":""},null,null,null,null,null,null,null,null,null,null,null,null,{"$f":"IF(ISNA(VLOOKUP(A67,Machines!$B:$F,4,0)),\"\",(VLOOKUP(A67,Machines!$B:$F,4,0)))","v":""}]
[null,null,null,{"$f":"IF(ISNA(VLOOKUP(A68,Machines!$B:$F,2,0)),\"\",(VLOOKUP(A68,Machines!$B:$F,2,0)))","v":""},null,null,null,null,null,null,null,null,null,null,null,null,{"$f":"IF(ISNA(VLOOKUP(A68,Machines!$B:$F,4,0)),\"\",(VLOOKUP(A68,Machines!$B:$F,4,0)))","v":""}]
[null,null,null,{"$f":"IF(ISNA(VLOOKUP(A69,Machines!$B:$F,2,0)),\"\",(VLOOKUP(A69,Machines!$B:$F,2,0)))","v":""},null,null,null,null,null,null,null,null,null,null,null,null,{"$f":"IF(ISNA(VLOOKUP(A69,Machines!$B:$F,4,0)),\"\",(VLOOKUP(A69,Machines!$B:$F,4,0)))","v":""}]
[null,null,null,{"$f":"IF(ISNA(VLOOKUP(A70,Machines!$B:$F,2,0)),\"\",(VLOOKUP(A70,Machines!$B:$F,2,0)))","v":""},null,null,null,null,null,null,null,null,null,null,null,null,{"$f":"IF(ISNA(VLOOKUP(A70,Machines!$B:$F,4,0)),\"\",(VLOOKUP(A70,Machines!$B:$F,4,0)))","v":""}]
[null,null,null,{"$f":"IF(ISNA(VLOOKUP(A71,Machines!$B:$F,2,0)),\"\",(VLOOKUP(A71,Machines!$B:$F,2,0)))","v":""},null,null,null,null,null,null,null,null,null,null,null,null,{"$f":"IF(ISNA(VLOOKUP(A71,Machines!$B:$F,4,0)),\"\",(VLOOKUP(A71,Machines!$B:$F,4,0)))","v":""}]
[null,null,null,{"$f":"IF(ISNA(VLOOKUP(A72,Machines!$B:$F,2,0)),\"\",(VLOOKUP(A72,Machines!$B:$F,2,0)))","v":""},null,null,null,null,null,null,null,null,null,null,null,null,{"$f":"IF(ISNA(VLOOKUP(A72,Machines!$B:$F,4,0)),\"\",(VLOOKUP(A72,Machines!$B:$F,4,0)))","v":""}]
[null,null,null,{"$f":"IF(ISNA(VLOOKUP(A73,Machines!$B:$F,2,0)),\"\",(VLOOKUP(A73,Machines!$B:$F,2,0)))","v":""},null,null,null,null,null,null,null,null,null,null,null,null,{"$f":"IF(ISNA(VLOOKUP(A73,Machines!$B:$F,4,0)),\"\",(VLOOKUP(A73,Machines!$B:$F,4,0)))","v":""}]
[null,null,null,{"$f":"IF(ISNA(VLOOKUP(A74,Machines!$B:$F,2,0)),\"\",(VLOOKUP(A74,Machines!$B:$F,2,0)))","v":""},null,null,null,null,null,null,null,null,null,null,null,null,{"$f":"IF(ISNA(VLOOKUP(A74,Machines!$B:$F,4,0)),\"\",(VLOOKUP(A74,Machines!$B:$F,4,0)))","v":""}]
["CHANTIER :",null,null,null,null,{"$f":"F1","v":0},null,null,null,null,null,null,null,null,null,null,null,null,null,null,"N° CHANTIER :",null,null,null,null,null,{"$f":"AA1","v":0},null,null,null,"JOUR :",null,null,null,{"$f":"AI1","v":"Vendredi"},null,null,null,null,null,null,null,null,null,null,null,null,null,null,null,null,"DATES :",null,null,{"$f":"BC1","v":"15-01-16"}]
["MATERIAUX"]
[null,null,null,"Fournisseurs",null,null,null,null,null,null,null,null,null,null,null,null,null,null,"Description des fournitures & matériaux",null,null,null,null,null,null,null,null,null,null,null,null,null,null,null,null,null,null,null,null,null,null,null,null,null,null,null,null,null,null,"Qt totales",null,null,null,"U.",null,"Prix"]
[]
[]
[]
[]
[]
[]
[]
[]
[]
[]
[]
[]
[]
[]
[]
[]
[]
[]
[]
[]
[]
[]
[]
[]
[]
[]
[]
[]
[]
[]
[]
[null,null,null,"RESPONSABLE",null,null,null,null,null,null,null,null,"SIGNATURE",null,null,null,null,null,"DESCRIPTION DES TRAVAUX REALISES CE JOUR",null,null,null,null,null,null,null,null,null,null,null,null,null,null,null,null,null,null,null,null,null,null,null,null,null,null,null,null,null,null,"METEO"]
[null,null,null,"JENNES Loïc"]

{"sheet":"16-01-16","index":22,"n_rows":110,"n_cols":56,"rows_kept":110,"cut":false,"hidden":false,"merged":[[72,0,72,2],[72,3,72,15],[72,16,72,24],[72,25,72,28],[72,30,72,45],[72,46,72,54],[72,55,72,58],[73,0,73,2],[73,3,73,15],[73,16,73,24],[73,25,73,28],[73,30,73,45],[73,46,73,54],[73,55,73,58],[70,0,70,2],[70,3,70,15],[70,16,70,24],[70,25,70,28],[70,30,70,45],[70,46,70,54],[70,55,70,58],[71,0,71,2],[71,3,71,15],[71,16,71,24],[71,25,71,28],[71,30,71,45],[71,46,71,54],[71,55,71,58],[67,0,67,2],[67,3,67,15],[67,16,67,24],[67,25,67,28],[67,30,67,45],[67,46,67,54],[67,55,67,58],[69,0,69,2],[69,3,69,15],[69,16,69,24],[69,25,69,28],[69,30,69,45],[69,46,69,54],[69,55,69,58],[68,0,68,2],[68,3,68,15],[68,16,68,24],[68,25,68,28],[68,30,68,45],[68,46,68,54],[68,55,68,58],[65,0,65,2],[65,3,65,15],[65,16,65,24],[65,25,65,28],[65,30,65,45],[65,46,65,54],[65,55,65,58],[66,0,66,2],[66,3,66,15],[66,16,66,24],[66,25,66,28],[66,30,66,45],[66,46,66,54],[66,55,66,58],[63,0,63,2],[63,3,63,15],[63,16,63,24],[63,25,63,28],[63,30,63,45],[63,46,63,54],[63,55,63,58],[64,0,64,2],[64,3,64,15],[64,16,64,24],[64,25,64,28],[64,30,64,45],[64,46,64,54],[64,55,64,58],[61,0,61,2],[61,3,61,15],[61,16,61,24],[61,25,61,28],[61,30,61,45],[61,46,61,54],[61,55,61,58],[62,0,62,2],[62,3,62,15],[62,16,62,24],[62,25,62,28],[62,30,62,45],[62,46,62,54],[62,55,62,58],[59,0,59,2],[59,3,59,15],[59,16,59,24],[59,25,59,28],[59,30,59,45],[59,46,59,54],[59,55,59,58],[60,0,60,2],[60,3,60,15],[60,16,60,24],[60,25,60,28],[60,30,60,45],[60,46,60,54],[60,55,60,58],[57,0,57,2],[57,3,57,15],[57,16,57,24],[57,25,57,28],[57,30,57,45],[57,46,57,54],[57,55,57,58],[58,0,58,2],[58,3,58,15],[58,16,58,24],[58,25,58,28],[58,30,58,45],[58,46,58,54],[58,55,58,58],[55,0,55,2],[55,3,55,15],[55,16,55,24],[55,25,55,28],[55,30,55,45],[55,46,55,54],[55,55,55,58],[56,0,56,2],[56,3,56,15],[56,16,56,24],[56,25,56,28],[56,30,56,45],[56,46,56,54],[56,55,56,58],[53,0,53,2],[53,3,53,15],[53,16,53,24],[53,25,53,28],[53,30,53,45],[53,46,53,54],[53,55,53,58],[54,0,54,2],[54,3,54,15],[54,16,54,24],[54,25,54,28],[54,30,54,45],[54,46,54,54],[54,55,54,58],[51,0,51,2],[51,3,51,15],[51,16,51,24],[51,25,51,28],[51,30,51,45],[51,46,51,54],[51,55,51,58],[52,0,52,2],[52,3,52,15],[52,16,52,24],[52,25,52,28],[52,30,52,45],[52,46,52,54],[52,55,52,58],[49,0,49,2],[49,3,49,15],[49,16,49,24],[49,25,49,28],[49,30,49,45],[49,46,49,54],[49,55,49,58],[50,0,50,2],[50,3,50,15],[50,16,50,24],[50,25,50,28],[50,30,50,45],[50,46,50,54],[50,55,50,58],[47,0,47,2],[47,3,47,15],[47,16,47,24],[47,25,47,28],[47,30,47,45],[47,46,47,54],[47,55,47,58],[48,0,48,2],[48,3,48,15],[48,16,48,24],[48,25,48,28],[48,30,48,45],[48,46,48,54],[48,55,48,58],[45,0,45,2],[45,3,45,15],[45,16,45,24],[45,25,45,28],[45,30,45,45],[45,46,45,54],[45,55,45,58],[46,0,46,2],[46,3,46,15],[46,16,46,24],[46,25,46,28],[46,30,46,45],[46,46,46,54],[46,55,46,58],[43,0,43,2],[43,3,43,15],[43,16,43,24],[43,25,43,28],[43,30,43,45],[43,46,43,54],[43,55,43,58],[44,0,44,2],[44,3,44,15],[44,16,44,24],[44,25,44,28],[44,30,44,45],[44,46,44,54],[44,55,44,58],[41,25,41,28],[41,30,41,45],[41,46,41,54],[41,55,41,58],[42,0,42,2],[42,3,42,15],[42,16,42,24],[42,25,42,28],[42,30,42,45],[42,46,42,54],[42,55,42,58],[37,0,37,4],[37,5,37,19],[37,20,37,25],[37,26,37,28],[37,30,37,32],[37,34,37,47],[37,51,37,53],[37,54,37,58],[38,0,38,28],[38,29,73,29],[38,30,38,58],[39,0,39,4],[39,6,39,9],[39,12,39,15],[40,0,40,2],[40,3,40,15],[40,16,40,24],[40,25,40,28],[40,30,40,45],[40,46,40,54],[40,55,40,58],[41,0,41,2],[41,3,41,15],[41,16,41,24],[36,0,36,15],[36,16,36,18],[36,19,36,21],[36,22,36,24],[36,25,36,28],[36,30,36,32],[36,33,36,45],[36,46,36,54],[36,55,36,58],[35,0,35,15],[35,16,35,18],[35,19,35,21],[35,22,35,24],[35,25,35,28],[35,30,35,32],[35,33,35,45],[35,46,35,54],[35,55,35,58],[34,0,34,15],[34,16,34,18],[34,19,34,21],[34,22,34,24],[34,25,34,28],[34,30,34,32],[34,33,34,45],[34,46,34,54],[34,55,34,58],[33,0,33,15],[33,16,33,18],[33,19,33,21],[33,22,33,24],[33,25,33,28],[33,30,33,32],[33,33,33,45],[33,46,33,54],[33,55,33,58],[32,0,32,15],[32,16,32,18],[32,19,32,21],[32,22,32,24],[32,25,32,28],[32,30,32,32],[32,33,32,45],[32,46,32,54],[32,55,32,58],[31,0,31,15],[31,16,31,18],[31,19,31,21],[31,22,31,24],[31,25,31,28],[31,30,31,32],[31,33,31,45],[31,46,31,54],[31,55,31,58],[30,0,30,15],[30,16,30,18],[30,19,30,21],[30,22,30,24],[30,25,30,28],[30,30,30,32],[30,33,30,45],[30,46,30,54],[30,55,30,58],[29,0,29,15],[29,16,29,18],[29,19,29,21],[29,22,29,24],[29,25,29,28],[29,30,29,32],[29,33,29,45],[29,46,29,54],[29,55,29,58],[28,0,28,15],[28,16,28,18],[28,19,28,21],[28,22,28,24],[28,25,28,28],[28,30,28,32],[28,33,28,45],[28,46,28,54],[28,55,28,58],[27,0,27,15],[27,16,27,18],[27,19,27,21],[27,22,27,24],[27,25,27,28],[27,30,27,32],[27,33,27,45],[27,46,27,54],[27,55,27,58],[26,0,26,15],[26,16,26,18],[26,19,26,21],[26,22,26,24],[26,25,26,28],[26,30,26,32],[26,33,26,45],[26,46,26,54],[26,55,26,58],[25,0,25,15],[25,16,25,18],[25,19,25,21],[25,22,25,24],[25,25,25,28],[25,30,25,32],[25,33,25,45],[25,46,25,54],[25,55,25,58],[24,0,24,15],[24,16,24,18],[24,19,24,21],[24,22,24,24],[24,25,24,28],[24,30,24,32],[24,33,24,45],[24,46,24,54],[24,55,24,58],[23,0,23,15],[23,16,23,18],[23,19,23,21],[23,22,23,24],[23,25,23,28],[23,30,23,32],[23,33,23,45],[23,46,23,54],[23,55,23,58],[22,0,22,15],[22,16,22,18],[22,19,22,21],[22,22,22,24],[22,25,22,28],[22,30,22,32],[22,33,22,45],[22,46,22,54],[22,55,22,58],[21,0,21,15],[21,16,21,18],[21,19,21,21],[21,22,21,24],[21,25,21,28],[21,30,21,32],[21,33,21,45],[21,46,21,54],[21,55,21,58],[20,0,20,15],[20,16,20,18],[20,19,20,21],[20,22,20,24],[20,25,20,28],[20,30,20,32],[20,33,20,45],[20,46,20,54],[20,55,20,58],[19,0,19,15],[19,16,19,18],[19,19,19,21],[19,22,19,24],[19,25,19,28],[19,30,19,32],[19,33,19,45],[19,46,19,54],[19,55,19,58],[18,0,18,15],[18,16,18,18],[18,19,18,21],[18,22,18,24],[18,25,18,28],[18,30,18,32],[18,33,18,45],[18,46,18,54],[18,55,18,58],[17,0,17,15],[17,16,17,18],[17,19,17,21],[17,22,17,24],[17,25,17,28],[17,30,17,32],[17,33,17,45],[17,46,17,54],[17,55,17,58],[16,0,16,15],[16,16,16,18],[16,19,16,21],[16,22,16,24],[16,25,16,28],[16,30,16,32],[16,33,16,45],[16,46,16,54],[16,55,16,58],[15,0,15,15],[15,16,15,18],[15,19,15,21],[15,22,15,24],[15,25,15,28],[15,30,15,32],[15,33,15,45],[15,46,15,54],[15,55,15,58],[14,0,14,15],[14,16,14,18],[14,19,14,21],[14,22,14,24],[14,25,14,28],[14,30,14,32],[14,33,14,45],[14,46,14,54],[14,55,14,58],[13,0,13,15],[13,16,13,18],[13,19,13,21],[13,22,13,24],[13,25,13,28],[13,30,13,32],[13,33,13,45],[13,46,13,54],[13,55,13,58],[12,0,12,15],[12,16,12,18],[12,19,12,21],[12,22,12,24],[12,25,12,28],[12,30,12,32],[12,33,12,45],[12,46,12,54],[12,55,12,58],[11,0,11,15],[11,16,11,18],[11,19,11,21],[11,22,11,24],[11,25,11,28],[11,30,11,32],[11,33,11,45],[11,46,11,54],[11,55,11,58],[10,0,10,15],[10,16,10,18],[10,19,10,21],[10,22,10,24],[10,25,10,28],[10,30,10,32],[10,33,10,45],[10,46,10,54],[10,55,10,58],[9,0,9,15],[9,16,9,18],[9,19,9,21],[9,22,9,24],[9,25,9,28],[9,30,9,32],[9,33,9,45],[9,46,9,54],[9,55,9,58],[8,0,8,15],[8,16,8,18],[8,19,8,21],[8,22,8,24],[8,25,8,28],[8,30,8,32],[8,33,8,45],[8,46,8,54],[8,55,8,58],[7,0,7,15],[7,16,7,18],[7,19,7,21],[7,22,7,24],[7,25,7,28],[7,30,7,32],[7,33,7,45],[7,46,7,54],[7,55,7,58],[6,0,6,15],[6,16,6,18],[6,19,6,21],[6,22,6,24],[6,25,6,28],[6,30,6,32],[6,33,6,45],[6,46,6,54],[6,55,6,58],[5,0,5,15],[5,16,5,18],[5,19,5,21],[5,22,5,24],[5,25,5,28],[5,30,5,32],[5,33,5,45],[5,46,5,54],[5,55,5,58],[3,30,3,32],[3,33,3,45],[3,46,3,54],[3,55,3,58],[4,0,4,15],[4,16,4,18],[4,19,4,21],[4,22,4,24],[4,25,4,28],[4,30,4,32],[4,33,4,45],[4,46,4,54],[4,55,4,58],[0,0,0,4],[0,5,0,19],[0,20,0,25],[0,26,0,28],[0,30,0,32],[0,34,0,47],[0,51,0,53],[0,54,0,58],[1,0,1,28],[1,29,36,29],[1,30,1,58],[2,0,2,4],[2,7,2,10],[2,13,2,16],[2,19,2,22],[2,25,2,28],[2,30,2,34],[2,36,2,39],[2,42,2,45],[3,0,3,15],[3,16,3,18],[3,19,3,21],[3,22,3,24],[3,25,3,28],[109,18,109,48],[111,18,111,48],[108,18,108,48],[108,3,108,11],[108,12,108,17],[109,3,111,11],[109,12,111,17],[108,49,108,58],[109,49,111,58],[110,18,110,48],[107,3,107,17],[107,18,107,48],[103,3,103,17],[103,18,103,48],[104,3,104,17],[104,18,104,48],[105,3,105,17],[105,18,105,48],[106,3,106,17],[106,18,106,48],[102,3,102,17],[102,18,102,48],[99,3,99,17],[99,18,99,48],[100,3,100,17],[100,18,100,48],[101,49,101,52],[101,53,101,54],[101,55,101,58],[102,49,102,52],[102,53,102,54],[102,55,102,58],[99,55,99,58],[100,49,100,52],[100,53,100,54],[100,55,100,58],[95,53,95,54],[95,55,95,58],[96,49,96,52],[96,53,96,54],[96,55,96,58],[97,49,97,52],[97,53,97,54],[101,3,101,17],[101,18,101,48],[97,3,97,17],[97,18,97,48],[98,3,98,17],[98,18,98,48],[95,3,95,17],[95,18,95,48],[96,3,96,17],[96,18,96,48],[95,49,95,52],[97,55,97,58],[98,49,98,52],[98,53,98,54],[98,55,98,58],[99,49,99,52],[99,53,99,54],[94,3,94,17],[94,18,94,48],[91,3,91,17],[91,18,91,48],[92,3,92,17],[92,18,92,48],[93,49,93,52],[93,53,93,54],[93,55,93,58],[94,49,94,52],[94,53,94,54],[94,55,94,58],[91,55,91,58],[92,49,92,52],[92,53,92,54],[92,55,92,58],[87,53,87,54],[87,55,87,58],[88,49,88,52],[88,53,88,54],[88,55,88,58],[89,49,89,52],[89,53,89,54],[93,3,93,17],[93,18,93,48],[89,3,89,17],[89,18,89,48],[90,3,90,17],[90,18,90,48],[87,3,87,17],[87,18,87,48],[88,3,88,17],[88,18,88,48],[87,49,87,52],[89,55,89,58],[90,49,90,52],[90,53,90,54],[90,55,90,58],[91,49,91,52],[91,53,91,54],[86,3,86,17],[86,18,86,48],[83,3,83,17],[83,18,83,48],[84,3,84,17],[84,18,84,48],[85,49,85,52],[85,53,85,54],[85,55,85,58],[86,49,86,52],[86,53,86,54],[86,55,86,58],[83,55,83,58],[84,49,84,52],[84,53,84,54],[84,55,84,58],[79,53,79,54],[79,55,79,58],[80,49,80,52],[80,53,80,54],[80,55,80,58],[81,49,81,52],[81,53,81,54],[85,3,85,17],[85,18,85,48],[81,3,81,17],[81,18,81,48],[82,3,82,17],[82,18,82,48],[79,3,79,17],[79,18,79,48],[80,3,80,17],[80,18,80,48],[79,49,79,52],[81,55,81,58],[82,49,82,52],[82,53,82,54],[82,55,82,58],[83,49,83,52],[83,53,83,54],[74,54,74,58],[75,0,75,58],[76,49,76,52],[76,53,76,54],[76,55,76,58],[77,3,77,17],[77,18,77,48],[78,3,78,17],[78,18,78,48],[77,49,77,52],[77,53,77,54],[77,55,77,58],[78,49,78,52],[78,53,78,54],[78,55,78,58],[76,3,76,17],[76,18,76,48],[74,0,74,4],[74,5,74,19],[74,20,74,25],[74,26,74,28],[74,30,74,32],[74,34,74,47],[74,51,74,53],[106,49,106,52],[106,53,106,54],[106,55,106,58],[107,49,107,52],[107,53,107,54],[107,55,107,58],[103,49,103,52],[103,53,103,54],[103,55,103,58],[104,49,104,52],[104,53,104,54],[104,55,104,58],[105,49,105,52],[105,53,105,54],[105,55,105,58]]}
["CHANTIER :",null,null,null,null,{"$f":"'01-01-16'!F1","v":0},null,null,null,null,null,null,null,null,null,null,null,null,null,null,"N° CHANTIER :",null,null,null,null,null,{"$f":"'01-01-16'!AA1","v":0},null,null,null,"JOUR :",null,null,null,{"$f":" CHOOSE(WEEKDAY(BC1,2),\"Lundi\",\"Mardi\",\"Mercredi\",\"Jeudi\",\"Vendredi\",\"Samedi\",\"Dimanche\")","v":"Samedi"},null,null,null,null,null,null,null,null,null,null,null,null,null,null,null,null,"DATES :",null,null,{"$f":"MID(CELL(\"nomfichier\",A1),FIND(\"]\",CELL(\"nomfichier\",A1),1)+1,30)","v":"16-01-16"}]
["MAIN D'ŒUVRE",null,null,null,null,null,null,null,null,null,null,null,null,null,null,null,null,null,null,null,null,null,null,null,null,null,null,null,null,null,"CAMIONS"]
["Légende :",null,null,null,null,null,"Co",".= Congé",null,null,null,null,"M",".= Malade",null,null,null,null,"Cho",".= Chômage",null,null,null,null,"Va",".= Vacance",null,null,null,null,"Légende :",null,null,null,null,"Pa",".= Panne",null,null,null,null,"Ent",".= Entretien"]
["NOM - Prénom du travailleur",null,null,null,null,null,null,null,null,null,null,null,null,null,null,null,"Début journée",null,null,"Arrêt repas",null,null,"Fin journée",null,null,"Heures prestées",null,null,null,null,"N°",null,null,"Description du matériel",null,null,null,null,null,null,null,null,null,null,null,null,"Nom de l'opérateur",null,null,null,null,null,null,null,null,"Heures"]
[null,null,null,null,null,null,null,null,null,null,null,null,null,null,null,null,null,null,null,null,null,null,null,null,null,{"$f":"W5-Q5-T5","v":0},null,null,null,null,null,null,null,{"$f":"IF(ISNA(VLOOKUP(AE5,Camions!$B:$F,2,0)),\"\",(VLOOKUP(AE5,Camions!$B:$F,2,0)))","v":""},null,null,null,null,null,null,null,null,null,null,null,null,{"$f":"IF(ISNA(VLOOKUP(AE5,Camions!$B:$F,4,0)),\"\",(VLOOKUP(AE5,Camions!$B:$F,4,0)))","v":""}]
[null,null,null,null,null,null,null,null,null,null,null,null,null,null,null,null,null,null,null,null,null,null,null,null,null,{"$f":"W6-Q6-T6","v":0},null,null,null,null,null,null,null,{"$f":"IF(ISNA(VLOOKUP(AE6,Camions!$B:$F,2,0)),\"\",(VLOOKUP(AE6,Camions!$B:$F,2,0)))","v":""},null,null,null,null,null,null,null,null,null,null,null,null,{"$f":"IF(ISNA(VLOOKUP(AE6,Camions!$B:$F,4,0)),\"\",(VLOOKUP(AE6,Camions!$B:$F,4,0)))","v":""}]
[null,null,null,null,null,null,null,null,null,null,null,null,null,null,null,null,null,null,null,null,null,null,null,null,null,0,null,null,null,null,null,null,null,{"$f":"IF(ISNA(VLOOKUP(AE7,Camions!$B:$F,2,0)),\"\",(VLOOKUP(AE7,Camions!$B:$F,2,0)))","v":""},null,null,null,null,null,null,null,null,null,null,null,null,{"$f":"IF(ISNA(VLOOKUP(AE7,Camions!$B:$F,4,0)),\"\",(VLOOKUP(AE7,Camions!$B:$F,4,0)))","v":""}]
[null,null,null,null,null,null,null,null,null,null,null,null,null,null,null,null,null,null,null,null,null,null,null,null,null,0,null,null,null,null,null,null,null,{"$f":"IF(ISNA(VLOOKUP(AE8,Camions!$B:$F,2,0)),\"\",(VLOOKUP(AE8,Camions!$B:$F,2,0)))","v":""},null,null,null,null,null,null,null,null,null,null,null,null,{"$f":"IF(ISNA(VLOOKUP(AE8,Camions!$B:$F,4,0)),\"\",(VLOOKUP(AE8,Camions!$B:$F,4,0)))","v":""}]
[null,null,null,null,null,null,null,null,null,null,null,null,null,null,null,null,null,null,null,null,null,null,null,null,null,0,null,null,null,null,null,null,null,{"$f":"IF(ISNA(VLOOKUP(AE9,Camions!$B:$F,2,0)),\"\",(VLOOKUP(AE9,Camions!$B:$F,2,0)))","v":""},null,null,null,null,null,null,null,null,null,null,null,null,{"$f":"IF(ISNA(VLOOKUP(AE9,Camions!$B:$F,4,0)),\"\",(VLOOKUP(AE9,Camions!$B:$F,4,0)))","v":""}]
[null,null,null,null,null,null,null,null,null,null,null,null,null,null,null,null,null,null,null,null,null,null,null,null,null,0,null,null,null,null,null,null,null,{"$f":"IF(ISNA(VLOOKUP(AE10,Camions!$B:$F,2,0)),\"\",(VLOOKUP(AE10,Camions!$B:$F,2,0)))","v":""},null,null,null,null,null,null,null,null,null,null,null,null,{"$f":"IF(ISNA(VLOOKUP(AE10,Camions!$B:$F,4,0)),\"\",(VLOOKUP(AE10,Camions!$B:$F,4,0)))","v":""}]
[null,null,null,null,null,null,null,null,null,null,null,null,null,null,null,null,null,null,null,null,null,null,null,null,null,0,null,null,null,null,null,null,null,{"$f":"IF(ISNA(VLOOKUP(AE11,Camions!$B:$F,2,0)),\"\",(VLOOKUP(AE11,Camions!$B:$F,2,0)))","v":""},null,null,null,null,null,null,null,null,null,null,null,null,{"$f":"IF(ISNA(VLOOKUP(AE11,Camions!$B:$F,4,0)),\"\",(VLOOKUP(AE11,Camions!$B:$F,4,0)))","v":""}]
[null,null,null,null,null,null,null,null,null,null,null,null,null,null,null,null,null,null,null,null,null,null,null,null,null,0,null,null,null,null,null,null,null,{"$f":"IF(ISNA(VLOOKUP(AE12,Camions!$B:$F,2,0)),\"\",(VLOOKUP(AE12,Camions!$B:$F,2,0)))","v":""},null,null,null,null,null,null,null,null,null,null,null,null,{"$f":"IF(ISNA(VLOOKUP(AE12,Camions!$B:$F,4,0)),\"\",(VLOOKUP(AE12,Camions!$B:$F,4,0)))","v":""}]
[null,null,null,null,null,null,null,null,null,null,null,null,null,null,null,null,null,null,null,null,null,null,null,null,null,0,null,null,null,null,null,null,null,{"$f":"IF(ISNA(VLOOKUP(AE13,Camions!$B:$F,2,0)),\"\",(VLOOKUP(AE13,Camions!$B:$F,2,0)))","v":""},null,null,null,null,null,null,null,null,null,null,null,null,{"$f":"IF(ISNA(VLOOKUP(AE13,Camions!$B:$F,4,0)),\"\",(VLOOKUP(AE13,Camions!$B:$F,4,0)))","v":""}]
[null,null,null,null,null,null,null,null,null,null,null,null,null,null,null,null,null,null,null,null,null,null,null,null,null,0,null,null,null,null,null,null,null,{"$f":"IF(ISNA(VLOOKUP(AE14,Camions!$B:$F,2,0)),\"\",(VLOOKUP(AE14,Camions!$B:$F,2,0)))","v":""},null,null,null,null,null,null,null,null,null,null,null,null,{"$f":"IF(ISNA(VLOOKUP(AE14,Camions!$B:$F,4,0)),\"\",(VLOOKUP(AE14,Camions!$B:$F,4,0)))","v":""}]
[null,null,null,null,null,null,null,null,null,null,null,null,null,null,null,null,null,null,null,null,null,null,null,null,null,0,null,null,null,null,null,null,null,{"$f":"IF(ISNA(VLOOKUP(AE15,Camions!$B:$F,2,0)),\"\",(VLOOKUP(AE15,Camions!$B:$F,2,0)))","v":""},null,null,null,null,null,null,null,null,null,null,null,null,{"$f":"IF(ISNA(VLOOKUP(AE15,Camions!$B:$F,4,0)),\"\",(VLOOKUP(AE15,Camions!$B:$F,4,0)))","v":""}]
[null,null,null,null,null,null,null,null,null,null,null,null,null,null,null,null,null,null,null,null,null,null,null,null,null,0,null,null,null,null,null,null,null,{"$f":"IF(ISNA(VLOOKUP(AE16,Camions!$B:$F,2,0)),\"\",(VLOOKUP(AE16,Camions!$B:$F,2,0)))","v":""},null,null,null,null,null,null,null,null,null,null,null,null,{"$f":"IF(ISNA(VLOOKUP(AE16,Camions!$B:$F,4,0)),\"\",(VLOOKUP(AE16,Camions!$B:$F,4,0)))","v":""}]
[null,null,null,null,null,null,null,null,null,null,null,null,null,null,null,null,null,null,null,null,null,null,null,null,null,0,null,null,null,null,null,null,null,{"$f":"IF(ISNA(VLOOKUP(AE17,Camions!$B:$F,2,0)),\"\",(VLOOKUP(AE17,Camions!$B:$F,2,0)))","v":""},null,null,null,null,null,null,null,null,null,null,null,null,{"$f":"IF(ISNA(VLOOKUP(AE17,Camions!$B:$F,4,0)),\"\",(VLOOKUP(AE17,Camions!$B:$F,4,0)))","v":""}]
[null,null,null,null,null,null,null,null,null,null,null,null,null,null,null,null,null,null,null,null,null,null,null,null,null,0,null,null,null,null,null,null,null,{"$f":"IF(ISNA(VLOOKUP(AE18,Camions!$B:$F,2,0)),\"\",(VLOOKUP(AE18,Camions!$B:$F,2,0)))","v":""},null,null,null,null,null,null,null,null,null,null,null,null,{"$f":"IF(ISNA(VLOOKUP(AE18,Camions!$B:$F,4,0)),\"\",(VLOOKUP(AE18,Camions!$B:$F,4,0)))","v":""}]
[null,null,null,null,null,null,null,null,null,null,null,null,null,null,null,null,null,null,null,null,null,null,null,null,null,0,null,null,null,null,null,null,null,{"$f":"IF(ISNA(VLOOKUP(AE19,Camions!$B:$F,2,0)),\"\",(VLOOKUP(AE19,Camions!$B:$F,2,0)))","v":""},null,null,null,null,null,null,null,null,null,null,null,null,{"$f":"IF(ISNA(VLOOKUP(AE19,Camions!$B:$F,4,0)),\"\",(VLOOKUP(AE19,Camions!$B:$F,4,0)))","v":""}]
[null,null,null,null,null,null,null,null,null,null,null,null,null,null,null,null,null,null,null,null,null,null,null,null,null,0,null,null,null,null,null,null,null,{"$f":"IF(ISNA(VLOOKUP(AE20,Camions!$B:$F,2,0)),\"\",(VLOOKUP(AE20,Camions!$B:$F,2,0)))","v":""},null,null,null,null,null,null,null,null,null,null,null,null,{"$f":"IF(ISNA(VLOOKUP(AE20,Camions!$B:$F,4,0)),\"\",(VLOOKUP(AE20,Camions!$B:$F,4,0)))","v":""}]
[null,null,null,null,null,null,null,null,null,null,null,null,null,null,null,null,null,null,null,null,null,null,null,null,null,0,null,null,null,null,null,null,null,{"$f":"IF(ISNA(VLOOKUP(AE21,Camions!$B:$F,2,0)),\"\",(VLOOKUP(AE21,Camions!$B:$F,2,0)))","v":""},null,null,null,null,null,null,null,null,null,null,null,null,{"$f":"IF(ISNA(VLOOKUP(AE21,Camions!$B:$F,4,0)),\"\",(VLOOKUP(AE21,Camions!$B:$F,4,0)))","v":""}]
[null,null,null,null,null,null,null,null,null,null,null,null,null,null,null,null,null,null,null,null,null,null,null,null,null,0,null,null,null,null,null,null,null,{"$f":"IF(ISNA(VLOOKUP(AE22,Camions!$B:$F,2,0)),\"\",(VLOOKUP(AE22,Camions!$B:$F,2,0)))","v":""},null,null,null,null,null,null,null,null,null,null,null,null,{"$f":"IF(ISNA(VLOOKUP(AE22,Camions!$B:$F,4,0)),\"\",(VLOOKUP(AE22,Camions!$B:$F,4,0)))","v":""}]
[null,null,null,null,null,null,null,null,null,null,null,null,null,null,null,null,null,null,null,null,null,null,null,null,null,0,null,null,null,null,null,null,null,{"$f":"IF(ISNA(VLOOKUP(AE23,Camions!$B:$F,2,0)),\"\",(VLOOKUP(AE23,Camions!$B:$F,2,0)))","v":""},null,null,null,null,null,null,null,null,null,null,null,null,{"$f":"IF(ISNA(VLOOKUP(AE23,Camions!$B:$F,4,0)),\"\",(VLOOKUP(AE23,Camions!$B:$F,4,0)))","v":""}]
[null,null,null,null,null,null,null,null,null,null,null,null,null,null,null,null,null,null,null,null,null,null,null,null,null,0,null,null,null,null,null,null,null,{"$f":"IF(ISNA(VLOOKUP(AE24,Camions!$B:$F,2,0)),\"\",(VLOOKUP(AE24,Camions!$B:$F,2,0)))","v":""},null,null,null,null,null,null,null,null,null,null,null,null,{"$f":"IF(ISNA(VLOOKUP(AE24,Camions!$B:$F,4,0)),\"\",(VLOOKUP(AE24,Camions!$B:$F,4,0)))","v":""}]
[null,null,null,null,null,null,null,null,null,null,null,null,null,null,null,null,null,null,null,null,null,null,null,null,null,0,null,null,null,null,null,null,null,{"$f":"IF(ISNA(VLOOKUP(AE25,Camions!$B:$F,2,0)),\"\",(VLOOKUP(AE25,Camions!$B:$F,2,0)))","v":""},null,null,null,null,null,null,null,null,null,null,null,null,{"$f":"IF(ISNA(VLOOKUP(AE25,Camions!$B:$F,4,0)),\"\",(VLOOKUP(AE25,Camions!$B:$F,4,0)))","v":""}]
[null,null,null,null,null,null,null,null,null,null,null,null,null,null,null,null,null,null,null,null,null,null,null,null,null,0,null,null,null,null,null,null,null,{"$f":"IF(ISNA(VLOOKUP(AE26,Camions!$B:$F,2,0)),\"\",(VLOOKUP(AE26,Camions!$B:$F,2,0)))","v":""},null,null,null,null,null,null,null,null,null,null,null,null,{"$f":"IF(ISNA(VLOOKUP(AE26,Camions!$B:$F,4,0)),\"\",(VLOOKUP(AE26,Camions!$B:$F,4,0)))","v":""}]
[null,null,null,null,null,null,null,null,null,null,null,null,null,null,null,null,null,null,null,null,null,null,null,null,null,0,null,null,null,null,null,null,null,{"$f":"IF(ISNA(VLOOKUP(AE27,Camions!$B:$F,2,0)),\"\",(VLOOKUP(AE27,Camions!$B:$F,2,0)))","v":""},null,null,null,null,null,null,null,null,null,null,null,null,{"$f":"IF(ISNA(VLOOKUP(AE27,Camions!$B:$F,4,0)),\"\",(VLOOKUP(AE27,Camions!$B:$F,4,0)))","v":""}]
[null,null,null,null,null,null,null,null,null,null,null,null,null,null,null,null,null,null,null,null,null,null,null,null,null,0,null,null,null,null,null,null,null,{"$f":"IF(ISNA(VLOOKUP(AE28,Camions!$B:$F,2,0)),\"\",(VLOOKUP(AE28,Camions!$B:$F,2,0)))","v":""},null,null,null,null,null,null,null,null,null,null,null,null,{"$f":"IF(ISNA(VLOOKUP(AE28,Camions!$B:$F,4,0)),\"\",(VLOOKUP(AE28,Camions!$B:$F,4,0)))","v":""}]
[null,null,null,null,null,null,null,null,null,null,null,null,null,null,null,null,null,null,null,null,null,null,null,null,null,0,null,null,null,null,null,null,null,{"$f":"IF(ISNA(VLOOKUP(AE29,Camions!$B:$F,2,0)),\"\",(VLOOKUP(AE29,Camions!$B:$F,2,0)))","v":""},null,null,null,null,null,null,null,null,null,null,null,null,{"$f":"IF(ISNA(VLOOKUP(AE29,Camions!$B:$F,4,0)),\"\",(VLOOKUP(AE29,Camions!$B:$F,4,0)))","v":""}]
[null,null,null,null,null,null,null,null,null,null,null,null,null,null,null,null,null,null,null,null,null,null,null,null,null,0,null,null,null,null,null,null,null,{"$f":"IF(ISNA(VLOOKUP(AE30,Camions!$B:$F,2,0)),\"\",(VLOOKUP(AE30,Camions!$B:$F,2,0)))","v":""},null,null,null,null,null,null,null,null,null,null,null,null,{"$f":"IF(ISNA(VLOOKUP(AE30,Camions!$B:$F,4,0)),\"\",(VLOOKUP(AE30,Camions!$B:$F,4,0)))","v":""}]
[null,null,null,null,null,null,null,null,null,null,null,null,null,null,null,null,null,null,null,null,null,null,null,null,null,0,null,null,null,null,null,null,null,{"$f":"IF(ISNA(VLOOKUP(AE31,Camions!$B:$F,2,0)),\"\",(VLOOKUP(AE31,Camions!$B:$F,2,0)))","v":""},null,null,null,null,null,null,null,null,null,null,null,null,{"$f":"IF(ISNA(VLOOKUP(AE31,Camions!$B:$F,4,0)),\"\",(VLOOKUP(AE31,Camions!$B:$F,4,0)))","v":""}]
[null,null,null,null,null,null,null,null,null,null,null,null,null,null,null,null,null,null,null,null,null,null,null,null,null,0,null,null,null,null,null,null,null,{"$f":"IF(ISNA(VLOOKUP(AE32,Camions!$B:$F,2,0)),\"\",(VLOOKUP(AE32,Camions!$B:$F,2,0)))","v":""},null,null,null,null,null,null,null,null,null,null,null,null,{"$f":"IF(ISNA(VLOOKUP(AE32,Camions!$B:$F,4,0)),\"\",(VLOOKUP(AE32,Camions!$B:$F,4,0)))","v":""}]
[null,null,null,null,null,null,null,null,null,null,null,null,null,null,null,null,null,null,null,null,null,null,null,null,null,0,null,null,null,null,null,null,null,{"$f":"IF(ISNA(VLOOKUP(AE33,Camions!$B:$F,2,0)),\"\",(VLOOKUP(AE33,Camions!$B:$F,2,0)))","v":""},null,null,null,null,null,null,null,null,null,null,null,null,{"$f":"IF(ISNA(VLOOKUP(AE33,Camions!$B:$F,4,0)),\"\",(VLOOKUP(AE33,Camions!$B:$F,4,0)))","v":""}]
[null,null,null,null,null,null,null,null,null,null,null,null,null,null,null,null,null,null,null,null,null,null,null,null,null,0,null,null,null,null,null,null,null,{"$f":"IF(ISNA(VLOOKUP(AE34,Camions!$B:$F,2,0)),\"\",(VLOOKUP(AE34,Camions!$B:$F,2,0)))","v":""},null,null,null,null,null,null,null,null,null,null,null,null,{"$f":"IF(ISNA(VLOOKUP(AE34,Camions!$B:$F,4,0)),\"\",(VLOOKUP(AE34,Camions!$B:$F,4,0)))","v":""}]
[null,null,null,null,null,null,null,null,null,null,null,null,null,null,null,null,null,null,null,null,null,null,null,null,null,0,null,null,null,null,null,null,null,{"$f":"IF(ISNA(VLOOKUP(AE35,Camions!$B:$F,2,0)),\"\",(VLOOKUP(AE35,Camions!$B:$F,2,0)))","v":""},null,null,null,null,null,null,null,null,null,null,null,null,{"$f":"IF(ISNA(VLOOKUP(AE35,Camions!$B:$F,4,0)),\"\",(VLOOKUP(AE35,Camions!$B:$F,4,0)))","v":""}]
[null,null,null,null,null,null,null,null,null,null,null,null,null,null,null,null,null,null,null,null,null,null,null,null,null,0,null,null,null,null,null,null,null,{"$f":"IF(ISNA(VLOOKUP(AE36,Camions!$B:$F,2,0)),\"\",(VLOOKUP(AE36,Camions!$B:$F,2,0)))","v":""},null,null,null,null,null,null,null,null,null,null,null,null,{"$f":"IF(ISNA(VLOOKUP(AE36,Camions!$B:$F,4,0)),\"\",(VLOOKUP(AE36,Camions!$B:$F,4,0)))","v":""}]
[null,null,null,null,null,null,null,null,null,null,null,null,null,null,null,null,null,null,null,null,null,null,null,null,null,0,null,null,null,null,null,null,null,{"$f":"IF(ISNA(VLOOKUP(AE37,Camions!$B:$F,2,0)),\"\",(VLOOKUP(AE37,Camions!$B:$F,2,0)))","v":""},null,null,null,null,null,null,null,null,null,null,null,null,{"$f":"IF(ISNA(VLOOKUP(AE36,Camions!$B:$F,4,0)),\"\",(VLOOKUP(AE36,Camions!$B:$F,4,0)))","v":""}]
["CHANTIER :",null,null,null,null,{"$f":"F1","v":0},null,null,null,null,null,null,null,null,null,null,null,null,null,null,"N° CHANTIER :",null,null,null,null,null,{"$f":"AA1","v":0},null,null,null,"JOUR :",null,null,null,{"$f":"AI1","v":"Samedi"},null,null,null,null,null,null,null,null,null,null,null,null,null,null,null,null,"DATES :",null,null,{"$f":"BC1","v":"16-01-16"}]
["MATERIEL",null,null,null,null,null,null,null,null,null,null,null,null,null,null,null,null,null,null,null,null,null,null,null,null,null,null,null,null,null,"SOUS-TRAITANTS"]
["Légende :",null,null,null,null,"Pa",".= Panne",null,null,null,null,"Ent",".= Entretien"]
["N°",null,null,"Description du matériel",null,null,null,null,null,null,null,null,null,null,null,null,"Nom de l'opérateur",null,null,null,null,null,null,null,null,"Heures",null,null,null,null,"Type d'engin et description des travaux ",null,null,null,null,null,null,null,null,null,null,null,null,null,null,null,"Sous-traitants",null,null,null,null,null,null,null,null,"Heures"]
[null,null,null,{"$f":"IF(ISNA(VLOOKUP(A42,Machines!$B:$F,2,0)),\"\",(VLOOKUP(A42,Machines!$B:$F,2,0)))","v":""},null,null,null,null,null,null,null,null,null,null,null,null,{"$f":"IF(ISNA(VLOOKUP(A42,Machines!$B:$F,4,0)),\"\",(VLOOKUP(A42,Machines!$B:$F,4,0)))","v":""}]
[null,null,null,{"$f":"IF(ISNA(VLOOKUP(A43,Machines!$B:$F,2,0)),\"\",(VLOOKUP(A43,Machines!$B:$F,2,0)))","v":""},null,null,null,null,null,null,null,null,null,null,null,null,{"$f":"IF(ISNA(VLOOKUP(A43,Machines!$B:$F,4,0)),\"\",(VLOOKUP(A43,Machines!$B:$F,4,0)))","v":""}]
[null,null,null,{"$f":"IF(ISNA(VLOOKUP(A44,Machines!$B:$F,2,0)),\"\",(VLOOKUP(A44,Machines!$B:$F,2,0)))","v":""},null,null,null,null,null,null,null,null,null,null,null,null,{"$f":"IF(ISNA(VLOOKUP(A44,Machines!$B:$F,4,0)),\"\",(VLOOKUP(A44,Machines!$B:$F,4,0)))","v":""}]
[null,null,null,{"$f":"IF(ISNA(VLOOKUP(A45,Machines!$B:$F,2,0)),\"\",(VLOOKUP(A45,Machines!$B:$F,2,0)))","v":""},null,null,null,null,null,null,null,null,null,null,null,null,{"$f":"IF(ISNA(VLOOKUP(A45,Machines!$B:$F,4,0)),\"\",(VLOOKUP(A45,Machines!$B:$F,4,0)))","v":""}]
[null,null,null,{"$f":"IF(ISNA(VLOOKUP(A46,Machines!$B:$F,2,0)),\"\",(VLOOKUP(A46,Machines!$B:$F,2,0)))","v":""},null,null,null,null,null,null,null,null,null,null,null,null,{"$f":"IF(ISNA(VLOOKUP(A46,Machines!$B:$F,4,0)),\"\",(VLOOKUP(A46,Machines!$B:$F,4,0)))","v":""}]
[null,null,null,{"$f":"IF(ISNA(VLOOKUP(A47,Machines!$B:$F,2,0)),\"\",(VLOOKUP(A47,Machines!$B:$F,2,0)))","v":""},null,null,null,null,null,null,null,null,null,null,null,null,{"$f":"IF(ISNA(VLOOKUP(A47,Machines!$B:$F,4,0)),\"\",(VLOOKUP(A47,Machines!$B:$F,4,0)))","v":""}]
[null,null,null,{"$f":"IF(ISNA(VLOOKUP(A48,Machines!$B:$F,2,0)),\"\",(VLOOKUP(A48,Machines!$B:$F,2,0)))","v":""},null,null,null,null,null,null,null,null,null,null,null,null,{"$f":"IF(ISNA(VLOOKUP(A48,Machines!$B:$F,4,0)),\"\",(VLOOKUP(A48,Machines!$B:$F,4,0)))","v":""}]
[null,null,null,{"$f":"IF(ISNA(VLOOKUP(A49,Machines!$B:$F,2,0)),\"\",(VLOOKUP(A49,Machines!$B:$F,2,0)))","v":""},null,null,null,null,null,null,null,null,null,null,null,null,{"$f":"IF(ISNA(VLOOKUP(A49,Machines!$B:$F,4,0)),\"\",(VLOOKUP(A49,Machines!$B:$F,4,0)))","v":""}]
[null,null,null,{"$f":"IF(ISNA(VLOOKUP(A50,Machines!$B:$F,2,0)),\"\",(VLOOKUP(A50,Machines!$B:$F,2,0)))","v":""},null,null,null,null,null,null,null,null,null,null,null,null,{"$f":"IF(ISNA(VLOOKUP(A50,Machines!$B:$F,4,0)),\"\",(VLOOKUP(A50,Machines!$B:$F,4,0)))","v":""}]
[null,null,null,{"$f":"IF(ISNA(VLOOKUP(A51,Machines!$B:$F,2,0)),\"\",(VLOOKUP(A51,Machines!$B:$F,2,0)))","v":""},null,null,null,null,null,null,null,null,null,null,null,null,{"$f":"IF(ISNA(VLOOKUP(A51,Machines!$B:$F,4,0)),\"\",(VLOOKUP(A51,Machines!$B:$F,4,0)))","v":""}]
[null,null,null,{"$f":"IF(ISNA(VLOOKUP(A52,Machines!$B:$F,2,0)),\"\",(VLOOKUP(A52,Machines!$B:$F,2,0)))","v":""},null,null,null,null,null,null,null,null,null,null,null,null,{"$f":"IF(ISNA(VLOOKUP(A52,Machines!$B:$F,4,0)),\"\",(VLOOKUP(A52,Machines!$B:$F,4,0)))","v":""}]
[null,null,null,{"$f":"IF(ISNA(VLOOKUP(A53,Machines!$B:$F,2,0)),\"\",(VLOOKUP(A53,Machines!$B:$F,2,0)))","v":""},null,null,null,null,null,null,null,null,null,null,null,null,{"$f":"IF(ISNA(VLOOKUP(A53,Machines!$B:$F,4,0)),\"\",(VLOOKUP(A53,Machines!$B:$F,4,0)))","v":""}]
[null,null,null,{"$f":"IF(ISNA(VLOOKUP(A54,Machines!$B:$F,2,0)),\"\",(VLOOKUP(A54,Machines!$B:$F,2,0)))","v":""},null,null,null,null,null,null,null,null,null,null,null,null,{"$f":"IF(ISNA(VLOOKUP(A54,Machines!$B:$F,4,0)),\"\",(VLOOKUP(A54,Machines!$B:$F,4,0)))","v":""}]
[null,null,null,{"$f":"IF(ISNA(VLOOKUP(A55,Machines!$B:$F,2,0)),\"\",(VLOOKUP(A55,Machines!$B:$F,2,0)))","v":""},null,null,null,null,null,null,null,null,null,null,null,null,{"$f":"IF(ISNA(VLOOKUP(A55,Machines!$B:$F,4,0)),\"\",(VLOOKUP(A55,Machines!$B:$F,4,0)))","v":""}]
[null,null,null,{"$f":"IF(ISNA(VLOOKUP(A56,Machines!$B:$F,2,0)),\"\",(VLOOKUP(A56,Machines!$B:$F,2,0)))","v":""},null,null,null,null,null,null,null,null,null,null,null,null,{"$f":"IF(ISNA(VLOOKUP(A56,Machines!$B:$F,4,0)),\"\",(VLOOKUP(A56,Machines!$B:$F,4,0)))","v":""}]
[null,null,null,{"$f":"IF(ISNA(VLOOKUP(A57,Machines!$B:$F,2,0)),\"\",(VLOOKUP(A57,Machines!$B:$F,2,0)))","v":""},null,null,null,null,null,null,null,null,null,null,null,null,{"$f":"IF(ISNA(VLOOKUP(A57,Machines!$B:$F,4,0)),\"\",(VLOOKUP(A57,Machines!$B:$F,4,0)))","v":""}]
[null,null,null,{"$f":"IF(ISNA(VLOOKUP(A58,Machines!$B:$F,2,0)),\"\",(VLOOKUP(A58,Machines!$B:$F,2,0)))","v":""},null,null,null,null,null,null,null,null,null,null,null,null,{"$f":"IF(ISNA(VLOOKUP(A58,Machines!$B:$F,4,0)),\"\",(VLOOKUP(A58,Machines!$B:$F,4,0)))","v":""}]
[null,null,null,{"$f":"IF(ISNA(VLOOKUP(A59,Machines!$B:$F,2,0)),\"\",(VLOOKUP(A59,Machines!$B:$F,2,0)))","v":""},null,null,null,null,null,null,null,null,null,null,null,null,{"$f":"IF(ISNA(VLOOKUP(A59,Machines!$B:$F,4,0)),\"\",(VLOOKUP(A59,Machines!$B:$F,4,0)))","v":""}]
[null,null,null,{"$f":"IF(ISNA(VLOOKUP(A60,Machines!$B:$F,2,0)),\"\",(VLOOKUP(A60,Machines!$B:$F,2,0)))","v":""},null,null,null,null,null,null,null,null,null,null,null,null,{"$f":"IF(ISNA(VLOOKUP(A60,Machines!$B:$F,4,0)),\"\",(VLOOKUP(A60,Machines!$B:$F,4,0)))","v":""}]
[null,null,null,{"$f":"IF(ISNA(VLOOKUP(A61,Machines!$B:$F,2,0)),\"\",(VLOOKUP(A61,Machines!$B:$F,2,0)))","v":""},null,null,null,null,null,null,null,null,null,null,null,null,{"$f":"IF(ISNA(VLOOKUP(A61,Machines!$B:$F,4,0)),\"\",(VLOOKUP(A61,Machines!$B:$F,4,0)))","v":""}]
[null,null,null,{"$f":"IF(ISNA(VLOOKUP(A62,Machines!$B:$F,2,0)),\"\",(VLOOKUP(A62,Machines!$B:$F,2,0)))","v":""},null,null,null,null,null,null,null,null,null,null,null,null,{"$f":"IF(ISNA(VLOOKUP(A62,Machines!$B:$F,4,0)),\"\",(VLOOKUP(A62,Machines!$B:$F,4,0)))","v":""}]
[null,null,null,{"$f":"IF(ISNA(VLOOKUP(A63,Machines!$B:$F,2,0)),\"\",(VLOOKUP(A63,Machines!$B:$F,2,0)))","v":""},null,null,null,null,null,null,null,null,null,null,null,null,{"$f":"IF(ISNA(VLOOKUP(A63,Machines!$B:$F,4,0)),\"\",(VLOOKUP(A63,Machines!$B:$F,4,0)))","v":""}]
[null,null,null,{"$f":"IF(ISNA(VLOOKUP(A64,Machines!$B:$F,2,0)),\"\",(VLOOKUP(A64,Machines!$B:$F,2,0)))","v":""},null,null,null,null,null,null,null,null,null,null,null,null,{"$f":"IF(ISNA(VLOOKUP(A64,Machines!$B:$F,4,0)),\"\",(VLOOKUP(A64,Machines!$B:$F,4,0)))","v":""}]
[null,null,null,{"$f":"IF(ISNA(VLOOKUP(A65,Machines!$B:$F,2,0)),\"\",(VLOOKUP(A65,Machines!$B:$F,2,0)))","v":""},null,null,null,null,null,null,null,null,null,null,null,null,{"$f":"IF(ISNA(VLOOKUP(A65,Machines!$B:$F,4,0)),\"\",(VLOOKUP(A65,Machines!$B:$F,4,0)))","v":""}]
[null,null,null,{"$f":"IF(ISNA(VLOOKUP(A66,Machines!$B:$F,2,0)),\"\",(VLOOKUP(A66,Machines!$B:$F,2,0)))","v":""},null,null,null,null,null,null,null,null,null,null,null,null,{"$f":"IF(ISNA(VLOOKUP(A66,Machines!$B:$F,4,0)),\"\",(VLOOKUP(A66,Machines!$B:$F,4,0)))","v":""}]
[null,null,null,{"$f":"IF(ISNA(VLOOKUP(A67,Machines!$B:$F,2,0)),\"\",(VLOOKUP(A67,Machines!$B:$F,2,0)))","v":""},null,null,null,null,null,null,null,null,null,null,null,null,{"$f":"IF(ISNA(VLOOKUP(A67,Machines!$B:$F,4,0)),\"\",(VLOOKUP(A67,Machines!$B:$F,4,0)))","v":""}]
[null,null,null,{"$f":"IF(ISNA(VLOOKUP(A68,Machines!$B:$F,2,0)),\"\",(VLOOKUP(A68,Machines!$B:$F,2,0)))","v":""},null,null,null,null,null,null,null,null,null,null,null,null,{"$f":"IF(ISNA(VLOOKUP(A68,Machines!$B:$F,4,0)),\"\",(VLOOKUP(A68,Machines!$B:$F,4,0)))","v":""}]
[null,null,null,{"$f":"IF(ISNA(VLOOKUP(A69,Machines!$B:$F,2,0)),\"\",(VLOOKUP(A69,Machines!$B:$F,2,0)))","v":""},null,null,null,null,null,null,null,null,null,null,null,null,{"$f":"IF(ISNA(VLOOKUP(A69,Machines!$B:$F,4,0)),\"\",(VLOOKUP(A69,Machines!$B:$F,4,0)))","v":""}]
[null,null,null,{"$f":"IF(ISNA(VLOOKUP(A70,Machines!$B:$F,2,0)),\"\",(VLOOKUP(A70,Machines!$B:$F,2,0)))","v":""},null,null,null,null,null,null,null,null,null,null,null,null,{"$f":"IF(ISNA(VLOOKUP(A70,Machines!$B:$F,4,0)),\"\",(VLOOKUP(A70,Machines!$B:$F,4,0)))","v":""}]
[null,null,null,{"$f":"IF(ISNA(VLOOKUP(A71,Machines!$B:$F,2,0)),\"\",(VLOOKUP(A71,Machines!$B:$F,2,0)))","v":""},null,null,null,null,null,null,null,null,null,null,null,null,{"$f":"IF(ISNA(VLOOKUP(A71,Machines!$B:$F,4,0)),\"\",(VLOOKUP(A71,Machines!$B:$F,4,0)))","v":""}]
[null,null,null,{"$f":"IF(ISNA(VLOOKUP(A72,Machines!$B:$F,2,0)),\"\",(VLOOKUP(A72,Machines!$B:$F,2,0)))","v":""},null,null,null,null,null,null,null,null,null,null,null,null,{"$f":"IF(ISNA(VLOOKUP(A72,Machines!$B:$F,4,0)),\"\",(VLOOKUP(A72,Machines!$B:$F,4,0)))","v":""}]
[null,null,null,{"$f":"IF(ISNA(VLOOKUP(A73,Machines!$B:$F,2,0)),\"\",(VLOOKUP(A73,Machines!$B:$F,2,0)))","v":""},null,null,null,null,null,null,null,null,null,null,null,null,{"$f":"IF(ISNA(VLOOKUP(A73,Machines!$B:$F,4,0)),\"\",(VLOOKUP(A73,Machines!$B:$F,4,0)))","v":""}]
[null,null,null,{"$f":"IF(ISNA(VLOOKUP(A74,Machines!$B:$F,2,0)),\"\",(VLOOKUP(A74,Machines!$B:$F,2,0)))","v":""},null,null,null,null,null,null,null,null,null,null,null,null,{"$f":"IF(ISNA(VLOOKUP(A74,Machines!$B:$F,4,0)),\"\",(VLOOKUP(A74,Machines!$B:$F,4,0)))","v":""}]
["CHANTIER :",null,null,null,null,{"$f":"F1","v":0},null,null,null,null,null,null,null,null,null,null,null,null,null,null,"N° CHANTIER :",null,null,null,null,null,{"$f":"AA1","v":0},null,null,null,"JOUR :",null,null,null,{"$f":"AI1","v":"Samedi"},null,null,null,null,null,null,null,null,null,null,null,null,null,null,null,null,"DATES :",null,null,{"$f":"BC1","v":"16-01-16"}]
["MATERIAUX"]
[null,null,null,"Fournisseurs",null,null,null,null,null,null,null,null,null,null,null,null,null,null,"Description des fournitures & matériaux",null,null,null,null,null,null,null,null,null,null,null,null,null,null,null,null,null,null,null,null,null,null,null,null,null,null,null,null,null,null,"Qt totales",null,null,null,"U.",null,"Prix"]
[]
[]
[]
[]
[]
[]
[]
[]
[]
[]
[]
[]
[]
[]
[]
[]
[]
[]
[]
[]
[]
[]
[]
[]
[]
[]
[]
[]
[]
[]
[]
[null,null,null,"RESPONSABLE",null,null,null,null,null,null,null,null,"SIGNATURE",null,null,null,null,null,"DESCRIPTION DES TRAVAUX REALISES CE JOUR",null,null,null,null,null,null,null,null,null,null,null,null,null,null,null,null,null,null,null,null,null,null,null,null,null,null,null,null,null,null,"METEO"]
[null,null,null,"JENNES Loïc"]

{"sheet":"17-01-16","index":23,"n_rows":110,"n_cols":56,"rows_kept":110,"cut":false,"hidden":false,"merged":[[110,18,110,48],[67,0,67,2],[67,3,67,15],[67,16,67,24],[67,25,67,28],[67,30,67,45],[67,46,67,54],[67,55,67,58],[96,3,96,17],[96,18,96,48],[72,0,72,2],[72,3,72,15],[72,16,72,24],[72,25,72,28],[72,30,72,45],[72,46,72,54],[72,55,72,58],[73,0,73,2],[73,3,73,15],[73,16,73,24],[73,25,73,28],[73,30,73,45],[73,46,73,54],[73,55,73,58],[70,0,70,2],[70,3,70,15],[70,16,70,24],[70,25,70,28],[70,30,70,45],[70,46,70,54],[70,55,70,58],[71,0,71,2],[71,3,71,15],[71,16,71,24],[71,25,71,28],[71,30,71,45],[71,46,71,54],[71,55,71,58],[68,0,68,2],[68,3,68,15],[68,16,68,24],[68,25,68,28],[68,30,68,45],[68,46,68,54],[68,55,68,58],[69,0,69,2],[69,3,69,15],[69,16,69,24],[69,25,69,28],[69,30,69,45],[69,46,69,54],[69,55,69,58],[65,0,65,2],[65,3,65,15],[65,16,65,24],[65,25,65,28],[65,30,65,45],[65,46,65,54],[65,55,65,58],[66,0,66,2],[66,3,66,15],[66,16,66,24],[66,25,66,28],[66,30,66,45],[66,46,66,54],[66,55,66,58],[63,0,63,2],[63,3,63,15],[63,16,63,24],[63,25,63,28],[63,30,63,45],[63,46,63,54],[63,55,63,58],[64,0,64,2],[64,3,64,15],[64,16,64,24],[64,25,64,28],[64,30,64,45],[64,46,64,54],[64,55,64,58],[61,0,61,2],[61,3,61,15],[61,16,61,24],[61,25,61,28],[61,30,61,45],[61,46,61,54],[61,55,61,58],[62,0,62,2],[62,3,62,15],[62,16,62,24],[62,25,62,28],[62,30,62,45],[62,46,62,54],[62,55,62,58],[59,0,59,2],[59,3,59,15],[59,16,59,24],[59,25,59,28],[59,30,59,45],[59,46,59,54],[59,55,59,58],[60,0,60,2],[60,3,60,15],[60,16,60,24],[60,25,60,28],[60,30,60,45],[60,46,60,54],[60,55,60,58],[57,0,57,2],[57,3,57,15],[57,16,57,24],[57,25,57,28],[57,30,57,45],[57,46,57,54],[57,55,57,58],[58,0,58,2],[58,3,58,15],[58,16,58,24],[58,25,58,28],[58,30,58,45],[58,46,58,54],[58,55,58,58],[55,0,55,2],[55,3,55,15],[55,16,55,24],[55,25,55,28],[55,30,55,45],[55,46,55,54],[55,55,55,58],[56,0,56,2],[56,3,56,15],[56,16,56,24],[56,25,56,28],[56,30,56,45],[56,46,56,54],[56,55,56,58],[53,0,53,2],[53,3,53,15],[53,16,53,24],[53,25,53,28],[53,30,53,45],[53,46,53,54],[53,55,53,58],[54,0,54,2],[54,3,54,15],[54,16,54,24],[54,25,54,28],[54,30,54,45],[54,46,54,54],[54,55,54,58],[51,0,51,2],[51,3,51,15],[51,16,51,24],[51,25,51,28],[51,30,51,45],[51,46,51,54],[51,55,51,58],[52,0,52,2],[52,3,52,15],[52,16,52,24],[52,25,52,28],[52,30,52,45],[52,46,52,54],[52,55,52,58],[49,0,49,2],[49,3,49,15],[49,16,49,24],[49,25,49,28],[49,30,49,45],[49,46,49,54],[49,55,49,58],[50,0,50,2],[50,3,50,15],[50,16,50,24],[50,25,50,28],[50,30,50,45],[50,46,50,54],[50,55,50,58],[47,0,47,2],[47,3,47,15],[47,16,47,24],[47,25,47,28],[47,30,47,45],[47,46,47,54],[47,55,47,58],[48,0,48,2],[48,3,48,15],[48,16,48,24],[48,25,48,28],[48,30,48,45],[48,46,48,54],[48,55,48,58],[45,0,45,2],[45,3,45,15],[45,16,45,24],[45,25,45,28],[45,30,45,45],[45,46,45,54],[45,55,45,58],[46,0,46,2],[46,3,46,15],[46,16,46,24],[46,25,46,28],[46,30,46,45],[46,46,46,54],[46,55,46,58],[43,0,43,2],[43,3,43,15],[43,16,43,24],[43,25,43,28],[43,30,43,45],[43,46,43,54],[43,55,43,58],[44,0,44,2],[44,3,44,15],[44,16,44,24],[44,25,44,28],[44,30,44,45],[44,46,44,54],[44,55,44,58],[41,25,41,28],[41,30,41,45],[41,46,41,54],[41,55,41,58],[42,0,42,2],[42,3,42,15],[42,16,42,24],[42,25,42,28],[42,30,42,45],[42,46,42,54],[42,55,42,58],[37,0,37,4],[37,5,37,19],[37,20,37,25],[37,26,37,28],[37,30,37,32],[37,34,37,47],[37,51,37,53],[37,54,37,58],[38,0,38,28],[38,29,73,29],[38,30,38,58],[39,0,39,4],[39,6,39,9],[39,12,39,15],[40,0,40,2],[40,3,40,15],[40,16,40,24],[40,25,40,28],[40,30,40,45],[40,46,40,54],[40,55,40,58],[41,0,41,2],[41,3,41,15],[41,16,41,24],[36,0,36,15],[36,16,36,18],[36,19,36,21],[36,22,36,24],[36,25,36,28],[36,30,36,32],[36,33,36,45],[36,46,36,54],[36,55,36,58],[35,0,35,15],[35,16,35,18],[35,19,35,21],[35,22,35,24],[35,25,35,28],[35,30,35,32],[35,33,35,45],[35,46,35,54],[35,55,35,58],[34,0,34,15],[34,16,34,18],[34,19,34,21],[34,22,34,24],[34,25,34,28],[34,30,34,32],[34,33,34,45],[34,46,34,54],[34,55,34,58],[33,0,33,15],[33,16,33,18],[33,19,33,21],[33,22,33,24],[33,25,33,28],[33,30,33,32],[33,33,33,45],[33,46,33,54],[33,55,33,58],[32,0,32,15],[32,16,32,18],[32,19,32,21],[32,22,32,24],[32,25,32,28],[32,30,32,32],[32,33,32,45],[32,46,32,54],[32,55,32,58],[31,0,31,15],[31,16,31,18],[31,19,31,21],[31,22,31,24],[31,25,31,28],[31,30,31,32],[31,33,31,45],[31,46,31,54],[31,55,31,58],[30,0,30,15],[30,16,30,18],[30,19,30,21],[30,22,30,24],[30,25,30,28],[30,30,30,32],[30,33,30,45],[30,46,30,54],[30,55,30,58],[29,0,29,15],[29,16,29,18],[29,19,29,21],[29,22,29,24],[29,25,29,28],[29,30,29,32],[29,33,29,45],[29,46,29,54],[29,55,29,58],[28,0,28,15],[28,16,28,18],[28,19,28,21],[28,22,28,24],[28,25,28,28],[28,30,28,32],[28,33,28,45],[28,46,28,54],[28,55,28,58],[27,0,27,15],[27,16,27,18],[27,19,27,21],[27,22,27,24],[27,25,27,28],[27,30,27,32],[27,33,27,45],[27,46,27,54],[27,55,27,58],[26,0,26,15],[26,16,26,18],[26,19,26,21],[26,22,26,24],[26,25,26,28],[26,30,26,32],[26,33,26,45],[26,46,26,54],[26,55,26,58],[25,0,25,15],[25,16,25,18],[25,19,25,21],[25,22,25,24],[25,25,25,28],[25,30,25,32],[25,33,25,45],[25,46,25,54],[25,55,25,58],[24,0,24,15],[24,16,24,18],[24,19,24,21],[24,22,24,24],[24,25,24,28],[24,30,24,32],[24,33,24,45],[24,46,24,54],[24,55,24,58],[23,0,23,15],[23,16,23,18],[23,19,23,21],[23,22,23,24],[23,25,23,28],[23,30,23,32],[23,33,23,45],[23,46,23,54],[23,55,23,58],[22,0,22,15],[22,16,22,18],[22,19,22,21],[22,22,22,24],[22,25,22,28],[22,30,22,32],[22,33,22,45],[22,46,22,54],[22,55,22,58],[21,0,21,15],[21,16,21,18],[21,19,21,21],[21,22,21,24],[21,25,21,28],[21,30,21,32],[21,33,21,45],[21,46,21,54],[21,55,21,58],[20,0,20,15],[20,16,20,18],[20,19,20,21],[20,22,20,24],[20,25,20,28],[20,30,20,32],[20,33,20,45],[20,46,20,54],[20,55,20,58],[19,0,19,15],[19,16,19,18],[19,19,19,21],[19,22,19,24],[19,25,19,28],[19,30,19,32],[19,33,19,45],[19,46,19,54],[19,55,19,58],[18,0,18,15],[18,16,18,18],[18,19,18,21],[18,22,18,24],[18,25,18,28],[18,30,18,32],[18,33,18,45],[18,46,18,54],[18,55,18,58],[17,0,17,15],[17,16,17,18],[17,19,17,21],[17,22,17,24],[17,25,17,28],[17,30,17,32],[17,33,17,45],[17,46,17,54],[17,55,17,58],[16,0,16,15],[16,16,16,18],[16,19,16,21],[16,22,16,24],[16,25,16,28],[16,30,16,32],[16,33,16,45],[16,46,16,54],[16,55,16,58],[15,0,15,15],[15,16,15,18],[15,19,15,21],[15,22,15,24],[15,25,15,28],[15,30,15,32],[15,33,15,45],[15,46,15,54],[15,55,15,58],[14,0,14,15],[14,16,14,18],[14,19,14,21],[14,22,14,24],[14,25,14,28],[14,30,14,32],[14,33,14,45],[14,46,14,54],[14,55,14,58],[13,0,13,15],[13,16,13,18],[13,19,13,21],[13,22,13,24],[13,25,13,28],[13,30,13,32],[13,33,13,45],[13,46,13,54],[13,55,13,58],[12,0,12,15],[12,16,12,18],[12,19,12,21],[12,22,12,24],[12,25,12,28],[12,30,12,32],[12,33,12,45],[12,46,12,54],[12,55,12,58],[11,0,11,15],[11,16,11,18],[11,19,11,21],[11,22,11,24],[11,25,11,28],[11,30,11,32],[11,33,11,45],[11,46,11,54],[11,55,11,58],[10,0,10,15],[10,16,10,18],[10,19,10,21],[10,22,10,24],[10,25,10,28],[10,30,10,32],[10,33,10,45],[10,46,10,54],[10,55,10,58],[9,0,9,15],[9,16,9,18],[9,19,9,21],[9,22,9,24],[9,25,9,28],[9,30,9,32],[9,33,9,45],[9,46,9,54],[9,55,9,58],[8,0,8,15],[8,16,8,18],[8,19,8,21],[8,22,8,24],[8,25,8,28],[8,30,8,32],[8,33,8,45],[8,46,8,54],[8,55,8,58],[6,30,6,32],[6,33,6,45],[6,46,6,54],[6,55,6,58],[7,0,7,15],[7,16,7,18],[7,19,7,21],[7,22,7,24],[7,25,7,28],[7,30,7,32],[7,33,7,45],[7,46,7,54],[7,55,7,58],[4,55,4,58],[5,0,5,15],[5,16,5,18],[5,19,5,21],[5,22,5,24],[5,25,5,28],[5,30,5,32],[5,33,5,45],[5,46,5,54],[5,55,5,58],[0,51,0,53],[0,54,0,58],[1,0,1,28],[1,29,36,29],[1,30,1,58],[2,0,2,4],[2,7,2,10],[2,13,2,16],[2,19,2,22],[2,25,2,28],[2,30,2,34],[2,36,2,39],[2,42,2,45],[3,0,3,15],[3,16,3,18],[3,19,3,21],[3,22,3,24],[3,25,3,28],[3,30,3,32],[3,33,3,45],[3,46,3,54],[3,55,3,58],[4,0,4,15],[4,16,4,18],[109,18,109,48],[111,18,111,48],[108,18,108,48],[108,3,108,11],[108,12,108,17],[109,3,111,11],[109,12,111,17],[0,0,0,4],[0,5,0,19],[0,20,0,25],[0,26,0,28],[0,30,0,32],[0,34,0,47],[4,19,4,21],[4,22,4,24],[4,25,4,28],[4,30,4,32],[4,33,4,45],[4,46,4,54],[6,0,6,15],[6,16,6,18],[6,19,6,21],[6,22,6,24],[6,25,6,28],[107,3,107,17],[107,18,107,48],[105,3,105,17],[105,18,105,48],[106,3,106,17],[106,18,106,48],[105,49,105,52],[106,49,106,52],[107,49,107,52],[95,49,95,52],[95,53,95,54],[95,55,95,58],[96,49,96,52],[103,3,103,17],[103,18,103,48],[104,3,104,17],[104,18,104,48],[101,3,101,17],[101,18,101,48],[102,3,102,17],[102,18,102,48],[103,49,103,52],[103,53,103,54],[103,55,103,58],[104,49,104,52],[104,53,104,54],[104,55,104,58],[99,3,99,17],[99,18,99,48],[100,3,100,17],[100,18,100,48],[95,3,95,17],[95,18,95,48],[98,3,98,17],[98,18,98,48],[97,3,97,17],[97,18,97,48],[94,3,94,17],[94,18,94,48],[91,3,91,17],[91,18,91,48],[92,3,92,17],[92,18,92,48],[93,3,93,17],[93,18,93,48],[93,49,93,52],[93,53,93,54],[93,55,93,58],[94,49,94,52],[94,53,94,54],[94,55,94,58],[87,53,87,54],[87,55,87,58],[88,49,88,52],[88,53,88,54],[88,55,88,58],[89,49,89,52],[89,53,89,54],[89,55,89,58],[90,53,90,54],[90,55,90,58],[91,49,91,52],[91,53,91,54],[91,55,91,58],[92,49,92,52],[92,53,92,54],[92,55,92,58],[89,3,89,17],[89,18,89,48],[90,3,90,17],[90,18,90,48],[87,3,87,17],[87,18,87,48],[88,3,88,17],[88,18,88,48],[87,49,87,52],[90,49,90,52],[86,3,86,17],[86,18,86,48],[83,3,83,17],[83,18,83,48],[84,3,84,17],[84,18,84,48],[85,49,85,52],[85,53,85,54],[85,55,85,58],[86,49,86,52],[86,53,86,54],[86,55,86,58],[83,55,83,58],[84,49,84,52],[84,53,84,54],[84,55,84,58],[79,53,79,54],[79,55,79,58],[80,49,80,52],[80,53,80,54],[80,55,80,58],[81,49,81,52],[81,53,81,54],[85,3,85,17],[85,18,85,48],[81,3,81,17],[81,18,81,48],[82,3,82,17],[82,18,82,48],[79,3,79,17],[79,18,79,48],[80,3,80,17],[80,18,80,48],[79,49,79,52],[81,55,81,58],[82,49,82,52],[82,53,82,54],[82,55,82,58],[83,49,83,52],[83,53,83,54],[74,54,74,58],[75,0,75,58],[76,49,76,52],[76,53,76,54],[76,55,76,58],[77,3,77,17],[77,18,77,48],[78,3,78,17],[78,18,78,48],[77,49,77,52],[77,53,77,54],[77,55,77,58],[78,49,78,52],[78,53,78,54],[78,55,78,58],[76,3,76,17],[76,18,76,48],[74,0,74,4],[74,5,74,19],[74,20,74,25],[74,26,74,28],[74,30,74,32],[74,34,74,47],[74,51,74,53],[96,53,96,54],[96,55,96,58],[97,49,97,52],[97,53,97,54],[97,55,97,58],[98,49,98,52],[98,53,98,54],[98,55,98,58],[99,49,99,52],[99,53,99,54],[99,55,99,58],[107,55,107,58],[108,49,108,58],[109,49,111,58],[100,49,100,52],[100,53,100,54],[100,55,100,58],[101,49,101,52],[101,53,101,54],[101,55,101,58],[102,49,102,52],[102,53,102,54],[102,55,102,58],[105,53,105,54],[105,55,105,58],[106,53,106,54],[106,55,106,58],[107,53,107,54]]}
["CHANTIER :",null,null,null,null,{"$f":"'01-01-16'!F1","v":0},null,null,null,null,null,null,null,null,null,null,null,null,null,null,"N° CHANTIER :",null,null,null,null,null,{"$f":"'01-01-16'!AA1","v":0},null,null,null,"JOUR :",null,null,null,{"$f":" CHOOSE(WEEKDAY(BC1,2),\"Lundi\",\"Mardi\",\"Mercredi\",\"Jeudi\",\"Vendredi\",\"Samedi\",\"Dimanche\")","v":"Dimanche"},null,null,null,null,null,null,null,null,null,null,null,null,null,null,null,null,"DATES :",null,null,{"$f":"MID(CELL(\"nomfichier\",A1),FIND(\"]\",CELL(\"nomfichier\",A1),1)+1,30)","v":"17-01-16"}]
["MAIN D'ŒUVRE",null,null,null,null,null,null,null,null,null,null,null,null,null,null,null,null,null,null,null,null,null,null,null,null,null,null,null,null,null,"CAMIONS"]
["Légende :",null,null,null,null,null,"Co",".= Congé",null,null,null,null,"M",".= Malade",null,null,null,null,"Cho",".= Chômage",null,null,null,null,"Va",".= Vacance",null,null,null,null,"Légende :",null,null,null,null,"Pa",".= Panne",null,null,null,null,"Ent",".= Entretien"]
["NOM - Prénom du travailleur",null,null,null,null,null,null,null,null,null,null,null,null,null,null,null,"Début journée",null,null,"Arrêt repas",null,null,"Fin journée",null,null,"Heures prestées",null,null,null,null,"N°",null,null,"Description du matériel",null,null,null,null,null,null,null,null,null,null,null,null,"Nom de l'opérateur",null,null,null,null,null,null,null,null,"Heures"]
[null,null,null,null,null,null,null,null,null,null,null,null,null,null,null,null,null,null,null,null,null,null,null,null,null,{"$f":"W5-Q5-T5","v":0},null,null,null,null,null,null,null,{"$f":"IF(ISNA(VLOOKUP(AE5,Camions!$B:$F,2,0)),\"\",(VLOOKUP(AE5,Camions!$B:$F,2,0)))","v":""},null,null,null,null,null,null,null,null,null,null,null,null,{"$f":"IF(ISNA(VLOOKUP(AE5,Camions!$B:$F,4,0)),\"\",(VLOOKUP(AE5,Camions!$B:$F,4,0)))","v":""}]
[null,null,null,null,null,null,null,null,null,null,null,null,null,null,null,null,null,null,null,null,null,null,null,null,null,{"$f":"W6-Q6-T6","v":0},null,null,null,null,null,null,null,{"$f":"IF(ISNA(VLOOKUP(AE6,Camions!$B:$F,2,0)),\"\",(VLOOKUP(AE6,Camions!$B:$F,2,0)))","v":""},null,null,null,null,null,null,null,null,null,null,null,null,{"$f":"IF(ISNA(VLOOKUP(AE6,Camions!$B:$F,4,0)),\"\",(VLOOKUP(AE6,Camions!$B:$F,4,0)))","v":""}]
[null,null,null,null,null,null,null,null,null,null,null,null,null,null,null,null,null,null,null,null,null,null,null,null,null,0,null,null,null,null,null,null,null,{"$f":"IF(ISNA(VLOOKUP(AE7,Camions!$B:$F,2,0)),\"\",(VLOOKUP(AE7,Camions!$B:$F,2,0)))","v":""},null,null,null,null,null,null,null,null,null,null,null,null,{"$f":"IF(ISNA(VLOOKUP(AE7,Camions!$B:$F,4,0)),\"\",(VLOOKUP(AE7,Camions!$B:$F,4,0)))","v":""}]
[null,null,null,null,null,null,null,null,null,null,null,null,null,null,null,null,null,null,null,null,null,null,null,null,null,0,null,null,null,null,null,null,null,{"$f":"IF(ISNA(VLOOKUP(AE8,Camions!$B:$F,2,0)),\"\",(VLOOKUP(AE8,Camions!$B:$F,2,0)))","v":""},null,null,null,null,null,null,null,null,null,null,null,null,{"$f":"IF(ISNA(VLOOKUP(AE8,Camions!$B:$F,4,0)),\"\",(VLOOKUP(AE8,Camions!$B:$F,4,0)))","v":""}]
[null,null,null,null,null,null,null,null,null,null,null,null,null,null,null,null,null,null,null,null,null,null,null,null,null,0,null,null,null,null,null,null,null,{"$f":"IF(ISNA(VLOOKUP(AE9,Camions!$B:$F,2,0)),\"\",(VLOOKUP(AE9,Camions!$B:$F,2,0)))","v":""},null,null,null,null,null,null,null,null,null,null,null,null,{"$f":"IF(ISNA(VLOOKUP(AE9,Camions!$B:$F,4,0)),\"\",(VLOOKUP(AE9,Camions!$B:$F,4,0)))","v":""}]
[null,null,null,null,null,null,null,null,null,null,null,null,null,null,null,null,null,null,null,null,null,null,null,null,null,0,null,null,null,null,null,null,null,{"$f":"IF(ISNA(VLOOKUP(AE10,Camions!$B:$F,2,0)),\"\",(VLOOKUP(AE10,Camions!$B:$F,2,0)))","v":""},null,null,null,null,null,null,null,null,null,null,null,null,{"$f":"IF(ISNA(VLOOKUP(AE10,Camions!$B:$F,4,0)),\"\",(VLOOKUP(AE10,Camions!$B:$F,4,0)))","v":""}]
[null,null,null,null,null,null,null,null,null,null,null,null,null,null,null,null,null,null,null,null,null,null,null,null,null,0,null,null,null,null,null,null,null,{"$f":"IF(ISNA(VLOOKUP(AE11,Camions!$B:$F,2,0)),\"\",(VLOOKUP(AE11,Camions!$B:$F,2,0)))","v":""},null,null,null,null,null,null,null,null,null,null,null,null,{"$f":"IF(ISNA(VLOOKUP(AE11,Camions!$B:$F,4,0)),\"\",(VLOOKUP(AE11,Camions!$B:$F,4,0)))","v":""}]
[null,null,null,null,null,null,null,null,null,null,null,null,null,null,null,null,null,null,null,null,null,null,null,null,null,0,null,null,null,null,null,null,null,{"$f":"IF(ISNA(VLOOKUP(AE12,Camions!$B:$F,2,0)),\"\",(VLOOKUP(AE12,Camions!$B:$F,2,0)))","v":""},null,null,null,null,null,null,null,null,null,null,null,null,{"$f":"IF(ISNA(VLOOKUP(AE12,Camions!$B:$F,4,0)),\"\",(VLOOKUP(AE12,Camions!$B:$F,4,0)))","v":""}]
[null,null,null,null,null,null,null,null,null,null,null,null,null,null,null,null,null,null,null,null,null,null,null,null,null,0,null,null,null,null,null,null,null,{"$f":"IF(ISNA(VLOOKUP(AE13,Camions!$B:$F,2,0)),\"\",(VLOOKUP(AE13,Camions!$B:$F,2,0)))","v":""},null,null,null,null,null,null,null,null,null,null,null,null,{"$f":"IF(ISNA(VLOOKUP(AE13,Camions!$B:$F,4,0)),\"\",(VLOOKUP(AE13,Camions!$B:$F,4,0)))","v":""}]
[null,null,null,null,null,null,null,null,null,null,null,null,null,null,null,null,null,null,null,null,null,null,null,null,null,0,null,null,null,null,null,null,null,{"$f":"IF(ISNA(VLOOKUP(AE14,Camions!$B:$F,2,0)),\"\",(VLOOKUP(AE14,Camions!$B:$F,2,0)))","v":""},null,null,null,null,null,null,null,null,null,null,null,null,{"$f":"IF(ISNA(VLOOKUP(AE14,Camions!$B:$F,4,0)),\"\",(VLOOKUP(AE14,Camions!$B:$F,4,0)))","v":""}]
[null,null,null,null,null,null,null,null,null,null,null,null,null,null,null,null,null,null,null,null,null,null,null,null,null,0,null,null,null,null,null,null,null,{"$f":"IF(ISNA(VLOOKUP(AE15,Camions!$B:$F,2,0)),\"\",(VLOOKUP(AE15,Camions!$B:$F,2,0)))","v":""},null,null,null,null,null,null,null,null,null,null,null,null,{"$f":"IF(ISNA(VLOOKUP(AE15,Camions!$B:$F,4,0)),\"\",(VLOOKUP(AE15,Camions!$B:$F,4,0)))","v":""}]
[null,null,null,null,null,null,null,null,null,null,null,null,null,null,null,null,null,null,null,null,null,null,null,null,null,0,null,null,null,null,null,null,null,{"$f":"IF(ISNA(VLOOKUP(AE16,Camions!$B:$F,2,0)),\"\",(VLOOKUP(AE16,Camions!$B:$F,2,0)))","v":""},null,null,null,null,null,null,null,null,null,null,null,null,{"$f":"IF(ISNA(VLOOKUP(AE16,Camions!$B:$F,4,0)),\"\",(VLOOKUP(AE16,Camions!$B:$F,4,0)))","v":""}]
[null,null,null,null,null,null,null,null,null,null,null,null,null,null,null,null,null,null,null,null,null,null,null,null,null,0,null,null,null,null,null,null,null,{"$f":"IF(ISNA(VLOOKUP(AE17,Camions!$B:$F,2,0)),\"\",(VLOOKUP(AE17,Camions!$B:$F,2,0)))","v":""},null,null,null,null,null,null,null,null,null,null,null,null,{"$f":"IF(ISNA(VLOOKUP(AE17,Camions!$B:$F,4,0)),\"\",(VLOOKUP(AE17,Camions!$B:$F,4,0)))","v":""}]
[null,null,null,null,null,null,null,null,null,null,null,null,null,null,null,null,null,null,null,null,null,null,null,null,null,0,null,null,null,null,null,null,null,{"$f":"IF(ISNA(VLOOKUP(AE18,Camions!$B:$F,2,0)),\"\",(VLOOKUP(AE18,Camions!$B:$F,2,0)))","v":""},null,null,null,null,null,null,null,null,null,null,null,null,{"$f":"IF(ISNA(VLOOKUP(AE18,Camions!$B:$F,4,0)),\"\",(VLOOKUP(AE18,Camions!$B:$F,4,0)))","v":""}]
[null,null,null,null,null,null,null,null,null,null,null,null,null,null,null,null,null,null,null,null,null,null,null,null,null,0,null,null,null,null,null,null,null,{"$f":"IF(ISNA(VLOOKUP(AE19,Camions!$B:$F,2,0)),\"\",(VLOOKUP(AE19,Camions!$B:$F,2,0)))","v":""},null,null,null,null,null,null,null,null,null,null,null,null,{"$f":"IF(ISNA(VLOOKUP(AE19,Camions!$B:$F,4,0)),\"\",(VLOOKUP(AE19,Camions!$B:$F,4,0)))","v":""}]
[null,null,null,null,null,null,null,null,null,null,null,null,null,null,null,null,null,null,null,null,null,null,null,null,null,0,null,null,null,null,null,null,null,{"$f":"IF(ISNA(VLOOKUP(AE20,Camions!$B:$F,2,0)),\"\",(VLOOKUP(AE20,Camions!$B:$F,2,0)))","v":""},null,null,null,null,null,null,null,null,null,null,null,null,{"$f":"IF(ISNA(VLOOKUP(AE20,Camions!$B:$F,4,0)),\"\",(VLOOKUP(AE20,Camions!$B:$F,4,0)))","v":""}]
[null,null,null,null,null,null,null,null,null,null,null,null,null,null,null,null,null,null,null,null,null,null,null,null,null,0,null,null,null,null,null,null,null,{"$f":"IF(ISNA(VLOOKUP(AE21,Camions!$B:$F,2,0)),\"\",(VLOOKUP(AE21,Camions!$B:$F,2,0)))","v":""},null,null,null,null,null,null,null,null,null,null,null,null,{"$f":"IF(ISNA(VLOOKUP(AE21,Camions!$B:$F,4,0)),\"\",(VLOOKUP(AE21,Camions!$B:$F,4,0)))","v":""}]
[null,null,null,null,null,null,null,null,null,null,null,null,null,null,null,null,null,null,null,null,null,null,null,null,null,0,null,null,null,null,null,null,null,{"$f":"IF(ISNA(VLOOKUP(AE22,Camions!$B:$F,2,0)),\"\",(VLOOKUP(AE22,Camions!$B:$F,2,0)))","v":""},null,null,null,null,null,null,null,null,null,null,null,null,{"$f":"IF(ISNA(VLOOKUP(AE22,Camions!$B:$F,4,0)),\"\",(VLOOKUP(AE22,Camions!$B:$F,4,0)))","v":""}]
[null,null,null,null,null,null,null,null,null,null,null,null,null,null,null,null,null,null,null,null,null,null,null,null,null,0,null,null,null,null,null,null,null,{"$f":"IF(ISNA(VLOOKUP(AE23,Camions!$B:$F,2,0)),\"\",(VLOOKUP(AE23,Camions!$B:$F,2,0)))","v":""},null,null,null,null,null,null,null,null,null,null,null,null,{"$f":"IF(ISNA(VLOOKUP(AE23,Camions!$B:$F,4,0)),\"\",(VLOOKUP(AE23,Camions!$B:$F,4,0)))","v":""}]
[null,null,null,null,null,null,null,null,null,null,null,null,null,null,null,null,null,null,null,null,null,null,null,null,null,0,null,null,null,null,null,null,null,{"$f":"IF(ISNA(VLOOKUP(AE24,Camions!$B:$F,2,0)),\"\",(VLOOKUP(AE24,Camions!$B:$F,2,0)))","v":""},null,null,null,null,null,null,null,null,null,null,null,null,{"$f":"IF(ISNA(VLOOKUP(AE24,Camions!$B:$F,4,0)),\"\",(VLOOKUP(AE24,Camions!$B:$F,4,0)))","v":""}]
[null,null,null,null,null,null,null,null,null,null,null,null,null,null,null,null,null,null,null,null,null,null,null,null,null,0,null,null,null,null,null,null,null,{"$f":"IF(ISNA(VLOOKUP(AE25,Camions!$B:$F,2,0)),\"\",(VLOOKUP(AE25,Camions!$B:$F,2,0)))","v":""},null,null,null,null,null,null,null,null,null,null,null,null,{"$f":"IF(ISNA(VLOOKUP(AE25,Camions!$B:$F,4,0)),\"\",(VLOOKUP(AE25,Camions!$B:$F,4,0)))","v":""}]
[null,null,null,null,null,null,null,null,null,null,null,null,null,null,null,null,null,null,null,null,null,null,null,null,null,0,null,null,null,null,null,null,null,{"$f":"IF(ISNA(VLOOKUP(AE26,Camions!$B:$F,2,0)),\"\",(VLOOKUP(AE26,Camions!$B:$F,2,0)))","v":""},null,null,null,null,null,null,null,null,null,null,null,null,{"$f":"IF(ISNA(VLOOKUP(AE26,Camions!$B:$F,4,0)),\"\",(VLOOKUP(AE26,Camions!$B:$F,4,0)))","v":""}]
[null,null,null,null,null,null,null,null,null,null,null,null,null,null,null,null,null,null,null,null,null,null,null,null,null,0,null,null,null,null,null,null,null,{"$f":"IF(ISNA(VLOOKUP(AE27,Camions!$B:$F,2,0)),\"\",(VLOOKUP(AE27,Camions!$B:$F,2,0)))","v":""},null,null,null,null,null,null,null,null,null,null,null,null,{"$f":"IF(ISNA(VLOOKUP(AE27,Camions!$B:$F,4,0)),\"\",(VLOOKUP(AE27,Camions!$B:$F,4,0)))","v":""}]
[null,null,null,null,null,null,null,null,null,null,null,null,null,null,null,null,null,null,null,null,null,null,null,null,null,0,null,null,null,null,null,null,null,{"$f":"IF(ISNA(VLOOKUP(AE28,Camions!$B:$F,2,0)),\"\",(VLOOKUP(AE28,Camions!$B:$F,2,0)))","v":""},null,null,null,null,null,null,null,null,null,null,null,null,{"$f":"IF(ISNA(VLOOKUP(AE28,Camions!$B:$F,4,0)),\"\",(VLOOKUP(AE28,Camions!$B:$F,4,0)))","v":""}]
[null,null,null,null,null,null,null,null,null,null,null,null,null,null,null,null,null,null,null,null,null,null,null,null,null,0,null,null,null,null,null,null,null,{"$f":"IF(ISNA(VLOOKUP(AE29,Camions!$B:$F,2,0)),\"\",(VLOOKUP(AE29,Camions!$B:$F,2,0)))","v":""},null,null,null,null,null,null,null,null,null,null,null,null,{"$f":"IF(ISNA(VLOOKUP(AE29,Camions!$B:$F,4,0)),\"\",(VLOOKUP(AE29,Camions!$B:$F,4,0)))","v":""}]
[null,null,null,null,null,null,null,null,null,null,null,null,null,null,null,null,null,null,null,null,null,null,null,null,null,0,null,null,null,null,null,null,null,{"$f":"IF(ISNA(VLOOKUP(AE30,Camions!$B:$F,2,0)),\"\",(VLOOKUP(AE30,Camions!$B:$F,2,0)))","v":""},null,null,null,null,null,null,null,null,null,null,null,null,{"$f":"IF(ISNA(VLOOKUP(AE30,Camions!$B:$F,4,0)),\"\",(VLOOKUP(AE30,Camions!$B:$F,4,0)))","v":""}]
[null,null,null,null,null,null,null,null,null,null,null,null,null,null,null,null,null,null,null,null,null,null,null,null,null,0,null,null,null,null,null,null,null,{"$f":"IF(ISNA(VLOOKUP(AE31,Camions!$B:$F,2,0)),\"\",(VLOOKUP(AE31,Camions!$B:$F,2,0)))","v":""},null,null,null,null,null,null,null,null,null,null,null,null,{"$f":"IF(ISNA(VLOOKUP(AE31,Camions!$B:$F,4,0)),\"\",(VLOOKUP(AE31,Camions!$B:$F,4,0)))","v":""}]
[null,null,null,null,null,null,null,null,null,null,null,null,null,null,null,null,null,null,null,null,null,null,null,null,null,0,null,null,null,null,null,null,null,{"$f":"IF(ISNA(VLOOKUP(AE32,Camions!$B:$F,2,0)),\"\",(VLOOKUP(AE32,Camions!$B:$F,2,0)))","v":""},null,null,null,null,null,null,null,null,null,null,null,null,{"$f":"IF(ISNA(VLOOKUP(AE32,Camions!$B:$F,4,0)),\"\",(VLOOKUP(AE32,Camions!$B:$F,4,0)))","v":""}]
[null,null,null,null,null,null,null,null,null,null,null,null,null,null,null,null,null,null,null,null,null,null,null,null,null,0,null,null,null,null,null,null,null,{"$f":"IF(ISNA(VLOOKUP(AE33,Camions!$B:$F,2,0)),\"\",(VLOOKUP(AE33,Camions!$B:$F,2,0)))","v":""},null,null,null,null,null,null,null,null,null,null,null,null,{"$f":"IF(ISNA(VLOOKUP(AE33,Camions!$B:$F,4,0)),\"\",(VLOOKUP(AE33,Camions!$B:$F,4,0)))","v":""}]
[null,null,null,null,null,null,null,null,null,null,null,null,null,null,null,null,null,null,null,null,null,null,null,null,null,0,null,null,null,null,null,null,null,{"$f":"IF(ISNA(VLOOKUP(AE34,Camions!$B:$F,2,0)),\"\",(VLOOKUP(AE34,Camions!$B:$F,2,0)))","v":""},null,null,null,null,null,null,null,null,null,null,null,null,{"$f":"IF(ISNA(VLOOKUP(AE34,Camions!$B:$F,4,0)),\"\",(VLOOKUP(AE34,Camions!$B:$F,4,0)))","v":""}]
[null,null,null,null,null,null,null,null,null,null,null,null,null,null,null,null,null,null,null,null,null,null,null,null,null,0,null,null,null,null,null,null,null,{"$f":"IF(ISNA(VLOOKUP(AE35,Camions!$B:$F,2,0)),\"\",(VLOOKUP(AE35,Camions!$B:$F,2,0)))","v":""},null,null,null,null,null,null,null,null,null,null,null,null,{"$f":"IF(ISNA(VLOOKUP(AE35,Camions!$B:$F,4,0)),\"\",(VLOOKUP(AE35,Camions!$B:$F,4,0)))","v":""}]
[null,null,null,null,null,null,null,null,null,null,null,null,null,null,null,null,null,null,null,null,null,null,null,null,null,0,null,null,null,null,null,null,null,{"$f":"IF(ISNA(VLOOKUP(AE36,Camions!$B:$F,2,0)),\"\",(VLOOKUP(AE36,Camions!$B:$F,2,0)))","v":""},null,null,null,null,null,null,null,null,null,null,null,null,{"$f":"IF(ISNA(VLOOKUP(AE36,Camions!$B:$F,4,0)),\"\",(VLOOKUP(AE36,Camions!$B:$F,4,0)))","v":""}]
[null,null,null,null,null,null,null,null,null,null,null,null,null,null,null,null,null,null,null,null,null,null,null,null,null,0,null,null,null,null,null,null,null,{"$f":"IF(ISNA(VLOOKUP(AE37,Camions!$B:$F,2,0)),\"\",(VLOOKUP(AE37,Camions!$B:$F,2,0)))","v":""},null,null,null,null,null,null,null,null,null,null,null,null,{"$f":"IF(ISNA(VLOOKUP(AE36,Camions!$B:$F,4,0)),\"\",(VLOOKUP(AE36,Camions!$B:$F,4,0)))","v":""}]
["CHANTIER :",null,null,null,null,{"$f":"F1","v":0},null,null,null,null,null,null,null,null,null,null,null,null,null,null,"N° CHANTIER :",null,null,null,null,null,{"$f":"AA1","v":0},null,null,null,"JOUR :",null,null,null,{"$f":"AI1","v":"Dimanche"},null,null,null,null,null,null,null,null,null,null,null,null,null,null,null,null,"DATES :",null,null,{"$f":"BC1","v":"17-01-16"}]
["MATERIEL",null,null,null,null,null,null,null,null,null,null,null,null,null,null,null,null,null,null,null,null,null,null,null,null,null,null,null,null,null,"SOUS-TRAITANTS"]
["Légende :",null,null,null,null,"Pa",".= Panne",null,null,null,null,"Ent",".= Entretien"]
["N°",null,null,"Description du matériel",null,null,null,null,null,null,null,null,null,null,null,null,"Nom de l'opérateur",null,null,null,null,null,null,null,null,"Heures",null,null,null,null,"Type d'engin et description des travaux ",null,null,null,null,null,null,null,null,null,null,null,null,null,null,null,"Sous-traitants",null,null,null,null,null,null,null,null,"Heures"]
[null,null,null,{"$f":"IF(ISNA(VLOOKUP(A42,Machines!$B:$F,2,0)),\"\",(VLOOKUP(A42,Machines!$B:$F,2,0)))","v":""},null,null,null,null,null,null,null,null,null,null,null,null,{"$f":"IF(ISNA(VLOOKUP(A42,Machines!$B:$F,4,0)),\"\",(VLOOKUP(A42,Machines!$B:$F,4,0)))","v":""}]
[null,null,null,{"$f":"IF(ISNA(VLOOKUP(A43,Machines!$B:$F,2,0)),\"\",(VLOOKUP(A43,Machines!$B:$F,2,0)))","v":""},null,null,null,null,null,null,null,null,null,null,null,null,{"$f":"IF(ISNA(VLOOKUP(A43,Machines!$B:$F,4,0)),\"\",(VLOOKUP(A43,Machines!$B:$F,4,0)))","v":""}]
[null,null,null,{"$f":"IF(ISNA(VLOOKUP(A44,Machines!$B:$F,2,0)),\"\",(VLOOKUP(A44,Machines!$B:$F,2,0)))","v":""},null,null,null,null,null,null,null,null,null,null,null,null,{"$f":"IF(ISNA(VLOOKUP(A44,Machines!$B:$F,4,0)),\"\",(VLOOKUP(A44,Machines!$B:$F,4,0)))","v":""}]
[null,null,null,{"$f":"IF(ISNA(VLOOKUP(A45,Machines!$B:$F,2,0)),\"\",(VLOOKUP(A45,Machines!$B:$F,2,0)))","v":""},null,null,null,null,null,null,null,null,null,null,null,null,{"$f":"IF(ISNA(VLOOKUP(A45,Machines!$B:$F,4,0)),\"\",(VLOOKUP(A45,Machines!$B:$F,4,0)))","v":""}]
[null,null,null,{"$f":"IF(ISNA(VLOOKUP(A46,Machines!$B:$F,2,0)),\"\",(VLOOKUP(A46,Machines!$B:$F,2,0)))","v":""},null,null,null,null,null,null,null,null,null,null,null,null,{"$f":"IF(ISNA(VLOOKUP(A46,Machines!$B:$F,4,0)),\"\",(VLOOKUP(A46,Machines!$B:$F,4,0)))","v":""}]
[null,null,null,{"$f":"IF(ISNA(VLOOKUP(A47,Machines!$B:$F,2,0)),\"\",(VLOOKUP(A47,Machines!$B:$F,2,0)))","v":""},null,null,null,null,null,null,null,null,null,null,null,null,{"$f":"IF(ISNA(VLOOKUP(A47,Machines!$B:$F,4,0)),\"\",(VLOOKUP(A47,Machines!$B:$F,4,0)))","v":""}]
[null,null,null,{"$f":"IF(ISNA(VLOOKUP(A48,Machines!$B:$F,2,0)),\"\",(VLOOKUP(A48,Machines!$B:$F,2,0)))","v":""},null,null,null,null,null,null,null,null,null,null,null,null,{"$f":"IF(ISNA(VLOOKUP(A48,Machines!$B:$F,4,0)),\"\",(VLOOKUP(A48,Machines!$B:$F,4,0)))","v":""}]
[null,null,null,{"$f":"IF(ISNA(VLOOKUP(A49,Machines!$B:$F,2,0)),\"\",(VLOOKUP(A49,Machines!$B:$F,2,0)))","v":""},null,null,null,null,null,null,null,null,null,null,null,null,{"$f":"IF(ISNA(VLOOKUP(A49,Machines!$B:$F,4,0)),\"\",(VLOOKUP(A49,Machines!$B:$F,4,0)))","v":""}]
[null,null,null,{"$f":"IF(ISNA(VLOOKUP(A50,Machines!$B:$F,2,0)),\"\",(VLOOKUP(A50,Machines!$B:$F,2,0)))","v":""},null,null,null,null,null,null,null,null,null,null,null,null,{"$f":"IF(ISNA(VLOOKUP(A50,Machines!$B:$F,4,0)),\"\",(VLOOKUP(A50,Machines!$B:$F,4,0)))","v":""}]
[null,null,null,{"$f":"IF(ISNA(VLOOKUP(A51,Machines!$B:$F,2,0)),\"\",(VLOOKUP(A51,Machines!$B:$F,2,0)))","v":""},null,null,null,null,null,null,null,null,null,null,null,null,{"$f":"IF(ISNA(VLOOKUP(A51,Machines!$B:$F,4,0)),\"\",(VLOOKUP(A51,Machines!$B:$F,4,0)))","v":""}]
[null,null,null,{"$f":"IF(ISNA(VLOOKUP(A52,Machines!$B:$F,2,0)),\"\",(VLOOKUP(A52,Machines!$B:$F,2,0)))","v":""},null,null,null,null,null,null,null,null,null,null,null,null,{"$f":"IF(ISNA(VLOOKUP(A52,Machines!$B:$F,4,0)),\"\",(VLOOKUP(A52,Machines!$B:$F,4,0)))","v":""}]
[null,null,null,{"$f":"IF(ISNA(VLOOKUP(A53,Machines!$B:$F,2,0)),\"\",(VLOOKUP(A53,Machines!$B:$F,2,0)))","v":""},null,null,null,null,null,null,null,null,null,null,null,null,{"$f":"IF(ISNA(VLOOKUP(A53,Machines!$B:$F,4,0)),\"\",(VLOOKUP(A53,Machines!$B:$F,4,0)))","v":""}]
[null,null,null,{"$f":"IF(ISNA(VLOOKUP(A54,Machines!$B:$F,2,0)),\"\",(VLOOKUP(A54,Machines!$B:$F,2,0)))","v":""},null,null,null,null,null,null,null,null,null,null,null,null,{"$f":"IF(ISNA(VLOOKUP(A54,Machines!$B:$F,4,0)),\"\",(VLOOKUP(A54,Machines!$B:$F,4,0)))","v":""}]
[null,null,null,{"$f":"IF(ISNA(VLOOKUP(A55,Machines!$B:$F,2,0)),\"\",(VLOOKUP(A55,Machines!$B:$F,2,0)))","v":""},null,null,null,null,null,null,null,null,null,null,null,null,{"$f":"IF(ISNA(VLOOKUP(A55,Machines!$B:$F,4,0)),\"\",(VLOOKUP(A55,Machines!$B:$F,4,0)))","v":""}]
[null,null,null,{"$f":"IF(ISNA(VLOOKUP(A56,Machines!$B:$F,2,0)),\"\",(VLOOKUP(A56,Machines!$B:$F,2,0)))","v":""},null,null,null,null,null,null,null,null,null,null,null,null,{"$f":"IF(ISNA(VLOOKUP(A56,Machines!$B:$F,4,0)),\"\",(VLOOKUP(A56,Machines!$B:$F,4,0)))","v":""}]
[null,null,null,{"$f":"IF(ISNA(VLOOKUP(A57,Machines!$B:$F,2,0)),\"\",(VLOOKUP(A57,Machines!$B:$F,2,0)))","v":""},null,null,null,null,null,null,null,null,null,null,null,null,{"$f":"IF(ISNA(VLOOKUP(A57,Machines!$B:$F,4,0)),\"\",(VLOOKUP(A57,Machines!$B:$F,4,0)))","v":""}]
[null,null,null,{"$f":"IF(ISNA(VLOOKUP(A58,Machines!$B:$F,2,0)),\"\",(VLOOKUP(A58,Machines!$B:$F,2,0)))","v":""},null,null,null,null,null,null,null,null,null,null,null,null,{"$f":"IF(ISNA(VLOOKUP(A58,Machines!$B:$F,4,0)),\"\",(VLOOKUP(A58,Machines!$B:$F,4,0)))","v":""}]
[null,null,null,{"$f":"IF(ISNA(VLOOKUP(A59,Machines!$B:$F,2,0)),\"\",(VLOOKUP(A59,Machines!$B:$F,2,0)))","v":""},null,null,null,null,null,null,null,null,null,null,null,null,{"$f":"IF(ISNA(VLOOKUP(A59,Machines!$B:$F,4,0)),\"\",(VLOOKUP(A59,Machines!$B:$F,4,0)))","v":""}]
[null,null,null,{"$f":"IF(ISNA(VLOOKUP(A60,Machines!$B:$F,2,0)),\"\",(VLOOKUP(A60,Machines!$B:$F,2,0)))","v":""},null,null,null,null,null,null,null,null,null,null,null,null,{"$f":"IF(ISNA(VLOOKUP(A60,Machines!$B:$F,4,0)),\"\",(VLOOKUP(A60,Machines!$B:$F,4,0)))","v":""}]
[null,null,null,{"$f":"IF(ISNA(VLOOKUP(A61,Machines!$B:$F,2,0)),\"\",(VLOOKUP(A61,Machines!$B:$F,2,0)))","v":""},null,null,null,null,null,null,null,null,null,null,null,null,{"$f":"IF(ISNA(VLOOKUP(A61,Machines!$B:$F,4,0)),\"\",(VLOOKUP(A61,Machines!$B:$F,4,0)))","v":""}]
[null,null,null,{"$f":"IF(ISNA(VLOOKUP(A62,Machines!$B:$F,2,0)),\"\",(VLOOKUP(A62,Machines!$B:$F,2,0)))","v":""},null,null,null,null,null,null,null,null,null,null,null,null,{"$f":"IF(ISNA(VLOOKUP(A62,Machines!$B:$F,4,0)),\"\",(VLOOKUP(A62,Machines!$B:$F,4,0)))","v":""}]
[null,null,null,{"$f":"IF(ISNA(VLOOKUP(A63,Machines!$B:$F,2,0)),\"\",(VLOOKUP(A63,Machines!$B:$F,2,0)))","v":""},null,null,null,null,null,null,null,null,null,null,null,null,{"$f":"IF(ISNA(VLOOKUP(A63,Machines!$B:$F,4,0)),\"\",(VLOOKUP(A63,Machines!$B:$F,4,0)))","v":""}]
[null,null,null,{"$f":"IF(ISNA(VLOOKUP(A64,Machines!$B:$F,2,0)),\"\",(VLOOKUP(A64,Machines!$B:$F,2,0)))","v":""},null,null,null,null,null,null,null,null,null,null,null,null,{"$f":"IF(ISNA(VLOOKUP(A64,Machines!$B:$F,4,0)),\"\",(VLOOKUP(A64,Machines!$B:$F,4,0)))","v":""}]
[null,null,null,{"$f":"IF(ISNA(VLOOKUP(A65,Machines!$B:$F,2,0)),\"\",(VLOOKUP(A65,Machines!$B:$F,2,0)))","v":""},null,null,null,null,null,null,null,null,null,null,null,null,{"$f":"IF(ISNA(VLOOKUP(A65,Machines!$B:$F,4,0)),\"\",(VLOOKUP(A65,Machines!$B:$F,4,0)))","v":""}]
[null,null,null,{"$f":"IF(ISNA(VLOOKUP(A66,Machines!$B:$F,2,0)),\"\",(VLOOKUP(A66,Machines!$B:$F,2,0)))","v":""},null,null,null,null,null,null,null,null,null,null,null,null,{"$f":"IF(ISNA(VLOOKUP(A66,Machines!$B:$F,4,0)),\"\",(VLOOKUP(A66,Machines!$B:$F,4,0)))","v":""}]
[null,null,null,{"$f":"IF(ISNA(VLOOKUP(A67,Machines!$B:$F,2,0)),\"\",(VLOOKUP(A67,Machines!$B:$F,2,0)))","v":""},null,null,null,null,null,null,null,null,null,null,null,null,{"$f":"IF(ISNA(VLOOKUP(A67,Machines!$B:$F,4,0)),\"\",(VLOOKUP(A67,Machines!$B:$F,4,0)))","v":""}]
[null,null,null,{"$f":"IF(ISNA(VLOOKUP(A68,Machines!$B:$F,2,0)),\"\",(VLOOKUP(A68,Machines!$B:$F,2,0)))","v":""},null,null,null,null,null,null,null,null,null,null,null,null,{"$f":"IF(ISNA(VLOOKUP(A68,Machines!$B:$F,4,0)),\"\",(VLOOKUP(A68,Machines!$B:$F,4,0)))","v":""}]
[null,null,null,{"$f":"IF(ISNA(VLOOKUP(A69,Machines!$B:$F,2,0)),\"\",(VLOOKUP(A69,Machines!$B:$F,2,0)))","v":""},null,null,null,null,null,null,null,null,null,null,null,null,{"$f":"IF(ISNA(VLOOKUP(A69,Machines!$B:$F,4,0)),\"\",(VLOOKUP(A69,Machines!$B:$F,4,0)))","v":""}]
[null,null,null,{"$f":"IF(ISNA(VLOOKUP(A70,Machines!$B:$F,2,0)),\"\",(VLOOKUP(A70,Machines!$B:$F,2,0)))","v":""},null,null,null,null,null,null,null,null,null,null,null,null,{"$f":"IF(ISNA(VLOOKUP(A70,Machines!$B:$F,4,0)),\"\",(VLOOKUP(A70,Machines!$B:$F,4,0)))","v":""}]
[null,null,null,{"$f":"IF(ISNA(VLOOKUP(A71,Machines!$B:$F,2,0)),\"\",(VLOOKUP(A71,Machines!$B:$F,2,0)))","v":""},null,null,null,null,null,null,null,null,null,null,null,null,{"$f":"IF(ISNA(VLOOKUP(A71,Machines!$B:$F,4,0)),\"\",(VLOOKUP(A71,Machines!$B:$F,4,0)))","v":""}]
[null,null,null,{"$f":"IF(ISNA(VLOOKUP(A72,Machines!$B:$F,2,0)),\"\",(VLOOKUP(A72,Machines!$B:$F,2,0)))","v":""},null,null,null,null,null,null,null,null,null,null,null,null,{"$f":"IF(ISNA(VLOOKUP(A72,Machines!$B:$F,4,0)),\"\",(VLOOKUP(A72,Machines!$B:$F,4,0)))","v":""}]
[null,null,null,{"$f":"IF(ISNA(VLOOKUP(A73,Machines!$B:$F,2,0)),\"\",(VLOOKUP(A73,Machines!$B:$F,2,0)))","v":""},null,null,null,null,null,null,null,null,null,null,null,null,{"$f":"IF(ISNA(VLOOKUP(A73,Machines!$B:$F,4,0)),\"\",(VLOOKUP(A73,Machines!$B:$F,4,0)))","v":""}]
[null,null,null,{"$f":"IF(ISNA(VLOOKUP(A74,Machines!$B:$F,2,0)),\"\",(VLOOKUP(A74,Machines!$B:$F,2,0)))","v":""},null,null,null,null,null,null,null,null,null,null,null,null,{"$f":"IF(ISNA(VLOOKUP(A74,Machines!$B:$F,4,0)),\"\",(VLOOKUP(A74,Machines!$B:$F,4,0)))","v":""}]
["CHANTIER :",null,null,null,null,{"$f":"F1","v":0},null,null,null,null,null,null,null,null,null,null,null,null,null,null,"N° CHANTIER :",null,null,null,null,null,{"$f":"AA1","v":0},null,null,null,"JOUR :",null,null,null,{"$f":"AI1","v":"Dimanche"},null,null,null,null,null,null,null,null,null,null,null,null,null,null,null,null,"DATES :",null,null,{"$f":"BC1","v":"17-01-16"}]
["MATERIAUX"]
[null,null,null,"Fournisseurs",null,null,null,null,null,null,null,null,null,null,null,null,null,null,"Description des fournitures & matériaux",null,null,null,null,null,null,null,null,null,null,null,null,null,null,null,null,null,null,null,null,null,null,null,null,null,null,null,null,null,null,"Qt totales",null,null,null,"U.",null,"Prix"]
[]
[]
[]
[]
[]
[]
[]
[]
[]
[]
[]
[]
[]
[]
[]
[]
[]
[]
[]
[]
[]
[]
[]
[]
[]
[]
[]
[]
[]
[]
[]
[null,null,null,"RESPONSABLE",null,null,null,null,null,null,null,null,"SIGNATURE",null,null,null,null,null,"DESCRIPTION DES TRAVAUX REALISES CE JOUR",null,null,null,null,null,null,null,null,null,null,null,null,null,null,null,null,null,null,null,null,null,null,null,null,null,null,null,null,null,null,"METEO"]
[null,null,null,"JENNES Loïc"]

{"sheet":"18-01-16","index":24,"n_rows":110,"n_cols":56,"rows_kept":110,"cut":false,"hidden":false,"merged":[[72,0,72,2],[72,3,72,15],[72,16,72,24],[72,25,72,28],[72,30,72,45],[72,46,72,54],[72,55,72,58],[73,0,73,2],[73,3,73,15],[73,16,73,24],[73,25,73,28],[73,30,73,45],[73,46,73,54],[73,55,73,58],[69,0,69,2],[69,3,69,15],[69,16,69,24],[69,25,69,28],[69,30,69,45],[69,46,69,54],[69,55,69,58],[71,0,71,2],[71,3,71,15],[71,16,71,24],[71,25,71,28],[71,30,71,45],[71,46,71,54],[71,55,71,58],[70,0,70,2],[70,3,70,15],[70,16,70,24],[70,25,70,28],[70,30,70,45],[70,46,70,54],[70,55,70,58],[67,0,67,2],[67,3,67,15],[67,16,67,24],[67,25,67,28],[67,30,67,45],[67,46,67,54],[67,55,67,58],[68,0,68,2],[68,3,68,15],[68,16,68,24],[68,25,68,28],[68,30,68,45],[68,46,68,54],[68,55,68,58],[65,0,65,2],[65,3,65,15],[65,16,65,24],[65,25,65,28],[65,30,65,45],[65,46,65,54],[65,55,65,58],[66,0,66,2],[66,3,66,15],[66,16,66,24],[66,25,66,28],[66,30,66,45],[66,46,66,54],[66,55,66,58],[63,0,63,2],[63,3,63,15],[63,16,63,24],[63,25,63,28],[63,30,63,45],[63,46,63,54],[63,55,63,58],[64,0,64,2],[64,3,64,15],[64,16,64,24],[64,25,64,28],[64,30,64,45],[64,46,64,54],[64,55,64,58],[61,0,61,2],[61,3,61,15],[61,16,61,24],[61,25,61,28],[61,30,61,45],[61,46,61,54],[61,55,61,58],[62,0,62,2],[62,3,62,15],[62,16,62,24],[62,25,62,28],[62,30,62,45],[62,46,62,54],[62,55,62,58],[59,0,59,2],[59,3,59,15],[59,16,59,24],[59,25,59,28],[59,30,59,45],[59,46,59,54],[59,55,59,58],[60,0,60,2],[60,3,60,15],[60,16,60,24],[60,25,60,28],[60,30,60,45],[60,46,60,54],[60,55,60,58],[57,0,57,2],[57,3,57,15],[57,16,57,24],[57,25,57,28],[57,30,57,45],[57,46,57,54],[57,55,57,58],[58,0,58,2],[58,3,58,15],[58,16,58,24],[58,25,58,28],[58,30,58,45],[58,46,58,54],[58,55,58,58],[55,0,55,2],[55,3,55,15],[55,16,55,24],[55,25,55,28],[55,30,55,45],[55,46,55,54],[55,55,55,58],[56,0,56,2],[56,3,56,15],[56,16,56,24],[56,25,56,28],[56,30,56,45],[56,46,56,54],[56,55,56,58],[53,0,53,2],[53,3,53,15],[53,16,53,24],[53,25,53,28],[53,30,53,45],[53,46,53,54],[53,55,53,58],[54,0,54,2],[54,3,54,15],[54,16,54,24],[54,25,54,28],[54,30,54,45],[54,46,54,54],[54,55,54,58],[51,0,51,2],[51,3,51,15],[51,16,51,24],[51,25,51,28],[51,30,51,45],[51,46,51,54],[51,55,51,58],[52,0,52,2],[52,3,52,15],[52,16,52,24],[52,25,52,28],[52,30,52,45],[52,46,52,54],[52,55,52,58],[49,0,49,2],[49,3,49,15],[49,16,49,24],[49,25,49,28],[49,30,49,45],[49,46,49,54],[49,55,49,58],[50,0,50,2],[50,3,50,15],[50,16,50,24],[50,25,50,28],[50,30,50,45],[50,46,50,54],[50,55,50,58],[47,0,47,2],[47,3,47,15],[47,16,47,24],[47,25,47,28],[47,30,47,45],[47,46,47,54],[47,55,47,58],[48,0,48,2],[48,3,48,15],[48,16,48,24],[48,25,48,28],[48,30,48,45],[48,46,48,54],[48,55,48,58],[45,0,45,2],[45,3,45,15],[45,16,45,24],[45,25,45,28],[45,30,45,45],[45,46,45,54],[45,55,45,58],[46,0,46,2],[46,3,46,15],[46,16,46,24],[46,25,46,28],[46,30,46,45],[46,46,46,54],[46,55,46,58],[43,0,43,2],[43,3,43,15],[43,16,43,24],[43,25,43,28],[43,30,43,45],[43,46,43,54],[43,55,43,58],[44,0,44,2],[44,3,44,15],[44,16,44,24],[44,25,44,28],[44,30,44,45],[44,46,44,54],[44,55,44,58],[41,25,41,28],[41,30,41,45],[41,46,41,54],[41,55,41,58],[42,0,42,2],[42,3,42,15],[42,16,42,24],[42,25,42,28],[42,30,42,45],[42,46,42,54],[42,55,42,58],[37,0,37,4],[37,5,37,19],[37,20,37,25],[37,26,37,28],[37,30,37,32],[37,34,37,47],[37,51,37,53],[37,54,37,58],[38,0,38,28],[38,29,73,29],[38,30,38,58],[39,0,39,4],[39,6,39,9],[39,12,39,15],[40,0,40,2],[40,3,40,15],[40,16,40,24],[40,25,40,28],[40,30,40,45],[40,46,40,54],[40,55,40,58],[41,0,41,2],[41,3,41,15],[41,16,41,24],[36,0,36,15],[36,16,36,18],[36,19,36,21],[36,22,36,24],[36,25,36,28],[36,30,36,32],[36,33,36,45],[36,46,36,54],[36,55,36,58],[35,0,35,15],[35,16,35,18],[35,19,35,21],[35,22,35,24],[35,25,35,28],[35,30,35,32],[35,33,35,45],[35,46,35,54],[35,55,35,58],[34,0,34,15],[34,16,34,18],[34,19,34,21],[34,22,34,24],[34,25,34,28],[34,30,34,32],[34,33,34,45],[34,46,34,54],[34,55,34,58],[33,0,33,15],[33,16,33,18],[33,19,33,21],[33,22,33,24],[33,25,33,28],[33,30,33,32],[33,33,33,45],[33,46,33,54],[33,55,33,58],[32,0,32,15],[32,16,32,18],[32,19,32,21],[32,22,32,24],[32,25,32,28],[32,30,32,32],[32,33,32,45],[32,46,32,54],[32,55,32,58],[31,0,31,15],[31,16,31,18],[31,19,31,21],[31,22,31,24],[31,25,31,28],[31,30,31,32],[31,33,31,45],[31,46,31,54],[31,55,31,58],[30,0,30,15],[30,16,30,18],[30,19,30,21],[30,22,30,24],[30,25,30,28],[30,30,30,32],[30,33,30,45],[30,46,30,54],[30,55,30,58],[29,0,29,15],[29,16,29,18],[29,19,29,21],[29,22,29,24],[29,25,29,28],[29,30,29,32],[29,33,29,45],[29,46,29,54],[29,55,29,58],[28,0,28,15],[28,16,28,18],[28,19,28,21],[28,22,28,24],[28,25,28,28],[28,30,28,32],[28,33,28,45],[28,46,28,54],[28,55,28,58],[27,0,27,15],[27,16,27,18],[27,19,27,21],[27,22,27,24],[27,25,27,28],[27,30,27,32],[27,33,27,45],[27,46,27,54],[27,55,27,58],[26,0,26,15],[26,16,26,18],[26,19,26,21],[26,22,26,24],[26,25,26,28],[26,30,26,32],[26,33,26,45],[26,46,26,54],[26,55,26,58],[25,0,25,15],[25,16,25,18],[25,19,25,21],[25,22,25,24],[25,25,25,28],[25,30,25,32],[25,33,25,45],[25,46,25,54],[25,55,25,58],[24,0,24,15],[24,16,24,18],[24,19,24,21],[24,22,24,24],[24,25,24,28],[24,30,24,32],[24,33,24,45],[24,46,24,54],[24,55,24,58],[23,0,23,15],[23,16,23,18],[23,19,23,21],[23,22,23,24],[23,25,23,28],[23,30,23,32],[23,33,23,45],[23,46,23,54],[23,55,23,58],[22,0,22,15],[22,16,22,18],[22,19,22,21],[22,22,22,24],[22,25,22,28],[22,30,22,32],[22,33,22,45],[22,46,22,54],[22,55,22,58],[21,0,21,15],[21,16,21,18],[21,19,21,21],[21,22,21,24],[21,25,21,28],[21,30,21,32],[21,33,21,45],[21,46,21,54],[21,55,21,58],[20,0,20,15],[20,16,20,18],[20,19,20,21],[20,22,20,24],[20,25,20,28],[20,30,20,32],[20,33,20,45],[20,46,20,54],[20,55,20,58],[19,0,19,15],[19,16,19,18],[19,19,19,21],[19,22,19,24],[19,25,19,28],[19,30,19,32],[19,33,19,45],[19,46,19,54],[19,55,19,58],[18,0,18,15],[18,16,18,18],[18,19,18,21],[18,22,18,24],[18,25,18,28],[18,30,18,32],[18,33,18,45],[18,46,18,54],[18,55,18,58],[17,0,17,15],[17,16,17,18],[17,19,17,21],[17,22,17,24],[17,25,17,28],[17,30,17,32],[17,33,17,45],[17,46,17,54],[17,55,17,58],[16,0,16,15],[16,16,16,18],[16,19,16,21],[16,22,16,24],[16,25,16,28],[16,30,16,32],[16,33,16,45],[16,46,16,54],[16,55,16,58],[15,0,15,15],[15,16,15,18],[15,19,15,21],[15,22,15,24],[15,25,15,28],[15,30,15,32],[15,33,15,45],[15,46,15,54],[15,55,15,58],[14,0,14,15],[14,16,14,18],[14,19,14,21],[14,22,14,24],[14,25,14,28],[14,30,14,32],[14,33,14,45],[14,46,14,54],[14,55,14,58],[13,0,13,15],[13,16,13,18],[13,19,13,21],[13,22,13,24],[13,25,13,28],[13,30,13,32],[13,33,13,45],[13,46,13,54],[13,55,13,58],[12,0,12,15],[12,16,12,18],[12,19,12,21],[12,22,12,24],[12,25,12,28],[12,30,12,32],[12,33,12,45],[12,46,12,54],[12,55,12,58],[11,0,11,15],[11,16,11,18],[11,19,11,21],[11,22,11,24],[11,25,11,28],[11,30,11,32],[11,33,11,45],[11,46,11,54],[11,55,11,58],[10,0,10,15],[10,16,10,18],[10,19,10,21],[10,22,10,24],[10,25,10,28],[10,30,10,32],[10,33,10,45],[10,46,10,54],[10,55,10,58],[9,0,9,15],[9,16,9,18],[9,19,9,21],[9,22,9,24],[9,25,9,28],[9,30,9,32],[9,33,9,45],[9,46,9,54],[9,55,9,58],[8,0,8,15],[8,16,8,18],[8,19,8,21],[8,22,8,24],[8,25,8,28],[8,30,8,32],[8,33,8,45],[8,46,8,54],[8,55,8,58],[7,0,7,15],[7,16,7,18],[7,19,7,21],[7,22,7,24],[7,25,7,28],[7,30,7,32],[7,33,7,45],[7,46,7,54],[7,55,7,58],[6,0,6,15],[6,16,6,18],[6,19,6,21],[6,22,6,24],[6,25,6,28],[6,30,6,32],[6,33,6,45],[6,46,6,54],[6,55,6,58],[5,0,5,15],[5,16,5,18],[5,19,5,21],[5,22,5,24],[5,25,5,28],[5,30,5,32],[5,33,5,45],[5,46,5,54],[5,55,5,58],[3,30,3,32],[3,33,3,45],[3,46,3,54],[3,55,3,58],[4,0,4,15],[4,16,4,18],[4,19,4,21],[4,22,4,24],[4,25,4,28],[4,30,4,32],[4,33,4,45],[4,46,4,54],[4,55,4,58],[0,0,0,4],[0,5,0,19],[0,20,0,25],[0,26,0,28],[0,30,0,32],[0,34,0,47],[0,51,0,53],[0,54,0,58],[1,0,1,28],[1,29,36,29],[1,30,1,58],[2,0,2,4],[2,7,2,10],[2,13,2,16],[2,19,2,22],[2,25,2,28],[2,30,2,34],[2,36,2,39],[2,42,2,45],[3,0,3,15],[3,16,3,18],[3,19,3,21],[3,22,3,24],[3,25,3,28],[109,18,109,48],[111,18,111,48],[108,18,108,48],[108,3,108,11],[108,12,108,17],[109,3,111,11],[109,12,111,17],[108,49,108,58],[109,49,111,58],[110,18,110,48],[107,3,107,17],[107,18,107,48],[103,3,103,17],[103,18,103,48],[106,3,106,17],[106,18,106,48],[104,3,104,17],[104,18,104,48],[105,3,105,17],[105,18,105,48],[102,3,102,17],[102,18,102,48],[99,3,99,17],[99,18,99,48],[100,3,100,17],[100,18,100,48],[101,49,101,52],[101,53,101,54],[101,55,101,58],[102,49,102,52],[102,53,102,54],[102,55,102,58],[99,55,99,58],[100,49,100,52],[100,53,100,54],[100,55,100,58],[95,53,95,54],[95,55,95,58],[96,49,96,52],[96,53,96,54],[96,55,96,58],[97,49,97,52],[97,53,97,54],[101,3,101,17],[101,18,101,48],[97,3,97,17],[97,18,97,48],[98,3,98,17],[98,18,98,48],[95,3,95,17],[95,18,95,48],[96,3,96,17],[96,18,96,48],[95,49,95,52],[97,55,97,58],[98,49,98,52],[98,53,98,54],[98,55,98,58],[99,49,99,52],[99,53,99,54],[94,3,94,17],[94,18,94,48],[91,3,91,17],[91,18,91,48],[92,3,92,17],[92,18,92,48],[93,49,93,52],[93,53,93,54],[93,55,93,58],[94,49,94,52],[94,53,94,54],[94,55,94,58],[91,55,91,58],[92,49,92,52],[92,53,92,54],[92,55,92,58],[87,53,87,54],[87,55,87,58],[88,49,88,52],[88,53,88,54],[88,55,88,58],[89,49,89,52],[89,53,89,54],[93,3,93,17],[93,18,93,48],[89,3,89,17],[89,18,89,48],[90,3,90,17],[90,18,90,48],[87,3,87,17],[87,18,87,48],[88,3,88,17],[88,18,88,48],[87,49,87,52],[89,55,89,58],[90,49,90,52],[90,53,90,54],[90,55,90,58],[91,49,91,52],[91,53,91,54],[86,3,86,17],[86,18,86,48],[83,3,83,17],[83,18,83,48],[84,3,84,17],[84,18,84,48],[85,49,85,52],[85,53,85,54],[85,55,85,58],[86,49,86,52],[86,53,86,54],[86,55,86,58],[83,55,83,58],[84,49,84,52],[84,53,84,54],[84,55,84,58],[79,53,79,54],[79,55,79,58],[80,49,80,52],[80,53,80,54],[80,55,80,58],[81,49,81,52],[81,53,81,54],[85,3,85,17],[85,18,85,48],[81,3,81,17],[81,18,81,48],[82,3,82,17],[82,18,82,48],[79,3,79,17],[79,18,79,48],[80,3,80,17],[80,18,80,48],[79,49,79,52],[81,55,81,58],[82,49,82,52],[82,53,82,54],[82,55,82,58],[83,49,83,52],[83,53,83,54],[74,54,74,58],[75,0,75,58],[76,49,76,52],[76,53,76,54],[76,55,76,58],[77,3,77,17],[77,18,77,48],[78,3,78,17],[78,18,78,48],[77,49,77,52],[77,53,77,54],[77,55,77,58],[78,49,78,52],[78,53,78,54],[78,55,78,58],[76,3,76,17],[76,18,76,48],[74,0,74,4],[74,5,74,19],[74,20,74,25],[74,26,74,28],[74,30,74,32],[74,34,74,47],[74,51,74,53],[106,49,106,52],[106,53,106,54],[106,55,106,58],[107,49,107,52],[107,53,107,54],[107,55,107,58],[103,49,103,52],[103,53,103,54],[103,55,103,58],[104,49,104,52],[104,53,104,54],[104,55,104,58],[105,49,105,52],[105,53,105,54],[105,55,105,58]]}
["CHANTIER :",null,null,null,null,{"$f":"'01-01-16'!F1","v":0},null,null,null,null,null,null,null,null,null,null,null,null,null,null,"N° CHANTIER :",null,null,null,null,null,{"$f":"'01-01-16'!AA1","v":0},null,null,null,"JOUR :",null,null,null,{"$f":" CHOOSE(WEEKDAY(BC1,2),\"Lundi\",\"Mardi\",\"Mercredi\",\"Jeudi\",\"Vendredi\",\"Samedi\",\"Dimanche\")","v":"Lundi"},null,null,null,null,null,null,null,null,null,null,null,null,null,null,null,null,"DATES :",null,null,{"$f":"MID(CELL(\"nomfichier\",A1),FIND(\"]\",CELL(\"nomfichier\",A1),1)+1,30)","v":"18-01-16"}]
["MAIN D'ŒUVRE",null,null,null,null,null,null,null,null,null,null,null,null,null,null,null,null,null,null,null,null,null,null,null,null,null,null,null,null,null,"CAMIONS"]
["Légende :",null,null,null,null,null,"Co",".= Congé",null,null,null,null,"M",".= Malade",null,null,null,null,"Cho",".= Chômage",null,null,null,null,"Va",".= Vacance",null,null,null,null,"Légende :",null,null,null,null,"Pa",".= Panne",null,null,null,null,"Ent",".= Entretien"]
["NOM - Prénom du travailleur",null,null,null,null,null,null,null,null,null,null,null,null,null,null,null,"Début journée",null,null,"Arrêt repas",null,null,"Fin journée",null,null,"Heures prestées",null,null,null,null,"N°",null,null,"Description du matériel",null,null,null,null,null,null,null,null,null,null,null,null,"Nom de l'opérateur",null,null,null,null,null,null,null,null,"Heures"]
[null,null,null,null,null,null,null,null,null,null,null,null,null,null,null,null,null,null,null,null,null,null,null,null,null,{"$f":"W5-Q5-T5","v":0},null,null,null,null,null,null,null,{"$f":"IF(ISNA(VLOOKUP(AE5,Camions!$B:$F,2,0)),\"\",(VLOOKUP(AE5,Camions!$B:$F,2,0)))","v":""},null,null,null,null,null,null,null,null,null,null,null,null,{"$f":"IF(ISNA(VLOOKUP(AE5,Camions!$B:$F,4,0)),\"\",(VLOOKUP(AE5,Camions!$B:$F,4,0)))","v":""}]
[null,null,null,null,null,null,null,null,null,null,null,null,null,null,null,null,null,null,null,null,null,null,null,null,null,{"$f":"W6-Q6-T6","v":0},null,null,null,null,null,null,null,{"$f":"IF(ISNA(VLOOKUP(AE6,Camions!$B:$F,2,0)),\"\",(VLOOKUP(AE6,Camions!$B:$F,2,0)))","v":""},null,null,null,null,null,null,null,null,null,null,null,null,{"$f":"IF(ISNA(VLOOKUP(AE6,Camions!$B:$F,4,0)),\"\",(VLOOKUP(AE6,Camions!$B:$F,4,0)))","v":""}]
[null,null,null,null,null,null,null,null,null,null,null,null,null,null,null,null,null,null,null,null,null,null,null,null,null,0,null,null,null,null,null,null,null,{"$f":"IF(ISNA(VLOOKUP(AE7,Camions!$B:$F,2,0)),\"\",(VLOOKUP(AE7,Camions!$B:$F,2,0)))","v":""},null,null,null,null,null,null,null,null,null,null,null,null,{"$f":"IF(ISNA(VLOOKUP(AE7,Camions!$B:$F,4,0)),\"\",(VLOOKUP(AE7,Camions!$B:$F,4,0)))","v":""}]
[null,null,null,null,null,null,null,null,null,null,null,null,null,null,null,null,null,null,null,null,null,null,null,null,null,0,null,null,null,null,null,null,null,{"$f":"IF(ISNA(VLOOKUP(AE8,Camions!$B:$F,2,0)),\"\",(VLOOKUP(AE8,Camions!$B:$F,2,0)))","v":""},null,null,null,null,null,null,null,null,null,null,null,null,{"$f":"IF(ISNA(VLOOKUP(AE8,Camions!$B:$F,4,0)),\"\",(VLOOKUP(AE8,Camions!$B:$F,4,0)))","v":""}]
[null,null,null,null,null,null,null,null,null,null,null,null,null,null,null,null,null,null,null,null,null,null,null,null,null,0,null,null,null,null,null,null,null,{"$f":"IF(ISNA(VLOOKUP(AE9,Camions!$B:$F,2,0)),\"\",(VLOOKUP(AE9,Camions!$B:$F,2,0)))","v":""},null,null,null,null,null,null,null,null,null,null,null,null,{"$f":"IF(ISNA(VLOOKUP(AE9,Camions!$B:$F,4,0)),\"\",(VLOOKUP(AE9,Camions!$B:$F,4,0)))","v":""}]
[null,null,null,null,null,null,null,null,null,null,null,null,null,null,null,null,null,null,null,null,null,null,null,null,null,0,null,null,null,null,null,null,null,{"$f":"IF(ISNA(VLOOKUP(AE10,Camions!$B:$F,2,0)),\"\",(VLOOKUP(AE10,Camions!$B:$F,2,0)))","v":""},null,null,null,null,null,null,null,null,null,null,null,null,{"$f":"IF(ISNA(VLOOKUP(AE10,Camions!$B:$F,4,0)),\"\",(VLOOKUP(AE10,Camions!$B:$F,4,0)))","v":""}]
[null,null,null,null,null,null,null,null,null,null,null,null,null,null,null,null,null,null,null,null,null,null,null,null,null,0,null,null,null,null,null,null,null,{"$f":"IF(ISNA(VLOOKUP(AE11,Camions!$B:$F,2,0)),\"\",(VLOOKUP(AE11,Camions!$B:$F,2,0)))","v":""},null,null,null,null,null,null,null,null,null,null,null,null,{"$f":"IF(ISNA(VLOOKUP(AE11,Camions!$B:$F,4,0)),\"\",(VLOOKUP(AE11,Camions!$B:$F,4,0)))","v":""}]
[null,null,null,null,null,null,null,null,null,null,null,null,null,null,null,null,null,null,null,null,null,null,null,null,null,0,null,null,null,null,null,null,null,{"$f":"IF(ISNA(VLOOKUP(AE12,Camions!$B:$F,2,0)),\"\",(VLOOKUP(AE12,Camions!$B:$F,2,0)))","v":""},null,null,null,null,null,null,null,null,null,null,null,null,{"$f":"IF(ISNA(VLOOKUP(AE12,Camions!$B:$F,4,0)),\"\",(VLOOKUP(AE12,Camions!$B:$F,4,0)))","v":""}]
[null,null,null,null,null,null,null,null,null,null,null,null,null,null,null,null,null,null,null,null,null,null,null,null,null,0,null,null,null,null,null,null,null,{"$f":"IF(ISNA(VLOOKUP(AE13,Camions!$B:$F,2,0)),\"\",(VLOOKUP(AE13,Camions!$B:$F,2,0)))","v":""},null,null,null,null,null,null,null,null,null,null,null,null,{"$f":"IF(ISNA(VLOOKUP(AE13,Camions!$B:$F,4,0)),\"\",(VLOOKUP(AE13,Camions!$B:$F,4,0)))","v":""}]
[null,null,null,null,null,null,null,null,null,null,null,null,null,null,null,null,null,null,null,null,null,null,null,null,null,0,null,null,null,null,null,null,null,{"$f":"IF(ISNA(VLOOKUP(AE14,Camions!$B:$F,2,0)),\"\",(VLOOKUP(AE14,Camions!$B:$F,2,0)))","v":""},null,null,null,null,null,null,null,null,null,null,null,null,{"$f":"IF(ISNA(VLOOKUP(AE14,Camions!$B:$F,4,0)),\"\",(VLOOKUP(AE14,Camions!$B:$F,4,0)))","v":""}]
[null,null,null,null,null,null,null,null,null,null,null,null,null,null,null,null,null,null,null,null,null,null,null,null,null,0,null,null,null,null,null,null,null,{"$f":"IF(ISNA(VLOOKUP(AE15,Camions!$B:$F,2,0)),\"\",(VLOOKUP(AE15,Camions!$B:$F,2,0)))","v":""},null,null,null,null,null,null,null,null,null,null,null,null,{"$f":"IF(ISNA(VLOOKUP(AE15,Camions!$B:$F,4,0)),\"\",(VLOOKUP(AE15,Camions!$B:$F,4,0)))","v":""}]
[null,null,null,null,null,null,null,null,null,null,null,null,null,null,null,null,null,null,null,null,null,null,null,null,null,0,null,null,null,null,null,null,null,{"$f":"IF(ISNA(VLOOKUP(AE16,Camions!$B:$F,2,0)),\"\",(VLOOKUP(AE16,Camions!$B:$F,2,0)))","v":""},null,null,null,null,null,null,null,null,null,null,null,null,{"$f":"IF(ISNA(VLOOKUP(AE16,Camions!$B:$F,4,0)),\"\",(VLOOKUP(AE16,Camions!$B:$F,4,0)))","v":""}]
[null,null,null,null,null,null,null,null,null,null,null,null,null,null,null,null,null,null,null,null,null,null,null,null,null,0,null,null,null,null,null,null,null,{"$f":"IF(ISNA(VLOOKUP(AE17,Camions!$B:$F,2,0)),\"\",(VLOOKUP(AE17,Camions!$B:$F,2,0)))","v":""},null,null,null,null,null,null,null,null,null,null,null,null,{"$f":"IF(ISNA(VLOOKUP(AE17,Camions!$B:$F,4,0)),\"\",(VLOOKUP(AE17,Camions!$B:$F,4,0)))","v":""}]
[null,null,null,null,null,null,null,null,null,null,null,null,null,null,null,null,null,null,null,null,null,null,null,null,null,0,null,null,null,null,null,null,null,{"$f":"IF(ISNA(VLOOKUP(AE18,Camions!$B:$F,2,0)),\"\",(VLOOKUP(AE18,Camions!$B:$F,2,0)))","v":""},null,null,null,null,null,null,null,null,null,null,null,null,{"$f":"IF(ISNA(VLOOKUP(AE18,Camions!$B:$F,4,0)),\"\",(VLOOKUP(AE18,Camions!$B:$F,4,0)))","v":""}]
[null,null,null,null,null,null,null,null,null,null,null,null,null,null,null,null,null,null,null,null,null,null,null,null,null,0,null,null,null,null,null,null,null,{"$f":"IF(ISNA(VLOOKUP(AE19,Camions!$B:$F,2,0)),\"\",(VLOOKUP(AE19,Camions!$B:$F,2,0)))","v":""},null,null,null,null,null,null,null,null,null,null,null,null,{"$f":"IF(ISNA(VLOOKUP(AE19,Camions!$B:$F,4,0)),\"\",(VLOOKUP(AE19,Camions!$B:$F,4,0)))","v":""}]
[null,null,null,null,null,null,null,null,null,null,null,null,null,null,null,null,null,null,null,null,null,null,null,null,null,0,null,null,null,null,null,null,null,{"$f":"IF(ISNA(VLOOKUP(AE20,Camions!$B:$F,2,0)),\"\",(VLOOKUP(AE20,Camions!$B:$F,2,0)))","v":""},null,null,null,null,null,null,null,null,null,null,null,null,{"$f":"IF(ISNA(VLOOKUP(AE20,Camions!$B:$F,4,0)),\"\",(VLOOKUP(AE20,Camions!$B:$F,4,0)))","v":""}]
[null,null,null,null,null,null,null,null,null,null,null,null,null,null,null,null,null,null,null,null,null,null,null,null,null,0,null,null,null,null,null,null,null,{"$f":"IF(ISNA(VLOOKUP(AE21,Camions!$B:$F,2,0)),\"\",(VLOOKUP(AE21,Camions!$B:$F,2,0)))","v":""},null,null,null,null,null,null,null,null,null,null,null,null,{"$f":"IF(ISNA(VLOOKUP(AE21,Camions!$B:$F,4,0)),\"\",(VLOOKUP(AE21,Camions!$B:$F,4,0)))","v":""}]
[null,null,null,null,null,null,null,null,null,null,null,null,null,null,null,null,null,null,null,null,null,null,null,null,null,0,null,null,null,null,null,null,null,{"$f":"IF(ISNA(VLOOKUP(AE22,Camions!$B:$F,2,0)),\"\",(VLOOKUP(AE22,Camions!$B:$F,2,0)))","v":""},null,null,null,null,null,null,null,null,null,null,null,null,{"$f":"IF(ISNA(VLOOKUP(AE22,Camions!$B:$F,4,0)),\"\",(VLOOKUP(AE22,Camions!$B:$F,4,0)))","v":""}]
[null,null,null,null,null,null,null,null,null,null,null,null,null,null,null,null,null,null,null,null,null,null,null,null,null,0,null,null,null,null,null,null,null,{"$f":"IF(ISNA(VLOOKUP(AE23,Camions!$B:$F,2,0)),\"\",(VLOOKUP(AE23,Camions!$B:$F,2,0)))","v":""},null,null,null,null,null,null,null,null,null,null,null,null,{"$f":"IF(ISNA(VLOOKUP(AE23,Camions!$B:$F,4,0)),\"\",(VLOOKUP(AE23,Camions!$B:$F,4,0)))","v":""}]
[null,null,null,null,null,null,null,null,null,null,null,null,null,null,null,null,null,null,null,null,null,null,null,null,null,0,null,null,null,null,null,null,null,{"$f":"IF(ISNA(VLOOKUP(AE24,Camions!$B:$F,2,0)),\"\",(VLOOKUP(AE24,Camions!$B:$F,2,0)))","v":""},null,null,null,null,null,null,null,null,null,null,null,null,{"$f":"IF(ISNA(VLOOKUP(AE24,Camions!$B:$F,4,0)),\"\",(VLOOKUP(AE24,Camions!$B:$F,4,0)))","v":""}]
[null,null,null,null,null,null,null,null,null,null,null,null,null,null,null,null,null,null,null,null,null,null,null,null,null,0,null,null,null,null,null,null,null,{"$f":"IF(ISNA(VLOOKUP(AE25,Camions!$B:$F,2,0)),\"\",(VLOOKUP(AE25,Camions!$B:$F,2,0)))","v":""},null,null,null,null,null,null,null,null,null,null,null,null,{"$f":"IF(ISNA(VLOOKUP(AE25,Camions!$B:$F,4,0)),\"\",(VLOOKUP(AE25,Camions!$B:$F,4,0)))","v":""}]
[null,null,null,null,null,null,null,null,null,null,null,null,null,null,null,null,null,null,null,null,null,null,null,null,null,0,null,null,null,null,null,null,null,{"$f":"IF(ISNA(VLOOKUP(AE26,Camions!$B:$F,2,0)),\"\",(VLOOKUP(AE26,Camions!$B:$F,2,0)))","v":""},null,null,null,null,null,null,null,null,null,null,null,null,{"$f":"IF(ISNA(VLOOKUP(AE26,Camions!$B:$F,4,0)),\"\",(VLOOKUP(AE26,Camions!$B:$F,4,0)))","v":""}]
[null,null,null,null,null,null,null,null,null,null,null,null,null,null,null,null,null,null,null,null,null,null,null,null,null,0,null,null,null,null,null,null,null,{"$f":"IF(ISNA(VLOOKUP(AE27,Camions!$B:$F,2,0)),\"\",(VLOOKUP(AE27,Camions!$B:$F,2,0)))","v":""},null,null,null,null,null,null,null,null,null,null,null,null,{"$f":"IF(ISNA(VLOOKUP(AE27,Camions!$B:$F,4,0)),\"\",(VLOOKUP(AE27,Camions!$B:$F,4,0)))","v":""}]
[null,null,null,null,null,null,null,null,null,null,null,null,null,null,null,null,null,null,null,null,null,null,null,null,null,0,null,null,null,null,null,null,null,{"$f":"IF(ISNA(VLOOKUP(AE28,Camions!$B:$F,2,0)),\"\",(VLOOKUP(AE28,Camions!$B:$F,2,0)))","v":""},null,null,null,null,null,null,null,null,null,null,null,null,{"$f":"IF(ISNA(VLOOKUP(AE28,Camions!$B:$F,4,0)),\"\",(VLOOKUP(AE28,Camions!$B:$F,4,0)))","v":""}]
[null,null,null,null,null,null,null,null,null,null,null,null,null,null,null,null,null,null,null,null,null,null,null,null,null,0,null,null,null,null,null,null,null,{"$f":"IF(ISNA(VLOOKUP(AE29,Camions!$B:$F,2,0)),\"\",(VLOOKUP(AE29,Camions!$B:$F,2,0)))","v":""},null,null,null,null,null,null,null,null,null,null,null,null,{"$f":"IF(ISNA(VLOOKUP(AE29,Camions!$B:$F,4,0)),\"\",(VLOOKUP(AE29,Camions!$B:$F,4,0)))","v":""}]
[null,null,null,null,null,null,null,null,null,null,null,null,null,null,null,null,null,null,null,null,null,null,null,null,null,0,null,null,null,null,null,null,null,{"$f":"IF(ISNA(VLOOKUP(AE30,Camions!$B:$F,2,0)),\"\",(VLOOKUP(AE30,Camions!$B:$F,2,0)))","v":""},null,null,null,null,null,null,null,null,null,null,null,null,{"$f":"IF(ISNA(VLOOKUP(AE30,Camions!$B:$F,4,0)),\"\",(VLOOKUP(AE30,Camions!$B:$F,4,0)))","v":""}]
[null,null,null,null,null,null,null,null,null,null,null,null,null,null,null,null,null,null,null,null,null,null,null,null,null,0,null,null,null,null,null,null,null,{"$f":"IF(ISNA(VLOOKUP(AE31,Camions!$B:$F,2,0)),\"\",(VLOOKUP(AE31,Camions!$B:$F,2,0)))","v":""},null,null,null,null,null,null,null,null,null,null,null,null,{"$f":"IF(ISNA(VLOOKUP(AE31,Camions!$B:$F,4,0)),\"\",(VLOOKUP(AE31,Camions!$B:$F,4,0)))","v":""}]
[null,null,null,null,null,null,null,null,null,null,null,null,null,null,null,null,null,null,null,null,null,null,null,null,null,0,null,null,null,null,null,null,null,{"$f":"IF(ISNA(VLOOKUP(AE32,Camions!$B:$F,2,0)),\"\",(VLOOKUP(AE32,Camions!$B:$F,2,0)))","v":""},null,null,null,null,null,null,null,null,null,null,null,null,{"$f":"IF(ISNA(VLOOKUP(AE32,Camions!$B:$F,4,0)),\"\",(VLOOKUP(AE32,Camions!$B:$F,4,0)))","v":""}]
[null,null,null,null,null,null,null,null,null,null,null,null,null,null,null,null,null,null,null,null,null,null,null,null,null,0,null,null,null,null,null,null,null,{"$f":"IF(ISNA(VLOOKUP(AE33,Camions!$B:$F,2,0)),\"\",(VLOOKUP(AE33,Camions!$B:$F,2,0)))","v":""},null,null,null,null,null,null,null,null,null,null,null,null,{"$f":"IF(ISNA(VLOOKUP(AE33,Camions!$B:$F,4,0)),\"\",(VLOOKUP(AE33,Camions!$B:$F,4,0)))","v":""}]
[null,null,null,null,null,null,null,null,null,null,null,null,null,null,null,null,null,null,null,null,null,null,null,null,null,0,null,null,null,null,null,null,null,{"$f":"IF(ISNA(VLOOKUP(AE34,Camions!$B:$F,2,0)),\"\",(VLOOKUP(AE34,Camions!$B:$F,2,0)))","v":""},null,null,null,null,null,null,null,null,null,null,null,null,{"$f":"IF(ISNA(VLOOKUP(AE34,Camions!$B:$F,4,0)),\"\",(VLOOKUP(AE34,Camions!$B:$F,4,0)))","v":""}]
[null,null,null,null,null,null,null,null,null,null,null,null,null,null,null,null,null,null,null,null,null,null,null,null,null,0,null,null,null,null,null,null,null,{"$f":"IF(ISNA(VLOOKUP(AE35,Camions!$B:$F,2,0)),\"\",(VLOOKUP(AE35,Camions!$B:$F,2,0)))","v":""},null,null,null,null,null,null,null,null,null,null,null,null,{"$f":"IF(ISNA(VLOOKUP(AE35,Camions!$B:$F,4,0)),\"\",(VLOOKUP(AE35,Camions!$B:$F,4,0)))","v":""}]
[null,null,null,null,null,null,null,null,null,null,null,null,null,null,null,null,null,null,null,null,null,null,null,null,null,0,null,null,null,null,null,null,null,{"$f":"IF(ISNA(VLOOKUP(AE36,Camions!$B:$F,2,0)),\"\",(VLOOKUP(AE36,Camions!$B:$F,2,0)))","v":""},null,null,null,null,null,null,null,null,null,null,null,null,{"$f":"IF(ISNA(VLOOKUP(AE36,Camions!$B:$F,4,0)),\"\",(VLOOKUP(AE36,Camions!$B:$F,4,0)))","v":""}]
[null,null,null,null,null,null,null,null,null,null,null,null,null,null,null,null,null,null,null,null,null,null,null,null,null,0,null,null,null,null,null,null,null,{"$f":"IF(ISNA(VLOOKUP(AE37,Camions!$B:$F,2,0)),\"\",(VLOOKUP(AE37,Camions!$B:$F,2,0)))","v":""},null,null,null,null,null,null,null,null,null,null,null,null,{"$f":"IF(ISNA(VLOOKUP(AE36,Camions!$B:$F,4,0)),\"\",(VLOOKUP(AE36,Camions!$B:$F,4,0)))","v":""}]
["CHANTIER :",null,null,null,null,{"$f":"F1","v":0},null,null,null,null,null,null,null,null,null,null,null,null,null,null,"N° CHANTIER :",null,null,null,null,null,{"$f":"AA1","v":0},null,null,null,"JOUR :",null,null,null,{"$f":"AI1","v":"Lundi"},null,null,null,null,null,null,null,null,null,null,null,null,null,null,null,null,"DATES :",null,null,{"$f":"BC1","v":"18-01-16"}]
["MATERIEL",null,null,null,null,null,null,null,null,null,null,null,null,null,null,null,null,null,null,null,null,null,null,null,null,null,null,null,null,null,"SOUS-TRAITANTS"]
["Légende :",null,null,null,null,"Pa",".= Panne",null,null,null,null,"Ent",".= Entretien"]
["N°",null,null,"Description du matériel",null,null,null,null,null,null,null,null,null,null,null,null,"Nom de l'opérateur",null,null,null,null,null,null,null,null,"Heures",null,null,null,null,"Type d'engin et description des travaux ",null,null,null,null,null,null,null,null,null,null,null,null,null,null,null,"Sous-traitants",null,null,null,null,null,null,null,null,"Heures"]
[null,null,null,{"$f":"IF(ISNA(VLOOKUP(A42,Machines!$B:$F,2,0)),\"\",(VLOOKUP(A42,Machines!$B:$F,2,0)))","v":""},null,null,null,null,null,null,null,null,null,null,null,null,{"$f":"IF(ISNA(VLOOKUP(A42,Machines!$B:$F,4,0)),\"\",(VLOOKUP(A42,Machines!$B:$F,4,0)))","v":""}]
[null,null,null,{"$f":"IF(ISNA(VLOOKUP(A43,Machines!$B:$F,2,0)),\"\",(VLOOKUP(A43,Machines!$B:$F,2,0)))","v":""},null,null,null,null,null,null,null,null,null,null,null,null,{"$f":"IF(ISNA(VLOOKUP(A43,Machines!$B:$F,4,0)),\"\",(VLOOKUP(A43,Machines!$B:$F,4,0)))","v":""}]
[null,null,null,{"$f":"IF(ISNA(VLOOKUP(A44,Machines!$B:$F,2,0)),\"\",(VLOOKUP(A44,Machines!$B:$F,2,0)))","v":""},null,null,null,null,null,null,null,null,null,null,null,null,{"$f":"IF(ISNA(VLOOKUP(A44,Machines!$B:$F,4,0)),\"\",(VLOOKUP(A44,Machines!$B:$F,4,0)))","v":""}]
[null,null,null,{"$f":"IF(ISNA(VLOOKUP(A45,Machines!$B:$F,2,0)),\"\",(VLOOKUP(A45,Machines!$B:$F,2,0)))","v":""},null,null,null,null,null,null,null,null,null,null,null,null,{"$f":"IF(ISNA(VLOOKUP(A45,Machines!$B:$F,4,0)),\"\",(VLOOKUP(A45,Machines!$B:$F,4,0)))","v":""}]
[null,null,null,{"$f":"IF(ISNA(VLOOKUP(A46,Machines!$B:$F,2,0)),\"\",(VLOOKUP(A46,Machines!$B:$F,2,0)))","v":""},null,null,null,null,null,null,null,null,null,null,null,null,{"$f":"IF(ISNA(VLOOKUP(A46,Machines!$B:$F,4,0)),\"\",(VLOOKUP(A46,Machines!$B:$F,4,0)))","v":""}]
[null,null,null,{"$f":"IF(ISNA(VLOOKUP(A47,Machines!$B:$F,2,0)),\"\",(VLOOKUP(A47,Machines!$B:$F,2,0)))","v":""},null,null,null,null,null,null,null,null,null,null,null,null,{"$f":"IF(ISNA(VLOOKUP(A47,Machines!$B:$F,4,0)),\"\",(VLOOKUP(A47,Machines!$B:$F,4,0)))","v":""}]
[null,null,null,{"$f":"IF(ISNA(VLOOKUP(A48,Machines!$B:$F,2,0)),\"\",(VLOOKUP(A48,Machines!$B:$F,2,0)))","v":""},null,null,null,null,null,null,null,null,null,null,null,null,{"$f":"IF(ISNA(VLOOKUP(A48,Machines!$B:$F,4,0)),\"\",(VLOOKUP(A48,Machines!$B:$F,4,0)))","v":""}]
[null,null,null,{"$f":"IF(ISNA(VLOOKUP(A49,Machines!$B:$F,2,0)),\"\",(VLOOKUP(A49,Machines!$B:$F,2,0)))","v":""},null,null,null,null,null,null,null,null,null,null,null,null,{"$f":"IF(ISNA(VLOOKUP(A49,Machines!$B:$F,4,0)),\"\",(VLOOKUP(A49,Machines!$B:$F,4,0)))","v":""}]
[null,null,null,{"$f":"IF(ISNA(VLOOKUP(A50,Machines!$B:$F,2,0)),\"\",(VLOOKUP(A50,Machines!$B:$F,2,0)))","v":""},null,null,null,null,null,null,null,null,null,null,null,null,{"$f":"IF(ISNA(VLOOKUP(A50,Machines!$B:$F,4,0)),\"\",(VLOOKUP(A50,Machines!$B:$F,4,0)))","v":""}]
[null,null,null,{"$f":"IF(ISNA(VLOOKUP(A51,Machines!$B:$F,2,0)),\"\",(VLOOKUP(A51,Machines!$B:$F,2,0)))","v":""},null,null,null,null,null,null,null,null,null,null,null,null,{"$f":"IF(ISNA(VLOOKUP(A51,Machines!$B:$F,4,0)),\"\",(VLOOKUP(A51,Machines!$B:$F,4,0)))","v":""}]
[null,null,null,{"$f":"IF(ISNA(VLOOKUP(A52,Machines!$B:$F,2,0)),\"\",(VLOOKUP(A52,Machines!$B:$F,2,0)))","v":""},null,null,null,null,null,null,null,null,null,null,null,null,{"$f":"IF(ISNA(VLOOKUP(A52,Machines!$B:$F,4,0)),\"\",(VLOOKUP(A52,Machines!$B:$F,4,0)))","v":""}]
[null,null,null,{"$f":"IF(ISNA(VLOOKUP(A53,Machines!$B:$F,2,0)),\"\",(VLOOKUP(A53,Machines!$B:$F,2,0)))","v":""},null,null,null,null,null,null,null,null,null,null,null,null,{"$f":"IF(ISNA(VLOOKUP(A53,Machines!$B:$F,4,0)),\"\",(VLOOKUP(A53,Machines!$B:$F,4,0)))","v":""}]
[null,null,null,{"$f":"IF(ISNA(VLOOKUP(A54,Machines!$B:$F,2,0)),\"\",(VLOOKUP(A54,Machines!$B:$F,2,0)))","v":""},null,null,null,null,null,null,null,null,null,null,null,null,{"$f":"IF(ISNA(VLOOKUP(A54,Machines!$B:$F,4,0)),\"\",(VLOOKUP(A54,Machines!$B:$F,4,0)))","v":""}]
[null,null,null,{"$f":"IF(ISNA(VLOOKUP(A55,Machines!$B:$F,2,0)),\"\",(VLOOKUP(A55,Machines!$B:$F,2,0)))","v":""},null,null,null,null,null,null,null,null,null,null,null,null,{"$f":"IF(ISNA(VLOOKUP(A55,Machines!$B:$F,4,0)),\"\",(VLOOKUP(A55,Machines!$B:$F,4,0)))","v":""}]
[null,null,null,{"$f":"IF(ISNA(VLOOKUP(A56,Machines!$B:$F,2,0)),\"\",(VLOOKUP(A56,Machines!$B:$F,2,0)))","v":""},null,null,null,null,null,null,null,null,null,null,null,null,{"$f":"IF(ISNA(VLOOKUP(A56,Machines!$B:$F,4,0)),\"\",(VLOOKUP(A56,Machines!$B:$F,4,0)))","v":""}]
[null,null,null,{"$f":"IF(ISNA(VLOOKUP(A57,Machines!$B:$F,2,0)),\"\",(VLOOKUP(A57,Machines!$B:$F,2,0)))","v":""},null,null,null,null,null,null,null,null,null,null,null,null,{"$f":"IF(ISNA(VLOOKUP(A57,Machines!$B:$F,4,0)),\"\",(VLOOKUP(A57,Machines!$B:$F,4,0)))","v":""}]
[null,null,null,{"$f":"IF(ISNA(VLOOKUP(A58,Machines!$B:$F,2,0)),\"\",(VLOOKUP(A58,Machines!$B:$F,2,0)))","v":""},null,null,null,null,null,null,null,null,null,null,null,null,{"$f":"IF(ISNA(VLOOKUP(A58,Machines!$B:$F,4,0)),\"\",(VLOOKUP(A58,Machines!$B:$F,4,0)))","v":""}]
[null,null,null,{"$f":"IF(ISNA(VLOOKUP(A59,Machines!$B:$F,2,0)),\"\",(VLOOKUP(A59,Machines!$B:$F,2,0)))","v":""},null,null,null,null,null,null,null,null,null,null,null,null,{"$f":"IF(ISNA(VLOOKUP(A59,Machines!$B:$F,4,0)),\"\",(VLOOKUP(A59,Machines!$B:$F,4,0)))","v":""}]
[null,null,null,{"$f":"IF(ISNA(VLOOKUP(A60,Machines!$B:$F,2,0)),\"\",(VLOOKUP(A60,Machines!$B:$F,2,0)))","v":""},null,null,null,null,null,null,null,null,null,null,null,null,{"$f":"IF(ISNA(VLOOKUP(A60,Machines!$B:$F,4,0)),\"\",(VLOOKUP(A60,Machines!$B:$F,4,0)))","v":""}]
[null,null,null,{"$f":"IF(ISNA(VLOOKUP(A61,Machines!$B:$F,2,0)),\"\",(VLOOKUP(A61,Machines!$B:$F,2,0)))","v":""},null,null,null,null,null,null,null,null,null,null,null,null,{"$f":"IF(ISNA(VLOOKUP(A61,Machines!$B:$F,4,0)),\"\",(VLOOKUP(A61,Machines!$B:$F,4,0)))","v":""}]
[null,null,null,{"$f":"IF(ISNA(VLOOKUP(A62,Machines!$B:$F,2,0)),\"\",(VLOOKUP(A62,Machines!$B:$F,2,0)))","v":""},null,null,null,null,null,null,null,null,null,null,null,null,{"$f":"IF(ISNA(VLOOKUP(A62,Machines!$B:$F,4,0)),\"\",(VLOOKUP(A62,Machines!$B:$F,4,0)))","v":""}]
[null,null,null,{"$f":"IF(ISNA(VLOOKUP(A63,Machines!$B:$F,2,0)),\"\",(VLOOKUP(A63,Machines!$B:$F,2,0)))","v":""},null,null,null,null,null,null,null,null,null,null,null,null,{"$f":"IF(ISNA(VLOOKUP(A63,Machines!$B:$F,4,0)),\"\",(VLOOKUP(A63,Machines!$B:$F,4,0)))","v":""}]
[null,null,null,{"$f":"IF(ISNA(VLOOKUP(A64,Machines!$B:$F,2,0)),\"\",(VLOOKUP(A64,Machines!$B:$F,2,0)))","v":""},null,null,null,null,null,null,null,null,null,null,null,null,{"$f":"IF(ISNA(VLOOKUP(A64,Machines!$B:$F,4,0)),\"\",(VLOOKUP(A64,Machines!$B:$F,4,0)))","v":""}]
[null,null,null,{"$f":"IF(ISNA(VLOOKUP(A65,Machines!$B:$F,2,0)),\"\",(VLOOKUP(A65,Machines!$B:$F,2,0)))","v":""},null,null,null,null,null,null,null,null,null,null,null,null,{"$f":"IF(ISNA(VLOOKUP(A65,Machines!$B:$F,4,0)),\"\",(VLOOKUP(A65,Machines!$B:$F,4,0)))","v":""}]
[null,null,null,{"$f":"IF(ISNA(VLOOKUP(A66,Machines!$B:$F,2,0)),\"\",(VLOOKUP(A66,Machines!$B:$F,2,0)))","v":""},null,null,null,null,null,null,null,null,null,null,null,null,{"$f":"IF(ISNA(VLOOKUP(A66,Machines!$B:$F,4,0)),\"\",(VLOOKUP(A66,Machines!$B:$F,4,0)))","v":""}]
[null,null,null,{"$f":"IF(ISNA(VLOOKUP(A67,Machines!$B:$F,2,0)),\"\",(VLOOKUP(A67,Machines!$B:$F,2,0)))","v":""},null,null,null,null,null,null,null,null,null,null,null,null,{"$f":"IF(ISNA(VLOOKUP(A67,Machines!$B:$F,4,0)),\"\",(VLOOKUP(A67,Machines!$B:$F,4,0)))","v":""}]
[null,null,null,{"$f":"IF(ISNA(VLOOKUP(A68,Machines!$B:$F,2,0)),\"\",(VLOOKUP(A68,Machines!$B:$F,2,0)))","v":""},null,null,null,null,null,null,null,null,null,null,null,null,{"$f":"IF(ISNA(VLOOKUP(A68,Machines!$B:$F,4,0)),\"\",(VLOOKUP(A68,Machines!$B:$F,4,0)))","v":""}]
[null,null,null,{"$f":"IF(ISNA(VLOOKUP(A69,Machines!$B:$F,2,0)),\"\",(VLOOKUP(A69,Machines!$B:$F,2,0)))","v":""},null,null,null,null,null,null,null,null,null,null,null,null,{"$f":"IF(ISNA(VLOOKUP(A69,Machines!$B:$F,4,0)),\"\",(VLOOKUP(A69,Machines!$B:$F,4,0)))","v":""}]
[null,null,null,{"$f":"IF(ISNA(VLOOKUP(A70,Machines!$B:$F,2,0)),\"\",(VLOOKUP(A70,Machines!$B:$F,2,0)))","v":""},null,null,null,null,null,null,null,null,null,null,null,null,{"$f":"IF(ISNA(VLOOKUP(A70,Machines!$B:$F,4,0)),\"\",(VLOOKUP(A70,Machines!$B:$F,4,0)))","v":""}]
[null,null,null,{"$f":"IF(ISNA(VLOOKUP(A71,Machines!$B:$F,2,0)),\"\",(VLOOKUP(A71,Machines!$B:$F,2,0)))","v":""},null,null,null,null,null,null,null,null,null,null,null,null,{"$f":"IF(ISNA(VLOOKUP(A71,Machines!$B:$F,4,0)),\"\",(VLOOKUP(A71,Machines!$B:$F,4,0)))","v":""}]
[null,null,null,{"$f":"IF(ISNA(VLOOKUP(A72,Machines!$B:$F,2,0)),\"\",(VLOOKUP(A72,Machines!$B:$F,2,0)))","v":""},null,null,null,null,null,null,null,null,null,null,null,null,{"$f":"IF(ISNA(VLOOKUP(A72,Machines!$B:$F,4,0)),\"\",(VLOOKUP(A72,Machines!$B:$F,4,0)))","v":""}]
[null,null,null,{"$f":"IF(ISNA(VLOOKUP(A73,Machines!$B:$F,2,0)),\"\",(VLOOKUP(A73,Machines!$B:$F,2,0)))","v":""},null,null,null,null,null,null,null,null,null,null,null,null,{"$f":"IF(ISNA(VLOOKUP(A73,Machines!$B:$F,4,0)),\"\",(VLOOKUP(A73,Machines!$B:$F,4,0)))","v":""}]
[null,null,null,{"$f":"IF(ISNA(VLOOKUP(A74,Machines!$B:$F,2,0)),\"\",(VLOOKUP(A74,Machines!$B:$F,2,0)))","v":""},null,null,null,null,null,null,null,null,null,null,null,null,{"$f":"IF(ISNA(VLOOKUP(A74,Machines!$B:$F,4,0)),\"\",(VLOOKUP(A74,Machines!$B:$F,4,0)))","v":""}]
["CHANTIER :",null,null,null,null,{"$f":"F1","v":0},null,null,null,null,null,null,null,null,null,null,null,null,null,null,"N° CHANTIER :",null,null,null,null,null,{"$f":"AA1","v":0},null,null,null,"JOUR :",null,null,null,{"$f":"AI1","v":"Lundi"},null,null,null,null,null,null,null,null,null,null,null,null,null,null,null,null,"DATES :",null,null,{"$f":"BC1","v":"18-01-16"}]
["MATERIAUX"]
[null,null,null,"Fournisseurs",null,null,null,null,null,null,null,null,null,null,null,null,null,null,"Description des fournitures & matériaux",null,null,null,null,null,null,null,null,null,null,null,null,null,null,null,null,null,null,null,null,null,null,null,null,null,null,null,null,null,null,"Qt totales",null,null,null,"U.",null,"Prix"]
[]
[]
[]
[]
[]
[]
[]
[]
[]
[]
[]
[]
[]
[]
[]
[]
[]
[]
[]
[]
[]
[]
[]
[]
[]
[]
[]
[]
[]
[]
[]
[null,null,null,"RESPONSABLE",null,null,null,null,null,null,null,null,"SIGNATURE",null,null,null,null,null,"DESCRIPTION DES TRAVAUX REALISES CE JOUR",null,null,null,null,null,null,null,null,null,null,null,null,null,null,null,null,null,null,null,null,null,null,null,null,null,null,null,null,null,null,"METEO"]
[null,null,null,"JENNES Loïc"]

{"sheet":"19-01-16","index":25,"n_rows":110,"n_cols":56,"rows_kept":110,"cut":false,"hidden":false,"merged":[[72,0,72,2],[72,3,72,15],[72,16,72,24],[72,25,72,28],[72,30,72,45],[72,46,72,54],[72,55,72,58],[73,0,73,2],[73,3,73,15],[73,16,73,24],[73,25,73,28],[73,30,73,45],[73,46,73,54],[73,55,73,58],[69,0,69,2],[69,3,69,15],[69,16,69,24],[69,25,69,28],[69,30,69,45],[69,46,69,54],[69,55,69,58],[71,0,71,2],[71,3,71,15],[71,16,71,24],[71,25,71,28],[71,30,71,45],[71,46,71,54],[71,55,71,58],[70,0,70,2],[70,3,70,15],[70,16,70,24],[70,25,70,28],[70,30,70,45],[70,46,70,54],[70,55,70,58],[67,0,67,2],[67,3,67,15],[67,16,67,24],[67,25,67,28],[67,30,67,45],[67,46,67,54],[67,55,67,58],[68,0,68,2],[68,3,68,15],[68,16,68,24],[68,25,68,28],[68,30,68,45],[68,46,68,54],[68,55,68,58],[65,0,65,2],[65,3,65,15],[65,16,65,24],[65,25,65,28],[65,30,65,45],[65,46,65,54],[65,55,65,58],[66,0,66,2],[66,3,66,15],[66,16,66,24],[66,25,66,28],[66,30,66,45],[66,46,66,54],[66,55,66,58],[63,0,63,2],[63,3,63,15],[63,16,63,24],[63,25,63,28],[63,30,63,45],[63,46,63,54],[63,55,63,58],[64,0,64,2],[64,3,64,15],[64,16,64,24],[64,25,64,28],[64,30,64,45],[64,46,64,54],[64,55,64,58],[61,0,61,2],[61,3,61,15],[61,16,61,24],[61,25,61,28],[61,30,61,45],[61,46,61,54],[61,55,61,58],[62,0,62,2],[62,3,62,15],[62,16,62,24],[62,25,62,28],[62,30,62,45],[62,46,62,54],[62,55,62,58],[59,0,59,2],[59,3,59,15],[59,16,59,24],[59,25,59,28],[59,30,59,45],[59,46,59,54],[59,55,59,58],[60,0,60,2],[60,3,60,15],[60,16,60,24],[60,25,60,28],[60,30,60,45],[60,46,60,54],[60,55,60,58],[57,0,57,2],[57,3,57,15],[57,16,57,24],[57,25,57,28],[57,30,57,45],[57,46,57,54],[57,55,57,58],[58,0,58,2],[58,3,58,15],[58,16,58,24],[58,25,58,28],[58,30,58,45],[58,46,58,54],[58,55,58,58],[55,0,55,2],[55,3,55,15],[55,16,55,24],[55,25,55,28],[55,30,55,45],[55,46,55,54],[55,55,55,58],[56,0,56,2],[56,3,56,15],[56,16,56,24],[56,25,56,28],[56,30,56,45],[56,46,56,54],[56,55,56,58],[53,0,53,2],[53,3,53,15],[53,16,53,24],[53,25,53,28],[53,30,53,45],[53,46,53,54],[53,55,53,58],[54,0,54,2],[54,3,54,15],[54,16,54,24],[54,25,54,28],[54,30,54,45],[54,46,54,54],[54,55,54,58],[51,0,51,2],[51,3,51,15],[51,16,51,24],[51,25,51,28],[51,30,51,45],[51,46,51,54],[51,55,51,58],[52,0,52,2],[52,3,52,15],[52,16,52,24],[52,25,52,28],[52,30,52,45],[52,46,52,54],[52,55,52,58],[49,0,49,2],[49,3,49,15],[49,16,49,24],[49,25,49,28],[49,30,49,45],[49,46,49,54],[49,55,49,58],[50,0,50,2],[50,3,50,15],[50,16,50,24],[50,25,50,28],[50,30,50,45],[50,46,50,54],[50,55,50,58],[47,0,47,2],[47,3,47,15],[47,16,47,24],[47,25,47,28],[47,30,47,45],[47,46,47,54],[47,55,47,58],[48,0,48,2],[48,3,48,15],[48,16,48,24],[48,25,48,28],[48,30,48,45],[48,46,48,54],[48,55,48,58],[45,0,45,2],[45,3,45,15],[45,16,45,24],[45,25,45,28],[45,30,45,45],[45,46,45,54],[45,55,45,58],[46,0,46,2],[46,3,46,15],[46,16,46,24],[46,25,46,28],[46,30,46,45],[46,46,46,54],[46,55,46,58],[43,0,43,2],[43,3,43,15],[43,16,43,24],[43,25,43,28],[43,30,43,45],[43,46,43,54],[43,55,43,58],[44,0,44,2],[44,3,44,15],[44,16,44,24],[44,25,44,28],[44,30,44,45],[44,46,44,54],[44,55,44,58],[41,25,41,28],[41,30,41,45],[41,46,41,54],[41,55,41,58],[42,0,42,2],[42,3,42,15],[42,16,42,24],[42,25,42,28],[42,30,42,45],[42,46,42,54],[42,55,42,58],[37,0,37,4],[37,5,37,19],[37,20,37,25],[37,26,37,28],[37,30,37,32],[37,34,37,47],[37,51,37,53],[37,54,37,58],[38,0,38,28],[38,29,73,29],[38,30,38,58],[39,0,39,4],[39,6,39,9],[39,12,39,15],[40,0,40,2],[40,3,40,15],[40,16,40,24],[40,25,40,28],[40,30,40,45],[40,46,40,54],[40,55,40,58],[41,0,41,2],[41,3,41,15],[41,16,41,24],[36,0,36,15],[36,16,36,18],[36,19,36,21],[36,22,36,24],[36,25,36,28],[36,30,36,32],[36,33,36,45],[36,46,36,54],[36,55,36,58],[35,0,35,15],[35,16,35,18],[35,19,35,21],[35,22,35,24],[35,25,35,28],[35,30,35,32],[35,33,35,45],[35,46,35,54],[35,55,35,58],[34,0,34,15],[34,16,34,18],[34,19,34,21],[34,22,34,24],[34,25,34,28],[34,30,34,32],[34,33,34,45],[34,46,34,54],[34,55,34,58],[33,0,33,15],[33,16,33,18],[33,19,33,21],[33,22,33,24],[33,25,33,28],[33,30,33,32],[33,33,33,45],[33,46,33,54],[33,55,33,58],[32,0,32,15],[32,16,32,18],[32,19,32,21],[32,22,32,24],[32,25,32,28],[32,30,32,32],[32,33,32,45],[32,46,32,54],[32,55,32,58],[31,0,31,15],[31,16,31,18],[31,19,31,21],[31,22,31,24],[31,25,31,28],[31,30,31,32],[31,33,31,45],[31,46,31,54],[31,55,31,58],[30,0,30,15],[30,16,30,18],[30,19,30,21],[30,22,30,24],[30,25,30,28],[30,30,30,32],[30,33,30,45],[30,46,30,54],[30,55,30,58],[29,0,29,15],[29,16,29,18],[29,19,29,21],[29,22,29,24],[29,25,29,28],[29,30,29,32],[29,33,29,45],[29,46,29,54],[29,55,29,58],[28,0,28,15],[28,16,28,18],[28,19,28,21],[28,22,28,24],[28,25,28,28],[28,30,28,32],[28,33,28,45],[28,46,28,54],[28,55,28,58],[27,0,27,15],[27,16,27,18],[27,19,27,21],[27,22,27,24],[27,25,27,28],[27,30,27,32],[27,33,27,45],[27,46,27,54],[27,55,27,58],[26,0,26,15],[26,16,26,18],[26,19,26,21],[26,22,26,24],[26,25,26,28],[26,30,26,32],[26,33,26,45],[26,46,26,54],[26,55,26,58],[25,0,25,15],[25,16,25,18],[25,19,25,21],[25,22,25,24],[25,25,25,28],[25,30,25,32],[25,33,25,45],[25,46,25,54],[25,55,25,58],[24,0,24,15],[24,16,24,18],[24,19,24,21],[24,22,24,24],[24,25,24,28],[24,30,24,32],[24,33,24,45],[24,46,24,54],[24,55,24,58],[23,0,23,15],[23,16,23,18],[23,19,23,21],[23,22,23,24],[23,25,23,28],[23,30,23,32],[23,33,23,45],[23,46,23,54],[23,55,23,58],[22,0,22,15],[22,16,22,18],[22,19,22,21],[22,22,22,24],[22,25,22,28],[22,30,22,32],[22,33,22,45],[22,46,22,54],[22,55,22,58],[21,0,21,15],[21,16,21,18],[21,19,21,21],[21,22,21,24],[21,25,21,28],[21,30,21,32],[21,33,21,45],[21,46,21,54],[21,55,21,58],[20,0,20,15],[20,16,20,18],[20,19,20,21],[20,22,20,24],[20,25,20,28],[20,30,20,32],[20,33,20,45],[20,46,20,54],[20,55,20,58],[19,0,19,15],[19,16,19,18],[19,19,19,21],[19,22,19,24],[19,25,19,28],[19,30,19,32],[19,33,19,45],[19,46,19,54],[19,55,19,58],[18,0,18,15],[18,16,18,18],[18,19,18,21],[18,22,18,24],[18,25,18,28],[18,30,18,32],[18,33,18,45],[18,46,18,54],[18,55,18,58],[17,0,17,15],[17,16,17,18],[17,19,17,21],[17,22,17,24],[17,25,17,28],[17,30,17,32],[17,33,17,45],[17,46,17,54],[17,55,17,58],[16,0,16,15],[16,16,16,18],[16,19,16,21],[16,22,16,24],[16,25,16,28],[16,30,16,32],[16,33,16,45],[16,46,16,54],[16,55,16,58],[15,0,15,15],[15,16,15,18],[15,19,15,21],[15,22,15,24],[15,25,15,28],[15,30,15,32],[15,33,15,45],[15,46,15,54],[15,55,15,58],[14,0,14,15],[14,16,14,18],[14,19,14,21],[14,22,14,24],[14,25,14,28],[14,30,14,32],[14,33,14,45],[14,46,14,54],[14,55,14,58],[13,0,13,15],[13,16,13,18],[13,19,13,21],[13,22,13,24],[13,25,13,28],[13,30,13,32],[13,33,13,45],[13,46,13,54],[13,55,13,58],[12,0,12,15],[12,16,12,18],[12,19,12,21],[12,22,12,24],[12,25,12,28],[12,30,12,32],[12,33,12,45],[12,46,12,54],[12,55,12,58],[11,0,11,15],[11,16,11,18],[11,19,11,21],[11,22,11,24],[11,25,11,28],[11,30,11,32],[11,33,11,45],[11,46,11,54],[11,55,11,58],[10,0,10,15],[10,16,10,18],[10,19,10,21],[10,22,10,24],[10,25,10,28],[10,30,10,32],[10,33,10,45],[10,46,10,54],[10,55,10,58],[9,0,9,15],[9,16,9,18],[9,19,9,21],[9,22,9,24],[9,25,9,28],[9,30,9,32],[9,33,9,45],[9,46,9,54],[9,55,9,58],[8,0,8,15],[8,16,8,18],[8,19,8,21],[8,22,8,24],[8,25,8,28],[8,30,8,32],[8,33,8,45],[8,46,8,54],[8,55,8,58],[7,0,7,15],[7,16,7,18],[7,19,7,21],[7,22,7,24],[7,25,7,28],[7,30,7,32],[7,33,7,45],[7,46,7,54],[7,55,7,58],[6,0,6,15],[6,16,6,18],[6,19,6,21],[6,22,6,24],[6,25,6,28],[6,30,6,32],[6,33,6,45],[6,46,6,54],[6,55,6,58],[5,0,5,15],[5,16,5,18],[5,19,5,21],[5,22,5,24],[5,25,5,28],[5,30,5,32],[5,33,5,45],[5,46,5,54],[5,55,5,58],[3,30,3,32],[3,33,3,45],[3,46,3,54],[3,55,3,58],[4,0,4,15],[4,16,4,18],[4,19,4,21],[4,22,4,24],[4,25,4,28],[4,30,4,32],[4,33,4,45],[4,46,4,54],[4,55,4,58],[0,0,0,4],[0,5,0,19],[0,20,0,25],[0,26,0,28],[0,30,0,32],[0,34,0,47],[0,51,0,53],[0,54,0,58],[1,0,1,28],[1,29,36,29],[1,30,1,58],[2,0,2,4],[2,7,2,10],[2,13,2,16],[2,19,2,22],[2,25,2,28],[2,30,2,34],[2,36,2,39],[2,42,2,45],[3,0,3,15],[3,16,3,18],[3,19,3,21],[3,22,3,24],[3,25,3,28],[109,18,109,48],[111,18,111,48],[108,18,108,48],[108,3,108,11],[108,12,108,17],[109,3,111,11],[109,12,111,17],[108,49,108,58],[109,49,111,58],[110,18,110,48],[107,3,107,17],[107,18,107,48],[103,3,103,17],[103,18,103,48],[106,3,106,17],[106,18,106,48],[104,3,104,17],[104,18,104,48],[105,3,105,17],[105,18,105,48],[102,3,102,17],[102,18,102,48],[99,3,99,17],[99,18,99,48],[100,3,100,17],[100,18,100,48],[101,49,101,52],[101,53,101,54],[101,55,101,58],[102,49,102,52],[102,53,102,54],[102,55,102,58],[99,55,99,58],[100,49,100,52],[100,53,100,54],[100,55,100,58],[95,53,95,54],[95,55,95,58],[96,49,96,52],[96,53,96,54],[96,55,96,58],[97,49,97,52],[97,53,97,54],[101,3,101,17],[101,18,101,48],[97,3,97,17],[97,18,97,48],[98,3,98,17],[98,18,98,48],[95,3,95,17],[95,18,95,48],[96,3,96,17],[96,18,96,48],[95,49,95,52],[97,55,97,58],[98,49,98,52],[98,53,98,54],[98,55,98,58],[99,49,99,52],[99,53,99,54],[94,3,94,17],[94,18,94,48],[91,3,91,17],[91,18,91,48],[92,3,92,17],[92,18,92,48],[93,49,93,52],[93,53,93,54],[93,55,93,58],[94,49,94,52],[94,53,94,54],[94,55,94,58],[91,55,91,58],[92,49,92,52],[92,53,92,54],[92,55,92,58],[87,53,87,54],[87,55,87,58],[88,49,88,52],[88,53,88,54],[88,55,88,58],[89,49,89,52],[89,53,89,54],[93,3,93,17],[93,18,93,48],[89,3,89,17],[89,18,89,48],[90,3,90,17],[90,18,90,48],[87,3,87,17],[87,18,87,48],[88,3,88,17],[88,18,88,48],[87,49,87,52],[89,55,89,58],[90,49,90,52],[90,53,90,54],[90,55,90,58],[91,49,91,52],[91,53,91,54],[86,3,86,17],[86,18,86,48],[83,3,83,17],[83,18,83,48],[84,3,84,17],[84,18,84,48],[85,49,85,52],[85,53,85,54],[85,55,85,58],[86,49,86,52],[86,53,86,54],[86,55,86,58],[83,55,83,58],[84,49,84,52],[84,53,84,54],[84,55,84,58],[79,53,79,54],[79,55,79,58],[80,49,80,52],[80,53,80,54],[80,55,80,58],[81,49,81,52],[81,53,81,54],[85,3,85,17],[85,18,85,48],[81,3,81,17],[81,18,81,48],[82,3,82,17],[82,18,82,48],[79,3,79,17],[79,18,79,48],[80,3,80,17],[80,18,80,48],[79,49,79,52],[81,55,81,58],[82,49,82,52],[82,53,82,54],[82,55,82,58],[83,49,83,52],[83,53,83,54],[74,54,74,58],[75,0,75,58],[76,49,76,52],[76,53,76,54],[76,55,76,58],[77,3,77,17],[77,18,77,48],[78,3,78,17],[78,18,78,48],[77,49,77,52],[77,53,77,54],[77,55,77,58],[78,49,78,52],[78,53,78,54],[78,55,78,58],[76,3,76,17],[76,18,76,48],[74,0,74,4],[74,5,74,19],[74,20,74,25],[74,26,74,28],[74,30,74,32],[74,34,74,47],[74,51,74,53],[106,49,106,52],[106,53,106,54],[106,55,106,58],[107,49,107,52],[107,53,107,54],[107,55,107,58],[103,49,103,52],[103,53,103,54],[103,55,103,58],[104,49,104,52],[104,53,104,54],[104,55,104,58],[105,49,105,52],[105,53,105,54],[105,55,105,58]]}
["CHANTIER :",null,null,null,null,{"$f":"'01-01-16'!F1","v":0},null,null,null,null,null,null,null,null,null,null,null,null,null,null,"N° CHANTIER :",null,null,null,null,null,{"$f":"'01-01-16'!AA1","v":0},null,null,null,"JOUR :",null,null,null,{"$f":" CHOOSE(WEEKDAY(BC1,2),\"Lundi\",\"Mardi\",\"Mercredi\",\"Jeudi\",\"Vendredi\",\"Samedi\",\"Dimanche\")","v":"Mardi"},null,null,null,null,null,null,null,null,null,null,null,null,null,null,null,null,"DATES :",null,null,{"$f":"MID(CELL(\"nomfichier\",A1),FIND(\"]\",CELL(\"nomfichier\",A1),1)+1,30)","v":"19-01-16"}]
["MAIN D'ŒUVRE",null,null,null,null,null,null,null,null,null,null,null,null,null,null,null,null,null,null,null,null,null,null,null,null,null,null,null,null,null,"CAMIONS"]
["Légende :",null,null,null,null,null,"Co",".= Congé",null,null,null,null,"M",".= Malade",null,null,null,null,"Cho",".= Chômage",null,null,null,null,"Va",".= Vacance",null,null,null,null,"Légende :",null,null,null,null,"Pa",".= Panne",null,null,null,null,"Ent",".= Entretien"]
["NOM - Prénom du travailleur",null,null,null,null,null,null,null,null,null,null,null,null,null,null,null,"Début journée",null,null,"Arrêt repas",null,null,"Fin journée",null,null,"Heures prestées",null,null,null,null,"N°",null,null,"Description du matériel",null,null,null,null,null,null,null,null,null,null,null,null,"Nom de l'opérateur",null,null,null,null,null,null,null,null,"Heures"]
[null,null,null,null,null,null,null,null,null,null,null,null,null,null,null,null,null,null,null,null,null,null,null,null,null,{"$f":"W5-Q5-T5","v":0},null,null,null,null,null,null,null,{"$f":"IF(ISNA(VLOOKUP(AE5,Camions!$B:$F,2,0)),\"\",(VLOOKUP(AE5,Camions!$B:$F,2,0)))","v":""},null,null,null,null,null,null,null,null,null,null,null,null,{"$f":"IF(ISNA(VLOOKUP(AE5,Camions!$B:$F,4,0)),\"\",(VLOOKUP(AE5,Camions!$B:$F,4,0)))","v":""}]
[null,null,null,null,null,null,null,null,null,null,null,null,null,null,null,null,null,null,null,null,null,null,null,null,null,{"$f":"W6-Q6-T6","v":0},null,null,null,null,null,null,null,{"$f":"IF(ISNA(VLOOKUP(AE6,Camions!$B:$F,2,0)),\"\",(VLOOKUP(AE6,Camions!$B:$F,2,0)))","v":""},null,null,null,null,null,null,null,null,null,null,null,null,{"$f":"IF(ISNA(VLOOKUP(AE6,Camions!$B:$F,4,0)),\"\",(VLOOKUP(AE6,Camions!$B:$F,4,0)))","v":""}]
[null,null,null,null,null,null,null,null,null,null,null,null,null,null,null,null,null,null,null,null,null,null,null,null,null,0,null,null,null,null,null,null,null,{"$f":"IF(ISNA(VLOOKUP(AE7,Camions!$B:$F,2,0)),\"\",(VLOOKUP(AE7,Camions!$B:$F,2,0)))","v":""},null,null,null,null,null,null,null,null,null,null,null,null,{"$f":"IF(ISNA(VLOOKUP(AE7,Camions!$B:$F,4,0)),\"\",(VLOOKUP(AE7,Camions!$B:$F,4,0)))","v":""}]
[null,null,null,null,null,null,null,null,null,null,null,null,null,null,null,null,null,null,null,null,null,null,null,null,null,0,null,null,null,null,null,null,null,{"$f":"IF(ISNA(VLOOKUP(AE8,Camions!$B:$F,2,0)),\"\",(VLOOKUP(AE8,Camions!$B:$F,2,0)))","v":""},null,null,null,null,null,null,null,null,null,null,null,null,{"$f":"IF(ISNA(VLOOKUP(AE8,Camions!$B:$F,4,0)),\"\",(VLOOKUP(AE8,Camions!$B:$F,4,0)))","v":""}]
[null,null,null,null,null,null,null,null,null,null,null,null,null,null,null,null,null,null,null,null,null,null,null,null,null,0,null,null,null,null,null,null,null,{"$f":"IF(ISNA(VLOOKUP(AE9,Camions!$B:$F,2,0)),\"\",(VLOOKUP(AE9,Camions!$B:$F,2,0)))","v":""},null,null,null,null,null,null,null,null,null,null,null,null,{"$f":"IF(ISNA(VLOOKUP(AE9,Camions!$B:$F,4,0)),\"\",(VLOOKUP(AE9,Camions!$B:$F,4,0)))","v":""}]
[null,null,null,null,null,null,null,null,null,null,null,null,null,null,null,null,null,null,null,null,null,null,null,null,null,0,null,null,null,null,null,null,null,{"$f":"IF(ISNA(VLOOKUP(AE10,Camions!$B:$F,2,0)),\"\",(VLOOKUP(AE10,Camions!$B:$F,2,0)))","v":""},null,null,null,null,null,null,null,null,null,null,null,null,{"$f":"IF(ISNA(VLOOKUP(AE10,Camions!$B:$F,4,0)),\"\",(VLOOKUP(AE10,Camions!$B:$F,4,0)))","v":""}]
[null,null,null,null,null,null,null,null,null,null,null,null,null,null,null,null,null,null,null,null,null,null,null,null,null,0,null,null,null,null,null,null,null,{"$f":"IF(ISNA(VLOOKUP(AE11,Camions!$B:$F,2,0)),\"\",(VLOOKUP(AE11,Camions!$B:$F,2,0)))","v":""},null,null,null,null,null,null,null,null,null,null,null,null,{"$f":"IF(ISNA(VLOOKUP(AE11,Camions!$B:$F,4,0)),\"\",(VLOOKUP(AE11,Camions!$B:$F,4,0)))","v":""}]
[null,null,null,null,null,null,null,null,null,null,null,null,null,null,null,null,null,null,null,null,null,null,null,null,null,0,null,null,null,null,null,null,null,{"$f":"IF(ISNA(VLOOKUP(AE12,Camions!$B:$F,2,0)),\"\",(VLOOKUP(AE12,Camions!$B:$F,2,0)))","v":""},null,null,null,null,null,null,null,null,null,null,null,null,{"$f":"IF(ISNA(VLOOKUP(AE12,Camions!$B:$F,4,0)),\"\",(VLOOKUP(AE12,Camions!$B:$F,4,0)))","v":""}]
[null,null,null,null,null,null,null,null,null,null,null,null,null,null,null,null,null,null,null,null,null,null,null,null,null,0,null,null,null,null,null,null,null,{"$f":"IF(ISNA(VLOOKUP(AE13,Camions!$B:$F,2,0)),\"\",(VLOOKUP(AE13,Camions!$B:$F,2,0)))","v":""},null,null,null,null,null,null,null,null,null,null,null,null,{"$f":"IF(ISNA(VLOOKUP(AE13,Camions!$B:$F,4,0)),\"\",(VLOOKUP(AE13,Camions!$B:$F,4,0)))","v":""}]
[null,null,null,null,null,null,null,null,null,null,null,null,null,null,null,null,null,null,null,null,null,null,null,null,null,0,null,null,null,null,null,null,null,{"$f":"IF(ISNA(VLOOKUP(AE14,Camions!$B:$F,2,0)),\"\",(VLOOKUP(AE14,Camions!$B:$F,2,0)))","v":""},null,null,null,null,null,null,null,null,null,null,null,null,{"$f":"IF(ISNA(VLOOKUP(AE14,Camions!$B:$F,4,0)),\"\",(VLOOKUP(AE14,Camions!$B:$F,4,0)))","v":""}]
[null,null,null,null,null,null,null,null,null,null,null,null,null,null,null,null,null,null,null,null,null,null,null,null,null,0,null,null,null,null,null,null,null,{"$f":"IF(ISNA(VLOOKUP(AE15,Camions!$B:$F,2,0)),\"\",(VLOOKUP(AE15,Camions!$B:$F,2,0)))","v":""},null,null,null,null,null,null,null,null,null,null,null,null,{"$f":"IF(ISNA(VLOOKUP(AE15,Camions!$B:$F,4,0)),\"\",(VLOOKUP(AE15,Camions!$B:$F,4,0)))","v":""}]
[null,null,null,null,null,null,null,null,null,null,null,null,null,null,null,null,null,null,null,null,null,null,null,null,null,0,null,null,null,null,null,null,null,{"$f":"IF(ISNA(VLOOKUP(AE16,Camions!$B:$F,2,0)),\"\",(VLOOKUP(AE16,Camions!$B:$F,2,0)))","v":""},null,null,null,null,null,null,null,null,null,null,null,null,{"$f":"IF(ISNA(VLOOKUP(AE16,Camions!$B:$F,4,0)),\"\",(VLOOKUP(AE16,Camions!$B:$F,4,0)))","v":""}]
[null,null,null,null,null,null,null,null,null,null,null,null,null,null,null,null,null,null,null,null,null,null,null,null,null,0,null,null,null,null,null,null,null,{"$f":"IF(ISNA(VLOOKUP(AE17,Camions!$B:$F,2,0)),\"\",(VLOOKUP(AE17,Camions!$B:$F,2,0)))","v":""},null,null,null,null,null,null,null,null,null,null,null,null,{"$f":"IF(ISNA(VLOOKUP(AE17,Camions!$B:$F,4,0)),\"\",(VLOOKUP(AE17,Camions!$B:$F,4,0)))","v":""}]
[null,null,null,null,null,null,null,null,null,null,null,null,null,null,null,null,null,null,null,null,null,null,null,null,null,0,null,null,null,null,null,null,null,{"$f":"IF(ISNA(VLOOKUP(AE18,Camions!$B:$F,2,0)),\"\",(VLOOKUP(AE18,Camions!$B:$F,2,0)))","v":""},null,null,null,null,null,null,null,null,null,null,null,null,{"$f":"IF(ISNA(VLOOKUP(AE18,Camions!$B:$F,4,0)),\"\",(VLOOKUP(AE18,Camions!$B:$F,4,0)))","v":""}]
[null,null,null,null,null,null,null,null,null,null,null,null,null,null,null,null,null,null,null,null,null,null,null,null,null,0,null,null,null,null,null,null,null,{"$f":"IF(ISNA(VLOOKUP(AE19,Camions!$B:$F,2,0)),\"\",(VLOOKUP(AE19,Camions!$B:$F,2,0)))","v":""},null,null,null,null,null,null,null,null,null,null,null,null,{"$f":"IF(ISNA(VLOOKUP(AE19,Camions!$B:$F,4,0)),\"\",(VLOOKUP(AE19,Camions!$B:$F,4,0)))","v":""}]
[null,null,null,null,null,null,null,null,null,null,null,null,null,null,null,null,null,null,null,null,null,null,null,null,null,0,null,null,null,null,null,null,null,{"$f":"IF(ISNA(VLOOKUP(AE20,Camions!$B:$F,2,0)),\"\",(VLOOKUP(AE20,Camions!$B:$F,2,0)))","v":""},null,null,null,null,null,null,null,null,null,null,null,null,{"$f":"IF(ISNA(VLOOKUP(AE20,Camions!$B:$F,4,0)),\"\",(VLOOKUP(AE20,Camions!$B:$F,4,0)))","v":""}]
[null,null,null,null,null,null,null,null,null,null,null,null,null,null,null,null,null,null,null,null,null,null,null,null,null,0,null,null,null,null,null,null,null,{"$f":"IF(ISNA(VLOOKUP(AE21,Camions!$B:$F,2,0)),\"\",(VLOOKUP(AE21,Camions!$B:$F,2,0)))","v":""},null,null,null,null,null,null,null,null,null,null,null,null,{"$f":"IF(ISNA(VLOOKUP(AE21,Camions!$B:$F,4,0)),\"\",(VLOOKUP(AE21,Camions!$B:$F,4,0)))","v":""}]
[null,null,null,null,null,null,null,null,null,null,null,null,null,null,null,null,null,null,null,null,null,null,null,null,null,0,null,null,null,null,null,null,null,{"$f":"IF(ISNA(VLOOKUP(AE22,Camions!$B:$F,2,0)),\"\",(VLOOKUP(AE22,Camions!$B:$F,2,0)))","v":""},null,null,null,null,null,null,null,null,null,null,null,null,{"$f":"IF(ISNA(VLOOKUP(AE22,Camions!$B:$F,4,0)),\"\",(VLOOKUP(AE22,Camions!$B:$F,4,0)))","v":""}]
[null,null,null,null,null,null,null,null,null,null,null,null,null,null,null,null,null,null,null,null,null,null,null,null,null,0,null,null,null,null,null,null,null,{"$f":"IF(ISNA(VLOOKUP(AE23,Camions!$B:$F,2,0)),\"\",(VLOOKUP(AE23,Camions!$B:$F,2,0)))","v":""},null,null,null,null,null,null,null,null,null,null,null,null,{"$f":"IF(ISNA(VLOOKUP(AE23,Camions!$B:$F,4,0)),\"\",(VLOOKUP(AE23,Camions!$B:$F,4,0)))","v":""}]
[null,null,null,null,null,null,null,null,null,null,null,null,null,null,null,null,null,null,null,null,null,null,null,null,null,0,null,null,null,null,null,null,null,{"$f":"IF(ISNA(VLOOKUP(AE24,Camions!$B:$F,2,0)),\"\",(VLOOKUP(AE24,Camions!$B:$F,2,0)))","v":""},null,null,null,null,null,null,null,null,null,null,null,null,{"$f":"IF(ISNA(VLOOKUP(AE24,Camions!$B:$F,4,0)),\"\",(VLOOKUP(AE24,Camions!$B:$F,4,0)))","v":""}]
[null,null,null,null,null,null,null,null,null,null,null,null,null,null,null,null,null,null,null,null,null,null,null,null,null,0,null,null,null,null,null,null,null,{"$f":"IF(ISNA(VLOOKUP(AE25,Camions!$B:$F,2,0)),\"\",(VLOOKUP(AE25,Camions!$B:$F,2,0)))","v":""},null,null,null,null,null,null,null,null,null,null,null,null,{"$f":"IF(ISNA(VLOOKUP(AE25,Camions!$B:$F,4,0)),\"\",(VLOOKUP(AE25,Camions!$B:$F,4,0)))","v":""}]
[null,null,null,null,null,null,null,null,null,null,null,null,null,null,null,null,null,null,null,null,null,null,null,null,null,0,null,null,null,null,null,null,null,{"$f":"IF(ISNA(VLOOKUP(AE26,Camions!$B:$F,2,0)),\"\",(VLOOKUP(AE26,Camions!$B:$F,2,0)))","v":""},null,null,null,null,null,null,null,null,null,null,null,null,{"$f":"IF(ISNA(VLOOKUP(AE26,Camions!$B:$F,4,0)),\"\",(VLOOKUP(AE26,Camions!$B:$F,4,0)))","v":""}]
[null,null,null,null,null,null,null,null,null,null,null,null,null,null,null,null,null,null,null,null,null,null,null,null,null,0,null,null,null,null,null,null,null,{"$f":"IF(ISNA(VLOOKUP(AE27,Camions!$B:$F,2,0)),\"\",(VLOOKUP(AE27,Camions!$B:$F,2,0)))","v":""},null,null,null,null,null,null,null,null,null,null,null,null,{"$f":"IF(ISNA(VLOOKUP(AE27,Camions!$B:$F,4,0)),\"\",(VLOOKUP(AE27,Camions!$B:$F,4,0)))","v":""}]
[null,null,null,null,null,null,null,null,null,null,null,null,null,null,null,null,null,null,null,null,null,null,null,null,null,0,null,null,null,null,null,null,null,{"$f":"IF(ISNA(VLOOKUP(AE28,Camions!$B:$F,2,0)),\"\",(VLOOKUP(AE28,Camions!$B:$F,2,0)))","v":""},null,null,null,null,null,null,null,null,null,null,null,null,{"$f":"IF(ISNA(VLOOKUP(AE28,Camions!$B:$F,4,0)),\"\",(VLOOKUP(AE28,Camions!$B:$F,4,0)))","v":""}]
[null,null,null,null,null,null,null,null,null,null,null,null,null,null,null,null,null,null,null,null,null,null,null,null,null,0,null,null,null,null,null,null,null,{"$f":"IF(ISNA(VLOOKUP(AE29,Camions!$B:$F,2,0)),\"\",(VLOOKUP(AE29,Camions!$B:$F,2,0)))","v":""},null,null,null,null,null,null,null,null,null,null,null,null,{"$f":"IF(ISNA(VLOOKUP(AE29,Camions!$B:$F,4,0)),\"\",(VLOOKUP(AE29,Camions!$B:$F,4,0)))","v":""}]
[null,null,null,null,null,null,null,null,null,null,null,null,null,null,null,null,null,null,null,null,null,null,null,null,null,0,null,null,null,null,null,null,null,{"$f":"IF(ISNA(VLOOKUP(AE30,Camions!$B:$F,2,0)),\"\",(VLOOKUP(AE30,Camions!$B:$F,2,0)))","v":""},null,null,null,null,null,null,null,null,null,null,null,null,{"$f":"IF(ISNA(VLOOKUP(AE30,Camions!$B:$F,4,0)),\"\",(VLOOKUP(AE30,Camions!$B:$F,4,0)))","v":""}]
[null,null,null,null,null,null,null,null,null,null,null,null,null,null,null,null,null,null,null,null,null,null,null,null,null,0,null,null,null,null,null,null,null,{"$f":"IF(ISNA(VLOOKUP(AE31,Camions!$B:$F,2,0)),\"\",(VLOOKUP(AE31,Camions!$B:$F,2,0)))","v":""},null,null,null,null,null,null,null,null,null,null,null,null,{"$f":"IF(ISNA(VLOOKUP(AE31,Camions!$B:$F,4,0)),\"\",(VLOOKUP(AE31,Camions!$B:$F,4,0)))","v":""}]
[null,null,null,null,null,null,null,null,null,null,null,null,null,null,null,null,null,null,null,null,null,null,null,null,null,0,null,null,null,null,null,null,null,{"$f":"IF(ISNA(VLOOKUP(AE32,Camions!$B:$F,2,0)),\"\",(VLOOKUP(AE32,Camions!$B:$F,2,0)))","v":""},null,null,null,null,null,null,null,null,null,null,null,null,{"$f":"IF(ISNA(VLOOKUP(AE32,Camions!$B:$F,4,0)),\"\",(VLOOKUP(AE32,Camions!$B:$F,4,0)))","v":""}]
[null,null,null,null,null,null,null,null,null,null,null,null,null,null,null,null,null,null,null,null,null,null,null,null,null,0,null,null,null,null,null,null,null,{"$f":"IF(ISNA(VLOOKUP(AE33,Camions!$B:$F,2,0)),\"\",(VLOOKUP(AE33,Camions!$B:$F,2,0)))","v":""},null,null,null,null,null,null,null,null,null,null,null,null,{"$f":"IF(ISNA(VLOOKUP(AE33,Camions!$B:$F,4,0)),\"\",(VLOOKUP(AE33,Camions!$B:$F,4,0)))","v":""}]
[null,null,null,null,null,null,null,null,null,null,null,null,null,null,null,null,null,null,null,null,null,null,null,null,null,0,null,null,null,null,null,null,null,{"$f":"IF(ISNA(VLOOKUP(AE34,Camions!$B:$F,2,0)),\"\",(VLOOKUP(AE34,Camions!$B:$F,2,0)))","v":""},null,null,null,null,null,null,null,null,null,null,null,null,{"$f":"IF(ISNA(VLOOKUP(AE34,Camions!$B:$F,4,0)),\"\",(VLOOKUP(AE34,Camions!$B:$F,4,0)))","v":""}]
[null,null,null,null,null,null,null,null,null,null,null,null,null,null,null,null,null,null,null,null,null,null,null,null,null,0,null,null,null,null,null,null,null,{"$f":"IF(ISNA(VLOOKUP(AE35,Camions!$B:$F,2,0)),\"\",(VLOOKUP(AE35,Camions!$B:$F,2,0)))","v":""},null,null,null,null,null,null,null,null,null,null,null,null,{"$f":"IF(ISNA(VLOOKUP(AE35,Camions!$B:$F,4,0)),\"\",(VLOOKUP(AE35,Camions!$B:$F,4,0)))","v":""}]
[null,null,null,null,null,null,null,null,null,null,null,null,null,null,null,null,null,null,null,null,null,null,null,null,null,0,null,null,null,null,null,null,null,{"$f":"IF(ISNA(VLOOKUP(AE36,Camions!$B:$F,2,0)),\"\",(VLOOKUP(AE36,Camions!$B:$F,2,0)))","v":""},null,null,null,null,null,null,null,null,null,null,null,null,{"$f":"IF(ISNA(VLOOKUP(AE36,Camions!$B:$F,4,0)),\"\",(VLOOKUP(AE36,Camions!$B:$F,4,0)))","v":""}]
[null,null,null,null,null,null,null,null,null,null,null,null,null,null,null,null,null,null,null,null,null,null,null,null,null,0,null,null,null,null,null,null,null,{"$f":"IF(ISNA(VLOOKUP(AE37,Camions!$B:$F,2,0)),\"\",(VLOOKUP(AE37,Camions!$B:$F,2,0)))","v":""},null,null,null,null,null,null,null,null,null,null,null,null,{"$f":"IF(ISNA(VLOOKUP(AE36,Camions!$B:$F,4,0)),\"\",(VLOOKUP(AE36,Camions!$B:$F,4,0)))","v":""}]
["CHANTIER :",null,null,null,null,{"$f":"F1","v":0},null,null,null,null,null,null,null,null,null,null,null,null,null,null,"N° CHANTIER :",null,null,null,null,null,{"$f":"AA1","v":0},null,null,null,"JOUR :",null,null,null,{"$f":"AI1","v":"Mardi"},null,null,null,null,null,null,null,null,null,null,null,null,null,null,null,null,"DATES :",null,null,{"$f":"BC1","v":"19-01-16"}]
["MATERIEL",null,null,null,null,null,null,null,null,null,null,null,null,null,null,null,null,null,null,null,null,null,null,null,null,null,null,null,null,null,"SOUS-TRAITANTS"]
["Légende :",null,null,null,null,"Pa",".= Panne",null,null,null,null,"Ent",".= Entretien"]
["N°",null,null,"Description du matériel",null,null,null,null,null,null,null,null,null,null,null,null,"Nom de l'opérateur",null,null,null,null,null,null,null,null,"Heures",null,null,null,null,"Type d'engin et description des travaux ",null,null,null,null,null,null,null,null,null,null,null,null,null,null,null,"Sous-traitants",null,null,null,null,null,null,null,null,"Heures"]
[null,null,null,{"$f":"IF(ISNA(VLOOKUP(A42,Machines!$B:$F,2,0)),\"\",(VLOOKUP(A42,Machines!$B:$F,2,0)))","v":""},null,null,null,null,null,null,null,null,null,null,null,null,{"$f":"IF(ISNA(VLOOKUP(A42,Machines!$B:$F,4,0)),\"\",(VLOOKUP(A42,Machines!$B:$F,4,0)))","v":""}]
[null,null,null,{"$f":"IF(ISNA(VLOOKUP(A43,Machines!$B:$F,2,0)),\"\",(VLOOKUP(A43,Machines!$B:$F,2,0)))","v":""},null,null,null,null,null,null,null,null,null,null,null,null,{"$f":"IF(ISNA(VLOOKUP(A43,Machines!$B:$F,4,0)),\"\",(VLOOKUP(A43,Machines!$B:$F,4,0)))","v":""}]
[null,null,null,{"$f":"IF(ISNA(VLOOKUP(A44,Machines!$B:$F,2,0)),\"\",(VLOOKUP(A44,Machines!$B:$F,2,0)))","v":""},null,null,null,null,null,null,null,null,null,null,null,null,{"$f":"IF(ISNA(VLOOKUP(A44,Machines!$B:$F,4,0)),\"\",(VLOOKUP(A44,Machines!$B:$F,4,0)))","v":""}]
[null,null,null,{"$f":"IF(ISNA(VLOOKUP(A45,Machines!$B:$F,2,0)),\"\",(VLOOKUP(A45,Machines!$B:$F,2,0)))","v":""},null,null,null,null,null,null,null,null,null,null,null,null,{"$f":"IF(ISNA(VLOOKUP(A45,Machines!$B:$F,4,0)),\"\",(VLOOKUP(A45,Machines!$B:$F,4,0)))","v":""}]
[null,null,null,{"$f":"IF(ISNA(VLOOKUP(A46,Machines!$B:$F,2,0)),\"\",(VLOOKUP(A46,Machines!$B:$F,2,0)))","v":""},null,null,null,null,null,null,null,null,null,null,null,null,{"$f":"IF(ISNA(VLOOKUP(A46,Machines!$B:$F,4,0)),\"\",(VLOOKUP(A46,Machines!$B:$F,4,0)))","v":""}]
[null,null,null,{"$f":"IF(ISNA(VLOOKUP(A47,Machines!$B:$F,2,0)),\"\",(VLOOKUP(A47,Machines!$B:$F,2,0)))","v":""},null,null,null,null,null,null,null,null,null,null,null,null,{"$f":"IF(ISNA(VLOOKUP(A47,Machines!$B:$F,4,0)),\"\",(VLOOKUP(A47,Machines!$B:$F,4,0)))","v":""}]
[null,null,null,{"$f":"IF(ISNA(VLOOKUP(A48,Machines!$B:$F,2,0)),\"\",(VLOOKUP(A48,Machines!$B:$F,2,0)))","v":""},null,null,null,null,null,null,null,null,null,null,null,null,{"$f":"IF(ISNA(VLOOKUP(A48,Machines!$B:$F,4,0)),\"\",(VLOOKUP(A48,Machines!$B:$F,4,0)))","v":""}]
[null,null,null,{"$f":"IF(ISNA(VLOOKUP(A49,Machines!$B:$F,2,0)),\"\",(VLOOKUP(A49,Machines!$B:$F,2,0)))","v":""},null,null,null,null,null,null,null,null,null,null,null,null,{"$f":"IF(ISNA(VLOOKUP(A49,Machines!$B:$F,4,0)),\"\",(VLOOKUP(A49,Machines!$B:$F,4,0)))","v":""}]
[null,null,null,{"$f":"IF(ISNA(VLOOKUP(A50,Machines!$B:$F,2,0)),\"\",(VLOOKUP(A50,Machines!$B:$F,2,0)))","v":""},null,null,null,null,null,null,null,null,null,null,null,null,{"$f":"IF(ISNA(VLOOKUP(A50,Machines!$B:$F,4,0)),\"\",(VLOOKUP(A50,Machines!$B:$F,4,0)))","v":""}]
[null,null,null,{"$f":"IF(ISNA(VLOOKUP(A51,Machines!$B:$F,2,0)),\"\",(VLOOKUP(A51,Machines!$B:$F,2,0)))","v":""},null,null,null,null,null,null,null,null,null,null,null,null,{"$f":"IF(ISNA(VLOOKUP(A51,Machines!$B:$F,4,0)),\"\",(VLOOKUP(A51,Machines!$B:$F,4,0)))","v":""}]
[null,null,null,{"$f":"IF(ISNA(VLOOKUP(A52,Machines!$B:$F,2,0)),\"\",(VLOOKUP(A52,Machines!$B:$F,2,0)))","v":""},null,null,null,null,null,null,null,null,null,null,null,null,{"$f":"IF(ISNA(VLOOKUP(A52,Machines!$B:$F,4,0)),\"\",(VLOOKUP(A52,Machines!$B:$F,4,0)))","v":""}]
[null,null,null,{"$f":"IF(ISNA(VLOOKUP(A53,Machines!$B:$F,2,0)),\"\",(VLOOKUP(A53,Machines!$B:$F,2,0)))","v":""},null,null,null,null,null,null,null,null,null,null,null,null,{"$f":"IF(ISNA(VLOOKUP(A53,Machines!$B:$F,4,0)),\"\",(VLOOKUP(A53,Machines!$B:$F,4,0)))","v":""}]
[null,null,null,{"$f":"IF(ISNA(VLOOKUP(A54,Machines!$B:$F,2,0)),\"\",(VLOOKUP(A54,Machines!$B:$F,2,0)))","v":""},null,null,null,null,null,null,null,null,null,null,null,null,{"$f":"IF(ISNA(VLOOKUP(A54,Machines!$B:$F,4,0)),\"\",(VLOOKUP(A54,Machines!$B:$F,4,0)))","v":""}]
[null,null,null,{"$f":"IF(ISNA(VLOOKUP(A55,Machines!$B:$F,2,0)),\"\",(VLOOKUP(A55,Machines!$B:$F,2,0)))","v":""},null,null,null,null,null,null,null,null,null,null,null,null,{"$f":"IF(ISNA(VLOOKUP(A55,Machines!$B:$F,4,0)),\"\",(VLOOKUP(A55,Machines!$B:$F,4,0)))","v":""}]
[null,null,null,{"$f":"IF(ISNA(VLOOKUP(A56,Machines!$B:$F,2,0)),\"\",(VLOOKUP(A56,Machines!$B:$F,2,0)))","v":""},null,null,null,null,null,null,null,null,null,null,null,null,{"$f":"IF(ISNA(VLOOKUP(A56,Machines!$B:$F,4,0)),\"\",(VLOOKUP(A56,Machines!$B:$F,4,0)))","v":""}]
[null,null,null,{"$f":"IF(ISNA(VLOOKUP(A57,Machines!$B:$F,2,0)),\"\",(VLOOKUP(A57,Machines!$B:$F,2,0)))","v":""},null,null,null,null,null,null,null,null,null,null,null,null,{"$f":"IF(ISNA(VLOOKUP(A57,Machines!$B:$F,4,0)),\"\",(VLOOKUP(A57,Machines!$B:$F,4,0)))","v":""}]
[null,null,null,{"$f":"IF(ISNA(VLOOKUP(A58,Machines!$B:$F,2,0)),\"\",(VLOOKUP(A58,Machines!$B:$F,2,0)))","v":""},null,null,null,null,null,null,null,null,null,null,null,null,{"$f":"IF(ISNA(VLOOKUP(A58,Machines!$B:$F,4,0)),\"\",(VLOOKUP(A58,Machines!$B:$F,4,0)))","v":""}]
[null,null,null,{"$f":"IF(ISNA(VLOOKUP(A59,Machines!$B:$F,2,0)),\"\",(VLOOKUP(A59,Machines!$B:$F,2,0)))","v":""},null,null,null,null,null,null,null,null,null,null,null,null,{"$f":"IF(ISNA(VLOOKUP(A59,Machines!$B:$F,4,0)),\"\",(VLOOKUP(A59,Machines!$B:$F,4,0)))","v":""}]
[null,null,null,{"$f":"IF(ISNA(VLOOKUP(A60,Machines!$B:$F,2,0)),\"\",(VLOOKUP(A60,Machines!$B:$F,2,0)))","v":""},null,null,null,null,null,null,null,null,null,null,null,null,{"$f":"IF(ISNA(VLOOKUP(A60,Machines!$B:$F,4,0)),\"\",(VLOOKUP(A60,Machines!$B:$F,4,0)))","v":""}]
[null,null,null,{"$f":"IF(ISNA(VLOOKUP(A61,Machines!$B:$F,2,0)),\"\",(VLOOKUP(A61,Machines!$B:$F,2,0)))","v":""},null,null,null,null,null,null,null,null,null,null,null,null,{"$f":"IF(ISNA(VLOOKUP(A61,Machines!$B:$F,4,0)),\"\",(VLOOKUP(A61,Machines!$B:$F,4,0)))","v":""}]
[null,null,null,{"$f":"IF(ISNA(VLOOKUP(A62,Machines!$B:$F,2,0)),\"\",(VLOOKUP(A62,Machines!$B:$F,2,0)))","v":""},null,null,null,null,null,null,null,null,null,null,null,null,{"$f":"IF(ISNA(VLOOKUP(A62,Machines!$B:$F,4,0)),\"\",(VLOOKUP(A62,Machines!$B:$F,4,0)))","v":""}]
[null,null,null,{"$f":"IF(ISNA(VLOOKUP(A63,Machines!$B:$F,2,0)),\"\",(VLOOKUP(A63,Machines!$B:$F,2,0)))","v":""},null,null,null,null,null,null,null,null,null,null,null,null,{"$f":"IF(ISNA(VLOOKUP(A63,Machines!$B:$F,4,0)),\"\",(VLOOKUP(A63,Machines!$B:$F,4,0)))","v":""}]
[null,null,null,{"$f":"IF(ISNA(VLOOKUP(A64,Machines!$B:$F,2,0)),\"\",(VLOOKUP(A64,Machines!$B:$F,2,0)))","v":""},null,null,null,null,null,null,null,null,null,null,null,null,{"$f":"IF(ISNA(VLOOKUP(A64,Machines!$B:$F,4,0)),\"\",(VLOOKUP(A64,Machines!$B:$F,4,0)))","v":""}]
[null,null,null,{"$f":"IF(ISNA(VLOOKUP(A65,Machines!$B:$F,2,0)),\"\",(VLOOKUP(A65,Machines!$B:$F,2,0)))","v":""},null,null,null,null,null,null,null,null,null,null,null,null,{"$f":"IF(ISNA(VLOOKUP(A65,Machines!$B:$F,4,0)),\"\",(VLOOKUP(A65,Machines!$B:$F,4,0)))","v":""}]
[null,null,null,{"$f":"IF(ISNA(VLOOKUP(A66,Machines!$B:$F,2,0)),\"\",(VLOOKUP(A66,Machines!$B:$F,2,0)))","v":""},null,null,null,null,null,null,null,null,null,null,null,null,{"$f":"IF(ISNA(VLOOKUP(A66,Machines!$B:$F,4,0)),\"\",(VLOOKUP(A66,Machines!$B:$F,4,0)))","v":""}]
[null,null,null,{"$f":"IF(ISNA(VLOOKUP(A67,Machines!$B:$F,2,0)),\"\",(VLOOKUP(A67,Machines!$B:$F,2,0)))","v":""},null,null,null,null,null,null,null,null,null,null,null,null,{"$f":"IF(ISNA(VLOOKUP(A67,Machines!$B:$F,4,0)),\"\",(VLOOKUP(A67,Machines!$B:$F,4,0)))","v":""}]
[null,null,null,{"$f":"IF(ISNA(VLOOKUP(A68,Machines!$B:$F,2,0)),\"\",(VLOOKUP(A68,Machines!$B:$F,2,0)))","v":""},null,null,null,null,null,null,null,null,null,null,null,null,{"$f":"IF(ISNA(VLOOKUP(A68,Machines!$B:$F,4,0)),\"\",(VLOOKUP(A68,Machines!$B:$F,4,0)))","v":""}]
[null,null,null,{"$f":"IF(ISNA(VLOOKUP(A69,Machines!$B:$F,2,0)),\"\",(VLOOKUP(A69,Machines!$B:$F,2,0)))","v":""},null,null,null,null,null,null,null,null,null,null,null,null,{"$f":"IF(ISNA(VLOOKUP(A69,Machines!$B:$F,4,0)),\"\",(VLOOKUP(A69,Machines!$B:$F,4,0)))","v":""}]
[null,null,null,{"$f":"IF(ISNA(VLOOKUP(A70,Machines!$B:$F,2,0)),\"\",(VLOOKUP(A70,Machines!$B:$F,2,0)))","v":""},null,null,null,null,null,null,null,null,null,null,null,null,{"$f":"IF(ISNA(VLOOKUP(A70,Machines!$B:$F,4,0)),\"\",(VLOOKUP(A70,Machines!$B:$F,4,0)))","v":""}]
[null,null,null,{"$f":"IF(ISNA(VLOOKUP(A71,Machines!$B:$F,2,0)),\"\",(VLOOKUP(A71,Machines!$B:$F,2,0)))","v":""},null,null,null,null,null,null,null,null,null,null,null,null,{"$f":"IF(ISNA(VLOOKUP(A71,Machines!$B:$F,4,0)),\"\",(VLOOKUP(A71,Machines!$B:$F,4,0)))","v":""}]
[null,null,null,{"$f":"IF(ISNA(VLOOKUP(A72,Machines!$B:$F,2,0)),\"\",(VLOOKUP(A72,Machines!$B:$F,2,0)))","v":""},null,null,null,null,null,null,null,null,null,null,null,null,{"$f":"IF(ISNA(VLOOKUP(A72,Machines!$B:$F,4,0)),\"\",(VLOOKUP(A72,Machines!$B:$F,4,0)))","v":""}]
[null,null,null,{"$f":"IF(ISNA(VLOOKUP(A73,Machines!$B:$F,2,0)),\"\",(VLOOKUP(A73,Machines!$B:$F,2,0)))","v":""},null,null,null,null,null,null,null,null,null,null,null,null,{"$f":"IF(ISNA(VLOOKUP(A73,Machines!$B:$F,4,0)),\"\",(VLOOKUP(A73,Machines!$B:$F,4,0)))","v":""}]
[null,null,null,{"$f":"IF(ISNA(VLOOKUP(A74,Machines!$B:$F,2,0)),\"\",(VLOOKUP(A74,Machines!$B:$F,2,0)))","v":""},null,null,null,null,null,null,null,null,null,null,null,null,{"$f":"IF(ISNA(VLOOKUP(A74,Machines!$B:$F,4,0)),\"\",(VLOOKUP(A74,Machines!$B:$F,4,0)))","v":""}]
["CHANTIER :",null,null,null,null,{"$f":"F1","v":0},null,null,null,null,null,null,null,null,null,null,null,null,null,null,"N° CHANTIER :",null,null,null,null,null,{"$f":"AA1","v":0},null,null,null,"JOUR :",null,null,null,{"$f":"AI1","v":"Mardi"},null,null,null,null,null,null,null,null,null,null,null,null,null,null,null,null,"DATES :",null,null,{"$f":"BC1","v":"19-01-16"}]
["MATERIAUX"]
[null,null,null,"Fournisseurs",null,null,null,null,null,null,null,null,null,null,null,null,null,null,"Description des fournitures & matériaux",null,null,null,null,null,null,null,null,null,null,null,null,null,null,null,null,null,null,null,null,null,null,null,null,null,null,null,null,null,null,"Qt totales",null,null,null,"U.",null,"Prix"]
[]
[]
[]
[]
[]
[]
[]
[]
[]
[]
[]
[]
[]
[]
[]
[]
[]
[]
[]
[]
[]
[]
[]
[]
[]
[]
[]
[]
[]
[]
[]
[null,null,null,"RESPONSABLE",null,null,null,null,null,null,null,null,"SIGNATURE",null,null,null,null,null,"DESCRIPTION DES TRAVAUX REALISES CE JOUR",null,null,null,null,null,null,null,null,null,null,null,null,null,null,null,null,null,null,null,null,null,null,null,null,null,null,null,null,null,null,"METEO"]
[null,null,null,"JENNES Loïc"]

{"sheet":"20-01-16","index":26,"n_rows":110,"n_cols":56,"rows_kept":110,"cut":false,"hidden":false,"merged":[[110,18,110,48],[69,55,69,58],[72,0,72,2],[72,3,72,15],[72,16,72,24],[72,25,72,28],[72,30,72,45],[72,46,72,54],[72,55,72,58],[73,0,73,2],[73,3,73,15],[73,55,73,58],[70,55,70,58],[71,30,71,45],[71,46,71,54],[71,55,71,58],[103,3,103,17],[103,18,103,48],[104,3,104,17],[104,18,104,48],[69,0,69,2],[69,3,69,15],[69,16,69,24],[69,25,69,28],[69,30,69,45],[69,46,69,54],[73,16,73,24],[73,25,73,28],[73,30,73,45],[73,46,73,54],[70,0,70,2],[70,3,70,15],[70,16,70,24],[70,25,70,28],[70,30,70,45],[70,46,70,54],[71,0,71,2],[71,3,71,15],[71,16,71,24],[71,25,71,28],[67,0,67,2],[67,3,67,15],[67,16,67,24],[67,25,67,28],[67,30,67,45],[67,46,67,54],[67,55,67,58],[68,0,68,2],[68,3,68,15],[68,16,68,24],[68,25,68,28],[68,30,68,45],[68,46,68,54],[68,55,68,58],[65,0,65,2],[65,3,65,15],[65,16,65,24],[65,25,65,28],[65,30,65,45],[65,46,65,54],[65,55,65,58],[66,0,66,2],[66,3,66,15],[66,16,66,24],[66,25,66,28],[66,30,66,45],[66,46,66,54],[66,55,66,58],[63,0,63,2],[63,3,63,15],[63,16,63,24],[63,25,63,28],[63,30,63,45],[63,46,63,54],[63,55,63,58],[64,0,64,2],[64,3,64,15],[64,16,64,24],[64,25,64,28],[64,30,64,45],[64,46,64,54],[64,55,64,58],[61,0,61,2],[61,3,61,15],[61,16,61,24],[61,25,61,28],[61,30,61,45],[61,46,61,54],[61,55,61,58],[62,0,62,2],[62,3,62,15],[62,16,62,24],[62,25,62,28],[62,30,62,45],[62,46,62,54],[62,55,62,58],[59,0,59,2],[59,3,59,15],[59,16,59,24],[59,25,59,28],[59,30,59,45],[59,46,59,54],[59,55,59,58],[60,0,60,2],[60,3,60,15],[60,16,60,24],[60,25,60,28],[60,30,60,45],[60,46,60,54],[60,55,60,58],[57,0,57,2],[57,3,57,15],[57,16,57,24],[57,25,57,28],[57,30,57,45],[57,46,57,54],[57,55,57,58],[58,0,58,2],[58,3,58,15],[58,16,58,24],[58,25,58,28],[58,30,58,45],[58,46,58,54],[58,55,58,58],[55,0,55,2],[55,3,55,15],[55,16,55,24],[55,25,55,28],[55,30,55,45],[55,46,55,54],[55,55,55,58],[56,0,56,2],[56,3,56,15],[56,16,56,24],[56,25,56,28],[56,30,56,45],[56,46,56,54],[56,55,56,58],[53,0,53,2],[53,3,53,15],[53,16,53,24],[53,25,53,28],[53,30,53,45],[53,46,53,54],[53,55,53,58],[54,0,54,2],[54,3,54,15],[54,16,54,24],[54,25,54,28],[54,30,54,45],[54,46,54,54],[54,55,54,58],[51,0,51,2],[51,3,51,15],[51,16,51,24],[51,25,51,28],[51,30,51,45],[51,46,51,54],[51,55,51,58],[52,0,52,2],[52,3,52,15],[52,16,52,24],[52,25,52,28],[52,30,52,45],[52,46,52,54],[52,55,52,58],[49,0,49,2],[49,3,49,15],[49,16,49,24],[49,25,49,28],[49,30,49,45],[49,46,49,54],[49,55,49,58],[50,0,50,2],[50,3,50,15],[50,16,50,24],[50,25,50,28],[50,30,50,45],[50,46,50,54],[50,55,50,58],[47,0,47,2],[47,3,47,15],[47,16,47,24],[47,25,47,28],[47,30,47,45],[47,46,47,54],[47,55,47,58],[48,0,48,2],[48,3,48,15],[48,16,48,24],[48,25,48,28],[48,30,48,45],[48,46,48,54],[48,55,48,58],[45,0,45,2],[45,3,45,15],[45,16,45,24],[45,25,45,28],[45,30,45,45],[45,46,45,54],[45,55,45,58],[46,0,46,2],[46,3,46,15],[46,16,46,24],[46,25,46,28],[46,30,46,45],[46,46,46,54],[46,55,46,58],[43,0,43,2],[43,3,43,15],[43,16,43,24],[43,25,43,28],[43,30,43,45],[43,46,43,54],[43,55,43,58],[44,0,44,2],[44,3,44,15],[44,16,44,24],[44,25,44,28],[44,30,44,45],[44,46,44,54],[44,55,44,58],[41,25,41,28],[41,30,41,45],[41,46,41,54],[41,55,41,58],[42,0,42,2],[42,3,42,15],[42,16,42,24],[42,25,42,28],[42,30,42,45],[42,46,42,54],[42,55,42,58],[37,0,37,4],[37,5,37,19],[37,20,37,25],[37,26,37,28],[37,30,37,32],[37,34,37,47],[37,51,37,53],[37,54,37,58],[38,0,38,28],[38,29,73,29],[38,30,38,58],[39,0,39,4],[39,6,39,9],[39,12,39,15],[40,0,40,2],[40,3,40,15],[40,16,40,24],[40,25,40,28],[40,30,40,45],[40,46,40,54],[40,55,40,58],[41,0,41,2],[41,3,41,15],[41,16,41,24],[36,0,36,15],[36,16,36,18],[36,19,36,21],[36,22,36,24],[36,25,36,28],[36,30,36,32],[36,33,36,45],[36,46,36,54],[36,55,36,58],[35,0,35,15],[35,16,35,18],[35,19,35,21],[35,22,35,24],[35,25,35,28],[35,30,35,32],[35,33,35,45],[35,46,35,54],[35,55,35,58],[34,0,34,15],[34,16,34,18],[34,19,34,21],[34,22,34,24],[34,25,34,28],[34,30,34,32],[34,33,34,45],[34,46,34,54],[34,55,34,58],[33,0,33,15],[33,16,33,18],[33,19,33,21],[33,22,33,24],[33,25,33,28],[33,30,33,32],[33,33,33,45],[33,46,33,54],[33,55,33,58],[32,0,32,15],[32,16,32,18],[32,19,32,21],[32,22,32,24],[32,25,32,28],[32,30,32,32],[32,33,32,45],[32,46,32,54],[32,55,32,58],[31,0,31,15],[31,16,31,18],[31,19,31,21],[31,22,31,24],[31,25,31,28],[31,30,31,32],[31,33,31,45],[31,46,31,54],[31,55,31,58],[30,0,30,15],[30,16,30,18],[30,19,30,21],[30,22,30,24],[30,25,30,28],[30,30,30,32],[30,33,30,45],[30,46,30,54],[30,55,30,58],[29,0,29,15],[29,16,29,18],[29,19,29,21],[29,22,29,24],[29,25,29,28],[29,30,29,32],[29,33,29,45],[29,46,29,54],[29,55,29,58],[28,0,28,15],[28,16,28,18],[28,19,28,21],[28,22,28,24],[28,25,28,28],[28,30,28,32],[28,33,28,45],[28,46,28,54],[28,55,28,58],[27,0,27,15],[27,16,27,18],[27,19,27,21],[27,22,27,24],[27,25,27,28],[27,30,27,32],[27,33,27,45],[27,46,27,54],[27,55,27,58],[26,0,26,15],[26,16,26,18],[26,19,26,21],[26,22,26,24],[26,25,26,28],[26,30,26,32],[26,33,26,45],[26,46,26,54],[26,55,26,58],[25,0,25,15],[25,16,25,18],[25,19,25,21],[25,22,25,24],[25,25,25,28],[25,30,25,32],[25,33,25,45],[25,46,25,54],[25,55,25,58],[24,0,24,15],[24,16,24,18],[24,19,24,21],[24,22,24,24],[24,25,24,28],[24,30,24,32],[24,33,24,45],[24,46,24,54],[24,55,24,58],[23,0,23,15],[23,16,23,18],[23,19,23,21],[23,22,23,24],[23,25,23,28],[23,30,23,32],[23,33,23,45],[23,46,23,54],[23,55,23,58],[22,0,22,15],[22,16,22,18],[22,19,22,21],[22,22,22,24],[22,25,22,28],[22,30,22,32],[22,33,22,45],[22,46,22,54],[22,55,22,58],[21,0,21,15],[21,16,21,18],[21,19,21,21],[21,22,21,24],[21,25,21,28],[21,30,21,32],[21,33,21,45],[21,46,21,54],[21,55,21,58],[20,0,20,15],[20,16,20,18],[20,19,20,21],[20,22,20,24],[20,25,20,28],[20,30,20,32],[20,33,20,45],[20,46,20,54],[20,55,20,58],[19,0,19,15],[19,16,19,18],[19,19,19,21],[19,22,19,24],[19,25,19,28],[19,30,19,32],[19,33,19,45],[19,46,19,54],[19,55,19,58],[18,0,18,15],[18,16,18,18],[18,19,18,21],[18,22,18,24],[18,25,18,28],[18,30,18,32],[18,33,18,45],[18,46,18,54],[18,55,18,58],[17,0,17,15],[17,16,17,18],[17,19,17,21],[17,22,17,24],[17,25,17,28],[17,30,17,32],[17,33,17,45],[17,46,17,54],[17,55,17,58],[16,0,16,15],[16,16,16,18],[16,19,16,21],[16,22,16,24],[16,25,16,28],[16,30,16,32],[16,33,16,45],[16,46,16,54],[16,55,16,58],[15,0,15,15],[15,16,15,18],[15,19,15,21],[15,22,15,24],[15,25,15,28],[15,30,15,32],[15,33,15,45],[15,46,15,54],[15,55,15,58],[14,0,14,15],[14,16,14,18],[14,19,14,21],[14,22,14,24],[14,25,14,28],[14,30,14,32],[14,33,14,45],[14,46,14,54],[14,55,14,58],[13,0,13,15],[13,16,13,18],[13,19,13,21],[13,22,13,24],[13,25,13,28],[13,30,13,32],[13,33,13,45],[13,46,13,54],[13,55,13,58],[12,0,12,15],[12,16,12,18],[12,19,12,21],[12,22,12,24],[12,25,12,28],[12,30,12,32],[12,33,12,45],[12,46,12,54],[12,55,12,58],[11,0,11,15],[11,16,11,18],[11,19,11,21],[11,22,11,24],[11,25,11,28],[11,30,11,32],[11,33,11,45],[11,46,11,54],[11,55,11,58],[10,0,10,15],[10,16,10,18],[10,19,10,21],[10,22,10,24],[10,25,10,28],[10,30,10,32],[10,33,10,45],[10,46,10,54],[10,55,10,58],[9,0,9,15],[9,16,9,18],[9,19,9,21],[9,22,9,24],[9,25,9,28],[9,30,9,32],[9,33,9,45],[9,46,9,54],[9,55,9,58],[8,0,8,15],[8,16,8,18],[8,19,8,21],[8,22,8,24],[8,25,8,28],[8,30,8,32],[8,33,8,45],[8,46,8,54],[8,55,8,58],[6,30,6,32],[6,33,6,45],[6,46,6,54],[6,55,6,58],[7,0,7,15],[7,16,7,18],[7,19,7,21],[7,22,7,24],[7,25,7,28],[7,30,7,32],[7,33,7,45],[7,46,7,54],[7,55,7,58],[4,55,4,58],[5,0,5,15],[5,16,5,18],[5,19,5,21],[5,22,5,24],[5,25,5,28],[5,30,5,32],[5,33,5,45],[5,46,5,54],[5,55,5,58],[0,51,0,53],[0,54,0,58],[1,0,1,28],[1,29,36,29],[1,30,1,58],[2,0,2,4],[2,7,2,10],[2,13,2,16],[2,19,2,22],[2,25,2,28],[2,30,2,34],[2,36,2,39],[2,42,2,45],[3,0,3,15],[3,16,3,18],[3,19,3,21],[3,22,3,24],[3,25,3,28],[3,30,3,32],[3,33,3,45],[3,46,3,54],[3,55,3,58],[4,0,4,15],[4,16,4,18],[109,18,109,48],[111,18,111,48],[108,18,108,48],[108,3,108,11],[108,12,108,17],[109,3,111,11],[109,12,111,17],[0,0,0,4],[0,5,0,19],[0,20,0,25],[0,26,0,28],[0,30,0,32],[0,34,0,47],[4,19,4,21],[4,22,4,24],[4,25,4,28],[4,30,4,32],[4,33,4,45],[4,46,4,54],[6,0,6,15],[6,16,6,18],[6,19,6,21],[6,22,6,24],[6,25,6,28],[107,3,107,17],[107,18,107,48],[105,3,105,17],[105,18,105,48],[106,3,106,17],[106,18,106,48],[106,49,106,52],[107,49,107,52],[102,3,102,17],[102,18,102,48],[99,3,99,17],[99,18,99,48],[100,3,100,17],[100,18,100,48],[101,49,101,52],[101,53,101,54],[101,55,101,58],[102,49,102,52],[102,53,102,54],[102,55,102,58],[99,55,99,58],[100,49,100,52],[100,53,100,54],[100,55,100,58],[95,53,95,54],[95,55,95,58],[96,49,96,52],[96,53,96,54],[96,55,96,58],[97,49,97,52],[97,53,97,54],[101,3,101,17],[101,18,101,48],[97,3,97,17],[97,18,97,48],[98,3,98,17],[98,18,98,48],[95,3,95,17],[95,18,95,48],[96,3,96,17],[96,18,96,48],[95,49,95,52],[97,55,97,58],[98,49,98,52],[98,53,98,54],[98,55,98,58],[99,49,99,52],[99,53,99,54],[94,3,94,17],[94,18,94,48],[91,3,91,17],[91,18,91,48],[92,3,92,17],[92,18,92,48],[93,49,93,52],[93,53,93,54],[93,55,93,58],[94,49,94,52],[94,53,94,54],[94,55,94,58],[91,55,91,58],[92,49,92,52],[92,53,92,54],[92,55,92,58],[87,53,87,54],[87,55,87,58],[88,49,88,52],[88,53,88,54],[88,55,88,58],[89,49,89,52],[89,53,89,54],[93,3,93,17],[93,18,93,48],[89,3,89,17],[89,18,89,48],[90,3,90,17],[90,18,90,48],[87,3,87,17],[87,18,87,48],[88,3,88,17],[88,18,88,48],[87,49,87,52],[89,55,89,58],[90,49,90,52],[90,53,90,54],[90,55,90,58],[91,49,91,52],[91,53,91,54],[86,3,86,17],[86,18,86,48],[83,3,83,17],[83,18,83,48],[84,3,84,17],[84,18,84,48],[85,49,85,52],[85,53,85,54],[85,55,85,58],[86,49,86,52],[86,53,86,54],[86,55,86,58],[83,55,83,58],[84,49,84,52],[84,53,84,54],[84,55,84,58],[79,53,79,54],[79,55,79,58],[80,49,80,52],[80,53,80,54],[80,55,80,58],[81,49,81,52],[81,53,81,54],[85,3,85,17],[85,18,85,48],[81,3,81,17],[81,18,81,48],[82,3,82,17],[82,18,82,48],[79,3,79,17],[79,18,79,48],[80,3,80,17],[80,18,80,48],[79,49,79,52],[81,55,81,58],[82,49,82,52],[82,53,82,54],[82,55,82,58],[83,49,83,52],[83,53,83,54],[74,54,74,58],[75,0,75,58],[76,49,76,52],[76,53,76,54],[76,55,76,58],[77,3,77,17],[77,18,77,48],[78,3,78,17],[78,18,78,48],[77,49,77,52],[77,53,77,54],[77,55,77,58],[78,49,78,52],[78,53,78,54],[78,55,78,58],[76,3,76,17],[76,18,76,48],[74,0,74,4],[74,5,74,19],[74,20,74,25],[74,26,74,28],[74,30,74,32],[74,34,74,47],[74,51,74,53],[108,49,108,58],[109,49,111,58],[103,49,103,52],[103,53,103,54],[103,55,103,58],[104,49,104,52],[104,53,104,54],[104,55,104,58],[105,49,105,52],[105,53,105,54],[105,55,105,58],[106,53,106,54],[106,55,106,58],[107,53,107,54],[107,55,107,58]]}
["CHANTIER :",null,null,null,null,{"$f":"'01-01-16'!F1","v":0},null,null,null,null,null,null,null,null,null,null,null,null,null,null,"N° CHANTIER :",null,null,null,null,null,{"$f":"'01-01-16'!AA1","v":0},null,null,null,"JOUR :",null,null,null,{"$f":" CHOOSE(WEEKDAY(BC1,2),\"Lundi\",\"Mardi\",\"Mercredi\",\"Jeudi\",\"Vendredi\",\"Samedi\",\"Dimanche\")","v":"Mercredi"},null,null,null,null,null,null,null,null,null,null,null,null,null,null,null,null,"DATES :",null,null,{"$f":"MID(CELL(\"nomfichier\",A1),FIND(\"]\",CELL(\"nomfichier\",A1),1)+1,30)","v":"20-01-16"}]
["MAIN D'ŒUVRE",null,null,null,null,null,null,null,null,null,null,null,null,null,null,null,null,null,null,null,null,null,null,null,null,null,null,null,null,null,"CAMIONS"]
["Légende :",null,null,null,null,null,"Co",".= Congé",null,null,null,null,"M",".= Malade",null,null,null,null,"Cho",".= Chômage",null,null,null,null,"Va",".= Vacance",null,null,null,null,"Légende :",null,null,null,null,"Pa",".= Panne",null,null,null,null,"Ent",".= Entretien"]
["NOM - Prénom du travailleur",null,null,null,null,null,null,null,null,null,null,null,null,null,null,null,"Début journée",null,null,"Arrêt repas",null,null,"Fin journée",null,null,"Heures prestées",null,null,null,null,"N°",null,null,"Description du matériel",null,null,null,null,null,null,null,null,null,null,null,null,"Nom de l'opérateur",null,null,null,null,null,null,null,null,"Heures"]
[null,null,null,null,null,null,null,null,null,null,null,null,null,null,null,null,null,null,null,null,null,null,null,null,null,{"$f":"W5-Q5-T5","v":0},null,null,null,null,null,null,null,{"$f":"IF(ISNA(VLOOKUP(AE5,Camions!$B:$F,2,0)),\"\",(VLOOKUP(AE5,Camions!$B:$F,2,0)))","v":""},null,null,null,null,null,null,null,null,null,null,null,null,{"$f":"IF(ISNA(VLOOKUP(AE5,Camions!$B:$F,4,0)),\"\",(VLOOKUP(AE5,Camions!$B:$F,4,0)))","v":""}]
[null,null,null,null,null,null,null,null,null,null,null,null,null,null,null,null,null,null,null,null,null,null,null,null,null,{"$f":"W6-Q6-T6","v":0},null,null,null,null,null,null,null,{"$f":"IF(ISNA(VLOOKUP(AE6,Camions!$B:$F,2,0)),\"\",(VLOOKUP(AE6,Camions!$B:$F,2,0)))","v":""},null,null,null,null,null,null,null,null,null,null,null,null,{"$f":"IF(ISNA(VLOOKUP(AE6,Camions!$B:$F,4,0)),\"\",(VLOOKUP(AE6,Camions!$B:$F,4,0)))","v":""}]
[null,null,null,null,null,null,null,null,null,null,null,null,null,null,null,null,null,null,null,null,null,null,null,null,null,0,null,null,null,null,null,null,null,{"$f":"IF(ISNA(VLOOKUP(AE7,Camions!$B:$F,2,0)),\"\",(VLOOKUP(AE7,Camions!$B:$F,2,0)))","v":""},null,null,null,null,null,null,null,null,null,null,null,null,{"$f":"IF(ISNA(VLOOKUP(AE7,Camions!$B:$F,4,0)),\"\",(VLOOKUP(AE7,Camions!$B:$F,4,0)))","v":""}]
[null,null,null,null,null,null,null,null,null,null,null,null,null,null,null,null,null,null,null,null,null,null,null,null,null,0,null,null,null,null,null,null,null,{"$f":"IF(ISNA(VLOOKUP(AE8,Camions!$B:$F,2,0)),\"\",(VLOOKUP(AE8,Camions!$B:$F,2,0)))","v":""},null,null,null,null,null,null,null,null,null,null,null,null,{"$f":"IF(ISNA(VLOOKUP(AE8,Camions!$B:$F,4,0)),\"\",(VLOOKUP(AE8,Camions!$B:$F,4,0)))","v":""}]
[null,null,null,null,null,null,null,null,null,null,null,null,null,null,null,null,null,null,null,null,null,null,null,null,null,0,null,null,null,null,null,null,null,{"$f":"IF(ISNA(VLOOKUP(AE9,Camions!$B:$F,2,0)),\"\",(VLOOKUP(AE9,Camions!$B:$F,2,0)))","v":""},null,null,null,null,null,null,null,null,null,null,null,null,{"$f":"IF(ISNA(VLOOKUP(AE9,Camions!$B:$F,4,0)),\"\",(VLOOKUP(AE9,Camions!$B:$F,4,0)))","v":""}]
[null,null,null,null,null,null,null,null,null,null,null,null,null,null,null,null,null,null,null,null,null,null,null,null,null,0,null,null,null,null,null,null,null,{"$f":"IF(ISNA(VLOOKUP(AE10,Camions!$B:$F,2,0)),\"\",(VLOOKUP(AE10,Camions!$B:$F,2,0)))","v":""},null,null,null,null,null,null,null,null,null,null,null,null,{"$f":"IF(ISNA(VLOOKUP(AE10,Camions!$B:$F,4,0)),\"\",(VLOOKUP(AE10,Camions!$B:$F,4,0)))","v":""}]
[null,null,null,null,null,null,null,null,null,null,null,null,null,null,null,null,null,null,null,null,null,null,null,null,null,0,null,null,null,null,null,null,null,{"$f":"IF(ISNA(VLOOKUP(AE11,Camions!$B:$F,2,0)),\"\",(VLOOKUP(AE11,Camions!$B:$F,2,0)))","v":""},null,null,null,null,null,null,null,null,null,null,null,null,{"$f":"IF(ISNA(VLOOKUP(AE11,Camions!$B:$F,4,0)),\"\",(VLOOKUP(AE11,Camions!$B:$F,4,0)))","v":""}]
[null,null,null,null,null,null,null,null,null,null,null,null,null,null,null,null,null,null,null,null,null,null,null,null,null,0,null,null,null,null,null,null,null,{"$f":"IF(ISNA(VLOOKUP(AE12,Camions!$B:$F,2,0)),\"\",(VLOOKUP(AE12,Camions!$B:$F,2,0)))","v":""},null,null,null,null,null,null,null,null,null,null,null,null,{"$f":"IF(ISNA(VLOOKUP(AE12,Camions!$B:$F,4,0)),\"\",(VLOOKUP(AE12,Camions!$B:$F,4,0)))","v":""}]
[null,null,null,null,null,null,null,null,null,null,null,null,null,null,null,null,null,null,null,null,null,null,null,null,null,0,null,null,null,null,null,null,null,{"$f":"IF(ISNA(VLOOKUP(AE13,Camions!$B:$F,2,0)),\"\",(VLOOKUP(AE13,Camions!$B:$F,2,0)))","v":""},null,null,null,null,null,null,null,null,null,null,null,null,{"$f":"IF(ISNA(VLOOKUP(AE13,Camions!$B:$F,4,0)),\"\",(VLOOKUP(AE13,Camions!$B:$F,4,0)))","v":""}]
[null,null,null,null,null,null,null,null,null,null,null,null,null,null,null,null,null,null,null,null,null,null,null,null,null,0,null,null,null,null,null,null,null,{"$f":"IF(ISNA(VLOOKUP(AE14,Camions!$B:$F,2,0)),\"\",(VLOOKUP(AE14,Camions!$B:$F,2,0)))","v":""},null,null,null,null,null,null,null,null,null,null,null,null,{"$f":"IF(ISNA(VLOOKUP(AE14,Camions!$B:$F,4,0)),\"\",(VLOOKUP(AE14,Camions!$B:$F,4,0)))","v":""}]
[null,null,null,null,null,null,null,null,null,null,null,null,null,null,null,null,null,null,null,null,null,null,null,null,null,0,null,null,null,null,null,null,null,{"$f":"IF(ISNA(VLOOKUP(AE15,Camions!$B:$F,2,0)),\"\",(VLOOKUP(AE15,Camions!$B:$F,2,0)))","v":""},null,null,null,null,null,null,null,null,null,null,null,null,{"$f":"IF(ISNA(VLOOKUP(AE15,Camions!$B:$F,4,0)),\"\",(VLOOKUP(AE15,Camions!$B:$F,4,0)))","v":""}]
[null,null,null,null,null,null,null,null,null,null,null,null,null,null,null,null,null,null,null,null,null,null,null,null,null,0,null,null,null,null,null,null,null,{"$f":"IF(ISNA(VLOOKUP(AE16,Camions!$B:$F,2,0)),\"\",(VLOOKUP(AE16,Camions!$B:$F,2,0)))","v":""},null,null,null,null,null,null,null,null,null,null,null,null,{"$f":"IF(ISNA(VLOOKUP(AE16,Camions!$B:$F,4,0)),\"\",(VLOOKUP(AE16,Camions!$B:$F,4,0)))","v":""}]
[null,null,null,null,null,null,null,null,null,null,null,null,null,null,null,null,null,null,null,null,null,null,null,null,null,0,null,null,null,null,null,null,null,{"$f":"IF(ISNA(VLOOKUP(AE17,Camions!$B:$F,2,0)),\"\",(VLOOKUP(AE17,Camions!$B:$F,2,0)))","v":""},null,null,null,null,null,null,null,null,null,null,null,null,{"$f":"IF(ISNA(VLOOKUP(AE17,Camions!$B:$F,4,0)),\"\",(VLOOKUP(AE17,Camions!$B:$F,4,0)))","v":""}]
[null,null,null,null,null,null,null,null,null,null,null,null,null,null,null,null,null,null,null,null,null,null,null,null,null,0,null,null,null,null,null,null,null,{"$f":"IF(ISNA(VLOOKUP(AE18,Camions!$B:$F,2,0)),\"\",(VLOOKUP(AE18,Camions!$B:$F,2,0)))","v":""},null,null,null,null,null,null,null,null,null,null,null,null,{"$f":"IF(ISNA(VLOOKUP(AE18,Camions!$B:$F,4,0)),\"\",(VLOOKUP(AE18,Camions!$B:$F,4,0)))","v":""}]
[null,null,null,null,null,null,null,null,null,null,null,null,null,null,null,null,null,null,null,null,null,null,null,null,null,0,null,null,null,null,null,null,null,{"$f":"IF(ISNA(VLOOKUP(AE19,Camions!$B:$F,2,0)),\"\",(VLOOKUP(AE19,Camions!$B:$F,2,0)))","v":""},null,null,null,null,null,null,null,null,null,null,null,null,{"$f":"IF(ISNA(VLOOKUP(AE19,Camions!$B:$F,4,0)),\"\",(VLOOKUP(AE19,Camions!$B:$F,4,0)))","v":""}]
[null,null,null,null,null,null,null,null,null,null,null,null,null,null,null,null,null,null,null,null,null,null,null,null,null,0,null,null,null,null,null,null,null,{"$f":"IF(ISNA(VLOOKUP(AE20,Camions!$B:$F,2,0)),\"\",(VLOOKUP(AE20,Camions!$B:$F,2,0)))","v":""},null,null,null,null,null,null,null,null,null,null,null,null,{"$f":"IF(ISNA(VLOOKUP(AE20,Camions!$B:$F,4,0)),\"\",(VLOOKUP(AE20,Camions!$B:$F,4,0)))","v":""}]
[null,null,null,null,null,null,null,null,null,null,null,null,null,null,null,null,null,null,null,null,null,null,null,null,null,0,null,null,null,null,null,null,null,{"$f":"IF(ISNA(VLOOKUP(AE21,Camions!$B:$F,2,0)),\"\",(VLOOKUP(AE21,Camions!$B:$F,2,0)))","v":""},null,null,null,null,null,null,null,null,null,null,null,null,{"$f":"IF(ISNA(VLOOKUP(AE21,Camions!$B:$F,4,0)),\"\",(VLOOKUP(AE21,Camions!$B:$F,4,0)))","v":""}]
[null,null,null,null,null,null,null,null,null,null,null,null,null,null,null,null,null,null,null,null,null,null,null,null,null,0,null,null,null,null,null,null,null,{"$f":"IF(ISNA(VLOOKUP(AE22,Camions!$B:$F,2,0)),\"\",(VLOOKUP(AE22,Camions!$B:$F,2,0)))","v":""},null,null,null,null,null,null,null,null,null,null,null,null,{"$f":"IF(ISNA(VLOOKUP(AE22,Camions!$B:$F,4,0)),\"\",(VLOOKUP(AE22,Camions!$B:$F,4,0)))","v":""}]
[null,null,null,null,null,null,null,null,null,null,null,null,null,null,null,null,null,null,null,null,null,null,null,null,null,0,null,null,null,null,null,null,null,{"$f":"IF(ISNA(VLOOKUP(AE23,Camions!$B:$F,2,0)),\"\",(VLOOKUP(AE23,Camions!$B:$F,2,0)))","v":""},null,null,null,null,null,null,null,null,null,null,null,null,{"$f":"IF(ISNA(VLOOKUP(AE23,Camions!$B:$F,4,0)),\"\",(VLOOKUP(AE23,Camions!$B:$F,4,0)))","v":""}]
[null,null,null,null,null,null,null,null,null,null,null,null,null,null,null,null,null,null,null,null,null,null,null,null,null,0,null,null,null,null,null,null,null,{"$f":"IF(ISNA(VLOOKUP(AE24,Camions!$B:$F,2,0)),\"\",(VLOOKUP(AE24,Camions!$B:$F,2,0)))","v":""},null,null,null,null,null,null,null,null,null,null,null,null,{"$f":"IF(ISNA(VLOOKUP(AE24,Camions!$B:$F,4,0)),\"\",(VLOOKUP(AE24,Camions!$B:$F,4,0)))","v":""}]
[null,null,null,null,null,null,null,null,null,null,null,null,null,null,null,null,null,null,null,null,null,null,null,null,null,0,null,null,null,null,null,null,null,{"$f":"IF(ISNA(VLOOKUP(AE25,Camions!$B:$F,2,0)),\"\",(VLOOKUP(AE25,Camions!$B:$F,2,0)))","v":""},null,null,null,null,null,null,null,null,null,null,null,null,{"$f":"IF(ISNA(VLOOKUP(AE25,Camions!$B:$F,4,0)),\"\",(VLOOKUP(AE25,Camions!$B:$F,4,0)))","v":""}]
[null,null,null,null,null,null,null,null,null,null,null,null,null,null,null,null,null,null,null,null,null,null,null,null,null,0,null,null,null,null,null,null,null,{"$f":"IF(ISNA(VLOOKUP(AE26,Camions!$B:$F,2,0)),\"\",(VLOOKUP(AE26,Camions!$B:$F,2,0)))","v":""},null,null,null,null,null,null,null,null,null,null,null,null,{"$f":"IF(ISNA(VLOOKUP(AE26,Camions!$B:$F,4,0)),\"\",(VLOOKUP(AE26,Camions!$B:$F,4,0)))","v":""}]
[null,null,null,null,null,null,null,null,null,null,null,null,null,null,null,null,null,null,null,null,null,null,null,null,null,0,null,null,null,null,null,null,null,{"$f":"IF(ISNA(VLOOKUP(AE27,Camions!$B:$F,2,0)),\"\",(VLOOKUP(AE27,Camions!$B:$F,2,0)))","v":""},null,null,null,null,null,null,null,null,null,null,null,null,{"$f":"IF(ISNA(VLOOKUP(AE27,Camions!$B:$F,4,0)),\"\",(VLOOKUP(AE27,Camions!$B:$F,4,0)))","v":""}]
[null,null,null,null,null,null,null,null,null,null,null,null,null,null,null,null,null,null,null,null,null,null,null,null,null,0,null,null,null,null,null,null,null,{"$f":"IF(ISNA(VLOOKUP(AE28,Camions!$B:$F,2,0)),\"\",(VLOOKUP(AE28,Camions!$B:$F,2,0)))","v":""},null,null,null,null,null,null,null,null,null,null,null,null,{"$f":"IF(ISNA(VLOOKUP(AE28,Camions!$B:$F,4,0)),\"\",(VLOOKUP(AE28,Camions!$B:$F,4,0)))","v":""}]
[null,null,null,null,null,null,null,null,null,null,null,null,null,null,null,null,null,null,null,null,null,null,null,null,null,0,null,null,null,null,null,null,null,{"$f":"IF(ISNA(VLOOKUP(AE29,Camions!$B:$F,2,0)),\"\",(VLOOKUP(AE29,Camions!$B:$F,2,0)))","v":""},null,null,null,null,null,null,null,null,null,null,null,null,{"$f":"IF(ISNA(VLOOKUP(AE29,Camions!$B:$F,4,0)),\"\",(VLOOKUP(AE29,Camions!$B:$F,4,0)))","v":""}]
[null,null,null,null,null,null,null,null,null,null,null,null,null,null,null,null,null,null,null,null,null,null,null,null,null,0,null,null,null,null,null,null,null,{"$f":"IF(ISNA(VLOOKUP(AE30,Camions!$B:$F,2,0)),\"\",(VLOOKUP(AE30,Camions!$B:$F,2,0)))","v":""},null,null,null,null,null,null,null,null,null,null,null,null,{"$f":"IF(ISNA(VLOOKUP(AE30,Camions!$B:$F,4,0)),\"\",(VLOOKUP(AE30,Camions!$B:$F,4,0)))","v":""}]
[null,null,null,null,null,null,null,null,null,null,null,null,null,null,null,null,null,null,null,null,null,null,null,null,null,0,null,null,null,null,null,null,null,{"$f":"IF(ISNA(VLOOKUP(AE31,Camions!$B:$F,2,0)),\"\",(VLOOKUP(AE31,Camions!$B:$F,2,0)))","v":""},null,null,null,null,null,null,null,null,null,null,null,null,{"$f":"IF(ISNA(VLOOKUP(AE31,Camions!$B:$F,4,0)),\"\",(VLOOKUP(AE31,Camions!$B:$F,4,0)))","v":""}]
[null,null,null,null,null,null,null,null,null,null,null,null,null,null,null,null,null,null,null,null,null,null,null,null,null,0,null,null,null,null,null,null,null,{"$f":"IF(ISNA(VLOOKUP(AE32,Camions!$B:$F,2,0)),\"\",(VLOOKUP(AE32,Camions!$B:$F,2,0)))","v":""},null,null,null,null,null,null,null,null,null,null,null,null,{"$f":"IF(ISNA(VLOOKUP(AE32,Camions!$B:$F,4,0)),\"\",(VLOOKUP(AE32,Camions!$B:$F,4,0)))","v":""}]
[null,null,null,null,null,null,null,null,null,null,null,null,null,null,null,null,null,null,null,null,null,null,null,null,null,0,null,null,null,null,null,null,null,{"$f":"IF(ISNA(VLOOKUP(AE33,Camions!$B:$F,2,0)),\"\",(VLOOKUP(AE33,Camions!$B:$F,2,0)))","v":""},null,null,null,null,null,null,null,null,null,null,null,null,{"$f":"IF(ISNA(VLOOKUP(AE33,Camions!$B:$F,4,0)),\"\",(VLOOKUP(AE33,Camions!$B:$F,4,0)))","v":""}]
[null,null,null,null,null,null,null,null,null,null,null,null,null,null,null,null,null,null,null,null,null,null,null,null,null,0,null,null,null,null,null,null,null,{"$f":"IF(ISNA(VLOOKUP(AE34,Camions!$B:$F,2,0)),\"\",(VLOOKUP(AE34,Camions!$B:$F,2,0)))","v":""},null,null,null,null,null,null,null,null,null,null,null,null,{"$f":"IF(ISNA(VLOOKUP(AE34,Camions!$B:$F,4,0)),\"\",(VLOOKUP(AE34,Camions!$B:$F,4,0)))","v":""}]
[null,null,null,null,null,null,null,null,null,null,null,null,null,null,null,null,null,null,null,null,null,null,null,null,null,0,null,null,null,null,null,null,null,{"$f":"IF(ISNA(VLOOKUP(AE35,Camions!$B:$F,2,0)),\"\",(VLOOKUP(AE35,Camions!$B:$F,2,0)))","v":""},null,null,null,null,null,null,null,null,null,null,null,null,{"$f":"IF(ISNA(VLOOKUP(AE35,Camions!$B:$F,4,0)),\"\",(VLOOKUP(AE35,Camions!$B:$F,4,0)))","v":""}]
[null,null,null,null,null,null,null,null,null,null,null,null,null,null,null,null,null,null,null,null,null,null,null,null,null,0,null,null,null,null,null,null,null,{"$f":"IF(ISNA(VLOOKUP(AE36,Camions!$B:$F,2,0)),\"\",(VLOOKUP(AE36,Camions!$B:$F,2,0)))","v":""},null,null,null,null,null,null,null,null,null,null,null,null,{"$f":"IF(ISNA(VLOOKUP(AE36,Camions!$B:$F,4,0)),\"\",(VLOOKUP(AE36,Camions!$B:$F,4,0)))","v":""}]
[null,null,null,null,null,null,null,null,null,null,null,null,null,null,null,null,null,null,null,null,null,null,null,null,null,0,null,null,null,null,null,null,null,{"$f":"IF(ISNA(VLOOKUP(AE37,Camions!$B:$F,2,0)),\"\",(VLOOKUP(AE37,Camions!$B:$F,2,0)))","v":""},null,null,null,null,null,null,null,null,null,null,null,null,{"$f":"IF(ISNA(VLOOKUP(AE36,Camions!$B:$F,4,0)),\"\",(VLOOKUP(AE36,Camions!$B:$F,4,0)))","v":""}]
["CHANTIER :",null,null,null,null,{"$f":"F1","v":0},null,null,null,null,null,null,null,null,null,null,null,null,null,null,"N° CHANTIER :",null,null,null,null,null,{"$f":"AA1","v":0},null,null,null,"JOUR :",null,null,null,{"$f":"AI1","v":"Mercredi"},null,null,null,null,null,null,null,null,null,null,null,null,null,null,null,null,"DATES :",null,null,{"$f":"BC1","v":"20-01-16"}]
["MATERIEL",null,null,null,null,null,null,null,null,null,null,null,null,null,null,null,null,null,null,null,null,null,null,null,null,null,null,null,null,null,"SOUS-TRAITANTS"]
["Légende :",null,null,null,null,"Pa",".= Panne",null,null,null,null,"Ent",".= Entretien"]
["N°",null,null,"Description du matériel",null,null,null,null,null,null,null,null,null,null,null,null,"Nom de l'opérateur",null,null,null,null,null,null,null,null,"Heures",null,null,null,null,"Type d'engin et description des travaux ",null,null,null,null,null,null,null,null,null,null,null,null,null,null,null,"Sous-traitants",null,null,null,null,null,null,null,null,"Heures"]
[null,null,null,{"$f":"IF(ISNA(VLOOKUP(A42,Machines!$B:$F,2,0)),\"\",(VLOOKUP(A42,Machines!$B:$F,2,0)))","v":""},null,null,null,null,null,null,null,null,null,null,null,null,{"$f":"IF(ISNA(VLOOKUP(A42,Machines!$B:$F,4,0)),\"\",(VLOOKUP(A42,Machines!$B:$F,4,0)))","v":""}]
[null,null,null,{"$f":"IF(ISNA(VLOOKUP(A43,Machines!$B:$F,2,0)),\"\",(VLOOKUP(A43,Machines!$B:$F,2,0)))","v":""},null,null,null,null,null,null,null,null,null,null,null,null,{"$f":"IF(ISNA(VLOOKUP(A43,Machines!$B:$F,4,0)),\"\",(VLOOKUP(A43,Machines!$B:$F,4,0)))","v":""}]
[null,null,null,{"$f":"IF(ISNA(VLOOKUP(A44,Machines!$B:$F,2,0)),\"\",(VLOOKUP(A44,Machines!$B:$F,2,0)))","v":""},null,null,null,null,null,null,null,null,null,null,null,null,{"$f":"IF(ISNA(VLOOKUP(A44,Machines!$B:$F,4,0)),\"\",(VLOOKUP(A44,Machines!$B:$F,4,0)))","v":""}]
[null,null,null,{"$f":"IF(ISNA(VLOOKUP(A45,Machines!$B:$F,2,0)),\"\",(VLOOKUP(A45,Machines!$B:$F,2,0)))","v":""},null,null,null,null,null,null,null,null,null,null,null,null,{"$f":"IF(ISNA(VLOOKUP(A45,Machines!$B:$F,4,0)),\"\",(VLOOKUP(A45,Machines!$B:$F,4,0)))","v":""}]
[null,null,null,{"$f":"IF(ISNA(VLOOKUP(A46,Machines!$B:$F,2,0)),\"\",(VLOOKUP(A46,Machines!$B:$F,2,0)))","v":""},null,null,null,null,null,null,null,null,null,null,null,null,{"$f":"IF(ISNA(VLOOKUP(A46,Machines!$B:$F,4,0)),\"\",(VLOOKUP(A46,Machines!$B:$F,4,0)))","v":""}]
[null,null,null,{"$f":"IF(ISNA(VLOOKUP(A47,Machines!$B:$F,2,0)),\"\",(VLOOKUP(A47,Machines!$B:$F,2,0)))","v":""},null,null,null,null,null,null,null,null,null,null,null,null,{"$f":"IF(ISNA(VLOOKUP(A47,Machines!$B:$F,4,0)),\"\",(VLOOKUP(A47,Machines!$B:$F,4,0)))","v":""}]
[null,null,null,{"$f":"IF(ISNA(VLOOKUP(A48,Machines!$B:$F,2,0)),\"\",(VLOOKUP(A48,Machines!$B:$F,2,0)))","v":""},null,null,null,null,null,null,null,null,null,null,null,null,{"$f":"IF(ISNA(VLOOKUP(A48,Machines!$B:$F,4,0)),\"\",(VLOOKUP(A48,Machines!$B:$F,4,0)))","v":""}]
[null,null,null,{"$f":"IF(ISNA(VLOOKUP(A49,Machines!$B:$F,2,0)),\"\",(VLOOKUP(A49,Machines!$B:$F,2,0)))","v":""},null,null,null,null,null,null,null,null,null,null,null,null,{"$f":"IF(ISNA(VLOOKUP(A49,Machines!$B:$F,4,0)),\"\",(VLOOKUP(A49,Machines!$B:$F,4,0)))","v":""}]
[null,null,null,{"$f":"IF(ISNA(VLOOKUP(A50,Machines!$B:$F,2,0)),\"\",(VLOOKUP(A50,Machines!$B:$F,2,0)))","v":""},null,null,null,null,null,null,null,null,null,null,null,null,{"$f":"IF(ISNA(VLOOKUP(A50,Machines!$B:$F,4,0)),\"\",(VLOOKUP(A50,Machines!$B:$F,4,0)))","v":""}]
[null,null,null,{"$f":"IF(ISNA(VLOOKUP(A51,Machines!$B:$F,2,0)),\"\",(VLOOKUP(A51,Machines!$B:$F,2,0)))","v":""},null,null,null,null,null,null,null,null,null,null,null,null,{"$f":"IF(ISNA(VLOOKUP(A51,Machines!$B:$F,4,0)),\"\",(VLOOKUP(A51,Machines!$B:$F,4,0)))","v":""}]
[null,null,null,{"$f":"IF(ISNA(VLOOKUP(A52,Machines!$B:$F,2,0)),\"\",(VLOOKUP(A52,Machines!$B:$F,2,0)))","v":""},null,null,null,null,null,null,null,null,null,null,null,null,{"$f":"IF(ISNA(VLOOKUP(A52,Machines!$B:$F,4,0)),\"\",(VLOOKUP(A52,Machines!$B:$F,4,0)))","v":""}]
[null,null,null,{"$f":"IF(ISNA(VLOOKUP(A53,Machines!$B:$F,2,0)),\"\",(VLOOKUP(A53,Machines!$B:$F,2,0)))","v":""},null,null,null,null,null,null,null,null,null,null,null,null,{"$f":"IF(ISNA(VLOOKUP(A53,Machines!$B:$F,4,0)),\"\",(VLOOKUP(A53,Machines!$B:$F,4,0)))","v":""}]
[null,null,null,{"$f":"IF(ISNA(VLOOKUP(A54,Machines!$B:$F,2,0)),\"\",(VLOOKUP(A54,Machines!$B:$F,2,0)))","v":""},null,null,null,null,null,null,null,null,null,null,null,null,{"$f":"IF(ISNA(VLOOKUP(A54,Machines!$B:$F,4,0)),\"\",(VLOOKUP(A54,Machines!$B:$F,4,0)))","v":""}]
[null,null,null,{"$f":"IF(ISNA(VLOOKUP(A55,Machines!$B:$F,2,0)),\"\",(VLOOKUP(A55,Machines!$B:$F,2,0)))","v":""},null,null,null,null,null,null,null,null,null,null,null,null,{"$f":"IF(ISNA(VLOOKUP(A55,Machines!$B:$F,4,0)),\"\",(VLOOKUP(A55,Machines!$B:$F,4,0)))","v":""}]
[null,null,null,{"$f":"IF(ISNA(VLOOKUP(A56,Machines!$B:$F,2,0)),\"\",(VLOOKUP(A56,Machines!$B:$F,2,0)))","v":""},null,null,null,null,null,null,null,null,null,null,null,null,{"$f":"IF(ISNA(VLOOKUP(A56,Machines!$B:$F,4,0)),\"\",(VLOOKUP(A56,Machines!$B:$F,4,0)))","v":""}]
[null,null,null,{"$f":"IF(ISNA(VLOOKUP(A57,Machines!$B:$F,2,0)),\"\",(VLOOKUP(A57,Machines!$B:$F,2,0)))","v":""},null,null,null,null,null,null,null,null,null,null,null,null,{"$f":"IF(ISNA(VLOOKUP(A57,Machines!$B:$F,4,0)),\"\",(VLOOKUP(A57,Machines!$B:$F,4,0)))","v":""}]
[null,null,null,{"$f":"IF(ISNA(VLOOKUP(A58,Machines!$B:$F,2,0)),\"\",(VLOOKUP(A58,Machines!$B:$F,2,0)))","v":""},null,null,null,null,null,null,null,null,null,null,null,null,{"$f":"IF(ISNA(VLOOKUP(A58,Machines!$B:$F,4,0)),\"\",(VLOOKUP(A58,Machines!$B:$F,4,0)))","v":""}]
[null,null,null,{"$f":"IF(ISNA(VLOOKUP(A59,Machines!$B:$F,2,0)),\"\",(VLOOKUP(A59,Machines!$B:$F,2,0)))","v":""},null,null,null,null,null,null,null,null,null,null,null,null,{"$f":"IF(ISNA(VLOOKUP(A59,Machines!$B:$F,4,0)),\"\",(VLOOKUP(A59,Machines!$B:$F,4,0)))","v":""}]
[null,null,null,{"$f":"IF(ISNA(VLOOKUP(A60,Machines!$B:$F,2,0)),\"\",(VLOOKUP(A60,Machines!$B:$F,2,0)))","v":""},null,null,null,null,null,null,null,null,null,null,null,null,{"$f":"IF(ISNA(VLOOKUP(A60,Machines!$B:$F,4,0)),\"\",(VLOOKUP(A60,Machines!$B:$F,4,0)))","v":""}]
[null,null,null,{"$f":"IF(ISNA(VLOOKUP(A61,Machines!$B:$F,2,0)),\"\",(VLOOKUP(A61,Machines!$B:$F,2,0)))","v":""},null,null,null,null,null,null,null,null,null,null,null,null,{"$f":"IF(ISNA(VLOOKUP(A61,Machines!$B:$F,4,0)),\"\",(VLOOKUP(A61,Machines!$B:$F,4,0)))","v":""}]
[null,null,null,{"$f":"IF(ISNA(VLOOKUP(A62,Machines!$B:$F,2,0)),\"\",(VLOOKUP(A62,Machines!$B:$F,2,0)))","v":""},null,null,null,null,null,null,null,null,null,null,null,null,{"$f":"IF(ISNA(VLOOKUP(A62,Machines!$B:$F,4,0)),\"\",(VLOOKUP(A62,Machines!$B:$F,4,0)))","v":""}]
[null,null,null,{"$f":"IF(ISNA(VLOOKUP(A63,Machines!$B:$F,2,0)),\"\",(VLOOKUP(A63,Machines!$B:$F,2,0)))","v":""},null,null,null,null,null,null,null,null,null,null,null,null,{"$f":"IF(ISNA(VLOOKUP(A63,Machines!$B:$F,4,0)),\"\",(VLOOKUP(A63,Machines!$B:$F,4,0)))","v":""}]
[null,null,null,{"$f":"IF(ISNA(VLOOKUP(A64,Machines!$B:$F,2,0)),\"\",(VLOOKUP(A64,Machines!$B:$F,2,0)))","v":""},null,null,null,null,null,null,null,null,null,null,null,null,{"$f":"IF(ISNA(VLOOKUP(A64,Machines!$B:$F,4,0)),\"\",(VLOOKUP(A64,Machines!$B:$F,4,0)))","v":""}]
[null,null,null,{"$f":"IF(ISNA(VLOOKUP(A65,Machines!$B:$F,2,0)),\"\",(VLOOKUP(A65,Machines!$B:$F,2,0)))","v":""},null,null,null,null,null,null,null,null,null,null,null,null,{"$f":"IF(ISNA(VLOOKUP(A65,Machines!$B:$F,4,0)),\"\",(VLOOKUP(A65,Machines!$B:$F,4,0)))","v":""}]
[null,null,null,{"$f":"IF(ISNA(VLOOKUP(A66,Machines!$B:$F,2,0)),\"\",(VLOOKUP(A66,Machines!$B:$F,2,0)))","v":""},null,null,null,null,null,null,null,null,null,null,null,null,{"$f":"IF(ISNA(VLOOKUP(A66,Machines!$B:$F,4,0)),\"\",(VLOOKUP(A66,Machines!$B:$F,4,0)))","v":""}]
[null,null,null,{"$f":"IF(ISNA(VLOOKUP(A67,Machines!$B:$F,2,0)),\"\",(VLOOKUP(A67,Machines!$B:$F,2,0)))","v":""},null,null,null,null,null,null,null,null,null,null,null,null,{"$f":"IF(ISNA(VLOOKUP(A67,Machines!$B:$F,4,0)),\"\",(VLOOKUP(A67,Machines!$B:$F,4,0)))","v":""}]
[null,null,null,{"$f":"IF(ISNA(VLOOKUP(A68,Machines!$B:$F,2,0)),\"\",(VLOOKUP(A68,Machines!$B:$F,2,0)))","v":""},null,null,null,null,null,null,null,null,null,null,null,null,{"$f":"IF(ISNA(VLOOKUP(A68,Machines!$B:$F,4,0)),\"\",(VLOOKUP(A68,Machines!$B:$F,4,0)))","v":""}]
[null,null,null,{"$f":"IF(ISNA(VLOOKUP(A69,Machines!$B:$F,2,0)),\"\",(VLOOKUP(A69,Machines!$B:$F,2,0)))","v":""},null,null,null,null,null,null,null,null,null,null,null,null,{"$f":"IF(ISNA(VLOOKUP(A69,Machines!$B:$F,4,0)),\"\",(VLOOKUP(A69,Machines!$B:$F,4,0)))","v":""}]
[null,null,null,{"$f":"IF(ISNA(VLOOKUP(A70,Machines!$B:$F,2,0)),\"\",(VLOOKUP(A70,Machines!$B:$F,2,0)))","v":""},null,null,null,null,null,null,null,null,null,null,null,null,{"$f":"IF(ISNA(VLOOKUP(A70,Machines!$B:$F,4,0)),\"\",(VLOOKUP(A70,Machines!$B:$F,4,0)))","v":""}]
[null,null,null,{"$f":"IF(ISNA(VLOOKUP(A71,Machines!$B:$F,2,0)),\"\",(VLOOKUP(A71,Machines!$B:$F,2,0)))","v":""},null,null,null,null,null,null,null,null,null,null,null,null,{"$f":"IF(ISNA(VLOOKUP(A71,Machines!$B:$F,4,0)),\"\",(VLOOKUP(A71,Machines!$B:$F,4,0)))","v":""}]
[null,null,null,{"$f":"IF(ISNA(VLOOKUP(A72,Machines!$B:$F,2,0)),\"\",(VLOOKUP(A72,Machines!$B:$F,2,0)))","v":""},null,null,null,null,null,null,null,null,null,null,null,null,{"$f":"IF(ISNA(VLOOKUP(A72,Machines!$B:$F,4,0)),\"\",(VLOOKUP(A72,Machines!$B:$F,4,0)))","v":""}]
[null,null,null,{"$f":"IF(ISNA(VLOOKUP(A73,Machines!$B:$F,2,0)),\"\",(VLOOKUP(A73,Machines!$B:$F,2,0)))","v":""},null,null,null,null,null,null,null,null,null,null,null,null,{"$f":"IF(ISNA(VLOOKUP(A73,Machines!$B:$F,4,0)),\"\",(VLOOKUP(A73,Machines!$B:$F,4,0)))","v":""}]
[null,null,null,{"$f":"IF(ISNA(VLOOKUP(A74,Machines!$B:$F,2,0)),\"\",(VLOOKUP(A74,Machines!$B:$F,2,0)))","v":""},null,null,null,null,null,null,null,null,null,null,null,null,{"$f":"IF(ISNA(VLOOKUP(A74,Machines!$B:$F,4,0)),\"\",(VLOOKUP(A74,Machines!$B:$F,4,0)))","v":""}]
["CHANTIER :",null,null,null,null,{"$f":"F1","v":0},null,null,null,null,null,null,null,null,null,null,null,null,null,null,"N° CHANTIER :",null,null,null,null,null,{"$f":"AA1","v":0},null,null,null,"JOUR :",null,null,null,{"$f":"AI1","v":"Mercredi"},null,null,null,null,null,null,null,null,null,null,null,null,null,null,null,null,"DATES :",null,null,{"$f":"BC1","v":"20-01-16"}]
["MATERIAUX"]
[null,null,null,"Fournisseurs",null,null,null,null,null,null,null,null,null,null,null,null,null,null,"Description des fournitures & matériaux",null,null,null,null,null,null,null,null,null,null,null,null,null,null,null,null,null,null,null,null,null,null,null,null,null,null,null,null,null,null,"Qt totales",null,null,null,"U.",null,"Prix"]
[]
[]
[]
[]
[]
[]
[]
[]
[]
[]
[]
[]
[]
[]
[]
[]
[]
[]
[]
[]
[]
[]
[]
[]
[]
[]
[]
[]
[]
[]
[]
[null,null,null,"RESPONSABLE",null,null,null,null,null,null,null,null,"SIGNATURE",null,null,null,null,null,"DESCRIPTION DES TRAVAUX REALISES CE JOUR",null,null,null,null,null,null,null,null,null,null,null,null,null,null,null,null,null,null,null,null,null,null,null,null,null,null,null,null,null,null,"METEO"]
[null,null,null,"JENNES Loïc"]

{"sheet":"21-01-16","index":27,"n_rows":110,"n_cols":56,"rows_kept":110,"cut":false,"hidden":false,"merged":[[73,0,73,2],[73,3,73,15],[73,16,73,24],[73,25,73,28],[73,30,73,45],[73,46,73,54],[73,55,73,58],[69,0,69,2],[69,3,69,15],[69,16,69,24],[69,25,69,28],[69,30,69,45],[69,46,69,54],[69,55,69,58],[70,0,70,2],[70,3,70,15],[70,16,70,24],[70,25,70,28],[70,30,70,45],[70,46,70,54],[70,55,70,58],[71,0,71,2],[71,3,71,15],[71,16,71,24],[71,25,71,28],[71,30,71,45],[71,46,71,54],[71,55,71,58],[72,0,72,2],[72,3,72,15],[72,16,72,24],[72,25,72,28],[72,30,72,45],[72,46,72,54],[72,55,72,58],[67,0,67,2],[67,3,67,15],[67,16,67,24],[67,25,67,28],[67,30,67,45],[67,46,67,54],[67,55,67,58],[68,0,68,2],[68,3,68,15],[68,16,68,24],[68,25,68,28],[68,30,68,45],[68,46,68,54],[68,55,68,58],[65,0,65,2],[65,3,65,15],[65,16,65,24],[65,25,65,28],[65,30,65,45],[65,46,65,54],[65,55,65,58],[66,0,66,2],[66,3,66,15],[66,16,66,24],[66,25,66,28],[66,30,66,45],[66,46,66,54],[66,55,66,58],[63,0,63,2],[63,3,63,15],[63,16,63,24],[63,25,63,28],[63,30,63,45],[63,46,63,54],[63,55,63,58],[64,0,64,2],[64,3,64,15],[64,16,64,24],[64,25,64,28],[64,30,64,45],[64,46,64,54],[64,55,64,58],[61,0,61,2],[61,3,61,15],[61,16,61,24],[61,25,61,28],[61,30,61,45],[61,46,61,54],[61,55,61,58],[62,0,62,2],[62,3,62,15],[62,16,62,24],[62,25,62,28],[62,30,62,45],[62,46,62,54],[62,55,62,58],[59,0,59,2],[59,3,59,15],[59,16,59,24],[59,25,59,28],[59,30,59,45],[59,46,59,54],[59,55,59,58],[60,0,60,2],[60,3,60,15],[60,16,60,24],[60,25,60,28],[60,30,60,45],[60,46,60,54],[60,55,60,58],[57,0,57,2],[57,3,57,15],[57,16,57,24],[57,25,57,28],[57,30,57,45],[57,46,57,54],[57,55,57,58],[58,0,58,2],[58,3,58,15],[58,16,58,24],[58,25,58,28],[58,30,58,45],[58,46,58,54],[58,55,58,58],[55,0,55,2],[55,3,55,15],[55,16,55,24],[55,25,55,28],[55,30,55,45],[55,46,55,54],[55,55,55,58],[56,0,56,2],[56,3,56,15],[56,16,56,24],[56,25,56,28],[56,30,56,45],[56,46,56,54],[56,55,56,58],[53,0,53,2],[53,3,53,15],[53,16,53,24],[53,25,53,28],[53,30,53,45],[53,46,53,54],[53,55,53,58],[54,0,54,2],[54,3,54,15],[54,16,54,24],[54,25,54,28],[54,30,54,45],[54,46,54,54],[54,55,54,58],[51,0,51,2],[51,3,51,15],[51,16,51,24],[51,25,51,28],[51,30,51,45],[51,46,51,54],[51,55,51,58],[52,0,52,2],[52,3,52,15],[52,16,52,24],[52,25,52,28],[52,30,52,45],[52,46,52,54],[52,55,52,58],[49,0,49,2],[49,3,49,15],[49,16,49,24],[49,25,49,28],[49,30,49,45],[49,46,49,54],[49,55,49,58],[50,0,50,2],[50,3,50,15],[50,16,50,24],[50,25,50,28],[50,30,50,45],[50,46,50,54],[50,55,50,58],[47,0,47,2],[47,3,47,15],[47,16,47,24],[47,25,47,28],[47,30,47,45],[47,46,47,54],[47,55,47,58],[48,0,48,2],[48,3,48,15],[48,16,48,24],[48,25,48,28],[48,30,48,45],[48,46,48,54],[48,55,48,58],[45,0,45,2],[45,3,45,15],[45,16,45,24],[45,25,45,28],[45,30,45,45],[45,46,45,54],[45,55,45,58],[46,0,46,2],[46,3,46,15],[46,16,46,24],[46,25,46,28],[46,30,46,45],[46,46,46,54],[46,55,46,58],[43,0,43,2],[43,3,43,15],[43,16,43,24],[43,25,43,28],[43,30,43,45],[43,46,43,54],[43,55,43,58],[44,0,44,2],[44,3,44,15],[44,16,44,24],[44,25,44,28],[44,30,44,45],[44,46,44,54],[44,55,44,58],[41,25,41,28],[41,30,41,45],[41,46,41,54],[41,55,41,58],[42,0,42,2],[42,3,42,15],[42,16,42,24],[42,25,42,28],[42,30,42,45],[42,46,42,54],[42,55,42,58],[37,0,37,4],[37,5,37,19],[37,20,37,25],[37,26,37,28],[37,30,37,32],[37,34,37,47],[37,51,37,53],[37,54,37,58],[38,0,38,28],[38,29,73,29],[38,30,38,58],[39,0,39,4],[39,6,39,9],[39,12,39,15],[40,0,40,2],[40,3,40,15],[40,16,40,24],[40,25,40,28],[40,30,40,45],[40,46,40,54],[40,55,40,58],[41,0,41,2],[41,3,41,15],[41,16,41,24],[36,0,36,15],[36,16,36,18],[36,19,36,21],[36,22,36,24],[36,25,36,28],[36,30,36,32],[36,33,36,45],[36,46,36,54],[36,55,36,58],[35,0,35,15],[35,16,35,18],[35,19,35,21],[35,22,35,24],[35,25,35,28],[35,30,35,32],[35,33,35,45],[35,46,35,54],[35,55,35,58],[34,0,34,15],[34,16,34,18],[34,19,34,21],[34,22,34,24],[34,25,34,28],[34,30,34,32],[34,33,34,45],[34,46,34,54],[34,55,34,58],[33,0,33,15],[33,16,33,18],[33,19,33,21],[33,22,33,24],[33,25,33,28],[33,30,33,32],[33,33,33,45],[33,46,33,54],[33,55,33,58],[32,0,32,15],[32,16,32,18],[32,19,32,21],[32,22,32,24],[32,25,32,28],[32,30,32,32],[32,33,32,45],[32,46,32,54],[32,55,32,58],[31,0,31,15],[31,16,31,18],[31,19,31,21],[31,22,31,24],[31,25,31,28],[31,30,31,32],[31,33,31,45],[31,46,31,54],[31,55,31,58],[30,0,30,15],[30,16,30,18],[30,19,30,21],[30,22,30,24],[30,25,30,28],[30,30,30,32],[30,33,30,45],[30,46,30,54],[30,55,30,58],[29,0,29,15],[29,16,29,18],[29,19,29,21],[29,22,29,24],[29,25,29,28],[29,30,29,32],[29,33,29,45],[29,46,29,54],[29,55,29,58],[28,0,28,15],[28,16,28,18],[28,19,28,21],[28,22,28,24],[28,25,28,28],[28,30,28,32],[28,33,28,45],[28,46,28,54],[28,55,28,58],[27,0,27,15],[27,16,27,18],[27,19,27,21],[27,22,27,24],[27,25,27,28],[27,30,27,32],[27,33,27,45],[27,46,27,54],[27,55,27,58],[26,0,26,15],[26,16,26,18],[26,19,26,21],[26,22,26,24],[26,25,26,28],[26,30,26,32],[26,33,26,45],[26,46,26,54],[26,55,26,58],[25,0,25,15],[25,16,25,18],[25,19,25,21],[25,22,25,24],[25,25,25,28],[25,30,25,32],[25,33,25,45],[25,46,25,54],[25,55,25,58],[24,0,24,15],[24,16,24,18],[24,19,24,21],[24,22,24,24],[24,25,24,28],[24,30,24,32],[24,33,24,45],[24,46,24,54],[24,55,24,58],[23,0,23,15],[23,16,23,18],[23,19,23,21],[23,22,23,24],[23,25,23,28],[23,30,23,32],[23,33,23,45],[23,46,23,54],[23,55,23,58],[22,0,22,15],[22,16,22,18],[22,19,22,21],[22,22,22,24],[22,25,22,28],[22,30,22,32],[22,33,22,45],[22,46,22,54],[22,55,22,58],[21,0,21,15],[21,16,21,18],[21,19,21,21],[21,22,21,24],[21,25,21,28],[21,30,21,32],[21,33,21,45],[21,46,21,54],[21,55,21,58],[20,0,20,15],[20,16,20,18],[20,19,20,21],[20,22,20,24],[20,25,20,28],[20,30,20,32],[20,33,20,45],[20,46,20,54],[20,55,20,58],[19,0,19,15],[19,16,19,18],[19,19,19,21],[19,22,19,24],[19,25,19,28],[19,30,19,32],[19,33,19,45],[19,46,19,54],[19,55,19,58],[18,0,18,15],[18,16,18,18],[18,19,18,21],[18,22,18,24],[18,25,18,28],[18,30,18,32],[18,33,18,45],[18,46,18,54],[18,55,18,58],[17,0,17,15],[17,16,17,18],[17,19,17,21],[17,22,17,24],[17,25,17,28],[17,30,17,32],[17,33,17,45],[17,46,17,54],[17,55,17,58],[16,0,16,15],[16,16,16,18],[16,19,16,21],[16,22,16,24],[16,25,16,28],[16,30,16,32],[16,33,16,45],[16,46,16,54],[16,55,16,58],[15,0,15,15],[15,16,15,18],[15,19,15,21],[15,22,15,24],[15,25,15,28],[15,30,15,32],[15,33,15,45],[15,46,15,54],[15,55,15,58],[14,0,14,15],[14,16,14,18],[14,19,14,21],[14,22,14,24],[14,25,14,28],[14,30,14,32],[14,33,14,45],[14,46,14,54],[14,55,14,58],[13,0,13,15],[13,16,13,18],[13,19,13,21],[13,22,13,24],[13,25,13,28],[13,30,13,32],[13,33,13,45],[13,46,13,54],[13,55,13,58],[12,0,12,15],[12,16,12,18],[12,19,12,21],[12,22,12,24],[12,25,12,28],[12,30,12,32],[12,33,12,45],[12,46,12,54],[12,55,12,58],[11,0,11,15],[11,16,11,18],[11,19,11,21],[11,22,11,24],[11,25,11,28],[11,30,11,32],[11,33,11,45],[11,46,11,54],[11,55,11,58],[10,0,10,15],[10,16,10,18],[10,19,10,21],[10,22,10,24],[10,25,10,28],[10,30,10,32],[10,33,10,45],[10,46,10,54],[10,55,10,58],[9,0,9,15],[9,16,9,18],[9,19,9,21],[9,22,9,24],[9,25,9,28],[9,30,9,32],[9,33,9,45],[9,46,9,54],[9,55,9,58],[8,0,8,15],[8,16,8,18],[8,19,8,21],[8,22,8,24],[8,25,8,28],[8,30,8,32],[8,33,8,45],[8,46,8,54],[8,55,8,58],[7,0,7,15],[7,16,7,18],[7,19,7,21],[7,22,7,24],[7,25,7,28],[7,30,7,32],[7,33,7,45],[7,46,7,54],[7,55,7,58],[6,0,6,15],[6,16,6,18],[6,19,6,21],[6,22,6,24],[6,25,6,28],[6,30,6,32],[6,33,6,45],[6,46,6,54],[6,55,6,58],[5,0,5,15],[5,16,5,18],[5,19,5,21],[5,22,5,24],[5,25,5,28],[5,30,5,32],[5,33,5,45],[5,46,5,54],[5,55,5,58],[3,30,3,32],[3,33,3,45],[3,46,3,54],[3,55,3,58],[4,0,4,15],[4,16,4,18],[4,19,4,21],[4,22,4,24],[4,25,4,28],[4,30,4,32],[4,33,4,45],[4,46,4,54],[4,55,4,58],[0,0,0,4],[0,5,0,19],[0,20,0,25],[0,26,0,28],[0,30,0,32],[0,34,0,47],[0,51,0,53],[0,54,0,58],[1,0,1,28],[1,29,36,29],[1,30,1,58],[2,0,2,4],[2,7,2,10],[2,13,2,16],[2,19,2,22],[2,25,2,28],[2,30,2,34],[2,36,2,39],[2,42,2,45],[3,0,3,15],[3,16,3,18],[3,19,3,21],[3,22,3,24],[3,25,3,28],[107,53,107,54],[107,55,107,58],[109,18,109,48],[111,18,111,48],[108,18,108,48],[108,3,108,11],[108,12,108,17],[109,3,111,11],[109,12,111,17],[108,49,108,58],[109,49,111,58],[107,3,107,17],[107,18,107,48],[110,18,110,48],[105,3,105,17],[105,18,105,48],[106,3,106,17],[106,18,106,48],[107,49,107,52],[104,3,104,17],[104,18,104,48],[99,3,99,17],[99,18,99,48],[100,3,100,17],[100,18,100,48],[102,3,102,17],[102,18,102,48],[101,3,101,17],[101,18,101,48],[103,49,103,52],[95,53,95,54],[95,55,95,58],[96,49,96,52],[96,53,96,54],[96,55,96,58],[97,49,97,52],[97,53,97,54],[103,3,103,17],[103,18,103,48],[97,3,97,17],[97,18,97,48],[98,3,98,17],[98,18,98,48],[95,3,95,17],[95,18,95,48],[96,3,96,17],[96,18,96,48],[95,49,95,52],[97,55,97,58],[98,49,98,52],[98,53,98,54],[98,55,98,58],[99,49,99,52],[99,53,99,54],[94,3,94,17],[94,18,94,48],[91,3,91,17],[91,18,91,48],[92,3,92,17],[92,18,92,48],[93,49,93,52],[93,53,93,54],[93,55,93,58],[94,49,94,52],[94,53,94,54],[94,55,94,58],[91,55,91,58],[92,49,92,52],[92,53,92,54],[92,55,92,58],[87,53,87,54],[87,55,87,58],[88,49,88,52],[88,53,88,54],[88,55,88,58],[89,49,89,52],[89,53,89,54],[93,3,93,17],[93,18,93,48],[89,3,89,17],[89,18,89,48],[90,3,90,17],[90,18,90,48],[87,3,87,17],[87,18,87,48],[88,3,88,17],[88,18,88,48],[87,49,87,52],[89,55,89,58],[90,49,90,52],[90,53,90,54],[90,55,90,58],[91,49,91,52],[91,53,91,54],[86,3,86,17],[86,18,86,48],[83,3,83,17],[83,18,83,48],[84,3,84,17],[84,18,84,48],[85,49,85,52],[85,53,85,54],[85,55,85,58],[86,49,86,52],[86,53,86,54],[86,55,86,58],[83,55,83,58],[84,49,84,52],[84,53,84,54],[84,55,84,58],[79,53,79,54],[79,55,79,58],[80,49,80,52],[80,53,80,54],[80,55,80,58],[81,49,81,52],[81,53,81,54],[85,3,85,17],[85,18,85,48],[81,3,81,17],[81,18,81,48],[82,3,82,17],[82,18,82,48],[79,3,79,17],[79,18,79,48],[80,3,80,17],[80,18,80,48],[79,49,79,52],[81,55,81,58],[82,49,82,52],[82,53,82,54],[82,55,82,58],[83,49,83,52],[83,53,83,54],[74,54,74,58],[75,0,75,58],[76,49,76,52],[76,53,76,54],[76,55,76,58],[77,3,77,17],[77,18,77,48],[78,3,78,17],[78,18,78,48],[77,49,77,52],[77,53,77,54],[77,55,77,58],[78,49,78,52],[78,53,78,54],[78,55,78,58],[76,3,76,17],[76,18,76,48],[74,0,74,4],[74,5,74,19],[74,20,74,25],[74,26,74,28],[74,30,74,32],[74,34,74,47],[74,51,74,53],[99,55,99,58],[100,49,100,52],[100,53,100,54],[100,55,100,58],[101,49,101,52],[101,53,101,54],[101,55,101,58],[102,49,102,52],[102,53,102,54],[102,55,102,58],[103,53,103,54],[103,55,103,58],[104,49,104,52],[104,53,104,54],[104,55,104,58],[105,49,105,52],[105,53,105,54],[105,55,105,58],[106,49,106,52],[106,53,106,54],[106,55,106,58]]}
["CHANTIER :",null,null,null,null,{"$f":"'01-01-16'!F1","v":0},null,null,null,null,null,null,null,null,null,null,null,null,null,null,"N° CHANTIER :",null,null,null,null,null,{"$f":"'01-01-16'!AA1","v":0},null,null,null,"JOUR :",null,null,null,{"$f":" CHOOSE(WEEKDAY(BC1,2),\"Lundi\",\"Mardi\",\"Mercredi\",\"Jeudi\",\"Vendredi\",\"Samedi\",\"Dimanche\")","v":"Jeudi"},null,null,null,null,null,null,null,null,null,null,null,null,null,null,null,null,"DATES :",null,null,{"$f":"MID(CELL(\"nomfichier\",A1),FIND(\"]\",CELL(\"nomfichier\",A1),1)+1,30)","v":"21-01-16"}]
["MAIN D'ŒUVRE",null,null,null,null,null,null,null,null,null,null,null,null,null,null,null,null,null,null,null,null,null,null,null,null,null,null,null,null,null,"CAMIONS"]
["Légende :",null,null,null,null,null,"Co",".= Congé",null,null,null,null,"M",".= Malade",null,null,null,null,"Cho",".= Chômage",null,null,null,null,"Va",".= Vacance",null,null,null,null,"Légende :",null,null,null,null,"Pa",".= Panne",null,null,null,null,"Ent",".= Entretien"]
["NOM - Prénom du travailleur",null,null,null,null,null,null,null,null,null,null,null,null,null,null,null,"Début journée",null,null,"Arrêt repas",null,null,"Fin journée",null,null,"Heures prestées",null,null,null,null,"N°",null,null,"Description du matériel",null,null,null,null,null,null,null,null,null,null,null,null,"Nom de l'opérateur",null,null,null,null,null,null,null,null,"Heures"]
[null,null,null,null,null,null,null,null,null,null,null,null,null,null,null,null,null,null,null,null,null,null,null,null,null,{"$f":"W5-Q5-T5","v":0},null,null,null,null,null,null,null,{"$f":"IF(ISNA(VLOOKUP(AE5,Camions!$B:$F,2,0)),\"\",(VLOOKUP(AE5,Camions!$B:$F,2,0)))","v":""},null,null,null,null,null,null,null,null,null,null,null,null,{"$f":"IF(ISNA(VLOOKUP(AE5,Camions!$B:$F,4,0)),\"\",(VLOOKUP(AE5,Camions!$B:$F,4,0)))","v":""}]
[null,null,null,null,null,null,null,null,null,null,null,null,null,null,null,null,null,null,null,null,null,null,null,null,null,{"$f":"W6-Q6-T6","v":0},null,null,null,null,null,null,null,{"$f":"IF(ISNA(VLOOKUP(AE6,Camions!$B:$F,2,0)),\"\",(VLOOKUP(AE6,Camions!$B:$F,2,0)))","v":""},null,null,null,null,null,null,null,null,null,null,null,null,{"$f":"IF(ISNA(VLOOKUP(AE6,Camions!$B:$F,4,0)),\"\",(VLOOKUP(AE6,Camions!$B:$F,4,0)))","v":""}]
[null,null,null,null,null,null,null,null,null,null,null,null,null,null,null,null,null,null,null,null,null,null,null,null,null,0,null,null,null,null,null,null,null,{"$f":"IF(ISNA(VLOOKUP(AE7,Camions!$B:$F,2,0)),\"\",(VLOOKUP(AE7,Camions!$B:$F,2,0)))","v":""},null,null,null,null,null,null,null,null,null,null,null,null,{"$f":"IF(ISNA(VLOOKUP(AE7,Camions!$B:$F,4,0)),\"\",(VLOOKUP(AE7,Camions!$B:$F,4,0)))","v":""}]
[null,null,null,null,null,null,null,null,null,null,null,null,null,null,null,null,null,null,null,null,null,null,null,null,null,0,null,null,null,null,null,null,null,{"$f":"IF(ISNA(VLOOKUP(AE8,Camions!$B:$F,2,0)),\"\",(VLOOKUP(AE8,Camions!$B:$F,2,0)))","v":""},null,null,null,null,null,null,null,null,null,null,null,null,{"$f":"IF(ISNA(VLOOKUP(AE8,Camions!$B:$F,4,0)),\"\",(VLOOKUP(AE8,Camions!$B:$F,4,0)))","v":""}]
[null,null,null,null,null,null,null,null,null,null,null,null,null,null,null,null,null,null,null,null,null,null,null,null,null,0,null,null,null,null,null,null,null,{"$f":"IF(ISNA(VLOOKUP(AE9,Camions!$B:$F,2,0)),\"\",(VLOOKUP(AE9,Camions!$B:$F,2,0)))","v":""},null,null,null,null,null,null,null,null,null,null,null,null,{"$f":"IF(ISNA(VLOOKUP(AE9,Camions!$B:$F,4,0)),\"\",(VLOOKUP(AE9,Camions!$B:$F,4,0)))","v":""}]
[null,null,null,null,null,null,null,null,null,null,null,null,null,null,null,null,null,null,null,null,null,null,null,null,null,0,null,null,null,null,null,null,null,{"$f":"IF(ISNA(VLOOKUP(AE10,Camions!$B:$F,2,0)),\"\",(VLOOKUP(AE10,Camions!$B:$F,2,0)))","v":""},null,null,null,null,null,null,null,null,null,null,null,null,{"$f":"IF(ISNA(VLOOKUP(AE10,Camions!$B:$F,4,0)),\"\",(VLOOKUP(AE10,Camions!$B:$F,4,0)))","v":""}]
[null,null,null,null,null,null,null,null,null,null,null,null,null,null,null,null,null,null,null,null,null,null,null,null,null,0,null,null,null,null,null,null,null,{"$f":"IF(ISNA(VLOOKUP(AE11,Camions!$B:$F,2,0)),\"\",(VLOOKUP(AE11,Camions!$B:$F,2,0)))","v":""},null,null,null,null,null,null,null,null,null,null,null,null,{"$f":"IF(ISNA(VLOOKUP(AE11,Camions!$B:$F,4,0)),\"\",(VLOOKUP(AE11,Camions!$B:$F,4,0)))","v":""}]
[null,null,null,null,null,null,null,null,null,null,null,null,null,null,null,null,null,null,null,null,null,null,null,null,null,0,null,null,null,null,null,null,null,{"$f":"IF(ISNA(VLOOKUP(AE12,Camions!$B:$F,2,0)),\"\",(VLOOKUP(AE12,Camions!$B:$F,2,0)))","v":""},null,null,null,null,null,null,null,null,null,null,null,null,{"$f":"IF(ISNA(VLOOKUP(AE12,Camions!$B:$F,4,0)),\"\",(VLOOKUP(AE12,Camions!$B:$F,4,0)))","v":""}]
[null,null,null,null,null,null,null,null,null,null,null,null,null,null,null,null,null,null,null,null,null,null,null,null,null,0,null,null,null,null,null,null,null,{"$f":"IF(ISNA(VLOOKUP(AE13,Camions!$B:$F,2,0)),\"\",(VLOOKUP(AE13,Camions!$B:$F,2,0)))","v":""},null,null,null,null,null,null,null,null,null,null,null,null,{"$f":"IF(ISNA(VLOOKUP(AE13,Camions!$B:$F,4,0)),\"\",(VLOOKUP(AE13,Camions!$B:$F,4,0)))","v":""}]
[null,null,null,null,null,null,null,null,null,null,null,null,null,null,null,null,null,null,null,null,null,null,null,null,null,0,null,null,null,null,null,null,null,{"$f":"IF(ISNA(VLOOKUP(AE14,Camions!$B:$F,2,0)),\"\",(VLOOKUP(AE14,Camions!$B:$F,2,0)))","v":""},null,null,null,null,null,null,null,null,null,null,null,null,{"$f":"IF(ISNA(VLOOKUP(AE14,Camions!$B:$F,4,0)),\"\",(VLOOKUP(AE14,Camions!$B:$F,4,0)))","v":""}]
[null,null,null,null,null,null,null,null,null,null,null,null,null,null,null,null,null,null,null,null,null,null,null,null,null,0,null,null,null,null,null,null,null,{"$f":"IF(ISNA(VLOOKUP(AE15,Camions!$B:$F,2,0)),\"\",(VLOOKUP(AE15,Camions!$B:$F,2,0)))","v":""},null,null,null,null,null,null,null,null,null,null,null,null,{"$f":"IF(ISNA(VLOOKUP(AE15,Camions!$B:$F,4,0)),\"\",(VLOOKUP(AE15,Camions!$B:$F,4,0)))","v":""}]
[null,null,null,null,null,null,null,null,null,null,null,null,null,null,null,null,null,null,null,null,null,null,null,null,null,0,null,null,null,null,null,null,null,{"$f":"IF(ISNA(VLOOKUP(AE16,Camions!$B:$F,2,0)),\"\",(VLOOKUP(AE16,Camions!$B:$F,2,0)))","v":""},null,null,null,null,null,null,null,null,null,null,null,null,{"$f":"IF(ISNA(VLOOKUP(AE16,Camions!$B:$F,4,0)),\"\",(VLOOKUP(AE16,Camions!$B:$F,4,0)))","v":""}]
[null,null,null,null,null,null,null,null,null,null,null,null,null,null,null,null,null,null,null,null,null,null,null,null,null,0,null,null,null,null,null,null,null,{"$f":"IF(ISNA(VLOOKUP(AE17,Camions!$B:$F,2,0)),\"\",(VLOOKUP(AE17,Camions!$B:$F,2,0)))","v":""},null,null,null,null,null,null,null,null,null,null,null,null,{"$f":"IF(ISNA(VLOOKUP(AE17,Camions!$B:$F,4,0)),\"\",(VLOOKUP(AE17,Camions!$B:$F,4,0)))","v":""}]
[null,null,null,null,null,null,null,null,null,null,null,null,null,null,null,null,null,null,null,null,null,null,null,null,null,0,null,null,null,null,null,null,null,{"$f":"IF(ISNA(VLOOKUP(AE18,Camions!$B:$F,2,0)),\"\",(VLOOKUP(AE18,Camions!$B:$F,2,0)))","v":""},null,null,null,null,null,null,null,null,null,null,null,null,{"$f":"IF(ISNA(VLOOKUP(AE18,Camions!$B:$F,4,0)),\"\",(VLOOKUP(AE18,Camions!$B:$F,4,0)))","v":""}]
[null,null,null,null,null,null,null,null,null,null,null,null,null,null,null,null,null,null,null,null,null,null,null,null,null,0,null,null,null,null,null,null,null,{"$f":"IF(ISNA(VLOOKUP(AE19,Camions!$B:$F,2,0)),\"\",(VLOOKUP(AE19,Camions!$B:$F,2,0)))","v":""},null,null,null,null,null,null,null,null,null,null,null,null,{"$f":"IF(ISNA(VLOOKUP(AE19,Camions!$B:$F,4,0)),\"\",(VLOOKUP(AE19,Camions!$B:$F,4,0)))","v":""}]
[null,null,null,null,null,null,null,null,null,null,null,null,null,null,null,null,null,null,null,null,null,null,null,null,null,0,null,null,null,null,null,null,null,{"$f":"IF(ISNA(VLOOKUP(AE20,Camions!$B:$F,2,0)),\"\",(VLOOKUP(AE20,Camions!$B:$F,2,0)))","v":""},null,null,null,null,null,null,null,null,null,null,null,null,{"$f":"IF(ISNA(VLOOKUP(AE20,Camions!$B:$F,4,0)),\"\",(VLOOKUP(AE20,Camions!$B:$F,4,0)))","v":""}]
[null,null,null,null,null,null,null,null,null,null,null,null,null,null,null,null,null,null,null,null,null,null,null,null,null,0,null,null,null,null,null,null,null,{"$f":"IF(ISNA(VLOOKUP(AE21,Camions!$B:$F,2,0)),\"\",(VLOOKUP(AE21,Camions!$B:$F,2,0)))","v":""},null,null,null,null,null,null,null,null,null,null,null,null,{"$f":"IF(ISNA(VLOOKUP(AE21,Camions!$B:$F,4,0)),\"\",(VLOOKUP(AE21,Camions!$B:$F,4,0)))","v":""}]
[null,null,null,null,null,null,null,null,null,null,null,null,null,null,null,null,null,null,null,null,null,null,null,null,null,0,null,null,null,null,null,null,null,{"$f":"IF(ISNA(VLOOKUP(AE22,Camions!$B:$F,2,0)),\"\",(VLOOKUP(AE22,Camions!$B:$F,2,0)))","v":""},null,null,null,null,null,null,null,null,null,null,null,null,{"$f":"IF(ISNA(VLOOKUP(AE22,Camions!$B:$F,4,0)),\"\",(VLOOKUP(AE22,Camions!$B:$F,4,0)))","v":""}]
[null,null,null,null,null,null,null,null,null,null,null,null,null,null,null,null,null,null,null,null,null,null,null,null,null,0,null,null,null,null,null,null,null,{"$f":"IF(ISNA(VLOOKUP(AE23,Camions!$B:$F,2,0)),\"\",(VLOOKUP(AE23,Camions!$B:$F,2,0)))","v":""},null,null,null,null,null,null,null,null,null,null,null,null,{"$f":"IF(ISNA(VLOOKUP(AE23,Camions!$B:$F,4,0)),\"\",(VLOOKUP(AE23,Camions!$B:$F,4,0)))","v":""}]
[null,null,null,null,null,null,null,null,null,null,null,null,null,null,null,null,null,null,null,null,null,null,null,null,null,0,null,null,null,null,null,null,null,{"$f":"IF(ISNA(VLOOKUP(AE24,Camions!$B:$F,2,0)),\"\",(VLOOKUP(AE24,Camions!$B:$F,2,0)))","v":""},null,null,null,null,null,null,null,null,null,null,null,null,{"$f":"IF(ISNA(VLOOKUP(AE24,Camions!$B:$F,4,0)),\"\",(VLOOKUP(AE24,Camions!$B:$F,4,0)))","v":""}]
[null,null,null,null,null,null,null,null,null,null,null,null,null,null,null,null,null,null,null,null,null,null,null,null,null,0,null,null,null,null,null,null,null,{"$f":"IF(ISNA(VLOOKUP(AE25,Camions!$B:$F,2,0)),\"\",(VLOOKUP(AE25,Camions!$B:$F,2,0)))","v":""},null,null,null,null,null,null,null,null,null,null,null,null,{"$f":"IF(ISNA(VLOOKUP(AE25,Camions!$B:$F,4,0)),\"\",(VLOOKUP(AE25,Camions!$B:$F,4,0)))","v":""}]
[null,null,null,null,null,null,null,null,null,null,null,null,null,null,null,null,null,null,null,null,null,null,null,null,null,0,null,null,null,null,null,null,null,{"$f":"IF(ISNA(VLOOKUP(AE26,Camions!$B:$F,2,0)),\"\",(VLOOKUP(AE26,Camions!$B:$F,2,0)))","v":""},null,null,null,null,null,null,null,null,null,null,null,null,{"$f":"IF(ISNA(VLOOKUP(AE26,Camions!$B:$F,4,0)),\"\",(VLOOKUP(AE26,Camions!$B:$F,4,0)))","v":""}]
[null,null,null,null,null,null,null,null,null,null,null,null,null,null,null,null,null,null,null,null,null,null,null,null,null,0,null,null,null,null,null,null,null,{"$f":"IF(ISNA(VLOOKUP(AE27,Camions!$B:$F,2,0)),\"\",(VLOOKUP(AE27,Camions!$B:$F,2,0)))","v":""},null,null,null,null,null,null,null,null,null,null,null,null,{"$f":"IF(ISNA(VLOOKUP(AE27,Camions!$B:$F,4,0)),\"\",(VLOOKUP(AE27,Camions!$B:$F,4,0)))","v":""}]
[null,null,null,null,null,null,null,null,null,null,null,null,null,null,null,null,null,null,null,null,null,null,null,null,null,0,null,null,null,null,null,null,null,{"$f":"IF(ISNA(VLOOKUP(AE28,Camions!$B:$F,2,0)),\"\",(VLOOKUP(AE28,Camions!$B:$F,2,0)))","v":""},null,null,null,null,null,null,null,null,null,null,null,null,{"$f":"IF(ISNA(VLOOKUP(AE28,Camions!$B:$F,4,0)),\"\",(VLOOKUP(AE28,Camions!$B:$F,4,0)))","v":""}]
[null,null,null,null,null,null,null,null,null,null,null,null,null,null,null,null,null,null,null,null,null,null,null,null,null,0,null,null,null,null,null,null,null,{"$f":"IF(ISNA(VLOOKUP(AE29,Camions!$B:$F,2,0)),\"\",(VLOOKUP(AE29,Camions!$B:$F,2,0)))","v":""},null,null,null,null,null,null,null,null,null,null,null,null,{"$f":"IF(ISNA(VLOOKUP(AE29,Camions!$B:$F,4,0)),\"\",(VLOOKUP(AE29,Camions!$B:$F,4,0)))","v":""}]
[null,null,null,null,null,null,null,null,null,null,null,null,null,null,null,null,null,null,null,null,null,null,null,null,null,0,null,null,null,null,null,null,null,{"$f":"IF(ISNA(VLOOKUP(AE30,Camions!$B:$F,2,0)),\"\",(VLOOKUP(AE30,Camions!$B:$F,2,0)))","v":""},null,null,null,null,null,null,null,null,null,null,null,null,{"$f":"IF(ISNA(VLOOKUP(AE30,Camions!$B:$F,4,0)),\"\",(VLOOKUP(AE30,Camions!$B:$F,4,0)))","v":""}]
[null,null,null,null,null,null,null,null,null,null,null,null,null,null,null,null,null,null,null,null,null,null,null,null,null,0,null,null,null,null,null,null,null,{"$f":"IF(ISNA(VLOOKUP(AE31,Camions!$B:$F,2,0)),\"\",(VLOOKUP(AE31,Camions!$B:$F,2,0)))","v":""},null,null,null,null,null,null,null,null,null,null,null,null,{"$f":"IF(ISNA(VLOOKUP(AE31,Camions!$B:$F,4,0)),\"\",(VLOOKUP(AE31,Camions!$B:$F,4,0)))","v":""}]
[null,null,null,null,null,null,null,null,null,null,null,null,null,null,null,null,null,null,null,null,null,null,null,null,null,0,null,null,null,null,null,null,null,{"$f":"IF(ISNA(VLOOKUP(AE32,Camions!$B:$F,2,0)),\"\",(VLOOKUP(AE32,Camions!$B:$F,2,0)))","v":""},null,null,null,null,null,null,null,null,null,null,null,null,{"$f":"IF(ISNA(VLOOKUP(AE32,Camions!$B:$F,4,0)),\"\",(VLOOKUP(AE32,Camions!$B:$F,4,0)))","v":""}]
[null,null,null,null,null,null,null,null,null,null,null,null,null,null,null,null,null,null,null,null,null,null,null,null,null,0,null,null,null,null,null,null,null,{"$f":"IF(ISNA(VLOOKUP(AE33,Camions!$B:$F,2,0)),\"\",(VLOOKUP(AE33,Camions!$B:$F,2,0)))","v":""},null,null,null,null,null,null,null,null,null,null,null,null,{"$f":"IF(ISNA(VLOOKUP(AE33,Camions!$B:$F,4,0)),\"\",(VLOOKUP(AE33,Camions!$B:$F,4,0)))","v":""}]
[null,null,null,null,null,null,null,null,null,null,null,null,null,null,null,null,null,null,null,null,null,null,null,null,null,0,null,null,null,null,null,null,null,{"$f":"IF(ISNA(VLOOKUP(AE34,Camions!$B:$F,2,0)),\"\",(VLOOKUP(AE34,Camions!$B:$F,2,0)))","v":""},null,null,null,null,null,null,null,null,null,null,null,null,{"$f":"IF(ISNA(VLOOKUP(AE34,Camions!$B:$F,4,0)),\"\",(VLOOKUP(AE34,Camions!$B:$F,4,0)))","v":""}]
[null,null,null,null,null,null,null,null,null,null,null,null,null,null,null,null,null,null,null,null,null,null,null,null,null,0,null,null,null,null,null,null,null,{"$f":"IF(ISNA(VLOOKUP(AE35,Camions!$B:$F,2,0)),\"\",(VLOOKUP(AE35,Camions!$B:$F,2,0)))","v":""},null,null,null,null,null,null,null,null,null,null,null,null,{"$f":"IF(ISNA(VLOOKUP(AE35,Camions!$B:$F,4,0)),\"\",(VLOOKUP(AE35,Camions!$B:$F,4,0)))","v":""}]
[null,null,null,null,null,null,null,null,null,null,null,null,null,null,null,null,null,null,null,null,null,null,null,null,null,0,null,null,null,null,null,null,null,{"$f":"IF(ISNA(VLOOKUP(AE36,Camions!$B:$F,2,0)),\"\",(VLOOKUP(AE36,Camions!$B:$F,2,0)))","v":""},null,null,null,null,null,null,null,null,null,null,null,null,{"$f":"IF(ISNA(VLOOKUP(AE36,Camions!$B:$F,4,0)),\"\",(VLOOKUP(AE36,Camions!$B:$F,4,0)))","v":""}]
[null,null,null,null,null,null,null,null,null,null,null,null,null,null,null,null,null,null,null,null,null,null,null,null,null,0,null,null,null,null,null,null,null,{"$f":"IF(ISNA(VLOOKUP(AE37,Camions!$B:$F,2,0)),\"\",(VLOOKUP(AE37,Camions!$B:$F,2,0)))","v":""},null,null,null,null,null,null,null,null,null,null,null,null,{"$f":"IF(ISNA(VLOOKUP(AE36,Camions!$B:$F,4,0)),\"\",(VLOOKUP(AE36,Camions!$B:$F,4,0)))","v":""}]
["CHANTIER :",null,null,null,null,{"$f":"F1","v":0},null,null,null,null,null,null,null,null,null,null,null,null,null,null,"N° CHANTIER :",null,null,null,null,null,{"$f":"AA1","v":0},null,null,null,"JOUR :",null,null,null,{"$f":"AI1","v":"Jeudi"},null,null,null,null,null,null,null,null,null,null,null,null,null,null,null,null,"DATES :",null,null,{"$f":"BC1","v":"21-01-16"}]
["MATERIEL",null,null,null,null,null,null,null,null,null,null,null,null,null,null,null,null,null,null,null,null,null,null,null,null,null,null,null,null,null,"SOUS-TRAITANTS"]
["Légende :",null,null,null,null,"Pa",".= Panne",null,null,null,null,"Ent",".= Entretien"]
["N°",null,null,"Description du matériel",null,null,null,null,null,null,null,null,null,null,null,null,"Nom de l'opérateur",null,null,null,null,null,null,null,null,"Heures",null,null,null,null,"Type d'engin et description des travaux ",null,null,null,null,null,null,null,null,null,null,null,null,null,null,null,"Sous-traitants",null,null,null,null,null,null,null,null,"Heures"]
[null,null,null,{"$f":"IF(ISNA(VLOOKUP(A42,Machines!$B:$F,2,0)),\"\",(VLOOKUP(A42,Machines!$B:$F,2,0)))","v":""},null,null,null,null,null,null,null,null,null,null,null,null,{"$f":"IF(ISNA(VLOOKUP(A42,Machines!$B:$F,4,0)),\"\",(VLOOKUP(A42,Machines!$B:$F,4,0)))","v":""}]
[null,null,null,{"$f":"IF(ISNA(VLOOKUP(A43,Machines!$B:$F,2,0)),\"\",(VLOOKUP(A43,Machines!$B:$F,2,0)))","v":""},null,null,null,null,null,null,null,null,null,null,null,null,{"$f":"IF(ISNA(VLOOKUP(A43,Machines!$B:$F,4,0)),\"\",(VLOOKUP(A43,Machines!$B:$F,4,0)))","v":""}]
[null,null,null,{"$f":"IF(ISNA(VLOOKUP(A44,Machines!$B:$F,2,0)),\"\",(VLOOKUP(A44,Machines!$B:$F,2,0)))","v":""},null,null,null,null,null,null,null,null,null,null,null,null,{"$f":"IF(ISNA(VLOOKUP(A44,Machines!$B:$F,4,0)),\"\",(VLOOKUP(A44,Machines!$B:$F,4,0)))","v":""}]
[null,null,null,{"$f":"IF(ISNA(VLOOKUP(A45,Machines!$B:$F,2,0)),\"\",(VLOOKUP(A45,Machines!$B:$F,2,0)))","v":""},null,null,null,null,null,null,null,null,null,null,null,null,{"$f":"IF(ISNA(VLOOKUP(A45,Machines!$B:$F,4,0)),\"\",(VLOOKUP(A45,Machines!$B:$F,4,0)))","v":""}]
[null,null,null,{"$f":"IF(ISNA(VLOOKUP(A46,Machines!$B:$F,2,0)),\"\",(VLOOKUP(A46,Machines!$B:$F,2,0)))","v":""},null,null,null,null,null,null,null,null,null,null,null,null,{"$f":"IF(ISNA(VLOOKUP(A46,Machines!$B:$F,4,0)),\"\",(VLOOKUP(A46,Machines!$B:$F,4,0)))","v":""}]
[null,null,null,{"$f":"IF(ISNA(VLOOKUP(A47,Machines!$B:$F,2,0)),\"\",(VLOOKUP(A47,Machines!$B:$F,2,0)))","v":""},null,null,null,null,null,null,null,null,null,null,null,null,{"$f":"IF(ISNA(VLOOKUP(A47,Machines!$B:$F,4,0)),\"\",(VLOOKUP(A47,Machines!$B:$F,4,0)))","v":""}]
[null,null,null,{"$f":"IF(ISNA(VLOOKUP(A48,Machines!$B:$F,2,0)),\"\",(VLOOKUP(A48,Machines!$B:$F,2,0)))","v":""},null,null,null,null,null,null,null,null,null,null,null,null,{"$f":"IF(ISNA(VLOOKUP(A48,Machines!$B:$F,4,0)),\"\",(VLOOKUP(A48,Machines!$B:$F,4,0)))","v":""}]
[null,null,null,{"$f":"IF(ISNA(VLOOKUP(A49,Machines!$B:$F,2,0)),\"\",(VLOOKUP(A49,Machines!$B:$F,2,0)))","v":""},null,null,null,null,null,null,null,null,null,null,null,null,{"$f":"IF(ISNA(VLOOKUP(A49,Machines!$B:$F,4,0)),\"\",(VLOOKUP(A49,Machines!$B:$F,4,0)))","v":""}]
[null,null,null,{"$f":"IF(ISNA(VLOOKUP(A50,Machines!$B:$F,2,0)),\"\",(VLOOKUP(A50,Machines!$B:$F,2,0)))","v":""},null,null,null,null,null,null,null,null,null,null,null,null,{"$f":"IF(ISNA(VLOOKUP(A50,Machines!$B:$F,4,0)),\"\",(VLOOKUP(A50,Machines!$B:$F,4,0)))","v":""}]
[null,null,null,{"$f":"IF(ISNA(VLOOKUP(A51,Machines!$B:$F,2,0)),\"\",(VLOOKUP(A51,Machines!$B:$F,2,0)))","v":""},null,null,null,null,null,null,null,null,null,null,null,null,{"$f":"IF(ISNA(VLOOKUP(A51,Machines!$B:$F,4,0)),\"\",(VLOOKUP(A51,Machines!$B:$F,4,0)))","v":""}]
[null,null,null,{"$f":"IF(ISNA(VLOOKUP(A52,Machines!$B:$F,2,0)),\"\",(VLOOKUP(A52,Machines!$B:$F,2,0)))","v":""},null,null,null,null,null,null,null,null,null,null,null,null,{"$f":"IF(ISNA(VLOOKUP(A52,Machines!$B:$F,4,0)),\"\",(VLOOKUP(A52,Machines!$B:$F,4,0)))","v":""}]
[null,null,null,{"$f":"IF(ISNA(VLOOKUP(A53,Machines!$B:$F,2,0)),\"\",(VLOOKUP(A53,Machines!$B:$F,2,0)))","v":""},null,null,null,null,null,null,null,null,null,null,null,null,{"$f":"IF(ISNA(VLOOKUP(A53,Machines!$B:$F,4,0)),\"\",(VLOOKUP(A53,Machines!$B:$F,4,0)))","v":""}]
[null,null,null,{"$f":"IF(ISNA(VLOOKUP(A54,Machines!$B:$F,2,0)),\"\",(VLOOKUP(A54,Machines!$B:$F,2,0)))","v":""},null,null,null,null,null,null,null,null,null,null,null,null,{"$f":"IF(ISNA(VLOOKUP(A54,Machines!$B:$F,4,0)),\"\",(VLOOKUP(A54,Machines!$B:$F,4,0)))","v":""}]
[null,null,null,{"$f":"IF(ISNA(VLOOKUP(A55,Machines!$B:$F,2,0)),\"\",(VLOOKUP(A55,Machines!$B:$F,2,0)))","v":""},null,null,null,null,null,null,null,null,null,null,null,null,{"$f":"IF(ISNA(VLOOKUP(A55,Machines!$B:$F,4,0)),\"\",(VLOOKUP(A55,Machines!$B:$F,4,0)))","v":""}]
[null,null,null,{"$f":"IF(ISNA(VLOOKUP(A56,Machines!$B:$F,2,0)),\"\",(VLOOKUP(A56,Machines!$B:$F,2,0)))","v":""},null,null,null,null,null,null,null,null,null,null,null,null,{"$f":"IF(ISNA(VLOOKUP(A56,Machines!$B:$F,4,0)),\"\",(VLOOKUP(A56,Machines!$B:$F,4,0)))","v":""}]
[null,null,null,{"$f":"IF(ISNA(VLOOKUP(A57,Machines!$B:$F,2,0)),\"\",(VLOOKUP(A57,Machines!$B:$F,2,0)))","v":""},null,null,null,null,null,null,null,null,null,null,null,null,{"$f":"IF(ISNA(VLOOKUP(A57,Machines!$B:$F,4,0)),\"\",(VLOOKUP(A57,Machines!$B:$F,4,0)))","v":""}]
[null,null,null,{"$f":"IF(ISNA(VLOOKUP(A58,Machines!$B:$F,2,0)),\"\",(VLOOKUP(A58,Machines!$B:$F,2,0)))","v":""},null,null,null,null,null,null,null,null,null,null,null,null,{"$f":"IF(ISNA(VLOOKUP(A58,Machines!$B:$F,4,0)),\"\",(VLOOKUP(A58,Machines!$B:$F,4,0)))","v":""}]
[null,null,null,{"$f":"IF(ISNA(VLOOKUP(A59,Machines!$B:$F,2,0)),\"\",(VLOOKUP(A59,Machines!$B:$F,2,0)))","v":""},null,null,null,null,null,null,null,null,null,null,null,null,{"$f":"IF(ISNA(VLOOKUP(A59,Machines!$B:$F,4,0)),\"\",(VLOOKUP(A59,Machines!$B:$F,4,0)))","v":""}]
[null,null,null,{"$f":"IF(ISNA(VLOOKUP(A60,Machines!$B:$F,2,0)),\"\",(VLOOKUP(A60,Machines!$B:$F,2,0)))","v":""},null,null,null,null,null,null,null,null,null,null,null,null,{"$f":"IF(ISNA(VLOOKUP(A60,Machines!$B:$F,4,0)),\"\",(VLOOKUP(A60,Machines!$B:$F,4,0)))","v":""}]
[null,null,null,{"$f":"IF(ISNA(VLOOKUP(A61,Machines!$B:$F,2,0)),\"\",(VLOOKUP(A61,Machines!$B:$F,2,0)))","v":""},null,null,null,null,null,null,null,null,null,null,null,null,{"$f":"IF(ISNA(VLOOKUP(A61,Machines!$B:$F,4,0)),\"\",(VLOOKUP(A61,Machines!$B:$F,4,0)))","v":""}]
[null,null,null,{"$f":"IF(ISNA(VLOOKUP(A62,Machines!$B:$F,2,0)),\"\",(VLOOKUP(A62,Machines!$B:$F,2,0)))","v":""},null,null,null,null,null,null,null,null,null,null,null,null,{"$f":"IF(ISNA(VLOOKUP(A62,Machines!$B:$F,4,0)),\"\",(VLOOKUP(A62,Machines!$B:$F,4,0)))","v":""}]
[null,null,null,{"$f":"IF(ISNA(VLOOKUP(A63,Machines!$B:$F,2,0)),\"\",(VLOOKUP(A63,Machines!$B:$F,2,0)))","v":""},null,null,null,null,null,null,null,null,null,null,null,null,{"$f":"IF(ISNA(VLOOKUP(A63,Machines!$B:$F,4,0)),\"\",(VLOOKUP(A63,Machines!$B:$F,4,0)))","v":""}]
[null,null,null,{"$f":"IF(ISNA(VLOOKUP(A64,Machines!$B:$F,2,0)),\"\",(VLOOKUP(A64,Machines!$B:$F,2,0)))","v":""},null,null,null,null,null,null,null,null,null,null,null,null,{"$f":"IF(ISNA(VLOOKUP(A64,Machines!$B:$F,4,0)),\"\",(VLOOKUP(A64,Machines!$B:$F,4,0)))","v":""}]
[null,null,null,{"$f":"IF(ISNA(VLOOKUP(A65,Machines!$B:$F,2,0)),\"\",(VLOOKUP(A65,Machines!$B:$F,2,0)))","v":""},null,null,null,null,null,null,null,null,null,null,null,null,{"$f":"IF(ISNA(VLOOKUP(A65,Machines!$B:$F,4,0)),\"\",(VLOOKUP(A65,Machines!$B:$F,4,0)))","v":""}]
[null,null,null,{"$f":"IF(ISNA(VLOOKUP(A66,Machines!$B:$F,2,0)),\"\",(VLOOKUP(A66,Machines!$B:$F,2,0)))","v":""},null,null,null,null,null,null,null,null,null,null,null,null,{"$f":"IF(ISNA(VLOOKUP(A66,Machines!$B:$F,4,0)),\"\",(VLOOKUP(A66,Machines!$B:$F,4,0)))","v":""}]
[null,null,null,{"$f":"IF(ISNA(VLOOKUP(A67,Machines!$B:$F,2,0)),\"\",(VLOOKUP(A67,Machines!$B:$F,2,0)))","v":""},null,null,null,null,null,null,null,null,null,null,null,null,{"$f":"IF(ISNA(VLOOKUP(A67,Machines!$B:$F,4,0)),\"\",(VLOOKUP(A67,Machines!$B:$F,4,0)))","v":""}]
[null,null,null,{"$f":"IF(ISNA(VLOOKUP(A68,Machines!$B:$F,2,0)),\"\",(VLOOKUP(A68,Machines!$B:$F,2,0)))","v":""},null,null,null,null,null,null,null,null,null,null,null,null,{"$f":"IF(ISNA(VLOOKUP(A68,Machines!$B:$F,4,0)),\"\",(VLOOKUP(A68,Machines!$B:$F,4,0)))","v":""}]
[null,null,null,{"$f":"IF(ISNA(VLOOKUP(A69,Machines!$B:$F,2,0)),\"\",(VLOOKUP(A69,Machines!$B:$F,2,0)))","v":""},null,null,null,null,null,null,null,null,null,null,null,null,{"$f":"IF(ISNA(VLOOKUP(A69,Machines!$B:$F,4,0)),\"\",(VLOOKUP(A69,Machines!$B:$F,4,0)))","v":""}]
[null,null,null,{"$f":"IF(ISNA(VLOOKUP(A70,Machines!$B:$F,2,0)),\"\",(VLOOKUP(A70,Machines!$B:$F,2,0)))","v":""},null,null,null,null,null,null,null,null,null,null,null,null,{"$f":"IF(ISNA(VLOOKUP(A70,Machines!$B:$F,4,0)),\"\",(VLOOKUP(A70,Machines!$B:$F,4,0)))","v":""}]
[null,null,null,{"$f":"IF(ISNA(VLOOKUP(A71,Machines!$B:$F,2,0)),\"\",(VLOOKUP(A71,Machines!$B:$F,2,0)))","v":""},null,null,null,null,null,null,null,null,null,null,null,null,{"$f":"IF(ISNA(VLOOKUP(A71,Machines!$B:$F,4,0)),\"\",(VLOOKUP(A71,Machines!$B:$F,4,0)))","v":""}]
[null,null,null,{"$f":"IF(ISNA(VLOOKUP(A72,Machines!$B:$F,2,0)),\"\",(VLOOKUP(A72,Machines!$B:$F,2,0)))","v":""},null,null,null,null,null,null,null,null,null,null,null,null,{"$f":"IF(ISNA(VLOOKUP(A72,Machines!$B:$F,4,0)),\"\",(VLOOKUP(A72,Machines!$B:$F,4,0)))","v":""}]
[null,null,null,{"$f":"IF(ISNA(VLOOKUP(A73,Machines!$B:$F,2,0)),\"\",(VLOOKUP(A73,Machines!$B:$F,2,0)))","v":""},null,null,null,null,null,null,null,null,null,null,null,null,{"$f":"IF(ISNA(VLOOKUP(A73,Machines!$B:$F,4,0)),\"\",(VLOOKUP(A73,Machines!$B:$F,4,0)))","v":""}]
[null,null,null,{"$f":"IF(ISNA(VLOOKUP(A74,Machines!$B:$F,2,0)),\"\",(VLOOKUP(A74,Machines!$B:$F,2,0)))","v":""},null,null,null,null,null,null,null,null,null,null,null,null,{"$f":"IF(ISNA(VLOOKUP(A74,Machines!$B:$F,4,0)),\"\",(VLOOKUP(A74,Machines!$B:$F,4,0)))","v":""}]
["CHANTIER :",null,null,null,null,{"$f":"F1","v":0},null,null,null,null,null,null,null,null,null,null,null,null,null,null,"N° CHANTIER :",null,null,null,null,null,{"$f":"AA1","v":0},null,null,null,"JOUR :",null,null,null,{"$f":"AI1","v":"Jeudi"},null,null,null,null,null,null,null,null,null,null,null,null,null,null,null,null,"DATES :",null,null,{"$f":"BC1","v":"21-01-16"}]
["MATERIAUX"]
[null,null,null,"Fournisseurs",null,null,null,null,null,null,null,null,null,null,null,null,null,null,"Description des fournitures & matériaux",null,null,null,null,null,null,null,null,null,null,null,null,null,null,null,null,null,null,null,null,null,null,null,null,null,null,null,null,null,null,"Qt totales",null,null,null,"U.",null,"Prix"]
[]
[]
[]
[]
[]
[]
[]
[]
[]
[]
[]
[]
[]
[]
[]
[]
[]
[]
[]
[]
[]
[]
[]
[]
[]
[]
[]
[]
[]
[]
[]
[null,null,null,"RESPONSABLE",null,null,null,null,null,null,null,null,"SIGNATURE",null,null,null,null,null,"DESCRIPTION DES TRAVAUX REALISES CE JOUR",null,null,null,null,null,null,null,null,null,null,null,null,null,null,null,null,null,null,null,null,null,null,null,null,null,null,null,null,null,null,"METEO"]
[null,null,null,"JENNES Loïc"]

{"sheet":"22-01-16","index":28,"n_rows":110,"n_cols":56,"rows_kept":110,"cut":false,"hidden":false,"merged":[[110,18,110,48],[104,3,104,17],[104,18,104,48],[71,0,71,2],[71,3,71,15],[71,16,71,24],[71,25,71,28],[71,30,71,45],[71,46,71,54],[109,18,109,48],[107,18,107,48],[105,3,105,17],[105,18,105,48],[106,3,106,17],[106,18,106,48],[106,49,106,52],[107,49,107,52],[101,53,101,54],[101,3,101,17],[101,18,101,48],[97,3,97,17],[97,18,97,48],[98,3,98,17],[98,18,98,48],[71,55,71,58],[103,3,103,17],[103,18,103,48],[72,0,72,2],[72,3,72,15],[72,16,72,24],[72,25,72,28],[72,30,72,45],[72,46,72,54],[72,55,72,58],[73,0,73,2],[73,3,73,15],[73,16,73,24],[73,25,73,28],[73,30,73,45],[73,46,73,54],[73,55,73,58],[102,3,102,17],[102,18,102,48],[99,3,99,17],[99,18,99,48],[100,3,100,17],[100,18,100,48],[101,49,101,52],[69,0,69,2],[69,3,69,15],[69,16,69,24],[69,25,69,28],[69,30,69,45],[69,46,69,54],[69,55,69,58],[70,0,70,2],[70,3,70,15],[70,16,70,24],[70,25,70,28],[70,30,70,45],[70,46,70,54],[70,55,70,58],[67,0,67,2],[67,3,67,15],[67,16,67,24],[67,25,67,28],[67,30,67,45],[67,46,67,54],[67,55,67,58],[68,0,68,2],[68,3,68,15],[68,16,68,24],[68,25,68,28],[68,30,68,45],[68,46,68,54],[68,55,68,58],[65,0,65,2],[65,3,65,15],[65,16,65,24],[65,25,65,28],[65,30,65,45],[65,46,65,54],[65,55,65,58],[66,0,66,2],[66,3,66,15],[66,16,66,24],[66,25,66,28],[66,30,66,45],[66,46,66,54],[66,55,66,58],[63,0,63,2],[63,3,63,15],[63,16,63,24],[63,25,63,28],[63,30,63,45],[63,46,63,54],[63,55,63,58],[64,0,64,2],[64,3,64,15],[64,16,64,24],[64,25,64,28],[64,30,64,45],[64,46,64,54],[64,55,64,58],[61,0,61,2],[61,3,61,15],[61,16,61,24],[61,25,61,28],[61,30,61,45],[61,46,61,54],[61,55,61,58],[62,0,62,2],[62,3,62,15],[62,16,62,24],[62,25,62,28],[62,30,62,45],[62,46,62,54],[62,55,62,58],[59,0,59,2],[59,3,59,15],[59,16,59,24],[59,25,59,28],[59,30,59,45],[59,46,59,54],[59,55,59,58],[60,0,60,2],[60,3,60,15],[60,16,60,24],[60,25,60,28],[60,30,60,45],[60,46,60,54],[60,55,60,58],[57,0,57,2],[57,3,57,15],[57,16,57,24],[57,25,57,28],[57,30,57,45],[57,46,57,54],[57,55,57,58],[58,0,58,2],[58,3,58,15],[58,16,58,24],[58,25,58,28],[58,30,58,45],[58,46,58,54],[58,55,58,58],[55,0,55,2],[55,3,55,15],[55,16,55,24],[55,25,55,28],[55,30,55,45],[55,46,55,54],[55,55,55,58],[56,0,56,2],[56,3,56,15],[56,16,56,24],[56,25,56,28],[56,30,56,45],[56,46,56,54],[56,55,56,58],[53,0,53,2],[53,3,53,15],[53,16,53,24],[53,25,53,28],[53,30,53,45],[53,46,53,54],[53,55,53,58],[54,0,54,2],[54,3,54,15],[54,16,54,24],[54,25,54,28],[54,30,54,45],[54,46,54,54],[54,55,54,58],[51,0,51,2],[51,3,51,15],[51,16,51,24],[51,25,51,28],[51,30,51,45],[51,46,51,54],[51,55,51,58],[52,0,52,2],[52,3,52,15],[52,16,52,24],[52,25,52,28],[52,30,52,45],[52,46,52,54],[52,55,52,58],[49,0,49,2],[49,3,49,15],[49,16,49,24],[49,25,49,28],[49,30,49,45],[49,46,49,54],[49,55,49,58],[50,0,50,2],[50,3,50,15],[50,16,50,24],[50,25,50,28],[50,30,50,45],[50,46,50,54],[50,55,50,58],[47,0,47,2],[47,3,47,15],[47,16,47,24],[47,25,47,28],[47,30,47,45],[47,46,47,54],[47,55,47,58],[48,0,48,2],[48,3,48,15],[48,16,48,24],[48,25,48,28],[48,30,48,45],[48,46,48,54],[48,55,48,58],[45,0,45,2],[45,3,45,15],[45,16,45,24],[45,25,45,28],[45,30,45,45],[45,46,45,54],[45,55,45,58],[46,0,46,2],[46,3,46,15],[46,16,46,24],[46,25,46,28],[46,30,46,45],[46,46,46,54],[46,55,46,58],[43,0,43,2],[43,3,43,15],[43,16,43,24],[43,25,43,28],[43,30,43,45],[43,46,43,54],[43,55,43,58],[44,0,44,2],[44,3,44,15],[44,16,44,24],[44,25,44,28],[44,30,44,45],[44,46,44,54],[44,55,44,58],[41,25,41,28],[41,30,41,45],[41,46,41,54],[41,55,41,58],[42,0,42,2],[42,3,42,15],[42,16,42,24],[42,25,42,28],[42,30,42,45],[42,46,42,54],[42,55,42,58],[37,0,37,4],[37,5,37,19],[37,20,37,25],[37,26,37,28],[37,30,37,32],[37,34,37,47],[37,51,37,53],[37,54,37,58],[38,0,38,28],[38,29,73,29],[38,30,38,58],[39,0,39,4],[39,6,39,9],[39,12,39,15],[40,0,40,2],[40,3,40,15],[40,16,40,24],[40,25,40,28],[40,30,40,45],[40,46,40,54],[40,55,40,58],[41,0,41,2],[41,3,41,15],[41,16,41,24],[36,0,36,15],[36,16,36,18],[36,19,36,21],[36,22,36,24],[36,25,36,28],[36,30,36,32],[36,33,36,45],[36,46,36,54],[36,55,36,58],[35,0,35,15],[35,16,35,18],[35,19,35,21],[35,22,35,24],[35,25,35,28],[35,30,35,32],[35,33,35,45],[35,46,35,54],[35,55,35,58],[34,0,34,15],[34,16,34,18],[34,19,34,21],[34,22,34,24],[34,25,34,28],[34,30,34,32],[34,33,34,45],[34,46,34,54],[34,55,34,58],[33,0,33,15],[33,16,33,18],[33,19,33,21],[33,22,33,24],[33,25,33,28],[33,30,33,32],[33,33,33,45],[33,46,33,54],[33,55,33,58],[32,0,32,15],[32,16,32,18],[32,19,32,21],[32,22,32,24],[32,25,32,28],[32,30,32,32],[32,33,32,45],[32,46,32,54],[32,55,32,58],[31,0,31,15],[31,16,31,18],[31,19,31,21],[31,22,31,24],[31,25,31,28],[31,30,31,32],[31,33,31,45],[31,46,31,54],[31,55,31,58],[30,0,30,15],[30,16,30,18],[30,19,30,21],[30,22,30,24],[30,25,30,28],[30,30,30,32],[30,33,30,45],[30,46,30,54],[30,55,30,58],[29,0,29,15],[29,16,29,18],[29,19,29,21],[29,22,29,24],[29,25,29,28],[29,30,29,32],[29,33,29,45],[29,46,29,54],[29,55,29,58],[28,0,28,15],[28,16,28,18],[28,19,28,21],[28,22,28,24],[28,25,28,28],[28,30,28,32],[28,33,28,45],[28,46,28,54],[28,55,28,58],[27,0,27,15],[27,16,27,18],[27,19,27,21],[27,22,27,24],[27,25,27,28],[27,30,27,32],[27,33,27,45],[27,46,27,54],[27,55,27,58],[26,0,26,15],[26,16,26,18],[26,19,26,21],[26,22,26,24],[26,25,26,28],[26,30,26,32],[26,33,26,45],[26,46,26,54],[26,55,26,58],[25,0,25,15],[25,16,25,18],[25,19,25,21],[25,22,25,24],[25,25,25,28],[25,30,25,32],[25,33,25,45],[25,46,25,54],[25,55,25,58],[24,0,24,15],[24,16,24,18],[24,19,24,21],[24,22,24,24],[24,25,24,28],[24,30,24,32],[24,33,24,45],[24,46,24,54],[24,55,24,58],[23,0,23,15],[23,16,23,18],[23,19,23,21],[23,22,23,24],[23,25,23,28],[23,30,23,32],[23,33,23,45],[23,46,23,54],[23,55,23,58],[22,0,22,15],[22,16,22,18],[22,19,22,21],[22,22,22,24],[22,25,22,28],[22,30,22,32],[22,33,22,45],[22,46,22,54],[22,55,22,58],[21,0,21,15],[21,16,21,18],[21,19,21,21],[21,22,21,24],[21,25,21,28],[21,30,21,32],[21,33,21,45],[21,46,21,54],[21,55,21,58],[20,0,20,15],[20,16,20,18],[20,19,20,21],[20,22,20,24],[20,25,20,28],[20,30,20,32],[20,33,20,45],[20,46,20,54],[20,55,20,58],[19,0,19,15],[19,16,19,18],[19,19,19,21],[19,22,19,24],[19,25,19,28],[19,30,19,32],[19,33,19,45],[19,46,19,54],[19,55,19,58],[18,0,18,15],[18,16,18,18],[18,19,18,21],[18,22,18,24],[18,25,18,28],[18,30,18,32],[18,33,18,45],[18,46,18,54],[18,55,18,58],[17,0,17,15],[17,16,17,18],[17,19,17,21],[17,22,17,24],[17,25,17,28],[17,30,17,32],[17,33,17,45],[17,46,17,54],[17,55,17,58],[16,0,16,15],[16,16,16,18],[16,19,16,21],[16,22,16,24],[16,25,16,28],[16,30,16,32],[16,33,16,45],[16,46,16,54],[16,55,16,58],[15,0,15,15],[15,16,15,18],[15,19,15,21],[15,22,15,24],[15,25,15,28],[15,30,15,32],[15,33,15,45],[15,46,15,54],[15,55,15,58],[14,0,14,15],[14,16,14,18],[14,19,14,21],[14,22,14,24],[14,25,14,28],[14,30,14,32],[14,33,14,45],[14,46,14,54],[14,55,14,58],[13,0,13,15],[13,16,13,18],[13,19,13,21],[13,22,13,24],[13,25,13,28],[13,30,13,32],[13,33,13,45],[13,46,13,54],[13,55,13,58],[12,0,12,15],[12,16,12,18],[12,19,12,21],[12,22,12,24],[12,25,12,28],[12,30,12,32],[12,33,12,45],[12,46,12,54],[12,55,12,58],[11,0,11,15],[11,16,11,18],[11,19,11,21],[11,22,11,24],[11,25,11,28],[11,30,11,32],[11,33,11,45],[11,46,11,54],[11,55,11,58],[10,0,10,15],[10,16,10,18],[10,19,10,21],[10,22,10,24],[10,25,10,28],[10,30,10,32],[10,33,10,45],[10,46,10,54],[10,55,10,58],[9,0,9,15],[9,16,9,18],[9,19,9,21],[9,22,9,24],[9,25,9,28],[9,30,9,32],[9,33,9,45],[9,46,9,54],[9,55,9,58],[8,0,8,15],[8,16,8,18],[8,19,8,21],[8,22,8,24],[8,25,8,28],[8,30,8,32],[8,33,8,45],[8,46,8,54],[8,55,8,58],[6,30,6,32],[6,33,6,45],[6,46,6,54],[6,55,6,58],[7,0,7,15],[7,16,7,18],[7,19,7,21],[7,22,7,24],[7,25,7,28],[7,30,7,32],[7,33,7,45],[7,46,7,54],[7,55,7,58],[4,55,4,58],[5,0,5,15],[5,16,5,18],[5,19,5,21],[5,22,5,24],[5,25,5,28],[5,30,5,32],[5,33,5,45],[5,46,5,54],[5,55,5,58],[0,51,0,53],[0,54,0,58],[1,0,1,28],[1,29,36,29],[1,30,1,58],[2,0,2,4],[2,7,2,10],[2,13,2,16],[2,19,2,22],[2,25,2,28],[2,30,2,34],[2,36,2,39],[2,42,2,45],[3,0,3,15],[3,16,3,18],[3,19,3,21],[3,22,3,24],[3,25,3,28],[3,30,3,32],[3,33,3,45],[3,46,3,54],[3,55,3,58],[4,0,4,15],[4,16,4,18],[111,18,111,48],[108,18,108,48],[108,3,108,11],[108,12,108,17],[109,3,111,11],[109,12,111,17],[0,0,0,4],[0,5,0,19],[0,20,0,25],[0,26,0,28],[0,30,0,32],[0,34,0,47],[4,19,4,21],[4,22,4,24],[4,25,4,28],[4,30,4,32],[4,33,4,45],[4,46,4,54],[6,0,6,15],[6,16,6,18],[6,19,6,21],[6,22,6,24],[6,25,6,28],[107,3,107,17],[101,55,101,58],[102,49,102,52],[102,53,102,54],[102,55,102,58],[99,55,99,58],[100,49,100,52],[100,53,100,54],[100,55,100,58],[95,53,95,54],[95,55,95,58],[96,49,96,52],[96,53,96,54],[96,55,96,58],[97,49,97,52],[97,53,97,54],[99,49,99,52],[99,53,99,54],[95,3,95,17],[95,18,95,48],[96,3,96,17],[96,18,96,48],[95,49,95,52],[97,55,97,58],[98,49,98,52],[98,53,98,54],[98,55,98,58],[94,3,94,17],[94,18,94,48],[91,3,91,17],[91,18,91,48],[92,3,92,17],[92,18,92,48],[93,49,93,52],[93,53,93,54],[93,55,93,58],[94,49,94,52],[94,53,94,54],[94,55,94,58],[91,55,91,58],[92,49,92,52],[92,53,92,54],[92,55,92,58],[87,53,87,54],[87,55,87,58],[88,49,88,52],[88,53,88,54],[88,55,88,58],[89,49,89,52],[89,53,89,54],[93,3,93,17],[93,18,93,48],[89,3,89,17],[89,18,89,48],[90,3,90,17],[90,18,90,48],[87,3,87,17],[87,18,87,48],[88,3,88,17],[88,18,88,48],[87,49,87,52],[89,55,89,58],[90,49,90,52],[90,53,90,54],[90,55,90,58],[91,49,91,52],[91,53,91,54],[86,3,86,17],[86,18,86,48],[83,3,83,17],[83,18,83,48],[84,3,84,17],[84,18,84,48],[85,49,85,52],[85,53,85,54],[85,55,85,58],[86,49,86,52],[86,53,86,54],[86,55,86,58],[83,55,83,58],[84,49,84,52],[84,53,84,54],[84,55,84,58],[79,53,79,54],[79,55,79,58],[80,49,80,52],[80,53,80,54],[80,55,80,58],[81,49,81,52],[81,53,81,54],[85,3,85,17],[85,18,85,48],[81,3,81,17],[81,18,81,48],[82,3,82,17],[82,18,82,48],[79,3,79,17],[79,18,79,48],[80,3,80,17],[80,18,80,48],[79,49,79,52],[81,55,81,58],[82,49,82,52],[82,53,82,54],[82,55,82,58],[83,49,83,52],[83,53,83,54],[74,54,74,58],[75,0,75,58],[76,49,76,52],[76,53,76,54],[76,55,76,58],[77,3,77,17],[77,18,77,48],[78,3,78,17],[78,18,78,48],[77,49,77,52],[77,53,77,54],[77,55,77,58],[78,49,78,52],[78,53,78,54],[78,55,78,58],[76,3,76,17],[76,18,76,48],[74,0,74,4],[74,5,74,19],[74,20,74,25],[74,26,74,28],[74,30,74,32],[74,34,74,47],[74,51,74,53],[108,49,108,58],[109,49,111,58],[103,49,103,52],[103,53,103,54],[103,55,103,58],[104,49,104,52],[104,53,104,54],[104,55,104,58],[105,49,105,52],[105,53,105,54],[105,55,105,58],[106,53,106,54],[106,55,106,58],[107,53,107,54],[107,55,107,58]]}
["CHANTIER :",null,null,null,null,{"$f":"'01-01-16'!F1","v":0},null,null,null,null,null,null,null,null,null,null,null,null,null,null,"N° CHANTIER :",null,null,null,null,null,{"$f":"'01-01-16'!AA1","v":0},null,null,null,"JOUR :",null,null,null,{"$f":" CHOOSE(WEEKDAY(BC1,2),\"Lundi\",\"Mardi\",\"Mercredi\",\"Jeudi\",\"Vendredi\",\"Samedi\",\"Dimanche\")","v":"Vendredi"},null,null,null,null,null,null,null,null,null,null,null,null,null,null,null,null,"DATES :",null,null,{"$f":"MID(CELL(\"nomfichier\",A1),FIND(\"]\",CELL(\"nomfichier\",A1),1)+1,30)","v":"22-01-16"}]
["MAIN D'ŒUVRE",null,null,null,null,null,null,null,null,null,null,null,null,null,null,null,null,null,null,null,null,null,null,null,null,null,null,null,null,null,"CAMIONS"]
["Légende :",null,null,null,null,null,"Co",".= Congé",null,null,null,null,"M",".= Malade",null,null,null,null,"Cho",".= Chômage",null,null,null,null,"Va",".= Vacance",null,null,null,null,"Légende :",null,null,null,null,"Pa",".= Panne",null,null,null,null,"Ent",".= Entretien"]
["NOM - Prénom du travailleur",null,null,null,null,null,null,null,null,null,null,null,null,null,null,null,"Début journée",null,null,"Arrêt repas",null,null,"Fin journée",null,null,"Heures prestées",null,null,null,null,"N°",null,null,"Description du matériel",null,null,null,null,null,null,null,null,null,null,null,null,"Nom de l'opérateur",null,null,null,null,null,null,null,null,"Heures"]
[null,null,null,null,null,null,null,null,null,null,null,null,null,null,null,null,null,null,null,null,null,null,null,null,null,{"$f":"W5-Q5-T5","v":0},null,null,null,null,null,null,null,{"$f":"IF(ISNA(VLOOKUP(AE5,Camions!$B:$F,2,0)),\"\",(VLOOKUP(AE5,Camions!$B:$F,2,0)))","v":""},null,null,null,null,null,null,null,null,null,null,null,null,{"$f":"IF(ISNA(VLOOKUP(AE5,Camions!$B:$F,4,0)),\"\",(VLOOKUP(AE5,Camions!$B:$F,4,0)))","v":""}]
[null,null,null,null,null,null,null,null,null,null,null,null,null,null,null,null,null,null,null,null,null,null,null,null,null,{"$f":"W6-Q6-T6","v":0},null,null,null,null,null,null,null,{"$f":"IF(ISNA(VLOOKUP(AE6,Camions!$B:$F,2,0)),\"\",(VLOOKUP(AE6,Camions!$B:$F,2,0)))","v":""},null,null,null,null,null,null,null,null,null,null,null,null,{"$f":"IF(ISNA(VLOOKUP(AE6,Camions!$B:$F,4,0)),\"\",(VLOOKUP(AE6,Camions!$B:$F,4,0)))","v":""}]
[null,null,null,null,null,null,null,null,null,null,null,null,null,null,null,null,null,null,null,null,null,null,null,null,null,0,null,null,null,null,null,null,null,{"$f":"IF(ISNA(VLOOKUP(AE7,Camions!$B:$F,2,0)),\"\",(VLOOKUP(AE7,Camions!$B:$F,2,0)))","v":""},null,null,null,null,null,null,null,null,null,null,null,null,{"$f":"IF(ISNA(VLOOKUP(AE7,Camions!$B:$F,4,0)),\"\",(VLOOKUP(AE7,Camions!$B:$F,4,0)))","v":""}]
[null,null,null,null,null,null,null,null,null,null,null,null,null,null,null,null,null,null,null,null,null,null,null,null,null,0,null,null,null,null,null,null,null,{"$f":"IF(ISNA(VLOOKUP(AE8,Camions!$B:$F,2,0)),\"\",(VLOOKUP(AE8,Camions!$B:$F,2,0)))","v":""},null,null,null,null,null,null,null,null,null,null,null,null,{"$f":"IF(ISNA(VLOOKUP(AE8,Camions!$B:$F,4,0)),\"\",(VLOOKUP(AE8,Camions!$B:$F,4,0)))","v":""}]
[null,null,null,null,null,null,null,null,null,null,null,null,null,null,null,null,null,null,null,null,null,null,null,null,null,0,null,null,null,null,null,null,null,{"$f":"IF(ISNA(VLOOKUP(AE9,Camions!$B:$F,2,0)),\"\",(VLOOKUP(AE9,Camions!$B:$F,2,0)))","v":""},null,null,null,null,null,null,null,null,null,null,null,null,{"$f":"IF(ISNA(VLOOKUP(AE9,Camions!$B:$F,4,0)),\"\",(VLOOKUP(AE9,Camions!$B:$F,4,0)))","v":""}]
[null,null,null,null,null,null,null,null,null,null,null,null,null,null,null,null,null,null,null,null,null,null,null,null,null,0,null,null,null,null,null,null,null,{"$f":"IF(ISNA(VLOOKUP(AE10,Camions!$B:$F,2,0)),\"\",(VLOOKUP(AE10,Camions!$B:$F,2,0)))","v":""},null,null,null,null,null,null,null,null,null,null,null,null,{"$f":"IF(ISNA(VLOOKUP(AE10,Camions!$B:$F,4,0)),\"\",(VLOOKUP(AE10,Camions!$B:$F,4,0)))","v":""}]
[null,null,null,null,null,null,null,null,null,null,null,null,null,null,null,null,null,null,null,null,null,null,null,null,null,0,null,null,null,null,null,null,null,{"$f":"IF(ISNA(VLOOKUP(AE11,Camions!$B:$F,2,0)),\"\",(VLOOKUP(AE11,Camions!$B:$F,2,0)))","v":""},null,null,null,null,null,null,null,null,null,null,null,null,{"$f":"IF(ISNA(VLOOKUP(AE11,Camions!$B:$F,4,0)),\"\",(VLOOKUP(AE11,Camions!$B:$F,4,0)))","v":""}]
[null,null,null,null,null,null,null,null,null,null,null,null,null,null,null,null,null,null,null,null,null,null,null,null,null,0,null,null,null,null,null,null,null,{"$f":"IF(ISNA(VLOOKUP(AE12,Camions!$B:$F,2,0)),\"\",(VLOOKUP(AE12,Camions!$B:$F,2,0)))","v":""},null,null,null,null,null,null,null,null,null,null,null,null,{"$f":"IF(ISNA(VLOOKUP(AE12,Camions!$B:$F,4,0)),\"\",(VLOOKUP(AE12,Camions!$B:$F,4,0)))","v":""}]
[null,null,null,null,null,null,null,null,null,null,null,null,null,null,null,null,null,null,null,null,null,null,null,null,null,0,null,null,null,null,null,null,null,{"$f":"IF(ISNA(VLOOKUP(AE13,Camions!$B:$F,2,0)),\"\",(VLOOKUP(AE13,Camions!$B:$F,2,0)))","v":""},null,null,null,null,null,null,null,null,null,null,null,null,{"$f":"IF(ISNA(VLOOKUP(AE13,Camions!$B:$F,4,0)),\"\",(VLOOKUP(AE13,Camions!$B:$F,4,0)))","v":""}]
[null,null,null,null,null,null,null,null,null,null,null,null,null,null,null,null,null,null,null,null,null,null,null,null,null,0,null,null,null,null,null,null,null,{"$f":"IF(ISNA(VLOOKUP(AE14,Camions!$B:$F,2,0)),\"\",(VLOOKUP(AE14,Camions!$B:$F,2,0)))","v":""},null,null,null,null,null,null,null,null,null,null,null,null,{"$f":"IF(ISNA(VLOOKUP(AE14,Camions!$B:$F,4,0)),\"\",(VLOOKUP(AE14,Camions!$B:$F,4,0)))","v":""}]
[null,null,null,null,null,null,null,null,null,null,null,null,null,null,null,null,null,null,null,null,null,null,null,null,null,0,null,null,null,null,null,null,null,{"$f":"IF(ISNA(VLOOKUP(AE15,Camions!$B:$F,2,0)),\"\",(VLOOKUP(AE15,Camions!$B:$F,2,0)))","v":""},null,null,null,null,null,null,null,null,null,null,null,null,{"$f":"IF(ISNA(VLOOKUP(AE15,Camions!$B:$F,4,0)),\"\",(VLOOKUP(AE15,Camions!$B:$F,4,0)))","v":""}]
[null,null,null,null,null,null,null,null,null,null,null,null,null,null,null,null,null,null,null,null,null,null,null,null,null,0,null,null,null,null,null,null,null,{"$f":"IF(ISNA(VLOOKUP(AE16,Camions!$B:$F,2,0)),\"\",(VLOOKUP(AE16,Camions!$B:$F,2,0)))","v":""},null,null,null,null,null,null,null,null,null,null,null,null,{"$f":"IF(ISNA(VLOOKUP(AE16,Camions!$B:$F,4,0)),\"\",(VLOOKUP(AE16,Camions!$B:$F,4,0)))","v":""}]
[null,null,null,null,null,null,null,null,null,null,null,null,null,null,null,null,null,null,null,null,null,null,null,null,null,0,null,null,null,null,null,null,null,{"$f":"IF(ISNA(VLOOKUP(AE17,Camions!$B:$F,2,0)),\"\",(VLOOKUP(AE17,Camions!$B:$F,2,0)))","v":""},null,null,null,null,null,null,null,null,null,null,null,null,{"$f":"IF(ISNA(VLOOKUP(AE17,Camions!$B:$F,4,0)),\"\",(VLOOKUP(AE17,Camions!$B:$F,4,0)))","v":""}]
[null,null,null,null,null,null,null,null,null,null,null,null,null,null,null,null,null,null,null,null,null,null,null,null,null,0,null,null,null,null,null,null,null,{"$f":"IF(ISNA(VLOOKUP(AE18,Camions!$B:$F,2,0)),\"\",(VLOOKUP(AE18,Camions!$B:$F,2,0)))","v":""},null,null,null,null,null,null,null,null,null,null,null,null,{"$f":"IF(ISNA(VLOOKUP(AE18,Camions!$B:$F,4,0)),\"\",(VLOOKUP(AE18,Camions!$B:$F,4,0)))","v":""}]
[null,null,null,null,null,null,null,null,null,null,null,null,null,null,null,null,null,null,null,null,null,null,null,null,null,0,null,null,null,null,null,null,null,{"$f":"IF(ISNA(VLOOKUP(AE19,Camions!$B:$F,2,0)),\"\",(VLOOKUP(AE19,Camions!$B:$F,2,0)))","v":""},null,null,null,null,null,null,null,null,null,null,null,null,{"$f":"IF(ISNA(VLOOKUP(AE19,Camions!$B:$F,4,0)),\"\",(VLOOKUP(AE19,Camions!$B:$F,4,0)))","v":""}]
[null,null,null,null,null,null,null,null,null,null,null,null,null,null,null,null,null,null,null,null,null,null,null,null,null,0,null,null,null,null,null,null,null,{"$f":"IF(ISNA(VLOOKUP(AE20,Camions!$B:$F,2,0)),\"\",(VLOOKUP(AE20,Camions!$B:$F,2,0)))","v":""},null,null,null,null,null,null,null,null,null,null,null,null,{"$f":"IF(ISNA(VLOOKUP(AE20,Camions!$B:$F,4,0)),\"\",(VLOOKUP(AE20,Camions!$B:$F,4,0)))","v":""}]
[null,null,null,null,null,null,null,null,null,null,null,null,null,null,null,null,null,null,null,null,null,null,null,null,null,0,null,null,null,null,null,null,null,{"$f":"IF(ISNA(VLOOKUP(AE21,Camions!$B:$F,2,0)),\"\",(VLOOKUP(AE21,Camions!$B:$F,2,0)))","v":""},null,null,null,null,null,null,null,null,null,null,null,null,{"$f":"IF(ISNA(VLOOKUP(AE21,Camions!$B:$F,4,0)),\"\",(VLOOKUP(AE21,Camions!$B:$F,4,0)))","v":""}]
[null,null,null,null,null,null,null,null,null,null,null,null,null,null,null,null,null,null,null,null,null,null,null,null,null,0,null,null,null,null,null,null,null,{"$f":"IF(ISNA(VLOOKUP(AE22,Camions!$B:$F,2,0)),\"\",(VLOOKUP(AE22,Camions!$B:$F,2,0)))","v":""},null,null,null,null,null,null,null,null,null,null,null,null,{"$f":"IF(ISNA(VLOOKUP(AE22,Camions!$B:$F,4,0)),\"\",(VLOOKUP(AE22,Camions!$B:$F,4,0)))","v":""}]
[null,null,null,null,null,null,null,null,null,null,null,null,null,null,null,null,null,null,null,null,null,null,null,null,null,0,null,null,null,null,null,null,null,{"$f":"IF(ISNA(VLOOKUP(AE23,Camions!$B:$F,2,0)),\"\",(VLOOKUP(AE23,Camions!$B:$F,2,0)))","v":""},null,null,null,null,null,null,null,null,null,null,null,null,{"$f":"IF(ISNA(VLOOKUP(AE23,Camions!$B:$F,4,0)),\"\",(VLOOKUP(AE23,Camions!$B:$F,4,0)))","v":""}]
[null,null,null,null,null,null,null,null,null,null,null,null,null,null,null,null,null,null,null,null,null,null,null,null,null,0,null,null,null,null,null,null,null,{"$f":"IF(ISNA(VLOOKUP(AE24,Camions!$B:$F,2,0)),\"\",(VLOOKUP(AE24,Camions!$B:$F,2,0)))","v":""},null,null,null,null,null,null,null,null,null,null,null,null,{"$f":"IF(ISNA(VLOOKUP(AE24,Camions!$B:$F,4,0)),\"\",(VLOOKUP(AE24,Camions!$B:$F,4,0)))","v":""}]
[null,null,null,null,null,null,null,null,null,null,null,null,null,null,null,null,null,null,null,null,null,null,null,null,null,0,null,null,null,null,null,null,null,{"$f":"IF(ISNA(VLOOKUP(AE25,Camions!$B:$F,2,0)),\"\",(VLOOKUP(AE25,Camions!$B:$F,2,0)))","v":""},null,null,null,null,null,null,null,null,null,null,null,null,{"$f":"IF(ISNA(VLOOKUP(AE25,Camions!$B:$F,4,0)),\"\",(VLOOKUP(AE25,Camions!$B:$F,4,0)))","v":""}]
[null,null,null,null,null,null,null,null,null,null,null,null,null,null,null,null,null,null,null,null,null,null,null,null,null,0,null,null,null,null,null,null,null,{"$f":"IF(ISNA(VLOOKUP(AE26,Camions!$B:$F,2,0)),\"\",(VLOOKUP(AE26,Camions!$B:$F,2,0)))","v":""},null,null,null,null,null,null,null,null,null,null,null,null,{"$f":"IF(ISNA(VLOOKUP(AE26,Camions!$B:$F,4,0)),\"\",(VLOOKUP(AE26,Camions!$B:$F,4,0)))","v":""}]
[null,null,null,null,null,null,null,null,null,null,null,null,null,null,null,null,null,null,null,null,null,null,null,null,null,0,null,null,null,null,null,null,null,{"$f":"IF(ISNA(VLOOKUP(AE27,Camions!$B:$F,2,0)),\"\",(VLOOKUP(AE27,Camions!$B:$F,2,0)))","v":""},null,null,null,null,null,null,null,null,null,null,null,null,{"$f":"IF(ISNA(VLOOKUP(AE27,Camions!$B:$F,4,0)),\"\",(VLOOKUP(AE27,Camions!$B:$F,4,0)))","v":""}]
[null,null,null,null,null,null,null,null,null,null,null,null,null,null,null,null,null,null,null,null,null,null,null,null,null,0,null,null,null,null,null,null,null,{"$f":"IF(ISNA(VLOOKUP(AE28,Camions!$B:$F,2,0)),\"\",(VLOOKUP(AE28,Camions!$B:$F,2,0)))","v":""},null,null,null,null,null,null,null,null,null,null,null,null,{"$f":"IF(ISNA(VLOOKUP(AE28,Camions!$B:$F,4,0)),\"\",(VLOOKUP(AE28,Camions!$B:$F,4,0)))","v":""}]
[null,null,null,null,null,null,null,null,null,null,null,null,null,null,null,null,null,null,null,null,null,null,null,null,null,0,null,null,null,null,null,null,null,{"$f":"IF(ISNA(VLOOKUP(AE29,Camions!$B:$F,2,0)),\"\",(VLOOKUP(AE29,Camions!$B:$F,2,0)))","v":""},null,null,null,null,null,null,null,null,null,null,null,null,{"$f":"IF(ISNA(VLOOKUP(AE29,Camions!$B:$F,4,0)),\"\",(VLOOKUP(AE29,Camions!$B:$F,4,0)))","v":""}]
[null,null,null,null,null,null,null,null,null,null,null,null,null,null,null,null,null,null,null,null,null,null,null,null,null,0,null,null,null,null,null,null,null,{"$f":"IF(ISNA(VLOOKUP(AE30,Camions!$B:$F,2,0)),\"\",(VLOOKUP(AE30,Camions!$B:$F,2,0)))","v":""},null,null,null,null,null,null,null,null,null,null,null,null,{"$f":"IF(ISNA(VLOOKUP(AE30,Camions!$B:$F,4,0)),\"\",(VLOOKUP(AE30,Camions!$B:$F,4,0)))","v":""}]
[null,null,null,null,null,null,null,null,null,null,null,null,null,null,null,null,null,null,null,null,null,null,null,null,null,0,null,null,null,null,null,null,null,{"$f":"IF(ISNA(VLOOKUP(AE31,Camions!$B:$F,2,0)),\"\",(VLOOKUP(AE31,Camions!$B:$F,2,0)))","v":""},null,null,null,null,null,null,null,null,null,null,null,null,{"$f":"IF(ISNA(VLOOKUP(AE31,Camions!$B:$F,4,0)),\"\",(VLOOKUP(AE31,Camions!$B:$F,4,0)))","v":""}]
[null,null,null,null,null,null,null,null,null,null,null,null,null,null,null,null,null,null,null,null,null,null,null,null,null,0,null,null,null,null,null,null,null,{"$f":"IF(ISNA(VLOOKUP(AE32,Camions!$B:$F,2,0)),\"\",(VLOOKUP(AE32,Camions!$B:$F,2,0)))","v":""},null,null,null,null,null,null,null,null,null,null,null,null,{"$f":"IF(ISNA(VLOOKUP(AE32,Camions!$B:$F,4,0)),\"\",(VLOOKUP(AE32,Camions!$B:$F,4,0)))","v":""}]
[null,null,null,null,null,null,null,null,null,null,null,null,null,null,null,null,null,null,null,null,null,null,null,null,null,0,null,null,null,null,null,null,null,{"$f":"IF(ISNA(VLOOKUP(AE33,Camions!$B:$F,2,0)),\"\",(VLOOKUP(AE33,Camions!$B:$F,2,0)))","v":""},null,null,null,null,null,null,null,null,null,null,null,null,{"$f":"IF(ISNA(VLOOKUP(AE33,Camions!$B:$F,4,0)),\"\",(VLOOKUP(AE33,Camions!$B:$F,4,0)))","v":""}]
[null,null,null,null,null,null,null,null,null,null,null,null,null,null,null,null,null,null,null,null,null,null,null,null,null,0,null,null,null,null,null,null,null,{"$f":"IF(ISNA(VLOOKUP(AE34,Camions!$B:$F,2,0)),\"\",(VLOOKUP(AE34,Camions!$B:$F,2,0)))","v":""},null,null,null,null,null,null,null,null,null,null,null,null,{"$f":"IF(ISNA(VLOOKUP(AE34,Camions!$B:$F,4,0)),\"\",(VLOOKUP(AE34,Camions!$B:$F,4,0)))","v":""}]
[null,null,null,null,null,null,null,null,null,null,null,null,null,null,null,null,null,null,null,null,null,null,null,null,null,0,null,null,null,null,null,null,null,{"$f":"IF(ISNA(VLOOKUP(AE35,Camions!$B:$F,2,0)),\"\",(VLOOKUP(AE35,Camions!$B:$F,2,0)))","v":""},null,null,null,null,null,null,null,null,null,null,null,null,{"$f":"IF(ISNA(VLOOKUP(AE35,Camions!$B:$F,4,0)),\"\",(VLOOKUP(AE35,Camions!$B:$F,4,0)))","v":""}]
[null,null,null,null,null,null,null,null,null,null,null,null,null,null,null,null,null,null,null,null,null,null,null,null,null,0,null,null,null,null,null,null,null,{"$f":"IF(ISNA(VLOOKUP(AE36,Camions!$B:$F,2,0)),\"\",(VLOOKUP(AE36,Camions!$B:$F,2,0)))","v":""},null,null,null,null,null,null,null,null,null,null,null,null,{"$f":"IF(ISNA(VLOOKUP(AE36,Camions!$B:$F,4,0)),\"\",(VLOOKUP(AE36,Camions!$B:$F,4,0)))","v":""}]
[null,null,null,null,null,null,null,null,null,null,null,null,null,null,null,null,null,null,null,null,null,null,null,null,null,0,null,null,null,null,null,null,null,{"$f":"IF(ISNA(VLOOKUP(AE37,Camions!$B:$F,2,0)),\"\",(VLOOKUP(AE37,Camions!$B:$F,2,0)))","v":""},null,null,null,null,null,null,null,null,null,null,null,null,{"$f":"IF(ISNA(VLOOKUP(AE36,Camions!$B:$F,4,0)),\"\",(VLOOKUP(AE36,Camions!$B:$F,4,0)))","v":""}]
["CHANTIER :",null,null,null,null,{"$f":"F1","v":0},null,null,null,null,null,null,null,null,null,null,null,null,null,null,"N° CHANTIER :",null,null,null,null,null,{"$f":"AA1","v":0},null,null,null,"JOUR :",null,null,null,{"$f":"AI1","v":"Vendredi"},null,null,null,null,null,null,null,null,null,null,null,null,null,null,null,null,"DATES :",null,null,{"$f":"BC1","v":"22-01-16"}]
["MATERIEL",null,null,null,null,null,null,null,null,null,null,null,null,null,null,null,null,null,null,null,null,null,null,null,null,null,null,null,null,null,"SOUS-TRAITANTS"]
["Légende :",null,null,null,null,"Pa",".= Panne",null,null,null,null,"Ent",".= Entretien"]
["N°",null,null,"Description du matériel",null,null,null,null,null,null,null,null,null,null,null,null,"Nom de l'opérateur",null,null,null,null,null,null,null,null,"Heures",null,null,null,null,"Type d'engin et description des travaux ",null,null,null,null,null,null,null,null,null,null,null,null,null,null,null,"Sous-traitants",null,null,null,null,null,null,null,null,"Heures"]
[null,null,null,{"$f":"IF(ISNA(VLOOKUP(A42,Machines!$B:$F,2,0)),\"\",(VLOOKUP(A42,Machines!$B:$F,2,0)))","v":""},null,null,null,null,null,null,null,null,null,null,null,null,{"$f":"IF(ISNA(VLOOKUP(A42,Machines!$B:$F,4,0)),\"\",(VLOOKUP(A42,Machines!$B:$F,4,0)))","v":""}]
[null,null,null,{"$f":"IF(ISNA(VLOOKUP(A43,Machines!$B:$F,2,0)),\"\",(VLOOKUP(A43,Machines!$B:$F,2,0)))","v":""},null,null,null,null,null,null,null,null,null,null,null,null,{"$f":"IF(ISNA(VLOOKUP(A43,Machines!$B:$F,4,0)),\"\",(VLOOKUP(A43,Machines!$B:$F,4,0)))","v":""}]
[null,null,null,{"$f":"IF(ISNA(VLOOKUP(A44,Machines!$B:$F,2,0)),\"\",(VLOOKUP(A44,Machines!$B:$F,2,0)))","v":""},null,null,null,null,null,null,null,null,null,null,null,null,{"$f":"IF(ISNA(VLOOKUP(A44,Machines!$B:$F,4,0)),\"\",(VLOOKUP(A44,Machines!$B:$F,4,0)))","v":""}]
[null,null,null,{"$f":"IF(ISNA(VLOOKUP(A45,Machines!$B:$F,2,0)),\"\",(VLOOKUP(A45,Machines!$B:$F,2,0)))","v":""},null,null,null,null,null,null,null,null,null,null,null,null,{"$f":"IF(ISNA(VLOOKUP(A45,Machines!$B:$F,4,0)),\"\",(VLOOKUP(A45,Machines!$B:$F,4,0)))","v":""}]
[null,null,null,{"$f":"IF(ISNA(VLOOKUP(A46,Machines!$B:$F,2,0)),\"\",(VLOOKUP(A46,Machines!$B:$F,2,0)))","v":""},null,null,null,null,null,null,null,null,null,null,null,null,{"$f":"IF(ISNA(VLOOKUP(A46,Machines!$B:$F,4,0)),\"\",(VLOOKUP(A46,Machines!$B:$F,4,0)))","v":""}]
[null,null,null,{"$f":"IF(ISNA(VLOOKUP(A47,Machines!$B:$F,2,0)),\"\",(VLOOKUP(A47,Machines!$B:$F,2,0)))","v":""},null,null,null,null,null,null,null,null,null,null,null,null,{"$f":"IF(ISNA(VLOOKUP(A47,Machines!$B:$F,4,0)),\"\",(VLOOKUP(A47,Machines!$B:$F,4,0)))","v":""}]
[null,null,null,{"$f":"IF(ISNA(VLOOKUP(A48,Machines!$B:$F,2,0)),\"\",(VLOOKUP(A48,Machines!$B:$F,2,0)))","v":""},null,null,null,null,null,null,null,null,null,null,null,null,{"$f":"IF(ISNA(VLOOKUP(A48,Machines!$B:$F,4,0)),\"\",(VLOOKUP(A48,Machines!$B:$F,4,0)))","v":""}]
[null,null,null,{"$f":"IF(ISNA(VLOOKUP(A49,Machines!$B:$F,2,0)),\"\",(VLOOKUP(A49,Machines!$B:$F,2,0)))","v":""},null,null,null,null,null,null,null,null,null,null,null,null,{"$f":"IF(ISNA(VLOOKUP(A49,Machines!$B:$F,4,0)),\"\",(VLOOKUP(A49,Machines!$B:$F,4,0)))","v":""}]
[null,null,null,{"$f":"IF(ISNA(VLOOKUP(A50,Machines!$B:$F,2,0)),\"\",(VLOOKUP(A50,Machines!$B:$F,2,0)))","v":""},null,null,null,null,null,null,null,null,null,null,null,null,{"$f":"IF(ISNA(VLOOKUP(A50,Machines!$B:$F,4,0)),\"\",(VLOOKUP(A50,Machines!$B:$F,4,0)))","v":""}]
[null,null,null,{"$f":"IF(ISNA(VLOOKUP(A51,Machines!$B:$F,2,0)),\"\",(VLOOKUP(A51,Machines!$B:$F,2,0)))","v":""},null,null,null,null,null,null,null,null,null,null,null,null,{"$f":"IF(ISNA(VLOOKUP(A51,Machines!$B:$F,4,0)),\"\",(VLOOKUP(A51,Machines!$B:$F,4,0)))","v":""}]
[null,null,null,{"$f":"IF(ISNA(VLOOKUP(A52,Machines!$B:$F,2,0)),\"\",(VLOOKUP(A52,Machines!$B:$F,2,0)))","v":""},null,null,null,null,null,null,null,null,null,null,null,null,{"$f":"IF(ISNA(VLOOKUP(A52,Machines!$B:$F,4,0)),\"\",(VLOOKUP(A52,Machines!$B:$F,4,0)))","v":""}]
[null,null,null,{"$f":"IF(ISNA(VLOOKUP(A53,Machines!$B:$F,2,0)),\"\",(VLOOKUP(A53,Machines!$B:$F,2,0)))","v":""},null,null,null,null,null,null,null,null,null,null,null,null,{"$f":"IF(ISNA(VLOOKUP(A53,Machines!$B:$F,4,0)),\"\",(VLOOKUP(A53,Machines!$B:$F,4,0)))","v":""}]
[null,null,null,{"$f":"IF(ISNA(VLOOKUP(A54,Machines!$B:$F,2,0)),\"\",(VLOOKUP(A54,Machines!$B:$F,2,0)))","v":""},null,null,null,null,null,null,null,null,null,null,null,null,{"$f":"IF(ISNA(VLOOKUP(A54,Machines!$B:$F,4,0)),\"\",(VLOOKUP(A54,Machines!$B:$F,4,0)))","v":""}]
[null,null,null,{"$f":"IF(ISNA(VLOOKUP(A55,Machines!$B:$F,2,0)),\"\",(VLOOKUP(A55,Machines!$B:$F,2,0)))","v":""},null,null,null,null,null,null,null,null,null,null,null,null,{"$f":"IF(ISNA(VLOOKUP(A55,Machines!$B:$F,4,0)),\"\",(VLOOKUP(A55,Machines!$B:$F,4,0)))","v":""}]
[null,null,null,{"$f":"IF(ISNA(VLOOKUP(A56,Machines!$B:$F,2,0)),\"\",(VLOOKUP(A56,Machines!$B:$F,2,0)))","v":""},null,null,null,null,null,null,null,null,null,null,null,null,{"$f":"IF(ISNA(VLOOKUP(A56,Machines!$B:$F,4,0)),\"\",(VLOOKUP(A56,Machines!$B:$F,4,0)))","v":""}]
[null,null,null,{"$f":"IF(ISNA(VLOOKUP(A57,Machines!$B:$F,2,0)),\"\",(VLOOKUP(A57,Machines!$B:$F,2,0)))","v":""},null,null,null,null,null,null,null,null,null,null,null,null,{"$f":"IF(ISNA(VLOOKUP(A57,Machines!$B:$F,4,0)),\"\",(VLOOKUP(A57,Machines!$B:$F,4,0)))","v":""}]
[null,null,null,{"$f":"IF(ISNA(VLOOKUP(A58,Machines!$B:$F,2,0)),\"\",(VLOOKUP(A58,Machines!$B:$F,2,0)))","v":""},null,null,null,null,null,null,null,null,null,null,null,null,{"$f":"IF(ISNA(VLOOKUP(A58,Machines!$B:$F,4,0)),\"\",(VLOOKUP(A58,Machines!$B:$F,4,0)))","v":""}]
[null,null,null,{"$f":"IF(ISNA(VLOOKUP(A59,Machines!$B:$F,2,0)),\"\",(VLOOKUP(A59,Machines!$B:$F,2,0)))","v":""},null,null,null,null,null,null,null,null,null,null,null,null,{"$f":"IF(ISNA(VLOOKUP(A59,Machines!$B:$F,4,0)),\"\",(VLOOKUP(A59,Machines!$B:$F,4,0)))","v":""}]
[null,null,null,{"$f":"IF(ISNA(VLOOKUP(A60,Machines!$B:$F,2,0)),\"\",(VLOOKUP(A60,Machines!$B:$F,2,0)))","v":""},null,null,null,null,null,null,null,null,null,null,null,null,{"$f":"IF(ISNA(VLOOKUP(A60,Machines!$B:$F,4,0)),\"\",(VLOOKUP(A60,Machines!$B:$F,4,0)))","v":""}]
[null,null,null,{"$f":"IF(ISNA(VLOOKUP(A61,Machines!$B:$F,2,0)),\"\",(VLOOKUP(A61,Machines!$B:$F,2,0)))","v":""},null,null,null,null,null,null,null,null,null,null,null,null,{"$f":"IF(ISNA(VLOOKUP(A61,Machines!$B:$F,4,0)),\"\",(VLOOKUP(A61,Machines!$B:$F,4,0)))","v":""}]
[null,null,null,{"$f":"IF(ISNA(VLOOKUP(A62,Machines!$B:$F,2,0)),\"\",(VLOOKUP(A62,Machines!$B:$F,2,0)))","v":""},null,null,null,null,null,null,null,null,null,null,null,null,{"$f":"IF(ISNA(VLOOKUP(A62,Machines!$B:$F,4,0)),\"\",(VLOOKUP(A62,Machines!$B:$F,4,0)))","v":""}]
[null,null,null,{"$f":"IF(ISNA(VLOOKUP(A63,Machines!$B:$F,2,0)),\"\",(VLOOKUP(A63,Machines!$B:$F,2,0)))","v":""},null,null,null,null,null,null,null,null,null,null,null,null,{"$f":"IF(ISNA(VLOOKUP(A63,Machines!$B:$F,4,0)),\"\",(VLOOKUP(A63,Machines!$B:$F,4,0)))","v":""}]
[null,null,null,{"$f":"IF(ISNA(VLOOKUP(A64,Machines!$B:$F,2,0)),\"\",(VLOOKUP(A64,Machines!$B:$F,2,0)))","v":""},null,null,null,null,null,null,null,null,null,null,null,null,{"$f":"IF(ISNA(VLOOKUP(A64,Machines!$B:$F,4,0)),\"\",(VLOOKUP(A64,Machines!$B:$F,4,0)))","v":""}]
[null,null,null,{"$f":"IF(ISNA(VLOOKUP(A65,Machines!$B:$F,2,0)),\"\",(VLOOKUP(A65,Machines!$B:$F,2,0)))","v":""},null,null,null,null,null,null,null,null,null,null,null,null,{"$f":"IF(ISNA(VLOOKUP(A65,Machines!$B:$F,4,0)),\"\",(VLOOKUP(A65,Machines!$B:$F,4,0)))","v":""}]
[null,null,null,{"$f":"IF(ISNA(VLOOKUP(A66,Machines!$B:$F,2,0)),\"\",(VLOOKUP(A66,Machines!$B:$F,2,0)))","v":""},null,null,null,null,null,null,null,null,null,null,null,null,{"$f":"IF(ISNA(VLOOKUP(A66,Machines!$B:$F,4,0)),\"\",(VLOOKUP(A66,Machines!$B:$F,4,0)))","v":""}]
[null,null,null,{"$f":"IF(ISNA(VLOOKUP(A67,Machines!$B:$F,2,0)),\"\",(VLOOKUP(A67,Machines!$B:$F,2,0)))","v":""},null,null,null,null,null,null,null,null,null,null,null,null,{"$f":"IF(ISNA(VLOOKUP(A67,Machines!$B:$F,4,0)),\"\",(VLOOKUP(A67,Machines!$B:$F,4,0)))","v":""}]
[null,null,null,{"$f":"IF(ISNA(VLOOKUP(A68,Machines!$B:$F,2,0)),\"\",(VLOOKUP(A68,Machines!$B:$F,2,0)))","v":""},null,null,null,null,null,null,null,null,null,null,null,null,{"$f":"IF(ISNA(VLOOKUP(A68,Machines!$B:$F,4,0)),\"\",(VLOOKUP(A68,Machines!$B:$F,4,0)))","v":""}]
[null,null,null,{"$f":"IF(ISNA(VLOOKUP(A69,Machines!$B:$F,2,0)),\"\",(VLOOKUP(A69,Machines!$B:$F,2,0)))","v":""},null,null,null,null,null,null,null,null,null,null,null,null,{"$f":"IF(ISNA(VLOOKUP(A69,Machines!$B:$F,4,0)),\"\",(VLOOKUP(A69,Machines!$B:$F,4,0)))","v":""}]
[null,null,null,{"$f":"IF(ISNA(VLOOKUP(A70,Machines!$B:$F,2,0)),\"\",(VLOOKUP(A70,Machines!$B:$F,2,0)))","v":""},null,null,null,null,null,null,null,null,null,null,null,null,{"$f":"IF(ISNA(VLOOKUP(A70,Machines!$B:$F,4,0)),\"\",(VLOOKUP(A70,Machines!$B:$F,4,0)))","v":""}]
[null,null,null,{"$f":"IF(ISNA(VLOOKUP(A71,Machines!$B:$F,2,0)),\"\",(VLOOKUP(A71,Machines!$B:$F,2,0)))","v":""},null,null,null,null,null,null,null,null,null,null,null,null,{"$f":"IF(ISNA(VLOOKUP(A71,Machines!$B:$F,4,0)),\"\",(VLOOKUP(A71,Machines!$B:$F,4,0)))","v":""}]
[null,null,null,{"$f":"IF(ISNA(VLOOKUP(A72,Machines!$B:$F,2,0)),\"\",(VLOOKUP(A72,Machines!$B:$F,2,0)))","v":""},null,null,null,null,null,null,null,null,null,null,null,null,{"$f":"IF(ISNA(VLOOKUP(A72,Machines!$B:$F,4,0)),\"\",(VLOOKUP(A72,Machines!$B:$F,4,0)))","v":""}]
[null,null,null,{"$f":"IF(ISNA(VLOOKUP(A73,Machines!$B:$F,2,0)),\"\",(VLOOKUP(A73,Machines!$B:$F,2,0)))","v":""},null,null,null,null,null,null,null,null,null,null,null,null,{"$f":"IF(ISNA(VLOOKUP(A73,Machines!$B:$F,4,0)),\"\",(VLOOKUP(A73,Machines!$B:$F,4,0)))","v":""}]
[null,null,null,{"$f":"IF(ISNA(VLOOKUP(A74,Machines!$B:$F,2,0)),\"\",(VLOOKUP(A74,Machines!$B:$F,2,0)))","v":""},null,null,null,null,null,null,null,null,null,null,null,null,{"$f":"IF(ISNA(VLOOKUP(A74,Machines!$B:$F,4,0)),\"\",(VLOOKUP(A74,Machines!$B:$F,4,0)))","v":""}]
["CHANTIER :",null,null,null,null,{"$f":"F1","v":0},null,null,null,null,null,null,null,null,null,null,null,null,null,null,"N° CHANTIER :",null,null,null,null,null,{"$f":"AA1","v":0},null,null,null,"JOUR :",null,null,null,{"$f":"AI1","v":"Vendredi"},null,null,null,null,null,null,null,null,null,null,null,null,null,null,null,null,"DATES :",null,null,{"$f":"BC1","v":"22-01-16"}]
["MATERIAUX"]
[null,null,null,"Fournisseurs",null,null,null,null,null,null,null,null,null,null,null,null,null,null,"Description des fournitures & matériaux",null,null,null,null,null,null,null,null,null,null,null,null,null,null,null,null,null,null,null,null,null,null,null,null,null,null,null,null,null,null,"Qt totales",null,null,null,"U.",null,"Prix"]
[]
[]
[]
[]
[]
[]
[]
[]
[]
[]
[]
[]
[]
[]
[]
[]
[]
[]
[]
[]
[]
[]
[]
[]
[]
[]
[]
[]
[]
[]
[]
[null,null,null,"RESPONSABLE",null,null,null,null,null,null,null,null,"SIGNATURE",null,null,null,null,null,"DESCRIPTION DES TRAVAUX REALISES CE JOUR",null,null,null,null,null,null,null,null,null,null,null,null,null,null,null,null,null,null,null,null,null,null,null,null,null,null,null,null,null,null,"METEO"]
[null,null,null,"JENNES Loïc"]

{"sheet":"23-01-16","index":29,"n_rows":110,"n_cols":56,"rows_kept":110,"cut":false,"hidden":false,"merged":[[110,18,110,48],[104,3,104,17],[104,18,104,48],[71,0,71,2],[71,3,71,15],[71,16,71,24],[71,25,71,28],[71,30,71,45],[71,46,71,54],[109,18,109,48],[107,18,107,48],[105,3,105,17],[105,18,105,48],[106,3,106,17],[106,18,106,48],[106,49,106,52],[107,49,107,52],[101,53,101,54],[101,3,101,17],[101,18,101,48],[97,3,97,17],[97,18,97,48],[98,3,98,17],[98,18,98,48],[71,55,71,58],[103,3,103,17],[103,18,103,48],[72,0,72,2],[72,3,72,15],[72,16,72,24],[72,25,72,28],[72,30,72,45],[72,46,72,54],[72,55,72,58],[73,0,73,2],[73,3,73,15],[73,16,73,24],[73,25,73,28],[73,30,73,45],[73,46,73,54],[73,55,73,58],[102,3,102,17],[102,18,102,48],[99,3,99,17],[99,18,99,48],[100,3,100,17],[100,18,100,48],[101,49,101,52],[69,0,69,2],[69,3,69,15],[69,16,69,24],[69,25,69,28],[69,30,69,45],[69,46,69,54],[69,55,69,58],[70,0,70,2],[70,3,70,15],[70,16,70,24],[70,25,70,28],[70,30,70,45],[70,46,70,54],[70,55,70,58],[67,0,67,2],[67,3,67,15],[67,16,67,24],[67,25,67,28],[67,30,67,45],[67,46,67,54],[67,55,67,58],[68,0,68,2],[68,3,68,15],[68,16,68,24],[68,25,68,28],[68,30,68,45],[68,46,68,54],[68,55,68,58],[65,0,65,2],[65,3,65,15],[65,16,65,24],[65,25,65,28],[65,30,65,45],[65,46,65,54],[65,55,65,58],[66,0,66,2],[66,3,66,15],[66,16,66,24],[66,25,66,28],[66,30,66,45],[66,46,66,54],[66,55,66,58],[63,0,63,2],[63,3,63,15],[63,16,63,24],[63,25,63,28],[63,30,63,45],[63,46,63,54],[63,55,63,58],[64,0,64,2],[64,3,64,15],[64,16,64,24],[64,25,64,28],[64,30,64,45],[64,46,64,54],[64,55,64,58],[61,0,61,2],[61,3,61,15],[61,16,61,24],[61,25,61,28],[61,30,61,45],[61,46,61,54],[61,55,61,58],[62,0,62,2],[62,3,62,15],[62,16,62,24],[62,25,62,28],[62,30,62,45],[62,46,62,54],[62,55,62,58],[59,0,59,2],[59,3,59,15],[59,16,59,24],[59,25,59,28],[59,30,59,45],[59,46,59,54],[59,55,59,58],[60,0,60,2],[60,3,60,15],[60,16,60,24],[60,25,60,28],[60,30,60,45],[60,46,60,54],[60,55,60,58],[57,0,57,2],[57,3,57,15],[57,16,57,24],[57,25,57,28],[57,30,57,45],[57,46,57,54],[57,55,57,58],[58,0,58,2],[58,3,58,15],[58,16,58,24],[58,25,58,28],[58,30,58,45],[58,46,58,54],[58,55,58,58],[55,0,55,2],[55,3,55,15],[55,16,55,24],[55,25,55,28],[55,30,55,45],[55,46,55,54],[55,55,55,58],[56,0,56,2],[56,3,56,15],[56,16,56,24],[56,25,56,28],[56,30,56,45],[56,46,56,54],[56,55,56,58],[53,0,53,2],[53,3,53,15],[53,16,53,24],[53,25,53,28],[53,30,53,45],[53,46,53,54],[53,55,53,58],[54,0,54,2],[54,3,54,15],[54,16,54,24],[54,25,54,28],[54,30,54,45],[54,46,54,54],[54,55,54,58],[51,0,51,2],[51,3,51,15],[51,16,51,24],[51,25,51,28],[51,30,51,45],[51,46,51,54],[51,55,51,58],[52,0,52,2],[52,3,52,15],[52,16,52,24],[52,25,52,28],[52,30,52,45],[52,46,52,54],[52,55,52,58],[49,0,49,2],[49,3,49,15],[49,16,49,24],[49,25,49,28],[49,30,49,45],[49,46,49,54],[49,55,49,58],[50,0,50,2],[50,3,50,15],[50,16,50,24],[50,25,50,28],[50,30,50,45],[50,46,50,54],[50,55,50,58],[47,0,47,2],[47,3,47,15],[47,16,47,24],[47,25,47,28],[47,30,47,45],[47,46,47,54],[47,55,47,58],[48,0,48,2],[48,3,48,15],[48,16,48,24],[48,25,48,28],[48,30,48,45],[48,46,48,54],[48,55,48,58],[45,0,45,2],[45,3,45,15],[45,16,45,24],[45,25,45,28],[45,30,45,45],[45,46,45,54],[45,55,45,58],[46,0,46,2],[46,3,46,15],[46,16,46,24],[46,25,46,28],[46,30,46,45],[46,46,46,54],[46,55,46,58],[43,0,43,2],[43,3,43,15],[43,16,43,24],[43,25,43,28],[43,30,43,45],[43,46,43,54],[43,55,43,58],[44,0,44,2],[44,3,44,15],[44,16,44,24],[44,25,44,28],[44,30,44,45],[44,46,44,54],[44,55,44,58],[41,25,41,28],[41,30,41,45],[41,46,41,54],[41,55,41,58],[42,0,42,2],[42,3,42,15],[42,16,42,24],[42,25,42,28],[42,30,42,45],[42,46,42,54],[42,55,42,58],[37,0,37,4],[37,5,37,19],[37,20,37,25],[37,26,37,28],[37,30,37,32],[37,34,37,47],[37,51,37,53],[37,54,37,58],[38,0,38,28],[38,29,73,29],[38,30,38,58],[39,0,39,4],[39,6,39,9],[39,12,39,15],[40,0,40,2],[40,3,40,15],[40,16,40,24],[40,25,40,28],[40,30,40,45],[40,46,40,54],[40,55,40,58],[41,0,41,2],[41,3,41,15],[41,16,41,24],[36,0,36,15],[36,16,36,18],[36,19,36,21],[36,22,36,24],[36,25,36,28],[36,30,36,32],[36,33,36,45],[36,46,36,54],[36,55,36,58],[35,0,35,15],[35,16,35,18],[35,19,35,21],[35,22,35,24],[35,25,35,28],[35,30,35,32],[35,33,35,45],[35,46,35,54],[35,55,35,58],[34,0,34,15],[34,16,34,18],[34,19,34,21],[34,22,34,24],[34,25,34,28],[34,30,34,32],[34,33,34,45],[34,46,34,54],[34,55,34,58],[33,0,33,15],[33,16,33,18],[33,19,33,21],[33,22,33,24],[33,25,33,28],[33,30,33,32],[33,33,33,45],[33,46,33,54],[33,55,33,58],[32,0,32,15],[32,16,32,18],[32,19,32,21],[32,22,32,24],[32,25,32,28],[32,30,32,32],[32,33,32,45],[32,46,32,54],[32,55,32,58],[31,0,31,15],[31,16,31,18],[31,19,31,21],[31,22,31,24],[31,25,31,28],[31,30,31,32],[31,33,31,45],[31,46,31,54],[31,55,31,58],[30,0,30,15],[30,16,30,18],[30,19,30,21],[30,22,30,24],[30,25,30,28],[30,30,30,32],[30,33,30,45],[30,46,30,54],[30,55,30,58],[29,0,29,15],[29,16,29,18],[29,19,29,21],[29,22,29,24],[29,25,29,28],[29,30,29,32],[29,33,29,45],[29,46,29,54],[29,55,29,58],[28,0,28,15],[28,16,28,18],[28,19,28,21],[28,22,28,24],[28,25,28,28],[28,30,28,32],[28,33,28,45],[28,46,28,54],[28,55,28,58],[27,0,27,15],[27,16,27,18],[27,19,27,21],[27,22,27,24],[27,25,27,28],[27,30,27,32],[27,33,27,45],[27,46,27,54],[27,55,27,58],[26,0,26,15],[26,16,26,18],[26,19,26,21],[26,22,26,24],[26,25,26,28],[26,30,26,32],[26,33,26,45],[26,46,26,54],[26,55,26,58],[25,0,25,15],[25,16,25,18],[25,19,25,21],[25,22,25,24],[25,25,25,28],[25,30,25,32],[25,33,25,45],[25,46,25,54],[25,55,25,58],[24,0,24,15],[24,16,24,18],[24,19,24,21],[24,22,24,24],[24,25,24,28],[24,30,24,32],[24,33,24,45],[24,46,24,54],[24,55,24,58],[23,0,23,15],[23,16,23,18],[23,19,23,21],[23,22,23,24],[23,25,23,28],[23,30,23,32],[23,33,23,45],[23,46,23,54],[23,55,23,58],[22,0,22,15],[22,16,22,18],[22,19,22,21],[22,22,22,24],[22,25,22,28],[22,30,22,32],[22,33,22,45],[22,46,22,54],[22,55,22,58],[21,0,21,15],[21,16,21,18],[21,19,21,21],[21,22,21,24],[21,25,21,28],[21,30,21,32],[21,33,21,45],[21,46,21,54],[21,55,21,58],[20,0,20,15],[20,16,20,18],[20,19,20,21],[20,22,20,24],[20,25,20,28],[20,30,20,32],[20,33,20,45],[20,46,20,54],[20,55,20,58],[19,0,19,15],[19,16,19,18],[19,19,19,21],[19,22,19,24],[19,25,19,28],[19,30,19,32],[19,33,19,45],[19,46,19,54],[19,55,19,58],[18,0,18,15],[18,16,18,18],[18,19,18,21],[18,22,18,24],[18,25,18,28],[18,30,18,32],[18,33,18,45],[18,46,18,54],[18,55,18,58],[17,0,17,15],[17,16,17,18],[17,19,17,21],[17,22,17,24],[17,25,17,28],[17,30,17,32],[17,33,17,45],[17,46,17,54],[17,55,17,58],[16,0,16,15],[16,16,16,18],[16,19,16,21],[16,22,16,24],[16,25,16,28],[16,30,16,32],[16,33,16,45],[16,46,16,54],[16,55,16,58],[15,0,15,15],[15,16,15,18],[15,19,15,21],[15,22,15,24],[15,25,15,28],[15,30,15,32],[15,33,15,45],[15,46,15,54],[15,55,15,58],[14,0,14,15],[14,16,14,18],[14,19,14,21],[14,22,14,24],[14,25,14,28],[14,30,14,32],[14,33,14,45],[14,46,14,54],[14,55,14,58],[13,0,13,15],[13,16,13,18],[13,19,13,21],[13,22,13,24],[13,25,13,28],[13,30,13,32],[13,33,13,45],[13,46,13,54],[13,55,13,58],[12,0,12,15],[12,16,12,18],[12,19,12,21],[12,22,12,24],[12,25,12,28],[12,30,12,32],[12,33,12,45],[12,46,12,54],[12,55,12,58],[11,0,11,15],[11,16,11,18],[11,19,11,21],[11,22,11,24],[11,25,11,28],[11,30,11,32],[11,33,11,45],[11,46,11,54],[11,55,11,58],[10,0,10,15],[10,16,10,18],[10,19,10,21],[10,22,10,24],[10,25,10,28],[10,30,10,32],[10,33,10,45],[10,46,10,54],[10,55,10,58],[9,0,9,15],[9,16,9,18],[9,19,9,21],[9,22,9,24],[9,25,9,28],[9,30,9,32],[9,33,9,45],[9,46,9,54],[9,55,9,58],[8,0,8,15],[8,16,8,18],[8,19,8,21],[8,22,8,24],[8,25,8,28],[8,30,8,32],[8,33,8,45],[8,46,8,54],[8,55,8,58],[6,30,6,32],[6,33,6,45],[6,46,6,54],[6,55,6,58],[7,0,7,15],[7,16,7,18],[7,19,7,21],[7,22,7,24],[7,25,7,28],[7,30,7,32],[7,33,7,45],[7,46,7,54],[7,55,7,58],[4,55,4,58],[5,0,5,15],[5,16,5,18],[5,19,5,21],[5,22,5,24],[5,25,5,28],[5,30,5,32],[5,33,5,45],[5,46,5,54],[5,55,5,58],[0,51,0,53],[0,54,0,58],[1,0,1,28],[1,29,36,29],[1,30,1,58],[2,0,2,4],[2,7,2,10],[2,13,2,16],[2,19,2,22],[2,25,2,28],[2,30,2,34],[2,36,2,39],[2,42,2,45],[3,0,3,15],[3,16,3,18],[3,19,3,21],[3,22,3,24],[3,25,3,28],[3,30,3,32],[3,33,3,45],[3,46,3,54],[3,55,3,58],[4,0,4,15],[4,16,4,18],[111,18,111,48],[108,18,108,48],[108,3,108,11],[108,12,108,17],[109,3,111,11],[109,12,111,17],[0,0,0,4],[0,5,0,19],[0,20,0,25],[0,26,0,28],[0,30,0,32],[0,34,0,47],[4,19,4,21],[4,22,4,24],[4,25,4,28],[4,30,4,32],[4,33,4,45],[4,46,4,54],[6,0,6,15],[6,16,6,18],[6,19,6,21],[6,22,6,24],[6,25,6,28],[107,3,107,17],[101,55,101,58],[102,49,102,52],[102,53,102,54],[102,55,102,58],[99,55,99,58],[100,49,100,52],[100,53,100,54],[100,55,100,58],[95,53,95,54],[95,55,95,58],[96,49,96,52],[96,53,96,54],[96,55,96,58],[97,49,97,52],[97,53,97,54],[99,49,99,52],[99,53,99,54],[95,3,95,17],[95,18,95,48],[96,3,96,17],[96,18,96,48],[95,49,95,52],[97,55,97,58],[98,49,98,52],[98,53,98,54],[98,55,98,58],[94,3,94,17],[94,18,94,48],[91,3,91,17],[91,18,91,48],[92,3,92,17],[92,18,92,48],[93,49,93,52],[93,53,93,54],[93,55,93,58],[94,49,94,52],[94,53,94,54],[94,55,94,58],[91,55,91,58],[92,49,92,52],[92,53,92,54],[92,55,92,58],[87,53,87,54],[87,55,87,58],[88,49,88,52],[88,53,88,54],[88,55,88,58],[89,49,89,52],[89,53,89,54],[93,3,93,17],[93,18,93,48],[89,3,89,17],[89,18,89,48],[90,3,90,17],[90,18,90,48],[87,3,87,17],[87,18,87,48],[88,3,88,17],[88,18,88,48],[87,49,87,52],[89,55,89,58],[90,49,90,52],[90,53,90,54],[90,55,90,58],[91,49,91,52],[91,53,91,54],[86,3,86,17],[86,18,86,48],[83,3,83,17],[83,18,83,48],[84,3,84,17],[84,18,84,48],[85,49,85,52],[85,53,85,54],[85,55,85,58],[86,49,86,52],[86,53,86,54],[86,55,86,58],[83,55,83,58],[84,49,84,52],[84,53,84,54],[84,55,84,58],[79,53,79,54],[79,55,79,58],[80,49,80,52],[80,53,80,54],[80,55,80,58],[81,49,81,52],[81,53,81,54],[85,3,85,17],[85,18,85,48],[81,3,81,17],[81,18,81,48],[82,3,82,17],[82,18,82,48],[79,3,79,17],[79,18,79,48],[80,3,80,17],[80,18,80,48],[79,49,79,52],[81,55,81,58],[82,49,82,52],[82,53,82,54],[82,55,82,58],[83,49,83,52],[83,53,83,54],[74,54,74,58],[75,0,75,58],[76,49,76,52],[76,53,76,54],[76,55,76,58],[77,3,77,17],[77,18,77,48],[78,3,78,17],[78,18,78,48],[77,49,77,52],[77,53,77,54],[77,55,77,58],[78,49,78,52],[78,53,78,54],[78,55,78,58],[76,3,76,17],[76,18,76,48],[74,0,74,4],[74,5,74,19],[74,20,74,25],[74,26,74,28],[74,30,74,32],[74,34,74,47],[74,51,74,53],[108,49,108,58],[109,49,111,58],[103,49,103,52],[103,53,103,54],[103,55,103,58],[104,49,104,52],[104,53,104,54],[104,55,104,58],[105,49,105,52],[105,53,105,54],[105,55,105,58],[106,53,106,54],[106,55,106,58],[107,53,107,54],[107,55,107,58]]}
["CHANTIER :",null,null,null,null,{"$f":"'01-01-16'!F1","v":0},null,null,null,null,null,null,null,null,null,null,null,null,null,null,"N° CHANTIER :",null,null,null,null,null,{"$f":"'01-01-16'!AA1","v":0},null,null,null,"JOUR :",null,null,null,{"$f":" CHOOSE(WEEKDAY(BC1,2),\"Lundi\",\"Mardi\",\"Mercredi\",\"Jeudi\",\"Vendredi\",\"Samedi\",\"Dimanche\")","v":"Samedi"},null,null,null,null,null,null,null,null,null,null,null,null,null,null,null,null,"DATES :",null,null,{"$f":"MID(CELL(\"nomfichier\",A1),FIND(\"]\",CELL(\"nomfichier\",A1),1)+1,30)","v":"23-01-16"}]
["MAIN D'ŒUVRE",null,null,null,null,null,null,null,null,null,null,null,null,null,null,null,null,null,null,null,null,null,null,null,null,null,null,null,null,null,"CAMIONS"]
["Légende :",null,null,null,null,null,"Co",".= Congé",null,null,null,null,"M",".= Malade",null,null,null,null,"Cho",".= Chômage",null,null,null,null,"Va",".= Vacance",null,null,null,null,"Légende :",null,null,null,null,"Pa",".= Panne",null,null,null,null,"Ent",".= Entretien"]
["NOM - Prénom du travailleur",null,null,null,null,null,null,null,null,null,null,null,null,null,null,null,"Début journée",null,null,"Arrêt repas",null,null,"Fin journée",null,null,"Heures prestées",null,null,null,null,"N°",null,null,"Description du matériel",null,null,null,null,null,null,null,null,null,null,null,null,"Nom de l'opérateur",null,null,null,null,null,null,null,null,"Heures"]
[null,null,null,null,null,null,null,null,null,null,null,null,null,null,null,null,null,null,null,null,null,null,null,null,null,{"$f":"W5-Q5-T5","v":0},null,null,null,null,null,null,null,{"$f":"IF(ISNA(VLOOKUP(AE5,Camions!$B:$F,2,0)),\"\",(VLOOKUP(AE5,Camions!$B:$F,2,0)))","v":""},null,null,null,null,null,null,null,null,null,null,null,null,{"$f":"IF(ISNA(VLOOKUP(AE5,Camions!$B:$F,4,0)),\"\",(VLOOKUP(AE5,Camions!$B:$F,4,0)))","v":""}]
[null,null,null,null,null,null,null,null,null,null,null,null,null,null,null,null,null,null,null,null,null,null,null,null,null,{"$f":"W6-Q6-T6","v":0},null,null,null,null,null,null,null,{"$f":"IF(ISNA(VLOOKUP(AE6,Camions!$B:$F,2,0)),\"\",(VLOOKUP(AE6,Camions!$B:$F,2,0)))","v":""},null,null,null,null,null,null,null,null,null,null,null,null,{"$f":"IF(ISNA(VLOOKUP(AE6,Camions!$B:$F,4,0)),\"\",(VLOOKUP(AE6,Camions!$B:$F,4,0)))","v":""}]
[null,null,null,null,null,null,null,null,null,null,null,null,null,null,null,null,null,null,null,null,null,null,null,null,null,0,null,null,null,null,null,null,null,{"$f":"IF(ISNA(VLOOKUP(AE7,Camions!$B:$F,2,0)),\"\",(VLOOKUP(AE7,Camions!$B:$F,2,0)))","v":""},null,null,null,null,null,null,null,null,null,null,null,null,{"$f":"IF(ISNA(VLOOKUP(AE7,Camions!$B:$F,4,0)),\"\",(VLOOKUP(AE7,Camions!$B:$F,4,0)))","v":""}]
[null,null,null,null,null,null,null,null,null,null,null,null,null,null,null,null,null,null,null,null,null,null,null,null,null,0,null,null,null,null,null,null,null,{"$f":"IF(ISNA(VLOOKUP(AE8,Camions!$B:$F,2,0)),\"\",(VLOOKUP(AE8,Camions!$B:$F,2,0)))","v":""},null,null,null,null,null,null,null,null,null,null,null,null,{"$f":"IF(ISNA(VLOOKUP(AE8,Camions!$B:$F,4,0)),\"\",(VLOOKUP(AE8,Camions!$B:$F,4,0)))","v":""}]
[null,null,null,null,null,null,null,null,null,null,null,null,null,null,null,null,null,null,null,null,null,null,null,null,null,0,null,null,null,null,null,null,null,{"$f":"IF(ISNA(VLOOKUP(AE9,Camions!$B:$F,2,0)),\"\",(VLOOKUP(AE9,Camions!$B:$F,2,0)))","v":""},null,null,null,null,null,null,null,null,null,null,null,null,{"$f":"IF(ISNA(VLOOKUP(AE9,Camions!$B:$F,4,0)),\"\",(VLOOKUP(AE9,Camions!$B:$F,4,0)))","v":""}]
[null,null,null,null,null,null,null,null,null,null,null,null,null,null,null,null,null,null,null,null,null,null,null,null,null,0,null,null,null,null,null,null,null,{"$f":"IF(ISNA(VLOOKUP(AE10,Camions!$B:$F,2,0)),\"\",(VLOOKUP(AE10,Camions!$B:$F,2,0)))","v":""},null,null,null,null,null,null,null,null,null,null,null,null,{"$f":"IF(ISNA(VLOOKUP(AE10,Camions!$B:$F,4,0)),\"\",(VLOOKUP(AE10,Camions!$B:$F,4,0)))","v":""}]
[null,null,null,null,null,null,null,null,null,null,null,null,null,null,null,null,null,null,null,null,null,null,null,null,null,0,null,null,null,null,null,null,null,{"$f":"IF(ISNA(VLOOKUP(AE11,Camions!$B:$F,2,0)),\"\",(VLOOKUP(AE11,Camions!$B:$F,2,0)))","v":""},null,null,null,null,null,null,null,null,null,null,null,null,{"$f":"IF(ISNA(VLOOKUP(AE11,Camions!$B:$F,4,0)),\"\",(VLOOKUP(AE11,Camions!$B:$F,4,0)))","v":""}]
[null,null,null,null,null,null,null,null,null,null,null,null,null,null,null,null,null,null,null,null,null,null,null,null,null,0,null,null,null,null,null,null,null,{"$f":"IF(ISNA(VLOOKUP(AE12,Camions!$B:$F,2,0)),\"\",(VLOOKUP(AE12,Camions!$B:$F,2,0)))","v":""},null,null,null,null,null,null,null,null,null,null,null,null,{"$f":"IF(ISNA(VLOOKUP(AE12,Camions!$B:$F,4,0)),\"\",(VLOOKUP(AE12,Camions!$B:$F,4,0)))","v":""}]
[null,null,null,null,null,null,null,null,null,null,null,null,null,null,null,null,null,null,null,null,null,null,null,null,null,0,null,null,null,null,null,null,null,{"$f":"IF(ISNA(VLOOKUP(AE13,Camions!$B:$F,2,0)),\"\",(VLOOKUP(AE13,Camions!$B:$F,2,0)))","v":""},null,null,null,null,null,null,null,null,null,null,null,null,{"$f":"IF(ISNA(VLOOKUP(AE13,Camions!$B:$F,4,0)),\"\",(VLOOKUP(AE13,Camions!$B:$F,4,0)))","v":""}]
[null,null,null,null,null,null,null,null,null,null,null,null,null,null,null,null,null,null,null,null,null,null,null,null,null,0,null,null,null,null,null,null,null,{"$f":"IF(ISNA(VLOOKUP(AE14,Camions!$B:$F,2,0)),\"\",(VLOOKUP(AE14,Camions!$B:$F,2,0)))","v":""},null,null,null,null,null,null,null,null,null,null,null,null,{"$f":"IF(ISNA(VLOOKUP(AE14,Camions!$B:$F,4,0)),\"\",(VLOOKUP(AE14,Camions!$B:$F,4,0)))","v":""}]
[null,null,null,null,null,null,null,null,null,null,null,null,null,null,null,null,null,null,null,null,null,null,null,null,null,0,null,null,null,null,null,null,null,{"$f":"IF(ISNA(VLOOKUP(AE15,Camions!$B:$F,2,0)),\"\",(VLOOKUP(AE15,Camions!$B:$F,2,0)))","v":""},null,null,null,null,null,null,null,null,null,null,null,null,{"$f":"IF(ISNA(VLOOKUP(AE15,Camions!$B:$F,4,0)),\"\",(VLOOKUP(AE15,Camions!$B:$F,4,0)))","v":""}]
[null,null,null,null,null,null,null,null,null,null,null,null,null,null,null,null,null,null,null,null,null,null,null,null,null,0,null,null,null,null,null,null,null,{"$f":"IF(ISNA(VLOOKUP(AE16,Camions!$B:$F,2,0)),\"\",(VLOOKUP(AE16,Camions!$B:$F,2,0)))","v":""},null,null,null,null,null,null,null,null,null,null,null,null,{"$f":"IF(ISNA(VLOOKUP(AE16,Camions!$B:$F,4,0)),\"\",(VLOOKUP(AE16,Camions!$B:$F,4,0)))","v":""}]
[null,null,null,null,null,null,null,null,null,null,null,null,null,null,null,null,null,null,null,null,null,null,null,null,null,0,null,null,null,null,null,null,null,{"$f":"IF(ISNA(VLOOKUP(AE17,Camions!$B:$F,2,0)),\"\",(VLOOKUP(AE17,Camions!$B:$F,2,0)))","v":""},null,null,null,null,null,null,null,null,null,null,null,null,{"$f":"IF(ISNA(VLOOKUP(AE17,Camions!$B:$F,4,0)),\"\",(VLOOKUP(AE17,Camions!$B:$F,4,0)))","v":""}]
[null,null,null,null,null,null,null,null,null,null,null,null,null,null,null,null,null,null,null,null,null,null,null,null,null,0,null,null,null,null,null,null,null,{"$f":"IF(ISNA(VLOOKUP(AE18,Camions!$B:$F,2,0)),\"\",(VLOOKUP(AE18,Camions!$B:$F,2,0)))","v":""},null,null,null,null,null,null,null,null,null,null,null,null,{"$f":"IF(ISNA(VLOOKUP(AE18,Camions!$B:$F,4,0)),\"\",(VLOOKUP(AE18,Camions!$B:$F,4,0)))","v":""}]
[null,null,null,null,null,null,null,null,null,null,null,null,null,null,null,null,null,null,null,null,null,null,null,null,null,0,null,null,null,null,null,null,null,{"$f":"IF(ISNA(VLOOKUP(AE19,Camions!$B:$F,2,0)),\"\",(VLOOKUP(AE19,Camions!$B:$F,2,0)))","v":""},null,null,null,null,null,null,null,null,null,null,null,null,{"$f":"IF(ISNA(VLOOKUP(AE19,Camions!$B:$F,4,0)),\"\",(VLOOKUP(AE19,Camions!$B:$F,4,0)))","v":""}]
[null,null,null,null,null,null,null,null,null,null,null,null,null,null,null,null,null,null,null,null,null,null,null,null,null,0,null,null,null,null,null,null,null,{"$f":"IF(ISNA(VLOOKUP(AE20,Camions!$B:$F,2,0)),\"\",(VLOOKUP(AE20,Camions!$B:$F,2,0)))","v":""},null,null,null,null,null,null,null,null,null,null,null,null,{"$f":"IF(ISNA(VLOOKUP(AE20,Camions!$B:$F,4,0)),\"\",(VLOOKUP(AE20,Camions!$B:$F,4,0)))","v":""}]
[null,null,null,null,null,null,null,null,null,null,null,null,null,null,null,null,null,null,null,null,null,null,null,null,null,0,null,null,null,null,null,null,null,{"$f":"IF(ISNA(VLOOKUP(AE21,Camions!$B:$F,2,0)),\"\",(VLOOKUP(AE21,Camions!$B:$F,2,0)))","v":""},null,null,null,null,null,null,null,null,null,null,null,null,{"$f":"IF(ISNA(VLOOKUP(AE21,Camions!$B:$F,4,0)),\"\",(VLOOKUP(AE21,Camions!$B:$F,4,0)))","v":""}]
[null,null,null,null,null,null,null,null,null,null,null,null,null,null,null,null,null,null,null,null,null,null,null,null,null,0,null,null,null,null,null,null,null,{"$f":"IF(ISNA(VLOOKUP(AE22,Camions!$B:$F,2,0)),\"\",(VLOOKUP(AE22,Camions!$B:$F,2,0)))","v":""},null,null,null,null,null,null,null,null,null,null,null,null,{"$f":"IF(ISNA(VLOOKUP(AE22,Camions!$B:$F,4,0)),\"\",(VLOOKUP(AE22,Camions!$B:$F,4,0)))","v":""}]
[null,null,null,null,null,null,null,null,null,null,null,null,null,null,null,null,null,null,null,null,null,null,null,null,null,0,null,null,null,null,null,null,null,{"$f":"IF(ISNA(VLOOKUP(AE23,Camions!$B:$F,2,0)),\"\",(VLOOKUP(AE23,Camions!$B:$F,2,0)))","v":""},null,null,null,null,null,null,null,null,null,null,null,null,{"$f":"IF(ISNA(VLOOKUP(AE23,Camions!$B:$F,4,0)),\"\",(VLOOKUP(AE23,Camions!$B:$F,4,0)))","v":""}]
[null,null,null,null,null,null,null,null,null,null,null,null,null,null,null,null,null,null,null,null,null,null,null,null,null,0,null,null,null,null,null,null,null,{"$f":"IF(ISNA(VLOOKUP(AE24,Camions!$B:$F,2,0)),\"\",(VLOOKUP(AE24,Camions!$B:$F,2,0)))","v":""},null,null,null,null,null,null,null,null,null,null,null,null,{"$f":"IF(ISNA(VLOOKUP(AE24,Camions!$B:$F,4,0)),\"\",(VLOOKUP(AE24,Camions!$B:$F,4,0)))","v":""}]
[null,null,null,null,null,null,null,null,null,null,null,null,null,null,null,null,null,null,null,null,null,null,null,null,null,0,null,null,null,null,null,null,null,{"$f":"IF(ISNA(VLOOKUP(AE25,Camions!$B:$F,2,0)),\"\",(VLOOKUP(AE25,Camions!$B:$F,2,0)))","v":""},null,null,null,null,null,null,null,null,null,null,null,null,{"$f":"IF(ISNA(VLOOKUP(AE25,Camions!$B:$F,4,0)),\"\",(VLOOKUP(AE25,Camions!$B:$F,4,0)))","v":""}]
[null,null,null,null,null,null,null,null,null,null,null,null,null,null,null,null,null,null,null,null,null,null,null,null,null,0,null,null,null,null,null,null,null,{"$f":"IF(ISNA(VLOOKUP(AE26,Camions!$B:$F,2,0)),\"\",(VLOOKUP(AE26,Camions!$B:$F,2,0)))","v":""},null,null,null,null,null,null,null,null,null,null,null,null,{"$f":"IF(ISNA(VLOOKUP(AE26,Camions!$B:$F,4,0)),\"\",(VLOOKUP(AE26,Camions!$B:$F,4,0)))","v":""}]
[null,null,null,null,null,null,null,null,null,null,null,null,null,null,null,null,null,null,null,null,null,null,null,null,null,0,null,null,null,null,null,null,null,{"$f":"IF(ISNA(VLOOKUP(AE27,Camions!$B:$F,2,0)),\"\",(VLOOKUP(AE27,Camions!$B:$F,2,0)))","v":""},null,null,null,null,null,null,null,null,null,null,null,null,{"$f":"IF(ISNA(VLOOKUP(AE27,Camions!$B:$F,4,0)),\"\",(VLOOKUP(AE27,Camions!$B:$F,4,0)))","v":""}]
[null,null,null,null,null,null,null,null,null,null,null,null,null,null,null,null,null,null,null,null,null,null,null,null,null,0,null,null,null,null,null,null,null,{"$f":"IF(ISNA(VLOOKUP(AE28,Camions!$B:$F,2,0)),\"\",(VLOOKUP(AE28,Camions!$B:$F,2,0)))","v":""},null,null,null,null,null,null,null,null,null,null,null,null,{"$f":"IF(ISNA(VLOOKUP(AE28,Camions!$B:$F,4,0)),\"\",(VLOOKUP(AE28,Camions!$B:$F,4,0)))","v":""}]
[null,null,null,null,null,null,null,null,null,null,null,null,null,null,null,null,null,null,null,null,null,null,null,null,null,0,null,null,null,null,null,null,null,{"$f":"IF(ISNA(VLOOKUP(AE29,Camions!$B:$F,2,0)),\"\",(VLOOKUP(AE29,Camions!$B:$F,2,0)))","v":""},null,null,null,null,null,null,null,null,null,null,null,null,{"$f":"IF(ISNA(VLOOKUP(AE29,Camions!$B:$F,4,0)),\"\",(VLOOKUP(AE29,Camions!$B:$F,4,0)))","v":""}]
[null,null,null,null,null,null,null,null,null,null,null,null,null,null,null,null,null,null,null,null,null,null,null,null,null,0,null,null,null,null,null,null,null,{"$f":"IF(ISNA(VLOOKUP(AE30,Camions!$B:$F,2,0)),\"\",(VLOOKUP(AE30,Camions!$B:$F,2,0)))","v":""},null,null,null,null,null,null,null,null,null,null,null,null,{"$f":"IF(ISNA(VLOOKUP(AE30,Camions!$B:$F,4,0)),\"\",(VLOOKUP(AE30,Camions!$B:$F,4,0)))","v":""}]
[null,null,null,null,null,null,null,null,null,null,null,null,null,null,null,null,null,null,null,null,null,null,null,null,null,0,null,null,null,null,null,null,null,{"$f":"IF(ISNA(VLOOKUP(AE31,Camions!$B:$F,2,0)),\"\",(VLOOKUP(AE31,Camions!$B:$F,2,0)))","v":""},null,null,null,null,null,null,null,null,null,null,null,null,{"$f":"IF(ISNA(VLOOKUP(AE31,Camions!$B:$F,4,0)),\"\",(VLOOKUP(AE31,Camions!$B:$F,4,0)))","v":""}]
[null,null,null,null,null,null,null,null,null,null,null,null,null,null,null,null,null,null,null,null,null,null,null,null,null,0,null,null,null,null,null,null,null,{"$f":"IF(ISNA(VLOOKUP(AE32,Camions!$B:$F,2,0)),\"\",(VLOOKUP(AE32,Camions!$B:$F,2,0)))","v":""},null,null,null,null,null,null,null,null,null,null,null,null,{"$f":"IF(ISNA(VLOOKUP(AE32,Camions!$B:$F,4,0)),\"\",(VLOOKUP(AE32,Camions!$B:$F,4,0)))","v":""}]
[null,null,null,null,null,null,null,null,null,null,null,null,null,null,null,null,null,null,null,null,null,null,null,null,null,0,null,null,null,null,null,null,null,{"$f":"IF(ISNA(VLOOKUP(AE33,Camions!$B:$F,2,0)),\"\",(VLOOKUP(AE33,Camions!$B:$F,2,0)))","v":""},null,null,null,null,null,null,null,null,null,null,null,null,{"$f":"IF(ISNA(VLOOKUP(AE33,Camions!$B:$F,4,0)),\"\",(VLOOKUP(AE33,Camions!$B:$F,4,0)))","v":""}]
[null,null,null,null,null,null,null,null,null,null,null,null,null,null,null,null,null,null,null,null,null,null,null,null,null,0,null,null,null,null,null,null,null,{"$f":"IF(ISNA(VLOOKUP(AE34,Camions!$B:$F,2,0)),\"\",(VLOOKUP(AE34,Camions!$B:$F,2,0)))","v":""},null,null,null,null,null,null,null,null,null,null,null,null,{"$f":"IF(ISNA(VLOOKUP(AE34,Camions!$B:$F,4,0)),\"\",(VLOOKUP(AE34,Camions!$B:$F,4,0)))","v":""}]
[null,null,null,null,null,null,null,null,null,null,null,null,null,null,null,null,null,null,null,null,null,null,null,null,null,0,null,null,null,null,null,null,null,{"$f":"IF(ISNA(VLOOKUP(AE35,Camions!$B:$F,2,0)),\"\",(VLOOKUP(AE35,Camions!$B:$F,2,0)))","v":""},null,null,null,null,null,null,null,null,null,null,null,null,{"$f":"IF(ISNA(VLOOKUP(AE35,Camions!$B:$F,4,0)),\"\",(VLOOKUP(AE35,Camions!$B:$F,4,0)))","v":""}]
[null,null,null,null,null,null,null,null,null,null,null,null,null,null,null,null,null,null,null,null,null,null,null,null,null,0,null,null,null,null,null,null,null,{"$f":"IF(ISNA(VLOOKUP(AE36,Camions!$B:$F,2,0)),\"\",(VLOOKUP(AE36,Camions!$B:$F,2,0)))","v":""},null,null,null,null,null,null,null,null,null,null,null,null,{"$f":"IF(ISNA(VLOOKUP(AE36,Camions!$B:$F,4,0)),\"\",(VLOOKUP(AE36,Camions!$B:$F,4,0)))","v":""}]
[null,null,null,null,null,null,null,null,null,null,null,null,null,null,null,null,null,null,null,null,null,null,null,null,null,0,null,null,null,null,null,null,null,{"$f":"IF(ISNA(VLOOKUP(AE37,Camions!$B:$F,2,0)),\"\",(VLOOKUP(AE37,Camions!$B:$F,2,0)))","v":""},null,null,null,null,null,null,null,null,null,null,null,null,{"$f":"IF(ISNA(VLOOKUP(AE36,Camions!$B:$F,4,0)),\"\",(VLOOKUP(AE36,Camions!$B:$F,4,0)))","v":""}]
["CHANTIER :",null,null,null,null,{"$f":"F1","v":0},null,null,null,null,null,null,null,null,null,null,null,null,null,null,"N° CHANTIER :",null,null,null,null,null,{"$f":"AA1","v":0},null,null,null,"JOUR :",null,null,null,{"$f":"AI1","v":"Samedi"},null,null,null,null,null,null,null,null,null,null,null,null,null,null,null,null,"DATES :",null,null,{"$f":"BC1","v":"23-01-16"}]
["MATERIEL",null,null,null,null,null,null,null,null,null,null,null,null,null,null,null,null,null,null,null,null,null,null,null,null,null,null,null,null,null,"SOUS-TRAITANTS"]
["Légende :",null,null,null,null,"Pa",".= Panne",null,null,null,null,"Ent",".= Entretien"]
["N°",null,null,"Description du matériel",null,null,null,null,null,null,null,null,null,null,null,null,"Nom de l'opérateur",null,null,null,null,null,null,null,null,"Heures",null,null,null,null,"Type d'engin et description des travaux ",null,null,null,null,null,null,null,null,null,null,null,null,null,null,null,"Sous-traitants",null,null,null,null,null,null,null,null,"Heures"]
[null,null,null,{"$f":"IF(ISNA(VLOOKUP(A42,Machines!$B:$F,2,0)),\"\",(VLOOKUP(A42,Machines!$B:$F,2,0)))","v":""},null,null,null,null,null,null,null,null,null,null,null,null,{"$f":"IF(ISNA(VLOOKUP(A42,Machines!$B:$F,4,0)),\"\",(VLOOKUP(A42,Machines!$B:$F,4,0)))","v":""}]
[null,null,null,{"$f":"IF(ISNA(VLOOKUP(A43,Machines!$B:$F,2,0)),\"\",(VLOOKUP(A43,Machines!$B:$F,2,0)))","v":""},null,null,null,null,null,null,null,null,null,null,null,null,{"$f":"IF(ISNA(VLOOKUP(A43,Machines!$B:$F,4,0)),\"\",(VLOOKUP(A43,Machines!$B:$F,4,0)))","v":""}]
[null,null,null,{"$f":"IF(ISNA(VLOOKUP(A44,Machines!$B:$F,2,0)),\"\",(VLOOKUP(A44,Machines!$B:$F,2,0)))","v":""},null,null,null,null,null,null,null,null,null,null,null,null,{"$f":"IF(ISNA(VLOOKUP(A44,Machines!$B:$F,4,0)),\"\",(VLOOKUP(A44,Machines!$B:$F,4,0)))","v":""}]
[null,null,null,{"$f":"IF(ISNA(VLOOKUP(A45,Machines!$B:$F,2,0)),\"\",(VLOOKUP(A45,Machines!$B:$F,2,0)))","v":""},null,null,null,null,null,null,null,null,null,null,null,null,{"$f":"IF(ISNA(VLOOKUP(A45,Machines!$B:$F,4,0)),\"\",(VLOOKUP(A45,Machines!$B:$F,4,0)))","v":""}]
[null,null,null,{"$f":"IF(ISNA(VLOOKUP(A46,Machines!$B:$F,2,0)),\"\",(VLOOKUP(A46,Machines!$B:$F,2,0)))","v":""},null,null,null,null,null,null,null,null,null,null,null,null,{"$f":"IF(ISNA(VLOOKUP(A46,Machines!$B:$F,4,0)),\"\",(VLOOKUP(A46,Machines!$B:$F,4,0)))","v":""}]
[null,null,null,{"$f":"IF(ISNA(VLOOKUP(A47,Machines!$B:$F,2,0)),\"\",(VLOOKUP(A47,Machines!$B:$F,2,0)))","v":""},null,null,null,null,null,null,null,null,null,null,null,null,{"$f":"IF(ISNA(VLOOKUP(A47,Machines!$B:$F,4,0)),\"\",(VLOOKUP(A47,Machines!$B:$F,4,0)))","v":""}]
[null,null,null,{"$f":"IF(ISNA(VLOOKUP(A48,Machines!$B:$F,2,0)),\"\",(VLOOKUP(A48,Machines!$B:$F,2,0)))","v":""},null,null,null,null,null,null,null,null,null,null,null,null,{"$f":"IF(ISNA(VLOOKUP(A48,Machines!$B:$F,4,0)),\"\",(VLOOKUP(A48,Machines!$B:$F,4,0)))","v":""}]
[null,null,null,{"$f":"IF(ISNA(VLOOKUP(A49,Machines!$B:$F,2,0)),\"\",(VLOOKUP(A49,Machines!$B:$F,2,0)))","v":""},null,null,null,null,null,null,null,null,null,null,null,null,{"$f":"IF(ISNA(VLOOKUP(A49,Machines!$B:$F,4,0)),\"\",(VLOOKUP(A49,Machines!$B:$F,4,0)))","v":""}]
[null,null,null,{"$f":"IF(ISNA(VLOOKUP(A50,Machines!$B:$F,2,0)),\"\",(VLOOKUP(A50,Machines!$B:$F,2,0)))","v":""},null,null,null,null,null,null,null,null,null,null,null,null,{"$f":"IF(ISNA(VLOOKUP(A50,Machines!$B:$F,4,0)),\"\",(VLOOKUP(A50,Machines!$B:$F,4,0)))","v":""}]
[null,null,null,{"$f":"IF(ISNA(VLOOKUP(A51,Machines!$B:$F,2,0)),\"\",(VLOOKUP(A51,Machines!$B:$F,2,0)))","v":""},null,null,null,null,null,null,null,null,null,null,null,null,{"$f":"IF(ISNA(VLOOKUP(A51,Machines!$B:$F,4,0)),\"\",(VLOOKUP(A51,Machines!$B:$F,4,0)))","v":""}]
[null,null,null,{"$f":"IF(ISNA(VLOOKUP(A52,Machines!$B:$F,2,0)),\"\",(VLOOKUP(A52,Machines!$B:$F,2,0)))","v":""},null,null,null,null,null,null,null,null,null,null,null,null,{"$f":"IF(ISNA(VLOOKUP(A52,Machines!$B:$F,4,0)),\"\",(VLOOKUP(A52,Machines!$B:$F,4,0)))","v":""}]
[null,null,null,{"$f":"IF(ISNA(VLOOKUP(A53,Machines!$B:$F,2,0)),\"\",(VLOOKUP(A53,Machines!$B:$F,2,0)))","v":""},null,null,null,null,null,null,null,null,null,null,null,null,{"$f":"IF(ISNA(VLOOKUP(A53,Machines!$B:$F,4,0)),\"\",(VLOOKUP(A53,Machines!$B:$F,4,0)))","v":""}]
[null,null,null,{"$f":"IF(ISNA(VLOOKUP(A54,Machines!$B:$F,2,0)),\"\",(VLOOKUP(A54,Machines!$B:$F,2,0)))","v":""},null,null,null,null,null,null,null,null,null,null,null,null,{"$f":"IF(ISNA(VLOOKUP(A54,Machines!$B:$F,4,0)),\"\",(VLOOKUP(A54,Machines!$B:$F,4,0)))","v":""}]
[null,null,null,{"$f":"IF(ISNA(VLOOKUP(A55,Machines!$B:$F,2,0)),\"\",(VLOOKUP(A55,Machines!$B:$F,2,0)))","v":""},null,null,null,null,null,null,null,null,null,null,null,null,{"$f":"IF(ISNA(VLOOKUP(A55,Machines!$B:$F,4,0)),\"\",(VLOOKUP(A55,Machines!$B:$F,4,0)))","v":""}]
[null,null,null,{"$f":"IF(ISNA(VLOOKUP(A56,Machines!$B:$F,2,0)),\"\",(VLOOKUP(A56,Machines!$B:$F,2,0)))","v":""},null,null,null,null,null,null,null,null,null,null,null,null,{"$f":"IF(ISNA(VLOOKUP(A56,Machines!$B:$F,4,0)),\"\",(VLOOKUP(A56,Machines!$B:$F,4,0)))","v":""}]
[null,null,null,{"$f":"IF(ISNA(VLOOKUP(A57,Machines!$B:$F,2,0)),\"\",(VLOOKUP(A57,Machines!$B:$F,2,0)))","v":""},null,null,null,null,null,null,null,null,null,null,null,null,{"$f":"IF(ISNA(VLOOKUP(A57,Machines!$B:$F,4,0)),\"\",(VLOOKUP(A57,Machines!$B:$F,4,0)))","v":""}]
[null,null,null,{"$f":"IF(ISNA(VLOOKUP(A58,Machines!$B:$F,2,0)),\"\",(VLOOKUP(A58,Machines!$B:$F,2,0)))","v":""},null,null,null,null,null,null,null,null,null,null,null,null,{"$f":"IF(ISNA(VLOOKUP(A58,Machines!$B:$F,4,0)),\"\",(VLOOKUP(A58,Machines!$B:$F,4,0)))","v":""}]
[null,null,null,{"$f":"IF(ISNA(VLOOKUP(A59,Machines!$B:$F,2,0)),\"\",(VLOOKUP(A59,Machines!$B:$F,2,0)))","v":""},null,null,null,null,null,null,null,null,null,null,null,null,{"$f":"IF(ISNA(VLOOKUP(A59,Machines!$B:$F,4,0)),\"\",(VLOOKUP(A59,Machines!$B:$F,4,0)))","v":""}]
[null,null,null,{"$f":"IF(ISNA(VLOOKUP(A60,Machines!$B:$F,2,0)),\"\",(VLOOKUP(A60,Machines!$B:$F,2,0)))","v":""},null,null,null,null,null,null,null,null,null,null,null,null,{"$f":"IF(ISNA(VLOOKUP(A60,Machines!$B:$F,4,0)),\"\",(VLOOKUP(A60,Machines!$B:$F,4,0)))","v":""}]
[null,null,null,{"$f":"IF(ISNA(VLOOKUP(A61,Machines!$B:$F,2,0)),\"\",(VLOOKUP(A61,Machines!$B:$F,2,0)))","v":""},null,null,null,null,null,null,null,null,null,null,null,null,{"$f":"IF(ISNA(VLOOKUP(A61,Machines!$B:$F,4,0)),\"\",(VLOOKUP(A61,Machines!$B:$F,4,0)))","v":""}]
[null,null,null,{"$f":"IF(ISNA(VLOOKUP(A62,Machines!$B:$F,2,0)),\"\",(VLOOKUP(A62,Machines!$B:$F,2,0)))","v":""},null,null,null,null,null,null,null,null,null,null,null,null,{"$f":"IF(ISNA(VLOOKUP(A62,Machines!$B:$F,4,0)),\"\",(VLOOKUP(A62,Machines!$B:$F,4,0)))","v":""}]
[null,null,null,{"$f":"IF(ISNA(VLOOKUP(A63,Machines!$B:$F,2,0)),\"\",(VLOOKUP(A63,Machines!$B:$F,2,0)))","v":""},null,null,null,null,null,null,null,null,null,null,null,null,{"$f":"IF(ISNA(VLOOKUP(A63,Machines!$B:$F,4,0)),\"\",(VLOOKUP(A63,Machines!$B:$F,4,0)))","v":""}]
[null,null,null,{"$f":"IF(ISNA(VLOOKUP(A64,Machines!$B:$F,2,0)),\"\",(VLOOKUP(A64,Machines!$B:$F,2,0)))","v":""},null,null,null,null,null,null,null,null,null,null,null,null,{"$f":"IF(ISNA(VLOOKUP(A64,Machines!$B:$F,4,0)),\"\",(VLOOKUP(A64,Machines!$B:$F,4,0)))","v":""}]
[null,null,null,{"$f":"IF(ISNA(VLOOKUP(A65,Machines!$B:$F,2,0)),\"\",(VLOOKUP(A65,Machines!$B:$F,2,0)))","v":""},null,null,null,null,null,null,null,null,null,null,null,null,{"$f":"IF(ISNA(VLOOKUP(A65,Machines!$B:$F,4,0)),\"\",(VLOOKUP(A65,Machines!$B:$F,4,0)))","v":""}]
[null,null,null,{"$f":"IF(ISNA(VLOOKUP(A66,Machines!$B:$F,2,0)),\"\",(VLOOKUP(A66,Machines!$B:$F,2,0)))","v":""},null,null,null,null,null,null,null,null,null,null,null,null,{"$f":"IF(ISNA(VLOOKUP(A66,Machines!$B:$F,4,0)),\"\",(VLOOKUP(A66,Machines!$B:$F,4,0)))","v":""}]
[null,null,null,{"$f":"IF(ISNA(VLOOKUP(A67,Machines!$B:$F,2,0)),\"\",(VLOOKUP(A67,Machines!$B:$F,2,0)))","v":""},null,null,null,null,null,null,null,null,null,null,null,null,{"$f":"IF(ISNA(VLOOKUP(A67,Machines!$B:$F,4,0)),\"\",(VLOOKUP(A67,Machines!$B:$F,4,0)))","v":""}]
[null,null,null,{"$f":"IF(ISNA(VLOOKUP(A68,Machines!$B:$F,2,0)),\"\",(VLOOKUP(A68,Machines!$B:$F,2,0)))","v":""},null,null,null,null,null,null,null,null,null,null,null,null,{"$f":"IF(ISNA(VLOOKUP(A68,Machines!$B:$F,4,0)),\"\",(VLOOKUP(A68,Machines!$B:$F,4,0)))","v":""}]
[null,null,null,{"$f":"IF(ISNA(VLOOKUP(A69,Machines!$B:$F,2,0)),\"\",(VLOOKUP(A69,Machines!$B:$F,2,0)))","v":""},null,null,null,null,null,null,null,null,null,null,null,null,{"$f":"IF(ISNA(VLOOKUP(A69,Machines!$B:$F,4,0)),\"\",(VLOOKUP(A69,Machines!$B:$F,4,0)))","v":""}]
[null,null,null,{"$f":"IF(ISNA(VLOOKUP(A70,Machines!$B:$F,2,0)),\"\",(VLOOKUP(A70,Machines!$B:$F,2,0)))","v":""},null,null,null,null,null,null,null,null,null,null,null,null,{"$f":"IF(ISNA(VLOOKUP(A70,Machines!$B:$F,4,0)),\"\",(VLOOKUP(A70,Machines!$B:$F,4,0)))","v":""}]
[null,null,null,{"$f":"IF(ISNA(VLOOKUP(A71,Machines!$B:$F,2,0)),\"\",(VLOOKUP(A71,Machines!$B:$F,2,0)))","v":""},null,null,null,null,null,null,null,null,null,null,null,null,{"$f":"IF(ISNA(VLOOKUP(A71,Machines!$B:$F,4,0)),\"\",(VLOOKUP(A71,Machines!$B:$F,4,0)))","v":""}]
[null,null,null,{"$f":"IF(ISNA(VLOOKUP(A72,Machines!$B:$F,2,0)),\"\",(VLOOKUP(A72,Machines!$B:$F,2,0)))","v":""},null,null,null,null,null,null,null,null,null,null,null,null,{"$f":"IF(ISNA(VLOOKUP(A72,Machines!$B:$F,4,0)),\"\",(VLOOKUP(A72,Machines!$B:$F,4,0)))","v":""}]
[null,null,null,{"$f":"IF(ISNA(VLOOKUP(A73,Machines!$B:$F,2,0)),\"\",(VLOOKUP(A73,Machines!$B:$F,2,0)))","v":""},null,null,null,null,null,null,null,null,null,null,null,null,{"$f":"IF(ISNA(VLOOKUP(A73,Machines!$B:$F,4,0)),\"\",(VLOOKUP(A73,Machines!$B:$F,4,0)))","v":""}]
[null,null,null,{"$f":"IF(ISNA(VLOOKUP(A74,Machines!$B:$F,2,0)),\"\",(VLOOKUP(A74,Machines!$B:$F,2,0)))","v":""},null,null,null,null,null,null,null,null,null,null,null,null,{"$f":"IF(ISNA(VLOOKUP(A74,Machines!$B:$F,4,0)),\"\",(VLOOKUP(A74,Machines!$B:$F,4,0)))","v":""}]
["CHANTIER :",null,null,null,null,{"$f":"F1","v":0},null,null,null,null,null,null,null,null,null,null,null,null,null,null,"N° CHANTIER :",null,null,null,null,null,{"$f":"AA1","v":0},null,null,null,"JOUR :",null,null,null,{"$f":"AI1","v":"Samedi"},null,null,null,null,null,null,null,null,null,null,null,null,null,null,null,null,"DATES :",null,null,{"$f":"BC1","v":"23-01-16"}]
["MATERIAUX"]
[null,null,null,"Fournisseurs",null,null,null,null,null,null,null,null,null,null,null,null,null,null,"Description des fournitures & matériaux",null,null,null,null,null,null,null,null,null,null,null,null,null,null,null,null,null,null,null,null,null,null,null,null,null,null,null,null,null,null,"Qt totales",null,null,null,"U.",null,"Prix"]
[]
[]
[]
[]
[]
[]
[]
[]
[]
[]
[]
[]
[]
[]
[]
[]
[]
[]
[]
[]
[]
[]
[]
[]
[]
[]
[]
[]
[]
[]
[]
[null,null,null,"RESPONSABLE",null,null,null,null,null,null,null,null,"SIGNATURE",null,null,null,null,null,"DESCRIPTION DES TRAVAUX REALISES CE JOUR",null,null,null,null,null,null,null,null,null,null,null,null,null,null,null,null,null,null,null,null,null,null,null,null,null,null,null,null,null,null,"METEO"]
[null,null,null,"JENNES Loïc"]

{"sheet":"24-01-16","index":30,"n_rows":110,"n_cols":56,"rows_kept":110,"cut":false,"hidden":false,"merged":[[110,18,110,48],[72,0,72,2],[72,3,72,15],[72,16,72,24],[72,25,72,28],[72,30,72,45],[72,46,72,54],[72,55,72,58],[73,0,73,2],[73,3,73,15],[73,16,73,24],[73,25,73,28],[73,30,73,45],[73,46,73,54],[73,55,73,58],[109,18,109,48],[107,18,107,48],[105,3,105,17],[105,18,105,48],[106,3,106,17],[106,18,106,48],[106,49,106,52],[107,49,107,52],[102,3,102,17],[69,0,69,2],[69,3,69,15],[69,16,69,24],[69,25,69,28],[69,30,69,45],[69,46,69,54],[69,55,69,58],[70,0,70,2],[70,3,70,15],[70,16,70,24],[70,25,70,28],[70,30,70,45],[70,46,70,54],[70,55,70,58],[67,0,67,2],[67,3,67,15],[67,16,67,24],[67,25,67,28],[67,30,67,45],[67,46,67,54],[67,55,67,58],[68,0,68,2],[68,3,68,15],[68,16,68,24],[68,25,68,28],[68,30,68,45],[68,46,68,54],[68,55,68,58],[65,0,65,2],[65,3,65,15],[65,16,65,24],[65,25,65,28],[65,30,65,45],[65,46,65,54],[65,55,65,58],[66,0,66,2],[66,3,66,15],[66,16,66,24],[66,25,66,28],[66,30,66,45],[66,46,66,54],[66,55,66,58],[63,0,63,2],[63,3,63,15],[63,16,63,24],[63,25,63,28],[63,30,63,45],[63,46,63,54],[63,55,63,58],[64,0,64,2],[64,3,64,15],[64,16,64,24],[64,25,64,28],[64,30,64,45],[64,46,64,54],[64,55,64,58],[61,0,61,2],[61,3,61,15],[61,16,61,24],[61,25,61,28],[61,30,61,45],[61,46,61,54],[61,55,61,58],[62,0,62,2],[62,3,62,15],[62,16,62,24],[62,25,62,28],[62,30,62,45],[62,46,62,54],[62,55,62,58],[59,0,59,2],[59,3,59,15],[59,16,59,24],[59,25,59,28],[59,30,59,45],[59,46,59,54],[59,55,59,58],[60,0,60,2],[60,3,60,15],[60,16,60,24],[60,25,60,28],[60,30,60,45],[60,46,60,54],[60,55,60,58],[57,0,57,2],[57,3,57,15],[57,16,57,24],[57,25,57,28],[57,30,57,45],[57,46,57,54],[57,55,57,58],[58,0,58,2],[58,3,58,15],[58,16,58,24],[58,25,58,28],[58,30,58,45],[58,46,58,54],[58,55,58,58],[55,0,55,2],[55,3,55,15],[55,16,55,24],[55,25,55,28],[55,30,55,45],[55,46,55,54],[55,55,55,58],[56,0,56,2],[56,3,56,15],[56,16,56,24],[56,25,56,28],[56,30,56,45],[56,46,56,54],[56,55,56,58],[53,0,53,2],[53,3,53,15],[53,16,53,24],[53,25,53,28],[53,30,53,45],[53,46,53,54],[53,55,53,58],[54,0,54,2],[54,3,54,15],[54,16,54,24],[54,25,54,28],[54,30,54,45],[54,46,54,54],[54,55,54,58],[51,0,51,2],[51,3,51,15],[51,16,51,24],[51,25,51,28],[51,30,51,45],[51,46,51,54],[51,55,51,58],[52,0,52,2],[52,3,52,15],[52,16,52,24],[52,25,52,28],[52,30,52,45],[52,46,52,54],[52,55,52,58],[49,0,49,2],[49,3,49,15],[49,16,49,24],[49,25,49,28],[49,30,49,45],[49,46,49,54],[49,55,49,58],[50,0,50,2],[50,3,50,15],[50,16,50,24],[50,25,50,28],[50,30,50,45],[50,46,50,54],[50,55,50,58],[47,0,47,2],[47,3,47,15],[47,16,47,24],[47,25,47,28],[47,30,47,45],[47,46,47,54],[47,55,47,58],[48,0,48,2],[48,3,48,15],[48,16,48,24],[48,25,48,28],[48,30,48,45],[48,46,48,54],[48,55,48,58],[45,0,45,2],[45,3,45,15],[45,16,45,24],[45,25,45,28],[45,30,45,45],[45,46,45,54],[45,55,45,58],[46,0,46,2],[46,3,46,15],[46,16,46,24],[46,25,46,28],[46,30,46,45],[46,46,46,54],[46,55,46,58],[43,0,43,2],[43,3,43,15],[43,16,43,24],[43,25,43,28],[43,30,43,45],[43,46,43,54],[43,55,43,58],[44,0,44,2],[44,3,44,15],[44,16,44,24],[44,25,44,28],[44,30,44,45],[44,46,44,54],[44,55,44,58],[41,25,41,28],[41,30,41,45],[41,46,41,54],[41,55,41,58],[42,0,42,2],[42,3,42,15],[42,16,42,24],[42,25,42,28],[42,30,42,45],[42,46,42,54],[42,55,42,58],[37,0,37,4],[37,5,37,19],[37,20,37,25],[37,26,37,28],[37,30,37,32],[37,34,37,47],[37,51,37,53],[37,54,37,58],[38,0,38,28],[38,29,73,29],[38,30,38,58],[39,0,39,4],[39,6,39,9],[39,12,39,15],[40,0,40,2],[40,3,40,15],[40,16,40,24],[40,25,40,28],[40,30,40,45],[40,46,40,54],[40,55,40,58],[41,0,41,2],[41,3,41,15],[41,16,41,24],[36,0,36,15],[36,16,36,18],[36,19,36,21],[36,22,36,24],[36,25,36,28],[36,30,36,32],[36,33,36,45],[36,46,36,54],[36,55,36,58],[35,0,35,15],[35,16,35,18],[35,19,35,21],[35,22,35,24],[35,25,35,28],[35,30,35,32],[35,33,35,45],[35,46,35,54],[35,55,35,58],[34,0,34,15],[34,16,34,18],[34,19,34,21],[34,22,34,24],[34,25,34,28],[34,30,34,32],[34,33,34,45],[34,46,34,54],[34,55,34,58],[33,0,33,15],[33,16,33,18],[33,19,33,21],[33,22,33,24],[33,25,33,28],[33,30,33,32],[33,33,33,45],[33,46,33,54],[33,55,33,58],[32,0,32,15],[32,16,32,18],[32,19,32,21],[32,22,32,24],[32,25,32,28],[32,30,32,32],[32,33,32,45],[32,46,32,54],[32,55,32,58],[31,0,31,15],[31,16,31,18],[31,19,31,21],[31,22,31,24],[31,25,31,28],[31,30,31,32],[31,33,31,45],[31,46,31,54],[31,55,31,58],[30,0,30,15],[30,16,30,18],[30,19,30,21],[30,22,30,24],[30,25,30,28],[30,30,30,32],[30,33,30,45],[30,46,30,54],[30,55,30,58],[29,0,29,15],[29,16,29,18],[29,19,29,21],[29,22,29,24],[29,25,29,28],[29,30,29,32],[29,33,29,45],[29,46,29,54],[29,55,29,58],[28,0,28,15],[28,16,28,18],[28,19,28,21],[28,22,28,24],[28,25,28,28],[28,30,28,32],[28,33,28,45],[28,46,28,54],[28,55,28,58],[27,0,27,15],[27,16,27,18],[27,19,27,21],[27,22,27,24],[27,25,27,28],[27,30,27,32],[27,33,27,45],[27,46,27,54],[27,55,27,58],[26,0,26,15],[26,16,26,18],[26,19,26,21],[26,22,26,24],[26,25,26,28],[26,30,26,32],[26,33,26,45],[26,46,26,54],[26,55,26,58],[25,0,25,15],[25,16,25,18],[25,19,25,21],[25,22,25,24],[25,25,25,28],[25,30,25,32],[25,33,25,45],[25,46,25,54],[25,55,25,58],[24,0,24,15],[24,16,24,18],[24,19,24,21],[24,22,24,24],[24,25,24,28],[24,30,24,32],[24,33,24,45],[24,46,24,54],[24,55,24,58],[23,0,23,15],[23,16,23,18],[23,19,23,21],[23,22,23,24],[23,25,23,28],[23,30,23,32],[23,33,23,45],[23,46,23,54],[23,55,23,58],[22,0,22,15],[22,16,22,18],[22,19,22,21],[22,22,22,24],[22,25,22,28],[22,30,22,32],[22,33,22,45],[22,46,22,54],[22,55,22,58],[21,0,21,15],[21,16,21,18],[21,19,21,21],[21,22,21,24],[21,25,21,28],[21,30,21,32],[21,33,21,45],[21,46,21,54],[21,55,21,58],[20,0,20,15],[20,16,20,18],[20,19,20,21],[20,22,20,24],[20,25,20,28],[20,30,20,32],[20,33,20,45],[20,46,20,54],[20,55,20,58],[19,0,19,15],[19,16,19,18],[19,19,19,21],[19,22,19,24],[19,25,19,28],[19,30,19,32],[19,33,19,45],[19,46,19,54],[19,55,19,58],[18,0,18,15],[18,16,18,18],[18,19,18,21],[18,22,18,24],[18,25,18,28],[18,30,18,32],[18,33,18,45],[18,46,18,54],[18,55,18,58],[17,0,17,15],[17,16,17,18],[17,19,17,21],[17,22,17,24],[17,25,17,28],[17,30,17,32],[17,33,17,45],[17,46,17,54],[17,55,17,58],[16,0,16,15],[16,16,16,18],[16,19,16,21],[16,22,16,24],[16,25,16,28],[16,30,16,32],[16,33,16,45],[16,46,16,54],[16,55,16,58],[15,0,15,15],[15,16,15,18],[15,19,15,21],[15,22,15,24],[15,25,15,28],[15,30,15,32],[15,33,15,45],[15,46,15,54],[15,55,15,58],[14,0,14,15],[14,16,14,18],[14,19,14,21],[14,22,14,24],[14,25,14,28],[14,30,14,32],[14,33,14,45],[14,46,14,54],[14,55,14,58],[13,0,13,15],[13,16,13,18],[13,19,13,21],[13,22,13,24],[13,25,13,28],[13,30,13,32],[13,33,13,45],[13,46,13,54],[13,55,13,58],[12,0,12,15],[12,16,12,18],[12,19,12,21],[12,22,12,24],[12,25,12,28],[12,30,12,32],[12,33,12,45],[12,46,12,54],[12,55,12,58],[11,0,11,15],[11,16,11,18],[11,19,11,21],[11,22,11,24],[11,25,11,28],[11,30,11,32],[11,33,11,45],[11,46,11,54],[11,55,11,58],[10,0,10,15],[10,16,10,18],[10,19,10,21],[10,22,10,24],[10,25,10,28],[10,30,10,32],[10,33,10,45],[10,46,10,54],[10,55,10,58],[9,0,9,15],[9,16,9,18],[9,19,9,21],[9,22,9,24],[9,25,9,28],[9,30,9,32],[9,33,9,45],[9,46,9,54],[9,55,9,58],[8,0,8,15],[8,16,8,18],[8,19,8,21],[8,22,8,24],[8,25,8,28],[8,30,8,32],[8,33,8,45],[8,46,8,54],[8,55,8,58],[6,30,6,32],[6,33,6,45],[6,46,6,54],[6,55,6,58],[7,0,7,15],[7,16,7,18],[7,19,7,21],[7,22,7,24],[7,25,7,28],[7,30,7,32],[7,33,7,45],[7,46,7,54],[7,55,7,58],[4,55,4,58],[5,0,5,15],[5,16,5,18],[5,19,5,21],[5,22,5,24],[5,25,5,28],[5,30,5,32],[5,33,5,45],[5,46,5,54],[5,55,5,58],[0,51,0,53],[0,54,0,58],[1,0,1,28],[1,29,36,29],[1,30,1,58],[2,0,2,4],[2,7,2,10],[2,13,2,16],[2,19,2,22],[2,25,2,28],[2,30,2,34],[2,36,2,39],[2,42,2,45],[3,0,3,15],[3,16,3,18],[3,19,3,21],[3,22,3,24],[3,25,3,28],[3,30,3,32],[3,33,3,45],[3,46,3,54],[3,55,3,58],[4,0,4,15],[4,16,4,18],[111,18,111,48],[108,18,108,48],[108,3,108,11],[108,12,108,17],[109,3,111,11],[109,12,111,17],[0,0,0,4],[0,5,0,19],[0,20,0,25],[0,26,0,28],[0,30,0,32],[0,34,0,47],[4,19,4,21],[4,22,4,24],[4,25,4,28],[4,30,4,32],[4,33,4,45],[4,46,4,54],[6,0,6,15],[6,16,6,18],[6,19,6,21],[6,22,6,24],[6,25,6,28],[107,3,107,17],[102,18,102,48],[99,3,99,17],[99,18,99,48],[100,3,100,17],[100,18,100,48],[101,49,101,52],[101,53,101,54],[101,55,101,58],[102,49,102,52],[102,53,102,54],[102,55,102,58],[99,55,99,58],[100,49,100,52],[100,53,100,54],[100,55,100,58],[95,53,95,54],[95,55,95,58],[96,49,96,52],[96,53,96,54],[96,55,96,58],[97,49,97,52],[97,53,97,54],[101,3,101,17],[101,18,101,48],[97,3,97,17],[97,18,97,48],[98,3,98,17],[98,18,98,48],[95,3,95,17],[95,18,95,48],[96,3,96,17],[96,18,96,48],[95,49,95,52],[97,55,97,58],[98,49,98,52],[98,53,98,54],[98,55,98,58],[99,49,99,52],[99,53,99,54],[94,3,94,17],[94,18,94,48],[91,3,91,17],[91,18,91,48],[92,3,92,17],[92,18,92,48],[93,49,93,52],[93,53,93,54],[93,55,93,58],[94,49,94,52],[94,53,94,54],[94,55,94,58],[91,55,91,58],[92,49,92,52],[92,53,92,54],[92,55,92,58],[87,53,87,54],[87,55,87,58],[88,49,88,52],[88,53,88,54],[88,55,88,58],[89,49,89,52],[89,53,89,54],[93,3,93,17],[93,18,93,48],[89,3,89,17],[89,18,89,48],[90,3,90,17],[90,18,90,48],[87,3,87,17],[87,18,87,48],[88,3,88,17],[88,18,88,48],[87,49,87,52],[89,55,89,58],[90,49,90,52],[90,53,90,54],[90,55,90,58],[91,49,91,52],[91,53,91,54],[86,3,86,17],[86,18,86,48],[83,3,83,17],[83,18,83,48],[84,3,84,17],[84,18,84,48],[85,49,85,52],[85,53,85,54],[85,55,85,58],[86,49,86,52],[86,53,86,54],[86,55,86,58],[83,55,83,58],[84,49,84,52],[84,53,84,54],[84,55,84,58],[79,53,79,54],[79,55,79,58],[80,49,80,52],[80,53,80,54],[80,55,80,58],[81,49,81,52],[81,53,81,54],[85,3,85,17],[85,18,85,48],[81,3,81,17],[81,18,81,48],[82,3,82,17],[82,18,82,48],[79,3,79,17],[79,18,79,48],[80,3,80,17],[80,18,80,48],[79,49,79,52],[81,55,81,58],[82,49,82,52],[82,53,82,54],[82,55,82,58],[83,49,83,52],[83,53,83,54],[78,18,78,48],[75,0,75,58],[76,49,76,52],[76,53,76,54],[76,55,76,58],[77,49,77,52],[77,53,77,54],[77,55,77,58],[78,49,78,52],[78,53,78,54],[78,55,78,58],[104,3,104,17],[104,18,104,48],[71,0,71,2],[71,3,71,15],[71,16,71,24],[71,25,71,28],[71,30,71,45],[71,46,71,54],[71,55,71,58],[103,3,103,17],[103,18,103,48],[76,3,76,17],[76,18,76,48],[74,0,74,4],[74,5,74,19],[74,20,74,25],[74,26,74,28],[74,30,74,32],[74,34,74,47],[74,51,74,53],[74,54,74,58],[77,3,77,17],[77,18,77,48],[78,3,78,17],[108,49,108,58],[109,49,111,58],[103,49,103,52],[103,53,103,54],[103,55,103,58],[104,49,104,52],[104,53,104,54],[104,55,104,58],[105,49,105,52],[105,53,105,54],[105,55,105,58],[106,53,106,54],[106,55,106,58],[107,53,107,54],[107,55,107,58]]}
["CHANTIER :",null,null,null,null,{"$f":"'01-01-16'!F1","v":0},null,null,null,null,null,null,null,null,null,null,null,null,null,null,"N° CHANTIER :",null,null,null,null,null,{"$f":"'01-01-16'!AA1","v":0},null,null,null,"JOUR :",null,null,null,{"$f":" CHOOSE(WEEKDAY(BC1,2),\"Lundi\",\"Mardi\",\"Mercredi\",\"Jeudi\",\"Vendredi\",\"Samedi\",\"Dimanche\")","v":"Dimanche"},null,null,null,null,null,null,null,null,null,null,null,null,null,null,null,null,"DATES :",null,null,{"$f":"MID(CELL(\"nomfichier\",A1),FIND(\"]\",CELL(\"nomfichier\",A1),1)+1,30)","v":"24-01-16"}]
["MAIN D'ŒUVRE",null,null,null,null,null,null,null,null,null,null,null,null,null,null,null,null,null,null,null,null,null,null,null,null,null,null,null,null,null,"CAMIONS"]
["Légende :",null,null,null,null,null,"Co",".= Congé",null,null,null,null,"M",".= Malade",null,null,null,null,"Cho",".= Chômage",null,null,null,null,"Va",".= Vacance",null,null,null,null,"Légende :",null,null,null,null,"Pa",".= Panne",null,null,null,null,"Ent",".= Entretien"]
["NOM - Prénom du travailleur",null,null,null,null,null,null,null,null,null,null,null,null,null,null,null,"Début journée",null,null,"Arrêt repas",null,null,"Fin journée",null,null,"Heures prestées",null,null,null,null,"N°",null,null,"Description du matériel",null,null,null,null,null,null,null,null,null,null,null,null,"Nom de l'opérateur",null,null,null,null,null,null,null,null,"Heures"]
[null,null,null,null,null,null,null,null,null,null,null,null,null,null,null,null,null,null,null,null,null,null,null,null,null,{"$f":"W5-Q5-T5","v":0},null,null,null,null,null,null,null,{"$f":"IF(ISNA(VLOOKUP(AE5,Camions!$B:$F,2,0)),\"\",(VLOOKUP(AE5,Camions!$B:$F,2,0)))","v":""},null,null,null,null,null,null,null,null,null,null,null,null,{"$f":"IF(ISNA(VLOOKUP(AE5,Camions!$B:$F,4,0)),\"\",(VLOOKUP(AE5,Camions!$B:$F,4,0)))","v":""}]
[null,null,null,null,null,null,null,null,null,null,null,null,null,null,null,null,null,null,null,null,null,null,null,null,null,{"$f":"W6-Q6-T6","v":0},null,null,null,null,null,null,null,{"$f":"IF(ISNA(VLOOKUP(AE6,Camions!$B:$F,2,0)),\"\",(VLOOKUP(AE6,Camions!$B:$F,2,0)))","v":""},null,null,null,null,null,null,null,null,null,null,null,null,{"$f":"IF(ISNA(VLOOKUP(AE6,Camions!$B:$F,4,0)),\"\",(VLOOKUP(AE6,Camions!$B:$F,4,0)))","v":""}]
[null,null,null,null,null,null,null,null,null,null,null,null,null,null,null,null,null,null,null,null,null,null,null,null,null,0,null,null,null,null,null,null,null,{"$f":"IF(ISNA(VLOOKUP(AE7,Camions!$B:$F,2,0)),\"\",(VLOOKUP(AE7,Camions!$B:$F,2,0)))","v":""},null,null,null,null,null,null,null,null,null,null,null,null,{"$f":"IF(ISNA(VLOOKUP(AE7,Camions!$B:$F,4,0)),\"\",(VLOOKUP(AE7,Camions!$B:$F,4,0)))","v":""}]
[null,null,null,null,null,null,null,null,null,null,null,null,null,null,null,null,null,null,null,null,null,null,null,null,null,0,null,null,null,null,null,null,null,{"$f":"IF(ISNA(VLOOKUP(AE8,Camions!$B:$F,2,0)),\"\",(VLOOKUP(AE8,Camions!$B:$F,2,0)))","v":""},null,null,null,null,null,null,null,null,null,null,null,null,{"$f":"IF(ISNA(VLOOKUP(AE8,Camions!$B:$F,4,0)),\"\",(VLOOKUP(AE8,Camions!$B:$F,4,0)))","v":""}]
[null,null,null,null,null,null,null,null,null,null,null,null,null,null,null,null,null,null,null,null,null,null,null,null,null,0,null,null,null,null,null,null,null,{"$f":"IF(ISNA(VLOOKUP(AE9,Camions!$B:$F,2,0)),\"\",(VLOOKUP(AE9,Camions!$B:$F,2,0)))","v":""},null,null,null,null,null,null,null,null,null,null,null,null,{"$f":"IF(ISNA(VLOOKUP(AE9,Camions!$B:$F,4,0)),\"\",(VLOOKUP(AE9,Camions!$B:$F,4,0)))","v":""}]
[null,null,null,null,null,null,null,null,null,null,null,null,null,null,null,null,null,null,null,null,null,null,null,null,null,0,null,null,null,null,null,null,null,{"$f":"IF(ISNA(VLOOKUP(AE10,Camions!$B:$F,2,0)),\"\",(VLOOKUP(AE10,Camions!$B:$F,2,0)))","v":""},null,null,null,null,null,null,null,null,null,null,null,null,{"$f":"IF(ISNA(VLOOKUP(AE10,Camions!$B:$F,4,0)),\"\",(VLOOKUP(AE10,Camions!$B:$F,4,0)))","v":""}]
[null,null,null,null,null,null,null,null,null,null,null,null,null,null,null,null,null,null,null,null,null,null,null,null,null,0,null,null,null,null,null,null,null,{"$f":"IF(ISNA(VLOOKUP(AE11,Camions!$B:$F,2,0)),\"\",(VLOOKUP(AE11,Camions!$B:$F,2,0)))","v":""},null,null,null,null,null,null,null,null,null,null,null,null,{"$f":"IF(ISNA(VLOOKUP(AE11,Camions!$B:$F,4,0)),\"\",(VLOOKUP(AE11,Camions!$B:$F,4,0)))","v":""}]
[null,null,null,null,null,null,null,null,null,null,null,null,null,null,null,null,null,null,null,null,null,null,null,null,null,0,null,null,null,null,null,null,null,{"$f":"IF(ISNA(VLOOKUP(AE12,Camions!$B:$F,2,0)),\"\",(VLOOKUP(AE12,Camions!$B:$F,2,0)))","v":""},null,null,null,null,null,null,null,null,null,null,null,null,{"$f":"IF(ISNA(VLOOKUP(AE12,Camions!$B:$F,4,0)),\"\",(VLOOKUP(AE12,Camions!$B:$F,4,0)))","v":""}]
[null,null,null,null,null,null,null,null,null,null,null,null,null,null,null,null,null,null,null,null,null,null,null,null,null,0,null,null,null,null,null,null,null,{"$f":"IF(ISNA(VLOOKUP(AE13,Camions!$B:$F,2,0)),\"\",(VLOOKUP(AE13,Camions!$B:$F,2,0)))","v":""},null,null,null,null,null,null,null,null,null,null,null,null,{"$f":"IF(ISNA(VLOOKUP(AE13,Camions!$B:$F,4,0)),\"\",(VLOOKUP(AE13,Camions!$B:$F,4,0)))","v":""}]
[null,null,null,null,null,null,null,null,null,null,null,null,null,null,null,null,null,null,null,null,null,null,null,null,null,0,null,null,null,null,null,null,null,{"$f":"IF(ISNA(VLOOKUP(AE14,Camions!$B:$F,2,0)),\"\",(VLOOKUP(AE14,Camions!$B:$F,2,0)))","v":""},null,null,null,null,null,null,null,null,null,null,null,null,{"$f":"IF(ISNA(VLOOKUP(AE14,Camions!$B:$F,4,0)),\"\",(VLOOKUP(AE14,Camions!$B:$F,4,0)))","v":""}]
[null,null,null,null,null,null,null,null,null,null,null,null,null,null,null,null,null,null,null,null,null,null,null,null,null,0,null,null,null,null,null,null,null,{"$f":"IF(ISNA(VLOOKUP(AE15,Camions!$B:$F,2,0)),\"\",(VLOOKUP(AE15,Camions!$B:$F,2,0)))","v":""},null,null,null,null,null,null,null,null,null,null,null,null,{"$f":"IF(ISNA(VLOOKUP(AE15,Camions!$B:$F,4,0)),\"\",(VLOOKUP(AE15,Camions!$B:$F,4,0)))","v":""}]
[null,null,null,null,null,null,null,null,null,null,null,null,null,null,null,null,null,null,null,null,null,null,null,null,null,0,null,null,null,null,null,null,null,{"$f":"IF(ISNA(VLOOKUP(AE16,Camions!$B:$F,2,0)),\"\",(VLOOKUP(AE16,Camions!$B:$F,2,0)))","v":""},null,null,null,null,null,null,null,null,null,null,null,null,{"$f":"IF(ISNA(VLOOKUP(AE16,Camions!$B:$F,4,0)),\"\",(VLOOKUP(AE16,Camions!$B:$F,4,0)))","v":""}]
[null,null,null,null,null,null,null,null,null,null,null,null,null,null,null,null,null,null,null,null,null,null,null,null,null,0,null,null,null,null,null,null,null,{"$f":"IF(ISNA(VLOOKUP(AE17,Camions!$B:$F,2,0)),\"\",(VLOOKUP(AE17,Camions!$B:$F,2,0)))","v":""},null,null,null,null,null,null,null,null,null,null,null,null,{"$f":"IF(ISNA(VLOOKUP(AE17,Camions!$B:$F,4,0)),\"\",(VLOOKUP(AE17,Camions!$B:$F,4,0)))","v":""}]
[null,null,null,null,null,null,null,null,null,null,null,null,null,null,null,null,null,null,null,null,null,null,null,null,null,0,null,null,null,null,null,null,null,{"$f":"IF(ISNA(VLOOKUP(AE18,Camions!$B:$F,2,0)),\"\",(VLOOKUP(AE18,Camions!$B:$F,2,0)))","v":""},null,null,null,null,null,null,null,null,null,null,null,null,{"$f":"IF(ISNA(VLOOKUP(AE18,Camions!$B:$F,4,0)),\"\",(VLOOKUP(AE18,Camions!$B:$F,4,0)))","v":""}]
[null,null,null,null,null,null,null,null,null,null,null,null,null,null,null,null,null,null,null,null,null,null,null,null,null,0,null,null,null,null,null,null,null,{"$f":"IF(ISNA(VLOOKUP(AE19,Camions!$B:$F,2,0)),\"\",(VLOOKUP(AE19,Camions!$B:$F,2,0)))","v":""},null,null,null,null,null,null,null,null,null,null,null,null,{"$f":"IF(ISNA(VLOOKUP(AE19,Camions!$B:$F,4,0)),\"\",(VLOOKUP(AE19,Camions!$B:$F,4,0)))","v":""}]
[null,null,null,null,null,null,null,null,null,null,null,null,null,null,null,null,null,null,null,null,null,null,null,null,null,0,null,null,null,null,null,null,null,{"$f":"IF(ISNA(VLOOKUP(AE20,Camions!$B:$F,2,0)),\"\",(VLOOKUP(AE20,Camions!$B:$F,2,0)))","v":""},null,null,null,null,null,null,null,null,null,null,null,null,{"$f":"IF(ISNA(VLOOKUP(AE20,Camions!$B:$F,4,0)),\"\",(VLOOKUP(AE20,Camions!$B:$F,4,0)))","v":""}]
[null,null,null,null,null,null,null,null,null,null,null,null,null,null,null,null,null,null,null,null,null,null,null,null,null,0,null,null,null,null,null,null,null,{"$f":"IF(ISNA(VLOOKUP(AE21,Camions!$B:$F,2,0)),\"\",(VLOOKUP(AE21,Camions!$B:$F,2,0)))","v":""},null,null,null,null,null,null,null,null,null,null,null,null,{"$f":"IF(ISNA(VLOOKUP(AE21,Camions!$B:$F,4,0)),\"\",(VLOOKUP(AE21,Camions!$B:$F,4,0)))","v":""}]
[null,null,null,null,null,null,null,null,null,null,null,null,null,null,null,null,null,null,null,null,null,null,null,null,null,0,null,null,null,null,null,null,null,{"$f":"IF(ISNA(VLOOKUP(AE22,Camions!$B:$F,2,0)),\"\",(VLOOKUP(AE22,Camions!$B:$F,2,0)))","v":""},null,null,null,null,null,null,null,null,null,null,null,null,{"$f":"IF(ISNA(VLOOKUP(AE22,Camions!$B:$F,4,0)),\"\",(VLOOKUP(AE22,Camions!$B:$F,4,0)))","v":""}]
[null,null,null,null,null,null,null,null,null,null,null,null,null,null,null,null,null,null,null,null,null,null,null,null,null,0,null,null,null,null,null,null,null,{"$f":"IF(ISNA(VLOOKUP(AE23,Camions!$B:$F,2,0)),\"\",(VLOOKUP(AE23,Camions!$B:$F,2,0)))","v":""},null,null,null,null,null,null,null,null,null,null,null,null,{"$f":"IF(ISNA(VLOOKUP(AE23,Camions!$B:$F,4,0)),\"\",(VLOOKUP(AE23,Camions!$B:$F,4,0)))","v":""}]
[null,null,null,null,null,null,null,null,null,null,null,null,null,null,null,null,null,null,null,null,null,null,null,null,null,0,null,null,null,null,null,null,null,{"$f":"IF(ISNA(VLOOKUP(AE24,Camions!$B:$F,2,0)),\"\",(VLOOKUP(AE24,Camions!$B:$F,2,0)))","v":""},null,null,null,null,null,null,null,null,null,null,null,null,{"$f":"IF(ISNA(VLOOKUP(AE24,Camions!$B:$F,4,0)),\"\",(VLOOKUP(AE24,Camions!$B:$F,4,0)))","v":""}]
[null,null,null,null,null,null,null,null,null,null,null,null,null,null,null,null,null,null,null,null,null,null,null,null,null,0,null,null,null,null,null,null,null,{"$f":"IF(ISNA(VLOOKUP(AE25,Camions!$B:$F,2,0)),\"\",(VLOOKUP(AE25,Camions!$B:$F,2,0)))","v":""},null,null,null,null,null,null,null,null,null,null,null,null,{"$f":"IF(ISNA(VLOOKUP(AE25,Camions!$B:$F,4,0)),\"\",(VLOOKUP(AE25,Camions!$B:$F,4,0)))","v":""}]
[null,null,null,null,null,null,null,null,null,null,null,null,null,null,null,null,null,null,null,null,null,null,null,null,null,0,null,null,null,null,null,null,null,{"$f":"IF(ISNA(VLOOKUP(AE26,Camions!$B:$F,2,0)),\"\",(VLOOKUP(AE26,Camions!$B:$F,2,0)))","v":""},null,null,null,null,null,null,null,null,null,null,null,null,{"$f":"IF(ISNA(VLOOKUP(AE26,Camions!$B:$F,4,0)),\"\",(VLOOKUP(AE26,Camions!$B:$F,4,0)))","v":""}]
[null,null,null,null,null,null,null,null,null,null,null,null,null,null,null,null,null,null,null,null,null,null,null,null,null,0,null,null,null,null,null,null,null,{"$f":"IF(ISNA(VLOOKUP(AE27,Camions!$B:$F,2,0)),\"\",(VLOOKUP(AE27,Camions!$B:$F,2,0)))","v":""},null,null,null,null,null,null,null,null,null,null,null,null,{"$f":"IF(ISNA(VLOOKUP(AE27,Camions!$B:$F,4,0)),\"\",(VLOOKUP(AE27,Camions!$B:$F,4,0)))","v":""}]
[null,null,null,null,null,null,null,null,null,null,null,null,null,null,null,null,null,null,null,null,null,null,null,null,null,0,null,null,null,null,null,null,null,{"$f":"IF(ISNA(VLOOKUP(AE28,Camions!$B:$F,2,0)),\"\",(VLOOKUP(AE28,Camions!$B:$F,2,0)))","v":""},null,null,null,null,null,null,null,null,null,null,null,null,{"$f":"IF(ISNA(VLOOKUP(AE28,Camions!$B:$F,4,0)),\"\",(VLOOKUP(AE28,Camions!$B:$F,4,0)))","v":""}]
[null,null,null,null,null,null,null,null,null,null,null,null,null,null,null,null,null,null,null,null,null,null,null,null,null,0,null,null,null,null,null,null,null,{"$f":"IF(ISNA(VLOOKUP(AE29,Camions!$B:$F,2,0)),\"\",(VLOOKUP(AE29,Camions!$B:$F,2,0)))","v":""},null,null,null,null,null,null,null,null,null,null,null,null,{"$f":"IF(ISNA(VLOOKUP(AE29,Camions!$B:$F,4,0)),\"\",(VLOOKUP(AE29,Camions!$B:$F,4,0)))","v":""}]
[null,null,null,null,null,null,null,null,null,null,null,null,null,null,null,null,null,null,null,null,null,null,null,null,null,0,null,null,null,null,null,null,null,{"$f":"IF(ISNA(VLOOKUP(AE30,Camions!$B:$F,2,0)),\"\",(VLOOKUP(AE30,Camions!$B:$F,2,0)))","v":""},null,null,null,null,null,null,null,null,null,null,null,null,{"$f":"IF(ISNA(VLOOKUP(AE30,Camions!$B:$F,4,0)),\"\",(VLOOKUP(AE30,Camions!$B:$F,4,0)))","v":""}]
[null,null,null,null,null,null,null,null,null,null,null,null,null,null,null,null,null,null,null,null,null,null,null,null,null,0,null,null,null,null,null,null,null,{"$f":"IF(ISNA(VLOOKUP(AE31,Camions!$B:$F,2,0)),\"\",(VLOOKUP(AE31,Camions!$B:$F,2,0)))","v":""},null,null,null,null,null,null,null,null,null,null,null,null,{"$f":"IF(ISNA(VLOOKUP(AE31,Camions!$B:$F,4,0)),\"\",(VLOOKUP(AE31,Camions!$B:$F,4,0)))","v":""}]
[null,null,null,null,null,null,null,null,null,null,null,null,null,null,null,null,null,null,null,null,null,null,null,null,null,0,null,null,null,null,null,null,null,{"$f":"IF(ISNA(VLOOKUP(AE32,Camions!$B:$F,2,0)),\"\",(VLOOKUP(AE32,Camions!$B:$F,2,0)))","v":""},null,null,null,null,null,null,null,null,null,null,null,null,{"$f":"IF(ISNA(VLOOKUP(AE32,Camions!$B:$F,4,0)),\"\",(VLOOKUP(AE32,Camions!$B:$F,4,0)))","v":""}]
[null,null,null,null,null,null,null,null,null,null,null,null,null,null,null,null,null,null,null,null,null,null,null,null,null,0,null,null,null,null,null,null,null,{"$f":"IF(ISNA(VLOOKUP(AE33,Camions!$B:$F,2,0)),\"\",(VLOOKUP(AE33,Camions!$B:$F,2,0)))","v":""},null,null,null,null,null,null,null,null,null,null,null,null,{"$f":"IF(ISNA(VLOOKUP(AE33,Camions!$B:$F,4,0)),\"\",(VLOOKUP(AE33,Camions!$B:$F,4,0)))","v":""}]
[null,null,null,null,null,null,null,null,null,null,null,null,null,null,null,null,null,null,null,null,null,null,null,null,null,0,null,null,null,null,null,null,null,{"$f":"IF(ISNA(VLOOKUP(AE34,Camions!$B:$F,2,0)),\"\",(VLOOKUP(AE34,Camions!$B:$F,2,0)))","v":""},null,null,null,null,null,null,null,null,null,null,null,null,{"$f":"IF(ISNA(VLOOKUP(AE34,Camions!$B:$F,4,0)),\"\",(VLOOKUP(AE34,Camions!$B:$F,4,0)))","v":""}]
[null,null,null,null,null,null,null,null,null,null,null,null,null,null,null,null,null,null,null,null,null,null,null,null,null,0,null,null,null,null,null,null,null,{"$f":"IF(ISNA(VLOOKUP(AE35,Camions!$B:$F,2,0)),\"\",(VLOOKUP(AE35,Camions!$B:$F,2,0)))","v":""},null,null,null,null,null,null,null,null,null,null,null,null,{"$f":"IF(ISNA(VLOOKUP(AE35,Camions!$B:$F,4,0)),\"\",(VLOOKUP(AE35,Camions!$B:$F,4,0)))","v":""}]
[null,null,null,null,null,null,null,null,null,null,null,null,null,null,null,null,null,null,null,null,null,null,null,null,null,0,null,null,null,null,null,null,null,{"$f":"IF(ISNA(VLOOKUP(AE36,Camions!$B:$F,2,0)),\"\",(VLOOKUP(AE36,Camions!$B:$F,2,0)))","v":""},null,null,null,null,null,null,null,null,null,null,null,null,{"$f":"IF(ISNA(VLOOKUP(AE36,Camions!$B:$F,4,0)),\"\",(VLOOKUP(AE36,Camions!$B:$F,4,0)))","v":""}]
[null,null,null,null,null,null,null,null,null,null,null,null,null,null,null,null,null,null,null,null,null,null,null,null,null,0,null,null,null,null,null,null,null,{"$f":"IF(ISNA(VLOOKUP(AE37,Camions!$B:$F,2,0)),\"\",(VLOOKUP(AE37,Camions!$B:$F,2,0)))","v":""},null,null,null,null,null,null,null,null,null,null,null,null,{"$f":"IF(ISNA(VLOOKUP(AE36,Camions!$B:$F,4,0)),\"\",(VLOOKUP(AE36,Camions!$B:$F,4,0)))","v":""}]
["CHANTIER :",null,null,null,null,{"$f":"F1","v":0},null,null,null,null,null,null,null,null,null,null,null,null,null,null,"N° CHANTIER :",null,null,null,null,null,{"$f":"AA1","v":0},null,null,null,"JOUR :",null,null,null,{"$f":"AI1","v":"Dimanche"},null,null,null,null,null,null,null,null,null,null,null,null,null,null,null,null,"DATES :",null,null,{"$f":"BC1","v":"24-01-16"}]
["MATERIEL",null,null,null,null,null,null,null,null,null,null,null,null,null,null,null,null,null,null,null,null,null,null,null,null,null,null,null,null,null,"SOUS-TRAITANTS"]
["Légende :",null,null,null,null,"Pa",".= Panne",null,null,null,null,"Ent",".= Entretien"]
["N°",null,null,"Description du matériel",null,null,null,null,null,null,null,null,null,null,null,null,"Nom de l'opérateur",null,null,null,null,null,null,null,null,"Heures",null,null,null,null,"Type d'engin et description des travaux ",null,null,null,null,null,null,null,null,null,null,null,null,null,null,null,"Sous-traitants",null,null,null,null,null,null,null,null,"Heures"]
[null,null,null,{"$f":"IF(ISNA(VLOOKUP(A42,Machines!$B:$F,2,0)),\"\",(VLOOKUP(A42,Machines!$B:$F,2,0)))","v":""},null,null,null,null,null,null,null,null,null,null,null,null,{"$f":"IF(ISNA(VLOOKUP(A42,Machines!$B:$F,4,0)),\"\",(VLOOKUP(A42,Machines!$B:$F,4,0)))","v":""}]
[null,null,null,{"$f":"IF(ISNA(VLOOKUP(A43,Machines!$B:$F,2,0)),\"\",(VLOOKUP(A43,Machines!$B:$F,2,0)))","v":""},null,null,null,null,null,null,null,null,null,null,null,null,{"$f":"IF(ISNA(VLOOKUP(A43,Machines!$B:$F,4,0)),\"\",(VLOOKUP(A43,Machines!$B:$F,4,0)))","v":""}]
[null,null,null,{"$f":"IF(ISNA(VLOOKUP(A44,Machines!$B:$F,2,0)),\"\",(VLOOKUP(A44,Machines!$B:$F,2,0)))","v":""},null,null,null,null,null,null,null,null,null,null,null,null,{"$f":"IF(ISNA(VLOOKUP(A44,Machines!$B:$F,4,0)),\"\",(VLOOKUP(A44,Machines!$B:$F,4,0)))","v":""}]
[null,null,null,{"$f":"IF(ISNA(VLOOKUP(A45,Machines!$B:$F,2,0)),\"\",(VLOOKUP(A45,Machines!$B:$F,2,0)))","v":""},null,null,null,null,null,null,null,null,null,null,null,null,{"$f":"IF(ISNA(VLOOKUP(A45,Machines!$B:$F,4,0)),\"\",(VLOOKUP(A45,Machines!$B:$F,4,0)))","v":""}]
[null,null,null,{"$f":"IF(ISNA(VLOOKUP(A46,Machines!$B:$F,2,0)),\"\",(VLOOKUP(A46,Machines!$B:$F,2,0)))","v":""},null,null,null,null,null,null,null,null,null,null,null,null,{"$f":"IF(ISNA(VLOOKUP(A46,Machines!$B:$F,4,0)),\"\",(VLOOKUP(A46,Machines!$B:$F,4,0)))","v":""}]
[null,null,null,{"$f":"IF(ISNA(VLOOKUP(A47,Machines!$B:$F,2,0)),\"\",(VLOOKUP(A47,Machines!$B:$F,2,0)))","v":""},null,null,null,null,null,null,null,null,null,null,null,null,{"$f":"IF(ISNA(VLOOKUP(A47,Machines!$B:$F,4,0)),\"\",(VLOOKUP(A47,Machines!$B:$F,4,0)))","v":""}]
[null,null,null,{"$f":"IF(ISNA(VLOOKUP(A48,Machines!$B:$F,2,0)),\"\",(VLOOKUP(A48,Machines!$B:$F,2,0)))","v":""},null,null,null,null,null,null,null,null,null,null,null,null,{"$f":"IF(ISNA(VLOOKUP(A48,Machines!$B:$F,4,0)),\"\",(VLOOKUP(A48,Machines!$B:$F,4,0)))","v":""}]
[null,null,null,{"$f":"IF(ISNA(VLOOKUP(A49,Machines!$B:$F,2,0)),\"\",(VLOOKUP(A49,Machines!$B:$F,2,0)))","v":""},null,null,null,null,null,null,null,null,null,null,null,null,{"$f":"IF(ISNA(VLOOKUP(A49,Machines!$B:$F,4,0)),\"\",(VLOOKUP(A49,Machines!$B:$F,4,0)))","v":""}]
[null,null,null,{"$f":"IF(ISNA(VLOOKUP(A50,Machines!$B:$F,2,0)),\"\",(VLOOKUP(A50,Machines!$B:$F,2,0)))","v":""},null,null,null,null,null,null,null,null,null,null,null,null,{"$f":"IF(ISNA(VLOOKUP(A50,Machines!$B:$F,4,0)),\"\",(VLOOKUP(A50,Machines!$B:$F,4,0)))","v":""}]
[null,null,null,{"$f":"IF(ISNA(VLOOKUP(A51,Machines!$B:$F,2,0)),\"\",(VLOOKUP(A51,Machines!$B:$F,2,0)))","v":""},null,null,null,null,null,null,null,null,null,null,null,null,{"$f":"IF(ISNA(VLOOKUP(A51,Machines!$B:$F,4,0)),\"\",(VLOOKUP(A51,Machines!$B:$F,4,0)))","v":""}]
[null,null,null,{"$f":"IF(ISNA(VLOOKUP(A52,Machines!$B:$F,2,0)),\"\",(VLOOKUP(A52,Machines!$B:$F,2,0)))","v":""},null,null,null,null,null,null,null,null,null,null,null,null,{"$f":"IF(ISNA(VLOOKUP(A52,Machines!$B:$F,4,0)),\"\",(VLOOKUP(A52,Machines!$B:$F,4,0)))","v":""}]
[null,null,null,{"$f":"IF(ISNA(VLOOKUP(A53,Machines!$B:$F,2,0)),\"\",(VLOOKUP(A53,Machines!$B:$F,2,0)))","v":""},null,null,null,null,null,null,null,null,null,null,null,null,{"$f":"IF(ISNA(VLOOKUP(A53,Machines!$B:$F,4,0)),\"\",(VLOOKUP(A53,Machines!$B:$F,4,0)))","v":""}]
[null,null,null,{"$f":"IF(ISNA(VLOOKUP(A54,Machines!$B:$F,2,0)),\"\",(VLOOKUP(A54,Machines!$B:$F,2,0)))","v":""},null,null,null,null,null,null,null,null,null,null,null,null,{"$f":"IF(ISNA(VLOOKUP(A54,Machines!$B:$F,4,0)),\"\",(VLOOKUP(A54,Machines!$B:$F,4,0)))","v":""}]
[null,null,null,{"$f":"IF(ISNA(VLOOKUP(A55,Machines!$B:$F,2,0)),\"\",(VLOOKUP(A55,Machines!$B:$F,2,0)))","v":""},null,null,null,null,null,null,null,null,null,null,null,null,{"$f":"IF(ISNA(VLOOKUP(A55,Machines!$B:$F,4,0)),\"\",(VLOOKUP(A55,Machines!$B:$F,4,0)))","v":""}]
[null,null,null,{"$f":"IF(ISNA(VLOOKUP(A56,Machines!$B:$F,2,0)),\"\",(VLOOKUP(A56,Machines!$B:$F,2,0)))","v":""},null,null,null,null,null,null,null,null,null,null,null,null,{"$f":"IF(ISNA(VLOOKUP(A56,Machines!$B:$F,4,0)),\"\",(VLOOKUP(A56,Machines!$B:$F,4,0)))","v":""}]
[null,null,null,{"$f":"IF(ISNA(VLOOKUP(A57,Machines!$B:$F,2,0)),\"\",(VLOOKUP(A57,Machines!$B:$F,2,0)))","v":""},null,null,null,null,null,null,null,null,null,null,null,null,{"$f":"IF(ISNA(VLOOKUP(A57,Machines!$B:$F,4,0)),\"\",(VLOOKUP(A57,Machines!$B:$F,4,0)))","v":""}]
[null,null,null,{"$f":"IF(ISNA(VLOOKUP(A58,Machines!$B:$F,2,0)),\"\",(VLOOKUP(A58,Machines!$B:$F,2,0)))","v":""},null,null,null,null,null,null,null,null,null,null,null,null,{"$f":"IF(ISNA(VLOOKUP(A58,Machines!$B:$F,4,0)),\"\",(VLOOKUP(A58,Machines!$B:$F,4,0)))","v":""}]
[null,null,null,{"$f":"IF(ISNA(VLOOKUP(A59,Machines!$B:$F,2,0)),\"\",(VLOOKUP(A59,Machines!$B:$F,2,0)))","v":""},null,null,null,null,null,null,null,null,null,null,null,null,{"$f":"IF(ISNA(VLOOKUP(A59,Machines!$B:$F,4,0)),\"\",(VLOOKUP(A59,Machines!$B:$F,4,0)))","v":""}]
[null,null,null,{"$f":"IF(ISNA(VLOOKUP(A60,Machines!$B:$F,2,0)),\"\",(VLOOKUP(A60,Machines!$B:$F,2,0)))","v":""},null,null,null,null,null,null,null,null,null,null,null,null,{"$f":"IF(ISNA(VLOOKUP(A60,Machines!$B:$F,4,0)),\"\",(VLOOKUP(A60,Machines!$B:$F,4,0)))","v":""}]
[null,null,null,{"$f":"IF(ISNA(VLOOKUP(A61,Machines!$B:$F,2,0)),\"\",(VLOOKUP(A61,Machines!$B:$F,2,0)))","v":""},null,null,null,null,null,null,null,null,null,null,null,null,{"$f":"IF(ISNA(VLOOKUP(A61,Machines!$B:$F,4,0)),\"\",(VLOOKUP(A61,Machines!$B:$F,4,0)))","v":""}]
[null,null,null,{"$f":"IF(ISNA(VLOOKUP(A62,Machines!$B:$F,2,0)),\"\",(VLOOKUP(A62,Machines!$B:$F,2,0)))","v":""},null,null,null,null,null,null,null,null,null,null,null,null,{"$f":"IF(ISNA(VLOOKUP(A62,Machines!$B:$F,4,0)),\"\",(VLOOKUP(A62,Machines!$B:$F,4,0)))","v":""}]
[null,null,null,{"$f":"IF(ISNA(VLOOKUP(A63,Machines!$B:$F,2,0)),\"\",(VLOOKUP(A63,Machines!$B:$F,2,0)))","v":""},null,null,null,null,null,null,null,null,null,null,null,null,{"$f":"IF(ISNA(VLOOKUP(A63,Machines!$B:$F,4,0)),\"\",(VLOOKUP(A63,Machines!$B:$F,4,0)))","v":""}]
[null,null,null,{"$f":"IF(ISNA(VLOOKUP(A64,Machines!$B:$F,2,0)),\"\",(VLOOKUP(A64,Machines!$B:$F,2,0)))","v":""},null,null,null,null,null,null,null,null,null,null,null,null,{"$f":"IF(ISNA(VLOOKUP(A64,Machines!$B:$F,4,0)),\"\",(VLOOKUP(A64,Machines!$B:$F,4,0)))","v":""}]
[null,null,null,{"$f":"IF(ISNA(VLOOKUP(A65,Machines!$B:$F,2,0)),\"\",(VLOOKUP(A65,Machines!$B:$F,2,0)))","v":""},null,null,null,null,null,null,null,null,null,null,null,null,{"$f":"IF(ISNA(VLOOKUP(A65,Machines!$B:$F,4,0)),\"\",(VLOOKUP(A65,Machines!$B:$F,4,0)))","v":""}]
[null,null,null,{"$f":"IF(ISNA(VLOOKUP(A66,Machines!$B:$F,2,0)),\"\",(VLOOKUP(A66,Machines!$B:$F,2,0)))","v":""},null,null,null,null,null,null,null,null,null,null,null,null,{"$f":"IF(ISNA(VLOOKUP(A66,Machines!$B:$F,4,0)),\"\",(VLOOKUP(A66,Machines!$B:$F,4,0)))","v":""}]
[null,null,null,{"$f":"IF(ISNA(VLOOKUP(A67,Machines!$B:$F,2,0)),\"\",(VLOOKUP(A67,Machines!$B:$F,2,0)))","v":""},null,null,null,null,null,null,null,null,null,null,null,null,{"$f":"IF(ISNA(VLOOKUP(A67,Machines!$B:$F,4,0)),\"\",(VLOOKUP(A67,Machines!$B:$F,4,0)))","v":""}]
[null,null,null,{"$f":"IF(ISNA(VLOOKUP(A68,Machines!$B:$F,2,0)),\"\",(VLOOKUP(A68,Machines!$B:$F,2,0)))","v":""},null,null,null,null,null,null,null,null,null,null,null,null,{"$f":"IF(ISNA(VLOOKUP(A68,Machines!$B:$F,4,0)),\"\",(VLOOKUP(A68,Machines!$B:$F,4,0)))","v":""}]
[null,null,null,{"$f":"IF(ISNA(VLOOKUP(A69,Machines!$B:$F,2,0)),\"\",(VLOOKUP(A69,Machines!$B:$F,2,0)))","v":""},null,null,null,null,null,null,null,null,null,null,null,null,{"$f":"IF(ISNA(VLOOKUP(A69,Machines!$B:$F,4,0)),\"\",(VLOOKUP(A69,Machines!$B:$F,4,0)))","v":""}]
[null,null,null,{"$f":"IF(ISNA(VLOOKUP(A70,Machines!$B:$F,2,0)),\"\",(VLOOKUP(A70,Machines!$B:$F,2,0)))","v":""},null,null,null,null,null,null,null,null,null,null,null,null,{"$f":"IF(ISNA(VLOOKUP(A70,Machines!$B:$F,4,0)),\"\",(VLOOKUP(A70,Machines!$B:$F,4,0)))","v":""}]
[null,null,null,{"$f":"IF(ISNA(VLOOKUP(A71,Machines!$B:$F,2,0)),\"\",(VLOOKUP(A71,Machines!$B:$F,2,0)))","v":""},null,null,null,null,null,null,null,null,null,null,null,null,{"$f":"IF(ISNA(VLOOKUP(A71,Machines!$B:$F,4,0)),\"\",(VLOOKUP(A71,Machines!$B:$F,4,0)))","v":""}]
[null,null,null,{"$f":"IF(ISNA(VLOOKUP(A72,Machines!$B:$F,2,0)),\"\",(VLOOKUP(A72,Machines!$B:$F,2,0)))","v":""},null,null,null,null,null,null,null,null,null,null,null,null,{"$f":"IF(ISNA(VLOOKUP(A72,Machines!$B:$F,4,0)),\"\",(VLOOKUP(A72,Machines!$B:$F,4,0)))","v":""}]
[null,null,null,{"$f":"IF(ISNA(VLOOKUP(A73,Machines!$B:$F,2,0)),\"\",(VLOOKUP(A73,Machines!$B:$F,2,0)))","v":""},null,null,null,null,null,null,null,null,null,null,null,null,{"$f":"IF(ISNA(VLOOKUP(A73,Machines!$B:$F,4,0)),\"\",(VLOOKUP(A73,Machines!$B:$F,4,0)))","v":""}]
[null,null,null,{"$f":"IF(ISNA(VLOOKUP(A74,Machines!$B:$F,2,0)),\"\",(VLOOKUP(A74,Machines!$B:$F,2,0)))","v":""},null,null,null,null,null,null,null,null,null,null,null,null,{"$f":"IF(ISNA(VLOOKUP(A74,Machines!$B:$F,4,0)),\"\",(VLOOKUP(A74,Machines!$B:$F,4,0)))","v":""}]
["CHANTIER :",null,null,null,null,{"$f":"F1","v":0},null,null,null,null,null,null,null,null,null,null,null,null,null,null,"N° CHANTIER :",null,null,null,null,null,{"$f":"AA1","v":0},null,null,null,"JOUR :",null,null,null,{"$f":"AI1","v":"Dimanche"},null,null,null,null,null,null,null,null,null,null,null,null,null,null,null,null,"DATES :",null,null,{"$f":"BC1","v":"24-01-16"}]
["MATERIAUX"]
[null,null,null,"Fournisseurs",null,null,null,null,null,null,null,null,null,null,null,null,null,null,"Description des fournitures & matériaux",null,null,null,null,null,null,null,null,null,null,null,null,null,null,null,null,null,null,null,null,null,null,null,null,null,null,null,null,null,null,"Qt totales",null,null,null,"U.",null,"Prix"]
[]
[]
[]
[]
[]
[]
[]
[]
[]
[]
[]
[]
[]
[]
[]
[]
[]
[]
[]
[]
[]
[]
[]
[]
[]
[]
[]
[]
[]
[]
[]
[null,null,null,"RESPONSABLE",null,null,null,null,null,null,null,null,"SIGNATURE",null,null,null,null,null,"DESCRIPTION DES TRAVAUX REALISES CE JOUR",null,null,null,null,null,null,null,null,null,null,null,null,null,null,null,null,null,null,null,null,null,null,null,null,null,null,null,null,null,null,"METEO"]
[null,null,null,"JENNES Loïc"]

{"sheet":"25-01-16","index":31,"n_rows":110,"n_cols":56,"rows_kept":110,"cut":false,"hidden":false,"merged":[[72,0,72,2],[72,3,72,15],[72,16,72,24],[72,25,72,28],[72,30,72,45],[72,46,72,54],[72,55,72,58],[73,0,73,2],[73,3,73,15],[73,16,73,24],[73,25,73,28],[73,30,73,45],[73,46,73,54],[73,55,73,58],[69,0,69,2],[69,3,69,15],[69,16,69,24],[69,25,69,28],[69,30,69,45],[69,46,69,54],[69,55,69,58],[71,0,71,2],[71,3,71,15],[71,16,71,24],[71,25,71,28],[71,30,71,45],[71,46,71,54],[71,55,71,58],[70,0,70,2],[70,3,70,15],[70,16,70,24],[70,25,70,28],[70,30,70,45],[70,46,70,54],[70,55,70,58],[67,0,67,2],[67,3,67,15],[67,16,67,24],[67,25,67,28],[67,30,67,45],[67,46,67,54],[67,55,67,58],[68,0,68,2],[68,3,68,15],[68,16,68,24],[68,25,68,28],[68,30,68,45],[68,46,68,54],[68,55,68,58],[65,0,65,2],[65,3,65,15],[65,16,65,24],[65,25,65,28],[65,30,65,45],[65,46,65,54],[65,55,65,58],[66,0,66,2],[66,3,66,15],[66,16,66,24],[66,25,66,28],[66,30,66,45],[66,46,66,54],[66,55,66,58],[63,0,63,2],[63,3,63,15],[63,16,63,24],[63,25,63,28],[63,30,63,45],[63,46,63,54],[63,55,63,58],[64,0,64,2],[64,3,64,15],[64,16,64,24],[64,25,64,28],[64,30,64,45],[64,46,64,54],[64,55,64,58],[61,0,61,2],[61,3,61,15],[61,16,61,24],[61,25,61,28],[61,30,61,45],[61,46,61,54],[61,55,61,58],[62,0,62,2],[62,3,62,15],[62,16,62,24],[62,25,62,28],[62,30,62,45],[62,46,62,54],[62,55,62,58],[59,0,59,2],[59,3,59,15],[59,16,59,24],[59,25,59,28],[59,30,59,45],[59,46,59,54],[59,55,59,58],[60,0,60,2],[60,3,60,15],[60,16,60,24],[60,25,60,28],[60,30,60,45],[60,46,60,54],[60,55,60,58],[57,0,57,2],[57,3,57,15],[57,16,57,24],[57,25,57,28],[57,30,57,45],[57,46,57,54],[57,55,57,58],[58,0,58,2],[58,3,58,15],[58,16,58,24],[58,25,58,28],[58,30,58,45],[58,46,58,54],[58,55,58,58],[55,0,55,2],[55,3,55,15],[55,16,55,24],[55,25,55,28],[55,30,55,45],[55,46,55,54],[55,55,55,58],[56,0,56,2],[56,3,56,15],[56,16,56,24],[56,25,56,28],[56,30,56,45],[56,46,56,54],[56,55,56,58],[53,0,53,2],[53,3,53,15],[53,16,53,24],[53,25,53,28],[53,30,53,45],[53,46,53,54],[53,55,53,58],[54,0,54,2],[54,3,54,15],[54,16,54,24],[54,25,54,28],[54,30,54,45],[54,46,54,54],[54,55,54,58],[51,0,51,2],[51,3,51,15],[51,16,51,24],[51,25,51,28],[51,30,51,45],[51,46,51,54],[51,55,51,58],[52,0,52,2],[52,3,52,15],[52,16,52,24],[52,25,52,28],[52,30,52,45],[52,46,52,54],[52,55,52,58],[49,0,49,2],[49,3,49,15],[49,16,49,24],[49,25,49,28],[49,30,49,45],[49,46,49,54],[49,55,49,58],[50,0,50,2],[50,3,50,15],[50,16,50,24],[50,25,50,28],[50,30,50,45],[50,46,50,54],[50,55,50,58],[47,0,47,2],[47,3,47,15],[47,16,47,24],[47,25,47,28],[47,30,47,45],[47,46,47,54],[47,55,47,58],[48,0,48,2],[48,3,48,15],[48,16,48,24],[48,25,48,28],[48,30,48,45],[48,46,48,54],[48,55,48,58],[45,0,45,2],[45,3,45,15],[45,16,45,24],[45,25,45,28],[45,30,45,45],[45,46,45,54],[45,55,45,58],[46,0,46,2],[46,3,46,15],[46,16,46,24],[46,25,46,28],[46,30,46,45],[46,46,46,54],[46,55,46,58],[43,0,43,2],[43,3,43,15],[43,16,43,24],[43,25,43,28],[43,30,43,45],[43,46,43,54],[43,55,43,58],[44,0,44,2],[44,3,44,15],[44,16,44,24],[44,25,44,28],[44,30,44,45],[44,46,44,54],[44,55,44,58],[41,25,41,28],[41,30,41,45],[41,46,41,54],[41,55,41,58],[42,0,42,2],[42,3,42,15],[42,16,42,24],[42,25,42,28],[42,30,42,45],[42,46,42,54],[42,55,42,58],[37,0,37,4],[37,5,37,19],[37,20,37,25],[37,26,37,28],[37,30,37,32],[37,34,37,47],[37,51,37,53],[37,54,37,58],[38,0,38,28],[38,29,73,29],[38,30,38,58],[39,0,39,4],[39,6,39,9],[39,12,39,15],[40,0,40,2],[40,3,40,15],[40,16,40,24],[40,25,40,28],[40,30,40,45],[40,46,40,54],[40,55,40,58],[41,0,41,2],[41,3,41,15],[41,16,41,24],[36,0,36,15],[36,16,36,18],[36,19,36,21],[36,22,36,24],[36,25,36,28],[36,30,36,32],[36,33,36,45],[36,46,36,54],[36,55,36,58],[35,0,35,15],[35,16,35,18],[35,19,35,21],[35,22,35,24],[35,25,35,28],[35,30,35,32],[35,33,35,45],[35,46,35,54],[35,55,35,58],[34,0,34,15],[34,16,34,18],[34,19,34,21],[34,22,34,24],[34,25,34,28],[34,30,34,32],[34,33,34,45],[34,46,34,54],[34,55,34,58],[33,0,33,15],[33,16,33,18],[33,19,33,21],[33,22,33,24],[33,25,33,28],[33,30,33,32],[33,33,33,45],[33,46,33,54],[33,55,33,58],[32,0,32,15],[32,16,32,18],[32,19,32,21],[32,22,32,24],[32,25,32,28],[32,30,32,32],[32,33,32,45],[32,46,32,54],[32,55,32,58],[31,0,31,15],[31,16,31,18],[31,19,31,21],[31,22,31,24],[31,25,31,28],[31,30,31,32],[31,33,31,45],[31,46,31,54],[31,55,31,58],[30,0,30,15],[30,16,30,18],[30,19,30,21],[30,22,30,24],[30,25,30,28],[30,30,30,32],[30,33,30,45],[30,46,30,54],[30,55,30,58],[29,0,29,15],[29,16,29,18],[29,19,29,21],[29,22,29,24],[29,25,29,28],[29,30,29,32],[29,33,29,45],[29,46,29,54],[29,55,29,58],[28,0,28,15],[28,16,28,18],[28,19,28,21],[28,22,28,24],[28,25,28,28],[28,30,28,32],[28,33,28,45],[28,46,28,54],[28,55,28,58],[27,0,27,15],[27,16,27,18],[27,19,27,21],[27,22,27,24],[27,25,27,28],[27,30,27,32],[27,33,27,45],[27,46,27,54],[27,55,27,58],[26,0,26,15],[26,16,26,18],[26,19,26,21],[26,22,26,24],[26,25,26,28],[26,30,26,32],[26,33,26,45],[26,46,26,54],[26,55,26,58],[25,0,25,15],[25,16,25,18],[25,19,25,21],[25,22,25,24],[25,25,25,28],[25,30,25,32],[25,33,25,45],[25,46,25,54],[25,55,25,58],[24,0,24,15],[24,16,24,18],[24,19,24,21],[24,22,24,24],[24,25,24,28],[24,30,24,32],[24,33,24,45],[24,46,24,54],[24,55,24,58],[23,0,23,15],[23,16,23,18],[23,19,23,21],[23,22,23,24],[23,25,23,28],[23,30,23,32],[23,33,23,45],[23,46,23,54],[23,55,23,58],[22,0,22,15],[22,16,22,18],[22,19,22,21],[22,22,22,24],[22,25,22,28],[22,30,22,32],[22,33,22,45],[22,46,22,54],[22,55,22,58],[21,0,21,15],[21,16,21,18],[21,19,21,21],[21,22,21,24],[21,25,21,28],[21,30,21,32],[21,33,21,45],[21,46,21,54],[21,55,21,58],[20,0,20,15],[20,16,20,18],[20,19,20,21],[20,22,20,24],[20,25,20,28],[20,30,20,32],[20,33,20,45],[20,46,20,54],[20,55,20,58],[19,0,19,15],[19,16,19,18],[19,19,19,21],[19,22,19,24],[19,25,19,28],[19,30,19,32],[19,33,19,45],[19,46,19,54],[19,55,19,58],[18,0,18,15],[18,16,18,18],[18,19,18,21],[18,22,18,24],[18,25,18,28],[18,30,18,32],[18,33,18,45],[18,46,18,54],[18,55,18,58],[17,0,17,15],[17,16,17,18],[17,19,17,21],[17,22,17,24],[17,25,17,28],[17,30,17,32],[17,33,17,45],[17,46,17,54],[17,55,17,58],[16,0,16,15],[16,16,16,18],[16,19,16,21],[16,22,16,24],[16,25,16,28],[16,30,16,32],[16,33,16,45],[16,46,16,54],[16,55,16,58],[15,0,15,15],[15,16,15,18],[15,19,15,21],[15,22,15,24],[15,25,15,28],[15,30,15,32],[15,33,15,45],[15,46,15,54],[15,55,15,58],[14,0,14,15],[14,16,14,18],[14,19,14,21],[14,22,14,24],[14,25,14,28],[14,30,14,32],[14,33,14,45],[14,46,14,54],[14,55,14,58],[13,0,13,15],[13,16,13,18],[13,19,13,21],[13,22,13,24],[13,25,13,28],[13,30,13,32],[13,33,13,45],[13,46,13,54],[13,55,13,58],[12,0,12,15],[12,16,12,18],[12,19,12,21],[12,22,12,24],[12,25,12,28],[12,30,12,32],[12,33,12,45],[12,46,12,54],[12,55,12,58],[11,0,11,15],[11,16,11,18],[11,19,11,21],[11,22,11,24],[11,25,11,28],[11,30,11,32],[11,33,11,45],[11,46,11,54],[11,55,11,58],[10,0,10,15],[10,16,10,18],[10,19,10,21],[10,22,10,24],[10,25,10,28],[10,30,10,32],[10,33,10,45],[10,46,10,54],[10,55,10,58],[9,0,9,15],[9,16,9,18],[9,19,9,21],[9,22,9,24],[9,25,9,28],[9,30,9,32],[9,33,9,45],[9,46,9,54],[9,55,9,58],[8,0,8,15],[8,16,8,18],[8,19,8,21],[8,22,8,24],[8,25,8,28],[8,30,8,32],[8,33,8,45],[8,46,8,54],[8,55,8,58],[7,0,7,15],[7,16,7,18],[7,19,7,21],[7,22,7,24],[7,25,7,28],[7,30,7,32],[7,33,7,45],[7,46,7,54],[7,55,7,58],[6,0,6,15],[6,16,6,18],[6,19,6,21],[6,22,6,24],[6,25,6,28],[6,30,6,32],[6,33,6,45],[6,46,6,54],[6,55,6,58],[5,0,5,15],[5,16,5,18],[5,19,5,21],[5,22,5,24],[5,25,5,28],[5,30,5,32],[5,33,5,45],[5,46,5,54],[5,55,5,58],[3,30,3,32],[3,33,3,45],[3,46,3,54],[3,55,3,58],[4,0,4,15],[4,16,4,18],[4,19,4,21],[4,22,4,24],[4,25,4,28],[4,30,4,32],[4,33,4,45],[4,46,4,54],[4,55,4,58],[0,0,0,4],[0,5,0,19],[0,20,0,25],[0,26,0,28],[0,30,0,32],[0,34,0,47],[0,51,0,53],[0,54,0,58],[1,0,1,28],[1,29,36,29],[1,30,1,58],[2,0,2,4],[2,7,2,10],[2,13,2,16],[2,19,2,22],[2,25,2,28],[2,30,2,34],[2,36,2,39],[2,42,2,45],[3,0,3,15],[3,16,3,18],[3,19,3,21],[3,22,3,24],[3,25,3,28],[107,53,107,54],[107,55,107,58],[109,18,109,48],[111,18,111,48],[108,18,108,48],[108,3,108,11],[108,12,108,17],[109,3,111,11],[109,12,111,17],[108,49,108,58],[109,49,111,58],[107,3,107,17],[107,18,107,48],[110,18,110,48],[105,3,105,17],[105,18,105,48],[106,3,106,17],[106,18,106,48],[107,49,107,52],[104,3,104,17],[104,18,104,48],[99,3,99,17],[99,18,99,48],[100,3,100,17],[100,18,100,48],[101,3,101,17],[101,18,101,48],[102,3,102,17],[102,18,102,48],[103,49,103,52],[95,53,95,54],[95,55,95,58],[96,49,96,52],[96,53,96,54],[96,55,96,58],[97,49,97,52],[97,53,97,54],[103,3,103,17],[103,18,103,48],[97,3,97,17],[97,18,97,48],[98,3,98,17],[98,18,98,48],[95,3,95,17],[95,18,95,48],[96,3,96,17],[96,18,96,48],[95,49,95,52],[97,55,97,58],[98,49,98,52],[98,53,98,54],[98,55,98,58],[99,49,99,52],[99,53,99,54],[94,3,94,17],[94,18,94,48],[91,3,91,17],[91,18,91,48],[92,3,92,17],[92,18,92,48],[93,49,93,52],[93,53,93,54],[93,55,93,58],[94,49,94,52],[94,53,94,54],[94,55,94,58],[91,55,91,58],[92,49,92,52],[92,53,92,54],[92,55,92,58],[87,53,87,54],[87,55,87,58],[88,49,88,52],[88,53,88,54],[88,55,88,58],[89,49,89,52],[89,53,89,54],[93,3,93,17],[93,18,93,48],[89,3,89,17],[89,18,89,48],[90,3,90,17],[90,18,90,48],[87,3,87,17],[87,18,87,48],[88,3,88,17],[88,18,88,48],[87,49,87,52],[89,55,89,58],[90,49,90,52],[90,53,90,54],[90,55,90,58],[91,49,91,52],[91,53,91,54],[86,3,86,17],[86,18,86,48],[83,3,83,17],[83,18,83,48],[84,3,84,17],[84,18,84,48],[85,49,85,52],[85,53,85,54],[85,55,85,58],[86,49,86,52],[86,53,86,54],[86,55,86,58],[83,55,83,58],[84,49,84,52],[84,53,84,54],[84,55,84,58],[79,53,79,54],[79,55,79,58],[80,49,80,52],[80,53,80,54],[80,55,80,58],[81,49,81,52],[81,53,81,54],[85,3,85,17],[85,18,85,48],[81,3,81,17],[81,18,81,48],[82,3,82,17],[82,18,82,48],[79,3,79,17],[79,18,79,48],[80,3,80,17],[80,18,80,48],[79,49,79,52],[81,55,81,58],[82,49,82,52],[82,53,82,54],[82,55,82,58],[83,49,83,52],[83,53,83,54],[74,54,74,58],[75,0,75,58],[76,49,76,52],[76,53,76,54],[76,55,76,58],[77,3,77,17],[77,18,77,48],[78,3,78,17],[78,18,78,48],[77,49,77,52],[77,53,77,54],[77,55,77,58],[78,49,78,52],[78,53,78,54],[78,55,78,58],[76,3,76,17],[76,18,76,48],[74,0,74,4],[74,5,74,19],[74,20,74,25],[74,26,74,28],[74,30,74,32],[74,34,74,47],[74,51,74,53],[99,55,99,58],[100,49,100,52],[100,53,100,54],[100,55,100,58],[101,49,101,52],[101,53,101,54],[101,55,101,58],[102,49,102,52],[102,53,102,54],[102,55,102,58],[103,53,103,54],[103,55,103,58],[104,49,104,52],[104,53,104,54],[104,55,104,58],[105,49,105,52],[105,53,105,54],[105,55,105,58],[106,49,106,52],[106,53,106,54],[106,55,106,58]]}
["CHANTIER :",null,null,null,null,{"$f":"'01-01-16'!F1","v":0},null,null,null,null,null,null,null,null,null,null,null,null,null,null,"N° CHANTIER :",null,null,null,null,null,{"$f":"'01-01-16'!AA1","v":0},null,null,null,"JOUR :",null,null,null,{"$f":" CHOOSE(WEEKDAY(BC1,2),\"Lundi\",\"Mardi\",\"Mercredi\",\"Jeudi\",\"Vendredi\",\"Samedi\",\"Dimanche\")","v":"Lundi"},null,null,null,null,null,null,null,null,null,null,null,null,null,null,null,null,"DATES :",null,null,{"$f":"MID(CELL(\"nomfichier\",A1),FIND(\"]\",CELL(\"nomfichier\",A1),1)+1,30)","v":"25-01-16"}]
["MAIN D'ŒUVRE",null,null,null,null,null,null,null,null,null,null,null,null,null,null,null,null,null,null,null,null,null,null,null,null,null,null,null,null,null,"CAMIONS"]
["Légende :",null,null,null,null,null,"Co",".= Congé",null,null,null,null,"M",".= Malade",null,null,null,null,"Cho",".= Chômage",null,null,null,null,"Va",".= Vacance",null,null,null,null,"Légende :",null,null,null,null,"Pa",".= Panne",null,null,null,null,"Ent",".= Entretien"]
["NOM - Prénom du travailleur",null,null,null,null,null,null,null,null,null,null,null,null,null,null,null,"Début journée",null,null,"Arrêt repas",null,null,"Fin journée",null,null,"Heures prestées",null,null,null,null,"N°",null,null,"Description du matériel",null,null,null,null,null,null,null,null,null,null,null,null,"Nom de l'opérateur",null,null,null,null,null,null,null,null,"Heures"]
[null,null,null,null,null,null,null,null,null,null,null,null,null,null,null,null,null,null,null,null,null,null,null,null,null,{"$f":"W5-Q5-T5","v":0},null,null,null,null,null,null,null,{"$f":"IF(ISNA(VLOOKUP(AE5,Camions!$B:$F,2,0)),\"\",(VLOOKUP(AE5,Camions!$B:$F,2,0)))","v":""},null,null,null,null,null,null,null,null,null,null,null,null,{"$f":"IF(ISNA(VLOOKUP(AE5,Camions!$B:$F,4,0)),\"\",(VLOOKUP(AE5,Camions!$B:$F,4,0)))","v":""}]
[null,null,null,null,null,null,null,null,null,null,null,null,null,null,null,null,null,null,null,null,null,null,null,null,null,{"$f":"W6-Q6-T6","v":0},null,null,null,null,null,null,null,{"$f":"IF(ISNA(VLOOKUP(AE6,Camions!$B:$F,2,0)),\"\",(VLOOKUP(AE6,Camions!$B:$F,2,0)))","v":""},null,null,null,null,null,null,null,null,null,null,null,null,{"$f":"IF(ISNA(VLOOKUP(AE6,Camions!$B:$F,4,0)),\"\",(VLOOKUP(AE6,Camions!$B:$F,4,0)))","v":""}]
[null,null,null,null,null,null,null,null,null,null,null,null,null,null,null,null,null,null,null,null,null,null,null,null,null,0,null,null,null,null,null,null,null,{"$f":"IF(ISNA(VLOOKUP(AE7,Camions!$B:$F,2,0)),\"\",(VLOOKUP(AE7,Camions!$B:$F,2,0)))","v":""},null,null,null,null,null,null,null,null,null,null,null,null,{"$f":"IF(ISNA(VLOOKUP(AE7,Camions!$B:$F,4,0)),\"\",(VLOOKUP(AE7,Camions!$B:$F,4,0)))","v":""}]
[null,null,null,null,null,null,null,null,null,null,null,null,null,null,null,null,null,null,null,null,null,null,null,null,null,0,null,null,null,null,null,null,null,{"$f":"IF(ISNA(VLOOKUP(AE8,Camions!$B:$F,2,0)),\"\",(VLOOKUP(AE8,Camions!$B:$F,2,0)))","v":""},null,null,null,null,null,null,null,null,null,null,null,null,{"$f":"IF(ISNA(VLOOKUP(AE8,Camions!$B:$F,4,0)),\"\",(VLOOKUP(AE8,Camions!$B:$F,4,0)))","v":""}]
[null,null,null,null,null,null,null,null,null,null,null,null,null,null,null,null,null,null,null,null,null,null,null,null,null,0,null,null,null,null,null,null,null,{"$f":"IF(ISNA(VLOOKUP(AE9,Camions!$B:$F,2,0)),\"\",(VLOOKUP(AE9,Camions!$B:$F,2,0)))","v":""},null,null,null,null,null,null,null,null,null,null,null,null,{"$f":"IF(ISNA(VLOOKUP(AE9,Camions!$B:$F,4,0)),\"\",(VLOOKUP(AE9,Camions!$B:$F,4,0)))","v":""}]
[null,null,null,null,null,null,null,null,null,null,null,null,null,null,null,null,null,null,null,null,null,null,null,null,null,0,null,null,null,null,null,null,null,{"$f":"IF(ISNA(VLOOKUP(AE10,Camions!$B:$F,2,0)),\"\",(VLOOKUP(AE10,Camions!$B:$F,2,0)))","v":""},null,null,null,null,null,null,null,null,null,null,null,null,{"$f":"IF(ISNA(VLOOKUP(AE10,Camions!$B:$F,4,0)),\"\",(VLOOKUP(AE10,Camions!$B:$F,4,0)))","v":""}]
[null,null,null,null,null,null,null,null,null,null,null,null,null,null,null,null,null,null,null,null,null,null,null,null,null,0,null,null,null,null,null,null,null,{"$f":"IF(ISNA(VLOOKUP(AE11,Camions!$B:$F,2,0)),\"\",(VLOOKUP(AE11,Camions!$B:$F,2,0)))","v":""},null,null,null,null,null,null,null,null,null,null,null,null,{"$f":"IF(ISNA(VLOOKUP(AE11,Camions!$B:$F,4,0)),\"\",(VLOOKUP(AE11,Camions!$B:$F,4,0)))","v":""}]
[null,null,null,null,null,null,null,null,null,null,null,null,null,null,null,null,null,null,null,null,null,null,null,null,null,0,null,null,null,null,null,null,null,{"$f":"IF(ISNA(VLOOKUP(AE12,Camions!$B:$F,2,0)),\"\",(VLOOKUP(AE12,Camions!$B:$F,2,0)))","v":""},null,null,null,null,null,null,null,null,null,null,null,null,{"$f":"IF(ISNA(VLOOKUP(AE12,Camions!$B:$F,4,0)),\"\",(VLOOKUP(AE12,Camions!$B:$F,4,0)))","v":""}]
[null,null,null,null,null,null,null,null,null,null,null,null,null,null,null,null,null,null,null,null,null,null,null,null,null,0,null,null,null,null,null,null,null,{"$f":"IF(ISNA(VLOOKUP(AE13,Camions!$B:$F,2,0)),\"\",(VLOOKUP(AE13,Camions!$B:$F,2,0)))","v":""},null,null,null,null,null,null,null,null,null,null,null,null,{"$f":"IF(ISNA(VLOOKUP(AE13,Camions!$B:$F,4,0)),\"\",(VLOOKUP(AE13,Camions!$B:$F,4,0)))","v":""}]
[null,null,null,null,null,null,null,null,null,null,null,null,null,null,null,null,null,null,null,null,null,null,null,null,null,0,null,null,null,null,null,null,null,{"$f":"IF(ISNA(VLOOKUP(AE14,Camions!$B:$F,2,0)),\"\",(VLOOKUP(AE14,Camions!$B:$F,2,0)))","v":""},null,null,null,null,null,null,null,null,null,null,null,null,{"$f":"IF(ISNA(VLOOKUP(AE14,Camions!$B:$F,4,0)),\"\",(VLOOKUP(AE14,Camions!$B:$F,4,0)))","v":""}]
[null,null,null,null,null,null,null,null,null,null,null,null,null,null,null,null,null,null,null,null,null,null,null,null,null,0,null,null,null,null,null,null,null,{"$f":"IF(ISNA(VLOOKUP(AE15,Camions!$B:$F,2,0)),\"\",(VLOOKUP(AE15,Camions!$B:$F,2,0)))","v":""},null,null,null,null,null,null,null,null,null,null,null,null,{"$f":"IF(ISNA(VLOOKUP(AE15,Camions!$B:$F,4,0)),\"\",(VLOOKUP(AE15,Camions!$B:$F,4,0)))","v":""}]
[null,null,null,null,null,null,null,null,null,null,null,null,null,null,null,null,null,null,null,null,null,null,null,null,null,0,null,null,null,null,null,null,null,{"$f":"IF(ISNA(VLOOKUP(AE16,Camions!$B:$F,2,0)),\"\",(VLOOKUP(AE16,Camions!$B:$F,2,0)))","v":""},null,null,null,null,null,null,null,null,null,null,null,null,{"$f":"IF(ISNA(VLOOKUP(AE16,Camions!$B:$F,4,0)),\"\",(VLOOKUP(AE16,Camions!$B:$F,4,0)))","v":""}]
[null,null,null,null,null,null,null,null,null,null,null,null,null,null,null,null,null,null,null,null,null,null,null,null,null,0,null,null,null,null,null,null,null,{"$f":"IF(ISNA(VLOOKUP(AE17,Camions!$B:$F,2,0)),\"\",(VLOOKUP(AE17,Camions!$B:$F,2,0)))","v":""},null,null,null,null,null,null,null,null,null,null,null,null,{"$f":"IF(ISNA(VLOOKUP(AE17,Camions!$B:$F,4,0)),\"\",(VLOOKUP(AE17,Camions!$B:$F,4,0)))","v":""}]
[null,null,null,null,null,null,null,null,null,null,null,null,null,null,null,null,null,null,null,null,null,null,null,null,null,0,null,null,null,null,null,null,null,{"$f":"IF(ISNA(VLOOKUP(AE18,Camions!$B:$F,2,0)),\"\",(VLOOKUP(AE18,Camions!$B:$F,2,0)))","v":""},null,null,null,null,null,null,null,null,null,null,null,null,{"$f":"IF(ISNA(VLOOKUP(AE18,Camions!$B:$F,4,0)),\"\",(VLOOKUP(AE18,Camions!$B:$F,4,0)))","v":""}]
[null,null,null,null,null,null,null,null,null,null,null,null,null,null,null,null,null,null,null,null,null,null,null,null,null,0,null,null,null,null,null,null,null,{"$f":"IF(ISNA(VLOOKUP(AE19,Camions!$B:$F,2,0)),\"\",(VLOOKUP(AE19,Camions!$B:$F,2,0)))","v":""},null,null,null,null,null,null,null,null,null,null,null,null,{"$f":"IF(ISNA(VLOOKUP(AE19,Camions!$B:$F,4,0)),\"\",(VLOOKUP(AE19,Camions!$B:$F,4,0)))","v":""}]
[null,null,null,null,null,null,null,null,null,null,null,null,null,null,null,null,null,null,null,null,null,null,null,null,null,0,null,null,null,null,null,null,null,{"$f":"IF(ISNA(VLOOKUP(AE20,Camions!$B:$F,2,0)),\"\",(VLOOKUP(AE20,Camions!$B:$F,2,0)))","v":""},null,null,null,null,null,null,null,null,null,null,null,null,{"$f":"IF(ISNA(VLOOKUP(AE20,Camions!$B:$F,4,0)),\"\",(VLOOKUP(AE20,Camions!$B:$F,4,0)))","v":""}]
[null,null,null,null,null,null,null,null,null,null,null,null,null,null,null,null,null,null,null,null,null,null,null,null,null,0,null,null,null,null,null,null,null,{"$f":"IF(ISNA(VLOOKUP(AE21,Camions!$B:$F,2,0)),\"\",(VLOOKUP(AE21,Camions!$B:$F,2,0)))","v":""},null,null,null,null,null,null,null,null,null,null,null,null,{"$f":"IF(ISNA(VLOOKUP(AE21,Camions!$B:$F,4,0)),\"\",(VLOOKUP(AE21,Camions!$B:$F,4,0)))","v":""}]
[null,null,null,null,null,null,null,null,null,null,null,null,null,null,null,null,null,null,null,null,null,null,null,null,null,0,null,null,null,null,null,null,null,{"$f":"IF(ISNA(VLOOKUP(AE22,Camions!$B:$F,2,0)),\"\",(VLOOKUP(AE22,Camions!$B:$F,2,0)))","v":""},null,null,null,null,null,null,null,null,null,null,null,null,{"$f":"IF(ISNA(VLOOKUP(AE22,Camions!$B:$F,4,0)),\"\",(VLOOKUP(AE22,Camions!$B:$F,4,0)))","v":""}]
[null,null,null,null,null,null,null,null,null,null,null,null,null,null,null,null,null,null,null,null,null,null,null,null,null,0,null,null,null,null,null,null,null,{"$f":"IF(ISNA(VLOOKUP(AE23,Camions!$B:$F,2,0)),\"\",(VLOOKUP(AE23,Camions!$B:$F,2,0)))","v":""},null,null,null,null,null,null,null,null,null,null,null,null,{"$f":"IF(ISNA(VLOOKUP(AE23,Camions!$B:$F,4,0)),\"\",(VLOOKUP(AE23,Camions!$B:$F,4,0)))","v":""}]
[null,null,null,null,null,null,null,null,null,null,null,null,null,null,null,null,null,null,null,null,null,null,null,null,null,0,null,null,null,null,null,null,null,{"$f":"IF(ISNA(VLOOKUP(AE24,Camions!$B:$F,2,0)),\"\",(VLOOKUP(AE24,Camions!$B:$F,2,0)))","v":""},null,null,null,null,null,null,null,null,null,null,null,null,{"$f":"IF(ISNA(VLOOKUP(AE24,Camions!$B:$F,4,0)),\"\",(VLOOKUP(AE24,Camions!$B:$F,4,0)))","v":""}]
[null,null,null,null,null,null,null,null,null,null,null,null,null,null,null,null,null,null,null,null,null,null,null,null,null,0,null,null,null,null,null,null,null,{"$f":"IF(ISNA(VLOOKUP(AE25,Camions!$B:$F,2,0)),\"\",(VLOOKUP(AE25,Camions!$B:$F,2,0)))","v":""},null,null,null,null,null,null,null,null,null,null,null,null,{"$f":"IF(ISNA(VLOOKUP(AE25,Camions!$B:$F,4,0)),\"\",(VLOOKUP(AE25,Camions!$B:$F,4,0)))","v":""}]
[null,null,null,null,null,null,null,null,null,null,null,null,null,null,null,null,null,null,null,null,null,null,null,null,null,0,null,null,null,null,null,null,null,{"$f":"IF(ISNA(VLOOKUP(AE26,Camions!$B:$F,2,0)),\"\",(VLOOKUP(AE26,Camions!$B:$F,2,0)))","v":""},null,null,null,null,null,null,null,null,null,null,null,null,{"$f":"IF(ISNA(VLOOKUP(AE26,Camions!$B:$F,4,0)),\"\",(VLOOKUP(AE26,Camions!$B:$F,4,0)))","v":""}]
[null,null,null,null,null,null,null,null,null,null,null,null,null,null,null,null,null,null,null,null,null,null,null,null,null,0,null,null,null,null,null,null,null,{"$f":"IF(ISNA(VLOOKUP(AE27,Camions!$B:$F,2,0)),\"\",(VLOOKUP(AE27,Camions!$B:$F,2,0)))","v":""},null,null,null,null,null,null,null,null,null,null,null,null,{"$f":"IF(ISNA(VLOOKUP(AE27,Camions!$B:$F,4,0)),\"\",(VLOOKUP(AE27,Camions!$B:$F,4,0)))","v":""}]
[null,null,null,null,null,null,null,null,null,null,null,null,null,null,null,null,null,null,null,null,null,null,null,null,null,0,null,null,null,null,null,null,null,{"$f":"IF(ISNA(VLOOKUP(AE28,Camions!$B:$F,2,0)),\"\",(VLOOKUP(AE28,Camions!$B:$F,2,0)))","v":""},null,null,null,null,null,null,null,null,null,null,null,null,{"$f":"IF(ISNA(VLOOKUP(AE28,Camions!$B:$F,4,0)),\"\",(VLOOKUP(AE28,Camions!$B:$F,4,0)))","v":""}]
[null,null,null,null,null,null,null,null,null,null,null,null,null,null,null,null,null,null,null,null,null,null,null,null,null,0,null,null,null,null,null,null,null,{"$f":"IF(ISNA(VLOOKUP(AE29,Camions!$B:$F,2,0)),\"\",(VLOOKUP(AE29,Camions!$B:$F,2,0)))","v":""},null,null,null,null,null,null,null,null,null,null,null,null,{"$f":"IF(ISNA(VLOOKUP(AE29,Camions!$B:$F,4,0)),\"\",(VLOOKUP(AE29,Camions!$B:$F,4,0)))","v":""}]
[null,null,null,null,null,null,null,null,null,null,null,null,null,null,null,null,null,null,null,null,null,null,null,null,null,0,null,null,null,null,null,null,null,{"$f":"IF(ISNA(VLOOKUP(AE30,Camions!$B:$F,2,0)),\"\",(VLOOKUP(AE30,Camions!$B:$F,2,0)))","v":""},null,null,null,null,null,null,null,null,null,null,null,null,{"$f":"IF(ISNA(VLOOKUP(AE30,Camions!$B:$F,4,0)),\"\",(VLOOKUP(AE30,Camions!$B:$F,4,0)))","v":""}]
[null,null,null,null,null,null,null,null,null,null,null,null,null,null,null,null,null,null,null,null,null,null,null,null,null,0,null,null,null,null,null,null,null,{"$f":"IF(ISNA(VLOOKUP(AE31,Camions!$B:$F,2,0)),\"\",(VLOOKUP(AE31,Camions!$B:$F,2,0)))","v":""},null,null,null,null,null,null,null,null,null,null,null,null,{"$f":"IF(ISNA(VLOOKUP(AE31,Camions!$B:$F,4,0)),\"\",(VLOOKUP(AE31,Camions!$B:$F,4,0)))","v":""}]
[null,null,null,null,null,null,null,null,null,null,null,null,null,null,null,null,null,null,null,null,null,null,null,null,null,0,null,null,null,null,null,null,null,{"$f":"IF(ISNA(VLOOKUP(AE32,Camions!$B:$F,2,0)),\"\",(VLOOKUP(AE32,Camions!$B:$F,2,0)))","v":""},null,null,null,null,null,null,null,null,null,null,null,null,{"$f":"IF(ISNA(VLOOKUP(AE32,Camions!$B:$F,4,0)),\"\",(VLOOKUP(AE32,Camions!$B:$F,4,0)))","v":""}]
[null,null,null,null,null,null,null,null,null,null,null,null,null,null,null,null,null,null,null,null,null,null,null,null,null,0,null,null,null,null,null,null,null,{"$f":"IF(ISNA(VLOOKUP(AE33,Camions!$B:$F,2,0)),\"\",(VLOOKUP(AE33,Camions!$B:$F,2,0)))","v":""},null,null,null,null,null,null,null,null,null,null,null,null,{"$f":"IF(ISNA(VLOOKUP(AE33,Camions!$B:$F,4,0)),\"\",(VLOOKUP(AE33,Camions!$B:$F,4,0)))","v":""}]
[null,null,null,null,null,null,null,null,null,null,null,null,null,null,null,null,null,null,null,null,null,null,null,null,null,0,null,null,null,null,null,null,null,{"$f":"IF(ISNA(VLOOKUP(AE34,Camions!$B:$F,2,0)),\"\",(VLOOKUP(AE34,Camions!$B:$F,2,0)))","v":""},null,null,null,null,null,null,null,null,null,null,null,null,{"$f":"IF(ISNA(VLOOKUP(AE34,Camions!$B:$F,4,0)),\"\",(VLOOKUP(AE34,Camions!$B:$F,4,0)))","v":""}]
[null,null,null,null,null,null,null,null,null,null,null,null,null,null,null,null,null,null,null,null,null,null,null,null,null,0,null,null,null,null,null,null,null,{"$f":"IF(ISNA(VLOOKUP(AE35,Camions!$B:$F,2,0)),\"\",(VLOOKUP(AE35,Camions!$B:$F,2,0)))","v":""},null,null,null,null,null,null,null,null,null,null,null,null,{"$f":"IF(ISNA(VLOOKUP(AE35,Camions!$B:$F,4,0)),\"\",(VLOOKUP(AE35,Camions!$B:$F,4,0)))","v":""}]
[null,null,null,null,null,null,null,null,null,null,null,null,null,null,null,null,null,null,null,null,null,null,null,null,null,0,null,null,null,null,null,null,null,{"$f":"IF(ISNA(VLOOKUP(AE36,Camions!$B:$F,2,0)),\"\",(VLOOKUP(AE36,Camions!$B:$F,2,0)))","v":""},null,null,null,null,null,null,null,null,null,null,null,null,{"$f":"IF(ISNA(VLOOKUP(AE36,Camions!$B:$F,4,0)),\"\",(VLOOKUP(AE36,Camions!$B:$F,4,0)))","v":""}]
[null,null,null,null,null,null,null,null,null,null,null,null,null,null,null,null,null,null,null,null,null,null,null,null,null,0,null,null,null,null,null,null,null,{"$f":"IF(ISNA(VLOOKUP(AE37,Camions!$B:$F,2,0)),\"\",(VLOOKUP(AE37,Camions!$B:$F,2,0)))","v":""},null,null,null,null,null,null,null,null,null,null,null,null,{"$f":"IF(ISNA(VLOOKUP(AE36,Camions!$B:$F,4,0)),\"\",(VLOOKUP(AE36,Camions!$B:$F,4,0)))","v":""}]
["CHANTIER :",null,null,null,null,{"$f":"F1","v":0},null,null,null,null,null,null,null,null,null,null,null,null,null,null,"N° CHANTIER :",null,null,null,null,null,{"$f":"AA1","v":0},null,null,null,"JOUR :",null,null,null,{"$f":"AI1","v":"Lundi"},null,null,null,null,null,null,null,null,null,null,null,null,null,null,null,null,"DATES :",null,null,{"$f":"BC1","v":"25-01-16"}]
["MATERIEL",null,null,null,null,null,null,null,null,null,null,null,null,null,null,null,null,null,null,null,null,null,null,null,null,null,null,null,null,null,"SOUS-TRAITANTS"]
["Légende :",null,null,null,null,"Pa",".= Panne",null,null,null,null,"Ent",".= Entretien"]
["N°",null,null,"Description du matériel",null,null,null,null,null,null,null,null,null,null,null,null,"Nom de l'opérateur",null,null,null,null,null,null,null,null,"Heures",null,null,null,null,"Type d'engin et description des travaux ",null,null,null,null,null,null,null,null,null,null,null,null,null,null,null,"Sous-traitants",null,null,null,null,null,null,null,null,"Heures"]
[null,null,null,{"$f":"IF(ISNA(VLOOKUP(A42,Machines!$B:$F,2,0)),\"\",(VLOOKUP(A42,Machines!$B:$F,2,0)))","v":""},null,null,null,null,null,null,null,null,null,null,null,null,{"$f":"IF(ISNA(VLOOKUP(A42,Machines!$B:$F,4,0)),\"\",(VLOOKUP(A42,Machines!$B:$F,4,0)))","v":""}]
[null,null,null,{"$f":"IF(ISNA(VLOOKUP(A43,Machines!$B:$F,2,0)),\"\",(VLOOKUP(A43,Machines!$B:$F,2,0)))","v":""},null,null,null,null,null,null,null,null,null,null,null,null,{"$f":"IF(ISNA(VLOOKUP(A43,Machines!$B:$F,4,0)),\"\",(VLOOKUP(A43,Machines!$B:$F,4,0)))","v":""}]
[null,null,null,{"$f":"IF(ISNA(VLOOKUP(A44,Machines!$B:$F,2,0)),\"\",(VLOOKUP(A44,Machines!$B:$F,2,0)))","v":""},null,null,null,null,null,null,null,null,null,null,null,null,{"$f":"IF(ISNA(VLOOKUP(A44,Machines!$B:$F,4,0)),\"\",(VLOOKUP(A44,Machines!$B:$F,4,0)))","v":""}]
[null,null,null,{"$f":"IF(ISNA(VLOOKUP(A45,Machines!$B:$F,2,0)),\"\",(VLOOKUP(A45,Machines!$B:$F,2,0)))","v":""},null,null,null,null,null,null,null,null,null,null,null,null,{"$f":"IF(ISNA(VLOOKUP(A45,Machines!$B:$F,4,0)),\"\",(VLOOKUP(A45,Machines!$B:$F,4,0)))","v":""}]
[null,null,null,{"$f":"IF(ISNA(VLOOKUP(A46,Machines!$B:$F,2,0)),\"\",(VLOOKUP(A46,Machines!$B:$F,2,0)))","v":""},null,null,null,null,null,null,null,null,null,null,null,null,{"$f":"IF(ISNA(VLOOKUP(A46,Machines!$B:$F,4,0)),\"\",(VLOOKUP(A46,Machines!$B:$F,4,0)))","v":""}]
[null,null,null,{"$f":"IF(ISNA(VLOOKUP(A47,Machines!$B:$F,2,0)),\"\",(VLOOKUP(A47,Machines!$B:$F,2,0)))","v":""},null,null,null,null,null,null,null,null,null,null,null,null,{"$f":"IF(ISNA(VLOOKUP(A47,Machines!$B:$F,4,0)),\"\",(VLOOKUP(A47,Machines!$B:$F,4,0)))","v":""}]
[null,null,null,{"$f":"IF(ISNA(VLOOKUP(A48,Machines!$B:$F,2,0)),\"\",(VLOOKUP(A48,Machines!$B:$F,2,0)))","v":""},null,null,null,null,null,null,null,null,null,null,null,null,{"$f":"IF(ISNA(VLOOKUP(A48,Machines!$B:$F,4,0)),\"\",(VLOOKUP(A48,Machines!$B:$F,4,0)))","v":""}]
[null,null,null,{"$f":"IF(ISNA(VLOOKUP(A49,Machines!$B:$F,2,0)),\"\",(VLOOKUP(A49,Machines!$B:$F,2,0)))","v":""},null,null,null,null,null,null,null,null,null,null,null,null,{"$f":"IF(ISNA(VLOOKUP(A49,Machines!$B:$F,4,0)),\"\",(VLOOKUP(A49,Machines!$B:$F,4,0)))","v":""}]
[null,null,null,{"$f":"IF(ISNA(VLOOKUP(A50,Machines!$B:$F,2,0)),\"\",(VLOOKUP(A50,Machines!$B:$F,2,0)))","v":""},null,null,null,null,null,null,null,null,null,null,null,null,{"$f":"IF(ISNA(VLOOKUP(A50,Machines!$B:$F,4,0)),\"\",(VLOOKUP(A50,Machines!$B:$F,4,0)))","v":""}]
[null,null,null,{"$f":"IF(ISNA(VLOOKUP(A51,Machines!$B:$F,2,0)),\"\",(VLOOKUP(A51,Machines!$B:$F,2,0)))","v":""},null,null,null,null,null,null,null,null,null,null,null,null,{"$f":"IF(ISNA(VLOOKUP(A51,Machines!$B:$F,4,0)),\"\",(VLOOKUP(A51,Machines!$B:$F,4,0)))","v":""}]
[null,null,null,{"$f":"IF(ISNA(VLOOKUP(A52,Machines!$B:$F,2,0)),\"\",(VLOOKUP(A52,Machines!$B:$F,2,0)))","v":""},null,null,null,null,null,null,null,null,null,null,null,null,{"$f":"IF(ISNA(VLOOKUP(A52,Machines!$B:$F,4,0)),\"\",(VLOOKUP(A52,Machines!$B:$F,4,0)))","v":""}]
[null,null,null,{"$f":"IF(ISNA(VLOOKUP(A53,Machines!$B:$F,2,0)),\"\",(VLOOKUP(A53,Machines!$B:$F,2,0)))","v":""},null,null,null,null,null,null,null,null,null,null,null,null,{"$f":"IF(ISNA(VLOOKUP(A53,Machines!$B:$F,4,0)),\"\",(VLOOKUP(A53,Machines!$B:$F,4,0)))","v":""}]
[null,null,null,{"$f":"IF(ISNA(VLOOKUP(A54,Machines!$B:$F,2,0)),\"\",(VLOOKUP(A54,Machines!$B:$F,2,0)))","v":""},null,null,null,null,null,null,null,null,null,null,null,null,{"$f":"IF(ISNA(VLOOKUP(A54,Machines!$B:$F,4,0)),\"\",(VLOOKUP(A54,Machines!$B:$F,4,0)))","v":""}]
[null,null,null,{"$f":"IF(ISNA(VLOOKUP(A55,Machines!$B:$F,2,0)),\"\",(VLOOKUP(A55,Machines!$B:$F,2,0)))","v":""},null,null,null,null,null,null,null,null,null,null,null,null,{"$f":"IF(ISNA(VLOOKUP(A55,Machines!$B:$F,4,0)),\"\",(VLOOKUP(A55,Machines!$B:$F,4,0)))","v":""}]
[null,null,null,{"$f":"IF(ISNA(VLOOKUP(A56,Machines!$B:$F,2,0)),\"\",(VLOOKUP(A56,Machines!$B:$F,2,0)))","v":""},null,null,null,null,null,null,null,null,null,null,null,null,{"$f":"IF(ISNA(VLOOKUP(A56,Machines!$B:$F,4,0)),\"\",(VLOOKUP(A56,Machines!$B:$F,4,0)))","v":""}]
[null,null,null,{"$f":"IF(ISNA(VLOOKUP(A57,Machines!$B:$F,2,0)),\"\",(VLOOKUP(A57,Machines!$B:$F,2,0)))","v":""},null,null,null,null,null,null,null,null,null,null,null,null,{"$f":"IF(ISNA(VLOOKUP(A57,Machines!$B:$F,4,0)),\"\",(VLOOKUP(A57,Machines!$B:$F,4,0)))","v":""}]
[null,null,null,{"$f":"IF(ISNA(VLOOKUP(A58,Machines!$B:$F,2,0)),\"\",(VLOOKUP(A58,Machines!$B:$F,2,0)))","v":""},null,null,null,null,null,null,null,null,null,null,null,null,{"$f":"IF(ISNA(VLOOKUP(A58,Machines!$B:$F,4,0)),\"\",(VLOOKUP(A58,Machines!$B:$F,4,0)))","v":""}]
[null,null,null,{"$f":"IF(ISNA(VLOOKUP(A59,Machines!$B:$F,2,0)),\"\",(VLOOKUP(A59,Machines!$B:$F,2,0)))","v":""},null,null,null,null,null,null,null,null,null,null,null,null,{"$f":"IF(ISNA(VLOOKUP(A59,Machines!$B:$F,4,0)),\"\",(VLOOKUP(A59,Machines!$B:$F,4,0)))","v":""}]
[null,null,null,{"$f":"IF(ISNA(VLOOKUP(A60,Machines!$B:$F,2,0)),\"\",(VLOOKUP(A60,Machines!$B:$F,2,0)))","v":""},null,null,null,null,null,null,null,null,null,null,null,null,{"$f":"IF(ISNA(VLOOKUP(A60,Machines!$B:$F,4,0)),\"\",(VLOOKUP(A60,Machines!$B:$F,4,0)))","v":""}]
[null,null,null,{"$f":"IF(ISNA(VLOOKUP(A61,Machines!$B:$F,2,0)),\"\",(VLOOKUP(A61,Machines!$B:$F,2,0)))","v":""},null,null,null,null,null,null,null,null,null,null,null,null,{"$f":"IF(ISNA(VLOOKUP(A61,Machines!$B:$F,4,0)),\"\",(VLOOKUP(A61,Machines!$B:$F,4,0)))","v":""}]
[null,null,null,{"$f":"IF(ISNA(VLOOKUP(A62,Machines!$B:$F,2,0)),\"\",(VLOOKUP(A62,Machines!$B:$F,2,0)))","v":""},null,null,null,null,null,null,null,null,null,null,null,null,{"$f":"IF(ISNA(VLOOKUP(A62,Machines!$B:$F,4,0)),\"\",(VLOOKUP(A62,Machines!$B:$F,4,0)))","v":""}]
[null,null,null,{"$f":"IF(ISNA(VLOOKUP(A63,Machines!$B:$F,2,0)),\"\",(VLOOKUP(A63,Machines!$B:$F,2,0)))","v":""},null,null,null,null,null,null,null,null,null,null,null,null,{"$f":"IF(ISNA(VLOOKUP(A63,Machines!$B:$F,4,0)),\"\",(VLOOKUP(A63,Machines!$B:$F,4,0)))","v":""}]
[null,null,null,{"$f":"IF(ISNA(VLOOKUP(A64,Machines!$B:$F,2,0)),\"\",(VLOOKUP(A64,Machines!$B:$F,2,0)))","v":""},null,null,null,null,null,null,null,null,null,null,null,null,{"$f":"IF(ISNA(VLOOKUP(A64,Machines!$B:$F,4,0)),\"\",(VLOOKUP(A64,Machines!$B:$F,4,0)))","v":""}]
[null,null,null,{"$f":"IF(ISNA(VLOOKUP(A65,Machines!$B:$F,2,0)),\"\",(VLOOKUP(A65,Machines!$B:$F,2,0)))","v":""},null,null,null,null,null,null,null,null,null,null,null,null,{"$f":"IF(ISNA(VLOOKUP(A65,Machines!$B:$F,4,0)),\"\",(VLOOKUP(A65,Machines!$B:$F,4,0)))","v":""}]
[null,null,null,{"$f":"IF(ISNA(VLOOKUP(A66,Machines!$B:$F,2,0)),\"\",(VLOOKUP(A66,Machines!$B:$F,2,0)))","v":""},null,null,null,null,null,null,null,null,null,null,null,null,{"$f":"IF(ISNA(VLOOKUP(A66,Machines!$B:$F,4,0)),\"\",(VLOOKUP(A66,Machines!$B:$F,4,0)))","v":""}]
[null,null,null,{"$f":"IF(ISNA(VLOOKUP(A67,Machines!$B:$F,2,0)),\"\",(VLOOKUP(A67,Machines!$B:$F,2,0)))","v":""},null,null,null,null,null,null,null,null,null,null,null,null,{"$f":"IF(ISNA(VLOOKUP(A67,Machines!$B:$F,4,0)),\"\",(VLOOKUP(A67,Machines!$B:$F,4,0)))","v":""}]
[null,null,null,{"$f":"IF(ISNA(VLOOKUP(A68,Machines!$B:$F,2,0)),\"\",(VLOOKUP(A68,Machines!$B:$F,2,0)))","v":""},null,null,null,null,null,null,null,null,null,null,null,null,{"$f":"IF(ISNA(VLOOKUP(A68,Machines!$B:$F,4,0)),\"\",(VLOOKUP(A68,Machines!$B:$F,4,0)))","v":""}]
[null,null,null,{"$f":"IF(ISNA(VLOOKUP(A69,Machines!$B:$F,2,0)),\"\",(VLOOKUP(A69,Machines!$B:$F,2,0)))","v":""},null,null,null,null,null,null,null,null,null,null,null,null,{"$f":"IF(ISNA(VLOOKUP(A69,Machines!$B:$F,4,0)),\"\",(VLOOKUP(A69,Machines!$B:$F,4,0)))","v":""}]
[null,null,null,{"$f":"IF(ISNA(VLOOKUP(A70,Machines!$B:$F,2,0)),\"\",(VLOOKUP(A70,Machines!$B:$F,2,0)))","v":""},null,null,null,null,null,null,null,null,null,null,null,null,{"$f":"IF(ISNA(VLOOKUP(A70,Machines!$B:$F,4,0)),\"\",(VLOOKUP(A70,Machines!$B:$F,4,0)))","v":""}]
[null,null,null,{"$f":"IF(ISNA(VLOOKUP(A71,Machines!$B:$F,2,0)),\"\",(VLOOKUP(A71,Machines!$B:$F,2,0)))","v":""},null,null,null,null,null,null,null,null,null,null,null,null,{"$f":"IF(ISNA(VLOOKUP(A71,Machines!$B:$F,4,0)),\"\",(VLOOKUP(A71,Machines!$B:$F,4,0)))","v":""}]
[null,null,null,{"$f":"IF(ISNA(VLOOKUP(A72,Machines!$B:$F,2,0)),\"\",(VLOOKUP(A72,Machines!$B:$F,2,0)))","v":""},null,null,null,null,null,null,null,null,null,null,null,null,{"$f":"IF(ISNA(VLOOKUP(A72,Machines!$B:$F,4,0)),\"\",(VLOOKUP(A72,Machines!$B:$F,4,0)))","v":""}]
[null,null,null,{"$f":"IF(ISNA(VLOOKUP(A73,Machines!$B:$F,2,0)),\"\",(VLOOKUP(A73,Machines!$B:$F,2,0)))","v":""},null,null,null,null,null,null,null,null,null,null,null,null,{"$f":"IF(ISNA(VLOOKUP(A73,Machines!$B:$F,4,0)),\"\",(VLOOKUP(A73,Machines!$B:$F,4,0)))","v":""}]
[null,null,null,{"$f":"IF(ISNA(VLOOKUP(A74,Machines!$B:$F,2,0)),\"\",(VLOOKUP(A74,Machines!$B:$F,2,0)))","v":""},null,null,null,null,null,null,null,null,null,null,null,null,{"$f":"IF(ISNA(VLOOKUP(A74,Machines!$B:$F,4,0)),\"\",(VLOOKUP(A74,Machines!$B:$F,4,0)))","v":""}]
["CHANTIER :",null,null,null,null,{"$f":"F1","v":0},null,null,null,null,null,null,null,null,null,null,null,null,null,null,"N° CHANTIER :",null,null,null,null,null,{"$f":"AA1","v":0},null,null,null,"JOUR :",null,null,null,{"$f":"AI1","v":"Lundi"},null,null,null,null,null,null,null,null,null,null,null,null,null,null,null,null,"DATES :",null,null,{"$f":"BC1","v":"25-01-16"}]
["MATERIAUX"]
[null,null,null,"Fournisseurs",null,null,null,null,null,null,null,null,null,null,null,null,null,null,"Description des fournitures & matériaux",null,null,null,null,null,null,null,null,null,null,null,null,null,null,null,null,null,null,null,null,null,null,null,null,null,null,null,null,null,null,"Qt totales",null,null,null,"U.",null,"Prix"]
[]
[]
[]
[]
[]
[]
[]
[]
[]
[]
[]
[]
[]
[]
[]
[]
[]
[]
[]
[]
[]
[]
[]
[]
[]
[]
[]
[]
[]
[]
[]
[null,null,null,"RESPONSABLE",null,null,null,null,null,null,null,null,"SIGNATURE",null,null,null,null,null,"DESCRIPTION DES TRAVAUX REALISES CE JOUR",null,null,null,null,null,null,null,null,null,null,null,null,null,null,null,null,null,null,null,null,null,null,null,null,null,null,null,null,null,null,"METEO"]
[null,null,null,"JENNES Loïc"]

{"sheet":"26-01-16","index":32,"n_rows":110,"n_cols":56,"rows_kept":110,"cut":false,"hidden":false,"merged":[[110,18,110,48],[72,0,72,2],[72,3,72,15],[72,16,72,24],[72,25,72,28],[72,30,72,45],[72,46,72,54],[72,55,72,58],[73,0,73,2],[73,3,73,15],[73,16,73,24],[73,25,73,28],[73,30,73,45],[73,46,73,54],[73,55,73,58],[109,18,109,48],[107,18,107,48],[105,3,105,17],[105,18,105,48],[106,3,106,17],[106,18,106,48],[105,49,105,52],[106,49,106,52],[107,49,107,52],[69,0,69,2],[69,3,69,15],[69,16,69,24],[69,25,69,28],[69,30,69,45],[69,46,69,54],[69,55,69,58],[71,0,71,2],[71,3,71,15],[71,16,71,24],[71,25,71,28],[71,30,71,45],[71,46,71,54],[71,55,71,58],[70,0,70,2],[70,3,70,15],[70,16,70,24],[70,25,70,28],[70,30,70,45],[70,46,70,54],[70,55,70,58],[67,0,67,2],[67,3,67,15],[67,16,67,24],[67,25,67,28],[67,30,67,45],[67,46,67,54],[67,55,67,58],[68,0,68,2],[68,3,68,15],[68,16,68,24],[68,25,68,28],[68,30,68,45],[68,46,68,54],[68,55,68,58],[65,0,65,2],[65,3,65,15],[65,16,65,24],[65,25,65,28],[65,30,65,45],[65,46,65,54],[65,55,65,58],[66,0,66,2],[66,3,66,15],[66,16,66,24],[66,25,66,28],[66,30,66,45],[66,46,66,54],[66,55,66,58],[63,0,63,2],[63,3,63,15],[63,16,63,24],[63,25,63,28],[63,30,63,45],[63,46,63,54],[63,55,63,58],[64,0,64,2],[64,3,64,15],[64,16,64,24],[64,25,64,28],[64,30,64,45],[64,46,64,54],[64,55,64,58],[61,0,61,2],[61,3,61,15],[61,16,61,24],[61,25,61,28],[61,30,61,45],[61,46,61,54],[61,55,61,58],[62,0,62,2],[62,3,62,15],[62,16,62,24],[62,25,62,28],[62,30,62,45],[62,46,62,54],[62,55,62,58],[59,0,59,2],[59,3,59,15],[59,16,59,24],[59,25,59,28],[59,30,59,45],[59,46,59,54],[59,55,59,58],[60,0,60,2],[60,3,60,15],[60,16,60,24],[60,25,60,28],[60,30,60,45],[60,46,60,54],[60,55,60,58],[57,0,57,2],[57,3,57,15],[57,16,57,24],[57,25,57,28],[57,30,57,45],[57,46,57,54],[57,55,57,58],[58,0,58,2],[58,3,58,15],[58,16,58,24],[58,25,58,28],[58,30,58,45],[58,46,58,54],[58,55,58,58],[55,0,55,2],[55,3,55,15],[55,16,55,24],[55,25,55,28],[55,30,55,45],[55,46,55,54],[55,55,55,58],[56,0,56,2],[56,3,56,15],[56,16,56,24],[56,25,56,28],[56,30,56,45],[56,46,56,54],[56,55,56,58],[53,0,53,2],[53,3,53,15],[53,16,53,24],[53,25,53,28],[53,30,53,45],[53,46,53,54],[53,55,53,58],[54,0,54,2],[54,3,54,15],[54,16,54,24],[54,25,54,28],[54,30,54,45],[54,46,54,54],[54,55,54,58],[51,0,51,2],[51,3,51,15],[51,16,51,24],[51,25,51,28],[51,30,51,45],[51,46,51,54],[51,55,51,58],[52,0,52,2],[52,3,52,15],[52,16,52,24],[52,25,52,28],[52,30,52,45],[52,46,52,54],[52,55,52,58],[49,0,49,2],[49,3,49,15],[49,16,49,24],[49,25,49,28],[49,30,49,45],[49,46,49,54],[49,55,49,58],[50,0,50,2],[50,3,50,15],[50,16,50,24],[50,25,50,28],[50,30,50,45],[50,46,50,54],[50,55,50,58],[47,0,47,2],[47,3,47,15],[47,16,47,24],[47,25,47,28],[47,30,47,45],[47,46,47,54],[47,55,47,58],[48,0,48,2],[48,3,48,15],[48,16,48,24],[48,25,48,28],[48,30,48,45],[48,46,48,54],[48,55,48,58],[45,0,45,2],[45,3,45,15],[45,16,45,24],[45,25,45,28],[45,30,45,45],[45,46,45,54],[45,55,45,58],[46,0,46,2],[46,3,46,15],[46,16,46,24],[46,25,46,28],[46,30,46,45],[46,46,46,54],[46,55,46,58],[43,0,43,2],[43,3,43,15],[43,16,43,24],[43,25,43,28],[43,30,43,45],[43,46,43,54],[43,55,43,58],[44,0,44,2],[44,3,44,15],[44,16,44,24],[44,25,44,28],[44,30,44,45],[44,46,44,54],[44,55,44,58],[41,25,41,28],[41,30,41,45],[41,46,41,54],[41,55,41,58],[42,0,42,2],[42,3,42,15],[42,16,42,24],[42,25,42,28],[42,30,42,45],[42,46,42,54],[42,55,42,58],[37,0,37,4],[37,5,37,19],[37,20,37,25],[37,26,37,28],[37,30,37,32],[37,34,37,47],[37,51,37,53],[37,54,37,58],[38,0,38,28],[38,29,73,29],[38,30,38,58],[39,0,39,4],[39,6,39,9],[39,12,39,15],[40,0,40,2],[40,3,40,15],[40,16,40,24],[40,25,40,28],[40,30,40,45],[40,46,40,54],[40,55,40,58],[41,0,41,2],[41,3,41,15],[41,16,41,24],[36,0,36,15],[36,16,36,18],[36,19,36,21],[36,22,36,24],[36,25,36,28],[36,30,36,32],[36,33,36,45],[36,46,36,54],[36,55,36,58],[35,0,35,15],[35,16,35,18],[35,19,35,21],[35,22,35,24],[35,25,35,28],[35,30,35,32],[35,33,35,45],[35,46,35,54],[35,55,35,58],[34,0,34,15],[34,16,34,18],[34,19,34,21],[34,22,34,24],[34,25,34,28],[34,30,34,32],[34,33,34,45],[34,46,34,54],[34,55,34,58],[33,0,33,15],[33,16,33,18],[33,19,33,21],[33,22,33,24],[33,25,33,28],[33,30,33,32],[33,33,33,45],[33,46,33,54],[33,55,33,58],[32,0,32,15],[32,16,32,18],[32,19,32,21],[32,22,32,24],[32,25,32,28],[32,30,32,32],[32,33,32,45],[32,46,32,54],[32,55,32,58],[31,0,31,15],[31,16,31,18],[31,19,31,21],[31,22,31,24],[31,25,31,28],[31,30,31,32],[31,33,31,45],[31,46,31,54],[31,55,31,58],[30,0,30,15],[30,16,30,18],[30,19,30,21],[30,22,30,24],[30,25,30,28],[30,30,30,32],[30,33,30,45],[30,46,30,54],[30,55,30,58],[29,0,29,15],[29,16,29,18],[29,19,29,21],[29,22,29,24],[29,25,29,28],[29,30,29,32],[29,33,29,45],[29,46,29,54],[29,55,29,58],[28,0,28,15],[28,16,28,18],[28,19,28,21],[28,22,28,24],[28,25,28,28],[28,30,28,32],[28,33,28,45],[28,46,28,54],[28,55,28,58],[27,0,27,15],[27,16,27,18],[27,19,27,21],[27,22,27,24],[27,25,27,28],[27,30,27,32],[27,33,27,45],[27,46,27,54],[27,55,27,58],[26,0,26,15],[26,16,26,18],[26,19,26,21],[26,22,26,24],[26,25,26,28],[26,30,26,32],[26,33,26,45],[26,46,26,54],[26,55,26,58],[25,0,25,15],[25,16,25,18],[25,19,25,21],[25,22,25,24],[25,25,25,28],[25,30,25,32],[25,33,25,45],[25,46,25,54],[25,55,25,58],[24,0,24,15],[24,16,24,18],[24,19,24,21],[24,22,24,24],[24,25,24,28],[24,30,24,32],[24,33,24,45],[24,46,24,54],[24,55,24,58],[23,0,23,15],[23,16,23,18],[23,19,23,21],[23,22,23,24],[23,25,23,28],[23,30,23,32],[23,33,23,45],[23,46,23,54],[23,55,23,58],[22,0,22,15],[22,16,22,18],[22,19,22,21],[22,22,22,24],[22,25,22,28],[22,30,22,32],[22,33,22,45],[22,46,22,54],[22,55,22,58],[21,0,21,15],[21,16,21,18],[21,19,21,21],[21,22,21,24],[21,25,21,28],[21,30,21,32],[21,33,21,45],[21,46,21,54],[21,55,21,58],[20,0,20,15],[20,16,20,18],[20,19,20,21],[20,22,20,24],[20,25,20,28],[20,30,20,32],[20,33,20,45],[20,46,20,54],[20,55,20,58],[19,0,19,15],[19,16,19,18],[19,19,19,21],[19,22,19,24],[19,25,19,28],[19,30,19,32],[19,33,19,45],[19,46,19,54],[19,55,19,58],[18,0,18,15],[18,16,18,18],[18,19,18,21],[18,22,18,24],[18,25,18,28],[18,30,18,32],[18,33,18,45],[18,46,18,54],[18,55,18,58],[17,0,17,15],[17,16,17,18],[17,19,17,21],[17,22,17,24],[17,25,17,28],[17,30,17,32],[17,33,17,45],[17,46,17,54],[17,55,17,58],[16,0,16,15],[16,16,16,18],[16,19,16,21],[16,22,16,24],[16,25,16,28],[16,30,16,32],[16,33,16,45],[16,46,16,54],[16,55,16,58],[15,0,15,15],[15,16,15,18],[15,19,15,21],[15,22,15,24],[15,25,15,28],[15,30,15,32],[15,33,15,45],[15,46,15,54],[15,55,15,58],[14,0,14,15],[14,16,14,18],[14,19,14,21],[14,22,14,24],[14,25,14,28],[14,30,14,32],[14,33,14,45],[14,46,14,54],[14,55,14,58],[13,0,13,15],[13,16,13,18],[13,19,13,21],[13,22,13,24],[13,25,13,28],[13,30,13,32],[13,33,13,45],[13,46,13,54],[13,55,13,58],[12,0,12,15],[12,16,12,18],[12,19,12,21],[12,22,12,24],[12,25,12,28],[12,30,12,32],[12,33,12,45],[12,46,12,54],[12,55,12,58],[11,0,11,15],[11,16,11,18],[11,19,11,21],[11,22,11,24],[11,25,11,28],[11,30,11,32],[11,33,11,45],[11,46,11,54],[11,55,11,58],[10,0,10,15],[10,16,10,18],[10,19,10,21],[10,22,10,24],[10,25,10,28],[10,30,10,32],[10,33,10,45],[10,46,10,54],[10,55,10,58],[9,0,9,15],[9,16,9,18],[9,19,9,21],[9,22,9,24],[9,25,9,28],[9,30,9,32],[9,33,9,45],[9,46,9,54],[9,55,9,58],[8,0,8,15],[8,16,8,18],[8,19,8,21],[8,22,8,24],[8,25,8,28],[8,30,8,32],[8,33,8,45],[8,46,8,54],[8,55,8,58],[6,30,6,32],[6,33,6,45],[6,46,6,54],[6,55,6,58],[7,0,7,15],[7,16,7,18],[7,19,7,21],[7,22,7,24],[7,25,7,28],[7,30,7,32],[7,33,7,45],[7,46,7,54],[7,55,7,58],[4,55,4,58],[5,0,5,15],[5,16,5,18],[5,19,5,21],[5,22,5,24],[5,25,5,28],[5,30,5,32],[5,33,5,45],[5,46,5,54],[5,55,5,58],[0,51,0,53],[0,54,0,58],[1,0,1,28],[1,29,36,29],[1,30,1,58],[2,0,2,4],[2,7,2,10],[2,13,2,16],[2,19,2,22],[2,25,2,28],[2,30,2,34],[2,36,2,39],[2,42,2,45],[3,0,3,15],[3,16,3,18],[3,19,3,21],[3,22,3,24],[3,25,3,28],[3,30,3,32],[3,33,3,45],[3,46,3,54],[3,55,3,58],[4,0,4,15],[4,16,4,18],[111,18,111,48],[108,18,108,48],[108,3,108,11],[108,12,108,17],[109,3,111,11],[109,12,111,17],[0,0,0,4],[0,5,0,19],[0,20,0,25],[0,26,0,28],[0,30,0,32],[0,34,0,47],[4,19,4,21],[4,22,4,24],[4,25,4,28],[4,30,4,32],[4,33,4,45],[4,46,4,54],[6,0,6,15],[6,16,6,18],[6,19,6,21],[6,22,6,24],[6,25,6,28],[107,3,107,17],[97,53,97,54],[97,55,97,58],[98,49,98,52],[98,53,98,54],[98,55,98,58],[101,3,101,17],[101,18,101,48],[102,3,102,17],[102,18,102,48],[99,3,99,17],[99,18,99,48],[100,3,100,17],[100,18,100,48],[99,49,99,52],[99,53,99,54],[99,55,99,58],[100,49,100,52],[100,53,100,54],[100,55,100,58],[101,49,101,52],[101,53,101,54],[97,3,97,17],[97,18,97,48],[98,3,98,17],[98,18,98,48],[95,3,95,17],[95,18,95,48],[96,3,96,17],[96,18,96,48],[97,49,97,52],[89,49,89,52],[89,53,89,54],[89,55,89,58],[90,49,90,52],[90,53,90,54],[90,55,90,58],[93,3,93,17],[93,18,93,48],[94,3,94,17],[94,18,94,48],[91,3,91,17],[91,18,91,48],[92,3,92,17],[92,18,92,48],[91,49,91,52],[91,53,91,54],[91,55,91,58],[92,49,92,52],[92,53,92,54],[92,55,92,58],[93,49,93,52],[93,53,93,54],[81,49,81,52],[81,53,81,54],[81,55,81,58],[82,49,82,52],[82,53,82,54],[82,55,82,58],[83,53,83,54],[83,55,83,58],[84,53,84,54],[84,55,84,58],[85,53,85,54],[85,55,85,58],[86,53,86,54],[86,55,86,58],[87,49,87,52],[87,53,87,54],[87,55,87,58],[88,49,88,52],[88,53,88,54],[88,55,88,58],[85,3,85,17],[85,18,85,48],[86,3,86,17],[86,18,86,48],[83,3,83,17],[83,18,83,48],[84,3,84,17],[84,18,84,48],[83,49,83,52],[84,49,84,52],[85,49,85,52],[86,49,86,52],[74,0,74,4],[74,5,74,19],[74,20,74,25],[74,26,74,28],[74,30,74,32],[74,34,74,47],[74,51,74,53],[74,54,74,58],[77,3,77,17],[77,18,77,48],[75,0,75,58],[76,49,76,52],[76,53,76,54],[76,55,76,58],[77,49,77,52],[77,53,77,54],[77,55,77,58],[103,3,103,17],[103,18,103,48],[104,3,104,17],[104,18,104,48],[76,3,76,17],[76,18,76,48],[78,3,78,17],[78,18,78,48],[81,3,81,17],[81,18,81,48],[82,3,82,17],[82,18,82,48],[79,3,79,17],[79,18,79,48],[80,3,80,17],[80,18,80,48],[89,3,89,17],[89,18,89,48],[90,3,90,17],[90,18,90,48],[87,3,87,17],[87,18,87,48],[88,3,88,17],[88,18,88,48],[78,49,78,52],[78,53,78,54],[78,55,78,58],[79,49,79,52],[79,53,79,54],[79,55,79,58],[80,49,80,52],[80,53,80,54],[80,55,80,58],[93,55,93,58],[94,49,94,52],[94,53,94,54],[94,55,94,58],[95,49,95,52],[95,53,95,54],[95,55,95,58],[96,49,96,52],[96,53,96,54],[96,55,96,58],[107,55,107,58],[108,49,108,58],[109,49,111,58],[101,55,101,58],[102,49,102,52],[102,53,102,54],[102,55,102,58],[103,49,103,52],[103,53,103,54],[103,55,103,58],[104,49,104,52],[104,53,104,54],[104,55,104,58],[105,53,105,54],[105,55,105,58],[106,53,106,54],[106,55,106,58],[107,53,107,54]]}
["CHANTIER :",null,null,null,null,{"$f":"'01-01-16'!F1","v":0},null,null,null,null,null,null,null,null,null,null,null,null,null,null,"N° CHANTIER :",null,null,null,null,null,{"$f":"'01-01-16'!AA1","v":0},null,null,null,"JOUR :",null,null,null,{"$f":" CHOOSE(WEEKDAY(BC1,2),\"Lundi\",\"Mardi\",\"Mercredi\",\"Jeudi\",\"Vendredi\",\"Samedi\",\"Dimanche\")","v":"Mardi"},null,null,null,null,null,null,null,null,null,null,null,null,null,null,null,null,"DATES :",null,null,{"$f":"MID(CELL(\"nomfichier\",A1),FIND(\"]\",CELL(\"nomfichier\",A1),1)+1,30)","v":"26-01-16"}]
["MAIN D'ŒUVRE",null,null,null,null,null,null,null,null,null,null,null,null,null,null,null,null,null,null,null,null,null,null,null,null,null,null,null,null,null,"CAMIONS"]
["Légende :",null,null,null,null,null,"Co",".= Congé",null,null,null,null,"M",".= Malade",null,null,null,null,"Cho",".= Chômage",null,null,null,null,"Va",".= Vacance",null,null,null,null,"Légende :",null,null,null,null,"Pa",".= Panne",null,null,null,null,"Ent",".= Entretien"]
["NOM - Prénom du travailleur",null,null,null,null,null,null,null,null,null,null,null,null,null,null,null,"Début journée",null,null,"Arrêt repas",null,null,"Fin journée",null,null,"Heures prestées",null,null,null,null,"N°",null,null,"Description du matériel",null,null,null,null,null,null,null,null,null,null,null,null,"Nom de l'opérateur",null,null,null,null,null,null,null,null,"Heures"]
[null,null,null,null,null,null,null,null,null,null,null,null,null,null,null,null,null,null,null,null,null,null,null,null,null,{"$f":"W5-Q5-T5","v":0},null,null,null,null,null,null,null,{"$f":"IF(ISNA(VLOOKUP(AE5,Camions!$B:$F,2,0)),\"\",(VLOOKUP(AE5,Camions!$B:$F,2,0)))","v":""},null,null,null,null,null,null,null,null,null,null,null,null,{"$f":"IF(ISNA(VLOOKUP(AE5,Camions!$B:$F,4,0)),\"\",(VLOOKUP(AE5,Camions!$B:$F,4,0)))","v":""}]
[null,null,null,null,null,null,null,null,null,null,null,null,null,null,null,null,null,null,null,null,null,null,null,null,null,{"$f":"W6-Q6-T6","v":0},null,null,null,null,null,null,null,{"$f":"IF(ISNA(VLOOKUP(AE6,Camions!$B:$F,2,0)),\"\",(VLOOKUP(AE6,Camions!$B:$F,2,0)))","v":""},null,null,null,null,null,null,null,null,null,null,null,null,{"$f":"IF(ISNA(VLOOKUP(AE6,Camions!$B:$F,4,0)),\"\",(VLOOKUP(AE6,Camions!$B:$F,4,0)))","v":""}]
[null,null,null,null,null,null,null,null,null,null,null,null,null,null,null,null,null,null,null,null,null,null,null,null,null,0,null,null,null,null,null,null,null,{"$f":"IF(ISNA(VLOOKUP(AE7,Camions!$B:$F,2,0)),\"\",(VLOOKUP(AE7,Camions!$B:$F,2,0)))","v":""},null,null,null,null,null,null,null,null,null,null,null,null,{"$f":"IF(ISNA(VLOOKUP(AE7,Camions!$B:$F,4,0)),\"\",(VLOOKUP(AE7,Camions!$B:$F,4,0)))","v":""}]
[null,null,null,null,null,null,null,null,null,null,null,null,null,null,null,null,null,null,null,null,null,null,null,null,null,0,null,null,null,null,null,null,null,{"$f":"IF(ISNA(VLOOKUP(AE8,Camions!$B:$F,2,0)),\"\",(VLOOKUP(AE8,Camions!$B:$F,2,0)))","v":""},null,null,null,null,null,null,null,null,null,null,null,null,{"$f":"IF(ISNA(VLOOKUP(AE8,Camions!$B:$F,4,0)),\"\",(VLOOKUP(AE8,Camions!$B:$F,4,0)))","v":""}]
[null,null,null,null,null,null,null,null,null,null,null,null,null,null,null,null,null,null,null,null,null,null,null,null,null,0,null,null,null,null,null,null,null,{"$f":"IF(ISNA(VLOOKUP(AE9,Camions!$B:$F,2,0)),\"\",(VLOOKUP(AE9,Camions!$B:$F,2,0)))","v":""},null,null,null,null,null,null,null,null,null,null,null,null,{"$f":"IF(ISNA(VLOOKUP(AE9,Camions!$B:$F,4,0)),\"\",(VLOOKUP(AE9,Camions!$B:$F,4,0)))","v":""}]
[null,null,null,null,null,null,null,null,null,null,null,null,null,null,null,null,null,null,null,null,null,null,null,null,null,0,null,null,null,null,null,null,null,{"$f":"IF(ISNA(VLOOKUP(AE10,Camions!$B:$F,2,0)),\"\",(VLOOKUP(AE10,Camions!$B:$F,2,0)))","v":""},null,null,null,null,null,null,null,null,null,null,null,null,{"$f":"IF(ISNA(VLOOKUP(AE10,Camions!$B:$F,4,0)),\"\",(VLOOKUP(AE10,Camions!$B:$F,4,0)))","v":""}]
[null,null,null,null,null,null,null,null,null,null,null,null,null,null,null,null,null,null,null,null,null,null,null,null,null,0,null,null,null,null,null,null,null,{"$f":"IF(ISNA(VLOOKUP(AE11,Camions!$B:$F,2,0)),\"\",(VLOOKUP(AE11,Camions!$B:$F,2,0)))","v":""},null,null,null,null,null,null,null,null,null,null,null,null,{"$f":"IF(ISNA(VLOOKUP(AE11,Camions!$B:$F,4,0)),\"\",(VLOOKUP(AE11,Camions!$B:$F,4,0)))","v":""}]
[null,null,null,null,null,null,null,null,null,null,null,null,null,null,null,null,null,null,null,null,null,null,null,null,null,0,null,null,null,null,null,null,null,{"$f":"IF(ISNA(VLOOKUP(AE12,Camions!$B:$F,2,0)),\"\",(VLOOKUP(AE12,Camions!$B:$F,2,0)))","v":""},null,null,null,null,null,null,null,null,null,null,null,null,{"$f":"IF(ISNA(VLOOKUP(AE12,Camions!$B:$F,4,0)),\"\",(VLOOKUP(AE12,Camions!$B:$F,4,0)))","v":""}]
[null,null,null,null,null,null,null,null,null,null,null,null,null,null,null,null,null,null,null,null,null,null,null,null,null,0,null,null,null,null,null,null,null,{"$f":"IF(ISNA(VLOOKUP(AE13,Camions!$B:$F,2,0)),\"\",(VLOOKUP(AE13,Camions!$B:$F,2,0)))","v":""},null,null,null,null,null,null,null,null,null,null,null,null,{"$f":"IF(ISNA(VLOOKUP(AE13,Camions!$B:$F,4,0)),\"\",(VLOOKUP(AE13,Camions!$B:$F,4,0)))","v":""}]
[null,null,null,null,null,null,null,null,null,null,null,null,null,null,null,null,null,null,null,null,null,null,null,null,null,0,null,null,null,null,null,null,null,{"$f":"IF(ISNA(VLOOKUP(AE14,Camions!$B:$F,2,0)),\"\",(VLOOKUP(AE14,Camions!$B:$F,2,0)))","v":""},null,null,null,null,null,null,null,null,null,null,null,null,{"$f":"IF(ISNA(VLOOKUP(AE14,Camions!$B:$F,4,0)),\"\",(VLOOKUP(AE14,Camions!$B:$F,4,0)))","v":""}]
[null,null,null,null,null,null,null,null,null,null,null,null,null,null,null,null,null,null,null,null,null,null,null,null,null,0,null,null,null,null,null,null,null,{"$f":"IF(ISNA(VLOOKUP(AE15,Camions!$B:$F,2,0)),\"\",(VLOOKUP(AE15,Camions!$B:$F,2,0)))","v":""},null,null,null,null,null,null,null,null,null,null,null,null,{"$f":"IF(ISNA(VLOOKUP(AE15,Camions!$B:$F,4,0)),\"\",(VLOOKUP(AE15,Camions!$B:$F,4,0)))","v":""}]
[null,null,null,null,null,null,null,null,null,null,null,null,null,null,null,null,null,null,null,null,null,null,null,null,null,0,null,null,null,null,null,null,null,{"$f":"IF(ISNA(VLOOKUP(AE16,Camions!$B:$F,2,0)),\"\",(VLOOKUP(AE16,Camions!$B:$F,2,0)))","v":""},null,null,null,null,null,null,null,null,null,null,null,null,{"$f":"IF(ISNA(VLOOKUP(AE16,Camions!$B:$F,4,0)),\"\",(VLOOKUP(AE16,Camions!$B:$F,4,0)))","v":""}]
[null,null,null,null,null,null,null,null,null,null,null,null,null,null,null,null,null,null,null,null,null,null,null,null,null,0,null,null,null,null,null,null,null,{"$f":"IF(ISNA(VLOOKUP(AE17,Camions!$B:$F,2,0)),\"\",(VLOOKUP(AE17,Camions!$B:$F,2,0)))","v":""},null,null,null,null,null,null,null,null,null,null,null,null,{"$f":"IF(ISNA(VLOOKUP(AE17,Camions!$B:$F,4,0)),\"\",(VLOOKUP(AE17,Camions!$B:$F,4,0)))","v":""}]
[null,null,null,null,null,null,null,null,null,null,null,null,null,null,null,null,null,null,null,null,null,null,null,null,null,0,null,null,null,null,null,null,null,{"$f":"IF(ISNA(VLOOKUP(AE18,Camions!$B:$F,2,0)),\"\",(VLOOKUP(AE18,Camions!$B:$F,2,0)))","v":""},null,null,null,null,null,null,null,null,null,null,null,null,{"$f":"IF(ISNA(VLOOKUP(AE18,Camions!$B:$F,4,0)),\"\",(VLOOKUP(AE18,Camions!$B:$F,4,0)))","v":""}]
[null,null,null,null,null,null,null,null,null,null,null,null,null,null,null,null,null,null,null,null,null,null,null,null,null,0,null,null,null,null,null,null,null,{"$f":"IF(ISNA(VLOOKUP(AE19,Camions!$B:$F,2,0)),\"\",(VLOOKUP(AE19,Camions!$B:$F,2,0)))","v":""},null,null,null,null,null,null,null,null,null,null,null,null,{"$f":"IF(ISNA(VLOOKUP(AE19,Camions!$B:$F,4,0)),\"\",(VLOOKUP(AE19,Camions!$B:$F,4,0)))","v":""}]
[null,null,null,null,null,null,null,null,null,null,null,null,null,null,null,null,null,null,null,null,null,null,null,null,null,0,null,null,null,null,null,null,null,{"$f":"IF(ISNA(VLOOKUP(AE20,Camions!$B:$F,2,0)),\"\",(VLOOKUP(AE20,Camions!$B:$F,2,0)))","v":""},null,null,null,null,null,null,null,null,null,null,null,null,{"$f":"IF(ISNA(VLOOKUP(AE20,Camions!$B:$F,4,0)),\"\",(VLOOKUP(AE20,Camions!$B:$F,4,0)))","v":""}]
[null,null,null,null,null,null,null,null,null,null,null,null,null,null,null,null,null,null,null,null,null,null,null,null,null,0,null,null,null,null,null,null,null,{"$f":"IF(ISNA(VLOOKUP(AE21,Camions!$B:$F,2,0)),\"\",(VLOOKUP(AE21,Camions!$B:$F,2,0)))","v":""},null,null,null,null,null,null,null,null,null,null,null,null,{"$f":"IF(ISNA(VLOOKUP(AE21,Camions!$B:$F,4,0)),\"\",(VLOOKUP(AE21,Camions!$B:$F,4,0)))","v":""}]
[null,null,null,null,null,null,null,null,null,null,null,null,null,null,null,null,null,null,null,null,null,null,null,null,null,0,null,null,null,null,null,null,null,{"$f":"IF(ISNA(VLOOKUP(AE22,Camions!$B:$F,2,0)),\"\",(VLOOKUP(AE22,Camions!$B:$F,2,0)))","v":""},null,null,null,null,null,null,null,null,null,null,null,null,{"$f":"IF(ISNA(VLOOKUP(AE22,Camions!$B:$F,4,0)),\"\",(VLOOKUP(AE22,Camions!$B:$F,4,0)))","v":""}]
[null,null,null,null,null,null,null,null,null,null,null,null,null,null,null,null,null,null,null,null,null,null,null,null,null,0,null,null,null,null,null,null,null,{"$f":"IF(ISNA(VLOOKUP(AE23,Camions!$B:$F,2,0)),\"\",(VLOOKUP(AE23,Camions!$B:$F,2,0)))","v":""},null,null,null,null,null,null,null,null,null,null,null,null,{"$f":"IF(ISNA(VLOOKUP(AE23,Camions!$B:$F,4,0)),\"\",(VLOOKUP(AE23,Camions!$B:$F,4,0)))","v":""}]
[null,null,null,null,null,null,null,null,null,null,null,null,null,null,null,null,null,null,null,null,null,null,null,null,null,0,null,null,null,null,null,null,null,{"$f":"IF(ISNA(VLOOKUP(AE24,Camions!$B:$F,2,0)),\"\",(VLOOKUP(AE24,Camions!$B:$F,2,0)))","v":""},null,null,null,null,null,null,null,null,null,null,null,null,{"$f":"IF(ISNA(VLOOKUP(AE24,Camions!$B:$F,4,0)),\"\",(VLOOKUP(AE24,Camions!$B:$F,4,0)))","v":""}]
[null,null,null,null,null,null,null,null,null,null,null,null,null,null,null,null,null,null,null,null,null,null,null,null,null,0,null,null,null,null,null,null,null,{"$f":"IF(ISNA(VLOOKUP(AE25,Camions!$B:$F,2,0)),\"\",(VLOOKUP(AE25,Camions!$B:$F,2,0)))","v":""},null,null,null,null,null,null,null,null,null,null,null,null,{"$f":"IF(ISNA(VLOOKUP(AE25,Camions!$B:$F,4,0)),\"\",(VLOOKUP(AE25,Camions!$B:$F,4,0)))","v":""}]
[null,null,null,null,null,null,null,null,null,null,null,null,null,null,null,null,null,null,null,null,null,null,null,null,null,0,null,null,null,null,null,null,null,{"$f":"IF(ISNA(VLOOKUP(AE26,Camions!$B:$F,2,0)),\"\",(VLOOKUP(AE26,Camions!$B:$F,2,0)))","v":""},null,null,null,null,null,null,null,null,null,null,null,null,{"$f":"IF(ISNA(VLOOKUP(AE26,Camions!$B:$F,4,0)),\"\",(VLOOKUP(AE26,Camions!$B:$F,4,0)))","v":""}]
[null,null,null,null,null,null,null,null,null,null,null,null,null,null,null,null,null,null,null,null,null,null,null,null,null,0,null,null,null,null,null,null,null,{"$f":"IF(ISNA(VLOOKUP(AE27,Camions!$B:$F,2,0)),\"\",(VLOOKUP(AE27,Camions!$B:$F,2,0)))","v":""},null,null,null,null,null,null,null,null,null,null,null,null,{"$f":"IF(ISNA(VLOOKUP(AE27,Camions!$B:$F,4,0)),\"\",(VLOOKUP(AE27,Camions!$B:$F,4,0)))","v":""}]
[null,null,null,null,null,null,null,null,null,null,null,null,null,null,null,null,null,null,null,null,null,null,null,null,null,0,null,null,null,null,null,null,null,{"$f":"IF(ISNA(VLOOKUP(AE28,Camions!$B:$F,2,0)),\"\",(VLOOKUP(AE28,Camions!$B:$F,2,0)))","v":""},null,null,null,null,null,null,null,null,null,null,null,null,{"$f":"IF(ISNA(VLOOKUP(AE28,Camions!$B:$F,4,0)),\"\",(VLOOKUP(AE28,Camions!$B:$F,4,0)))","v":""}]
[null,null,null,null,null,null,null,null,null,null,null,null,null,null,null,null,null,null,null,null,null,null,null,null,null,0,null,null,null,null,null,null,null,{"$f":"IF(ISNA(VLOOKUP(AE29,Camions!$B:$F,2,0)),\"\",(VLOOKUP(AE29,Camions!$B:$F,2,0)))","v":""},null,null,null,null,null,null,null,null,null,null,null,null,{"$f":"IF(ISNA(VLOOKUP(AE29,Camions!$B:$F,4,0)),\"\",(VLOOKUP(AE29,Camions!$B:$F,4,0)))","v":""}]
[null,null,null,null,null,null,null,null,null,null,null,null,null,null,null,null,null,null,null,null,null,null,null,null,null,0,null,null,null,null,null,null,null,{"$f":"IF(ISNA(VLOOKUP(AE30,Camions!$B:$F,2,0)),\"\",(VLOOKUP(AE30,Camions!$B:$F,2,0)))","v":""},null,null,null,null,null,null,null,null,null,null,null,null,{"$f":"IF(ISNA(VLOOKUP(AE30,Camions!$B:$F,4,0)),\"\",(VLOOKUP(AE30,Camions!$B:$F,4,0)))","v":""}]
[null,null,null,null,null,null,null,null,null,null,null,null,null,null,null,null,null,null,null,null,null,null,null,null,null,0,null,null,null,null,null,null,null,{"$f":"IF(ISNA(VLOOKUP(AE31,Camions!$B:$F,2,0)),\"\",(VLOOKUP(AE31,Camions!$B:$F,2,0)))","v":""},null,null,null,null,null,null,null,null,null,null,null,null,{"$f":"IF(ISNA(VLOOKUP(AE31,Camions!$B:$F,4,0)),\"\",(VLOOKUP(AE31,Camions!$B:$F,4,0)))","v":""}]
[null,null,null,null,null,null,null,null,null,null,null,null,null,null,null,null,null,null,null,null,null,null,null,null,null,0,null,null,null,null,null,null,null,{"$f":"IF(ISNA(VLOOKUP(AE32,Camions!$B:$F,2,0)),\"\",(VLOOKUP(AE32,Camions!$B:$F,2,0)))","v":""},null,null,null,null,null,null,null,null,null,null,null,null,{"$f":"IF(ISNA(VLOOKUP(AE32,Camions!$B:$F,4,0)),\"\",(VLOOKUP(AE32,Camions!$B:$F,4,0)))","v":""}]
[null,null,null,null,null,null,null,null,null,null,null,null,null,null,null,null,null,null,null,null,null,null,null,null,null,0,null,null,null,null,null,null,null,{"$f":"IF(ISNA(VLOOKUP(AE33,Camions!$B:$F,2,0)),\"\",(VLOOKUP(AE33,Camions!$B:$F,2,0)))","v":""},null,null,null,null,null,null,null,null,null,null,null,null,{"$f":"IF(ISNA(VLOOKUP(AE33,Camions!$B:$F,4,0)),\"\",(VLOOKUP(AE33,Camions!$B:$F,4,0)))","v":""}]
[null,null,null,null,null,null,null,null,null,null,null,null,null,null,null,null,null,null,null,null,null,null,null,null,null,0,null,null,null,null,null,null,null,{"$f":"IF(ISNA(VLOOKUP(AE34,Camions!$B:$F,2,0)),\"\",(VLOOKUP(AE34,Camions!$B:$F,2,0)))","v":""},null,null,null,null,null,null,null,null,null,null,null,null,{"$f":"IF(ISNA(VLOOKUP(AE34,Camions!$B:$F,4,0)),\"\",(VLOOKUP(AE34,Camions!$B:$F,4,0)))","v":""}]
[null,null,null,null,null,null,null,null,null,null,null,null,null,null,null,null,null,null,null,null,null,null,null,null,null,0,null,null,null,null,null,null,null,{"$f":"IF(ISNA(VLOOKUP(AE35,Camions!$B:$F,2,0)),\"\",(VLOOKUP(AE35,Camions!$B:$F,2,0)))","v":""},null,null,null,null,null,null,null,null,null,null,null,null,{"$f":"IF(ISNA(VLOOKUP(AE35,Camions!$B:$F,4,0)),\"\",(VLOOKUP(AE35,Camions!$B:$F,4,0)))","v":""}]
[null,null,null,null,null,null,null,null,null,null,null,null,null,null,null,null,null,null,null,null,null,null,null,null,null,0,null,null,null,null,null,null,null,{"$f":"IF(ISNA(VLOOKUP(AE36,Camions!$B:$F,2,0)),\"\",(VLOOKUP(AE36,Camions!$B:$F,2,0)))","v":""},null,null,null,null,null,null,null,null,null,null,null,null,{"$f":"IF(ISNA(VLOOKUP(AE36,Camions!$B:$F,4,0)),\"\",(VLOOKUP(AE36,Camions!$B:$F,4,0)))","v":""}]
[null,null,null,null,null,null,null,null,null,null,null,null,null,null,null,null,null,null,null,null,null,null,null,null,null,0,null,null,null,null,null,null,null,{"$f":"IF(ISNA(VLOOKUP(AE37,Camions!$B:$F,2,0)),\"\",(VLOOKUP(AE37,Camions!$B:$F,2,0)))","v":""},null,null,null,null,null,null,null,null,null,null,null,null,{"$f":"IF(ISNA(VLOOKUP(AE36,Camions!$B:$F,4,0)),\"\",(VLOOKUP(AE36,Camions!$B:$F,4,0)))","v":""}]
["CHANTIER :",null,null,null,null,{"$f":"F1","v":0},null,null,null,null,null,null,null,null,null,null,null,null,null,null,"N° CHANTIER :",null,null,null,null,null,{"$f":"AA1","v":0},null,null,null,"JOUR :",null,null,null,{"$f":"AI1","v":"Mardi"},null,null,null,null,null,null,null,null,null,null,null,null,null,null,null,null,"DATES :",null,null,{"$f":"BC1","v":"26-01-16"}]
["MATERIEL",null,null,null,null,null,null,null,null,null,null,null,null,null,null,null,null,null,null,null,null,null,null,null,null,null,null,null,null,null,"SOUS-TRAITANTS"]
["Légende :",null,null,null,null,"Pa",".= Panne",null,null,null,null,"Ent",".= Entretien"]
["N°",null,null,"Description du matériel",null,null,null,null,null,null,null,null,null,null,null,null,"Nom de l'opérateur",null,null,null,null,null,null,null,null,"Heures",null,null,null,null,"Type d'engin et description des travaux ",null,null,null,null,null,null,null,null,null,null,null,null,null,null,null,"Sous-traitants",null,null,null,null,null,null,null,null,"Heures"]
[null,null,null,{"$f":"IF(ISNA(VLOOKUP(A42,Machines!$B:$F,2,0)),\"\",(VLOOKUP(A42,Machines!$B:$F,2,0)))","v":""},null,null,null,null,null,null,null,null,null,null,null,null,{"$f":"IF(ISNA(VLOOKUP(A42,Machines!$B:$F,4,0)),\"\",(VLOOKUP(A42,Machines!$B:$F,4,0)))","v":""}]
[null,null,null,{"$f":"IF(ISNA(VLOOKUP(A43,Machines!$B:$F,2,0)),\"\",(VLOOKUP(A43,Machines!$B:$F,2,0)))","v":""},null,null,null,null,null,null,null,null,null,null,null,null,{"$f":"IF(ISNA(VLOOKUP(A43,Machines!$B:$F,4,0)),\"\",(VLOOKUP(A43,Machines!$B:$F,4,0)))","v":""}]
[null,null,null,{"$f":"IF(ISNA(VLOOKUP(A44,Machines!$B:$F,2,0)),\"\",(VLOOKUP(A44,Machines!$B:$F,2,0)))","v":""},null,null,null,null,null,null,null,null,null,null,null,null,{"$f":"IF(ISNA(VLOOKUP(A44,Machines!$B:$F,4,0)),\"\",(VLOOKUP(A44,Machines!$B:$F,4,0)))","v":""}]
[null,null,null,{"$f":"IF(ISNA(VLOOKUP(A45,Machines!$B:$F,2,0)),\"\",(VLOOKUP(A45,Machines!$B:$F,2,0)))","v":""},null,null,null,null,null,null,null,null,null,null,null,null,{"$f":"IF(ISNA(VLOOKUP(A45,Machines!$B:$F,4,0)),\"\",(VLOOKUP(A45,Machines!$B:$F,4,0)))","v":""}]
[null,null,null,{"$f":"IF(ISNA(VLOOKUP(A46,Machines!$B:$F,2,0)),\"\",(VLOOKUP(A46,Machines!$B:$F,2,0)))","v":""},null,null,null,null,null,null,null,null,null,null,null,null,{"$f":"IF(ISNA(VLOOKUP(A46,Machines!$B:$F,4,0)),\"\",(VLOOKUP(A46,Machines!$B:$F,4,0)))","v":""}]
[null,null,null,{"$f":"IF(ISNA(VLOOKUP(A47,Machines!$B:$F,2,0)),\"\",(VLOOKUP(A47,Machines!$B:$F,2,0)))","v":""},null,null,null,null,null,null,null,null,null,null,null,null,{"$f":"IF(ISNA(VLOOKUP(A47,Machines!$B:$F,4,0)),\"\",(VLOOKUP(A47,Machines!$B:$F,4,0)))","v":""}]
[null,null,null,{"$f":"IF(ISNA(VLOOKUP(A48,Machines!$B:$F,2,0)),\"\",(VLOOKUP(A48,Machines!$B:$F,2,0)))","v":""},null,null,null,null,null,null,null,null,null,null,null,null,{"$f":"IF(ISNA(VLOOKUP(A48,Machines!$B:$F,4,0)),\"\",(VLOOKUP(A48,Machines!$B:$F,4,0)))","v":""}]
[null,null,null,{"$f":"IF(ISNA(VLOOKUP(A49,Machines!$B:$F,2,0)),\"\",(VLOOKUP(A49,Machines!$B:$F,2,0)))","v":""},null,null,null,null,null,null,null,null,null,null,null,null,{"$f":"IF(ISNA(VLOOKUP(A49,Machines!$B:$F,4,0)),\"\",(VLOOKUP(A49,Machines!$B:$F,4,0)))","v":""}]
[null,null,null,{"$f":"IF(ISNA(VLOOKUP(A50,Machines!$B:$F,2,0)),\"\",(VLOOKUP(A50,Machines!$B:$F,2,0)))","v":""},null,null,null,null,null,null,null,null,null,null,null,null,{"$f":"IF(ISNA(VLOOKUP(A50,Machines!$B:$F,4,0)),\"\",(VLOOKUP(A50,Machines!$B:$F,4,0)))","v":""}]
[null,null,null,{"$f":"IF(ISNA(VLOOKUP(A51,Machines!$B:$F,2,0)),\"\",(VLOOKUP(A51,Machines!$B:$F,2,0)))","v":""},null,null,null,null,null,null,null,null,null,null,null,null,{"$f":"IF(ISNA(VLOOKUP(A51,Machines!$B:$F,4,0)),\"\",(VLOOKUP(A51,Machines!$B:$F,4,0)))","v":""}]
[null,null,null,{"$f":"IF(ISNA(VLOOKUP(A52,Machines!$B:$F,2,0)),\"\",(VLOOKUP(A52,Machines!$B:$F,2,0)))","v":""},null,null,null,null,null,null,null,null,null,null,null,null,{"$f":"IF(ISNA(VLOOKUP(A52,Machines!$B:$F,4,0)),\"\",(VLOOKUP(A52,Machines!$B:$F,4,0)))","v":""}]
[null,null,null,{"$f":"IF(ISNA(VLOOKUP(A53,Machines!$B:$F,2,0)),\"\",(VLOOKUP(A53,Machines!$B:$F,2,0)))","v":""},null,null,null,null,null,null,null,null,null,null,null,null,{"$f":"IF(ISNA(VLOOKUP(A53,Machines!$B:$F,4,0)),\"\",(VLOOKUP(A53,Machines!$B:$F,4,0)))","v":""}]
[null,null,null,{"$f":"IF(ISNA(VLOOKUP(A54,Machines!$B:$F,2,0)),\"\",(VLOOKUP(A54,Machines!$B:$F,2,0)))","v":""},null,null,null,null,null,null,null,null,null,null,null,null,{"$f":"IF(ISNA(VLOOKUP(A54,Machines!$B:$F,4,0)),\"\",(VLOOKUP(A54,Machines!$B:$F,4,0)))","v":""}]
[null,null,null,{"$f":"IF(ISNA(VLOOKUP(A55,Machines!$B:$F,2,0)),\"\",(VLOOKUP(A55,Machines!$B:$F,2,0)))","v":""},null,null,null,null,null,null,null,null,null,null,null,null,{"$f":"IF(ISNA(VLOOKUP(A55,Machines!$B:$F,4,0)),\"\",(VLOOKUP(A55,Machines!$B:$F,4,0)))","v":""}]
[null,null,null,{"$f":"IF(ISNA(VLOOKUP(A56,Machines!$B:$F,2,0)),\"\",(VLOOKUP(A56,Machines!$B:$F,2,0)))","v":""},null,null,null,null,null,null,null,null,null,null,null,null,{"$f":"IF(ISNA(VLOOKUP(A56,Machines!$B:$F,4,0)),\"\",(VLOOKUP(A56,Machines!$B:$F,4,0)))","v":""}]
[null,null,null,{"$f":"IF(ISNA(VLOOKUP(A57,Machines!$B:$F,2,0)),\"\",(VLOOKUP(A57,Machines!$B:$F,2,0)))","v":""},null,null,null,null,null,null,null,null,null,null,null,null,{"$f":"IF(ISNA(VLOOKUP(A57,Machines!$B:$F,4,0)),\"\",(VLOOKUP(A57,Machines!$B:$F,4,0)))","v":""}]
[null,null,null,{"$f":"IF(ISNA(VLOOKUP(A58,Machines!$B:$F,2,0)),\"\",(VLOOKUP(A58,Machines!$B:$F,2,0)))","v":""},null,null,null,null,null,null,null,null,null,null,null,null,{"$f":"IF(ISNA(VLOOKUP(A58,Machines!$B:$F,4,0)),\"\",(VLOOKUP(A58,Machines!$B:$F,4,0)))","v":""}]
[null,null,null,{"$f":"IF(ISNA(VLOOKUP(A59,Machines!$B:$F,2,0)),\"\",(VLOOKUP(A59,Machines!$B:$F,2,0)))","v":""},null,null,null,null,null,null,null,null,null,null,null,null,{"$f":"IF(ISNA(VLOOKUP(A59,Machines!$B:$F,4,0)),\"\",(VLOOKUP(A59,Machines!$B:$F,4,0)))","v":""}]
[null,null,null,{"$f":"IF(ISNA(VLOOKUP(A60,Machines!$B:$F,2,0)),\"\",(VLOOKUP(A60,Machines!$B:$F,2,0)))","v":""},null,null,null,null,null,null,null,null,null,null,null,null,{"$f":"IF(ISNA(VLOOKUP(A60,Machines!$B:$F,4,0)),\"\",(VLOOKUP(A60,Machines!$B:$F,4,0)))","v":""}]
[null,null,null,{"$f":"IF(ISNA(VLOOKUP(A61,Machines!$B:$F,2,0)),\"\",(VLOOKUP(A61,Machines!$B:$F,2,0)))","v":""},null,null,null,null,null,null,null,null,null,null,null,null,{"$f":"IF(ISNA(VLOOKUP(A61,Machines!$B:$F,4,0)),\"\",(VLOOKUP(A61,Machines!$B:$F,4,0)))","v":""}]
[null,null,null,{"$f":"IF(ISNA(VLOOKUP(A62,Machines!$B:$F,2,0)),\"\",(VLOOKUP(A62,Machines!$B:$F,2,0)))","v":""},null,null,null,null,null,null,null,null,null,null,null,null,{"$f":"IF(ISNA(VLOOKUP(A62,Machines!$B:$F,4,0)),\"\",(VLOOKUP(A62,Machines!$B:$F,4,0)))","v":""}]
[null,null,null,{"$f":"IF(ISNA(VLOOKUP(A63,Machines!$B:$F,2,0)),\"\",(VLOOKUP(A63,Machines!$B:$F,2,0)))","v":""},null,null,null,null,null,null,null,null,null,null,null,null,{"$f":"IF(ISNA(VLOOKUP(A63,Machines!$B:$F,4,0)),\"\",(VLOOKUP(A63,Machines!$B:$F,4,0)))","v":""}]
[null,null,null,{"$f":"IF(ISNA(VLOOKUP(A64,Machines!$B:$F,2,0)),\"\",(VLOOKUP(A64,Machines!$B:$F,2,0)))","v":""},null,null,null,null,null,null,null,null,null,null,null,null,{"$f":"IF(ISNA(VLOOKUP(A64,Machines!$B:$F,4,0)),\"\",(VLOOKUP(A64,Machines!$B:$F,4,0)))","v":""}]
[null,null,null,{"$f":"IF(ISNA(VLOOKUP(A65,Machines!$B:$F,2,0)),\"\",(VLOOKUP(A65,Machines!$B:$F,2,0)))","v":""},null,null,null,null,null,null,null,null,null,null,null,null,{"$f":"IF(ISNA(VLOOKUP(A65,Machines!$B:$F,4,0)),\"\",(VLOOKUP(A65,Machines!$B:$F,4,0)))","v":""}]
[null,null,null,{"$f":"IF(ISNA(VLOOKUP(A66,Machines!$B:$F,2,0)),\"\",(VLOOKUP(A66,Machines!$B:$F,2,0)))","v":""},null,null,null,null,null,null,null,null,null,null,null,null,{"$f":"IF(ISNA(VLOOKUP(A66,Machines!$B:$F,4,0)),\"\",(VLOOKUP(A66,Machines!$B:$F,4,0)))","v":""}]
[null,null,null,{"$f":"IF(ISNA(VLOOKUP(A67,Machines!$B:$F,2,0)),\"\",(VLOOKUP(A67,Machines!$B:$F,2,0)))","v":""},null,null,null,null,null,null,null,null,null,null,null,null,{"$f":"IF(ISNA(VLOOKUP(A67,Machines!$B:$F,4,0)),\"\",(VLOOKUP(A67,Machines!$B:$F,4,0)))","v":""}]
[null,null,null,{"$f":"IF(ISNA(VLOOKUP(A68,Machines!$B:$F,2,0)),\"\",(VLOOKUP(A68,Machines!$B:$F,2,0)))","v":""},null,null,null,null,null,null,null,null,null,null,null,null,{"$f":"IF(ISNA(VLOOKUP(A68,Machines!$B:$F,4,0)),\"\",(VLOOKUP(A68,Machines!$B:$F,4,0)))","v":""}]
[null,null,null,{"$f":"IF(ISNA(VLOOKUP(A69,Machines!$B:$F,2,0)),\"\",(VLOOKUP(A69,Machines!$B:$F,2,0)))","v":""},null,null,null,null,null,null,null,null,null,null,null,null,{"$f":"IF(ISNA(VLOOKUP(A69,Machines!$B:$F,4,0)),\"\",(VLOOKUP(A69,Machines!$B:$F,4,0)))","v":""}]
[null,null,null,{"$f":"IF(ISNA(VLOOKUP(A70,Machines!$B:$F,2,0)),\"\",(VLOOKUP(A70,Machines!$B:$F,2,0)))","v":""},null,null,null,null,null,null,null,null,null,null,null,null,{"$f":"IF(ISNA(VLOOKUP(A70,Machines!$B:$F,4,0)),\"\",(VLOOKUP(A70,Machines!$B:$F,4,0)))","v":""}]
[null,null,null,{"$f":"IF(ISNA(VLOOKUP(A71,Machines!$B:$F,2,0)),\"\",(VLOOKUP(A71,Machines!$B:$F,2,0)))","v":""},null,null,null,null,null,null,null,null,null,null,null,null,{"$f":"IF(ISNA(VLOOKUP(A71,Machines!$B:$F,4,0)),\"\",(VLOOKUP(A71,Machines!$B:$F,4,0)))","v":""}]
[null,null,null,{"$f":"IF(ISNA(VLOOKUP(A72,Machines!$B:$F,2,0)),\"\",(VLOOKUP(A72,Machines!$B:$F,2,0)))","v":""},null,null,null,null,null,null,null,null,null,null,null,null,{"$f":"IF(ISNA(VLOOKUP(A72,Machines!$B:$F,4,0)),\"\",(VLOOKUP(A72,Machines!$B:$F,4,0)))","v":""}]
[null,null,null,{"$f":"IF(ISNA(VLOOKUP(A73,Machines!$B:$F,2,0)),\"\",(VLOOKUP(A73,Machines!$B:$F,2,0)))","v":""},null,null,null,null,null,null,null,null,null,null,null,null,{"$f":"IF(ISNA(VLOOKUP(A73,Machines!$B:$F,4,0)),\"\",(VLOOKUP(A73,Machines!$B:$F,4,0)))","v":""}]
[null,null,null,{"$f":"IF(ISNA(VLOOKUP(A74,Machines!$B:$F,2,0)),\"\",(VLOOKUP(A74,Machines!$B:$F,2,0)))","v":""},null,null,null,null,null,null,null,null,null,null,null,null,{"$f":"IF(ISNA(VLOOKUP(A74,Machines!$B:$F,4,0)),\"\",(VLOOKUP(A74,Machines!$B:$F,4,0)))","v":""}]
["CHANTIER :",null,null,null,null,{"$f":"F1","v":0},null,null,null,null,null,null,null,null,null,null,null,null,null,null,"N° CHANTIER :",null,null,null,null,null,{"$f":"AA1","v":0},null,null,null,"JOUR :",null,null,null,{"$f":"AI1","v":"Mardi"},null,null,null,null,null,null,null,null,null,null,null,null,null,null,null,null,"DATES :",null,null,{"$f":"BC1","v":"26-01-16"}]
["MATERIAUX"]
[null,null,null,"Fournisseurs",null,null,null,null,null,null,null,null,null,null,null,null,null,null,"Description des fournitures & matériaux",null,null,null,null,null,null,null,null,null,null,null,null,null,null,null,null,null,null,null,null,null,null,null,null,null,null,null,null,null,null,"Qt totales",null,null,null,"U.",null,"Prix"]
[]
[]
[]
[]
[]
[]
[]
[]
[]
[]
[]
[]
[]
[]
[]
[]
[]
[]
[]
[]
[]
[]
[]
[]
[]
[]
[]
[]
[]
[]
[]
[null,null,null,"RESPONSABLE",null,null,null,null,null,null,null,null,"SIGNATURE",null,null,null,null,null,"DESCRIPTION DES TRAVAUX REALISES CE JOUR",null,null,null,null,null,null,null,null,null,null,null,null,null,null,null,null,null,null,null,null,null,null,null,null,null,null,null,null,null,null,"METEO"]
[null,null,null,"JENNES Loïc"]

{"sheet":"27-01-16","index":33,"n_rows":110,"n_cols":56,"rows_kept":110,"cut":false,"hidden":false,"merged":[[110,18,110,48],[72,0,72,2],[72,3,72,15],[72,16,72,24],[72,25,72,28],[72,30,72,45],[72,46,72,54],[72,55,72,58],[73,0,73,2],[73,3,73,15],[73,16,73,24],[73,25,73,28],[73,30,73,45],[73,46,73,54],[73,55,73,58],[109,18,109,48],[107,18,107,48],[105,3,105,17],[105,18,105,48],[106,3,106,17],[106,18,106,48],[106,49,106,52],[107,49,107,52],[102,3,102,17],[69,0,69,2],[69,3,69,15],[69,16,69,24],[69,25,69,28],[69,30,69,45],[69,46,69,54],[69,55,69,58],[70,0,70,2],[70,3,70,15],[70,16,70,24],[70,25,70,28],[70,30,70,45],[70,46,70,54],[70,55,70,58],[67,0,67,2],[67,3,67,15],[67,16,67,24],[67,25,67,28],[67,30,67,45],[67,46,67,54],[67,55,67,58],[68,0,68,2],[68,3,68,15],[68,16,68,24],[68,25,68,28],[68,30,68,45],[68,46,68,54],[68,55,68,58],[65,0,65,2],[65,3,65,15],[65,16,65,24],[65,25,65,28],[65,30,65,45],[65,46,65,54],[65,55,65,58],[66,0,66,2],[66,3,66,15],[66,16,66,24],[66,25,66,28],[66,30,66,45],[66,46,66,54],[66,55,66,58],[63,0,63,2],[63,3,63,15],[63,16,63,24],[63,25,63,28],[63,30,63,45],[63,46,63,54],[63,55,63,58],[64,0,64,2],[64,3,64,15],[64,16,64,24],[64,25,64,28],[64,30,64,45],[64,46,64,54],[64,55,64,58],[61,0,61,2],[61,3,61,15],[61,16,61,24],[61,25,61,28],[61,30,61,45],[61,46,61,54],[61,55,61,58],[62,0,62,2],[62,3,62,15],[62,16,62,24],[62,25,62,28],[62,30,62,45],[62,46,62,54],[62,55,62,58],[59,0,59,2],[59,3,59,15],[59,16,59,24],[59,25,59,28],[59,30,59,45],[59,46,59,54],[59,55,59,58],[60,0,60,2],[60,3,60,15],[60,16,60,24],[60,25,60,28],[60,30,60,45],[60,46,60,54],[60,55,60,58],[57,0,57,2],[57,3,57,15],[57,16,57,24],[57,25,57,28],[57,30,57,45],[57,46,57,54],[57,55,57,58],[58,0,58,2],[58,3,58,15],[58,16,58,24],[58,25,58,28],[58,30,58,45],[58,46,58,54],[58,55,58,58],[55,0,55,2],[55,3,55,15],[55,16,55,24],[55,25,55,28],[55,30,55,45],[55,46,55,54],[55,55,55,58],[56,0,56,2],[56,3,56,15],[56,16,56,24],[56,25,56,28],[56,30,56,45],[56,46,56,54],[56,55,56,58],[53,0,53,2],[53,3,53,15],[53,16,53,24],[53,25,53,28],[53,30,53,45],[53,46,53,54],[53,55,53,58],[54,0,54,2],[54,3,54,15],[54,16,54,24],[54,25,54,28],[54,30,54,45],[54,46,54,54],[54,55,54,58],[51,0,51,2],[51,3,51,15],[51,16,51,24],[51,25,51,28],[51,30,51,45],[51,46,51,54],[51,55,51,58],[52,0,52,2],[52,3,52,15],[52,16,52,24],[52,25,52,28],[52,30,52,45],[52,46,52,54],[52,55,52,58],[49,0,49,2],[49,3,49,15],[49,16,49,24],[49,25,49,28],[49,30,49,45],[49,46,49,54],[49,55,49,58],[50,0,50,2],[50,3,50,15],[50,16,50,24],[50,25,50,28],[50,30,50,45],[50,46,50,54],[50,55,50,58],[47,0,47,2],[47,3,47,15],[47,16,47,24],[47,25,47,28],[47,30,47,45],[47,46,47,54],[47,55,47,58],[48,0,48,2],[48,3,48,15],[48,16,48,24],[48,25,48,28],[48,30,48,45],[48,46,48,54],[48,55,48,58],[45,0,45,2],[45,3,45,15],[45,16,45,24],[45,25,45,28],[45,30,45,45],[45,46,45,54],[45,55,45,58],[46,0,46,2],[46,3,46,15],[46,16,46,24],[46,25,46,28],[46,30,46,45],[46,46,46,54],[46,55,46,58],[43,0,43,2],[43,3,43,15],[43,16,43,24],[43,25,43,28],[43,30,43,45],[43,46,43,54],[43,55,43,58],[44,0,44,2],[44,3,44,15],[44,16,44,24],[44,25,44,28],[44,30,44,45],[44,46,44,54],[44,55,44,58],[41,25,41,28],[41,30,41,45],[41,46,41,54],[41,55,41,58],[42,0,42,2],[42,3,42,15],[42,16,42,24],[42,25,42,28],[42,30,42,45],[42,46,42,54],[42,55,42,58],[37,0,37,4],[37,5,37,19],[37,20,37,25],[37,26,37,28],[37,30,37,32],[37,34,37,47],[37,51,37,53],[37,54,37,58],[38,0,38,28],[38,29,73,29],[38,30,38,58],[39,0,39,4],[39,6,39,9],[39,12,39,15],[40,0,40,2],[40,3,40,15],[40,16,40,24],[40,25,40,28],[40,30,40,45],[40,46,40,54],[40,55,40,58],[41,0,41,2],[41,3,41,15],[41,16,41,24],[36,0,36,15],[36,16,36,18],[36,19,36,21],[36,22,36,24],[36,25,36,28],[36,30,36,32],[36,33,36,45],[36,46,36,54],[36,55,36,58],[35,0,35,15],[35,16,35,18],[35,19,35,21],[35,22,35,24],[35,25,35,28],[35,30,35,32],[35,33,35,45],[35,46,35,54],[35,55,35,58],[34,0,34,15],[34,16,34,18],[34,19,34,21],[34,22,34,24],[34,25,34,28],[34,30,34,32],[34,33,34,45],[34,46,34,54],[34,55,34,58],[33,0,33,15],[33,16,33,18],[33,19,33,21],[33,22,33,24],[33,25,33,28],[33,30,33,32],[33,33,33,45],[33,46,33,54],[33,55,33,58],[32,0,32,15],[32,16,32,18],[32,19,32,21],[32,22,32,24],[32,25,32,28],[32,30,32,32],[32,33,32,45],[32,46,32,54],[32,55,32,58],[31,0,31,15],[31,16,31,18],[31,19,31,21],[31,22,31,24],[31,25,31,28],[31,30,31,32],[31,33,31,45],[31,46,31,54],[31,55,31,58],[30,0,30,15],[30,16,30,18],[30,19,30,21],[30,22,30,24],[30,25,30,28],[30,30,30,32],[30,33,30,45],[30,46,30,54],[30,55,30,58],[29,0,29,15],[29,16,29,18],[29,19,29,21],[29,22,29,24],[29,25,29,28],[29,30,29,32],[29,33,29,45],[29,46,29,54],[29,55,29,58],[28,0,28,15],[28,16,28,18],[28,19,28,21],[28,22,28,24],[28,25,28,28],[28,30,28,32],[28,33,28,45],[28,46,28,54],[28,55,28,58],[27,0,27,15],[27,16,27,18],[27,19,27,21],[27,22,27,24],[27,25,27,28],[27,30,27,32],[27,33,27,45],[27,46,27,54],[27,55,27,58],[26,0,26,15],[26,16,26,18],[26,19,26,21],[26,22,26,24],[26,25,26,28],[26,30,26,32],[26,33,26,45],[26,46,26,54],[26,55,26,58],[25,0,25,15],[25,16,25,18],[25,19,25,21],[25,22,25,24],[25,25,25,28],[25,30,25,32],[25,33,25,45],[25,46,25,54],[25,55,25,58],[24,0,24,15],[24,16,24,18],[24,19,24,21],[24,22,24,24],[24,25,24,28],[24,30,24,32],[24,33,24,45],[24,46,24,54],[24,55,24,58],[23,0,23,15],[23,16,23,18],[23,19,23,21],[23,22,23,24],[23,25,23,28],[23,30,23,32],[23,33,23,45],[23,46,23,54],[23,55,23,58],[22,0,22,15],[22,16,22,18],[22,19,22,21],[22,22,22,24],[22,25,22,28],[22,30,22,32],[22,33,22,45],[22,46,22,54],[22,55,22,58],[21,0,21,15],[21,16,21,18],[21,19,21,21],[21,22,21,24],[21,25,21,28],[21,30,21,32],[21,33,21,45],[21,46,21,54],[21,55,21,58],[20,0,20,15],[20,16,20,18],[20,19,20,21],[20,22,20,24],[20,25,20,28],[20,30,20,32],[20,33,20,45],[20,46,20,54],[20,55,20,58],[19,0,19,15],[19,16,19,18],[19,19,19,21],[19,22,19,24],[19,25,19,28],[19,30,19,32],[19,33,19,45],[19,46,19,54],[19,55,19,58],[18,0,18,15],[18,16,18,18],[18,19,18,21],[18,22,18,24],[18,25,18,28],[18,30,18,32],[18,33,18,45],[18,46,18,54],[18,55,18,58],[17,0,17,15],[17,16,17,18],[17,19,17,21],[17,22,17,24],[17,25,17,28],[17,30,17,32],[17,33,17,45],[17,46,17,54],[17,55,17,58],[16,0,16,15],[16,16,16,18],[16,19,16,21],[16,22,16,24],[16,25,16,28],[16,30,16,32],[16,33,16,45],[16,46,16,54],[16,55,16,58],[15,0,15,15],[15,16,15,18],[15,19,15,21],[15,22,15,24],[15,25,15,28],[15,30,15,32],[15,33,15,45],[15,46,15,54],[15,55,15,58],[14,0,14,15],[14,16,14,18],[14,19,14,21],[14,22,14,24],[14,25,14,28],[14,30,14,32],[14,33,14,45],[14,46,14,54],[14,55,14,58],[13,0,13,15],[13,16,13,18],[13,19,13,21],[13,22,13,24],[13,25,13,28],[13,30,13,32],[13,33,13,45],[13,46,13,54],[13,55,13,58],[12,0,12,15],[12,16,12,18],[12,19,12,21],[12,22,12,24],[12,25,12,28],[12,30,12,32],[12,33,12,45],[12,46,12,54],[12,55,12,58],[11,0,11,15],[11,16,11,18],[11,19,11,21],[11,22,11,24],[11,25,11,28],[11,30,11,32],[11,33,11,45],[11,46,11,54],[11,55,11,58],[10,0,10,15],[10,16,10,18],[10,19,10,21],[10,22,10,24],[10,25,10,28],[10,30,10,32],[10,33,10,45],[10,46,10,54],[10,55,10,58],[9,0,9,15],[9,16,9,18],[9,19,9,21],[9,22,9,24],[9,25,9,28],[9,30,9,32],[9,33,9,45],[9,46,9,54],[9,55,9,58],[8,0,8,15],[8,16,8,18],[8,19,8,21],[8,22,8,24],[8,25,8,28],[8,30,8,32],[8,33,8,45],[8,46,8,54],[8,55,8,58],[6,30,6,32],[6,33,6,45],[6,46,6,54],[6,55,6,58],[7,0,7,15],[7,16,7,18],[7,19,7,21],[7,22,7,24],[7,25,7,28],[7,30,7,32],[7,33,7,45],[7,46,7,54],[7,55,7,58],[4,55,4,58],[5,0,5,15],[5,16,5,18],[5,19,5,21],[5,22,5,24],[5,25,5,28],[5,30,5,32],[5,33,5,45],[5,46,5,54],[5,55,5,58],[0,51,0,53],[0,54,0,58],[1,0,1,28],[1,29,36,29],[1,30,1,58],[2,0,2,4],[2,7,2,10],[2,13,2,16],[2,19,2,22],[2,25,2,28],[2,30,2,34],[2,36,2,39],[2,42,2,45],[3,0,3,15],[3,16,3,18],[3,19,3,21],[3,22,3,24],[3,25,3,28],[3,30,3,32],[3,33,3,45],[3,46,3,54],[3,55,3,58],[4,0,4,15],[4,16,4,18],[111,18,111,48],[108,18,108,48],[108,3,108,11],[108,12,108,17],[109,3,111,11],[109,12,111,17],[0,0,0,4],[0,5,0,19],[0,20,0,25],[0,26,0,28],[0,30,0,32],[0,34,0,47],[4,19,4,21],[4,22,4,24],[4,25,4,28],[4,30,4,32],[4,33,4,45],[4,46,4,54],[6,0,6,15],[6,16,6,18],[6,19,6,21],[6,22,6,24],[6,25,6,28],[107,3,107,17],[102,18,102,48],[99,3,99,17],[99,18,99,48],[100,3,100,17],[100,18,100,48],[101,49,101,52],[101,53,101,54],[101,55,101,58],[102,49,102,52],[102,53,102,54],[102,55,102,58],[99,55,99,58],[100,49,100,52],[100,53,100,54],[100,55,100,58],[95,53,95,54],[95,55,95,58],[96,49,96,52],[96,53,96,54],[96,55,96,58],[97,49,97,52],[97,53,97,54],[101,3,101,17],[101,18,101,48],[97,3,97,17],[97,18,97,48],[98,3,98,17],[98,18,98,48],[95,3,95,17],[95,18,95,48],[96,3,96,17],[96,18,96,48],[95,49,95,52],[97,55,97,58],[98,49,98,52],[98,53,98,54],[98,55,98,58],[99,49,99,52],[99,53,99,54],[94,3,94,17],[94,18,94,48],[91,3,91,17],[91,18,91,48],[92,3,92,17],[92,18,92,48],[93,49,93,52],[93,53,93,54],[93,55,93,58],[94,49,94,52],[94,53,94,54],[94,55,94,58],[91,55,91,58],[92,49,92,52],[92,53,92,54],[92,55,92,58],[87,53,87,54],[87,55,87,58],[88,49,88,52],[88,53,88,54],[88,55,88,58],[89,49,89,52],[89,53,89,54],[93,3,93,17],[93,18,93,48],[89,3,89,17],[89,18,89,48],[90,3,90,17],[90,18,90,48],[87,3,87,17],[87,18,87,48],[88,3,88,17],[88,18,88,48],[87,49,87,52],[89,55,89,58],[90,49,90,52],[90,53,90,54],[90,55,90,58],[91,49,91,52],[91,53,91,54],[86,3,86,17],[86,18,86,48],[83,3,83,17],[83,18,83,48],[84,3,84,17],[84,18,84,48],[85,49,85,52],[85,53,85,54],[85,55,85,58],[86,49,86,52],[86,53,86,54],[86,55,86,58],[83,55,83,58],[84,49,84,52],[84,53,84,54],[84,55,84,58],[79,53,79,54],[79,55,79,58],[80,49,80,52],[80,53,80,54],[80,55,80,58],[81,49,81,52],[81,53,81,54],[85,3,85,17],[85,18,85,48],[81,3,81,17],[81,18,81,48],[82,3,82,17],[82,18,82,48],[79,3,79,17],[79,18,79,48],[80,3,80,17],[80,18,80,48],[79,49,79,52],[81,55,81,58],[82,49,82,52],[82,53,82,54],[82,55,82,58],[83,49,83,52],[83,53,83,54],[78,18,78,48],[75,0,75,58],[76,49,76,52],[76,53,76,54],[76,55,76,58],[77,49,77,52],[77,53,77,54],[77,55,77,58],[78,49,78,52],[78,53,78,54],[78,55,78,58],[104,3,104,17],[104,18,104,48],[71,0,71,2],[71,3,71,15],[71,16,71,24],[71,25,71,28],[71,30,71,45],[71,46,71,54],[71,55,71,58],[103,3,103,17],[103,18,103,48],[76,3,76,17],[76,18,76,48],[74,0,74,4],[74,5,74,19],[74,20,74,25],[74,26,74,28],[74,30,74,32],[74,34,74,47],[74,51,74,53],[74,54,74,58],[77,3,77,17],[77,18,77,48],[78,3,78,17],[108,49,108,58],[109,49,111,58],[103,49,103,52],[103,53,103,54],[103,55,103,58],[104,49,104,52],[104,53,104,54],[104,55,104,58],[105,49,105,52],[105,53,105,54],[105,55,105,58],[106,53,106,54],[106,55,106,58],[107,53,107,54],[107,55,107,58]]}
["CHANTIER :",null,null,null,null,{"$f":"'01-01-16'!F1","v":0},null,null,null,null,null,null,null,null,null,null,null,null,null,null,"N° CHANTIER :",null,null,null,null,null,{"$f":"'01-01-16'!AA1","v":0},null,null,null,"JOUR :",null,null,null,{"$f":" CHOOSE(WEEKDAY(BC1,2),\"Lundi\",\"Mardi\",\"Mercredi\",\"Jeudi\",\"Vendredi\",\"Samedi\",\"Dimanche\")","v":"Mercredi"},null,null,null,null,null,null,null,null,null,null,null,null,null,null,null,null,"DATES :",null,null,{"$f":"MID(CELL(\"nomfichier\",A1),FIND(\"]\",CELL(\"nomfichier\",A1),1)+1,30)","v":"27-01-16"}]
["MAIN D'ŒUVRE",null,null,null,null,null,null,null,null,null,null,null,null,null,null,null,null,null,null,null,null,null,null,null,null,null,null,null,null,null,"CAMIONS"]
["Légende :",null,null,null,null,null,"Co",".= Congé",null,null,null,null,"M",".= Malade",null,null,null,null,"Cho",".= Chômage",null,null,null,null,"Va",".= Vacance",null,null,null,null,"Légende :",null,null,null,null,"Pa",".= Panne",null,null,null,null,"Ent",".= Entretien"]
["NOM - Prénom du travailleur",null,null,null,null,null,null,null,null,null,null,null,null,null,null,null,"Début journée",null,null,"Arrêt repas",null,null,"Fin journée",null,null,"Heures prestées",null,null,null,null,"N°",null,null,"Description du matériel",null,null,null,null,null,null,null,null,null,null,null,null,"Nom de l'opérateur",null,null,null,null,null,null,null,null,"Heures"]
[null,null,null,null,null,null,null,null,null,null,null,null,null,null,null,null,null,null,null,null,null,null,null,null,null,{"$f":"W5-Q5-T5","v":0},null,null,null,null,null,null,null,{"$f":"IF(ISNA(VLOOKUP(AE5,Camions!$B:$F,2,0)),\"\",(VLOOKUP(AE5,Camions!$B:$F,2,0)))","v":""},null,null,null,null,null,null,null,null,null,null,null,null,{"$f":"IF(ISNA(VLOOKUP(AE5,Camions!$B:$F,4,0)),\"\",(VLOOKUP(AE5,Camions!$B:$F,4,0)))","v":""}]
[null,null,null,null,null,null,null,null,null,null,null,null,null,null,null,null,null,null,null,null,null,null,null,null,null,{"$f":"W6-Q6-T6","v":0},null,null,null,null,null,null,null,{"$f":"IF(ISNA(VLOOKUP(AE6,Camions!$B:$F,2,0)),\"\",(VLOOKUP(AE6,Camions!$B:$F,2,0)))","v":""},null,null,null,null,null,null,null,null,null,null,null,null,{"$f":"IF(ISNA(VLOOKUP(AE6,Camions!$B:$F,4,0)),\"\",(VLOOKUP(AE6,Camions!$B:$F,4,0)))","v":""}]
[null,null,null,null,null,null,null,null,null,null,null,null,null,null,null,null,null,null,null,null,null,null,null,null,null,0,null,null,null,null,null,null,null,{"$f":"IF(ISNA(VLOOKUP(AE7,Camions!$B:$F,2,0)),\"\",(VLOOKUP(AE7,Camions!$B:$F,2,0)))","v":""},null,null,null,null,null,null,null,null,null,null,null,null,{"$f":"IF(ISNA(VLOOKUP(AE7,Camions!$B:$F,4,0)),\"\",(VLOOKUP(AE7,Camions!$B:$F,4,0)))","v":""}]
[null,null,null,null,null,null,null,null,null,null,null,null,null,null,null,null,null,null,null,null,null,null,null,null,null,0,null,null,null,null,null,null,null,{"$f":"IF(ISNA(VLOOKUP(AE8,Camions!$B:$F,2,0)),\"\",(VLOOKUP(AE8,Camions!$B:$F,2,0)))","v":""},null,null,null,null,null,null,null,null,null,null,null,null,{"$f":"IF(ISNA(VLOOKUP(AE8,Camions!$B:$F,4,0)),\"\",(VLOOKUP(AE8,Camions!$B:$F,4,0)))","v":""}]
[null,null,null,null,null,null,null,null,null,null,null,null,null,null,null,null,null,null,null,null,null,null,null,null,null,0,null,null,null,null,null,null,null,{"$f":"IF(ISNA(VLOOKUP(AE9,Camions!$B:$F,2,0)),\"\",(VLOOKUP(AE9,Camions!$B:$F,2,0)))","v":""},null,null,null,null,null,null,null,null,null,null,null,null,{"$f":"IF(ISNA(VLOOKUP(AE9,Camions!$B:$F,4,0)),\"\",(VLOOKUP(AE9,Camions!$B:$F,4,0)))","v":""}]
[null,null,null,null,null,null,null,null,null,null,null,null,null,null,null,null,null,null,null,null,null,null,null,null,null,0,null,null,null,null,null,null,null,{"$f":"IF(ISNA(VLOOKUP(AE10,Camions!$B:$F,2,0)),\"\",(VLOOKUP(AE10,Camions!$B:$F,2,0)))","v":""},null,null,null,null,null,null,null,null,null,null,null,null,{"$f":"IF(ISNA(VLOOKUP(AE10,Camions!$B:$F,4,0)),\"\",(VLOOKUP(AE10,Camions!$B:$F,4,0)))","v":""}]
[null,null,null,null,null,null,null,null,null,null,null,null,null,null,null,null,null,null,null,null,null,null,null,null,null,0,null,null,null,null,null,null,null,{"$f":"IF(ISNA(VLOOKUP(AE11,Camions!$B:$F,2,0)),\"\",(VLOOKUP(AE11,Camions!$B:$F,2,0)))","v":""},null,null,null,null,null,null,null,null,null,null,null,null,{"$f":"IF(ISNA(VLOOKUP(AE11,Camions!$B:$F,4,0)),\"\",(VLOOKUP(AE11,Camions!$B:$F,4,0)))","v":""}]
[null,null,null,null,null,null,null,null,null,null,null,null,null,null,null,null,null,null,null,null,null,null,null,null,null,0,null,null,null,null,null,null,null,{"$f":"IF(ISNA(VLOOKUP(AE12,Camions!$B:$F,2,0)),\"\",(VLOOKUP(AE12,Camions!$B:$F,2,0)))","v":""},null,null,null,null,null,null,null,null,null,null,null,null,{"$f":"IF(ISNA(VLOOKUP(AE12,Camions!$B:$F,4,0)),\"\",(VLOOKUP(AE12,Camions!$B:$F,4,0)))","v":""}]
[null,null,null,null,null,null,null,null,null,null,null,null,null,null,null,null,null,null,null,null,null,null,null,null,null,0,null,null,null,null,null,null,null,{"$f":"IF(ISNA(VLOOKUP(AE13,Camions!$B:$F,2,0)),\"\",(VLOOKUP(AE13,Camions!$B:$F,2,0)))","v":""},null,null,null,null,null,null,null,null,null,null,null,null,{"$f":"IF(ISNA(VLOOKUP(AE13,Camions!$B:$F,4,0)),\"\",(VLOOKUP(AE13,Camions!$B:$F,4,0)))","v":""}]
[null,null,null,null,null,null,null,null,null,null,null,null,null,null,null,null,null,null,null,null,null,null,null,null,null,0,null,null,null,null,null,null,null,{"$f":"IF(ISNA(VLOOKUP(AE14,Camions!$B:$F,2,0)),\"\",(VLOOKUP(AE14,Camions!$B:$F,2,0)))","v":""},null,null,null,null,null,null,null,null,null,null,null,null,{"$f":"IF(ISNA(VLOOKUP(AE14,Camions!$B:$F,4,0)),\"\",(VLOOKUP(AE14,Camions!$B:$F,4,0)))","v":""}]
[null,null,null,null,null,null,null,null,null,null,null,null,null,null,null,null,null,null,null,null,null,null,null,null,null,0,null,null,null,null,null,null,null,{"$f":"IF(ISNA(VLOOKUP(AE15,Camions!$B:$F,2,0)),\"\",(VLOOKUP(AE15,Camions!$B:$F,2,0)))","v":""},null,null,null,null,null,null,null,null,null,null,null,null,{"$f":"IF(ISNA(VLOOKUP(AE15,Camions!$B:$F,4,0)),\"\",(VLOOKUP(AE15,Camions!$B:$F,4,0)))","v":""}]
[null,null,null,null,null,null,null,null,null,null,null,null,null,null,null,null,null,null,null,null,null,null,null,null,null,0,null,null,null,null,null,null,null,{"$f":"IF(ISNA(VLOOKUP(AE16,Camions!$B:$F,2,0)),\"\",(VLOOKUP(AE16,Camions!$B:$F,2,0)))","v":""},null,null,null,null,null,null,null,null,null,null,null,null,{"$f":"IF(ISNA(VLOOKUP(AE16,Camions!$B:$F,4,0)),\"\",(VLOOKUP(AE16,Camions!$B:$F,4,0)))","v":""}]
[null,null,null,null,null,null,null,null,null,null,null,null,null,null,null,null,null,null,null,null,null,null,null,null,null,0,null,null,null,null,null,null,null,{"$f":"IF(ISNA(VLOOKUP(AE17,Camions!$B:$F,2,0)),\"\",(VLOOKUP(AE17,Camions!$B:$F,2,0)))","v":""},null,null,null,null,null,null,null,null,null,null,null,null,{"$f":"IF(ISNA(VLOOKUP(AE17,Camions!$B:$F,4,0)),\"\",(VLOOKUP(AE17,Camions!$B:$F,4,0)))","v":""}]
[null,null,null,null,null,null,null,null,null,null,null,null,null,null,null,null,null,null,null,null,null,null,null,null,null,0,null,null,null,null,null,null,null,{"$f":"IF(ISNA(VLOOKUP(AE18,Camions!$B:$F,2,0)),\"\",(VLOOKUP(AE18,Camions!$B:$F,2,0)))","v":""},null,null,null,null,null,null,null,null,null,null,null,null,{"$f":"IF(ISNA(VLOOKUP(AE18,Camions!$B:$F,4,0)),\"\",(VLOOKUP(AE18,Camions!$B:$F,4,0)))","v":""}]
[null,null,null,null,null,null,null,null,null,null,null,null,null,null,null,null,null,null,null,null,null,null,null,null,null,0,null,null,null,null,null,null,null,{"$f":"IF(ISNA(VLOOKUP(AE19,Camions!$B:$F,2,0)),\"\",(VLOOKUP(AE19,Camions!$B:$F,2,0)))","v":""},null,null,null,null,null,null,null,null,null,null,null,null,{"$f":"IF(ISNA(VLOOKUP(AE19,Camions!$B:$F,4,0)),\"\",(VLOOKUP(AE19,Camions!$B:$F,4,0)))","v":""}]
[null,null,null,null,null,null,null,null,null,null,null,null,null,null,null,null,null,null,null,null,null,null,null,null,null,0,null,null,null,null,null,null,null,{"$f":"IF(ISNA(VLOOKUP(AE20,Camions!$B:$F,2,0)),\"\",(VLOOKUP(AE20,Camions!$B:$F,2,0)))","v":""},null,null,null,null,null,null,null,null,null,null,null,null,{"$f":"IF(ISNA(VLOOKUP(AE20,Camions!$B:$F,4,0)),\"\",(VLOOKUP(AE20,Camions!$B:$F,4,0)))","v":""}]
[null,null,null,null,null,null,null,null,null,null,null,null,null,null,null,null,null,null,null,null,null,null,null,null,null,0,null,null,null,null,null,null,null,{"$f":"IF(ISNA(VLOOKUP(AE21,Camions!$B:$F,2,0)),\"\",(VLOOKUP(AE21,Camions!$B:$F,2,0)))","v":""},null,null,null,null,null,null,null,null,null,null,null,null,{"$f":"IF(ISNA(VLOOKUP(AE21,Camions!$B:$F,4,0)),\"\",(VLOOKUP(AE21,Camions!$B:$F,4,0)))","v":""}]
[null,null,null,null,null,null,null,null,null,null,null,null,null,null,null,null,null,null,null,null,null,null,null,null,null,0,null,null,null,null,null,null,null,{"$f":"IF(ISNA(VLOOKUP(AE22,Camions!$B:$F,2,0)),\"\",(VLOOKUP(AE22,Camions!$B:$F,2,0)))","v":""},null,null,null,null,null,null,null,null,null,null,null,null,{"$f":"IF(ISNA(VLOOKUP(AE22,Camions!$B:$F,4,0)),\"\",(VLOOKUP(AE22,Camions!$B:$F,4,0)))","v":""}]
[null,null,null,null,null,null,null,null,null,null,null,null,null,null,null,null,null,null,null,null,null,null,null,null,null,0,null,null,null,null,null,null,null,{"$f":"IF(ISNA(VLOOKUP(AE23,Camions!$B:$F,2,0)),\"\",(VLOOKUP(AE23,Camions!$B:$F,2,0)))","v":""},null,null,null,null,null,null,null,null,null,null,null,null,{"$f":"IF(ISNA(VLOOKUP(AE23,Camions!$B:$F,4,0)),\"\",(VLOOKUP(AE23,Camions!$B:$F,4,0)))","v":""}]
[null,null,null,null,null,null,null,null,null,null,null,null,null,null,null,null,null,null,null,null,null,null,null,null,null,0,null,null,null,null,null,null,null,{"$f":"IF(ISNA(VLOOKUP(AE24,Camions!$B:$F,2,0)),\"\",(VLOOKUP(AE24,Camions!$B:$F,2,0)))","v":""},null,null,null,null,null,null,null,null,null,null,null,null,{"$f":"IF(ISNA(VLOOKUP(AE24,Camions!$B:$F,4,0)),\"\",(VLOOKUP(AE24,Camions!$B:$F,4,0)))","v":""}]
[null,null,null,null,null,null,null,null,null,null,null,null,null,null,null,null,null,null,null,null,null,null,null,null,null,0,null,null,null,null,null,null,null,{"$f":"IF(ISNA(VLOOKUP(AE25,Camions!$B:$F,2,0)),\"\",(VLOOKUP(AE25,Camions!$B:$F,2,0)))","v":""},null,null,null,null,null,null,null,null,null,null,null,null,{"$f":"IF(ISNA(VLOOKUP(AE25,Camions!$B:$F,4,0)),\"\",(VLOOKUP(AE25,Camions!$B:$F,4,0)))","v":""}]
[null,null,null,null,null,null,null,null,null,null,null,null,null,null,null,null,null,null,null,null,null,null,null,null,null,0,null,null,null,null,null,null,null,{"$f":"IF(ISNA(VLOOKUP(AE26,Camions!$B:$F,2,0)),\"\",(VLOOKUP(AE26,Camions!$B:$F,2,0)))","v":""},null,null,null,null,null,null,null,null,null,null,null,null,{"$f":"IF(ISNA(VLOOKUP(AE26,Camions!$B:$F,4,0)),\"\",(VLOOKUP(AE26,Camions!$B:$F,4,0)))","v":""}]
[null,null,null,null,null,null,null,null,null,null,null,null,null,null,null,null,null,null,null,null,null,null,null,null,null,0,null,null,null,null,null,null,null,{"$f":"IF(ISNA(VLOOKUP(AE27,Camions!$B:$F,2,0)),\"\",(VLOOKUP(AE27,Camions!$B:$F,2,0)))","v":""},null,null,null,null,null,null,null,null,null,null,null,null,{"$f":"IF(ISNA(VLOOKUP(AE27,Camions!$B:$F,4,0)),\"\",(VLOOKUP(AE27,Camions!$B:$F,4,0)))","v":""}]
[null,null,null,null,null,null,null,null,null,null,null,null,null,null,null,null,null,null,null,null,null,null,null,null,null,0,null,null,null,null,null,null,null,{"$f":"IF(ISNA(VLOOKUP(AE28,Camions!$B:$F,2,0)),\"\",(VLOOKUP(AE28,Camions!$B:$F,2,0)))","v":""},null,null,null,null,null,null,null,null,null,null,null,null,{"$f":"IF(ISNA(VLOOKUP(AE28,Camions!$B:$F,4,0)),\"\",(VLOOKUP(AE28,Camions!$B:$F,4,0)))","v":""}]
[null,null,null,null,null,null,null,null,null,null,null,null,null,null,null,null,null,null,null,null,null,null,null,null,null,0,null,null,null,null,null,null,null,{"$f":"IF(ISNA(VLOOKUP(AE29,Camions!$B:$F,2,0)),\"\",(VLOOKUP(AE29,Camions!$B:$F,2,0)))","v":""},null,null,null,null,null,null,null,null,null,null,null,null,{"$f":"IF(ISNA(VLOOKUP(AE29,Camions!$B:$F,4,0)),\"\",(VLOOKUP(AE29,Camions!$B:$F,4,0)))","v":""}]
[null,null,null,null,null,null,null,null,null,null,null,null,null,null,null,null,null,null,null,null,null,null,null,null,null,0,null,null,null,null,null,null,null,{"$f":"IF(ISNA(VLOOKUP(AE30,Camions!$B:$F,2,0)),\"\",(VLOOKUP(AE30,Camions!$B:$F,2,0)))","v":""},null,null,null,null,null,null,null,null,null,null,null,null,{"$f":"IF(ISNA(VLOOKUP(AE30,Camions!$B:$F,4,0)),\"\",(VLOOKUP(AE30,Camions!$B:$F,4,0)))","v":""}]
[null,null,null,null,null,null,null,null,null,null,null,null,null,null,null,null,null,null,null,null,null,null,null,null,null,0,null,null,null,null,null,null,null,{"$f":"IF(ISNA(VLOOKUP(AE31,Camions!$B:$F,2,0)),\"\",(VLOOKUP(AE31,Camions!$B:$F,2,0)))","v":""},null,null,null,null,null,null,null,null,null,null,null,null,{"$f":"IF(ISNA(VLOOKUP(AE31,Camions!$B:$F,4,0)),\"\",(VLOOKUP(AE31,Camions!$B:$F,4,0)))","v":""}]
[null,null,null,null,null,null,null,null,null,null,null,null,null,null,null,null,null,null,null,null,null,null,null,null,null,0,null,null,null,null,null,null,null,{"$f":"IF(ISNA(VLOOKUP(AE32,Camions!$B:$F,2,0)),\"\",(VLOOKUP(AE32,Camions!$B:$F,2,0)))","v":""},null,null,null,null,null,null,null,null,null,null,null,null,{"$f":"IF(ISNA(VLOOKUP(AE32,Camions!$B:$F,4,0)),\"\",(VLOOKUP(AE32,Camions!$B:$F,4,0)))","v":""}]
[null,null,null,null,null,null,null,null,null,null,null,null,null,null,null,null,null,null,null,null,null,null,null,null,null,0,null,null,null,null,null,null,null,{"$f":"IF(ISNA(VLOOKUP(AE33,Camions!$B:$F,2,0)),\"\",(VLOOKUP(AE33,Camions!$B:$F,2,0)))","v":""},null,null,null,null,null,null,null,null,null,null,null,null,{"$f":"IF(ISNA(VLOOKUP(AE33,Camions!$B:$F,4,0)),\"\",(VLOOKUP(AE33,Camions!$B:$F,4,0)))","v":""}]
[null,null,null,null,null,null,null,null,null,null,null,null,null,null,null,null,null,null,null,null,null,null,null,null,null,0,null,null,null,null,null,null,null,{"$f":"IF(ISNA(VLOOKUP(AE34,Camions!$B:$F,2,0)),\"\",(VLOOKUP(AE34,Camions!$B:$F,2,0)))","v":""},null,null,null,null,null,null,null,null,null,null,null,null,{"$f":"IF(ISNA(VLOOKUP(AE34,Camions!$B:$F,4,0)),\"\",(VLOOKUP(AE34,Camions!$B:$F,4,0)))","v":""}]
[null,null,null,null,null,null,null,null,null,null,null,null,null,null,null,null,null,null,null,null,null,null,null,null,null,0,null,null,null,null,null,null,null,{"$f":"IF(ISNA(VLOOKUP(AE35,Camions!$B:$F,2,0)),\"\",(VLOOKUP(AE35,Camions!$B:$F,2,0)))","v":""},null,null,null,null,null,null,null,null,null,null,null,null,{"$f":"IF(ISNA(VLOOKUP(AE35,Camions!$B:$F,4,0)),\"\",(VLOOKUP(AE35,Camions!$B:$F,4,0)))","v":""}]
[null,null,null,null,null,null,null,null,null,null,null,null,null,null,null,null,null,null,null,null,null,null,null,null,null,0,null,null,null,null,null,null,null,{"$f":"IF(ISNA(VLOOKUP(AE36,Camions!$B:$F,2,0)),\"\",(VLOOKUP(AE36,Camions!$B:$F,2,0)))","v":""},null,null,null,null,null,null,null,null,null,null,null,null,{"$f":"IF(ISNA(VLOOKUP(AE36,Camions!$B:$F,4,0)),\"\",(VLOOKUP(AE36,Camions!$B:$F,4,0)))","v":""}]
[null,null,null,null,null,null,null,null,null,null,null,null,null,null,null,null,null,null,null,null,null,null,null,null,null,0,null,null,null,null,null,null,null,{"$f":"IF(ISNA(VLOOKUP(AE37,Camions!$B:$F,2,0)),\"\",(VLOOKUP(AE37,Camions!$B:$F,2,0)))","v":""},null,null,null,null,null,null,null,null,null,null,null,null,{"$f":"IF(ISNA(VLOOKUP(AE36,Camions!$B:$F,4,0)),\"\",(VLOOKUP(AE36,Camions!$B:$F,4,0)))","v":""}]
["CHANTIER :",null,null,null,null,{"$f":"F1","v":0},null,null,null,null,null,null,null,null,null,null,null,null,null,null,"N° CHANTIER :",null,null,null,null,null,{"$f":"AA1","v":0},null,null,null,"JOUR :",null,null,null,{"$f":"AI1","v":"Mercredi"},null,null,null,null,null,null,null,null,null,null,null,null,null,null,null,null,"DATES :",null,null,{"$f":"BC1","v":"27-01-16"}]
["MATERIEL",null,null,null,null,null,null,null,null,null,null,null,null,null,null,null,null,null,null,null,null,null,null,null,null,null,null,null,null,null,"SOUS-TRAITANTS"]
["Légende :",null,null,null,null,"Pa",".= Panne",null,null,null,null,"Ent",".= Entretien"]
["N°",null,null,"Description du matériel",null,null,null,null,null,null,null,null,null,null,null,null,"Nom de l'opérateur",null,null,null,null,null,null,null,null,"Heures",null,null,null,null,"Type d'engin et description des travaux ",null,null,null,null,null,null,null,null,null,null,null,null,null,null,null,"Sous-traitants",null,null,null,null,null,null,null,null,"Heures"]
[null,null,null,{"$f":"IF(ISNA(VLOOKUP(A42,Machines!$B:$F,2,0)),\"\",(VLOOKUP(A42,Machines!$B:$F,2,0)))","v":""},null,null,null,null,null,null,null,null,null,null,null,null,{"$f":"IF(ISNA(VLOOKUP(A42,Machines!$B:$F,4,0)),\"\",(VLOOKUP(A42,Machines!$B:$F,4,0)))","v":""}]
[null,null,null,{"$f":"IF(ISNA(VLOOKUP(A43,Machines!$B:$F,2,0)),\"\",(VLOOKUP(A43,Machines!$B:$F,2,0)))","v":""},null,null,null,null,null,null,null,null,null,null,null,null,{"$f":"IF(ISNA(VLOOKUP(A43,Machines!$B:$F,4,0)),\"\",(VLOOKUP(A43,Machines!$B:$F,4,0)))","v":""}]
[null,null,null,{"$f":"IF(ISNA(VLOOKUP(A44,Machines!$B:$F,2,0)),\"\",(VLOOKUP(A44,Machines!$B:$F,2,0)))","v":""},null,null,null,null,null,null,null,null,null,null,null,null,{"$f":"IF(ISNA(VLOOKUP(A44,Machines!$B:$F,4,0)),\"\",(VLOOKUP(A44,Machines!$B:$F,4,0)))","v":""}]
[null,null,null,{"$f":"IF(ISNA(VLOOKUP(A45,Machines!$B:$F,2,0)),\"\",(VLOOKUP(A45,Machines!$B:$F,2,0)))","v":""},null,null,null,null,null,null,null,null,null,null,null,null,{"$f":"IF(ISNA(VLOOKUP(A45,Machines!$B:$F,4,0)),\"\",(VLOOKUP(A45,Machines!$B:$F,4,0)))","v":""}]
[null,null,null,{"$f":"IF(ISNA(VLOOKUP(A46,Machines!$B:$F,2,0)),\"\",(VLOOKUP(A46,Machines!$B:$F,2,0)))","v":""},null,null,null,null,null,null,null,null,null,null,null,null,{"$f":"IF(ISNA(VLOOKUP(A46,Machines!$B:$F,4,0)),\"\",(VLOOKUP(A46,Machines!$B:$F,4,0)))","v":""}]
[null,null,null,{"$f":"IF(ISNA(VLOOKUP(A47,Machines!$B:$F,2,0)),\"\",(VLOOKUP(A47,Machines!$B:$F,2,0)))","v":""},null,null,null,null,null,null,null,null,null,null,null,null,{"$f":"IF(ISNA(VLOOKUP(A47,Machines!$B:$F,4,0)),\"\",(VLOOKUP(A47,Machines!$B:$F,4,0)))","v":""}]
[null,null,null,{"$f":"IF(ISNA(VLOOKUP(A48,Machines!$B:$F,2,0)),\"\",(VLOOKUP(A48,Machines!$B:$F,2,0)))","v":""},null,null,null,null,null,null,null,null,null,null,null,null,{"$f":"IF(ISNA(VLOOKUP(A48,Machines!$B:$F,4,0)),\"\",(VLOOKUP(A48,Machines!$B:$F,4,0)))","v":""}]
[null,null,null,{"$f":"IF(ISNA(VLOOKUP(A49,Machines!$B:$F,2,0)),\"\",(VLOOKUP(A49,Machines!$B:$F,2,0)))","v":""},null,null,null,null,null,null,null,null,null,null,null,null,{"$f":"IF(ISNA(VLOOKUP(A49,Machines!$B:$F,4,0)),\"\",(VLOOKUP(A49,Machines!$B:$F,4,0)))","v":""}]
[null,null,null,{"$f":"IF(ISNA(VLOOKUP(A50,Machines!$B:$F,2,0)),\"\",(VLOOKUP(A50,Machines!$B:$F,2,0)))","v":""},null,null,null,null,null,null,null,null,null,null,null,null,{"$f":"IF(ISNA(VLOOKUP(A50,Machines!$B:$F,4,0)),\"\",(VLOOKUP(A50,Machines!$B:$F,4,0)))","v":""}]
[null,null,null,{"$f":"IF(ISNA(VLOOKUP(A51,Machines!$B:$F,2,0)),\"\",(VLOOKUP(A51,Machines!$B:$F,2,0)))","v":""},null,null,null,null,null,null,null,null,null,null,null,null,{"$f":"IF(ISNA(VLOOKUP(A51,Machines!$B:$F,4,0)),\"\",(VLOOKUP(A51,Machines!$B:$F,4,0)))","v":""}]
[null,null,null,{"$f":"IF(ISNA(VLOOKUP(A52,Machines!$B:$F,2,0)),\"\",(VLOOKUP(A52,Machines!$B:$F,2,0)))","v":""},null,null,null,null,null,null,null,null,null,null,null,null,{"$f":"IF(ISNA(VLOOKUP(A52,Machines!$B:$F,4,0)),\"\",(VLOOKUP(A52,Machines!$B:$F,4,0)))","v":""}]
[null,null,null,{"$f":"IF(ISNA(VLOOKUP(A53,Machines!$B:$F,2,0)),\"\",(VLOOKUP(A53,Machines!$B:$F,2,0)))","v":""},null,null,null,null,null,null,null,null,null,null,null,null,{"$f":"IF(ISNA(VLOOKUP(A53,Machines!$B:$F,4,0)),\"\",(VLOOKUP(A53,Machines!$B:$F,4,0)))","v":""}]
[null,null,null,{"$f":"IF(ISNA(VLOOKUP(A54,Machines!$B:$F,2,0)),\"\",(VLOOKUP(A54,Machines!$B:$F,2,0)))","v":""},null,null,null,null,null,null,null,null,null,null,null,null,{"$f":"IF(ISNA(VLOOKUP(A54,Machines!$B:$F,4,0)),\"\",(VLOOKUP(A54,Machines!$B:$F,4,0)))","v":""}]
[null,null,null,{"$f":"IF(ISNA(VLOOKUP(A55,Machines!$B:$F,2,0)),\"\",(VLOOKUP(A55,Machines!$B:$F,2,0)))","v":""},null,null,null,null,null,null,null,null,null,null,null,null,{"$f":"IF(ISNA(VLOOKUP(A55,Machines!$B:$F,4,0)),\"\",(VLOOKUP(A55,Machines!$B:$F,4,0)))","v":""}]
[null,null,null,{"$f":"IF(ISNA(VLOOKUP(A56,Machines!$B:$F,2,0)),\"\",(VLOOKUP(A56,Machines!$B:$F,2,0)))","v":""},null,null,null,null,null,null,null,null,null,null,null,null,{"$f":"IF(ISNA(VLOOKUP(A56,Machines!$B:$F,4,0)),\"\",(VLOOKUP(A56,Machines!$B:$F,4,0)))","v":""}]
[null,null,null,{"$f":"IF(ISNA(VLOOKUP(A57,Machines!$B:$F,2,0)),\"\",(VLOOKUP(A57,Machines!$B:$F,2,0)))","v":""},null,null,null,null,null,null,null,null,null,null,null,null,{"$f":"IF(ISNA(VLOOKUP(A57,Machines!$B:$F,4,0)),\"\",(VLOOKUP(A57,Machines!$B:$F,4,0)))","v":""}]
[null,null,null,{"$f":"IF(ISNA(VLOOKUP(A58,Machines!$B:$F,2,0)),\"\",(VLOOKUP(A58,Machines!$B:$F,2,0)))","v":""},null,null,null,null,null,null,null,null,null,null,null,null,{"$f":"IF(ISNA(VLOOKUP(A58,Machines!$B:$F,4,0)),\"\",(VLOOKUP(A58,Machines!$B:$F,4,0)))","v":""}]
[null,null,null,{"$f":"IF(ISNA(VLOOKUP(A59,Machines!$B:$F,2,0)),\"\",(VLOOKUP(A59,Machines!$B:$F,2,0)))","v":""},null,null,null,null,null,null,null,null,null,null,null,null,{"$f":"IF(ISNA(VLOOKUP(A59,Machines!$B:$F,4,0)),\"\",(VLOOKUP(A59,Machines!$B:$F,4,0)))","v":""}]
[null,null,null,{"$f":"IF(ISNA(VLOOKUP(A60,Machines!$B:$F,2,0)),\"\",(VLOOKUP(A60,Machines!$B:$F,2,0)))","v":""},null,null,null,null,null,null,null,null,null,null,null,null,{"$f":"IF(ISNA(VLOOKUP(A60,Machines!$B:$F,4,0)),\"\",(VLOOKUP(A60,Machines!$B:$F,4,0)))","v":""}]
[null,null,null,{"$f":"IF(ISNA(VLOOKUP(A61,Machines!$B:$F,2,0)),\"\",(VLOOKUP(A61,Machines!$B:$F,2,0)))","v":""},null,null,null,null,null,null,null,null,null,null,null,null,{"$f":"IF(ISNA(VLOOKUP(A61,Machines!$B:$F,4,0)),\"\",(VLOOKUP(A61,Machines!$B:$F,4,0)))","v":""}]
[null,null,null,{"$f":"IF(ISNA(VLOOKUP(A62,Machines!$B:$F,2,0)),\"\",(VLOOKUP(A62,Machines!$B:$F,2,0)))","v":""},null,null,null,null,null,null,null,null,null,null,null,null,{"$f":"IF(ISNA(VLOOKUP(A62,Machines!$B:$F,4,0)),\"\",(VLOOKUP(A62,Machines!$B:$F,4,0)))","v":""}]
[null,null,null,{"$f":"IF(ISNA(VLOOKUP(A63,Machines!$B:$F,2,0)),\"\",(VLOOKUP(A63,Machines!$B:$F,2,0)))","v":""},null,null,null,null,null,null,null,null,null,null,null,null,{"$f":"IF(ISNA(VLOOKUP(A63,Machines!$B:$F,4,0)),\"\",(VLOOKUP(A63,Machines!$B:$F,4,0)))","v":""}]
[null,null,null,{"$f":"IF(ISNA(VLOOKUP(A64,Machines!$B:$F,2,0)),\"\",(VLOOKUP(A64,Machines!$B:$F,2,0)))","v":""},null,null,null,null,null,null,null,null,null,null,null,null,{"$f":"IF(ISNA(VLOOKUP(A64,Machines!$B:$F,4,0)),\"\",(VLOOKUP(A64,Machines!$B:$F,4,0)))","v":""}]
[null,null,null,{"$f":"IF(ISNA(VLOOKUP(A65,Machines!$B:$F,2,0)),\"\",(VLOOKUP(A65,Machines!$B:$F,2,0)))","v":""},null,null,null,null,null,null,null,null,null,null,null,null,{"$f":"IF(ISNA(VLOOKUP(A65,Machines!$B:$F,4,0)),\"\",(VLOOKUP(A65,Machines!$B:$F,4,0)))","v":""}]
[null,null,null,{"$f":"IF(ISNA(VLOOKUP(A66,Machines!$B:$F,2,0)),\"\",(VLOOKUP(A66,Machines!$B:$F,2,0)))","v":""},null,null,null,null,null,null,null,null,null,null,null,null,{"$f":"IF(ISNA(VLOOKUP(A66,Machines!$B:$F,4,0)),\"\",(VLOOKUP(A66,Machines!$B:$F,4,0)))","v":""}]
[null,null,null,{"$f":"IF(ISNA(VLOOKUP(A67,Machines!$B:$F,2,0)),\"\",(VLOOKUP(A67,Machines!$B:$F,2,0)))","v":""},null,null,null,null,null,null,null,null,null,null,null,null,{"$f":"IF(ISNA(VLOOKUP(A67,Machines!$B:$F,4,0)),\"\",(VLOOKUP(A67,Machines!$B:$F,4,0)))","v":""}]
[null,null,null,{"$f":"IF(ISNA(VLOOKUP(A68,Machines!$B:$F,2,0)),\"\",(VLOOKUP(A68,Machines!$B:$F,2,0)))","v":""},null,null,null,null,null,null,null,null,null,null,null,null,{"$f":"IF(ISNA(VLOOKUP(A68,Machines!$B:$F,4,0)),\"\",(VLOOKUP(A68,Machines!$B:$F,4,0)))","v":""}]
[null,null,null,{"$f":"IF(ISNA(VLOOKUP(A69,Machines!$B:$F,2,0)),\"\",(VLOOKUP(A69,Machines!$B:$F,2,0)))","v":""},null,null,null,null,null,null,null,null,null,null,null,null,{"$f":"IF(ISNA(VLOOKUP(A69,Machines!$B:$F,4,0)),\"\",(VLOOKUP(A69,Machines!$B:$F,4,0)))","v":""}]
[null,null,null,{"$f":"IF(ISNA(VLOOKUP(A70,Machines!$B:$F,2,0)),\"\",(VLOOKUP(A70,Machines!$B:$F,2,0)))","v":""},null,null,null,null,null,null,null,null,null,null,null,null,{"$f":"IF(ISNA(VLOOKUP(A70,Machines!$B:$F,4,0)),\"\",(VLOOKUP(A70,Machines!$B:$F,4,0)))","v":""}]
[null,null,null,{"$f":"IF(ISNA(VLOOKUP(A71,Machines!$B:$F,2,0)),\"\",(VLOOKUP(A71,Machines!$B:$F,2,0)))","v":""},null,null,null,null,null,null,null,null,null,null,null,null,{"$f":"IF(ISNA(VLOOKUP(A71,Machines!$B:$F,4,0)),\"\",(VLOOKUP(A71,Machines!$B:$F,4,0)))","v":""}]
[null,null,null,{"$f":"IF(ISNA(VLOOKUP(A72,Machines!$B:$F,2,0)),\"\",(VLOOKUP(A72,Machines!$B:$F,2,0)))","v":""},null,null,null,null,null,null,null,null,null,null,null,null,{"$f":"IF(ISNA(VLOOKUP(A72,Machines!$B:$F,4,0)),\"\",(VLOOKUP(A72,Machines!$B:$F,4,0)))","v":""}]
[null,null,null,{"$f":"IF(ISNA(VLOOKUP(A73,Machines!$B:$F,2,0)),\"\",(VLOOKUP(A73,Machines!$B:$F,2,0)))","v":""},null,null,null,null,null,null,null,null,null,null,null,null,{"$f":"IF(ISNA(VLOOKUP(A73,Machines!$B:$F,4,0)),\"\",(VLOOKUP(A73,Machines!$B:$F,4,0)))","v":""}]
[null,null,null,{"$f":"IF(ISNA(VLOOKUP(A74,Machines!$B:$F,2,0)),\"\",(VLOOKUP(A74,Machines!$B:$F,2,0)))","v":""},null,null,null,null,null,null,null,null,null,null,null,null,{"$f":"IF(ISNA(VLOOKUP(A74,Machines!$B:$F,4,0)),\"\",(VLOOKUP(A74,Machines!$B:$F,4,0)))","v":""}]
["CHANTIER :",null,null,null,null,{"$f":"F1","v":0},null,null,null,null,null,null,null,null,null,null,null,null,null,null,"N° CHANTIER :",null,null,null,null,null,{"$f":"AA1","v":0},null,null,null,"JOUR :",null,null,null,{"$f":"AI1","v":"Mercredi"},null,null,null,null,null,null,null,null,null,null,null,null,null,null,null,null,"DATES :",null,null,{"$f":"BC1","v":"27-01-16"}]
["MATERIAUX"]
[null,null,null,"Fournisseurs",null,null,null,null,null,null,null,null,null,null,null,null,null,null,"Description des fournitures & matériaux",null,null,null,null,null,null,null,null,null,null,null,null,null,null,null,null,null,null,null,null,null,null,null,null,null,null,null,null,null,null,"Qt totales",null,null,null,"U.",null,"Prix"]
[]
[]
[]
[]
[]
[]
[]
[]
[]
[]
[]
[]
[]
[]
[]
[]
[]
[]
[]
[]
[]
[]
[]
[]
[]
[]
[]
[]
[]
[]
[]
[null,null,null,"RESPONSABLE",null,null,null,null,null,null,null,null,"SIGNATURE",null,null,null,null,null,"DESCRIPTION DES TRAVAUX REALISES CE JOUR",null,null,null,null,null,null,null,null,null,null,null,null,null,null,null,null,null,null,null,null,null,null,null,null,null,null,null,null,null,null,"METEO"]
[null,null,null,"JENNES Loïc"]

{"sheet":"28-01-16","index":34,"n_rows":110,"n_cols":56,"rows_kept":110,"cut":false,"hidden":false,"merged":[[110,18,110,48],[72,0,72,2],[72,3,72,15],[72,16,72,24],[72,25,72,28],[72,30,72,45],[72,46,72,54],[72,55,72,58],[73,0,73,2],[73,3,73,15],[73,16,73,24],[73,25,73,28],[73,30,73,45],[73,46,73,54],[73,55,73,58],[109,18,109,48],[107,18,107,48],[105,3,105,17],[105,18,105,48],[106,3,106,17],[106,18,106,48],[106,49,106,52],[107,49,107,52],[102,3,102,17],[69,0,69,2],[69,3,69,15],[69,16,69,24],[69,25,69,28],[69,30,69,45],[69,46,69,54],[69,55,69,58],[70,0,70,2],[70,3,70,15],[70,16,70,24],[70,25,70,28],[70,30,70,45],[70,46,70,54],[70,55,70,58],[67,0,67,2],[67,3,67,15],[67,16,67,24],[67,25,67,28],[67,30,67,45],[67,46,67,54],[67,55,67,58],[68,0,68,2],[68,3,68,15],[68,16,68,24],[68,25,68,28],[68,30,68,45],[68,46,68,54],[68,55,68,58],[65,0,65,2],[65,3,65,15],[65,16,65,24],[65,25,65,28],[65,30,65,45],[65,46,65,54],[65,55,65,58],[66,0,66,2],[66,3,66,15],[66,16,66,24],[66,25,66,28],[66,30,66,45],[66,46,66,54],[66,55,66,58],[63,0,63,2],[63,3,63,15],[63,16,63,24],[63,25,63,28],[63,30,63,45],[63,46,63,54],[63,55,63,58],[64,0,64,2],[64,3,64,15],[64,16,64,24],[64,25,64,28],[64,30,64,45],[64,46,64,54],[64,55,64,58],[61,0,61,2],[61,3,61,15],[61,16,61,24],[61,25,61,28],[61,30,61,45],[61,46,61,54],[61,55,61,58],[62,0,62,2],[62,3,62,15],[62,16,62,24],[62,25,62,28],[62,30,62,45],[62,46,62,54],[62,55,62,58],[59,0,59,2],[59,3,59,15],[59,16,59,24],[59,25,59,28],[59,30,59,45],[59,46,59,54],[59,55,59,58],[60,0,60,2],[60,3,60,15],[60,16,60,24],[60,25,60,28],[60,30,60,45],[60,46,60,54],[60,55,60,58],[57,0,57,2],[57,3,57,15],[57,16,57,24],[57,25,57,28],[57,30,57,45],[57,46,57,54],[57,55,57,58],[58,0,58,2],[58,3,58,15],[58,16,58,24],[58,25,58,28],[58,30,58,45],[58,46,58,54],[58,55,58,58],[55,0,55,2],[55,3,55,15],[55,16,55,24],[55,25,55,28],[55,30,55,45],[55,46,55,54],[55,55,55,58],[56,0,56,2],[56,3,56,15],[56,16,56,24],[56,25,56,28],[56,30,56,45],[56,46,56,54],[56,55,56,58],[53,0,53,2],[53,3,53,15],[53,16,53,24],[53,25,53,28],[53,30,53,45],[53,46,53,54],[53,55,53,58],[54,0,54,2],[54,3,54,15],[54,16,54,24],[54,25,54,28],[54,30,54,45],[54,46,54,54],[54,55,54,58],[51,0,51,2],[51,3,51,15],[51,16,51,24],[51,25,51,28],[51,30,51,45],[51,46,51,54],[51,55,51,58],[52,0,52,2],[52,3,52,15],[52,16,52,24],[52,25,52,28],[52,30,52,45],[52,46,52,54],[52,55,52,58],[49,0,49,2],[49,3,49,15],[49,16,49,24],[49,25,49,28],[49,30,49,45],[49,46,49,54],[49,55,49,58],[50,0,50,2],[50,3,50,15],[50,16,50,24],[50,25,50,28],[50,30,50,45],[50,46,50,54],[50,55,50,58],[47,0,47,2],[47,3,47,15],[47,16,47,24],[47,25,47,28],[47,30,47,45],[47,46,47,54],[47,55,47,58],[48,0,48,2],[48,3,48,15],[48,16,48,24],[48,25,48,28],[48,30,48,45],[48,46,48,54],[48,55,48,58],[45,0,45,2],[45,3,45,15],[45,16,45,24],[45,25,45,28],[45,30,45,45],[45,46,45,54],[45,55,45,58],[46,0,46,2],[46,3,46,15],[46,16,46,24],[46,25,46,28],[46,30,46,45],[46,46,46,54],[46,55,46,58],[43,0,43,2],[43,3,43,15],[43,16,43,24],[43,25,43,28],[43,30,43,45],[43,46,43,54],[43,55,43,58],[44,0,44,2],[44,3,44,15],[44,16,44,24],[44,25,44,28],[44,30,44,45],[44,46,44,54],[44,55,44,58],[41,25,41,28],[41,30,41,45],[41,46,41,54],[41,55,41,58],[42,0,42,2],[42,3,42,15],[42,16,42,24],[42,25,42,28],[42,30,42,45],[42,46,42,54],[42,55,42,58],[37,0,37,4],[37,5,37,19],[37,20,37,25],[37,26,37,28],[37,30,37,32],[37,34,37,47],[37,51,37,53],[37,54,37,58],[38,0,38,28],[38,29,73,29],[38,30,38,58],[39,0,39,4],[39,6,39,9],[39,12,39,15],[40,0,40,2],[40,3,40,15],[40,16,40,24],[40,25,40,28],[40,30,40,45],[40,46,40,54],[40,55,40,58],[41,0,41,2],[41,3,41,15],[41,16,41,24],[36,0,36,15],[36,16,36,18],[36,19,36,21],[36,22,36,24],[36,25,36,28],[36,30,36,32],[36,33,36,45],[36,46,36,54],[36,55,36,58],[35,0,35,15],[35,16,35,18],[35,19,35,21],[35,22,35,24],[35,25,35,28],[35,30,35,32],[35,33,35,45],[35,46,35,54],[35,55,35,58],[34,0,34,15],[34,16,34,18],[34,19,34,21],[34,22,34,24],[34,25,34,28],[34,30,34,32],[34,33,34,45],[34,46,34,54],[34,55,34,58],[33,0,33,15],[33,16,33,18],[33,19,33,21],[33,22,33,24],[33,25,33,28],[33,30,33,32],[33,33,33,45],[33,46,33,54],[33,55,33,58],[32,0,32,15],[32,16,32,18],[32,19,32,21],[32,22,32,24],[32,25,32,28],[32,30,32,32],[32,33,32,45],[32,46,32,54],[32,55,32,58],[31,0,31,15],[31,16,31,18],[31,19,31,21],[31,22,31,24],[31,25,31,28],[31,30,31,32],[31,33,31,45],[31,46,31,54],[31,55,31,58],[30,0,30,15],[30,16,30,18],[30,19,30,21],[30,22,30,24],[30,25,30,28],[30,30,30,32],[30,33,30,45],[30,46,30,54],[30,55,30,58],[29,0,29,15],[29,16,29,18],[29,19,29,21],[29,22,29,24],[29,25,29,28],[29,30,29,32],[29,33,29,45],[29,46,29,54],[29,55,29,58],[28,0,28,15],[28,16,28,18],[28,19,28,21],[28,22,28,24],[28,25,28,28],[28,30,28,32],[28,33,28,45],[28,46,28,54],[28,55,28,58],[27,0,27,15],[27,16,27,18],[27,19,27,21],[27,22,27,24],[27,25,27,28],[27,30,27,32],[27,33,27,45],[27,46,27,54],[27,55,27,58],[26,0,26,15],[26,16,26,18],[26,19,26,21],[26,22,26,24],[26,25,26,28],[26,30,26,32],[26,33,26,45],[26,46,26,54],[26,55,26,58],[25,0,25,15],[25,16,25,18],[25,19,25,21],[25,22,25,24],[25,25,25,28],[25,30,25,32],[25,33,25,45],[25,46,25,54],[25,55,25,58],[24,0,24,15],[24,16,24,18],[24,19,24,21],[24,22,24,24],[24,25,24,28],[24,30,24,32],[24,33,24,45],[24,46,24,54],[24,55,24,58],[23,0,23,15],[23,16,23,18],[23,19,23,21],[23,22,23,24],[23,25,23,28],[23,30,23,32],[23,33,23,45],[23,46,23,54],[23,55,23,58],[22,0,22,15],[22,16,22,18],[22,19,22,21],[22,22,22,24],[22,25,22,28],[22,30,22,32],[22,33,22,45],[22,46,22,54],[22,55,22,58],[21,0,21,15],[21,16,21,18],[21,19,21,21],[21,22,21,24],[21,25,21,28],[21,30,21,32],[21,33,21,45],[21,46,21,54],[21,55,21,58],[20,0,20,15],[20,16,20,18],[20,19,20,21],[20,22,20,24],[20,25,20,28],[20,30,20,32],[20,33,20,45],[20,46,20,54],[20,55,20,58],[19,0,19,15],[19,16,19,18],[19,19,19,21],[19,22,19,24],[19,25,19,28],[19,30,19,32],[19,33,19,45],[19,46,19,54],[19,55,19,58],[18,0,18,15],[18,16,18,18],[18,19,18,21],[18,22,18,24],[18,25,18,28],[18,30,18,32],[18,33,18,45],[18,46,18,54],[18,55,18,58],[17,0,17,15],[17,16,17,18],[17,19,17,21],[17,22,17,24],[17,25,17,28],[17,30,17,32],[17,33,17,45],[17,46,17,54],[17,55,17,58],[16,0,16,15],[16,16,16,18],[16,19,16,21],[16,22,16,24],[16,25,16,28],[16,30,16,32],[16,33,16,45],[16,46,16,54],[16,55,16,58],[15,0,15,15],[15,16,15,18],[15,19,15,21],[15,22,15,24],[15,25,15,28],[15,30,15,32],[15,33,15,45],[15,46,15,54],[15,55,15,58],[14,0,14,15],[14,16,14,18],[14,19,14,21],[14,22,14,24],[14,25,14,28],[14,30,14,32],[14,33,14,45],[14,46,14,54],[14,55,14,58],[13,0,13,15],[13,16,13,18],[13,19,13,21],[13,22,13,24],[13,25,13,28],[13,30,13,32],[13,33,13,45],[13,46,13,54],[13,55,13,58],[12,0,12,15],[12,16,12,18],[12,19,12,21],[12,22,12,24],[12,25,12,28],[12,30,12,32],[12,33,12,45],[12,46,12,54],[12,55,12,58],[11,0,11,15],[11,16,11,18],[11,19,11,21],[11,22,11,24],[11,25,11,28],[11,30,11,32],[11,33,11,45],[11,46,11,54],[11,55,11,58],[10,0,10,15],[10,16,10,18],[10,19,10,21],[10,22,10,24],[10,25,10,28],[10,30,10,32],[10,33,10,45],[10,46,10,54],[10,55,10,58],[9,0,9,15],[9,16,9,18],[9,19,9,21],[9,22,9,24],[9,25,9,28],[9,30,9,32],[9,33,9,45],[9,46,9,54],[9,55,9,58],[8,0,8,15],[8,16,8,18],[8,19,8,21],[8,22,8,24],[8,25,8,28],[8,30,8,32],[8,33,8,45],[8,46,8,54],[8,55,8,58],[6,30,6,32],[6,33,6,45],[6,46,6,54],[6,55,6,58],[7,0,7,15],[7,16,7,18],[7,19,7,21],[7,22,7,24],[7,25,7,28],[7,30,7,32],[7,33,7,45],[7,46,7,54],[7,55,7,58],[4,55,4,58],[5,0,5,15],[5,16,5,18],[5,19,5,21],[5,22,5,24],[5,25,5,28],[5,30,5,32],[5,33,5,45],[5,46,5,54],[5,55,5,58],[0,51,0,53],[0,54,0,58],[1,0,1,28],[1,29,36,29],[1,30,1,58],[2,0,2,4],[2,7,2,10],[2,13,2,16],[2,19,2,22],[2,25,2,28],[2,30,2,34],[2,36,2,39],[2,42,2,45],[3,0,3,15],[3,16,3,18],[3,19,3,21],[3,22,3,24],[3,25,3,28],[3,30,3,32],[3,33,3,45],[3,46,3,54],[3,55,3,58],[4,0,4,15],[4,16,4,18],[111,18,111,48],[108,18,108,48],[108,3,108,11],[108,12,108,17],[109,3,111,11],[109,12,111,17],[0,0,0,4],[0,5,0,19],[0,20,0,25],[0,26,0,28],[0,30,0,32],[0,34,0,47],[4,19,4,21],[4,22,4,24],[4,25,4,28],[4,30,4,32],[4,33,4,45],[4,46,4,54],[6,0,6,15],[6,16,6,18],[6,19,6,21],[6,22,6,24],[6,25,6,28],[107,3,107,17],[102,18,102,48],[99,3,99,17],[99,18,99,48],[100,3,100,17],[100,18,100,48],[101,49,101,52],[101,53,101,54],[101,55,101,58],[102,49,102,52],[102,53,102,54],[102,55,102,58],[99,55,99,58],[100,49,100,52],[100,53,100,54],[100,55,100,58],[95,53,95,54],[95,55,95,58],[96,49,96,52],[96,53,96,54],[96,55,96,58],[97,49,97,52],[97,53,97,54],[101,3,101,17],[101,18,101,48],[97,3,97,17],[97,18,97,48],[98,3,98,17],[98,18,98,48],[95,3,95,17],[95,18,95,48],[96,3,96,17],[96,18,96,48],[95,49,95,52],[97,55,97,58],[98,49,98,52],[98,53,98,54],[98,55,98,58],[99,49,99,52],[99,53,99,54],[94,3,94,17],[94,18,94,48],[91,3,91,17],[91,18,91,48],[92,3,92,17],[92,18,92,48],[93,49,93,52],[93,53,93,54],[93,55,93,58],[94,49,94,52],[94,53,94,54],[94,55,94,58],[91,55,91,58],[92,49,92,52],[92,53,92,54],[92,55,92,58],[87,53,87,54],[87,55,87,58],[88,49,88,52],[88,53,88,54],[88,55,88,58],[89,49,89,52],[89,53,89,54],[93,3,93,17],[93,18,93,48],[89,3,89,17],[89,18,89,48],[90,3,90,17],[90,18,90,48],[87,3,87,17],[87,18,87,48],[88,3,88,17],[88,18,88,48],[87,49,87,52],[89,55,89,58],[90,49,90,52],[90,53,90,54],[90,55,90,58],[91,49,91,52],[91,53,91,54],[86,3,86,17],[86,18,86,48],[83,3,83,17],[83,18,83,48],[84,3,84,17],[84,18,84,48],[85,49,85,52],[85,53,85,54],[85,55,85,58],[86,49,86,52],[86,53,86,54],[86,55,86,58],[83,55,83,58],[84,49,84,52],[84,53,84,54],[84,55,84,58],[79,53,79,54],[79,55,79,58],[80,49,80,52],[80,53,80,54],[80,55,80,58],[81,49,81,52],[81,53,81,54],[85,3,85,17],[85,18,85,48],[81,3,81,17],[81,18,81,48],[82,3,82,17],[82,18,82,48],[79,3,79,17],[79,18,79,48],[80,3,80,17],[80,18,80,48],[79,49,79,52],[81,55,81,58],[82,49,82,52],[82,53,82,54],[82,55,82,58],[83,49,83,52],[83,53,83,54],[78,18,78,48],[75,0,75,58],[76,49,76,52],[76,53,76,54],[76,55,76,58],[77,49,77,52],[77,53,77,54],[77,55,77,58],[78,49,78,52],[78,53,78,54],[78,55,78,58],[104,3,104,17],[104,18,104,48],[71,0,71,2],[71,3,71,15],[71,16,71,24],[71,25,71,28],[71,30,71,45],[71,46,71,54],[71,55,71,58],[103,3,103,17],[103,18,103,48],[76,3,76,17],[76,18,76,48],[74,0,74,4],[74,5,74,19],[74,20,74,25],[74,26,74,28],[74,30,74,32],[74,34,74,47],[74,51,74,53],[74,54,74,58],[77,3,77,17],[77,18,77,48],[78,3,78,17],[108,49,108,58],[109,49,111,58],[103,49,103,52],[103,53,103,54],[103,55,103,58],[104,49,104,52],[104,53,104,54],[104,55,104,58],[105,49,105,52],[105,53,105,54],[105,55,105,58],[106,53,106,54],[106,55,106,58],[107,53,107,54],[107,55,107,58]]}
["CHANTIER :",null,null,null,null,{"$f":"'01-01-16'!F1","v":0},null,null,null,null,null,null,null,null,null,null,null,null,null,null,"N° CHANTIER :",null,null,null,null,null,{"$f":"'01-01-16'!AA1","v":0},null,null,null,"JOUR :",null,null,null,{"$f":" CHOOSE(WEEKDAY(BC1,2),\"Lundi\",\"Mardi\",\"Mercredi\",\"Jeudi\",\"Vendredi\",\"Samedi\",\"Dimanche\")","v":"Jeudi"},null,null,null,null,null,null,null,null,null,null,null,null,null,null,null,null,"DATES :",null,null,{"$f":"MID(CELL(\"nomfichier\",A1),FIND(\"]\",CELL(\"nomfichier\",A1),1)+1,30)","v":"28-01-16"}]
["MAIN D'ŒUVRE",null,null,null,null,null,null,null,null,null,null,null,null,null,null,null,null,null,null,null,null,null,null,null,null,null,null,null,null,null,"CAMIONS"]
["Légende :",null,null,null,null,null,"Co",".= Congé",null,null,null,null,"M",".= Malade",null,null,null,null,"Cho",".= Chômage",null,null,null,null,"Va",".= Vacance",null,null,null,null,"Légende :",null,null,null,null,"Pa",".= Panne",null,null,null,null,"Ent",".= Entretien"]
["NOM - Prénom du travailleur",null,null,null,null,null,null,null,null,null,null,null,null,null,null,null,"Début journée",null,null,"Arrêt repas",null,null,"Fin journée",null,null,"Heures prestées",null,null,null,null,"N°",null,null,"Description du matériel",null,null,null,null,null,null,null,null,null,null,null,null,"Nom de l'opérateur",null,null,null,null,null,null,null,null,"Heures"]
[null,null,null,null,null,null,null,null,null,null,null,null,null,null,null,null,null,null,null,null,null,null,null,null,null,{"$f":"W5-Q5-T5","v":0},null,null,null,null,null,null,null,{"$f":"IF(ISNA(VLOOKUP(AE5,Camions!$B:$F,2,0)),\"\",(VLOOKUP(AE5,Camions!$B:$F,2,0)))","v":""},null,null,null,null,null,null,null,null,null,null,null,null,{"$f":"IF(ISNA(VLOOKUP(AE5,Camions!$B:$F,4,0)),\"\",(VLOOKUP(AE5,Camions!$B:$F,4,0)))","v":""}]
[null,null,null,null,null,null,null,null,null,null,null,null,null,null,null,null,null,null,null,null,null,null,null,null,null,{"$f":"W6-Q6-T6","v":0},null,null,null,null,null,null,null,{"$f":"IF(ISNA(VLOOKUP(AE6,Camions!$B:$F,2,0)),\"\",(VLOOKUP(AE6,Camions!$B:$F,2,0)))","v":""},null,null,null,null,null,null,null,null,null,null,null,null,{"$f":"IF(ISNA(VLOOKUP(AE6,Camions!$B:$F,4,0)),\"\",(VLOOKUP(AE6,Camions!$B:$F,4,0)))","v":""}]
[null,null,null,null,null,null,null,null,null,null,null,null,null,null,null,null,null,null,null,null,null,null,null,null,null,0,null,null,null,null,null,null,null,{"$f":"IF(ISNA(VLOOKUP(AE7,Camions!$B:$F,2,0)),\"\",(VLOOKUP(AE7,Camions!$B:$F,2,0)))","v":""},null,null,null,null,null,null,null,null,null,null,null,null,{"$f":"IF(ISNA(VLOOKUP(AE7,Camions!$B:$F,4,0)),\"\",(VLOOKUP(AE7,Camions!$B:$F,4,0)))","v":""}]
[null,null,null,null,null,null,null,null,null,null,null,null,null,null,null,null,null,null,null,null,null,null,null,null,null,0,null,null,null,null,null,null,null,{"$f":"IF(ISNA(VLOOKUP(AE8,Camions!$B:$F,2,0)),\"\",(VLOOKUP(AE8,Camions!$B:$F,2,0)))","v":""},null,null,null,null,null,null,null,null,null,null,null,null,{"$f":"IF(ISNA(VLOOKUP(AE8,Camions!$B:$F,4,0)),\"\",(VLOOKUP(AE8,Camions!$B:$F,4,0)))","v":""}]
[null,null,null,null,null,null,null,null,null,null,null,null,null,null,null,null,null,null,null,null,null,null,null,null,null,0,null,null,null,null,null,null,null,{"$f":"IF(ISNA(VLOOKUP(AE9,Camions!$B:$F,2,0)),\"\",(VLOOKUP(AE9,Camions!$B:$F,2,0)))","v":""},null,null,null,null,null,null,null,null,null,null,null,null,{"$f":"IF(ISNA(VLOOKUP(AE9,Camions!$B:$F,4,0)),\"\",(VLOOKUP(AE9,Camions!$B:$F,4,0)))","v":""}]
[null,null,null,null,null,null,null,null,null,null,null,null,null,null,null,null,null,null,null,null,null,null,null,null,null,0,null,null,null,null,null,null,null,{"$f":"IF(ISNA(VLOOKUP(AE10,Camions!$B:$F,2,0)),\"\",(VLOOKUP(AE10,Camions!$B:$F,2,0)))","v":""},null,null,null,null,null,null,null,null,null,null,null,null,{"$f":"IF(ISNA(VLOOKUP(AE10,Camions!$B:$F,4,0)),\"\",(VLOOKUP(AE10,Camions!$B:$F,4,0)))","v":""}]
[null,null,null,null,null,null,null,null,null,null,null,null,null,null,null,null,null,null,null,null,null,null,null,null,null,0,null,null,null,null,null,null,null,{"$f":"IF(ISNA(VLOOKUP(AE11,Camions!$B:$F,2,0)),\"\",(VLOOKUP(AE11,Camions!$B:$F,2,0)))","v":""},null,null,null,null,null,null,null,null,null,null,null,null,{"$f":"IF(ISNA(VLOOKUP(AE11,Camions!$B:$F,4,0)),\"\",(VLOOKUP(AE11,Camions!$B:$F,4,0)))","v":""}]
[null,null,null,null,null,null,null,null,null,null,null,null,null,null,null,null,null,null,null,null,null,null,null,null,null,0,null,null,null,null,null,null,null,{"$f":"IF(ISNA(VLOOKUP(AE12,Camions!$B:$F,2,0)),\"\",(VLOOKUP(AE12,Camions!$B:$F,2,0)))","v":""},null,null,null,null,null,null,null,null,null,null,null,null,{"$f":"IF(ISNA(VLOOKUP(AE12,Camions!$B:$F,4,0)),\"\",(VLOOKUP(AE12,Camions!$B:$F,4,0)))","v":""}]
[null,null,null,null,null,null,null,null,null,null,null,null,null,null,null,null,null,null,null,null,null,null,null,null,null,0,null,null,null,null,null,null,null,{"$f":"IF(ISNA(VLOOKUP(AE13,Camions!$B:$F,2,0)),\"\",(VLOOKUP(AE13,Camions!$B:$F,2,0)))","v":""},null,null,null,null,null,null,null,null,null,null,null,null,{"$f":"IF(ISNA(VLOOKUP(AE13,Camions!$B:$F,4,0)),\"\",(VLOOKUP(AE13,Camions!$B:$F,4,0)))","v":""}]
[null,null,null,null,null,null,null,null,null,null,null,null,null,null,null,null,null,null,null,null,null,null,null,null,null,0,null,null,null,null,null,null,null,{"$f":"IF(ISNA(VLOOKUP(AE14,Camions!$B:$F,2,0)),\"\",(VLOOKUP(AE14,Camions!$B:$F,2,0)))","v":""},null,null,null,null,null,null,null,null,null,null,null,null,{"$f":"IF(ISNA(VLOOKUP(AE14,Camions!$B:$F,4,0)),\"\",(VLOOKUP(AE14,Camions!$B:$F,4,0)))","v":""}]
[null,null,null,null,null,null,null,null,null,null,null,null,null,null,null,null,null,null,null,null,null,null,null,null,null,0,null,null,null,null,null,null,null,{"$f":"IF(ISNA(VLOOKUP(AE15,Camions!$B:$F,2,0)),\"\",(VLOOKUP(AE15,Camions!$B:$F,2,0)))","v":""},null,null,null,null,null,null,null,null,null,null,null,null,{"$f":"IF(ISNA(VLOOKUP(AE15,Camions!$B:$F,4,0)),\"\",(VLOOKUP(AE15,Camions!$B:$F,4,0)))","v":""}]
[null,null,null,null,null,null,null,null,null,null,null,null,null,null,null,null,null,null,null,null,null,null,null,null,null,0,null,null,null,null,null,null,null,{"$f":"IF(ISNA(VLOOKUP(AE16,Camions!$B:$F,2,0)),\"\",(VLOOKUP(AE16,Camions!$B:$F,2,0)))","v":""},null,null,null,null,null,null,null,null,null,null,null,null,{"$f":"IF(ISNA(VLOOKUP(AE16,Camions!$B:$F,4,0)),\"\",(VLOOKUP(AE16,Camions!$B:$F,4,0)))","v":""}]
[null,null,null,null,null,null,null,null,null,null,null,null,null,null,null,null,null,null,null,null,null,null,null,null,null,0,null,null,null,null,null,null,null,{"$f":"IF(ISNA(VLOOKUP(AE17,Camions!$B:$F,2,0)),\"\",(VLOOKUP(AE17,Camions!$B:$F,2,0)))","v":""},null,null,null,null,null,null,null,null,null,null,null,null,{"$f":"IF(ISNA(VLOOKUP(AE17,Camions!$B:$F,4,0)),\"\",(VLOOKUP(AE17,Camions!$B:$F,4,0)))","v":""}]
[null,null,null,null,null,null,null,null,null,null,null,null,null,null,null,null,null,null,null,null,null,null,null,null,null,0,null,null,null,null,null,null,null,{"$f":"IF(ISNA(VLOOKUP(AE18,Camions!$B:$F,2,0)),\"\",(VLOOKUP(AE18,Camions!$B:$F,2,0)))","v":""},null,null,null,null,null,null,null,null,null,null,null,null,{"$f":"IF(ISNA(VLOOKUP(AE18,Camions!$B:$F,4,0)),\"\",(VLOOKUP(AE18,Camions!$B:$F,4,0)))","v":""}]
[null,null,null,null,null,null,null,null,null,null,null,null,null,null,null,null,null,null,null,null,null,null,null,null,null,0,null,null,null,null,null,null,null,{"$f":"IF(ISNA(VLOOKUP(AE19,Camions!$B:$F,2,0)),\"\",(VLOOKUP(AE19,Camions!$B:$F,2,0)))","v":""},null,null,null,null,null,null,null,null,null,null,null,null,{"$f":"IF(ISNA(VLOOKUP(AE19,Camions!$B:$F,4,0)),\"\",(VLOOKUP(AE19,Camions!$B:$F,4,0)))","v":""}]
[null,null,null,null,null,null,null,null,null,null,null,null,null,null,null,null,null,null,null,null,null,null,null,null,null,0,null,null,null,null,null,null,null,{"$f":"IF(ISNA(VLOOKUP(AE20,Camions!$B:$F,2,0)),\"\",(VLOOKUP(AE20,Camions!$B:$F,2,0)))","v":""},null,null,null,null,null,null,null,null,null,null,null,null,{"$f":"IF(ISNA(VLOOKUP(AE20,Camions!$B:$F,4,0)),\"\",(VLOOKUP(AE20,Camions!$B:$F,4,0)))","v":""}]
[null,null,null,null,null,null,null,null,null,null,null,null,null,null,null,null,null,null,null,null,null,null,null,null,null,0,null,null,null,null,null,null,null,{"$f":"IF(ISNA(VLOOKUP(AE21,Camions!$B:$F,2,0)),\"\",(VLOOKUP(AE21,Camions!$B:$F,2,0)))","v":""},null,null,null,null,null,null,null,null,null,null,null,null,{"$f":"IF(ISNA(VLOOKUP(AE21,Camions!$B:$F,4,0)),\"\",(VLOOKUP(AE21,Camions!$B:$F,4,0)))","v":""}]
[null,null,null,null,null,null,null,null,null,null,null,null,null,null,null,null,null,null,null,null,null,null,null,null,null,0,null,null,null,null,null,null,null,{"$f":"IF(ISNA(VLOOKUP(AE22,Camions!$B:$F,2,0)),\"\",(VLOOKUP(AE22,Camions!$B:$F,2,0)))","v":""},null,null,null,null,null,null,null,null,null,null,null,null,{"$f":"IF(ISNA(VLOOKUP(AE22,Camions!$B:$F,4,0)),\"\",(VLOOKUP(AE22,Camions!$B:$F,4,0)))","v":""}]
[null,null,null,null,null,null,null,null,null,null,null,null,null,null,null,null,null,null,null,null,null,null,null,null,null,0,null,null,null,null,null,null,null,{"$f":"IF(ISNA(VLOOKUP(AE23,Camions!$B:$F,2,0)),\"\",(VLOOKUP(AE23,Camions!$B:$F,2,0)))","v":""},null,null,null,null,null,null,null,null,null,null,null,null,{"$f":"IF(ISNA(VLOOKUP(AE23,Camions!$B:$F,4,0)),\"\",(VLOOKUP(AE23,Camions!$B:$F,4,0)))","v":""}]
[null,null,null,null,null,null,null,null,null,null,null,null,null,null,null,null,null,null,null,null,null,null,null,null,null,0,null,null,null,null,null,null,null,{"$f":"IF(ISNA(VLOOKUP(AE24,Camions!$B:$F,2,0)),\"\",(VLOOKUP(AE24,Camions!$B:$F,2,0)))","v":""},null,null,null,null,null,null,null,null,null,null,null,null,{"$f":"IF(ISNA(VLOOKUP(AE24,Camions!$B:$F,4,0)),\"\",(VLOOKUP(AE24,Camions!$B:$F,4,0)))","v":""}]
[null,null,null,null,null,null,null,null,null,null,null,null,null,null,null,null,null,null,null,null,null,null,null,null,null,0,null,null,null,null,null,null,null,{"$f":"IF(ISNA(VLOOKUP(AE25,Camions!$B:$F,2,0)),\"\",(VLOOKUP(AE25,Camions!$B:$F,2,0)))","v":""},null,null,null,null,null,null,null,null,null,null,null,null,{"$f":"IF(ISNA(VLOOKUP(AE25,Camions!$B:$F,4,0)),\"\",(VLOOKUP(AE25,Camions!$B:$F,4,0)))","v":""}]
[null,null,null,null,null,null,null,null,null,null,null,null,null,null,null,null,null,null,null,null,null,null,null,null,null,0,null,null,null,null,null,null,null,{"$f":"IF(ISNA(VLOOKUP(AE26,Camions!$B:$F,2,0)),\"\",(VLOOKUP(AE26,Camions!$B:$F,2,0)))","v":""},null,null,null,null,null,null,null,null,null,null,null,null,{"$f":"IF(ISNA(VLOOKUP(AE26,Camions!$B:$F,4,0)),\"\",(VLOOKUP(AE26,Camions!$B:$F,4,0)))","v":""}]
[null,null,null,null,null,null,null,null,null,null,null,null,null,null,null,null,null,null,null,null,null,null,null,null,null,0,null,null,null,null,null,null,null,{"$f":"IF(ISNA(VLOOKUP(AE27,Camions!$B:$F,2,0)),\"\",(VLOOKUP(AE27,Camions!$B:$F,2,0)))","v":""},null,null,null,null,null,null,null,null,null,null,null,null,{"$f":"IF(ISNA(VLOOKUP(AE27,Camions!$B:$F,4,0)),\"\",(VLOOKUP(AE27,Camions!$B:$F,4,0)))","v":""}]
[null,null,null,null,null,null,null,null,null,null,null,null,null,null,null,null,null,null,null,null,null,null,null,null,null,0,null,null,null,null,null,null,null,{"$f":"IF(ISNA(VLOOKUP(AE28,Camions!$B:$F,2,0)),\"\",(VLOOKUP(AE28,Camions!$B:$F,2,0)))","v":""},null,null,null,null,null,null,null,null,null,null,null,null,{"$f":"IF(ISNA(VLOOKUP(AE28,Camions!$B:$F,4,0)),\"\",(VLOOKUP(AE28,Camions!$B:$F,4,0)))","v":""}]
[null,null,null,null,null,null,null,null,null,null,null,null,null,null,null,null,null,null,null,null,null,null,null,null,null,0,null,null,null,null,null,null,null,{"$f":"IF(ISNA(VLOOKUP(AE29,Camions!$B:$F,2,0)),\"\",(VLOOKUP(AE29,Camions!$B:$F,2,0)))","v":""},null,null,null,null,null,null,null,null,null,null,null,null,{"$f":"IF(ISNA(VLOOKUP(AE29,Camions!$B:$F,4,0)),\"\",(VLOOKUP(AE29,Camions!$B:$F,4,0)))","v":""}]
[null,null,null,null,null,null,null,null,null,null,null,null,null,null,null,null,null,null,null,null,null,null,null,null,null,0,null,null,null,null,null,null,null,{"$f":"IF(ISNA(VLOOKUP(AE30,Camions!$B:$F,2,0)),\"\",(VLOOKUP(AE30,Camions!$B:$F,2,0)))","v":""},null,null,null,null,null,null,null,null,null,null,null,null,{"$f":"IF(ISNA(VLOOKUP(AE30,Camions!$B:$F,4,0)),\"\",(VLOOKUP(AE30,Camions!$B:$F,4,0)))","v":""}]
[null,null,null,null,null,null,null,null,null,null,null,null,null,null,null,null,null,null,null,null,null,null,null,null,null,0,null,null,null,null,null,null,null,{"$f":"IF(ISNA(VLOOKUP(AE31,Camions!$B:$F,2,0)),\"\",(VLOOKUP(AE31,Camions!$B:$F,2,0)))","v":""},null,null,null,null,null,null,null,null,null,null,null,null,{"$f":"IF(ISNA(VLOOKUP(AE31,Camions!$B:$F,4,0)),\"\",(VLOOKUP(AE31,Camions!$B:$F,4,0)))","v":""}]
[null,null,null,null,null,null,null,null,null,null,null,null,null,null,null,null,null,null,null,null,null,null,null,null,null,0,null,null,null,null,null,null,null,{"$f":"IF(ISNA(VLOOKUP(AE32,Camions!$B:$F,2,0)),\"\",(VLOOKUP(AE32,Camions!$B:$F,2,0)))","v":""},null,null,null,null,null,null,null,null,null,null,null,null,{"$f":"IF(ISNA(VLOOKUP(AE32,Camions!$B:$F,4,0)),\"\",(VLOOKUP(AE32,Camions!$B:$F,4,0)))","v":""}]
[null,null,null,null,null,null,null,null,null,null,null,null,null,null,null,null,null,null,null,null,null,null,null,null,null,0,null,null,null,null,null,null,null,{"$f":"IF(ISNA(VLOOKUP(AE33,Camions!$B:$F,2,0)),\"\",(VLOOKUP(AE33,Camions!$B:$F,2,0)))","v":""},null,null,null,null,null,null,null,null,null,null,null,null,{"$f":"IF(ISNA(VLOOKUP(AE33,Camions!$B:$F,4,0)),\"\",(VLOOKUP(AE33,Camions!$B:$F,4,0)))","v":""}]
[null,null,null,null,null,null,null,null,null,null,null,null,null,null,null,null,null,null,null,null,null,null,null,null,null,0,null,null,null,null,null,null,null,{"$f":"IF(ISNA(VLOOKUP(AE34,Camions!$B:$F,2,0)),\"\",(VLOOKUP(AE34,Camions!$B:$F,2,0)))","v":""},null,null,null,null,null,null,null,null,null,null,null,null,{"$f":"IF(ISNA(VLOOKUP(AE34,Camions!$B:$F,4,0)),\"\",(VLOOKUP(AE34,Camions!$B:$F,4,0)))","v":""}]
[null,null,null,null,null,null,null,null,null,null,null,null,null,null,null,null,null,null,null,null,null,null,null,null,null,0,null,null,null,null,null,null,null,{"$f":"IF(ISNA(VLOOKUP(AE35,Camions!$B:$F,2,0)),\"\",(VLOOKUP(AE35,Camions!$B:$F,2,0)))","v":""},null,null,null,null,null,null,null,null,null,null,null,null,{"$f":"IF(ISNA(VLOOKUP(AE35,Camions!$B:$F,4,0)),\"\",(VLOOKUP(AE35,Camions!$B:$F,4,0)))","v":""}]
[null,null,null,null,null,null,null,null,null,null,null,null,null,null,null,null,null,null,null,null,null,null,null,null,null,0,null,null,null,null,null,null,null,{"$f":"IF(ISNA(VLOOKUP(AE36,Camions!$B:$F,2,0)),\"\",(VLOOKUP(AE36,Camions!$B:$F,2,0)))","v":""},null,null,null,null,null,null,null,null,null,null,null,null,{"$f":"IF(ISNA(VLOOKUP(AE36,Camions!$B:$F,4,0)),\"\",(VLOOKUP(AE36,Camions!$B:$F,4,0)))","v":""}]
[null,null,null,null,null,null,null,null,null,null,null,null,null,null,null,null,null,null,null,null,null,null,null,null,null,0,null,null,null,null,null,null,null,{"$f":"IF(ISNA(VLOOKUP(AE37,Camions!$B:$F,2,0)),\"\",(VLOOKUP(AE37,Camions!$B:$F,2,0)))","v":""},null,null,null,null,null,null,null,null,null,null,null,null,{"$f":"IF(ISNA(VLOOKUP(AE36,Camions!$B:$F,4,0)),\"\",(VLOOKUP(AE36,Camions!$B:$F,4,0)))","v":""}]
["CHANTIER :",null,null,null,null,{"$f":"F1","v":0},null,null,null,null,null,null,null,null,null,null,null,null,null,null,"N° CHANTIER :",null,null,null,null,null,{"$f":"AA1","v":0},null,null,null,"JOUR :",null,null,null,{"$f":"AI1","v":"Jeudi"},null,null,null,null,null,null,null,null,null,null,null,null,null,null,null,null,"DATES :",null,null,{"$f":"BC1","v":"28-01-16"}]
["MATERIEL",null,null,null,null,null,null,null,null,null,null,null,null,null,null,null,null,null,null,null,null,null,null,null,null,null,null,null,null,null,"SOUS-TRAITANTS"]
["Légende :",null,null,null,null,"Pa",".= Panne",null,null,null,null,"Ent",".= Entretien"]
["N°",null,null,"Description du matériel",null,null,null,null,null,null,null,null,null,null,null,null,"Nom de l'opérateur",null,null,null,null,null,null,null,null,"Heures",null,null,null,null,"Type d'engin et description des travaux ",null,null,null,null,null,null,null,null,null,null,null,null,null,null,null,"Sous-traitants",null,null,null,null,null,null,null,null,"Heures"]
[null,null,null,{"$f":"IF(ISNA(VLOOKUP(A42,Machines!$B:$F,2,0)),\"\",(VLOOKUP(A42,Machines!$B:$F,2,0)))","v":""},null,null,null,null,null,null,null,null,null,null,null,null,{"$f":"IF(ISNA(VLOOKUP(A42,Machines!$B:$F,4,0)),\"\",(VLOOKUP(A42,Machines!$B:$F,4,0)))","v":""}]
[null,null,null,{"$f":"IF(ISNA(VLOOKUP(A43,Machines!$B:$F,2,0)),\"\",(VLOOKUP(A43,Machines!$B:$F,2,0)))","v":""},null,null,null,null,null,null,null,null,null,null,null,null,{"$f":"IF(ISNA(VLOOKUP(A43,Machines!$B:$F,4,0)),\"\",(VLOOKUP(A43,Machines!$B:$F,4,0)))","v":""}]
[null,null,null,{"$f":"IF(ISNA(VLOOKUP(A44,Machines!$B:$F,2,0)),\"\",(VLOOKUP(A44,Machines!$B:$F,2,0)))","v":""},null,null,null,null,null,null,null,null,null,null,null,null,{"$f":"IF(ISNA(VLOOKUP(A44,Machines!$B:$F,4,0)),\"\",(VLOOKUP(A44,Machines!$B:$F,4,0)))","v":""}]
[null,null,null,{"$f":"IF(ISNA(VLOOKUP(A45,Machines!$B:$F,2,0)),\"\",(VLOOKUP(A45,Machines!$B:$F,2,0)))","v":""},null,null,null,null,null,null,null,null,null,null,null,null,{"$f":"IF(ISNA(VLOOKUP(A45,Machines!$B:$F,4,0)),\"\",(VLOOKUP(A45,Machines!$B:$F,4,0)))","v":""}]
[null,null,null,{"$f":"IF(ISNA(VLOOKUP(A46,Machines!$B:$F,2,0)),\"\",(VLOOKUP(A46,Machines!$B:$F,2,0)))","v":""},null,null,null,null,null,null,null,null,null,null,null,null,{"$f":"IF(ISNA(VLOOKUP(A46,Machines!$B:$F,4,0)),\"\",(VLOOKUP(A46,Machines!$B:$F,4,0)))","v":""}]
[null,null,null,{"$f":"IF(ISNA(VLOOKUP(A47,Machines!$B:$F,2,0)),\"\",(VLOOKUP(A47,Machines!$B:$F,2,0)))","v":""},null,null,null,null,null,null,null,null,null,null,null,null,{"$f":"IF(ISNA(VLOOKUP(A47,Machines!$B:$F,4,0)),\"\",(VLOOKUP(A47,Machines!$B:$F,4,0)))","v":""}]
[null,null,null,{"$f":"IF(ISNA(VLOOKUP(A48,Machines!$B:$F,2,0)),\"\",(VLOOKUP(A48,Machines!$B:$F,2,0)))","v":""},null,null,null,null,null,null,null,null,null,null,null,null,{"$f":"IF(ISNA(VLOOKUP(A48,Machines!$B:$F,4,0)),\"\",(VLOOKUP(A48,Machines!$B:$F,4,0)))","v":""}]
[null,null,null,{"$f":"IF(ISNA(VLOOKUP(A49,Machines!$B:$F,2,0)),\"\",(VLOOKUP(A49,Machines!$B:$F,2,0)))","v":""},null,null,null,null,null,null,null,null,null,null,null,null,{"$f":"IF(ISNA(VLOOKUP(A49,Machines!$B:$F,4,0)),\"\",(VLOOKUP(A49,Machines!$B:$F,4,0)))","v":""}]
[null,null,null,{"$f":"IF(ISNA(VLOOKUP(A50,Machines!$B:$F,2,0)),\"\",(VLOOKUP(A50,Machines!$B:$F,2,0)))","v":""},null,null,null,null,null,null,null,null,null,null,null,null,{"$f":"IF(ISNA(VLOOKUP(A50,Machines!$B:$F,4,0)),\"\",(VLOOKUP(A50,Machines!$B:$F,4,0)))","v":""}]
[null,null,null,{"$f":"IF(ISNA(VLOOKUP(A51,Machines!$B:$F,2,0)),\"\",(VLOOKUP(A51,Machines!$B:$F,2,0)))","v":""},null,null,null,null,null,null,null,null,null,null,null,null,{"$f":"IF(ISNA(VLOOKUP(A51,Machines!$B:$F,4,0)),\"\",(VLOOKUP(A51,Machines!$B:$F,4,0)))","v":""}]
[null,null,null,{"$f":"IF(ISNA(VLOOKUP(A52,Machines!$B:$F,2,0)),\"\",(VLOOKUP(A52,Machines!$B:$F,2,0)))","v":""},null,null,null,null,null,null,null,null,null,null,null,null,{"$f":"IF(ISNA(VLOOKUP(A52,Machines!$B:$F,4,0)),\"\",(VLOOKUP(A52,Machines!$B:$F,4,0)))","v":""}]
[null,null,null,{"$f":"IF(ISNA(VLOOKUP(A53,Machines!$B:$F,2,0)),\"\",(VLOOKUP(A53,Machines!$B:$F,2,0)))","v":""},null,null,null,null,null,null,null,null,null,null,null,null,{"$f":"IF(ISNA(VLOOKUP(A53,Machines!$B:$F,4,0)),\"\",(VLOOKUP(A53,Machines!$B:$F,4,0)))","v":""}]
[null,null,null,{"$f":"IF(ISNA(VLOOKUP(A54,Machines!$B:$F,2,0)),\"\",(VLOOKUP(A54,Machines!$B:$F,2,0)))","v":""},null,null,null,null,null,null,null,null,null,null,null,null,{"$f":"IF(ISNA(VLOOKUP(A54,Machines!$B:$F,4,0)),\"\",(VLOOKUP(A54,Machines!$B:$F,4,0)))","v":""}]
[null,null,null,{"$f":"IF(ISNA(VLOOKUP(A55,Machines!$B:$F,2,0)),\"\",(VLOOKUP(A55,Machines!$B:$F,2,0)))","v":""},null,null,null,null,null,null,null,null,null,null,null,null,{"$f":"IF(ISNA(VLOOKUP(A55,Machines!$B:$F,4,0)),\"\",(VLOOKUP(A55,Machines!$B:$F,4,0)))","v":""}]
[null,null,null,{"$f":"IF(ISNA(VLOOKUP(A56,Machines!$B:$F,2,0)),\"\",(VLOOKUP(A56,Machines!$B:$F,2,0)))","v":""},null,null,null,null,null,null,null,null,null,null,null,null,{"$f":"IF(ISNA(VLOOKUP(A56,Machines!$B:$F,4,0)),\"\",(VLOOKUP(A56,Machines!$B:$F,4,0)))","v":""}]
[null,null,null,{"$f":"IF(ISNA(VLOOKUP(A57,Machines!$B:$F,2,0)),\"\",(VLOOKUP(A57,Machines!$B:$F,2,0)))","v":""},null,null,null,null,null,null,null,null,null,null,null,null,{"$f":"IF(ISNA(VLOOKUP(A57,Machines!$B:$F,4,0)),\"\",(VLOOKUP(A57,Machines!$B:$F,4,0)))","v":""}]
[null,null,null,{"$f":"IF(ISNA(VLOOKUP(A58,Machines!$B:$F,2,0)),\"\",(VLOOKUP(A58,Machines!$B:$F,2,0)))","v":""},null,null,null,null,null,null,null,null,null,null,null,null,{"$f":"IF(ISNA(VLOOKUP(A58,Machines!$B:$F,4,0)),\"\",(VLOOKUP(A58,Machines!$B:$F,4,0)))","v":""}]
[null,null,null,{"$f":"IF(ISNA(VLOOKUP(A59,Machines!$B:$F,2,0)),\"\",(VLOOKUP(A59,Machines!$B:$F,2,0)))","v":""},null,null,null,null,null,null,null,null,null,null,null,null,{"$f":"IF(ISNA(VLOOKUP(A59,Machines!$B:$F,4,0)),\"\",(VLOOKUP(A59,Machines!$B:$F,4,0)))","v":""}]
[null,null,null,{"$f":"IF(ISNA(VLOOKUP(A60,Machines!$B:$F,2,0)),\"\",(VLOOKUP(A60,Machines!$B:$F,2,0)))","v":""},null,null,null,null,null,null,null,null,null,null,null,null,{"$f":"IF(ISNA(VLOOKUP(A60,Machines!$B:$F,4,0)),\"\",(VLOOKUP(A60,Machines!$B:$F,4,0)))","v":""}]
[null,null,null,{"$f":"IF(ISNA(VLOOKUP(A61,Machines!$B:$F,2,0)),\"\",(VLOOKUP(A61,Machines!$B:$F,2,0)))","v":""},null,null,null,null,null,null,null,null,null,null,null,null,{"$f":"IF(ISNA(VLOOKUP(A61,Machines!$B:$F,4,0)),\"\",(VLOOKUP(A61,Machines!$B:$F,4,0)))","v":""}]
[null,null,null,{"$f":"IF(ISNA(VLOOKUP(A62,Machines!$B:$F,2,0)),\"\",(VLOOKUP(A62,Machines!$B:$F,2,0)))","v":""},null,null,null,null,null,null,null,null,null,null,null,null,{"$f":"IF(ISNA(VLOOKUP(A62,Machines!$B:$F,4,0)),\"\",(VLOOKUP(A62,Machines!$B:$F,4,0)))","v":""}]
[null,null,null,{"$f":"IF(ISNA(VLOOKUP(A63,Machines!$B:$F,2,0)),\"\",(VLOOKUP(A63,Machines!$B:$F,2,0)))","v":""},null,null,null,null,null,null,null,null,null,null,null,null,{"$f":"IF(ISNA(VLOOKUP(A63,Machines!$B:$F,4,0)),\"\",(VLOOKUP(A63,Machines!$B:$F,4,0)))","v":""}]
[null,null,null,{"$f":"IF(ISNA(VLOOKUP(A64,Machines!$B:$F,2,0)),\"\",(VLOOKUP(A64,Machines!$B:$F,2,0)))","v":""},null,null,null,null,null,null,null,null,null,null,null,null,{"$f":"IF(ISNA(VLOOKUP(A64,Machines!$B:$F,4,0)),\"\",(VLOOKUP(A64,Machines!$B:$F,4,0)))","v":""}]
[null,null,null,{"$f":"IF(ISNA(VLOOKUP(A65,Machines!$B:$F,2,0)),\"\",(VLOOKUP(A65,Machines!$B:$F,2,0)))","v":""},null,null,null,null,null,null,null,null,null,null,null,null,{"$f":"IF(ISNA(VLOOKUP(A65,Machines!$B:$F,4,0)),\"\",(VLOOKUP(A65,Machines!$B:$F,4,0)))","v":""}]
[null,null,null,{"$f":"IF(ISNA(VLOOKUP(A66,Machines!$B:$F,2,0)),\"\",(VLOOKUP(A66,Machines!$B:$F,2,0)))","v":""},null,null,null,null,null,null,null,null,null,null,null,null,{"$f":"IF(ISNA(VLOOKUP(A66,Machines!$B:$F,4,0)),\"\",(VLOOKUP(A66,Machines!$B:$F,4,0)))","v":""}]
[null,null,null,{"$f":"IF(ISNA(VLOOKUP(A67,Machines!$B:$F,2,0)),\"\",(VLOOKUP(A67,Machines!$B:$F,2,0)))","v":""},null,null,null,null,null,null,null,null,null,null,null,null,{"$f":"IF(ISNA(VLOOKUP(A67,Machines!$B:$F,4,0)),\"\",(VLOOKUP(A67,Machines!$B:$F,4,0)))","v":""}]
[null,null,null,{"$f":"IF(ISNA(VLOOKUP(A68,Machines!$B:$F,2,0)),\"\",(VLOOKUP(A68,Machines!$B:$F,2,0)))","v":""},null,null,null,null,null,null,null,null,null,null,null,null,{"$f":"IF(ISNA(VLOOKUP(A68,Machines!$B:$F,4,0)),\"\",(VLOOKUP(A68,Machines!$B:$F,4,0)))","v":""}]
[null,null,null,{"$f":"IF(ISNA(VLOOKUP(A69,Machines!$B:$F,2,0)),\"\",(VLOOKUP(A69,Machines!$B:$F,2,0)))","v":""},null,null,null,null,null,null,null,null,null,null,null,null,{"$f":"IF(ISNA(VLOOKUP(A69,Machines!$B:$F,4,0)),\"\",(VLOOKUP(A69,Machines!$B:$F,4,0)))","v":""}]
[null,null,null,{"$f":"IF(ISNA(VLOOKUP(A70,Machines!$B:$F,2,0)),\"\",(VLOOKUP(A70,Machines!$B:$F,2,0)))","v":""},null,null,null,null,null,null,null,null,null,null,null,null,{"$f":"IF(ISNA(VLOOKUP(A70,Machines!$B:$F,4,0)),\"\",(VLOOKUP(A70,Machines!$B:$F,4,0)))","v":""}]
[null,null,null,{"$f":"IF(ISNA(VLOOKUP(A71,Machines!$B:$F,2,0)),\"\",(VLOOKUP(A71,Machines!$B:$F,2,0)))","v":""},null,null,null,null,null,null,null,null,null,null,null,null,{"$f":"IF(ISNA(VLOOKUP(A71,Machines!$B:$F,4,0)),\"\",(VLOOKUP(A71,Machines!$B:$F,4,0)))","v":""}]
[null,null,null,{"$f":"IF(ISNA(VLOOKUP(A72,Machines!$B:$F,2,0)),\"\",(VLOOKUP(A72,Machines!$B:$F,2,0)))","v":""},null,null,null,null,null,null,null,null,null,null,null,null,{"$f":"IF(ISNA(VLOOKUP(A72,Machines!$B:$F,4,0)),\"\",(VLOOKUP(A72,Machines!$B:$F,4,0)))","v":""}]
[null,null,null,{"$f":"IF(ISNA(VLOOKUP(A73,Machines!$B:$F,2,0)),\"\",(VLOOKUP(A73,Machines!$B:$F,2,0)))","v":""},null,null,null,null,null,null,null,null,null,null,null,null,{"$f":"IF(ISNA(VLOOKUP(A73,Machines!$B:$F,4,0)),\"\",(VLOOKUP(A73,Machines!$B:$F,4,0)))","v":""}]
[null,null,null,{"$f":"IF(ISNA(VLOOKUP(A74,Machines!$B:$F,2,0)),\"\",(VLOOKUP(A74,Machines!$B:$F,2,0)))","v":""},null,null,null,null,null,null,null,null,null,null,null,null,{"$f":"IF(ISNA(VLOOKUP(A74,Machines!$B:$F,4,0)),\"\",(VLOOKUP(A74,Machines!$B:$F,4,0)))","v":""}]
["CHANTIER :",null,null,null,null,{"$f":"F1","v":0},null,null,null,null,null,null,null,null,null,null,null,null,null,null,"N° CHANTIER :",null,null,null,null,null,{"$f":"AA1","v":0},null,null,null,"JOUR :",null,null,null,{"$f":"AI1","v":"Jeudi"},null,null,null,null,null,null,null,null,null,null,null,null,null,null,null,null,"DATES :",null,null,{"$f":"BC1","v":"28-01-16"}]
["MATERIAUX"]
[null,null,null,"Fournisseurs",null,null,null,null,null,null,null,null,null,null,null,null,null,null,"Description des fournitures & matériaux",null,null,null,null,null,null,null,null,null,null,null,null,null,null,null,null,null,null,null,null,null,null,null,null,null,null,null,null,null,null,"Qt totales",null,null,null,"U.",null,"Prix"]
[]
[]
[]
[]
[]
[]
[]
[]
[]
[]
[]
[]
[]
[]
[]
[]
[]
[]
[]
[]
[]
[]
[]
[]
[]
[]
[]
[]
[]
[]
[]
[null,null,null,"RESPONSABLE",null,null,null,null,null,null,null,null,"SIGNATURE",null,null,null,null,null,"DESCRIPTION DES TRAVAUX REALISES CE JOUR",null,null,null,null,null,null,null,null,null,null,null,null,null,null,null,null,null,null,null,null,null,null,null,null,null,null,null,null,null,null,"METEO"]
[null,null,null,"JENNES Loïc"]

{"sheet":"29-01-16","index":35,"n_rows":110,"n_cols":56,"rows_kept":110,"cut":false,"hidden":false,"merged":[[110,18,110,48],[72,0,72,2],[72,3,72,15],[72,16,72,24],[72,25,72,28],[72,30,72,45],[72,46,72,54],[72,55,72,58],[73,0,73,2],[73,3,73,15],[73,16,73,24],[73,25,73,28],[73,30,73,45],[73,46,73,54],[73,55,73,58],[109,18,109,48],[107,18,107,48],[105,3,105,17],[105,18,105,48],[106,3,106,17],[106,18,106,48],[106,49,106,52],[107,49,107,52],[104,3,104,17],[69,0,69,2],[69,3,69,15],[69,16,69,24],[69,25,69,28],[69,30,69,45],[69,46,69,54],[69,55,69,58],[70,0,70,2],[70,3,70,15],[70,16,70,24],[70,25,70,28],[70,30,70,45],[70,46,70,54],[70,55,70,58],[67,0,67,2],[67,3,67,15],[67,16,67,24],[67,25,67,28],[67,30,67,45],[67,46,67,54],[67,55,67,58],[68,0,68,2],[68,3,68,15],[68,16,68,24],[68,25,68,28],[68,30,68,45],[68,46,68,54],[68,55,68,58],[65,0,65,2],[65,3,65,15],[65,16,65,24],[65,25,65,28],[65,30,65,45],[65,46,65,54],[65,55,65,58],[66,0,66,2],[66,3,66,15],[66,16,66,24],[66,25,66,28],[66,30,66,45],[66,46,66,54],[66,55,66,58],[63,0,63,2],[63,3,63,15],[63,16,63,24],[63,25,63,28],[63,30,63,45],[63,46,63,54],[63,55,63,58],[64,0,64,2],[64,3,64,15],[64,16,64,24],[64,25,64,28],[64,30,64,45],[64,46,64,54],[64,55,64,58],[61,0,61,2],[61,3,61,15],[61,16,61,24],[61,25,61,28],[61,30,61,45],[61,46,61,54],[61,55,61,58],[62,0,62,2],[62,3,62,15],[62,16,62,24],[62,25,62,28],[62,30,62,45],[62,46,62,54],[62,55,62,58],[59,0,59,2],[59,3,59,15],[59,16,59,24],[59,25,59,28],[59,30,59,45],[59,46,59,54],[59,55,59,58],[60,0,60,2],[60,3,60,15],[60,16,60,24],[60,25,60,28],[60,30,60,45],[60,46,60,54],[60,55,60,58],[57,0,57,2],[57,3,57,15],[57,16,57,24],[57,25,57,28],[57,30,57,45],[57,46,57,54],[57,55,57,58],[58,0,58,2],[58,3,58,15],[58,16,58,24],[58,25,58,28],[58,30,58,45],[58,46,58,54],[58,55,58,58],[55,0,55,2],[55,3,55,15],[55,16,55,24],[55,25,55,28],[55,30,55,45],[55,46,55,54],[55,55,55,58],[56,0,56,2],[56,3,56,15],[56,16,56,24],[56,25,56,28],[56,30,56,45],[56,46,56,54],[56,55,56,58],[53,0,53,2],[53,3,53,15],[53,16,53,24],[53,25,53,28],[53,30,53,45],[53,46,53,54],[53,55,53,58],[54,0,54,2],[54,3,54,15],[54,16,54,24],[54,25,54,28],[54,30,54,45],[54,46,54,54],[54,55,54,58],[51,0,51,2],[51,3,51,15],[51,16,51,24],[51,25,51,28],[51,30,51,45],[51,46,51,54],[51,55,51,58],[52,0,52,2],[52,3,52,15],[52,16,52,24],[52,25,52,28],[52,30,52,45],[52,46,52,54],[52,55,52,58],[49,0,49,2],[49,3,49,15],[49,16,49,24],[49,25,49,28],[49,30,49,45],[49,46,49,54],[49,55,49,58],[50,0,50,2],[50,3,50,15],[50,16,50,24],[50,25,50,28],[50,30,50,45],[50,46,50,54],[50,55,50,58],[47,0,47,2],[47,3,47,15],[47,16,47,24],[47,25,47,28],[47,30,47,45],[47,46,47,54],[47,55,47,58],[48,0,48,2],[48,3,48,15],[48,16,48,24],[48,25,48,28],[48,30,48,45],[48,46,48,54],[48,55,48,58],[45,0,45,2],[45,3,45,15],[45,16,45,24],[45,25,45,28],[45,30,45,45],[45,46,45,54],[45,55,45,58],[46,0,46,2],[46,3,46,15],[46,16,46,24],[46,25,46,28],[46,30,46,45],[46,46,46,54],[46,55,46,58],[43,0,43,2],[43,3,43,15],[43,16,43,24],[43,25,43,28],[43,30,43,45],[43,46,43,54],[43,55,43,58],[44,0,44,2],[44,3,44,15],[44,16,44,24],[44,25,44,28],[44,30,44,45],[44,46,44,54],[44,55,44,58],[41,25,41,28],[41,30,41,45],[41,46,41,54],[41,55,41,58],[42,0,42,2],[42,3,42,15],[42,16,42,24],[42,25,42,28],[42,30,42,45],[42,46,42,54],[42,55,42,58],[37,0,37,4],[37,5,37,19],[37,20,37,25],[37,26,37,28],[37,30,37,32],[37,34,37,47],[37,51,37,53],[37,54,37,58],[38,0,38,28],[38,29,73,29],[38,30,38,58],[39,0,39,4],[39,6,39,9],[39,12,39,15],[40,0,40,2],[40,3,40,15],[40,16,40,24],[40,25,40,28],[40,30,40,45],[40,46,40,54],[40,55,40,58],[41,0,41,2],[41,3,41,15],[41,16,41,24],[36,0,36,15],[36,16,36,18],[36,19,36,21],[36,22,36,24],[36,25,36,28],[36,30,36,32],[36,33,36,45],[36,46,36,54],[36,55,36,58],[35,0,35,15],[35,16,35,18],[35,19,35,21],[35,22,35,24],[35,25,35,28],[35,30,35,32],[35,33,35,45],[35,46,35,54],[35,55,35,58],[34,0,34,15],[34,16,34,18],[34,19,34,21],[34,22,34,24],[34,25,34,28],[34,30,34,32],[34,33,34,45],[34,46,34,54],[34,55,34,58],[33,0,33,15],[33,16,33,18],[33,19,33,21],[33,22,33,24],[33,25,33,28],[33,30,33,32],[33,33,33,45],[33,46,33,54],[33,55,33,58],[32,0,32,15],[32,16,32,18],[32,19,32,21],[32,22,32,24],[32,25,32,28],[32,30,32,32],[32,33,32,45],[32,46,32,54],[32,55,32,58],[31,0,31,15],[31,16,31,18],[31,19,31,21],[31,22,31,24],[31,25,31,28],[31,30,31,32],[31,33,31,45],[31,46,31,54],[31,55,31,58],[30,0,30,15],[30,16,30,18],[30,19,30,21],[30,22,30,24],[30,25,30,28],[30,30,30,32],[30,33,30,45],[30,46,30,54],[30,55,30,58],[29,0,29,15],[29,16,29,18],[29,19,29,21],[29,22,29,24],[29,25,29,28],[29,30,29,32],[29,33,29,45],[29,46,29,54],[29,55,29,58],[28,0,28,15],[28,16,28,18],[28,19,28,21],[28,22,28,24],[28,25,28,28],[28,30,28,32],[28,33,28,45],[28,46,28,54],[28,55,28,58],[27,0,27,15],[27,16,27,18],[27,19,27,21],[27,22,27,24],[27,25,27,28],[27,30,27,32],[27,33,27,45],[27,46,27,54],[27,55,27,58],[26,0,26,15],[26,16,26,18],[26,19,26,21],[26,22,26,24],[26,25,26,28],[26,30,26,32],[26,33,26,45],[26,46,26,54],[26,55,26,58],[25,0,25,15],[25,16,25,18],[25,19,25,21],[25,22,25,24],[25,25,25,28],[25,30,25,32],[25,33,25,45],[25,46,25,54],[25,55,25,58],[24,0,24,15],[24,16,24,18],[24,19,24,21],[24,22,24,24],[24,25,24,28],[24,30,24,32],[24,33,24,45],[24,46,24,54],[24,55,24,58],[23,0,23,15],[23,16,23,18],[23,19,23,21],[23,22,23,24],[23,25,23,28],[23,30,23,32],[23,33,23,45],[23,46,23,54],[23,55,23,58],[22,0,22,15],[22,16,22,18],[22,19,22,21],[22,22,22,24],[22,25,22,28],[22,30,22,32],[22,33,22,45],[22,46,22,54],[22,55,22,58],[21,0,21,15],[21,16,21,18],[21,19,21,21],[21,22,21,24],[21,25,21,28],[21,30,21,32],[21,33,21,45],[21,46,21,54],[21,55,21,58],[20,0,20,15],[20,16,20,18],[20,19,20,21],[20,22,20,24],[20,25,20,28],[20,30,20,32],[20,33,20,45],[20,46,20,54],[20,55,20,58],[19,0,19,15],[19,16,19,18],[19,19,19,21],[19,22,19,24],[19,25,19,28],[19,30,19,32],[19,33,19,45],[19,46,19,54],[19,55,19,58],[18,0,18,15],[18,16,18,18],[18,19,18,21],[18,22,18,24],[18,25,18,28],[18,30,18,32],[18,33,18,45],[18,46,18,54],[18,55,18,58],[17,0,17,15],[17,16,17,18],[17,19,17,21],[17,22,17,24],[17,25,17,28],[17,30,17,32],[17,33,17,45],[17,46,17,54],[17,55,17,58],[16,0,16,15],[16,16,16,18],[16,19,16,21],[16,22,16,24],[16,25,16,28],[16,30,16,32],[16,33,16,45],[16,46,16,54],[16,55,16,58],[15,0,15,15],[15,16,15,18],[15,19,15,21],[15,22,15,24],[15,25,15,28],[15,30,15,32],[15,33,15,45],[15,46,15,54],[15,55,15,58],[14,0,14,15],[14,16,14,18],[14,19,14,21],[14,22,14,24],[14,25,14,28],[14,30,14,32],[14,33,14,45],[14,46,14,54],[14,55,14,58],[13,0,13,15],[13,16,13,18],[13,19,13,21],[13,22,13,24],[13,25,13,28],[13,30,13,32],[13,33,13,45],[13,46,13,54],[13,55,13,58],[12,0,12,15],[12,16,12,18],[12,19,12,21],[12,22,12,24],[12,25,12,28],[12,30,12,32],[12,33,12,45],[12,46,12,54],[12,55,12,58],[11,0,11,15],[11,16,11,18],[11,19,11,21],[11,22,11,24],[11,25,11,28],[11,30,11,32],[11,33,11,45],[11,46,11,54],[11,55,11,58],[10,0,10,15],[10,16,10,18],[10,19,10,21],[10,22,10,24],[10,25,10,28],[10,30,10,32],[10,33,10,45],[10,46,10,54],[10,55,10,58],[9,0,9,15],[9,16,9,18],[9,19,9,21],[9,22,9,24],[9,25,9,28],[9,30,9,32],[9,33,9,45],[9,46,9,54],[9,55,9,58],[8,0,8,15],[8,16,8,18],[8,19,8,21],[8,22,8,24],[8,25,8,28],[8,30,8,32],[8,33,8,45],[8,46,8,54],[8,55,8,58],[6,30,6,32],[6,33,6,45],[6,46,6,54],[6,55,6,58],[7,0,7,15],[7,16,7,18],[7,19,7,21],[7,22,7,24],[7,25,7,28],[7,30,7,32],[7,33,7,45],[7,46,7,54],[7,55,7,58],[4,55,4,58],[5,0,5,15],[5,16,5,18],[5,19,5,21],[5,22,5,24],[5,25,5,28],[5,30,5,32],[5,33,5,45],[5,46,5,54],[5,55,5,58],[0,51,0,53],[0,54,0,58],[1,0,1,28],[1,29,36,29],[1,30,1,58],[2,0,2,4],[2,7,2,10],[2,13,2,16],[2,19,2,22],[2,25,2,28],[2,30,2,34],[2,36,2,39],[2,42,2,45],[3,0,3,15],[3,16,3,18],[3,19,3,21],[3,22,3,24],[3,25,3,28],[3,30,3,32],[3,33,3,45],[3,46,3,54],[3,55,3,58],[4,0,4,15],[4,16,4,18],[111,18,111,48],[108,18,108,48],[108,3,108,11],[108,12,108,17],[109,3,111,11],[109,12,111,17],[0,0,0,4],[0,5,0,19],[0,20,0,25],[0,26,0,28],[0,30,0,32],[0,34,0,47],[4,19,4,21],[4,22,4,24],[4,25,4,28],[4,30,4,32],[4,33,4,45],[4,46,4,54],[6,0,6,15],[6,16,6,18],[6,19,6,21],[6,22,6,24],[6,25,6,28],[107,3,107,17],[104,18,104,48],[99,3,99,17],[99,18,99,48],[100,3,100,17],[100,18,100,48],[103,3,103,17],[103,18,103,48],[101,49,101,52],[102,49,102,52],[99,49,99,52],[95,53,95,54],[95,55,95,58],[96,49,96,52],[96,53,96,54],[96,55,96,58],[97,49,97,52],[97,53,97,54],[101,3,101,17],[101,18,101,48],[101,53,101,54],[101,55,101,58],[97,3,97,17],[97,18,97,48],[98,3,98,17],[98,18,98,48],[95,3,95,17],[95,18,95,48],[96,3,96,17],[96,18,96,48],[95,49,95,52],[97,55,97,58],[98,49,98,52],[98,53,98,54],[98,55,98,58],[94,3,94,17],[94,18,94,48],[91,3,91,17],[91,18,91,48],[92,3,92,17],[92,18,92,48],[93,49,93,52],[93,53,93,54],[93,55,93,58],[94,49,94,52],[94,53,94,54],[94,55,94,58],[91,55,91,58],[92,49,92,52],[92,53,92,54],[92,55,92,58],[87,53,87,54],[87,55,87,58],[88,49,88,52],[88,53,88,54],[88,55,88,58],[89,49,89,52],[89,53,89,54],[93,3,93,17],[93,18,93,48],[89,3,89,17],[89,18,89,48],[90,3,90,17],[90,18,90,48],[87,3,87,17],[87,18,87,48],[88,3,88,17],[88,18,88,48],[87,49,87,52],[89,55,89,58],[90,49,90,52],[90,53,90,54],[90,55,90,58],[91,49,91,52],[91,53,91,54],[86,3,86,17],[86,18,86,48],[83,3,83,17],[83,18,83,48],[84,3,84,17],[84,18,84,48],[85,49,85,52],[85,53,85,54],[85,55,85,58],[86,49,86,52],[86,53,86,54],[86,55,86,58],[83,55,83,58],[84,49,84,52],[84,53,84,54],[84,55,84,58],[79,53,79,54],[79,55,79,58],[80,49,80,52],[80,53,80,54],[80,55,80,58],[81,49,81,52],[81,53,81,54],[85,3,85,17],[85,18,85,48],[81,3,81,17],[81,18,81,48],[82,3,82,17],[82,18,82,48],[79,3,79,17],[79,18,79,48],[80,3,80,17],[80,18,80,48],[79,49,79,52],[81,55,81,58],[82,49,82,52],[82,53,82,54],[82,55,82,58],[83,49,83,52],[83,53,83,54],[76,49,76,52],[76,53,76,54],[76,55,76,58],[77,49,77,52],[77,53,77,54],[77,55,77,58],[78,49,78,52],[78,53,78,54],[78,55,78,58],[71,0,71,2],[71,3,71,15],[71,16,71,24],[71,25,71,28],[71,30,71,45],[71,46,71,54],[71,55,71,58],[102,3,102,17],[102,18,102,48],[76,3,76,17],[76,18,76,48],[74,0,74,4],[74,5,74,19],[74,20,74,25],[74,26,74,28],[74,30,74,32],[74,34,74,47],[74,51,74,53],[74,54,74,58],[77,3,77,17],[77,18,77,48],[78,3,78,17],[78,18,78,48],[75,0,75,58],[99,53,99,54],[99,55,99,58],[100,49,100,52],[100,53,100,54],[100,55,100,58],[108,49,108,58],[109,49,111,58],[102,53,102,54],[102,55,102,58],[103,49,103,52],[103,53,103,54],[103,55,103,58],[104,49,104,52],[104,53,104,54],[104,55,104,58],[105,49,105,52],[105,53,105,54],[105,55,105,58],[106,53,106,54],[106,55,106,58],[107,53,107,54],[107,55,107,58]]}
["CHANTIER :",null,null,null,null,{"$f":"'01-01-16'!F1","v":0},null,null,null,null,null,null,null,null,null,null,null,null,null,null,"N° CHANTIER :",null,null,null,null,null,{"$f":"'01-01-16'!AA1","v":0},null,null,null,"JOUR :",null,null,null,{"$f":" CHOOSE(WEEKDAY(BC1,2),\"Lundi\",\"Mardi\",\"Mercredi\",\"Jeudi\",\"Vendredi\",\"Samedi\",\"Dimanche\")","v":"Vendredi"},null,null,null,null,null,null,null,null,null,null,null,null,null,null,null,null,"DATES :",null,null,{"$f":"MID(CELL(\"nomfichier\",A1),FIND(\"]\",CELL(\"nomfichier\",A1),1)+1,30)","v":"29-01-16"}]
["MAIN D'ŒUVRE",null,null,null,null,null,null,null,null,null,null,null,null,null,null,null,null,null,null,null,null,null,null,null,null,null,null,null,null,null,"CAMIONS"]
["Légende :",null,null,null,null,null,"Co",".= Congé",null,null,null,null,"M",".= Malade",null,null,null,null,"Cho",".= Chômage",null,null,null,null,"Va",".= Vacance",null,null,null,null,"Légende :",null,null,null,null,"Pa",".= Panne",null,null,null,null,"Ent",".= Entretien"]
["NOM - Prénom du travailleur",null,null,null,null,null,null,null,null,null,null,null,null,null,null,null,"Début journée",null,null,"Arrêt repas",null,null,"Fin journée",null,null,"Heures prestées",null,null,null,null,"N°",null,null,"Description du matériel",null,null,null,null,null,null,null,null,null,null,null,null,"Nom de l'opérateur",null,null,null,null,null,null,null,null,"Heures"]
[null,null,null,null,null,null,null,null,null,null,null,null,null,null,null,null,null,null,null,null,null,null,null,null,null,{"$f":"W5-Q5-T5","v":0},null,null,null,null,null,null,null,{"$f":"IF(ISNA(VLOOKUP(AE5,Camions!$B:$F,2,0)),\"\",(VLOOKUP(AE5,Camions!$B:$F,2,0)))","v":""},null,null,null,null,null,null,null,null,null,null,null,null,{"$f":"IF(ISNA(VLOOKUP(AE5,Camions!$B:$F,4,0)),\"\",(VLOOKUP(AE5,Camions!$B:$F,4,0)))","v":""}]
[null,null,null,null,null,null,null,null,null,null,null,null,null,null,null,null,null,null,null,null,null,null,null,null,null,{"$f":"W6-Q6-T6","v":0},null,null,null,null,null,null,null,{"$f":"IF(ISNA(VLOOKUP(AE6,Camions!$B:$F,2,0)),\"\",(VLOOKUP(AE6,Camions!$B:$F,2,0)))","v":""},null,null,null,null,null,null,null,null,null,null,null,null,{"$f":"IF(ISNA(VLOOKUP(AE6,Camions!$B:$F,4,0)),\"\",(VLOOKUP(AE6,Camions!$B:$F,4,0)))","v":""}]
[null,null,null,null,null,null,null,null,null,null,null,null,null,null,null,null,null,null,null,null,null,null,null,null,null,0,null,null,null,null,null,null,null,{"$f":"IF(ISNA(VLOOKUP(AE7,Camions!$B:$F,2,0)),\"\",(VLOOKUP(AE7,Camions!$B:$F,2,0)))","v":""},null,null,null,null,null,null,null,null,null,null,null,null,{"$f":"IF(ISNA(VLOOKUP(AE7,Camions!$B:$F,4,0)),\"\",(VLOOKUP(AE7,Camions!$B:$F,4,0)))","v":""}]
[null,null,null,null,null,null,null,null,null,null,null,null,null,null,null,null,null,null,null,null,null,null,null,null,null,0,null,null,null,null,null,null,null,{"$f":"IF(ISNA(VLOOKUP(AE8,Camions!$B:$F,2,0)),\"\",(VLOOKUP(AE8,Camions!$B:$F,2,0)))","v":""},null,null,null,null,null,null,null,null,null,null,null,null,{"$f":"IF(ISNA(VLOOKUP(AE8,Camions!$B:$F,4,0)),\"\",(VLOOKUP(AE8,Camions!$B:$F,4,0)))","v":""}]
[null,null,null,null,null,null,null,null,null,null,null,null,null,null,null,null,null,null,null,null,null,null,null,null,null,0,null,null,null,null,null,null,null,{"$f":"IF(ISNA(VLOOKUP(AE9,Camions!$B:$F,2,0)),\"\",(VLOOKUP(AE9,Camions!$B:$F,2,0)))","v":""},null,null,null,null,null,null,null,null,null,null,null,null,{"$f":"IF(ISNA(VLOOKUP(AE9,Camions!$B:$F,4,0)),\"\",(VLOOKUP(AE9,Camions!$B:$F,4,0)))","v":""}]
[null,null,null,null,null,null,null,null,null,null,null,null,null,null,null,null,null,null,null,null,null,null,null,null,null,0,null,null,null,null,null,null,null,{"$f":"IF(ISNA(VLOOKUP(AE10,Camions!$B:$F,2,0)),\"\",(VLOOKUP(AE10,Camions!$B:$F,2,0)))","v":""},null,null,null,null,null,null,null,null,null,null,null,null,{"$f":"IF(ISNA(VLOOKUP(AE10,Camions!$B:$F,4,0)),\"\",(VLOOKUP(AE10,Camions!$B:$F,4,0)))","v":""}]
[null,null,null,null,null,null,null,null,null,null,null,null,null,null,null,null,null,null,null,null,null,null,null,null,null,0,null,null,null,null,null,null,null,{"$f":"IF(ISNA(VLOOKUP(AE11,Camions!$B:$F,2,0)),\"\",(VLOOKUP(AE11,Camions!$B:$F,2,0)))","v":""},null,null,null,null,null,null,null,null,null,null,null,null,{"$f":"IF(ISNA(VLOOKUP(AE11,Camions!$B:$F,4,0)),\"\",(VLOOKUP(AE11,Camions!$B:$F,4,0)))","v":""}]
[null,null,null,null,null,null,null,null,null,null,null,null,null,null,null,null,null,null,null,null,null,null,null,null,null,0,null,null,null,null,null,null,null,{"$f":"IF(ISNA(VLOOKUP(AE12,Camions!$B:$F,2,0)),\"\",(VLOOKUP(AE12,Camions!$B:$F,2,0)))","v":""},null,null,null,null,null,null,null,null,null,null,null,null,{"$f":"IF(ISNA(VLOOKUP(AE12,Camions!$B:$F,4,0)),\"\",(VLOOKUP(AE12,Camions!$B:$F,4,0)))","v":""}]
[null,null,null,null,null,null,null,null,null,null,null,null,null,null,null,null,null,null,null,null,null,null,null,null,null,0,null,null,null,null,null,null,null,{"$f":"IF(ISNA(VLOOKUP(AE13,Camions!$B:$F,2,0)),\"\",(VLOOKUP(AE13,Camions!$B:$F,2,0)))","v":""},null,null,null,null,null,null,null,null,null,null,null,null,{"$f":"IF(ISNA(VLOOKUP(AE13,Camions!$B:$F,4,0)),\"\",(VLOOKUP(AE13,Camions!$B:$F,4,0)))","v":""}]
[null,null,null,null,null,null,null,null,null,null,null,null,null,null,null,null,null,null,null,null,null,null,null,null,null,0,null,null,null,null,null,null,null,{"$f":"IF(ISNA(VLOOKUP(AE14,Camions!$B:$F,2,0)),\"\",(VLOOKUP(AE14,Camions!$B:$F,2,0)))","v":""},null,null,null,null,null,null,null,null,null,null,null,null,{"$f":"IF(ISNA(VLOOKUP(AE14,Camions!$B:$F,4,0)),\"\",(VLOOKUP(AE14,Camions!$B:$F,4,0)))","v":""}]
[null,null,null,null,null,null,null,null,null,null,null,null,null,null,null,null,null,null,null,null,null,null,null,null,null,0,null,null,null,null,null,null,null,{"$f":"IF(ISNA(VLOOKUP(AE15,Camions!$B:$F,2,0)),\"\",(VLOOKUP(AE15,Camions!$B:$F,2,0)))","v":""},null,null,null,null,null,null,null,null,null,null,null,null,{"$f":"IF(ISNA(VLOOKUP(AE15,Camions!$B:$F,4,0)),\"\",(VLOOKUP(AE15,Camions!$B:$F,4,0)))","v":""}]
[null,null,null,null,null,null,null,null,null,null,null,null,null,null,null,null,null,null,null,null,null,null,null,null,null,0,null,null,null,null,null,null,null,{"$f":"IF(ISNA(VLOOKUP(AE16,Camions!$B:$F,2,0)),\"\",(VLOOKUP(AE16,Camions!$B:$F,2,0)))","v":""},null,null,null,null,null,null,null,null,null,null,null,null,{"$f":"IF(ISNA(VLOOKUP(AE16,Camions!$B:$F,4,0)),\"\",(VLOOKUP(AE16,Camions!$B:$F,4,0)))","v":""}]
[null,null,null,null,null,null,null,null,null,null,null,null,null,null,null,null,null,null,null,null,null,null,null,null,null,0,null,null,null,null,null,null,null,{"$f":"IF(ISNA(VLOOKUP(AE17,Camions!$B:$F,2,0)),\"\",(VLOOKUP(AE17,Camions!$B:$F,2,0)))","v":""},null,null,null,null,null,null,null,null,null,null,null,null,{"$f":"IF(ISNA(VLOOKUP(AE17,Camions!$B:$F,4,0)),\"\",(VLOOKUP(AE17,Camions!$B:$F,4,0)))","v":""}]
[null,null,null,null,null,null,null,null,null,null,null,null,null,null,null,null,null,null,null,null,null,null,null,null,null,0,null,null,null,null,null,null,null,{"$f":"IF(ISNA(VLOOKUP(AE18,Camions!$B:$F,2,0)),\"\",(VLOOKUP(AE18,Camions!$B:$F,2,0)))","v":""},null,null,null,null,null,null,null,null,null,null,null,null,{"$f":"IF(ISNA(VLOOKUP(AE18,Camions!$B:$F,4,0)),\"\",(VLOOKUP(AE18,Camions!$B:$F,4,0)))","v":""}]
[null,null,null,null,null,null,null,null,null,null,null,null,null,null,null,null,null,null,null,null,null,null,null,null,null,0,null,null,null,null,null,null,null,{"$f":"IF(ISNA(VLOOKUP(AE19,Camions!$B:$F,2,0)),\"\",(VLOOKUP(AE19,Camions!$B:$F,2,0)))","v":""},null,null,null,null,null,null,null,null,null,null,null,null,{"$f":"IF(ISNA(VLOOKUP(AE19,Camions!$B:$F,4,0)),\"\",(VLOOKUP(AE19,Camions!$B:$F,4,0)))","v":""}]
[null,null,null,null,null,null,null,null,null,null,null,null,null,null,null,null,null,null,null,null,null,null,null,null,null,0,null,null,null,null,null,null,null,{"$f":"IF(ISNA(VLOOKUP(AE20,Camions!$B:$F,2,0)),\"\",(VLOOKUP(AE20,Camions!$B:$F,2,0)))","v":""},null,null,null,null,null,null,null,null,null,null,null,null,{"$f":"IF(ISNA(VLOOKUP(AE20,Camions!$B:$F,4,0)),\"\",(VLOOKUP(AE20,Camions!$B:$F,4,0)))","v":""}]
[null,null,null,null,null,null,null,null,null,null,null,null,null,null,null,null,null,null,null,null,null,null,null,null,null,0,null,null,null,null,null,null,null,{"$f":"IF(ISNA(VLOOKUP(AE21,Camions!$B:$F,2,0)),\"\",(VLOOKUP(AE21,Camions!$B:$F,2,0)))","v":""},null,null,null,null,null,null,null,null,null,null,null,null,{"$f":"IF(ISNA(VLOOKUP(AE21,Camions!$B:$F,4,0)),\"\",(VLOOKUP(AE21,Camions!$B:$F,4,0)))","v":""}]
[null,null,null,null,null,null,null,null,null,null,null,null,null,null,null,null,null,null,null,null,null,null,null,null,null,0,null,null,null,null,null,null,null,{"$f":"IF(ISNA(VLOOKUP(AE22,Camions!$B:$F,2,0)),\"\",(VLOOKUP(AE22,Camions!$B:$F,2,0)))","v":""},null,null,null,null,null,null,null,null,null,null,null,null,{"$f":"IF(ISNA(VLOOKUP(AE22,Camions!$B:$F,4,0)),\"\",(VLOOKUP(AE22,Camions!$B:$F,4,0)))","v":""}]
[null,null,null,null,null,null,null,null,null,null,null,null,null,null,null,null,null,null,null,null,null,null,null,null,null,0,null,null,null,null,null,null,null,{"$f":"IF(ISNA(VLOOKUP(AE23,Camions!$B:$F,2,0)),\"\",(VLOOKUP(AE23,Camions!$B:$F,2,0)))","v":""},null,null,null,null,null,null,null,null,null,null,null,null,{"$f":"IF(ISNA(VLOOKUP(AE23,Camions!$B:$F,4,0)),\"\",(VLOOKUP(AE23,Camions!$B:$F,4,0)))","v":""}]
[null,null,null,null,null,null,null,null,null,null,null,null,null,null,null,null,null,null,null,null,null,null,null,null,null,0,null,null,null,null,null,null,null,{"$f":"IF(ISNA(VLOOKUP(AE24,Camions!$B:$F,2,0)),\"\",(VLOOKUP(AE24,Camions!$B:$F,2,0)))","v":""},null,null,null,null,null,null,null,null,null,null,null,null,{"$f":"IF(ISNA(VLOOKUP(AE24,Camions!$B:$F,4,0)),\"\",(VLOOKUP(AE24,Camions!$B:$F,4,0)))","v":""}]
[null,null,null,null,null,null,null,null,null,null,null,null,null,null,null,null,null,null,null,null,null,null,null,null,null,0,null,null,null,null,null,null,null,{"$f":"IF(ISNA(VLOOKUP(AE25,Camions!$B:$F,2,0)),\"\",(VLOOKUP(AE25,Camions!$B:$F,2,0)))","v":""},null,null,null,null,null,null,null,null,null,null,null,null,{"$f":"IF(ISNA(VLOOKUP(AE25,Camions!$B:$F,4,0)),\"\",(VLOOKUP(AE25,Camions!$B:$F,4,0)))","v":""}]
[null,null,null,null,null,null,null,null,null,null,null,null,null,null,null,null,null,null,null,null,null,null,null,null,null,0,null,null,null,null,null,null,null,{"$f":"IF(ISNA(VLOOKUP(AE26,Camions!$B:$F,2,0)),\"\",(VLOOKUP(AE26,Camions!$B:$F,2,0)))","v":""},null,null,null,null,null,null,null,null,null,null,null,null,{"$f":"IF(ISNA(VLOOKUP(AE26,Camions!$B:$F,4,0)),\"\",(VLOOKUP(AE26,Camions!$B:$F,4,0)))","v":""}]
[null,null,null,null,null,null,null,null,null,null,null,null,null,null,null,null,null,null,null,null,null,null,null,null,null,0,null,null,null,null,null,null,null,{"$f":"IF(ISNA(VLOOKUP(AE27,Camions!$B:$F,2,0)),\"\",(VLOOKUP(AE27,Camions!$B:$F,2,0)))","v":""},null,null,null,null,null,null,null,null,null,null,null,null,{"$f":"IF(ISNA(VLOOKUP(AE27,Camions!$B:$F,4,0)),\"\",(VLOOKUP(AE27,Camions!$B:$F,4,0)))","v":""}]
[null,null,null,null,null,null,null,null,null,null,null,null,null,null,null,null,null,null,null,null,null,null,null,null,null,0,null,null,null,null,null,null,null,{"$f":"IF(ISNA(VLOOKUP(AE28,Camions!$B:$F,2,0)),\"\",(VLOOKUP(AE28,Camions!$B:$F,2,0)))","v":""},null,null,null,null,null,null,null,null,null,null,null,null,{"$f":"IF(ISNA(VLOOKUP(AE28,Camions!$B:$F,4,0)),\"\",(VLOOKUP(AE28,Camions!$B:$F,4,0)))","v":""}]
[null,null,null,null,null,null,null,null,null,null,null,null,null,null,null,null,null,null,null,null,null,null,null,null,null,0,null,null,null,null,null,null,null,{"$f":"IF(ISNA(VLOOKUP(AE29,Camions!$B:$F,2,0)),\"\",(VLOOKUP(AE29,Camions!$B:$F,2,0)))","v":""},null,null,null,null,null,null,null,null,null,null,null,null,{"$f":"IF(ISNA(VLOOKUP(AE29,Camions!$B:$F,4,0)),\"\",(VLOOKUP(AE29,Camions!$B:$F,4,0)))","v":""}]
[null,null,null,null,null,null,null,null,null,null,null,null,null,null,null,null,null,null,null,null,null,null,null,null,null,0,null,null,null,null,null,null,null,{"$f":"IF(ISNA(VLOOKUP(AE30,Camions!$B:$F,2,0)),\"\",(VLOOKUP(AE30,Camions!$B:$F,2,0)))","v":""},null,null,null,null,null,null,null,null,null,null,null,null,{"$f":"IF(ISNA(VLOOKUP(AE30,Camions!$B:$F,4,0)),\"\",(VLOOKUP(AE30,Camions!$B:$F,4,0)))","v":""}]
[null,null,null,null,null,null,null,null,null,null,null,null,null,null,null,null,null,null,null,null,null,null,null,null,null,0,null,null,null,null,null,null,null,{"$f":"IF(ISNA(VLOOKUP(AE31,Camions!$B:$F,2,0)),\"\",(VLOOKUP(AE31,Camions!$B:$F,2,0)))","v":""},null,null,null,null,null,null,null,null,null,null,null,null,{"$f":"IF(ISNA(VLOOKUP(AE31,Camions!$B:$F,4,0)),\"\",(VLOOKUP(AE31,Camions!$B:$F,4,0)))","v":""}]
[null,null,null,null,null,null,null,null,null,null,null,null,null,null,null,null,null,null,null,null,null,null,null,null,null,0,null,null,null,null,null,null,null,{"$f":"IF(ISNA(VLOOKUP(AE32,Camions!$B:$F,2,0)),\"\",(VLOOKUP(AE32,Camions!$B:$F,2,0)))","v":""},null,null,null,null,null,null,null,null,null,null,null,null,{"$f":"IF(ISNA(VLOOKUP(AE32,Camions!$B:$F,4,0)),\"\",(VLOOKUP(AE32,Camions!$B:$F,4,0)))","v":""}]
[null,null,null,null,null,null,null,null,null,null,null,null,null,null,null,null,null,null,null,null,null,null,null,null,null,0,null,null,null,null,null,null,null,{"$f":"IF(ISNA(VLOOKUP(AE33,Camions!$B:$F,2,0)),\"\",(VLOOKUP(AE33,Camions!$B:$F,2,0)))","v":""},null,null,null,null,null,null,null,null,null,null,null,null,{"$f":"IF(ISNA(VLOOKUP(AE33,Camions!$B:$F,4,0)),\"\",(VLOOKUP(AE33,Camions!$B:$F,4,0)))","v":""}]
[null,null,null,null,null,null,null,null,null,null,null,null,null,null,null,null,null,null,null,null,null,null,null,null,null,0,null,null,null,null,null,null,null,{"$f":"IF(ISNA(VLOOKUP(AE34,Camions!$B:$F,2,0)),\"\",(VLOOKUP(AE34,Camions!$B:$F,2,0)))","v":""},null,null,null,null,null,null,null,null,null,null,null,null,{"$f":"IF(ISNA(VLOOKUP(AE34,Camions!$B:$F,4,0)),\"\",(VLOOKUP(AE34,Camions!$B:$F,4,0)))","v":""}]
[null,null,null,null,null,null,null,null,null,null,null,null,null,null,null,null,null,null,null,null,null,null,null,null,null,0,null,null,null,null,null,null,null,{"$f":"IF(ISNA(VLOOKUP(AE35,Camions!$B:$F,2,0)),\"\",(VLOOKUP(AE35,Camions!$B:$F,2,0)))","v":""},null,null,null,null,null,null,null,null,null,null,null,null,{"$f":"IF(ISNA(VLOOKUP(AE35,Camions!$B:$F,4,0)),\"\",(VLOOKUP(AE35,Camions!$B:$F,4,0)))","v":""}]
[null,null,null,null,null,null,null,null,null,null,null,null,null,null,null,null,null,null,null,null,null,null,null,null,null,0,null,null,null,null,null,null,null,{"$f":"IF(ISNA(VLOOKUP(AE36,Camions!$B:$F,2,0)),\"\",(VLOOKUP(AE36,Camions!$B:$F,2,0)))","v":""},null,null,null,null,null,null,null,null,null,null,null,null,{"$f":"IF(ISNA(VLOOKUP(AE36,Camions!$B:$F,4,0)),\"\",(VLOOKUP(AE36,Camions!$B:$F,4,0)))","v":""}]
[null,null,null,null,null,null,null,null,null,null,null,null,null,null,null,null,null,null,null,null,null,null,null,null,null,0,null,null,null,null,null,null,null,{"$f":"IF(ISNA(VLOOKUP(AE37,Camions!$B:$F,2,0)),\"\",(VLOOKUP(AE37,Camions!$B:$F,2,0)))","v":""},null,null,null,null,null,null,null,null,null,null,null,null,{"$f":"IF(ISNA(VLOOKUP(AE36,Camions!$B:$F,4,0)),\"\",(VLOOKUP(AE36,Camions!$B:$F,4,0)))","v":""}]
["CHANTIER :",null,null,null,null,{"$f":"F1","v":0},null,null,null,null,null,null,null,null,null,null,null,null,null,null,"N° CHANTIER :",null,null,null,null,null,{"$f":"AA1","v":0},null,null,null,"JOUR :",null,null,null,{"$f":"AI1","v":"Vendredi"},null,null,null,null,null,null,null,null,null,null,null,null,null,null,null,null,"DATES :",null,null,{"$f":"BC1","v":"29-01-16"}]
["MATERIEL",null,null,null,null,null,null,null,null,null,null,null,null,null,null,null,null,null,null,null,null,null,null,null,null,null,null,null,null,null,"SOUS-TRAITANTS"]
["Légende :",null,null,null,null,"Pa",".= Panne",null,null,null,null,"Ent",".= Entretien"]
["N°",null,null,"Description du matériel",null,null,null,null,null,null,null,null,null,null,null,null,"Nom de l'opérateur",null,null,null,null,null,null,null,null,"Heures",null,null,null,null,"Type d'engin et description des travaux ",null,null,null,null,null,null,null,null,null,null,null,null,null,null,null,"Sous-traitants",null,null,null,null,null,null,null,null,"Heures"]
[null,null,null,{"$f":"IF(ISNA(VLOOKUP(A42,Machines!$B:$F,2,0)),\"\",(VLOOKUP(A42,Machines!$B:$F,2,0)))","v":""},null,null,null,null,null,null,null,null,null,null,null,null,{"$f":"IF(ISNA(VLOOKUP(A42,Machines!$B:$F,4,0)),\"\",(VLOOKUP(A42,Machines!$B:$F,4,0)))","v":""}]
[null,null,null,{"$f":"IF(ISNA(VLOOKUP(A43,Machines!$B:$F,2,0)),\"\",(VLOOKUP(A43,Machines!$B:$F,2,0)))","v":""},null,null,null,null,null,null,null,null,null,null,null,null,{"$f":"IF(ISNA(VLOOKUP(A43,Machines!$B:$F,4,0)),\"\",(VLOOKUP(A43,Machines!$B:$F,4,0)))","v":""}]
[null,null,null,{"$f":"IF(ISNA(VLOOKUP(A44,Machines!$B:$F,2,0)),\"\",(VLOOKUP(A44,Machines!$B:$F,2,0)))","v":""},null,null,null,null,null,null,null,null,null,null,null,null,{"$f":"IF(ISNA(VLOOKUP(A44,Machines!$B:$F,4,0)),\"\",(VLOOKUP(A44,Machines!$B:$F,4,0)))","v":""}]
[null,null,null,{"$f":"IF(ISNA(VLOOKUP(A45,Machines!$B:$F,2,0)),\"\",(VLOOKUP(A45,Machines!$B:$F,2,0)))","v":""},null,null,null,null,null,null,null,null,null,null,null,null,{"$f":"IF(ISNA(VLOOKUP(A45,Machines!$B:$F,4,0)),\"\",(VLOOKUP(A45,Machines!$B:$F,4,0)))","v":""}]
[null,null,null,{"$f":"IF(ISNA(VLOOKUP(A46,Machines!$B:$F,2,0)),\"\",(VLOOKUP(A46,Machines!$B:$F,2,0)))","v":""},null,null,null,null,null,null,null,null,null,null,null,null,{"$f":"IF(ISNA(VLOOKUP(A46,Machines!$B:$F,4,0)),\"\",(VLOOKUP(A46,Machines!$B:$F,4,0)))","v":""}]
[null,null,null,{"$f":"IF(ISNA(VLOOKUP(A47,Machines!$B:$F,2,0)),\"\",(VLOOKUP(A47,Machines!$B:$F,2,0)))","v":""},null,null,null,null,null,null,null,null,null,null,null,null,{"$f":"IF(ISNA(VLOOKUP(A47,Machines!$B:$F,4,0)),\"\",(VLOOKUP(A47,Machines!$B:$F,4,0)))","v":""}]
[null,null,null,{"$f":"IF(ISNA(VLOOKUP(A48,Machines!$B:$F,2,0)),\"\",(VLOOKUP(A48,Machines!$B:$F,2,0)))","v":""},null,null,null,null,null,null,null,null,null,null,null,null,{"$f":"IF(ISNA(VLOOKUP(A48,Machines!$B:$F,4,0)),\"\",(VLOOKUP(A48,Machines!$B:$F,4,0)))","v":""}]
[null,null,null,{"$f":"IF(ISNA(VLOOKUP(A49,Machines!$B:$F,2,0)),\"\",(VLOOKUP(A49,Machines!$B:$F,2,0)))","v":""},null,null,null,null,null,null,null,null,null,null,null,null,{"$f":"IF(ISNA(VLOOKUP(A49,Machines!$B:$F,4,0)),\"\",(VLOOKUP(A49,Machines!$B:$F,4,0)))","v":""}]
[null,null,null,{"$f":"IF(ISNA(VLOOKUP(A50,Machines!$B:$F,2,0)),\"\",(VLOOKUP(A50,Machines!$B:$F,2,0)))","v":""},null,null,null,null,null,null,null,null,null,null,null,null,{"$f":"IF(ISNA(VLOOKUP(A50,Machines!$B:$F,4,0)),\"\",(VLOOKUP(A50,Machines!$B:$F,4,0)))","v":""}]
[null,null,null,{"$f":"IF(ISNA(VLOOKUP(A51,Machines!$B:$F,2,0)),\"\",(VLOOKUP(A51,Machines!$B:$F,2,0)))","v":""},null,null,null,null,null,null,null,null,null,null,null,null,{"$f":"IF(ISNA(VLOOKUP(A51,Machines!$B:$F,4,0)),\"\",(VLOOKUP(A51,Machines!$B:$F,4,0)))","v":""}]
[null,null,null,{"$f":"IF(ISNA(VLOOKUP(A52,Machines!$B:$F,2,0)),\"\",(VLOOKUP(A52,Machines!$B:$F,2,0)))","v":""},null,null,null,null,null,null,null,null,null,null,null,null,{"$f":"IF(ISNA(VLOOKUP(A52,Machines!$B:$F,4,0)),\"\",(VLOOKUP(A52,Machines!$B:$F,4,0)))","v":""}]
[null,null,null,{"$f":"IF(ISNA(VLOOKUP(A53,Machines!$B:$F,2,0)),\"\",(VLOOKUP(A53,Machines!$B:$F,2,0)))","v":""},null,null,null,null,null,null,null,null,null,null,null,null,{"$f":"IF(ISNA(VLOOKUP(A53,Machines!$B:$F,4,0)),\"\",(VLOOKUP(A53,Machines!$B:$F,4,0)))","v":""}]
[null,null,null,{"$f":"IF(ISNA(VLOOKUP(A54,Machines!$B:$F,2,0)),\"\",(VLOOKUP(A54,Machines!$B:$F,2,0)))","v":""},null,null,null,null,null,null,null,null,null,null,null,null,{"$f":"IF(ISNA(VLOOKUP(A54,Machines!$B:$F,4,0)),\"\",(VLOOKUP(A54,Machines!$B:$F,4,0)))","v":""}]
[null,null,null,{"$f":"IF(ISNA(VLOOKUP(A55,Machines!$B:$F,2,0)),\"\",(VLOOKUP(A55,Machines!$B:$F,2,0)))","v":""},null,null,null,null,null,null,null,null,null,null,null,null,{"$f":"IF(ISNA(VLOOKUP(A55,Machines!$B:$F,4,0)),\"\",(VLOOKUP(A55,Machines!$B:$F,4,0)))","v":""}]
[null,null,null,{"$f":"IF(ISNA(VLOOKUP(A56,Machines!$B:$F,2,0)),\"\",(VLOOKUP(A56,Machines!$B:$F,2,0)))","v":""},null,null,null,null,null,null,null,null,null,null,null,null,{"$f":"IF(ISNA(VLOOKUP(A56,Machines!$B:$F,4,0)),\"\",(VLOOKUP(A56,Machines!$B:$F,4,0)))","v":""}]
[null,null,null,{"$f":"IF(ISNA(VLOOKUP(A57,Machines!$B:$F,2,0)),\"\",(VLOOKUP(A57,Machines!$B:$F,2,0)))","v":""},null,null,null,null,null,null,null,null,null,null,null,null,{"$f":"IF(ISNA(VLOOKUP(A57,Machines!$B:$F,4,0)),\"\",(VLOOKUP(A57,Machines!$B:$F,4,0)))","v":""}]
[null,null,null,{"$f":"IF(ISNA(VLOOKUP(A58,Machines!$B:$F,2,0)),\"\",(VLOOKUP(A58,Machines!$B:$F,2,0)))","v":""},null,null,null,null,null,null,null,null,null,null,null,null,{"$f":"IF(ISNA(VLOOKUP(A58,Machines!$B:$F,4,0)),\"\",(VLOOKUP(A58,Machines!$B:$F,4,0)))","v":""}]
[null,null,null,{"$f":"IF(ISNA(VLOOKUP(A59,Machines!$B:$F,2,0)),\"\",(VLOOKUP(A59,Machines!$B:$F,2,0)))","v":""},null,null,null,null,null,null,null,null,null,null,null,null,{"$f":"IF(ISNA(VLOOKUP(A59,Machines!$B:$F,4,0)),\"\",(VLOOKUP(A59,Machines!$B:$F,4,0)))","v":""}]
[null,null,null,{"$f":"IF(ISNA(VLOOKUP(A60,Machines!$B:$F,2,0)),\"\",(VLOOKUP(A60,Machines!$B:$F,2,0)))","v":""},null,null,null,null,null,null,null,null,null,null,null,null,{"$f":"IF(ISNA(VLOOKUP(A60,Machines!$B:$F,4,0)),\"\",(VLOOKUP(A60,Machines!$B:$F,4,0)))","v":""}]
[null,null,null,{"$f":"IF(ISNA(VLOOKUP(A61,Machines!$B:$F,2,0)),\"\",(VLOOKUP(A61,Machines!$B:$F,2,0)))","v":""},null,null,null,null,null,null,null,null,null,null,null,null,{"$f":"IF(ISNA(VLOOKUP(A61,Machines!$B:$F,4,0)),\"\",(VLOOKUP(A61,Machines!$B:$F,4,0)))","v":""}]
[null,null,null,{"$f":"IF(ISNA(VLOOKUP(A62,Machines!$B:$F,2,0)),\"\",(VLOOKUP(A62,Machines!$B:$F,2,0)))","v":""},null,null,null,null,null,null,null,null,null,null,null,null,{"$f":"IF(ISNA(VLOOKUP(A62,Machines!$B:$F,4,0)),\"\",(VLOOKUP(A62,Machines!$B:$F,4,0)))","v":""}]
[null,null,null,{"$f":"IF(ISNA(VLOOKUP(A63,Machines!$B:$F,2,0)),\"\",(VLOOKUP(A63,Machines!$B:$F,2,0)))","v":""},null,null,null,null,null,null,null,null,null,null,null,null,{"$f":"IF(ISNA(VLOOKUP(A63,Machines!$B:$F,4,0)),\"\",(VLOOKUP(A63,Machines!$B:$F,4,0)))","v":""}]
[null,null,null,{"$f":"IF(ISNA(VLOOKUP(A64,Machines!$B:$F,2,0)),\"\",(VLOOKUP(A64,Machines!$B:$F,2,0)))","v":""},null,null,null,null,null,null,null,null,null,null,null,null,{"$f":"IF(ISNA(VLOOKUP(A64,Machines!$B:$F,4,0)),\"\",(VLOOKUP(A64,Machines!$B:$F,4,0)))","v":""}]
[null,null,null,{"$f":"IF(ISNA(VLOOKUP(A65,Machines!$B:$F,2,0)),\"\",(VLOOKUP(A65,Machines!$B:$F,2,0)))","v":""},null,null,null,null,null,null,null,null,null,null,null,null,{"$f":"IF(ISNA(VLOOKUP(A65,Machines!$B:$F,4,0)),\"\",(VLOOKUP(A65,Machines!$B:$F,4,0)))","v":""}]
[null,null,null,{"$f":"IF(ISNA(VLOOKUP(A66,Machines!$B:$F,2,0)),\"\",(VLOOKUP(A66,Machines!$B:$F,2,0)))","v":""},null,null,null,null,null,null,null,null,null,null,null,null,{"$f":"IF(ISNA(VLOOKUP(A66,Machines!$B:$F,4,0)),\"\",(VLOOKUP(A66,Machines!$B:$F,4,0)))","v":""}]
[null,null,null,{"$f":"IF(ISNA(VLOOKUP(A67,Machines!$B:$F,2,0)),\"\",(VLOOKUP(A67,Machines!$B:$F,2,0)))","v":""},null,null,null,null,null,null,null,null,null,null,null,null,{"$f":"IF(ISNA(VLOOKUP(A67,Machines!$B:$F,4,0)),\"\",(VLOOKUP(A67,Machines!$B:$F,4,0)))","v":""}]
[null,null,null,{"$f":"IF(ISNA(VLOOKUP(A68,Machines!$B:$F,2,0)),\"\",(VLOOKUP(A68,Machines!$B:$F,2,0)))","v":""},null,null,null,null,null,null,null,null,null,null,null,null,{"$f":"IF(ISNA(VLOOKUP(A68,Machines!$B:$F,4,0)),\"\",(VLOOKUP(A68,Machines!$B:$F,4,0)))","v":""}]
[null,null,null,{"$f":"IF(ISNA(VLOOKUP(A69,Machines!$B:$F,2,0)),\"\",(VLOOKUP(A69,Machines!$B:$F,2,0)))","v":""},null,null,null,null,null,null,null,null,null,null,null,null,{"$f":"IF(ISNA(VLOOKUP(A69,Machines!$B:$F,4,0)),\"\",(VLOOKUP(A69,Machines!$B:$F,4,0)))","v":""}]
[null,null,null,{"$f":"IF(ISNA(VLOOKUP(A70,Machines!$B:$F,2,0)),\"\",(VLOOKUP(A70,Machines!$B:$F,2,0)))","v":""},null,null,null,null,null,null,null,null,null,null,null,null,{"$f":"IF(ISNA(VLOOKUP(A70,Machines!$B:$F,4,0)),\"\",(VLOOKUP(A70,Machines!$B:$F,4,0)))","v":""}]
[null,null,null,{"$f":"IF(ISNA(VLOOKUP(A71,Machines!$B:$F,2,0)),\"\",(VLOOKUP(A71,Machines!$B:$F,2,0)))","v":""},null,null,null,null,null,null,null,null,null,null,null,null,{"$f":"IF(ISNA(VLOOKUP(A71,Machines!$B:$F,4,0)),\"\",(VLOOKUP(A71,Machines!$B:$F,4,0)))","v":""}]
[null,null,null,{"$f":"IF(ISNA(VLOOKUP(A72,Machines!$B:$F,2,0)),\"\",(VLOOKUP(A72,Machines!$B:$F,2,0)))","v":""},null,null,null,null,null,null,null,null,null,null,null,null,{"$f":"IF(ISNA(VLOOKUP(A72,Machines!$B:$F,4,0)),\"\",(VLOOKUP(A72,Machines!$B:$F,4,0)))","v":""}]
[null,null,null,{"$f":"IF(ISNA(VLOOKUP(A73,Machines!$B:$F,2,0)),\"\",(VLOOKUP(A73,Machines!$B:$F,2,0)))","v":""},null,null,null,null,null,null,null,null,null,null,null,null,{"$f":"IF(ISNA(VLOOKUP(A73,Machines!$B:$F,4,0)),\"\",(VLOOKUP(A73,Machines!$B:$F,4,0)))","v":""}]
[null,null,null,{"$f":"IF(ISNA(VLOOKUP(A74,Machines!$B:$F,2,0)),\"\",(VLOOKUP(A74,Machines!$B:$F,2,0)))","v":""},null,null,null,null,null,null,null,null,null,null,null,null,{"$f":"IF(ISNA(VLOOKUP(A74,Machines!$B:$F,4,0)),\"\",(VLOOKUP(A74,Machines!$B:$F,4,0)))","v":""}]
["CHANTIER :",null,null,null,null,{"$f":"F1","v":0},null,null,null,null,null,null,null,null,null,null,null,null,null,null,"N° CHANTIER :",null,null,null,null,null,{"$f":"AA1","v":0},null,null,null,"JOUR :",null,null,null,{"$f":"AI1","v":"Vendredi"},null,null,null,null,null,null,null,null,null,null,null,null,null,null,null,null,"DATES :",null,null,{"$f":"BC1","v":"29-01-16"}]
["MATERIAUX"]
[null,null,null,"Fournisseurs",null,null,null,null,null,null,null,null,null,null,null,null,null,null,"Description des fournitures & matériaux",null,null,null,null,null,null,null,null,null,null,null,null,null,null,null,null,null,null,null,null,null,null,null,null,null,null,null,null,null,null,"Qt totales",null,null,null,"U.",null,"Prix"]
[]
[]
[]
[]
[]
[]
[]
[]
[]
[]
[]
[]
[]
[]
[]
[]
[]
[]
[]
[]
[]
[]
[]
[]
[]
[]
[]
[]
[]
[]
[]
[null,null,null,"RESPONSABLE",null,null,null,null,null,null,null,null,"SIGNATURE",null,null,null,null,null,"DESCRIPTION DES TRAVAUX REALISES CE JOUR",null,null,null,null,null,null,null,null,null,null,null,null,null,null,null,null,null,null,null,null,null,null,null,null,null,null,null,null,null,null,"METEO"]
[null,null,null,"JENNES Loïc"]

{"sheet":"30-01-16","index":36,"n_rows":110,"n_cols":56,"rows_kept":110,"cut":false,"hidden":false,"merged":[[72,0,72,2],[72,3,72,15],[72,16,72,24],[72,25,72,28],[72,30,72,45],[72,46,72,54],[72,55,72,58],[73,0,73,2],[73,3,73,15],[73,16,73,24],[73,25,73,28],[73,30,73,45],[73,46,73,54],[73,55,73,58],[70,0,70,2],[70,3,70,15],[70,16,70,24],[70,25,70,28],[70,30,70,45],[70,46,70,54],[70,55,70,58],[71,0,71,2],[71,3,71,15],[71,16,71,24],[71,25,71,28],[71,30,71,45],[71,46,71,54],[71,55,71,58],[67,0,67,2],[67,3,67,15],[67,16,67,24],[67,25,67,28],[67,30,67,45],[67,46,67,54],[67,55,67,58],[69,0,69,2],[69,3,69,15],[69,16,69,24],[69,25,69,28],[69,30,69,45],[69,46,69,54],[69,55,69,58],[68,0,68,2],[68,3,68,15],[68,16,68,24],[68,25,68,28],[68,30,68,45],[68,46,68,54],[68,55,68,58],[65,0,65,2],[65,3,65,15],[65,16,65,24],[65,25,65,28],[65,30,65,45],[65,46,65,54],[65,55,65,58],[66,0,66,2],[66,3,66,15],[66,16,66,24],[66,25,66,28],[66,30,66,45],[66,46,66,54],[66,55,66,58],[63,0,63,2],[63,3,63,15],[63,16,63,24],[63,25,63,28],[63,30,63,45],[63,46,63,54],[63,55,63,58],[64,0,64,2],[64,3,64,15],[64,16,64,24],[64,25,64,28],[64,30,64,45],[64,46,64,54],[64,55,64,58],[61,0,61,2],[61,3,61,15],[61,16,61,24],[61,25,61,28],[61,30,61,45],[61,46,61,54],[61,55,61,58],[62,0,62,2],[62,3,62,15],[62,16,62,24],[62,25,62,28],[62,30,62,45],[62,46,62,54],[62,55,62,58],[59,0,59,2],[59,3,59,15],[59,16,59,24],[59,25,59,28],[59,30,59,45],[59,46,59,54],[59,55,59,58],[60,0,60,2],[60,3,60,15],[60,16,60,24],[60,25,60,28],[60,30,60,45],[60,46,60,54],[60,55,60,58],[57,0,57,2],[57,3,57,15],[57,16,57,24],[57,25,57,28],[57,30,57,45],[57,46,57,54],[57,55,57,58],[58,0,58,2],[58,3,58,15],[58,16,58,24],[58,25,58,28],[58,30,58,45],[58,46,58,54],[58,55,58,58],[55,0,55,2],[55,3,55,15],[55,16,55,24],[55,25,55,28],[55,30,55,45],[55,46,55,54],[55,55,55,58],[56,0,56,2],[56,3,56,15],[56,16,56,24],[56,25,56,28],[56,30,56,45],[56,46,56,54],[56,55,56,58],[53,0,53,2],[53,3,53,15],[53,16,53,24],[53,25,53,28],[53,30,53,45],[53,46,53,54],[53,55,53,58],[54,0,54,2],[54,3,54,15],[54,16,54,24],[54,25,54,28],[54,30,54,45],[54,46,54,54],[54,55,54,58],[51,0,51,2],[51,3,51,15],[51,16,51,24],[51,25,51,28],[51,30,51,45],[51,46,51,54],[51,55,51,58],[52,0,52,2],[52,3,52,15],[52,16,52,24],[52,25,52,28],[52,30,52,45],[52,46,52,54],[52,55,52,58],[49,0,49,2],[49,3,49,15],[49,16,49,24],[49,25,49,28],[49,30,49,45],[49,46,49,54],[49,55,49,58],[50,0,50,2],[50,3,50,15],[50,16,50,24],[50,25,50,28],[50,30,50,45],[50,46,50,54],[50,55,50,58],[47,0,47,2],[47,3,47,15],[47,16,47,24],[47,25,47,28],[47,30,47,45],[47,46,47,54],[47,55,47,58],[48,0,48,2],[48,3,48,15],[48,16,48,24],[48,25,48,28],[48,30,48,45],[48,46,48,54],[48,55,48,58],[45,0,45,2],[45,3,45,15],[45,16,45,24],[45,25,45,28],[45,30,45,45],[45,46,45,54],[45,55,45,58],[46,0,46,2],[46,3,46,15],[46,16,46,24],[46,25,46,28],[46,30,46,45],[46,46,46,54],[46,55,46,58],[43,0,43,2],[43,3,43,15],[43,16,43,24],[43,25,43,28],[43,30,43,45],[43,46,43,54],[43,55,43,58],[44,0,44,2],[44,3,44,15],[44,16,44,24],[44,25,44,28],[44,30,44,45],[44,46,44,54],[44,55,44,58],[41,25,41,28],[41,30,41,45],[41,46,41,54],[41,55,41,58],[42,0,42,2],[42,3,42,15],[42,16,42,24],[42,25,42,28],[42,30,42,45],[42,46,42,54],[42,55,42,58],[37,0,37,4],[37,5,37,19],[37,20,37,25],[37,26,37,28],[37,30,37,32],[37,34,37,47],[37,51,37,53],[37,54,37,58],[38,0,38,28],[38,29,73,29],[38,30,38,58],[39,0,39,4],[39,6,39,9],[39,12,39,15],[40,0,40,2],[40,3,40,15],[40,16,40,24],[40,25,40,28],[40,30,40,45],[40,46,40,54],[40,55,40,58],[41,0,41,2],[41,3,41,15],[41,16,41,24],[36,0,36,15],[36,16,36,18],[36,19,36,21],[36,22,36,24],[36,25,36,28],[36,30,36,32],[36,33,36,45],[36,46,36,54],[36,55,36,58],[35,0,35,15],[35,16,35,18],[35,19,35,21],[35,22,35,24],[35,25,35,28],[35,30,35,32],[35,33,35,45],[35,46,35,54],[35,55,35,58],[34,0,34,15],[34,16,34,18],[34,19,34,21],[34,22,34,24],[34,25,34,28],[34,30,34,32],[34,33,34,45],[34,46,34,54],[34,55,34,58],[33,0,33,15],[33,16,33,18],[33,19,33,21],[33,22,33,24],[33,25,33,28],[33,30,33,32],[33,33,33,45],[33,46,33,54],[33,55,33,58],[32,0,32,15],[32,16,32,18],[32,19,32,21],[32,22,32,24],[32,25,32,28],[32,30,32,32],[32,33,32,45],[32,46,32,54],[32,55,32,58],[31,0,31,15],[31,16,31,18],[31,19,31,21],[31,22,31,24],[31,25,31,28],[31,30,31,32],[31,33,31,45],[31,46,31,54],[31,55,31,58],[30,0,30,15],[30,16,30,18],[30,19,30,21],[30,22,30,24],[30,25,30,28],[30,30,30,32],[30,33,30,45],[30,46,30,54],[30,55,30,58],[29,0,29,15],[29,16,29,18],[29,19,29,21],[29,22,29,24],[29,25,29,28],[29,30,29,32],[29,33,29,45],[29,46,29,54],[29,55,29,58],[28,0,28,15],[28,16,28,18],[28,19,28,21],[28,22,28,24],[28,25,28,28],[28,30,28,32],[28,33,28,45],[28,46,28,54],[28,55,28,58],[27,0,27,15],[27,16,27,18],[27,19,27,21],[27,22,27,24],[27,25,27,28],[27,30,27,32],[27,33,27,45],[27,46,27,54],[27,55,27,58],[26,0,26,15],[26,16,26,18],[26,19,26,21],[26,22,26,24],[26,25,26,28],[26,30,26,32],[26,33,26,45],[26,46,26,54],[26,55,26,58],[25,0,25,15],[25,16,25,18],[25,19,25,21],[25,22,25,24],[25,25,25,28],[25,30,25,32],[25,33,25,45],[25,46,25,54],[25,55,25,58],[24,0,24,15],[24,16,24,18],[24,19,24,21],[24,22,24,24],[24,25,24,28],[24,30,24,32],[24,33,24,45],[24,46,24,54],[24,55,24,58],[23,0,23,15],[23,16,23,18],[23,19,23,21],[23,22,23,24],[23,25,23,28],[23,30,23,32],[23,33,23,45],[23,46,23,54],[23,55,23,58],[22,0,22,15],[22,16,22,18],[22,19,22,21],[22,22,22,24],[22,25,22,28],[22,30,22,32],[22,33,22,45],[22,46,22,54],[22,55,22,58],[21,0,21,15],[21,16,21,18],[21,19,21,21],[21,22,21,24],[21,25,21,28],[21,30,21,32],[21,33,21,45],[21,46,21,54],[21,55,21,58],[20,0,20,15],[20,16,20,18],[20,19,20,21],[20,22,20,24],[20,25,20,28],[20,30,20,32],[20,33,20,45],[20,46,20,54],[20,55,20,58],[19,0,19,15],[19,16,19,18],[19,19,19,21],[19,22,19,24],[19,25,19,28],[19,30,19,32],[19,33,19,45],[19,46,19,54],[19,55,19,58],[18,0,18,15],[18,16,18,18],[18,19,18,21],[18,22,18,24],[18,25,18,28],[18,30,18,32],[18,33,18,45],[18,46,18,54],[18,55,18,58],[17,0,17,15],[17,16,17,18],[17,19,17,21],[17,22,17,24],[17,25,17,28],[17,30,17,32],[17,33,17,45],[17,46,17,54],[17,55,17,58],[16,0,16,15],[16,16,16,18],[16,19,16,21],[16,22,16,24],[16,25,16,28],[16,30,16,32],[16,33,16,45],[16,46,16,54],[16,55,16,58],[15,0,15,15],[15,16,15,18],[15,19,15,21],[15,22,15,24],[15,25,15,28],[15,30,15,32],[15,33,15,45],[15,46,15,54],[15,55,15,58],[14,0,14,15],[14,16,14,18],[14,19,14,21],[14,22,14,24],[14,25,14,28],[14,30,14,32],[14,33,14,45],[14,46,14,54],[14,55,14,58],[13,0,13,15],[13,16,13,18],[13,19,13,21],[13,22,13,24],[13,25,13,28],[13,30,13,32],[13,33,13,45],[13,46,13,54],[13,55,13,58],[12,0,12,15],[12,16,12,18],[12,19,12,21],[12,22,12,24],[12,25,12,28],[12,30,12,32],[12,33,12,45],[12,46,12,54],[12,55,12,58],[11,0,11,15],[11,16,11,18],[11,19,11,21],[11,22,11,24],[11,25,11,28],[11,30,11,32],[11,33,11,45],[11,46,11,54],[11,55,11,58],[10,0,10,15],[10,16,10,18],[10,19,10,21],[10,22,10,24],[10,25,10,28],[10,30,10,32],[10,33,10,45],[10,46,10,54],[10,55,10,58],[9,0,9,15],[9,16,9,18],[9,19,9,21],[9,22,9,24],[9,25,9,28],[9,30,9,32],[9,33,9,45],[9,46,9,54],[9,55,9,58],[8,0,8,15],[8,16,8,18],[8,19,8,21],[8,22,8,24],[8,25,8,28],[8,30,8,32],[8,33,8,45],[8,46,8,54],[8,55,8,58],[7,0,7,15],[7,16,7,18],[7,19,7,21],[7,22,7,24],[7,25,7,28],[7,30,7,32],[7,33,7,45],[7,46,7,54],[7,55,7,58],[6,0,6,15],[6,16,6,18],[6,19,6,21],[6,22,6,24],[6,25,6,28],[6,30,6,32],[6,33,6,45],[6,46,6,54],[6,55,6,58],[5,0,5,15],[5,16,5,18],[5,19,5,21],[5,22,5,24],[5,25,5,28],[5,30,5,32],[5,33,5,45],[5,46,5,54],[5,55,5,58],[3,30,3,32],[3,33,3,45],[3,46,3,54],[3,55,3,58],[4,0,4,15],[4,16,4,18],[4,19,4,21],[4,22,4,24],[4,25,4,28],[4,30,4,32],[4,33,4,45],[4,46,4,54],[4,55,4,58],[0,0,0,4],[0,5,0,19],[0,20,0,25],[0,26,0,28],[0,30,0,32],[0,34,0,47],[0,51,0,53],[0,54,0,58],[1,0,1,28],[1,29,36,29],[1,30,1,58],[2,0,2,4],[2,7,2,10],[2,13,2,16],[2,19,2,22],[2,25,2,28],[2,30,2,34],[2,36,2,39],[2,42,2,45],[3,0,3,15],[3,16,3,18],[3,19,3,21],[3,22,3,24],[3,25,3,28],[107,53,107,54],[107,55,107,58],[109,18,109,48],[111,18,111,48],[108,18,108,48],[108,3,108,11],[108,12,108,17],[109,3,111,11],[109,12,111,17],[108,49,108,58],[109,49,111,58],[107,3,107,17],[107,18,107,48],[110,18,110,48],[105,3,105,17],[105,18,105,48],[106,3,106,17],[106,18,106,48],[107,49,107,52],[104,3,104,17],[104,18,104,48],[99,3,99,17],[99,18,99,48],[100,3,100,17],[100,18,100,48],[102,3,102,17],[102,18,102,48],[103,3,103,17],[103,18,103,48],[103,49,103,52],[95,53,95,54],[95,55,95,58],[96,49,96,52],[96,53,96,54],[96,55,96,58],[97,49,97,52],[97,53,97,54],[101,3,101,17],[101,18,101,48],[97,3,97,17],[97,18,97,48],[98,3,98,17],[98,18,98,48],[95,3,95,17],[95,18,95,48],[96,3,96,17],[96,18,96,48],[95,49,95,52],[97,55,97,58],[98,49,98,52],[98,53,98,54],[98,55,98,58],[99,49,99,52],[99,53,99,54],[94,3,94,17],[94,18,94,48],[91,3,91,17],[91,18,91,48],[92,3,92,17],[92,18,92,48],[93,49,93,52],[93,53,93,54],[93,55,93,58],[94,49,94,52],[94,53,94,54],[94,55,94,58],[91,55,91,58],[92,49,92,52],[92,53,92,54],[92,55,92,58],[87,53,87,54],[87,55,87,58],[88,49,88,52],[88,53,88,54],[88,55,88,58],[89,49,89,52],[89,53,89,54],[93,3,93,17],[93,18,93,48],[89,3,89,17],[89,18,89,48],[90,3,90,17],[90,18,90,48],[87,3,87,17],[87,18,87,48],[88,3,88,17],[88,18,88,48],[87,49,87,52],[89,55,89,58],[90,49,90,52],[90,53,90,54],[90,55,90,58],[91,49,91,52],[91,53,91,54],[86,3,86,17],[86,18,86,48],[83,3,83,17],[83,18,83,48],[84,3,84,17],[84,18,84,48],[85,49,85,52],[85,53,85,54],[85,55,85,58],[86,49,86,52],[86,53,86,54],[86,55,86,58],[83,55,83,58],[84,49,84,52],[84,53,84,54],[84,55,84,58],[79,53,79,54],[79,55,79,58],[80,49,80,52],[80,53,80,54],[80,55,80,58],[81,49,81,52],[81,53,81,54],[85,3,85,17],[85,18,85,48],[81,3,81,17],[81,18,81,48],[82,3,82,17],[82,18,82,48],[79,3,79,17],[79,18,79,48],[80,3,80,17],[80,18,80,48],[79,49,79,52],[81,55,81,58],[82,49,82,52],[82,53,82,54],[82,55,82,58],[83,49,83,52],[83,53,83,54],[74,54,74,58],[75,0,75,58],[76,49,76,52],[76,53,76,54],[76,55,76,58],[77,3,77,17],[77,18,77,48],[78,3,78,17],[78,18,78,48],[77,49,77,52],[77,53,77,54],[77,55,77,58],[78,49,78,52],[78,53,78,54],[78,55,78,58],[76,3,76,17],[76,18,76,48],[74,0,74,4],[74,5,74,19],[74,20,74,25],[74,26,74,28],[74,30,74,32],[74,34,74,47],[74,51,74,53],[99,55,99,58],[100,49,100,52],[100,53,100,54],[100,55,100,58],[101,49,101,52],[101,53,101,54],[101,55,101,58],[102,49,102,52],[102,53,102,54],[102,55,102,58],[103,53,103,54],[103,55,103,58],[104,49,104,52],[104,53,104,54],[104,55,104,58],[105,49,105,52],[105,53,105,54],[105,55,105,58],[106,49,106,52],[106,53,106,54],[106,55,106,58]]}
["CHANTIER :",null,null,null,null,{"$f":"'01-01-16'!F1","v":0},null,null,null,null,null,null,null,null,null,null,null,null,null,null,"N° CHANTIER :",null,null,null,null,null,{"$f":"'01-01-16'!AA1","v":0},null,null,null,"JOUR :",null,null,null,{"$f":" CHOOSE(WEEKDAY(BC1,2),\"Lundi\",\"Mardi\",\"Mercredi\",\"Jeudi\",\"Vendredi\",\"Samedi\",\"Dimanche\")","v":"Samedi"},null,null,null,null,null,null,null,null,null,null,null,null,null,null,null,null,"DATES :",null,null,{"$f":"MID(CELL(\"nomfichier\",A1),FIND(\"]\",CELL(\"nomfichier\",A1),1)+1,30)","v":"30-01-16"}]
["MAIN D'ŒUVRE",null,null,null,null,null,null,null,null,null,null,null,null,null,null,null,null,null,null,null,null,null,null,null,null,null,null,null,null,null,"CAMIONS"]
["Légende :",null,null,null,null,null,"Co",".= Congé",null,null,null,null,"M",".= Malade",null,null,null,null,"Cho",".= Chômage",null,null,null,null,"Va",".= Vacance",null,null,null,null,"Légende :",null,null,null,null,"Pa",".= Panne",null,null,null,null,"Ent",".= Entretien"]
["NOM - Prénom du travailleur",null,null,null,null,null,null,null,null,null,null,null,null,null,null,null,"Début journée",null,null,"Arrêt repas",null,null,"Fin journée",null,null,"Heures prestées",null,null,null,null,"N°",null,null,"Description du matériel",null,null,null,null,null,null,null,null,null,null,null,null,"Nom de l'opérateur",null,null,null,null,null,null,null,null,"Heures"]
[null,null,null,null,null,null,null,null,null,null,null,null,null,null,null,null,null,null,null,null,null,null,null,null,null,{"$f":"W5-Q5-T5","v":0},null,null,null,null,null,null,null,{"$f":"IF(ISNA(VLOOKUP(AE5,Camions!$B:$F,2,0)),\"\",(VLOOKUP(AE5,Camions!$B:$F,2,0)))","v":""},null,null,null,null,null,null,null,null,null,null,null,null,{"$f":"IF(ISNA(VLOOKUP(AE5,Camions!$B:$F,4,0)),\"\",(VLOOKUP(AE5,Camions!$B:$F,4,0)))","v":""}]
[null,null,null,null,null,null,null,null,null,null,null,null,null,null,null,null,null,null,null,null,null,null,null,null,null,{"$f":"W6-Q6-T6","v":0},null,null,null,null,null,null,null,{"$f":"IF(ISNA(VLOOKUP(AE6,Camions!$B:$F,2,0)),\"\",(VLOOKUP(AE6,Camions!$B:$F,2,0)))","v":""},null,null,null,null,null,null,null,null,null,null,null,null,{"$f":"IF(ISNA(VLOOKUP(AE6,Camions!$B:$F,4,0)),\"\",(VLOOKUP(AE6,Camions!$B:$F,4,0)))","v":""}]
[null,null,null,null,null,null,null,null,null,null,null,null,null,null,null,null,null,null,null,null,null,null,null,null,null,0,null,null,null,null,null,null,null,{"$f":"IF(ISNA(VLOOKUP(AE7,Camions!$B:$F,2,0)),\"\",(VLOOKUP(AE7,Camions!$B:$F,2,0)))","v":""},null,null,null,null,null,null,null,null,null,null,null,null,{"$f":"IF(ISNA(VLOOKUP(AE7,Camions!$B:$F,4,0)),\"\",(VLOOKUP(AE7,Camions!$B:$F,4,0)))","v":""}]
[null,null,null,null,null,null,null,null,null,null,null,null,null,null,null,null,null,null,null,null,null,null,null,null,null,0,null,null,null,null,null,null,null,{"$f":"IF(ISNA(VLOOKUP(AE8,Camions!$B:$F,2,0)),\"\",(VLOOKUP(AE8,Camions!$B:$F,2,0)))","v":""},null,null,null,null,null,null,null,null,null,null,null,null,{"$f":"IF(ISNA(VLOOKUP(AE8,Camions!$B:$F,4,0)),\"\",(VLOOKUP(AE8,Camions!$B:$F,4,0)))","v":""}]
[null,null,null,null,null,null,null,null,null,null,null,null,null,null,null,null,null,null,null,null,null,null,null,null,null,0,null,null,null,null,null,null,null,{"$f":"IF(ISNA(VLOOKUP(AE9,Camions!$B:$F,2,0)),\"\",(VLOOKUP(AE9,Camions!$B:$F,2,0)))","v":""},null,null,null,null,null,null,null,null,null,null,null,null,{"$f":"IF(ISNA(VLOOKUP(AE9,Camions!$B:$F,4,0)),\"\",(VLOOKUP(AE9,Camions!$B:$F,4,0)))","v":""}]
[null,null,null,null,null,null,null,null,null,null,null,null,null,null,null,null,null,null,null,null,null,null,null,null,null,0,null,null,null,null,null,null,null,{"$f":"IF(ISNA(VLOOKUP(AE10,Camions!$B:$F,2,0)),\"\",(VLOOKUP(AE10,Camions!$B:$F,2,0)))","v":""},null,null,null,null,null,null,null,null,null,null,null,null,{"$f":"IF(ISNA(VLOOKUP(AE10,Camions!$B:$F,4,0)),\"\",(VLOOKUP(AE10,Camions!$B:$F,4,0)))","v":""}]
[null,null,null,null,null,null,null,null,null,null,null,null,null,null,null,null,null,null,null,null,null,null,null,null,null,0,null,null,null,null,null,null,null,{"$f":"IF(ISNA(VLOOKUP(AE11,Camions!$B:$F,2,0)),\"\",(VLOOKUP(AE11,Camions!$B:$F,2,0)))","v":""},null,null,null,null,null,null,null,null,null,null,null,null,{"$f":"IF(ISNA(VLOOKUP(AE11,Camions!$B:$F,4,0)),\"\",(VLOOKUP(AE11,Camions!$B:$F,4,0)))","v":""}]
[null,null,null,null,null,null,null,null,null,null,null,null,null,null,null,null,null,null,null,null,null,null,null,null,null,0,null,null,null,null,null,null,null,{"$f":"IF(ISNA(VLOOKUP(AE12,Camions!$B:$F,2,0)),\"\",(VLOOKUP(AE12,Camions!$B:$F,2,0)))","v":""},null,null,null,null,null,null,null,null,null,null,null,null,{"$f":"IF(ISNA(VLOOKUP(AE12,Camions!$B:$F,4,0)),\"\",(VLOOKUP(AE12,Camions!$B:$F,4,0)))","v":""}]
[null,null,null,null,null,null,null,null,null,null,null,null,null,null,null,null,null,null,null,null,null,null,null,null,null,0,null,null,null,null,null,null,null,{"$f":"IF(ISNA(VLOOKUP(AE13,Camions!$B:$F,2,0)),\"\",(VLOOKUP(AE13,Camions!$B:$F,2,0)))","v":""},null,null,null,null,null,null,null,null,null,null,null,null,{"$f":"IF(ISNA(VLOOKUP(AE13,Camions!$B:$F,4,0)),\"\",(VLOOKUP(AE13,Camions!$B:$F,4,0)))","v":""}]
[null,null,null,null,null,null,null,null,null,null,null,null,null,null,null,null,null,null,null,null,null,null,null,null,null,0,null,null,null,null,null,null,null,{"$f":"IF(ISNA(VLOOKUP(AE14,Camions!$B:$F,2,0)),\"\",(VLOOKUP(AE14,Camions!$B:$F,2,0)))","v":""},null,null,null,null,null,null,null,null,null,null,null,null,{"$f":"IF(ISNA(VLOOKUP(AE14,Camions!$B:$F,4,0)),\"\",(VLOOKUP(AE14,Camions!$B:$F,4,0)))","v":""}]
[null,null,null,null,null,null,null,null,null,null,null,null,null,null,null,null,null,null,null,null,null,null,null,null,null,0,null,null,null,null,null,null,null,{"$f":"IF(ISNA(VLOOKUP(AE15,Camions!$B:$F,2,0)),\"\",(VLOOKUP(AE15,Camions!$B:$F,2,0)))","v":""},null,null,null,null,null,null,null,null,null,null,null,null,{"$f":"IF(ISNA(VLOOKUP(AE15,Camions!$B:$F,4,0)),\"\",(VLOOKUP(AE15,Camions!$B:$F,4,0)))","v":""}]
[null,null,null,null,null,null,null,null,null,null,null,null,null,null,null,null,null,null,null,null,null,null,null,null,null,0,null,null,null,null,null,null,null,{"$f":"IF(ISNA(VLOOKUP(AE16,Camions!$B:$F,2,0)),\"\",(VLOOKUP(AE16,Camions!$B:$F,2,0)))","v":""},null,null,null,null,null,null,null,null,null,null,null,null,{"$f":"IF(ISNA(VLOOKUP(AE16,Camions!$B:$F,4,0)),\"\",(VLOOKUP(AE16,Camions!$B:$F,4,0)))","v":""}]
[null,null,null,null,null,null,null,null,null,null,null,null,null,null,null,null,null,null,null,null,null,null,null,null,null,0,null,null,null,null,null,null,null,{"$f":"IF(ISNA(VLOOKUP(AE17,Camions!$B:$F,2,0)),\"\",(VLOOKUP(AE17,Camions!$B:$F,2,0)))","v":""},null,null,null,null,null,null,null,null,null,null,null,null,{"$f":"IF(ISNA(VLOOKUP(AE17,Camions!$B:$F,4,0)),\"\",(VLOOKUP(AE17,Camions!$B:$F,4,0)))","v":""}]
[null,null,null,null,null,null,null,null,null,null,null,null,null,null,null,null,null,null,null,null,null,null,null,null,null,0,null,null,null,null,null,null,null,{"$f":"IF(ISNA(VLOOKUP(AE18,Camions!$B:$F,2,0)),\"\",(VLOOKUP(AE18,Camions!$B:$F,2,0)))","v":""},null,null,null,null,null,null,null,null,null,null,null,null,{"$f":"IF(ISNA(VLOOKUP(AE18,Camions!$B:$F,4,0)),\"\",(VLOOKUP(AE18,Camions!$B:$F,4,0)))","v":""}]
[null,null,null,null,null,null,null,null,null,null,null,null,null,null,null,null,null,null,null,null,null,null,null,null,null,0,null,null,null,null,null,null,null,{"$f":"IF(ISNA(VLOOKUP(AE19,Camions!$B:$F,2,0)),\"\",(VLOOKUP(AE19,Camions!$B:$F,2,0)))","v":""},null,null,null,null,null,null,null,null,null,null,null,null,{"$f":"IF(ISNA(VLOOKUP(AE19,Camions!$B:$F,4,0)),\"\",(VLOOKUP(AE19,Camions!$B:$F,4,0)))","v":""}]
[null,null,null,null,null,null,null,null,null,null,null,null,null,null,null,null,null,null,null,null,null,null,null,null,null,0,null,null,null,null,null,null,null,{"$f":"IF(ISNA(VLOOKUP(AE20,Camions!$B:$F,2,0)),\"\",(VLOOKUP(AE20,Camions!$B:$F,2,0)))","v":""},null,null,null,null,null,null,null,null,null,null,null,null,{"$f":"IF(ISNA(VLOOKUP(AE20,Camions!$B:$F,4,0)),\"\",(VLOOKUP(AE20,Camions!$B:$F,4,0)))","v":""}]
[null,null,null,null,null,null,null,null,null,null,null,null,null,null,null,null,null,null,null,null,null,null,null,null,null,0,null,null,null,null,null,null,null,{"$f":"IF(ISNA(VLOOKUP(AE21,Camions!$B:$F,2,0)),\"\",(VLOOKUP(AE21,Camions!$B:$F,2,0)))","v":""},null,null,null,null,null,null,null,null,null,null,null,null,{"$f":"IF(ISNA(VLOOKUP(AE21,Camions!$B:$F,4,0)),\"\",(VLOOKUP(AE21,Camions!$B:$F,4,0)))","v":""}]
[null,null,null,null,null,null,null,null,null,null,null,null,null,null,null,null,null,null,null,null,null,null,null,null,null,0,null,null,null,null,null,null,null,{"$f":"IF(ISNA(VLOOKUP(AE22,Camions!$B:$F,2,0)),\"\",(VLOOKUP(AE22,Camions!$B:$F,2,0)))","v":""},null,null,null,null,null,null,null,null,null,null,null,null,{"$f":"IF(ISNA(VLOOKUP(AE22,Camions!$B:$F,4,0)),\"\",(VLOOKUP(AE22,Camions!$B:$F,4,0)))","v":""}]
[null,null,null,null,null,null,null,null,null,null,null,null,null,null,null,null,null,null,null,null,null,null,null,null,null,0,null,null,null,null,null,null,null,{"$f":"IF(ISNA(VLOOKUP(AE23,Camions!$B:$F,2,0)),\"\",(VLOOKUP(AE23,Camions!$B:$F,2,0)))","v":""},null,null,null,null,null,null,null,null,null,null,null,null,{"$f":"IF(ISNA(VLOOKUP(AE23,Camions!$B:$F,4,0)),\"\",(VLOOKUP(AE23,Camions!$B:$F,4,0)))","v":""}]
[null,null,null,null,null,null,null,null,null,null,null,null,null,null,null,null,null,null,null,null,null,null,null,null,null,0,null,null,null,null,null,null,null,{"$f":"IF(ISNA(VLOOKUP(AE24,Camions!$B:$F,2,0)),\"\",(VLOOKUP(AE24,Camions!$B:$F,2,0)))","v":""},null,null,null,null,null,null,null,null,null,null,null,null,{"$f":"IF(ISNA(VLOOKUP(AE24,Camions!$B:$F,4,0)),\"\",(VLOOKUP(AE24,Camions!$B:$F,4,0)))","v":""}]
[null,null,null,null,null,null,null,null,null,null,null,null,null,null,null,null,null,null,null,null,null,null,null,null,null,0,null,null,null,null,null,null,null,{"$f":"IF(ISNA(VLOOKUP(AE25,Camions!$B:$F,2,0)),\"\",(VLOOKUP(AE25,Camions!$B:$F,2,0)))","v":""},null,null,null,null,null,null,null,null,null,null,null,null,{"$f":"IF(ISNA(VLOOKUP(AE25,Camions!$B:$F,4,0)),\"\",(VLOOKUP(AE25,Camions!$B:$F,4,0)))","v":""}]
[null,null,null,null,null,null,null,null,null,null,null,null,null,null,null,null,null,null,null,null,null,null,null,null,null,0,null,null,null,null,null,null,null,{"$f":"IF(ISNA(VLOOKUP(AE26,Camions!$B:$F,2,0)),\"\",(VLOOKUP(AE26,Camions!$B:$F,2,0)))","v":""},null,null,null,null,null,null,null,null,null,null,null,null,{"$f":"IF(ISNA(VLOOKUP(AE26,Camions!$B:$F,4,0)),\"\",(VLOOKUP(AE26,Camions!$B:$F,4,0)))","v":""}]
[null,null,null,null,null,null,null,null,null,null,null,null,null,null,null,null,null,null,null,null,null,null,null,null,null,0,null,null,null,null,null,null,null,{"$f":"IF(ISNA(VLOOKUP(AE27,Camions!$B:$F,2,0)),\"\",(VLOOKUP(AE27,Camions!$B:$F,2,0)))","v":""},null,null,null,null,null,null,null,null,null,null,null,null,{"$f":"IF(ISNA(VLOOKUP(AE27,Camions!$B:$F,4,0)),\"\",(VLOOKUP(AE27,Camions!$B:$F,4,0)))","v":""}]
[null,null,null,null,null,null,null,null,null,null,null,null,null,null,null,null,null,null,null,null,null,null,null,null,null,0,null,null,null,null,null,null,null,{"$f":"IF(ISNA(VLOOKUP(AE28,Camions!$B:$F,2,0)),\"\",(VLOOKUP(AE28,Camions!$B:$F,2,0)))","v":""},null,null,null,null,null,null,null,null,null,null,null,null,{"$f":"IF(ISNA(VLOOKUP(AE28,Camions!$B:$F,4,0)),\"\",(VLOOKUP(AE28,Camions!$B:$F,4,0)))","v":""}]
[null,null,null,null,null,null,null,null,null,null,null,null,null,null,null,null,null,null,null,null,null,null,null,null,null,0,null,null,null,null,null,null,null,{"$f":"IF(ISNA(VLOOKUP(AE29,Camions!$B:$F,2,0)),\"\",(VLOOKUP(AE29,Camions!$B:$F,2,0)))","v":""},null,null,null,null,null,null,null,null,null,null,null,null,{"$f":"IF(ISNA(VLOOKUP(AE29,Camions!$B:$F,4,0)),\"\",(VLOOKUP(AE29,Camions!$B:$F,4,0)))","v":""}]
[null,null,null,null,null,null,null,null,null,null,null,null,null,null,null,null,null,null,null,null,null,null,null,null,null,0,null,null,null,null,null,null,null,{"$f":"IF(ISNA(VLOOKUP(AE30,Camions!$B:$F,2,0)),\"\",(VLOOKUP(AE30,Camions!$B:$F,2,0)))","v":""},null,null,null,null,null,null,null,null,null,null,null,null,{"$f":"IF(ISNA(VLOOKUP(AE30,Camions!$B:$F,4,0)),\"\",(VLOOKUP(AE30,Camions!$B:$F,4,0)))","v":""}]
[null,null,null,null,null,null,null,null,null,null,null,null,null,null,null,null,null,null,null,null,null,null,null,null,null,0,null,null,null,null,null,null,null,{"$f":"IF(ISNA(VLOOKUP(AE31,Camions!$B:$F,2,0)),\"\",(VLOOKUP(AE31,Camions!$B:$F,2,0)))","v":""},null,null,null,null,null,null,null,null,null,null,null,null,{"$f":"IF(ISNA(VLOOKUP(AE31,Camions!$B:$F,4,0)),\"\",(VLOOKUP(AE31,Camions!$B:$F,4,0)))","v":""}]
[null,null,null,null,null,null,null,null,null,null,null,null,null,null,null,null,null,null,null,null,null,null,null,null,null,0,null,null,null,null,null,null,null,{"$f":"IF(ISNA(VLOOKUP(AE32,Camions!$B:$F,2,0)),\"\",(VLOOKUP(AE32,Camions!$B:$F,2,0)))","v":""},null,null,null,null,null,null,null,null,null,null,null,null,{"$f":"IF(ISNA(VLOOKUP(AE32,Camions!$B:$F,4,0)),\"\",(VLOOKUP(AE32,Camions!$B:$F,4,0)))","v":""}]
[null,null,null,null,null,null,null,null,null,null,null,null,null,null,null,null,null,null,null,null,null,null,null,null,null,0,null,null,null,null,null,null,null,{"$f":"IF(ISNA(VLOOKUP(AE33,Camions!$B:$F,2,0)),\"\",(VLOOKUP(AE33,Camions!$B:$F,2,0)))","v":""},null,null,null,null,null,null,null,null,null,null,null,null,{"$f":"IF(ISNA(VLOOKUP(AE33,Camions!$B:$F,4,0)),\"\",(VLOOKUP(AE33,Camions!$B:$F,4,0)))","v":""}]
[null,null,null,null,null,null,null,null,null,null,null,null,null,null,null,null,null,null,null,null,null,null,null,null,null,0,null,null,null,null,null,null,null,{"$f":"IF(ISNA(VLOOKUP(AE34,Camions!$B:$F,2,0)),\"\",(VLOOKUP(AE34,Camions!$B:$F,2,0)))","v":""},null,null,null,null,null,null,null,null,null,null,null,null,{"$f":"IF(ISNA(VLOOKUP(AE34,Camions!$B:$F,4,0)),\"\",(VLOOKUP(AE34,Camions!$B:$F,4,0)))","v":""}]
[null,null,null,null,null,null,null,null,null,null,null,null,null,null,null,null,null,null,null,null,null,null,null,null,null,0,null,null,null,null,null,null,null,{"$f":"IF(ISNA(VLOOKUP(AE35,Camions!$B:$F,2,0)),\"\",(VLOOKUP(AE35,Camions!$B:$F,2,0)))","v":""},null,null,null,null,null,null,null,null,null,null,null,null,{"$f":"IF(ISNA(VLOOKUP(AE35,Camions!$B:$F,4,0)),\"\",(VLOOKUP(AE35,Camions!$B:$F,4,0)))","v":""}]
[null,null,null,null,null,null,null,null,null,null,null,null,null,null,null,null,null,null,null,null,null,null,null,null,null,0,null,null,null,null,null,null,null,{"$f":"IF(ISNA(VLOOKUP(AE36,Camions!$B:$F,2,0)),\"\",(VLOOKUP(AE36,Camions!$B:$F,2,0)))","v":""},null,null,null,null,null,null,null,null,null,null,null,null,{"$f":"IF(ISNA(VLOOKUP(AE36,Camions!$B:$F,4,0)),\"\",(VLOOKUP(AE36,Camions!$B:$F,4,0)))","v":""}]
[null,null,null,null,null,null,null,null,null,null,null,null,null,null,null,null,null,null,null,null,null,null,null,null,null,0,null,null,null,null,null,null,null,{"$f":"IF(ISNA(VLOOKUP(AE37,Camions!$B:$F,2,0)),\"\",(VLOOKUP(AE37,Camions!$B:$F,2,0)))","v":""},null,null,null,null,null,null,null,null,null,null,null,null,{"$f":"IF(ISNA(VLOOKUP(AE36,Camions!$B:$F,4,0)),\"\",(VLOOKUP(AE36,Camions!$B:$F,4,0)))","v":""}]
["CHANTIER :",null,null,null,null,{"$f":"F1","v":0},null,null,null,null,null,null,null,null,null,null,null,null,null,null,"N° CHANTIER :",null,null,null,null,null,{"$f":"AA1","v":0},null,null,null,"JOUR :",null,null,null,{"$f":"AI1","v":"Samedi"},null,null,null,null,null,null,null,null,null,null,null,null,null,null,null,null,"DATES :",null,null,{"$f":"BC1","v":"30-01-16"}]
["MATERIEL",null,null,null,null,null,null,null,null,null,null,null,null,null,null,null,null,null,null,null,null,null,null,null,null,null,null,null,null,null,"SOUS-TRAITANTS"]
["Légende :",null,null,null,null,"Pa",".= Panne",null,null,null,null,"Ent",".= Entretien"]
["N°",null,null,"Description du matériel",null,null,null,null,null,null,null,null,null,null,null,null,"Nom de l'opérateur",null,null,null,null,null,null,null,null,"Heures",null,null,null,null,"Type d'engin et description des travaux ",null,null,null,null,null,null,null,null,null,null,null,null,null,null,null,"Sous-traitants",null,null,null,null,null,null,null,null,"Heures"]
[null,null,null,{"$f":"IF(ISNA(VLOOKUP(A42,Machines!$B:$F,2,0)),\"\",(VLOOKUP(A42,Machines!$B:$F,2,0)))","v":""},null,null,null,null,null,null,null,null,null,null,null,null,{"$f":"IF(ISNA(VLOOKUP(A42,Machines!$B:$F,4,0)),\"\",(VLOOKUP(A42,Machines!$B:$F,4,0)))","v":""}]
[null,null,null,{"$f":"IF(ISNA(VLOOKUP(A43,Machines!$B:$F,2,0)),\"\",(VLOOKUP(A43,Machines!$B:$F,2,0)))","v":""},null,null,null,null,null,null,null,null,null,null,null,null,{"$f":"IF(ISNA(VLOOKUP(A43,Machines!$B:$F,4,0)),\"\",(VLOOKUP(A43,Machines!$B:$F,4,0)))","v":""}]
[null,null,null,{"$f":"IF(ISNA(VLOOKUP(A44,Machines!$B:$F,2,0)),\"\",(VLOOKUP(A44,Machines!$B:$F,2,0)))","v":""},null,null,null,null,null,null,null,null,null,null,null,null,{"$f":"IF(ISNA(VLOOKUP(A44,Machines!$B:$F,4,0)),\"\",(VLOOKUP(A44,Machines!$B:$F,4,0)))","v":""}]
[null,null,null,{"$f":"IF(ISNA(VLOOKUP(A45,Machines!$B:$F,2,0)),\"\",(VLOOKUP(A45,Machines!$B:$F,2,0)))","v":""},null,null,null,null,null,null,null,null,null,null,null,null,{"$f":"IF(ISNA(VLOOKUP(A45,Machines!$B:$F,4,0)),\"\",(VLOOKUP(A45,Machines!$B:$F,4,0)))","v":""}]
[null,null,null,{"$f":"IF(ISNA(VLOOKUP(A46,Machines!$B:$F,2,0)),\"\",(VLOOKUP(A46,Machines!$B:$F,2,0)))","v":""},null,null,null,null,null,null,null,null,null,null,null,null,{"$f":"IF(ISNA(VLOOKUP(A46,Machines!$B:$F,4,0)),\"\",(VLOOKUP(A46,Machines!$B:$F,4,0)))","v":""}]
[null,null,null,{"$f":"IF(ISNA(VLOOKUP(A47,Machines!$B:$F,2,0)),\"\",(VLOOKUP(A47,Machines!$B:$F,2,0)))","v":""},null,null,null,null,null,null,null,null,null,null,null,null,{"$f":"IF(ISNA(VLOOKUP(A47,Machines!$B:$F,4,0)),\"\",(VLOOKUP(A47,Machines!$B:$F,4,0)))","v":""}]
[null,null,null,{"$f":"IF(ISNA(VLOOKUP(A48,Machines!$B:$F,2,0)),\"\",(VLOOKUP(A48,Machines!$B:$F,2,0)))","v":""},null,null,null,null,null,null,null,null,null,null,null,null,{"$f":"IF(ISNA(VLOOKUP(A48,Machines!$B:$F,4,0)),\"\",(VLOOKUP(A48,Machines!$B:$F,4,0)))","v":""}]
[null,null,null,{"$f":"IF(ISNA(VLOOKUP(A49,Machines!$B:$F,2,0)),\"\",(VLOOKUP(A49,Machines!$B:$F,2,0)))","v":""},null,null,null,null,null,null,null,null,null,null,null,null,{"$f":"IF(ISNA(VLOOKUP(A49,Machines!$B:$F,4,0)),\"\",(VLOOKUP(A49,Machines!$B:$F,4,0)))","v":""}]
[null,null,null,{"$f":"IF(ISNA(VLOOKUP(A50,Machines!$B:$F,2,0)),\"\",(VLOOKUP(A50,Machines!$B:$F,2,0)))","v":""},null,null,null,null,null,null,null,null,null,null,null,null,{"$f":"IF(ISNA(VLOOKUP(A50,Machines!$B:$F,4,0)),\"\",(VLOOKUP(A50,Machines!$B:$F,4,0)))","v":""}]
[null,null,null,{"$f":"IF(ISNA(VLOOKUP(A51,Machines!$B:$F,2,0)),\"\",(VLOOKUP(A51,Machines!$B:$F,2,0)))","v":""},null,null,null,null,null,null,null,null,null,null,null,null,{"$f":"IF(ISNA(VLOOKUP(A51,Machines!$B:$F,4,0)),\"\",(VLOOKUP(A51,Machines!$B:$F,4,0)))","v":""}]
[null,null,null,{"$f":"IF(ISNA(VLOOKUP(A52,Machines!$B:$F,2,0)),\"\",(VLOOKUP(A52,Machines!$B:$F,2,0)))","v":""},null,null,null,null,null,null,null,null,null,null,null,null,{"$f":"IF(ISNA(VLOOKUP(A52,Machines!$B:$F,4,0)),\"\",(VLOOKUP(A52,Machines!$B:$F,4,0)))","v":""}]
[null,null,null,{"$f":"IF(ISNA(VLOOKUP(A53,Machines!$B:$F,2,0)),\"\",(VLOOKUP(A53,Machines!$B:$F,2,0)))","v":""},null,null,null,null,null,null,null,null,null,null,null,null,{"$f":"IF(ISNA(VLOOKUP(A53,Machines!$B:$F,4,0)),\"\",(VLOOKUP(A53,Machines!$B:$F,4,0)))","v":""}]
[null,null,null,{"$f":"IF(ISNA(VLOOKUP(A54,Machines!$B:$F,2,0)),\"\",(VLOOKUP(A54,Machines!$B:$F,2,0)))","v":""},null,null,null,null,null,null,null,null,null,null,null,null,{"$f":"IF(ISNA(VLOOKUP(A54,Machines!$B:$F,4,0)),\"\",(VLOOKUP(A54,Machines!$B:$F,4,0)))","v":""}]
[null,null,null,{"$f":"IF(ISNA(VLOOKUP(A55,Machines!$B:$F,2,0)),\"\",(VLOOKUP(A55,Machines!$B:$F,2,0)))","v":""},null,null,null,null,null,null,null,null,null,null,null,null,{"$f":"IF(ISNA(VLOOKUP(A55,Machines!$B:$F,4,0)),\"\",(VLOOKUP(A55,Machines!$B:$F,4,0)))","v":""}]
[null,null,null,{"$f":"IF(ISNA(VLOOKUP(A56,Machines!$B:$F,2,0)),\"\",(VLOOKUP(A56,Machines!$B:$F,2,0)))","v":""},null,null,null,null,null,null,null,null,null,null,null,null,{"$f":"IF(ISNA(VLOOKUP(A56,Machines!$B:$F,4,0)),\"\",(VLOOKUP(A56,Machines!$B:$F,4,0)))","v":""}]
[null,null,null,{"$f":"IF(ISNA(VLOOKUP(A57,Machines!$B:$F,2,0)),\"\",(VLOOKUP(A57,Machines!$B:$F,2,0)))","v":""},null,null,null,null,null,null,null,null,null,null,null,null,{"$f":"IF(ISNA(VLOOKUP(A57,Machines!$B:$F,4,0)),\"\",(VLOOKUP(A57,Machines!$B:$F,4,0)))","v":""}]
[null,null,null,{"$f":"IF(ISNA(VLOOKUP(A58,Machines!$B:$F,2,0)),\"\",(VLOOKUP(A58,Machines!$B:$F,2,0)))","v":""},null,null,null,null,null,null,null,null,null,null,null,null,{"$f":"IF(ISNA(VLOOKUP(A58,Machines!$B:$F,4,0)),\"\",(VLOOKUP(A58,Machines!$B:$F,4,0)))","v":""}]
[null,null,null,{"$f":"IF(ISNA(VLOOKUP(A59,Machines!$B:$F,2,0)),\"\",(VLOOKUP(A59,Machines!$B:$F,2,0)))","v":""},null,null,null,null,null,null,null,null,null,null,null,null,{"$f":"IF(ISNA(VLOOKUP(A59,Machines!$B:$F,4,0)),\"\",(VLOOKUP(A59,Machines!$B:$F,4,0)))","v":""}]
[null,null,null,{"$f":"IF(ISNA(VLOOKUP(A60,Machines!$B:$F,2,0)),\"\",(VLOOKUP(A60,Machines!$B:$F,2,0)))","v":""},null,null,null,null,null,null,null,null,null,null,null,null,{"$f":"IF(ISNA(VLOOKUP(A60,Machines!$B:$F,4,0)),\"\",(VLOOKUP(A60,Machines!$B:$F,4,0)))","v":""}]
[null,null,null,{"$f":"IF(ISNA(VLOOKUP(A61,Machines!$B:$F,2,0)),\"\",(VLOOKUP(A61,Machines!$B:$F,2,0)))","v":""},null,null,null,null,null,null,null,null,null,null,null,null,{"$f":"IF(ISNA(VLOOKUP(A61,Machines!$B:$F,4,0)),\"\",(VLOOKUP(A61,Machines!$B:$F,4,0)))","v":""}]
[null,null,null,{"$f":"IF(ISNA(VLOOKUP(A62,Machines!$B:$F,2,0)),\"\",(VLOOKUP(A62,Machines!$B:$F,2,0)))","v":""},null,null,null,null,null,null,null,null,null,null,null,null,{"$f":"IF(ISNA(VLOOKUP(A62,Machines!$B:$F,4,0)),\"\",(VLOOKUP(A62,Machines!$B:$F,4,0)))","v":""}]
[null,null,null,{"$f":"IF(ISNA(VLOOKUP(A63,Machines!$B:$F,2,0)),\"\",(VLOOKUP(A63,Machines!$B:$F,2,0)))","v":""},null,null,null,null,null,null,null,null,null,null,null,null,{"$f":"IF(ISNA(VLOOKUP(A63,Machines!$B:$F,4,0)),\"\",(VLOOKUP(A63,Machines!$B:$F,4,0)))","v":""}]
[null,null,null,{"$f":"IF(ISNA(VLOOKUP(A64,Machines!$B:$F,2,0)),\"\",(VLOOKUP(A64,Machines!$B:$F,2,0)))","v":""},null,null,null,null,null,null,null,null,null,null,null,null,{"$f":"IF(ISNA(VLOOKUP(A64,Machines!$B:$F,4,0)),\"\",(VLOOKUP(A64,Machines!$B:$F,4,0)))","v":""}]
[null,null,null,{"$f":"IF(ISNA(VLOOKUP(A65,Machines!$B:$F,2,0)),\"\",(VLOOKUP(A65,Machines!$B:$F,2,0)))","v":""},null,null,null,null,null,null,null,null,null,null,null,null,{"$f":"IF(ISNA(VLOOKUP(A65,Machines!$B:$F,4,0)),\"\",(VLOOKUP(A65,Machines!$B:$F,4,0)))","v":""}]
[null,null,null,{"$f":"IF(ISNA(VLOOKUP(A66,Machines!$B:$F,2,0)),\"\",(VLOOKUP(A66,Machines!$B:$F,2,0)))","v":""},null,null,null,null,null,null,null,null,null,null,null,null,{"$f":"IF(ISNA(VLOOKUP(A66,Machines!$B:$F,4,0)),\"\",(VLOOKUP(A66,Machines!$B:$F,4,0)))","v":""}]
[null,null,null,{"$f":"IF(ISNA(VLOOKUP(A67,Machines!$B:$F,2,0)),\"\",(VLOOKUP(A67,Machines!$B:$F,2,0)))","v":""},null,null,null,null,null,null,null,null,null,null,null,null,{"$f":"IF(ISNA(VLOOKUP(A67,Machines!$B:$F,4,0)),\"\",(VLOOKUP(A67,Machines!$B:$F,4,0)))","v":""}]
[null,null,null,{"$f":"IF(ISNA(VLOOKUP(A68,Machines!$B:$F,2,0)),\"\",(VLOOKUP(A68,Machines!$B:$F,2,0)))","v":""},null,null,null,null,null,null,null,null,null,null,null,null,{"$f":"IF(ISNA(VLOOKUP(A68,Machines!$B:$F,4,0)),\"\",(VLOOKUP(A68,Machines!$B:$F,4,0)))","v":""}]
[null,null,null,{"$f":"IF(ISNA(VLOOKUP(A69,Machines!$B:$F,2,0)),\"\",(VLOOKUP(A69,Machines!$B:$F,2,0)))","v":""},null,null,null,null,null,null,null,null,null,null,null,null,{"$f":"IF(ISNA(VLOOKUP(A69,Machines!$B:$F,4,0)),\"\",(VLOOKUP(A69,Machines!$B:$F,4,0)))","v":""}]
[null,null,null,{"$f":"IF(ISNA(VLOOKUP(A70,Machines!$B:$F,2,0)),\"\",(VLOOKUP(A70,Machines!$B:$F,2,0)))","v":""},null,null,null,null,null,null,null,null,null,null,null,null,{"$f":"IF(ISNA(VLOOKUP(A70,Machines!$B:$F,4,0)),\"\",(VLOOKUP(A70,Machines!$B:$F,4,0)))","v":""}]
[null,null,null,{"$f":"IF(ISNA(VLOOKUP(A71,Machines!$B:$F,2,0)),\"\",(VLOOKUP(A71,Machines!$B:$F,2,0)))","v":""},null,null,null,null,null,null,null,null,null,null,null,null,{"$f":"IF(ISNA(VLOOKUP(A71,Machines!$B:$F,4,0)),\"\",(VLOOKUP(A71,Machines!$B:$F,4,0)))","v":""}]
[null,null,null,{"$f":"IF(ISNA(VLOOKUP(A72,Machines!$B:$F,2,0)),\"\",(VLOOKUP(A72,Machines!$B:$F,2,0)))","v":""},null,null,null,null,null,null,null,null,null,null,null,null,{"$f":"IF(ISNA(VLOOKUP(A72,Machines!$B:$F,4,0)),\"\",(VLOOKUP(A72,Machines!$B:$F,4,0)))","v":""}]
[null,null,null,{"$f":"IF(ISNA(VLOOKUP(A73,Machines!$B:$F,2,0)),\"\",(VLOOKUP(A73,Machines!$B:$F,2,0)))","v":""},null,null,null,null,null,null,null,null,null,null,null,null,{"$f":"IF(ISNA(VLOOKUP(A73,Machines!$B:$F,4,0)),\"\",(VLOOKUP(A73,Machines!$B:$F,4,0)))","v":""}]
[null,null,null,{"$f":"IF(ISNA(VLOOKUP(A74,Machines!$B:$F,2,0)),\"\",(VLOOKUP(A74,Machines!$B:$F,2,0)))","v":""},null,null,null,null,null,null,null,null,null,null,null,null,{"$f":"IF(ISNA(VLOOKUP(A74,Machines!$B:$F,4,0)),\"\",(VLOOKUP(A74,Machines!$B:$F,4,0)))","v":""}]
["CHANTIER :",null,null,null,null,{"$f":"F1","v":0},null,null,null,null,null,null,null,null,null,null,null,null,null,null,"N° CHANTIER :",null,null,null,null,null,{"$f":"AA1","v":0},null,null,null,"JOUR :",null,null,null,{"$f":"AI1","v":"Samedi"},null,null,null,null,null,null,null,null,null,null,null,null,null,null,null,null,"DATES :",null,null,{"$f":"BC1","v":"30-01-16"}]
["MATERIAUX"]
[null,null,null,"Fournisseurs",null,null,null,null,null,null,null,null,null,null,null,null,null,null,"Description des fournitures & matériaux",null,null,null,null,null,null,null,null,null,null,null,null,null,null,null,null,null,null,null,null,null,null,null,null,null,null,null,null,null,null,"Qt totales",null,null,null,"U.",null,"Prix"]
[]
[]
[]
[]
[]
[]
[]
[]
[]
[]
[]
[]
[]
[]
[]
[]
[]
[]
[]
[]
[]
[]
[]
[]
[]
[]
[]
[]
[]
[]
[]
[null,null,null,"RESPONSABLE",null,null,null,null,null,null,null,null,"SIGNATURE",null,null,null,null,null,"DESCRIPTION DES TRAVAUX REALISES CE JOUR",null,null,null,null,null,null,null,null,null,null,null,null,null,null,null,null,null,null,null,null,null,null,null,null,null,null,null,null,null,null,"METEO"]
[null,null,null,"JENNES Loïc"]

{"sheet":"31-01-16","index":37,"n_rows":110,"n_cols":56,"rows_kept":110,"cut":false,"hidden":false,"merged":[[93,55,93,58],[94,49,94,52],[101,49,101,52],[101,53,101,54],[110,18,110,48],[72,55,72,58],[73,0,73,2],[73,3,73,15],[73,16,73,24],[73,25,73,28],[73,30,73,45],[73,46,73,54],[73,55,73,58],[101,3,101,17],[101,18,101,48],[95,55,95,58],[96,55,96,58],[101,55,101,58],[94,3,94,17],[94,18,94,48],[91,3,91,17],[91,18,91,48],[92,3,92,17],[92,18,92,48],[93,49,93,52],[93,53,93,54],[102,55,102,58],[97,3,97,17],[94,53,94,54],[103,3,103,17],[103,18,103,48],[104,3,104,17],[104,18,104,48],[97,49,97,52],[97,53,97,54],[102,3,102,17],[102,18,102,48],[99,3,99,17],[99,18,99,48],[100,3,100,17],[100,18,100,48],[97,18,97,48],[98,3,98,17],[98,18,98,48],[99,49,99,52],[98,49,98,52],[98,53,98,54],[98,55,98,58],[72,0,72,2],[72,3,72,15],[72,16,72,24],[72,25,72,28],[72,30,72,45],[72,46,72,54],[95,53,95,54],[96,49,96,52],[96,53,96,54],[95,3,95,17],[95,18,95,48],[96,3,96,17],[96,18,96,48],[95,49,95,52],[90,49,90,52],[90,53,90,54],[93,3,93,17],[93,18,93,48],[89,3,89,17],[89,18,89,48],[90,3,90,17],[90,18,90,48],[87,3,87,17],[87,18,87,48],[69,0,69,2],[69,3,69,15],[69,16,69,24],[69,25,69,28],[69,30,69,45],[69,46,69,54],[69,55,69,58],[71,0,71,2],[71,3,71,15],[71,16,71,24],[71,25,71,28],[71,30,71,45],[71,46,71,54],[71,55,71,58],[70,0,70,2],[70,3,70,15],[70,16,70,24],[70,25,70,28],[70,30,70,45],[70,46,70,54],[70,55,70,58],[67,0,67,2],[67,3,67,15],[67,16,67,24],[67,25,67,28],[67,30,67,45],[67,46,67,54],[67,55,67,58],[68,0,68,2],[68,3,68,15],[68,16,68,24],[68,25,68,28],[68,30,68,45],[68,46,68,54],[68,55,68,58],[65,0,65,2],[65,3,65,15],[65,16,65,24],[65,25,65,28],[65,30,65,45],[65,46,65,54],[65,55,65,58],[66,0,66,2],[66,3,66,15],[66,16,66,24],[66,25,66,28],[66,30,66,45],[66,46,66,54],[66,55,66,58],[63,0,63,2],[63,3,63,15],[63,16,63,24],[63,25,63,28],[63,30,63,45],[63,46,63,54],[63,55,63,58],[64,0,64,2],[64,3,64,15],[64,16,64,24],[64,25,64,28],[64,30,64,45],[64,46,64,54],[64,55,64,58],[61,0,61,2],[61,3,61,15],[61,16,61,24],[61,25,61,28],[61,30,61,45],[61,46,61,54],[61,55,61,58],[62,0,62,2],[62,3,62,15],[62,16,62,24],[62,25,62,28],[62,30,62,45],[62,46,62,54],[62,55,62,58],[59,0,59,2],[59,3,59,15],[59,16,59,24],[59,25,59,28],[59,30,59,45],[59,46,59,54],[59,55,59,58],[60,0,60,2],[60,3,60,15],[60,16,60,24],[60,25,60,28],[60,30,60,45],[60,46,60,54],[60,55,60,58],[57,0,57,2],[57,3,57,15],[57,16,57,24],[57,25,57,28],[57,30,57,45],[57,46,57,54],[57,55,57,58],[58,0,58,2],[58,3,58,15],[58,16,58,24],[58,25,58,28],[58,30,58,45],[58,46,58,54],[58,55,58,58],[55,0,55,2],[55,3,55,15],[55,16,55,24],[55,25,55,28],[55,30,55,45],[55,46,55,54],[55,55,55,58],[56,0,56,2],[56,3,56,15],[56,16,56,24],[56,25,56,28],[56,30,56,45],[56,46,56,54],[56,55,56,58],[53,0,53,2],[53,3,53,15],[53,16,53,24],[53,25,53,28],[53,30,53,45],[53,46,53,54],[53,55,53,58],[54,0,54,2],[54,3,54,15],[54,16,54,24],[54,25,54,28],[54,30,54,45],[54,46,54,54],[54,55,54,58],[51,0,51,2],[51,3,51,15],[51,16,51,24],[51,25,51,28],[51,30,51,45],[51,46,51,54],[51,55,51,58],[52,0,52,2],[52,3,52,15],[52,16,52,24],[52,25,52,28],[52,30,52,45],[52,46,52,54],[52,55,52,58],[49,0,49,2],[49,3,49,15],[49,16,49,24],[49,25,49,28],[49,30,49,45],[49,46,49,54],[49,55,49,58],[50,0,50,2],[50,3,50,15],[50,16,50,24],[50,25,50,28],[50,30,50,45],[50,46,50,54],[50,55,50,58],[47,0,47,2],[47,3,47,15],[47,16,47,24],[47,25,47,28],[47,30,47,45],[47,46,47,54],[47,55,47,58],[48,0,48,2],[48,3,48,15],[48,16,48,24],[48,25,48,28],[48,30,48,45],[48,46,48,54],[48,55,48,58],[45,0,45,2],[45,3,45,15],[45,16,45,24],[45,25,45,28],[45,30,45,45],[45,46,45,54],[45,55,45,58],[46,0,46,2],[46,3,46,15],[46,16,46,24],[46,25,46,28],[46,30,46,45],[46,46,46,54],[46,55,46,58],[43,0,43,2],[43,3,43,15],[43,16,43,24],[43,25,43,28],[43,30,43,45],[43,46,43,54],[43,55,43,58],[44,0,44,2],[44,3,44,15],[44,16,44,24],[44,25,44,28],[44,30,44,45],[44,46,44,54],[44,55,44,58],[41,25,41,28],[41,30,41,45],[41,46,41,54],[41,55,41,58],[42,0,42,2],[42,3,42,15],[42,16,42,24],[42,25,42,28],[42,30,42,45],[42,46,42,54],[42,55,42,58],[37,0,37,4],[37,5,37,19],[37,20,37,25],[37,26,37,28],[37,30,37,32],[37,34,37,47],[37,51,37,53],[37,54,37,58],[38,0,38,28],[38,29,73,29],[38,30,38,58],[39,0,39,4],[39,6,39,9],[39,12,39,15],[40,0,40,2],[40,3,40,15],[40,16,40,24],[40,25,40,28],[40,30,40,45],[40,46,40,54],[40,55,40,58],[41,0,41,2],[41,3,41,15],[41,16,41,24],[36,0,36,15],[36,16,36,18],[36,19,36,21],[36,22,36,24],[36,25,36,28],[36,30,36,32],[36,33,36,45],[36,46,36,54],[36,55,36,58],[35,0,35,15],[35,16,35,18],[35,19,35,21],[35,22,35,24],[35,25,35,28],[35,30,35,32],[35,33,35,45],[35,46,35,54],[35,55,35,58],[34,0,34,15],[34,16,34,18],[34,19,34,21],[34,22,34,24],[34,25,34,28],[34,30,34,32],[34,33,34,45],[34,46,34,54],[34,55,34,58],[33,0,33,15],[33,16,33,18],[33,19,33,21],[33,22,33,24],[33,25,33,28],[33,30,33,32],[33,33,33,45],[33,46,33,54],[33,55,33,58],[32,0,32,15],[32,16,32,18],[32,19,32,21],[32,22,32,24],[32,25,32,28],[32,30,32,32],[32,33,32,45],[32,46,32,54],[32,55,32,58],[31,0,31,15],[31,16,31,18],[31,19,31,21],[31,22,31,24],[31,25,31,28],[31,30,31,32],[31,33,31,45],[31,46,31,54],[31,55,31,58],[30,0,30,15],[30,16,30,18],[30,19,30,21],[30,22,30,24],[30,25,30,28],[30,30,30,32],[30,33,30,45],[30,46,30,54],[30,55,30,58],[29,0,29,15],[29,16,29,18],[29,19,29,21],[29,22,29,24],[29,25,29,28],[29,30,29,32],[29,33,29,45],[29,46,29,54],[29,55,29,58],[28,0,28,15],[28,16,28,18],[28,19,28,21],[28,22,28,24],[28,25,28,28],[28,30,28,32],[28,33,28,45],[28,46,28,54],[28,55,28,58],[27,0,27,15],[27,16,27,18],[27,19,27,21],[27,22,27,24],[27,25,27,28],[27,30,27,32],[27,33,27,45],[27,46,27,54],[27,55,27,58],[26,0,26,15],[26,16,26,18],[26,19,26,21],[26,22,26,24],[26,25,26,28],[26,30,26,32],[26,33,26,45],[26,46,26,54],[26,55,26,58],[25,0,25,15],[25,16,25,18],[25,19,25,21],[25,22,25,24],[25,25,25,28],[25,30,25,32],[25,33,25,45],[25,46,25,54],[25,55,25,58],[24,0,24,15],[24,16,24,18],[24,19,24,21],[24,22,24,24],[24,25,24,28],[24,30,24,32],[24,33,24,45],[24,46,24,54],[24,55,24,58],[23,0,23,15],[23,16,23,18],[23,19,23,21],[23,22,23,24],[23,25,23,28],[23,30,23,32],[23,33,23,45],[23,46,23,54],[23,55,23,58],[22,0,22,15],[22,16,22,18],[22,19,22,21],[22,22,22,24],[22,25,22,28],[22,30,22,32],[22,33,22,45],[22,46,22,54],[22,55,22,58],[21,0,21,15],[21,16,21,18],[21,19,21,21],[21,22,21,24],[21,25,21,28],[21,30,21,32],[21,33,21,45],[21,46,21,54],[21,55,21,58],[20,0,20,15],[20,16,20,18],[20,19,20,21],[20,22,20,24],[20,25,20,28],[20,30,20,32],[20,33,20,45],[20,46,20,54],[20,55,20,58],[19,0,19,15],[19,16,19,18],[19,19,19,21],[19,22,19,24],[19,25,19,28],[19,30,19,32],[19,33,19,45],[19,46,19,54],[19,55,19,58],[18,0,18,15],[18,16,18,18],[18,19,18,21],[18,22,18,24],[18,25,18,28],[18,30,18,32],[18,33,18,45],[18,46,18,54],[18,55,18,58],[17,0,17,15],[17,16,17,18],[17,19,17,21],[17,22,17,24],[17,25,17,28],[17,30,17,32],[17,33,17,45],[17,46,17,54],[17,55,17,58],[16,0,16,15],[16,16,16,18],[16,19,16,21],[16,22,16,24],[16,25,16,28],[16,30,16,32],[16,33,16,45],[16,46,16,54],[16,55,16,58],[15,0,15,15],[15,16,15,18],[15,19,15,21],[15,22,15,24],[15,25,15,28],[15,30,15,32],[15,33,15,45],[15,46,15,54],[15,55,15,58],[14,0,14,15],[14,16,14,18],[14,19,14,21],[14,22,14,24],[14,25,14,28],[14,30,14,32],[14,33,14,45],[14,46,14,54],[14,55,14,58],[13,0,13,15],[13,16,13,18],[13,19,13,21],[13,22,13,24],[13,25,13,28],[13,30,13,32],[13,33,13,45],[13,46,13,54],[13,55,13,58],[12,0,12,15],[12,16,12,18],[12,19,12,21],[12,22,12,24],[12,25,12,28],[12,30,12,32],[12,33,12,45],[12,46,12,54],[12,55,12,58],[11,0,11,15],[11,16,11,18],[11,19,11,21],[11,22,11,24],[11,25,11,28],[11,30,11,32],[11,33,11,45],[11,46,11,54],[11,55,11,58],[10,0,10,15],[10,16,10,18],[10,19,10,21],[10,22,10,24],[10,25,10,28],[10,30,10,32],[10,33,10,45],[10,46,10,54],[10,55,10,58],[9,0,9,15],[9,16,9,18],[9,19,9,21],[9,22,9,24],[9,25,9,28],[9,30,9,32],[9,33,9,45],[9,46,9,54],[9,55,9,58],[8,0,8,15],[8,16,8,18],[8,19,8,21],[8,22,8,24],[8,25,8,28],[8,30,8,32],[8,33,8,45],[8,46,8,54],[8,55,8,58],[6,30,6,32],[6,33,6,45],[6,46,6,54],[6,55,6,58],[7,0,7,15],[7,16,7,18],[7,19,7,21],[7,22,7,24],[7,25,7,28],[7,30,7,32],[7,33,7,45],[7,46,7,54],[7,55,7,58],[4,55,4,58],[5,0,5,15],[5,16,5,18],[5,19,5,21],[5,22,5,24],[5,25,5,28],[5,30,5,32],[5,33,5,45],[5,46,5,54],[5,55,5,58],[0,51,0,53],[0,54,0,58],[1,0,1,28],[1,29,36,29],[1,30,1,58],[2,0,2,4],[2,7,2,10],[2,13,2,16],[2,19,2,22],[2,25,2,28],[2,30,2,34],[2,36,2,39],[2,42,2,45],[3,0,3,15],[3,16,3,18],[3,19,3,21],[3,22,3,24],[3,25,3,28],[3,30,3,32],[3,33,3,45],[3,46,3,54],[3,55,3,58],[4,0,4,15],[4,16,4,18],[109,18,109,48],[111,18,111,48],[108,18,108,48],[108,3,108,11],[108,12,108,17],[109,3,111,11],[109,12,111,17],[0,0,0,4],[0,5,0,19],[0,20,0,25],[0,26,0,28],[0,30,0,32],[0,34,0,47],[4,19,4,21],[4,22,4,24],[4,25,4,28],[4,30,4,32],[4,33,4,45],[4,46,4,54],[6,0,6,15],[6,16,6,18],[6,19,6,21],[6,22,6,24],[6,25,6,28],[107,3,107,17],[107,18,107,48],[105,3,105,17],[105,18,105,48],[106,3,106,17],[106,18,106,48],[106,49,106,52],[107,49,107,52],[102,53,102,54],[102,49,102,52],[90,55,90,58],[91,49,91,52],[91,53,91,54],[91,55,91,58],[92,49,92,52],[92,53,92,54],[92,55,92,58],[87,53,87,54],[87,55,87,58],[88,49,88,52],[88,53,88,54],[88,55,88,58],[89,49,89,52],[89,53,89,54],[87,49,87,52],[89,55,89,58],[88,3,88,17],[88,18,88,48],[86,3,86,17],[86,18,86,48],[83,3,83,17],[83,18,83,48],[84,3,84,17],[84,18,84,48],[85,49,85,52],[85,53,85,54],[85,55,85,58],[86,49,86,52],[86,53,86,54],[86,55,86,58],[83,55,83,58],[84,49,84,52],[84,53,84,54],[84,55,84,58],[79,53,79,54],[79,55,79,58],[80,49,80,52],[80,53,80,54],[80,55,80,58],[81,49,81,52],[81,53,81,54],[85,3,85,17],[85,18,85,48],[81,3,81,17],[81,18,81,48],[82,3,82,17],[82,18,82,48],[79,3,79,17],[79,18,79,48],[80,3,80,17],[80,18,80,48],[79,49,79,52],[81,55,81,58],[82,49,82,52],[82,53,82,54],[82,55,82,58],[83,49,83,52],[83,53,83,54],[74,54,74,58],[75,0,75,58],[76,49,76,52],[76,53,76,54],[76,55,76,58],[77,3,77,17],[77,18,77,48],[78,3,78,17],[78,18,78,48],[77,49,77,52],[77,53,77,54],[77,55,77,58],[78,49,78,52],[78,53,78,54],[78,55,78,58],[76,3,76,17],[76,18,76,48],[74,0,74,4],[74,5,74,19],[74,20,74,25],[74,26,74,28],[74,30,74,32],[74,34,74,47],[74,51,74,53],[94,55,94,58],[108,49,108,58],[109,49,111,58],[103,49,103,52],[103,53,103,54],[103,55,103,58],[104,49,104,52],[104,53,104,54],[104,55,104,58],[105,49,105,52],[105,53,105,54],[105,55,105,58],[106,53,106,54],[106,55,106,58],[107,53,107,54],[107,55,107,58],[99,53,99,54],[99,55,99,58],[100,49,100,52],[100,53,100,54],[100,55,100,58],[97,55,97,58]]}
["CHANTIER :",null,null,null,null,{"$f":"'01-01-16'!F1","v":0},null,null,null,null,null,null,null,null,null,null,null,null,null,null,"N° CHANTIER :",null,null,null,null,null,{"$f":"'01-01-16'!AA1","v":0},null,null,null,"JOUR :",null,null,null,{"$f":" CHOOSE(WEEKDAY(BC1,2),\"Lundi\",\"Mardi\",\"Mercredi\",\"Jeudi\",\"Vendredi\",\"Samedi\",\"Dimanche\")","v":"Dimanche"},null,null,null,null,null,null,null,null,null,null,null,null,null,null,null,null,"DATES :",null,null,{"$f":"MID(CELL(\"nomfichier\",A1),FIND(\"]\",CELL(\"nomfichier\",A1),1)+1,30)","v":"31-01-16"}]
["MAIN D'ŒUVRE",null,null,null,null,null,null,null,null,null,null,null,null,null,null,null,null,null,null,null,null,null,null,null,null,null,null,null,null,null,"CAMIONS"]
["Légende :",null,null,null,null,null,"Co",".= Congé",null,null,null,null,"M",".= Malade",null,null,null,null,"Cho",".= Chômage",null,null,null,null,"Va",".= Vacance",null,null,null,null,"Légende :",null,null,null,null,"Pa",".= Panne",null,null,null,null,"Ent",".= Entretien"]
["NOM - Prénom du travailleur",null,null,null,null,null,null,null,null,null,null,null,null,null,null,null,"Début journée",null,null,"Arrêt repas",null,null,"Fin journée",null,null,"Heures prestées",null,null,null,null,"N°",null,null,"Description du matériel",null,null,null,null,null,null,null,null,null,null,null,null,"Nom de l'opérateur",null,null,null,null,null,null,null,null,"Heures"]
[null,null,null,null,null,null,null,null,null,null,null,null,null,null,null,null,null,null,null,null,null,null,null,null,null,{"$f":"W5-Q5-T5","v":0},null,null,null,null,null,null,null,{"$f":"IF(ISNA(VLOOKUP(AE5,Camions!$B:$F,2,0)),\"\",(VLOOKUP(AE5,Camions!$B:$F,2,0)))","v":""},null,null,null,null,null,null,null,null,null,null,null,null,{"$f":"IF(ISNA(VLOOKUP(AE5,Camions!$B:$F,4,0)),\"\",(VLOOKUP(AE5,Camions!$B:$F,4,0)))","v":""}]
[null,null,null,null,null,null,null,null,null,null,null,null,null,null,null,null,null,null,null,null,null,null,null,null,null,{"$f":"W6-Q6-T6","v":0},null,null,null,null,null,null,null,{"$f":"IF(ISNA(VLOOKUP(AE6,Camions!$B:$F,2,0)),\"\",(VLOOKUP(AE6,Camions!$B:$F,2,0)))","v":""},null,null,null,null,null,null,null,null,null,null,null,null,{"$f":"IF(ISNA(VLOOKUP(AE6,Camions!$B:$F,4,0)),\"\",(VLOOKUP(AE6,Camions!$B:$F,4,0)))","v":""}]
[null,null,null,null,null,null,null,null,null,null,null,null,null,null,null,null,null,null,null,null,null,null,null,null,null,0,null,null,null,null,null,null,null,{"$f":"IF(ISNA(VLOOKUP(AE7,Camions!$B:$F,2,0)),\"\",(VLOOKUP(AE7,Camions!$B:$F,2,0)))","v":""},null,null,null,null,null,null,null,null,null,null,null,null,{"$f":"IF(ISNA(VLOOKUP(AE7,Camions!$B:$F,4,0)),\"\",(VLOOKUP(AE7,Camions!$B:$F,4,0)))","v":""}]
[null,null,null,null,null,null,null,null,null,null,null,null,null,null,null,null,null,null,null,null,null,null,null,null,null,0,null,null,null,null,null,null,null,{"$f":"IF(ISNA(VLOOKUP(AE8,Camions!$B:$F,2,0)),\"\",(VLOOKUP(AE8,Camions!$B:$F,2,0)))","v":""},null,null,null,null,null,null,null,null,null,null,null,null,{"$f":"IF(ISNA(VLOOKUP(AE8,Camions!$B:$F,4,0)),\"\",(VLOOKUP(AE8,Camions!$B:$F,4,0)))","v":""}]
[null,null,null,null,null,null,null,null,null,null,null,null,null,null,null,null,null,null,null,null,null,null,null,null,null,0,null,null,null,null,null,null,null,{"$f":"IF(ISNA(VLOOKUP(AE9,Camions!$B:$F,2,0)),\"\",(VLOOKUP(AE9,Camions!$B:$F,2,0)))","v":""},null,null,null,null,null,null,null,null,null,null,null,null,{"$f":"IF(ISNA(VLOOKUP(AE9,Camions!$B:$F,4,0)),\"\",(VLOOKUP(AE9,Camions!$B:$F,4,0)))","v":""}]
[null,null,null,null,null,null,null,null,null,null,null,null,null,null,null,null,null,null,null,null,null,null,null,null,null,0,null,null,null,null,null,null,null,{"$f":"IF(ISNA(VLOOKUP(AE10,Camions!$B:$F,2,0)),\"\",(VLOOKUP(AE10,Camions!$B:$F,2,0)))","v":""},null,null,null,null,null,null,null,null,null,null,null,null,{"$f":"IF(ISNA(VLOOKUP(AE10,Camions!$B:$F,4,0)),\"\",(VLOOKUP(AE10,Camions!$B:$F,4,0)))","v":""}]
[null,null,null,null,null,null,null,null,null,null,null,null,null,null,null,null,null,null,null,null,null,null,null,null,null,0,null,null,null,null,null,null,null,{"$f":"IF(ISNA(VLOOKUP(AE11,Camions!$B:$F,2,0)),\"\",(VLOOKUP(AE11,Camions!$B:$F,2,0)))","v":""},null,null,null,null,null,null,null,null,null,null,null,null,{"$f":"IF(ISNA(VLOOKUP(AE11,Camions!$B:$F,4,0)),\"\",(VLOOKUP(AE11,Camions!$B:$F,4,0)))","v":""}]
[null,null,null,null,null,null,null,null,null,null,null,null,null,null,null,null,null,null,null,null,null,null,null,null,null,0,null,null,null,null,null,null,null,{"$f":"IF(ISNA(VLOOKUP(AE12,Camions!$B:$F,2,0)),\"\",(VLOOKUP(AE12,Camions!$B:$F,2,0)))","v":""},null,null,null,null,null,null,null,null,null,null,null,null,{"$f":"IF(ISNA(VLOOKUP(AE12,Camions!$B:$F,4,0)),\"\",(VLOOKUP(AE12,Camions!$B:$F,4,0)))","v":""}]
[null,null,null,null,null,null,null,null,null,null,null,null,null,null,null,null,null,null,null,null,null,null,null,null,null,0,null,null,null,null,null,null,null,{"$f":"IF(ISNA(VLOOKUP(AE13,Camions!$B:$F,2,0)),\"\",(VLOOKUP(AE13,Camions!$B:$F,2,0)))","v":""},null,null,null,null,null,null,null,null,null,null,null,null,{"$f":"IF(ISNA(VLOOKUP(AE13,Camions!$B:$F,4,0)),\"\",(VLOOKUP(AE13,Camions!$B:$F,4,0)))","v":""}]
[null,null,null,null,null,null,null,null,null,null,null,null,null,null,null,null,null,null,null,null,null,null,null,null,null,0,null,null,null,null,null,null,null,{"$f":"IF(ISNA(VLOOKUP(AE14,Camions!$B:$F,2,0)),\"\",(VLOOKUP(AE14,Camions!$B:$F,2,0)))","v":""},null,null,null,null,null,null,null,null,null,null,null,null,{"$f":"IF(ISNA(VLOOKUP(AE14,Camions!$B:$F,4,0)),\"\",(VLOOKUP(AE14,Camions!$B:$F,4,0)))","v":""}]
[null,null,null,null,null,null,null,null,null,null,null,null,null,null,null,null,null,null,null,null,null,null,null,null,null,0,null,null,null,null,null,null,null,{"$f":"IF(ISNA(VLOOKUP(AE15,Camions!$B:$F,2,0)),\"\",(VLOOKUP(AE15,Camions!$B:$F,2,0)))","v":""},null,null,null,null,null,null,null,null,null,null,null,null,{"$f":"IF(ISNA(VLOOKUP(AE15,Camions!$B:$F,4,0)),\"\",(VLOOKUP(AE15,Camions!$B:$F,4,0)))","v":""}]
[null,null,null,null,null,null,null,null,null,null,null,null,null,null,null,null,null,null,null,null,null,null,null,null,null,0,null,null,null,null,null,null,null,{"$f":"IF(ISNA(VLOOKUP(AE16,Camions!$B:$F,2,0)),\"\",(VLOOKUP(AE16,Camions!$B:$F,2,0)))","v":""},null,null,null,null,null,null,null,null,null,null,null,null,{"$f":"IF(ISNA(VLOOKUP(AE16,Camions!$B:$F,4,0)),\"\",(VLOOKUP(AE16,Camions!$B:$F,4,0)))","v":""}]
[null,null,null,null,null,null,null,null,null,null,null,null,null,null,null,null,null,null,null,null,null,null,null,null,null,0,null,null,null,null,null,null,null,{"$f":"IF(ISNA(VLOOKUP(AE17,Camions!$B:$F,2,0)),\"\",(VLOOKUP(AE17,Camions!$B:$F,2,0)))","v":""},null,null,null,null,null,null,null,null,null,null,null,null,{"$f":"IF(ISNA(VLOOKUP(AE17,Camions!$B:$F,4,0)),\"\",(VLOOKUP(AE17,Camions!$B:$F,4,0)))","v":""}]
[null,null,null,null,null,null,null,null,null,null,null,null,null,null,null,null,null,null,null,null,null,null,null,null,null,0,null,null,null,null,null,null,null,{"$f":"IF(ISNA(VLOOKUP(AE18,Camions!$B:$F,2,0)),\"\",(VLOOKUP(AE18,Camions!$B:$F,2,0)))","v":""},null,null,null,null,null,null,null,null,null,null,null,null,{"$f":"IF(ISNA(VLOOKUP(AE18,Camions!$B:$F,4,0)),\"\",(VLOOKUP(AE18,Camions!$B:$F,4,0)))","v":""}]
[null,null,null,null,null,null,null,null,null,null,null,null,null,null,null,null,null,null,null,null,null,null,null,null,null,0,null,null,null,null,null,null,null,{"$f":"IF(ISNA(VLOOKUP(AE19,Camions!$B:$F,2,0)),\"\",(VLOOKUP(AE19,Camions!$B:$F,2,0)))","v":""},null,null,null,null,null,null,null,null,null,null,null,null,{"$f":"IF(ISNA(VLOOKUP(AE19,Camions!$B:$F,4,0)),\"\",(VLOOKUP(AE19,Camions!$B:$F,4,0)))","v":""}]
[null,null,null,null,null,null,null,null,null,null,null,null,null,null,null,null,null,null,null,null,null,null,null,null,null,0,null,null,null,null,null,null,null,{"$f":"IF(ISNA(VLOOKUP(AE20,Camions!$B:$F,2,0)),\"\",(VLOOKUP(AE20,Camions!$B:$F,2,0)))","v":""},null,null,null,null,null,null,null,null,null,null,null,null,{"$f":"IF(ISNA(VLOOKUP(AE20,Camions!$B:$F,4,0)),\"\",(VLOOKUP(AE20,Camions!$B:$F,4,0)))","v":""}]
[null,null,null,null,null,null,null,null,null,null,null,null,null,null,null,null,null,null,null,null,null,null,null,null,null,0,null,null,null,null,null,null,null,{"$f":"IF(ISNA(VLOOKUP(AE21,Camions!$B:$F,2,0)),\"\",(VLOOKUP(AE21,Camions!$B:$F,2,0)))","v":""},null,null,null,null,null,null,null,null,null,null,null,null,{"$f":"IF(ISNA(VLOOKUP(AE21,Camions!$B:$F,4,0)),\"\",(VLOOKUP(AE21,Camions!$B:$F,4,0)))","v":""}]
[null,null,null,null,null,null,null,null,null,null,null,null,null,null,null,null,null,null,null,null,null,null,null,null,null,0,null,null,null,null,null,null,null,{"$f":"IF(ISNA(VLOOKUP(AE22,Camions!$B:$F,2,0)),\"\",(VLOOKUP(AE22,Camions!$B:$F,2,0)))","v":""},null,null,null,null,null,null,null,null,null,null,null,null,{"$f":"IF(ISNA(VLOOKUP(AE22,Camions!$B:$F,4,0)),\"\",(VLOOKUP(AE22,Camions!$B:$F,4,0)))","v":""}]
[null,null,null,null,null,null,null,null,null,null,null,null,null,null,null,null,null,null,null,null,null,null,null,null,null,0,null,null,null,null,null,null,null,{"$f":"IF(ISNA(VLOOKUP(AE23,Camions!$B:$F,2,0)),\"\",(VLOOKUP(AE23,Camions!$B:$F,2,0)))","v":""},null,null,null,null,null,null,null,null,null,null,null,null,{"$f":"IF(ISNA(VLOOKUP(AE23,Camions!$B:$F,4,0)),\"\",(VLOOKUP(AE23,Camions!$B:$F,4,0)))","v":""}]
[null,null,null,null,null,null,null,null,null,null,null,null,null,null,null,null,null,null,null,null,null,null,null,null,null,0,null,null,null,null,null,null,null,{"$f":"IF(ISNA(VLOOKUP(AE24,Camions!$B:$F,2,0)),\"\",(VLOOKUP(AE24,Camions!$B:$F,2,0)))","v":""},null,null,null,null,null,null,null,null,null,null,null,null,{"$f":"IF(ISNA(VLOOKUP(AE24,Camions!$B:$F,4,0)),\"\",(VLOOKUP(AE24,Camions!$B:$F,4,0)))","v":""}]
[null,null,null,null,null,null,null,null,null,null,null,null,null,null,null,null,null,null,null,null,null,null,null,null,null,0,null,null,null,null,null,null,null,{"$f":"IF(ISNA(VLOOKUP(AE25,Camions!$B:$F,2,0)),\"\",(VLOOKUP(AE25,Camions!$B:$F,2,0)))","v":""},null,null,null,null,null,null,null,null,null,null,null,null,{"$f":"IF(ISNA(VLOOKUP(AE25,Camions!$B:$F,4,0)),\"\",(VLOOKUP(AE25,Camions!$B:$F,4,0)))","v":""}]
[null,null,null,null,null,null,null,null,null,null,null,null,null,null,null,null,null,null,null,null,null,null,null,null,null,0,null,null,null,null,null,null,null,{"$f":"IF(ISNA(VLOOKUP(AE26,Camions!$B:$F,2,0)),\"\",(VLOOKUP(AE26,Camions!$B:$F,2,0)))","v":""},null,null,null,null,null,null,null,null,null,null,null,null,{"$f":"IF(ISNA(VLOOKUP(AE26,Camions!$B:$F,4,0)),\"\",(VLOOKUP(AE26,Camions!$B:$F,4,0)))","v":""}]
[null,null,null,null,null,null,null,null,null,null,null,null,null,null,null,null,null,null,null,null,null,null,null,null,null,0,null,null,null,null,null,null,null,{"$f":"IF(ISNA(VLOOKUP(AE27,Camions!$B:$F,2,0)),\"\",(VLOOKUP(AE27,Camions!$B:$F,2,0)))","v":""},null,null,null,null,null,null,null,null,null,null,null,null,{"$f":"IF(ISNA(VLOOKUP(AE27,Camions!$B:$F,4,0)),\"\",(VLOOKUP(AE27,Camions!$B:$F,4,0)))","v":""}]
[null,null,null,null,null,null,null,null,null,null,null,null,null,null,null,null,null,null,null,null,null,null,null,null,null,0,null,null,null,null,null,null,null,{"$f":"IF(ISNA(VLOOKUP(AE28,Camions!$B:$F,2,0)),\"\",(VLOOKUP(AE28,Camions!$B:$F,2,0)))","v":""},null,null,null,null,null,null,null,null,null,null,null,null,{"$f":"IF(ISNA(VLOOKUP(AE28,Camions!$B:$F,4,0)),\"\",(VLOOKUP(AE28,Camions!$B:$F,4,0)))","v":""}]
[null,null,null,null,null,null,null,null,null,null,null,null,null,null,null,null,null,null,null,null,null,null,null,null,null,0,null,null,null,null,null,null,null,{"$f":"IF(ISNA(VLOOKUP(AE29,Camions!$B:$F,2,0)),\"\",(VLOOKUP(AE29,Camions!$B:$F,2,0)))","v":""},null,null,null,null,null,null,null,null,null,null,null,null,{"$f":"IF(ISNA(VLOOKUP(AE29,Camions!$B:$F,4,0)),\"\",(VLOOKUP(AE29,Camions!$B:$F,4,0)))","v":""}]
[null,null,null,null,null,null,null,null,null,null,null,null,null,null,null,null,null,null,null,null,null,null,null,null,null,0,null,null,null,null,null,null,null,{"$f":"IF(ISNA(VLOOKUP(AE30,Camions!$B:$F,2,0)),\"\",(VLOOKUP(AE30,Camions!$B:$F,2,0)))","v":""},null,null,null,null,null,null,null,null,null,null,null,null,{"$f":"IF(ISNA(VLOOKUP(AE30,Camions!$B:$F,4,0)),\"\",(VLOOKUP(AE30,Camions!$B:$F,4,0)))","v":""}]
[null,null,null,null,null,null,null,null,null,null,null,null,null,null,null,null,null,null,null,null,null,null,null,null,null,0,null,null,null,null,null,null,null,{"$f":"IF(ISNA(VLOOKUP(AE31,Camions!$B:$F,2,0)),\"\",(VLOOKUP(AE31,Camions!$B:$F,2,0)))","v":""},null,null,null,null,null,null,null,null,null,null,null,null,{"$f":"IF(ISNA(VLOOKUP(AE31,Camions!$B:$F,4,0)),\"\",(VLOOKUP(AE31,Camions!$B:$F,4,0)))","v":""}]
[null,null,null,null,null,null,null,null,null,null,null,null,null,null,null,null,null,null,null,null,null,null,null,null,null,0,null,null,null,null,null,null,null,{"$f":"IF(ISNA(VLOOKUP(AE32,Camions!$B:$F,2,0)),\"\",(VLOOKUP(AE32,Camions!$B:$F,2,0)))","v":""},null,null,null,null,null,null,null,null,null,null,null,null,{"$f":"IF(ISNA(VLOOKUP(AE32,Camions!$B:$F,4,0)),\"\",(VLOOKUP(AE32,Camions!$B:$F,4,0)))","v":""}]
[null,null,null,null,null,null,null,null,null,null,null,null,null,null,null,null,null,null,null,null,null,null,null,null,null,0,null,null,null,null,null,null,null,{"$f":"IF(ISNA(VLOOKUP(AE33,Camions!$B:$F,2,0)),\"\",(VLOOKUP(AE33,Camions!$B:$F,2,0)))","v":""},null,null,null,null,null,null,null,null,null,null,null,null,{"$f":"IF(ISNA(VLOOKUP(AE33,Camions!$B:$F,4,0)),\"\",(VLOOKUP(AE33,Camions!$B:$F,4,0)))","v":""}]
[null,null,null,null,null,null,null,null,null,null,null,null,null,null,null,null,null,null,null,null,null,null,null,null,null,0,null,null,null,null,null,null,null,{"$f":"IF(ISNA(VLOOKUP(AE34,Camions!$B:$F,2,0)),\"\",(VLOOKUP(AE34,Camions!$B:$F,2,0)))","v":""},null,null,null,null,null,null,null,null,null,null,null,null,{"$f":"IF(ISNA(VLOOKUP(AE34,Camions!$B:$F,4,0)),\"\",(VLOOKUP(AE34,Camions!$B:$F,4,0)))","v":""}]
[null,null,null,null,null,null,null,null,null,null,null,null,null,null,null,null,null,null,null,null,null,null,null,null,null,0,null,null,null,null,null,null,null,{"$f":"IF(ISNA(VLOOKUP(AE35,Camions!$B:$F,2,0)),\"\",(VLOOKUP(AE35,Camions!$B:$F,2,0)))","v":""},null,null,null,null,null,null,null,null,null,null,null,null,{"$f":"IF(ISNA(VLOOKUP(AE35,Camions!$B:$F,4,0)),\"\",(VLOOKUP(AE35,Camions!$B:$F,4,0)))","v":""}]
[null,null,null,null,null,null,null,null,null,null,null,null,null,null,null,null,null,null,null,null,null,null,null,null,null,0,null,null,null,null,null,null,null,{"$f":"IF(ISNA(VLOOKUP(AE36,Camions!$B:$F,2,0)),\"\",(VLOOKUP(AE36,Camions!$B:$F,2,0)))","v":""},null,null,null,null,null,null,null,null,null,null,null,null,{"$f":"IF(ISNA(VLOOKUP(AE36,Camions!$B:$F,4,0)),\"\",(VLOOKUP(AE36,Camions!$B:$F,4,0)))","v":""}]
[null,null,null,null,null,null,null,null,null,null,null,null,null,null,null,null,null,null,null,null,null,null,null,null,null,0,null,null,null,null,null,null,null,{"$f":"IF(ISNA(VLOOKUP(AE37,Camions!$B:$F,2,0)),\"\",(VLOOKUP(AE37,Camions!$B:$F,2,0)))","v":""},null,null,null,null,null,null,null,null,null,null,null,null,{"$f":"IF(ISNA(VLOOKUP(AE36,Camions!$B:$F,4,0)),\"\",(VLOOKUP(AE36,Camions!$B:$F,4,0)))","v":""}]
["CHANTIER :",null,null,null,null,{"$f":"F1","v":0},null,null,null,null,null,null,null,null,null,null,null,null,null,null,"N° CHANTIER :",null,null,null,null,null,{"$f":"AA1","v":0},null,null,null,"JOUR :",null,null,null,{"$f":"AI1","v":"Dimanche"},null,null,null,null,null,null,null,null,null,null,null,null,null,null,null,null,"DATES :",null,null,{"$f":"BC1","v":"31-01-16"}]
["MATERIEL",null,null,null,null,null,null,null,null,null,null,null,null,null,null,null,null,null,null,null,null,null,null,null,null,null,null,null,null,null,"SOUS-TRAITANTS"]
["Légende :",null,null,null,null,"Pa",".= Panne",null,null,null,null,"Ent",".= Entretien"]
["N°",null,null,"Description du matériel",null,null,null,null,null,null,null,null,null,null,null,null,"Nom de l'opérateur",null,null,null,null,null,null,null,null,"Heures",null,null,null,null,"Type d'engin et description des travaux ",null,null,null,null,null,null,null,null,null,null,null,null,null,null,null,"Sous-traitants",null,null,null,null,null,null,null,null,"Heures"]
[null,null,null,{"$f":"IF(ISNA(VLOOKUP(A42,Machines!$B:$F,2,0)),\"\",(VLOOKUP(A42,Machines!$B:$F,2,0)))","v":""},null,null,null,null,null,null,null,null,null,null,null,null,{"$f":"IF(ISNA(VLOOKUP(A42,Machines!$B:$F,4,0)),\"\",(VLOOKUP(A42,Machines!$B:$F,4,0)))","v":""}]
[null,null,null,{"$f":"IF(ISNA(VLOOKUP(A43,Machines!$B:$F,2,0)),\"\",(VLOOKUP(A43,Machines!$B:$F,2,0)))","v":""},null,null,null,null,null,null,null,null,null,null,null,null,{"$f":"IF(ISNA(VLOOKUP(A43,Machines!$B:$F,4,0)),\"\",(VLOOKUP(A43,Machines!$B:$F,4,0)))","v":""}]
[null,null,null,{"$f":"IF(ISNA(VLOOKUP(A44,Machines!$B:$F,2,0)),\"\",(VLOOKUP(A44,Machines!$B:$F,2,0)))","v":""},null,null,null,null,null,null,null,null,null,null,null,null,{"$f":"IF(ISNA(VLOOKUP(A44,Machines!$B:$F,4,0)),\"\",(VLOOKUP(A44,Machines!$B:$F,4,0)))","v":""}]
[null,null,null,{"$f":"IF(ISNA(VLOOKUP(A45,Machines!$B:$F,2,0)),\"\",(VLOOKUP(A45,Machines!$B:$F,2,0)))","v":""},null,null,null,null,null,null,null,null,null,null,null,null,{"$f":"IF(ISNA(VLOOKUP(A45,Machines!$B:$F,4,0)),\"\",(VLOOKUP(A45,Machines!$B:$F,4,0)))","v":""}]
[null,null,null,{"$f":"IF(ISNA(VLOOKUP(A46,Machines!$B:$F,2,0)),\"\",(VLOOKUP(A46,Machines!$B:$F,2,0)))","v":""},null,null,null,null,null,null,null,null,null,null,null,null,{"$f":"IF(ISNA(VLOOKUP(A46,Machines!$B:$F,4,0)),\"\",(VLOOKUP(A46,Machines!$B:$F,4,0)))","v":""}]
[null,null,null,{"$f":"IF(ISNA(VLOOKUP(A47,Machines!$B:$F,2,0)),\"\",(VLOOKUP(A47,Machines!$B:$F,2,0)))","v":""},null,null,null,null,null,null,null,null,null,null,null,null,{"$f":"IF(ISNA(VLOOKUP(A47,Machines!$B:$F,4,0)),\"\",(VLOOKUP(A47,Machines!$B:$F,4,0)))","v":""}]
[null,null,null,{"$f":"IF(ISNA(VLOOKUP(A48,Machines!$B:$F,2,0)),\"\",(VLOOKUP(A48,Machines!$B:$F,2,0)))","v":""},null,null,null,null,null,null,null,null,null,null,null,null,{"$f":"IF(ISNA(VLOOKUP(A48,Machines!$B:$F,4,0)),\"\",(VLOOKUP(A48,Machines!$B:$F,4,0)))","v":""}]
[null,null,null,{"$f":"IF(ISNA(VLOOKUP(A49,Machines!$B:$F,2,0)),\"\",(VLOOKUP(A49,Machines!$B:$F,2,0)))","v":""},null,null,null,null,null,null,null,null,null,null,null,null,{"$f":"IF(ISNA(VLOOKUP(A49,Machines!$B:$F,4,0)),\"\",(VLOOKUP(A49,Machines!$B:$F,4,0)))","v":""}]
[null,null,null,{"$f":"IF(ISNA(VLOOKUP(A50,Machines!$B:$F,2,0)),\"\",(VLOOKUP(A50,Machines!$B:$F,2,0)))","v":""},null,null,null,null,null,null,null,null,null,null,null,null,{"$f":"IF(ISNA(VLOOKUP(A50,Machines!$B:$F,4,0)),\"\",(VLOOKUP(A50,Machines!$B:$F,4,0)))","v":""}]
[null,null,null,{"$f":"IF(ISNA(VLOOKUP(A51,Machines!$B:$F,2,0)),\"\",(VLOOKUP(A51,Machines!$B:$F,2,0)))","v":""},null,null,null,null,null,null,null,null,null,null,null,null,{"$f":"IF(ISNA(VLOOKUP(A51,Machines!$B:$F,4,0)),\"\",(VLOOKUP(A51,Machines!$B:$F,4,0)))","v":""}]
[null,null,null,{"$f":"IF(ISNA(VLOOKUP(A52,Machines!$B:$F,2,0)),\"\",(VLOOKUP(A52,Machines!$B:$F,2,0)))","v":""},null,null,null,null,null,null,null,null,null,null,null,null,{"$f":"IF(ISNA(VLOOKUP(A52,Machines!$B:$F,4,0)),\"\",(VLOOKUP(A52,Machines!$B:$F,4,0)))","v":""}]
[null,null,null,{"$f":"IF(ISNA(VLOOKUP(A53,Machines!$B:$F,2,0)),\"\",(VLOOKUP(A53,Machines!$B:$F,2,0)))","v":""},null,null,null,null,null,null,null,null,null,null,null,null,{"$f":"IF(ISNA(VLOOKUP(A53,Machines!$B:$F,4,0)),\"\",(VLOOKUP(A53,Machines!$B:$F,4,0)))","v":""}]
[null,null,null,{"$f":"IF(ISNA(VLOOKUP(A54,Machines!$B:$F,2,0)),\"\",(VLOOKUP(A54,Machines!$B:$F,2,0)))","v":""},null,null,null,null,null,null,null,null,null,null,null,null,{"$f":"IF(ISNA(VLOOKUP(A54,Machines!$B:$F,4,0)),\"\",(VLOOKUP(A54,Machines!$B:$F,4,0)))","v":""}]
[null,null,null,{"$f":"IF(ISNA(VLOOKUP(A55,Machines!$B:$F,2,0)),\"\",(VLOOKUP(A55,Machines!$B:$F,2,0)))","v":""},null,null,null,null,null,null,null,null,null,null,null,null,{"$f":"IF(ISNA(VLOOKUP(A55,Machines!$B:$F,4,0)),\"\",(VLOOKUP(A55,Machines!$B:$F,4,0)))","v":""}]
[null,null,null,{"$f":"IF(ISNA(VLOOKUP(A56,Machines!$B:$F,2,0)),\"\",(VLOOKUP(A56,Machines!$B:$F,2,0)))","v":""},null,null,null,null,null,null,null,null,null,null,null,null,{"$f":"IF(ISNA(VLOOKUP(A56,Machines!$B:$F,4,0)),\"\",(VLOOKUP(A56,Machines!$B:$F,4,0)))","v":""}]
[null,null,null,{"$f":"IF(ISNA(VLOOKUP(A57,Machines!$B:$F,2,0)),\"\",(VLOOKUP(A57,Machines!$B:$F,2,0)))","v":""},null,null,null,null,null,null,null,null,null,null,null,null,{"$f":"IF(ISNA(VLOOKUP(A57,Machines!$B:$F,4,0)),\"\",(VLOOKUP(A57,Machines!$B:$F,4,0)))","v":""}]
[null,null,null,{"$f":"IF(ISNA(VLOOKUP(A58,Machines!$B:$F,2,0)),\"\",(VLOOKUP(A58,Machines!$B:$F,2,0)))","v":""},null,null,null,null,null,null,null,null,null,null,null,null,{"$f":"IF(ISNA(VLOOKUP(A58,Machines!$B:$F,4,0)),\"\",(VLOOKUP(A58,Machines!$B:$F,4,0)))","v":""}]
[null,null,null,{"$f":"IF(ISNA(VLOOKUP(A59,Machines!$B:$F,2,0)),\"\",(VLOOKUP(A59,Machines!$B:$F,2,0)))","v":""},null,null,null,null,null,null,null,null,null,null,null,null,{"$f":"IF(ISNA(VLOOKUP(A59,Machines!$B:$F,4,0)),\"\",(VLOOKUP(A59,Machines!$B:$F,4,0)))","v":""}]
[null,null,null,{"$f":"IF(ISNA(VLOOKUP(A60,Machines!$B:$F,2,0)),\"\",(VLOOKUP(A60,Machines!$B:$F,2,0)))","v":""},null,null,null,null,null,null,null,null,null,null,null,null,{"$f":"IF(ISNA(VLOOKUP(A60,Machines!$B:$F,4,0)),\"\",(VLOOKUP(A60,Machines!$B:$F,4,0)))","v":""}]
[null,null,null,{"$f":"IF(ISNA(VLOOKUP(A61,Machines!$B:$F,2,0)),\"\",(VLOOKUP(A61,Machines!$B:$F,2,0)))","v":""},null,null,null,null,null,null,null,null,null,null,null,null,{"$f":"IF(ISNA(VLOOKUP(A61,Machines!$B:$F,4,0)),\"\",(VLOOKUP(A61,Machines!$B:$F,4,0)))","v":""}]
[null,null,null,{"$f":"IF(ISNA(VLOOKUP(A62,Machines!$B:$F,2,0)),\"\",(VLOOKUP(A62,Machines!$B:$F,2,0)))","v":""},null,null,null,null,null,null,null,null,null,null,null,null,{"$f":"IF(ISNA(VLOOKUP(A62,Machines!$B:$F,4,0)),\"\",(VLOOKUP(A62,Machines!$B:$F,4,0)))","v":""}]
[null,null,null,{"$f":"IF(ISNA(VLOOKUP(A63,Machines!$B:$F,2,0)),\"\",(VLOOKUP(A63,Machines!$B:$F,2,0)))","v":""},null,null,null,null,null,null,null,null,null,null,null,null,{"$f":"IF(ISNA(VLOOKUP(A63,Machines!$B:$F,4,0)),\"\",(VLOOKUP(A63,Machines!$B:$F,4,0)))","v":""}]
[null,null,null,{"$f":"IF(ISNA(VLOOKUP(A64,Machines!$B:$F,2,0)),\"\",(VLOOKUP(A64,Machines!$B:$F,2,0)))","v":""},null,null,null,null,null,null,null,null,null,null,null,null,{"$f":"IF(ISNA(VLOOKUP(A64,Machines!$B:$F,4,0)),\"\",(VLOOKUP(A64,Machines!$B:$F,4,0)))","v":""}]
[null,null,null,{"$f":"IF(ISNA(VLOOKUP(A65,Machines!$B:$F,2,0)),\"\",(VLOOKUP(A65,Machines!$B:$F,2,0)))","v":""},null,null,null,null,null,null,null,null,null,null,null,null,{"$f":"IF(ISNA(VLOOKUP(A65,Machines!$B:$F,4,0)),\"\",(VLOOKUP(A65,Machines!$B:$F,4,0)))","v":""}]
[null,null,null,{"$f":"IF(ISNA(VLOOKUP(A66,Machines!$B:$F,2,0)),\"\",(VLOOKUP(A66,Machines!$B:$F,2,0)))","v":""},null,null,null,null,null,null,null,null,null,null,null,null,{"$f":"IF(ISNA(VLOOKUP(A66,Machines!$B:$F,4,0)),\"\",(VLOOKUP(A66,Machines!$B:$F,4,0)))","v":""}]
[null,null,null,{"$f":"IF(ISNA(VLOOKUP(A67,Machines!$B:$F,2,0)),\"\",(VLOOKUP(A67,Machines!$B:$F,2,0)))","v":""},null,null,null,null,null,null,null,null,null,null,null,null,{"$f":"IF(ISNA(VLOOKUP(A67,Machines!$B:$F,4,0)),\"\",(VLOOKUP(A67,Machines!$B:$F,4,0)))","v":""}]
[null,null,null,{"$f":"IF(ISNA(VLOOKUP(A68,Machines!$B:$F,2,0)),\"\",(VLOOKUP(A68,Machines!$B:$F,2,0)))","v":""},null,null,null,null,null,null,null,null,null,null,null,null,{"$f":"IF(ISNA(VLOOKUP(A68,Machines!$B:$F,4,0)),\"\",(VLOOKUP(A68,Machines!$B:$F,4,0)))","v":""}]
[null,null,null,{"$f":"IF(ISNA(VLOOKUP(A69,Machines!$B:$F,2,0)),\"\",(VLOOKUP(A69,Machines!$B:$F,2,0)))","v":""},null,null,null,null,null,null,null,null,null,null,null,null,{"$f":"IF(ISNA(VLOOKUP(A69,Machines!$B:$F,4,0)),\"\",(VLOOKUP(A69,Machines!$B:$F,4,0)))","v":""}]
[null,null,null,{"$f":"IF(ISNA(VLOOKUP(A70,Machines!$B:$F,2,0)),\"\",(VLOOKUP(A70,Machines!$B:$F,2,0)))","v":""},null,null,null,null,null,null,null,null,null,null,null,null,{"$f":"IF(ISNA(VLOOKUP(A70,Machines!$B:$F,4,0)),\"\",(VLOOKUP(A70,Machines!$B:$F,4,0)))","v":""}]
[null,null,null,{"$f":"IF(ISNA(VLOOKUP(A71,Machines!$B:$F,2,0)),\"\",(VLOOKUP(A71,Machines!$B:$F,2,0)))","v":""},null,null,null,null,null,null,null,null,null,null,null,null,{"$f":"IF(ISNA(VLOOKUP(A71,Machines!$B:$F,4,0)),\"\",(VLOOKUP(A71,Machines!$B:$F,4,0)))","v":""}]
[null,null,null,{"$f":"IF(ISNA(VLOOKUP(A72,Machines!$B:$F,2,0)),\"\",(VLOOKUP(A72,Machines!$B:$F,2,0)))","v":""},null,null,null,null,null,null,null,null,null,null,null,null,{"$f":"IF(ISNA(VLOOKUP(A72,Machines!$B:$F,4,0)),\"\",(VLOOKUP(A72,Machines!$B:$F,4,0)))","v":""}]
[null,null,null,{"$f":"IF(ISNA(VLOOKUP(A73,Machines!$B:$F,2,0)),\"\",(VLOOKUP(A73,Machines!$B:$F,2,0)))","v":""},null,null,null,null,null,null,null,null,null,null,null,null,{"$f":"IF(ISNA(VLOOKUP(A73,Machines!$B:$F,4,0)),\"\",(VLOOKUP(A73,Machines!$B:$F,4,0)))","v":""}]
[null,null,null,{"$f":"IF(ISNA(VLOOKUP(A74,Machines!$B:$F,2,0)),\"\",(VLOOKUP(A74,Machines!$B:$F,2,0)))","v":""},null,null,null,null,null,null,null,null,null,null,null,null,{"$f":"IF(ISNA(VLOOKUP(A74,Machines!$B:$F,4,0)),\"\",(VLOOKUP(A74,Machines!$B:$F,4,0)))","v":""}]
["CHANTIER :",null,null,null,null,{"$f":"F1","v":0},null,null,null,null,null,null,null,null,null,null,null,null,null,null,"N° CHANTIER :",null,null,null,null,null,{"$f":"AA1","v":0},null,null,null,"JOUR :",null,null,null,{"$f":"AI1","v":"Dimanche"},null,null,null,null,null,null,null,null,null,null,null,null,null,null,null,null,"DATES :",null,null,{"$f":"BC1","v":"31-01-16"}]
["MATERIAUX"]
[null,null,null,"Fournisseurs",null,null,null,null,null,null,null,null,null,null,null,null,null,null,"Description des fournitures & matériaux",null,null,null,null,null,null,null,null,null,null,null,null,null,null,null,null,null,null,null,null,null,null,null,null,null,null,null,null,null,null,"Qt totales",null,null,null,"U.",null,"Prix"]
[]
[]
[]
[]
[]
[]
[]
[]
[]
[]
[]
[]
[]
[]
[]
[]
[]
[]
[]
[]
[]
[]
[]
[]
[]
[]
[]
[]
[]
[]
[]
[null,null,null,"RESPONSABLE",null,null,null,null,null,null,null,null,"SIGNATURE",null,null,null,null,null,"DESCRIPTION DES TRAVAUX REALISES CE JOUR",null,null,null,null,null,null,null,null,null,null,null,null,null,null,null,null,null,null,null,null,null,null,null,null,null,null,null,null,null,null,"METEO"]
[null,null,null,"JENNES Loïc"]

{"sheet":"Chantier","index":38,"n_rows":202,"n_cols":45,"rows_kept":202,"cut":false,"hidden":false,"merged":[[188,8,189,36],[191,35,191,36],[192,35,192,36],[194,35,194,36],[197,35,197,36],[198,35,198,36],[200,21,200,23],[201,21,201,23],[198,8,198,10],[198,11,198,13],[198,14,198,16],[198,17,198,19],[198,20,198,22],[198,23,198,25],[198,26,198,28],[198,29,198,31],[198,32,198,34],[197,8,197,10],[197,11,197,13],[197,14,197,16],[197,17,197,19],[197,20,197,22],[197,23,197,25],[197,26,197,28],[192,17,192,19],[192,20,192,22],[192,23,192,25],[192,26,192,28],[192,29,192,31],[192,32,192,34],[197,29,197,31],[197,32,197,34],[195,8,195,10],[195,11,195,13],[195,14,195,16],[195,17,195,19],[195,20,195,22],[195,23,195,25],[195,26,195,28],[195,29,195,31],[195,32,195,34],[187,2,187,3],[187,35,187,36],[188,2,188,3],[194,32,194,34],[194,29,194,31],[194,26,194,28],[194,23,194,25],[194,20,194,22],[194,17,194,19],[194,14,194,16],[194,11,194,13],[194,8,194,10],[191,8,191,10],[191,11,191,13],[191,14,191,16],[191,17,191,19],[191,20,191,22],[191,23,191,25],[191,26,191,28],[191,29,191,31],[191,32,191,34],[192,8,192,10],[192,11,192,13],[192,14,192,16],[175,2,175,3],[169,2,169,3],[170,2,170,3],[171,2,171,3],[172,2,172,3],[173,2,173,3],[174,2,174,3],[163,2,163,3],[164,2,164,3],[165,2,165,3],[166,2,166,3],[167,2,167,3],[168,2,168,3],[157,2,157,3],[158,2,158,3],[159,2,159,3],[160,2,160,3],[161,2,161,3],[162,2,162,3],[151,2,151,3],[152,2,152,3],[153,2,153,3],[154,2,154,3],[155,2,155,3],[156,2,156,3],[143,2,143,3],[144,2,144,3],[145,2,145,3],[146,2,146,3],[147,2,147,3],[148,2,148,3],[139,43,139,44],[140,36,140,41],[140,43,140,44],[141,2,141,3],[141,35,141,36],[142,2,142,3],[102,43,102,44],[103,35,103,36],[138,1,138,5],[138,6,138,44],[139,1,139,3],[139,16,139,19],[139,21,139,24],[139,26,139,29],[139,33,139,34],[139,36,139,41],[64,43,64,44],[65,35,65,36],[100,1,100,5],[100,6,100,44],[101,1,101,3],[101,16,101,19],[101,21,101,24],[101,26,101,29],[101,33,101,34],[101,43,101,44],[62,1,62,5],[62,6,62,44],[63,1,63,3],[63,16,63,19],[63,21,63,24],[63,26,63,29],[63,33,63,34],[63,43,63,44],[56,1,56,3],[57,1,57,3],[58,1,58,3],[59,1,59,3],[60,1,60,3],[61,1,61,3],[50,1,50,3],[51,1,51,3],[52,1,52,3],[53,1,53,3],[54,1,54,3],[55,1,55,3],[44,1,44,3],[45,1,45,3],[46,1,46,3],[47,1,47,3],[48,1,48,3],[49,1,49,3],[38,1,38,3],[39,1,39,3],[40,1,40,3],[41,1,41,3],[42,1,42,3],[43,1,43,3],[32,1,32,3],[33,1,33,3],[34,1,34,3],[35,1,35,3],[36,1,36,3],[37,1,37,3],[27,43,27,44],[28,1,28,3],[28,35,28,36],[29,1,29,3],[30,1,30,3],[31,1,31,3],[24,1,24,5],[24,6,24,44],[26,1,26,3],[26,16,26,19],[26,21,26,24],[26,26,26,29],[26,43,26,44],[15,10,16,19],[15,20,16,30],[17,10,18,19],[17,20,18,30],[19,10,20,19],[19,20,20,30],[9,10,10,19],[9,20,10,30],[11,10,12,19],[11,20,12,30],[13,10,14,19],[13,20,14,30],[0,1,0,4],[0,5,0,44],[3,1,4,44],[5,6,5,9],[5,10,5,13],[5,14,5,17],[5,18,5,21],[5,22,5,26],[7,6,7,9],[7,10,7,13],[7,14,7,17],[7,18,7,21],[7,22,7,26],[6,6,6,9],[6,10,6,13],[6,14,6,17],[6,18,6,21],[6,22,6,26],[6,1,6,5],[7,1,7,5]]}
[null,{"$f":"Dates!A2","v":"2016-01-01"},null,null,null,{"$f":"'31-01-16'!AA1&\" \"&'31-01-16'!F1","v":"0 0"}]
[null,null,null,null,null,7]
[]
[null,"Récapitulatif dépenses du mois"]
[]
[null,null,null,null,null,null,"Beau / Sec",null,null,null,"Couvert",null,null,null,"Neige / Gel",null,null,null,"Pluie",null,null,null,"Sol impraticable"]
[null,"Quantités du mois :",null,null,null,null,{"$f":"COUNTIF(I193:AJ193:I196:AJ196:I196:AJ199:V202,\"Beau/Sec\")","v":0},null,null,null,{"$f":"COUNTIF(I207:AJ207:I210:AJ210:I210:AJ213:V202,\"Couvert\")","v":0},null,null,null,{"$f":"COUNTIF(M207:AN207:M210:AN210:M210:AN213:V202,\"Neige/Gel\")","v":0},null,null,null,{"$f":"COUNTIF(Q207:AR207:Q210:AR210:Q210:AR213:V202,\"Pluie\")","v":0},null,null,null,{"$f":"COUNTIF(Q207:AR207:Q210:AR210:Q210:AR213:V202,\"Sol impraticable\")","v":0}]
[null,"Quantités totales :"]
[]
[null,null,null,null,null,null,null,null,null,null,"1) Mains d'œuvre :",null,null,null,null,null,null,null,null,null,{"$f":"SUM(AM30:AM62)","v":0}]
[]
[null,null,null,null,null,null,null,null,null,null,"2) Machines :",null,null,null,null,null,null,null,null,null,{"$f":"SUM(AM67:AM100)","v":0}]
[]
[null,null,null,null,null,null,null,null,null,null,"3) Camions :",null,null,null,null,null,null,null,null,null,{"$f":"SUM(AM105:AM138)","v":0}]
[]
[null,null,null,null,null,null,null,null,null,null,"4) Sous-traitants :",null,null,null,null,null,null,null,null,null,{"$f":"SUM(AM143:AM176)","v":0}]
[]
[null,null,null,null,null,null,null,null,null,null,"5) Matériaux :",null,null,null,null,null,null,null,null,null,{"$f":"Matériaux!AM87","v":0}]
[]
[null,null,null,null,null,null,null,null,null,null,"TOTAL :",null,null,null,null,null,null,null,null,null,{"$f":"SUM(U10:AE19)","v":0}]
[]
[]
[]
[]
[null,{"$f":"B1","v":"2016-01-01"},null,null,null,null,{"$f":"F1","v":"0 0"}]
[null,null,null,{"$f":"B25","v":"2016-01-01"},{"$f":"D26+1","v":"2016-01-02"},{"$f":"E26+1","v":"2016-01-03"},"2016-01-04","2016-01-05","2016-01-06","2016-01-07","2016-01-08","2016-01-09","2016-01-10","2016-01-11","2016-01-12","2016-01-13","2016-01-14","2016-01-15","2016-01-16","2016-01-17","2016-01-18","2016-01-19","2016-01-20","2016-01-21","2016-01-22","2016-01-23","2016-01-24","2016-01-25","2016-01-26","2016-01-27","2016-01-28","2016-01-29",{"$f":"E26+1","v":"2016-01-03"},{"$f":"E26+1","v":"2016-01-03"}]
[null,"MAINS D'ŒUVRES",null,null,null,null,null,null,null,null,null,null,null,null,null,null,".=Pas contrôlé",null,null,null,null,".=OK",null,null,null,null,".=NKO",null,null,null,null,null,null,null,null,null,null,null,"Légende :","Co =","Congé",null,"M = ","Malade"]
[null,null,null,null,null,null,null,null,null,null,null,null,null,null,null,null,null,null,null,null,null,null,null,null,null,null,null,null,null,null,null,null,null,null,null,null,null,null,null,"Cho =","Chômage",null,"Va =","Vacance"]
[null,"NOM - Prénom du travailleur",null,null,"01","02","03","04","05","06","07","08","09","10","11","12","13","14","15","16","17","18","19","20","21","22","23","24","25","26","27","28","29","30","31","Total",null,"P.U.","Somme",null,null,"Co","M","Cho","Va"]
[null,"VAN DEN HOVE Marc",null,null,0,null,null,null,null,null,null,null,null,null,null,null,null,null,null,null,null,null,null,null,null,null,null,null,null,null,null,null,null,null,null,{"$f":"SUM(E30:AI30)","v":0},"h",{"$f":"IF(ISNA(VLOOKUP(B30,'Mains d''oeuvres'!$B:$H,7,0)),\"\",(VLOOKUP(B30,'Mains d''oeuvres'!$B:$H,7,0)))","v":""},{"$f":"IF(ISERROR(AJ30*AL30),\"\",(AJ30*AL30))","v":""},null,null,{"$f":"COUNTIF(E30:AI30,\"Co\")","v":0},{"$f":"COUNTIF(E30:AI30,\"M\")","v":0},{"$f":"COUNTIF(E30:AI30,\"Cho\")","v":0},{"$f":"COUNTIF(E30:AI30,\"Va\")","v":0}]
[null,null,null,null,null,null,null,null,null,null,null,null,null,null,null,null,null,null,null,null,null,null,null,null,null,null,null,null,null,null,null,null,null,null,null,{"$f":"SUM(E31:AI31)","v":0},"h",{"$f":"IF(ISNA(VLOOKUP(B31,'Mains d''oeuvres'!$B:$H,7,0)),\"\",(VLOOKUP(B31,'Mains d''oeuvres'!$B:$H,7,0)))","v":""},"",null,null,{"$f":"COUNTIF(E31:AI31,\"Co\")","v":0},{"$f":"COUNTIF(E31:AI31,\"M\")","v":0},{"$f":"COUNTIF(E31:AI31,\"Cho\")","v":0},{"$f":"COUNTIF(E31:AI31,\"Va\")","v":0}]
[null,null,null,null,null,null,null,null,null,null,null,null,null,null,null,null,null,null,null,null,null,null,null,null,null,null,null,null,null,null,null,null,null,null,null,{"$f":"SUM(E32:AI32)","v":0},"h",{"$f":"IF(ISNA(VLOOKUP(B32,'Mains d''oeuvres'!$B:$H,7,0)),\"\",(VLOOKUP(B32,'Mains d''oeuvres'!$B:$H,7,0)))","v":""},"",null,null,0,0,0,0]
[null,null,null,null,null,null,null,null,null,null,null,null,null,null,null,null,null,null,null,null,null,null,null,null,null,null,null,null,null,null,null,null,null,null,null,0,"h",{"$f":"IF(ISNA(VLOOKUP(B33,'Mains d''oeuvres'!$B:$H,7,0)),\"\",(VLOOKUP(B33,'Mains d''oeuvres'!$B:$H,7,0)))","v":""},"",null,null,0,0,0,0]
[null,null,null,null,null,null,null,null,null,null,null,null,null,null,null,null,null,null,null,null,null,null,null,null,null,null,null,null,null,null,null,null,null,null,null,0,"h",{"$f":"IF(ISNA(VLOOKUP(B34,'Mains d''oeuvres'!$B:$H,7,0)),\"\",(VLOOKUP(B34,'Mains d''oeuvres'!$B:$H,7,0)))","v":""},"",null,null,0,0,0,0]
[null,null,null,null,null,null,null,null,null,null,null,null,null,null,null,null,null,null,null,null,null,null,null,null,null,null,null,null,null,null,null,null,null,null,null,0,"h",{"$f":"IF(ISNA(VLOOKUP(B35,'Mains d''oeuvres'!$B:$H,7,0)),\"\",(VLOOKUP(B35,'Mains d''oeuvres'!$B:$H,7,0)))","v":""},"",null,null,0,0,0,0]
[null,null,null,null,null,null,null,null,null,null,null,null,null,null,null,null,null,null,null,null,null,null,null,null,null,null,null,null,null,null,null,null,null,null,null,0,"h",{"$f":"IF(ISNA(VLOOKUP(B36,'Mains d''oeuvres'!$B:$H,7,0)),\"\",(VLOOKUP(B36,'Mains d''oeuvres'!$B:$H,7,0)))","v":""},"",null,null,0,0,0,0]
[null,null,null,null,null,null,null,null,null,null,null,null,null,null,null,null,null,null,null,null,null,null,null,null,null,null,null,null,null,null,null,null,null,null,null,0,"h",{"$f":"IF(ISNA(VLOOKUP(B37,'Mains d''oeuvres'!$B:$H,7,0)),\"\",(VLOOKUP(B37,'Mains d''oeuvres'!$B:$H,7,0)))","v":""},"",null,null,0,0,0,0]
[null,null,null,null,null,null,null,null,null,null,null,null,null,null,null,null,null,null,null,null,null,null,null,null,null,null,null,null,null,null,null,null,null,null,null,0,"h",{"$f":"IF(ISNA(VLOOKUP(B38,'Mains d''oeuvres'!$B:$H,7,0)),\"\",(VLOOKUP(B38,'Mains d''oeuvres'!$B:$H,7,0)))","v":""},"",null,null,0,0,0,0]
[null,null,null,null,null,null,null,null,null,null,null,null,null,null,null,null,null,null,null,null,null,null,null,null,null,null,null,null,null,null,null,null,null,null,null,0,"h",{"$f":"IF(ISNA(VLOOKUP(B39,'Mains d''oeuvres'!$B:$H,7,0)),\"\",(VLOOKUP(B39,'Mains d''oeuvres'!$B:$H,7,0)))","v":""},"",null,null,0,0,0,0]
[null,null,null,null,null,null,null,null,null,null,null,null,null,null,null,null,null,null,null,null,null,null,null,null,null,null,null,null,null,null,null,null,null,null,null,0,"h",{"$f":"IF(ISNA(VLOOKUP(B40,'Mains d''oeuvres'!$B:$H,7,0)),\"\",(VLOOKUP(B40,'Mains d''oeuvres'!$B:$H,7,0)))","v":""},"",null,null,0,0,0,0]
[null,null,null,null,null,null,null,null,null,null,null,null,null,null,null,null,null,null,null,null,null,null,null,null,null,null,null,null,null,null,null,null,null,null,null,0,"h",{"$f":"IF(ISNA(VLOOKUP(B41,'Mains d''oeuvres'!$B:$H,7,0)),\"\",(VLOOKUP(B41,'Mains d''oeuvres'!$B:$H,7,0)))","v":""},"",null,null,0,0,0,0]
[null,null,null,null,null,null,null,null,null,null,null,null,null,null,null,null,null,null,null,null,null,null,null,null,null,null,null,null,null,null,null,null,null,null,null,0,"h",{"$f":"IF(ISNA(VLOOKUP(B42,'Mains d''oeuvres'!$B:$H,7,0)),\"\",(VLOOKUP(B42,'Mains d''oeuvres'!$B:$H,7,0)))","v":""},"",null,null,0,0,0,0]
[null,null,null,null,null,null,null,null,null,null,null,null,null,null,null,null,null,null,null,null,null,null,null,null,null,null,null,null,null,null,null,null,null,null,null,0,"h",{"$f":"IF(ISNA(VLOOKUP(B43,'Mains d''oeuvres'!$B:$H,7,0)),\"\",(VLOOKUP(B43,'Mains d''oeuvres'!$B:$H,7,0)))","v":""},"",null,null,0,0,0,0]
[null,null,null,null,null,null,null,null,null,null,null,null,null,null,null,null,null,null,null,null,null,null,null,null,null,null,null,null,null,null,null,null,null,null,null,0,"h",{"$f":"IF(ISNA(VLOOKUP(B44,'Mains d''oeuvres'!$B:$H,7,0)),\"\",(VLOOKUP(B44,'Mains d''oeuvres'!$B:$H,7,0)))","v":""},"",null,null,0,0,0,0]
[null,null,null,null,null,null,null,null,null,null,null,null,null,null,null,null,null,null,null,null,null,null,null,null,null,null,null,null,null,null,null,null,null,null,null,0,"h",{"$f":"IF(ISNA(VLOOKUP(B45,'Mains d''oeuvres'!$B:$H,7,0)),\"\",(VLOOKUP(B45,'Mains d''oeuvres'!$B:$H,7,0)))","v":""},"",null,null,0,0,0,0]
[null,null,null,null,null,null,null,null,null,null,null,null,null,null,null,null,null,null,null,null,null,null,null,null,null,null,null,null,null,null,null,null,null,null,null,0,"h",{"$f":"IF(ISNA(VLOOKUP(B46,'Mains d''oeuvres'!$B:$H,7,0)),\"\",(VLOOKUP(B46,'Mains d''oeuvres'!$B:$H,7,0)))","v":""},"",null,null,0,0,0,0]
[null,null,null,null,null,null,null,null,null,null,null,null,null,null,null,null,null,null,null,null,null,null,null,null,null,null,null,null,null,null,null,null,null,null,null,0,"h",{"$f":"IF(ISNA(VLOOKUP(B47,'Mains d''oeuvres'!$B:$H,7,0)),\"\",(VLOOKUP(B47,'Mains d''oeuvres'!$B:$H,7,0)))","v":""},"",null,null,0,0,0,0]
[null,null,null,null,null,null,null,null,null,null,null,null,null,null,null,null,null,null,null,null,null,null,null,null,null,null,null,null,null,null,null,null,null,null,null,0,"h",{"$f":"IF(ISNA(VLOOKUP(B48,'Mains d''oeuvres'!$B:$H,7,0)),\"\",(VLOOKUP(B48,'Mains d''oeuvres'!$B:$H,7,0)))","v":""},"",null,null,0,0,0,0]
[null,null,null,null,null,null,null,null,null,null,null,null,null,null,null,null,null,null,null,null,null,null,null,null,null,null,null,null,null,null,null,null,null,null,null,0,"h",{"$f":"IF(ISNA(VLOOKUP(B49,'Mains d''oeuvres'!$B:$H,7,0)),\"\",(VLOOKUP(B49,'Mains d''oeuvres'!$B:$H,7,0)))","v":""},"",null,null,0,0,0,0]
[null,null,null,null,null,null,null,null,null,null,null,null,null,null,null,null,null,null,null,null,null,null,null,null,null,null,null,null,null,null,null,null,null,null,null,0,"h",{"$f":"IF(ISNA(VLOOKUP(B50,'Mains d''oeuvres'!$B:$H,7,0)),\"\",(VLOOKUP(B50,'Mains d''oeuvres'!$B:$H,7,0)))","v":""},"",null,null,0,0,0,0]
[null,null,null,null,null,null,null,null,null,null,null,null,null,null,null,null,null,null,null,null,null,null,null,null,null,null,null,null,null,null,null,null,null,null,null,0,"h",{"$f":"IF(ISNA(VLOOKUP(B51,'Mains d''oeuvres'!$B:$H,7,0)),\"\",(VLOOKUP(B51,'Mains d''oeuvres'!$B:$H,7,0)))","v":""},"",null,null,0,0,0,0]
[null,null,null,null,null,null,null,null,null,null,null,null,null,null,null,null,null,null,null,null,null,null,null,null,null,null,null,null,null,null,null,null,null,null,null,0,"h",{"$f":"IF(ISNA(VLOOKUP(B52,'Mains d''oeuvres'!$B:$H,7,0)),\"\",(VLOOKUP(B52,'Mains d''oeuvres'!$B:$H,7,0)))","v":""},"",null,null,0,0,0,0]
[null,null,null,null,null,null,null,null,null,null,null,null,null,null,null,null,null,null,null,null,null,null,null,null,null,null,null,null,null,null,null,null,null,null,null,0,"h",{"$f":"IF(ISNA(VLOOKUP(B53,'Mains d''oeuvres'!$B:$H,7,0)),\"\",(VLOOKUP(B53,'Mains d''oeuvres'!$B:$H,7,0)))","v":""},"",null,null,0,0,0,0]
[null,null,null,null,null,null,null,null,null,null,null,null,null,null,null,null,null,null,null,null,null,null,null,null,null,null,null,null,null,null,null,null,null,null,null,0,"h",{"$f":"IF(ISNA(VLOOKUP(B54,'Mains d''oeuvres'!$B:$H,7,0)),\"\",(VLOOKUP(B54,'Mains d''oeuvres'!$B:$H,7,0)))","v":""},"",null,null,0,0,0,0]
[null,null,null,null,null,null,null,null,null,null,null,null,null,null,null,null,null,null,null,null,null,null,null,null,null,null,null,null,null,null,null,null,null,null,null,0,"h",{"$f":"IF(ISNA(VLOOKUP(B55,'Mains d''oeuvres'!$B:$H,7,0)),\"\",(VLOOKUP(B55,'Mains d''oeuvres'!$B:$H,7,0)))","v":""},"",null,null,0,0,0,0]
[null,null,null,null,null,null,null,null,null,null,null,null,null,null,null,null,null,null,null,null,null,null,null,null,null,null,null,null,null,null,null,null,null,null,null,0,"h",{"$f":"IF(ISNA(VLOOKUP(B56,'Mains d''oeuvres'!$B:$H,7,0)),\"\",(VLOOKUP(B56,'Mains d''oeuvres'!$B:$H,7,0)))","v":""},"",null,null,0,0,0,0]
[null,null,null,null,null,null,null,null,null,null,null,null,null,null,null,null,null,null,null,null,null,null,null,null,null,null,null,null,null,null,null,null,null,null,null,0,"h",{"$f":"IF(ISNA(VLOOKUP(B57,'Mains d''oeuvres'!$B:$H,7,0)),\"\",(VLOOKUP(B57,'Mains d''oeuvres'!$B:$H,7,0)))","v":""},"",null,null,0,0,0,0]
[null,null,null,null,null,null,null,null,null,null,null,null,null,null,null,null,null,null,null,null,null,null,null,null,null,null,null,null,null,null,null,null,null,null,null,{"$f":"SUM(E58:AI58)","v":0},"h",{"$f":"IF(ISNA(VLOOKUP(B58,'Mains d''oeuvres'!$B:$H,7,0)),\"\",(VLOOKUP(B58,'Mains d''oeuvres'!$B:$H,7,0)))","v":""},"",null,null,0,0,0,0]
[null,null,null,null,null,null,null,null,null,null,null,null,null,null,null,null,null,null,null,null,null,null,null,null,null,null,null,null,null,null,null,null,null,null,null,{"$f":"SUM(E59:AI59)","v":0},"h",{"$f":"IF(ISNA(VLOOKUP(B59,'Mains d''oeuvres'!$B:$H,7,0)),\"\",(VLOOKUP(B59,'Mains d''oeuvres'!$B:$H,7,0)))","v":""},"",null,null,0,0,0,0]
[null,null,null,null,null,null,null,null,null,null,null,null,null,null,null,null,null,null,null,null,null,null,null,null,null,null,null,null,null,null,null,null,null,null,null,{"$f":"SUM(E60:AI60)","v":0},"h",{"$f":"IF(ISNA(VLOOKUP(B60,'Mains d''oeuvres'!$B:$H,7,0)),\"\",(VLOOKUP(B60,'Mains d''oeuvres'!$B:$H,7,0)))","v":""},"",null,null,0,0,0,0]
[null,null,null,null,null,null,null,null,null,null,null,null,null,null,null,null,null,null,null,null,null,null,null,null,null,null,null,null,null,null,null,null,null,null,null,{"$f":"SUM(E61:AI61)","v":0},"h",{"$f":"IF(ISNA(VLOOKUP(B61,'Mains d''oeuvres'!$B:$H,7,0)),\"\",(VLOOKUP(B61,'Mains d''oeuvres'!$B:$H,7,0)))","v":""},"",null,null,0,0,0,0]
[null,null,null,null,null,null,null,null,null,null,null,null,null,null,null,null,null,null,null,null,null,null,null,null,null,null,null,null,null,null,null,null,null,null,null,0,"h",{"$f":"IF(ISNA(VLOOKUP(B62,'Mains d''oeuvres'!$B:$H,7,0)),\"\",(VLOOKUP(B62,'Mains d''oeuvres'!$B:$H,7,0)))","v":""},"",null,null,0,0,0,0]
[null,{"$f":"B1","v":"2016-01-01"},null,null,null,null,{"$f":"F1","v":"0 0"}]
[null,"MACHINES",null,null,null,null,null,null,null,null,null,null,null,null,null,null,".=Pas contrôlé",null,null,null,null,".=OK",null,null,null,null,".=NKO",null,null,null,null,null,null,null,null,null,null,null,null,null,null,null,"Pa = ","Panne"]
[null,null,null,null,null,null,null,null,null,null,null,null,null,null,null,null,null,null,null,null,null,null,null,null,null,null,null,null,null,null,null,null,null,null,null,null,null,null,null,null,null,null,"Ent =","Entretien"]
[null,"Noms","Titulaire","N°","01","02","03","04","05","06","07","08","09","10","11","12","13","14","15","16","17","18","19","20","21","22","23","24","25","26","27","28","29","30","31","Total",null,"P.U.","Somme",null,null,"Pa","Ent"]
[null,null,null,null,null,null,null,null,null,null,null,null,null,null,null,null,null,null,null,null,null,null,null,null,null,null,null,null,null,null,null,null,null,null,null,{"$f":"SUM(E67:AI67)","v":0},"h",{"$f":"IF(ISNA(VLOOKUP(D67,Machines!$B:$F,5,0)),\"\",(VLOOKUP(D67,Machines!$B:$F,5,0)))","v":""},{"$f":"IF(ISERROR(AJ67*AL67),\"\",(AJ67*AL67))","v":""},null,null,{"$f":"COUNTIF(E67:AI67,\"Pa\")","v":0},{"$f":"COUNTIF(E67:AI67,\"Ent\")","v":0}]
[null,null,null,null,null,null,null,null,null,null,null,null,null,null,null,null,null,null,null,null,null,null,null,null,null,null,null,null,null,null,null,null,null,null,null,0,"h",{"$f":"IF(ISNA(VLOOKUP(D68,Machines!$B:$F,5,0)),\"\",(VLOOKUP(D68,Machines!$B:$F,5,0)))","v":""},"",null,null,{"$f":"COUNTIF(E68:AI68,\"Pa\")","v":0},{"$f":"COUNTIF(E68:AI68,\"Ent\")","v":0}]
[null,null,null,null,null,null,null,null,null,null,null,null,null,null,null,null,null,null,null,null,null,null,null,null,null,null,null,null,null,null,null,null,null,null,null,0,"h",{"$f":"IF(ISNA(VLOOKUP(D69,Machines!$B:$F,5,0)),\"\",(VLOOKUP(D69,Machines!$B:$F,5,0)))","v":""},"",null,null,{"$f":"COUNTIF(E69:AI69,\"Pa\")","v":0},{"$f":"COUNTIF(E69:AI69,\"Ent\")","v":0}]
[null,null,null,null,null,null,null,null,null,null,null,null,null,null,null,null,null,null,null,null,null,null,null,null,null,null,null,null,null,null,null,null,null,null,null,0,"j",{"$f":"IF(ISNA(VLOOKUP(D70,Machines!$B:$F,5,0)),\"\",(VLOOKUP(D70,Machines!$B:$F,5,0)))","v":""},"",null,null,0,0]
[null,null,null,null,null,null,null,null,null,null,null,null,null,null,null,null,null,null,null,null,null,null,null,null,null,null,null,null,null,null,null,null,null,null,null,0,"h",{"$f":"IF(ISNA(VLOOKUP(D71,Machines!$B:$F,5,0)),\"\",(VLOOKUP(D71,Machines!$B:$F,5,0)))","v":""},"",null,null,0,0]
[null,null,null,null,null,null,null,null,null,null,null,null,null,null,null,null,null,null,null,null,null,null,null,null,null,null,null,null,null,null,null,null,null,null,null,0,"h",{"$f":"IF(ISNA(VLOOKUP(D72,Machines!$B:$F,5,0)),\"\",(VLOOKUP(D72,Machines!$B:$F,5,0)))","v":""},"",null,null,0,0]
[null,null,null,null,null,null,null,null,null,null,null,null,null,null,null,null,null,null,null,null,null,null,null,null,null,null,null,null,null,null,null,null,null,null,null,0,"h",{"$f":"IF(ISNA(VLOOKUP(D73,Machines!$B:$F,5,0)),\"\",(VLOOKUP(D73,Machines!$B:$F,5,0)))","v":""},"",null,null,0,0]
[null,null,null,null,null,null,null,null,null,null,null,null,null,null,null,null,null,null,null,null,null,null,null,null,null,null,null,null,null,null,null,null,null,null,null,0,"h",{"$f":"IF(ISNA(VLOOKUP(D74,Machines!$B:$F,5,0)),\"\",(VLOOKUP(D74,Machines!$B:$F,5,0)))","v":""},"",null,null,0,0]
[null,null,null,null,null,null,null,null,null,null,null,null,null,null,null,null,null,null,null,null,null,null,null,null,null,null,null,null,null,null,null,null,null,null,null,0,"h",{"$f":"IF(ISNA(VLOOKUP(D75,Machines!$B:$F,5,0)),\"\",(VLOOKUP(D75,Machines!$B:$F,5,0)))","v":""},"",null,null,0,0]
[null,null,null,null,null,null,null,null,null,null,null,null,null,null,null,null,null,null,null,null,null,null,null,null,null,null,null,null,null,null,null,null,null,null,null,0,"h",{"$f":"IF(ISNA(VLOOKUP(D76,Machines!$B:$F,5,0)),\"\",(VLOOKUP(D76,Machines!$B:$F,5,0)))","v":""},"",null,null,0,0]
[null,null,null,null,null,null,null,null,null,null,null,null,null,null,null,null,null,null,null,null,null,null,null,null,null,null,null,null,null,null,null,null,null,null,null,0,"h",{"$f":"IF(ISNA(VLOOKUP(D77,Machines!$B:$F,5,0)),\"\",(VLOOKUP(D77,Machines!$B:$F,5,0)))","v":""},"",null,null,0,0]
[null,null,null,null,null,null,null,null,null,null,null,null,null,null,null,null,null,null,null,null,null,null,null,null,null,null,null,null,null,null,null,null,null,null,null,0,"h",{"$f":"IF(ISNA(VLOOKUP(D78,Machines!$B:$F,5,0)),\"\",(VLOOKUP(D78,Machines!$B:$F,5,0)))","v":""},"",null,null,0,0]
[null,null,null,null,null,null,null,null,null,null,null,null,null,null,null,null,null,null,null,null,null,null,null,null,null,null,null,null,null,null,null,null,null,null,null,0,"h",{"$f":"IF(ISNA(VLOOKUP(D79,Machines!$B:$F,5,0)),\"\",(VLOOKUP(D79,Machines!$B:$F,5,0)))","v":""},"",null,null,0,0]
[null,null,null,null,null,null,null,null,null,null,null,null,null,null,null,null,null,null,null,null,null,null,null,null,null,null,null,null,null,null,null,null,null,null,null,0,"h",{"$f":"IF(ISNA(VLOOKUP(D80,Machines!$B:$F,5,0)),\"\",(VLOOKUP(D80,Machines!$B:$F,5,0)))","v":""},"",null,null,0,0]
[null,null,null,null,null,null,null,null,null,null,null,null,null,null,null,null,null,null,null,null,null,null,null,null,null,null,null,null,null,null,null,null,null,null,null,null,"h"]
[null,null,null,null,null,null,null,null,null,null,null,null,null,null,null,null,null,null,null,null,null,null,null,null,null,null,null,null,null,null,null,null,null,null,null,null,"h"]
[null,null,null,null,null,null,null,null,null,null,null,null,null,null,null,null,null,null,null,null,null,null,null,null,null,null,null,null,null,null,null,null,null,null,null,0,"h",{"$f":"IF(ISNA(VLOOKUP(D83,Machines!$B:$F,5,0)),\"\",(VLOOKUP(D83,Machines!$B:$F,5,0)))","v":""},"",null,null,0,0]
[null,null,null,null,null,null,null,null,null,null,null,null,null,null,null,null,null,null,null,null,null,null,null,null,null,null,null,null,null,null,null,null,null,null,null,0,"h",{"$f":"IF(ISNA(VLOOKUP(D84,Machines!$B:$F,5,0)),\"\",(VLOOKUP(D84,Machines!$B:$F,5,0)))","v":""},"",null,null,0,0]
[null,null,null,null,null,null,null,null,null,null,null,null,null,null,null,null,null,null,null,null,null,null,null,null,null,null,null,null,null,null,null,null,null,null,null,0,"h",{"$f":"IF(ISNA(VLOOKUP(D85,Machines!$B:$F,5,0)),\"\",(VLOOKUP(D85,Machines!$B:$F,5,0)))","v":""},"",null,null,0,0]
[null,null,null,null,null,null,null,null,null,null,null,null,null,null,null,null,null,null,null,null,null,null,null,null,null,null,null,null,null,null,null,null,null,null,null,0,"h",{"$f":"IF(ISNA(VLOOKUP(D86,Machines!$B:$F,5,0)),\"\",(VLOOKUP(D86,Machines!$B:$F,5,0)))","v":""},"",null,null,0,0]
[null,null,null,null,null,null,null,null,null,null,null,null,null,null,null,null,null,null,null,null,null,null,null,null,null,null,null,null,null,null,null,null,null,null,null,0,"h",{"$f":"IF(ISNA(VLOOKUP(D87,Machines!$B:$F,5,0)),\"\",(VLOOKUP(D87,Machines!$B:$F,5,0)))","v":""},"",null,null,0,0]
[null,null,null,null,null,null,null,null,null,null,null,null,null,null,null,null,null,null,null,null,null,null,null,null,null,null,null,null,null,null,null,null,null,null,null,0,"h",{"$f":"IF(ISNA(VLOOKUP(D88,Machines!$B:$F,5,0)),\"\",(VLOOKUP(D88,Machines!$B:$F,5,0)))","v":""},"",null,null,0,0]
[null,null,null,null,null,null,null,null,null,null,null,null,null,null,null,null,null,null,null,null,null,null,null,null,null,null,null,null,null,null,null,null,null,null,null,0,"h",{"$f":"IF(ISNA(VLOOKUP(D89,Machines!$B:$F,5,0)),\"\",(VLOOKUP(D89,Machines!$B:$F,5,0)))","v":""},"",null,null,0,0]
[null,null,null,null,null,null,null,null,null,null,null,null,null,null,null,null,null,null,null,null,null,null,null,null,null,null,null,null,null,null,null,null,null,null,null,0,"h",{"$f":"IF(ISNA(VLOOKUP(D90,Machines!$B:$F,5,0)),\"\",(VLOOKUP(D90,Machines!$B:$F,5,0)))","v":""},"",null,null,0,0]
[null,null,null,null,null,null,null,null,null,null,null,null,null,null,null,null,null,null,null,null,null,null,null,null,null,null,null,null,null,null,null,null,null,null,null,0,"h",{"$f":"IF(ISNA(VLOOKUP(D91,Machines!$B:$F,5,0)),\"\",(VLOOKUP(D91,Machines!$B:$F,5,0)))","v":""},"",null,null,0,0]
[null,null,null,null,null,null,null,null,null,null,null,null,null,null,null,null,null,null,null,null,null,null,null,null,null,null,null,null,null,null,null,null,null,null,null,0,"h",{"$f":"IF(ISNA(VLOOKUP(D92,Machines!$B:$F,5,0)),\"\",(VLOOKUP(D92,Machines!$B:$F,5,0)))","v":""},"",null,null,0,0]
[null,null,null,null,null,null,null,null,null,null,null,null,null,null,null,null,null,null,null,null,null,null,null,null,null,null,null,null,null,null,null,null,null,null,null,0,"h",{"$f":"IF(ISNA(VLOOKUP(D93,Machines!$B:$F,5,0)),\"\",(VLOOKUP(D93,Machines!$B:$F,5,0)))","v":""},"",null,null,0,0]
[null,null,null,null,null,null,null,null,null,null,null,null,null,null,null,null,null,null,null,null,null,null,null,null,null,null,null,null,null,null,null,null,null,null,null,0,"h",{"$f":"IF(ISNA(VLOOKUP(D94,Machines!$B:$F,5,0)),\"\",(VLOOKUP(D94,Machines!$B:$F,5,0)))","v":""},"",null,null,0,0]
[null,null,null,null,null,null,null,null,null,null,null,null,null,null,null,null,null,null,null,null,null,null,null,null,null,null,null,null,null,null,null,null,null,null,null,0,"h",{"$f":"IF(ISNA(VLOOKUP(D95,Machines!$B:$F,5,0)),\"\",(VLOOKUP(D95,Machines!$B:$F,5,0)))","v":""},"",null,null,0,0]
[null,null,null,null,null,null,null,null,null,null,null,null,null,null,null,null,null,null,null,null,null,null,null,null,null,null,null,null,null,null,null,null,null,null,null,0,"h",{"$f":"IF(ISNA(VLOOKUP(D96,Machines!$B:$F,5,0)),\"\",(VLOOKUP(D96,Machines!$B:$F,5,0)))","v":""},"",null,null,0,0]
[null,null,null,null,null,null,null,null,null,null,null,null,null,null,null,null,null,null,null,null,null,null,null,null,null,null,null,null,null,null,null,null,null,null,null,0,"h",{"$f":"IF(ISNA(VLOOKUP(D97,Machines!$B:$F,5,0)),\"\",(VLOOKUP(D97,Machines!$B:$F,5,0)))","v":""},"",null,null,0,0]
[null,null,null,null,null,null,null,null,null,null,null,null,null,null,null,null,null,null,null,null,null,null,null,null,null,null,null,null,null,null,null,null,null,null,null,0,"h",{"$f":"IF(ISNA(VLOOKUP(D98,Machines!$B:$F,5,0)),\"\",(VLOOKUP(D98,Machines!$B:$F,5,0)))","v":""},"",null,null,0,0]
[null,null,null,null,null,null,null,null,null,null,null,null,null,null,null,null,null,null,null,null,null,null,null,null,null,null,null,null,null,null,null,null,null,null,null,0,"h",{"$f":"IF(ISNA(VLOOKUP(D99,Machines!$B:$F,5,0)),\"\",(VLOOKUP(D99,Machines!$B:$F,5,0)))","v":""},"",null,null,0,0]
[null,null,null,null,null,null,null,null,null,null,null,null,null,null,null,null,null,null,null,null,null,null,null,null,null,null,null,null,null,null,null,null,null,null,null,0,"h",{"$f":"IF(ISNA(VLOOKUP(D100,Machines!$B:$F,5,0)),\"\",(VLOOKUP(D100,Machines!$B:$F,5,0)))","v":""},"",null,null,0,0]
[null,{"$f":"B1","v":"2016-01-01"},null,null,null,null,{"$f":"F1","v":"0 0"}]
[null,"CAMIONS",null,null,null,null,null,null,null,null,null,null,null,null,null,null,".=Pas contrôlé",null,null,null,null,".=OK",null,null,null,null,".=NKO",null,null,null,null,null,null,null,null,null,null,null,null,null,null,null,"Pa = ","Panne"]
[null,null,null,null,null,null,null,null,null,null,null,null,null,null,null,null,null,null,null,null,null,null,null,null,null,null,null,null,null,null,null,null,null,null,null,null,null,null,null,null,null,null,"Ent =","Entretien"]
[null,"Noms","Titulaire","N°","01","02","03","04","05","06","07","08","09","10","11","12","13","14","15","16","17","18","19","20","21","22","23","24","25","26","27","28","29","30","31","Total",null,"P.U.","Somme",null,null,"Pa","Ent"]
[null,null,null,null,null,null,null,null,null,null,null,null,null,null,null,null,null,null,null,null,null,null,null,null,null,null,null,null,null,null,null,null,null,null,null,{"$f":"SUM(E105:AI105)","v":0},"h",{"$f":"IF(ISNA(VLOOKUP(D105,Camions!$B:$F,5,0)),\"\",(VLOOKUP(D105,Camions!$B:$F,5,0)))","v":""},{"$f":"IF(ISERROR(AJ105*AL105),\"\",(AJ105*AL105))","v":""},null,null,{"$f":"COUNTIF(E105:AI105,\"Pa\")","v":0},{"$f":"COUNTIF(E105:AI105,\"Ent\")","v":0}]
[null,null,null,null,null,null,null,null,null,null,null,null,null,null,null,null,null,null,null,null,null,null,null,null,null,null,null,null,null,null,null,null,null,null,null,0,"h",{"$f":"IF(ISNA(VLOOKUP(D106,Camions!$B:$F,5,0)),\"\",(VLOOKUP(D106,Camions!$B:$F,5,0)))","v":""},{"$f":"IF(ISERROR(AJ106*AL106),\"\",(AJ106*AL106))","v":""},null,null,{"$f":"COUNTIF(E106:AI106,\"Pa\")","v":0},{"$f":"COUNTIF(E106:AI106,\"Ent\")","v":0}]
[null,null,null,null,null,null,null,null,null,null,null,null,null,null,null,null,null,null,null,null,null,null,null,null,null,null,null,null,null,null,null,null,null,null,null,0,"h",{"$f":"IF(ISNA(VLOOKUP(D107,Camions!$B:$F,5,0)),\"\",(VLOOKUP(D107,Camions!$B:$F,5,0)))","v":""},{"$f":"IF(ISERROR(AJ107*AL107),\"\",(AJ107*AL107))","v":""},null,null,0,0]
[null,null,null,null,null,null,null,null,null,null,null,null,null,null,null,null,null,null,null,null,null,null,null,null,null,null,null,null,null,null,null,null,null,null,null,0,"h",{"$f":"IF(ISNA(VLOOKUP(D108,Camions!$B:$F,5,0)),\"\",(VLOOKUP(D108,Camions!$B:$F,5,0)))","v":""},"",null,null,0,0]
[null,null,null,null,null,null,null,null,null,null,null,null,null,null,null,null,null,null,null,null,null,null,null,null,null,null,null,null,null,null,null,null,null,null,null,0,"h",{"$f":"IF(ISNA(VLOOKUP(D109,Camions!$B:$F,5,0)),\"\",(VLOOKUP(D109,Camions!$B:$F,5,0)))","v":""},"",null,null,0,0]
[null,null,null,null,null,null,null,null,null,null,null,null,null,null,null,null,null,null,null,null,null,null,null,null,null,null,null,null,null,null,null,null,null,null,null,0,"h",{"$f":"IF(ISNA(VLOOKUP(D110,Camions!$B:$F,5,0)),\"\",(VLOOKUP(D110,Camions!$B:$F,5,0)))","v":""},"",null,null,0,0]
[null,null,null,null,null,null,null,null,null,null,null,null,null,null,null,null,null,null,null,null,null,null,null,null,null,null,null,null,null,null,null,null,null,null,null,0,"h",{"$f":"IF(ISNA(VLOOKUP(D111,Camions!$B:$F,5,0)),\"\",(VLOOKUP(D111,Camions!$B:$F,5,0)))","v":""},"",null,null,0,0]
[null,null,null,null,null,null,null,null,null,null,null,null,null,null,null,null,null,null,null,null,null,null,null,null,null,null,null,null,null,null,null,null,null,null,null,0,"h",{"$f":"IF(ISNA(VLOOKUP(D112,Camions!$B:$F,5,0)),\"\",(VLOOKUP(D112,Camions!$B:$F,5,0)))","v":""},"",null,null,0,0]
[null,null,null,null,null,null,null,null,null,null,null,null,null,null,null,null,null,null,null,null,null,null,null,null,null,null,null,null,null,null,null,null,null,null,null,0,"h",{"$f":"IF(ISNA(VLOOKUP(D113,Camions!$B:$F,5,0)),\"\",(VLOOKUP(D113,Camions!$B:$F,5,0)))","v":""},"",null,null,0,0]
[null,null,null,null,null,null,null,null,null,null,null,null,null,null,null,null,null,null,null,null,null,null,null,null,null,null,null,null,null,null,null,null,null,null,null,0,"h",{"$f":"IF(ISNA(VLOOKUP(D114,Camions!$B:$F,5,0)),\"\",(VLOOKUP(D114,Camions!$B:$F,5,0)))","v":""},"",null,null,0,0]
[null,null,null,null,null,null,null,null,null,null,null,null,null,null,null,null,null,null,null,null,null,null,null,null,null,null,null,null,null,null,null,null,null,null,null,null,"h"]
[null,null,null,null,null,null,null,null,null,null,null,null,null,null,null,null,null,null,null,null,null,null,null,null,null,null,null,null,null,null,null,null,null,null,null,0,"h",{"$f":"IF(ISNA(VLOOKUP(D116,Camions!$B:$F,5,0)),\"\",(VLOOKUP(D116,Camions!$B:$F,5,0)))","v":""},"",null,null,0,0]
[null,null,null,null,null,null,null,null,null,null,null,null,null,null,null,null,null,null,null,null,null,null,null,null,null,null,null,null,null,null,null,null,null,null,null,0,"h",{"$f":"IF(ISNA(VLOOKUP(D117,Camions!$B:$F,5,0)),\"\",(VLOOKUP(D117,Camions!$B:$F,5,0)))","v":""},"",null,null,0,0]
[null,null,null,null,null,null,null,null,null,null,null,null,null,null,null,null,null,null,null,null,null,null,null,null,null,null,null,null,null,null,null,null,null,null,null,0,"h",{"$f":"IF(ISNA(VLOOKUP(D118,Camions!$B:$F,5,0)),\"\",(VLOOKUP(D118,Camions!$B:$F,5,0)))","v":""},"",null,null,0,0]
[null,null,null,null,null,null,null,null,null,null,null,null,null,null,null,null,null,null,null,null,null,null,null,null,null,null,null,null,null,null,null,null,null,null,null,0,"h",{"$f":"IF(ISNA(VLOOKUP(D119,Camions!$B:$F,5,0)),\"\",(VLOOKUP(D119,Camions!$B:$F,5,0)))","v":""},"",null,null,0,0]
[null,null,null,null,null,null,null,null,null,null,null,null,null,null,null,null,null,null,null,null,null,null,null,null,null,null,null,null,null,null,null,null,null,null,null,0,"h",{"$f":"IF(ISNA(VLOOKUP(D120,Camions!$B:$F,5,0)),\"\",(VLOOKUP(D120,Camions!$B:$F,5,0)))","v":""},"",null,null,0,0]
[null,null,null,null,null,null,null,null,null,null,null,null,null,null,null,null,null,null,null,null,null,null,null,null,null,null,null,null,null,null,null,null,null,null,null,0,"h",{"$f":"IF(ISNA(VLOOKUP(D121,Camions!$B:$F,5,0)),\"\",(VLOOKUP(D121,Camions!$B:$F,5,0)))","v":""},"",null,null,0,0]
[null,null,null,null,null,null,null,null,null,null,null,null,null,null,null,null,null,null,null,null,null,null,null,null,null,null,null,null,null,null,null,null,null,null,null,0,"h",{"$f":"IF(ISNA(VLOOKUP(D122,Camions!$B:$F,5,0)),\"\",(VLOOKUP(D122,Camions!$B:$F,5,0)))","v":""},"",null,null,0,0]
[null,null,null,null,null,null,null,null,null,null,null,null,null,null,null,null,null,null,null,null,null,null,null,null,null,null,null,null,null,null,null,null,null,null,null,0,"h",{"$f":"IF(ISNA(VLOOKUP(D123,Camions!$B:$F,5,0)),\"\",(VLOOKUP(D123,Camions!$B:$F,5,0)))","v":""},"",null,null,0,0]
[null,null,null,null,null,null,null,null,null,null,null,null,null,null,null,null,null,null,null,null,null,null,null,null,null,null,null,null,null,null,null,null,null,null,null,0,"h",{"$f":"IF(ISNA(VLOOKUP(D124,Camions!$B:$F,5,0)),\"\",(VLOOKUP(D124,Camions!$B:$F,5,0)))","v":""},"",null,null,0,0]
[null,null,null,null,null,null,null,null,null,null,null,null,null,null,null,null,null,null,null,null,null,null,null,null,null,null,null,null,null,null,null,null,null,null,null,0,"h",{"$f":"IF(ISNA(VLOOKUP(D125,Camions!$B:$F,5,0)),\"\",(VLOOKUP(D125,Camions!$B:$F,5,0)))","v":""},"",null,null,0,0]
[null,null,null,null,null,null,null,null,null,null,null,null,null,null,null,null,null,null,null,null,null,null,null,null,null,null,null,null,null,null,null,null,null,null,null,0,"h",{"$f":"IF(ISNA(VLOOKUP(D126,Camions!$B:$F,5,0)),\"\",(VLOOKUP(D126,Camions!$B:$F,5,0)))","v":""},"",null,null,0,0]
[null,null,null,null,null,null,null,null,null,null,null,null,null,null,null,null,null,null,null,null,null,null,null,null,null,null,null,null,null,null,null,null,null,null,null,0,"h",{"$f":"IF(ISNA(VLOOKUP(D127,Camions!$B:$F,5,0)),\"\",(VLOOKUP(D127,Camions!$B:$F,5,0)))","v":""},"",null,null,0,0]
[null,null,null,null,null,null,null,null,null,null,null,null,null,null,null,null,null,null,null,null,null,null,null,null,null,null,null,null,null,null,null,null,null,null,null,0,"h",{"$f":"IF(ISNA(VLOOKUP(D128,Camions!$B:$F,5,0)),\"\",(VLOOKUP(D128,Camions!$B:$F,5,0)))","v":""},"",null,null,0,0]
[null,null,null,null,null,null,null,null,null,null,null,null,null,null,null,null,null,null,null,null,null,null,null,null,null,null,null,null,null,null,null,null,null,null,null,0,"h",{"$f":"IF(ISNA(VLOOKUP(D129,Camions!$B:$F,5,0)),\"\",(VLOOKUP(D129,Camions!$B:$F,5,0)))","v":""},"",null,null,0,0]
[null,null,null,null,null,null,null,null,null,null,null,null,null,null,null,null,null,null,null,null,null,null,null,null,null,null,null,null,null,null,null,null,null,null,null,0,"h",{"$f":"IF(ISNA(VLOOKUP(D130,Camions!$B:$F,5,0)),\"\",(VLOOKUP(D130,Camions!$B:$F,5,0)))","v":""},"",null,null,0,0]
[null,null,null,null,null,null,null,null,null,null,null,null,null,null,null,null,null,null,null,null,null,null,null,null,null,null,null,null,null,null,null,null,null,null,null,0,"h",{"$f":"IF(ISNA(VLOOKUP(D131,Camions!$B:$F,5,0)),\"\",(VLOOKUP(D131,Camions!$B:$F,5,0)))","v":""},"",null,null,0,0]
[null,null,null,null,null,null,null,null,null,null,null,null,null,null,null,null,null,null,null,null,null,null,null,null,null,null,null,null,null,null,null,null,null,null,null,0,"h",{"$f":"IF(ISNA(VLOOKUP(D132,Camions!$B:$F,5,0)),\"\",(VLOOKUP(D132,Camions!$B:$F,5,0)))","v":""},"",null,null,0,0]
[null,null,null,null,null,null,null,null,null,null,null,null,null,null,null,null,null,null,null,null,null,null,null,null,null,null,null,null,null,null,null,null,null,null,null,0,"h",{"$f":"IF(ISNA(VLOOKUP(D133,Camions!$B:$F,5,0)),\"\",(VLOOKUP(D133,Camions!$B:$F,5,0)))","v":""},"",null,null,0,0]
[null,null,null,null,null,null,null,null,null,null,null,null,null,null,null,null,null,null,null,null,null,null,null,null,null,null,null,null,null,null,null,null,null,null,null,0,"h",{"$f":"IF(ISNA(VLOOKUP(D134,Camions!$B:$F,5,0)),\"\",(VLOOKUP(D134,Camions!$B:$F,5,0)))","v":""},"",null,null,0,0]
[null,null,null,null,null,null,null,null,null,null,null,null,null,null,null,null,null,null,null,null,null,null,null,null,null,null,null,null,null,null,null,null,null,null,null,0,"h",{"$f":"IF(ISNA(VLOOKUP(D135,Camions!$B:$F,5,0)),\"\",(VLOOKUP(D135,Camions!$B:$F,5,0)))","v":""},"",null,null,0,0]
[null,null,null,null,null,null,null,null,null,null,null,null,null,null,null,null,null,null,null,null,null,null,null,null,null,null,null,null,null,null,null,null,null,null,null,0,"h",{"$f":"IF(ISNA(VLOOKUP(D136,Camions!$B:$F,5,0)),\"\",(VLOOKUP(D136,Camions!$B:$F,5,0)))","v":""},"",null,null,0,0]
[null,null,null,null,null,null,null,null,null,null,null,null,null,null,null,null,null,null,null,null,null,null,null,null,null,null,null,null,null,null,null,null,null,null,null,0,"h",{"$f":"IF(ISNA(VLOOKUP(D137,Camions!$B:$F,5,0)),\"\",(VLOOKUP(D137,Camions!$B:$F,5,0)))","v":""},"",null,null,0,0]
[null,null,null,null,null,null,null,null,null,null,null,null,null,null,null,null,null,null,null,null,null,null,null,null,null,null,null,null,null,null,null,null,null,null,null,0,"h",{"$f":"IF(ISNA(VLOOKUP(D138,Camions!$B:$F,5,0)),\"\",(VLOOKUP(D138,Camions!$B:$F,5,0)))","v":""},"",null,null,0,0]
[null,{"$f":"B1","v":"2016-01-01"},null,null,null,null,{"$f":"F1","v":"0 0"}]
[null,"SOUS-TRAITANTS",null,null,null,null,null,null,null,null,null,null,null,null,null,null,".=Pas contrôlé",null,null,null,null,".=OK",null,null,null,null,".=NKO"]
[]
[null,"Sous-traitants","Type d'engin et description des travaux ",null,"01","02","03","04","05","06","07","08","09","10","11","12","13","14","15","16","17","18","19","20","21","22","23","24","25","26","27","28","29","30","31","Total",null,"P.U.","Somme"]
[null,null,null,null,null,null,null,null,null,null,null,null,null,null,null,null,null,null,null,null,null,null,null,null,null,null,null,null,null,null,null,null,null,null,null,{"$f":"SUM(E143:AI143)","v":0},"h",null,{"$f":"AJ143*AL143","v":0}]
[null,null,null,null,null,null,null,null,null,null,null,null,null,null,null,null,null,null,null,null,null,null,null,null,null,null,null,null,null,null,null,null,null,null,null,0,"h",null,{"$f":"AJ144*AL144","v":0}]
[null,null,null,null,null,null,null,null,null,null,null,null,null,null,null,null,null,null,null,null,null,null,null,null,null,null,null,null,null,null,null,null,null,null,null,0,"h",null,{"$f":"AJ145*AL145","v":0}]
[null,null,null,null,null,null,null,null,null,null,null,null,null,null,null,null,null,null,null,null,null,null,null,null,null,null,null,null,null,null,null,null,null,null,null,0,"h",null,0]
[null,null,null,null,null,null,null,null,null,null,null,null,null,null,null,null,null,null,null,null,null,null,null,null,null,null,null,null,null,null,null,null,null,null,null,0,"h",null,0]
[null,null,null,null,null,null,null,null,null,null,null,null,null,null,null,null,null,null,null,null,null,null,null,null,null,null,null,null,null,null,null,null,null,null,null,0,"h",null,0]
[null,null,null,null,null,null,null,null,null,null,null,null,null,null,null,null,null,null,null,null,null,null,null,null,null,null,null,null,null,null,null,null,null,null,null,0,"h",null,0]
[null,null,null,null,null,null,null,null,null,null,null,null,null,null,null,null,null,null,null,null,null,null,null,null,null,null,null,null,null,null,null,null,null,null,null,null,"h"]
[null,null,null,null,null,null,null,null,null,null,null,null,null,null,null,null,null,null,null,null,null,null,null,null,null,null,null,null,null,null,null,null,null,null,null,null,"h"]
[null,null,null,null,null,null,null,null,null,null,null,null,null,null,null,null,null,null,null,null,null,null,null,null,null,null,null,null,null,null,null,null,null,null,null,0,"h",null,0]
[null,null,null,null,null,null,null,null,null,null,null,null,null,null,null,null,null,null,null,null,null,null,null,null,null,null,null,null,null,null,null,null,null,null,null,0,"h",null,0]
[null,null,null,null,null,null,null,null,null,null,null,null,null,null,null,null,null,null,null,null,null,null,null,null,null,null,null,null,null,null,null,null,null,null,null,0,"h",null,0]
[null,null,null,null,null,null,null,null,null,null,null,null,null,null,null,null,null,null,null,null,null,null,null,null,null,null,null,null,null,null,null,null,null,null,null,0,"h",null,0]
[null,null,null,null,null,null,null,null,null,null,null,null,null,null,null,null,null,null,null,null,null,null,null,null,null,null,null,null,null,null,null,null,null,null,null,0,"h",null,0]
[null,null,null,null,null,null,null,null,null,null,null,null,null,null,null,null,null,null,null,null,null,null,null,null,null,null,null,null,null,null,null,null,null,null,null,0,"h",null,0]
[null,null,null,null,null,null,null,null,null,null,null,null,null,null,null,null,null,null,null,null,null,null,null,null,null,null,null,null,null,null,null,null,null,null,null,0,"h",null,0]
[null,null,null,null,null,null,null,null,null,null,null,null,null,null,null,null,null,null,null,null,null,null,null,null,null,null,null,null,null,null,null,null,null,null,null,0,"h",null,0]
[null,null,null,null,null,null,null,null,null,null,null,null,null,null,null,null,null,null,null,null,null,null,null,null,null,null,null,null,null,null,null,null,null,null,null,0,"h",null,0]
[null,null,null,null,null,null,null,null,null,null,null,null,null,null,null,null,null,null,null,null,null,null,null,null,null,null,null,null,null,null,null,null,null,null,null,0,"h",null,0]
[null,null,null,null,null,null,null,null,null,null,null,null,null,null,null,null,null,null,null,null,null,null,null,null,null,null,null,null,null,null,null,null,null,null,null,0,"h",null,0]
[null,null,null,null,null,null,null,null,null,null,null,null,null,null,null,null,null,null,null,null,null,null,null,null,null,null,null,null,null,null,null,null,null,null,null,0,"h",null,0]
[null,null,null,null,null,null,null,null,null,null,null,null,null,null,null,null,null,null,null,null,null,null,null,null,null,null,null,null,null,null,null,null,null,null,null,0,"h",null,0]
[null,null,null,null,null,null,null,null,null,null,null,null,null,null,null,null,null,null,null,null,null,null,null,null,null,null,null,null,null,null,null,null,null,null,null,0,"h",null,0]
[null,null,null,null,null,null,null,null,null,null,null,null,null,null,null,null,null,null,null,null,null,null,null,null,null,null,null,null,null,null,null,null,null,null,null,0,"h",null,0]
[null,null,null,null,null,null,null,null,null,null,null,null,null,null,null,null,null,null,null,null,null,null,null,null,null,null,null,null,null,null,null,null,null,null,null,0,"h",null,0]
[null,null,null,null,null,null,null,null,null,null,null,null,null,null,null,null,null,null,null,null,null,null,null,null,null,null,null,null,null,null,null,null,null,null,null,0,"h",null,0]
[null,null,null,null,null,null,null,null,null,null,null,null,null,null,null,null,null,null,null,null,null,null,null,null,null,null,null,null,null,null,null,null,null,null,null,0,"h",null,0]
[null,null,null,null,null,null,null,null,null,null,null,null,null,null,null,null,null,null,null,null,null,null,null,null,null,null,null,null,null,null,null,null,null,null,null,0,"h",null,0]
[null,null,null,null,null,null,null,null,null,null,null,null,null,null,null,null,null,null,null,null,null,null,null,null,null,null,null,null,null,null,null,null,null,null,null,0,"h",null,0]
[null,null,null,null,null,null,null,null,null,null,null,null,null,null,null,null,null,null,null,null,null,null,null,null,null,null,null,null,null,null,null,null,null,null,null,0,"h",null,0]
[null,null,null,null,null,null,null,null,null,null,null,null,null,null,null,null,null,null,null,null,null,null,null,null,null,null,null,null,null,null,null,null,null,null,null,0,"h",null,0]
[null,null,null,null,null,null,null,null,null,null,null,null,null,null,null,null,null,null,null,null,null,null,null,null,null,null,null,null,null,null,null,null,null,null,null,0,"h",null,0]
[null,null,null,null,null,null,null,null,null,null,null,null,null,null,null,null,null,null,null,null,null,null,null,null,null,null,null,null,null,null,null,null,null,null,null,0,"h",null,0]
[null,null,null,null,null,null,null,null,null,null,null,null,null,null,null,null,null,null,null,null,null,null,null,null,null,null,null,null,null,null,null,null,null,null,null,0,"h",null,0]
[]
[]
[]
[]
[]
[]
[]
[]
[]
[]
[]
[]
[null,null,null,null,null,null,null,null,"Intempéries"]
[]
[]
[null,null,null,null,null,null,null,null,"01",null,null,"02",null,null,"03",null,null,"04",null,null,"05",null,null,"06",null,null,"07",null,null,"08",null,null,"09",null,null,"10"]
[null,null,null,null,null,null,null,null,{"$f":"'01-01-16'!AX110","v":0},null,null,{"$f":"'02-01-16'!AX110","v":0},null,null,{"$f":"'03-01-16'!AX110","v":0},null,null,{"$f":"'04-01-16'!AX110","v":0},null,null,{"$f":"'05-01-16'!AX110","v":0},null,null,{"$f":"'06-01-16'!AX110","v":0},null,null,{"$f":"'07-01-16'!AX110","v":0},null,null,{"$f":"'08-01-16'!AX110","v":0},null,null,{"$f":"'09-01-16'!AX110","v":0},null,null,{"$f":"'10-01-16'!AX110","v":0}]
[]
[null,null,null,null,null,null,null,null,"11",null,null,"12",null,null,"13",null,null,"14",null,null,"15",null,null,"16",null,null,"17",null,null,"18",null,null,"19",null,null,"20"]
[null,null,null,null,null,null,null,null,{"$f":"'11-01-16'!AX110","v":0},null,null,{"$f":"'12-01-16'!AX110","v":0},null,null,{"$f":"'13-01-16'!AX110","v":0},null,null,{"$f":"'14-01-16'!AX110","v":0},null,null,{"$f":"'15-01-16'!AX110","v":0},null,null,{"$f":"'16-01-16'!AX110","v":0},null,null,{"$f":"'17-01-16'!AX110","v":0},null,null,{"$f":"'18-01-16'!AX110","v":0},null,null,{"$f":"'19-01-16'!AX110","v":0},null,null,{"$f":"'20-01-16'!AX110","v":0}]
[]
[null,null,null,null,null,null,null,null,"21",null,null,"22",null,null,"23",null,null,"24",null,null,"25",null,null,"26",null,null,"27",null,null,"28",null,null,"29",null,null,"30"]
[null,null,null,null,null,null,null,null,{"$f":"'21-01-16'!AX110","v":0},null,null,{"$f":"'22-01-16'!AX110","v":0},null,null,{"$f":"'23-01-16'!AX110","v":0},null,null,{"$f":"'24-01-16'!AX110","v":0},null,null,{"$f":"'25-01-16'!AX110","v":0},null,null,{"$f":"'26-01-16'!AX110","v":0},null,null,{"$f":"'27-01-16'!AX110","v":0},null,null,{"$f":"'28-01-16'!AX110","v":0},null,null,{"$f":"'29-01-16'!AX110","v":0},null,null,{"$f":"'30-01-16'!AX110","v":0}]
[]
[null,null,null,null,null,null,null,null,null,null,null,null,null,null,null,null,null,null,null,null,null,"31"]
[null,null,null,null,null,null,null,null,null,null,null,null,null,null,null,null,null,null,null,null,null,{"$f":"'31-01-16'!AX110","v":0}]

{"sheet":"Matériaux","index":39,"n_rows":87,"n_cols":41,"rows_kept":87,"cut":false,"hidden":false,"merged":[[0,1,1,2],[0,3,1,24]]}
[null,{"$f":"Chantier!B1","v":"2016-01-01"},null,{"$f":"'31-01-16'!F1","v":0}]
[null,null,null,null,null,null,null,null,null,null,null,null,null,null,null,null,null,null,null,null,null,null,null,null,null,null,null,null,null,null,null,null,null,null,null,null,null,null,"Pas contrôlé ="]
[{"$f":"YEAR(B1)","v":2016},null,null,null,null,null,null,null,null,null,null,null,null,null,null,null,null,null,null,null,null,null,null,null,null,null,null,null,null,null,null,null,null,null,null,null,null,null,"OK ="]
[{"$f":"INT((B1-SUM(MOD(DATE(YEAR(B1-MOD(B1-2,7)+3),1,2),{1E+99;7})*{1;-1})+5)/7)","v":53},null,null,null,null,null,null,null,null,null,null,null,null,null,null,null,null,null,null,null,null,null,null,null,null,null,null,null,null,null,null,null,null,null,null,null,null,null,"NOK ="]
[1,null,"Récapitulatif Matériaux"]
[]
[null,null,"Fournisseurs","Matériaux",{"$f":"B1","v":"2016-01-01"},{"$f":"E7+1","v":"2016-01-02"},{"$f":"F7+1","v":"2016-01-03"},"2016-01-04","2016-01-05","2016-01-06","2016-01-07","2016-01-08","2016-01-09","2016-01-10","2016-01-11","2016-01-12","2016-01-13","2016-01-14","2016-01-15","2016-01-16","2016-01-17","2016-01-18","2016-01-19","2016-01-20","2016-01-21","2016-01-22","2016-01-23","2016-01-24","2016-01-25","2016-01-26","2016-01-27","2016-01-28","2016-01-29","2016-01-30","2016-01-31","Total",null,"Prix / U","Somme"]
[null,null,null,null,null,null,null,null,null,null,null,null,null,null,null,null,null,null,null,null,null,null,null,null,null,null,null,null,null,null,null,null,null,null,null,{"$f":"SUM(E8:AI8)","v":0},null,null,{"$f":"AJ8*AL8","v":0},null,"p"]
[null,null,null,null,null,null,null,null,null,null,null,null,null,null,null,null,null,null,null,null,null,null,null,null,null,null,null,null,null,null,null,null,null,null,null,{"$f":"SUM(E9:AI9)","v":0},null,null,{"$f":"AJ9*AL9","v":0}]
[null,null,null,null,null,null,null,null,null,null,null,null,null,null,null,null,null,null,null,null,null,null,null,null,null,null,null,null,null,null,null,null,null,null,null,{"$f":"SUM(E10:AI10)","v":0},null,null,{"$f":"AJ10*AL10","v":0}]
[null,null,null,null,null,null,null,null,null,null,null,null,null,null,null,null,null,null,null,null,null,null,null,null,null,null,null,null,null,null,null,null,null,null,null,0,null,null,0]
[null,null,null,null,null,null,null,null,null,null,null,null,null,null,null,null,null,null,null,null,null,null,null,null,null,null,null,null,null,null,null,null,null,null,null,0,null,null,0]
[null,null,null,null,null,null,null,null,null,null,null,null,null,null,null,null,null,null,null,null,null,null,null,null,null,null,null,null,null,null,null,null,null,null,null,0,null,null,0]
[null,null,null,null,null,null,null,null,null,null,null,null,null,null,null,null,null,null,null,null,null,null,null,null,null,null,null,null,null,null,null,null,null,null,null,0,null,null,0]
[null,null,null,null,null,null,null,null,null,null,null,null,null,null,null,null,null,null,null,null,null,null,null,null,null,null,null,null,null,null,null,null,null,null,null,0,null,null,0]
[null,null,null,null,null,null,null,null,null,null,null,null,null,null,null,null,null,null,null,null,null,null,null,null,null,null,null,null,null,null,null,null,null,null,null,0,null,null,0]
[null,null,null,null,null,null,null,null,null,null,null,null,null,null,null,null,null,null,null,null,null,null,null,null,null,null,null,null,null,null,null,null,null,null,null,0,null,null,0]
[null,null,null,null,null,null,null,null,null,null,null,null,null,null,null,null,null,null,null,null,null,null,null,null,null,null,null,null,null,null,null,null,null,null,null,0,null,null,0]
[null,null,null,null,null,null,null,null,null,null,null,null,null,null,null,null,null,null,null,null,null,null,null,null,null,null,null,null,null,null,null,null,null,null,null,0,null,null,0]
[null,null,null,null,null,null,null,null,null,null,null,null,null,null,null,null,null,null,null,null,null,null,null,null,null,null,null,null,null,null,null,null,null,null,null,0,null,null,0]
[null,null,null,null,null,null,null,null,null,null,null,null,null,null,null,null,null,null,null,null,null,null,null,null,null,null,null,null,null,null,null,null,null,null,null,0,null,null,0]
[null,null,null,null,null,null,null,null,null,null,null,null,null,null,null,null,null,null,null,null,null,null,null,null,null,null,null,null,null,null,null,null,null,null,null,0,null,null,0]
[null,null,null,null,null,null,null,null,null,null,null,null,null,null,null,null,null,null,null,null,null,null,null,null,null,null,null,null,null,null,null,null,null,null,null,0,null,null,0]
[null,null,null,null,null,null,null,null,null,null,null,null,null,null,null,null,null,null,null,null,null,null,null,null,null,null,null,null,null,null,null,null,null,null,null,0,null,null,0]
[null,null,null,null,null,null,null,null,null,null,null,null,null,null,null,null,null,null,null,null,null,null,null,null,null,null,null,null,null,null,null,null,null,null,null,0,null,null,0]
[null,null,null,null,null,null,null,null,null,null,null,null,null,null,null,null,null,null,null,null,null,null,null,null,null,null,null,null,null,null,null,null,null,null,null,0,null,null,0]
[null,null,null,null,null,null,null,null,null,null,null,null,null,null,null,null,null,null,null,null,null,null,null,null,null,null,null,null,null,null,null,null,null,null,null,0,null,null,0]
[null,null,null,null,null,null,null,null,null,null,null,null,null,null,null,null,null,null,null,null,null,null,null,null,null,null,null,null,null,null,null,null,null,null,null,0,null,null,0]
[null,null,null,null,null,null,null,null,null,null,null,null,null,null,null,null,null,null,null,null,null,null,null,null,null,null,null,null,null,null,null,null,null,null,null,0,null,null,0]
[null,null,null,null,null,null,null,null,null,null,null,null,null,null,null,null,null,null,null,null,null,null,null,null,null,null,null,null,null,null,null,null,null,null,null,0,null,null,0]
[null,null,null,null,null,null,null,null,null,null,null,null,null,null,null,null,null,null,null,null,null,null,null,null,null,null,null,null,null,null,null,null,null,null,null,0,null,null,0]
[null,null,null,null,null,null,null,null,null,null,null,null,null,null,null,null,null,null,null,null,null,null,null,null,null,null,null,null,null,null,null,null,null,null,null,0,null,null,0]
[null,null,null,null,null,null,null,null,null,null,null,null,null,null,null,null,null,null,null,null,null,null,null,null,null,null,null,null,null,null,null,null,null,null,null,0,null,null,0]
[null,null,null,null,null,null,null,null,null,null,null,null,null,null,null,null,null,null,null,null,null,null,null,null,null,null,null,null,null,null,null,null,null,null,null,0,null,null,0]
[null,null,null,null,null,null,null,null,null,null,null,null,null,null,null,null,null,null,null,null,null,null,null,null,null,null,null,null,null,null,null,null,null,null,null,0,null,null,0]
[null,null,null,null,null,null,null,null,null,null,null,null,null,null,null,null,null,null,null,null,null,null,null,null,null,null,null,null,null,null,null,null,null,null,null,0,null,null,0]
[null,null,null,null,null,null,null,null,null,null,null,null,null,null,null,null,null,null,null,null,null,null,null,null,null,null,null,null,null,null,null,null,null,null,null,0,null,null,0]
[null,null,null,null,null,null,null,null,null,null,null,null,null,null,null,null,null,null,null,null,null,null,null,null,null,null,null,null,null,null,null,null,null,null,null,0,null,null,0]
[null,null,null,null,null,null,null,null,null,null,null,null,null,null,null,null,null,null,null,null,null,null,null,null,null,null,null,null,null,null,null,null,null,null,null,0,null,null,0]
[null,null,null,null,null,null,null,null,null,null,null,null,null,null,null,null,null,null,null,null,null,null,null,null,null,null,null,null,null,null,null,null,null,null,null,0,null,null,0]
[null,null,null,null,null,null,null,null,null,null,null,null,null,null,null,null,null,null,null,null,null,null,null,null,null,null,null,null,null,null,null,null,null,null,null,0,null,null,0]
[null,null,null,null,null,null,null,null,null,null,null,null,null,null,null,null,null,null,null,null,null,null,null,null,null,null,null,null,null,null,null,null,null,null,null,0,null,null,0]
[null,null,null,null,null,null,null,null,null,null,null,null,null,null,null,null,null,null,null,null,null,null,null,null,null,null,null,null,null,null,null,null,null,null,null,0,null,null,0]
[null,null,null,null,null,null,null,null,null,null,null,null,null,null,null,null,null,null,null,null,null,null,null,null,null,null,null,null,null,null,null,null,null,null,null,0,null,null,0]
[null,null,null,null,null,null,null,null,null,null,null,null,null,null,null,null,null,null,null,null,null,null,null,null,null,null,null,null,null,null,null,null,null,null,null,0,null,null,0]
[null,null,null,null,null,null,null,null,null,null,null,null,null,null,null,null,null,null,null,null,null,null,null,null,null,null,null,null,null,null,null,null,null,null,null,0,null,null,0]
[null,null,null,null,null,null,null,null,null,null,null,null,null,null,null,null,null,null,null,null,null,null,null,null,null,null,null,null,null,null,null,null,null,null,null,0,null,null,0]
[null,null,null,null,null,null,null,null,null,null,null,null,null,null,null,null,null,null,null,null,null,null,null,null,null,null,null,null,null,null,null,null,null,null,null,0,null,null,0]
[null,null,null,null,null,null,null,null,null,null,null,null,null,null,null,null,null,null,null,null,null,null,null,null,null,null,null,null,null,null,null,null,null,null,null,0,null,null,0]
[null,null,null,null,null,null,null,null,null,null,null,null,null,null,null,null,null,null,null,null,null,null,null,null,null,null,null,null,null,null,null,null,null,null,null,0,null,null,0]
[null,null,null,null,null,null,null,null,null,null,null,null,null,null,null,null,null,null,null,null,null,null,null,null,null,null,null,null,null,null,null,null,null,null,null,0,null,null,0]
[null,null,null,null,null,null,null,null,null,null,null,null,null,null,null,null,null,null,null,null,null,null,null,null,null,null,null,null,null,null,null,null,null,null,null,0,null,null,0]
[null,null,null,null,null,null,null,null,null,null,null,null,null,null,null,null,null,null,null,null,null,null,null,null,null,null,null,null,null,null,null,null,null,null,null,0,null,null,0]
[null,null,null,null,null,null,null,null,null,null,null,null,null,null,null,null,null,null,null,null,null,null,null,null,null,null,null,null,null,null,null,null,null,null,null,0,null,null,0]
[null,null,null,null,null,null,null,null,null,null,null,null,null,null,null,null,null,null,null,null,null,null,null,null,null,null,null,null,null,null,null,null,null,null,null,0,null,null,0]
[null,null,null,null,null,null,null,null,null,null,null,null,null,null,null,null,null,null,null,null,null,null,null,null,null,null,null,null,null,null,null,null,null,null,null,0,null,null,0]
[null,null,null,null,null,null,null,null,null,null,null,null,null,null,null,null,null,null,null,null,null,null,null,null,null,null,null,null,null,null,null,null,null,null,null,0,null,null,0]
[null,null,null,null,null,null,null,null,null,null,null,null,null,null,null,null,null,null,null,null,null,null,null,null,null,null,null,null,null,null,null,null,null,null,null,0,null,null,0]
[null,null,null,null,null,null,null,null,null,null,null,null,null,null,null,null,null,null,null,null,null,null,null,null,null,null,null,null,null,null,null,null,null,null,null,0,null,null,0]
[null,null,null,null,null,null,null,null,null,null,null,null,null,null,null,null,null,null,null,null,null,null,null,null,null,null,null,null,null,null,null,null,null,null,null,0,null,null,0]
[null,null,null,null,null,null,null,null,null,null,null,null,null,null,null,null,null,null,null,null,null,null,null,null,null,null,null,null,null,null,null,null,null,null,null,0,null,null,0]
[null,null,null,null,null,null,null,null,null,null,null,null,null,null,null,null,null,null,null,null,null,null,null,null,null,null,null,null,null,null,null,null,null,null,null,0,null,null,0]
[null,null,null,null,null,null,null,null,null,null,null,null,null,null,null,null,null,null,null,null,null,null,null,null,null,null,null,null,null,null,null,null,null,null,null,0,null,null,0]
[null,null,null,null,null,null,null,null,null,null,null,null,null,null,null,null,null,null,null,null,null,null,null,null,null,null,null,null,null,null,null,null,null,null,null,0,null,null,0]
[null,null,null,null,null,null,null,null,null,null,null,null,null,null,null,null,null,null,null,null,null,null,null,null,null,null,null,null,null,null,null,null,null,null,null,0,null,null,0]
[null,null,null,null,null,null,null,null,null,null,null,null,null,null,null,null,null,null,null,null,null,null,null,null,null,null,null,null,null,null,null,null,null,null,null,0,null,null,0]
[null,null,null,null,null,null,null,null,null,null,null,null,null,null,null,null,null,null,null,null,null,null,null,null,null,null,null,null,null,null,null,null,null,null,null,0,null,null,0]
[null,null,null,null,null,null,null,null,null,null,null,null,null,null,null,null,null,null,null,null,null,null,null,null,null,null,null,null,null,null,null,null,null,null,null,0,null,null,0]
[null,null,null,null,null,null,null,null,null,null,null,null,null,null,null,null,null,null,null,null,null,null,null,null,null,null,null,null,null,null,null,null,null,null,null,0,null,null,0]
[null,null,null,null,null,null,null,null,null,null,null,null,null,null,null,null,null,null,null,null,null,null,null,null,null,null,null,null,null,null,null,null,null,null,null,0,null,null,0]
[null,null,null,null,null,null,null,null,null,null,null,null,null,null,null,null,null,null,null,null,null,null,null,null,null,null,null,null,null,null,null,null,null,null,null,0,null,null,0]
[null,null,null,null,null,null,null,null,null,null,null,null,null,null,null,null,null,null,null,null,null,null,null,null,null,null,null,null,null,null,null,null,null,null,null,0,null,null,0]
[null,null,null,null,null,null,null,null,null,null,null,null,null,null,null,null,null,null,null,null,null,null,null,null,null,null,null,null,null,null,null,null,null,null,null,0,null,null,0]
[null,null,null,null,null,null,null,null,null,null,null,null,null,null,null,null,null,null,null,null,null,null,null,null,null,null,null,null,null,null,null,null,null,null,null,{"$f":"SUM(E74:AI74)","v":0},null,null,{"$f":"AJ74*AL74","v":0}]
[null,null,null,null,null,null,null,null,null,null,null,null,null,null,null,null,null,null,null,null,null,null,null,null,null,null,null,null,null,null,null,null,null,null,null,0,null,null,0]
[null,null,null,null,null,null,null,null,null,null,null,null,null,null,null,null,null,null,null,null,null,null,null,null,null,null,null,null,null,null,null,null,null,null,null,0,null,null,0]
[null,null,null,null,null,null,null,null,null,null,null,null,null,null,null,null,null,null,null,null,null,null,null,null,null,null,null,null,null,null,null,null,null,null,null,0,null,null,0]
[null,null,null,null,null,null,null,null,null,null,null,null,null,null,null,null,null,null,null,null,null,null,null,null,null,null,null,null,null,null,null,null,null,null,null,0,null,null,0]
[null,null,null,null,null,null,null,null,null,null,null,null,null,null,null,null,null,null,null,null,null,null,null,null,null,null,null,null,null,null,null,null,null,null,null,0,null,null,0]
[null,null,null,null,null,null,null,null,null,null,null,null,null,null,null,null,null,null,null,null,null,null,null,null,null,null,null,null,null,null,null,null,null,null,null,0,null,null,0]
[null,null,null,null,null,null,null,null,null,null,null,null,null,null,null,null,null,null,null,null,null,null,null,null,null,null,null,null,null,null,null,null,null,null,null,0,null,null,0]
[null,null,null,null,null,null,null,null,null,null,null,null,null,null,null,null,null,null,null,null,null,null,null,null,null,null,null,null,null,null,null,null,null,null,null,0,null,null,0]
[null,null,null,null,null,null,null,null,null,null,null,null,null,null,null,null,null,null,null,null,null,null,null,null,null,null,null,null,null,null,null,null,null,null,null,0,null,null,0]
[null,null,null,null,null,null,null,null,null,null,null,null,null,null,null,null,null,null,null,null,null,null,null,null,null,null,null,null,null,null,null,null,null,null,null,0,null,null,0]
[null,null,null,null,null,null,null,null,null,null,null,null,null,null,null,null,null,null,null,null,null,null,null,null,null,null,null,null,null,null,null,null,null,null,null,0,null,null,0]
[null,null,null,null,null,null,null,null,null,null,null,null,null,null,null,null,null,null,null,null,null,null,null,null,null,null,null,null,null,null,null,null,null,null,null,0,null,null,0]
[null,null,null,null,null,null,null,null,null,null,null,null,null,null,null,null,null,null,null,null,null,null,null,null,null,null,null,null,null,null,null,null,null,null,null,null,null,null,{"$f":"SUM(AM8:AM86)","v":0}]