{"text_format":"1","workbook":"xlsx","n_sheets":5,"sheets":["pms230","pms170","Feuil1","Feuil2","Feuil3"],"not_rendered":{"charts":0,"images":0,"macros":1,"external_links":1,"defined_names":1,"comments":3,"pivot_tables":0},"unopened":[],"bounds":{"document_bytes":16777216,"sheet_cells":100000,"rows_first":2000,"rows_last":500,"rows_between":2000,"halvings":0,"cell_chars":16384,"cell_head_chars":4096},"cells_cut":0,"cells_raw":0,"read":"whole","date_system":"1900"}

{"sheet":"pms230","index":0,"n_rows":287,"n_cols":15,"rows_kept":287,"cut":false,"hidden":false,"merged":[]}
["     OF","Article     ","Libelle             ","Deb OP","Fin OP"," Qte C "," Qte F ","StC","StO","Fourn","Proj ","GTech","Respons   ","Remarques           ","P"]
["960044","F0476122","ENS PLATEAU TABLETTE","2017-01-26","2017-01-31","61","","22","70","","","FZ301","351010","38cts --> 41cts  ( t","9"]
["960972","F0476122","ENS PLATEAU TABLETTE","2017-01-27","2017-01-30","62","","22","40","","","FZ301","351010","","9"]
["962138","F370685","ENS PORTE","2017-01-30","2017-01-30","9","","33","40","","","F?","351010","","9"]
["962221","F368434P104","H104 CACHE CHARNIÈRE","2017-01-30","2017-01-30","50","","22","40","","","F?","351010","","9"]
["961732","F0476122","ENS PLATEAU TABLETTE","2017-01-31","2017-01-31","46","","22","40","","","FZ301","351010","","9"]
["958912","F040870P020","H020 - CACHE ENJOLIV","2017-01-31","2017-01-31","2","","22","70","","","F?","351010","","9"]
["962117","FRETOUCRNCE1","ARTICLE RETOUCHE RNC","2017-02-01","2017-02-01","90","","99","40","","","F?","351000","","9"]
["958008","F0442119","ENS TAB DORSALE","2017-02-01","2017-02-02","22","","22","40","","","FZ104","351000","","9"]
["959606","F0476122","ENS PLATEAU TABLETTE","2017-02-01","2017-02-06","50","","22","70","","","FZ301","351010","38cts --> 41cts  ( t","9"]
["959607","F0476122","ENS PLATEAU TABLETTE","2017-02-01","2017-02-06","50","","22","70","","","FZ301","351010","38cts --> 41cts  ( t","9"]
["961066","F0517739","ENS TABLETTE DORSALE","2017-02-01","2017-02-01","4","","22","40","","","FZ308","351000","modifier temps : ajo","9"]
["942075","F0512458","ENS TABLETTE DORSALE","2017-02-01","2017-02-01","5","3","29","70","","","FZ114","351000","","9"]
["959182","F0492420","ENS TABLETTE DORSALE","2017-02-01","2017-02-01","13","","33","40","","","F3135","351000","lup 3072","9"]
["955912","F0521253","ENS TABLETTE DORSALE","2017-02-02","2017-02-02","5","","33","70","","","FZ306","351010","modifier temps : ajo","9"]
["942075","F0512458","ENS TABLETTE DORSALE","2017-02-02","2017-02-02","5","3","29","70","","","FZ114","351000","","9"]
["961556","F19C0D0060S0","CAPOT RENFORT IPSC (","2017-02-02","2017-02-02","8","","99","40","","","F?","351010","lup 3146","9"]
["957702","F0503364","ENS TABLETTE DORSALE","2017-02-02","2017-02-02","10","","22","70","","","F?","351000","LUP 3059","9"]
["962068","F327807P020","H020 CAPOT ACCD LAT","2017-02-02","2017-02-02","14","","22","40","","","F?","351010","","9"]
["962066","F332181P020","H020 CAPOT INTERMEDI","2017-02-02","2017-02-02","15","","22","40","","","F?","351010","","9"]
["962067","F340205P020","H020 ENS CAPOT ACCD","2017-02-02","2017-02-02","7","","22","40","","","F?","351060","","9"]
["955912","F0521253","ENS TABLETTE DORSALE","2017-02-03","2017-02-03","5","","33","70","","","FZ306","351010","","9"]
["958658","J2000012","FAIRING BACKERST","2017-02-03","2017-02-03","4","","99","40","","","JDABP","351020","","9"]
["958418","J2002053","STOWAGE BIN RH","2017-02-03","2017-02-03","12","","99","70","","","JARIP","351020","","9"]
["957717","F0505127","SUPPORT SEAT TO SEAT","2017-02-03","2017-02-03","2","","33","70","","","FZ306","351010","","9"]
["958419","J2002053","STOWAGE BIN RH","2017-02-03","2017-02-03","10","","99","40","","","JARIP","351020","","9"]
["961333","F337135","REMPLISSAGE TABLETTE","2017-02-03","2017-02-03","23","","33","40","","","F?","351015","","9"]
["960093","F0504759","ENS TABLETTE STD","2017-02-06","2017-02-06","45","","33","70","","","F3142","351000","LUP 2998","9"]
["960007","J2002129","LINER ASSY LOW SEAT","2017-02-06","2017-02-06","14","","23","40","","","JARIP","351030","","9"]
["960008","J2002129","LINER ASSY LOW SEAT","2017-02-06","2017-02-06","14","","23","40","","","JARIP","351030","","9"]
["960009","J2002129","LINER ASSY LOW SEAT","2017-02-06","2017-02-06","14","","22","40","","","JARIP","351030","","9"]
["960099","F0447749","CAPOT INF EQ","2017-02-06","2017-02-06","29","25","99","70","","","FT198","351060","","9"]
["961868","F0439976","REMPLISSAGE TAB BASS","2017-02-06","2017-02-06","35","","33","40","","","F3100","351015","","9"]
["961523","J2001707","DOUBLER CLOSEOUT SID","2017-02-07","2017-02-07","4","","22","40","","","J409P","351010","","9"]
["961327","F0514466","CAPOT ANTI GOUTTE D","2017-02-07","2017-02-07","3","","33","40","","","FZ306","351010","lup 3072","9"]
["962134","F19Z0D0060S1","DEMI RANGE GILET SUP","2017-02-07","2017-02-07","7","","22","40","","","F?","351010","","9"]
["962087","F0401146","ENS CAPOT ACC STD","2017-02-07","2017-02-07","7","","22","40","","","F3501","351010","","9"]
["962090","F0440131","CAPOT INT IAT","2017-02-07","2017-02-07","5","","22","40","","","F3102","351010","","9"]
["961898","F0513750","CAPOT THERMO","2017-02-07","2017-02-07","3","","22","40","","","F3809","351010","","9"]
["962078","F0484891","ENS. CAPOT USB","2017-02-07","2017-02-07","10","","33","40","","","F3126","351060","temps ajustage --> d","9"]
["961221","F0520343","ENS CAPOT COMBO AV","2017-02-07","2017-02-07","2","","99","40","","","F3153","351010","","9"]
["959229","F337473","REMPLISSAGE","2017-02-07","2017-02-07","45","","33","70","","","F?","351015","","9"]
["962207","F0455795","ENS SUPPORT TV TRONQ","2017-02-08","2017-02-08","8","","22","40","","","F1S01","351010","LUP 2904","9"]
["962205","F0455794","ENS SUPPORT TV TRONQ","2017-02-08","2017-02-08","5","","22","40","","","F1S01","351010","LUP 2904","9"]
["960068","F314541P053","H053 ENS CAPOT FLANC","2017-02-08","2017-02-08","2","","22","40","","","F?","351010","MAJ CDC-56","9"]
["961884","F0518020","ENS TABLETTE DORSALE","2017-02-08","2017-02-08","27","","22","40","","","FZ117","351010","","9"]
["962096","F0448907","CAPOT CACHE ARRIERE","2017-02-08","2017-02-08","31","","22","40","","","F1S01","351010","","9"]
["962092","F0441539","CAPOT INTERIEUR FIXE","2017-02-08","2017-02-08","11","","22","40","","","F3804","351010","","9"]
["962095","F0441671","CAPOT BUMPER","2017-02-08","2017-02-08","21","","22","40","","","F3804","351010","","9"]
["962136","F303918P108","H108 CAPOT CACHE ASS","2017-02-08","2017-02-08","8","","22","40","","","F?","351010","","9"]
["962212","F0460842","CAPOT","2017-02-08","2017-02-08","4","","22","40","","","FZ301","351010","","9"]
["962089","F0440124","CAPOT FLANC G IAT","2017-02-08","2017-02-08","3","","22","40","","","F3102","351010","","9"]
["962189","F0468178","CAPOT DESSOUS TABLET","2017-02-08","2017-02-08","52","","22","40","","","F1S02","351010","","9"]
["960146","F0508971","ENS RENFORT KICK PAN","2017-02-08","2017-02-08","21","","33","40","","","FZ305","351010","lup 3132","9"]
["962186","F0403020","ENS CAPOT ACC 1\"8","2017-02-08","2017-02-08","4","","33","40","","","F3526","351060","","9"]
["962144","F0454846","PORTE GAUCHE IAT EQ","2017-02-08","2017-02-08","2","","33","40","","","F3805","351060","","9"]
["962142","F0454845","PORTE DROITE IAT EQ","2017-02-08","2017-02-08","1","","33","40","","","F3805","351060","","9"]
["962251","F0439976","REMPLISSAGE TAB BASS","2017-02-08","2017-02-08","50","","33","40","","","F3100","351015","","9"]
["962252","F0439976","REMPLISSAGE TAB BASS","2017-02-08","2017-02-08","50","","33","40","","","F3100","351015","","9"]
["962253","F0439976","REMPLISSAGE TAB BASS","2017-02-08","2017-02-08","50","","33","40","","","F3100","351015","","9"]
["961580","F0426390","ENS STRUCT TAB IAT I","2017-02-08","2017-02-08","12","","33","40","","","FZ101","351015","","9"]
["962225","F0455792","ENS SUPPORT TV D","2017-02-09","2017-02-09","10","","33","40","","","F1S01","351000","LUP 2904","9"]
["962227","F0455792","ENS SUPPORT TV D","2017-02-09","2017-02-09","10","","33","40","","","F1S01","351000","LUP 2904","9"]
["962228","F0455792","ENS SUPPORT TV D","2017-02-09","2017-02-09","10","","33","40","","","F1S01","351000","LUP 2904","9"]
["957632","F0517739","ENS TABLETTE DORSALE","2017-02-09","2017-02-09","17","16","22","70","","","FZ308","351010","modifier temps : ajo","9"]
["962103","F0440199","TABLETTE COCKTAIL D","2017-02-09","2017-02-09","10","","33","40","","","F1S01","351000","lup 2643","9"]
["962055","F0440199","TABLETTE COCKTAIL D","2017-02-09","2017-02-09","7","","33","40","","","F1S01","351000","lup 2643","9"]
["961517","J2001036","FAIRING FRONT TOP","2017-02-09","2017-02-09","3","","22","40","","","J572P","351020","","9"]
["961267","F337462P134","H134 PLATEAU TABLETT","2017-02-09","2017-02-09","52","","22","40","","","F?","351010","","9"]
["957935","F0439977","PLATEAU TAB BASSE L3","2017-02-09","2017-02-09","46","","33","40","","","F3100","351000","lup 3086","9"]
["961622","F0457066","CAPOT CROSSE LAT","2017-02-09","2017-02-09","52","","33","40","","","F3111","351010","","9"]
["961491","F0440244","CAPOT RENFORT EQ","2017-02-09","2017-02-09","39","","33","40","","","F1S01","351010","","9"]
["962219","F0468176","CAPOT CACHE ARRIERE","2017-02-09","2017-02-09","52","","22","40","","","F1S02","351010","","9"]
["962198","F0470411","CAPOT THERMO","2017-02-09","2017-02-09","52","","22","40","","","F1S02","351010","","9"]
["962133","F0437984","CAPOT CROSSE G","2017-02-09","2017-02-09","32","","22","40","","","F1S01","351010","","9"]
["962012","F0442002","ENS TABLETTE IAT EXT","2017-02-09","2017-02-09","15","","22","40","","","FZ104","351010","","9"]
["962185","F0455942","ENS CAPOT CROSSE EN","2017-02-09","2017-02-09","23","","22","40","","","F3108","351010","","9"]
["961861","F0458344","CAPOT NU INF TABL DO","2017-02-09","2017-02-09","29","","22","40","","","FZ301","351010","","9"]
["961890","F19C0D0030S0","RENFORT PORTE BOISSO","2017-02-09","2017-02-09","6","","22","40","","","F?","351010","","9"]
["961637","F0432816","CACHE LOGEMENT VIDEO","2017-02-09","2017-02-09","3","","22","40","","","FZ102","351010","","9"]
["961010","F050203P020","H020 - CAPOT ACC LAT","2017-02-09","2017-02-09","3","","22","40","","","F?","351010","","9"]
["961859","F0437868","ENSEMBLE CAPOT","2017-02-09","2017-02-09","4","","22","40","","","FZ102","351010","","9"]
["962249","F0439977","PLATEAU TAB BASSE L3","2017-02-09","2017-02-09","30","","22","40","","","F3100","351000","","9"]
["960971","F0476122","ENS PLATEAU TABLETTE","2017-02-09","2017-02-09","48","","22","40","","","FZ301","351010","","9"]
["961217","F0520341","ENS CAPOT COMBO AV","2017-02-09","2017-02-09","5","","22","40","","","F3153","351010","","9"]
["961639","F0471830","CAPOT FLANC COULOIR","2017-02-09","2017-02-09","2","","33","40","","","FZ109","351010","dem Rania   Hassen l","9"]
["961843","F0520120","ENS CAPOT STS","2017-02-09","2017-02-09","2","","33","40","","","FZ307","351010","","9"]
["961872","F0442704","ENS STRUCT TABLETTE","2017-02-09","2017-02-10","50","","33","40","","","FZ104","351015","16,68-->21,5  LUP 24","9"]
["956904","F0493839","ENS REMPLISSAGE TABL","2017-02-09","2017-02-10","50","","33","70","","","F3100","351015","lup 3149","9"]
["958259","F0493839","ENS REMPLISSAGE TABL","2017-02-09","2017-02-10","50","","33","40","","","F3100","351015","lup 3149","9"]
["961209","J2000281","PANEL  LOWER FORWARD","2017-02-10","2017-02-10","13","","22","40","","","JANDP","351020","","9"]
["961210","J2000281","PANEL  LOWER FORWARD","2017-02-10","2017-02-10","13","","22","40","","","JANDP","351020","","9"]
["961198","J2000320","DOUBLER MIDDLE LOWER","2017-02-10","2017-02-10","11","","22","40","","","JANDP","351020","","9"]
["961596","F0505778","CAPOT FOND HAUT DOSS","2017-02-10","2017-02-13","52","","99","40","","","FZ305","351010","lup 3132","9"]
["961496","F0505778","CAPOT FOND HAUT DOSS","2017-02-10","2017-02-13","52","","99","40","","","FZ305","351010","lup 3132","9"]
["961497","F0505778","CAPOT FOND HAUT DOSS","2017-02-10","2017-02-13","52","","99","40","","","FZ305","351010","lup 3132","9"]
["961498","F0505778","CAPOT FOND HAUT DOSS","2017-02-10","2017-02-13","52","","99","40","","","FZ305","351010","lup 3132","9"]
["961499","F0505778","CAPOT FOND HAUT DOSS","2017-02-10","2017-02-13","52","","99","40","","","FZ305","351010","lup 3132","9"]
["961500","F0505778","CAPOT FOND HAUT DOSS","2017-02-10","2017-02-13","52","","99","40","","","FZ305","351010","lup 3132","9"]
["961310","F0508961","KICK PANEL CENT 17\"0","2017-02-10","2017-02-10","52","","33","40","","","FZ305","351010","","9"]
["961542","J2000537","FRONT SIDE FAIRING","2017-02-10","2017-02-10","7","","22","40","","","JTURP","351020","","9"]
["961270","F317040P108","H108 CAPOT CROSSE","2017-02-10","2017-02-10","8","","99","40","","","F?","351010","","9"]
["961514","F0478894","CAPOT SOUS ASSISE","2017-02-10","2017-02-13","51","","33","40","","","FZ303","351010","lup 3110","9"]
["961516","F0478895","CAPOT SOUS ASSISE","2017-02-10","2017-02-13","51","","33","40","","","FZ303","351010","lup 3110","9"]
["961626","F341039P108","H108 CAPOT AV","2017-02-10","2017-02-10","2","","99","40","","","F?","351010","","9"]
["961909","J2002119","FOOTWELL LINER CTR S","2017-02-10","2017-02-10","18","","22","40","","","JARIP","351020","","9"]
["962268","J2000247","DOUBLER BTM INNER LI","2017-02-10","2017-02-10","11","","22","40","","","JANDP","351020","","9"]
["961864","F0497744","ENS PLATEAU TABLE. L","2017-02-10","2017-02-10","3","","22","40","","","F3133","351010","","9"]
["962224","F334220P020","H020 CAPOT FLANC INT","2017-02-10","2017-02-10","3","","22","40","","","F?","351010","","9"]
["961306","J2000016","FAIRING BACKERST","2017-02-10","2017-02-10","2","","22","40","","","JDABP","351020","","9"]
["962052","F317040P015","CAPOT CROSSE","2017-02-10","2017-02-10","3","","22","40","","","F?","351010","","9"]
["961905","F0517742","ENS TABLETTE DORSALE","2017-02-10","2017-02-10","52","","22","40","","","FZ116","351010","","9"]
["961636","F314507P022","H022 ENS CAPOT FLANC","2017-02-10","2017-02-10","5","","22","40","","","F?","351010","","9"]
["961257","F0508961","KICK PANEL CENT 17\"0","2017-02-10","2017-02-10","52","","33","40","","","FZ305","351010","","9"]
["958984","F261413P015","H015 CACHE ENJOLIVEU","2017-02-10","2017-02-10","11","","99","70","","","F?","351010","MAJ CDC-119 20130901","9"]
["960100","F0440245","CAPOT RENFORT EQ","2017-02-10","2017-02-10","36","33","39","70","","","F1S01","351010","","9"]
["962220","F0515813","CAPOT PROTECTION CAB","2017-02-10","2017-02-10","50","","22","40","","","FZ307","351010","","9"]
["961537","J2000247","DOUBLER BTM INNER LI","2017-02-10","2017-02-10","16","","22","40","","","JANDP","351020","","9"]
["962230","F0447749","CAPOT INF EQ","2017-02-10","2017-02-10","21","","33","40","","","FT198","351060","","9"]
["961614","F328380P020","H020 CAPOT DE FLANC","2017-02-10","2017-02-10","6","","99","40","","","F?","351060","","9"]
["957795","F305800P134","H134 ENS KICK PANEL","2017-02-10","2017-02-10","10","","99","70","","","F?","351060","","9"]
["960206","F334220P020","H020 CAPOT FLANC INT","2017-02-10","2017-02-10","6","","99","40","","","F?","351010","","9"]
["961855","F0486379","ENS CAPOTAGE EXTERIE","2017-02-10","2017-02-10","3","","33","40","","","F3808","351060","","9"]
["962229","F0519980","ENS CAPOT STS","2017-02-10","2017-02-10","2","","33","40","","","FZ307","351010","","9"]
["962270","F0426306","ENS CAPOT BERCEAU EQ","2017-02-10","2017-02-10","3","","33","40","","","F1406","351060","","9"]
["960201","F092574A070","H070 KICK PANEL IAT","2017-02-10","2017-02-10","1","","44","40","","","F?","351010","","9"]
["960244","F0458890","CAPOT SOUS ASSISE","2017-02-10","2017-02-10","1","","99","40","","","FZ301","351010","","9"]
["960327","F0442704","ENS STRUCT TABLETTE","2017-02-10","2017-02-10","20","","33","40","","","FZ104","351015","16,68-->21,5  LUP 24","9"]
["959240","F0465467","ENS REMP. TAB DORSAL","2017-02-10","2017-02-10","30","","33","40","","","FZ107","351015","","9"]
["961990","F0442705","ENS STRUCT TABLETTE","2017-02-10","2017-02-10","15","","33","40","","","FZ104","351015","16,68-->21,5  LUP 24","9"]
["959255","F315384","REMPLISSAGE LATERAL","2017-02-10","2017-02-10","50","","33","40","","","F?","351010","","9"]
["962276","F315384","REMPLISSAGE LATERAL","2017-02-10","2017-02-10","12","","33","40","","","F?","351010","","9"]
["961598","F0505778","CAPOT FOND HAUT DOSS","2017-02-13","2017-02-13","12","","99","40","","","FZ305","351010","lup 3132","9"]
["960469","F313205P099","H099 CAPOT ACCD STD","2017-02-13","2017-02-13","20","","99","40","","","F?","351010","","9"]
["962184","F0440521","ENS CAPOT CROSSE PEN","2017-02-13","2017-02-13","52","","22","40","","","F3100","351010","","9"]
["962182","F0440520","ENS CAPOT CROSSE PEN","2017-02-13","2017-02-13","52","","22","40","","","F3100","351010","","9"]
["960202","F329987P108","H108 ENS CAPOTAGE AC","2017-02-13","2017-02-13","4","","22","40","","","F?","351010","","9"]
["961311","F0508961","KICK PANEL CENT 17\"0","2017-02-13","2017-02-13","22","","99","40","","","FZ305","351010","","9"]
["962223","F0478883","ENS CAPOT SOUS ASSIS","2017-02-13","2017-02-13","50","","22","40","","","FZ303","351060","","9"]
["960566","F1EQ0D0170S2","CAPOT EPML","2017-02-13","2017-02-13","34","","99","40","","","F?","351010","","9"]
["960446","F364640P015","H015 CAPOT ACC","2017-02-14","2017-02-14","61","","99","40","","","F?","351010","","9"]
["958030","F364641P015","H015 CAPOT ACC","2017-02-14","2017-02-14","60","","99","70","","","F?","351010","lup 3069","9"]
["958033","F364641P015","H015 CAPOT ACC","2017-02-14","2017-02-14","60","","99","70","","","F?","351010","lup 3069","9"]
["958034","F364641P015","H015 CAPOT ACC","2017-02-14","2017-02-14","55","","99","70","","","F?","351010","lup 3069","9"]
["960488","F0462070","ENS TABLETTE BASSE R","2017-02-14","2017-02-15","55","","24","40","","","F3103","351000","LUP 3059","9"]
["960489","F0462070","ENS TABLETTE BASSE R","2017-02-14","2017-02-15","55","","24","40","","","F3103","351000","LUP 3059","9"]
["961558","F0413767","EQUERRE","2017-02-14","2017-02-14","5","","22","40","","","F3500","351010","","9"]
["962057","F329906H036","H036 BOÎTIER GILET S","2017-02-14","2017-02-14","33","","33","40","","","F?","351010","","9"]
["959272","F0510104","REMPLISSAGE TABLETTE","2017-02-14","2017-02-14","50","","33","70","","","FZ305","351015","","9"]
["959809","F0459537","REMPLISSAGE TABLETTE","2017-02-14","2017-02-14","50","20","39","70","","","F3105","351015","","9"]
["960203","F330191","REMPLISSAGE CAPOT FL","2017-02-14","2017-02-14","6","","33","40","","","F?","351015","","9"]
["960910","F0504771","ENS REMPLISSAGE TABL","2017-02-14","2017-02-15","50","","33","40","","","F3142","351015","lup 3149","9"]
["961603","F0504771","ENS REMPLISSAGE TABL","2017-02-14","2017-02-15","50","","33","40","","","F3142","351015","lup 3149","9"]
["961604","F0504771","ENS REMPLISSAGE TABL","2017-02-14","2017-02-15","50","","33","40","","","F3142","351015","lup 3149","9"]
["958036","F364640P015","H015 CAPOT ACC","2017-02-15","2017-02-15","18","","99","70","","","F?","351010","","9"]
["957694","F0519991","CAPOT PROTEGE CABLE","2017-02-15","2017-02-15","6","","33","40","","","FZ307","351010","lup 3019","9"]
["958646","F0437429","CAPOT PROTECTION D","2017-02-15","2017-02-15","6","","33","40","","","F1S01","351010","","9"]
["961875","F0442704","ENS STRUCT TABLETTE","2017-02-15","2017-02-16","50","","33","40","","","FZ104","351015","16,68-->21,5  LUP 24","9"]
["961876","F0442704","ENS STRUCT TABLETTE","2017-02-15","2017-02-16","48","","33","40","","","FZ104","351015","16,68-->21,5  LUP 24","9"]
["962233","F0455793","ENS SUPPORT TV G","2017-02-16","2017-02-16","10","","33","40","","","F1S01","351000","LUP 2904","9"]
["962234","F0455793","ENS SUPPORT TV G","2017-02-16","2017-02-16","9","","24","40","","","F1S01","351000","LUP 2904","9"]
["961506","F0440200","TABLETTE COCKTAIL G","2017-02-16","2017-02-16","10","","33","40","","","F1S01","351000","lup 2643","9"]
["962104","F0440199","TABLETTE COCKTAIL D","2017-02-16","2017-02-16","8","","33","40","","","F1S01","351000","lup 2643","9"]
["959190","F0494919","ENS TABLETTE DORSALE","2017-02-16","2017-02-16","4","","33","40","","","F3118","351010","lup 3083","9"]
["962287","F274277P022","H022 PLATEAU TABLETT","2017-02-16","2017-02-16","17","","22","40","","","F?","351000","","9"]
["962105","F0472069","JONC  LOGEMENT VIDEO","2017-02-16","2017-02-16","32","","22","40","","","FZ109","351010","","9"]
["961519","F0508958","KICK PANEL CENT 16\"2","2017-02-17","2017-02-17","26","","99","40","","","FZ305","351010","lup 3132","9"]
["959068","F0503856","ENS TABLETTE DORSALE","2017-02-17","2017-02-17","52","","22","40","","","F3137","351000","lup 3019","9"]
["959069","F0503856","ENS TABLETTE DORSALE","2017-02-17","2017-02-17","52","","22","40","","","F3137","351000","lup 3019","9"]
["960909","F0503856","ENS TABLETTE DORSALE","2017-02-17","2017-02-17","52","","22","40","","","F3137","351000","lup 3019","9"]
["961956","J2002123","FOOTWELL LINER ASSY","2017-02-17","2017-02-17","17","","22","40","","","JARIP","351020","","9"]
["961955","J2002123","FOOTWELL LINER ASSY","2017-02-17","2017-02-17","10","","22","40","","","JARIP","351020","","9"]
["962256","J2000145","PANEL BACKSHELL STIF","2017-02-17","2017-02-17","17","","22","40","","","JANDP","351020","","9"]
["962257","J2000145","PANEL BACKSHELL STIF","2017-02-17","2017-02-17","17","","22","40","","","JANDP","351020","","9"]
["954852","F0508972","ENS RENFORT KICK PAN","2017-02-17","2017-02-17","51","","33","40","","","FZ305","351010","","9"]
["954853","F0508972","ENS RENFORT KICK PAN","2017-02-17","2017-02-17","51","","33","40","","","FZ305","351010","","9"]
["954855","F0508972","ENS RENFORT KICK PAN","2017-02-17","2017-02-17","51","","33","40","","","FZ305","351010","","9"]
["954856","F0508972","ENS RENFORT KICK PAN","2017-02-17","2017-02-17","51","","33","40","","","FZ305","351010","","9"]
["954857","F0508972","ENS RENFORT KICK PAN","2017-02-17","2017-02-17","51","","33","70","","","FZ305","351010","","9"]
["954858","F0508972","ENS RENFORT KICK PAN","2017-02-17","2017-02-17","51","","33","70","","","FZ305","351010","","9"]
["960148","F327827P020","H020 GOULOTTE","2017-02-17","2017-02-17","13","","99","70","","","F?","351010","","9"]
["950038","F0509487","ENS TABLETTE DORSALE","2017-02-20","2017-02-20","50","6","29","70","","","FZ305","351000","modifier temps : ajo","9"]
["950579","F0509487","ENS TABLETTE DORSALE","2017-02-20","2017-02-20","50","","22","40","","","FZ305","351000","modifier temps : ajo","9"]
["961553","F0484101","CAPOT DOSSIER","2017-02-20","2017-02-20","22","","99","40","","","FT180","351010","lup 3110","9"]
["962262","J2000144","PANEL SHOE STOW UPPE","2017-02-20","2017-02-20","17","","22","40","","","JANDP","351020","","9"]
["962263","J2000144","PANEL SHOE STOW UPPE","2017-02-20","2017-02-20","17","","22","40","","","JANDP","351020","","9"]
["949228","F325647P108","H108 ENS CAPOT HABIL","2017-02-20","2017-02-20","51","","44","40","","","F?","351010","","9"]
["960207","F0406440","CAPOT DE FLANC INT D","2017-02-20","2017-02-20","4","","99","40","","","F3512","351010","","9"]
["957840","F040869P070","H070 - CACHE ENJOLIV","2017-02-20","2017-02-20","10","","99","70","","","F?","351010","","9"]
["950038","F0509487","ENS TABLETTE DORSALE","2017-02-21","2017-02-21","50","6","29","70","","","FZ305","351000","","9"]
["960481","F276757P008","H008 CAPOT ACCD GAUC","2017-02-21","2017-02-21","47","","99","40","","","FT180","351010","35----> 22cts  (( ce","9"]
["962130","F0441847","CAPOTAGE ARRIERE","2017-02-21","2017-02-21","20","","22","40","","","F3804","351060","","9"]
["962237","F0506321","CAPOT POCHETTE DOSSI","2017-02-22","2017-02-22","52","","33","40","","","FZ305","351010","","9"]
["962241","F0506321","CAPOT POCHETTE DOSSI","2017-02-22","2017-02-22","25","","22","40","","","FZ305","351010","","9"]
["962236","F0506320","CAPOT POCHETTE DOSSI","2017-02-22","2017-02-22","17","","33","40","","","FZ305","351010","","9"]
["961312","F0506331","ENS RENFORT FOND DOS","2017-02-22","2017-02-22","51","","99","40","","","FZ305","351010","lup 3132","9"]
["961314","F0506331","ENS RENFORT FOND DOS","2017-02-22","2017-02-22","51","","99","40","","","FZ305","351010","lup 3132","9"]
["960478","F19Z0D0010R0","CACHE CROSSE D (P076","2017-02-22","2017-02-22","51","","99","40","","","F?","351010","","9"]
["960476","F19Z0D0010L0","CACHE CROSSE G (P076","2017-02-22","2017-02-22","46","","99","40","","","F?","351010","","9"]
["960480","F19Z0D0010R0","CACHE CROSSE D (P076","2017-02-22","2017-02-22","37","","99","40","","","F?","351010","","9"]
["960477","F19Z0D0010L0","CACHE CROSSE G (P076","2017-02-22","2017-02-22","21","","99","40","","","F?","351010","","9"]
["961315","F0506331","ENS RENFORT FOND DOS","2017-02-22","2017-02-22","52","","33","40","","","FZ305","351010","","9"]
["961313","F0506331","ENS RENFORT FOND DOS","2017-02-22","2017-02-22","51","","99","40","","","FZ305","351010","","9"]
["959270","F0517740","REMPLISSAGE TAB DORS","2017-02-22","2017-02-22","22","","33","40","","","FZ308","351010","","9"]
["957682","F0509562","ENS  TABLETTE DORSAL","2017-02-23","2017-02-23","9","8","22","70","","","FZ305","351000","modifier temps : ajo","9"]
["960450","F313205P015","H015 CAPOT ACC STD","2017-02-23","2017-02-23","61","","99","40","","","F?","351010","","9"]
["960451","F313205P015","H015 CAPOT ACC STD","2017-02-23","2017-02-23","61","","99","40","","","F?","351010","","9"]
["960452","F313205P015","H015 CAPOT ACC STD","2017-02-23","2017-02-23","61","","99","40","","","F?","351010","","9"]
["960448","F364640P015","H015 CAPOT ACC","2017-02-23","2017-02-23","61","","99","40","","","F?","351010","","9"]
["961243","F364640P015","H015 CAPOT ACC","2017-02-23","2017-02-23","20","","99","40","","","F?","351010","","9"]
["962242","F0483648","CAPOT GOULOTTE","2017-02-23","2017-02-23","52","","22","40","","","FZ301","351010","","9"]
["962243","F0483648","CAPOT GOULOTTE","2017-02-23","2017-02-23","52","","22","40","","","FZ301","351010","","9"]
["962244","F0483648","CAPOT GOULOTTE","2017-02-23","2017-02-23","52","","22","40","","","FZ301","351010","","9"]
["962245","F0483648","CAPOT GOULOTTE","2017-02-23","2017-02-23","52","","22","40","","","FZ301","351010","","9"]
["962246","F0483648","CAPOT GOULOTTE","2017-02-23","2017-02-23","52","","22","40","","","FZ301","351010","","9"]
["962247","F0483648","CAPOT GOULOTTE","2017-02-23","2017-02-23","25","","22","40","","","FZ301","351010","","9"]
["958048","F0483558","ENS TABLETTE DORSALE","2017-02-24","2017-02-24","3","","24","40","","","F3123","351000","","9"]
["957682","F0509562","ENS  TABLETTE DORSAL","2017-02-24","2017-02-24","9","8","22","70","","","FZ305","351000","","9"]
["961513","F0520338","COUVERCLE","2017-02-24","2017-02-24","52","","33","40","","","F3153","351010","","9"]
["962062","F0453682","PLATEAU","2017-02-24","2017-02-24","22","","22","40","","","F1615","351010","","9"]
["959906","FRETOUCRNCE1","ARTICLE RETOUCHE RNC","2017-02-24","2017-02-24","2","","99","40","","","F?","351020","","9"]
["957966","F223858P070","H070 CAPOT ACCD HAND","2017-02-24","2017-02-24","53","","99","70","","","F?","351010","","9"]
["957735","F223857P070","H070 CAPOT ACCD HAND","2017-02-24","2017-02-24","32","","99","70","","","F?","351010","","9"]
["960107","F367468","ENS CAPOT POIGNÉE +","2017-02-24","2017-02-24","50","","99","40","","","F?","351010","","9"]
["960108","F367468","ENS CAPOT POIGNÉE +","2017-02-24","2017-02-24","46","","99","40","","","F?","351010","","9"]
["961029","J2001907","SHROUD LOWER INNER D","2017-02-24","2017-02-24","7","","22","40","","","J409P","351030","","9"]
["956683","F0433016","ENS TABLETTE DORSALE","2017-02-27","2017-02-27","17","","22","40","","","FZ102","351010","","9"]
["962266","J2000181","PANEL SHOE STOW UPPE","2017-02-27","2017-02-27","17","","22","40","","","JANDP","351020","","9"]
["962269","J2001707","DOUBLER CLOSEOUT SID","2017-02-27","2017-02-27","17","","22","40","","","J409P","351010","","9"]
["961518","F0450776","ENS KICK PANEL CENT","2017-02-27","2017-02-27","13","","22","40","","","F3529","351060","","9"]
["960575","J2002061","CLOSEOUT UPPER MED S","2017-02-27","2017-02-27","15","","99","40","","","JARIP","351020","","9"]
["960574","J2002061","CLOSEOUT UPPER MED S","2017-02-27","2017-02-27","11","","22","40","","","JARIP","351020","","9"]
["960577","J2002061","CLOSEOUT UPPER MED S","2017-02-27","2017-02-27","11","","99","40","","","JARIP","351020","","9"]
["961616","F0468874","CAPOT","2017-02-28","2017-02-28","46","","99","40","","","FZ108","351010","","9"]
["962059","F0453680","CAPOT DE FLANC","2017-02-28","2017-02-28","26","","22","40","","","F1615","351010","","9"]
["962061","F0453681","CAPOT DE FLANC","2017-02-28","2017-02-28","25","","22","40","","","F1615","351010","","9"]
["950899","F316158","ENS CAPOT HAB DOS","2017-02-28","2017-02-28","3","","44","40","","","F1402","351010","","9"]
["961618","F1EQ0D0170S2","CAPOT EPML","2017-03-02","2017-03-02","52","","99","40","","","F?","351010","","9"]
["960453","F313205P015","H015 CAPOT ACC STD","2017-03-02","2017-03-02","38","","99","40","","","F?","351010","","9"]
["961621","F225530P041","H041 EQUERRE DE FIXA","2017-03-03","2017-03-03","52","","99","40","","","F?","351010","","9"]
["960492","F0447536","CAPOT JOINT G","2017-03-03","2017-03-03","52","","33","40","","","F1S01","351010","","9"]
["960494","F0447536","CAPOT JOINT G","2017-03-03","2017-03-03","51","","33","40","","","F1S01","351010","","9"]
["960493","F0447536","CAPOT JOINT G","2017-03-03","2017-03-03","50","","33","40","","","F1S01","351010","","9"]
["960619","F0458236","MOUSSE TABLETTE","2017-03-03","2017-03-03","50","","33","70","","","FZ301","351015","","9"]
["961620","F365283P036","H036 ATTACHE RESSORT","2017-03-06","2017-03-06","52","","99","40","","","F?","351010","","9"]
["962072","F0455343","OMEGA RENFORT","2017-03-06","2017-03-06","52","","22","40","","","F3805","351010","","9"]
["961623","F0448730","CAPOT CROSSE CTR M J","2017-03-07","2017-03-08","53","","33","40","","","F3100","351010","","9"]
["962074","F0448730","CAPOT CROSSE CTR M J","2017-03-07","2017-03-07","53","","22","40","","","F3100","351010","","9"]
["958939","F0509326","ENS TABLETTE DORSALE","2017-03-08","2017-03-08","17","","22","40","","","F3143","351000","","9"]
["961619","F0435866","RENFORT CAPOT CROSSE","2017-03-08","2017-03-08","52","","33","40","","","F3100","351010","","9"]
["961608","F0520338","COUVERCLE","2017-03-08","2017-03-08","30","","33","40","","","F3153","351010","","9"]
["961625","F0474804","CAPOT CROSSE CENT","2017-03-08","2017-03-09","52","","33","40","","","F3119","351010","lup 3019","9"]
["961624","F0429187","CAPOT CROSSE LAT D","2017-03-09","2017-03-09","52","","33","40","","","F3100","351010","","9"]
["962079","F0455939","CAPOT SUP CROSSE NU","2017-03-09","2017-03-09","52","","22","40","","","FZ104","351010","","9"]
["962080","F0455939","CAPOT SUP CROSSE NU","2017-03-09","2017-03-09","52","","22","40","","","FZ104","351010","","9"]
["962082","F0455939","CAPOT SUP CROSSE NU","2017-03-09","2017-03-09","52","","22","40","","","FZ104","351010","","9"]
["960496","F0447536","CAPOT JOINT G","2017-03-10","2017-03-10","50","","33","40","","","F1S01","351010","","9"]
["962195","F0453697","PORTE DROITE EQ","2017-03-10","2017-03-10","30","","22","40","","","F3805","351060","4 ---< 8 cts   colla","9"]
["962077","F107933P008","H008 ENS CAPOT ACCD","2017-03-14","2017-03-14","52","","22","40","","","FT147","351010","","9"]
["959269","F369502","MOUSSE CAPOT","2017-03-14","2017-03-14","3","","33","40","","","F?","351015","","9"]
["958078","F0442271","CAPOT TV","2017-03-17","2017-03-17","4","","99","40","","","F3804","351010","lup 3130","9"]
["962258","J2000527","BACKSHELL INNER SIDE","2017-03-17","2017-03-17","17","","22","40","","","JTURP","351020","","9"]
["962259","J2000527","BACKSHELL INNER SIDE","2017-03-17","2017-03-17","17","","22","40","","","JTURP","351020","","9"]
["962264","J2000399","FRONT SIDE FAIRING","2017-03-17","2017-03-17","17","","22","40","","","JTURP","351020","","9"]
["962265","J2000399","FRONT SIDE FAIRING","2017-03-17","2017-03-17","17","","22","40","","","JTURP","351020","","9"]
["962254","J2000744","KBD COVER PANEL","2017-03-17","2017-03-17","17","","22","40","","","JTURP","351020","","9"]
["962255","J2000744","KBD COVER PANEL","2017-03-17","2017-03-17","17","","22","40","","","JTURP","351020","","9"]
["962250","F0511677"," CAPOT SEAT TO SEAT","2017-03-17","2017-03-17","52","","22","40","","","FZ307","351010","","9"]
["960578","J2002061","CLOSEOUT UPPER MED S","2017-03-17","2017-03-17","3","","99","40","","","JARIP","351020","","9"]
["956847","F0508972","ENS RENFORT KICK PAN","2017-03-23","2017-03-23","2","","22","40","","","FZ305","351010","","9"]
["961445","F0506331","ENS RENFORT FOND DOS","2017-03-29","2017-03-29","51","","99","40","","","FZ305","351010","lup 3132","9"]
["961446","F0506331","ENS RENFORT FOND DOS","2017-03-29","2017-03-29","34","","99","40","","","FZ305","351010","lup 3132","9"]
["962190","F0460673","CAPOT","2017-03-31","2017-03-31","52","","22","40","","","FZ301","351010","","9"]
["962267","J2000181","PANEL SHOE STOW UPPE","2017-04-03","2017-04-03","17","","22","40","","","JANDP","351020","","9"]
["962083","F0455939","CAPOT SUP CROSSE NU","2017-04-06","2017-04-06","52","","22","40","","","FZ104","351010","","9"]
["962084","F0455939","CAPOT SUP CROSSE NU","2017-04-06","2017-04-06","52","","22","40","","","FZ104","351010","","9"]
["962085","F0455939","CAPOT SUP CROSSE NU","2017-04-06","2017-04-06","52","","22","40","","","FZ104","351010","","9"]
["962099","F0455939","CAPOT SUP CROSSE NU","2017-04-14","2017-04-14","52","","22","40","","","FZ104","351010","","9"]
["962100","F0455939","CAPOT SUP CROSSE NU","2017-04-14","2017-04-14","52","","22","40","","","FZ104","351010","","9"]
["962101","F0455939","CAPOT SUP CROSSE NU","2017-04-14","2017-04-14","52","","22","40","","","FZ104","351010","","9"]
["959743","J2002078","DRIP TRAY ASSY LOW S","2017-04-28","2017-04-28","11","","99","40","","","JARIP","351030","","9"]
["961599","F0443425","CLIP SUP G","2017-05-25","2017-05-25","52","51","99","70","","","FT198","351010","","9"]
["959976","F0497750","ENS TABLETTE DORSALE","2017-07-07","2017-07-07","11","","22","40","","","F3133","351000","LUP 3059","9"]
["958830","F363517","REMPLISSAGE","2017-07-13","2017-07-13","50","21","99","70","","","F?","351015","","9"]
["960365","J2002140","FOOTWELL ELECT COVER","2017-07-21","2017-07-21","3","","22","40","","","JARIP","351020","","9"]
["961260","F0447535","CAPOT JOINT D","2017-11-16","2017-11-16","50","","22","40","","","F1S01","351010","","9"]
["961261","F0447535","CAPOT JOINT D","2017-12-07","2017-12-07","49","","22","40","","","F1S01","351010","","9"]

{"sheet":"pms170","index":1,"n_rows":264,"n_cols":15,"rows_kept":264,"cut":false,"hidden":false,"merged":[]}
["Respons   ","Produit        ","Nom                           ","OrdPlan","Dép","Qté CdeUnR ","Dt Déb","Dte F ","Stt","Pté","    No prog","MA","No prj ","EPj     ","A/F"]
["351000","F0414369","TABLETTE DORSALE 3 RECESS STD","6488930","32P",15,"2017-02-20","2017-02-24","20"," 9","","A1","","","1"]
["351000","F0442004","ENS TABLETTE IAT INT","7150613","32P",12,"2017-02-06","2017-02-10","20"," 9","","A2","","",""]
["351000","F0442119","ENS TAB DORSALE","7123835","32P",20,"2017-01-25","2017-02-21","20"," 9","","A1","","","11"]
["351000","F0454771","ENS SUPPORT TV D","6834622","32P",5,"2017-02-14","2017-02-16","20"," 9","","A1","","","1"]
["351000","F0454774","ENS SUPPORT TV TRONQUE G","7094129","32P",3,"2017-02-14","2017-02-16","20"," 9","","A1","","","1"]
["351000","F0455793","ENS SUPPORT TV G","7147353","32P",13,"2017-02-03","2017-02-07","10"," 9","","A1","","",""]
["351000","F0459470","ENS PLATEAU TABLETTE","7256686","32P",1,"2017-02-03","2017-02-09","10"," 9","","A1","","",""]
["351000","F0466132","ENS TABLETTE DORSALE LGE","6999038","32P",6,"2017-01-31","2017-02-10","20"," 9","","A1","","","20"]
["351000","F047152P075","H075 KICK PANEL 1 PAX","6994870","32P",2,"2017-02-28","2017-02-28","20"," 9","","A1","","",""]
["351000","F0482523","ENS TABLETTE DORSALE STD","7057699","32P",50,"2017-02-23","2017-02-25","20"," 9","","A1","","","30"]
["351000","F0482523","ENS TABLETTE DORSALE STD","7057700","32P",50,"2017-02-23","2017-02-25","20"," 9","","A1","","","30"]
["351000","F0482523","ENS TABLETTE DORSALE STD","7057703","32P",22,"2017-02-23","2017-02-25","20"," 9","","A1","","",""]
["351000","F0483558","ENS TABLETTE DORSALE STD","7253755","32P",4,"2017-02-13","2017-02-15","20"," 9","","A1","","",""]
["351000","F0500529","ENS TABLETTE DORSALE 18\"1","6830851","32P",1,"2017-02-07","2017-02-09","20"," 9","","A1","","","14"]
["351000","F0503336","ENS PLATEAU TABLETTE STD","6954926","32P",2,"2017-02-22","2017-02-23","20"," 9","","A1","","","20"]
["351000","F0503614","ENS PLATEAU TABLETTE LGE","6998916","32P",10,"2017-02-08","2017-02-09","20"," 9","","A1","","",""]
["351000","F0504759","ENS TABLETTE STD","7147907","32P",50,"2017-02-06","2017-02-07","20"," 9","","A2","","",""]
["351000","F0504759","ENS TABLETTE STD","7147908","32P",50,"2017-02-06","2017-02-07","20"," 9","","A2","","",""]
["351000","F0504759","ENS TABLETTE STD","7147909","32P",50,"2017-02-06","2017-02-07","20"," 9","","A2","","",""]
["351000","F0504759","ENS TABLETTE STD","7184472","32P",50,"2017-02-07","2017-02-08","20"," 9","","A2","","",""]
["351000","F0507336","ENS TABLETTE DORSALE RDT","7192652","32P",23,"2017-02-07","2017-02-08","20"," 9","","A2","","","11"]
["351000","F0509487","ENS TABLETTE DORSALE 17\"05","6835753","32P",50,"2017-02-17","2017-02-22","20"," 9","","A1","","","10"]
["351000","F0509487","ENS TABLETTE DORSALE 17\"05","6835754","32P",50,"2017-02-17","2017-02-22","20"," 9","","A1","","","20"]
["351000","F0509487","ENS TABLETTE DORSALE 17\"05","6835755","32P",26,"2017-02-17","2017-02-22","20"," 9","","A1","","",""]
["351000","F0509487","ENS TABLETTE DORSALE 17\"05","6967583","32P",6,"2017-02-17","2017-02-22","20"," 9","","A1","","",""]
["351000","F0509487","ENS TABLETTE DORSALE 17\"05","6967584","32P",4,"2017-02-17","2017-02-22","20"," 9","","A1","","",""]
["351000","F087144P075","H075 KICK PANEL 1 PAX","6440454","32P",2,"2017-02-28","2017-02-28","20"," 9","","A1","","",""]
["351000","F312301P022","H022 PLATEAU TABLETTE","6481819","32P",10,"2017-02-03","2017-02-07","20"," 9","","A1","","","1"]
["351000","F321702P022","H022 ENS PLATEAU TABLETTE","6979053","32P",23,"2017-02-06","2017-02-13","20"," 9","","A1","","","1"]
["351000","F363515","PLATEAU DE TABLETTE 3517","6987615","32P",3,"2017-01-27","2017-01-31","20"," 9","","A2","","","30"]
["351000","F363516","PLATEAU DE TABLETTE 3517","7117323","32P",3,"2017-02-03","2017-02-07","20"," 9","","A2","","","10"]
["351010","F020771P070","H070 JONC AVANT","5721673","32P",2,"2017-02-14","2017-02-15","20"," 9","","A2","","",""]
["351010","F0402007","GOULOTTE D","7256584","32P",4,"2017-02-03","2017-02-06","10"," 9","","A1","","","1"]
["351010","F0407802","CAPOT DESSOUS MANCHETTE G","7126622","32P",1,"2017-01-30","2017-01-30","20"," 9","","A2","","",""]
["351010","F0428598","PORTE EQ","7150302","32P",43,"2017-02-09","2017-02-10","20"," 9","","A1","","","40"]
["351010","F0433016","ENS TABLETTE DORSALE 4XRDT","6631544","32P",3,"2017-02-02","2017-02-06","20"," 9","","A1","","","10"]
["351010","F0433266","CAPOT FLANC IAT","7158601","32P",3,"2017-02-09","2017-02-09","10"," 9","","A2","","",""]
["351010","F0433272","CAPOT FLANC IAT","7155619","32P",8,"2017-02-09","2017-02-09","10"," 9","","A2","","",""]
["351010","F0437429","CAPOT PROTECTION D","7196717","32P",30,"2017-02-09","2017-02-09","10"," 9","","A2","","",""]
["351010","F0437983","CAPOT CROSSE D","7010586","32P",1,"2017-02-10","2017-02-10","20"," 9","","A1","","",""]
["351010","F0437984","CAPOT CROSSE G","7010587","32P",25,"2017-02-10","2017-02-11","20"," 9","","A1","","",""]
["351010","F0439787","CACHE POUTRE EQ","7241475","32P",5,"2017-02-06","2017-02-07","20"," 9","","A2","","",""]
["351010","F0439890","CAPOT AVANT","7118815","32P",2,"2017-01-31","2017-02-01","20"," 9","","A2","","",""]
["351010","F0439895","CONTRE CAPOT","7118816","32P",5,"2017-01-31","2017-02-01","20"," 9","","A2","","",""]
["351010","F0440245","CAPOT RENFORT EQ","7150548","32P",50,"2017-02-09","2017-02-10","10"," 9","","A2","","","20"]
["351010","F0442001","ENS TABLETTE IAT EXT","7150595","32P",17,"2017-02-08","2017-02-11","20"," 9","","A1","","",""]
["351010","F0442003","ENS TABLETTE IAT INT","7150607","32P",17,"2017-02-07","2017-02-12","20"," 9","","A1","","",""]
["351010","F0454452","ENS TABLETTE IAT","6653051","32P",3,"2017-02-09","2017-02-12","20"," 9","","A1","","","1"]
["351010","F0454494","ENS TABLETTE IAT  EXT","6653052","32P",8,"2017-02-08","2017-02-11","20"," 9","","A1","","","1"]
["351010","F0458831","CAPOT","7237922","32P",1,"2017-02-09","2017-02-09","10"," 9","","A2","","",""]
["351010","F0458833","CAPOT","7237923","32P",1,"2017-02-09","2017-02-09","10"," 9","","A2","","",""]
["351010","F0458845","CONTRE CAPOT","7212120","32P",1,"2017-02-08","2017-02-09","20"," 9","","A2","","","10"]
["351010","F0460110","CAPOT AR RENFORT","6952058","32P",50,"2017-01-26","2017-01-26","20"," 9","","A2","","","10"]
["351010","F0460362","STRUCTURE MANCHETTE","7241658","32P",1,"2017-02-08","2017-02-08","10"," 9","","A2","","",""]
["351010","F0461121","REGLETTE ACCOUDOIR IAT","7076251","32P",4,"2017-02-10","2017-02-11","20"," 9","","A1","","",""]
["351010","F0464410","CAPOT SUP EQ","6977595","32P",25,"2017-01-27","2017-01-30","20"," 9","","A2","","","10"]
["351010","F0468175","CAPOT CACHE ARRIERE","7147402","32P",4,"2017-02-09","2017-02-09","10"," 9","","A2","","",""]
["351010","F0476122","ENS PLATEAU TABLETTE DORSALE","7110010","32P",5,"2017-02-02","2017-02-10","20"," 9","","A1","","","10"]
["351010","F0476122","ENS PLATEAU TABLETTE DORSALE","7110012","32P",50,"2017-02-07","2017-02-15","20"," 9","","A1","","","11"]
["351010","F0476122","ENS PLATEAU TABLETTE DORSALE","7110013","32P",50,"2017-02-07","2017-02-15","20"," 9","","A1","","",""]
["351010","F0476122","ENS PLATEAU TABLETTE DORSALE","7110014","32P",50,"2017-02-07","2017-02-15","20"," 9","","A1","","",""]
["351010","F0476122","ENS PLATEAU TABLETTE DORSALE","7238136","32P",50,"2017-02-08","2017-02-16","20"," 9","","A1","","",""]
["351010","F0476122","ENS PLATEAU TABLETTE DORSALE","7238137","32P",50,"2017-02-08","2017-02-16","20"," 9","","A1","","",""]
["351010","F0476122","ENS PLATEAU TABLETTE DORSALE","7238138","32P",48,"2017-02-08","2017-02-16","20"," 9","","A1","","",""]
["351010","F0476122","ENS PLATEAU TABLETTE DORSALE","7238139","32P",50,"2017-02-10","2017-02-20","20"," 9","","A1","","",""]
["351010","F0484883","CAPOT USB","7156415","32P",2,"2017-02-03","2017-02-06","10"," 9","","A1","","",""]
["351010","F0486378","CAPOT EXTERIEUR FIXE","7082724","32P",3,"2017-02-07","2017-02-07","20"," 9","","A2","","","20"]
["351010","F0488548","CAPOT AR CROSSE PAROI","7123465","32P",4,"2017-01-26","2017-01-26","20"," 9","","A2","","",""]
["351010","F0488555","RENFORT CAPOT AR CROSSE PAROI","7123466","32P",4,"2017-01-26","2017-01-26","20"," 9","","A2","","",""]
["351010","F0493742"," ENS TABLETTE DORSALE LGE","6749937","32P",50,"2017-02-13","2017-02-23","20"," 9","","A1","","","30"]
["351010","F0493742"," ENS TABLETTE DORSALE LGE","6749938","32P",50,"2017-02-13","2017-02-23","20"," 9","","A1","","",""]
["351010","F0493742"," ENS TABLETTE DORSALE LGE","6841473","32P",50,"2017-02-13","2017-02-23","20"," 9","","A1","","",""]
["351010","F0493742"," ENS TABLETTE DORSALE LGE","6841474","32P",50,"2017-02-13","2017-02-23","20"," 9","","A1","","",""]
["351010","F0493742"," ENS TABLETTE DORSALE LGE","6841475","32P",50,"2017-02-13","2017-02-23","20"," 9","","A1","","",""]
["351010","F0493745","CAPOT SUP TABLETTE LGE","7205417","32P",43,"2017-02-02","2017-02-02","10"," 9","","A1","","",""]
["351010","F0499603","CAPOT INF TABLETTE 17\"70","6707867","32P",12,"2017-01-12","2017-01-12","20"," 9","","A2","","",""]
["351010","F0499646","CAPOT SUP TABLETTE 17\"70","6707870","32P",12,"2017-01-12","2017-01-12","20"," 9","","A2","","",""]
["351010","F0503681","ENS TABLETTE DORSALE STD","6859099","32P",8,"2017-02-09","2017-02-11","20"," 9","","A1","","",""]
["351010","F0504758","ENS PLATEAU TABLETTE STD","7087805","32P",25,"2017-02-02","2017-02-06","20"," 9","","A1","","",""]
["351010","F0507334","ENS PLATEAU TABLETTE RDT","7123591","32P",2,"2017-02-08","2017-02-11","20"," 9","","A1","","",""]
["351010","F0509323","ENS PLATEAU TABLETTE STD","7128251","32P",1,"2017-02-08","2017-02-10","20"," 9","","A1","","",""]
["351010","F0510189","ENS TABLETTE DORSALE 17\"2","6640581","32P",35,"2017-01-30","2017-02-11","20"," 9","","A1","","","11"]
["351010","F0511324","ENS CAPOT SOUS ASSISE","7142412","32P",1,"2017-02-23","2017-02-23","20"," 9","","A1","","",""]
["351010","F0511676"," CAPOT SEAT TO SEAT","7156907","32P",3,"2017-02-09","2017-02-10","10"," 9","","A2","","",""]
["351010","F0514572","ENS CAPOT ANTI GOUTTE D","7126561","32P",1,"2017-02-10","2017-02-11","20"," 9","","A1","","","1"]
["351010","F0514762","ENS REMPLISSAGE TABLETTE LGE","7254986","32P",27,"2017-02-14","2017-02-15","20"," 9","","A1","","","1"]
["351010","F0517741","ENS TABLETTE DORSALE 17\"2","6876817","32P",9,"2017-01-26","2017-02-01","20"," 9","","A2","","","12"]
["351010","F0517742","ENS TABLETTE DORSALE 18\"1","7008715","32P",50,"2017-02-10","2017-02-15","20"," 9","","A1","","","11"]
["351010","F0517742","ENS TABLETTE DORSALE 18\"1","7008716","32P",12,"2017-02-10","2017-02-15","20"," 9","","A1","","",""]
["351010","F0517742","ENS TABLETTE DORSALE 18\"1","7135540","32P",50,"2017-02-21","2017-02-24","20"," 9","","A1","","",""]
["351010","F0519677","ENS TABLETTE DORSALE","6974323","32P",50,"2017-01-24","2017-01-27","20"," 9","","A2","","","30"]
["351010","F0519677","ENS TABLETTE DORSALE","6974324","32P",16,"2017-01-24","2017-01-27","20"," 9","","A2","","",""]
["351010","F0519678","ENS TABLETTE DORSALE","6863283","32P",12,"2017-01-16","2017-01-26","20"," 9","","A2","","","10"]
["351010","F0519813","ENS CAPOT STS","6910155","32P",2,"2017-02-07","2017-02-07","20"," 9","","A1","","","1"]
["351010","F0519825","CAPOT STS","7152101","32P",2,"2017-02-09","2017-02-10","10"," 9","","A2","","",""]
["351010","F0519978","ENS CAPOT STS","7038694","32P",5,"2017-02-10","2017-02-11","20"," 9","","A1","","",""]
["351010","F0519983","ENS CAPOT STS","7038758","32P",3,"2017-02-10","2017-02-11","20"," 9","","A1","","","10"]
["351010","F0519983","ENS CAPOT STS","7038759","32P",15,"2017-02-15","2017-02-15","20"," 9","","A1","","",""]
["351010","F0520343","ENS CAPOT COMBO AV","7049728","32P",2,"2017-03-01","2017-03-02","20"," 9","","A1","","",""]
["351010","F0520602","ENS TABLETTE DORSALE 16\"80","6738442","32P",19,"2017-02-07","2017-02-12","20"," 9","","A1","","","10"]
["351010","F0520603","ENS TABLETTE DORSALE 17\"70","6738451","32P",50,"2017-02-02","2017-02-07","20"," 9","","A1","","","20"]
["351010","F0520603","ENS TABLETTE DORSALE 17\"70","6738452","32P",50,"2017-02-02","2017-02-07","20"," 9","","A1","","",""]
["351010","F0520603","ENS TABLETTE DORSALE 17\"70","6738453","32P",50,"2017-02-02","2017-02-07","20"," 9","","A1","","",""]
["351010","F0520603","ENS TABLETTE DORSALE 17\"70","6738454","32P",50,"2017-02-02","2017-02-07","20"," 9","","A2","","",""]
["351010","F0520603","ENS TABLETTE DORSALE 17\"70","6738455","32P",15,"2017-02-01","2017-02-06","20"," 9","","A1","","","10"]
["351010","F0520603","ENS TABLETTE DORSALE 17\"70","6738456","32P",3,"2017-02-01","2017-02-06","20"," 9","","A1","","",""]
["351010","F0520603","ENS TABLETTE DORSALE 17\"70","7008884","32P",50,"2017-02-06","2017-02-09","20"," 9","","A2","","",""]
["351010","F0520603","ENS TABLETTE DORSALE 17\"70","7008885","32P",50,"2017-02-06","2017-02-09","20"," 9","","A2","","",""]
["351010","F0520603","ENS TABLETTE DORSALE 17\"70","7008886","32P",50,"2017-02-06","2017-02-09","20"," 9","","A2","","",""]
["351010","F0520603","ENS TABLETTE DORSALE 17\"70","7008887","32P",50,"2017-02-06","2017-02-09","20"," 9","","A2","","",""]
["351010","F0520928","ENS CAPOT USB DOUBLE","7254978","32P",9,"2017-02-06","2017-02-07","20"," 9","","A2","","",""]
["351010","F0520965","CAPOT SOUS ASSISE","7254079","32P",5,"2017-02-07","2017-02-07","20"," 9","","A2","","",""]
["351010","F0520966","CAPOT SOUS ASSISE","7254084","32P",6,"2017-02-07","2017-02-07","20"," 9","","A2","","",""]
["351010","F0520967","CAPOT SOUS ASSISE","7254089","32P",5,"2017-02-07","2017-02-07","20"," 9","","A2","","",""]
["351010","F0520968","CAPOT SOUS ASSISE","7254094","32P",6,"2017-02-07","2017-02-07","20"," 9","","A2","","",""]
["351010","F0521253","ENS TABLETTE DORSALE 15\"55","6992371","32P",2,"2017-01-31","2017-02-06","20"," 9","","A1","","","10"]
["351010","F0521733","CAPOT PUB TABLETTE STD","7126327","32P",45,"2017-02-06","2017-02-06","20"," 9","","A1","","",""]
["351010","F0523287","CAPOT SOUS ASSISE","7254099","32P",1,"2017-02-07","2017-02-07","20"," 9","","A2","","",""]
["351010","F0523288","CAPOT SOUS ASSISE","7254102","32P",1,"2017-02-07","2017-02-07","20"," 9","","A2","","",""]
["351010","F0523289","CAPOT SOUS ASSISE","7254105","32P",1,"2017-02-07","2017-02-07","20"," 9","","A2","","",""]
["351010","F0523290","CAPOT SOUS ASSISE","7254108","32P",1,"2017-02-07","2017-02-07","20"," 9","","A2","","",""]
["351010","F0523291","CAPOT SOUS ASSISE","7254111","32P",1,"2017-02-07","2017-02-07","20"," 9","","A2","","",""]
["351010","F0523292","CAPOT SOUS ASSISE","7254114","32P",1,"2017-02-07","2017-02-07","20"," 9","","A2","","",""]
["351010","F0523293","CAPOT SOUS ASSISE","7254117","32P",1,"2017-02-07","2017-02-07","20"," 9","","A2","","",""]
["351010","F0523297","CAPOT SOUS ASSISE","7254120","32P",1,"2017-02-07","2017-02-07","20"," 9","","A2","","",""]
["351010","F0523298","CAPOT SOUS ASSISE","7254123","32P",1,"2017-02-07","2017-02-07","20"," 9","","A2","","",""]
["351010","F0523299","CAPOT SOUS ASSISE","7254126","32P",1,"2017-02-07","2017-02-07","20"," 9","","A2","","",""]
["351010","F0523300","CAPOT SOUS ASSISE","7254129","32P",1,"2017-02-07","2017-02-07","20"," 9","","A2","","",""]
["351010","F0523301","CAPOT SOUS ASSISE","7254132","32P",1,"2017-02-07","2017-02-07","20"," 9","","A2","","",""]
["351010","F0523302","CAPOT SOUS ASSISE","7254135","32P",1,"2017-02-07","2017-02-07","20"," 9","","A2","","",""]
["351010","F0523303","CAPOT SOUS ASSISE","7254138","32P",1,"2017-02-07","2017-02-07","20"," 9","","A2","","",""]
["351010","F0523304","CAPOT SOUS ASSISE","7254141","32P",1,"2017-02-07","2017-02-07","20"," 9","","A2","","",""]
["351010","F0523520","ENS CAPOT AR COMBO","7252122","32P",14,"2017-02-13","2017-02-15","20"," 9","","A1","","",""]
["351010","F0523521","ENS CAPOT AR COMBO","7125553","32P",12,"2017-01-26","2017-01-30","20"," 9","","A2","","",""]
["351010","F0524075","ENS CAPOT USB SIMPLE","7254971","32P",8,"2017-02-06","2017-02-07","20"," 9","","A2","","",""]
["351010","F0524655","CAPOT SOUS ASSISE","7256404","32P",3,"2017-02-07","2017-02-07","10"," 9","","A2","","",""]
["351010","F067324P036","H036 - COUVERCLE","7234305","32P",2,"2017-02-07","2017-02-07","20"," 9","","A2","","","20"]
["351010","F208451P036","H036 PLAQUE SUPPORT","6695934","32P",1,"2017-01-24","2017-01-24","20"," 9","","A2","","",""]
["351010","F243303P036","H036 ENS SUPPORT","6657973","32P",5,"2017-02-10","2017-02-10","20"," 9","","A1","","","21"]
["351010","F259804P015","H015 CAPOT LAT EXT IAT","6836489","32P",2,"2017-02-08","2017-02-11","20"," 9","","A1","","",""]
["351010","F259804P075","H075 CAPOT LAT EXT IAT","6862073","32P",4,"2017-02-10","2017-02-11","20"," 9","","A1","","",""]
["351010","F259804P075","H075 CAPOT LAT EXT IAT","6968418","32P",4,"2017-02-10","2017-02-11","20"," 9","","A1","","",""]
["351010","F259805P015","H015 CAPOT LAT EXT IAT","7254203","32P",6,"2017-02-28","2017-02-28","20"," 9","","A1","","",""]
["351010","F322899P022","H022 CAPOT FLANC INF STD","6721582","32P",2,"2017-02-08","2017-02-11","20"," 9","","A1","","","20"]
["351010","F329906H036","H036 BOÎTIER GILET SAUVETAGE","6658033","32P",6,"2017-02-09","2017-02-11","20"," 9","","A1","","",""]
["351010","F329906H036","H036 BOÎTIER GILET SAUVETAGE","6968456","32P",29,"2017-02-10","2017-02-13","20"," 9","","A1","","","1"]
["351010","F329916","PORTE BOITIER GDS RED","7256498","32P",11,"2017-02-09","2017-02-10","10"," 9","","A2","","",""]
["351010","F332357P108","H108 CALE","7256585","32P",3,"2017-02-03","2017-02-03","10"," 9","","A1","","",""]
["351010","F334199P089","H089 CAPOT KICK PANEL  CENT","6992375","32P",7,"2017-02-09","2017-02-10","20"," 9","","A1","","",""]
["351010","F370685","ENS PORTE","7243129","32P",12,"2017-02-07","2017-02-07","10"," 9","","A2","","","1"]
["351010","F375224P108","H108 TABLETTE L2","6955490","32P",5,"2017-01-27","2017-02-02","20"," 9","","A2","","","1"]
["351010","J2001705","DOUBLER CLOSEOUT SIDE","7002253","32P",2,"2017-01-31","2017-01-31","20"," 9","","A2","","",""]
["351010","J2001705","DOUBLER CLOSEOUT SIDE","7002254","32P",4,"2017-01-30","2017-01-30","20"," 9","","A2","","",""]
["351010","J2001713","PANEL TOP SIDE CLOSEOUT","7002268","32P",11,"2017-02-16","2017-02-17","20"," 9","","A1","","","20"]
["351010","J2001714","PANEL TOP SIDE CLOSEOUT","7002274","32P",9,"2017-02-09","2017-02-10","20"," 9","","A1","","","20"]
["351010","J2001714","PANEL TOP SIDE CLOSEOUT","7129686","32P",10,"2017-02-09","2017-02-10","10"," 9","","A2","","",""]
["351010","J2001724","FAN","7002286","32P",4,"2017-02-10","2017-02-11","20"," 9","","A1","","",""]
["351010","J2001735","SHROUD TOP OUTER","7129725","32P",5,"2017-02-09","2017-02-10","10"," 9","","A2","","","20"]
["351010","J2001763","SHROUD TOP OUTER LH","6627097","32P",1,"2017-02-10","2017-02-10","20"," 9","","A1","","","20"]
["351010","J2001766","SHROUD TOP OUTER RH","7129774","32P",11,"2017-02-07","2017-02-07","20"," 9","","A2","","","20"]
["351010","J2001774","SHROUD TOP OUTER DBLR ASSY","7123867","32P",2,"2017-02-10","2017-02-11","20"," 9","","A1","","",""]
["351010","J2001783","SHROUD MID TOP OUTER RH","6870318","32P",5,"2017-02-10","2017-02-11","20"," 9","","A1","","","20"]
["351010","J2001815","BACKREST SIDE CLOSEOUT ASSY","6763465","32P",1,"2017-01-30","2017-01-30","20"," 9","","A1","","","11"]
["351010","J2001901","SHROUD TOP OUTER DOUBLER","7123874","32P",2,"2017-01-31","2017-01-31","20"," 9","","A2","","",""]
["351015","F0431968","ENS STRUCT TAB IAT EXT","6824126","32P",8,"2017-02-07","2017-02-07","20"," 9","","A1","","",""]
["351015","F0431968","ENS STRUCT TAB IAT EXT","7124309","32P",4,"2017-02-07","2017-02-07","20"," 9","","A2","","",""]
["351015","F0442006","ENS TUBE BRAS TABLETTE 18\"1","6815731","32P",8,"2017-02-09","2017-02-11","20"," 9","","A1","","","11"]
["351015","F0442631","ENS TABLETTE DORSALE 18\"1","7098891","32P",7,"2017-02-02","2017-02-06","20"," 9","","A2","","","2"]
["351015","F0442704","ENS STRUCT TABLETTE","7162687","32P",150,"2017-02-14","2017-02-16","20"," 9","","A1","","",""]
["351015","F0442705","ENS STRUCT TABLETTE","6889290","32P",1,"2017-02-10","2017-02-11","20"," 9","","A1","","",""]
["351015","F0442992","TABLETTE DORSALE 18\"1","7126336","32P",20,"2017-02-10","2017-02-11","20"," 9","","A1","","","1"]
["351015","F0452617","REMPLISSAGE TABLETTE","7232639","32P",50,"2017-02-08","2017-02-08","20"," 9","","A2","","",""]
["351015","F0452617","REMPLISSAGE TABLETTE","7232640","32P",28,"2017-02-08","2017-02-08","20"," 9","","A2","","",""]
["351015","F0458236","MOUSSE TABLETTE","7017474","32P",50,"2017-02-07","2017-02-07","20"," 9","","A2","","",""]
["351015","F0458236","MOUSSE TABLETTE","7067962","32P",50,"2017-02-07","2017-02-07","20"," 9","","A2","","",""]
["351015","F0458236","MOUSSE TABLETTE","7067963","32P",50,"2017-02-07","2017-02-07","20"," 9","","A2","","",""]
["351015","F0458236","MOUSSE TABLETTE","7067964","32P",50,"2017-02-07","2017-02-07","20"," 9","","A2","","",""]
["351015","F0458236","MOUSSE TABLETTE","7067965","32P",50,"2017-02-07","2017-02-07","20"," 9","","A2","","",""]
["351015","F0458236","MOUSSE TABLETTE","7067966","32P",50,"2017-02-07","2017-02-07","20"," 9","","A2","","",""]
["351015","F0458236","MOUSSE TABLETTE","7067967","32P",50,"2017-02-07","2017-02-07","20"," 9","","A2","","",""]
["351015","F0458236","MOUSSE TABLETTE","7067968","32P",50,"2017-02-07","2017-02-07","20"," 9","","A2","","",""]
["351015","F0465467","ENS REMP. TAB DORSALE 17\"2","6762983","32P",2,"2017-02-10","2017-02-10","20"," 9","","A1","","",""]
["351015","F0466915","REMPLISSAGE TABL. DORSALE 18\"1","6840642","32P",1,"2017-02-10","2017-02-11","20"," 9","","A1","","",""]
["351015","F0484040","ENS REMPLISSAGE TABLETTE STD","6765823","32P",50,"2017-02-03","2017-02-06","20"," 9","","A2","","","1"]
["351015","F0484040","ENS REMPLISSAGE TABLETTE STD","6811906","32P",16,"2017-02-03","2017-02-06","20"," 9","","A2","","","1"]
["351015","F0484040","ENS REMPLISSAGE TABLETTE STD","6945790","32P",6,"2017-02-03","2017-02-06","20"," 9","","A2","","",""]
["351015","F0484040","ENS REMPLISSAGE TABLETTE STD","6945791","32P",3,"2017-02-03","2017-02-06","20"," 9","","A2","","",""]
["351015","F0484040","ENS REMPLISSAGE TABLETTE STD","6945792","32P",6,"2017-02-06","2017-02-07","20"," 9","","A2","","",""]
["351015","F0493839","ENS REMPLISSAGE TABLETTE LGE","7018756","32P",50,"2017-02-07","2017-02-07","20"," 9","","A2","","",""]
["351015","F0493839","ENS REMPLISSAGE TABLETTE LGE","7018757","32P",50,"2017-02-07","2017-02-07","20"," 9","","A2","","",""]
["351015","F0498915","REMPLISSAGE TAB. DORSALE 17\"70","7018791","32P",49,"2017-02-01","2017-02-01","20"," 9","","A2","","",""]
["351015","F0504771","ENS REMPLISSAGE TABLETTE STD","7082734","32P",50,"2017-02-02","2017-02-02","20"," 9","","A2","","",""]
["351015","F0504771","ENS REMPLISSAGE TABLETTE STD","7082735","32P",50,"2017-02-09","2017-02-09","20"," 9","","A1","","",""]
["351015","F0504771","ENS REMPLISSAGE TABLETTE STD","7082736","32P",37,"2017-02-09","2017-02-09","20"," 9","","A1","","",""]
["351015","F0504771","ENS REMPLISSAGE TABLETTE STD","7257398","32P",3,"2017-02-09","2017-02-09","10"," 9","","A2","","",""]
["351015","F0507335","ENS REMPLISSAGE TABLETTE STD","7075100","32P",23,"2017-02-20","2017-02-20","20"," 9","","A1","","","1"]
["351015","F347090","TABLETTE DORSALE 3508","6831614","32P",13,"2017-02-09","2017-02-10","20"," 9","","A1","","","1"]
["351015","F375084","MOUSSE TABLETTE","6856848","32P",2,"2017-02-10","2017-02-10","20"," 9","","A1","","",""]
["351020","J2000130","DOOR LIFEVEST STOWAGE","6869728","32P",5,"2017-01-26","2017-01-27","20"," 9","","A2","","",""]
["351020","J2000166","PANEL SHOE STOW LH REAR LHS","7129299","32P",2,"2017-02-09","2017-02-10","10"," 9","","A2","","",""]
["351020","J2000183","FAIRING SIDEARM INNER UPPER","6993095","32P",5,"2017-01-31","2017-01-31","20"," 9","","A1","","",""]
["351020","J2000245","DOUBLER MID INNER LIT POCKET","7129351","32P",5,"2017-02-09","2017-02-10","10"," 9","","A2","","",""]
["351020","J2000384","LOWER CONSOLE FOOT ACCES PANEL","6760896","32P",2,"2017-01-31","2017-01-31","20"," 9","","A2","","",""]
["351020","J2000717","FAIRING SIDE RR","6761765","32P",2,"2017-01-31","2017-01-31","20"," 9","","A1","","",""]
["351020","J2000874","PACKER","7004234","32P",16,"2017-01-30","2017-01-30","20"," 9","","A1","","",""]
["351020","J2001718","CAP TOP AFT","7002279","32P",1,"2017-02-10","2017-02-10","20"," 9","","A1","","","20"]
["351020","J2001776","POCKET VEST UPPER FWD","7002375","32P",16,"2017-02-09","2017-02-10","20"," 9","","A1","","",""]
["351020","J2001776","POCKET VEST UPPER FWD","7126654","32P",7,"2017-02-03","2017-02-06","20"," 9","","A1","","",""]
["351020","J2001779","POCKET VEST UPPER","7002377","32P",9,"2017-02-09","2017-02-11","20"," 9","","A1","","","20"]
["351020","J2001818","FAN","7002422","32P",5,"2017-01-30","2017-01-30","20"," 9","","A2","","",""]
["351020","J2001821","HEADREST REAR CLOSEOUT","7002434","32P",7,"2017-02-10","2017-02-10","20"," 9","","A1","","","20"]
["351020","J2001822","HEADREST REAR CLOSEOUT","6763496","32P",6,"2017-02-17","2017-02-17","20"," 9","","A1","","","20"]
["351020","J2001837","SHROUD TOP INNER DBLR","6872197","32P",3,"2017-01-31","2017-01-31","20"," 9","","A2","","","20"]
["351020","J2001845","DOUBLER SHROUD MID INNER","7004283","32P",1,"2017-02-08","2017-02-09","20"," 9","","A2","","",""]
["351020","J2001845","DOUBLER SHROUD MID INNER","7004284","32P",1,"2017-02-08","2017-02-09","20"," 9","","A2","","",""]
["351020","J2001849","BACKREST SIDE CLOSEOUT","6767666","32P",5,"2017-01-24","2017-01-24","20"," 9","","A2","","","20"]
["351020","J2001852","DOUBLER SHROUD TOP OUTER","7004304","32P",9,"2017-02-10","2017-02-10","20"," 9","","A1","","","20"]
["351020","J2001861","BACKREST SIDE CLOSEOUT","6734503","32P",1,"2017-02-28","2017-02-28","20"," 9","","A1","","","20"]
["351020","J2001991","STOWAGE BIN","6763559","32P",25,"2017-01-20","2017-01-23","20"," 9","","A1","","","10"]
["351020","J2001991","STOWAGE BIN","6763560","32P",22,"2017-01-20","2017-01-23","20"," 9","","A1","","",""]
["351020","J2001991","STOWAGE BIN","6763561","32P",17,"2017-01-20","2017-01-23","20"," 9","","A1","","",""]
["351020","J2001991","STOWAGE BIN","6763562","32P",15,"2017-01-23","2017-01-24","20"," 9","","A1","","",""]
["351020","J2002052","STOWAGE BIN LH","6763658","32P",21,"2017-01-31","2017-01-31","20"," 9","","A1","","",""]
["351020","J2002054","STOWAGE BIN RH","6763679","32P",20,"2017-01-31","2017-01-31","20"," 9","","A1","","","10"]
["351020","J2002054","STOWAGE BIN RH","6763680","32P",6,"2017-01-31","2017-01-31","20"," 9","","A2","","",""]
["351020","J2002055","STOWAGE BIN LH","6763687","32P",21,"2017-01-31","2017-01-31","20"," 9","","A1","","","10"]
["351020","J2002055","STOWAGE BIN LH","6763688","32P",6,"2017-01-31","2017-01-31","20"," 9","","A1","","",""]
["351020","J2002055","STOWAGE BIN LH","6763689","32P",7,"2017-01-31","2017-01-31","20"," 9","","A1","","",""]
["351020","J2002058","COVER FOOTWELL ELECT CTR","6870541","32P",4,"2017-01-26","2017-01-27","20"," 9","","A2","","",""]
["351020","J2002124","FOOTWELL LINER ASSY","6763880","32P",12,"2017-02-27","2017-02-27","20"," 9","","A1","","","10"]
["351020","J2002124","FOOTWELL LINER ASSY","6763881","32P",15,"2017-02-27","2017-02-27","20"," 9","","A1","","",""]
["351030","J2000689","LIT POCKET ASSY DOUBLE STD","7253719","32P",3,"2017-02-28","2017-02-28","20"," 9","","A1","","","20"]
["351030","J2001804","DOUBLER ASSY SHROUD TOP OUTER","7129823","32P",9,"2017-02-06","2017-02-06","20"," 9","","A2","","","11"]
["351030","J2002073","FOOTREST COVER ASSY","6763774","32P",1,"2017-02-08","2017-02-08","20"," 9","","A1","","","10"]
["351060","F0426307","ENS CAPOT BERCEAU EQ D","7256602","32P",2,"2017-02-03","2017-02-03","10"," 9","","A1","","",""]
["351060","F0439643","ENS CACHE POUTRE","6742929","32P",4,"2017-02-15","2017-02-15","20"," 9","","A1","","",""]
["351060","F0441332","ENS STRUCTURE","7012694","32P",6,"2017-01-27","2017-01-30","20"," 9","","A2","","","1"]
["351060","F0441778","ENS CAPOT MOBILE","7196875","32P",2,"2017-02-09","2017-02-09","10"," 9","","A2","","",""]
["351060","F0446279","ENS SUPPORT BOITIER IFE","7211198","32P",8,"2017-02-06","2017-02-06","20"," 9","","A2","","","1"]
["351060","F0453648","ENSEMBLE CAPOT INF RJ","7214718","32P",17,"2017-02-03","2017-02-03","10"," 9","","A1","","",""]
["351060","F0454791","ENS CAPOT EXT G","7214135","32P",3,"2017-02-09","2017-02-09","10"," 9","","A2","","",""]
["351060","F0458757","ENSEMBLE BOITIER","7099122","32P",2,"2017-01-23","2017-01-23","20"," 9","","A2","","","11"]
["351060","F0460420","STRUCTURE MANCHETTE","7081424","32P",2,"2017-01-31","2017-01-31","20"," 9","","A2","","",""]
["351060","F0464408","BOITIER VERT EQ","7150928","32P",38,"2017-02-06","2017-02-06","20"," 9","","A2","","","10"]
["351060","F0464411","ENS BOITIER HORIZONTAL","7099189","32P",25,"2017-02-10","2017-02-11","20"," 9","","A1","","","2"]
["351060","F0464412","ENS BOITIER VERTICAL","7099191","32P",50,"2017-02-09","2017-02-09","20"," 9","","A1","","","2"]
["351060","F0471821","ENS CAPOT FLANC EPML","7255898","32P",2,"2017-02-15","2017-02-15","20"," 9","","A1","","",""]
["351060","F0471825","ENS CAPOT AR INF DOSSIER 17\"2","7134299","32P",6,"2017-02-03","2017-02-03","10"," 9","","A1","","",""]
["351060","F0483248","ENSEMBLE STRUCTURE","6973216","32P",1,"2017-01-25","2017-01-25","20"," 9","","A2","","",""]
["351060","F0483248","ENSEMBLE STRUCTURE","7147694","32P",15,"2017-02-03","2017-02-03","10"," 9","","A2","","",""]
["351060","F0483249","ENSEMBLE STRUCTURE","7012962","32P",14,"2017-02-03","2017-02-03","20"," 9","","A2","","",""]
["351060","F0484891","ENS. CAPOT USB","7147719","32P",2,"2017-02-07","2017-02-07","10"," 9","","A2","","",""]
["351060","F0486369","ENS CAPOTAGE EXTERIEUR","7082206","32P",3,"2017-02-10","2017-02-12","20"," 9","","A1","","","1"]
["351060","F0503255","ENS CAPOT AR INF DOSSIER 17\"2","7134846","32P",2,"2017-02-03","2017-02-03","10"," 9","","A1","","",""]
["351060","F0505037","ENS CAPOT SEAT TO SEAT","6835375","32P",2,"2017-02-06","2017-02-06","20"," 9","","A1","","","1"]
["351060","F087140P075","H075 KICK PANEL 1 PAX","6825858","32P",2,"2017-02-07","2017-02-07","20"," 9","","A1","","","10"]
["351060","F089424P075","H075 KICK PANEL IAT 1 PAX","6994867","32P",2,"2017-02-06","2017-02-06","20"," 9","","A1","","","1"]
["351060","F313061","REMPLISSAGE LATERAL","6824235","32P",1,"2017-02-06","2017-02-06","20"," 9","","A1","","",""]
["351060","F328380P020","H020 CAPOT DE FLANC STD","7251632","32P",4,"2017-02-08","2017-02-08","10"," 9","","A2","","","20"]
["351060","F332183P020","H020 ENS CAPOT ACCD 1\"8","7256406","32P",10,"2017-02-03","2017-02-03","10"," 9","","A1","","","2"]
["351060","F340205P020","H020 ENS CAPOT ACCD 1\"8","7256520","32P",3,"2017-02-03","2017-02-03","10"," 9","","A1","","",""]
["351060","F370688","ENS PORTE","7115360","32P",50,"2017-02-06","2017-02-06","20"," 9","","A2","","","1"]
["351060","F370688","ENS PORTE","7115361","32P",10,"2017-02-09","2017-02-09","20"," 9","","A2","","",""]

{"sheet":"Feuil1","index":2,"n_rows":288,"n_cols":8,"rows_kept":288,"cut":false,"hidden":false,"merged":[]}
["     OF","Article     ","Libelle             ","Deb OP","Fin OP"," Qte C ","Respons   ","compteur"]
[{"$f":"IF(MOD(H2,2),'pms170'!D2,'pms230'!A2)","v":"6488930"},{"$f":"IF(MOD(H2,2),'pms170'!B2,'pms230'!B2)","v":"F0414369"},{"$f":"IF(MOD(H2,2),'pms170'!C2,'pms230'!C2)","v":"TABLETTE DORSALE 3 RECESS STD"},{"$f":"IF(MOD(H2,2),'pms170'!G2,'pms230'!D2)","v":"2017-02-20"},{"$f":"IF(MOD(H2,2),'pms170'!H2,'pms230'!E2)","v":"2017-02-24"},{"$f":"IF(MOD(H2,2),'pms170'!F2,'pms230'!F2)","v":15},{"$f":"IF(MOD(H2,2),'pms170'!A2,'pms230'!M2)","v":"351000"},1]
[{"$f":"IF(MOD(H3,2),'pms170'!D3,'pms230'!A3)","v":"960972"},{"$f":"IF(MOD(H3,2),'pms170'!B3,'pms230'!B3)","v":"F0476122"},{"$f":"IF(MOD(H3,2),'pms170'!C3,'pms230'!C3)","v":"ENS PLATEAU TABLETTE"},{"$f":"IF(MOD(H3,2),'pms170'!G3,'pms230'!D3)","v":"2017-01-27"},{"$f":"IF(MOD(H3,2),'pms170'!H3,'pms230'!E3)","v":"2017-01-30"},{"$f":"IF(MOD(H3,2),'pms170'!F3,'pms230'!F3)","v":"62"},{"$f":"IF(MOD(H3,2),'pms170'!A3,'pms230'!M3)","v":"351010"},2]
[{"$f":"IF(MOD(H4,2),'pms170'!D4,'pms230'!A4)","v":"7123835"},{"$f":"IF(MOD(H4,2),'pms170'!B4,'pms230'!B4)","v":"F0442119"},{"$f":"IF(MOD(H4,2),'pms170'!C4,'pms230'!C4)","v":"ENS TAB DORSALE"},{"$f":"IF(MOD(H4,2),'pms170'!G4,'pms230'!D4)","v":"2017-01-25"},{"$f":"IF(MOD(H4,2),'pms170'!H4,'pms230'!E4)","v":"2017-02-21"},{"$f":"IF(MOD(H4,2),'pms170'!F4,'pms230'!F4)","v":20},{"$f":"IF(MOD(H4,2),'pms170'!A4,'pms230'!M4)","v":"351000"},3]
[{"$f":"IF(MOD(H5,2),'pms170'!D5,'pms230'!A5)","v":"962221"},{"$f":"IF(MOD(H5,2),'pms170'!B5,'pms230'!B5)","v":"F368434P104"},{"$f":"IF(MOD(H5,2),'pms170'!C5,'pms230'!C5)","v":"H104 CACHE CHARNIÈRE"},{"$f":"IF(MOD(H5,2),'pms170'!G5,'pms230'!D5)","v":"2017-01-30"},{"$f":"IF(MOD(H5,2),'pms170'!H5,'pms230'!E5)","v":"2017-01-30"},{"$f":"IF(MOD(H5,2),'pms170'!F5,'pms230'!F5)","v":"50"},{"$f":"IF(MOD(H5,2),'pms170'!A5,'pms230'!M5)","v":"351010"},4]
[{"$f":"IF(MOD(H6,2),'pms170'!D6,'pms230'!A6)","v":"7094129"},{"$f":"IF(MOD(H6,2),'pms170'!B6,'pms230'!B6)","v":"F0454774"},{"$f":"IF(MOD(H6,2),'pms170'!C6,'pms230'!C6)","v":"ENS SUPPORT TV TRONQUE G"},{"$f":"IF(MOD(H6,2),'pms170'!G6,'pms230'!D6)","v":"2017-02-14"},{"$f":"IF(MOD(H6,2),'pms170'!H6,'pms230'!E6)","v":"2017-02-16"},{"$f":"IF(MOD(H6,2),'pms170'!F6,'pms230'!F6)","v":3},{"$f":"IF(MOD(H6,2),'pms170'!A6,'pms230'!M6)","v":"351000"},5]
[{"$f":"IF(MOD(H7,2),'pms170'!D7,'pms230'!A7)","v":"958912"},{"$f":"IF(MOD(H7,2),'pms170'!B7,'pms230'!B7)","v":"F040870P020"},{"$f":"IF(MOD(H7,2),'pms170'!C7,'pms230'!C7)","v":"H020 - CACHE ENJOLIV"},{"$f":"IF(MOD(H7,2),'pms170'!G7,'pms230'!D7)","v":"2017-01-31"},{"$f":"IF(MOD(H7,2),'pms170'!H7,'pms230'!E7)","v":"2017-01-31"},{"$f":"IF(MOD(H7,2),'pms170'!F7,'pms230'!F7)","v":"2"},{"$f":"IF(MOD(H7,2),'pms170'!A7,'pms230'!M7)","v":"351010"},6]
[{"$f":"IF(MOD(H8,2),'pms170'!D8,'pms230'!A8)","v":"7256686"},{"$f":"IF(MOD(H8,2),'pms170'!B8,'pms230'!B8)","v":"F0459470"},{"$f":"IF(MOD(H8,2),'pms170'!C8,'pms230'!C8)","v":"ENS PLATEAU TABLETTE"},{"$f":"IF(MOD(H8,2),'pms170'!G8,'pms230'!D8)","v":"2017-02-03"},{"$f":"IF(MOD(H8,2),'pms170'!H8,'pms230'!E8)","v":"2017-02-09"},{"$f":"IF(MOD(H8,2),'pms170'!F8,'pms230'!F8)","v":1},{"$f":"IF(MOD(H8,2),'pms170'!A8,'pms230'!M8)","v":"351000"},7]
[{"$f":"IF(MOD(H9,2),'pms170'!D9,'pms230'!A9)","v":"958008"},{"$f":"IF(MOD(H9,2),'pms170'!B9,'pms230'!B9)","v":"F0442119"},{"$f":"IF(MOD(H9,2),'pms170'!C9,'pms230'!C9)","v":"ENS TAB DORSALE"},{"$f":"IF(MOD(H9,2),'pms170'!G9,'pms230'!D9)","v":"2017-02-01"},{"$f":"IF(MOD(H9,2),'pms170'!H9,'pms230'!E9)","v":"2017-02-02"},{"$f":"IF(MOD(H9,2),'pms170'!F9,'pms230'!F9)","v":"22"},{"$f":"IF(MOD(H9,2),'pms170'!A9,'pms230'!M9)","v":"351000"},8]
[{"$f":"IF(MOD(H10,2),'pms170'!D10,'pms230'!A10)","v":"6994870"},{"$f":"IF(MOD(H10,2),'pms170'!B10,'pms230'!B10)","v":"F047152P075"},{"$f":"IF(MOD(H10,2),'pms170'!C10,'pms230'!C10)","v":"H075 KICK PANEL 1 PAX"},{"$f":"IF(MOD(H10,2),'pms170'!G10,'pms230'!D10)","v":"2017-02-28"},{"$f":"IF(MOD(H10,2),'pms170'!H10,'pms230'!E10)","v":"2017-02-28"},{"$f":"IF(MOD(H10,2),'pms170'!F10,'pms230'!F10)","v":2},{"$f":"IF(MOD(H10,2),'pms170'!A10,'pms230'!M10)","v":"351000"},9]
[{"$f":"IF(MOD(H11,2),'pms170'!D11,'pms230'!A11)","v":"959607"},{"$f":"IF(MOD(H11,2),'pms170'!B11,'pms230'!B11)","v":"F0476122"},{"$f":"IF(MOD(H11,2),'pms170'!C11,'pms230'!C11)","v":"ENS PLATEAU TABLETTE"},{"$f":"IF(MOD(H11,2),'pms170'!G11,'pms230'!D11)","v":"2017-02-01"},{"$f":"IF(MOD(H11,2),'pms170'!H11,'pms230'!E11)","v":"2017-02-06"},{"$f":"IF(MOD(H11,2),'pms170'!F11,'pms230'!F11)","v":"50"},{"$f":"IF(MOD(H11,2),'pms170'!A11,'pms230'!M11)","v":"351010"},10]
[{"$f":"IF(MOD(H12,2),'pms170'!D12,'pms230'!A12)","v":"7057700"},{"$f":"IF(MOD(H12,2),'pms170'!B12,'pms230'!B12)","v":"F0482523"},{"$f":"IF(MOD(H12,2),'pms170'!C12,'pms230'!C12)","v":"ENS TABLETTE DORSALE STD"},{"$f":"IF(MOD(H12,2),'pms170'!G12,'pms230'!D12)","v":"2017-02-23"},{"$f":"IF(MOD(H12,2),'pms170'!H12,'pms230'!E12)","v":"2017-02-25"},{"$f":"IF(MOD(H12,2),'pms170'!F12,'pms230'!F12)","v":50},{"$f":"IF(MOD(H12,2),'pms170'!A12,'pms230'!M12)","v":"351000"},11]
[{"$f":"IF(MOD(H13,2),'pms170'!D13,'pms230'!A13)","v":"942075"},{"$f":"IF(MOD(H13,2),'pms170'!B13,'pms230'!B13)","v":"F0512458"},{"$f":"IF(MOD(H13,2),'pms170'!C13,'pms230'!C13)","v":"ENS TABLETTE DORSALE"},{"$f":"IF(MOD(H13,2),'pms170'!G13,'pms230'!D13)","v":"2017-02-01"},{"$f":"IF(MOD(H13,2),'pms170'!H13,'pms230'!E13)","v":"2017-02-01"},{"$f":"IF(MOD(H13,2),'pms170'!F13,'pms230'!F13)","v":"5"},{"$f":"IF(MOD(H13,2),'pms170'!A13,'pms230'!M13)","v":"351000"},12]
[{"$f":"IF(MOD(H14,2),'pms170'!D14,'pms230'!A14)","v":"7253755"},{"$f":"IF(MOD(H14,2),'pms170'!B14,'pms230'!B14)","v":"F0483558"},{"$f":"IF(MOD(H14,2),'pms170'!C14,'pms230'!C14)","v":"ENS TABLETTE DORSALE STD"},{"$f":"IF(MOD(H14,2),'pms170'!G14,'pms230'!D14)","v":"2017-02-13"},{"$f":"IF(MOD(H14,2),'pms170'!H14,'pms230'!E14)","v":"2017-02-15"},{"$f":"IF(MOD(H14,2),'pms170'!F14,'pms230'!F14)","v":4},{"$f":"IF(MOD(H14,2),'pms170'!A14,'pms230'!M14)","v":"351000"},13]
[{"$f":"IF(MOD(H15,2),'pms170'!D15,'pms230'!A15)","v":"955912"},{"$f":"IF(MOD(H15,2),'pms170'!B15,'pms230'!B15)","v":"F0521253"},{"$f":"IF(MOD(H15,2),'pms170'!C15,'pms230'!C15)","v":"ENS TABLETTE DORSALE"},{"$f":"IF(MOD(H15,2),'pms170'!G15,'pms230'!D15)","v":"2017-02-02"},{"$f":"IF(MOD(H15,2),'pms170'!H15,'pms230'!E15)","v":"2017-02-02"},{"$f":"IF(MOD(H15,2),'pms170'!F15,'pms230'!F15)","v":"5"},{"$f":"IF(MOD(H15,2),'pms170'!A15,'pms230'!M15)","v":"351010"},14]
[{"$f":"IF(MOD(H16,2),'pms170'!D16,'pms230'!A16)","v":"6954926"},{"$f":"IF(MOD(H16,2),'pms170'!B16,'pms230'!B16)","v":"F0503336"},{"$f":"IF(MOD(H16,2),'pms170'!C16,'pms230'!C16)","v":"ENS PLATEAU TABLETTE STD"},{"$f":"IF(MOD(H16,2),'pms170'!G16,'pms230'!D16)","v":"2017-02-22"},{"$f":"IF(MOD(H16,2),'pms170'!H16,'pms230'!E16)","v":"2017-02-23"},{"$f":"IF(MOD(H16,2),'pms170'!F16,'pms230'!F16)","v":2},{"$f":"IF(MOD(H16,2),'pms170'!A16,'pms230'!M16)","v":"351000"},15]
[{"$f":"IF(MOD(H17,2),'pms170'!D17,'pms230'!A17)","v":"961556"},{"$f":"IF(MOD(H17,2),'pms170'!B17,'pms230'!B17)","v":"F19C0D0060S0"},{"$f":"IF(MOD(H17,2),'pms170'!C17,'pms230'!C17)","v":"CAPOT RENFORT IPSC ("},{"$f":"IF(MOD(H17,2),'pms170'!G17,'pms230'!D17)","v":"2017-02-02"},{"$f":"IF(MOD(H17,2),'pms170'!H17,'pms230'!E17)","v":"2017-02-02"},{"$f":"IF(MOD(H17,2),'pms170'!F17,'pms230'!F17)","v":"8"},{"$f":"IF(MOD(H17,2),'pms170'!A17,'pms230'!M17)","v":"351010"},16]
[{"$f":"IF(MOD(H18,2),'pms170'!D18,'pms230'!A18)","v":"7147907"},{"$f":"IF(MOD(H18,2),'pms170'!B18,'pms230'!B18)","v":"F0504759"},{"$f":"IF(MOD(H18,2),'pms170'!C18,'pms230'!C18)","v":"ENS TABLETTE STD"},{"$f":"IF(MOD(H18,2),'pms170'!G18,'pms230'!D18)","v":"2017-02-06"},{"$f":"IF(MOD(H18,2),'pms170'!H18,'pms230'!E18)","v":"2017-02-07"},{"$f":"IF(MOD(H18,2),'pms170'!F18,'pms230'!F18)","v":50},{"$f":"IF(MOD(H18,2),'pms170'!A18,'pms230'!M18)","v":"351000"},17]
[{"$f":"IF(MOD(H19,2),'pms170'!D19,'pms230'!A19)","v":"962068"},{"$f":"IF(MOD(H19,2),'pms170'!B19,'pms230'!B19)","v":"F327807P020"},{"$f":"IF(MOD(H19,2),'pms170'!C19,'pms230'!C19)","v":"H020 CAPOT ACCD LAT"},{"$f":"IF(MOD(H19,2),'pms170'!G19,'pms230'!D19)","v":"2017-02-02"},{"$f":"IF(MOD(H19,2),'pms170'!H19,'pms230'!E19)","v":"2017-02-02"},{"$f":"IF(MOD(H19,2),'pms170'!F19,'pms230'!F19)","v":"14"},{"$f":"IF(MOD(H19,2),'pms170'!A19,'pms230'!M19)","v":"351010"},18]
[{"$f":"IF(MOD(H20,2),'pms170'!D20,'pms230'!A20)","v":"7147909"},{"$f":"IF(MOD(H20,2),'pms170'!B20,'pms230'!B20)","v":"F0504759"},{"$f":"IF(MOD(H20,2),'pms170'!C20,'pms230'!C20)","v":"ENS TABLETTE STD"},{"$f":"IF(MOD(H20,2),'pms170'!G20,'pms230'!D20)","v":"2017-02-06"},{"$f":"IF(MOD(H20,2),'pms170'!H20,'pms230'!E20)","v":"2017-02-07"},{"$f":"IF(MOD(H20,2),'pms170'!F20,'pms230'!F20)","v":50},{"$f":"IF(MOD(H20,2),'pms170'!A20,'pms230'!M20)","v":"351000"},19]
[{"$f":"IF(MOD(H21,2),'pms170'!D21,'pms230'!A21)","v":"962067"},{"$f":"IF(MOD(H21,2),'pms170'!B21,'pms230'!B21)","v":"F340205P020"},{"$f":"IF(MOD(H21,2),'pms170'!C21,'pms230'!C21)","v":"H020 ENS CAPOT ACCD"},{"$f":"IF(MOD(H21,2),'pms170'!G21,'pms230'!D21)","v":"2017-02-02"},{"$f":"IF(MOD(H21,2),'pms170'!H21,'pms230'!E21)","v":"2017-02-02"},{"$f":"IF(MOD(H21,2),'pms170'!F21,'pms230'!F21)","v":"7"},{"$f":"IF(MOD(H21,2),'pms170'!A21,'pms230'!M21)","v":"351060"},20]
[{"$f":"IF(MOD(H22,2),'pms170'!D22,'pms230'!A22)","v":"7192652"},{"$f":"IF(MOD(H22,2),'pms170'!B22,'pms230'!B22)","v":"F0507336"},{"$f":"IF(MOD(H22,2),'pms170'!C22,'pms230'!C22)","v":"ENS TABLETTE DORSALE RDT"},{"$f":"IF(MOD(H22,2),'pms170'!G22,'pms230'!D22)","v":"2017-02-07"},{"$f":"IF(MOD(H22,2),'pms170'!H22,'pms230'!E22)","v":"2017-02-08"},{"$f":"IF(MOD(H22,2),'pms170'!F22,'pms230'!F22)","v":23},{"$f":"IF(MOD(H22,2),'pms170'!A22,'pms230'!M22)","v":"351000"},21]
[{"$f":"IF(MOD(H23,2),'pms170'!D23,'pms230'!A23)","v":"958658"},{"$f":"IF(MOD(H23,2),'pms170'!B23,'pms230'!B23)","v":"J2000012"},{"$f":"IF(MOD(H23,2),'pms170'!C23,'pms230'!C23)","v":"FAIRING BACKERST"},{"$f":"IF(MOD(H23,2),'pms170'!G23,'pms230'!D23)","v":"2017-02-03"},{"$f":"IF(MOD(H23,2),'pms170'!H23,'pms230'!E23)","v":"2017-02-03"},{"$f":"IF(MOD(H23,2),'pms170'!F23,'pms230'!F23)","v":"4"},{"$f":"IF(MOD(H23,2),'pms170'!A23,'pms230'!M23)","v":"351020"},22]
[{"$f":"IF(MOD(H24,2),'pms170'!D24,'pms230'!A24)","v":"6835754"},{"$f":"IF(MOD(H24,2),'pms170'!B24,'pms230'!B24)","v":"F0509487"},{"$f":"IF(MOD(H24,2),'pms170'!C24,'pms230'!C24)","v":"ENS TABLETTE DORSALE 17\"05"},{"$f":"IF(MOD(H24,2),'pms170'!G24,'pms230'!D24)","v":"2017-02-17"},{"$f":"IF(MOD(H24,2),'pms170'!H24,'pms230'!E24)","v":"2017-02-22"},{"$f":"IF(MOD(H24,2),'pms170'!F24,'pms230'!F24)","v":50},{"$f":"IF(MOD(H24,2),'pms170'!A24,'pms230'!M24)","v":"351000"},23]
[{"$f":"IF(MOD(H25,2),'pms170'!D25,'pms230'!A25)","v":"957717"},{"$f":"IF(MOD(H25,2),'pms170'!B25,'pms230'!B25)","v":"F0505127"},{"$f":"IF(MOD(H25,2),'pms170'!C25,'pms230'!C25)","v":"SUPPORT SEAT TO SEAT"},{"$f":"IF(MOD(H25,2),'pms170'!G25,'pms230'!D25)","v":"2017-02-03"},{"$f":"IF(MOD(H25,2),'pms170'!H25,'pms230'!E25)","v":"2017-02-03"},{"$f":"IF(MOD(H25,2),'pms170'!F25,'pms230'!F25)","v":"2"},{"$f":"IF(MOD(H25,2),'pms170'!A25,'pms230'!M25)","v":"351010"},24]
[{"$f":"IF(MOD(H26,2),'pms170'!D26,'pms230'!A26)","v":"6967583"},{"$f":"IF(MOD(H26,2),'pms170'!B26,'pms230'!B26)","v":"F0509487"},{"$f":"IF(MOD(H26,2),'pms170'!C26,'pms230'!C26)","v":"ENS TABLETTE DORSALE 17\"05"},{"$f":"IF(MOD(H26,2),'pms170'!G26,'pms230'!D26)","v":"2017-02-17"},{"$f":"IF(MOD(H26,2),'pms170'!H26,'pms230'!E26)","v":"2017-02-22"},{"$f":"IF(MOD(H26,2),'pms170'!F26,'pms230'!F26)","v":6},{"$f":"IF(MOD(H26,2),'pms170'!A26,'pms230'!M26)","v":"351000"},25]
[{"$f":"IF(MOD(H27,2),'pms170'!D27,'pms230'!A27)","v":"961333"},{"$f":"IF(MOD(H27,2),'pms170'!B27,'pms230'!B27)","v":"F337135"},{"$f":"IF(MOD(H27,2),'pms170'!C27,'pms230'!C27)","v":"REMPLISSAGE TABLETTE"},{"$f":"IF(MOD(H27,2),'pms170'!G27,'pms230'!D27)","v":"2017-02-03"},{"$f":"IF(MOD(H27,2),'pms170'!H27,'pms230'!E27)","v":"2017-02-03"},{"$f":"IF(MOD(H27,2),'pms170'!F27,'pms230'!F27)","v":"23"},{"$f":"IF(MOD(H27,2),'pms170'!A27,'pms230'!M27)","v":"351015"},26]
[{"$f":"IF(MOD(H28,2),'pms170'!D28,'pms230'!A28)","v":"6440454"},{"$f":"IF(MOD(H28,2),'pms170'!B28,'pms230'!B28)","v":"F087144P075"},{"$f":"IF(MOD(H28,2),'pms170'!C28,'pms230'!C28)","v":"H075 KICK PANEL 1 PAX"},{"$f":"IF(MOD(H28,2),'pms170'!G28,'pms230'!D28)","v":"2017-02-28"},{"$f":"IF(MOD(H28,2),'pms170'!H28,'pms230'!E28)","v":"2017-02-28"},{"$f":"IF(MOD(H28,2),'pms170'!F28,'pms230'!F28)","v":2},{"$f":"IF(MOD(H28,2),'pms170'!A28,'pms230'!M28)","v":"351000"},27]
[{"$f":"IF(MOD(H29,2),'pms170'!D29,'pms230'!A29)","v":"960007"},{"$f":"IF(MOD(H29,2),'pms170'!B29,'pms230'!B29)","v":"J2002129"},{"$f":"IF(MOD(H29,2),'pms170'!C29,'pms230'!C29)","v":"LINER ASSY LOW SEAT"},{"$f":"IF(MOD(H29,2),'pms170'!G29,'pms230'!D29)","v":"2017-02-06"},{"$f":"IF(MOD(H29,2),'pms170'!H29,'pms230'!E29)","v":"2017-02-06"},{"$f":"IF(MOD(H29,2),'pms170'!F29,'pms230'!F29)","v":"14"},{"$f":"IF(MOD(H29,2),'pms170'!A29,'pms230'!M29)","v":"351030"},28]
[{"$f":"IF(MOD(H30,2),'pms170'!D30,'pms230'!A30)","v":"6979053"},{"$f":"IF(MOD(H30,2),'pms170'!B30,'pms230'!B30)","v":"F321702P022"},{"$f":"IF(MOD(H30,2),'pms170'!C30,'pms230'!C30)","v":"H022 ENS PLATEAU TABLETTE"},{"$f":"IF(MOD(H30,2),'pms170'!G30,'pms230'!D30)","v":"2017-02-06"},{"$f":"IF(MOD(H30,2),'pms170'!H30,'pms230'!E30)","v":"2017-02-13"},{"$f":"IF(MOD(H30,2),'pms170'!F30,'pms230'!F30)","v":23},{"$f":"IF(MOD(H30,2),'pms170'!A30,'pms230'!M30)","v":"351000"},29]
[{"$f":"IF(MOD(H31,2),'pms170'!D31,'pms230'!A31)","v":"960009"},{"$f":"IF(MOD(H31,2),'pms170'!B31,'pms230'!B31)","v":"J2002129"},{"$f":"IF(MOD(H31,2),'pms170'!C31,'pms230'!C31)","v":"LINER ASSY LOW SEAT"},{"$f":"IF(MOD(H31,2),'pms170'!G31,'pms230'!D31)","v":"2017-02-06"},{"$f":"IF(MOD(H31,2),'pms170'!H31,'pms230'!E31)","v":"2017-02-06"},{"$f":"IF(MOD(H31,2),'pms170'!F31,'pms230'!F31)","v":"14"},{"$f":"IF(MOD(H31,2),'pms170'!A31,'pms230'!M31)","v":"351030"},30]
[{"$f":"IF(MOD(H32,2),'pms170'!D32,'pms230'!A32)","v":"7117323"},{"$f":"IF(MOD(H32,2),'pms170'!B32,'pms230'!B32)","v":"F363516"},{"$f":"IF(MOD(H32,2),'pms170'!C32,'pms230'!C32)","v":"PLATEAU DE TABLETTE 3517"},{"$f":"IF(MOD(H32,2),'pms170'!G32,'pms230'!D32)","v":"2017-02-03"},{"$f":"IF(MOD(H32,2),'pms170'!H32,'pms230'!E32)","v":"2017-02-07"},{"$f":"IF(MOD(H32,2),'pms170'!F32,'pms230'!F32)","v":3},{"$f":"IF(MOD(H32,2),'pms170'!A32,'pms230'!M32)","v":"351000"},31]
[{"$f":"IF(MOD(H33,2),'pms170'!D33,'pms230'!A33)","v":"961868"},{"$f":"IF(MOD(H33,2),'pms170'!B33,'pms230'!B33)","v":"F0439976"},{"$f":"IF(MOD(H33,2),'pms170'!C33,'pms230'!C33)","v":"REMPLISSAGE TAB BASS"},{"$f":"IF(MOD(H33,2),'pms170'!G33,'pms230'!D33)","v":"2017-02-06"},{"$f":"IF(MOD(H33,2),'pms170'!H33,'pms230'!E33)","v":"2017-02-06"},{"$f":"IF(MOD(H33,2),'pms170'!F33,'pms230'!F33)","v":"35"},{"$f":"IF(MOD(H33,2),'pms170'!A33,'pms230'!M33)","v":"351015"},32]
[{"$f":"IF(MOD(H34,2),'pms170'!D34,'pms230'!A34)","v":"7256584"},{"$f":"IF(MOD(H34,2),'pms170'!B34,'pms230'!B34)","v":"F0402007"},{"$f":"IF(MOD(H34,2),'pms170'!C34,'pms230'!C34)","v":"GOULOTTE D"},{"$f":"IF(MOD(H34,2),'pms170'!G34,'pms230'!D34)","v":"2017-02-03"},{"$f":"IF(MOD(H34,2),'pms170'!H34,'pms230'!E34)","v":"2017-02-06"},{"$f":"IF(MOD(H34,2),'pms170'!F34,'pms230'!F34)","v":4},{"$f":"IF(MOD(H34,2),'pms170'!A34,'pms230'!M34)","v":"351010"},33]
[{"$f":"IF(MOD(H35,2),'pms170'!D35,'pms230'!A35)","v":"961327"},{"$f":"IF(MOD(H35,2),'pms170'!B35,'pms230'!B35)","v":"F0514466"},{"$f":"IF(MOD(H35,2),'pms170'!C35,'pms230'!C35)","v":"CAPOT ANTI GOUTTE D"},{"$f":"IF(MOD(H35,2),'pms170'!G35,'pms230'!D35)","v":"2017-02-07"},{"$f":"IF(MOD(H35,2),'pms170'!H35,'pms230'!E35)","v":"2017-02-07"},{"$f":"IF(MOD(H35,2),'pms170'!F35,'pms230'!F35)","v":"3"},{"$f":"IF(MOD(H35,2),'pms170'!A35,'pms230'!M35)","v":"351010"},34]
[{"$f":"IF(MOD(H36,2),'pms170'!D36,'pms230'!A36)","v":"7150302"},{"$f":"IF(MOD(H36,2),'pms170'!B36,'pms230'!B36)","v":"F0428598"},{"$f":"IF(MOD(H36,2),'pms170'!C36,'pms230'!C36)","v":"PORTE EQ"},{"$f":"IF(MOD(H36,2),'pms170'!G36,'pms230'!D36)","v":"2017-02-09"},{"$f":"IF(MOD(H36,2),'pms170'!H36,'pms230'!E36)","v":"2017-02-10"},{"$f":"IF(MOD(H36,2),'pms170'!F36,'pms230'!F36)","v":43},{"$f":"IF(MOD(H36,2),'pms170'!A36,'pms230'!M36)","v":"351010"},35]
[{"$f":"IF(MOD(H37,2),'pms170'!D37,'pms230'!A37)","v":"962087"},{"$f":"IF(MOD(H37,2),'pms170'!B37,'pms230'!B37)","v":"F0401146"},{"$f":"IF(MOD(H37,2),'pms170'!C37,'pms230'!C37)","v":"ENS CAPOT ACC STD"},{"$f":"IF(MOD(H37,2),'pms170'!G37,'pms230'!D37)","v":"2017-02-07"},{"$f":"IF(MOD(H37,2),'pms170'!H37,'pms230'!E37)","v":"2017-02-07"},{"$f":"IF(MOD(H37,2),'pms170'!F37,'pms230'!F37)","v":"7"},{"$f":"IF(MOD(H37,2),'pms170'!A37,'pms230'!M37)","v":"351010"},36]
[{"$f":"IF(MOD(H38,2),'pms170'!D38,'pms230'!A38)","v":"7158601"},{"$f":"IF(MOD(H38,2),'pms170'!B38,'pms230'!B38)","v":"F0433266"},{"$f":"IF(MOD(H38,2),'pms170'!C38,'pms230'!C38)","v":"CAPOT FLANC IAT"},{"$f":"IF(MOD(H38,2),'pms170'!G38,'pms230'!D38)","v":"2017-02-09"},{"$f":"IF(MOD(H38,2),'pms170'!H38,'pms230'!E38)","v":"2017-02-09"},{"$f":"IF(MOD(H38,2),'pms170'!F38,'pms230'!F38)","v":3},{"$f":"IF(MOD(H38,2),'pms170'!A38,'pms230'!M38)","v":"351010"},37]
[{"$f":"IF(MOD(H39,2),'pms170'!D39,'pms230'!A39)","v":"961898"},{"$f":"IF(MOD(H39,2),'pms170'!B39,'pms230'!B39)","v":"F0513750"},{"$f":"IF(MOD(H39,2),'pms170'!C39,'pms230'!C39)","v":"CAPOT THERMO"},{"$f":"IF(MOD(H39,2),'pms170'!G39,'pms230'!D39)","v":"2017-02-07"},{"$f":"IF(MOD(H39,2),'pms170'!H39,'pms230'!E39)","v":"2017-02-07"},{"$f":"IF(MOD(H39,2),'pms170'!F39,'pms230'!F39)","v":"3"},{"$f":"IF(MOD(H39,2),'pms170'!A39,'pms230'!M39)","v":"351010"},38]
[{"$f":"IF(MOD(H40,2),'pms170'!D40,'pms230'!A40)","v":"7196717"},{"$f":"IF(MOD(H40,2),'pms170'!B40,'pms230'!B40)","v":"F0437429"},{"$f":"IF(MOD(H40,2),'pms170'!C40,'pms230'!C40)","v":"CAPOT PROTECTION D"},{"$f":"IF(MOD(H40,2),'pms170'!G40,'pms230'!D40)","v":"2017-02-09"},{"$f":"IF(MOD(H40,2),'pms170'!H40,'pms230'!E40)","v":"2017-02-09"},{"$f":"IF(MOD(H40,2),'pms170'!F40,'pms230'!F40)","v":30},{"$f":"IF(MOD(H40,2),'pms170'!A40,'pms230'!M40)","v":"351010"},39]
[{"$f":"IF(MOD(H41,2),'pms170'!D41,'pms230'!A41)","v":"961221"},{"$f":"IF(MOD(H41,2),'pms170'!B41,'pms230'!B41)","v":"F0520343"},{"$f":"IF(MOD(H41,2),'pms170'!C41,'pms230'!C41)","v":"ENS CAPOT COMBO AV"},{"$f":"IF(MOD(H41,2),'pms170'!G41,'pms230'!D41)","v":"2017-02-07"},{"$f":"IF(MOD(H41,2),'pms170'!H41,'pms230'!E41)","v":"2017-02-07"},{"$f":"IF(MOD(H41,2),'pms170'!F41,'pms230'!F41)","v":"2"},{"$f":"IF(MOD(H41,2),'pms170'!A41,'pms230'!M41)","v":"351010"},40]
[{"$f":"IF(MOD(H42,2),'pms170'!D42,'pms230'!A42)","v":"7010587"},{"$f":"IF(MOD(H42,2),'pms170'!B42,'pms230'!B42)","v":"F0437984"},{"$f":"IF(MOD(H42,2),'pms170'!C42,'pms230'!C42)","v":"CAPOT CROSSE G"},{"$f":"IF(MOD(H42,2),'pms170'!G42,'pms230'!D42)","v":"2017-02-10"},{"$f":"IF(MOD(H42,2),'pms170'!H42,'pms230'!E42)","v":"2017-02-11"},{"$f":"IF(MOD(H42,2),'pms170'!F42,'pms230'!F42)","v":25},{"$f":"IF(MOD(H42,2),'pms170'!A42,'pms230'!M42)","v":"351010"},41]
[{"$f":"IF(MOD(H43,2),'pms170'!D43,'pms230'!A43)","v":"962207"},{"$f":"IF(MOD(H43,2),'pms170'!B43,'pms230'!B43)","v":"F0455795"},{"$f":"IF(MOD(H43,2),'pms170'!C43,'pms230'!C43)","v":"ENS SUPPORT TV TRONQ"},{"$f":"IF(MOD(H43,2),'pms170'!G43,'pms230'!D43)","v":"2017-02-08"},{"$f":"IF(MOD(H43,2),'pms170'!H43,'pms230'!E43)","v":"2017-02-08"},{"$f":"IF(MOD(H43,2),'pms170'!F43,'pms230'!F43)","v":"8"},{"$f":"IF(MOD(H43,2),'pms170'!A43,'pms230'!M43)","v":"351010"},42]
[{"$f":"IF(MOD(H44,2),'pms170'!D44,'pms230'!A44)","v":"7118815"},{"$f":"IF(MOD(H44,2),'pms170'!B44,'pms230'!B44)","v":"F0439890"},{"$f":"IF(MOD(H44,2),'pms170'!C44,'pms230'!C44)","v":"CAPOT AVANT"},{"$f":"IF(MOD(H44,2),'pms170'!G44,'pms230'!D44)","v":"2017-01-31"},{"$f":"IF(MOD(H44,2),'pms170'!H44,'pms230'!E44)","v":"2017-02-01"},{"$f":"IF(MOD(H44,2),'pms170'!F44,'pms230'!F44)","v":2},{"$f":"IF(MOD(H44,2),'pms170'!A44,'pms230'!M44)","v":"351010"},43]
[{"$f":"IF(MOD(H45,2),'pms170'!D45,'pms230'!A45)","v":"960068"},{"$f":"IF(MOD(H45,2),'pms170'!B45,'pms230'!B45)","v":"F314541P053"},{"$f":"IF(MOD(H45,2),'pms170'!C45,'pms230'!C45)","v":"H053 ENS CAPOT FLANC"},{"$f":"IF(MOD(H45,2),'pms170'!G45,'pms230'!D45)","v":"2017-02-08"},{"$f":"IF(MOD(H45,2),'pms170'!H45,'pms230'!E45)","v":"2017-02-08"},{"$f":"IF(MOD(H45,2),'pms170'!F45,'pms230'!F45)","v":"2"},{"$f":"IF(MOD(H45,2),'pms170'!A45,'pms230'!M45)","v":"351010"},44]
[{"$f":"IF(MOD(H46,2),'pms170'!D46,'pms230'!A46)","v":"7150548"},{"$f":"IF(MOD(H46,2),'pms170'!B46,'pms230'!B46)","v":"F0440245"},{"$f":"IF(MOD(H46,2),'pms170'!C46,'pms230'!C46)","v":"CAPOT RENFORT EQ"},{"$f":"IF(MOD(H46,2),'pms170'!G46,'pms230'!D46)","v":"2017-02-09"},{"$f":"IF(MOD(H46,2),'pms170'!H46,'pms230'!E46)","v":"2017-02-10"},{"$f":"IF(MOD(H46,2),'pms170'!F46,'pms230'!F46)","v":50},{"$f":"IF(MOD(H46,2),'pms170'!A46,'pms230'!M46)","v":"351010"},45]
[{"$f":"IF(MOD(H47,2),'pms170'!D47,'pms230'!A47)","v":"962096"},{"$f":"IF(MOD(H47,2),'pms170'!B47,'pms230'!B47)","v":"F0448907"},{"$f":"IF(MOD(H47,2),'pms170'!C47,'pms230'!C47)","v":"CAPOT CACHE ARRIERE"},{"$f":"IF(MOD(H47,2),'pms170'!G47,'pms230'!D47)","v":"2017-02-08"},{"$f":"IF(MOD(H47,2),'pms170'!H47,'pms230'!E47)","v":"2017-02-08"},{"$f":"IF(MOD(H47,2),'pms170'!F47,'pms230'!F47)","v":"31"},{"$f":"IF(MOD(H47,2),'pms170'!A47,'pms230'!M47)","v":"351010"},46]
[{"$f":"IF(MOD(H48,2),'pms170'!D48,'pms230'!A48)","v":"7150607"},{"$f":"IF(MOD(H48,2),'pms170'!B48,'pms230'!B48)","v":"F0442003"},{"$f":"IF(MOD(H48,2),'pms170'!C48,'pms230'!C48)","v":"ENS TABLETTE IAT INT"},{"$f":"IF(MOD(H48,2),'pms170'!G48,'pms230'!D48)","v":"2017-02-07"},{"$f":"IF(MOD(H48,2),'pms170'!H48,'pms230'!E48)","v":"2017-02-12"},{"$f":"IF(MOD(H48,2),'pms170'!F48,'pms230'!F48)","v":17},{"$f":"IF(MOD(H48,2),'pms170'!A48,'pms230'!M48)","v":"351010"},47]
[{"$f":"IF(MOD(H49,2),'pms170'!D49,'pms230'!A49)","v":"962095"},{"$f":"IF(MOD(H49,2),'pms170'!B49,'pms230'!B49)","v":"F0441671"},{"$f":"IF(MOD(H49,2),'pms170'!C49,'pms230'!C49)","v":"CAPOT BUMPER"},{"$f":"IF(MOD(H49,2),'pms170'!G49,'pms230'!D49)","v":"2017-02-08"},{"$f":"IF(MOD(H49,2),'pms170'!H49,'pms230'!E49)","v":"2017-02-08"},{"$f":"IF(MOD(H49,2),'pms170'!F49,'pms230'!F49)","v":"21"},{"$f":"IF(MOD(H49,2),'pms170'!A49,'pms230'!M49)","v":"351010"},48]
[{"$f":"IF(MOD(H50,2),'pms170'!D50,'pms230'!A50)","v":"6653052"},{"$f":"IF(MOD(H50,2),'pms170'!B50,'pms230'!B50)","v":"F0454494"},{"$f":"IF(MOD(H50,2),'pms170'!C50,'pms230'!C50)","v":"ENS TABLETTE IAT  EXT"},{"$f":"IF(MOD(H50,2),'pms170'!G50,'pms230'!D50)","v":"2017-02-08"},{"$f":"IF(MOD(H50,2),'pms170'!H50,'pms230'!E50)","v":"2017-02-11"},{"$f":"IF(MOD(H50,2),'pms170'!F50,'pms230'!F50)","v":8},{"$f":"IF(MOD(H50,2),'pms170'!A50,'pms230'!M50)","v":"351010"},49]
[{"$f":"IF(MOD(H51,2),'pms170'!D51,'pms230'!A51)","v":"962212"},{"$f":"IF(MOD(H51,2),'pms170'!B51,'pms230'!B51)","v":"F0460842"},{"$f":"IF(MOD(H51,2),'pms170'!C51,'pms230'!C51)","v":"CAPOT"},{"$f":"IF(MOD(H51,2),'pms170'!G51,'pms230'!D51)","v":"2017-02-08"},{"$f":"IF(MOD(H51,2),'pms170'!H51,'pms230'!E51)","v":"2017-02-08"},{"$f":"IF(MOD(H51,2),'pms170'!F51,'pms230'!F51)","v":"4"},{"$f":"IF(MOD(H51,2),'pms170'!A51,'pms230'!M51)","v":"351010"},50]
[{"$f":"IF(MOD(H52,2),'pms170'!D52,'pms230'!A52)","v":"7237923"},{"$f":"IF(MOD(H52,2),'pms170'!B52,'pms230'!B52)","v":"F0458833"},{"$f":"IF(MOD(H52,2),'pms170'!C52,'pms230'!C52)","v":"CAPOT"},{"$f":"IF(MOD(H52,2),'pms170'!G52,'pms230'!D52)","v":"2017-02-09"},{"$f":"IF(MOD(H52,2),'pms170'!H52,'pms230'!E52)","v":"2017-02-09"},{"$f":"IF(MOD(H52,2),'pms170'!F52,'pms230'!F52)","v":1},{"$f":"IF(MOD(H52,2),'pms170'!A52,'pms230'!M52)","v":"351010"},51]
[{"$f":"IF(MOD(H53,2),'pms170'!D53,'pms230'!A53)","v":"962189"},{"$f":"IF(MOD(H53,2),'pms170'!B53,'pms230'!B53)","v":"F0468178"},{"$f":"IF(MOD(H53,2),'pms170'!C53,'pms230'!C53)","v":"CAPOT DESSOUS TABLET"},{"$f":"IF(MOD(H53,2),'pms170'!G53,'pms230'!D53)","v":"2017-02-08"},{"$f":"IF(MOD(H53,2),'pms170'!H53,'pms230'!E53)","v":"2017-02-08"},{"$f":"IF(MOD(H53,2),'pms170'!F53,'pms230'!F53)","v":"52"},{"$f":"IF(MOD(H53,2),'pms170'!A53,'pms230'!M53)","v":"351010"},52]
[{"$f":"IF(MOD(H54,2),'pms170'!D54,'pms230'!A54)","v":"6952058"},{"$f":"IF(MOD(H54,2),'pms170'!B54,'pms230'!B54)","v":"F0460110"},{"$f":"IF(MOD(H54,2),'pms170'!C54,'pms230'!C54)","v":"CAPOT AR RENFORT"},{"$f":"IF(MOD(H54,2),'pms170'!G54,'pms230'!D54)","v":"2017-01-26"},{"$f":"IF(MOD(H54,2),'pms170'!H54,'pms230'!E54)","v":"2017-01-26"},{"$f":"IF(MOD(H54,2),'pms170'!F54,'pms230'!F54)","v":50},{"$f":"IF(MOD(H54,2),'pms170'!A54,'pms230'!M54)","v":"351010"},53]
[{"$f":"IF(MOD(H55,2),'pms170'!D55,'pms230'!A55)","v":"962186"},{"$f":"IF(MOD(H55,2),'pms170'!B55,'pms230'!B55)","v":"F0403020"},{"$f":"IF(MOD(H55,2),'pms170'!C55,'pms230'!C55)","v":"ENS CAPOT ACC 1\"8"},{"$f":"IF(MOD(H55,2),'pms170'!G55,'pms230'!D55)","v":"2017-02-08"},{"$f":"IF(MOD(H55,2),'pms170'!H55,'pms230'!E55)","v":"2017-02-08"},{"$f":"IF(MOD(H55,2),'pms170'!F55,'pms230'!F55)","v":"4"},{"$f":"IF(MOD(H55,2),'pms170'!A55,'pms230'!M55)","v":"351060"},54]
[{"$f":"IF(MOD(H56,2),'pms170'!D56,'pms230'!A56)","v":"7076251"},{"$f":"IF(MOD(H56,2),'pms170'!B56,'pms230'!B56)","v":"F0461121"},{"$f":"IF(MOD(H56,2),'pms170'!C56,'pms230'!C56)","v":"REGLETTE ACCOUDOIR IAT"},{"$f":"IF(MOD(H56,2),'pms170'!G56,'pms230'!D56)","v":"2017-02-10"},{"$f":"IF(MOD(H56,2),'pms170'!H56,'pms230'!E56)","v":"2017-02-11"},{"$f":"IF(MOD(H56,2),'pms170'!F56,'pms230'!F56)","v":4},{"$f":"IF(MOD(H56,2),'pms170'!A56,'pms230'!M56)","v":"351010"},55]
[{"$f":"IF(MOD(H57,2),'pms170'!D57,'pms230'!A57)","v":"962142"},{"$f":"IF(MOD(H57,2),'pms170'!B57,'pms230'!B57)","v":"F0454845"},{"$f":"IF(MOD(H57,2),'pms170'!C57,'pms230'!C57)","v":"PORTE DROITE IAT EQ"},{"$f":"IF(MOD(H57,2),'pms170'!G57,'pms230'!D57)","v":"2017-02-08"},{"$f":"IF(MOD(H57,2),'pms170'!H57,'pms230'!E57)","v":"2017-02-08"},{"$f":"IF(MOD(H57,2),'pms170'!F57,'pms230'!F57)","v":"1"},{"$f":"IF(MOD(H57,2),'pms170'!A57,'pms230'!M57)","v":"351060"},56]
[{"$f":"IF(MOD(H58,2),'pms170'!D58,'pms230'!A58)","v":"7147402"},{"$f":"IF(MOD(H58,2),'pms170'!B58,'pms230'!B58)","v":"F0468175"},{"$f":"IF(MOD(H58,2),'pms170'!C58,'pms230'!C58)","v":"CAPOT CACHE ARRIERE"},{"$f":"IF(MOD(H58,2),'pms170'!G58,'pms230'!D58)","v":"2017-02-09"},{"$f":"IF(MOD(H58,2),'pms170'!H58,'pms230'!E58)","v":"2017-02-09"},{"$f":"IF(MOD(H58,2),'pms170'!F58,'pms230'!F58)","v":4},{"$f":"IF(MOD(H58,2),'pms170'!A58,'pms230'!M58)","v":"351010"},57]
[{"$f":"IF(MOD(H59,2),'pms170'!D59,'pms230'!A59)","v":"962252"},{"$f":"IF(MOD(H59,2),'pms170'!B59,'pms230'!B59)","v":"F0439976"},{"$f":"IF(MOD(H59,2),'pms170'!C59,'pms230'!C59)","v":"REMPLISSAGE TAB BASS"},{"$f":"IF(MOD(H59,2),'pms170'!G59,'pms230'!D59)","v":"2017-02-08"},{"$f":"IF(MOD(H59,2),'pms170'!H59,'pms230'!E59)","v":"2017-02-08"},{"$f":"IF(MOD(H59,2),'pms170'!F59,'pms230'!F59)","v":"50"},{"$f":"IF(MOD(H59,2),'pms170'!A59,'pms230'!M59)","v":"351015"},58]
[{"$f":"IF(MOD(H60,2),'pms170'!D60,'pms230'!A60)","v":"7110012"},{"$f":"IF(MOD(H60,2),'pms170'!B60,'pms230'!B60)","v":"F0476122"},{"$f":"IF(MOD(H60,2),'pms170'!C60,'pms230'!C60)","v":"ENS PLATEAU TABLETTE DORSALE"},{"$f":"IF(MOD(H60,2),'pms170'!G60,'pms230'!D60)","v":"2017-02-07"},{"$f":"IF(MOD(H60,2),'pms170'!H60,'pms230'!E60)","v":"2017-02-15"},{"$f":"IF(MOD(H60,2),'pms170'!F60,'pms230'!F60)","v":50},{"$f":"IF(MOD(H60,2),'pms170'!A60,'pms230'!M60)","v":"351010"},59]
[{"$f":"IF(MOD(H61,2),'pms170'!D61,'pms230'!A61)","v":"961580"},{"$f":"IF(MOD(H61,2),'pms170'!B61,'pms230'!B61)","v":"F0426390"},{"$f":"IF(MOD(H61,2),'pms170'!C61,'pms230'!C61)","v":"ENS STRUCT TAB IAT I"},{"$f":"IF(MOD(H61,2),'pms170'!G61,'pms230'!D61)","v":"2017-02-08"},{"$f":"IF(MOD(H61,2),'pms170'!H61,'pms230'!E61)","v":"2017-02-08"},{"$f":"IF(MOD(H61,2),'pms170'!F61,'pms230'!F61)","v":"12"},{"$f":"IF(MOD(H61,2),'pms170'!A61,'pms230'!M61)","v":"351015"},60]
[{"$f":"IF(MOD(H62,2),'pms170'!D62,'pms230'!A62)","v":"7110014"},{"$f":"IF(MOD(H62,2),'pms170'!B62,'pms230'!B62)","v":"F0476122"},{"$f":"IF(MOD(H62,2),'pms170'!C62,'pms230'!C62)","v":"ENS PLATEAU TABLETTE DORSALE"},{"$f":"IF(MOD(H62,2),'pms170'!G62,'pms230'!D62)","v":"2017-02-07"},{"$f":"IF(MOD(H62,2),'pms170'!H62,'pms230'!E62)","v":"2017-02-15"},{"$f":"IF(MOD(H62,2),'pms170'!F62,'pms230'!F62)","v":50},{"$f":"IF(MOD(H62,2),'pms170'!A62,'pms230'!M62)","v":"351010"},61]
[{"$f":"IF(MOD(H63,2),'pms170'!D63,'pms230'!A63)","v":"962227"},{"$f":"IF(MOD(H63,2),'pms170'!B63,'pms230'!B63)","v":"F0455792"},{"$f":"IF(MOD(H63,2),'pms170'!C63,'pms230'!C63)","v":"ENS SUPPORT TV D"},{"$f":"IF(MOD(H63,2),'pms170'!G63,'pms230'!D63)","v":"2017-02-09"},{"$f":"IF(MOD(H63,2),'pms170'!H63,'pms230'!E63)","v":"2017-02-09"},{"$f":"IF(MOD(H63,2),'pms170'!F63,'pms230'!F63)","v":"10"},{"$f":"IF(MOD(H63,2),'pms170'!A63,'pms230'!M63)","v":"351000"},62]
[{"$f":"IF(MOD(H64,2),'pms170'!D64,'pms230'!A64)","v":"7238137"},{"$f":"IF(MOD(H64,2),'pms170'!B64,'pms230'!B64)","v":"F0476122"},{"$f":"IF(MOD(H64,2),'pms170'!C64,'pms230'!C64)","v":"ENS PLATEAU TABLETTE DORSALE"},{"$f":"IF(MOD(H64,2),'pms170'!G64,'pms230'!D64)","v":"2017-02-08"},{"$f":"IF(MOD(H64,2),'pms170'!H64,'pms230'!E64)","v":"2017-02-16"},{"$f":"IF(MOD(H64,2),'pms170'!F64,'pms230'!F64)","v":50},{"$f":"IF(MOD(H64,2),'pms170'!A64,'pms230'!M64)","v":"351010"},63]
[{"$f":"IF(MOD(H65,2),'pms170'!D65,'pms230'!A65)","v":"957632"},{"$f":"IF(MOD(H65,2),'pms170'!B65,'pms230'!B65)","v":"F0517739"},{"$f":"IF(MOD(H65,2),'pms170'!C65,'pms230'!C65)","v":"ENS TABLETTE DORSALE"},{"$f":"IF(MOD(H65,2),'pms170'!G65,'pms230'!D65)","v":"2017-02-09"},{"$f":"IF(MOD(H65,2),'pms170'!H65,'pms230'!E65)","v":"2017-02-09"},{"$f":"IF(MOD(H65,2),'pms170'!F65,'pms230'!F65)","v":"17"},{"$f":"IF(MOD(H65,2),'pms170'!A65,'pms230'!M65)","v":"351010"},64]
[{"$f":"IF(MOD(H66,2),'pms170'!D66,'pms230'!A66)","v":"7238139"},{"$f":"IF(MOD(H66,2),'pms170'!B66,'pms230'!B66)","v":"F0476122"},{"$f":"IF(MOD(H66,2),'pms170'!C66,'pms230'!C66)","v":"ENS PLATEAU TABLETTE DORSALE"},{"$f":"IF(MOD(H66,2),'pms170'!G66,'pms230'!D66)","v":"2017-02-10"},{"$f":"IF(MOD(H66,2),'pms170'!H66,'pms230'!E66)","v":"2017-02-20"},{"$f":"IF(MOD(H66,2),'pms170'!F66,'pms230'!F66)","v":50},{"$f":"IF(MOD(H66,2),'pms170'!A66,'pms230'!M66)","v":"351010"},65]
[{"$f":"IF(MOD(H67,2),'pms170'!D67,'pms230'!A67)","v":"962055"},{"$f":"IF(MOD(H67,2),'pms170'!B67,'pms230'!B67)","v":"F0440199"},{"$f":"IF(MOD(H67,2),'pms170'!C67,'pms230'!C67)","v":"TABLETTE COCKTAIL D"},{"$f":"IF(MOD(H67,2),'pms170'!G67,'pms230'!D67)","v":"2017-02-09"},{"$f":"IF(MOD(H67,2),'pms170'!H67,'pms230'!E67)","v":"2017-02-09"},{"$f":"IF(MOD(H67,2),'pms170'!F67,'pms230'!F67)","v":"7"},{"$f":"IF(MOD(H67,2),'pms170'!A67,'pms230'!M67)","v":"351000"},66]
[{"$f":"IF(MOD(H68,2),'pms170'!D68,'pms230'!A68)","v":"7082724"},{"$f":"IF(MOD(H68,2),'pms170'!B68,'pms230'!B68)","v":"F0486378"},{"$f":"IF(MOD(H68,2),'pms170'!C68,'pms230'!C68)","v":"CAPOT EXTERIEUR FIXE"},{"$f":"IF(MOD(H68,2),'pms170'!G68,'pms230'!D68)","v":"2017-02-07"},{"$f":"IF(MOD(H68,2),'pms170'!H68,'pms230'!E68)","v":"2017-02-07"},{"$f":"IF(MOD(H68,2),'pms170'!F68,'pms230'!F68)","v":3},{"$f":"IF(MOD(H68,2),'pms170'!A68,'pms230'!M68)","v":"351010"},67]
[{"$f":"IF(MOD(H69,2),'pms170'!D69,'pms230'!A69)","v":"961267"},{"$f":"IF(MOD(H69,2),'pms170'!B69,'pms230'!B69)","v":"F337462P134"},{"$f":"IF(MOD(H69,2),'pms170'!C69,'pms230'!C69)","v":"H134 PLATEAU TABLETT"},{"$f":"IF(MOD(H69,2),'pms170'!G69,'pms230'!D69)","v":"2017-02-09"},{"$f":"IF(MOD(H69,2),'pms170'!H69,'pms230'!E69)","v":"2017-02-09"},{"$f":"IF(MOD(H69,2),'pms170'!F69,'pms230'!F69)","v":"52"},{"$f":"IF(MOD(H69,2),'pms170'!A69,'pms230'!M69)","v":"351010"},68]
[{"$f":"IF(MOD(H70,2),'pms170'!D70,'pms230'!A70)","v":"7123466"},{"$f":"IF(MOD(H70,2),'pms170'!B70,'pms230'!B70)","v":"F0488555"},{"$f":"IF(MOD(H70,2),'pms170'!C70,'pms230'!C70)","v":"RENFORT CAPOT AR CROSSE PAROI"},{"$f":"IF(MOD(H70,2),'pms170'!G70,'pms230'!D70)","v":"2017-01-26"},{"$f":"IF(MOD(H70,2),'pms170'!H70,'pms230'!E70)","v":"2017-01-26"},{"$f":"IF(MOD(H70,2),'pms170'!F70,'pms230'!F70)","v":4},{"$f":"IF(MOD(H70,2),'pms170'!A70,'pms230'!M70)","v":"351010"},69]
[{"$f":"IF(MOD(H71,2),'pms170'!D71,'pms230'!A71)","v":"961622"},{"$f":"IF(MOD(H71,2),'pms170'!B71,'pms230'!B71)","v":"F0457066"},{"$f":"IF(MOD(H71,2),'pms170'!C71,'pms230'!C71)","v":"CAPOT CROSSE LAT"},{"$f":"IF(MOD(H71,2),'pms170'!G71,'pms230'!D71)","v":"2017-02-09"},{"$f":"IF(MOD(H71,2),'pms170'!H71,'pms230'!E71)","v":"2017-02-09"},{"$f":"IF(MOD(H71,2),'pms170'!F71,'pms230'!F71)","v":"52"},{"$f":"IF(MOD(H71,2),'pms170'!A71,'pms230'!M71)","v":"351010"},70]
[{"$f":"IF(MOD(H72,2),'pms170'!D72,'pms230'!A72)","v":"6749938"},{"$f":"IF(MOD(H72,2),'pms170'!B72,'pms230'!B72)","v":"F0493742"},{"$f":"IF(MOD(H72,2),'pms170'!C72,'pms230'!C72)","v":" ENS TABLETTE DORSALE LGE"},{"$f":"IF(MOD(H72,2),'pms170'!G72,'pms230'!D72)","v":"2017-02-13"},{"$f":"IF(MOD(H72,2),'pms170'!H72,'pms230'!E72)","v":"2017-02-23"},{"$f":"IF(MOD(H72,2),'pms170'!F72,'pms230'!F72)","v":50},{"$f":"IF(MOD(H72,2),'pms170'!A72,'pms230'!M72)","v":"351010"},71]
[{"$f":"IF(MOD(H73,2),'pms170'!D73,'pms230'!A73)","v":"962219"},{"$f":"IF(MOD(H73,2),'pms170'!B73,'pms230'!B73)","v":"F0468176"},{"$f":"IF(MOD(H73,2),'pms170'!C73,'pms230'!C73)","v":"CAPOT CACHE ARRIERE"},{"$f":"IF(MOD(H73,2),'pms170'!G73,'pms230'!D73)","v":"2017-02-09"},{"$f":"IF(MOD(H73,2),'pms170'!H73,'pms230'!E73)","v":"2017-02-09"},{"$f":"IF(MOD(H73,2),'pms170'!F73,'pms230'!F73)","v":"52"},{"$f":"IF(MOD(H73,2),'pms170'!A73,'pms230'!M73)","v":"351010"},72]
[{"$f":"IF(MOD(H74,2),'pms170'!D74,'pms230'!A74)","v":"6841474"},{"$f":"IF(MOD(H74,2),'pms170'!B74,'pms230'!B74)","v":"F0493742"},{"$f":"IF(MOD(H74,2),'pms170'!C74,'pms230'!C74)","v":" ENS TABLETTE DORSALE LGE"},{"$f":"IF(MOD(H74,2),'pms170'!G74,'pms230'!D74)","v":"2017-02-13"},{"$f":"IF(MOD(H74,2),'pms170'!H74,'pms230'!E74)","v":"2017-02-23"},{"$f":"IF(MOD(H74,2),'pms170'!F74,'pms230'!F74)","v":50},{"$f":"IF(MOD(H74,2),'pms170'!A74,'pms230'!M74)","v":"351010"},73]
[{"$f":"IF(MOD(H75,2),'pms170'!D75,'pms230'!A75)","v":"962133"},{"$f":"IF(MOD(H75,2),'pms170'!B75,'pms230'!B75)","v":"F0437984"},{"$f":"IF(MOD(H75,2),'pms170'!C75,'pms230'!C75)","v":"CAPOT CROSSE G"},{"$f":"IF(MOD(H75,2),'pms170'!G75,'pms230'!D75)","v":"2017-02-09"},{"$f":"IF(MOD(H75,2),'pms170'!H75,'pms230'!E75)","v":"2017-02-09"},{"$f":"IF(MOD(H75,2),'pms170'!F75,'pms230'!F75)","v":"32"},{"$f":"IF(MOD(H75,2),'pms170'!A75,'pms230'!M75)","v":"351010"},74]
[{"$f":"IF(MOD(H76,2),'pms170'!D76,'pms230'!A76)","v":"7205417"},{"$f":"IF(MOD(H76,2),'pms170'!B76,'pms230'!B76)","v":"F0493745"},{"$f":"IF(MOD(H76,2),'pms170'!C76,'pms230'!C76)","v":"CAPOT SUP TABLETTE LGE"},{"$f":"IF(MOD(H76,2),'pms170'!G76,'pms230'!D76)","v":"2017-02-02"},{"$f":"IF(MOD(H76,2),'pms170'!H76,'pms230'!E76)","v":"2017-02-02"},{"$f":"IF(MOD(H76,2),'pms170'!F76,'pms230'!F76)","v":43},{"$f":"IF(MOD(H76,2),'pms170'!A76,'pms230'!M76)","v":"351010"},75]
[{"$f":"IF(MOD(H77,2),'pms170'!D77,'pms230'!A77)","v":"962185"},{"$f":"IF(MOD(H77,2),'pms170'!B77,'pms230'!B77)","v":"F0455942"},{"$f":"IF(MOD(H77,2),'pms170'!C77,'pms230'!C77)","v":"ENS CAPOT CROSSE EN"},{"$f":"IF(MOD(H77,2),'pms170'!G77,'pms230'!D77)","v":"2017-02-09"},{"$f":"IF(MOD(H77,2),'pms170'!H77,'pms230'!E77)","v":"2017-02-09"},{"$f":"IF(MOD(H77,2),'pms170'!F77,'pms230'!F77)","v":"23"},{"$f":"IF(MOD(H77,2),'pms170'!A77,'pms230'!M77)","v":"351010"},76]
[{"$f":"IF(MOD(H78,2),'pms170'!D78,'pms230'!A78)","v":"6707870"},{"$f":"IF(MOD(H78,2),'pms170'!B78,'pms230'!B78)","v":"F0499646"},{"$f":"IF(MOD(H78,2),'pms170'!C78,'pms230'!C78)","v":"CAPOT SUP TABLETTE 17\"70"},{"$f":"IF(MOD(H78,2),'pms170'!G78,'pms230'!D78)","v":"2017-01-12"},{"$f":"IF(MOD(H78,2),'pms170'!H78,'pms230'!E78)","v":"2017-01-12"},{"$f":"IF(MOD(H78,2),'pms170'!F78,'pms230'!F78)","v":12},{"$f":"IF(MOD(H78,2),'pms170'!A78,'pms230'!M78)","v":"351010"},77]
[{"$f":"IF(MOD(H79,2),'pms170'!D79,'pms230'!A79)","v":"961890"},{"$f":"IF(MOD(H79,2),'pms170'!B79,'pms230'!B79)","v":"F19C0D0030S0"},{"$f":"IF(MOD(H79,2),'pms170'!C79,'pms230'!C79)","v":"RENFORT PORTE BOISSO"},{"$f":"IF(MOD(H79,2),'pms170'!G79,'pms230'!D79)","v":"2017-02-09"},{"$f":"IF(MOD(H79,2),'pms170'!H79,'pms230'!E79)","v":"2017-02-09"},{"$f":"IF(MOD(H79,2),'pms170'!F79,'pms230'!F79)","v":"6"},{"$f":"IF(MOD(H79,2),'pms170'!A79,'pms230'!M79)","v":"351010"},78]
[{"$f":"IF(MOD(H80,2),'pms170'!D80,'pms230'!A80)","v":"7087805"},{"$f":"IF(MOD(H80,2),'pms170'!B80,'pms230'!B80)","v":"F0504758"},{"$f":"IF(MOD(H80,2),'pms170'!C80,'pms230'!C80)","v":"ENS PLATEAU TABLETTE STD"},{"$f":"IF(MOD(H80,2),'pms170'!G80,'pms230'!D80)","v":"2017-02-02"},{"$f":"IF(MOD(H80,2),'pms170'!H80,'pms230'!E80)","v":"2017-02-06"},{"$f":"IF(MOD(H80,2),'pms170'!F80,'pms230'!F80)","v":25},{"$f":"IF(MOD(H80,2),'pms170'!A80,'pms230'!M80)","v":"351010"},79]
[{"$f":"IF(MOD(H81,2),'pms170'!D81,'pms230'!A81)","v":"961010"},{"$f":"IF(MOD(H81,2),'pms170'!B81,'pms230'!B81)","v":"F050203P020"},{"$f":"IF(MOD(H81,2),'pms170'!C81,'pms230'!C81)","v":"H020 - CAPOT ACC LAT"},{"$f":"IF(MOD(H81,2),'pms170'!G81,'pms230'!D81)","v":"2017-02-09"},{"$f":"IF(MOD(H81,2),'pms170'!H81,'pms230'!E81)","v":"2017-02-09"},{"$f":"IF(MOD(H81,2),'pms170'!F81,'pms230'!F81)","v":"3"},{"$f":"IF(MOD(H81,2),'pms170'!A81,'pms230'!M81)","v":"351010"},80]
[{"$f":"IF(MOD(H82,2),'pms170'!D82,'pms230'!A82)","v":"7128251"},{"$f":"IF(MOD(H82,2),'pms170'!B82,'pms230'!B82)","v":"F0509323"},{"$f":"IF(MOD(H82,2),'pms170'!C82,'pms230'!C82)","v":"ENS PLATEAU TABLETTE STD"},{"$f":"IF(MOD(H82,2),'pms170'!G82,'pms230'!D82)","v":"2017-02-08"},{"$f":"IF(MOD(H82,2),'pms170'!H82,'pms230'!E82)","v":"2017-02-10"},{"$f":"IF(MOD(H82,2),'pms170'!F82,'pms230'!F82)","v":1},{"$f":"IF(MOD(H82,2),'pms170'!A82,'pms230'!M82)","v":"351010"},81]
[{"$f":"IF(MOD(H83,2),'pms170'!D83,'pms230'!A83)","v":"962249"},{"$f":"IF(MOD(H83,2),'pms170'!B83,'pms230'!B83)","v":"F0439977"},{"$f":"IF(MOD(H83,2),'pms170'!C83,'pms230'!C83)","v":"PLATEAU TAB BASSE L3"},{"$f":"IF(MOD(H83,2),'pms170'!G83,'pms230'!D83)","v":"2017-02-09"},{"$f":"IF(MOD(H83,2),'pms170'!H83,'pms230'!E83)","v":"2017-02-09"},{"$f":"IF(MOD(H83,2),'pms170'!F83,'pms230'!F83)","v":"30"},{"$f":"IF(MOD(H83,2),'pms170'!A83,'pms230'!M83)","v":"351000"},82]
[{"$f":"IF(MOD(H84,2),'pms170'!D84,'pms230'!A84)","v":"7142412"},{"$f":"IF(MOD(H84,2),'pms170'!B84,'pms230'!B84)","v":"F0511324"},{"$f":"IF(MOD(H84,2),'pms170'!C84,'pms230'!C84)","v":"ENS CAPOT SOUS ASSISE"},{"$f":"IF(MOD(H84,2),'pms170'!G84,'pms230'!D84)","v":"2017-02-23"},{"$f":"IF(MOD(H84,2),'pms170'!H84,'pms230'!E84)","v":"2017-02-23"},{"$f":"IF(MOD(H84,2),'pms170'!F84,'pms230'!F84)","v":1},{"$f":"IF(MOD(H84,2),'pms170'!A84,'pms230'!M84)","v":"351010"},83]
[{"$f":"IF(MOD(H85,2),'pms170'!D85,'pms230'!A85)","v":"961217"},{"$f":"IF(MOD(H85,2),'pms170'!B85,'pms230'!B85)","v":"F0520341"},{"$f":"IF(MOD(H85,2),'pms170'!C85,'pms230'!C85)","v":"ENS CAPOT COMBO AV"},{"$f":"IF(MOD(H85,2),'pms170'!G85,'pms230'!D85)","v":"2017-02-09"},{"$f":"IF(MOD(H85,2),'pms170'!H85,'pms230'!E85)","v":"2017-02-09"},{"$f":"IF(MOD(H85,2),'pms170'!F85,'pms230'!F85)","v":"5"},{"$f":"IF(MOD(H85,2),'pms170'!A85,'pms230'!M85)","v":"351010"},84]
[{"$f":"IF(MOD(H86,2),'pms170'!D86,'pms230'!A86)","v":"7126561"},{"$f":"IF(MOD(H86,2),'pms170'!B86,'pms230'!B86)","v":"F0514572"},{"$f":"IF(MOD(H86,2),'pms170'!C86,'pms230'!C86)","v":"ENS CAPOT ANTI GOUTTE D"},{"$f":"IF(MOD(H86,2),'pms170'!G86,'pms230'!D86)","v":"2017-02-10"},{"$f":"IF(MOD(H86,2),'pms170'!H86,'pms230'!E86)","v":"2017-02-11"},{"$f":"IF(MOD(H86,2),'pms170'!F86,'pms230'!F86)","v":1},{"$f":"IF(MOD(H86,2),'pms170'!A86,'pms230'!M86)","v":"351010"},85]
[{"$f":"IF(MOD(H87,2),'pms170'!D87,'pms230'!A87)","v":"961843"},{"$f":"IF(MOD(H87,2),'pms170'!B87,'pms230'!B87)","v":"F0520120"},{"$f":"IF(MOD(H87,2),'pms170'!C87,'pms230'!C87)","v":"ENS CAPOT STS"},{"$f":"IF(MOD(H87,2),'pms170'!G87,'pms230'!D87)","v":"2017-02-09"},{"$f":"IF(MOD(H87,2),'pms170'!H87,'pms230'!E87)","v":"2017-02-09"},{"$f":"IF(MOD(H87,2),'pms170'!F87,'pms230'!F87)","v":"2"},{"$f":"IF(MOD(H87,2),'pms170'!A87,'pms230'!M87)","v":"351010"},86]
[{"$f":"IF(MOD(H88,2),'pms170'!D88,'pms230'!A88)","v":"6876817"},{"$f":"IF(MOD(H88,2),'pms170'!B88,'pms230'!B88)","v":"F0517741"},{"$f":"IF(MOD(H88,2),'pms170'!C88,'pms230'!C88)","v":"ENS TABLETTE DORSALE 17\"2"},{"$f":"IF(MOD(H88,2),'pms170'!G88,'pms230'!D88)","v":"2017-01-26"},{"$f":"IF(MOD(H88,2),'pms170'!H88,'pms230'!E88)","v":"2017-02-01"},{"$f":"IF(MOD(H88,2),'pms170'!F88,'pms230'!F88)","v":9},{"$f":"IF(MOD(H88,2),'pms170'!A88,'pms230'!M88)","v":"351010"},87]
[{"$f":"IF(MOD(H89,2),'pms170'!D89,'pms230'!A89)","v":"956904"},{"$f":"IF(MOD(H89,2),'pms170'!B89,'pms230'!B89)","v":"F0493839"},{"$f":"IF(MOD(H89,2),'pms170'!C89,'pms230'!C89)","v":"ENS REMPLISSAGE TABL"},{"$f":"IF(MOD(H89,2),'pms170'!G89,'pms230'!D89)","v":"2017-02-09"},{"$f":"IF(MOD(H89,2),'pms170'!H89,'pms230'!E89)","v":"2017-02-10"},{"$f":"IF(MOD(H89,2),'pms170'!F89,'pms230'!F89)","v":"50"},{"$f":"IF(MOD(H89,2),'pms170'!A89,'pms230'!M89)","v":"351015"},88]
[{"$f":"IF(MOD(H90,2),'pms170'!D90,'pms230'!A90)","v":"7008716"},{"$f":"IF(MOD(H90,2),'pms170'!B90,'pms230'!B90)","v":"F0517742"},{"$f":"IF(MOD(H90,2),'pms170'!C90,'pms230'!C90)","v":"ENS TABLETTE DORSALE 18\"1"},{"$f":"IF(MOD(H90,2),'pms170'!G90,'pms230'!D90)","v":"2017-02-10"},{"$f":"IF(MOD(H90,2),'pms170'!H90,'pms230'!E90)","v":"2017-02-15"},{"$f":"IF(MOD(H90,2),'pms170'!F90,'pms230'!F90)","v":12},{"$f":"IF(MOD(H90,2),'pms170'!A90,'pms230'!M90)","v":"351010"},89]
[{"$f":"IF(MOD(H91,2),'pms170'!D91,'pms230'!A91)","v":"961209"},{"$f":"IF(MOD(H91,2),'pms170'!B91,'pms230'!B91)","v":"J2000281"},{"$f":"IF(MOD(H91,2),'pms170'!C91,'pms230'!C91)","v":"PANEL  LOWER FORWARD"},{"$f":"IF(MOD(H91,2),'pms170'!G91,'pms230'!D91)","v":"2017-02-10"},{"$f":"IF(MOD(H91,2),'pms170'!H91,'pms230'!E91)","v":"2017-02-10"},{"$f":"IF(MOD(H91,2),'pms170'!F91,'pms230'!F91)","v":"13"},{"$f":"IF(MOD(H91,2),'pms170'!A91,'pms230'!M91)","v":"351020"},90]
[{"$f":"IF(MOD(H92,2),'pms170'!D92,'pms230'!A92)","v":"6974323"},{"$f":"IF(MOD(H92,2),'pms170'!B92,'pms230'!B92)","v":"F0519677"},{"$f":"IF(MOD(H92,2),'pms170'!C92,'pms230'!C92)","v":"ENS TABLETTE DORSALE"},{"$f":"IF(MOD(H92,2),'pms170'!G92,'pms230'!D92)","v":"2017-01-24"},{"$f":"IF(MOD(H92,2),'pms170'!H92,'pms230'!E92)","v":"2017-01-27"},{"$f":"IF(MOD(H92,2),'pms170'!F92,'pms230'!F92)","v":50},{"$f":"IF(MOD(H92,2),'pms170'!A92,'pms230'!M92)","v":"351010"},91]
[{"$f":"IF(MOD(H93,2),'pms170'!D93,'pms230'!A93)","v":"961198"},{"$f":"IF(MOD(H93,2),'pms170'!B93,'pms230'!B93)","v":"J2000320"},{"$f":"IF(MOD(H93,2),'pms170'!C93,'pms230'!C93)","v":"DOUBLER MIDDLE LOWER"},{"$f":"IF(MOD(H93,2),'pms170'!G93,'pms230'!D93)","v":"2017-02-10"},{"$f":"IF(MOD(H93,2),'pms170'!H93,'pms230'!E93)","v":"2017-02-10"},{"$f":"IF(MOD(H93,2),'pms170'!F93,'pms230'!F93)","v":"11"},{"$f":"IF(MOD(H93,2),'pms170'!A93,'pms230'!M93)","v":"351020"},92]
[{"$f":"IF(MOD(H94,2),'pms170'!D94,'pms230'!A94)","v":"6863283"},{"$f":"IF(MOD(H94,2),'pms170'!B94,'pms230'!B94)","v":"F0519678"},{"$f":"IF(MOD(H94,2),'pms170'!C94,'pms230'!C94)","v":"ENS TABLETTE DORSALE"},{"$f":"IF(MOD(H94,2),'pms170'!G94,'pms230'!D94)","v":"2017-01-16"},{"$f":"IF(MOD(H94,2),'pms170'!H94,'pms230'!E94)","v":"2017-01-26"},{"$f":"IF(MOD(H94,2),'pms170'!F94,'pms230'!F94)","v":12},{"$f":"IF(MOD(H94,2),'pms170'!A94,'pms230'!M94)","v":"351010"},93]
[{"$f":"IF(MOD(H95,2),'pms170'!D95,'pms230'!A95)","v":"961496"},{"$f":"IF(MOD(H95,2),'pms170'!B95,'pms230'!B95)","v":"F0505778"},{"$f":"IF(MOD(H95,2),'pms170'!C95,'pms230'!C95)","v":"CAPOT FOND HAUT DOSS"},{"$f":"IF(MOD(H95,2),'pms170'!G95,'pms230'!D95)","v":"2017-02-10"},{"$f":"IF(MOD(H95,2),'pms170'!H95,'pms230'!E95)","v":"2017-02-13"},{"$f":"IF(MOD(H95,2),'pms170'!F95,'pms230'!F95)","v":"52"},{"$f":"IF(MOD(H95,2),'pms170'!A95,'pms230'!M95)","v":"351010"},94]
[{"$f":"IF(MOD(H96,2),'pms170'!D96,'pms230'!A96)","v":"7152101"},{"$f":"IF(MOD(H96,2),'pms170'!B96,'pms230'!B96)","v":"F0519825"},{"$f":"IF(MOD(H96,2),'pms170'!C96,'pms230'!C96)","v":"CAPOT STS"},{"$f":"IF(MOD(H96,2),'pms170'!G96,'pms230'!D96)","v":"2017-02-09"},{"$f":"IF(MOD(H96,2),'pms170'!H96,'pms230'!E96)","v":"2017-02-10"},{"$f":"IF(MOD(H96,2),'pms170'!F96,'pms230'!F96)","v":2},{"$f":"IF(MOD(H96,2),'pms170'!A96,'pms230'!M96)","v":"351010"},95]
[{"$f":"IF(MOD(H97,2),'pms170'!D97,'pms230'!A97)","v":"961498"},{"$f":"IF(MOD(H97,2),'pms170'!B97,'pms230'!B97)","v":"F0505778"},{"$f":"IF(MOD(H97,2),'pms170'!C97,'pms230'!C97)","v":"CAPOT FOND HAUT DOSS"},{"$f":"IF(MOD(H97,2),'pms170'!G97,'pms230'!D97)","v":"2017-02-10"},{"$f":"IF(MOD(H97,2),'pms170'!H97,'pms230'!E97)","v":"2017-02-13"},{"$f":"IF(MOD(H97,2),'pms170'!F97,'pms230'!F97)","v":"52"},{"$f":"IF(MOD(H97,2),'pms170'!A97,'pms230'!M97)","v":"351010"},96]
[{"$f":"IF(MOD(H98,2),'pms170'!D98,'pms230'!A98)","v":"7038758"},{"$f":"IF(MOD(H98,2),'pms170'!B98,'pms230'!B98)","v":"F0519983"},{"$f":"IF(MOD(H98,2),'pms170'!C98,'pms230'!C98)","v":"ENS CAPOT STS"},{"$f":"IF(MOD(H98,2),'pms170'!G98,'pms230'!D98)","v":"2017-02-10"},{"$f":"IF(MOD(H98,2),'pms170'!H98,'pms230'!E98)","v":"2017-02-11"},{"$f":"IF(MOD(H98,2),'pms170'!F98,'pms230'!F98)","v":3},{"$f":"IF(MOD(H98,2),'pms170'!A98,'pms230'!M98)","v":"351010"},97]
[{"$f":"IF(MOD(H99,2),'pms170'!D99,'pms230'!A99)","v":"961500"},{"$f":"IF(MOD(H99,2),'pms170'!B99,'pms230'!B99)","v":"F0505778"},{"$f":"IF(MOD(H99,2),'pms170'!C99,'pms230'!C99)","v":"CAPOT FOND HAUT DOSS"},{"$f":"IF(MOD(H99,2),'pms170'!G99,'pms230'!D99)","v":"2017-02-10"},{"$f":"IF(MOD(H99,2),'pms170'!H99,'pms230'!E99)","v":"2017-02-13"},{"$f":"IF(MOD(H99,2),'pms170'!F99,'pms230'!F99)","v":"52"},{"$f":"IF(MOD(H99,2),'pms170'!A99,'pms230'!M99)","v":"351010"},98]
[{"$f":"IF(MOD(H100,2),'pms170'!D100,'pms230'!A100)","v":"7049728"},{"$f":"IF(MOD(H100,2),'pms170'!B100,'pms230'!B100)","v":"F0520343"},{"$f":"IF(MOD(H100,2),'pms170'!C100,'pms230'!C100)","v":"ENS CAPOT COMBO AV"},{"$f":"IF(MOD(H100,2),'pms170'!G100,'pms230'!D100)","v":"2017-03-01"},{"$f":"IF(MOD(H100,2),'pms170'!H100,'pms230'!E100)","v":"2017-03-02"},{"$f":"IF(MOD(H100,2),'pms170'!F100,'pms230'!F100)","v":2},{"$f":"IF(MOD(H100,2),'pms170'!A100,'pms230'!M100)","v":"351010"},99]
[{"$f":"IF(MOD(H101,2),'pms170'!D101,'pms230'!A101)","v":"961542"},{"$f":"IF(MOD(H101,2),'pms170'!B101,'pms230'!B101)","v":"J2000537"},{"$f":"IF(MOD(H101,2),'pms170'!C101,'pms230'!C101)","v":"FRONT SIDE FAIRING"},{"$f":"IF(MOD(H101,2),'pms170'!G101,'pms230'!D101)","v":"2017-02-10"},{"$f":"IF(MOD(H101,2),'pms170'!H101,'pms230'!E101)","v":"2017-02-10"},{"$f":"IF(MOD(H101,2),'pms170'!F101,'pms230'!F101)","v":"7"},{"$f":"IF(MOD(H101,2),'pms170'!A101,'pms230'!M101)","v":"351020"},100]
[{"$f":"IF(MOD(H102,2),'pms170'!D102,'pms230'!A102)","v":"6738451"},{"$f":"IF(MOD(H102,2),'pms170'!B102,'pms230'!B102)","v":"F0520603"},{"$f":"IF(MOD(H102,2),'pms170'!C102,'pms230'!C102)","v":"ENS TABLETTE DORSALE 17\"70"},{"$f":"IF(MOD(H102,2),'pms170'!G102,'pms230'!D102)","v":"2017-02-02"},{"$f":"IF(MOD(H102,2),'pms170'!H102,'pms230'!E102)","v":"2017-02-07"},{"$f":"IF(MOD(H102,2),'pms170'!F102,'pms230'!F102)","v":50},{"$f":"IF(MOD(H102,2),'pms170'!A102,'pms230'!M102)","v":"351010"},101]
[{"$f":"IF(MOD(H103,2),'pms170'!D103,'pms230'!A103)","v":"961514"},{"$f":"IF(MOD(H103,2),'pms170'!B103,'pms230'!B103)","v":"F0478894"},{"$f":"IF(MOD(H103,2),'pms170'!C103,'pms230'!C103)","v":"CAPOT SOUS ASSISE"},{"$f":"IF(MOD(H103,2),'pms170'!G103,'pms230'!D103)","v":"2017-02-10"},{"$f":"IF(MOD(H103,2),'pms170'!H103,'pms230'!E103)","v":"2017-02-13"},{"$f":"IF(MOD(H103,2),'pms170'!F103,'pms230'!F103)","v":"51"},{"$f":"IF(MOD(H103,2),'pms170'!A103,'pms230'!M103)","v":"351010"},102]
[{"$f":"IF(MOD(H104,2),'pms170'!D104,'pms230'!A104)","v":"6738453"},{"$f":"IF(MOD(H104,2),'pms170'!B104,'pms230'!B104)","v":"F0520603"},{"$f":"IF(MOD(H104,2),'pms170'!C104,'pms230'!C104)","v":"ENS TABLETTE DORSALE 17\"70"},{"$f":"IF(MOD(H104,2),'pms170'!G104,'pms230'!D104)","v":"2017-02-02"},{"$f":"IF(MOD(H104,2),'pms170'!H104,'pms230'!E104)","v":"2017-02-07"},{"$f":"IF(MOD(H104,2),'pms170'!F104,'pms230'!F104)","v":50},{"$f":"IF(MOD(H104,2),'pms170'!A104,'pms230'!M104)","v":"351010"},103]
[{"$f":"IF(MOD(H105,2),'pms170'!D105,'pms230'!A105)","v":"961626"},{"$f":"IF(MOD(H105,2),'pms170'!B105,'pms230'!B105)","v":"F341039P108"},{"$f":"IF(MOD(H105,2),'pms170'!C105,'pms230'!C105)","v":"H108 CAPOT AV"},{"$f":"IF(MOD(H105,2),'pms170'!G105,'pms230'!D105)","v":"2017-02-10"},{"$f":"IF(MOD(H105,2),'pms170'!H105,'pms230'!E105)","v":"2017-02-10"},{"$f":"IF(MOD(H105,2),'pms170'!F105,'pms230'!F105)","v":"2"},{"$f":"IF(MOD(H105,2),'pms170'!A105,'pms230'!M105)","v":"351010"},104]
[{"$f":"IF(MOD(H106,2),'pms170'!D106,'pms230'!A106)","v":"6738455"},{"$f":"IF(MOD(H106,2),'pms170'!B106,'pms230'!B106)","v":"F0520603"},{"$f":"IF(MOD(H106,2),'pms170'!C106,'pms230'!C106)","v":"ENS TABLETTE DORSALE 17\"70"},{"$f":"IF(MOD(H106,2),'pms170'!G106,'pms230'!D106)","v":"2017-02-01"},{"$f":"IF(MOD(H106,2),'pms170'!H106,'pms230'!E106)","v":"2017-02-06"},{"$f":"IF(MOD(H106,2),'pms170'!F106,'pms230'!F106)","v":15},{"$f":"IF(MOD(H106,2),'pms170'!A106,'pms230'!M106)","v":"351010"},105]
[{"$f":"IF(MOD(H107,2),'pms170'!D107,'pms230'!A107)","v":"962268"},{"$f":"IF(MOD(H107,2),'pms170'!B107,'pms230'!B107)","v":"J2000247"},{"$f":"IF(MOD(H107,2),'pms170'!C107,'pms230'!C107)","v":"DOUBLER BTM INNER LI"},{"$f":"IF(MOD(H107,2),'pms170'!G107,'pms230'!D107)","v":"2017-02-10"},{"$f":"IF(MOD(H107,2),'pms170'!H107,'pms230'!E107)","v":"2017-02-10"},{"$f":"IF(MOD(H107,2),'pms170'!F107,'pms230'!F107)","v":"11"},{"$f":"IF(MOD(H107,2),'pms170'!A107,'pms230'!M107)","v":"351020"},106]
[{"$f":"IF(MOD(H108,2),'pms170'!D108,'pms230'!A108)","v":"7008884"},{"$f":"IF(MOD(H108,2),'pms170'!B108,'pms230'!B108)","v":"F0520603"},{"$f":"IF(MOD(H108,2),'pms170'!C108,'pms230'!C108)","v":"ENS TABLETTE DORSALE 17\"70"},{"$f":"IF(MOD(H108,2),'pms170'!G108,'pms230'!D108)","v":"2017-02-06"},{"$f":"IF(MOD(H108,2),'pms170'!H108,'pms230'!E108)","v":"2017-02-09"},{"$f":"IF(MOD(H108,2),'pms170'!F108,'pms230'!F108)","v":50},{"$f":"IF(MOD(H108,2),'pms170'!A108,'pms230'!M108)","v":"351010"},107]
[{"$f":"IF(MOD(H109,2),'pms170'!D109,'pms230'!A109)","v":"962224"},{"$f":"IF(MOD(H109,2),'pms170'!B109,'pms230'!B109)","v":"F334220P020"},{"$f":"IF(MOD(H109,2),'pms170'!C109,'pms230'!C109)","v":"H020 CAPOT FLANC INT"},{"$f":"IF(MOD(H109,2),'pms170'!G109,'pms230'!D109)","v":"2017-02-10"},{"$f":"IF(MOD(H109,2),'pms170'!H109,'pms230'!E109)","v":"2017-02-10"},{"$f":"IF(MOD(H109,2),'pms170'!F109,'pms230'!F109)","v":"3"},{"$f":"IF(MOD(H109,2),'pms170'!A109,'pms230'!M109)","v":"351010"},108]
[{"$f":"IF(MOD(H110,2),'pms170'!D110,'pms230'!A110)","v":"7008886"},{"$f":"IF(MOD(H110,2),'pms170'!B110,'pms230'!B110)","v":"F0520603"},{"$f":"IF(MOD(H110,2),'pms170'!C110,'pms230'!C110)","v":"ENS TABLETTE DORSALE 17\"70"},{"$f":"IF(MOD(H110,2),'pms170'!G110,'pms230'!D110)","v":"2017-02-06"},{"$f":"IF(MOD(H110,2),'pms170'!H110,'pms230'!E110)","v":"2017-02-09"},{"$f":"IF(MOD(H110,2),'pms170'!F110,'pms230'!F110)","v":50},{"$f":"IF(MOD(H110,2),'pms170'!A110,'pms230'!M110)","v":"351010"},109]
[{"$f":"IF(MOD(H111,2),'pms170'!D111,'pms230'!A111)","v":"962052"},{"$f":"IF(MOD(H111,2),'pms170'!B111,'pms230'!B111)","v":"F317040P015"},{"$f":"IF(MOD(H111,2),'pms170'!C111,'pms230'!C111)","v":"CAPOT CROSSE"},{"$f":"IF(MOD(H111,2),'pms170'!G111,'pms230'!D111)","v":"2017-02-10"},{"$f":"IF(MOD(H111,2),'pms170'!H111,'pms230'!E111)","v":"2017-02-10"},{"$f":"IF(MOD(H111,2),'pms170'!F111,'pms230'!F111)","v":"3"},{"$f":"IF(MOD(H111,2),'pms170'!A111,'pms230'!M111)","v":"351010"},110]
[{"$f":"IF(MOD(H112,2),'pms170'!D112,'pms230'!A112)","v":"7254978"},{"$f":"IF(MOD(H112,2),'pms170'!B112,'pms230'!B112)","v":"F0520928"},{"$f":"IF(MOD(H112,2),'pms170'!C112,'pms230'!C112)","v":"ENS CAPOT USB DOUBLE"},{"$f":"IF(MOD(H112,2),'pms170'!G112,'pms230'!D112)","v":"2017-02-06"},{"$f":"IF(MOD(H112,2),'pms170'!H112,'pms230'!E112)","v":"2017-02-07"},{"$f":"IF(MOD(H112,2),'pms170'!F112,'pms230'!F112)","v":9},{"$f":"IF(MOD(H112,2),'pms170'!A112,'pms230'!M112)","v":"351010"},111]
[{"$f":"IF(MOD(H113,2),'pms170'!D113,'pms230'!A113)","v":"961636"},{"$f":"IF(MOD(H113,2),'pms170'!B113,'pms230'!B113)","v":"F314507P022"},{"$f":"IF(MOD(H113,2),'pms170'!C113,'pms230'!C113)","v":"H022 ENS CAPOT FLANC"},{"$f":"IF(MOD(H113,2),'pms170'!G113,'pms230'!D113)","v":"2017-02-10"},{"$f":"IF(MOD(H113,2),'pms170'!H113,'pms230'!E113)","v":"2017-02-10"},{"$f":"IF(MOD(H113,2),'pms170'!F113,'pms230'!F113)","v":"5"},{"$f":"IF(MOD(H113,2),'pms170'!A113,'pms230'!M113)","v":"351010"},112]
[{"$f":"IF(MOD(H114,2),'pms170'!D114,'pms230'!A114)","v":"7254084"},{"$f":"IF(MOD(H114,2),'pms170'!B114,'pms230'!B114)","v":"F0520966"},{"$f":"IF(MOD(H114,2),'pms170'!C114,'pms230'!C114)","v":"CAPOT SOUS ASSISE"},{"$f":"IF(MOD(H114,2),'pms170'!G114,'pms230'!D114)","v":"2017-02-07"},{"$f":"IF(MOD(H114,2),'pms170'!H114,'pms230'!E114)","v":"2017-02-07"},{"$f":"IF(MOD(H114,2),'pms170'!F114,'pms230'!F114)","v":6},{"$f":"IF(MOD(H114,2),'pms170'!A114,'pms230'!M114)","v":"351010"},113]
[{"$f":"IF(MOD(H115,2),'pms170'!D115,'pms230'!A115)","v":"958984"},{"$f":"IF(MOD(H115,2),'pms170'!B115,'pms230'!B115)","v":"F261413P015"},{"$f":"IF(MOD(H115,2),'pms170'!C115,'pms230'!C115)","v":"H015 CACHE ENJOLIVEU"},{"$f":"IF(MOD(H115,2),'pms170'!G115,'pms230'!D115)","v":"2017-02-10"},{"$f":"IF(MOD(H115,2),'pms170'!H115,'pms230'!E115)","v":"2017-02-10"},{"$f":"IF(MOD(H115,2),'pms170'!F115,'pms230'!F115)","v":"11"},{"$f":"IF(MOD(H115,2),'pms170'!A115,'pms230'!M115)","v":"351010"},114]
[{"$f":"IF(MOD(H116,2),'pms170'!D116,'pms230'!A116)","v":"7254094"},{"$f":"IF(MOD(H116,2),'pms170'!B116,'pms230'!B116)","v":"F0520968"},{"$f":"IF(MOD(H116,2),'pms170'!C116,'pms230'!C116)","v":"CAPOT SOUS ASSISE"},{"$f":"IF(MOD(H116,2),'pms170'!G116,'pms230'!D116)","v":"2017-02-07"},{"$f":"IF(MOD(H116,2),'pms170'!H116,'pms230'!E116)","v":"2017-02-07"},{"$f":"IF(MOD(H116,2),'pms170'!F116,'pms230'!F116)","v":6},{"$f":"IF(MOD(H116,2),'pms170'!A116,'pms230'!M116)","v":"351010"},115]
[{"$f":"IF(MOD(H117,2),'pms170'!D117,'pms230'!A117)","v":"962220"},{"$f":"IF(MOD(H117,2),'pms170'!B117,'pms230'!B117)","v":"F0515813"},{"$f":"IF(MOD(H117,2),'pms170'!C117,'pms230'!C117)","v":"CAPOT PROTECTION CAB"},{"$f":"IF(MOD(H117,2),'pms170'!G117,'pms230'!D117)","v":"2017-02-10"},{"$f":"IF(MOD(H117,2),'pms170'!H117,'pms230'!E117)","v":"2017-02-10"},{"$f":"IF(MOD(H117,2),'pms170'!F117,'pms230'!F117)","v":"50"},{"$f":"IF(MOD(H117,2),'pms170'!A117,'pms230'!M117)","v":"351010"},116]
[{"$f":"IF(MOD(H118,2),'pms170'!D118,'pms230'!A118)","v":"7126327"},{"$f":"IF(MOD(H118,2),'pms170'!B118,'pms230'!B118)","v":"F0521733"},{"$f":"IF(MOD(H118,2),'pms170'!C118,'pms230'!C118)","v":"CAPOT PUB TABLETTE STD"},{"$f":"IF(MOD(H118,2),'pms170'!G118,'pms230'!D118)","v":"2017-02-06"},{"$f":"IF(MOD(H118,2),'pms170'!H118,'pms230'!E118)","v":"2017-02-06"},{"$f":"IF(MOD(H118,2),'pms170'!F118,'pms230'!F118)","v":45},{"$f":"IF(MOD(H118,2),'pms170'!A118,'pms230'!M118)","v":"351010"},117]
[{"$f":"IF(MOD(H119,2),'pms170'!D119,'pms230'!A119)","v":"962230"},{"$f":"IF(MOD(H119,2),'pms170'!B119,'pms230'!B119)","v":"F0447749"},{"$f":"IF(MOD(H119,2),'pms170'!C119,'pms230'!C119)","v":"CAPOT INF EQ"},{"$f":"IF(MOD(H119,2),'pms170'!G119,'pms230'!D119)","v":"2017-02-10"},{"$f":"IF(MOD(H119,2),'pms170'!H119,'pms230'!E119)","v":"2017-02-10"},{"$f":"IF(MOD(H119,2),'pms170'!F119,'pms230'!F119)","v":"21"},{"$f":"IF(MOD(H119,2),'pms170'!A119,'pms230'!M119)","v":"351060"},118]
[{"$f":"IF(MOD(H120,2),'pms170'!D120,'pms230'!A120)","v":"7254102"},{"$f":"IF(MOD(H120,2),'pms170'!B120,'pms230'!B120)","v":"F0523288"},{"$f":"IF(MOD(H120,2),'pms170'!C120,'pms230'!C120)","v":"CAPOT SOUS ASSISE"},{"$f":"IF(MOD(H120,2),'pms170'!G120,'pms230'!D120)","v":"2017-02-07"},{"$f":"IF(MOD(H120,2),'pms170'!H120,'pms230'!E120)","v":"2017-02-07"},{"$f":"IF(MOD(H120,2),'pms170'!F120,'pms230'!F120)","v":1},{"$f":"IF(MOD(H120,2),'pms170'!A120,'pms230'!M120)","v":"351010"},119]
[{"$f":"IF(MOD(H121,2),'pms170'!D121,'pms230'!A121)","v":"957795"},{"$f":"IF(MOD(H121,2),'pms170'!B121,'pms230'!B121)","v":"F305800P134"},{"$f":"IF(MOD(H121,2),'pms170'!C121,'pms230'!C121)","v":"H134 ENS KICK PANEL"},{"$f":"IF(MOD(H121,2),'pms170'!G121,'pms230'!D121)","v":"2017-02-10"},{"$f":"IF(MOD(H121,2),'pms170'!H121,'pms230'!E121)","v":"2017-02-10"},{"$f":"IF(MOD(H121,2),'pms170'!F121,'pms230'!F121)","v":"10"},{"$f":"IF(MOD(H121,2),'pms170'!A121,'pms230'!M121)","v":"351060"},120]
[{"$f":"IF(MOD(H122,2),'pms170'!D122,'pms230'!A122)","v":"7254108"},{"$f":"IF(MOD(H122,2),'pms170'!B122,'pms230'!B122)","v":"F0523290"},{"$f":"IF(MOD(H122,2),'pms170'!C122,'pms230'!C122)","v":"CAPOT SOUS ASSISE"},{"$f":"IF(MOD(H122,2),'pms170'!G122,'pms230'!D122)","v":"2017-02-07"},{"$f":"IF(MOD(H122,2),'pms170'!H122,'pms230'!E122)","v":"2017-02-07"},{"$f":"IF(MOD(H122,2),'pms170'!F122,'pms230'!F122)","v":1},{"$f":"IF(MOD(H122,2),'pms170'!A122,'pms230'!M122)","v":"351010"},121]
[{"$f":"IF(MOD(H123,2),'pms170'!D123,'pms230'!A123)","v":"961855"},{"$f":"IF(MOD(H123,2),'pms170'!B123,'pms230'!B123)","v":"F0486379"},{"$f":"IF(MOD(H123,2),'pms170'!C123,'pms230'!C123)","v":"ENS CAPOTAGE EXTERIE"},{"$f":"IF(MOD(H123,2),'pms170'!G123,'pms230'!D123)","v":"2017-02-10"},{"$f":"IF(MOD(H123,2),'pms170'!H123,'pms230'!E123)","v":"2017-02-10"},{"$f":"IF(MOD(H123,2),'pms170'!F123,'pms230'!F123)","v":"3"},{"$f":"IF(MOD(H123,2),'pms170'!A123,'pms230'!M123)","v":"351060"},122]
[{"$f":"IF(MOD(H124,2),'pms170'!D124,'pms230'!A124)","v":"7254114"},{"$f":"IF(MOD(H124,2),'pms170'!B124,'pms230'!B124)","v":"F0523292"},{"$f":"IF(MOD(H124,2),'pms170'!C124,'pms230'!C124)","v":"CAPOT SOUS ASSISE"},{"$f":"IF(MOD(H124,2),'pms170'!G124,'pms230'!D124)","v":"2017-02-07"},{"$f":"IF(MOD(H124,2),'pms170'!H124,'pms230'!E124)","v":"2017-02-07"},{"$f":"IF(MOD(H124,2),'pms170'!F124,'pms230'!F124)","v":1},{"$f":"IF(MOD(H124,2),'pms170'!A124,'pms230'!M124)","v":"351010"},123]
[{"$f":"IF(MOD(H125,2),'pms170'!D125,'pms230'!A125)","v":"962270"},{"$f":"IF(MOD(H125,2),'pms170'!B125,'pms230'!B125)","v":"F0426306"},{"$f":"IF(MOD(H125,2),'pms170'!C125,'pms230'!C125)","v":"ENS CAPOT BERCEAU EQ"},{"$f":"IF(MOD(H125,2),'pms170'!G125,'pms230'!D125)","v":"2017-02-10"},{"$f":"IF(MOD(H125,2),'pms170'!H125,'pms230'!E125)","v":"2017-02-10"},{"$f":"IF(MOD(H125,2),'pms170'!F125,'pms230'!F125)","v":"3"},{"$f":"IF(MOD(H125,2),'pms170'!A125,'pms230'!M125)","v":"351060"},124]
[{"$f":"IF(MOD(H126,2),'pms170'!D126,'pms230'!A126)","v":"7254120"},{"$f":"IF(MOD(H126,2),'pms170'!B126,'pms230'!B126)","v":"F0523297"},{"$f":"IF(MOD(H126,2),'pms170'!C126,'pms230'!C126)","v":"CAPOT SOUS ASSISE"},{"$f":"IF(MOD(H126,2),'pms170'!G126,'pms230'!D126)","v":"2017-02-07"},{"$f":"IF(MOD(H126,2),'pms170'!H126,'pms230'!E126)","v":"2017-02-07"},{"$f":"IF(MOD(H126,2),'pms170'!F126,'pms230'!F126)","v":1},{"$f":"IF(MOD(H126,2),'pms170'!A126,'pms230'!M126)","v":"351010"},125]
[{"$f":"IF(MOD(H127,2),'pms170'!D127,'pms230'!A127)","v":"960244"},{"$f":"IF(MOD(H127,2),'pms170'!B127,'pms230'!B127)","v":"F0458890"},{"$f":"IF(MOD(H127,2),'pms170'!C127,'pms230'!C127)","v":"CAPOT SOUS ASSISE"},{"$f":"IF(MOD(H127,2),'pms170'!G127,'pms230'!D127)","v":"2017-02-10"},{"$f":"IF(MOD(H127,2),'pms170'!H127,'pms230'!E127)","v":"2017-02-10"},{"$f":"IF(MOD(H127,2),'pms170'!F127,'pms230'!F127)","v":"1"},{"$f":"IF(MOD(H127,2),'pms170'!A127,'pms230'!M127)","v":"351010"},126]
[{"$f":"IF(MOD(H128,2),'pms170'!D128,'pms230'!A128)","v":"7254126"},{"$f":"IF(MOD(H128,2),'pms170'!B128,'pms230'!B128)","v":"F0523299"},{"$f":"IF(MOD(H128,2),'pms170'!C128,'pms230'!C128)","v":"CAPOT SOUS ASSISE"},{"$f":"IF(MOD(H128,2),'pms170'!G128,'pms230'!D128)","v":"2017-02-07"},{"$f":"IF(MOD(H128,2),'pms170'!H128,'pms230'!E128)","v":"2017-02-07"},{"$f":"IF(MOD(H128,2),'pms170'!F128,'pms230'!F128)","v":1},{"$f":"IF(MOD(H128,2),'pms170'!A128,'pms230'!M128)","v":"351010"},127]
[{"$f":"IF(MOD(H129,2),'pms170'!D129,'pms230'!A129)","v":"959240"},{"$f":"IF(MOD(H129,2),'pms170'!B129,'pms230'!B129)","v":"F0465467"},{"$f":"IF(MOD(H129,2),'pms170'!C129,'pms230'!C129)","v":"ENS REMP. TAB DORSAL"},{"$f":"IF(MOD(H129,2),'pms170'!G129,'pms230'!D129)","v":"2017-02-10"},{"$f":"IF(MOD(H129,2),'pms170'!H129,'pms230'!E129)","v":"2017-02-10"},{"$f":"IF(MOD(H129,2),'pms170'!F129,'pms230'!F129)","v":"30"},{"$f":"IF(MOD(H129,2),'pms170'!A129,'pms230'!M129)","v":"351015"},128]
[{"$f":"IF(MOD(H130,2),'pms170'!D130,'pms230'!A130)","v":"7254132"},{"$f":"IF(MOD(H130,2),'pms170'!B130,'pms230'!B130)","v":"F0523301"},{"$f":"IF(MOD(H130,2),'pms170'!C130,'pms230'!C130)","v":"CAPOT SOUS ASSISE"},{"$f":"IF(MOD(H130,2),'pms170'!G130,'pms230'!D130)","v":"2017-02-07"},{"$f":"IF(MOD(H130,2),'pms170'!H130,'pms230'!E130)","v":"2017-02-07"},{"$f":"IF(MOD(H130,2),'pms170'!F130,'pms230'!F130)","v":1},{"$f":"IF(MOD(H130,2),'pms170'!A130,'pms230'!M130)","v":"351010"},129]
[{"$f":"IF(MOD(H131,2),'pms170'!D131,'pms230'!A131)","v":"959255"},{"$f":"IF(MOD(H131,2),'pms170'!B131,'pms230'!B131)","v":"F315384"},{"$f":"IF(MOD(H131,2),'pms170'!C131,'pms230'!C131)","v":"REMPLISSAGE LATERAL"},{"$f":"IF(MOD(H131,2),'pms170'!G131,'pms230'!D131)","v":"2017-02-10"},{"$f":"IF(MOD(H131,2),'pms170'!H131,'pms230'!E131)","v":"2017-02-10"},{"$f":"IF(MOD(H131,2),'pms170'!F131,'pms230'!F131)","v":"50"},{"$f":"IF(MOD(H131,2),'pms170'!A131,'pms230'!M131)","v":"351010"},130]
[{"$f":"IF(MOD(H132,2),'pms170'!D132,'pms230'!A132)","v":"7254138"},{"$f":"IF(MOD(H132,2),'pms170'!B132,'pms230'!B132)","v":"F0523303"},{"$f":"IF(MOD(H132,2),'pms170'!C132,'pms230'!C132)","v":"CAPOT SOUS ASSISE"},{"$f":"IF(MOD(H132,2),'pms170'!G132,'pms230'!D132)","v":"2017-02-07"},{"$f":"IF(MOD(H132,2),'pms170'!H132,'pms230'!E132)","v":"2017-02-07"},{"$f":"IF(MOD(H132,2),'pms170'!F132,'pms230'!F132)","v":1},{"$f":"IF(MOD(H132,2),'pms170'!A132,'pms230'!M132)","v":"351010"},131]
[{"$f":"IF(MOD(H133,2),'pms170'!D133,'pms230'!A133)","v":"961598"},{"$f":"IF(MOD(H133,2),'pms170'!B133,'pms230'!B133)","v":"F0505778"},{"$f":"IF(MOD(H133,2),'pms170'!C133,'pms230'!C133)","v":"CAPOT FOND HAUT DOSS"},{"$f":"IF(MOD(H133,2),'pms170'!G133,'pms230'!D133)","v":"2017-02-13"},{"$f":"IF(MOD(H133,2),'pms170'!H133,'pms230'!E133)","v":"2017-02-13"},{"$f":"IF(MOD(H133,2),'pms170'!F133,'pms230'!F133)","v":"12"},{"$f":"IF(MOD(H133,2),'pms170'!A133,'pms230'!M133)","v":"351010"},132]
[{"$f":"IF(MOD(H134,2),'pms170'!D134,'pms230'!A134)","v":"7252122"},{"$f":"IF(MOD(H134,2),'pms170'!B134,'pms230'!B134)","v":"F0523520"},{"$f":"IF(MOD(H134,2),'pms170'!C134,'pms230'!C134)","v":"ENS CAPOT AR COMBO"},{"$f":"IF(MOD(H134,2),'pms170'!G134,'pms230'!D134)","v":"2017-02-13"},{"$f":"IF(MOD(H134,2),'pms170'!H134,'pms230'!E134)","v":"2017-02-15"},{"$f":"IF(MOD(H134,2),'pms170'!F134,'pms230'!F134)","v":14},{"$f":"IF(MOD(H134,2),'pms170'!A134,'pms230'!M134)","v":"351010"},133]
[{"$f":"IF(MOD(H135,2),'pms170'!D135,'pms230'!A135)","v":"962184"},{"$f":"IF(MOD(H135,2),'pms170'!B135,'pms230'!B135)","v":"F0440521"},{"$f":"IF(MOD(H135,2),'pms170'!C135,'pms230'!C135)","v":"ENS CAPOT CROSSE PEN"},{"$f":"IF(MOD(H135,2),'pms170'!G135,'pms230'!D135)","v":"2017-02-13"},{"$f":"IF(MOD(H135,2),'pms170'!H135,'pms230'!E135)","v":"2017-02-13"},{"$f":"IF(MOD(H135,2),'pms170'!F135,'pms230'!F135)","v":"52"},{"$f":"IF(MOD(H135,2),'pms170'!A135,'pms230'!M135)","v":"351010"},134]
[{"$f":"IF(MOD(H136,2),'pms170'!D136,'pms230'!A136)","v":"7254971"},{"$f":"IF(MOD(H136,2),'pms170'!B136,'pms230'!B136)","v":"F0524075"},{"$f":"IF(MOD(H136,2),'pms170'!C136,'pms230'!C136)","v":"ENS CAPOT USB SIMPLE"},{"$f":"IF(MOD(H136,2),'pms170'!G136,'pms230'!D136)","v":"2017-02-06"},{"$f":"IF(MOD(H136,2),'pms170'!H136,'pms230'!E136)","v":"2017-02-07"},{"$f":"IF(MOD(H136,2),'pms170'!F136,'pms230'!F136)","v":8},{"$f":"IF(MOD(H136,2),'pms170'!A136,'pms230'!M136)","v":"351010"},135]
[{"$f":"IF(MOD(H137,2),'pms170'!D137,'pms230'!A137)","v":"960202"},{"$f":"IF(MOD(H137,2),'pms170'!B137,'pms230'!B137)","v":"F329987P108"},{"$f":"IF(MOD(H137,2),'pms170'!C137,'pms230'!C137)","v":"H108 ENS CAPOTAGE AC"},{"$f":"IF(MOD(H137,2),'pms170'!G137,'pms230'!D137)","v":"2017-02-13"},{"$f":"IF(MOD(H137,2),'pms170'!H137,'pms230'!E137)","v":"2017-02-13"},{"$f":"IF(MOD(H137,2),'pms170'!F137,'pms230'!F137)","v":"4"},{"$f":"IF(MOD(H137,2),'pms170'!A137,'pms230'!M137)","v":"351010"},136]
[{"$f":"IF(MOD(H138,2),'pms170'!D138,'pms230'!A138)","v":"7234305"},{"$f":"IF(MOD(H138,2),'pms170'!B138,'pms230'!B138)","v":"F067324P036"},{"$f":"IF(MOD(H138,2),'pms170'!C138,'pms230'!C138)","v":"H036 - COUVERCLE"},{"$f":"IF(MOD(H138,2),'pms170'!G138,'pms230'!D138)","v":"2017-02-07"},{"$f":"IF(MOD(H138,2),'pms170'!H138,'pms230'!E138)","v":"2017-02-07"},{"$f":"IF(MOD(H138,2),'pms170'!F138,'pms230'!F138)","v":2},{"$f":"IF(MOD(H138,2),'pms170'!A138,'pms230'!M138)","v":"351010"},137]
[{"$f":"IF(MOD(H139,2),'pms170'!D139,'pms230'!A139)","v":"962223"},{"$f":"IF(MOD(H139,2),'pms170'!B139,'pms230'!B139)","v":"F0478883"},{"$f":"IF(MOD(H139,2),'pms170'!C139,'pms230'!C139)","v":"ENS CAPOT SOUS ASSIS"},{"$f":"IF(MOD(H139,2),'pms170'!G139,'pms230'!D139)","v":"2017-02-13"},{"$f":"IF(MOD(H139,2),'pms170'!H139,'pms230'!E139)","v":"2017-02-13"},{"$f":"IF(MOD(H139,2),'pms170'!F139,'pms230'!F139)","v":"50"},{"$f":"IF(MOD(H139,2),'pms170'!A139,'pms230'!M139)","v":"351060"},138]
[{"$f":"IF(MOD(H140,2),'pms170'!D140,'pms230'!A140)","v":"6657973"},{"$f":"IF(MOD(H140,2),'pms170'!B140,'pms230'!B140)","v":"F243303P036"},{"$f":"IF(MOD(H140,2),'pms170'!C140,'pms230'!C140)","v":"H036 ENS SUPPORT"},{"$f":"IF(MOD(H140,2),'pms170'!G140,'pms230'!D140)","v":"2017-02-10"},{"$f":"IF(MOD(H140,2),'pms170'!H140,'pms230'!E140)","v":"2017-02-10"},{"$f":"IF(MOD(H140,2),'pms170'!F140,'pms230'!F140)","v":5},{"$f":"IF(MOD(H140,2),'pms170'!A140,'pms230'!M140)","v":"351010"},139]
[{"$f":"IF(MOD(H141,2),'pms170'!D141,'pms230'!A141)","v":"960446"},{"$f":"IF(MOD(H141,2),'pms170'!B141,'pms230'!B141)","v":"F364640P015"},{"$f":"IF(MOD(H141,2),'pms170'!C141,'pms230'!C141)","v":"H015 CAPOT ACC"},{"$f":"IF(MOD(H141,2),'pms170'!G141,'pms230'!D141)","v":"2017-02-14"},{"$f":"IF(MOD(H141,2),'pms170'!H141,'pms230'!E141)","v":"2017-02-14"},{"$f":"IF(MOD(H141,2),'pms170'!F141,'pms230'!F141)","v":"61"},{"$f":"IF(MOD(H141,2),'pms170'!A141,'pms230'!M141)","v":"351010"},140]
[{"$f":"IF(MOD(H142,2),'pms170'!D142,'pms230'!A142)","v":"6862073"},{"$f":"IF(MOD(H142,2),'pms170'!B142,'pms230'!B142)","v":"F259804P075"},{"$f":"IF(MOD(H142,2),'pms170'!C142,'pms230'!C142)","v":"H075 CAPOT LAT EXT IAT"},{"$f":"IF(MOD(H142,2),'pms170'!G142,'pms230'!D142)","v":"2017-02-10"},{"$f":"IF(MOD(H142,2),'pms170'!H142,'pms230'!E142)","v":"2017-02-11"},{"$f":"IF(MOD(H142,2),'pms170'!F142,'pms230'!F142)","v":4},{"$f":"IF(MOD(H142,2),'pms170'!A142,'pms230'!M142)","v":"351010"},141]
[{"$f":"IF(MOD(H143,2),'pms170'!D143,'pms230'!A143)","v":"958033"},{"$f":"IF(MOD(H143,2),'pms170'!B143,'pms230'!B143)","v":"F364641P015"},{"$f":"IF(MOD(H143,2),'pms170'!C143,'pms230'!C143)","v":"H015 CAPOT ACC"},{"$f":"IF(MOD(H143,2),'pms170'!G143,'pms230'!D143)","v":"2017-02-14"},{"$f":"IF(MOD(H143,2),'pms170'!H143,'pms230'!E143)","v":"2017-02-14"},{"$f":"IF(MOD(H143,2),'pms170'!F143,'pms230'!F143)","v":"60"},{"$f":"IF(MOD(H143,2),'pms170'!A143,'pms230'!M143)","v":"351010"},142]
[{"$f":"IF(MOD(H144,2),'pms170'!D144,'pms230'!A144)","v":"7254203"},{"$f":"IF(MOD(H144,2),'pms170'!B144,'pms230'!B144)","v":"F259805P015"},{"$f":"IF(MOD(H144,2),'pms170'!C144,'pms230'!C144)","v":"H015 CAPOT LAT EXT IAT"},{"$f":"IF(MOD(H144,2),'pms170'!G144,'pms230'!D144)","v":"2017-02-28"},{"$f":"IF(MOD(H144,2),'pms170'!H144,'pms230'!E144)","v":"2017-02-28"},{"$f":"IF(MOD(H144,2),'pms170'!F144,'pms230'!F144)","v":6},{"$f":"IF(MOD(H144,2),'pms170'!A144,'pms230'!M144)","v":"351010"},143]
[{"$f":"IF(MOD(H145,2),'pms170'!D145,'pms230'!A145)","v":"960488"},{"$f":"IF(MOD(H145,2),'pms170'!B145,'pms230'!B145)","v":"F0462070"},{"$f":"IF(MOD(H145,2),'pms170'!C145,'pms230'!C145)","v":"ENS TABLETTE BASSE R"},{"$f":"IF(MOD(H145,2),'pms170'!G145,'pms230'!D145)","v":"2017-02-14"},{"$f":"IF(MOD(H145,2),'pms170'!H145,'pms230'!E145)","v":"2017-02-15"},{"$f":"IF(MOD(H145,2),'pms170'!F145,'pms230'!F145)","v":"55"},{"$f":"IF(MOD(H145,2),'pms170'!A145,'pms230'!M145)","v":"351000"},144]
[{"$f":"IF(MOD(H146,2),'pms170'!D146,'pms230'!A146)","v":"6658033"},{"$f":"IF(MOD(H146,2),'pms170'!B146,'pms230'!B146)","v":"F329906H036"},{"$f":"IF(MOD(H146,2),'pms170'!C146,'pms230'!C146)","v":"H036 BOÎTIER GILET SAUVETAGE"},{"$f":"IF(MOD(H146,2),'pms170'!G146,'pms230'!D146)","v":"2017-02-09"},{"$f":"IF(MOD(H146,2),'pms170'!H146,'pms230'!E146)","v":"2017-02-11"},{"$f":"IF(MOD(H146,2),'pms170'!F146,'pms230'!F146)","v":6},{"$f":"IF(MOD(H146,2),'pms170'!A146,'pms230'!M146)","v":"351010"},145]
[{"$f":"IF(MOD(H147,2),'pms170'!D147,'pms230'!A147)","v":"961558"},{"$f":"IF(MOD(H147,2),'pms170'!B147,'pms230'!B147)","v":"F0413767"},{"$f":"IF(MOD(H147,2),'pms170'!C147,'pms230'!C147)","v":"EQUERRE"},{"$f":"IF(MOD(H147,2),'pms170'!G147,'pms230'!D147)","v":"2017-02-14"},{"$f":"IF(MOD(H147,2),'pms170'!H147,'pms230'!E147)","v":"2017-02-14"},{"$f":"IF(MOD(H147,2),'pms170'!F147,'pms230'!F147)","v":"5"},{"$f":"IF(MOD(H147,2),'pms170'!A147,'pms230'!M147)","v":"351010"},146]
[{"$f":"IF(MOD(H148,2),'pms170'!D148,'pms230'!A148)","v":"7256498"},{"$f":"IF(MOD(H148,2),'pms170'!B148,'pms230'!B148)","v":"F329916"},{"$f":"IF(MOD(H148,2),'pms170'!C148,'pms230'!C148)","v":"PORTE BOITIER GDS RED"},{"$f":"IF(MOD(H148,2),'pms170'!G148,'pms230'!D148)","v":"2017-02-09"},{"$f":"IF(MOD(H148,2),'pms170'!H148,'pms230'!E148)","v":"2017-02-10"},{"$f":"IF(MOD(H148,2),'pms170'!F148,'pms230'!F148)","v":11},{"$f":"IF(MOD(H148,2),'pms170'!A148,'pms230'!M148)","v":"351010"},147]
[{"$f":"IF(MOD(H149,2),'pms170'!D149,'pms230'!A149)","v":"959272"},{"$f":"IF(MOD(H149,2),'pms170'!B149,'pms230'!B149)","v":"F0510104"},{"$f":"IF(MOD(H149,2),'pms170'!C149,'pms230'!C149)","v":"REMPLISSAGE TABLETTE"},{"$f":"IF(MOD(H149,2),'pms170'!G149,'pms230'!D149)","v":"2017-02-14"},{"$f":"IF(MOD(H149,2),'pms170'!H149,'pms230'!E149)","v":"2017-02-14"},{"$f":"IF(MOD(H149,2),'pms170'!F149,'pms230'!F149)","v":"50"},{"$f":"IF(MOD(H149,2),'pms170'!A149,'pms230'!M149)","v":"351015"},148]
[{"$f":"IF(MOD(H150,2),'pms170'!D150,'pms230'!A150)","v":"6992375"},{"$f":"IF(MOD(H150,2),'pms170'!B150,'pms230'!B150)","v":"F334199P089"},{"$f":"IF(MOD(H150,2),'pms170'!C150,'pms230'!C150)","v":"H089 CAPOT KICK PANEL  CENT"},{"$f":"IF(MOD(H150,2),'pms170'!G150,'pms230'!D150)","v":"2017-02-09"},{"$f":"IF(MOD(H150,2),'pms170'!H150,'pms230'!E150)","v":"2017-02-10"},{"$f":"IF(MOD(H150,2),'pms170'!F150,'pms230'!F150)","v":7},{"$f":"IF(MOD(H150,2),'pms170'!A150,'pms230'!M150)","v":"351010"},149]
[{"$f":"IF(MOD(H151,2),'pms170'!D151,'pms230'!A151)","v":"960203"},{"$f":"IF(MOD(H151,2),'pms170'!B151,'pms230'!B151)","v":"F330191"},{"$f":"IF(MOD(H151,2),'pms170'!C151,'pms230'!C151)","v":"REMPLISSAGE CAPOT FL"},{"$f":"IF(MOD(H151,2),'pms170'!G151,'pms230'!D151)","v":"2017-02-14"},{"$f":"IF(MOD(H151,2),'pms170'!H151,'pms230'!E151)","v":"2017-02-14"},{"$f":"IF(MOD(H151,2),'pms170'!F151,'pms230'!F151)","v":"6"},{"$f":"IF(MOD(H151,2),'pms170'!A151,'pms230'!M151)","v":"351015"},150]
[{"$f":"IF(MOD(H152,2),'pms170'!D152,'pms230'!A152)","v":"6955490"},{"$f":"IF(MOD(H152,2),'pms170'!B152,'pms230'!B152)","v":"F375224P108"},{"$f":"IF(MOD(H152,2),'pms170'!C152,'pms230'!C152)","v":"H108 TABLETTE L2"},{"$f":"IF(MOD(H152,2),'pms170'!G152,'pms230'!D152)","v":"2017-01-27"},{"$f":"IF(MOD(H152,2),'pms170'!H152,'pms230'!E152)","v":"2017-02-02"},{"$f":"IF(MOD(H152,2),'pms170'!F152,'pms230'!F152)","v":5},{"$f":"IF(MOD(H152,2),'pms170'!A152,'pms230'!M152)","v":"351010"},151]
[{"$f":"IF(MOD(H153,2),'pms170'!D153,'pms230'!A153)","v":"961603"},{"$f":"IF(MOD(H153,2),'pms170'!B153,'pms230'!B153)","v":"F0504771"},{"$f":"IF(MOD(H153,2),'pms170'!C153,'pms230'!C153)","v":"ENS REMPLISSAGE TABL"},{"$f":"IF(MOD(H153,2),'pms170'!G153,'pms230'!D153)","v":"2017-02-14"},{"$f":"IF(MOD(H153,2),'pms170'!H153,'pms230'!E153)","v":"2017-02-15"},{"$f":"IF(MOD(H153,2),'pms170'!F153,'pms230'!F153)","v":"50"},{"$f":"IF(MOD(H153,2),'pms170'!A153,'pms230'!M153)","v":"351015"},152]
[{"$f":"IF(MOD(H154,2),'pms170'!D154,'pms230'!A154)","v":"7002254"},{"$f":"IF(MOD(H154,2),'pms170'!B154,'pms230'!B154)","v":"J2001705"},{"$f":"IF(MOD(H154,2),'pms170'!C154,'pms230'!C154)","v":"DOUBLER CLOSEOUT SIDE"},{"$f":"IF(MOD(H154,2),'pms170'!G154,'pms230'!D154)","v":"2017-01-30"},{"$f":"IF(MOD(H154,2),'pms170'!H154,'pms230'!E154)","v":"2017-01-30"},{"$f":"IF(MOD(H154,2),'pms170'!F154,'pms230'!F154)","v":4},{"$f":"IF(MOD(H154,2),'pms170'!A154,'pms230'!M154)","v":"351010"},153]
[{"$f":"IF(MOD(H155,2),'pms170'!D155,'pms230'!A155)","v":"958036"},{"$f":"IF(MOD(H155,2),'pms170'!B155,'pms230'!B155)","v":"F364640P015"},{"$f":"IF(MOD(H155,2),'pms170'!C155,'pms230'!C155)","v":"H015 CAPOT ACC"},{"$f":"IF(MOD(H155,2),'pms170'!G155,'pms230'!D155)","v":"2017-02-15"},{"$f":"IF(MOD(H155,2),'pms170'!H155,'pms230'!E155)","v":"2017-02-15"},{"$f":"IF(MOD(H155,2),'pms170'!F155,'pms230'!F155)","v":"18"},{"$f":"IF(MOD(H155,2),'pms170'!A155,'pms230'!M155)","v":"351010"},154]
[{"$f":"IF(MOD(H156,2),'pms170'!D156,'pms230'!A156)","v":"7002274"},{"$f":"IF(MOD(H156,2),'pms170'!B156,'pms230'!B156)","v":"J2001714"},{"$f":"IF(MOD(H156,2),'pms170'!C156,'pms230'!C156)","v":"PANEL TOP SIDE CLOSEOUT"},{"$f":"IF(MOD(H156,2),'pms170'!G156,'pms230'!D156)","v":"2017-02-09"},{"$f":"IF(MOD(H156,2),'pms170'!H156,'pms230'!E156)","v":"2017-02-10"},{"$f":"IF(MOD(H156,2),'pms170'!F156,'pms230'!F156)","v":9},{"$f":"IF(MOD(H156,2),'pms170'!A156,'pms230'!M156)","v":"351010"},155]
[{"$f":"IF(MOD(H157,2),'pms170'!D157,'pms230'!A157)","v":"958646"},{"$f":"IF(MOD(H157,2),'pms170'!B157,'pms230'!B157)","v":"F0437429"},{"$f":"IF(MOD(H157,2),'pms170'!C157,'pms230'!C157)","v":"CAPOT PROTECTION D"},{"$f":"IF(MOD(H157,2),'pms170'!G157,'pms230'!D157)","v":"2017-02-15"},{"$f":"IF(MOD(H157,2),'pms170'!H157,'pms230'!E157)","v":"2017-02-15"},{"$f":"IF(MOD(H157,2),'pms170'!F157,'pms230'!F157)","v":"6"},{"$f":"IF(MOD(H157,2),'pms170'!A157,'pms230'!M157)","v":"351010"},156]
[{"$f":"IF(MOD(H158,2),'pms170'!D158,'pms230'!A158)","v":"7002286"},{"$f":"IF(MOD(H158,2),'pms170'!B158,'pms230'!B158)","v":"J2001724"},{"$f":"IF(MOD(H158,2),'pms170'!C158,'pms230'!C158)","v":"FAN"},{"$f":"IF(MOD(H158,2),'pms170'!G158,'pms230'!D158)","v":"2017-02-10"},{"$f":"IF(MOD(H158,2),'pms170'!H158,'pms230'!E158)","v":"2017-02-11"},{"$f":"IF(MOD(H158,2),'pms170'!F158,'pms230'!F158)","v":4},{"$f":"IF(MOD(H158,2),'pms170'!A158,'pms230'!M158)","v":"351010"},157]
[{"$f":"IF(MOD(H159,2),'pms170'!D159,'pms230'!A159)","v":"961876"},{"$f":"IF(MOD(H159,2),'pms170'!B159,'pms230'!B159)","v":"F0442704"},{"$f":"IF(MOD(H159,2),'pms170'!C159,'pms230'!C159)","v":"ENS STRUCT TABLETTE"},{"$f":"IF(MOD(H159,2),'pms170'!G159,'pms230'!D159)","v":"2017-02-15"},{"$f":"IF(MOD(H159,2),'pms170'!H159,'pms230'!E159)","v":"2017-02-16"},{"$f":"IF(MOD(H159,2),'pms170'!F159,'pms230'!F159)","v":"48"},{"$f":"IF(MOD(H159,2),'pms170'!A159,'pms230'!M159)","v":"351015"},158]
[{"$f":"IF(MOD(H160,2),'pms170'!D160,'pms230'!A160)","v":"6627097"},{"$f":"IF(MOD(H160,2),'pms170'!B160,'pms230'!B160)","v":"J2001763"},{"$f":"IF(MOD(H160,2),'pms170'!C160,'pms230'!C160)","v":"SHROUD TOP OUTER LH"},{"$f":"IF(MOD(H160,2),'pms170'!G160,'pms230'!D160)","v":"2017-02-10"},{"$f":"IF(MOD(H160,2),'pms170'!H160,'pms230'!E160)","v":"2017-02-10"},{"$f":"IF(MOD(H160,2),'pms170'!F160,'pms230'!F160)","v":1},{"$f":"IF(MOD(H160,2),'pms170'!A160,'pms230'!M160)","v":"351010"},159]
[{"$f":"IF(MOD(H161,2),'pms170'!D161,'pms230'!A161)","v":"962234"},{"$f":"IF(MOD(H161,2),'pms170'!B161,'pms230'!B161)","v":"F0455793"},{"$f":"IF(MOD(H161,2),'pms170'!C161,'pms230'!C161)","v":"ENS SUPPORT TV G"},{"$f":"IF(MOD(H161,2),'pms170'!G161,'pms230'!D161)","v":"2017-02-16"},{"$f":"IF(MOD(H161,2),'pms170'!H161,'pms230'!E161)","v":"2017-02-16"},{"$f":"IF(MOD(H161,2),'pms170'!F161,'pms230'!F161)","v":"9"},{"$f":"IF(MOD(H161,2),'pms170'!A161,'pms230'!M161)","v":"351000"},160]
[{"$f":"IF(MOD(H162,2),'pms170'!D162,'pms230'!A162)","v":"7123867"},{"$f":"IF(MOD(H162,2),'pms170'!B162,'pms230'!B162)","v":"J2001774"},{"$f":"IF(MOD(H162,2),'pms170'!C162,'pms230'!C162)","v":"SHROUD TOP OUTER DBLR ASSY"},{"$f":"IF(MOD(H162,2),'pms170'!G162,'pms230'!D162)","v":"2017-02-10"},{"$f":"IF(MOD(H162,2),'pms170'!H162,'pms230'!E162)","v":"2017-02-11"},{"$f":"IF(MOD(H162,2),'pms170'!F162,'pms230'!F162)","v":2},{"$f":"IF(MOD(H162,2),'pms170'!A162,'pms230'!M162)","v":"351010"},161]
[{"$f":"IF(MOD(H163,2),'pms170'!D163,'pms230'!A163)","v":"962104"},{"$f":"IF(MOD(H163,2),'pms170'!B163,'pms230'!B163)","v":"F0440199"},{"$f":"IF(MOD(H163,2),'pms170'!C163,'pms230'!C163)","v":"TABLETTE COCKTAIL D"},{"$f":"IF(MOD(H163,2),'pms170'!G163,'pms230'!D163)","v":"2017-02-16"},{"$f":"IF(MOD(H163,2),'pms170'!H163,'pms230'!E163)","v":"2017-02-16"},{"$f":"IF(MOD(H163,2),'pms170'!F163,'pms230'!F163)","v":"8"},{"$f":"IF(MOD(H163,2),'pms170'!A163,'pms230'!M163)","v":"351000"},162]
[{"$f":"IF(MOD(H164,2),'pms170'!D164,'pms230'!A164)","v":"6763465"},{"$f":"IF(MOD(H164,2),'pms170'!B164,'pms230'!B164)","v":"J2001815"},{"$f":"IF(MOD(H164,2),'pms170'!C164,'pms230'!C164)","v":"BACKREST SIDE CLOSEOUT ASSY"},{"$f":"IF(MOD(H164,2),'pms170'!G164,'pms230'!D164)","v":"2017-01-30"},{"$f":"IF(MOD(H164,2),'pms170'!H164,'pms230'!E164)","v":"2017-01-30"},{"$f":"IF(MOD(H164,2),'pms170'!F164,'pms230'!F164)","v":1},{"$f":"IF(MOD(H164,2),'pms170'!A164,'pms230'!M164)","v":"351010"},163]
[{"$f":"IF(MOD(H165,2),'pms170'!D165,'pms230'!A165)","v":"962287"},{"$f":"IF(MOD(H165,2),'pms170'!B165,'pms230'!B165)","v":"F274277P022"},{"$f":"IF(MOD(H165,2),'pms170'!C165,'pms230'!C165)","v":"H022 PLATEAU TABLETT"},{"$f":"IF(MOD(H165,2),'pms170'!G165,'pms230'!D165)","v":"2017-02-16"},{"$f":"IF(MOD(H165,2),'pms170'!H165,'pms230'!E165)","v":"2017-02-16"},{"$f":"IF(MOD(H165,2),'pms170'!F165,'pms230'!F165)","v":"17"},{"$f":"IF(MOD(H165,2),'pms170'!A165,'pms230'!M165)","v":"351000"},164]
[{"$f":"IF(MOD(H166,2),'pms170'!D166,'pms230'!A166)","v":"6824126"},{"$f":"IF(MOD(H166,2),'pms170'!B166,'pms230'!B166)","v":"F0431968"},{"$f":"IF(MOD(H166,2),'pms170'!C166,'pms230'!C166)","v":"ENS STRUCT TAB IAT EXT"},{"$f":"IF(MOD(H166,2),'pms170'!G166,'pms230'!D166)","v":"2017-02-07"},{"$f":"IF(MOD(H166,2),'pms170'!H166,'pms230'!E166)","v":"2017-02-07"},{"$f":"IF(MOD(H166,2),'pms170'!F166,'pms230'!F166)","v":8},{"$f":"IF(MOD(H166,2),'pms170'!A166,'pms230'!M166)","v":"351015"},165]
[{"$f":"IF(MOD(H167,2),'pms170'!D167,'pms230'!A167)","v":"961519"},{"$f":"IF(MOD(H167,2),'pms170'!B167,'pms230'!B167)","v":"F0508958"},{"$f":"IF(MOD(H167,2),'pms170'!C167,'pms230'!C167)","v":"KICK PANEL CENT 16\"2"},{"$f":"IF(MOD(H167,2),'pms170'!G167,'pms230'!D167)","v":"2017-02-17"},{"$f":"IF(MOD(H167,2),'pms170'!H167,'pms230'!E167)","v":"2017-02-17"},{"$f":"IF(MOD(H167,2),'pms170'!F167,'pms230'!F167)","v":"26"},{"$f":"IF(MOD(H167,2),'pms170'!A167,'pms230'!M167)","v":"351010"},166]
[{"$f":"IF(MOD(H168,2),'pms170'!D168,'pms230'!A168)","v":"6815731"},{"$f":"IF(MOD(H168,2),'pms170'!B168,'pms230'!B168)","v":"F0442006"},{"$f":"IF(MOD(H168,2),'pms170'!C168,'pms230'!C168)","v":"ENS TUBE BRAS TABLETTE 18\"1"},{"$f":"IF(MOD(H168,2),'pms170'!G168,'pms230'!D168)","v":"2017-02-09"},{"$f":"IF(MOD(H168,2),'pms170'!H168,'pms230'!E168)","v":"2017-02-11"},{"$f":"IF(MOD(H168,2),'pms170'!F168,'pms230'!F168)","v":8},{"$f":"IF(MOD(H168,2),'pms170'!A168,'pms230'!M168)","v":"351015"},167]
[{"$f":"IF(MOD(H169,2),'pms170'!D169,'pms230'!A169)","v":"959069"},{"$f":"IF(MOD(H169,2),'pms170'!B169,'pms230'!B169)","v":"F0503856"},{"$f":"IF(MOD(H169,2),'pms170'!C169,'pms230'!C169)","v":"ENS TABLETTE DORSALE"},{"$f":"IF(MOD(H169,2),'pms170'!G169,'pms230'!D169)","v":"2017-02-17"},{"$f":"IF(MOD(H169,2),'pms170'!H169,'pms230'!E169)","v":"2017-02-17"},{"$f":"IF(MOD(H169,2),'pms170'!F169,'pms230'!F169)","v":"52"},{"$f":"IF(MOD(H169,2),'pms170'!A169,'pms230'!M169)","v":"351000"},168]
[{"$f":"IF(MOD(H170,2),'pms170'!D170,'pms230'!A170)","v":"7162687"},{"$f":"IF(MOD(H170,2),'pms170'!B170,'pms230'!B170)","v":"F0442704"},{"$f":"IF(MOD(H170,2),'pms170'!C170,'pms230'!C170)","v":"ENS STRUCT TABLETTE"},{"$f":"IF(MOD(H170,2),'pms170'!G170,'pms230'!D170)","v":"2017-02-14"},{"$f":"IF(MOD(H170,2),'pms170'!H170,'pms230'!E170)","v":"2017-02-16"},{"$f":"IF(MOD(H170,2),'pms170'!F170,'pms230'!F170)","v":150},{"$f":"IF(MOD(H170,2),'pms170'!A170,'pms230'!M170)","v":"351015"},169]
[{"$f":"IF(MOD(H171,2),'pms170'!D171,'pms230'!A171)","v":"961956"},{"$f":"IF(MOD(H171,2),'pms170'!B171,'pms230'!B171)","v":"J2002123"},{"$f":"IF(MOD(H171,2),'pms170'!C171,'pms230'!C171)","v":"FOOTWELL LINER ASSY"},{"$f":"IF(MOD(H171,2),'pms170'!G171,'pms230'!D171)","v":"2017-02-17"},{"$f":"IF(MOD(H171,2),'pms170'!H171,'pms230'!E171)","v":"2017-02-17"},{"$f":"IF(MOD(H171,2),'pms170'!F171,'pms230'!F171)","v":"17"},{"$f":"IF(MOD(H171,2),'pms170'!A171,'pms230'!M171)","v":"351020"},170]
[{"$f":"IF(MOD(H172,2),'pms170'!D172,'pms230'!A172)","v":"7126336"},{"$f":"IF(MOD(H172,2),'pms170'!B172,'pms230'!B172)","v":"F0442992"},{"$f":"IF(MOD(H172,2),'pms170'!C172,'pms230'!C172)","v":"TABLETTE DORSALE 18\"1"},{"$f":"IF(MOD(H172,2),'pms170'!G172,'pms230'!D172)","v":"2017-02-10"},{"$f":"IF(MOD(H172,2),'pms170'!H172,'pms230'!E172)","v":"2017-02-11"},{"$f":"IF(MOD(H172,2),'pms170'!F172,'pms230'!F172)","v":20},{"$f":"IF(MOD(H172,2),'pms170'!A172,'pms230'!M172)","v":"351015"},171]
[{"$f":"IF(MOD(H173,2),'pms170'!D173,'pms230'!A173)","v":"962256"},{"$f":"IF(MOD(H173,2),'pms170'!B173,'pms230'!B173)","v":"J2000145"},{"$f":"IF(MOD(H173,2),'pms170'!C173,'pms230'!C173)","v":"PANEL BACKSHELL STIF"},{"$f":"IF(MOD(H173,2),'pms170'!G173,'pms230'!D173)","v":"2017-02-17"},{"$f":"IF(MOD(H173,2),'pms170'!H173,'pms230'!E173)","v":"2017-02-17"},{"$f":"IF(MOD(H173,2),'pms170'!F173,'pms230'!F173)","v":"17"},{"$f":"IF(MOD(H173,2),'pms170'!A173,'pms230'!M173)","v":"351020"},172]
[{"$f":"IF(MOD(H174,2),'pms170'!D174,'pms230'!A174)","v":"7232640"},{"$f":"IF(MOD(H174,2),'pms170'!B174,'pms230'!B174)","v":"F0452617"},{"$f":"IF(MOD(H174,2),'pms170'!C174,'pms230'!C174)","v":"REMPLISSAGE TABLETTE"},{"$f":"IF(MOD(H174,2),'pms170'!G174,'pms230'!D174)","v":"2017-02-08"},{"$f":"IF(MOD(H174,2),'pms170'!H174,'pms230'!E174)","v":"2017-02-08"},{"$f":"IF(MOD(H174,2),'pms170'!F174,'pms230'!F174)","v":28},{"$f":"IF(MOD(H174,2),'pms170'!A174,'pms230'!M174)","v":"351015"},173]
[{"$f":"IF(MOD(H175,2),'pms170'!D175,'pms230'!A175)","v":"954852"},{"$f":"IF(MOD(H175,2),'pms170'!B175,'pms230'!B175)","v":"F0508972"},{"$f":"IF(MOD(H175,2),'pms170'!C175,'pms230'!C175)","v":"ENS RENFORT KICK PAN"},{"$f":"IF(MOD(H175,2),'pms170'!G175,'pms230'!D175)","v":"2017-02-17"},{"$f":"IF(MOD(H175,2),'pms170'!H175,'pms230'!E175)","v":"2017-02-17"},{"$f":"IF(MOD(H175,2),'pms170'!F175,'pms230'!F175)","v":"51"},{"$f":"IF(MOD(H175,2),'pms170'!A175,'pms230'!M175)","v":"351010"},174]
[{"$f":"IF(MOD(H176,2),'pms170'!D176,'pms230'!A176)","v":"7067962"},{"$f":"IF(MOD(H176,2),'pms170'!B176,'pms230'!B176)","v":"F0458236"},{"$f":"IF(MOD(H176,2),'pms170'!C176,'pms230'!C176)","v":"MOUSSE TABLETTE"},{"$f":"IF(MOD(H176,2),'pms170'!G176,'pms230'!D176)","v":"2017-02-07"},{"$f":"IF(MOD(H176,2),'pms170'!H176,'pms230'!E176)","v":"2017-02-07"},{"$f":"IF(MOD(H176,2),'pms170'!F176,'pms230'!F176)","v":50},{"$f":"IF(MOD(H176,2),'pms170'!A176,'pms230'!M176)","v":"351015"},175]
[{"$f":"IF(MOD(H177,2),'pms170'!D177,'pms230'!A177)","v":"954855"},{"$f":"IF(MOD(H177,2),'pms170'!B177,'pms230'!B177)","v":"F0508972"},{"$f":"IF(MOD(H177,2),'pms170'!C177,'pms230'!C177)","v":"ENS RENFORT KICK PAN"},{"$f":"IF(MOD(H177,2),'pms170'!G177,'pms230'!D177)","v":"2017-02-17"},{"$f":"IF(MOD(H177,2),'pms170'!H177,'pms230'!E177)","v":"2017-02-17"},{"$f":"IF(MOD(H177,2),'pms170'!F177,'pms230'!F177)","v":"51"},{"$f":"IF(MOD(H177,2),'pms170'!A177,'pms230'!M177)","v":"351010"},176]
[{"$f":"IF(MOD(H178,2),'pms170'!D178,'pms230'!A178)","v":"7067964"},{"$f":"IF(MOD(H178,2),'pms170'!B178,'pms230'!B178)","v":"F0458236"},{"$f":"IF(MOD(H178,2),'pms170'!C178,'pms230'!C178)","v":"MOUSSE TABLETTE"},{"$f":"IF(MOD(H178,2),'pms170'!G178,'pms230'!D178)","v":"2017-02-07"},{"$f":"IF(MOD(H178,2),'pms170'!H178,'pms230'!E178)","v":"2017-02-07"},{"$f":"IF(MOD(H178,2),'pms170'!F178,'pms230'!F178)","v":50},{"$f":"IF(MOD(H178,2),'pms170'!A178,'pms230'!M178)","v":"351015"},177]
[{"$f":"IF(MOD(H179,2),'pms170'!D179,'pms230'!A179)","v":"954857"},{"$f":"IF(MOD(H179,2),'pms170'!B179,'pms230'!B179)","v":"F0508972"},{"$f":"IF(MOD(H179,2),'pms170'!C179,'pms230'!C179)","v":"ENS RENFORT KICK PAN"},{"$f":"IF(MOD(H179,2),'pms170'!G179,'pms230'!D179)","v":"2017-02-17"},{"$f":"IF(MOD(H179,2),'pms170'!H179,'pms230'!E179)","v":"2017-02-17"},{"$f":"IF(MOD(H179,2),'pms170'!F179,'pms230'!F179)","v":"51"},{"$f":"IF(MOD(H179,2),'pms170'!A179,'pms230'!M179)","v":"351010"},178]
[{"$f":"IF(MOD(H180,2),'pms170'!D180,'pms230'!A180)","v":"7067966"},{"$f":"IF(MOD(H180,2),'pms170'!B180,'pms230'!B180)","v":"F0458236"},{"$f":"IF(MOD(H180,2),'pms170'!C180,'pms230'!C180)","v":"MOUSSE TABLETTE"},{"$f":"IF(MOD(H180,2),'pms170'!G180,'pms230'!D180)","v":"2017-02-07"},{"$f":"IF(MOD(H180,2),'pms170'!H180,'pms230'!E180)","v":"2017-02-07"},{"$f":"IF(MOD(H180,2),'pms170'!F180,'pms230'!F180)","v":50},{"$f":"IF(MOD(H180,2),'pms170'!A180,'pms230'!M180)","v":"351015"},179]
[{"$f":"IF(MOD(H181,2),'pms170'!D181,'pms230'!A181)","v":"960148"},{"$f":"IF(MOD(H181,2),'pms170'!B181,'pms230'!B181)","v":"F327827P020"},{"$f":"IF(MOD(H181,2),'pms170'!C181,'pms230'!C181)","v":"H020 GOULOTTE"},{"$f":"IF(MOD(H181,2),'pms170'!G181,'pms230'!D181)","v":"2017-02-17"},{"$f":"IF(MOD(H181,2),'pms170'!H181,'pms230'!E181)","v":"2017-02-17"},{"$f":"IF(MOD(H181,2),'pms170'!F181,'pms230'!F181)","v":"13"},{"$f":"IF(MOD(H181,2),'pms170'!A181,'pms230'!M181)","v":"351010"},180]
[{"$f":"IF(MOD(H182,2),'pms170'!D182,'pms230'!A182)","v":"7067968"},{"$f":"IF(MOD(H182,2),'pms170'!B182,'pms230'!B182)","v":"F0458236"},{"$f":"IF(MOD(H182,2),'pms170'!C182,'pms230'!C182)","v":"MOUSSE TABLETTE"},{"$f":"IF(MOD(H182,2),'pms170'!G182,'pms230'!D182)","v":"2017-02-07"},{"$f":"IF(MOD(H182,2),'pms170'!H182,'pms230'!E182)","v":"2017-02-07"},{"$f":"IF(MOD(H182,2),'pms170'!F182,'pms230'!F182)","v":50},{"$f":"IF(MOD(H182,2),'pms170'!A182,'pms230'!M182)","v":"351015"},181]
[{"$f":"IF(MOD(H183,2),'pms170'!D183,'pms230'!A183)","v":"950579"},{"$f":"IF(MOD(H183,2),'pms170'!B183,'pms230'!B183)","v":"F0509487"},{"$f":"IF(MOD(H183,2),'pms170'!C183,'pms230'!C183)","v":"ENS TABLETTE DORSALE"},{"$f":"IF(MOD(H183,2),'pms170'!G183,'pms230'!D183)","v":"2017-02-20"},{"$f":"IF(MOD(H183,2),'pms170'!H183,'pms230'!E183)","v":"2017-02-20"},{"$f":"IF(MOD(H183,2),'pms170'!F183,'pms230'!F183)","v":"50"},{"$f":"IF(MOD(H183,2),'pms170'!A183,'pms230'!M183)","v":"351000"},182]
[{"$f":"IF(MOD(H184,2),'pms170'!D184,'pms230'!A184)","v":"6840642"},{"$f":"IF(MOD(H184,2),'pms170'!B184,'pms230'!B184)","v":"F0466915"},{"$f":"IF(MOD(H184,2),'pms170'!C184,'pms230'!C184)","v":"REMPLISSAGE TABL. DORSALE 18\"1"},{"$f":"IF(MOD(H184,2),'pms170'!G184,'pms230'!D184)","v":"2017-02-10"},{"$f":"IF(MOD(H184,2),'pms170'!H184,'pms230'!E184)","v":"2017-02-11"},{"$f":"IF(MOD(H184,2),'pms170'!F184,'pms230'!F184)","v":1},{"$f":"IF(MOD(H184,2),'pms170'!A184,'pms230'!M184)","v":"351015"},183]
[{"$f":"IF(MOD(H185,2),'pms170'!D185,'pms230'!A185)","v":"962262"},{"$f":"IF(MOD(H185,2),'pms170'!B185,'pms230'!B185)","v":"J2000144"},{"$f":"IF(MOD(H185,2),'pms170'!C185,'pms230'!C185)","v":"PANEL SHOE STOW UPPE"},{"$f":"IF(MOD(H185,2),'pms170'!G185,'pms230'!D185)","v":"2017-02-20"},{"$f":"IF(MOD(H185,2),'pms170'!H185,'pms230'!E185)","v":"2017-02-20"},{"$f":"IF(MOD(H185,2),'pms170'!F185,'pms230'!F185)","v":"17"},{"$f":"IF(MOD(H185,2),'pms170'!A185,'pms230'!M185)","v":"351020"},184]
[{"$f":"IF(MOD(H186,2),'pms170'!D186,'pms230'!A186)","v":"6811906"},{"$f":"IF(MOD(H186,2),'pms170'!B186,'pms230'!B186)","v":"F0484040"},{"$f":"IF(MOD(H186,2),'pms170'!C186,'pms230'!C186)","v":"ENS REMPLISSAGE TABLETTE STD"},{"$f":"IF(MOD(H186,2),'pms170'!G186,'pms230'!D186)","v":"2017-02-03"},{"$f":"IF(MOD(H186,2),'pms170'!H186,'pms230'!E186)","v":"2017-02-06"},{"$f":"IF(MOD(H186,2),'pms170'!F186,'pms230'!F186)","v":16},{"$f":"IF(MOD(H186,2),'pms170'!A186,'pms230'!M186)","v":"351015"},185]
[{"$f":"IF(MOD(H187,2),'pms170'!D187,'pms230'!A187)","v":"949228"},{"$f":"IF(MOD(H187,2),'pms170'!B187,'pms230'!B187)","v":"F325647P108"},{"$f":"IF(MOD(H187,2),'pms170'!C187,'pms230'!C187)","v":"H108 ENS CAPOT HABIL"},{"$f":"IF(MOD(H187,2),'pms170'!G187,'pms230'!D187)","v":"2017-02-20"},{"$f":"IF(MOD(H187,2),'pms170'!H187,'pms230'!E187)","v":"2017-02-20"},{"$f":"IF(MOD(H187,2),'pms170'!F187,'pms230'!F187)","v":"51"},{"$f":"IF(MOD(H187,2),'pms170'!A187,'pms230'!M187)","v":"351010"},186]
[{"$f":"IF(MOD(H188,2),'pms170'!D188,'pms230'!A188)","v":"6945791"},{"$f":"IF(MOD(H188,2),'pms170'!B188,'pms230'!B188)","v":"F0484040"},{"$f":"IF(MOD(H188,2),'pms170'!C188,'pms230'!C188)","v":"ENS REMPLISSAGE TABLETTE STD"},{"$f":"IF(MOD(H188,2),'pms170'!G188,'pms230'!D188)","v":"2017-02-03"},{"$f":"IF(MOD(H188,2),'pms170'!H188,'pms230'!E188)","v":"2017-02-06"},{"$f":"IF(MOD(H188,2),'pms170'!F188,'pms230'!F188)","v":3},{"$f":"IF(MOD(H188,2),'pms170'!A188,'pms230'!M188)","v":"351015"},187]
[{"$f":"IF(MOD(H189,2),'pms170'!D189,'pms230'!A189)","v":"957840"},{"$f":"IF(MOD(H189,2),'pms170'!B189,'pms230'!B189)","v":"F040869P070"},{"$f":"IF(MOD(H189,2),'pms170'!C189,'pms230'!C189)","v":"H070 - CACHE ENJOLIV"},{"$f":"IF(MOD(H189,2),'pms170'!G189,'pms230'!D189)","v":"2017-02-20"},{"$f":"IF(MOD(H189,2),'pms170'!H189,'pms230'!E189)","v":"2017-02-20"},{"$f":"IF(MOD(H189,2),'pms170'!F189,'pms230'!F189)","v":"10"},{"$f":"IF(MOD(H189,2),'pms170'!A189,'pms230'!M189)","v":"351010"},188]
[{"$f":"IF(MOD(H190,2),'pms170'!D190,'pms230'!A190)","v":"7018756"},{"$f":"IF(MOD(H190,2),'pms170'!B190,'pms230'!B190)","v":"F0493839"},{"$f":"IF(MOD(H190,2),'pms170'!C190,'pms230'!C190)","v":"ENS REMPLISSAGE TABLETTE LGE"},{"$f":"IF(MOD(H190,2),'pms170'!G190,'pms230'!D190)","v":"2017-02-07"},{"$f":"IF(MOD(H190,2),'pms170'!H190,'pms230'!E190)","v":"2017-02-07"},{"$f":"IF(MOD(H190,2),'pms170'!F190,'pms230'!F190)","v":50},{"$f":"IF(MOD(H190,2),'pms170'!A190,'pms230'!M190)","v":"351015"},189]
[{"$f":"IF(MOD(H191,2),'pms170'!D191,'pms230'!A191)","v":"960481"},{"$f":"IF(MOD(H191,2),'pms170'!B191,'pms230'!B191)","v":"F276757P008"},{"$f":"IF(MOD(H191,2),'pms170'!C191,'pms230'!C191)","v":"H008 CAPOT ACCD GAUC"},{"$f":"IF(MOD(H191,2),'pms170'!G191,'pms230'!D191)","v":"2017-02-21"},{"$f":"IF(MOD(H191,2),'pms170'!H191,'pms230'!E191)","v":"2017-02-21"},{"$f":"IF(MOD(H191,2),'pms170'!F191,'pms230'!F191)","v":"47"},{"$f":"IF(MOD(H191,2),'pms170'!A191,'pms230'!M191)","v":"351010"},190]
[{"$f":"IF(MOD(H192,2),'pms170'!D192,'pms230'!A192)","v":"7018791"},{"$f":"IF(MOD(H192,2),'pms170'!B192,'pms230'!B192)","v":"F0498915"},{"$f":"IF(MOD(H192,2),'pms170'!C192,'pms230'!C192)","v":"REMPLISSAGE TAB. DORSALE 17\"70"},{"$f":"IF(MOD(H192,2),'pms170'!G192,'pms230'!D192)","v":"2017-02-01"},{"$f":"IF(MOD(H192,2),'pms170'!H192,'pms230'!E192)","v":"2017-02-01"},{"$f":"IF(MOD(H192,2),'pms170'!F192,'pms230'!F192)","v":49},{"$f":"IF(MOD(H192,2),'pms170'!A192,'pms230'!M192)","v":"351015"},191]
[{"$f":"IF(MOD(H193,2),'pms170'!D193,'pms230'!A193)","v":"962237"},{"$f":"IF(MOD(H193,2),'pms170'!B193,'pms230'!B193)","v":"F0506321"},{"$f":"IF(MOD(H193,2),'pms170'!C193,'pms230'!C193)","v":"CAPOT POCHETTE DOSSI"},{"$f":"IF(MOD(H193,2),'pms170'!G193,'pms230'!D193)","v":"2017-02-22"},{"$f":"IF(MOD(H193,2),'pms170'!H193,'pms230'!E193)","v":"2017-02-22"},{"$f":"IF(MOD(H193,2),'pms170'!F193,'pms230'!F193)","v":"52"},{"$f":"IF(MOD(H193,2),'pms170'!A193,'pms230'!M193)","v":"351010"},192]
[{"$f":"IF(MOD(H194,2),'pms170'!D194,'pms230'!A194)","v":"7082735"},{"$f":"IF(MOD(H194,2),'pms170'!B194,'pms230'!B194)","v":"F0504771"},{"$f":"IF(MOD(H194,2),'pms170'!C194,'pms230'!C194)","v":"ENS REMPLISSAGE TABLETTE STD"},{"$f":"IF(MOD(H194,2),'pms170'!G194,'pms230'!D194)","v":"2017-02-09"},{"$f":"IF(MOD(H194,2),'pms170'!H194,'pms230'!E194)","v":"2017-02-09"},{"$f":"IF(MOD(H194,2),'pms170'!F194,'pms230'!F194)","v":50},{"$f":"IF(MOD(H194,2),'pms170'!A194,'pms230'!M194)","v":"351015"},193]
[{"$f":"IF(MOD(H195,2),'pms170'!D195,'pms230'!A195)","v":"962236"},{"$f":"IF(MOD(H195,2),'pms170'!B195,'pms230'!B195)","v":"F0506320"},{"$f":"IF(MOD(H195,2),'pms170'!C195,'pms230'!C195)","v":"CAPOT POCHETTE DOSSI"},{"$f":"IF(MOD(H195,2),'pms170'!G195,'pms230'!D195)","v":"2017-02-22"},{"$f":"IF(MOD(H195,2),'pms170'!H195,'pms230'!E195)","v":"2017-02-22"},{"$f":"IF(MOD(H195,2),'pms170'!F195,'pms230'!F195)","v":"17"},{"$f":"IF(MOD(H195,2),'pms170'!A195,'pms230'!M195)","v":"351010"},194]
[{"$f":"IF(MOD(H196,2),'pms170'!D196,'pms230'!A196)","v":"7257398"},{"$f":"IF(MOD(H196,2),'pms170'!B196,'pms230'!B196)","v":"F0504771"},{"$f":"IF(MOD(H196,2),'pms170'!C196,'pms230'!C196)","v":"ENS REMPLISSAGE TABLETTE STD"},{"$f":"IF(MOD(H196,2),'pms170'!G196,'pms230'!D196)","v":"2017-02-09"},{"$f":"IF(MOD(H196,2),'pms170'!H196,'pms230'!E196)","v":"2017-02-09"},{"$f":"IF(MOD(H196,2),'pms170'!F196,'pms230'!F196)","v":3},{"$f":"IF(MOD(H196,2),'pms170'!A196,'pms230'!M196)","v":"351015"},195]
[{"$f":"IF(MOD(H197,2),'pms170'!D197,'pms230'!A197)","v":"961314"},{"$f":"IF(MOD(H197,2),'pms170'!B197,'pms230'!B197)","v":"F0506331"},{"$f":"IF(MOD(H197,2),'pms170'!C197,'pms230'!C197)","v":"ENS RENFORT FOND DOS"},{"$f":"IF(MOD(H197,2),'pms170'!G197,'pms230'!D197)","v":"2017-02-22"},{"$f":"IF(MOD(H197,2),'pms170'!H197,'pms230'!E197)","v":"2017-02-22"},{"$f":"IF(MOD(H197,2),'pms170'!F197,'pms230'!F197)","v":"51"},{"$f":"IF(MOD(H197,2),'pms170'!A197,'pms230'!M197)","v":"351010"},196]
[{"$f":"IF(MOD(H198,2),'pms170'!D198,'pms230'!A198)","v":"6831614"},{"$f":"IF(MOD(H198,2),'pms170'!B198,'pms230'!B198)","v":"F347090"},{"$f":"IF(MOD(H198,2),'pms170'!C198,'pms230'!C198)","v":"TABLETTE DORSALE 3508"},{"$f":"IF(MOD(H198,2),'pms170'!G198,'pms230'!D198)","v":"2017-02-09"},{"$f":"IF(MOD(H198,2),'pms170'!H198,'pms230'!E198)","v":"2017-02-10"},{"$f":"IF(MOD(H198,2),'pms170'!F198,'pms230'!F198)","v":13},{"$f":"IF(MOD(H198,2),'pms170'!A198,'pms230'!M198)","v":"351015"},197]
[{"$f":"IF(MOD(H199,2),'pms170'!D199,'pms230'!A199)","v":"960476"},{"$f":"IF(MOD(H199,2),'pms170'!B199,'pms230'!B199)","v":"F19Z0D0010L0"},{"$f":"IF(MOD(H199,2),'pms170'!C199,'pms230'!C199)","v":"CACHE CROSSE G (P076"},{"$f":"IF(MOD(H199,2),'pms170'!G199,'pms230'!D199)","v":"2017-02-22"},{"$f":"IF(MOD(H199,2),'pms170'!H199,'pms230'!E199)","v":"2017-02-22"},{"$f":"IF(MOD(H199,2),'pms170'!F199,'pms230'!F199)","v":"46"},{"$f":"IF(MOD(H199,2),'pms170'!A199,'pms230'!M199)","v":"351010"},198]
[{"$f":"IF(MOD(H200,2),'pms170'!D200,'pms230'!A200)","v":"6869728"},{"$f":"IF(MOD(H200,2),'pms170'!B200,'pms230'!B200)","v":"J2000130"},{"$f":"IF(MOD(H200,2),'pms170'!C200,'pms230'!C200)","v":"DOOR LIFEVEST STOWAGE"},{"$f":"IF(MOD(H200,2),'pms170'!G200,'pms230'!D200)","v":"2017-01-26"},{"$f":"IF(MOD(H200,2),'pms170'!H200,'pms230'!E200)","v":"2017-01-27"},{"$f":"IF(MOD(H200,2),'pms170'!F200,'pms230'!F200)","v":5},{"$f":"IF(MOD(H200,2),'pms170'!A200,'pms230'!M200)","v":"351020"},199]
[{"$f":"IF(MOD(H201,2),'pms170'!D201,'pms230'!A201)","v":"960477"},{"$f":"IF(MOD(H201,2),'pms170'!B201,'pms230'!B201)","v":"F19Z0D0010L0"},{"$f":"IF(MOD(H201,2),'pms170'!C201,'pms230'!C201)","v":"CACHE CROSSE G (P076"},{"$f":"IF(MOD(H201,2),'pms170'!G201,'pms230'!D201)","v":"2017-02-22"},{"$f":"IF(MOD(H201,2),'pms170'!H201,'pms230'!E201)","v":"2017-02-22"},{"$f":"IF(MOD(H201,2),'pms170'!F201,'pms230'!F201)","v":"21"},{"$f":"IF(MOD(H201,2),'pms170'!A201,'pms230'!M201)","v":"351010"},200]
[{"$f":"IF(MOD(H202,2),'pms170'!D202,'pms230'!A202)","v":"6993095"},{"$f":"IF(MOD(H202,2),'pms170'!B202,'pms230'!B202)","v":"J2000183"},{"$f":"IF(MOD(H202,2),'pms170'!C202,'pms230'!C202)","v":"FAIRING SIDEARM INNER UPPER"},{"$f":"IF(MOD(H202,2),'pms170'!G202,'pms230'!D202)","v":"2017-01-31"},{"$f":"IF(MOD(H202,2),'pms170'!H202,'pms230'!E202)","v":"2017-01-31"},{"$f":"IF(MOD(H202,2),'pms170'!F202,'pms230'!F202)","v":5},{"$f":"IF(MOD(H202,2),'pms170'!A202,'pms230'!M202)","v":"351020"},201]
[{"$f":"IF(MOD(H203,2),'pms170'!D203,'pms230'!A203)","v":"961313"},{"$f":"IF(MOD(H203,2),'pms170'!B203,'pms230'!B203)","v":"F0506331"},{"$f":"IF(MOD(H203,2),'pms170'!C203,'pms230'!C203)","v":"ENS RENFORT FOND DOS"},{"$f":"IF(MOD(H203,2),'pms170'!G203,'pms230'!D203)","v":"2017-02-22"},{"$f":"IF(MOD(H203,2),'pms170'!H203,'pms230'!E203)","v":"2017-02-22"},{"$f":"IF(MOD(H203,2),'pms170'!F203,'pms230'!F203)","v":"51"},{"$f":"IF(MOD(H203,2),'pms170'!A203,'pms230'!M203)","v":"351010"},202]
[{"$f":"IF(MOD(H204,2),'pms170'!D204,'pms230'!A204)","v":"6760896"},{"$f":"IF(MOD(H204,2),'pms170'!B204,'pms230'!B204)","v":"J2000384"},{"$f":"IF(MOD(H204,2),'pms170'!C204,'pms230'!C204)","v":"LOWER CONSOLE FOOT ACCES PANEL"},{"$f":"IF(MOD(H204,2),'pms170'!G204,'pms230'!D204)","v":"2017-01-31"},{"$f":"IF(MOD(H204,2),'pms170'!H204,'pms230'!E204)","v":"2017-01-31"},{"$f":"IF(MOD(H204,2),'pms170'!F204,'pms230'!F204)","v":2},{"$f":"IF(MOD(H204,2),'pms170'!A204,'pms230'!M204)","v":"351020"},203]
[{"$f":"IF(MOD(H205,2),'pms170'!D205,'pms230'!A205)","v":"957682"},{"$f":"IF(MOD(H205,2),'pms170'!B205,'pms230'!B205)","v":"F0509562"},{"$f":"IF(MOD(H205,2),'pms170'!C205,'pms230'!C205)","v":"ENS  TABLETTE DORSAL"},{"$f":"IF(MOD(H205,2),'pms170'!G205,'pms230'!D205)","v":"2017-02-23"},{"$f":"IF(MOD(H205,2),'pms170'!H205,'pms230'!E205)","v":"2017-02-23"},{"$f":"IF(MOD(H205,2),'pms170'!F205,'pms230'!F205)","v":"9"},{"$f":"IF(MOD(H205,2),'pms170'!A205,'pms230'!M205)","v":"351000"},204]
[{"$f":"IF(MOD(H206,2),'pms170'!D206,'pms230'!A206)","v":"7004234"},{"$f":"IF(MOD(H206,2),'pms170'!B206,'pms230'!B206)","v":"J2000874"},{"$f":"IF(MOD(H206,2),'pms170'!C206,'pms230'!C206)","v":"PACKER"},{"$f":"IF(MOD(H206,2),'pms170'!G206,'pms230'!D206)","v":"2017-01-30"},{"$f":"IF(MOD(H206,2),'pms170'!H206,'pms230'!E206)","v":"2017-01-30"},{"$f":"IF(MOD(H206,2),'pms170'!F206,'pms230'!F206)","v":16},{"$f":"IF(MOD(H206,2),'pms170'!A206,'pms230'!M206)","v":"351020"},205]
[{"$f":"IF(MOD(H207,2),'pms170'!D207,'pms230'!A207)","v":"960451"},{"$f":"IF(MOD(H207,2),'pms170'!B207,'pms230'!B207)","v":"F313205P015"},{"$f":"IF(MOD(H207,2),'pms170'!C207,'pms230'!C207)","v":"H015 CAPOT ACC STD"},{"$f":"IF(MOD(H207,2),'pms170'!G207,'pms230'!D207)","v":"2017-02-23"},{"$f":"IF(MOD(H207,2),'pms170'!H207,'pms230'!E207)","v":"2017-02-23"},{"$f":"IF(MOD(H207,2),'pms170'!F207,'pms230'!F207)","v":"61"},{"$f":"IF(MOD(H207,2),'pms170'!A207,'pms230'!M207)","v":"351010"},206]
[{"$f":"IF(MOD(H208,2),'pms170'!D208,'pms230'!A208)","v":"7002375"},{"$f":"IF(MOD(H208,2),'pms170'!B208,'pms230'!B208)","v":"J2001776"},{"$f":"IF(MOD(H208,2),'pms170'!C208,'pms230'!C208)","v":"POCKET VEST UPPER FWD"},{"$f":"IF(MOD(H208,2),'pms170'!G208,'pms230'!D208)","v":"2017-02-09"},{"$f":"IF(MOD(H208,2),'pms170'!H208,'pms230'!E208)","v":"2017-02-10"},{"$f":"IF(MOD(H208,2),'pms170'!F208,'pms230'!F208)","v":16},{"$f":"IF(MOD(H208,2),'pms170'!A208,'pms230'!M208)","v":"351020"},207]
[{"$f":"IF(MOD(H209,2),'pms170'!D209,'pms230'!A209)","v":"960448"},{"$f":"IF(MOD(H209,2),'pms170'!B209,'pms230'!B209)","v":"F364640P015"},{"$f":"IF(MOD(H209,2),'pms170'!C209,'pms230'!C209)","v":"H015 CAPOT ACC"},{"$f":"IF(MOD(H209,2),'pms170'!G209,'pms230'!D209)","v":"2017-02-23"},{"$f":"IF(MOD(H209,2),'pms170'!H209,'pms230'!E209)","v":"2017-02-23"},{"$f":"IF(MOD(H209,2),'pms170'!F209,'pms230'!F209)","v":"61"},{"$f":"IF(MOD(H209,2),'pms170'!A209,'pms230'!M209)","v":"351010"},208]
[{"$f":"IF(MOD(H210,2),'pms170'!D210,'pms230'!A210)","v":"7002377"},{"$f":"IF(MOD(H210,2),'pms170'!B210,'pms230'!B210)","v":"J2001779"},{"$f":"IF(MOD(H210,2),'pms170'!C210,'pms230'!C210)","v":"POCKET VEST UPPER"},{"$f":"IF(MOD(H210,2),'pms170'!G210,'pms230'!D210)","v":"2017-02-09"},{"$f":"IF(MOD(H210,2),'pms170'!H210,'pms230'!E210)","v":"2017-02-11"},{"$f":"IF(MOD(H210,2),'pms170'!F210,'pms230'!F210)","v":9},{"$f":"IF(MOD(H210,2),'pms170'!A210,'pms230'!M210)","v":"351020"},209]
[{"$f":"IF(MOD(H211,2),'pms170'!D211,'pms230'!A211)","v":"962242"},{"$f":"IF(MOD(H211,2),'pms170'!B211,'pms230'!B211)","v":"F0483648"},{"$f":"IF(MOD(H211,2),'pms170'!C211,'pms230'!C211)","v":"CAPOT GOULOTTE"},{"$f":"IF(MOD(H211,2),'pms170'!G211,'pms230'!D211)","v":"2017-02-23"},{"$f":"IF(MOD(H211,2),'pms170'!H211,'pms230'!E211)","v":"2017-02-23"},{"$f":"IF(MOD(H211,2),'pms170'!F211,'pms230'!F211)","v":"52"},{"$f":"IF(MOD(H211,2),'pms170'!A211,'pms230'!M211)","v":"351010"},210]
[{"$f":"IF(MOD(H212,2),'pms170'!D212,'pms230'!A212)","v":"7002434"},{"$f":"IF(MOD(H212,2),'pms170'!B212,'pms230'!B212)","v":"J2001821"},{"$f":"IF(MOD(H212,2),'pms170'!C212,'pms230'!C212)","v":"HEADREST REAR CLOSEOUT"},{"$f":"IF(MOD(H212,2),'pms170'!G212,'pms230'!D212)","v":"2017-02-10"},{"$f":"IF(MOD(H212,2),'pms170'!H212,'pms230'!E212)","v":"2017-02-10"},{"$f":"IF(MOD(H212,2),'pms170'!F212,'pms230'!F212)","v":7},{"$f":"IF(MOD(H212,2),'pms170'!A212,'pms230'!M212)","v":"351020"},211]
[{"$f":"IF(MOD(H213,2),'pms170'!D213,'pms230'!A213)","v":"962244"},{"$f":"IF(MOD(H213,2),'pms170'!B213,'pms230'!B213)","v":"F0483648"},{"$f":"IF(MOD(H213,2),'pms170'!C213,'pms230'!C213)","v":"CAPOT GOULOTTE"},{"$f":"IF(MOD(H213,2),'pms170'!G213,'pms230'!D213)","v":"2017-02-23"},{"$f":"IF(MOD(H213,2),'pms170'!H213,'pms230'!E213)","v":"2017-02-23"},{"$f":"IF(MOD(H213,2),'pms170'!F213,'pms230'!F213)","v":"52"},{"$f":"IF(MOD(H213,2),'pms170'!A213,'pms230'!M213)","v":"351010"},212]
[{"$f":"IF(MOD(H214,2),'pms170'!D214,'pms230'!A214)","v":"6872197"},{"$f":"IF(MOD(H214,2),'pms170'!B214,'pms230'!B214)","v":"J2001837"},{"$f":"IF(MOD(H214,2),'pms170'!C214,'pms230'!C214)","v":"SHROUD TOP INNER DBLR"},{"$f":"IF(MOD(H214,2),'pms170'!G214,'pms230'!D214)","v":"2017-01-31"},{"$f":"IF(MOD(H214,2),'pms170'!H214,'pms230'!E214)","v":"2017-01-31"},{"$f":"IF(MOD(H214,2),'pms170'!F214,'pms230'!F214)","v":3},{"$f":"IF(MOD(H214,2),'pms170'!A214,'pms230'!M214)","v":"351020"},213]
[{"$f":"IF(MOD(H215,2),'pms170'!D215,'pms230'!A215)","v":"962246"},{"$f":"IF(MOD(H215,2),'pms170'!B215,'pms230'!B215)","v":"F0483648"},{"$f":"IF(MOD(H215,2),'pms170'!C215,'pms230'!C215)","v":"CAPOT GOULOTTE"},{"$f":"IF(MOD(H215,2),'pms170'!G215,'pms230'!D215)","v":"2017-02-23"},{"$f":"IF(MOD(H215,2),'pms170'!H215,'pms230'!E215)","v":"2017-02-23"},{"$f":"IF(MOD(H215,2),'pms170'!F215,'pms230'!F215)","v":"52"},{"$f":"IF(MOD(H215,2),'pms170'!A215,'pms230'!M215)","v":"351010"},214]
[{"$f":"IF(MOD(H216,2),'pms170'!D216,'pms230'!A216)","v":"7004284"},{"$f":"IF(MOD(H216,2),'pms170'!B216,'pms230'!B216)","v":"J2001845"},{"$f":"IF(MOD(H216,2),'pms170'!C216,'pms230'!C216)","v":"DOUBLER SHROUD MID INNER"},{"$f":"IF(MOD(H216,2),'pms170'!G216,'pms230'!D216)","v":"2017-02-08"},{"$f":"IF(MOD(H216,2),'pms170'!H216,'pms230'!E216)","v":"2017-02-09"},{"$f":"IF(MOD(H216,2),'pms170'!F216,'pms230'!F216)","v":1},{"$f":"IF(MOD(H216,2),'pms170'!A216,'pms230'!M216)","v":"351020"},215]
[{"$f":"IF(MOD(H217,2),'pms170'!D217,'pms230'!A217)","v":"958048"},{"$f":"IF(MOD(H217,2),'pms170'!B217,'pms230'!B217)","v":"F0483558"},{"$f":"IF(MOD(H217,2),'pms170'!C217,'pms230'!C217)","v":"ENS TABLETTE DORSALE"},{"$f":"IF(MOD(H217,2),'pms170'!G217,'pms230'!D217)","v":"2017-02-24"},{"$f":"IF(MOD(H217,2),'pms170'!H217,'pms230'!E217)","v":"2017-02-24"},{"$f":"IF(MOD(H217,2),'pms170'!F217,'pms230'!F217)","v":"3"},{"$f":"IF(MOD(H217,2),'pms170'!A217,'pms230'!M217)","v":"351000"},216]
[{"$f":"IF(MOD(H218,2),'pms170'!D218,'pms230'!A218)","v":"7004304"},{"$f":"IF(MOD(H218,2),'pms170'!B218,'pms230'!B218)","v":"J2001852"},{"$f":"IF(MOD(H218,2),'pms170'!C218,'pms230'!C218)","v":"DOUBLER SHROUD TOP OUTER"},{"$f":"IF(MOD(H218,2),'pms170'!G218,'pms230'!D218)","v":"2017-02-10"},{"$f":"IF(MOD(H218,2),'pms170'!H218,'pms230'!E218)","v":"2017-02-10"},{"$f":"IF(MOD(H218,2),'pms170'!F218,'pms230'!F218)","v":9},{"$f":"IF(MOD(H218,2),'pms170'!A218,'pms230'!M218)","v":"351020"},217]
[{"$f":"IF(MOD(H219,2),'pms170'!D219,'pms230'!A219)","v":"961513"},{"$f":"IF(MOD(H219,2),'pms170'!B219,'pms230'!B219)","v":"F0520338"},{"$f":"IF(MOD(H219,2),'pms170'!C219,'pms230'!C219)","v":"COUVERCLE"},{"$f":"IF(MOD(H219,2),'pms170'!G219,'pms230'!D219)","v":"2017-02-24"},{"$f":"IF(MOD(H219,2),'pms170'!H219,'pms230'!E219)","v":"2017-02-24"},{"$f":"IF(MOD(H219,2),'pms170'!F219,'pms230'!F219)","v":"52"},{"$f":"IF(MOD(H219,2),'pms170'!A219,'pms230'!M219)","v":"351010"},218]
[{"$f":"IF(MOD(H220,2),'pms170'!D220,'pms230'!A220)","v":"6763559"},{"$f":"IF(MOD(H220,2),'pms170'!B220,'pms230'!B220)","v":"J2001991"},{"$f":"IF(MOD(H220,2),'pms170'!C220,'pms230'!C220)","v":"STOWAGE BIN"},{"$f":"IF(MOD(H220,2),'pms170'!G220,'pms230'!D220)","v":"2017-01-20"},{"$f":"IF(MOD(H220,2),'pms170'!H220,'pms230'!E220)","v":"2017-01-23"},{"$f":"IF(MOD(H220,2),'pms170'!F220,'pms230'!F220)","v":25},{"$f":"IF(MOD(H220,2),'pms170'!A220,'pms230'!M220)","v":"351020"},219]
[{"$f":"IF(MOD(H221,2),'pms170'!D221,'pms230'!A221)","v":"959906"},{"$f":"IF(MOD(H221,2),'pms170'!B221,'pms230'!B221)","v":"FRETOUCRNCE1"},{"$f":"IF(MOD(H221,2),'pms170'!C221,'pms230'!C221)","v":"ARTICLE RETOUCHE RNC"},{"$f":"IF(MOD(H221,2),'pms170'!G221,'pms230'!D221)","v":"2017-02-24"},{"$f":"IF(MOD(H221,2),'pms170'!H221,'pms230'!E221)","v":"2017-02-24"},{"$f":"IF(MOD(H221,2),'pms170'!F221,'pms230'!F221)","v":"2"},{"$f":"IF(MOD(H221,2),'pms170'!A221,'pms230'!M221)","v":"351020"},220]
[{"$f":"IF(MOD(H222,2),'pms170'!D222,'pms230'!A222)","v":"6763561"},{"$f":"IF(MOD(H222,2),'pms170'!B222,'pms230'!B222)","v":"J2001991"},{"$f":"IF(MOD(H222,2),'pms170'!C222,'pms230'!C222)","v":"STOWAGE BIN"},{"$f":"IF(MOD(H222,2),'pms170'!G222,'pms230'!D222)","v":"2017-01-20"},{"$f":"IF(MOD(H222,2),'pms170'!H222,'pms230'!E222)","v":"2017-01-23"},{"$f":"IF(MOD(H222,2),'pms170'!F222,'pms230'!F222)","v":17},{"$f":"IF(MOD(H222,2),'pms170'!A222,'pms230'!M222)","v":"351020"},221]
[{"$f":"IF(MOD(H223,2),'pms170'!D223,'pms230'!A223)","v":"957735"},{"$f":"IF(MOD(H223,2),'pms170'!B223,'pms230'!B223)","v":"F223857P070"},{"$f":"IF(MOD(H223,2),'pms170'!C223,'pms230'!C223)","v":"H070 CAPOT ACCD HAND"},{"$f":"IF(MOD(H223,2),'pms170'!G223,'pms230'!D223)","v":"2017-02-24"},{"$f":"IF(MOD(H223,2),'pms170'!H223,'pms230'!E223)","v":"2017-02-24"},{"$f":"IF(MOD(H223,2),'pms170'!F223,'pms230'!F223)","v":"32"},{"$f":"IF(MOD(H223,2),'pms170'!A223,'pms230'!M223)","v":"351010"},222]
[{"$f":"IF(MOD(H224,2),'pms170'!D224,'pms230'!A224)","v":"6763658"},{"$f":"IF(MOD(H224,2),'pms170'!B224,'pms230'!B224)","v":"J2002052"},{"$f":"IF(MOD(H224,2),'pms170'!C224,'pms230'!C224)","v":"STOWAGE BIN LH"},{"$f":"IF(MOD(H224,2),'pms170'!G224,'pms230'!D224)","v":"2017-01-31"},{"$f":"IF(MOD(H224,2),'pms170'!H224,'pms230'!E224)","v":"2017-01-31"},{"$f":"IF(MOD(H224,2),'pms170'!F224,'pms230'!F224)","v":21},{"$f":"IF(MOD(H224,2),'pms170'!A224,'pms230'!M224)","v":"351020"},223]
[{"$f":"IF(MOD(H225,2),'pms170'!D225,'pms230'!A225)","v":"960108"},{"$f":"IF(MOD(H225,2),'pms170'!B225,'pms230'!B225)","v":"F367468"},{"$f":"IF(MOD(H225,2),'pms170'!C225,'pms230'!C225)","v":"ENS CAPOT POIGNÉE +"},{"$f":"IF(MOD(H225,2),'pms170'!G225,'pms230'!D225)","v":"2017-02-24"},{"$f":"IF(MOD(H225,2),'pms170'!H225,'pms230'!E225)","v":"2017-02-24"},{"$f":"IF(MOD(H225,2),'pms170'!F225,'pms230'!F225)","v":"46"},{"$f":"IF(MOD(H225,2),'pms170'!A225,'pms230'!M225)","v":"351010"},224]
[{"$f":"IF(MOD(H226,2),'pms170'!D226,'pms230'!A226)","v":"6763680"},{"$f":"IF(MOD(H226,2),'pms170'!B226,'pms230'!B226)","v":"J2002054"},{"$f":"IF(MOD(H226,2),'pms170'!C226,'pms230'!C226)","v":"STOWAGE BIN RH"},{"$f":"IF(MOD(H226,2),'pms170'!G226,'pms230'!D226)","v":"2017-01-31"},{"$f":"IF(MOD(H226,2),'pms170'!H226,'pms230'!E226)","v":"2017-01-31"},{"$f":"IF(MOD(H226,2),'pms170'!F226,'pms230'!F226)","v":6},{"$f":"IF(MOD(H226,2),'pms170'!A226,'pms230'!M226)","v":"351020"},225]
[{"$f":"IF(MOD(H227,2),'pms170'!D227,'pms230'!A227)","v":"956683"},{"$f":"IF(MOD(H227,2),'pms170'!B227,'pms230'!B227)","v":"F0433016"},{"$f":"IF(MOD(H227,2),'pms170'!C227,'pms230'!C227)","v":"ENS TABLETTE DORSALE"},{"$f":"IF(MOD(H227,2),'pms170'!G227,'pms230'!D227)","v":"2017-02-27"},{"$f":"IF(MOD(H227,2),'pms170'!H227,'pms230'!E227)","v":"2017-02-27"},{"$f":"IF(MOD(H227,2),'pms170'!F227,'pms230'!F227)","v":"17"},{"$f":"IF(MOD(H227,2),'pms170'!A227,'pms230'!M227)","v":"351010"},226]
[{"$f":"IF(MOD(H228,2),'pms170'!D228,'pms230'!A228)","v":"6763688"},{"$f":"IF(MOD(H228,2),'pms170'!B228,'pms230'!B228)","v":"J2002055"},{"$f":"IF(MOD(H228,2),'pms170'!C228,'pms230'!C228)","v":"STOWAGE BIN LH"},{"$f":"IF(MOD(H228,2),'pms170'!G228,'pms230'!D228)","v":"2017-01-31"},{"$f":"IF(MOD(H228,2),'pms170'!H228,'pms230'!E228)","v":"2017-01-31"},{"$f":"IF(MOD(H228,2),'pms170'!F228,'pms230'!F228)","v":6},{"$f":"IF(MOD(H228,2),'pms170'!A228,'pms230'!M228)","v":"351020"},227]
[{"$f":"IF(MOD(H229,2),'pms170'!D229,'pms230'!A229)","v":"962269"},{"$f":"IF(MOD(H229,2),'pms170'!B229,'pms230'!B229)","v":"J2001707"},{"$f":"IF(MOD(H229,2),'pms170'!C229,'pms230'!C229)","v":"DOUBLER CLOSEOUT SID"},{"$f":"IF(MOD(H229,2),'pms170'!G229,'pms230'!D229)","v":"2017-02-27"},{"$f":"IF(MOD(H229,2),'pms170'!H229,'pms230'!E229)","v":"2017-02-27"},{"$f":"IF(MOD(H229,2),'pms170'!F229,'pms230'!F229)","v":"17"},{"$f":"IF(MOD(H229,2),'pms170'!A229,'pms230'!M229)","v":"351010"},228]
[{"$f":"IF(MOD(H230,2),'pms170'!D230,'pms230'!A230)","v":"6870541"},{"$f":"IF(MOD(H230,2),'pms170'!B230,'pms230'!B230)","v":"J2002058"},{"$f":"IF(MOD(H230,2),'pms170'!C230,'pms230'!C230)","v":"COVER FOOTWELL ELECT CTR"},{"$f":"IF(MOD(H230,2),'pms170'!G230,'pms230'!D230)","v":"2017-01-26"},{"$f":"IF(MOD(H230,2),'pms170'!H230,'pms230'!E230)","v":"2017-01-27"},{"$f":"IF(MOD(H230,2),'pms170'!F230,'pms230'!F230)","v":4},{"$f":"IF(MOD(H230,2),'pms170'!A230,'pms230'!M230)","v":"351020"},229]
[{"$f":"IF(MOD(H231,2),'pms170'!D231,'pms230'!A231)","v":"960575"},{"$f":"IF(MOD(H231,2),'pms170'!B231,'pms230'!B231)","v":"J2002061"},{"$f":"IF(MOD(H231,2),'pms170'!C231,'pms230'!C231)","v":"CLOSEOUT UPPER MED S"},{"$f":"IF(MOD(H231,2),'pms170'!G231,'pms230'!D231)","v":"2017-02-27"},{"$f":"IF(MOD(H231,2),'pms170'!H231,'pms230'!E231)","v":"2017-02-27"},{"$f":"IF(MOD(H231,2),'pms170'!F231,'pms230'!F231)","v":"15"},{"$f":"IF(MOD(H231,2),'pms170'!A231,'pms230'!M231)","v":"351020"},230]
[{"$f":"IF(MOD(H232,2),'pms170'!D232,'pms230'!A232)","v":"6763881"},{"$f":"IF(MOD(H232,2),'pms170'!B232,'pms230'!B232)","v":"J2002124"},{"$f":"IF(MOD(H232,2),'pms170'!C232,'pms230'!C232)","v":"FOOTWELL LINER ASSY"},{"$f":"IF(MOD(H232,2),'pms170'!G232,'pms230'!D232)","v":"2017-02-27"},{"$f":"IF(MOD(H232,2),'pms170'!H232,'pms230'!E232)","v":"2017-02-27"},{"$f":"IF(MOD(H232,2),'pms170'!F232,'pms230'!F232)","v":15},{"$f":"IF(MOD(H232,2),'pms170'!A232,'pms230'!M232)","v":"351020"},231]
[{"$f":"IF(MOD(H233,2),'pms170'!D233,'pms230'!A233)","v":"960577"},{"$f":"IF(MOD(H233,2),'pms170'!B233,'pms230'!B233)","v":"J2002061"},{"$f":"IF(MOD(H233,2),'pms170'!C233,'pms230'!C233)","v":"CLOSEOUT UPPER MED S"},{"$f":"IF(MOD(H233,2),'pms170'!G233,'pms230'!D233)","v":"2017-02-27"},{"$f":"IF(MOD(H233,2),'pms170'!H233,'pms230'!E233)","v":"2017-02-27"},{"$f":"IF(MOD(H233,2),'pms170'!F233,'pms230'!F233)","v":"11"},{"$f":"IF(MOD(H233,2),'pms170'!A233,'pms230'!M233)","v":"351020"},232]
[{"$f":"IF(MOD(H234,2),'pms170'!D234,'pms230'!A234)","v":"7129823"},{"$f":"IF(MOD(H234,2),'pms170'!B234,'pms230'!B234)","v":"J2001804"},{"$f":"IF(MOD(H234,2),'pms170'!C234,'pms230'!C234)","v":"DOUBLER ASSY SHROUD TOP OUTER"},{"$f":"IF(MOD(H234,2),'pms170'!G234,'pms230'!D234)","v":"2017-02-06"},{"$f":"IF(MOD(H234,2),'pms170'!H234,'pms230'!E234)","v":"2017-02-06"},{"$f":"IF(MOD(H234,2),'pms170'!F234,'pms230'!F234)","v":9},{"$f":"IF(MOD(H234,2),'pms170'!A234,'pms230'!M234)","v":"351030"},233]
[{"$f":"IF(MOD(H235,2),'pms170'!D235,'pms230'!A235)","v":"962059"},{"$f":"IF(MOD(H235,2),'pms170'!B235,'pms230'!B235)","v":"F0453680"},{"$f":"IF(MOD(H235,2),'pms170'!C235,'pms230'!C235)","v":"CAPOT DE FLANC"},{"$f":"IF(MOD(H235,2),'pms170'!G235,'pms230'!D235)","v":"2017-02-28"},{"$f":"IF(MOD(H235,2),'pms170'!H235,'pms230'!E235)","v":"2017-02-28"},{"$f":"IF(MOD(H235,2),'pms170'!F235,'pms230'!F235)","v":"26"},{"$f":"IF(MOD(H235,2),'pms170'!A235,'pms230'!M235)","v":"351010"},234]
[{"$f":"IF(MOD(H236,2),'pms170'!D236,'pms230'!A236)","v":"7256602"},{"$f":"IF(MOD(H236,2),'pms170'!B236,'pms230'!B236)","v":"F0426307"},{"$f":"IF(MOD(H236,2),'pms170'!C236,'pms230'!C236)","v":"ENS CAPOT BERCEAU EQ D"},{"$f":"IF(MOD(H236,2),'pms170'!G236,'pms230'!D236)","v":"2017-02-03"},{"$f":"IF(MOD(H236,2),'pms170'!H236,'pms230'!E236)","v":"2017-02-03"},{"$f":"IF(MOD(H236,2),'pms170'!F236,'pms230'!F236)","v":2},{"$f":"IF(MOD(H236,2),'pms170'!A236,'pms230'!M236)","v":"351060"},235]
[{"$f":"IF(MOD(H237,2),'pms170'!D237,'pms230'!A237)","v":"950899"},{"$f":"IF(MOD(H237,2),'pms170'!B237,'pms230'!B237)","v":"F316158"},{"$f":"IF(MOD(H237,2),'pms170'!C237,'pms230'!C237)","v":"ENS CAPOT HAB DOS"},{"$f":"IF(MOD(H237,2),'pms170'!G237,'pms230'!D237)","v":"2017-02-28"},{"$f":"IF(MOD(H237,2),'pms170'!H237,'pms230'!E237)","v":"2017-02-28"},{"$f":"IF(MOD(H237,2),'pms170'!F237,'pms230'!F237)","v":"3"},{"$f":"IF(MOD(H237,2),'pms170'!A237,'pms230'!M237)","v":"351010"},236]
[{"$f":"IF(MOD(H238,2),'pms170'!D238,'pms230'!A238)","v":"7012694"},{"$f":"IF(MOD(H238,2),'pms170'!B238,'pms230'!B238)","v":"F0441332"},{"$f":"IF(MOD(H238,2),'pms170'!C238,'pms230'!C238)","v":"ENS STRUCTURE"},{"$f":"IF(MOD(H238,2),'pms170'!G238,'pms230'!D238)","v":"2017-01-27"},{"$f":"IF(MOD(H238,2),'pms170'!H238,'pms230'!E238)","v":"2017-01-30"},{"$f":"IF(MOD(H238,2),'pms170'!F238,'pms230'!F238)","v":6},{"$f":"IF(MOD(H238,2),'pms170'!A238,'pms230'!M238)","v":"351060"},237]
[{"$f":"IF(MOD(H239,2),'pms170'!D239,'pms230'!A239)","v":"960453"},{"$f":"IF(MOD(H239,2),'pms170'!B239,'pms230'!B239)","v":"F313205P015"},{"$f":"IF(MOD(H239,2),'pms170'!C239,'pms230'!C239)","v":"H015 CAPOT ACC STD"},{"$f":"IF(MOD(H239,2),'pms170'!G239,'pms230'!D239)","v":"2017-03-02"},{"$f":"IF(MOD(H239,2),'pms170'!H239,'pms230'!E239)","v":"2017-03-02"},{"$f":"IF(MOD(H239,2),'pms170'!F239,'pms230'!F239)","v":"38"},{"$f":"IF(MOD(H239,2),'pms170'!A239,'pms230'!M239)","v":"351010"},238]
[{"$f":"IF(MOD(H240,2),'pms170'!D240,'pms230'!A240)","v":"7211198"},{"$f":"IF(MOD(H240,2),'pms170'!B240,'pms230'!B240)","v":"F0446279"},{"$f":"IF(MOD(H240,2),'pms170'!C240,'pms230'!C240)","v":"ENS SUPPORT BOITIER IFE"},{"$f":"IF(MOD(H240,2),'pms170'!G240,'pms230'!D240)","v":"2017-02-06"},{"$f":"IF(MOD(H240,2),'pms170'!H240,'pms230'!E240)","v":"2017-02-06"},{"$f":"IF(MOD(H240,2),'pms170'!F240,'pms230'!F240)","v":8},{"$f":"IF(MOD(H240,2),'pms170'!A240,'pms230'!M240)","v":"351060"},239]
[{"$f":"IF(MOD(H241,2),'pms170'!D241,'pms230'!A241)","v":"960492"},{"$f":"IF(MOD(H241,2),'pms170'!B241,'pms230'!B241)","v":"F0447536"},{"$f":"IF(MOD(H241,2),'pms170'!C241,'pms230'!C241)","v":"CAPOT JOINT G"},{"$f":"IF(MOD(H241,2),'pms170'!G241,'pms230'!D241)","v":"2017-03-03"},{"$f":"IF(MOD(H241,2),'pms170'!H241,'pms230'!E241)","v":"2017-03-03"},{"$f":"IF(MOD(H241,2),'pms170'!F241,'pms230'!F241)","v":"52"},{"$f":"IF(MOD(H241,2),'pms170'!A241,'pms230'!M241)","v":"351010"},240]
[{"$f":"IF(MOD(H242,2),'pms170'!D242,'pms230'!A242)","v":"7214135"},{"$f":"IF(MOD(H242,2),'pms170'!B242,'pms230'!B242)","v":"F0454791"},{"$f":"IF(MOD(H242,2),'pms170'!C242,'pms230'!C242)","v":"ENS CAPOT EXT G"},{"$f":"IF(MOD(H242,2),'pms170'!G242,'pms230'!D242)","v":"2017-02-09"},{"$f":"IF(MOD(H242,2),'pms170'!H242,'pms230'!E242)","v":"2017-02-09"},{"$f":"IF(MOD(H242,2),'pms170'!F242,'pms230'!F242)","v":3},{"$f":"IF(MOD(H242,2),'pms170'!A242,'pms230'!M242)","v":"351060"},241]
[{"$f":"IF(MOD(H243,2),'pms170'!D243,'pms230'!A243)","v":"960493"},{"$f":"IF(MOD(H243,2),'pms170'!B243,'pms230'!B243)","v":"F0447536"},{"$f":"IF(MOD(H243,2),'pms170'!C243,'pms230'!C243)","v":"CAPOT JOINT G"},{"$f":"IF(MOD(H243,2),'pms170'!G243,'pms230'!D243)","v":"2017-03-03"},{"$f":"IF(MOD(H243,2),'pms170'!H243,'pms230'!E243)","v":"2017-03-03"},{"$f":"IF(MOD(H243,2),'pms170'!F243,'pms230'!F243)","v":"50"},{"$f":"IF(MOD(H243,2),'pms170'!A243,'pms230'!M243)","v":"351010"},242]
[{"$f":"IF(MOD(H244,2),'pms170'!D244,'pms230'!A244)","v":"7081424"},{"$f":"IF(MOD(H244,2),'pms170'!B244,'pms230'!B244)","v":"F0460420"},{"$f":"IF(MOD(H244,2),'pms170'!C244,'pms230'!C244)","v":"STRUCTURE MANCHETTE"},{"$f":"IF(MOD(H244,2),'pms170'!G244,'pms230'!D244)","v":"2017-01-31"},{"$f":"IF(MOD(H244,2),'pms170'!H244,'pms230'!E244)","v":"2017-01-31"},{"$f":"IF(MOD(H244,2),'pms170'!F244,'pms230'!F244)","v":2},{"$f":"IF(MOD(H244,2),'pms170'!A244,'pms230'!M244)","v":"351060"},243]
[{"$f":"IF(MOD(H245,2),'pms170'!D245,'pms230'!A245)","v":"961620"},{"$f":"IF(MOD(H245,2),'pms170'!B245,'pms230'!B245)","v":"F365283P036"},{"$f":"IF(MOD(H245,2),'pms170'!C245,'pms230'!C245)","v":"H036 ATTACHE RESSORT"},{"$f":"IF(MOD(H245,2),'pms170'!G245,'pms230'!D245)","v":"2017-03-06"},{"$f":"IF(MOD(H245,2),'pms170'!H245,'pms230'!E245)","v":"2017-03-06"},{"$f":"IF(MOD(H245,2),'pms170'!F245,'pms230'!F245)","v":"52"},{"$f":"IF(MOD(H245,2),'pms170'!A245,'pms230'!M245)","v":"351010"},244]
[{"$f":"IF(MOD(H246,2),'pms170'!D246,'pms230'!A246)","v":"7099189"},{"$f":"IF(MOD(H246,2),'pms170'!B246,'pms230'!B246)","v":"F0464411"},{"$f":"IF(MOD(H246,2),'pms170'!C246,'pms230'!C246)","v":"ENS BOITIER HORIZONTAL"},{"$f":"IF(MOD(H246,2),'pms170'!G246,'pms230'!D246)","v":"2017-02-10"},{"$f":"IF(MOD(H246,2),'pms170'!H246,'pms230'!E246)","v":"2017-02-11"},{"$f":"IF(MOD(H246,2),'pms170'!F246,'pms230'!F246)","v":25},{"$f":"IF(MOD(H246,2),'pms170'!A246,'pms230'!M246)","v":"351060"},245]
[{"$f":"IF(MOD(H247,2),'pms170'!D247,'pms230'!A247)","v":"961623"},{"$f":"IF(MOD(H247,2),'pms170'!B247,'pms230'!B247)","v":"F0448730"},{"$f":"IF(MOD(H247,2),'pms170'!C247,'pms230'!C247)","v":"CAPOT CROSSE CTR M J"},{"$f":"IF(MOD(H247,2),'pms170'!G247,'pms230'!D247)","v":"2017-03-07"},{"$f":"IF(MOD(H247,2),'pms170'!H247,'pms230'!E247)","v":"2017-03-08"},{"$f":"IF(MOD(H247,2),'pms170'!F247,'pms230'!F247)","v":"53"},{"$f":"IF(MOD(H247,2),'pms170'!A247,'pms230'!M247)","v":"351010"},246]
[{"$f":"IF(MOD(H248,2),'pms170'!D248,'pms230'!A248)","v":"7255898"},{"$f":"IF(MOD(H248,2),'pms170'!B248,'pms230'!B248)","v":"F0471821"},{"$f":"IF(MOD(H248,2),'pms170'!C248,'pms230'!C248)","v":"ENS CAPOT FLANC EPML"},{"$f":"IF(MOD(H248,2),'pms170'!G248,'pms230'!D248)","v":"2017-02-15"},{"$f":"IF(MOD(H248,2),'pms170'!H248,'pms230'!E248)","v":"2017-02-15"},{"$f":"IF(MOD(H248,2),'pms170'!F248,'pms230'!F248)","v":2},{"$f":"IF(MOD(H248,2),'pms170'!A248,'pms230'!M248)","v":"351060"},247]
[{"$f":"IF(MOD(H249,2),'pms170'!D249,'pms230'!A249)","v":"958939"},{"$f":"IF(MOD(H249,2),'pms170'!B249,'pms230'!B249)","v":"F0509326"},{"$f":"IF(MOD(H249,2),'pms170'!C249,'pms230'!C249)","v":"ENS TABLETTE DORSALE"},{"$f":"IF(MOD(H249,2),'pms170'!G249,'pms230'!D249)","v":"2017-03-08"},{"$f":"IF(MOD(H249,2),'pms170'!H249,'pms230'!E249)","v":"2017-03-08"},{"$f":"IF(MOD(H249,2),'pms170'!F249,'pms230'!F249)","v":"17"},{"$f":"IF(MOD(H249,2),'pms170'!A249,'pms230'!M249)","v":"351000"},248]
[{"$f":"IF(MOD(H250,2),'pms170'!D250,'pms230'!A250)","v":"6973216"},{"$f":"IF(MOD(H250,2),'pms170'!B250,'pms230'!B250)","v":"F0483248"},{"$f":"IF(MOD(H250,2),'pms170'!C250,'pms230'!C250)","v":"ENSEMBLE STRUCTURE"},{"$f":"IF(MOD(H250,2),'pms170'!G250,'pms230'!D250)","v":"2017-01-25"},{"$f":"IF(MOD(H250,2),'pms170'!H250,'pms230'!E250)","v":"2017-01-25"},{"$f":"IF(MOD(H250,2),'pms170'!F250,'pms230'!F250)","v":1},{"$f":"IF(MOD(H250,2),'pms170'!A250,'pms230'!M250)","v":"351060"},249]
[{"$f":"IF(MOD(H251,2),'pms170'!D251,'pms230'!A251)","v":"961608"},{"$f":"IF(MOD(H251,2),'pms170'!B251,'pms230'!B251)","v":"F0520338"},{"$f":"IF(MOD(H251,2),'pms170'!C251,'pms230'!C251)","v":"COUVERCLE"},{"$f":"IF(MOD(H251,2),'pms170'!G251,'pms230'!D251)","v":"2017-03-08"},{"$f":"IF(MOD(H251,2),'pms170'!H251,'pms230'!E251)","v":"2017-03-08"},{"$f":"IF(MOD(H251,2),'pms170'!F251,'pms230'!F251)","v":"30"},{"$f":"IF(MOD(H251,2),'pms170'!A251,'pms230'!M251)","v":"351010"},250]
[{"$f":"IF(MOD(H252,2),'pms170'!D252,'pms230'!A252)","v":"7012962"},{"$f":"IF(MOD(H252,2),'pms170'!B252,'pms230'!B252)","v":"F0483249"},{"$f":"IF(MOD(H252,2),'pms170'!C252,'pms230'!C252)","v":"ENSEMBLE STRUCTURE"},{"$f":"IF(MOD(H252,2),'pms170'!G252,'pms230'!D252)","v":"2017-02-03"},{"$f":"IF(MOD(H252,2),'pms170'!H252,'pms230'!E252)","v":"2017-02-03"},{"$f":"IF(MOD(H252,2),'pms170'!F252,'pms230'!F252)","v":14},{"$f":"IF(MOD(H252,2),'pms170'!A252,'pms230'!M252)","v":"351060"},251]
[{"$f":"IF(MOD(H253,2),'pms170'!D253,'pms230'!A253)","v":"961624"},{"$f":"IF(MOD(H253,2),'pms170'!B253,'pms230'!B253)","v":"F0429187"},{"$f":"IF(MOD(H253,2),'pms170'!C253,'pms230'!C253)","v":"CAPOT CROSSE LAT D"},{"$f":"IF(MOD(H253,2),'pms170'!G253,'pms230'!D253)","v":"2017-03-09"},{"$f":"IF(MOD(H253,2),'pms170'!H253,'pms230'!E253)","v":"2017-03-09"},{"$f":"IF(MOD(H253,2),'pms170'!F253,'pms230'!F253)","v":"52"},{"$f":"IF(MOD(H253,2),'pms170'!A253,'pms230'!M253)","v":"351010"},252]
[{"$f":"IF(MOD(H254,2),'pms170'!D254,'pms230'!A254)","v":"7082206"},{"$f":"IF(MOD(H254,2),'pms170'!B254,'pms230'!B254)","v":"F0486369"},{"$f":"IF(MOD(H254,2),'pms170'!C254,'pms230'!C254)","v":"ENS CAPOTAGE EXTERIEUR"},{"$f":"IF(MOD(H254,2),'pms170'!G254,'pms230'!D254)","v":"2017-02-10"},{"$f":"IF(MOD(H254,2),'pms170'!H254,'pms230'!E254)","v":"2017-02-12"},{"$f":"IF(MOD(H254,2),'pms170'!F254,'pms230'!F254)","v":3},{"$f":"IF(MOD(H254,2),'pms170'!A254,'pms230'!M254)","v":"351060"},253]
[{"$f":"IF(MOD(H255,2),'pms170'!D255,'pms230'!A255)","v":"962080"},{"$f":"IF(MOD(H255,2),'pms170'!B255,'pms230'!B255)","v":"F0455939"},{"$f":"IF(MOD(H255,2),'pms170'!C255,'pms230'!C255)","v":"CAPOT SUP CROSSE NU"},{"$f":"IF(MOD(H255,2),'pms170'!G255,'pms230'!D255)","v":"2017-03-09"},{"$f":"IF(MOD(H255,2),'pms170'!H255,'pms230'!E255)","v":"2017-03-09"},{"$f":"IF(MOD(H255,2),'pms170'!F255,'pms230'!F255)","v":"52"},{"$f":"IF(MOD(H255,2),'pms170'!A255,'pms230'!M255)","v":"351010"},254]
[{"$f":"IF(MOD(H256,2),'pms170'!D256,'pms230'!A256)","v":"6835375"},{"$f":"IF(MOD(H256,2),'pms170'!B256,'pms230'!B256)","v":"F0505037"},{"$f":"IF(MOD(H256,2),'pms170'!C256,'pms230'!C256)","v":"ENS CAPOT SEAT TO SEAT"},{"$f":"IF(MOD(H256,2),'pms170'!G256,'pms230'!D256)","v":"2017-02-06"},{"$f":"IF(MOD(H256,2),'pms170'!H256,'pms230'!E256)","v":"2017-02-06"},{"$f":"IF(MOD(H256,2),'pms170'!F256,'pms230'!F256)","v":2},{"$f":"IF(MOD(H256,2),'pms170'!A256,'pms230'!M256)","v":"351060"},255]
[{"$f":"IF(MOD(H257,2),'pms170'!D257,'pms230'!A257)","v":"960496"},{"$f":"IF(MOD(H257,2),'pms170'!B257,'pms230'!B257)","v":"F0447536"},{"$f":"IF(MOD(H257,2),'pms170'!C257,'pms230'!C257)","v":"CAPOT JOINT G"},{"$f":"IF(MOD(H257,2),'pms170'!G257,'pms230'!D257)","v":"2017-03-10"},{"$f":"IF(MOD(H257,2),'pms170'!H257,'pms230'!E257)","v":"2017-03-10"},{"$f":"IF(MOD(H257,2),'pms170'!F257,'pms230'!F257)","v":"50"},{"$f":"IF(MOD(H257,2),'pms170'!A257,'pms230'!M257)","v":"351010"},256]
[{"$f":"IF(MOD(H258,2),'pms170'!D258,'pms230'!A258)","v":"6994867"},{"$f":"IF(MOD(H258,2),'pms170'!B258,'pms230'!B258)","v":"F089424P075"},{"$f":"IF(MOD(H258,2),'pms170'!C258,'pms230'!C258)","v":"H075 KICK PANEL IAT 1 PAX"},{"$f":"IF(MOD(H258,2),'pms170'!G258,'pms230'!D258)","v":"2017-02-06"},{"$f":"IF(MOD(H258,2),'pms170'!H258,'pms230'!E258)","v":"2017-02-06"},{"$f":"IF(MOD(H258,2),'pms170'!F258,'pms230'!F258)","v":2},{"$f":"IF(MOD(H258,2),'pms170'!A258,'pms230'!M258)","v":"351060"},257]
[{"$f":"IF(MOD(H259,2),'pms170'!D259,'pms230'!A259)","v":"962077"},{"$f":"IF(MOD(H259,2),'pms170'!B259,'pms230'!B259)","v":"F107933P008"},{"$f":"IF(MOD(H259,2),'pms170'!C259,'pms230'!C259)","v":"H008 ENS CAPOT ACCD"},{"$f":"IF(MOD(H259,2),'pms170'!G259,'pms230'!D259)","v":"2017-03-14"},{"$f":"IF(MOD(H259,2),'pms170'!H259,'pms230'!E259)","v":"2017-03-14"},{"$f":"IF(MOD(H259,2),'pms170'!F259,'pms230'!F259)","v":"52"},{"$f":"IF(MOD(H259,2),'pms170'!A259,'pms230'!M259)","v":"351010"},258]
[{"$f":"IF(MOD(H260,2),'pms170'!D260,'pms230'!A260)","v":"7251632"},{"$f":"IF(MOD(H260,2),'pms170'!B260,'pms230'!B260)","v":"F328380P020"},{"$f":"IF(MOD(H260,2),'pms170'!C260,'pms230'!C260)","v":"H020 CAPOT DE FLANC STD"},{"$f":"IF(MOD(H260,2),'pms170'!G260,'pms230'!D260)","v":"2017-02-08"},{"$f":"IF(MOD(H260,2),'pms170'!H260,'pms230'!E260)","v":"2017-02-08"},{"$f":"IF(MOD(H260,2),'pms170'!F260,'pms230'!F260)","v":4},{"$f":"IF(MOD(H260,2),'pms170'!A260,'pms230'!M260)","v":"351060"},259]
[{"$f":"IF(MOD(H261,2),'pms170'!D261,'pms230'!A261)","v":"958078"},{"$f":"IF(MOD(H261,2),'pms170'!B261,'pms230'!B261)","v":"F0442271"},{"$f":"IF(MOD(H261,2),'pms170'!C261,'pms230'!C261)","v":"CAPOT TV"},{"$f":"IF(MOD(H261,2),'pms170'!G261,'pms230'!D261)","v":"2017-03-17"},{"$f":"IF(MOD(H261,2),'pms170'!H261,'pms230'!E261)","v":"2017-03-17"},{"$f":"IF(MOD(H261,2),'pms170'!F261,'pms230'!F261)","v":"4"},{"$f":"IF(MOD(H261,2),'pms170'!A261,'pms230'!M261)","v":"351010"},260]
[{"$f":"IF(MOD(H262,2),'pms170'!D262,'pms230'!A262)","v":"7256520"},{"$f":"IF(MOD(H262,2),'pms170'!B262,'pms230'!B262)","v":"F340205P020"},{"$f":"IF(MOD(H262,2),'pms170'!C262,'pms230'!C262)","v":"H020 ENS CAPOT ACCD 1\"8"},{"$f":"IF(MOD(H262,2),'pms170'!G262,'pms230'!D262)","v":"2017-02-03"},{"$f":"IF(MOD(H262,2),'pms170'!H262,'pms230'!E262)","v":"2017-02-03"},{"$f":"IF(MOD(H262,2),'pms170'!F262,'pms230'!F262)","v":3},{"$f":"IF(MOD(H262,2),'pms170'!A262,'pms230'!M262)","v":"351060"},261]
[{"$f":"IF(MOD(H263,2),'pms170'!D263,'pms230'!A263)","v":"962259"},{"$f":"IF(MOD(H263,2),'pms170'!B263,'pms230'!B263)","v":"J2000527"},{"$f":"IF(MOD(H263,2),'pms170'!C263,'pms230'!C263)","v":"BACKSHELL INNER SIDE"},{"$f":"IF(MOD(H263,2),'pms170'!G263,'pms230'!D263)","v":"2017-03-17"},{"$f":"IF(MOD(H263,2),'pms170'!H263,'pms230'!E263)","v":"2017-03-17"},{"$f":"IF(MOD(H263,2),'pms170'!F263,'pms230'!F263)","v":"17"},{"$f":"IF(MOD(H263,2),'pms170'!A263,'pms230'!M263)","v":"351020"},262]
[{"$f":"IF(MOD(H264,2),'pms170'!D264,'pms230'!A264)","v":"7115361"},{"$f":"IF(MOD(H264,2),'pms170'!B264,'pms230'!B264)","v":"F370688"},{"$f":"IF(MOD(H264,2),'pms170'!C264,'pms230'!C264)","v":"ENS PORTE"},{"$f":"IF(MOD(H264,2),'pms170'!G264,'pms230'!D264)","v":"2017-02-09"},{"$f":"IF(MOD(H264,2),'pms170'!H264,'pms230'!E264)","v":"2017-02-09"},{"$f":"IF(MOD(H264,2),'pms170'!F264,'pms230'!F264)","v":10},{"$f":"IF(MOD(H264,2),'pms170'!A264,'pms230'!M264)","v":"351060"},263]
[{"$f":"IF(MOD(H265,2),'pms170'!D265,'pms230'!A265)","v":"962265"},{"$f":"IF(MOD(H265,2),'pms170'!B265,'pms230'!B265)","v":"J2000399"},{"$f":"IF(MOD(H265,2),'pms170'!C265,'pms230'!C265)","v":"FRONT SIDE FAIRING"},{"$f":"IF(MOD(H265,2),'pms170'!G265,'pms230'!D265)","v":"2017-03-17"},{"$f":"IF(MOD(H265,2),'pms170'!H265,'pms230'!E265)","v":"2017-03-17"},{"$f":"IF(MOD(H265,2),'pms170'!F265,'pms230'!F265)","v":"17"},{"$f":"IF(MOD(H265,2),'pms170'!A265,'pms230'!M265)","v":"351020"},264]
[{"$f":"IF(MOD(H266,2),'pms170'!D266,'pms230'!A266)","v":0},{"$f":"IF(MOD(H266,2),'pms170'!B266,'pms230'!B266)","v":0},{"$f":"IF(MOD(H266,2),'pms170'!C266,'pms230'!C266)","v":0},{"$f":"IF(MOD(H266,2),'pms170'!G266,'pms230'!D266)","v":"00:00:00"},{"$f":"IF(MOD(H266,2),'pms170'!H266,'pms230'!E266)","v":"00:00:00"},{"$f":"IF(MOD(H266,2),'pms170'!F266,'pms230'!F266)","v":0},{"$f":"IF(MOD(H266,2),'pms170'!A266,'pms230'!M266)","v":0},265]
[{"$f":"IF(MOD(H267,2),'pms170'!D267,'pms230'!A267)","v":"962255"},{"$f":"IF(MOD(H267,2),'pms170'!B267,'pms230'!B267)","v":"J2000744"},{"$f":"IF(MOD(H267,2),'pms170'!C267,'pms230'!C267)","v":"KBD COVER PANEL"},{"$f":"IF(MOD(H267,2),'pms170'!G267,'pms230'!D267)","v":"2017-03-17"},{"$f":"IF(MOD(H267,2),'pms170'!H267,'pms230'!E267)","v":"2017-03-17"},{"$f":"IF(MOD(H267,2),'pms170'!F267,'pms230'!F267)","v":"17"},{"$f":"IF(MOD(H267,2),'pms170'!A267,'pms230'!M267)","v":"351020"},266]
[{"$f":"IF(MOD(H268,2),'pms170'!D268,'pms230'!A268)","v":0},{"$f":"IF(MOD(H268,2),'pms170'!B268,'pms230'!B268)","v":0},{"$f":"IF(MOD(H268,2),'pms170'!C268,'pms230'!C268)","v":0},{"$f":"IF(MOD(H268,2),'pms170'!G268,'pms230'!D268)","v":"00:00:00"},{"$f":"IF(MOD(H268,2),'pms170'!H268,'pms230'!E268)","v":"00:00:00"},{"$f":"IF(MOD(H268,2),'pms170'!F268,'pms230'!F268)","v":0},{"$f":"IF(MOD(H268,2),'pms170'!A268,'pms230'!M268)","v":0},267]
[{"$f":"IF(MOD(H269,2),'pms170'!D269,'pms230'!A269)","v":"960578"},{"$f":"IF(MOD(H269,2),'pms170'!B269,'pms230'!B269)","v":"J2002061"},{"$f":"IF(MOD(H269,2),'pms170'!C269,'pms230'!C269)","v":"CLOSEOUT UPPER MED S"},{"$f":"IF(MOD(H269,2),'pms170'!G269,'pms230'!D269)","v":"2017-03-17"},{"$f":"IF(MOD(H269,2),'pms170'!H269,'pms230'!E269)","v":"2017-03-17"},{"$f":"IF(MOD(H269,2),'pms170'!F269,'pms230'!F269)","v":"3"},{"$f":"IF(MOD(H269,2),'pms170'!A269,'pms230'!M269)","v":"351020"},268]
[{"$f":"IF(MOD(H270,2),'pms170'!D270,'pms230'!A270)","v":0},{"$f":"IF(MOD(H270,2),'pms170'!B270,'pms230'!B270)","v":0},{"$f":"IF(MOD(H270,2),'pms170'!C270,'pms230'!C270)","v":0},{"$f":"IF(MOD(H270,2),'pms170'!G270,'pms230'!D270)","v":"00:00:00"},{"$f":"IF(MOD(H270,2),'pms170'!H270,'pms230'!E270)","v":"00:00:00"},{"$f":"IF(MOD(H270,2),'pms170'!F270,'pms230'!F270)","v":0},{"$f":"IF(MOD(H270,2),'pms170'!A270,'pms230'!M270)","v":0},269]
[{"$f":"IF(MOD(H271,2),'pms170'!D271,'pms230'!A271)","v":"961445"},{"$f":"IF(MOD(H271,2),'pms170'!B271,'pms230'!B271)","v":"F0506331"},{"$f":"IF(MOD(H271,2),'pms170'!C271,'pms230'!C271)","v":"ENS RENFORT FOND DOS"},{"$f":"IF(MOD(H271,2),'pms170'!G271,'pms230'!D271)","v":"2017-03-29"},{"$f":"IF(MOD(H271,2),'pms170'!H271,'pms230'!E271)","v":"2017-03-29"},{"$f":"IF(MOD(H271,2),'pms170'!F271,'pms230'!F271)","v":"51"},{"$f":"IF(MOD(H271,2),'pms170'!A271,'pms230'!M271)","v":"351010"},270]
[{"$f":"IF(MOD(H272,2),'pms170'!D272,'pms230'!A272)","v":0},{"$f":"IF(MOD(H272,2),'pms170'!B272,'pms230'!B272)","v":0},{"$f":"IF(MOD(H272,2),'pms170'!C272,'pms230'!C272)","v":0},{"$f":"IF(MOD(H272,2),'pms170'!G272,'pms230'!D272)","v":"00:00:00"},{"$f":"IF(MOD(H272,2),'pms170'!H272,'pms230'!E272)","v":"00:00:00"},{"$f":"IF(MOD(H272,2),'pms170'!F272,'pms230'!F272)","v":0},{"$f":"IF(MOD(H272,2),'pms170'!A272,'pms230'!M272)","v":0},271]
[{"$f":"IF(MOD(H273,2),'pms170'!D273,'pms230'!A273)","v":"962190"},{"$f":"IF(MOD(H273,2),'pms170'!B273,'pms230'!B273)","v":"F0460673"},{"$f":"IF(MOD(H273,2),'pms170'!C273,'pms230'!C273)","v":"CAPOT"},{"$f":"IF(MOD(H273,2),'pms170'!G273,'pms230'!D273)","v":"2017-03-31"},{"$f":"IF(MOD(H273,2),'pms170'!H273,'pms230'!E273)","v":"2017-03-31"},{"$f":"IF(MOD(H273,2),'pms170'!F273,'pms230'!F273)","v":"52"},{"$f":"IF(MOD(H273,2),'pms170'!A273,'pms230'!M273)","v":"351010"},272]
[{"$f":"IF(MOD(H274,2),'pms170'!D274,'pms230'!A274)","v":0},{"$f":"IF(MOD(H274,2),'pms170'!B274,'pms230'!B274)","v":0},{"$f":"IF(MOD(H274,2),'pms170'!C274,'pms230'!C274)","v":0},{"$f":"IF(MOD(H274,2),'pms170'!G274,'pms230'!D274)","v":"00:00:00"},{"$f":"IF(MOD(H274,2),'pms170'!H274,'pms230'!E274)","v":"00:00:00"},{"$f":"IF(MOD(H274,2),'pms170'!F274,'pms230'!F274)","v":0},{"$f":"IF(MOD(H274,2),'pms170'!A274,'pms230'!M274)","v":0},273]
[{"$f":"IF(MOD(H275,2),'pms170'!D275,'pms230'!A275)","v":"962083"},{"$f":"IF(MOD(H275,2),'pms170'!B275,'pms230'!B275)","v":"F0455939"},{"$f":"IF(MOD(H275,2),'pms170'!C275,'pms230'!C275)","v":"CAPOT SUP CROSSE NU"},{"$f":"IF(MOD(H275,2),'pms170'!G275,'pms230'!D275)","v":"2017-04-06"},{"$f":"IF(MOD(H275,2),'pms170'!H275,'pms230'!E275)","v":"2017-04-06"},{"$f":"IF(MOD(H275,2),'pms170'!F275,'pms230'!F275)","v":"52"},{"$f":"IF(MOD(H275,2),'pms170'!A275,'pms230'!M275)","v":"351010"},274]
[{"$f":"IF(MOD(H276,2),'pms170'!D276,'pms230'!A276)","v":0},{"$f":"IF(MOD(H276,2),'pms170'!B276,'pms230'!B276)","v":0},{"$f":"IF(MOD(H276,2),'pms170'!C276,'pms230'!C276)","v":0},{"$f":"IF(MOD(H276,2),'pms170'!G276,'pms230'!D276)","v":"00:00:00"},{"$f":"IF(MOD(H276,2),'pms170'!H276,'pms230'!E276)","v":"00:00:00"},{"$f":"IF(MOD(H276,2),'pms170'!F276,'pms230'!F276)","v":0},{"$f":"IF(MOD(H276,2),'pms170'!A276,'pms230'!M276)","v":0},275]
[{"$f":"IF(MOD(H277,2),'pms170'!D277,'pms230'!A277)","v":"962085"},{"$f":"IF(MOD(H277,2),'pms170'!B277,'pms230'!B277)","v":"F0455939"},{"$f":"IF(MOD(H277,2),'pms170'!C277,'pms230'!C277)","v":"CAPOT SUP CROSSE NU"},{"$f":"IF(MOD(H277,2),'pms170'!G277,'pms230'!D277)","v":"2017-04-06"},{"$f":"IF(MOD(H277,2),'pms170'!H277,'pms230'!E277)","v":"2017-04-06"},{"$f":"IF(MOD(H277,2),'pms170'!F277,'pms230'!F277)","v":"52"},{"$f":"IF(MOD(H277,2),'pms170'!A277,'pms230'!M277)","v":"351010"},276]
[{"$f":"IF(MOD(H278,2),'pms170'!D278,'pms230'!A278)","v":0},{"$f":"IF(MOD(H278,2),'pms170'!B278,'pms230'!B278)","v":0},{"$f":"IF(MOD(H278,2),'pms170'!C278,'pms230'!C278)","v":0},{"$f":"IF(MOD(H278,2),'pms170'!G278,'pms230'!D278)","v":"00:00:00"},{"$f":"IF(MOD(H278,2),'pms170'!H278,'pms230'!E278)","v":"00:00:00"},{"$f":"IF(MOD(H278,2),'pms170'!F278,'pms230'!F278)","v":0},{"$f":"IF(MOD(H278,2),'pms170'!A278,'pms230'!M278)","v":0},277]
[{"$f":"IF(MOD(H279,2),'pms170'!D279,'pms230'!A279)","v":"962100"},{"$f":"IF(MOD(H279,2),'pms170'!B279,'pms230'!B279)","v":"F0455939"},{"$f":"IF(MOD(H279,2),'pms170'!C279,'pms230'!C279)","v":"CAPOT SUP CROSSE NU"},{"$f":"IF(MOD(H279,2),'pms170'!G279,'pms230'!D279)","v":"2017-04-14"},{"$f":"IF(MOD(H279,2),'pms170'!H279,'pms230'!E279)","v":"2017-04-14"},{"$f":"IF(MOD(H279,2),'pms170'!F279,'pms230'!F279)","v":"52"},{"$f":"IF(MOD(H279,2),'pms170'!A279,'pms230'!M279)","v":"351010"},278]
[{"$f":"IF(MOD(H280,2),'pms170'!D280,'pms230'!A280)","v":0},{"$f":"IF(MOD(H280,2),'pms170'!B280,'pms230'!B280)","v":0},{"$f":"IF(MOD(H280,2),'pms170'!C280,'pms230'!C280)","v":0},{"$f":"IF(MOD(H280,2),'pms170'!G280,'pms230'!D280)","v":"00:00:00"},{"$f":"IF(MOD(H280,2),'pms170'!H280,'pms230'!E280)","v":"00:00:00"},{"$f":"IF(MOD(H280,2),'pms170'!F280,'pms230'!F280)","v":0},{"$f":"IF(MOD(H280,2),'pms170'!A280,'pms230'!M280)","v":0},279]
[{"$f":"IF(MOD(H281,2),'pms170'!D281,'pms230'!A281)","v":"959743"},{"$f":"IF(MOD(H281,2),'pms170'!B281,'pms230'!B281)","v":"J2002078"},{"$f":"IF(MOD(H281,2),'pms170'!C281,'pms230'!C281)","v":"DRIP TRAY ASSY LOW S"},{"$f":"IF(MOD(H281,2),'pms170'!G281,'pms230'!D281)","v":"2017-04-28"},{"$f":"IF(MOD(H281,2),'pms170'!H281,'pms230'!E281)","v":"2017-04-28"},{"$f":"IF(MOD(H281,2),'pms170'!F281,'pms230'!F281)","v":"11"},{"$f":"IF(MOD(H281,2),'pms170'!A281,'pms230'!M281)","v":"351030"},280]
[{"$f":"IF(MOD(H282,2),'pms170'!D282,'pms230'!A282)","v":0},{"$f":"IF(MOD(H282,2),'pms170'!B282,'pms230'!B282)","v":0},{"$f":"IF(MOD(H282,2),'pms170'!C282,'pms230'!C282)","v":0},{"$f":"IF(MOD(H282,2),'pms170'!G282,'pms230'!D282)","v":"00:00:00"},{"$f":"IF(MOD(H282,2),'pms170'!H282,'pms230'!E282)","v":"00:00:00"},{"$f":"IF(MOD(H282,2),'pms170'!F282,'pms230'!F282)","v":0},{"$f":"IF(MOD(H282,2),'pms170'!A282,'pms230'!M282)","v":0},281]
[{"$f":"IF(MOD(H283,2),'pms170'!D283,'pms230'!A283)","v":"959976"},{"$f":"IF(MOD(H283,2),'pms170'!B283,'pms230'!B283)","v":"F0497750"},{"$f":"IF(MOD(H283,2),'pms170'!C283,'pms230'!C283)","v":"ENS TABLETTE DORSALE"},{"$f":"IF(MOD(H283,2),'pms170'!G283,'pms230'!D283)","v":"2017-07-07"},{"$f":"IF(MOD(H283,2),'pms170'!H283,'pms230'!E283)","v":"2017-07-07"},{"$f":"IF(MOD(H283,2),'pms170'!F283,'pms230'!F283)","v":"11"},{"$f":"IF(MOD(H283,2),'pms170'!A283,'pms230'!M283)","v":"351000"},282]
[{"$f":"IF(MOD(H284,2),'pms170'!D284,'pms230'!A284)","v":0},{"$f":"IF(MOD(H284,2),'pms170'!B284,'pms230'!B284)","v":0},{"$f":"IF(MOD(H284,2),'pms170'!C284,'pms230'!C284)","v":0},{"$f":"IF(MOD(H284,2),'pms170'!G284,'pms230'!D284)","v":"00:00:00"},{"$f":"IF(MOD(H284,2),'pms170'!H284,'pms230'!E284)","v":"00:00:00"},{"$f":"IF(MOD(H284,2),'pms170'!F284,'pms230'!F284)","v":0},{"$f":"IF(MOD(H284,2),'pms170'!A284,'pms230'!M284)","v":0},283]
[{"$f":"IF(MOD(H285,2),'pms170'!D285,'pms230'!A285)","v":"960365"},{"$f":"IF(MOD(H285,2),'pms170'!B285,'pms230'!B285)","v":"J2002140"},{"$f":"IF(MOD(H285,2),'pms170'!C285,'pms230'!C285)","v":"FOOTWELL ELECT COVER"},{"$f":"IF(MOD(H285,2),'pms170'!G285,'pms230'!D285)","v":"2017-07-21"},{"$f":"IF(MOD(H285,2),'pms170'!H285,'pms230'!E285)","v":"2017-07-21"},{"$f":"IF(MOD(H285,2),'pms170'!F285,'pms230'!F285)","v":"3"},{"$f":"IF(MOD(H285,2),'pms170'!A285,'pms230'!M285)","v":"351020"},284]
[{"$f":"IF(MOD(H286,2),'pms170'!D286,'pms230'!A286)","v":0},{"$f":"IF(MOD(H286,2),'pms170'!B286,'pms230'!B286)","v":0},{"$f":"IF(MOD(H286,2),'pms170'!C286,'pms230'!C286)","v":0},{"$f":"IF(MOD(H286,2),'pms170'!G286,'pms230'!D286)","v":"00:00:00"},{"$f":"IF(MOD(H286,2),'pms170'!H286,'pms230'!E286)","v":"00:00:00"},{"$f":"IF(MOD(H286,2),'pms170'!F286,'pms230'!F286)","v":0},{"$f":"IF(MOD(H286,2),'pms170'!A286,'pms230'!M286)","v":0},285]
[{"$f":"IF(MOD(H287,2),'pms170'!D287,'pms230'!A287)","v":"961261"},{"$f":"IF(MOD(H287,2),'pms170'!B287,'pms230'!B287)","v":"F0447535"},{"$f":"IF(MOD(H287,2),'pms170'!C287,'pms230'!C287)","v":"CAPOT JOINT D"},{"$f":"IF(MOD(H287,2),'pms170'!G287,'pms230'!D287)","v":"2017-12-07"},{"$f":"IF(MOD(H287,2),'pms170'!H287,'pms230'!E287)","v":"2017-12-07"},{"$f":"IF(MOD(H287,2),'pms170'!F287,'pms230'!F287)","v":"49"},{"$f":"IF(MOD(H287,2),'pms170'!A287,'pms230'!M287)","v":"351010"},286]
[null,null,null,null,null,null,null,287]

{"sheet":"Feuil2","index":3,"n_rows":286,"n_cols":8,"rows_kept":286,"cut":false,"hidden":false,"merged":[]}
["     OF","Article     ","Libelle             ","Deb OP","Fin OP"," Qte C ","Respons   ","compteur"]
[{"$f":"IF(MOD(H2,2),'pms230'!A2,'pms170'!D2)","v":"960044"},{"$f":"IF(MOD(H2,2),'pms230'!B2,'pms170'!B2)","v":"F0476122"},{"$f":"IF(MOD(H2,2),'pms230'!C2,'pms170'!C2)","v":"ENS PLATEAU TABLETTE"},{"$f":"IF(MOD(H2,2),'pms230'!D2,'pms170'!G2)","v":"2017-01-26"},{"$f":"IF(MOD(H2,2),'pms230'!E2,'pms170'!H2)","v":"2017-01-31"},{"$f":"IF(MOD(H2,2),'pms230'!F2,'pms170'!F2)","v":"61"},{"$f":"IF(MOD(H2,2),'pms230'!M2,'pms170'!A2)","v":"351010"},1]
[{"$f":"IF(MOD(H3,2),'pms230'!A3,'pms170'!D3)","v":"7150613"},{"$f":"IF(MOD(H3,2),'pms230'!B3,'pms170'!B3)","v":"F0442004"},{"$f":"IF(MOD(H3,2),'pms230'!C3,'pms170'!C3)","v":"ENS TABLETTE IAT INT"},{"$f":"IF(MOD(H3,2),'pms230'!D3,'pms170'!G3)","v":"2017-02-06"},{"$f":"IF(MOD(H3,2),'pms230'!E3,'pms170'!H3)","v":"2017-02-10"},{"$f":"IF(MOD(H3,2),'pms230'!F3,'pms170'!F3)","v":12},{"$f":"IF(MOD(H3,2),'pms230'!M3,'pms170'!A3)","v":"351000"},2]
[{"$f":"IF(MOD(H4,2),'pms230'!A4,'pms170'!D4)","v":"962138"},{"$f":"IF(MOD(H4,2),'pms230'!B4,'pms170'!B4)","v":"F370685"},{"$f":"IF(MOD(H4,2),'pms230'!C4,'pms170'!C4)","v":"ENS PORTE"},{"$f":"IF(MOD(H4,2),'pms230'!D4,'pms170'!G4)","v":"2017-01-30"},{"$f":"IF(MOD(H4,2),'pms230'!E4,'pms170'!H4)","v":"2017-01-30"},{"$f":"IF(MOD(H4,2),'pms230'!F4,'pms170'!F4)","v":"9"},{"$f":"IF(MOD(H4,2),'pms230'!M4,'pms170'!A4)","v":"351010"},3]
[{"$f":"IF(MOD(H5,2),'pms230'!A5,'pms170'!D5)","v":"6834622"},{"$f":"IF(MOD(H5,2),'pms230'!B5,'pms170'!B5)","v":"F0454771"},{"$f":"IF(MOD(H5,2),'pms230'!C5,'pms170'!C5)","v":"ENS SUPPORT TV D"},{"$f":"IF(MOD(H5,2),'pms230'!D5,'pms170'!G5)","v":"2017-02-14"},{"$f":"IF(MOD(H5,2),'pms230'!E5,'pms170'!H5)","v":"2017-02-16"},{"$f":"IF(MOD(H5,2),'pms230'!F5,'pms170'!F5)","v":5},{"$f":"IF(MOD(H5,2),'pms230'!M5,'pms170'!A5)","v":"351000"},4]
[{"$f":"IF(MOD(H6,2),'pms230'!A6,'pms170'!D6)","v":"961732"},{"$f":"IF(MOD(H6,2),'pms230'!B6,'pms170'!B6)","v":"F0476122"},{"$f":"IF(MOD(H6,2),'pms230'!C6,'pms170'!C6)","v":"ENS PLATEAU TABLETTE"},{"$f":"IF(MOD(H6,2),'pms230'!D6,'pms170'!G6)","v":"2017-01-31"},{"$f":"IF(MOD(H6,2),'pms230'!E6,'pms170'!H6)","v":"2017-01-31"},{"$f":"IF(MOD(H6,2),'pms230'!F6,'pms170'!F6)","v":"46"},{"$f":"IF(MOD(H6,2),'pms230'!M6,'pms170'!A6)","v":"351010"},5]
[{"$f":"IF(MOD(H7,2),'pms230'!A7,'pms170'!D7)","v":"7147353"},{"$f":"IF(MOD(H7,2),'pms230'!B7,'pms170'!B7)","v":"F0455793"},{"$f":"IF(MOD(H7,2),'pms230'!C7,'pms170'!C7)","v":"ENS SUPPORT TV G"},{"$f":"IF(MOD(H7,2),'pms230'!D7,'pms170'!G7)","v":"2017-02-03"},{"$f":"IF(MOD(H7,2),'pms230'!E7,'pms170'!H7)","v":"2017-02-07"},{"$f":"IF(MOD(H7,2),'pms230'!F7,'pms170'!F7)","v":13},{"$f":"IF(MOD(H7,2),'pms230'!M7,'pms170'!A7)","v":"351000"},6]
[{"$f":"IF(MOD(H8,2),'pms230'!A8,'pms170'!D8)","v":"962117"},{"$f":"IF(MOD(H8,2),'pms230'!B8,'pms170'!B8)","v":"FRETOUCRNCE1"},{"$f":"IF(MOD(H8,2),'pms230'!C8,'pms170'!C8)","v":"ARTICLE RETOUCHE RNC"},{"$f":"IF(MOD(H8,2),'pms230'!D8,'pms170'!G8)","v":"2017-02-01"},{"$f":"IF(MOD(H8,2),'pms230'!E8,'pms170'!H8)","v":"2017-02-01"},{"$f":"IF(MOD(H8,2),'pms230'!F8,'pms170'!F8)","v":"90"},{"$f":"IF(MOD(H8,2),'pms230'!M8,'pms170'!A8)","v":"351000"},7]
[{"$f":"IF(MOD(H9,2),'pms230'!A9,'pms170'!D9)","v":"6999038"},{"$f":"IF(MOD(H9,2),'pms230'!B9,'pms170'!B9)","v":"F0466132"},{"$f":"IF(MOD(H9,2),'pms230'!C9,'pms170'!C9)","v":"ENS TABLETTE DORSALE LGE"},{"$f":"IF(MOD(H9,2),'pms230'!D9,'pms170'!G9)","v":"2017-01-31"},{"$f":"IF(MOD(H9,2),'pms230'!E9,'pms170'!H9)","v":"2017-02-10"},{"$f":"IF(MOD(H9,2),'pms230'!F9,'pms170'!F9)","v":6},{"$f":"IF(MOD(H9,2),'pms230'!M9,'pms170'!A9)","v":"351000"},8]
[{"$f":"IF(MOD(H10,2),'pms230'!A10,'pms170'!D10)","v":"959606"},{"$f":"IF(MOD(H10,2),'pms230'!B10,'pms170'!B10)","v":"F0476122"},{"$f":"IF(MOD(H10,2),'pms230'!C10,'pms170'!C10)","v":"ENS PLATEAU TABLETTE"},{"$f":"IF(MOD(H10,2),'pms230'!D10,'pms170'!G10)","v":"2017-02-01"},{"$f":"IF(MOD(H10,2),'pms230'!E10,'pms170'!H10)","v":"2017-02-06"},{"$f":"IF(MOD(H10,2),'pms230'!F10,'pms170'!F10)","v":"50"},{"$f":"IF(MOD(H10,2),'pms230'!M10,'pms170'!A10)","v":"351010"},9]
[{"$f":"IF(MOD(H11,2),'pms230'!A11,'pms170'!D11)","v":"7057699"},{"$f":"IF(MOD(H11,2),'pms230'!B11,'pms170'!B11)","v":"F0482523"},{"$f":"IF(MOD(H11,2),'pms230'!C11,'pms170'!C11)","v":"ENS TABLETTE DORSALE STD"},{"$f":"IF(MOD(H11,2),'pms230'!D11,'pms170'!G11)","v":"2017-02-23"},{"$f":"IF(MOD(H11,2),'pms230'!E11,'pms170'!H11)","v":"2017-02-25"},{"$f":"IF(MOD(H11,2),'pms230'!F11,'pms170'!F11)","v":50},{"$f":"IF(MOD(H11,2),'pms230'!M11,'pms170'!A11)","v":"351000"},10]
[{"$f":"IF(MOD(H12,2),'pms230'!A12,'pms170'!D12)","v":"961066"},{"$f":"IF(MOD(H12,2),'pms230'!B12,'pms170'!B12)","v":"F0517739"},{"$f":"IF(MOD(H12,2),'pms230'!C12,'pms170'!C12)","v":"ENS TABLETTE DORSALE"},{"$f":"IF(MOD(H12,2),'pms230'!D12,'pms170'!G12)","v":"2017-02-01"},{"$f":"IF(MOD(H12,2),'pms230'!E12,'pms170'!H12)","v":"2017-02-01"},{"$f":"IF(MOD(H12,2),'pms230'!F12,'pms170'!F12)","v":"4"},{"$f":"IF(MOD(H12,2),'pms230'!M12,'pms170'!A12)","v":"351000"},11]
[{"$f":"IF(MOD(H13,2),'pms230'!A13,'pms170'!D13)","v":"7057703"},{"$f":"IF(MOD(H13,2),'pms230'!B13,'pms170'!B13)","v":"F0482523"},{"$f":"IF(MOD(H13,2),'pms230'!C13,'pms170'!C13)","v":"ENS TABLETTE DORSALE STD"},{"$f":"IF(MOD(H13,2),'pms230'!D13,'pms170'!G13)","v":"2017-02-23"},{"$f":"IF(MOD(H13,2),'pms230'!E13,'pms170'!H13)","v":"2017-02-25"},{"$f":"IF(MOD(H13,2),'pms230'!F13,'pms170'!F13)","v":22},{"$f":"IF(MOD(H13,2),'pms230'!M13,'pms170'!A13)","v":"351000"},12]
[{"$f":"IF(MOD(H14,2),'pms230'!A14,'pms170'!D14)","v":"959182"},{"$f":"IF(MOD(H14,2),'pms230'!B14,'pms170'!B14)","v":"F0492420"},{"$f":"IF(MOD(H14,2),'pms230'!C14,'pms170'!C14)","v":"ENS TABLETTE DORSALE"},{"$f":"IF(MOD(H14,2),'pms230'!D14,'pms170'!G14)","v":"2017-02-01"},{"$f":"IF(MOD(H14,2),'pms230'!E14,'pms170'!H14)","v":"2017-02-01"},{"$f":"IF(MOD(H14,2),'pms230'!F14,'pms170'!F14)","v":"13"},{"$f":"IF(MOD(H14,2),'pms230'!M14,'pms170'!A14)","v":"351000"},13]
[{"$f":"IF(MOD(H15,2),'pms230'!A15,'pms170'!D15)","v":"6830851"},{"$f":"IF(MOD(H15,2),'pms230'!B15,'pms170'!B15)","v":"F0500529"},{"$f":"IF(MOD(H15,2),'pms230'!C15,'pms170'!C15)","v":"ENS TABLETTE DORSALE 18\"1"},{"$f":"IF(MOD(H15,2),'pms230'!D15,'pms170'!G15)","v":"2017-02-07"},{"$f":"IF(MOD(H15,2),'pms230'!E15,'pms170'!H15)","v":"2017-02-09"},{"$f":"IF(MOD(H15,2),'pms230'!F15,'pms170'!F15)","v":1},{"$f":"IF(MOD(H15,2),'pms230'!M15,'pms170'!A15)","v":"351000"},14]
[{"$f":"IF(MOD(H16,2),'pms230'!A16,'pms170'!D16)","v":"942075"},{"$f":"IF(MOD(H16,2),'pms230'!B16,'pms170'!B16)","v":"F0512458"},{"$f":"IF(MOD(H16,2),'pms230'!C16,'pms170'!C16)","v":"ENS TABLETTE DORSALE"},{"$f":"IF(MOD(H16,2),'pms230'!D16,'pms170'!G16)","v":"2017-02-02"},{"$f":"IF(MOD(H16,2),'pms230'!E16,'pms170'!H16)","v":"2017-02-02"},{"$f":"IF(MOD(H16,2),'pms230'!F16,'pms170'!F16)","v":"5"},{"$f":"IF(MOD(H16,2),'pms230'!M16,'pms170'!A16)","v":"351000"},15]
[{"$f":"IF(MOD(H17,2),'pms230'!A17,'pms170'!D17)","v":"6998916"},{"$f":"IF(MOD(H17,2),'pms230'!B17,'pms170'!B17)","v":"F0503614"},{"$f":"IF(MOD(H17,2),'pms230'!C17,'pms170'!C17)","v":"ENS PLATEAU TABLETTE LGE"},{"$f":"IF(MOD(H17,2),'pms230'!D17,'pms170'!G17)","v":"2017-02-08"},{"$f":"IF(MOD(H17,2),'pms230'!E17,'pms170'!H17)","v":"2017-02-09"},{"$f":"IF(MOD(H17,2),'pms230'!F17,'pms170'!F17)","v":10},{"$f":"IF(MOD(H17,2),'pms230'!M17,'pms170'!A17)","v":"351000"},16]
[{"$f":"IF(MOD(H18,2),'pms230'!A18,'pms170'!D18)","v":"957702"},{"$f":"IF(MOD(H18,2),'pms230'!B18,'pms170'!B18)","v":"F0503364"},{"$f":"IF(MOD(H18,2),'pms230'!C18,'pms170'!C18)","v":"ENS TABLETTE DORSALE"},{"$f":"IF(MOD(H18,2),'pms230'!D18,'pms170'!G18)","v":"2017-02-02"},{"$f":"IF(MOD(H18,2),'pms230'!E18,'pms170'!H18)","v":"2017-02-02"},{"$f":"IF(MOD(H18,2),'pms230'!F18,'pms170'!F18)","v":"10"},{"$f":"IF(MOD(H18,2),'pms230'!M18,'pms170'!A18)","v":"351000"},17]
[{"$f":"IF(MOD(H19,2),'pms230'!A19,'pms170'!D19)","v":"7147908"},{"$f":"IF(MOD(H19,2),'pms230'!B19,'pms170'!B19)","v":"F0504759"},{"$f":"IF(MOD(H19,2),'pms230'!C19,'pms170'!C19)","v":"ENS TABLETTE STD"},{"$f":"IF(MOD(H19,2),'pms230'!D19,'pms170'!G19)","v":"2017-02-06"},{"$f":"IF(MOD(H19,2),'pms230'!E19,'pms170'!H19)","v":"2017-02-07"},{"$f":"IF(MOD(H19,2),'pms230'!F19,'pms170'!F19)","v":50},{"$f":"IF(MOD(H19,2),'pms230'!M19,'pms170'!A19)","v":"351000"},18]
[{"$f":"IF(MOD(H20,2),'pms230'!A20,'pms170'!D20)","v":"962066"},{"$f":"IF(MOD(H20,2),'pms230'!B20,'pms170'!B20)","v":"F332181P020"},{"$f":"IF(MOD(H20,2),'pms230'!C20,'pms170'!C20)","v":"H020 CAPOT INTERMEDI"},{"$f":"IF(MOD(H20,2),'pms230'!D20,'pms170'!G20)","v":"2017-02-02"},{"$f":"IF(MOD(H20,2),'pms230'!E20,'pms170'!H20)","v":"2017-02-02"},{"$f":"IF(MOD(H20,2),'pms230'!F20,'pms170'!F20)","v":"15"},{"$f":"IF(MOD(H20,2),'pms230'!M20,'pms170'!A20)","v":"351010"},19]
[{"$f":"IF(MOD(H21,2),'pms230'!A21,'pms170'!D21)","v":"7184472"},{"$f":"IF(MOD(H21,2),'pms230'!B21,'pms170'!B21)","v":"F0504759"},{"$f":"IF(MOD(H21,2),'pms230'!C21,'pms170'!C21)","v":"ENS TABLETTE STD"},{"$f":"IF(MOD(H21,2),'pms230'!D21,'pms170'!G21)","v":"2017-02-07"},{"$f":"IF(MOD(H21,2),'pms230'!E21,'pms170'!H21)","v":"2017-02-08"},{"$f":"IF(MOD(H21,2),'pms230'!F21,'pms170'!F21)","v":50},{"$f":"IF(MOD(H21,2),'pms230'!M21,'pms170'!A21)","v":"351000"},20]
[{"$f":"IF(MOD(H22,2),'pms230'!A22,'pms170'!D22)","v":"955912"},{"$f":"IF(MOD(H22,2),'pms230'!B22,'pms170'!B22)","v":"F0521253"},{"$f":"IF(MOD(H22,2),'pms230'!C22,'pms170'!C22)","v":"ENS TABLETTE DORSALE"},{"$f":"IF(MOD(H22,2),'pms230'!D22,'pms170'!G22)","v":"2017-02-03"},{"$f":"IF(MOD(H22,2),'pms230'!E22,'pms170'!H22)","v":"2017-02-03"},{"$f":"IF(MOD(H22,2),'pms230'!F22,'pms170'!F22)","v":"5"},{"$f":"IF(MOD(H22,2),'pms230'!M22,'pms170'!A22)","v":"351010"},21]
[{"$f":"IF(MOD(H23,2),'pms230'!A23,'pms170'!D23)","v":"6835753"},{"$f":"IF(MOD(H23,2),'pms230'!B23,'pms170'!B23)","v":"F0509487"},{"$f":"IF(MOD(H23,2),'pms230'!C23,'pms170'!C23)","v":"ENS TABLETTE DORSALE 17\"05"},{"$f":"IF(MOD(H23,2),'pms230'!D23,'pms170'!G23)","v":"2017-02-17"},{"$f":"IF(MOD(H23,2),'pms230'!E23,'pms170'!H23)","v":"2017-02-22"},{"$f":"IF(MOD(H23,2),'pms230'!F23,'pms170'!F23)","v":50},{"$f":"IF(MOD(H23,2),'pms230'!M23,'pms170'!A23)","v":"351000"},22]
[{"$f":"IF(MOD(H24,2),'pms230'!A24,'pms170'!D24)","v":"958418"},{"$f":"IF(MOD(H24,2),'pms230'!B24,'pms170'!B24)","v":"J2002053"},{"$f":"IF(MOD(H24,2),'pms230'!C24,'pms170'!C24)","v":"STOWAGE BIN RH"},{"$f":"IF(MOD(H24,2),'pms230'!D24,'pms170'!G24)","v":"2017-02-03"},{"$f":"IF(MOD(H24,2),'pms230'!E24,'pms170'!H24)","v":"2017-02-03"},{"$f":"IF(MOD(H24,2),'pms230'!F24,'pms170'!F24)","v":"12"},{"$f":"IF(MOD(H24,2),'pms230'!M24,'pms170'!A24)","v":"351020"},23]
[{"$f":"IF(MOD(H25,2),'pms230'!A25,'pms170'!D25)","v":"6835755"},{"$f":"IF(MOD(H25,2),'pms230'!B25,'pms170'!B25)","v":"F0509487"},{"$f":"IF(MOD(H25,2),'pms230'!C25,'pms170'!C25)","v":"ENS TABLETTE DORSALE 17\"05"},{"$f":"IF(MOD(H25,2),'pms230'!D25,'pms170'!G25)","v":"2017-02-17"},{"$f":"IF(MOD(H25,2),'pms230'!E25,'pms170'!H25)","v":"2017-02-22"},{"$f":"IF(MOD(H25,2),'pms230'!F25,'pms170'!F25)","v":26},{"$f":"IF(MOD(H25,2),'pms230'!M25,'pms170'!A25)","v":"351000"},24]
[{"$f":"IF(MOD(H26,2),'pms230'!A26,'pms170'!D26)","v":"958419"},{"$f":"IF(MOD(H26,2),'pms230'!B26,'pms170'!B26)","v":"J2002053"},{"$f":"IF(MOD(H26,2),'pms230'!C26,'pms170'!C26)","v":"STOWAGE BIN RH"},{"$f":"IF(MOD(H26,2),'pms230'!D26,'pms170'!G26)","v":"2017-02-03"},{"$f":"IF(MOD(H26,2),'pms230'!E26,'pms170'!H26)","v":"2017-02-03"},{"$f":"IF(MOD(H26,2),'pms230'!F26,'pms170'!F26)","v":"10"},{"$f":"IF(MOD(H26,2),'pms230'!M26,'pms170'!A26)","v":"351020"},25]
[{"$f":"IF(MOD(H27,2),'pms230'!A27,'pms170'!D27)","v":"6967584"},{"$f":"IF(MOD(H27,2),'pms230'!B27,'pms170'!B27)","v":"F0509487"},{"$f":"IF(MOD(H27,2),'pms230'!C27,'pms170'!C27)","v":"ENS TABLETTE DORSALE 17\"05"},{"$f":"IF(MOD(H27,2),'pms230'!D27,'pms170'!G27)","v":"2017-02-17"},{"$f":"IF(MOD(H27,2),'pms230'!E27,'pms170'!H27)","v":"2017-02-22"},{"$f":"IF(MOD(H27,2),'pms230'!F27,'pms170'!F27)","v":4},{"$f":"IF(MOD(H27,2),'pms230'!M27,'pms170'!A27)","v":"351000"},26]
[{"$f":"IF(MOD(H28,2),'pms230'!A28,'pms170'!D28)","v":"960093"},{"$f":"IF(MOD(H28,2),'pms230'!B28,'pms170'!B28)","v":"F0504759"},{"$f":"IF(MOD(H28,2),'pms230'!C28,'pms170'!C28)","v":"ENS TABLETTE STD"},{"$f":"IF(MOD(H28,2),'pms230'!D28,'pms170'!G28)","v":"2017-02-06"},{"$f":"IF(MOD(H28,2),'pms230'!E28,'pms170'!H28)","v":"2017-02-06"},{"$f":"IF(MOD(H28,2),'pms230'!F28,'pms170'!F28)","v":"45"},{"$f":"IF(MOD(H28,2),'pms230'!M28,'pms170'!A28)","v":"351000"},27]
[{"$f":"IF(MOD(H29,2),'pms230'!A29,'pms170'!D29)","v":"6481819"},{"$f":"IF(MOD(H29,2),'pms230'!B29,'pms170'!B29)","v":"F312301P022"},{"$f":"IF(MOD(H29,2),'pms230'!C29,'pms170'!C29)","v":"H022 PLATEAU TABLETTE"},{"$f":"IF(MOD(H29,2),'pms230'!D29,'pms170'!G29)","v":"2017-02-03"},{"$f":"IF(MOD(H29,2),'pms230'!E29,'pms170'!H29)","v":"2017-02-07"},{"$f":"IF(MOD(H29,2),'pms230'!F29,'pms170'!F29)","v":10},{"$f":"IF(MOD(H29,2),'pms230'!M29,'pms170'!A29)","v":"351000"},28]
[{"$f":"IF(MOD(H30,2),'pms230'!A30,'pms170'!D30)","v":"960008"},{"$f":"IF(MOD(H30,2),'pms230'!B30,'pms170'!B30)","v":"J2002129"},{"$f":"IF(MOD(H30,2),'pms230'!C30,'pms170'!C30)","v":"LINER ASSY LOW SEAT"},{"$f":"IF(MOD(H30,2),'pms230'!D30,'pms170'!G30)","v":"2017-02-06"},{"$f":"IF(MOD(H30,2),'pms230'!E30,'pms170'!H30)","v":"2017-02-06"},{"$f":"IF(MOD(H30,2),'pms230'!F30,'pms170'!F30)","v":"14"},{"$f":"IF(MOD(H30,2),'pms230'!M30,'pms170'!A30)","v":"351030"},29]
[{"$f":"IF(MOD(H31,2),'pms230'!A31,'pms170'!D31)","v":"6987615"},{"$f":"IF(MOD(H31,2),'pms230'!B31,'pms170'!B31)","v":"F363515"},{"$f":"IF(MOD(H31,2),'pms230'!C31,'pms170'!C31)","v":"PLATEAU DE TABLETTE 3517"},{"$f":"IF(MOD(H31,2),'pms230'!D31,'pms170'!G31)","v":"2017-01-27"},{"$f":"IF(MOD(H31,2),'pms230'!E31,'pms170'!H31)","v":"2017-01-31"},{"$f":"IF(MOD(H31,2),'pms230'!F31,'pms170'!F31)","v":3},{"$f":"IF(MOD(H31,2),'pms230'!M31,'pms170'!A31)","v":"351000"},30]
[{"$f":"IF(MOD(H32,2),'pms230'!A32,'pms170'!D32)","v":"960099"},{"$f":"IF(MOD(H32,2),'pms230'!B32,'pms170'!B32)","v":"F0447749"},{"$f":"IF(MOD(H32,2),'pms230'!C32,'pms170'!C32)","v":"CAPOT INF EQ"},{"$f":"IF(MOD(H32,2),'pms230'!D32,'pms170'!G32)","v":"2017-02-06"},{"$f":"IF(MOD(H32,2),'pms230'!E32,'pms170'!H32)","v":"2017-02-06"},{"$f":"IF(MOD(H32,2),'pms230'!F32,'pms170'!F32)","v":"29"},{"$f":"IF(MOD(H32,2),'pms230'!M32,'pms170'!A32)","v":"351060"},31]
[{"$f":"IF(MOD(H33,2),'pms230'!A33,'pms170'!D33)","v":"5721673"},{"$f":"IF(MOD(H33,2),'pms230'!B33,'pms170'!B33)","v":"F020771P070"},{"$f":"IF(MOD(H33,2),'pms230'!C33,'pms170'!C33)","v":"H070 JONC AVANT"},{"$f":"IF(MOD(H33,2),'pms230'!D33,'pms170'!G33)","v":"2017-02-14"},{"$f":"IF(MOD(H33,2),'pms230'!E33,'pms170'!H33)","v":"2017-02-15"},{"$f":"IF(MOD(H33,2),'pms230'!F33,'pms170'!F33)","v":2},{"$f":"IF(MOD(H33,2),'pms230'!M33,'pms170'!A33)","v":"351010"},32]
[{"$f":"IF(MOD(H34,2),'pms230'!A34,'pms170'!D34)","v":"961523"},{"$f":"IF(MOD(H34,2),'pms230'!B34,'pms170'!B34)","v":"J2001707"},{"$f":"IF(MOD(H34,2),'pms230'!C34,'pms170'!C34)","v":"DOUBLER CLOSEOUT SID"},{"$f":"IF(MOD(H34,2),'pms230'!D34,'pms170'!G34)","v":"2017-02-07"},{"$f":"IF(MOD(H34,2),'pms230'!E34,'pms170'!H34)","v":"2017-02-07"},{"$f":"IF(MOD(H34,2),'pms230'!F34,'pms170'!F34)","v":"4"},{"$f":"IF(MOD(H34,2),'pms230'!M34,'pms170'!A34)","v":"351010"},33]
[{"$f":"IF(MOD(H35,2),'pms230'!A35,'pms170'!D35)","v":"7126622"},{"$f":"IF(MOD(H35,2),'pms230'!B35,'pms170'!B35)","v":"F0407802"},{"$f":"IF(MOD(H35,2),'pms230'!C35,'pms170'!C35)","v":"CAPOT DESSOUS MANCHETTE G"},{"$f":"IF(MOD(H35,2),'pms230'!D35,'pms170'!G35)","v":"2017-01-30"},{"$f":"IF(MOD(H35,2),'pms230'!E35,'pms170'!H35)","v":"2017-01-30"},{"$f":"IF(MOD(H35,2),'pms230'!F35,'pms170'!F35)","v":1},{"$f":"IF(MOD(H35,2),'pms230'!M35,'pms170'!A35)","v":"351010"},34]
[{"$f":"IF(MOD(H36,2),'pms230'!A36,'pms170'!D36)","v":"962134"},{"$f":"IF(MOD(H36,2),'pms230'!B36,'pms170'!B36)","v":"F19Z0D0060S1"},{"$f":"IF(MOD(H36,2),'pms230'!C36,'pms170'!C36)","v":"DEMI RANGE GILET SUP"},{"$f":"IF(MOD(H36,2),'pms230'!D36,'pms170'!G36)","v":"2017-02-07"},{"$f":"IF(MOD(H36,2),'pms230'!E36,'pms170'!H36)","v":"2017-02-07"},{"$f":"IF(MOD(H36,2),'pms230'!F36,'pms170'!F36)","v":"7"},{"$f":"IF(MOD(H36,2),'pms230'!M36,'pms170'!A36)","v":"351010"},35]
[{"$f":"IF(MOD(H37,2),'pms230'!A37,'pms170'!D37)","v":"6631544"},{"$f":"IF(MOD(H37,2),'pms230'!B37,'pms170'!B37)","v":"F0433016"},{"$f":"IF(MOD(H37,2),'pms230'!C37,'pms170'!C37)","v":"ENS TABLETTE DORSALE 4XRDT"},{"$f":"IF(MOD(H37,2),'pms230'!D37,'pms170'!G37)","v":"2017-02-02"},{"$f":"IF(MOD(H37,2),'pms230'!E37,'pms170'!H37)","v":"2017-02-06"},{"$f":"IF(MOD(H37,2),'pms230'!F37,'pms170'!F37)","v":3},{"$f":"IF(MOD(H37,2),'pms230'!M37,'pms170'!A37)","v":"351010"},36]
[{"$f":"IF(MOD(H38,2),'pms230'!A38,'pms170'!D38)","v":"962090"},{"$f":"IF(MOD(H38,2),'pms230'!B38,'pms170'!B38)","v":"F0440131"},{"$f":"IF(MOD(H38,2),'pms230'!C38,'pms170'!C38)","v":"CAPOT INT IAT"},{"$f":"IF(MOD(H38,2),'pms230'!D38,'pms170'!G38)","v":"2017-02-07"},{"$f":"IF(MOD(H38,2),'pms230'!E38,'pms170'!H38)","v":"2017-02-07"},{"$f":"IF(MOD(H38,2),'pms230'!F38,'pms170'!F38)","v":"5"},{"$f":"IF(MOD(H38,2),'pms230'!M38,'pms170'!A38)","v":"351010"},37]
[{"$f":"IF(MOD(H39,2),'pms230'!A39,'pms170'!D39)","v":"7155619"},{"$f":"IF(MOD(H39,2),'pms230'!B39,'pms170'!B39)","v":"F0433272"},{"$f":"IF(MOD(H39,2),'pms230'!C39,'pms170'!C39)","v":"CAPOT FLANC IAT"},{"$f":"IF(MOD(H39,2),'pms230'!D39,'pms170'!G39)","v":"2017-02-09"},{"$f":"IF(MOD(H39,2),'pms230'!E39,'pms170'!H39)","v":"2017-02-09"},{"$f":"IF(MOD(H39,2),'pms230'!F39,'pms170'!F39)","v":8},{"$f":"IF(MOD(H39,2),'pms230'!M39,'pms170'!A39)","v":"351010"},38]
[{"$f":"IF(MOD(H40,2),'pms230'!A40,'pms170'!D40)","v":"962078"},{"$f":"IF(MOD(H40,2),'pms230'!B40,'pms170'!B40)","v":"F0484891"},{"$f":"IF(MOD(H40,2),'pms230'!C40,'pms170'!C40)","v":"ENS. CAPOT USB"},{"$f":"IF(MOD(H40,2),'pms230'!D40,'pms170'!G40)","v":"2017-02-07"},{"$f":"IF(MOD(H40,2),'pms230'!E40,'pms170'!H40)","v":"2017-02-07"},{"$f":"IF(MOD(H40,2),'pms230'!F40,'pms170'!F40)","v":"10"},{"$f":"IF(MOD(H40,2),'pms230'!M40,'pms170'!A40)","v":"351060"},39]
[{"$f":"IF(MOD(H41,2),'pms230'!A41,'pms170'!D41)","v":"7010586"},{"$f":"IF(MOD(H41,2),'pms230'!B41,'pms170'!B41)","v":"F0437983"},{"$f":"IF(MOD(H41,2),'pms230'!C41,'pms170'!C41)","v":"CAPOT CROSSE D"},{"$f":"IF(MOD(H41,2),'pms230'!D41,'pms170'!G41)","v":"2017-02-10"},{"$f":"IF(MOD(H41,2),'pms230'!E41,'pms170'!H41)","v":"2017-02-10"},{"$f":"IF(MOD(H41,2),'pms230'!F41,'pms170'!F41)","v":1},{"$f":"IF(MOD(H41,2),'pms230'!M41,'pms170'!A41)","v":"351010"},40]
[{"$f":"IF(MOD(H42,2),'pms230'!A42,'pms170'!D42)","v":"959229"},{"$f":"IF(MOD(H42,2),'pms230'!B42,'pms170'!B42)","v":"F337473"},{"$f":"IF(MOD(H42,2),'pms230'!C42,'pms170'!C42)","v":"REMPLISSAGE"},{"$f":"IF(MOD(H42,2),'pms230'!D42,'pms170'!G42)","v":"2017-02-07"},{"$f":"IF(MOD(H42,2),'pms230'!E42,'pms170'!H42)","v":"2017-02-07"},{"$f":"IF(MOD(H42,2),'pms230'!F42,'pms170'!F42)","v":"45"},{"$f":"IF(MOD(H42,2),'pms230'!M42,'pms170'!A42)","v":"351015"},41]
[{"$f":"IF(MOD(H43,2),'pms230'!A43,'pms170'!D43)","v":"7241475"},{"$f":"IF(MOD(H43,2),'pms230'!B43,'pms170'!B43)","v":"F0439787"},{"$f":"IF(MOD(H43,2),'pms230'!C43,'pms170'!C43)","v":"CACHE POUTRE EQ"},{"$f":"IF(MOD(H43,2),'pms230'!D43,'pms170'!G43)","v":"2017-02-06"},{"$f":"IF(MOD(H43,2),'pms230'!E43,'pms170'!H43)","v":"2017-02-07"},{"$f":"IF(MOD(H43,2),'pms230'!F43,'pms170'!F43)","v":5},{"$f":"IF(MOD(H43,2),'pms230'!M43,'pms170'!A43)","v":"351010"},42]
[{"$f":"IF(MOD(H44,2),'pms230'!A44,'pms170'!D44)","v":"962205"},{"$f":"IF(MOD(H44,2),'pms230'!B44,'pms170'!B44)","v":"F0455794"},{"$f":"IF(MOD(H44,2),'pms230'!C44,'pms170'!C44)","v":"ENS SUPPORT TV TRONQ"},{"$f":"IF(MOD(H44,2),'pms230'!D44,'pms170'!G44)","v":"2017-02-08"},{"$f":"IF(MOD(H44,2),'pms230'!E44,'pms170'!H44)","v":"2017-02-08"},{"$f":"IF(MOD(H44,2),'pms230'!F44,'pms170'!F44)","v":"5"},{"$f":"IF(MOD(H44,2),'pms230'!M44,'pms170'!A44)","v":"351010"},43]
[{"$f":"IF(MOD(H45,2),'pms230'!A45,'pms170'!D45)","v":"7118816"},{"$f":"IF(MOD(H45,2),'pms230'!B45,'pms170'!B45)","v":"F0439895"},{"$f":"IF(MOD(H45,2),'pms230'!C45,'pms170'!C45)","v":"CONTRE CAPOT"},{"$f":"IF(MOD(H45,2),'pms230'!D45,'pms170'!G45)","v":"2017-01-31"},{"$f":"IF(MOD(H45,2),'pms230'!E45,'pms170'!H45)","v":"2017-02-01"},{"$f":"IF(MOD(H45,2),'pms230'!F45,'pms170'!F45)","v":5},{"$f":"IF(MOD(H45,2),'pms230'!M45,'pms170'!A45)","v":"351010"},44]
[{"$f":"IF(MOD(H46,2),'pms230'!A46,'pms170'!D46)","v":"961884"},{"$f":"IF(MOD(H46,2),'pms230'!B46,'pms170'!B46)","v":"F0518020"},{"$f":"IF(MOD(H46,2),'pms230'!C46,'pms170'!C46)","v":"ENS TABLETTE DORSALE"},{"$f":"IF(MOD(H46,2),'pms230'!D46,'pms170'!G46)","v":"2017-02-08"},{"$f":"IF(MOD(H46,2),'pms230'!E46,'pms170'!H46)","v":"2017-02-08"},{"$f":"IF(MOD(H46,2),'pms230'!F46,'pms170'!F46)","v":"27"},{"$f":"IF(MOD(H46,2),'pms230'!M46,'pms170'!A46)","v":"351010"},45]
[{"$f":"IF(MOD(H47,2),'pms230'!A47,'pms170'!D47)","v":"7150595"},{"$f":"IF(MOD(H47,2),'pms230'!B47,'pms170'!B47)","v":"F0442001"},{"$f":"IF(MOD(H47,2),'pms230'!C47,'pms170'!C47)","v":"ENS TABLETTE IAT EXT"},{"$f":"IF(MOD(H47,2),'pms230'!D47,'pms170'!G47)","v":"2017-02-08"},{"$f":"IF(MOD(H47,2),'pms230'!E47,'pms170'!H47)","v":"2017-02-11"},{"$f":"IF(MOD(H47,2),'pms230'!F47,'pms170'!F47)","v":17},{"$f":"IF(MOD(H47,2),'pms230'!M47,'pms170'!A47)","v":"351010"},46]
[{"$f":"IF(MOD(H48,2),'pms230'!A48,'pms170'!D48)","v":"962092"},{"$f":"IF(MOD(H48,2),'pms230'!B48,'pms170'!B48)","v":"F0441539"},{"$f":"IF(MOD(H48,2),'pms230'!C48,'pms170'!C48)","v":"CAPOT INTERIEUR FIXE"},{"$f":"IF(MOD(H48,2),'pms230'!D48,'pms170'!G48)","v":"2017-02-08"},{"$f":"IF(MOD(H48,2),'pms230'!E48,'pms170'!H48)","v":"2017-02-08"},{"$f":"IF(MOD(H48,2),'pms230'!F48,'pms170'!F48)","v":"11"},{"$f":"IF(MOD(H48,2),'pms230'!M48,'pms170'!A48)","v":"351010"},47]
[{"$f":"IF(MOD(H49,2),'pms230'!A49,'pms170'!D49)","v":"6653051"},{"$f":"IF(MOD(H49,2),'pms230'!B49,'pms170'!B49)","v":"F0454452"},{"$f":"IF(MOD(H49,2),'pms230'!C49,'pms170'!C49)","v":"ENS TABLETTE IAT"},{"$f":"IF(MOD(H49,2),'pms230'!D49,'pms170'!G49)","v":"2017-02-09"},{"$f":"IF(MOD(H49,2),'pms230'!E49,'pms170'!H49)","v":"2017-02-12"},{"$f":"IF(MOD(H49,2),'pms230'!F49,'pms170'!F49)","v":3},{"$f":"IF(MOD(H49,2),'pms230'!M49,'pms170'!A49)","v":"351010"},48]
[{"$f":"IF(MOD(H50,2),'pms230'!A50,'pms170'!D50)","v":"962136"},{"$f":"IF(MOD(H50,2),'pms230'!B50,'pms170'!B50)","v":"F303918P108"},{"$f":"IF(MOD(H50,2),'pms230'!C50,'pms170'!C50)","v":"H108 CAPOT CACHE ASS"},{"$f":"IF(MOD(H50,2),'pms230'!D50,'pms170'!G50)","v":"2017-02-08"},{"$f":"IF(MOD(H50,2),'pms230'!E50,'pms170'!H50)","v":"2017-02-08"},{"$f":"IF(MOD(H50,2),'pms230'!F50,'pms170'!F50)","v":"8"},{"$f":"IF(MOD(H50,2),'pms230'!M50,'pms170'!A50)","v":"351010"},49]
[{"$f":"IF(MOD(H51,2),'pms230'!A51,'pms170'!D51)","v":"7237922"},{"$f":"IF(MOD(H51,2),'pms230'!B51,'pms170'!B51)","v":"F0458831"},{"$f":"IF(MOD(H51,2),'pms230'!C51,'pms170'!C51)","v":"CAPOT"},{"$f":"IF(MOD(H51,2),'pms230'!D51,'pms170'!G51)","v":"2017-02-09"},{"$f":"IF(MOD(H51,2),'pms230'!E51,'pms170'!H51)","v":"2017-02-09"},{"$f":"IF(MOD(H51,2),'pms230'!F51,'pms170'!F51)","v":1},{"$f":"IF(MOD(H51,2),'pms230'!M51,'pms170'!A51)","v":"351010"},50]
[{"$f":"IF(MOD(H52,2),'pms230'!A52,'pms170'!D52)","v":"962089"},{"$f":"IF(MOD(H52,2),'pms230'!B52,'pms170'!B52)","v":"F0440124"},{"$f":"IF(MOD(H52,2),'pms230'!C52,'pms170'!C52)","v":"CAPOT FLANC G IAT"},{"$f":"IF(MOD(H52,2),'pms230'!D52,'pms170'!G52)","v":"2017-02-08"},{"$f":"IF(MOD(H52,2),'pms230'!E52,'pms170'!H52)","v":"2017-02-08"},{"$f":"IF(MOD(H52,2),'pms230'!F52,'pms170'!F52)","v":"3"},{"$f":"IF(MOD(H52,2),'pms230'!M52,'pms170'!A52)","v":"351010"},51]
[{"$f":"IF(MOD(H53,2),'pms230'!A53,'pms170'!D53)","v":"7212120"},{"$f":"IF(MOD(H53,2),'pms230'!B53,'pms170'!B53)","v":"F0458845"},{"$f":"IF(MOD(H53,2),'pms230'!C53,'pms170'!C53)","v":"CONTRE CAPOT"},{"$f":"IF(MOD(H53,2),'pms230'!D53,'pms170'!G53)","v":"2017-02-08"},{"$f":"IF(MOD(H53,2),'pms230'!E53,'pms170'!H53)","v":"2017-02-09"},{"$f":"IF(MOD(H53,2),'pms230'!F53,'pms170'!F53)","v":1},{"$f":"IF(MOD(H53,2),'pms230'!M53,'pms170'!A53)","v":"351010"},52]
[{"$f":"IF(MOD(H54,2),'pms230'!A54,'pms170'!D54)","v":"960146"},{"$f":"IF(MOD(H54,2),'pms230'!B54,'pms170'!B54)","v":"F0508971"},{"$f":"IF(MOD(H54,2),'pms230'!C54,'pms170'!C54)","v":"ENS RENFORT KICK PAN"},{"$f":"IF(MOD(H54,2),'pms230'!D54,'pms170'!G54)","v":"2017-02-08"},{"$f":"IF(MOD(H54,2),'pms230'!E54,'pms170'!H54)","v":"2017-02-08"},{"$f":"IF(MOD(H54,2),'pms230'!F54,'pms170'!F54)","v":"21"},{"$f":"IF(MOD(H54,2),'pms230'!M54,'pms170'!A54)","v":"351010"},53]
[{"$f":"IF(MOD(H55,2),'pms230'!A55,'pms170'!D55)","v":"7241658"},{"$f":"IF(MOD(H55,2),'pms230'!B55,'pms170'!B55)","v":"F0460362"},{"$f":"IF(MOD(H55,2),'pms230'!C55,'pms170'!C55)","v":"STRUCTURE MANCHETTE"},{"$f":"IF(MOD(H55,2),'pms230'!D55,'pms170'!G55)","v":"2017-02-08"},{"$f":"IF(MOD(H55,2),'pms230'!E55,'pms170'!H55)","v":"2017-02-08"},{"$f":"IF(MOD(H55,2),'pms230'!F55,'pms170'!F55)","v":1},{"$f":"IF(MOD(H55,2),'pms230'!M55,'pms170'!A55)","v":"351010"},54]
[{"$f":"IF(MOD(H56,2),'pms230'!A56,'pms170'!D56)","v":"962144"},{"$f":"IF(MOD(H56,2),'pms230'!B56,'pms170'!B56)","v":"F0454846"},{"$f":"IF(MOD(H56,2),'pms230'!C56,'pms170'!C56)","v":"PORTE GAUCHE IAT EQ"},{"$f":"IF(MOD(H56,2),'pms230'!D56,'pms170'!G56)","v":"2017-02-08"},{"$f":"IF(MOD(H56,2),'pms230'!E56,'pms170'!H56)","v":"2017-02-08"},{"$f":"IF(MOD(H56,2),'pms230'!F56,'pms170'!F56)","v":"2"},{"$f":"IF(MOD(H56,2),'pms230'!M56,'pms170'!A56)","v":"351060"},55]
[{"$f":"IF(MOD(H57,2),'pms230'!A57,'pms170'!D57)","v":"6977595"},{"$f":"IF(MOD(H57,2),'pms230'!B57,'pms170'!B57)","v":"F0464410"},{"$f":"IF(MOD(H57,2),'pms230'!C57,'pms170'!C57)","v":"CAPOT SUP EQ"},{"$f":"IF(MOD(H57,2),'pms230'!D57,'pms170'!G57)","v":"2017-01-27"},{"$f":"IF(MOD(H57,2),'pms230'!E57,'pms170'!H57)","v":"2017-01-30"},{"$f":"IF(MOD(H57,2),'pms230'!F57,'pms170'!F57)","v":25},{"$f":"IF(MOD(H57,2),'pms230'!M57,'pms170'!A57)","v":"351010"},56]
[{"$f":"IF(MOD(H58,2),'pms230'!A58,'pms170'!D58)","v":"962251"},{"$f":"IF(MOD(H58,2),'pms230'!B58,'pms170'!B58)","v":"F0439976"},{"$f":"IF(MOD(H58,2),'pms230'!C58,'pms170'!C58)","v":"REMPLISSAGE TAB BASS"},{"$f":"IF(MOD(H58,2),'pms230'!D58,'pms170'!G58)","v":"2017-02-08"},{"$f":"IF(MOD(H58,2),'pms230'!E58,'pms170'!H58)","v":"2017-02-08"},{"$f":"IF(MOD(H58,2),'pms230'!F58,'pms170'!F58)","v":"50"},{"$f":"IF(MOD(H58,2),'pms230'!M58,'pms170'!A58)","v":"351015"},57]
[{"$f":"IF(MOD(H59,2),'pms230'!A59,'pms170'!D59)","v":"7110010"},{"$f":"IF(MOD(H59,2),'pms230'!B59,'pms170'!B59)","v":"F0476122"},{"$f":"IF(MOD(H59,2),'pms230'!C59,'pms170'!C59)","v":"ENS PLATEAU TABLETTE DORSALE"},{"$f":"IF(MOD(H59,2),'pms230'!D59,'pms170'!G59)","v":"2017-02-02"},{"$f":"IF(MOD(H59,2),'pms230'!E59,'pms170'!H59)","v":"2017-02-10"},{"$f":"IF(MOD(H59,2),'pms230'!F59,'pms170'!F59)","v":5},{"$f":"IF(MOD(H59,2),'pms230'!M59,'pms170'!A59)","v":"351010"},58]
[{"$f":"IF(MOD(H60,2),'pms230'!A60,'pms170'!D60)","v":"962253"},{"$f":"IF(MOD(H60,2),'pms230'!B60,'pms170'!B60)","v":"F0439976"},{"$f":"IF(MOD(H60,2),'pms230'!C60,'pms170'!C60)","v":"REMPLISSAGE TAB BASS"},{"$f":"IF(MOD(H60,2),'pms230'!D60,'pms170'!G60)","v":"2017-02-08"},{"$f":"IF(MOD(H60,2),'pms230'!E60,'pms170'!H60)","v":"2017-02-08"},{"$f":"IF(MOD(H60,2),'pms230'!F60,'pms170'!F60)","v":"50"},{"$f":"IF(MOD(H60,2),'pms230'!M60,'pms170'!A60)","v":"351015"},59]
[{"$f":"IF(MOD(H61,2),'pms230'!A61,'pms170'!D61)","v":"7110013"},{"$f":"IF(MOD(H61,2),'pms230'!B61,'pms170'!B61)","v":"F0476122"},{"$f":"IF(MOD(H61,2),'pms230'!C61,'pms170'!C61)","v":"ENS PLATEAU TABLETTE DORSALE"},{"$f":"IF(MOD(H61,2),'pms230'!D61,'pms170'!G61)","v":"2017-02-07"},{"$f":"IF(MOD(H61,2),'pms230'!E61,'pms170'!H61)","v":"2017-02-15"},{"$f":"IF(MOD(H61,2),'pms230'!F61,'pms170'!F61)","v":50},{"$f":"IF(MOD(H61,2),'pms230'!M61,'pms170'!A61)","v":"351010"},60]
[{"$f":"IF(MOD(H62,2),'pms230'!A62,'pms170'!D62)","v":"962225"},{"$f":"IF(MOD(H62,2),'pms230'!B62,'pms170'!B62)","v":"F0455792"},{"$f":"IF(MOD(H62,2),'pms230'!C62,'pms170'!C62)","v":"ENS SUPPORT TV D"},{"$f":"IF(MOD(H62,2),'pms230'!D62,'pms170'!G62)","v":"2017-02-09"},{"$f":"IF(MOD(H62,2),'pms230'!E62,'pms170'!H62)","v":"2017-02-09"},{"$f":"IF(MOD(H62,2),'pms230'!F62,'pms170'!F62)","v":"10"},{"$f":"IF(MOD(H62,2),'pms230'!M62,'pms170'!A62)","v":"351000"},61]
[{"$f":"IF(MOD(H63,2),'pms230'!A63,'pms170'!D63)","v":"7238136"},{"$f":"IF(MOD(H63,2),'pms230'!B63,'pms170'!B63)","v":"F0476122"},{"$f":"IF(MOD(H63,2),'pms230'!C63,'pms170'!C63)","v":"ENS PLATEAU TABLETTE DORSALE"},{"$f":"IF(MOD(H63,2),'pms230'!D63,'pms170'!G63)","v":"2017-02-08"},{"$f":"IF(MOD(H63,2),'pms230'!E63,'pms170'!H63)","v":"2017-02-16"},{"$f":"IF(MOD(H63,2),'pms230'!F63,'pms170'!F63)","v":50},{"$f":"IF(MOD(H63,2),'pms230'!M63,'pms170'!A63)","v":"351010"},62]
[{"$f":"IF(MOD(H64,2),'pms230'!A64,'pms170'!D64)","v":"962228"},{"$f":"IF(MOD(H64,2),'pms230'!B64,'pms170'!B64)","v":"F0455792"},{"$f":"IF(MOD(H64,2),'pms230'!C64,'pms170'!C64)","v":"ENS SUPPORT TV D"},{"$f":"IF(MOD(H64,2),'pms230'!D64,'pms170'!G64)","v":"2017-02-09"},{"$f":"IF(MOD(H64,2),'pms230'!E64,'pms170'!H64)","v":"2017-02-09"},{"$f":"IF(MOD(H64,2),'pms230'!F64,'pms170'!F64)","v":"10"},{"$f":"IF(MOD(H64,2),'pms230'!M64,'pms170'!A64)","v":"351000"},63]
[{"$f":"IF(MOD(H65,2),'pms230'!A65,'pms170'!D65)","v":"7238138"},{"$f":"IF(MOD(H65,2),'pms230'!B65,'pms170'!B65)","v":"F0476122"},{"$f":"IF(MOD(H65,2),'pms230'!C65,'pms170'!C65)","v":"ENS PLATEAU TABLETTE DORSALE"},{"$f":"IF(MOD(H65,2),'pms230'!D65,'pms170'!G65)","v":"2017-02-08"},{"$f":"IF(MOD(H65,2),'pms230'!E65,'pms170'!H65)","v":"2017-02-16"},{"$f":"IF(MOD(H65,2),'pms230'!F65,'pms170'!F65)","v":48},{"$f":"IF(MOD(H65,2),'pms230'!M65,'pms170'!A65)","v":"351010"},64]
[{"$f":"IF(MOD(H66,2),'pms230'!A66,'pms170'!D66)","v":"962103"},{"$f":"IF(MOD(H66,2),'pms230'!B66,'pms170'!B66)","v":"F0440199"},{"$f":"IF(MOD(H66,2),'pms230'!C66,'pms170'!C66)","v":"TABLETTE COCKTAIL D"},{"$f":"IF(MOD(H66,2),'pms230'!D66,'pms170'!G66)","v":"2017-02-09"},{"$f":"IF(MOD(H66,2),'pms230'!E66,'pms170'!H66)","v":"2017-02-09"},{"$f":"IF(MOD(H66,2),'pms230'!F66,'pms170'!F66)","v":"10"},{"$f":"IF(MOD(H66,2),'pms230'!M66,'pms170'!A66)","v":"351000"},65]
[{"$f":"IF(MOD(H67,2),'pms230'!A67,'pms170'!D67)","v":"7156415"},{"$f":"IF(MOD(H67,2),'pms230'!B67,'pms170'!B67)","v":"F0484883"},{"$f":"IF(MOD(H67,2),'pms230'!C67,'pms170'!C67)","v":"CAPOT USB"},{"$f":"IF(MOD(H67,2),'pms230'!D67,'pms170'!G67)","v":"2017-02-03"},{"$f":"IF(MOD(H67,2),'pms230'!E67,'pms170'!H67)","v":"2017-02-06"},{"$f":"IF(MOD(H67,2),'pms230'!F67,'pms170'!F67)","v":2},{"$f":"IF(MOD(H67,2),'pms230'!M67,'pms170'!A67)","v":"351010"},66]
[{"$f":"IF(MOD(H68,2),'pms230'!A68,'pms170'!D68)","v":"961517"},{"$f":"IF(MOD(H68,2),'pms230'!B68,'pms170'!B68)","v":"J2001036"},{"$f":"IF(MOD(H68,2),'pms230'!C68,'pms170'!C68)","v":"FAIRING FRONT TOP"},{"$f":"IF(MOD(H68,2),'pms230'!D68,'pms170'!G68)","v":"2017-02-09"},{"$f":"IF(MOD(H68,2),'pms230'!E68,'pms170'!H68)","v":"2017-02-09"},{"$f":"IF(MOD(H68,2),'pms230'!F68,'pms170'!F68)","v":"3"},{"$f":"IF(MOD(H68,2),'pms230'!M68,'pms170'!A68)","v":"351020"},67]
[{"$f":"IF(MOD(H69,2),'pms230'!A69,'pms170'!D69)","v":"7123465"},{"$f":"IF(MOD(H69,2),'pms230'!B69,'pms170'!B69)","v":"F0488548"},{"$f":"IF(MOD(H69,2),'pms230'!C69,'pms170'!C69)","v":"CAPOT AR CROSSE PAROI"},{"$f":"IF(MOD(H69,2),'pms230'!D69,'pms170'!G69)","v":"2017-01-26"},{"$f":"IF(MOD(H69,2),'pms230'!E69,'pms170'!H69)","v":"2017-01-26"},{"$f":"IF(MOD(H69,2),'pms230'!F69,'pms170'!F69)","v":4},{"$f":"IF(MOD(H69,2),'pms230'!M69,'pms170'!A69)","v":"351010"},68]
[{"$f":"IF(MOD(H70,2),'pms230'!A70,'pms170'!D70)","v":"957935"},{"$f":"IF(MOD(H70,2),'pms230'!B70,'pms170'!B70)","v":"F0439977"},{"$f":"IF(MOD(H70,2),'pms230'!C70,'pms170'!C70)","v":"PLATEAU TAB BASSE L3"},{"$f":"IF(MOD(H70,2),'pms230'!D70,'pms170'!G70)","v":"2017-02-09"},{"$f":"IF(MOD(H70,2),'pms230'!E70,'pms170'!H70)","v":"2017-02-09"},{"$f":"IF(MOD(H70,2),'pms230'!F70,'pms170'!F70)","v":"46"},{"$f":"IF(MOD(H70,2),'pms230'!M70,'pms170'!A70)","v":"351000"},69]
[{"$f":"IF(MOD(H71,2),'pms230'!A71,'pms170'!D71)","v":"6749937"},{"$f":"IF(MOD(H71,2),'pms230'!B71,'pms170'!B71)","v":"F0493742"},{"$f":"IF(MOD(H71,2),'pms230'!C71,'pms170'!C71)","v":" ENS TABLETTE DORSALE LGE"},{"$f":"IF(MOD(H71,2),'pms230'!D71,'pms170'!G71)","v":"2017-02-13"},{"$f":"IF(MOD(H71,2),'pms230'!E71,'pms170'!H71)","v":"2017-02-23"},{"$f":"IF(MOD(H71,2),'pms230'!F71,'pms170'!F71)","v":50},{"$f":"IF(MOD(H71,2),'pms230'!M71,'pms170'!A71)","v":"351010"},70]
[{"$f":"IF(MOD(H72,2),'pms230'!A72,'pms170'!D72)","v":"961491"},{"$f":"IF(MOD(H72,2),'pms230'!B72,'pms170'!B72)","v":"F0440244"},{"$f":"IF(MOD(H72,2),'pms230'!C72,'pms170'!C72)","v":"CAPOT RENFORT EQ"},{"$f":"IF(MOD(H72,2),'pms230'!D72,'pms170'!G72)","v":"2017-02-09"},{"$f":"IF(MOD(H72,2),'pms230'!E72,'pms170'!H72)","v":"2017-02-09"},{"$f":"IF(MOD(H72,2),'pms230'!F72,'pms170'!F72)","v":"39"},{"$f":"IF(MOD(H72,2),'pms230'!M72,'pms170'!A72)","v":"351010"},71]
[{"$f":"IF(MOD(H73,2),'pms230'!A73,'pms170'!D73)","v":"6841473"},{"$f":"IF(MOD(H73,2),'pms230'!B73,'pms170'!B73)","v":"F0493742"},{"$f":"IF(MOD(H73,2),'pms230'!C73,'pms170'!C73)","v":" ENS TABLETTE DORSALE LGE"},{"$f":"IF(MOD(H73,2),'pms230'!D73,'pms170'!G73)","v":"2017-02-13"},{"$f":"IF(MOD(H73,2),'pms230'!E73,'pms170'!H73)","v":"2017-02-23"},{"$f":"IF(MOD(H73,2),'pms230'!F73,'pms170'!F73)","v":50},{"$f":"IF(MOD(H73,2),'pms230'!M73,'pms170'!A73)","v":"351010"},72]
[{"$f":"IF(MOD(H74,2),'pms230'!A74,'pms170'!D74)","v":"962198"},{"$f":"IF(MOD(H74,2),'pms230'!B74,'pms170'!B74)","v":"F0470411"},{"$f":"IF(MOD(H74,2),'pms230'!C74,'pms170'!C74)","v":"CAPOT THERMO"},{"$f":"IF(MOD(H74,2),'pms230'!D74,'pms170'!G74)","v":"2017-02-09"},{"$f":"IF(MOD(H74,2),'pms230'!E74,'pms170'!H74)","v":"2017-02-09"},{"$f":"IF(MOD(H74,2),'pms230'!F74,'pms170'!F74)","v":"52"},{"$f":"IF(MOD(H74,2),'pms230'!M74,'pms170'!A74)","v":"351010"},73]
[{"$f":"IF(MOD(H75,2),'pms230'!A75,'pms170'!D75)","v":"6841475"},{"$f":"IF(MOD(H75,2),'pms230'!B75,'pms170'!B75)","v":"F0493742"},{"$f":"IF(MOD(H75,2),'pms230'!C75,'pms170'!C75)","v":" ENS TABLETTE DORSALE LGE"},{"$f":"IF(MOD(H75,2),'pms230'!D75,'pms170'!G75)","v":"2017-02-13"},{"$f":"IF(MOD(H75,2),'pms230'!E75,'pms170'!H75)","v":"2017-02-23"},{"$f":"IF(MOD(H75,2),'pms230'!F75,'pms170'!F75)","v":50},{"$f":"IF(MOD(H75,2),'pms230'!M75,'pms170'!A75)","v":"351010"},74]
[{"$f":"IF(MOD(H76,2),'pms230'!A76,'pms170'!D76)","v":"962012"},{"$f":"IF(MOD(H76,2),'pms230'!B76,'pms170'!B76)","v":"F0442002"},{"$f":"IF(MOD(H76,2),'pms230'!C76,'pms170'!C76)","v":"ENS TABLETTE IAT EXT"},{"$f":"IF(MOD(H76,2),'pms230'!D76,'pms170'!G76)","v":"2017-02-09"},{"$f":"IF(MOD(H76,2),'pms230'!E76,'pms170'!H76)","v":"2017-02-09"},{"$f":"IF(MOD(H76,2),'pms230'!F76,'pms170'!F76)","v":"15"},{"$f":"IF(MOD(H76,2),'pms230'!M76,'pms170'!A76)","v":"351010"},75]
[{"$f":"IF(MOD(H77,2),'pms230'!A77,'pms170'!D77)","v":"6707867"},{"$f":"IF(MOD(H77,2),'pms230'!B77,'pms170'!B77)","v":"F0499603"},{"$f":"IF(MOD(H77,2),'pms230'!C77,'pms170'!C77)","v":"CAPOT INF TABLETTE 17\"70"},{"$f":"IF(MOD(H77,2),'pms230'!D77,'pms170'!G77)","v":"2017-01-12"},{"$f":"IF(MOD(H77,2),'pms230'!E77,'pms170'!H77)","v":"2017-01-12"},{"$f":"IF(MOD(H77,2),'pms230'!F77,'pms170'!F77)","v":12},{"$f":"IF(MOD(H77,2),'pms230'!M77,'pms170'!A77)","v":"351010"},76]
[{"$f":"IF(MOD(H78,2),'pms230'!A78,'pms170'!D78)","v":"961861"},{"$f":"IF(MOD(H78,2),'pms230'!B78,'pms170'!B78)","v":"F0458344"},{"$f":"IF(MOD(H78,2),'pms230'!C78,'pms170'!C78)","v":"CAPOT NU INF TABL DO"},{"$f":"IF(MOD(H78,2),'pms230'!D78,'pms170'!G78)","v":"2017-02-09"},{"$f":"IF(MOD(H78,2),'pms230'!E78,'pms170'!H78)","v":"2017-02-09"},{"$f":"IF(MOD(H78,2),'pms230'!F78,'pms170'!F78)","v":"29"},{"$f":"IF(MOD(H78,2),'pms230'!M78,'pms170'!A78)","v":"351010"},77]
[{"$f":"IF(MOD(H79,2),'pms230'!A79,'pms170'!D79)","v":"6859099"},{"$f":"IF(MOD(H79,2),'pms230'!B79,'pms170'!B79)","v":"F0503681"},{"$f":"IF(MOD(H79,2),'pms230'!C79,'pms170'!C79)","v":"ENS TABLETTE DORSALE STD"},{"$f":"IF(MOD(H79,2),'pms230'!D79,'pms170'!G79)","v":"2017-02-09"},{"$f":"IF(MOD(H79,2),'pms230'!E79,'pms170'!H79)","v":"2017-02-11"},{"$f":"IF(MOD(H79,2),'pms230'!F79,'pms170'!F79)","v":8},{"$f":"IF(MOD(H79,2),'pms230'!M79,'pms170'!A79)","v":"351010"},78]
[{"$f":"IF(MOD(H80,2),'pms230'!A80,'pms170'!D80)","v":"961637"},{"$f":"IF(MOD(H80,2),'pms230'!B80,'pms170'!B80)","v":"F0432816"},{"$f":"IF(MOD(H80,2),'pms230'!C80,'pms170'!C80)","v":"CACHE LOGEMENT VIDEO"},{"$f":"IF(MOD(H80,2),'pms230'!D80,'pms170'!G80)","v":"2017-02-09"},{"$f":"IF(MOD(H80,2),'pms230'!E80,'pms170'!H80)","v":"2017-02-09"},{"$f":"IF(MOD(H80,2),'pms230'!F80,'pms170'!F80)","v":"3"},{"$f":"IF(MOD(H80,2),'pms230'!M80,'pms170'!A80)","v":"351010"},79]
[{"$f":"IF(MOD(H81,2),'pms230'!A81,'pms170'!D81)","v":"7123591"},{"$f":"IF(MOD(H81,2),'pms230'!B81,'pms170'!B81)","v":"F0507334"},{"$f":"IF(MOD(H81,2),'pms230'!C81,'pms170'!C81)","v":"ENS PLATEAU TABLETTE RDT"},{"$f":"IF(MOD(H81,2),'pms230'!D81,'pms170'!G81)","v":"2017-02-08"},{"$f":"IF(MOD(H81,2),'pms230'!E81,'pms170'!H81)","v":"2017-02-11"},{"$f":"IF(MOD(H81,2),'pms230'!F81,'pms170'!F81)","v":2},{"$f":"IF(MOD(H81,2),'pms230'!M81,'pms170'!A81)","v":"351010"},80]
[{"$f":"IF(MOD(H82,2),'pms230'!A82,'pms170'!D82)","v":"961859"},{"$f":"IF(MOD(H82,2),'pms230'!B82,'pms170'!B82)","v":"F0437868"},{"$f":"IF(MOD(H82,2),'pms230'!C82,'pms170'!C82)","v":"ENSEMBLE CAPOT"},{"$f":"IF(MOD(H82,2),'pms230'!D82,'pms170'!G82)","v":"2017-02-09"},{"$f":"IF(MOD(H82,2),'pms230'!E82,'pms170'!H82)","v":"2017-02-09"},{"$f":"IF(MOD(H82,2),'pms230'!F82,'pms170'!F82)","v":"4"},{"$f":"IF(MOD(H82,2),'pms230'!M82,'pms170'!A82)","v":"351010"},81]
[{"$f":"IF(MOD(H83,2),'pms230'!A83,'pms170'!D83)","v":"6640581"},{"$f":"IF(MOD(H83,2),'pms230'!B83,'pms170'!B83)","v":"F0510189"},{"$f":"IF(MOD(H83,2),'pms230'!C83,'pms170'!C83)","v":"ENS TABLETTE DORSALE 17\"2"},{"$f":"IF(MOD(H83,2),'pms230'!D83,'pms170'!G83)","v":"2017-01-30"},{"$f":"IF(MOD(H83,2),'pms230'!E83,'pms170'!H83)","v":"2017-02-11"},{"$f":"IF(MOD(H83,2),'pms230'!F83,'pms170'!F83)","v":35},{"$f":"IF(MOD(H83,2),'pms230'!M83,'pms170'!A83)","v":"351010"},82]
[{"$f":"IF(MOD(H84,2),'pms230'!A84,'pms170'!D84)","v":"960971"},{"$f":"IF(MOD(H84,2),'pms230'!B84,'pms170'!B84)","v":"F0476122"},{"$f":"IF(MOD(H84,2),'pms230'!C84,'pms170'!C84)","v":"ENS PLATEAU TABLETTE"},{"$f":"IF(MOD(H84,2),'pms230'!D84,'pms170'!G84)","v":"2017-02-09"},{"$f":"IF(MOD(H84,2),'pms230'!E84,'pms170'!H84)","v":"2017-02-09"},{"$f":"IF(MOD(H84,2),'pms230'!F84,'pms170'!F84)","v":"48"},{"$f":"IF(MOD(H84,2),'pms230'!M84,'pms170'!A84)","v":"351010"},83]
[{"$f":"IF(MOD(H85,2),'pms230'!A85,'pms170'!D85)","v":"7156907"},{"$f":"IF(MOD(H85,2),'pms230'!B85,'pms170'!B85)","v":"F0511676"},{"$f":"IF(MOD(H85,2),'pms230'!C85,'pms170'!C85)","v":" CAPOT SEAT TO SEAT"},{"$f":"IF(MOD(H85,2),'pms230'!D85,'pms170'!G85)","v":"2017-02-09"},{"$f":"IF(MOD(H85,2),'pms230'!E85,'pms170'!H85)","v":"2017-02-10"},{"$f":"IF(MOD(H85,2),'pms230'!F85,'pms170'!F85)","v":3},{"$f":"IF(MOD(H85,2),'pms230'!M85,'pms170'!A85)","v":"351010"},84]
[{"$f":"IF(MOD(H86,2),'pms230'!A86,'pms170'!D86)","v":"961639"},{"$f":"IF(MOD(H86,2),'pms230'!B86,'pms170'!B86)","v":"F0471830"},{"$f":"IF(MOD(H86,2),'pms230'!C86,'pms170'!C86)","v":"CAPOT FLANC COULOIR"},{"$f":"IF(MOD(H86,2),'pms230'!D86,'pms170'!G86)","v":"2017-02-09"},{"$f":"IF(MOD(H86,2),'pms230'!E86,'pms170'!H86)","v":"2017-02-09"},{"$f":"IF(MOD(H86,2),'pms230'!F86,'pms170'!F86)","v":"2"},{"$f":"IF(MOD(H86,2),'pms230'!M86,'pms170'!A86)","v":"351010"},85]
[{"$f":"IF(MOD(H87,2),'pms230'!A87,'pms170'!D87)","v":"7254986"},{"$f":"IF(MOD(H87,2),'pms230'!B87,'pms170'!B87)","v":"F0514762"},{"$f":"IF(MOD(H87,2),'pms230'!C87,'pms170'!C87)","v":"ENS REMPLISSAGE TABLETTE LGE"},{"$f":"IF(MOD(H87,2),'pms230'!D87,'pms170'!G87)","v":"2017-02-14"},{"$f":"IF(MOD(H87,2),'pms230'!E87,'pms170'!H87)","v":"2017-02-15"},{"$f":"IF(MOD(H87,2),'pms230'!F87,'pms170'!F87)","v":27},{"$f":"IF(MOD(H87,2),'pms230'!M87,'pms170'!A87)","v":"351010"},86]
[{"$f":"IF(MOD(H88,2),'pms230'!A88,'pms170'!D88)","v":"961872"},{"$f":"IF(MOD(H88,2),'pms230'!B88,'pms170'!B88)","v":"F0442704"},{"$f":"IF(MOD(H88,2),'pms230'!C88,'pms170'!C88)","v":"ENS STRUCT TABLETTE"},{"$f":"IF(MOD(H88,2),'pms230'!D88,'pms170'!G88)","v":"2017-02-09"},{"$f":"IF(MOD(H88,2),'pms230'!E88,'pms170'!H88)","v":"2017-02-10"},{"$f":"IF(MOD(H88,2),'pms230'!F88,'pms170'!F88)","v":"50"},{"$f":"IF(MOD(H88,2),'pms230'!M88,'pms170'!A88)","v":"351015"},87]
[{"$f":"IF(MOD(H89,2),'pms230'!A89,'pms170'!D89)","v":"7008715"},{"$f":"IF(MOD(H89,2),'pms230'!B89,'pms170'!B89)","v":"F0517742"},{"$f":"IF(MOD(H89,2),'pms230'!C89,'pms170'!C89)","v":"ENS TABLETTE DORSALE 18\"1"},{"$f":"IF(MOD(H89,2),'pms230'!D89,'pms170'!G89)","v":"2017-02-10"},{"$f":"IF(MOD(H89,2),'pms230'!E89,'pms170'!H89)","v":"2017-02-15"},{"$f":"IF(MOD(H89,2),'pms230'!F89,'pms170'!F89)","v":50},{"$f":"IF(MOD(H89,2),'pms230'!M89,'pms170'!A89)","v":"351010"},88]
[{"$f":"IF(MOD(H90,2),'pms230'!A90,'pms170'!D90)","v":"958259"},{"$f":"IF(MOD(H90,2),'pms230'!B90,'pms170'!B90)","v":"F0493839"},{"$f":"IF(MOD(H90,2),'pms230'!C90,'pms170'!C90)","v":"ENS REMPLISSAGE TABL"},{"$f":"IF(MOD(H90,2),'pms230'!D90,'pms170'!G90)","v":"2017-02-09"},{"$f":"IF(MOD(H90,2),'pms230'!E90,'pms170'!H90)","v":"2017-02-10"},{"$f":"IF(MOD(H90,2),'pms230'!F90,'pms170'!F90)","v":"50"},{"$f":"IF(MOD(H90,2),'pms230'!M90,'pms170'!A90)","v":"351015"},89]
[{"$f":"IF(MOD(H91,2),'pms230'!A91,'pms170'!D91)","v":"7135540"},{"$f":"IF(MOD(H91,2),'pms230'!B91,'pms170'!B91)","v":"F0517742"},{"$f":"IF(MOD(H91,2),'pms230'!C91,'pms170'!C91)","v":"ENS TABLETTE DORSALE 18\"1"},{"$f":"IF(MOD(H91,2),'pms230'!D91,'pms170'!G91)","v":"2017-02-21"},{"$f":"IF(MOD(H91,2),'pms230'!E91,'pms170'!H91)","v":"2017-02-24"},{"$f":"IF(MOD(H91,2),'pms230'!F91,'pms170'!F91)","v":50},{"$f":"IF(MOD(H91,2),'pms230'!M91,'pms170'!A91)","v":"351010"},90]
[{"$f":"IF(MOD(H92,2),'pms230'!A92,'pms170'!D92)","v":"961210"},{"$f":"IF(MOD(H92,2),'pms230'!B92,'pms170'!B92)","v":"J2000281"},{"$f":"IF(MOD(H92,2),'pms230'!C92,'pms170'!C92)","v":"PANEL  LOWER FORWARD"},{"$f":"IF(MOD(H92,2),'pms230'!D92,'pms170'!G92)","v":"2017-02-10"},{"$f":"IF(MOD(H92,2),'pms230'!E92,'pms170'!H92)","v":"2017-02-10"},{"$f":"IF(MOD(H92,2),'pms230'!F92,'pms170'!F92)","v":"13"},{"$f":"IF(MOD(H92,2),'pms230'!M92,'pms170'!A92)","v":"351020"},91]
[{"$f":"IF(MOD(H93,2),'pms230'!A93,'pms170'!D93)","v":"6974324"},{"$f":"IF(MOD(H93,2),'pms230'!B93,'pms170'!B93)","v":"F0519677"},{"$f":"IF(MOD(H93,2),'pms230'!C93,'pms170'!C93)","v":"ENS TABLETTE DORSALE"},{"$f":"IF(MOD(H93,2),'pms230'!D93,'pms170'!G93)","v":"2017-01-24"},{"$f":"IF(MOD(H93,2),'pms230'!E93,'pms170'!H93)","v":"2017-01-27"},{"$f":"IF(MOD(H93,2),'pms230'!F93,'pms170'!F93)","v":16},{"$f":"IF(MOD(H93,2),'pms230'!M93,'pms170'!A93)","v":"351010"},92]
[{"$f":"IF(MOD(H94,2),'pms230'!A94,'pms170'!D94)","v":"961596"},{"$f":"IF(MOD(H94,2),'pms230'!B94,'pms170'!B94)","v":"F0505778"},{"$f":"IF(MOD(H94,2),'pms230'!C94,'pms170'!C94)","v":"CAPOT FOND HAUT DOSS"},{"$f":"IF(MOD(H94,2),'pms230'!D94,'pms170'!G94)","v":"2017-02-10"},{"$f":"IF(MOD(H94,2),'pms230'!E94,'pms170'!H94)","v":"2017-02-13"},{"$f":"IF(MOD(H94,2),'pms230'!F94,'pms170'!F94)","v":"52"},{"$f":"IF(MOD(H94,2),'pms230'!M94,'pms170'!A94)","v":"351010"},93]
[{"$f":"IF(MOD(H95,2),'pms230'!A95,'pms170'!D95)","v":"6910155"},{"$f":"IF(MOD(H95,2),'pms230'!B95,'pms170'!B95)","v":"F0519813"},{"$f":"IF(MOD(H95,2),'pms230'!C95,'pms170'!C95)","v":"ENS CAPOT STS"},{"$f":"IF(MOD(H95,2),'pms230'!D95,'pms170'!G95)","v":"2017-02-07"},{"$f":"IF(MOD(H95,2),'pms230'!E95,'pms170'!H95)","v":"2017-02-07"},{"$f":"IF(MOD(H95,2),'pms230'!F95,'pms170'!F95)","v":2},{"$f":"IF(MOD(H95,2),'pms230'!M95,'pms170'!A95)","v":"351010"},94]
[{"$f":"IF(MOD(H96,2),'pms230'!A96,'pms170'!D96)","v":"961497"},{"$f":"IF(MOD(H96,2),'pms230'!B96,'pms170'!B96)","v":"F0505778"},{"$f":"IF(MOD(H96,2),'pms230'!C96,'pms170'!C96)","v":"CAPOT FOND HAUT DOSS"},{"$f":"IF(MOD(H96,2),'pms230'!D96,'pms170'!G96)","v":"2017-02-10"},{"$f":"IF(MOD(H96,2),'pms230'!E96,'pms170'!H96)","v":"2017-02-13"},{"$f":"IF(MOD(H96,2),'pms230'!F96,'pms170'!F96)","v":"52"},{"$f":"IF(MOD(H96,2),'pms230'!M96,'pms170'!A96)","v":"351010"},95]
[{"$f":"IF(MOD(H97,2),'pms230'!A97,'pms170'!D97)","v":"7038694"},{"$f":"IF(MOD(H97,2),'pms230'!B97,'pms170'!B97)","v":"F0519978"},{"$f":"IF(MOD(H97,2),'pms230'!C97,'pms170'!C97)","v":"ENS CAPOT STS"},{"$f":"IF(MOD(H97,2),'pms230'!D97,'pms170'!G97)","v":"2017-02-10"},{"$f":"IF(MOD(H97,2),'pms230'!E97,'pms170'!H97)","v":"2017-02-11"},{"$f":"IF(MOD(H97,2),'pms230'!F97,'pms170'!F97)","v":5},{"$f":"IF(MOD(H97,2),'pms230'!M97,'pms170'!A97)","v":"351010"},96]
[{"$f":"IF(MOD(H98,2),'pms230'!A98,'pms170'!D98)","v":"961499"},{"$f":"IF(MOD(H98,2),'pms230'!B98,'pms170'!B98)","v":"F0505778"},{"$f":"IF(MOD(H98,2),'pms230'!C98,'pms170'!C98)","v":"CAPOT FOND HAUT DOSS"},{"$f":"IF(MOD(H98,2),'pms230'!D98,'pms170'!G98)","v":"2017-02-10"},{"$f":"IF(MOD(H98,2),'pms230'!E98,'pms170'!H98)","v":"2017-02-13"},{"$f":"IF(MOD(H98,2),'pms230'!F98,'pms170'!F98)","v":"52"},{"$f":"IF(MOD(H98,2),'pms230'!M98,'pms170'!A98)","v":"351010"},97]
[{"$f":"IF(MOD(H99,2),'pms230'!A99,'pms170'!D99)","v":"7038759"},{"$f":"IF(MOD(H99,2),'pms230'!B99,'pms170'!B99)","v":"F0519983"},{"$f":"IF(MOD(H99,2),'pms230'!C99,'pms170'!C99)","v":"ENS CAPOT STS"},{"$f":"IF(MOD(H99,2),'pms230'!D99,'pms170'!G99)","v":"2017-02-15"},{"$f":"IF(MOD(H99,2),'pms230'!E99,'pms170'!H99)","v":"2017-02-15"},{"$f":"IF(MOD(H99,2),'pms230'!F99,'pms170'!F99)","v":15},{"$f":"IF(MOD(H99,2),'pms230'!M99,'pms170'!A99)","v":"351010"},98]
[{"$f":"IF(MOD(H100,2),'pms230'!A100,'pms170'!D100)","v":"961310"},{"$f":"IF(MOD(H100,2),'pms230'!B100,'pms170'!B100)","v":"F0508961"},{"$f":"IF(MOD(H100,2),'pms230'!C100,'pms170'!C100)","v":"KICK PANEL CENT 17\"0"},{"$f":"IF(MOD(H100,2),'pms230'!D100,'pms170'!G100)","v":"2017-02-10"},{"$f":"IF(MOD(H100,2),'pms230'!E100,'pms170'!H100)","v":"2017-02-10"},{"$f":"IF(MOD(H100,2),'pms230'!F100,'pms170'!F100)","v":"52"},{"$f":"IF(MOD(H100,2),'pms230'!M100,'pms170'!A100)","v":"351010"},99]
[{"$f":"IF(MOD(H101,2),'pms230'!A101,'pms170'!D101)","v":"6738442"},{"$f":"IF(MOD(H101,2),'pms230'!B101,'pms170'!B101)","v":"F0520602"},{"$f":"IF(MOD(H101,2),'pms230'!C101,'pms170'!C101)","v":"ENS TABLETTE DORSALE 16\"80"},{"$f":"IF(MOD(H101,2),'pms230'!D101,'pms170'!G101)","v":"2017-02-07"},{"$f":"IF(MOD(H101,2),'pms230'!E101,'pms170'!H101)","v":"2017-02-12"},{"$f":"IF(MOD(H101,2),'pms230'!F101,'pms170'!F101)","v":19},{"$f":"IF(MOD(H101,2),'pms230'!M101,'pms170'!A101)","v":"351010"},100]
[{"$f":"IF(MOD(H102,2),'pms230'!A102,'pms170'!D102)","v":"961270"},{"$f":"IF(MOD(H102,2),'pms230'!B102,'pms170'!B102)","v":"F317040P108"},{"$f":"IF(MOD(H102,2),'pms230'!C102,'pms170'!C102)","v":"H108 CAPOT CROSSE"},{"$f":"IF(MOD(H102,2),'pms230'!D102,'pms170'!G102)","v":"2017-02-10"},{"$f":"IF(MOD(H102,2),'pms230'!E102,'pms170'!H102)","v":"2017-02-10"},{"$f":"IF(MOD(H102,2),'pms230'!F102,'pms170'!F102)","v":"8"},{"$f":"IF(MOD(H102,2),'pms230'!M102,'pms170'!A102)","v":"351010"},101]
[{"$f":"IF(MOD(H103,2),'pms230'!A103,'pms170'!D103)","v":"6738452"},{"$f":"IF(MOD(H103,2),'pms230'!B103,'pms170'!B103)","v":"F0520603"},{"$f":"IF(MOD(H103,2),'pms230'!C103,'pms170'!C103)","v":"ENS TABLETTE DORSALE 17\"70"},{"$f":"IF(MOD(H103,2),'pms230'!D103,'pms170'!G103)","v":"2017-02-02"},{"$f":"IF(MOD(H103,2),'pms230'!E103,'pms170'!H103)","v":"2017-02-07"},{"$f":"IF(MOD(H103,2),'pms230'!F103,'pms170'!F103)","v":50},{"$f":"IF(MOD(H103,2),'pms230'!M103,'pms170'!A103)","v":"351010"},102]
[{"$f":"IF(MOD(H104,2),'pms230'!A104,'pms170'!D104)","v":"961516"},{"$f":"IF(MOD(H104,2),'pms230'!B104,'pms170'!B104)","v":"F0478895"},{"$f":"IF(MOD(H104,2),'pms230'!C104,'pms170'!C104)","v":"CAPOT SOUS ASSISE"},{"$f":"IF(MOD(H104,2),'pms230'!D104,'pms170'!G104)","v":"2017-02-10"},{"$f":"IF(MOD(H104,2),'pms230'!E104,'pms170'!H104)","v":"2017-02-13"},{"$f":"IF(MOD(H104,2),'pms230'!F104,'pms170'!F104)","v":"51"},{"$f":"IF(MOD(H104,2),'pms230'!M104,'pms170'!A104)","v":"351010"},103]
[{"$f":"IF(MOD(H105,2),'pms230'!A105,'pms170'!D105)","v":"6738454"},{"$f":"IF(MOD(H105,2),'pms230'!B105,'pms170'!B105)","v":"F0520603"},{"$f":"IF(MOD(H105,2),'pms230'!C105,'pms170'!C105)","v":"ENS TABLETTE DORSALE 17\"70"},{"$f":"IF(MOD(H105,2),'pms230'!D105,'pms170'!G105)","v":"2017-02-02"},{"$f":"IF(MOD(H105,2),'pms230'!E105,'pms170'!H105)","v":"2017-02-07"},{"$f":"IF(MOD(H105,2),'pms230'!F105,'pms170'!F105)","v":50},{"$f":"IF(MOD(H105,2),'pms230'!M105,'pms170'!A105)","v":"351010"},104]
[{"$f":"IF(MOD(H106,2),'pms230'!A106,'pms170'!D106)","v":"961909"},{"$f":"IF(MOD(H106,2),'pms230'!B106,'pms170'!B106)","v":"J2002119"},{"$f":"IF(MOD(H106,2),'pms230'!C106,'pms170'!C106)","v":"FOOTWELL LINER CTR S"},{"$f":"IF(MOD(H106,2),'pms230'!D106,'pms170'!G106)","v":"2017-02-10"},{"$f":"IF(MOD(H106,2),'pms230'!E106,'pms170'!H106)","v":"2017-02-10"},{"$f":"IF(MOD(H106,2),'pms230'!F106,'pms170'!F106)","v":"18"},{"$f":"IF(MOD(H106,2),'pms230'!M106,'pms170'!A106)","v":"351020"},105]
[{"$f":"IF(MOD(H107,2),'pms230'!A107,'pms170'!D107)","v":"6738456"},{"$f":"IF(MOD(H107,2),'pms230'!B107,'pms170'!B107)","v":"F0520603"},{"$f":"IF(MOD(H107,2),'pms230'!C107,'pms170'!C107)","v":"ENS TABLETTE DORSALE 17\"70"},{"$f":"IF(MOD(H107,2),'pms230'!D107,'pms170'!G107)","v":"2017-02-01"},{"$f":"IF(MOD(H107,2),'pms230'!E107,'pms170'!H107)","v":"2017-02-06"},{"$f":"IF(MOD(H107,2),'pms230'!F107,'pms170'!F107)","v":3},{"$f":"IF(MOD(H107,2),'pms230'!M107,'pms170'!A107)","v":"351010"},106]
[{"$f":"IF(MOD(H108,2),'pms230'!A108,'pms170'!D108)","v":"961864"},{"$f":"IF(MOD(H108,2),'pms230'!B108,'pms170'!B108)","v":"F0497744"},{"$f":"IF(MOD(H108,2),'pms230'!C108,'pms170'!C108)","v":"ENS PLATEAU TABLE. L"},{"$f":"IF(MOD(H108,2),'pms230'!D108,'pms170'!G108)","v":"2017-02-10"},{"$f":"IF(MOD(H108,2),'pms230'!E108,'pms170'!H108)","v":"2017-02-10"},{"$f":"IF(MOD(H108,2),'pms230'!F108,'pms170'!F108)","v":"3"},{"$f":"IF(MOD(H108,2),'pms230'!M108,'pms170'!A108)","v":"351010"},107]
[{"$f":"IF(MOD(H109,2),'pms230'!A109,'pms170'!D109)","v":"7008885"},{"$f":"IF(MOD(H109,2),'pms230'!B109,'pms170'!B109)","v":"F0520603"},{"$f":"IF(MOD(H109,2),'pms230'!C109,'pms170'!C109)","v":"ENS TABLETTE DORSALE 17\"70"},{"$f":"IF(MOD(H109,2),'pms230'!D109,'pms170'!G109)","v":"2017-02-06"},{"$f":"IF(MOD(H109,2),'pms230'!E109,'pms170'!H109)","v":"2017-02-09"},{"$f":"IF(MOD(H109,2),'pms230'!F109,'pms170'!F109)","v":50},{"$f":"IF(MOD(H109,2),'pms230'!M109,'pms170'!A109)","v":"351010"},108]
[{"$f":"IF(MOD(H110,2),'pms230'!A110,'pms170'!D110)","v":"961306"},{"$f":"IF(MOD(H110,2),'pms230'!B110,'pms170'!B110)","v":"J2000016"},{"$f":"IF(MOD(H110,2),'pms230'!C110,'pms170'!C110)","v":"FAIRING BACKERST"},{"$f":"IF(MOD(H110,2),'pms230'!D110,'pms170'!G110)","v":"2017-02-10"},{"$f":"IF(MOD(H110,2),'pms230'!E110,'pms170'!H110)","v":"2017-02-10"},{"$f":"IF(MOD(H110,2),'pms230'!F110,'pms170'!F110)","v":"2"},{"$f":"IF(MOD(H110,2),'pms230'!M110,'pms170'!A110)","v":"351020"},109]
[{"$f":"IF(MOD(H111,2),'pms230'!A111,'pms170'!D111)","v":"7008887"},{"$f":"IF(MOD(H111,2),'pms230'!B111,'pms170'!B111)","v":"F0520603"},{"$f":"IF(MOD(H111,2),'pms230'!C111,'pms170'!C111)","v":"ENS TABLETTE DORSALE 17\"70"},{"$f":"IF(MOD(H111,2),'pms230'!D111,'pms170'!G111)","v":"2017-02-06"},{"$f":"IF(MOD(H111,2),'pms230'!E111,'pms170'!H111)","v":"2017-02-09"},{"$f":"IF(MOD(H111,2),'pms230'!F111,'pms170'!F111)","v":50},{"$f":"IF(MOD(H111,2),'pms230'!M111,'pms170'!A111)","v":"351010"},110]
[{"$f":"IF(MOD(H112,2),'pms230'!A112,'pms170'!D112)","v":"961905"},{"$f":"IF(MOD(H112,2),'pms230'!B112,'pms170'!B112)","v":"F0517742"},{"$f":"IF(MOD(H112,2),'pms230'!C112,'pms170'!C112)","v":"ENS TABLETTE DORSALE"},{"$f":"IF(MOD(H112,2),'pms230'!D112,'pms170'!G112)","v":"2017-02-10"},{"$f":"IF(MOD(H112,2),'pms230'!E112,'pms170'!H112)","v":"2017-02-10"},{"$f":"IF(MOD(H112,2),'pms230'!F112,'pms170'!F112)","v":"52"},{"$f":"IF(MOD(H112,2),'pms230'!M112,'pms170'!A112)","v":"351010"},111]
[{"$f":"IF(MOD(H113,2),'pms230'!A113,'pms170'!D113)","v":"7254079"},{"$f":"IF(MOD(H113,2),'pms230'!B113,'pms170'!B113)","v":"F0520965"},{"$f":"IF(MOD(H113,2),'pms230'!C113,'pms170'!C113)","v":"CAPOT SOUS ASSISE"},{"$f":"IF(MOD(H113,2),'pms230'!D113,'pms170'!G113)","v":"2017-02-07"},{"$f":"IF(MOD(H113,2),'pms230'!E113,'pms170'!H113)","v":"2017-02-07"},{"$f":"IF(MOD(H113,2),'pms230'!F113,'pms170'!F113)","v":5},{"$f":"IF(MOD(H113,2),'pms230'!M113,'pms170'!A113)","v":"351010"},112]
[{"$f":"IF(MOD(H114,2),'pms230'!A114,'pms170'!D114)","v":"961257"},{"$f":"IF(MOD(H114,2),'pms230'!B114,'pms170'!B114)","v":"F0508961"},{"$f":"IF(MOD(H114,2),'pms230'!C114,'pms170'!C114)","v":"KICK PANEL CENT 17\"0"},{"$f":"IF(MOD(H114,2),'pms230'!D114,'pms170'!G114)","v":"2017-02-10"},{"$f":"IF(MOD(H114,2),'pms230'!E114,'pms170'!H114)","v":"2017-02-10"},{"$f":"IF(MOD(H114,2),'pms230'!F114,'pms170'!F114)","v":"52"},{"$f":"IF(MOD(H114,2),'pms230'!M114,'pms170'!A114)","v":"351010"},113]
[{"$f":"IF(MOD(H115,2),'pms230'!A115,'pms170'!D115)","v":"7254089"},{"$f":"IF(MOD(H115,2),'pms230'!B115,'pms170'!B115)","v":"F0520967"},{"$f":"IF(MOD(H115,2),'pms230'!C115,'pms170'!C115)","v":"CAPOT SOUS ASSISE"},{"$f":"IF(MOD(H115,2),'pms230'!D115,'pms170'!G115)","v":"2017-02-07"},{"$f":"IF(MOD(H115,2),'pms230'!E115,'pms170'!H115)","v":"2017-02-07"},{"$f":"IF(MOD(H115,2),'pms230'!F115,'pms170'!F115)","v":5},{"$f":"IF(MOD(H115,2),'pms230'!M115,'pms170'!A115)","v":"351010"},114]
[{"$f":"IF(MOD(H116,2),'pms230'!A116,'pms170'!D116)","v":"960100"},{"$f":"IF(MOD(H116,2),'pms230'!B116,'pms170'!B116)","v":"F0440245"},{"$f":"IF(MOD(H116,2),'pms230'!C116,'pms170'!C116)","v":"CAPOT RENFORT EQ"},{"$f":"IF(MOD(H116,2),'pms230'!D116,'pms170'!G116)","v":"2017-02-10"},{"$f":"IF(MOD(H116,2),'pms230'!E116,'pms170'!H116)","v":"2017-02-10"},{"$f":"IF(MOD(H116,2),'pms230'!F116,'pms170'!F116)","v":"36"},{"$f":"IF(MOD(H116,2),'pms230'!M116,'pms170'!A116)","v":"351010"},115]
[{"$f":"IF(MOD(H117,2),'pms230'!A117,'pms170'!D117)","v":"6992371"},{"$f":"IF(MOD(H117,2),'pms230'!B117,'pms170'!B117)","v":"F0521253"},{"$f":"IF(MOD(H117,2),'pms230'!C117,'pms170'!C117)","v":"ENS TABLETTE DORSALE 15\"55"},{"$f":"IF(MOD(H117,2),'pms230'!D117,'pms170'!G117)","v":"2017-01-31"},{"$f":"IF(MOD(H117,2),'pms230'!E117,'pms170'!H117)","v":"2017-02-06"},{"$f":"IF(MOD(H117,2),'pms230'!F117,'pms170'!F117)","v":2},{"$f":"IF(MOD(H117,2),'pms230'!M117,'pms170'!A117)","v":"351010"},116]
[{"$f":"IF(MOD(H118,2),'pms230'!A118,'pms170'!D118)","v":"961537"},{"$f":"IF(MOD(H118,2),'pms230'!B118,'pms170'!B118)","v":"J2000247"},{"$f":"IF(MOD(H118,2),'pms230'!C118,'pms170'!C118)","v":"DOUBLER BTM INNER LI"},{"$f":"IF(MOD(H118,2),'pms230'!D118,'pms170'!G118)","v":"2017-02-10"},{"$f":"IF(MOD(H118,2),'pms230'!E118,'pms170'!H118)","v":"2017-02-10"},{"$f":"IF(MOD(H118,2),'pms230'!F118,'pms170'!F118)","v":"16"},{"$f":"IF(MOD(H118,2),'pms230'!M118,'pms170'!A118)","v":"351020"},117]
[{"$f":"IF(MOD(H119,2),'pms230'!A119,'pms170'!D119)","v":"7254099"},{"$f":"IF(MOD(H119,2),'pms230'!B119,'pms170'!B119)","v":"F0523287"},{"$f":"IF(MOD(H119,2),'pms230'!C119,'pms170'!C119)","v":"CAPOT SOUS ASSISE"},{"$f":"IF(MOD(H119,2),'pms230'!D119,'pms170'!G119)","v":"2017-02-07"},{"$f":"IF(MOD(H119,2),'pms230'!E119,'pms170'!H119)","v":"2017-02-07"},{"$f":"IF(MOD(H119,2),'pms230'!F119,'pms170'!F119)","v":1},{"$f":"IF(MOD(H119,2),'pms230'!M119,'pms170'!A119)","v":"351010"},118]
[{"$f":"IF(MOD(H120,2),'pms230'!A120,'pms170'!D120)","v":"961614"},{"$f":"IF(MOD(H120,2),'pms230'!B120,'pms170'!B120)","v":"F328380P020"},{"$f":"IF(MOD(H120,2),'pms230'!C120,'pms170'!C120)","v":"H020 CAPOT DE FLANC"},{"$f":"IF(MOD(H120,2),'pms230'!D120,'pms170'!G120)","v":"2017-02-10"},{"$f":"IF(MOD(H120,2),'pms230'!E120,'pms170'!H120)","v":"2017-02-10"},{"$f":"IF(MOD(H120,2),'pms230'!F120,'pms170'!F120)","v":"6"},{"$f":"IF(MOD(H120,2),'pms230'!M120,'pms170'!A120)","v":"351060"},119]
[{"$f":"IF(MOD(H121,2),'pms230'!A121,'pms170'!D121)","v":"7254105"},{"$f":"IF(MOD(H121,2),'pms230'!B121,'pms170'!B121)","v":"F0523289"},{"$f":"IF(MOD(H121,2),'pms230'!C121,'pms170'!C121)","v":"CAPOT SOUS ASSISE"},{"$f":"IF(MOD(H121,2),'pms230'!D121,'pms170'!G121)","v":"2017-02-07"},{"$f":"IF(MOD(H121,2),'pms230'!E121,'pms170'!H121)","v":"2017-02-07"},{"$f":"IF(MOD(H121,2),'pms230'!F121,'pms170'!F121)","v":1},{"$f":"IF(MOD(H121,2),'pms230'!M121,'pms170'!A121)","v":"351010"},120]
[{"$f":"IF(MOD(H122,2),'pms230'!A122,'pms170'!D122)","v":"960206"},{"$f":"IF(MOD(H122,2),'pms230'!B122,'pms170'!B122)","v":"F334220P020"},{"$f":"IF(MOD(H122,2),'pms230'!C122,'pms170'!C122)","v":"H020 CAPOT FLANC INT"},{"$f":"IF(MOD(H122,2),'pms230'!D122,'pms170'!G122)","v":"2017-02-10"},{"$f":"IF(MOD(H122,2),'pms230'!E122,'pms170'!H122)","v":"2017-02-10"},{"$f":"IF(MOD(H122,2),'pms230'!F122,'pms170'!F122)","v":"6"},{"$f":"IF(MOD(H122,2),'pms230'!M122,'pms170'!A122)","v":"351010"},121]
[{"$f":"IF(MOD(H123,2),'pms230'!A123,'pms170'!D123)","v":"7254111"},{"$f":"IF(MOD(H123,2),'pms230'!B123,'pms170'!B123)","v":"F0523291"},{"$f":"IF(MOD(H123,2),'pms230'!C123,'pms170'!C123)","v":"CAPOT SOUS ASSISE"},{"$f":"IF(MOD(H123,2),'pms230'!D123,'pms170'!G123)","v":"2017-02-07"},{"$f":"IF(MOD(H123,2),'pms230'!E123,'pms170'!H123)","v":"2017-02-07"},{"$f":"IF(MOD(H123,2),'pms230'!F123,'pms170'!F123)","v":1},{"$f":"IF(MOD(H123,2),'pms230'!M123,'pms170'!A123)","v":"351010"},122]
[{"$f":"IF(MOD(H124,2),'pms230'!A124,'pms170'!D124)","v":"962229"},{"$f":"IF(MOD(H124,2),'pms230'!B124,'pms170'!B124)","v":"F0519980"},{"$f":"IF(MOD(H124,2),'pms230'!C124,'pms170'!C124)","v":"ENS CAPOT STS"},{"$f":"IF(MOD(H124,2),'pms230'!D124,'pms170'!G124)","v":"2017-02-10"},{"$f":"IF(MOD(H124,2),'pms230'!E124,'pms170'!H124)","v":"2017-02-10"},{"$f":"IF(MOD(H124,2),'pms230'!F124,'pms170'!F124)","v":"2"},{"$f":"IF(MOD(H124,2),'pms230'!M124,'pms170'!A124)","v":"351010"},123]
[{"$f":"IF(MOD(H125,2),'pms230'!A125,'pms170'!D125)","v":"7254117"},{"$f":"IF(MOD(H125,2),'pms230'!B125,'pms170'!B125)","v":"F0523293"},{"$f":"IF(MOD(H125,2),'pms230'!C125,'pms170'!C125)","v":"CAPOT SOUS ASSISE"},{"$f":"IF(MOD(H125,2),'pms230'!D125,'pms170'!G125)","v":"2017-02-07"},{"$f":"IF(MOD(H125,2),'pms230'!E125,'pms170'!H125)","v":"2017-02-07"},{"$f":"IF(MOD(H125,2),'pms230'!F125,'pms170'!F125)","v":1},{"$f":"IF(MOD(H125,2),'pms230'!M125,'pms170'!A125)","v":"351010"},124]
[{"$f":"IF(MOD(H126,2),'pms230'!A126,'pms170'!D126)","v":"960201"},{"$f":"IF(MOD(H126,2),'pms230'!B126,'pms170'!B126)","v":"F092574A070"},{"$f":"IF(MOD(H126,2),'pms230'!C126,'pms170'!C126)","v":"H070 KICK PANEL IAT"},{"$f":"IF(MOD(H126,2),'pms230'!D126,'pms170'!G126)","v":"2017-02-10"},{"$f":"IF(MOD(H126,2),'pms230'!E126,'pms170'!H126)","v":"2017-02-10"},{"$f":"IF(MOD(H126,2),'pms230'!F126,'pms170'!F126)","v":"1"},{"$f":"IF(MOD(H126,2),'pms230'!M126,'pms170'!A126)","v":"351010"},125]
[{"$f":"IF(MOD(H127,2),'pms230'!A127,'pms170'!D127)","v":"7254123"},{"$f":"IF(MOD(H127,2),'pms230'!B127,'pms170'!B127)","v":"F0523298"},{"$f":"IF(MOD(H127,2),'pms230'!C127,'pms170'!C127)","v":"CAPOT SOUS ASSISE"},{"$f":"IF(MOD(H127,2),'pms230'!D127,'pms170'!G127)","v":"2017-02-07"},{"$f":"IF(MOD(H127,2),'pms230'!E127,'pms170'!H127)","v":"2017-02-07"},{"$f":"IF(MOD(H127,2),'pms230'!F127,'pms170'!F127)","v":1},{"$f":"IF(MOD(H127,2),'pms230'!M127,'pms170'!A127)","v":"351010"},126]
[{"$f":"IF(MOD(H128,2),'pms230'!A128,'pms170'!D128)","v":"960327"},{"$f":"IF(MOD(H128,2),'pms230'!B128,'pms170'!B128)","v":"F0442704"},{"$f":"IF(MOD(H128,2),'pms230'!C128,'pms170'!C128)","v":"ENS STRUCT TABLETTE"},{"$f":"IF(MOD(H128,2),'pms230'!D128,'pms170'!G128)","v":"2017-02-10"},{"$f":"IF(MOD(H128,2),'pms230'!E128,'pms170'!H128)","v":"2017-02-10"},{"$f":"IF(MOD(H128,2),'pms230'!F128,'pms170'!F128)","v":"20"},{"$f":"IF(MOD(H128,2),'pms230'!M128,'pms170'!A128)","v":"351015"},127]
[{"$f":"IF(MOD(H129,2),'pms230'!A129,'pms170'!D129)","v":"7254129"},{"$f":"IF(MOD(H129,2),'pms230'!B129,'pms170'!B129)","v":"F0523300"},{"$f":"IF(MOD(H129,2),'pms230'!C129,'pms170'!C129)","v":"CAPOT SOUS ASSISE"},{"$f":"IF(MOD(H129,2),'pms230'!D129,'pms170'!G129)","v":"2017-02-07"},{"$f":"IF(MOD(H129,2),'pms230'!E129,'pms170'!H129)","v":"2017-02-07"},{"$f":"IF(MOD(H129,2),'pms230'!F129,'pms170'!F129)","v":1},{"$f":"IF(MOD(H129,2),'pms230'!M129,'pms170'!A129)","v":"351010"},128]
[{"$f":"IF(MOD(H130,2),'pms230'!A130,'pms170'!D130)","v":"961990"},{"$f":"IF(MOD(H130,2),'pms230'!B130,'pms170'!B130)","v":"F0442705"},{"$f":"IF(MOD(H130,2),'pms230'!C130,'pms170'!C130)","v":"ENS STRUCT TABLETTE"},{"$f":"IF(MOD(H130,2),'pms230'!D130,'pms170'!G130)","v":"2017-02-10"},{"$f":"IF(MOD(H130,2),'pms230'!E130,'pms170'!H130)","v":"2017-02-10"},{"$f":"IF(MOD(H130,2),'pms230'!F130,'pms170'!F130)","v":"15"},{"$f":"IF(MOD(H130,2),'pms230'!M130,'pms170'!A130)","v":"351015"},129]
[{"$f":"IF(MOD(H131,2),'pms230'!A131,'pms170'!D131)","v":"7254135"},{"$f":"IF(MOD(H131,2),'pms230'!B131,'pms170'!B131)","v":"F0523302"},{"$f":"IF(MOD(H131,2),'pms230'!C131,'pms170'!C131)","v":"CAPOT SOUS ASSISE"},{"$f":"IF(MOD(H131,2),'pms230'!D131,'pms170'!G131)","v":"2017-02-07"},{"$f":"IF(MOD(H131,2),'pms230'!E131,'pms170'!H131)","v":"2017-02-07"},{"$f":"IF(MOD(H131,2),'pms230'!F131,'pms170'!F131)","v":1},{"$f":"IF(MOD(H131,2),'pms230'!M131,'pms170'!A131)","v":"351010"},130]
[{"$f":"IF(MOD(H132,2),'pms230'!A132,'pms170'!D132)","v":"962276"},{"$f":"IF(MOD(H132,2),'pms230'!B132,'pms170'!B132)","v":"F315384"},{"$f":"IF(MOD(H132,2),'pms230'!C132,'pms170'!C132)","v":"REMPLISSAGE LATERAL"},{"$f":"IF(MOD(H132,2),'pms230'!D132,'pms170'!G132)","v":"2017-02-10"},{"$f":"IF(MOD(H132,2),'pms230'!E132,'pms170'!H132)","v":"2017-02-10"},{"$f":"IF(MOD(H132,2),'pms230'!F132,'pms170'!F132)","v":"12"},{"$f":"IF(MOD(H132,2),'pms230'!M132,'pms170'!A132)","v":"351010"},131]
[{"$f":"IF(MOD(H133,2),'pms230'!A133,'pms170'!D133)","v":"7254141"},{"$f":"IF(MOD(H133,2),'pms230'!B133,'pms170'!B133)","v":"F0523304"},{"$f":"IF(MOD(H133,2),'pms230'!C133,'pms170'!C133)","v":"CAPOT SOUS ASSISE"},{"$f":"IF(MOD(H133,2),'pms230'!D133,'pms170'!G133)","v":"2017-02-07"},{"$f":"IF(MOD(H133,2),'pms230'!E133,'pms170'!H133)","v":"2017-02-07"},{"$f":"IF(MOD(H133,2),'pms230'!F133,'pms170'!F133)","v":1},{"$f":"IF(MOD(H133,2),'pms230'!M133,'pms170'!A133)","v":"351010"},132]
[{"$f":"IF(MOD(H134,2),'pms230'!A134,'pms170'!D134)","v":"960469"},{"$f":"IF(MOD(H134,2),'pms230'!B134,'pms170'!B134)","v":"F313205P099"},{"$f":"IF(MOD(H134,2),'pms230'!C134,'pms170'!C134)","v":"H099 CAPOT ACCD STD"},{"$f":"IF(MOD(H134,2),'pms230'!D134,'pms170'!G134)","v":"2017-02-13"},{"$f":"IF(MOD(H134,2),'pms230'!E134,'pms170'!H134)","v":"2017-02-13"},{"$f":"IF(MOD(H134,2),'pms230'!F134,'pms170'!F134)","v":"20"},{"$f":"IF(MOD(H134,2),'pms230'!M134,'pms170'!A134)","v":"351010"},133]
[{"$f":"IF(MOD(H135,2),'pms230'!A135,'pms170'!D135)","v":"7125553"},{"$f":"IF(MOD(H135,2),'pms230'!B135,'pms170'!B135)","v":"F0523521"},{"$f":"IF(MOD(H135,2),'pms230'!C135,'pms170'!C135)","v":"ENS CAPOT AR COMBO"},{"$f":"IF(MOD(H135,2),'pms230'!D135,'pms170'!G135)","v":"2017-01-26"},{"$f":"IF(MOD(H135,2),'pms230'!E135,'pms170'!H135)","v":"2017-01-30"},{"$f":"IF(MOD(H135,2),'pms230'!F135,'pms170'!F135)","v":12},{"$f":"IF(MOD(H135,2),'pms230'!M135,'pms170'!A135)","v":"351010"},134]
[{"$f":"IF(MOD(H136,2),'pms230'!A136,'pms170'!D136)","v":"962182"},{"$f":"IF(MOD(H136,2),'pms230'!B136,'pms170'!B136)","v":"F0440520"},{"$f":"IF(MOD(H136,2),'pms230'!C136,'pms170'!C136)","v":"ENS CAPOT CROSSE PEN"},{"$f":"IF(MOD(H136,2),'pms230'!D136,'pms170'!G136)","v":"2017-02-13"},{"$f":"IF(MOD(H136,2),'pms230'!E136,'pms170'!H136)","v":"2017-02-13"},{"$f":"IF(MOD(H136,2),'pms230'!F136,'pms170'!F136)","v":"52"},{"$f":"IF(MOD(H136,2),'pms230'!M136,'pms170'!A136)","v":"351010"},135]
[{"$f":"IF(MOD(H137,2),'pms230'!A137,'pms170'!D137)","v":"7256404"},{"$f":"IF(MOD(H137,2),'pms230'!B137,'pms170'!B137)","v":"F0524655"},{"$f":"IF(MOD(H137,2),'pms230'!C137,'pms170'!C137)","v":"CAPOT SOUS ASSISE"},{"$f":"IF(MOD(H137,2),'pms230'!D137,'pms170'!G137)","v":"2017-02-07"},{"$f":"IF(MOD(H137,2),'pms230'!E137,'pms170'!H137)","v":"2017-02-07"},{"$f":"IF(MOD(H137,2),'pms230'!F137,'pms170'!F137)","v":3},{"$f":"IF(MOD(H137,2),'pms230'!M137,'pms170'!A137)","v":"351010"},136]
[{"$f":"IF(MOD(H138,2),'pms230'!A138,'pms170'!D138)","v":"961311"},{"$f":"IF(MOD(H138,2),'pms230'!B138,'pms170'!B138)","v":"F0508961"},{"$f":"IF(MOD(H138,2),'pms230'!C138,'pms170'!C138)","v":"KICK PANEL CENT 17\"0"},{"$f":"IF(MOD(H138,2),'pms230'!D138,'pms170'!G138)","v":"2017-02-13"},{"$f":"IF(MOD(H138,2),'pms230'!E138,'pms170'!H138)","v":"2017-02-13"},{"$f":"IF(MOD(H138,2),'pms230'!F138,'pms170'!F138)","v":"22"},{"$f":"IF(MOD(H138,2),'pms230'!M138,'pms170'!A138)","v":"351010"},137]
[{"$f":"IF(MOD(H139,2),'pms230'!A139,'pms170'!D139)","v":"6695934"},{"$f":"IF(MOD(H139,2),'pms230'!B139,'pms170'!B139)","v":"F208451P036"},{"$f":"IF(MOD(H139,2),'pms230'!C139,'pms170'!C139)","v":"H036 PLAQUE SUPPORT"},{"$f":"IF(MOD(H139,2),'pms230'!D139,'pms170'!G139)","v":"2017-01-24"},{"$f":"IF(MOD(H139,2),'pms230'!E139,'pms170'!H139)","v":"2017-01-24"},{"$f":"IF(MOD(H139,2),'pms230'!F139,'pms170'!F139)","v":1},{"$f":"IF(MOD(H139,2),'pms230'!M139,'pms170'!A139)","v":"351010"},138]
[{"$f":"IF(MOD(H140,2),'pms230'!A140,'pms170'!D140)","v":"960566"},{"$f":"IF(MOD(H140,2),'pms230'!B140,'pms170'!B140)","v":"F1EQ0D0170S2"},{"$f":"IF(MOD(H140,2),'pms230'!C140,'pms170'!C140)","v":"CAPOT EPML"},{"$f":"IF(MOD(H140,2),'pms230'!D140,'pms170'!G140)","v":"2017-02-13"},{"$f":"IF(MOD(H140,2),'pms230'!E140,'pms170'!H140)","v":"2017-02-13"},{"$f":"IF(MOD(H140,2),'pms230'!F140,'pms170'!F140)","v":"34"},{"$f":"IF(MOD(H140,2),'pms230'!M140,'pms170'!A140)","v":"351010"},139]
[{"$f":"IF(MOD(H141,2),'pms230'!A141,'pms170'!D141)","v":"6836489"},{"$f":"IF(MOD(H141,2),'pms230'!B141,'pms170'!B141)","v":"F259804P015"},{"$f":"IF(MOD(H141,2),'pms230'!C141,'pms170'!C141)","v":"H015 CAPOT LAT EXT IAT"},{"$f":"IF(MOD(H141,2),'pms230'!D141,'pms170'!G141)","v":"2017-02-08"},{"$f":"IF(MOD(H141,2),'pms230'!E141,'pms170'!H141)","v":"2017-02-11"},{"$f":"IF(MOD(H141,2),'pms230'!F141,'pms170'!F141)","v":2},{"$f":"IF(MOD(H141,2),'pms230'!M141,'pms170'!A141)","v":"351010"},140]
[{"$f":"IF(MOD(H142,2),'pms230'!A142,'pms170'!D142)","v":"958030"},{"$f":"IF(MOD(H142,2),'pms230'!B142,'pms170'!B142)","v":"F364641P015"},{"$f":"IF(MOD(H142,2),'pms230'!C142,'pms170'!C142)","v":"H015 CAPOT ACC"},{"$f":"IF(MOD(H142,2),'pms230'!D142,'pms170'!G142)","v":"2017-02-14"},{"$f":"IF(MOD(H142,2),'pms230'!E142,'pms170'!H142)","v":"2017-02-14"},{"$f":"IF(MOD(H142,2),'pms230'!F142,'pms170'!F142)","v":"60"},{"$f":"IF(MOD(H142,2),'pms230'!M142,'pms170'!A142)","v":"351010"},141]
[{"$f":"IF(MOD(H143,2),'pms230'!A143,'pms170'!D143)","v":"6968418"},{"$f":"IF(MOD(H143,2),'pms230'!B143,'pms170'!B143)","v":"F259804P075"},{"$f":"IF(MOD(H143,2),'pms230'!C143,'pms170'!C143)","v":"H075 CAPOT LAT EXT IAT"},{"$f":"IF(MOD(H143,2),'pms230'!D143,'pms170'!G143)","v":"2017-02-10"},{"$f":"IF(MOD(H143,2),'pms230'!E143,'pms170'!H143)","v":"2017-02-11"},{"$f":"IF(MOD(H143,2),'pms230'!F143,'pms170'!F143)","v":4},{"$f":"IF(MOD(H143,2),'pms230'!M143,'pms170'!A143)","v":"351010"},142]
[{"$f":"IF(MOD(H144,2),'pms230'!A144,'pms170'!D144)","v":"958034"},{"$f":"IF(MOD(H144,2),'pms230'!B144,'pms170'!B144)","v":"F364641P015"},{"$f":"IF(MOD(H144,2),'pms230'!C144,'pms170'!C144)","v":"H015 CAPOT ACC"},{"$f":"IF(MOD(H144,2),'pms230'!D144,'pms170'!G144)","v":"2017-02-14"},{"$f":"IF(MOD(H144,2),'pms230'!E144,'pms170'!H144)","v":"2017-02-14"},{"$f":"IF(MOD(H144,2),'pms230'!F144,'pms170'!F144)","v":"55"},{"$f":"IF(MOD(H144,2),'pms230'!M144,'pms170'!A144)","v":"351010"},143]
[{"$f":"IF(MOD(H145,2),'pms230'!A145,'pms170'!D145)","v":"6721582"},{"$f":"IF(MOD(H145,2),'pms230'!B145,'pms170'!B145)","v":"F322899P022"},{"$f":"IF(MOD(H145,2),'pms230'!C145,'pms170'!C145)","v":"H022 CAPOT FLANC INF STD"},{"$f":"IF(MOD(H145,2),'pms230'!D145,'pms170'!G145)","v":"2017-02-08"},{"$f":"IF(MOD(H145,2),'pms230'!E145,'pms170'!H145)","v":"2017-02-11"},{"$f":"IF(MOD(H145,2),'pms230'!F145,'pms170'!F145)","v":2},{"$f":"IF(MOD(H145,2),'pms230'!M145,'pms170'!A145)","v":"351010"},144]
[{"$f":"IF(MOD(H146,2),'pms230'!A146,'pms170'!D146)","v":"960489"},{"$f":"IF(MOD(H146,2),'pms230'!B146,'pms170'!B146)","v":"F0462070"},{"$f":"IF(MOD(H146,2),'pms230'!C146,'pms170'!C146)","v":"ENS TABLETTE BASSE R"},{"$f":"IF(MOD(H146,2),'pms230'!D146,'pms170'!G146)","v":"2017-02-14"},{"$f":"IF(MOD(H146,2),'pms230'!E146,'pms170'!H146)","v":"2017-02-15"},{"$f":"IF(MOD(H146,2),'pms230'!F146,'pms170'!F146)","v":"55"},{"$f":"IF(MOD(H146,2),'pms230'!M146,'pms170'!A146)","v":"351000"},145]
[{"$f":"IF(MOD(H147,2),'pms230'!A147,'pms170'!D147)","v":"6968456"},{"$f":"IF(MOD(H147,2),'pms230'!B147,'pms170'!B147)","v":"F329906H036"},{"$f":"IF(MOD(H147,2),'pms230'!C147,'pms170'!C147)","v":"H036 BOÎTIER GILET SAUVETAGE"},{"$f":"IF(MOD(H147,2),'pms230'!D147,'pms170'!G147)","v":"2017-02-10"},{"$f":"IF(MOD(H147,2),'pms230'!E147,'pms170'!H147)","v":"2017-02-13"},{"$f":"IF(MOD(H147,2),'pms230'!F147,'pms170'!F147)","v":29},{"$f":"IF(MOD(H147,2),'pms230'!M147,'pms170'!A147)","v":"351010"},146]
[{"$f":"IF(MOD(H148,2),'pms230'!A148,'pms170'!D148)","v":"962057"},{"$f":"IF(MOD(H148,2),'pms230'!B148,'pms170'!B148)","v":"F329906H036"},{"$f":"IF(MOD(H148,2),'pms230'!C148,'pms170'!C148)","v":"H036 BOÎTIER GILET S"},{"$f":"IF(MOD(H148,2),'pms230'!D148,'pms170'!G148)","v":"2017-02-14"},{"$f":"IF(MOD(H148,2),'pms230'!E148,'pms170'!H148)","v":"2017-02-14"},{"$f":"IF(MOD(H148,2),'pms230'!F148,'pms170'!F148)","v":"33"},{"$f":"IF(MOD(H148,2),'pms230'!M148,'pms170'!A148)","v":"351010"},147]
[{"$f":"IF(MOD(H149,2),'pms230'!A149,'pms170'!D149)","v":"7256585"},{"$f":"IF(MOD(H149,2),'pms230'!B149,'pms170'!B149)","v":"F332357P108"},{"$f":"IF(MOD(H149,2),'pms230'!C149,'pms170'!C149)","v":"H108 CALE"},{"$f":"IF(MOD(H149,2),'pms230'!D149,'pms170'!G149)","v":"2017-02-03"},{"$f":"IF(MOD(H149,2),'pms230'!E149,'pms170'!H149)","v":"2017-02-03"},{"$f":"IF(MOD(H149,2),'pms230'!F149,'pms170'!F149)","v":3},{"$f":"IF(MOD(H149,2),'pms230'!M149,'pms170'!A149)","v":"351010"},148]
[{"$f":"IF(MOD(H150,2),'pms230'!A150,'pms170'!D150)","v":"959809"},{"$f":"IF(MOD(H150,2),'pms230'!B150,'pms170'!B150)","v":"F0459537"},{"$f":"IF(MOD(H150,2),'pms230'!C150,'pms170'!C150)","v":"REMPLISSAGE TABLETTE"},{"$f":"IF(MOD(H150,2),'pms230'!D150,'pms170'!G150)","v":"2017-02-14"},{"$f":"IF(MOD(H150,2),'pms230'!E150,'pms170'!H150)","v":"2017-02-14"},{"$f":"IF(MOD(H150,2),'pms230'!F150,'pms170'!F150)","v":"50"},{"$f":"IF(MOD(H150,2),'pms230'!M150,'pms170'!A150)","v":"351015"},149]
[{"$f":"IF(MOD(H151,2),'pms230'!A151,'pms170'!D151)","v":"7243129"},{"$f":"IF(MOD(H151,2),'pms230'!B151,'pms170'!B151)","v":"F370685"},{"$f":"IF(MOD(H151,2),'pms230'!C151,'pms170'!C151)","v":"ENS PORTE"},{"$f":"IF(MOD(H151,2),'pms230'!D151,'pms170'!G151)","v":"2017-02-07"},{"$f":"IF(MOD(H151,2),'pms230'!E151,'pms170'!H151)","v":"2017-02-07"},{"$f":"IF(MOD(H151,2),'pms230'!F151,'pms170'!F151)","v":12},{"$f":"IF(MOD(H151,2),'pms230'!M151,'pms170'!A151)","v":"351010"},150]
[{"$f":"IF(MOD(H152,2),'pms230'!A152,'pms170'!D152)","v":"960910"},{"$f":"IF(MOD(H152,2),'pms230'!B152,'pms170'!B152)","v":"F0504771"},{"$f":"IF(MOD(H152,2),'pms230'!C152,'pms170'!C152)","v":"ENS REMPLISSAGE TABL"},{"$f":"IF(MOD(H152,2),'pms230'!D152,'pms170'!G152)","v":"2017-02-14"},{"$f":"IF(MOD(H152,2),'pms230'!E152,'pms170'!H152)","v":"2017-02-15"},{"$f":"IF(MOD(H152,2),'pms230'!F152,'pms170'!F152)","v":"50"},{"$f":"IF(MOD(H152,2),'pms230'!M152,'pms170'!A152)","v":"351015"},151]
[{"$f":"IF(MOD(H153,2),'pms230'!A153,'pms170'!D153)","v":"7002253"},{"$f":"IF(MOD(H153,2),'pms230'!B153,'pms170'!B153)","v":"J2001705"},{"$f":"IF(MOD(H153,2),'pms230'!C153,'pms170'!C153)","v":"DOUBLER CLOSEOUT SIDE"},{"$f":"IF(MOD(H153,2),'pms230'!D153,'pms170'!G153)","v":"2017-01-31"},{"$f":"IF(MOD(H153,2),'pms230'!E153,'pms170'!H153)","v":"2017-01-31"},{"$f":"IF(MOD(H153,2),'pms230'!F153,'pms170'!F153)","v":2},{"$f":"IF(MOD(H153,2),'pms230'!M153,'pms170'!A153)","v":"351010"},152]
[{"$f":"IF(MOD(H154,2),'pms230'!A154,'pms170'!D154)","v":"961604"},{"$f":"IF(MOD(H154,2),'pms230'!B154,'pms170'!B154)","v":"F0504771"},{"$f":"IF(MOD(H154,2),'pms230'!C154,'pms170'!C154)","v":"ENS REMPLISSAGE TABL"},{"$f":"IF(MOD(H154,2),'pms230'!D154,'pms170'!G154)","v":"2017-02-14"},{"$f":"IF(MOD(H154,2),'pms230'!E154,'pms170'!H154)","v":"2017-02-15"},{"$f":"IF(MOD(H154,2),'pms230'!F154,'pms170'!F154)","v":"50"},{"$f":"IF(MOD(H154,2),'pms230'!M154,'pms170'!A154)","v":"351015"},153]
[{"$f":"IF(MOD(H155,2),'pms230'!A155,'pms170'!D155)","v":"7002268"},{"$f":"IF(MOD(H155,2),'pms230'!B155,'pms170'!B155)","v":"J2001713"},{"$f":"IF(MOD(H155,2),'pms230'!C155,'pms170'!C155)","v":"PANEL TOP SIDE CLOSEOUT"},{"$f":"IF(MOD(H155,2),'pms230'!D155,'pms170'!G155)","v":"2017-02-16"},{"$f":"IF(MOD(H155,2),'pms230'!E155,'pms170'!H155)","v":"2017-02-17"},{"$f":"IF(MOD(H155,2),'pms230'!F155,'pms170'!F155)","v":11},{"$f":"IF(MOD(H155,2),'pms230'!M155,'pms170'!A155)","v":"351010"},154]
[{"$f":"IF(MOD(H156,2),'pms230'!A156,'pms170'!D156)","v":"957694"},{"$f":"IF(MOD(H156,2),'pms230'!B156,'pms170'!B156)","v":"F0519991"},{"$f":"IF(MOD(H156,2),'pms230'!C156,'pms170'!C156)","v":"CAPOT PROTEGE CABLE"},{"$f":"IF(MOD(H156,2),'pms230'!D156,'pms170'!G156)","v":"2017-02-15"},{"$f":"IF(MOD(H156,2),'pms230'!E156,'pms170'!H156)","v":"2017-02-15"},{"$f":"IF(MOD(H156,2),'pms230'!F156,'pms170'!F156)","v":"6"},{"$f":"IF(MOD(H156,2),'pms230'!M156,'pms170'!A156)","v":"351010"},155]
[{"$f":"IF(MOD(H157,2),'pms230'!A157,'pms170'!D157)","v":"7129686"},{"$f":"IF(MOD(H157,2),'pms230'!B157,'pms170'!B157)","v":"J2001714"},{"$f":"IF(MOD(H157,2),'pms230'!C157,'pms170'!C157)","v":"PANEL TOP SIDE CLOSEOUT"},{"$f":"IF(MOD(H157,2),'pms230'!D157,'pms170'!G157)","v":"2017-02-09"},{"$f":"IF(MOD(H157,2),'pms230'!E157,'pms170'!H157)","v":"2017-02-10"},{"$f":"IF(MOD(H157,2),'pms230'!F157,'pms170'!F157)","v":10},{"$f":"IF(MOD(H157,2),'pms230'!M157,'pms170'!A157)","v":"351010"},156]
[{"$f":"IF(MOD(H158,2),'pms230'!A158,'pms170'!D158)","v":"961875"},{"$f":"IF(MOD(H158,2),'pms230'!B158,'pms170'!B158)","v":"F0442704"},{"$f":"IF(MOD(H158,2),'pms230'!C158,'pms170'!C158)","v":"ENS STRUCT TABLETTE"},{"$f":"IF(MOD(H158,2),'pms230'!D158,'pms170'!G158)","v":"2017-02-15"},{"$f":"IF(MOD(H158,2),'pms230'!E158,'pms170'!H158)","v":"2017-02-16"},{"$f":"IF(MOD(H158,2),'pms230'!F158,'pms170'!F158)","v":"50"},{"$f":"IF(MOD(H158,2),'pms230'!M158,'pms170'!A158)","v":"351015"},157]
[{"$f":"IF(MOD(H159,2),'pms230'!A159,'pms170'!D159)","v":"7129725"},{"$f":"IF(MOD(H159,2),'pms230'!B159,'pms170'!B159)","v":"J2001735"},{"$f":"IF(MOD(H159,2),'pms230'!C159,'pms170'!C159)","v":"SHROUD TOP OUTER"},{"$f":"IF(MOD(H159,2),'pms230'!D159,'pms170'!G159)","v":"2017-02-09"},{"$f":"IF(MOD(H159,2),'pms230'!E159,'pms170'!H159)","v":"2017-02-10"},{"$f":"IF(MOD(H159,2),'pms230'!F159,'pms170'!F159)","v":5},{"$f":"IF(MOD(H159,2),'pms230'!M159,'pms170'!A159)","v":"351010"},158]
[{"$f":"IF(MOD(H160,2),'pms230'!A160,'pms170'!D160)","v":"962233"},{"$f":"IF(MOD(H160,2),'pms230'!B160,'pms170'!B160)","v":"F0455793"},{"$f":"IF(MOD(H160,2),'pms230'!C160,'pms170'!C160)","v":"ENS SUPPORT TV G"},{"$f":"IF(MOD(H160,2),'pms230'!D160,'pms170'!G160)","v":"2017-02-16"},{"$f":"IF(MOD(H160,2),'pms230'!E160,'pms170'!H160)","v":"2017-02-16"},{"$f":"IF(MOD(H160,2),'pms230'!F160,'pms170'!F160)","v":"10"},{"$f":"IF(MOD(H160,2),'pms230'!M160,'pms170'!A160)","v":"351000"},159]
[{"$f":"IF(MOD(H161,2),'pms230'!A161,'pms170'!D161)","v":"7129774"},{"$f":"IF(MOD(H161,2),'pms230'!B161,'pms170'!B161)","v":"J2001766"},{"$f":"IF(MOD(H161,2),'pms230'!C161,'pms170'!C161)","v":"SHROUD TOP OUTER RH"},{"$f":"IF(MOD(H161,2),'pms230'!D161,'pms170'!G161)","v":"2017-02-07"},{"$f":"IF(MOD(H161,2),'pms230'!E161,'pms170'!H161)","v":"2017-02-07"},{"$f":"IF(MOD(H161,2),'pms230'!F161,'pms170'!F161)","v":11},{"$f":"IF(MOD(H161,2),'pms230'!M161,'pms170'!A161)","v":"351010"},160]
[{"$f":"IF(MOD(H162,2),'pms230'!A162,'pms170'!D162)","v":"961506"},{"$f":"IF(MOD(H162,2),'pms230'!B162,'pms170'!B162)","v":"F0440200"},{"$f":"IF(MOD(H162,2),'pms230'!C162,'pms170'!C162)","v":"TABLETTE COCKTAIL G"},{"$f":"IF(MOD(H162,2),'pms230'!D162,'pms170'!G162)","v":"2017-02-16"},{"$f":"IF(MOD(H162,2),'pms230'!E162,'pms170'!H162)","v":"2017-02-16"},{"$f":"IF(MOD(H162,2),'pms230'!F162,'pms170'!F162)","v":"10"},{"$f":"IF(MOD(H162,2),'pms230'!M162,'pms170'!A162)","v":"351000"},161]
[{"$f":"IF(MOD(H163,2),'pms230'!A163,'pms170'!D163)","v":"6870318"},{"$f":"IF(MOD(H163,2),'pms230'!B163,'pms170'!B163)","v":"J2001783"},{"$f":"IF(MOD(H163,2),'pms230'!C163,'pms170'!C163)","v":"SHROUD MID TOP OUTER RH"},{"$f":"IF(MOD(H163,2),'pms230'!D163,'pms170'!G163)","v":"2017-02-10"},{"$f":"IF(MOD(H163,2),'pms230'!E163,'pms170'!H163)","v":"2017-02-11"},{"$f":"IF(MOD(H163,2),'pms230'!F163,'pms170'!F163)","v":5},{"$f":"IF(MOD(H163,2),'pms230'!M163,'pms170'!A163)","v":"351010"},162]
[{"$f":"IF(MOD(H164,2),'pms230'!A164,'pms170'!D164)","v":"959190"},{"$f":"IF(MOD(H164,2),'pms230'!B164,'pms170'!B164)","v":"F0494919"},{"$f":"IF(MOD(H164,2),'pms230'!C164,'pms170'!C164)","v":"ENS TABLETTE DORSALE"},{"$f":"IF(MOD(H164,2),'pms230'!D164,'pms170'!G164)","v":"2017-02-16"},{"$f":"IF(MOD(H164,2),'pms230'!E164,'pms170'!H164)","v":"2017-02-16"},{"$f":"IF(MOD(H164,2),'pms230'!F164,'pms170'!F164)","v":"4"},{"$f":"IF(MOD(H164,2),'pms230'!M164,'pms170'!A164)","v":"351010"},163]
[{"$f":"IF(MOD(H165,2),'pms230'!A165,'pms170'!D165)","v":"7123874"},{"$f":"IF(MOD(H165,2),'pms230'!B165,'pms170'!B165)","v":"J2001901"},{"$f":"IF(MOD(H165,2),'pms230'!C165,'pms170'!C165)","v":"SHROUD TOP OUTER DOUBLER"},{"$f":"IF(MOD(H165,2),'pms230'!D165,'pms170'!G165)","v":"2017-01-31"},{"$f":"IF(MOD(H165,2),'pms230'!E165,'pms170'!H165)","v":"2017-01-31"},{"$f":"IF(MOD(H165,2),'pms230'!F165,'pms170'!F165)","v":2},{"$f":"IF(MOD(H165,2),'pms230'!M165,'pms170'!A165)","v":"351010"},164]
[{"$f":"IF(MOD(H166,2),'pms230'!A166,'pms170'!D166)","v":"962105"},{"$f":"IF(MOD(H166,2),'pms230'!B166,'pms170'!B166)","v":"F0472069"},{"$f":"IF(MOD(H166,2),'pms230'!C166,'pms170'!C166)","v":"JONC  LOGEMENT VIDEO"},{"$f":"IF(MOD(H166,2),'pms230'!D166,'pms170'!G166)","v":"2017-02-16"},{"$f":"IF(MOD(H166,2),'pms230'!E166,'pms170'!H166)","v":"2017-02-16"},{"$f":"IF(MOD(H166,2),'pms230'!F166,'pms170'!F166)","v":"32"},{"$f":"IF(MOD(H166,2),'pms230'!M166,'pms170'!A166)","v":"351010"},165]
[{"$f":"IF(MOD(H167,2),'pms230'!A167,'pms170'!D167)","v":"7124309"},{"$f":"IF(MOD(H167,2),'pms230'!B167,'pms170'!B167)","v":"F0431968"},{"$f":"IF(MOD(H167,2),'pms230'!C167,'pms170'!C167)","v":"ENS STRUCT TAB IAT EXT"},{"$f":"IF(MOD(H167,2),'pms230'!D167,'pms170'!G167)","v":"2017-02-07"},{"$f":"IF(MOD(H167,2),'pms230'!E167,'pms170'!H167)","v":"2017-02-07"},{"$f":"IF(MOD(H167,2),'pms230'!F167,'pms170'!F167)","v":4},{"$f":"IF(MOD(H167,2),'pms230'!M167,'pms170'!A167)","v":"351015"},166]
[{"$f":"IF(MOD(H168,2),'pms230'!A168,'pms170'!D168)","v":"959068"},{"$f":"IF(MOD(H168,2),'pms230'!B168,'pms170'!B168)","v":"F0503856"},{"$f":"IF(MOD(H168,2),'pms230'!C168,'pms170'!C168)","v":"ENS TABLETTE DORSALE"},{"$f":"IF(MOD(H168,2),'pms230'!D168,'pms170'!G168)","v":"2017-02-17"},{"$f":"IF(MOD(H168,2),'pms230'!E168,'pms170'!H168)","v":"2017-02-17"},{"$f":"IF(MOD(H168,2),'pms230'!F168,'pms170'!F168)","v":"52"},{"$f":"IF(MOD(H168,2),'pms230'!M168,'pms170'!A168)","v":"351000"},167]
[{"$f":"IF(MOD(H169,2),'pms230'!A169,'pms170'!D169)","v":"7098891"},{"$f":"IF(MOD(H169,2),'pms230'!B169,'pms170'!B169)","v":"F0442631"},{"$f":"IF(MOD(H169,2),'pms230'!C169,'pms170'!C169)","v":"ENS TABLETTE DORSALE 18\"1"},{"$f":"IF(MOD(H169,2),'pms230'!D169,'pms170'!G169)","v":"2017-02-02"},{"$f":"IF(MOD(H169,2),'pms230'!E169,'pms170'!H169)","v":"2017-02-06"},{"$f":"IF(MOD(H169,2),'pms230'!F169,'pms170'!F169)","v":7},{"$f":"IF(MOD(H169,2),'pms230'!M169,'pms170'!A169)","v":"351015"},168]
[{"$f":"IF(MOD(H170,2),'pms230'!A170,'pms170'!D170)","v":"960909"},{"$f":"IF(MOD(H170,2),'pms230'!B170,'pms170'!B170)","v":"F0503856"},{"$f":"IF(MOD(H170,2),'pms230'!C170,'pms170'!C170)","v":"ENS TABLETTE DORSALE"},{"$f":"IF(MOD(H170,2),'pms230'!D170,'pms170'!G170)","v":"2017-02-17"},{"$f":"IF(MOD(H170,2),'pms230'!E170,'pms170'!H170)","v":"2017-02-17"},{"$f":"IF(MOD(H170,2),'pms230'!F170,'pms170'!F170)","v":"52"},{"$f":"IF(MOD(H170,2),'pms230'!M170,'pms170'!A170)","v":"351000"},169]
[{"$f":"IF(MOD(H171,2),'pms230'!A171,'pms170'!D171)","v":"6889290"},{"$f":"IF(MOD(H171,2),'pms230'!B171,'pms170'!B171)","v":"F0442705"},{"$f":"IF(MOD(H171,2),'pms230'!C171,'pms170'!C171)","v":"ENS STRUCT TABLETTE"},{"$f":"IF(MOD(H171,2),'pms230'!D171,'pms170'!G171)","v":"2017-02-10"},{"$f":"IF(MOD(H171,2),'pms230'!E171,'pms170'!H171)","v":"2017-02-11"},{"$f":"IF(MOD(H171,2),'pms230'!F171,'pms170'!F171)","v":1},{"$f":"IF(MOD(H171,2),'pms230'!M171,'pms170'!A171)","v":"351015"},170]
[{"$f":"IF(MOD(H172,2),'pms230'!A172,'pms170'!D172)","v":"961955"},{"$f":"IF(MOD(H172,2),'pms230'!B172,'pms170'!B172)","v":"J2002123"},{"$f":"IF(MOD(H172,2),'pms230'!C172,'pms170'!C172)","v":"FOOTWELL LINER ASSY"},{"$f":"IF(MOD(H172,2),'pms230'!D172,'pms170'!G172)","v":"2017-02-17"},{"$f":"IF(MOD(H172,2),'pms230'!E172,'pms170'!H172)","v":"2017-02-17"},{"$f":"IF(MOD(H172,2),'pms230'!F172,'pms170'!F172)","v":"10"},{"$f":"IF(MOD(H172,2),'pms230'!M172,'pms170'!A172)","v":"351020"},171]
[{"$f":"IF(MOD(H173,2),'pms230'!A173,'pms170'!D173)","v":"7232639"},{"$f":"IF(MOD(H173,2),'pms230'!B173,'pms170'!B173)","v":"F0452617"},{"$f":"IF(MOD(H173,2),'pms230'!C173,'pms170'!C173)","v":"REMPLISSAGE TABLETTE"},{"$f":"IF(MOD(H173,2),'pms230'!D173,'pms170'!G173)","v":"2017-02-08"},{"$f":"IF(MOD(H173,2),'pms230'!E173,'pms170'!H173)","v":"2017-02-08"},{"$f":"IF(MOD(H173,2),'pms230'!F173,'pms170'!F173)","v":50},{"$f":"IF(MOD(H173,2),'pms230'!M173,'pms170'!A173)","v":"351015"},172]
[{"$f":"IF(MOD(H174,2),'pms230'!A174,'pms170'!D174)","v":"962257"},{"$f":"IF(MOD(H174,2),'pms230'!B174,'pms170'!B174)","v":"J2000145"},{"$f":"IF(MOD(H174,2),'pms230'!C174,'pms170'!C174)","v":"PANEL BACKSHELL STIF"},{"$f":"IF(MOD(H174,2),'pms230'!D174,'pms170'!G174)","v":"2017-02-17"},{"$f":"IF(MOD(H174,2),'pms230'!E174,'pms170'!H174)","v":"2017-02-17"},{"$f":"IF(MOD(H174,2),'pms230'!F174,'pms170'!F174)","v":"17"},{"$f":"IF(MOD(H174,2),'pms230'!M174,'pms170'!A174)","v":"351020"},173]
[{"$f":"IF(MOD(H175,2),'pms230'!A175,'pms170'!D175)","v":"7017474"},{"$f":"IF(MOD(H175,2),'pms230'!B175,'pms170'!B175)","v":"F0458236"},{"$f":"IF(MOD(H175,2),'pms230'!C175,'pms170'!C175)","v":"MOUSSE TABLETTE"},{"$f":"IF(MOD(H175,2),'pms230'!D175,'pms170'!G175)","v":"2017-02-07"},{"$f":"IF(MOD(H175,2),'pms230'!E175,'pms170'!H175)","v":"2017-02-07"},{"$f":"IF(MOD(H175,2),'pms230'!F175,'pms170'!F175)","v":50},{"$f":"IF(MOD(H175,2),'pms230'!M175,'pms170'!A175)","v":"351015"},174]
[{"$f":"IF(MOD(H176,2),'pms230'!A176,'pms170'!D176)","v":"954853"},{"$f":"IF(MOD(H176,2),'pms230'!B176,'pms170'!B176)","v":"F0508972"},{"$f":"IF(MOD(H176,2),'pms230'!C176,'pms170'!C176)","v":"ENS RENFORT KICK PAN"},{"$f":"IF(MOD(H176,2),'pms230'!D176,'pms170'!G176)","v":"2017-02-17"},{"$f":"IF(MOD(H176,2),'pms230'!E176,'pms170'!H176)","v":"2017-02-17"},{"$f":"IF(MOD(H176,2),'pms230'!F176,'pms170'!F176)","v":"51"},{"$f":"IF(MOD(H176,2),'pms230'!M176,'pms170'!A176)","v":"351010"},175]
[{"$f":"IF(MOD(H177,2),'pms230'!A177,'pms170'!D177)","v":"7067963"},{"$f":"IF(MOD(H177,2),'pms230'!B177,'pms170'!B177)","v":"F0458236"},{"$f":"IF(MOD(H177,2),'pms230'!C177,'pms170'!C177)","v":"MOUSSE TABLETTE"},{"$f":"IF(MOD(H177,2),'pms230'!D177,'pms170'!G177)","v":"2017-02-07"},{"$f":"IF(MOD(H177,2),'pms230'!E177,'pms170'!H177)","v":"2017-02-07"},{"$f":"IF(MOD(H177,2),'pms230'!F177,'pms170'!F177)","v":50},{"$f":"IF(MOD(H177,2),'pms230'!M177,'pms170'!A177)","v":"351015"},176]
[{"$f":"IF(MOD(H178,2),'pms230'!A178,'pms170'!D178)","v":"954856"},{"$f":"IF(MOD(H178,2),'pms230'!B178,'pms170'!B178)","v":"F0508972"},{"$f":"IF(MOD(H178,2),'pms230'!C178,'pms170'!C178)","v":"ENS RENFORT KICK PAN"},{"$f":"IF(MOD(H178,2),'pms230'!D178,'pms170'!G178)","v":"2017-02-17"},{"$f":"IF(MOD(H178,2),'pms230'!E178,'pms170'!H178)","v":"2017-02-17"},{"$f":"IF(MOD(H178,2),'pms230'!F178,'pms170'!F178)","v":"51"},{"$f":"IF(MOD(H178,2),'pms230'!M178,'pms170'!A178)","v":"351010"},177]
[{"$f":"IF(MOD(H179,2),'pms230'!A179,'pms170'!D179)","v":"7067965"},{"$f":"IF(MOD(H179,2),'pms230'!B179,'pms170'!B179)","v":"F0458236"},{"$f":"IF(MOD(H179,2),'pms230'!C179,'pms170'!C179)","v":"MOUSSE TABLETTE"},{"$f":"IF(MOD(H179,2),'pms230'!D179,'pms170'!G179)","v":"2017-02-07"},{"$f":"IF(MOD(H179,2),'pms230'!E179,'pms170'!H179)","v":"2017-02-07"},{"$f":"IF(MOD(H179,2),'pms230'!F179,'pms170'!F179)","v":50},{"$f":"IF(MOD(H179,2),'pms230'!M179,'pms170'!A179)","v":"351015"},178]
[{"$f":"IF(MOD(H180,2),'pms230'!A180,'pms170'!D180)","v":"954858"},{"$f":"IF(MOD(H180,2),'pms230'!B180,'pms170'!B180)","v":"F0508972"},{"$f":"IF(MOD(H180,2),'pms230'!C180,'pms170'!C180)","v":"ENS RENFORT KICK PAN"},{"$f":"IF(MOD(H180,2),'pms230'!D180,'pms170'!G180)","v":"2017-02-17"},{"$f":"IF(MOD(H180,2),'pms230'!E180,'pms170'!H180)","v":"2017-02-17"},{"$f":"IF(MOD(H180,2),'pms230'!F180,'pms170'!F180)","v":"51"},{"$f":"IF(MOD(H180,2),'pms230'!M180,'pms170'!A180)","v":"351010"},179]
[{"$f":"IF(MOD(H181,2),'pms230'!A181,'pms170'!D181)","v":"7067967"},{"$f":"IF(MOD(H181,2),'pms230'!B181,'pms170'!B181)","v":"F0458236"},{"$f":"IF(MOD(H181,2),'pms230'!C181,'pms170'!C181)","v":"MOUSSE TABLETTE"},{"$f":"IF(MOD(H181,2),'pms230'!D181,'pms170'!G181)","v":"2017-02-07"},{"$f":"IF(MOD(H181,2),'pms230'!E181,'pms170'!H181)","v":"2017-02-07"},{"$f":"IF(MOD(H181,2),'pms230'!F181,'pms170'!F181)","v":50},{"$f":"IF(MOD(H181,2),'pms230'!M181,'pms170'!A181)","v":"351015"},180]
[{"$f":"IF(MOD(H182,2),'pms230'!A182,'pms170'!D182)","v":"950038"},{"$f":"IF(MOD(H182,2),'pms230'!B182,'pms170'!B182)","v":"F0509487"},{"$f":"IF(MOD(H182,2),'pms230'!C182,'pms170'!C182)","v":"ENS TABLETTE DORSALE"},{"$f":"IF(MOD(H182,2),'pms230'!D182,'pms170'!G182)","v":"2017-02-20"},{"$f":"IF(MOD(H182,2),'pms230'!E182,'pms170'!H182)","v":"2017-02-20"},{"$f":"IF(MOD(H182,2),'pms230'!F182,'pms170'!F182)","v":"50"},{"$f":"IF(MOD(H182,2),'pms230'!M182,'pms170'!A182)","v":"351000"},181]
[{"$f":"IF(MOD(H183,2),'pms230'!A183,'pms170'!D183)","v":"6762983"},{"$f":"IF(MOD(H183,2),'pms230'!B183,'pms170'!B183)","v":"F0465467"},{"$f":"IF(MOD(H183,2),'pms230'!C183,'pms170'!C183)","v":"ENS REMP. TAB DORSALE 17\"2"},{"$f":"IF(MOD(H183,2),'pms230'!D183,'pms170'!G183)","v":"2017-02-10"},{"$f":"IF(MOD(H183,2),'pms230'!E183,'pms170'!H183)","v":"2017-02-10"},{"$f":"IF(MOD(H183,2),'pms230'!F183,'pms170'!F183)","v":2},{"$f":"IF(MOD(H183,2),'pms230'!M183,'pms170'!A183)","v":"351015"},182]
[{"$f":"IF(MOD(H184,2),'pms230'!A184,'pms170'!D184)","v":"961553"},{"$f":"IF(MOD(H184,2),'pms230'!B184,'pms170'!B184)","v":"F0484101"},{"$f":"IF(MOD(H184,2),'pms230'!C184,'pms170'!C184)","v":"CAPOT DOSSIER"},{"$f":"IF(MOD(H184,2),'pms230'!D184,'pms170'!G184)","v":"2017-02-20"},{"$f":"IF(MOD(H184,2),'pms230'!E184,'pms170'!H184)","v":"2017-02-20"},{"$f":"IF(MOD(H184,2),'pms230'!F184,'pms170'!F184)","v":"22"},{"$f":"IF(MOD(H184,2),'pms230'!M184,'pms170'!A184)","v":"351010"},183]
[{"$f":"IF(MOD(H185,2),'pms230'!A185,'pms170'!D185)","v":"6765823"},{"$f":"IF(MOD(H185,2),'pms230'!B185,'pms170'!B185)","v":"F0484040"},{"$f":"IF(MOD(H185,2),'pms230'!C185,'pms170'!C185)","v":"ENS REMPLISSAGE TABLETTE STD"},{"$f":"IF(MOD(H185,2),'pms230'!D185,'pms170'!G185)","v":"2017-02-03"},{"$f":"IF(MOD(H185,2),'pms230'!E185,'pms170'!H185)","v":"2017-02-06"},{"$f":"IF(MOD(H185,2),'pms230'!F185,'pms170'!F185)","v":50},{"$f":"IF(MOD(H185,2),'pms230'!M185,'pms170'!A185)","v":"351015"},184]
[{"$f":"IF(MOD(H186,2),'pms230'!A186,'pms170'!D186)","v":"962263"},{"$f":"IF(MOD(H186,2),'pms230'!B186,'pms170'!B186)","v":"J2000144"},{"$f":"IF(MOD(H186,2),'pms230'!C186,'pms170'!C186)","v":"PANEL SHOE STOW UPPE"},{"$f":"IF(MOD(H186,2),'pms230'!D186,'pms170'!G186)","v":"2017-02-20"},{"$f":"IF(MOD(H186,2),'pms230'!E186,'pms170'!H186)","v":"2017-02-20"},{"$f":"IF(MOD(H186,2),'pms230'!F186,'pms170'!F186)","v":"17"},{"$f":"IF(MOD(H186,2),'pms230'!M186,'pms170'!A186)","v":"351020"},185]
[{"$f":"IF(MOD(H187,2),'pms230'!A187,'pms170'!D187)","v":"6945790"},{"$f":"IF(MOD(H187,2),'pms230'!B187,'pms170'!B187)","v":"F0484040"},{"$f":"IF(MOD(H187,2),'pms230'!C187,'pms170'!C187)","v":"ENS REMPLISSAGE TABLETTE STD"},{"$f":"IF(MOD(H187,2),'pms230'!D187,'pms170'!G187)","v":"2017-02-03"},{"$f":"IF(MOD(H187,2),'pms230'!E187,'pms170'!H187)","v":"2017-02-06"},{"$f":"IF(MOD(H187,2),'pms230'!F187,'pms170'!F187)","v":6},{"$f":"IF(MOD(H187,2),'pms230'!M187,'pms170'!A187)","v":"351015"},186]
[{"$f":"IF(MOD(H188,2),'pms230'!A188,'pms170'!D188)","v":"960207"},{"$f":"IF(MOD(H188,2),'pms230'!B188,'pms170'!B188)","v":"F0406440"},{"$f":"IF(MOD(H188,2),'pms230'!C188,'pms170'!C188)","v":"CAPOT DE FLANC INT D"},{"$f":"IF(MOD(H188,2),'pms230'!D188,'pms170'!G188)","v":"2017-02-20"},{"$f":"IF(MOD(H188,2),'pms230'!E188,'pms170'!H188)","v":"2017-02-20"},{"$f":"IF(MOD(H188,2),'pms230'!F188,'pms170'!F188)","v":"4"},{"$f":"IF(MOD(H188,2),'pms230'!M188,'pms170'!A188)","v":"351010"},187]
[{"$f":"IF(MOD(H189,2),'pms230'!A189,'pms170'!D189)","v":"6945792"},{"$f":"IF(MOD(H189,2),'pms230'!B189,'pms170'!B189)","v":"F0484040"},{"$f":"IF(MOD(H189,2),'pms230'!C189,'pms170'!C189)","v":"ENS REMPLISSAGE TABLETTE STD"},{"$f":"IF(MOD(H189,2),'pms230'!D189,'pms170'!G189)","v":"2017-02-06"},{"$f":"IF(MOD(H189,2),'pms230'!E189,'pms170'!H189)","v":"2017-02-07"},{"$f":"IF(MOD(H189,2),'pms230'!F189,'pms170'!F189)","v":6},{"$f":"IF(MOD(H189,2),'pms230'!M189,'pms170'!A189)","v":"351015"},188]
[{"$f":"IF(MOD(H190,2),'pms230'!A190,'pms170'!D190)","v":"950038"},{"$f":"IF(MOD(H190,2),'pms230'!B190,'pms170'!B190)","v":"F0509487"},{"$f":"IF(MOD(H190,2),'pms230'!C190,'pms170'!C190)","v":"ENS TABLETTE DORSALE"},{"$f":"IF(MOD(H190,2),'pms230'!D190,'pms170'!G190)","v":"2017-02-21"},{"$f":"IF(MOD(H190,2),'pms230'!E190,'pms170'!H190)","v":"2017-02-21"},{"$f":"IF(MOD(H190,2),'pms230'!F190,'pms170'!F190)","v":"50"},{"$f":"IF(MOD(H190,2),'pms230'!M190,'pms170'!A190)","v":"351000"},189]
[{"$f":"IF(MOD(H191,2),'pms230'!A191,'pms170'!D191)","v":"7018757"},{"$f":"IF(MOD(H191,2),'pms230'!B191,'pms170'!B191)","v":"F0493839"},{"$f":"IF(MOD(H191,2),'pms230'!C191,'pms170'!C191)","v":"ENS REMPLISSAGE TABLETTE LGE"},{"$f":"IF(MOD(H191,2),'pms230'!D191,'pms170'!G191)","v":"2017-02-07"},{"$f":"IF(MOD(H191,2),'pms230'!E191,'pms170'!H191)","v":"2017-02-07"},{"$f":"IF(MOD(H191,2),'pms230'!F191,'pms170'!F191)","v":50},{"$f":"IF(MOD(H191,2),'pms230'!M191,'pms170'!A191)","v":"351015"},190]
[{"$f":"IF(MOD(H192,2),'pms230'!A192,'pms170'!D192)","v":"962130"},{"$f":"IF(MOD(H192,2),'pms230'!B192,'pms170'!B192)","v":"F0441847"},{"$f":"IF(MOD(H192,2),'pms230'!C192,'pms170'!C192)","v":"CAPOTAGE ARRIERE"},{"$f":"IF(MOD(H192,2),'pms230'!D192,'pms170'!G192)","v":"2017-02-21"},{"$f":"IF(MOD(H192,2),'pms230'!E192,'pms170'!H192)","v":"2017-02-21"},{"$f":"IF(MOD(H192,2),'pms230'!F192,'pms170'!F192)","v":"20"},{"$f":"IF(MOD(H192,2),'pms230'!M192,'pms170'!A192)","v":"351060"},191]
[{"$f":"IF(MOD(H193,2),'pms230'!A193,'pms170'!D193)","v":"7082734"},{"$f":"IF(MOD(H193,2),'pms230'!B193,'pms170'!B193)","v":"F0504771"},{"$f":"IF(MOD(H193,2),'pms230'!C193,'pms170'!C193)","v":"ENS REMPLISSAGE TABLETTE STD"},{"$f":"IF(MOD(H193,2),'pms230'!D193,'pms170'!G193)","v":"2017-02-02"},{"$f":"IF(MOD(H193,2),'pms230'!E193,'pms170'!H193)","v":"2017-02-02"},{"$f":"IF(MOD(H193,2),'pms230'!F193,'pms170'!F193)","v":50},{"$f":"IF(MOD(H193,2),'pms230'!M193,'pms170'!A193)","v":"351015"},192]
[{"$f":"IF(MOD(H194,2),'pms230'!A194,'pms170'!D194)","v":"962241"},{"$f":"IF(MOD(H194,2),'pms230'!B194,'pms170'!B194)","v":"F0506321"},{"$f":"IF(MOD(H194,2),'pms230'!C194,'pms170'!C194)","v":"CAPOT POCHETTE DOSSI"},{"$f":"IF(MOD(H194,2),'pms230'!D194,'pms170'!G194)","v":"2017-02-22"},{"$f":"IF(MOD(H194,2),'pms230'!E194,'pms170'!H194)","v":"2017-02-22"},{"$f":"IF(MOD(H194,2),'pms230'!F194,'pms170'!F194)","v":"25"},{"$f":"IF(MOD(H194,2),'pms230'!M194,'pms170'!A194)","v":"351010"},193]
[{"$f":"IF(MOD(H195,2),'pms230'!A195,'pms170'!D195)","v":"7082736"},{"$f":"IF(MOD(H195,2),'pms230'!B195,'pms170'!B195)","v":"F0504771"},{"$f":"IF(MOD(H195,2),'pms230'!C195,'pms170'!C195)","v":"ENS REMPLISSAGE TABLETTE STD"},{"$f":"IF(MOD(H195,2),'pms230'!D195,'pms170'!G195)","v":"2017-02-09"},{"$f":"IF(MOD(H195,2),'pms230'!E195,'pms170'!H195)","v":"2017-02-09"},{"$f":"IF(MOD(H195,2),'pms230'!F195,'pms170'!F195)","v":37},{"$f":"IF(MOD(H195,2),'pms230'!M195,'pms170'!A195)","v":"351015"},194]
[{"$f":"IF(MOD(H196,2),'pms230'!A196,'pms170'!D196)","v":"961312"},{"$f":"IF(MOD(H196,2),'pms230'!B196,'pms170'!B196)","v":"F0506331"},{"$f":"IF(MOD(H196,2),'pms230'!C196,'pms170'!C196)","v":"ENS RENFORT FOND DOS"},{"$f":"IF(MOD(H196,2),'pms230'!D196,'pms170'!G196)","v":"2017-02-22"},{"$f":"IF(MOD(H196,2),'pms230'!E196,'pms170'!H196)","v":"2017-02-22"},{"$f":"IF(MOD(H196,2),'pms230'!F196,'pms170'!F196)","v":"51"},{"$f":"IF(MOD(H196,2),'pms230'!M196,'pms170'!A196)","v":"351010"},195]
[{"$f":"IF(MOD(H197,2),'pms230'!A197,'pms170'!D197)","v":"7075100"},{"$f":"IF(MOD(H197,2),'pms230'!B197,'pms170'!B197)","v":"F0507335"},{"$f":"IF(MOD(H197,2),'pms230'!C197,'pms170'!C197)","v":"ENS REMPLISSAGE TABLETTE STD"},{"$f":"IF(MOD(H197,2),'pms230'!D197,'pms170'!G197)","v":"2017-02-20"},{"$f":"IF(MOD(H197,2),'pms230'!E197,'pms170'!H197)","v":"2017-02-20"},{"$f":"IF(MOD(H197,2),'pms230'!F197,'pms170'!F197)","v":23},{"$f":"IF(MOD(H197,2),'pms230'!M197,'pms170'!A197)","v":"351015"},196]
[{"$f":"IF(MOD(H198,2),'pms230'!A198,'pms170'!D198)","v":"960478"},{"$f":"IF(MOD(H198,2),'pms230'!B198,'pms170'!B198)","v":"F19Z0D0010R0"},{"$f":"IF(MOD(H198,2),'pms230'!C198,'pms170'!C198)","v":"CACHE CROSSE D (P076"},{"$f":"IF(MOD(H198,2),'pms230'!D198,'pms170'!G198)","v":"2017-02-22"},{"$f":"IF(MOD(H198,2),'pms230'!E198,'pms170'!H198)","v":"2017-02-22"},{"$f":"IF(MOD(H198,2),'pms230'!F198,'pms170'!F198)","v":"51"},{"$f":"IF(MOD(H198,2),'pms230'!M198,'pms170'!A198)","v":"351010"},197]
[{"$f":"IF(MOD(H199,2),'pms230'!A199,'pms170'!D199)","v":"6856848"},{"$f":"IF(MOD(H199,2),'pms230'!B199,'pms170'!B199)","v":"F375084"},{"$f":"IF(MOD(H199,2),'pms230'!C199,'pms170'!C199)","v":"MOUSSE TABLETTE"},{"$f":"IF(MOD(H199,2),'pms230'!D199,'pms170'!G199)","v":"2017-02-10"},{"$f":"IF(MOD(H199,2),'pms230'!E199,'pms170'!H199)","v":"2017-02-10"},{"$f":"IF(MOD(H199,2),'pms230'!F199,'pms170'!F199)","v":2},{"$f":"IF(MOD(H199,2),'pms230'!M199,'pms170'!A199)","v":"351015"},198]
[{"$f":"IF(MOD(H200,2),'pms230'!A200,'pms170'!D200)","v":"960480"},{"$f":"IF(MOD(H200,2),'pms230'!B200,'pms170'!B200)","v":"F19Z0D0010R0"},{"$f":"IF(MOD(H200,2),'pms230'!C200,'pms170'!C200)","v":"CACHE CROSSE D (P076"},{"$f":"IF(MOD(H200,2),'pms230'!D200,'pms170'!G200)","v":"2017-02-22"},{"$f":"IF(MOD(H200,2),'pms230'!E200,'pms170'!H200)","v":"2017-02-22"},{"$f":"IF(MOD(H200,2),'pms230'!F200,'pms170'!F200)","v":"37"},{"$f":"IF(MOD(H200,2),'pms230'!M200,'pms170'!A200)","v":"351010"},199]
[{"$f":"IF(MOD(H201,2),'pms230'!A201,'pms170'!D201)","v":"7129299"},{"$f":"IF(MOD(H201,2),'pms230'!B201,'pms170'!B201)","v":"J2000166"},{"$f":"IF(MOD(H201,2),'pms230'!C201,'pms170'!C201)","v":"PANEL SHOE STOW LH REAR LHS"},{"$f":"IF(MOD(H201,2),'pms230'!D201,'pms170'!G201)","v":"2017-02-09"},{"$f":"IF(MOD(H201,2),'pms230'!E201,'pms170'!H201)","v":"2017-02-10"},{"$f":"IF(MOD(H201,2),'pms230'!F201,'pms170'!F201)","v":2},{"$f":"IF(MOD(H201,2),'pms230'!M201,'pms170'!A201)","v":"351020"},200]
[{"$f":"IF(MOD(H202,2),'pms230'!A202,'pms170'!D202)","v":"961315"},{"$f":"IF(MOD(H202,2),'pms230'!B202,'pms170'!B202)","v":"F0506331"},{"$f":"IF(MOD(H202,2),'pms230'!C202,'pms170'!C202)","v":"ENS RENFORT FOND DOS"},{"$f":"IF(MOD(H202,2),'pms230'!D202,'pms170'!G202)","v":"2017-02-22"},{"$f":"IF(MOD(H202,2),'pms230'!E202,'pms170'!H202)","v":"2017-02-22"},{"$f":"IF(MOD(H202,2),'pms230'!F202,'pms170'!F202)","v":"52"},{"$f":"IF(MOD(H202,2),'pms230'!M202,'pms170'!A202)","v":"351010"},201]
[{"$f":"IF(MOD(H203,2),'pms230'!A203,'pms170'!D203)","v":"7129351"},{"$f":"IF(MOD(H203,2),'pms230'!B203,'pms170'!B203)","v":"J2000245"},{"$f":"IF(MOD(H203,2),'pms230'!C203,'pms170'!C203)","v":"DOUBLER MID INNER LIT POCKET"},{"$f":"IF(MOD(H203,2),'pms230'!D203,'pms170'!G203)","v":"2017-02-09"},{"$f":"IF(MOD(H203,2),'pms230'!E203,'pms170'!H203)","v":"2017-02-10"},{"$f":"IF(MOD(H203,2),'pms230'!F203,'pms170'!F203)","v":5},{"$f":"IF(MOD(H203,2),'pms230'!M203,'pms170'!A203)","v":"351020"},202]
[{"$f":"IF(MOD(H204,2),'pms230'!A204,'pms170'!D204)","v":"959270"},{"$f":"IF(MOD(H204,2),'pms230'!B204,'pms170'!B204)","v":"F0517740"},{"$f":"IF(MOD(H204,2),'pms230'!C204,'pms170'!C204)","v":"REMPLISSAGE TAB DORS"},{"$f":"IF(MOD(H204,2),'pms230'!D204,'pms170'!G204)","v":"2017-02-22"},{"$f":"IF(MOD(H204,2),'pms230'!E204,'pms170'!H204)","v":"2017-02-22"},{"$f":"IF(MOD(H204,2),'pms230'!F204,'pms170'!F204)","v":"22"},{"$f":"IF(MOD(H204,2),'pms230'!M204,'pms170'!A204)","v":"351010"},203]
[{"$f":"IF(MOD(H205,2),'pms230'!A205,'pms170'!D205)","v":"6761765"},{"$f":"IF(MOD(H205,2),'pms230'!B205,'pms170'!B205)","v":"J2000717"},{"$f":"IF(MOD(H205,2),'pms230'!C205,'pms170'!C205)","v":"FAIRING SIDE RR"},{"$f":"IF(MOD(H205,2),'pms230'!D205,'pms170'!G205)","v":"2017-01-31"},{"$f":"IF(MOD(H205,2),'pms230'!E205,'pms170'!H205)","v":"2017-01-31"},{"$f":"IF(MOD(H205,2),'pms230'!F205,'pms170'!F205)","v":2},{"$f":"IF(MOD(H205,2),'pms230'!M205,'pms170'!A205)","v":"351020"},204]
[{"$f":"IF(MOD(H206,2),'pms230'!A206,'pms170'!D206)","v":"960450"},{"$f":"IF(MOD(H206,2),'pms230'!B206,'pms170'!B206)","v":"F313205P015"},{"$f":"IF(MOD(H206,2),'pms230'!C206,'pms170'!C206)","v":"H015 CAPOT ACC STD"},{"$f":"IF(MOD(H206,2),'pms230'!D206,'pms170'!G206)","v":"2017-02-23"},{"$f":"IF(MOD(H206,2),'pms230'!E206,'pms170'!H206)","v":"2017-02-23"},{"$f":"IF(MOD(H206,2),'pms230'!F206,'pms170'!F206)","v":"61"},{"$f":"IF(MOD(H206,2),'pms230'!M206,'pms170'!A206)","v":"351010"},205]
[{"$f":"IF(MOD(H207,2),'pms230'!A207,'pms170'!D207)","v":"7002279"},{"$f":"IF(MOD(H207,2),'pms230'!B207,'pms170'!B207)","v":"J2001718"},{"$f":"IF(MOD(H207,2),'pms230'!C207,'pms170'!C207)","v":"CAP TOP AFT"},{"$f":"IF(MOD(H207,2),'pms230'!D207,'pms170'!G207)","v":"2017-02-10"},{"$f":"IF(MOD(H207,2),'pms230'!E207,'pms170'!H207)","v":"2017-02-10"},{"$f":"IF(MOD(H207,2),'pms230'!F207,'pms170'!F207)","v":1},{"$f":"IF(MOD(H207,2),'pms230'!M207,'pms170'!A207)","v":"351020"},206]
[{"$f":"IF(MOD(H208,2),'pms230'!A208,'pms170'!D208)","v":"960452"},{"$f":"IF(MOD(H208,2),'pms230'!B208,'pms170'!B208)","v":"F313205P015"},{"$f":"IF(MOD(H208,2),'pms230'!C208,'pms170'!C208)","v":"H015 CAPOT ACC STD"},{"$f":"IF(MOD(H208,2),'pms230'!D208,'pms170'!G208)","v":"2017-02-23"},{"$f":"IF(MOD(H208,2),'pms230'!E208,'pms170'!H208)","v":"2017-02-23"},{"$f":"IF(MOD(H208,2),'pms230'!F208,'pms170'!F208)","v":"61"},{"$f":"IF(MOD(H208,2),'pms230'!M208,'pms170'!A208)","v":"351010"},207]
[{"$f":"IF(MOD(H209,2),'pms230'!A209,'pms170'!D209)","v":"7126654"},{"$f":"IF(MOD(H209,2),'pms230'!B209,'pms170'!B209)","v":"J2001776"},{"$f":"IF(MOD(H209,2),'pms230'!C209,'pms170'!C209)","v":"POCKET VEST UPPER FWD"},{"$f":"IF(MOD(H209,2),'pms230'!D209,'pms170'!G209)","v":"2017-02-03"},{"$f":"IF(MOD(H209,2),'pms230'!E209,'pms170'!H209)","v":"2017-02-06"},{"$f":"IF(MOD(H209,2),'pms230'!F209,'pms170'!F209)","v":7},{"$f":"IF(MOD(H209,2),'pms230'!M209,'pms170'!A209)","v":"351020"},208]
[{"$f":"IF(MOD(H210,2),'pms230'!A210,'pms170'!D210)","v":"961243"},{"$f":"IF(MOD(H210,2),'pms230'!B210,'pms170'!B210)","v":"F364640P015"},{"$f":"IF(MOD(H210,2),'pms230'!C210,'pms170'!C210)","v":"H015 CAPOT ACC"},{"$f":"IF(MOD(H210,2),'pms230'!D210,'pms170'!G210)","v":"2017-02-23"},{"$f":"IF(MOD(H210,2),'pms230'!E210,'pms170'!H210)","v":"2017-02-23"},{"$f":"IF(MOD(H210,2),'pms230'!F210,'pms170'!F210)","v":"20"},{"$f":"IF(MOD(H210,2),'pms230'!M210,'pms170'!A210)","v":"351010"},209]
[{"$f":"IF(MOD(H211,2),'pms230'!A211,'pms170'!D211)","v":"7002422"},{"$f":"IF(MOD(H211,2),'pms230'!B211,'pms170'!B211)","v":"J2001818"},{"$f":"IF(MOD(H211,2),'pms230'!C211,'pms170'!C211)","v":"FAN"},{"$f":"IF(MOD(H211,2),'pms230'!D211,'pms170'!G211)","v":"2017-01-30"},{"$f":"IF(MOD(H211,2),'pms230'!E211,'pms170'!H211)","v":"2017-01-30"},{"$f":"IF(MOD(H211,2),'pms230'!F211,'pms170'!F211)","v":5},{"$f":"IF(MOD(H211,2),'pms230'!M211,'pms170'!A211)","v":"351020"},210]
[{"$f":"IF(MOD(H212,2),'pms230'!A212,'pms170'!D212)","v":"962243"},{"$f":"IF(MOD(H212,2),'pms230'!B212,'pms170'!B212)","v":"F0483648"},{"$f":"IF(MOD(H212,2),'pms230'!C212,'pms170'!C212)","v":"CAPOT GOULOTTE"},{"$f":"IF(MOD(H212,2),'pms230'!D212,'pms170'!G212)","v":"2017-02-23"},{"$f":"IF(MOD(H212,2),'pms230'!E212,'pms170'!H212)","v":"2017-02-23"},{"$f":"IF(MOD(H212,2),'pms230'!F212,'pms170'!F212)","v":"52"},{"$f":"IF(MOD(H212,2),'pms230'!M212,'pms170'!A212)","v":"351010"},211]
[{"$f":"IF(MOD(H213,2),'pms230'!A213,'pms170'!D213)","v":"6763496"},{"$f":"IF(MOD(H213,2),'pms230'!B213,'pms170'!B213)","v":"J2001822"},{"$f":"IF(MOD(H213,2),'pms230'!C213,'pms170'!C213)","v":"HEADREST REAR CLOSEOUT"},{"$f":"IF(MOD(H213,2),'pms230'!D213,'pms170'!G213)","v":"2017-02-17"},{"$f":"IF(MOD(H213,2),'pms230'!E213,'pms170'!H213)","v":"2017-02-17"},{"$f":"IF(MOD(H213,2),'pms230'!F213,'pms170'!F213)","v":6},{"$f":"IF(MOD(H213,2),'pms230'!M213,'pms170'!A213)","v":"351020"},212]
[{"$f":"IF(MOD(H214,2),'pms230'!A214,'pms170'!D214)","v":"962245"},{"$f":"IF(MOD(H214,2),'pms230'!B214,'pms170'!B214)","v":"F0483648"},{"$f":"IF(MOD(H214,2),'pms230'!C214,'pms170'!C214)","v":"CAPOT GOULOTTE"},{"$f":"IF(MOD(H214,2),'pms230'!D214,'pms170'!G214)","v":"2017-02-23"},{"$f":"IF(MOD(H214,2),'pms230'!E214,'pms170'!H214)","v":"2017-02-23"},{"$f":"IF(MOD(H214,2),'pms230'!F214,'pms170'!F214)","v":"52"},{"$f":"IF(MOD(H214,2),'pms230'!M214,'pms170'!A214)","v":"351010"},213]
[{"$f":"IF(MOD(H215,2),'pms230'!A215,'pms170'!D215)","v":"7004283"},{"$f":"IF(MOD(H215,2),'pms230'!B215,'pms170'!B215)","v":"J2001845"},{"$f":"IF(MOD(H215,2),'pms230'!C215,'pms170'!C215)","v":"DOUBLER SHROUD MID INNER"},{"$f":"IF(MOD(H215,2),'pms230'!D215,'pms170'!G215)","v":"2017-02-08"},{"$f":"IF(MOD(H215,2),'pms230'!E215,'pms170'!H215)","v":"2017-02-09"},{"$f":"IF(MOD(H215,2),'pms230'!F215,'pms170'!F215)","v":1},{"$f":"IF(MOD(H215,2),'pms230'!M215,'pms170'!A215)","v":"351020"},214]
[{"$f":"IF(MOD(H216,2),'pms230'!A216,'pms170'!D216)","v":"962247"},{"$f":"IF(MOD(H216,2),'pms230'!B216,'pms170'!B216)","v":"F0483648"},{"$f":"IF(MOD(H216,2),'pms230'!C216,'pms170'!C216)","v":"CAPOT GOULOTTE"},{"$f":"IF(MOD(H216,2),'pms230'!D216,'pms170'!G216)","v":"2017-02-23"},{"$f":"IF(MOD(H216,2),'pms230'!E216,'pms170'!H216)","v":"2017-02-23"},{"$f":"IF(MOD(H216,2),'pms230'!F216,'pms170'!F216)","v":"25"},{"$f":"IF(MOD(H216,2),'pms230'!M216,'pms170'!A216)","v":"351010"},215]
[{"$f":"IF(MOD(H217,2),'pms230'!A217,'pms170'!D217)","v":"6767666"},{"$f":"IF(MOD(H217,2),'pms230'!B217,'pms170'!B217)","v":"J2001849"},{"$f":"IF(MOD(H217,2),'pms230'!C217,'pms170'!C217)","v":"BACKREST SIDE CLOSEOUT"},{"$f":"IF(MOD(H217,2),'pms230'!D217,'pms170'!G217)","v":"2017-01-24"},{"$f":"IF(MOD(H217,2),'pms230'!E217,'pms170'!H217)","v":"2017-01-24"},{"$f":"IF(MOD(H217,2),'pms230'!F217,'pms170'!F217)","v":5},{"$f":"IF(MOD(H217,2),'pms230'!M217,'pms170'!A217)","v":"351020"},216]
[{"$f":"IF(MOD(H218,2),'pms230'!A218,'pms170'!D218)","v":"957682"},{"$f":"IF(MOD(H218,2),'pms230'!B218,'pms170'!B218)","v":"F0509562"},{"$f":"IF(MOD(H218,2),'pms230'!C218,'pms170'!C218)","v":"ENS  TABLETTE DORSAL"},{"$f":"IF(MOD(H218,2),'pms230'!D218,'pms170'!G218)","v":"2017-02-24"},{"$f":"IF(MOD(H218,2),'pms230'!E218,'pms170'!H218)","v":"2017-02-24"},{"$f":"IF(MOD(H218,2),'pms230'!F218,'pms170'!F218)","v":"9"},{"$f":"IF(MOD(H218,2),'pms230'!M218,'pms170'!A218)","v":"351000"},217]
[{"$f":"IF(MOD(H219,2),'pms230'!A219,'pms170'!D219)","v":"6734503"},{"$f":"IF(MOD(H219,2),'pms230'!B219,'pms170'!B219)","v":"J2001861"},{"$f":"IF(MOD(H219,2),'pms230'!C219,'pms170'!C219)","v":"BACKREST SIDE CLOSEOUT"},{"$f":"IF(MOD(H219,2),'pms230'!D219,'pms170'!G219)","v":"2017-02-28"},{"$f":"IF(MOD(H219,2),'pms230'!E219,'pms170'!H219)","v":"2017-02-28"},{"$f":"IF(MOD(H219,2),'pms230'!F219,'pms170'!F219)","v":1},{"$f":"IF(MOD(H219,2),'pms230'!M219,'pms170'!A219)","v":"351020"},218]
[{"$f":"IF(MOD(H220,2),'pms230'!A220,'pms170'!D220)","v":"962062"},{"$f":"IF(MOD(H220,2),'pms230'!B220,'pms170'!B220)","v":"F0453682"},{"$f":"IF(MOD(H220,2),'pms230'!C220,'pms170'!C220)","v":"PLATEAU"},{"$f":"IF(MOD(H220,2),'pms230'!D220,'pms170'!G220)","v":"2017-02-24"},{"$f":"IF(MOD(H220,2),'pms230'!E220,'pms170'!H220)","v":"2017-02-24"},{"$f":"IF(MOD(H220,2),'pms230'!F220,'pms170'!F220)","v":"22"},{"$f":"IF(MOD(H220,2),'pms230'!M220,'pms170'!A220)","v":"351010"},219]
[{"$f":"IF(MOD(H221,2),'pms230'!A221,'pms170'!D221)","v":"6763560"},{"$f":"IF(MOD(H221,2),'pms230'!B221,'pms170'!B221)","v":"J2001991"},{"$f":"IF(MOD(H221,2),'pms230'!C221,'pms170'!C221)","v":"STOWAGE BIN"},{"$f":"IF(MOD(H221,2),'pms230'!D221,'pms170'!G221)","v":"2017-01-20"},{"$f":"IF(MOD(H221,2),'pms230'!E221,'pms170'!H221)","v":"2017-01-23"},{"$f":"IF(MOD(H221,2),'pms230'!F221,'pms170'!F221)","v":22},{"$f":"IF(MOD(H221,2),'pms230'!M221,'pms170'!A221)","v":"351020"},220]
[{"$f":"IF(MOD(H222,2),'pms230'!A222,'pms170'!D222)","v":"957966"},{"$f":"IF(MOD(H222,2),'pms230'!B222,'pms170'!B222)","v":"F223858P070"},{"$f":"IF(MOD(H222,2),'pms230'!C222,'pms170'!C222)","v":"H070 CAPOT ACCD HAND"},{"$f":"IF(MOD(H222,2),'pms230'!D222,'pms170'!G222)","v":"2017-02-24"},{"$f":"IF(MOD(H222,2),'pms230'!E222,'pms170'!H222)","v":"2017-02-24"},{"$f":"IF(MOD(H222,2),'pms230'!F222,'pms170'!F222)","v":"53"},{"$f":"IF(MOD(H222,2),'pms230'!M222,'pms170'!A222)","v":"351010"},221]
[{"$f":"IF(MOD(H223,2),'pms230'!A223,'pms170'!D223)","v":"6763562"},{"$f":"IF(MOD(H223,2),'pms230'!B223,'pms170'!B223)","v":"J2001991"},{"$f":"IF(MOD(H223,2),'pms230'!C223,'pms170'!C223)","v":"STOWAGE BIN"},{"$f":"IF(MOD(H223,2),'pms230'!D223,'pms170'!G223)","v":"2017-01-23"},{"$f":"IF(MOD(H223,2),'pms230'!E223,'pms170'!H223)","v":"2017-01-24"},{"$f":"IF(MOD(H223,2),'pms230'!F223,'pms170'!F223)","v":15},{"$f":"IF(MOD(H223,2),'pms230'!M223,'pms170'!A223)","v":"351020"},222]
[{"$f":"IF(MOD(H224,2),'pms230'!A224,'pms170'!D224)","v":"960107"},{"$f":"IF(MOD(H224,2),'pms230'!B224,'pms170'!B224)","v":"F367468"},{"$f":"IF(MOD(H224,2),'pms230'!C224,'pms170'!C224)","v":"ENS CAPOT POIGNÉE +"},{"$f":"IF(MOD(H224,2),'pms230'!D224,'pms170'!G224)","v":"2017-02-24"},{"$f":"IF(MOD(H224,2),'pms230'!E224,'pms170'!H224)","v":"2017-02-24"},{"$f":"IF(MOD(H224,2),'pms230'!F224,'pms170'!F224)","v":"50"},{"$f":"IF(MOD(H224,2),'pms230'!M224,'pms170'!A224)","v":"351010"},223]
[{"$f":"IF(MOD(H225,2),'pms230'!A225,'pms170'!D225)","v":"6763679"},{"$f":"IF(MOD(H225,2),'pms230'!B225,'pms170'!B225)","v":"J2002054"},{"$f":"IF(MOD(H225,2),'pms230'!C225,'pms170'!C225)","v":"STOWAGE BIN RH"},{"$f":"IF(MOD(H225,2),'pms230'!D225,'pms170'!G225)","v":"2017-01-31"},{"$f":"IF(MOD(H225,2),'pms230'!E225,'pms170'!H225)","v":"2017-01-31"},{"$f":"IF(MOD(H225,2),'pms230'!F225,'pms170'!F225)","v":20},{"$f":"IF(MOD(H225,2),'pms230'!M225,'pms170'!A225)","v":"351020"},224]
[{"$f":"IF(MOD(H226,2),'pms230'!A226,'pms170'!D226)","v":"961029"},{"$f":"IF(MOD(H226,2),'pms230'!B226,'pms170'!B226)","v":"J2001907"},{"$f":"IF(MOD(H226,2),'pms230'!C226,'pms170'!C226)","v":"SHROUD LOWER INNER D"},{"$f":"IF(MOD(H226,2),'pms230'!D226,'pms170'!G226)","v":"2017-02-24"},{"$f":"IF(MOD(H226,2),'pms230'!E226,'pms170'!H226)","v":"2017-02-24"},{"$f":"IF(MOD(H226,2),'pms230'!F226,'pms170'!F226)","v":"7"},{"$f":"IF(MOD(H226,2),'pms230'!M226,'pms170'!A226)","v":"351030"},225]
[{"$f":"IF(MOD(H227,2),'pms230'!A227,'pms170'!D227)","v":"6763687"},{"$f":"IF(MOD(H227,2),'pms230'!B227,'pms170'!B227)","v":"J2002055"},{"$f":"IF(MOD(H227,2),'pms230'!C227,'pms170'!C227)","v":"STOWAGE BIN LH"},{"$f":"IF(MOD(H227,2),'pms230'!D227,'pms170'!G227)","v":"2017-01-31"},{"$f":"IF(MOD(H227,2),'pms230'!E227,'pms170'!H227)","v":"2017-01-31"},{"$f":"IF(MOD(H227,2),'pms230'!F227,'pms170'!F227)","v":21},{"$f":"IF(MOD(H227,2),'pms230'!M227,'pms170'!A227)","v":"351020"},226]
[{"$f":"IF(MOD(H228,2),'pms230'!A228,'pms170'!D228)","v":"962266"},{"$f":"IF(MOD(H228,2),'pms230'!B228,'pms170'!B228)","v":"J2000181"},{"$f":"IF(MOD(H228,2),'pms230'!C228,'pms170'!C228)","v":"PANEL SHOE STOW UPPE"},{"$f":"IF(MOD(H228,2),'pms230'!D228,'pms170'!G228)","v":"2017-02-27"},{"$f":"IF(MOD(H228,2),'pms230'!E228,'pms170'!H228)","v":"2017-02-27"},{"$f":"IF(MOD(H228,2),'pms230'!F228,'pms170'!F228)","v":"17"},{"$f":"IF(MOD(H228,2),'pms230'!M228,'pms170'!A228)","v":"351020"},227]
[{"$f":"IF(MOD(H229,2),'pms230'!A229,'pms170'!D229)","v":"6763689"},{"$f":"IF(MOD(H229,2),'pms230'!B229,'pms170'!B229)","v":"J2002055"},{"$f":"IF(MOD(H229,2),'pms230'!C229,'pms170'!C229)","v":"STOWAGE BIN LH"},{"$f":"IF(MOD(H229,2),'pms230'!D229,'pms170'!G229)","v":"2017-01-31"},{"$f":"IF(MOD(H229,2),'pms230'!E229,'pms170'!H229)","v":"2017-01-31"},{"$f":"IF(MOD(H229,2),'pms230'!F229,'pms170'!F229)","v":7},{"$f":"IF(MOD(H229,2),'pms230'!M229,'pms170'!A229)","v":"351020"},228]
[{"$f":"IF(MOD(H230,2),'pms230'!A230,'pms170'!D230)","v":"961518"},{"$f":"IF(MOD(H230,2),'pms230'!B230,'pms170'!B230)","v":"F0450776"},{"$f":"IF(MOD(H230,2),'pms230'!C230,'pms170'!C230)","v":"ENS KICK PANEL CENT"},{"$f":"IF(MOD(H230,2),'pms230'!D230,'pms170'!G230)","v":"2017-02-27"},{"$f":"IF(MOD(H230,2),'pms230'!E230,'pms170'!H230)","v":"2017-02-27"},{"$f":"IF(MOD(H230,2),'pms230'!F230,'pms170'!F230)","v":"13"},{"$f":"IF(MOD(H230,2),'pms230'!M230,'pms170'!A230)","v":"351060"},229]
[{"$f":"IF(MOD(H231,2),'pms230'!A231,'pms170'!D231)","v":"6763880"},{"$f":"IF(MOD(H231,2),'pms230'!B231,'pms170'!B231)","v":"J2002124"},{"$f":"IF(MOD(H231,2),'pms230'!C231,'pms170'!C231)","v":"FOOTWELL LINER ASSY"},{"$f":"IF(MOD(H231,2),'pms230'!D231,'pms170'!G231)","v":"2017-02-27"},{"$f":"IF(MOD(H231,2),'pms230'!E231,'pms170'!H231)","v":"2017-02-27"},{"$f":"IF(MOD(H231,2),'pms230'!F231,'pms170'!F231)","v":12},{"$f":"IF(MOD(H231,2),'pms230'!M231,'pms170'!A231)","v":"351020"},230]
[{"$f":"IF(MOD(H232,2),'pms230'!A232,'pms170'!D232)","v":"960574"},{"$f":"IF(MOD(H232,2),'pms230'!B232,'pms170'!B232)","v":"J2002061"},{"$f":"IF(MOD(H232,2),'pms230'!C232,'pms170'!C232)","v":"CLOSEOUT UPPER MED S"},{"$f":"IF(MOD(H232,2),'pms230'!D232,'pms170'!G232)","v":"2017-02-27"},{"$f":"IF(MOD(H232,2),'pms230'!E232,'pms170'!H232)","v":"2017-02-27"},{"$f":"IF(MOD(H232,2),'pms230'!F232,'pms170'!F232)","v":"11"},{"$f":"IF(MOD(H232,2),'pms230'!M232,'pms170'!A232)","v":"351020"},231]
[{"$f":"IF(MOD(H233,2),'pms230'!A233,'pms170'!D233)","v":"7253719"},{"$f":"IF(MOD(H233,2),'pms230'!B233,'pms170'!B233)","v":"J2000689"},{"$f":"IF(MOD(H233,2),'pms230'!C233,'pms170'!C233)","v":"LIT POCKET ASSY DOUBLE STD"},{"$f":"IF(MOD(H233,2),'pms230'!D233,'pms170'!G233)","v":"2017-02-28"},{"$f":"IF(MOD(H233,2),'pms230'!E233,'pms170'!H233)","v":"2017-02-28"},{"$f":"IF(MOD(H233,2),'pms230'!F233,'pms170'!F233)","v":3},{"$f":"IF(MOD(H233,2),'pms230'!M233,'pms170'!A233)","v":"351030"},232]
[{"$f":"IF(MOD(H234,2),'pms230'!A234,'pms170'!D234)","v":"961616"},{"$f":"IF(MOD(H234,2),'pms230'!B234,'pms170'!B234)","v":"F0468874"},{"$f":"IF(MOD(H234,2),'pms230'!C234,'pms170'!C234)","v":"CAPOT"},{"$f":"IF(MOD(H234,2),'pms230'!D234,'pms170'!G234)","v":"2017-02-28"},{"$f":"IF(MOD(H234,2),'pms230'!E234,'pms170'!H234)","v":"2017-02-28"},{"$f":"IF(MOD(H234,2),'pms230'!F234,'pms170'!F234)","v":"46"},{"$f":"IF(MOD(H234,2),'pms230'!M234,'pms170'!A234)","v":"351010"},233]
[{"$f":"IF(MOD(H235,2),'pms230'!A235,'pms170'!D235)","v":"6763774"},{"$f":"IF(MOD(H235,2),'pms230'!B235,'pms170'!B235)","v":"J2002073"},{"$f":"IF(MOD(H235,2),'pms230'!C235,'pms170'!C235)","v":"FOOTREST COVER ASSY"},{"$f":"IF(MOD(H235,2),'pms230'!D235,'pms170'!G235)","v":"2017-02-08"},{"$f":"IF(MOD(H235,2),'pms230'!E235,'pms170'!H235)","v":"2017-02-08"},{"$f":"IF(MOD(H235,2),'pms230'!F235,'pms170'!F235)","v":1},{"$f":"IF(MOD(H235,2),'pms230'!M235,'pms170'!A235)","v":"351030"},234]
[{"$f":"IF(MOD(H236,2),'pms230'!A236,'pms170'!D236)","v":"962061"},{"$f":"IF(MOD(H236,2),'pms230'!B236,'pms170'!B236)","v":"F0453681"},{"$f":"IF(MOD(H236,2),'pms230'!C236,'pms170'!C236)","v":"CAPOT DE FLANC"},{"$f":"IF(MOD(H236,2),'pms230'!D236,'pms170'!G236)","v":"2017-02-28"},{"$f":"IF(MOD(H236,2),'pms230'!E236,'pms170'!H236)","v":"2017-02-28"},{"$f":"IF(MOD(H236,2),'pms230'!F236,'pms170'!F236)","v":"25"},{"$f":"IF(MOD(H236,2),'pms230'!M236,'pms170'!A236)","v":"351010"},235]
[{"$f":"IF(MOD(H237,2),'pms230'!A237,'pms170'!D237)","v":"6742929"},{"$f":"IF(MOD(H237,2),'pms230'!B237,'pms170'!B237)","v":"F0439643"},{"$f":"IF(MOD(H237,2),'pms230'!C237,'pms170'!C237)","v":"ENS CACHE POUTRE"},{"$f":"IF(MOD(H237,2),'pms230'!D237,'pms170'!G237)","v":"2017-02-15"},{"$f":"IF(MOD(H237,2),'pms230'!E237,'pms170'!H237)","v":"2017-02-15"},{"$f":"IF(MOD(H237,2),'pms230'!F237,'pms170'!F237)","v":4},{"$f":"IF(MOD(H237,2),'pms230'!M237,'pms170'!A237)","v":"351060"},236]
[{"$f":"IF(MOD(H238,2),'pms230'!A238,'pms170'!D238)","v":"961618"},{"$f":"IF(MOD(H238,2),'pms230'!B238,'pms170'!B238)","v":"F1EQ0D0170S2"},{"$f":"IF(MOD(H238,2),'pms230'!C238,'pms170'!C238)","v":"CAPOT EPML"},{"$f":"IF(MOD(H238,2),'pms230'!D238,'pms170'!G238)","v":"2017-03-02"},{"$f":"IF(MOD(H238,2),'pms230'!E238,'pms170'!H238)","v":"2017-03-02"},{"$f":"IF(MOD(H238,2),'pms230'!F238,'pms170'!F238)","v":"52"},{"$f":"IF(MOD(H238,2),'pms230'!M238,'pms170'!A238)","v":"351010"},237]
[{"$f":"IF(MOD(H239,2),'pms230'!A239,'pms170'!D239)","v":"7196875"},{"$f":"IF(MOD(H239,2),'pms230'!B239,'pms170'!B239)","v":"F0441778"},{"$f":"IF(MOD(H239,2),'pms230'!C239,'pms170'!C239)","v":"ENS CAPOT MOBILE"},{"$f":"IF(MOD(H239,2),'pms230'!D239,'pms170'!G239)","v":"2017-02-09"},{"$f":"IF(MOD(H239,2),'pms230'!E239,'pms170'!H239)","v":"2017-02-09"},{"$f":"IF(MOD(H239,2),'pms230'!F239,'pms170'!F239)","v":2},{"$f":"IF(MOD(H239,2),'pms230'!M239,'pms170'!A239)","v":"351060"},238]
[{"$f":"IF(MOD(H240,2),'pms230'!A240,'pms170'!D240)","v":"961621"},{"$f":"IF(MOD(H240,2),'pms230'!B240,'pms170'!B240)","v":"F225530P041"},{"$f":"IF(MOD(H240,2),'pms230'!C240,'pms170'!C240)","v":"H041 EQUERRE DE FIXA"},{"$f":"IF(MOD(H240,2),'pms230'!D240,'pms170'!G240)","v":"2017-03-03"},{"$f":"IF(MOD(H240,2),'pms230'!E240,'pms170'!H240)","v":"2017-03-03"},{"$f":"IF(MOD(H240,2),'pms230'!F240,'pms170'!F240)","v":"52"},{"$f":"IF(MOD(H240,2),'pms230'!M240,'pms170'!A240)","v":"351010"},239]
[{"$f":"IF(MOD(H241,2),'pms230'!A241,'pms170'!D241)","v":"7214718"},{"$f":"IF(MOD(H241,2),'pms230'!B241,'pms170'!B241)","v":"F0453648"},{"$f":"IF(MOD(H241,2),'pms230'!C241,'pms170'!C241)","v":"ENSEMBLE CAPOT INF RJ"},{"$f":"IF(MOD(H241,2),'pms230'!D241,'pms170'!G241)","v":"2017-02-03"},{"$f":"IF(MOD(H241,2),'pms230'!E241,'pms170'!H241)","v":"2017-02-03"},{"$f":"IF(MOD(H241,2),'pms230'!F241,'pms170'!F241)","v":17},{"$f":"IF(MOD(H241,2),'pms230'!M241,'pms170'!A241)","v":"351060"},240]
[{"$f":"IF(MOD(H242,2),'pms230'!A242,'pms170'!D242)","v":"960494"},{"$f":"IF(MOD(H242,2),'pms230'!B242,'pms170'!B242)","v":"F0447536"},{"$f":"IF(MOD(H242,2),'pms230'!C242,'pms170'!C242)","v":"CAPOT JOINT G"},{"$f":"IF(MOD(H242,2),'pms230'!D242,'pms170'!G242)","v":"2017-03-03"},{"$f":"IF(MOD(H242,2),'pms230'!E242,'pms170'!H242)","v":"2017-03-03"},{"$f":"IF(MOD(H242,2),'pms230'!F242,'pms170'!F242)","v":"51"},{"$f":"IF(MOD(H242,2),'pms230'!M242,'pms170'!A242)","v":"351010"},241]
[{"$f":"IF(MOD(H243,2),'pms230'!A243,'pms170'!D243)","v":"7099122"},{"$f":"IF(MOD(H243,2),'pms230'!B243,'pms170'!B243)","v":"F0458757"},{"$f":"IF(MOD(H243,2),'pms230'!C243,'pms170'!C243)","v":"ENSEMBLE BOITIER"},{"$f":"IF(MOD(H243,2),'pms230'!D243,'pms170'!G243)","v":"2017-01-23"},{"$f":"IF(MOD(H243,2),'pms230'!E243,'pms170'!H243)","v":"2017-01-23"},{"$f":"IF(MOD(H243,2),'pms230'!F243,'pms170'!F243)","v":2},{"$f":"IF(MOD(H243,2),'pms230'!M243,'pms170'!A243)","v":"351060"},242]
[{"$f":"IF(MOD(H244,2),'pms230'!A244,'pms170'!D244)","v":"960619"},{"$f":"IF(MOD(H244,2),'pms230'!B244,'pms170'!B244)","v":"F0458236"},{"$f":"IF(MOD(H244,2),'pms230'!C244,'pms170'!C244)","v":"MOUSSE TABLETTE"},{"$f":"IF(MOD(H244,2),'pms230'!D244,'pms170'!G244)","v":"2017-03-03"},{"$f":"IF(MOD(H244,2),'pms230'!E244,'pms170'!H244)","v":"2017-03-03"},{"$f":"IF(MOD(H244,2),'pms230'!F244,'pms170'!F244)","v":"50"},{"$f":"IF(MOD(H244,2),'pms230'!M244,'pms170'!A244)","v":"351015"},243]
[{"$f":"IF(MOD(H245,2),'pms230'!A245,'pms170'!D245)","v":"7150928"},{"$f":"IF(MOD(H245,2),'pms230'!B245,'pms170'!B245)","v":"F0464408"},{"$f":"IF(MOD(H245,2),'pms230'!C245,'pms170'!C245)","v":"BOITIER VERT EQ"},{"$f":"IF(MOD(H245,2),'pms230'!D245,'pms170'!G245)","v":"2017-02-06"},{"$f":"IF(MOD(H245,2),'pms230'!E245,'pms170'!H245)","v":"2017-02-06"},{"$f":"IF(MOD(H245,2),'pms230'!F245,'pms170'!F245)","v":38},{"$f":"IF(MOD(H245,2),'pms230'!M245,'pms170'!A245)","v":"351060"},244]
[{"$f":"IF(MOD(H246,2),'pms230'!A246,'pms170'!D246)","v":"962072"},{"$f":"IF(MOD(H246,2),'pms230'!B246,'pms170'!B246)","v":"F0455343"},{"$f":"IF(MOD(H246,2),'pms230'!C246,'pms170'!C246)","v":"OMEGA RENFORT"},{"$f":"IF(MOD(H246,2),'pms230'!D246,'pms170'!G246)","v":"2017-03-06"},{"$f":"IF(MOD(H246,2),'pms230'!E246,'pms170'!H246)","v":"2017-03-06"},{"$f":"IF(MOD(H246,2),'pms230'!F246,'pms170'!F246)","v":"52"},{"$f":"IF(MOD(H246,2),'pms230'!M246,'pms170'!A246)","v":"351010"},245]
[{"$f":"IF(MOD(H247,2),'pms230'!A247,'pms170'!D247)","v":"7099191"},{"$f":"IF(MOD(H247,2),'pms230'!B247,'pms170'!B247)","v":"F0464412"},{"$f":"IF(MOD(H247,2),'pms230'!C247,'pms170'!C247)","v":"ENS BOITIER VERTICAL"},{"$f":"IF(MOD(H247,2),'pms230'!D247,'pms170'!G247)","v":"2017-02-09"},{"$f":"IF(MOD(H247,2),'pms230'!E247,'pms170'!H247)","v":"2017-02-09"},{"$f":"IF(MOD(H247,2),'pms230'!F247,'pms170'!F247)","v":50},{"$f":"IF(MOD(H247,2),'pms230'!M247,'pms170'!A247)","v":"351060"},246]
[{"$f":"IF(MOD(H248,2),'pms230'!A248,'pms170'!D248)","v":"962074"},{"$f":"IF(MOD(H248,2),'pms230'!B248,'pms170'!B248)","v":"F0448730"},{"$f":"IF(MOD(H248,2),'pms230'!C248,'pms170'!C248)","v":"CAPOT CROSSE CTR M J"},{"$f":"IF(MOD(H248,2),'pms230'!D248,'pms170'!G248)","v":"2017-03-07"},{"$f":"IF(MOD(H248,2),'pms230'!E248,'pms170'!H248)","v":"2017-03-07"},{"$f":"IF(MOD(H248,2),'pms230'!F248,'pms170'!F248)","v":"53"},{"$f":"IF(MOD(H248,2),'pms230'!M248,'pms170'!A248)","v":"351010"},247]
[{"$f":"IF(MOD(H249,2),'pms230'!A249,'pms170'!D249)","v":"7134299"},{"$f":"IF(MOD(H249,2),'pms230'!B249,'pms170'!B249)","v":"F0471825"},{"$f":"IF(MOD(H249,2),'pms230'!C249,'pms170'!C249)","v":"ENS CAPOT AR INF DOSSIER 17\"2"},{"$f":"IF(MOD(H249,2),'pms230'!D249,'pms170'!G249)","v":"2017-02-03"},{"$f":"IF(MOD(H249,2),'pms230'!E249,'pms170'!H249)","v":"2017-02-03"},{"$f":"IF(MOD(H249,2),'pms230'!F249,'pms170'!F249)","v":6},{"$f":"IF(MOD(H249,2),'pms230'!M249,'pms170'!A249)","v":"351060"},248]
[{"$f":"IF(MOD(H250,2),'pms230'!A250,'pms170'!D250)","v":"961619"},{"$f":"IF(MOD(H250,2),'pms230'!B250,'pms170'!B250)","v":"F0435866"},{"$f":"IF(MOD(H250,2),'pms230'!C250,'pms170'!C250)","v":"RENFORT CAPOT CROSSE"},{"$f":"IF(MOD(H250,2),'pms230'!D250,'pms170'!G250)","v":"2017-03-08"},{"$f":"IF(MOD(H250,2),'pms230'!E250,'pms170'!H250)","v":"2017-03-08"},{"$f":"IF(MOD(H250,2),'pms230'!F250,'pms170'!F250)","v":"52"},{"$f":"IF(MOD(H250,2),'pms230'!M250,'pms170'!A250)","v":"351010"},249]
[{"$f":"IF(MOD(H251,2),'pms230'!A251,'pms170'!D251)","v":"7147694"},{"$f":"IF(MOD(H251,2),'pms230'!B251,'pms170'!B251)","v":"F0483248"},{"$f":"IF(MOD(H251,2),'pms230'!C251,'pms170'!C251)","v":"ENSEMBLE STRUCTURE"},{"$f":"IF(MOD(H251,2),'pms230'!D251,'pms170'!G251)","v":"2017-02-03"},{"$f":"IF(MOD(H251,2),'pms230'!E251,'pms170'!H251)","v":"2017-02-03"},{"$f":"IF(MOD(H251,2),'pms230'!F251,'pms170'!F251)","v":15},{"$f":"IF(MOD(H251,2),'pms230'!M251,'pms170'!A251)","v":"351060"},250]
[{"$f":"IF(MOD(H252,2),'pms230'!A252,'pms170'!D252)","v":"961625"},{"$f":"IF(MOD(H252,2),'pms230'!B252,'pms170'!B252)","v":"F0474804"},{"$f":"IF(MOD(H252,2),'pms230'!C252,'pms170'!C252)","v":"CAPOT CROSSE CENT"},{"$f":"IF(MOD(H252,2),'pms230'!D252,'pms170'!G252)","v":"2017-03-08"},{"$f":"IF(MOD(H252,2),'pms230'!E252,'pms170'!H252)","v":"2017-03-09"},{"$f":"IF(MOD(H252,2),'pms230'!F252,'pms170'!F252)","v":"52"},{"$f":"IF(MOD(H252,2),'pms230'!M252,'pms170'!A252)","v":"351010"},251]
[{"$f":"IF(MOD(H253,2),'pms230'!A253,'pms170'!D253)","v":"7147719"},{"$f":"IF(MOD(H253,2),'pms230'!B253,'pms170'!B253)","v":"F0484891"},{"$f":"IF(MOD(H253,2),'pms230'!C253,'pms170'!C253)","v":"ENS. CAPOT USB"},{"$f":"IF(MOD(H253,2),'pms230'!D253,'pms170'!G253)","v":"2017-02-07"},{"$f":"IF(MOD(H253,2),'pms230'!E253,'pms170'!H253)","v":"2017-02-07"},{"$f":"IF(MOD(H253,2),'pms230'!F253,'pms170'!F253)","v":2},{"$f":"IF(MOD(H253,2),'pms230'!M253,'pms170'!A253)","v":"351060"},252]
[{"$f":"IF(MOD(H254,2),'pms230'!A254,'pms170'!D254)","v":"962079"},{"$f":"IF(MOD(H254,2),'pms230'!B254,'pms170'!B254)","v":"F0455939"},{"$f":"IF(MOD(H254,2),'pms230'!C254,'pms170'!C254)","v":"CAPOT SUP CROSSE NU"},{"$f":"IF(MOD(H254,2),'pms230'!D254,'pms170'!G254)","v":"2017-03-09"},{"$f":"IF(MOD(H254,2),'pms230'!E254,'pms170'!H254)","v":"2017-03-09"},{"$f":"IF(MOD(H254,2),'pms230'!F254,'pms170'!F254)","v":"52"},{"$f":"IF(MOD(H254,2),'pms230'!M254,'pms170'!A254)","v":"351010"},253]
[{"$f":"IF(MOD(H255,2),'pms230'!A255,'pms170'!D255)","v":"7134846"},{"$f":"IF(MOD(H255,2),'pms230'!B255,'pms170'!B255)","v":"F0503255"},{"$f":"IF(MOD(H255,2),'pms230'!C255,'pms170'!C255)","v":"ENS CAPOT AR INF DOSSIER 17\"2"},{"$f":"IF(MOD(H255,2),'pms230'!D255,'pms170'!G255)","v":"2017-02-03"},{"$f":"IF(MOD(H255,2),'pms230'!E255,'pms170'!H255)","v":"2017-02-03"},{"$f":"IF(MOD(H255,2),'pms230'!F255,'pms170'!F255)","v":2},{"$f":"IF(MOD(H255,2),'pms230'!M255,'pms170'!A255)","v":"351060"},254]
[{"$f":"IF(MOD(H256,2),'pms230'!A256,'pms170'!D256)","v":"962082"},{"$f":"IF(MOD(H256,2),'pms230'!B256,'pms170'!B256)","v":"F0455939"},{"$f":"IF(MOD(H256,2),'pms230'!C256,'pms170'!C256)","v":"CAPOT SUP CROSSE NU"},{"$f":"IF(MOD(H256,2),'pms230'!D256,'pms170'!G256)","v":"2017-03-09"},{"$f":"IF(MOD(H256,2),'pms230'!E256,'pms170'!H256)","v":"2017-03-09"},{"$f":"IF(MOD(H256,2),'pms230'!F256,'pms170'!F256)","v":"52"},{"$f":"IF(MOD(H256,2),'pms230'!M256,'pms170'!A256)","v":"351010"},255]
[{"$f":"IF(MOD(H257,2),'pms230'!A257,'pms170'!D257)","v":"6825858"},{"$f":"IF(MOD(H257,2),'pms230'!B257,'pms170'!B257)","v":"F087140P075"},{"$f":"IF(MOD(H257,2),'pms230'!C257,'pms170'!C257)","v":"H075 KICK PANEL 1 PAX"},{"$f":"IF(MOD(H257,2),'pms230'!D257,'pms170'!G257)","v":"2017-02-07"},{"$f":"IF(MOD(H257,2),'pms230'!E257,'pms170'!H257)","v":"2017-02-07"},{"$f":"IF(MOD(H257,2),'pms230'!F257,'pms170'!F257)","v":2},{"$f":"IF(MOD(H257,2),'pms230'!M257,'pms170'!A257)","v":"351060"},256]
[{"$f":"IF(MOD(H258,2),'pms230'!A258,'pms170'!D258)","v":"962195"},{"$f":"IF(MOD(H258,2),'pms230'!B258,'pms170'!B258)","v":"F0453697"},{"$f":"IF(MOD(H258,2),'pms230'!C258,'pms170'!C258)","v":"PORTE DROITE EQ"},{"$f":"IF(MOD(H258,2),'pms230'!D258,'pms170'!G258)","v":"2017-03-10"},{"$f":"IF(MOD(H258,2),'pms230'!E258,'pms170'!H258)","v":"2017-03-10"},{"$f":"IF(MOD(H258,2),'pms230'!F258,'pms170'!F258)","v":"30"},{"$f":"IF(MOD(H258,2),'pms230'!M258,'pms170'!A258)","v":"351060"},257]
[{"$f":"IF(MOD(H259,2),'pms230'!A259,'pms170'!D259)","v":"6824235"},{"$f":"IF(MOD(H259,2),'pms230'!B259,'pms170'!B259)","v":"F313061"},{"$f":"IF(MOD(H259,2),'pms230'!C259,'pms170'!C259)","v":"REMPLISSAGE LATERAL"},{"$f":"IF(MOD(H259,2),'pms230'!D259,'pms170'!G259)","v":"2017-02-06"},{"$f":"IF(MOD(H259,2),'pms230'!E259,'pms170'!H259)","v":"2017-02-06"},{"$f":"IF(MOD(H259,2),'pms230'!F259,'pms170'!F259)","v":1},{"$f":"IF(MOD(H259,2),'pms230'!M259,'pms170'!A259)","v":"351060"},258]
[{"$f":"IF(MOD(H260,2),'pms230'!A260,'pms170'!D260)","v":"959269"},{"$f":"IF(MOD(H260,2),'pms230'!B260,'pms170'!B260)","v":"F369502"},{"$f":"IF(MOD(H260,2),'pms230'!C260,'pms170'!C260)","v":"MOUSSE CAPOT"},{"$f":"IF(MOD(H260,2),'pms230'!D260,'pms170'!G260)","v":"2017-03-14"},{"$f":"IF(MOD(H260,2),'pms230'!E260,'pms170'!H260)","v":"2017-03-14"},{"$f":"IF(MOD(H260,2),'pms230'!F260,'pms170'!F260)","v":"3"},{"$f":"IF(MOD(H260,2),'pms230'!M260,'pms170'!A260)","v":"351015"},259]
[{"$f":"IF(MOD(H261,2),'pms230'!A261,'pms170'!D261)","v":"7256406"},{"$f":"IF(MOD(H261,2),'pms230'!B261,'pms170'!B261)","v":"F332183P020"},{"$f":"IF(MOD(H261,2),'pms230'!C261,'pms170'!C261)","v":"H020 ENS CAPOT ACCD 1\"8"},{"$f":"IF(MOD(H261,2),'pms230'!D261,'pms170'!G261)","v":"2017-02-03"},{"$f":"IF(MOD(H261,2),'pms230'!E261,'pms170'!H261)","v":"2017-02-03"},{"$f":"IF(MOD(H261,2),'pms230'!F261,'pms170'!F261)","v":10},{"$f":"IF(MOD(H261,2),'pms230'!M261,'pms170'!A261)","v":"351060"},260]
[{"$f":"IF(MOD(H262,2),'pms230'!A262,'pms170'!D262)","v":"962258"},{"$f":"IF(MOD(H262,2),'pms230'!B262,'pms170'!B262)","v":"J2000527"},{"$f":"IF(MOD(H262,2),'pms230'!C262,'pms170'!C262)","v":"BACKSHELL INNER SIDE"},{"$f":"IF(MOD(H262,2),'pms230'!D262,'pms170'!G262)","v":"2017-03-17"},{"$f":"IF(MOD(H262,2),'pms230'!E262,'pms170'!H262)","v":"2017-03-17"},{"$f":"IF(MOD(H262,2),'pms230'!F262,'pms170'!F262)","v":"17"},{"$f":"IF(MOD(H262,2),'pms230'!M262,'pms170'!A262)","v":"351020"},261]
[{"$f":"IF(MOD(H263,2),'pms230'!A263,'pms170'!D263)","v":"7115360"},{"$f":"IF(MOD(H263,2),'pms230'!B263,'pms170'!B263)","v":"F370688"},{"$f":"IF(MOD(H263,2),'pms230'!C263,'pms170'!C263)","v":"ENS PORTE"},{"$f":"IF(MOD(H263,2),'pms230'!D263,'pms170'!G263)","v":"2017-02-06"},{"$f":"IF(MOD(H263,2),'pms230'!E263,'pms170'!H263)","v":"2017-02-06"},{"$f":"IF(MOD(H263,2),'pms230'!F263,'pms170'!F263)","v":50},{"$f":"IF(MOD(H263,2),'pms230'!M263,'pms170'!A263)","v":"351060"},262]
[{"$f":"IF(MOD(H264,2),'pms230'!A264,'pms170'!D264)","v":"962264"},{"$f":"IF(MOD(H264,2),'pms230'!B264,'pms170'!B264)","v":"J2000399"},{"$f":"IF(MOD(H264,2),'pms230'!C264,'pms170'!C264)","v":"FRONT SIDE FAIRING"},{"$f":"IF(MOD(H264,2),'pms230'!D264,'pms170'!G264)","v":"2017-03-17"},{"$f":"IF(MOD(H264,2),'pms230'!E264,'pms170'!H264)","v":"2017-03-17"},{"$f":"IF(MOD(H264,2),'pms230'!F264,'pms170'!F264)","v":"17"},{"$f":"IF(MOD(H264,2),'pms230'!M264,'pms170'!A264)","v":"351020"},263]
[{"$f":"IF(MOD(H265,2),'pms230'!A265,'pms170'!D265)","v":0},{"$f":"IF(MOD(H265,2),'pms230'!B265,'pms170'!B265)","v":0},{"$f":"IF(MOD(H265,2),'pms230'!C265,'pms170'!C265)","v":0},{"$f":"IF(MOD(H265,2),'pms230'!D265,'pms170'!G265)","v":"00:00:00"},{"$f":"IF(MOD(H265,2),'pms230'!E265,'pms170'!H265)","v":"00:00:00"},{"$f":"IF(MOD(H265,2),'pms230'!F265,'pms170'!F265)","v":0},{"$f":"IF(MOD(H265,2),'pms230'!M265,'pms170'!A265)","v":0},264]
[{"$f":"IF(MOD(H266,2),'pms230'!A266,'pms170'!D266)","v":"962254"},{"$f":"IF(MOD(H266,2),'pms230'!B266,'pms170'!B266)","v":"J2000744"},{"$f":"IF(MOD(H266,2),'pms230'!C266,'pms170'!C266)","v":"KBD COVER PANEL"},{"$f":"IF(MOD(H266,2),'pms230'!D266,'pms170'!G266)","v":"2017-03-17"},{"$f":"IF(MOD(H266,2),'pms230'!E266,'pms170'!H266)","v":"2017-03-17"},{"$f":"IF(MOD(H266,2),'pms230'!F266,'pms170'!F266)","v":"17"},{"$f":"IF(MOD(H266,2),'pms230'!M266,'pms170'!A266)","v":"351020"},265]
[{"$f":"IF(MOD(H267,2),'pms230'!A267,'pms170'!D267)","v":0},{"$f":"IF(MOD(H267,2),'pms230'!B267,'pms170'!B267)","v":0},{"$f":"IF(MOD(H267,2),'pms230'!C267,'pms170'!C267)","v":0},{"$f":"IF(MOD(H267,2),'pms230'!D267,'pms170'!G267)","v":"00:00:00"},{"$f":"IF(MOD(H267,2),'pms230'!E267,'pms170'!H267)","v":"00:00:00"},{"$f":"IF(MOD(H267,2),'pms230'!F267,'pms170'!F267)","v":0},{"$f":"IF(MOD(H267,2),'pms230'!M267,'pms170'!A267)","v":0},266]
[{"$f":"IF(MOD(H268,2),'pms230'!A268,'pms170'!D268)","v":"962250"},{"$f":"IF(MOD(H268,2),'pms230'!B268,'pms170'!B268)","v":"F0511677"},{"$f":"IF(MOD(H268,2),'pms230'!C268,'pms170'!C268)","v":" CAPOT SEAT TO SEAT"},{"$f":"IF(MOD(H268,2),'pms230'!D268,'pms170'!G268)","v":"2017-03-17"},{"$f":"IF(MOD(H268,2),'pms230'!E268,'pms170'!H268)","v":"2017-03-17"},{"$f":"IF(MOD(H268,2),'pms230'!F268,'pms170'!F268)","v":"52"},{"$f":"IF(MOD(H268,2),'pms230'!M268,'pms170'!A268)","v":"351010"},267]
[{"$f":"IF(MOD(H269,2),'pms230'!A269,'pms170'!D269)","v":0},{"$f":"IF(MOD(H269,2),'pms230'!B269,'pms170'!B269)","v":0},{"$f":"IF(MOD(H269,2),'pms230'!C269,'pms170'!C269)","v":0},{"$f":"IF(MOD(H269,2),'pms230'!D269,'pms170'!G269)","v":"00:00:00"},{"$f":"IF(MOD(H269,2),'pms230'!E269,'pms170'!H269)","v":"00:00:00"},{"$f":"IF(MOD(H269,2),'pms230'!F269,'pms170'!F269)","v":0},{"$f":"IF(MOD(H269,2),'pms230'!M269,'pms170'!A269)","v":0},268]
[{"$f":"IF(MOD(H270,2),'pms230'!A270,'pms170'!D270)","v":"956847"},{"$f":"IF(MOD(H270,2),'pms230'!B270,'pms170'!B270)","v":"F0508972"},{"$f":"IF(MOD(H270,2),'pms230'!C270,'pms170'!C270)","v":"ENS RENFORT KICK PAN"},{"$f":"IF(MOD(H270,2),'pms230'!D270,'pms170'!G270)","v":"2017-03-23"},{"$f":"IF(MOD(H270,2),'pms230'!E270,'pms170'!H270)","v":"2017-03-23"},{"$f":"IF(MOD(H270,2),'pms230'!F270,'pms170'!F270)","v":"2"},{"$f":"IF(MOD(H270,2),'pms230'!M270,'pms170'!A270)","v":"351010"},269]
[{"$f":"IF(MOD(H271,2),'pms230'!A271,'pms170'!D271)","v":0},{"$f":"IF(MOD(H271,2),'pms230'!B271,'pms170'!B271)","v":0},{"$f":"IF(MOD(H271,2),'pms230'!C271,'pms170'!C271)","v":0},{"$f":"IF(MOD(H271,2),'pms230'!D271,'pms170'!G271)","v":"00:00:00"},{"$f":"IF(MOD(H271,2),'pms230'!E271,'pms170'!H271)","v":"00:00:00"},{"$f":"IF(MOD(H271,2),'pms230'!F271,'pms170'!F271)","v":0},{"$f":"IF(MOD(H271,2),'pms230'!M271,'pms170'!A271)","v":0},270]
[{"$f":"IF(MOD(H272,2),'pms230'!A272,'pms170'!D272)","v":"961446"},{"$f":"IF(MOD(H272,2),'pms230'!B272,'pms170'!B272)","v":"F0506331"},{"$f":"IF(MOD(H272,2),'pms230'!C272,'pms170'!C272)","v":"ENS RENFORT FOND DOS"},{"$f":"IF(MOD(H272,2),'pms230'!D272,'pms170'!G272)","v":"2017-03-29"},{"$f":"IF(MOD(H272,2),'pms230'!E272,'pms170'!H272)","v":"2017-03-29"},{"$f":"IF(MOD(H272,2),'pms230'!F272,'pms170'!F272)","v":"34"},{"$f":"IF(MOD(H272,2),'pms230'!M272,'pms170'!A272)","v":"351010"},271]
[{"$f":"IF(MOD(H273,2),'pms230'!A273,'pms170'!D273)","v":0},{"$f":"IF(MOD(H273,2),'pms230'!B273,'pms170'!B273)","v":0},{"$f":"IF(MOD(H273,2),'pms230'!C273,'pms170'!C273)","v":0},{"$f":"IF(MOD(H273,2),'pms230'!D273,'pms170'!G273)","v":"00:00:00"},{"$f":"IF(MOD(H273,2),'pms230'!E273,'pms170'!H273)","v":"00:00:00"},{"$f":"IF(MOD(H273,2),'pms230'!F273,'pms170'!F273)","v":0},{"$f":"IF(MOD(H273,2),'pms230'!M273,'pms170'!A273)","v":0},272]
[{"$f":"IF(MOD(H274,2),'pms230'!A274,'pms170'!D274)","v":"962267"},{"$f":"IF(MOD(H274,2),'pms230'!B274,'pms170'!B274)","v":"J2000181"},{"$f":"IF(MOD(H274,2),'pms230'!C274,'pms170'!C274)","v":"PANEL SHOE STOW UPPE"},{"$f":"IF(MOD(H274,2),'pms230'!D274,'pms170'!G274)","v":"2017-04-03"},{"$f":"IF(MOD(H274,2),'pms230'!E274,'pms170'!H274)","v":"2017-04-03"},{"$f":"IF(MOD(H274,2),'pms230'!F274,'pms170'!F274)","v":"17"},{"$f":"IF(MOD(H274,2),'pms230'!M274,'pms170'!A274)","v":"351020"},273]
[{"$f":"IF(MOD(H275,2),'pms230'!A275,'pms170'!D275)","v":0},{"$f":"IF(MOD(H275,2),'pms230'!B275,'pms170'!B275)","v":0},{"$f":"IF(MOD(H275,2),'pms230'!C275,'pms170'!C275)","v":0},{"$f":"IF(MOD(H275,2),'pms230'!D275,'pms170'!G275)","v":"00:00:00"},{"$f":"IF(MOD(H275,2),'pms230'!E275,'pms170'!H275)","v":"00:00:00"},{"$f":"IF(MOD(H275,2),'pms230'!F275,'pms170'!F275)","v":0},{"$f":"IF(MOD(H275,2),'pms230'!M275,'pms170'!A275)","v":0},274]
[{"$f":"IF(MOD(H276,2),'pms230'!A276,'pms170'!D276)","v":"962084"},{"$f":"IF(MOD(H276,2),'pms230'!B276,'pms170'!B276)","v":"F0455939"},{"$f":"IF(MOD(H276,2),'pms230'!C276,'pms170'!C276)","v":"CAPOT SUP CROSSE NU"},{"$f":"IF(MOD(H276,2),'pms230'!D276,'pms170'!G276)","v":"2017-04-06"},{"$f":"IF(MOD(H276,2),'pms230'!E276,'pms170'!H276)","v":"2017-04-06"},{"$f":"IF(MOD(H276,2),'pms230'!F276,'pms170'!F276)","v":"52"},{"$f":"IF(MOD(H276,2),'pms230'!M276,'pms170'!A276)","v":"351010"},275]
[{"$f":"IF(MOD(H277,2),'pms230'!A277,'pms170'!D277)","v":0},{"$f":"IF(MOD(H277,2),'pms230'!B277,'pms170'!B277)","v":0},{"$f":"IF(MOD(H277,2),'pms230'!C277,'pms170'!C277)","v":0},{"$f":"IF(MOD(H277,2),'pms230'!D277,'pms170'!G277)","v":"00:00:00"},{"$f":"IF(MOD(H277,2),'pms230'!E277,'pms170'!H277)","v":"00:00:00"},{"$f":"IF(MOD(H277,2),'pms230'!F277,'pms170'!F277)","v":0},{"$f":"IF(MOD(H277,2),'pms230'!M277,'pms170'!A277)","v":0},276]
[{"$f":"IF(MOD(H278,2),'pms230'!A278,'pms170'!D278)","v":"962099"},{"$f":"IF(MOD(H278,2),'pms230'!B278,'pms170'!B278)","v":"F0455939"},{"$f":"IF(MOD(H278,2),'pms230'!C278,'pms170'!C278)","v":"CAPOT SUP CROSSE NU"},{"$f":"IF(MOD(H278,2),'pms230'!D278,'pms170'!G278)","v":"2017-04-14"},{"$f":"IF(MOD(H278,2),'pms230'!E278,'pms170'!H278)","v":"2017-04-14"},{"$f":"IF(MOD(H278,2),'pms230'!F278,'pms170'!F278)","v":"52"},{"$f":"IF(MOD(H278,2),'pms230'!M278,'pms170'!A278)","v":"351010"},277]
[{"$f":"IF(MOD(H279,2),'pms230'!A279,'pms170'!D279)","v":0},{"$f":"IF(MOD(H279,2),'pms230'!B279,'pms170'!B279)","v":0},{"$f":"IF(MOD(H279,2),'pms230'!C279,'pms170'!C279)","v":0},{"$f":"IF(MOD(H279,2),'pms230'!D279,'pms170'!G279)","v":"00:00:00"},{"$f":"IF(MOD(H279,2),'pms230'!E279,'pms170'!H279)","v":"00:00:00"},{"$f":"IF(MOD(H279,2),'pms230'!F279,'pms170'!F279)","v":0},{"$f":"IF(MOD(H279,2),'pms230'!M279,'pms170'!A279)","v":0},278]
[{"$f":"IF(MOD(H280,2),'pms230'!A280,'pms170'!D280)","v":"962101"},{"$f":"IF(MOD(H280,2),'pms230'!B280,'pms170'!B280)","v":"F0455939"},{"$f":"IF(MOD(H280,2),'pms230'!C280,'pms170'!C280)","v":"CAPOT SUP CROSSE NU"},{"$f":"IF(MOD(H280,2),'pms230'!D280,'pms170'!G280)","v":"2017-04-14"},{"$f":"IF(MOD(H280,2),'pms230'!E280,'pms170'!H280)","v":"2017-04-14"},{"$f":"IF(MOD(H280,2),'pms230'!F280,'pms170'!F280)","v":"52"},{"$f":"IF(MOD(H280,2),'pms230'!M280,'pms170'!A280)","v":"351010"},279]
[{"$f":"IF(MOD(H281,2),'pms230'!A281,'pms170'!D281)","v":0},{"$f":"IF(MOD(H281,2),'pms230'!B281,'pms170'!B281)","v":0},{"$f":"IF(MOD(H281,2),'pms230'!C281,'pms170'!C281)","v":0},{"$f":"IF(MOD(H281,2),'pms230'!D281,'pms170'!G281)","v":"00:00:00"},{"$f":"IF(MOD(H281,2),'pms230'!E281,'pms170'!H281)","v":"00:00:00"},{"$f":"IF(MOD(H281,2),'pms230'!F281,'pms170'!F281)","v":0},{"$f":"IF(MOD(H281,2),'pms230'!M281,'pms170'!A281)","v":0},280]
[{"$f":"IF(MOD(H282,2),'pms230'!A282,'pms170'!D282)","v":"961599"},{"$f":"IF(MOD(H282,2),'pms230'!B282,'pms170'!B282)","v":"F0443425"},{"$f":"IF(MOD(H282,2),'pms230'!C282,'pms170'!C282)","v":"CLIP SUP G"},{"$f":"IF(MOD(H282,2),'pms230'!D282,'pms170'!G282)","v":"2017-05-25"},{"$f":"IF(MOD(H282,2),'pms230'!E282,'pms170'!H282)","v":"2017-05-25"},{"$f":"IF(MOD(H282,2),'pms230'!F282,'pms170'!F282)","v":"52"},{"$f":"IF(MOD(H282,2),'pms230'!M282,'pms170'!A282)","v":"351010"},281]
[{"$f":"IF(MOD(H283,2),'pms230'!A283,'pms170'!D283)","v":0},{"$f":"IF(MOD(H283,2),'pms230'!B283,'pms170'!B283)","v":0},{"$f":"IF(MOD(H283,2),'pms230'!C283,'pms170'!C283)","v":0},{"$f":"IF(MOD(H283,2),'pms230'!D283,'pms170'!G283)","v":"00:00:00"},{"$f":"IF(MOD(H283,2),'pms230'!E283,'pms170'!H283)","v":"00:00:00"},{"$f":"IF(MOD(H283,2),'pms230'!F283,'pms170'!F283)","v":0},{"$f":"IF(MOD(H283,2),'pms230'!M283,'pms170'!A283)","v":0},282]
[{"$f":"IF(MOD(H284,2),'pms230'!A284,'pms170'!D284)","v":"958830"},{"$f":"IF(MOD(H284,2),'pms230'!B284,'pms170'!B284)","v":"F363517"},{"$f":"IF(MOD(H284,2),'pms230'!C284,'pms170'!C284)","v":"REMPLISSAGE"},{"$f":"IF(MOD(H284,2),'pms230'!D284,'pms170'!G284)","v":"2017-07-13"},{"$f":"IF(MOD(H284,2),'pms230'!E284,'pms170'!H284)","v":"2017-07-13"},{"$f":"IF(MOD(H284,2),'pms230'!F284,'pms170'!F284)","v":"50"},{"$f":"IF(MOD(H284,2),'pms230'!M284,'pms170'!A284)","v":"351015"},283]
[{"$f":"IF(MOD(H285,2),'pms230'!A285,'pms170'!D285)","v":0},{"$f":"IF(MOD(H285,2),'pms230'!B285,'pms170'!B285)","v":0},{"$f":"IF(MOD(H285,2),'pms230'!C285,'pms170'!C285)","v":0},{"$f":"IF(MOD(H285,2),'pms230'!D285,'pms170'!G285)","v":"00:00:00"},{"$f":"IF(MOD(H285,2),'pms230'!E285,'pms170'!H285)","v":"00:00:00"},{"$f":"IF(MOD(H285,2),'pms230'!F285,'pms170'!F285)","v":0},{"$f":"IF(MOD(H285,2),'pms230'!M285,'pms170'!A285)","v":0},284]
[{"$f":"IF(MOD(H286,2),'pms230'!A286,'pms170'!D286)","v":"961260"},{"$f":"IF(MOD(H286,2),'pms230'!B286,'pms170'!B286)","v":"F0447535"},{"$f":"IF(MOD(H286,2),'pms230'!C286,'pms170'!C286)","v":"CAPOT JOINT D"},{"$f":"IF(MOD(H286,2),'pms230'!D286,'pms170'!G286)","v":"2017-11-16"},{"$f":"IF(MOD(H286,2),'pms230'!E286,'pms170'!H286)","v":"2017-11-16"},{"$f":"IF(MOD(H286,2),'pms230'!F286,'pms170'!F286)","v":"50"},{"$f":"IF(MOD(H286,2),'pms230'!M286,'pms170'!A286)","v":"351010"},285]

{"sheet":"Feuil3","index":4,"n_rows":977,"n_cols":9,"rows_kept":977,"cut":false,"hidden":false,"merged":[]}
["     OF","Article     ","Libelle             ","Deb OP","Fin OP"," Qte C ","Respons   ","compteur"]
["     OF","Article     ","Libelle             ","Deb OP","Fin OP"," Qte C ","Respons   ","compteur"]
[{"$f":"IF(MOD(H3,2),[1]pms170!D2,[1]pms230!A2)","v":"6488930"},{"$f":"IF(MOD(H3,2),[1]pms170!B2,[1]pms230!B2)","v":"F0414369"},{"$f":"IF(MOD(H3,2),[1]pms170!C2,[1]pms230!C2)","v":"TABLETTE DORSALE 3 RECESS STD"},{"$f":"IF(MOD(H3,2),[1]pms170!G2,[1]pms230!D2)","v":"2017-02-20"},{"$f":"IF(MOD(H3,2),[1]pms170!H2,[1]pms230!E2)","v":"2017-02-24"},{"$f":"IF(MOD(H3,2),[1]pms170!F2,[1]pms230!F2)","v":15},{"$f":"IF(MOD(H3,2),[1]pms170!A2,[1]pms230!M2)","v":"351000"},1]
[{"$f":"IF(MOD(H4,2),[1]pms230!A548,[1]pms170!D548)","v":0},{"$f":"IF(MOD(H4,2),[1]pms230!B548,[1]pms170!B548)","v":0},{"$f":"IF(MOD(H4,2),[1]pms230!C548,[1]pms170!C548)","v":0},{"$f":"IF(MOD(H4,2),[1]pms230!D548,[1]pms170!G548)","v":"00:00:00"},{"$f":"IF(MOD(H4,2),[1]pms230!E548,[1]pms170!H548)","v":"00:00:00"},{"$f":"IF(MOD(H4,2),[1]pms230!F548,[1]pms170!F548)","v":0},{"$f":"IF(MOD(H4,2),[1]pms230!M548,[1]pms170!A548)","v":0},1,1]
[{"$f":"IF(MOD(H5,2),[1]pms170!D3,[1]pms230!A3)","v":"960972"},{"$f":"IF(MOD(H5,2),[1]pms170!B3,[1]pms230!B3)","v":"F0476122"},{"$f":"IF(MOD(H5,2),[1]pms170!C3,[1]pms230!C3)","v":"ENS PLATEAU TABLETTE"},{"$f":"IF(MOD(H5,2),[1]pms170!G3,[1]pms230!D3)","v":"2017-01-27"},{"$f":"IF(MOD(H5,2),[1]pms170!H3,[1]pms230!E3)","v":"2017-01-30"},{"$f":"IF(MOD(H5,2),[1]pms170!F3,[1]pms230!F3)","v":"62"},{"$f":"IF(MOD(H5,2),[1]pms170!A3,[1]pms230!M3)","v":"351010"},2]
[{"$f":"IF(MOD(H6,2),[1]pms230!A549,[1]pms170!D549)","v":0},{"$f":"IF(MOD(H6,2),[1]pms230!B549,[1]pms170!B549)","v":0},{"$f":"IF(MOD(H6,2),[1]pms230!C549,[1]pms170!C549)","v":0},{"$f":"IF(MOD(H6,2),[1]pms230!D549,[1]pms170!G549)","v":"00:00:00"},{"$f":"IF(MOD(H6,2),[1]pms230!E549,[1]pms170!H549)","v":"00:00:00"},{"$f":"IF(MOD(H6,2),[1]pms230!F549,[1]pms170!F549)","v":0},{"$f":"IF(MOD(H6,2),[1]pms230!M549,[1]pms170!A549)","v":0},2]
[{"$f":"IF(MOD(H7,2),[1]pms170!D4,[1]pms230!A4)","v":"7123835"},{"$f":"IF(MOD(H7,2),[1]pms170!B4,[1]pms230!B4)","v":"F0442119"},{"$f":"IF(MOD(H7,2),[1]pms170!C4,[1]pms230!C4)","v":"ENS TAB DORSALE"},{"$f":"IF(MOD(H7,2),[1]pms170!G4,[1]pms230!D4)","v":"2017-01-25"},{"$f":"IF(MOD(H7,2),[1]pms170!H4,[1]pms230!E4)","v":"2017-02-21"},{"$f":"IF(MOD(H7,2),[1]pms170!F4,[1]pms230!F4)","v":20},{"$f":"IF(MOD(H7,2),[1]pms170!A4,[1]pms230!M4)","v":"351000"},3]
[{"$f":"IF(MOD(H8,2),[1]pms230!A550,[1]pms170!D550)","v":0},{"$f":"IF(MOD(H8,2),[1]pms230!B550,[1]pms170!B550)","v":0},{"$f":"IF(MOD(H8,2),[1]pms230!C550,[1]pms170!C550)","v":0},{"$f":"IF(MOD(H8,2),[1]pms230!D550,[1]pms170!G550)","v":"00:00:00"},{"$f":"IF(MOD(H8,2),[1]pms230!E550,[1]pms170!H550)","v":"00:00:00"},{"$f":"IF(MOD(H8,2),[1]pms230!F550,[1]pms170!F550)","v":0},{"$f":"IF(MOD(H8,2),[1]pms230!M550,[1]pms170!A550)","v":0},3]
[{"$f":"IF(MOD(H9,2),[1]pms170!D5,[1]pms230!A5)","v":"962221"},{"$f":"IF(MOD(H9,2),[1]pms170!B5,[1]pms230!B5)","v":"F368434P104"},{"$f":"IF(MOD(H9,2),[1]pms170!C5,[1]pms230!C5)","v":"H104 CACHE CHARNIÈRE"},{"$f":"IF(MOD(H9,2),[1]pms170!G5,[1]pms230!D5)","v":"2017-01-30"},{"$f":"IF(MOD(H9,2),[1]pms170!H5,[1]pms230!E5)","v":"2017-01-30"},{"$f":"IF(MOD(H9,2),[1]pms170!F5,[1]pms230!F5)","v":"50"},{"$f":"IF(MOD(H9,2),[1]pms170!A5,[1]pms230!M5)","v":"351010"},4]
[{"$f":"IF(MOD(H10,2),[1]pms230!A551,[1]pms170!D551)","v":0},{"$f":"IF(MOD(H10,2),[1]pms230!B551,[1]pms170!B551)","v":0},{"$f":"IF(MOD(H10,2),[1]pms230!C551,[1]pms170!C551)","v":0},{"$f":"IF(MOD(H10,2),[1]pms230!D551,[1]pms170!G551)","v":"00:00:00"},{"$f":"IF(MOD(H10,2),[1]pms230!E551,[1]pms170!H551)","v":"00:00:00"},{"$f":"IF(MOD(H10,2),[1]pms230!F551,[1]pms170!F551)","v":0},{"$f":"IF(MOD(H10,2),[1]pms230!M551,[1]pms170!A551)","v":0},4]
[{"$f":"IF(MOD(H11,2),[1]pms170!D6,[1]pms230!A6)","v":"7094129"},{"$f":"IF(MOD(H11,2),[1]pms170!B6,[1]pms230!B6)","v":"F0454774"},{"$f":"IF(MOD(H11,2),[1]pms170!C6,[1]pms230!C6)","v":"ENS SUPPORT TV TRONQUE G"},{"$f":"IF(MOD(H11,2),[1]pms170!G6,[1]pms230!D6)","v":"2017-02-14"},{"$f":"IF(MOD(H11,2),[1]pms170!H6,[1]pms230!E6)","v":"2017-02-16"},{"$f":"IF(MOD(H11,2),[1]pms170!F6,[1]pms230!F6)","v":3},{"$f":"IF(MOD(H11,2),[1]pms170!A6,[1]pms230!M6)","v":"351000"},5]
[{"$f":"IF(MOD(H12,2),[1]pms230!A552,[1]pms170!D552)","v":0},{"$f":"IF(MOD(H12,2),[1]pms230!B552,[1]pms170!B552)","v":0},{"$f":"IF(MOD(H12,2),[1]pms230!C552,[1]pms170!C552)","v":0},{"$f":"IF(MOD(H12,2),[1]pms230!D552,[1]pms170!G552)","v":"00:00:00"},{"$f":"IF(MOD(H12,2),[1]pms230!E552,[1]pms170!H552)","v":"00:00:00"},{"$f":"IF(MOD(H12,2),[1]pms230!F552,[1]pms170!F552)","v":0},{"$f":"IF(MOD(H12,2),[1]pms230!M552,[1]pms170!A552)","v":0},5]
[{"$f":"IF(MOD(H13,2),[1]pms170!D7,[1]pms230!A7)","v":"958912"},{"$f":"IF(MOD(H13,2),[1]pms170!B7,[1]pms230!B7)","v":"F040870P020"},{"$f":"IF(MOD(H13,2),[1]pms170!C7,[1]pms230!C7)","v":"H020 - CACHE ENJOLIV"},{"$f":"IF(MOD(H13,2),[1]pms170!G7,[1]pms230!D7)","v":"2017-01-31"},{"$f":"IF(MOD(H13,2),[1]pms170!H7,[1]pms230!E7)","v":"2017-01-31"},{"$f":"IF(MOD(H13,2),[1]pms170!F7,[1]pms230!F7)","v":"2"},{"$f":"IF(MOD(H13,2),[1]pms170!A7,[1]pms230!M7)","v":"351010"},6]
[{"$f":"IF(MOD(H14,2),[1]pms230!A553,[1]pms170!D553)","v":0},{"$f":"IF(MOD(H14,2),[1]pms230!B553,[1]pms170!B553)","v":0},{"$f":"IF(MOD(H14,2),[1]pms230!C553,[1]pms170!C553)","v":0},{"$f":"IF(MOD(H14,2),[1]pms230!D553,[1]pms170!G553)","v":"00:00:00"},{"$f":"IF(MOD(H14,2),[1]pms230!E553,[1]pms170!H553)","v":"00:00:00"},{"$f":"IF(MOD(H14,2),[1]pms230!F553,[1]pms170!F553)","v":0},{"$f":"IF(MOD(H14,2),[1]pms230!M553,[1]pms170!A553)","v":0},6]
[{"$f":"IF(MOD(H15,2),[1]pms170!D8,[1]pms230!A8)","v":"7256686"},{"$f":"IF(MOD(H15,2),[1]pms170!B8,[1]pms230!B8)","v":"F0459470"},{"$f":"IF(MOD(H15,2),[1]pms170!C8,[1]pms230!C8)","v":"ENS PLATEAU TABLETTE"},{"$f":"IF(MOD(H15,2),[1]pms170!G8,[1]pms230!D8)","v":"2017-02-03"},{"$f":"IF(MOD(H15,2),[1]pms170!H8,[1]pms230!E8)","v":"2017-02-09"},{"$f":"IF(MOD(H15,2),[1]pms170!F8,[1]pms230!F8)","v":1},{"$f":"IF(MOD(H15,2),[1]pms170!A8,[1]pms230!M8)","v":"351000"},7]
[{"$f":"IF(MOD(H16,2),[1]pms230!A554,[1]pms170!D554)","v":0},{"$f":"IF(MOD(H16,2),[1]pms230!B554,[1]pms170!B554)","v":0},{"$f":"IF(MOD(H16,2),[1]pms230!C554,[1]pms170!C554)","v":0},{"$f":"IF(MOD(H16,2),[1]pms230!D554,[1]pms170!G554)","v":"00:00:00"},{"$f":"IF(MOD(H16,2),[1]pms230!E554,[1]pms170!H554)","v":"00:00:00"},{"$f":"IF(MOD(H16,2),[1]pms230!F554,[1]pms170!F554)","v":0},{"$f":"IF(MOD(H16,2),[1]pms230!M554,[1]pms170!A554)","v":0},7]
[{"$f":"IF(MOD(H17,2),[1]pms170!D9,[1]pms230!A9)","v":"958008"},{"$f":"IF(MOD(H17,2),[1]pms170!B9,[1]pms230!B9)","v":"F0442119"},{"$f":"IF(MOD(H17,2),[1]pms170!C9,[1]pms230!C9)","v":"ENS TAB DORSALE"},{"$f":"IF(MOD(H17,2),[1]pms170!G9,[1]pms230!D9)","v":"2017-02-01"},{"$f":"IF(MOD(H17,2),[1]pms170!H9,[1]pms230!E9)","v":"2017-02-02"},{"$f":"IF(MOD(H17,2),[1]pms170!F9,[1]pms230!F9)","v":"22"},{"$f":"IF(MOD(H17,2),[1]pms170!A9,[1]pms230!M9)","v":"351000"},8]
[{"$f":"IF(MOD(H18,2),[1]pms230!A555,[1]pms170!D555)","v":0},{"$f":"IF(MOD(H18,2),[1]pms230!B555,[1]pms170!B555)","v":0},{"$f":"IF(MOD(H18,2),[1]pms230!C555,[1]pms170!C555)","v":0},{"$f":"IF(MOD(H18,2),[1]pms230!D555,[1]pms170!G555)","v":"00:00:00"},{"$f":"IF(MOD(H18,2),[1]pms230!E555,[1]pms170!H555)","v":"00:00:00"},{"$f":"IF(MOD(H18,2),[1]pms230!F555,[1]pms170!F555)","v":0},{"$f":"IF(MOD(H18,2),[1]pms230!M555,[1]pms170!A555)","v":0},8]
[{"$f":"IF(MOD(H19,2),[1]pms170!D10,[1]pms230!A10)","v":"6994870"},{"$f":"IF(MOD(H19,2),[1]pms170!B10,[1]pms230!B10)","v":"F047152P075"},{"$f":"IF(MOD(H19,2),[1]pms170!C10,[1]pms230!C10)","v":"H075 KICK PANEL 1 PAX"},{"$f":"IF(MOD(H19,2),[1]pms170!G10,[1]pms230!D10)","v":"2017-02-28"},{"$f":"IF(MOD(H19,2),[1]pms170!H10,[1]pms230!E10)","v":"2017-02-28"},{"$f":"IF(MOD(H19,2),[1]pms170!F10,[1]pms230!F10)","v":2},{"$f":"IF(MOD(H19,2),[1]pms170!A10,[1]pms230!M10)","v":"351000"},9]
[{"$f":"IF(MOD(H20,2),[1]pms230!A556,[1]pms170!D556)","v":0},{"$f":"IF(MOD(H20,2),[1]pms230!B556,[1]pms170!B556)","v":0},{"$f":"IF(MOD(H20,2),[1]pms230!C556,[1]pms170!C556)","v":0},{"$f":"IF(MOD(H20,2),[1]pms230!D556,[1]pms170!G556)","v":"00:00:00"},{"$f":"IF(MOD(H20,2),[1]pms230!E556,[1]pms170!H556)","v":"00:00:00"},{"$f":"IF(MOD(H20,2),[1]pms230!F556,[1]pms170!F556)","v":0},{"$f":"IF(MOD(H20,2),[1]pms230!M556,[1]pms170!A556)","v":0},9]
[{"$f":"IF(MOD(H21,2),[1]pms170!D11,[1]pms230!A11)","v":"959607"},{"$f":"IF(MOD(H21,2),[1]pms170!B11,[1]pms230!B11)","v":"F0476122"},{"$f":"IF(MOD(H21,2),[1]pms170!C11,[1]pms230!C11)","v":"ENS PLATEAU TABLETTE"},{"$f":"IF(MOD(H21,2),[1]pms170!G11,[1]pms230!D11)","v":"2017-02-01"},{"$f":"IF(MOD(H21,2),[1]pms170!H11,[1]pms230!E11)","v":"2017-02-06"},{"$f":"IF(MOD(H21,2),[1]pms170!F11,[1]pms230!F11)","v":"50"},{"$f":"IF(MOD(H21,2),[1]pms170!A11,[1]pms230!M11)","v":"351010"},10]
[{"$f":"IF(MOD(H22,2),[1]pms230!A557,[1]pms170!D557)","v":0},{"$f":"IF(MOD(H22,2),[1]pms230!B557,[1]pms170!B557)","v":0},{"$f":"IF(MOD(H22,2),[1]pms230!C557,[1]pms170!C557)","v":0},{"$f":"IF(MOD(H22,2),[1]pms230!D557,[1]pms170!G557)","v":"00:00:00"},{"$f":"IF(MOD(H22,2),[1]pms230!E557,[1]pms170!H557)","v":"00:00:00"},{"$f":"IF(MOD(H22,2),[1]pms230!F557,[1]pms170!F557)","v":0},{"$f":"IF(MOD(H22,2),[1]pms230!M557,[1]pms170!A557)","v":0},10]
[{"$f":"IF(MOD(H23,2),[1]pms170!D12,[1]pms230!A12)","v":"7057700"},{"$f":"IF(MOD(H23,2),[1]pms170!B12,[1]pms230!B12)","v":"F0482523"},{"$f":"IF(MOD(H23,2),[1]pms170!C12,[1]pms230!C12)","v":"ENS TABLETTE DORSALE STD"},{"$f":"IF(MOD(H23,2),[1]pms170!G12,[1]pms230!D12)","v":"2017-02-23"},{"$f":"IF(MOD(H23,2),[1]pms170!H12,[1]pms230!E12)","v":"2017-02-25"},{"$f":"IF(MOD(H23,2),[1]pms170!F12,[1]pms230!F12)","v":50},{"$f":"IF(MOD(H23,2),[1]pms170!A12,[1]pms230!M12)","v":"351000"},11]
[{"$f":"IF(MOD(H24,2),[1]pms230!A558,[1]pms170!D558)","v":0},{"$f":"IF(MOD(H24,2),[1]pms230!B558,[1]pms170!B558)","v":0},{"$f":"IF(MOD(H24,2),[1]pms230!C558,[1]pms170!C558)","v":0},{"$f":"IF(MOD(H24,2),[1]pms230!D558,[1]pms170!G558)","v":"00:00:00"},{"$f":"IF(MOD(H24,2),[1]pms230!E558,[1]pms170!H558)","v":"00:00:00"},{"$f":"IF(MOD(H24,2),[1]pms230!F558,[1]pms170!F558)","v":0},{"$f":"IF(MOD(H24,2),[1]pms230!M558,[1]pms170!A558)","v":0},11]
[{"$f":"IF(MOD(H25,2),[1]pms170!D13,[1]pms230!A13)","v":"942075"},{"$f":"IF(MOD(H25,2),[1]pms170!B13,[1]pms230!B13)","v":"F0512458"},{"$f":"IF(MOD(H25,2),[1]pms170!C13,[1]pms230!C13)","v":"ENS TABLETTE DORSALE"},{"$f":"IF(MOD(H25,2),[1]pms170!G13,[1]pms230!D13)","v":"2017-02-01"},{"$f":"IF(MOD(H25,2),[1]pms170!H13,[1]pms230!E13)","v":"2017-02-01"},{"$f":"IF(MOD(H25,2),[1]pms170!F13,[1]pms230!F13)","v":"5"},{"$f":"IF(MOD(H25,2),[1]pms170!A13,[1]pms230!M13)","v":"351000"},12]
[{"$f":"IF(MOD(H26,2),[1]pms230!A559,[1]pms170!D559)","v":0},{"$f":"IF(MOD(H26,2),[1]pms230!B559,[1]pms170!B559)","v":0},{"$f":"IF(MOD(H26,2),[1]pms230!C559,[1]pms170!C559)","v":0},{"$f":"IF(MOD(H26,2),[1]pms230!D559,[1]pms170!G559)","v":"00:00:00"},{"$f":"IF(MOD(H26,2),[1]pms230!E559,[1]pms170!H559)","v":"00:00:00"},{"$f":"IF(MOD(H26,2),[1]pms230!F559,[1]pms170!F559)","v":0},{"$f":"IF(MOD(H26,2),[1]pms230!M559,[1]pms170!A559)","v":0},12]
[{"$f":"IF(MOD(H27,2),[1]pms170!D14,[1]pms230!A14)","v":"7253755"},{"$f":"IF(MOD(H27,2),[1]pms170!B14,[1]pms230!B14)","v":"F0483558"},{"$f":"IF(MOD(H27,2),[1]pms170!C14,[1]pms230!C14)","v":"ENS TABLETTE DORSALE STD"},{"$f":"IF(MOD(H27,2),[1]pms170!G14,[1]pms230!D14)","v":"2017-02-13"},{"$f":"IF(MOD(H27,2),[1]pms170!H14,[1]pms230!E14)","v":"2017-02-15"},{"$f":"IF(MOD(H27,2),[1]pms170!F14,[1]pms230!F14)","v":4},{"$f":"IF(MOD(H27,2),[1]pms170!A14,[1]pms230!M14)","v":"351000"},13]
[{"$f":"IF(MOD(H28,2),[1]pms230!A560,[1]pms170!D560)","v":0},{"$f":"IF(MOD(H28,2),[1]pms230!B560,[1]pms170!B560)","v":0},{"$f":"IF(MOD(H28,2),[1]pms230!C560,[1]pms170!C560)","v":0},{"$f":"IF(MOD(H28,2),[1]pms230!D560,[1]pms170!G560)","v":"00:00:00"},{"$f":"IF(MOD(H28,2),[1]pms230!E560,[1]pms170!H560)","v":"00:00:00"},{"$f":"IF(MOD(H28,2),[1]pms230!F560,[1]pms170!F560)","v":0},{"$f":"IF(MOD(H28,2),[1]pms230!M560,[1]pms170!A560)","v":0},13]
[{"$f":"IF(MOD(H29,2),[1]pms170!D15,[1]pms230!A15)","v":"955912"},{"$f":"IF(MOD(H29,2),[1]pms170!B15,[1]pms230!B15)","v":"F0521253"},{"$f":"IF(MOD(H29,2),[1]pms170!C15,[1]pms230!C15)","v":"ENS TABLETTE DORSALE"},{"$f":"IF(MOD(H29,2),[1]pms170!G15,[1]pms230!D15)","v":"2017-02-02"},{"$f":"IF(MOD(H29,2),[1]pms170!H15,[1]pms230!E15)","v":"2017-02-02"},{"$f":"IF(MOD(H29,2),[1]pms170!F15,[1]pms230!F15)","v":"5"},{"$f":"IF(MOD(H29,2),[1]pms170!A15,[1]pms230!M15)","v":"351010"},14]
[{"$f":"IF(MOD(H30,2),[1]pms230!A561,[1]pms170!D561)","v":0},{"$f":"IF(MOD(H30,2),[1]pms230!B561,[1]pms170!B561)","v":0},{"$f":"IF(MOD(H30,2),[1]pms230!C561,[1]pms170!C561)","v":0},{"$f":"IF(MOD(H30,2),[1]pms230!D561,[1]pms170!G561)","v":"00:00:00"},{"$f":"IF(MOD(H30,2),[1]pms230!E561,[1]pms170!H561)","v":"00:00:00"},{"$f":"IF(MOD(H30,2),[1]pms230!F561,[1]pms170!F561)","v":0},{"$f":"IF(MOD(H30,2),[1]pms230!M561,[1]pms170!A561)","v":0},14]
[{"$f":"IF(MOD(H31,2),[1]pms170!D16,[1]pms230!A16)","v":"6954926"},{"$f":"IF(MOD(H31,2),[1]pms170!B16,[1]pms230!B16)","v":"F0503336"},{"$f":"IF(MOD(H31,2),[1]pms170!C16,[1]pms230!C16)","v":"ENS PLATEAU TABLETTE STD"},{"$f":"IF(MOD(H31,2),[1]pms170!G16,[1]pms230!D16)","v":"2017-02-22"},{"$f":"IF(MOD(H31,2),[1]pms170!H16,[1]pms230!E16)","v":"2017-02-23"},{"$f":"IF(MOD(H31,2),[1]pms170!F16,[1]pms230!F16)","v":2},{"$f":"IF(MOD(H31,2),[1]pms170!A16,[1]pms230!M16)","v":"351000"},15]
[{"$f":"IF(MOD(H32,2),[1]pms230!A562,[1]pms170!D562)","v":0},{"$f":"IF(MOD(H32,2),[1]pms230!B562,[1]pms170!B562)","v":0},{"$f":"IF(MOD(H32,2),[1]pms230!C562,[1]pms170!C562)","v":0},{"$f":"IF(MOD(H32,2),[1]pms230!D562,[1]pms170!G562)","v":"00:00:00"},{"$f":"IF(MOD(H32,2),[1]pms230!E562,[1]pms170!H562)","v":"00:00:00"},{"$f":"IF(MOD(H32,2),[1]pms230!F562,[1]pms170!F562)","v":0},{"$f":"IF(MOD(H32,2),[1]pms230!M562,[1]pms170!A562)","v":0},15]
[{"$f":"IF(MOD(H33,2),[1]pms170!D17,[1]pms230!A17)","v":"961556"},{"$f":"IF(MOD(H33,2),[1]pms170!B17,[1]pms230!B17)","v":"F19C0D0060S0"},{"$f":"IF(MOD(H33,2),[1]pms170!C17,[1]pms230!C17)","v":"CAPOT RENFORT IPSC ("},{"$f":"IF(MOD(H33,2),[1]pms170!G17,[1]pms230!D17)","v":"2017-02-02"},{"$f":"IF(MOD(H33,2),[1]pms170!H17,[1]pms230!E17)","v":"2017-02-02"},{"$f":"IF(MOD(H33,2),[1]pms170!F17,[1]pms230!F17)","v":"8"},{"$f":"IF(MOD(H33,2),[1]pms170!A17,[1]pms230!M17)","v":"351010"},16]
[{"$f":"IF(MOD(H34,2),[1]pms230!A563,[1]pms170!D563)","v":0},{"$f":"IF(MOD(H34,2),[1]pms230!B563,[1]pms170!B563)","v":0},{"$f":"IF(MOD(H34,2),[1]pms230!C563,[1]pms170!C563)","v":0},{"$f":"IF(MOD(H34,2),[1]pms230!D563,[1]pms170!G563)","v":"00:00:00"},{"$f":"IF(MOD(H34,2),[1]pms230!E563,[1]pms170!H563)","v":"00:00:00"},{"$f":"IF(MOD(H34,2),[1]pms230!F563,[1]pms170!F563)","v":0},{"$f":"IF(MOD(H34,2),[1]pms230!M563,[1]pms170!A563)","v":0},16]
[{"$f":"IF(MOD(H35,2),[1]pms170!D18,[1]pms230!A18)","v":"7147907"},{"$f":"IF(MOD(H35,2),[1]pms170!B18,[1]pms230!B18)","v":"F0504759"},{"$f":"IF(MOD(H35,2),[1]pms170!C18,[1]pms230!C18)","v":"ENS TABLETTE STD"},{"$f":"IF(MOD(H35,2),[1]pms170!G18,[1]pms230!D18)","v":"2017-02-06"},{"$f":"IF(MOD(H35,2),[1]pms170!H18,[1]pms230!E18)","v":"2017-02-07"},{"$f":"IF(MOD(H35,2),[1]pms170!F18,[1]pms230!F18)","v":50},{"$f":"IF(MOD(H35,2),[1]pms170!A18,[1]pms230!M18)","v":"351000"},17]
[{"$f":"IF(MOD(H36,2),[1]pms230!A564,[1]pms170!D564)","v":0},{"$f":"IF(MOD(H36,2),[1]pms230!B564,[1]pms170!B564)","v":0},{"$f":"IF(MOD(H36,2),[1]pms230!C564,[1]pms170!C564)","v":0},{"$f":"IF(MOD(H36,2),[1]pms230!D564,[1]pms170!G564)","v":"00:00:00"},{"$f":"IF(MOD(H36,2),[1]pms230!E564,[1]pms170!H564)","v":"00:00:00"},{"$f":"IF(MOD(H36,2),[1]pms230!F564,[1]pms170!F564)","v":0},{"$f":"IF(MOD(H36,2),[1]pms230!M564,[1]pms170!A564)","v":0},17]
[{"$f":"IF(MOD(H37,2),[1]pms170!D19,[1]pms230!A19)","v":"962068"},{"$f":"IF(MOD(H37,2),[1]pms170!B19,[1]pms230!B19)","v":"F327807P020"},{"$f":"IF(MOD(H37,2),[1]pms170!C19,[1]pms230!C19)","v":"H020 CAPOT ACCD LAT"},{"$f":"IF(MOD(H37,2),[1]pms170!G19,[1]pms230!D19)","v":"2017-02-02"},{"$f":"IF(MOD(H37,2),[1]pms170!H19,[1]pms230!E19)","v":"2017-02-02"},{"$f":"IF(MOD(H37,2),[1]pms170!F19,[1]pms230!F19)","v":"14"},{"$f":"IF(MOD(H37,2),[1]pms170!A19,[1]pms230!M19)","v":"351010"},18]
[{"$f":"IF(MOD(H38,2),[1]pms230!A565,[1]pms170!D565)","v":0},{"$f":"IF(MOD(H38,2),[1]pms230!B565,[1]pms170!B565)","v":0},{"$f":"IF(MOD(H38,2),[1]pms230!C565,[1]pms170!C565)","v":0},{"$f":"IF(MOD(H38,2),[1]pms230!D565,[1]pms170!G565)","v":"00:00:00"},{"$f":"IF(MOD(H38,2),[1]pms230!E565,[1]pms170!H565)","v":"00:00:00"},{"$f":"IF(MOD(H38,2),[1]pms230!F565,[1]pms170!F565)","v":0},{"$f":"IF(MOD(H38,2),[1]pms230!M565,[1]pms170!A565)","v":0},18]
[{"$f":"IF(MOD(H39,2),[1]pms170!D20,[1]pms230!A20)","v":"7147909"},{"$f":"IF(MOD(H39,2),[1]pms170!B20,[1]pms230!B20)","v":"F0504759"},{"$f":"IF(MOD(H39,2),[1]pms170!C20,[1]pms230!C20)","v":"ENS TABLETTE STD"},{"$f":"IF(MOD(H39,2),[1]pms170!G20,[1]pms230!D20)","v":"2017-02-06"},{"$f":"IF(MOD(H39,2),[1]pms170!H20,[1]pms230!E20)","v":"2017-02-07"},{"$f":"IF(MOD(H39,2),[1]pms170!F20,[1]pms230!F20)","v":50},{"$f":"IF(MOD(H39,2),[1]pms170!A20,[1]pms230!M20)","v":"351000"},19]
[{"$f":"IF(MOD(H40,2),[1]pms230!A566,[1]pms170!D566)","v":0},{"$f":"IF(MOD(H40,2),[1]pms230!B566,[1]pms170!B566)","v":0},{"$f":"IF(MOD(H40,2),[1]pms230!C566,[1]pms170!C566)","v":0},{"$f":"IF(MOD(H40,2),[1]pms230!D566,[1]pms170!G566)","v":"00:00:00"},{"$f":"IF(MOD(H40,2),[1]pms230!E566,[1]pms170!H566)","v":"00:00:00"},{"$f":"IF(MOD(H40,2),[1]pms230!F566,[1]pms170!F566)","v":0},{"$f":"IF(MOD(H40,2),[1]pms230!M566,[1]pms170!A566)","v":0},19]
[{"$f":"IF(MOD(H41,2),[1]pms170!D21,[1]pms230!A21)","v":"962067"},{"$f":"IF(MOD(H41,2),[1]pms170!B21,[1]pms230!B21)","v":"F340205P020"},{"$f":"IF(MOD(H41,2),[1]pms170!C21,[1]pms230!C21)","v":"H020 ENS CAPOT ACCD"},{"$f":"IF(MOD(H41,2),[1]pms170!G21,[1]pms230!D21)","v":"2017-02-02"},{"$f":"IF(MOD(H41,2),[1]pms170!H21,[1]pms230!E21)","v":"2017-02-02"},{"$f":"IF(MOD(H41,2),[1]pms170!F21,[1]pms230!F21)","v":"7"},{"$f":"IF(MOD(H41,2),[1]pms170!A21,[1]pms230!M21)","v":"351060"},20]
[{"$f":"IF(MOD(H42,2),[1]pms230!A567,[1]pms170!D567)","v":0},{"$f":"IF(MOD(H42,2),[1]pms230!B567,[1]pms170!B567)","v":0},{"$f":"IF(MOD(H42,2),[1]pms230!C567,[1]pms170!C567)","v":0},{"$f":"IF(MOD(H42,2),[1]pms230!D567,[1]pms170!G567)","v":"00:00:00"},{"$f":"IF(MOD(H42,2),[1]pms230!E567,[1]pms170!H567)","v":"00:00:00"},{"$f":"IF(MOD(H42,2),[1]pms230!F567,[1]pms170!F567)","v":0},{"$f":"IF(MOD(H42,2),[1]pms230!M567,[1]pms170!A567)","v":0},20]
[{"$f":"IF(MOD(H43,2),[1]pms170!D22,[1]pms230!A22)","v":"7192652"},{"$f":"IF(MOD(H43,2),[1]pms170!B22,[1]pms230!B22)","v":"F0507336"},{"$f":"IF(MOD(H43,2),[1]pms170!C22,[1]pms230!C22)","v":"ENS TABLETTE DORSALE RDT"},{"$f":"IF(MOD(H43,2),[1]pms170!G22,[1]pms230!D22)","v":"2017-02-07"},{"$f":"IF(MOD(H43,2),[1]pms170!H22,[1]pms230!E22)","v":"2017-02-08"},{"$f":"IF(MOD(H43,2),[1]pms170!F22,[1]pms230!F22)","v":23},{"$f":"IF(MOD(H43,2),[1]pms170!A22,[1]pms230!M22)","v":"351000"},21]
[{"$f":"IF(MOD(H44,2),[1]pms230!A568,[1]pms170!D568)","v":0},{"$f":"IF(MOD(H44,2),[1]pms230!B568,[1]pms170!B568)","v":0},{"$f":"IF(MOD(H44,2),[1]pms230!C568,[1]pms170!C568)","v":0},{"$f":"IF(MOD(H44,2),[1]pms230!D568,[1]pms170!G568)","v":"00:00:00"},{"$f":"IF(MOD(H44,2),[1]pms230!E568,[1]pms170!H568)","v":"00:00:00"},{"$f":"IF(MOD(H44,2),[1]pms230!F568,[1]pms170!F568)","v":0},{"$f":"IF(MOD(H44,2),[1]pms230!M568,[1]pms170!A568)","v":0},21]
[{"$f":"IF(MOD(H45,2),[1]pms170!D23,[1]pms230!A23)","v":"958658"},{"$f":"IF(MOD(H45,2),[1]pms170!B23,[1]pms230!B23)","v":"J2000012"},{"$f":"IF(MOD(H45,2),[1]pms170!C23,[1]pms230!C23)","v":"FAIRING BACKERST"},{"$f":"IF(MOD(H45,2),[1]pms170!G23,[1]pms230!D23)","v":"2017-02-03"},{"$f":"IF(MOD(H45,2),[1]pms170!H23,[1]pms230!E23)","v":"2017-02-03"},{"$f":"IF(MOD(H45,2),[1]pms170!F23,[1]pms230!F23)","v":"4"},{"$f":"IF(MOD(H45,2),[1]pms170!A23,[1]pms230!M23)","v":"351020"},22]
[{"$f":"IF(MOD(H46,2),[1]pms230!A569,[1]pms170!D569)","v":0},{"$f":"IF(MOD(H46,2),[1]pms230!B569,[1]pms170!B569)","v":0},{"$f":"IF(MOD(H46,2),[1]pms230!C569,[1]pms170!C569)","v":0},{"$f":"IF(MOD(H46,2),[1]pms230!D569,[1]pms170!G569)","v":"00:00:00"},{"$f":"IF(MOD(H46,2),[1]pms230!E569,[1]pms170!H569)","v":"00:00:00"},{"$f":"IF(MOD(H46,2),[1]pms230!F569,[1]pms170!F569)","v":0},{"$f":"IF(MOD(H46,2),[1]pms230!M569,[1]pms170!A569)","v":0},22]
[{"$f":"IF(MOD(H47,2),[1]pms170!D24,[1]pms230!A24)","v":"6835754"},{"$f":"IF(MOD(H47,2),[1]pms170!B24,[1]pms230!B24)","v":"F0509487"},{"$f":"IF(MOD(H47,2),[1]pms170!C24,[1]pms230!C24)","v":"ENS TABLETTE DORSALE 17\"05"},{"$f":"IF(MOD(H47,2),[1]pms170!G24,[1]pms230!D24)","v":"2017-02-17"},{"$f":"IF(MOD(H47,2),[1]pms170!H24,[1]pms230!E24)","v":"2017-02-22"},{"$f":"IF(MOD(H47,2),[1]pms170!F24,[1]pms230!F24)","v":50},{"$f":"IF(MOD(H47,2),[1]pms170!A24,[1]pms230!M24)","v":"351000"},23]
[{"$f":"IF(MOD(H48,2),[1]pms230!A570,[1]pms170!D570)","v":0},{"$f":"IF(MOD(H48,2),[1]pms230!B570,[1]pms170!B570)","v":0},{"$f":"IF(MOD(H48,2),[1]pms230!C570,[1]pms170!C570)","v":0},{"$f":"IF(MOD(H48,2),[1]pms230!D570,[1]pms170!G570)","v":"00:00:00"},{"$f":"IF(MOD(H48,2),[1]pms230!E570,[1]pms170!H570)","v":"00:00:00"},{"$f":"IF(MOD(H48,2),[1]pms230!F570,[1]pms170!F570)","v":0},{"$f":"IF(MOD(H48,2),[1]pms230!M570,[1]pms170!A570)","v":0},23]
[{"$f":"IF(MOD(H49,2),[1]pms170!D25,[1]pms230!A25)","v":"957717"},{"$f":"IF(MOD(H49,2),[1]pms170!B25,[1]pms230!B25)","v":"F0505127"},{"$f":"IF(MOD(H49,2),[1]pms170!C25,[1]pms230!C25)","v":"SUPPORT SEAT TO SEAT"},{"$f":"IF(MOD(H49,2),[1]pms170!G25,[1]pms230!D25)","v":"2017-02-03"},{"$f":"IF(MOD(H49,2),[1]pms170!H25,[1]pms230!E25)","v":"2017-02-03"},{"$f":"IF(MOD(H49,2),[1]pms170!F25,[1]pms230!F25)","v":"2"},{"$f":"IF(MOD(H49,2),[1]pms170!A25,[1]pms230!M25)","v":"351010"},24]
[{"$f":"IF(MOD(H50,2),[1]pms230!A571,[1]pms170!D571)","v":0},{"$f":"IF(MOD(H50,2),[1]pms230!B571,[1]pms170!B571)","v":0},{"$f":"IF(MOD(H50,2),[1]pms230!C571,[1]pms170!C571)","v":0},{"$f":"IF(MOD(H50,2),[1]pms230!D571,[1]pms170!G571)","v":"00:00:00"},{"$f":"IF(MOD(H50,2),[1]pms230!E571,[1]pms170!H571)","v":"00:00:00"},{"$f":"IF(MOD(H50,2),[1]pms230!F571,[1]pms170!F571)","v":0},{"$f":"IF(MOD(H50,2),[1]pms230!M571,[1]pms170!A571)","v":0},24]
[{"$f":"IF(MOD(H51,2),[1]pms170!D26,[1]pms230!A26)","v":"6967583"},{"$f":"IF(MOD(H51,2),[1]pms170!B26,[1]pms230!B26)","v":"F0509487"},{"$f":"IF(MOD(H51,2),[1]pms170!C26,[1]pms230!C26)","v":"ENS TABLETTE DORSALE 17\"05"},{"$f":"IF(MOD(H51,2),[1]pms170!G26,[1]pms230!D26)","v":"2017-02-17"},{"$f":"IF(MOD(H51,2),[1]pms170!H26,[1]pms230!E26)","v":"2017-02-22"},{"$f":"IF(MOD(H51,2),[1]pms170!F26,[1]pms230!F26)","v":6},{"$f":"IF(MOD(H51,2),[1]pms170!A26,[1]pms230!M26)","v":"351000"},25]
[{"$f":"IF(MOD(H52,2),[1]pms230!A572,[1]pms170!D572)","v":0},{"$f":"IF(MOD(H52,2),[1]pms230!B572,[1]pms170!B572)","v":0},{"$f":"IF(MOD(H52,2),[1]pms230!C572,[1]pms170!C572)","v":0},{"$f":"IF(MOD(H52,2),[1]pms230!D572,[1]pms170!G572)","v":"00:00:00"},{"$f":"IF(MOD(H52,2),[1]pms230!E572,[1]pms170!H572)","v":"00:00:00"},{"$f":"IF(MOD(H52,2),[1]pms230!F572,[1]pms170!F572)","v":0},{"$f":"IF(MOD(H52,2),[1]pms230!M572,[1]pms170!A572)","v":0},25]
[{"$f":"IF(MOD(H53,2),[1]pms170!D27,[1]pms230!A27)","v":"961333"},{"$f":"IF(MOD(H53,2),[1]pms170!B27,[1]pms230!B27)","v":"F337135"},{"$f":"IF(MOD(H53,2),[1]pms170!C27,[1]pms230!C27)","v":"REMPLISSAGE TABLETTE"},{"$f":"IF(MOD(H53,2),[1]pms170!G27,[1]pms230!D27)","v":"2017-02-03"},{"$f":"IF(MOD(H53,2),[1]pms170!H27,[1]pms230!E27)","v":"2017-02-03"},{"$f":"IF(MOD(H53,2),[1]pms170!F27,[1]pms230!F27)","v":"23"},{"$f":"IF(MOD(H53,2),[1]pms170!A27,[1]pms230!M27)","v":"351015"},26]
[{"$f":"IF(MOD(H54,2),[1]pms230!A573,[1]pms170!D573)","v":0},{"$f":"IF(MOD(H54,2),[1]pms230!B573,[1]pms170!B573)","v":0},{"$f":"IF(MOD(H54,2),[1]pms230!C573,[1]pms170!C573)","v":0},{"$f":"IF(MOD(H54,2),[1]pms230!D573,[1]pms170!G573)","v":"00:00:00"},{"$f":"IF(MOD(H54,2),[1]pms230!E573,[1]pms170!H573)","v":"00:00:00"},{"$f":"IF(MOD(H54,2),[1]pms230!F573,[1]pms170!F573)","v":0},{"$f":"IF(MOD(H54,2),[1]pms230!M573,[1]pms170!A573)","v":0},26]
[{"$f":"IF(MOD(H55,2),[1]pms170!D28,[1]pms230!A28)","v":"6440454"},{"$f":"IF(MOD(H55,2),[1]pms170!B28,[1]pms230!B28)","v":"F087144P075"},{"$f":"IF(MOD(H55,2),[1]pms170!C28,[1]pms230!C28)","v":"H075 KICK PANEL 1 PAX"},{"$f":"IF(MOD(H55,2),[1]pms170!G28,[1]pms230!D28)","v":"2017-02-28"},{"$f":"IF(MOD(H55,2),[1]pms170!H28,[1]pms230!E28)","v":"2017-02-28"},{"$f":"IF(MOD(H55,2),[1]pms170!F28,[1]pms230!F28)","v":2},{"$f":"IF(MOD(H55,2),[1]pms170!A28,[1]pms230!M28)","v":"351000"},27]
[{"$f":"IF(MOD(H56,2),[1]pms230!A574,[1]pms170!D574)","v":0},{"$f":"IF(MOD(H56,2),[1]pms230!B574,[1]pms170!B574)","v":0},{"$f":"IF(MOD(H56,2),[1]pms230!C574,[1]pms170!C574)","v":0},{"$f":"IF(MOD(H56,2),[1]pms230!D574,[1]pms170!G574)","v":"00:00:00"},{"$f":"IF(MOD(H56,2),[1]pms230!E574,[1]pms170!H574)","v":"00:00:00"},{"$f":"IF(MOD(H56,2),[1]pms230!F574,[1]pms170!F574)","v":0},{"$f":"IF(MOD(H56,2),[1]pms230!M574,[1]pms170!A574)","v":0},27]
[{"$f":"IF(MOD(H57,2),[1]pms170!D29,[1]pms230!A29)","v":"960007"},{"$f":"IF(MOD(H57,2),[1]pms170!B29,[1]pms230!B29)","v":"J2002129"},{"$f":"IF(MOD(H57,2),[1]pms170!C29,[1]pms230!C29)","v":"LINER ASSY LOW SEAT"},{"$f":"IF(MOD(H57,2),[1]pms170!G29,[1]pms230!D29)","v":"2017-02-06"},{"$f":"IF(MOD(H57,2),[1]pms170!H29,[1]pms230!E29)","v":"2017-02-06"},{"$f":"IF(MOD(H57,2),[1]pms170!F29,[1]pms230!F29)","v":"14"},{"$f":"IF(MOD(H57,2),[1]pms170!A29,[1]pms230!M29)","v":"351030"},28]
[{"$f":"IF(MOD(H58,2),[1]pms230!A575,[1]pms170!D575)","v":0},{"$f":"IF(MOD(H58,2),[1]pms230!B575,[1]pms170!B575)","v":0},{"$f":"IF(MOD(H58,2),[1]pms230!C575,[1]pms170!C575)","v":0},{"$f":"IF(MOD(H58,2),[1]pms230!D575,[1]pms170!G575)","v":"00:00:00"},{"$f":"IF(MOD(H58,2),[1]pms230!E575,[1]pms170!H575)","v":"00:00:00"},{"$f":"IF(MOD(H58,2),[1]pms230!F575,[1]pms170!F575)","v":0},{"$f":"IF(MOD(H58,2),[1]pms230!M575,[1]pms170!A575)","v":0},28]
[{"$f":"IF(MOD(H59,2),[1]pms170!D30,[1]pms230!A30)","v":"6979053"},{"$f":"IF(MOD(H59,2),[1]pms170!B30,[1]pms230!B30)","v":"F321702P022"},{"$f":"IF(MOD(H59,2),[1]pms170!C30,[1]pms230!C30)","v":"H022 ENS PLATEAU TABLETTE"},{"$f":"IF(MOD(H59,2),[1]pms170!G30,[1]pms230!D30)","v":"2017-02-06"},{"$f":"IF(MOD(H59,2),[1]pms170!H30,[1]pms230!E30)","v":"2017-02-13"},{"$f":"IF(MOD(H59,2),[1]pms170!F30,[1]pms230!F30)","v":23},{"$f":"IF(MOD(H59,2),[1]pms170!A30,[1]pms230!M30)","v":"351000"},29]
[{"$f":"IF(MOD(H60,2),[1]pms230!A576,[1]pms170!D576)","v":0},{"$f":"IF(MOD(H60,2),[1]pms230!B576,[1]pms170!B576)","v":0},{"$f":"IF(MOD(H60,2),[1]pms230!C576,[1]pms170!C576)","v":0},{"$f":"IF(MOD(H60,2),[1]pms230!D576,[1]pms170!G576)","v":"00:00:00"},{"$f":"IF(MOD(H60,2),[1]pms230!E576,[1]pms170!H576)","v":"00:00:00"},{"$f":"IF(MOD(H60,2),[1]pms230!F576,[1]pms170!F576)","v":0},{"$f":"IF(MOD(H60,2),[1]pms230!M576,[1]pms170!A576)","v":0},29]
[{"$f":"IF(MOD(H61,2),[1]pms170!D31,[1]pms230!A31)","v":"960009"},{"$f":"IF(MOD(H61,2),[1]pms170!B31,[1]pms230!B31)","v":"J2002129"},{"$f":"IF(MOD(H61,2),[1]pms170!C31,[1]pms230!C31)","v":"LINER ASSY LOW SEAT"},{"$f":"IF(MOD(H61,2),[1]pms170!G31,[1]pms230!D31)","v":"2017-02-06"},{"$f":"IF(MOD(H61,2),[1]pms170!H31,[1]pms230!E31)","v":"2017-02-06"},{"$f":"IF(MOD(H61,2),[1]pms170!F31,[1]pms230!F31)","v":"14"},{"$f":"IF(MOD(H61,2),[1]pms170!A31,[1]pms230!M31)","v":"351030"},30]
[{"$f":"IF(MOD(H62,2),[1]pms230!A577,[1]pms170!D577)","v":0},{"$f":"IF(MOD(H62,2),[1]pms230!B577,[1]pms170!B577)","v":0},{"$f":"IF(MOD(H62,2),[1]pms230!C577,[1]pms170!C577)","v":0},{"$f":"IF(MOD(H62,2),[1]pms230!D577,[1]pms170!G577)","v":"00:00:00"},{"$f":"IF(MOD(H62,2),[1]pms230!E577,[1]pms170!H577)","v":"00:00:00"},{"$f":"IF(MOD(H62,2),[1]pms230!F577,[1]pms170!F577)","v":0},{"$f":"IF(MOD(H62,2),[1]pms230!M577,[1]pms170!A577)","v":0},30]
[{"$f":"IF(MOD(H63,2),[1]pms170!D32,[1]pms230!A32)","v":"7117323"},{"$f":"IF(MOD(H63,2),[1]pms170!B32,[1]pms230!B32)","v":"F363516"},{"$f":"IF(MOD(H63,2),[1]pms170!C32,[1]pms230!C32)","v":"PLATEAU DE TABLETTE 3517"},{"$f":"IF(MOD(H63,2),[1]pms170!G32,[1]pms230!D32)","v":"2017-02-03"},{"$f":"IF(MOD(H63,2),[1]pms170!H32,[1]pms230!E32)","v":"2017-02-07"},{"$f":"IF(MOD(H63,2),[1]pms170!F32,[1]pms230!F32)","v":3},{"$f":"IF(MOD(H63,2),[1]pms170!A32,[1]pms230!M32)","v":"351000"},31]
[{"$f":"IF(MOD(H64,2),[1]pms230!A578,[1]pms170!D578)","v":0},{"$f":"IF(MOD(H64,2),[1]pms230!B578,[1]pms170!B578)","v":0},{"$f":"IF(MOD(H64,2),[1]pms230!C578,[1]pms170!C578)","v":0},{"$f":"IF(MOD(H64,2),[1]pms230!D578,[1]pms170!G578)","v":"00:00:00"},{"$f":"IF(MOD(H64,2),[1]pms230!E578,[1]pms170!H578)","v":"00:00:00"},{"$f":"IF(MOD(H64,2),[1]pms230!F578,[1]pms170!F578)","v":0},{"$f":"IF(MOD(H64,2),[1]pms230!M578,[1]pms170!A578)","v":0},31]
[{"$f":"IF(MOD(H65,2),[1]pms170!D33,[1]pms230!A33)","v":"5721673"},{"$f":"IF(MOD(H65,2),[1]pms170!B33,[1]pms230!B33)","v":"F020771P070"},{"$f":"IF(MOD(H65,2),[1]pms170!C33,[1]pms230!C33)","v":"H070 JONC AVANT"},{"$f":"IF(MOD(H65,2),[1]pms170!G33,[1]pms230!D33)","v":"2017-02-14"},{"$f":"IF(MOD(H65,2),[1]pms170!H33,[1]pms230!E33)","v":"2017-02-15"},{"$f":"IF(MOD(H65,2),[1]pms170!F33,[1]pms230!F33)","v":2},{"$f":"IF(MOD(H65,2),[1]pms170!A33,[1]pms230!M33)","v":"351010"},31]
[{"$f":"IF(MOD(H66,2),[1]pms230!A579,[1]pms170!D579)","v":0},{"$f":"IF(MOD(H66,2),[1]pms230!B579,[1]pms170!B579)","v":0},{"$f":"IF(MOD(H66,2),[1]pms230!C579,[1]pms170!C579)","v":0},{"$f":"IF(MOD(H66,2),[1]pms230!D579,[1]pms170!G579)","v":"00:00:00"},{"$f":"IF(MOD(H66,2),[1]pms230!E579,[1]pms170!H579)","v":"00:00:00"},{"$f":"IF(MOD(H66,2),[1]pms230!F579,[1]pms170!F579)","v":0},{"$f":"IF(MOD(H66,2),[1]pms230!M579,[1]pms170!A579)","v":0},32]
[{"$f":"IF(MOD(H67,2),[1]pms170!D34,[1]pms230!A34)","v":"961523"},{"$f":"IF(MOD(H67,2),[1]pms170!B34,[1]pms230!B34)","v":"J2001707"},{"$f":"IF(MOD(H67,2),[1]pms170!C34,[1]pms230!C34)","v":"DOUBLER CLOSEOUT SID"},{"$f":"IF(MOD(H67,2),[1]pms170!G34,[1]pms230!D34)","v":"2017-02-07"},{"$f":"IF(MOD(H67,2),[1]pms170!H34,[1]pms230!E34)","v":"2017-02-07"},{"$f":"IF(MOD(H67,2),[1]pms170!F34,[1]pms230!F34)","v":"4"},{"$f":"IF(MOD(H67,2),[1]pms170!A34,[1]pms230!M34)","v":"351010"},32]
[{"$f":"IF(MOD(H68,2),[1]pms230!A580,[1]pms170!D580)","v":0},{"$f":"IF(MOD(H68,2),[1]pms230!B580,[1]pms170!B580)","v":0},{"$f":"IF(MOD(H68,2),[1]pms230!C580,[1]pms170!C580)","v":0},{"$f":"IF(MOD(H68,2),[1]pms230!D580,[1]pms170!G580)","v":"00:00:00"},{"$f":"IF(MOD(H68,2),[1]pms230!E580,[1]pms170!H580)","v":"00:00:00"},{"$f":"IF(MOD(H68,2),[1]pms230!F580,[1]pms170!F580)","v":0},{"$f":"IF(MOD(H68,2),[1]pms230!M580,[1]pms170!A580)","v":0},33]
[{"$f":"IF(MOD(H69,2),[1]pms170!D35,[1]pms230!A35)","v":"7126622"},{"$f":"IF(MOD(H69,2),[1]pms170!B35,[1]pms230!B35)","v":"F0407802"},{"$f":"IF(MOD(H69,2),[1]pms170!C35,[1]pms230!C35)","v":"CAPOT DESSOUS MANCHETTE G"},{"$f":"IF(MOD(H69,2),[1]pms170!G35,[1]pms230!D35)","v":"2017-01-30"},{"$f":"IF(MOD(H69,2),[1]pms170!H35,[1]pms230!E35)","v":"2017-01-30"},{"$f":"IF(MOD(H69,2),[1]pms170!F35,[1]pms230!F35)","v":1},{"$f":"IF(MOD(H69,2),[1]pms170!A35,[1]pms230!M35)","v":"351010"},33]
[{"$f":"IF(MOD(H70,2),[1]pms230!A581,[1]pms170!D581)","v":0},{"$f":"IF(MOD(H70,2),[1]pms230!B581,[1]pms170!B581)","v":0},{"$f":"IF(MOD(H70,2),[1]pms230!C581,[1]pms170!C581)","v":0},{"$f":"IF(MOD(H70,2),[1]pms230!D581,[1]pms170!G581)","v":"00:00:00"},{"$f":"IF(MOD(H70,2),[1]pms230!E581,[1]pms170!H581)","v":"00:00:00"},{"$f":"IF(MOD(H70,2),[1]pms230!F581,[1]pms170!F581)","v":0},{"$f":"IF(MOD(H70,2),[1]pms230!M581,[1]pms170!A581)","v":0},34]
[{"$f":"IF(MOD(H71,2),[1]pms170!D36,[1]pms230!A36)","v":"962134"},{"$f":"IF(MOD(H71,2),[1]pms170!B36,[1]pms230!B36)","v":"F19Z0D0060S1"},{"$f":"IF(MOD(H71,2),[1]pms170!C36,[1]pms230!C36)","v":"DEMI RANGE GILET SUP"},{"$f":"IF(MOD(H71,2),[1]pms170!G36,[1]pms230!D36)","v":"2017-02-07"},{"$f":"IF(MOD(H71,2),[1]pms170!H36,[1]pms230!E36)","v":"2017-02-07"},{"$f":"IF(MOD(H71,2),[1]pms170!F36,[1]pms230!F36)","v":"7"},{"$f":"IF(MOD(H71,2),[1]pms170!A36,[1]pms230!M36)","v":"351010"},34]
[{"$f":"IF(MOD(H72,2),[1]pms230!A582,[1]pms170!D582)","v":0},{"$f":"IF(MOD(H72,2),[1]pms230!B582,[1]pms170!B582)","v":0},{"$f":"IF(MOD(H72,2),[1]pms230!C582,[1]pms170!C582)","v":0},{"$f":"IF(MOD(H72,2),[1]pms230!D582,[1]pms170!G582)","v":"00:00:00"},{"$f":"IF(MOD(H72,2),[1]pms230!E582,[1]pms170!H582)","v":"00:00:00"},{"$f":"IF(MOD(H72,2),[1]pms230!F582,[1]pms170!F582)","v":0},{"$f":"IF(MOD(H72,2),[1]pms230!M582,[1]pms170!A582)","v":0},35]
[{"$f":"IF(MOD(H73,2),[1]pms170!D37,[1]pms230!A37)","v":"6631544"},{"$f":"IF(MOD(H73,2),[1]pms170!B37,[1]pms230!B37)","v":"F0433016"},{"$f":"IF(MOD(H73,2),[1]pms170!C37,[1]pms230!C37)","v":"ENS TABLETTE DORSALE 4XRDT"},{"$f":"IF(MOD(H73,2),[1]pms170!G37,[1]pms230!D37)","v":"2017-02-02"},{"$f":"IF(MOD(H73,2),[1]pms170!H37,[1]pms230!E37)","v":"2017-02-06"},{"$f":"IF(MOD(H73,2),[1]pms170!F37,[1]pms230!F37)","v":3},{"$f":"IF(MOD(H73,2),[1]pms170!A37,[1]pms230!M37)","v":"351010"},35]
[{"$f":"IF(MOD(H74,2),[1]pms230!A583,[1]pms170!D583)","v":0},{"$f":"IF(MOD(H74,2),[1]pms230!B583,[1]pms170!B583)","v":0},{"$f":"IF(MOD(H74,2),[1]pms230!C583,[1]pms170!C583)","v":0},{"$f":"IF(MOD(H74,2),[1]pms230!D583,[1]pms170!G583)","v":"00:00:00"},{"$f":"IF(MOD(H74,2),[1]pms230!E583,[1]pms170!H583)","v":"00:00:00"},{"$f":"IF(MOD(H74,2),[1]pms230!F583,[1]pms170!F583)","v":0},{"$f":"IF(MOD(H74,2),[1]pms230!M583,[1]pms170!A583)","v":0},36]
[{"$f":"IF(MOD(H75,2),[1]pms170!D38,[1]pms230!A38)","v":"962090"},{"$f":"IF(MOD(H75,2),[1]pms170!B38,[1]pms230!B38)","v":"F0440131"},{"$f":"IF(MOD(H75,2),[1]pms170!C38,[1]pms230!C38)","v":"CAPOT INT IAT"},{"$f":"IF(MOD(H75,2),[1]pms170!G38,[1]pms230!D38)","v":"2017-02-07"},{"$f":"IF(MOD(H75,2),[1]pms170!H38,[1]pms230!E38)","v":"2017-02-07"},{"$f":"IF(MOD(H75,2),[1]pms170!F38,[1]pms230!F38)","v":"5"},{"$f":"IF(MOD(H75,2),[1]pms170!A38,[1]pms230!M38)","v":"351010"},36]
[{"$f":"IF(MOD(H76,2),[1]pms230!A584,[1]pms170!D584)","v":0},{"$f":"IF(MOD(H76,2),[1]pms230!B584,[1]pms170!B584)","v":0},{"$f":"IF(MOD(H76,2),[1]pms230!C584,[1]pms170!C584)","v":0},{"$f":"IF(MOD(H76,2),[1]pms230!D584,[1]pms170!G584)","v":"00:00:00"},{"$f":"IF(MOD(H76,2),[1]pms230!E584,[1]pms170!H584)","v":"00:00:00"},{"$f":"IF(MOD(H76,2),[1]pms230!F584,[1]pms170!F584)","v":0},{"$f":"IF(MOD(H76,2),[1]pms230!M584,[1]pms170!A584)","v":0},37]
[{"$f":"IF(MOD(H77,2),[1]pms170!D39,[1]pms230!A39)","v":"7155619"},{"$f":"IF(MOD(H77,2),[1]pms170!B39,[1]pms230!B39)","v":"F0433272"},{"$f":"IF(MOD(H77,2),[1]pms170!C39,[1]pms230!C39)","v":"CAPOT FLANC IAT"},{"$f":"IF(MOD(H77,2),[1]pms170!G39,[1]pms230!D39)","v":"2017-02-09"},{"$f":"IF(MOD(H77,2),[1]pms170!H39,[1]pms230!E39)","v":"2017-02-09"},{"$f":"IF(MOD(H77,2),[1]pms170!F39,[1]pms230!F39)","v":8},{"$f":"IF(MOD(H77,2),[1]pms170!A39,[1]pms230!M39)","v":"351010"},37]
[{"$f":"IF(MOD(H78,2),[1]pms230!A585,[1]pms170!D585)","v":0},{"$f":"IF(MOD(H78,2),[1]pms230!B585,[1]pms170!B585)","v":0},{"$f":"IF(MOD(H78,2),[1]pms230!C585,[1]pms170!C585)","v":0},{"$f":"IF(MOD(H78,2),[1]pms230!D585,[1]pms170!G585)","v":"00:00:00"},{"$f":"IF(MOD(H78,2),[1]pms230!E585,[1]pms170!H585)","v":"00:00:00"},{"$f":"IF(MOD(H78,2),[1]pms230!F585,[1]pms170!F585)","v":0},{"$f":"IF(MOD(H78,2),[1]pms230!M585,[1]pms170!A585)","v":0},38]
[{"$f":"IF(MOD(H79,2),[1]pms170!D40,[1]pms230!A40)","v":"962078"},{"$f":"IF(MOD(H79,2),[1]pms170!B40,[1]pms230!B40)","v":"F0484891"},{"$f":"IF(MOD(H79,2),[1]pms170!C40,[1]pms230!C40)","v":"ENS. CAPOT USB"},{"$f":"IF(MOD(H79,2),[1]pms170!G40,[1]pms230!D40)","v":"2017-02-07"},{"$f":"IF(MOD(H79,2),[1]pms170!H40,[1]pms230!E40)","v":"2017-02-07"},{"$f":"IF(MOD(H79,2),[1]pms170!F40,[1]pms230!F40)","v":"10"},{"$f":"IF(MOD(H79,2),[1]pms170!A40,[1]pms230!M40)","v":"351060"},38]
[{"$f":"IF(MOD(H80,2),[1]pms230!A586,[1]pms170!D586)","v":0},{"$f":"IF(MOD(H80,2),[1]pms230!B586,[1]pms170!B586)","v":0},{"$f":"IF(MOD(H80,2),[1]pms230!C586,[1]pms170!C586)","v":0},{"$f":"IF(MOD(H80,2),[1]pms230!D586,[1]pms170!G586)","v":"00:00:00"},{"$f":"IF(MOD(H80,2),[1]pms230!E586,[1]pms170!H586)","v":"00:00:00"},{"$f":"IF(MOD(H80,2),[1]pms230!F586,[1]pms170!F586)","v":0},{"$f":"IF(MOD(H80,2),[1]pms230!M586,[1]pms170!A586)","v":0},39]
[{"$f":"IF(MOD(H81,2),[1]pms170!D41,[1]pms230!A41)","v":"7010586"},{"$f":"IF(MOD(H81,2),[1]pms170!B41,[1]pms230!B41)","v":"F0437983"},{"$f":"IF(MOD(H81,2),[1]pms170!C41,[1]pms230!C41)","v":"CAPOT CROSSE D"},{"$f":"IF(MOD(H81,2),[1]pms170!G41,[1]pms230!D41)","v":"2017-02-10"},{"$f":"IF(MOD(H81,2),[1]pms170!H41,[1]pms230!E41)","v":"2017-02-10"},{"$f":"IF(MOD(H81,2),[1]pms170!F41,[1]pms230!F41)","v":1},{"$f":"IF(MOD(H81,2),[1]pms170!A41,[1]pms230!M41)","v":"351010"},39]
[{"$f":"IF(MOD(H82,2),[1]pms230!A587,[1]pms170!D587)","v":0},{"$f":"IF(MOD(H82,2),[1]pms230!B587,[1]pms170!B587)","v":0},{"$f":"IF(MOD(H82,2),[1]pms230!C587,[1]pms170!C587)","v":0},{"$f":"IF(MOD(H82,2),[1]pms230!D587,[1]pms170!G587)","v":"00:00:00"},{"$f":"IF(MOD(H82,2),[1]pms230!E587,[1]pms170!H587)","v":"00:00:00"},{"$f":"IF(MOD(H82,2),[1]pms230!F587,[1]pms170!F587)","v":0},{"$f":"IF(MOD(H82,2),[1]pms230!M587,[1]pms170!A587)","v":0},40]
[{"$f":"IF(MOD(H83,2),[1]pms170!D42,[1]pms230!A42)","v":"959229"},{"$f":"IF(MOD(H83,2),[1]pms170!B42,[1]pms230!B42)","v":"F337473"},{"$f":"IF(MOD(H83,2),[1]pms170!C42,[1]pms230!C42)","v":"REMPLISSAGE"},{"$f":"IF(MOD(H83,2),[1]pms170!G42,[1]pms230!D42)","v":"2017-02-07"},{"$f":"IF(MOD(H83,2),[1]pms170!H42,[1]pms230!E42)","v":"2017-02-07"},{"$f":"IF(MOD(H83,2),[1]pms170!F42,[1]pms230!F42)","v":"45"},{"$f":"IF(MOD(H83,2),[1]pms170!A42,[1]pms230!M42)","v":"351015"},40]
[{"$f":"IF(MOD(H84,2),[1]pms230!A588,[1]pms170!D588)","v":0},{"$f":"IF(MOD(H84,2),[1]pms230!B588,[1]pms170!B588)","v":0},{"$f":"IF(MOD(H84,2),[1]pms230!C588,[1]pms170!C588)","v":0},{"$f":"IF(MOD(H84,2),[1]pms230!D588,[1]pms170!G588)","v":"00:00:00"},{"$f":"IF(MOD(H84,2),[1]pms230!E588,[1]pms170!H588)","v":"00:00:00"},{"$f":"IF(MOD(H84,2),[1]pms230!F588,[1]pms170!F588)","v":0},{"$f":"IF(MOD(H84,2),[1]pms230!M588,[1]pms170!A588)","v":0},41]
[{"$f":"IF(MOD(H85,2),[1]pms170!D43,[1]pms230!A43)","v":"7241475"},{"$f":"IF(MOD(H85,2),[1]pms170!B43,[1]pms230!B43)","v":"F0439787"},{"$f":"IF(MOD(H85,2),[1]pms170!C43,[1]pms230!C43)","v":"CACHE POUTRE EQ"},{"$f":"IF(MOD(H85,2),[1]pms170!G43,[1]pms230!D43)","v":"2017-02-06"},{"$f":"IF(MOD(H85,2),[1]pms170!H43,[1]pms230!E43)","v":"2017-02-07"},{"$f":"IF(MOD(H85,2),[1]pms170!F43,[1]pms230!F43)","v":5},{"$f":"IF(MOD(H85,2),[1]pms170!A43,[1]pms230!M43)","v":"351010"},41]
[{"$f":"IF(MOD(H86,2),[1]pms230!A589,[1]pms170!D589)","v":0},{"$f":"IF(MOD(H86,2),[1]pms230!B589,[1]pms170!B589)","v":0},{"$f":"IF(MOD(H86,2),[1]pms230!C589,[1]pms170!C589)","v":0},{"$f":"IF(MOD(H86,2),[1]pms230!D589,[1]pms170!G589)","v":"00:00:00"},{"$f":"IF(MOD(H86,2),[1]pms230!E589,[1]pms170!H589)","v":"00:00:00"},{"$f":"IF(MOD(H86,2),[1]pms230!F589,[1]pms170!F589)","v":0},{"$f":"IF(MOD(H86,2),[1]pms230!M589,[1]pms170!A589)","v":0},42]
[{"$f":"IF(MOD(H87,2),[1]pms170!D44,[1]pms230!A44)","v":"962205"},{"$f":"IF(MOD(H87,2),[1]pms170!B44,[1]pms230!B44)","v":"F0455794"},{"$f":"IF(MOD(H87,2),[1]pms170!C44,[1]pms230!C44)","v":"ENS SUPPORT TV TRONQ"},{"$f":"IF(MOD(H87,2),[1]pms170!G44,[1]pms230!D44)","v":"2017-02-08"},{"$f":"IF(MOD(H87,2),[1]pms170!H44,[1]pms230!E44)","v":"2017-02-08"},{"$f":"IF(MOD(H87,2),[1]pms170!F44,[1]pms230!F44)","v":"5"},{"$f":"IF(MOD(H87,2),[1]pms170!A44,[1]pms230!M44)","v":"351010"},42]
[{"$f":"IF(MOD(H88,2),[1]pms230!A590,[1]pms170!D590)","v":0},{"$f":"IF(MOD(H88,2),[1]pms230!B590,[1]pms170!B590)","v":0},{"$f":"IF(MOD(H88,2),[1]pms230!C590,[1]pms170!C590)","v":0},{"$f":"IF(MOD(H88,2),[1]pms230!D590,[1]pms170!G590)","v":"00:00:00"},{"$f":"IF(MOD(H88,2),[1]pms230!E590,[1]pms170!H590)","v":"00:00:00"},{"$f":"IF(MOD(H88,2),[1]pms230!F590,[1]pms170!F590)","v":0},{"$f":"IF(MOD(H88,2),[1]pms230!M590,[1]pms170!A590)","v":0},43]
[{"$f":"IF(MOD(H89,2),[1]pms170!D45,[1]pms230!A45)","v":"7118816"},{"$f":"IF(MOD(H89,2),[1]pms170!B45,[1]pms230!B45)","v":"F0439895"},{"$f":"IF(MOD(H89,2),[1]pms170!C45,[1]pms230!C45)","v":"CONTRE CAPOT"},{"$f":"IF(MOD(H89,2),[1]pms170!G45,[1]pms230!D45)","v":"2017-01-31"},{"$f":"IF(MOD(H89,2),[1]pms170!H45,[1]pms230!E45)","v":"2017-02-01"},{"$f":"IF(MOD(H89,2),[1]pms170!F45,[1]pms230!F45)","v":5},{"$f":"IF(MOD(H89,2),[1]pms170!A45,[1]pms230!M45)","v":"351010"},43]
[{"$f":"IF(MOD(H90,2),[1]pms230!A591,[1]pms170!D591)","v":0},{"$f":"IF(MOD(H90,2),[1]pms230!B591,[1]pms170!B591)","v":0},{"$f":"IF(MOD(H90,2),[1]pms230!C591,[1]pms170!C591)","v":0},{"$f":"IF(MOD(H90,2),[1]pms230!D591,[1]pms170!G591)","v":"00:00:00"},{"$f":"IF(MOD(H90,2),[1]pms230!E591,[1]pms170!H591)","v":"00:00:00"},{"$f":"IF(MOD(H90,2),[1]pms230!F591,[1]pms170!F591)","v":0},{"$f":"IF(MOD(H90,2),[1]pms230!M591,[1]pms170!A591)","v":0},44]
[{"$f":"IF(MOD(H91,2),[1]pms170!D46,[1]pms230!A46)","v":"961884"},{"$f":"IF(MOD(H91,2),[1]pms170!B46,[1]pms230!B46)","v":"F0518020"},{"$f":"IF(MOD(H91,2),[1]pms170!C46,[1]pms230!C46)","v":"ENS TABLETTE DORSALE"},{"$f":"IF(MOD(H91,2),[1]pms170!G46,[1]pms230!D46)","v":"2017-02-08"},{"$f":"IF(MOD(H91,2),[1]pms170!H46,[1]pms230!E46)","v":"2017-02-08"},{"$f":"IF(MOD(H91,2),[1]pms170!F46,[1]pms230!F46)","v":"27"},{"$f":"IF(MOD(H91,2),[1]pms170!A46,[1]pms230!M46)","v":"351010"},44]
[{"$f":"IF(MOD(H92,2),[1]pms230!A592,[1]pms170!D592)","v":0},{"$f":"IF(MOD(H92,2),[1]pms230!B592,[1]pms170!B592)","v":0},{"$f":"IF(MOD(H92,2),[1]pms230!C592,[1]pms170!C592)","v":0},{"$f":"IF(MOD(H92,2),[1]pms230!D592,[1]pms170!G592)","v":"00:00:00"},{"$f":"IF(MOD(H92,2),[1]pms230!E592,[1]pms170!H592)","v":"00:00:00"},{"$f":"IF(MOD(H92,2),[1]pms230!F592,[1]pms170!F592)","v":0},{"$f":"IF(MOD(H92,2),[1]pms230!M592,[1]pms170!A592)","v":0},45]
[{"$f":"IF(MOD(H93,2),[1]pms170!D47,[1]pms230!A47)","v":"7150595"},{"$f":"IF(MOD(H93,2),[1]pms170!B47,[1]pms230!B47)","v":"F0442001"},{"$f":"IF(MOD(H93,2),[1]pms170!C47,[1]pms230!C47)","v":"ENS TABLETTE IAT EXT"},{"$f":"IF(MOD(H93,2),[1]pms170!G47,[1]pms230!D47)","v":"2017-02-08"},{"$f":"IF(MOD(H93,2),[1]pms170!H47,[1]pms230!E47)","v":"2017-02-11"},{"$f":"IF(MOD(H93,2),[1]pms170!F47,[1]pms230!F47)","v":17},{"$f":"IF(MOD(H93,2),[1]pms170!A47,[1]pms230!M47)","v":"351010"},45]
[{"$f":"IF(MOD(H94,2),[1]pms230!A593,[1]pms170!D593)","v":0},{"$f":"IF(MOD(H94,2),[1]pms230!B593,[1]pms170!B593)","v":0},{"$f":"IF(MOD(H94,2),[1]pms230!C593,[1]pms170!C593)","v":0},{"$f":"IF(MOD(H94,2),[1]pms230!D593,[1]pms170!G593)","v":"00:00:00"},{"$f":"IF(MOD(H94,2),[1]pms230!E593,[1]pms170!H593)","v":"00:00:00"},{"$f":"IF(MOD(H94,2),[1]pms230!F593,[1]pms170!F593)","v":0},{"$f":"IF(MOD(H94,2),[1]pms230!M593,[1]pms170!A593)","v":0},46]
[{"$f":"IF(MOD(H95,2),[1]pms170!D48,[1]pms230!A48)","v":"962092"},{"$f":"IF(MOD(H95,2),[1]pms170!B48,[1]pms230!B48)","v":"F0441539"},{"$f":"IF(MOD(H95,2),[1]pms170!C48,[1]pms230!C48)","v":"CAPOT INTERIEUR FIXE"},{"$f":"IF(MOD(H95,2),[1]pms170!G48,[1]pms230!D48)","v":"2017-02-08"},{"$f":"IF(MOD(H95,2),[1]pms170!H48,[1]pms230!E48)","v":"2017-02-08"},{"$f":"IF(MOD(H95,2),[1]pms170!F48,[1]pms230!F48)","v":"11"},{"$f":"IF(MOD(H95,2),[1]pms170!A48,[1]pms230!M48)","v":"351010"},46]
[{"$f":"IF(MOD(H96,2),[1]pms230!A594,[1]pms170!D594)","v":0},{"$f":"IF(MOD(H96,2),[1]pms230!B594,[1]pms170!B594)","v":0},{"$f":"IF(MOD(H96,2),[1]pms230!C594,[1]pms170!C594)","v":0},{"$f":"IF(MOD(H96,2),[1]pms230!D594,[1]pms170!G594)","v":"00:00:00"},{"$f":"IF(MOD(H96,2),[1]pms230!E594,[1]pms170!H594)","v":"00:00:00"},{"$f":"IF(MOD(H96,2),[1]pms230!F594,[1]pms170!F594)","v":0},{"$f":"IF(MOD(H96,2),[1]pms230!M594,[1]pms170!A594)","v":0},47]
[{"$f":"IF(MOD(H97,2),[1]pms170!D49,[1]pms230!A49)","v":"6653051"},{"$f":"IF(MOD(H97,2),[1]pms170!B49,[1]pms230!B49)","v":"F0454452"},{"$f":"IF(MOD(H97,2),[1]pms170!C49,[1]pms230!C49)","v":"ENS TABLETTE IAT"},{"$f":"IF(MOD(H97,2),[1]pms170!G49,[1]pms230!D49)","v":"2017-02-09"},{"$f":"IF(MOD(H97,2),[1]pms170!H49,[1]pms230!E49)","v":"2017-02-12"},{"$f":"IF(MOD(H97,2),[1]pms170!F49,[1]pms230!F49)","v":3},{"$f":"IF(MOD(H97,2),[1]pms170!A49,[1]pms230!M49)","v":"351010"},47]
[{"$f":"IF(MOD(H98,2),[1]pms230!A595,[1]pms170!D595)","v":0},{"$f":"IF(MOD(H98,2),[1]pms230!B595,[1]pms170!B595)","v":0},{"$f":"IF(MOD(H98,2),[1]pms230!C595,[1]pms170!C595)","v":0},{"$f":"IF(MOD(H98,2),[1]pms230!D595,[1]pms170!G595)","v":"00:00:00"},{"$f":"IF(MOD(H98,2),[1]pms230!E595,[1]pms170!H595)","v":"00:00:00"},{"$f":"IF(MOD(H98,2),[1]pms230!F595,[1]pms170!F595)","v":0},{"$f":"IF(MOD(H98,2),[1]pms230!M595,[1]pms170!A595)","v":0},48]
[{"$f":"IF(MOD(H99,2),[1]pms170!D50,[1]pms230!A50)","v":"962136"},{"$f":"IF(MOD(H99,2),[1]pms170!B50,[1]pms230!B50)","v":"F303918P108"},{"$f":"IF(MOD(H99,2),[1]pms170!C50,[1]pms230!C50)","v":"H108 CAPOT CACHE ASS"},{"$f":"IF(MOD(H99,2),[1]pms170!G50,[1]pms230!D50)","v":"2017-02-08"},{"$f":"IF(MOD(H99,2),[1]pms170!H50,[1]pms230!E50)","v":"2017-02-08"},{"$f":"IF(MOD(H99,2),[1]pms170!F50,[1]pms230!F50)","v":"8"},{"$f":"IF(MOD(H99,2),[1]pms170!A50,[1]pms230!M50)","v":"351010"},48]
[{"$f":"IF(MOD(H100,2),[1]pms230!A596,[1]pms170!D596)","v":0},{"$f":"IF(MOD(H100,2),[1]pms230!B596,[1]pms170!B596)","v":0},{"$f":"IF(MOD(H100,2),[1]pms230!C596,[1]pms170!C596)","v":0},{"$f":"IF(MOD(H100,2),[1]pms230!D596,[1]pms170!G596)","v":"00:00:00"},{"$f":"IF(MOD(H100,2),[1]pms230!E596,[1]pms170!H596)","v":"00:00:00"},{"$f":"IF(MOD(H100,2),[1]pms230!F596,[1]pms170!F596)","v":0},{"$f":"IF(MOD(H100,2),[1]pms230!M596,[1]pms170!A596)","v":0},49]
[{"$f":"IF(MOD(H101,2),[1]pms170!D51,[1]pms230!A51)","v":"7237922"},{"$f":"IF(MOD(H101,2),[1]pms170!B51,[1]pms230!B51)","v":"F0458831"},{"$f":"IF(MOD(H101,2),[1]pms170!C51,[1]pms230!C51)","v":"CAPOT"},{"$f":"IF(MOD(H101,2),[1]pms170!G51,[1]pms230!D51)","v":"2017-02-09"},{"$f":"IF(MOD(H101,2),[1]pms170!H51,[1]pms230!E51)","v":"2017-02-09"},{"$f":"IF(MOD(H101,2),[1]pms170!F51,[1]pms230!F51)","v":1},{"$f":"IF(MOD(H101,2),[1]pms170!A51,[1]pms230!M51)","v":"351010"},49]
[{"$f":"IF(MOD(H102,2),[1]pms230!A597,[1]pms170!D597)","v":0},{"$f":"IF(MOD(H102,2),[1]pms230!B597,[1]pms170!B597)","v":0},{"$f":"IF(MOD(H102,2),[1]pms230!C597,[1]pms170!C597)","v":0},{"$f":"IF(MOD(H102,2),[1]pms230!D597,[1]pms170!G597)","v":"00:00:00"},{"$f":"IF(MOD(H102,2),[1]pms230!E597,[1]pms170!H597)","v":"00:00:00"},{"$f":"IF(MOD(H102,2),[1]pms230!F597,[1]pms170!F597)","v":0},{"$f":"IF(MOD(H102,2),[1]pms230!M597,[1]pms170!A597)","v":0},50]
[{"$f":"IF(MOD(H103,2),[1]pms170!D52,[1]pms230!A52)","v":"962089"},{"$f":"IF(MOD(H103,2),[1]pms170!B52,[1]pms230!B52)","v":"F0440124"},{"$f":"IF(MOD(H103,2),[1]pms170!C52,[1]pms230!C52)","v":"CAPOT FLANC G IAT"},{"$f":"IF(MOD(H103,2),[1]pms170!G52,[1]pms230!D52)","v":"2017-02-08"},{"$f":"IF(MOD(H103,2),[1]pms170!H52,[1]pms230!E52)","v":"2017-02-08"},{"$f":"IF(MOD(H103,2),[1]pms170!F52,[1]pms230!F52)","v":"3"},{"$f":"IF(MOD(H103,2),[1]pms170!A52,[1]pms230!M52)","v":"351010"},50]
[{"$f":"IF(MOD(H104,2),[1]pms230!A598,[1]pms170!D598)","v":0},{"$f":"IF(MOD(H104,2),[1]pms230!B598,[1]pms170!B598)","v":0},{"$f":"IF(MOD(H104,2),[1]pms230!C598,[1]pms170!C598)","v":0},{"$f":"IF(MOD(H104,2),[1]pms230!D598,[1]pms170!G598)","v":"00:00:00"},{"$f":"IF(MOD(H104,2),[1]pms230!E598,[1]pms170!H598)","v":"00:00:00"},{"$f":"IF(MOD(H104,2),[1]pms230!F598,[1]pms170!F598)","v":0},{"$f":"IF(MOD(H104,2),[1]pms230!M598,[1]pms170!A598)","v":0},51]
[{"$f":"IF(MOD(H105,2),[1]pms170!D53,[1]pms230!A53)","v":"7212120"},{"$f":"IF(MOD(H105,2),[1]pms170!B53,[1]pms230!B53)","v":"F0458845"},{"$f":"IF(MOD(H105,2),[1]pms170!C53,[1]pms230!C53)","v":"CONTRE CAPOT"},{"$f":"IF(MOD(H105,2),[1]pms170!G53,[1]pms230!D53)","v":"2017-02-08"},{"$f":"IF(MOD(H105,2),[1]pms170!H53,[1]pms230!E53)","v":"2017-02-09"},{"$f":"IF(MOD(H105,2),[1]pms170!F53,[1]pms230!F53)","v":1},{"$f":"IF(MOD(H105,2),[1]pms170!A53,[1]pms230!M53)","v":"351010"},51]
[{"$f":"IF(MOD(H106,2),[1]pms230!A599,[1]pms170!D599)","v":0},{"$f":"IF(MOD(H106,2),[1]pms230!B599,[1]pms170!B599)","v":0},{"$f":"IF(MOD(H106,2),[1]pms230!C599,[1]pms170!C599)","v":0},{"$f":"IF(MOD(H106,2),[1]pms230!D599,[1]pms170!G599)","v":"00:00:00"},{"$f":"IF(MOD(H106,2),[1]pms230!E599,[1]pms170!H599)","v":"00:00:00"},{"$f":"IF(MOD(H106,2),[1]pms230!F599,[1]pms170!F599)","v":0},{"$f":"IF(MOD(H106,2),[1]pms230!M599,[1]pms170!A599)","v":0},52]
[{"$f":"IF(MOD(H107,2),[1]pms170!D54,[1]pms230!A54)","v":"960146"},{"$f":"IF(MOD(H107,2),[1]pms170!B54,[1]pms230!B54)","v":"F0508971"},{"$f":"IF(MOD(H107,2),[1]pms170!C54,[1]pms230!C54)","v":"ENS RENFORT KICK PAN"},{"$f":"IF(MOD(H107,2),[1]pms170!G54,[1]pms230!D54)","v":"2017-02-08"},{"$f":"IF(MOD(H107,2),[1]pms170!H54,[1]pms230!E54)","v":"2017-02-08"},{"$f":"IF(MOD(H107,2),[1]pms170!F54,[1]pms230!F54)","v":"21"},{"$f":"IF(MOD(H107,2),[1]pms170!A54,[1]pms230!M54)","v":"351010"},52]
[{"$f":"IF(MOD(H108,2),[1]pms230!A600,[1]pms170!D600)","v":0},{"$f":"IF(MOD(H108,2),[1]pms230!B600,[1]pms170!B600)","v":0},{"$f":"IF(MOD(H108,2),[1]pms230!C600,[1]pms170!C600)","v":0},{"$f":"IF(MOD(H108,2),[1]pms230!D600,[1]pms170!G600)","v":"00:00:00"},{"$f":"IF(MOD(H108,2),[1]pms230!E600,[1]pms170!H600)","v":"00:00:00"},{"$f":"IF(MOD(H108,2),[1]pms230!F600,[1]pms170!F600)","v":0},{"$f":"IF(MOD(H108,2),[1]pms230!M600,[1]pms170!A600)","v":0},53]
[{"$f":"IF(MOD(H109,2),[1]pms170!D55,[1]pms230!A55)","v":"7241658"},{"$f":"IF(MOD(H109,2),[1]pms170!B55,[1]pms230!B55)","v":"F0460362"},{"$f":"IF(MOD(H109,2),[1]pms170!C55,[1]pms230!C55)","v":"STRUCTURE MANCHETTE"},{"$f":"IF(MOD(H109,2),[1]pms170!G55,[1]pms230!D55)","v":"2017-02-08"},{"$f":"IF(MOD(H109,2),[1]pms170!H55,[1]pms230!E55)","v":"2017-02-08"},{"$f":"IF(MOD(H109,2),[1]pms170!F55,[1]pms230!F55)","v":1},{"$f":"IF(MOD(H109,2),[1]pms170!A55,[1]pms230!M55)","v":"351010"},53]
[{"$f":"IF(MOD(H110,2),[1]pms230!A601,[1]pms170!D601)","v":0},{"$f":"IF(MOD(H110,2),[1]pms230!B601,[1]pms170!B601)","v":0},{"$f":"IF(MOD(H110,2),[1]pms230!C601,[1]pms170!C601)","v":0},{"$f":"IF(MOD(H110,2),[1]pms230!D601,[1]pms170!G601)","v":"00:00:00"},{"$f":"IF(MOD(H110,2),[1]pms230!E601,[1]pms170!H601)","v":"00:00:00"},{"$f":"IF(MOD(H110,2),[1]pms230!F601,[1]pms170!F601)","v":0},{"$f":"IF(MOD(H110,2),[1]pms230!M601,[1]pms170!A601)","v":0},54]
[{"$f":"IF(MOD(H111,2),[1]pms170!D56,[1]pms230!A56)","v":"962144"},{"$f":"IF(MOD(H111,2),[1]pms170!B56,[1]pms230!B56)","v":"F0454846"},{"$f":"IF(MOD(H111,2),[1]pms170!C56,[1]pms230!C56)","v":"PORTE GAUCHE IAT EQ"},{"$f":"IF(MOD(H111,2),[1]pms170!G56,[1]pms230!D56)","v":"2017-02-08"},{"$f":"IF(MOD(H111,2),[1]pms170!H56,[1]pms230!E56)","v":"2017-02-08"},{"$f":"IF(MOD(H111,2),[1]pms170!F56,[1]pms230!F56)","v":"2"},{"$f":"IF(MOD(H111,2),[1]pms170!A56,[1]pms230!M56)","v":"351060"},54]
[{"$f":"IF(MOD(H112,2),[1]pms230!A602,[1]pms170!D602)","v":0},{"$f":"IF(MOD(H112,2),[1]pms230!B602,[1]pms170!B602)","v":0},{"$f":"IF(MOD(H112,2),[1]pms230!C602,[1]pms170!C602)","v":0},{"$f":"IF(MOD(H112,2),[1]pms230!D602,[1]pms170!G602)","v":"00:00:00"},{"$f":"IF(MOD(H112,2),[1]pms230!E602,[1]pms170!H602)","v":"00:00:00"},{"$f":"IF(MOD(H112,2),[1]pms230!F602,[1]pms170!F602)","v":0},{"$f":"IF(MOD(H112,2),[1]pms230!M602,[1]pms170!A602)","v":0},55]
[{"$f":"IF(MOD(H113,2),[1]pms170!D57,[1]pms230!A57)","v":"6977595"},{"$f":"IF(MOD(H113,2),[1]pms170!B57,[1]pms230!B57)","v":"F0464410"},{"$f":"IF(MOD(H113,2),[1]pms170!C57,[1]pms230!C57)","v":"CAPOT SUP EQ"},{"$f":"IF(MOD(H113,2),[1]pms170!G57,[1]pms230!D57)","v":"2017-01-27"},{"$f":"IF(MOD(H113,2),[1]pms170!H57,[1]pms230!E57)","v":"2017-01-30"},{"$f":"IF(MOD(H113,2),[1]pms170!F57,[1]pms230!F57)","v":25},{"$f":"IF(MOD(H113,2),[1]pms170!A57,[1]pms230!M57)","v":"351010"},55]
[{"$f":"IF(MOD(H114,2),[1]pms230!A603,[1]pms170!D603)","v":0},{"$f":"IF(MOD(H114,2),[1]pms230!B603,[1]pms170!B603)","v":0},{"$f":"IF(MOD(H114,2),[1]pms230!C603,[1]pms170!C603)","v":0},{"$f":"IF(MOD(H114,2),[1]pms230!D603,[1]pms170!G603)","v":"00:00:00"},{"$f":"IF(MOD(H114,2),[1]pms230!E603,[1]pms170!H603)","v":"00:00:00"},{"$f":"IF(MOD(H114,2),[1]pms230!F603,[1]pms170!F603)","v":0},{"$f":"IF(MOD(H114,2),[1]pms230!M603,[1]pms170!A603)","v":0},56]
[{"$f":"IF(MOD(H115,2),[1]pms170!D58,[1]pms230!A58)","v":"962251"},{"$f":"IF(MOD(H115,2),[1]pms170!B58,[1]pms230!B58)","v":"F0439976"},{"$f":"IF(MOD(H115,2),[1]pms170!C58,[1]pms230!C58)","v":"REMPLISSAGE TAB BASS"},{"$f":"IF(MOD(H115,2),[1]pms170!G58,[1]pms230!D58)","v":"2017-02-08"},{"$f":"IF(MOD(H115,2),[1]pms170!H58,[1]pms230!E58)","v":"2017-02-08"},{"$f":"IF(MOD(H115,2),[1]pms170!F58,[1]pms230!F58)","v":"50"},{"$f":"IF(MOD(H115,2),[1]pms170!A58,[1]pms230!M58)","v":"351015"},56]
[{"$f":"IF(MOD(H116,2),[1]pms230!A604,[1]pms170!D604)","v":0},{"$f":"IF(MOD(H116,2),[1]pms230!B604,[1]pms170!B604)","v":0},{"$f":"IF(MOD(H116,2),[1]pms230!C604,[1]pms170!C604)","v":0},{"$f":"IF(MOD(H116,2),[1]pms230!D604,[1]pms170!G604)","v":"00:00:00"},{"$f":"IF(MOD(H116,2),[1]pms230!E604,[1]pms170!H604)","v":"00:00:00"},{"$f":"IF(MOD(H116,2),[1]pms230!F604,[1]pms170!F604)","v":0},{"$f":"IF(MOD(H116,2),[1]pms230!M604,[1]pms170!A604)","v":0},57]
[{"$f":"IF(MOD(H117,2),[1]pms170!D59,[1]pms230!A59)","v":"7110010"},{"$f":"IF(MOD(H117,2),[1]pms170!B59,[1]pms230!B59)","v":"F0476122"},{"$f":"IF(MOD(H117,2),[1]pms170!C59,[1]pms230!C59)","v":"ENS PLATEAU TABLETTE DORSALE"},{"$f":"IF(MOD(H117,2),[1]pms170!G59,[1]pms230!D59)","v":"2017-02-02"},{"$f":"IF(MOD(H117,2),[1]pms170!H59,[1]pms230!E59)","v":"2017-02-10"},{"$f":"IF(MOD(H117,2),[1]pms170!F59,[1]pms230!F59)","v":5},{"$f":"IF(MOD(H117,2),[1]pms170!A59,[1]pms230!M59)","v":"351010"},57]
[{"$f":"IF(MOD(H118,2),[1]pms230!A605,[1]pms170!D605)","v":0},{"$f":"IF(MOD(H118,2),[1]pms230!B605,[1]pms170!B605)","v":0},{"$f":"IF(MOD(H118,2),[1]pms230!C605,[1]pms170!C605)","v":0},{"$f":"IF(MOD(H118,2),[1]pms230!D605,[1]pms170!G605)","v":"00:00:00"},{"$f":"IF(MOD(H118,2),[1]pms230!E605,[1]pms170!H605)","v":"00:00:00"},{"$f":"IF(MOD(H118,2),[1]pms230!F605,[1]pms170!F605)","v":0},{"$f":"IF(MOD(H118,2),[1]pms230!M605,[1]pms170!A605)","v":0},58]
[{"$f":"IF(MOD(H119,2),[1]pms170!D60,[1]pms230!A60)","v":"962253"},{"$f":"IF(MOD(H119,2),[1]pms170!B60,[1]pms230!B60)","v":"F0439976"},{"$f":"IF(MOD(H119,2),[1]pms170!C60,[1]pms230!C60)","v":"REMPLISSAGE TAB BASS"},{"$f":"IF(MOD(H119,2),[1]pms170!G60,[1]pms230!D60)","v":"2017-02-08"},{"$f":"IF(MOD(H119,2),[1]pms170!H60,[1]pms230!E60)","v":"2017-02-08"},{"$f":"IF(MOD(H119,2),[1]pms170!F60,[1]pms230!F60)","v":"50"},{"$f":"IF(MOD(H119,2),[1]pms170!A60,[1]pms230!M60)","v":"351015"},58]
[{"$f":"IF(MOD(H120,2),[1]pms230!A606,[1]pms170!D606)","v":0},{"$f":"IF(MOD(H120,2),[1]pms230!B606,[1]pms170!B606)","v":0},{"$f":"IF(MOD(H120,2),[1]pms230!C606,[1]pms170!C606)","v":0},{"$f":"IF(MOD(H120,2),[1]pms230!D606,[1]pms170!G606)","v":"00:00:00"},{"$f":"IF(MOD(H120,2),[1]pms230!E606,[1]pms170!H606)","v":"00:00:00"},{"$f":"IF(MOD(H120,2),[1]pms230!F606,[1]pms170!F606)","v":0},{"$f":"IF(MOD(H120,2),[1]pms230!M606,[1]pms170!A606)","v":0},59]
[{"$f":"IF(MOD(H121,2),[1]pms170!D61,[1]pms230!A61)","v":"7110013"},{"$f":"IF(MOD(H121,2),[1]pms170!B61,[1]pms230!B61)","v":"F0476122"},{"$f":"IF(MOD(H121,2),[1]pms170!C61,[1]pms230!C61)","v":"ENS PLATEAU TABLETTE DORSALE"},{"$f":"IF(MOD(H121,2),[1]pms170!G61,[1]pms230!D61)","v":"2017-02-07"},{"$f":"IF(MOD(H121,2),[1]pms170!H61,[1]pms230!E61)","v":"2017-02-15"},{"$f":"IF(MOD(H121,2),[1]pms170!F61,[1]pms230!F61)","v":50},{"$f":"IF(MOD(H121,2),[1]pms170!A61,[1]pms230!M61)","v":"351010"},59]
[{"$f":"IF(MOD(H122,2),[1]pms230!A607,[1]pms170!D607)","v":0},{"$f":"IF(MOD(H122,2),[1]pms230!B607,[1]pms170!B607)","v":0},{"$f":"IF(MOD(H122,2),[1]pms230!C607,[1]pms170!C607)","v":0},{"$f":"IF(MOD(H122,2),[1]pms230!D607,[1]pms170!G607)","v":"00:00:00"},{"$f":"IF(MOD(H122,2),[1]pms230!E607,[1]pms170!H607)","v":"00:00:00"},{"$f":"IF(MOD(H122,2),[1]pms230!F607,[1]pms170!F607)","v":0},{"$f":"IF(MOD(H122,2),[1]pms230!M607,[1]pms170!A607)","v":0},60]
[{"$f":"IF(MOD(H123,2),[1]pms170!D62,[1]pms230!A62)","v":"962225"},{"$f":"IF(MOD(H123,2),[1]pms170!B62,[1]pms230!B62)","v":"F0455792"},{"$f":"IF(MOD(H123,2),[1]pms170!C62,[1]pms230!C62)","v":"ENS SUPPORT TV D"},{"$f":"IF(MOD(H123,2),[1]pms170!G62,[1]pms230!D62)","v":"2017-02-09"},{"$f":"IF(MOD(H123,2),[1]pms170!H62,[1]pms230!E62)","v":"2017-02-09"},{"$f":"IF(MOD(H123,2),[1]pms170!F62,[1]pms230!F62)","v":"10"},{"$f":"IF(MOD(H123,2),[1]pms170!A62,[1]pms230!M62)","v":"351000"},60]
[{"$f":"IF(MOD(H124,2),[1]pms230!A608,[1]pms170!D608)","v":0},{"$f":"IF(MOD(H124,2),[1]pms230!B608,[1]pms170!B608)","v":0},{"$f":"IF(MOD(H124,2),[1]pms230!C608,[1]pms170!C608)","v":0},{"$f":"IF(MOD(H124,2),[1]pms230!D608,[1]pms170!G608)","v":"00:00:00"},{"$f":"IF(MOD(H124,2),[1]pms230!E608,[1]pms170!H608)","v":"00:00:00"},{"$f":"IF(MOD(H124,2),[1]pms230!F608,[1]pms170!F608)","v":0},{"$f":"IF(MOD(H124,2),[1]pms230!M608,[1]pms170!A608)","v":0},61]
[{"$f":"IF(MOD(H125,2),[1]pms170!D63,[1]pms230!A63)","v":"7238136"},{"$f":"IF(MOD(H125,2),[1]pms170!B63,[1]pms230!B63)","v":"F0476122"},{"$f":"IF(MOD(H125,2),[1]pms170!C63,[1]pms230!C63)","v":"ENS PLATEAU TABLETTE DORSALE"},{"$f":"IF(MOD(H125,2),[1]pms170!G63,[1]pms230!D63)","v":"2017-02-08"},{"$f":"IF(MOD(H125,2),[1]pms170!H63,[1]pms230!E63)","v":"2017-02-16"},{"$f":"IF(MOD(H125,2),[1]pms170!F63,[1]pms230!F63)","v":50},{"$f":"IF(MOD(H125,2),[1]pms170!A63,[1]pms230!M63)","v":"351010"},61]
[{"$f":"IF(MOD(H126,2),[1]pms230!A609,[1]pms170!D609)","v":0},{"$f":"IF(MOD(H126,2),[1]pms230!B609,[1]pms170!B609)","v":0},{"$f":"IF(MOD(H126,2),[1]pms230!C609,[1]pms170!C609)","v":0},{"$f":"IF(MOD(H126,2),[1]pms230!D609,[1]pms170!G609)","v":"00:00:00"},{"$f":"IF(MOD(H126,2),[1]pms230!E609,[1]pms170!H609)","v":"00:00:00"},{"$f":"IF(MOD(H126,2),[1]pms230!F609,[1]pms170!F609)","v":0},{"$f":"IF(MOD(H126,2),[1]pms230!M609,[1]pms170!A609)","v":0},62]
[{"$f":"IF(MOD(H127,2),[1]pms170!D64,[1]pms230!A64)","v":"962228"},{"$f":"IF(MOD(H127,2),[1]pms170!B64,[1]pms230!B64)","v":"F0455792"},{"$f":"IF(MOD(H127,2),[1]pms170!C64,[1]pms230!C64)","v":"ENS SUPPORT TV D"},{"$f":"IF(MOD(H127,2),[1]pms170!G64,[1]pms230!D64)","v":"2017-02-09"},{"$f":"IF(MOD(H127,2),[1]pms170!H64,[1]pms230!E64)","v":"2017-02-09"},{"$f":"IF(MOD(H127,2),[1]pms170!F64,[1]pms230!F64)","v":"10"},{"$f":"IF(MOD(H127,2),[1]pms170!A64,[1]pms230!M64)","v":"351000"},62]
[{"$f":"IF(MOD(H128,2),[1]pms230!A610,[1]pms170!D610)","v":0},{"$f":"IF(MOD(H128,2),[1]pms230!B610,[1]pms170!B610)","v":0},{"$f":"IF(MOD(H128,2),[1]pms230!C610,[1]pms170!C610)","v":0},{"$f":"IF(MOD(H128,2),[1]pms230!D610,[1]pms170!G610)","v":"00:00:00"},{"$f":"IF(MOD(H128,2),[1]pms230!E610,[1]pms170!H610)","v":"00:00:00"},{"$f":"IF(MOD(H128,2),[1]pms230!F610,[1]pms170!F610)","v":0},{"$f":"IF(MOD(H128,2),[1]pms230!M610,[1]pms170!A610)","v":0},63]
[{"$f":"IF(MOD(H129,2),[1]pms170!D65,[1]pms230!A65)","v":"7238138"},{"$f":"IF(MOD(H129,2),[1]pms170!B65,[1]pms230!B65)","v":"F0476122"},{"$f":"IF(MOD(H129,2),[1]pms170!C65,[1]pms230!C65)","v":"ENS PLATEAU TABLETTE DORSALE"},{"$f":"IF(MOD(H129,2),[1]pms170!G65,[1]pms230!D65)","v":"2017-02-08"},{"$f":"IF(MOD(H129,2),[1]pms170!H65,[1]pms230!E65)","v":"2017-02-16"},{"$f":"IF(MOD(H129,2),[1]pms170!F65,[1]pms230!F65)","v":48},{"$f":"IF(MOD(H129,2),[1]pms170!A65,[1]pms230!M65)","v":"351010"},63]
[{"$f":"IF(MOD(H130,2),[1]pms230!A611,[1]pms170!D611)","v":0},{"$f":"IF(MOD(H130,2),[1]pms230!B611,[1]pms170!B611)","v":0},{"$f":"IF(MOD(H130,2),[1]pms230!C611,[1]pms170!C611)","v":0},{"$f":"IF(MOD(H130,2),[1]pms230!D611,[1]pms170!G611)","v":"00:00:00"},{"$f":"IF(MOD(H130,2),[1]pms230!E611,[1]pms170!H611)","v":"00:00:00"},{"$f":"IF(MOD(H130,2),[1]pms230!F611,[1]pms170!F611)","v":0},{"$f":"IF(MOD(H130,2),[1]pms230!M611,[1]pms170!A611)","v":0},64]
[{"$f":"IF(MOD(H131,2),[1]pms170!D66,[1]pms230!A66)","v":"962103"},{"$f":"IF(MOD(H131,2),[1]pms170!B66,[1]pms230!B66)","v":"F0440199"},{"$f":"IF(MOD(H131,2),[1]pms170!C66,[1]pms230!C66)","v":"TABLETTE COCKTAIL D"},{"$f":"IF(MOD(H131,2),[1]pms170!G66,[1]pms230!D66)","v":"2017-02-09"},{"$f":"IF(MOD(H131,2),[1]pms170!H66,[1]pms230!E66)","v":"2017-02-09"},{"$f":"IF(MOD(H131,2),[1]pms170!F66,[1]pms230!F66)","v":"10"},{"$f":"IF(MOD(H131,2),[1]pms170!A66,[1]pms230!M66)","v":"351000"},64]
[{"$f":"IF(MOD(H132,2),[1]pms230!A612,[1]pms170!D612)","v":0},{"$f":"IF(MOD(H132,2),[1]pms230!B612,[1]pms170!B612)","v":0},{"$f":"IF(MOD(H132,2),[1]pms230!C612,[1]pms170!C612)","v":0},{"$f":"IF(MOD(H132,2),[1]pms230!D612,[1]pms170!G612)","v":"00:00:00"},{"$f":"IF(MOD(H132,2),[1]pms230!E612,[1]pms170!H612)","v":"00:00:00"},{"$f":"IF(MOD(H132,2),[1]pms230!F612,[1]pms170!F612)","v":0},{"$f":"IF(MOD(H132,2),[1]pms230!M612,[1]pms170!A612)","v":0},65]
[{"$f":"IF(MOD(H133,2),[1]pms170!D67,[1]pms230!A67)","v":"7156415"},{"$f":"IF(MOD(H133,2),[1]pms170!B67,[1]pms230!B67)","v":"F0484883"},{"$f":"IF(MOD(H133,2),[1]pms170!C67,[1]pms230!C67)","v":"CAPOT USB"},{"$f":"IF(MOD(H133,2),[1]pms170!G67,[1]pms230!D67)","v":"2017-02-03"},{"$f":"IF(MOD(H133,2),[1]pms170!H67,[1]pms230!E67)","v":"2017-02-06"},{"$f":"IF(MOD(H133,2),[1]pms170!F67,[1]pms230!F67)","v":2},{"$f":"IF(MOD(H133,2),[1]pms170!A67,[1]pms230!M67)","v":"351010"},65]
[{"$f":"IF(MOD(H134,2),[1]pms230!A613,[1]pms170!D613)","v":0},{"$f":"IF(MOD(H134,2),[1]pms230!B613,[1]pms170!B613)","v":0},{"$f":"IF(MOD(H134,2),[1]pms230!C613,[1]pms170!C613)","v":0},{"$f":"IF(MOD(H134,2),[1]pms230!D613,[1]pms170!G613)","v":"00:00:00"},{"$f":"IF(MOD(H134,2),[1]pms230!E613,[1]pms170!H613)","v":"00:00:00"},{"$f":"IF(MOD(H134,2),[1]pms230!F613,[1]pms170!F613)","v":0},{"$f":"IF(MOD(H134,2),[1]pms230!M613,[1]pms170!A613)","v":0},66]
[{"$f":"IF(MOD(H135,2),[1]pms170!D68,[1]pms230!A68)","v":"961517"},{"$f":"IF(MOD(H135,2),[1]pms170!B68,[1]pms230!B68)","v":"J2001036"},{"$f":"IF(MOD(H135,2),[1]pms170!C68,[1]pms230!C68)","v":"FAIRING FRONT TOP"},{"$f":"IF(MOD(H135,2),[1]pms170!G68,[1]pms230!D68)","v":"2017-02-09"},{"$f":"IF(MOD(H135,2),[1]pms170!H68,[1]pms230!E68)","v":"2017-02-09"},{"$f":"IF(MOD(H135,2),[1]pms170!F68,[1]pms230!F68)","v":"3"},{"$f":"IF(MOD(H135,2),[1]pms170!A68,[1]pms230!M68)","v":"351020"},66]
[{"$f":"IF(MOD(H136,2),[1]pms230!A614,[1]pms170!D614)","v":0},{"$f":"IF(MOD(H136,2),[1]pms230!B614,[1]pms170!B614)","v":0},{"$f":"IF(MOD(H136,2),[1]pms230!C614,[1]pms170!C614)","v":0},{"$f":"IF(MOD(H136,2),[1]pms230!D614,[1]pms170!G614)","v":"00:00:00"},{"$f":"IF(MOD(H136,2),[1]pms230!E614,[1]pms170!H614)","v":"00:00:00"},{"$f":"IF(MOD(H136,2),[1]pms230!F614,[1]pms170!F614)","v":0},{"$f":"IF(MOD(H136,2),[1]pms230!M614,[1]pms170!A614)","v":0},67]
[{"$f":"IF(MOD(H137,2),[1]pms170!D69,[1]pms230!A69)","v":"7123465"},{"$f":"IF(MOD(H137,2),[1]pms170!B69,[1]pms230!B69)","v":"F0488548"},{"$f":"IF(MOD(H137,2),[1]pms170!C69,[1]pms230!C69)","v":"CAPOT AR CROSSE PAROI"},{"$f":"IF(MOD(H137,2),[1]pms170!G69,[1]pms230!D69)","v":"2017-01-26"},{"$f":"IF(MOD(H137,2),[1]pms170!H69,[1]pms230!E69)","v":"2017-01-26"},{"$f":"IF(MOD(H137,2),[1]pms170!F69,[1]pms230!F69)","v":4},{"$f":"IF(MOD(H137,2),[1]pms170!A69,[1]pms230!M69)","v":"351010"},67]
[{"$f":"IF(MOD(H138,2),[1]pms230!A615,[1]pms170!D615)","v":0},{"$f":"IF(MOD(H138,2),[1]pms230!B615,[1]pms170!B615)","v":0},{"$f":"IF(MOD(H138,2),[1]pms230!C615,[1]pms170!C615)","v":0},{"$f":"IF(MOD(H138,2),[1]pms230!D615,[1]pms170!G615)","v":"00:00:00"},{"$f":"IF(MOD(H138,2),[1]pms230!E615,[1]pms170!H615)","v":"00:00:00"},{"$f":"IF(MOD(H138,2),[1]pms230!F615,[1]pms170!F615)","v":0},{"$f":"IF(MOD(H138,2),[1]pms230!M615,[1]pms170!A615)","v":0},68]
[{"$f":"IF(MOD(H139,2),[1]pms170!D70,[1]pms230!A70)","v":"957935"},{"$f":"IF(MOD(H139,2),[1]pms170!B70,[1]pms230!B70)","v":"F0439977"},{"$f":"IF(MOD(H139,2),[1]pms170!C70,[1]pms230!C70)","v":"PLATEAU TAB BASSE L3"},{"$f":"IF(MOD(H139,2),[1]pms170!G70,[1]pms230!D70)","v":"2017-02-09"},{"$f":"IF(MOD(H139,2),[1]pms170!H70,[1]pms230!E70)","v":"2017-02-09"},{"$f":"IF(MOD(H139,2),[1]pms170!F70,[1]pms230!F70)","v":"46"},{"$f":"IF(MOD(H139,2),[1]pms170!A70,[1]pms230!M70)","v":"351000"},68]
[{"$f":"IF(MOD(H140,2),[1]pms230!A616,[1]pms170!D616)","v":0},{"$f":"IF(MOD(H140,2),[1]pms230!B616,[1]pms170!B616)","v":0},{"$f":"IF(MOD(H140,2),[1]pms230!C616,[1]pms170!C616)","v":0},{"$f":"IF(MOD(H140,2),[1]pms230!D616,[1]pms170!G616)","v":"00:00:00"},{"$f":"IF(MOD(H140,2),[1]pms230!E616,[1]pms170!H616)","v":"00:00:00"},{"$f":"IF(MOD(H140,2),[1]pms230!F616,[1]pms170!F616)","v":0},{"$f":"IF(MOD(H140,2),[1]pms230!M616,[1]pms170!A616)","v":0},69]
[{"$f":"IF(MOD(H141,2),[1]pms170!D71,[1]pms230!A71)","v":"6749937"},{"$f":"IF(MOD(H141,2),[1]pms170!B71,[1]pms230!B71)","v":"F0493742"},{"$f":"IF(MOD(H141,2),[1]pms170!C71,[1]pms230!C71)","v":" ENS TABLETTE DORSALE LGE"},{"$f":"IF(MOD(H141,2),[1]pms170!G71,[1]pms230!D71)","v":"2017-02-13"},{"$f":"IF(MOD(H141,2),[1]pms170!H71,[1]pms230!E71)","v":"2017-02-23"},{"$f":"IF(MOD(H141,2),[1]pms170!F71,[1]pms230!F71)","v":50},{"$f":"IF(MOD(H141,2),[1]pms170!A71,[1]pms230!M71)","v":"351010"},69]
[{"$f":"IF(MOD(H142,2),[1]pms230!A617,[1]pms170!D617)","v":0},{"$f":"IF(MOD(H142,2),[1]pms230!B617,[1]pms170!B617)","v":0},{"$f":"IF(MOD(H142,2),[1]pms230!C617,[1]pms170!C617)","v":0},{"$f":"IF(MOD(H142,2),[1]pms230!D617,[1]pms170!G617)","v":"00:00:00"},{"$f":"IF(MOD(H142,2),[1]pms230!E617,[1]pms170!H617)","v":"00:00:00"},{"$f":"IF(MOD(H142,2),[1]pms230!F617,[1]pms170!F617)","v":0},{"$f":"IF(MOD(H142,2),[1]pms230!M617,[1]pms170!A617)","v":0},70]
[{"$f":"IF(MOD(H143,2),[1]pms170!D72,[1]pms230!A72)","v":"961491"},{"$f":"IF(MOD(H143,2),[1]pms170!B72,[1]pms230!B72)","v":"F0440244"},{"$f":"IF(MOD(H143,2),[1]pms170!C72,[1]pms230!C72)","v":"CAPOT RENFORT EQ"},{"$f":"IF(MOD(H143,2),[1]pms170!G72,[1]pms230!D72)","v":"2017-02-09"},{"$f":"IF(MOD(H143,2),[1]pms170!H72,[1]pms230!E72)","v":"2017-02-09"},{"$f":"IF(MOD(H143,2),[1]pms170!F72,[1]pms230!F72)","v":"39"},{"$f":"IF(MOD(H143,2),[1]pms170!A72,[1]pms230!M72)","v":"351010"},70]
[{"$f":"IF(MOD(H144,2),[1]pms230!A618,[1]pms170!D618)","v":0},{"$f":"IF(MOD(H144,2),[1]pms230!B618,[1]pms170!B618)","v":0},{"$f":"IF(MOD(H144,2),[1]pms230!C618,[1]pms170!C618)","v":0},{"$f":"IF(MOD(H144,2),[1]pms230!D618,[1]pms170!G618)","v":"00:00:00"},{"$f":"IF(MOD(H144,2),[1]pms230!E618,[1]pms170!H618)","v":"00:00:00"},{"$f":"IF(MOD(H144,2),[1]pms230!F618,[1]pms170!F618)","v":0},{"$f":"IF(MOD(H144,2),[1]pms230!M618,[1]pms170!A618)","v":0},71]
[{"$f":"IF(MOD(H145,2),[1]pms170!D73,[1]pms230!A73)","v":"6841473"},{"$f":"IF(MOD(H145,2),[1]pms170!B73,[1]pms230!B73)","v":"F0493742"},{"$f":"IF(MOD(H145,2),[1]pms170!C73,[1]pms230!C73)","v":" ENS TABLETTE DORSALE LGE"},{"$f":"IF(MOD(H145,2),[1]pms170!G73,[1]pms230!D73)","v":"2017-02-13"},{"$f":"IF(MOD(H145,2),[1]pms170!H73,[1]pms230!E73)","v":"2017-02-23"},{"$f":"IF(MOD(H145,2),[1]pms170!F73,[1]pms230!F73)","v":50},{"$f":"IF(MOD(H145,2),[1]pms170!A73,[1]pms230!M73)","v":"351010"},71]
[{"$f":"IF(MOD(H146,2),[1]pms230!A619,[1]pms170!D619)","v":0},{"$f":"IF(MOD(H146,2),[1]pms230!B619,[1]pms170!B619)","v":0},{"$f":"IF(MOD(H146,2),[1]pms230!C619,[1]pms170!C619)","v":0},{"$f":"IF(MOD(H146,2),[1]pms230!D619,[1]pms170!G619)","v":"00:00:00"},{"$f":"IF(MOD(H146,2),[1]pms230!E619,[1]pms170!H619)","v":"00:00:00"},{"$f":"IF(MOD(H146,2),[1]pms230!F619,[1]pms170!F619)","v":0},{"$f":"IF(MOD(H146,2),[1]pms230!M619,[1]pms170!A619)","v":0},72]
[{"$f":"IF(MOD(H147,2),[1]pms170!D74,[1]pms230!A74)","v":"962198"},{"$f":"IF(MOD(H147,2),[1]pms170!B74,[1]pms230!B74)","v":"F0470411"},{"$f":"IF(MOD(H147,2),[1]pms170!C74,[1]pms230!C74)","v":"CAPOT THERMO"},{"$f":"IF(MOD(H147,2),[1]pms170!G74,[1]pms230!D74)","v":"2017-02-09"},{"$f":"IF(MOD(H147,2),[1]pms170!H74,[1]pms230!E74)","v":"2017-02-09"},{"$f":"IF(MOD(H147,2),[1]pms170!F74,[1]pms230!F74)","v":"52"},{"$f":"IF(MOD(H147,2),[1]pms170!A74,[1]pms230!M74)","v":"351010"},72]
[{"$f":"IF(MOD(H148,2),[1]pms230!A620,[1]pms170!D620)","v":0},{"$f":"IF(MOD(H148,2),[1]pms230!B620,[1]pms170!B620)","v":0},{"$f":"IF(MOD(H148,2),[1]pms230!C620,[1]pms170!C620)","v":0},{"$f":"IF(MOD(H148,2),[1]pms230!D620,[1]pms170!G620)","v":"00:00:00"},{"$f":"IF(MOD(H148,2),[1]pms230!E620,[1]pms170!H620)","v":"00:00:00"},{"$f":"IF(MOD(H148,2),[1]pms230!F620,[1]pms170!F620)","v":0},{"$f":"IF(MOD(H148,2),[1]pms230!M620,[1]pms170!A620)","v":0},73]
[{"$f":"IF(MOD(H149,2),[1]pms170!D75,[1]pms230!A75)","v":"6841475"},{"$f":"IF(MOD(H149,2),[1]pms170!B75,[1]pms230!B75)","v":"F0493742"},{"$f":"IF(MOD(H149,2),[1]pms170!C75,[1]pms230!C75)","v":" ENS TABLETTE DORSALE LGE"},{"$f":"IF(MOD(H149,2),[1]pms170!G75,[1]pms230!D75)","v":"2017-02-13"},{"$f":"IF(MOD(H149,2),[1]pms170!H75,[1]pms230!E75)","v":"2017-02-23"},{"$f":"IF(MOD(H149,2),[1]pms170!F75,[1]pms230!F75)","v":50},{"$f":"IF(MOD(H149,2),[1]pms170!A75,[1]pms230!M75)","v":"351010"},73]
[{"$f":"IF(MOD(H150,2),[1]pms230!A621,[1]pms170!D621)","v":0},{"$f":"IF(MOD(H150,2),[1]pms230!B621,[1]pms170!B621)","v":0},{"$f":"IF(MOD(H150,2),[1]pms230!C621,[1]pms170!C621)","v":0},{"$f":"IF(MOD(H150,2),[1]pms230!D621,[1]pms170!G621)","v":"00:00:00"},{"$f":"IF(MOD(H150,2),[1]pms230!E621,[1]pms170!H621)","v":"00:00:00"},{"$f":"IF(MOD(H150,2),[1]pms230!F621,[1]pms170!F621)","v":0},{"$f":"IF(MOD(H150,2),[1]pms230!M621,[1]pms170!A621)","v":0},74]
[{"$f":"IF(MOD(H151,2),[1]pms170!D76,[1]pms230!A76)","v":"962012"},{"$f":"IF(MOD(H151,2),[1]pms170!B76,[1]pms230!B76)","v":"F0442002"},{"$f":"IF(MOD(H151,2),[1]pms170!C76,[1]pms230!C76)","v":"ENS TABLETTE IAT EXT"},{"$f":"IF(MOD(H151,2),[1]pms170!G76,[1]pms230!D76)","v":"2017-02-09"},{"$f":"IF(MOD(H151,2),[1]pms170!H76,[1]pms230!E76)","v":"2017-02-09"},{"$f":"IF(MOD(H151,2),[1]pms170!F76,[1]pms230!F76)","v":"15"},{"$f":"IF(MOD(H151,2),[1]pms170!A76,[1]pms230!M76)","v":"351010"},74]
[{"$f":"IF(MOD(H152,2),[1]pms230!A622,[1]pms170!D622)","v":0},{"$f":"IF(MOD(H152,2),[1]pms230!B622,[1]pms170!B622)","v":0},{"$f":"IF(MOD(H152,2),[1]pms230!C622,[1]pms170!C622)","v":0},{"$f":"IF(MOD(H152,2),[1]pms230!D622,[1]pms170!G622)","v":"00:00:00"},{"$f":"IF(MOD(H152,2),[1]pms230!E622,[1]pms170!H622)","v":"00:00:00"},{"$f":"IF(MOD(H152,2),[1]pms230!F622,[1]pms170!F622)","v":0},{"$f":"IF(MOD(H152,2),[1]pms230!M622,[1]pms170!A622)","v":0},75]
[{"$f":"IF(MOD(H153,2),[1]pms170!D77,[1]pms230!A77)","v":"6707867"},{"$f":"IF(MOD(H153,2),[1]pms170!B77,[1]pms230!B77)","v":"F0499603"},{"$f":"IF(MOD(H153,2),[1]pms170!C77,[1]pms230!C77)","v":"CAPOT INF TABLETTE 17\"70"},{"$f":"IF(MOD(H153,2),[1]pms170!G77,[1]pms230!D77)","v":"2017-01-12"},{"$f":"IF(MOD(H153,2),[1]pms170!H77,[1]pms230!E77)","v":"2017-01-12"},{"$f":"IF(MOD(H153,2),[1]pms170!F77,[1]pms230!F77)","v":12},{"$f":"IF(MOD(H153,2),[1]pms170!A77,[1]pms230!M77)","v":"351010"},75]
[{"$f":"IF(MOD(H154,2),[1]pms230!A623,[1]pms170!D623)","v":0},{"$f":"IF(MOD(H154,2),[1]pms230!B623,[1]pms170!B623)","v":0},{"$f":"IF(MOD(H154,2),[1]pms230!C623,[1]pms170!C623)","v":0},{"$f":"IF(MOD(H154,2),[1]pms230!D623,[1]pms170!G623)","v":"00:00:00"},{"$f":"IF(MOD(H154,2),[1]pms230!E623,[1]pms170!H623)","v":"00:00:00"},{"$f":"IF(MOD(H154,2),[1]pms230!F623,[1]pms170!F623)","v":0},{"$f":"IF(MOD(H154,2),[1]pms230!M623,[1]pms170!A623)","v":0},76]
[{"$f":"IF(MOD(H155,2),[1]pms170!D78,[1]pms230!A78)","v":"961861"},{"$f":"IF(MOD(H155,2),[1]pms170!B78,[1]pms230!B78)","v":"F0458344"},{"$f":"IF(MOD(H155,2),[1]pms170!C78,[1]pms230!C78)","v":"CAPOT NU INF TABL DO"},{"$f":"IF(MOD(H155,2),[1]pms170!G78,[1]pms230!D78)","v":"2017-02-09"},{"$f":"IF(MOD(H155,2),[1]pms170!H78,[1]pms230!E78)","v":"2017-02-09"},{"$f":"IF(MOD(H155,2),[1]pms170!F78,[1]pms230!F78)","v":"29"},{"$f":"IF(MOD(H155,2),[1]pms170!A78,[1]pms230!M78)","v":"351010"},76]
[{"$f":"IF(MOD(H156,2),[1]pms230!A624,[1]pms170!D624)","v":0},{"$f":"IF(MOD(H156,2),[1]pms230!B624,[1]pms170!B624)","v":0},{"$f":"IF(MOD(H156,2),[1]pms230!C624,[1]pms170!C624)","v":0},{"$f":"IF(MOD(H156,2),[1]pms230!D624,[1]pms170!G624)","v":"00:00:00"},{"$f":"IF(MOD(H156,2),[1]pms230!E624,[1]pms170!H624)","v":"00:00:00"},{"$f":"IF(MOD(H156,2),[1]pms230!F624,[1]pms170!F624)","v":0},{"$f":"IF(MOD(H156,2),[1]pms230!M624,[1]pms170!A624)","v":0},77]
[{"$f":"IF(MOD(H157,2),[1]pms170!D79,[1]pms230!A79)","v":"6859099"},{"$f":"IF(MOD(H157,2),[1]pms170!B79,[1]pms230!B79)","v":"F0503681"},{"$f":"IF(MOD(H157,2),[1]pms170!C79,[1]pms230!C79)","v":"ENS TABLETTE DORSALE STD"},{"$f":"IF(MOD(H157,2),[1]pms170!G79,[1]pms230!D79)","v":"2017-02-09"},{"$f":"IF(MOD(H157,2),[1]pms170!H79,[1]pms230!E79)","v":"2017-02-11"},{"$f":"IF(MOD(H157,2),[1]pms170!F79,[1]pms230!F79)","v":8},{"$f":"IF(MOD(H157,2),[1]pms170!A79,[1]pms230!M79)","v":"351010"},77]
[{"$f":"IF(MOD(H158,2),[1]pms230!A625,[1]pms170!D625)","v":0},{"$f":"IF(MOD(H158,2),[1]pms230!B625,[1]pms170!B625)","v":0},{"$f":"IF(MOD(H158,2),[1]pms230!C625,[1]pms170!C625)","v":0},{"$f":"IF(MOD(H158,2),[1]pms230!D625,[1]pms170!G625)","v":"00:00:00"},{"$f":"IF(MOD(H158,2),[1]pms230!E625,[1]pms170!H625)","v":"00:00:00"},{"$f":"IF(MOD(H158,2),[1]pms230!F625,[1]pms170!F625)","v":0},{"$f":"IF(MOD(H158,2),[1]pms230!M625,[1]pms170!A625)","v":0},78]
[{"$f":"IF(MOD(H159,2),[1]pms170!D80,[1]pms230!A80)","v":"961637"},{"$f":"IF(MOD(H159,2),[1]pms170!B80,[1]pms230!B80)","v":"F0432816"},{"$f":"IF(MOD(H159,2),[1]pms170!C80,[1]pms230!C80)","v":"CACHE LOGEMENT VIDEO"},{"$f":"IF(MOD(H159,2),[1]pms170!G80,[1]pms230!D80)","v":"2017-02-09"},{"$f":"IF(MOD(H159,2),[1]pms170!H80,[1]pms230!E80)","v":"2017-02-09"},{"$f":"IF(MOD(H159,2),[1]pms170!F80,[1]pms230!F80)","v":"3"},{"$f":"IF(MOD(H159,2),[1]pms170!A80,[1]pms230!M80)","v":"351010"},78]
[{"$f":"IF(MOD(H160,2),[1]pms230!A626,[1]pms170!D626)","v":0},{"$f":"IF(MOD(H160,2),[1]pms230!B626,[1]pms170!B626)","v":0},{"$f":"IF(MOD(H160,2),[1]pms230!C626,[1]pms170!C626)","v":0},{"$f":"IF(MOD(H160,2),[1]pms230!D626,[1]pms170!G626)","v":"00:00:00"},{"$f":"IF(MOD(H160,2),[1]pms230!E626,[1]pms170!H626)","v":"00:00:00"},{"$f":"IF(MOD(H160,2),[1]pms230!F626,[1]pms170!F626)","v":0},{"$f":"IF(MOD(H160,2),[1]pms230!M626,[1]pms170!A626)","v":0},79]
[{"$f":"IF(MOD(H161,2),[1]pms170!D81,[1]pms230!A81)","v":"7123591"},{"$f":"IF(MOD(H161,2),[1]pms170!B81,[1]pms230!B81)","v":"F0507334"},{"$f":"IF(MOD(H161,2),[1]pms170!C81,[1]pms230!C81)","v":"ENS PLATEAU TABLETTE RDT"},{"$f":"IF(MOD(H161,2),[1]pms170!G81,[1]pms230!D81)","v":"2017-02-08"},{"$f":"IF(MOD(H161,2),[1]pms170!H81,[1]pms230!E81)","v":"2017-02-11"},{"$f":"IF(MOD(H161,2),[1]pms170!F81,[1]pms230!F81)","v":2},{"$f":"IF(MOD(H161,2),[1]pms170!A81,[1]pms230!M81)","v":"351010"},79]
[{"$f":"IF(MOD(H162,2),[1]pms230!A627,[1]pms170!D627)","v":0},{"$f":"IF(MOD(H162,2),[1]pms230!B627,[1]pms170!B627)","v":0},{"$f":"IF(MOD(H162,2),[1]pms230!C627,[1]pms170!C627)","v":0},{"$f":"IF(MOD(H162,2),[1]pms230!D627,[1]pms170!G627)","v":"00:00:00"},{"$f":"IF(MOD(H162,2),[1]pms230!E627,[1]pms170!H627)","v":"00:00:00"},{"$f":"IF(MOD(H162,2),[1]pms230!F627,[1]pms170!F627)","v":0},{"$f":"IF(MOD(H162,2),[1]pms230!M627,[1]pms170!A627)","v":0},80]
[{"$f":"IF(MOD(H163,2),[1]pms170!D82,[1]pms230!A82)","v":"961859"},{"$f":"IF(MOD(H163,2),[1]pms170!B82,[1]pms230!B82)","v":"F0437868"},{"$f":"IF(MOD(H163,2),[1]pms170!C82,[1]pms230!C82)","v":"ENSEMBLE CAPOT"},{"$f":"IF(MOD(H163,2),[1]pms170!G82,[1]pms230!D82)","v":"2017-02-09"},{"$f":"IF(MOD(H163,2),[1]pms170!H82,[1]pms230!E82)","v":"2017-02-09"},{"$f":"IF(MOD(H163,2),[1]pms170!F82,[1]pms230!F82)","v":"4"},{"$f":"IF(MOD(H163,2),[1]pms170!A82,[1]pms230!M82)","v":"351010"},80]
[{"$f":"IF(MOD(H164,2),[1]pms230!A628,[1]pms170!D628)","v":0},{"$f":"IF(MOD(H164,2),[1]pms230!B628,[1]pms170!B628)","v":0},{"$f":"IF(MOD(H164,2),[1]pms230!C628,[1]pms170!C628)","v":0},{"$f":"IF(MOD(H164,2),[1]pms230!D628,[1]pms170!G628)","v":"00:00:00"},{"$f":"IF(MOD(H164,2),[1]pms230!E628,[1]pms170!H628)","v":"00:00:00"},{"$f":"IF(MOD(H164,2),[1]pms230!F628,[1]pms170!F628)","v":0},{"$f":"IF(MOD(H164,2),[1]pms230!M628,[1]pms170!A628)","v":0},81]
[{"$f":"IF(MOD(H165,2),[1]pms170!D83,[1]pms230!A83)","v":"6640581"},{"$f":"IF(MOD(H165,2),[1]pms170!B83,[1]pms230!B83)","v":"F0510189"},{"$f":"IF(MOD(H165,2),[1]pms170!C83,[1]pms230!C83)","v":"ENS TABLETTE DORSALE 17\"2"},{"$f":"IF(MOD(H165,2),[1]pms170!G83,[1]pms230!D83)","v":"2017-01-30"},{"$f":"IF(MOD(H165,2),[1]pms170!H83,[1]pms230!E83)","v":"2017-02-11"},{"$f":"IF(MOD(H165,2),[1]pms170!F83,[1]pms230!F83)","v":35},{"$f":"IF(MOD(H165,2),[1]pms170!A83,[1]pms230!M83)","v":"351010"},81]
[{"$f":"IF(MOD(H166,2),[1]pms230!A629,[1]pms170!D629)","v":0},{"$f":"IF(MOD(H166,2),[1]pms230!B629,[1]pms170!B629)","v":0},{"$f":"IF(MOD(H166,2),[1]pms230!C629,[1]pms170!C629)","v":0},{"$f":"IF(MOD(H166,2),[1]pms230!D629,[1]pms170!G629)","v":"00:00:00"},{"$f":"IF(MOD(H166,2),[1]pms230!E629,[1]pms170!H629)","v":"00:00:00"},{"$f":"IF(MOD(H166,2),[1]pms230!F629,[1]pms170!F629)","v":0},{"$f":"IF(MOD(H166,2),[1]pms230!M629,[1]pms170!A629)","v":0},82]
[{"$f":"IF(MOD(H167,2),[1]pms170!D84,[1]pms230!A84)","v":"960971"},{"$f":"IF(MOD(H167,2),[1]pms170!B84,[1]pms230!B84)","v":"F0476122"},{"$f":"IF(MOD(H167,2),[1]pms170!C84,[1]pms230!C84)","v":"ENS PLATEAU TABLETTE"},{"$f":"IF(MOD(H167,2),[1]pms170!G84,[1]pms230!D84)","v":"2017-02-09"},{"$f":"IF(MOD(H167,2),[1]pms170!H84,[1]pms230!E84)","v":"2017-02-09"},{"$f":"IF(MOD(H167,2),[1]pms170!F84,[1]pms230!F84)","v":"48"},{"$f":"IF(MOD(H167,2),[1]pms170!A84,[1]pms230!M84)","v":"351010"},82]
[{"$f":"IF(MOD(H168,2),[1]pms230!A630,[1]pms170!D630)","v":0},{"$f":"IF(MOD(H168,2),[1]pms230!B630,[1]pms170!B630)","v":0},{"$f":"IF(MOD(H168,2),[1]pms230!C630,[1]pms170!C630)","v":0},{"$f":"IF(MOD(H168,2),[1]pms230!D630,[1]pms170!G630)","v":"00:00:00"},{"$f":"IF(MOD(H168,2),[1]pms230!E630,[1]pms170!H630)","v":"00:00:00"},{"$f":"IF(MOD(H168,2),[1]pms230!F630,[1]pms170!F630)","v":0},{"$f":"IF(MOD(H168,2),[1]pms230!M630,[1]pms170!A630)","v":0},83]
[{"$f":"IF(MOD(H169,2),[1]pms170!D85,[1]pms230!A85)","v":"7156907"},{"$f":"IF(MOD(H169,2),[1]pms170!B85,[1]pms230!B85)","v":"F0511676"},{"$f":"IF(MOD(H169,2),[1]pms170!C85,[1]pms230!C85)","v":" CAPOT SEAT TO SEAT"},{"$f":"IF(MOD(H169,2),[1]pms170!G85,[1]pms230!D85)","v":"2017-02-09"},{"$f":"IF(MOD(H169,2),[1]pms170!H85,[1]pms230!E85)","v":"2017-02-10"},{"$f":"IF(MOD(H169,2),[1]pms170!F85,[1]pms230!F85)","v":3},{"$f":"IF(MOD(H169,2),[1]pms170!A85,[1]pms230!M85)","v":"351010"},83]
[{"$f":"IF(MOD(H170,2),[1]pms230!A631,[1]pms170!D631)","v":0},{"$f":"IF(MOD(H170,2),[1]pms230!B631,[1]pms170!B631)","v":0},{"$f":"IF(MOD(H170,2),[1]pms230!C631,[1]pms170!C631)","v":0},{"$f":"IF(MOD(H170,2),[1]pms230!D631,[1]pms170!G631)","v":"00:00:00"},{"$f":"IF(MOD(H170,2),[1]pms230!E631,[1]pms170!H631)","v":"00:00:00"},{"$f":"IF(MOD(H170,2),[1]pms230!F631,[1]pms170!F631)","v":0},{"$f":"IF(MOD(H170,2),[1]pms230!M631,[1]pms170!A631)","v":0},84]
[{"$f":"IF(MOD(H171,2),[1]pms170!D86,[1]pms230!A86)","v":"961639"},{"$f":"IF(MOD(H171,2),[1]pms170!B86,[1]pms230!B86)","v":"F0471830"},{"$f":"IF(MOD(H171,2),[1]pms170!C86,[1]pms230!C86)","v":"CAPOT FLANC COULOIR"},{"$f":"IF(MOD(H171,2),[1]pms170!G86,[1]pms230!D86)","v":"2017-02-09"},{"$f":"IF(MOD(H171,2),[1]pms170!H86,[1]pms230!E86)","v":"2017-02-09"},{"$f":"IF(MOD(H171,2),[1]pms170!F86,[1]pms230!F86)","v":"2"},{"$f":"IF(MOD(H171,2),[1]pms170!A86,[1]pms230!M86)","v":"351010"},84]
[{"$f":"IF(MOD(H172,2),[1]pms230!A632,[1]pms170!D632)","v":0},{"$f":"IF(MOD(H172,2),[1]pms230!B632,[1]pms170!B632)","v":0},{"$f":"IF(MOD(H172,2),[1]pms230!C632,[1]pms170!C632)","v":0},{"$f":"IF(MOD(H172,2),[1]pms230!D632,[1]pms170!G632)","v":"00:00:00"},{"$f":"IF(MOD(H172,2),[1]pms230!E632,[1]pms170!H632)","v":"00:00:00"},{"$f":"IF(MOD(H172,2),[1]pms230!F632,[1]pms170!F632)","v":0},{"$f":"IF(MOD(H172,2),[1]pms230!M632,[1]pms170!A632)","v":0},85]
[{"$f":"IF(MOD(H173,2),[1]pms170!D87,[1]pms230!A87)","v":"7254986"},{"$f":"IF(MOD(H173,2),[1]pms170!B87,[1]pms230!B87)","v":"F0514762"},{"$f":"IF(MOD(H173,2),[1]pms170!C87,[1]pms230!C87)","v":"ENS REMPLISSAGE TABLETTE LGE"},{"$f":"IF(MOD(H173,2),[1]pms170!G87,[1]pms230!D87)","v":"2017-02-14"},{"$f":"IF(MOD(H173,2),[1]pms170!H87,[1]pms230!E87)","v":"2017-02-15"},{"$f":"IF(MOD(H173,2),[1]pms170!F87,[1]pms230!F87)","v":27},{"$f":"IF(MOD(H173,2),[1]pms170!A87,[1]pms230!M87)","v":"351010"},85]
[{"$f":"IF(MOD(H174,2),[1]pms230!A633,[1]pms170!D633)","v":0},{"$f":"IF(MOD(H174,2),[1]pms230!B633,[1]pms170!B633)","v":0},{"$f":"IF(MOD(H174,2),[1]pms230!C633,[1]pms170!C633)","v":0},{"$f":"IF(MOD(H174,2),[1]pms230!D633,[1]pms170!G633)","v":"00:00:00"},{"$f":"IF(MOD(H174,2),[1]pms230!E633,[1]pms170!H633)","v":"00:00:00"},{"$f":"IF(MOD(H174,2),[1]pms230!F633,[1]pms170!F633)","v":0},{"$f":"IF(MOD(H174,2),[1]pms230!M633,[1]pms170!A633)","v":0},86]
[{"$f":"IF(MOD(H175,2),[1]pms170!D88,[1]pms230!A88)","v":"961872"},{"$f":"IF(MOD(H175,2),[1]pms170!B88,[1]pms230!B88)","v":"F0442704"},{"$f":"IF(MOD(H175,2),[1]pms170!C88,[1]pms230!C88)","v":"ENS STRUCT TABLETTE"},{"$f":"IF(MOD(H175,2),[1]pms170!G88,[1]pms230!D88)","v":"2017-02-09"},{"$f":"IF(MOD(H175,2),[1]pms170!H88,[1]pms230!E88)","v":"2017-02-10"},{"$f":"IF(MOD(H175,2),[1]pms170!F88,[1]pms230!F88)","v":"50"},{"$f":"IF(MOD(H175,2),[1]pms170!A88,[1]pms230!M88)","v":"351015"},86]
[{"$f":"IF(MOD(H176,2),[1]pms230!A634,[1]pms170!D634)","v":0},{"$f":"IF(MOD(H176,2),[1]pms230!B634,[1]pms170!B634)","v":0},{"$f":"IF(MOD(H176,2),[1]pms230!C634,[1]pms170!C634)","v":0},{"$f":"IF(MOD(H176,2),[1]pms230!D634,[1]pms170!G634)","v":"00:00:00"},{"$f":"IF(MOD(H176,2),[1]pms230!E634,[1]pms170!H634)","v":"00:00:00"},{"$f":"IF(MOD(H176,2),[1]pms230!F634,[1]pms170!F634)","v":0},{"$f":"IF(MOD(H176,2),[1]pms230!M634,[1]pms170!A634)","v":0},87]
[{"$f":"IF(MOD(H177,2),[1]pms170!D89,[1]pms230!A89)","v":"7008715"},{"$f":"IF(MOD(H177,2),[1]pms170!B89,[1]pms230!B89)","v":"F0517742"},{"$f":"IF(MOD(H177,2),[1]pms170!C89,[1]pms230!C89)","v":"ENS TABLETTE DORSALE 18\"1"},{"$f":"IF(MOD(H177,2),[1]pms170!G89,[1]pms230!D89)","v":"2017-02-10"},{"$f":"IF(MOD(H177,2),[1]pms170!H89,[1]pms230!E89)","v":"2017-02-15"},{"$f":"IF(MOD(H177,2),[1]pms170!F89,[1]pms230!F89)","v":50},{"$f":"IF(MOD(H177,2),[1]pms170!A89,[1]pms230!M89)","v":"351010"},87]
[{"$f":"IF(MOD(H178,2),[1]pms230!A635,[1]pms170!D635)","v":0},{"$f":"IF(MOD(H178,2),[1]pms230!B635,[1]pms170!B635)","v":0},{"$f":"IF(MOD(H178,2),[1]pms230!C635,[1]pms170!C635)","v":0},{"$f":"IF(MOD(H178,2),[1]pms230!D635,[1]pms170!G635)","v":"00:00:00"},{"$f":"IF(MOD(H178,2),[1]pms230!E635,[1]pms170!H635)","v":"00:00:00"},{"$f":"IF(MOD(H178,2),[1]pms230!F635,[1]pms170!F635)","v":0},{"$f":"IF(MOD(H178,2),[1]pms230!M635,[1]pms170!A635)","v":0},88]
[{"$f":"IF(MOD(H179,2),[1]pms170!D90,[1]pms230!A90)","v":"958259"},{"$f":"IF(MOD(H179,2),[1]pms170!B90,[1]pms230!B90)","v":"F0493839"},{"$f":"IF(MOD(H179,2),[1]pms170!C90,[1]pms230!C90)","v":"ENS REMPLISSAGE TABL"},{"$f":"IF(MOD(H179,2),[1]pms170!G90,[1]pms230!D90)","v":"2017-02-09"},{"$f":"IF(MOD(H179,2),[1]pms170!H90,[1]pms230!E90)","v":"2017-02-10"},{"$f":"IF(MOD(H179,2),[1]pms170!F90,[1]pms230!F90)","v":"50"},{"$f":"IF(MOD(H179,2),[1]pms170!A90,[1]pms230!M90)","v":"351015"},88]
[{"$f":"IF(MOD(H180,2),[1]pms230!A636,[1]pms170!D636)","v":0},{"$f":"IF(MOD(H180,2),[1]pms230!B636,[1]pms170!B636)","v":0},{"$f":"IF(MOD(H180,2),[1]pms230!C636,[1]pms170!C636)","v":0},{"$f":"IF(MOD(H180,2),[1]pms230!D636,[1]pms170!G636)","v":"00:00:00"},{"$f":"IF(MOD(H180,2),[1]pms230!E636,[1]pms170!H636)","v":"00:00:00"},{"$f":"IF(MOD(H180,2),[1]pms230!F636,[1]pms170!F636)","v":0},{"$f":"IF(MOD(H180,2),[1]pms230!M636,[1]pms170!A636)","v":0},89]
[{"$f":"IF(MOD(H181,2),[1]pms170!D91,[1]pms230!A91)","v":"7135540"},{"$f":"IF(MOD(H181,2),[1]pms170!B91,[1]pms230!B91)","v":"F0517742"},{"$f":"IF(MOD(H181,2),[1]pms170!C91,[1]pms230!C91)","v":"ENS TABLETTE DORSALE 18\"1"},{"$f":"IF(MOD(H181,2),[1]pms170!G91,[1]pms230!D91)","v":"2017-02-21"},{"$f":"IF(MOD(H181,2),[1]pms170!H91,[1]pms230!E91)","v":"2017-02-24"},{"$f":"IF(MOD(H181,2),[1]pms170!F91,[1]pms230!F91)","v":50},{"$f":"IF(MOD(H181,2),[1]pms170!A91,[1]pms230!M91)","v":"351010"},89]
[{"$f":"IF(MOD(H182,2),[1]pms230!A637,[1]pms170!D637)","v":0},{"$f":"IF(MOD(H182,2),[1]pms230!B637,[1]pms170!B637)","v":0},{"$f":"IF(MOD(H182,2),[1]pms230!C637,[1]pms170!C637)","v":0},{"$f":"IF(MOD(H182,2),[1]pms230!D637,[1]pms170!G637)","v":"00:00:00"},{"$f":"IF(MOD(H182,2),[1]pms230!E637,[1]pms170!H637)","v":"00:00:00"},{"$f":"IF(MOD(H182,2),[1]pms230!F637,[1]pms170!F637)","v":0},{"$f":"IF(MOD(H182,2),[1]pms230!M637,[1]pms170!A637)","v":0},90]
[{"$f":"IF(MOD(H183,2),[1]pms170!D92,[1]pms230!A92)","v":"961210"},{"$f":"IF(MOD(H183,2),[1]pms170!B92,[1]pms230!B92)","v":"J2000281"},{"$f":"IF(MOD(H183,2),[1]pms170!C92,[1]pms230!C92)","v":"PANEL  LOWER FORWARD"},{"$f":"IF(MOD(H183,2),[1]pms170!G92,[1]pms230!D92)","v":"2017-02-10"},{"$f":"IF(MOD(H183,2),[1]pms170!H92,[1]pms230!E92)","v":"2017-02-10"},{"$f":"IF(MOD(H183,2),[1]pms170!F92,[1]pms230!F92)","v":"13"},{"$f":"IF(MOD(H183,2),[1]pms170!A92,[1]pms230!M92)","v":"351020"},90]
[{"$f":"IF(MOD(H184,2),[1]pms230!A638,[1]pms170!D638)","v":0},{"$f":"IF(MOD(H184,2),[1]pms230!B638,[1]pms170!B638)","v":0},{"$f":"IF(MOD(H184,2),[1]pms230!C638,[1]pms170!C638)","v":0},{"$f":"IF(MOD(H184,2),[1]pms230!D638,[1]pms170!G638)","v":"00:00:00"},{"$f":"IF(MOD(H184,2),[1]pms230!E638,[1]pms170!H638)","v":"00:00:00"},{"$f":"IF(MOD(H184,2),[1]pms230!F638,[1]pms170!F638)","v":0},{"$f":"IF(MOD(H184,2),[1]pms230!M638,[1]pms170!A638)","v":0},91]
[{"$f":"IF(MOD(H185,2),[1]pms170!D93,[1]pms230!A93)","v":"6974324"},{"$f":"IF(MOD(H185,2),[1]pms170!B93,[1]pms230!B93)","v":"F0519677"},{"$f":"IF(MOD(H185,2),[1]pms170!C93,[1]pms230!C93)","v":"ENS TABLETTE DORSALE"},{"$f":"IF(MOD(H185,2),[1]pms170!G93,[1]pms230!D93)","v":"2017-01-24"},{"$f":"IF(MOD(H185,2),[1]pms170!H93,[1]pms230!E93)","v":"2017-01-27"},{"$f":"IF(MOD(H185,2),[1]pms170!F93,[1]pms230!F93)","v":16},{"$f":"IF(MOD(H185,2),[1]pms170!A93,[1]pms230!M93)","v":"351010"},91]
[{"$f":"IF(MOD(H186,2),[1]pms230!A639,[1]pms170!D639)","v":0},{"$f":"IF(MOD(H186,2),[1]pms230!B639,[1]pms170!B639)","v":0},{"$f":"IF(MOD(H186,2),[1]pms230!C639,[1]pms170!C639)","v":0},{"$f":"IF(MOD(H186,2),[1]pms230!D639,[1]pms170!G639)","v":"00:00:00"},{"$f":"IF(MOD(H186,2),[1]pms230!E639,[1]pms170!H639)","v":"00:00:00"},{"$f":"IF(MOD(H186,2),[1]pms230!F639,[1]pms170!F639)","v":0},{"$f":"IF(MOD(H186,2),[1]pms230!M639,[1]pms170!A639)","v":0},92]
[{"$f":"IF(MOD(H187,2),[1]pms170!D94,[1]pms230!A94)","v":"961596"},{"$f":"IF(MOD(H187,2),[1]pms170!B94,[1]pms230!B94)","v":"F0505778"},{"$f":"IF(MOD(H187,2),[1]pms170!C94,[1]pms230!C94)","v":"CAPOT FOND HAUT DOSS"},{"$f":"IF(MOD(H187,2),[1]pms170!G94,[1]pms230!D94)","v":"2017-02-10"},{"$f":"IF(MOD(H187,2),[1]pms170!H94,[1]pms230!E94)","v":"2017-02-13"},{"$f":"IF(MOD(H187,2),[1]pms170!F94,[1]pms230!F94)","v":"52"},{"$f":"IF(MOD(H187,2),[1]pms170!A94,[1]pms230!M94)","v":"351010"},92]
[{"$f":"IF(MOD(H188,2),[1]pms230!A640,[1]pms170!D640)","v":0},{"$f":"IF(MOD(H188,2),[1]pms230!B640,[1]pms170!B640)","v":0},{"$f":"IF(MOD(H188,2),[1]pms230!C640,[1]pms170!C640)","v":0},{"$f":"IF(MOD(H188,2),[1]pms230!D640,[1]pms170!G640)","v":"00:00:00"},{"$f":"IF(MOD(H188,2),[1]pms230!E640,[1]pms170!H640)","v":"00:00:00"},{"$f":"IF(MOD(H188,2),[1]pms230!F640,[1]pms170!F640)","v":0},{"$f":"IF(MOD(H188,2),[1]pms230!M640,[1]pms170!A640)","v":0},93]
[{"$f":"IF(MOD(H189,2),[1]pms170!D95,[1]pms230!A95)","v":"6910155"},{"$f":"IF(MOD(H189,2),[1]pms170!B95,[1]pms230!B95)","v":"F0519813"},{"$f":"IF(MOD(H189,2),[1]pms170!C95,[1]pms230!C95)","v":"ENS CAPOT STS"},{"$f":"IF(MOD(H189,2),[1]pms170!G95,[1]pms230!D95)","v":"2017-02-07"},{"$f":"IF(MOD(H189,2),[1]pms170!H95,[1]pms230!E95)","v":"2017-02-07"},{"$f":"IF(MOD(H189,2),[1]pms170!F95,[1]pms230!F95)","v":2},{"$f":"IF(MOD(H189,2),[1]pms170!A95,[1]pms230!M95)","v":"351010"},93]
[{"$f":"IF(MOD(H190,2),[1]pms230!A641,[1]pms170!D641)","v":0},{"$f":"IF(MOD(H190,2),[1]pms230!B641,[1]pms170!B641)","v":0},{"$f":"IF(MOD(H190,2),[1]pms230!C641,[1]pms170!C641)","v":0},{"$f":"IF(MOD(H190,2),[1]pms230!D641,[1]pms170!G641)","v":"00:00:00"},{"$f":"IF(MOD(H190,2),[1]pms230!E641,[1]pms170!H641)","v":"00:00:00"},{"$f":"IF(MOD(H190,2),[1]pms230!F641,[1]pms170!F641)","v":0},{"$f":"IF(MOD(H190,2),[1]pms230!M641,[1]pms170!A641)","v":0},94]
[{"$f":"IF(MOD(H191,2),[1]pms170!D96,[1]pms230!A96)","v":"961497"},{"$f":"IF(MOD(H191,2),[1]pms170!B96,[1]pms230!B96)","v":"F0505778"},{"$f":"IF(MOD(H191,2),[1]pms170!C96,[1]pms230!C96)","v":"CAPOT FOND HAUT DOSS"},{"$f":"IF(MOD(H191,2),[1]pms170!G96,[1]pms230!D96)","v":"2017-02-10"},{"$f":"IF(MOD(H191,2),[1]pms170!H96,[1]pms230!E96)","v":"2017-02-13"},{"$f":"IF(MOD(H191,2),[1]pms170!F96,[1]pms230!F96)","v":"52"},{"$f":"IF(MOD(H191,2),[1]pms170!A96,[1]pms230!M96)","v":"351010"},94]
[{"$f":"IF(MOD(H192,2),[1]pms230!A642,[1]pms170!D642)","v":0},{"$f":"IF(MOD(H192,2),[1]pms230!B642,[1]pms170!B642)","v":0},{"$f":"IF(MOD(H192,2),[1]pms230!C642,[1]pms170!C642)","v":0},{"$f":"IF(MOD(H192,2),[1]pms230!D642,[1]pms170!G642)","v":"00:00:00"},{"$f":"IF(MOD(H192,2),[1]pms230!E642,[1]pms170!H642)","v":"00:00:00"},{"$f":"IF(MOD(H192,2),[1]pms230!F642,[1]pms170!F642)","v":0},{"$f":"IF(MOD(H192,2),[1]pms230!M642,[1]pms170!A642)","v":0},95]
[{"$f":"IF(MOD(H193,2),[1]pms170!D97,[1]pms230!A97)","v":"7038694"},{"$f":"IF(MOD(H193,2),[1]pms170!B97,[1]pms230!B97)","v":"F0519978"},{"$f":"IF(MOD(H193,2),[1]pms170!C97,[1]pms230!C97)","v":"ENS CAPOT STS"},{"$f":"IF(MOD(H193,2),[1]pms170!G97,[1]pms230!D97)","v":"2017-02-10"},{"$f":"IF(MOD(H193,2),[1]pms170!H97,[1]pms230!E97)","v":"2017-02-11"},{"$f":"IF(MOD(H193,2),[1]pms170!F97,[1]pms230!F97)","v":5},{"$f":"IF(MOD(H193,2),[1]pms170!A97,[1]pms230!M97)","v":"351010"},95]
[{"$f":"IF(MOD(H194,2),[1]pms230!A643,[1]pms170!D643)","v":0},{"$f":"IF(MOD(H194,2),[1]pms230!B643,[1]pms170!B643)","v":0},{"$f":"IF(MOD(H194,2),[1]pms230!C643,[1]pms170!C643)","v":0},{"$f":"IF(MOD(H194,2),[1]pms230!D643,[1]pms170!G643)","v":"00:00:00"},{"$f":"IF(MOD(H194,2),[1]pms230!E643,[1]pms170!H643)","v":"00:00:00"},{"$f":"IF(MOD(H194,2),[1]pms230!F643,[1]pms170!F643)","v":0},{"$f":"IF(MOD(H194,2),[1]pms230!M643,[1]pms170!A643)","v":0},96]
[{"$f":"IF(MOD(H195,2),[1]pms170!D98,[1]pms230!A98)","v":"961499"},{"$f":"IF(MOD(H195,2),[1]pms170!B98,[1]pms230!B98)","v":"F0505778"},{"$f":"IF(MOD(H195,2),[1]pms170!C98,[1]pms230!C98)","v":"CAPOT FOND HAUT DOSS"},{"$f":"IF(MOD(H195,2),[1]pms170!G98,[1]pms230!D98)","v":"2017-02-10"},{"$f":"IF(MOD(H195,2),[1]pms170!H98,[1]pms230!E98)","v":"2017-02-13"},{"$f":"IF(MOD(H195,2),[1]pms170!F98,[1]pms230!F98)","v":"52"},{"$f":"IF(MOD(H195,2),[1]pms170!A98,[1]pms230!M98)","v":"351010"},96]
[{"$f":"IF(MOD(H196,2),[1]pms230!A644,[1]pms170!D644)","v":0},{"$f":"IF(MOD(H196,2),[1]pms230!B644,[1]pms170!B644)","v":0},{"$f":"IF(MOD(H196,2),[1]pms230!C644,[1]pms170!C644)","v":0},{"$f":"IF(MOD(H196,2),[1]pms230!D644,[1]pms170!G644)","v":"00:00:00"},{"$f":"IF(MOD(H196,2),[1]pms230!E644,[1]pms170!H644)","v":"00:00:00"},{"$f":"IF(MOD(H196,2),[1]pms230!F644,[1]pms170!F644)","v":0},{"$f":"IF(MOD(H196,2),[1]pms230!M644,[1]pms170!A644)","v":0},97]
[{"$f":"IF(MOD(H197,2),[1]pms170!D99,[1]pms230!A99)","v":"7038759"},{"$f":"IF(MOD(H197,2),[1]pms170!B99,[1]pms230!B99)","v":"F0519983"},{"$f":"IF(MOD(H197,2),[1]pms170!C99,[1]pms230!C99)","v":"ENS CAPOT STS"},{"$f":"IF(MOD(H197,2),[1]pms170!G99,[1]pms230!D99)","v":"2017-02-15"},{"$f":"IF(MOD(H197,2),[1]pms170!H99,[1]pms230!E99)","v":"2017-02-15"},{"$f":"IF(MOD(H197,2),[1]pms170!F99,[1]pms230!F99)","v":15},{"$f":"IF(MOD(H197,2),[1]pms170!A99,[1]pms230!M99)","v":"351010"},97]
[{"$f":"IF(MOD(H198,2),[1]pms230!A645,[1]pms170!D645)","v":0},{"$f":"IF(MOD(H198,2),[1]pms230!B645,[1]pms170!B645)","v":0},{"$f":"IF(MOD(H198,2),[1]pms230!C645,[1]pms170!C645)","v":0},{"$f":"IF(MOD(H198,2),[1]pms230!D645,[1]pms170!G645)","v":"00:00:00"},{"$f":"IF(MOD(H198,2),[1]pms230!E645,[1]pms170!H645)","v":"00:00:00"},{"$f":"IF(MOD(H198,2),[1]pms230!F645,[1]pms170!F645)","v":0},{"$f":"IF(MOD(H198,2),[1]pms230!M645,[1]pms170!A645)","v":0},98]
[{"$f":"IF(MOD(H199,2),[1]pms170!D100,[1]pms230!A100)","v":"961310"},{"$f":"IF(MOD(H199,2),[1]pms170!B100,[1]pms230!B100)","v":"F0508961"},{"$f":"IF(MOD(H199,2),[1]pms170!C100,[1]pms230!C100)","v":"KICK PANEL CENT 17\"0"},{"$f":"IF(MOD(H199,2),[1]pms170!G100,[1]pms230!D100)","v":"2017-02-10"},{"$f":"IF(MOD(H199,2),[1]pms170!H100,[1]pms230!E100)","v":"2017-02-10"},{"$f":"IF(MOD(H199,2),[1]pms170!F100,[1]pms230!F100)","v":"52"},{"$f":"IF(MOD(H199,2),[1]pms170!A100,[1]pms230!M100)","v":"351010"},98]
[{"$f":"IF(MOD(H200,2),[1]pms230!A646,[1]pms170!D646)","v":0},{"$f":"IF(MOD(H200,2),[1]pms230!B646,[1]pms170!B646)","v":0},{"$f":"IF(MOD(H200,2),[1]pms230!C646,[1]pms170!C646)","v":0},{"$f":"IF(MOD(H200,2),[1]pms230!D646,[1]pms170!G646)","v":"00:00:00"},{"$f":"IF(MOD(H200,2),[1]pms230!E646,[1]pms170!H646)","v":"00:00:00"},{"$f":"IF(MOD(H200,2),[1]pms230!F646,[1]pms170!F646)","v":0},{"$f":"IF(MOD(H200,2),[1]pms230!M646,[1]pms170!A646)","v":0},99]
[{"$f":"IF(MOD(H201,2),[1]pms170!D101,[1]pms230!A101)","v":"6738442"},{"$f":"IF(MOD(H201,2),[1]pms170!B101,[1]pms230!B101)","v":"F0520602"},{"$f":"IF(MOD(H201,2),[1]pms170!C101,[1]pms230!C101)","v":"ENS TABLETTE DORSALE 16\"80"},{"$f":"IF(MOD(H201,2),[1]pms170!G101,[1]pms230!D101)","v":"2017-02-07"},{"$f":"IF(MOD(H201,2),[1]pms170!H101,[1]pms230!E101)","v":"2017-02-12"},{"$f":"IF(MOD(H201,2),[1]pms170!F101,[1]pms230!F101)","v":19},{"$f":"IF(MOD(H201,2),[1]pms170!A101,[1]pms230!M101)","v":"351010"},99]
[{"$f":"IF(MOD(H202,2),[1]pms230!A647,[1]pms170!D647)","v":0},{"$f":"IF(MOD(H202,2),[1]pms230!B647,[1]pms170!B647)","v":0},{"$f":"IF(MOD(H202,2),[1]pms230!C647,[1]pms170!C647)","v":0},{"$f":"IF(MOD(H202,2),[1]pms230!D647,[1]pms170!G647)","v":"00:00:00"},{"$f":"IF(MOD(H202,2),[1]pms230!E647,[1]pms170!H647)","v":"00:00:00"},{"$f":"IF(MOD(H202,2),[1]pms230!F647,[1]pms170!F647)","v":0},{"$f":"IF(MOD(H202,2),[1]pms230!M647,[1]pms170!A647)","v":0},100]
[{"$f":"IF(MOD(H203,2),[1]pms170!D102,[1]pms230!A102)","v":"961270"},{"$f":"IF(MOD(H203,2),[1]pms170!B102,[1]pms230!B102)","v":"F317040P108"},{"$f":"IF(MOD(H203,2),[1]pms170!C102,[1]pms230!C102)","v":"H108 CAPOT CROSSE"},{"$f":"IF(MOD(H203,2),[1]pms170!G102,[1]pms230!D102)","v":"2017-02-10"},{"$f":"IF(MOD(H203,2),[1]pms170!H102,[1]pms230!E102)","v":"2017-02-10"},{"$f":"IF(MOD(H203,2),[1]pms170!F102,[1]pms230!F102)","v":"8"},{"$f":"IF(MOD(H203,2),[1]pms170!A102,[1]pms230!M102)","v":"351010"},100]
[{"$f":"IF(MOD(H204,2),[1]pms230!A648,[1]pms170!D648)","v":0},{"$f":"IF(MOD(H204,2),[1]pms230!B648,[1]pms170!B648)","v":0},{"$f":"IF(MOD(H204,2),[1]pms230!C648,[1]pms170!C648)","v":0},{"$f":"IF(MOD(H204,2),[1]pms230!D648,[1]pms170!G648)","v":"00:00:00"},{"$f":"IF(MOD(H204,2),[1]pms230!E648,[1]pms170!H648)","v":"00:00:00"},{"$f":"IF(MOD(H204,2),[1]pms230!F648,[1]pms170!F648)","v":0},{"$f":"IF(MOD(H204,2),[1]pms230!M648,[1]pms170!A648)","v":0},101]
[{"$f":"IF(MOD(H205,2),[1]pms170!D103,[1]pms230!A103)","v":"6738452"},{"$f":"IF(MOD(H205,2),[1]pms170!B103,[1]pms230!B103)","v":"F0520603"},{"$f":"IF(MOD(H205,2),[1]pms170!C103,[1]pms230!C103)","v":"ENS TABLETTE DORSALE 17\"70"},{"$f":"IF(MOD(H205,2),[1]pms170!G103,[1]pms230!D103)","v":"2017-02-02"},{"$f":"IF(MOD(H205,2),[1]pms170!H103,[1]pms230!E103)","v":"2017-02-07"},{"$f":"IF(MOD(H205,2),[1]pms170!F103,[1]pms230!F103)","v":50},{"$f":"IF(MOD(H205,2),[1]pms170!A103,[1]pms230!M103)","v":"351010"},101]
[{"$f":"IF(MOD(H206,2),[1]pms230!A649,[1]pms170!D649)","v":0},{"$f":"IF(MOD(H206,2),[1]pms230!B649,[1]pms170!B649)","v":0},{"$f":"IF(MOD(H206,2),[1]pms230!C649,[1]pms170!C649)","v":0},{"$f":"IF(MOD(H206,2),[1]pms230!D649,[1]pms170!G649)","v":"00:00:00"},{"$f":"IF(MOD(H206,2),[1]pms230!E649,[1]pms170!H649)","v":"00:00:00"},{"$f":"IF(MOD(H206,2),[1]pms230!F649,[1]pms170!F649)","v":0},{"$f":"IF(MOD(H206,2),[1]pms230!M649,[1]pms170!A649)","v":0},102]
[{"$f":"IF(MOD(H207,2),[1]pms170!D104,[1]pms230!A104)","v":"961516"},{"$f":"IF(MOD(H207,2),[1]pms170!B104,[1]pms230!B104)","v":"F0478895"},{"$f":"IF(MOD(H207,2),[1]pms170!C104,[1]pms230!C104)","v":"CAPOT SOUS ASSISE"},{"$f":"IF(MOD(H207,2),[1]pms170!G104,[1]pms230!D104)","v":"2017-02-10"},{"$f":"IF(MOD(H207,2),[1]pms170!H104,[1]pms230!E104)","v":"2017-02-13"},{"$f":"IF(MOD(H207,2),[1]pms170!F104,[1]pms230!F104)","v":"51"},{"$f":"IF(MOD(H207,2),[1]pms170!A104,[1]pms230!M104)","v":"351010"},102]
[{"$f":"IF(MOD(H208,2),[1]pms230!A650,[1]pms170!D650)","v":0},{"$f":"IF(MOD(H208,2),[1]pms230!B650,[1]pms170!B650)","v":0},{"$f":"IF(MOD(H208,2),[1]pms230!C650,[1]pms170!C650)","v":0},{"$f":"IF(MOD(H208,2),[1]pms230!D650,[1]pms170!G650)","v":"00:00:00"},{"$f":"IF(MOD(H208,2),[1]pms230!E650,[1]pms170!H650)","v":"00:00:00"},{"$f":"IF(MOD(H208,2),[1]pms230!F650,[1]pms170!F650)","v":0},{"$f":"IF(MOD(H208,2),[1]pms230!M650,[1]pms170!A650)","v":0},103]
[{"$f":"IF(MOD(H209,2),[1]pms170!D105,[1]pms230!A105)","v":"6738454"},{"$f":"IF(MOD(H209,2),[1]pms170!B105,[1]pms230!B105)","v":"F0520603"},{"$f":"IF(MOD(H209,2),[1]pms170!C105,[1]pms230!C105)","v":"ENS TABLETTE DORSALE 17\"70"},{"$f":"IF(MOD(H209,2),[1]pms170!G105,[1]pms230!D105)","v":"2017-02-02"},{"$f":"IF(MOD(H209,2),[1]pms170!H105,[1]pms230!E105)","v":"2017-02-07"},{"$f":"IF(MOD(H209,2),[1]pms170!F105,[1]pms230!F105)","v":50},{"$f":"IF(MOD(H209,2),[1]pms170!A105,[1]pms230!M105)","v":"351010"},103]
[{"$f":"IF(MOD(H210,2),[1]pms230!A651,[1]pms170!D651)","v":0},{"$f":"IF(MOD(H210,2),[1]pms230!B651,[1]pms170!B651)","v":0},{"$f":"IF(MOD(H210,2),[1]pms230!C651,[1]pms170!C651)","v":0},{"$f":"IF(MOD(H210,2),[1]pms230!D651,[1]pms170!G651)","v":"00:00:00"},{"$f":"IF(MOD(H210,2),[1]pms230!E651,[1]pms170!H651)","v":"00:00:00"},{"$f":"IF(MOD(H210,2),[1]pms230!F651,[1]pms170!F651)","v":0},{"$f":"IF(MOD(H210,2),[1]pms230!M651,[1]pms170!A651)","v":0},104]
[{"$f":"IF(MOD(H211,2),[1]pms170!D106,[1]pms230!A106)","v":"961909"},{"$f":"IF(MOD(H211,2),[1]pms170!B106,[1]pms230!B106)","v":"J2002119"},{"$f":"IF(MOD(H211,2),[1]pms170!C106,[1]pms230!C106)","v":"FOOTWELL LINER CTR S"},{"$f":"IF(MOD(H211,2),[1]pms170!G106,[1]pms230!D106)","v":"2017-02-10"},{"$f":"IF(MOD(H211,2),[1]pms170!H106,[1]pms230!E106)","v":"2017-02-10"},{"$f":"IF(MOD(H211,2),[1]pms170!F106,[1]pms230!F106)","v":"18"},{"$f":"IF(MOD(H211,2),[1]pms170!A106,[1]pms230!M106)","v":"351020"},104]
[{"$f":"IF(MOD(H212,2),[1]pms230!A652,[1]pms170!D652)","v":0},{"$f":"IF(MOD(H212,2),[1]pms230!B652,[1]pms170!B652)","v":0},{"$f":"IF(MOD(H212,2),[1]pms230!C652,[1]pms170!C652)","v":0},{"$f":"IF(MOD(H212,2),[1]pms230!D652,[1]pms170!G652)","v":"00:00:00"},{"$f":"IF(MOD(H212,2),[1]pms230!E652,[1]pms170!H652)","v":"00:00:00"},{"$f":"IF(MOD(H212,2),[1]pms230!F652,[1]pms170!F652)","v":0},{"$f":"IF(MOD(H212,2),[1]pms230!M652,[1]pms170!A652)","v":0},105]
[{"$f":"IF(MOD(H213,2),[1]pms170!D107,[1]pms230!A107)","v":"6738456"},{"$f":"IF(MOD(H213,2),[1]pms170!B107,[1]pms230!B107)","v":"F0520603"},{"$f":"IF(MOD(H213,2),[1]pms170!C107,[1]pms230!C107)","v":"ENS TABLETTE DORSALE 17\"70"},{"$f":"IF(MOD(H213,2),[1]pms170!G107,[1]pms230!D107)","v":"2017-02-01"},{"$f":"IF(MOD(H213,2),[1]pms170!H107,[1]pms230!E107)","v":"2017-02-06"},{"$f":"IF(MOD(H213,2),[1]pms170!F107,[1]pms230!F107)","v":3},{"$f":"IF(MOD(H213,2),[1]pms170!A107,[1]pms230!M107)","v":"351010"},105]
[{"$f":"IF(MOD(H214,2),[1]pms230!A653,[1]pms170!D653)","v":0},{"$f":"IF(MOD(H214,2),[1]pms230!B653,[1]pms170!B653)","v":0},{"$f":"IF(MOD(H214,2),[1]pms230!C653,[1]pms170!C653)","v":0},{"$f":"IF(MOD(H214,2),[1]pms230!D653,[1]pms170!G653)","v":"00:00:00"},{"$f":"IF(MOD(H214,2),[1]pms230!E653,[1]pms170!H653)","v":"00:00:00"},{"$f":"IF(MOD(H214,2),[1]pms230!F653,[1]pms170!F653)","v":0},{"$f":"IF(MOD(H214,2),[1]pms230!M653,[1]pms170!A653)","v":0},106]
[{"$f":"IF(MOD(H215,2),[1]pms170!D108,[1]pms230!A108)","v":"961864"},{"$f":"IF(MOD(H215,2),[1]pms170!B108,[1]pms230!B108)","v":"F0497744"},{"$f":"IF(MOD(H215,2),[1]pms170!C108,[1]pms230!C108)","v":"ENS PLATEAU TABLE. L"},{"$f":"IF(MOD(H215,2),[1]pms170!G108,[1]pms230!D108)","v":"2017-02-10"},{"$f":"IF(MOD(H215,2),[1]pms170!H108,[1]pms230!E108)","v":"2017-02-10"},{"$f":"IF(MOD(H215,2),[1]pms170!F108,[1]pms230!F108)","v":"3"},{"$f":"IF(MOD(H215,2),[1]pms170!A108,[1]pms230!M108)","v":"351010"},106]
[{"$f":"IF(MOD(H216,2),[1]pms230!A654,[1]pms170!D654)","v":0},{"$f":"IF(MOD(H216,2),[1]pms230!B654,[1]pms170!B654)","v":0},{"$f":"IF(MOD(H216,2),[1]pms230!C654,[1]pms170!C654)","v":0},{"$f":"IF(MOD(H216,2),[1]pms230!D654,[1]pms170!G654)","v":"00:00:00"},{"$f":"IF(MOD(H216,2),[1]pms230!E654,[1]pms170!H654)","v":"00:00:00"},{"$f":"IF(MOD(H216,2),[1]pms230!F654,[1]pms170!F654)","v":0},{"$f":"IF(MOD(H216,2),[1]pms230!M654,[1]pms170!A654)","v":0},107]
[{"$f":"IF(MOD(H217,2),[1]pms170!D109,[1]pms230!A109)","v":"7008885"},{"$f":"IF(MOD(H217,2),[1]pms170!B109,[1]pms230!B109)","v":"F0520603"},{"$f":"IF(MOD(H217,2),[1]pms170!C109,[1]pms230!C109)","v":"ENS TABLETTE DORSALE 17\"70"},{"$f":"IF(MOD(H217,2),[1]pms170!G109,[1]pms230!D109)","v":"2017-02-06"},{"$f":"IF(MOD(H217,2),[1]pms170!H109,[1]pms230!E109)","v":"2017-02-09"},{"$f":"IF(MOD(H217,2),[1]pms170!F109,[1]pms230!F109)","v":50},{"$f":"IF(MOD(H217,2),[1]pms170!A109,[1]pms230!M109)","v":"351010"},107]
[{"$f":"IF(MOD(H218,2),[1]pms230!A655,[1]pms170!D655)","v":0},{"$f":"IF(MOD(H218,2),[1]pms230!B655,[1]pms170!B655)","v":0},{"$f":"IF(MOD(H218,2),[1]pms230!C655,[1]pms170!C655)","v":0},{"$f":"IF(MOD(H218,2),[1]pms230!D655,[1]pms170!G655)","v":"00:00:00"},{"$f":"IF(MOD(H218,2),[1]pms230!E655,[1]pms170!H655)","v":"00:00:00"},{"$f":"IF(MOD(H218,2),[1]pms230!F655,[1]pms170!F655)","v":0},{"$f":"IF(MOD(H218,2),[1]pms230!M655,[1]pms170!A655)","v":0},108]
[{"$f":"IF(MOD(H219,2),[1]pms170!D110,[1]pms230!A110)","v":"961306"},{"$f":"IF(MOD(H219,2),[1]pms170!B110,[1]pms230!B110)","v":"J2000016"},{"$f":"IF(MOD(H219,2),[1]pms170!C110,[1]pms230!C110)","v":"FAIRING BACKERST"},{"$f":"IF(MOD(H219,2),[1]pms170!G110,[1]pms230!D110)","v":"2017-02-10"},{"$f":"IF(MOD(H219,2),[1]pms170!H110,[1]pms230!E110)","v":"2017-02-10"},{"$f":"IF(MOD(H219,2),[1]pms170!F110,[1]pms230!F110)","v":"2"},{"$f":"IF(MOD(H219,2),[1]pms170!A110,[1]pms230!M110)","v":"351020"},108]
[{"$f":"IF(MOD(H220,2),[1]pms230!A656,[1]pms170!D656)","v":0},{"$f":"IF(MOD(H220,2),[1]pms230!B656,[1]pms170!B656)","v":0},{"$f":"IF(MOD(H220,2),[1]pms230!C656,[1]pms170!C656)","v":0},{"$f":"IF(MOD(H220,2),[1]pms230!D656,[1]pms170!G656)","v":"00:00:00"},{"$f":"IF(MOD(H220,2),[1]pms230!E656,[1]pms170!H656)","v":"00:00:00"},{"$f":"IF(MOD(H220,2),[1]pms230!F656,[1]pms170!F656)","v":0},{"$f":"IF(MOD(H220,2),[1]pms230!M656,[1]pms170!A656)","v":0},109]
[{"$f":"IF(MOD(H221,2),[1]pms170!D111,[1]pms230!A111)","v":"7008887"},{"$f":"IF(MOD(H221,2),[1]pms170!B111,[1]pms230!B111)","v":"F0520603"},{"$f":"IF(MOD(H221,2),[1]pms170!C111,[1]pms230!C111)","v":"ENS TABLETTE DORSALE 17\"70"},{"$f":"IF(MOD(H221,2),[1]pms170!G111,[1]pms230!D111)","v":"2017-02-06"},{"$f":"IF(MOD(H221,2),[1]pms170!H111,[1]pms230!E111)","v":"2017-02-09"},{"$f":"IF(MOD(H221,2),[1]pms170!F111,[1]pms230!F111)","v":50},{"$f":"IF(MOD(H221,2),[1]pms170!A111,[1]pms230!M111)","v":"351010"},109]
[{"$f":"IF(MOD(H222,2),[1]pms230!A657,[1]pms170!D657)","v":0},{"$f":"IF(MOD(H222,2),[1]pms230!B657,[1]pms170!B657)","v":0},{"$f":"IF(MOD(H222,2),[1]pms230!C657,[1]pms170!C657)","v":0},{"$f":"IF(MOD(H222,2),[1]pms230!D657,[1]pms170!G657)","v":"00:00:00"},{"$f":"IF(MOD(H222,2),[1]pms230!E657,[1]pms170!H657)","v":"00:00:00"},{"$f":"IF(MOD(H222,2),[1]pms230!F657,[1]pms170!F657)","v":0},{"$f":"IF(MOD(H222,2),[1]pms230!M657,[1]pms170!A657)","v":0},110]
[{"$f":"IF(MOD(H223,2),[1]pms170!D112,[1]pms230!A112)","v":"961905"},{"$f":"IF(MOD(H223,2),[1]pms170!B112,[1]pms230!B112)","v":"F0517742"},{"$f":"IF(MOD(H223,2),[1]pms170!C112,[1]pms230!C112)","v":"ENS TABLETTE DORSALE"},{"$f":"IF(MOD(H223,2),[1]pms170!G112,[1]pms230!D112)","v":"2017-02-10"},{"$f":"IF(MOD(H223,2),[1]pms170!H112,[1]pms230!E112)","v":"2017-02-10"},{"$f":"IF(MOD(H223,2),[1]pms170!F112,[1]pms230!F112)","v":"52"},{"$f":"IF(MOD(H223,2),[1]pms170!A112,[1]pms230!M112)","v":"351010"},110]
[{"$f":"IF(MOD(H224,2),[1]pms230!A658,[1]pms170!D658)","v":0},{"$f":"IF(MOD(H224,2),[1]pms230!B658,[1]pms170!B658)","v":0},{"$f":"IF(MOD(H224,2),[1]pms230!C658,[1]pms170!C658)","v":0},{"$f":"IF(MOD(H224,2),[1]pms230!D658,[1]pms170!G658)","v":"00:00:00"},{"$f":"IF(MOD(H224,2),[1]pms230!E658,[1]pms170!H658)","v":"00:00:00"},{"$f":"IF(MOD(H224,2),[1]pms230!F658,[1]pms170!F658)","v":0},{"$f":"IF(MOD(H224,2),[1]pms230!M658,[1]pms170!A658)","v":0},111]
[{"$f":"IF(MOD(H225,2),[1]pms170!D113,[1]pms230!A113)","v":"7254079"},{"$f":"IF(MOD(H225,2),[1]pms170!B113,[1]pms230!B113)","v":"F0520965"},{"$f":"IF(MOD(H225,2),[1]pms170!C113,[1]pms230!C113)","v":"CAPOT SOUS ASSISE"},{"$f":"IF(MOD(H225,2),[1]pms170!G113,[1]pms230!D113)","v":"2017-02-07"},{"$f":"IF(MOD(H225,2),[1]pms170!H113,[1]pms230!E113)","v":"2017-02-07"},{"$f":"IF(MOD(H225,2),[1]pms170!F113,[1]pms230!F113)","v":5},{"$f":"IF(MOD(H225,2),[1]pms170!A113,[1]pms230!M113)","v":"351010"},111]
[{"$f":"IF(MOD(H226,2),[1]pms230!A659,[1]pms170!D659)","v":0},{"$f":"IF(MOD(H226,2),[1]pms230!B659,[1]pms170!B659)","v":0},{"$f":"IF(MOD(H226,2),[1]pms230!C659,[1]pms170!C659)","v":0},{"$f":"IF(MOD(H226,2),[1]pms230!D659,[1]pms170!G659)","v":"00:00:00"},{"$f":"IF(MOD(H226,2),[1]pms230!E659,[1]pms170!H659)","v":"00:00:00"},{"$f":"IF(MOD(H226,2),[1]pms230!F659,[1]pms170!F659)","v":0},{"$f":"IF(MOD(H226,2),[1]pms230!M659,[1]pms170!A659)","v":0},112]
[{"$f":"IF(MOD(H227,2),[1]pms170!D114,[1]pms230!A114)","v":"961257"},{"$f":"IF(MOD(H227,2),[1]pms170!B114,[1]pms230!B114)","v":"F0508961"},{"$f":"IF(MOD(H227,2),[1]pms170!C114,[1]pms230!C114)","v":"KICK PANEL CENT 17\"0"},{"$f":"IF(MOD(H227,2),[1]pms170!G114,[1]pms230!D114)","v":"2017-02-10"},{"$f":"IF(MOD(H227,2),[1]pms170!H114,[1]pms230!E114)","v":"2017-02-10"},{"$f":"IF(MOD(H227,2),[1]pms170!F114,[1]pms230!F114)","v":"52"},{"$f":"IF(MOD(H227,2),[1]pms170!A114,[1]pms230!M114)","v":"351010"},112]
[{"$f":"IF(MOD(H228,2),[1]pms230!A660,[1]pms170!D660)","v":0},{"$f":"IF(MOD(H228,2),[1]pms230!B660,[1]pms170!B660)","v":0},{"$f":"IF(MOD(H228,2),[1]pms230!C660,[1]pms170!C660)","v":0},{"$f":"IF(MOD(H228,2),[1]pms230!D660,[1]pms170!G660)","v":"00:00:00"},{"$f":"IF(MOD(H228,2),[1]pms230!E660,[1]pms170!H660)","v":"00:00:00"},{"$f":"IF(MOD(H228,2),[1]pms230!F660,[1]pms170!F660)","v":0},{"$f":"IF(MOD(H228,2),[1]pms230!M660,[1]pms170!A660)","v":0},113]
[{"$f":"IF(MOD(H229,2),[1]pms170!D115,[1]pms230!A115)","v":"7254089"},{"$f":"IF(MOD(H229,2),[1]pms170!B115,[1]pms230!B115)","v":"F0520967"},{"$f":"IF(MOD(H229,2),[1]pms170!C115,[1]pms230!C115)","v":"CAPOT SOUS ASSISE"},{"$f":"IF(MOD(H229,2),[1]pms170!G115,[1]pms230!D115)","v":"2017-02-07"},{"$f":"IF(MOD(H229,2),[1]pms170!H115,[1]pms230!E115)","v":"2017-02-07"},{"$f":"IF(MOD(H229,2),[1]pms170!F115,[1]pms230!F115)","v":5},{"$f":"IF(MOD(H229,2),[1]pms170!A115,[1]pms230!M115)","v":"351010"},113]
[{"$f":"IF(MOD(H230,2),[1]pms230!A661,[1]pms170!D661)","v":0},{"$f":"IF(MOD(H230,2),[1]pms230!B661,[1]pms170!B661)","v":0},{"$f":"IF(MOD(H230,2),[1]pms230!C661,[1]pms170!C661)","v":0},{"$f":"IF(MOD(H230,2),[1]pms230!D661,[1]pms170!G661)","v":"00:00:00"},{"$f":"IF(MOD(H230,2),[1]pms230!E661,[1]pms170!H661)","v":"00:00:00"},{"$f":"IF(MOD(H230,2),[1]pms230!F661,[1]pms170!F661)","v":0},{"$f":"IF(MOD(H230,2),[1]pms230!M661,[1]pms170!A661)","v":0},114]
[{"$f":"IF(MOD(H231,2),[1]pms170!D116,[1]pms230!A116)","v":"960100"},{"$f":"IF(MOD(H231,2),[1]pms170!B116,[1]pms230!B116)","v":"F0440245"},{"$f":"IF(MOD(H231,2),[1]pms170!C116,[1]pms230!C116)","v":"CAPOT RENFORT EQ"},{"$f":"IF(MOD(H231,2),[1]pms170!G116,[1]pms230!D116)","v":"2017-02-10"},{"$f":"IF(MOD(H231,2),[1]pms170!H116,[1]pms230!E116)","v":"2017-02-10"},{"$f":"IF(MOD(H231,2),[1]pms170!F116,[1]pms230!F116)","v":"36"},{"$f":"IF(MOD(H231,2),[1]pms170!A116,[1]pms230!M116)","v":"351010"},114]
[{"$f":"IF(MOD(H232,2),[1]pms230!A662,[1]pms170!D662)","v":0},{"$f":"IF(MOD(H232,2),[1]pms230!B662,[1]pms170!B662)","v":0},{"$f":"IF(MOD(H232,2),[1]pms230!C662,[1]pms170!C662)","v":0},{"$f":"IF(MOD(H232,2),[1]pms230!D662,[1]pms170!G662)","v":"00:00:00"},{"$f":"IF(MOD(H232,2),[1]pms230!E662,[1]pms170!H662)","v":"00:00:00"},{"$f":"IF(MOD(H232,2),[1]pms230!F662,[1]pms170!F662)","v":0},{"$f":"IF(MOD(H232,2),[1]pms230!M662,[1]pms170!A662)","v":0},115]
[{"$f":"IF(MOD(H233,2),[1]pms170!D117,[1]pms230!A117)","v":"6992371"},{"$f":"IF(MOD(H233,2),[1]pms170!B117,[1]pms230!B117)","v":"F0521253"},{"$f":"IF(MOD(H233,2),[1]pms170!C117,[1]pms230!C117)","v":"ENS TABLETTE DORSALE 15\"55"},{"$f":"IF(MOD(H233,2),[1]pms170!G117,[1]pms230!D117)","v":"2017-01-31"},{"$f":"IF(MOD(H233,2),[1]pms170!H117,[1]pms230!E117)","v":"2017-02-06"},{"$f":"IF(MOD(H233,2),[1]pms170!F117,[1]pms230!F117)","v":2},{"$f":"IF(MOD(H233,2),[1]pms170!A117,[1]pms230!M117)","v":"351010"},115]
[{"$f":"IF(MOD(H234,2),[1]pms230!A663,[1]pms170!D663)","v":0},{"$f":"IF(MOD(H234,2),[1]pms230!B663,[1]pms170!B663)","v":0},{"$f":"IF(MOD(H234,2),[1]pms230!C663,[1]pms170!C663)","v":0},{"$f":"IF(MOD(H234,2),[1]pms230!D663,[1]pms170!G663)","v":"00:00:00"},{"$f":"IF(MOD(H234,2),[1]pms230!E663,[1]pms170!H663)","v":"00:00:00"},{"$f":"IF(MOD(H234,2),[1]pms230!F663,[1]pms170!F663)","v":0},{"$f":"IF(MOD(H234,2),[1]pms230!M663,[1]pms170!A663)","v":0},116]
[{"$f":"IF(MOD(H235,2),[1]pms170!D118,[1]pms230!A118)","v":"961537"},{"$f":"IF(MOD(H235,2),[1]pms170!B118,[1]pms230!B118)","v":"J2000247"},{"$f":"IF(MOD(H235,2),[1]pms170!C118,[1]pms230!C118)","v":"DOUBLER BTM INNER LI"},{"$f":"IF(MOD(H235,2),[1]pms170!G118,[1]pms230!D118)","v":"2017-02-10"},{"$f":"IF(MOD(H235,2),[1]pms170!H118,[1]pms230!E118)","v":"2017-02-10"},{"$f":"IF(MOD(H235,2),[1]pms170!F118,[1]pms230!F118)","v":"16"},{"$f":"IF(MOD(H235,2),[1]pms170!A118,[1]pms230!M118)","v":"351020"},116]
[{"$f":"IF(MOD(H236,2),[1]pms230!A664,[1]pms170!D664)","v":0},{"$f":"IF(MOD(H236,2),[1]pms230!B664,[1]pms170!B664)","v":0},{"$f":"IF(MOD(H236,2),[1]pms230!C664,[1]pms170!C664)","v":0},{"$f":"IF(MOD(H236,2),[1]pms230!D664,[1]pms170!G664)","v":"00:00:00"},{"$f":"IF(MOD(H236,2),[1]pms230!E664,[1]pms170!H664)","v":"00:00:00"},{"$f":"IF(MOD(H236,2),[1]pms230!F664,[1]pms170!F664)","v":0},{"$f":"IF(MOD(H236,2),[1]pms230!M664,[1]pms170!A664)","v":0},117]
[{"$f":"IF(MOD(H237,2),[1]pms170!D119,[1]pms230!A119)","v":"7254099"},{"$f":"IF(MOD(H237,2),[1]pms170!B119,[1]pms230!B119)","v":"F0523287"},{"$f":"IF(MOD(H237,2),[1]pms170!C119,[1]pms230!C119)","v":"CAPOT SOUS ASSISE"},{"$f":"IF(MOD(H237,2),[1]pms170!G119,[1]pms230!D119)","v":"2017-02-07"},{"$f":"IF(MOD(H237,2),[1]pms170!H119,[1]pms230!E119)","v":"2017-02-07"},{"$f":"IF(MOD(H237,2),[1]pms170!F119,[1]pms230!F119)","v":1},{"$f":"IF(MOD(H237,2),[1]pms170!A119,[1]pms230!M119)","v":"351010"},117]
[{"$f":"IF(MOD(H238,2),[1]pms230!A665,[1]pms170!D665)","v":0},{"$f":"IF(MOD(H238,2),[1]pms230!B665,[1]pms170!B665)","v":0},{"$f":"IF(MOD(H238,2),[1]pms230!C665,[1]pms170!C665)","v":0},{"$f":"IF(MOD(H238,2),[1]pms230!D665,[1]pms170!G665)","v":"00:00:00"},{"$f":"IF(MOD(H238,2),[1]pms230!E665,[1]pms170!H665)","v":"00:00:00"},{"$f":"IF(MOD(H238,2),[1]pms230!F665,[1]pms170!F665)","v":0},{"$f":"IF(MOD(H238,2),[1]pms230!M665,[1]pms170!A665)","v":0},118]
[{"$f":"IF(MOD(H239,2),[1]pms170!D120,[1]pms230!A120)","v":"961614"},{"$f":"IF(MOD(H239,2),[1]pms170!B120,[1]pms230!B120)","v":"F328380P020"},{"$f":"IF(MOD(H239,2),[1]pms170!C120,[1]pms230!C120)","v":"H020 CAPOT DE FLANC"},{"$f":"IF(MOD(H239,2),[1]pms170!G120,[1]pms230!D120)","v":"2017-02-10"},{"$f":"IF(MOD(H239,2),[1]pms170!H120,[1]pms230!E120)","v":"2017-02-10"},{"$f":"IF(MOD(H239,2),[1]pms170!F120,[1]pms230!F120)","v":"6"},{"$f":"IF(MOD(H239,2),[1]pms170!A120,[1]pms230!M120)","v":"351060"},118]
[{"$f":"IF(MOD(H240,2),[1]pms230!A666,[1]pms170!D666)","v":0},{"$f":"IF(MOD(H240,2),[1]pms230!B666,[1]pms170!B666)","v":0},{"$f":"IF(MOD(H240,2),[1]pms230!C666,[1]pms170!C666)","v":0},{"$f":"IF(MOD(H240,2),[1]pms230!D666,[1]pms170!G666)","v":"00:00:00"},{"$f":"IF(MOD(H240,2),[1]pms230!E666,[1]pms170!H666)","v":"00:00:00"},{"$f":"IF(MOD(H240,2),[1]pms230!F666,[1]pms170!F666)","v":0},{"$f":"IF(MOD(H240,2),[1]pms230!M666,[1]pms170!A666)","v":0},119]
[{"$f":"IF(MOD(H241,2),[1]pms170!D121,[1]pms230!A121)","v":"7254105"},{"$f":"IF(MOD(H241,2),[1]pms170!B121,[1]pms230!B121)","v":"F0523289"},{"$f":"IF(MOD(H241,2),[1]pms170!C121,[1]pms230!C121)","v":"CAPOT SOUS ASSISE"},{"$f":"IF(MOD(H241,2),[1]pms170!G121,[1]pms230!D121)","v":"2017-02-07"},{"$f":"IF(MOD(H241,2),[1]pms170!H121,[1]pms230!E121)","v":"2017-02-07"},{"$f":"IF(MOD(H241,2),[1]pms170!F121,[1]pms230!F121)","v":1},{"$f":"IF(MOD(H241,2),[1]pms170!A121,[1]pms230!M121)","v":"351010"},119]
[{"$f":"IF(MOD(H242,2),[1]pms230!A667,[1]pms170!D667)","v":0},{"$f":"IF(MOD(H242,2),[1]pms230!B667,[1]pms170!B667)","v":0},{"$f":"IF(MOD(H242,2),[1]pms230!C667,[1]pms170!C667)","v":0},{"$f":"IF(MOD(H242,2),[1]pms230!D667,[1]pms170!G667)","v":"00:00:00"},{"$f":"IF(MOD(H242,2),[1]pms230!E667,[1]pms170!H667)","v":"00:00:00"},{"$f":"IF(MOD(H242,2),[1]pms230!F667,[1]pms170!F667)","v":0},{"$f":"IF(MOD(H242,2),[1]pms230!M667,[1]pms170!A667)","v":0},120]
[{"$f":"IF(MOD(H243,2),[1]pms170!D122,[1]pms230!A122)","v":"960206"},{"$f":"IF(MOD(H243,2),[1]pms170!B122,[1]pms230!B122)","v":"F334220P020"},{"$f":"IF(MOD(H243,2),[1]pms170!C122,[1]pms230!C122)","v":"H020 CAPOT FLANC INT"},{"$f":"IF(MOD(H243,2),[1]pms170!G122,[1]pms230!D122)","v":"2017-02-10"},{"$f":"IF(MOD(H243,2),[1]pms170!H122,[1]pms230!E122)","v":"2017-02-10"},{"$f":"IF(MOD(H243,2),[1]pms170!F122,[1]pms230!F122)","v":"6"},{"$f":"IF(MOD(H243,2),[1]pms170!A122,[1]pms230!M122)","v":"351010"},120]
[{"$f":"IF(MOD(H244,2),[1]pms230!A668,[1]pms170!D668)","v":0},{"$f":"IF(MOD(H244,2),[1]pms230!B668,[1]pms170!B668)","v":0},{"$f":"IF(MOD(H244,2),[1]pms230!C668,[1]pms170!C668)","v":0},{"$f":"IF(MOD(H244,2),[1]pms230!D668,[1]pms170!G668)","v":"00:00:00"},{"$f":"IF(MOD(H244,2),[1]pms230!E668,[1]pms170!H668)","v":"00:00:00"},{"$f":"IF(MOD(H244,2),[1]pms230!F668,[1]pms170!F668)","v":0},{"$f":"IF(MOD(H244,2),[1]pms230!M668,[1]pms170!A668)","v":0},121]
[{"$f":"IF(MOD(H245,2),[1]pms170!D123,[1]pms230!A123)","v":"7254111"},{"$f":"IF(MOD(H245,2),[1]pms170!B123,[1]pms230!B123)","v":"F0523291"},{"$f":"IF(MOD(H245,2),[1]pms170!C123,[1]pms230!C123)","v":"CAPOT SOUS ASSISE"},{"$f":"IF(MOD(H245,2),[1]pms170!G123,[1]pms230!D123)","v":"2017-02-07"},{"$f":"IF(MOD(H245,2),[1]pms170!H123,[1]pms230!E123)","v":"2017-02-07"},{"$f":"IF(MOD(H245,2),[1]pms170!F123,[1]pms230!F123)","v":1},{"$f":"IF(MOD(H245,2),[1]pms170!A123,[1]pms230!M123)","v":"351010"},121]
[{"$f":"IF(MOD(H246,2),[1]pms230!A669,[1]pms170!D669)","v":0},{"$f":"IF(MOD(H246,2),[1]pms230!B669,[1]pms170!B669)","v":0},{"$f":"IF(MOD(H246,2),[1]pms230!C669,[1]pms170!C669)","v":0},{"$f":"IF(MOD(H246,2),[1]pms230!D669,[1]pms170!G669)","v":"00:00:00"},{"$f":"IF(MOD(H246,2),[1]pms230!E669,[1]pms170!H669)","v":"00:00:00"},{"$f":"IF(MOD(H246,2),[1]pms230!F669,[1]pms170!F669)","v":0},{"$f":"IF(MOD(H246,2),[1]pms230!M669,[1]pms170!A669)","v":0},122]
[{"$f":"IF(MOD(H247,2),[1]pms170!D124,[1]pms230!A124)","v":"962229"},{"$f":"IF(MOD(H247,2),[1]pms170!B124,[1]pms230!B124)","v":"F0519980"},{"$f":"IF(MOD(H247,2),[1]pms170!C124,[1]pms230!C124)","v":"ENS CAPOT STS"},{"$f":"IF(MOD(H247,2),[1]pms170!G124,[1]pms230!D124)","v":"2017-02-10"},{"$f":"IF(MOD(H247,2),[1]pms170!H124,[1]pms230!E124)","v":"2017-02-10"},{"$f":"IF(MOD(H247,2),[1]pms170!F124,[1]pms230!F124)","v":"2"},{"$f":"IF(MOD(H247,2),[1]pms170!A124,[1]pms230!M124)","v":"351010"},122]
[{"$f":"IF(MOD(H248,2),[1]pms230!A670,[1]pms170!D670)","v":0},{"$f":"IF(MOD(H248,2),[1]pms230!B670,[1]pms170!B670)","v":0},{"$f":"IF(MOD(H248,2),[1]pms230!C670,[1]pms170!C670)","v":0},{"$f":"IF(MOD(H248,2),[1]pms230!D670,[1]pms170!G670)","v":"00:00:00"},{"$f":"IF(MOD(H248,2),[1]pms230!E670,[1]pms170!H670)","v":"00:00:00"},{"$f":"IF(MOD(H248,2),[1]pms230!F670,[1]pms170!F670)","v":0},{"$f":"IF(MOD(H248,2),[1]pms230!M670,[1]pms170!A670)","v":0},123]
[{"$f":"IF(MOD(H249,2),[1]pms170!D125,[1]pms230!A125)","v":"7254117"},{"$f":"IF(MOD(H249,2),[1]pms170!B125,[1]pms230!B125)","v":"F0523293"},{"$f":"IF(MOD(H249,2),[1]pms170!C125,[1]pms230!C125)","v":"CAPOT SOUS ASSISE"},{"$f":"IF(MOD(H249,2),[1]pms170!G125,[1]pms230!D125)","v":"2017-02-07"},{"$f":"IF(MOD(H249,2),[1]pms170!H125,[1]pms230!E125)","v":"2017-02-07"},{"$f":"IF(MOD(H249,2),[1]pms170!F125,[1]pms230!F125)","v":1},{"$f":"IF(MOD(H249,2),[1]pms170!A125,[1]pms230!M125)","v":"351010"},123]
[{"$f":"IF(MOD(H250,2),[1]pms230!A671,[1]pms170!D671)","v":0},{"$f":"IF(MOD(H250,2),[1]pms230!B671,[1]pms170!B671)","v":0},{"$f":"IF(MOD(H250,2),[1]pms230!C671,[1]pms170!C671)","v":0},{"$f":"IF(MOD(H250,2),[1]pms230!D671,[1]pms170!G671)","v":"00:00:00"},{"$f":"IF(MOD(H250,2),[1]pms230!E671,[1]pms170!H671)","v":"00:00:00"},{"$f":"IF(MOD(H250,2),[1]pms230!F671,[1]pms170!F671)","v":0},{"$f":"IF(MOD(H250,2),[1]pms230!M671,[1]pms170!A671)","v":0},124]
[{"$f":"IF(MOD(H251,2),[1]pms170!D126,[1]pms230!A126)","v":"960201"},{"$f":"IF(MOD(H251,2),[1]pms170!B126,[1]pms230!B126)","v":"F092574A070"},{"$f":"IF(MOD(H251,2),[1]pms170!C126,[1]pms230!C126)","v":"H070 KICK PANEL IAT"},{"$f":"IF(MOD(H251,2),[1]pms170!G126,[1]pms230!D126)","v":"2017-02-10"},{"$f":"IF(MOD(H251,2),[1]pms170!H126,[1]pms230!E126)","v":"2017-02-10"},{"$f":"IF(MOD(H251,2),[1]pms170!F126,[1]pms230!F126)","v":"1"},{"$f":"IF(MOD(H251,2),[1]pms170!A126,[1]pms230!M126)","v":"351010"},124]
[{"$f":"IF(MOD(H252,2),[1]pms230!A672,[1]pms170!D672)","v":0},{"$f":"IF(MOD(H252,2),[1]pms230!B672,[1]pms170!B672)","v":0},{"$f":"IF(MOD(H252,2),[1]pms230!C672,[1]pms170!C672)","v":0},{"$f":"IF(MOD(H252,2),[1]pms230!D672,[1]pms170!G672)","v":"00:00:00"},{"$f":"IF(MOD(H252,2),[1]pms230!E672,[1]pms170!H672)","v":"00:00:00"},{"$f":"IF(MOD(H252,2),[1]pms230!F672,[1]pms170!F672)","v":0},{"$f":"IF(MOD(H252,2),[1]pms230!M672,[1]pms170!A672)","v":0},125]
[{"$f":"IF(MOD(H253,2),[1]pms170!D127,[1]pms230!A127)","v":"7254123"},{"$f":"IF(MOD(H253,2),[1]pms170!B127,[1]pms230!B127)","v":"F0523298"},{"$f":"IF(MOD(H253,2),[1]pms170!C127,[1]pms230!C127)","v":"CAPOT SOUS ASSISE"},{"$f":"IF(MOD(H253,2),[1]pms170!G127,[1]pms230!D127)","v":"2017-02-07"},{"$f":"IF(MOD(H253,2),[1]pms170!H127,[1]pms230!E127)","v":"2017-02-07"},{"$f":"IF(MOD(H253,2),[1]pms170!F127,[1]pms230!F127)","v":1},{"$f":"IF(MOD(H253,2),[1]pms170!A127,[1]pms230!M127)","v":"351010"},125]
[{"$f":"IF(MOD(H254,2),[1]pms230!A673,[1]pms170!D673)","v":0},{"$f":"IF(MOD(H254,2),[1]pms230!B673,[1]pms170!B673)","v":0},{"$f":"IF(MOD(H254,2),[1]pms230!C673,[1]pms170!C673)","v":0},{"$f":"IF(MOD(H254,2),[1]pms230!D673,[1]pms170!G673)","v":"00:00:00"},{"$f":"IF(MOD(H254,2),[1]pms230!E673,[1]pms170!H673)","v":"00:00:00"},{"$f":"IF(MOD(H254,2),[1]pms230!F673,[1]pms170!F673)","v":0},{"$f":"IF(MOD(H254,2),[1]pms230!M673,[1]pms170!A673)","v":0},126]
[{"$f":"IF(MOD(H255,2),[1]pms170!D128,[1]pms230!A128)","v":"960327"},{"$f":"IF(MOD(H255,2),[1]pms170!B128,[1]pms230!B128)","v":"F0442704"},{"$f":"IF(MOD(H255,2),[1]pms170!C128,[1]pms230!C128)","v":"ENS STRUCT TABLETTE"},{"$f":"IF(MOD(H255,2),[1]pms170!G128,[1]pms230!D128)","v":"2017-02-10"},{"$f":"IF(MOD(H255,2),[1]pms170!H128,[1]pms230!E128)","v":"2017-02-10"},{"$f":"IF(MOD(H255,2),[1]pms170!F128,[1]pms230!F128)","v":"20"},{"$f":"IF(MOD(H255,2),[1]pms170!A128,[1]pms230!M128)","v":"351015"},126]
[{"$f":"IF(MOD(H256,2),[1]pms230!A674,[1]pms170!D674)","v":0},{"$f":"IF(MOD(H256,2),[1]pms230!B674,[1]pms170!B674)","v":0},{"$f":"IF(MOD(H256,2),[1]pms230!C674,[1]pms170!C674)","v":0},{"$f":"IF(MOD(H256,2),[1]pms230!D674,[1]pms170!G674)","v":"00:00:00"},{"$f":"IF(MOD(H256,2),[1]pms230!E674,[1]pms170!H674)","v":"00:00:00"},{"$f":"IF(MOD(H256,2),[1]pms230!F674,[1]pms170!F674)","v":0},{"$f":"IF(MOD(H256,2),[1]pms230!M674,[1]pms170!A674)","v":0},127]
[{"$f":"IF(MOD(H257,2),[1]pms170!D129,[1]pms230!A129)","v":"7254129"},{"$f":"IF(MOD(H257,2),[1]pms170!B129,[1]pms230!B129)","v":"F0523300"},{"$f":"IF(MOD(H257,2),[1]pms170!C129,[1]pms230!C129)","v":"CAPOT SOUS ASSISE"},{"$f":"IF(MOD(H257,2),[1]pms170!G129,[1]pms230!D129)","v":"2017-02-07"},{"$f":"IF(MOD(H257,2),[1]pms170!H129,[1]pms230!E129)","v":"2017-02-07"},{"$f":"IF(MOD(H257,2),[1]pms170!F129,[1]pms230!F129)","v":1},{"$f":"IF(MOD(H257,2),[1]pms170!A129,[1]pms230!M129)","v":"351010"},127]
[{"$f":"IF(MOD(H258,2),[1]pms230!A675,[1]pms170!D675)","v":0},{"$f":"IF(MOD(H258,2),[1]pms230!B675,[1]pms170!B675)","v":0},{"$f":"IF(MOD(H258,2),[1]pms230!C675,[1]pms170!C675)","v":0},{"$f":"IF(MOD(H258,2),[1]pms230!D675,[1]pms170!G675)","v":"00:00:00"},{"$f":"IF(MOD(H258,2),[1]pms230!E675,[1]pms170!H675)","v":"00:00:00"},{"$f":"IF(MOD(H258,2),[1]pms230!F675,[1]pms170!F675)","v":0},{"$f":"IF(MOD(H258,2),[1]pms230!M675,[1]pms170!A675)","v":0},128]
[{"$f":"IF(MOD(H259,2),[1]pms170!D130,[1]pms230!A130)","v":"961990"},{"$f":"IF(MOD(H259,2),[1]pms170!B130,[1]pms230!B130)","v":"F0442705"},{"$f":"IF(MOD(H259,2),[1]pms170!C130,[1]pms230!C130)","v":"ENS STRUCT TABLETTE"},{"$f":"IF(MOD(H259,2),[1]pms170!G130,[1]pms230!D130)","v":"2017-02-10"},{"$f":"IF(MOD(H259,2),[1]pms170!H130,[1]pms230!E130)","v":"2017-02-10"},{"$f":"IF(MOD(H259,2),[1]pms170!F130,[1]pms230!F130)","v":"15"},{"$f":"IF(MOD(H259,2),[1]pms170!A130,[1]pms230!M130)","v":"351015"},128]
[{"$f":"IF(MOD(H260,2),[1]pms230!A676,[1]pms170!D676)","v":0},{"$f":"IF(MOD(H260,2),[1]pms230!B676,[1]pms170!B676)","v":0},{"$f":"IF(MOD(H260,2),[1]pms230!C676,[1]pms170!C676)","v":0},{"$f":"IF(MOD(H260,2),[1]pms230!D676,[1]pms170!G676)","v":"00:00:00"},{"$f":"IF(MOD(H260,2),[1]pms230!E676,[1]pms170!H676)","v":"00:00:00"},{"$f":"IF(MOD(H260,2),[1]pms230!F676,[1]pms170!F676)","v":0},{"$f":"IF(MOD(H260,2),[1]pms230!M676,[1]pms170!A676)","v":0},129]
[{"$f":"IF(MOD(H261,2),[1]pms170!D131,[1]pms230!A131)","v":"7254135"},{"$f":"IF(MOD(H261,2),[1]pms170!B131,[1]pms230!B131)","v":"F0523302"},{"$f":"IF(MOD(H261,2),[1]pms170!C131,[1]pms230!C131)","v":"CAPOT SOUS ASSISE"},{"$f":"IF(MOD(H261,2),[1]pms170!G131,[1]pms230!D131)","v":"2017-02-07"},{"$f":"IF(MOD(H261,2),[1]pms170!H131,[1]pms230!E131)","v":"2017-02-07"},{"$f":"IF(MOD(H261,2),[1]pms170!F131,[1]pms230!F131)","v":1},{"$f":"IF(MOD(H261,2),[1]pms170!A131,[1]pms230!M131)","v":"351010"},129]
[{"$f":"IF(MOD(H262,2),[1]pms230!A677,[1]pms170!D677)","v":0},{"$f":"IF(MOD(H262,2),[1]pms230!B677,[1]pms170!B677)","v":0},{"$f":"IF(MOD(H262,2),[1]pms230!C677,[1]pms170!C677)","v":0},{"$f":"IF(MOD(H262,2),[1]pms230!D677,[1]pms170!G677)","v":"00:00:00"},{"$f":"IF(MOD(H262,2),[1]pms230!E677,[1]pms170!H677)","v":"00:00:00"},{"$f":"IF(MOD(H262,2),[1]pms230!F677,[1]pms170!F677)","v":0},{"$f":"IF(MOD(H262,2),[1]pms230!M677,[1]pms170!A677)","v":0},130]
[{"$f":"IF(MOD(H263,2),[1]pms170!D132,[1]pms230!A132)","v":"962276"},{"$f":"IF(MOD(H263,2),[1]pms170!B132,[1]pms230!B132)","v":"F315384"},{"$f":"IF(MOD(H263,2),[1]pms170!C132,[1]pms230!C132)","v":"REMPLISSAGE LATERAL"},{"$f":"IF(MOD(H263,2),[1]pms170!G132,[1]pms230!D132)","v":"2017-02-10"},{"$f":"IF(MOD(H263,2),[1]pms170!H132,[1]pms230!E132)","v":"2017-02-10"},{"$f":"IF(MOD(H263,2),[1]pms170!F132,[1]pms230!F132)","v":"12"},{"$f":"IF(MOD(H263,2),[1]pms170!A132,[1]pms230!M132)","v":"351010"},130]
[{"$f":"IF(MOD(H264,2),[1]pms230!A678,[1]pms170!D678)","v":0},{"$f":"IF(MOD(H264,2),[1]pms230!B678,[1]pms170!B678)","v":0},{"$f":"IF(MOD(H264,2),[1]pms230!C678,[1]pms170!C678)","v":0},{"$f":"IF(MOD(H264,2),[1]pms230!D678,[1]pms170!G678)","v":"00:00:00"},{"$f":"IF(MOD(H264,2),[1]pms230!E678,[1]pms170!H678)","v":"00:00:00"},{"$f":"IF(MOD(H264,2),[1]pms230!F678,[1]pms170!F678)","v":0},{"$f":"IF(MOD(H264,2),[1]pms230!M678,[1]pms170!A678)","v":0},131]
[{"$f":"IF(MOD(H265,2),[1]pms170!D133,[1]pms230!A133)","v":"7254141"},{"$f":"IF(MOD(H265,2),[1]pms170!B133,[1]pms230!B133)","v":"F0523304"},{"$f":"IF(MOD(H265,2),[1]pms170!C133,[1]pms230!C133)","v":"CAPOT SOUS ASSISE"},{"$f":"IF(MOD(H265,2),[1]pms170!G133,[1]pms230!D133)","v":"2017-02-07"},{"$f":"IF(MOD(H265,2),[1]pms170!H133,[1]pms230!E133)","v":"2017-02-07"},{"$f":"IF(MOD(H265,2),[1]pms170!F133,[1]pms230!F133)","v":1},{"$f":"IF(MOD(H265,2),[1]pms170!A133,[1]pms230!M133)","v":"351010"},131]
[{"$f":"IF(MOD(H266,2),[1]pms230!A679,[1]pms170!D679)","v":0},{"$f":"IF(MOD(H266,2),[1]pms230!B679,[1]pms170!B679)","v":0},{"$f":"IF(MOD(H266,2),[1]pms230!C679,[1]pms170!C679)","v":0},{"$f":"IF(MOD(H266,2),[1]pms230!D679,[1]pms170!G679)","v":"00:00:00"},{"$f":"IF(MOD(H266,2),[1]pms230!E679,[1]pms170!H679)","v":"00:00:00"},{"$f":"IF(MOD(H266,2),[1]pms230!F679,[1]pms170!F679)","v":0},{"$f":"IF(MOD(H266,2),[1]pms230!M679,[1]pms170!A679)","v":0},132]
[{"$f":"IF(MOD(H267,2),[1]pms170!D134,[1]pms230!A134)","v":"960469"},{"$f":"IF(MOD(H267,2),[1]pms170!B134,[1]pms230!B134)","v":"F313205P099"},{"$f":"IF(MOD(H267,2),[1]pms170!C134,[1]pms230!C134)","v":"H099 CAPOT ACCD STD"},{"$f":"IF(MOD(H267,2),[1]pms170!G134,[1]pms230!D134)","v":"2017-02-13"},{"$f":"IF(MOD(H267,2),[1]pms170!H134,[1]pms230!E134)","v":"2017-02-13"},{"$f":"IF(MOD(H267,2),[1]pms170!F134,[1]pms230!F134)","v":"20"},{"$f":"IF(MOD(H267,2),[1]pms170!A134,[1]pms230!M134)","v":"351010"},132]
[{"$f":"IF(MOD(H268,2),[1]pms230!A680,[1]pms170!D680)","v":0},{"$f":"IF(MOD(H268,2),[1]pms230!B680,[1]pms170!B680)","v":0},{"$f":"IF(MOD(H268,2),[1]pms230!C680,[1]pms170!C680)","v":0},{"$f":"IF(MOD(H268,2),[1]pms230!D680,[1]pms170!G680)","v":"00:00:00"},{"$f":"IF(MOD(H268,2),[1]pms230!E680,[1]pms170!H680)","v":"00:00:00"},{"$f":"IF(MOD(H268,2),[1]pms230!F680,[1]pms170!F680)","v":0},{"$f":"IF(MOD(H268,2),[1]pms230!M680,[1]pms170!A680)","v":0},133]
[{"$f":"IF(MOD(H269,2),[1]pms170!D135,[1]pms230!A135)","v":"7125553"},{"$f":"IF(MOD(H269,2),[1]pms170!B135,[1]pms230!B135)","v":"F0523521"},{"$f":"IF(MOD(H269,2),[1]pms170!C135,[1]pms230!C135)","v":"ENS CAPOT AR COMBO"},{"$f":"IF(MOD(H269,2),[1]pms170!G135,[1]pms230!D135)","v":"2017-01-26"},{"$f":"IF(MOD(H269,2),[1]pms170!H135,[1]pms230!E135)","v":"2017-01-30"},{"$f":"IF(MOD(H269,2),[1]pms170!F135,[1]pms230!F135)","v":12},{"$f":"IF(MOD(H269,2),[1]pms170!A135,[1]pms230!M135)","v":"351010"},133]
[{"$f":"IF(MOD(H270,2),[1]pms230!A681,[1]pms170!D681)","v":0},{"$f":"IF(MOD(H270,2),[1]pms230!B681,[1]pms170!B681)","v":0},{"$f":"IF(MOD(H270,2),[1]pms230!C681,[1]pms170!C681)","v":0},{"$f":"IF(MOD(H270,2),[1]pms230!D681,[1]pms170!G681)","v":"00:00:00"},{"$f":"IF(MOD(H270,2),[1]pms230!E681,[1]pms170!H681)","v":"00:00:00"},{"$f":"IF(MOD(H270,2),[1]pms230!F681,[1]pms170!F681)","v":0},{"$f":"IF(MOD(H270,2),[1]pms230!M681,[1]pms170!A681)","v":0},134]
[{"$f":"IF(MOD(H271,2),[1]pms170!D136,[1]pms230!A136)","v":"962182"},{"$f":"IF(MOD(H271,2),[1]pms170!B136,[1]pms230!B136)","v":"F0440520"},{"$f":"IF(MOD(H271,2),[1]pms170!C136,[1]pms230!C136)","v":"ENS CAPOT CROSSE PEN"},{"$f":"IF(MOD(H271,2),[1]pms170!G136,[1]pms230!D136)","v":"2017-02-13"},{"$f":"IF(MOD(H271,2),[1]pms170!H136,[1]pms230!E136)","v":"2017-02-13"},{"$f":"IF(MOD(H271,2),[1]pms170!F136,[1]pms230!F136)","v":"52"},{"$f":"IF(MOD(H271,2),[1]pms170!A136,[1]pms230!M136)","v":"351010"},134]
[{"$f":"IF(MOD(H272,2),[1]pms230!A682,[1]pms170!D682)","v":0},{"$f":"IF(MOD(H272,2),[1]pms230!B682,[1]pms170!B682)","v":0},{"$f":"IF(MOD(H272,2),[1]pms230!C682,[1]pms170!C682)","v":0},{"$f":"IF(MOD(H272,2),[1]pms230!D682,[1]pms170!G682)","v":"00:00:00"},{"$f":"IF(MOD(H272,2),[1]pms230!E682,[1]pms170!H682)","v":"00:00:00"},{"$f":"IF(MOD(H272,2),[1]pms230!F682,[1]pms170!F682)","v":0},{"$f":"IF(MOD(H272,2),[1]pms230!M682,[1]pms170!A682)","v":0},135]
[{"$f":"IF(MOD(H273,2),[1]pms170!D137,[1]pms230!A137)","v":"7256404"},{"$f":"IF(MOD(H273,2),[1]pms170!B137,[1]pms230!B137)","v":"F0524655"},{"$f":"IF(MOD(H273,2),[1]pms170!C137,[1]pms230!C137)","v":"CAPOT SOUS ASSISE"},{"$f":"IF(MOD(H273,2),[1]pms170!G137,[1]pms230!D137)","v":"2017-02-07"},{"$f":"IF(MOD(H273,2),[1]pms170!H137,[1]pms230!E137)","v":"2017-02-07"},{"$f":"IF(MOD(H273,2),[1]pms170!F137,[1]pms230!F137)","v":3},{"$f":"IF(MOD(H273,2),[1]pms170!A137,[1]pms230!M137)","v":"351010"},135]
[{"$f":"IF(MOD(H274,2),[1]pms230!A683,[1]pms170!D683)","v":0},{"$f":"IF(MOD(H274,2),[1]pms230!B683,[1]pms170!B683)","v":0},{"$f":"IF(MOD(H274,2),[1]pms230!C683,[1]pms170!C683)","v":0},{"$f":"IF(MOD(H274,2),[1]pms230!D683,[1]pms170!G683)","v":"00:00:00"},{"$f":"IF(MOD(H274,2),[1]pms230!E683,[1]pms170!H683)","v":"00:00:00"},{"$f":"IF(MOD(H274,2),[1]pms230!F683,[1]pms170!F683)","v":0},{"$f":"IF(MOD(H274,2),[1]pms230!M683,[1]pms170!A683)","v":0},136]
[{"$f":"IF(MOD(H275,2),[1]pms170!D138,[1]pms230!A138)","v":"961311"},{"$f":"IF(MOD(H275,2),[1]pms170!B138,[1]pms230!B138)","v":"F0508961"},{"$f":"IF(MOD(H275,2),[1]pms170!C138,[1]pms230!C138)","v":"KICK PANEL CENT 17\"0"},{"$f":"IF(MOD(H275,2),[1]pms170!G138,[1]pms230!D138)","v":"2017-02-13"},{"$f":"IF(MOD(H275,2),[1]pms170!H138,[1]pms230!E138)","v":"2017-02-13"},{"$f":"IF(MOD(H275,2),[1]pms170!F138,[1]pms230!F138)","v":"22"},{"$f":"IF(MOD(H275,2),[1]pms170!A138,[1]pms230!M138)","v":"351010"},136]
[{"$f":"IF(MOD(H276,2),[1]pms230!A684,[1]pms170!D684)","v":0},{"$f":"IF(MOD(H276,2),[1]pms230!B684,[1]pms170!B684)","v":0},{"$f":"IF(MOD(H276,2),[1]pms230!C684,[1]pms170!C684)","v":0},{"$f":"IF(MOD(H276,2),[1]pms230!D684,[1]pms170!G684)","v":"00:00:00"},{"$f":"IF(MOD(H276,2),[1]pms230!E684,[1]pms170!H684)","v":"00:00:00"},{"$f":"IF(MOD(H276,2),[1]pms230!F684,[1]pms170!F684)","v":0},{"$f":"IF(MOD(H276,2),[1]pms230!M684,[1]pms170!A684)","v":0},137]
[{"$f":"IF(MOD(H277,2),[1]pms170!D139,[1]pms230!A139)","v":"6695934"},{"$f":"IF(MOD(H277,2),[1]pms170!B139,[1]pms230!B139)","v":"F208451P036"},{"$f":"IF(MOD(H277,2),[1]pms170!C139,[1]pms230!C139)","v":"H036 PLAQUE SUPPORT"},{"$f":"IF(MOD(H277,2),[1]pms170!G139,[1]pms230!D139)","v":"2017-01-24"},{"$f":"IF(MOD(H277,2),[1]pms170!H139,[1]pms230!E139)","v":"2017-01-24"},{"$f":"IF(MOD(H277,2),[1]pms170!F139,[1]pms230!F139)","v":1},{"$f":"IF(MOD(H277,2),[1]pms170!A139,[1]pms230!M139)","v":"351010"},137]
[{"$f":"IF(MOD(H278,2),[1]pms230!A685,[1]pms170!D685)","v":0},{"$f":"IF(MOD(H278,2),[1]pms230!B685,[1]pms170!B685)","v":0},{"$f":"IF(MOD(H278,2),[1]pms230!C685,[1]pms170!C685)","v":0},{"$f":"IF(MOD(H278,2),[1]pms230!D685,[1]pms170!G685)","v":"00:00:00"},{"$f":"IF(MOD(H278,2),[1]pms230!E685,[1]pms170!H685)","v":"00:00:00"},{"$f":"IF(MOD(H278,2),[1]pms230!F685,[1]pms170!F685)","v":0},{"$f":"IF(MOD(H278,2),[1]pms230!M685,[1]pms170!A685)","v":0},138]
[{"$f":"IF(MOD(H279,2),[1]pms170!D140,[1]pms230!A140)","v":"960566"},{"$f":"IF(MOD(H279,2),[1]pms170!B140,[1]pms230!B140)","v":"F1EQ0D0170S2"},{"$f":"IF(MOD(H279,2),[1]pms170!C140,[1]pms230!C140)","v":"CAPOT EPML"},{"$f":"IF(MOD(H279,2),[1]pms170!G140,[1]pms230!D140)","v":"2017-02-13"},{"$f":"IF(MOD(H279,2),[1]pms170!H140,[1]pms230!E140)","v":"2017-02-13"},{"$f":"IF(MOD(H279,2),[1]pms170!F140,[1]pms230!F140)","v":"34"},{"$f":"IF(MOD(H279,2),[1]pms170!A140,[1]pms230!M140)","v":"351010"},138]
[{"$f":"IF(MOD(H280,2),[1]pms230!A686,[1]pms170!D686)","v":0},{"$f":"IF(MOD(H280,2),[1]pms230!B686,[1]pms170!B686)","v":0},{"$f":"IF(MOD(H280,2),[1]pms230!C686,[1]pms170!C686)","v":0},{"$f":"IF(MOD(H280,2),[1]pms230!D686,[1]pms170!G686)","v":"00:00:00"},{"$f":"IF(MOD(H280,2),[1]pms230!E686,[1]pms170!H686)","v":"00:00:00"},{"$f":"IF(MOD(H280,2),[1]pms230!F686,[1]pms170!F686)","v":0},{"$f":"IF(MOD(H280,2),[1]pms230!M686,[1]pms170!A686)","v":0},139]
[{"$f":"IF(MOD(H281,2),[1]pms170!D141,[1]pms230!A141)","v":"6836489"},{"$f":"IF(MOD(H281,2),[1]pms170!B141,[1]pms230!B141)","v":"F259804P015"},{"$f":"IF(MOD(H281,2),[1]pms170!C141,[1]pms230!C141)","v":"H015 CAPOT LAT EXT IAT"},{"$f":"IF(MOD(H281,2),[1]pms170!G141,[1]pms230!D141)","v":"2017-02-08"},{"$f":"IF(MOD(H281,2),[1]pms170!H141,[1]pms230!E141)","v":"2017-02-11"},{"$f":"IF(MOD(H281,2),[1]pms170!F141,[1]pms230!F141)","v":2},{"$f":"IF(MOD(H281,2),[1]pms170!A141,[1]pms230!M141)","v":"351010"},139]
[{"$f":"IF(MOD(H282,2),[1]pms230!A687,[1]pms170!D687)","v":0},{"$f":"IF(MOD(H282,2),[1]pms230!B687,[1]pms170!B687)","v":0},{"$f":"IF(MOD(H282,2),[1]pms230!C687,[1]pms170!C687)","v":0},{"$f":"IF(MOD(H282,2),[1]pms230!D687,[1]pms170!G687)","v":"00:00:00"},{"$f":"IF(MOD(H282,2),[1]pms230!E687,[1]pms170!H687)","v":"00:00:00"},{"$f":"IF(MOD(H282,2),[1]pms230!F687,[1]pms170!F687)","v":0},{"$f":"IF(MOD(H282,2),[1]pms230!M687,[1]pms170!A687)","v":0},140]
[{"$f":"IF(MOD(H283,2),[1]pms170!D142,[1]pms230!A142)","v":"958030"},{"$f":"IF(MOD(H283,2),[1]pms170!B142,[1]pms230!B142)","v":"F364641P015"},{"$f":"IF(MOD(H283,2),[1]pms170!C142,[1]pms230!C142)","v":"H015 CAPOT ACC"},{"$f":"IF(MOD(H283,2),[1]pms170!G142,[1]pms230!D142)","v":"2017-02-14"},{"$f":"IF(MOD(H283,2),[1]pms170!H142,[1]pms230!E142)","v":"2017-02-14"},{"$f":"IF(MOD(H283,2),[1]pms170!F142,[1]pms230!F142)","v":"60"},{"$f":"IF(MOD(H283,2),[1]pms170!A142,[1]pms230!M142)","v":"351010"},140]
[{"$f":"IF(MOD(H284,2),[1]pms230!A688,[1]pms170!D688)","v":0},{"$f":"IF(MOD(H284,2),[1]pms230!B688,[1]pms170!B688)","v":0},{"$f":"IF(MOD(H284,2),[1]pms230!C688,[1]pms170!C688)","v":0},{"$f":"IF(MOD(H284,2),[1]pms230!D688,[1]pms170!G688)","v":"00:00:00"},{"$f":"IF(MOD(H284,2),[1]pms230!E688,[1]pms170!H688)","v":"00:00:00"},{"$f":"IF(MOD(H284,2),[1]pms230!F688,[1]pms170!F688)","v":0},{"$f":"IF(MOD(H284,2),[1]pms230!M688,[1]pms170!A688)","v":0},141]
[{"$f":"IF(MOD(H285,2),[1]pms170!D143,[1]pms230!A143)","v":"6968418"},{"$f":"IF(MOD(H285,2),[1]pms170!B143,[1]pms230!B143)","v":"F259804P075"},{"$f":"IF(MOD(H285,2),[1]pms170!C143,[1]pms230!C143)","v":"H075 CAPOT LAT EXT IAT"},{"$f":"IF(MOD(H285,2),[1]pms170!G143,[1]pms230!D143)","v":"2017-02-10"},{"$f":"IF(MOD(H285,2),[1]pms170!H143,[1]pms230!E143)","v":"2017-02-11"},{"$f":"IF(MOD(H285,2),[1]pms170!F143,[1]pms230!F143)","v":4},{"$f":"IF(MOD(H285,2),[1]pms170!A143,[1]pms230!M143)","v":"351010"},141]
[{"$f":"IF(MOD(H286,2),[1]pms230!A689,[1]pms170!D689)","v":0},{"$f":"IF(MOD(H286,2),[1]pms230!B689,[1]pms170!B689)","v":0},{"$f":"IF(MOD(H286,2),[1]pms230!C689,[1]pms170!C689)","v":0},{"$f":"IF(MOD(H286,2),[1]pms230!D689,[1]pms170!G689)","v":"00:00:00"},{"$f":"IF(MOD(H286,2),[1]pms230!E689,[1]pms170!H689)","v":"00:00:00"},{"$f":"IF(MOD(H286,2),[1]pms230!F689,[1]pms170!F689)","v":0},{"$f":"IF(MOD(H286,2),[1]pms230!M689,[1]pms170!A689)","v":0},142]
[{"$f":"IF(MOD(H287,2),[1]pms170!D144,[1]pms230!A144)","v":"958034"},{"$f":"IF(MOD(H287,2),[1]pms170!B144,[1]pms230!B144)","v":"F364641P015"},{"$f":"IF(MOD(H287,2),[1]pms170!C144,[1]pms230!C144)","v":"H015 CAPOT ACC"},{"$f":"IF(MOD(H287,2),[1]pms170!G144,[1]pms230!D144)","v":"2017-02-14"},{"$f":"IF(MOD(H287,2),[1]pms170!H144,[1]pms230!E144)","v":"2017-02-14"},{"$f":"IF(MOD(H287,2),[1]pms170!F144,[1]pms230!F144)","v":"55"},{"$f":"IF(MOD(H287,2),[1]pms170!A144,[1]pms230!M144)","v":"351010"},142]
[{"$f":"IF(MOD(H288,2),[1]pms230!A690,[1]pms170!D690)","v":0},{"$f":"IF(MOD(H288,2),[1]pms230!B690,[1]pms170!B690)","v":0},{"$f":"IF(MOD(H288,2),[1]pms230!C690,[1]pms170!C690)","v":0},{"$f":"IF(MOD(H288,2),[1]pms230!D690,[1]pms170!G690)","v":"00:00:00"},{"$f":"IF(MOD(H288,2),[1]pms230!E690,[1]pms170!H690)","v":"00:00:00"},{"$f":"IF(MOD(H288,2),[1]pms230!F690,[1]pms170!F690)","v":0},{"$f":"IF(MOD(H288,2),[1]pms230!M690,[1]pms170!A690)","v":0},143]
[{"$f":"IF(MOD(H289,2),[1]pms170!D145,[1]pms230!A145)","v":"6721582"},{"$f":"IF(MOD(H289,2),[1]pms170!B145,[1]pms230!B145)","v":"F322899P022"},{"$f":"IF(MOD(H289,2),[1]pms170!C145,[1]pms230!C145)","v":"H022 CAPOT FLANC INF STD"},{"$f":"IF(MOD(H289,2),[1]pms170!G145,[1]pms230!D145)","v":"2017-02-08"},{"$f":"IF(MOD(H289,2),[1]pms170!H145,[1]pms230!E145)","v":"2017-02-11"},{"$f":"IF(MOD(H289,2),[1]pms170!F145,[1]pms230!F145)","v":2},{"$f":"IF(MOD(H289,2),[1]pms170!A145,[1]pms230!M145)","v":"351010"},143]
[{"$f":"IF(MOD(H290,2),[1]pms230!A691,[1]pms170!D691)","v":0},{"$f":"IF(MOD(H290,2),[1]pms230!B691,[1]pms170!B691)","v":0},{"$f":"IF(MOD(H290,2),[1]pms230!C691,[1]pms170!C691)","v":0},{"$f":"IF(MOD(H290,2),[1]pms230!D691,[1]pms170!G691)","v":"00:00:00"},{"$f":"IF(MOD(H290,2),[1]pms230!E691,[1]pms170!H691)","v":"00:00:00"},{"$f":"IF(MOD(H290,2),[1]pms230!F691,[1]pms170!F691)","v":0},{"$f":"IF(MOD(H290,2),[1]pms230!M691,[1]pms170!A691)","v":0},144]
[{"$f":"IF(MOD(H291,2),[1]pms170!D146,[1]pms230!A146)","v":"960489"},{"$f":"IF(MOD(H291,2),[1]pms170!B146,[1]pms230!B146)","v":"F0462070"},{"$f":"IF(MOD(H291,2),[1]pms170!C146,[1]pms230!C146)","v":"ENS TABLETTE BASSE R"},{"$f":"IF(MOD(H291,2),[1]pms170!G146,[1]pms230!D146)","v":"2017-02-14"},{"$f":"IF(MOD(H291,2),[1]pms170!H146,[1]pms230!E146)","v":"2017-02-15"},{"$f":"IF(MOD(H291,2),[1]pms170!F146,[1]pms230!F146)","v":"55"},{"$f":"IF(MOD(H291,2),[1]pms170!A146,[1]pms230!M146)","v":"351000"},144]
[{"$f":"IF(MOD(H292,2),[1]pms230!A692,[1]pms170!D692)","v":0},{"$f":"IF(MOD(H292,2),[1]pms230!B692,[1]pms170!B692)","v":0},{"$f":"IF(MOD(H292,2),[1]pms230!C692,[1]pms170!C692)","v":0},{"$f":"IF(MOD(H292,2),[1]pms230!D692,[1]pms170!G692)","v":"00:00:00"},{"$f":"IF(MOD(H292,2),[1]pms230!E692,[1]pms170!H692)","v":"00:00:00"},{"$f":"IF(MOD(H292,2),[1]pms230!F692,[1]pms170!F692)","v":0},{"$f":"IF(MOD(H292,2),[1]pms230!M692,[1]pms170!A692)","v":0},145]
[{"$f":"IF(MOD(H293,2),[1]pms170!D147,[1]pms230!A147)","v":"6968456"},{"$f":"IF(MOD(H293,2),[1]pms170!B147,[1]pms230!B147)","v":"F329906H036"},{"$f":"IF(MOD(H293,2),[1]pms170!C147,[1]pms230!C147)","v":"H036 BOÎTIER GILET SAUVETAGE"},{"$f":"IF(MOD(H293,2),[1]pms170!G147,[1]pms230!D147)","v":"2017-02-10"},{"$f":"IF(MOD(H293,2),[1]pms170!H147,[1]pms230!E147)","v":"2017-02-13"},{"$f":"IF(MOD(H293,2),[1]pms170!F147,[1]pms230!F147)","v":29},{"$f":"IF(MOD(H293,2),[1]pms170!A147,[1]pms230!M147)","v":"351010"},145]
[{"$f":"IF(MOD(H294,2),[1]pms230!A693,[1]pms170!D693)","v":0},{"$f":"IF(MOD(H294,2),[1]pms230!B693,[1]pms170!B693)","v":0},{"$f":"IF(MOD(H294,2),[1]pms230!C693,[1]pms170!C693)","v":0},{"$f":"IF(MOD(H294,2),[1]pms230!D693,[1]pms170!G693)","v":"00:00:00"},{"$f":"IF(MOD(H294,2),[1]pms230!E693,[1]pms170!H693)","v":"00:00:00"},{"$f":"IF(MOD(H294,2),[1]pms230!F693,[1]pms170!F693)","v":0},{"$f":"IF(MOD(H294,2),[1]pms230!M693,[1]pms170!A693)","v":0},146]
[{"$f":"IF(MOD(H295,2),[1]pms170!D148,[1]pms230!A148)","v":"962057"},{"$f":"IF(MOD(H295,2),[1]pms170!B148,[1]pms230!B148)","v":"F329906H036"},{"$f":"IF(MOD(H295,2),[1]pms170!C148,[1]pms230!C148)","v":"H036 BOÎTIER GILET S"},{"$f":"IF(MOD(H295,2),[1]pms170!G148,[1]pms230!D148)","v":"2017-02-14"},{"$f":"IF(MOD(H295,2),[1]pms170!H148,[1]pms230!E148)","v":"2017-02-14"},{"$f":"IF(MOD(H295,2),[1]pms170!F148,[1]pms230!F148)","v":"33"},{"$f":"IF(MOD(H295,2),[1]pms170!A148,[1]pms230!M148)","v":"351010"},146]
[{"$f":"IF(MOD(H296,2),[1]pms230!A694,[1]pms170!D694)","v":0},{"$f":"IF(MOD(H296,2),[1]pms230!B694,[1]pms170!B694)","v":0},{"$f":"IF(MOD(H296,2),[1]pms230!C694,[1]pms170!C694)","v":0},{"$f":"IF(MOD(H296,2),[1]pms230!D694,[1]pms170!G694)","v":"00:00:00"},{"$f":"IF(MOD(H296,2),[1]pms230!E694,[1]pms170!H694)","v":"00:00:00"},{"$f":"IF(MOD(H296,2),[1]pms230!F694,[1]pms170!F694)","v":0},{"$f":"IF(MOD(H296,2),[1]pms230!M694,[1]pms170!A694)","v":0},147]
[{"$f":"IF(MOD(H297,2),[1]pms170!D149,[1]pms230!A149)","v":"7256585"},{"$f":"IF(MOD(H297,2),[1]pms170!B149,[1]pms230!B149)","v":"F332357P108"},{"$f":"IF(MOD(H297,2),[1]pms170!C149,[1]pms230!C149)","v":"H108 CALE"},{"$f":"IF(MOD(H297,2),[1]pms170!G149,[1]pms230!D149)","v":"2017-02-03"},{"$f":"IF(MOD(H297,2),[1]pms170!H149,[1]pms230!E149)","v":"2017-02-03"},{"$f":"IF(MOD(H297,2),[1]pms170!F149,[1]pms230!F149)","v":3},{"$f":"IF(MOD(H297,2),[1]pms170!A149,[1]pms230!M149)","v":"351010"},147]
[{"$f":"IF(MOD(H298,2),[1]pms230!A695,[1]pms170!D695)","v":0},{"$f":"IF(MOD(H298,2),[1]pms230!B695,[1]pms170!B695)","v":0},{"$f":"IF(MOD(H298,2),[1]pms230!C695,[1]pms170!C695)","v":0},{"$f":"IF(MOD(H298,2),[1]pms230!D695,[1]pms170!G695)","v":"00:00:00"},{"$f":"IF(MOD(H298,2),[1]pms230!E695,[1]pms170!H695)","v":"00:00:00"},{"$f":"IF(MOD(H298,2),[1]pms230!F695,[1]pms170!F695)","v":0},{"$f":"IF(MOD(H298,2),[1]pms230!M695,[1]pms170!A695)","v":0},148]
[{"$f":"IF(MOD(H299,2),[1]pms170!D150,[1]pms230!A150)","v":"959809"},{"$f":"IF(MOD(H299,2),[1]pms170!B150,[1]pms230!B150)","v":"F0459537"},{"$f":"IF(MOD(H299,2),[1]pms170!C150,[1]pms230!C150)","v":"REMPLISSAGE TABLETTE"},{"$f":"IF(MOD(H299,2),[1]pms170!G150,[1]pms230!D150)","v":"2017-02-14"},{"$f":"IF(MOD(H299,2),[1]pms170!H150,[1]pms230!E150)","v":"2017-02-14"},{"$f":"IF(MOD(H299,2),[1]pms170!F150,[1]pms230!F150)","v":"50"},{"$f":"IF(MOD(H299,2),[1]pms170!A150,[1]pms230!M150)","v":"351015"},148]
[{"$f":"IF(MOD(H300,2),[1]pms230!A696,[1]pms170!D696)","v":0},{"$f":"IF(MOD(H300,2),[1]pms230!B696,[1]pms170!B696)","v":0},{"$f":"IF(MOD(H300,2),[1]pms230!C696,[1]pms170!C696)","v":0},{"$f":"IF(MOD(H300,2),[1]pms230!D696,[1]pms170!G696)","v":"00:00:00"},{"$f":"IF(MOD(H300,2),[1]pms230!E696,[1]pms170!H696)","v":"00:00:00"},{"$f":"IF(MOD(H300,2),[1]pms230!F696,[1]pms170!F696)","v":0},{"$f":"IF(MOD(H300,2),[1]pms230!M696,[1]pms170!A696)","v":0},149]
[{"$f":"IF(MOD(H301,2),[1]pms170!D151,[1]pms230!A151)","v":"7243129"},{"$f":"IF(MOD(H301,2),[1]pms170!B151,[1]pms230!B151)","v":"F370685"},{"$f":"IF(MOD(H301,2),[1]pms170!C151,[1]pms230!C151)","v":"ENS PORTE"},{"$f":"IF(MOD(H301,2),[1]pms170!G151,[1]pms230!D151)","v":"2017-02-07"},{"$f":"IF(MOD(H301,2),[1]pms170!H151,[1]pms230!E151)","v":"2017-02-07"},{"$f":"IF(MOD(H301,2),[1]pms170!F151,[1]pms230!F151)","v":12},{"$f":"IF(MOD(H301,2),[1]pms170!A151,[1]pms230!M151)","v":"351010"},149]
[{"$f":"IF(MOD(H302,2),[1]pms230!A697,[1]pms170!D697)","v":0},{"$f":"IF(MOD(H302,2),[1]pms230!B697,[1]pms170!B697)","v":0},{"$f":"IF(MOD(H302,2),[1]pms230!C697,[1]pms170!C697)","v":0},{"$f":"IF(MOD(H302,2),[1]pms230!D697,[1]pms170!G697)","v":"00:00:00"},{"$f":"IF(MOD(H302,2),[1]pms230!E697,[1]pms170!H697)","v":"00:00:00"},{"$f":"IF(MOD(H302,2),[1]pms230!F697,[1]pms170!F697)","v":0},{"$f":"IF(MOD(H302,2),[1]pms230!M697,[1]pms170!A697)","v":0},150]
[{"$f":"IF(MOD(H303,2),[1]pms170!D152,[1]pms230!A152)","v":"960910"},{"$f":"IF(MOD(H303,2),[1]pms170!B152,[1]pms230!B152)","v":"F0504771"},{"$f":"IF(MOD(H303,2),[1]pms170!C152,[1]pms230!C152)","v":"ENS REMPLISSAGE TABL"},{"$f":"IF(MOD(H303,2),[1]pms170!G152,[1]pms230!D152)","v":"2017-02-14"},{"$f":"IF(MOD(H303,2),[1]pms170!H152,[1]pms230!E152)","v":"2017-02-15"},{"$f":"IF(MOD(H303,2),[1]pms170!F152,[1]pms230!F152)","v":"50"},{"$f":"IF(MOD(H303,2),[1]pms170!A152,[1]pms230!M152)","v":"351015"},150]
[{"$f":"IF(MOD(H304,2),[1]pms230!A698,[1]pms170!D698)","v":0},{"$f":"IF(MOD(H304,2),[1]pms230!B698,[1]pms170!B698)","v":0},{"$f":"IF(MOD(H304,2),[1]pms230!C698,[1]pms170!C698)","v":0},{"$f":"IF(MOD(H304,2),[1]pms230!D698,[1]pms170!G698)","v":"00:00:00"},{"$f":"IF(MOD(H304,2),[1]pms230!E698,[1]pms170!H698)","v":"00:00:00"},{"$f":"IF(MOD(H304,2),[1]pms230!F698,[1]pms170!F698)","v":0},{"$f":"IF(MOD(H304,2),[1]pms230!M698,[1]pms170!A698)","v":0},151]
[{"$f":"IF(MOD(H305,2),[1]pms170!D153,[1]pms230!A153)","v":"7002253"},{"$f":"IF(MOD(H305,2),[1]pms170!B153,[1]pms230!B153)","v":"J2001705"},{"$f":"IF(MOD(H305,2),[1]pms170!C153,[1]pms230!C153)","v":"DOUBLER CLOSEOUT SIDE"},{"$f":"IF(MOD(H305,2),[1]pms170!G153,[1]pms230!D153)","v":"2017-01-31"},{"$f":"IF(MOD(H305,2),[1]pms170!H153,[1]pms230!E153)","v":"2017-01-31"},{"$f":"IF(MOD(H305,2),[1]pms170!F153,[1]pms230!F153)","v":2},{"$f":"IF(MOD(H305,2),[1]pms170!A153,[1]pms230!M153)","v":"351010"},151]
[{"$f":"IF(MOD(H306,2),[1]pms230!A699,[1]pms170!D699)","v":0},{"$f":"IF(MOD(H306,2),[1]pms230!B699,[1]pms170!B699)","v":0},{"$f":"IF(MOD(H306,2),[1]pms230!C699,[1]pms170!C699)","v":0},{"$f":"IF(MOD(H306,2),[1]pms230!D699,[1]pms170!G699)","v":"00:00:00"},{"$f":"IF(MOD(H306,2),[1]pms230!E699,[1]pms170!H699)","v":"00:00:00"},{"$f":"IF(MOD(H306,2),[1]pms230!F699,[1]pms170!F699)","v":0},{"$f":"IF(MOD(H306,2),[1]pms230!M699,[1]pms170!A699)","v":0},152]
[{"$f":"IF(MOD(H307,2),[1]pms170!D154,[1]pms230!A154)","v":"961604"},{"$f":"IF(MOD(H307,2),[1]pms170!B154,[1]pms230!B154)","v":"F0504771"},{"$f":"IF(MOD(H307,2),[1]pms170!C154,[1]pms230!C154)","v":"ENS REMPLISSAGE TABL"},{"$f":"IF(MOD(H307,2),[1]pms170!G154,[1]pms230!D154)","v":"2017-02-14"},{"$f":"IF(MOD(H307,2),[1]pms170!H154,[1]pms230!E154)","v":"2017-02-15"},{"$f":"IF(MOD(H307,2),[1]pms170!F154,[1]pms230!F154)","v":"50"},{"$f":"IF(MOD(H307,2),[1]pms170!A154,[1]pms230!M154)","v":"351015"},152]
[{"$f":"IF(MOD(H308,2),[1]pms230!A700,[1]pms170!D700)","v":0},{"$f":"IF(MOD(H308,2),[1]pms230!B700,[1]pms170!B700)","v":0},{"$f":"IF(MOD(H308,2),[1]pms230!C700,[1]pms170!C700)","v":0},{"$f":"IF(MOD(H308,2),[1]pms230!D700,[1]pms170!G700)","v":"00:00:00"},{"$f":"IF(MOD(H308,2),[1]pms230!E700,[1]pms170!H700)","v":"00:00:00"},{"$f":"IF(MOD(H308,2),[1]pms230!F700,[1]pms170!F700)","v":0},{"$f":"IF(MOD(H308,2),[1]pms230!M700,[1]pms170!A700)","v":0},153]
[{"$f":"IF(MOD(H309,2),[1]pms170!D155,[1]pms230!A155)","v":"7002268"},{"$f":"IF(MOD(H309,2),[1]pms170!B155,[1]pms230!B155)","v":"J2001713"},{"$f":"IF(MOD(H309,2),[1]pms170!C155,[1]pms230!C155)","v":"PANEL TOP SIDE CLOSEOUT"},{"$f":"IF(MOD(H309,2),[1]pms170!G155,[1]pms230!D155)","v":"2017-02-16"},{"$f":"IF(MOD(H309,2),[1]pms170!H155,[1]pms230!E155)","v":"2017-02-17"},{"$f":"IF(MOD(H309,2),[1]pms170!F155,[1]pms230!F155)","v":11},{"$f":"IF(MOD(H309,2),[1]pms170!A155,[1]pms230!M155)","v":"351010"},153]
[{"$f":"IF(MOD(H310,2),[1]pms230!A701,[1]pms170!D701)","v":0},{"$f":"IF(MOD(H310,2),[1]pms230!B701,[1]pms170!B701)","v":0},{"$f":"IF(MOD(H310,2),[1]pms230!C701,[1]pms170!C701)","v":0},{"$f":"IF(MOD(H310,2),[1]pms230!D701,[1]pms170!G701)","v":"00:00:00"},{"$f":"IF(MOD(H310,2),[1]pms230!E701,[1]pms170!H701)","v":"00:00:00"},{"$f":"IF(MOD(H310,2),[1]pms230!F701,[1]pms170!F701)","v":0},{"$f":"IF(MOD(H310,2),[1]pms230!M701,[1]pms170!A701)","v":0},154]
[{"$f":"IF(MOD(H311,2),[1]pms170!D156,[1]pms230!A156)","v":"957694"},{"$f":"IF(MOD(H311,2),[1]pms170!B156,[1]pms230!B156)","v":"F0519991"},{"$f":"IF(MOD(H311,2),[1]pms170!C156,[1]pms230!C156)","v":"CAPOT PROTEGE CABLE"},{"$f":"IF(MOD(H311,2),[1]pms170!G156,[1]pms230!D156)","v":"2017-02-15"},{"$f":"IF(MOD(H311,2),[1]pms170!H156,[1]pms230!E156)","v":"2017-02-15"},{"$f":"IF(MOD(H311,2),[1]pms170!F156,[1]pms230!F156)","v":"6"},{"$f":"IF(MOD(H311,2),[1]pms170!A156,[1]pms230!M156)","v":"351010"},154]
[{"$f":"IF(MOD(H312,2),[1]pms230!A702,[1]pms170!D702)","v":0},{"$f":"IF(MOD(H312,2),[1]pms230!B702,[1]pms170!B702)","v":0},{"$f":"IF(MOD(H312,2),[1]pms230!C702,[1]pms170!C702)","v":0},{"$f":"IF(MOD(H312,2),[1]pms230!D702,[1]pms170!G702)","v":"00:00:00"},{"$f":"IF(MOD(H312,2),[1]pms230!E702,[1]pms170!H702)","v":"00:00:00"},{"$f":"IF(MOD(H312,2),[1]pms230!F702,[1]pms170!F702)","v":0},{"$f":"IF(MOD(H312,2),[1]pms230!M702,[1]pms170!A702)","v":0},155]
[{"$f":"IF(MOD(H313,2),[1]pms170!D157,[1]pms230!A157)","v":"7129686"},{"$f":"IF(MOD(H313,2),[1]pms170!B157,[1]pms230!B157)","v":"J2001714"},{"$f":"IF(MOD(H313,2),[1]pms170!C157,[1]pms230!C157)","v":"PANEL TOP SIDE CLOSEOUT"},{"$f":"IF(MOD(H313,2),[1]pms170!G157,[1]pms230!D157)","v":"2017-02-09"},{"$f":"IF(MOD(H313,2),[1]pms170!H157,[1]pms230!E157)","v":"2017-02-10"},{"$f":"IF(MOD(H313,2),[1]pms170!F157,[1]pms230!F157)","v":10},{"$f":"IF(MOD(H313,2),[1]pms170!A157,[1]pms230!M157)","v":"351010"},155]
[{"$f":"IF(MOD(H314,2),[1]pms230!A703,[1]pms170!D703)","v":0},{"$f":"IF(MOD(H314,2),[1]pms230!B703,[1]pms170!B703)","v":0},{"$f":"IF(MOD(H314,2),[1]pms230!C703,[1]pms170!C703)","v":0},{"$f":"IF(MOD(H314,2),[1]pms230!D703,[1]pms170!G703)","v":"00:00:00"},{"$f":"IF(MOD(H314,2),[1]pms230!E703,[1]pms170!H703)","v":"00:00:00"},{"$f":"IF(MOD(H314,2),[1]pms230!F703,[1]pms170!F703)","v":0},{"$f":"IF(MOD(H314,2),[1]pms230!M703,[1]pms170!A703)","v":0},156]
[{"$f":"IF(MOD(H315,2),[1]pms170!D158,[1]pms230!A158)","v":"961875"},{"$f":"IF(MOD(H315,2),[1]pms170!B158,[1]pms230!B158)","v":"F0442704"},{"$f":"IF(MOD(H315,2),[1]pms170!C158,[1]pms230!C158)","v":"ENS STRUCT TABLETTE"},{"$f":"IF(MOD(H315,2),[1]pms170!G158,[1]pms230!D158)","v":"2017-02-15"},{"$f":"IF(MOD(H315,2),[1]pms170!H158,[1]pms230!E158)","v":"2017-02-16"},{"$f":"IF(MOD(H315,2),[1]pms170!F158,[1]pms230!F158)","v":"50"},{"$f":"IF(MOD(H315,2),[1]pms170!A158,[1]pms230!M158)","v":"351015"},156]
[{"$f":"IF(MOD(H316,2),[1]pms230!A704,[1]pms170!D704)","v":0},{"$f":"IF(MOD(H316,2),[1]pms230!B704,[1]pms170!B704)","v":0},{"$f":"IF(MOD(H316,2),[1]pms230!C704,[1]pms170!C704)","v":0},{"$f":"IF(MOD(H316,2),[1]pms230!D704,[1]pms170!G704)","v":"00:00:00"},{"$f":"IF(MOD(H316,2),[1]pms230!E704,[1]pms170!H704)","v":"00:00:00"},{"$f":"IF(MOD(H316,2),[1]pms230!F704,[1]pms170!F704)","v":0},{"$f":"IF(MOD(H316,2),[1]pms230!M704,[1]pms170!A704)","v":0},157]
[{"$f":"IF(MOD(H317,2),[1]pms170!D159,[1]pms230!A159)","v":"7129725"},{"$f":"IF(MOD(H317,2),[1]pms170!B159,[1]pms230!B159)","v":"J2001735"},{"$f":"IF(MOD(H317,2),[1]pms170!C159,[1]pms230!C159)","v":"SHROUD TOP OUTER"},{"$f":"IF(MOD(H317,2),[1]pms170!G159,[1]pms230!D159)","v":"2017-02-09"},{"$f":"IF(MOD(H317,2),[1]pms170!H159,[1]pms230!E159)","v":"2017-02-10"},{"$f":"IF(MOD(H317,2),[1]pms170!F159,[1]pms230!F159)","v":5},{"$f":"IF(MOD(H317,2),[1]pms170!A159,[1]pms230!M159)","v":"351010"},157]
[{"$f":"IF(MOD(H318,2),[1]pms230!A705,[1]pms170!D705)","v":0},{"$f":"IF(MOD(H318,2),[1]pms230!B705,[1]pms170!B705)","v":0},{"$f":"IF(MOD(H318,2),[1]pms230!C705,[1]pms170!C705)","v":0},{"$f":"IF(MOD(H318,2),[1]pms230!D705,[1]pms170!G705)","v":"00:00:00"},{"$f":"IF(MOD(H318,2),[1]pms230!E705,[1]pms170!H705)","v":"00:00:00"},{"$f":"IF(MOD(H318,2),[1]pms230!F705,[1]pms170!F705)","v":0},{"$f":"IF(MOD(H318,2),[1]pms230!M705,[1]pms170!A705)","v":0},158]
[{"$f":"IF(MOD(H319,2),[1]pms170!D160,[1]pms230!A160)","v":"962233"},{"$f":"IF(MOD(H319,2),[1]pms170!B160,[1]pms230!B160)","v":"F0455793"},{"$f":"IF(MOD(H319,2),[1]pms170!C160,[1]pms230!C160)","v":"ENS SUPPORT TV G"},{"$f":"IF(MOD(H319,2),[1]pms170!G160,[1]pms230!D160)","v":"2017-02-16"},{"$f":"IF(MOD(H319,2),[1]pms170!H160,[1]pms230!E160)","v":"2017-02-16"},{"$f":"IF(MOD(H319,2),[1]pms170!F160,[1]pms230!F160)","v":"10"},{"$f":"IF(MOD(H319,2),[1]pms170!A160,[1]pms230!M160)","v":"351000"},158]
[{"$f":"IF(MOD(H320,2),[1]pms230!A706,[1]pms170!D706)","v":0},{"$f":"IF(MOD(H320,2),[1]pms230!B706,[1]pms170!B706)","v":0},{"$f":"IF(MOD(H320,2),[1]pms230!C706,[1]pms170!C706)","v":0},{"$f":"IF(MOD(H320,2),[1]pms230!D706,[1]pms170!G706)","v":"00:00:00"},{"$f":"IF(MOD(H320,2),[1]pms230!E706,[1]pms170!H706)","v":"00:00:00"},{"$f":"IF(MOD(H320,2),[1]pms230!F706,[1]pms170!F706)","v":0},{"$f":"IF(MOD(H320,2),[1]pms230!M706,[1]pms170!A706)","v":0},159]
[{"$f":"IF(MOD(H321,2),[1]pms170!D161,[1]pms230!A161)","v":"7129774"},{"$f":"IF(MOD(H321,2),[1]pms170!B161,[1]pms230!B161)","v":"J2001766"},{"$f":"IF(MOD(H321,2),[1]pms170!C161,[1]pms230!C161)","v":"SHROUD TOP OUTER RH"},{"$f":"IF(MOD(H321,2),[1]pms170!G161,[1]pms230!D161)","v":"2017-02-07"},{"$f":"IF(MOD(H321,2),[1]pms170!H161,[1]pms230!E161)","v":"2017-02-07"},{"$f":"IF(MOD(H321,2),[1]pms170!F161,[1]pms230!F161)","v":11},{"$f":"IF(MOD(H321,2),[1]pms170!A161,[1]pms230!M161)","v":"351010"},159]
[{"$f":"IF(MOD(H322,2),[1]pms230!A707,[1]pms170!D707)","v":0},{"$f":"IF(MOD(H322,2),[1]pms230!B707,[1]pms170!B707)","v":0},{"$f":"IF(MOD(H322,2),[1]pms230!C707,[1]pms170!C707)","v":0},{"$f":"IF(MOD(H322,2),[1]pms230!D707,[1]pms170!G707)","v":"00:00:00"},{"$f":"IF(MOD(H322,2),[1]pms230!E707,[1]pms170!H707)","v":"00:00:00"},{"$f":"IF(MOD(H322,2),[1]pms230!F707,[1]pms170!F707)","v":0},{"$f":"IF(MOD(H322,2),[1]pms230!M707,[1]pms170!A707)","v":0},160]
[{"$f":"IF(MOD(H323,2),[1]pms170!D162,[1]pms230!A162)","v":"961506"},{"$f":"IF(MOD(H323,2),[1]pms170!B162,[1]pms230!B162)","v":"F0440200"},{"$f":"IF(MOD(H323,2),[1]pms170!C162,[1]pms230!C162)","v":"TABLETTE COCKTAIL G"},{"$f":"IF(MOD(H323,2),[1]pms170!G162,[1]pms230!D162)","v":"2017-02-16"},{"$f":"IF(MOD(H323,2),[1]pms170!H162,[1]pms230!E162)","v":"2017-02-16"},{"$f":"IF(MOD(H323,2),[1]pms170!F162,[1]pms230!F162)","v":"10"},{"$f":"IF(MOD(H323,2),[1]pms170!A162,[1]pms230!M162)","v":"351000"},160]
[{"$f":"IF(MOD(H324,2),[1]pms230!A708,[1]pms170!D708)","v":0},{"$f":"IF(MOD(H324,2),[1]pms230!B708,[1]pms170!B708)","v":0},{"$f":"IF(MOD(H324,2),[1]pms230!C708,[1]pms170!C708)","v":0},{"$f":"IF(MOD(H324,2),[1]pms230!D708,[1]pms170!G708)","v":"00:00:00"},{"$f":"IF(MOD(H324,2),[1]pms230!E708,[1]pms170!H708)","v":"00:00:00"},{"$f":"IF(MOD(H324,2),[1]pms230!F708,[1]pms170!F708)","v":0},{"$f":"IF(MOD(H324,2),[1]pms230!M708,[1]pms170!A708)","v":0},161]
[{"$f":"IF(MOD(H325,2),[1]pms170!D163,[1]pms230!A163)","v":"6870318"},{"$f":"IF(MOD(H325,2),[1]pms170!B163,[1]pms230!B163)","v":"J2001783"},{"$f":"IF(MOD(H325,2),[1]pms170!C163,[1]pms230!C163)","v":"SHROUD MID TOP OUTER RH"},{"$f":"IF(MOD(H325,2),[1]pms170!G163,[1]pms230!D163)","v":"2017-02-10"},{"$f":"IF(MOD(H325,2),[1]pms170!H163,[1]pms230!E163)","v":"2017-02-11"},{"$f":"IF(MOD(H325,2),[1]pms170!F163,[1]pms230!F163)","v":5},{"$f":"IF(MOD(H325,2),[1]pms170!A163,[1]pms230!M163)","v":"351010"},161]
[{"$f":"IF(MOD(H326,2),[1]pms230!A709,[1]pms170!D709)","v":0},{"$f":"IF(MOD(H326,2),[1]pms230!B709,[1]pms170!B709)","v":0},{"$f":"IF(MOD(H326,2),[1]pms230!C709,[1]pms170!C709)","v":0},{"$f":"IF(MOD(H326,2),[1]pms230!D709,[1]pms170!G709)","v":"00:00:00"},{"$f":"IF(MOD(H326,2),[1]pms230!E709,[1]pms170!H709)","v":"00:00:00"},{"$f":"IF(MOD(H326,2),[1]pms230!F709,[1]pms170!F709)","v":0},{"$f":"IF(MOD(H326,2),[1]pms230!M709,[1]pms170!A709)","v":0},162]
[{"$f":"IF(MOD(H327,2),[1]pms170!D164,[1]pms230!A164)","v":"959190"},{"$f":"IF(MOD(H327,2),[1]pms170!B164,[1]pms230!B164)","v":"F0494919"},{"$f":"IF(MOD(H327,2),[1]pms170!C164,[1]pms230!C164)","v":"ENS TABLETTE DORSALE"},{"$f":"IF(MOD(H327,2),[1]pms170!G164,[1]pms230!D164)","v":"2017-02-16"},{"$f":"IF(MOD(H327,2),[1]pms170!H164,[1]pms230!E164)","v":"2017-02-16"},{"$f":"IF(MOD(H327,2),[1]pms170!F164,[1]pms230!F164)","v":"4"},{"$f":"IF(MOD(H327,2),[1]pms170!A164,[1]pms230!M164)","v":"351010"},162]
[{"$f":"IF(MOD(H328,2),[1]pms230!A710,[1]pms170!D710)","v":0},{"$f":"IF(MOD(H328,2),[1]pms230!B710,[1]pms170!B710)","v":0},{"$f":"IF(MOD(H328,2),[1]pms230!C710,[1]pms170!C710)","v":0},{"$f":"IF(MOD(H328,2),[1]pms230!D710,[1]pms170!G710)","v":"00:00:00"},{"$f":"IF(MOD(H328,2),[1]pms230!E710,[1]pms170!H710)","v":"00:00:00"},{"$f":"IF(MOD(H328,2),[1]pms230!F710,[1]pms170!F710)","v":0},{"$f":"IF(MOD(H328,2),[1]pms230!M710,[1]pms170!A710)","v":0},163]
[{"$f":"IF(MOD(H329,2),[1]pms170!D165,[1]pms230!A165)","v":"7123874"},{"$f":"IF(MOD(H329,2),[1]pms170!B165,[1]pms230!B165)","v":"J2001901"},{"$f":"IF(MOD(H329,2),[1]pms170!C165,[1]pms230!C165)","v":"SHROUD TOP OUTER DOUBLER"},{"$f":"IF(MOD(H329,2),[1]pms170!G165,[1]pms230!D165)","v":"2017-01-31"},{"$f":"IF(MOD(H329,2),[1]pms170!H165,[1]pms230!E165)","v":"2017-01-31"},{"$f":"IF(MOD(H329,2),[1]pms170!F165,[1]pms230!F165)","v":2},{"$f":"IF(MOD(H329,2),[1]pms170!A165,[1]pms230!M165)","v":"351010"},163]
[{"$f":"IF(MOD(H330,2),[1]pms230!A711,[1]pms170!D711)","v":0},{"$f":"IF(MOD(H330,2),[1]pms230!B711,[1]pms170!B711)","v":0},{"$f":"IF(MOD(H330,2),[1]pms230!C711,[1]pms170!C711)","v":0},{"$f":"IF(MOD(H330,2),[1]pms230!D711,[1]pms170!G711)","v":"00:00:00"},{"$f":"IF(MOD(H330,2),[1]pms230!E711,[1]pms170!H711)","v":"00:00:00"},{"$f":"IF(MOD(H330,2),[1]pms230!F711,[1]pms170!F711)","v":0},{"$f":"IF(MOD(H330,2),[1]pms230!M711,[1]pms170!A711)","v":0},164]
[{"$f":"IF(MOD(H331,2),[1]pms170!D166,[1]pms230!A166)","v":"962105"},{"$f":"IF(MOD(H331,2),[1]pms170!B166,[1]pms230!B166)","v":"F0472069"},{"$f":"IF(MOD(H331,2),[1]pms170!C166,[1]pms230!C166)","v":"JONC  LOGEMENT VIDEO"},{"$f":"IF(MOD(H331,2),[1]pms170!G166,[1]pms230!D166)","v":"2017-02-16"},{"$f":"IF(MOD(H331,2),[1]pms170!H166,[1]pms230!E166)","v":"2017-02-16"},{"$f":"IF(MOD(H331,2),[1]pms170!F166,[1]pms230!F166)","v":"32"},{"$f":"IF(MOD(H331,2),[1]pms170!A166,[1]pms230!M166)","v":"351010"},164]
[{"$f":"IF(MOD(H332,2),[1]pms230!A712,[1]pms170!D712)","v":0},{"$f":"IF(MOD(H332,2),[1]pms230!B712,[1]pms170!B712)","v":0},{"$f":"IF(MOD(H332,2),[1]pms230!C712,[1]pms170!C712)","v":0},{"$f":"IF(MOD(H332,2),[1]pms230!D712,[1]pms170!G712)","v":"00:00:00"},{"$f":"IF(MOD(H332,2),[1]pms230!E712,[1]pms170!H712)","v":"00:00:00"},{"$f":"IF(MOD(H332,2),[1]pms230!F712,[1]pms170!F712)","v":0},{"$f":"IF(MOD(H332,2),[1]pms230!M712,[1]pms170!A712)","v":0},165]
[{"$f":"IF(MOD(H333,2),[1]pms170!D167,[1]pms230!A167)","v":"7124309"},{"$f":"IF(MOD(H333,2),[1]pms170!B167,[1]pms230!B167)","v":"F0431968"},{"$f":"IF(MOD(H333,2),[1]pms170!C167,[1]pms230!C167)","v":"ENS STRUCT TAB IAT EXT"},{"$f":"IF(MOD(H333,2),[1]pms170!G167,[1]pms230!D167)","v":"2017-02-07"},{"$f":"IF(MOD(H333,2),[1]pms170!H167,[1]pms230!E167)","v":"2017-02-07"},{"$f":"IF(MOD(H333,2),[1]pms170!F167,[1]pms230!F167)","v":4},{"$f":"IF(MOD(H333,2),[1]pms170!A167,[1]pms230!M167)","v":"351015"},165]
[{"$f":"IF(MOD(H334,2),[1]pms230!A713,[1]pms170!D713)","v":0},{"$f":"IF(MOD(H334,2),[1]pms230!B713,[1]pms170!B713)","v":0},{"$f":"IF(MOD(H334,2),[1]pms230!C713,[1]pms170!C713)","v":0},{"$f":"IF(MOD(H334,2),[1]pms230!D713,[1]pms170!G713)","v":"00:00:00"},{"$f":"IF(MOD(H334,2),[1]pms230!E713,[1]pms170!H713)","v":"00:00:00"},{"$f":"IF(MOD(H334,2),[1]pms230!F713,[1]pms170!F713)","v":0},{"$f":"IF(MOD(H334,2),[1]pms230!M713,[1]pms170!A713)","v":0},166]
[{"$f":"IF(MOD(H335,2),[1]pms170!D168,[1]pms230!A168)","v":"959068"},{"$f":"IF(MOD(H335,2),[1]pms170!B168,[1]pms230!B168)","v":"F0503856"},{"$f":"IF(MOD(H335,2),[1]pms170!C168,[1]pms230!C168)","v":"ENS TABLETTE DORSALE"},{"$f":"IF(MOD(H335,2),[1]pms170!G168,[1]pms230!D168)","v":"2017-02-17"},{"$f":"IF(MOD(H335,2),[1]pms170!H168,[1]pms230!E168)","v":"2017-02-17"},{"$f":"IF(MOD(H335,2),[1]pms170!F168,[1]pms230!F168)","v":"52"},{"$f":"IF(MOD(H335,2),[1]pms170!A168,[1]pms230!M168)","v":"351000"},166]
[{"$f":"IF(MOD(H336,2),[1]pms230!A714,[1]pms170!D714)","v":0},{"$f":"IF(MOD(H336,2),[1]pms230!B714,[1]pms170!B714)","v":0},{"$f":"IF(MOD(H336,2),[1]pms230!C714,[1]pms170!C714)","v":0},{"$f":"IF(MOD(H336,2),[1]pms230!D714,[1]pms170!G714)","v":"00:00:00"},{"$f":"IF(MOD(H336,2),[1]pms230!E714,[1]pms170!H714)","v":"00:00:00"},{"$f":"IF(MOD(H336,2),[1]pms230!F714,[1]pms170!F714)","v":0},{"$f":"IF(MOD(H336,2),[1]pms230!M714,[1]pms170!A714)","v":0},167]
[{"$f":"IF(MOD(H337,2),[1]pms170!D169,[1]pms230!A169)","v":"7098891"},{"$f":"IF(MOD(H337,2),[1]pms170!B169,[1]pms230!B169)","v":"F0442631"},{"$f":"IF(MOD(H337,2),[1]pms170!C169,[1]pms230!C169)","v":"ENS TABLETTE DORSALE 18\"1"},{"$f":"IF(MOD(H337,2),[1]pms170!G169,[1]pms230!D169)","v":"2017-02-02"},{"$f":"IF(MOD(H337,2),[1]pms170!H169,[1]pms230!E169)","v":"2017-02-06"},{"$f":"IF(MOD(H337,2),[1]pms170!F169,[1]pms230!F169)","v":7},{"$f":"IF(MOD(H337,2),[1]pms170!A169,[1]pms230!M169)","v":"351015"},167]
[{"$f":"IF(MOD(H338,2),[1]pms230!A715,[1]pms170!D715)","v":0},{"$f":"IF(MOD(H338,2),[1]pms230!B715,[1]pms170!B715)","v":0},{"$f":"IF(MOD(H338,2),[1]pms230!C715,[1]pms170!C715)","v":0},{"$f":"IF(MOD(H338,2),[1]pms230!D715,[1]pms170!G715)","v":"00:00:00"},{"$f":"IF(MOD(H338,2),[1]pms230!E715,[1]pms170!H715)","v":"00:00:00"},{"$f":"IF(MOD(H338,2),[1]pms230!F715,[1]pms170!F715)","v":0},{"$f":"IF(MOD(H338,2),[1]pms230!M715,[1]pms170!A715)","v":0},168]
[{"$f":"IF(MOD(H339,2),[1]pms170!D170,[1]pms230!A170)","v":"960909"},{"$f":"IF(MOD(H339,2),[1]pms170!B170,[1]pms230!B170)","v":"F0503856"},{"$f":"IF(MOD(H339,2),[1]pms170!C170,[1]pms230!C170)","v":"ENS TABLETTE DORSALE"},{"$f":"IF(MOD(H339,2),[1]pms170!G170,[1]pms230!D170)","v":"2017-02-17"},{"$f":"IF(MOD(H339,2),[1]pms170!H170,[1]pms230!E170)","v":"2017-02-17"},{"$f":"IF(MOD(H339,2),[1]pms170!F170,[1]pms230!F170)","v":"52"},{"$f":"IF(MOD(H339,2),[1]pms170!A170,[1]pms230!M170)","v":"351000"},168]
[{"$f":"IF(MOD(H340,2),[1]pms230!A716,[1]pms170!D716)","v":0},{"$f":"IF(MOD(H340,2),[1]pms230!B716,[1]pms170!B716)","v":0},{"$f":"IF(MOD(H340,2),[1]pms230!C716,[1]pms170!C716)","v":0},{"$f":"IF(MOD(H340,2),[1]pms230!D716,[1]pms170!G716)","v":"00:00:00"},{"$f":"IF(MOD(H340,2),[1]pms230!E716,[1]pms170!H716)","v":"00:00:00"},{"$f":"IF(MOD(H340,2),[1]pms230!F716,[1]pms170!F716)","v":0},{"$f":"IF(MOD(H340,2),[1]pms230!M716,[1]pms170!A716)","v":0},169]
[{"$f":"IF(MOD(H341,2),[1]pms170!D171,[1]pms230!A171)","v":"6889290"},{"$f":"IF(MOD(H341,2),[1]pms170!B171,[1]pms230!B171)","v":"F0442705"},{"$f":"IF(MOD(H341,2),[1]pms170!C171,[1]pms230!C171)","v":"ENS STRUCT TABLETTE"},{"$f":"IF(MOD(H341,2),[1]pms170!G171,[1]pms230!D171)","v":"2017-02-10"},{"$f":"IF(MOD(H341,2),[1]pms170!H171,[1]pms230!E171)","v":"2017-02-11"},{"$f":"IF(MOD(H341,2),[1]pms170!F171,[1]pms230!F171)","v":1},{"$f":"IF(MOD(H341,2),[1]pms170!A171,[1]pms230!M171)","v":"351015"},169]
[{"$f":"IF(MOD(H342,2),[1]pms230!A717,[1]pms170!D717)","v":0},{"$f":"IF(MOD(H342,2),[1]pms230!B717,[1]pms170!B717)","v":0},{"$f":"IF(MOD(H342,2),[1]pms230!C717,[1]pms170!C717)","v":0},{"$f":"IF(MOD(H342,2),[1]pms230!D717,[1]pms170!G717)","v":"00:00:00"},{"$f":"IF(MOD(H342,2),[1]pms230!E717,[1]pms170!H717)","v":"00:00:00"},{"$f":"IF(MOD(H342,2),[1]pms230!F717,[1]pms170!F717)","v":0},{"$f":"IF(MOD(H342,2),[1]pms230!M717,[1]pms170!A717)","v":0},170]
[{"$f":"IF(MOD(H343,2),[1]pms170!D172,[1]pms230!A172)","v":"961955"},{"$f":"IF(MOD(H343,2),[1]pms170!B172,[1]pms230!B172)","v":"J2002123"},{"$f":"IF(MOD(H343,2),[1]pms170!C172,[1]pms230!C172)","v":"FOOTWELL LINER ASSY"},{"$f":"IF(MOD(H343,2),[1]pms170!G172,[1]pms230!D172)","v":"2017-02-17"},{"$f":"IF(MOD(H343,2),[1]pms170!H172,[1]pms230!E172)","v":"2017-02-17"},{"$f":"IF(MOD(H343,2),[1]pms170!F172,[1]pms230!F172)","v":"10"},{"$f":"IF(MOD(H343,2),[1]pms170!A172,[1]pms230!M172)","v":"351020"},170]
[{"$f":"IF(MOD(H344,2),[1]pms230!A718,[1]pms170!D718)","v":0},{"$f":"IF(MOD(H344,2),[1]pms230!B718,[1]pms170!B718)","v":0},{"$f":"IF(MOD(H344,2),[1]pms230!C718,[1]pms170!C718)","v":0},{"$f":"IF(MOD(H344,2),[1]pms230!D718,[1]pms170!G718)","v":"00:00:00"},{"$f":"IF(MOD(H344,2),[1]pms230!E718,[1]pms170!H718)","v":"00:00:00"},{"$f":"IF(MOD(H344,2),[1]pms230!F718,[1]pms170!F718)","v":0},{"$f":"IF(MOD(H344,2),[1]pms230!M718,[1]pms170!A718)","v":0},171]
[{"$f":"IF(MOD(H345,2),[1]pms170!D173,[1]pms230!A173)","v":"7232639"},{"$f":"IF(MOD(H345,2),[1]pms170!B173,[1]pms230!B173)","v":"F0452617"},{"$f":"IF(MOD(H345,2),[1]pms170!C173,[1]pms230!C173)","v":"REMPLISSAGE TABLETTE"},{"$f":"IF(MOD(H345,2),[1]pms170!G173,[1]pms230!D173)","v":"2017-02-08"},{"$f":"IF(MOD(H345,2),[1]pms170!H173,[1]pms230!E173)","v":"2017-02-08"},{"$f":"IF(MOD(H345,2),[1]pms170!F173,[1]pms230!F173)","v":50},{"$f":"IF(MOD(H345,2),[1]pms170!A173,[1]pms230!M173)","v":"351015"},171]
[{"$f":"IF(MOD(H346,2),[1]pms230!A719,[1]pms170!D719)","v":0},{"$f":"IF(MOD(H346,2),[1]pms230!B719,[1]pms170!B719)","v":0},{"$f":"IF(MOD(H346,2),[1]pms230!C719,[1]pms170!C719)","v":0},{"$f":"IF(MOD(H346,2),[1]pms230!D719,[1]pms170!G719)","v":"00:00:00"},{"$f":"IF(MOD(H346,2),[1]pms230!E719,[1]pms170!H719)","v":"00:00:00"},{"$f":"IF(MOD(H346,2),[1]pms230!F719,[1]pms170!F719)","v":0},{"$f":"IF(MOD(H346,2),[1]pms230!M719,[1]pms170!A719)","v":0},172]
[{"$f":"IF(MOD(H347,2),[1]pms170!D174,[1]pms230!A174)","v":"962257"},{"$f":"IF(MOD(H347,2),[1]pms170!B174,[1]pms230!B174)","v":"J2000145"},{"$f":"IF(MOD(H347,2),[1]pms170!C174,[1]pms230!C174)","v":"PANEL BACKSHELL STIF"},{"$f":"IF(MOD(H347,2),[1]pms170!G174,[1]pms230!D174)","v":"2017-02-17"},{"$f":"IF(MOD(H347,2),[1]pms170!H174,[1]pms230!E174)","v":"2017-02-17"},{"$f":"IF(MOD(H347,2),[1]pms170!F174,[1]pms230!F174)","v":"17"},{"$f":"IF(MOD(H347,2),[1]pms170!A174,[1]pms230!M174)","v":"351020"},172]
[{"$f":"IF(MOD(H348,2),[1]pms230!A720,[1]pms170!D720)","v":0},{"$f":"IF(MOD(H348,2),[1]pms230!B720,[1]pms170!B720)","v":0},{"$f":"IF(MOD(H348,2),[1]pms230!C720,[1]pms170!C720)","v":0},{"$f":"IF(MOD(H348,2),[1]pms230!D720,[1]pms170!G720)","v":"00:00:00"},{"$f":"IF(MOD(H348,2),[1]pms230!E720,[1]pms170!H720)","v":"00:00:00"},{"$f":"IF(MOD(H348,2),[1]pms230!F720,[1]pms170!F720)","v":0},{"$f":"IF(MOD(H348,2),[1]pms230!M720,[1]pms170!A720)","v":0},173]
[{"$f":"IF(MOD(H349,2),[1]pms170!D175,[1]pms230!A175)","v":"7017474"},{"$f":"IF(MOD(H349,2),[1]pms170!B175,[1]pms230!B175)","v":"F0458236"},{"$f":"IF(MOD(H349,2),[1]pms170!C175,[1]pms230!C175)","v":"MOUSSE TABLETTE"},{"$f":"IF(MOD(H349,2),[1]pms170!G175,[1]pms230!D175)","v":"2017-02-07"},{"$f":"IF(MOD(H349,2),[1]pms170!H175,[1]pms230!E175)","v":"2017-02-07"},{"$f":"IF(MOD(H349,2),[1]pms170!F175,[1]pms230!F175)","v":50},{"$f":"IF(MOD(H349,2),[1]pms170!A175,[1]pms230!M175)","v":"351015"},173]
[{"$f":"IF(MOD(H350,2),[1]pms230!A721,[1]pms170!D721)","v":0},{"$f":"IF(MOD(H350,2),[1]pms230!B721,[1]pms170!B721)","v":0},{"$f":"IF(MOD(H350,2),[1]pms230!C721,[1]pms170!C721)","v":0},{"$f":"IF(MOD(H350,2),[1]pms230!D721,[1]pms170!G721)","v":"00:00:00"},{"$f":"IF(MOD(H350,2),[1]pms230!E721,[1]pms170!H721)","v":"00:00:00"},{"$f":"IF(MOD(H350,2),[1]pms230!F721,[1]pms170!F721)","v":0},{"$f":"IF(MOD(H350,2),[1]pms230!M721,[1]pms170!A721)","v":0},174]
[{"$f":"IF(MOD(H351,2),[1]pms170!D176,[1]pms230!A176)","v":"954853"},{"$f":"IF(MOD(H351,2),[1]pms170!B176,[1]pms230!B176)","v":"F0508972"},{"$f":"IF(MOD(H351,2),[1]pms170!C176,[1]pms230!C176)","v":"ENS RENFORT KICK PAN"},{"$f":"IF(MOD(H351,2),[1]pms170!G176,[1]pms230!D176)","v":"2017-02-17"},{"$f":"IF(MOD(H351,2),[1]pms170!H176,[1]pms230!E176)","v":"2017-02-17"},{"$f":"IF(MOD(H351,2),[1]pms170!F176,[1]pms230!F176)","v":"51"},{"$f":"IF(MOD(H351,2),[1]pms170!A176,[1]pms230!M176)","v":"351010"},174]
[{"$f":"IF(MOD(H352,2),[1]pms230!A722,[1]pms170!D722)","v":0},{"$f":"IF(MOD(H352,2),[1]pms230!B722,[1]pms170!B722)","v":0},{"$f":"IF(MOD(H352,2),[1]pms230!C722,[1]pms170!C722)","v":0},{"$f":"IF(MOD(H352,2),[1]pms230!D722,[1]pms170!G722)","v":"00:00:00"},{"$f":"IF(MOD(H352,2),[1]pms230!E722,[1]pms170!H722)","v":"00:00:00"},{"$f":"IF(MOD(H352,2),[1]pms230!F722,[1]pms170!F722)","v":0},{"$f":"IF(MOD(H352,2),[1]pms230!M722,[1]pms170!A722)","v":0},175]
[{"$f":"IF(MOD(H353,2),[1]pms170!D177,[1]pms230!A177)","v":"7067963"},{"$f":"IF(MOD(H353,2),[1]pms170!B177,[1]pms230!B177)","v":"F0458236"},{"$f":"IF(MOD(H353,2),[1]pms170!C177,[1]pms230!C177)","v":"MOUSSE TABLETTE"},{"$f":"IF(MOD(H353,2),[1]pms170!G177,[1]pms230!D177)","v":"2017-02-07"},{"$f":"IF(MOD(H353,2),[1]pms170!H177,[1]pms230!E177)","v":"2017-02-07"},{"$f":"IF(MOD(H353,2),[1]pms170!F177,[1]pms230!F177)","v":50},{"$f":"IF(MOD(H353,2),[1]pms170!A177,[1]pms230!M177)","v":"351015"},175]
[{"$f":"IF(MOD(H354,2),[1]pms230!A723,[1]pms170!D723)","v":0},{"$f":"IF(MOD(H354,2),[1]pms230!B723,[1]pms170!B723)","v":0},{"$f":"IF(MOD(H354,2),[1]pms230!C723,[1]pms170!C723)","v":0},{"$f":"IF(MOD(H354,2),[1]pms230!D723,[1]pms170!G723)","v":"00:00:00"},{"$f":"IF(MOD(H354,2),[1]pms230!E723,[1]pms170!H723)","v":"00:00:00"},{"$f":"IF(MOD(H354,2),[1]pms230!F723,[1]pms170!F723)","v":0},{"$f":"IF(MOD(H354,2),[1]pms230!M723,[1]pms170!A723)","v":0},176]
[{"$f":"IF(MOD(H355,2),[1]pms170!D178,[1]pms230!A178)","v":"954856"},{"$f":"IF(MOD(H355,2),[1]pms170!B178,[1]pms230!B178)","v":"F0508972"},{"$f":"IF(MOD(H355,2),[1]pms170!C178,[1]pms230!C178)","v":"ENS RENFORT KICK PAN"},{"$f":"IF(MOD(H355,2),[1]pms170!G178,[1]pms230!D178)","v":"2017-02-17"},{"$f":"IF(MOD(H355,2),[1]pms170!H178,[1]pms230!E178)","v":"2017-02-17"},{"$f":"IF(MOD(H355,2),[1]pms170!F178,[1]pms230!F178)","v":"51"},{"$f":"IF(MOD(H355,2),[1]pms170!A178,[1]pms230!M178)","v":"351010"},176]
[{"$f":"IF(MOD(H356,2),[1]pms230!A724,[1]pms170!D724)","v":0},{"$f":"IF(MOD(H356,2),[1]pms230!B724,[1]pms170!B724)","v":0},{"$f":"IF(MOD(H356,2),[1]pms230!C724,[1]pms170!C724)","v":0},{"$f":"IF(MOD(H356,2),[1]pms230!D724,[1]pms170!G724)","v":"00:00:00"},{"$f":"IF(MOD(H356,2),[1]pms230!E724,[1]pms170!H724)","v":"00:00:00"},{"$f":"IF(MOD(H356,2),[1]pms230!F724,[1]pms170!F724)","v":0},{"$f":"IF(MOD(H356,2),[1]pms230!M724,[1]pms170!A724)","v":0},177]
[{"$f":"IF(MOD(H357,2),[1]pms170!D179,[1]pms230!A179)","v":"7067965"},{"$f":"IF(MOD(H357,2),[1]pms170!B179,[1]pms230!B179)","v":"F0458236"},{"$f":"IF(MOD(H357,2),[1]pms170!C179,[1]pms230!C179)","v":"MOUSSE TABLETTE"},{"$f":"IF(MOD(H357,2),[1]pms170!G179,[1]pms230!D179)","v":"2017-02-07"},{"$f":"IF(MOD(H357,2),[1]pms170!H179,[1]pms230!E179)","v":"2017-02-07"},{"$f":"IF(MOD(H357,2),[1]pms170!F179,[1]pms230!F179)","v":50},{"$f":"IF(MOD(H357,2),[1]pms170!A179,[1]pms230!M179)","v":"351015"},177]
[{"$f":"IF(MOD(H358,2),[1]pms230!A725,[1]pms170!D725)","v":0},{"$f":"IF(MOD(H358,2),[1]pms230!B725,[1]pms170!B725)","v":0},{"$f":"IF(MOD(H358,2),[1]pms230!C725,[1]pms170!C725)","v":0},{"$f":"IF(MOD(H358,2),[1]pms230!D725,[1]pms170!G725)","v":"00:00:00"},{"$f":"IF(MOD(H358,2),[1]pms230!E725,[1]pms170!H725)","v":"00:00:00"},{"$f":"IF(MOD(H358,2),[1]pms230!F725,[1]pms170!F725)","v":0},{"$f":"IF(MOD(H358,2),[1]pms230!M725,[1]pms170!A725)","v":0},178]
[{"$f":"IF(MOD(H359,2),[1]pms170!D180,[1]pms230!A180)","v":"954858"},{"$f":"IF(MOD(H359,2),[1]pms170!B180,[1]pms230!B180)","v":"F0508972"},{"$f":"IF(MOD(H359,2),[1]pms170!C180,[1]pms230!C180)","v":"ENS RENFORT KICK PAN"},{"$f":"IF(MOD(H359,2),[1]pms170!G180,[1]pms230!D180)","v":"2017-02-17"},{"$f":"IF(MOD(H359,2),[1]pms170!H180,[1]pms230!E180)","v":"2017-02-17"},{"$f":"IF(MOD(H359,2),[1]pms170!F180,[1]pms230!F180)","v":"51"},{"$f":"IF(MOD(H359,2),[1]pms170!A180,[1]pms230!M180)","v":"351010"},178]
[{"$f":"IF(MOD(H360,2),[1]pms230!A726,[1]pms170!D726)","v":0},{"$f":"IF(MOD(H360,2),[1]pms230!B726,[1]pms170!B726)","v":0},{"$f":"IF(MOD(H360,2),[1]pms230!C726,[1]pms170!C726)","v":0},{"$f":"IF(MOD(H360,2),[1]pms230!D726,[1]pms170!G726)","v":"00:00:00"},{"$f":"IF(MOD(H360,2),[1]pms230!E726,[1]pms170!H726)","v":"00:00:00"},{"$f":"IF(MOD(H360,2),[1]pms230!F726,[1]pms170!F726)","v":0},{"$f":"IF(MOD(H360,2),[1]pms230!M726,[1]pms170!A726)","v":0},179]
[{"$f":"IF(MOD(H361,2),[1]pms170!D181,[1]pms230!A181)","v":"7067967"},{"$f":"IF(MOD(H361,2),[1]pms170!B181,[1]pms230!B181)","v":"F0458236"},{"$f":"IF(MOD(H361,2),[1]pms170!C181,[1]pms230!C181)","v":"MOUSSE TABLETTE"},{"$f":"IF(MOD(H361,2),[1]pms170!G181,[1]pms230!D181)","v":"2017-02-07"},{"$f":"IF(MOD(H361,2),[1]pms170!H181,[1]pms230!E181)","v":"2017-02-07"},{"$f":"IF(MOD(H361,2),[1]pms170!F181,[1]pms230!F181)","v":50},{"$f":"IF(MOD(H361,2),[1]pms170!A181,[1]pms230!M181)","v":"351015"},179]
[{"$f":"IF(MOD(H362,2),[1]pms230!A727,[1]pms170!D727)","v":0},{"$f":"IF(MOD(H362,2),[1]pms230!B727,[1]pms170!B727)","v":0},{"$f":"IF(MOD(H362,2),[1]pms230!C727,[1]pms170!C727)","v":0},{"$f":"IF(MOD(H362,2),[1]pms230!D727,[1]pms170!G727)","v":"00:00:00"},{"$f":"IF(MOD(H362,2),[1]pms230!E727,[1]pms170!H727)","v":"00:00:00"},{"$f":"IF(MOD(H362,2),[1]pms230!F727,[1]pms170!F727)","v":0},{"$f":"IF(MOD(H362,2),[1]pms230!M727,[1]pms170!A727)","v":0},180]
[{"$f":"IF(MOD(H363,2),[1]pms170!D182,[1]pms230!A182)","v":"950038"},{"$f":"IF(MOD(H363,2),[1]pms170!B182,[1]pms230!B182)","v":"F0509487"},{"$f":"IF(MOD(H363,2),[1]pms170!C182,[1]pms230!C182)","v":"ENS TABLETTE DORSALE"},{"$f":"IF(MOD(H363,2),[1]pms170!G182,[1]pms230!D182)","v":"2017-02-20"},{"$f":"IF(MOD(H363,2),[1]pms170!H182,[1]pms230!E182)","v":"2017-02-20"},{"$f":"IF(MOD(H363,2),[1]pms170!F182,[1]pms230!F182)","v":"50"},{"$f":"IF(MOD(H363,2),[1]pms170!A182,[1]pms230!M182)","v":"351000"},180]
[{"$f":"IF(MOD(H364,2),[1]pms230!A728,[1]pms170!D728)","v":0},{"$f":"IF(MOD(H364,2),[1]pms230!B728,[1]pms170!B728)","v":0},{"$f":"IF(MOD(H364,2),[1]pms230!C728,[1]pms170!C728)","v":0},{"$f":"IF(MOD(H364,2),[1]pms230!D728,[1]pms170!G728)","v":"00:00:00"},{"$f":"IF(MOD(H364,2),[1]pms230!E728,[1]pms170!H728)","v":"00:00:00"},{"$f":"IF(MOD(H364,2),[1]pms230!F728,[1]pms170!F728)","v":0},{"$f":"IF(MOD(H364,2),[1]pms230!M728,[1]pms170!A728)","v":0},181]
[{"$f":"IF(MOD(H365,2),[1]pms170!D183,[1]pms230!A183)","v":"6762983"},{"$f":"IF(MOD(H365,2),[1]pms170!B183,[1]pms230!B183)","v":"F0465467"},{"$f":"IF(MOD(H365,2),[1]pms170!C183,[1]pms230!C183)","v":"ENS REMP. TAB DORSALE 17\"2"},{"$f":"IF(MOD(H365,2),[1]pms170!G183,[1]pms230!D183)","v":"2017-02-10"},{"$f":"IF(MOD(H365,2),[1]pms170!H183,[1]pms230!E183)","v":"2017-02-10"},{"$f":"IF(MOD(H365,2),[1]pms170!F183,[1]pms230!F183)","v":2},{"$f":"IF(MOD(H365,2),[1]pms170!A183,[1]pms230!M183)","v":"351015"},181]
[{"$f":"IF(MOD(H366,2),[1]pms230!A729,[1]pms170!D729)","v":0},{"$f":"IF(MOD(H366,2),[1]pms230!B729,[1]pms170!B729)","v":0},{"$f":"IF(MOD(H366,2),[1]pms230!C729,[1]pms170!C729)","v":0},{"$f":"IF(MOD(H366,2),[1]pms230!D729,[1]pms170!G729)","v":"00:00:00"},{"$f":"IF(MOD(H366,2),[1]pms230!E729,[1]pms170!H729)","v":"00:00:00"},{"$f":"IF(MOD(H366,2),[1]pms230!F729,[1]pms170!F729)","v":0},{"$f":"IF(MOD(H366,2),[1]pms230!M729,[1]pms170!A729)","v":0},182]
[{"$f":"IF(MOD(H367,2),[1]pms170!D184,[1]pms230!A184)","v":"961553"},{"$f":"IF(MOD(H367,2),[1]pms170!B184,[1]pms230!B184)","v":"F0484101"},{"$f":"IF(MOD(H367,2),[1]pms170!C184,[1]pms230!C184)","v":"CAPOT DOSSIER"},{"$f":"IF(MOD(H367,2),[1]pms170!G184,[1]pms230!D184)","v":"2017-02-20"},{"$f":"IF(MOD(H367,2),[1]pms170!H184,[1]pms230!E184)","v":"2017-02-20"},{"$f":"IF(MOD(H367,2),[1]pms170!F184,[1]pms230!F184)","v":"22"},{"$f":"IF(MOD(H367,2),[1]pms170!A184,[1]pms230!M184)","v":"351010"},182]
[{"$f":"IF(MOD(H368,2),[1]pms230!A730,[1]pms170!D730)","v":0},{"$f":"IF(MOD(H368,2),[1]pms230!B730,[1]pms170!B730)","v":0},{"$f":"IF(MOD(H368,2),[1]pms230!C730,[1]pms170!C730)","v":0},{"$f":"IF(MOD(H368,2),[1]pms230!D730,[1]pms170!G730)","v":"00:00:00"},{"$f":"IF(MOD(H368,2),[1]pms230!E730,[1]pms170!H730)","v":"00:00:00"},{"$f":"IF(MOD(H368,2),[1]pms230!F730,[1]pms170!F730)","v":0},{"$f":"IF(MOD(H368,2),[1]pms230!M730,[1]pms170!A730)","v":0},183]
[{"$f":"IF(MOD(H369,2),[1]pms170!D185,[1]pms230!A185)","v":"6765823"},{"$f":"IF(MOD(H369,2),[1]pms170!B185,[1]pms230!B185)","v":"F0484040"},{"$f":"IF(MOD(H369,2),[1]pms170!C185,[1]pms230!C185)","v":"ENS REMPLISSAGE TABLETTE STD"},{"$f":"IF(MOD(H369,2),[1]pms170!G185,[1]pms230!D185)","v":"2017-02-03"},{"$f":"IF(MOD(H369,2),[1]pms170!H185,[1]pms230!E185)","v":"2017-02-06"},{"$f":"IF(MOD(H369,2),[1]pms170!F185,[1]pms230!F185)","v":50},{"$f":"IF(MOD(H369,2),[1]pms170!A185,[1]pms230!M185)","v":"351015"},183]
[{"$f":"IF(MOD(H370,2),[1]pms230!A731,[1]pms170!D731)","v":0},{"$f":"IF(MOD(H370,2),[1]pms230!B731,[1]pms170!B731)","v":0},{"$f":"IF(MOD(H370,2),[1]pms230!C731,[1]pms170!C731)","v":0},{"$f":"IF(MOD(H370,2),[1]pms230!D731,[1]pms170!G731)","v":"00:00:00"},{"$f":"IF(MOD(H370,2),[1]pms230!E731,[1]pms170!H731)","v":"00:00:00"},{"$f":"IF(MOD(H370,2),[1]pms230!F731,[1]pms170!F731)","v":0},{"$f":"IF(MOD(H370,2),[1]pms230!M731,[1]pms170!A731)","v":0},184]
[{"$f":"IF(MOD(H371,2),[1]pms170!D186,[1]pms230!A186)","v":"962263"},{"$f":"IF(MOD(H371,2),[1]pms170!B186,[1]pms230!B186)","v":"J2000144"},{"$f":"IF(MOD(H371,2),[1]pms170!C186,[1]pms230!C186)","v":"PANEL SHOE STOW UPPE"},{"$f":"IF(MOD(H371,2),[1]pms170!G186,[1]pms230!D186)","v":"2017-02-20"},{"$f":"IF(MOD(H371,2),[1]pms170!H186,[1]pms230!E186)","v":"2017-02-20"},{"$f":"IF(MOD(H371,2),[1]pms170!F186,[1]pms230!F186)","v":"17"},{"$f":"IF(MOD(H371,2),[1]pms170!A186,[1]pms230!M186)","v":"351020"},184]
[{"$f":"IF(MOD(H372,2),[1]pms230!A732,[1]pms170!D732)","v":0},{"$f":"IF(MOD(H372,2),[1]pms230!B732,[1]pms170!B732)","v":0},{"$f":"IF(MOD(H372,2),[1]pms230!C732,[1]pms170!C732)","v":0},{"$f":"IF(MOD(H372,2),[1]pms230!D732,[1]pms170!G732)","v":"00:00:00"},{"$f":"IF(MOD(H372,2),[1]pms230!E732,[1]pms170!H732)","v":"00:00:00"},{"$f":"IF(MOD(H372,2),[1]pms230!F732,[1]pms170!F732)","v":0},{"$f":"IF(MOD(H372,2),[1]pms230!M732,[1]pms170!A732)","v":0},185]
[{"$f":"IF(MOD(H373,2),[1]pms170!D187,[1]pms230!A187)","v":"6945790"},{"$f":"IF(MOD(H373,2),[1]pms170!B187,[1]pms230!B187)","v":"F0484040"},{"$f":"IF(MOD(H373,2),[1]pms170!C187,[1]pms230!C187)","v":"ENS REMPLISSAGE TABLETTE STD"},{"$f":"IF(MOD(H373,2),[1]pms170!G187,[1]pms230!D187)","v":"2017-02-03"},{"$f":"IF(MOD(H373,2),[1]pms170!H187,[1]pms230!E187)","v":"2017-02-06"},{"$f":"IF(MOD(H373,2),[1]pms170!F187,[1]pms230!F187)","v":6},{"$f":"IF(MOD(H373,2),[1]pms170!A187,[1]pms230!M187)","v":"351015"},185]
[{"$f":"IF(MOD(H374,2),[1]pms230!A733,[1]pms170!D733)","v":0},{"$f":"IF(MOD(H374,2),[1]pms230!B733,[1]pms170!B733)","v":0},{"$f":"IF(MOD(H374,2),[1]pms230!C733,[1]pms170!C733)","v":0},{"$f":"IF(MOD(H374,2),[1]pms230!D733,[1]pms170!G733)","v":"00:00:00"},{"$f":"IF(MOD(H374,2),[1]pms230!E733,[1]pms170!H733)","v":"00:00:00"},{"$f":"IF(MOD(H374,2),[1]pms230!F733,[1]pms170!F733)","v":0},{"$f":"IF(MOD(H374,2),[1]pms230!M733,[1]pms170!A733)","v":0},186]
[{"$f":"IF(MOD(H375,2),[1]pms170!D188,[1]pms230!A188)","v":"960207"},{"$f":"IF(MOD(H375,2),[1]pms170!B188,[1]pms230!B188)","v":"F0406440"},{"$f":"IF(MOD(H375,2),[1]pms170!C188,[1]pms230!C188)","v":"CAPOT DE FLANC INT D"},{"$f":"IF(MOD(H375,2),[1]pms170!G188,[1]pms230!D188)","v":"2017-02-20"},{"$f":"IF(MOD(H375,2),[1]pms170!H188,[1]pms230!E188)","v":"2017-02-20"},{"$f":"IF(MOD(H375,2),[1]pms170!F188,[1]pms230!F188)","v":"4"},{"$f":"IF(MOD(H375,2),[1]pms170!A188,[1]pms230!M188)","v":"351010"},186]
[{"$f":"IF(MOD(H376,2),[1]pms230!A734,[1]pms170!D734)","v":0},{"$f":"IF(MOD(H376,2),[1]pms230!B734,[1]pms170!B734)","v":0},{"$f":"IF(MOD(H376,2),[1]pms230!C734,[1]pms170!C734)","v":0},{"$f":"IF(MOD(H376,2),[1]pms230!D734,[1]pms170!G734)","v":"00:00:00"},{"$f":"IF(MOD(H376,2),[1]pms230!E734,[1]pms170!H734)","v":"00:00:00"},{"$f":"IF(MOD(H376,2),[1]pms230!F734,[1]pms170!F734)","v":0},{"$f":"IF(MOD(H376,2),[1]pms230!M734,[1]pms170!A734)","v":0},187]
[{"$f":"IF(MOD(H377,2),[1]pms170!D189,[1]pms230!A189)","v":"6945792"},{"$f":"IF(MOD(H377,2),[1]pms170!B189,[1]pms230!B189)","v":"F0484040"},{"$f":"IF(MOD(H377,2),[1]pms170!C189,[1]pms230!C189)","v":"ENS REMPLISSAGE TABLETTE STD"},{"$f":"IF(MOD(H377,2),[1]pms170!G189,[1]pms230!D189)","v":"2017-02-06"},{"$f":"IF(MOD(H377,2),[1]pms170!H189,[1]pms230!E189)","v":"2017-02-07"},{"$f":"IF(MOD(H377,2),[1]pms170!F189,[1]pms230!F189)","v":6},{"$f":"IF(MOD(H377,2),[1]pms170!A189,[1]pms230!M189)","v":"351015"},187]
[{"$f":"IF(MOD(H378,2),[1]pms230!A735,[1]pms170!D735)","v":0},{"$f":"IF(MOD(H378,2),[1]pms230!B735,[1]pms170!B735)","v":0},{"$f":"IF(MOD(H378,2),[1]pms230!C735,[1]pms170!C735)","v":0},{"$f":"IF(MOD(H378,2),[1]pms230!D735,[1]pms170!G735)","v":"00:00:00"},{"$f":"IF(MOD(H378,2),[1]pms230!E735,[1]pms170!H735)","v":"00:00:00"},{"$f":"IF(MOD(H378,2),[1]pms230!F735,[1]pms170!F735)","v":0},{"$f":"IF(MOD(H378,2),[1]pms230!M735,[1]pms170!A735)","v":0},188]
[{"$f":"IF(MOD(H379,2),[1]pms170!D190,[1]pms230!A190)","v":"950038"},{"$f":"IF(MOD(H379,2),[1]pms170!B190,[1]pms230!B190)","v":"F0509487"},{"$f":"IF(MOD(H379,2),[1]pms170!C190,[1]pms230!C190)","v":"ENS TABLETTE DORSALE"},{"$f":"IF(MOD(H379,2),[1]pms170!G190,[1]pms230!D190)","v":"2017-02-21"},{"$f":"IF(MOD(H379,2),[1]pms170!H190,[1]pms230!E190)","v":"2017-02-21"},{"$f":"IF(MOD(H379,2),[1]pms170!F190,[1]pms230!F190)","v":"50"},{"$f":"IF(MOD(H379,2),[1]pms170!A190,[1]pms230!M190)","v":"351000"},188]
[{"$f":"IF(MOD(H380,2),[1]pms230!A736,[1]pms170!D736)","v":0},{"$f":"IF(MOD(H380,2),[1]pms230!B736,[1]pms170!B736)","v":0},{"$f":"IF(MOD(H380,2),[1]pms230!C736,[1]pms170!C736)","v":0},{"$f":"IF(MOD(H380,2),[1]pms230!D736,[1]pms170!G736)","v":"00:00:00"},{"$f":"IF(MOD(H380,2),[1]pms230!E736,[1]pms170!H736)","v":"00:00:00"},{"$f":"IF(MOD(H380,2),[1]pms230!F736,[1]pms170!F736)","v":0},{"$f":"IF(MOD(H380,2),[1]pms230!M736,[1]pms170!A736)","v":0},189]
[{"$f":"IF(MOD(H381,2),[1]pms170!D191,[1]pms230!A191)","v":"7018757"},{"$f":"IF(MOD(H381,2),[1]pms170!B191,[1]pms230!B191)","v":"F0493839"},{"$f":"IF(MOD(H381,2),[1]pms170!C191,[1]pms230!C191)","v":"ENS REMPLISSAGE TABLETTE LGE"},{"$f":"IF(MOD(H381,2),[1]pms170!G191,[1]pms230!D191)","v":"2017-02-07"},{"$f":"IF(MOD(H381,2),[1]pms170!H191,[1]pms230!E191)","v":"2017-02-07"},{"$f":"IF(MOD(H381,2),[1]pms170!F191,[1]pms230!F191)","v":50},{"$f":"IF(MOD(H381,2),[1]pms170!A191,[1]pms230!M191)","v":"351015"},189]
[{"$f":"IF(MOD(H382,2),[1]pms230!A737,[1]pms170!D737)","v":0},{"$f":"IF(MOD(H382,2),[1]pms230!B737,[1]pms170!B737)","v":0},{"$f":"IF(MOD(H382,2),[1]pms230!C737,[1]pms170!C737)","v":0},{"$f":"IF(MOD(H382,2),[1]pms230!D737,[1]pms170!G737)","v":"00:00:00"},{"$f":"IF(MOD(H382,2),[1]pms230!E737,[1]pms170!H737)","v":"00:00:00"},{"$f":"IF(MOD(H382,2),[1]pms230!F737,[1]pms170!F737)","v":0},{"$f":"IF(MOD(H382,2),[1]pms230!M737,[1]pms170!A737)","v":0},190]
[{"$f":"IF(MOD(H383,2),[1]pms170!D192,[1]pms230!A192)","v":"962130"},{"$f":"IF(MOD(H383,2),[1]pms170!B192,[1]pms230!B192)","v":"F0441847"},{"$f":"IF(MOD(H383,2),[1]pms170!C192,[1]pms230!C192)","v":"CAPOTAGE ARRIERE"},{"$f":"IF(MOD(H383,2),[1]pms170!G192,[1]pms230!D192)","v":"2017-02-21"},{"$f":"IF(MOD(H383,2),[1]pms170!H192,[1]pms230!E192)","v":"2017-02-21"},{"$f":"IF(MOD(H383,2),[1]pms170!F192,[1]pms230!F192)","v":"20"},{"$f":"IF(MOD(H383,2),[1]pms170!A192,[1]pms230!M192)","v":"351060"},190]
[{"$f":"IF(MOD(H384,2),[1]pms230!A738,[1]pms170!D738)","v":0},{"$f":"IF(MOD(H384,2),[1]pms230!B738,[1]pms170!B738)","v":0},{"$f":"IF(MOD(H384,2),[1]pms230!C738,[1]pms170!C738)","v":0},{"$f":"IF(MOD(H384,2),[1]pms230!D738,[1]pms170!G738)","v":"00:00:00"},{"$f":"IF(MOD(H384,2),[1]pms230!E738,[1]pms170!H738)","v":"00:00:00"},{"$f":"IF(MOD(H384,2),[1]pms230!F738,[1]pms170!F738)","v":0},{"$f":"IF(MOD(H384,2),[1]pms230!M738,[1]pms170!A738)","v":0},191]
[{"$f":"IF(MOD(H385,2),[1]pms170!D193,[1]pms230!A193)","v":"7082734"},{"$f":"IF(MOD(H385,2),[1]pms170!B193,[1]pms230!B193)","v":"F0504771"},{"$f":"IF(MOD(H385,2),[1]pms170!C193,[1]pms230!C193)","v":"ENS REMPLISSAGE TABLETTE STD"},{"$f":"IF(MOD(H385,2),[1]pms170!G193,[1]pms230!D193)","v":"2017-02-02"},{"$f":"IF(MOD(H385,2),[1]pms170!H193,[1]pms230!E193)","v":"2017-02-02"},{"$f":"IF(MOD(H385,2),[1]pms170!F193,[1]pms230!F193)","v":50},{"$f":"IF(MOD(H385,2),[1]pms170!A193,[1]pms230!M193)","v":"351015"},191]
[{"$f":"IF(MOD(H386,2),[1]pms230!A739,[1]pms170!D739)","v":0},{"$f":"IF(MOD(H386,2),[1]pms230!B739,[1]pms170!B739)","v":0},{"$f":"IF(MOD(H386,2),[1]pms230!C739,[1]pms170!C739)","v":0},{"$f":"IF(MOD(H386,2),[1]pms230!D739,[1]pms170!G739)","v":"00:00:00"},{"$f":"IF(MOD(H386,2),[1]pms230!E739,[1]pms170!H739)","v":"00:00:00"},{"$f":"IF(MOD(H386,2),[1]pms230!F739,[1]pms170!F739)","v":0},{"$f":"IF(MOD(H386,2),[1]pms230!M739,[1]pms170!A739)","v":0},192]
[{"$f":"IF(MOD(H387,2),[1]pms170!D194,[1]pms230!A194)","v":"962241"},{"$f":"IF(MOD(H387,2),[1]pms170!B194,[1]pms230!B194)","v":"F0506321"},{"$f":"IF(MOD(H387,2),[1]pms170!C194,[1]pms230!C194)","v":"CAPOT POCHETTE DOSSI"},{"$f":"IF(MOD(H387,2),[1]pms170!G194,[1]pms230!D194)","v":"2017-02-22"},{"$f":"IF(MOD(H387,2),[1]pms170!H194,[1]pms230!E194)","v":"2017-02-22"},{"$f":"IF(MOD(H387,2),[1]pms170!F194,[1]pms230!F194)","v":"25"},{"$f":"IF(MOD(H387,2),[1]pms170!A194,[1]pms230!M194)","v":"351010"},192]
[{"$f":"IF(MOD(H388,2),[1]pms230!A740,[1]pms170!D740)","v":0},{"$f":"IF(MOD(H388,2),[1]pms230!B740,[1]pms170!B740)","v":0},{"$f":"IF(MOD(H388,2),[1]pms230!C740,[1]pms170!C740)","v":0},{"$f":"IF(MOD(H388,2),[1]pms230!D740,[1]pms170!G740)","v":"00:00:00"},{"$f":"IF(MOD(H388,2),[1]pms230!E740,[1]pms170!H740)","v":"00:00:00"},{"$f":"IF(MOD(H388,2),[1]pms230!F740,[1]pms170!F740)","v":0},{"$f":"IF(MOD(H388,2),[1]pms230!M740,[1]pms170!A740)","v":0},193]
[{"$f":"IF(MOD(H389,2),[1]pms170!D195,[1]pms230!A195)","v":"7082736"},{"$f":"IF(MOD(H389,2),[1]pms170!B195,[1]pms230!B195)","v":"F0504771"},{"$f":"IF(MOD(H389,2),[1]pms170!C195,[1]pms230!C195)","v":"ENS REMPLISSAGE TABLETTE STD"},{"$f":"IF(MOD(H389,2),[1]pms170!G195,[1]pms230!D195)","v":"2017-02-09"},{"$f":"IF(MOD(H389,2),[1]pms170!H195,[1]pms230!E195)","v":"2017-02-09"},{"$f":"IF(MOD(H389,2),[1]pms170!F195,[1]pms230!F195)","v":37},{"$f":"IF(MOD(H389,2),[1]pms170!A195,[1]pms230!M195)","v":"351015"},193]
[{"$f":"IF(MOD(H390,2),[1]pms230!A741,[1]pms170!D741)","v":0},{"$f":"IF(MOD(H390,2),[1]pms230!B741,[1]pms170!B741)","v":0},{"$f":"IF(MOD(H390,2),[1]pms230!C741,[1]pms170!C741)","v":0},{"$f":"IF(MOD(H390,2),[1]pms230!D741,[1]pms170!G741)","v":"00:00:00"},{"$f":"IF(MOD(H390,2),[1]pms230!E741,[1]pms170!H741)","v":"00:00:00"},{"$f":"IF(MOD(H390,2),[1]pms230!F741,[1]pms170!F741)","v":0},{"$f":"IF(MOD(H390,2),[1]pms230!M741,[1]pms170!A741)","v":0},194]
[{"$f":"IF(MOD(H391,2),[1]pms170!D196,[1]pms230!A196)","v":"961312"},{"$f":"IF(MOD(H391,2),[1]pms170!B196,[1]pms230!B196)","v":"F0506331"},{"$f":"IF(MOD(H391,2),[1]pms170!C196,[1]pms230!C196)","v":"ENS RENFORT FOND DOS"},{"$f":"IF(MOD(H391,2),[1]pms170!G196,[1]pms230!D196)","v":"2017-02-22"},{"$f":"IF(MOD(H391,2),[1]pms170!H196,[1]pms230!E196)","v":"2017-02-22"},{"$f":"IF(MOD(H391,2),[1]pms170!F196,[1]pms230!F196)","v":"51"},{"$f":"IF(MOD(H391,2),[1]pms170!A196,[1]pms230!M196)","v":"351010"},194]
[{"$f":"IF(MOD(H392,2),[1]pms230!A742,[1]pms170!D742)","v":0},{"$f":"IF(MOD(H392,2),[1]pms230!B742,[1]pms170!B742)","v":0},{"$f":"IF(MOD(H392,2),[1]pms230!C742,[1]pms170!C742)","v":0},{"$f":"IF(MOD(H392,2),[1]pms230!D742,[1]pms170!G742)","v":"00:00:00"},{"$f":"IF(MOD(H392,2),[1]pms230!E742,[1]pms170!H742)","v":"00:00:00"},{"$f":"IF(MOD(H392,2),[1]pms230!F742,[1]pms170!F742)","v":0},{"$f":"IF(MOD(H392,2),[1]pms230!M742,[1]pms170!A742)","v":0},195]
[{"$f":"IF(MOD(H393,2),[1]pms170!D197,[1]pms230!A197)","v":"7075100"},{"$f":"IF(MOD(H393,2),[1]pms170!B197,[1]pms230!B197)","v":"F0507335"},{"$f":"IF(MOD(H393,2),[1]pms170!C197,[1]pms230!C197)","v":"ENS REMPLISSAGE TABLETTE STD"},{"$f":"IF(MOD(H393,2),[1]pms170!G197,[1]pms230!D197)","v":"2017-02-20"},{"$f":"IF(MOD(H393,2),[1]pms170!H197,[1]pms230!E197)","v":"2017-02-20"},{"$f":"IF(MOD(H393,2),[1]pms170!F197,[1]pms230!F197)","v":23},{"$f":"IF(MOD(H393,2),[1]pms170!A197,[1]pms230!M197)","v":"351015"},195]
[{"$f":"IF(MOD(H394,2),[1]pms230!A743,[1]pms170!D743)","v":0},{"$f":"IF(MOD(H394,2),[1]pms230!B743,[1]pms170!B743)","v":0},{"$f":"IF(MOD(H394,2),[1]pms230!C743,[1]pms170!C743)","v":0},{"$f":"IF(MOD(H394,2),[1]pms230!D743,[1]pms170!G743)","v":"00:00:00"},{"$f":"IF(MOD(H394,2),[1]pms230!E743,[1]pms170!H743)","v":"00:00:00"},{"$f":"IF(MOD(H394,2),[1]pms230!F743,[1]pms170!F743)","v":0},{"$f":"IF(MOD(H394,2),[1]pms230!M743,[1]pms170!A743)","v":0},196]
[{"$f":"IF(MOD(H395,2),[1]pms170!D198,[1]pms230!A198)","v":"960478"},{"$f":"IF(MOD(H395,2),[1]pms170!B198,[1]pms230!B198)","v":"F19Z0D0010R0"},{"$f":"IF(MOD(H395,2),[1]pms170!C198,[1]pms230!C198)","v":"CACHE CROSSE D (P076"},{"$f":"IF(MOD(H395,2),[1]pms170!G198,[1]pms230!D198)","v":"2017-02-22"},{"$f":"IF(MOD(H395,2),[1]pms170!H198,[1]pms230!E198)","v":"2017-02-22"},{"$f":"IF(MOD(H395,2),[1]pms170!F198,[1]pms230!F198)","v":"51"},{"$f":"IF(MOD(H395,2),[1]pms170!A198,[1]pms230!M198)","v":"351010"},196]
[{"$f":"IF(MOD(H396,2),[1]pms230!A744,[1]pms170!D744)","v":0},{"$f":"IF(MOD(H396,2),[1]pms230!B744,[1]pms170!B744)","v":0},{"$f":"IF(MOD(H396,2),[1]pms230!C744,[1]pms170!C744)","v":0},{"$f":"IF(MOD(H396,2),[1]pms230!D744,[1]pms170!G744)","v":"00:00:00"},{"$f":"IF(MOD(H396,2),[1]pms230!E744,[1]pms170!H744)","v":"00:00:00"},{"$f":"IF(MOD(H396,2),[1]pms230!F744,[1]pms170!F744)","v":0},{"$f":"IF(MOD(H396,2),[1]pms230!M744,[1]pms170!A744)","v":0},197]
[{"$f":"IF(MOD(H397,2),[1]pms170!D199,[1]pms230!A199)","v":"6856848"},{"$f":"IF(MOD(H397,2),[1]pms170!B199,[1]pms230!B199)","v":"F375084"},{"$f":"IF(MOD(H397,2),[1]pms170!C199,[1]pms230!C199)","v":"MOUSSE TABLETTE"},{"$f":"IF(MOD(H397,2),[1]pms170!G199,[1]pms230!D199)","v":"2017-02-10"},{"$f":"IF(MOD(H397,2),[1]pms170!H199,[1]pms230!E199)","v":"2017-02-10"},{"$f":"IF(MOD(H397,2),[1]pms170!F199,[1]pms230!F199)","v":2},{"$f":"IF(MOD(H397,2),[1]pms170!A199,[1]pms230!M199)","v":"351015"},197]
[{"$f":"IF(MOD(H398,2),[1]pms230!A745,[1]pms170!D745)","v":0},{"$f":"IF(MOD(H398,2),[1]pms230!B745,[1]pms170!B745)","v":0},{"$f":"IF(MOD(H398,2),[1]pms230!C745,[1]pms170!C745)","v":0},{"$f":"IF(MOD(H398,2),[1]pms230!D745,[1]pms170!G745)","v":"00:00:00"},{"$f":"IF(MOD(H398,2),[1]pms230!E745,[1]pms170!H745)","v":"00:00:00"},{"$f":"IF(MOD(H398,2),[1]pms230!F745,[1]pms170!F745)","v":0},{"$f":"IF(MOD(H398,2),[1]pms230!M745,[1]pms170!A745)","v":0},198]
[{"$f":"IF(MOD(H399,2),[1]pms170!D200,[1]pms230!A200)","v":"960480"},{"$f":"IF(MOD(H399,2),[1]pms170!B200,[1]pms230!B200)","v":"F19Z0D0010R0"},{"$f":"IF(MOD(H399,2),[1]pms170!C200,[1]pms230!C200)","v":"CACHE CROSSE D (P076"},{"$f":"IF(MOD(H399,2),[1]pms170!G200,[1]pms230!D200)","v":"2017-02-22"},{"$f":"IF(MOD(H399,2),[1]pms170!H200,[1]pms230!E200)","v":"2017-02-22"},{"$f":"IF(MOD(H399,2),[1]pms170!F200,[1]pms230!F200)","v":"37"},{"$f":"IF(MOD(H399,2),[1]pms170!A200,[1]pms230!M200)","v":"351010"},198]
[{"$f":"IF(MOD(H400,2),[1]pms230!A746,[1]pms170!D746)","v":0},{"$f":"IF(MOD(H400,2),[1]pms230!B746,[1]pms170!B746)","v":0},{"$f":"IF(MOD(H400,2),[1]pms230!C746,[1]pms170!C746)","v":0},{"$f":"IF(MOD(H400,2),[1]pms230!D746,[1]pms170!G746)","v":"00:00:00"},{"$f":"IF(MOD(H400,2),[1]pms230!E746,[1]pms170!H746)","v":"00:00:00"},{"$f":"IF(MOD(H400,2),[1]pms230!F746,[1]pms170!F746)","v":0},{"$f":"IF(MOD(H400,2),[1]pms230!M746,[1]pms170!A746)","v":0},199]
[{"$f":"IF(MOD(H401,2),[1]pms170!D201,[1]pms230!A201)","v":"7129299"},{"$f":"IF(MOD(H401,2),[1]pms170!B201,[1]pms230!B201)","v":"J2000166"},{"$f":"IF(MOD(H401,2),[1]pms170!C201,[1]pms230!C201)","v":"PANEL SHOE STOW LH REAR LHS"},{"$f":"IF(MOD(H401,2),[1]pms170!G201,[1]pms230!D201)","v":"2017-02-09"},{"$f":"IF(MOD(H401,2),[1]pms170!H201,[1]pms230!E201)","v":"2017-02-10"},{"$f":"IF(MOD(H401,2),[1]pms170!F201,[1]pms230!F201)","v":2},{"$f":"IF(MOD(H401,2),[1]pms170!A201,[1]pms230!M201)","v":"351020"},199]
[{"$f":"IF(MOD(H402,2),[1]pms230!A747,[1]pms170!D747)","v":0},{"$f":"IF(MOD(H402,2),[1]pms230!B747,[1]pms170!B747)","v":0},{"$f":"IF(MOD(H402,2),[1]pms230!C747,[1]pms170!C747)","v":0},{"$f":"IF(MOD(H402,2),[1]pms230!D747,[1]pms170!G747)","v":"00:00:00"},{"$f":"IF(MOD(H402,2),[1]pms230!E747,[1]pms170!H747)","v":"00:00:00"},{"$f":"IF(MOD(H402,2),[1]pms230!F747,[1]pms170!F747)","v":0},{"$f":"IF(MOD(H402,2),[1]pms230!M747,[1]pms170!A747)","v":0},200]
[{"$f":"IF(MOD(H403,2),[1]pms170!D202,[1]pms230!A202)","v":"961315"},{"$f":"IF(MOD(H403,2),[1]pms170!B202,[1]pms230!B202)","v":"F0506331"},{"$f":"IF(MOD(H403,2),[1]pms170!C202,[1]pms230!C202)","v":"ENS RENFORT FOND DOS"},{"$f":"IF(MOD(H403,2),[1]pms170!G202,[1]pms230!D202)","v":"2017-02-22"},{"$f":"IF(MOD(H403,2),[1]pms170!H202,[1]pms230!E202)","v":"2017-02-22"},{"$f":"IF(MOD(H403,2),[1]pms170!F202,[1]pms230!F202)","v":"52"},{"$f":"IF(MOD(H403,2),[1]pms170!A202,[1]pms230!M202)","v":"351010"},200]
[{"$f":"IF(MOD(H404,2),[1]pms230!A748,[1]pms170!D748)","v":0},{"$f":"IF(MOD(H404,2),[1]pms230!B748,[1]pms170!B748)","v":0},{"$f":"IF(MOD(H404,2),[1]pms230!C748,[1]pms170!C748)","v":0},{"$f":"IF(MOD(H404,2),[1]pms230!D748,[1]pms170!G748)","v":"00:00:00"},{"$f":"IF(MOD(H404,2),[1]pms230!E748,[1]pms170!H748)","v":"00:00:00"},{"$f":"IF(MOD(H404,2),[1]pms230!F748,[1]pms170!F748)","v":0},{"$f":"IF(MOD(H404,2),[1]pms230!M748,[1]pms170!A748)","v":0},201]
[{"$f":"IF(MOD(H405,2),[1]pms170!D203,[1]pms230!A203)","v":"7129351"},{"$f":"IF(MOD(H405,2),[1]pms170!B203,[1]pms230!B203)","v":"J2000245"},{"$f":"IF(MOD(H405,2),[1]pms170!C203,[1]pms230!C203)","v":"DOUBLER MID INNER LIT POCKET"},{"$f":"IF(MOD(H405,2),[1]pms170!G203,[1]pms230!D203)","v":"2017-02-09"},{"$f":"IF(MOD(H405,2),[1]pms170!H203,[1]pms230!E203)","v":"2017-02-10"},{"$f":"IF(MOD(H405,2),[1]pms170!F203,[1]pms230!F203)","v":5},{"$f":"IF(MOD(H405,2),[1]pms170!A203,[1]pms230!M203)","v":"351020"},201]
[{"$f":"IF(MOD(H406,2),[1]pms230!A749,[1]pms170!D749)","v":0},{"$f":"IF(MOD(H406,2),[1]pms230!B749,[1]pms170!B749)","v":0},{"$f":"IF(MOD(H406,2),[1]pms230!C749,[1]pms170!C749)","v":0},{"$f":"IF(MOD(H406,2),[1]pms230!D749,[1]pms170!G749)","v":"00:00:00"},{"$f":"IF(MOD(H406,2),[1]pms230!E749,[1]pms170!H749)","v":"00:00:00"},{"$f":"IF(MOD(H406,2),[1]pms230!F749,[1]pms170!F749)","v":0},{"$f":"IF(MOD(H406,2),[1]pms230!M749,[1]pms170!A749)","v":0},202]
[{"$f":"IF(MOD(H407,2),[1]pms170!D204,[1]pms230!A204)","v":"959270"},{"$f":"IF(MOD(H407,2),[1]pms170!B204,[1]pms230!B204)","v":"F0517740"},{"$f":"IF(MOD(H407,2),[1]pms170!C204,[1]pms230!C204)","v":"REMPLISSAGE TAB DORS"},{"$f":"IF(MOD(H407,2),[1]pms170!G204,[1]pms230!D204)","v":"2017-02-22"},{"$f":"IF(MOD(H407,2),[1]pms170!H204,[1]pms230!E204)","v":"2017-02-22"},{"$f":"IF(MOD(H407,2),[1]pms170!F204,[1]pms230!F204)","v":"22"},{"$f":"IF(MOD(H407,2),[1]pms170!A204,[1]pms230!M204)","v":"351010"},202]
[{"$f":"IF(MOD(H408,2),[1]pms230!A750,[1]pms170!D750)","v":0},{"$f":"IF(MOD(H408,2),[1]pms230!B750,[1]pms170!B750)","v":0},{"$f":"IF(MOD(H408,2),[1]pms230!C750,[1]pms170!C750)","v":0},{"$f":"IF(MOD(H408,2),[1]pms230!D750,[1]pms170!G750)","v":"00:00:00"},{"$f":"IF(MOD(H408,2),[1]pms230!E750,[1]pms170!H750)","v":"00:00:00"},{"$f":"IF(MOD(H408,2),[1]pms230!F750,[1]pms170!F750)","v":0},{"$f":"IF(MOD(H408,2),[1]pms230!M750,[1]pms170!A750)","v":0},203]
[{"$f":"IF(MOD(H409,2),[1]pms170!D205,[1]pms230!A205)","v":"6761765"},{"$f":"IF(MOD(H409,2),[1]pms170!B205,[1]pms230!B205)","v":"J2000717"},{"$f":"IF(MOD(H409,2),[1]pms170!C205,[1]pms230!C205)","v":"FAIRING SIDE RR"},{"$f":"IF(MOD(H409,2),[1]pms170!G205,[1]pms230!D205)","v":"2017-01-31"},{"$f":"IF(MOD(H409,2),[1]pms170!H205,[1]pms230!E205)","v":"2017-01-31"},{"$f":"IF(MOD(H409,2),[1]pms170!F205,[1]pms230!F205)","v":2},{"$f":"IF(MOD(H409,2),[1]pms170!A205,[1]pms230!M205)","v":"351020"},203]
[{"$f":"IF(MOD(H410,2),[1]pms230!A751,[1]pms170!D751)","v":0},{"$f":"IF(MOD(H410,2),[1]pms230!B751,[1]pms170!B751)","v":0},{"$f":"IF(MOD(H410,2),[1]pms230!C751,[1]pms170!C751)","v":0},{"$f":"IF(MOD(H410,2),[1]pms230!D751,[1]pms170!G751)","v":"00:00:00"},{"$f":"IF(MOD(H410,2),[1]pms230!E751,[1]pms170!H751)","v":"00:00:00"},{"$f":"IF(MOD(H410,2),[1]pms230!F751,[1]pms170!F751)","v":0},{"$f":"IF(MOD(H410,2),[1]pms230!M751,[1]pms170!A751)","v":0},204]
[{"$f":"IF(MOD(H411,2),[1]pms170!D206,[1]pms230!A206)","v":"960450"},{"$f":"IF(MOD(H411,2),[1]pms170!B206,[1]pms230!B206)","v":"F313205P015"},{"$f":"IF(MOD(H411,2),[1]pms170!C206,[1]pms230!C206)","v":"H015 CAPOT ACC STD"},{"$f":"IF(MOD(H411,2),[1]pms170!G206,[1]pms230!D206)","v":"2017-02-23"},{"$f":"IF(MOD(H411,2),[1]pms170!H206,[1]pms230!E206)","v":"2017-02-23"},{"$f":"IF(MOD(H411,2),[1]pms170!F206,[1]pms230!F206)","v":"61"},{"$f":"IF(MOD(H411,2),[1]pms170!A206,[1]pms230!M206)","v":"351010"},204]
[{"$f":"IF(MOD(H412,2),[1]pms230!A752,[1]pms170!D752)","v":0},{"$f":"IF(MOD(H412,2),[1]pms230!B752,[1]pms170!B752)","v":0},{"$f":"IF(MOD(H412,2),[1]pms230!C752,[1]pms170!C752)","v":0},{"$f":"IF(MOD(H412,2),[1]pms230!D752,[1]pms170!G752)","v":"00:00:00"},{"$f":"IF(MOD(H412,2),[1]pms230!E752,[1]pms170!H752)","v":"00:00:00"},{"$f":"IF(MOD(H412,2),[1]pms230!F752,[1]pms170!F752)","v":0},{"$f":"IF(MOD(H412,2),[1]pms230!M752,[1]pms170!A752)","v":0},205]
[{"$f":"IF(MOD(H413,2),[1]pms170!D207,[1]pms230!A207)","v":"7002279"},{"$f":"IF(MOD(H413,2),[1]pms170!B207,[1]pms230!B207)","v":"J2001718"},{"$f":"IF(MOD(H413,2),[1]pms170!C207,[1]pms230!C207)","v":"CAP TOP AFT"},{"$f":"IF(MOD(H413,2),[1]pms170!G207,[1]pms230!D207)","v":"2017-02-10"},{"$f":"IF(MOD(H413,2),[1]pms170!H207,[1]pms230!E207)","v":"2017-02-10"},{"$f":"IF(MOD(H413,2),[1]pms170!F207,[1]pms230!F207)","v":1},{"$f":"IF(MOD(H413,2),[1]pms170!A207,[1]pms230!M207)","v":"351020"},205]
[{"$f":"IF(MOD(H414,2),[1]pms230!A753,[1]pms170!D753)","v":0},{"$f":"IF(MOD(H414,2),[1]pms230!B753,[1]pms170!B753)","v":0},{"$f":"IF(MOD(H414,2),[1]pms230!C753,[1]pms170!C753)","v":0},{"$f":"IF(MOD(H414,2),[1]pms230!D753,[1]pms170!G753)","v":"00:00:00"},{"$f":"IF(MOD(H414,2),[1]pms230!E753,[1]pms170!H753)","v":"00:00:00"},{"$f":"IF(MOD(H414,2),[1]pms230!F753,[1]pms170!F753)","v":0},{"$f":"IF(MOD(H414,2),[1]pms230!M753,[1]pms170!A753)","v":0},206]
[{"$f":"IF(MOD(H415,2),[1]pms170!D208,[1]pms230!A208)","v":"960452"},{"$f":"IF(MOD(H415,2),[1]pms170!B208,[1]pms230!B208)","v":"F313205P015"},{"$f":"IF(MOD(H415,2),[1]pms170!C208,[1]pms230!C208)","v":"H015 CAPOT ACC STD"},{"$f":"IF(MOD(H415,2),[1]pms170!G208,[1]pms230!D208)","v":"2017-02-23"},{"$f":"IF(MOD(H415,2),[1]pms170!H208,[1]pms230!E208)","v":"2017-02-23"},{"$f":"IF(MOD(H415,2),[1]pms170!F208,[1]pms230!F208)","v":"61"},{"$f":"IF(MOD(H415,2),[1]pms170!A208,[1]pms230!M208)","v":"351010"},206]
[{"$f":"IF(MOD(H416,2),[1]pms230!A754,[1]pms170!D754)","v":0},{"$f":"IF(MOD(H416,2),[1]pms230!B754,[1]pms170!B754)","v":0},{"$f":"IF(MOD(H416,2),[1]pms230!C754,[1]pms170!C754)","v":0},{"$f":"IF(MOD(H416,2),[1]pms230!D754,[1]pms170!G754)","v":"00:00:00"},{"$f":"IF(MOD(H416,2),[1]pms230!E754,[1]pms170!H754)","v":"00:00:00"},{"$f":"IF(MOD(H416,2),[1]pms230!F754,[1]pms170!F754)","v":0},{"$f":"IF(MOD(H416,2),[1]pms230!M754,[1]pms170!A754)","v":0},207]
[{"$f":"IF(MOD(H417,2),[1]pms170!D209,[1]pms230!A209)","v":"7126654"},{"$f":"IF(MOD(H417,2),[1]pms170!B209,[1]pms230!B209)","v":"J2001776"},{"$f":"IF(MOD(H417,2),[1]pms170!C209,[1]pms230!C209)","v":"POCKET VEST UPPER FWD"},{"$f":"IF(MOD(H417,2),[1]pms170!G209,[1]pms230!D209)","v":"2017-02-03"},{"$f":"IF(MOD(H417,2),[1]pms170!H209,[1]pms230!E209)","v":"2017-02-06"},{"$f":"IF(MOD(H417,2),[1]pms170!F209,[1]pms230!F209)","v":7},{"$f":"IF(MOD(H417,2),[1]pms170!A209,[1]pms230!M209)","v":"351020"},207]
[{"$f":"IF(MOD(H418,2),[1]pms230!A755,[1]pms170!D755)","v":0},{"$f":"IF(MOD(H418,2),[1]pms230!B755,[1]pms170!B755)","v":0},{"$f":"IF(MOD(H418,2),[1]pms230!C755,[1]pms170!C755)","v":0},{"$f":"IF(MOD(H418,2),[1]pms230!D755,[1]pms170!G755)","v":"00:00:00"},{"$f":"IF(MOD(H418,2),[1]pms230!E755,[1]pms170!H755)","v":"00:00:00"},{"$f":"IF(MOD(H418,2),[1]pms230!F755,[1]pms170!F755)","v":0},{"$f":"IF(MOD(H418,2),[1]pms230!M755,[1]pms170!A755)","v":0},208]
[{"$f":"IF(MOD(H419,2),[1]pms170!D210,[1]pms230!A210)","v":"961243"},{"$f":"IF(MOD(H419,2),[1]pms170!B210,[1]pms230!B210)","v":"F364640P015"},{"$f":"IF(MOD(H419,2),[1]pms170!C210,[1]pms230!C210)","v":"H015 CAPOT ACC"},{"$f":"IF(MOD(H419,2),[1]pms170!G210,[1]pms230!D210)","v":"2017-02-23"},{"$f":"IF(MOD(H419,2),[1]pms170!H210,[1]pms230!E210)","v":"2017-02-23"},{"$f":"IF(MOD(H419,2),[1]pms170!F210,[1]pms230!F210)","v":"20"},{"$f":"IF(MOD(H419,2),[1]pms170!A210,[1]pms230!M210)","v":"351010"},208]
[{"$f":"IF(MOD(H420,2),[1]pms230!A756,[1]pms170!D756)","v":0},{"$f":"IF(MOD(H420,2),[1]pms230!B756,[1]pms170!B756)","v":0},{"$f":"IF(MOD(H420,2),[1]pms230!C756,[1]pms170!C756)","v":0},{"$f":"IF(MOD(H420,2),[1]pms230!D756,[1]pms170!G756)","v":"00:00:00"},{"$f":"IF(MOD(H420,2),[1]pms230!E756,[1]pms170!H756)","v":"00:00:00"},{"$f":"IF(MOD(H420,2),[1]pms230!F756,[1]pms170!F756)","v":0},{"$f":"IF(MOD(H420,2),[1]pms230!M756,[1]pms170!A756)","v":0},209]
[{"$f":"IF(MOD(H421,2),[1]pms170!D211,[1]pms230!A211)","v":"7002422"},{"$f":"IF(MOD(H421,2),[1]pms170!B211,[1]pms230!B211)","v":"J2001818"},{"$f":"IF(MOD(H421,2),[1]pms170!C211,[1]pms230!C211)","v":"FAN"},{"$f":"IF(MOD(H421,2),[1]pms170!G211,[1]pms230!D211)","v":"2017-01-30"},{"$f":"IF(MOD(H421,2),[1]pms170!H211,[1]pms230!E211)","v":"2017-01-30"},{"$f":"IF(MOD(H421,2),[1]pms170!F211,[1]pms230!F211)","v":5},{"$f":"IF(MOD(H421,2),[1]pms170!A211,[1]pms230!M211)","v":"351020"},209]
[{"$f":"IF(MOD(H422,2),[1]pms230!A757,[1]pms170!D757)","v":0},{"$f":"IF(MOD(H422,2),[1]pms230!B757,[1]pms170!B757)","v":0},{"$f":"IF(MOD(H422,2),[1]pms230!C757,[1]pms170!C757)","v":0},{"$f":"IF(MOD(H422,2),[1]pms230!D757,[1]pms170!G757)","v":"00:00:00"},{"$f":"IF(MOD(H422,2),[1]pms230!E757,[1]pms170!H757)","v":"00:00:00"},{"$f":"IF(MOD(H422,2),[1]pms230!F757,[1]pms170!F757)","v":0},{"$f":"IF(MOD(H422,2),[1]pms230!M757,[1]pms170!A757)","v":0},210]
[{"$f":"IF(MOD(H423,2),[1]pms170!D212,[1]pms230!A212)","v":"962243"},{"$f":"IF(MOD(H423,2),[1]pms170!B212,[1]pms230!B212)","v":"F0483648"},{"$f":"IF(MOD(H423,2),[1]pms170!C212,[1]pms230!C212)","v":"CAPOT GOULOTTE"},{"$f":"IF(MOD(H423,2),[1]pms170!G212,[1]pms230!D212)","v":"2017-02-23"},{"$f":"IF(MOD(H423,2),[1]pms170!H212,[1]pms230!E212)","v":"2017-02-23"},{"$f":"IF(MOD(H423,2),[1]pms170!F212,[1]pms230!F212)","v":"52"},{"$f":"IF(MOD(H423,2),[1]pms170!A212,[1]pms230!M212)","v":"351010"},210]
[{"$f":"IF(MOD(H424,2),[1]pms230!A758,[1]pms170!D758)","v":0},{"$f":"IF(MOD(H424,2),[1]pms230!B758,[1]pms170!B758)","v":0},{"$f":"IF(MOD(H424,2),[1]pms230!C758,[1]pms170!C758)","v":0},{"$f":"IF(MOD(H424,2),[1]pms230!D758,[1]pms170!G758)","v":"00:00:00"},{"$f":"IF(MOD(H424,2),[1]pms230!E758,[1]pms170!H758)","v":"00:00:00"},{"$f":"IF(MOD(H424,2),[1]pms230!F758,[1]pms170!F758)","v":0},{"$f":"IF(MOD(H424,2),[1]pms230!M758,[1]pms170!A758)","v":0},211]
[{"$f":"IF(MOD(H425,2),[1]pms170!D213,[1]pms230!A213)","v":"6763496"},{"$f":"IF(MOD(H425,2),[1]pms170!B213,[1]pms230!B213)","v":"J2001822"},{"$f":"IF(MOD(H425,2),[1]pms170!C213,[1]pms230!C213)","v":"HEADREST REAR CLOSEOUT"},{"$f":"IF(MOD(H425,2),[1]pms170!G213,[1]pms230!D213)","v":"2017-02-17"},{"$f":"IF(MOD(H425,2),[1]pms170!H213,[1]pms230!E213)","v":"2017-02-17"},{"$f":"IF(MOD(H425,2),[1]pms170!F213,[1]pms230!F213)","v":6},{"$f":"IF(MOD(H425,2),[1]pms170!A213,[1]pms230!M213)","v":"351020"},211]
[{"$f":"IF(MOD(H426,2),[1]pms230!A759,[1]pms170!D759)","v":0},{"$f":"IF(MOD(H426,2),[1]pms230!B759,[1]pms170!B759)","v":0},{"$f":"IF(MOD(H426,2),[1]pms230!C759,[1]pms170!C759)","v":0},{"$f":"IF(MOD(H426,2),[1]pms230!D759,[1]pms170!G759)","v":"00:00:00"},{"$f":"IF(MOD(H426,2),[1]pms230!E759,[1]pms170!H759)","v":"00:00:00"},{"$f":"IF(MOD(H426,2),[1]pms230!F759,[1]pms170!F759)","v":0},{"$f":"IF(MOD(H426,2),[1]pms230!M759,[1]pms170!A759)","v":0},212]
[{"$f":"IF(MOD(H427,2),[1]pms170!D214,[1]pms230!A214)","v":"962245"},{"$f":"IF(MOD(H427,2),[1]pms170!B214,[1]pms230!B214)","v":"F0483648"},{"$f":"IF(MOD(H427,2),[1]pms170!C214,[1]pms230!C214)","v":"CAPOT GOULOTTE"},{"$f":"IF(MOD(H427,2),[1]pms170!G214,[1]pms230!D214)","v":"2017-02-23"},{"$f":"IF(MOD(H427,2),[1]pms170!H214,[1]pms230!E214)","v":"2017-02-23"},{"$f":"IF(MOD(H427,2),[1]pms170!F214,[1]pms230!F214)","v":"52"},{"$f":"IF(MOD(H427,2),[1]pms170!A214,[1]pms230!M214)","v":"351010"},212]
[{"$f":"IF(MOD(H428,2),[1]pms230!A760,[1]pms170!D760)","v":0},{"$f":"IF(MOD(H428,2),[1]pms230!B760,[1]pms170!B760)","v":0},{"$f":"IF(MOD(H428,2),[1]pms230!C760,[1]pms170!C760)","v":0},{"$f":"IF(MOD(H428,2),[1]pms230!D760,[1]pms170!G760)","v":"00:00:00"},{"$f":"IF(MOD(H428,2),[1]pms230!E760,[1]pms170!H760)","v":"00:00:00"},{"$f":"IF(MOD(H428,2),[1]pms230!F760,[1]pms170!F760)","v":0},{"$f":"IF(MOD(H428,2),[1]pms230!M760,[1]pms170!A760)","v":0},213]
[{"$f":"IF(MOD(H429,2),[1]pms170!D215,[1]pms230!A215)","v":"7004283"},{"$f":"IF(MOD(H429,2),[1]pms170!B215,[1]pms230!B215)","v":"J2001845"},{"$f":"IF(MOD(H429,2),[1]pms170!C215,[1]pms230!C215)","v":"DOUBLER SHROUD MID INNER"},{"$f":"IF(MOD(H429,2),[1]pms170!G215,[1]pms230!D215)","v":"2017-02-08"},{"$f":"IF(MOD(H429,2),[1]pms170!H215,[1]pms230!E215)","v":"2017-02-09"},{"$f":"IF(MOD(H429,2),[1]pms170!F215,[1]pms230!F215)","v":1},{"$f":"IF(MOD(H429,2),[1]pms170!A215,[1]pms230!M215)","v":"351020"},213]
[{"$f":"IF(MOD(H430,2),[1]pms230!A761,[1]pms170!D761)","v":0},{"$f":"IF(MOD(H430,2),[1]pms230!B761,[1]pms170!B761)","v":0},{"$f":"IF(MOD(H430,2),[1]pms230!C761,[1]pms170!C761)","v":0},{"$f":"IF(MOD(H430,2),[1]pms230!D761,[1]pms170!G761)","v":"00:00:00"},{"$f":"IF(MOD(H430,2),[1]pms230!E761,[1]pms170!H761)","v":"00:00:00"},{"$f":"IF(MOD(H430,2),[1]pms230!F761,[1]pms170!F761)","v":0},{"$f":"IF(MOD(H430,2),[1]pms230!M761,[1]pms170!A761)","v":0},214]
[{"$f":"IF(MOD(H431,2),[1]pms170!D216,[1]pms230!A216)","v":"962247"},{"$f":"IF(MOD(H431,2),[1]pms170!B216,[1]pms230!B216)","v":"F0483648"},{"$f":"IF(MOD(H431,2),[1]pms170!C216,[1]pms230!C216)","v":"CAPOT GOULOTTE"},{"$f":"IF(MOD(H431,2),[1]pms170!G216,[1]pms230!D216)","v":"2017-02-23"},{"$f":"IF(MOD(H431,2),[1]pms170!H216,[1]pms230!E216)","v":"2017-02-23"},{"$f":"IF(MOD(H431,2),[1]pms170!F216,[1]pms230!F216)","v":"25"},{"$f":"IF(MOD(H431,2),[1]pms170!A216,[1]pms230!M216)","v":"351010"},214]
[{"$f":"IF(MOD(H432,2),[1]pms230!A762,[1]pms170!D762)","v":0},{"$f":"IF(MOD(H432,2),[1]pms230!B762,[1]pms170!B762)","v":0},{"$f":"IF(MOD(H432,2),[1]pms230!C762,[1]pms170!C762)","v":0},{"$f":"IF(MOD(H432,2),[1]pms230!D762,[1]pms170!G762)","v":"00:00:00"},{"$f":"IF(MOD(H432,2),[1]pms230!E762,[1]pms170!H762)","v":"00:00:00"},{"$f":"IF(MOD(H432,2),[1]pms230!F762,[1]pms170!F762)","v":0},{"$f":"IF(MOD(H432,2),[1]pms230!M762,[1]pms170!A762)","v":0},215]
[{"$f":"IF(MOD(H433,2),[1]pms170!D217,[1]pms230!A217)","v":"6767666"},{"$f":"IF(MOD(H433,2),[1]pms170!B217,[1]pms230!B217)","v":"J2001849"},{"$f":"IF(MOD(H433,2),[1]pms170!C217,[1]pms230!C217)","v":"BACKREST SIDE CLOSEOUT"},{"$f":"IF(MOD(H433,2),[1]pms170!G217,[1]pms230!D217)","v":"2017-01-24"},{"$f":"IF(MOD(H433,2),[1]pms170!H217,[1]pms230!E217)","v":"2017-01-24"},{"$f":"IF(MOD(H433,2),[1]pms170!F217,[1]pms230!F217)","v":5},{"$f":"IF(MOD(H433,2),[1]pms170!A217,[1]pms230!M217)","v":"351020"},215]
[{"$f":"IF(MOD(H434,2),[1]pms230!A763,[1]pms170!D763)","v":0},{"$f":"IF(MOD(H434,2),[1]pms230!B763,[1]pms170!B763)","v":0},{"$f":"IF(MOD(H434,2),[1]pms230!C763,[1]pms170!C763)","v":0},{"$f":"IF(MOD(H434,2),[1]pms230!D763,[1]pms170!G763)","v":"00:00:00"},{"$f":"IF(MOD(H434,2),[1]pms230!E763,[1]pms170!H763)","v":"00:00:00"},{"$f":"IF(MOD(H434,2),[1]pms230!F763,[1]pms170!F763)","v":0},{"$f":"IF(MOD(H434,2),[1]pms230!M763,[1]pms170!A763)","v":0},216]
[{"$f":"IF(MOD(H435,2),[1]pms170!D218,[1]pms230!A218)","v":"957682"},{"$f":"IF(MOD(H435,2),[1]pms170!B218,[1]pms230!B218)","v":"F0509562"},{"$f":"IF(MOD(H435,2),[1]pms170!C218,[1]pms230!C218)","v":"ENS  TABLETTE DORSAL"},{"$f":"IF(MOD(H435,2),[1]pms170!G218,[1]pms230!D218)","v":"2017-02-24"},{"$f":"IF(MOD(H435,2),[1]pms170!H218,[1]pms230!E218)","v":"2017-02-24"},{"$f":"IF(MOD(H435,2),[1]pms170!F218,[1]pms230!F218)","v":"9"},{"$f":"IF(MOD(H435,2),[1]pms170!A218,[1]pms230!M218)","v":"351000"},216]
[{"$f":"IF(MOD(H436,2),[1]pms230!A764,[1]pms170!D764)","v":0},{"$f":"IF(MOD(H436,2),[1]pms230!B764,[1]pms170!B764)","v":0},{"$f":"IF(MOD(H436,2),[1]pms230!C764,[1]pms170!C764)","v":0},{"$f":"IF(MOD(H436,2),[1]pms230!D764,[1]pms170!G764)","v":"00:00:00"},{"$f":"IF(MOD(H436,2),[1]pms230!E764,[1]pms170!H764)","v":"00:00:00"},{"$f":"IF(MOD(H436,2),[1]pms230!F764,[1]pms170!F764)","v":0},{"$f":"IF(MOD(H436,2),[1]pms230!M764,[1]pms170!A764)","v":0},217]
[{"$f":"IF(MOD(H437,2),[1]pms170!D219,[1]pms230!A219)","v":"6734503"},{"$f":"IF(MOD(H437,2),[1]pms170!B219,[1]pms230!B219)","v":"J2001861"},{"$f":"IF(MOD(H437,2),[1]pms170!C219,[1]pms230!C219)","v":"BACKREST SIDE CLOSEOUT"},{"$f":"IF(MOD(H437,2),[1]pms170!G219,[1]pms230!D219)","v":"2017-02-28"},{"$f":"IF(MOD(H437,2),[1]pms170!H219,[1]pms230!E219)","v":"2017-02-28"},{"$f":"IF(MOD(H437,2),[1]pms170!F219,[1]pms230!F219)","v":1},{"$f":"IF(MOD(H437,2),[1]pms170!A219,[1]pms230!M219)","v":"351020"},217]
[{"$f":"IF(MOD(H438,2),[1]pms230!A765,[1]pms170!D765)","v":0},{"$f":"IF(MOD(H438,2),[1]pms230!B765,[1]pms170!B765)","v":0},{"$f":"IF(MOD(H438,2),[1]pms230!C765,[1]pms170!C765)","v":0},{"$f":"IF(MOD(H438,2),[1]pms230!D765,[1]pms170!G765)","v":"00:00:00"},{"$f":"IF(MOD(H438,2),[1]pms230!E765,[1]pms170!H765)","v":"00:00:00"},{"$f":"IF(MOD(H438,2),[1]pms230!F765,[1]pms170!F765)","v":0},{"$f":"IF(MOD(H438,2),[1]pms230!M765,[1]pms170!A765)","v":0},218]
[{"$f":"IF(MOD(H439,2),[1]pms170!D220,[1]pms230!A220)","v":"962062"},{"$f":"IF(MOD(H439,2),[1]pms170!B220,[1]pms230!B220)","v":"F0453682"},{"$f":"IF(MOD(H439,2),[1]pms170!C220,[1]pms230!C220)","v":"PLATEAU"},{"$f":"IF(MOD(H439,2),[1]pms170!G220,[1]pms230!D220)","v":"2017-02-24"},{"$f":"IF(MOD(H439,2),[1]pms170!H220,[1]pms230!E220)","v":"2017-02-24"},{"$f":"IF(MOD(H439,2),[1]pms170!F220,[1]pms230!F220)","v":"22"},{"$f":"IF(MOD(H439,2),[1]pms170!A220,[1]pms230!M220)","v":"351010"},218]
[{"$f":"IF(MOD(H440,2),[1]pms230!A766,[1]pms170!D766)","v":0},{"$f":"IF(MOD(H440,2),[1]pms230!B766,[1]pms170!B766)","v":0},{"$f":"IF(MOD(H440,2),[1]pms230!C766,[1]pms170!C766)","v":0},{"$f":"IF(MOD(H440,2),[1]pms230!D766,[1]pms170!G766)","v":"00:00:00"},{"$f":"IF(MOD(H440,2),[1]pms230!E766,[1]pms170!H766)","v":"00:00:00"},{"$f":"IF(MOD(H440,2),[1]pms230!F766,[1]pms170!F766)","v":0},{"$f":"IF(MOD(H440,2),[1]pms230!M766,[1]pms170!A766)","v":0},219]
[{"$f":"IF(MOD(H441,2),[1]pms170!D221,[1]pms230!A221)","v":"6763560"},{"$f":"IF(MOD(H441,2),[1]pms170!B221,[1]pms230!B221)","v":"J2001991"},{"$f":"IF(MOD(H441,2),[1]pms170!C221,[1]pms230!C221)","v":"STOWAGE BIN"},{"$f":"IF(MOD(H441,2),[1]pms170!G221,[1]pms230!D221)","v":"2017-01-20"},{"$f":"IF(MOD(H441,2),[1]pms170!H221,[1]pms230!E221)","v":"2017-01-23"},{"$f":"IF(MOD(H441,2),[1]pms170!F221,[1]pms230!F221)","v":22},{"$f":"IF(MOD(H441,2),[1]pms170!A221,[1]pms230!M221)","v":"351020"},219]
[{"$f":"IF(MOD(H442,2),[1]pms230!A767,[1]pms170!D767)","v":0},{"$f":"IF(MOD(H442,2),[1]pms230!B767,[1]pms170!B767)","v":0},{"$f":"IF(MOD(H442,2),[1]pms230!C767,[1]pms170!C767)","v":0},{"$f":"IF(MOD(H442,2),[1]pms230!D767,[1]pms170!G767)","v":"00:00:00"},{"$f":"IF(MOD(H442,2),[1]pms230!E767,[1]pms170!H767)","v":"00:00:00"},{"$f":"IF(MOD(H442,2),[1]pms230!F767,[1]pms170!F767)","v":0},{"$f":"IF(MOD(H442,2),[1]pms230!M767,[1]pms170!A767)","v":0},220]
[{"$f":"IF(MOD(H443,2),[1]pms170!D222,[1]pms230!A222)","v":"957966"},{"$f":"IF(MOD(H443,2),[1]pms170!B222,[1]pms230!B222)","v":"F223858P070"},{"$f":"IF(MOD(H443,2),[1]pms170!C222,[1]pms230!C222)","v":"H070 CAPOT ACCD HAND"},{"$f":"IF(MOD(H443,2),[1]pms170!G222,[1]pms230!D222)","v":"2017-02-24"},{"$f":"IF(MOD(H443,2),[1]pms170!H222,[1]pms230!E222)","v":"2017-02-24"},{"$f":"IF(MOD(H443,2),[1]pms170!F222,[1]pms230!F222)","v":"53"},{"$f":"IF(MOD(H443,2),[1]pms170!A222,[1]pms230!M222)","v":"351010"},220]
[{"$f":"IF(MOD(H444,2),[1]pms230!A768,[1]pms170!D768)","v":0},{"$f":"IF(MOD(H444,2),[1]pms230!B768,[1]pms170!B768)","v":0},{"$f":"IF(MOD(H444,2),[1]pms230!C768,[1]pms170!C768)","v":0},{"$f":"IF(MOD(H444,2),[1]pms230!D768,[1]pms170!G768)","v":"00:00:00"},{"$f":"IF(MOD(H444,2),[1]pms230!E768,[1]pms170!H768)","v":"00:00:00"},{"$f":"IF(MOD(H444,2),[1]pms230!F768,[1]pms170!F768)","v":0},{"$f":"IF(MOD(H444,2),[1]pms230!M768,[1]pms170!A768)","v":0},221]
[{"$f":"IF(MOD(H445,2),[1]pms170!D223,[1]pms230!A223)","v":"6763562"},{"$f":"IF(MOD(H445,2),[1]pms170!B223,[1]pms230!B223)","v":"J2001991"},{"$f":"IF(MOD(H445,2),[1]pms170!C223,[1]pms230!C223)","v":"STOWAGE BIN"},{"$f":"IF(MOD(H445,2),[1]pms170!G223,[1]pms230!D223)","v":"2017-01-23"},{"$f":"IF(MOD(H445,2),[1]pms170!H223,[1]pms230!E223)","v":"2017-01-24"},{"$f":"IF(MOD(H445,2),[1]pms170!F223,[1]pms230!F223)","v":15},{"$f":"IF(MOD(H445,2),[1]pms170!A223,[1]pms230!M223)","v":"351020"},221]
[{"$f":"IF(MOD(H446,2),[1]pms230!A769,[1]pms170!D769)","v":0},{"$f":"IF(MOD(H446,2),[1]pms230!B769,[1]pms170!B769)","v":0},{"$f":"IF(MOD(H446,2),[1]pms230!C769,[1]pms170!C769)","v":0},{"$f":"IF(MOD(H446,2),[1]pms230!D769,[1]pms170!G769)","v":"00:00:00"},{"$f":"IF(MOD(H446,2),[1]pms230!E769,[1]pms170!H769)","v":"00:00:00"},{"$f":"IF(MOD(H446,2),[1]pms230!F769,[1]pms170!F769)","v":0},{"$f":"IF(MOD(H446,2),[1]pms230!M769,[1]pms170!A769)","v":0},222]
[{"$f":"IF(MOD(H447,2),[1]pms170!D224,[1]pms230!A224)","v":"960107"},{"$f":"IF(MOD(H447,2),[1]pms170!B224,[1]pms230!B224)","v":"F367468"},{"$f":"IF(MOD(H447,2),[1]pms170!C224,[1]pms230!C224)","v":"ENS CAPOT POIGNÉE +"},{"$f":"IF(MOD(H447,2),[1]pms170!G224,[1]pms230!D224)","v":"2017-02-24"},{"$f":"IF(MOD(H447,2),[1]pms170!H224,[1]pms230!E224)","v":"2017-02-24"},{"$f":"IF(MOD(H447,2),[1]pms170!F224,[1]pms230!F224)","v":"50"},{"$f":"IF(MOD(H447,2),[1]pms170!A224,[1]pms230!M224)","v":"351010"},222]
[{"$f":"IF(MOD(H448,2),[1]pms230!A770,[1]pms170!D770)","v":0},{"$f":"IF(MOD(H448,2),[1]pms230!B770,[1]pms170!B770)","v":0},{"$f":"IF(MOD(H448,2),[1]pms230!C770,[1]pms170!C770)","v":0},{"$f":"IF(MOD(H448,2),[1]pms230!D770,[1]pms170!G770)","v":"00:00:00"},{"$f":"IF(MOD(H448,2),[1]pms230!E770,[1]pms170!H770)","v":"00:00:00"},{"$f":"IF(MOD(H448,2),[1]pms230!F770,[1]pms170!F770)","v":0},{"$f":"IF(MOD(H448,2),[1]pms230!M770,[1]pms170!A770)","v":0},223]
[{"$f":"IF(MOD(H449,2),[1]pms170!D225,[1]pms230!A225)","v":"6763679"},{"$f":"IF(MOD(H449,2),[1]pms170!B225,[1]pms230!B225)","v":"J2002054"},{"$f":"IF(MOD(H449,2),[1]pms170!C225,[1]pms230!C225)","v":"STOWAGE BIN RH"},{"$f":"IF(MOD(H449,2),[1]pms170!G225,[1]pms230!D225)","v":"2017-01-31"},{"$f":"IF(MOD(H449,2),[1]pms170!H225,[1]pms230!E225)","v":"2017-01-31"},{"$f":"IF(MOD(H449,2),[1]pms170!F225,[1]pms230!F225)","v":20},{"$f":"IF(MOD(H449,2),[1]pms170!A225,[1]pms230!M225)","v":"351020"},223]
[{"$f":"IF(MOD(H450,2),[1]pms230!A771,[1]pms170!D771)","v":0},{"$f":"IF(MOD(H450,2),[1]pms230!B771,[1]pms170!B771)","v":0},{"$f":"IF(MOD(H450,2),[1]pms230!C771,[1]pms170!C771)","v":0},{"$f":"IF(MOD(H450,2),[1]pms230!D771,[1]pms170!G771)","v":"00:00:00"},{"$f":"IF(MOD(H450,2),[1]pms230!E771,[1]pms170!H771)","v":"00:00:00"},{"$f":"IF(MOD(H450,2),[1]pms230!F771,[1]pms170!F771)","v":0},{"$f":"IF(MOD(H450,2),[1]pms230!M771,[1]pms170!A771)","v":0},224]
[{"$f":"IF(MOD(H451,2),[1]pms170!D226,[1]pms230!A226)","v":"961029"},{"$f":"IF(MOD(H451,2),[1]pms170!B226,[1]pms230!B226)","v":"J2001907"},{"$f":"IF(MOD(H451,2),[1]pms170!C226,[1]pms230!C226)","v":"SHROUD LOWER INNER D"},{"$f":"IF(MOD(H451,2),[1]pms170!G226,[1]pms230!D226)","v":"2017-02-24"},{"$f":"IF(MOD(H451,2),[1]pms170!H226,[1]pms230!E226)","v":"2017-02-24"},{"$f":"IF(MOD(H451,2),[1]pms170!F226,[1]pms230!F226)","v":"7"},{"$f":"IF(MOD(H451,2),[1]pms170!A226,[1]pms230!M226)","v":"351030"},224]
[{"$f":"IF(MOD(H452,2),[1]pms230!A772,[1]pms170!D772)","v":0},{"$f":"IF(MOD(H452,2),[1]pms230!B772,[1]pms170!B772)","v":0},{"$f":"IF(MOD(H452,2),[1]pms230!C772,[1]pms170!C772)","v":0},{"$f":"IF(MOD(H452,2),[1]pms230!D772,[1]pms170!G772)","v":"00:00:00"},{"$f":"IF(MOD(H452,2),[1]pms230!E772,[1]pms170!H772)","v":"00:00:00"},{"$f":"IF(MOD(H452,2),[1]pms230!F772,[1]pms170!F772)","v":0},{"$f":"IF(MOD(H452,2),[1]pms230!M772,[1]pms170!A772)","v":0},225]
[{"$f":"IF(MOD(H453,2),[1]pms170!D227,[1]pms230!A227)","v":"6763687"},{"$f":"IF(MOD(H453,2),[1]pms170!B227,[1]pms230!B227)","v":"J2002055"},{"$f":"IF(MOD(H453,2),[1]pms170!C227,[1]pms230!C227)","v":"STOWAGE BIN LH"},{"$f":"IF(MOD(H453,2),[1]pms170!G227,[1]pms230!D227)","v":"2017-01-31"},{"$f":"IF(MOD(H453,2),[1]pms170!H227,[1]pms230!E227)","v":"2017-01-31"},{"$f":"IF(MOD(H453,2),[1]pms170!F227,[1]pms230!F227)","v":21},{"$f":"IF(MOD(H453,2),[1]pms170!A227,[1]pms230!M227)","v":"351020"},225]
[{"$f":"IF(MOD(H454,2),[1]pms230!A773,[1]pms170!D773)","v":0},{"$f":"IF(MOD(H454,2),[1]pms230!B773,[1]pms170!B773)","v":0},{"$f":"IF(MOD(H454,2),[1]pms230!C773,[1]pms170!C773)","v":0},{"$f":"IF(MOD(H454,2),[1]pms230!D773,[1]pms170!G773)","v":"00:00:00"},{"$f":"IF(MOD(H454,2),[1]pms230!E773,[1]pms170!H773)","v":"00:00:00"},{"$f":"IF(MOD(H454,2),[1]pms230!F773,[1]pms170!F773)","v":0},{"$f":"IF(MOD(H454,2),[1]pms230!M773,[1]pms170!A773)","v":0},226]
[{"$f":"IF(MOD(H455,2),[1]pms170!D228,[1]pms230!A228)","v":"962266"},{"$f":"IF(MOD(H455,2),[1]pms170!B228,[1]pms230!B228)","v":"J2000181"},{"$f":"IF(MOD(H455,2),[1]pms170!C228,[1]pms230!C228)","v":"PANEL SHOE STOW UPPE"},{"$f":"IF(MOD(H455,2),[1]pms170!G228,[1]pms230!D228)","v":"2017-02-27"},{"$f":"IF(MOD(H455,2),[1]pms170!H228,[1]pms230!E228)","v":"2017-02-27"},{"$f":"IF(MOD(H455,2),[1]pms170!F228,[1]pms230!F228)","v":"17"},{"$f":"IF(MOD(H455,2),[1]pms170!A228,[1]pms230!M228)","v":"351020"},226]
[{"$f":"IF(MOD(H456,2),[1]pms230!A774,[1]pms170!D774)","v":0},{"$f":"IF(MOD(H456,2),[1]pms230!B774,[1]pms170!B774)","v":0},{"$f":"IF(MOD(H456,2),[1]pms230!C774,[1]pms170!C774)","v":0},{"$f":"IF(MOD(H456,2),[1]pms230!D774,[1]pms170!G774)","v":"00:00:00"},{"$f":"IF(MOD(H456,2),[1]pms230!E774,[1]pms170!H774)","v":"00:00:00"},{"$f":"IF(MOD(H456,2),[1]pms230!F774,[1]pms170!F774)","v":0},{"$f":"IF(MOD(H456,2),[1]pms230!M774,[1]pms170!A774)","v":0},227]
[{"$f":"IF(MOD(H457,2),[1]pms170!D229,[1]pms230!A229)","v":"6763689"},{"$f":"IF(MOD(H457,2),[1]pms170!B229,[1]pms230!B229)","v":"J2002055"},{"$f":"IF(MOD(H457,2),[1]pms170!C229,[1]pms230!C229)","v":"STOWAGE BIN LH"},{"$f":"IF(MOD(H457,2),[1]pms170!G229,[1]pms230!D229)","v":"2017-01-31"},{"$f":"IF(MOD(H457,2),[1]pms170!H229,[1]pms230!E229)","v":"2017-01-31"},{"$f":"IF(MOD(H457,2),[1]pms170!F229,[1]pms230!F229)","v":7},{"$f":"IF(MOD(H457,2),[1]pms170!A229,[1]pms230!M229)","v":"351020"},227]
[{"$f":"IF(MOD(H458,2),[1]pms230!A775,[1]pms170!D775)","v":0},{"$f":"IF(MOD(H458,2),[1]pms230!B775,[1]pms170!B775)","v":0},{"$f":"IF(MOD(H458,2),[1]pms230!C775,[1]pms170!C775)","v":0},{"$f":"IF(MOD(H458,2),[1]pms230!D775,[1]pms170!G775)","v":"00:00:00"},{"$f":"IF(MOD(H458,2),[1]pms230!E775,[1]pms170!H775)","v":"00:00:00"},{"$f":"IF(MOD(H458,2),[1]pms230!F775,[1]pms170!F775)","v":0},{"$f":"IF(MOD(H458,2),[1]pms230!M775,[1]pms170!A775)","v":0},228]
[{"$f":"IF(MOD(H459,2),[1]pms170!D230,[1]pms230!A230)","v":"961518"},{"$f":"IF(MOD(H459,2),[1]pms170!B230,[1]pms230!B230)","v":"F0450776"},{"$f":"IF(MOD(H459,2),[1]pms170!C230,[1]pms230!C230)","v":"ENS KICK PANEL CENT"},{"$f":"IF(MOD(H459,2),[1]pms170!G230,[1]pms230!D230)","v":"2017-02-27"},{"$f":"IF(MOD(H459,2),[1]pms170!H230,[1]pms230!E230)","v":"2017-02-27"},{"$f":"IF(MOD(H459,2),[1]pms170!F230,[1]pms230!F230)","v":"13"},{"$f":"IF(MOD(H459,2),[1]pms170!A230,[1]pms230!M230)","v":"351060"},228]
[{"$f":"IF(MOD(H460,2),[1]pms230!A776,[1]pms170!D776)","v":0},{"$f":"IF(MOD(H460,2),[1]pms230!B776,[1]pms170!B776)","v":0},{"$f":"IF(MOD(H460,2),[1]pms230!C776,[1]pms170!C776)","v":0},{"$f":"IF(MOD(H460,2),[1]pms230!D776,[1]pms170!G776)","v":"00:00:00"},{"$f":"IF(MOD(H460,2),[1]pms230!E776,[1]pms170!H776)","v":"00:00:00"},{"$f":"IF(MOD(H460,2),[1]pms230!F776,[1]pms170!F776)","v":0},{"$f":"IF(MOD(H460,2),[1]pms230!M776,[1]pms170!A776)","v":0},229]
[{"$f":"IF(MOD(H461,2),[1]pms170!D231,[1]pms230!A231)","v":"6763880"},{"$f":"IF(MOD(H461,2),[1]pms170!B231,[1]pms230!B231)","v":"J2002124"},{"$f":"IF(MOD(H461,2),[1]pms170!C231,[1]pms230!C231)","v":"FOOTWELL LINER ASSY"},{"$f":"IF(MOD(H461,2),[1]pms170!G231,[1]pms230!D231)","v":"2017-02-27"},{"$f":"IF(MOD(H461,2),[1]pms170!H231,[1]pms230!E231)","v":"2017-02-27"},{"$f":"IF(MOD(H461,2),[1]pms170!F231,[1]pms230!F231)","v":12},{"$f":"IF(MOD(H461,2),[1]pms170!A231,[1]pms230!M231)","v":"351020"},229]
[{"$f":"IF(MOD(H462,2),[1]pms230!A777,[1]pms170!D777)","v":0},{"$f":"IF(MOD(H462,2),[1]pms230!B777,[1]pms170!B777)","v":0},{"$f":"IF(MOD(H462,2),[1]pms230!C777,[1]pms170!C777)","v":0},{"$f":"IF(MOD(H462,2),[1]pms230!D777,[1]pms170!G777)","v":"00:00:00"},{"$f":"IF(MOD(H462,2),[1]pms230!E777,[1]pms170!H777)","v":"00:00:00"},{"$f":"IF(MOD(H462,2),[1]pms230!F777,[1]pms170!F777)","v":0},{"$f":"IF(MOD(H462,2),[1]pms230!M777,[1]pms170!A777)","v":0},230]
[{"$f":"IF(MOD(H463,2),[1]pms170!D232,[1]pms230!A232)","v":"960574"},{"$f":"IF(MOD(H463,2),[1]pms170!B232,[1]pms230!B232)","v":"J2002061"},{"$f":"IF(MOD(H463,2),[1]pms170!C232,[1]pms230!C232)","v":"CLOSEOUT UPPER MED S"},{"$f":"IF(MOD(H463,2),[1]pms170!G232,[1]pms230!D232)","v":"2017-02-27"},{"$f":"IF(MOD(H463,2),[1]pms170!H232,[1]pms230!E232)","v":"2017-02-27"},{"$f":"IF(MOD(H463,2),[1]pms170!F232,[1]pms230!F232)","v":"11"},{"$f":"IF(MOD(H463,2),[1]pms170!A232,[1]pms230!M232)","v":"351020"},230]
[{"$f":"IF(MOD(H464,2),[1]pms230!A778,[1]pms170!D778)","v":0},{"$f":"IF(MOD(H464,2),[1]pms230!B778,[1]pms170!B778)","v":0},{"$f":"IF(MOD(H464,2),[1]pms230!C778,[1]pms170!C778)","v":0},{"$f":"IF(MOD(H464,2),[1]pms230!D778,[1]pms170!G778)","v":"00:00:00"},{"$f":"IF(MOD(H464,2),[1]pms230!E778,[1]pms170!H778)","v":"00:00:00"},{"$f":"IF(MOD(H464,2),[1]pms230!F778,[1]pms170!F778)","v":0},{"$f":"IF(MOD(H464,2),[1]pms230!M778,[1]pms170!A778)","v":0},231]
[{"$f":"IF(MOD(H465,2),[1]pms170!D233,[1]pms230!A233)","v":"7253719"},{"$f":"IF(MOD(H465,2),[1]pms170!B233,[1]pms230!B233)","v":"J2000689"},{"$f":"IF(MOD(H465,2),[1]pms170!C233,[1]pms230!C233)","v":"LIT POCKET ASSY DOUBLE STD"},{"$f":"IF(MOD(H465,2),[1]pms170!G233,[1]pms230!D233)","v":"2017-02-28"},{"$f":"IF(MOD(H465,2),[1]pms170!H233,[1]pms230!E233)","v":"2017-02-28"},{"$f":"IF(MOD(H465,2),[1]pms170!F233,[1]pms230!F233)","v":3},{"$f":"IF(MOD(H465,2),[1]pms170!A233,[1]pms230!M233)","v":"351030"},231]
[{"$f":"IF(MOD(H466,2),[1]pms230!A779,[1]pms170!D779)","v":0},{"$f":"IF(MOD(H466,2),[1]pms230!B779,[1]pms170!B779)","v":0},{"$f":"IF(MOD(H466,2),[1]pms230!C779,[1]pms170!C779)","v":0},{"$f":"IF(MOD(H466,2),[1]pms230!D779,[1]pms170!G779)","v":"00:00:00"},{"$f":"IF(MOD(H466,2),[1]pms230!E779,[1]pms170!H779)","v":"00:00:00"},{"$f":"IF(MOD(H466,2),[1]pms230!F779,[1]pms170!F779)","v":0},{"$f":"IF(MOD(H466,2),[1]pms230!M779,[1]pms170!A779)","v":0},232]
[{"$f":"IF(MOD(H467,2),[1]pms170!D234,[1]pms230!A234)","v":"961616"},{"$f":"IF(MOD(H467,2),[1]pms170!B234,[1]pms230!B234)","v":"F0468874"},{"$f":"IF(MOD(H467,2),[1]pms170!C234,[1]pms230!C234)","v":"CAPOT"},{"$f":"IF(MOD(H467,2),[1]pms170!G234,[1]pms230!D234)","v":"2017-02-28"},{"$f":"IF(MOD(H467,2),[1]pms170!H234,[1]pms230!E234)","v":"2017-02-28"},{"$f":"IF(MOD(H467,2),[1]pms170!F234,[1]pms230!F234)","v":"46"},{"$f":"IF(MOD(H467,2),[1]pms170!A234,[1]pms230!M234)","v":"351010"},232]
[{"$f":"IF(MOD(H468,2),[1]pms230!A780,[1]pms170!D780)","v":0},{"$f":"IF(MOD(H468,2),[1]pms230!B780,[1]pms170!B780)","v":0},{"$f":"IF(MOD(H468,2),[1]pms230!C780,[1]pms170!C780)","v":0},{"$f":"IF(MOD(H468,2),[1]pms230!D780,[1]pms170!G780)","v":"00:00:00"},{"$f":"IF(MOD(H468,2),[1]pms230!E780,[1]pms170!H780)","v":"00:00:00"},{"$f":"IF(MOD(H468,2),[1]pms230!F780,[1]pms170!F780)","v":0},{"$f":"IF(MOD(H468,2),[1]pms230!M780,[1]pms170!A780)","v":0},233]
[{"$f":"IF(MOD(H469,2),[1]pms170!D235,[1]pms230!A235)","v":"6763774"},{"$f":"IF(MOD(H469,2),[1]pms170!B235,[1]pms230!B235)","v":"J2002073"},{"$f":"IF(MOD(H469,2),[1]pms170!C235,[1]pms230!C235)","v":"FOOTREST COVER ASSY"},{"$f":"IF(MOD(H469,2),[1]pms170!G235,[1]pms230!D235)","v":"2017-02-08"},{"$f":"IF(MOD(H469,2),[1]pms170!H235,[1]pms230!E235)","v":"2017-02-08"},{"$f":"IF(MOD(H469,2),[1]pms170!F235,[1]pms230!F235)","v":1},{"$f":"IF(MOD(H469,2),[1]pms170!A235,[1]pms230!M235)","v":"351030"},233]
[{"$f":"IF(MOD(H470,2),[1]pms230!A781,[1]pms170!D781)","v":0},{"$f":"IF(MOD(H470,2),[1]pms230!B781,[1]pms170!B781)","v":0},{"$f":"IF(MOD(H470,2),[1]pms230!C781,[1]pms170!C781)","v":0},{"$f":"IF(MOD(H470,2),[1]pms230!D781,[1]pms170!G781)","v":"00:00:00"},{"$f":"IF(MOD(H470,2),[1]pms230!E781,[1]pms170!H781)","v":"00:00:00"},{"$f":"IF(MOD(H470,2),[1]pms230!F781,[1]pms170!F781)","v":0},{"$f":"IF(MOD(H470,2),[1]pms230!M781,[1]pms170!A781)","v":0},234]
[{"$f":"IF(MOD(H471,2),[1]pms170!D236,[1]pms230!A236)","v":"962061"},{"$f":"IF(MOD(H471,2),[1]pms170!B236,[1]pms230!B236)","v":"F0453681"},{"$f":"IF(MOD(H471,2),[1]pms170!C236,[1]pms230!C236)","v":"CAPOT DE FLANC"},{"$f":"IF(MOD(H471,2),[1]pms170!G236,[1]pms230!D236)","v":"2017-02-28"},{"$f":"IF(MOD(H471,2),[1]pms170!H236,[1]pms230!E236)","v":"2017-02-28"},{"$f":"IF(MOD(H471,2),[1]pms170!F236,[1]pms230!F236)","v":"25"},{"$f":"IF(MOD(H471,2),[1]pms170!A236,[1]pms230!M236)","v":"351010"},234]
[{"$f":"IF(MOD(H472,2),[1]pms230!A782,[1]pms170!D782)","v":0},{"$f":"IF(MOD(H472,2),[1]pms230!B782,[1]pms170!B782)","v":0},{"$f":"IF(MOD(H472,2),[1]pms230!C782,[1]pms170!C782)","v":0},{"$f":"IF(MOD(H472,2),[1]pms230!D782,[1]pms170!G782)","v":"00:00:00"},{"$f":"IF(MOD(H472,2),[1]pms230!E782,[1]pms170!H782)","v":"00:00:00"},{"$f":"IF(MOD(H472,2),[1]pms230!F782,[1]pms170!F782)","v":0},{"$f":"IF(MOD(H472,2),[1]pms230!M782,[1]pms170!A782)","v":0},235]
[{"$f":"IF(MOD(H473,2),[1]pms170!D237,[1]pms230!A237)","v":"6742929"},{"$f":"IF(MOD(H473,2),[1]pms170!B237,[1]pms230!B237)","v":"F0439643"},{"$f":"IF(MOD(H473,2),[1]pms170!C237,[1]pms230!C237)","v":"ENS CACHE POUTRE"},{"$f":"IF(MOD(H473,2),[1]pms170!G237,[1]pms230!D237)","v":"2017-02-15"},{"$f":"IF(MOD(H473,2),[1]pms170!H237,[1]pms230!E237)","v":"2017-02-15"},{"$f":"IF(MOD(H473,2),[1]pms170!F237,[1]pms230!F237)","v":4},{"$f":"IF(MOD(H473,2),[1]pms170!A237,[1]pms230!M237)","v":"351060"},235]
[{"$f":"IF(MOD(H474,2),[1]pms230!A783,[1]pms170!D783)","v":0},{"$f":"IF(MOD(H474,2),[1]pms230!B783,[1]pms170!B783)","v":0},{"$f":"IF(MOD(H474,2),[1]pms230!C783,[1]pms170!C783)","v":0},{"$f":"IF(MOD(H474,2),[1]pms230!D783,[1]pms170!G783)","v":"00:00:00"},{"$f":"IF(MOD(H474,2),[1]pms230!E783,[1]pms170!H783)","v":"00:00:00"},{"$f":"IF(MOD(H474,2),[1]pms230!F783,[1]pms170!F783)","v":0},{"$f":"IF(MOD(H474,2),[1]pms230!M783,[1]pms170!A783)","v":0},236]
[{"$f":"IF(MOD(H475,2),[1]pms170!D238,[1]pms230!A238)","v":"961618"},{"$f":"IF(MOD(H475,2),[1]pms170!B238,[1]pms230!B238)","v":"F1EQ0D0170S2"},{"$f":"IF(MOD(H475,2),[1]pms170!C238,[1]pms230!C238)","v":"CAPOT EPML"},{"$f":"IF(MOD(H475,2),[1]pms170!G238,[1]pms230!D238)","v":"2017-03-02"},{"$f":"IF(MOD(H475,2),[1]pms170!H238,[1]pms230!E238)","v":"2017-03-02"},{"$f":"IF(MOD(H475,2),[1]pms170!F238,[1]pms230!F238)","v":"52"},{"$f":"IF(MOD(H475,2),[1]pms170!A238,[1]pms230!M238)","v":"351010"},236]
[{"$f":"IF(MOD(H476,2),[1]pms230!A784,[1]pms170!D784)","v":0},{"$f":"IF(MOD(H476,2),[1]pms230!B784,[1]pms170!B784)","v":0},{"$f":"IF(MOD(H476,2),[1]pms230!C784,[1]pms170!C784)","v":0},{"$f":"IF(MOD(H476,2),[1]pms230!D784,[1]pms170!G784)","v":"00:00:00"},{"$f":"IF(MOD(H476,2),[1]pms230!E784,[1]pms170!H784)","v":"00:00:00"},{"$f":"IF(MOD(H476,2),[1]pms230!F784,[1]pms170!F784)","v":0},{"$f":"IF(MOD(H476,2),[1]pms230!M784,[1]pms170!A784)","v":0},237]
[{"$f":"IF(MOD(H477,2),[1]pms170!D239,[1]pms230!A239)","v":"7196875"},{"$f":"IF(MOD(H477,2),[1]pms170!B239,[1]pms230!B239)","v":"F0441778"},{"$f":"IF(MOD(H477,2),[1]pms170!C239,[1]pms230!C239)","v":"ENS CAPOT MOBILE"},{"$f":"IF(MOD(H477,2),[1]pms170!G239,[1]pms230!D239)","v":"2017-02-09"},{"$f":"IF(MOD(H477,2),[1]pms170!H239,[1]pms230!E239)","v":"2017-02-09"},{"$f":"IF(MOD(H477,2),[1]pms170!F239,[1]pms230!F239)","v":2},{"$f":"IF(MOD(H477,2),[1]pms170!A239,[1]pms230!M239)","v":"351060"},237]
[{"$f":"IF(MOD(H478,2),[1]pms230!A785,[1]pms170!D785)","v":0},{"$f":"IF(MOD(H478,2),[1]pms230!B785,[1]pms170!B785)","v":0},{"$f":"IF(MOD(H478,2),[1]pms230!C785,[1]pms170!C785)","v":0},{"$f":"IF(MOD(H478,2),[1]pms230!D785,[1]pms170!G785)","v":"00:00:00"},{"$f":"IF(MOD(H478,2),[1]pms230!E785,[1]pms170!H785)","v":"00:00:00"},{"$f":"IF(MOD(H478,2),[1]pms230!F785,[1]pms170!F785)","v":0},{"$f":"IF(MOD(H478,2),[1]pms230!M785,[1]pms170!A785)","v":0},238]
[{"$f":"IF(MOD(H479,2),[1]pms170!D240,[1]pms230!A240)","v":"961621"},{"$f":"IF(MOD(H479,2),[1]pms170!B240,[1]pms230!B240)","v":"F225530P041"},{"$f":"IF(MOD(H479,2),[1]pms170!C240,[1]pms230!C240)","v":"H041 EQUERRE DE FIXA"},{"$f":"IF(MOD(H479,2),[1]pms170!G240,[1]pms230!D240)","v":"2017-03-03"},{"$f":"IF(MOD(H479,2),[1]pms170!H240,[1]pms230!E240)","v":"2017-03-03"},{"$f":"IF(MOD(H479,2),[1]pms170!F240,[1]pms230!F240)","v":"52"},{"$f":"IF(MOD(H479,2),[1]pms170!A240,[1]pms230!M240)","v":"351010"},238]
[{"$f":"IF(MOD(H480,2),[1]pms230!A786,[1]pms170!D786)","v":0},{"$f":"IF(MOD(H480,2),[1]pms230!B786,[1]pms170!B786)","v":0},{"$f":"IF(MOD(H480,2),[1]pms230!C786,[1]pms170!C786)","v":0},{"$f":"IF(MOD(H480,2),[1]pms230!D786,[1]pms170!G786)","v":"00:00:00"},{"$f":"IF(MOD(H480,2),[1]pms230!E786,[1]pms170!H786)","v":"00:00:00"},{"$f":"IF(MOD(H480,2),[1]pms230!F786,[1]pms170!F786)","v":0},{"$f":"IF(MOD(H480,2),[1]pms230!M786,[1]pms170!A786)","v":0},239]
[{"$f":"IF(MOD(H481,2),[1]pms170!D241,[1]pms230!A241)","v":"7214718"},{"$f":"IF(MOD(H481,2),[1]pms170!B241,[1]pms230!B241)","v":"F0453648"},{"$f":"IF(MOD(H481,2),[1]pms170!C241,[1]pms230!C241)","v":"ENSEMBLE CAPOT INF RJ"},{"$f":"IF(MOD(H481,2),[1]pms170!G241,[1]pms230!D241)","v":"2017-02-03"},{"$f":"IF(MOD(H481,2),[1]pms170!H241,[1]pms230!E241)","v":"2017-02-03"},{"$f":"IF(MOD(H481,2),[1]pms170!F241,[1]pms230!F241)","v":17},{"$f":"IF(MOD(H481,2),[1]pms170!A241,[1]pms230!M241)","v":"351060"},239]
[{"$f":"IF(MOD(H482,2),[1]pms230!A787,[1]pms170!D787)","v":0},{"$f":"IF(MOD(H482,2),[1]pms230!B787,[1]pms170!B787)","v":0},{"$f":"IF(MOD(H482,2),[1]pms230!C787,[1]pms170!C787)","v":0},{"$f":"IF(MOD(H482,2),[1]pms230!D787,[1]pms170!G787)","v":"00:00:00"},{"$f":"IF(MOD(H482,2),[1]pms230!E787,[1]pms170!H787)","v":"00:00:00"},{"$f":"IF(MOD(H482,2),[1]pms230!F787,[1]pms170!F787)","v":0},{"$f":"IF(MOD(H482,2),[1]pms230!M787,[1]pms170!A787)","v":0},240]
[{"$f":"IF(MOD(H483,2),[1]pms170!D242,[1]pms230!A242)","v":"960494"},{"$f":"IF(MOD(H483,2),[1]pms170!B242,[1]pms230!B242)","v":"F0447536"},{"$f":"IF(MOD(H483,2),[1]pms170!C242,[1]pms230!C242)","v":"CAPOT JOINT G"},{"$f":"IF(MOD(H483,2),[1]pms170!G242,[1]pms230!D242)","v":"2017-03-03"},{"$f":"IF(MOD(H483,2),[1]pms170!H242,[1]pms230!E242)","v":"2017-03-03"},{"$f":"IF(MOD(H483,2),[1]pms170!F242,[1]pms230!F242)","v":"51"},{"$f":"IF(MOD(H483,2),[1]pms170!A242,[1]pms230!M242)","v":"351010"},240]
[{"$f":"IF(MOD(H484,2),[1]pms230!A788,[1]pms170!D788)","v":0},{"$f":"IF(MOD(H484,2),[1]pms230!B788,[1]pms170!B788)","v":0},{"$f":"IF(MOD(H484,2),[1]pms230!C788,[1]pms170!C788)","v":0},{"$f":"IF(MOD(H484,2),[1]pms230!D788,[1]pms170!G788)","v":"00:00:00"},{"$f":"IF(MOD(H484,2),[1]pms230!E788,[1]pms170!H788)","v":"00:00:00"},{"$f":"IF(MOD(H484,2),[1]pms230!F788,[1]pms170!F788)","v":0},{"$f":"IF(MOD(H484,2),[1]pms230!M788,[1]pms170!A788)","v":0},241]
[{"$f":"IF(MOD(H485,2),[1]pms170!D243,[1]pms230!A243)","v":"7099122"},{"$f":"IF(MOD(H485,2),[1]pms170!B243,[1]pms230!B243)","v":"F0458757"},{"$f":"IF(MOD(H485,2),[1]pms170!C243,[1]pms230!C243)","v":"ENSEMBLE BOITIER"},{"$f":"IF(MOD(H485,2),[1]pms170!G243,[1]pms230!D243)","v":"2017-01-23"},{"$f":"IF(MOD(H485,2),[1]pms170!H243,[1]pms230!E243)","v":"2017-01-23"},{"$f":"IF(MOD(H485,2),[1]pms170!F243,[1]pms230!F243)","v":2},{"$f":"IF(MOD(H485,2),[1]pms170!A243,[1]pms230!M243)","v":"351060"},241]
[{"$f":"IF(MOD(H486,2),[1]pms230!A789,[1]pms170!D789)","v":0},{"$f":"IF(MOD(H486,2),[1]pms230!B789,[1]pms170!B789)","v":0},{"$f":"IF(MOD(H486,2),[1]pms230!C789,[1]pms170!C789)","v":0},{"$f":"IF(MOD(H486,2),[1]pms230!D789,[1]pms170!G789)","v":"00:00:00"},{"$f":"IF(MOD(H486,2),[1]pms230!E789,[1]pms170!H789)","v":"00:00:00"},{"$f":"IF(MOD(H486,2),[1]pms230!F789,[1]pms170!F789)","v":0},{"$f":"IF(MOD(H486,2),[1]pms230!M789,[1]pms170!A789)","v":0},242]
[{"$f":"IF(MOD(H487,2),[1]pms170!D244,[1]pms230!A244)","v":"960619"},{"$f":"IF(MOD(H487,2),[1]pms170!B244,[1]pms230!B244)","v":"F0458236"},{"$f":"IF(MOD(H487,2),[1]pms170!C244,[1]pms230!C244)","v":"MOUSSE TABLETTE"},{"$f":"IF(MOD(H487,2),[1]pms170!G244,[1]pms230!D244)","v":"2017-03-03"},{"$f":"IF(MOD(H487,2),[1]pms170!H244,[1]pms230!E244)","v":"2017-03-03"},{"$f":"IF(MOD(H487,2),[1]pms170!F244,[1]pms230!F244)","v":"50"},{"$f":"IF(MOD(H487,2),[1]pms170!A244,[1]pms230!M244)","v":"351015"},242]
[{"$f":"IF(MOD(H488,2),[1]pms230!A790,[1]pms170!D790)","v":0},{"$f":"IF(MOD(H488,2),[1]pms230!B790,[1]pms170!B790)","v":0},{"$f":"IF(MOD(H488,2),[1]pms230!C790,[1]pms170!C790)","v":0},{"$f":"IF(MOD(H488,2),[1]pms230!D790,[1]pms170!G790)","v":"00:00:00"},{"$f":"IF(MOD(H488,2),[1]pms230!E790,[1]pms170!H790)","v":"00:00:00"},{"$f":"IF(MOD(H488,2),[1]pms230!F790,[1]pms170!F790)","v":0},{"$f":"IF(MOD(H488,2),[1]pms230!M790,[1]pms170!A790)","v":0},243]
[{"$f":"IF(MOD(H489,2),[1]pms170!D245,[1]pms230!A245)","v":"7150928"},{"$f":"IF(MOD(H489,2),[1]pms170!B245,[1]pms230!B245)","v":"F0464408"},{"$f":"IF(MOD(H489,2),[1]pms170!C245,[1]pms230!C245)","v":"BOITIER VERT EQ"},{"$f":"IF(MOD(H489,2),[1]pms170!G245,[1]pms230!D245)","v":"2017-02-06"},{"$f":"IF(MOD(H489,2),[1]pms170!H245,[1]pms230!E245)","v":"2017-02-06"},{"$f":"IF(MOD(H489,2),[1]pms170!F245,[1]pms230!F245)","v":38},{"$f":"IF(MOD(H489,2),[1]pms170!A245,[1]pms230!M245)","v":"351060"},243]
[{"$f":"IF(MOD(H490,2),[1]pms230!A791,[1]pms170!D791)","v":0},{"$f":"IF(MOD(H490,2),[1]pms230!B791,[1]pms170!B791)","v":0},{"$f":"IF(MOD(H490,2),[1]pms230!C791,[1]pms170!C791)","v":0},{"$f":"IF(MOD(H490,2),[1]pms230!D791,[1]pms170!G791)","v":"00:00:00"},{"$f":"IF(MOD(H490,2),[1]pms230!E791,[1]pms170!H791)","v":"00:00:00"},{"$f":"IF(MOD(H490,2),[1]pms230!F791,[1]pms170!F791)","v":0},{"$f":"IF(MOD(H490,2),[1]pms230!M791,[1]pms170!A791)","v":0},244]
[{"$f":"IF(MOD(H491,2),[1]pms170!D246,[1]pms230!A246)","v":"962072"},{"$f":"IF(MOD(H491,2),[1]pms170!B246,[1]pms230!B246)","v":"F0455343"},{"$f":"IF(MOD(H491,2),[1]pms170!C246,[1]pms230!C246)","v":"OMEGA RENFORT"},{"$f":"IF(MOD(H491,2),[1]pms170!G246,[1]pms230!D246)","v":"2017-03-06"},{"$f":"IF(MOD(H491,2),[1]pms170!H246,[1]pms230!E246)","v":"2017-03-06"},{"$f":"IF(MOD(H491,2),[1]pms170!F246,[1]pms230!F246)","v":"52"},{"$f":"IF(MOD(H491,2),[1]pms170!A246,[1]pms230!M246)","v":"351010"},244]
[{"$f":"IF(MOD(H492,2),[1]pms230!A792,[1]pms170!D792)","v":0},{"$f":"IF(MOD(H492,2),[1]pms230!B792,[1]pms170!B792)","v":0},{"$f":"IF(MOD(H492,2),[1]pms230!C792,[1]pms170!C792)","v":0},{"$f":"IF(MOD(H492,2),[1]pms230!D792,[1]pms170!G792)","v":"00:00:00"},{"$f":"IF(MOD(H492,2),[1]pms230!E792,[1]pms170!H792)","v":"00:00:00"},{"$f":"IF(MOD(H492,2),[1]pms230!F792,[1]pms170!F792)","v":0},{"$f":"IF(MOD(H492,2),[1]pms230!M792,[1]pms170!A792)","v":0},245]
[{"$f":"IF(MOD(H493,2),[1]pms170!D247,[1]pms230!A247)","v":"7099191"},{"$f":"IF(MOD(H493,2),[1]pms170!B247,[1]pms230!B247)","v":"F0464412"},{"$f":"IF(MOD(H493,2),[1]pms170!C247,[1]pms230!C247)","v":"ENS BOITIER VERTICAL"},{"$f":"IF(MOD(H493,2),[1]pms170!G247,[1]pms230!D247)","v":"2017-02-09"},{"$f":"IF(MOD(H493,2),[1]pms170!H247,[1]pms230!E247)","v":"2017-02-09"},{"$f":"IF(MOD(H493,2),[1]pms170!F247,[1]pms230!F247)","v":50},{"$f":"IF(MOD(H493,2),[1]pms170!A247,[1]pms230!M247)","v":"351060"},245]
[{"$f":"IF(MOD(H494,2),[1]pms230!A793,[1]pms170!D793)","v":0},{"$f":"IF(MOD(H494,2),[1]pms230!B793,[1]pms170!B793)","v":0},{"$f":"IF(MOD(H494,2),[1]pms230!C793,[1]pms170!C793)","v":0},{"$f":"IF(MOD(H494,2),[1]pms230!D793,[1]pms170!G793)","v":"00:00:00"},{"$f":"IF(MOD(H494,2),[1]pms230!E793,[1]pms170!H793)","v":"00:00:00"},{"$f":"IF(MOD(H494,2),[1]pms230!F793,[1]pms170!F793)","v":0},{"$f":"IF(MOD(H494,2),[1]pms230!M793,[1]pms170!A793)","v":0},246]
[{"$f":"IF(MOD(H495,2),[1]pms170!D248,[1]pms230!A248)","v":"962074"},{"$f":"IF(MOD(H495,2),[1]pms170!B248,[1]pms230!B248)","v":"F0448730"},{"$f":"IF(MOD(H495,2),[1]pms170!C248,[1]pms230!C248)","v":"CAPOT CROSSE CTR M J"},{"$f":"IF(MOD(H495,2),[1]pms170!G248,[1]pms230!D248)","v":"2017-03-07"},{"$f":"IF(MOD(H495,2),[1]pms170!H248,[1]pms230!E248)","v":"2017-03-07"},{"$f":"IF(MOD(H495,2),[1]pms170!F248,[1]pms230!F248)","v":"53"},{"$f":"IF(MOD(H495,2),[1]pms170!A248,[1]pms230!M248)","v":"351010"},246]
[{"$f":"IF(MOD(H496,2),[1]pms230!A794,[1]pms170!D794)","v":0},{"$f":"IF(MOD(H496,2),[1]pms230!B794,[1]pms170!B794)","v":0},{"$f":"IF(MOD(H496,2),[1]pms230!C794,[1]pms170!C794)","v":0},{"$f":"IF(MOD(H496,2),[1]pms230!D794,[1]pms170!G794)","v":"00:00:00"},{"$f":"IF(MOD(H496,2),[1]pms230!E794,[1]pms170!H794)","v":"00:00:00"},{"$f":"IF(MOD(H496,2),[1]pms230!F794,[1]pms170!F794)","v":0},{"$f":"IF(MOD(H496,2),[1]pms230!M794,[1]pms170!A794)","v":0},247]
[{"$f":"IF(MOD(H497,2),[1]pms170!D249,[1]pms230!A249)","v":"7134299"},{"$f":"IF(MOD(H497,2),[1]pms170!B249,[1]pms230!B249)","v":"F0471825"},{"$f":"IF(MOD(H497,2),[1]pms170!C249,[1]pms230!C249)","v":"ENS CAPOT AR INF DOSSIER 17\"2"},{"$f":"IF(MOD(H497,2),[1]pms170!G249,[1]pms230!D249)","v":"2017-02-03"},{"$f":"IF(MOD(H497,2),[1]pms170!H249,[1]pms230!E249)","v":"2017-02-03"},{"$f":"IF(MOD(H497,2),[1]pms170!F249,[1]pms230!F249)","v":6},{"$f":"IF(MOD(H497,2),[1]pms170!A249,[1]pms230!M249)","v":"351060"},247]
[{"$f":"IF(MOD(H498,2),[1]pms230!A795,[1]pms170!D795)","v":0},{"$f":"IF(MOD(H498,2),[1]pms230!B795,[1]pms170!B795)","v":0},{"$f":"IF(MOD(H498,2),[1]pms230!C795,[1]pms170!C795)","v":0},{"$f":"IF(MOD(H498,2),[1]pms230!D795,[1]pms170!G795)","v":"00:00:00"},{"$f":"IF(MOD(H498,2),[1]pms230!E795,[1]pms170!H795)","v":"00:00:00"},{"$f":"IF(MOD(H498,2),[1]pms230!F795,[1]pms170!F795)","v":0},{"$f":"IF(MOD(H498,2),[1]pms230!M795,[1]pms170!A795)","v":0},248]
[{"$f":"IF(MOD(H499,2),[1]pms170!D250,[1]pms230!A250)","v":"961619"},{"$f":"IF(MOD(H499,2),[1]pms170!B250,[1]pms230!B250)","v":"F0435866"},{"$f":"IF(MOD(H499,2),[1]pms170!C250,[1]pms230!C250)","v":"RENFORT CAPOT CROSSE"},{"$f":"IF(MOD(H499,2),[1]pms170!G250,[1]pms230!D250)","v":"2017-03-08"},{"$f":"IF(MOD(H499,2),[1]pms170!H250,[1]pms230!E250)","v":"2017-03-08"},{"$f":"IF(MOD(H499,2),[1]pms170!F250,[1]pms230!F250)","v":"52"},{"$f":"IF(MOD(H499,2),[1]pms170!A250,[1]pms230!M250)","v":"351010"},248]
[{"$f":"IF(MOD(H500,2),[1]pms230!A796,[1]pms170!D796)","v":0},{"$f":"IF(MOD(H500,2),[1]pms230!B796,[1]pms170!B796)","v":0},{"$f":"IF(MOD(H500,2),[1]pms230!C796,[1]pms170!C796)","v":0},{"$f":"IF(MOD(H500,2),[1]pms230!D796,[1]pms170!G796)","v":"00:00:00"},{"$f":"IF(MOD(H500,2),[1]pms230!E796,[1]pms170!H796)","v":"00:00:00"},{"$f":"IF(MOD(H500,2),[1]pms230!F796,[1]pms170!F796)","v":0},{"$f":"IF(MOD(H500,2),[1]pms230!M796,[1]pms170!A796)","v":0},249]
[{"$f":"IF(MOD(H501,2),[1]pms170!D251,[1]pms230!A251)","v":"7147694"},{"$f":"IF(MOD(H501,2),[1]pms170!B251,[1]pms230!B251)","v":"F0483248"},{"$f":"IF(MOD(H501,2),[1]pms170!C251,[1]pms230!C251)","v":"ENSEMBLE STRUCTURE"},{"$f":"IF(MOD(H501,2),[1]pms170!G251,[1]pms230!D251)","v":"2017-02-03"},{"$f":"IF(MOD(H501,2),[1]pms170!H251,[1]pms230!E251)","v":"2017-02-03"},{"$f":"IF(MOD(H501,2),[1]pms170!F251,[1]pms230!F251)","v":15},{"$f":"IF(MOD(H501,2),[1]pms170!A251,[1]pms230!M251)","v":"351060"},249]
[{"$f":"IF(MOD(H502,2),[1]pms230!A797,[1]pms170!D797)","v":0},{"$f":"IF(MOD(H502,2),[1]pms230!B797,[1]pms170!B797)","v":0},{"$f":"IF(MOD(H502,2),[1]pms230!C797,[1]pms170!C797)","v":0},{"$f":"IF(MOD(H502,2),[1]pms230!D797,[1]pms170!G797)","v":"00:00:00"},{"$f":"IF(MOD(H502,2),[1]pms230!E797,[1]pms170!H797)","v":"00:00:00"},{"$f":"IF(MOD(H502,2),[1]pms230!F797,[1]pms170!F797)","v":0},{"$f":"IF(MOD(H502,2),[1]pms230!M797,[1]pms170!A797)","v":0},250]
[{"$f":"IF(MOD(H503,2),[1]pms170!D252,[1]pms230!A252)","v":"961625"},{"$f":"IF(MOD(H503,2),[1]pms170!B252,[1]pms230!B252)","v":"F0474804"},{"$f":"IF(MOD(H503,2),[1]pms170!C252,[1]pms230!C252)","v":"CAPOT CROSSE CENT"},{"$f":"IF(MOD(H503,2),[1]pms170!G252,[1]pms230!D252)","v":"2017-03-08"},{"$f":"IF(MOD(H503,2),[1]pms170!H252,[1]pms230!E252)","v":"2017-03-09"},{"$f":"IF(MOD(H503,2),[1]pms170!F252,[1]pms230!F252)","v":"52"},{"$f":"IF(MOD(H503,2),[1]pms170!A252,[1]pms230!M252)","v":"351010"},250]
[{"$f":"IF(MOD(H504,2),[1]pms230!A798,[1]pms170!D798)","v":0},{"$f":"IF(MOD(H504,2),[1]pms230!B798,[1]pms170!B798)","v":0},{"$f":"IF(MOD(H504,2),[1]pms230!C798,[1]pms170!C798)","v":0},{"$f":"IF(MOD(H504,2),[1]pms230!D798,[1]pms170!G798)","v":"00:00:00"},{"$f":"IF(MOD(H504,2),[1]pms230!E798,[1]pms170!H798)","v":"00:00:00"},{"$f":"IF(MOD(H504,2),[1]pms230!F798,[1]pms170!F798)","v":0},{"$f":"IF(MOD(H504,2),[1]pms230!M798,[1]pms170!A798)","v":0},251]
[{"$f":"IF(MOD(H505,2),[1]pms170!D253,[1]pms230!A253)","v":"7147719"},{"$f":"IF(MOD(H505,2),[1]pms170!B253,[1]pms230!B253)","v":"F0484891"},{"$f":"IF(MOD(H505,2),[1]pms170!C253,[1]pms230!C253)","v":"ENS. CAPOT USB"},{"$f":"IF(MOD(H505,2),[1]pms170!G253,[1]pms230!D253)","v":"2017-02-07"},{"$f":"IF(MOD(H505,2),[1]pms170!H253,[1]pms230!E253)","v":"2017-02-07"},{"$f":"IF(MOD(H505,2),[1]pms170!F253,[1]pms230!F253)","v":2},{"$f":"IF(MOD(H505,2),[1]pms170!A253,[1]pms230!M253)","v":"351060"},251]
[{"$f":"IF(MOD(H506,2),[1]pms230!A799,[1]pms170!D799)","v":0},{"$f":"IF(MOD(H506,2),[1]pms230!B799,[1]pms170!B799)","v":0},{"$f":"IF(MOD(H506,2),[1]pms230!C799,[1]pms170!C799)","v":0},{"$f":"IF(MOD(H506,2),[1]pms230!D799,[1]pms170!G799)","v":"00:00:00"},{"$f":"IF(MOD(H506,2),[1]pms230!E799,[1]pms170!H799)","v":"00:00:00"},{"$f":"IF(MOD(H506,2),[1]pms230!F799,[1]pms170!F799)","v":0},{"$f":"IF(MOD(H506,2),[1]pms230!M799,[1]pms170!A799)","v":0},252]
[{"$f":"IF(MOD(H507,2),[1]pms170!D254,[1]pms230!A254)","v":"962079"},{"$f":"IF(MOD(H507,2),[1]pms170!B254,[1]pms230!B254)","v":"F0455939"},{"$f":"IF(MOD(H507,2),[1]pms170!C254,[1]pms230!C254)","v":"CAPOT SUP CROSSE NU"},{"$f":"IF(MOD(H507,2),[1]pms170!G254,[1]pms230!D254)","v":"2017-03-09"},{"$f":"IF(MOD(H507,2),[1]pms170!H254,[1]pms230!E254)","v":"2017-03-09"},{"$f":"IF(MOD(H507,2),[1]pms170!F254,[1]pms230!F254)","v":"52"},{"$f":"IF(MOD(H507,2),[1]pms170!A254,[1]pms230!M254)","v":"351010"},252]
[{"$f":"IF(MOD(H508,2),[1]pms230!A800,[1]pms170!D800)","v":0},{"$f":"IF(MOD(H508,2),[1]pms230!B800,[1]pms170!B800)","v":0},{"$f":"IF(MOD(H508,2),[1]pms230!C800,[1]pms170!C800)","v":0},{"$f":"IF(MOD(H508,2),[1]pms230!D800,[1]pms170!G800)","v":"00:00:00"},{"$f":"IF(MOD(H508,2),[1]pms230!E800,[1]pms170!H800)","v":"00:00:00"},{"$f":"IF(MOD(H508,2),[1]pms230!F800,[1]pms170!F800)","v":0},{"$f":"IF(MOD(H508,2),[1]pms230!M800,[1]pms170!A800)","v":0},253]
[{"$f":"IF(MOD(H509,2),[1]pms170!D255,[1]pms230!A255)","v":"7134846"},{"$f":"IF(MOD(H509,2),[1]pms170!B255,[1]pms230!B255)","v":"F0503255"},{"$f":"IF(MOD(H509,2),[1]pms170!C255,[1]pms230!C255)","v":"ENS CAPOT AR INF DOSSIER 17\"2"},{"$f":"IF(MOD(H509,2),[1]pms170!G255,[1]pms230!D255)","v":"2017-02-03"},{"$f":"IF(MOD(H509,2),[1]pms170!H255,[1]pms230!E255)","v":"2017-02-03"},{"$f":"IF(MOD(H509,2),[1]pms170!F255,[1]pms230!F255)","v":2},{"$f":"IF(MOD(H509,2),[1]pms170!A255,[1]pms230!M255)","v":"351060"},253]
[{"$f":"IF(MOD(H510,2),[1]pms230!A801,[1]pms170!D801)","v":0},{"$f":"IF(MOD(H510,2),[1]pms230!B801,[1]pms170!B801)","v":0},{"$f":"IF(MOD(H510,2),[1]pms230!C801,[1]pms170!C801)","v":0},{"$f":"IF(MOD(H510,2),[1]pms230!D801,[1]pms170!G801)","v":"00:00:00"},{"$f":"IF(MOD(H510,2),[1]pms230!E801,[1]pms170!H801)","v":"00:00:00"},{"$f":"IF(MOD(H510,2),[1]pms230!F801,[1]pms170!F801)","v":0},{"$f":"IF(MOD(H510,2),[1]pms230!M801,[1]pms170!A801)","v":0},254]
[{"$f":"IF(MOD(H511,2),[1]pms170!D256,[1]pms230!A256)","v":"962082"},{"$f":"IF(MOD(H511,2),[1]pms170!B256,[1]pms230!B256)","v":"F0455939"},{"$f":"IF(MOD(H511,2),[1]pms170!C256,[1]pms230!C256)","v":"CAPOT SUP CROSSE NU"},{"$f":"IF(MOD(H511,2),[1]pms170!G256,[1]pms230!D256)","v":"2017-03-09"},{"$f":"IF(MOD(H511,2),[1]pms170!H256,[1]pms230!E256)","v":"2017-03-09"},{"$f":"IF(MOD(H511,2),[1]pms170!F256,[1]pms230!F256)","v":"52"},{"$f":"IF(MOD(H511,2),[1]pms170!A256,[1]pms230!M256)","v":"351010"},254]
[{"$f":"IF(MOD(H512,2),[1]pms230!A802,[1]pms170!D802)","v":0},{"$f":"IF(MOD(H512,2),[1]pms230!B802,[1]pms170!B802)","v":0},{"$f":"IF(MOD(H512,2),[1]pms230!C802,[1]pms170!C802)","v":0},{"$f":"IF(MOD(H512,2),[1]pms230!D802,[1]pms170!G802)","v":"00:00:00"},{"$f":"IF(MOD(H512,2),[1]pms230!E802,[1]pms170!H802)","v":"00:00:00"},{"$f":"IF(MOD(H512,2),[1]pms230!F802,[1]pms170!F802)","v":0},{"$f":"IF(MOD(H512,2),[1]pms230!M802,[1]pms170!A802)","v":0},255]
[{"$f":"IF(MOD(H513,2),[1]pms170!D257,[1]pms230!A257)","v":"6825858"},{"$f":"IF(MOD(H513,2),[1]pms170!B257,[1]pms230!B257)","v":"F087140P075"},{"$f":"IF(MOD(H513,2),[1]pms170!C257,[1]pms230!C257)","v":"H075 KICK PANEL 1 PAX"},{"$f":"IF(MOD(H513,2),[1]pms170!G257,[1]pms230!D257)","v":"2017-02-07"},{"$f":"IF(MOD(H513,2),[1]pms170!H257,[1]pms230!E257)","v":"2017-02-07"},{"$f":"IF(MOD(H513,2),[1]pms170!F257,[1]pms230!F257)","v":2},{"$f":"IF(MOD(H513,2),[1]pms170!A257,[1]pms230!M257)","v":"351060"},255]
[{"$f":"IF(MOD(H514,2),[1]pms230!A803,[1]pms170!D803)","v":0},{"$f":"IF(MOD(H514,2),[1]pms230!B803,[1]pms170!B803)","v":0},{"$f":"IF(MOD(H514,2),[1]pms230!C803,[1]pms170!C803)","v":0},{"$f":"IF(MOD(H514,2),[1]pms230!D803,[1]pms170!G803)","v":"00:00:00"},{"$f":"IF(MOD(H514,2),[1]pms230!E803,[1]pms170!H803)","v":"00:00:00"},{"$f":"IF(MOD(H514,2),[1]pms230!F803,[1]pms170!F803)","v":0},{"$f":"IF(MOD(H514,2),[1]pms230!M803,[1]pms170!A803)","v":0},256]
[{"$f":"IF(MOD(H515,2),[1]pms170!D258,[1]pms230!A258)","v":"962195"},{"$f":"IF(MOD(H515,2),[1]pms170!B258,[1]pms230!B258)","v":"F0453697"},{"$f":"IF(MOD(H515,2),[1]pms170!C258,[1]pms230!C258)","v":"PORTE DROITE EQ"},{"$f":"IF(MOD(H515,2),[1]pms170!G258,[1]pms230!D258)","v":"2017-03-10"},{"$f":"IF(MOD(H515,2),[1]pms170!H258,[1]pms230!E258)","v":"2017-03-10"},{"$f":"IF(MOD(H515,2),[1]pms170!F258,[1]pms230!F258)","v":"30"},{"$f":"IF(MOD(H515,2),[1]pms170!A258,[1]pms230!M258)","v":"351060"},256]
[{"$f":"IF(MOD(H516,2),[1]pms230!A804,[1]pms170!D804)","v":0},{"$f":"IF(MOD(H516,2),[1]pms230!B804,[1]pms170!B804)","v":0},{"$f":"IF(MOD(H516,2),[1]pms230!C804,[1]pms170!C804)","v":0},{"$f":"IF(MOD(H516,2),[1]pms230!D804,[1]pms170!G804)","v":"00:00:00"},{"$f":"IF(MOD(H516,2),[1]pms230!E804,[1]pms170!H804)","v":"00:00:00"},{"$f":"IF(MOD(H516,2),[1]pms230!F804,[1]pms170!F804)","v":0},{"$f":"IF(MOD(H516,2),[1]pms230!M804,[1]pms170!A804)","v":0},257]
[{"$f":"IF(MOD(H517,2),[1]pms170!D259,[1]pms230!A259)","v":"6824235"},{"$f":"IF(MOD(H517,2),[1]pms170!B259,[1]pms230!B259)","v":"F313061"},{"$f":"IF(MOD(H517,2),[1]pms170!C259,[1]pms230!C259)","v":"REMPLISSAGE LATERAL"},{"$f":"IF(MOD(H517,2),[1]pms170!G259,[1]pms230!D259)","v":"2017-02-06"},{"$f":"IF(MOD(H517,2),[1]pms170!H259,[1]pms230!E259)","v":"2017-02-06"},{"$f":"IF(MOD(H517,2),[1]pms170!F259,[1]pms230!F259)","v":1},{"$f":"IF(MOD(H517,2),[1]pms170!A259,[1]pms230!M259)","v":"351060"},257]
[{"$f":"IF(MOD(H518,2),[1]pms230!A805,[1]pms170!D805)","v":0},{"$f":"IF(MOD(H518,2),[1]pms230!B805,[1]pms170!B805)","v":0},{"$f":"IF(MOD(H518,2),[1]pms230!C805,[1]pms170!C805)","v":0},{"$f":"IF(MOD(H518,2),[1]pms230!D805,[1]pms170!G805)","v":"00:00:00"},{"$f":"IF(MOD(H518,2),[1]pms230!E805,[1]pms170!H805)","v":"00:00:00"},{"$f":"IF(MOD(H518,2),[1]pms230!F805,[1]pms170!F805)","v":0},{"$f":"IF(MOD(H518,2),[1]pms230!M805,[1]pms170!A805)","v":0},258]
[{"$f":"IF(MOD(H519,2),[1]pms170!D260,[1]pms230!A260)","v":"959269"},{"$f":"IF(MOD(H519,2),[1]pms170!B260,[1]pms230!B260)","v":"F369502"},{"$f":"IF(MOD(H519,2),[1]pms170!C260,[1]pms230!C260)","v":"MOUSSE CAPOT"},{"$f":"IF(MOD(H519,2),[1]pms170!G260,[1]pms230!D260)","v":"2017-03-14"},{"$f":"IF(MOD(H519,2),[1]pms170!H260,[1]pms230!E260)","v":"2017-03-14"},{"$f":"IF(MOD(H519,2),[1]pms170!F260,[1]pms230!F260)","v":"3"},{"$f":"IF(MOD(H519,2),[1]pms170!A260,[1]pms230!M260)","v":"351015"},258]
[{"$f":"IF(MOD(H520,2),[1]pms230!A806,[1]pms170!D806)","v":0},{"$f":"IF(MOD(H520,2),[1]pms230!B806,[1]pms170!B806)","v":0},{"$f":"IF(MOD(H520,2),[1]pms230!C806,[1]pms170!C806)","v":0},{"$f":"IF(MOD(H520,2),[1]pms230!D806,[1]pms170!G806)","v":"00:00:00"},{"$f":"IF(MOD(H520,2),[1]pms230!E806,[1]pms170!H806)","v":"00:00:00"},{"$f":"IF(MOD(H520,2),[1]pms230!F806,[1]pms170!F806)","v":0},{"$f":"IF(MOD(H520,2),[1]pms230!M806,[1]pms170!A806)","v":0},259]
[{"$f":"IF(MOD(H521,2),[1]pms170!D261,[1]pms230!A261)","v":"7256406"},{"$f":"IF(MOD(H521,2),[1]pms170!B261,[1]pms230!B261)","v":"F332183P020"},{"$f":"IF(MOD(H521,2),[1]pms170!C261,[1]pms230!C261)","v":"H020 ENS CAPOT ACCD 1\"8"},{"$f":"IF(MOD(H521,2),[1]pms170!G261,[1]pms230!D261)","v":"2017-02-03"},{"$f":"IF(MOD(H521,2),[1]pms170!H261,[1]pms230!E261)","v":"2017-02-03"},{"$f":"IF(MOD(H521,2),[1]pms170!F261,[1]pms230!F261)","v":10},{"$f":"IF(MOD(H521,2),[1]pms170!A261,[1]pms230!M261)","v":"351060"},259]
[{"$f":"IF(MOD(H522,2),[1]pms230!A807,[1]pms170!D807)","v":0},{"$f":"IF(MOD(H522,2),[1]pms230!B807,[1]pms170!B807)","v":0},{"$f":"IF(MOD(H522,2),[1]pms230!C807,[1]pms170!C807)","v":0},{"$f":"IF(MOD(H522,2),[1]pms230!D807,[1]pms170!G807)","v":"00:00:00"},{"$f":"IF(MOD(H522,2),[1]pms230!E807,[1]pms170!H807)","v":"00:00:00"},{"$f":"IF(MOD(H522,2),[1]pms230!F807,[1]pms170!F807)","v":0},{"$f":"IF(MOD(H522,2),[1]pms230!M807,[1]pms170!A807)","v":0},260]
[{"$f":"IF(MOD(H523,2),[1]pms170!D262,[1]pms230!A262)","v":"962258"},{"$f":"IF(MOD(H523,2),[1]pms170!B262,[1]pms230!B262)","v":"J2000527"},{"$f":"IF(MOD(H523,2),[1]pms170!C262,[1]pms230!C262)","v":"BACKSHELL INNER SIDE"},{"$f":"IF(MOD(H523,2),[1]pms170!G262,[1]pms230!D262)","v":"2017-03-17"},{"$f":"IF(MOD(H523,2),[1]pms170!H262,[1]pms230!E262)","v":"2017-03-17"},{"$f":"IF(MOD(H523,2),[1]pms170!F262,[1]pms230!F262)","v":"17"},{"$f":"IF(MOD(H523,2),[1]pms170!A262,[1]pms230!M262)","v":"351020"},260]
[{"$f":"IF(MOD(H524,2),[1]pms230!A808,[1]pms170!D808)","v":0},{"$f":"IF(MOD(H524,2),[1]pms230!B808,[1]pms170!B808)","v":0},{"$f":"IF(MOD(H524,2),[1]pms230!C808,[1]pms170!C808)","v":0},{"$f":"IF(MOD(H524,2),[1]pms230!D808,[1]pms170!G808)","v":"00:00:00"},{"$f":"IF(MOD(H524,2),[1]pms230!E808,[1]pms170!H808)","v":"00:00:00"},{"$f":"IF(MOD(H524,2),[1]pms230!F808,[1]pms170!F808)","v":0},{"$f":"IF(MOD(H524,2),[1]pms230!M808,[1]pms170!A808)","v":0},261]
[{"$f":"IF(MOD(H525,2),[1]pms170!D263,[1]pms230!A263)","v":"7115360"},{"$f":"IF(MOD(H525,2),[1]pms170!B263,[1]pms230!B263)","v":"F370688"},{"$f":"IF(MOD(H525,2),[1]pms170!C263,[1]pms230!C263)","v":"ENS PORTE"},{"$f":"IF(MOD(H525,2),[1]pms170!G263,[1]pms230!D263)","v":"2017-02-06"},{"$f":"IF(MOD(H525,2),[1]pms170!H263,[1]pms230!E263)","v":"2017-02-06"},{"$f":"IF(MOD(H525,2),[1]pms170!F263,[1]pms230!F263)","v":50},{"$f":"IF(MOD(H525,2),[1]pms170!A263,[1]pms230!M263)","v":"351060"},261]
[{"$f":"IF(MOD(H526,2),[1]pms230!A809,[1]pms170!D809)","v":0},{"$f":"IF(MOD(H526,2),[1]pms230!B809,[1]pms170!B809)","v":0},{"$f":"IF(MOD(H526,2),[1]pms230!C809,[1]pms170!C809)","v":0},{"$f":"IF(MOD(H526,2),[1]pms230!D809,[1]pms170!G809)","v":"00:00:00"},{"$f":"IF(MOD(H526,2),[1]pms230!E809,[1]pms170!H809)","v":"00:00:00"},{"$f":"IF(MOD(H526,2),[1]pms230!F809,[1]pms170!F809)","v":0},{"$f":"IF(MOD(H526,2),[1]pms230!M809,[1]pms170!A809)","v":0},262]
[{"$f":"IF(MOD(H527,2),[1]pms170!D264,[1]pms230!A264)","v":"962264"},{"$f":"IF(MOD(H527,2),[1]pms170!B264,[1]pms230!B264)","v":"J2000399"},{"$f":"IF(MOD(H527,2),[1]pms170!C264,[1]pms230!C264)","v":"FRONT SIDE FAIRING"},{"$f":"IF(MOD(H527,2),[1]pms170!G264,[1]pms230!D264)","v":"2017-03-17"},{"$f":"IF(MOD(H527,2),[1]pms170!H264,[1]pms230!E264)","v":"2017-03-17"},{"$f":"IF(MOD(H527,2),[1]pms170!F264,[1]pms230!F264)","v":"17"},{"$f":"IF(MOD(H527,2),[1]pms170!A264,[1]pms230!M264)","v":"351020"},262]
[{"$f":"IF(MOD(H528,2),[1]pms230!A810,[1]pms170!D810)","v":0},{"$f":"IF(MOD(H528,2),[1]pms230!B810,[1]pms170!B810)","v":0},{"$f":"IF(MOD(H528,2),[1]pms230!C810,[1]pms170!C810)","v":0},{"$f":"IF(MOD(H528,2),[1]pms230!D810,[1]pms170!G810)","v":"00:00:00"},{"$f":"IF(MOD(H528,2),[1]pms230!E810,[1]pms170!H810)","v":"00:00:00"},{"$f":"IF(MOD(H528,2),[1]pms230!F810,[1]pms170!F810)","v":0},{"$f":"IF(MOD(H528,2),[1]pms230!M810,[1]pms170!A810)","v":0},263]
[{"$f":"IF(MOD(H529,2),[1]pms170!D265,[1]pms230!A265)","v":0},{"$f":"IF(MOD(H529,2),[1]pms170!B265,[1]pms230!B265)","v":0},{"$f":"IF(MOD(H529,2),[1]pms170!C265,[1]pms230!C265)","v":0},{"$f":"IF(MOD(H529,2),[1]pms170!G265,[1]pms230!D265)","v":"00:00:00"},{"$f":"IF(MOD(H529,2),[1]pms170!H265,[1]pms230!E265)","v":"00:00:00"},{"$f":"IF(MOD(H529,2),[1]pms170!F265,[1]pms230!F265)","v":0},{"$f":"IF(MOD(H529,2),[1]pms170!A265,[1]pms230!M265)","v":0},263]
[{"$f":"IF(MOD(H530,2),[1]pms230!A811,[1]pms170!D811)","v":0},{"$f":"IF(MOD(H530,2),[1]pms230!B811,[1]pms170!B811)","v":0},{"$f":"IF(MOD(H530,2),[1]pms230!C811,[1]pms170!C811)","v":0},{"$f":"IF(MOD(H530,2),[1]pms230!D811,[1]pms170!G811)","v":"00:00:00"},{"$f":"IF(MOD(H530,2),[1]pms230!E811,[1]pms170!H811)","v":"00:00:00"},{"$f":"IF(MOD(H530,2),[1]pms230!F811,[1]pms170!F811)","v":0},{"$f":"IF(MOD(H530,2),[1]pms230!M811,[1]pms170!A811)","v":0},264]
[{"$f":"IF(MOD(H531,2),[1]pms170!D266,[1]pms230!A266)","v":"962254"},{"$f":"IF(MOD(H531,2),[1]pms170!B266,[1]pms230!B266)","v":"J2000744"},{"$f":"IF(MOD(H531,2),[1]pms170!C266,[1]pms230!C266)","v":"KBD COVER PANEL"},{"$f":"IF(MOD(H531,2),[1]pms170!G266,[1]pms230!D266)","v":"2017-03-17"},{"$f":"IF(MOD(H531,2),[1]pms170!H266,[1]pms230!E266)","v":"2017-03-17"},{"$f":"IF(MOD(H531,2),[1]pms170!F266,[1]pms230!F266)","v":"17"},{"$f":"IF(MOD(H531,2),[1]pms170!A266,[1]pms230!M266)","v":"351020"},264]
[{"$f":"IF(MOD(H532,2),[1]pms230!A812,[1]pms170!D812)","v":0},{"$f":"IF(MOD(H532,2),[1]pms230!B812,[1]pms170!B812)","v":0},{"$f":"IF(MOD(H532,2),[1]pms230!C812,[1]pms170!C812)","v":0},{"$f":"IF(MOD(H532,2),[1]pms230!D812,[1]pms170!G812)","v":"00:00:00"},{"$f":"IF(MOD(H532,2),[1]pms230!E812,[1]pms170!H812)","v":"00:00:00"},{"$f":"IF(MOD(H532,2),[1]pms230!F812,[1]pms170!F812)","v":0},{"$f":"IF(MOD(H532,2),[1]pms230!M812,[1]pms170!A812)","v":0},265]
[{"$f":"IF(MOD(H533,2),[1]pms170!D267,[1]pms230!A267)","v":0},{"$f":"IF(MOD(H533,2),[1]pms170!B267,[1]pms230!B267)","v":0},{"$f":"IF(MOD(H533,2),[1]pms170!C267,[1]pms230!C267)","v":0},{"$f":"IF(MOD(H533,2),[1]pms170!G267,[1]pms230!D267)","v":"00:00:00"},{"$f":"IF(MOD(H533,2),[1]pms170!H267,[1]pms230!E267)","v":"00:00:00"},{"$f":"IF(MOD(H533,2),[1]pms170!F267,[1]pms230!F267)","v":0},{"$f":"IF(MOD(H533,2),[1]pms170!A267,[1]pms230!M267)","v":0},265]
[{"$f":"IF(MOD(H534,2),[1]pms230!A813,[1]pms170!D813)","v":0},{"$f":"IF(MOD(H534,2),[1]pms230!B813,[1]pms170!B813)","v":0},{"$f":"IF(MOD(H534,2),[1]pms230!C813,[1]pms170!C813)","v":0},{"$f":"IF(MOD(H534,2),[1]pms230!D813,[1]pms170!G813)","v":"00:00:00"},{"$f":"IF(MOD(H534,2),[1]pms230!E813,[1]pms170!H813)","v":"00:00:00"},{"$f":"IF(MOD(H534,2),[1]pms230!F813,[1]pms170!F813)","v":0},{"$f":"IF(MOD(H534,2),[1]pms230!M813,[1]pms170!A813)","v":0},266]
[{"$f":"IF(MOD(H535,2),[1]pms170!D268,[1]pms230!A268)","v":"962250"},{"$f":"IF(MOD(H535,2),[1]pms170!B268,[1]pms230!B268)","v":"F0511677"},{"$f":"IF(MOD(H535,2),[1]pms170!C268,[1]pms230!C268)","v":" CAPOT SEAT TO SEAT"},{"$f":"IF(MOD(H535,2),[1]pms170!G268,[1]pms230!D268)","v":"2017-03-17"},{"$f":"IF(MOD(H535,2),[1]pms170!H268,[1]pms230!E268)","v":"2017-03-17"},{"$f":"IF(MOD(H535,2),[1]pms170!F268,[1]pms230!F268)","v":"52"},{"$f":"IF(MOD(H535,2),[1]pms170!A268,[1]pms230!M268)","v":"351010"},266]
[{"$f":"IF(MOD(H536,2),[1]pms230!A814,[1]pms170!D814)","v":0},{"$f":"IF(MOD(H536,2),[1]pms230!B814,[1]pms170!B814)","v":0},{"$f":"IF(MOD(H536,2),[1]pms230!C814,[1]pms170!C814)","v":0},{"$f":"IF(MOD(H536,2),[1]pms230!D814,[1]pms170!G814)","v":"00:00:00"},{"$f":"IF(MOD(H536,2),[1]pms230!E814,[1]pms170!H814)","v":"00:00:00"},{"$f":"IF(MOD(H536,2),[1]pms230!F814,[1]pms170!F814)","v":0},{"$f":"IF(MOD(H536,2),[1]pms230!M814,[1]pms170!A814)","v":0},267]
[{"$f":"IF(MOD(H537,2),[1]pms170!D269,[1]pms230!A269)","v":0},{"$f":"IF(MOD(H537,2),[1]pms170!B269,[1]pms230!B269)","v":0},{"$f":"IF(MOD(H537,2),[1]pms170!C269,[1]pms230!C269)","v":0},{"$f":"IF(MOD(H537,2),[1]pms170!G269,[1]pms230!D269)","v":"00:00:00"},{"$f":"IF(MOD(H537,2),[1]pms170!H269,[1]pms230!E269)","v":"00:00:00"},{"$f":"IF(MOD(H537,2),[1]pms170!F269,[1]pms230!F269)","v":0},{"$f":"IF(MOD(H537,2),[1]pms170!A269,[1]pms230!M269)","v":0},267]
[{"$f":"IF(MOD(H538,2),[1]pms230!A815,[1]pms170!D815)","v":0},{"$f":"IF(MOD(H538,2),[1]pms230!B815,[1]pms170!B815)","v":0},{"$f":"IF(MOD(H538,2),[1]pms230!C815,[1]pms170!C815)","v":0},{"$f":"IF(MOD(H538,2),[1]pms230!D815,[1]pms170!G815)","v":"00:00:00"},{"$f":"IF(MOD(H538,2),[1]pms230!E815,[1]pms170!H815)","v":"00:00:00"},{"$f":"IF(MOD(H538,2),[1]pms230!F815,[1]pms170!F815)","v":0},{"$f":"IF(MOD(H538,2),[1]pms230!M815,[1]pms170!A815)","v":0},268]
[{"$f":"IF(MOD(H539,2),[1]pms170!D270,[1]pms230!A270)","v":"956847"},{"$f":"IF(MOD(H539,2),[1]pms170!B270,[1]pms230!B270)","v":"F0508972"},{"$f":"IF(MOD(H539,2),[1]pms170!C270,[1]pms230!C270)","v":"ENS RENFORT KICK PAN"},{"$f":"IF(MOD(H539,2),[1]pms170!G270,[1]pms230!D270)","v":"2017-03-23"},{"$f":"IF(MOD(H539,2),[1]pms170!H270,[1]pms230!E270)","v":"2017-03-23"},{"$f":"IF(MOD(H539,2),[1]pms170!F270,[1]pms230!F270)","v":"2"},{"$f":"IF(MOD(H539,2),[1]pms170!A270,[1]pms230!M270)","v":"351010"},268]
[{"$f":"IF(MOD(H540,2),[1]pms230!A816,[1]pms170!D816)","v":0},{"$f":"IF(MOD(H540,2),[1]pms230!B816,[1]pms170!B816)","v":0},{"$f":"IF(MOD(H540,2),[1]pms230!C816,[1]pms170!C816)","v":0},{"$f":"IF(MOD(H540,2),[1]pms230!D816,[1]pms170!G816)","v":"00:00:00"},{"$f":"IF(MOD(H540,2),[1]pms230!E816,[1]pms170!H816)","v":"00:00:00"},{"$f":"IF(MOD(H540,2),[1]pms230!F816,[1]pms170!F816)","v":0},{"$f":"IF(MOD(H540,2),[1]pms230!M816,[1]pms170!A816)","v":0},269]
[{"$f":"IF(MOD(H541,2),[1]pms170!D271,[1]pms230!A271)","v":0},{"$f":"IF(MOD(H541,2),[1]pms170!B271,[1]pms230!B271)","v":0},{"$f":"IF(MOD(H541,2),[1]pms170!C271,[1]pms230!C271)","v":0},{"$f":"IF(MOD(H541,2),[1]pms170!G271,[1]pms230!D271)","v":"00:00:00"},{"$f":"IF(MOD(H541,2),[1]pms170!H271,[1]pms230!E271)","v":"00:00:00"},{"$f":"IF(MOD(H541,2),[1]pms170!F271,[1]pms230!F271)","v":0},{"$f":"IF(MOD(H541,2),[1]pms170!A271,[1]pms230!M271)","v":0},269]
[{"$f":"IF(MOD(H542,2),[1]pms230!A817,[1]pms170!D817)","v":0},{"$f":"IF(MOD(H542,2),[1]pms230!B817,[1]pms170!B817)","v":0},{"$f":"IF(MOD(H542,2),[1]pms230!C817,[1]pms170!C817)","v":0},{"$f":"IF(MOD(H542,2),[1]pms230!D817,[1]pms170!G817)","v":"00:00:00"},{"$f":"IF(MOD(H542,2),[1]pms230!E817,[1]pms170!H817)","v":"00:00:00"},{"$f":"IF(MOD(H542,2),[1]pms230!F817,[1]pms170!F817)","v":0},{"$f":"IF(MOD(H542,2),[1]pms230!M817,[1]pms170!A817)","v":0},270]
[{"$f":"IF(MOD(H543,2),[1]pms170!D272,[1]pms230!A272)","v":"961446"},{"$f":"IF(MOD(H543,2),[1]pms170!B272,[1]pms230!B272)","v":"F0506331"},{"$f":"IF(MOD(H543,2),[1]pms170!C272,[1]pms230!C272)","v":"ENS RENFORT FOND DOS"},{"$f":"IF(MOD(H543,2),[1]pms170!G272,[1]pms230!D272)","v":"2017-03-29"},{"$f":"IF(MOD(H543,2),[1]pms170!H272,[1]pms230!E272)","v":"2017-03-29"},{"$f":"IF(MOD(H543,2),[1]pms170!F272,[1]pms230!F272)","v":"34"},{"$f":"IF(MOD(H543,2),[1]pms170!A272,[1]pms230!M272)","v":"351010"},270]
[{"$f":"IF(MOD(H544,2),[1]pms230!A818,[1]pms170!D818)","v":0},{"$f":"IF(MOD(H544,2),[1]pms230!B818,[1]pms170!B818)","v":0},{"$f":"IF(MOD(H544,2),[1]pms230!C818,[1]pms170!C818)","v":0},{"$f":"IF(MOD(H544,2),[1]pms230!D818,[1]pms170!G818)","v":"00:00:00"},{"$f":"IF(MOD(H544,2),[1]pms230!E818,[1]pms170!H818)","v":"00:00:00"},{"$f":"IF(MOD(H544,2),[1]pms230!F818,[1]pms170!F818)","v":0},{"$f":"IF(MOD(H544,2),[1]pms230!M818,[1]pms170!A818)","v":0},271]
[{"$f":"IF(MOD(H545,2),[1]pms170!D273,[1]pms230!A273)","v":0},{"$f":"IF(MOD(H545,2),[1]pms170!B273,[1]pms230!B273)","v":0},{"$f":"IF(MOD(H545,2),[1]pms170!C273,[1]pms230!C273)","v":0},{"$f":"IF(MOD(H545,2),[1]pms170!G273,[1]pms230!D273)","v":"00:00:00"},{"$f":"IF(MOD(H545,2),[1]pms170!H273,[1]pms230!E273)","v":"00:00:00"},{"$f":"IF(MOD(H545,2),[1]pms170!F273,[1]pms230!F273)","v":0},{"$f":"IF(MOD(H545,2),[1]pms170!A273,[1]pms230!M273)","v":0},271]
[{"$f":"IF(MOD(H546,2),[1]pms230!A819,[1]pms170!D819)","v":0},{"$f":"IF(MOD(H546,2),[1]pms230!B819,[1]pms170!B819)","v":0},{"$f":"IF(MOD(H546,2),[1]pms230!C819,[1]pms170!C819)","v":0},{"$f":"IF(MOD(H546,2),[1]pms230!D819,[1]pms170!G819)","v":"00:00:00"},{"$f":"IF(MOD(H546,2),[1]pms230!E819,[1]pms170!H819)","v":"00:00:00"},{"$f":"IF(MOD(H546,2),[1]pms230!F819,[1]pms170!F819)","v":0},{"$f":"IF(MOD(H546,2),[1]pms230!M819,[1]pms170!A819)","v":0},272]
[{"$f":"IF(MOD(H547,2),[1]pms170!D274,[1]pms230!A274)","v":"962267"},{"$f":"IF(MOD(H547,2),[1]pms170!B274,[1]pms230!B274)","v":"J2000181"},{"$f":"IF(MOD(H547,2),[1]pms170!C274,[1]pms230!C274)","v":"PANEL SHOE STOW UPPE"},{"$f":"IF(MOD(H547,2),[1]pms170!G274,[1]pms230!D274)","v":"2017-04-03"},{"$f":"IF(MOD(H547,2),[1]pms170!H274,[1]pms230!E274)","v":"2017-04-03"},{"$f":"IF(MOD(H547,2),[1]pms170!F274,[1]pms230!F274)","v":"17"},{"$f":"IF(MOD(H547,2),[1]pms170!A274,[1]pms230!M274)","v":"351020"},272]
[{"$f":"IF(MOD(H548,2),[1]pms230!A820,[1]pms170!D820)","v":0},{"$f":"IF(MOD(H548,2),[1]pms230!B820,[1]pms170!B820)","v":0},{"$f":"IF(MOD(H548,2),[1]pms230!C820,[1]pms170!C820)","v":0},{"$f":"IF(MOD(H548,2),[1]pms230!D820,[1]pms170!G820)","v":"00:00:00"},{"$f":"IF(MOD(H548,2),[1]pms230!E820,[1]pms170!H820)","v":"00:00:00"},{"$f":"IF(MOD(H548,2),[1]pms230!F820,[1]pms170!F820)","v":0},{"$f":"IF(MOD(H548,2),[1]pms230!M820,[1]pms170!A820)","v":0},273]
[{"$f":"IF(MOD(H549,2),[1]pms170!D275,[1]pms230!A275)","v":0},{"$f":"IF(MOD(H549,2),[1]pms170!B275,[1]pms230!B275)","v":0},{"$f":"IF(MOD(H549,2),[1]pms170!C275,[1]pms230!C275)","v":0},{"$f":"IF(MOD(H549,2),[1]pms170!G275,[1]pms230!D275)","v":"00:00:00"},{"$f":"IF(MOD(H549,2),[1]pms170!H275,[1]pms230!E275)","v":"00:00:00"},{"$f":"IF(MOD(H549,2),[1]pms170!F275,[1]pms230!F275)","v":0},{"$f":"IF(MOD(H549,2),[1]pms170!A275,[1]pms230!M275)","v":0},273]
[{"$f":"IF(MOD(H550,2),[1]pms230!A821,[1]pms170!D821)","v":0},{"$f":"IF(MOD(H550,2),[1]pms230!B821,[1]pms170!B821)","v":0},{"$f":"IF(MOD(H550,2),[1]pms230!C821,[1]pms170!C821)","v":0},{"$f":"IF(MOD(H550,2),[1]pms230!D821,[1]pms170!G821)","v":"00:00:00"},{"$f":"IF(MOD(H550,2),[1]pms230!E821,[1]pms170!H821)","v":"00:00:00"},{"$f":"IF(MOD(H550,2),[1]pms230!F821,[1]pms170!F821)","v":0},{"$f":"IF(MOD(H550,2),[1]pms230!M821,[1]pms170!A821)","v":0},274]
[{"$f":"IF(MOD(H551,2),[1]pms170!D276,[1]pms230!A276)","v":"962084"},{"$f":"IF(MOD(H551,2),[1]pms170!B276,[1]pms230!B276)","v":"F0455939"},{"$f":"IF(MOD(H551,2),[1]pms170!C276,[1]pms230!C276)","v":"CAPOT SUP CROSSE NU"},{"$f":"IF(MOD(H551,2),[1]pms170!G276,[1]pms230!D276)","v":"2017-04-06"},{"$f":"IF(MOD(H551,2),[1]pms170!H276,[1]pms230!E276)","v":"2017-04-06"},{"$f":"IF(MOD(H551,2),[1]pms170!F276,[1]pms230!F276)","v":"52"},{"$f":"IF(MOD(H551,2),[1]pms170!A276,[1]pms230!M276)","v":"351010"},274]
[{"$f":"IF(MOD(H552,2),[1]pms230!A822,[1]pms170!D822)","v":0},{"$f":"IF(MOD(H552,2),[1]pms230!B822,[1]pms170!B822)","v":0},{"$f":"IF(MOD(H552,2),[1]pms230!C822,[1]pms170!C822)","v":0},{"$f":"IF(MOD(H552,2),[1]pms230!D822,[1]pms170!G822)","v":"00:00:00"},{"$f":"IF(MOD(H552,2),[1]pms230!E822,[1]pms170!H822)","v":"00:00:00"},{"$f":"IF(MOD(H552,2),[1]pms230!F822,[1]pms170!F822)","v":0},{"$f":"IF(MOD(H552,2),[1]pms230!M822,[1]pms170!A822)","v":0},275]
[{"$f":"IF(MOD(H553,2),[1]pms170!D277,[1]pms230!A277)","v":0},{"$f":"IF(MOD(H553,2),[1]pms170!B277,[1]pms230!B277)","v":0},{"$f":"IF(MOD(H553,2),[1]pms170!C277,[1]pms230!C277)","v":0},{"$f":"IF(MOD(H553,2),[1]pms170!G277,[1]pms230!D277)","v":"00:00:00"},{"$f":"IF(MOD(H553,2),[1]pms170!H277,[1]pms230!E277)","v":"00:00:00"},{"$f":"IF(MOD(H553,2),[1]pms170!F277,[1]pms230!F277)","v":0},{"$f":"IF(MOD(H553,2),[1]pms170!A277,[1]pms230!M277)","v":0},275]
[{"$f":"IF(MOD(H554,2),[1]pms230!A823,[1]pms170!D823)","v":0},{"$f":"IF(MOD(H554,2),[1]pms230!B823,[1]pms170!B823)","v":0},{"$f":"IF(MOD(H554,2),[1]pms230!C823,[1]pms170!C823)","v":0},{"$f":"IF(MOD(H554,2),[1]pms230!D823,[1]pms170!G823)","v":"00:00:00"},{"$f":"IF(MOD(H554,2),[1]pms230!E823,[1]pms170!H823)","v":"00:00:00"},{"$f":"IF(MOD(H554,2),[1]pms230!F823,[1]pms170!F823)","v":0},{"$f":"IF(MOD(H554,2),[1]pms230!M823,[1]pms170!A823)","v":0},276]
[{"$f":"IF(MOD(H555,2),[1]pms170!D278,[1]pms230!A278)","v":"962099"},{"$f":"IF(MOD(H555,2),[1]pms170!B278,[1]pms230!B278)","v":"F0455939"},{"$f":"IF(MOD(H555,2),[1]pms170!C278,[1]pms230!C278)","v":"CAPOT SUP CROSSE NU"},{"$f":"IF(MOD(H555,2),[1]pms170!G278,[1]pms230!D278)","v":"2017-04-14"},{"$f":"IF(MOD(H555,2),[1]pms170!H278,[1]pms230!E278)","v":"2017-04-14"},{"$f":"IF(MOD(H555,2),[1]pms170!F278,[1]pms230!F278)","v":"52"},{"$f":"IF(MOD(H555,2),[1]pms170!A278,[1]pms230!M278)","v":"351010"},276]
[{"$f":"IF(MOD(H556,2),[1]pms230!A824,[1]pms170!D824)","v":0},{"$f":"IF(MOD(H556,2),[1]pms230!B824,[1]pms170!B824)","v":0},{"$f":"IF(MOD(H556,2),[1]pms230!C824,[1]pms170!C824)","v":0},{"$f":"IF(MOD(H556,2),[1]pms230!D824,[1]pms170!G824)","v":"00:00:00"},{"$f":"IF(MOD(H556,2),[1]pms230!E824,[1]pms170!H824)","v":"00:00:00"},{"$f":"IF(MOD(H556,2),[1]pms230!F824,[1]pms170!F824)","v":0},{"$f":"IF(MOD(H556,2),[1]pms230!M824,[1]pms170!A824)","v":0},277]
[{"$f":"IF(MOD(H557,2),[1]pms170!D279,[1]pms230!A279)","v":0},{"$f":"IF(MOD(H557,2),[1]pms170!B279,[1]pms230!B279)","v":0},{"$f":"IF(MOD(H557,2),[1]pms170!C279,[1]pms230!C279)","v":0},{"$f":"IF(MOD(H557,2),[1]pms170!G279,[1]pms230!D279)","v":"00:00:00"},{"$f":"IF(MOD(H557,2),[1]pms170!H279,[1]pms230!E279)","v":"00:00:00"},{"$f":"IF(MOD(H557,2),[1]pms170!F279,[1]pms230!F279)","v":0},{"$f":"IF(MOD(H557,2),[1]pms170!A279,[1]pms230!M279)","v":0},277]
[{"$f":"IF(MOD(H558,2),[1]pms230!A825,[1]pms170!D825)","v":0},{"$f":"IF(MOD(H558,2),[1]pms230!B825,[1]pms170!B825)","v":0},{"$f":"IF(MOD(H558,2),[1]pms230!C825,[1]pms170!C825)","v":0},{"$f":"IF(MOD(H558,2),[1]pms230!D825,[1]pms170!G825)","v":"00:00:00"},{"$f":"IF(MOD(H558,2),[1]pms230!E825,[1]pms170!H825)","v":"00:00:00"},{"$f":"IF(MOD(H558,2),[1]pms230!F825,[1]pms170!F825)","v":0},{"$f":"IF(MOD(H558,2),[1]pms230!M825,[1]pms170!A825)","v":0},278]
[{"$f":"IF(MOD(H559,2),[1]pms170!D280,[1]pms230!A280)","v":"962101"},{"$f":"IF(MOD(H559,2),[1]pms170!B280,[1]pms230!B280)","v":"F0455939"},{"$f":"IF(MOD(H559,2),[1]pms170!C280,[1]pms230!C280)","v":"CAPOT SUP CROSSE NU"},{"$f":"IF(MOD(H559,2),[1]pms170!G280,[1]pms230!D280)","v":"2017-04-14"},{"$f":"IF(MOD(H559,2),[1]pms170!H280,[1]pms230!E280)","v":"2017-04-14"},{"$f":"IF(MOD(H559,2),[1]pms170!F280,[1]pms230!F280)","v":"52"},{"$f":"IF(MOD(H559,2),[1]pms170!A280,[1]pms230!M280)","v":"351010"},278]
[{"$f":"IF(MOD(H560,2),[1]pms230!A826,[1]pms170!D826)","v":0},{"$f":"IF(MOD(H560,2),[1]pms230!B826,[1]pms170!B826)","v":0},{"$f":"IF(MOD(H560,2),[1]pms230!C826,[1]pms170!C826)","v":0},{"$f":"IF(MOD(H560,2),[1]pms230!D826,[1]pms170!G826)","v":"00:00:00"},{"$f":"IF(MOD(H560,2),[1]pms230!E826,[1]pms170!H826)","v":"00:00:00"},{"$f":"IF(MOD(H560,2),[1]pms230!F826,[1]pms170!F826)","v":0},{"$f":"IF(MOD(H560,2),[1]pms230!M826,[1]pms170!A826)","v":0},279]
[{"$f":"IF(MOD(H561,2),[1]pms170!D281,[1]pms230!A281)","v":0},{"$f":"IF(MOD(H561,2),[1]pms170!B281,[1]pms230!B281)","v":0},{"$f":"IF(MOD(H561,2),[1]pms170!C281,[1]pms230!C281)","v":0},{"$f":"IF(MOD(H561,2),[1]pms170!G281,[1]pms230!D281)","v":"00:00:00"},{"$f":"IF(MOD(H561,2),[1]pms170!H281,[1]pms230!E281)","v":"00:00:00"},{"$f":"IF(MOD(H561,2),[1]pms170!F281,[1]pms230!F281)","v":0},{"$f":"IF(MOD(H561,2),[1]pms170!A281,[1]pms230!M281)","v":0},279]
[{"$f":"IF(MOD(H562,2),[1]pms230!A827,[1]pms170!D827)","v":0},{"$f":"IF(MOD(H562,2),[1]pms230!B827,[1]pms170!B827)","v":0},{"$f":"IF(MOD(H562,2),[1]pms230!C827,[1]pms170!C827)","v":0},{"$f":"IF(MOD(H562,2),[1]pms230!D827,[1]pms170!G827)","v":"00:00:00"},{"$f":"IF(MOD(H562,2),[1]pms230!E827,[1]pms170!H827)","v":"00:00:00"},{"$f":"IF(MOD(H562,2),[1]pms230!F827,[1]pms170!F827)","v":0},{"$f":"IF(MOD(H562,2),[1]pms230!M827,[1]pms170!A827)","v":0},280]
[{"$f":"IF(MOD(H563,2),[1]pms170!D282,[1]pms230!A282)","v":"961599"},{"$f":"IF(MOD(H563,2),[1]pms170!B282,[1]pms230!B282)","v":"F0443425"},{"$f":"IF(MOD(H563,2),[1]pms170!C282,[1]pms230!C282)","v":"CLIP SUP G"},{"$f":"IF(MOD(H563,2),[1]pms170!G282,[1]pms230!D282)","v":"2017-05-25"},{"$f":"IF(MOD(H563,2),[1]pms170!H282,[1]pms230!E282)","v":"2017-05-25"},{"$f":"IF(MOD(H563,2),[1]pms170!F282,[1]pms230!F282)","v":"52"},{"$f":"IF(MOD(H563,2),[1]pms170!A282,[1]pms230!M282)","v":"351010"},280]
[{"$f":"IF(MOD(H564,2),[1]pms230!A828,[1]pms170!D828)","v":0},{"$f":"IF(MOD(H564,2),[1]pms230!B828,[1]pms170!B828)","v":0},{"$f":"IF(MOD(H564,2),[1]pms230!C828,[1]pms170!C828)","v":0},{"$f":"IF(MOD(H564,2),[1]pms230!D828,[1]pms170!G828)","v":"00:00:00"},{"$f":"IF(MOD(H564,2),[1]pms230!E828,[1]pms170!H828)","v":"00:00:00"},{"$f":"IF(MOD(H564,2),[1]pms230!F828,[1]pms170!F828)","v":0},{"$f":"IF(MOD(H564,2),[1]pms230!M828,[1]pms170!A828)","v":0},281]
[{"$f":"IF(MOD(H565,2),[1]pms170!D283,[1]pms230!A283)","v":0},{"$f":"IF(MOD(H565,2),[1]pms170!B283,[1]pms230!B283)","v":0},{"$f":"IF(MOD(H565,2),[1]pms170!C283,[1]pms230!C283)","v":0},{"$f":"IF(MOD(H565,2),[1]pms170!G283,[1]pms230!D283)","v":"00:00:00"},{"$f":"IF(MOD(H565,2),[1]pms170!H283,[1]pms230!E283)","v":"00:00:00"},{"$f":"IF(MOD(H565,2),[1]pms170!F283,[1]pms230!F283)","v":0},{"$f":"IF(MOD(H565,2),[1]pms170!A283,[1]pms230!M283)","v":0},281]
[{"$f":"IF(MOD(H566,2),[1]pms230!A829,[1]pms170!D829)","v":0},{"$f":"IF(MOD(H566,2),[1]pms230!B829,[1]pms170!B829)","v":0},{"$f":"IF(MOD(H566,2),[1]pms230!C829,[1]pms170!C829)","v":0},{"$f":"IF(MOD(H566,2),[1]pms230!D829,[1]pms170!G829)","v":"00:00:00"},{"$f":"IF(MOD(H566,2),[1]pms230!E829,[1]pms170!H829)","v":"00:00:00"},{"$f":"IF(MOD(H566,2),[1]pms230!F829,[1]pms170!F829)","v":0},{"$f":"IF(MOD(H566,2),[1]pms230!M829,[1]pms170!A829)","v":0},282]
[{"$f":"IF(MOD(H567,2),[1]pms170!D284,[1]pms230!A284)","v":"958830"},{"$f":"IF(MOD(H567,2),[1]pms170!B284,[1]pms230!B284)","v":"F363517"},{"$f":"IF(MOD(H567,2),[1]pms170!C284,[1]pms230!C284)","v":"REMPLISSAGE"},{"$f":"IF(MOD(H567,2),[1]pms170!G284,[1]pms230!D284)","v":"2017-07-13"},{"$f":"IF(MOD(H567,2),[1]pms170!H284,[1]pms230!E284)","v":"2017-07-13"},{"$f":"IF(MOD(H567,2),[1]pms170!F284,[1]pms230!F284)","v":"50"},{"$f":"IF(MOD(H567,2),[1]pms170!A284,[1]pms230!M284)","v":"351015"},282]
[{"$f":"IF(MOD(H568,2),[1]pms230!A830,[1]pms170!D830)","v":0},{"$f":"IF(MOD(H568,2),[1]pms230!B830,[1]pms170!B830)","v":0},{"$f":"IF(MOD(H568,2),[1]pms230!C830,[1]pms170!C830)","v":0},{"$f":"IF(MOD(H568,2),[1]pms230!D830,[1]pms170!G830)","v":"00:00:00"},{"$f":"IF(MOD(H568,2),[1]pms230!E830,[1]pms170!H830)","v":"00:00:00"},{"$f":"IF(MOD(H568,2),[1]pms230!F830,[1]pms170!F830)","v":0},{"$f":"IF(MOD(H568,2),[1]pms230!M830,[1]pms170!A830)","v":0},283]
[{"$f":"IF(MOD(H569,2),[1]pms170!D285,[1]pms230!A285)","v":0},{"$f":"IF(MOD(H569,2),[1]pms170!B285,[1]pms230!B285)","v":0},{"$f":"IF(MOD(H569,2),[1]pms170!C285,[1]pms230!C285)","v":0},{"$f":"IF(MOD(H569,2),[1]pms170!G285,[1]pms230!D285)","v":"00:00:00"},{"$f":"IF(MOD(H569,2),[1]pms170!H285,[1]pms230!E285)","v":"00:00:00"},{"$f":"IF(MOD(H569,2),[1]pms170!F285,[1]pms230!F285)","v":0},{"$f":"IF(MOD(H569,2),[1]pms170!A285,[1]pms230!M285)","v":0},283]
[{"$f":"IF(MOD(H570,2),[1]pms230!A831,[1]pms170!D831)","v":0},{"$f":"IF(MOD(H570,2),[1]pms230!B831,[1]pms170!B831)","v":0},{"$f":"IF(MOD(H570,2),[1]pms230!C831,[1]pms170!C831)","v":0},{"$f":"IF(MOD(H570,2),[1]pms230!D831,[1]pms170!G831)","v":"00:00:00"},{"$f":"IF(MOD(H570,2),[1]pms230!E831,[1]pms170!H831)","v":"00:00:00"},{"$f":"IF(MOD(H570,2),[1]pms230!F831,[1]pms170!F831)","v":0},{"$f":"IF(MOD(H570,2),[1]pms230!M831,[1]pms170!A831)","v":0},284]
[{"$f":"IF(MOD(H571,2),[1]pms170!D286,[1]pms230!A286)","v":"961260"},{"$f":"IF(MOD(H571,2),[1]pms170!B286,[1]pms230!B286)","v":"F0447535"},{"$f":"IF(MOD(H571,2),[1]pms170!C286,[1]pms230!C286)","v":"CAPOT JOINT D"},{"$f":"IF(MOD(H571,2),[1]pms170!G286,[1]pms230!D286)","v":"2017-11-16"},{"$f":"IF(MOD(H571,2),[1]pms170!H286,[1]pms230!E286)","v":"2017-11-16"},{"$f":"IF(MOD(H571,2),[1]pms170!F286,[1]pms230!F286)","v":"50"},{"$f":"IF(MOD(H571,2),[1]pms170!A286,[1]pms230!M286)","v":"351010"},284]
[{"$f":"IF(MOD(H572,2),[1]pms230!A832,[1]pms170!D832)","v":0},{"$f":"IF(MOD(H572,2),[1]pms230!B832,[1]pms170!B832)","v":0},{"$f":"IF(MOD(H572,2),[1]pms230!C832,[1]pms170!C832)","v":0},{"$f":"IF(MOD(H572,2),[1]pms230!D832,[1]pms170!G832)","v":"00:00:00"},{"$f":"IF(MOD(H572,2),[1]pms230!E832,[1]pms170!H832)","v":"00:00:00"},{"$f":"IF(MOD(H572,2),[1]pms230!F832,[1]pms170!F832)","v":0},{"$f":"IF(MOD(H572,2),[1]pms230!M832,[1]pms170!A832)","v":0},285]
[{"$f":"IF(MOD(H573,2),[1]pms170!D287,[1]pms230!A287)","v":0},{"$f":"IF(MOD(H573,2),[1]pms170!B287,[1]pms230!B287)","v":0},{"$f":"IF(MOD(H573,2),[1]pms170!C287,[1]pms230!C287)","v":0},{"$f":"IF(MOD(H573,2),[1]pms170!G287,[1]pms230!D287)","v":"00:00:00"},{"$f":"IF(MOD(H573,2),[1]pms170!H287,[1]pms230!E287)","v":"00:00:00"},{"$f":"IF(MOD(H573,2),[1]pms170!F287,[1]pms230!F287)","v":0},{"$f":"IF(MOD(H573,2),[1]pms170!A287,[1]pms230!M287)","v":0},285]
[{"$f":"IF(MOD(H574,2),[1]pms230!A833,[1]pms170!D833)","v":0},{"$f":"IF(MOD(H574,2),[1]pms230!B833,[1]pms170!B833)","v":0},{"$f":"IF(MOD(H574,2),[1]pms230!C833,[1]pms170!C833)","v":0},{"$f":"IF(MOD(H574,2),[1]pms230!D833,[1]pms170!G833)","v":"00:00:00"},{"$f":"IF(MOD(H574,2),[1]pms230!E833,[1]pms170!H833)","v":"00:00:00"},{"$f":"IF(MOD(H574,2),[1]pms230!F833,[1]pms170!F833)","v":0},{"$f":"IF(MOD(H574,2),[1]pms230!M833,[1]pms170!A833)","v":0},286]
[{"$f":"IF(MOD(H575,2),[1]pms170!D288,[1]pms230!A288)","v":0},null,null,null,null,null,null,286]
[{"$f":"IF(MOD(H576,2),[1]pms230!A834,[1]pms170!D834)","v":0},{"$f":"IF(MOD(H576,2),[1]pms230!B834,[1]pms170!B834)","v":0},{"$f":"IF(MOD(H576,2),[1]pms230!C834,[1]pms170!C834)","v":0},{"$f":"IF(MOD(H576,2),[1]pms230!D834,[1]pms170!G834)","v":"00:00:00"},{"$f":"IF(MOD(H576,2),[1]pms230!E834,[1]pms170!H834)","v":"00:00:00"},{"$f":"IF(MOD(H576,2),[1]pms230!F834,[1]pms170!F834)","v":0},{"$f":"IF(MOD(H576,2),[1]pms230!M834,[1]pms170!A834)","v":0},287]
[{"$f":"IF(MOD(H577,2),[1]pms170!D289,[1]pms230!A289)","v":0}]
[{"$f":"IF(MOD(H578,2),[1]pms230!A835,[1]pms170!D835)","v":0},{"$f":"IF(MOD(H578,2),[1]pms230!B835,[1]pms170!B835)","v":0},{"$f":"IF(MOD(H578,2),[1]pms230!C835,[1]pms170!C835)","v":0},{"$f":"IF(MOD(H578,2),[1]pms230!D835,[1]pms170!G835)","v":"00:00:00"},{"$f":"IF(MOD(H578,2),[1]pms230!E835,[1]pms170!H835)","v":"00:00:00"},{"$f":"IF(MOD(H578,2),[1]pms230!F835,[1]pms170!F835)","v":0},{"$f":"IF(MOD(H578,2),[1]pms230!M835,[1]pms170!A835)","v":0},288]
[{"$f":"IF(MOD(H579,2),[1]pms170!D290,[1]pms230!A290)","v":0}]
[{"$f":"IF(MOD(H580,2),[1]pms230!A836,[1]pms170!D836)","v":0},{"$f":"IF(MOD(H580,2),[1]pms230!B836,[1]pms170!B836)","v":0},{"$f":"IF(MOD(H580,2),[1]pms230!C836,[1]pms170!C836)","v":0},{"$f":"IF(MOD(H580,2),[1]pms230!D836,[1]pms170!G836)","v":"00:00:00"},{"$f":"IF(MOD(H580,2),[1]pms230!E836,[1]pms170!H836)","v":"00:00:00"},{"$f":"IF(MOD(H580,2),[1]pms230!F836,[1]pms170!F836)","v":0},{"$f":"IF(MOD(H580,2),[1]pms230!M836,[1]pms170!A836)","v":0},289]
[{"$f":"IF(MOD(H581,2),[1]pms170!D291,[1]pms230!A291)","v":0}]
[{"$f":"IF(MOD(H582,2),[1]pms230!A837,[1]pms170!D837)","v":0},{"$f":"IF(MOD(H582,2),[1]pms230!B837,[1]pms170!B837)","v":0},{"$f":"IF(MOD(H582,2),[1]pms230!C837,[1]pms170!C837)","v":0},{"$f":"IF(MOD(H582,2),[1]pms230!D837,[1]pms170!G837)","v":"00:00:00"},{"$f":"IF(MOD(H582,2),[1]pms230!E837,[1]pms170!H837)","v":"00:00:00"},{"$f":"IF(MOD(H582,2),[1]pms230!F837,[1]pms170!F837)","v":0},{"$f":"IF(MOD(H582,2),[1]pms230!M837,[1]pms170!A837)","v":0},290]
[{"$f":"IF(MOD(H583,2),[1]pms170!D292,[1]pms230!A292)","v":0}]
[{"$f":"IF(MOD(H584,2),[1]pms230!A838,[1]pms170!D838)","v":0},{"$f":"IF(MOD(H584,2),[1]pms230!B838,[1]pms170!B838)","v":0},{"$f":"IF(MOD(H584,2),[1]pms230!C838,[1]pms170!C838)","v":0},{"$f":"IF(MOD(H584,2),[1]pms230!D838,[1]pms170!G838)","v":"00:00:00"},{"$f":"IF(MOD(H584,2),[1]pms230!E838,[1]pms170!H838)","v":"00:00:00"},{"$f":"IF(MOD(H584,2),[1]pms230!F838,[1]pms170!F838)","v":0},{"$f":"IF(MOD(H584,2),[1]pms230!M838,[1]pms170!A838)","v":0},291]
[{"$f":"IF(MOD(H585,2),[1]pms170!D293,[1]pms230!A293)","v":0}]
[{"$f":"IF(MOD(H586,2),[1]pms230!A839,[1]pms170!D839)","v":0},{"$f":"IF(MOD(H586,2),[1]pms230!B839,[1]pms170!B839)","v":0},{"$f":"IF(MOD(H586,2),[1]pms230!C839,[1]pms170!C839)","v":0},{"$f":"IF(MOD(H586,2),[1]pms230!D839,[1]pms170!G839)","v":"00:00:00"},{"$f":"IF(MOD(H586,2),[1]pms230!E839,[1]pms170!H839)","v":"00:00:00"},{"$f":"IF(MOD(H586,2),[1]pms230!F839,[1]pms170!F839)","v":0},{"$f":"IF(MOD(H586,2),[1]pms230!M839,[1]pms170!A839)","v":0},292]
[{"$f":"IF(MOD(H587,2),[1]pms170!D294,[1]pms230!A294)","v":0}]
[{"$f":"IF(MOD(H588,2),[1]pms230!A840,[1]pms170!D840)","v":0},{"$f":"IF(MOD(H588,2),[1]pms230!B840,[1]pms170!B840)","v":0},{"$f":"IF(MOD(H588,2),[1]pms230!C840,[1]pms170!C840)","v":0},{"$f":"IF(MOD(H588,2),[1]pms230!D840,[1]pms170!G840)","v":"00:00:00"},{"$f":"IF(MOD(H588,2),[1]pms230!E840,[1]pms170!H840)","v":"00:00:00"},{"$f":"IF(MOD(H588,2),[1]pms230!F840,[1]pms170!F840)","v":0},{"$f":"IF(MOD(H588,2),[1]pms230!M840,[1]pms170!A840)","v":0},293]
[{"$f":"IF(MOD(H589,2),[1]pms170!D295,[1]pms230!A295)","v":0}]
[{"$f":"IF(MOD(H590,2),[1]pms230!A841,[1]pms170!D841)","v":0},{"$f":"IF(MOD(H590,2),[1]pms230!B841,[1]pms170!B841)","v":0},{"$f":"IF(MOD(H590,2),[1]pms230!C841,[1]pms170!C841)","v":0},{"$f":"IF(MOD(H590,2),[1]pms230!D841,[1]pms170!G841)","v":"00:00:00"},{"$f":"IF(MOD(H590,2),[1]pms230!E841,[1]pms170!H841)","v":"00:00:00"},{"$f":"IF(MOD(H590,2),[1]pms230!F841,[1]pms170!F841)","v":0},{"$f":"IF(MOD(H590,2),[1]pms230!M841,[1]pms170!A841)","v":0},294]
[{"$f":"IF(MOD(H591,2),[1]pms170!D296,[1]pms230!A296)","v":0}]
[{"$f":"IF(MOD(H592,2),[1]pms230!A842,[1]pms170!D842)","v":0},{"$f":"IF(MOD(H592,2),[1]pms230!B842,[1]pms170!B842)","v":0},{"$f":"IF(MOD(H592,2),[1]pms230!C842,[1]pms170!C842)","v":0},{"$f":"IF(MOD(H592,2),[1]pms230!D842,[1]pms170!G842)","v":"00:00:00"},{"$f":"IF(MOD(H592,2),[1]pms230!E842,[1]pms170!H842)","v":"00:00:00"},{"$f":"IF(MOD(H592,2),[1]pms230!F842,[1]pms170!F842)","v":0},{"$f":"IF(MOD(H592,2),[1]pms230!M842,[1]pms170!A842)","v":0},295]
[{"$f":"IF(MOD(H593,2),[1]pms170!D297,[1]pms230!A297)","v":0}]
[{"$f":"IF(MOD(H594,2),[1]pms230!A843,[1]pms170!D843)","v":0},{"$f":"IF(MOD(H594,2),[1]pms230!B843,[1]pms170!B843)","v":0},{"$f":"IF(MOD(H594,2),[1]pms230!C843,[1]pms170!C843)","v":0},{"$f":"IF(MOD(H594,2),[1]pms230!D843,[1]pms170!G843)","v":"00:00:00"},{"$f":"IF(MOD(H594,2),[1]pms230!E843,[1]pms170!H843)","v":"00:00:00"},{"$f":"IF(MOD(H594,2),[1]pms230!F843,[1]pms170!F843)","v":0},{"$f":"IF(MOD(H594,2),[1]pms230!M843,[1]pms170!A843)","v":0},296]
[{"$f":"IF(MOD(H595,2),[1]pms170!D298,[1]pms230!A298)","v":0}]
[{"$f":"IF(MOD(H596,2),[1]pms230!A844,[1]pms170!D844)","v":0},{"$f":"IF(MOD(H596,2),[1]pms230!B844,[1]pms170!B844)","v":0},{"$f":"IF(MOD(H596,2),[1]pms230!C844,[1]pms170!C844)","v":0},{"$f":"IF(MOD(H596,2),[1]pms230!D844,[1]pms170!G844)","v":"00:00:00"},{"$f":"IF(MOD(H596,2),[1]pms230!E844,[1]pms170!H844)","v":"00:00:00"},{"$f":"IF(MOD(H596,2),[1]pms230!F844,[1]pms170!F844)","v":0},{"$f":"IF(MOD(H596,2),[1]pms230!M844,[1]pms170!A844)","v":0},297]
[{"$f":"IF(MOD(H597,2),[1]pms170!D299,[1]pms230!A299)","v":0}]
[{"$f":"IF(MOD(H598,2),[1]pms230!A845,[1]pms170!D845)","v":0},{"$f":"IF(MOD(H598,2),[1]pms230!B845,[1]pms170!B845)","v":0},{"$f":"IF(MOD(H598,2),[1]pms230!C845,[1]pms170!C845)","v":0},{"$f":"IF(MOD(H598,2),[1]pms230!D845,[1]pms170!G845)","v":"00:00:00"},{"$f":"IF(MOD(H598,2),[1]pms230!E845,[1]pms170!H845)","v":"00:00:00"},{"$f":"IF(MOD(H598,2),[1]pms230!F845,[1]pms170!F845)","v":0},{"$f":"IF(MOD(H598,2),[1]pms230!M845,[1]pms170!A845)","v":0},298]
[{"$f":"IF(MOD(H599,2),[1]pms170!D300,[1]pms230!A300)","v":0}]
[{"$f":"IF(MOD(H600,2),[1]pms230!A846,[1]pms170!D846)","v":0},{"$f":"IF(MOD(H600,2),[1]pms230!B846,[1]pms170!B846)","v":0},{"$f":"IF(MOD(H600,2),[1]pms230!C846,[1]pms170!C846)","v":0},{"$f":"IF(MOD(H600,2),[1]pms230!D846,[1]pms170!G846)","v":"00:00:00"},{"$f":"IF(MOD(H600,2),[1]pms230!E846,[1]pms170!H846)","v":"00:00:00"},{"$f":"IF(MOD(H600,2),[1]pms230!F846,[1]pms170!F846)","v":0},{"$f":"IF(MOD(H600,2),[1]pms230!M846,[1]pms170!A846)","v":0},299]
[{"$f":"IF(MOD(H601,2),[1]pms170!D301,[1]pms230!A301)","v":0}]
[{"$f":"IF(MOD(H602,2),[1]pms230!A847,[1]pms170!D847)","v":0},{"$f":"IF(MOD(H602,2),[1]pms230!B847,[1]pms170!B847)","v":0},{"$f":"IF(MOD(H602,2),[1]pms230!C847,[1]pms170!C847)","v":0},{"$f":"IF(MOD(H602,2),[1]pms230!D847,[1]pms170!G847)","v":"00:00:00"},{"$f":"IF(MOD(H602,2),[1]pms230!E847,[1]pms170!H847)","v":"00:00:00"},{"$f":"IF(MOD(H602,2),[1]pms230!F847,[1]pms170!F847)","v":0},{"$f":"IF(MOD(H602,2),[1]pms230!M847,[1]pms170!A847)","v":0},300]
[{"$f":"IF(MOD(H603,2),[1]pms170!D302,[1]pms230!A302)","v":0}]
[{"$f":"IF(MOD(H604,2),[1]pms230!A848,[1]pms170!D848)","v":0},{"$f":"IF(MOD(H604,2),[1]pms230!B848,[1]pms170!B848)","v":0},{"$f":"IF(MOD(H604,2),[1]pms230!C848,[1]pms170!C848)","v":0},{"$f":"IF(MOD(H604,2),[1]pms230!D848,[1]pms170!G848)","v":"00:00:00"},{"$f":"IF(MOD(H604,2),[1]pms230!E848,[1]pms170!H848)","v":"00:00:00"},{"$f":"IF(MOD(H604,2),[1]pms230!F848,[1]pms170!F848)","v":0},{"$f":"IF(MOD(H604,2),[1]pms230!M848,[1]pms170!A848)","v":0},301]
[{"$f":"IF(MOD(H605,2),[1]pms170!D303,[1]pms230!A303)","v":0}]
[{"$f":"IF(MOD(H606,2),[1]pms230!A849,[1]pms170!D849)","v":0},{"$f":"IF(MOD(H606,2),[1]pms230!B849,[1]pms170!B849)","v":0},{"$f":"IF(MOD(H606,2),[1]pms230!C849,[1]pms170!C849)","v":0},{"$f":"IF(MOD(H606,2),[1]pms230!D849,[1]pms170!G849)","v":"00:00:00"},{"$f":"IF(MOD(H606,2),[1]pms230!E849,[1]pms170!H849)","v":"00:00:00"},{"$f":"IF(MOD(H606,2),[1]pms230!F849,[1]pms170!F849)","v":0},{"$f":"IF(MOD(H606,2),[1]pms230!M849,[1]pms170!A849)","v":0},302]
[{"$f":"IF(MOD(H607,2),[1]pms170!D304,[1]pms230!A304)","v":0}]
[{"$f":"IF(MOD(H608,2),[1]pms230!A850,[1]pms170!D850)","v":0},{"$f":"IF(MOD(H608,2),[1]pms230!B850,[1]pms170!B850)","v":0},{"$f":"IF(MOD(H608,2),[1]pms230!C850,[1]pms170!C850)","v":0},{"$f":"IF(MOD(H608,2),[1]pms230!D850,[1]pms170!G850)","v":"00:00:00"},{"$f":"IF(MOD(H608,2),[1]pms230!E850,[1]pms170!H850)","v":"00:00:00"},{"$f":"IF(MOD(H608,2),[1]pms230!F850,[1]pms170!F850)","v":0},{"$f":"IF(MOD(H608,2),[1]pms230!M850,[1]pms170!A850)","v":0},303]
[{"$f":"IF(MOD(H609,2),[1]pms170!D305,[1]pms230!A305)","v":0}]
[{"$f":"IF(MOD(H610,2),[1]pms230!A851,[1]pms170!D851)","v":0},{"$f":"IF(MOD(H610,2),[1]pms230!B851,[1]pms170!B851)","v":0},{"$f":"IF(MOD(H610,2),[1]pms230!C851,[1]pms170!C851)","v":0},{"$f":"IF(MOD(H610,2),[1]pms230!D851,[1]pms170!G851)","v":"00:00:00"},{"$f":"IF(MOD(H610,2),[1]pms230!E851,[1]pms170!H851)","v":"00:00:00"},{"$f":"IF(MOD(H610,2),[1]pms230!F851,[1]pms170!F851)","v":0},{"$f":"IF(MOD(H610,2),[1]pms230!M851,[1]pms170!A851)","v":0},304]
[{"$f":"IF(MOD(H611,2),[1]pms170!D306,[1]pms230!A306)","v":0}]
[{"$f":"IF(MOD(H612,2),[1]pms230!A852,[1]pms170!D852)","v":0},{"$f":"IF(MOD(H612,2),[1]pms230!B852,[1]pms170!B852)","v":0},{"$f":"IF(MOD(H612,2),[1]pms230!C852,[1]pms170!C852)","v":0},{"$f":"IF(MOD(H612,2),[1]pms230!D852,[1]pms170!G852)","v":"00:00:00"},{"$f":"IF(MOD(H612,2),[1]pms230!E852,[1]pms170!H852)","v":"00:00:00"},{"$f":"IF(MOD(H612,2),[1]pms230!F852,[1]pms170!F852)","v":0},{"$f":"IF(MOD(H612,2),[1]pms230!M852,[1]pms170!A852)","v":0},305]
[{"$f":"IF(MOD(H613,2),[1]pms170!D307,[1]pms230!A307)","v":0}]
[{"$f":"IF(MOD(H614,2),[1]pms230!A853,[1]pms170!D853)","v":0},{"$f":"IF(MOD(H614,2),[1]pms230!B853,[1]pms170!B853)","v":0},{"$f":"IF(MOD(H614,2),[1]pms230!C853,[1]pms170!C853)","v":0},{"$f":"IF(MOD(H614,2),[1]pms230!D853,[1]pms170!G853)","v":"00:00:00"},{"$f":"IF(MOD(H614,2),[1]pms230!E853,[1]pms170!H853)","v":"00:00:00"},{"$f":"IF(MOD(H614,2),[1]pms230!F853,[1]pms170!F853)","v":0},{"$f":"IF(MOD(H614,2),[1]pms230!M853,[1]pms170!A853)","v":0},306]
[{"$f":"IF(MOD(H615,2),[1]pms170!D308,[1]pms230!A308)","v":0}]
[{"$f":"IF(MOD(H616,2),[1]pms230!A854,[1]pms170!D854)","v":0},{"$f":"IF(MOD(H616,2),[1]pms230!B854,[1]pms170!B854)","v":0},{"$f":"IF(MOD(H616,2),[1]pms230!C854,[1]pms170!C854)","v":0},{"$f":"IF(MOD(H616,2),[1]pms230!D854,[1]pms170!G854)","v":"00:00:00"},{"$f":"IF(MOD(H616,2),[1]pms230!E854,[1]pms170!H854)","v":"00:00:00"},{"$f":"IF(MOD(H616,2),[1]pms230!F854,[1]pms170!F854)","v":0},{"$f":"IF(MOD(H616,2),[1]pms230!M854,[1]pms170!A854)","v":0},307]
[{"$f":"IF(MOD(H617,2),[1]pms170!D309,[1]pms230!A309)","v":0}]
[{"$f":"IF(MOD(H618,2),[1]pms230!A855,[1]pms170!D855)","v":0},{"$f":"IF(MOD(H618,2),[1]pms230!B855,[1]pms170!B855)","v":0},{"$f":"IF(MOD(H618,2),[1]pms230!C855,[1]pms170!C855)","v":0},{"$f":"IF(MOD(H618,2),[1]pms230!D855,[1]pms170!G855)","v":"00:00:00"},{"$f":"IF(MOD(H618,2),[1]pms230!E855,[1]pms170!H855)","v":"00:00:00"},{"$f":"IF(MOD(H618,2),[1]pms230!F855,[1]pms170!F855)","v":0},{"$f":"IF(MOD(H618,2),[1]pms230!M855,[1]pms170!A855)","v":0},308]
[{"$f":"IF(MOD(H619,2),[1]pms170!D310,[1]pms230!A310)","v":0}]
[{"$f":"IF(MOD(H620,2),[1]pms230!A856,[1]pms170!D856)","v":0},{"$f":"IF(MOD(H620,2),[1]pms230!B856,[1]pms170!B856)","v":0},{"$f":"IF(MOD(H620,2),[1]pms230!C856,[1]pms170!C856)","v":0},{"$f":"IF(MOD(H620,2),[1]pms230!D856,[1]pms170!G856)","v":"00:00:00"},{"$f":"IF(MOD(H620,2),[1]pms230!E856,[1]pms170!H856)","v":"00:00:00"},{"$f":"IF(MOD(H620,2),[1]pms230!F856,[1]pms170!F856)","v":0},{"$f":"IF(MOD(H620,2),[1]pms230!M856,[1]pms170!A856)","v":0},309]
[{"$f":"IF(MOD(H621,2),[1]pms170!D311,[1]pms230!A311)","v":0}]
[{"$f":"IF(MOD(H622,2),[1]pms230!A857,[1]pms170!D857)","v":0},{"$f":"IF(MOD(H622,2),[1]pms230!B857,[1]pms170!B857)","v":0},{"$f":"IF(MOD(H622,2),[1]pms230!C857,[1]pms170!C857)","v":0},{"$f":"IF(MOD(H622,2),[1]pms230!D857,[1]pms170!G857)","v":"00:00:00"},{"$f":"IF(MOD(H622,2),[1]pms230!E857,[1]pms170!H857)","v":"00:00:00"},{"$f":"IF(MOD(H622,2),[1]pms230!F857,[1]pms170!F857)","v":0},{"$f":"IF(MOD(H622,2),[1]pms230!M857,[1]pms170!A857)","v":0},310]
[{"$f":"IF(MOD(H623,2),[1]pms170!D312,[1]pms230!A312)","v":0}]
[{"$f":"IF(MOD(H624,2),[1]pms230!A858,[1]pms170!D858)","v":0},{"$f":"IF(MOD(H624,2),[1]pms230!B858,[1]pms170!B858)","v":0},{"$f":"IF(MOD(H624,2),[1]pms230!C858,[1]pms170!C858)","v":0},{"$f":"IF(MOD(H624,2),[1]pms230!D858,[1]pms170!G858)","v":"00:00:00"},{"$f":"IF(MOD(H624,2),[1]pms230!E858,[1]pms170!H858)","v":"00:00:00"},{"$f":"IF(MOD(H624,2),[1]pms230!F858,[1]pms170!F858)","v":0},{"$f":"IF(MOD(H624,2),[1]pms230!M858,[1]pms170!A858)","v":0},311]
[{"$f":"IF(MOD(H625,2),[1]pms170!D313,[1]pms230!A313)","v":0}]
[{"$f":"IF(MOD(H626,2),[1]pms230!A859,[1]pms170!D859)","v":0},{"$f":"IF(MOD(H626,2),[1]pms230!B859,[1]pms170!B859)","v":0},{"$f":"IF(MOD(H626,2),[1]pms230!C859,[1]pms170!C859)","v":0},{"$f":"IF(MOD(H626,2),[1]pms230!D859,[1]pms170!G859)","v":"00:00:00"},{"$f":"IF(MOD(H626,2),[1]pms230!E859,[1]pms170!H859)","v":"00:00:00"},{"$f":"IF(MOD(H626,2),[1]pms230!F859,[1]pms170!F859)","v":0},{"$f":"IF(MOD(H626,2),[1]pms230!M859,[1]pms170!A859)","v":0},312]
[{"$f":"IF(MOD(H627,2),[1]pms170!D314,[1]pms230!A314)","v":0}]
[{"$f":"IF(MOD(H628,2),[1]pms230!A860,[1]pms170!D860)","v":0},{"$f":"IF(MOD(H628,2),[1]pms230!B860,[1]pms170!B860)","v":0},{"$f":"IF(MOD(H628,2),[1]pms230!C860,[1]pms170!C860)","v":0},{"$f":"IF(MOD(H628,2),[1]pms230!D860,[1]pms170!G860)","v":"00:00:00"},{"$f":"IF(MOD(H628,2),[1]pms230!E860,[1]pms170!H860)","v":"00:00:00"},{"$f":"IF(MOD(H628,2),[1]pms230!F860,[1]pms170!F860)","v":0},{"$f":"IF(MOD(H628,2),[1]pms230!M860,[1]pms170!A860)","v":0},313]
[{"$f":"IF(MOD(H629,2),[1]pms170!D315,[1]pms230!A315)","v":0}]
[{"$f":"IF(MOD(H630,2),[1]pms230!A861,[1]pms170!D861)","v":0},{"$f":"IF(MOD(H630,2),[1]pms230!B861,[1]pms170!B861)","v":0},{"$f":"IF(MOD(H630,2),[1]pms230!C861,[1]pms170!C861)","v":0},{"$f":"IF(MOD(H630,2),[1]pms230!D861,[1]pms170!G861)","v":"00:00:00"},{"$f":"IF(MOD(H630,2),[1]pms230!E861,[1]pms170!H861)","v":"00:00:00"},{"$f":"IF(MOD(H630,2),[1]pms230!F861,[1]pms170!F861)","v":0},{"$f":"IF(MOD(H630,2),[1]pms230!M861,[1]pms170!A861)","v":0},314]
[{"$f":"IF(MOD(H631,2),[1]pms170!D316,[1]pms230!A316)","v":0}]
[{"$f":"IF(MOD(H632,2),[1]pms230!A862,[1]pms170!D862)","v":0},{"$f":"IF(MOD(H632,2),[1]pms230!B862,[1]pms170!B862)","v":0},{"$f":"IF(MOD(H632,2),[1]pms230!C862,[1]pms170!C862)","v":0},{"$f":"IF(MOD(H632,2),[1]pms230!D862,[1]pms170!G862)","v":"00:00:00"},{"$f":"IF(MOD(H632,2),[1]pms230!E862,[1]pms170!H862)","v":"00:00:00"},{"$f":"IF(MOD(H632,2),[1]pms230!F862,[1]pms170!F862)","v":0},{"$f":"IF(MOD(H632,2),[1]pms230!M862,[1]pms170!A862)","v":0},315]
[{"$f":"IF(MOD(H633,2),[1]pms170!D317,[1]pms230!A317)","v":0}]
[{"$f":"IF(MOD(H634,2),[1]pms230!A863,[1]pms170!D863)","v":0},{"$f":"IF(MOD(H634,2),[1]pms230!B863,[1]pms170!B863)","v":0},{"$f":"IF(MOD(H634,2),[1]pms230!C863,[1]pms170!C863)","v":0},{"$f":"IF(MOD(H634,2),[1]pms230!D863,[1]pms170!G863)","v":"00:00:00"},{"$f":"IF(MOD(H634,2),[1]pms230!E863,[1]pms170!H863)","v":"00:00:00"},{"$f":"IF(MOD(H634,2),[1]pms230!F863,[1]pms170!F863)","v":0},{"$f":"IF(MOD(H634,2),[1]pms230!M863,[1]pms170!A863)","v":0},316]
[{"$f":"IF(MOD(H635,2),[1]pms170!D318,[1]pms230!A318)","v":0}]
[{"$f":"IF(MOD(H636,2),[1]pms230!A864,[1]pms170!D864)","v":0},{"$f":"IF(MOD(H636,2),[1]pms230!B864,[1]pms170!B864)","v":0},{"$f":"IF(MOD(H636,2),[1]pms230!C864,[1]pms170!C864)","v":0},{"$f":"IF(MOD(H636,2),[1]pms230!D864,[1]pms170!G864)","v":"00:00:00"},{"$f":"IF(MOD(H636,2),[1]pms230!E864,[1]pms170!H864)","v":"00:00:00"},{"$f":"IF(MOD(H636,2),[1]pms230!F864,[1]pms170!F864)","v":0},{"$f":"IF(MOD(H636,2),[1]pms230!M864,[1]pms170!A864)","v":0},317]
[{"$f":"IF(MOD(H637,2),[1]pms170!D319,[1]pms230!A319)","v":0}]
[{"$f":"IF(MOD(H638,2),[1]pms230!A865,[1]pms170!D865)","v":0},{"$f":"IF(MOD(H638,2),[1]pms230!B865,[1]pms170!B865)","v":0},{"$f":"IF(MOD(H638,2),[1]pms230!C865,[1]pms170!C865)","v":0},{"$f":"IF(MOD(H638,2),[1]pms230!D865,[1]pms170!G865)","v":"00:00:00"},{"$f":"IF(MOD(H638,2),[1]pms230!E865,[1]pms170!H865)","v":"00:00:00"},{"$f":"IF(MOD(H638,2),[1]pms230!F865,[1]pms170!F865)","v":0},{"$f":"IF(MOD(H638,2),[1]pms230!M865,[1]pms170!A865)","v":0},318]
[{"$f":"IF(MOD(H639,2),[1]pms170!D320,[1]pms230!A320)","v":0}]
[{"$f":"IF(MOD(H640,2),[1]pms230!A866,[1]pms170!D866)","v":0},{"$f":"IF(MOD(H640,2),[1]pms230!B866,[1]pms170!B866)","v":0},{"$f":"IF(MOD(H640,2),[1]pms230!C866,[1]pms170!C866)","v":0},{"$f":"IF(MOD(H640,2),[1]pms230!D866,[1]pms170!G866)","v":"00:00:00"},{"$f":"IF(MOD(H640,2),[1]pms230!E866,[1]pms170!H866)","v":"00:00:00"},{"$f":"IF(MOD(H640,2),[1]pms230!F866,[1]pms170!F866)","v":0},{"$f":"IF(MOD(H640,2),[1]pms230!M866,[1]pms170!A866)","v":0},319]
[{"$f":"IF(MOD(H641,2),[1]pms170!D321,[1]pms230!A321)","v":0}]
[{"$f":"IF(MOD(H642,2),[1]pms230!A867,[1]pms170!D867)","v":0},{"$f":"IF(MOD(H642,2),[1]pms230!B867,[1]pms170!B867)","v":0},{"$f":"IF(MOD(H642,2),[1]pms230!C867,[1]pms170!C867)","v":0},{"$f":"IF(MOD(H642,2),[1]pms230!D867,[1]pms170!G867)","v":"00:00:00"},{"$f":"IF(MOD(H642,2),[1]pms230!E867,[1]pms170!H867)","v":"00:00:00"},{"$f":"IF(MOD(H642,2),[1]pms230!F867,[1]pms170!F867)","v":0},{"$f":"IF(MOD(H642,2),[1]pms230!M867,[1]pms170!A867)","v":0},320]
[{"$f":"IF(MOD(H643,2),[1]pms170!D322,[1]pms230!A322)","v":0}]
[{"$f":"IF(MOD(H644,2),[1]pms230!A868,[1]pms170!D868)","v":0},{"$f":"IF(MOD(H644,2),[1]pms230!B868,[1]pms170!B868)","v":0},{"$f":"IF(MOD(H644,2),[1]pms230!C868,[1]pms170!C868)","v":0},{"$f":"IF(MOD(H644,2),[1]pms230!D868,[1]pms170!G868)","v":"00:00:00"},{"$f":"IF(MOD(H644,2),[1]pms230!E868,[1]pms170!H868)","v":"00:00:00"},{"$f":"IF(MOD(H644,2),[1]pms230!F868,[1]pms170!F868)","v":0},{"$f":"IF(MOD(H644,2),[1]pms230!M868,[1]pms170!A868)","v":0},321]
[{"$f":"IF(MOD(H645,2),[1]pms170!D323,[1]pms230!A323)","v":0}]
[{"$f":"IF(MOD(H646,2),[1]pms230!A869,[1]pms170!D869)","v":0},{"$f":"IF(MOD(H646,2),[1]pms230!B869,[1]pms170!B869)","v":0},{"$f":"IF(MOD(H646,2),[1]pms230!C869,[1]pms170!C869)","v":0},{"$f":"IF(MOD(H646,2),[1]pms230!D869,[1]pms170!G869)","v":"00:00:00"},{"$f":"IF(MOD(H646,2),[1]pms230!E869,[1]pms170!H869)","v":"00:00:00"},{"$f":"IF(MOD(H646,2),[1]pms230!F869,[1]pms170!F869)","v":0},{"$f":"IF(MOD(H646,2),[1]pms230!M869,[1]pms170!A869)","v":0},322]
[{"$f":"IF(MOD(H647,2),[1]pms170!D324,[1]pms230!A324)","v":0}]
[{"$f":"IF(MOD(H648,2),[1]pms230!A870,[1]pms170!D870)","v":0},{"$f":"IF(MOD(H648,2),[1]pms230!B870,[1]pms170!B870)","v":0},{"$f":"IF(MOD(H648,2),[1]pms230!C870,[1]pms170!C870)","v":0},{"$f":"IF(MOD(H648,2),[1]pms230!D870,[1]pms170!G870)","v":"00:00:00"},{"$f":"IF(MOD(H648,2),[1]pms230!E870,[1]pms170!H870)","v":"00:00:00"},{"$f":"IF(MOD(H648,2),[1]pms230!F870,[1]pms170!F870)","v":0},{"$f":"IF(MOD(H648,2),[1]pms230!M870,[1]pms170!A870)","v":0},323]
[{"$f":"IF(MOD(H649,2),[1]pms170!D325,[1]pms230!A325)","v":0}]
[{"$f":"IF(MOD(H650,2),[1]pms230!A871,[1]pms170!D871)","v":0},{"$f":"IF(MOD(H650,2),[1]pms230!B871,[1]pms170!B871)","v":0},{"$f":"IF(MOD(H650,2),[1]pms230!C871,[1]pms170!C871)","v":0},{"$f":"IF(MOD(H650,2),[1]pms230!D871,[1]pms170!G871)","v":"00:00:00"},{"$f":"IF(MOD(H650,2),[1]pms230!E871,[1]pms170!H871)","v":"00:00:00"},{"$f":"IF(MOD(H650,2),[1]pms230!F871,[1]pms170!F871)","v":0},{"$f":"IF(MOD(H650,2),[1]pms230!M871,[1]pms170!A871)","v":0},324]
[{"$f":"IF(MOD(H651,2),[1]pms170!D326,[1]pms230!A326)","v":0}]
[{"$f":"IF(MOD(H652,2),[1]pms230!A872,[1]pms170!D872)","v":0},{"$f":"IF(MOD(H652,2),[1]pms230!B872,[1]pms170!B872)","v":0},{"$f":"IF(MOD(H652,2),[1]pms230!C872,[1]pms170!C872)","v":0},{"$f":"IF(MOD(H652,2),[1]pms230!D872,[1]pms170!G872)","v":"00:00:00"},{"$f":"IF(MOD(H652,2),[1]pms230!E872,[1]pms170!H872)","v":"00:00:00"},{"$f":"IF(MOD(H652,2),[1]pms230!F872,[1]pms170!F872)","v":0},{"$f":"IF(MOD(H652,2),[1]pms230!M872,[1]pms170!A872)","v":0},325]
[{"$f":"IF(MOD(H653,2),[1]pms170!D327,[1]pms230!A327)","v":0}]
[{"$f":"IF(MOD(H654,2),[1]pms230!A873,[1]pms170!D873)","v":0},{"$f":"IF(MOD(H654,2),[1]pms230!B873,[1]pms170!B873)","v":0},{"$f":"IF(MOD(H654,2),[1]pms230!C873,[1]pms170!C873)","v":0},{"$f":"IF(MOD(H654,2),[1]pms230!D873,[1]pms170!G873)","v":"00:00:00"},{"$f":"IF(MOD(H654,2),[1]pms230!E873,[1]pms170!H873)","v":"00:00:00"},{"$f":"IF(MOD(H654,2),[1]pms230!F873,[1]pms170!F873)","v":0},{"$f":"IF(MOD(H654,2),[1]pms230!M873,[1]pms170!A873)","v":0},326]
[{"$f":"IF(MOD(H655,2),[1]pms170!D328,[1]pms230!A328)","v":0}]
[{"$f":"IF(MOD(H656,2),[1]pms230!A874,[1]pms170!D874)","v":0},{"$f":"IF(MOD(H656,2),[1]pms230!B874,[1]pms170!B874)","v":0},{"$f":"IF(MOD(H656,2),[1]pms230!C874,[1]pms170!C874)","v":0},{"$f":"IF(MOD(H656,2),[1]pms230!D874,[1]pms170!G874)","v":"00:00:00"},{"$f":"IF(MOD(H656,2),[1]pms230!E874,[1]pms170!H874)","v":"00:00:00"},{"$f":"IF(MOD(H656,2),[1]pms230!F874,[1]pms170!F874)","v":0},{"$f":"IF(MOD(H656,2),[1]pms230!M874,[1]pms170!A874)","v":0},327]
[{"$f":"IF(MOD(H657,2),[1]pms170!D329,[1]pms230!A329)","v":0}]
[{"$f":"IF(MOD(H658,2),[1]pms230!A875,[1]pms170!D875)","v":0},{"$f":"IF(MOD(H658,2),[1]pms230!B875,[1]pms170!B875)","v":0},{"$f":"IF(MOD(H658,2),[1]pms230!C875,[1]pms170!C875)","v":0},{"$f":"IF(MOD(H658,2),[1]pms230!D875,[1]pms170!G875)","v":"00:00:00"},{"$f":"IF(MOD(H658,2),[1]pms230!E875,[1]pms170!H875)","v":"00:00:00"},{"$f":"IF(MOD(H658,2),[1]pms230!F875,[1]pms170!F875)","v":0},{"$f":"IF(MOD(H658,2),[1]pms230!M875,[1]pms170!A875)","v":0},328]
[{"$f":"IF(MOD(H659,2),[1]pms170!D330,[1]pms230!A330)","v":0}]
[{"$f":"IF(MOD(H660,2),[1]pms230!A876,[1]pms170!D876)","v":0},{"$f":"IF(MOD(H660,2),[1]pms230!B876,[1]pms170!B876)","v":0},{"$f":"IF(MOD(H660,2),[1]pms230!C876,[1]pms170!C876)","v":0},{"$f":"IF(MOD(H660,2),[1]pms230!D876,[1]pms170!G876)","v":"00:00:00"},{"$f":"IF(MOD(H660,2),[1]pms230!E876,[1]pms170!H876)","v":"00:00:00"},{"$f":"IF(MOD(H660,2),[1]pms230!F876,[1]pms170!F876)","v":0},{"$f":"IF(MOD(H660,2),[1]pms230!M876,[1]pms170!A876)","v":0},329]
[{"$f":"IF(MOD(H661,2),[1]pms170!D331,[1]pms230!A331)","v":0}]
[{"$f":"IF(MOD(H662,2),[1]pms230!A877,[1]pms170!D877)","v":0},{"$f":"IF(MOD(H662,2),[1]pms230!B877,[1]pms170!B877)","v":0},{"$f":"IF(MOD(H662,2),[1]pms230!C877,[1]pms170!C877)","v":0},{"$f":"IF(MOD(H662,2),[1]pms230!D877,[1]pms170!G877)","v":"00:00:00"},{"$f":"IF(MOD(H662,2),[1]pms230!E877,[1]pms170!H877)","v":"00:00:00"},{"$f":"IF(MOD(H662,2),[1]pms230!F877,[1]pms170!F877)","v":0},{"$f":"IF(MOD(H662,2),[1]pms230!M877,[1]pms170!A877)","v":0},330]
[{"$f":"IF(MOD(H663,2),[1]pms170!D332,[1]pms230!A332)","v":0}]
[{"$f":"IF(MOD(H664,2),[1]pms230!A878,[1]pms170!D878)","v":0},{"$f":"IF(MOD(H664,2),[1]pms230!B878,[1]pms170!B878)","v":0},{"$f":"IF(MOD(H664,2),[1]pms230!C878,[1]pms170!C878)","v":0},{"$f":"IF(MOD(H664,2),[1]pms230!D878,[1]pms170!G878)","v":"00:00:00"},{"$f":"IF(MOD(H664,2),[1]pms230!E878,[1]pms170!H878)","v":"00:00:00"},{"$f":"IF(MOD(H664,2),[1]pms230!F878,[1]pms170!F878)","v":0},{"$f":"IF(MOD(H664,2),[1]pms230!M878,[1]pms170!A878)","v":0},331]
[{"$f":"IF(MOD(H665,2),[1]pms170!D333,[1]pms230!A333)","v":0}]
[{"$f":"IF(MOD(H666,2),[1]pms230!A879,[1]pms170!D879)","v":0},{"$f":"IF(MOD(H666,2),[1]pms230!B879,[1]pms170!B879)","v":0},{"$f":"IF(MOD(H666,2),[1]pms230!C879,[1]pms170!C879)","v":0},{"$f":"IF(MOD(H666,2),[1]pms230!D879,[1]pms170!G879)","v":"00:00:00"},{"$f":"IF(MOD(H666,2),[1]pms230!E879,[1]pms170!H879)","v":"00:00:00"},{"$f":"IF(MOD(H666,2),[1]pms230!F879,[1]pms170!F879)","v":0},{"$f":"IF(MOD(H666,2),[1]pms230!M879,[1]pms170!A879)","v":0},332]
[{"$f":"IF(MOD(H667,2),[1]pms170!D334,[1]pms230!A334)","v":0}]
[{"$f":"IF(MOD(H668,2),[1]pms230!A880,[1]pms170!D880)","v":0},{"$f":"IF(MOD(H668,2),[1]pms230!B880,[1]pms170!B880)","v":0},{"$f":"IF(MOD(H668,2),[1]pms230!C880,[1]pms170!C880)","v":0},{"$f":"IF(MOD(H668,2),[1]pms230!D880,[1]pms170!G880)","v":"00:00:00"},{"$f":"IF(MOD(H668,2),[1]pms230!E880,[1]pms170!H880)","v":"00:00:00"},{"$f":"IF(MOD(H668,2),[1]pms230!F880,[1]pms170!F880)","v":0},{"$f":"IF(MOD(H668,2),[1]pms230!M880,[1]pms170!A880)","v":0},333]
[{"$f":"IF(MOD(H669,2),[1]pms170!D335,[1]pms230!A335)","v":0}]
[{"$f":"IF(MOD(H670,2),[1]pms230!A881,[1]pms170!D881)","v":0},{"$f":"IF(MOD(H670,2),[1]pms230!B881,[1]pms170!B881)","v":0},{"$f":"IF(MOD(H670,2),[1]pms230!C881,[1]pms170!C881)","v":0},{"$f":"IF(MOD(H670,2),[1]pms230!D881,[1]pms170!G881)","v":"00:00:00"},{"$f":"IF(MOD(H670,2),[1]pms230!E881,[1]pms170!H881)","v":"00:00:00"},{"$f":"IF(MOD(H670,2),[1]pms230!F881,[1]pms170!F881)","v":0},{"$f":"IF(MOD(H670,2),[1]pms230!M881,[1]pms170!A881)","v":0},334]
[{"$f":"IF(MOD(H671,2),[1]pms170!D336,[1]pms230!A336)","v":0}]
[{"$f":"IF(MOD(H672,2),[1]pms230!A882,[1]pms170!D882)","v":0},{"$f":"IF(MOD(H672,2),[1]pms230!B882,[1]pms170!B882)","v":0},{"$f":"IF(MOD(H672,2),[1]pms230!C882,[1]pms170!C882)","v":0},{"$f":"IF(MOD(H672,2),[1]pms230!D882,[1]pms170!G882)","v":"00:00:00"},{"$f":"IF(MOD(H672,2),[1]pms230!E882,[1]pms170!H882)","v":"00:00:00"},{"$f":"IF(MOD(H672,2),[1]pms230!F882,[1]pms170!F882)","v":0},{"$f":"IF(MOD(H672,2),[1]pms230!M882,[1]pms170!A882)","v":0},335]
[{"$f":"IF(MOD(H673,2),[1]pms170!D337,[1]pms230!A337)","v":0}]
[{"$f":"IF(MOD(H674,2),[1]pms230!A883,[1]pms170!D883)","v":0},{"$f":"IF(MOD(H674,2),[1]pms230!B883,[1]pms170!B883)","v":0},{"$f":"IF(MOD(H674,2),[1]pms230!C883,[1]pms170!C883)","v":0},{"$f":"IF(MOD(H674,2),[1]pms230!D883,[1]pms170!G883)","v":"00:00:00"},{"$f":"IF(MOD(H674,2),[1]pms230!E883,[1]pms170!H883)","v":"00:00:00"},{"$f":"IF(MOD(H674,2),[1]pms230!F883,[1]pms170!F883)","v":0},{"$f":"IF(MOD(H674,2),[1]pms230!M883,[1]pms170!A883)","v":0},336]
[{"$f":"IF(MOD(H675,2),[1]pms170!D338,[1]pms230!A338)","v":0}]
[{"$f":"IF(MOD(H676,2),[1]pms230!A884,[1]pms170!D884)","v":0},{"$f":"IF(MOD(H676,2),[1]pms230!B884,[1]pms170!B884)","v":0},{"$f":"IF(MOD(H676,2),[1]pms230!C884,[1]pms170!C884)","v":0},{"$f":"IF(MOD(H676,2),[1]pms230!D884,[1]pms170!G884)","v":"00:00:00"},{"$f":"IF(MOD(H676,2),[1]pms230!E884,[1]pms170!H884)","v":"00:00:00"},{"$f":"IF(MOD(H676,2),[1]pms230!F884,[1]pms170!F884)","v":0},{"$f":"IF(MOD(H676,2),[1]pms230!M884,[1]pms170!A884)","v":0},337]
[{"$f":"IF(MOD(H677,2),[1]pms170!D339,[1]pms230!A339)","v":0}]
[{"$f":"IF(MOD(H678,2),[1]pms230!A885,[1]pms170!D885)","v":0},{"$f":"IF(MOD(H678,2),[1]pms230!B885,[1]pms170!B885)","v":0},{"$f":"IF(MOD(H678,2),[1]pms230!C885,[1]pms170!C885)","v":0},{"$f":"IF(MOD(H678,2),[1]pms230!D885,[1]pms170!G885)","v":"00:00:00"},{"$f":"IF(MOD(H678,2),[1]pms230!E885,[1]pms170!H885)","v":"00:00:00"},{"$f":"IF(MOD(H678,2),[1]pms230!F885,[1]pms170!F885)","v":0},{"$f":"IF(MOD(H678,2),[1]pms230!M885,[1]pms170!A885)","v":0},338]
[{"$f":"IF(MOD(H679,2),[1]pms170!D340,[1]pms230!A340)","v":0}]
[{"$f":"IF(MOD(H680,2),[1]pms230!A886,[1]pms170!D886)","v":0},{"$f":"IF(MOD(H680,2),[1]pms230!B886,[1]pms170!B886)","v":0},{"$f":"IF(MOD(H680,2),[1]pms230!C886,[1]pms170!C886)","v":0},{"$f":"IF(MOD(H680,2),[1]pms230!D886,[1]pms170!G886)","v":"00:00:00"},{"$f":"IF(MOD(H680,2),[1]pms230!E886,[1]pms170!H886)","v":"00:00:00"},{"$f":"IF(MOD(H680,2),[1]pms230!F886,[1]pms170!F886)","v":0},{"$f":"IF(MOD(H680,2),[1]pms230!M886,[1]pms170!A886)","v":0},339]
[{"$f":"IF(MOD(H681,2),[1]pms170!D341,[1]pms230!A341)","v":0}]
[{"$f":"IF(MOD(H682,2),[1]pms230!A887,[1]pms170!D887)","v":0},{"$f":"IF(MOD(H682,2),[1]pms230!B887,[1]pms170!B887)","v":0},{"$f":"IF(MOD(H682,2),[1]pms230!C887,[1]pms170!C887)","v":0},{"$f":"IF(MOD(H682,2),[1]pms230!D887,[1]pms170!G887)","v":"00:00:00"},{"$f":"IF(MOD(H682,2),[1]pms230!E887,[1]pms170!H887)","v":"00:00:00"},{"$f":"IF(MOD(H682,2),[1]pms230!F887,[1]pms170!F887)","v":0},{"$f":"IF(MOD(H682,2),[1]pms230!M887,[1]pms170!A887)","v":0},340]
[{"$f":"IF(MOD(H683,2),[1]pms170!D342,[1]pms230!A342)","v":0}]
[{"$f":"IF(MOD(H684,2),[1]pms230!A888,[1]pms170!D888)","v":0},{"$f":"IF(MOD(H684,2),[1]pms230!B888,[1]pms170!B888)","v":0},{"$f":"IF(MOD(H684,2),[1]pms230!C888,[1]pms170!C888)","v":0},{"$f":"IF(MOD(H684,2),[1]pms230!D888,[1]pms170!G888)","v":"00:00:00"},{"$f":"IF(MOD(H684,2),[1]pms230!E888,[1]pms170!H888)","v":"00:00:00"},{"$f":"IF(MOD(H684,2),[1]pms230!F888,[1]pms170!F888)","v":0},{"$f":"IF(MOD(H684,2),[1]pms230!M888,[1]pms170!A888)","v":0},341]
[{"$f":"IF(MOD(H685,2),[1]pms170!D343,[1]pms230!A343)","v":0}]
[{"$f":"IF(MOD(H686,2),[1]pms230!A889,[1]pms170!D889)","v":0},{"$f":"IF(MOD(H686,2),[1]pms230!B889,[1]pms170!B889)","v":0},{"$f":"IF(MOD(H686,2),[1]pms230!C889,[1]pms170!C889)","v":0},{"$f":"IF(MOD(H686,2),[1]pms230!D889,[1]pms170!G889)","v":"00:00:00"},{"$f":"IF(MOD(H686,2),[1]pms230!E889,[1]pms170!H889)","v":"00:00:00"},{"$f":"IF(MOD(H686,2),[1]pms230!F889,[1]pms170!F889)","v":0},{"$f":"IF(MOD(H686,2),[1]pms230!M889,[1]pms170!A889)","v":0},342]
[{"$f":"IF(MOD(H687,2),[1]pms170!D344,[1]pms230!A344)","v":0}]
[{"$f":"IF(MOD(H688,2),[1]pms230!A890,[1]pms170!D890)","v":0},{"$f":"IF(MOD(H688,2),[1]pms230!B890,[1]pms170!B890)","v":0},{"$f":"IF(MOD(H688,2),[1]pms230!C890,[1]pms170!C890)","v":0},{"$f":"IF(MOD(H688,2),[1]pms230!D890,[1]pms170!G890)","v":"00:00:00"},{"$f":"IF(MOD(H688,2),[1]pms230!E890,[1]pms170!H890)","v":"00:00:00"},{"$f":"IF(MOD(H688,2),[1]pms230!F890,[1]pms170!F890)","v":0},{"$f":"IF(MOD(H688,2),[1]pms230!M890,[1]pms170!A890)","v":0},343]
[{"$f":"IF(MOD(H689,2),[1]pms170!D345,[1]pms230!A345)","v":0}]
[{"$f":"IF(MOD(H690,2),[1]pms230!A891,[1]pms170!D891)","v":0},{"$f":"IF(MOD(H690,2),[1]pms230!B891,[1]pms170!B891)","v":0},{"$f":"IF(MOD(H690,2),[1]pms230!C891,[1]pms170!C891)","v":0},{"$f":"IF(MOD(H690,2),[1]pms230!D891,[1]pms170!G891)","v":"00:00:00"},{"$f":"IF(MOD(H690,2),[1]pms230!E891,[1]pms170!H891)","v":"00:00:00"},{"$f":"IF(MOD(H690,2),[1]pms230!F891,[1]pms170!F891)","v":0},{"$f":"IF(MOD(H690,2),[1]pms230!M891,[1]pms170!A891)","v":0},344]
[{"$f":"IF(MOD(H691,2),[1]pms170!D346,[1]pms230!A346)","v":0}]
[{"$f":"IF(MOD(H692,2),[1]pms230!A892,[1]pms170!D892)","v":0},{"$f":"IF(MOD(H692,2),[1]pms230!B892,[1]pms170!B892)","v":0},{"$f":"IF(MOD(H692,2),[1]pms230!C892,[1]pms170!C892)","v":0},{"$f":"IF(MOD(H692,2),[1]pms230!D892,[1]pms170!G892)","v":"00:00:00"},{"$f":"IF(MOD(H692,2),[1]pms230!E892,[1]pms170!H892)","v":"00:00:00"},{"$f":"IF(MOD(H692,2),[1]pms230!F892,[1]pms170!F892)","v":0},{"$f":"IF(MOD(H692,2),[1]pms230!M892,[1]pms170!A892)","v":0},345]
[{"$f":"IF(MOD(H693,2),[1]pms170!D347,[1]pms230!A347)","v":0}]
[{"$f":"IF(MOD(H694,2),[1]pms230!A893,[1]pms170!D893)","v":0},{"$f":"IF(MOD(H694,2),[1]pms230!B893,[1]pms170!B893)","v":0},{"$f":"IF(MOD(H694,2),[1]pms230!C893,[1]pms170!C893)","v":0},{"$f":"IF(MOD(H694,2),[1]pms230!D893,[1]pms170!G893)","v":"00:00:00"},{"$f":"IF(MOD(H694,2),[1]pms230!E893,[1]pms170!H893)","v":"00:00:00"},{"$f":"IF(MOD(H694,2),[1]pms230!F893,[1]pms170!F893)","v":0},{"$f":"IF(MOD(H694,2),[1]pms230!M893,[1]pms170!A893)","v":0},346]
[{"$f":"IF(MOD(H695,2),[1]pms170!D348,[1]pms230!A348)","v":0}]
[{"$f":"IF(MOD(H696,2),[1]pms170!D894,[1]pms230!A894)","v":0}]
[{"$f":"IF(MOD(H697,2),[1]pms170!D349,[1]pms230!A349)","v":0}]
[{"$f":"IF(MOD(H698,2),[1]pms170!D895,[1]pms230!A895)","v":0}]
[{"$f":"IF(MOD(H699,2),[1]pms170!D350,[1]pms230!A350)","v":0}]
[{"$f":"IF(MOD(H700,2),[1]pms170!D896,[1]pms230!A896)","v":0}]
[{"$f":"IF(MOD(H701,2),[1]pms170!D351,[1]pms230!A351)","v":0}]
[{"$f":"IF(MOD(H702,2),[1]pms170!D897,[1]pms230!A897)","v":0}]
[{"$f":"IF(MOD(H703,2),[1]pms170!D352,[1]pms230!A352)","v":0}]
[{"$f":"IF(MOD(H704,2),[1]pms170!D898,[1]pms230!A898)","v":0}]
[{"$f":"IF(MOD(H705,2),[1]pms170!D353,[1]pms230!A353)","v":0}]
[{"$f":"IF(MOD(H706,2),[1]pms170!D899,[1]pms230!A899)","v":0}]
[{"$f":"IF(MOD(H707,2),[1]pms170!D354,[1]pms230!A354)","v":0}]
[{"$f":"IF(MOD(H708,2),[1]pms170!D900,[1]pms230!A900)","v":0}]
[{"$f":"IF(MOD(H709,2),[1]pms170!D355,[1]pms230!A355)","v":0}]
[{"$f":"IF(MOD(H710,2),[1]pms170!D901,[1]pms230!A901)","v":0}]
[{"$f":"IF(MOD(H711,2),[1]pms170!D356,[1]pms230!A356)","v":0}]
[{"$f":"IF(MOD(H712,2),[1]pms170!D902,[1]pms230!A902)","v":0}]
[{"$f":"IF(MOD(H713,2),[1]pms170!D357,[1]pms230!A357)","v":0}]
[{"$f":"IF(MOD(H714,2),[1]pms170!D903,[1]pms230!A903)","v":0}]
[{"$f":"IF(MOD(H715,2),[1]pms170!D358,[1]pms230!A358)","v":0}]
[{"$f":"IF(MOD(H716,2),[1]pms170!D904,[1]pms230!A904)","v":0}]
[{"$f":"IF(MOD(H717,2),[1]pms170!D359,[1]pms230!A359)","v":0}]
[{"$f":"IF(MOD(H718,2),[1]pms170!D905,[1]pms230!A905)","v":0}]
[{"$f":"IF(MOD(H719,2),[1]pms170!D360,[1]pms230!A360)","v":0}]
[{"$f":"IF(MOD(H720,2),[1]pms170!D906,[1]pms230!A906)","v":0}]
[{"$f":"IF(MOD(H721,2),[1]pms170!D361,[1]pms230!A361)","v":0}]
[{"$f":"IF(MOD(H722,2),[1]pms170!D907,[1]pms230!A907)","v":0}]
[{"$f":"IF(MOD(H723,2),[1]pms170!D362,[1]pms230!A362)","v":0}]
[{"$f":"IF(MOD(H724,2),[1]pms170!D908,[1]pms230!A908)","v":0}]
[{"$f":"IF(MOD(H725,2),[1]pms170!D363,[1]pms230!A363)","v":0}]
[{"$f":"IF(MOD(H726,2),[1]pms170!D909,[1]pms230!A909)","v":0}]
[{"$f":"IF(MOD(H727,2),[1]pms170!D364,[1]pms230!A364)","v":0}]
[{"$f":"IF(MOD(H728,2),[1]pms170!D910,[1]pms230!A910)","v":0}]
[{"$f":"IF(MOD(H729,2),[1]pms170!D365,[1]pms230!A365)","v":0}]
[{"$f":"IF(MOD(H730,2),[1]pms170!D911,[1]pms230!A911)","v":0}]
[{"$f":"IF(MOD(H731,2),[1]pms170!D366,[1]pms230!A366)","v":0}]
[{"$f":"IF(MOD(H732,2),[1]pms170!D912,[1]pms230!A912)","v":0}]
[{"$f":"IF(MOD(H733,2),[1]pms170!D367,[1]pms230!A367)","v":0}]
[{"$f":"IF(MOD(H734,2),[1]pms170!D913,[1]pms230!A913)","v":0}]
[{"$f":"IF(MOD(H735,2),[1]pms170!D368,[1]pms230!A368)","v":0}]
[{"$f":"IF(MOD(H736,2),[1]pms170!D914,[1]pms230!A914)","v":0}]
[{"$f":"IF(MOD(H737,2),[1]pms170!D369,[1]pms230!A369)","v":0}]
[{"$f":"IF(MOD(H738,2),[1]pms170!D915,[1]pms230!A915)","v":0}]
[{"$f":"IF(MOD(H739,2),[1]pms170!D370,[1]pms230!A370)","v":0}]
[{"$f":"IF(MOD(H740,2),[1]pms170!D916,[1]pms230!A916)","v":0}]
[{"$f":"IF(MOD(H741,2),[1]pms170!D371,[1]pms230!A371)","v":0}]
[{"$f":"IF(MOD(H742,2),[1]pms170!D917,[1]pms230!A917)","v":0}]
[{"$f":"IF(MOD(H743,2),[1]pms170!D372,[1]pms230!A372)","v":0}]
[{"$f":"IF(MOD(H744,2),[1]pms170!D918,[1]pms230!A918)","v":0}]
[{"$f":"IF(MOD(H745,2),[1]pms170!D373,[1]pms230!A373)","v":0}]
[{"$f":"IF(MOD(H746,2),[1]pms170!D919,[1]pms230!A919)","v":0}]
[{"$f":"IF(MOD(H747,2),[1]pms170!D374,[1]pms230!A374)","v":0}]
[{"$f":"IF(MOD(H748,2),[1]pms170!D920,[1]pms230!A920)","v":0}]
[{"$f":"IF(MOD(H749,2),[1]pms170!D375,[1]pms230!A375)","v":0}]
[{"$f":"IF(MOD(H750,2),[1]pms170!D921,[1]pms230!A921)","v":0}]
[{"$f":"IF(MOD(H751,2),[1]pms170!D376,[1]pms230!A376)","v":0}]
[{"$f":"IF(MOD(H752,2),[1]pms170!D922,[1]pms230!A922)","v":0}]
[{"$f":"IF(MOD(H753,2),[1]pms170!D377,[1]pms230!A377)","v":0}]
[{"$f":"IF(MOD(H754,2),[1]pms170!D923,[1]pms230!A923)","v":0}]
[{"$f":"IF(MOD(H755,2),[1]pms170!D378,[1]pms230!A378)","v":0}]
[{"$f":"IF(MOD(H756,2),[1]pms170!D924,[1]pms230!A924)","v":0}]
[{"$f":"IF(MOD(H757,2),[1]pms170!D379,[1]pms230!A379)","v":0}]
[{"$f":"IF(MOD(H758,2),[1]pms170!D925,[1]pms230!A925)","v":0}]
[{"$f":"IF(MOD(H759,2),[1]pms170!D380,[1]pms230!A380)","v":0}]
[{"$f":"IF(MOD(H760,2),[1]pms170!D926,[1]pms230!A926)","v":0}]
[{"$f":"IF(MOD(H761,2),[1]pms170!D381,[1]pms230!A381)","v":0}]
[{"$f":"IF(MOD(H762,2),[1]pms170!D927,[1]pms230!A927)","v":0}]
[{"$f":"IF(MOD(H763,2),[1]pms170!D382,[1]pms230!A382)","v":0}]
[{"$f":"IF(MOD(H764,2),[1]pms170!D928,[1]pms230!A928)","v":0}]
[{"$f":"IF(MOD(H765,2),[1]pms170!D383,[1]pms230!A383)","v":0}]
[{"$f":"IF(MOD(H766,2),[1]pms170!D929,[1]pms230!A929)","v":0}]
[{"$f":"IF(MOD(H767,2),[1]pms170!D384,[1]pms230!A384)","v":0}]
[{"$f":"IF(MOD(H768,2),[1]pms170!D930,[1]pms230!A930)","v":0}]
[{"$f":"IF(MOD(H769,2),[1]pms170!D385,[1]pms230!A385)","v":0}]
[{"$f":"IF(MOD(H770,2),[1]pms170!D931,[1]pms230!A931)","v":0}]
[{"$f":"IF(MOD(H771,2),[1]pms170!D386,[1]pms230!A386)","v":0}]
[{"$f":"IF(MOD(H772,2),[1]pms170!D932,[1]pms230!A932)","v":0}]
[{"$f":"IF(MOD(H773,2),[1]pms170!D387,[1]pms230!A387)","v":0}]
[{"$f":"IF(MOD(H774,2),[1]pms170!D933,[1]pms230!A933)","v":0}]
[{"$f":"IF(MOD(H775,2),[1]pms170!D388,[1]pms230!A388)","v":0}]
[{"$f":"IF(MOD(H776,2),[1]pms170!D934,[1]pms230!A934)","v":0}]
[{"$f":"IF(MOD(H777,2),[1]pms170!D389,[1]pms230!A389)","v":0}]
[{"$f":"IF(MOD(H778,2),[1]pms170!D935,[1]pms230!A935)","v":0}]
[{"$f":"IF(MOD(H779,2),[1]pms170!D390,[1]pms230!A390)","v":0}]
[{"$f":"IF(MOD(H780,2),[1]pms170!D936,[1]pms230!A936)","v":0}]
[{"$f":"IF(MOD(H781,2),[1]pms170!D391,[1]pms230!A391)","v":0}]
[{"$f":"IF(MOD(H782,2),[1]pms170!D937,[1]pms230!A937)","v":0}]
[{"$f":"IF(MOD(H783,2),[1]pms170!D392,[1]pms230!A392)","v":0}]
[{"$f":"IF(MOD(H784,2),[1]pms170!D938,[1]pms230!A938)","v":0}]
[{"$f":"IF(MOD(H785,2),[1]pms170!D393,[1]pms230!A393)","v":0}]
[{"$f":"IF(MOD(H786,2),[1]pms170!D939,[1]pms230!A939)","v":0}]
[{"$f":"IF(MOD(H787,2),[1]pms170!D394,[1]pms230!A394)","v":0}]
[{"$f":"IF(MOD(H788,2),[1]pms170!D940,[1]pms230!A940)","v":0}]
[{"$f":"IF(MOD(H789,2),[1]pms170!D395,[1]pms230!A395)","v":0}]
[{"$f":"IF(MOD(H790,2),[1]pms170!D941,[1]pms230!A941)","v":0}]
[{"$f":"IF(MOD(H791,2),[1]pms170!D396,[1]pms230!A396)","v":0}]
[{"$f":"IF(MOD(H792,2),[1]pms170!D942,[1]pms230!A942)","v":0}]
[{"$f":"IF(MOD(H793,2),[1]pms170!D397,[1]pms230!A397)","v":0}]
[{"$f":"IF(MOD(H794,2),[1]pms170!D943,[1]pms230!A943)","v":0}]
[{"$f":"IF(MOD(H795,2),[1]pms170!D398,[1]pms230!A398)","v":0}]
[{"$f":"IF(MOD(H796,2),[1]pms170!D944,[1]pms230!A944)","v":0}]
[{"$f":"IF(MOD(H797,2),[1]pms170!D399,[1]pms230!A399)","v":0}]
[{"$f":"IF(MOD(H798,2),[1]pms170!D945,[1]pms230!A945)","v":0}]
[{"$f":"IF(MOD(H799,2),[1]pms170!D400,[1]pms230!A400)","v":0}]
[{"$f":"IF(MOD(H800,2),[1]pms170!D946,[1]pms230!A946)","v":0}]
[{"$f":"IF(MOD(H801,2),[1]pms170!D401,[1]pms230!A401)","v":0}]
[{"$f":"IF(MOD(H802,2),[1]pms170!D947,[1]pms230!A947)","v":0}]
[{"$f":"IF(MOD(H803,2),[1]pms170!D402,[1]pms230!A402)","v":0}]
[{"$f":"IF(MOD(H804,2),[1]pms170!D948,[1]pms230!A948)","v":0}]
[{"$f":"IF(MOD(H805,2),[1]pms170!D403,[1]pms230!A403)","v":0}]
[{"$f":"IF(MOD(H806,2),[1]pms170!D949,[1]pms230!A949)","v":0}]
[{"$f":"IF(MOD(H807,2),[1]pms170!D404,[1]pms230!A404)","v":0}]
[{"$f":"IF(MOD(H808,2),[1]pms170!D950,[1]pms230!A950)","v":0}]
[{"$f":"IF(MOD(H809,2),[1]pms170!D405,[1]pms230!A405)","v":0}]
[{"$f":"IF(MOD(H810,2),[1]pms170!D951,[1]pms230!A951)","v":0}]
[{"$f":"IF(MOD(H811,2),[1]pms170!D406,[1]pms230!A406)","v":0}]
[{"$f":"IF(MOD(H812,2),[1]pms170!D952,[1]pms230!A952)","v":0}]
[{"$f":"IF(MOD(H813,2),[1]pms170!D407,[1]pms230!A407)","v":0}]
[{"$f":"IF(MOD(H814,2),[1]pms170!D953,[1]pms230!A953)","v":0}]
[{"$f":"IF(MOD(H815,2),[1]pms170!D408,[1]pms230!A408)","v":0}]
[{"$f":"IF(MOD(H816,2),[1]pms170!D954,[1]pms230!A954)","v":0}]
[{"$f":"IF(MOD(H817,2),[1]pms170!D409,[1]pms230!A409)","v":0}]
[{"$f":"IF(MOD(H818,2),[1]pms170!D955,[1]pms230!A955)","v":0}]
[{"$f":"IF(MOD(H819,2),[1]pms170!D410,[1]pms230!A410)","v":0}]
[{"$f":"IF(MOD(H820,2),[1]pms170!D956,[1]pms230!A956)","v":0}]
[{"$f":"IF(MOD(H821,2),[1]pms170!D411,[1]pms230!A411)","v":0}]
[{"$f":"IF(MOD(H822,2),[1]pms170!D957,[1]pms230!A957)","v":0}]
[{"$f":"IF(MOD(H823,2),[1]pms170!D412,[1]pms230!A412)","v":0}]
[{"$f":"IF(MOD(H824,2),[1]pms170!D958,[1]pms230!A958)","v":0}]
[{"$f":"IF(MOD(H825,2),[1]pms170!D413,[1]pms230!A413)","v":0}]
[{"$f":"IF(MOD(H826,2),[1]pms170!D959,[1]pms230!A959)","v":0}]
[{"$f":"IF(MOD(H827,2),[1]pms170!D414,[1]pms230!A414)","v":0}]
[{"$f":"IF(MOD(H828,2),[1]pms170!D960,[1]pms230!A960)","v":0}]
[{"$f":"IF(MOD(H829,2),[1]pms170!D415,[1]pms230!A415)","v":0}]
[{"$f":"IF(MOD(H830,2),[1]pms170!D961,[1]pms230!A961)","v":0}]
[{"$f":"IF(MOD(H831,2),[1]pms170!D416,[1]pms230!A416)","v":0}]
[{"$f":"IF(MOD(H832,2),[1]pms170!D962,[1]pms230!A962)","v":0}]
[{"$f":"IF(MOD(H833,2),[1]pms170!D417,[1]pms230!A417)","v":0}]
[{"$f":"IF(MOD(H834,2),[1]pms170!D963,[1]pms230!A963)","v":0}]
[{"$f":"IF(MOD(H835,2),[1]pms170!D418,[1]pms230!A418)","v":0}]
[{"$f":"IF(MOD(H836,2),[1]pms170!D964,[1]pms230!A964)","v":0}]
[{"$f":"IF(MOD(H837,2),[1]pms170!D419,[1]pms230!A419)","v":0}]
[{"$f":"IF(MOD(H838,2),[1]pms170!D965,[1]pms230!A965)","v":0}]
[{"$f":"IF(MOD(H839,2),[1]pms170!D420,[1]pms230!A420)","v":0}]
[{"$f":"IF(MOD(H840,2),[1]pms170!D966,[1]pms230!A966)","v":0}]
[{"$f":"IF(MOD(H841,2),[1]pms170!D421,[1]pms230!A421)","v":0}]
[{"$f":"IF(MOD(H842,2),[1]pms170!D967,[1]pms230!A967)","v":0}]
[{"$f":"IF(MOD(H843,2),[1]pms170!D422,[1]pms230!A422)","v":0}]
[{"$f":"IF(MOD(H844,2),[1]pms170!D968,[1]pms230!A968)","v":0}]
[{"$f":"IF(MOD(H845,2),[1]pms170!D423,[1]pms230!A423)","v":0}]
[{"$f":"IF(MOD(H846,2),[1]pms170!D969,[1]pms230!A969)","v":0}]
[{"$f":"IF(MOD(H847,2),[1]pms170!D424,[1]pms230!A424)","v":0}]
[{"$f":"IF(MOD(H848,2),[1]pms170!D970,[1]pms230!A970)","v":0}]
[{"$f":"IF(MOD(H849,2),[1]pms170!D425,[1]pms230!A425)","v":0}]
[{"$f":"IF(MOD(H850,2),[1]pms170!D971,[1]pms230!A971)","v":0}]
[{"$f":"IF(MOD(H851,2),[1]pms170!D426,[1]pms230!A426)","v":0}]
[{"$f":"IF(MOD(H852,2),[1]pms170!D972,[1]pms230!A972)","v":0}]
[{"$f":"IF(MOD(H853,2),[1]pms170!D427,[1]pms230!A427)","v":0}]
[{"$f":"IF(MOD(H854,2),[1]pms170!D973,[1]pms230!A973)","v":0}]
[{"$f":"IF(MOD(H855,2),[1]pms170!D428,[1]pms230!A428)","v":0}]
[{"$f":"IF(MOD(H856,2),[1]pms170!D974,[1]pms230!A974)","v":0}]
[{"$f":"IF(MOD(H857,2),[1]pms170!D429,[1]pms230!A429)","v":0}]
[{"$f":"IF(MOD(H858,2),[1]pms170!D975,[1]pms230!A975)","v":0}]
[{"$f":"IF(MOD(H859,2),[1]pms170!D430,[1]pms230!A430)","v":0}]
[{"$f":"IF(MOD(H860,2),[1]pms170!D976,[1]pms230!A976)","v":0}]
[{"$f":"IF(MOD(H861,2),[1]pms170!D431,[1]pms230!A431)","v":0}]
[{"$f":"IF(MOD(H862,2),[1]pms170!D977,[1]pms230!A977)","v":0}]
[{"$f":"IF(MOD(H863,2),[1]pms170!D432,[1]pms230!A432)","v":0}]
[{"$f":"IF(MOD(H864,2),[1]pms170!D433,[1]pms230!A433)","v":0}]
[{"$f":"IF(MOD(H865,2),[1]pms170!D434,[1]pms230!A434)","v":0}]
[{"$f":"IF(MOD(H866,2),[1]pms170!D435,[1]pms230!A435)","v":0}]
[{"$f":"IF(MOD(H867,2),[1]pms170!D436,[1]pms230!A436)","v":0}]
[{"$f":"IF(MOD(H868,2),[1]pms170!D437,[1]pms230!A437)","v":0}]
[{"$f":"IF(MOD(H869,2),[1]pms170!D438,[1]pms230!A438)","v":0}]
[{"$f":"IF(MOD(H870,2),[1]pms170!D439,[1]pms230!A439)","v":0}]
[{"$f":"IF(MOD(H871,2),[1]pms170!D440,[1]pms230!A440)","v":0}]
[{"$f":"IF(MOD(H872,2),[1]pms170!D441,[1]pms230!A441)","v":0}]
[{"$f":"IF(MOD(H873,2),[1]pms170!D442,[1]pms230!A442)","v":0}]
[{"$f":"IF(MOD(H874,2),[1]pms170!D443,[1]pms230!A443)","v":0}]
[{"$f":"IF(MOD(H875,2),[1]pms170!D444,[1]pms230!A444)","v":0}]
[{"$f":"IF(MOD(H876,2),[1]pms170!D445,[1]pms230!A445)","v":0}]
[{"$f":"IF(MOD(H877,2),[1]pms170!D446,[1]pms230!A446)","v":0}]
[{"$f":"IF(MOD(H878,2),[1]pms170!D447,[1]pms230!A447)","v":0}]
[{"$f":"IF(MOD(H879,2),[1]pms170!D448,[1]pms230!A448)","v":0}]
[{"$f":"IF(MOD(H880,2),[1]pms170!D449,[1]pms230!A449)","v":0}]
[{"$f":"IF(MOD(H881,2),[1]pms170!D450,[1]pms230!A450)","v":0}]
[{"$f":"IF(MOD(H882,2),[1]pms170!D451,[1]pms230!A451)","v":0}]
[{"$f":"IF(MOD(H883,2),[1]pms170!D452,[1]pms230!A452)","v":0}]
[{"$f":"IF(MOD(H884,2),[1]pms170!D453,[1]pms230!A453)","v":0}]
[{"$f":"IF(MOD(H885,2),[1]pms170!D454,[1]pms230!A454)","v":0}]
[{"$f":"IF(MOD(H886,2),[1]pms170!D455,[1]pms230!A455)","v":0}]
[{"$f":"IF(MOD(H887,2),[1]pms170!D456,[1]pms230!A456)","v":0}]
[{"$f":"IF(MOD(H888,2),[1]pms170!D457,[1]pms230!A457)","v":0}]
[{"$f":"IF(MOD(H889,2),[1]pms170!D458,[1]pms230!A458)","v":0}]
[{"$f":"IF(MOD(H890,2),[1]pms170!D459,[1]pms230!A459)","v":0}]
[{"$f":"IF(MOD(H891,2),[1]pms170!D460,[1]pms230!A460)","v":0}]
[{"$f":"IF(MOD(H892,2),[1]pms170!D461,[1]pms230!A461)","v":0}]
[{"$f":"IF(MOD(H893,2),[1]pms170!D462,[1]pms230!A462)","v":0}]
[{"$f":"IF(MOD(H894,2),[1]pms170!D463,[1]pms230!A463)","v":0}]
[{"$f":"IF(MOD(H895,2),[1]pms170!D464,[1]pms230!A464)","v":0}]
[{"$f":"IF(MOD(H896,2),[1]pms170!D465,[1]pms230!A465)","v":0}]
[{"$f":"IF(MOD(H897,2),[1]pms170!D466,[1]pms230!A466)","v":0}]
[{"$f":"IF(MOD(H898,2),[1]pms170!D467,[1]pms230!A467)","v":0}]
[{"$f":"IF(MOD(H899,2),[1]pms170!D468,[1]pms230!A468)","v":0}]
[{"$f":"IF(MOD(H900,2),[1]pms170!D469,[1]pms230!A469)","v":0}]
[{"$f":"IF(MOD(H901,2),[1]pms170!D470,[1]pms230!A470)","v":0}]
[{"$f":"IF(MOD(H902,2),[1]pms170!D471,[1]pms230!A471)","v":0}]
[{"$f":"IF(MOD(H903,2),[1]pms170!D472,[1]pms230!A472)","v":0}]
[{"$f":"IF(MOD(H904,2),[1]pms170!D473,[1]pms230!A473)","v":0}]
[{"$f":"IF(MOD(H905,2),[1]pms170!D474,[1]pms230!A474)","v":0}]
[{"$f":"IF(MOD(H906,2),[1]pms170!D475,[1]pms230!A475)","v":0}]
[{"$f":"IF(MOD(H907,2),[1]pms170!D476,[1]pms230!A476)","v":0}]
[{"$f":"IF(MOD(H908,2),[1]pms170!D477,[1]pms230!A477)","v":0}]
[{"$f":"IF(MOD(H909,2),[1]pms170!D478,[1]pms230!A478)","v":0}]
[{"$f":"IF(MOD(H910,2),[1]pms170!D479,[1]pms230!A479)","v":0}]
[{"$f":"IF(MOD(H911,2),[1]pms170!D480,[1]pms230!A480)","v":0}]
[{"$f":"IF(MOD(H912,2),[1]pms170!D481,[1]pms230!A481)","v":0}]
[{"$f":"IF(MOD(H913,2),[1]pms170!D482,[1]pms230!A482)","v":0}]
[{"$f":"IF(MOD(H914,2),[1]pms170!D483,[1]pms230!A483)","v":0}]
[{"$f":"IF(MOD(H915,2),[1]pms170!D484,[1]pms230!A484)","v":0}]
[{"$f":"IF(MOD(H916,2),[1]pms170!D485,[1]pms230!A485)","v":0}]
[{"$f":"IF(MOD(H917,2),[1]pms170!D486,[1]pms230!A486)","v":0}]
[{"$f":"IF(MOD(H918,2),[1]pms170!D487,[1]pms230!A487)","v":0}]
[{"$f":"IF(MOD(H919,2),[1]pms170!D488,[1]pms230!A488)","v":0}]
[{"$f":"IF(MOD(H920,2),[1]pms170!D489,[1]pms230!A489)","v":0}]
[{"$f":"IF(MOD(H921,2),[1]pms170!D490,[1]pms230!A490)","v":0}]
[{"$f":"IF(MOD(H922,2),[1]pms170!D491,[1]pms230!A491)","v":0}]
[{"$f":"IF(MOD(H923,2),[1]pms170!D492,[1]pms230!A492)","v":0}]
[{"$f":"IF(MOD(H924,2),[1]pms170!D493,[1]pms230!A493)","v":0}]
[{"$f":"IF(MOD(H925,2),[1]pms170!D494,[1]pms230!A494)","v":0}]
[{"$f":"IF(MOD(H926,2),[1]pms170!D495,[1]pms230!A495)","v":0}]
[{"$f":"IF(MOD(H927,2),[1]pms170!D496,[1]pms230!A496)","v":0}]
[{"$f":"IF(MOD(H928,2),[1]pms170!D497,[1]pms230!A497)","v":0}]
[{"$f":"IF(MOD(H929,2),[1]pms170!D498,[1]pms230!A498)","v":0}]
[{"$f":"IF(MOD(H930,2),[1]pms170!D499,[1]pms230!A499)","v":0}]
[{"$f":"IF(MOD(H931,2),[1]pms170!D500,[1]pms230!A500)","v":0}]
[{"$f":"IF(MOD(H932,2),[1]pms170!D501,[1]pms230!A501)","v":0}]
[{"$f":"IF(MOD(H933,2),[1]pms170!D502,[1]pms230!A502)","v":0}]
[{"$f":"IF(MOD(H934,2),[1]pms170!D503,[1]pms230!A503)","v":0}]
[{"$f":"IF(MOD(H935,2),[1]pms170!D504,[1]pms230!A504)","v":0}]
[{"$f":"IF(MOD(H936,2),[1]pms170!D505,[1]pms230!A505)","v":0}]
[{"$f":"IF(MOD(H937,2),[1]pms170!D506,[1]pms230!A506)","v":0}]
[{"$f":"IF(MOD(H938,2),[1]pms170!D507,[1]pms230!A507)","v":0}]
[{"$f":"IF(MOD(H939,2),[1]pms170!D508,[1]pms230!A508)","v":0}]
[{"$f":"IF(MOD(H940,2),[1]pms170!D509,[1]pms230!A509)","v":0}]
[{"$f":"IF(MOD(H941,2),[1]pms170!D510,[1]pms230!A510)","v":0}]
[{"$f":"IF(MOD(H942,2),[1]pms170!D511,[1]pms230!A511)","v":0}]
[{"$f":"IF(MOD(H943,2),[1]pms170!D512,[1]pms230!A512)","v":0}]
[{"$f":"IF(MOD(H944,2),[1]pms170!D513,[1]pms230!A513)","v":0}]
[{"$f":"IF(MOD(H945,2),[1]pms170!D514,[1]pms230!A514)","v":0}]
[{"$f":"IF(MOD(H946,2),[1]pms170!D515,[1]pms230!A515)","v":0}]
[{"$f":"IF(MOD(H947,2),[1]pms170!D516,[1]pms230!A516)","v":0}]
[{"$f":"IF(MOD(H948,2),[1]pms170!D517,[1]pms230!A517)","v":0}]
[{"$f":"IF(MOD(H949,2),[1]pms170!D518,[1]pms230!A518)","v":0}]
[{"$f":"IF(MOD(H950,2),[1]pms170!D519,[1]pms230!A519)","v":0}]
[{"$f":"IF(MOD(H951,2),[1]pms170!D520,[1]pms230!A520)","v":0}]
[{"$f":"IF(MOD(H952,2),[1]pms170!D521,[1]pms230!A521)","v":0}]
[{"$f":"IF(MOD(H953,2),[1]pms170!D522,[1]pms230!A522)","v":0}]
[{"$f":"IF(MOD(H954,2),[1]pms170!D523,[1]pms230!A523)","v":0}]
[{"$f":"IF(MOD(H955,2),[1]pms170!D524,[1]pms230!A524)","v":0}]
[{"$f":"IF(MOD(H956,2),[1]pms170!D525,[1]pms230!A525)","v":0}]
[{"$f":"IF(MOD(H957,2),[1]pms170!D526,[1]pms230!A526)","v":0}]
[{"$f":"IF(MOD(H958,2),[1]pms170!D527,[1]pms230!A527)","v":0}]
[{"$f":"IF(MOD(H959,2),[1]pms170!D528,[1]pms230!A528)","v":0}]
[{"$f":"IF(MOD(H960,2),[1]pms170!D529,[1]pms230!A529)","v":0}]
[{"$f":"IF(MOD(H961,2),[1]pms170!D530,[1]pms230!A530)","v":0}]
[{"$f":"IF(MOD(H962,2),[1]pms170!D531,[1]pms230!A531)","v":0}]
[{"$f":"IF(MOD(H963,2),[1]pms170!D532,[1]pms230!A532)","v":0}]
[{"$f":"IF(MOD(H964,2),[1]pms170!D533,[1]pms230!A533)","v":0}]
[{"$f":"IF(MOD(H965,2),[1]pms170!D534,[1]pms230!A534)","v":0}]
[{"$f":"IF(MOD(H966,2),[1]pms170!D535,[1]pms230!A535)","v":0}]
[{"$f":"IF(MOD(H967,2),[1]pms170!D536,[1]pms230!A536)","v":0}]
[{"$f":"IF(MOD(H968,2),[1]pms170!D537,[1]pms230!A537)","v":0}]
[{"$f":"IF(MOD(H969,2),[1]pms170!D538,[1]pms230!A538)","v":0}]
[{"$f":"IF(MOD(H970,2),[1]pms170!D539,[1]pms230!A539)","v":0}]
[{"$f":"IF(MOD(H971,2),[1]pms170!D540,[1]pms230!A540)","v":0}]
[{"$f":"IF(MOD(H972,2),[1]pms170!D541,[1]pms230!A541)","v":0}]
[{"$f":"IF(MOD(H973,2),[1]pms170!D542,[1]pms230!A542)","v":0}]
[{"$f":"IF(MOD(H974,2),[1]pms170!D543,[1]pms230!A543)","v":0}]
[{"$f":"IF(MOD(H975,2),[1]pms170!D544,[1]pms230!A544)","v":0}]
[{"$f":"IF(MOD(H976,2),[1]pms170!D545,[1]pms230!A545)","v":0}]
[{"$f":"IF(MOD(H977,2),[1]pms170!D546,[1]pms230!A546)","v":0}]