{"text_format":"1","workbook":"xlsx","n_sheets":5,"sheets":["SEARCH","109","121","138",">178"],"not_rendered":{"charts":0,"images":1,"macros":1,"external_links":1,"defined_names":10,"comments":0,"pivot_tables":0},"unopened":[],"bounds":{"document_bytes":16777216,"sheet_cells":100000,"rows_first":2000,"rows_last":500,"rows_between":2000,"halvings":0,"cell_chars":16384,"cell_head_chars":4096},"cells_cut":0,"cells_raw":0,"read":"whole","date_system":"1900"}

{"sheet":"SEARCH","index":0,"n_rows":5,"n_cols":14,"rows_kept":5,"cut":false,"hidden":false,"merged":[[3,4,3,13],[1,0,1,1],[3,0,4,0],[3,1,4,1],[3,2,4,2],[3,3,4,3]]}
[]
["MOT CLEF (* pour toutes):"]
[]
["SHOW","SCENE","PANEL","ANIM","PERSONNAGES"]
[null,null,null,null,"CH_HEL","CH_CLA","CH_PET","CH_PXB","CH_ZAB","CH_LEN","CH_SIR","CH_APR","CH_MAR","CH_GUE"]

{"sheet":"109","index":1,"n_rows":37,"n_cols":14,"rows_kept":37,"cut":false,"hidden":false,"merged":[[0,1,1,1],[0,2,1,2],[0,3,1,3],[0,4,0,13]]}
["SHOW","SCENE","PANEL","ANIM","PERSONNAGES"]
[109,null,null,null,"CH_HEL","CH_CLA","CH_PET","CH_PXB","CH_ZAB","CH_LEN","CH_SIR","CH_APR","CH_MAR","CH_GUE"]
[{"$f":"'109'!$A$2","v":109},"1","1-6","DANSE",null,null,null,null,1,null,1]
[{"$f":"'109'!$A$2","v":109},"5","2-5","SAUT",null,null,null,null,1]
[{"$f":"'109'!$A$2","v":109},"10",3,"BALANCOIRE",null,null,null,null,null,null,null,1]
[{"$f":"'109'!$A$2","v":109},"12",1,"COURSE",null,1,null,1,null,1,null,null,1]
[{"$f":"'109'!$A$2","v":109},"21",null,"DANSE",null," ",null,null,null,null,1,1]
[{"$f":"'109'!$A$2","v":109},"23",null,"MARCHE",1,null,null,1]
[{"$f":"'109'!$A$2","v":109},"45",null,"CALIN",1,null,null,null,null,null,null,null,1]
[{"$f":"'109'!$A$2","v":109}]
[{"$f":"'109'!$A$2","v":109}]
[{"$f":"'109'!$A$2","v":109}]
[{"$f":"'109'!$A$2","v":109}]
[{"$f":"'109'!$A$2","v":109}]
[{"$f":"'109'!$A$2","v":109}]
[{"$f":"'109'!$A$2","v":109}]
[{"$f":"'109'!$A$2","v":109}]
[{"$f":"'109'!$A$2","v":109}]
[{"$f":"'109'!$A$2","v":109}]
[{"$f":"'109'!$A$2","v":109}]
[{"$f":"'109'!$A$2","v":109}]
[{"$f":"'109'!$A$2","v":109}]
[{"$f":"'109'!$A$2","v":109}]
[{"$f":"'109'!$A$2","v":109}]
[{"$f":"'109'!$A$2","v":109}]
[{"$f":"'109'!$A$2","v":109}]
[{"$f":"'109'!$A$2","v":109}]
[{"$f":"'109'!$A$2","v":109}]
[{"$f":"'109'!$A$2","v":109}]
[{"$f":"'109'!$A$2","v":109}]
[{"$f":"'109'!$A$2","v":109}]
[{"$f":"'109'!$A$2","v":109}]
[{"$f":"'109'!$A$2","v":109}]
[{"$f":"'109'!$A$2","v":109}]
[{"$f":"'109'!$A$2","v":109}]
[{"$f":"'109'!$A$2","v":109}]
[{"$f":"'109'!$A$2","v":109}]

{"sheet":"121","index":2,"n_rows":37,"n_cols":14,"rows_kept":37,"cut":false,"hidden":false,"merged":[[0,1,1,1],[0,2,1,2],[0,3,1,3],[0,4,0,13]]}
["SHOW","SCENE","PANEL","ANIM","PERSONNAGES"]
[121,null,null,null,"CH_HEL","CH_CLA","CH_PET","CH_PXB","CH_ZAB","CH_LEN","CH_SIR","CH_APR","CH_MAR","CH_GUE"]
[{"$f":"'121'!$A$2","v":121},"1",null,"MARCHE",null,null,null,null,1,null,1,1]
[{"$f":"'121'!$A$2","v":121},"5",null,"TOMBE",null,null,1]
[{"$f":"'121'!$A$2","v":121},"10",null,"TOURNIQUET",null,null,1,null,null,1,null,1,1]
[{"$f":"'121'!$A$2","v":121},"12",null,"GLISSE",1]
[{"$f":"'121'!$A$2","v":121},"21",null,"DANSE",null,null,null,null,1]
[{"$f":"'121'!$A$2","v":121},"23",null,"CHANTE",null,1,null,null,null,null,1]
[{"$f":"'121'!$A$2","v":121},"45",null,"JOUE INSTRUMENT",null,null,1,1,null,1,null,1,1]
[{"$f":"'121'!$A$2","v":121}]
[{"$f":"'121'!$A$2","v":121}]
[{"$f":"'121'!$A$2","v":121}]
[{"$f":"'121'!$A$2","v":121}]
[{"$f":"'121'!$A$2","v":121}]
[{"$f":"'121'!$A$2","v":121}]
[{"$f":"'121'!$A$2","v":121}]
[{"$f":"'121'!$A$2","v":121}]
[{"$f":"'121'!$A$2","v":121}]
[{"$f":"'121'!$A$2","v":121}]
[{"$f":"'121'!$A$2","v":121}]
[{"$f":"'121'!$A$2","v":121}]
[{"$f":"'121'!$A$2","v":121}]
[{"$f":"'121'!$A$2","v":121}]
[{"$f":"'121'!$A$2","v":121}]
[{"$f":"'121'!$A$2","v":121}]
[{"$f":"'121'!$A$2","v":121}]
[{"$f":"'121'!$A$2","v":121}]
[{"$f":"'121'!$A$2","v":121}]
[{"$f":"'121'!$A$2","v":121}]
[{"$f":"'121'!$A$2","v":121}]
[{"$f":"'121'!$A$2","v":121}]
[{"$f":"'121'!$A$2","v":121}]
[{"$f":"'121'!$A$2","v":121}]
[{"$f":"'121'!$A$2","v":121}]
[{"$f":"'121'!$A$2","v":121}]
[{"$f":"'121'!$A$2","v":121}]
[{"$f":"'121'!$A$2","v":121}]

{"sheet":"138","index":3,"n_rows":37,"n_cols":14,"rows_kept":37,"cut":false,"hidden":false,"merged":[[0,1,1,1],[0,2,1,2],[0,3,1,3],[0,4,0,13]]}
["SHOW","SCENE","PANEL","ANIM","PERSONNAGES"]
[138,null,null,null,"CH_HEL","CH_CLA","CH_PET","CH_PXB","CH_ZAB","CH_LEN","CH_SIR","CH_APR","CH_MAR","CH_GUE"]
[{"$f":"'138'!$A$2","v":138},"1",null,"MARCHE",null,null,null,null,1,null,1,1]
[{"$f":"'138'!$A$2","v":138},"5",null,"TOMBE",null,null,1]
[{"$f":"'138'!$A$2","v":138},"10",null,"CALIN",null,null,1,null,null,1,null,1,1]
[{"$f":"'138'!$A$2","v":138},"12",null,"GLISSE",1]
[{"$f":"'138'!$A$2","v":138},"21",null,"JOUE",null,null,null,null,1]
[{"$f":"'138'!$A$2","v":138},"23",null,"JOUE",null,1,null,null,null,null,1]
[{"$f":"'138'!$A$2","v":138},"45",null,"CALIN",null,null,1,1,null,1,null,1,1]
[{"$f":"'138'!$A$2","v":138}]
[{"$f":"'138'!$A$2","v":138}]
[{"$f":"'138'!$A$2","v":138}]
[{"$f":"'138'!$A$2","v":138}]
[{"$f":"'138'!$A$2","v":138}]
[{"$f":"'138'!$A$2","v":138}]
[{"$f":"'138'!$A$2","v":138},"48",null,"GLISSE"]
[{"$f":"'138'!$A$2","v":138},"50",null,"CALIN"]
[{"$f":"'138'!$A$2","v":138}]
[{"$f":"'138'!$A$2","v":138}]
[{"$f":"'138'!$A$2","v":138}]
[{"$f":"'138'!$A$2","v":138}]
[{"$f":"'138'!$A$2","v":138}]
[{"$f":"'138'!$A$2","v":138}]
[{"$f":"'[1]121'!$A$2","v":121}]
[{"$f":"'[1]121'!$A$2","v":121}]
[{"$f":"'[1]121'!$A$2","v":121}]
[{"$f":"'[1]121'!$A$2","v":121}]
[{"$f":"'[1]121'!$A$2","v":121}]
[{"$f":"'[1]121'!$A$2","v":121}]
[{"$f":"'[1]121'!$A$2","v":121}]
[{"$f":"'[1]121'!$A$2","v":121}]
[{"$f":"'[1]121'!$A$2","v":121}]
[{"$f":"'[1]121'!$A$2","v":121}]
[{"$f":"'[1]121'!$A$2","v":121}]
[{"$f":"'[1]121'!$A$2","v":121}]
[{"$f":"'[1]121'!$A$2","v":121}]
[{"$f":"'[1]121'!$A$2","v":121}]

{"sheet":">178","index":4,"n_rows":37,"n_cols":17,"rows_kept":37,"cut":false,"hidden":false,"merged":[[0,1,1,1],[0,2,1,2],[0,3,1,3],[0,4,0,13]]}
["SHOW","SCENE","PANEL","ANIM","PERSONNAGES"]
[178,null,null,null,"CH_HEL","CH_CLA","CH_PET","CH_PXB","CH_ZAB","CH_LEN","CH_SIR","CH_APR","CH_MAR","CH_GUE"]
[{"$f":"'>178'!$A$2","v":178},"1",null,"MARCHE",null,null,null,null,1,null,1,1]
[{"$f":"'>178'!$A$2","v":178},"5",null,"TOMBE",null,null,1,null,null,null,null,null,null,null,null,null,"UHUH"]
[{"$f":"'>178'!$A$2","v":178},"10",null,"CALIN",null,null,1,null,null,1,null,1,1]
[{"$f":"'>178'!$A$2","v":178},"12",null,"GLISSE",1]
[{"$f":"'>178'!$A$2","v":178},"21",null,"JOUE",null,null,null,null,1]
[{"$f":"'>178'!$A$2","v":178},"23",null,"JOUE",null,1,null,null,null,null,1,null,null,null,null,"AHAHA"]
[{"$f":"'>178'!$A$2","v":178},"45",null,"CALIN",null,null,1,1,null,1,null,1,1]
[{"$f":"'>178'!$A$2","v":178}]
[{"$f":"'>178'!$A$2","v":178}]
[{"$f":"'>178'!$A$2","v":178}]
[{"$f":"'>178'!$A$2","v":178}]
[{"$f":"'>178'!$A$2","v":178}]
[{"$f":"'>178'!$A$2","v":178}]
[]
[]
[{"$f":"'>178'!$A$2","v":178}]
[{"$f":"'>178'!$A$2","v":178},"48",null,"CHANTE",null,null,null,null,null,null,null,null,null,null,"OHOH"]
[{"$f":"'>178'!$A$2","v":178},"50",null,"CALIN"]
[{"$f":"'>178'!$A$2","v":178}]
[{"$f":"'>178'!$A$2","v":178}]
[{"$f":"'>178'!$A$2","v":178}]
[{"$f":"'[1]121'!$A$2","v":121}]
[{"$f":"'[1]121'!$A$2","v":121}]
[{"$f":"'[1]121'!$A$2","v":121}]
[{"$f":"'[1]121'!$A$2","v":121}]
[{"$f":"'[1]121'!$A$2","v":121}]
[{"$f":"'[1]121'!$A$2","v":121}]
[{"$f":"'[1]121'!$A$2","v":121}]
[{"$f":"'[1]121'!$A$2","v":121}]
[{"$f":"'[1]121'!$A$2","v":121}]
[{"$f":"'[1]121'!$A$2","v":121}]
[{"$f":"'[1]121'!$A$2","v":121}]
[{"$f":"'[1]121'!$A$2","v":121}]
[{"$f":"'[1]121'!$A$2","v":121}]
[{"$f":"'[1]121'!$A$2","v":121}]